BOTTLE,20220204CCHSIOENA
EXPOCODE,SECT_ID,STNNBR,CASTNO,BIONBR,SAMPNO,BTLNBR,BTLNBR_FLAG_W,DATE,TIME,LATITUDE,LONGITUDE,DEPTH,CTDPRS,CTDTMP,CTDSAL,CTDSAL_FLAG_W,SALNTY,SALNTY_FLAG_W,OXYGEN,OXYGEN_FLAG_W,SILCAT,SILCAT_FLAG_W,NITRAT,NITRAT_FLAG_W,NITRIT,NITRIT_FLAG_W,PHSPHT,PHSPHT_FLAG_W,CFC-11,CFC-11_FLAG_W,CFC-12,CFC-12_FLAG_W,TCARBN,TCARBN_FLAG_W,THETA
,,,,,,,,,,,,METERS,DBAR,ITS-90,PSS-78,,PSS-78,,UMOL/KG,,UMOL/KG,,UMOL/KG,,UMOL/KG,,UMOL/KG,,PMOL/KG,,PMOL/KG,,UMOL/KG,,DEG C
06MT19970815,      AR07E,     521,          1,     -999.0,         18,         18,2,19970828,       0000,    58.9667,   -32.1483,       1609,    11.9,  11.3170,  34.9170,-999,-999.0000,9,  -999.0,9, -999.00,9, -999.00,9, -999.00,9, -999.00,9,-999.000,9,-999.000,9,  2061.1,2,  11.3155
06MT19970815,      AR07E,     521,          1,     -999.0,         17,         17,2,19970828,       0000,    58.9667,   -32.1483,       1609,    28.5,  11.4630,  35.0020,-999,-999.0000,9,  -999.0,9, -999.00,9, -999.00,9, -999.00,9, -999.00,9,-999.000,9,-999.000,9,  2067.5,2,  11.4594
06MT19970815,      AR07E,     521,          1,     203421,         16,         16,2,19970828,       0000,    58.9667,   -32.1483,       1609,    50.3,   9.7612,  35.1505,2,  35.1442,2,   259.8,2,    2.68,2,    9.11,2,    0.31,2,    0.68,2,-999.000,9,-999.000,9,  2106.7,2,   9.7555
06MT19970815,      AR07E,     521,          1,     203420,         15,         15,2,19970828,       0000,    58.9667,   -32.1483,       1609,   100.6,   8.4937,  35.1536,2,  35.1534,2,   265.7,2,    5.39,2,   13.02,2,    0.03,2,    0.86,2,-999.000,9,-999.000,9,  2127.1,2,   8.4832
06MT19970815,      AR07E,     521,          1,     203419,         14,         14,2,19970828,       0000,    58.9667,   -32.1483,       1609,   119.9,   8.2603,  35.1448,2,  35.1429,2,   264.6,2,    5.97,2,   13.49,2,    0.02,2,    0.89,2,-999.000,9,-999.000,9,  2130.4,2,   8.2480
06MT19970815,      AR07E,     521,          1,     203418,         13,         13,2,19970828,       0000,    58.9667,   -32.1483,       1609,   201.1,   7.1879,  35.0491,2,  35.0502,2,   264.6,2,    7.73,2,   15.19,2,    0.02,2,    1.00,2,-999.000,9,-999.000,9,  2140.0,2,   7.1687
06MT19970815,      AR07E,     521,          1,     203417,         12,         12,2,19970828,       0000,    58.9667,   -32.1483,       1609,   301.8,   7.0093,  35.0723,2,  35.0721,2,   266.0,2,    7.76,2,   15.26,2,    0.01,2,    1.00,2,-999.000,9,-999.000,9,  2141.0,2,   6.9807
06MT19970815,      AR07E,     521,          1,     203416,         11,         11,2,19970828,       0000,    58.9667,   -32.1483,       1609,   401.2,   6.9319,  35.0979,2,  35.0983,2,   265.4,2,    7.74,2,   15.28,2,    0.02,2,    1.01,2,   3.822,2,   1.978,3,  2141.8,2,   6.8939
06MT19970815,      AR07E,     521,          1,     203415,         10,         10,2,19970828,       0000,    58.9667,   -32.1483,       1609,   500.8,   6.4098,  35.0383,2,  35.0408,2,   262.7,2,    8.47,2,   16.04,2,    0.02,2,    1.05,2,-999.000,9,-999.000,9,  2145.6,2,   6.3640
06MT19970815,      AR07E,     521,          1,     203414,          9,          9,2,19970828,       0000,    58.9667,   -32.1483,       1609,   700.0,   5.4967,  34.9977,2,  34.9986,2,   249.5,2,   10.00,2,   17.37,2,    0.03,2,    1.14,2,-999.000,9,-999.000,9,  2156.0,2,   5.4367
06MT19970815,      AR07E,     521,          1,     203413,          8,          8,2,19970828,       0000,    58.9667,   -32.1483,       1609,   900.0,   4.5741,  34.9464,2,  34.9462,2,   256.3,2,   10.54,2,   17.85,2,    0.02,2,    1.16,2,   2.957,2,   1.483,3,  2157.6,2,   4.5020
06MT19970815,      AR07E,     521,          1,     203412,          7,          7,2,19970828,       0000,    58.9667,   -32.1483,       1609,  1001.0,   4.2972,  34.9409,2,-999.0000,9,  -999.0,9, -999.00,9, -999.00,9, -999.00,9, -999.00,9,-999.000,9,-999.000,9,  -999.0,9,   4.2184
06MT19970815,      AR07E,     521,          1,     203411,          6,          6,2,19970828,       0000,    58.9667,   -32.1483,       1609,  1100.9,   4.1208,  34.9441,2,  34.9440,2,   264.9,2,   10.50,2,   17.35,2,    0.03,2,    1.14,2,   2.809,2,   1.385,3,  2155.3,2,   4.0348
06MT19970815,      AR07E,     521,          1,     203410,          5,          5,2,19970828,       0000,    58.9667,   -32.1483,       1609,  1198.6,   3.8779,  34.9354,2,  34.9357,2,   271.0,2,   10.55,2,   17.16,2,    0.02,2,    1.12,2,   2.810,2,   1.391,3,  2153.0,2,   3.7857
06MT19970815,      AR07E,     521,          1,     203409,          4,          4,2,19970828,       0000,    58.9667,   -32.1483,       1609,  1300.0,   3.7771,  34.9368,2,  34.9367,2,   271.9,2,   10.57,2,   16.87,2,    0.02,2,    1.11,2,-999.000,9,-999.000,9,  2153.1,2,   3.6771
06MT19970815,      AR07E,     521,          1,     203408,          3,          3,2,19970828,       0000,    58.9667,   -32.1483,       1609,  1402.2,   3.7407,  34.9375,2,  34.9378,2,   273.6,2,   10.58,2,   16.87,2,    0.02,2,    1.11,2,   2.756,2,   1.365,3,  2152.7,2,   3.6321
06MT19970815,      AR07E,     521,          1,     203407,          2,          2,2,19970828,       0000,    58.9667,   -32.1483,       1609,  1501.1,   3.7312,  34.9368,2,  34.9364,2,   274.4,2,   10.54,2,   16.82,2,    0.02,2,    1.10,2,   2.749,2,   1.365,3,  2152.8,2,   3.6140
06MT19970815,      AR07E,     521,          1,     203406,          1,          1,2,19970828,       0000,    58.9667,   -32.1483,       1609,  1596.1,   3.7153,  34.9365,2,  34.9361,2,   274.6,2,   10.62,2,   16.77,2,    0.02,2,    1.10,2,   2.781,2,   1.373,3,  2152.4,2,   3.5898
06MT19970815,      AR07E,     522,          1,     203444,         17,         17,2,19970828,       0000,    58.8983,   -31.4833,       1557,     9.3,  11.6370,  35.0773,2,  35.0739,2,   269.9,2,    0.94,2,    3.33,2,    0.15,2,    0.32,2,-999.000,9,-999.000,9,  2066.6,2,  11.6358
06MT19970815,      AR07E,     522,          1,     203443,         16,         16,2,19970828,       0000,    58.8983,   -31.4833,       1557,    49.4,   9.9824,  35.1420,2,  35.1406,2,   259.7,2,    3.18,2,   10.01,2,    0.26,2,    0.70,2,-999.000,9,-999.000,9,  -999.0,9,   9.9767
06MT19970815,      AR07E,     522,          1,     203442,         15,         15,2,19970828,       0000,    58.8983,   -31.4833,       1557,   100.1,   8.3275,  35.1220,2,  35.1256,2,   266.0,2,    5.98,2,   13.47,2,    0.04,2,    0.89,2,-999.000,9,-999.000,9,  -999.0,9,   8.3172
06MT19970815,      AR07E,     522,          1,     203441,         14,         14,2,19970828,       0000,    58.8983,   -31.4833,       1557,   200.8,   7.4587,  35.0612,2,  35.0595,2,   252.0,2,    8.05,2,   15.63,2,    0.02,2,    1.03,2,   3.586,2,   1.828,3,  -999.0,9,   7.4392
06MT19970815,      AR07E,     522,          1,     203440,         13,         13,2,19970828,       0000,    58.8983,   -31.4833,       1557,   297.4,   7.2689,  35.0941,2,  35.0942,2,   255.0,2,    8.09,2,   15.77,2,    0.03,2,    1.03,2,-999.000,9,-999.000,9,  -999.0,9,   7.2402
06MT19970815,      AR07E,     522,          1,     203439,         12,         12,2,19970828,       0000,    58.8983,   -31.4833,       1557,   399.1,   7.1653,  35.1200,2,  35.1210,2,   265.8,2,    7.52,2,   15.07,2,    0.03,2,    0.98,2,   3.740,2,   1.950,3,  -999.0,9,   7.1268
06MT19970815,      AR07E,     522,          1,     203438,         11,         11,2,19970828,       0000,    58.8983,   -31.4833,       1557,   501.1,   6.9422,  35.1078,2,  35.1077,2,   267.2,2,    7.65,2,   15.20,2,    0.02,2,    1.00,2,-999.000,9,-999.000,9,  -999.0,9,   6.8943
06MT19970815,      AR07E,     522,          1,     203437,         10,         10,2,19970828,       0000,    58.8983,   -31.4833,       1557,   601.9,   6.5361,  35.0823,2,  35.0333,0,   237.1,3,   10.38,2,   17.96,2,    0.03,2,    1.17,2,   2.798,2,   1.406,3,  -999.0,9,   6.4801
06MT19970815,      AR07E,     522,          1,     203436,          9,          9,2,19970828,       0000,    58.8983,   -31.4833,       1557,   701.2,   5.8769,  35.0335,2,  35.0163,0,   244.9,2,   10.52,2,   17.89,2,    0.02,2,    1.16,2,-999.000,9,-999.000,9,  -999.0,9,   5.8147
06MT19970815,      AR07E,     522,          1,     203435,          8,          8,2,19970828,       0000,    58.8983,   -31.4833,       1557,   801.7,   5.3497,  35.0152,2,  34.9944,0,   248.8,2,   10.62,2,   17.80,2,    0.03,2,    1.16,2,   2.696,2,   1.332,3,  -999.0,9,   5.2812
06MT19970815,      AR07E,     522,          1,     203434,          7,          7,2,19970828,       0000,    58.8983,   -31.4833,       1557,   901.4,   4.9425,  34.9941,2,  34.9948,2,   250.7,2,   10.58,2,   17.83,2,    0.02,2,    1.16,2,-999.000,9,-999.000,9,  -999.0,9,   4.8677
06MT19970815,      AR07E,     522,          1,     203433,          6,          6,2,19970828,       0000,    58.8983,   -31.4833,       1557,  1000.7,   4.3707,  34.9687,2,  34.9697,2,   261.7,2,   10.33,2,   17.11,2,    0.02,2,    1.12,2,   2.778,2,   1.375,3,  -999.0,9,   4.2913
06MT19970815,      AR07E,     522,          1,     203432,          5,          5,2,19970828,       0000,    58.8983,   -31.4833,       1557,  1100.5,   4.1004,  34.9565,2,  34.9579,2,   268.1,2,   10.30,2,   16.90,2,    0.02,2,    1.12,2,-999.000,9,-999.000,9,  -999.0,9,   4.0146
06MT19970815,      AR07E,     522,          1,     203431,          4,          4,2,19970828,       0000,    58.8983,   -31.4833,       1557,  1199.6,   3.9247,  34.9468,2,  34.9464,2,   270.3,2,   10.44,2,   16.91,2,    0.01,2,    1.13,2,   2.694,2,   1.335,3,  -999.0,9,   3.8319
06MT19970815,      AR07E,     522,          1,     203430,          3,          3,2,19970828,       0000,    58.8983,   -31.4833,       1557,  1300.4,   3.9116,  34.9552,2,  34.9556,2,   272.2,2,   10.32,2,   16.57,2,    0.02,2,    1.10,2,-999.000,9,-999.000,9,  -999.0,9,   3.8102
06MT19970815,      AR07E,     522,          1,     203429,          2,          2,2,19970828,       0000,    58.8983,   -31.4833,       1557,  1449.2,   3.8991,  34.9548,2,  34.9553,2,   271.7,2,   10.38,2,   16.57,2,    0.02,2,    1.10,2,   2.731,2,   1.372,3,  -999.0,9,   3.7846
06MT19970815,      AR07E,     522,          1,     203428,          1,          1,2,19970828,       0000,    58.8983,   -31.4833,       1557,  1540.7,   3.8921,  34.9536,2,  34.9540,2,   271.9,2,   10.42,2,   16.55,2,    0.03,2,    1.09,2,   2.709,2,   1.364,3,  -999.0,9,   3.7694
06MT19970815,      AR07E,     523,          1,     203466,         17,         17,2,19970828,       0000,    58.8333,   -30.8150,       1470,    50.3,  11.7098,  35.1215,2,  35.1177,2,   267.8,2,    0.82,2,    2.88,2,    0.15,2,    0.29,2,-999.000,9,-999.000,9,  2067.4,2,  11.7034
06MT19970815,      AR07E,     523,          1,     203465,         16,         16,2,19970828,       0000,    58.8333,   -30.8150,       1470,   100.4,   9.3855,  35.1584,2,  35.1525,2,   260.8,2,    3.28,2,   10.16,2,    0.24,2,    0.71,2,-999.000,9,-999.000,9,  2112.8,2,   9.3743
06MT19970815,      AR07E,     523,          1,     203464,         15,         15,2,19970828,       0000,    58.8333,   -30.8150,       1470,   150.2,   8.1454,  35.1404,2,  35.1392,2,   266.8,2,    5.75,2,   13.43,2,    0.02,2,    0.88,2,-999.000,9,-999.000,9,  2130.1,2,   8.1300
06MT19970815,      AR07E,     523,          1,     203463,         14,         14,2,19970828,       0000,    58.8333,   -30.8150,       1470,   200.4,   7.6410,  35.1284,2,  35.1288,2,   262.8,2,    7.05,2,   14.72,2,    0.02,2,    0.96,2,-999.000,9,-999.000,9,  2138.6,2,   7.6212
06MT19970815,      AR07E,     523,          1,     203462,         13,         13,2,19970828,       0000,    58.8333,   -30.8150,       1470,   250.8,   7.4144,  35.1327,2,  35.1318,2,   264.0,2,    7.39,2,   14.92,2,    0.02,2,    0.97,2,-999.000,9,-999.000,9,  2140.9,2,   7.3900
06MT19970815,      AR07E,     523,          1,     203461,         12,         12,2,19970828,       0000,    58.8333,   -30.8150,       1470,   299.7,   7.1078,  35.1009,2,  35.1013,2,   254.9,2,    8.15,2,   15.88,2,    0.02,2,    1.03,2,   3.480,2,   1.853,3,  2146.0,2,   7.0792
06MT19970815,      AR07E,     523,          1,     203460,         11,         11,2,19970828,       0000,    58.8333,   -30.8150,       1470,   401.2,   7.0082,  35.1171,2,  35.1172,2,   266.1,2,    7.64,2,   15.19,2,    0.02,2,    0.99,2,-999.000,9,-999.000,9,  2142.6,2,   6.9700
06MT19970815,      AR07E,     523,          1,     203459,         10,         10,2,19970828,       0000,    58.8333,   -30.8150,       1470,   490.7,   6.6443,  35.0916,2,  35.0917,2,   257.2,2,    8.45,2,   16.08,2,    0.00,2,    1.05,2,   3.495,2,   1.853,3,  2148.5,2,   6.5986
06MT19970815,      AR07E,     523,          1,     203458,          9,          9,2,19970828,       0000,    58.8333,   -30.8150,       1470,   701.6,   5.5901,  35.0345,2,  35.0349,2,   247.3,2,   10.02,2,   17.24,2,    0.02,2,    1.12,2,   2.882,2,   1.473,3,  2157.9,2,   5.5294
06MT19970815,      AR07E,     523,          1,     203457,          8,          8,2,19970828,       0000,    58.8333,   -30.8150,       1470,   901.7,   4.6814,  34.9923,2,  34.9926,2,   259.5,2,   10.01,2,   16.86,2,    0.01,2,    1.10,2,   2.890,2,   1.458,3,  2154.6,2,   4.6084
06MT19970815,      AR07E,     523,          1,     203456,          7,          7,2,19970828,       0000,    58.8333,   -30.8150,       1470,  1099.4,   4.0820,  34.9699,2,  34.9704,2,   268.5,2,   10.04,2,   16.33,2,    0.02,2,    1.07,2,   2.859,2,   1.437,3,  2154.3,2,   3.9964
06MT19970815,      AR07E,     523,          1,     203455,          6,          6,2,19970828,       0000,    58.8333,   -30.8150,       1470,  1302.1,   3.9914,  34.9665,2,  34.9668,2,   270.2,2,   10.10,2,   16.33,2,    0.02,2,    1.08,2,   2.859,2,   1.433,3,  2153.8,2,   3.8890
06MT19970815,      AR07E,     523,          1,     203454,          5,          5,2,19970828,       0000,    58.8333,   -30.8150,       1470,  1402.6,   3.9812,  34.9670,2,  34.9665,2,   270.5,2,   10.20,2,   16.27,2,    0.02,2,    1.07,2,   2.859,2,   1.430,3,  2153.8,2,   3.8700
06MT19970815,      AR07E,     523,          1,     203453,          4,          4,2,19970828,       0000,    58.8333,   -30.8150,       1470,  1471.8,   3.9795,  34.9671,2,  34.9663,2,   269.8,2,   10.11,2,   16.31,2,    0.02,2,    1.08,2,   2.847,2,   1.435,3,  2153.6,2,   3.8621
06MT19970815,      AR07E,     524,          1,     203481,         15,         15,2,19970828,       0000,    58.5983,   -30.3683,       1520,    12.2,  12.0063,  35.1103,2,  35.1059,2,   266.3,2,    0.59,2,    2.33,2,    0.13,2,    0.28,2,   3.446,2,   1.944,3,  2064.2,2,  12.0047
06MT19970815,      AR07E,     524,          1,     203480,         14,         14,2,19970828,       0000,    58.5983,   -30.3683,       1520,    50.5,  10.3755,  35.1336,2,  35.1256,2,   259.8,2,    2.34,2,    7.24,2,    0.25,2,    0.59,2,-999.000,9,-999.000,9,  -999.0,9,  10.3695
06MT19970815,      AR07E,     524,          1,     203479,         13,         13,2,19970828,       0000,    58.5983,   -30.3683,       1520,   101.6,   8.5904,  35.1611,2,  35.1565,2,   264.6,2,    5.78,2,   13.25,2,    0.02,2,    0.87,2,-999.000,9,-999.000,9,  -999.0,9,   8.5797
06MT19970815,      AR07E,     524,          1,     203478,         12,         12,2,19970828,       0000,    58.5983,   -30.3683,       1520,   150.5,   8.0113,  35.1199,2,  35.1189,2,   260.6,2,    6.92,2,   14.36,2,    0.00,2,    0.93,2,-999.000,9,-999.000,9,  -999.0,9,   7.9961
06MT19970815,      AR07E,     524,          1,     203477,         11,         11,2,19970828,       0000,    58.5983,   -30.3683,       1520,   200.9,   7.5754,  35.0927,2,  35.0923,2,   255.9,2,    7.87,2,   15.38,2,    0.02,2,    1.05,2,   3.495,2,   1.884,3,  -999.0,9,   7.5557
06MT19970815,      AR07E,     524,          1,     203476,         10,         10,2,19970828,       0000,    58.5983,   -30.3683,       1520,   252.0,   7.3820,  35.0944,2,  35.0935,2,   255.9,2,    7.97,2,   15.60,2,    0.02,2,    1.02,2,-999.000,9,-999.000,9,  -999.0,9,   7.3575
06MT19970815,      AR07E,     524,          1,     203475,          9,          9,2,19970828,       0000,    58.5983,   -30.3683,       1520,   400.7,   6.9656,  35.0933,2,  35.0899,2,   253.5,2,    8.50,2,   16.03,2,    0.03,2,    1.05,2,-999.000,9,-999.000,9,  -999.0,9,   6.9275
06MT19970815,      AR07E,     524,          1,     203474,          8,          8,2,19970828,       0000,    58.5983,   -30.3683,       1520,   601.5,   5.9169,  35.0414,2,  35.0401,2,   239.7,2,   10.18,2,   17.67,2,    0.01,2,    1.13,2,   2.844,2,   1.479,3,  -999.0,9,   5.8638
06MT19970815,      AR07E,     524,          1,     203473,          7,          7,2,19970828,       0000,    58.5983,   -30.3683,       1520,   802.8,   5.0837,  35.0038,2,  35.0044,2,   248.4,2,   10.53,2,   17.69,2,    0.02,2,    1.15,2,   2.688,2,   1.352,3,  -999.0,9,   5.0168
06MT19970815,      AR07E,     524,          1,     203472,          6,          6,2,19970828,       0000,    58.5983,   -30.3683,       1520,   999.2,   4.2549,  34.9539,2,  34.9538,2,   262.1,2,   10.60,2,   17.46,2,    0.02,2,    1.14,2,   2.631,2,   1.321,3,  -999.0,9,   4.1766
06MT19970815,      AR07E,     524,          1,     203471,          5,          5,2,19970828,       0000,    58.5983,   -30.3683,       1520,  1101.0,   3.9169,  34.9348,2,  34.9351,2,   270.2,2,   10.50,2,   17.14,2,    0.02,2,    1.13,2,-999.000,9,-999.000,9,  -999.0,9,   3.8327
06MT19970815,      AR07E,     524,          1,     203470,          4,          4,2,19970828,       0000,    58.5983,   -30.3683,       1520,  1201.8,   3.8961,  34.9515,2,  34.9519,2,   273.5,2,    9.98,2,   16.45,2,    0.02,2,    1.08,2,   2.789,2,   1.413,3,  -999.0,9,   3.8034
06MT19970815,      AR07E,     524,          1,     203469,          3,          3,2,19970828,       0000,    58.5983,   -30.3683,       1520,  1301.2,   3.7307,  34.9590,2,  34.9596,2,   275.0,2,   10.02,2,   16.08,2,    0.02,2,    1.06,2,-999.000,9,-999.000,9,  -999.0,9,   3.6310
06MT19970815,      AR07E,     524,          1,     203468,          2,          2,2,19970828,       0000,    58.5983,   -30.3683,       1520,  1400.6,   3.6802,  34.9609,2,  34.9611,2,   276.0,2,    9.96,2,   15.97,2,    0.03,2,    1.06,2,   2.795,2,   1.430,3,  -999.0,9,   3.5724
06MT19970815,      AR07E,     524,          1,     203467,          1,          1,2,19970828,       0000,    58.5983,   -30.3683,       1520,  1547.4,   3.6771,  34.9612,2,  34.9594,0,   276.4,2,    9.99,2,   15.92,2,    0.03,2,    1.05,2,   2.810,2,   1.436,3,  -999.0,9,   3.5563