BOTTLE,20220204CCHSIOENA
EXPOCODE,SECT_ID,STNNBR,CASTNO,BIONBR,SAMPNO,BTLNBR,BTLNBR_FLAG_W,DATE,TIME,LATITUDE,LONGITUDE,DEPTH,CTDPRS,CTDTMP,CTDSAL,CTDSAL_FLAG_W,SALNTY,SALNTY_FLAG_W,OXYGEN,OXYGEN_FLAG_W,SILCAT,SILCAT_FLAG_W,NITRAT,NITRAT_FLAG_W,NITRIT,NITRIT_FLAG_W,PHSPHT,PHSPHT_FLAG_W,CFC-11,CFC-11_FLAG_W,CFC-12,CFC-12_FLAG_W,TCARBN,TCARBN_FLAG_W,THETA
,,,,,,,,,,,,METERS,DBAR,ITS-90,PSS-78,,PSS-78,,UMOL/KG,,UMOL/KG,,UMOL/KG,,UMOL/KG,,UMOL/KG,,PMOL/KG,,PMOL/KG,,UMOL/KG,,DEG C
06MT19970815,      AR07E,     565,          1,     204440,         22,         22,2,19970908,       0000,    52.3333,   -19.3333,       3670,    13.4,  15.6621,  35.6399,2,  35.6425,2,   248.8,2,    0.42,2,    0.12,2,    0.05,2,    0.08,2,   2.956,2,   1.579,3,  2062.5,2,  15.6600
06MT19970815,      AR07E,     565,          1,     204439,         21,         21,2,19970908,       0000,    52.3333,   -19.3333,       3670,    50.9,  15.1004,  35.6633,2,  35.6374,2,   243.8,2,    0.80,2,    2.22,2,    0.35,2,    0.21,2,-999.000,9,-999.000,9,  2080.6,2,  15.0926
06MT19970815,      AR07E,     565,          1,     204438,         20,         20,2,19970908,       0000,    52.3333,   -19.3333,       3670,   100.1,  11.9399,  35.6063,2,  35.6023,2,   242.4,2,    3.85,2,   10.08,2,    0.03,2,    0.61,2,   3.306,2,   1.718,3,  2120.8,2,  11.9269
06MT19970815,      AR07E,     565,          1,     204437,         19,         19,2,19970908,       0000,    52.3333,   -19.3333,       3670,   301.3,  10.9358,  35.4956,2,  35.4995,2,   256.9,2,    4.19,2,   10.66,2,    0.02,2,    0.66,2,   3.522,2,   1.785,3,  2124.1,2,  10.8984
06MT19970815,      AR07E,     565,          1,     204436,         18,         18,2,19970908,       0000,    52.3333,   -19.3333,       3670,   497.1,  10.6006,  35.4596,2,  35.4624,2,   246.7,2,    4.55,2,   11.21,2,    0.01,2,    0.71,2,   3.491,2,   1.835,3,  2127.6,2,  10.5396
06MT19970815,      AR07E,     565,          1,     204435,         17,         17,2,19970908,       0000,    52.3333,   -19.3333,       3670,   751.6,   9.2853,  35.3499,2,  35.3566,2,   207.4,2,    8.47,2,   16.70,2,    0.01,2,    1.04,2,   2.374,2,   1.158,3,  2159.7,2,   9.1991
06MT19970815,      AR07E,     565,          1,     204434,         16,         16,2,19970908,       0000,    52.3333,   -19.3333,       3670,  1001.3,   7.0785,  35.2059,2,  35.2081,0,   209.7,2,   11.07,2,   18.73,2,    0.03,2,    1.19,2,   1.901,2,   0.887,3,  2172.0,2,   6.9784
06MT19970815,      AR07E,     565,          1,     204433,         15,         15,2,19970908,       0000,    52.3333,   -19.3333,       3670,  1200.2,   5.6613,  35.0995,2,  35.1015,0,   232.0,2,   11.28,2,   18.66,2,    0.01,2,    1.20,2,   2.045,2,   0.944,3,  2168.4,2,   5.5525
06MT19970815,      AR07E,     565,          1,     204432,         14,         14,2,19970908,       0000,    52.3333,   -19.3333,       3670,  1402.3,   4.5301,  34.9897,2,  34.9886,0,   253.4,2,   11.18,2,   18.32,2,    0.01,2,    1.17,2,   2.220,2,   1.008,3,  2161.0,2,   4.4131
06MT19970815,      AR07E,     565,          1,     204431,         13,         13,2,19970908,       0000,    52.3333,   -19.3333,       3670,  1650.6,   3.7426,  34.9092,2,  34.9090,2,   273.2,2,   10.95,2,   17.68,2,    0.01,2,    1.14,2,   2.465,2,   1.101,3,  2153.9,2,   3.6118
06MT19970815,      AR07E,     565,          1,     204430,         12,         12,2,19970908,       0000,    52.3333,   -19.3333,       3670,  1751.6,   3.5815,  34.8969,2,  34.8975,2,   276.9,2,   10.91,2,   17.43,2,    0.01,2,    1.13,2,   2.525,2,   1.140,3,  2152.6,2,   3.4436
06MT19970815,      AR07E,     565,          1,     204429,         11,         11,2,19970908,       0000,    52.3333,   -19.3333,       3670,  1900.3,   3.4502,  34.8890,2,  34.8894,2,   281.8,2,   10.88,2,   17.21,2,    0.02,2,    1.13,2,   2.646,2,   1.204,3,  2149.0,2,   3.3004
06MT19970815,      AR07E,     565,          1,     204428,         10,         10,2,19970908,       0000,    52.3333,   -19.3333,       3670,  2055.4,   3.3653,  34.8859,2,  34.8857,2,   283.3,2,   10.91,2,   17.11,2,    0.02,2,    1.11,2,   2.649,2,   1.192,3,  2150.8,2,   3.2022
06MT19970815,      AR07E,     565,          1,     204427,          9,          9,2,19970908,       0000,    52.3333,   -19.3333,       3670,  2201.8,   3.2932,  34.8861,2,  34.8851,2,   284.9,2,   11.01,2,   16.98,2,    0.02,2,    1.11,2,   2.693,2,   1.208,3,  2149.9,2,   3.1173
06MT19970815,      AR07E,     565,          1,     204426,          8,          8,2,19970908,       0000,    52.3333,   -19.3333,       3670,  2502.1,   3.2779,  34.9112,2,  34.9120,2,   279.0,2,   12.12,2,   17.04,2,    0.01,2,    1.11,2,   2.002,2,   0.918,3,  2152.0,2,   3.0727
06MT19970815,      AR07E,     565,          1,     204425,          7,          7,2,19970908,       0000,    52.3333,   -19.3333,       3670,  2802.6,   3.1839,  34.9430,2,  34.9448,2,   270.3,2,   16.32,2,   17.45,2,    0.01,2,    1.15,2,   1.120,2,   0.517,3,  2158.5,2,   2.9498
06MT19970815,      AR07E,     565,          1,     204424,          6,          6,2,19970908,       0000,    52.3333,   -19.3333,       3670,  3101.7,   2.9683,  34.9449,2,  34.9462,2,   261.9,2,   23.21,2,   18.51,2,    0.03,2,    1.22,2,   0.801,2,   0.361,3,  2169.3,2,   2.7074
06MT19970815,      AR07E,     565,          1,     204423,          5,          5,2,19970908,       0000,    52.3333,   -19.3333,       3670,  3301.6,   2.7671,  34.9351,2,  34.9347,2,   252.8,2,   31.34,2,   19.92,2,    0.01,2,    1.33,2,   0.450,2,   0.199,3,  2181.3,2,   2.4895
06MT19970815,      AR07E,     565,          1,     204422,          4,          4,2,19970908,       0000,    52.3333,   -19.3333,       3670,  3454.1,   2.6481,  34.9245,2,  34.9242,2,   247.5,2,   36.71,2,   21.02,2,    0.02,2,    1.41,2,   0.236,2,   0.103,3,  2189.5,2,   2.3569
06MT19970815,      AR07E,     565,          1,     204421,          3,          3,2,19970908,       0000,    52.3333,   -19.3333,       3670,  3603.4,   2.4911,  34.9095,2,  34.9091,2,  -999.0,9,   42.98,2,   22.12,2,    0.02,2,    1.48,2,   0.073,2,-999.000,9,  2198.5,2,   2.1876
06MT19970815,      AR07E,     565,          1,     204420,          2,          2,2,19970908,       0000,    52.3333,   -19.3333,       3670,  3652.8,   2.4654,  34.9069,2,  34.9062,2,   241.5,2,   43.66,2,   22.34,2,    0.02,2,    1.49,2,   0.065,2,-999.000,9,  2199.7,2,   2.1571
06MT19970815,      AR07E,     565,          1,     204419,          1,          1,2,19970908,       0000,    52.3333,   -19.3333,       3670,  3691.7,   2.4555,  34.9058,2,  34.9043,2,   240.3,2,   44.14,2,   22.45,2,    0.02,2,    1.50,2,   0.053,2,-999.000,9,  2199.6,2,   2.1432
06MT19970815,      AR07E,     566,          1,     204461,         21,         21,2,19970908,       0000,    52.3333,   -18.4950,       4309,    15.5,  16.0068,  35.6606,2,  35.6623,2,   248.2,2,    0.41,2,    0.06,2,    0.04,2,    0.07,2,   2.880,2,   1.613,3,  2059.6,2,  16.0043
06MT19970815,      AR07E,     566,          1,     204460,         20,         20,2,19970908,       0000,    52.3333,   -18.4950,       4309,   100.4,  12.2721,  35.6375,2,  35.6354,2,   239.7,2,    2.92,2,    9.14,2,    0.05,2,    0.57,2,   3.360,2,   1.816,3,  -999.0,9,  12.2588
06MT19970815,      AR07E,     566,          1,     204459,         19,         19,2,19970908,       0000,    52.3333,   -18.4950,       4309,   300.8,  11.0646,  35.4953,2,  35.4966,2,   246.2,2,    4.29,2,   10.98,2,    0.02,2,    0.69,2,   3.327,2,   1.785,3,  -999.0,9,  11.0270
06MT19970815,      AR07E,     566,          1,     204458,         18,         18,2,19970908,       0000,    52.3333,   -18.4950,       4309,   500.2,  10.5705,  35.4550,2,  35.4578,2,   241.3,2,    4.94,2,   12.09,2,    0.03,2,    0.76,2,   3.254,2,   1.724,3,  -999.0,9,  10.5092
06MT19970815,      AR07E,     566,          1,     204457,         17,         17,2,19970908,       0000,    52.3333,   -18.4950,       4309,   700.8,   9.5804,  35.3633,2,  35.3626,2,   212.4,2,    7.85,2,   16.14,2,    0.03,2,    1.02,2,   2.515,2,   1.296,3,  -999.0,9,   9.4987
06MT19970815,      AR07E,     566,          1,     204456,         16,         16,2,19970908,       0000,    52.3333,   -18.4950,       4309,   900.9,   8.1368,  35.3079,2,  35.3106,2,   201.0,2,   10.42,2,   18.50,2,    0.03,2,    1.17,2,   1.817,2,   0.924,3,  -999.0,9,   8.0402
06MT19970815,      AR07E,     566,          1,     204455,         15,         15,2,19970908,       0000,    52.3333,   -18.4950,       4309,  1097.0,   6.4538,  35.1786,2,  35.1841,2,   220.6,2,   11.18,2,   18.74,2,    0.03,2,    1.20,2,   1.886,2,   0.949,3,  -999.0,9,   6.3485
06MT19970815,      AR07E,     566,          1,     204454,         14,         14,2,19970908,       0000,    52.3333,   -18.4950,       4309,  1299.9,   5.0954,  35.0521,2,  35.0497,0,   242.5,2,   11.30,2,   18.41,2,    0.02,2,    1.19,2,   2.086,2,   1.033,3,  -999.0,9,   4.9822
06MT19970815,      AR07E,     566,          1,     204453,         13,         13,2,19970908,       0000,    52.3333,   -18.4950,       4309,  1499.7,   4.1121,  34.9439,2,  34.9454,2,   262.8,2,   11.06,2,   17.89,2,    0.02,2,    1.17,2,   2.347,2,   1.136,3,  -999.0,9,   3.9907
06MT19970815,      AR07E,     566,          1,     204452,         12,         12,2,19970908,       0000,    52.3333,   -18.4950,       4309,  1699.4,   3.6985,  34.9060,2,  34.9056,2,   274.7,2,   10.92,2,   17.53,2,    0.02,2,    1.15,2,   2.433,2,   1.183,3,  -999.0,9,   3.5638
06MT19970815,      AR07E,     566,          1,     204451,         11,         11,2,19970908,       0000,    52.3333,   -18.4950,       4309,  1900.2,   3.4918,  34.8928,2,  34.8930,2,   280.6,2,   10.91,2,   17.24,2,    0.03,2,    1.14,2,   2.490,2,   1.216,3,  -999.0,9,   3.3414
06MT19970815,      AR07E,     566,          1,     204450,         10,         10,2,19970908,       0000,    52.3333,   -18.4950,       4309,  2300.3,   3.3396,  34.9121,2,  34.9116,2,   278.1,2,   12.33,2,   17.09,2,    0.02,2,    1.13,2,   1.855,2,   0.921,3,  -999.0,9,   3.1533
06MT19970815,      AR07E,     566,          1,     204449,          9,          9,2,19970908,       0000,    52.3333,   -18.4950,       4309,  2600.9,   3.2363,  34.9436,2,  34.9433,2,   268.9,2,   16.55,2,   17.61,2,    0.03,2,    1.16,2,   1.029,2,   0.472,3,  -999.0,9,   3.0218
06MT19970815,      AR07E,     566,          1,     204448,          8,          8,2,19970908,       0000,    52.3333,   -18.4950,       4309,  2901.1,   2.9559,  34.9489,2,  34.9495,2,   256.9,2,   26.28,2,   19.38,2,    0.01,2,    1.30,2,   0.421,2,   0.191,3,  -999.0,9,   2.7163
06MT19970815,      AR07E,     566,          1,     204447,          7,          7,2,19970908,       0000,    52.3333,   -18.4950,       4309,  3201.9,   2.7509,  34.9379,2,  34.9365,2,   249.9,2,   33.07,2,   20.47,2,    0.03,2,    1.38,2,   0.197,2,-999.000,9,  -999.0,9,   2.4843
06MT19970815,      AR07E,     566,          1,     204446,          6,          6,2,19970908,       0000,    52.3333,   -18.4950,       4309,  3503.7,   2.6032,  34.9234,2,  34.9218,2,   246.7,2,   38.60,2,   21.43,2,    0.03,2,    1.45,2,   0.068,3,   0.030,3,  -999.0,9,   2.3077
06MT19970815,      AR07E,     566,          1,     204445,          5,          5,2,19970908,       0000,    52.3333,   -18.4950,       4309,  3801.7,   2.5304,  34.9132,2,  34.9117,2,   243.0,2,   41.61,2,   21.95,2,    0.03,2,    1.48,2,   0.056,2,   0.022,3,  -999.0,9,   2.2038
06MT19970815,      AR07E,     566,          1,     204444,          4,          4,2,19970908,       0000,    52.3333,   -18.4950,       4309,  4002.9,   2.5141,  34.9097,2,  34.9072,2,   242.4,2,   42.82,2,   22.10,2,    0.03,2,    1.49,2,   0.044,2,   0.015,3,  -999.0,9,   2.1650
06MT19970815,      AR07E,     566,          1,     204443,          3,          3,2,19970908,       0000,    52.3333,   -18.4950,       4309,  4202.0,   2.5166,  34.9058,2,  34.9054,2,   244.0,2,   43.42,2,   22.22,2,    0.03,2,    1.51,2,   0.057,2,-999.000,9,  -999.0,9,   2.1443
06MT19970815,      AR07E,     566,          1,     204442,          2,          2,2,19970908,       0000,    52.3333,   -18.4950,       4309,  4351.9,   2.5226,  34.9045,2,  34.9045,2,   242.3,2,   43.84,2,   22.30,2,    0.03,2,    1.50,2,   0.049,2,   0.030,3,  -999.0,9,   2.1323
06MT19970815,      AR07E,     566,          1,     204441,          1,          1,2,19970908,       0000,    52.3333,   -18.4950,       4309,  4394.9,   2.5276,  34.9048,2,  34.9040,2,   240.3,2,   43.88,2,   22.35,2,    0.04,2,    1.50,2,   0.051,2,   0.026,3,  -999.0,9,   2.1320
06MT19970815,      AR07E,     567,          1,     204484,         22,         22,2,19970908,       0000,    52.3333,   -17.6667,       4217,    12.8,  14.7786,  35.4856,2,  35.4850,2,   258.9,2,    0.37,2,    1.26,2,    0.13,2,    0.17,2,   3.086,2,   1.685,3,  2067.9,2,  14.7767
06MT19970815,      AR07E,     567,          1,     204483,         21,         21,2,19970908,       0000,    52.3333,   -17.6667,       4217,    50.8,  13.7403,  35.6786,2,  35.7074,2,   233.9,2,    2.22,2,    6.88,2,    0.25,2,    0.45,2,-999.000,9,-999.000,9,  2107.3,2,  13.7330
06MT19970815,      AR07E,     567,          1,     204482,         20,         20,2,19970908,       0000,    52.3333,   -17.6667,       4217,   100.0,  12.6075,  35.6651,2,  35.6652,2,   234.9,2,    3.43,2,    9.69,2,    0.05,2,    0.59,2,   3.185,2,   1.722,3,  2122.4,2,  12.5940
06MT19970815,      AR07E,     567,          1,     204481,         19,         19,2,19970908,       0000,    52.3333,   -17.6667,       4217,   203.2,  11.5498,  35.5571,2,  35.5592,2,   247.4,2,    3.89,2,   10.18,2,    0.03,2,    0.64,2,   3.337,2,   1.784,3,  -999.0,9,  11.5238
06MT19970815,      AR07E,     567,          1,     204480,         18,         18,2,19970908,       0000,    52.3333,   -17.6667,       4217,   501.4,  10.3621,  35.4132,2,  35.4132,2,   246.6,2,    5.17,2,   12.21,2,    0.03,2,    0.77,2,   3.339,2,   1.754,3,  2134.9,2,  10.3014
06MT19970815,      AR07E,     567,          1,     204479,         17,         17,2,19970908,       0000,    52.3333,   -17.6667,       4217,   699.2,   9.2285,  35.3034,2,  35.3048,2,   225.1,2,    7.54,2,   15.33,2,    0.03,2,    0.98,2,   2.845,2,   1.471,3,  2152.5,2,   9.1489
06MT19970815,      AR07E,     567,          1,     204478,         16,         16,2,19970908,       0000,    52.3333,   -17.6667,       4217,   902.1,   7.6688,  35.2275,2,  35.2301,2,   205.3,2,   10.55,2,   18.66,2,    0.03,2,    1.18,2,   1.984,2,   1.000,3,  2173.7,2,   7.5753
06MT19970815,      AR07E,     567,          1,     204477,         15,         15,2,19970908,       0000,    52.3333,   -17.6667,       4217,  1199.2,   5.4081,  35.0649,2,  35.0662,2,   235.9,2,   11.24,2,   18.63,2,    0.02,2,    1.20,2,   2.093,2,   1.054,3,  2166.7,2,   5.3017
06MT19970815,      AR07E,     567,          1,     204476,         14,         14,2,19970908,       0000,    52.3333,   -17.6667,       4217,  1450.8,   4.2571,  34.9576,2,  34.9567,2,   260.4,2,   11.05,2,   18.08,2,    0.02,2,    1.18,2,   2.346,2,   1.139,3,  2157.0,2,   4.1386
06MT19970815,      AR07E,     567,          1,     204475,         13,         13,2,19970908,       0000,    52.3333,   -17.6667,       4217,  1600.2,   3.8298,  34.9175,2,  34.9170,2,   272.0,2,   11.07,2,   17.61,2,    0.03,2,    1.15,2,   2.482,2,   1.207,3,  2154.8,2,   3.7026
06MT19970815,      AR07E,     567,          1,     204474,         12,         12,2,19970908,       0000,    52.3333,   -17.6667,       4217,  1750.4,   3.6237,  34.9022,2,  34.9026,2,   276.2,2,   10.93,2,   17.42,2,    0.05,2,    1.14,2,   2.402,2,   1.158,3,  2152.3,2,   3.4853
06MT19970815,      AR07E,     567,          1,     204473,         11,         11,2,19970908,       0000,    52.3333,   -17.6667,       4217,  1901.9,   3.4725,  34.8933,2,  34.8924,2,   280.6,2,   10.98,2,   17.33,2,    0.02,2,    1.13,2,   2.500,2,   1.216,3,  2149.7,2,   3.3222
06MT19970815,      AR07E,     567,          1,     204472,         10,         10,2,19970908,       0000,    52.3333,   -17.6667,       4217,  2181.9,   3.3535,  34.9010,2,  34.8997,2,   280.4,2,   11.79,2,   17.11,2,    0.02,2,    1.12,2,   2.186,2,   1.068,3,  2148.4,2,   3.1785
06MT19970815,      AR07E,     567,          1,     204471,          9,          9,2,19970908,       0000,    52.3333,   -17.6667,       4217,  2502.2,   3.2568,  34.9384,2,  34.9381,2,   271.1,2,   14.99,2,   17.19,2,    0.04,2,    1.14,2,   1.230,2,   0.603,3,  2153.7,2,   3.0519
06MT19970815,      AR07E,     567,          1,     204470,          8,          8,2,19970908,       0000,    52.3333,   -17.6667,       4217,  2802.7,   2.9809,  34.9471,2,  34.9479,2,   260.6,2,   24.36,2,   18.82,2,    0.02,2,    1.25,2,   0.608,2,   0.249,3,  2168.5,2,   2.7509
06MT19970815,      AR07E,     567,          1,     204469,          7,          7,2,19970908,       0000,    52.3333,   -17.6667,       4217,  3102.6,   2.7718,  34.9392,2,  34.9380,2,   251.7,2,   31.60,2,   20.09,2,    0.04,2,    1.34,2,-999.000,9,-999.000,9,  2191.8,3,   2.5152
06MT19970815,      AR07E,     567,          1,     204468,          6,          6,2,19970908,       0000,    52.3333,   -17.6667,       4217,  3401.8,   2.6263,  34.9264,2,  34.9253,2,   247.1,2,   37.40,2,   21.23,2,    0.06,2,    1.43,2,   0.097,2,-999.000,9,  2193.5,2,   2.3413
06MT19970815,      AR07E,     567,          1,     204467,          5,          5,2,19970908,       0000,    52.3333,   -17.6667,       4217,  3703.1,   2.5297,  34.9149,2,  34.9134,2,  -999.0,9,   41.25,2,   21.73,2,    0.08,2,    1.45,2,   0.063,2,-999.000,9,  2194.2,2,   2.2141
06MT19970815,      AR07E,     567,          1,     204466,          4,          4,2,19970908,       0000,    52.3333,   -17.6667,       4217,  4003.0,   2.4934,  34.9080,2,  34.9063,2,   241.8,2,   43.50,2,   22.19,2,    0.04,2,    1.48,2,   0.048,2,-999.000,9,  2197.2,2,   2.1449
06MT19970815,      AR07E,     567,          1,     204465,          3,          3,2,19970908,       0000,    52.3333,   -17.6667,       4217,  4104.1,   2.4938,  34.9057,2,  34.9045,2,   241.7,2,   43.85,2,   22.35,2,    0.04,2,    1.50,2,   0.047,2,-999.000,9,  2198.3,2,   2.1336
06MT19970815,      AR07E,     567,          1,     204464,          2,          2,2,19970908,       0000,    52.3333,   -17.6667,       4217,  4218.8,   2.5016,  34.9045,2,  34.9041,2,   241.3,2,   44.20,2,   22.33,2,    0.02,2,    1.50,2,   0.050,2,-999.000,9,  2198.5,2,   2.1277
06MT19970815,      AR07E,     567,          1,     204463,          1,          1,2,19970908,       0000,    52.3333,   -17.6667,       4217,  4290.2,   2.5099,  34.9046,2,  34.9046,2,   241.2,2,   44.14,2,   22.28,2,    0.04,2,    1.50,2,   0.047,2,-999.000,9,  2199.2,2,   2.1274