BOTTLE,20220204CCHSIOENA
EXPOCODE,SECT_ID,STNNBR,CASTNO,BIONBR,SAMPNO,BTLNBR,BTLNBR_FLAG_W,DATE,TIME,LATITUDE,LONGITUDE,DEPTH,CTDPRS,CTDTMP,CTDSAL,CTDSAL_FLAG_W,SALNTY,SALNTY_FLAG_W,OXYGEN,OXYGEN_FLAG_W,SILCAT,SILCAT_FLAG_W,NITRAT,NITRAT_FLAG_W,NITRIT,NITRIT_FLAG_W,PHSPHT,PHSPHT_FLAG_W,CFC-11,CFC-11_FLAG_W,CFC-12,CFC-12_FLAG_W,TCARBN,TCARBN_FLAG_W,THETA
,,,,,,,,,,,,METERS,DBAR,ITS-90,PSS-78,,PSS-78,,UMOL/KG,,UMOL/KG,,UMOL/KG,,UMOL/KG,,UMOL/KG,,PMOL/KG,,PMOL/KG,,UMOL/KG,,DEG C
06MT19970815,      AR07E,     539,          1,     203837,         21,         21,2,19970831,       0000,    54.0667,   -26.2300,       3440,   100.5,   9.5242,  35.0349,2,  35.0313,2,   237.1,2,    5.44,2,   12.26,2,    0.05,2,    0.83,2,   3.631,2,   1.828,3,  2123.5,2,   9.5129
06MT19970815,      AR07E,     539,          1,     203836,         20,         20,2,19970831,       0000,    54.0667,   -26.2300,       3440,   300.8,   7.2282,  34.9729,2,  34.9716,2,  -999.0,9,    9.01,2,   16.48,2,    0.03,2,    1.09,2,   3.240,2,   1.628,3,  2146.1,2,   7.1993
06MT19970815,      AR07E,     539,          1,     203835,         19,         19,2,19970831,       0000,    54.0667,   -26.2300,       3440,   501.7,   5.4285,  34.9071,2,  34.9061,2,  -999.0,9,   10.96,2,   18.73,2,    0.02,2,    1.24,2,-999.000,9,-999.000,9,  2162.1,2,   5.3865
06MT19970815,      AR07E,     539,          1,     203834,         18,         18,2,19970831,       0000,    54.0667,   -26.2300,       3440,   701.7,   4.7509,  34.9620,2,  34.9617,2,   245.8,2,   11.23,2,   18.72,2,    0.02,2,    1.22,2,   2.587,2,   1.230,3,  2163.9,2,   4.6948
06MT19970815,      AR07E,     539,          1,     203833,         17,         17,2,19970831,       0000,    54.0667,   -26.2300,       3440,   901.3,   4.1118,  34.9284,2,  34.9303,2,  -999.0,9,   10.94,2,   17.98,2,    0.02,2,    1.18,2,   2.874,2,   1.293,3,  2158.5,2,   4.0428
06MT19970815,      AR07E,     539,          1,     203832,         16,         16,2,19970831,       0000,    54.0667,   -26.2300,       3440,  1100.5,   3.7837,  34.9135,2,  34.9137,2,   272.7,2,   10.86,2,   17.77,2,    0.01,2,    1.16,2,   2.797,2,   1.327,3,  2155.6,2,   3.7007
06MT19970815,      AR07E,     539,          1,     203831,         15,         15,2,19970831,       0000,    54.0667,   -26.2300,       3440,  1297.1,   3.5205,  34.8955,2,  34.8951,2,   278.5,2,   10.76,2,   17.49,2,    0.01,2,    1.15,2,   2.846,2,   1.344,3,  2152.6,2,   3.4234
06MT19970815,      AR07E,     539,          1,     203830,         14,         14,2,19970831,       0000,    54.0667,   -26.2300,       3440,  1488.9,   3.3718,  34.8871,2,  34.8866,2,   283.7,2,   10.84,2,   17.39,2,    0.01,2,    1.14,2,   2.864,2,   1.263,3,  2150.9,2,   3.2599
06MT19970815,      AR07E,     539,          1,     203829,         13,         13,2,19970831,       0000,    54.0667,   -26.2300,       3440,  1502.8,   3.3650,  34.8870,2,  34.8862,2,   283.7,2,   10.77,2,   17.29,2,    0.01,2,    1.13,2,   2.836,2,   1.262,3,  2151.9,2,   3.2519
06MT19970815,      AR07E,     539,          1,     203828,         12,         12,2,19970831,       0000,    54.0667,   -26.2300,       3440,  1601.8,   3.3211,  34.8865,2,  34.8863,2,   283.0,2,   10.95,2,   17.26,2,    0.01,2,    1.14,2,   2.671,2,   1.178,3,  2150.2,2,   3.1999
06MT19970815,      AR07E,     539,          1,     203827,         11,         11,2,19970831,       0000,    54.0667,   -26.2300,       3440,  1700.5,   3.2732,  34.8857,2,  34.8853,2,   284.2,2,   10.98,2,   17.11,2,    0.01,2,    1.13,2,   2.675,2,   1.240,3,  2149.9,2,   3.1439
06MT19970815,      AR07E,     539,          1,     203826,         10,         10,2,19970831,       0000,    54.0667,   -26.2300,       3440,  1801.3,   3.2321,  34.8851,2,  34.8847,2,   285.1,2,   10.98,2,   17.07,2,    0.02,2,    1.13,2,   2.777,2,   1.228,3,  2150.2,2,   3.0944
06MT19970815,      AR07E,     539,          1,     203825,          9,          9,2,19970831,       0000,    54.0667,   -26.2300,       3440,  2001.0,   3.2058,  34.8946,2,  34.8944,2,   284.0,2,   11.44,2,   17.00,2,    0.02,2,    1.13,2,   2.495,2,   1.096,3,  2150.2,2,   3.0502
06MT19970815,      AR07E,     539,          1,     203824,          8,          8,2,19970831,       0000,    54.0667,   -26.2300,       3440,  2201.2,   3.2812,  34.9271,2,  34.9271,2,   278.6,2,   12.02,2,   16.81,2,    0.02,2,    1.12,2,   1.945,2,   0.857,3,  2152.7,2,   3.1054
06MT19970815,      AR07E,     539,          1,     203823,          7,          7,2,19970831,       0000,    54.0667,   -26.2300,       3440,  2386.1,   3.1975,  34.9328,2,  34.9335,2,   276.0,2,   13.23,2,   16.90,2,    0.01,2,    1.13,2,   1.708,2,   0.736,3,  2153.8,2,   3.0052
06MT19970815,      AR07E,     539,          1,     203822,          6,          6,2,19970831,       0000,    54.0667,   -26.2300,       3440,  2601.1,   3.1066,  34.9447,2,  34.9453,2,   275.2,2,   14.24,2,   16.88,2,    0.02,2,    1.13,2,   1.582,2,   0.690,3,  2155.9,2,   2.8946
06MT19970815,      AR07E,     539,          1,     203821,          5,          5,2,19970831,       0000,    54.0667,   -26.2300,       3440,  2802.6,   3.0024,  34.9522,2,  34.9529,2,   274.5,2,   15.89,2,   17.01,2,    0.02,2,    1.13,2,   1.548,2,   0.662,3,  2159.1,2,   2.7720
06MT19970815,      AR07E,     539,          1,     203820,          4,          4,2,19970831,       0000,    54.0667,   -26.2300,       3440,  3003.9,   2.8704,  34.9542,2,  34.9543,2,   272.3,2,   18.91,2,   17.37,2,    0.01,2,    1.17,2,   1.463,2,   0.631,3,  2162.9,2,   2.6219
06MT19970815,      AR07E,     539,          1,     203819,          3,          3,2,19970831,       0000,    54.0667,   -26.2300,       3440,  3201.6,   2.7692,  34.9479,2,  34.9484,2,   268.8,2,   23.14,2,   18.17,2,    0.01,2,    1.22,2,   1.274,2,   0.541,3,  2169.8,2,   2.5022
06MT19970815,      AR07E,     539,          1,     203818,          2,          2,2,19970831,       0000,    54.0667,   -26.2300,       3440,  3303.0,   2.7478,  34.9485,2,  34.9484,2,   270.2,2,   23.31,2,   18.11,2,    0.01,2,    1.22,2,   1.346,2,   0.587,3,  2172.1,2,   2.4704
06MT19970815,      AR07E,     539,          1,     203817,          1,          1,2,19970831,       0000,    54.0667,   -26.2300,       3440,  3435.4,   2.7373,  34.9497,2,  34.9512,2,   273.0,2,   22.39,2,   17.81,2,    0.02,2,    1.20,2,   1.551,2,   0.682,3,  2170.8,2,   2.4458
06MT19970815,      AR07E,     540,          1,     203860,         22,         22,2,19970831,       0000,    53.5517,   -26.9483,       2667,    14.4,  15.0163,  35.2357,2,  35.2426,2,   248.8,2,    1.09,2,    0.51,2,    0.09,2,    0.14,2,   3.017,2,   1.616,4,  2050.5,2,  15.0141
06MT19970815,      AR07E,     540,          1,     203859,         21,         21,2,19970831,       0000,    53.5517,   -26.9483,       2667,    52.2,  14.1704,  35.2828,2,  35.2615,2,   247.9,2,    1.22,2,    1.15,2,    0.17,2,    0.19,2,-999.000,9,-999.000,9,  -999.0,9,  14.1628
06MT19970815,      AR07E,     540,          1,     203858,         20,         20,3,19970831,       0000,    53.5517,   -26.9483,       2667,   100.1,  11.0392,  35.3050,2,  35.3121,2,  -999.0,9,    5.00,2,   11.58,2,    0.04,2,    0.76,2,-999.000,9,-999.000,9,  -999.0,9,  11.0268
06MT19970815,      AR07E,     540,          1,     203857,         19,         19,2,19970831,       0000,    53.5517,   -26.9483,       2667,   201.6,   9.8366,  35.2603,2,  35.2718,2,   224.9,2,    7.02,2,   14.27,2,    0.02,2,    0.93,2,   2.987,2,   1.520,3,  -999.0,9,   9.8134
06MT19970815,      AR07E,     540,          1,     203856,         18,         18,2,19970831,       0000,    53.5517,   -26.9483,       2667,   299.8,   8.3993,  35.0863,2,  35.0986,2,   222.7,2,    8.86,2,   16.74,2,    0.02,2,    1.09,2,   2.849,2,   1.440,4,  -999.0,9,   8.3678
06MT19970815,      AR07E,     540,          1,     203855,         17,         17,2,19970831,       0000,    53.5517,   -26.9483,       2667,   502.3,   6.1782,  34.9341,2,  34.9394,2,   221.9,2,   11.13,2,   19.02,2,    0.02,2,    1.25,2,   2.610,2,   1.265,3,  -999.0,9,   6.1333
06MT19970815,      AR07E,     540,          1,     203854,         16,         16,2,19970831,       0000,    53.5517,   -26.9483,       2667,   698.4,   4.7753,  34.9397,2,  34.9512,2,   242.8,2,   11.30,2,   18.68,2,    0.02,2,    1.22,2,   2.637,2,   1.256,4,  -999.0,9,   4.7193
06MT19970815,      AR07E,     540,          1,     203853,         15,         15,3,19970831,       0000,    53.5517,   -26.9483,       2667,   898.5,   4.1747,  34.9246,2,  34.9361,2,   260.2,2,   11.08,2,   18.05,2,    0.02,2,    1.19,2,   2.712,2,   1.290,3,  -999.0,9,   4.1055
06MT19970815,      AR07E,     540,          1,     203852,         14,         14,2,19970831,       0000,    53.5517,   -26.9483,       2667,  1099.4,   3.7909,  34.8986,2,  34.9110,2,   270.5,2,   10.79,2,   17.65,2,    0.04,2,    1.17,2,   2.827,2,   1.326,4,  -999.0,9,   3.7079
06MT19970815,      AR07E,     540,          1,     203851,         13,         13,3,19970831,       0000,    53.5517,   -26.9483,       2667,  1299.1,   3.5124,  34.8815,2,  34.8933,2,   278.7,2,   10.72,2,   17.29,2,    0.03,2,    1.14,2,   2.946,2,   1.388,3,  -999.0,9,   3.4152
06MT19970815,      AR07E,     540,          1,     203850,         12,         12,2,19970831,       0000,    53.5517,   -26.9483,       2667,  1399.6,   3.3825,  34.8716,2,  34.8844,2,   282.7,2,   10.68,2,   17.17,2,    0.02,2,    1.14,2,   2.951,2,   1.390,4,  -999.0,9,   3.2781
06MT19970815,      AR07E,     540,          1,     203849,         11,         11,2,19970831,       0000,    53.5517,   -26.9483,       2667,  1500.9,   3.3273,  34.8708,2,  34.8832,2,   283.2,2,   10.77,2,   17.08,2,    0.03,2,    1.13,2,   2.914,2,   1.364,3,  -999.0,9,   3.2149
06MT19970815,      AR07E,     540,          1,     203848,         10,         10,2,19970831,       0000,    53.5517,   -26.9483,       2667,  1598.8,   3.2822,  34.8683,2,  34.8818,2,   283.9,2,   10.69,2,   17.11,2,    0.02,2,    1.14,2,   2.927,2,   1.360,4,  -999.0,9,   3.1618
06MT19970815,      AR07E,     540,          1,     203847,          9,          9,2,19970831,       0000,    53.5517,   -26.9483,       2667,  1698.9,   3.2369,  34.8657,2,  34.8784,2,   285.9,2,   10.78,2,   17.09,2,    0.03,2,    1.13,2,   3.030,2,   1.403,3,  -999.0,9,   3.1083
06MT19970815,      AR07E,     540,          1,     203846,          8,          8,2,19970831,       0000,    53.5517,   -26.9483,       2667,  1800.3,   3.2145,  34.8669,2,  34.8795,2,   286.6,2,   10.78,2,   17.05,2,    0.01,2,    1.13,2,   2.980,2,   1.394,4,  -999.0,9,   3.0771
06MT19970815,      AR07E,     540,          1,     203845,          7,          7,3,19970831,       0000,    53.5517,   -26.9483,       2667,  1899.7,   3.1970,  34.8718,2,  34.8851,2,   284.7,2,   10.94,2,   16.98,2,    0.03,2,    1.13,2,   2.914,2,   1.288,3,  -999.0,9,   3.0509
06MT19970815,      AR07E,     540,          1,     203844,          6,          6,2,19970831,       0000,    53.5517,   -26.9483,       2667,  2099.4,   3.1618,  34.8893,2,  34.9010,2,   282.4,2,   11.89,2,   16.92,2,    0.03,2,    1.12,2,   2.420,2,   1.089,4,  -999.0,9,   2.9977
06MT19970815,      AR07E,     540,          1,     203843,          5,          5,2,19970831,       0000,    53.5517,   -26.9483,       2667,  2198.4,   3.1608,  34.8963,2,  34.9080,2,   279.3,2,   12.26,2,   16.95,2,    0.02,2,    1.12,2,-999.000,9,-999.000,9,  -999.0,9,   2.9873
06MT19970815,      AR07E,     540,          1,     203842,          4,          4,2,19970831,       0000,    53.5517,   -26.9483,       2667,  2300.7,   3.1596,  34.9057,2,  34.9165,2,   278.3,2,   12.71,2,   16.98,2,    0.02,2,    1.12,2,   2.044,2,   0.924,3,  -999.0,9,   2.9763
06MT19970815,      AR07E,     540,          1,     203841,          3,          3,2,19970831,       0000,    53.5517,   -26.9483,       2667,  2497.6,   3.1350,  34.9266,2,  34.9395,2,   276.2,2,   12.89,2,   16.76,2,    0.02,2,    1.11,2,   1.856,2,   0.840,4,  -999.0,9,   2.9328
06MT19970815,      AR07E,     540,          1,     203840,          2,          2,2,19970831,       0000,    53.5517,   -26.9483,       2667,  2601.8,   3.0527,  34.9348,2,  34.9463,2,   272.4,2,   15.05,2,   17.11,2,    0.02,2,    1.13,2,   1.522,2,   0.681,3,  -999.0,9,   2.8416
06MT19970815,      AR07E,     540,          1,     203839,          1,          1,2,19970831,       0000,    53.5517,   -26.9483,       2667,  2671.2,   3.0350,  34.9355,2,  34.9479,2,   270.2,2,   15.91,2,   17.12,2,    0.03,2,    1.14,2,   1.464,2,   0.649,4,  -999.0,9,   2.8173
06MT19970815,      AR07E,     541,          1,     203881,         21,         21,2,19970901,       0000,    53.0317,   -27.6633,       3633,     7.5,  14.2199,  34.9894,2,  34.9827,2,   254.7,2,    1.09,2,    0.54,2,    0.13,2,    0.15,2,   3.199,2,   1.673,3,  2046.5,2,  14.2188
06MT19970815,      AR07E,     541,          1,     203880,         20,         20,2,19970901,       0000,    53.0317,   -27.6633,       3633,   100.5,   9.3526,  35.1103,2,  35.1050,2,  -999.0,9,    6.56,2,   13.61,2,    0.05,2,    0.90,2,   3.382,2,   1.695,3,  -999.0,9,   9.3415
06MT19970815,      AR07E,     541,          1,     203879,         19,         19,2,19970901,       0000,    53.0317,   -27.6633,       3633,   201.4,   7.8291,  35.0319,2,  35.0327,2,   238.3,2,    8.60,2,   16.34,2,    0.03,2,    1.05,2,   3.301,2,   1.658,3,  2145.6,2,   7.8089
06MT19970815,      AR07E,     541,          1,     203878,         18,         18,2,19970901,       0000,    53.0317,   -27.6633,       3633,   401.4,   5.4553,  34.8863,2,  34.8863,2,   235.5,2,   10.91,2,   18.71,2,    0.03,2,    1.24,2,   3.024,2,   1.469,3,  -999.0,9,   5.4219
06MT19970815,      AR07E,     541,          1,     203877,         17,         17,2,19970901,       0000,    53.0317,   -27.6633,       3633,   600.8,   4.7059,  34.9490,2,  34.9445,2,  -999.0,9,   11.28,2,   18.88,2,    0.02,2,    1.22,2,   2.698,2,   1.283,3,  -999.0,9,   4.6585
06MT19970815,      AR07E,     541,          1,     203876,         16,         16,4,19970901,       0000,    53.0317,   -27.6633,       3633,   801.2,   4.1802,  34.9373,2,-999.0000,9,  -999.0,9, -999.00,9, -999.00,9, -999.00,9, -999.00,9,-999.000,9,-999.000,9,  -999.0,9,   4.1191
06MT19970815,      AR07E,     541,          1,     203875,         15,         15,2,19970901,       0000,    53.0317,   -27.6633,       3633,  1000.0,   3.7451,  34.9103,2,  34.8969,0,   273.6,2,   10.84,2,   17.86,2,    0.02,2,    1.16,2,   2.927,2,   1.376,3,  2160.4,2,   3.6707
06MT19970815,      AR07E,     541,          1,     203874,         14,         14,2,19970901,       0000,    53.0317,   -27.6633,       3633,  1100.6,   3.6208,  34.9016,2,  34.9018,2,   276.3,2,   10.78,2,   17.68,2,    0.02,2,    1.16,2,   2.956,2,   1.382,3,  -999.0,9,   3.5392
06MT19970815,      AR07E,     541,          1,     203873,         13,         13,2,19970901,       0000,    53.0317,   -27.6633,       3633,  1302.1,   3.3944,  34.8868,2,  34.8757,0,   282.0,2,   10.70,2,   17.43,2,    0.01,2,    1.14,2,   3.023,2,   1.421,3,  2154.3,2,   3.2981
06MT19970815,      AR07E,     541,          1,     203872,         12,         12,2,19970901,       0000,    53.0317,   -27.6633,       3633,  1501.1,   3.2584,  34.8782,2,  34.8798,0,   286.2,2,   10.65,2,   17.25,2,    0.02,2,    1.13,2,   3.116,2,   1.456,3,  2153.2,2,   3.1467
06MT19970815,      AR07E,     541,          1,     203871,         11,         11,2,19970901,       0000,    53.0317,   -27.6633,       3633,  1600.6,   3.2246,  34.8783,2,  34.8796,0,   286.8,2,   10.66,2,   17.20,2,    0.02,2,    1.12,2,   3.116,2,   1.455,3,  2152.9,2,   3.1047
06MT19970815,      AR07E,     541,          1,     203870,         10,         10,2,19970901,       0000,    53.0317,   -27.6633,       3633,  1700.9,   3.2021,  34.8809,2,  34.8839,0,   286.5,2,   10.58,2,   17.04,2,    0.02,2,    1.12,2,   3.104,2,   1.459,3,  2152.2,2,   3.0737
06MT19970815,      AR07E,     541,          1,     203869,          9,          9,2,19970901,       0000,    53.0317,   -27.6633,       3633,  1800.3,   3.1343,  34.8771,2,  34.8782,0,   288.1,2,   10.79,2,   17.02,2,    0.01,2,    1.12,2,   3.183,2,   1.490,3,  2151.7,2,   2.9980
06MT19970815,      AR07E,     541,          1,     203868,          8,          8,2,19970901,       0000,    53.0317,   -27.6633,       3633,  2001.3,   3.1863,  34.9016,2,  34.9016,2,   283.4,2,   11.29,2,   16.90,2,    0.02,2,    1.11,2,   2.574,2,   1.220,3,  2153.3,2,   3.0309
06MT19970815,      AR07E,     541,          1,     203867,          7,          7,2,19970901,       0000,    53.0317,   -27.6633,       3633,  2200.2,   3.2026,  34.9230,2,  34.9232,2,   278.8,2,   11.98,2,   16.82,2,    0.03,2,    1.11,2,   2.199,2,   1.060,3,  2154.1,2,   3.0282
06MT19970815,      AR07E,     541,          1,     203866,          6,          6,2,19970901,       0000,    53.0317,   -27.6633,       3633,  2400.8,   3.1496,  34.9361,2,  34.9353,2,   276.2,2,   12.76,2,   16.72,2,    0.02,2,    1.11,2,   1.898,2,   0.937,3,  2156.0,2,   2.9567
06MT19970815,      AR07E,     541,          1,     203865,          5,          5,2,19970901,       0000,    53.0317,   -27.6633,       3633,  2600.5,   3.0569,  34.9404,2,  34.9395,2,   274.0,2,   14.61,2,   16.73,2,    0.06,2,    1.11,2,   1.665,2,   0.812,3,  2158.1,2,   2.8459
06MT19970815,      AR07E,     541,          1,     203864,          4,          4,2,19970901,       0000,    53.0317,   -27.6633,       3633,  2800.4,   2.9868,  34.9471,2,  34.9474,2,   271.3,2,   15.97,2,   17.06,2,    0.02,2,    1.14,2,   1.567,2,   0.703,3,  2161.0,2,   2.7569
06MT19970815,      AR07E,     541,          1,     203863,          3,          3,2,19970901,       0000,    53.0317,   -27.6633,       3633,  3001.2,   2.9203,  34.9526,2,  34.9530,2,   270.5,2,   17.55,2,   17.30,2,    0.03,2,    1.15,2,   1.501,2,   0.649,3,  2163.1,2,   2.6710
06MT19970815,      AR07E,     541,          1,     203862,          2,          2,3,19970901,       0000,    53.0317,   -27.6633,       3633,  3401.9,   2.7845,  34.9449,2,  34.9455,2,   261.9,2,   24.05,2,   18.53,2,    0.02,2,    1.24,2,   1.194,2,   0.497,3,  2172.5,2,   2.4956
06MT19970815,      AR07E,     541,          1,     203861,          1,          1,2,19970901,       0000,    53.0317,   -27.6633,       3633,  3571.4,   2.7218,  34.9400,2,  34.9401,2,   258.2,2,   27.84,2,   19.06,2,    0.05,2,    1.27,2,   1.105,2,   0.454,3,  2180.2,2,   2.4158