BOTTLE,20220204CCHSIOENA
EXPOCODE,SECT_ID,STNNBR,CASTNO,BIONBR,SAMPNO,BTLNBR,BTLNBR_FLAG_W,DATE,TIME,LATITUDE,LONGITUDE,DEPTH,CTDPRS,CTDTMP,CTDSAL,CTDSAL_FLAG_W,SALNTY,SALNTY_FLAG_W,OXYGEN,OXYGEN_FLAG_W,SILCAT,SILCAT_FLAG_W,NITRAT,NITRAT_FLAG_W,NITRIT,NITRIT_FLAG_W,PHSPHT,PHSPHT_FLAG_W,CFC-11,CFC-11_FLAG_W,CFC-12,CFC-12_FLAG_W,TCARBN,TCARBN_FLAG_W,THETA
,,,,,,,,,,,,METERS,DBAR,ITS-90,PSS-78,,PSS-78,,UMOL/KG,,UMOL/KG,,UMOL/KG,,UMOL/KG,,UMOL/KG,,PMOL/KG,,PMOL/KG,,UMOL/KG,,DEG C
06MT19970815,      AR07E,     528,          1,     203572,         20,         20,2,19970829,       0000,    57.6333,   -28.6150,       2478,    11.4,  12.4987,  35.1446,2,  35.1425,2,   260.9,2,    0.46,2,    1.99,2,    0.20,2,    0.23,2,   3.302,2,   1.850,3,  2064.2,2,  12.4972
06MT19970815,      AR07E,     528,          1,     203571,         19,         19,2,19970829,       0000,    57.6333,   -28.6150,       2478,    49.5,  10.2556,  35.2566,2,  35.2558,2,   250.8,2,    3.25,2,   10.81,2,    0.07,2,    0.71,2,-999.000,9,-999.000,9,  2118.2,2,  10.2498
06MT19970815,      AR07E,     528,          1,     203570,         18,         18,2,19970829,       0000,    57.6333,   -28.6150,       2478,   102.2,   9.1991,  35.2290,2,  35.2294,2,   258.1,2,    6.13,2,   13.06,2,    0.05,2,    0.85,2,-999.000,9,-999.000,9,  2130.4,2,   9.1879
06MT19970815,      AR07E,     528,          1,     203569,         17,         17,2,19970829,       0000,    57.6333,   -28.6150,       2478,   151.3,   9.0730,  35.2368,2,  35.2381,2,  -999.0,9,    6.09,2,   13.19,2,    0.03,2,    0.86,2,-999.000,9,-999.000,9,  2129.8,2,   9.0565
06MT19970815,      AR07E,     528,          1,     203568,         16,         16,2,19970829,       0000,    57.6333,   -28.6150,       2478,   200.6,   8.5725,  35.1814,2,  35.1812,2,   256.7,2,    6.65,2,   13.96,2,    0.02,2,    0.91,2,-999.000,9,-999.000,9,  2134.3,2,   8.5513
06MT19970815,      AR07E,     528,          1,     203567,         15,         15,2,19970829,       0000,    57.6333,   -28.6150,       2478,   251.7,   8.2285,  35.1502,2,  35.1414,2,   260.7,2,    6.83,2,   14.13,2,    0.03,2,    0.93,2,-999.000,9,-999.000,9,  2135.1,2,   8.2024
06MT19970815,      AR07E,     528,          1,     203566,         14,         14,2,19970829,       0000,    57.6333,   -28.6150,       2478,   301.0,   7.9095,  35.1069,2,  35.1079,2,   271.0,2,    6.66,2,   13.74,2,    0.04,2,    0.90,2,   3.778,2,   2.036,3,  2132.0,2,   7.8790
06MT19970815,      AR07E,     528,          1,     203565,         13,         13,2,19970829,       0000,    57.6333,   -28.6150,       2478,   401.6,   7.5796,  35.0649,2,  35.0620,2,   267.4,2,    7.19,2,   14.37,2,    0.02,2,    0.95,2,-999.000,9,-999.000,9,  2134.2,2,   7.5396
06MT19970815,      AR07E,     528,          1,     203564,         12,         12,2,19970829,       0000,    57.6333,   -28.6150,       2478,   601.8,   6.9164,  35.0616,2,  35.0592,2,   249.8,2,    8.72,2,   16.35,2,    0.02,2,    1.07,2,   3.296,2,   1.752,3,  2147.8,2,   6.8587
06MT19970815,      AR07E,     528,          1,     203563,         11,         11,2,19970829,       0000,    57.6333,   -28.6150,       2478,   802.7,   5.5337,  35.0075,2,  35.0053,2,   233.4,2,   11.02,2,   18.60,2,    0.02,2,    1.20,2,   2.579,2,   1.281,3,  2162.7,2,   5.4640
06MT19970815,      AR07E,     528,          1,     203562,         10,         10,2,19970829,       0000,    57.6333,   -28.6150,       2478,  1001.2,   4.4561,  34.9525,2,  34.9535,2,   251.6,2,   11.14,2,   18.36,2,    0.02,2,    1.19,2,   2.537,2,   1.241,3,  2159.5,2,   4.3761
06MT19970815,      AR07E,     528,          1,     203561,          9,          9,2,19970829,       0000,    57.6333,   -28.6150,       2478,  1200.6,   3.9268,  34.9209,2,  34.9211,2,   265.1,2,   11.10,2,   17.87,2,    0.03,2,    1.16,2,   2.507,2,   1.219,3,  2155.7,2,   3.8340
06MT19970815,      AR07E,     528,          1,     203560,          8,          8,2,19970829,       0000,    57.6333,   -28.6150,       2478,  1399.9,   3.5985,  34.8998,2,  34.8991,2,   274.8,2,   10.79,2,   17.44,2,    0.02,2,    1.14,2,   2.587,2,   1.252,3,  2152.0,2,   3.4918
06MT19970815,      AR07E,     528,          1,     203559,          7,          7,2,19970829,       0000,    57.6333,   -28.6150,       2478,  1500.6,   3.4820,  34.8931,2,  34.8922,2,   278.1,2,   10.78,2,   17.35,2,    0.01,2,    1.14,2,   2.581,2,   1.250,3,  2150.8,2,   3.3678
06MT19970815,      AR07E,     528,          1,     203558,          6,          6,2,19970829,       0000,    57.6333,   -28.6150,       2478,  1600.4,   3.4283,  34.8956,2,  34.8949,2,   279.7,2,   10.72,2,   17.06,2,    0.03,2,    1.12,2,   2.531,2,   1.232,3,  2149.2,2,   3.3059
06MT19970815,      AR07E,     528,          1,     203557,          5,          5,2,19970829,       0000,    57.6333,   -28.6150,       2478,  1801.1,   3.3425,  34.9057,2,  34.9045,2,   279.1,2,   11.04,2,   16.95,2,    0.02,2,    1.11,2,   2.390,2,   1.148,3,  2149.6,2,   3.2032
06MT19970815,      AR07E,     528,          1,     203556,          4,          4,2,19970829,       0000,    57.6333,   -28.6150,       2478,  2000.7,   3.2889,  34.9300,2,  34.9294,2,   276.1,2,   11.95,2,   16.75,2,    0.02,2,    1.10,2,   1.959,2,   0.961,3,  2151.5,2,   3.1320
06MT19970815,      AR07E,     528,          1,     203555,          3,          3,2,19970829,       0000,    57.6333,   -28.6150,       2478,  2202.0,   3.1692,  34.9668,2,  34.9668,2,   275.5,2,   11.60,2,   16.06,2,    0.02,2,    1.06,2,   2.291,2,   1.112,3,  2154.3,2,   2.9950
06MT19970815,      AR07E,     528,          1,     203554,          2,          2,2,19970829,       0000,    57.6333,   -28.6150,       2478,  2351.4,   2.9824,  34.9710,2,  34.9714,2,   276.2,2,   11.63,2,   15.83,2,    0.02,2,    1.05,2,   2.434,2,   1.196,3,  2154.6,2,   2.7971
06MT19970815,      AR07E,     528,          1,     203553,          1,          1,2,19970829,       0000,    57.6333,   -28.6150,       2478,  2471.6,   2.8408,  34.9691,2,  34.9697,2,   275.0,2,   12.73,2,   15.92,2,    0.02,2,    1.07,2,-999.000,9,-999.000,9,  2156.9,2,   2.6464
06MT19970815,      AR07E,     529,          1,     203595,         21,         21,2,19970829,       0000,    57.3817,   -28.1817,       2615,    11.5,  12.2830,  35.1312,2,  35.1281,2,  -999.0,9,    0.86,2,    2.84,2,    0.18,2,    0.29,2,-999.000,9,-999.000,9,  2064.6,2,  12.2815
06MT19970815,      AR07E,     529,          1,     203594,         20,         20,2,19970829,       0000,    57.3817,   -28.1817,       2615,    49.9,  10.7190,  35.3334,2,  35.3281,2,  -999.0,9,    4.05,2,   11.20,2,    0.06,2,    0.73,2,-999.000,9,-999.000,9,  -999.0,9,  10.7130
06MT19970815,      AR07E,     529,          1,     203593,         19,         19,2,19970829,       0000,    57.3817,   -28.1817,       2615,    99.7,   9.7882,  35.2810,2,  35.2793,2,  -999.0,9,    5.46,2,   12.69,2,    0.03,2,    0.83,2,-999.000,9,-999.000,9,  -999.0,9,   9.7768
06MT19970815,      AR07E,     529,          1,     203592,         18,         18,2,19970829,       0000,    57.3817,   -28.1817,       2615,   200.0,   8.9040,  35.1990,2,  35.2005,2,  -999.0,9,    6.36,2,   13.53,2,    0.02,2,    0.89,2,-999.000,9,-999.000,9,  -999.0,9,   8.8823
06MT19970815,      AR07E,     529,          1,     203591,         17,         17,2,19970829,       0000,    57.3817,   -28.1817,       2615,   301.0,   8.5283,  35.1920,2,  35.1930,2,   302.3,4,    6.92,2,   14.31,2,    0.02,2,    0.94,2,-999.000,9,-999.000,9,  -999.0,9,   8.4963
06MT19970815,      AR07E,     529,          1,     203590,         16,         16,2,19970829,       0000,    57.3817,   -28.1817,       2615,   400.9,   7.5775,  35.0757,2,  35.0792,2,   253.5,2,    7.95,2,   15.43,2,    0.01,2,    1.02,2,-999.000,9,-999.000,9,  -999.0,9,   7.5376
06MT19970815,      AR07E,     529,          1,     203589,         15,         15,2,19970829,       0000,    57.3817,   -28.1817,       2615,   501.3,   7.3253,  35.1091,2,  35.1091,2,   261.1,2,    7.74,2,   15.26,2,    0.01,2,    1.00,2,-999.000,9,-999.000,9,  -999.0,9,   7.2760
06MT19970815,      AR07E,     529,          1,     203588,         14,         14,2,19970829,       0000,    57.3817,   -28.1817,       2615,   600.4,   6.8836,  35.0868,2,  35.0858,2,   254.6,2,    8.36,2,   15.90,2,    0.02,2,    1.06,2,-999.000,9,-999.000,9,  -999.0,9,   6.8262
06MT19970815,      AR07E,     529,          1,     203587,         13,         13,2,19970829,       0000,    57.3817,   -28.1817,       2615,   701.0,   6.0348,  35.0336,2,  35.0320,2,   226.8,2,   11.04,2,   18.64,2,    0.01,2,    1.22,2,   2.542,2,   1.251,3,  -999.0,9,   5.9718
06MT19970815,      AR07E,     529,          1,     203586,         12,         12,2,19970829,       0000,    57.3817,   -28.1817,       2615,   800.0,   5.4313,  35.0067,2,  35.0079,2,   233.8,2,   11.14,2,   18.58,2,    0.02,2,    1.22,2,-999.000,9,-999.000,9,  -999.0,9,   5.3625
06MT19970815,      AR07E,     529,          1,     203585,         11,         11,2,19970829,       0000,    57.3817,   -28.1817,       2615,  1000.7,   4.4832,  34.9640,2,  34.9653,2,   255.6,2,   10.79,2,   17.78,2,    0.01,2,    1.16,2,-999.000,9,-999.000,9,  -999.0,9,   4.4030
06MT19970815,      AR07E,     529,          1,     203584,         10,         10,2,19970829,       0000,    57.3817,   -28.1817,       2615,  1200.6,   3.8707,  34.9166,2,  34.9173,2,   266.5,2,   10.97,2,   17.77,2,    0.02,2,    1.17,2,-999.000,9,-999.000,9,  -999.0,9,   3.7784
06MT19970815,      AR07E,     529,          1,     203583,          9,          9,2,19970829,       0000,    57.3817,   -28.1817,       2615,  1398.3,   3.5477,  34.8978,2,  34.8971,2,   277.1,2,   10.75,2,   17.33,2,    0.01,2,    1.14,2,-999.000,9,-999.000,9,  -999.0,9,   3.4416
06MT19970815,      AR07E,     529,          1,     203582,          8,          8,2,19970829,       0000,    57.3817,   -28.1817,       2615,  1499.4,   3.4617,  34.8926,2,  34.8923,2,   278.5,2,   10.76,2,   17.21,2,    0.02,2,    1.14,2,   2.627,2,   1.248,3,  -999.0,9,   3.3478
06MT19970815,      AR07E,     529,          1,     203581,          7,          7,2,19970829,       0000,    57.3817,   -28.1817,       2615,  1601.2,   3.3863,  34.8911,2,  34.8908,2,   281.3,2,   10.74,2,   17.08,2,    0.02,2,    1.13,2,   2.665,2,   1.264,3,  -999.0,9,   3.2644
06MT19970815,      AR07E,     529,          1,     203580,          6,          6,2,19970829,       0000,    57.3817,   -28.1817,       2615,  1701.8,   3.3322,  34.8932,2,  34.8926,2,   281.2,2,   10.93,2,   16.94,2,    0.02,2,    1.12,2,   2.668,2,   1.250,3,  -999.0,9,   3.2020
06MT19970815,      AR07E,     529,          1,     203579,          5,          5,2,19970829,       0000,    57.3817,   -28.1817,       2615,  1800.1,   3.2955,  34.8981,2,  34.8978,2,   282.8,2,   11.03,2,   16.89,2,    0.02,2,    1.12,2,   2.592,2,   1.199,3,  -999.0,9,   3.1570
06MT19970815,      AR07E,     529,          1,     203578,          4,          4,2,19970829,       0000,    57.3817,   -28.1817,       2615,  2002.2,   3.2969,  34.9299,2,  34.9293,2,   276.0,2,   11.86,2,   16.69,2,    0.01,2,    1.11,2,   2.197,2,   0.984,3,  -999.0,9,   3.1397
06MT19970815,      AR07E,     529,          1,     203577,          3,          3,2,19970829,       0000,    57.3817,   -28.1817,       2615,  2401.1,   2.9236,  34.9629,2,  34.9635,2,   273.0,2,   14.26,2,   16.43,2,    0.02,2,    1.10,2,   2.153,2,   0.968,3,  -999.0,9,   2.7345
06MT19970815,      AR07E,     529,          1,     203576,          2,          2,2,19970829,       0000,    57.3817,   -28.1817,       2615,  2502.9,   2.8103,  34.9639,2,  34.9640,2,   274.0,2,   14.53,2,   16.35,2,    0.01,2,    1.09,2,   2.273,2,   1.016,3,  -999.0,9,   2.6134
06MT19970815,      AR07E,     529,          1,     203575,          1,          1,2,19970829,       0000,    57.3817,   -28.1817,       2615,  2619.8,   2.6942,  34.9646,2,  34.9647,2,   274.9,2,   14.43,2,   16.06,2,    0.03,2,    1.09,2,   2.403,2,   1.095,3,  -999.0,9,   2.4881
06MT19970815,      AR07E,     530,          1,     203616,         20,         20,2,19970829,       0000,    56.9833,   -27.8633,       2804,    11.7,  12.5262,  35.1942,2,  35.1978,2,  -999.0,9,    0.26,2,    2.25,2, -999.00,9,    0.23,2,-999.000,9,-999.000,9,  2062.4,2,  12.5246
06MT19970815,      AR07E,     530,          1,     203615,         19,         19,2,19970829,       0000,    56.9833,   -27.8633,       2804,    50.8,  10.5000,  35.2935,2,  35.2980,2,  -999.0,9,    3.46,2,   10.87,2,    0.05,2,    0.72,2,-999.000,9,-999.000,9,  -999.0,9,  10.4939
06MT19970815,      AR07E,     530,          1,     203614,         18,         18,2,19970829,       0000,    56.9833,   -27.8633,       2804,   100.0,   9.7106,  35.2697,2,  35.2768,2,   252.3,2,    5.59,2,   12.74,2,    0.02,2,    0.83,2,-999.000,9,-999.000,9,  -999.0,9,   9.6992
06MT19970815,      AR07E,     530,          1,     203613,         17,         17,2,19970829,       0000,    56.9833,   -27.8633,       2804,   200.0,   9.0566,  35.2117,2,  35.2171,2,  -999.0,9,    6.32,2,   13.44,2,    0.02,2,    0.88,2,-999.000,9,-999.000,9,  -999.0,9,   9.0347
06MT19970815,      AR07E,     530,          1,     203612,         16,         16,2,19970829,       0000,    56.9833,   -27.8633,       2804,   303.0,   8.5121,  35.1713,2,  35.1808,0,   254.2,2,    6.79,2,   14.11,2,    0.03,2,    0.92,2,   3.555,2,   1.880,3,  -999.0,9,   8.4800
06MT19970815,      AR07E,     530,          1,     203611,         15,         15,2,19970829,       0000,    56.9833,   -27.8633,       2804,   497.2,   7.2438,  35.0599,2,  35.0611,2,   240.4,2,    9.01,2,   16.72,2,    0.02,2,    1.10,2,   3.206,2,   1.652,3,  -999.0,9,   7.1952
06MT19970815,      AR07E,     530,          1,     203610,         14,         14,2,19970829,       0000,    56.9833,   -27.8633,       2804,   701.5,   5.9207,  34.9974,2,  35.0056,0,   228.7,2,   10.85,2,   18.62,2,    0.02,2,    1.22,2,   2.727,2,   1.354,3,  -999.0,9,   5.8583
06MT19970815,      AR07E,     530,          1,     203609,         13,         13,2,19970829,       0000,    56.9833,   -27.8633,       2804,   899.9,   4.8408,  34.9622,2,  34.9712,0,   241.7,2,   11.39,2,   18.72,2,    0.02,2,    1.22,2,   2.554,2,   1.232,3,  -999.0,9,   4.7669
06MT19970815,      AR07E,     530,          1,     203608,         12,         12,2,19970829,       0000,    56.9833,   -27.8633,       2804,  1100.1,   4.1512,  34.9241,2,  34.9359,0,   259.4,2,   11.14,2,   18.19,2,    0.02,2,    1.19,2,   2.584,2,   1.243,3,  -999.0,9,   4.0651
06MT19970815,      AR07E,     530,          1,     203607,         11,         11,2,19970829,       0000,    56.9833,   -27.8633,       2804,  1300.1,   3.7539,  34.9074,2,  34.9092,2,   270.7,2,   10.98,2,   17.72,2,    0.02,2,    1.17,2,   2.614,2,   1.245,3,  -999.0,9,   3.6542
06MT19970815,      AR07E,     530,          1,     203606,         10,         10,2,19970829,       0000,    56.9833,   -27.8633,       2804,  1398.6,   3.5934,  34.8982,2,  34.8988,2,   273.8,2,   10.87,2,   17.48,2, -999.00,9,    1.15,2,-999.000,9,-999.000,9,  -999.0,9,   3.4868
06MT19970815,      AR07E,     530,          1,     203605,          9,          9,2,19970829,       0000,    56.9833,   -27.8633,       2804,  1500.0,   3.4965,  34.8925,2,  34.8934,2,   278.2,2,   10.86,2,   17.41,2,    0.02,2,    1.15,2,   2.635,2,   1.265,3,  -999.0,9,   3.3822
06MT19970815,      AR07E,     530,          1,     203604,          8,          8,2,19970829,       0000,    56.9833,   -27.8633,       2804,  1599.9,   3.4157,  34.8898,2,  34.8900,2,   279.7,2,   10.90,2,   17.21,2,    0.01,2,    1.14,2,   2.645,2,   1.268,3,  -999.0,9,   3.2936
06MT19970815,      AR07E,     530,          1,     203603,          7,          7,2,19970829,       0000,    56.9833,   -27.8633,       2804,  1816.0,   3.3481,  34.9011,2,  34.9004,2,   280.9,2,   10.99,2,   16.95,2,    0.02,2,    1.12,2,   2.498,2,   1.196,3,  -999.0,9,   3.2074
06MT19970815,      AR07E,     530,          1,     203602,          6,          6,2,19970829,       0000,    56.9833,   -27.8633,       2804,  1999.4,   3.3119,  34.9163,2,  34.9155,2,   278.5,2,   11.48,2,   16.80,2,    0.02,2,    1.12,2,   2.239,2,   1.067,3,  -999.0,9,   3.1548
06MT19970815,      AR07E,     530,          1,     203601,          5,          5,2,19970829,       0000,    56.9833,   -27.8633,       2804,  2300.3,   3.1789,  34.9561,2,  34.9570,2,   273.6,2,   13.02,2,   16.50,2,    0.02,2,    1.11,2,   1.827,2,   0.899,3,  -999.0,9,   2.9952
06MT19970815,      AR07E,     530,          1,     203600,          4,          4,2,19970829,       0000,    56.9833,   -27.8633,       2804,  2502.7,   2.9426,  34.9631,2,  34.9630,2,   272.8,2,   14.45,2,   16.50,2,    0.01,2,    1.11,2,   1.922,2,   0.937,3,  -999.0,9,   2.7433
06MT19970815,      AR07E,     530,          1,     203599,          3,          3,2,19970829,       0000,    56.9833,   -27.8633,       2804,  2601.0,   2.8020,  34.9632,2,  34.9630,2,   273.8,2,   14.83,2,   16.43,2,    0.02,2,    1.11,2,   2.100,2,   1.021,3,  -999.0,9,   2.5957
06MT19970815,      AR07E,     530,          1,     203598,          2,          2,2,19970829,       0000,    56.9833,   -27.8633,       2804,  2700.9,   2.7278,  34.9633,2,  34.9633,2,   273.3,2,   15.01,2,   16.27,2,    0.01,2,    1.10,2,   2.210,2,   1.080,3,  -999.0,9,   2.5131
06MT19970815,      AR07E,     530,          1,     203597,          1,          1,2,19970829,       0000,    56.9833,   -27.8633,       2804,  2810.0,   2.6785,  34.9640,2,  34.9633,2,   275.0,2,   14.85,2,   16.21,2,    0.02,2,    1.09,2,   2.306,2,   1.119,3,  -999.0,9,   2.4539