BOTTLE,20220204CCHSIOENA
EXPOCODE,SECT_ID,STNNBR,CASTNO,BIONBR,SAMPNO,BTLNBR,BTLNBR_FLAG_W,DATE,TIME,LATITUDE,LONGITUDE,DEPTH,CTDPRS,CTDTMP,CTDSAL,CTDSAL_FLAG_W,SALNTY,SALNTY_FLAG_W,OXYGEN,OXYGEN_FLAG_W,SILCAT,SILCAT_FLAG_W,NITRAT,NITRAT_FLAG_W,NITRIT,NITRIT_FLAG_W,PHSPHT,PHSPHT_FLAG_W,CFC-11,CFC-11_FLAG_W,CFC-12,CFC-12_FLAG_W,TCARBN,TCARBN_FLAG_W,THETA
,,,,,,,,,,,,METERS,DBAR,ITS-90,PSS-78,,PSS-78,,UMOL/KG,,UMOL/KG,,UMOL/KG,,UMOL/KG,,UMOL/KG,,PMOL/KG,,PMOL/KG,,UMOL/KG,,DEG C
06MT19970815,      AR07E,     548,          1,     204036,         22,         22,2,19970902,       0000,    53.3000,   -27.3167,       3619,    16.7,  13.9789,  34.8923,2,  34.8843,2,   257.5,2,    0.88,2,    0.68,2,    0.16,2,    0.14,2,-999.000,9,-999.000,9,  2041.7,2,  13.9765
06MT19970815,      AR07E,     548,          1,     204035,         21,         21,2,19970902,       0000,    53.3000,   -27.3167,       3619,    80.3,   9.7248,  35.0736,2,  35.0709,2,   238.3,2,    5.20,2,   12.05,2,    0.05,2,    0.80,2,   3.646,2,   1.857,3,  2122.7,2,   9.7157
06MT19970815,      AR07E,     548,          1,     204034,         20,         20,2,19970902,       0000,    53.3000,   -27.3167,       3619,   151.0,   8.4986,  35.0682,2,  35.0661,2,   227.3,2,    8.29,2,   15.83,2,    0.03,2,    1.04,2,   3.210,2,   1.637,3,  2142.9,2,   8.4828
06MT19970815,      AR07E,     548,          1,     204033,         19,         19,2,19970902,       0000,    53.3000,   -27.3167,       3619,   300.5,   6.3170,  34.9047,2,  34.8993,2,   239.0,2,    9.96,2,   17.57,2,    0.02,2,    1.16,2,   3.287,2,   1.652,3,  2152.9,2,   6.2902
06MT19970815,      AR07E,     548,          1,     204032,         18,         18,2,19970902,       0000,    53.3000,   -27.3167,       3619,   500.6,   4.9964,  34.9257,2,  34.9263,2,   235.9,2,   11.35,2,   18.94,2,    0.02,2,    1.24,2,   2.830,2,   1.384,3,  2163.6,2,   4.9562
06MT19970815,      AR07E,     548,          1,     204031,         17,         17,2,19970902,       0000,    53.3000,   -27.3167,       3619,   700.5,   4.3415,  34.9414,2,  34.9422,2,   254.3,2,   11.11,2,   18.31,2,    0.02,2,    1.20,2,   2.811,2,   1.358,3,  2159.2,2,   4.2877
06MT19970815,      AR07E,     548,          1,     204030,         16,         16,2,19970902,       0000,    53.3000,   -27.3167,       3619,   900.6,   3.8916,  34.9181,2,  34.9192,2,   268.7,2,   10.93,2,   17.75,2,    0.02,2,    1.16,2,   2.949,2,   1.422,3,  2155.1,2,   3.8243
06MT19970815,      AR07E,     548,          1,     204029,         15,         15,2,19970902,       0000,    53.3000,   -27.3167,       3619,  1100.7,   3.5831,  34.9003,2,  34.8952,0,   276.3,2,   10.78,2,   17.42,2,    0.01,2,    1.15,2,   2.973,2,   1.421,3,  2152.6,2,   3.5018
06MT19970815,      AR07E,     548,          1,     204028,         14,         14,2,19970902,       0000,    53.3000,   -27.3167,       3619,  1298.6,   3.3923,  34.8877,2,  34.8875,2,   281.5,2,   10.74,2,   17.21,2,    0.02,2,    1.15,2,   3.028,2,   1.422,3,  2150.2,2,   3.2963
06MT19970815,      AR07E,     548,          1,     204027,         13,         13,3,19970902,       0000,    53.3000,   -27.3167,       3619,  1499.9,   3.2671,  34.8809,2,  34.8801,2,   285.7,2,   10.84,2,   17.07,2,    0.02,2,    1.13,2,   2.999,2,   1.438,3,  2149.2,2,   3.1554
06MT19970815,      AR07E,     548,          1,     204026,         12,         12,2,19970902,       0000,    53.3000,   -27.3167,       3619,  1650.0,   3.2092,  34.8816,2,  34.8811,2,   286.1,2,   10.92,2,   16.93,2,    0.02,2,    1.12,2,   2.939,2,   1.402,3,  2148.2,2,   3.0852
06MT19970815,      AR07E,     548,          1,     204025,         11,         11,2,19970902,       0000,    53.3000,   -27.3167,       3619,  1800.4,   3.1651,  34.8822,2,  34.8817,2,   285.4,2,   10.87,2,   16.78,2,    0.02,2,    1.12,2,   2.971,2,   1.412,3,  2148.0,2,   3.0284
06MT19970815,      AR07E,     548,          1,     204024,         10,         10,2,19970902,       0000,    53.3000,   -27.3167,       3619,  2000.0,   3.1559,  34.8945,2,  34.8933,2,   283.8,2,   11.39,2,   16.82,2,    0.01,2,    1.12,2,   2.654,2,   1.267,3,  2148.9,2,   3.0011
06MT19970815,      AR07E,     548,          1,     204023,          9,          9,2,19970902,       0000,    53.3000,   -27.3167,       3619,  2201.2,   3.1680,  34.9141,2,  34.9133,2,  -999.0,9,   12.16,2,   16.80,2,    0.02,2,    1.12,2,   2.233,2,   1.077,3,  2150.3,2,   2.9941
06MT19970815,      AR07E,     548,          1,     204022,          8,          8,2,19970902,       0000,    53.3000,   -27.3167,       3619,  2400.7,   3.1538,  34.9321,2,  34.9318,2,   275.4,2,   13.20,2,   16.81,2,    0.01,2,    1.13,2,   1.765,2,   0.813,3,  2163.9,3,   2.9608
06MT19970815,      AR07E,     548,          1,     204021,          7,          7,2,19970902,       0000,    53.3000,   -27.3167,       3619,  2601.8,   3.1029,  34.9471,2,  34.9478,2,   273.9,2,   13.68,2,   16.79,2,    0.02,2,    1.11,2,   1.665,2,   0.811,3,  2153.2,2,   2.8909
06MT19970815,      AR07E,     548,          1,     204020,          6,          6,3,19970902,       0000,    53.3000,   -27.3167,       3619,  2802.0,   2.9958,  34.9493,2,  34.9503,2,   270.3,2,   16.46,2,   17.28,2,    0.02,2,    1.13,2,   1.449,2,   0.682,3,  2157.3,2,   2.7656
06MT19970815,      AR07E,     548,          1,     204019,          5,          5,2,19970902,       0000,    53.3000,   -27.3167,       3619,  3001.4,   2.8999,  34.9496,2,  34.9501,2,   267.3,2,   19.34,2,   17.47,2,    0.03,2,    1.17,2,   1.450,2,   0.725,3,  -999.0,9,   2.6511
06MT19970815,      AR07E,     548,          1,     204018,          4,          4,2,19970902,       0000,    53.3000,   -27.3167,       3619,  3201.2,   2.8232,  34.9462,2,  34.9469,2,   263.1,2,   22.50,2,   18.08,2,    0.02,2,    1.20,2,   1.321,2,   0.663,3,  2167.1,2,   2.5550
06MT19970815,      AR07E,     548,          1,     204017,          3,          3,2,19970902,       0000,    53.3000,   -27.3167,       3619,  3402.6,   2.7677,  34.9413,2,  34.9418,2,  -999.0,9,   26.48,2,   18.75,2,    0.02,2,    1.27,2,   0.965,2,   0.457,3,  2172.9,2,   2.4791
06MT19970815,      AR07E,     548,          1,     204016,          2,          2,2,19970902,       0000,    53.3000,   -27.3167,       3619,  3551.9,   2.7029,  34.9337,2,  34.9344,2,   254.4,2,   30.77,2,   19.56,2,    0.02,2,    1.33,2,   0.763,2,   0.355,3,  2179.8,2,   2.3996
06MT19970815,      AR07E,     548,          1,     204015,          1,          1,2,19970902,       0000,    53.3000,   -27.3167,       3619,  3654.7,   2.6950,  34.9325,2,  34.9348,0,   253.5,2,   31.27,2,   19.59,2,    0.03,2,    1.32,2,   0.809,2,   0.388,3,  2180.2,2,   2.3804
06MT19970815,      AR07E,     549,          1,     204058,         22,         22,2,19970903,       0000,    53.7983,   -26.5817,       3710,    13.2,  14.5341,  35.3196,2,  35.3175,2,  -999.0,9,    0.74,2,    0.74,2,    0.12,2,    0.13,2,   3.077,2,   1.673,3,  2103.8,2,  14.5321
06MT19970815,      AR07E,     549,          1,     204057,         21,         21,2,19970903,       0000,    53.7983,   -26.5817,       3710,    49.8,  12.9130,  35.4931,2,  35.4851,2,   233.9,2,    2.88,2,    8.05,2,    0.13,2,    0.53,2,   3.227,2,   1.723,3,  2066.0,2,  12.9062
06MT19970815,      AR07E,     549,          1,     204056,         20,         20,2,19970903,       0000,    53.7983,   -26.5817,       3710,    99.2,  11.3958,  35.3913,2,  35.3840,2,   227.4,2,    5.33,2,   12.19,2,    0.03,2,    0.77,2,   2.942,2,   1.557,3,  2125.1,2,  11.3833
06MT19970815,      AR07E,     549,          1,     204055,         19,         19,2,19970903,       0000,    53.7983,   -26.5817,       3710,   208.0,  10.9566,  35.4505,2,  35.4525,2,   239.1,2,    5.32,2,   12.23,2,    0.03,2,    0.76,2,   3.212,2,   1.677,3,  2127.1,2,  10.9309
06MT19970815,      AR07E,     549,          1,     204054,         18,         18,2,19970903,       0000,    53.7983,   -26.5817,       3710,   401.0,   8.4848,  35.1109,2,  35.1103,2,   220.7,2,    8.84,2,   16.74,2,    0.02,2,    1.08,2,   2.852,2,   1.477,3,  2152.9,2,   8.4422
06MT19970815,      AR07E,     549,          1,     204053,         17,         17,2,19970903,       0000,    53.7983,   -26.5817,       3710,   602.3,   6.0976,  34.9626,2,  34.9547,2,   215.0,2,   11.46,2,   19.54,2,    0.02,2,    1.27,2,   2.427,2,   1.203,3,  2165.9,2,   6.0437
06MT19970815,      AR07E,     549,          1,     204052,         16,         16,2,19970903,       0000,    53.7983,   -26.5817,       3710,   803.1,   4.7902,  34.9593,2,  34.9601,2,   243.0,2,   11.27,2,   18.68,2,    0.02,2,    1.21,2,   2.623,2,   1.285,3,  2162.2,2,   4.7251
06MT19970815,      AR07E,     549,          1,     204051,         15,         15,2,19970903,       0000,    53.7983,   -26.5817,       3710,  1000.6,   4.1075,  34.9342,2,  34.9336,2,   262.1,2,   10.96,2,   18.06,2,    0.02,2,    1.18,2,   2.739,2,   1.327,3,  2157.5,2,   4.0302
06MT19970815,      AR07E,     549,          1,     204050,         14,         14,2,19970903,       0000,    53.7983,   -26.5817,       3710,  1202.2,   3.7066,  34.9089,2,  34.9083,2,   272.3,2,   10.86,2,   17.54,2,    0.02,2,    1.14,2,   2.832,2,   1.280,3,  2152.8,2,   3.6157
06MT19970815,      AR07E,     549,          1,     204049,         13,         13,2,19970903,       0000,    53.7983,   -26.5817,       3710,  1399.9,   3.4832,  34.8925,2,  34.8915,2,   279.2,2,   10.78,2,   17.38,2,    0.02,2,    1.13,2,   2.793,2,   1.344,3,  2151.8,2,   3.3777
06MT19970815,      AR07E,     549,          1,     204048,         12,         12,2,19970903,       0000,    53.7983,   -26.5817,       3710,  1601.7,   3.3249,  34.8838,2,  34.8841,2,   283.1,2,   10.72,2,   17.20,2,    0.02,2,    1.12,2,   2.912,2,   1.391,3,  2150.0,2,   3.2037
06MT19970815,      AR07E,     549,          1,     204047,         11,         11,2,19970903,       0000,    53.7983,   -26.5817,       3710,  1701.7,   3.2714,  34.8814,2,  34.8815,2,   285.0,2,   10.75,2,   17.08,2,    0.01,2,    1.11,2,   3.013,2,   1.445,3,  -999.0,9,   3.1421
06MT19970815,      AR07E,     549,          1,     204046,         10,         10,2,19970903,       0000,    53.7983,   -26.5817,       3710,  1800.0,   3.2067,  34.8811,2,  34.8815,2,   286.1,2,   10.87,2,   16.93,2,    0.01,2,    1.11,2,   2.992,2,   1.424,3,  -999.0,9,   3.0694
06MT19970815,      AR07E,     549,          1,     204045,          9,          9,2,19970903,       0000,    53.7983,   -26.5817,       3710,  1900.2,   3.1886,  34.8837,2,  34.8832,2,   286.6,2,   10.91,2,   16.88,2,    0.01,2,    1.11,2,   2.946,2,   1.403,3,  2150.2,2,   3.0425
06MT19970815,      AR07E,     549,          1,     204044,          8,          8,2,19970903,       0000,    53.7983,   -26.5817,       3710,  2099.5,   3.1793,  34.8984,2,  34.8986,2,   282.4,2,   11.49,2,   16.86,2,    0.01,2,    1.10,2,   2.519,2,   1.219,3,  -999.0,9,   3.0149
06MT19970815,      AR07E,     549,          1,     204043,          7,          7,2,19970903,       0000,    53.7983,   -26.5817,       3710,  2301.9,   3.1758,  34.9161,2,  34.9158,2,   279.0,2,   12.43,2,   16.86,2,    0.01,2,    1.11,2,   2.111,2,   1.023,3,  2151.6,2,   2.9921
06MT19970815,      AR07E,     549,          1,     204042,          6,          6,2,19970903,       0000,    53.7983,   -26.5817,       3710,  2500.1,   3.1428,  34.9329,2,  34.9330,2,   275.2,2,   13.49,2,   16.78,2,    0.02,2,    1.11,2,   1.718,2,   0.843,3,  2156.8,2,   2.9402
06MT19970815,      AR07E,     549,          1,     204041,          5,          5,2,19970903,       0000,    53.7983,   -26.5817,       3710,  2701.2,   3.0819,  34.9412,2,  34.9422,2,   273.5,2,   14.48,2,   16.82,2,    0.02,2,    1.11,2,   1.625,2,   0.796,3,  2158.5,2,   2.8603
06MT19970815,      AR07E,     549,          1,     204040,          4,          4,2,19970903,       0000,    53.7983,   -26.5817,       3710,  3001.3,   2.9808,  34.9492,2,  34.9660,0,   269.2,2,   15.43,2,   16.61,2,    0.02,2,    1.10,2,   1.692,2,   0.846,3,  2157.8,2,   2.7302
06MT19970815,      AR07E,     549,          1,     204039,          3,          3,2,19970903,       0000,    53.7983,   -26.5817,       3710,  3302.4,   2.8782,  34.9490,2,  34.9497,2,  -999.0,9,   20.18,2,   17.64,2,    0.02,2,    1.17,2,   1.311,2,   0.657,3,  2166.3,2,   2.5978
06MT19970815,      AR07E,     549,          1,     204038,          2,          2,2,19970903,       0000,    53.7983,   -26.5817,       3710,  3653.0,   2.7744,  34.9411,2,  34.9418,2,   258.4,2,   26.39,2,   18.81,2,    0.01,2,    1.25,2,   1.022,2,   0.457,3,  2175.5,2,   2.4579
06MT19970815,      AR07E,     549,          1,     204037,          1,          1,2,19970903,       0000,    53.7983,   -26.5817,       3710,  3757.0,   2.7439,  34.9394,2,  34.9407,2,   258.7,2,   27.67,2,   18.99,2,    0.01,2,    1.26,2,   1.069,2,   0.492,3,  2177.4,2,   2.4165
06MT19970815,      AR07E,     550,          1,     204079,         21,         21,2,19970903,       0000,    53.9983,   -25.6317,       3252,    14.1,  13.9520,  35.2802,2,  35.2773,2,   251.8,2,    0.41,2,    1.07,2,    0.17,2,    0.19,2,-999.000,9,-999.000,9,  2068.4,2,  13.9500
06MT19970815,      AR07E,     550,          1,     204078,         20,         20,2,19970903,       0000,    53.9983,   -25.6317,       3252,    49.8,  13.9456,  35.2785,2,  35.2762,2,   252.1,2,    0.47,2,    1.09,2,    0.17,2,    0.19,2,-999.000,9,-999.000,9,  -999.0,9,  13.9384
06MT19970815,      AR07E,     550,          1,     204077,         19,         19,2,19970903,       0000,    53.9983,   -25.6317,       3252,    99.3,  10.0697,  35.1438,2,  35.1415,2,   238.9,2,    4.97,2,   11.86,2,    0.04,2,    0.79,2,   3.710,2,   1.893,3,  -999.0,9,  10.0582
06MT19970815,      AR07E,     550,          1,     204076,         18,         18,2,19970903,       0000,    53.9983,   -25.6317,       3252,   202.5,   8.5451,  35.1144,2,  35.1072,2,   238.7,2,    7.80,2,   15.25,2,    0.02,2,    0.99,2,   3.346,2,   1.720,3,  -999.0,9,   8.5237
06MT19970815,      AR07E,     550,          1,     204075,         17,         17,2,19970903,       0000,    53.9983,   -25.6317,       3252,   350.7,   6.8194,  34.9492,2,  34.9480,2,   233.9,2,    9.54,2,   17.45,2,    0.02,2,    1.13,2,   3.289,2,   1.637,3,  -999.0,9,   6.7867
06MT19970815,      AR07E,     550,          1,     204074,         16,         16,2,19970903,       0000,    53.9983,   -25.6317,       3252,   600.2,   5.1677,  34.9591,2,  34.9596,2,   273.3,3,   11.36,2,   19.08,2,    0.02,2,    1.23,2,   2.648,2,   1.288,3,  -999.0,9,   5.1182
06MT19970815,      AR07E,     550,          1,     204073,         15,         15,2,19970903,       0000,    53.9983,   -25.6317,       3252,   799.4,   4.3780,  34.9465,2,  34.9475,2,   252.8,2,   11.10,2,   18.42,2,    0.02,2,    1.20,2,   2.752,2,   1.326,3,  -999.0,9,   4.3158
06MT19970815,      AR07E,     550,          1,     204072,         14,         14,2,19970903,       0000,    53.9983,   -25.6317,       3252,  1001.7,   3.8996,  34.9194,2,  34.9198,2,   267.2,2,   11.03,2,   17.97,2,    0.01,2,    1.16,2,   2.740,2,   1.292,3,  -999.0,9,   3.8239
06MT19970815,      AR07E,     550,          1,     204071,         13,         13,2,19970903,       0000,    53.9983,   -25.6317,       3252,  1200.1,   3.5833,  34.8991,2,  34.8982,2,  -999.0,9,   10.91,2,   17.54,2,    0.01,2,    1.14,2,   2.704,2,   1.289,3,  -999.0,9,   3.4937
06MT19970815,      AR07E,     550,          1,     204070,         12,         12,2,19970903,       0000,    53.9983,   -25.6317,       3252,  1400.3,   3.3813,  34.8871,2,  34.8866,2,  -999.0,9,   10.68,2,   17.29,2,    0.01,2,    1.13,2,   2.989,2,   1.425,3,  -999.0,9,   3.2769
06MT19970815,      AR07E,     550,          1,     204069,         11,         11,2,19970903,       0000,    53.9983,   -25.6317,       3252,  1600.3,   3.2518,  34.8823,2,  34.8819,2,   285.7,2,   10.75,2,   17.07,2,    0.01,2,    1.11,2,   2.965,2,   1.402,3,  -999.0,9,   3.1316
06MT19970815,      AR07E,     550,          1,     204068,         10,         10,2,19970903,       0000,    53.9983,   -25.6317,       3252,  1699.7,   3.2370,  34.8869,2,  34.8864,2,   278.5,2,   11.02,2,   17.05,2,    0.01,2,    1.12,2,   2.769,2,   1.333,3,  -999.0,9,   3.1083
06MT19970815,      AR07E,     550,          1,     204067,          9,          9,2,19970903,       0000,    53.9983,   -25.6317,       3252,  1801.9,   3.1961,  34.8879,2,  34.8870,2,   293.3,3,   10.85,2,   16.88,2,    0.02,2,    1.11,2,   2.784,2,   1.342,3,  -999.0,9,   3.0588
06MT19970815,      AR07E,     550,          1,     204066,          8,          8,2,19970903,       0000,    53.9983,   -25.6317,       3252,  1899.5,   3.1820,  34.8912,2,  34.8904,2,   285.2,2,   11.02,2,   16.91,2,    0.01,2,    1.11,2,   2.650,2,   1.298,3,  -999.0,9,   3.0361
06MT19970815,      AR07E,     550,          1,     204065,          7,          7,2,19970903,       0000,    53.9983,   -25.6317,       3252,  2099.9,   3.2241,  34.9201,2,  34.9191,2,   278.2,2,   12.54,2,   17.00,2,    0.01,2,    1.11,2,-999.000,9,-999.000,9,  -999.0,9,   3.0589
06MT19970815,      AR07E,     550,          1,     204064,          6,          6,2,19970903,       0000,    53.9983,   -25.6317,       3252,  2299.3,   3.1933,  34.9319,2,  34.9321,2,  -999.0,9,   12.83,2,   16.84,2,    0.02,2,    1.10,2,-999.000,9,-999.000,9,  -999.0,9,   3.0095
06MT19970815,      AR07E,     550,          1,     204063,          5,          5,2,19970903,       0000,    53.9983,   -25.6317,       3252,  2500.9,   3.1355,  34.9488,2,  34.9503,2,  -999.0,9,   13.64,2,   16.75,2,    0.01,2,    1.10,2,-999.000,9,-999.000,9,  -999.0,9,   2.9329
06MT19970815,      AR07E,     550,          1,     204062,          4,          4,2,19970903,       0000,    53.9983,   -25.6317,       3252,  2701.2,   3.0049,  34.9505,2,  34.9505,2,   271.6,2,   16.03,2,   17.04,2,    0.01,2,    1.12,2,-999.000,9,-999.000,9,  -999.0,9,   2.7847
06MT19970815,      AR07E,     550,          1,     204061,          3,          3,2,19970903,       0000,    53.9983,   -25.6317,       3252,  2900.7,   2.8834,  34.9504,2,  34.9508,2,   269.2,2,   18.78,2,   17.40,2,    0.01,2,    1.16,2,-999.000,9,-999.000,9,  -999.0,9,   2.6453
06MT19970815,      AR07E,     550,          1,     204060,          2,          2,2,19970903,       0000,    53.9983,   -25.6317,       3252,  3102.9,   2.7799,  34.9441,2,  34.9450,2,   263.2,2,   23.68,2,   18.20,2,    0.01,2,    1.22,2,   1.131,2,   0.565,3,  -999.0,9,   2.5231
06MT19970815,      AR07E,     550,          1,     204059,          1,          1,2,19970903,       0000,    53.9983,   -25.6317,       3252,  3203.5,   2.7123,  34.9391,2,  34.9396,2,   258.6,2,   27.40,2,   18.98,2,    0.01,2,    1.27,2,   0.946,2,   0.472,3,  -999.0,9,   2.4464