BOTTLE,20220204CCHSIOENA
EXPOCODE,SECT_ID,STNNBR,CASTNO,BIONBR,SAMPNO,BTLNBR,BTLNBR_FLAG_W,DATE,TIME,LATITUDE,LONGITUDE,DEPTH,CTDPRS,CTDTMP,CTDSAL,CTDSAL_FLAG_W,SALNTY,SALNTY_FLAG_W,OXYGEN,OXYGEN_FLAG_W,SILCAT,SILCAT_FLAG_W,NITRAT,NITRAT_FLAG_W,NITRIT,NITRIT_FLAG_W,PHSPHT,PHSPHT_FLAG_W,CFC-11,CFC-11_FLAG_W,CFC-12,CFC-12_FLAG_W,TCARBN,TCARBN_FLAG_W,THETA
,,,,,,,,,,,,METERS,DBAR,ITS-90,PSS-78,,PSS-78,,UMOL/KG,,UMOL/KG,,UMOL/KG,,UMOL/KG,,UMOL/KG,,PMOL/KG,,PMOL/KG,,UMOL/KG,,DEG C
06MT19970815,      AR07E,     525,          1,     203508,         22,         22,2,19970828,       0000,    58.3517,   -29.9317,       2384,     9.5,  11.9904,  35.1066,2,  35.1031,2,   269.8,2,    0.76,2,    2.80,2,    0.16,2,    0.28,2,   3.449,2,   1.957,3,  -999.0,9,  11.9892
06MT19970815,      AR07E,     525,          1,     203507,         21,         21,2,19970828,       0000,    58.3517,   -29.9317,       2384,     9.5,  11.9823,  35.1088,2,-999.0000,9,   269.1,2,    0.77,2,    2.78,2,    0.17,2,    0.28,2,-999.000,9,-999.000,9,  2065.8,2,  11.9811
06MT19970815,      AR07E,     525,          1,     203506,         20,         20,2,19970828,       0000,    58.3517,   -29.9317,       2384,    49.7,  11.0426,  35.1449,2,  35.1195,2,   261.3,2,    1.58,2,    5.20,2,    0.22,2,    0.43,2,-999.000,9,-999.000,9,  2083.0,2,  11.0365
06MT19970815,      AR07E,     525,          1,     203505,         19,         19,2,19970828,       0000,    58.3517,   -29.9317,       2384,   100.4,   8.5560,  35.1635,2,  35.1622,2,   260.3,2,    6.25,2,   13.56,2,    0.03,2,    0.88,2,-999.000,9,-999.000,9,  2135.1,2,   8.5455
06MT19970815,      AR07E,     525,          1,     203504,         18,         18,2,19970828,       0000,    58.3517,   -29.9317,       2384,   150.4,   8.1827,  35.1533,2,  35.1533,2,   262.9,2,    6.47,2,   13.95,2,    0.03,2,    0.91,2,-999.000,9,-999.000,9,  2135.2,2,   8.1673
06MT19970815,      AR07E,     525,          1,     203503,         17,         17,2,19970828,       0000,    58.3517,   -29.9317,       2384,   201.7,   7.4765,  35.0737,2,  35.0786,2,   255.5,2,    7.87,2,   15.40,2,    0.03,2,    1.01,2,   3.466,2,   1.870,3,  2143.3,2,   7.4568
06MT19970815,      AR07E,     525,          1,     203502,         16,         16,2,19970828,       0000,    58.3517,   -29.9317,       2384,   250.7,   7.4680,  35.1128,2,  35.1128,2,   256.6,2,    7.86,2,   15.46,2,    0.03,2,    1.01,2,-999.000,9,-999.000,9,  2164.3,3,   7.4435
06MT19970815,      AR07E,     525,          1,     203501,         15,         15,2,19970828,       0000,    58.3517,   -29.9317,       2384,   300.4,   7.3435,  35.1180,2,  35.1167,2,   260.7,2,    7.63,2,   15.19,2,    0.03,2,    0.99,2,-999.000,9,-999.000,9,  2149.9,2,   7.3143
06MT19970815,      AR07E,     525,          1,     203500,         14,         14,2,19970828,       0000,    58.3517,   -29.9317,       2384,   351.5,   7.2504,  35.1153,2,  35.1166,2,   262.2,2,    7.66,2,   15.24,2,    0.03,2,    0.99,2,-999.000,9,-999.000,9,  2143.6,2,   7.2164
06MT19970815,      AR07E,     525,          1,     203499,         13,         13,2,19970828,       0000,    58.3517,   -29.9317,       2384,   401.2,   7.2138,  35.1247,2,  35.1210,2,   268.0,2,    7.38,2,   14.86,2,    0.03,2,    0.97,2,   3.702,2,   2.004,3,  2140.8,2,   7.1749
06MT19970815,      AR07E,     525,          1,     203498,         12,         12,2,19970828,       0000,    58.3517,   -29.9317,       2384,   601.8,   6.4456,  35.0612,2,  35.0584,2,   241.9,2,    9.70,2,   17.34,2,    0.02,2,    1.13,2,   2.990,2,   1.556,3,  2155.3,2,   6.3900
06MT19970815,      AR07E,     525,          1,     203497,         11,         11,2,19970828,       0000,    58.3517,   -29.9317,       2384,   697.6,   6.0576,  35.0586,2,  35.0603,2,   248.2,2,    9.52,2,   16.90,2,    0.03,2,    1.10,2,-999.000,9,-999.000,9,  2154.9,2,   5.9948
06MT19970815,      AR07E,     525,          1,     203496,         10,         10,2,19970828,       0000,    58.3517,   -29.9317,       2384,   801.0,   5.4309,  35.0191,2,  35.0203,2,   241.0,2,   10.72,2,   18.06,2,    0.02,2,    1.17,2,   2.630,2,   1.327,3,  2160.6,2,   5.3620
06MT19970815,      AR07E,     525,          1,     203495,          9,          9,2,19970828,       0000,    58.3517,   -29.9317,       2384,   999.2,   4.4705,  34.9660,2,  34.9671,2,   257.3,2,   10.67,2,   17.62,2,    0.02,2,    1.15,2,   2.653,2,   1.314,3,  2157.3,2,   4.3905
06MT19970815,      AR07E,     525,          1,     203494,          8,          8,2,19970828,       0000,    58.3517,   -29.9317,       2384,  1200.4,   3.8902,  34.9253,2,  34.9268,0,   270.1,2,   10.79,2,   17.46,2,    0.02,2,    1.14,2,   2.603,2,   1.274,3,  2154.0,2,   3.7977
06MT19970815,      AR07E,     525,          1,     203493,          7,          7,2,19970828,       0000,    58.3517,   -29.9317,       2384,  1402.2,   3.5035,  34.9022,2,  34.9018,2,   278.6,2,   10.71,2,   17.10,2,    0.02,2,    1.12,2,   2.548,2,   1.248,3,  2150.2,2,   3.3976
06MT19970815,      AR07E,     525,          1,     203492,          6,          6,2,19970828,       0000,    58.3517,   -29.9317,       2384,  1600.5,   3.4251,  34.9206,2,  34.9201,2,   279.6,2,   10.84,2,   16.72,2,    0.03,2,    1.10,2,   2.460,2,   1.202,3,  2149.2,2,   3.3027
06MT19970815,      AR07E,     525,          1,     203491,          5,          5,2,19970828,       0000,    58.3517,   -29.9317,       2384,  1799.7,   3.3353,  34.9645,2,  34.9638,2,   277.1,2,   10.61,2,   15.78,2,    0.04,2,    1.05,2,   2.541,2,   1.253,3,  2151.3,2,   3.1961
06MT19970815,      AR07E,     525,          1,     203490,          4,          4,2,19970828,       0000,    58.3517,   -29.9317,       2384,  2001.6,   3.0944,  34.9720,2,  34.9716,2,   278.0,2,   10.92,2,   15.68,2,    0.02,2,    1.04,2,   2.487,2,   1.245,3,  2152.5,2,   2.9402
06MT19970815,      AR07E,     525,          1,     203489,          3,          3,2,19970828,       0000,    58.3517,   -29.9317,       2384,  2201.0,   3.0414,  34.9718,2,  34.9721,2,   277.0,2,   11.34,2,   15.82,2,    0.03,2,    1.05,2,   2.407,2,   1.182,3,  2154.6,2,   2.8694
06MT19970815,      AR07E,     525,          1,     203488,          2,          2,2,19970828,       0000,    58.3517,   -29.9317,       2384,  2302.0,   3.0155,  34.9720,2,  34.9714,2,   277.0,2,   11.69,2,   15.81,2,    0.03,2,    1.05,2,   2.385,2,   1.180,3,  2154.3,2,   2.8343
06MT19970815,      AR07E,     525,          1,     203487,          1,          1,2,19970828,       0000,    58.3517,   -29.9317,       2384,  2376.8,   2.9813,  34.9722,2,  34.9716,2,   276.4,2,   11.92,2,   15.81,2,    0.03,2,    1.05,2,   2.344,2,   1.165,3,  2154.2,2,   2.7935
06MT19970815,      AR07E,     526,          1,     203529,         21,         21,2,19970828,       0000,    58.1150,   -29.4833,       2316,    11.2,  11.6349,  35.0761,2,  35.0728,2,   272.4,2,    0.76,2,    2.82,2,    0.12,2,    0.29,2,-999.000,9,-999.000,9,  2062.6,2,  11.6335
06MT19970815,      AR07E,     526,          1,     203528,         20,         20,2,19970828,       0000,    58.1150,   -29.4833,       2316,    50.6,  10.0569,  35.1349,2,  35.1359,2,   257.1,2,    2.65,2,    8.11,2,    0.25,2,    0.61,2,   3.824,2,   2.042,3,  2104.6,2,  10.0510
06MT19970815,      AR07E,     526,          1,     203527,         19,         19,2,19970828,       0000,    58.1150,   -29.4833,       2316,   101.8,   9.1774,  35.2257,2,  35.2258,2,   260.0,2,    5.97,2,   13.23,2,    0.02,2,    0.85,2,-999.000,9,-999.000,9,  -999.0,9,   9.1662
06MT19970815,      AR07E,     526,          1,     203526,         18,         18,2,19970828,       0000,    58.1150,   -29.4833,       2316,   150.7,   8.4108,  35.1460,2,  35.1444,2,   266.4,2,    5.43,2,   13.06,2,    0.02,2,    0.86,2,-999.000,9,-999.000,9,  -999.0,9,   8.3951
06MT19970815,      AR07E,     526,          1,     203525,         17,         17,2,19970828,       0000,    58.1150,   -29.4833,       2316,   201.3,   7.8725,  35.1121,2,  35.1112,2,   263.4,2,    6.91,2,   14.42,2,    0.02,2,    0.94,2,   3.708,2,   1.977,3,  -999.0,9,   7.8523
06MT19970815,      AR07E,     526,          1,     203524,         16,         16,2,19970828,       0000,    58.1150,   -29.4833,       2316,   248.1,   7.5715,  35.1059,2,  35.1057,2,   265.0,2,    7.23,2,   14.78,2,    0.02,2,    0.96,2,-999.000,9,-999.000,9,  -999.0,9,   7.5471
06MT19970815,      AR07E,     526,          1,     203523,         15,         15,2,19970828,       0000,    58.1150,   -29.4833,       2316,   301.4,   7.4696,  35.1268,2,  35.1268,2,   266.8,2,    7.26,2,   14.87,2,    0.02,2,    0.96,2,-999.000,9,-999.000,9,  -999.0,9,   7.4400
06MT19970815,      AR07E,     526,          1,     203522,         14,         14,2,19970828,       0000,    58.1150,   -29.4833,       2316,   402.5,   7.2243,  35.1225,2,  35.1229,2,   268.3,2,    7.31,2,   14.95,2,    0.01,2,    0.97,2,   3.792,2,   2.012,3,  -999.0,9,   7.1853
06MT19970815,      AR07E,     526,          1,     203521,         13,         13,2,19970828,       0000,    58.1150,   -29.4833,       2316,   501.6,   6.8085,  35.0905,2,  35.0903,2,   257.5,2,    8.33,2,   15.99,2,    0.02,2,    1.04,2,-999.000,9,-999.000,9,  -999.0,9,   6.7611
06MT19970815,      AR07E,     526,          1,     203520,         12,         12,2,19970828,       0000,    58.1150,   -29.4833,       2316,   600.8,   6.1316,  35.0294,2,  35.0294,2,   233.1,2,   10.33,2,   18.14,2,    0.01,2,    1.18,2,   2.770,2,   1.412,3,  -999.0,9,   6.0776
06MT19970815,      AR07E,     526,          1,     203519,         11,         11,2,19970828,       0000,    58.1150,   -29.4833,       2316,   801.2,   5.0264,  34.9825,2,  34.9829,2,   240.4,2,   11.13,2,   18.64,2,    0.02,2,    1.21,2,   2.539,2,   1.240,3,  -999.0,9,   4.9600
06MT19970815,      AR07E,     526,          1,     203518,         10,         10,2,19970828,       0000,    58.1150,   -29.4833,       2316,   902.4,   4.5546,  34.9630,2,  34.9631,2,   251.6,2,   11.01,2,   18.26,2,    0.01,2,    1.19,2,-999.000,9,-999.000,9,  -999.0,9,   4.4824
06MT19970815,      AR07E,     526,          1,     203517,          9,          9,2,19970828,       0000,    58.1150,   -29.4833,       2316,  1002.8,   4.2305,  34.9422,2,  34.9434,2,   259.0,2,   10.93,2,   18.09,2,    0.01,2,    1.17,2,   2.584,2,   1.249,3,  -999.0,9,   4.1521
06MT19970815,      AR07E,     526,          1,     203516,          8,          8,2,19970828,       0000,    58.1150,   -29.4833,       2316,  1199.8,   3.8158,  34.9171,2,  34.9176,2,   270.0,2,   10.78,2,   17.60,2,    0.01,2,    1.15,2,   2.589,2,   1.258,3,  -999.0,9,   3.7241
06MT19970815,      AR07E,     526,          1,     203515,          7,          7,2,19970828,       0000,    58.1150,   -29.4833,       2316,  1500.1,   3.4499,  34.8993,2,  34.8995,2,   280.2,2,   10.66,2,   17.12,2,    0.01,2,    1.12,2,   2.598,2,   1.245,3,  -999.0,9,   3.3361
06MT19970815,      AR07E,     526,          1,     203514,          6,          6,2,19970828,       0000,    58.1150,   -29.4833,       2316,  1703.7,   3.4494,  34.9413,2,  34.9405,2,   277.2,2,   10.71,2,   16.47,2,    0.01,2,    1.09,2,   2.423,2,   1.176,3,  -999.0,9,   3.3174
06MT19970815,      AR07E,     526,          1,     203513,          5,          5,2,19970828,       0000,    58.1150,   -29.4833,       2316,  1800.6,   3.3389,  34.9467,2,  34.9470,2,   276.5,2,   11.27,2,   16.52,2,    0.01,2,    1.09,2,   2.240,2,   1.055,3,  -999.0,9,   3.1996
06MT19970815,      AR07E,     526,          1,     203512,          4,          4,2,19970828,       0000,    58.1150,   -29.4833,       2316,  2000.9,   3.0919,  34.9681,2,  34.9675,2,   275.8,2,   11.79,2,   16.08,2,    0.01,2,    1.07,2,-999.000,9,-999.000,9,  -999.0,9,   2.9378
06MT19970815,      AR07E,     526,          1,     203511,          3,          3,2,19970828,       0000,    58.1150,   -29.4833,       2316,  2099.3,   2.9848,  34.9698,2,  34.9694,2,   276.3,2,   12.06,2,   16.03,2,    0.01,2,    1.06,2,   2.340,2,   1.113,3,  -999.0,9,   2.8232
06MT19970815,      AR07E,     526,          1,     203510,          2,          2,2,19970828,       0000,    58.1150,   -29.4833,       2316,  2201.1,   2.9409,  34.9710,2,  34.9705,2,   276.1,2,   12.18,2,   15.96,2,    0.01,2,    1.06,2,   2.390,2,   1.145,3,  -999.0,9,   2.7705
06MT19970815,      AR07E,     526,          1,     203509,          1,          1,2,19970828,       0000,    58.1150,   -29.4833,       2316,  2305.6,   2.8960,  34.9708,2,  34.9708,2,   277.0,2,   12.29,2,   15.89,2,    0.02,2,    1.06,2,   2.400,2,   1.163,3,  -999.0,9,   2.7165
06MT19970815,      AR07E,     527,          1,     203548,         18,         18,2,19970828,       0000,    57.8667,   -28.9983,       2375,     9.9,  12.8089,  35.1276,2,  35.1249,2,   262.1,2,    0.57,2,    1.77,2,    0.14,2,    0.23,2,   3.334,2,   1.860,3,  2059.9,2,  12.8076
06MT19970815,      AR07E,     527,          1,     203547,         17,         17,2,19970828,       0000,    57.8667,   -28.9983,       2375,    48.7,  12.7361,  35.1250,2,  35.1238,2,   257.1,2,    0.65,2,    2.11,2,    0.18,2,    0.25,2,-999.000,9,-999.000,9,  -999.0,9,  12.7295
06MT19970815,      AR07E,     527,          1,     203546,         16,         16,2,19970828,       0000,    57.8667,   -28.9983,       2375,   100.5,   9.3298,  35.1937,2,  35.1903,2,   254.1,2,    6.04,2,   13.27,2,    0.03,2,    0.87,2,-999.000,9,-999.000,9,  -999.0,9,   9.3187
06MT19970815,      AR07E,     527,          1,     203545,         15,         15,2,19970828,       0000,    57.8667,   -28.9983,       2375,   199.3,   7.9039,  35.0399,2,  35.0409,2,   259.8,2,    7.13,2,   14.33,2,    0.03,2,    0.95,2,-999.000,9,-999.000,9,  -999.0,9,   7.8838
06MT19970815,      AR07E,     527,          1,     203544,         14,         14,2,19970828,       0000,    57.8667,   -28.9983,       2375,   299.9,   7.6938,  35.0642,2,  35.0630,2,   265.3,2,    7.54,2,   14.87,2,    0.02,2,    0.98,2,   3.605,2,   1.928,3,  -999.0,9,   7.6639
06MT19970815,      AR07E,     527,          1,     203543,         13,         13,2,19970828,       0000,    57.8667,   -28.9983,       2375,   501.3,   6.7022,  35.0524,2,  35.0633,0,   232.0,2,    9.84,2,   17.64,2,    0.02,2,    1.15,2,   2.823,2,   1.466,3,  -999.0,9,   6.6553
06MT19970815,      AR07E,     527,          1,     203542,         12,         12,2,19970828,       0000,    57.8667,   -28.9983,       2375,   701.1,   5.0905,  34.9653,2,  34.9666,2,   235.5,2,   11.34,2,   18.76,2,    0.01,2,    1.22,2,   2.554,2,   1.253,3,  -999.0,9,   5.0326
06MT19970815,      AR07E,     527,          1,     203541,         11,         11,2,19970828,       0000,    57.8667,   -28.9983,       2375,   901.3,   4.3975,  34.9498,2,  34.9519,2,   252.5,2,   11.15,2,   18.25,2,    0.02,2,    1.18,2,   2.593,2,   1.263,3,  -999.0,9,   4.3265
06MT19970815,      AR07E,     527,          1,     203540,         10,         10,2,19970828,       0000,    57.8667,   -28.9983,       2375,  1000.1,   4.1380,  34.9339,2,  34.9353,2,   260.2,2,   11.11,2,   18.02,2,    0.01,2,    1.17,2,-999.000,9,-999.000,9,  -999.0,9,   4.0605
06MT19970815,      AR07E,     527,          1,     203539,          9,          9,2,19970828,       0000,    57.8667,   -28.9983,       2375,  1100.0,   3.9538,  34.9234,2,  34.9246,2,   264.9,2,   10.92,2,   17.74,2,    0.02,2,    1.16,2,   2.610,2,   1.267,3,  -999.0,9,   3.8694
06MT19970815,      AR07E,     527,          1,     203538,          8,          8,2,19970828,       0000,    57.8667,   -28.9983,       2375,  1300.1,   3.6385,  34.9044,2,  34.9040,2,   274.4,2,   10.85,2,   17.43,2,    0.02,2,    1.14,2,   2.616,2,   1.269,3,  -999.0,9,   3.5399
06MT19970815,      AR07E,     527,          1,     203537,          7,          7,2,19970828,       0000,    57.8667,   -28.9983,       2375,  1400.0,   3.6387,  34.9157,2,  34.9162,2,   274.4,2,   10.57,2,   17.00,2,    0.03,2,    1.11,2,-999.000,9,-999.000,9,  -999.0,9,   3.5315
06MT19970815,      AR07E,     527,          1,     203536,          6,          6,2,19970828,       0000,    57.8667,   -28.9983,       2375,  1500.4,   3.4501,  34.9004,2,  34.9005,2,   279.2,2,   10.74,2,   17.00,2,    0.03,2,    1.11,2,   2.549,2,   1.238,3,  -999.0,9,   3.3363
06MT19970815,      AR07E,     527,          1,     203535,          5,          5,2,19970828,       0000,    57.8667,   -28.9983,       2375,  1691.7,   3.3901,  34.9191,2,  34.9185,2,   277.8,2,   10.90,2,   16.67,2,    0.02,2,    1.10,2,   2.412,2,   1.158,3,  -999.0,9,   3.2600
06MT19970815,      AR07E,     527,          1,     203534,          4,          4,2,19970828,       0000,    57.8667,   -28.9983,       2375,  1900.4,   3.2942,  34.9558,2,  34.9563,2,   274.7,2,   11.51,2,   16.32,2,    0.02,2,    1.07,2,   2.196,2,   1.055,3,  -999.0,9,   3.1464
06MT19970815,      AR07E,     527,          1,     203533,          3,          3,2,19970828,       0000,    57.8667,   -28.9983,       2375,  2099.3,   3.0173,  34.9682,2,  34.9687,2,   274.4,2,   12.05,2,   15.99,2,    0.01,2,    1.06,2,-999.000,9,-999.000,9,  -999.0,9,   2.8552
06MT19970815,      AR07E,     527,          1,     203532,          2,          2,2,19970828,       0000,    57.8667,   -28.9983,       2375,  2270.8,   2.8757,  34.9690,2,  34.9696,2,   275.1,2,   12.35,2,   15.97,2,    0.01,2,    1.06,2,   2.340,2,   1.133,3,  -999.0,9,   2.6999
06MT19970815,      AR07E,     527,          1,     203531,          1,          1,2,19970828,       0000,    57.8667,   -28.9983,       2375,  2370.4,   2.8250,  34.9687,2,  34.9699,2,  -999.0,9,   12.75,2,   15.84,2,    0.03,2,    1.05,2,   2.353,2,   1.143,3,  -999.0,9,   2.6406