BOTTLE,20220204CCHSIOENA
EXPOCODE,SECT_ID,STNNBR,CASTNO,BIONBR,SAMPNO,BTLNBR,BTLNBR_FLAG_W,DATE,TIME,LATITUDE,LONGITUDE,DEPTH,CTDPRS,CTDTMP,CTDSAL,CTDSAL_FLAG_W,SALNTY,SALNTY_FLAG_W,OXYGEN,OXYGEN_FLAG_W,SILCAT,SILCAT_FLAG_W,NITRAT,NITRAT_FLAG_W,NITRIT,NITRIT_FLAG_W,PHSPHT,PHSPHT_FLAG_W,CFC-11,CFC-11_FLAG_W,CFC-12,CFC-12_FLAG_W,TCARBN,TCARBN_FLAG_W,THETA
,,,,,,,,,,,,METERS,DBAR,ITS-90,PSS-78,,PSS-78,,UMOL/KG,,UMOL/KG,,UMOL/KG,,UMOL/KG,,UMOL/KG,,PMOL/KG,,PMOL/KG,,UMOL/KG,,DEG C
06MT19970815,      AR07E,     536,          1,     203772,         22,         22,2,19970830,       0000,    54.6000,   -26.0617,       3410,    12.9,  14.1351,  35.2506,2,  35.2477,2,   252.9,2,    0.31,2,    0.59,2,    0.12,2,    0.13,2,-999.000,9,-999.000,9,  2055.0,2,  14.1332
06MT19970815,      AR07E,     536,          1,     203771,         21,         21,2,19970830,       0000,    54.6000,   -26.0617,       3410,    49.1,  14.1077,  35.2545,2,  35.2506,2,   251.1,2,    0.42,2,    0.98,2,    0.17,2,    0.15,2,-999.000,9,-999.000,9,  -999.0,9,  14.1006
06MT19970815,      AR07E,     536,          1,     203770,         20,         20,2,19970830,       0000,    54.6000,   -26.0617,       3410,   100.5,  10.1710,  35.3153,2,  35.3172,2,   240.6,2,    5.74,2,   12.98,2,    0.03,2,    0.83,2,   3.339,2,   1.626,3,  -999.0,9,  10.1592
06MT19970815,      AR07E,     536,          1,     203769,         19,         19,2,19970830,       0000,    54.6000,   -26.0617,       3410,   201.5,   9.3567,  35.2297,2,  35.2299,2,   244.4,2,    6.50,2,   13.78,2,    0.03,2,    0.89,2,   3.346,2,   1.588,3,  -999.0,9,   9.3342
06MT19970815,      AR07E,     536,          1,     203768,         18,         18,2,19970830,       0000,    54.6000,   -26.0617,       3410,   401.6,   7.1281,  35.0330,2,  35.0312,2,  -999.0,9,   10.26,2,   18.43,2,    0.01,2,    1.20,2,   2.612,2,   1.154,3,  -999.0,9,   7.0895
06MT19970815,      AR07E,     536,          1,     203767,         17,         17,2,19970830,       0000,    54.6000,   -26.0617,       3410,   598.8,   5.7255,  35.0352,2,  35.0365,2,   226.8,2,   11.24,2,   18.93,2,    0.02,2,    1.23,2,   2.382,2,   1.003,3,  -999.0,9,   5.6735
06MT19970815,      AR07E,     536,          1,     203766,         16,         16,2,19970830,       0000,    54.6000,   -26.0617,       3410,   800.8,   4.6209,  34.9656,2,  34.9292,0,   248.3,2,   11.22,2,   18.40,2,    0.01,2,    1.20,2,   2.540,2,   1.077,3,  -999.0,9,   4.5570
06MT19970815,      AR07E,     536,          1,     203765,         15,         15,2,19970830,       0000,    54.6000,   -26.0617,       3410,  1000.9,   3.9944,  34.9282,2,  34.9291,2,   312.0,4,   10.99,2,   17.92,2,    0.01,2,    1.17,2,   2.911,2,   1.262,3,  -999.0,9,   3.9180
06MT19970815,      AR07E,     536,          1,     203764,         14,         14,2,19970830,       0000,    54.6000,   -26.0617,       3410,  1199.1,   3.6500,  34.9047,2,  34.9034,2,   274.9,2,   10.95,2,   17.55,2,    0.01,2,    1.15,2,   2.637,2,   1.106,3,  -999.0,9,   3.5599
06MT19970815,      AR07E,     536,          1,     203763,         13,         13,2,19970830,       0000,    54.6000,   -26.0617,       3410,  1400.9,   3.4368,  34.8915,2,  34.8915,2,   280.2,2,   10.86,2,   17.23,2,    0.01,2,    1.13,2,   2.635,2,   1.102,3,  -999.0,9,   3.3317
06MT19970815,      AR07E,     536,          1,     203762,         12,         12,2,19970830,       0000,    54.6000,   -26.0617,       3410,  1599.8,   3.3168,  34.8890,2,  34.8885,2,   283.0,2,   10.94,2,   17.08,2,    0.01,2,    1.12,2,   2.622,2,   1.100,3,  -999.0,9,   3.1959
06MT19970815,      AR07E,     536,          1,     203761,         11,         11,2,19970830,       0000,    54.6000,   -26.0617,       3410,  1701.3,   3.2360,  34.8846,2,  34.8840,2,   285.3,2,   10.82,2,   16.95,2,    0.01,2,    1.12,2,   2.802,2,   1.192,3,  -999.0,9,   3.1071
06MT19970815,      AR07E,     536,          1,     203760,         10,         10,2,19970830,       0000,    54.6000,   -26.0617,       3410,  1801.5,   3.1948,  34.8844,2,  34.8847,2,   286.7,2,   10.82,2,   16.85,2,    0.02,2,    1.11,2,   2.904,2,   1.213,3,  -999.0,9,   3.0576
06MT19970815,      AR07E,     536,          1,     203759,          9,          9,2,19970830,       0000,    54.6000,   -26.0617,       3410,  2000.6,   3.1915,  34.8976,2,  34.8971,2,   283.3,2,   11.45,2,   16.80,2,    0.04,2,    1.11,2,   2.487,2,   1.044,3,  -999.0,9,   3.0361
06MT19970815,      AR07E,     536,          1,     203758,          8,          8,2,19970830,       0000,    54.6000,   -26.0617,       3410,  2200.2,   3.1988,  34.9191,2,  34.9187,2,   280.0,2,   12.14,2,   16.81,2,    0.02,2,    1.11,2,   2.040,2,   0.844,3,  -999.0,9,   3.0245
06MT19970815,      AR07E,     536,          1,     203757,          7,          7,2,19970830,       0000,    54.6000,   -26.0617,       3410,  2402.1,   3.1557,  34.9394,2,  34.9399,2,   273.8,2,   13.86,2,   16.91,2,    0.03,2,    1.12,2,   1.599,2,   0.651,3,  -999.0,9,   2.9625
06MT19970815,      AR07E,     536,          1,     203756,          6,          6,2,19970830,       0000,    54.6000,   -26.0617,       3410,  2601.9,   3.0568,  34.9491,2,  34.9488,2,   272.6,2,   15.17,2,   16.85,2,    0.01,2,    1.12,2,   1.493,2,   0.617,3,  -999.0,9,   2.8456
06MT19970815,      AR07E,     536,          1,     203755,          5,          5,2,19970830,       0000,    54.6000,   -26.0617,       3410,  2802.1,   2.9483,  34.9524,2,  34.9526,2,   269.5,2,   17.60,2,   17.26,2,    0.03,2,    1.15,2,   1.406,2,   0.571,3,  -999.0,9,   2.7190
06MT19970815,      AR07E,     536,          1,     203754,          4,          4,2,19970830,       0000,    54.6000,   -26.0617,       3410,  3003.9,   2.8511,  34.9520,2,  34.9517,2,   267.9,2,   19.98,2,   17.56,2,    0.02,2,    1.17,2,   1.376,2,   0.546,3,  -999.0,9,   2.6030
06MT19970815,      AR07E,     536,          1,     203753,          3,          3,2,19970830,       0000,    54.6000,   -26.0617,       3410,  3202.0,   2.7700,  34.9487,2,  34.9489,2,   265.2,2,   22.64,2,   17.96,2,    0.02,2,    1.20,2,   1.347,2,   0.535,3,  -999.0,9,   2.5029
06MT19970815,      AR07E,     536,          1,     203752,          2,          2,2,19970830,       0000,    54.6000,   -26.0617,       3410,  3302.8,   2.7353,  34.9498,2,  34.9497,2,   265.9,2,   22.70,2,   17.94,2,    0.01,2,    1.20,2,   1.460,2,   0.589,3,  -999.0,9,   2.4582
06MT19970815,      AR07E,     536,          1,     203751,          1,          1,2,19970830,       0000,    54.6000,   -26.0617,       3410,  3434.4,   2.7350,  34.9521,2,  34.9534,2,   268.2,2,   20.80,2,   17.41,2,    0.02,2,    1.17,2,   1.739,2,   0.735,3,  -999.0,9,   2.4437
06MT19970815,      AR07E,     537,          1,     203792,         20,         20,2,19970831,       0000,    54.5667,   -25.6150,       2421,    12.1,  14.1487,  35.2519,2,  35.2502,2,   250.8,2,    0.42,2,    0.68,2,    0.12,2,    0.15,2,-999.000,9,-999.000,9,  2056.0,2,  14.1469
06MT19970815,      AR07E,     537,          1,     203791,         19,         19,2,19970831,       0000,    54.5667,   -25.6150,       2421,    49.3,  12.1033,  35.3142,2,  35.3176,2,   241.8,2,    2.52,2,    7.66,2,    0.42,2,    0.55,2,-999.000,9,-999.000,9,  -999.0,9,  12.0968
06MT19970815,      AR07E,     537,          1,     203790,         18,         18,2,19970831,       0000,    54.5667,   -25.6150,       2421,   101.4,  10.3419,  35.3510,2,  35.3523,2,   242.9,2,    5.50,2,   12.68,2,    0.04,2,    0.82,2,-999.000,9,-999.000,9,  -999.0,9,  10.3299
06MT19970815,      AR07E,     537,          1,     203789,         17,         17,2,19970831,       0000,    54.5667,   -25.6150,       2421,   200.0,   9.0079,  35.1779,2,  35.1789,2,   240.1,2,    7.29,2,   14.69,2,    0.02,2,    0.96,2,-999.000,9,-999.000,9,  -999.0,9,   8.9861
06MT19970815,      AR07E,     537,          1,     203788,         16,         16,2,19970831,       0000,    54.5667,   -25.6150,       2421,   402.5,   6.9989,  35.0048,2,  35.0045,2,   223.0,2,   10.07,2,   18.06,2,    0.03,2,    1.19,2,-999.000,9,-999.000,9,  -999.0,9,   6.9606
06MT19970815,      AR07E,     537,          1,     203787,         15,         15,2,19970831,       0000,    54.5667,   -25.6150,       2421,   601.4,   5.8856,  35.0413,2,  35.0326,2,   225.1,2,   11.27,2,   18.95,2,    0.02,2,    1.23,2,-999.000,9,-999.000,9,  -999.0,9,   5.8326
06MT19970815,      AR07E,     537,          1,     203786,         14,         14,2,19970831,       0000,    54.5667,   -25.6150,       2421,   800.4,   4.7584,  34.9780,2,  34.9791,2,   245.4,2,   11.36,2,   18.52,2,    0.02,2,    1.21,2,-999.000,9,-999.000,9,  -999.0,9,   4.6937
06MT19970815,      AR07E,     537,          1,     203785,         13,         13,3,19970831,       0000,    54.5667,   -25.6150,       2421,  1000.1,   4.1072,  34.9341,2,  34.9234,0,   262.3,2,   11.12,2,   18.09,2,    0.01,2,    1.18,2,-999.000,9,-999.000,9,  -999.0,9,   4.0300
06MT19970815,      AR07E,     537,          1,     203784,         12,         12,2,19970831,       0000,    54.5667,   -25.6150,       2421,  1100.2,   3.8853,  34.9189,2,  34.9197,2,   267.2,2,   11.13,2,   17.86,2,    0.02,2,    1.17,2,-999.000,9,-999.000,9,  -999.0,9,   3.8014
06MT19970815,      AR07E,     537,          1,     203783,         11,         11,2,19970831,       0000,    54.5667,   -25.6150,       2421,  1200.7,   3.7261,  34.9084,2,  34.9085,2,  -999.0,9,   11.09,2,   17.69,2,    0.02,2,    1.17,2,-999.000,9,-999.000,9,  -999.0,9,   3.6351
06MT19970815,      AR07E,     537,          1,     203782,         10,         10,2,19970831,       0000,    54.5667,   -25.6150,       2421,  1300.9,   3.5932,  34.8996,2,  34.9004,2,   277.6,2,   11.01,2,   17.59,2,    0.00,2,    1.15,2,-999.000,9,-999.000,9,  -999.0,9,   3.4950
06MT19970815,      AR07E,     537,          1,     203781,          9,          9,2,19970831,       0000,    54.5667,   -25.6150,       2421,  1400.7,   3.4954,  34.8947,2,  34.8951,2,   278.4,2,   11.05,2,   17.27,2,    0.02,2,    1.14,2,-999.000,9,-999.000,9,  -999.0,9,   3.3897
06MT19970815,      AR07E,     537,          1,     203780,          8,          8,2,19970831,       0000,    54.5667,   -25.6150,       2421,  1500.0,   3.4102,  34.8924,2,  34.8922,2,  -999.0,9,   11.09,2,   17.26,2,    0.02,2,    1.14,2,-999.000,9,-999.000,9,  -999.0,9,   3.2969
06MT19970815,      AR07E,     537,          1,     203779,          7,          7,3,19970831,       0000,    54.5667,   -25.6150,       2421,  1602.5,   3.3265,  34.8872,2,-999.0000,9,  -999.0,9,   10.59,2,   16.74,2, -999.00,9,    1.10,2,-999.000,9,-999.000,9,  -999.0,9,   3.2052
06MT19970815,      AR07E,     537,          1,     203778,          6,          6,3,19970831,       0000,    54.5667,   -25.6150,       2421,  1698.7,   3.2879,  34.8916,2,  34.8920,2,   284.0,2,   11.27,2,   16.97,2,    0.02,2,    1.13,2,-999.000,9,-999.000,9,  -999.0,9,   3.1586
06MT19970815,      AR07E,     537,          1,     203777,          5,          5,2,19970831,       0000,    54.5667,   -25.6150,       2421,  1800.1,   3.2414,  34.8987,2,  34.8977,2,   281.9,2,   11.61,2,   17.01,2,    0.01,2,    1.12,2,-999.000,9,-999.000,9,  -999.0,9,   3.1036
06MT19970815,      AR07E,     537,          1,     203776,          4,          4,2,19970831,       0000,    54.5667,   -25.6150,       2421,  1900.5,   3.2372,  34.9097,2,  34.9096,2,   281.6,2,   12.04,2,   16.91,2,    0.02,2,    1.12,2,-999.000,9,-999.000,9,  -999.0,9,   3.0903
06MT19970815,      AR07E,     537,          1,     203775,          3,          3,2,19970831,       0000,    54.5667,   -25.6150,       2421,  1999.7,   3.1990,  34.9195,2,  34.9174,0,   279.7,2,   12.22,2,   16.80,2,    0.02,2,    1.11,2,-999.000,9,-999.000,9,  -999.0,9,   3.0435
06MT19970815,      AR07E,     537,          1,     203774,          2,          2,2,19970831,       0000,    54.5667,   -25.6150,       2421,  2201.0,   3.1756,  34.9342,2,  34.9339,2,   277.2,2,   13.11,2,   16.79,2,    0.02,2,    1.12,2,-999.000,9,-999.000,9,  -999.0,9,   3.0015
06MT19970815,      AR07E,     537,          1,     203773,          1,          1,2,19970831,       0000,    54.5667,   -25.6150,       2421,  2414.7,   3.1110,  34.9427,2,-999.0000,9,   273.2,2,   14.20,2,   16.85,2,    0.01,2,    1.12,2,-999.000,9,-999.000,9,  -999.0,9,   2.9174
06MT19970815,      AR07E,     538,          1,     203815,         21,         21,2,19970831,       0000,    54.3150,   -25.8633,       3050,    14.1,  13.8741,  35.2293,2,  35.2276,2,   253.4,2,    0.60,2,    0.89,2,    0.14,2,    0.17,2,   3.269,2,   1.606,3,  2058.2,2,  13.8721
06MT19970815,      AR07E,     538,          1,     203814,         20,         20,2,19970831,       0000,    54.3150,   -25.8633,       3050,    49.4,  13.8687,  35.2295,2,  35.2334,2,   252.2,2,    0.67,2,    1.37,2,    0.17,2,    0.20,2,-999.000,9,-999.000,9,  -999.0,9,  13.8616
06MT19970815,      AR07E,     538,          1,     203813,         19,         19,2,19970831,       0000,    54.3150,   -25.8633,       3050,   100.5,  10.4084,  35.2589,2,  35.2619,2,  -999.0,9,    4.42,2,   11.60,2,    0.04,2,    0.77,2,-999.000,9,-999.000,9,  -999.0,9,  10.3965
06MT19970815,      AR07E,     538,          1,     203812,         18,         18,2,19970831,       0000,    54.3150,   -25.8633,       3050,   200.5,   8.4613,  35.1097,2,  35.1080,2,   250.7,2,    7.32,2,   14.55,2,    0.03,2,    0.97,2,-999.000,9,-999.000,9,  -999.0,9,   8.4403
06MT19970815,      AR07E,     538,          1,     203811,         17,         17,2,19970831,       0000,    54.3150,   -25.8633,       3050,   401.2,   6.6003,  34.9777,2,  34.9770,2,  -999.0,9,   11.07,2,   19.16,2,    0.02,2,    1.26,2,-999.000,9,-999.000,9,  -999.0,9,   6.5634
06MT19970815,      AR07E,     538,          1,     203810,         16,         16,2,19970831,       0000,    54.3150,   -25.8633,       3050,   602.1,   5.4544,  35.0136,2,  35.0186,2,   230.6,2,   11.42,2,   18.84,2,    0.01,2,    1.23,2,-999.000,9,-999.000,9,  -999.0,9,   5.4034
06MT19970815,      AR07E,     538,          1,     203809,         15,         15,2,19970831,       0000,    54.3150,   -25.8633,       3050,   801.5,   4.5220,  34.9576,2,  34.9598,2,   250.1,2,   11.29,2,   18.44,2,    0.01,2,    1.22,2,-999.000,9,-999.000,9,  -999.0,9,   4.4587
06MT19970815,      AR07E,     538,          1,     203808,         14,         14,3,19970831,       0000,    54.3150,   -25.8633,       3050,  1001.0,   3.9552,  34.9242,2,  34.9265,2,   264.9,2,   11.04,2,   17.88,2,    0.02,2,    1.18,2,   2.616,2,   1.127,3,  -999.0,9,   3.8791
06MT19970815,      AR07E,     538,          1,     203807,         13,         13,3,19970831,       0000,    54.3150,   -25.8633,       3050,  1201.4,   3.6369,  34.9030,2,  34.9042,2,   274.7,2,   11.01,2,   17.54,2,    0.01,2,    1.16,2,-999.000,9,-999.000,9,  -999.0,9,   3.5467
06MT19970815,      AR07E,     538,          1,     203806,         12,         12,2,19970831,       0000,    54.3150,   -25.8633,       3050,  1399.9,   3.4383,  34.8922,2,  34.8928,2,   279.4,2,   10.99,2,   17.27,2,    0.02,2,    1.14,2,   2.593,2,   1.115,3,  -999.0,9,   3.3333
06MT19970815,      AR07E,     538,          1,     203805,         11,         11,2,19970831,       0000,    54.3150,   -25.8633,       3050,  1500.8,   3.3540,  34.8900,2,  34.8907,2,   281.4,2,   11.01,2,   17.14,2,    0.02,2,    1.14,2,-999.000,9,-999.000,9,  -999.0,9,   3.2412
06MT19970815,      AR07E,     538,          1,     203804,         10,         10,2,19970831,       0000,    54.3150,   -25.8633,       3050,  1598.6,   3.2583,  34.8828,2,  34.8835,2,   283.0,2,   10.84,2,   17.03,2,    0.02,2,    1.12,2,   2.892,2,   1.255,3,  -999.0,9,   3.1382
06MT19970815,      AR07E,     538,          1,     203803,          9,          9,2,19970831,       0000,    54.3150,   -25.8633,       3050,  1700.4,   3.2229,  34.8842,2,  34.8841,2,   285.3,2,   10.89,2,   16.89,2,    0.03,2,    1.12,2,   2.807,2,   1.214,3,  -999.0,9,   3.0943
06MT19970815,      AR07E,     538,          1,     203802,          8,          8,2,19970831,       0000,    54.3150,   -25.8633,       3050,  1801.2,   3.1989,  34.8897,2,  34.8900,2,   284.4,2,   11.16,2,   16.81,2,    0.02,2,    1.12,2,   2.681,2,   1.151,3,  -999.0,9,   3.0616
06MT19970815,      AR07E,     538,          1,     203801,          7,          7,3,19970831,       0000,    54.3150,   -25.8633,       3050,  1900.0,   3.1994,  34.8979,2,  34.8999,2,   282.2,2,   11.34,2,   16.78,2,    0.02,2,    1.12,2,-999.000,9,-999.000,9,  -999.0,9,   3.0532
06MT19970815,      AR07E,     538,          1,     203800,          6,          6,2,19970831,       0000,    54.3150,   -25.8633,       3050,  2001.2,   3.1980,  34.9066,2,  34.9060,2,   280.7,2,   11.71,2,   16.78,2,    0.04,2,    1.12,2,-999.000,9,-999.000,9,  -999.0,9,   3.0425
06MT19970815,      AR07E,     538,          1,     203799,          5,          5,2,19970831,       0000,    54.3150,   -25.8633,       3050,  2201.7,   3.1701,  34.9253,2,  34.9245,2,   277.6,2,   12.84,2,   16.60,2,    0.08,2,    1.09,2,   1.930,2,   0.826,3,  -999.0,9,   2.9961
06MT19970815,      AR07E,     538,          1,     203798,          4,          4,2,19970831,       0000,    54.3150,   -25.8633,       3050,  2404.7,   3.1139,  34.9395,2,  34.9390,2,   274.3,2,   13.93,2,   16.81,2,    0.02,2,    1.12,2,   1.628,2,   0.686,3,  -999.0,9,   2.9212
06MT19970815,      AR07E,     538,          1,     203797,          3,          3,2,19970831,       0000,    54.3150,   -25.8633,       3050,  2599.8,   3.0152,  34.9488,2,  34.9486,2,   272.8,2,   15.53,2,   16.82,2,    0.02,2,    1.13,2,   1.535,2,   0.635,3,  -999.0,9,   2.8050
06MT19970815,      AR07E,     538,          1,     203796,          2,          2,2,19970831,       0000,    54.3150,   -25.8633,       3050,  3004.2,   2.7954,  34.9477,2,  34.9472,2,   263.8,2,   22.55,2,   17.97,2,    0.02,2,    1.22,2,   1.250,2,   0.499,3,  -999.0,9,   2.5485
06MT19970815,      AR07E,     538,          1,     203795,          1,          1,2,19970831,       0000,    54.3150,   -25.8633,       3050,  3088.3,   2.7194,  34.9412,2,  34.9404,2,   259.7,2,   26.82,2,   18.73,2,    0.05,2,    1.27,2,   1.025,2,   0.401,3,  -999.0,9,   2.4655