BOTTLE,20220204CCHSIOENA
EXPOCODE,SECT_ID,STNNBR,CASTNO,BIONBR,SAMPNO,BTLNBR,BTLNBR_FLAG_W,DATE,TIME,LATITUDE,LONGITUDE,DEPTH,CTDPRS,CTDTMP,CTDSAL,CTDSAL_FLAG_W,SALNTY,SALNTY_FLAG_W,OXYGEN,OXYGEN_FLAG_W,SILCAT,SILCAT_FLAG_W,NITRAT,NITRAT_FLAG_W,NITRIT,NITRIT_FLAG_W,PHSPHT,PHSPHT_FLAG_W,CFC-11,CFC-11_FLAG_W,CFC-12,CFC-12_FLAG_W,TCARBN,TCARBN_FLAG_W,THETA
,,,,,,,,,,,,METERS,DBAR,ITS-90,PSS-78,,PSS-78,,UMOL/KG,,UMOL/KG,,UMOL/KG,,UMOL/KG,,UMOL/KG,,PMOL/KG,,PMOL/KG,,UMOL/KG,,DEG C
06MT19970815,      AR07E,     542,          1,     203904,         22,         22,2,19970901,       0000,    52.5333,   -28.3783,       3680,    13.4,  15.1028,  35.3136,2,  35.3084,2,   249.3,2,    0.92,2,    0.43,2,    0.07,2,    0.11,2,-999.000,9,-999.000,9,  2052.9,2,  15.1008
06MT19970815,      AR07E,     542,          1,     203903,         21,         21,3,19970901,       0000,    52.5333,   -28.3783,       3680,   102.0,  10.5404,  35.2157,2,-999.0000,9,  -999.0,9, -999.00,9, -999.00,9, -999.00,9, -999.00,9,-999.000,9,-999.000,9,  -999.0,9,  10.5282
06MT19970815,      AR07E,     542,          1,     203902,         20,         20,2,19970901,       0000,    52.5333,   -28.3783,       3680,   198.8,   9.4785,  35.2169,2,  35.2159,2,   223.9,2,    7.66,2,   14.56,2,    0.20,2,    0.93,2,   2.900,2,   1.496,3,  -999.0,9,   9.4561
06MT19970815,      AR07E,     542,          1,     203901,         19,         19,2,19970901,       0000,    52.5333,   -28.3783,       3680,   401.8,   6.3967,  34.9032,2,  34.9003,2,   224.4,2,   10.77,2,   18.27,2,    0.07,2,    1.15,2,   2.841,2,   1.407,3,  -999.0,9,   6.3604
06MT19970815,      AR07E,     542,          1,     203900,         18,         18,2,19970901,       0000,    52.5333,   -28.3783,       3680,   600.9,   4.9200,  34.9216,2,  34.9214,2,   238.7,2,   11.28,2,   18.59,2,    0.06,2,    1.17,2,   2.842,2,   1.364,3,  -999.0,9,   4.8716
06MT19970815,      AR07E,     542,          1,     203899,         17,         17,2,19970901,       0000,    52.5333,   -28.3783,       3680,   802.0,   4.2969,  34.9443,2,  34.9456,2,   256.1,2,   11.08,2,   18.17,2,    0.03,2,    1.19,2,   2.691,2,   1.265,3,  -999.0,9,   4.2350
06MT19970815,      AR07E,     542,          1,     203898,         16,         16,2,19970901,       0000,    52.5333,   -28.3783,       3680,  1000.5,   3.8519,  34.9194,2,  34.9197,2,   270.3,2,   10.89,2,   17.76,2,    0.03,2,    1.16,2,   2.790,2,   1.315,3,  -999.0,9,   3.7766
06MT19970815,      AR07E,     542,          1,     203897,         15,         15,2,19970901,       0000,    52.5333,   -28.3783,       3680,  1202.5,   3.5364,  34.8979,2,  34.8936,0,   277.2,2,   10.68,2,   17.36,2,    0.04,2,    1.14,2,   2.853,2,   1.350,3,  -999.0,9,   3.4471
06MT19970815,      AR07E,     542,          1,     203896,         14,         14,2,19970901,       0000,    52.5333,   -28.3783,       3680,  1400.7,   3.3856,  34.8882,2,  34.8839,0,   282.5,2,   10.71,2,   17.16,2,    0.03,2,    1.11,2,   2.945,2,   1.382,3,  -999.0,9,   3.2811
06MT19970815,      AR07E,     542,          1,     203895,         13,         13,2,19970901,       0000,    52.5333,   -28.3783,       3680,  1497.7,   3.3162,  34.8848,2,  34.8809,0,   284.6,2,   10.68,2,   17.02,2,    0.03,2,    1.09,2,   2.962,2,   1.396,3,  -999.0,9,   3.2041
06MT19970815,      AR07E,     542,          1,     203894,         12,         12,2,19970901,       0000,    52.5333,   -28.3783,       3680,  1600.1,   3.2426,  34.8819,2,  34.8809,2,   286.0,2,   10.68,2,   17.06,2,    0.02,2,    1.13,2,   2.999,2,   1.421,3,  -999.0,9,   3.1226
06MT19970815,      AR07E,     542,          1,     203893,         11,         11,2,19970901,       0000,    52.5333,   -28.3783,       3680,  1701.5,   3.1931,  34.8802,2,  34.8786,2,   286.8,2,   10.80,2,   16.97,2,    0.02,2,    1.13,2,   3.078,2,   1.451,3,  -999.0,9,   3.0648
06MT19970815,      AR07E,     542,          1,     203892,         10,         10,2,19970901,       0000,    52.5333,   -28.3783,       3680,  1900.3,   3.1419,  34.8849,2,  34.8842,2,   286.9,2,   11.03,2,   16.89,2,    0.02,2,    1.12,2,   2.883,2,   1.367,3,  -999.0,9,   2.9965
06MT19970815,      AR07E,     542,          1,     203891,          9,          9,3,19970901,       0000,    52.5333,   -28.3783,       3680,  2201.1,   3.1580,  34.9159,2,  34.9146,2,   279.9,2,   12.27,2,   16.77,2,    0.04,2,    1.12,2,   2.183,2,   1.045,3,  -999.0,9,   2.9843
06MT19970815,      AR07E,     542,          1,     203890,          8,          8,2,19970901,       0000,    52.5333,   -28.3783,       3680,  2399.8,   3.1397,  34.9290,2,  34.9280,2,   277.0,2,   12.92,2,   16.81,2,    0.02,2,    1.12,2,   1.891,2,   0.917,3,  -999.0,9,   2.9471
06MT19970815,      AR07E,     542,          1,     203889,          7,          7,2,19970901,       0000,    52.5333,   -28.3783,       3680,  2601.5,   3.1093,  34.9407,2,  34.9417,2,   275.5,2,   13.22,2,   16.71,2,    0.01,2,    1.11,2,   1.799,2,   0.889,3,  -999.0,9,   2.8972
06MT19970815,      AR07E,     542,          1,     203888,          6,          6,2,19970901,       0000,    52.5333,   -28.3783,       3680,  2800.0,   3.0088,  34.9435,2,  34.9439,2,   273.8,2,   15.34,2,   16.83,2,    0.03,2,    1.12,2,   1.654,2,   0.810,3,  -999.0,9,   2.7785
06MT19970815,      AR07E,     542,          1,     203887,          5,          5,2,19970901,       0000,    52.5333,   -28.3783,       3680,  3001.2,   2.9542,  34.9498,2,  34.9505,2,   272.4,2,   15.92,2,   16.89,2,    0.02,2,    1.13,2,   1.663,2,   0.820,3,  -999.0,9,   2.7042
06MT19970815,      AR07E,     542,          1,     203886,          4,          4,2,19970901,       0000,    52.5333,   -28.3783,       3680,  3203.7,   2.8927,  34.9516,2,  34.9517,2,   270.6,2,   17.60,2,   17.12,2,    0.02,2,    1.15,2,   1.589,2,   0.776,3,  -999.0,9,   2.6226
06MT19970815,      AR07E,     542,          1,     203885,          3,          3,2,19970901,       0000,    52.5333,   -28.3783,       3680,  3402.5,   2.8342,  34.9487,2,  34.9495,2,   265.5,2,   21.29,2,   17.76,2,    0.04,2,    1.19,2,   1.372,2,   0.683,3,  -999.0,9,   2.5440
06MT19970815,      AR07E,     542,          1,     203884,          2,          2,2,19970901,       0000,    52.5333,   -28.3783,       3680,  3623.3,   2.7960,  34.9454,2,  34.9466,2,  -999.0,9,   24.26,2,   18.34,2,    0.02,2,    1.23,2,   1.233,2,   0.616,3,  -999.0,9,   2.4823
06MT19970815,      AR07E,     542,          1,     203883,          1,          1,2,19970901,       0000,    52.5333,   -28.3783,       3680,  3722.5,   2.7685,  34.9452,2,  34.9463,2,   262.2,2,   25.06,2,   18.45,2,    0.03,2,    1.24,2,   1.304,2,   0.659,3,  -999.0,9,   2.4443
06MT19970815,      AR07E,     543,          1,     203926,         22,         22,2,19970901,       0000,    52.0150,   -29.0817,       3793,    15.5,  14.5601,  35.0249,2,  34.9826,2,   256.3,2,    0.99,2,    0.31,2,    0.08,2,    0.14,2,-999.000,9,-999.000,9,  2044.9,2,  14.5578
06MT19970815,      AR07E,     543,          1,     203925,         21,         21,2,19970901,       0000,    52.0150,   -29.0817,       3793,    49.2,  10.4727,  34.8591,2,  34.8703,2,   249.5,2,    2.86,2,    8.03,2,    0.08,2,    0.60,2,-999.000,9,-999.000,9,  -999.0,9,  10.4669
06MT19970815,      AR07E,     543,          1,     203924,         20,         20,2,19970901,       0000,    52.0150,   -29.0817,       3793,   100.6,   9.7555,  35.0960,2,  35.0942,2,   225.4,2,    6.14,2,   13.09,2,    0.04,2,    0.88,2,-999.000,9,-999.000,9,  -999.0,9,   9.7440
06MT19970815,      AR07E,     543,          1,     203923,         19,         19,2,19970901,       0000,    52.0150,   -29.0817,       3793,   200.4,   8.3151,  35.0840,2,  35.0803,2,   234.5,2,    8.39,2,   16.00,2,    0.02,2,    1.05,2,-999.000,9,-999.000,9,  -999.0,9,   8.2943
06MT19970815,      AR07E,     543,          1,     203922,         18,         18,2,19970901,       0000,    52.0150,   -29.0817,       3793,   399.7,   6.0585,  34.9444,2,  34.9429,2,   222.3,2,   11.22,2,   19.23,2,    0.02,2,    1.26,2,-999.000,9,-999.000,9,  -999.0,9,   6.0234
06MT19970815,      AR07E,     543,          1,     203921,         17,         17,2,19970901,       0000,    52.0150,   -29.0817,       3793,   600.7,   5.0314,  34.9754,2,  34.9760,2,   238.1,2,   11.50,2,   18.95,2,    0.02,2,    1.24,2,   2.486,2,   1.194,3,  -999.0,9,   4.9825
06MT19970815,      AR07E,     543,          1,     203920,         16,         16,2,19970901,       0000,    52.0150,   -29.0817,       3793,   901.0,   4.0143,  34.9286,2,  34.9289,2,   265.1,2,   10.91,2,   18.04,2,    0.01,2,    1.18,2,   2.795,2,   1.331,3,  -999.0,9,   3.9461
06MT19970815,      AR07E,     543,          1,     203919,         15,         15,2,19970901,       0000,    52.0150,   -29.0817,       3793,  1100.7,   3.7145,  34.9112,2,  34.9110,2,   272.0,2,   10.96,2,   17.74,2,    0.01,2,    1.17,2,   2.519,2,   1.188,3,  -999.0,9,   3.6320
06MT19970815,      AR07E,     543,          1,     203918,         14,         14,2,19970901,       0000,    52.0150,   -29.0817,       3793,  1299.0,   3.4746,  34.8937,2,  34.8934,2,   278.9,2,   10.82,2,   17.49,2,    0.01,2,    1.16,2,   2.728,2,   1.288,3,  -999.0,9,   3.3778
06MT19970815,      AR07E,     543,          1,     203917,         13,         13,2,19970901,       0000,    52.0150,   -29.0817,       3793,  1499.6,   3.3121,  34.8838,2,  34.8834,2,   283.7,2,   10.83,2,   17.18,2,    0.01,2,    1.14,2,   2.869,2,   1.354,3,  -999.0,9,   3.1999
06MT19970815,      AR07E,     543,          1,     203916,         12,         12,2,19970901,       0000,    52.0150,   -29.0817,       3793,  1699.4,   3.2211,  34.8809,2,  34.8813,2,   285.8,2,   10.88,2,   17.07,2,    0.01,2,    1.13,2,   2.907,2,   1.381,3,  -999.0,9,   3.0926
06MT19970815,      AR07E,     543,          1,     203915,         11,         11,2,19970901,       0000,    52.0150,   -29.0817,       3793,  1899.7,   3.1810,  34.8906,2,  34.8897,2,   284.2,2,   11.32,2,   16.97,2,    0.01,2,    1.13,2,   2.660,2,   1.258,3,  -999.0,9,   3.0351
06MT19970815,      AR07E,     543,          1,     203914,         10,         10,2,19970901,       0000,    52.0150,   -29.0817,       3793,  2100.3,   3.1808,  34.9068,2,  34.9060,2,   283.2,2,   12.10,2,   16.97,2,    0.01,2,    1.13,2,   2.262,2,   1.085,3,  -999.0,9,   3.0163
06MT19970815,      AR07E,     543,          1,     203913,          9,          9,2,19970901,       0000,    52.0150,   -29.0817,       3793,  2300.8,   3.1460,  34.9226,2,  34.9218,2,   278.1,2,   12.78,2,   16.95,2,    0.01,2,    1.13,2,   1.980,2,   0.969,3,  -999.0,9,   2.9629
06MT19970815,      AR07E,     543,          1,     203912,          8,          8,2,19970901,       0000,    52.0150,   -29.0817,       3793,  2500.1,   3.1103,  34.9314,2,  34.9308,2,   275.5,2,   13.51,2,   16.84,2,    0.01,2,    1.12,2,   1.784,2,   0.880,3,  -999.0,9,   2.9083
06MT19970815,      AR07E,     543,          1,     203911,          7,          7,2,19970901,       0000,    52.0150,   -29.0817,       3793,  2701.3,   3.0552,  34.9364,2,  34.9365,2,   274.1,2,   14.80,2,   16.97,2,    0.01,2,    1.13,2,   1.634,2,   0.804,3,  -999.0,9,   2.8341
06MT19970815,      AR07E,     543,          1,     203910,          6,          6,2,19970901,       0000,    52.0150,   -29.0817,       3793,  2900.9,   2.9682,  34.9420,2,  34.9432,2,   272.0,2,   16.82,2,   17.08,2,    0.01,2,    1.14,2,   1.528,2,   0.764,3,  -999.0,9,   2.7284
06MT19970815,      AR07E,     543,          1,     203909,          5,          5,2,19970901,       0000,    52.0150,   -29.0817,       3793,  3101.1,   2.8949,  34.9441,2,  34.9443,2,   269.9,2,   18.48,2,   17.27,2,    0.02,2,    1.15,2,   1.438,2,   0.716,3,  -999.0,9,   2.6357
06MT19970815,      AR07E,     543,          1,     203908,          4,          4,2,19970901,       0000,    52.0150,   -29.0817,       3793,  3301.6,   2.8596,  34.9444,2,  34.9453,2,   266.7,2,   20.17,2,   17.66,2,    0.01,2,    1.18,2,   1.308,2,   0.617,3,  -999.0,9,   2.5798
06MT19970815,      AR07E,     543,          1,     203907,          3,          3,2,19970901,       0000,    52.0150,   -29.0817,       3793,  3502.9,   2.8189,  34.9410,2,  34.9409,2,   267.1,2,   21.98,2,   17.91,2,    0.01,2,    1.20,2,   1.204,2,   0.590,3,  -999.0,9,   2.5180
06MT19970815,      AR07E,     543,          1,     203906,          2,          2,3,19970901,       0000,    52.0150,   -29.0817,       3793,  3751.6,   2.8024,  34.9382,2,  34.9386,2,   262.2,2,   24.65,2,   18.41,2,    0.01,2,    1.24,2,   1.060,2,   0.495,3,  -999.0,9,   2.4741
06MT19970815,      AR07E,     543,          1,     203905,          1,          1,2,19970901,       0000,    52.0150,   -29.0817,       3793,  3839.6,   2.7903,  34.9368,2,  34.9378,2,   257.6,2,   27.40,2,   18.99,2,    0.02,2,    1.28,2,   0.933,2,   0.473,3,  -999.0,9,   2.4523
06MT19970815,      AR07E,     544,          1,     203943,         17,         17,2,19970901,       0000,    51.7150,   -29.5033,       1883,    11.4,  14.2128,  34.9506,2,  34.9445,2,  -999.0,9,    1.06,2,    0.27,2,    0.05,2,    0.14,2,-999.000,9,-999.000,9,  -999.0,9,  14.2111
06MT19970815,      AR07E,     544,          1,     203942,         16,         16,2,19970901,       0000,    51.7150,   -29.5033,       1883,    11.6,  14.2059,  34.9507,2,  34.9438,2,   256.9,2,    1.03,2,    0.25,2,    0.05,2,    0.13,2,-999.000,9,-999.000,9,  2046.4,2,  14.2042
06MT19970815,      AR07E,     544,          1,     203941,         15,         15,2,19970901,       0000,    51.7150,   -29.5033,       1883,    99.8,  11.0239,  35.2749,2,  35.2785,2,   229.5,2,    4.71,2,   11.17,2,    0.04,2,    0.73,2,-999.000,9,-999.000,9,  2122.2,2,  11.0116
06MT19970815,      AR07E,     544,          1,     203940,         14,         14,3,19970901,       0000,    51.7150,   -29.5033,       1883,   202.4,  10.6420,  35.3950,2,  35.3984,2,   227.2,2,    6.08,2,   13.04,2,    0.02,2,    0.83,2,-999.000,9,-999.000,9,  2133.3,2,  10.6174
06MT19970815,      AR07E,     544,          1,     203939,         13,         13,2,19970901,       0000,    51.7150,   -29.5033,       1883,   401.0,   7.0592,  34.9646,2,  34.9566,2,   228.0,2,    9.86,2,   17.59,2,    0.03,2,    1.15,2,-999.000,9,-999.000,9,  2154.7,2,   7.0209
06MT19970815,      AR07E,     544,          1,     203938,         12,         12,2,19970901,       0000,    51.7150,   -29.5033,       1883,   596.8,   5.0864,  34.9018,2,  34.9042,2,   238.4,2,   11.00,2,   18.47,2,    0.01,2,    1.21,2,-999.000,9,-999.000,9,  2162.4,2,   5.0376
06MT19970815,      AR07E,     544,          1,     203937,         11,         11,2,19970901,       0000,    51.7150,   -29.5033,       1883,   700.6,   4.7524,  34.9328,2,  34.9343,2,   243.4,2,   11.26,2,   18.63,2,    0.02,2,    1.22,2,-999.000,9,-999.000,9,  2164.1,2,   4.6964
06MT19970815,      AR07E,     544,          1,     203936,         10,         10,3,19970901,       0000,    51.7150,   -29.5033,       1883,   801.6,   4.3410,  34.9342,2,  34.9378,2,   254.3,2,   10.98,2,   18.15,2,    0.02,2,    1.19,2,-999.000,9,-999.000,9,  2162.2,2,   4.2788
06MT19970815,      AR07E,     544,          1,     203935,          9,          9,2,19970901,       0000,    51.7150,   -29.5033,       1883,   901.0,   4.0822,  34.9282,2,  34.9304,2,   262.8,2,   10.89,2,   17.89,2,    0.05,2,    1.17,2,-999.000,9,-999.000,9,  2159.4,2,   4.0135
06MT19970815,      AR07E,     544,          1,     203934,          8,          8,2,19970901,       0000,    51.7150,   -29.5033,       1883,   999.6,   3.8496,  34.9145,2,  34.9174,2,   269.6,2,   10.88,2,   17.70,2,    0.02,2,    1.16,2,-999.000,9,-999.000,9,  2157.1,2,   3.7744
06MT19970815,      AR07E,     544,          1,     203933,          7,          7,3,19970901,       0000,    51.7150,   -29.5033,       1883,  1099.9,   3.6745,  34.9061,2,  34.9074,2,   274.2,2,   10.79,2,   17.54,2,    0.02,2,    1.15,2,-999.000,9,-999.000,9,  2156.5,2,   3.5925
06MT19970815,      AR07E,     544,          1,     203932,          6,          6,3,19970901,       0000,    51.7150,   -29.5033,       1883,  1200.7,   3.5393,  34.8968,2,  34.8969,2,   276.9,2,   10.77,2,   17.39,2,    0.03,2,    1.14,2,-999.000,9,-999.000,9,  2154.8,2,   3.4501
06MT19970815,      AR07E,     544,          1,     203931,          5,          5,2,19970901,       0000,    51.7150,   -29.5033,       1883,  1299.5,   3.4536,  34.8909,2,  34.8912,2,   280.2,2,   10.77,2,   17.28,2,    0.02,2,    1.14,2,-999.000,9,-999.000,9,  2154.0,2,   3.3569
06MT19970815,      AR07E,     544,          1,     203930,          4,          4,2,19970901,       0000,    51.7150,   -29.5033,       1883,  1397.0,   3.3648,  34.8855,2,  34.8853,2,   282.0,2,   10.74,2,   17.20,2,    0.02,2,    1.13,2,-999.000,9,-999.000,9,  2153.2,2,   3.2608
06MT19970815,      AR07E,     544,          1,     203929,          3,          3,2,19970901,       0000,    51.7150,   -29.5033,       1883,  1498.0,   3.3061,  34.8825,2,  34.8822,2,   283.9,2,   10.75,2,   17.16,2,    0.01,2,    1.13,2,-999.000,9,-999.000,9,  2152.1,2,   3.1941
06MT19970815,      AR07E,     544,          1,     203928,          2,          2,2,19970901,       0000,    51.7150,   -29.5033,       1883,  1599.2,   3.2491,  34.8800,2,  34.8803,2,   284.1,2,   10.75,2,   17.07,2,    0.01,2,    1.12,2,-999.000,9,-999.000,9,  2151.6,2,   3.1291
06MT19970815,      AR07E,     544,          1,     203927,          1,          1,3,19970901,       0000,    51.7150,   -29.5033,       1883,  1700.4,   3.2030,  34.8822,2,  34.8819,2,   286.2,2,   10.85,2,   16.95,2,    0.01,2,    1.12,2,-999.000,9,-999.000,9,  2153.6,2,   3.0747