BOTTLE,20220204CCHSIOENA
EXPOCODE,SECT_ID,STNNBR,CASTNO,BIONBR,SAMPNO,BTLNBR,BTLNBR_FLAG_W,DATE,TIME,LATITUDE,LONGITUDE,DEPTH,CTDPRS,CTDTMP,CTDSAL,CTDSAL_FLAG_W,SALNTY,SALNTY_FLAG_W,OXYGEN,OXYGEN_FLAG_W,SILCAT,SILCAT_FLAG_W,NITRAT,NITRAT_FLAG_W,NITRIT,NITRIT_FLAG_W,PHSPHT,PHSPHT_FLAG_W,CFC-11,CFC-11_FLAG_W,CFC-12,CFC-12_FLAG_W,TCARBN,TCARBN_FLAG_W,THETA
,,,,,,,,,,,,METERS,DBAR,ITS-90,PSS-78,,PSS-78,,UMOL/KG,,UMOL/KG,,UMOL/KG,,UMOL/KG,,UMOL/KG,,PMOL/KG,,PMOL/KG,,UMOL/KG,,DEG C
06MT19970815,      AR07E,     515,          1,     203295,         22,         22,2,19970826,       0000,    59.5150,   -37.6183,       3126,    13.0,  10.3043,  34.8403,2,  34.8351,2,   276.6,2,    1.57,2,    5.22,2,    0.14,2,    0.41,2,   4.013,2,   2.136,3,  2071.8,2,  10.3028
06MT19970815,      AR07E,     515,          1,     203294,         21,         21,2,19970826,       0000,    59.5150,   -37.6183,       3126,    50.6,   6.5766,  35.0184,2,  35.0204,2,   277.3,2,    7.60,2,   15.40,2,    0.04,2,    1.01,2,-999.000,9,-999.000,9,  -999.0,9,   6.5721
06MT19970815,      AR07E,     515,          1,     203293,         20,         20,2,19970826,       0000,    59.5150,   -37.6183,       3126,   100.2,   6.1505,  34.9950,2,  34.9853,2,   282.2,2,    7.97,2,   15.59,2,    0.02,2,    1.03,2,   4.198,2,   2.189,3,  -999.0,9,   6.1418
06MT19970815,      AR07E,     515,          1,     203292,         19,         19,2,19970826,       0000,    59.5150,   -37.6183,       3126,   200.3,   5.3812,  34.9246,2,  34.9250,2,   279.9,2,    8.42,2,   15.97,2,    0.02,2,    1.06,2,   4.270,2,   2.217,3,  -999.0,9,   5.3649
06MT19970815,      AR07E,     515,          1,     203291,         18,         18,2,19970826,       0000,    59.5150,   -37.6183,       3126,   401.3,   4.2727,  34.8612,2,  34.8617,2,   287.4,2,    9.45,2,   16.99,2,    0.02,2,    1.12,2,   4.067,2,   2.072,3,  -999.0,9,   4.2431
06MT19970815,      AR07E,     515,          1,     203290,         17,         17,2,19970826,       0000,    59.5150,   -37.6183,       3126,   601.5,   3.6369,  34.8496,2,  34.8495,2,   295.3,2,    9.59,2,   17.07,2,    0.01,2,    1.12,2,   4.134,2,   2.101,3,  -999.0,9,   3.5946
06MT19970815,      AR07E,     515,          1,     203289,         16,         16,2,19970826,       0000,    59.5150,   -37.6183,       3126,   803.1,   3.4181,  34.8572,2,  34.8570,2,   290.6,2,    9.55,2,   16.90,2,    0.02,2,    1.11,2,   4.307,2,   2.191,3,  -999.0,9,   3.3617
06MT19970815,      AR07E,     515,          1,     203288,         15,         15,2,19970826,       0000,    59.5150,   -37.6183,       3126,  1001.3,   3.2921,  34.8605,2,  34.8608,2,   289.8,2,    9.87,2,   17.01,2,    0.01,2,    1.12,2,   3.932,2,   1.955,3,  -999.0,9,   3.2212
06MT19970815,      AR07E,     515,          1,     203287,         14,         14,2,19970826,       0000,    59.5150,   -37.6183,       3126,  1200.4,   3.2377,  34.8717,2,  34.8713,2,   293.3,2,   10.17,2,   17.12,2,    0.01,2,    1.12,2,   3.669,2,   1.807,3,  -999.0,9,   3.1514
06MT19970815,      AR07E,     515,          1,     203286,         13,         13,2,19970826,       0000,    59.5150,   -37.6183,       3126,  1400.9,   3.1332,  34.8661,2,  34.8664,2,   296.2,2,   10.06,2,   16.92,2,    0.01,2,    1.11,2,   3.806,2,   1.881,3,  -999.0,9,   3.0314
06MT19970815,      AR07E,     515,          1,     203285,         12,         12,2,19970826,       0000,    59.5150,   -37.6183,       3126,  1499.7,   3.0578,  34.8581,2,  34.8586,2,   297.3,2,   10.01,2,   16.89,2,    0.02,2,    1.11,2,   3.907,2,   1.910,3,  -999.0,9,   2.9486
06MT19970815,      AR07E,     515,          1,     203284,         11,         11,2,19970826,       0000,    59.5150,   -37.6183,       3126,  1599.9,   3.0246,  34.8557,2,  34.8562,2,   298.6,2,    9.93,2,   16.81,2,    0.01,2,    1.10,2,   3.928,2,   1.929,3,  -999.0,9,   2.9073
06MT19970815,      AR07E,     515,          1,     203283,         10,         10,2,19970826,       0000,    59.5150,   -37.6183,       3126,  1699.9,   2.9967,  34.8537,2,  34.8538,2,   298.8,2,    9.97,2,   16.79,2,    0.01,2,    1.10,2,   3.958,2,   1.938,3,  -999.0,9,   2.8711
06MT19970815,      AR07E,     515,          1,     203282,          9,          9,2,19970826,       0000,    59.5150,   -37.6183,       3126,  1800.9,   2.9766,  34.8526,2,  34.8516,2,   299.7,2,    9.88,2,   16.76,2,    0.01,2,    1.10,2,   3.997,2,   1.949,3,  -999.0,9,   2.8425
06MT19970815,      AR07E,     515,          1,     203281,          8,          8,2,19970826,       0000,    59.5150,   -37.6183,       3126,  2001.1,   2.9501,  34.8502,2,  34.8504,2,   292.5,2,    9.88,2,   16.67,2,    0.02,2,    1.09,2,   4.003,2,   1.937,3,  -999.0,9,   2.7985
06MT19970815,      AR07E,     515,          1,     203280,          7,          7,2,19970826,       0000,    59.5150,   -37.6183,       3126,  2202.3,   3.0600,  34.8761,2,  34.8759,2,   284.8,2,   10.38,2,   16.62,2,    0.02,2,    1.10,2,   3.301,2,   1.601,3,  -999.0,9,   2.8879
06MT19970815,      AR07E,     515,          1,     203279,          6,          6,2,19970826,       0000,    59.5150,   -37.6183,       3126,  2401.2,   3.1201,  34.9046,2,  34.9051,2,   282.3,2,   11.39,2,   16.60,2,    0.02,2,    1.10,2,   2.570,2,   1.230,3,  -999.0,9,   2.9278
06MT19970815,      AR07E,     515,          1,     203278,          5,          5,2,19970826,       0000,    59.5150,   -37.6183,       3126,  2501.7,   3.1073,  34.9135,2,  34.9138,2,   281.5,2,   11.74,2,   16.59,2,    0.01,2,    1.09,2,   2.298,2,   1.089,3,  -999.0,9,   2.9053
06MT19970815,      AR07E,     515,          1,     203277,          4,          4,2,19970826,       0000,    59.5150,   -37.6183,       3126,  2602.2,   3.0761,  34.9168,2,  34.9166,2,   283.2,2,   11.98,2,   16.57,2,    0.02,2,    1.09,2,   2.261,2,   1.056,3,  -999.0,9,   2.8647
06MT19970815,      AR07E,     515,          1,     203276,          3,          3,2,19970826,       0000,    59.5150,   -37.6183,       3126,  2788.4,   2.9061,  34.9119,2,  34.9112,2,  -999.0,9,   11.72,2,   16.17,2,    0.01,2,    1.08,2,   2.420,2,   1.157,3,  -999.0,9,   2.6792
06MT19970815,      AR07E,     515,          1,     203275,          2,          2,2,19970826,       0000,    59.5150,   -37.6183,       3126,  3041.2,   2.4361,  34.9035,2,  34.9034,2,   289.9,2,   10.89,2,   15.45,2,    0.02,2,    1.03,2,   2.891,2,   1.393,3,  -999.0,9,   2.1935
06MT19970815,      AR07E,     515,          1,     203274,          1,          1,2,19970826,       0000,    59.5150,   -37.6183,       3126,  3139.0,   1.5387,  34.8845,2,  34.8861,2,   299.8,2,   10.17,2,   14.16,2,    0.02,2,    0.95,2,   3.660,2,   1.795,3,  -999.0,9,   1.3065
06MT19970815,      AR07E,     516,          1,     203317,         22,         22,2,19970826,       0000,    59.4167,   -36.6517,       3125,     9.8,  10.6854,  34.7513,2,  34.7421,2,   282.3,2,    0.65,2,    5.11,2,    0.09,2,    0.42,2,   3.865,2,   2.095,3,  -999.0,9,  10.6842
06MT19970815,      AR07E,     516,          1,     203316,         21,         21,2,19970826,       0000,    59.4167,   -36.6517,       3125,    50.3,   9.3298,  34.7940,2,  34.7754,2,   283.3,2,    1.11,2,    6.76,2,    0.15,2,    0.58,2,-999.000,9,-999.000,9,  2090.0,2,   9.3243
06MT19970815,      AR07E,     516,          1,     203315,         20,         20,2,19970826,       0000,    59.4167,   -36.6517,       3125,   100.5,   5.4104,  34.8300,2,  34.8322,2,   289.4,2,    6.04,2,   14.79,2,    0.34,2,    1.05,2,   4.727,2,   2.498,3,  -999.0,9,   5.4023
06MT19970815,      AR07E,     516,          1,     203314,         19,         19,2,19970826,       0000,    59.4167,   -36.6517,       3125,   200.4,   4.5292,  34.8651,2,  34.8652,2,   282.3,2,    9.11,2,   16.48,2,    0.02,2,    1.10,2,   4.194,2,   2.182,3,  -999.0,9,   4.5143
06MT19970815,      AR07E,     516,          1,     203313,         18,         18,2,19970826,       0000,    59.4167,   -36.6517,       3125,   402.0,   3.7207,  34.8458,2,  34.8453,2,   292.3,2,    9.32,2,   16.76,2,    0.02,2,    1.11,2,   4.311,2,   2.230,3,  -999.0,9,   3.6928
06MT19970815,      AR07E,     516,          1,     203312,         17,         17,2,19970826,       0000,    59.4167,   -36.6517,       3125,   601.6,   3.5801,  34.8692,2,  34.8688,2,   285.5,2,    9.93,2,   17.12,2,    0.02,2,    1.13,2,   3.818,2,   1.926,3,  -999.0,9,   3.5380
06MT19970815,      AR07E,     516,          1,     203311,         16,         16,2,19970826,       0000,    59.4167,   -36.6517,       3125,   801.2,   3.4114,  34.8687,2,  34.8684,2,   288.1,2,    9.96,2,   17.09,2,    0.02,2,    1.12,2,   3.867,2,   1.948,3,  -999.0,9,   3.3552
06MT19970815,      AR07E,     516,          1,     203310,         15,         15,2,19970826,       0000,    59.4167,   -36.6517,       3125,  1000.4,   3.3259,  34.8769,2,  34.8794,2,   286.0,2,   10.27,2,   17.05,2,    0.01,2,    1.13,2,   3.493,2,   1.741,3,  -999.0,9,   3.2548
06MT19970815,      AR07E,     516,          1,     203309,         14,         14,2,19970826,       0000,    59.4167,   -36.6517,       3125,  1200.3,   3.1889,  34.8716,2,  34.8752,0,   290.7,2,   10.22,2,   16.92,2,    0.02,2,    1.11,2,   3.625,2,   1.779,3,  -999.0,9,   3.1030
06MT19970815,      AR07E,     516,          1,     203308,         13,         13,2,19970826,       0000,    59.4167,   -36.6517,       3125,  1399.7,   3.0729,  34.8613,2,  34.8618,2,   295.8,2,   10.08,2,   16.79,2,    0.02,2,    1.11,2,   3.889,2,   1.923,3,  -999.0,9,   2.9719
06MT19970815,      AR07E,     516,          1,     203307,         12,         12,2,19970826,       0000,    59.4167,   -36.6517,       3125,  1499.7,   3.0260,  34.8564,2,  34.8566,2,   296.9,2,   10.00,2,   16.66,2,    0.02,2,    1.11,2,   3.934,2,   1.938,3,  -999.0,9,   2.9172
06MT19970815,      AR07E,     516,          1,     203306,         11,         11,2,19970826,       0000,    59.4167,   -36.6517,       3125,  1600.3,   2.9929,  34.8530,2,  34.8540,2,   298.8,2,    9.99,2,   16.70,2,    0.02,2,    1.10,2,   3.958,2,   1.951,3,  -999.0,9,   2.8759
06MT19970815,      AR07E,     516,          1,     203305,         10,         10,2,19970826,       0000,    59.4167,   -36.6517,       3125,  1700.6,   2.9733,  34.8512,2,  34.8517,2,   298.9,2,    9.94,2,   16.69,2,    0.02,2,    1.10,2,   3.932,2,   1.924,3,  -999.0,9,   2.8480
06MT19970815,      AR07E,     516,          1,     203304,          9,          9,2,19970826,       0000,    59.4167,   -36.6517,       3125,  1802.6,   2.9538,  34.8498,2,  34.8504,2,   299.2,2,    9.94,2,   16.64,2,    0.02,2,    1.10,2,   3.970,2,   1.941,3,  2147.7,2,   2.8198
06MT19970815,      AR07E,     516,          1,     203303,          8,          8,2,19970826,       0000,    59.4167,   -36.6517,       3125,  2000.9,   2.9868,  34.8590,2,  34.8585,2,   297.0,2,   10.04,2,   16.61,2,    0.02,2,    1.09,2,   3.730,2,   1.846,3,  -999.0,9,   2.8346
06MT19970815,      AR07E,     516,          1,     203302,          7,          7,2,19970826,       0000,    59.4167,   -36.6517,       3125,  2201.0,   3.0851,  34.8852,2,  34.8847,2,   289.4,2,   10.73,2,   16.59,2,    0.02,2,    1.10,2,   3.005,2,   1.458,3,  -999.0,9,   2.9127
06MT19970815,      AR07E,     516,          1,     203301,          6,          6,2,19970826,       0000,    59.4167,   -36.6517,       3125,  2394.6,   3.1208,  34.9113,2,  34.9109,2,   282.2,2,   11.65,2,   16.50,2,    0.03,2,    1.09,2,   2.309,2,   1.136,3,  -999.0,9,   2.9291
06MT19970815,      AR07E,     516,          1,     203300,          5,          5,2,19970826,       0000,    59.4167,   -36.6517,       3125,  2501.3,   3.0922,  34.9169,2,  34.9173,2,   281.0,2,   12.01,2,   16.37,2,    0.05,2,    1.10,2,   2.105,2,   1.032,3,  -999.0,9,   2.8905
06MT19970815,      AR07E,     516,          1,     203299,          4,          4,2,19970826,       0000,    59.4167,   -36.6517,       3125,  2601.1,   3.0553,  34.9227,2,  34.9219,2,   279.5,2,   12.45,2,   16.52,2,    0.01,2,    1.10,2,   1.902,2,   0.934,3,  -999.0,9,   2.8444
06MT19970815,      AR07E,     516,          1,     203298,          3,          3,2,19970826,       0000,    59.4167,   -36.6517,       3125,  2801.7,   2.8756,  34.9216,2,  34.9221,2,   280.7,2,   12.76,2,   16.27,2,    0.02,2,    1.08,2,   1.951,2,   0.959,3,  -999.0,9,   2.6480
06MT19970815,      AR07E,     516,          1,     203297,          2,          2,2,19970826,       0000,    59.4167,   -36.6517,       3125,  3002.3,   2.5116,  34.9043,2,  34.9039,2,   290.1,2,   11.16,2,   15.42,2,    0.02,2,    1.04,2,   2.746,2,   1.344,3,  2151.9,2,   2.2713
06MT19970815,      AR07E,     516,          1,     203296,          1,          1,2,19970826,       0000,    59.4167,   -36.6517,       3125,  3100.3,   2.2065,  34.8983,2,  34.8973,2,   295.0,2,   10.29,2,   14.85,2,    0.06,2,    0.99,2,   3.146,2,   1.551,3,  2149.9,2,   1.9630
06MT19970815,      AR07E,     517,          1,     203339,         22,         22,2,19970827,       0000,    59.3350,   -35.6800,       3125,     9.8,  10.9185,  34.7610,2,  34.7534,2,   282.4,2,    0.98,2,    4.25,2,    0.13,2,    0.35,2,   3.838,2,   2.041,3,  2062.5,2,  10.9173
06MT19970815,      AR07E,     517,          1,     203338,         21,         21,2,19970827,       0000,    59.3350,   -35.6800,       3125,    93.4,   5.4745,  34.8173,2,  34.8161,2,   290.5,2,    5.47,2,   14.69,2,    0.32,2,    1.02,2,   5.027,2,   2.515,3,  -999.0,9,   5.4669
06MT19970815,      AR07E,     517,          1,     203337,         20,         20,2,19970827,       0000,    59.3350,   -35.6800,       3125,   196.5,   4.3037,  34.8309,2,  34.8289,2,   285.8,2,    9.01,2,   16.50,2,    0.02,2,    1.10,2,   4.514,2,   2.274,3,  -999.0,9,   4.2895
06MT19970815,      AR07E,     517,          1,     203336,         19,         19,2,19970827,       0000,    59.3350,   -35.6800,       3125,   300.9,   4.2919,  34.8792,2,  34.8790,2,   273.9,2,    9.75,2,   17.21,2,    0.02,2,    1.13,2,   3.841,2,   1.933,3,  -999.0,9,   4.2698
06MT19970815,      AR07E,     517,          1,     203335,         18,         18,2,19970827,       0000,    59.3350,   -35.6800,       3125,   501.2,   3.7641,  34.8744,2,  34.8751,2,  -999.0,9,    9.94,2,   17.22,2,    0.02,2,    1.13,2,   3.805,2,   1.903,3,  -999.0,9,   3.7287
06MT19970815,      AR07E,     517,          1,     203334,         17,         17,2,19970827,       0000,    59.3350,   -35.6800,       3125,   701.8,   3.5598,  34.8795,2,  34.8813,2,   285.3,2,   10.02,2,   17.11,2,    0.02,2,    1.12,2,   3.692,2,   1.830,3,  -999.0,9,   3.5102
06MT19970815,      AR07E,     517,          1,     203333,         16,         16,2,19970827,       0000,    59.3350,   -35.6800,       3125,   901.3,   3.4158,  34.8813,2,  34.8799,2,   283.3,2,   10.22,2,   17.10,2,    0.02,2,    1.12,2,   3.478,2,   1.734,3,  -999.0,9,   3.3518
06MT19970815,      AR07E,     517,          1,     203332,         15,         15,2,19970827,       0000,    59.3350,   -35.6800,       3125,  1100.3,   3.2012,  34.8673,2,  34.8677,2,   289.4,2,   10.23,2,   17.07,2,    0.01,2,    1.12,2,   3.654,2,   1.787,3,  -999.0,9,   3.1232
06MT19970815,      AR07E,     517,          1,     203331,         14,         14,2,19970827,       0000,    59.3350,   -35.6800,       3125,  1300.4,   3.1192,  34.8638,2,  34.8641,2,   292.8,2,   10.15,2,   16.89,2,    0.01,2,    1.11,2,   3.742,2,   1.831,3,  -999.0,9,   3.0259
06MT19970815,      AR07E,     517,          1,     203330,         13,         13,2,19970827,       0000,    59.3350,   -35.6800,       3125,  1500.0,   3.0108,  34.8543,2,  34.8551,2,   297.2,2,   10.03,2,   16.81,2,    0.00,2,    1.11,2,   3.957,2,   1.926,3,  -999.0,9,   2.9021
06MT19970815,      AR07E,     517,          1,     203329,         12,         12,2,19970827,       0000,    59.3350,   -35.6800,       3125,  1600.8,   2.9900,  34.8524,2,  34.8528,2,   297.9,2,    9.95,2,   16.79,2,    0.02,2,    1.10,2,   3.926,2,   1.920,3,  -999.0,9,   2.8730
06MT19970815,      AR07E,     517,          1,     203328,         11,         11,2,19970827,       0000,    59.3350,   -35.6800,       3125,  1701.2,   2.9537,  34.8488,2,  34.8488,2,   298.8,2,    9.93,2,   16.78,2,    0.01,2,    1.10,2,   3.992,2,   1.932,3,  -999.0,9,   2.8286
06MT19970815,      AR07E,     517,          1,     203327,         10,         10,2,19970827,       0000,    59.3350,   -35.6800,       3125,  1900.5,   2.9440,  34.8497,2,  34.8494,2,   298.4,2,    9.93,2,   16.63,2,    0.01,2,    1.10,2,   3.942,2,   1.914,3,  -999.0,9,   2.8015
06MT19970815,      AR07E,     517,          1,     203326,          9,          9,2,19970827,       0000,    59.3350,   -35.6800,       3125,  1999.9,   2.9901,  34.8601,2,  34.8603,2,   295.5,2,   10.17,2,   16.61,2,    0.02,2,    1.10,2,   3.674,2,   1.783,3,  -999.0,9,   2.8379
06MT19970815,      AR07E,     517,          1,     203325,          8,          8,2,19970827,       0000,    59.3350,   -35.6800,       3125,  2151.1,   3.0723,  34.8818,2,  34.8815,2,   290.2,2,   10.66,2,   16.63,2,    0.01,2,    1.09,2,   3.098,2,   1.517,3,  -999.0,9,   2.9048
06MT19970815,      AR07E,     517,          1,     203324,          7,          7,2,19970827,       0000,    59.3350,   -35.6800,       3125,  2300.3,   3.1135,  34.9030,2,  34.9022,2,   284.2,2,   11.39,2,   16.60,2,    0.01,2,    1.10,2,   2.459,2,   1.197,3,  -999.0,9,   2.9311
06MT19970815,      AR07E,     517,          1,     203323,          6,          6,2,19970827,       0000,    59.3350,   -35.6800,       3125,  2401.0,   3.0950,  34.9135,2,  34.9124,2,   281.2,2,   11.85,2,   16.52,2,    0.00,2,    1.09,2,   2.271,2,   1.110,3,  -999.0,9,   2.9031
06MT19970815,      AR07E,     517,          1,     203322,          5,          5,2,19970827,       0000,    59.3350,   -35.6800,       3125,  2501.1,   3.0689,  34.9180,2,  34.9179,2,   280.0,2,   12.24,2,   16.56,2,    0.01,2,    1.10,2,   2.183,2,   1.057,3,  -999.0,9,   2.8676
06MT19970815,      AR07E,     517,          1,     203321,          4,          4,2,19970827,       0000,    59.3350,   -35.6800,       3125,  2600.9,   3.0221,  34.9211,2,  34.9206,2,   279.5,2,   12.52,2,   16.49,2,    0.01,2,    1.10,2,   2.064,2,   1.002,3,  -999.0,9,   2.8118
06MT19970815,      AR07E,     517,          1,     203320,          3,          3,2,19970827,       0000,    59.3350,   -35.6800,       3125,  2801.5,   2.9267,  34.9212,2,  34.9212,2,   280.5,2,   12.73,2,   16.38,2,    0.01,2,    1.09,2,   1.999,2,   0.984,3,  -999.0,9,   2.6981
06MT19970815,      AR07E,     517,          1,     203319,          2,          2,2,19970827,       0000,    59.3350,   -35.6800,       3125,  3051.8,   2.3822,  34.9014,2,  34.9009,2,   269.0,3,   11.07,2,   15.30,2,    0.01,2,    1.03,2,   2.847,2,   1.400,3,  -999.0,9,   2.1397
06MT19970815,      AR07E,     517,          1,     203318,          1,          1,2,19970827,       0000,    59.3350,   -35.6800,       3125,  3134.1,   2.0295,  34.8981,2,  34.8931,0,   294.8,2,    9.58,2,   14.71,2,    0.01,2,    0.99,2,   3.297,2,   1.624,3,  -999.0,9,   1.7866