BOTTLE,20220204CCHSIOENA
EXPOCODE,SECT_ID,STNNBR,CASTNO,BIONBR,SAMPNO,BTLNBR,BTLNBR_FLAG_W,DATE,TIME,LATITUDE,LONGITUDE,DEPTH,CTDPRS,CTDTMP,CTDSAL,CTDSAL_FLAG_W,SALNTY,SALNTY_FLAG_W,OXYGEN,OXYGEN_FLAG_W,SILCAT,SILCAT_FLAG_W,NITRAT,NITRAT_FLAG_W,NITRIT,NITRIT_FLAG_W,PHSPHT,PHSPHT_FLAG_W,CFC-11,CFC-11_FLAG_W,CFC-12,CFC-12_FLAG_W,TCARBN,TCARBN_FLAG_W,THETA
,,,,,,,,,,,,METERS,DBAR,ITS-90,PSS-78,,PSS-78,,UMOL/KG,,UMOL/KG,,UMOL/KG,,UMOL/KG,,UMOL/KG,,PMOL/KG,,PMOL/KG,,UMOL/KG,,DEG C
06MT19970815,      AR07E,     554,          1,     204168,         22,         22,2,19970904,       0000,    53.2333,   -23.4650,       3724,    13.3,  14.8653,  35.3678,2,  35.3669,2,   253.1,2,    0.55,2,    0.72,2,    0.14,2,    0.15,2,   3.065,2,   1.835,3,  2060.7,2,  14.8633
06MT19970815,      AR07E,     554,          1,     204167,         21,         21,2,19970904,       0000,    53.2333,   -23.4650,       3724,    49.6,  14.8543,  35.3669,2,  35.3666,2,   251.8,2,    0.53,2,    0.73,2,    0.14,2,    0.14,2,-999.000,9,-999.000,9,  2061.0,2,  14.8468
06MT19970815,      AR07E,     554,          1,     204166,         20,         20,2,19970904,       0000,    53.2333,   -23.4650,       3724,   101.0,  10.5869,  35.2839,2,  35.2865,2,   253.1,2,    4.24,2,   11.45,2,    0.09,2,    0.72,2,   3.724,2,   2.092,3,  2121.2,2,  10.5748
06MT19970815,      AR07E,     554,          1,     204165,         19,         19,2,19970904,       0000,    53.2333,   -23.4650,       3724,   202.8,   9.7096,  35.2570,2,  35.2588,2,   254.0,2,    5.62,2,   12.61,2,    0.06,2,    0.81,2,   3.566,2,   2.044,3,  2129.7,2,   9.6864
06MT19970815,      AR07E,     554,          1,     204164,         18,         18,2,19970904,       0000,    53.2333,   -23.4650,       3724,   501.3,   6.7390,  34.9757,2,  34.9732,2,   213.2,2,   10.79,2,   19.17,2,    0.05,2,    1.23,2,   2.578,2,   1.419,3,  2164.2,2,   6.6920
06MT19970815,      AR07E,     554,          1,     204163,         17,         17,2,19970904,       0000,    53.2333,   -23.4650,       3724,   753.1,   5.4161,  35.0284,2,  35.0309,2,   232.1,2,   11.31,2,   19.03,2,    0.02,2,    1.21,2,   2.313,2,   1.248,3,  2167.2,2,   5.3517
06MT19970815,      AR07E,     554,          1,     204162,         16,         16,2,19970904,       0000,    53.2333,   -23.4650,       3724,  1001.2,   4.3720,  34.9601,2,  34.9604,2,   255.9,2,   11.05,2,   18.19,2,    0.02,2,    1.18,2,   2.469,2,   1.330,3,  2160.2,2,   4.2926
06MT19970815,      AR07E,     554,          1,     204161,         15,         15,2,19970904,       0000,    53.2333,   -23.4650,       3724,  1250.3,   3.7662,  34.9094,2,  34.9110,2,   273.2,2,   10.75,2,   17.70,2,    0.03,2,    1.15,2,   2.759,2,   1.470,3,  2155.2,2,   3.6706
06MT19970815,      AR07E,     554,          1,     204160,         14,         14,2,19970904,       0000,    53.2333,   -23.4650,       3724,  1495.6,   3.4885,  34.8928,2,  34.8919,2,   280.4,2,   10.71,2,   17.25,2,    0.02,2,    1.13,2,   2.881,2,   1.507,3,  2152.5,2,   3.3747
06MT19970815,      AR07E,     554,          1,     204159,         13,         13,2,19970904,       0000,    53.2333,   -23.4650,       3724,  1700.6,   3.3366,  34.8854,2,  34.8851,2,   284.6,2,   10.63,2,   17.10,2,    0.02,2,    1.12,2,   2.843,2,   1.474,3,  2151.2,2,   3.2065
06MT19970815,      AR07E,     554,          1,     204158,         12,         12,2,19970904,       0000,    53.2333,   -23.4650,       3724,  1850.5,   3.2733,  34.8853,2,  34.8846,2,   285.2,2,   10.77,2,   17.04,2,    0.02,2,    1.12,2,   2.691,2,   1.409,3,  2151.2,2,   3.1306
06MT19970815,      AR07E,     554,          1,     204157,         11,         11,2,19970904,       0000,    53.2333,   -23.4650,       3724,  2002.2,   3.2275,  34.8892,2,  34.8884,2,   285.8,2,   11.03,2,   16.96,2,    0.02,2,    1.11,2,   2.683,2,   1.388,3,  2150.9,2,   3.0715
06MT19970815,      AR07E,     554,          1,     204156,         10,         10,2,19970904,       0000,    53.2333,   -23.4650,       3724,  2201.4,   3.2400,  34.9101,2,  34.9100,2,   280.9,2,   11.79,2,   16.92,2,    0.01,2,    1.11,2,   2.172,2,   1.157,3,  2152.7,2,   3.0649
06MT19970815,      AR07E,     554,          1,     204155,          9,          9,2,19970904,       0000,    53.2333,   -23.4650,       3724,  2401.2,   3.2164,  34.9286,2,  34.9288,2,   277.6,2,   12.86,2,   16.87,2,    0.03,2,    1.11,2,   1.714,2,   0.613,3,  2153.8,2,   3.0223
06MT19970815,      AR07E,     554,          1,     204154,          8,          8,2,19970904,       0000,    53.2333,   -23.4650,       3724,  2601.8,   3.1312,  34.9417,2,  34.9427,2,   272.6,2,   15.19,2,   17.15,2,    0.01,2,    1.14,2,   1.400,2,   0.485,3,  2157.6,2,   2.9187
06MT19970815,      AR07E,     554,          1,     204153,          7,          7,2,19970904,       0000,    53.2333,   -23.4650,       3724,  2801.7,   3.0237,  34.9470,2,  34.9483,2,   269.1,2,   18.19,2,   17.52,2,    0.01,2,    1.16,2,   1.241,2,   0.435,3,  2162.0,2,   2.7929
06MT19970815,      AR07E,     554,          1,     204152,          6,          6,2,19970904,       0000,    53.2333,   -23.4650,       3724,  3001.4,   2.8903,  34.9463,2,  34.9461,2,   264.6,2,   22.73,2,   18.33,2,    0.01,2,    1.22,2,   0.969,2,   0.348,3,  2169.5,2,   2.6417
06MT19970815,      AR07E,     554,          1,     204151,          5,          5,2,19970904,       0000,    53.2333,   -23.4650,       3724,  3253.5,   2.7706,  34.9398,2,  34.9396,2,   259.1,2,   26.98,2,   19.09,2,    0.01,2,    1.27,2,   0.802,2,   0.283,3,  2169.5,2,   2.4980
06MT19970815,      AR07E,     554,          1,     204150,          4,          4,2,19970904,       0000,    53.2333,   -23.4650,       3724,  3503.2,   2.6566,  34.9277,2,  34.9278,2,   251.1,2,   34.29,2,   20.50,2,    0.01,2,    1.36,2,   0.475,2,   0.162,3,  2186.8,2,   2.3598
06MT19970815,      AR07E,     554,          1,     204149,          3,          3,2,19970904,       0000,    53.2333,   -23.4650,       3724,  3603.4,   2.5924,  34.9202,2,  34.9194,2,   248.3,2,   38.12,2,   21.31,2,    0.02,2,    1.42,2,   0.283,2,-999.000,9,  2192.3,2,   2.2862
06MT19970815,      AR07E,     554,          1,     204148,          2,          2,2,19970904,       0000,    53.2333,   -23.4650,       3724,  3703.7,   2.5321,  34.9133,2,  34.9130,2,   243.1,2,   41.60,2,   21.91,2,    0.01,2,    1.47,2,   0.128,2,-999.000,9,  2197.8,2,   2.2164
06MT19970815,      AR07E,     554,          1,     204147,          1,          1,2,19970904,       0000,    53.2333,   -23.4650,       3724,  3768.0,   2.5027,  34.9093,2,  34.9089,2,   241.2,2,   43.59,2,   22.28,2,    0.01,2,    1.50,2,   0.075,2,-999.000,9,  2200.9,2,   2.1806
06MT19970815,      AR07E,     555,          1,     204189,         21,         21,2,19970904,       0000,    53.0833,   -22.8300,       4000,    12.1,  15.1013,  35.3961,2,  35.3953,2,   249.9,2,    0.37,2,    0.56,2,    0.12,2,    0.12,2,   3.036,2,   1.655,3,  2058.1,2,  15.0995
06MT19970815,      AR07E,     555,          1,     204188,         20,         20,2,19970904,       0000,    53.0833,   -22.8300,       4000,    50.4,  13.8539,  35.5122,2,  35.5247,2,   238.6,2,    1.86,2,    4.92,2,    0.64,2,    0.39,2,   3.289,2,   1.769,3,  2096.1,2,  13.8467
06MT19970815,      AR07E,     555,          1,     204187,         19,         19,2,19970904,       0000,    53.0833,   -22.8300,       4000,   101.8,  11.5900,  35.5266,2,  35.5275,2,  -999.0,9,    4.28,2,   10.96,2,    0.03,2,    0.69,2,   3.300,2,   1.760,3,  2122.2,2,  11.5770
06MT19970815,      AR07E,     555,          1,     204186,         18,         18,2,19970904,       0000,    53.0833,   -22.8300,       4000,   251.8,  10.4201,  35.3828,2,  35.3833,2,  -999.0,9,    5.82,2,   12.90,2,    0.02,2,    0.82,2,   3.146,2,   1.653,3,  2131.4,2,  10.3899
06MT19970815,      AR07E,     555,          1,     204185,         17,         17,2,19970904,       0000,    53.0833,   -22.8300,       4000,   701.5,   6.1758,  34.9963,2,  34.9964,2,   215.5,2,   11.64,2,   19.48,2,    0.01,2,    1.27,2,   2.331,2,   1.100,3,  2167.1,2,   6.1120
06MT19970815,      AR07E,     555,          1,     204184,         16,         16,2,19970904,       0000,    53.0833,   -22.8300,       4000,   901.4,   4.9554,  34.9826,2,  34.9819,2,   241.0,2,   11.43,2,   18.67,2,    0.02,2,    1.23,2,   2.516,2,   1.007,3,  2163.3,2,   4.8805
06MT19970815,      AR07E,     555,          1,     204183,         15,         15,2,19970904,       0000,    53.0833,   -22.8300,       4000,  1100.4,   4.3104,  34.9556,2,  34.9567,2,   257.9,2,   11.11,2,   18.18,2,    0.01,2,    1.18,2,   2.435,2,   0.817,3,  2158.5,2,   4.2229
06MT19970815,      AR07E,     555,          1,     204182,         14,         14,2,19970904,       0000,    53.0833,   -22.8300,       4000,  1301.1,   3.8306,  34.9170,2,  34.9177,2,   272.0,2,   10.93,2,   17.79,2,    0.01,2,    1.17,2,   2.483,2,   1.153,3,  2153.7,2,   3.7300
06MT19970815,      AR07E,     555,          1,     204181,         13,         13,2,19970904,       0000,    53.0833,   -22.8300,       4000,  1500.5,   3.5760,  34.8980,2,  34.8977,2,   278.4,2,   10.86,2,   17.44,2,    0.01,2,    1.15,2,   2.516,2,   1.159,3,  2150.9,2,   3.4607
06MT19970815,      AR07E,     555,          1,     204180,         12,         12,2,19970904,       0000,    53.0833,   -22.8300,       4000,  1700.0,   3.4178,  34.8900,2,  34.8892,2,   282.1,2,   10.97,2,   17.27,2,    0.01,2,    1.13,2,   2.559,2,   0.887,3,  2147.9,2,   3.2867
06MT19970815,      AR07E,     555,          1,     204179,         11,         11,2,19970904,       0000,    53.0833,   -22.8300,       4000,  1900.4,   3.3035,  34.8861,2,  34.8850,2,   285.9,2,   10.98,2,   17.05,2,    0.01,2,    1.13,2,   2.606,2,   1.206,3,  2147.1,2,   3.1558
06MT19970815,      AR07E,     555,          1,     204178,         10,         10,2,19970904,       0000,    53.0833,   -22.8300,       4000,  2101.1,   3.2721,  34.8974,2,  34.8964,2,   283.3,2,   11.57,2,   16.98,2,    0.01,2,    1.12,2,   2.307,2,   1.051,3,  2147.6,2,   3.1061
06MT19970815,      AR07E,     555,          1,     204177,          9,          9,2,19970904,       0000,    53.0833,   -22.8300,       4000,  2300.1,   3.2552,  34.9098,2,  34.9098,2,   281.2,2,   12.12,2,   16.81,2,    0.02,2,    1.12,2,   2.062,2,   0.663,3,  2147.5,2,   3.0704
06MT19970815,      AR07E,     555,          1,     204176,          8,          8,2,19970904,       0000,    53.0833,   -22.8300,       4000,  2600.4,   3.1930,  34.9370,2,  34.9378,2,   275.0,2,   14.19,2,   16.99,2,    0.01,2,    1.12,2,   1.464,2,   0.458,3,  2151.9,2,   2.9794
06MT19970815,      AR07E,     555,          1,     204175,          7,          7,2,19970904,       0000,    53.0833,   -22.8300,       4000,  2900.6,   3.0280,  34.9476,2,  34.9486,2,   270.1,2,   18.05,2,   17.43,2,    0.01,2,    1.16,2,   1.218,2,   0.359,3,  2157.9,2,   2.7869
06MT19970815,      AR07E,     555,          1,     204174,          6,          6,2,19970904,       0000,    53.0833,   -22.8300,       4000,  3252.9,   2.8239,  34.9436,2,  34.9442,2,   263.0,2,   24.43,2,   18.44,2,    0.01,2,    1.23,2,   1.046,2,   0.281,3,  2167.9,2,   2.5501
06MT19970815,      AR07E,     555,          1,     204173,          5,          5,2,19970904,       0000,    53.0833,   -22.8300,       4000,  3500.5,   2.7065,  34.9316,2,  34.9323,2,   254.3,2,   32.28,2,   19.96,2,    0.01,2,    1.34,2,   0.555,2,   0.148,3,  2178.0,2,   2.4087
06MT19970815,      AR07E,     555,          1,     204172,          4,          4,2,19970904,       0000,    53.0833,   -22.8300,       4000,  3753.7,   2.5907,  34.9189,2,  34.9177,2,   246.6,2,   39.57,2,   21.41,2,    0.01,2,    1.45,2,   0.214,2,-999.000,9,  2189.0,2,   2.2678
06MT19970815,      AR07E,     555,          1,     204171,          3,          3,2,19970904,       0000,    53.0833,   -22.8300,       4000,  3903.3,   2.5399,  34.9124,2,  34.9109,2,   243.2,2,   42.93,2,   22.13,2,    0.01,2,    1.49,2,   0.107,2,-999.000,9,  2193.6,2,   2.2015
06MT19970815,      AR07E,     555,          1,     204170,          2,          2,2,19970904,       0000,    53.0833,   -22.8300,       4000,  3996.7,   2.5331,  34.9092,2,  34.9090,2,   242.1,2,   43.74,2,   22.15,2,    0.01,2,    1.50,2,   0.082,2,-999.000,9,  2195.2,2,   2.1842
06MT19970815,      AR07E,     555,          1,     204169,          1,          1,2,19970904,       0000,    53.0833,   -22.8300,       4000,  4055.2,   2.5192,  34.9070,2,  34.9073,2,   242.1,2,   44.21,2,   22.34,2,    0.01,2,    1.51,2,   0.060,2,-999.000,9,  2196.6,2,   2.1639
06MT19970815,      AR07E,     555,          2,     204114,         24,         24,2,19970904,       0000,    53.0833,   -22.8300,       4000,    13.9,  15.1125,  35.3947,2,  35.3939,2,  -999.0,9, -999.00,9, -999.00,9, -999.00,9, -999.00,9,-999.000,9,-999.000,9,  -999.0,9,  15.1104
06MT19970815,      AR07E,     555,          2,     204113,         23,         23,2,19970904,       0000,    53.0833,   -22.8300,       4000,    48.7,  15.0585,  35.3990,2,  35.4130,2,  -999.0,9, -999.00,9, -999.00,9, -999.00,9, -999.00,9,-999.000,9,-999.000,9,  -999.0,9,  15.0511
06MT19970815,      AR07E,     555,          2,     204212,         22,         22,2,19970904,       0000,    53.0833,   -22.8300,       4000,   100.1,  11.7439,  35.5347,2,  35.5336,2,  -999.0,9,    4.14,2,   10.75,2,    0.03,2,    0.66,2,-999.000,9,-999.000,9,  -999.0,9,  11.7310
06MT19970815,      AR07E,     555,          2,     204211,         21,         21,2,19970904,       0000,    53.0833,   -22.8300,       4000,   249.8,  10.4348,  35.3833,2,  35.3844,2,  -999.0,9,    5.27,2,   12.26,2,    0.02,2,    0.78,2,   3.036,2,   1.655,3,  -999.0,9,  10.4048
06MT19970815,      AR07E,     555,          2,     204210,         20,         20,2,19970904,       0000,    53.0833,   -22.8300,       4000,   500.7,   8.3824,  35.1138,2,  35.1136,2,  -999.0,9,    8.47,2,   16.45,2,    0.01,2,    1.06,2,   3.289,2,   1.769,3,  -999.0,9,   8.3292
06MT19970815,      AR07E,     555,          2,     204209,         19,         19,2,19970904,       0000,    53.0833,   -22.8300,       4000,   901.3,   4.9571,  34.9786,2,  34.9786,2,  -999.0,9,   11.30,2,   18.87,2,    0.01,2,    1.22,2,   3.300,2,   1.760,3,  -999.0,9,   4.8822
06MT19970815,      AR07E,     555,          2,     204208,         18,         18,2,19970904,       0000,    53.0833,   -22.8300,       4000,  1500.1,   3.5669,  34.8979,2,  34.8969,2,  -999.0,9,   10.73,2,   17.47,2,    0.01,2,    1.14,2,   3.146,2,   1.653,3,  -999.0,9,   3.4518
06MT19970815,      AR07E,     555,          2,     204207,         17,         17,2,19970904,       0000,    53.0833,   -22.8300,       4000,  1800.4,   3.3320,  34.8865,2,  34.8880,0,   284.6,2,   10.81,2,   17.16,2,    0.01,2,    1.12,2,   2.331,2,   1.100,3,  -999.0,9,   3.1930
06MT19970815,      AR07E,     555,          2,     204206,         16,         16,2,19970904,       0000,    53.0833,   -22.8300,       4000,  2100.7,   3.2629,  34.8990,2,  34.8972,2,  -999.0,9,   11.52,2,   16.97,2,    0.01,2,    1.11,2,   2.516,2,   1.007,3,  -999.0,9,   3.0971
06MT19970815,      AR07E,     555,          2,     204205,         15,         15,2,19970904,       0000,    53.0833,   -22.8300,       4000,  2301.7,   3.2635,-999.0000,9,-999.0000,9,  -999.0,9,   12.64,2,   17.07,2, -999.00,9,    1.12,2,   2.435,2,   0.817,3,  -999.0,9,-999.0000
06MT19970815,      AR07E,     555,          2,     204204,         14,         14,2,19970904,       0000,    53.0833,   -22.8300,       4000,  2501.6,   3.2020,  34.9333,2,  34.9341,2,   276.7,2,   13.64,2,   16.98,2,    0.01,2,    1.12,2,   2.483,2,   1.153,3,  -999.0,9,   2.9982
06MT19970815,      AR07E,     555,          2,     204203,         13,         13,2,19970904,       0000,    53.0833,   -22.8300,       4000,  2701.7,   3.1117,  34.9442,2,-999.0000,9,  -999.0,9,   15.51,2,   17.16,2,    0.01,2,    1.13,2,   2.516,2,   1.159,3,  -999.0,9,   2.8894
06MT19970815,      AR07E,     555,          2,     204202,         12,         12,2,19970904,       0000,    53.0833,   -22.8300,       4000,  2902.5,   3.0061,  34.9479,2,  34.9484,2,  -999.0,9,   19.24,2,   17.77,2,    0.01,2,    1.18,2,   2.559,2,   0.887,3,  -999.0,9,   2.7653
06MT19970815,      AR07E,     555,          2,     204201,         11,         11,2,19970904,       0000,    53.0833,   -22.8300,       4000,  3004.9,   2.9468,  34.9480,2,  34.9498,2,   267.5,2,   19.94,2,   17.81,2,    0.01,2,    1.18,2,   2.606,2,   1.206,3,  -999.0,9,   2.6966
06MT19970815,      AR07E,     555,          2,     204200,         10,         10,2,19970904,       0000,    53.0833,   -22.8300,       4000,  3097.7,   2.8945,  34.9470,2,  34.9486,2,   266.1,2,   21.54,2,   18.14,2,    0.00,2,    1.20,2,   2.307,2,   1.051,3,  -999.0,9,   2.6357
06MT19970815,      AR07E,     555,          2,     204199,          9,          9,2,19970904,       0000,    53.0833,   -22.8300,       4000,  3202.0,   2.8478,  34.9448,2,  34.9453,2,   263.4,2,   23.65,2,   18.34,2,    0.01,2,    1.22,2,   2.062,2,   0.663,3,  -999.0,9,   2.5789
06MT19970815,      AR07E,     555,          2,     204198,          8,          8,2,19970904,       0000,    53.0833,   -22.8300,       4000,  3402.8,   2.7738,  34.9389,2,  34.9390,2,   259.3,2,   27.70,2,   19.12,2,    0.01,2,    1.28,2,   1.464,2,   0.458,3,  -999.0,9,   2.4850
06MT19970815,      AR07E,     555,          2,     204197,          7,          7,2,19970904,       0000,    53.0833,   -22.8300,       4000,  3502.9,   2.7216,  34.9336,2,  34.9340,2,  -999.0,9,   31.03,2,   19.78,2,    0.01,2,    1.32,2,   1.218,2,   0.359,3,  -999.0,9,   2.4232
06MT19970815,      AR07E,     555,          2,     204196,          6,          6,2,19970904,       0000,    53.0833,   -22.8300,       4000,  3601.8,   2.6683,  34.9274,2,  34.9272,2,   251.0,2,   34.57,2,   20.54,2,    0.01,2,    1.37,2,   1.046,2,   0.281,3,  -999.0,9,   2.3603
06MT19970815,      AR07E,     555,          2,     204195,          5,          5,2,19970904,       0000,    53.0833,   -22.8300,       4000,  3704.0,   2.6172,  34.9225,2,  34.9225,2,   247.5,2,   37.86,2,   21.16,2,    0.01,2,    1.41,2,   0.555,2,   0.148,3,  -999.0,9,   2.2992
06MT19970815,      AR07E,     555,          2,     204194,          4,          4,2,19970904,       0000,    53.0833,   -22.8300,       4000,  3803.6,   2.5858,  34.9177,2,  34.9171,2,   245.3,2,   39.93,2,   21.58,2,    0.01,2,    1.45,2,   0.214,2,-999.000,9,  -999.0,9,   2.2574
06MT19970815,      AR07E,     555,          2,     204193,          3,          3,2,19970904,       0000,    53.0833,   -22.8300,       4000,  3903.6,   2.5495,  34.9133,2,  34.9118,2,   243.6,2,   42.20,2,   22.15,2,    0.01,2,    1.48,2,   0.107,2,-999.000,9,  -999.0,9,   2.2108
06MT19970815,      AR07E,     555,          2,     204192,          2,          2,2,19970904,       0000,    53.0833,   -22.8300,       4000,  4002.7,   2.5304,  34.9096,2,  34.9098,2,   241.1,2,   43.74,2,   22.24,2,    0.01,2,    1.50,2,   0.082,2,-999.000,9,  -999.0,9,   2.1809
06MT19970815,      AR07E,     555,          2,     204191,          1,          1,2,19970904,       0000,    53.0833,   -22.8300,       4000,  4045.7,   2.5131,  34.9070,2,  34.9073,2,  -999.0,9,   44.29,2,   22.37,2,    0.01,2,    1.51,2,   0.060,2,-999.000,9,  -999.0,9,   2.1591