BOTTLE,20220204CCHSIOENA
EXPOCODE,SECT_ID,STNNBR,CASTNO,BIONBR,SAMPNO,BTLNBR,BTLNBR_FLAG_W,DATE,TIME,LATITUDE,LONGITUDE,DEPTH,CTDPRS,CTDTMP,CTDSAL,CTDSAL_FLAG_W,SALNTY,SALNTY_FLAG_W,OXYGEN,OXYGEN_FLAG_W,SILCAT,SILCAT_FLAG_W,NITRAT,NITRAT_FLAG_W,NITRIT,NITRIT_FLAG_W,PHSPHT,PHSPHT_FLAG_W,CFC-11,CFC-11_FLAG_W,CFC-12,CFC-12_FLAG_W,TCARBN,TCARBN_FLAG_W,THETA
,,,,,,,,,,,,METERS,DBAR,ITS-90,PSS-78,,PSS-78,,UMOL/KG,,UMOL/KG,,UMOL/KG,,UMOL/KG,,UMOL/KG,,PMOL/KG,,PMOL/KG,,UMOL/KG,,DEG C
06MT19970815,      AR07E,     518,          1,     203361,         22,         22,2,19970827,       0000,    59.2333,   -34.7333,       2594,    11.4,  11.4709,  34.8484,2,  34.8429,2,   274.5,2,    1.35,2,    3.63,2,    0.13,2,    0.34,2,-999.000,9,-999.000,9,  2056.9,2,  11.4695
06MT19970815,      AR07E,     518,          1,     203360,         21,         21,2,19970827,       0000,    59.2333,   -34.7333,       2594,    50.4,   6.9300,  34.8755,2,  34.8633,2,   283.3,2,    3.65,2,   12.80,2,    0.43,2,    0.90,2,-999.000,9,-999.000,9,  -999.0,9,   6.9254
06MT19970815,      AR07E,     518,          1,     203359,         20,         20,2,19970827,       0000,    59.2333,   -34.7333,       2594,   100.4,   6.3663,  34.9879,2,  34.9934,2,   277.0,2,    7.58,2,   15.39,2,    0.03,2,    1.02,2,-999.000,9,-999.000,9,  -999.0,9,   6.3574
06MT19970815,      AR07E,     518,          1,     203358,         19,         19,2,19970827,       0000,    59.2333,   -34.7333,       2594,   201.7,   5.7047,  34.9374,2,  34.9359,2,   282.9,2,    8.11,2,   15.59,2,    0.02,2,    1.04,2,   4.588,2,   2.302,3,  -999.0,9,   5.6878
06MT19970815,      AR07E,     518,          1,     203357,         18,         18,2,19970827,       0000,    59.2333,   -34.7333,       2594,   400.8,   4.3378,  34.8482,2,  34.8498,2,   280.3,2,    9.27,2,   16.78,2,    0.02,2,    1.12,2,   4.249,2,   2.122,3,  -999.0,9,   4.3080
06MT19970815,      AR07E,     518,          1,     203356,         17,         17,2,19970827,       0000,    59.2333,   -34.7333,       2594,   600.5,   3.6395,  34.8474,2,  34.8483,2,   291.4,2,    9.49,2,   16.88,2,    0.02,2,    1.11,2,   4.323,2,   2.183,3,  -999.0,9,   3.5972
06MT19970815,      AR07E,     518,          1,     203355,         16,         16,2,19970827,       0000,    59.2333,   -34.7333,       2594,   801.5,   3.4810,  34.8664,2,  34.8680,2,   290.8,2,    9.74,2,   16.97,2,    0.02,2,    1.11,2,   3.983,2,   2.004,3,  -999.0,9,   3.4243
06MT19970815,      AR07E,     518,          1,     203354,         15,         15,2,19970827,       0000,    59.2333,   -34.7333,       2594,   900.5,   3.4915,  34.8840,2,  34.8849,2,   281.6,2,   10.15,2,   17.20,2,    0.01,2,    1.12,2,-999.000,9,-999.000,9,  -999.0,9,   3.4270
06MT19970815,      AR07E,     518,          1,     203353,         14,         14,2,19970827,       0000,    59.2333,   -34.7333,       2594,  1001.0,   3.4520,  34.8889,2,  34.8900,2,   283.0,2,   10.25,2,   17.12,2,    0.02,2,    1.12,2,   3.363,2,   1.671,3,  -999.0,9,   3.3798
06MT19970815,      AR07E,     518,          1,     203352,         13,         13,2,19970827,       0000,    59.2333,   -34.7333,       2594,  1101.3,   3.2834,  34.8743,2,  34.8742,2,   287.4,2,   10.23,2,   17.13,2,    0.00,2,    1.12,2,   3.552,2,   1.756,3,  -999.0,9,   3.2046
06MT19970815,      AR07E,     518,          1,     203351,         12,         12,2,19970827,       0000,    59.2333,   -34.7333,       2594,  1201.4,   3.1373,  34.8605,2,  34.8610,2,   292.2,2,   10.10,2,   16.95,2,    0.02,2,    1.11,2,   3.784,2,   1.855,3,  -999.0,9,   3.0518
06MT19970815,      AR07E,     518,          1,     203350,         11,         11,2,19970827,       0000,    59.2333,   -34.7333,       2594,  1302.1,   3.1026,  34.8593,2,  34.8601,2,   293.9,2,   10.12,2,   16.94,2,    0.01,2,    1.11,2,   3.847,2,   1.884,3,  -999.0,9,   3.0093
06MT19970815,      AR07E,     518,          1,     203349,         10,         10,2,19970827,       0000,    59.2333,   -34.7333,       2594,  1400.3,   3.0757,  34.8610,2,  34.8613,2,   295.6,2,   10.08,2,   16.82,2,    0.02,2,    1.11,2,   3.792,2,   1.881,3,  -999.0,9,   2.9746
06MT19970815,      AR07E,     518,          1,     203348,          9,          9,2,19970827,       0000,    59.2333,   -34.7333,       2594,  1500.7,   3.0455,  34.8580,2,  34.8586,2,   296.4,2,   10.10,2,   16.81,2,    0.02,2,    1.11,2,   3.853,2,   1.901,3,  -999.0,9,   2.9364
06MT19970815,      AR07E,     518,          1,     203347,          8,          8,2,19970827,       0000,    59.2333,   -34.7333,       2594,  1600.7,   3.0052,  34.8544,2,  34.8544,2,   297.7,2,    9.96,2,   16.70,2,    0.01,2,    1.10,2,   3.940,2,   1.924,3,  -999.0,9,   2.8881
06MT19970815,      AR07E,     518,          1,     203346,          7,          7,2,19970827,       0000,    59.2333,   -34.7333,       2594,  1699.9,   2.9743,  34.8523,2,  34.8504,2,   288.1,3,    9.98,2,   16.71,2,    0.02,2,    1.10,2,   3.887,2,   1.918,3,  -999.0,9,   2.8490
06MT19970815,      AR07E,     518,          1,     203345,          6,          6,2,19970827,       0000,    59.2333,   -34.7333,       2594,  1798.7,   2.9581,  34.8512,2,  34.8510,2,   299.8,2,    9.91,2,   16.65,2,   -0.01,2,    1.10,2,   3.974,2,   1.959,3,  -999.0,9,   2.8244
06MT19970815,      AR07E,     518,          1,     203344,          5,          5,2,19970827,       0000,    59.2333,   -34.7333,       2594,  1999.3,   2.9785,  34.8584,2,  34.8576,2,   297.0,2,   10.12,2,   16.64,2,    0.02,2,    1.09,2,   3.687,2,   1.808,3,  -999.0,9,   2.8266
06MT19970815,      AR07E,     518,          1,     203343,          4,          4,2,19970827,       0000,    59.2333,   -34.7333,       2594,  2202.3,   3.1067,  34.8961,2,  34.8953,2,   286.3,2,   11.08,2,   16.57,2,    0.01,2,    1.10,2,   2.672,2,   1.310,3,  -999.0,9,   2.9338
06MT19970815,      AR07E,     518,          1,     203342,          3,          3,2,19970827,       0000,    59.2333,   -34.7333,       2594,  2399.7,   3.0984,  34.9148,2,  34.9144,2,   281.8,2,   11.90,2,   16.61,2,    0.02,2,    1.10,2,   2.188,2,   1.060,3,  -999.0,9,   2.9066
06MT19970815,      AR07E,     518,          1,     203341,          2,          2,2,19970827,       0000,    59.2333,   -34.7333,       2594,  2494.0,   3.0584,  34.9194,2,  34.9190,2,   280.7,2,   12.24,2,   16.52,2,    0.01,2,    1.09,2,   2.007,2,   0.987,3,  -999.0,9,   2.8580
06MT19970815,      AR07E,     518,          1,     203340,          1,          1,2,19970827,       0000,    59.2333,   -34.7333,       2594,  2587.4,   3.0037,  34.9208,2,  34.9202,2,   279.8,2,   12.60,2,   16.49,2,    0.02,2,    1.09,2,   2.024,2,   0.986,3,  -999.0,9,   2.7951
06MT19970815,      AR07E,     519,          1,     203383,         22,         22,2,19970827,       0000,    59.1333,   -33.7633,       2413,    10.1,  11.3540,  34.7855,2,  34.7836,2,   275.7,2,    1.11,2,    4.24,2,    0.11,2,    0.36,2,-999.000,9,-999.000,9,  2059.4,2,  11.3527
06MT19970815,      AR07E,     519,          1,     203382,         21,         21,2,19970827,       0000,    59.1333,   -33.7633,       2413,    50.2,   9.1404,  34.8248,2,  34.8149,2,   278.2,2,    2.08,2,    8.46,2,    0.35,2,    0.66,2,-999.000,9,-999.000,9,  2098.3,2,   9.1350
06MT19970815,      AR07E,     519,          1,     203381,         20,         20,2,19970827,       0000,    59.1333,   -33.7633,       2413,   101.4,   5.5118,  34.8825,2,  34.8872,2,   289.3,2,    7.58,2,   15.60,2,    0.02,2,    1.05,2,-999.000,9,-999.000,9,  2140.9,2,   5.5035
06MT19970815,      AR07E,     519,          1,     203380,         19,         19,2,19970827,       0000,    59.1333,   -33.7633,       2413,   144.7,   5.0842,  34.8778,2,  34.8839,2,   284.8,2,    8.46,2,   16.03,2,    0.02,2,    1.07,2,-999.000,9,-999.000,9,  2143.6,2,   5.0729
06MT19970815,      AR07E,     519,          1,     203379,         18,         18,2,19970827,       0000,    59.1333,   -33.7633,       2413,   200.5,   4.8402,  34.8761,2,  34.8808,2,   283.3,2,    8.98,2,   16.47,2,    0.01,2,    1.10,2,-999.000,9,-999.000,9,  2147.3,2,   4.8248
06MT19970815,      AR07E,     519,          1,     203378,         17,         17,2,19970827,       0000,    59.1333,   -33.7633,       2413,   227.9,   4.7751,  34.8777,2,  34.8835,2,   276.8,2,    9.14,2,   16.67,2,    0.02,2,    1.10,2,-999.000,9,-999.000,9,  2148.3,2,   4.7577
06MT19970815,      AR07E,     519,          1,     203377,         16,         16,2,19970827,       0000,    59.1333,   -33.7633,       2413,   300.3,   4.5731,  34.8951,2,  34.8975,2,   268.5,2,    9.88,2,   17.43,2,    0.02,2,    1.15,2,-999.000,9,-999.000,9,  2153.8,2,   4.5504
06MT19970815,      AR07E,     519,          1,     203376,         15,         15,2,19970827,       0000,    59.1333,   -33.7633,       2413,   351.4,   4.3282,  34.8870,2,  34.8934,2,   268.6,2,   10.00,2,   17.47,2,    0.01,2,    1.14,2,-999.000,9,-999.000,9,  2153.8,2,   4.3022
06MT19970815,      AR07E,     519,          1,     203375,         14,         14,2,19970827,       0000,    59.1333,   -33.7633,       2413,   501.5,   3.9940,  34.8968,2,  34.9035,2,   273.0,2,   10.18,2,   17.50,2,    0.02,2,    1.15,2,-999.000,9,-999.000,9,  2153.9,2,   3.9576
06MT19970815,      AR07E,     519,          1,     203374,         13,         13,2,19970827,       0000,    59.1333,   -33.7633,       2413,   701.1,   3.6709,  34.8958,2,  34.9040,2,   277.4,2,   10.27,2,   17.30,2,    0.02,2,    1.13,2,-999.000,9,-999.000,9,  2153.9,2,   3.6208
06MT19970815,      AR07E,     519,          1,     203373,         12,         12,2,19970827,       0000,    59.1333,   -33.7633,       2413,   897.5,   3.5803,  34.9108,2,  34.9187,2,   277.1,2,   10.44,2,   17.07,2,    0.01,2,    1.13,2,-999.000,9,-999.000,9,  2153.1,2,   3.5154
06MT19970815,      AR07E,     519,          1,     203372,         11,         11,2,19970827,       0000,    59.1333,   -33.7633,       2413,  1000.7,   3.4755,  34.9068,2,  34.9150,2,   280.0,2,   10.41,2,   16.97,2,    0.01,2,    1.11,2,-999.000,9,-999.000,9,  2152.1,2,   3.4031
06MT19970815,      AR07E,     519,          1,     203371,         10,         10,2,19970827,       0000,    59.1333,   -33.7633,       2413,  1100.6,   3.4429,  34.9085,2,  34.9155,2,   281.0,2,   10.42,2,   16.80,2,    0.02,2,    1.11,2,-999.000,9,-999.000,9,  2150.7,2,   3.3627
06MT19970815,      AR07E,     519,          1,     203370,          9,          9,2,19970827,       0000,    59.1333,   -33.7633,       2413,  1300.4,   3.2632,  34.8899,2,  34.8964,2,   286.8,2,   10.30,2,   16.80,2,    0.03,2,    1.10,2,-999.000,9,-999.000,9,  2149.6,2,   3.1684
06MT19970815,      AR07E,     519,          1,     203369,          8,          8,2,19970827,       0000,    59.1333,   -33.7633,       2413,  1501.4,   3.0545,  34.8647,2,  34.8745,0,   294.9,2,   10.07,2,   16.69,2,    0.02,2,    1.10,2,   3.767,2,   1.820,3,  2148.4,2,   2.9452
06MT19970815,      AR07E,     519,          1,     203368,          7,          7,2,19970827,       0000,    59.1333,   -33.7633,       2413,  1603.1,   3.0597,  34.8714,2,  34.8781,2,   292.1,2,   10.27,2,   16.64,2,    0.02,2,    1.10,2,-999.000,9,-999.000,9,  2147.5,2,   2.9416
06MT19970815,      AR07E,     519,          1,     203367,          6,          6,2,19970827,       0000,    59.1333,   -33.7633,       2413,  1700.4,   3.0769,  34.8779,2,  34.8846,2,   291.0,2,   10.40,2,   16.57,2,    0.03,2,    1.10,2,   3.361,2,   1.634,3,  2148.8,2,   2.9502
06MT19970815,      AR07E,     519,          1,     203366,          5,          5,2,19970827,       0000,    59.1333,   -33.7633,       2413,  1799.8,   3.1460,  34.8997,2,  34.9056,2,   284.7,2,   11.01,2,   16.60,2,    0.02,2,    1.10,2,-999.000,9,-999.000,9,  2148.6,2,   3.0095
06MT19970815,      AR07E,     519,          1,     203365,          4,          4,2,19970827,       0000,    59.1333,   -33.7633,       2413,  1900.3,   3.0907,  34.8992,2,  34.9047,2,   285.5,2,   11.22,2,   16.56,2,    0.02,2,    1.10,2,   2.745,2,   1.327,3,  2148.6,2,   2.9460
06MT19970815,      AR07E,     519,          1,     203364,          3,          3,2,19970827,       0000,    59.1333,   -33.7633,       2413,  2100.9,   3.0535,  34.9108,2,  34.9167,2,   282.2,2,   11.97,2,   16.52,2,    0.02,2,    1.11,2,   2.448,2,   1.178,3,  2150.0,2,   2.8909
06MT19970815,      AR07E,     519,          1,     203363,          2,          2,2,19970827,       0000,    59.1333,   -33.7633,       2413,  2297.1,   2.9886,  34.9121,2,  34.9191,2,   281.0,2,   12.41,2,   16.47,2,    0.01,2,    1.10,2,   2.238,2,   1.092,3,  2150.4,2,   2.8086
06MT19970815,      AR07E,     519,          1,     203362,          1,          1,2,19970827,       0000,    59.1333,   -33.7633,       2413,  2410.1,   2.9599,  34.9167,2,  34.9215,2,   280.2,2,   12.66,2,   16.40,2,    0.03,2,    1.09,2,   2.128,2,   1.063,3,  2150.6,2,   2.7695
06MT19970815,      AR07E,     520,          1,     203404,         21,         21,2,19970827,       0000,    59.0333,   -32.8183,       2215,    12.3,  11.4878,  34.8855,2,  34.8824,2,   276.3,2,    1.61,2,    3.78,2,    0.12,2,    0.34,2,   3.667,2,   1.964,3,  2058.1,2,  11.4863
06MT19970815,      AR07E,     520,          1,     203403,         20,         20,2,19970827,       0000,    59.0333,   -32.8183,       2215,    49.9,   9.0117,  35.0429,2,  35.0247,2,   265.6,2,    4.64,2,   11.22,2,    0.15,2,    0.76,2,-999.000,9,-999.000,9,  -999.0,9,   9.0063
06MT19970815,      AR07E,     520,          1,     203402,         19,         19,2,19970827,       0000,    59.0333,   -32.8183,       2215,   102.3,   7.7754,  35.0333,2,  35.0379,2,   269.3,2,    6.87,2,   13.83,2,    0.06,2,    0.92,2,-999.000,9,-999.000,9,  -999.0,9,   7.7653
06MT19970815,      AR07E,     520,          1,     203401,         18,         18,2,19970827,       0000,    59.0333,   -32.8183,       2215,   198.1,   6.8819,  34.9902,2,  34.9923,2,   269.5,2,    7.94,2,   15.30,2,    0.06,2,    1.02,2,   3.910,2,   2.036,3,  -999.0,9,   6.8635
06MT19970815,      AR07E,     520,          1,     203400,         17,         17,2,19970827,       0000,    59.0333,   -32.8183,       2215,   303.5,   6.9854,  35.0765,2,  35.0813,2,   271.7,2,    7.53,2,   15.05,2,    0.02,2,    1.00,2,-999.000,9,-999.000,9,  -999.0,9,   6.9567
06MT19970815,      AR07E,     520,          1,     203399,         16,         16,2,19970827,       0000,    59.0333,   -32.8183,       2215,   401.1,   6.6453,  35.0511,2,  35.0457,2,   270.8,2,    7.92,2,   15.34,2,    0.02,2,    1.02,2,-999.000,9,-999.000,9,  -999.0,9,   6.6082
06MT19970815,      AR07E,     520,          1,     203398,         15,         15,2,19970827,       0000,    59.0333,   -32.8183,       2215,   501.9,   5.6447,  34.9217,2,  34.9245,2,   277.7,2,    8.23,2,   15.60,2,    0.04,2,    1.05,2,   4.229,2,   2.201,3,  -999.0,9,   5.6019
06MT19970815,      AR07E,     520,          1,     203397,         14,         14,2,19970827,       0000,    59.0333,   -32.8183,       2215,   702.2,   5.0680,  34.9592,2,  34.9640,2,   244.8,2,   10.80,2,   18.04,2,    0.06,2,    1.18,2,-999.000,9,-999.000,9,  -999.0,9,   5.0101
06MT19970815,      AR07E,     520,          1,     203396,         13,         13,2,19970827,       0000,    59.0333,   -32.8183,       2215,   803.0,   4.4703,  34.9204,2,  34.9273,2,   260.9,2,   10.37,2,   17.71,2,    0.03,2,    1.16,2,   3.225,2,   1.604,3,  -999.0,9,   4.4072
06MT19970815,      AR07E,     520,          1,     203395,         12,         12,2,19970827,       0000,    59.0333,   -32.8183,       2215,   902.1,   4.2350,  34.9307,2,  34.9346,2,   262.5,2,   10.64,2,   17.66,2,    0.02,2,    1.15,2,-999.000,9,-999.000,9,  -999.0,9,   4.1651
06MT19970815,      AR07E,     520,          1,     203394,         11,         11,2,19970827,       0000,    59.0333,   -32.8183,       2215,  1100.3,   3.8033,  34.9200,2,  34.9265,2,   272.4,2,   10.61,2,   17.21,2,    0.03,2,    1.13,2,   2.748,2,   1.358,3,  -999.0,9,   3.7201
06MT19970815,      AR07E,     520,          1,     203393,         10,         10,2,19970827,       0000,    59.0333,   -32.8183,       2215,  1202.3,   3.6956,  34.9239,2,  34.9309,2,   274.9,2,   10.67,2,   16.90,2,    0.02,2,    1.11,2,-999.000,9,-999.000,9,  -999.0,9,   3.6047
06MT19970815,      AR07E,     520,          1,     203392,          9,          9,2,19970827,       0000,    59.0333,   -32.8183,       2215,  1300.4,   3.6377,  34.9265,2,  34.9332,2,   275.2,2,   10.70,2,   16.73,2,    0.04,2,    1.10,2,   2.743,2,   1.348,3,  -999.0,9,   3.5390
06MT19970815,      AR07E,     520,          1,     203391,          8,          8,2,19970827,       0000,    59.0333,   -32.8183,       2215,  1400.2,   3.6207,  34.9288,2,  34.9350,2,   276.0,2,   10.77,2,   16.76,2,    0.02,2,    1.10,2,-999.000,9,-999.000,9,  -999.0,9,   3.5136
06MT19970815,      AR07E,     520,          1,     203390,          7,          7,2,19970827,       0000,    59.0333,   -32.8183,       2215,  1525.3,   3.5841,  34.9279,2,  34.9355,2,   275.9,2,   10.76,2,   16.71,2,    0.02,2,    1.10,2,   2.706,2,   1.314,3,  -999.0,9,   3.4664
06MT19970815,      AR07E,     520,          1,     203389,          6,          6,2,19970827,       0000,    59.0333,   -32.8183,       2215,  1669.7,   3.4783,  34.9195,2,  34.9256,2,   279.3,2,   10.81,2,   16.63,2,    0.03,2,    1.10,2,-999.000,9,-999.000,9,  -999.0,9,   3.3491
06MT19970815,      AR07E,     520,          1,     203388,          5,          5,2,19970827,       0000,    59.0333,   -32.8183,       2215,  1720.9,   3.3234,  34.8969,2,  34.9001,0,   285.8,2,   10.43,2,   16.75,2,    0.02,2,    1.10,2,   3.215,2,   1.565,3,  -999.0,9,   3.1916
06MT19970815,      AR07E,     520,          1,     203387,          4,          4,2,19970827,       0000,    59.0333,   -32.8183,       2215,  1799.7,   3.3009,  34.8987,2,  34.9039,2,   286.3,2,   10.51,2,   16.63,2,    0.04,2,    1.10,2,-999.000,9,-999.000,9,  -999.0,9,   3.1623
06MT19970815,      AR07E,     520,          1,     203386,          3,          3,2,19970827,       0000,    59.0333,   -32.8183,       2215,  1999.0,   3.2026,  34.9000,2,  34.9050,2,  -999.0,9,   10.92,2,   16.47,2,    0.02,2,    1.09,2,-999.000,9,-999.000,9,  -999.0,9,   3.0472
06MT19970815,      AR07E,     520,          1,     203385,          2,          2,2,19970827,       0000,    59.0333,   -32.8183,       2215,  2100.9,   3.1508,  34.9080,2,  34.9130,2,   283.9,2,   11.40,2,   16.54,2,    0.02,2,    1.10,2,   2.745,2,   1.335,3,  -999.0,9,   2.9867
06MT19970815,      AR07E,     520,          1,     203384,          1,          1,2,19970827,       0000,    59.0333,   -32.8183,       2215,  2203.9,   3.0721,  34.9118,2,-999.0000,9,   281.6,2,   11.99,2,   16.40,2,    0.03,2,    1.09,2,   2.473,2,   1.204,3,  -999.0,9,   2.8995