BOTTLE,20220204CCHSIOENA
EXPOCODE,SECT_ID,STNNBR,CASTNO,BIONBR,SAMPNO,BTLNBR,BTLNBR_FLAG_W,DATE,TIME,LATITUDE,LONGITUDE,DEPTH,CTDPRS,CTDTMP,CTDSAL,CTDSAL_FLAG_W,SALNTY,SALNTY_FLAG_W,OXYGEN,OXYGEN_FLAG_W,SILCAT,SILCAT_FLAG_W,NITRAT,NITRAT_FLAG_W,NITRIT,NITRIT_FLAG_W,PHSPHT,PHSPHT_FLAG_W,CFC-11,CFC-11_FLAG_W,CFC-12,CFC-12_FLAG_W,TCARBN,TCARBN_FLAG_W,THETA
,,,,,,,,,,,,METERS,DBAR,ITS-90,PSS-78,,PSS-78,,UMOL/KG,,UMOL/KG,,UMOL/KG,,UMOL/KG,,UMOL/KG,,PMOL/KG,,PMOL/KG,,UMOL/KG,,DEG C
06MT19970815,      AR07E,     506,          1,     203086,          4,          4,2,19970825,       0000,    59.9967,   -42.5000,        193,    10.8,   2.8581,  31.6868,2,  31.5782,2,   366.5,3,    0.75,2,    0.04,2,    0.01,2,    0.24,2,-999.000,9,-999.000,9,  1949.2,2,   2.8575
06MT19970815,      AR07E,     506,          1,     203085,          3,          3,2,19970825,       0000,    59.9967,   -42.5000,        193,    50.9,   0.0089,  33.1441,2,  33.1471,2,   346.6,3,    2.41,2,    4.57,2,    0.11,2,    0.60,2,-999.000,9,-999.000,9,  2066.5,2,   0.0072
06MT19970815,      AR07E,     506,          1,     203084,          2,          2,2,19970825,       0000,    59.9967,   -42.5000,        193,   102.3,   4.1855,  34.2961,2,  34.2639,2,   311.2,3,    2.89,2,    6.63,2,    0.21,2,    0.63,2,-999.000,9,-999.000,9,  2094.7,2,   4.1784
06MT19970815,      AR07E,     506,          1,     203083,          1,          1,2,19970825,       0000,    59.9967,   -42.5000,        193,   167.8,   3.9270,  34.5276,2,  34.5185,2,   297.9,2,    6.00,2,   11.43,2,    0.21,2,    0.84,2,-999.000,9,-999.000,9,  2119.9,2,   3.9155
06MT19970815,      AR07E,     507,          1,     203094,         12,         12,2,19970825,       0000,    59.9667,   -42.1733,        505,    10.3,   4.8315,  34.1014,2,  34.0941,2,   324.7,3,    1.20,2,    4.42,2,    0.12,2,    0.45,2,   5.366,2,   2.703,3,  2070.6,2,   4.8307
06MT19970815,      AR07E,     507,          1,     203093,         11,         11,2,19970825,       0000,    59.9667,   -42.1733,        505,    49.3,   4.5652,  34.5602,2,  34.5508,2,   302.7,3,    4.09,2,    9.57,2,    0.22,2,    0.74,2,-999.000,9,-999.000,9,  2107.9,2,   4.5616
06MT19970815,      AR07E,     507,          1,     203092,         10,         10,2,19970825,       0000,    59.9667,   -42.1733,        505,   100.6,   4.1873,  34.6289,2,  34.6272,2,   297.0,2,    5.77,2,   12.21,2,    0.21,2,    0.86,2,-999.000,9,-999.000,9,  2120.4,2,   4.1802
06MT19970815,      AR07E,     507,          1,     203091,          9,          9,2,19970825,       0000,    59.9667,   -42.1733,        505,   151.1,   4.2834,  34.6805,2,  34.6828,2,   294.5,2,    6.16,2,   12.98,2,    0.12,2,    0.90,2,-999.000,9,-999.000,9,  2139.6,2,   4.2726
06MT19970815,      AR07E,     507,          1,     203090,          8,          8,2,19970825,       0000,    59.9667,   -42.1733,        505,   200.3,   4.7470,  34.7852,2,  34.7815,2,   290.6,2,    6.78,2,   13.81,2,    0.05,2,    0.93,2,   4.677,2,   2.415,3,  2128.4,2,   4.7318
06MT19970815,      AR07E,     507,          1,     203089,          7,          7,2,19970825,       0000,    59.9667,   -42.1733,        505,   300.3,   4.8898,  34.8287,2,  34.8193,2,   288.5,2,    7.08,2,   14.28,2,    0.03,2,    0.95,2,-999.000,9,-999.000,9,  2130.1,2,   4.8664
06MT19970815,      AR07E,     507,          1,     203088,          6,          6,2,19970825,       0000,    59.9667,   -42.1733,        505,   401.5,   5.0782,  34.8850,2,  34.8823,2,   285.6,2,    7.54,2,   14.76,2,    0.03,2,    0.98,2,-999.000,9,-999.000,9,  2132.9,2,   5.0460
06MT19970815,      AR07E,     507,          1,     203087,          5,          5,2,19970825,       0000,    59.9667,   -42.1733,        505,   467.0,   4.8641,  34.9077,2,  34.9041,2,   281.8,2,    8.23,2,   15.38,2,    0.02,2,    1.01,2,   4.302,2,   2.243,3,  2136.3,2,   4.8272
06MT19970815,      AR07E,     508,          1,     203124,         20,         20,2,19970825,       0000,    59.9317,   -41.8500,       1829,    14.7,   9.3144,  34.8698,2,  34.8606,2,   291.9,2,    1.05,2,    4.39,2, -999.00,9,    0.36,2,   4.136,2,   2.201,3,  -999.0,9,   9.3128
06MT19970815,      AR07E,     508,          1,     203123,         19,         19,2,19970825,       0000,    59.9317,   -41.8500,       1829,    50.2,   8.1326,  34.9511,2,  34.9326,2,   286.7,2,    2.49,2,    7.64,2,    0.23,2,    0.60,2,-999.000,9,-999.000,9,  -999.0,9,   8.1275
06MT19970815,      AR07E,     508,          1,     203122,         18,         18,2,19970825,       0000,    59.9317,   -41.8500,       1829,    99.8,   6.8024,  35.0256,2,  35.0250,2,   280.3,2,    5.78,2,   13.91,2,    0.11,2,    0.91,2,   4.329,2,   2.262,3,  -999.0,9,   6.7933
06MT19970815,      AR07E,     508,          1,     203121,         17,         17,2,19970825,       0000,    59.9317,   -41.8500,       1829,   200.3,   5.9127,  34.9889,2,  34.9902,2,   281.2,2,    7.45,2,   15.02,2,    0.02,2,    0.99,2,   4.330,2,   2.250,3,  -999.0,9,   5.8956
06MT19970815,      AR07E,     508,          1,     203120,         16,         16,2,19970825,       0000,    59.9317,   -41.8500,       1829,   301.3,   5.4508,  34.9708,2,  34.9672,2,   280.1,2,    8.26,2,   15.59,2,    0.02,2,    1.03,2,-999.000,9,-999.000,9,  -999.0,9,   5.4259
06MT19970815,      AR07E,     508,          1,     203119,         15,         15,2,19970825,       0000,    59.9317,   -41.8500,       1829,   400.9,   5.0103,  34.9497,2,  34.9507,2,   280.1,2,    8.71,2,   16.07,2,    0.02,2,    1.06,2,   4.069,2,   2.109,3,  -999.0,9,   4.9783
06MT19970815,      AR07E,     508,          1,     203118,         14,         14,2,19970825,       0000,    59.9317,   -41.8500,       1829,   500.9,   4.6844,  34.9261,2,  34.9264,2,   282.7,2,    8.88,2,   16.26,2,    0.02,2,    1.07,2,-999.000,9,-999.000,9,  -999.0,9,   4.6454
06MT19970815,      AR07E,     508,          1,     203117,         13,         13,2,19970825,       0000,    59.9317,   -41.8500,       1829,   600.8,   4.3776,  34.9161,2,  34.9167,2,   283.3,2,    9.12,2,   16.30,2,    0.01,2,    1.07,2,   3.920,2,   2.009,3,  -999.0,9,   4.3318
06MT19970815,      AR07E,     508,          1,     203116,         12,         12,2,19970825,       0000,    59.9317,   -41.8500,       1829,   701.1,   4.0896,  34.8975,2,  34.8995,2,   279.9,2,    9.24,2,   16.54,2,    0.01,2,    1.09,2,-999.000,9,-999.000,9,  -999.0,9,   4.0372
06MT19970815,      AR07E,     508,          1,     203115,         11,         11,2,19970825,       0000,    59.9317,   -41.8500,       1829,   801.8,   3.8368,  34.8918,2,  34.8924,2,   283.6,2,    9.58,2,   16.98,2,    0.01,2,    1.10,2,   3.786,2,   1.926,3,  -999.0,9,   3.7778
06MT19970815,      AR07E,     508,          1,     203114,         10,         10,2,19970825,       0000,    59.9317,   -41.8500,       1829,   898.6,   3.6578,  34.8973,2,  34.8979,2,   282.4,2,    9.73,2,   16.76,2,    0.01,2,    1.09,2,-999.000,9,-999.000,9,  -999.0,9,   3.5923
06MT19970815,      AR07E,     508,          1,     203113,          9,          9,2,19970825,       0000,    59.9317,   -41.8500,       1829,  1000.4,   3.5951,  34.8977,2,  34.8982,2,   283.2,2,    9.72,2,   16.67,2,    0.01,2,    1.09,2,   3.532,2,   1.782,3,  -999.0,9,   3.5219
06MT19970815,      AR07E,     508,          1,     203112,          8,          8,2,19970825,       0000,    59.9317,   -41.8500,       1829,  1102.1,   3.4546,  34.8930,2,  34.8935,2,   285.5,2,    9.78,2,   16.55,2,    0.01,2,    1.09,2,-999.000,9,-999.000,9,  -999.0,9,   3.3743
06MT19970815,      AR07E,     508,          1,     203111,          7,          7,2,19970825,       0000,    59.9317,   -41.8500,       1829,  1206.0,   3.3075,  34.8847,2,  34.8856,2,   288.4,2,    9.80,2,   16.57,2,    0.01,2,    1.08,2,   3.587,2,   1.805,3,  -999.0,9,   3.2200
06MT19970815,      AR07E,     508,          1,     203110,          6,          6,2,19970825,       0000,    59.9317,   -41.8500,       1829,  1302.0,   3.1854,  34.8744,2,  34.8743,2,   292.6,2,    9.85,2,   16.71,2,    0.01,2,    1.09,2,   3.728,2,   1.862,3,  -999.0,9,   3.0913
06MT19970815,      AR07E,     508,          1,     203109,          5,          5,2,19970825,       0000,    59.9317,   -41.8500,       1829,  1399.4,   3.0507,  34.8669,2,  34.8672,2,   295.2,2,    9.76,2,   16.52,2,    0.01,2,    1.08,2,   3.817,2,   1.896,3,  -999.0,9,   2.9499
06MT19970815,      AR07E,     508,          1,     203108,          4,          4,2,19970825,       0000,    59.9317,   -41.8500,       1829,  1496.5,   2.9705,  34.8705,2,  34.8701,2,   294.3,2,    9.84,2,   16.30,2,    0.00,2,    1.07,2,   3.642,2,   1.821,3,  -999.0,9,   2.8625
06MT19970815,      AR07E,     508,          1,     203107,          3,          3,2,19970825,       0000,    59.9317,   -41.8500,       1829,  1600.4,   2.8583,  34.8755,2,  34.8793,0,   293.5,2,    9.82,2,   16.03,2,    0.01,2,    1.06,2,   3.549,2,   1.781,3,  -999.0,9,   2.7429
06MT19970815,      AR07E,     508,          1,     203106,          2,          2,2,19970825,       0000,    59.9317,   -41.8500,       1829,  1703.2,   2.6967,  34.8766,2,  34.8767,2,   293.6,2,    9.76,2,   15.76,2,    0.01,2,    1.04,2,   3.500,2,   1.738,3,  -999.0,9,   2.5747
06MT19970815,      AR07E,     508,          1,     203105,          1,          1,2,19970825,       0000,    59.9317,   -41.8500,       1829,  1807.8,   2.5000,  34.8774,2,  34.8768,2,   294.5,2,    9.62,2,   15.34,2,    0.01,2,    1.02,2,   3.455,2,   1.721,3,  -999.0,9,   2.3717
06MT19970815,      AR07E,     509,          1,     203147,         21,         21,2,19970825,       0000,    59.9017,   -41.5117,       1903,    13.7,   9.5194,  34.9049,2,  34.8996,2,   293.6,2,    1.13,2,    3.83,2,    0.13,2,    0.30,2,-999.000,9,-999.000,9,  2060.9,2,   9.5179
06MT19970815,      AR07E,     509,          1,     203146,         20,         20,2,19970825,       0000,    59.9017,   -41.5117,       1903,    49.7,   6.8791,  35.0174,2,  35.0173,2,   280.2,2,    5.48,2,   13.29,2,    0.15,2,    0.88,2,-999.000,9,-999.000,9,  2123.3,2,   6.8745
06MT19970815,      AR07E,     509,          1,     203145,         19,         19,2,19970825,       0000,    59.9017,   -41.5117,       1903,    99.9,   6.2905,  35.0394,2,  35.0380,2,   280.1,2,    7.49,2,   15.04,2,    0.03,2,    0.99,2,-999.000,9,-999.000,9,  2134.8,2,   6.2817
06MT19970815,      AR07E,     509,          1,     203144,         18,         18,2,19970825,       0000,    59.9017,   -41.5117,       1903,   199.9,   5.5986,  34.9897,2,  34.9905,2,   283.9,2,    8.24,2,   15.66,2,    0.02,2,    1.04,2,-999.000,9,-999.000,9,  -999.0,9,   5.5820
06MT19970815,      AR07E,     509,          1,     203143,         17,         17,2,19970825,       0000,    59.9017,   -41.5117,       1903,   294.0,   5.0880,  34.9509,2,  34.9529,2,   283.8,2,    8.56,2,   15.88,2,    0.02,2,    1.05,2,-999.000,9,-999.000,9,  2138.4,2,   5.0646
06MT19970815,      AR07E,     509,          1,     203142,         16,         16,2,19970825,       0000,    59.9017,   -41.5117,       1903,   401.6,   4.4153,  34.9127,2,  34.9127,2,   285.0,2,    9.01,2,   16.34,2,    0.03,2,    1.08,2,-999.000,9,-999.000,9,  2141.2,2,   4.3851
06MT19970815,      AR07E,     509,          1,     203141,         15,         15,2,19970825,       0000,    59.9017,   -41.5117,       1903,   501.2,   4.1724,  34.9107,2,  34.9109,2,   282.4,2,    9.24,2,   16.21,2,    0.05,2,    1.07,2,-999.000,9,-999.000,9,  2141.9,2,   4.1353
06MT19970815,      AR07E,     509,          1,     203140,         14,         14,2,19970825,       0000,    59.9017,   -41.5117,       1903,   601.1,   4.0685,  34.9073,2,  34.9083,2,   283.4,2,    9.35,2,   16.36,2,    0.02,2,    1.08,2,-999.000,9,-999.000,9,  2142.8,2,   4.0241
06MT19970815,      AR07E,     509,          1,     203139,         13,         13,2,19970825,       0000,    59.9017,   -41.5117,       1903,   702.0,   3.7907,  34.8981,2,  34.8932,2,   286.8,2,    9.59,2,   16.63,2,    0.03,2,    1.09,2,-999.000,9,-999.000,9,  2146.7,2,   3.7398
06MT19970815,      AR07E,     509,          1,     203138,         12,         12,2,19970825,       0000,    59.9017,   -41.5117,       1903,   801.4,   3.5556,  34.8850,2,  34.8844,2,   281.8,2,    9.79,2,   16.87,2,    0.02,2,    1.10,2,-999.000,9,-999.000,9,  2145.1,2,   3.4984
06MT19970815,      AR07E,     509,          1,     203137,         11,         11,2,19970825,       0000,    59.9017,   -41.5117,       1903,   900.6,   3.4751,  34.8895,2,  34.8881,2,   284.7,2,    9.98,2,   16.90,2,    0.01,2,    1.11,2,-999.000,9,-999.000,9,  2144.7,2,   3.4107
06MT19970815,      AR07E,     509,          1,     203136,         10,         10,2,19970825,       0000,    59.9017,   -41.5117,       1903,  1000.3,   3.2467,  34.8724,2,  34.8721,2,   290.4,2,   10.08,2,   17.02,2,    0.02,2,    1.11,2,-999.000,9,-999.000,9,  2143.0,2,   3.1762
06MT19970815,      AR07E,     509,          1,     203135,          9,          9,2,19970825,       0000,    59.9017,   -41.5117,       1903,  1101.0,   3.1519,  34.8671,2,  34.8677,2,  -999.0,9,   10.03,2,   16.91,2,    0.03,2,    1.11,2,-999.000,9,-999.000,9,  2141.9,2,   3.0743
06MT19970815,      AR07E,     509,          1,     203134,          8,          8,2,19970825,       0000,    59.9017,   -41.5117,       1903,  1200.8,   3.0305,  34.8582,2,  34.8586,2,   297.8,2,    9.93,2,   16.83,2,    0.01,2,    1.10,2,-999.000,9,-999.000,9,  2152.8,2,   2.9461
06MT19970815,      AR07E,     509,          1,     203133,          7,          7,2,19970825,       0000,    59.9017,   -41.5117,       1903,  1300.2,   2.9475,  34.8518,2,  34.8520,2,   300.9,2,    9.88,2,   16.71,2,    0.01,2,    1.10,2,-999.000,9,-999.000,9,  2151.6,2,   2.8559
06MT19970815,      AR07E,     509,          1,     203132,          6,          6,2,19970825,       0000,    59.9017,   -41.5117,       1903,  1400.8,   2.9105,  34.8493,2,  34.8479,2,   300.6,2,    9.80,2,   16.66,2,    0.04,2,    1.10,2,-999.000,9,-999.000,9,  2150.3,2,   2.8112
06MT19970815,      AR07E,     509,          1,     203131,          5,          5,2,19970825,       0000,    59.9017,   -41.5117,       1903,  1500.1,   2.9403,  34.8602,2,  34.8597,2,   296.4,2,    9.99,2,   16.52,2,    0.02,2,    1.09,2,-999.000,9,-999.000,9,  2151.5,2,   2.8324
06MT19970815,      AR07E,     509,          1,     203130,          4,          4,2,19970825,       0000,    59.9017,   -41.5117,       1903,  1600.0,   2.9732,  34.8839,2,  34.8837,2,   290.0,2,   10.41,2,   16.28,2,    0.02,2,    1.08,2,-999.000,9,-999.000,9,  2151.3,2,   2.8564
06MT19970815,      AR07E,     509,          1,     203129,          3,          3,2,19970825,       0000,    59.9017,   -41.5117,       1903,  1699.9,   2.8202,  34.8862,2,  34.8846,2,   292.4,2,   10.27,2,   15.89,2,    0.01,2,    1.06,2,-999.000,9,-999.000,9,  2151.7,2,   2.6968
06MT19970815,      AR07E,     509,          1,     203128,          2,          2,2,19970825,       0000,    59.9017,   -41.5117,       1903,  1801.1,   2.5713,  34.8803,2,  34.8803,2,   292.4,2,    9.85,2,   15.47,2,    0.02,2,    1.03,2,-999.000,9,-999.000,9,  2151.4,2,   2.4426
06MT19970815,      AR07E,     509,          1,     203127,          1,          1,2,19970825,       0000,    59.9017,   -41.5117,       1903,  1883.7,   2.3942,  34.8767,2,  34.8765,2,   294.9,2,    9.67,2,   15.12,2,    0.03,2,    1.01,2,-999.000,9,-999.000,9,  2151.9,2,   2.2610