BOTTLE,20220204CCHSIOENA
EXPOCODE,SECT_ID,STNNBR,CASTNO,BIONBR,SAMPNO,BTLNBR,BTLNBR_FLAG_W,DATE,TIME,LATITUDE,LONGITUDE,DEPTH,CTDPRS,CTDTMP,CTDSAL,CTDSAL_FLAG_W,SALNTY,SALNTY_FLAG_W,OXYGEN,OXYGEN_FLAG_W,SILCAT,SILCAT_FLAG_W,NITRAT,NITRAT_FLAG_W,NITRIT,NITRIT_FLAG_W,PHSPHT,PHSPHT_FLAG_W,CFC-11,CFC-11_FLAG_W,CFC-12,CFC-12_FLAG_W,TCARBN,TCARBN_FLAG_W,THETA
,,,,,,,,,,,,METERS,DBAR,ITS-90,PSS-78,,PSS-78,,UMOL/KG,,UMOL/KG,,UMOL/KG,,UMOL/KG,,UMOL/KG,,PMOL/KG,,PMOL/KG,,UMOL/KG,,DEG C
06MT19970815,      AR07E,     513,          1,     203236,         22,         22,2,19970826,       0000,    59.6833,   -39.3967,       2854,    11.0,   9.6925,  34.6840,2,  34.6740,2,   285.8,2,    0.83,2,    6.09,2,    0.11,2,    0.50,2,   4.050,2,   2.170,3,  2079.5,2,   9.6913
06MT19970815,      AR07E,     513,          1,     203235,         21,         21,2,19970826,       0000,    59.6833,   -39.3967,       2854,    51.0,   8.9717,  34.6760,2,  34.6814,2,   289.1,2,    1.38,2,    7.34,2,    0.18,2,    0.61,2,-999.000,9,-999.000,9,  2092.9,2,   8.9662
06MT19970815,      AR07E,     513,          1,     203234,         20,         20,2,19970826,       0000,    59.6833,   -39.3967,       2854,   101.6,   4.7470,  34.8270,2,  34.8226,2,   289.5,2,    8.18,2,   15.96,2,    0.02,2,    1.07,2,   4.717,2,   2.426,3,  2147.5,2,   4.7394
06MT19970815,      AR07E,     513,          1,     203233,         19,         19,2,19970826,       0000,    59.6833,   -39.3967,       2854,   200.3,   3.9099,  34.8296,2,  34.8283,2,   281.3,2,    9.51,2,   17.05,2,    0.01,2,    1.13,2,-999.000,9,-999.000,9,  2158.6,2,   3.8960
06MT19970815,      AR07E,     513,          1,     203232,         18,         18,2,19970826,       0000,    59.6833,   -39.3967,       2854,   300.8,   3.7931,  34.8673,2,  34.8681,2,   282.7,2,    9.83,2,   17.20,2,    0.01,2,    1.13,2,   3.774,2,   1.924,3,  2156.9,2,   3.7722
06MT19970815,      AR07E,     513,          1,     203231,         17,         17,2,19970826,       0000,    59.6833,   -39.3967,       2854,   502.5,   3.3652,  34.8525,2,  34.8551,2,   289.2,2,    9.81,2,   17.12,2,    0.01,2,    1.12,2,   3.949,2,   2.010,3,  2159.0,2,   3.3313
06MT19970815,      AR07E,     513,          1,     203230,         16,         16,2,19970826,       0000,    59.6833,   -39.3967,       2854,   700.8,   3.2545,  34.8595,2,  34.8645,2,   288.7,2,   10.08,2,   17.15,2,    0.01,2,    1.12,2,   3.677,2,   1.854,3,  2156.2,2,   3.2067
06MT19970815,      AR07E,     513,          1,     203229,         15,         15,2,19970826,       0000,    59.6833,   -39.3967,       2854,   900.5,   3.1528,  34.8626,2,  34.8644,2,   290.5,2,   10.13,2,   17.11,2,    0.01,2,    1.12,2,-999.000,9,-999.000,9,  2154.8,2,   3.0907
06MT19970815,      AR07E,     513,          1,     203228,         14,         14,2,19970826,       0000,    59.6833,   -39.3967,       2854,  1000.8,   3.1094,  34.8623,2,  34.8637,2,   292.9,2,   10.18,2,   16.97,2,    0.01,2,    1.11,2,   3.643,2,   1.814,3,  2154.5,2,   3.0400
06MT19970815,      AR07E,     513,          1,     203227,         13,         13,2,19970826,       0000,    59.6833,   -39.3967,       2854,  1200.4,   3.0096,  34.8554,2,  34.8567,2,   301.7,2,    9.98,2,   16.90,2,    0.01,2,    1.11,2,   3.813,2,   1.893,3,  2155.8,2,   2.9254
06MT19970815,      AR07E,     513,          1,     203226,         12,         12,2,19970826,       0000,    59.6833,   -39.3967,       2854,  1400.5,   2.9472,  34.8502,2,  34.8507,2,   295.0,2,    9.89,2,   16.70,2,    0.01,2,    1.10,2,   3.948,2,   1.964,3,  2153.2,2,   2.8475
06MT19970815,      AR07E,     513,          1,     203225,         11,         11,2,19970826,       0000,    59.6833,   -39.3967,       2854,  1601.1,   2.9150,  34.8478,2,  34.8484,2,   299.4,2,    9.81,2,   16.70,2,    0.01,2,    1.10,2,   3.928,2,   1.960,3,  2153.2,2,   2.7989
06MT19970815,      AR07E,     513,          1,     203224,         10,         10,2,19970826,       0000,    59.6833,   -39.3967,       2854,  1700.3,   2.9269,  34.8515,2,  34.8516,0,   298.6,2,    9.89,2,   16.58,2,    0.00,2,    1.09,2,   3.759,2,   1.876,3,  2152.1,2,   2.8022
06MT19970815,      AR07E,     513,          1,     203223,          9,          9,2,19970826,       0000,    59.6833,   -39.3967,       2854,  1800.6,   2.9840,  34.8642,2,  34.8647,2,   294.9,2,   10.18,2,   16.60,2,    0.01,2,    1.10,2,   3.497,2,   1.737,3,  -999.0,9,   2.8498
06MT19970815,      AR07E,     513,          1,     203222,          8,          8,2,19970826,       0000,    59.6833,   -39.3967,       2854,  1899.7,   3.0516,  34.8810,2,  34.8784,2,   291.2,2,   10.52,2,   16.58,2,    0.00,2,    1.09,2,-999.000,9,-999.000,9,  2154.1,2,   2.9076
06MT19970815,      AR07E,     513,          1,     203221,          7,          7,2,19970826,       0000,    59.6833,   -39.3967,       2854,  2000.9,   3.0948,  34.8979,2,  34.8958,2,   285.9,2,   11.04,2,   16.63,2,    0.01,2,    1.10,2,   2.612,2,   1.288,3,  2153.5,2,   2.9409
06MT19970815,      AR07E,     513,          1,     203220,          6,          6,2,19970826,       0000,    59.6833,   -39.3967,       2854,  2200.3,   3.0556,  34.9156,2,  34.9113,0,   281.4,2,   11.81,2,   16.50,2,    0.01,2,    1.09,2,   2.137,2,   1.030,3,  2155.4,2,   2.8836
06MT19970815,      AR07E,     513,          1,     203219,          5,          5,2,19970826,       0000,    59.6833,   -39.3967,       2854,  2400.9,   2.9672,  34.9237,2,  34.9211,2,   279.1,2,   12.69,2,   16.51,2,    0.02,2,    1.06,2,   1.835,2,   0.894,3,  2156.0,2,   2.7776
06MT19970815,      AR07E,     513,          1,     203218,          4,          4,2,19970826,       0000,    59.6833,   -39.3967,       2854,  2501.5,   2.9002,  34.9263,2,  34.9250,2,   279.4,2,   12.95,2,   16.46,2,    0.00,2,    1.09,2,   1.778,2,   0.868,3,  2156.2,2,   2.7020
06MT19970815,      AR07E,     513,          1,     203217,          3,          3,2,19970826,       0000,    59.6833,   -39.3967,       2854,  2601.7,   2.7298,  34.9176,2,  34.9154,2,   282.0,2,   12.56,2,   16.16,2,    0.00,2,    1.07,2,   2.169,2,   1.050,3,  2156.1,2,   2.5250
06MT19970815,      AR07E,     513,          1,     203216,          2,          2,2,19970826,       0000,    59.6833,   -39.3967,       2854,  2752.5,   2.1830,  34.8884,2,  34.8877,2,   294.8,2,    9.66,2,   14.90,2,    0.01,2,    1.00,2,   3.216,2,   1.623,3,  2152.5,2,   1.9744
06MT19970815,      AR07E,     513,          1,     203215,          1,          1,2,19970826,       0000,    59.6833,   -39.3967,       2854,  2852.3,   1.4924,  34.8767,2,  34.8766,2,   302.0,2,    8.26,2,   13.92,2,    0.02,2,    0.94,2,   3.636,2,   1.827,3,  2169.2,3,   1.2887
06MT19970815,      AR07E,     514,          1,     203258,         22,         22,2,19970826,       0000,    59.6000,   -38.5967,       3013,    12.2,  10.0045,  34.6658,2,  34.6557,2,   285.6,2,    0.67,2,    5.76,2,    0.10,2,    0.48,2,   3.993,2,   2.140,3,  2075.1,2,  10.0031
06MT19970815,      AR07E,     514,          1,     203257,         21,         21,2,19970826,       0000,    59.6000,   -38.5967,       3013,    50.2,   7.5378,  34.7330,2,  34.7260,2,   291.1,2,    1.86,2,    8.90,2,    0.29,2,    0.75,2,-999.000,9,-999.000,9,  -999.0,9,   7.5330
06MT19970815,      AR07E,     514,          1,     203256,         20,         20,2,19970826,       0000,    59.6000,   -38.5967,       3013,    93.7,   4.2562,  34.7653,2,  34.7625,2,   296.7,2,    8.23,2,   16.06,2,    0.02,2,    1.07,2,   5.159,2,   2.560,3,  -999.0,9,   4.2495
06MT19970815,      AR07E,     514,          1,     203255,         19,         19,2,19970826,       0000,    59.6000,   -38.5967,       3013,   200.7,   3.6906,  34.8156,2,  34.8424,2,   278.5,2,    9.78,2,   17.24,2,    0.02,2,    1.13,2,   3.954,2,   2.012,3,  -999.0,9,   3.6770
06MT19970815,      AR07E,     514,          1,     203254,         18,         18,2,19970826,       0000,    59.6000,   -38.5967,       3013,   401.1,   3.5074,  34.8496,2,  34.8510,2,   288.4,2,    9.75,2,   17.12,2,    0.02,2,    1.12,2,   4.032,2,   2.037,3,  -999.0,9,   3.4802
06MT19970815,      AR07E,     514,          1,     203253,         17,         17,2,19970826,       0000,    59.6000,   -38.5967,       3013,   601.0,   3.3576,  34.8587,2,  34.8619,2,   290.0,2,    9.96,2,   17.09,2,    0.02,2,    1.12,2,   3.897,2,   1.965,3,  -999.0,9,   3.3166
06MT19970815,      AR07E,     514,          1,     203252,         16,         16,2,19970826,       0000,    59.6000,   -38.5967,       3013,   801.4,   3.2750,  34.8649,2,  34.8658,2,   288.4,2,   10.17,2,   17.12,2,    0.05,2,    1.13,2,   3.617,2,   1.803,3,  -999.0,9,   3.2196
06MT19970815,      AR07E,     514,          1,     203251,         15,         15,2,19970826,       0000,    59.6000,   -38.5967,       3013,  1001.3,   3.2139,  34.8728,2,  34.8741,2,   289.9,2,   10.21,2,   16.91,2,    0.02,2,    1.11,2,   3.507,2,   1.749,3,  -999.0,9,   3.1436
06MT19970815,      AR07E,     514,          1,     203250,         14,         14,2,19970826,       0000,    59.6000,   -38.5967,       3013,  1200.7,   3.0470,  34.8571,2,  34.8567,2,   296.8,2,   10.08,2,   16.85,2,    0.02,2,    1.10,2,   3.732,2,   1.893,3,  -999.0,9,   2.9624
06MT19970815,      AR07E,     514,          1,     203249,         13,         13,2,19970826,       0000,    59.6000,   -38.5967,       3013,  1401.3,   2.9874,  34.8538,2,  34.8541,2,   291.2,2,    9.97,2,   16.76,2,    0.01,2,    1.11,2,   3.751,2,   1.910,3,  -999.0,9,   2.8872
06MT19970815,      AR07E,     514,          1,     203248,         12,         12,2,19970826,       0000,    59.6000,   -38.5967,       3013,  1499.4,   2.9771,  34.8544,2,  34.8549,2,   305.4,3,   10.00,2,   16.65,2,    0.02,2,    1.09,2,   3.755,2,   1.902,3,  -999.0,9,   2.8689
06MT19970815,      AR07E,     514,          1,     203247,         11,         11,2,19970826,       0000,    59.6000,   -38.5967,       3013,  1600.3,   2.9116,  34.8446,2,  34.8470,0,   300.7,2,    9.83,2,   16.63,2,    0.02,2,    1.10,2,   3.902,2,   1.966,3,  -999.0,9,   2.7957
06MT19970815,      AR07E,     514,          1,     203246,         10,         10,2,19970826,       0000,    59.6000,   -38.5967,       3013,  1700.4,   2.9023,  34.8445,2,  34.8452,2,   301.0,2,    9.85,2,   16.60,2,    0.02,2,    1.09,2,-999.000,9,-999.000,9,  -999.0,9,   2.7779
06MT19970815,      AR07E,     514,          1,     203245,          9,          9,2,19970826,       0000,    59.6000,   -38.5967,       3013,  1800.6,   2.9210,  34.8486,2,  34.8487,2,   298.9,2,    9.90,2,   16.52,2,    0.02,2,    1.08,2,   3.760,2,   1.893,3,  -999.0,9,   2.7877
06MT19970815,      AR07E,     514,          1,     203244,          8,          8,2,19970826,       0000,    59.6000,   -38.5967,       3013,  2001.2,   3.0547,  34.8794,2,  34.8784,2,   291.4,2,   10.57,2,   16.52,2,    0.02,2,    1.06,2,   3.035,2,   1.529,3,  -999.0,9,   2.9014
06MT19970815,      AR07E,     514,          1,     203243,          7,          7,2,19970826,       0000,    59.6000,   -38.5967,       3013,  2201.5,   3.0996,  34.9037,2,  34.9038,2,   284.0,2,   11.39,2,   16.55,2,    0.02,2,    1.10,2,-999.000,9,-999.000,9,  -999.0,9,   2.9268
06MT19970815,      AR07E,     514,          1,     203242,          6,          6,2,19970826,       0000,    59.6000,   -38.5967,       3013,  2401.3,   3.0452,  34.9186,2,  34.9184,2,   281.8,2,   12.28,2,   16.43,2,    0.02,2,    1.08,2,   2.083,2,   1.009,3,  -999.0,9,   2.8541
06MT19970815,      AR07E,     514,          1,     203241,          5,          5,2,19970826,       0000,    59.6000,   -38.5967,       3013,  2501.2,   2.9888,  34.9199,2,  34.9197,2,   281.2,2,   12.34,2,   16.49,2,    0.02,2,    1.09,2,   2.010,2,   0.986,3,  -999.0,9,   2.7890
06MT19970815,      AR07E,     514,          1,     203240,          4,          4,2,19970826,       0000,    59.6000,   -38.5967,       3013,  2601.5,   2.9158,  34.9203,2,  34.9210,2,   280.9,2,   12.62,2,   16.37,2,    0.02,2,    1.08,2,   1.991,2,   0.983,3,  -999.0,9,   2.7075
06MT19970815,      AR07E,     514,          1,     203239,          3,          3,2,19970826,       0000,    59.6000,   -38.5967,       3013,  2802.0,   2.5903,  34.9099,2,  34.9107,2,   286.6,2,   11.99,2,   15.86,2,    0.02,2,    1.06,2,   2.427,2,   1.204,3,  -999.0,9,   2.3685
06MT19970815,      AR07E,     514,          1,     203238,          2,          2,2,19970826,       0000,    59.6000,   -38.5967,       3013,  2902.6,   2.3113,  34.8958,2,  34.8965,2,   292.4,2,   10.42,2,   15.15,2,    0.02,2,    1.01,2,   2.995,2,   1.527,3,  -999.0,9,   2.0853
06MT19970815,      AR07E,     514,          1,     203237,          1,          1,2,19970826,       0000,    59.6000,   -38.5967,       3013,  3017.7,   1.6034,  34.8869,2,  34.8866,2,   301.1,2,    8.75,2,   14.07,2,    0.02,2,    0.95,2,   3.533,2,   1.777,3,  -999.0,9,   1.3815
06MT19970815,      AR07E,     514,          2,     203273,         24,         24,2,19970826,       0000,    59.6000,   -38.5967,       3013,  2699.6,   2.7823,  34.9111,2,-999.0000,9,  -999.0,9, -999.00,9, -999.00,9, -999.00,9, -999.00,9,-999.000,9,-999.000,9,  -999.0,9,   2.5668
06MT19970815,      AR07E,     514,          2,     203272,         23,         23,2,19970826,       0000,    59.6000,   -38.5967,       3013,  2699.6,   2.7809,  34.9104,2,-999.0000,9,  -999.0,9, -999.00,9, -999.00,9, -999.00,9, -999.00,9,-999.000,9,-999.000,9,  -999.0,9,   2.5655
06MT19970815,      AR07E,     514,          2,     999999,         22,         22,2,19970826,       0000,    59.6000,   -38.5967,       3013,  2699.6,   2.7763,  34.9103,2,-999.0000,9,  -999.0,9, -999.00,9, -999.00,9, -999.00,9, -999.00,9,-999.000,9,-999.000,9,  -999.0,9,   2.5610
06MT19970815,      AR07E,     514,          2,     203271,         19,         19,2,19970826,       0000,    59.6000,   -38.5967,       3013,  2723.1,   2.6274,  34.8896,2,  34.8960,2,   289.5,2, -999.00,9, -999.00,9, -999.00,9, -999.00,9,-999.000,9,-999.000,9,  -999.0,9,   2.4127
06MT19970815,      AR07E,     514,          2,     203270,         18,         18,2,19970826,       0000,    59.6000,   -38.5967,       3013,  2723.1,   2.6315,  34.8910,2,  34.8985,2,   288.1,2, -999.00,9, -999.00,9, -999.00,9, -999.00,9,-999.000,9,-999.000,9,  -999.0,9,   2.4168
06MT19970815,      AR07E,     514,          2,     203269,         17,         17,2,19970826,       0000,    59.6000,   -38.5967,       3013,  2715.2,   2.7170,  34.9038,2,  34.9080,2,   286.5,2, -999.00,9, -999.00,9, -999.00,9, -999.00,9,-999.000,9,-999.000,9,  -999.0,9,   2.5013
06MT19970815,      AR07E,     514,          2,     203268,         16,         16,2,19970826,       0000,    59.6000,   -38.5967,       3013,  2717.0,   2.6922,  34.9001,2,  34.9044,2,   286.7,2, -999.00,9, -999.00,9, -999.00,9, -999.00,9,-999.000,9,-999.000,9,  -999.0,9,   2.4768
06MT19970815,      AR07E,     514,          2,     203267,         15,         15,2,19970826,       0000,    59.6000,   -38.5967,       3013,  2719.9,   2.6441,  34.8918,2,  34.8961,2,   290.1,2, -999.00,9, -999.00,9, -999.00,9, -999.00,9,-999.000,9,-999.000,9,  -999.0,9,   2.4294
06MT19970815,      AR07E,     514,          2,     999999,         14,         14,2,19970826,       0000,    59.6000,   -38.5967,       3013,  2722.7,   2.6207,  34.8884,2,-999.0000,9,  -999.0,9, -999.00,9, -999.00,9, -999.00,9, -999.00,9,-999.000,9,-999.000,9,  -999.0,9,   2.4063
06MT19970815,      AR07E,     514,          2,     203266,         11,         11,2,19970826,       0000,    59.6000,   -38.5967,       3013,  2722.5,   2.6113,  34.8868,2,  34.8931,2,   290.7,2, -999.00,9, -999.00,9, -999.00,9, -999.00,9,-999.000,9,-999.000,9,  -999.0,9,   2.3970
06MT19970815,      AR07E,     514,          2,     203265,         10,         10,2,19970826,       0000,    59.6000,   -38.5967,       3013,  2722.4,   2.6085,  34.8869,2,  34.8929,2,   290.7,2, -999.00,9, -999.00,9, -999.00,9, -999.00,9,-999.000,9,-999.000,9,  -999.0,9,   2.3943
06MT19970815,      AR07E,     514,          2,     203264,          9,          9,3,19970826,       0000,    59.6000,   -38.5967,       3013,  2725.4,   2.6047,  34.8866,2,  34.8930,2,   290.1,2, -999.00,9, -999.00,9, -999.00,9, -999.00,9,-999.000,9,-999.000,9,  -999.0,9,   2.3903
06MT19970815,      AR07E,     514,          2,     203263,          8,          8,2,19970826,       0000,    59.6000,   -38.5967,       3013,  2725.3,   2.6252,  34.8916,2,  34.8978,2,   288.9,2, -999.00,9, -999.00,9, -999.00,9, -999.00,9,-999.000,9,-999.000,9,  -999.0,9,   2.4104
06MT19970815,      AR07E,     514,          2,     203262,          7,          7,2,19970826,       0000,    59.6000,   -38.5967,       3013,  2735.8,   2.6451,  34.8980,2,  34.9077,2,   285.5,2, -999.00,9, -999.00,9, -999.00,9, -999.00,9,-999.000,9,-999.000,9,  -999.0,9,   2.4288
06MT19970815,      AR07E,     514,          2,     999999,          6,          6,2,19970826,       0000,    59.6000,   -38.5967,       3013,  2732.6,   2.6724,  34.9026,2,-999.0000,9,  -999.0,9, -999.00,9, -999.00,9, -999.00,9, -999.00,9,-999.000,9,-999.000,9,  -999.0,9,   2.4559
06MT19970815,      AR07E,     514,          2,     203261,          3,          3,2,19970826,       0000,    59.6000,   -38.5967,       3013,  2733.1,   2.6344,  34.8962,2,  34.9021,2,   287.3,2, -999.00,9, -999.00,9, -999.00,9, -999.00,9,-999.000,9,-999.000,9,  -999.0,9,   2.4186
06MT19970815,      AR07E,     514,          2,     203260,          2,          2,2,19970826,       0000,    59.6000,   -38.5967,       3013,  2751.1,   2.5963,  34.8966,2,  34.9041,2,   288.0,2, -999.00,9, -999.00,9, -999.00,9, -999.00,9,-999.000,9,-999.000,9,  -999.0,9,   2.3795
06MT19970815,      AR07E,     514,          2,     203259,          1,          1,2,19970826,       0000,    59.6000,   -38.5967,       3013,  2751.2,   2.5966,  34.8950,2,  34.9060,2,   288.3,2, -999.00,9, -999.00,9, -999.00,9, -999.00,9,-999.000,9,-999.000,9,  -999.0,9,   2.3797