BOTTLE,20220204CCHSIOENA
EXPOCODE,SECT_ID,STNNBR,CASTNO,BIONBR,SAMPNO,BTLNBR,BTLNBR_FLAG_W,DATE,TIME,LATITUDE,LONGITUDE,DEPTH,CTDPRS,CTDTMP,CTDSAL,CTDSAL_FLAG_W,SALNTY,SALNTY_FLAG_W,OXYGEN,OXYGEN_FLAG_W,SILCAT,SILCAT_FLAG_W,NITRAT,NITRAT_FLAG_W,NITRIT,NITRIT_FLAG_W,PHSPHT,PHSPHT_FLAG_W,CFC-11,CFC-11_FLAG_W,CFC-12,CFC-12_FLAG_W,TCARBN,TCARBN_FLAG_W,THETA
,,,,,,,,,,,,METERS,DBAR,ITS-90,PSS-78,,PSS-78,,UMOL/KG,,UMOL/KG,,UMOL/KG,,UMOL/KG,,UMOL/KG,,PMOL/KG,,PMOL/KG,,UMOL/KG,,DEG C
06MT19970815,      AR07E,     481,          1,     200529,         21,         21,2,19970820,       0000,    62.7650,   -34.9517,       2775,     8.8,  10.9472,  34.8284,2,  34.8227,2,   287.5,2,    0.37,2,    2.55,2,    0.08,2,    0.24,2,-999.000,9,-999.000,9,  -999.0,9,  10.9461
06MT19970815,      AR07E,     481,          1,     200528,         20,         20,2,19970820,       0000,    62.7650,   -34.9517,       2775,    49.9,   6.0896,  34.9120,2,  34.9032,2,   294.5,2,    4.43,2,   12.48,2,    0.44,2,    1.00,2,-999.000,9,-999.000,9,  -999.0,9,   6.0853
06MT19970815,      AR07E,     481,          1,     200527,         19,         19,2,19970820,       0000,    62.7650,   -34.9517,       2775,    99.7,   5.3325,  34.9446,2,  34.9470,2,  -999.0,9,    8.37,2,   16.09,2,    0.02,2,    1.06,2,-999.000,9,-999.000,9,  -999.0,9,   5.3245
06MT19970815,      AR07E,     481,          1,     200526,         18,         18,2,19970820,       0000,    62.7650,   -34.9517,       2775,   201.8,   4.6138,  34.9143,2,  34.9133,2,   286.1,2,    8.89,2,   16.42,2,    0.04,2,    1.08,2,-999.000,9,-999.000,9,  -999.0,9,   4.5986
06MT19970815,      AR07E,     481,          1,     200525,         17,         17,2,19970820,       0000,    62.7650,   -34.9517,       2775,   299.9,   4.1871,  34.8931,2,  34.8921,2,   287.9,2,    9.12,2,   16.64,2,    0.03,2,    1.10,2,-999.000,9,-999.000,9,  -999.0,9,   4.1654
06MT19970815,      AR07E,     481,          1,     200524,         16,         16,2,19970820,       0000,    62.7650,   -34.9517,       2775,   402.1,   3.8882,  34.8802,2,  34.8790,2,   290.3,2,    9.27,2,   16.80,2,    0.02,2,    1.10,2,-999.000,9,-999.000,9,  -999.0,9,   3.8597
06MT19970815,      AR07E,     481,          1,     200523,         15,         15,2,19970820,       0000,    62.7650,   -34.9517,       2775,   500.9,   3.6732,  34.8681,2,  34.8670,2,   290.7,2,    9.47,2,   17.07,2,    0.03,2,    1.11,2,-999.000,9,-999.000,9,  -999.0,9,   3.6382
06MT19970815,      AR07E,     481,          1,     200522,         14,         14,2,19970820,       0000,    62.7650,   -34.9517,       2775,   600.4,   3.5511,  34.8723,2,  34.8728,2,   289.6,2,    9.68,2,   16.91,2,    0.04,2,    1.11,2,-999.000,9,-999.000,9,  -999.0,9,   3.5092
06MT19970815,      AR07E,     481,          1,     200521,         13,         13,2,19970820,       0000,    62.7650,   -34.9517,       2775,   701.0,   3.5263,  34.8828,2,  34.8827,2,   286.1,2,    9.91,2,   17.22,2,    0.01,2,    1.12,2,   3.999,3,   1.804,3,  -999.0,9,   3.4770
06MT19970815,      AR07E,     481,          1,     200520,         12,         12,2,19970820,       0000,    62.7650,   -34.9517,       2775,   800.7,   3.4301,  34.8837,2,  34.8837,2,   284.5,2,   10.10,2,   17.21,2,    0.02,2,    1.12,2,   3.889,3,   1.752,3,  -999.0,9,   3.3738
06MT19970815,      AR07E,     481,          1,     200519,         11,         11,2,19970820,       0000,    62.7650,   -34.9517,       2775,  1000.3,   3.2384,  34.8755,2,  34.8757,2,   290.2,2,   10.06,2,   17.07,2,    0.03,2,    1.12,2,   4.010,3,   1.804,3,  -999.0,9,   3.1680
06MT19970815,      AR07E,     481,          1,     200518,         10,         10,2,19970820,       0000,    62.7650,   -34.9517,       2775,  1200.5,   3.1011,  34.8655,2,  34.8646,2,   296.6,2,    9.94,2,   16.87,2,    0.02,2,    1.11,2,   4.177,3,   1.888,3,  -999.0,9,   3.0160
06MT19970815,      AR07E,     481,          1,     200517,          9,          9,2,19970820,       0000,    62.7650,   -34.9517,       2775,  1399.9,   3.0039,  34.8563,2,  34.8569,2,  -999.0,9,    9.76,2,   16.59,2,    0.03,2,    1.10,2,-999.000,9,-999.000,9,  -999.0,9,   2.9036
06MT19970815,      AR07E,     481,          1,     200516,          8,          8,2,19970820,       0000,    62.7650,   -34.9517,       2775,  1500.4,   2.9752,  34.8532,2,  34.8533,2,   300.9,2,    9.77,2,   16.75,2,    0.02,2,    1.10,2,   4.366,3,   1.978,3,  -999.0,9,   2.8669
06MT19970815,      AR07E,     481,          1,     200515,          7,          7,2,19970820,       0000,    62.7650,   -34.9517,       2775,  1600.2,   2.9540,  34.8517,2,  34.8512,2,   301.7,2,    9.74,2,   16.70,2,    0.02,2,    1.10,2,   4.385,3,   2.005,3,  -999.0,9,   2.8375
06MT19970815,      AR07E,     481,          1,     200514,          6,          6,2,19970820,       0000,    62.7650,   -34.9517,       2775,  2000.5,   3.0334,  34.8746,2,  34.8744,2,   294.5,2,   10.29,2,   16.59,2,    0.02,2,    1.09,2,   3.556,3,   1.602,3,  -999.0,9,   2.8805
06MT19970815,      AR07E,     481,          1,     200513,          5,          5,2,19970820,       0000,    62.7650,   -34.9517,       2775,  2200.8,   3.0777,  34.8987,2,  34.8986,2,   287.2,2,   11.01,2,   16.49,2,    0.01,2,    1.09,2,   2.851,3,   1.301,3,  -999.0,9,   2.9054
06MT19970815,      AR07E,     481,          1,     200512,          4,          4,2,19970820,       0000,    62.7650,   -34.9517,       2775,  2399.6,   3.0105,  34.9161,2,  34.9154,2,   282.7,2,   11.87,2,   16.45,2,    0.01,2,    1.09,2,   2.292,3,   1.045,3,  -999.0,9,   2.8202
06MT19970815,      AR07E,     481,          1,     200511,          3,          3,2,19970820,       0000,    62.7650,   -34.9517,       2775,  2601.7,   2.6033,  34.9090,2,  34.9106,2,   286.6,2,   11.63,2,   15.88,2,    0.03,2,    1.05,2,   2.610,3,   1.205,3,  -999.0,9,   2.4009
06MT19970815,      AR07E,     481,          1,     200510,          2,          2,2,19970820,       0000,    62.7650,   -34.9517,       2775,  2701.6,   2.0389,  34.8868,2,  34.8891,0,   297.6,2,    9.30,2,   14.89,2,    0.03,2,    0.98,2,   3.624,3,   1.671,3,  -999.0,9,   1.8381
06MT19970815,      AR07E,     481,          1,     200509,          1,          1,2,19970820,       0000,    62.7650,   -34.9517,       2775,  2785.1,   1.2593,  34.8799,2,  34.8799,2,   303.8,2,    9.07,2,   13.91,2,    0.02,2,    0.94,2,   3.908,3,   1.804,3,  -999.0,9,   1.0666
06MT19970815,      AR07E,     482,          1,     200552,         22,         22,2,19970820,       0000,    62.5000,   -34.4650,       2845,     9.9,  10.8739,  34.8755,2,  34.8711,2,   285.6,2,    0.49,2,    2.67,2,    0.08,2,    0.25,2,-999.000,9,-999.000,9,  -999.0,9,  10.8727
06MT19970815,      AR07E,     482,          1,     200551,         21,         21,2,19970820,       0000,    62.5000,   -34.4650,       2845,    50.2,   6.0082,  34.9036,2,  34.8996,2,   293.3,2,    4.33,2,   12.50,2,    0.42,2,    0.99,2,-999.000,9,-999.000,9,  -999.0,9,   6.0039
06MT19970815,      AR07E,     482,          1,     200550,         20,         20,2,19970820,       0000,    62.5000,   -34.4650,       2845,   100.6,   5.2855,  34.9390,2,  34.9396,2,   283.8,2,    8.44,2,   16.24,2,    0.02,2,    1.06,2,   4.486,3,   2.255,3,  -999.0,9,   5.2775
06MT19970815,      AR07E,     482,          1,     200549,         19,         19,2,19970820,       0000,    62.5000,   -34.4650,       2845,   200.8,   4.4605,  34.8916,2,  34.8923,2,   287.5,2,    8.99,2,   16.77,2,    0.02,2,    1.09,2,-999.000,9,-999.000,9,  -999.0,9,   4.4457
06MT19970815,      AR07E,     482,          1,     200548,         18,         18,2,19970820,       0000,    62.5000,   -34.4650,       2845,   400.9,   3.8315,  34.8732,2,  34.8725,2,  -999.0,9,    9.33,2,   17.03,2,    0.01,2,    1.11,2,   4.282,3,   2.105,3,  -999.0,9,   3.8033
06MT19970815,      AR07E,     482,          1,     200547,         17,         17,2,19970820,       0000,    62.5000,   -34.4650,       2845,   500.9,   3.7172,  34.8740,2,  34.8739,2,   289.4,2,    9.49,2,   17.06,2,    0.02,2,    1.11,2,   4.231,3,   2.051,3,  -999.0,9,   3.6820
06MT19970815,      AR07E,     482,          1,     200546,         16,         16,2,19970820,       0000,    62.5000,   -34.4650,       2845,   701.4,   3.5521,  34.8883,2,  34.8892,2,   283.3,2,    9.98,2,   17.32,2,    0.01,2,    1.13,2,-999.000,9,-999.000,9,  -999.0,9,   3.5026
06MT19970815,      AR07E,     482,          1,     200545,         15,         15,2,19970820,       0000,    62.5000,   -34.4650,       2845,  1002.0,   3.2981,  34.8823,2,  34.8823,2,   289.0,2,   10.05,2,   17.09,2,    0.01,2,    1.11,2,   3.676,3,   1.748,3,  -999.0,9,   3.2271
06MT19970815,      AR07E,     482,          1,     200544,         14,         14,2,19970820,       0000,    62.5000,   -34.4650,       2845,  1198.6,   3.1510,  34.8695,2,  34.8701,2,   294.3,2,    9.94,2,   17.08,2,    0.01,2,    1.11,2,   3.907,3,   1.861,3,  -999.0,9,   3.0656
06MT19970815,      AR07E,     482,          1,     200543,         13,         13,2,19970820,       0000,    62.5000,   -34.4650,       2845,  1399.9,   3.0406,  34.8595,2,  34.8594,2,   299.0,2,    9.85,2,   16.90,2,    0.01,2,    1.10,2,   4.138,3,   1.952,3,  -999.0,9,   2.9399
06MT19970815,      AR07E,     482,          1,     200542,         12,         12,2,19970820,       0000,    62.5000,   -34.4650,       2845,  1499.7,   3.0073,  34.8560,2,  34.8557,2,   300.5,2,    9.77,2,   16.88,2,    0.01,2,    1.10,2,   4.184,3,   1.996,3,  -999.0,9,   2.8987
06MT19970815,      AR07E,     482,          1,     200541,         11,         11,2,19970820,       0000,    62.5000,   -34.4650,       2845,  1600.6,   2.9812,  34.8533,2,  34.8535,2,   301.4,2,    9.75,2,   16.84,2,    0.02,2,    1.10,2,   4.220,3,   1.997,3,  -999.0,9,   2.8644
06MT19970815,      AR07E,     482,          1,     200540,         10,         10,2,19970820,       0000,    62.5000,   -34.4650,       2845,  1696.6,   2.9622,  34.8512,2,  34.8515,2,   301.0,2,    9.73,2,   16.87,2,    0.00,2,    1.10,2,   4.214,3,   1.989,3,  2147.1,2,   2.8374
06MT19970815,      AR07E,     482,          1,     200539,          9,          9,2,19970820,       0000,    62.5000,   -34.4650,       2845,  1800.7,   2.9541,  34.8509,2,  34.8486,0,  -999.0,9,    9.74,2,   16.63,2,    0.01,2,    1.10,2,-999.000,9,-999.000,9,  -999.0,9,   2.8203
06MT19970815,      AR07E,     482,          1,     200538,          8,          8,2,19970820,       0000,    62.5000,   -34.4650,       2845,  1899.9,   2.9626,  34.8538,2,  34.8534,2,   299.7,2,    9.78,2,   16.65,2,    0.00,2,    1.09,2,   3.994,3,   1.893,3,  -999.0,9,   2.8199
06MT19970815,      AR07E,     482,          1,     200537,          7,          7,2,19970820,       0000,    62.5000,   -34.4650,       2845,  2101.3,   3.0509,  34.8770,2,  34.8771,2,   293.5,2,   10.41,2,   16.62,2,    0.00,2,    1.09,2,   3.352,3,   1.580,3,  -999.0,9,   2.8884
06MT19970815,      AR07E,     482,          1,     200536,          6,          6,2,19970820,       0000,    62.5000,   -34.4650,       2845,  2301.2,   3.1011,  34.9038,2,  34.9037,2,   286.0,2,   11.23,2,   16.74,2,    0.00,2,    1.10,2,   2.583,3,   1.213,3,  -999.0,9,   2.9188
06MT19970815,      AR07E,     482,          1,     200535,          5,          5,2,19970820,       0000,    62.5000,   -34.4650,       2845,  2401.0,   3.0591,  34.9091,2,  34.9093,2,   284.7,2,   11.52,2,   16.59,2,    0.01,2,    1.10,2,   2.406,3,   1.145,3,  -999.0,9,   2.8679
06MT19970815,      AR07E,     482,          1,     200534,          4,          4,2,19970820,       0000,    62.5000,   -34.4650,       2845,  2501.7,   2.9861,  34.9104,2,  34.9102,2,   284.8,2,   11.60,2,   16.44,2,    0.01,2,    1.08,2,   2.387,3,   1.145,3,  -999.0,9,   2.7863
06MT19970815,      AR07E,     482,          1,     200533,          3,          3,2,19970820,       0000,    62.5000,   -34.4650,       2845,  2601.3,   2.8174,  34.9065,2,  34.9067,2,   286.6,2,   11.29,2,   16.10,2,    0.02,2,    1.07,2,   2.616,3,   1.245,3,  2149.5,2,   2.6110
06MT19970815,      AR07E,     482,          1,     200532,          2,          2,2,19970820,       0000,    62.5000,   -34.4650,       2845,  2803.0,   1.4039,  34.8791,2,  34.8791,2,   304.1,2,    8.77,2,   14.03,2,    0.02,2,    0.95,2,   3.976,3,   1.813,3,  2148.0,2,   1.2066
06MT19970815,      AR07E,     482,          1,     200531,          1,          1,2,19970820,       0000,    62.5000,   -34.4650,       2845,  2855.4,   1.2737,  34.8775,2,  34.8782,2,   304.1,2,    8.79,2,   13.95,2,    0.03,2,    0.94,2,   3.935,3,   1.800,3,  -999.0,9,   1.0743
06MT19970815,      AR07E,     483,          1,     200574,         22,         22,2,19970820,       0000,    61.9667,   -35.1300,       2900,  1802.6,   2.9443,  34.8487,2,  34.8486,2,   301.6,2,    9.75,2,   16.75,2,    0.00,2,    1.09,2,-999.000,9,-999.000,9,  2148.9,2,   2.8105
06MT19970815,      AR07E,     483,          1,     200573,         21,         21,2,19970820,       0000,    61.9667,   -35.1300,       2900,  1802.4,   2.9449,  34.8485,2,  34.8482,2,   301.7,2,    9.76,2,   16.83,2,    0.00,2,    1.09,2,-999.000,9,-999.000,9,  2159.2,3,   2.8111
06MT19970815,      AR07E,     483,          1,     200572,         20,         20,2,19970820,       0000,    61.9667,   -35.1300,       2900,  1802.4,   2.9445,  34.8489,2,  34.8483,2,   301.0,2,    9.72,2,   16.82,2,    0.00,2,    1.10,2,-999.000,9,-999.000,9,  2148.9,2,   2.8107
06MT19970815,      AR07E,     483,          1,     200571,         19,         19,2,19970820,       0000,    61.9667,   -35.1300,       2900,  1801.9,   2.9445,  34.8484,2,  34.8482,2,   301.8,2,    9.76,2,   16.90,2,    0.00,2,    1.10,2,-999.000,9,-999.000,9,  2150.3,2,   2.8107
06MT19970815,      AR07E,     483,          1,     200570,         18,         18,2,19970820,       0000,    61.9667,   -35.1300,       2900,  1801.7,   2.9441,  34.8488,2,  34.8485,2,   301.9,2,    9.78,2,   16.95,2,    0.00,2,    1.10,2,-999.000,9,-999.000,9,  2150.4,2,   2.8104
06MT19970815,      AR07E,     483,          1,     200569,         17,         17,2,19970820,       0000,    61.9667,   -35.1300,       2900,  1801.4,   2.9441,  34.8486,2,  34.8483,2,   301.2,2,    9.72,2,   16.85,2,    0.00,2,    1.09,2,   3.903,2,   2.010,3,  2147.5,2,   2.8104
06MT19970815,      AR07E,     483,          1,     200568,         16,         16,2,19970820,       0000,    61.9667,   -35.1300,       2900,  1801.0,   2.9438,  34.8484,2,  34.8485,2,   301.7,2,    9.74,2,   16.89,2,    0.00,2,    1.10,2,   3.959,2,   2.024,3,  2148.1,2,   2.8101
06MT19970815,      AR07E,     483,          1,     200567,         15,         15,2,19970820,       0000,    61.9667,   -35.1300,       2900,  1800.8,   2.9435,  34.8487,2,  34.8483,2,   302.0,2,    9.73,2,   16.83,2,    0.01,2,    1.10,2,   3.941,2,   1.989,3,  2148.6,2,   2.8098
06MT19970815,      AR07E,     483,          1,     200566,         14,         14,2,19970820,       0000,    61.9667,   -35.1300,       2900,  1800.3,   2.9437,  34.8487,2,  34.8486,2,   301.7,2,    9.71,2,   16.87,2,    0.00,2,    1.10,2,   3.932,2,   1.995,3,  2149.6,2,   2.8101
06MT19970815,      AR07E,     483,          1,     200565,         13,         13,2,19970820,       0000,    61.9667,   -35.1300,       2900,  1799.9,   2.9438,  34.8488,2,  34.8484,2,   301.7,2,    9.78,2,   16.89,2,    0.00,2,    1.10,2,-999.000,9,-999.000,9,  2149.4,2,   2.8102
06MT19970815,      AR07E,     483,          1,     200564,         12,         12,2,19970820,       0000,    61.9667,   -35.1300,       2900,  1799.5,   2.9438,  34.8490,2,  34.8486,2,   301.7,2,    9.73,2,   16.89,2,    0.00,2,    1.10,2,   3.937,2,   1.993,3,  2148.5,2,   2.8103
06MT19970815,      AR07E,     483,          1,     200563,         11,         11,2,19970820,       0000,    61.9667,   -35.1300,       2900,  1799.6,   2.9435,  34.8492,2,  34.8489,2,   302.0,2,    9.78,2,   16.83,2,    0.01,2,    1.10,2,   3.926,2,   2.011,3,  -999.0,9,   2.8100
06MT19970815,      AR07E,     483,          1,     200562,         10,         10,2,19970820,       0000,    61.9667,   -35.1300,       2900,  1800.0,   2.9445,  34.8481,2,  34.8485,2,   301.8,2,    9.73,2,   16.84,2,    0.00,2,    1.09,2,   3.922,2,   2.000,3,  2148.5,2,   2.8109
06MT19970815,      AR07E,     483,          1,     200561,          9,          9,2,19970820,       0000,    61.9667,   -35.1300,       2900,  1800.4,   2.9446,  34.8483,2,  34.8487,2,   301.3,2,    9.73,2,   16.83,2,    0.00,2,    1.10,2,   3.941,2,   1.997,3,  2148.1,2,   2.8110
06MT19970815,      AR07E,     483,          1,     200560,          8,          8,2,19970820,       0000,    61.9667,   -35.1300,       2900,  1800.4,   2.9446,  34.8489,2,  34.8483,2,   302.0,2,    9.78,2,   16.86,2,    0.00,2,    1.10,2,   3.903,2,   1.993,3,  -999.0,9,   2.8110
06MT19970815,      AR07E,     483,          1,     200559,          7,          7,2,19970820,       0000,    61.9667,   -35.1300,       2900,  1800.5,   2.9448,  34.8486,2,  34.8487,2,   301.7,2,    9.69,2,   16.88,2,    0.00,2,    1.10,2,   3.924,2,   2.013,3,  -999.0,9,   2.8112
06MT19970815,      AR07E,     483,          1,     200558,          6,          6,2,19970820,       0000,    61.9667,   -35.1300,       2900,  1799.6,   2.9450,  34.8485,2,  34.8488,2,   301.9,2,    9.75,2,   16.83,2,    0.00,2,    1.10,2,   3.924,2,   1.999,3,  -999.0,9,   2.8114
06MT19970815,      AR07E,     483,          1,     200557,          5,          5,2,19970820,       0000,    61.9667,   -35.1300,       2900,  1799.2,   2.9449,  34.8480,2,  34.8474,2,   301.2,2,    9.78,2,   16.89,2,    0.00,2,    1.10,2,   3.955,2,   2.000,3,  -999.0,9,   2.8114
06MT19970815,      AR07E,     483,          1,     200556,          4,          4,2,19970820,       0000,    61.9667,   -35.1300,       2900,  1798.7,   2.9451,  34.8480,2,  34.8485,2,   301.7,2,    9.74,2,   16.81,2,    0.00,2,    1.10,2,   3.968,2,   2.031,3,  2163.6,3,   2.8116
06MT19970815,      AR07E,     483,          1,     200555,          3,          3,2,19970820,       0000,    61.9667,   -35.1300,       2900,  1798.4,   2.9455,  34.8487,2,  34.8487,2,   301.5,2,    9.73,2,   16.86,2,   -0.01,2,    1.10,2,   3.912,2,   1.993,3,  -999.0,9,   2.8120
06MT19970815,      AR07E,     483,          1,     200554,          2,          2,2,19970820,       0000,    61.9667,   -35.1300,       2900,  2400.4,   3.0992,  34.9095,2,  34.9105,2,   284.5,2,   11.54,2,   16.69,2, -999.00,9,    1.10,2,   2.263,2,   1.139,3,  -999.0,9,   2.9073
06MT19970815,      AR07E,     483,          1,     200553,          1,          1,2,19970820,       0000,    61.9667,   -35.1300,       2900,  2601.4,   2.9876,  34.9179,2,  34.9184,2,   282.3,2,   12.22,2,   16.60,2,    0.01,2,    1.09,2,   1.973,2,   1.020,3,  -999.0,9,   2.7779