BOTTLE,20220204CCHSIOENA
EXPOCODE,SECT_ID,STNNBR,CASTNO,BIONBR,SAMPNO,BTLNBR,BTLNBR_FLAG_W,DATE,TIME,LATITUDE,LONGITUDE,DEPTH,CTDPRS,CTDTMP,CTDSAL,CTDSAL_FLAG_W,SALNTY,SALNTY_FLAG_W,OXYGEN,OXYGEN_FLAG_W,SILCAT,SILCAT_FLAG_W,NITRAT,NITRAT_FLAG_W,NITRIT,NITRIT_FLAG_W,PHSPHT,PHSPHT_FLAG_W,CFC-11,CFC-11_FLAG_W,CFC-12,CFC-12_FLAG_W,TCARBN,TCARBN_FLAG_W,THETA
,,,,,,,,,,,,METERS,DBAR,ITS-90,PSS-78,,PSS-78,,UMOL/KG,,UMOL/KG,,UMOL/KG,,UMOL/KG,,UMOL/KG,,PMOL/KG,,PMOL/KG,,UMOL/KG,,DEG C
06MT19970815,      AR07E,     494,          1,     202880,          1,          1,2,19970822,       0000,    62.1433,   -41.3200,        406,   402.0,   4.6623,  34.8224,2,  34.8298,2,  -999.0,9, -999.00,9, -999.00,9, -999.00,9, -999.00,9,-999.000,9,-999.000,9,  -999.0,9,   4.6314
06MT19970815,      AR07E,     494,          1,     202881,          2,          2,2,19970822,       0000,    62.1433,   -41.3200,        406,   402.6,   4.6750,  34.8262,2,  34.8275,2,  -999.0,9, -999.00,9, -999.00,9, -999.00,9, -999.00,9,-999.000,9,-999.000,9,  -999.0,9,   4.6440
06MT19970815,      AR07E,     494,          1,     202882,          3,          3,2,19970822,       0000,    62.1433,   -41.3200,        406,   403.0,   4.6776,  34.8265,2,  34.8297,2,  -999.0,9, -999.00,9, -999.00,9, -999.00,9, -999.00,9,-999.000,9,-999.000,9,  -999.0,9,   4.6466
06MT19970815,      AR07E,     494,          1,     202883,          4,          4,2,19970822,       0000,    62.1433,   -41.3200,        406,   403.6,   4.6739,  34.8256,2,  34.8296,2,  -999.0,9, -999.00,9, -999.00,9, -999.00,9, -999.00,9,-999.000,9,-999.000,9,  -999.0,9,   4.6428
06MT19970815,      AR07E,     494,          1,     202884,          5,          5,2,19970822,       0000,    62.1433,   -41.3200,        406,   403.6,   4.6710,  34.8246,2,  34.8290,2,  -999.0,9, -999.00,9, -999.00,9, -999.00,9, -999.00,9,-999.000,9,-999.000,9,  -999.0,9,   4.6399
06MT19970815,      AR07E,     494,          1,     202885,          6,          6,2,19970822,       0000,    62.1433,   -41.3200,        406,   403.4,   4.6723,  34.8253,2,  34.8289,2,  -999.0,9, -999.00,9, -999.00,9, -999.00,9, -999.00,9,-999.000,9,-999.000,9,  -999.0,9,   4.6413
06MT19970815,      AR07E,     494,          1,     202886,          7,          7,2,19970822,       0000,    62.1433,   -41.3200,        406,   404.1,   4.6657,  34.8236,2,  34.8288,2,  -999.0,9, -999.00,9, -999.00,9, -999.00,9, -999.00,9,-999.000,9,-999.000,9,  -999.0,9,   4.6346
06MT19970815,      AR07E,     494,          1,     202887,          8,          8,2,19970822,       0000,    62.1433,   -41.3200,        406,   404.2,   4.6682,  34.8246,2,  34.8272,2,  -999.0,9, -999.00,9, -999.00,9, -999.00,9, -999.00,9,-999.000,9,-999.000,9,  -999.0,9,   4.6371
06MT19970815,      AR07E,     494,          1,     202888,          9,          9,2,19970822,       0000,    62.1433,   -41.3200,        406,   404.0,   4.6759,  34.8265,2,  34.8290,2,  -999.0,9, -999.00,9, -999.00,9, -999.00,9, -999.00,9,-999.000,9,-999.000,9,  -999.0,9,   4.6448
06MT19970815,      AR07E,     494,          1,     202889,         10,         10,2,19970822,       0000,    62.1433,   -41.3200,        406,   404.5,   4.6732,  34.8261,2,  34.8289,2,  -999.0,9, -999.00,9, -999.00,9, -999.00,9, -999.00,9,-999.000,9,-999.000,9,  -999.0,9,   4.6421
06MT19970815,      AR07E,     494,          1,     202890,         11,         11,2,19970822,       0000,    62.1433,   -41.3200,        406,   403.9,   4.6677,  34.8243,2,  34.8284,2,  -999.0,9, -999.00,9, -999.00,9, -999.00,9, -999.00,9,-999.000,9,-999.000,9,  -999.0,9,   4.6366
06MT19970815,      AR07E,     494,          1,     202891,         12,         12,2,19970822,       0000,    62.1433,   -41.3200,        406,   404.1,   4.6669,  34.8242,2,  34.8276,2,  -999.0,9, -999.00,9, -999.00,9, -999.00,9, -999.00,9,-999.000,9,-999.000,9,  -999.0,9,   4.6358
06MT19970815,      AR07E,     494,          1,     202892,         13,         13,2,19970822,       0000,    62.1433,   -41.3200,        406,   404.0,   4.6670,  34.8242,2,  34.8275,2,  -999.0,9, -999.00,9, -999.00,9, -999.00,9, -999.00,9,-999.000,9,-999.000,9,  -999.0,9,   4.6359
06MT19970815,      AR07E,     494,          1,     202893,         14,         14,2,19970822,       0000,    62.1433,   -41.3200,        406,   404.2,   4.6677,  34.8248,2,  34.8280,2,  -999.0,9, -999.00,9, -999.00,9, -999.00,9, -999.00,9,-999.000,9,-999.000,9,  -999.0,9,   4.6366
06MT19970815,      AR07E,     494,          1,     202894,         15,         15,2,19970822,       0000,    62.1433,   -41.3200,        406,   404.6,   4.6723,  34.8244,2,  34.8278,2,  -999.0,9, -999.00,9, -999.00,9, -999.00,9, -999.00,9,-999.000,9,-999.000,9,  -999.0,9,   4.6412
06MT19970815,      AR07E,     494,          1,     202895,         16,         16,2,19970822,       0000,    62.1433,   -41.3200,        406,   404.3,   4.6877,  34.8299,2,  34.8284,2,  -999.0,9, -999.00,9, -999.00,9, -999.00,9, -999.00,9,-999.000,9,-999.000,9,  -999.0,9,   4.6565
06MT19970815,      AR07E,     494,          1,     202896,         17,         17,2,19970822,       0000,    62.1433,   -41.3200,        406,   404.8,   4.6906,  34.8300,2,  34.8321,2,  -999.0,9, -999.00,9, -999.00,9, -999.00,9, -999.00,9,-999.000,9,-999.000,9,  -999.0,9,   4.6594
06MT19970815,      AR07E,     494,          1,     202897,         18,         18,2,19970822,       0000,    62.1433,   -41.3200,        406,   404.6,   4.6896,  34.8296,2,  34.8330,2,  -999.0,9, -999.00,9, -999.00,9, -999.00,9, -999.00,9,-999.000,9,-999.000,9,  -999.0,9,   4.6584
06MT19970815,      AR07E,     494,          1,     202898,         19,         19,2,19970822,       0000,    62.1433,   -41.3200,        406,   404.7,   4.6897,  34.8292,2,  34.8332,2,  -999.0,9, -999.00,9, -999.00,9, -999.00,9, -999.00,9,-999.000,9,-999.000,9,  -999.0,9,   4.6585
06MT19970815,      AR07E,     494,          1,     202899,         20,         20,2,19970822,       0000,    62.1433,   -41.3200,        406,   404.6,   4.6863,  34.8291,2,  34.8330,2,  -999.0,9, -999.00,9, -999.00,9, -999.00,9, -999.00,9,-999.000,9,-999.000,9,  -999.0,9,   4.6551
06MT19970815,      AR07E,     494,          1,     202900,         21,         21,2,19970822,       0000,    62.1433,   -41.3200,        406,   404.9,   4.6875,  34.8292,2,  34.8331,2,  -999.0,9, -999.00,9, -999.00,9, -999.00,9, -999.00,9,-999.000,9,-999.000,9,  -999.0,9,   4.6563
06MT19970815,      AR07E,     494,          1,     202901,         22,         22,2,19970822,       0000,    62.1433,   -41.3200,        406,   405.0,   4.6877,  34.8293,2,  34.8317,2,  -999.0,9, -999.00,9, -999.00,9, -999.00,9, -999.00,9,-999.000,9,-999.000,9,  -999.0,9,   4.6565
06MT19970815,      AR07E,     494,          1,     202902,         23,         23,2,19970822,       0000,    62.1433,   -41.3200,        406,   405.0,   4.6847,  34.8286,2,  34.8309,2,  -999.0,9, -999.00,9, -999.00,9, -999.00,9, -999.00,9,-999.000,9,-999.000,9,  -999.0,9,   4.6535
06MT19970815,      AR07E,     494,          1,     202903,         24,         24,2,19970822,       0000,    62.1433,   -41.3200,        406,   404.5,   4.6825,  34.8284,2,  34.8318,2,  -999.0,9, -999.00,9, -999.00,9, -999.00,9, -999.00,9,-999.000,9,-999.000,9,  -999.0,9,   4.6513
06MT19970815,      AR07E,     495,          1,     202909,          6,          6,2,19970822,       0000,    61.2950,   -41.4917,        450,    50.7,   0.4624,  33.6169,2,  33.6293,2,   331.3,3,    4.17,2,    7.18,2,    0.18,2,    0.73,2,-999.000,9,-999.000,9,  -999.0,9,   0.4605
06MT19970815,      AR07E,     495,          1,     202908,          5,          5,2,19970822,       0000,    61.2950,   -41.4917,        450,   100.9,   2.9559,  34.3033,2,  34.2806,2,   310.0,3,    4.46,2,    9.11,2,    0.25,2,    0.77,2,-999.000,9,-999.000,9,  -999.0,9,   2.9498
06MT19970815,      AR07E,     495,          1,     202907,          4,          4,2,19970822,       0000,    61.2950,   -41.4917,        450,   151.3,   3.9731,  34.6007,2,  34.5937,2,   297.9,2,    5.96,2,   11.89,2,    0.21,2,    0.88,2,-999.000,9,-999.000,9,  -999.0,9,   3.9626
06MT19970815,      AR07E,     495,          1,     202906,          3,          3,2,19970822,       0000,    61.2950,   -41.4917,        450,   249.7,   4.9935,  34.8607,2,  34.8591,2,   286.7,2,    7.34,2,   14.51,2,    0.03,2,    0.98,2,-999.000,9,-999.000,9,  -999.0,9,   4.9739
06MT19970815,      AR07E,     495,          1,     202905,          2,          2,2,19970822,       0000,    61.2950,   -41.4917,        450,   350.9,   4.9583,  34.8650,2,  34.8625,2,   285.9,2,    7.49,2,   14.57,2,    0.03,2,    0.99,2,-999.000,9,-999.000,9,  -999.0,9,   4.9306
06MT19970815,      AR07E,     495,          1,     202904,          1,          1,2,19970822,       0000,    61.2950,   -41.4917,        450,   446.1,   5.0380,  34.8777,2,  34.8767,2,  -999.0,9,    7.48,2,   14.73,2,    0.02,2,    0.99,2,-999.000,9,-999.000,9,  -999.0,9,   5.0022
06MT19970815,      AR07E,     496,          1,     202926,         22,         22,2,19970822,       0000,    61.2483,   -41.0867,       1762,    11.8,   8.3760,  34.8486,2,  34.8426,2,   298.1,2,    1.77,2,    6.36,2,    0.15,2,    0.47,2,   4.379,2,   2.332,3,  -999.0,9,   8.3748
06MT19970815,      AR07E,     496,          1,     202925,         21,         21,2,19970822,       0000,    61.2483,   -41.0867,       1762,    49.8,   7.7786,  34.9574,2,  34.9599,2,   286.5,2,    3.66,2,    9.66,2,    0.18,2,    0.68,2,-999.000,9,-999.000,9,  -999.0,9,   7.7737
06MT19970815,      AR07E,     496,          1,     202924,         20,         20,2,19970822,       0000,    61.2483,   -41.0867,       1762,   100.3,   7.0294,  35.0476,2,  35.0445,2,   277.9,2,    5.86,2,   13.30,2,    0.12,2,    0.89,2,   4.289,2,   2.264,3,  -999.0,9,   7.0200
06MT19970815,      AR07E,     496,          1,     202923,         19,         19,2,19970822,       0000,    61.2483,   -41.0867,       1762,   200.6,   6.2485,  35.0272,2,  35.0277,2,   278.6,2,    7.48,2,   15.00,2,    0.03,2,    0.99,2,   4.166,2,   2.196,3,  -999.0,9,   6.2308
06MT19970815,      AR07E,     496,          1,     202922,         18,         18,2,19970822,       0000,    61.2483,   -41.0867,       1762,   500.4,   4.6551,  34.9139,2,  34.9147,2,   281.0,2,    8.80,2,   15.86,2,    0.01,2,    1.05,2,   4.181,2,   2.123,3,  -999.0,9,   4.6162
06MT19970815,      AR07E,     496,          1,     202921,         17,         17,3,19970822,       0000,    61.2483,   -41.0867,       1762,   801.9,   4.0255,  34.9069,2,  34.9093,2,   279.6,2,    9.35,2,   16.40,2,    0.01,2,    1.09,2,-999.000,9,-999.000,9,  -999.0,9,   3.9653
06MT19970815,      AR07E,     496,          1,     202920,         16,         16,3,19970822,       0000,    61.2483,   -41.0867,       1762,   899.2,   3.9347,  34.9051,2,  34.9069,2,  -999.0,9,    9.57,2,   16.33,2,    0.02,2,    1.09,2,-999.000,9,-999.000,9,  -999.0,9,   3.8672
06MT19970815,      AR07E,     496,          1,     202919,         15,         15,3,19970822,       0000,    61.2483,   -41.0867,       1762,   998.4,   3.6959,  34.9021,2,  34.9019,2,   281.7,2,    9.66,2,   16.42,2,    0.02,2,    1.08,2,-999.000,9,-999.000,9,  -999.0,9,   3.6220
06MT19970815,      AR07E,     496,          1,     202918,         14,         14,3,19970822,       0000,    61.2483,   -41.0867,       1762,  1099.3,   3.6103,  34.8978,2,  34.8976,2,   282.6,2,    9.70,2,   16.38,2,    0.02,2,    1.08,2,   3.573,2,   1.781,3,  -999.0,9,   3.5289
06MT19970815,      AR07E,     496,          1,     202917,         13,         13,2,19970822,       0000,    61.2483,   -41.0867,       1762,  1200.4,   3.4913,  34.8938,2,  34.8940,2,   284.2,2,    9.68,2,   16.38,2,    0.01,2,    1.09,2,   3.577,2,   1.754,3,  -999.0,9,   3.4026
06MT19970815,      AR07E,     496,          1,     202916,         12,         12,2,19970822,       0000,    61.2483,   -41.0867,       1762,  1298.3,   3.4376,  34.8909,2,  34.8915,2,   284.9,2,    9.77,2,   16.33,2,    0.01,2,    1.08,2,   3.585,2,   1.780,3,  -999.0,9,   3.3412
06MT19970815,      AR07E,     496,          1,     202915,         11,         11,2,19970822,       0000,    61.2483,   -41.0867,       1762,  1398.8,   3.3100,  34.8862,2,  34.8863,2,   287.2,2,    9.72,2,   16.32,2,    0.02,2,    1.08,2,   3.683,2,   1.822,3,  -999.0,9,   3.2065
06MT19970815,      AR07E,     496,          1,     202914,         10,         10,3,19970822,       0000,    61.2483,   -41.0867,       1762,  1499.3,   3.0402,  34.8708,2,  34.8706,2,   293.4,2,    9.81,2,   16.29,2,    0.02,2,    1.08,2,-999.000,9,-999.000,9,  -999.0,9,   2.9312
06MT19970815,      AR07E,     496,          1,     202913,          9,          9,2,19970822,       0000,    61.2483,   -41.0867,       1762,  1600.7,   2.9224,  34.8732,2,  34.8731,2,   292.8,2,    9.81,2,   15.98,2,    0.02,2,    1.07,2,   3.588,2,   1.777,3,  -999.0,9,   2.8062
06MT19970815,      AR07E,     496,          1,     202912,          8,          8,2,19970822,       0000,    61.2483,   -41.0867,       1762,  1664.6,   2.4783,  34.8756,2,  34.8751,2,   293.8,2,    9.36,2,   15.17,2,    0.02,2,    1.02,2,   3.571,2,   1.766,3,  -999.0,9,   2.3623
06MT19970815,      AR07E,     496,          1,     202911,          7,          7,2,19970822,       0000,    61.2483,   -41.0867,       1762,  1743.7,   2.1628,  34.8759,2,  34.8760,2,   296.4,2,    8.98,2,   14.74,2,    0.01,2,    1.00,2,   3.593,2,   1.784,3,  -999.0,9,   2.0444
06MT19970815,      AR07E,     497,          1,     202946,         20,         20,2,19970822,       0000,    61.1850,   -40.6517,       1897,    12.7,   8.8311,  34.9127,2,  34.9113,2,   299.5,2,    0.85,2,    5.62,2,    0.13,2,    0.39,2,-999.000,9,-999.000,9,  -999.0,9,   8.8298
06MT19970815,      AR07E,     497,          1,     202945,         19,         19,2,19970822,       0000,    61.1850,   -40.6517,       1897,    50.4,   7.3690,  34.9854,2,  34.9865,2,   281.6,2,    4.48,2,   11.32,2,    0.24,2,    0.77,2,-999.000,9,-999.000,9,  2080.5,2,   7.3642
06MT19970815,      AR07E,     497,          1,     202944,         18,         18,2,19970822,       0000,    61.1850,   -40.6517,       1897,   100.6,   6.7884,  35.0359,2,  35.0503,2,   277.9,2,    6.41,2,   14.29,2,    0.04,2,    0.92,2,-999.000,9,-999.000,9,  2116.4,2,   6.7792
06MT19970815,      AR07E,     497,          1,     202943,         17,         17,2,19970822,       0000,    61.1850,   -40.6517,       1897,   201.5,   6.3267,  35.0448,2,  35.0416,2,   278.7,2,    7.45,2,   15.18,2,    0.03,2,    0.99,2,-999.000,9,-999.000,9,  2134.7,2,   6.3088
06MT19970815,      AR07E,     497,          1,     202942,         16,         16,2,19970822,       0000,    61.1850,   -40.6517,       1897,   299.7,   5.7159,  34.9979,2,  35.0004,2,   278.9,2,    8.04,2,   15.68,2,    0.03,2,    1.02,2,-999.000,9,-999.000,9,  2140.9,2,   5.6905
06MT19970815,      AR07E,     497,          1,     202941,         15,         15,2,19970822,       0000,    61.1850,   -40.6517,       1897,   399.7,   5.1275,  34.9585,2,  34.9599,2,   278.7,2,    8.54,2,   15.95,2,    0.03,2,    1.04,2,-999.000,9,-999.000,9,  2146.7,2,   5.0952
06MT19970815,      AR07E,     497,          1,     202940,         14,         14,2,19970822,       0000,    61.1850,   -40.6517,       1897,   498.3,   4.6224,  34.9257,2,  34.9258,2,   280.0,2,    8.78,2,   16.15,2,    0.02,2,    1.06,2,-999.000,9,-999.000,9,  2146.3,2,   4.5838
06MT19970815,      AR07E,     497,          1,     202939,         13,         13,2,19970822,       0000,    61.1850,   -40.6517,       1897,   602.0,   4.3563,  34.9140,2,  34.9161,2,   280.8,2,    8.92,2,   16.31,2,    0.02,2,    1.06,2,-999.000,9,-999.000,9,  2147.6,2,   4.3105
06MT19970815,      AR07E,     497,          1,     202938,         12,         12,2,19970822,       0000,    61.1850,   -40.6517,       1897,   699.8,   4.0163,  34.8895,2,  34.8909,2,   285.7,2,    9.21,2,   16.63,2,    0.02,2,    1.08,2,-999.000,9,-999.000,9,  2148.2,2,   3.9644
06MT19970815,      AR07E,     497,          1,     202937,         11,         11,2,19970822,       0000,    61.1850,   -40.6517,       1897,   801.5,   3.8571,  34.8982,2,  34.8990,2,   280.8,2,    9.52,2,   16.83,2,    0.05,2,    1.09,2,-999.000,9,-999.000,9,  2149.9,2,   3.7980
06MT19970815,      AR07E,     497,          1,     202936,         10,         10,2,19970822,       0000,    61.1850,   -40.6517,       1897,   901.7,   3.7026,  34.9010,2,  34.9013,2,   281.2,2,    9.64,2,   16.69,2,    0.02,2,    1.08,2,-999.000,9,-999.000,9,  2151.0,2,   3.6365
06MT19970815,      AR07E,     497,          1,     202935,          9,          9,2,19970822,       0000,    61.1850,   -40.6517,       1897,  1001.6,   3.5636,  34.8976,2,  34.8977,2,   282.6,2,    9.68,2,   16.57,2,    0.03,2,    1.08,2,-999.000,9,-999.000,9,  2151.0,2,   3.4905
06MT19970815,      AR07E,     497,          1,     202934,          8,          8,2,19970822,       0000,    61.1850,   -40.6517,       1897,  1100.9,   3.4013,  34.8903,2,  34.8894,2,   286.2,2,    9.70,2,   16.56,2,    0.02,2,    1.08,2,-999.000,9,-999.000,9,  2150.7,2,   3.3215
06MT19970815,      AR07E,     497,          1,     202933,          7,          7,2,19970822,       0000,    61.1850,   -40.6517,       1897,  1200.6,   3.2792,  34.8830,2,  34.8845,2,   288.6,2,    9.68,2,   16.48,2,    0.02,2,    1.07,2,-999.000,9,-999.000,9,  2150.2,2,   3.1924
06MT19970815,      AR07E,     497,          1,     202932,          6,          6,2,19970822,       0000,    61.1850,   -40.6517,       1897,  1300.4,   3.1479,  34.8718,2,  34.8718,2,   293.0,2,    9.82,2,   16.75,2,    0.01,2,    1.09,2,   3.803,2,   1.879,3,  2149.4,2,   3.0543
06MT19970815,      AR07E,     497,          1,     202931,          5,          5,2,19970822,       0000,    61.1850,   -40.6517,       1897,  1401.2,   3.0416,  34.8644,2,  34.8640,2,   295.6,2,    9.67,2,   16.59,2,    0.01,2,    1.08,2,   4.068,2,   1.971,3,  2148.9,2,   2.9408
06MT19970815,      AR07E,     497,          1,     202930,          4,          4,2,19970822,       0000,    61.1850,   -40.6517,       1897,  1500.7,   3.0012,  34.8662,2,  34.8650,2,   294.9,2,    9.66,2,   16.43,2,    0.01,2,    1.07,2,   3.753,2,   1.869,3,  2148.7,2,   2.8925
06MT19970815,      AR07E,     497,          1,     202929,          3,          3,2,19970822,       0000,    61.1850,   -40.6517,       1897,  1599.9,   2.9347,  34.8735,2,  34.8734,2,   292.8,2,    9.78,2,   16.11,2,    0.02,2,    1.05,2,   3.541,2,   1.769,3,  2149.5,2,   2.8184
06MT19970815,      AR07E,     497,          1,     202928,          2,          2,2,19970822,       0000,    61.1850,   -40.6517,       1897,  1699.8,   2.8113,  34.8756,2,  34.8753,2,   292.5,2,    9.78,2,   15.81,2,    0.03,2,    1.05,2,   3.438,2,   1.723,3,  2148.7,2,   2.6881
06MT19970815,      AR07E,     497,          1,     202927,          1,          1,2,19970822,       0000,    61.1850,   -40.6517,       1897,  1799.2,   2.6057,  34.8775,2,  34.8764,2,   293.1,2,    9.50,2,   15.40,2,    0.06,2,    1.02,2,   3.432,2,   1.717,3,  2148.1,2,   2.4767