BOTTLE,20220204CCHSIOENA
EXPOCODE,SECT_ID,STNNBR,CASTNO,BIONBR,SAMPNO,BTLNBR,BTLNBR_FLAG_W,DATE,TIME,LATITUDE,LONGITUDE,DEPTH,CTDPRS,CTDTMP,CTDSAL,CTDSAL_FLAG_W,SALNTY,SALNTY_FLAG_W,OXYGEN,OXYGEN_FLAG_W,SILCAT,SILCAT_FLAG_W,NITRAT,NITRAT_FLAG_W,NITRIT,NITRIT_FLAG_W,PHSPHT,PHSPHT_FLAG_W,CFC-11,CFC-11_FLAG_W,CFC-12,CFC-12_FLAG_W,TCARBN,TCARBN_FLAG_W,THETA
,,,,,,,,,,,,METERS,DBAR,ITS-90,PSS-78,,PSS-78,,UMOL/KG,,UMOL/KG,,UMOL/KG,,UMOL/KG,,UMOL/KG,,PMOL/KG,,PMOL/KG,,UMOL/KG,,DEG C
06MT19970815,      AR07E,     484,          1,     200596,         22,         22,2,19970820,       0000,    61.4333,   -35.7350,       2917,    10.3,  10.4487,  34.7881,2,  34.7817,2,   292.8,2,    0.58,2,    3.59,2,    0.07,2,    0.28,2,-999.000,9,-999.000,9,  -999.0,9,  10.4475
06MT19970815,      AR07E,     484,          1,     200595,         21,         21,2,19970820,       0000,    61.4333,   -35.7350,       2917,    50.4,   5.0971,  34.8513,2,  34.8520,2,   295.2,2,    7.00,2,   14.54,2,    0.57,2,    1.08,2,-999.000,9,-999.000,9,  -999.0,9,   5.0932
06MT19970815,      AR07E,     484,          1,     200594,         20,         20,2,19970820,       0000,    61.4333,   -35.7350,       2917,   102.1,   4.1691,  34.8315,2,  34.8272,2,   296.1,2,    8.70,2,   16.47,2,    0.03,2,    1.11,2,-999.000,9,-999.000,9,  -999.0,9,   4.1619
06MT19970815,      AR07E,     484,          1,     200593,         19,         19,2,19970820,       0000,    61.4333,   -35.7350,       2917,   201.4,   3.8488,  34.8526,2,  34.8504,2,   295.1,2,    9.08,2,   16.71,2,    0.02,2,    1.11,2,-999.000,9,-999.000,9,  -999.0,9,   3.8349
06MT19970815,      AR07E,     484,          1,     200592,         18,         18,2,19970820,       0000,    61.4333,   -35.7350,       2917,   401.7,   3.5890,  34.8607,2,  34.8586,2,  -999.0,9,    9.30,2,   16.64,2,    0.02,2,    1.10,2,-999.000,9,-999.000,9,  -999.0,9,   3.5615
06MT19970815,      AR07E,     484,          1,     200591,         17,         17,3,19970820,       0000,    61.4333,   -35.7350,       2917,   501.8,   3.4752,  34.8602,2,  34.8593,2,   296.5,2,    9.36,2,   16.84,2,    0.01,2,    1.12,2,-999.000,9,-999.000,9,  -999.0,9,   3.4409
06MT19970815,      AR07E,     484,          1,     200590,         16,         16,2,19970820,       0000,    61.4333,   -35.7350,       2917,   701.1,   3.3165,  34.8623,2,  34.8642,2,   291.1,2,    9.82,2,   17.08,2,    0.01,2,    1.13,2,-999.000,9,-999.000,9,  -999.0,9,   3.2684
06MT19970815,      AR07E,     484,          1,     200589,         15,         15,2,19970820,       0000,    61.4333,   -35.7350,       2917,  1001.4,   3.1342,  34.8619,2,  34.8618,2,   293.2,2,    9.99,2,   16.96,2,    0.01,2,    1.13,2,   3.820,2,   1.834,3,  -999.0,9,   3.0645
06MT19970815,      AR07E,     484,          1,     200588,         14,         14,2,19970820,       0000,    61.4333,   -35.7350,       2917,  1199.2,   3.0420,  34.8565,2,  34.8568,2,   296.9,2,    9.98,2,   16.86,2,    0.02,2,    1.12,2,-999.000,9,-999.000,9,  -999.0,9,   2.9576
06MT19970815,      AR07E,     484,          1,     200587,         13,         13,2,19970820,       0000,    61.4333,   -35.7350,       2917,  1400.6,   2.9773,  34.8521,2,  34.8518,2,   297.8,2,    9.83,2,   16.77,2,    0.01,2,    1.12,2,   4.094,2,   1.920,3,  -999.0,9,   2.8773
06MT19970815,      AR07E,     484,          1,     200586,         12,         12,2,19970820,       0000,    61.4333,   -35.7350,       2917,  1500.2,   2.9452,  34.8490,2,  34.8483,2,   300.8,2,    9.84,2,   16.80,2,    0.01,2,    1.11,2,   4.057,2,   1.960,3,  -999.0,9,   2.8373
06MT19970815,      AR07E,     484,          1,     200585,         11,         11,2,19970820,       0000,    61.4333,   -35.7350,       2917,  1603.3,   2.9295,  34.8477,2,  34.8477,2,   301.1,2,    9.79,2,   16.61,2,    0.01,2,    1.11,2,   4.094,2,   1.956,3,  -999.0,9,   2.8131
06MT19970815,      AR07E,     484,          1,     200584,         10,         10,3,19970820,       0000,    61.4333,   -35.7350,       2917,  1701.9,   2.9138,  34.8464,2,  34.8467,2,   301.6,2,    9.76,2,   16.65,2,    0.01,2,    1.12,2,-999.000,9,-999.000,9,  -999.0,9,   2.7892
06MT19970815,      AR07E,     484,          1,     200583,          9,          9,2,19970820,       0000,    61.4333,   -35.7350,       2917,  1800.8,   2.9155,  34.8482,2,  34.8481,2,   300.7,2,    9.82,2,   16.53,2,    0.00,2,    1.10,2,   4.023,2,   1.932,3,  -999.0,9,   2.7822
06MT19970815,      AR07E,     484,          1,     200582,          8,          8,2,19970820,       0000,    61.4333,   -35.7350,       2917,  1901.3,   2.9677,  34.8594,2,  34.8591,2,   297.5,2,    9.99,2,   16.56,2,    0.00,2,    1.11,2,-999.000,9,-999.000,9,  -999.0,9,   2.8248
06MT19970815,      AR07E,     484,          1,     200581,          7,          7,3,19970820,       0000,    61.4333,   -35.7350,       2917,  2003.8,   3.0463,  34.8785,2,  34.8773,2,   292.1,2,   10.48,2,   16.54,2,    0.01,2,    1.11,2,   3.170,2,   1.538,3,  -999.0,9,   2.8929
06MT19970815,      AR07E,     484,          1,     200580,          6,          6,2,19970820,       0000,    61.4333,   -35.7350,       2917,  2201.5,   3.0883,  34.9048,2,  34.9051,2,   286.6,2,   11.34,2,   16.52,2,    0.01,2,    1.11,2,   2.486,2,   1.191,3,  -999.0,9,   2.9157
06MT19970815,      AR07E,     484,          1,     200579,          5,          5,2,19970820,       0000,    61.4333,   -35.7350,       2917,  2401.7,   3.0098,  34.9173,2,  34.9175,2,   282.5,2,   12.05,2,   16.49,2,    0.01,2,    1.11,2,   2.131,2,   1.037,3,  -999.0,9,   2.8193
06MT19970815,      AR07E,     484,          1,     200578,          4,          4,2,19970820,       0000,    61.4333,   -35.7350,       2917,  2502.3,   2.9299,  34.9192,2,  34.9195,2,   282.2,2,   12.29,2,   16.41,2,    0.01,2,    1.10,2,   2.066,2,   1.012,3,  -999.0,9,   2.7311
06MT19970815,      AR07E,     484,          1,     200577,          3,          3,3,19970820,       0000,    61.4333,   -35.7350,       2917,  2600.8,   2.7721,  34.9140,2,-999.0000,9,  -999.0,9,   11.27,2,   16.01,2,    0.01,2,    1.07,2,-999.000,9,-999.000,9,  -999.0,9,   2.5666
06MT19970815,      AR07E,     484,          1,     200576,          2,          2,2,19970820,       0000,    61.4333,   -35.7350,       2917,  2830.5,   1.8085,  34.8765,2,  34.8760,2,   301.0,2,    8.34,2,   14.20,2,    0.01,2,    0.96,2,   3.782,2,   1.818,3,  -999.0,9,   1.6002
06MT19970815,      AR07E,     484,          1,     200575,          1,          1,2,19970820,       0000,    61.4333,   -35.7350,       2917,  2885.7,   1.4551,  34.8780,2,  34.8784,2,   304.1,2,    8.11,2,   13.86,2,    0.01,2,    0.94,2,   3.820,2,   1.812,3,  -999.0,9,   1.2490
06MT19970815,      AR07E,     485,          1,     202724,         22,         22,2,19970820,       0000,    61.6300,   -36.3033,       2800,     9.1,  10.5411,  34.8652,2,  34.8600,2,   288.2,2,    0.58,2,    2.70,2,    0.07,2,    0.23,2,-999.000,9,-999.000,9,  -999.0,9,  10.5400
06MT19970815,      AR07E,     485,          1,     202723,         21,         21,2,19970820,       0000,    61.6300,   -36.3033,       2800,    49.5,   5.5246,  34.8669,2,  34.8625,2,   296.9,2,    5.29,2,   12.43,2,    0.46,2,    1.04,2,-999.000,9,-999.000,9,  -999.0,9,   5.5206
06MT19970815,      AR07E,     485,          1,     202722,         20,         20,2,19970820,       0000,    61.6300,   -36.3033,       2800,    98.8,   4.6752,  34.8815,2,  34.8768,2,   288.4,2,    8.65,2,   16.26,2,    0.18,2,    1.09,2,-999.000,9,-999.000,9,  -999.0,9,   4.6678
06MT19970815,      AR07E,     485,          1,     202721,         19,         19,2,19970820,       0000,    61.6300,   -36.3033,       2800,   200.5,   4.2938,  34.8887,2,  34.8883,2,   289.0,2,    9.00,2,   16.46,2,    0.02,2,    1.09,2,-999.000,9,-999.000,9,  -999.0,9,   4.2793
06MT19970815,      AR07E,     485,          1,     202720,         18,         18,2,19970820,       0000,    61.6300,   -36.3033,       2800,   300.2,   3.7984,  34.8581,2,  34.8557,2,   293.9,2,    9.18,2,   16.58,2,    0.03,2,    1.10,2,-999.000,9,-999.000,9,  -999.0,9,   3.7776
06MT19970815,      AR07E,     485,          1,     202719,         17,         17,2,19970820,       0000,    61.6300,   -36.3033,       2800,   400.6,   3.7827,  34.8713,2,  34.8614,2,   294.2,2,    9.19,2,   16.53,2,    0.04,2,    1.11,2,-999.000,9,-999.000,9,  -999.0,9,   3.7547
06MT19970815,      AR07E,     485,          1,     202718,         16,         16,2,19970820,       0000,    61.6300,   -36.3033,       2800,   500.4,   3.6256,  34.8698,2,  34.8690,2,   290.4,2,    9.48,2,   16.52,2,    0.03,2,    1.12,2,-999.000,9,-999.000,9,  -999.0,9,   3.5908
06MT19970815,      AR07E,     485,          1,     202717,         15,         15,2,19970820,       0000,    61.6300,   -36.3033,       2800,   601.8,   3.6011,  34.8838,2,  34.8781,2,   284.4,2,    9.84,2,   16.97,2,    0.04,2,    1.13,2,-999.000,9,-999.000,9,  -999.0,9,   3.5589
06MT19970815,      AR07E,     485,          1,     202716,         14,         14,2,19970820,       0000,    61.6300,   -36.3033,       2800,   800.2,   3.4620,  34.8905,2,  34.8896,2,   283.1,2,   10.21,2,   16.98,2,    0.06,2,    1.13,2,-999.000,9,-999.000,9,  -999.0,9,   3.4055
06MT19970815,      AR07E,     485,          1,     202715,         13,         13,2,19970820,       0000,    61.6300,   -36.3033,       2800,  1001.0,   3.2581,  34.8768,2,  34.8689,0,   289.7,2,   10.08,2,   17.04,2,    0.01,2,    1.12,2,   3.638,2,   1.777,3,  -999.0,9,   3.1875
06MT19970815,      AR07E,     485,          1,     202714,         12,         12,2,19970820,       0000,    61.6300,   -36.3033,       2800,  1300.3,   3.0730,  34.8618,2,  34.8617,2,   273.0,3,    9.96,2,   16.78,2,    0.02,2,    1.11,2,   3.900,2,   1.898,3,  -999.0,9,   2.9801
06MT19970815,      AR07E,     485,          1,     202713,         11,         11,2,19970820,       0000,    61.6300,   -36.3033,       2800,  1500.4,   3.0015,  34.8554,2,  34.8458,0,   300.0,2,    9.83,2,   16.66,2,    0.05,2,    1.11,2,   4.082,2,   1.984,3,  -999.0,9,   2.8929
06MT19970815,      AR07E,     485,          1,     202712,         10,         10,2,19970820,       0000,    61.6300,   -36.3033,       2800,  1601.0,   2.9740,  34.8526,2,  34.8525,2,   300.7,2,    9.86,2,   16.58,2,    0.02,2,    1.11,2,   4.125,2,   2.054,3,  -999.0,9,   2.8572
06MT19970815,      AR07E,     485,          1,     202711,          9,          9,2,19970820,       0000,    61.6300,   -36.3033,       2800,  1700.5,   2.9525,  34.8501,2,  34.8501,2,   301.1,2,    9.76,2,   16.45,2,    0.04,2,    1.10,2,   4.051,2,   1.976,3,  -999.0,9,   2.8275
06MT19970815,      AR07E,     485,          1,     202710,          8,          8,2,19970820,       0000,    61.6300,   -36.3033,       2800,  1800.4,   2.9433,  34.8501,2,  34.8499,2,   300.9,2,    9.81,2,   16.63,2,    0.01,2,    1.11,2,   4.056,2,   1.949,3,  -999.0,9,   2.8097
06MT19970815,      AR07E,     485,          1,     202709,          7,          7,2,19970820,       0000,    61.6300,   -36.3033,       2800,  2001.6,   3.0132,  34.8673,2,  34.8678,2,   295.5,2,   10.22,2,   16.54,2,    0.03,2,    1.11,2,   3.550,2,   1.702,3,  -999.0,9,   2.8605
06MT19970815,      AR07E,     485,          1,     202708,          6,          6,2,19970820,       0000,    61.6300,   -36.3033,       2800,  2201.7,   3.0813,  34.8931,2,  34.8934,2,   288.5,2,   10.80,2,   16.41,2,    0.02,2,    1.09,2,   2.856,2,   1.366,3,  -999.0,9,   2.9089
06MT19970815,      AR07E,     485,          1,     202707,          5,          5,2,19970820,       0000,    61.6300,   -36.3033,       2800,  2401.6,   2.9890,  34.9087,2,  34.9091,2,   284.3,2,   11.53,2,   16.28,2,    0.00,2,    1.08,2,   2.416,2,   1.173,3,  -999.0,9,   2.7989
06MT19970815,      AR07E,     485,          1,     202706,          4,          4,2,19970820,       0000,    61.6300,   -36.3033,       2800,  2502.1,   2.8146,  34.9011,2,  34.9015,2,   287.0,2,   11.12,2,   15.80,2,    0.02,2,    1.07,2,   2.672,2,   1.296,3,  -999.0,9,   2.6180
06MT19970815,      AR07E,     485,          1,     202705,          3,          3,2,19970820,       0000,    61.6300,   -36.3033,       2800,  2601.3,   2.4283,  34.8863,2,  34.8858,2,   294.2,2,    9.75,2,   15.07,2,    0.03,2,    1.01,2,   3.285,2,   1.591,3,  -999.0,9,   2.2294
06MT19970815,      AR07E,     485,          1,     202704,          2,          2,2,19970820,       0000,    61.6300,   -36.3033,       2800,  2703.0,   1.5636,  34.8822,2,  34.8826,2,   302.3,2,    8.70,2,   13.93,2,    0.04,2,    0.95,2,   3.646,2,   1.782,3,  -999.0,9,   1.3722
06MT19970815,      AR07E,     485,          1,     202703,          1,          1,2,19970820,       0000,    61.6300,   -36.3033,       2800,  2771.7,   1.1919,  34.8805,2,  34.8804,2,   304.9,2,    9.24,2,   13.82,2,    0.02,2,    0.95,2,   3.636,2,   1.765,3,  -999.0,9,   1.0018
06MT19970815,      AR07E,     486,          1,     202745,         21,         21,2,19970821,       0000,    61.8150,   -36.8833,       2685,    54.2,   6.4317,  35.0203,2,  35.0187,2,   279.0,2,    6.97,2,   15.21,2,    0.00,2,    1.02,2,-999.000,9,-999.000,9,  -999.0,9,   6.4269
06MT19970815,      AR07E,     486,          1,     202744,         20,         20,2,19970821,       0000,    61.8150,   -36.8833,       2685,   101.5,   5.9390,  34.9966,2,  34.9969,2,   279.0,2,    8.23,2,   15.73,2,    0.00,2,    1.04,2,-999.000,9,-999.000,9,  -999.0,9,   5.9304
06MT19970815,      AR07E,     486,          1,     202743,         19,         19,2,19970821,       0000,    61.8150,   -36.8833,       2685,   200.5,   5.2458,  34.9531,2,  34.9537,2,  -999.0,9,    8.63,2,   16.12,2,    0.00,2,    1.07,2,-999.000,9,-999.000,9,  -999.0,9,   5.2297
06MT19970815,      AR07E,     486,          1,     202742,         18,         18,2,19970821,       0000,    61.8150,   -36.8833,       2685,   303.1,   4.5826,  34.9106,2,  34.9104,2,  -999.0,9,    8.95,2,   16.40,2,    0.00,2,    1.09,2,-999.000,9,-999.000,9,  -999.0,9,   4.5597
06MT19970815,      AR07E,     486,          1,     202741,         17,         17,2,19970821,       0000,    61.8150,   -36.8833,       2685,   401.3,   4.1760,  34.8899,2,  34.8911,2,  -999.0,9,    9.23,2,   16.58,2,    0.00,2,    1.10,2,-999.000,9,-999.000,9,  -999.0,9,   4.1466
06MT19970815,      AR07E,     486,          1,     202740,         16,         16,2,19970821,       0000,    61.8150,   -36.8833,       2685,   503.4,   3.9041,  34.8805,2,  34.8803,2,   289.6,2,    9.28,2,   16.71,2,    0.00,2,    1.11,2,-999.000,9,-999.000,9,  -999.0,9,   3.8680
06MT19970815,      AR07E,     486,          1,     202739,         15,         15,2,19970821,       0000,    61.8150,   -36.8833,       2685,   601.3,   3.7060,  34.8722,2,  34.8714,2,   290.3,2,    9.46,2,   16.86,2,    0.00,2,    1.11,2,-999.000,9,-999.000,9,  -999.0,9,   3.6633
06MT19970815,      AR07E,     486,          1,     202738,         14,         14,2,19970821,       0000,    61.8150,   -36.8833,       2685,   800.2,   3.5233,  34.8824,2,  34.8831,2,   285.2,2,    9.99,2,   17.13,2,    0.00,2,    1.12,2,   3.764,2,   1.781,3,  -999.0,9,   3.4664
06MT19970815,      AR07E,     486,          1,     202737,         13,         13,2,19970821,       0000,    61.8150,   -36.8833,       2685,  1001.0,   3.3307,  34.8803,2,  34.8810,2,   287.9,2,   10.10,2,   17.12,2,    0.00,2,    1.12,2,   3.621,2,   1.738,3,  -999.0,9,   3.2595
06MT19970815,      AR07E,     486,          1,     202736,         12,         12,2,19970821,       0000,    61.8150,   -36.8833,       2685,  1200.0,   3.1690,  34.8706,2,  34.8701,2,   294.5,2,    9.98,2,   16.67,2,    0.00,2,    1.11,2,   3.910,2,   1.835,3,  -999.0,9,   3.0833
06MT19970815,      AR07E,     486,          1,     202735,         11,         11,2,19970821,       0000,    61.8150,   -36.8833,       2685,  1300.5,   3.1055,  34.8648,2,  34.8647,2,   296.3,2,   10.02,2,   16.79,2,    0.00,2,    1.11,2,   3.922,2,   1.900,3,  -999.0,9,   3.0123
06MT19970815,      AR07E,     486,          1,     202734,         10,         10,2,19970821,       0000,    61.8150,   -36.8833,       2685,  1502.0,   3.0078,  34.8558,2,  34.8558,2,   300.3,2,    9.83,2,   16.68,2,    0.00,2,    1.10,2,   4.001,2,   1.937,3,  -999.0,9,   2.8990
06MT19970815,      AR07E,     486,          1,     202733,          9,          9,3,19970821,       0000,    61.8150,   -36.8833,       2685,  1599.1,   2.9739,  34.8521,2,  34.8541,0,  -999.0,9,    9.74,2,   16.66,2,    0.00,2,    1.10,2,-999.000,9,-999.000,9,  -999.0,9,   2.8573
06MT19970815,      AR07E,     486,          1,     202732,          8,          8,2,19970821,       0000,    61.8150,   -36.8833,       2685,  1700.6,   2.9490,  34.8499,2,  34.8494,2,   301.3,2,    9.79,2,   16.67,2,    0.00,2,    1.09,2,   4.026,2,   1.947,3,  -999.0,9,   2.8240
06MT19970815,      AR07E,     486,          1,     202731,          7,          7,3,19970821,       0000,    61.8150,   -36.8833,       2685,  1801.4,   2.9341,  34.8485,2,  34.8564,0,  -999.0,9,    9.53,2,   16.45,2,    0.00,2,    1.08,2,-999.000,9,-999.000,9,  -999.0,9,   2.8005
06MT19970815,      AR07E,     486,          1,     202730,          6,          6,2,19970821,       0000,    61.8150,   -36.8833,       2685,  2001.2,   3.0242,  34.8711,2,  34.8708,2,   294.7,2,   10.27,2,   16.62,2,    0.00,2,    1.09,2,   3.380,2,   1.619,3,  -999.0,9,   2.8714
06MT19970815,      AR07E,     486,          1,     202729,          5,          5,2,19970821,       0000,    61.8150,   -36.8833,       2685,  2201.5,   3.0803,  34.9040,2,  34.9041,2,   285.4,2,   11.29,2,   16.66,2,    0.00,2,    1.09,2,-999.000,9,-999.000,9,  -999.0,9,   2.9079
06MT19970815,      AR07E,     486,          1,     202728,          4,          4,2,19970821,       0000,    61.8150,   -36.8833,       2685,  2301.8,   3.0120,  34.9087,2,  34.9094,2,   284.3,2,   11.55,2,   16.28,2,    0.00,2,    1.10,2,   2.397,2,   1.160,3,  -999.0,9,   2.8311
06MT19970815,      AR07E,     486,          1,     202727,          3,          3,2,19970821,       0000,    61.8150,   -36.8833,       2685,  2398.3,   2.8321,  34.8998,2,  34.8998,2,   287.6,2,   10.96,2,   15.90,2,    0.00,2,    1.06,2,   2.697,2,   1.314,3,  -999.0,9,   2.6452
06MT19970815,      AR07E,     486,          1,     202726,          2,          2,2,19970821,       0000,    61.8150,   -36.8833,       2685,  2602.2,   1.9332,  34.8830,2,  34.8831,2,   298.6,2,    9.13,2,   14.45,2,    0.00,2,    0.97,2,   3.563,2,   1.710,3,  -999.0,9,   1.7438
06MT19970815,      AR07E,     486,          1,     202725,          1,          1,2,19970821,       0000,    61.8150,   -36.8833,       2685,  2634.6,   1.6812,  34.8796,2,  34.8798,2,   301.0,2,    8.82,2,   13.97,2,    0.00,2,    0.96,2,   3.649,2,   1.775,3,  -999.0,9,   1.4937