BOTTLE,20220204CCHSIOENA
EXPOCODE,SECT_ID,STNNBR,CASTNO,BIONBR,SAMPNO,BTLNBR,BTLNBR_FLAG_W,DATE,TIME,LATITUDE,LONGITUDE,DEPTH,CTDPRS,CTDTMP,CTDSAL,CTDSAL_FLAG_W,SALNTY,SALNTY_FLAG_W,OXYGEN,OXYGEN_FLAG_W,SILCAT,SILCAT_FLAG_W,NITRAT,NITRAT_FLAG_W,NITRIT,NITRIT_FLAG_W,PHSPHT,PHSPHT_FLAG_W,CFC-11,CFC-11_FLAG_W,CFC-12,CFC-12_FLAG_W,TCARBN,TCARBN_FLAG_W,THETA
,,,,,,,,,,,,METERS,DBAR,ITS-90,PSS-78,,PSS-78,,UMOL/KG,,UMOL/KG,,UMOL/KG,,UMOL/KG,,UMOL/KG,,PMOL/KG,,PMOL/KG,,UMOL/KG,,DEG C
06MT19970815,      AR07E,     551,          1,     204102,         22,         22,2,19970903,       0000,    53.6967,   -25.4117,       3610,    16.1,  14.0330,  35.1645,2,  35.1611,2,   254.4,2,    0.63,2,    0.98,2,    0.17,2,    0.15,2,-999.000,9,-999.000,9,  2053.9,2,  14.0307
06MT19970815,      AR07E,     551,          1,     204101,         21,         21,2,19970903,       0000,    53.6967,   -25.4117,       3610,    51.3,  12.5565,  35.4216,2,  35.4162,2,   238.3,2,    2.83,2,    7.92,2,    0.16,2,    0.54,2,-999.000,9,-999.000,9,  -999.0,9,  12.5496
06MT19970815,      AR07E,     551,          1,     204100,         20,         20,2,19970903,       0000,    53.6967,   -25.4117,       3610,   100.1,  10.9956,  35.3371,2,  35.3355,2,   231.4,2,    5.01,2,   11.87,2,    0.03,2,    0.78,2,-999.000,9,-999.000,9,  -999.0,9,  10.9833
06MT19970815,      AR07E,     551,          1,     204099,         19,         19,2,19970903,       0000,    53.6967,   -25.4117,       3610,   300.6,   8.6962,  35.1347,2,  35.1327,2,   230.5,2,    8.03,2,   15.68,2,    0.03,2,    1.01,2,-999.000,9,-999.000,9,  -999.0,9,   8.6639
06MT19970815,      AR07E,     551,          1,     204098,         18,         18,2,19970903,       0000,    53.6967,   -25.4117,       3610,   501.3,   5.7803,  34.8783,2,  34.8744,2,   239.0,2,   10.27,2,   17.91,2,    0.02,2,    1.19,2,-999.000,9,-999.000,9,  -999.0,9,   5.7370
06MT19970815,      AR07E,     551,          1,     204097,         17,         17,2,19970903,       0000,    53.6967,   -25.4117,       3610,   700.8,   5.0214,  34.9649,2,  34.9649,2,   236.0,2,   11.40,2,   18.86,2,    0.02,2,    1.23,2,   2.583,2,   1.249,3,  -999.0,9,   4.9639
06MT19970815,      AR07E,     551,          1,     204096,         16,         16,2,19970903,       0000,    53.6967,   -25.4117,       3610,   899.9,   4.2219,  34.9409,2,  34.9412,2,   258.8,2,   11.04,2,   18.05,2,    0.01,2,    1.17,2,   3.243,2,   1.273,3,  -999.0,9,   4.1523
06MT19970815,      AR07E,     551,          1,     204095,         15,         15,2,19970903,       0000,    53.6967,   -25.4117,       3610,  1100.8,   3.8687,  34.9156,2,  34.9163,2,   269.3,2,   10.77,2,   17.66,2,    0.01,2,    1.15,2,   2.938,2,   1.406,3,  -999.0,9,   3.7849
06MT19970815,      AR07E,     551,          1,     204094,         14,         14,2,19970903,       0000,    53.6967,   -25.4117,       3610,  1300.0,   3.6278,  34.9011,2,  34.9005,2,   276.6,2,   10.72,2,   17.45,2,    0.01,2,    1.13,2,   3.063,2,   1.438,3,  -999.0,9,   3.5294
06MT19970815,      AR07E,     551,          1,     204093,         13,         13,2,19970903,       0000,    53.6967,   -25.4117,       3610,  1501.7,   3.4106,  34.8886,2,  34.8880,2,   281.7,2,   10.70,2,   17.22,2,    0.01,2,    1.13,2,   2.934,2,   1.359,3,  -999.0,9,   3.2971
06MT19970815,      AR07E,     551,          1,     204092,         12,         12,2,19970903,       0000,    53.6967,   -25.4117,       3610,  1649.2,   3.3089,  34.8825,2,  34.8814,2,   284.9,2,   10.61,2,   17.07,2,    0.02,2,    1.12,2,   3.066,2,   1.456,3,  -999.0,9,   3.1837
06MT19970815,      AR07E,     551,          1,     204091,         11,         11,2,19970903,       0000,    53.6967,   -25.4117,       3610,  1798.0,   3.2404,  34.8820,2,  34.8808,2,   299.9,3,   10.74,2,   16.96,2,    0.01,2,    1.11,2,   3.015,2,   1.432,3,  -999.0,9,   3.1029
06MT19970815,      AR07E,     551,          1,     204090,         10,         10,2,19970903,       0000,    53.6967,   -25.4117,       3610,  1999.0,   3.1502,  34.8818,2,  34.8812,2,   287.5,2,   10.83,2,   16.75,2,    0.01,2,    1.10,2,   3.002,2,   1.425,3,  -999.0,9,   2.9957
06MT19970815,      AR07E,     551,          1,     204089,          9,          9,2,19970903,       0000,    53.6967,   -25.4117,       3610,  2201.3,   3.1777,  34.9011,2,  34.8993,2,   283.3,2,   11.61,2,   16.79,2,    0.02,2,    1.11,2,   2.484,2,   1.177,3,  -999.0,9,   3.0037
06MT19970815,      AR07E,     551,          1,     204088,          8,          8,2,19970903,       0000,    53.6967,   -25.4117,       3610,  2400.5,   3.1945,  34.9212,2,  34.9219,2,   278.8,2,   12.34,2,   16.70,2,    0.01,2,    1.10,2,   1.986,2,   0.966,3,  -999.0,9,   3.0009
06MT19970815,      AR07E,     551,          1,     204087,          7,          7,2,19970903,       0000,    53.6967,   -25.4117,       3610,  2601.9,   3.1703,  34.9346,2,  34.9350,2,   275.2,2,   13.11,2,   16.74,2,    0.01,2,    1.11,2,   1.760,2,   0.852,3,  -999.0,9,   2.9570
06MT19970815,      AR07E,     551,          1,     204086,          6,          6,2,19970903,       0000,    53.6967,   -25.4117,       3610,  2803.2,   3.1170,  34.9500,2,  34.9505,2,   273.7,2,   13.90,2,   16.69,2,    0.02,2,    1.10,2,   1.676,2,   0.811,3,  -999.0,9,   2.8842
06MT19970815,      AR07E,     551,          1,     204085,          5,          5,2,19970903,       0000,    53.6967,   -25.4117,       3610,  3003.2,   3.0120,  34.9535,2,  34.9541,2,   270.6,2,   15.92,2,   16.76,2,    0.02,2,    1.12,2,   1.569,2,   0.755,3,  -999.0,9,   2.7605
06MT19970815,      AR07E,     551,          1,     204084,          4,          4,2,19970903,       0000,    53.6967,   -25.4117,       3610,  3394.4,   2.7653,  34.9407,2,  34.9422,2,   259.7,2,   26.00,2,   18.63,2,    0.01,2,    1.25,2,   1.040,2,   0.490,3,  -999.0,9,   2.4776
06MT19970815,      AR07E,     551,          1,     204083,          3,          3,2,19970903,       0000,    53.6967,   -25.4117,       3610,  3502.3,   2.7024,  34.9329,2,  34.9335,2,   253.7,2,   31.01,2,   19.62,2,    0.01,2,    1.31,2,   0.750,2,   0.348,3,  -999.0,9,   2.4045
06MT19970815,      AR07E,     551,          1,     204082,          2,          2,2,19970903,       0000,    53.6967,   -25.4117,       3610,  3601.4,   2.7217,  34.9441,2,  34.9448,2,   261.2,2,   25.37,3,   18.40,3,    0.01,2,    1.23,3,   1.312,2,   0.636,3,  -999.0,9,   2.4123
06MT19970815,      AR07E,     551,          1,     204081,          1,          1,2,19970903,       0000,    53.6967,   -25.4117,       3610,  3640.1,   2.7236,  34.9476,2,  34.9484,2,   263.2,2,   22.97,3,   17.87,3,    0.02,2,    1.20,3,   1.518,2,   0.747,3,  -999.0,9,   2.4098
06MT19970815,      AR07E,     552,          1,     204122,         20,         20,2,19970903,       0000,    53.5500,   -24.7617,       3621,    13.7,  14.7404,  35.2072,2,  35.2036,2,   251.1,2,    0.87,2,    0.52,2,    0.09,2,    0.13,2,   3.105,2,   1.670,3,  2051.3,2,  14.7384
06MT19970815,      AR07E,     552,          1,     204121,         19,         19,2,19970903,       0000,    53.5500,   -24.7617,       3621,    50.1,  12.5626,  35.4844,2,  35.4814,2,   233.6,2,    3.13,2,    8.82,2,    0.04,2,    0.58,2,-999.000,9,-999.000,9,  2109.5,2,  12.5559
06MT19970815,      AR07E,     552,          1,     204120,         18,         18,2,19970903,       0000,    53.5500,   -24.7617,       3621,   100.4,  11.5921,  35.4492,2,  35.4512,2,   235.1,2,    4.31,2,   10.93,2,    0.02,2,    0.69,2,-999.000,9,-999.000,9,  2120.7,2,  11.5793
06MT19970815,      AR07E,     552,          1,     204119,         17,         17,2,19970903,       0000,    53.5500,   -24.7617,       3621,   200.0,  10.5608,  35.3900,2,  35.3857,2,   232.7,2,    5.89,2,   12.96,2,    0.03,2,    0.83,2,   3.106,2,   1.664,3,  2132.0,2,  10.5367
06MT19970815,      AR07E,     552,          1,     204118,         16,         16,2,19970903,       0000,    53.5500,   -24.7617,       3621,   400.7,   8.1179,  35.0786,2,  35.0754,2,   215.0,2,    9.59,2,   17.68,2,    0.02,2,    1.14,2,   2.645,2,   1.370,3,  2155.1,2,   8.0764
06MT19970815,      AR07E,     552,          1,     204117,         15,         15,2,19970903,       0000,    53.5500,   -24.7617,       3621,   601.9,   5.8109,  34.9420,2,  34.9378,2,   223.1,2,   11.23,2,   19.15,2,    0.01,2,    1.25,2,   2.679,2,   1.305,3,  2165.3,2,   5.7583
06MT19970815,      AR07E,     552,          1,     204116,         14,         14,2,19970903,       0000,    53.5500,   -24.7617,       3621,   801.5,   5.0498,  35.0005,2,  35.0008,2,   239.8,2,   11.33,2,   18.72,2,    0.01,2,    1.22,2,   2.533,2,   1.200,3,  2165.0,2,   4.9832
06MT19970815,      AR07E,     552,          1,     204115,         13,         13,2,19970903,       0000,    53.5500,   -24.7617,       3621,  1000.8,   4.2901,  34.9495,2,-999.0000,9,   223.2,3,   11.07,2,   18.24,2,    0.01,2,    1.19,2,   2.589,2,   1.244,3,  2157.8,2,   4.2114
06MT19970815,      AR07E,     552,          1,     204114,         12,         12,2,19970903,       0000,    53.5500,   -24.7617,       3621,  1199.2,   3.8282,  34.9152,2,  34.9163,2,   239.4,3,   11.01,2,   17.79,2,    0.01,2,    1.16,2,   2.635,2,   1.264,3,  2155.7,2,   3.7364
06MT19970815,      AR07E,     552,          1,     204113,         11,         11,2,19970903,       0000,    53.5500,   -24.7617,       3621,  1402.2,   3.5249,  34.8951,2,  34.8946,2,   257.1,3,   10.76,2,   17.39,2,    0.01,2,    1.14,2,   2.768,2,   1.327,3,  2152.2,2,   3.4188
06MT19970815,      AR07E,     552,          1,     204112,         10,         10,2,19970903,       0000,    53.5500,   -24.7617,       3621,  1600.3,   3.3514,  34.8847,2,  34.8836,2,   269.7,3,   10.81,2,   17.13,2,    0.01,2,    1.12,2,   2.925,2,   1.392,3,  2150.8,2,   3.2300
06MT19970815,      AR07E,     552,          1,     204111,          9,          9,2,19970903,       0000,    53.5500,   -24.7617,       3621,  1799.6,   3.2399,  34.8811,2,  34.8800,2,   278.1,3,   10.71,2,   16.89,2,    0.02,2,    1.12,2,   2.991,2,   1.425,3,  2149.9,2,   3.1022
06MT19970815,      AR07E,     552,          1,     204110,          8,          8,2,19970903,       0000,    53.5500,   -24.7617,       3621,  2000.5,   3.1819,  34.8840,2,  34.8832,2,   283.3,3,   10.93,2,   16.86,2,    0.01,2,    1.12,2,   2.907,2,   1.368,3,  2150.3,2,   3.0267
06MT19970815,      AR07E,     552,          1,     204109,          7,          7,2,19970903,       0000,    53.5500,   -24.7617,       3621,  2197.7,   3.1980,  34.9028,2,  34.9019,2,   285.4,3,   11.54,2,   16.86,2,    0.01,2,    1.11,2,   2.454,2,   1.171,3,  2151.1,2,   3.0240
06MT19970815,      AR07E,     552,          1,     204108,          6,          6,2,19970903,       0000,    53.5500,   -24.7617,       3621,  2603.4,   3.1436,  34.9361,2,  34.9365,2,   286.3,3,   13.73,2,   16.80,2,    0.02,2,    1.11,2,   1.683,2,   0.823,3,  2154.4,2,   2.9307
06MT19970815,      AR07E,     552,          1,     204107,          5,          5,2,19970903,       0000,    53.5500,   -24.7617,       3621,  2802.5,   3.0711,  34.9467,2,  34.9469,2,   282.0,3,   15.34,2,   17.03,2,    0.01,2,    1.13,2,   1.513,2,   0.730,3,  2157.4,2,   2.8393
06MT19970815,      AR07E,     552,          1,     204106,          4,          4,2,19970903,       0000,    53.5500,   -24.7617,       3621,  3000.6,   2.9686,  34.9491,2,  34.9498,2,   275.0,3,   18.17,2,   17.28,2,    0.01,2,    1.15,2,   1.367,2,   0.659,3,  2161.8,2,   2.7184
06MT19970815,      AR07E,     552,          1,     204105,          3,          3,2,19970903,       0000,    53.5500,   -24.7617,       3621,  3252.6,   2.8316,  34.9451,2,  34.9459,2,   272.3,3,   22.99,2,   18.07,2,    0.01,2,    1.21,2,   1.156,2,   0.557,3,  2169.4,2,   2.5577
06MT19970815,      AR07E,     552,          1,     204104,          2,          2,2,19970903,       0000,    53.5500,   -24.7617,       3621,  3503.3,   2.7120,  34.9339,2,  34.9337,2,   254.1,3,   30.84,2,   19.60,2,    0.01,2,    1.31,2,   0.712,2,   0.294,3,  2180.5,2,   2.4138
06MT19970815,      AR07E,     552,          1,     204103,          1,          1,2,19970903,       0000,    53.5500,   -24.7617,       3621,  3605.5,   2.6546,  34.9273,2,  34.9267,2,   248.7,3,   34.89,2,   20.44,2,    0.01,2,    1.37,2,   0.485,2,   0.190,3,  2188.6,2,   2.3466
06MT19970815,      AR07E,     553,          1,     204144,         20,         20,2,19970903,       0000,    53.3817,   -24.1100,       3670,    99.0,  11.0852,  35.4321,2,  35.4311,2,   247.6,2,    4.88,2,   11.90,2,    0.04,2,    0.76,2,-999.000,9,-999.000,9,  -999.0,9,  11.0729
06MT19970815,      AR07E,     553,          1,     204143,         19,         19,2,19970903,       0000,    53.3817,   -24.1100,       3670,   251.1,   9.8924,  35.2987,2,  35.3015,2,   220.9,2,    5.80,2,   12.81,2,    0.03,2,    0.83,2,   3.369,2,   1.784,3,  -999.0,9,   9.8633
06MT19970815,      AR07E,     553,          1,     204142,         18,         18,2,19970903,       0000,    53.3817,   -24.1100,       3670,   502.6,   7.4749,  35.0220,2,  35.0196,2,   225.6,2,    9.66,2,   17.96,2,    0.02,2,    1.16,2,   2.815,2,   1.433,3,  -999.0,9,   7.4250
06MT19970815,      AR07E,     553,          1,     204141,         17,         17,2,19970903,       0000,    53.3817,   -24.1100,       3670,   699.4,   5.5785,  34.9749,2,  34.9756,2,   248.3,2,   11.36,2,   19.19,2,    0.02,2,    1.25,2,   2.466,2,   1.214,3,  -999.0,9,   5.5181
06MT19970815,      AR07E,     553,          1,     204140,         16,         16,2,19970903,       0000,    53.3817,   -24.1100,       3670,   903.3,   4.5917,  34.9594,2,  34.9609,2,   263.7,2,   11.16,2,   18.56,2,    0.02,2,    1.20,2,   2.608,2,   1.253,3,  -999.0,9,   4.5192
06MT19970815,      AR07E,     553,          1,     204139,         15,         15,2,19970903,       0000,    53.3817,   -24.1100,       3670,  1099.4,   4.0660,  34.9313,2,  34.9321,2,   272.7,2,   10.89,2,   18.05,2,    0.02,2,    1.17,2,   2.685,2,   1.305,3,  -999.0,9,   3.9807
06MT19970815,      AR07E,     553,          1,     204138,         14,         14,2,19970903,       0000,    53.3817,   -24.1100,       3670,  1299.5,   3.7192,  34.9072,2,  34.9079,2,   278.5,2,   10.73,2,   17.56,2,    0.03,2,    1.14,2,   2.750,2,   1.308,3,  -999.0,9,   3.6199
06MT19970815,      AR07E,     553,          1,     204137,         13,         13,2,19970903,       0000,    53.3817,   -24.1100,       3670,  1455.3,   3.5439,  34.8959,2,  34.8963,2,   281.9,2,   10.71,2,   17.36,2,    0.03,2,    1.13,2,   2.765,2,   1.336,3,  -999.0,9,   3.4329
06MT19970815,      AR07E,     553,          1,     204136,         12,         12,2,19970903,       0000,    53.3817,   -24.1100,       3670,  1599.4,   3.4102,  34.8877,2,  34.8873,2,   284.6,2,   10.67,2,   17.17,2,    0.02,2,    1.12,2,   2.815,2,   1.328,3,  -999.0,9,   3.2882
06MT19970815,      AR07E,     553,          1,     204135,         11,         11,2,19970903,       0000,    53.3817,   -24.1100,       3670,  1751.4,   3.3163,  34.8827,2,  34.8829,2,   285.1,2,   10.63,2,   17.06,2,    0.02,2,    1.11,2,   2.847,2,   1.362,3,  -999.0,9,   3.1819
06MT19970815,      AR07E,     553,          1,     204134,         10,         10,2,19970903,       0000,    53.3817,   -24.1100,       3670,  1897.7,   3.2481,  34.8824,2,  34.8819,2,   285.0,2,   10.75,2,   16.96,2,    0.02,2,    1.11,2,   2.862,2,   1.348,3,  -999.0,9,   3.1014
06MT19970815,      AR07E,     553,          1,     204133,          9,          9,2,19970903,       0000,    53.3817,   -24.1100,       3670,  2100.6,   3.1918,  34.8891,2,  34.8883,2,   279.4,2,   11.01,2,   16.83,2,    0.02,2,    1.11,2,   2.715,2,   1.300,3,  -999.0,9,   3.0271
06MT19970815,      AR07E,     553,          1,     204132,          8,          8,2,19970903,       0000,    53.3817,   -24.1100,       3670,  2300.3,   3.2241,  34.9128,2,  34.9122,2,   276.6,2,   11.93,2,   16.89,2,    0.02,2,    1.11,2,   2.134,2,   1.036,3,  -999.0,9,   3.0398
06MT19970815,      AR07E,     553,          1,     204131,          7,          7,2,19970903,       0000,    53.3817,   -24.1100,       3670,  2501.4,   3.2039,  34.9279,2,  34.9284,2,   268.0,2,   12.65,2,   16.78,2,    0.02,2,    1.11,2,   1.809,2,   0.901,3,  -999.0,9,   3.0001
06MT19970815,      AR07E,     553,          1,     204130,          6,          6,2,19970903,       0000,    53.3817,   -24.1100,       3670,  2701.1,   3.1357,  34.9425,2,  34.9433,2,   268.1,2,   15.14,2,   17.07,2,    0.02,2,    1.12,2,   1.434,2,   0.722,3,  -999.0,9,   2.9130
06MT19970815,      AR07E,     553,          1,     204129,          5,          5,2,19970903,       0000,    53.3817,   -24.1100,       3670,  2899.9,   3.0067,  34.9472,2,  34.9481,2,   262.5,2,   18.50,2,   17.56,2,    0.02,2,    1.16,2,   1.267,2,   0.591,3,  -999.0,9,   2.7662
06MT19970815,      AR07E,     553,          1,     204128,          4,          4,2,19970903,       0000,    53.3817,   -24.1100,       3670,  3151.1,   2.8306,  34.9456,2,  34.9509,0,   254.9,2,   22.02,2,   18.12,2,    0.02,2,    1.20,2,   1.180,2,   0.601,3,  -999.0,9,   2.5675
06MT19970815,      AR07E,     553,          1,     204127,          3,          3,2,19970903,       0000,    53.3817,   -24.1100,       3670,  3401.2,   2.7131,  34.9355,2,  34.9347,2,   249.3,2,   29.89,2,   19.55,2,    0.02,2,    1.31,2,   0.733,2,   0.320,3,  -999.0,9,   2.4260
06MT19970815,      AR07E,     553,          1,     204126,          2,          2,2,19970903,       0000,    53.3817,   -24.1100,       3670,  3550.1,   2.6443,  34.9263,2,  34.9261,2,   243.9,2,   35.27,2,   20.72,2,    0.01,2,    1.38,2,   0.434,2,   0.181,3,  -999.0,9,   2.3427
06MT19970815,      AR07E,     553,          1,     204125,          1,          1,2,19970903,       0000,    53.3817,   -24.1100,       3670,  3657.3,   2.5534,  34.9163,2,  34.9151,0,  -999.0,9,   40.53,2,   21.74,2,    0.04,2,    1.45,2,   0.186,2,   0.069,3,  -999.0,9,   2.2423