BOTTLE,20220204CCHSIOENA
EXPOCODE,SECT_ID,STNNBR,CASTNO,BIONBR,SAMPNO,BTLNBR,BTLNBR_FLAG_W,DATE,TIME,LATITUDE,LONGITUDE,DEPTH,CTDPRS,CTDTMP,CTDSAL,CTDSAL_FLAG_W,SALNTY,SALNTY_FLAG_W,OXYGEN,OXYGEN_FLAG_W,SILCAT,SILCAT_FLAG_W,NITRAT,NITRAT_FLAG_W,NITRIT,NITRIT_FLAG_W,PHSPHT,PHSPHT_FLAG_W,CFC-11,CFC-11_FLAG_W,CFC-12,CFC-12_FLAG_W,TCARBN,TCARBN_FLAG_W,THETA
,,,,,,,,,,,,METERS,DBAR,ITS-90,PSS-78,,PSS-78,,UMOL/KG,,UMOL/KG,,UMOL/KG,,UMOL/KG,,UMOL/KG,,PMOL/KG,,PMOL/KG,,UMOL/KG,,DEG C
06MT19970815,      AR07E,     559,          1,     204308,         22,         22,2,19970905,       0000,    52.0317,   -21.3517,       4318,    16.6,  15.6337,  35.5577,2,  35.5596,2,   246.9,2,    0.68,2,    0.38,2,    0.08,2,    0.10,2,   2.948,2,   1.517,3,  2060.8,2,  15.6311
06MT19970815,      AR07E,     559,          1,     204307,         21,         21,2,19970905,       0000,    52.0317,   -21.3517,       4318,    49.5,  15.1617,  35.5881,2,  35.5824,2,   242.7,2,    1.00,2,    1.73,2,    0.29,2,    0.20,2,   3.094,2,   1.570,3,  2074.9,2,  15.1541
06MT19970815,      AR07E,     559,          1,     204306,         20,         20,2,19970905,       0000,    52.0317,   -21.3517,       4318,   100.8,  12.1970,  35.6060,2,  35.6090,2,   239.9,2,    4.01,2,   10.31,2,    0.04,2,    0.63,2,   3.317,2,   1.661,3,  2122.3,2,  12.1837
06MT19970815,      AR07E,     559,          1,     204305,         19,         19,2,19970905,       0000,    52.0317,   -21.3517,       4318,   251.5,  10.7621,  35.4300,2,  35.4326,2,   240.1,2,    5.49,2,   12.46,2,    0.02,2,    0.78,2,   3.156,2,   1.554,3,  2132.5,2,  10.7313
06MT19970815,      AR07E,     559,          1,     204304,         18,         18,2,19970905,       0000,    52.0317,   -21.3517,       4318,   501.2,   8.8081,  35.1939,2,  35.1846,2,   216.1,2,    8.95,2,   17.12,2,    0.02,2,    1.09,2,   2.656,2,   1.264,3,  2157.1,2,   8.7532
06MT19970815,      AR07E,     559,          1,     204303,         17,         17,2,19970905,       0000,    52.0317,   -21.3517,       4318,   750.2,   6.7627,  35.1427,2,  35.1449,2,   215.3,2,   11.08,2,   19.00,2,    0.01,2,    1.22,2,   2.090,2,   0.874,3,  -999.0,9,   6.6908
06MT19970815,      AR07E,     559,          1,     204302,         16,         16,2,19970905,       0000,    52.0317,   -21.3517,       4318,  1000.6,   4.7744,  34.9826,2,  34.9817,0,   247.0,2,   11.30,2,   18.54,2,    0.03,2,    1.21,2,   2.490,2,   1.134,3,  2166.8,2,   4.6920
06MT19970815,      AR07E,     559,          1,     204301,         15,         15,2,19970905,       0000,    52.0317,   -21.3517,       4318,  1200.4,   4.1207,  34.9352,2,  34.9359,2,   264.9,2,   11.04,2,   18.17,2,    0.01,2,    1.18,2,   2.683,2,   1.216,3,  2161.5,2,   4.0261
06MT19970815,      AR07E,     559,          1,     204300,         14,         14,2,19970905,       0000,    52.0317,   -21.3517,       4318,  1401.4,   3.7447,  34.9086,2,  34.9092,2,   274.3,2,   10.95,2,   17.72,2,    0.01,2,    1.16,2,-999.000,9,-999.000,9,  2157.6,2,   3.6362
06MT19970815,      AR07E,     559,          1,     204299,         13,         13,2,19970905,       0000,    52.0317,   -21.3517,       4318,  1600.1,   3.4910,  34.8920,2,  34.8875,0,   282.2,2,   10.80,2,   17.31,2,    0.01,2,    1.14,2,   2.658,2,   1.201,3,  2154.7,2,   3.3679
06MT19970815,      AR07E,     559,          1,     204298,         12,         12,2,19970905,       0000,    52.0317,   -21.3517,       4318,  1799.9,   3.3539,  34.8857,2,  34.8846,2,   285.5,2,   10.77,2,   17.13,2,    0.01,2,    1.13,2,   2.770,2,   1.241,3,  2153.6,2,   3.2147
06MT19970815,      AR07E,     559,          1,     204297,         11,         11,2,19970905,       0000,    52.0317,   -21.3517,       4318,  2401.4,   3.2569,  34.9183,2,  34.9181,2,   280.2,2,   12.49,2,   17.00,2,    0.01,2,    1.12,2,   1.873,2,   0.740,3,  2154.8,2,   3.0621
06MT19970815,      AR07E,     559,          1,     204296,         10,         10,2,19970905,       0000,    52.0317,   -21.3517,       4318,  2800.8,   3.1216,  34.9440,2,  34.9413,0,   273.3,2,   15.47,2,   17.22,2,    0.01,2,    1.14,2,   1.332,2,   0.522,3,  2160.6,2,   2.8890
06MT19970815,      AR07E,     559,          1,     204295,          9,          9,2,19970905,       0000,    52.0317,   -21.3517,       4318,  3102.5,   2.9563,  34.9486,2,  34.9479,2,   269.7,2,   19.28,2,   17.55,2,    0.02,2,    1.18,2,   1.277,2,   0.478,3,  2167.2,2,   2.6956
06MT19970815,      AR07E,     559,          1,     204294,          8,          8,2,19970905,       0000,    52.0317,   -21.3517,       4318,  3402.3,   2.8179,  34.9416,2,  34.9419,2,   262.4,2,   25.61,2,   18.81,2,    0.01,2,    1.26,2,   0.879,2,   0.331,3,  2175.5,2,   2.5281
06MT19970815,      AR07E,     559,          1,     204293,          7,          7,2,19970905,       0000,    52.0317,   -21.3517,       4318,  3602.3,   2.7206,  34.9312,2,  34.9319,2,   247.7,2,   32.04,2,   20.09,2,    0.01,2,    1.35,2,   0.559,2,   0.195,3,  2184.4,2,   2.4112
06MT19970815,      AR07E,     559,          1,     204292,          6,          6,2,19970905,       0000,    52.0317,   -21.3517,       4318,  3800.7,   2.6047,  34.9179,2,  34.9185,2,   247.1,2,   39.57,2,   21.44,2,    0.02,2,    1.45,2,   0.150,2,   0.050,3,  2194.9,2,   2.2762
06MT19970815,      AR07E,     559,          1,     204291,          5,          5,2,19970905,       0000,    52.0317,   -21.3517,       4318,  4004.1,   2.5516,  34.9107,2,  34.9105,2,   244.8,2,   42.21,2,   22.04,2,    0.01,2,    1.50,2,   0.099,2,   0.025,3,  2199.5,2,   2.2013
06MT19970815,      AR07E,     559,          1,     204290,          4,          4,2,19970905,       0000,    52.0317,   -21.3517,       4318,  4103.1,   2.5336,  34.9081,2,  34.9081,2,   242.8,2,   42.79,2,   22.22,2,    0.01,2,    1.51,2,   0.051,2,   0.014,3,  2200.8,2,   2.1724
06MT19970815,      AR07E,     559,          1,     204289,          3,          3,2,19970905,       0000,    52.0317,   -21.3517,       4318,  4202.4,   2.5288,  34.9062,2,  34.9060,2,   243.5,2,   43.74,2,   22.36,2,    0.01,2,    1.52,2,   0.054,2,   0.018,3,  -999.0,9,   2.1561
06MT19970815,      AR07E,     559,          1,     204288,          2,          2,2,19970905,       0000,    52.0317,   -21.3517,       4318,  4321.0,   2.5325,  34.9048,2,  34.9055,2,   241.5,2,   44.27,2,   22.47,2,    0.01,2,    1.52,2,   0.054,2,   0.016,3,  2203.4,2,   2.1456
06MT19970815,      AR07E,     559,          1,     204287,          1,          1,2,19970905,       0000,    52.0317,   -21.3517,       4318,  4403.8,   2.5427,  34.9046,2,  34.9048,2,   242.4,2,   44.30,2,   22.49,2,    0.01,2,    1.52,2,   0.053,2,   0.013,3,  2203.1,2,   2.1456
06MT19970815,      AR07E,     560,          1,     204329,         21,         21,2,19970905,       0000,    51.7133,   -21.5983,       2712,    12.3,  15.3201,  35.5517,2,  35.5527,2,   250.0,2,    0.47,2,    0.79,2,    0.16,2,    0.15,2,-999.000,9,-999.000,9,  2066.1,2,  15.3182
06MT19970815,      AR07E,     560,          1,     204328,         20,         20,2,19970905,       0000,    51.7133,   -21.5983,       2712,    53.7,  12.7619,  35.5485,2,  35.5559,2,  -999.0,9,    3.31,2,    8.71,2,    0.07,2,    0.55,2,-999.000,9,-999.000,9,  -999.0,9,  12.7546
06MT19970815,      AR07E,     560,          1,     204327,         19,         19,2,19970905,       0000,    51.7133,   -21.5983,       2712,    99.8,  11.6071,  35.5360,2,  35.5380,2,   247.3,2,    4.26,2,   10.76,2,    0.03,2,    0.67,2,-999.000,9,-999.000,9,  -999.0,9,  11.5943
06MT19970815,      AR07E,     560,          1,     204326,         18,         18,2,19970905,       0000,    51.7133,   -21.5983,       2712,   203.2,  11.0871,  35.4806,2,  35.4802,2,   252.1,2,    4.62,2,   11.07,2,    0.02,2,    0.69,2,-999.000,9,-999.000,9,  -999.0,9,  11.0618
06MT19970815,      AR07E,     560,          1,     204325,         17,         17,2,19970905,       0000,    51.7133,   -21.5983,       2712,   401.5,  10.0512,  35.3296,2,  35.3314,2,   253.0,2,    5.51,2,   12.36,2,    0.03,2,    0.80,2,-999.000,9,-999.000,9,  -999.0,9,  10.0038
06MT19970815,      AR07E,     560,          1,     204324,         16,         16,2,19970905,       0000,    51.7133,   -21.5983,       2712,   601.1,   8.4250,  35.1229,2,  35.1161,2,   221.5,2,    9.06,2,   17.27,2,    0.02,2,    1.12,2,-999.000,9,-999.000,9,  -999.0,9,   8.3606
06MT19970815,      AR07E,     560,          1,     204323,         15,         15,2,19970905,       0000,    51.7133,   -21.5983,       2712,   804.6,   6.5516,  35.0474,2,  35.0475,2,   213.4,2,   11.40,2,   19.42,2,    0.02,2,    1.27,2,-999.000,9,-999.000,9,  -999.0,9,   6.4756
06MT19970815,      AR07E,     560,          1,     204322,         14,         14,2,19970905,       0000,    51.7133,   -21.5983,       2712,  1002.5,   5.2610,  35.0197,2,  35.0194,0,   237.0,2,   11.36,2,   18.91,2,    0.02,2,    1.23,2,-999.000,9,-999.000,9,  -999.0,9,   5.1746
06MT19970815,      AR07E,     560,          1,     204321,         13,         13,2,19970905,       0000,    51.7133,   -21.5983,       2712,  1201.2,   4.4267,  34.9636,2,  34.9635,2,   257.4,2,   11.21,2,   18.40,2,    0.01,2,    1.20,2,-999.000,9,-999.000,9,  -999.0,9,   4.3292
06MT19970815,      AR07E,     560,          1,     204320,         12,         12,2,19970905,       0000,    51.7133,   -21.5983,       2712,  1300.5,   4.1531,  34.9438,2,  34.9436,2,   263.2,2,   11.11,2,   18.15,2,    0.03,2,    1.18,2,-999.000,9,-999.000,9,  -999.0,9,   4.0493
06MT19970815,      AR07E,     560,          1,     204319,         11,         11,2,19970905,       0000,    51.7133,   -21.5983,       2712,  1400.7,   3.8951,  34.9220,2,  34.9225,2,   271.7,2,   10.98,2,   17.92,2,    0.02,2,    1.18,2,-999.000,9,-999.000,9,  -999.0,9,   3.7851
06MT19970815,      AR07E,     560,          1,     204318,         10,         10,2,19970905,       0000,    51.7133,   -21.5983,       2712,  1501.2,   3.7821,  34.9134,2,  34.9137,2,   274.0,2,   10.93,2,   17.72,2,    0.02,2,    1.16,2,-999.000,9,-999.000,9,  -999.0,9,   3.6644
06MT19970815,      AR07E,     560,          1,     204317,          9,          9,2,19970905,       0000,    51.7133,   -21.5983,       2712,  1599.8,   3.6354,  34.9012,2,  34.9011,2,   279.0,2,   10.86,2,   17.53,2,    0.02,2,    1.15,2,-999.000,9,-999.000,9,  -999.0,9,   3.5106
06MT19970815,      AR07E,     560,          1,     204316,          8,          8,2,19970905,       0000,    51.7133,   -21.5983,       2712,  1700.5,   3.5332,  34.8944,2,  34.8941,2,   281.2,2,   10.85,2,   17.45,2,    0.01,2,    1.15,2,-999.000,9,-999.000,9,  -999.0,9,   3.4006
06MT19970815,      AR07E,     560,          1,     204315,          7,          7,2,19970905,       0000,    51.7133,   -21.5983,       2712,  1799.3,   3.4564,  34.8910,2,  34.8902,2,   282.9,2,   10.83,2,   17.26,2,    0.02,2,    1.14,2,-999.000,9,-999.000,9,  -999.0,9,   3.3158
06MT19970815,      AR07E,     560,          1,     204314,          6,          6,2,19970905,       0000,    51.7133,   -21.5983,       2712,  1900.3,   3.3702,  34.8869,2,  34.8851,2,   284.9,2,   10.86,2,   17.27,2,    0.01,2,    1.13,2,-999.000,9,-999.000,9,  -999.0,9,   3.2215
06MT19970815,      AR07E,     560,          1,     204313,          5,          5,2,19970905,       0000,    51.7133,   -21.5983,       2712,  2000.1,   3.3165,  34.8861,2,  34.8840,2,   286.3,2,   10.93,2,   17.14,2,    0.02,2,    1.13,2,-999.000,9,-999.000,9,  -999.0,9,   3.1594
06MT19970815,      AR07E,     560,          1,     204312,          4,          4,2,19970905,       0000,    51.7133,   -21.5983,       2712,  2197.8,   3.2990,  34.9009,2,  34.9006,2,   282.5,2,   11.60,2,   17.05,2,    0.02,2,    1.13,2,-999.000,9,-999.000,9,  -999.0,9,   3.1234
06MT19970815,      AR07E,     560,          1,     204311,          3,          3,2,19970905,       0000,    51.7133,   -21.5983,       2712,  2402.3,   3.2692,  34.9175,2,  34.9166,2,   280.8,2,   12.44,2,   17.03,2,    0.01,2,    1.13,2,-999.000,9,-999.000,9,  -999.0,9,   3.0741
06MT19970815,      AR07E,     560,          1,     204310,          2,          2,2,19970905,       0000,    51.7133,   -21.5983,       2712,  2550.5,   3.2312,  34.9335,2,  34.9336,2,   276.3,2,   13.71,2,   17.08,2,    0.02,2,    1.13,2,-999.000,9,-999.000,9,  -999.0,9,   3.0220
06MT19970815,      AR07E,     560,          1,     204309,          1,          1,2,19970905,       0000,    51.7133,   -21.5983,       2712,  2652.2,   3.1634,  34.9394,2,  34.9397,2,   275.4,2,   15.04,2,   17.24,2,    0.01,2,    1.14,2,-999.000,9,-999.000,9,  -999.0,9,   2.9452
06MT19970815,      AR07E,     561,          1,     204352,         22,         22,2,19970906,       0000,    52.3150,   -21.1467,       3770,    15.8,  15.5565,  35.5186,2,  35.5193,2,   246.0,2,    0.40,2,    0.41,2,    0.08,2,    0.12,2,   2.952,2,   1.565,3,  2060.1,2,  15.5540
06MT19970815,      AR07E,     561,          1,     204351,         21,         21,2,19970906,       0000,    52.3150,   -21.1467,       3770,    50.1,  15.4817,  35.5329,2,  35.5105,2,   244.7,2,    0.54,2,    0.81,2,    0.13,2,    0.15,2,   2.986,2,   1.591,3,  2064.7,2,  15.4739
06MT19970815,      AR07E,     561,          1,     204350,         20,         20,2,19970906,       0000,    52.3150,   -21.1467,       3770,   100.5,  11.3176,  35.4404,2,  35.4362,2,   245.3,2,    3.96,2,   10.98,2,    0.04,2,    0.70,2,   3.498,2,   1.807,3,  2129.3,2,  11.3050
06MT19970815,      AR07E,     561,          1,     204349,         19,         19,2,19970906,       0000,    52.3150,   -21.1467,       3770,   200.1,  10.3779,  35.3660,2,  35.3673,2,   247.8,2,    5.29,2,   12.35,2,    0.02,2,    0.79,2,   3.400,2,   1.752,3,  2131.9,2,  10.3540
06MT19970815,      AR07E,     561,          1,     204348,         18,         18,2,19970906,       0000,    52.3150,   -21.1467,       3770,   400.4,   9.1124,  35.1952,2,  35.1898,2,   241.4,2,    6.99,2,   14.51,2,    0.02,2,    0.94,2,   3.234,2,   1.641,3,  2142.3,2,   9.0679
06MT19970815,      AR07E,     561,          1,     204347,         17,         17,2,19970906,       0000,    52.3150,   -21.1467,       3770,   598.7,   7.7801,  35.1875,2,  35.1892,2,   201.4,2,   10.57,2,   18.90,2,    0.02,2,    1.21,2,   2.045,2,   0.920,3,  2173.4,2,   7.7187
06MT19970815,      AR07E,     561,          1,     204346,         16,         16,2,19970906,       0000,    52.3150,   -21.1467,       3770,   800.8,   6.0800,  35.0979,2,  35.1013,2,   225.2,2,   11.07,2,   18.68,2,    0.02,2,    1.20,2,   2.209,2,   1.051,3,  -999.0,9,   6.0071
06MT19970815,      AR07E,     561,          1,     204345,         15,         15,2,19970906,       0000,    52.3150,   -21.1467,       3770,  1099.7,   4.6099,  34.9945,2,  34.9952,2,   252.3,2,   11.19,2,   18.36,2,    0.02,2,    1.19,2,   2.232,2,   0.984,3,  -999.0,9,   4.5199
06MT19970815,      AR07E,     561,          1,     204344,         14,         14,2,19970906,       0000,    52.3150,   -21.1467,       3770,  1351.6,   3.8225,  34.9178,2,  34.9193,2,   270.3,2,   10.93,2,   17.74,2,    0.01,2,    1.15,2,   2.371,2,   1.111,3,  -999.0,9,   3.7176
06MT19970815,      AR07E,     561,          1,     204343,         13,         13,2,19970906,       0000,    52.3150,   -21.1467,       3770,  1499.4,   3.6304,  34.9026,2,  34.9036,2,   277.2,2,   11.00,2,   17.45,2,    0.02,2,    1.15,2,   2.443,2,   1.063,3,  2153.5,2,   3.5146
06MT19970815,      AR07E,     561,          1,     204342,         12,         12,2,19970906,       0000,    52.3150,   -21.1467,       3770,  1746.6,   3.4244,  34.8972,2,  34.8968,2,   279.7,2,   11.46,2,   17.20,2,    0.01,2,    1.13,2,   2.293,2,   1.086,3,  2154.5,2,   3.2890
06MT19970815,      AR07E,     561,          1,     204341,         11,         11,2,19970906,       0000,    52.3150,   -21.1467,       3770,  1902.4,   3.3303,  34.8952,2,  34.8940,2,   282.1,2,   11.37,2,   17.06,2,    0.02,2,    1.12,2,   2.342,2,   1.096,3,  2152.1,2,   3.1820
06MT19970815,      AR07E,     561,          1,     204340,         10,         10,2,19970906,       0000,    52.3150,   -21.1467,       3770,  2200.1,   3.2885,  34.9200,2,  34.9214,2,   276.3,2,   12.95,2,   17.07,2,    0.01,2,    1.13,2,   1.695,2,   0.735,3,  2153.8,2,   3.1127
06MT19970815,      AR07E,     561,          1,     204339,          9,          9,2,19970906,       0000,    52.3150,   -21.1467,       3770,  2501.0,   3.1617,  34.9382,2,  34.9396,2,   274.5,2,   14.22,2,   16.92,2,    0.03,2,    1.12,2,   1.467,2,   0.641,3,  2155.8,2,   2.9587
06MT19970815,      AR07E,     561,          1,     204338,          8,          8,2,19970906,       0000,    52.3150,   -21.1467,       3770,  2801.1,   2.9729,  34.9485,2,  34.9486,2,   267.8,2,   19.07,2,   17.69,2,    0.01,2,    1.17,2,   1.157,2,   0.480,3,  2166.3,2,   2.7432
06MT19970815,      AR07E,     561,          1,     204337,          7,          7,2,19970906,       0000,    52.3150,   -21.1467,       3770,  3104.8,   2.7841,  34.9420,2,  34.9426,2,   260.9,2,   25.52,2,   18.80,2,    0.01,2,    1.25,2,   0.895,2,   0.359,3,  2173.7,2,   2.5270
06MT19970815,      AR07E,     561,          1,     204336,          6,          6,2,19970906,       0000,    52.3150,   -21.1467,       3770,  3404.8,   2.5934,  34.9221,2,  34.9225,2,   248.1,2,   37.18,2,   21.02,2,    0.01,2,    1.40,2,   0.333,2,   0.127,3,  2189.6,2,   2.3089
06MT19970815,      AR07E,     561,          1,     204335,          5,          5,2,19970906,       0000,    52.3150,   -21.1467,       3770,  3502.7,   2.5467,  34.9162,2,  34.9157,2,   244.3,2,   40.33,2,   21.70,2,    0.01,2,    1.45,2,   0.133,2,   0.042,3,  2194.7,2,   2.2527
06MT19970815,      AR07E,     561,          1,     204334,          4,          4,2,19970906,       0000,    52.3150,   -21.1467,       3770,  3602.0,   2.5136,  34.9127,2,  34.9125,2,   242.7,2,   41.84,2,   21.95,2,    0.02,2,    1.48,2,   0.086,2,   0.031,3,  2197.1,2,   2.2096
06MT19970815,      AR07E,     561,          1,     204333,          3,          3,2,19970906,       0000,    52.3150,   -21.1467,       3770,  3702.3,   2.4777,  34.9078,2,  34.9068,2,   242.1,2,   43.89,2,   22.30,2,    0.01,2,    1.50,2,   0.063,2,   0.018,3,  2199.5,2,   2.1636
06MT19970815,      AR07E,     561,          1,     204332,          2,          2,2,19970906,       0000,    52.3150,   -21.1467,       3770,  3746.3,   2.4749,  34.9069,2,  34.9066,2,   241.2,2,   43.83,2,   22.35,2,    0.01,2,    1.50,2,   0.054,2,   0.016,3,  2199.6,2,   2.1560
06MT19970815,      AR07E,     561,          1,     204331,          1,          1,2,19970906,       0000,    52.3150,   -21.1467,       3770,  3807.2,   2.4670,  34.9058,2,  34.9048,2,   240.7,2,   44.31,2,   22.35,2,    0.03,2,    1.51,2,   0.054,2,   0.017,3,  2200.8,2,   2.1415