BOTTLE,20220204CCHSIOENA
EXPOCODE,SECT_ID,STNNBR,CASTNO,BIONBR,SAMPNO,BTLNBR,BTLNBR_FLAG_W,DATE,TIME,LATITUDE,LONGITUDE,DEPTH,CTDPRS,CTDTMP,CTDSAL,CTDSAL_FLAG_W,SALNTY,SALNTY_FLAG_W,OXYGEN,OXYGEN_FLAG_W,SILCAT,SILCAT_FLAG_W,NITRAT,NITRAT_FLAG_W,NITRIT,NITRIT_FLAG_W,PHSPHT,PHSPHT_FLAG_W,CFC-11,CFC-11_FLAG_W,CFC-12,CFC-12_FLAG_W,TCARBN,TCARBN_FLAG_W,THETA
,,,,,,,,,,,,METERS,DBAR,ITS-90,PSS-78,,PSS-78,,UMOL/KG,,UMOL/KG,,UMOL/KG,,UMOL/KG,,UMOL/KG,,PMOL/KG,,PMOL/KG,,UMOL/KG,,DEG C
06MT19970815,      AR07E,     463,          1,     202417,         19,         19,2,19970816,       0000,    64.5100,   -33.8450,       1610,    12.2,  10.6190,  35.0183,2,  35.0154,2,   293.0,2,    0.89,2,    2.90,2,    0.12,2,    0.27,2,   4.028,2,   2.094,3,  -999.0,9,  10.6175
06MT19970815,      AR07E,     463,          1,     202416,         18,         18,2,19970816,       0000,    64.5100,   -33.8450,       1610,    51.5,   7.3054,  35.0416,2,  35.0387,2,   281.4,2,    4.37,2,   12.81,2,    0.44,2,    0.86,2,-999.000,9,-999.000,9,  -999.0,9,   7.3005
06MT19970815,      AR07E,     463,          1,     202415,         17,         17,2,19970816,       0000,    64.5100,   -33.8450,       1610,    99.8,   6.8889,  35.0808,2,  35.0816,2,   274.1,2,    7.37,2,   15.51,2,    0.03,2,    0.98,2,-999.000,9,-999.000,9,  -999.0,9,   6.8797
06MT19970815,      AR07E,     463,          1,     202414,         16,         16,2,19970816,       0000,    64.5100,   -33.8450,       1610,   200.4,   6.5763,  35.0661,2,  35.0702,2,   276.8,2,    7.54,2,   15.01,2,    0.03,2,    0.99,2,   4.149,2,   2.087,3,  -999.0,9,   6.5581
06MT19970815,      AR07E,     463,          1,     202413,         15,         15,2,19970816,       0000,    64.5100,   -33.8450,       1610,   300.5,   6.1094,  35.0288,2,  35.0280,2,   276.0,2,    8.00,2,   15.46,2,    0.03,2,    1.02,2,-999.000,9,-999.000,9,  -999.0,9,   6.0831
06MT19970815,      AR07E,     463,          1,     202412,         14,         14,2,19970816,       0000,    64.5100,   -33.8450,       1610,   400.7,   5.6008,  34.9871,2,  34.9883,2,   274.6,2,    8.55,2,   16.01,2,    0.02,2,    1.05,2,   3.989,2,   1.997,3,  -999.0,9,   5.5670
06MT19970815,      AR07E,     463,          1,     202411,         13,         13,2,19970816,       0000,    64.5100,   -33.8450,       1610,   501.5,   5.1786,  34.9615,2,  34.9612,2,   273.5,2,    8.97,2,   17.10,2,    0.02,2,    1.08,2,-999.000,9,-999.000,9,  -999.0,9,   5.1376
06MT19970815,      AR07E,     463,          1,     202409,         11,         11,2,19970816,       0000,    64.5100,   -33.8450,       1610,   700.5,   4.2465,  34.9094,2,  34.9103,2,   279.1,2,    9.45,2,   16.72,2,    0.02,2,    1.12,2,   3.885,2,   1.909,3,  -999.0,9,   4.1933
06MT19970815,      AR07E,     463,          1,     202408,         10,         10,2,19970816,       0000,    64.5100,   -33.8450,       1610,   800.0,   4.0040,  34.9066,2,  34.9103,2,   278.1,2,    9.73,2,   16.85,2,    0.02,2,    1.11,2,   3.594,2,   1.764,3,  -999.0,9,   3.9441
06MT19970815,      AR07E,     463,          1,     202407,          9,          9,2,19970816,       0000,    64.5100,   -33.8450,       1610,   900.6,   3.8190,  34.9156,2,  34.9162,2,   276.8,2,    9.81,2,   16.91,2,    0.02,2,    1.10,2,-999.000,9,-999.000,9,  -999.0,9,   3.7522
06MT19970815,      AR07E,     463,          1,     202406,          8,          8,2,19970816,       0000,    64.5100,   -33.8450,       1610,  1001.8,   3.5637,  34.9078,2,  34.9078,2,   281.0,2,    9.96,2,   16.44,2,    0.02,2,    1.11,2,   3.317,2,   1.617,3,  -999.0,9,   3.4906
06MT19970815,      AR07E,     463,          1,     202405,          7,          7,3,19970816,       0000,    64.5100,   -33.8450,       1610,  1100.4,   3.2868,  34.8893,2,  34.8897,2,   287.7,2,    9.87,2,   16.40,2,    0.02,2,    1.08,2,-999.000,9,-999.000,9,  -999.0,9,   3.2080
06MT19970815,      AR07E,     463,          1,     202404,          6,          6,2,19970816,       0000,    64.5100,   -33.8450,       1610,  1199.8,   3.0227,  34.8623,2,  34.8618,2,   298.1,3,    9.92,2,   17.22,2,    0.02,2,    1.11,2,   3.928,2,   1.912,3,  -999.0,9,   2.9384
06MT19970815,      AR07E,     463,          1,     202403,          5,          5,2,19970816,       0000,    64.5100,   -33.8450,       1610,  1299.4,   3.0492,  34.8789,2,  34.8781,2,   292.7,2,   10.37,2,   16.52,2,    0.02,2,    1.10,2,   3.413,2,   1.654,3,  -999.0,9,   2.9566
06MT19970815,      AR07E,     463,          1,     202402,          4,          4,2,19970816,       0000,    64.5100,   -33.8450,       1610,  1400.7,   2.5739,  34.8826,2,  34.8803,0,   291.8,2,    9.50,2,   15.73,2,    0.03,2,    1.04,2,-999.000,9,-999.000,9,  -999.0,9,   2.4781
06MT19970815,      AR07E,     463,          1,     202401,          3,          3,2,19970816,       0000,    64.5100,   -33.8450,       1610,  1500.1,   2.2836,  34.8805,2,  34.8809,2,   293.2,2,    8.82,2,   15.12,2,    0.04,2,    1.01,2,   3.573,2,   1.731,3,  -999.0,9,   2.1832
06MT19970815,      AR07E,     463,          1,     202400,          2,          2,2,19970816,       0000,    64.5100,   -33.8450,       1610,  1550.5,   1.9322,  34.8648,2,  34.8652,2,   297.9,2,    8.26,2,   14.64,2,    0.03,2,    0.97,2,   3.862,2,   1.882,3,  -999.0,9,   1.8321
06MT19970815,      AR07E,     463,          1,     202399,          1,          1,2,19970816,       0000,    64.5100,   -33.8450,       1610,  1602.3,   1.6390,  34.8816,2,  34.8813,2,   298.8,2,    8.47,2,   14.40,2,    0.04,2,    0.97,2,   3.574,2,   1.777,3,  -999.0,9,   1.5385
06MT19970815,      AR07E,     464,          1,     202398,         22,         22,2,19970816,       0000,    64.3283,   -33.6583,       1946,    10.5,   9.5063,  34.9917,2,  34.9916,2,   294.1,2,    1.42,2,    5.05,2,    0.19,2,    0.37,2,   4.193,2,   2.144,3,  2072.2,2,   9.5051
06MT19970815,      AR07E,     464,          1,     202397,         21,         21,2,19970816,       0000,    64.3283,   -33.6583,       1946,    50.4,   7.6879,  35.0305,2,  35.0429,2,   280.8,2,    3.55,2,   11.39,2,    0.41,2,    0.80,2,-999.000,9,-999.000,9,  2120.8,2,   7.6830
06MT19970815,      AR07E,     464,          1,     202396,         20,         20,2,19970816,       0000,    64.3283,   -33.6583,       1946,   101.1,   7.0494,  35.1033,2,  35.1059,2,   272.4,2,    7.23,2,   15.02,2,    0.03,2,    0.97,2,   4.148,2,   2.114,3,  2135.9,2,   7.0399
06MT19970815,      AR07E,     464,          1,     202395,         19,         19,2,19970816,       0000,    64.3283,   -33.6583,       1946,   202.2,   6.3835,  35.0397,2,  35.0415,2,   273.4,2,    7.86,2,   15.59,2,    0.02,2,    1.01,2,   4.144,2,   2.103,3,  2137.3,2,   6.3655
06MT19970815,      AR07E,     464,          1,     202394,         18,         18,2,19970816,       0000,    64.3283,   -33.6583,       1946,   301.3,   5.7841,  34.9960,2,  34.9970,2,  -999.0,9,    8.35,2,   16.30,2,    0.02,2,    1.05,2,-999.000,9,-999.000,9,  2138.5,2,   5.7585
06MT19970815,      AR07E,     464,          1,     202393,         17,         17,2,19970816,       0000,    64.3283,   -33.6583,       1946,   401.3,   5.2896,  34.9627,2,  34.9632,2,   274.6,2,    8.79,2,   16.40,2,    0.02,2,    1.07,2,-999.000,9,-999.000,9,  2139.8,2,   5.2567
06MT19970815,      AR07E,     464,          1,     202392,         16,         16,2,19970816,       0000,    64.3283,   -33.6583,       1946,   501.5,   4.8280,  34.9348,2,  34.9365,2,   272.7,2,    9.24,2,   16.75,2,    0.02,2,    1.10,2,   3.922,2,   1.958,3,  2143.0,2,   4.7883
06MT19970815,      AR07E,     464,          1,     202391,         15,         15,2,19970816,       0000,    64.3283,   -33.6583,       1946,   601.6,   4.3641,  34.9127,2,  34.9133,2,   278.2,2,    9.38,2,   17.04,2,    0.02,2,    1.11,2,-999.000,9,-999.000,9,  2151.8,2,   4.3183
06MT19970815,      AR07E,     464,          1,     202390,         14,         14,2,19970816,       0000,    64.3283,   -33.6583,       1946,   699.8,   4.1591,  34.9189,2,  34.9189,2,   273.4,2,    9.80,2,   17.33,2,    0.02,2,    1.12,2,   3.558,2,   1.761,3,  2147.9,2,   4.1064
06MT19970815,      AR07E,     464,          1,     202389,         13,         13,2,19970816,       0000,    64.3283,   -33.6583,       1946,   901.2,   3.9340,  34.9345,2,  34.9335,2,   271.3,2,   10.21,2,   17.17,2,    0.01,2,    1.12,2,   3.115,2,   1.516,3,  -999.0,9,   3.8663
06MT19970815,      AR07E,     464,          1,     202388,         12,         12,2,19970816,       0000,    64.3283,   -33.6583,       1946,  1001.3,   3.7337,  34.9256,2,  34.9258,2,   274.7,2,   10.24,2,   17.12,2,    0.01,2,    1.11,2,-999.000,9,-999.000,9,  2156.5,2,   3.6593
06MT19970815,      AR07E,     464,          1,     202387,         11,         11,2,19970816,       0000,    64.3283,   -33.6583,       1946,  1101.1,   3.5197,  34.9060,2,  34.9065,2,   280.5,2,   10.25,2,   17.34,2,    0.02,2,    1.11,2,   3.308,2,   1.607,3,  2155.1,2,   3.4389
06MT19970815,      AR07E,     464,          1,     202386,         10,         10,2,19970816,       0000,    64.3283,   -33.6583,       1946,  1200.9,   3.3684,  34.8949,2,  34.8951,2,   284.8,2,   10.20,2,   17.32,2,    0.02,2,    1.11,2,-999.000,9,-999.000,9,  2153.8,2,   3.2808
06MT19970815,      AR07E,     464,          1,     202385,          9,          9,2,19970816,       0000,    64.3283,   -33.6583,       1946,  1301.0,   3.2055,  34.8772,2,  34.8771,2,   290.1,2,   10.08,2,   17.20,2,    0.02,2,    1.11,2,   3.778,2,   1.780,3,  2151.9,2,   3.1112
06MT19970815,      AR07E,     464,          1,     202384,          8,          8,2,19970816,       0000,    64.3283,   -33.6583,       1946,  1401.0,   3.0976,  34.8676,2,  34.8679,2,   293.8,2,    9.99,2,   17.00,2,    0.01,2,    1.11,2,-999.000,9,-999.000,9,  2151.6,2,   2.9962
06MT19970815,      AR07E,     464,          1,     202383,          7,          7,2,19970816,       0000,    64.3283,   -33.6583,       1946,  1500.0,   2.9686,  34.8556,2,  34.8576,0,   297.3,2,    9.92,2,   17.64,2,    0.02,2,    1.09,2,   4.014,2,   1.972,3,  2149.6,2,   2.8604
06MT19970815,      AR07E,     464,          1,     202382,          6,          6,2,19970816,       0000,    64.3283,   -33.6583,       1946,  1600.7,   3.0150,  34.8745,2,  34.8745,2,   292.0,2,   10.39,2,   16.60,2,    0.01,2,    1.09,2,   3.404,2,   1.651,3,  2150.5,2,   2.8977
06MT19970815,      AR07E,     464,          1,     202381,          5,          5,2,19970816,       0000,    64.3283,   -33.6583,       1946,  1700.7,   3.0191,  34.8936,2,  34.8935,2,   286.4,2,   11.00,2,   16.75,2,    0.01,2,    1.09,2,   2.849,2,   1.392,3,  -999.0,9,   2.8931
06MT19970815,      AR07E,     464,          1,     202380,          4,          4,2,19970816,       0000,    64.3283,   -33.6583,       1946,  1801.1,   2.3795,  34.8742,2,  34.8748,2,   293.7,2,    9.02,2,   15.11,2,    0.02,2,    1.01,2,   3.653,2,   1.783,3,  2149.5,2,   2.2534
06MT19970815,      AR07E,     464,          1,     202379,          3,          3,2,19970816,       0000,    64.3283,   -33.6583,       1946,  1850.5,   1.8263,  34.8724,2,  34.8718,2,   297.4,2,    8.43,2,   14.31,2,    0.04,2,    0.98,2,   3.673,2,   1.797,3,  2149.3,2,   1.7039
06MT19970815,      AR07E,     464,          1,     202378,          2,          2,2,19970816,       0000,    64.3283,   -33.6583,       1946,  1899.7,   0.9749,  34.8867,2,  34.8868,2,   302.3,2,    7.70,2,   13.93,2,    0.03,2,    0.94,2,   3.709,2,   1.729,3,  2150.4,2,   0.8609
06MT19970815,      AR07E,     464,          1,     202377,          1,          1,2,19970816,       0000,    64.3283,   -33.6583,       1946,  1936.7,   0.6379,  34.8887,2,  34.8885,2,   303.8,2,    7.42,2,   13.63,2,    0.04,2,    0.92,2,   3.488,2,   1.688,3,  2150.2,2,   0.5262
06MT19970815,      AR07E,     465,          1,     202441,         21,         21,2,19970817,       0000,    64.1583,   -33.4250,       2235,     9.9,  10.5463,  35.0065,2,  34.9937,2,   290.3,2,    0.93,2,    3.20,2,    0.12,2,    0.27,2,   3.988,2,   2.088,3,  -999.0,9,  10.5451
06MT19970815,      AR07E,     465,          1,     202440,         20,         20,2,19970817,       0000,    64.1583,   -33.4250,       2235,    50.5,   7.2843,  35.0652,2,  35.0646,2,   278.5,2,    5.24,2,   13.59,2,    0.14,2,    0.88,2,   4.360,2,   2.239,3,  2057.0,2,   7.2795
06MT19970815,      AR07E,     465,          1,     202439,         19,         19,2,19970817,       0000,    64.1583,   -33.4250,       2235,   200.9,   5.9345,  35.0064,2,  35.0081,2,   277.6,2,    8.15,2,   15.77,2,    0.02,2,    1.03,2,-999.000,9,-999.000,9,  2144.5,2,   5.9173
06MT19970815,      AR07E,     465,          1,     202438,         18,         18,2,19970817,       0000,    64.1583,   -33.4250,       2235,   300.2,   5.2070,  34.9493,2,  34.9484,2,   281.1,2,    8.69,2,   16.22,2,    0.02,2,    1.07,2,   4.198,2,   2.104,3,  2148.4,2,   5.1828
06MT19970815,      AR07E,     465,          1,     202437,         17,         17,2,19970817,       0000,    64.1583,   -33.4250,       2235,   401.1,   4.7808,  34.9302,2,  34.9313,2,   280.1,2,    9.00,2,   16.44,2,    0.02,2,    1.09,2,-999.000,9,-999.000,9,  2150.0,2,   4.7495
06MT19970815,      AR07E,     465,          1,     202436,         16,         16,2,19970817,       0000,    64.1583,   -33.4250,       2235,   500.9,   4.5659,  34.9364,2,  34.9375,2,   270.9,2,    9.66,2,   17.16,2,    0.00,2,    1.12,2,   3.646,2,   1.793,3,  2153.7,2,   4.5273
06MT19970815,      AR07E,     465,          1,     202435,         15,         15,2,19970817,       0000,    64.1583,   -33.4250,       2235,   601.5,   4.0587,  34.8969,2,  34.8980,2,   282.4,2,    9.51,2,   17.13,2,    0.01,2,    1.11,2,-999.000,9,-999.000,9,  2151.9,2,   4.0143
06MT19970815,      AR07E,     465,          1,     202434,         14,         14,2,19970817,       0000,    64.1583,   -33.4250,       2235,   701.3,   3.7896,  34.8853,2,  34.8833,2,   284.5,2,    9.70,2,   17.11,2,    0.01,2,    1.12,2,   3.914,2,   1.931,3,  2152.8,2,   3.7388
06MT19970815,      AR07E,     465,          1,     202433,         13,         13,2,19970817,       0000,    64.1583,   -33.4250,       2235,   801.1,   3.7671,  34.9148,2,  34.9143,2,   276.8,2,   10.18,2,   17.24,2,    0.01,2,    1.12,2,-999.000,9,-999.000,9,  2154.0,2,   3.7086
06MT19970815,      AR07E,     465,          1,     202432,         12,         12,2,19970817,       0000,    64.1583,   -33.4250,       2235,   901.1,   3.5889,  34.9034,2,  34.9129,2,   280.1,2,    9.94,2,   17.10,2,    0.00,2,    1.10,2,   3.558,2,   1.752,3,  2152.2,2,   3.5236
06MT19970815,      AR07E,     465,          1,     202431,         11,         11,2,19970817,       0000,    64.1583,   -33.4250,       2235,   992.0,   3.4442,  34.8936,2,  34.8941,2,   284.3,2,   10.19,2,   17.12,2,    0.01,2,    1.12,2,-999.000,9,-999.000,9,  2152.1,2,   3.3728
06MT19970815,      AR07E,     465,          1,     202430,         10,         10,2,19970817,       0000,    64.1583,   -33.4250,       2235,  1099.4,   3.3067,  34.8843,2,  34.8856,2,   289.0,2,   10.15,2,   17.06,2,    0.00,2,    1.12,2,   3.583,2,   1.730,3,  2151.3,2,   3.2279
06MT19970815,      AR07E,     465,          1,     202429,          9,          9,2,19970817,       0000,    64.1583,   -33.4250,       2235,  1300.2,   3.1051,  34.8693,2,  34.8687,2,   295.8,2,   10.02,2,   16.98,2,    0.00,2,    1.11,2,   3.841,2,   1.852,3,  2149.3,2,   3.0119
06MT19970815,      AR07E,     465,          1,     202428,          8,          8,2,19970817,       0000,    64.1583,   -33.4250,       2235,  1400.6,   3.0123,  34.8586,2,  34.8578,2,   298.8,2,    9.83,2,   16.97,2,    0.00,2,    1.11,2,-999.000,9,-999.000,9,  2148.6,2,   2.9119
06MT19970815,      AR07E,     465,          1,     202427,          7,          7,2,19970817,       0000,    64.1583,   -33.4250,       2235,  1500.6,   2.9564,  34.8523,2,  34.8532,2,   300.4,2,    9.78,2,   16.83,2,    0.01,2,    1.10,2,   4.038,2,   1.939,3,  2148.9,2,   2.8483
06MT19970815,      AR07E,     465,          1,     202426,          6,          6,2,19970817,       0000,    64.1583,   -33.4250,       2235,  1642.3,   2.9274,  34.8519,2,  34.8515,2,   300.3,2,    9.85,2,   16.80,2,    0.00,2,    1.10,2,-999.000,9,-999.000,9,  2147.5,2,   2.8077
06MT19970815,      AR07E,     465,          1,     202425,          5,          5,2,19970817,       0000,    64.1583,   -33.4250,       2235,  1799.9,   3.0339,  34.8812,2,  34.8810,2,   292.2,2,   10.53,2,   16.77,2,    0.00,2,    1.09,2,-999.000,9,-999.000,9,  2148.6,2,   2.8990
06MT19970815,      AR07E,     465,          1,     202424,          4,          4,2,19970817,       0000,    64.1583,   -33.4250,       2235,  2000.9,   2.9999,  34.9024,2,  34.9027,2,   286.9,2,   11.37,2,   16.57,2,    0.00,2,    1.09,2,   2.627,2,   1.249,3,  2149.0,2,   2.8474
06MT19970815,      AR07E,     465,          1,     202423,          3,          3,2,19970817,       0000,    64.1583,   -33.4250,       2235,  2100.3,   2.4141,  34.8785,2,  34.8755,0,   294.4,2,    9.06,2,   15.18,2,    0.02,2,    1.01,2,   3.559,2,   1.729,3,  2147.2,2,   2.2617
06MT19970815,      AR07E,     465,          1,     202422,          2,          2,2,19970817,       0000,    64.1583,   -33.4250,       2235,  2202.0,   1.2183,  34.8679,2,  34.8674,2,   304.7,2,    7.93,2,   13.98,2,    0.03,2,    0.95,2,-999.000,9,-999.000,9,  2146.6,2,   1.0768
06MT19970815,      AR07E,     465,          1,     202421,          1,          1,2,19970817,       0000,    64.1583,   -33.4250,       2235,  2236.5,   0.4534,  34.8853,2,  34.8850,2,   307.4,2,    7.65,2,   13.69,2,    0.02,2,    0.92,2,   3.584,2,   1.676,3,  2148.6,2,   0.3221