BOTTLE,20220204CCHSIOENA
EXPOCODE,SECT_ID,STNNBR,CASTNO,BIONBR,SAMPNO,BTLNBR,BTLNBR_FLAG_W,DATE,TIME,LATITUDE,LONGITUDE,DEPTH,CTDPRS,CTDTMP,CTDSAL,CTDSAL_FLAG_W,SALNTY,SALNTY_FLAG_W,OXYGEN,OXYGEN_FLAG_W,SILCAT,SILCAT_FLAG_W,NITRAT,NITRAT_FLAG_W,NITRIT,NITRIT_FLAG_W,PHSPHT,PHSPHT_FLAG_W,CFC-11,CFC-11_FLAG_W,CFC-12,CFC-12_FLAG_W,TCARBN,TCARBN_FLAG_W,THETA
,,,,,,,,,,,,METERS,DBAR,ITS-90,PSS-78,,PSS-78,,UMOL/KG,,UMOL/KG,,UMOL/KG,,UMOL/KG,,UMOL/KG,,PMOL/KG,,PMOL/KG,,UMOL/KG,,DEG C
06MT19970815,      AR07E,     545,          1,     -999.0,         21,         21,2,19970902,       0000,    51.8650,   -29.2650,       3225,     7.0,  14.1950,  34.7830,-999,-999.0000,9,  -999.0,9, -999.00,9, -999.00,9, -999.00,9, -999.00,9,-999.000,9,-999.000,9,  2043.7,2,  14.1940
06MT19970815,      AR07E,     545,          1,     203968,         20,         20,3,19970902,       0000,    51.8650,   -29.2650,       3225,    12.2,  13.9856,  34.8636,2,  34.8552,2,   257.1,2,    1.11,2,    0.59,2,    0.11,2,    0.17,2,-999.000,9,-999.000,9,  2045.1,2,  13.9839
06MT19970815,      AR07E,     545,          1,     203967,         19,         19,2,19970902,       0000,    51.8650,   -29.2650,       3225,    49.4,  13.5563,  34.8464,2,  34.8586,2,   253.6,2,    1.42,2,    1.40,2,    0.18,2,    0.25,2,   3.803,2,   1.915,3,  2053.1,2,  13.5494
06MT19970815,      AR07E,     545,          1,     203966,         18,         18,2,19970902,       0000,    51.8650,   -29.2650,       3225,   100.6,   9.2678,  35.0009,2,  34.9952,2,   238.9,2,    5.30,2,   12.36,2,    0.03,2,    0.83,2,-999.000,9,-999.000,9,  -999.0,9,   9.2567
06MT19970815,      AR07E,     545,          1,     203965,         17,         17,2,19970902,       0000,    51.8650,   -29.2650,       3225,   200.6,   7.8389,  35.0211,2,  35.0182,2,   238.6,2,    8.39,2,   15.82,2,    0.02,2,    1.04,2,   3.396,2,   1.721,3,  -999.0,9,   7.8188
06MT19970815,      AR07E,     545,          1,     203964,         16,         16,2,19970902,       0000,    51.8650,   -29.2650,       3225,   401.2,   5.5248,  34.8538,2,  34.8509,2,   246.9,2,   10.04,2,   17.57,2,    0.02,2,    1.16,2,   3.515,2,   1.729,3,  -999.0,9,   5.4913
06MT19970815,      AR07E,     545,          1,     203963,         15,         15,2,19970902,       0000,    51.8650,   -29.2650,       3225,   600.4,   4.7483,  34.9253,2,  34.9246,2,   245.2,2,   11.08,2,   18.54,2,    0.01,2,    1.21,2,   2.982,2,   1.437,3,  -999.0,9,   4.7008
06MT19970815,      AR07E,     545,          1,     203962,         14,         14,3,19970902,       0000,    51.8650,   -29.2650,       3225,   800.3,   4.2318,  34.9305,2,  34.9312,2,   258.7,2,   10.91,2,   18.19,2,    0.01,2,    1.19,2,   2.963,2,   1.417,3,  -999.0,9,   4.1704
06MT19970815,      AR07E,     545,          1,     203961,         13,         13,2,19970902,       0000,    51.8650,   -29.2650,       3225,  1000.4,   4.0335,  34.9208,2,  34.9218,2,   265.2,2,   10.78,2,   17.99,2,    0.01,2,    1.17,2,   2.995,2,   1.436,3,  -999.0,9,   3.9568
06MT19970815,      AR07E,     545,          1,     203960,         12,         12,2,19970902,       0000,    51.8650,   -29.2650,       3225,  1201.2,   3.8426,  34.9117,2,  34.9122,2,   270.3,2,   10.72,2,   17.79,2,    0.01,2,    1.15,2,   3.001,2,   1.414,3,  -999.0,9,   3.7505
06MT19970815,      AR07E,     545,          1,     203959,         11,         11,2,19970902,       0000,    51.8650,   -29.2650,       3225,  1500.3,   3.3120,  34.8821,2,  34.8818,2,   286.1,2,   10.18,2,   16.83,2,    0.01,2,    1.10,2,   3.574,2,   1.675,3,  -999.0,9,   3.1998
06MT19970815,      AR07E,     545,          1,     203958,         10,         10,2,19970902,       0000,    51.8650,   -29.2650,       3225,  1599.2,   3.1862,  34.8884,2,  34.8880,2,   286.5,2,   10.42,2,   16.62,2,    0.01,2,    1.09,2,   3.322,2,   1.566,3,  -999.0,9,   3.0669
06MT19970815,      AR07E,     545,          1,     203957,          9,          9,3,19970902,       0000,    51.8650,   -29.2650,       3225,  1700.0,   3.1561,  34.9029,2,  34.9024,2,   284.5,2,   11.07,2,   16.68,2,    0.01,2,    1.10,2,   2.826,2,   1.345,3,  -999.0,9,   3.0283
06MT19970815,      AR07E,     545,          1,     203956,          8,          8,2,19970902,       0000,    51.8650,   -29.2650,       3225,  1801.0,   3.1418,  34.9113,2,  34.9216,0,   281.2,2,   11.53,2,   16.73,2,    0.01,2,    1.10,2,   2.504,2,   1.187,3,  -999.0,9,   3.0052
06MT19970815,      AR07E,     545,          1,     203955,          7,          7,2,19970902,       0000,    51.8650,   -29.2650,       3225,  2000.4,   3.0936,  34.9215,2,  34.9213,2,   278.3,2,   12.82,2,   16.90,2,    0.00,2,    1.11,2,   1.988,2,   0.951,3,  -999.0,9,   2.9396
06MT19970815,      AR07E,     545,          1,     203954,          6,          6,3,19970902,       0000,    51.8650,   -29.2650,       3225,  2200.6,   3.0795,  34.9257,2,  34.9255,2,   276.8,2,   13.52,2,   16.88,2,    0.01,2,    1.12,2,   1.679,2,   0.895,3,  -999.0,9,   2.9071
06MT19970815,      AR07E,     545,          1,     203953,          5,          5,2,19970902,       0000,    51.8650,   -29.2650,       3225,  2400.7,   3.0375,  34.9327,2,  34.9323,2,   274.4,2,   14.67,2,   16.94,2,    0.01,2,    1.12,2,   1.697,2,   0.824,3,  -999.0,9,   2.8466
06MT19970815,      AR07E,     545,          1,     203952,          4,          4,2,19970902,       0000,    51.8650,   -29.2650,       3225,  2802.6,   2.9554,  34.9431,2,  34.9423,2,   272.9,2,   16.40,2,   16.93,2,    0.02,2,    1.13,2,   1.680,2,   0.818,3,  -999.0,9,   2.7260
06MT19970815,      AR07E,     545,          1,     203951,          3,          3,2,19970902,       0000,    51.8650,   -29.2650,       3225,  3003.4,   2.9387,  34.9434,2,  34.9438,2,   273.4,2,   16.98,2,   16.98,2,    0.01,2,    1.12,2,   1.628,2,   0.790,3,  -999.0,9,   2.6888
06MT19970815,      AR07E,     545,          1,     203950,          2,          2,2,19970902,       0000,    51.8650,   -29.2650,       3225,  3121.7,   2.9347,  34.9437,2,  34.9443,2,   272.7,2,   17.17,2,   17.02,2,    0.01,2,    1.12,2,   1.627,2,   0.783,3,  -999.0,9,   2.6724
06MT19970815,      AR07E,     545,          1,     203949,          1,          1,2,19970902,       0000,    51.8650,   -29.2650,       3225,  3213.4,   2.9281,  34.9442,2,  34.9446,2,   272.1,2,   17.29,2,   17.03,2,    0.01,2,    1.13,2,   1.615,2,   0.790,3,  -999.0,9,   2.6562
06MT19970815,      AR07E,     546,          1,     203991,         21,         21,2,19970902,       0000,    52.2833,   -28.7000,       3150,    13.0,  14.2804,  34.9360,2,  34.9284,2,  -999.0,9,    1.23,2,    0.46,2,    0.08,2,    0.15,2,   3.182,2,   1.709,3,  2046.6,2,  14.2785
06MT19970815,      AR07E,     546,          1,     203990,         20,         20,2,19970902,       0000,    52.2833,   -28.7000,       3150,    51.4,  11.0898,  35.0248,2,  35.0361,2,   243.7,2,    3.33,2,    8.55,2,    0.18,2,    0.61,2,-999.000,9,-999.000,9,  2105.0,2,  11.0835
06MT19970815,      AR07E,     546,          1,     203989,         19,         19,2,19970902,       0000,    52.2833,   -28.7000,       3150,    99.2,  10.0221,  35.1336,2,  35.1325,2,  -999.0,9,    5.16,2,   11.70,2,    0.05,2,    0.77,2,   3.564,2,   1.837,3,  2124.0,2,  10.0106
06MT19970815,      AR07E,     546,          1,     203988,         18,         18,2,19970902,       0000,    52.2833,   -28.7000,       3150,   200.5,   9.2772,  35.1995,2,  35.1987,2,   237.2,2,    6.97,2,   14.57,2,    0.03,2,    0.95,2,-999.000,9,-999.000,9,  2140.5,2,   9.2549
06MT19970815,      AR07E,     546,          1,     203987,         17,         17,2,19970902,       0000,    52.2833,   -28.7000,       3150,   302.2,   7.7941,  35.0320,2,  35.0293,2,   227.2,2,    9.22,2,   16.83,2,    0.02,2,    1.11,2,   3.023,2,   1.541,3,  2151.5,2,   7.7637
06MT19970815,      AR07E,     546,          1,     203986,         16,         16,2,19970902,       0000,    52.2833,   -28.7000,       3150,   502.4,   6.1502,  35.0284,2,  35.0286,2,   213.1,2,   11.72,2,   19.42,2,    0.04,2,    1.27,2,   2.162,2,   1.003,3,  2171.2,2,   6.1053
06MT19970815,      AR07E,     546,          1,     203985,         15,         15,2,19970902,       0000,    52.2833,   -28.7000,       3150,   702.5,   4.8115,  34.9730,2,  34.9682,2,   242.7,2,   11.34,2,   18.63,2,    0.02,2,    1.22,2,   2.503,2,   1.203,3,  2165.6,2,   4.7550
06MT19970815,      AR07E,     546,          1,     203984,         14,         14,2,19970902,       0000,    52.2833,   -28.7000,       3150,   901.3,   4.1958,  34.9478,2,  34.9486,2,   259.2,2,   11.08,2,   18.09,2,    0.03,2,    1.19,2,   2.501,2,   1.188,3,  2160.4,2,   4.1262
06MT19970815,      AR07E,     546,          1,     203983,         13,         13,2,19970902,       0000,    52.2833,   -28.7000,       3150,  1000.7,   4.0051,  34.9337,2,  34.9338,2,   264.7,2,   11.03,2,   17.94,2,    0.01,2,    1.17,2,   2.467,2,   1.186,3,  2159.0,2,   3.9286
06MT19970815,      AR07E,     546,          1,     203982,         12,         12,2,19970902,       0000,    52.2833,   -28.7000,       3150,  1200.4,   3.6521,  34.9065,2,  34.9070,2,   273.8,2,   10.88,2,   17.51,2,    0.03,2,    1.15,2,   2.601,2,   1.228,3,  2155.1,2,   3.5619
06MT19970815,      AR07E,     546,          1,     203981,         11,         11,2,19970902,       0000,    52.2833,   -28.7000,       3150,  1400.6,   3.4141,  34.8888,2,  34.8887,2,   281.5,2,   10.74,2,   17.39,2,    0.02,2,    1.14,2,   2.843,2,   1.343,3,  2154.1,2,   3.3093
06MT19970815,      AR07E,     546,          1,     203980,         10,         10,2,19970902,       0000,    52.2833,   -28.7000,       3150,  1500.3,   3.3444,  34.8851,2,  34.8847,2,   282.4,2,   10.87,2,   17.18,2,    0.02,2,    1.13,2,   2.935,2,   1.376,3,  2152.7,2,   3.2318
06MT19970815,      AR07E,     546,          1,     203979,          9,          9,3,19970902,       0000,    52.2833,   -28.7000,       3150,  1600.8,   3.2849,  34.8815,2,  34.8823,0,   284.6,2,   10.77,2,   16.97,2,    0.04,2,    1.12,2,   2.935,2,   1.381,3,  2152.8,2,   3.1643
06MT19970815,      AR07E,     546,          1,     203978,          8,          8,2,19970902,       0000,    52.2833,   -28.7000,       3150,  1700.3,   3.2452,  34.8813,2,  34.8812,2,   284.6,2,   10.80,2,   16.92,2,    0.02,2,    1.11,2,   2.973,2,   1.392,3,  2152.8,2,   3.1163
06MT19970815,      AR07E,     546,          1,     203977,          7,          7,2,19970902,       0000,    52.2833,   -28.7000,       3150,  1900.5,   3.1944,  34.8885,2,  34.8878,2,   284.6,2,   11.20,2,   16.94,2,    0.02,2,    1.11,2,   2.736,2,   1.278,3,  2152.4,2,   3.0482
06MT19970815,      AR07E,     546,          1,     203976,          6,          6,2,19970902,       0000,    52.2833,   -28.7000,       3150,  2100.8,   3.1613,  34.8985,2,  34.8954,0,   283.3,2,   11.52,2,   16.68,2,    0.03,2,    1.11,2,   2.671,2,   1.257,3,  2153.7,2,   2.9971
06MT19970815,      AR07E,     546,          1,     203975,          5,          5,2,19970902,       0000,    52.2833,   -28.7000,       3150,  2301.7,   3.1630,  34.9182,2,  34.9163,2,   279.6,2,   12.33,2,   16.74,2,    0.03,2,    1.11,2,   2.204,2,   1.047,3,  2154.1,2,   2.9796
06MT19970815,      AR07E,     546,          1,     203974,          4,          4,2,19970902,       0000,    52.2833,   -28.7000,       3150,  2501.9,   3.1222,  34.9319,2,  34.9310,2,   276.1,2,   13.18,2,   16.75,2,    0.03,2,    1.11,2,   1.868,2,   0.916,3,  2156.5,2,   2.9198
06MT19970815,      AR07E,     546,          1,     203973,          3,          3,2,19970902,       0000,    52.2833,   -28.7000,       3150,  2802.8,   3.0256,  34.9408,2,  34.9312,0,   274.1,2,   15.15,2,   16.87,2,    0.01,2,    1.12,2,   1.658,2,   0.810,3,  2159.9,2,   2.7947
06MT19970815,      AR07E,     546,          1,     203972,          2,          2,2,19970902,       0000,    52.2833,   -28.7000,       3150,  3002.3,   2.9142,  34.9463,2,  34.9471,2,   270.4,2,   17.70,2,   17.19,2,    0.01,2,    1.13,2,   1.556,2,   0.765,3,  2163.7,2,   2.6650
06MT19970815,      AR07E,     546,          1,     203971,          1,          1,2,19970902,       0000,    52.2833,   -28.7000,       3150,  3102.4,   2.8954,  34.9506,2,  34.9514,2,   271.5,2,   16.87,2,   16.85,2,    0.02,2,    1.13,2,   1.702,2,   0.839,3,  -999.0,9,   2.6360
06MT19970815,      AR07E,     547,          1,     204014,         22,         22,2,19970902,       0000,    52.7817,   -28.0300,       3465,    15.8,  13.8795,  34.9206,2,  34.9135,2,   260.8,2,    0.70,2,    0.44,2,    0.10,2,    0.12,2,   3.263,2,   1.742,3,  2040.7,2,  13.8772
06MT19970815,      AR07E,     547,          1,     204013,         21,         21,2,19970902,       0000,    52.7817,   -28.0300,       3465,    99.9,   8.9082,  35.0738,2,  35.0807,2,   241.2,2,    6.94,2,   14.33,2,    0.05,2,    0.93,2,   3.475,2,   1.789,3,  -999.0,9,   8.8975
06MT19970815,      AR07E,     547,          1,     204012,         20,         20,2,19970902,       0000,    52.7817,   -28.0300,       3465,   200.3,   7.4659,  34.9898,2,  34.9821,2,   245.4,2,    8.44,2,   15.68,2,    0.05,2,    1.02,2,   3.479,2,   1.774,3,  -999.0,9,   7.4464
06MT19970815,      AR07E,     547,          1,     204011,         19,         19,2,19970902,       0000,    52.7817,   -28.0300,       3465,   401.0,   5.6189,  34.9175,2,  34.9114,2,   242.7,2,   10.21,2,   18.01,2,    0.04,2,    1.18,2,-999.000,9,-999.000,9,  -999.0,9,   5.5850
06MT19970815,      AR07E,     547,          1,     204010,         18,         18,2,19970902,       0000,    52.7817,   -28.0300,       3465,   600.5,   4.5765,  34.9311,2,  34.9293,2,   248.9,2,   11.01,2,   18.44,2,    0.03,2,    1.20,2,   2.971,2,   1.474,3,  -999.0,9,   4.5298
06MT19970815,      AR07E,     547,          1,     204009,         17,         17,2,19970902,       0000,    52.7817,   -28.0300,       3465,   800.0,   4.1109,  34.9287,2,  34.9291,2,   260.7,2,   10.98,2,   18.03,2,    0.03,2,    1.18,2,   2.909,2,   1.381,3,  -999.0,9,   4.0503
06MT19970815,      AR07E,     547,          1,     204008,         16,         16,2,19970902,       0000,    52.7817,   -28.0300,       3465,  1000.9,   3.7245,  34.9088,2,  34.9087,2,   272.7,2,   10.78,2,   17.66,2,    0.03,2,    1.15,2,   2.830,2,   1.347,3,  -999.0,9,   3.6502
06MT19970815,      AR07E,     547,          1,     204007,         15,         15,2,19970902,       0000,    52.7817,   -28.0300,       3465,  1200.0,   3.4937,  34.8950,2,  34.8947,2,   278.2,2,   10.75,2,   17.30,2,    0.02,2,    1.14,2,   2.917,2,   1.388,3,  -999.0,9,   3.4050
06MT19970815,      AR07E,     547,          1,     204006,         14,         14,2,19970902,       0000,    52.7817,   -28.0300,       3465,  1400.9,   3.3285,  34.8850,2,  34.8878,0,   283.8,2,   10.69,2,   17.14,2,    0.01,2,    1.13,2,   3.016,2,   1.439,3,  -999.0,9,   3.2246
06MT19970815,      AR07E,     547,          1,     204005,         13,         13,2,19970902,       0000,    52.7817,   -28.0300,       3465,  1499.7,   3.2634,  34.8817,2,  34.8816,2,   284.2,2,   10.73,2,   17.13,2,    0.02,2,    1.12,2,   3.026,2,   1.437,3,  -999.0,9,   3.1518
06MT19970815,      AR07E,     547,          1,     204004,         12,         12,2,19970902,       0000,    52.7817,   -28.0300,       3465,  1599.7,   3.2186,  34.8817,2,  34.8816,2,   285.5,2,   10.73,2,   16.97,2,    0.02,2,    1.13,2,   3.006,2,   1.431,3,  -999.0,9,   3.0989
06MT19970815,      AR07E,     547,          1,     204003,         11,         11,2,19970902,       0000,    52.7817,   -28.0300,       3465,  1700.4,   3.1893,  34.8821,2,  34.8809,2,   287.2,2,   10.78,2,   16.90,2,    0.01,2,    1.12,2,   3.032,2,   1.427,3,  -999.0,9,   3.0611
06MT19970815,      AR07E,     547,          1,     204002,         10,         10,2,19970902,       0000,    52.7817,   -28.0300,       3465,  1799.1,   3.1713,  34.8867,2,  34.8860,2,   285.3,2,   10.89,2,   16.82,2,    0.03,2,    1.11,2,   2.906,2,   1.385,3,  -999.0,9,   3.0346
06MT19970815,      AR07E,     547,          1,     204001,          9,          9,2,19970902,       0000,    52.7817,   -28.0300,       3465,  1999.6,   3.1904,  34.9066,2,  34.9058,2,   281.5,2,   11.55,2,   16.79,2,    0.02,2,    1.12,2,   2.420,2,   1.164,3,  -999.0,9,   3.0351
06MT19970815,      AR07E,     547,          1,     204000,          8,          8,2,19970902,       0000,    52.7817,   -28.0300,       3465,  2200.7,   3.1924,  34.9263,2,  34.9267,2,   277.1,2,   12.42,2,   16.74,2,    0.02,2,    1.11,2,   1.936,2,   0.935,3,  -999.0,9,   3.0181
06MT19970815,      AR07E,     547,          1,     203999,          7,          7,2,19970902,       0000,    52.7817,   -28.0300,       3465,  2400.1,   3.1603,  34.9423,2,  34.9434,2,   274.7,2,   13.09,2,   16.66,2,    0.02,2,    1.11,2,   1.731,2,   0.844,3,  -999.0,9,   2.9672
06MT19970815,      AR07E,     547,          1,     203998,          6,          6,2,19970902,       0000,    52.7817,   -28.0300,       3465,  2601.1,   3.0626,  34.9500,2,  34.9499,2,   272.3,2,   14.45,2,   16.73,2,    0.02,2,    1.11,2,   1.632,2,   0.749,3,  -999.0,9,   2.8514
06MT19970815,      AR07E,     547,          1,     203997,          5,          5,2,19970902,       0000,    52.7817,   -28.0300,       3465,  2801.0,   2.9574,  34.9571,2,  34.9565,2,   271.6,2,   15.89,2,   16.92,2,    0.02,2,    1.12,2,   1.636,2,   0.818,3,  -999.0,9,   2.7280
06MT19970815,      AR07E,     547,          1,     203996,          4,          4,2,19970902,       0000,    52.7817,   -28.0300,       3465,  3001.3,   2.8755,  34.9551,2,  34.9548,2,   268.6,2,   18.21,2,   17.14,2,    0.01,2,    1.15,2,   1.526,2,   0.695,3,  -999.0,9,   2.6272
06MT19970815,      AR07E,     547,          1,     203995,          3,          3,2,19970902,       0000,    52.7817,   -28.0300,       3465,  3200.5,   2.8094,  34.9503,2,  34.9505,2,   266.5,2,   21.18,2,   17.64,2,    0.02,2,    1.19,2,   1.402,2,   0.693,3,  -999.0,9,   2.5416
06MT19970815,      AR07E,     547,          1,     203994,          2,          2,2,19970902,       0000,    52.7817,   -28.0300,       3465,  3402.8,   2.7443,  34.9442,2,  34.9453,2,   261.5,2,   25.16,2,   18.34,2,    0.01,2,    1.23,2,   1.217,2,   0.556,3,  -999.0,9,   2.4562
06MT19970815,      AR07E,     547,          1,     203993,          1,          1,2,19970902,       0000,    52.7817,   -28.0300,       3465,  3502.4,   2.7152,  34.9452,2,  34.9462,2,   264.5,2,   25.18,2,   18.29,2,    0.03,2,    1.23,2,   1.366,2,   0.692,3,  -999.0,9,   2.4169