BOTTLE,20220204CCHSIOENA
EXPOCODE,SECT_ID,STNNBR,CASTNO,BIONBR,SAMPNO,BTLNBR,BTLNBR_FLAG_W,DATE,TIME,LATITUDE,LONGITUDE,DEPTH,CTDPRS,CTDTMP,CTDSAL,CTDSAL_FLAG_W,SALNTY,SALNTY_FLAG_W,OXYGEN,OXYGEN_FLAG_W,SILCAT,SILCAT_FLAG_W,NITRAT,NITRAT_FLAG_W,NITRIT,NITRIT_FLAG_W,PHSPHT,PHSPHT_FLAG_W,CFC-11,CFC-11_FLAG_W,CFC-12,CFC-12_FLAG_W,TCARBN,TCARBN_FLAG_W,THETA
,,,,,,,,,,,,METERS,DBAR,ITS-90,PSS-78,,PSS-78,,UMOL/KG,,UMOL/KG,,UMOL/KG,,UMOL/KG,,UMOL/KG,,PMOL/KG,,PMOL/KG,,UMOL/KG,,DEG C
06MT19970815,      AR07E,     568,          1,     204506,         22,         22,2,19970909,       0000,    52.3317,   -16.8283,       3822,    15.8,  15.4829,  35.5552,2,  35.5555,2,   248.8,2,    0.44,2,    0.83,2,    0.14,2,    0.14,2,   2.950,2,   1.679,3,  2071.5,2,  15.4805
06MT19970815,      AR07E,     568,          1,     204505,         21,         21,2,19970909,       0000,    52.3317,   -16.8283,       3822,    50.1,  15.2994,  35.5650,2,  35.5779,2,   244.2,2,    0.88,2,    2.29,2,    0.20,2,    0.23,2,-999.000,9,-999.000,9,  -999.0,9,  15.2917
06MT19970815,      AR07E,     568,          1,     204504,         20,         20,2,19970909,       0000,    52.3317,   -16.8283,       3822,   100.5,  12.2513,  35.6282,2,  35.6297,2,   239.5,2,    3.06,2,    9.42,2,    0.06,2,    0.57,2,   3.346,2,   1.680,3,  -999.0,9,  12.2380
06MT19970815,      AR07E,     568,          1,     204503,         19,         19,2,19970909,       0000,    52.3317,   -16.8283,       3822,   201.1,  11.5893,  35.5617,2,  35.5655,2,   247.5,2,    3.88,2,   10.18,2,    0.03,2,    0.62,2,   3.340,2,   1.779,3,  -999.0,9,  11.5635
06MT19970815,      AR07E,     568,          1,     204502,         18,         18,2,19970909,       0000,    52.3317,   -16.8283,       3822,   302.3,  10.9707,  35.4760,2,  35.4774,2,   246.8,2,    4.52,2,   11.28,2,    0.02,2,    0.71,2,   3.366,2,   1.775,3,  -999.0,9,  10.9331
06MT19970815,      AR07E,     568,          1,     204501,         17,         17,2,19970909,       0000,    52.3317,   -16.8283,       3822,   500.9,  10.3057,  35.3936,2,  35.3909,2,   245.0,2,    5.28,2,   12.44,2,    0.02,2,    0.78,2,   3.353,2,   1.768,3,  -999.0,9,  10.2453
06MT19970815,      AR07E,     568,          1,     204500,         16,         16,2,19970909,       0000,    52.3317,   -16.8283,       3822,   701.0,   9.2203,  35.3095,2,  35.2997,0,   227.4,2,    7.49,2,   15.33,2,    0.02,2,    0.97,2,   2.912,2,   1.505,3,  -999.0,9,   9.1405
06MT19970815,      AR07E,     568,          1,     204499,         15,         15,2,19970909,       0000,    52.3317,   -16.8283,       3822,   900.7,   7.8661,  35.2656,2,  35.2657,2,   203.7,2,   10.40,2,   18.42,2,    0.02,2,    1.17,2,   1.937,2,   0.971,3,  -999.0,9,   7.7714
06MT19970815,      AR07E,     568,          1,     204498,         14,         14,2,19970909,       0000,    52.3317,   -16.8283,       3822,  1100.7,   6.0551,  35.1160,2,  35.1135,0,   223.8,2,   11.30,2,   18.87,2,    0.01,2,    1.21,2,   2.058,2,   0.991,3,  -999.0,9,   5.9528
06MT19970815,      AR07E,     568,          1,     204497,         13,         13,2,19970909,       0000,    52.3317,   -16.8283,       3822,  1300.7,   4.9919,  35.0290,2,-999.0000,9,   243.6,2,   11.30,2,   18.39,2,    0.02,2,    1.19,2,   2.183,2,   1.063,3,  -999.0,9,   4.8797
06MT19970815,      AR07E,     568,          1,     204496,         12,         12,2,19970909,       0000,    52.3317,   -16.8283,       3822,  1500.9,   4.1842,  34.9513,2,  34.9499,2,   262.0,2,   11.08,2,   18.00,2,    0.02,2,    1.16,2,-999.000,9,-999.000,9,  -999.0,9,   4.0619
06MT19970815,      AR07E,     568,          1,     204495,         11,         11,2,19970909,       0000,    52.3317,   -16.8283,       3822,  1650.7,   3.8286,  34.9179,2,  34.9186,2,   271.0,2,   10.99,2,   17.66,2,    0.03,2,    1.15,2,   2.354,2,   1.141,3,  -999.0,9,   3.6967
06MT19970815,      AR07E,     568,          1,     204494,         10,         10,2,19970909,       0000,    52.3317,   -16.8283,       3822,  1799.6,   3.5826,  34.8999,2,  34.8999,2,   276.9,2,   11.02,2,   17.47,2,    0.01,2,    1.14,2,   2.408,2,   1.148,3,  -999.0,9,   3.4403
06MT19970815,      AR07E,     568,          1,     204493,          9,          9,2,19970909,       0000,    52.3317,   -16.8283,       3822,  2101.1,   3.3869,  34.8993,2,  34.8989,2,   279.8,2,   11.48,2,   17.22,2,    0.02,2,    1.13,2,   2.165,2,   1.052,3,  -999.0,9,   3.2191
06MT19970815,      AR07E,     568,          1,     204492,          8,          8,2,19970909,       0000,    52.3317,   -16.8283,       3822,  2401.4,   3.3228,  34.9298,2,  34.9302,2,   272.0,2,   14.71,2,   17.48,2,    0.02,2,    1.16,2,   1.357,2,   0.677,3,  -999.0,9,   3.1268
06MT19970815,      AR07E,     568,          1,     204491,          7,          7,2,19970909,       0000,    52.3317,   -16.8283,       3822,  2701.0,   3.0772,  34.9458,2,  34.9459,2,   262.7,2,   21.12,2,   18.29,2,    0.01,2,    1.21,2,   0.781,2,   0.331,3,  -999.0,9,   2.8557
06MT19970815,      AR07E,     568,          1,     204490,          6,          6,2,19970909,       0000,    52.3317,   -16.8283,       3822,  3002.8,   2.8450,  34.9427,2,  34.9419,2,   253.5,2,   29.73,2,   19.80,2,    0.03,2,    1.33,2,   0.356,2,   0.143,3,  -999.0,9,   2.5972
06MT19970815,      AR07E,     568,          1,     204489,          5,          5,2,19970909,       0000,    52.3317,   -16.8283,       3822,  3301.4,   2.6897,  34.9315,2,  34.9299,2,   247.3,2,   35.33,2,   20.97,2,    0.01,2,    1.40,2,   0.158,2,   0.064,3,  -999.0,9,   2.4140
06MT19970815,      AR07E,     568,          1,     204488,          4,          4,2,19970909,       0000,    52.3317,   -16.8283,       3822,  3658.3,   2.5461,  34.9149,2,  34.9146,2,   242.8,2,   41.05,2,   21.94,2,    0.02,2,    1.46,2,   0.072,2,   0.024,3,  -999.0,9,   2.2351
06MT19970815,      AR07E,     568,          1,     204487,          3,          3,2,19970909,       0000,    52.3317,   -16.8283,       3822,  3795.6,   2.4613,  34.9061,2,  34.9045,2,   240.6,2,   43.98,2,   22.37,2,    0.02,2,    1.50,2,   0.059,2,   0.018,3,  -999.0,9,   2.1372
06MT19970815,      AR07E,     568,          1,     204486,          2,          2,2,19970909,       0000,    52.3317,   -16.8283,       3822,  3848.0,   2.4630,  34.9045,2,  34.9037,2,   240.4,2,   44.08,2,   22.45,2,    0.01,2,    1.51,2,   0.043,2,   0.016,3,  -999.0,9,   2.1330
06MT19970815,      AR07E,     568,          1,     204485,          1,          1,2,19970909,       0000,    52.3317,   -16.8283,       3822,  3884.0,   2.4671,  34.9050,2,  34.9040,2,   240.0,2,   44.21,2,   22.48,2,    0.02,2,    1.50,2,   0.055,2,   0.018,3,  -999.0,9,   2.1329
06MT19970815,      AR07E,     569,          1,     204528,         22,         22,2,19970909,       0000,    52.3317,   -16.0000,       3375,    12.7,  15.2723,  35.5805,2,  35.5824,2,   249.0,2,    0.48,2,    0.85,2,    0.11,2,    0.14,2,   3.008,2,   1.633,3,  2125.7,3,  15.2704
06MT19970815,      AR07E,     569,          1,     204527,         21,         21,2,19970909,       0000,    52.3317,   -16.0000,       3375,    51.3,  13.4881,  35.5852,2,  35.5920,2,   239.5,2,    1.56,2,    5.99,2,    0.42,2,    0.42,2,-999.000,9,-999.000,9,  2096.1,2,  13.4809
06MT19970815,      AR07E,     569,          1,     204526,         20,         20,2,19970909,       0000,    52.3317,   -16.0000,       3375,   101.8,  11.7469,  35.5789,2,  35.5781,2,  -999.0,9,    3.48,2,    9.84,2,    0.02,2,    0.61,2,-999.000,9,-999.000,9,  -999.0,9,  11.7338
06MT19970815,      AR07E,     569,          1,     204525,         19,         19,2,19970909,       0000,    52.3317,   -16.0000,       3375,   201.2,  11.1119,  35.4974,2,  35.5015,2,   249.5,2,    4.27,2,   10.73,2,    0.02,2,    0.67,2,   3.446,2,   1.831,3,  2125.1,2,  11.0868
06MT19970815,      AR07E,     569,          1,     204524,         18,         18,2,19970909,       0000,    52.3317,   -16.0000,       3375,   302.0,  10.9369,  35.5006,2,  35.5056,2,   255.1,2,    4.11,2,   10.44,2,    0.02,2,    0.66,2,   3.502,2,   1.842,3,  2123.5,2,  10.8994
06MT19970815,      AR07E,     569,          1,     204523,         17,         17,2,19970909,       0000,    52.3317,   -16.0000,       3375,   501.8,  10.6168,  35.4586,2,  35.4618,2,  -999.0,9,    4.57,2,   11.24,2,    0.01,2,    0.71,2,-999.000,9,-999.000,9,  -999.0,9,  10.5551
06MT19970815,      AR07E,     569,          1,     204522,         16,         16,2,19970909,       0000,    52.3317,   -16.0000,       3375,   702.7,   9.7810,  35.3650,2,  35.3668,2,   232.8,2,    6.39,2,   13.92,2,    0.02,2,    0.88,2,   3.133,2,   1.602,3,  2141.8,2,   9.6981
06MT19970815,      AR07E,     569,          1,     204521,         15,         15,2,19970909,       0000,    52.3317,   -16.0000,       3375,   902.1,   8.3855,  35.2717,2,  35.2709,2,   203.5,2,    9.87,2,   18.07,2,    0.01,2,    1.15,2,   2.106,2,   1.072,3,  2163.5,2,   8.2872
06MT19970815,      AR07E,     569,          1,     204520,         14,         14,2,19970909,       0000,    52.3317,   -16.0000,       3375,  1103.0,   6.9242,  35.2103,2,  35.2138,0,   213.1,2,   11.02,2,   18.55,2,    0.01,2,    1.19,2,   1.920,2,   0.971,3,  2168.7,2,   6.8144
06MT19970815,      AR07E,     569,          1,     204519,         13,         13,2,19970909,       0000,    52.3317,   -16.0000,       3375,  1299.5,   5.6031,  35.1002,2,  35.1007,0,   235.3,2,   11.35,2,   18.52,2,    0.01,2,    1.19,2,   2.022,2,   0.992,3,  2164.6,2,   5.4850
06MT19970815,      AR07E,     569,          1,     204518,         12,         12,2,19970909,       0000,    52.3317,   -16.0000,       3375,  1500.8,   4.4573,  34.9750,2,  34.9741,0,   256.0,2,   11.25,2,   17.96,2,    0.01,2,    1.17,2,   2.267,2,   1.109,3,  2157.3,2,   4.3318
06MT19970815,      AR07E,     569,          1,     204517,         11,         11,2,19970909,       0000,    52.3317,   -16.0000,       3375,  1699.0,   3.8972,  34.9276,2,  34.9278,2,   270.0,2,   11.36,2,   17.47,2,    0.01,2,    1.15,2,   2.245,2,   1.100,3,  2153.4,2,   3.7600
06MT19970815,      AR07E,     569,          1,     204516,         10,         10,2,19970909,       0000,    52.3317,   -16.0000,       3375,  1803.4,   3.6931,  34.9128,2,  34.9140,2,   273.4,2,   11.49,2,   17.51,2,    0.01,2,    1.14,2,   2.207,2,   1.073,3,  2150.7,2,   3.5489
06MT19970815,      AR07E,     569,          1,     204515,          9,          9,2,19970909,       0000,    52.3317,   -16.0000,       3375,  1900.5,   3.5481,  34.9048,2,  34.9059,2,   276.8,2,   11.66,2,   17.24,2,    0.02,2,    1.14,2,   2.182,2,-999.000,9,  2149.4,2,   3.3968
06MT19970815,      AR07E,     569,          1,     204514,          8,          8,2,19970909,       0000,    52.3317,   -16.0000,       3375,  2200.9,   3.3121,  34.9264,2,  34.9274,2,   273.1,2,   14.24,2,   17.31,2,    0.01,2,    1.14,2,   1.446,2,   0.717,3,  2151.9,2,   3.1359
06MT19970815,      AR07E,     569,          1,     204513,          7,          7,2,19970909,       0000,    52.3317,   -16.0000,       3375,  2500.2,   3.0856,  34.9450,2,  34.9451,2,   264.2,2,   20.53,2,   18.16,2,    0.01,2,    1.20,2,   0.822,2,   0.359,3,  2162.2,2,   2.8840
06MT19970815,      AR07E,     569,          1,     204512,          6,          6,2,19970909,       0000,    52.3317,   -16.0000,       3375,  2801.0,   2.8061,  34.9421,2,  34.9419,2,   252.1,2,   30.23,2,   19.76,2,    0.02,2,    1.33,2,   0.277,2,   0.111,3,  2176.4,2,   2.5799
06MT19970815,      AR07E,     569,          1,     204511,          5,          5,2,19970909,       0000,    52.3317,   -16.0000,       3375,  3100.5,   2.6130,  34.9264,2,  34.9262,2,   246.1,2,   36.93,2,   21.09,2,    0.02,2,    1.42,2,   0.106,2,   0.036,3,  2186.7,2,   2.3602
06MT19970815,      AR07E,     569,          1,     204510,          4,          4,2,19970909,       0000,    52.3317,   -16.0000,       3375,  3201.7,   2.5483,  34.9201,2,  34.9188,2,   243.4,2,   39.28,2,   21.56,2,    0.01,2,    1.46,2,-999.000,9,-999.000,9,  2190.3,2,   2.2865
06MT19970815,      AR07E,     569,          1,     204509,          3,          3,2,19970909,       0000,    52.3317,   -16.0000,       3375,  3302.8,   2.4616,  34.9111,2,  34.9102,2,   242.2,2,   42.03,2,   22.04,2,    0.01,2,    1.48,2,-999.000,9,-999.000,9,  2194.5,2,   2.1912
06MT19970815,      AR07E,     569,          1,     204508,          2,          2,2,19970909,       0000,    52.3317,   -16.0000,       3375,  3354.6,   2.4346,  34.9078,2,  34.9072,2,   241.4,2,   42.92,2,   22.17,2,    0.02,2,    1.49,2,   0.043,2,   0.016,3,  2195.9,2,   2.1594
06MT19970815,      AR07E,     569,          1,     204507,          1,          1,2,19970909,       0000,    52.3317,   -16.0000,       3375,  3414.6,   2.4120,  34.9047,2,  34.9041,2,   241.5,2,   43.93,2,   22.35,2,    0.01,2,    1.50,2,   0.051,2,   0.014,3,  2197.3,2,   2.1309
06MT19970815,      AR07E,     570,          1,     204550,         22,         22,2,19970909,       0000,    52.3333,   -15.5000,       2870,    18.6,  15.2923,  35.5897,2,  35.5912,2,   248.9,2,    0.50,2,    0.96,2,    0.14,2,    0.14,2,-999.000,9,-999.000,9,  2063.8,2,  15.2894
06MT19970815,      AR07E,     570,          1,     204549,         21,         21,2,19970909,       0000,    52.3333,   -15.5000,       2870,   101.1,  12.7365,  35.5856,2,  35.5787,2,   234.3,2,    2.41,2,    8.07,2,    0.21,2,    0.52,2,-999.000,9,-999.000,9,  -999.0,9,  12.7228
06MT19970815,      AR07E,     570,          1,     204548,         20,         20,2,19970909,       0000,    52.3333,   -15.5000,       2870,   301.5,  10.5327,  35.4320,2,  35.4361,2,   247.4,2,    4.78,2,   11.67,2,    0.02,2,    0.73,2,-999.000,9,-999.000,9,  -999.0,9,  10.4962
06MT19970815,      AR07E,     570,          1,     204547,         19,         19,2,19970909,       0000,    52.3333,   -15.5000,       2870,   601.2,   9.9599,  35.4275,2,  35.4275,2,   240.6,2,    6.83,2,   13.32,2,    0.01,2,    0.85,2,-999.000,9,-999.000,9,  -999.0,9,   9.8885
06MT19970815,      AR07E,     570,          1,     204546,         18,         18,2,19970909,       0000,    52.3333,   -15.5000,       2870,   801.2,   8.8357,  35.3560,2,  35.3614,2,   203.3,2,    9.46,2,   17.48,2,    0.02,2,    1.10,2,-999.000,9,-999.000,9,  -999.0,9,   8.7462
06MT19970815,      AR07E,     570,          1,     204545,         17,         17,2,19970909,       0000,    52.3333,   -15.5000,       2870,   899.5,   8.5728,  35.4010,2,  35.4052,2,   198.1,2,   10.06,2,   17.99,2,    0.01,2,    1.13,2,-999.000,9,-999.000,9,  -999.0,9,   8.4734
06MT19970815,      AR07E,     570,          1,     204544,         16,         16,2,19970909,       0000,    52.3333,   -15.5000,       2870,  1200.4,   6.2240,  35.1709,2,  35.1699,0,   225.5,2,   11.32,2,   18.55,2,    0.01,2,    1.18,2,-999.000,9,-999.000,9,  -999.0,9,   6.1100
06MT19970815,      AR07E,     570,          1,     204543,         15,         15,2,19970909,       0000,    52.3333,   -15.5000,       2870,  1500.0,   4.3711,  34.9683,2,  34.9680,2,   257.6,2,   11.20,2,   18.11,2,    0.01,2,    1.17,2,-999.000,9,-999.000,9,  -999.0,9,   4.2467
06MT19970815,      AR07E,     570,          1,     204542,         14,         14,2,19970909,       0000,    52.3333,   -15.5000,       2870,  1700.6,   3.7243,  34.9091,2,  34.9092,2,   273.6,2,   10.98,2,   17.57,2,    0.00,2,    1.14,2,-999.000,9,-999.000,9,  -999.0,9,   3.5892
06MT19970815,      AR07E,     570,          1,     204541,         13,         13,2,19970909,       0000,    52.3333,   -15.5000,       2870,  1801.4,   3.6113,  34.9008,2,  34.9012,2,   275.6,2,   11.03,2,   17.42,2,    0.01,2,    1.14,2,-999.000,9,-999.000,9,  -999.0,9,   3.4684
06MT19970815,      AR07E,     570,          1,     204540,         12,         12,2,19970909,       0000,    52.3333,   -15.5000,       2870,  1899.8,   3.5033,  34.8948,2,  34.8952,2,   278.5,2,   11.09,2,   17.42,2,    0.01,2,    1.13,2,-999.000,9,-999.000,9,  -999.0,9,   3.3528
06MT19970815,      AR07E,     570,          1,     204539,         11,         11,2,19970909,       0000,    52.3333,   -15.5000,       2870,  2001.5,   3.4145,  34.8944,2,  34.8964,0,   280.6,2,   11.31,2,   17.25,2,    0.01,2,    1.12,2,-999.000,9,-999.000,9,  -999.0,9,   3.2557
06MT19970815,      AR07E,     570,          1,     204538,         10,         10,2,19970909,       0000,    52.3333,   -15.5000,       2870,  2101.8,   3.3673,  34.9005,2,  34.9008,2,   280.1,2,   11.71,2,   17.11,2,    0.01,2,    1.12,2,-999.000,9,-999.000,9,  -999.0,9,   3.1997
06MT19970815,      AR07E,     570,          1,     204537,          9,          9,2,19970909,       0000,    52.3333,   -15.5000,       2870,  2200.3,   3.3446,  34.9132,2,  34.9126,2,   277.3,2,   12.65,2,   17.20,2,    0.01,2,    1.13,2,-999.000,9,-999.000,9,  -999.0,9,   3.1679
06MT19970815,      AR07E,     570,          1,     204536,          8,          8,2,19970909,       0000,    52.3333,   -15.5000,       2870,  2300.4,   3.3011,  34.9278,2,  34.9286,2,   274.0,2,   14.13,2,   17.23,2,    0.02,2,    1.13,2,-999.000,9,-999.000,9,  -999.0,9,   3.1154
06MT19970815,      AR07E,     570,          1,     204535,          7,          7,2,19970909,       0000,    52.3333,   -15.5000,       2870,  2393.3,   3.2267,  34.9379,2,  34.9430,0,   269.4,2,   15.84,2,   17.47,2,    0.01,2,    1.15,2,-999.000,9,-999.000,9,  -999.0,9,   3.0332
06MT19970815,      AR07E,     570,          1,     204534,          6,          6,2,19970909,       0000,    52.3333,   -15.5000,       2870,  2502.0,   3.1013,  34.9443,2,  34.9439,2,   263.7,2,   20.85,2,   18.35,2,    0.02,2,    1.21,2,-999.000,9,-999.000,9,  -999.0,9,   2.8993
06MT19970815,      AR07E,     570,          1,     204533,          5,          5,2,19970909,       0000,    52.3333,   -15.5000,       2870,  2602.4,   3.0162,  34.9459,2,  34.9455,2,   261.0,2,   22.92,2,   18.51,2,    0.01,2,    1.23,2,-999.000,9,-999.000,9,  -999.0,9,   2.8058
06MT19970815,      AR07E,     570,          1,     204532,          4,          4,2,19970909,       0000,    52.3333,   -15.5000,       2870,  2702.9,   2.9291,  34.9462,2,  34.9461,2,   257.6,2,   25.83,2,   19.15,2,    0.00,2,    1.27,2,-999.000,9,-999.000,9,  -999.0,9,   2.7103
06MT19970815,      AR07E,     570,          1,     204531,          3,          3,2,19970909,       0000,    52.3333,   -15.5000,       2870,  2769.1,   2.8692,  34.9449,2,  34.9435,2,   254.8,2,   28.29,2,   19.56,2,    0.02,2,    1.30,2,-999.000,9,-999.000,9,  -999.0,9,   2.6449
06MT19970815,      AR07E,     570,          1,     204530,          2,          2,2,19970909,       0000,    52.3333,   -15.5000,       2870,  2842.3,   2.7821,  34.9396,2,  34.9396,2,   250.5,2,   32.03,2,   20.37,2,    0.01,2,    1.36,2,-999.000,9,-999.000,9,  -999.0,9,   2.5522
06MT19970815,      AR07E,     570,          1,     204529,          1,          1,2,19970909,       0000,    52.3333,   -15.5000,       2870,  2878.4,   2.7700,  34.9387,2,  34.9387,2,   249.4,2,   32.64,2,   20.45,2,    0.02,2,    1.37,2,-999.000,9,-999.000,9,  -999.0,9,   2.5367