BOTTLE,20220204CCHSIOENA
EXPOCODE,SECT_ID,STNNBR,CASTNO,BIONBR,SAMPNO,BTLNBR,BTLNBR_FLAG_W,DATE,TIME,LATITUDE,LONGITUDE,DEPTH,CTDPRS,CTDTMP,CTDSAL,CTDSAL_FLAG_W,SALNTY,SALNTY_FLAG_W,OXYGEN,OXYGEN_FLAG_W,SILCAT,SILCAT_FLAG_W,NITRAT,NITRAT_FLAG_W,NITRIT,NITRIT_FLAG_W,PHSPHT,PHSPHT_FLAG_W,CFC-11,CFC-11_FLAG_W,CFC-12,CFC-12_FLAG_W,TCARBN,TCARBN_FLAG_W,THETA
,,,,,,,,,,,,METERS,DBAR,ITS-90,PSS-78,,PSS-78,,UMOL/KG,,UMOL/KG,,UMOL/KG,,UMOL/KG,,UMOL/KG,,PMOL/KG,,PMOL/KG,,UMOL/KG,,DEG C
06MT19970815,      AR07E,     556,          1,     204236,         22,         22,2,19970904,       0000,    52.9167,   -22.1833,       4022,    49.9,  14.9827,  35.5733,2,  35.5718,2,   240.0,2,    1.60,2,    4.20,2,    0.50,2,    0.35,2,-999.000,9,-999.000,9,  -999.0,9,  14.9751
06MT19970815,      AR07E,     556,          1,     204235,         21,         21,2,19970904,       0000,    52.9167,   -22.1833,       4022,   100.3,  12.0257,  35.5737,2,  35.5776,2,   238.1,2,    4.02,2,   10.49,2,    0.05,2,    0.65,2,   3.275,2,   1.667,3,  -999.0,9,  12.0126
06MT19970815,      AR07E,     556,          1,     204234,         20,         20,2,19970904,       0000,    52.9167,   -22.1833,       4022,   201.4,  11.1223,  35.4735,2,  35.4751,2,  -999.0,9,    4.89,2,   11.12,2,    0.13,2,    0.68,2,   3.244,2,   1.937,3,  -999.0,9,  11.0971
06MT19970815,      AR07E,     556,          1,     204233,         19,         19,2,19970904,       0000,    52.9167,   -22.1833,       4022,   399.2,   9.8055,  35.2911,2,  35.2915,2,   252.3,2,    5.77,2,   12.30,2,    0.09,2,    0.78,2,   3.403,2,   2.017,3,  -999.0,9,   9.7591
06MT19970815,      AR07E,     556,          1,     204232,         18,         18,2,19970904,       0000,    52.9167,   -22.1833,       4022,   600.1,   8.0037,  35.1001,2,  35.0954,2,   206.8,2,    9.99,2,   18.11,2,    0.09,2,    1.15,2,   2.410,2,   0.960,3,  -999.0,9,   7.9413
06MT19970815,      AR07E,     556,          1,     204231,         17,         17,2,19970904,       0000,    52.9167,   -22.1833,       4022,   798.7,   6.3070,  35.0575,2,  35.0587,2,   216.1,2,   11.22,2,   19.28,2,    0.02,2,    1.23,2,   2.207,2,   0.816,3,  -999.0,9,   6.2330
06MT19970815,      AR07E,     556,          1,     204230,         16,         16,2,19970904,       0000,    52.9167,   -22.1833,       4022,  1000.6,   4.8636,  34.9820,2,  34.9822,2,   244.4,2,   11.25,2,   18.63,2,    0.03,2,    1.19,2,   2.470,2,   0.939,3,  -999.0,9,   4.7805
06MT19970815,      AR07E,     556,          1,     204229,         15,         15,2,19970904,       0000,    52.9167,   -22.1833,       4022,  1349.0,   3.8748,  34.9195,2,  34.9195,2,   269.6,2,   10.80,2,   17.65,2,    0.05,2,    1.14,2,   2.609,2,   0.951,3,  -999.0,9,   3.7696
06MT19970815,      AR07E,     556,          1,     204228,         14,         14,2,19970904,       0000,    52.9167,   -22.1833,       4022,  1500.5,   3.6605,  34.9030,2,  34.9028,2,   276.4,2,   10.82,2,   17.44,2,    0.04,2,    1.12,2,   2.539,2,   0.957,3,  -999.0,9,   3.5442
06MT19970815,      AR07E,     556,          1,     204227,         13,         13,2,19970904,       0000,    52.9167,   -22.1833,       4022,  1650.0,   3.4795,  34.8923,2,  34.8913,2,   281.1,2,   10.74,2,   17.26,2,    0.02,2,    1.10,2,   2.665,2,   1.172,3,  -999.0,9,   3.3521
06MT19970815,      AR07E,     556,          1,     204226,         12,         12,2,19970904,       0000,    52.9167,   -22.1833,       4022,  1801.6,   3.3670,  34.8876,2,  34.8863,2,   284.3,2,   10.82,2,   17.15,2,    0.02,2,    1.11,2,   2.669,2,   1.013,3,  -999.0,9,   3.2274
06MT19970815,      AR07E,     556,          1,     204225,         11,         11,2,19970904,       0000,    52.9167,   -22.1833,       4022,  1951.1,   3.2759,  34.8854,2,  34.8845,2,   286.6,2,   10.88,2,   17.00,2,    0.01,2,    1.11,2,   2.734,2,   1.227,3,  -999.0,9,   3.1239
06MT19970815,      AR07E,     556,          1,     204224,         10,         10,2,19970904,       0000,    52.9167,   -22.1833,       4022,  2100.4,   3.2331,  34.8888,2,  34.8882,2,   286.0,2,   11.02,2,   16.98,2,    0.01,2,    1.10,2,   2.669,2,   0.997,3,  -999.0,9,   3.0678
06MT19970815,      AR07E,     556,          1,     204223,          9,          9,2,19970904,       0000,    52.9167,   -22.1833,       4022,  2300.9,   3.2525,  34.9084,2,  34.9079,2,   280.9,2,   11.96,2,   16.74,2,    0.05,2,    1.09,2,   2.121,2,   0.761,3,  -999.0,9,   3.0677
06MT19970815,      AR07E,     556,          1,     204222,          8,          8,2,19970904,       0000,    52.9167,   -22.1833,       4022,  2501.4,   3.2451,  34.9306,2,  34.9307,2,   277.1,2,   13.29,2,   16.97,2,    0.02,2,    1.10,2,   1.559,2,   0.517,3,  -999.0,9,   3.0405
06MT19970815,      AR07E,     556,          1,     204221,          7,          7,2,19970904,       0000,    52.9167,   -22.1833,       4022,  2700.5,   3.1457,  34.9433,2,  34.9443,2,   273.8,2,   15.21,2,   17.11,2,    0.02,2,    1.12,2,   1.372,2,   0.461,3,  -999.0,9,   2.9229
06MT19970815,      AR07E,     556,          1,     204220,          6,          6,2,19970904,       0000,    52.9167,   -22.1833,       4022,  3000.9,   2.9711,  34.9486,2,  34.9493,2,   268.7,2,   19.54,2,   17.72,2,    0.02,2,    1.15,2,   1.150,2,   0.359,3,  -999.0,9,   2.7208
06MT19970815,      AR07E,     556,          1,     204219,          5,          5,2,19970904,       0000,    52.9167,   -22.1833,       4022,  3303.2,   2.8123,  34.9422,2,  34.9429,2,   260.9,2,   25.82,2,   18.71,2,    0.01,2,    1.23,2,   0.924,2,   0.284,3,  -999.0,9,   2.5334
06MT19970815,      AR07E,     556,          1,     204218,          4,          4,2,19970904,       0000,    52.9167,   -22.1833,       4022,  3602.1,   2.6739,  34.9285,2,  34.9288,2,   252.0,2,   34.17,2,   20.29,2,    0.01,2,    1.35,2,   0.478,2,   0.131,3,  -999.0,9,   2.3658
06MT19970815,      AR07E,     556,          1,     204217,          3,          3,2,19970904,       0000,    52.9167,   -22.1833,       4022,  3803.3,   2.5796,  34.9176,2,  34.9173,2,   245.8,2,   40.37,2,   21.61,2,    0.03,2,    1.44,2,   0.179,2,-999.000,9,  -999.0,9,   2.2514
06MT19970815,      AR07E,     556,          1,     204216,          2,          2,2,19970904,       0000,    52.9167,   -22.1833,       4022,  3903.5,   2.5499,  34.9137,2,  34.9124,2,   243.3,2,   42.26,2,   21.96,2,    0.02,2,    1.49,2,   0.119,2,-999.000,9,  -999.0,9,   2.2112
06MT19970815,      AR07E,     556,          1,     204215,          1,          1,2,19970904,       0000,    52.9167,   -22.1833,       4022,  4020.5,   2.5246,  34.9087,2,  34.9083,2,   241.5,2,   43.81,2,   22.45,2,    0.01,2,    1.50,2,   0.071,2,-999.000,9,  -999.0,9,   2.1732
06MT19970815,      AR07E,     557,          1,     204261,         23,         23,2,19970905,       0000,    52.7650,   -21.5500,       3877,    14.6,  15.3166,  35.5059,2,  35.5071,2,   245.8,2,    0.53,2,    0.63,2,    0.14,2,    0.15,2,   2.994,2,   1.557,3,  2059.8,6,  15.3144
06MT19970815,      AR07E,     557,          1,     204260,         22,         22,2,19970905,       0000,    52.7650,   -21.5500,       3877,    51.1,  15.2274,  35.4960,2,  35.4975,2,   247.6,2,    0.53,2,    0.74,2,    0.16,2,    0.15,2,   3.013,2,   1.547,3,  2058.6,2,  15.2196
06MT19970815,      AR07E,     557,          1,     204259,         21,         21,2,19970905,       0000,    52.7650,   -21.5500,       3877,   100.5,  12.3493,  35.6095,2,  35.6155,2,   236.7,2,    3.86,2,   10.09,2,    0.04,2,    0.63,2,   3.269,2,   1.657,3,  2114.6,2,  12.3359
06MT19970815,      AR07E,     557,          1,     204258,         20,         20,2,19970905,       0000,    52.7650,   -21.5500,       3877,   201.2,  11.3181,  35.5100,2,  35.5113,2,   244.2,2,    4.36,2,   11.04,2,    0.03,2,    0.70,2,   3.306,2,   1.667,3,  2120.4,2,  11.2927
06MT19970815,      AR07E,     557,          1,     204257,         19,         19,2,19970905,       0000,    52.7650,   -21.5500,       3877,   402.0,   9.9204,  35.3305,2,  35.3329,2,   250.0,2,    5.57,2,   12.62,2,    0.02,2,    0.80,2,   3.428,2,   1.680,3,  2126.4,2,   9.8733
06MT19970815,      AR07E,     557,          1,     204256,         18,         18,2,19970905,       0000,    52.7650,   -21.5500,       3877,   601.1,   8.5797,  35.2236,2,  35.2253,2,   225.7,2,    8.43,2,   16.40,2,    0.02,2,    1.04,2,   2.816,2,   1.346,3,  2148.7,2,   8.5145
06MT19970815,      AR07E,     557,          1,     204255,         17,         17,2,19970905,       0000,    52.7650,   -21.5500,       3877,   801.0,   7.0288,  35.1813,2,  35.1791,2,   213.1,2,   10.89,2,   18.77,2,    0.02,2,    1.19,2,   2.179,2,   0.915,3,  -999.0,9,   6.9501
06MT19970815,      AR07E,     557,          1,     204254,         16,         16,2,19970905,       0000,    52.7650,   -21.5500,       3877,  1001.7,   5.4074,  35.0696,2,  35.0742,2,   236.8,2,   11.35,2,   18.54,2,    0.02,2,    1.19,2,   2.122,2,   0.807,3,  2166.0,2,   5.3199
06MT19970815,      AR07E,     557,          1,     204253,         15,         15,2,19970905,       0000,    52.7650,   -21.5500,       3877,  1201.0,   4.3647,  34.9692,2,  34.9687,0,   256.6,2,   11.21,2,   18.21,2,    0.02,2,    1.18,2,   2.290,2,   0.899,3,  -999.0,9,   4.2678
06MT19970815,      AR07E,     557,          1,     204252,         14,         14,2,19970905,       0000,    52.7650,   -21.5500,       3877,  1401.0,   3.8122,  34.9164,2,  34.9180,2,   271.3,2,   11.02,2,   17.79,2,    0.02,2,    1.15,2,   2.423,2,   1.070,3,  2157.3,2,   3.7030
06MT19970815,      AR07E,     557,          1,     204251,         13,         13,2,19970905,       0000,    52.7650,   -21.5500,       3877,  1550.7,   3.5910,  34.8974,2,-999.0000,9,   277.0,2,   10.91,2,   17.48,2,    0.01,2,    1.14,2,   2.630,2,   1.175,3,  2154.8,2,   3.4711
06MT19970815,      AR07E,     557,          1,     204250,         12,         12,2,19970905,       0000,    52.7650,   -21.5500,       3877,  1699.9,   3.4354,  34.8894,2,  34.8879,2,   281.6,2,   10.89,2,   17.37,2,    0.02,2,    1.14,2,   2.753,2,   1.239,3,  2153.4,2,   3.3041
06MT19970815,      AR07E,     557,          1,     204249,         11,         11,2,19970905,       0000,    52.7650,   -21.5500,       3877,  1899.5,   3.3032,  34.8845,2,  34.8834,2,   284.8,2,   10.94,2,   17.21,2,    0.02,2,    1.12,2,   2.762,2,   1.255,3,  2153.9,2,   3.1556
06MT19970815,      AR07E,     557,          1,     204248,         10,         10,2,19970905,       0000,    52.7650,   -21.5500,       3877,  2201.3,   3.2298,  34.8989,2,  34.8980,2,   283.1,2,   11.51,2,   16.94,2,    0.01,2,    1.11,2,   2.425,2,   0.942,3,  2153.5,2,   3.0550
06MT19970815,      AR07E,     557,          1,     204247,          9,          9,2,19970905,       0000,    52.7650,   -21.5500,       3877,  2401.0,   3.2303,  34.9200,2,  34.9210,2,   278.1,2,   12.53,2,   16.90,2,    0.02,2,    1.11,2,   1.897,2,   0.716,3,  2153.5,2,   3.0360
06MT19970815,      AR07E,     557,          1,     204246,          8,          8,2,19970905,       0000,    52.7650,   -21.5500,       3877,  2600.5,   3.1722,  34.9389,2,  34.9401,2,   273.6,2,   14.52,2,   16.86,2,    0.02,2,    1.12,2,   1.467,2,   0.524,3,  2158.5,2,   2.9590
06MT19970815,      AR07E,     557,          1,     204245,          7,          7,2,19970905,       0000,    52.7650,   -21.5500,       3877,  2802.2,   3.0459,  34.9467,2,  34.9478,2,   269.2,2,   17.63,2,   17.33,2,    0.02,2,    1.16,2,-999.000,9,-999.000,9,  2163.0,2,   2.8146
06MT19970815,      AR07E,     557,          1,     204244,          6,          6,2,19970905,       0000,    52.7650,   -21.5500,       3877,  3103.0,   2.8485,  34.9460,2,  34.9457,2,   263.6,2,   23.37,2,   18.31,2,    0.02,2,    1.21,2,   1.035,2,   0.348,3,  2172.7,2,   2.5901
06MT19970815,      AR07E,     557,          1,     204243,          5,          5,2,19970905,       0000,    52.7650,   -21.5500,       3877,  3402.2,   2.6926,  34.9322,2,  34.9327,2,   253.5,2,   31.58,2,   19.77,2,    0.04,2,    1.32,2,   0.615,2,-999.000,9,  2184.7,2,   2.4059
06MT19970815,      AR07E,     557,          1,     204242,          4,          4,2,19970905,       0000,    52.7650,   -21.5500,       3877,  3602.4,   2.6017,  34.9209,2,  34.9185,0,   246.7,2,   37.90,2,   21.19,2,    0.02,2,    1.42,2,   0.270,2,   0.186,3,  2193.1,2,   2.2954
06MT19970815,      AR07E,     557,          1,     204241,          3,          3,2,19970905,       0000,    52.7650,   -21.5500,       3877,  3754.5,   2.5355,  34.9129,2,  34.9121,2,   242.7,2,   42.05,2,   21.98,2,    0.02,2,    1.48,2,   0.109,2,   0.209,4,  2199.0,2,   2.2140
06MT19970815,      AR07E,     557,          1,     204240,          2,          2,2,19970905,       0000,    52.7650,   -21.5500,       3877,  3852.1,   2.5139,  34.9097,2,  34.9095,2,   241.8,2,   42.86,2,   22.16,2,    0.02,2,    1.49,2,   0.059,2,   0.213,4,  2199.7,2,   2.1820
06MT19970815,      AR07E,     557,          1,     204239,          1,          1,2,19970905,       0000,    52.7650,   -21.5500,       3877,  3901.9,   2.5057,  34.9082,2,  34.9076,2,   241.0,2,   43.49,2,   22.27,2,    0.03,2,    1.50,2,   0.062,2,   0.222,4,  2201.7,2,   2.1684
06MT19970815,      AR07E,     558,          1,     204284,         22,         22,2,19970905,       0000,    52.6133,   -20.9167,       3705,    14.9,  15.0804,  35.4120,2,  35.4122,2,   247.5,2,    0.43,2,    0.48,2,    0.09,2,    0.14,2,-999.000,9,-999.000,9,  -999.0,9,  15.0781
06MT19970815,      AR07E,     558,          1,     204283,         21,         21,2,19970905,       0000,    52.6133,   -20.9167,       3705,   100.5,  11.0675,  35.4278,2,  35.4317,2,   244.5,2,    4.78,2,   11.71,2,    0.03,2,    0.74,2,   3.300,3,   1.667,3,  -999.0,9,  11.0551
06MT19970815,      AR07E,     558,          1,     204282,         20,         20,2,19970905,       0000,    52.6133,   -20.9167,       3705,   302.0,   9.6511,  35.2679,2,-999.0000,9,  -999.0,9, -999.00,9, -999.00,9, -999.00,9, -999.00,9,-999.000,9,-999.000,9,  -999.0,9,   9.6165
06MT19970815,      AR07E,     558,          1,     204281,         19,         19,2,19970905,       0000,    52.6133,   -20.9167,       3705,   502.8,   7.7834,  35.0664,2,  35.0655,2,   212.3,2,   10.00,2,   18.40,2,    0.02,2,    1.19,2,   2.550,2,   1.217,3,  -999.0,9,   7.7323
06MT19970815,      AR07E,     558,          1,     204280,         18,         18,2,19970905,       0000,    52.6133,   -20.9167,       3705,   700.5,   6.2908,  35.0550,2,  35.0546,2,   217.8,2,   11.30,2,   19.33,2,    0.01,2,    1.25,2,   2.204,2,   0.887,3,  -999.0,9,   6.2265
06MT19970815,      AR07E,     558,          1,     204279,         17,         17,2,19970905,       0000,    52.6133,   -20.9167,       3705,   903.9,   5.1223,  35.0088,2,  35.0099,2,   239.9,2,   11.31,2,   18.84,2,    0.01,2,    1.22,2,   2.349,2,   1.052,3,  -999.0,9,   5.0460
06MT19970815,      AR07E,     558,          1,     204278,         16,         16,2,19970905,       0000,    52.6133,   -20.9167,       3705,  1099.5,   4.3196,  34.9592,2,  34.9605,2,   260.2,2,   11.35,2,   18.23,2,    0.02,2,    1.18,2,   2.390,2,   1.012,3,  -999.0,9,   4.2321
06MT19970815,      AR07E,     558,          1,     204277,         15,         15,2,19970905,       0000,    52.6133,   -20.9167,       3705,  1247.3,   3.9592,  34.9278,2,  34.9289,2,   268.5,2,   10.97,2,   17.86,2,    0.02,2,    1.17,2,   2.419,2,   0.976,3,  -999.0,9,   3.8620
06MT19970815,      AR07E,     558,          1,     204276,         14,         14,2,19970905,       0000,    52.6133,   -20.9167,       3705,  1400.1,   3.7052,  34.9074,2,  34.9085,2,   275.9,2,   10.96,2,   17.67,2,    0.01,2,    1.16,2,   2.409,2,   1.083,3,  -999.0,9,   3.5973
06MT19970815,      AR07E,     558,          1,     204275,         13,         13,2,19970905,       0000,    52.6133,   -20.9167,       3705,  1550.9,   3.5406,  34.8986,2,  34.8991,2,   279.4,2,   11.04,2,   17.43,2,    0.01,2,    1.14,2,-999.000,9,-999.000,9,  -999.0,9,   3.4213
06MT19970815,      AR07E,     558,          1,     204274,         12,         12,2,19970905,       0000,    52.6133,   -20.9167,       3705,  1700.8,   3.4303,  34.8943,2,  34.8938,2,   282.5,2,   11.18,2,   17.30,2,    0.01,2,    1.13,2,   2.357,2,   0.945,3,  -999.0,9,   3.2990
06MT19970815,      AR07E,     558,          1,     204273,         11,         11,2,19970905,       0000,    52.6133,   -20.9167,       3705,  1849.5,   3.3398,  34.8947,2,  34.8944,2,   283.8,2,   11.44,2,   17.22,2,    0.01,2,    1.13,2,   2.363,2,   0.959,3,  -999.0,9,   3.1962
06MT19970815,      AR07E,     558,          1,     204272,         10,         10,2,19970905,       0000,    52.6133,   -20.9167,       3705,  1999.8,   3.2983,  34.9025,2,  34.9025,2,   282.3,2,   11.82,2,   17.14,2,    0.03,2,    1.13,2,   2.138,2,   0.837,3,  -999.0,9,   3.1414
06MT19970815,      AR07E,     558,          1,     204271,          9,          9,2,19970905,       0000,    52.6133,   -20.9167,       3705,  2202.5,   3.2786,  34.9219,2,  34.9226,2,   277.9,2,   13.12,2,   17.14,2,    0.04,2,    1.13,2,   1.616,2,   0.733,3,  -999.0,9,   3.1028
06MT19970815,      AR07E,     558,          1,     204270,          8,          8,2,19970905,       0000,    52.6133,   -20.9167,       3705,  2502.8,   3.1271,  34.9427,2,  34.9441,2,   271.3,2,   16.93,2,   17.53,2,    0.01,2,    1.17,2,   1.142,2,   0.431,3,  -999.0,9,   2.9245
06MT19970815,      AR07E,     558,          1,     204269,          7,          7,2,19970905,       0000,    52.6133,   -20.9167,       3705,  2803.2,   2.9349,  34.9475,2,  34.9514,0,   267.2,2,   20.56,2,   17.94,2,    0.01,2,    1.20,2,   1.062,2,   0.409,3,  -999.0,9,   2.7058
06MT19970815,      AR07E,     558,          1,     204268,          6,          6,2,19970905,       0000,    52.6133,   -20.9167,       3705,  3102.6,   2.7613,  34.9397,2,  34.9400,2,  -999.0,9,   26.90,2,   18.97,2,    0.03,2,    1.26,2,   0.784,2,   0.302,3,  -999.0,9,   2.5049
06MT19970815,      AR07E,     558,          1,     204267,          5,          5,2,19970905,       0000,    52.6133,   -20.9167,       3705,  3401.8,   2.6212,  34.9251,2,  34.9246,2,   250.7,2,   35.72,2,   20.71,2,    0.03,2,    1.40,2,   0.396,2,   0.129,3,  -999.0,9,   2.3363
06MT19970815,      AR07E,     558,          1,     204266,          4,          4,2,19970905,       0000,    52.6133,   -20.9167,       3705,  3503.2,   2.5682,  34.9184,2,  34.9176,2,   247.8,2,   38.91,2,   21.57,2,    0.02,2,    1.44,2,   0.226,2,-999.000,9,  -999.0,9,   2.2736
06MT19970815,      AR07E,     558,          1,     204265,          3,          3,2,19970905,       0000,    52.6133,   -20.9167,       3705,  3602.3,   2.5256,  34.9134,2,  34.9128,2,   245.2,2,   41.72,2,   22.00,2,    0.01,2,    1.48,2,   0.133,2,-999.000,9,  -999.0,9,   2.2213
06MT19970815,      AR07E,     558,          1,     204264,          2,          2,2,19970905,       0000,    52.6133,   -20.9167,       3705,  3699.7,   2.4751,  34.9072,2,  34.9070,2,   242.7,2,   43.17,2,   22.29,2,    0.02,2,    1.51,2,   0.066,2,-999.000,9,  -999.0,9,   2.1614
06MT19970815,      AR07E,     558,          1,     204263,          1,          1,2,19970905,       0000,    52.6133,   -20.9167,       3705,  3737.9,   2.4696,  34.9063,2,  34.9062,2,   242.3,2,   43.93,2,   22.32,2,    0.02,2,    1.51,2,   0.057,2,-999.000,9,  -999.0,9,   2.1518