BOTTLE,20220204CCHSIOENA
EXPOCODE,SECT_ID,STNNBR,CASTNO,BIONBR,SAMPNO,BTLNBR,BTLNBR_FLAG_W,DATE,TIME,LATITUDE,LONGITUDE,DEPTH,CTDPRS,CTDTMP,CTDSAL,CTDSAL_FLAG_W,SALNTY,SALNTY_FLAG_W,OXYGEN,OXYGEN_FLAG_W,SILCAT,SILCAT_FLAG_W,NITRAT,NITRAT_FLAG_W,NITRIT,NITRIT_FLAG_W,PHSPHT,PHSPHT_FLAG_W,CFC-11,CFC-11_FLAG_W,CFC-12,CFC-12_FLAG_W,TCARBN,TCARBN_FLAG_W,THETA
,,,,,,,,,,,,METERS,DBAR,ITS-90,PSS-78,,PSS-78,,UMOL/KG,,UMOL/KG,,UMOL/KG,,UMOL/KG,,UMOL/KG,,PMOL/KG,,PMOL/KG,,UMOL/KG,,DEG C
06MT19970815,      AR07E,     470,          1,     202451,          9,          9,2,19970818,       0000,    63.5683,   -36.4533,       1790,   701.2,   4.3771,  34.9165,2,-999.0000,9,   279.4,2,    9.20,2,   16.55,2,    0.02,2,    1.08,2,   3.840,3,   1.926,3,  2152.0,2,   4.3231
06MT19970815,      AR07E,     470,          1,     202450,          8,          8,2,19970818,       0000,    63.5683,   -36.4533,       1790,   901.1,   3.9449,  34.9107,2,  34.9122,2,   278.7,2,    9.53,2,   16.62,2,    0.02,2,    1.07,2,   3.615,3,   1.796,3,  2153.7,2,   3.8772
06MT19970815,      AR07E,     470,          1,     202449,          7,          7,2,19970818,       0000,    63.5683,   -36.4533,       1790,  1100.5,   3.6307,  34.9129,2,  34.9128,2,   279.8,2,   10.03,2,   16.83,2,    0.03,2,    1.09,2,   3.238,3,   1.577,3,  2172.4,3,   3.5490
06MT19970815,      AR07E,     470,          1,     202448,          6,          6,2,19970818,       0000,    63.5683,   -36.4533,       1790,  1301.4,   3.3681,  34.8986,2,  34.8978,2,   285.6,2,    9.81,2,   16.52,2,    0.02,2,    1.07,2,   3.394,3,   1.671,3,  2174.8,3,   3.2721
06MT19970815,      AR07E,     470,          1,     202447,          5,          5,2,19970818,       0000,    63.5683,   -36.4533,       1790,  1500.0,   2.6839,  34.8777,2,  34.8773,2,   292.5,2,    9.28,2,   15.62,2,    0.03,2,    1.02,2,   3.638,3,   1.768,3,  2150.6,2,   2.5789
06MT19970815,      AR07E,     470,          1,     202446,          4,          4,2,19970818,       0000,    63.5683,   -36.4533,       1790,  1601.6,   2.1465,  34.8755,2,  34.8755,2,   296.3,2,    8.92,2,   15.00,2,    0.02,2,    0.98,2,   3.556,3,   1.762,3,  2160.9,3,   2.0398
06MT19970815,      AR07E,     470,          1,     202445,          3,          3,2,19970818,       0000,    63.5683,   -36.4533,       1790,  1700.8,   2.1448,  34.8758,2,  34.8755,2,   295.9,2,    8.88,2,   15.01,2,    0.05,2,    0.99,2,   3.669,3,   1.774,3,  2155.6,3,   2.0301
06MT19970815,      AR07E,     470,          1,     202444,          2,          2,3,19970818,       0000,    63.5683,   -36.4533,       1790,  1752.7,   2.1484,  34.8761,2,  34.8754,2,   296.2,2,    8.83,2,   14.80,2,    0.06,2,    0.98,2,-999.000,9,-999.000,9,  2150.8,2,   2.0295
06MT19970815,      AR07E,     470,          1,     202443,          1,          1,2,19970818,       0000,    63.5683,   -36.4533,       1790,  1784.8,   2.1346,  34.8758,2,  34.8752,2,   296.1,2,    8.85,2,   14.83,2,    0.13,2,    0.98,2,-999.000,9,-999.000,9,  2151.7,2,   2.0133
06MT19970815,      AR07E,     471,          1,     202458,         16,         16,2,19970819,       0000,    63.7167,   -36.7367,       1635,   801.7,   4.0274,  34.9153,2,  34.9183,2,   278.3,2,    9.27,2,   16.29,2,    0.05,2,    1.06,2,   3.667,3,   1.808,3,  -999.0,9,   3.9672
06MT19970815,      AR07E,     471,          1,     202457,         15,         15,2,19970819,       0000,    63.7167,   -36.7367,       1635,  1000.9,   3.4693,  34.9004,2,  34.9011,2,   283.4,2,    9.92,2,   16.77,2,    0.03,2,    1.09,2,   3.426,3,   1.655,3,  -999.0,9,   3.3970
06MT19970815,      AR07E,     471,          1,     202456,         14,         14,2,19970819,       0000,    63.7167,   -36.7367,       1635,  1199.3,   3.0528,  34.8782,2,  34.8787,2,   291.3,2,    9.82,2,   16.37,2,    0.07,2,    1.06,2,   3.652,3,   1.754,3,  -999.0,9,   2.9682
06MT19970815,      AR07E,     471,          1,     202455,         13,         13,2,19970819,       0000,    63.7167,   -36.7367,       1635,  1298.9,   3.0136,  34.8786,2,  34.8788,2,   291.7,2,    9.87,2,   16.28,2,    0.03,2,    1.06,2,   3.603,3,   1.751,3,  -999.0,9,   2.9214
06MT19970815,      AR07E,     471,          1,     202454,         12,         12,2,19970819,       0000,    63.7167,   -36.7367,       1635,  1399.9,   2.9532,  34.8788,2,  34.8790,2,   291.5,2,    9.74,2,   16.05,2,    0.03,2,    1.05,2,   3.565,3,   1.740,3,  -999.0,9,   2.8534
06MT19970815,      AR07E,     471,          1,     202453,         11,         11,2,19970819,       0000,    63.7167,   -36.7367,       1635,  1448.8,   2.9390,  34.8790,2,  34.8782,2,   291.3,2,    9.72,2,   16.09,2,    0.02,2,    1.06,2,   3.542,3,   1.737,3,  -999.0,9,   2.8353
06MT19970815,      AR07E,     471,          1,     202452,         10,         10,3,19970819,       0000,    63.7167,   -36.7367,       1635,  1630.3,   2.9333,  34.8778,2,  34.8771,2,   292.1,2,    9.70,2,   16.16,2,    0.02,2,    1.05,2,   3.588,3,   1.748,3,  -999.0,9,   2.8145
06MT19970815,      AR07E,     472,          1,     202463,         21,         21,2,19970819,       0000,    63.8333,   -36.9650,        357,     9.6,   8.3821,  34.7146,2,  34.7074,2,   311.5,3,    0.81,2,    3.68,2,    0.16,2,    0.30,2,-999.000,9,-999.000,9,  -999.0,9,   8.3811
06MT19970815,      AR07E,     472,          1,     202462,         20,         20,2,19970819,       0000,    63.8333,   -36.9650,        357,    50.8,   6.8060,  34.9772,2,  34.9734,2,  -999.0,9,    5.32,2,   12.77,2,    0.11,2,    0.84,2,-999.000,9,-999.000,9,  -999.0,9,   6.8014
06MT19970815,      AR07E,     472,          1,     202461,         19,         19,2,19970819,       0000,    63.8333,   -36.9650,        357,   101.7,   6.7506,  35.0823,2,  35.0836,2,   276.3,2,    7.31,2,   14.93,2,    0.03,2,    0.97,2,-999.000,9,-999.000,9,  -999.0,9,   6.7413
06MT19970815,      AR07E,     472,          1,     202460,         18,         18,2,19970819,       0000,    63.8333,   -36.9650,        357,   251.3,   5.0452,  34.8919,2,  34.8923,2,   285.6,2,    7.17,2,   14.88,2,    0.02,2,    0.98,2,-999.000,9,-999.000,9,  -999.0,9,   5.0254
06MT19970815,      AR07E,     472,          1,     202459,         17,         17,2,19970819,       0000,    63.8333,   -36.9650,        357,   349.2,   4.1298,  34.8325,2,  34.8297,2,   291.5,2,    8.21,2,   14.71,2,    0.04,2,    0.98,2,-999.000,9,-999.000,9,  -999.0,9,   4.1046
06MT19970815,      AR07E,     479,          1,     202485,         22,         22,2,19970819,       0000,    63.3017,   -35.9517,       2313,     9.3,  10.9812,  34.9069,2,  34.9137,2,   290.7,2,    0.68,2,    2.59,2,    0.10,2,    0.25,2,-999.000,9,-999.000,9,  2058.9,2,  10.9801
06MT19970815,      AR07E,     479,          1,     202484,         21,         21,2,19970819,       0000,    63.3017,   -35.9517,       2313,    49.8,   6.9796,  35.0200,2,  35.0268,2,   279.0,2,    5.69,2,   13.59,2,    0.16,2,    0.89,2,-999.000,9,-999.000,9,  2133.5,2,   6.9750
06MT19970815,      AR07E,     479,          1,     202483,         20,         20,2,19970819,       0000,    63.3017,   -35.9517,       2313,   100.7,   6.6309,  35.0639,2,  35.0656,2,   275.9,2,    7.53,2,   15.27,2,    0.01,2,    1.01,2,-999.000,9,-999.000,9,  2145.4,2,   6.6218
06MT19970815,      AR07E,     479,          1,     202482,         19,         19,2,19970819,       0000,    63.3017,   -35.9517,       2313,   201.0,   5.8814,  35.0056,2,  35.0067,2,   278.8,2,    8.11,2,   15.60,2,    0.03,2,    1.03,2,   4.392,3,   2.126,3,  2146.1,2,   5.8643
06MT19970815,      AR07E,     479,          1,     202481,         18,         18,2,19970819,       0000,    63.3017,   -35.9517,       2313,   301.2,   5.1339,  34.9459,2,  34.9458,2,  -999.0,9,    8.88,2,   16.53,2,    0.01,2,    1.08,2,   4.203,3,   2.028,3,  2149.2,2,   5.1098
06MT19970815,      AR07E,     479,          1,     202480,         17,         17,2,19970819,       0000,    63.3017,   -35.9517,       2313,   501.5,   4.1922,  34.9026,2,  34.9028,2,   283.2,2,    9.32,2,   17.07,2,    0.01,2,    1.11,2,-999.000,9,-999.000,9,  2151.6,2,   4.1551
06MT19970815,      AR07E,     479,          1,     202479,         16,         16,2,19970819,       0000,    63.3017,   -35.9517,       2313,   600.6,   3.9050,  34.8930,2,  34.8939,2,   282.1,2,    9.56,2,   16.90,2,    0.01,2,    1.12,2,   4.124,3,   1.951,3,  -999.0,9,   3.8614
06MT19970815,      AR07E,     479,          1,     202478,         15,         15,2,19970819,       0000,    63.3017,   -35.9517,       2313,   701.7,   3.7559,  34.8961,2,  34.8942,2,   280.2,2,    9.87,2,   17.22,2,    0.02,2,    1.13,2,-999.000,9,-999.000,9,  2153.9,2,   3.7053
06MT19970815,      AR07E,     479,          1,     202477,         14,         14,2,19970819,       0000,    63.3017,   -35.9517,       2313,   801.9,   3.6726,  34.9009,2,  34.9029,2,  -999.0,9,   10.04,2,   17.35,2,    0.01,2,    1.14,2,   3.614,3,   1.674,3,  2154.1,2,   3.6146
06MT19970815,      AR07E,     479,          1,     202476,         13,         13,2,19970819,       0000,    63.3017,   -35.9517,       2313,   902.0,   3.4834,  34.8930,2,  34.8877,2,   282.0,2,   10.12,2,   17.40,2,    0.01,2,    1.13,2,-999.000,9,-999.000,9,  2154.2,2,   3.4188
06MT19970815,      AR07E,     479,          1,     202475,         12,         12,2,19970819,       0000,    63.3017,   -35.9517,       2313,  1002.3,   3.3511,  34.8864,2,  34.8864,2,   286.4,2,   10.08,2,   17.09,2,    0.00,2,    1.13,2,   3.831,3,   1.753,3,  2151.8,2,   3.2796
06MT19970815,      AR07E,     479,          1,     202474,         11,         11,2,19970819,       0000,    63.3017,   -35.9517,       2313,  1201.9,   3.1611,  34.8710,2,  34.8715,2,   293.2,2,    9.96,2,   16.90,2,    0.02,2,    1.12,2,   4.036,3,   1.844,3,  2149.9,2,   3.0753
06MT19970815,      AR07E,     479,          1,     202473,         10,         10,2,19970819,       0000,    63.3017,   -35.9517,       2313,  1401.2,   3.0109,  34.8570,2,  34.8550,0,   298.9,2,    9.78,2,   16.83,2,    0.01,2,    1.11,2,   4.265,3,   1.952,3,  2148.4,2,   2.9104
06MT19970815,      AR07E,     479,          1,     202472,          9,          9,2,19970819,       0000,    63.3017,   -35.9517,       2313,  1600.1,   2.9383,  34.8508,2,  34.8507,2,   299.4,2,    9.74,2,   16.90,2,    0.01,2,    1.10,2,   4.354,3,   1.975,3,  2147.7,2,   2.8220
06MT19970815,      AR07E,     479,          1,     202471,          8,          8,2,19970819,       0000,    63.3017,   -35.9517,       2313,  1700.5,   2.9456,  34.8536,2,  34.8537,2,   298.7,2,    9.81,2,   16.66,2,    0.00,2,    1.10,2,   4.154,3,   1.908,3,  2148.1,2,   2.8206
06MT19970815,      AR07E,     479,          1,     202470,          7,          7,2,19970819,       0000,    63.3017,   -35.9517,       2313,  1800.9,   2.9987,  34.8682,2,  34.8675,2,   294.3,2,   10.16,2,   16.50,2,    0.02,2,    1.10,2,   3.732,3,   1.705,3,  2155.4,3,   2.8642
06MT19970815,      AR07E,     479,          1,     202469,          6,          6,2,19970819,       0000,    63.3017,   -35.9517,       2313,  1900.5,   3.0436,  34.8845,2,  34.8844,2,   289.4,2,   10.61,2,   16.35,2,    0.01,2,    1.09,2,   3.252,3,   1.496,3,  2148.8,2,   2.8996
06MT19970815,      AR07E,     479,          1,     202468,          5,          5,2,19970819,       0000,    63.3017,   -35.9517,       2313,  2000.6,   2.9998,  34.8954,2,  34.8957,2,   286.5,2,   10.92,2,   16.68,2,    0.00,2,    1.09,2,-999.000,9,-999.000,9,  2149.6,2,   2.8473
06MT19970815,      AR07E,     479,          1,     202467,          4,          4,2,19970819,       0000,    63.3017,   -35.9517,       2313,  2150.1,   2.5221,  34.8833,2,  34.8831,2,   292.6,2,    9.76,2,   15.55,2,    0.01,2,    1.04,2,   3.527,3,   1.628,3,  2148.4,2,   2.3635
06MT19970815,      AR07E,     479,          1,     202466,          3,          3,2,19970819,       0000,    63.3017,   -35.9517,       2313,  2250.2,   2.1925,  34.8784,2,  34.8779,2,   295.6,2,    9.13,2,   15.00,2,    0.03,2,    1.01,2,   3.717,3,   1.722,3,  2146.9,2,   2.0304
06MT19970815,      AR07E,     479,          1,     202465,          2,          2,2,19970819,       0000,    63.3017,   -35.9517,       2313,  2250.3,   2.1967,  34.8783,2,  34.8780,2,   295.0,2,    9.12,2,   14.90,2,    0.02,2,    1.00,2,-999.000,9,-999.000,9,  2148.1,2,   2.0345
06MT19970815,      AR07E,     479,          1,     202464,          1,          1,2,19970819,       0000,    63.3017,   -35.9517,       2313,  2319.5,   1.2638,  34.8805,2,  34.8813,2,   302.0,2,    7.92,2,   14.01,2,    0.04,2,    0.95,2,   3.937,3,   1.809,3,  -999.0,9,   1.1117
06MT19970815,      AR07E,     480,          1,     200508,         22,         22,2,19970819,       0000,    63.0333,   -35.4567,       2656,     9.2,  11.0394,  34.8633,2,  34.8597,2,  -999.0,9,    0.48,2,    2.51,2,    0.08,2,    0.24,2,-999.000,9,-999.000,9,  -999.0,9,  11.0383
06MT19970815,      AR07E,     480,          1,     200507,         21,         21,2,19970819,       0000,    63.0333,   -35.4567,       2656,    50.4,   7.5142,  35.0229,2,  35.0255,2,  -999.0,9,    3.97,2,   11.98,2,    0.44,2,    0.85,2,-999.000,9,-999.000,9,  -999.0,9,   7.5093
06MT19970815,      AR07E,     480,          1,     200506,         20,         20,2,19970819,       0000,    63.0333,   -35.4567,       2656,   100.5,   6.6626,  35.0618,2,  35.0594,2,  -999.0,9,    7.42,2,   15.33,2,    0.03,2,    1.02,2,-999.000,9,-999.000,9,  -999.0,9,   6.6535
06MT19970815,      AR07E,     480,          1,     200505,         19,         19,2,19970819,       0000,    63.0333,   -35.4567,       2656,   200.5,   5.8278,  34.9931,2,  34.9929,2,  -999.0,9,    8.28,2,   15.85,2,    0.02,2,    1.05,2,-999.000,9,-999.000,9,  -999.0,9,   5.8108
06MT19970815,      AR07E,     480,          1,     200504,         18,         18,2,19970819,       0000,    63.0333,   -35.4567,       2656,   301.2,   5.0306,  34.9435,2,  34.9436,2,  -999.0,9,    8.88,2,   16.41,2,    0.03,2,    1.08,2,-999.000,9,-999.000,9,  -999.0,9,   5.0067
06MT19970815,      AR07E,     480,          1,     200503,         17,         17,2,19970819,       0000,    63.0333,   -35.4567,       2656,   401.6,   4.4529,  34.8998,2,  34.8995,2,  -999.0,9,    8.97,2,   16.53,2,    0.03,2,    1.10,2,-999.000,9,-999.000,9,  -999.0,9,   4.4226
06MT19970815,      AR07E,     480,          1,     200502,         16,         16,2,19970819,       0000,    63.0333,   -35.4567,       2656,   501.6,   4.1092,  34.8884,2,  34.8862,2,  -999.0,9,    9.27,2,   16.90,2,    0.03,2,    1.11,2,-999.000,9,-999.000,9,  -999.0,9,   4.0724
06MT19970815,      AR07E,     480,          1,     202500,         15,         15,2,19970819,       0000,    63.0333,   -35.4567,       2656,   601.3,   3.9754,  34.8968,2,  34.8969,2,   281.7,2, -999.00,9, -999.00,9, -999.00,9, -999.00,9,-999.000,9,-999.000,9,  -999.0,9,   3.9314
06MT19970815,      AR07E,     480,          1,     202499,         14,         14,2,19970819,       0000,    63.0333,   -35.4567,       2656,   702.5,   3.9328,  34.9125,2,  34.9129,2,   275.5,3,    9.92,2,   17.24,2,    0.03,2,    1.12,2,-999.000,9,-999.000,9,  -999.0,9,   3.8811
06MT19970815,      AR07E,     480,          1,     202498,         13,         13,2,19970819,       0000,    63.0333,   -35.4567,       2656,   801.1,   3.7468,  34.9093,2,  34.9104,2,   277.5,2,   10.03,2,   17.27,2,    0.01,2,    1.13,2,-999.000,9,-999.000,9,  -999.0,9,   3.6884
06MT19970815,      AR07E,     480,          1,     202497,         12,         12,2,19970819,       0000,    63.0333,   -35.4567,       2656,   902.2,   3.6907,  34.9135,2,  34.9138,2,   277.6,2,   10.16,2,   17.15,2,    0.04,2,    1.12,2,-999.000,9,-999.000,9,  -999.0,9,   3.6246
06MT19970815,      AR07E,     480,          1,     202496,         11,         11,2,19970819,       0000,    63.0333,   -35.4567,       2656,  1003.8,   3.5972,  34.9103,2,  34.9109,2,   279.6,2,   10.17,2,   17.06,2,    0.04,2,    1.12,2,   3.441,3,   1.624,3,  -999.0,9,   3.5236
06MT19970815,      AR07E,     480,          1,     202495,         10,         10,2,19970819,       0000,    63.0333,   -35.4567,       2656,  1300.3,   3.1878,  34.8726,2,  34.8728,2,   292.6,2,   10.03,2,   16.91,2,    0.04,2,    1.11,2,   3.975,3,   1.848,3,  -999.0,9,   3.0938
06MT19970815,      AR07E,     480,          1,     202494,          9,          9,2,19970819,       0000,    63.0333,   -35.4567,       2656,  1500.9,   3.0889,  34.8648,2,  34.8653,2,   296.4,2,    9.94,2,   16.73,2,    0.04,2,    1.11,2,   4.057,3,   1.914,3,  -999.0,9,   2.9792
06MT19970815,      AR07E,     480,          1,     202493,          8,          8,2,19970819,       0000,    63.0333,   -35.4567,       2656,  1701.1,   3.0238,  34.8588,2,  34.8589,2,   298.6,2,    9.90,2,   16.78,2,    0.01,2,    1.10,2,   4.185,3,   1.960,3,  -999.0,9,   2.8978
06MT19970815,      AR07E,     480,          1,     202492,          7,          7,2,19970819,       0000,    63.0333,   -35.4567,       2656,  1800.9,   3.0075,  34.8588,2,  34.8591,2,   297.8,2,    9.94,2,   16.74,2,    0.03,2,    1.10,2,   4.076,3,   1.886,3,  -999.0,9,   2.8729
06MT19970815,      AR07E,     480,          1,     202491,          6,          6,2,19970819,       0000,    63.0333,   -35.4567,       2656,  1901.2,   2.9767,  34.8564,2,  34.8559,2,   298.0,2,    9.91,2,   16.68,2,    0.02,2,    1.10,2,   4.244,3,   1.955,3,  -999.0,9,   2.8337
06MT19970815,      AR07E,     480,          1,     202490,          5,          5,2,19970819,       0000,    63.0333,   -35.4567,       2656,  2000.7,   3.0164,  34.8668,2,  34.8669,2,   295.2,2,   10.10,2,   16.56,2,    0.02,2,    1.09,2,   3.816,3,   1.791,3,  -999.0,9,   2.8637
06MT19970815,      AR07E,     480,          1,     202489,          4,          4,2,19970819,       0000,    63.0333,   -35.4567,       2656,  2300.5,   2.9164,  34.8948,2,  34.8936,2,   287.9,2,   10.83,2,   16.22,2,    0.01,2,    1.08,2,   2.999,3,   1.412,3,  -999.0,9,   2.7374
06MT19970815,      AR07E,     480,          1,     202488,          3,          3,2,19970819,       0000,    63.0333,   -35.4567,       2656,  2500.5,   1.6883,  34.8734,2,  34.8734,2,   300.3,2,    8.38,2,   14.34,2,    0.03,2,    0.97,2,   3.929,3,   1.816,3,  -999.0,9,   1.5128
06MT19970815,      AR07E,     480,          1,     202487,          2,          2,2,19970819,       0000,    63.0333,   -35.4567,       2656,  2601.1,   1.1490,  34.8815,2,  34.8810,2,   303.3,2,    7.75,2,   13.77,2,    0.05,2,    0.93,2,   3.933,3,   1.837,3,  -999.0,9,   0.9749
06MT19970815,      AR07E,     480,          1,     202486,          1,          1,2,19970819,       0000,    63.0333,   -35.4567,       2656,  2667.3,   1.1503,  34.8812,2,  34.8812,2,   303.7,2,    7.75,2,   13.63,2,    0.07,2,    0.93,2,   3.951,3,   1.851,3,  -999.0,9,   0.9704