BOTTLE,20220204CCHSIOENA
EXPOCODE,SECT_ID,STNNBR,CASTNO,BIONBR,SAMPNO,BTLNBR,BTLNBR_FLAG_W,DATE,TIME,LATITUDE,LONGITUDE,DEPTH,CTDPRS,CTDTMP,CTDSAL,CTDSAL_FLAG_W,SALNTY,SALNTY_FLAG_W,OXYGEN,OXYGEN_FLAG_W,SILCAT,SILCAT_FLAG_W,NITRAT,NITRAT_FLAG_W,NITRIT,NITRIT_FLAG_W,PHSPHT,PHSPHT_FLAG_W,CFC-11,CFC-11_FLAG_W,CFC-12,CFC-12_FLAG_W,TCARBN,TCARBN_FLAG_W,THETA
,,,,,,,,,,,,METERS,DBAR,ITS-90,PSS-78,,PSS-78,,UMOL/KG,,UMOL/KG,,UMOL/KG,,UMOL/KG,,UMOL/KG,,PMOL/KG,,PMOL/KG,,UMOL/KG,,DEG C
06MT19970815,      AR07E,     531,          1,     203640,         22,         22,2,19970829,       0000,    56.5850,   -27.5733,       2750,     9.3,  12.6161,  35.2033,2,  35.2017,2,   267.1,2,    0.32,2,    1.89,2,    0.16,2,    0.21,2,   3.409,2,   1.834,3,  2061.5,2,  12.6149
06MT19970815,      AR07E,     531,          1,     203639,         21,         21,2,19970829,       0000,    56.5850,   -27.5733,       2750,    49.6,  10.4369,  35.3218,2,  35.3235,2,   249.1,2,    4.14,2,   11.64,2,    0.05,2,    0.75,2,-999.000,9,-999.000,9,  2061.7,2,  10.4310
06MT19970815,      AR07E,     531,          1,     203638,         20,         20,2,19970829,       0000,    56.5850,   -27.5733,       2750,    75.0,   9.9956,  35.3156,2,  35.3133,2,   253.5,2,    5.33,2,   12.57,2,    0.04,2,    0.82,2,-999.000,9,-999.000,9,  2122.8,2,   9.9869
06MT19970815,      AR07E,     531,          1,     203637,         19,         19,2,19970829,       0000,    56.5850,   -27.5733,       2750,    99.2,   9.7282,  35.2822,2,  35.2806,2,  -999.0,9,    5.59,2,   12.74,2,    0.03,2,    0.83,2,-999.000,9,-999.000,9,  2128.0,2,   9.7169
06MT19970815,      AR07E,     531,          1,     203636,         18,         18,2,19970829,       0000,    56.5850,   -27.5733,       2750,   151.1,   9.2595,  35.2335,2,  35.2325,2,   256.9,2,    6.27,2,   13.42,2,    0.03,2,    0.88,2,-999.000,9,-999.000,9,  2128.7,2,   9.2428
06MT19970815,      AR07E,     531,          1,     203635,         17,         17,2,19970829,       0000,    56.5850,   -27.5733,       2750,   201.2,   8.8411,  35.1800,2,  35.1756,2,   257.1,2,    6.68,2,   13.90,2,    0.03,2,    0.92,2,   3.590,2,   1.875,3,  2131.6,2,   8.8194
06MT19970815,      AR07E,     531,          1,     203634,         16,         16,2,19970829,       0000,    56.5850,   -27.5733,       2750,   398.3,   7.6466,  35.0784,2,  35.0753,2,   244.0,2,    8.47,2,   16.14,2,    0.02,2,    1.06,2,   3.298,2,   1.713,3,  2146.2,2,   7.6068
06MT19970815,      AR07E,     531,          1,     203633,         15,         15,2,19970829,       0000,    56.5850,   -27.5733,       2750,   599.7,   6.7956,  35.0820,2,  35.0775,2,   246.9,2,    9.10,2,   16.78,2,    0.02,2,    1.10,2,   3.275,2,   1.678,3,  2152.0,2,   6.7386
06MT19970815,      AR07E,     531,          1,     203632,         14,         14,2,19970829,       0000,    56.5850,   -27.5733,       2750,   800.3,   5.1715,  34.9833,2,  34.9850,2,   238.0,2,   11.39,2,   18.92,2,    0.01,2,    1.24,2,   2.552,2,   1.245,3,  2165.3,2,   5.1043
06MT19970815,      AR07E,     531,          1,     203631,         13,         13,2,19970829,       0000,    56.5850,   -27.5733,       2750,  1000.3,   4.3529,  34.9475,2,  34.9452,0,   255.4,2,   11.25,2,   18.37,2,    0.02,2,    1.20,2,   2.590,2,   1.250,3,  2159.9,2,   4.2738
06MT19970815,      AR07E,     531,          1,     203630,         12,         12,2,19970829,       0000,    56.5850,   -27.5733,       2750,  1199.1,   3.8696,  34.9160,2,  34.9170,2,   269.4,2,   11.06,2,   17.96,2,    0.01,2,    1.18,2,   2.609,2,   1.268,3,  2155.3,2,   3.7775
06MT19970815,      AR07E,     531,          1,     203629,         11,         11,2,19970829,       0000,    56.5850,   -27.5733,       2750,  1400.0,   3.5860,  34.8987,2,  34.8991,2,   276.9,2,   10.90,2,   17.55,2,    0.01,2,    1.16,2,   2.611,2,   1.266,3,  2152.4,2,   3.4794
06MT19970815,      AR07E,     531,          1,     203628,         10,         10,2,19970829,       0000,    56.5850,   -27.5733,       2750,  1600.1,   3.4031,  34.8888,2,  34.8888,2,   283.3,2,   10.89,2,   17.27,2,    0.02,2,    1.14,2,   2.700,2,   1.315,3,  2150.7,2,   3.2811
06MT19970815,      AR07E,     531,          1,     203627,          9,          9,2,19970829,       0000,    56.5850,   -27.5733,       2750,  1699.4,   3.3543,  34.8901,2,  34.8896,2,   283.1,2,   10.86,2,   17.08,2,    0.02,2,    1.14,2,   2.635,2,   1.275,3,  2150.3,2,   3.2241
06MT19970815,      AR07E,     531,          1,     203626,          8,          8,2,19970829,       0000,    56.5850,   -27.5733,       2750,  1800.7,   3.3032,  34.8923,2,  34.8916,2,   284.1,2,   10.97,2,   17.05,2,    0.02,2,    1.12,2,   2.573,2,   1.239,3,  2150.8,2,   3.1645
06MT19970815,      AR07E,     531,          1,     203625,          7,          7,2,19970829,       0000,    56.5850,   -27.5733,       2750,  1901.1,   3.2689,  34.8963,2,  34.8961,2,   283.0,2,   11.17,2,   16.94,2,    0.02,2,    1.13,2,   2.515,2,   1.220,3,  2151.5,2,   3.1216
06MT19970815,      AR07E,     531,          1,     203624,          6,          6,2,19970829,       0000,    56.5850,   -27.5733,       2750,  2101.0,   3.2991,  34.9268,2,  34.9273,2,   278.5,2,   11.83,2,   16.80,2,    0.02,2,    1.12,2,   2.025,2,   0.989,3,  2152.5,2,   3.1326
06MT19970815,      AR07E,     531,          1,     203623,          5,          5,2,19970829,       0000,    56.5850,   -27.5733,       2750,  2301.3,   3.2059,  34.9568,2,  34.9585,2,   274.7,2,   12.75,2,   16.53,2,    0.02,2,    1.11,2,   1.887,2,   0.917,3,  2155.8,2,   3.0216
06MT19970815,      AR07E,     531,          1,     203622,          4,          4,2,19970829,       0000,    56.5850,   -27.5733,       2750,  2402.2,   3.0670,  34.9625,2,  34.9629,2,   274.9,2,   13.50,2,   16.46,2,    0.00,2,    1.10,2,   1.908,2,   0.941,3,  2156.6,2,   2.8753
06MT19970815,      AR07E,     531,          1,     203621,          3,          3,2,19970829,       0000,    56.5850,   -27.5733,       2750,  2501.5,   2.9074,  34.9638,2,  34.9646,2,   274.8,2,   14.44,2,   16.46,2,    0.02,2,    1.10,2,-999.000,9,-999.000,9,  2158.3,2,   2.7089
06MT19970815,      AR07E,     531,          1,     203620,          2,          2,2,19970829,       0000,    56.5850,   -27.5733,       2750,  2653.3,   2.7113,  34.9637,2,  34.9636,2,   275.0,2,   14.98,2,   16.31,2,    0.02,2,    1.10,2,   2.185,2,   1.068,3,  -999.0,9,   2.5016
06MT19970815,      AR07E,     531,          1,     203619,          1,          1,2,19970829,       0000,    56.5850,   -27.5733,       2750,  2760.0,   2.6619,  34.9644,2,  34.9645,2,   275.1,2,   14.94,2,   16.18,2,    0.02,2,    1.09,2,   2.294,2,   1.128,3,  -999.0,9,   2.4426
06MT19970815,      AR07E,     532,          1,     203662,         22,         22,2,19970829,       0000,    56.1833,   -27.2583,       2776,     9.5,  13.6908,  35.1979,2,  35.1956,2,   255.7,2,    0.73,2,    0.99,2,    0.16,2,    0.17,2,   3.192,2,   1.724,3,  2060.0,2,  13.6895
06MT19970815,      AR07E,     532,          1,     203661,         21,         21,2,19970829,       0000,    56.1833,   -27.2583,       2776,    49.9,  11.3358,  35.1758,2,  35.1805,2,   247.0,2,    2.18,2,    7.06,2,    0.58,2,    0.55,2,-999.000,9,-999.000,9,  -999.0,9,  11.3296
06MT19970815,      AR07E,     532,          1,     203660,         20,         20,2,19970829,       0000,    56.1833,   -27.2583,       2776,   100.3,   9.3834,  35.2193,2,  35.2162,2,   251.0,2,    6.12,2,   13.39,2,    0.04,2,    0.88,2,-999.000,9,-999.000,9,  -999.0,9,   9.3722
06MT19970815,      AR07E,     532,          1,     203659,         19,         19,2,19970829,       0000,    56.1833,   -27.2583,       2776,   200.1,   7.8424,  35.0391,2,  35.0352,2,   253.1,2,    7.67,2,   14.96,2,    0.02,2,    1.00,2,-999.000,9,-999.000,9,  -999.0,9,   7.8224
06MT19970815,      AR07E,     532,          1,     203658,         18,         18,2,19970829,       0000,    56.1833,   -27.2583,       2776,   300.1,   7.3443,  35.0168,2,  35.0143,2,   256.2,2,    7.99,2,   15.41,2,    0.03,2,    1.03,2,-999.000,9,-999.000,9,  -999.0,9,   7.3152
06MT19970815,      AR07E,     532,          1,     203657,         17,         17,2,19970829,       0000,    56.1833,   -27.2583,       2776,   501.2,   6.2769,  35.0439,2,  35.0446,2,   223.5,2,   10.86,2,   18.60,2,    0.01,2,    1.22,2,   2.547,2,   1.265,3,  -999.0,9,   6.2316
06MT19970815,      AR07E,     532,          1,     203656,         16,         16,2,19970829,       0000,    56.1833,   -27.2583,       2776,   600.9,   5.4973,  34.9936,2,  34.9948,2,   231.5,2,   11.24,2,   18.84,2,    0.00,2,    1.24,2,-999.000,9,-999.000,9,  -999.0,9,   5.4462
06MT19970815,      AR07E,     532,          1,     203655,         15,         15,2,19970829,       0000,    56.1833,   -27.2583,       2776,   801.7,   4.5773,  34.9602,2,  34.9602,2,   249.4,2,   11.21,2,   18.46,2,    0.01,2,    1.21,2,-999.000,9,-999.000,9,  -999.0,9,   4.5136
06MT19970815,      AR07E,     532,          1,     203654,         14,         14,2,19970829,       0000,    56.1833,   -27.2583,       2776,  1000.0,   4.0430,  34.9288,2,  34.9298,2,   263.1,2,   11.06,2,   18.08,2,    0.01,2,    1.19,2,   2.636,2,   1.271,3,  -999.0,9,   3.9663
06MT19970815,      AR07E,     532,          1,     203653,         13,         13,2,19970829,       0000,    56.1833,   -27.2583,       2776,  1200.4,   3.6776,  34.9056,2,  34.9054,2,   274.0,2,   10.82,2,   17.53,2,    0.02,2,    1.16,2,   2.675,2,   1.295,3,  -999.0,9,   3.5871
06MT19970815,      AR07E,     532,          1,     203652,         12,         12,2,19970829,       0000,    56.1833,   -27.2583,       2776,  1400.1,   3.4576,  34.8926,2,  34.8922,2,   280.2,2,   10.72,2,   17.27,2,    0.01,2,    1.15,2,   2.667,2,   1.288,3,  -999.0,9,   3.3524
06MT19970815,      AR07E,     532,          1,     203651,         11,         11,2,19970829,       0000,    56.1833,   -27.2583,       2776,  1600.4,   3.3484,  34.8923,2,  34.8913,2,   282.9,2,   10.78,2,   17.09,2,    0.01,2,    1.13,2,   2.645,2,   1.278,3,  -999.0,9,   3.2270
06MT19970815,      AR07E,     532,          1,     203650,         10,         10,2,19970829,       0000,    56.1833,   -27.2583,       2776,  1700.4,   3.3042,  34.8949,2,  34.8947,2,   282.8,2,   10.83,2,   16.88,2,    0.01,2,    1.12,2,   2.615,2,   1.258,3,  -999.0,9,   3.1745
06MT19970815,      AR07E,     532,          1,     203649,          9,          9,2,19970829,       0000,    56.1833,   -27.2583,       2776,  1801.3,   3.2845,  34.9046,2,  34.9039,2,   282.2,2,   11.14,2,   16.80,2,    0.01,2,    1.12,2,   2.409,2,   1.156,3,  -999.0,9,   3.1460
06MT19970815,      AR07E,     532,          1,     203648,          8,          8,2,19970829,       0000,    56.1833,   -27.2583,       2776,  1901.4,   3.3008,  34.9194,2,  34.9192,2,   279.8,2,   11.47,2,   16.67,2,    0.01,2,    1.12,2,   2.240,2,   1.057,3,  -999.0,9,   3.1529
06MT19970815,      AR07E,     532,          1,     203647,          7,          7,2,19970829,       0000,    56.1833,   -27.2583,       2776,  2100.1,   3.2607,  34.9439,2,  34.9438,2,   275.7,2,   12.27,2,   16.70,2,    0.01,2,    1.11,2,   1.824,2,   0.878,3,  -999.0,9,   3.0948
06MT19970815,      AR07E,     532,          1,     203646,          6,          6,2,19970829,       0000,    56.1833,   -27.2583,       2776,  2299.9,   3.1276,  34.9574,2,  34.9577,2,   274.4,2,   13.40,2,   16.57,2,    0.02,2,    1.11,2,   1.772,2,   0.860,3,  -999.0,9,   2.9448
06MT19970815,      AR07E,     532,          1,     203645,          5,          5,2,19970829,       0000,    56.1833,   -27.2583,       2776,  2401.3,   3.0144,  34.9629,2,  34.9620,2,   274.1,2,   13.84,2,   16.28,2,    0.04,2,    1.11,2,   1.882,2,   0.906,3,  -999.0,9,   2.8237
06MT19970815,      AR07E,     532,          1,     203644,          4,          4,2,19970829,       0000,    56.1833,   -27.2583,       2776,  2498.2,   2.8985,  34.9641,2,  34.9642,2,   274.3,2,   14.53,2,   16.52,2,    0.01,2,    1.10,2,   1.957,2,   0.944,3,  -999.0,9,   2.7005
06MT19970815,      AR07E,     532,          1,     203643,          3,          3,2,19970829,       0000,    56.1833,   -27.2583,       2776,  2600.1,   2.7936,  34.9620,2,  34.9621,2,   273.8,2,   15.77,2,   16.60,2,    0.01,2,    1.12,2,   1.961,2,   0.955,3,  -999.0,9,   2.5876
06MT19970815,      AR07E,     532,          1,     203642,          2,          2,2,19970829,       0000,    56.1833,   -27.2583,       2776,  2701.5,   2.7089,  34.9645,2,  34.9647,2,   276.0,2,   14.60,2,   16.29,2,    0.01,2,    1.09,2,   2.240,2,   1.071,3,  -999.0,9,   2.4945
06MT19970815,      AR07E,     532,          1,     203641,          1,          1,2,19970829,       0000,    56.1833,   -27.2583,       2776,  2786.0,   2.6719,  34.9650,2,  34.9650,2,   276.4,2,   14.89,2,   16.04,2,    0.08,2,    1.09,2,   2.282,2,   1.092,3,  -999.0,9,   2.4498
06MT19970815,      AR07E,     533,          1,     203684,         22,         22,2,19970830,       0000,    55.7817,   -26.9133,       2966,     9.2,  13.6123,  35.2072,2,-999.0000,9,   257.7,2,    0.34,2,    1.01,2,    0.17,2,    0.18,2,   3.228,2,   1.803,3,  2056.3,2,  13.6110
06MT19970815,      AR07E,     533,          1,     203683,         21,         21,2,19970830,       0000,    55.7817,   -26.9133,       2966,    49.6,  10.6368,  35.1119,2,  35.1684,0,   242.7,2,    3.41,2,    9.56,2,    0.09,2,    0.65,2,-999.000,9,-999.000,9,  2112.4,2,  10.6308
06MT19970815,      AR07E,     533,          1,     203682,         20,         20,2,19970830,       0000,    55.7817,   -26.9133,       2966,    74.8,  10.5754,  35.3392,2,  35.3383,2,   243.9,2,    4.70,2,   11.98,2,    0.04,2,    0.77,2,-999.000,9,-999.000,9,  2127.4,2,  10.5664
06MT19970815,      AR07E,     533,          1,     203681,         19,         19,2,19970830,       0000,    55.7817,   -26.9133,       2966,   100.4,  10.1299,  35.3293,2,  35.3302,2,  -999.0,9,    5.35,2,   12.58,2,    0.02,2,    0.81,2,-999.000,9,-999.000,9,  2130.9,2,  10.1182
06MT19970815,      AR07E,     533,          1,     203680,         18,         18,2,19970830,       0000,    55.7817,   -26.9133,       2966,   200.4,   9.1218,  35.2021,2,  35.2022,2,   258.9,2,    6.66,2,   13.85,2,    0.01,2,    0.91,2,-999.000,9,-999.000,9,  2137.9,2,   9.0998
06MT19970815,      AR07E,     533,          1,     203679,         17,         17,2,19970830,       0000,    55.7817,   -26.9133,       2966,   300.3,   8.5153,  35.1467,2,  35.1488,2,  -999.0,9,    7.16,2,   14.44,2,    0.03,2,    0.95,2,   3.415,2,   1.825,3,  2140.3,2,   8.4835
06MT19970815,      AR07E,     533,          1,     203678,         16,         16,2,19970830,       0000,    55.7817,   -26.9133,       2966,   500.6,   6.3575,  34.9925,2,  34.9779,2,   220.4,2,   11.08,2,   18.96,2,    0.02,2,    1.25,2,-999.000,9,-999.000,9,  2167.5,2,   6.3120
06MT19970815,      AR07E,     533,          1,     203677,         15,         15,2,19970830,       0000,    55.7817,   -26.9133,       2966,   700.3,   5.0311,  34.9728,2,  34.9713,2,   238.6,2,   11.44,2,   18.82,2,    0.02,2,    1.23,2,-999.000,9,-999.000,9,  2168.0,2,   4.9736
06MT19970815,      AR07E,     533,          1,     203676,         14,         14,2,19970830,       0000,    55.7817,   -26.9133,       2966,   899.8,   4.3234,  34.9434,2,  34.9459,2,   255.8,2,   11.20,2,   18.27,2,    0.02,2,    1.20,2,   2.649,2,   1.302,3,  2163.0,2,   4.2531
06MT19970815,      AR07E,     533,          1,     203675,         13,         13,2,19970830,       0000,    55.7817,   -26.9133,       2966,  1099.2,   3.9074,  34.9194,2,  34.8927,0,   267.4,2,   11.05,2,   17.82,2,    0.00,2,    1.17,2,   2.635,2,   1.283,3,  2156.7,2,   3.8234
06MT19970815,      AR07E,     533,          1,     203674,         12,         12,2,19970830,       0000,    55.7817,   -26.9133,       2966,  1299.7,   3.6056,  34.9005,2,  34.9003,2,   277.1,2,   10.88,2,   17.44,2,    0.01,2,    1.15,2,-999.000,9,-999.000,9,  2154.8,2,   3.5074
06MT19970815,      AR07E,     533,          1,     203673,         11,         11,2,19970830,       0000,    55.7817,   -26.9133,       2966,  1499.9,   3.4294,  34.8900,2,  34.8899,2,   281.1,2,   10.82,2,   17.23,2,    0.01,2,    1.14,2,   2.705,2,   1.320,3,  2152.6,2,   3.3159
06MT19970815,      AR07E,     533,          1,     203672,         10,         10,2,19970830,       0000,    55.7817,   -26.9133,       2966,  1698.4,   3.2958,  34.8852,2,  34.8846,2,   284.8,2,   10.85,2,   16.99,2,    0.01,2,    1.13,2,   2.762,2,   1.344,3,  2150.8,2,   3.1664
06MT19970815,      AR07E,     533,          1,     203671,          9,          9,2,19970830,       0000,    55.7817,   -26.9133,       2966,  1800.3,   3.2601,  34.8872,2,  34.8869,2,   285.2,2,   10.90,2,   16.89,2,    0.02,2,    1.12,2,   2.683,2,   1.308,3,  2149.4,2,   3.1221
06MT19970815,      AR07E,     533,          1,     203670,          8,          8,2,19970830,       0000,    55.7817,   -26.9133,       2966,  1899.9,   3.2476,  34.8939,2,  34.8944,2,   284.1,2,   11.08,2,   16.82,2,    0.01,2,    1.12,2,   2.579,2,   1.249,3,  2147.6,2,   3.1007
06MT19970815,      AR07E,     533,          1,     203669,          7,          7,2,19970830,       0000,    55.7817,   -26.9133,       2966,  2000.6,   3.2782,  34.9110,2,-999.0000,9,  -999.0,9,   11.43,2,   16.82,2,    0.01,2,    1.12,2,-999.000,9,-999.000,9,  2159.4,3,   3.1215
06MT19970815,      AR07E,     533,          1,     203668,          6,          6,2,19970830,       0000,    55.7817,   -26.9133,       2966,  2195.7,   3.2978,  34.9428,2,  34.9439,2,   276.1,2,   12.14,2,   16.76,2,    0.00,2,    1.11,2,   1.903,2,   0.920,3,  2159.1,3,   3.1222
06MT19970815,      AR07E,     533,          1,     203667,          5,          5,2,19970830,       0000,    55.7817,   -26.9133,       2966,  2400.5,   3.1780,  34.9559,2,  34.9570,2,   274.8,2,   13.01,2,   16.78,2,    0.01,2,    1.11,2,   1.847,2,   0.898,3,  2161.4,3,   2.9845
06MT19970815,      AR07E,     533,          1,     203666,          4,          4,2,19970830,       0000,    55.7817,   -26.9133,       2966,  2601.2,   2.9791,  34.9614,2,  34.9607,2,   272.4,2,   14.93,2,   16.77,2,    0.01,2,    1.12,2,   1.819,2,   0.892,3,  2165.7,3,   2.7694
06MT19970815,      AR07E,     533,          1,     203665,          3,          3,2,19970830,       0000,    55.7817,   -26.9133,       2966,  2801.5,   2.7992,  34.9594,2,  34.9597,2,   272.1,2,   16.90,2,   16.73,2,    0.02,2,    1.14,2,   1.877,2,   0.916,3,  -999.0,9,   2.5730
06MT19970815,      AR07E,     533,          1,     203664,          2,          2,2,19970830,       0000,    55.7817,   -26.9133,       2966,  2901.3,   2.7416,  34.9596,2,  34.9598,2,   272.4,2,   17.19,2,   16.87,2,    0.02,2,    1.13,2,   1.974,2,   0.952,3,  2164.0,2,   2.5064
06MT19970815,      AR07E,     533,          1,     203663,          1,          1,2,19970830,       0000,    55.7817,   -26.9133,       2966,  2981.2,   2.6834,  34.9629,2,  34.9632,2,   274.8,2,   15.67,2,   16.11,2,    0.02,2,    1.10,2,   2.262,2,   1.090,3,  2163.6,2,   2.4412