BOTTLE,20220204CCHSIOENA
EXPOCODE,SECT_ID,STNNBR,CASTNO,BIONBR,SAMPNO,BTLNBR,BTLNBR_FLAG_W,DATE,TIME,LATITUDE,LONGITUDE,DEPTH,CTDPRS,CTDTMP,CTDSAL,CTDSAL_FLAG_W,SALNTY,SALNTY_FLAG_W,OXYGEN,OXYGEN_FLAG_W,SILCAT,SILCAT_FLAG_W,NITRAT,NITRAT_FLAG_W,NITRIT,NITRIT_FLAG_W,PHSPHT,PHSPHT_FLAG_W,CFC-11,CFC-11_FLAG_W,CFC-12,CFC-12_FLAG_W,TCARBN,TCARBN_FLAG_W,THETA
,,,,,,,,,,,,METERS,DBAR,ITS-90,PSS-78,,PSS-78,,UMOL/KG,,UMOL/KG,,UMOL/KG,,UMOL/KG,,UMOL/KG,,PMOL/KG,,PMOL/KG,,UMOL/KG,,DEG C
06MT19970815,      AR07E,     501,          1,     203036,         22,         22,2,19970823,       0000,    60.7317,   -38.0967,       2906,    10.9,   9.9000,  34.7015,2,  34.7025,2,   288.3,2,    0.53,2,    5.33,2, -999.00,9,    0.44,2,-999.000,9,-999.000,9,  -999.0,9,   9.8988
06MT19970815,      AR07E,     501,          1,     203035,         21,         21,2,19970823,       0000,    60.7317,   -38.0967,       2906,   100.1,   4.1836,  34.8409,2,  34.8435,2,   290.4,2,    8.73,2,   16.74,2, -999.00,9,    1.09,2,   4.029,2,   1.959,3,  -999.0,9,   4.1765
06MT19970815,      AR07E,     501,          1,     203034,         20,         20,2,19970823,       0000,    60.7317,   -38.0967,       2906,   199.7,   3.9383,  34.8647,2,  34.8717,2,   290.0,2,    9.00,2,   16.72,2, -999.00,9,    1.08,2,-999.000,9,-999.000,9,  -999.0,9,   3.9244
06MT19970815,      AR07E,     501,          1,     203033,         19,         19,2,19970823,       0000,    60.7317,   -38.0967,       2906,   401.5,   3.4245,  34.8410,2,  34.8468,2,   290.1,2,    9.46,2,   17.11,2, -999.00,9,    1.10,2,   4.048,2,   1.974,3,  -999.0,9,   3.3975
06MT19970815,      AR07E,     501,          1,     203032,         18,         18,2,19970823,       0000,    60.7317,   -38.0967,       2906,   499.9,   3.4175,  34.8539,2,  34.8592,2,   294.8,2,    9.40,2,   16.98,2, -999.00,9,    1.10,2,   4.063,2,   1.966,3,  -999.0,9,   3.3836
06MT19970815,      AR07E,     501,          1,     203031,         17,         17,2,19970823,       0000,    60.7317,   -38.0967,       2906,   700.3,   3.3130,  34.8603,2,  34.8662,2,   290.6,2,    9.78,2,   17.17,2, -999.00,9,    1.11,2,-999.000,9,-999.000,9,  -999.0,9,   3.2649
06MT19970815,      AR07E,     501,          1,     203030,         16,         16,2,19970823,       0000,    60.7317,   -38.0967,       2906,   800.1,   3.3053,  34.8690,2,  34.8750,2,   286.7,2,   10.04,2,   17.32,2, -999.00,9,    1.12,2,-999.000,9,-999.000,9,  -999.0,9,   3.2498
06MT19970815,      AR07E,     501,          1,     203029,         15,         15,2,19970823,       0000,    60.7317,   -38.0967,       2906,   900.5,   3.2347,  34.8665,2,  34.8723,2,   289.9,2,   10.00,2,   17.21,2, -999.00,9,    1.12,2,-999.000,9,-999.000,9,  -999.0,9,   3.1720
06MT19970815,      AR07E,     501,          1,     203028,         14,         14,2,19970823,       0000,    60.7317,   -38.0967,       2906,  1000.8,   3.1560,  34.8612,2,  34.8658,2,   292.1,2,   10.01,2,   17.13,2, -999.00,9,    1.11,2,-999.000,9,-999.000,9,  -999.0,9,   3.0862
06MT19970815,      AR07E,     501,          1,     203027,         13,         13,2,19970823,       0000,    60.7317,   -38.0967,       2906,  1200.4,   3.0279,  34.8508,2,  34.8553,2,   297.3,2,    9.82,2,   16.96,2, -999.00,9,    1.10,2,-999.000,9,-999.000,9,  -999.0,9,   2.9435
06MT19970815,      AR07E,     501,          1,     203026,         12,         12,2,19970823,       0000,    60.7317,   -38.0967,       2906,  1400.6,   2.9732,  34.8466,2,  34.8515,2,   298.4,2,    9.74,2,   16.87,2, -999.00,9,    1.10,2,-999.000,9,-999.000,9,  -999.0,9,   2.8732
06MT19970815,      AR07E,     501,          1,     203025,         11,         11,2,19970823,       0000,    60.7317,   -38.0967,       2906,  1599.3,   2.9262,  34.8422,2,  34.8482,2,   300.2,2,    9.71,2,   16.82,2, -999.00,9,    1.09,2,-999.000,9,-999.000,9,  -999.0,9,   2.8102
06MT19970815,      AR07E,     501,          1,     203024,         10,         10,2,19970823,       0000,    60.7317,   -38.0967,       2906,  1799.6,   2.9237,  34.8445,2,  34.8502,2,   299.6,2,    9.73,2,   16.74,2, -999.00,9,    1.09,2,-999.000,9,-999.000,9,  -999.0,9,   2.7904
06MT19970815,      AR07E,     501,          1,     203023,          9,          9,2,19970823,       0000,    60.7317,   -38.0967,       2906,  2000.4,   3.0229,  34.8696,2,  34.8755,2,   293.0,2,   10.30,2,   16.72,2, -999.00,9,    1.09,2,   4.021,2,   1.950,3,  -999.0,9,   2.8702
06MT19970815,      AR07E,     501,          1,     203022,          8,          8,2,19970823,       0000,    60.7317,   -38.0967,       2906,  2099.7,   3.0870,  34.8900,2,  34.8958,2,   287.1,2,   10.88,2,   16.72,2, -999.00,9,    1.09,2,-999.000,9,-999.000,9,  -999.0,9,   2.9240
06MT19970815,      AR07E,     501,          1,     203021,          7,          7,2,19970823,       0000,    60.7317,   -38.0967,       2906,  2200.9,   3.0893,  34.9006,2,  34.9052,2,   284.3,2,   11.19,2,   16.64,2, -999.00,9,    1.09,2,-999.000,9,-999.000,9,  -999.0,9,   2.9168
06MT19970815,      AR07E,     501,          1,     203020,          6,          6,2,19970823,       0000,    60.7317,   -38.0967,       2906,  2300.3,   3.0743,  34.9106,2,  34.9157,2,   282.1,2,   11.71,2,   16.65,2, -999.00,9,    1.09,2,-999.000,9,-999.000,9,  -999.0,9,   2.8925
06MT19970815,      AR07E,     501,          1,     203019,          5,          5,2,19970823,       0000,    60.7317,   -38.0967,       2906,  2398.9,   3.0211,  34.9148,2,  34.9190,2,   281.5,2,   11.97,2,   16.57,2, -999.00,9,    1.09,2,-999.000,9,-999.000,9,  -999.0,9,   2.8307
06MT19970815,      AR07E,     501,          1,     203018,          4,          4,2,19970823,       0000,    60.7317,   -38.0967,       2906,  2499.3,   2.9535,  34.9160,2,  34.9204,2,   281.3,2,   12.17,2,   16.50,2, -999.00,9,    1.08,2,-999.000,9,-999.000,9,  -999.0,9,   2.7545
06MT19970815,      AR07E,     501,          1,     203017,          3,          3,2,19970823,       0000,    60.7317,   -38.0967,       2906,  2601.3,   2.8370,  34.9130,2,  34.9076,0,   287.3,2,   11.61,2,   15.89,2, -999.00,9,    1.05,2,-999.000,9,-999.000,9,  -999.0,9,   2.6302
06MT19970815,      AR07E,     501,          1,     203016,          2,          2,2,19970823,       0000,    60.7317,   -38.0967,       2906,  2700.9,   2.6672,  34.9049,2,  34.9095,2,   286.6,2,   11.58,2,   15.94,2, -999.00,9,    1.05,2,   4.048,2,   1.971,3,  -999.0,9,   2.4539
06MT19970815,      AR07E,     501,          1,     203015,          1,          1,2,19970823,       0000,    60.7317,   -38.0967,       2906,  2764.7,   2.5433,  34.9043,2,  34.9084,2,  -999.0,9,   11.43,2,   15.79,2, -999.00,9,    1.04,2,-999.000,9,-999.000,9,  -999.0,9,   2.3262
06MT19970815,      AR07E,     501,          1,     203038,         24,         24,2,19970823,       0000,    60.7317,   -38.0967,       2906,  2903.0,   1.6045,  34.8825,2,  34.8882,2,   298.8,2,   11.75,2,   14.28,2, -999.00,9,    0.96,2,-999.000,9,-999.000,9,  -999.0,9,   1.3936
06MT19970815,      AR07E,     501,          3,     203039,          1,          1,2,19970823,       0000,    60.7317,   -38.0967,       2906,  1700.0,   2.9169,  34.8472,2,  34.8466,2,   300.0,2,    9.79,2,   16.70,2,    0.02,2,    1.09,2,-999.000,9,-999.000,9,  -999.0,9,   2.7924
06MT19970815,      AR07E,     501,          3,     203040,          2,          2,2,19970823,       0000,    60.7317,   -38.0967,       2906,  1700.1,   2.9170,  34.8475,2,-999.0000,9,  -999.0,9,    9.76,2,   16.76,2, -999.00,9,    1.10,2,   4.048,2,   1.971,3,  -999.0,9,-999.0000
06MT19970815,      AR07E,     501,          3,     203041,          3,          3,2,19970823,       0000,    60.7317,   -38.0967,       2906,  1700.4,   2.9173,  34.8473,2,  34.8472,2,   300.6,2,    9.77,2,   16.71,2,    0.01,2,    1.09,2,-999.000,9,-999.000,9,  -999.0,9,   2.7927
06MT19970815,      AR07E,     501,          3,     203042,          4,          4,2,19970823,       0000,    60.7317,   -38.0967,       2906,  1700.2,   2.9175,  34.8473,2,-999.0000,9,  -999.0,9,    9.77,2,   16.76,2, -999.00,9,    1.09,2,-999.000,9,-999.000,9,  -999.0,9,-999.0000
06MT19970815,      AR07E,     501,          3,     203043,          5,          5,2,19970823,       0000,    60.7317,   -38.0967,       2906,  1700.5,   2.9181,  34.8473,2,  34.8475,2,   299.8,2,    9.72,2,   16.75,2,    0.01,2,    1.10,2,-999.000,9,-999.000,9,  -999.0,9,   2.7935
06MT19970815,      AR07E,     501,          3,     203044,          6,          6,2,19970823,       0000,    60.7317,   -38.0967,       2906,  1700.8,   2.9183,  34.8473,2,  34.8477,2,   299.5,2,    9.74,2,   16.77,2,    0.01,2,    1.09,2,-999.000,9,-999.000,9,  -999.0,9,   2.7937
06MT19970815,      AR07E,     501,          3,     203045,          7,          7,2,19970823,       0000,    60.7317,   -38.0967,       2906,  1700.7,   2.9184,  34.8473,2,  34.8473,2,  -999.0,9,    9.77,2,   16.71,2,    0.01,2,    1.09,2,-999.000,9,-999.000,9,  -999.0,9,   2.7938
06MT19970815,      AR07E,     501,          3,     203046,          8,          8,2,19970823,       0000,    60.7317,   -38.0967,       2906,  1700.5,   2.9182,  34.8476,2,  34.8480,2,   300.8,2,    9.74,2,   16.74,2,    0.00,2,    1.10,2,-999.000,9,-999.000,9,  -999.0,9,   2.7936
06MT19970815,      AR07E,     501,          3,     203047,          9,          9,2,19970823,       0000,    60.7317,   -38.0967,       2906,  1700.8,   2.9179,  34.8478,2,  34.8478,2,   300.0,2,    9.72,2,   16.71,2,    0.01,2,    1.09,2,   4.021,2,   1.950,3,  -999.0,9,   2.7933
06MT19970815,      AR07E,     501,          3,     203048,         10,         10,2,19970823,       0000,    60.7317,   -38.0967,       2906,  1701.2,   2.9182,  34.8475,2,  34.8481,2,   300.0,2,    9.77,2,   16.75,2,    0.01,2,    1.09,2,-999.000,9,-999.000,9,  -999.0,9,   2.7936
06MT19970815,      AR07E,     501,          3,     203049,         11,         11,2,19970823,       0000,    60.7317,   -38.0967,       2906,  1701.9,   2.9186,  34.8474,2,-999.0000,9,  -999.0,9,    9.74,2,   16.74,2, -999.00,9,    1.09,2,-999.000,9,-999.000,9,  -999.0,9,-999.0000
06MT19970815,      AR07E,     501,          3,     203050,         12,         12,2,19970823,       0000,    60.7317,   -38.0967,       2906,  1701.1,   2.9181,  34.8474,2,  34.8477,2,   301.0,2,    9.77,2,   16.76,2,    0.00,2,    1.09,2,-999.000,9,-999.000,9,  -999.0,9,   2.7935
06MT19970815,      AR07E,     501,          3,     203051,         13,         13,2,19970823,       0000,    60.7317,   -38.0967,       2906,  1700.8,   2.9178,  34.8475,2,  34.8474,2,   300.0,2,    9.73,2,   16.76,2,    0.01,2,    1.09,2,-999.000,9,-999.000,9,  -999.0,9,   2.7932
06MT19970815,      AR07E,     501,          3,     203052,         14,         14,2,19970823,       0000,    60.7317,   -38.0967,       2906,  1700.3,   2.9178,  34.8474,2,-999.0000,9,  -999.0,9,    9.76,2,   16.74,2, -999.00,9,    1.09,2,-999.000,9,-999.000,9,  -999.0,9,-999.0000
06MT19970815,      AR07E,     501,          3,     203053,         15,         15,2,19970823,       0000,    60.7317,   -38.0967,       2906,  1700.8,   2.9179,  34.8478,2,  34.8473,2,   300.0,2,    9.76,2,   16.73,2,    0.01,2,    1.09,2,-999.000,9,-999.000,9,  -999.0,9,   2.7933
06MT19970815,      AR07E,     501,          3,     203054,         16,         16,2,19970823,       0000,    60.7317,   -38.0967,       2906,  1701.3,   2.9177,  34.8477,2,  34.8471,2,   299.7,2,    9.75,2,   16.74,2,    0.01,2,    1.09,2,-999.000,9,-999.000,9,  -999.0,9,   2.7931
06MT19970815,      AR07E,     501,          3,     203055,         17,         17,2,19970823,       0000,    60.7317,   -38.0967,       2906,  1700.7,   2.9179,  34.8476,2,-999.0000,9,  -999.0,9,    9.75,2,   16.75,2, -999.00,9,    1.09,2,-999.000,9,-999.000,9,  -999.0,9,-999.0000
06MT19970815,      AR07E,     501,          3,     203056,         18,         18,2,19970823,       0000,    60.7317,   -38.0967,       2906,  1700.7,   2.9180,  34.8477,2,  34.8473,2,   300.0,2,    9.75,2,   16.72,2,    0.01,2,    1.09,2,   4.063,2,   1.966,3,  -999.0,9,   2.7934
06MT19970815,      AR07E,     501,          3,     203057,         19,         19,2,19970823,       0000,    60.7317,   -38.0967,       2906,  1700.9,   2.9179,  34.8470,2,  34.8475,2,   300.7,2,    9.74,2,   16.74,2,    0.01,2,    1.09,2,   4.048,2,   1.974,3,  -999.0,9,   2.7933
06MT19970815,      AR07E,     501,          3,     203058,         20,         20,2,19970823,       0000,    60.7317,   -38.0967,       2906,  1701.0,   2.9180,  34.8476,2,  34.8474,2,   299.3,2,    9.81,2,   16.75,2,    0.01,2,    1.09,2,-999.000,9,-999.000,9,  -999.0,9,   2.7934
06MT19970815,      AR07E,     501,          3,     203059,         21,         21,2,19970823,       0000,    60.7317,   -38.0967,       2906,  1700.8,   2.9180,  34.8477,2,-999.0000,9,   304.6,3,    9.79,2,   16.78,2,    0.01,2,    1.09,2,   4.029,2,   1.959,3,  -999.0,9,   2.7934
06MT19970815,      AR07E,     502,          1,     203082,         22,         22,2,19970824,       0000,    60.2317,   -38.8333,       2879,    15.8,   9.1381,  34.8426,2,  34.8449,2,   290.1,2,    1.45,2,    5.48,2,    0.13,2,    0.39,2,   4.217,2,   2.144,3,  2081.8,2,   9.1364
06MT19970815,      AR07E,     502,          1,     203081,         21,         21,2,19970824,       0000,    60.2317,   -38.8333,       2879,   100.1,   5.8117,  35.0084,2,  35.0112,2,   282.5,2,    7.89,2,   15.60,2,    0.02,2,    1.01,2,   4.438,2,   2.250,3,  2145.0,2,   5.8033
06MT19970815,      AR07E,     502,          1,     203080,         20,         20,2,19970824,       0000,    60.2317,   -38.8333,       2879,   201.3,   4.9284,  34.9404,2,  34.9395,2,   283.9,2,    8.49,2,   16.06,2,    0.03,2,    1.05,2,   4.499,2,   2.207,3,  2148.5,2,   4.9128
06MT19970815,      AR07E,     502,          1,     203079,         19,         19,2,19970824,       0000,    60.2317,   -38.8333,       2879,   401.2,   3.9906,  34.8904,2,  34.8913,2,   288.3,2,    9.06,2,   16.36,2,    0.02,2,    1.07,2,   4.256,2,   2.087,3,  2150.8,2,   3.9618
06MT19970815,      AR07E,     502,          1,     203078,         18,         18,2,19970824,       0000,    60.2317,   -38.8333,       2879,   801.7,   3.2593,  34.8563,2,  34.8567,2,   291.8,2,    9.88,2,   17.09,2,    0.02,2,    1.11,2,   4.036,2,   1.959,3,  2153.2,2,   3.2040
06MT19970815,      AR07E,     502,          1,     203077,         17,         17,2,19970824,       0000,    60.2317,   -38.8333,       2879,  1002.4,   3.2467,  34.8736,2,  34.8749,2,   289.5,2,   10.08,2,   17.11,2,    0.02,2,    1.11,2,-999.000,9,-999.000,9,  2153.1,2,   3.1760
06MT19970815,      AR07E,     502,          1,     203076,         16,         16,2,19970824,       0000,    60.2317,   -38.8333,       2879,  1200.6,   3.0606,  34.8582,2,  34.8581,2,   296.3,2,    9.93,2,   16.97,2,    0.02,2,    1.11,2,   3.994,2,   1.891,3,  2151.0,2,   2.9759
06MT19970815,      AR07E,     502,          1,     203075,         15,         15,2,19970824,       0000,    60.2317,   -38.8333,       2879,  1300.1,   3.0140,  34.8541,2,  34.8548,2,   297.9,2,    9.93,2,   16.90,2,    0.02,2,    1.10,2,   4.095,2,   1.921,3,  2150.9,2,   2.9218
06MT19970815,      AR07E,     502,          1,     203074,         14,         14,2,19970824,       0000,    60.2317,   -38.8333,       2879,  1399.8,   2.9721,  34.8508,2,  34.8515,2,   297.8,2,    9.84,2,   16.73,2,    0.02,2,    1.10,2,   4.124,2,   1.933,3,  2150.2,2,   2.8722
06MT19970815,      AR07E,     502,          1,     203073,         13,         13,2,19970824,       0000,    60.2317,   -38.8333,       2879,  1500.8,   2.9472,  34.8489,2,  34.8493,2,   292.9,2,    9.75,2,   16.77,2,    0.02,2,    1.09,2,   4.172,2,   1.960,3,  2150.0,2,   2.8392
06MT19970815,      AR07E,     502,          1,     203072,         12,         12,2,19970824,       0000,    60.2317,   -38.8333,       2879,  1600.4,   2.9191,  34.8460,2,  34.8468,2,   307.4,3,    9.76,2,   16.77,2,    0.01,2,    1.09,2,   4.179,2,   1.957,3,  2149.7,2,   2.8031
06MT19970815,      AR07E,     502,          1,     203071,         11,         11,2,19970824,       0000,    60.2317,   -38.8333,       2879,  1699.9,   2.9131,  34.8461,2,  34.8467,2,   300.7,2,    9.74,2,   16.74,2,    0.01,2,    1.09,2,   4.203,2,   1.952,3,  2149.4,2,   2.7886
06MT19970815,      AR07E,     502,          1,     203070,         10,         10,2,19970824,       0000,    60.2317,   -38.8333,       2879,  1801.1,   2.9130,  34.8475,2,  34.8479,2,   300.4,2,    9.76,2,   16.74,2,    0.02,2,    1.10,2,   4.156,2,   1.914,3,  2149.1,2,   2.7797
06MT19970815,      AR07E,     502,          1,     203069,          9,          9,2,19970824,       0000,    60.2317,   -38.8333,       2879,  1900.6,   2.9456,  34.8542,2,  34.8541,2,   298.1,2,    9.87,2,   16.67,2,    0.02,2,    1.09,2,   3.997,2,   1.854,3,  2149.7,2,   2.8031
06MT19970815,      AR07E,     502,          1,     203068,          8,          8,2,19970824,       0000,    60.2317,   -38.8333,       2879,  2001.1,   3.0153,  34.8758,2,  34.8763,2,   292.3,2,   10.16,2,   16.39,2,    0.02,2,    1.08,2,   3.496,2,   1.634,3,  2154.0,2,   2.8626
06MT19970815,      AR07E,     502,          1,     203067,          7,          7,2,19970824,       0000,    60.2317,   -38.8333,       2879,  2200.9,   2.9176,  34.8899,2,  34.8884,0,  -999.0,9,   10.36,2,   16.13,2,    0.02,2,    1.06,2,-999.000,9,-999.000,9,  -999.0,9,   2.7479
06MT19970815,      AR07E,     502,          1,     203066,          6,          6,2,19970824,       0000,    60.2317,   -38.8333,       2879,  2401.2,   2.6800,  34.9031,2,  34.9007,0,   287.7,2,   11.07,2,   15.85,2,    0.02,2,    1.05,2,   3.146,2,   1.470,3,  2151.9,2,   2.4955
06MT19970815,      AR07E,     502,          1,     203065,          5,          5,2,19970824,       0000,    60.2317,   -38.8333,       2879,  2500.9,   2.4347,  34.8930,2,  34.8932,2,   291.4,2,   10.30,2,   15.38,2,    0.02,2,    1.02,2,   3.138,2,   1.479,3,  -999.0,9,   2.2452
06MT19970815,      AR07E,     502,          1,     203064,          4,          4,2,19970824,       0000,    60.2317,   -38.8333,       2879,  2600.5,   2.0424,  34.8822,2,  34.8828,2,   298.0,2,    8.99,2,   14.63,2,    0.02,2,    0.98,2,   3.698,2,   1.722,3,  2151.9,2,   1.8510
06MT19970815,      AR07E,     502,          1,     203063,          3,          3,2,19970824,       0000,    60.2317,   -38.8333,       2879,  2701.2,   1.6725,  34.8767,2,  34.8776,2,   301.7,2,    8.59,2,   14.28,2,    0.03,2,    0.95,2,   3.891,2,   1.815,3,  2152.2,2,   1.4791
06MT19970815,      AR07E,     502,          1,     203062,          2,          2,2,19970824,       0000,    60.2317,   -38.8333,       2879,  2800.9,   1.4206,  34.8780,2,  34.8790,2,   303.9,2,    8.87,2,   14.03,2,    0.02,2,    0.94,2,   3.827,2,   1.782,3,  2152.9,2,   1.2231
06MT19970815,      AR07E,     502,          1,     203061,          1,          1,2,19970824,       0000,    60.2317,   -38.8333,       2879,  2885.0,   1.3713,  34.8783,2,  34.8788,2,   303.1,2,    9.01,2,   14.02,2,    0.02,2,    0.94,2,   3.792,2,   1.768,3,  2151.1,2,   1.1671