BOTTLE,20220204CCHSIOENA
EXPOCODE,SECT_ID,STNNBR,CASTNO,BIONBR,SAMPNO,BTLNBR,BTLNBR_FLAG_W,DATE,TIME,LATITUDE,LONGITUDE,DEPTH,CTDPRS,CTDTMP,CTDSAL,CTDSAL_FLAG_W,SALNTY,SALNTY_FLAG_W,OXYGEN,OXYGEN_FLAG_W,SILCAT,SILCAT_FLAG_W,NITRAT,NITRAT_FLAG_W,NITRIT,NITRIT_FLAG_W,PHSPHT,PHSPHT_FLAG_W,CFC-11,CFC-11_FLAG_W,CFC-12,CFC-12_FLAG_W,TCARBN,TCARBN_FLAG_W,THETA
,,,,,,,,,,,,METERS,DBAR,ITS-90,PSS-78,,PSS-78,,UMOL/KG,,UMOL/KG,,UMOL/KG,,UMOL/KG,,UMOL/KG,,PMOL/KG,,PMOL/KG,,UMOL/KG,,DEG C
06MT19970815,      AR07E,     455,          1,     202267,         13,         13,2,19970815,       0000,    64.7533,   -29.0817,       1070,     9.1,  11.6762,  35.0715,2,  35.0701,2,   290.9,2,    0.16,2,    1.82,2,    0.09,2,    0.22,2,   3.776,2,   1.980,3,  -999.0,9,  11.6750
06MT19970815,      AR07E,     455,          1,     202266,         12,         12,2,19970815,       0000,    64.7533,   -29.0817,       1070,    50.3,   7.9054,  35.0536,2,  35.0559,2,   273.2,2,    5.17,2,   13.13,2,    0.13,2,    0.88,2,-999.000,9,-999.000,9,  -999.0,9,   7.9004
06MT19970815,      AR07E,     455,          1,     202265,         11,         11,2,19970815,       0000,    64.7533,   -29.0817,       1070,   100.8,   7.2979,  35.0745,2,  35.0749,2,   269.0,2,    7.22,2,   14.94,2,    0.03,2,    0.98,2,-999.000,9,-999.000,9,  -999.0,9,   7.2883
06MT19970815,      AR07E,     455,          1,     202264,         10,         10,2,19970815,       0000,    64.7533,   -29.0817,       1070,   201.2,   7.0409,  35.0981,2,  35.0995,2,   272.3,2,    7.31,2,   14.96,2,    0.02,2,    0.98,2,-999.000,9,-999.000,9,  -999.0,9,   7.0219
06MT19970815,      AR07E,     455,          1,     202263,          9,          9,2,19970815,       0000,    64.7533,   -29.0817,       1070,   301.3,   6.9215,  35.1023,2,  35.1041,2,   276.0,2,    7.23,2,   14.95,2,    0.02,2,    0.98,2,   4.107,2,   2.112,3,  -999.0,9,   6.8932
06MT19970815,      AR07E,     455,          1,     202262,          8,          8,2,19970815,       0000,    64.7533,   -29.0817,       1070,   400.8,   6.6736,  35.0792,2,  35.0796,2,   274.8,2,    7.48,2,   15.09,2,    0.02,2,    0.99,2,-999.000,9,-999.000,9,  -999.0,9,   6.6364
06MT19970815,      AR07E,     455,          1,     202261,          7,          7,2,19970815,       0000,    64.7533,   -29.0817,       1070,   502.4,   6.1634,  35.0272,2,  35.0288,2,   272.9,2,    8.14,2,   15.70,2,    0.02,2,    1.03,2,-999.000,9,-999.000,9,  -999.0,9,   6.1184
06MT19970815,      AR07E,     455,          1,     202260,          6,          6,2,19970815,       0000,    64.7533,   -29.0817,       1070,   601.7,   5.7020,  34.9908,2,  34.9911,2,   273.2,2,    8.54,2,   16.15,2,    0.01,2,    1.06,2,   3.991,2,   2.013,3,  -999.0,9,   5.6499
06MT19970815,      AR07E,     455,          1,     202259,          5,          5,2,19970815,       0000,    64.7533,   -29.0817,       1070,   701.2,   5.3611,  34.9694,2,  34.9683,2,   271.1,2,    8.94,2,   16.74,2,    0.01,2,    1.09,2,-999.000,9,-999.000,9,  -999.0,9,   5.3017
06MT19970815,      AR07E,     455,          1,     202258,          4,          4,2,19970815,       0000,    64.7533,   -29.0817,       1070,   800.9,   5.0264,  34.9587,2,  34.9587,2,   267.1,2,    9.61,2,   16.95,2,    0.01,2,    1.12,2,   3.589,2,   1.783,3,  -999.0,9,   4.9601
06MT19970815,      AR07E,     455,          1,     202257,          3,          3,2,19970815,       0000,    64.7533,   -29.0817,       1070,   901.3,   4.6905,  34.9564,2,  34.9562,2,   264.6,2,    9.91,2,   17.40,2,    0.01,2,    1.14,2,-999.000,9,-999.000,9,  -999.0,9,   4.6175
06MT19970815,      AR07E,     455,          1,     202256,          2,          2,2,19970815,       0000,    64.7533,   -29.0817,       1070,  1002.2,   4.4310,  34.9605,2,  34.9605,2,   265.1,2,   10.13,2,   17.32,2,    0.01,2,    1.14,2,   3.083,2,   1.500,3,  -999.0,9,   4.3511
06MT19970815,      AR07E,     455,          1,     202255,          1,          1,1,19970815,       0000,    64.7533,   -29.0817,       1070,  1059.1,   4.2441,  34.9602,2,  34.9603,2,  -999.0,9,   10.34,2,   17.24,2,    0.01,2,    1.13,2,-999.000,9,-999.000,9,  -999.0,9,   4.1607
06MT19970815,      AR07E,     456,          1,     202292,         22,         22,2,19970815,       0000,    64.7517,   -29.7517,       2140,     9.4,  11.2908,  35.0346,2,  35.0343,2,   295.4,2,    0.33,2,    2.70,2,    0.11,2,    0.26,2,   3.840,2,   2.007,3,  -999.0,9,  11.2896
06MT19970815,      AR07E,     456,          1,     202291,         21,         21,2,19970815,       0000,    64.7517,   -29.7517,       2140,    49.4,   8.5903,  35.0880,2,  35.0812,2,   275.2,2,    3.67,2,   10.43,2,    0.59,2,    0.76,2,-999.000,9,-999.000,9,  -999.0,9,   8.5851
06MT19970815,      AR07E,     456,          1,     202290,         20,         20,2,19970815,       0000,    64.7517,   -29.7517,       2140,   100.9,   7.5373,  35.1092,2,  35.1103,2,   271.8,2,    6.64,2,   14.49,2,    0.03,2,    0.94,2,-999.000,9,-999.000,9,  -999.0,9,   7.5275
06MT19970815,      AR07E,     456,          1,     202289,         19,         19,2,19970815,       0000,    64.7517,   -29.7517,       2140,   200.5,   7.1168,  35.1046,2,  35.1062,2,   273.1,2,    7.22,2,   15.03,2,    0.02,2,    0.98,2,   3.986,2,   2.050,3,  -999.0,9,   7.0978
06MT19970815,      AR07E,     456,          1,     202288,         18,         18,2,19970815,       0000,    64.7517,   -29.7517,       2140,   301.2,   6.8967,  35.0921,2,  35.0936,2,   274.6,2,    7.31,2,   14.99,2,    0.02,2,    0.98,2,-999.000,9,-999.000,9,  -999.0,9,   6.8685
06MT19970815,      AR07E,     456,          1,     202287,         17,         17,2,19970815,       0000,    64.7517,   -29.7517,       2140,   399.4,   6.7185,  35.0802,2,  35.0813,2,   268.4,2,    7.78,2,   15.65,2,    0.02,2,    1.01,2,-999.000,9,-999.000,9,  -999.0,9,   6.6813
06MT19970815,      AR07E,     456,          1,     202286,         16,         16,2,19970815,       0000,    64.7517,   -29.7517,       2140,   501.1,   6.1250,  35.0176,2,  35.0209,2,   267.2,2,    8.44,2,   16.24,2,    0.02,2,    1.06,2,   3.827,2,   1.921,3,  -999.0,9,   6.0803
06MT19970815,      AR07E,     456,          1,     202285,         15,         15,2,19970815,       0000,    64.7517,   -29.7517,       2140,   600.9,   5.4911,  34.9631,2,  34.9613,2,   271.5,2,    8.81,2,   16.51,2,    0.02,2,    1.08,2,-999.000,9,-999.000,9,  -999.0,9,   5.4401
06MT19970815,      AR07E,     456,          1,     202284,         14,         14,2,19970815,       0000,    64.7517,   -29.7517,       2140,   699.8,   5.0870,  34.9499,2,  34.9443,2,   276.3,2,    8.92,2,   16.56,2,    0.02,2,    1.09,2,   3.999,2,   2.011,3,  -999.0,9,   5.0292
06MT19970815,      AR07E,     456,          1,     202283,         13,         13,2,19970815,       0000,    64.7517,   -29.7517,       2140,   801.6,   4.5857,  34.9158,2,  34.9167,2,   279.7,2,    9.15,2,   16.76,2,    0.02,2,    1.10,2,-999.000,9,-999.000,9,  -999.0,9,   4.5221
06MT19970815,      AR07E,     456,          1,     202282,         12,         12,2,19970815,       0000,    64.7517,   -29.7517,       2140,   900.8,   4.2983,  34.9069,2,  34.9082,2,   281.7,2,    9.48,2,   17.26,2,    0.02,2,    1.12,2,   3.855,2,   1.908,3,  -999.0,9,   4.2281
06MT19970815,      AR07E,     456,          1,     202281,         11,         11,2,19970815,       0000,    64.7517,   -29.7517,       2140,  1000.1,   4.0995,  34.9107,2,  34.9123,2,   276.1,2,    9.79,2,   17.29,2,    0.01,2,    1.13,2,-999.000,9,-999.000,9,  -999.0,9,   4.0224
06MT19970815,      AR07E,     456,          1,     202280,         10,         10,2,19970815,       0000,    64.7517,   -29.7517,       2140,  1100.1,   4.0531,  34.9287,2,  34.9295,2,   271.0,2,   10.06,2,   17.36,2,    0.01,2,    1.13,2,   3.189,2,   1.553,3,  -999.0,9,   3.9678
06MT19970815,      AR07E,     456,          1,     202279,          9,          9,2,19970815,       0000,    64.7517,   -29.7517,       2140,  1200.1,   3.9566,  34.9365,2,  34.9376,2,   271.4,2,   10.23,2,   17.25,2,    0.01,2,    1.12,2,-999.000,9,-999.000,9,  -999.0,9,   3.8635
06MT19970815,      AR07E,     456,          1,     202278,          8,          8,2,19970815,       0000,    64.7517,   -29.7517,       2140,  1300.2,   3.8324,  34.9350,2,  34.9362,2,   274.2,2,   10.24,2,   17.23,2,    0.01,2,    1.11,2,   2.970,2,   1.430,3,  -999.0,9,   3.7318
06MT19970815,      AR07E,     456,          1,     202277,          7,          7,2,19970815,       0000,    64.7517,   -29.7517,       2140,  1399.4,   3.7611,  34.9315,2,-999.0000,9,  -999.0,9,   10.07,2,   16.83,2,    0.01,2,    1.10,2,-999.000,9,-999.000,9,  -999.0,9,   3.6526
06MT19970815,      AR07E,     456,          1,     202276,          6,          6,2,19970815,       0000,    64.7517,   -29.7517,       2140,  1500.0,   3.6249,  34.9229,2,  34.9241,2,   278.8,2,   10.37,2,   16.94,2,    0.01,2,    1.11,2,   3.014,2,   1.448,3,  -999.0,9,   3.5090
06MT19970815,      AR07E,     456,          1,     202275,          5,          5,2,19970815,       0000,    64.7517,   -29.7517,       2140,  1600.0,   3.4680,  34.9134,2,-999.0000,9,   281.5,2,   10.47,2,   16.88,2,    0.01,2,    1.11,2,-999.000,9,-999.000,9,  -999.0,9,   3.3451
06MT19970815,      AR07E,     456,          1,     202274,          4,          4,2,19970815,       0000,    64.7517,   -29.7517,       2140,  1700.3,   3.3662,  34.9048,2,  34.9043,2,   284.3,2,   10.47,2,   17.06,2,    0.01,2,    1.11,2,   3.166,2,   1.518,3,  -999.0,9,   3.2357
06MT19970815,      AR07E,     456,          1,     202273,          3,          3,2,19970815,       0000,    64.7517,   -29.7517,       2140,  1802.0,   3.2983,  34.9005,2,  34.9003,2,   286.0,2,   10.61,2,   16.78,2,    0.01,2,    1.11,2,   3.188,2,   1.524,3,  -999.0,9,   3.1596
06MT19970815,      AR07E,     456,          1,     202272,          2,          2,2,19970815,       0000,    64.7517,   -29.7517,       2140,  2001.5,   3.2163,  34.8973,2,  34.8973,2,   286.7,2,   10.83,2,   16.80,2,    0.01,2,    1.10,2,   3.075,2,   1.487,3,  -999.0,9,   3.0605
06MT19970815,      AR07E,     456,          1,     202271,          1,          1,3,19970815,       0000,    64.7517,   -29.7517,       2140,  2142.6,   3.1935,  34.8962,2,  34.8949,2,  -999.0,9,   11.22,2,   16.93,2,    0.01,2,    1.11,2,-999.000,9,-999.000,9,  -999.0,9,   3.0248
06MT19970815,      AR07E,     457,          1,     202314,         22,         22,2,19970815,       0000,    64.7517,   -30.4183,       2240,     9.5,  11.1676,  34.9680,2,  34.9656,2,   291.6,2,    0.60,2,    2.55,2,    0.10,2,    0.25,2,   3.918,2,   2.055,3,  2056.8,2,  11.1664
06MT19970815,      AR07E,     457,          1,     202313,         21,         21,2,19970815,       0000,    64.7517,   -30.4183,       2240,    49.9,   7.8457,  35.0510,2,  35.0457,2,   278.3,2,    3.85,2,   11.69,2,    0.43,2,    0.81,2,-999.000,9,-999.000,9,  2124.9,2,   7.8407
06MT19970815,      AR07E,     457,          1,     202312,         20,         20,2,19970815,       0000,    64.7517,   -30.4183,       2240,   101.2,   6.9469,  35.0750,2,  35.0739,2,   274.1,2,    6.97,2,   15.00,2,    0.03,2,    0.99,2,-999.000,9,-999.000,9,  2142.1,2,   6.9375
06MT19970815,      AR07E,     457,          1,     202311,         19,         19,2,19970815,       0000,    64.7517,   -30.4183,       2240,   201.1,   6.6298,  35.0752,2,  35.0756,2,   276.4,2,    7.44,2,   15.11,2,    0.02,2,    0.99,2,   4.075,2,   2.094,3,  2144.4,2,   6.6115
06MT19970815,      AR07E,     457,          1,     202310,         18,         18,2,19970815,       0000,    64.7517,   -30.4183,       2240,   301.1,   6.1405,  35.0281,2,  35.0292,2,   275.8,2,    7.90,2,   15.49,2,    0.02,2,    1.02,2,-999.000,9,-999.000,9,  2146.9,2,   6.1140
06MT19970815,      AR07E,     457,          1,     202309,         17,         17,2,19970815,       0000,    64.7517,   -30.4183,       2240,   401.2,   5.7148,  34.9998,2,  34.9984,2,   274.4,2,    8.33,2,   16.03,2,    0.02,2,    1.05,2,-999.000,9,-999.000,9,  2148.0,2,   5.6806
06MT19970815,      AR07E,     457,          1,     202308,         16,         16,2,19970815,       0000,    64.7517,   -30.4183,       2240,   501.2,   5.1589,  34.9466,2,  34.9457,2,   278.3,3,    8.67,2,   16.30,2,    0.01,2,    1.08,2,   4.100,2,   2.072,3,  2154.1,2,   5.1180
06MT19970815,      AR07E,     457,          1,     202307,         15,         15,2,19970815,       0000,    64.7517,   -30.4183,       2240,   600.9,   4.7967,  34.9362,2,  34.9362,2,   273.4,2,    9.27,2,   16.77,2,    0.01,2,    1.11,2,-999.000,9,-999.000,9,  2153.6,2,   4.7489
06MT19970815,      AR07E,     457,          1,     202306,         14,         14,2,19970815,       0000,    64.7517,   -30.4183,       2240,   700.5,   4.4157,  34.9234,2,  34.9231,2,   274.0,2,    9.56,2,   17.08,2,    0.01,2,    1.13,2,   3.632,2,   1.807,3,  2155.6,2,   4.3615
06MT19970815,      AR07E,     457,          1,     202305,         13,         13,2,19970815,       0000,    64.7517,   -30.4183,       2240,   801.2,   4.2839,  34.9412,2,  34.9431,2,   267.0,2,    9.97,2,   17.34,2,    0.01,2,    1.13,2,-999.000,9,-999.000,9,  2157.6,2,   4.2221
06MT19970815,      AR07E,     457,          1,     202304,         12,         12,2,19970815,       0000,    64.7517,   -30.4183,       2240,   901.0,   4.0350,  34.9274,2,  34.9279,2,   272.0,2,   10.08,2,   17.34,2,    0.01,2,    1.14,2,-999.000,9,-999.000,9,  2157.0,2,   3.9666
06MT19970815,      AR07E,     457,          1,     202303,         11,         11,2,19970815,       0000,    64.7517,   -30.4183,       2240,  1000.5,   3.9228,  34.9314,2,  34.9325,2,   271.6,2,   10.15,2,   17.19,2,    0.01,2,    1.13,2,   3.047,2,   1.477,3,  2157.0,2,   3.8470
06MT19970815,      AR07E,     457,          1,     202302,         10,         10,2,19970815,       0000,    64.7517,   -30.4183,       2240,  1100.4,   3.7938,  34.9292,2,  34.9298,2,   274.7,2,   10.21,2,   17.09,2,    0.01,2,    1.12,2,   3.033,2,   1.468,3,  2156.7,2,   3.7107
06MT19970815,      AR07E,     457,          1,     202301,          9,          9,2,19970815,       0000,    64.7517,   -30.4183,       2240,  1200.9,   3.6166,  34.9119,2,-999.0000,9,  -999.0,9, -999.00,9, -999.00,9, -999.00,9, -999.00,9,-999.000,9,-999.000,9,  -999.0,9,   3.5266
06MT19970815,      AR07E,     457,          1,     202300,          8,          8,2,19970815,       0000,    64.7517,   -30.4183,       2240,  1301.7,   3.3933,  34.8901,2,  34.8905,2,   285.3,2,   10.11,2,   17.22,2,    0.01,2,    1.13,2,-999.000,9,-999.000,9,  2154.9,2,   3.2971
06MT19970815,      AR07E,     457,          1,     202299,          7,          7,2,19970815,       0000,    64.7517,   -30.4183,       2240,  1400.5,   3.3710,  34.8954,2,  34.8951,2,   286.4,2,   10.16,2,   17.04,2,    0.01,2,    1.13,2,   3.380,2,   1.636,3,  2161.2,3,   3.2666
06MT19970815,      AR07E,     457,          1,     202298,          6,          6,2,19970815,       0000,    64.7517,   -30.4183,       2240,  1600.1,   3.1179,  34.8681,2,  34.8668,2,   294.5,2,    9.91,2,   16.90,2,    0.01,2,    1.12,2,-999.000,9,-999.000,9,  2152.9,2,   2.9994
06MT19970815,      AR07E,     457,          1,     202297,          5,          5,2,19970815,       0000,    64.7517,   -30.4183,       2240,  1800.5,   3.0144,  34.8573,2,  34.8559,2,   298.3,2,    9.83,2,   16.86,2,    0.01,2,    1.12,2,   4.011,2,   1.928,3,  2151.7,2,   2.8798
06MT19970815,      AR07E,     457,          1,     202296,          4,          4,2,19970815,       0000,    64.7517,   -30.4183,       2240,  2000.7,   3.0470,  34.8741,2,  34.8729,2,   293.5,2,   10.30,2,   16.87,2,    0.01,2,    1.10,2,   3.459,2,   1.668,3,  2159.2,3,   2.8939
06MT19970815,      AR07E,     457,          1,     202295,          3,          3,2,19970815,       0000,    64.7517,   -30.4183,       2240,  2101.1,   3.0690,  34.8876,2,  34.8854,2,   289.0,2,   10.70,2,   16.67,2,    0.01,2,    1.11,2,   3.041,2,   1.443,3,  2153.6,2,   2.9062
06MT19970815,      AR07E,     457,          1,     202294,          2,          2,2,19970815,       0000,    64.7517,   -30.4183,       2240,  2200.6,   3.0546,  34.8956,2,  34.8943,2,   287.1,2,   11.15,2,   16.56,2,    0.01,2,    1.11,2,   2.786,2,   1.328,3,  2154.1,2,   2.8827
06MT19970815,      AR07E,     457,          1,     202293,          1,          1,2,19970815,       0000,    64.7517,   -30.4183,       2240,  2240.0,   3.0342,  34.8972,2,  34.8948,2,  -999.0,9, -999.00,9, -999.00,9, -999.00,9, -999.00,9,-999.000,9,-999.000,9,  -999.0,9,   2.8589