BOTTLE,20220204CCHSIOENA
EXPOCODE,SECT_ID,STNNBR,CASTNO,BIONBR,SAMPNO,BTLNBR,BTLNBR_FLAG_W,DATE,TIME,LATITUDE,LONGITUDE,DEPTH,CTDPRS,CTDTMP,CTDSAL,CTDSAL_FLAG_W,SALNTY,SALNTY_FLAG_W,OXYGEN,OXYGEN_FLAG_W,SILCAT,SILCAT_FLAG_W,NITRAT,NITRAT_FLAG_W,NITRIT,NITRIT_FLAG_W,PHSPHT,PHSPHT_FLAG_W,CFC-11,CFC-11_FLAG_W,CFC-12,CFC-12_FLAG_W,TCARBN,TCARBN_FLAG_W,THETA
,,,,,,,,,,,,METERS,DBAR,ITS-90,PSS-78,,PSS-78,,UMOL/KG,,UMOL/KG,,UMOL/KG,,UMOL/KG,,UMOL/KG,,PMOL/KG,,PMOL/KG,,UMOL/KG,,DEG C
06MT19970815,      AR07E,     534,          1,     203706,         22,         22,2,19970830,       0000,    55.3833,   -26.6483,       3345,    15.8,  13.7021,  35.2339,2,  35.2309,2,  -999.0,9,    0.20,2,    0.88,2,    0.15,2,    0.15,2,   3.194,2,   1.730,3,  2052.6,2,  13.6999
06MT19970815,      AR07E,     534,          1,     203705,         21,         21,2,19970830,       0000,    55.3833,   -26.6483,       3345,    50.8,  11.8232,  35.4381,2,  35.4329,2,  -999.0,9,    3.71,2,   10.05,2,    0.07,2,    0.65,2,-999.000,9,-999.000,9,  -999.0,9,  11.8166
06MT19970815,      AR07E,     534,          1,     203704,         20,         20,2,19970830,       0000,    55.3833,   -26.6483,       3345,   101.2,  10.9145,  35.4392,2,  35.4365,2,  -999.0,9,    5.39,2,   12.28,2,    0.04,2,    0.78,2,-999.000,9,-999.000,9,  -999.0,9,  10.9021
06MT19970815,      AR07E,     534,          1,     203703,         19,         19,2,19970830,       0000,    55.3833,   -26.6483,       3345,   301.6,   8.9791,  35.1751,2,  35.1729,2,   237.9,2,    7.45,2,   14.87,2,    0.01,2,    0.97,2,   3.172,2,   1.498,3,  -999.0,9,   8.9461
06MT19970815,      AR07E,     534,          1,     203702,         18,         18,2,19970830,       0000,    55.3833,   -26.6483,       3345,   502.9,   6.9990,  34.9763,2,  34.9791,2,   235.0,2,    9.53,2,   17.28,2,    0.01,2,    1.14,2,-999.000,9,-999.000,9,  -999.0,9,   6.9509
06MT19970815,      AR07E,     534,          1,     203701,         17,         17,2,19970830,       0000,    55.3833,   -26.6483,       3345,   698.6,   5.8441,  35.0159,2,  35.0179,2,  -999.0,9,   11.52,2,   19.03,2,    0.03,2,    1.25,2,   2.451,2,   1.180,3,  -999.0,9,   5.7823
06MT19970815,      AR07E,     534,          1,     203700,         16,         16,2,19970830,       0000,    55.3833,   -26.6483,       3345,   900.6,   4.5871,  34.9477,2,  34.9478,2,   248.9,2,   11.34,2,   18.54,2,    0.02,2,    1.22,2,   2.692,2,   1.412,3,  -999.0,9,   4.5149
06MT19970815,      AR07E,     534,          1,     203699,         15,         15,2,19970830,       0000,    55.3833,   -26.6483,       3345,  1100.6,   4.1034,  34.9354,2,  34.9355,2,   262.5,2,   11.19,2,   18.08,2,    0.00,2,    1.18,2,   2.560,2,   1.356,3,  -999.0,9,   4.0176
06MT19970815,      AR07E,     534,          1,     203698,         14,         14,2,19970830,       0000,    55.3833,   -26.6483,       3345,  1300.3,   3.7246,  34.9080,2,  34.9088,2,   273.7,2,   11.08,2,   17.64,2,    0.01,2,    1.17,2,   2.664,2,   1.390,3,  -999.0,9,   3.6251
06MT19970815,      AR07E,     534,          1,     203697,         13,         13,2,19970830,       0000,    55.3833,   -26.6483,       3345,  1499.6,   3.4965,  34.8937,2,  34.8927,2,   279.8,2,   10.96,2,   17.30,2,    0.03,2,    1.14,2,   2.671,2,   1.393,3,  -999.0,9,   3.3822
06MT19970815,      AR07E,     534,          1,     203696,         12,         12,2,19970830,       0000,    55.3833,   -26.6483,       3345,  1700.7,   3.3218,  34.8850,2,  34.8838,2,   285.1,2,   10.88,2,   17.14,2,    0.02,2,    1.12,2,   2.813,2,   1.445,3,  -999.0,9,   3.1919
06MT19970815,      AR07E,     534,          1,     203695,         11,         11,2,19970830,       0000,    55.3833,   -26.6483,       3345,  1799.0,   3.2793,  34.8841,2,  34.8828,2,   285.3,2,   10.97,2,   17.02,2,    0.03,2,    1.12,2,   2.797,2,   1.461,3,  -999.0,9,   3.1412
06MT19970815,      AR07E,     534,          1,     203694,         10,         10,2,19970830,       0000,    55.3833,   -26.6483,       3345,  1900.1,   3.2559,  34.8888,2,  34.8869,2,   285.2,2,   11.14,2,   17.02,2,    0.02,2,    1.12,2,   2.671,2,   1.398,3,  -999.0,9,   3.1089
06MT19970815,      AR07E,     534,          1,     203693,          9,          9,2,19970830,       0000,    55.3833,   -26.6483,       3345,  2103.8,   3.2294,  34.9015,2,  34.8994,2,   282.6,2,   11.53,2,   16.88,2,    0.02,2,    1.11,2,   2.458,2,   1.268,3,  -999.0,9,   3.0638
06MT19970815,      AR07E,     534,          1,     203692,          8,          8,2,19970830,       0000,    55.3833,   -26.6483,       3345,  2302.0,   3.2460,  34.9218,2,  34.9224,2,   278.4,2,   12.32,2,   16.87,2,    0.01,2,    1.13,2,   1.946,2,   0.997,3,  -999.0,9,   3.0611
06MT19970815,      AR07E,     534,          1,     203691,          7,          7,2,19970830,       0000,    55.3833,   -26.6483,       3345,  2502.7,   3.2052,  34.9485,2,  34.9493,2,   274.9,2,   13.23,2,   16.68,2,    0.02,2,    1.11,2,   1.691,2,   0.891,3,  -999.0,9,   3.0012
06MT19970815,      AR07E,     534,          1,     203690,          6,          6,2,19970830,       0000,    55.3833,   -26.6483,       3345,  2701.8,   3.0707,  34.9512,2,  34.9519,2,   272.9,2,   15.32,2,   16.88,2,    0.03,2,    1.13,2,   1.512,2,   0.769,3,  -999.0,9,   2.8492
06MT19970815,      AR07E,     534,          1,     203689,          5,          5,2,19970830,       0000,    55.3833,   -26.6483,       3345,  2900.1,   2.9441,  34.9539,2,  34.9545,2,   269.6,2,   17.74,2,   17.17,2,    0.03,2,    1.15,2,   1.462,2,   0.734,3,  -999.0,9,   2.7048
06MT19970815,      AR07E,     534,          1,     203688,          4,          4,2,19970830,       0000,    55.3833,   -26.6483,       3345,  3000.9,   2.8918,  34.9547,2,  34.9549,2,   269.7,2,   18.52,2,   17.25,2,    0.01,2,    1.16,2,   1.455,2,   0.724,3,  -999.0,9,   2.6432
06MT19970815,      AR07E,     534,          1,     203687,          3,          3,2,19970830,       0000,    55.3833,   -26.6483,       3345,  3102.5,   2.8357,  34.9542,2,  34.9533,2,   268.8,2,   19.80,2,   17.40,2,    0.04,2,    1.16,2,-999.000,9,-999.000,9,  -999.0,9,   2.5776
06MT19970815,      AR07E,     534,          1,     203686,          2,          2,2,19970830,       0000,    55.3833,   -26.6483,       3345,  3251.2,   2.7607,  34.9571,2,  34.9569,2,   270.8,2,   18.86,2,   17.08,2,    0.02,2,    1.15,2,   1.826,2,   0.899,3,  -999.0,9,   2.4885
06MT19970815,      AR07E,     534,          1,     203685,          1,          1,2,19970830,       0000,    55.3833,   -26.6483,       3345,  3368.4,   2.7109,  34.9640,2,  34.9630,2,  -999.0,9,   15.41,2,   16.23,2,    0.03,2,    1.09,2,   2.241,2,   1.109,3,  -999.0,9,   2.4273
06MT19970815,      AR07E,     534,          2,     203726,         20,         20,2,19970830,       0000,    55.3833,   -26.6483,       3345,  1778.3,   3.2787,  34.8837,2,  34.8829,2,   284.7,2,   10.80,2,   17.12,2,    0.00,2,    1.13,2,-999.000,9,-999.000,9,  -999.0,9,   3.1424
06MT19970815,      AR07E,     534,          2,     203725,         19,         19,2,19970830,       0000,    55.3833,   -26.6483,       3345,  1778.4,   3.2789,  34.8840,2,  34.8832,2,   285.3,2,   10.74,2,   17.13,2,    0.00,2,    1.13,2,   3.172,2,   1.498,3,  -999.0,9,   3.1426
06MT19970815,      AR07E,     534,          2,     203724,         18,         18,2,19970830,       0000,    55.3833,   -26.6483,       3345,  1779.7,   3.2791,  34.8838,2,  34.8832,2,   284.9,2,   10.82,2,   17.12,2,    0.00,2,    1.13,2,-999.000,9,-999.000,9,  -999.0,9,   3.1427
06MT19970815,      AR07E,     534,          2,     203723,         17,         17,2,19970830,       0000,    55.3833,   -26.6483,       3345,  1780.9,   3.2794,  34.8840,2,  34.8833,2,   285.7,2,   10.76,2,   17.09,2,    0.00,2,    1.13,2,   2.451,2,   1.180,3,  -999.0,9,   3.1429
06MT19970815,      AR07E,     534,          2,     203722,         16,         16,2,19970830,       0000,    55.3833,   -26.6483,       3345,  1781.2,   3.2797,  34.8836,2,  34.8830,2,   285.3,2,   10.70,2,   17.10,2,    0.00,2,    1.13,2,   2.692,2,   1.412,3,  -999.0,9,   3.1431
06MT19970815,      AR07E,     534,          2,     203721,         15,         15,2,19970830,       0000,    55.3833,   -26.6483,       3345,  1781.0,   3.2796,  34.8838,2,  34.8833,2,   285.2,2,   10.80,2,   17.08,2,    0.01,2,    1.13,2,   2.560,2,   1.356,3,  -999.0,9,   3.1431
06MT19970815,      AR07E,     534,          2,     203720,         14,         14,2,19970830,       0000,    55.3833,   -26.6483,       3345,  1780.9,   3.2796,  34.8839,2,  34.8830,2,   284.6,2,   10.82,2,   17.09,2,    0.01,2,    1.13,2,   2.664,2,   1.390,3,  -999.0,9,   3.1431
06MT19970815,      AR07E,     534,          2,     203719,         13,         13,2,19970830,       0000,    55.3833,   -26.6483,       3345,  1781.6,   3.2793,  34.8838,2,  34.8835,2,   285.4,2,   10.76,2,   17.08,2,    0.00,2,    1.13,2,   2.671,2,   1.393,3,  -999.0,9,   3.1427
06MT19970815,      AR07E,     534,          2,     203718,         12,         12,2,19970830,       0000,    55.3833,   -26.6483,       3345,  1781.0,   3.2794,  34.8840,2,  34.8833,2,   284.5,2,   10.79,2,   17.08,2,    0.00,2,    1.13,2,   2.813,2,   1.445,3,  -999.0,9,   3.1429
06MT19970815,      AR07E,     534,          2,     203717,         11,         11,2,19970830,       0000,    55.3833,   -26.6483,       3345,  1780.4,   3.2798,  34.8839,2,  34.8834,2,   285.4,2,   10.87,2,   17.17,2,    0.00,2,    1.13,2,   2.797,2,   1.461,3,  -999.0,9,   3.1433
06MT19970815,      AR07E,     534,          2,     203716,         10,         10,2,19970830,       0000,    55.3833,   -26.6483,       3345,  1781.0,   3.2796,  34.8838,2,  34.8832,2,   285.7,2,   10.82,2,   17.14,2,    0.00,2,    1.13,2,   2.671,2,   1.398,3,  -999.0,9,   3.1431
06MT19970815,      AR07E,     534,          2,     203715,          9,          9,2,19970830,       0000,    55.3833,   -26.6483,       3345,  1780.8,   3.2796,  34.8840,2,  34.8830,2,   285.4,2,   10.81,2,   17.16,2,    0.00,2,    1.13,2,   2.458,2,   1.268,3,  -999.0,9,   3.1431
06MT19970815,      AR07E,     534,          2,     203714,          8,          8,2,19970830,       0000,    55.3833,   -26.6483,       3345,  1781.2,   3.2795,  34.8838,2,  34.8830,2,   285.3,2,   10.79,2,   17.10,2,    0.00,2,    1.13,2,   1.946,2,   0.997,3,  -999.0,9,   3.1430
06MT19970815,      AR07E,     534,          2,     203713,          7,          7,2,19970830,       0000,    55.3833,   -26.6483,       3345,  1781.4,   3.2795,  34.8837,2,  34.8821,2,   286.2,2,   10.87,2,   17.10,2,    0.00,2,    1.14,2,   1.691,2,   0.891,3,  -999.0,9,   3.1429
06MT19970815,      AR07E,     534,          2,     203712,          6,          6,2,19970830,       0000,    55.3833,   -26.6483,       3345,  1781.7,   3.2795,  34.8838,2,  34.8830,2,   285.4,2,   10.85,2,   17.10,2,    0.00,2,    1.13,2,   1.512,2,   0.769,3,  -999.0,9,   3.1429
06MT19970815,      AR07E,     534,          2,     203711,          5,          5,2,19970830,       0000,    55.3833,   -26.6483,       3345,  1781.5,   3.2793,  34.8839,2,  34.8830,2,   286.4,2,   10.81,2,   17.11,2,    0.00,2,    1.13,2,   1.462,2,   0.734,3,  -999.0,9,   3.1427
06MT19970815,      AR07E,     534,          2,     203710,          4,          4,2,19970830,       0000,    55.3833,   -26.6483,       3345,  1781.2,   3.2795,  34.8838,2,  34.8831,2,   285.2,2,   10.85,2,   17.10,2,    0.00,2,    1.13,2,   1.455,2,   0.724,3,  -999.0,9,   3.1430
06MT19970815,      AR07E,     534,          2,     203709,          3,          3,2,19970830,       0000,    55.3833,   -26.6483,       3345,  1781.1,   3.2795,  34.8838,2,  34.8830,2,   285.8,2,   10.84,2,   17.06,2,    0.00,2,    1.13,2,-999.000,9,-999.000,9,  -999.0,9,   3.1430
06MT19970815,      AR07E,     534,          2,     203708,          2,          2,2,19970830,       0000,    55.3833,   -26.6483,       3345,  1781.6,   3.2792,  34.8839,2,  34.8832,2,   285.6,2,   10.84,2,   17.12,2,    0.00,2,    1.13,2,   1.826,2,   0.899,3,  -999.0,9,   3.1426
06MT19970815,      AR07E,     534,          2,     203707,          1,          1,2,19970830,       0000,    55.3833,   -26.6483,       3345,  1781.5,   3.2803,  34.8838,2,  34.8831,2,   285.5,2,   10.86,2,   17.13,2,    0.00,2,    1.13,2,   2.241,2,   1.109,3,  -999.0,9,   3.1437
06MT19970815,      AR07E,     535,          1,     203749,         21,         21,2,19970830,       0000,    55.0000,   -26.3583,       3362,     9.8,  13.8392,  35.2401,2,  35.2376,2,   257.7,2,    0.29,2,    0.77,2,    0.12,2,    0.17,2,   3.217,2,   1.586,3,  -999.0,9,  13.8378
06MT19970815,      AR07E,     535,          1,     203748,         20,         20,2,19970830,       0000,    55.0000,   -26.3583,       3362,    49.3,  13.2352,  35.3042,2,  35.2731,0,   252.1,2,    1.05,2,    3.35,2,    0.30,2,    0.32,2,-999.000,9,-999.000,9,  2074.6,2,  13.2284
06MT19970815,      AR07E,     535,          1,     203747,         19,         19,2,19970830,       0000,    55.0000,   -26.3583,       3362,    99.7,  10.0094,  35.3122,2,  35.3104,2,   253.1,2,    5.16,2,   12.63,2,    0.02,2,    0.81,2,   3.584,2,   1.748,3,  2128.1,2,   9.9978
06MT19970815,      AR07E,     535,          1,     203746,         18,         18,2,19970830,       0000,    55.0000,   -26.3583,       3362,   150.7,   9.6426,  35.2703,2,  35.2699,2,   256.2,2,    5.58,2,   12.73,2,    0.03,2,    0.83,2,-999.000,9,-999.000,9,  2128.6,2,   9.6255
06MT19970815,      AR07E,     535,          1,     203745,         17,         17,2,19970830,       0000,    55.0000,   -26.3583,       3362,   201.3,   9.3358,  35.2366,2,  35.2365,2,   253.8,2,    6.15,2,   13.37,2,    0.03,2,    0.88,2,-999.000,9,-999.000,9,  2131.8,2,   9.3133
06MT19970815,      AR07E,     535,          1,     203744,         16,         16,2,19970830,       0000,    55.0000,   -26.3583,       3362,   301.5,   9.1669,  35.2530,2,  35.2538,2,   260.8,2,    5.96,2,   12.91,2,    0.02,2,    0.84,2,   3.678,2,   1.759,3,  2130.7,2,   9.1334
06MT19970815,      AR07E,     535,          1,     203743,         15,         15,2,19970830,       0000,    55.0000,   -26.3583,       3362,   402.0,   8.7965,  35.2207,2,  35.2186,2,   253.9,2,    6.59,2,   13.93,2,    0.01,2,    0.91,2,   3.576,2,   1.680,3,  2136.2,2,   8.7528
06MT19970815,      AR07E,     535,          1,     203742,         14,         14,2,19970830,       0000,    55.0000,   -26.3583,       3362,   797.5,   5.4793,  35.0118,2,  35.0111,2,   230.7,2,   11.32,2,   18.95,2,    0.01,2,    1.24,2,   2.471,2,   1.049,3,  2167.3,2,   5.4104
06MT19970815,      AR07E,     535,          1,     203741,         13,         13,2,19970830,       0000,    55.0000,   -26.3583,       3362,  1000.5,   4.4804,  34.9592,2,  34.9611,2,   252.1,2,   11.22,2,   18.45,2,    0.01,2,    1.21,2,   2.605,2,   1.118,3,  2161.4,2,   4.4002
06MT19970815,      AR07E,     535,          1,     203740,         12,         12,2,19970830,       0000,    55.0000,   -26.3583,       3362,  1199.4,   3.9327,  34.9213,2,  34.9230,2,   266.5,2,   10.91,2,   17.96,2,    0.00,2,    1.18,2,-999.000,9,-999.000,9,  2156.9,2,   3.8399
06MT19970815,      AR07E,     535,          1,     203739,         11,         11,2,19970830,       0000,    55.0000,   -26.3583,       3362,  1399.5,   3.6442,  34.9032,2,  34.9030,2,   274.8,2,   10.88,2,   17.59,2,    0.00,2,    1.16,2,   2.689,2,   1.150,3,  2154.0,2,   3.5370
06MT19970815,      AR07E,     535,          1,     203738,         10,         10,2,19970830,       0000,    55.0000,   -26.3583,       3362,  1599.1,   3.4233,  34.8901,2,  34.8894,2,   280.5,2,   10.82,2,   17.27,2,    0.00,2,    1.15,2,   2.737,2,   1.144,3,  2152.8,2,   3.3011
06MT19970815,      AR07E,     535,          1,     203737,          9,          9,2,19970830,       0000,    55.0000,   -26.3583,       3362,  1699.5,   3.3477,  34.8885,2,  34.8876,2,   282.6,2,   10.94,2,   17.12,2,    0.01,2,    1.13,2,   2.687,2,   1.134,3,  2151.4,2,   3.2176
06MT19970815,      AR07E,     535,          1,     203736,          8,          8,2,19970830,       0000,    55.0000,   -26.3583,       3362,  1800.7,   3.2953,  34.8887,2,  34.8896,2,   283.3,2,   10.95,2,   17.08,2,    0.00,2,    1.15,2,   2.669,2,   1.126,3,  2150.3,2,   3.1568
06MT19970815,      AR07E,     535,          1,     203735,          7,          7,2,19970830,       0000,    55.0000,   -26.3583,       3362,  2001.3,   3.2091,  34.8905,2,  34.8896,2,   285.2,2,   11.04,2,   16.91,2,    0.00,2,    1.13,2,   2.738,2,   1.151,3,  2149.5,2,   3.0534
06MT19970815,      AR07E,     535,          1,     203734,          6,          6,2,19970830,       0000,    55.0000,   -26.3583,       3362,  2202.3,   3.2327,  34.9143,2,  34.9131,2,   279.7,2,   11.82,2,   16.77,2,    0.01,2,    1.13,2,   2.144,2,   0.898,3,  2150.9,2,   3.0577
06MT19970815,      AR07E,     535,          1,     203733,          5,          5,2,19970830,       0000,    55.0000,   -26.3583,       3362,  2401.0,   3.2034,  34.9337,2,  34.9339,2,   275.9,2,   12.93,2,   16.82,2,    0.01,2,    1.13,2,   1.733,2,   0.719,3,  2153.6,2,   3.0095
06MT19970815,      AR07E,     535,          1,     203732,          4,          4,2,19970830,       0000,    55.0000,   -26.3583,       3362,  2601.8,   3.1284,  34.9452,2,  34.9461,2,   272.3,2,   14.78,2,   17.05,2,    0.01,2,    1.14,2,   1.529,2,   0.626,3,  2156.7,2,   2.9159
06MT19970815,      AR07E,     535,          1,     203731,          3,          3,2,19970830,       0000,    55.0000,   -26.3583,       3362,  2801.3,   3.0076,  34.9511,2,  34.9524,2,   271.4,2,   16.78,2,   17.15,2,    0.00,2,    1.15,2,   1.438,2,   0.592,3,  2160.1,2,   2.7772
06MT19970815,      AR07E,     535,          1,     203730,          2,          2,2,19970830,       0000,    55.0000,   -26.3583,       3362,  3001.7,   2.8775,  34.9536,2,  34.9535,2,   267.2,2,   19.16,2,   17.55,2,    0.00,2,    1.18,2,   1.396,2,   0.594,3,  2163.9,2,   2.6291
06MT19970815,      AR07E,     535,          1,     203729,          1,          1,2,19970830,       0000,    55.0000,   -26.3583,       3362,  3302.2,   2.7323,  34.9488,2,  34.9495,2,   264.5,2,   23.23,2,   17.95,2,    0.00,2,    1.22,2,   1.417,2,   0.589,3,  2171.1,2,   2.4554