BOTTLE,20220204CCHSIOENA
# fixed flags for fill values from 3 to 9 for one CFC-11 and five CFC-12 values
# added SAMPNO column [SAMPNO values copied from BTLNBR column]
# BOTTLE,20140424SIOCCHRJL
# CTDSAL and NITRIT flags initialized
# Changed CTDPRS units from DBARS to DBAR
# Changed BEDFORDNO to BIONBR
# Changed THETA units from DEGC to DEG C
# Changed NITRIT & CFC-11 empty data value flag 2 to flag 9
# Changed CFC-11 & CFC-12 empty data value flag -999 to flag 9
# BOTTLE,20090423PRINUNIVRMK
# 5/13/05 Initialized README file  
# Ship: Meteor 
# Cruise: 06MT395 parts of WOCE sections AR07Ei and AR25 + VEINS 
# Region: Far North Atlantic and east of Greenland 
# Dates: 8/15 - 9/9/1997  
# EXPOCODE: 06MT19970815 
# Chief Scientist: A. Sy 
# 110 stations with 24 place Rosette 
# Hydro: Who - Sy; Status - final 
# 	Notes: Data from R. Steinfeldt 3/1/07 
# Nuts/O2: Who - BSH; Status - final 
# 	Notes: Data from H. Thomas 7/29/08 
# 	Converted to umol/kg with CTDSAL and assumed temperature of 22C 
# 	No match found for following Bedford #'s in H.Thomas file (discarded): 
# bedfordno phosphate silicate nitrite nitrate  
# 200500    1.1483   9.7632  0.0288 17.4606 
# 202410    0.9825   7.5000  0.0641 14.7543 
# 203422    0.3571   1.0752  0.1433  3.7991 
# 203423    0.3694   1.4938  0.1360  4.1580 
# 203727    1.2223  11.4438  0.0090 18.8967 
# 203728    1.1731   9.7860  0.0148 17.9235 
# 204213    0.1582   0.5610  0.1920  1.0446 
# 204214    0.1399   0.3943  0.1166  0.5798 
# 	Problem exists with oxygen results and all values flagged 3 
# 	4/23/09 Reset oxygen flags and reran 1st QC 
# TCO2: Who - H.Thomas, B.Schneider; Status - final 
# 	Notes: CRM??, Method?? 
# 	Good data, compare favorably with 06MT39_4 and GLODAP 
# 	See Thomas and Ittekkot, 2001 
# CFC: Who - M. Rhein; Status - final 
# 	Notes: All CFC-12 flagged 3 or worse. Due to poor chromatograms the 
# 		CFC-12 data are unreliable. CFC-11 are ok (confirmed with 
# 		R. Steinfeldt). CFC-11 Accuracy 1.5% 
# 	See Rhein et al. 2002. 
# 	Converted CFC scale from SIO-93 to SIO-98 8/28/08 
# H-3/He-3: Who - R.Bayer,H.Hildebrandt; Status - no data in file  
# 	Notes: measured according to cruise report 
# Other:  O18/O16 (Bayer), SF6. Thomas: underway pCO2. Keir: CH4 
# References: 
# Thomas, H. and V. Ittekkot, Determination of anthropogenic CO2 in the North Atlantic Ocean using water mass ages and CO2 equilibrium chemistry, J. Mar. Sys., 27, 325-336, 325-336, 2001. 
# Rhein, M., J. Fischer, W. M. Smethie, D. Smythe-Wright, R. F. Weiss, R. F. Weiss, C. Mertens, D-H. Min, U. Fleischmann, and A. Putzka (2002), Labrador Sea Water: Pathways, CFC Inventory, and Formation Rates, J. Phys. Oceanogr, 32, 648-665. 
# Rhein, M. M. Walter, C. Mertens, R. Steinfeldt, and D. Kieke, The circulation of North Atlantic Deep Water at 16°N, The circulation of North Atlantic Deep Water at 16°N, 2000-2003, Geophys. Res. Lett., 31, L14305, doi:10.1029/2004GL019993, 2004. 
# Steinfeldt, R. and M. Rhein, Spreading velocities and dilution of North Atlantic Deep Water in the tropical Atlantic based on CFC time series, J. Geophys. Res., 109, C03046, C03046, doi: 10.1029/2003JC002050, 2004. 
EXPOCODE,SECT_ID,STNNBR,CASTNO,BIONBR,SAMPNO,BTLNBR,BTLNBR_FLAG_W,DATE,TIME,LATITUDE,LONGITUDE,DEPTH,CTDPRS,CTDTMP,CTDSAL,CTDSAL_FLAG_W,SALNTY,SALNTY_FLAG_W,OXYGEN,OXYGEN_FLAG_W,SILCAT,SILCAT_FLAG_W,NITRAT,NITRAT_FLAG_W,NITRIT,NITRIT_FLAG_W,PHSPHT,PHSPHT_FLAG_W,CFC-11,CFC-11_FLAG_W,CFC-12,CFC-12_FLAG_W,TCARBN,TCARBN_FLAG_W,THETA
,,,,,,,,,,,,METERS,DBAR,ITS-90,PSS-78,,PSS-78,,UMOL/KG,,UMOL/KG,,UMOL/KG,,UMOL/KG,,UMOL/KG,,PMOL/KG,,PMOL/KG,,UMOL/KG,,DEG C
06MT19970815,      AR07E,     451,          1,     202210,         11,         11,2,19970814,       0000,    64.7500,   -26.6617,        250,     8.8,  11.4535,  35.0624,2,  35.0627,2,   294.3,2,    0.29,2,    0.09,2,    0.03,2,    0.09,2,   3.894,2,   2.031,3,  -999.0,9,  11.4524
06MT19970815,      AR07E,     451,          1,     202209,         10,         10,2,19970814,       0000,    64.7500,   -26.6617,        250,    50.2,   7.4031,  35.1146,2,  35.1087,2,   277.3,2,    2.31,2,    9.68,2,    0.85,2,    0.72,2,   4.396,2,   2.248,3,  -999.0,9,   7.3983
06MT19970815,      AR07E,     451,          1,     202208,          9,          9,2,19970814,       0000,    64.7500,   -26.6617,        250,   100.8,   6.9761,  35.1082,2,  35.1070,2,   272.1,2,    6.08,2,   14.62,2,    0.03,2,    0.94,2,   4.209,2,   2.147,3,  -999.0,9,   6.9667
06MT19970815,      AR07E,     451,          1,     202207,          8,          8,2,19970814,       0000,    64.7500,   -26.6617,        250,   100.7,   6.9757,  35.1084,2,  35.1072,2,   272.4,2,    6.19,2,   14.69,2,    0.03,2,    0.96,2,   4.212,2,   2.164,3,  -999.0,9,   6.9663
06MT19970815,      AR07E,     451,          1,     202206,          7,          7,2,19970814,       0000,    64.7500,   -26.6617,        250,   100.6,   6.9728,  35.1082,2,  35.1073,2,   272.5,2,    6.41,2,   14.81,2,    0.03,2,    0.96,2,   4.208,2,   2.168,3,  -999.0,9,   6.9634
06MT19970815,      AR07E,     451,          1,     202205,          6,          6,2,19970814,       0000,    64.7500,   -26.6617,        250,   148.9,   6.7387,  35.0981,2,  35.0960,2,   272.7,2,    7.09,2,   15.32,2,    0.02,2,    0.99,2,-999.000,9,-999.000,9,  -999.0,9,   6.7251
06MT19970815,      AR07E,     451,          1,     202204,          5,          5,2,19970814,       0000,    64.7500,   -26.6617,        250,   198.7,   6.4418,  35.0894,2,  35.0876,2,   274.1,2,    7.75,2,   15.48,2,    0.02,2,    1.03,2,   4.306,2,   2.185,3,  -999.0,9,   6.4240
06MT19970815,      AR07E,     451,          1,     202203,          4,          4,2,19970814,       0000,    64.7500,   -26.6617,        250,   198.6,   6.4292,  35.0888,2,  35.0866,2,   274.4,2,    7.72,2,   15.58,2,    0.02,2,    1.01,2,   4.251,2,   2.168,3,  -999.0,9,   6.4114
06MT19970815,      AR07E,     451,          1,     202202,          3,          3,2,19970814,       0000,    64.7500,   -26.6617,        250,   201.5,   6.4187,  35.0882,2,  35.0855,2,   275.9,2,    7.83,2,   15.51,2,    0.02,2,    1.01,2,   4.257,2,   2.169,3,  -999.0,9,   6.4007
06MT19970815,      AR07E,     451,          1,     202201,          2,          2,2,19970814,       0000,    64.7500,   -26.6617,        250,   235.4,   6.3001,  35.0888,2,  35.0870,2,   266.3,3,    9.74,3,   16.42,3,    0.03,2,    1.10,3,   4.351,2,   2.223,3,  -999.0,9,   6.2792
06MT19970815,      AR07E,     451,          2,     202220,         21,         21,3,19970814,       0000,    64.7500,   -26.6617,        250,     8.3,  11.3410,  35.0736,2,  35.0700,2,  -999.0,9,    0.62,2,    2.04,2,    0.08,2,    0.20,2,-999.000,9,-999.000,9,  -999.0,9,  11.3400
06MT19970815,      AR07E,     451,          2,     202219,         20,         20,2,19970814,       0000,    64.7500,   -26.6617,        250,    48.9,   7.4364,  35.1084,2,  35.1066,2,   278.5,2,    2.26,2,    9.57,2,    0.77,2,    0.71,2,-999.000,9,-999.000,9,  -999.0,9,   7.4317
06MT19970815,      AR07E,     451,          2,     202218,         19,         19,2,19970814,       0000,    64.7500,   -26.6617,        250,   102.1,   6.8997,  35.1088,2,  35.1087,2,   273.3,2,    6.67,2,   14.94,2,    0.03,2,    0.97,2,-999.000,9,-999.000,9,  -999.0,9,   6.8903
06MT19970815,      AR07E,     451,          2,     202217,         18,         18,2,19970814,       0000,    64.7500,   -26.6617,        250,   102.3,   6.8996,  35.1083,2,  35.1095,2,   272.6,2,    6.58,2,   14.99,2,    0.02,2,    0.97,2,-999.000,9,-999.000,9,  -999.0,9,   6.8901
06MT19970815,      AR07E,     451,          2,     202216,         17,         17,3,19970814,       0000,    64.7500,   -26.6617,        250,   102.1,   6.9036,  35.1089,2,  35.1079,2,  -999.0,9,    6.59,2,   14.97,2,    0.02,2,    0.98,2,-999.000,9,-999.000,9,  -999.0,9,   6.8942
06MT19970815,      AR07E,     451,          2,     202215,         16,         16,2,19970814,       0000,    64.7500,   -26.6617,        250,   150.4,   6.6972,  35.0972,2,  35.0960,2,   272.7,2,    7.08,2,   15.36,2,    0.02,2,    1.00,2,-999.000,9,-999.000,9,  -999.0,9,   6.6835
06MT19970815,      AR07E,     451,          2,     202214,         15,         15,2,19970814,       0000,    64.7500,   -26.6617,        250,   199.8,   6.4250,  35.0892,2,  35.0875,2,   274.9,2,    7.80,2,   15.60,2,    0.02,2,    1.02,2,-999.000,9,-999.000,9,  -999.0,9,   6.4071
06MT19970815,      AR07E,     451,          2,     202213,         14,         14,3,19970814,       0000,    64.7500,   -26.6617,        250,   200.0,   6.4247,  35.0893,2,  35.0880,2,  -999.0,9,    7.76,2,   15.47,2,    0.02,2,    1.02,2,-999.000,9,-999.000,9,  -999.0,9,   6.4068
06MT19970815,      AR07E,     451,          2,     202212,         13,         13,2,19970814,       0000,    64.7500,   -26.6617,        250,   199.9,   6.4452,  35.0891,2,  35.0873,2,   274.5,2,    7.78,2,   15.47,2,    0.03,2,    1.03,2,-999.000,9,-999.000,9,  -999.0,9,   6.4273
06MT19970815,      AR07E,     451,          2,     202211,         12,         12,2,19970814,       0000,    64.7500,   -26.6617,        250,   234.0,   6.2838,  35.0881,2,  35.0865,2,   269.7,2,    9.71,3,   16.28,3,    0.03,2,    1.09,3,-999.000,9,-999.000,9,  -999.0,9,   6.2631
06MT19970815,      AR07E,     452,          1,     202229,          8,          8,2,19970815,       0000,    64.7517,   -27.2483,        494,    11.4,  10.8222,  35.0785,2,  35.0781,2,   298.5,2,    0.83,2,    2.98,2,    0.10,2,    0.26,2,   3.928,2,   2.040,3,  -999.0,9,  10.8208
06MT19970815,      AR07E,     452,          1,     202228,          7,          7,2,19970815,       0000,    64.7517,   -27.2483,        494,    49.3,   8.1094,  35.1268,2,  35.1241,2,  -999.0,9,    3.21,2,   10.20,2,    0.67,2,    0.76,2,-999.000,9,-999.000,9,  -999.0,9,   8.1044
06MT19970815,      AR07E,     452,          1,     202227,          6,          6,2,19970815,       0000,    64.7517,   -27.2483,        494,   100.9,   7.5529,  35.1374,2,  35.1328,2,   274.4,2,    5.53,2,   13.75,2,    0.03,2,    0.88,2,   4.155,2,   2.122,3,  -999.0,9,   7.5431
06MT19970815,      AR07E,     452,          1,     202226,          5,          5,2,19970815,       0000,    64.7517,   -27.2483,        494,   202.8,   7.1226,  35.1211,2,  35.1206,2,   272.0,2,    6.99,2,   14.96,2,    0.03,2,    0.97,2,-999.000,9,-999.000,9,  -999.0,9,   7.1034
06MT19970815,      AR07E,     452,          1,     202225,          4,          4,2,19970815,       0000,    64.7517,   -27.2483,        494,   301.2,   6.9512,  35.1158,2,  35.1143,2,   272.7,2,    7.10,2,   15.01,2,    0.02,2,    0.99,2,   4.085,2,   2.094,3,  -999.0,9,   6.9228
06MT19970815,      AR07E,     452,          1,     202224,          3,          3,2,19970815,       0000,    64.7517,   -27.2483,        494,   359.5,   6.7783,  35.1038,2,-999.0000,9,   271.8,2,    7.46,2,   15.27,2,    0.03,2,    1.00,2,-999.000,9,-999.000,9,  -999.0,9,   6.7448
06MT19970815,      AR07E,     452,          1,     202223,          2,          2,2,19970815,       0000,    64.7517,   -27.2483,        494,   481.1,   6.2975,  35.0863,2,-999.0000,9,   269.4,2,    9.84,3,   15.95,2,    0.04,2,    1.07,2,-999.000,9,-999.000,9,  -999.0,9,   6.2540
06MT19970815,      AR07E,     452,          1,     202222,          1,          1,2,19970815,       0000,    64.7517,   -27.2483,        494,   487.0,   6.2975,  35.0862,2,  35.0855,2,   269.0,2,    9.87,3,   16.00,2,    0.05,2,    1.07,2,   4.363,2,   2.206,3,  -999.0,9,   6.2534
06MT19970815,      AR07E,     453,          1,     202240,         19,         19,2,19970815,       0000,    64.7533,   -27.8367,        890,    10.1,  11.5785,  35.0825,2,  35.0820,2,   289.3,2,    0.48,2,    2.53,2,    0.10,2,    0.25,2,   3.794,2,   1.988,3,  -999.0,9,  11.5772
06MT19970815,      AR07E,     453,          1,     202239,         18,         18,2,19970815,       0000,    64.7533,   -27.8367,        890,    50.7,   7.9460,  35.1184,2,  35.1234,2,   283.6,2,    3.30,2,    9.98,2,    0.62,2,    0.76,2,-999.000,9,-999.000,9,  -999.0,9,   7.9409
06MT19970815,      AR07E,     453,          1,     202238,         17,         17,2,19970815,       0000,    64.7533,   -27.8367,        890,   100.3,   7.4713,  35.1205,2,  35.1202,2,   275.9,2,    5.70,2,   13.96,2,    0.02,2,    0.88,2,   4.197,2,   2.177,3,  -999.0,9,   7.4616
06MT19970815,      AR07E,     453,          1,     202237,         16,         16,2,19970815,       0000,    64.7533,   -27.8367,        890,   201.1,   7.0616,  35.1109,2,  35.1116,2,   275.1,2,    7.17,2,   14.92,2,    0.02,2,    0.96,2,   4.033,2,   2.099,3,  -999.0,9,   7.0426
06MT19970815,      AR07E,     453,          1,     202236,         15,         15,2,19970815,       0000,    64.7533,   -27.8367,        890,   300.9,   6.9119,  35.1041,2,  35.1051,2,  -999.0,9,    7.11,2,   14.91,2,    0.07,2,    0.97,2,   4.126,2,   2.140,3,  -999.0,9,   6.8836
06MT19970815,      AR07E,     453,          1,     202235,         14,         14,2,19970815,       0000,    64.7533,   -27.8367,        890,   401.4,   6.6991,  35.0826,2,  35.0858,2,  -999.0,9,    7.27,2,   14.90,2,    0.04,2,    0.97,2,-999.000,9,-999.000,9,  -999.0,9,   6.6618
06MT19970815,      AR07E,     453,          1,     202234,         13,         13,2,19970815,       0000,    64.7533,   -27.8367,        890,   501.4,   6.4662,  35.0611,2,  35.0578,2,   276.6,2,    7.59,2,   15.31,2,    0.02,2,    1.00,2,-999.000,9,-999.000,9,  -999.0,9,   6.4202
06MT19970815,      AR07E,     453,          1,     202233,         12,         12,2,19970815,       0000,    64.7533,   -27.8367,        890,   600.9,   6.1492,  35.0334,2,  35.0308,2,   274.9,2,    7.98,2,   15.57,2,    0.02,2,    1.02,2,   4.027,2,   2.050,3,  -999.0,9,   6.0951
06MT19970815,      AR07E,     453,          1,     202232,         11,         11,2,19970815,       0000,    64.7533,   -27.8367,        890,   700.6,   5.6887,  34.9940,2,  34.9940,2,   273.2,2,    8.57,2,   16.20,2,    0.02,2,    1.07,2,-999.000,9,-999.000,9,  -999.0,9,   5.6276
06MT19970815,      AR07E,     453,          1,     202231,         10,         10,2,19970815,       0000,    64.7533,   -27.8367,        890,   800.9,   5.2473,  34.9682,2,  34.9667,2,   270.0,2,    9.09,2,   16.65,2,    0.02,2,    1.09,2,   3.772,2,   1.884,3,  -999.0,9,   5.1796
06MT19970815,      AR07E,     453,          1,     202230,          9,          9,2,19970815,       0000,    64.7533,   -27.8367,        890,   903.7,   5.1504,  34.9678,2,  34.9671,2,   268.3,2,    9.39,2,   16.86,2,    0.02,2,    1.11,2,   3.604,2,   1.792,3,  -999.0,9,   5.0740
06MT19970815,      AR07E,     454,          1,     202253,         13,         13,2,19970815,       0000,    64.7517,   -28.4183,       1170,    48.9,   9.0849,  35.0910,2,  35.0730,2,   295.6,2,    1.62,2,    5.99,2,    0.18,2,    0.53,2,-999.000,9,-999.000,9,  -999.0,9,   9.0796
06MT19970815,      AR07E,     454,          1,     202252,         12,         12,2,19970815,       0000,    64.7517,   -28.4183,       1170,   100.0,   7.4232,  35.1112,2,  35.1116,2,   274.4,2,    6.08,2,   14.09,2,    0.03,2,    0.92,2,   4.186,2,   2.149,3,  -999.0,9,   7.4136
06MT19970815,      AR07E,     454,          1,     202251,         11,         11,2,19970815,       0000,    64.7517,   -28.4183,       1170,   201.0,   6.9957,  35.1050,2,  35.1068,2,   274.5,2,    7.26,2,   15.02,2,    0.03,2,    0.97,2,-999.000,9,-999.000,9,  -999.0,9,   6.9768
06MT19970815,      AR07E,     454,          1,     202250,         10,         10,2,19970815,       0000,    64.7517,   -28.4183,       1170,   301.6,   6.8087,  35.0903,2,  35.0925,2,   275.6,2,    7.33,2,   14.91,2,    0.03,2,    0.98,2,   4.051,2,   2.094,3,  -999.0,9,   6.7806
06MT19970815,      AR07E,     454,          1,     202249,          9,          9,3,19970815,       0000,    64.7517,   -28.4183,       1170,   401.1,   6.5695,  35.0688,2,  35.0688,2,   276.0,2,    7.58,2,   15.16,2,    0.03,2,    1.00,2,-999.000,9,-999.000,9,  -999.0,9,   6.5326
06MT19970815,      AR07E,     454,          1,     202248,          8,          8,2,19970815,       0000,    64.7517,   -28.4183,       1170,   501.0,   6.3681,  35.0621,2,  35.0641,2,   273.8,2,    7.98,2,   15.37,2,    0.02,2,    1.03,2,   4.043,2,   2.067,3,  -999.0,9,   6.3225
06MT19970815,      AR07E,     454,          1,     202247,          7,          7,2,19970815,       0000,    64.7517,   -28.4183,       1170,   601.1,   5.9321,  35.0194,2,  35.0211,2,   272.6,2,    8.49,2,   15.90,2,    0.02,2,    1.05,2,-999.000,9,-999.000,9,  -999.0,9,   5.8790
06MT19970815,      AR07E,     454,          1,     202246,          6,          6,2,19970815,       0000,    64.7517,   -28.4183,       1170,   701.2,   5.5453,  34.9834,2,  34.9860,2,   273.4,2,    8.69,2,   16.08,2,    0.02,2,    1.07,2,   3.926,2,   1.995,3,  -999.0,9,   5.4849
06MT19970815,      AR07E,     454,          1,     202245,          5,          5,2,19970815,       0000,    64.7517,   -28.4183,       1170,   801.1,   5.1222,  34.9573,2,  34.9573,2,   273.2,2,    9.08,2,   16.60,2,    0.02,2,    1.09,2,-999.000,9,-999.000,9,  -999.0,9,   5.0553
06MT19970815,      AR07E,     454,          1,     202244,          4,          4,2,19970815,       0000,    64.7517,   -28.4183,       1170,   901.1,   4.8284,  34.9572,2,  34.9575,2,   266.7,2,    9.60,2,   17.10,2,    0.02,2,    1.12,2,-999.000,9,-999.000,9,  -999.0,9,   4.7545
06MT19970815,      AR07E,     454,          1,     202243,          3,          3,2,19970815,       0000,    64.7517,   -28.4183,       1170,  1001.0,   4.5881,  34.9663,2,  34.9663,2,   264.2,2,   11.33,3,   17.16,2,    0.03,2,    1.13,2,   3.176,2,   1.569,3,  -999.0,9,   4.5071
06MT19970815,      AR07E,     454,          1,     202242,          2,          2,2,19970815,       0000,    64.7517,   -28.4183,       1170,  1099.9,   4.2788,  34.9611,2,  34.9609,2,   266.6,2,   10.43,2,   17.08,2,    0.02,2,    1.13,2,-999.000,9,-999.000,9,  -999.0,9,   4.1916
06MT19970815,      AR07E,     454,          1,     202241,          1,          1,2,19970815,       0000,    64.7517,   -28.4183,       1170,  1164.7,   4.1354,  34.9559,2,  34.9562,2,   267.2,2,   10.06,2,   17.22,2,    0.02,2,    1.12,2,   2.969,2,   1.448,3,  -999.0,9,   4.0438