BOTTLE,20220204CCHSIOENA
EXPOCODE,SECT_ID,STNNBR,CASTNO,BIONBR,SAMPNO,BTLNBR,BTLNBR_FLAG_W,DATE,TIME,LATITUDE,LONGITUDE,DEPTH,CTDPRS,CTDTMP,CTDSAL,CTDSAL_FLAG_W,SALNTY,SALNTY_FLAG_W,OXYGEN,OXYGEN_FLAG_W,SILCAT,SILCAT_FLAG_W,NITRAT,NITRAT_FLAG_W,NITRIT,NITRIT_FLAG_W,PHSPHT,PHSPHT_FLAG_W,CFC-11,CFC-11_FLAG_W,CFC-12,CFC-12_FLAG_W,TCARBN,TCARBN_FLAG_W,THETA
,,,,,,,,,,,,METERS,DBAR,ITS-90,PSS-78,,PSS-78,,UMOL/KG,,UMOL/KG,,UMOL/KG,,UMOL/KG,,UMOL/KG,,PMOL/KG,,PMOL/KG,,UMOL/KG,,DEG C
06MT19970815,      AR07E,     487,          1,     202768,         22,         22,2,19970821,       0000,    62.0167,   -37.4700,       2565,    13.7,  10.1932,  34.8875,2,  34.8818,2,   287.0,2,    0.90,2,    3.14,2,    0.10,2,    0.26,2,   4.057,2,   2.073,3,  -999.0,9,  10.1916
06MT19970815,      AR07E,     487,          1,     202767,         21,         21,2,19970821,       0000,    62.0167,   -37.4700,       2565,    50.8,   7.0387,  35.0290,2,  35.0317,2,   281.9,2,    4.94,2,   13.09,2,    0.39,2,    0.88,2,-999.000,9,-999.000,9,  -999.0,9,   7.0340
06MT19970815,      AR07E,     487,          1,     202766,         20,         20,2,19970821,       0000,    62.0167,   -37.4700,       2565,   100.4,   6.4901,  35.0562,2,  35.0519,2,   278.1,2,    7.40,2,   15.14,2,    0.00,2,    0.99,2,-999.000,9,-999.000,9,  -999.0,9,   6.4811
06MT19970815,      AR07E,     487,          1,     202765,         19,         19,2,19970821,       0000,    62.0167,   -37.4700,       2565,   202.1,   5.7207,  34.9995,2,  35.0008,2,   279.5,2,    8.19,2,   15.79,2,    0.03,2,    1.04,2,-999.000,9,-999.000,9,  -999.0,9,   5.7037
06MT19970815,      AR07E,     487,          1,     202764,         18,         18,2,19970821,       0000,    62.0167,   -37.4700,       2565,   401.3,   4.4938,  34.9132,2,  34.9133,2,   285.2,2,    8.95,2,   16.43,2,    0.03,2,    1.08,2,-999.000,9,-999.000,9,  -999.0,9,   4.4634
06MT19970815,      AR07E,     487,          1,     202763,         17,         17,2,19970821,       0000,    62.0167,   -37.4700,       2565,   501.5,   4.0539,  34.8922,2,  34.8898,2,   286.1,2,    9.27,2,   16.68,2,    0.02,2,    1.10,2,-999.000,9,-999.000,9,  -999.0,9,   4.0173
06MT19970815,      AR07E,     487,          1,     202762,         16,         16,2,19970821,       0000,    62.0167,   -37.4700,       2565,   801.5,   3.5467,  34.8836,2,  34.8847,2,   285.2,2,    9.85,2,   17.05,2,    0.01,2,    1.12,2,   3.795,2,   1.792,3,  -999.0,9,   3.4896
06MT19970815,      AR07E,     487,          1,     202761,         15,         15,2,19970821,       0000,    62.0167,   -37.4700,       2565,   999.8,   3.3353,  34.8815,2,  34.8816,2,   287.7,2,   10.05,2,   17.02,2,    0.02,2,    1.12,2,-999.000,9,-999.000,9,  -999.0,9,   3.2642
06MT19970815,      AR07E,     487,          1,     202760,         14,         14,3,19970821,       0000,    62.0167,   -37.4700,       2565,  1199.7,   3.1516,  34.8696,2,  34.8700,2,   294.2,2,    9.98,2,   16.93,2,    0.03,2,    1.10,2,   3.868,2,   1.853,3,  -999.0,9,   3.0661
06MT19970815,      AR07E,     487,          1,     202759,         13,         13,3,19970821,       0000,    62.0167,   -37.4700,       2565,  1399.9,   3.0137,  34.8569,2,  34.8541,0,   299.6,2,    9.84,2,   16.79,2,    0.02,2,    1.10,2,   4.140,2,   1.981,3,  -999.0,9,   2.9133
06MT19970815,      AR07E,     487,          1,     202758,         12,         12,2,19970821,       0000,    62.0167,   -37.4700,       2565,  1500.5,   2.9851,  34.8541,2,  34.8544,2,   300.6,2,    9.78,2,   16.81,2,    0.02,2,    1.11,2,   4.102,2,   1.967,3,  -999.0,9,   2.8767
06MT19970815,      AR07E,     487,          1,     202757,         11,         11,2,19970821,       0000,    62.0167,   -37.4700,       2565,  1599.4,   2.9520,  34.8518,2,  34.8515,2,   301.3,2,    9.81,2,   16.64,2,    0.02,2,    1.10,2,   4.112,2,   1.964,3,  -999.0,9,   2.8356
06MT19970815,      AR07E,     487,          1,     202756,         10,         10,2,19970821,       0000,    62.0167,   -37.4700,       2565,  1701.6,   2.9426,  34.8529,2,  34.8529,2,   300.2,2,    9.79,2,   16.53,2,    0.07,2,    1.10,2,-999.000,9,-999.000,9,  -999.0,9,   2.8176
06MT19970815,      AR07E,     487,          1,     202755,          9,          9,2,19970821,       0000,    62.0167,   -37.4700,       2565,  1801.3,   2.9857,  34.8650,2,  34.8648,2,   295.7,2,   10.08,2,   16.59,2,    0.01,2,    1.09,2,   3.589,2,   1.728,3,  -999.0,9,   2.8514
06MT19970815,      AR07E,     487,          1,     202754,          8,          8,2,19970821,       0000,    62.0167,   -37.4700,       2565,  1900.0,   3.0492,  34.8855,2,  34.8848,2,   290.8,2,   10.60,2,   16.54,2,    0.02,2,    1.10,2,   3.054,2,   1.479,3,  -999.0,9,   2.9051
06MT19970815,      AR07E,     487,          1,     202753,          7,          7,2,19970821,       0000,    62.0167,   -37.4700,       2565,  1999.4,   3.0556,  34.8957,2,  34.8932,0,   287.4,2,   10.98,2,   16.53,2,    0.03,2,    1.09,2,-999.000,9,-999.000,9,  -999.0,9,   2.9024
06MT19970815,      AR07E,     487,          1,     202752,          6,          6,2,19970821,       0000,    62.0167,   -37.4700,       2565,  2101.6,   3.0279,  34.9083,2,  34.9086,2,   284.1,2,   11.48,2,   16.50,2,    0.02,2,    1.10,2,   2.380,2,   1.142,3,  -999.0,9,   2.8656
06MT19970815,      AR07E,     487,          1,     202751,          5,          5,2,19970821,       0000,    62.0167,   -37.4700,       2565,  2201.6,   2.9463,  34.9111,2,  34.9116,2,   283.7,2,   11.72,2,   16.37,2,    0.01,2,    1.08,2,-999.000,9,-999.000,9,  -999.0,9,   2.7760
06MT19970815,      AR07E,     487,          1,     202750,          4,          4,2,19970821,       0000,    62.0167,   -37.4700,       2565,  2299.6,   2.7474,  34.9033,2,  34.9036,2,   286.6,2,   11.24,2,   15.73,2,    0.02,2,    1.06,2,   2.579,2,   1.250,3,  -999.0,9,   2.5713
06MT19970815,      AR07E,     487,          1,     202749,          3,          3,2,19970821,       0000,    62.0167,   -37.4700,       2565,  2401.0,   2.1042,  34.8769,2,  34.8767,2,   298.3,2,    8.64,2,   14.58,2,    0.03,2,    0.98,2,   3.658,2,   1.786,3,  -999.0,9,   1.9301
06MT19970815,      AR07E,     487,          1,     202748,          2,          2,3,19970821,       0000,    62.0167,   -37.4700,       2565,  2477.9,   1.7748,  34.8757,2,  34.8756,2,   301.3,2,    8.35,2,   14.24,2,    0.01,2,    0.96,2,   3.764,2,   1.824,3,  -999.0,9,   1.5997
06MT19970815,      AR07E,     487,          1,     202747,          1,          1,2,19970821,       0000,    62.0167,   -37.4700,       2565,  2534.5,   1.5906,  34.8755,2,  34.8757,2,   302.6,2,    7.96,2,   13.80,2,    0.04,2,    0.93,2,   3.838,2,   1.867,3,  -999.0,9,   1.4139
06MT19970815,      AR07E,     488,          1,     202790,         22,         22,2,19970821,       0000,    62.1983,   -38.0500,       2491,    14.6,  10.3474,  34.9006,2,  34.8959,2,   287.7,2,    0.82,2,    3.00,2,    0.09,2,    0.26,2,   4.021,2,   2.098,3,  -999.0,9,  10.3457
06MT19970815,      AR07E,     488,          1,     202789,         21,         21,2,19970821,       0000,    62.1983,   -38.0500,       2491,    51.1,   6.8482,  35.0113,2,  35.0112,2,   282.1,2,    5.14,2,   13.77,2,    0.48,2,    0.91,2,-999.000,9,-999.000,9,  -999.0,9,   6.8435
06MT19970815,      AR07E,     488,          1,     202788,         20,         20,2,19970821,       0000,    62.1983,   -38.0500,       2491,    98.0,   6.0708,  35.0147,2,  35.0152,2,   280.1,2,    7.85,2,   15.55,2,    0.01,2,    1.02,2,-999.000,9,-999.000,9,  -999.0,9,   6.0624
06MT19970815,      AR07E,     488,          1,     202787,         19,         19,2,19970821,       0000,    62.1983,   -38.0500,       2491,   200.7,   5.3756,  34.9713,2,  34.9707,2,   281.9,2,    8.45,2,   15.95,2,    0.03,2,    1.05,2,-999.000,9,-999.000,9,  -999.0,9,   5.3593
06MT19970815,      AR07E,     488,          1,     202786,         18,         18,2,19970821,       0000,    62.1983,   -38.0500,       2491,   301.0,   4.7641,  34.9330,2,  34.9324,2,   283.1,2,    8.85,2,   16.38,2,    0.02,2,    1.08,2,-999.000,9,-999.000,9,  -999.0,9,   4.7409
06MT19970815,      AR07E,     488,          1,     202785,         17,         17,2,19970821,       0000,    62.1983,   -38.0500,       2491,   401.5,   4.4192,  34.9116,2,  34.9123,2,   285.7,2,    8.92,2,   16.39,2,    0.02,2,    1.09,2,-999.000,9,-999.000,9,  -999.0,9,   4.3890
06MT19970815,      AR07E,     488,          1,     202784,         16,         16,2,19970821,       0000,    62.1983,   -38.0500,       2491,   501.4,   4.2101,  34.9079,2,  34.9086,2,   282.9,2,    9.08,2,   16.38,2,    0.02,2,    1.08,2,-999.000,9,-999.000,9,  -999.0,9,   4.1729
06MT19970815,      AR07E,     488,          1,     202783,         15,         15,2,19970821,       0000,    62.1983,   -38.0500,       2491,   601.6,   3.9431,  34.8923,2,  34.8905,2,   287.4,2,    9.30,2,   16.65,2,    0.02,2,    1.10,2,-999.000,9,-999.000,9,  -999.0,9,   3.8993
06MT19970815,      AR07E,     488,          1,     202782,         14,         14,2,19970821,       0000,    62.1983,   -38.0500,       2491,   701.7,   3.7423,  34.8830,2,  34.8807,2,   285.0,2,    9.65,2,   17.17,2,    0.02,2,    1.12,2,-999.000,9,-999.000,9,  -999.0,9,   3.6917
06MT19970815,      AR07E,     488,          1,     202781,         13,         13,2,19970821,       0000,    62.1983,   -38.0500,       2491,   798.7,   3.6492,  34.8909,2,  34.8906,2,   282.3,2,    9.87,2,   17.20,2,    0.01,2,    1.13,2,   3.681,2,   1.803,3,  -999.0,9,   3.5916
06MT19970815,      AR07E,     488,          1,     202780,         12,         12,2,19970821,       0000,    62.1983,   -38.0500,       2491,  1000.4,   3.4462,  34.8878,2,  34.8888,2,   284.5,2,   10.12,2,   17.13,2,    0.03,2,    1.11,2,   3.582,2,   1.702,3,  -999.0,9,   3.3741
06MT19970815,      AR07E,     488,          1,     202779,         11,         11,2,19970821,       0000,    62.1983,   -38.0500,       2491,  1201.4,   3.2616,  34.8793,2,  34.8796,2,   289.9,2,   10.00,2,   16.87,2,    0.02,2,    1.08,2,   3.698,2,   1.794,3,  -999.0,9,   3.1749
06MT19970815,      AR07E,     488,          1,     202778,         10,         10,2,19970821,       0000,    62.1983,   -38.0500,       2491,  1398.5,   3.1055,  34.8664,2,  34.8662,2,   296.8,2,    9.90,2,   16.70,2,    0.02,2,    1.06,2,   3.921,2,   1.889,3,  -999.0,9,   3.0042
06MT19970815,      AR07E,     488,          1,     202777,          9,          9,2,19970821,       0000,    62.1983,   -38.0500,       2491,  1499.2,   3.0244,  34.8586,2,  34.8570,2,   299.7,2,    9.82,2,   16.57,2,    0.02,2,    0.99,2,   4.021,2,   1.949,3,  -999.0,9,   2.9156
06MT19970815,      AR07E,     488,          1,     202776,          8,          8,2,19970821,       0000,    62.1983,   -38.0500,       2491,  1600.2,   2.9756,  34.8543,2,  34.8537,2,   300.4,2,    9.80,2,   16.68,2,    0.02,2,    1.10,2,   4.086,2,   1.967,3,  -999.0,9,   2.8589
06MT19970815,      AR07E,     488,          1,     202775,          7,          7,2,19970821,       0000,    62.1983,   -38.0500,       2491,  1700.8,   3.0192,  34.8650,2,  34.8647,2,   296.1,2,    9.83,2,   16.47,2,    0.03,2,    1.09,2,-999.000,9,-999.000,9,  -999.0,9,   2.8932
06MT19970815,      AR07E,     488,          1,     202774,          6,          6,2,19970821,       0000,    62.1983,   -38.0500,       2491,  1799.9,   3.0118,  34.8720,2,  34.8712,2,   294.4,2,    9.88,2,   16.41,2,    0.01,2,    1.07,2,   3.663,2,   1.747,3,  -999.0,9,   2.8772
06MT19970815,      AR07E,     488,          1,     202773,          5,          5,2,19970821,       0000,    62.1983,   -38.0500,       2491,  1998.9,   2.8987,  34.8858,2,  34.8836,0,   291.1,2,   10.10,2,   15.79,2,    0.06,2,    1.05,2,   3.298,2,   1.594,3,  -999.0,9,   2.7479
06MT19970815,      AR07E,     488,          1,     202772,          4,          4,2,19970821,       0000,    62.1983,   -38.0500,       2491,  2099.8,   2.6900,  34.8795,2,  34.8808,2,   293.0,2,    9.75,2,   15.56,2,    0.01,2,    1.03,2,   3.400,2,   1.634,3,  -999.0,9,   2.5333
06MT19970815,      AR07E,     488,          1,     202771,          3,          3,2,19970821,       0000,    62.1983,   -38.0500,       2491,  2300.2,   2.1372,  34.8818,2,  34.8813,2,   296.6,2,    9.12,2,   14.57,2,    0.04,2,    0.85,3,   3.530,2,   1.688,3,  -999.0,9,   1.9716
06MT19970815,      AR07E,     488,          1,     202770,          2,          2,2,19970821,       0000,    62.1983,   -38.0500,       2491,  2400.6,   1.7350,  34.8764,2,  34.8770,2,   301.7,2,    8.52,2,   14.01,2,    0.02,2,    0.92,2,   3.792,2,   1.811,3,  -999.0,9,   1.5675
06MT19970815,      AR07E,     488,          1,     202769,          1,          1,2,19970821,       0000,    62.1983,   -38.0500,       2491,  2452.2,   1.5471,  34.8770,2,  34.8767,2,   302.7,2,    8.27,2,   13.96,2,    0.03,2,    0.95,2,   3.939,2,   1.875,3,  -999.0,9,   1.3785
06MT19970815,      AR07E,     489,          1,     202812,         22,         22,2,19970821,       0000,    62.4000,   -38.6383,       2270,     9.8,   9.9173,  34.9348,2,  34.9326,2,   289.8,2,    1.15,2,    3.95,2,    0.14,2,    0.31,2,   4.114,2,   2.159,3,  -999.0,9,   9.9162
06MT19970815,      AR07E,     489,          1,     202811,         21,         21,2,19970821,       0000,    62.4000,   -38.6383,       2270,    49.3,   7.5255,  35.0315,2,  35.0349,2,   282.4,2,    4.06,2,   11.57,2,    0.48,2,    0.80,2,-999.000,9,-999.000,9,  -999.0,9,   7.5207
06MT19970815,      AR07E,     489,          1,     202810,         20,         20,2,19970821,       0000,    62.4000,   -38.6383,       2270,   100.9,   6.5819,  35.0563,2,  35.0586,2,  -999.0,9,    7.15,2,   14.99,2,    0.04,2,    0.98,2,-999.000,9,-999.000,9,  -999.0,9,   6.5728
06MT19970815,      AR07E,     489,          1,     202809,         19,         19,2,19970821,       0000,    62.4000,   -38.6383,       2270,   201.4,   5.8982,  35.0122,2,  35.0126,2,  -999.0,9,    8.10,2,   15.61,2,    0.04,2,    1.03,2,-999.000,9,-999.000,9,  -999.0,9,   5.8810
06MT19970815,      AR07E,     489,          1,     202808,         18,         18,2,19970821,       0000,    62.4000,   -38.6383,       2270,   301.8,   5.4000,  34.9766,2,  34.9780,2,  -999.0,9,    8.41,2,   15.89,2,    0.02,2,    1.06,2,-999.000,9,-999.000,9,  -999.0,9,   5.3752
06MT19970815,      AR07E,     489,          1,     202807,         17,         17,2,19970821,       0000,    62.4000,   -38.6383,       2270,   401.9,   4.8275,  34.9336,2,  34.9350,2,  -999.0,9,    8.76,2,   16.31,2,    0.02,2,    1.08,2,-999.000,9,-999.000,9,  -999.0,9,   4.7960
06MT19970815,      AR07E,     489,          1,     202806,         16,         16,2,19970821,       0000,    62.4000,   -38.6383,       2270,   502.0,   4.4862,  34.9229,2,  34.9247,2,   281.3,2,    9.07,2,   16.37,2,    0.02,2,    1.08,2,-999.000,9,-999.000,9,  -999.0,9,   4.4478
06MT19970815,      AR07E,     489,          1,     202805,         15,         15,2,19970821,       0000,    62.4000,   -38.6383,       2270,   600.6,   4.0405,  34.8902,2,  34.8909,2,   287.3,2,    9.30,2,   16.65,2,    0.01,2,    1.11,2,-999.000,9,-999.000,9,  -999.0,9,   3.9963
06MT19970815,      AR07E,     489,          1,     202804,         14,         14,2,19970821,       0000,    62.4000,   -38.6383,       2270,   699.0,   3.9328,  34.8983,2,  34.8996,2,   283.6,2,    9.45,2,   16.62,2,    0.02,2,    1.11,2,   3.944,2,   1.953,3,  -999.0,9,   3.8814
06MT19970815,      AR07E,     489,          1,     202803,         13,         13,2,19970821,       0000,    62.4000,   -38.6383,       2270,   804.0,   3.6800,  34.8838,2,  34.8838,2,   285.2,2,    9.75,2,   17.10,2,    0.02,2,    1.12,2,-999.000,9,-999.000,9,  -999.0,9,   3.6218
06MT19970815,      AR07E,     489,          1,     202802,         12,         12,2,19970821,       0000,    62.4000,   -38.6383,       2270,   900.9,   3.5986,  34.8974,2,  34.8972,2,   282.3,2,    9.92,2,   17.03,2,    0.01,2,    1.11,2,   3.560,2,   1.723,3,  -999.0,9,   3.5333
06MT19970815,      AR07E,     489,          1,     202801,         11,         11,2,19970821,       0000,    62.4000,   -38.6383,       2270,  1001.9,   3.5181,  34.8981,2,  34.8993,2,   284.0,2,    9.89,2,   16.84,2,    0.01,2,    1.13,2,-999.000,9,-999.000,9,  -999.0,9,   3.4453
06MT19970815,      AR07E,     489,          1,     202800,         10,         10,2,19970821,       0000,    62.4000,   -38.6383,       2270,  1101.9,   3.3676,  34.8875,2,  34.8878,2,   287.6,2,    9.96,2,   16.79,2,    0.02,2,    1.11,2,   3.576,2,   1.740,3,  -999.0,9,   3.2880
06MT19970815,      AR07E,     489,          1,     202799,          9,          9,3,19970821,       0000,    62.4000,   -38.6383,       2270,  1202.5,   3.2227,  34.8739,2,  34.8761,0,  -999.0,9,    9.96,2,   16.90,2,    0.02,2,    1.12,2,-999.000,9,-999.000,9,  -999.0,9,   3.1363
06MT19970815,      AR07E,     489,          1,     202798,          8,          8,2,19970821,       0000,    62.4000,   -38.6383,       2270,  1300.9,   3.2333,  34.8811,2,  34.8825,2,   291.1,2,    9.87,2,   16.57,2,    0.02,2,    1.10,2,   3.658,2,   1.783,3,  -999.0,9,   3.1387
06MT19970815,      AR07E,     489,          1,     202797,          7,          7,2,19970821,       0000,    62.4000,   -38.6383,       2270,  1499.0,   3.0645,  34.8688,2,  34.8699,2,   295.4,2,    9.81,2,   16.48,2,    0.02,2,    1.10,2,   3.824,2,   1.844,3,  -999.0,9,   2.9553
06MT19970815,      AR07E,     489,          1,     202796,          6,          6,2,19970821,       0000,    62.4000,   -38.6383,       2270,  1601.5,   2.9988,  34.8632,2,  34.8636,2,   297.2,2,    9.81,2,   16.49,2,    0.01,2,    1.09,2,   3.862,2,   1.878,3,  -999.0,9,   2.8816
06MT19970815,      AR07E,     489,          1,     202795,          5,          5,2,19970821,       0000,    62.4000,   -38.6383,       2270,  1699.6,   2.9781,  34.8725,2,  34.8730,2,   294.2,2,    9.97,2,   16.28,2,    0.02,2,    1.09,2,   3.558,2,   1.721,3,  -999.0,9,   2.8527
06MT19970815,      AR07E,     489,          1,     202794,          4,          4,2,19970821,       0000,    62.4000,   -38.6383,       2270,  1801.3,   2.9047,  34.8785,2,  34.8781,2,   292.7,2,    9.93,2,   16.00,2,    0.02,2,    1.06,2,   3.437,2,   1.674,3,  -999.0,9,   2.7714
06MT19970815,      AR07E,     489,          1,     202793,          3,          3,2,19970821,       0000,    62.4000,   -38.6383,       2270,  2000.8,   2.5290,  34.8830,2,  34.8828,2,   294.6,2,    9.78,2,   15.38,2,    0.01,2,    1.03,2,   3.298,2,   1.624,3,  -999.0,9,   2.3836
06MT19970815,      AR07E,     489,          1,     202792,          2,          2,2,19970821,       0000,    62.4000,   -38.6383,       2270,  2147.4,   1.8699,  34.8750,2,  34.8753,2,   299.9,2,    8.36,2,   14.35,2,    0.02,2,    0.97,2,   3.780,2,   1.830,3,  -999.0,9,   1.7221
06MT19970815,      AR07E,     489,          1,     202791,          1,          1,2,19970821,       0000,    62.4000,   -38.6383,       2270,  2204.6,   1.7698,  34.8731,2,  34.8735,2,   300.5,2,    8.28,2,   14.30,2,    0.02,2,    0.96,2,   3.779,2,   1.846,3,  -999.0,9,   1.6188