BOTTLE,20220204CCHSIOENA
EXPOCODE,SECT_ID,STNNBR,CASTNO,BIONBR,SAMPNO,BTLNBR,BTLNBR_FLAG_W,DATE,TIME,LATITUDE,LONGITUDE,DEPTH,CTDPRS,CTDTMP,CTDSAL,CTDSAL_FLAG_W,SALNTY,SALNTY_FLAG_W,OXYGEN,OXYGEN_FLAG_W,SILCAT,SILCAT_FLAG_W,NITRAT,NITRAT_FLAG_W,NITRIT,NITRIT_FLAG_W,PHSPHT,PHSPHT_FLAG_W,CFC-11,CFC-11_FLAG_W,CFC-12,CFC-12_FLAG_W,TCARBN,TCARBN_FLAG_W,THETA
,,,,,,,,,,,,METERS,DBAR,ITS-90,PSS-78,,PSS-78,,UMOL/KG,,UMOL/KG,,UMOL/KG,,UMOL/KG,,UMOL/KG,,PMOL/KG,,PMOL/KG,,UMOL/KG,,DEG C
06MT19970815,      AR07E,     458,          1,     202336,         22,         22,2,19970815,       0000,    65.0017,   -30.7017,       1890,     9.7,  11.7492,  35.0209,2,  35.0175,2,   295.9,2,    0.17,2,    1.89,2,    0.11,2,    0.22,2,   3.663,2,   1.945,3,  -999.0,9,  11.7480
06MT19970815,      AR07E,     458,          1,     202335,         21,         21,2,19970815,       0000,    65.0017,   -30.7017,       1890,    50.5,   7.8107,  35.0712,2,  35.0675,2,   273.0,2,    5.18,2,   12.96,2,    0.24,2,    0.88,2,-999.000,9,-999.000,9,  -999.0,9,   7.8057
06MT19970815,      AR07E,     458,          1,     202334,         20,         20,2,19970815,       0000,    65.0017,   -30.7017,       1890,   100.5,   7.2807,  35.0774,2,  35.0677,2,   270.8,2,    6.87,2,   14.78,2,    0.03,2,    0.97,2,-999.000,9,-999.000,9,  -999.0,9,   7.2711
06MT19970815,      AR07E,     458,          1,     202333,         19,         19,2,19970815,       0000,    65.0017,   -30.7017,       1890,   200.8,   6.9171,  35.0809,2,  35.0830,2,   272.6,2,    7.28,2,   15.05,2,    0.02,2,    1.00,2,   3.932,2,   2.074,3,  -999.0,9,   6.8984
06MT19970815,      AR07E,     458,          1,     202332,         18,         18,2,19970815,       0000,    65.0017,   -30.7017,       1890,   301.0,   6.7210,  35.0779,2,  35.0805,2,   272.4,2,    7.48,2,   15.24,2,    0.01,2,    1.00,2,-999.000,9,-999.000,9,  -999.0,9,   6.6932
06MT19970815,      AR07E,     458,          1,     202331,         17,         17,2,19970815,       0000,    65.0017,   -30.7017,       1890,   401.3,   6.1834,  35.0209,2,  35.0182,2,   269.0,2,    8.19,2,   15.91,2,    0.02,2,    1.05,2,-999.000,9,-999.000,9,  -999.0,9,   6.1477
06MT19970815,      AR07E,     458,          1,     202330,         16,         16,2,19970815,       0000,    65.0017,   -30.7017,       1890,   501.3,   5.6461,  34.9848,2,  34.9845,2,   268.8,2,    8.68,2,   16.41,2,    0.01,2,    1.08,2,   3.743,2,   1.910,3,  -999.0,9,   5.6033
06MT19970815,      AR07E,     458,          1,     202329,         15,         15,2,19970815,       0000,    65.0017,   -30.7017,       1890,   601.7,   5.2744,  34.9678,2,  34.9684,2,   267.8,2,    9.10,2,   16.69,2,    0.02,2,    1.10,2,-999.000,9,-999.000,9,  -999.0,9,   5.2243
06MT19970815,      AR07E,     458,          1,     202328,         14,         14,2,19970815,       0000,    65.0017,   -30.7017,       1890,   701.2,   4.9500,  34.9573,2,  34.9593,2,   264.9,2,    9.50,2,   17.23,2,    0.01,2,    1.12,2,   3.468,2,   1.722,3,  -999.0,9,   4.8928
06MT19970815,      AR07E,     458,          1,     202327,         13,         13,2,19970815,       0000,    65.0017,   -30.7017,       1890,   801.0,   4.5706,  34.9426,2,  34.9440,2,   267.2,2,    9.75,2,   17.17,2,    0.01,2,    1.13,2,-999.000,9,-999.000,9,  -999.0,9,   4.5071
06MT19970815,      AR07E,     458,          1,     202326,         12,         12,2,19970815,       0000,    65.0017,   -30.7017,       1890,   901.8,   4.2598,  34.9332,2,  34.9355,2,   268.9,2,    9.93,2,   17.34,2,    0.01,2,    1.13,2,   3.249,2,   1.623,3,  -999.0,9,   4.1898
06MT19970815,      AR07E,     458,          1,     202325,         11,         11,2,19970815,       0000,    65.0017,   -30.7017,       1890,  1001.7,   4.0688,  34.9293,2,  34.9310,2,  -999.0,9,   10.01,2,   17.28,2,    0.01,2,    1.13,2,-999.000,9,-999.000,9,  -999.0,9,   3.9917
06MT19970815,      AR07E,     458,          1,     202324,         10,         10,2,19970815,       0000,    65.0017,   -30.7017,       1890,  1100.8,   3.8955,  34.9291,2,  34.9307,2,   272.4,2,   10.11,2,   17.22,2,    0.01,2,    1.15,2,   3.046,2,   1.488,3,  -999.0,9,   3.8115
06MT19970815,      AR07E,     458,          1,     202323,          9,          9,2,19970815,       0000,    65.0017,   -30.7017,       1890,  1201.3,   3.7603,  34.9251,2,  34.9282,0,  -999.0,9,   10.08,2,   17.01,2,    0.01,2,    1.11,2,-999.000,9,-999.000,9,  -999.0,9,   3.6690
06MT19970815,      AR07E,     458,          1,     202322,          8,          8,2,19970815,       0000,    65.0017,   -30.7017,       1890,  1299.7,   3.5978,  34.9167,2,  34.9170,2,   278.9,2,   10.18,2,   17.07,2,    0.01,2,    1.12,2,   3.068,2,   1.487,3,  -999.0,9,   3.4996
06MT19970815,      AR07E,     458,          1,     202321,          7,          7,2,19970815,       0000,    65.0017,   -30.7017,       1890,  1401.2,   3.4189,  34.9003,2,  34.9003,2,   283.8,2,   10.18,2,   17.09,2,    0.01,2,    1.13,2,-999.000,9,-999.000,9,  -999.0,9,   3.3140
06MT19970815,      AR07E,     458,          1,     202320,          6,          6,2,19970815,       0000,    65.0017,   -30.7017,       1890,  1500.4,   3.2676,  34.8855,2,  34.8854,2,   288.7,2,   10.09,2,   16.92,2,    0.01,2,    1.11,2,   3.471,2,   1.686,3,  -999.0,9,   3.1559
06MT19970815,      AR07E,     458,          1,     202319,          5,          5,2,19970815,       0000,    65.0017,   -30.7017,       1890,  1601.6,   3.1584,  34.8781,2,  34.8773,2,   291.8,2,   10.11,2,   16.87,2,    0.01,2,    1.11,2,-999.000,9,-999.000,9,  -999.0,9,   3.0393
06MT19970815,      AR07E,     458,          1,     202318,          4,          4,2,19970815,       0000,    65.0017,   -30.7017,       1890,  1660.3,   3.1295,  34.8766,2,  34.8771,2,   292.0,2,   10.12,2,   16.88,2,    0.01,2,    1.11,2,   3.566,2,   1.715,3,  -999.0,9,   3.0056
06MT19970815,      AR07E,     458,          1,     202317,          3,          3,2,19970815,       0000,    65.0017,   -30.7017,       1890,  1740.0,   3.1790,  34.8953,2,  34.8955,2,   285.8,2,   10.94,2,   16.77,2,    0.01,2,    1.12,2,   3.067,2,   1.500,3,  -999.0,9,   3.0474
06MT19970815,      AR07E,     458,          1,     202316,          2,          2,2,19970815,       0000,    65.0017,   -30.7017,       1890,  1797.2,   3.1068,  34.8921,2,  34.8925,2,   286.5,2,   10.98,2,   16.76,2,    0.01,2,    1.11,2,   3.043,2,   1.492,3,  -999.0,9,   2.9711
06MT19970815,      AR07E,     458,          1,     202315,          1,          1,2,19970815,       0000,    65.0017,   -30.7017,       1890,  1886.2,   2.0190,  34.8944,2,  34.8946,2,   293.4,2,    8.73,2,   14.94,2,    0.04,2,    1.03,2,   3.431,2,   1.683,3,  -999.0,9,   1.8909
06MT19970815,      AR07E,     459,          1,     202350,         14,         14,2,19970815,       0000,    65.2700,   -31.0000,       1180,     9.2,  11.5213,  35.0236,2,  35.0223,2,   293.8,2,    0.40,2,    1.77,2,    0.10,2,    0.19,2,   3.816,2,   2.015,3,  2050.3,2,  11.5201
06MT19970815,      AR07E,     459,          1,     202349,         13,         13,2,19970815,       0000,    65.2700,   -31.0000,       1180,    50.2,   8.5439,  35.0795,2,  35.0700,2,   276.9,2,    3.05,2,    9.33,2,    0.55,2,    0.72,2,-999.000,9,-999.000,9,  2115.5,2,   8.5387
06MT19970815,      AR07E,     459,          1,     202348,         12,         12,2,19970815,       0000,    65.2700,   -31.0000,       1180,    99.6,   7.1139,  35.0593,2,  35.0642,2,   271.4,2,    7.12,2,   15.09,2,    0.04,2,    0.99,2,-999.000,9,-999.000,9,  -999.0,9,   7.1045
06MT19970815,      AR07E,     459,          1,     202347,         11,         11,3,19970815,       0000,    65.2700,   -31.0000,       1180,   200.9,   6.9736,  35.0944,2,-999.0000,9,  -999.0,9,    7.19,2,   14.75,2,    0.04,2,    0.96,2,-999.000,9,-999.000,9,  -999.0,9,   6.9548
06MT19970815,      AR07E,     459,          1,     202346,         10,         10,2,19970815,       0000,    65.2700,   -31.0000,       1180,   301.5,   6.7124,  35.0791,2,  35.0806,2,   274.8,2,    7.43,2,   15.25,2,    0.03,2,    0.98,2,-999.000,9,-999.000,9,  2143.9,2,   6.6846
06MT19970815,      AR07E,     459,          1,     202345,          9,          9,3,19970815,       0000,    65.2700,   -31.0000,       1180,   401.2,   6.2346,  35.0260,2,-999.0000,9,  -999.0,9,    7.93,2,   15.39,2,    0.02,2,    1.02,2,-999.000,9,-999.000,9,  -999.0,9,   6.1988
06MT19970815,      AR07E,     459,          1,     202344,          8,          8,2,19970815,       0000,    65.2700,   -31.0000,       1180,   500.6,   5.7169,  34.9835,2,  34.9870,2,   272.1,2,    8.52,2,   16.05,2,    0.02,2,    1.06,2,   3.956,2,   1.995,3,  2150.5,2,   5.6738
06MT19970815,      AR07E,     459,          1,     202343,          7,          7,3,19970815,       0000,    65.2700,   -31.0000,       1180,   601.0,   5.3960,  34.9596,2,-999.0000,9,  -999.0,9,    8.50,2,   16.07,2,    0.03,2,    1.06,2,-999.000,9,-999.000,9,  -999.0,9,   5.3454
06MT19970815,      AR07E,     459,          1,     202342,          6,          6,2,19970815,       0000,    65.2700,   -31.0000,       1180,   700.2,   4.9758,  34.9445,2,  34.9452,2,   269.9,2,    9.25,2,   16.93,2,    0.02,2,    1.11,2,   3.780,2,   1.910,3,  2153.8,2,   4.9186
06MT19970815,      AR07E,     459,          1,     202341,          5,          5,2,19970815,       0000,    65.2700,   -31.0000,       1180,   800.8,   4.6253,  34.9237,2,  34.9243,2,   273.4,2,    9.40,2,   16.99,2,    0.02,2,    1.11,2,-999.000,9,-999.000,9,  2154.6,2,   4.5615
06MT19970815,      AR07E,     459,          1,     202340,          4,          4,2,19970815,       0000,    65.2700,   -31.0000,       1180,   902.7,   4.5007,  34.9466,2,  34.9467,0,   265.5,2,    9.88,2,   17.17,2,    0.02,2,    1.13,2,   3.322,2,   1.665,3,  2157.9,2,   4.4289
06MT19970815,      AR07E,     459,          1,     202339,          3,          3,2,19970815,       0000,    65.2700,   -31.0000,       1180,  1000.8,   4.0118,  34.9325,2,  34.9336,2,   274.4,2,    9.35,2,   16.63,2,    0.03,2,    1.09,2,   3.429,2,   1.730,3,  2154.4,2,   3.9353
06MT19970815,      AR07E,     459,          1,     202338,          2,          2,2,19970815,       0000,    65.2700,   -31.0000,       1180,  1100.4,   2.8297,  34.9025,2,  34.9014,0,   286.1,2,    8.94,2,   15.63,2,    0.04,2,    1.04,2,   3.499,2,   1.738,3,  2152.9,2,   2.7548
06MT19970815,      AR07E,     459,          1,     202337,          1,          1,2,19970815,       0000,    65.2700,   -31.0000,       1180,  1171.8,   2.1051,  34.8891,2,  34.8891,2,   293.3,2,    8.20,2,   14.67,2,    0.05,2,    0.99,2,   3.631,2,   1.784,3,  2151.7,2,   2.0314
06MT19970815,      AR07E,     460,          1,     202358,         22,         22,3,19970816,       0000,    65.5200,   -31.2650,        364,    10.7,   9.6437,  35.0404,2,  35.0241,2,  -999.0,9,    1.88,2,    6.25,2,    0.26,2,    0.47,2,-999.000,9,-999.000,9,  -999.0,9,   9.6425
06MT19970815,      AR07E,     460,          1,     202357,         21,         21,2,19970816,       0000,    65.5200,   -31.2650,        364,    48.7,   7.5429,  35.0809,2,  35.0820,2,   271.6,2,    6.12,2,   14.07,2,    0.08,2,    0.91,2,-999.000,9,-999.000,9,  -999.0,9,   7.5382
06MT19970815,      AR07E,     460,          1,     202356,         20,         20,2,19970816,       0000,    65.5200,   -31.2650,        364,   100.9,   7.0445,  35.1033,2,  35.1041,2,   272.1,2,    7.17,2,   14.95,2,    0.03,2,    0.97,2,-999.000,9,-999.000,9,  -999.0,9,   7.0351
06MT19970815,      AR07E,     460,          1,     202355,         19,         19,2,19970816,       0000,    65.5200,   -31.2650,        364,   201.3,   6.6869,  35.0744,2,  35.0750,2,   273.9,2,    7.47,2,   15.26,2,    0.02,2,    0.99,2,-999.000,9,-999.000,9,  -999.0,9,   6.6685
06MT19970815,      AR07E,     460,          1,     202354,         18,         18,2,19970816,       0000,    65.5200,   -31.2650,        364,   300.6,   5.6522,  35.0003,2,  35.0025,2,   274.3,2,    8.19,2,   15.77,2,    0.03,2,    1.03,2,-999.000,9,-999.000,9,  -999.0,9,   5.6269
06MT19970815,      AR07E,     460,          1,     202353,         17,         17,3,19970816,       0000,    65.5200,   -31.2650,        364,   300.8,   5.7380,  35.0035,2,  35.0067,2,   274.1,2,    8.20,2,   15.72,2,    0.03,2,    1.03,2,-999.000,9,-999.000,9,  -999.0,9,   5.7125
06MT19970815,      AR07E,     460,          1,     202352,         16,         16,2,19970816,       0000,    65.5200,   -31.2650,        364,   356.3,   5.5115,  34.9886,2,  34.9877,2,   273.3,2,    8.45,2,   15.87,2,    0.03,2,    1.05,2,-999.000,9,-999.000,9,  -999.0,9,   5.4818
06MT19970815,      AR07E,     460,          1,     202351,         15,         15,3,19970816,       0000,    65.5200,   -31.2650,        364,   355.8,   5.5114,  34.9889,2,  34.9875,2,   271.2,2,    8.41,2,   15.90,2,    0.02,2,    1.05,2,-999.000,9,-999.000,9,  -999.0,9,   5.4817
06MT19970815,      AR07E,     461,          1,     202364,          6,          6,2,19970816,       0000,    65.0850,   -34.4633,        320,     9.7,   7.8401,  34.7002,2,  34.6937,2,   299.2,2,    2.08,2,    6.80,2,    0.20,2,    0.49,2,   4.453,2,   2.374,3,  -999.0,9,   7.8391
06MT19970815,      AR07E,     461,          1,     202363,          5,          5,2,19970816,       0000,    65.0850,   -34.4633,        320,    49.5,   6.6934,  34.8830,2,  34.9240,0,   280.4,2,    5.58,2,   12.67,2,    0.15,2,    0.85,2,-999.000,9,-999.000,9,  -999.0,9,   6.6889
06MT19970815,      AR07E,     461,          1,     202362,          4,          4,2,19970816,       0000,    65.0850,   -34.4633,        320,   100.1,   7.0261,  35.1045,2,  35.1056,2,   272.5,2,    7.19,2,   14.96,2,    0.04,2,    0.97,2,-999.000,9,-999.000,9,  -999.0,9,   7.0167
06MT19970815,      AR07E,     461,          1,     202361,          3,          3,2,19970816,       0000,    65.0850,   -34.4633,        320,   199.9,   6.3889,  35.0504,2,  35.0488,2,   273.5,2,    7.75,2,   15.45,2,    0.02,2,    1.01,2,-999.000,9,-999.000,9,  -999.0,9,   6.3711
06MT19970815,      AR07E,     461,          1,     202360,          2,          2,2,19970816,       0000,    65.0850,   -34.4633,        320,   250.2,   5.4465,  34.9777,2,  34.9645,2,   276.2,2,    8.09,2,   15.53,2,    0.04,2,    1.03,2,-999.000,9,-999.000,9,  -999.0,9,   5.4260
06MT19970815,      AR07E,     461,          1,     202359,          1,          1,2,19970816,       0000,    65.0850,   -34.4633,        320,   304.0,   4.4855,  34.9019,2,  34.8996,2,   280.8,2,    8.50,2,   15.55,2,    0.05,2,    1.04,2,-999.000,9,-999.000,9,  -999.0,9,   4.4627
06MT19970815,      AR07E,     462,          1,     202376,         12,         12,2,19970816,       0000,    64.8150,   -34.1317,       1030,     9.2,   9.9017,  34.9778,2,  34.9771,2,   290.8,2,    1.05,2,    3.75,2,    0.14,2,    0.31,2,   4.074,2,   2.174,3,  2066.9,6,   9.9006
06MT19970815,      AR07E,     462,          1,     202375,         11,         11,2,19970816,       0000,    64.8150,   -34.1317,       1030,    49.0,   9.1753,  34.9986,2,  35.0022,2,   284.6,2,    1.60,2,    5.78,2,    0.22,2,    0.46,2,-999.000,9,-999.000,9,  2085.8,6,   9.1700
06MT19970815,      AR07E,     462,          1,     202374,         10,         10,2,19970816,       0000,    64.8150,   -34.1317,       1030,   101.2,   7.1492,  35.0681,2,  35.0711,2,   275.3,2,    5.91,2,   14.14,2,    0.04,2,    0.91,2,   4.305,2,   2.217,3,  2135.8,6,   7.1397
06MT19970815,      AR07E,     462,          1,     202373,          9,          9,2,19970816,       0000,    64.8150,   -34.1317,       1030,   200.6,   6.6334,  35.0769,2,  35.0708,2,   275.8,2,    7.37,2,   15.18,2,    0.02,2,    0.99,2,   4.134,2,   2.100,3,  2141.6,6,   6.6151
06MT19970815,      AR07E,     462,          1,     202372,          8,          8,2,19970816,       0000,    64.8150,   -34.1317,       1030,   300.0,   5.8600,  34.9997,2,  35.0022,2,   275.3,2,    8.22,2,   15.90,2,    0.01,2,    1.04,2,-999.000,9,-999.000,9,  2145.3,6,   5.8343
06MT19970815,      AR07E,     462,          1,     202371,          7,          7,2,19970816,       0000,    64.8150,   -34.1317,       1030,   400.9,   5.3045,  34.9655,2,  34.9676,2,   274.7,2,    8.66,2,   16.36,2,    0.01,2,    1.08,2,   4.005,2,   2.018,3,  2148.6,6,   5.2716
06MT19970815,      AR07E,     462,          1,     202370,          6,          6,2,19970816,       0000,    64.8150,   -34.1317,       1030,   501.2,   4.6960,  34.9367,2,  34.9376,2,   274.4,2,    9.12,2,   16.65,2,    0.01,2,    1.10,2,-999.000,9,-999.000,9,  2150.5,6,   4.6569
06MT19970815,      AR07E,     462,          1,     202369,          5,          5,2,19970816,       0000,    64.8150,   -34.1317,       1030,   600.6,   4.4790,  34.9386,2,  34.9398,2,   273.5,2,    9.10,2,   16.42,2,    0.03,2,    1.07,2,   3.693,2,   1.827,3,  2150.0,6,   4.4327
06MT19970815,      AR07E,     462,          1,     202368,          4,          4,2,19970816,       0000,    64.8150,   -34.1317,       1030,   701.3,   4.3528,  34.9319,2,  34.9324,2,   274.7,2,    9.18,2,   16.37,2,    0.02,2,    1.07,2,-999.000,9,-999.000,9,  2150.3,6,   4.2989
06MT19970815,      AR07E,     462,          1,     202367,          3,          3,2,19970816,       0000,    64.8150,   -34.1317,       1030,   800.9,   3.9014,  34.9144,2,  34.9144,2,   276.4,2,    9.36,2,   16.35,2,    0.02,2,    1.07,2,   3.493,2,   1.711,3,  2150.4,6,   3.8421
06MT19970815,      AR07E,     462,          1,     202366,          2,          2,2,19970816,       0000,    64.8150,   -34.1317,       1030,   901.4,   3.2235,  34.8896,2,  34.8898,2,   284.4,2,    9.26,2,   16.12,2,    0.02,2,    1.06,2,   3.597,2,   1.761,3,  2148.6,6,   3.1608
06MT19970815,      AR07E,     462,          1,     202365,          1,          1,2,19970816,       0000,    64.8150,   -34.1317,       1030,  1018.1,   2.7934,  34.8821,2,  34.8821,2,   287.7,2,    9.23,2,   15.62,2,    0.03,2,    1.04,2,   3.575,2,   1.758,3,  2148.5,6,   2.7251