BOTTLE,20220204CCHSIOENA
EXPOCODE,SECT_ID,STNNBR,CASTNO,BIONBR,SAMPNO,BTLNBR,BTLNBR_FLAG_W,DATE,TIME,LATITUDE,LONGITUDE,DEPTH,CTDPRS,CTDTMP,CTDSAL,CTDSAL_FLAG_W,SALNTY,SALNTY_FLAG_W,OXYGEN,OXYGEN_FLAG_W,SILCAT,SILCAT_FLAG_W,NITRAT,NITRAT_FLAG_W,NITRIT,NITRIT_FLAG_W,PHSPHT,PHSPHT_FLAG_W,CFC-11,CFC-11_FLAG_W,CFC-12,CFC-12_FLAG_W,TCARBN,TCARBN_FLAG_W,THETA
,,,,,,,,,,,,METERS,DBAR,ITS-90,PSS-78,,PSS-78,,UMOL/KG,,UMOL/KG,,UMOL/KG,,UMOL/KG,,UMOL/KG,,PMOL/KG,,PMOL/KG,,UMOL/KG,,DEG C
06MT19970815,      AR07E,     571,          1,     204565,         15,         15,2,19970909,       0000,    52.3333,   -15.2467,       1394,    20.9,  15.1298,  35.5066,2,  35.5072,2,   256.4,2,    0.68,2,    1.01,2,    0.11,2,    0.14,2,   3.070,2,   1.714,3,  2060.2,2,  15.1266
06MT19970815,      AR07E,     571,          1,     204564,         14,         14,2,19970909,       0000,    52.3333,   -15.2467,       1394,   100.8,  12.0043,  35.6076,2,  35.6117,2,  -999.0,9,    3.52,2,    9.87,2,    0.04,2,    0.60,2,   3.369,2,   1.838,3,  -999.0,9,  11.9911
06MT19970815,      AR07E,     571,          1,     204563,         13,         13,2,19970909,       0000,    52.3333,   -15.2467,       1394,   200.8,  11.4235,  35.5391,2,  35.5428,2,   243.0,2,    4.09,2,   10.37,2,    0.03,2,    0.65,2,   3.349,2,   1.808,3,  -999.0,9,  11.3980
06MT19970815,      AR07E,     571,          1,     204562,         12,         12,2,19970909,       0000,    52.3333,   -15.2467,       1394,   301.7,  10.9361,  35.4862,2,  35.4897,2,   248.3,2,    4.37,2,   10.87,2,    0.03,2,    0.69,2,   3.421,2,   1.845,3,  -999.0,9,  10.8986
06MT19970815,      AR07E,     571,          1,     204561,         11,         11,2,19970909,       0000,    52.3333,   -15.2467,       1394,   400.8,  10.7189,  35.4729,2,  35.4756,2,   249.8,2,    4.51,2,   10.98,2,    0.02,2,    0.69,2,-999.000,9,-999.000,9,  -999.0,9,  10.6696
06MT19970815,      AR07E,     571,          1,     204560,         10,         10,2,19970909,       0000,    52.3333,   -15.2467,       1394,   500.4,  10.2789,  35.4106,2,  35.4141,2,   253.6,2,    5.25,2,   12.33,2,    0.01,2,    0.78,2,   3.356,2,   1.779,3,  -999.0,9,  10.2186
06MT19970815,      AR07E,     571,          1,     204559,          9,          9,2,19970909,       0000,    52.3333,   -15.2467,       1394,   600.9,   9.9196,  35.3818,2,  35.3880,2,   243.9,2,    6.14,2,   13.44,2,    0.03,2,    0.85,2,-999.000,9,-999.000,9,  -999.0,9,   9.8484
06MT19970815,      AR07E,     571,          1,     204558,          8,          8,2,19970909,       0000,    52.3333,   -15.2467,       1394,   700.7,   9.1078,  35.2924,2,  35.2942,2,   236.9,2,    8.24,2,   16.34,2,    0.01,2,    1.04,2,   2.628,2,   1.373,3,  -999.0,9,   9.0286
06MT19970815,      AR07E,     571,          1,     204557,          7,          7,2,19970909,       0000,    52.3333,   -15.2467,       1394,   800.8,   8.8274,  35.3214,2,  35.3208,2,   216.2,2,    9.32,2,   17.38,2,    0.01,2,    1.11,2,-999.000,9,-999.000,9,  -999.0,9,   8.7380
06MT19970815,      AR07E,     571,          1,     204556,          6,          6,2,19970909,       0000,    52.3333,   -15.2467,       1394,   899.8,   8.2788,  35.3198,2,  35.3221,2,   206.1,2,   10.23,2,   18.28,2,    0.02,2,    1.16,2,-999.000,9,-999.000,9,  -999.0,9,   8.1814
06MT19970815,      AR07E,     571,          1,     204555,          5,          5,2,19970909,       0000,    52.3333,   -15.2467,       1394,  1001.3,   7.8675,  35.3514,2,  35.3549,2,   202.5,2,   10.69,2,   18.28,2,    0.02,2,    1.17,2,   1.935,2,   0.985,3,  -999.0,9,   7.7614
06MT19970815,      AR07E,     571,          1,     204554,          4,          4,2,19970909,       0000,    52.3333,   -15.2467,       1394,  1100.3,   7.0443,  35.2557,2,  35.2582,2,   204.5,2,   11.14,2,   18.56,2,    0.02,2,    1.20,2,   1.824,2,   0.915,3,  -999.0,9,   6.9338
06MT19970815,      AR07E,     571,          1,     204553,          3,          3,2,19970909,       0000,    52.3333,   -15.2467,       1394,  1200.9,   5.8942,  35.1223,2,  35.1230,2,   213.6,2,   11.41,2,   18.76,2,    0.02,2,    1.22,2,-999.000,9,-999.000,9,  -999.0,9,   5.7832
06MT19970815,      AR07E,     571,          1,     204552,          2,          2,2,19970909,       0000,    52.3333,   -15.2467,       1394,  1344.9,   5.2481,  35.0597,2,  35.0592,2,   228.8,2,   11.51,2,   18.69,2,    0.02,2,    1.21,2,   2.142,2,   1.052,3,  -999.0,9,   5.1290
06MT19970815,      AR07E,     571,          1,     204551,          1,          1,2,19970909,       0000,    52.3333,   -15.2467,       1394,  1382.4,   4.8100,  35.0118,2,  35.0116,2,   249.0,2,   11.56,2,   18.52,2,    0.01,2,    1.20,2,   2.211,2,   1.087,3,  -999.0,9,   4.6919
06MT19970815,      AR07E,     572,          1,     204584,         12,         12,2,19970909,       0000,    52.3317,   -14.9967,        930,    13.4,  15.1954,  35.5217,2,  35.5223,2,   254.3,2,    0.67,2,    1.16,2,    0.10,2,    0.16,2,-999.000,9,-999.000,9,  2059.5,2,  15.1934
06MT19970815,      AR07E,     572,          1,     204583,         11,         11,2,19970909,       0000,    52.3317,   -14.9967,        930,    54.7,  14.7133,  35.5432,2,  35.5318,2,   244.6,2,    0.93,2,    2.50,2,    0.20,2,    0.25,2,-999.000,9,-999.000,9,  2071.9,2,  14.7051
06MT19970815,      AR07E,     572,          1,     204582,         10,         10,2,19970909,       0000,    52.3317,   -14.9967,        930,    99.0,  11.8963,  35.5927,2,  35.6028,2,   242.7,2,    3.70,2,   10.12,2,    0.03,2,    0.62,2,-999.000,9,-999.000,9,  2116.6,2,  11.8834
06MT19970815,      AR07E,     572,          1,     204581,          9,          9,2,19970909,       0000,    52.3317,   -14.9967,        930,   200.6,  11.2669,  35.5140,2,  35.5168,2,   247.3,2,    4.33,2,   10.80,2,    0.02,2,    0.67,2,-999.000,9,-999.000,9,  2119.7,2,  11.2416
06MT19970815,      AR07E,     572,          1,     204580,          8,          8,2,19970909,       0000,    52.3317,   -14.9967,        930,   302.0,  10.9229,  35.4941,2,  35.4975,2,   252.5,2,    4.31,2,   10.73,2,    0.02,2,    0.67,2,-999.000,9,-999.000,9,  2120.5,2,  10.8854
06MT19970815,      AR07E,     572,          1,     204579,          7,          7,2,19970909,       0000,    52.3317,   -14.9967,        930,   401.0,  10.7083,  35.4715,2,  35.4742,2,   253.2,2,    4.46,2,   11.00,2,    0.01,2,    0.70,2,-999.000,9,-999.000,9,  2121.5,2,  10.6590
06MT19970815,      AR07E,     572,          1,     204578,          6,          6,2,19970909,       0000,    52.3317,   -14.9967,        930,   500.4,  10.1560,  35.3826,2,  35.3832,2,   248.2,2,    5.34,2,   12.52,2,    0.02,2,    0.80,2,-999.000,9,-999.000,9,  2128.4,2,  10.0962
06MT19970815,      AR07E,     572,          1,     204577,          5,          5,2,19970909,       0000,    52.3317,   -14.9967,        930,   601.5,  10.0220,  35.4236,2,  35.4234,2,   241.2,2,    6.11,2,   12.81,2,    0.01,2,    0.82,2,-999.000,9,-999.000,9,  2135.4,2,   9.9503
06MT19970815,      AR07E,     572,          1,     204576,          4,          4,2,19970909,       0000,    52.3317,   -14.9967,        930,   701.0,   9.2565,  35.3300,2,  35.3326,2,   219.9,2,    8.13,2,   15.66,2,    0.02,2,    1.00,2,-999.000,9,-999.000,9,  2149.5,2,   9.1765
06MT19970815,      AR07E,     572,          1,     204575,          3,          3,2,19970909,       0000,    52.3317,   -14.9967,        930,   799.5,   8.8901,  35.3603,2,  35.3619,2,   203.5,2,    9.39,2,   17.42,2,    0.01,2,    1.11,2,-999.000,9,-999.000,9,  2162.5,2,   8.8004
06MT19970815,      AR07E,     572,          1,     204574,          2,          2,2,19970909,       0000,    52.3317,   -14.9967,        930,   850.1,   8.8168,  35.3616,2,  35.3634,2,   202.0,2,    9.57,2,   17.68,2,    0.01,2,    1.12,2,-999.000,9,-999.000,9,  2163.4,2,   8.7217
06MT19970815,      AR07E,     572,          1,     204573,          1,          1,2,19970909,       0000,    52.3317,   -14.9967,        930,   911.6,   8.5956,  35.3778,2,  35.3804,2,   201.9,2,    9.97,2,   17.86,2,    0.02,2,    1.13,2,-999.000,9,-999.000,9,  2166.6,2,   8.4947
06MT19970815,      AR07E,     573,          1,     204592,         20,         20,2,19970909,       0000,    52.3317,   -14.7517,        462,    10.8,  15.1995,  35.4870,2,  35.4875,2,  -999.0,9,    0.56,2,    1.00,2,    0.10,2,    0.15,2,-999.000,9,-999.000,9,  -999.0,9,  15.1979
06MT19970815,      AR07E,     573,          1,     204591,         19,         19,2,19970909,       0000,    52.3317,   -14.7517,        462,    11.0,  15.1959,  35.4869,2,  35.4873,2,   253.8,2,    0.56,2,    1.00,2,    0.10,2,    0.15,2,-999.000,9,-999.000,9,  2057.8,2,  15.1942
06MT19970815,      AR07E,     573,          1,     204590,         18,         18,2,19970909,       0000,    52.3317,   -14.7517,        462,    50.7,  14.1867,  35.5032,2,  35.5096,2,   244.1,2,    1.15,2,    3.58,2,    0.28,2,    0.31,2,-999.000,9,-999.000,9,  2082.0,2,  14.1793
06MT19970815,      AR07E,     573,          1,     204589,         17,         17,2,19970909,       0000,    52.3317,   -14.7517,        462,   102.8,  11.5865,  35.5491,2,  35.5484,2,   244.9,2,    3.88,2,   10.43,2,    0.03,2,    0.64,2,   3.470,2,   1.841,3,  2118.5,2,  11.5734
06MT19970815,      AR07E,     573,          1,     204588,         16,         16,2,19970909,       0000,    52.3317,   -14.7517,        462,   202.8,  10.7153,  35.4525,2,  35.4556,2,  -999.0,9,    4.60,2,   11.43,2,    0.02,2,    0.72,2,   3.473,2,   1.818,3,  2123.5,2,  10.6906
06MT19970815,      AR07E,     573,          1,     204587,         15,         15,2,19970909,       0000,    52.3317,   -14.7517,        462,   303.5,  10.3517,  35.4102,2,  35.4096,2,   246.0,2,    5.11,2,   12.19,2,    0.02,2,    0.77,2,   3.394,2,   1.810,3,  2127.4,2,  10.3153
06MT19970815,      AR07E,     573,          1,     204586,         14,         14,2,19970909,       0000,    52.3317,   -14.7517,        462,   403.2,  10.3433,  35.4662,2,  35.4704,2,   250.9,2,    4.51,2,   11.35,2,    0.02,2,    0.71,2,   3.575,2,   1.885,3,  2129.2,2,  10.2947
06MT19970815,      AR07E,     573,          1,     204585,         13,         13,2,19970909,       0000,    52.3317,   -14.7517,        462,   442.1,  10.2258,  35.4624,2,  35.4669,2,   248.9,2,    5.54,2,   11.60,2,    0.03,2,    0.75,2,   3.602,2,   1.917,3,  2132.6,2,  10.1728
06MT19970815,      AR07E,     574,          1,     204598,          6,          6,2,19970909,       0000,    52.3333,   -14.5000,        370,    10.3,  15.2726,  35.4984,2,  35.4995,2,   252.1,2,    0.41,2,    0.63,2,    0.07,2,    0.10,2,-999.000,9,-999.000,9,  2060.3,2,  15.2710
06MT19970815,      AR07E,     574,          1,     204597,          5,          5,2,19970909,       0000,    52.3333,   -14.5000,        370,    50.6,  13.6855,  35.4904,2,  35.5103,2,   242.9,2,    1.21,2,    4.97,2,    0.37,2,    0.38,2,-999.000,9,-999.000,9,  2094.3,2,  13.6783
06MT19970815,      AR07E,     574,          1,     204596,          4,          4,2,19970909,       0000,    52.3333,   -14.5000,        370,   100.0,  11.1888,  35.5028,2,  35.5036,2,   246.4,2,    4.18,2,   10.95,2,    0.03,2,    0.67,2,-999.000,9,-999.000,9,  2121.2,2,  11.1763
06MT19970815,      AR07E,     574,          1,     204595,          3,          3,2,19970909,       0000,    52.3333,   -14.5000,        370,   202.2,  10.5848,  35.4553,2,  35.4575,2,   249.5,2,    4.50,2,   11.42,2,    0.02,2,    0.71,2,-999.000,9,-999.000,9,  2124.1,2,  10.5603
06MT19970815,      AR07E,     574,          1,     204594,          2,          2,2,19970909,       0000,    52.3333,   -14.5000,        370,   300.5,  10.1886,  35.4314,2,  35.4302,2,   244.7,2,    5.08,2,   12.23,2,    0.03,2,    0.77,2,-999.000,9,-999.000,9,  2130.8,2,  10.1529
06MT19970815,      AR07E,     574,          1,     204593,          1,          1,2,19970909,       0000,    52.3333,   -14.5000,        370,   350.0,  10.0842,  35.4396,2,  35.4413,2,   241.4,2,    5.73,2,   12.57,2,    0.03,2,    0.79,2,-999.000,9,-999.000,9,  2134.8,2,  10.0428