BOTTLE,20220204CCHSIOENA
EXPOCODE,SECT_ID,STNNBR,CASTNO,BIONBR,SAMPNO,BTLNBR,BTLNBR_FLAG_W,DATE,TIME,LATITUDE,LONGITUDE,DEPTH,CTDPRS,CTDTMP,CTDSAL,CTDSAL_FLAG_W,SALNTY,SALNTY_FLAG_W,OXYGEN,OXYGEN_FLAG_W,SILCAT,SILCAT_FLAG_W,NITRAT,NITRAT_FLAG_W,NITRIT,NITRIT_FLAG_W,PHSPHT,PHSPHT_FLAG_W,CFC-11,CFC-11_FLAG_W,CFC-12,CFC-12_FLAG_W,TCARBN,TCARBN_FLAG_W,THETA
,,,,,,,,,,,,METERS,DBAR,ITS-90,PSS-78,,PSS-78,,UMOL/KG,,UMOL/KG,,UMOL/KG,,UMOL/KG,,UMOL/KG,,PMOL/KG,,PMOL/KG,,UMOL/KG,,DEG C
06MT19970815,      AR07E,     498,          1,     202969,         21,         21,2,19970823,       0000,    61.0667,   -40.1283,       2196,     9.8,   9.8844,  34.9029,2,  34.8998,2,   289.1,2,    1.36,2,    4.14,2,    0.12,2,    0.33,2,   3.998,2,   2.133,3,  -999.0,9,   9.8833
06MT19970815,      AR07E,     498,          1,     202968,         20,         20,2,19970823,       0000,    61.0667,   -40.1283,       2196,    49.5,   7.2020,  35.0408,2,  35.0368,2,   279.0,2,    5.30,2,   12.71,2,    0.18,2,    0.84,2,-999.000,9,-999.000,9,  -999.0,9,   7.1973
06MT19970815,      AR07E,     498,          1,     202967,         19,         19,2,19970823,       0000,    61.0667,   -40.1283,       2196,   100.9,   6.3822,  35.0321,2,  35.0348,2,   278.9,2,    7.04,2,   14.86,2,    0.02,2,    0.96,2,-999.000,9,-999.000,9,  -999.0,9,   6.3733
06MT19970815,      AR07E,     498,          1,     202966,         18,         18,2,19970823,       0000,    61.0667,   -40.1283,       2196,   201.4,   5.6385,  34.9902,2,  34.9885,2,   281.4,2,    8.19,2,   15.85,2,    0.01,2,    1.03,2,-999.000,9,-999.000,9,  -999.0,9,   5.6217
06MT19970815,      AR07E,     498,          1,     202965,         17,         17,2,19970823,       0000,    61.0667,   -40.1283,       2196,   300.9,   5.1593,  34.9612,2,  34.9615,2,   279.3,2,    8.52,2,   16.09,2,    0.01,2,    1.05,2,-999.000,9,-999.000,9,  -999.0,9,   5.1352
06MT19970815,      AR07E,     498,          1,     202964,         16,         16,2,19970823,       0000,    61.0667,   -40.1283,       2196,   403.3,   4.6975,  34.9339,2,  34.9348,2,   278.9,2,    8.79,2,   16.18,2,    0.02,2,    1.05,2,-999.000,9,-999.000,9,  -999.0,9,   4.6663
06MT19970815,      AR07E,     498,          1,     202963,         15,         15,2,19970823,       0000,    61.0667,   -40.1283,       2196,   501.2,   4.3102,  34.9108,2,  34.9107,2,   279.5,2,    9.10,2,   16.48,2,    0.02,2,    1.07,2,   4.130,2,   1.989,3,  -999.0,9,   4.2726
06MT19970815,      AR07E,     498,          1,     202962,         14,         14,2,19970823,       0000,    61.0667,   -40.1283,       2196,   602.1,   3.9923,  34.9019,2,  34.9018,2,   281.9,2,    9.26,2,   16.62,2,    0.01,2,    1.08,2,-999.000,9,-999.000,9,  -999.0,9,   3.9482
06MT19970815,      AR07E,     498,          1,     202961,         13,         13,2,19970823,       0000,    61.0667,   -40.1283,       2196,   702.2,   3.8055,  34.9037,2,  34.9036,2,   280.8,2,    9.47,2,   16.74,2,    0.02,2,    1.09,2,   3.546,2,   1.786,3,  -999.0,9,   3.7545
06MT19970815,      AR07E,     498,          1,     202960,         12,         12,2,19970823,       0000,    61.0667,   -40.1283,       2196,   900.6,   3.4533,  34.8923,2,  34.8925,2,   284.5,2,    9.83,2,   16.90,2,    0.01,2,    1.09,2,   3.464,2,   1.745,3,  -999.0,9,   3.3891
06MT19970815,      AR07E,     498,          1,     202959,         11,         11,2,19970823,       0000,    61.0667,   -40.1283,       2196,  1000.6,   3.3579,  34.8851,2,  34.8868,2,   286.1,2,    9.95,2,   17.14,2,    0.01,2,    1.10,2,-999.000,9,-999.000,9,  -999.0,9,   3.2865
06MT19970815,      AR07E,     498,          1,     202958,         10,         10,2,19970823,       0000,    61.0667,   -40.1283,       2196,  1101.1,   3.2494,  34.8789,2,  34.8794,2,   289.6,2,    9.92,2,   17.10,2,    0.01,2,    1.10,2,   3.620,2,   1.814,3,  -999.0,9,   3.1709
06MT19970815,      AR07E,     498,          1,     202957,          9,          9,2,19970823,       0000,    61.0667,   -40.1283,       2196,  1301.5,   3.0909,  34.8646,2,  34.8650,2,   295.6,2,    9.78,2,   16.79,2,    0.00,2,    1.09,2,   3.867,2,   1.906,3,  -999.0,9,   2.9978
06MT19970815,      AR07E,     498,          1,     202956,          8,          8,2,19970823,       0000,    61.0667,   -40.1283,       2196,  1401.0,   3.0161,  34.8583,2,  34.8588,2,   297.7,2,    9.73,2,   16.77,2,    0.01,2,    1.09,2,   3.934,2,   1.955,3,  -999.0,9,   2.9156
06MT19970815,      AR07E,     498,          1,     202955,          7,          7,2,19970823,       0000,    61.0667,   -40.1283,       2196,  1501.0,   2.9460,  34.8534,2,  34.8540,2,   299.0,2,    9.65,2,   16.69,2,    0.00,2,    1.09,2,   3.953,2,   1.944,3,  -999.0,9,   2.8380
06MT19970815,      AR07E,     498,          1,     202954,          6,          6,2,19970823,       0000,    61.0667,   -40.1283,       2196,  1602.1,   2.9749,  34.8659,2,  34.8665,2,   295.3,2,    9.81,2,   16.44,2,    0.01,2,    1.07,2,   3.595,2,   1.786,3,  -999.0,9,   2.8580
06MT19970815,      AR07E,     498,          1,     202953,          5,          5,2,19970823,       0000,    61.0667,   -40.1283,       2196,  1701.4,   2.9504,  34.8742,2,  34.8752,2,   292.5,2,    9.89,2,   16.10,2,    0.03,2,    1.06,2,   3.317,2,   1.649,3,  -999.0,9,   2.8252
06MT19970815,      AR07E,     498,          1,     202952,          4,          4,2,19970823,       0000,    61.0667,   -40.1283,       2196,  1799.3,   2.7621,  34.8757,2,  34.8760,2,   292.8,2,    9.63,2,   15.80,2,    0.01,2,    1.04,2,   3.460,2,   1.735,3,  -999.0,9,   2.6310
06MT19970815,      AR07E,     498,          1,     202951,          3,          3,2,19970823,       0000,    61.0667,   -40.1283,       2196,  2001.0,   2.3119,  34.8791,2,  34.8791,2,   294.9,2,    9.23,2,   14.99,2,    0.01,2,    0.99,2,   3.481,2,   1.716,3,  -999.0,9,   2.1698
06MT19970815,      AR07E,     498,          1,     202950,          2,          2,2,19970823,       0000,    61.0667,   -40.1283,       2196,  2101.8,   2.1444,  34.8767,2,  34.8763,2,   295.8,2,    8.88,2,   14.82,2,    0.02,2,    0.98,2,   3.533,2,   1.761,3,  -999.0,9,   1.9962
06MT19970815,      AR07E,     498,          1,     202949,          1,          1,2,19970823,       0000,    61.0667,   -40.1283,       2196,  2156.3,   2.0730,  34.8757,2,  34.8753,2,   297.1,2,    8.79,2,   14.63,2,    0.02,2,    0.97,2,   3.610,2,   1.812,3,  -999.0,9,   1.9212
06MT19970815,      AR07E,     499,          1,     202991,         21,         21,2,19970823,       0000,    60.9483,   -39.4517,       2597,    11.2,  10.0330,  34.8108,2,  34.8087,2,   290.2,2,    0.65,2,    3.65,2,    0.09,2,    0.29,2,-999.000,9,-999.000,9,  -999.0,9,  10.0317
06MT19970815,      AR07E,     499,          1,     202990,         20,         20,2,19970823,       0000,    60.9483,   -39.4517,       2597,    49.6,   5.9484,  34.9051,2,  34.9073,2,   294.6,2,    5.00,2,   12.55,2,    0.54,2,    0.97,2,-999.000,9,-999.000,9,  -999.0,9,   5.9442
06MT19970815,      AR07E,     499,          1,     202989,         19,         19,2,19970823,       0000,    60.9483,   -39.4517,       2597,   100.3,   5.3121,  34.9615,2,  34.9575,2,   284.4,2,    8.30,2,   16.09,2,    0.02,2,    1.04,2,-999.000,9,-999.000,9,  -999.0,9,   5.3041
06MT19970815,      AR07E,     499,          1,     202988,         18,         18,2,19970823,       0000,    60.9483,   -39.4517,       2597,   200.9,   4.4887,  34.9040,2,  34.9057,2,   288.3,2,    8.72,2,   16.37,2,    0.03,2,    1.08,2,-999.000,9,-999.000,9,  -999.0,9,   4.4738
06MT19970815,      AR07E,     499,          1,     202987,         17,         17,2,19970823,       0000,    60.9483,   -39.4517,       2597,   401.8,   3.8833,  34.8741,2,  34.8749,2,   291.7,2,    9.20,2,   16.92,2,    0.01,2,    1.10,2,-999.000,9,-999.000,9,  -999.0,9,   3.8548
06MT19970815,      AR07E,     499,          1,     202986,         16,         16,2,19970823,       0000,    60.9483,   -39.4517,       2597,   601.4,   3.6718,  34.8873,2,  34.8871,2,   285.0,2,    9.61,2,   16.89,2,    0.01,2,    1.10,2,   3.664,2,   1.885,3,  -999.0,9,   3.6293
06MT19970815,      AR07E,     499,          1,     202985,         15,         15,2,19970823,       0000,    60.9483,   -39.4517,       2597,   800.9,   3.4089,  34.8803,2,  34.8806,2,   285.9,2,    9.95,2,   17.25,2,    0.01,2,    1.12,2,   3.552,2,   1.791,3,  -999.0,9,   3.3527
06MT19970815,      AR07E,     499,          1,     202984,         14,         14,2,19970823,       0000,    60.9483,   -39.4517,       2597,  1000.7,   3.2295,  34.8728,2,  34.8724,2,   290.5,2,    9.99,2,   17.05,2,    0.01,2,    1.11,2,-999.000,9,-999.000,9,  -999.0,9,   3.1591
06MT19970815,      AR07E,     499,          1,     202983,         13,         13,2,19970823,       0000,    60.9483,   -39.4517,       2597,  1101.2,   3.1529,  34.8674,2,  34.8648,2,   293.2,2,    9.94,2,   17.02,2,    0.01,2,    1.10,2,   3.730,2,   1.853,3,  -999.0,9,   3.0753
06MT19970815,      AR07E,     499,          1,     202982,         12,         12,2,19970823,       0000,    60.9483,   -39.4517,       2597,  1200.9,   3.0955,  34.8627,2,  34.8623,2,   293.7,2,    9.85,2,   16.99,2,    0.00,2,    1.10,2,-999.000,9,-999.000,9,  -999.0,9,   3.0105
06MT19970815,      AR07E,     499,          1,     202981,         11,         11,2,19970823,       0000,    60.9483,   -39.4517,       2597,  1299.2,   3.0407,  34.8582,2,  34.8584,2,   299.9,2,    9.82,2,   16.89,2,    0.02,2,    1.10,2,   3.851,2,   1.917,3,  -999.0,9,   2.9483
06MT19970815,      AR07E,     499,          1,     202980,         10,         10,2,19970823,       0000,    60.9483,   -39.4517,       2597,  1400.2,   2.9900,  34.8527,2,  34.8544,2,   298.6,2,    9.83,2,   16.83,2,    0.01,2,    1.10,2,   3.890,2,   1.952,3,  -999.0,9,   2.8898
06MT19970815,      AR07E,     499,          1,     202979,          9,          9,2,19970823,       0000,    60.9483,   -39.4517,       2597,  1500.4,   2.9687,  34.8513,2,  34.8522,2,   300.1,2,    9.76,2,   16.80,2,    0.02,2,    1.09,2,   3.922,2,   1.974,3,  -999.0,9,   2.8605
06MT19970815,      AR07E,     499,          1,     202978,          8,          8,2,19970823,       0000,    60.9483,   -39.4517,       2597,  1600.1,   2.9834,  34.8556,2,  34.8557,2,   298.8,2,    9.68,2,   16.69,2,    0.01,2,    1.09,2,   3.814,2,   1.955,3,  -999.0,9,   2.8666
06MT19970815,      AR07E,     499,          1,     202977,          7,          7,2,19970823,       0000,    60.9483,   -39.4517,       2597,  1701.2,   2.9319,  34.8491,2,  34.8471,2,   299.2,2,    9.68,2,   16.72,2,    0.01,2,    1.09,2,   3.907,2,   1.950,3,  -999.0,9,   2.8071
06MT19970815,      AR07E,     499,          1,     202976,          6,          6,2,19970823,       0000,    60.9483,   -39.4517,       2597,  1900.5,   3.0120,  34.8719,2,  34.8710,2,   293.9,2,   10.06,2,   16.58,2,    0.01,2,    1.09,2,-999.000,9,-999.000,9,  -999.0,9,   2.8685
06MT19970815,      AR07E,     499,          1,     202975,          5,          5,2,19970823,       0000,    60.9483,   -39.4517,       2597,  2001.3,   3.0304,  34.8831,2,  34.8827,2,   290.9,2,   10.38,2,   16.44,2,    0.02,2,    1.08,2,   3.049,2,   1.548,3,  -999.0,9,   2.8774
06MT19970815,      AR07E,     499,          1,     202973,          3,          3,2,19970823,       0000,    60.9483,   -39.4517,       2597,  2401.8,   2.4263,  34.8881,2,  34.8891,2,   292.5,2,    9.95,2,   15.35,2,    0.01,2,    1.02,2,   3.057,2,   1.559,3,  -999.0,9,   2.2463
06MT19970815,      AR07E,     499,          1,     202972,          2,          2,2,19970823,       0000,    60.9483,   -39.4517,       2597,  2500.6,   1.8823,  34.8773,2,  34.8772,2,   299.6,2,    8.57,2,   14.43,2,    0.01,2,    0.97,2,   3.527,2,   1.777,3,  -999.0,9,   1.7032
06MT19970815,      AR07E,     499,          1,     202971,          1,          1,2,19970823,       0000,    60.9483,   -39.4517,       2597,  2572.3,   1.4123,  34.8818,2,  34.8824,2,  -999.0,9,   10.12,2,   14.06,2,    0.02,2,    0.95,2,   3.544,2,   1.779,3,  -999.0,9,   1.2356
06MT19970815,      AR07E,     500,          1,     203014,         22,         22,2,19970823,       0000,    60.8350,   -38.7817,       2815,    10.7,   9.8999,  34.7013,2,  34.6941,2,   288.9,2,    0.38,2,    4.65,2,    0.09,2,    0.39,2,-999.000,9,-999.000,9,  -999.0,9,   9.8987
06MT19970815,      AR07E,     500,          1,     203013,         21,         21,2,19970823,       0000,    60.8350,   -38.7817,       2815,   200.8,   3.8185,  34.8631,2,  34.8611,2,   294.6,2,    8.83,2,   16.57,2,    0.01,2,    1.08,2,   4.607,2,   2.305,3,  -999.0,9,   3.8047
06MT19970815,      AR07E,     500,          1,     203012,         20,         20,2,19970823,       0000,    60.8350,   -38.7817,       2815,   602.6,   3.3124,  34.8587,2,  34.8578,2,   292.1,2,    9.40,2,   16.92,2,    0.01,2,    1.10,2,   4.165,2,   2.068,3,  -999.0,9,   3.2715
06MT19970815,      AR07E,     500,          1,     203011,         19,         19,2,19970823,       0000,    60.8350,   -38.7817,       2815,   800.9,   3.2348,  34.8707,2,  34.8713,2,   289.2,2,    9.98,2,   17.18,2,    0.01,2,    1.11,2,   3.671,2,   1.814,3,  -999.0,9,   3.1797
06MT19970815,      AR07E,     500,          1,     203010,         18,         18,2,19970823,       0000,    60.8350,   -38.7817,       2815,  1000.4,   3.0862,  34.8610,2,  34.8610,2,   294.7,2,    9.94,2,   17.11,2,    0.01,2,    1.11,2,   3.862,2,   1.882,3,  -999.0,9,   3.0170
06MT19970815,      AR07E,     500,          1,     203009,         17,         17,2,19970823,       0000,    60.8350,   -38.7817,       2815,  1200.3,   3.0303,  34.8584,2,  34.8587,2,   296.9,2,    9.86,2,   16.90,2,    0.01,2,    1.10,2,   3.898,2,   1.912,3,  -999.0,9,   2.9459
06MT19970815,      AR07E,     500,          1,     203008,         16,         16,2,19970823,       0000,    60.8350,   -38.7817,       2815,  1299.2,   2.9685,  34.8517,2,  34.8510,2,   299.1,2,    9.74,2,   16.83,2,    0.01,2,    1.10,2,   4.030,2,   1.967,3,  -999.0,9,   2.8768
06MT19970815,      AR07E,     500,          1,     203007,         15,         15,2,19970823,       0000,    60.8350,   -38.7817,       2815,  1400.7,   2.9312,  34.8483,2,  34.8479,2,   299.9,2,    9.72,2,   16.69,2,    0.02,2,    1.10,2,   4.072,2,   1.951,3,  -999.0,9,   2.8317
06MT19970815,      AR07E,     500,          1,     203006,         14,         14,2,19970823,       0000,    60.8350,   -38.7817,       2815,  1499.7,   2.9028,  34.8447,2,  34.8444,2,   300.6,2,    9.64,2,   16.70,2,    0.02,2,    1.09,2,   4.046,2,   1.979,3,  -999.0,9,   2.7954
06MT19970815,      AR07E,     500,          1,     203005,         13,         13,2,19970823,       0000,    60.8350,   -38.7817,       2815,  1599.0,   2.8938,  34.8439,2,  34.8439,2,   300.8,2,    9.66,2,   16.71,2,    0.01,2,    1.09,2,   4.016,2,   1.967,3,  -999.0,9,   2.7782
06MT19970815,      AR07E,     500,          1,     203004,         12,         12,2,19970823,       0000,    60.8350,   -38.7817,       2815,  1699.6,   2.8895,  34.8441,2,  34.8441,2,   299.7,2,    9.71,2,   16.70,2,    0.01,2,    1.09,2,   4.042,2,   1.985,3,  2150.4,6,   2.7654
06MT19970815,      AR07E,     500,          1,     203003,         11,         11,2,19970823,       0000,    60.8350,   -38.7817,       2815,  1800.8,   2.9088,  34.8482,2,  34.8480,2,   299.5,2,    9.70,2,   16.69,2,    0.01,2,    1.09,2,   3.826,2,   1.900,3,  2151.8,6,   2.7756
06MT19970815,      AR07E,     500,          1,     203002,         10,         10,2,19970823,       0000,    60.8350,   -38.7817,       2815,  1900.4,   2.9989,  34.8690,2,  34.8689,2,   294.1,2,   10.12,2,   16.64,2,    0.01,2,    1.09,2,   3.405,2,   1.664,3,  -999.0,9,   2.8556
06MT19970815,      AR07E,     500,          1,     203001,          9,          9,2,19970823,       0000,    60.8350,   -38.7817,       2815,  2000.9,   3.0723,  34.8876,2,  34.8883,2,   288.7,2,   10.78,2,   16.67,2,    0.01,2,    1.10,2,-999.000,9,-999.000,9,  -999.0,9,   2.9187
06MT19970815,      AR07E,     500,          1,     203000,          8,          8,2,19970823,       0000,    60.8350,   -38.7817,       2815,  2102.2,   3.0915,  34.9020,2,  34.9025,2,   284.6,2,   11.08,2,   16.62,2,    0.01,2,    1.09,2,   2.519,2,   1.247,3,  -999.0,9,   2.9282
06MT19970815,      AR07E,     500,          1,     202999,          7,          7,2,19970823,       0000,    60.8350,   -38.7817,       2815,  2200.5,   3.0639,  34.9123,2,  34.9121,2,   282.8,2,   11.49,2,   16.61,2,    0.01,2,    1.10,2,-999.000,9,-999.000,9,  -999.0,9,   2.8918
06MT19970815,      AR07E,     500,          1,     202998,          6,          6,2,19970823,       0000,    60.8350,   -38.7817,       2815,  2300.7,   3.0242,  34.9177,2,  34.9178,2,   281.7,2,   11.94,2,   16.58,2,    0.01,2,    1.09,2,   2.098,2,   1.029,3,  -999.0,9,   2.8432
06MT19970815,      AR07E,     500,          1,     202997,          5,          5,2,19970823,       0000,    60.8350,   -38.7817,       2815,  2401.3,   2.9639,  34.9199,2,  34.9197,2,   281.2,2,   12.12,2,   16.69,2,    0.01,2,    1.09,2,   2.047,2,   1.007,3,  -999.0,9,   2.7743
06MT19970815,      AR07E,     500,          1,     202996,          4,          4,2,19970823,       0000,    60.8350,   -38.7817,       2815,  2501.0,   2.8387,  34.9162,2,  34.9161,2,   282.9,2,   11.99,2,   16.26,2,    0.01,2,    1.07,2,   2.164,2,   1.068,3,  -999.0,9,   2.6417
06MT19970815,      AR07E,     500,          1,     202995,          3,          3,2,19970823,       0000,    60.8350,   -38.7817,       2815,  2600.4,   2.6620,  34.9069,2,  34.9074,2,   286.1,2,   11.43,2,   15.88,2,    0.02,2,    1.05,2,   2.470,2,   1.218,3,  -999.0,9,   2.4587
06MT19970815,      AR07E,     500,          1,     202994,          2,          2,2,19970823,       0000,    60.8350,   -38.7817,       2815,  2700.4,   2.3843,  34.8956,2,  34.8961,2,   291.7,2,   10.20,2,   15.26,2,    0.02,2,    1.01,2,   2.965,2,   1.515,3,  -999.0,9,   2.1767
06MT19970815,      AR07E,     500,          1,     202993,          1,          1,2,19970823,       0000,    60.8350,   -38.7817,       2815,  2802.9,   1.3464,  34.8789,2,  34.8785,2,   302.8,2,    9.02,2,   13.92,2,    0.02,2,    0.95,2,   3.527,2,   1.782,3,  -999.0,9,   1.1503