BOTTLE,20220204CCHSIOENA
EXPOCODE,SECT_ID,STNNBR,CASTNO,BIONBR,SAMPNO,BTLNBR,BTLNBR_FLAG_W,DATE,TIME,LATITUDE,LONGITUDE,DEPTH,CTDPRS,CTDTMP,CTDSAL,CTDSAL_FLAG_W,SALNTY,SALNTY_FLAG_W,OXYGEN,OXYGEN_FLAG_W,SILCAT,SILCAT_FLAG_W,NITRAT,NITRAT_FLAG_W,NITRIT,NITRIT_FLAG_W,PHSPHT,PHSPHT_FLAG_W,CFC-11,CFC-11_FLAG_W,CFC-12,CFC-12_FLAG_W,TCARBN,TCARBN_FLAG_W,THETA
,,,,,,,,,,,,METERS,DBAR,ITS-90,PSS-78,,PSS-78,,UMOL/KG,,UMOL/KG,,UMOL/KG,,UMOL/KG,,UMOL/KG,,PMOL/KG,,PMOL/KG,,UMOL/KG,,DEG C
06MT19970815,      AR07E,     562,          1,     204374,         22,         22,2,19970906,       0000,    52.9167,   -20.6833,       2910,    11.1,  15.1046,  35.4305,2,-999.0000,9,   247.2,2,    0.38,2,    0.72,2,    0.12,2,    0.14,2,   2.951,2,   1.511,3,  2065.6,2,  15.1029
06MT19970815,      AR07E,     562,          1,     204373,         21,         21,2,19970906,       0000,    52.9167,   -20.6833,       2910,   100.1,  11.2794,  35.4647,2,  35.4660,2,   242.3,2,    4.57,2,   11.43,2,    0.02,2,    0.71,2,-999.000,9,-999.000,9,  -999.0,9,  11.2668
06MT19970815,      AR07E,     562,          1,     204372,         20,         20,2,19970906,       0000,    52.9167,   -20.6833,       2910,   202.4,  10.3647,  35.3702,2,  35.3699,2,   243.5,2,    5.45,2,   12.44,2,    0.03,2,    0.79,2,-999.000,9,-999.000,9,  -999.0,9,  10.3406
06MT19970815,      AR07E,     562,          1,     204371,         19,         19,2,19970906,       0000,    52.9167,   -20.6833,       2910,   400.5,   8.8179,  35.1653,2,  35.1634,2,   234.3,2,    7.66,2,   15.48,2,    0.01,2,    1.00,2,   3.079,2,   1.498,3,  -999.0,9,   8.7743
06MT19970815,      AR07E,     562,          1,     204370,         18,         18,2,19970906,       0000,    52.9167,   -20.6833,       2910,   601.7,   6.5371,  34.9830,2,  34.9738,2,  -999.0,9,   11.00,2,   19.34,2,    0.02,2,    1.25,2,   2.525,2,   1.176,3,  -999.0,9,   6.4812
06MT19970815,      AR07E,     562,          1,     204369,         17,         17,2,19970906,       0000,    52.9167,   -20.6833,       2910,   803.1,   6.1504,  35.1189,2,  35.1193,2,   224.7,2,   11.11,2,   18.79,2,    0.00,2,    1.21,2,   2.118,2,   1.040,3,  -999.0,9,   6.0768
06MT19970815,      AR07E,     562,          1,     204368,         16,         16,2,19970906,       0000,    52.9167,   -20.6833,       2910,   999.2,   4.9706,  35.0264,2,  35.0277,2,   245.4,2,   11.19,2,   18.40,2,    0.01,2,    1.19,2,-999.000,9,-999.000,9,  -999.0,9,   4.8867
06MT19970815,      AR07E,     562,          1,     204367,         15,         15,2,19970906,       0000,    52.9167,   -20.6833,       2910,  1100.8,   4.5752,  34.9932,2,  34.9929,2,   257.8,2,   11.22,2,   17.94,2,    0.01,2,    1.16,2,   2.245,2,   0.992,3,  -999.0,9,   4.4853
06MT19970815,      AR07E,     562,          1,     204366,         14,         14,2,19970906,       0000,    52.9167,   -20.6833,       2910,  1350.3,   3.8071,  34.9249,2,  34.9252,2,   271.9,2,   11.42,2,   17.63,2,    0.01,2,    1.15,2,   2.234,2,   0.976,3,  -999.0,9,   3.7024
06MT19970815,      AR07E,     562,          1,     204365,         13,         13,2,19970906,       0000,    52.9167,   -20.6833,       2910,  1500.7,   3.5474,  34.9082,2,  34.9092,2,   277.0,2,   11.61,2,   17.50,2,    0.01,2,    1.15,2,   2.175,2,   1.006,3,  -999.0,9,   3.4324
06MT19970815,      AR07E,     562,          1,     204364,         12,         12,2,19970906,       0000,    52.9167,   -20.6833,       2910,  1648.7,   3.3686,  34.8962,2,  34.8954,2,   281.6,2,   11.42,2,   17.27,2,    0.00,2,    1.13,2,   2.346,2,   1.104,3,  -999.0,9,   3.2427
06MT19970815,      AR07E,     562,          1,     204363,         11,         11,2,19970906,       0000,    52.9167,   -20.6833,       2910,  1801.0,   3.3252,  34.9047,2,  34.9044,2,   280.5,2,   11.98,2,   17.27,2,    0.01,2,    1.13,2,   2.096,2,   0.926,3,  -999.0,9,   3.1862
06MT19970815,      AR07E,     562,          1,     204362,         10,         10,2,19970906,       0000,    52.9167,   -20.6833,       2910,  1900.4,   3.3201,  34.9155,2,  34.9157,2,   277.2,2,   12.85,2,   17.34,2,    0.00,2,    1.14,2,   1.758,2,   0.774,3,  -999.0,9,   3.1720
06MT19970815,      AR07E,     562,          1,     204361,          9,          9,2,19970906,       0000,    52.9167,   -20.6833,       2910,  2000.3,   3.2705,  34.9233,2,  34.9228,2,   277.2,2,   13.08,2,   17.30,2,    0.01,2,    1.13,2,-999.000,9,-999.000,9,  -999.0,9,   3.1139
06MT19970815,      AR07E,     562,          1,     204360,          8,          8,2,19970906,       0000,    52.9167,   -20.6833,       2910,  2100.2,   3.2278,  34.9328,2,  34.9331,2,   274.7,2,   14.16,2,   17.27,2,    0.00,2,    1.13,2,   1.426,2,   0.611,3,  -999.0,9,   3.0625
06MT19970815,      AR07E,     562,          1,     204359,          7,          7,2,19970906,       0000,    52.9167,   -20.6833,       2910,  2301.6,   3.0963,  34.9450,2,  34.9523,0,   269.3,2,   16.75,2,   17.51,2,    0.00,2,    1.15,2,-999.000,9,-999.000,9,  -999.0,9,   2.9139
06MT19970815,      AR07E,     562,          1,     204358,          6,          6,2,19970906,       0000,    52.9167,   -20.6833,       2910,  2501.3,   2.9363,  34.9494,2,  34.9493,2,   267.9,2,   19.37,2,   17.77,2,    0.01,2,    1.17,2,   1.162,2,   0.503,3,  -999.0,9,   2.7373
06MT19970815,      AR07E,     562,          1,     204357,          5,          5,2,19970906,       0000,    52.9167,   -20.6833,       2910,  2601.3,   2.8614,  34.9482,2,  34.9477,2,   266.1,2,   21.99,2,   18.15,2,    0.01,2,    1.20,2,   1.039,2,   0.433,3,  -999.0,9,   2.6540
06MT19970815,      AR07E,     562,          1,     204356,          4,          4,2,19970906,       0000,    52.9167,   -20.6833,       2910,  2703.7,   2.8034,  34.9456,2,  34.9457,2,   262.3,2,   24.04,2,   18.61,2,    0.01,2,    1.23,2,-999.000,9,-999.000,9,  -999.0,9,   2.5870
06MT19970815,      AR07E,     562,          1,     204355,          3,          3,2,19970906,       0000,    52.9167,   -20.6833,       2910,  2802.8,   2.7408,  34.9409,2,  34.9409,2,   259.6,2,   27.27,2,   19.21,2,    0.00,2,    1.28,2,   0.750,2,   0.313,3,  -999.0,9,   2.5157
06MT19970815,      AR07E,     562,          1,     204354,          2,          2,2,19970906,       0000,    52.9167,   -20.6833,       2910,  2852.6,   2.6950,  34.9357,2,  34.9351,2,   254.2,2,   31.06,2,   19.94,2,    0.00,2,    1.34,2,-999.000,9,-999.000,9,  -999.0,9,   2.4659
06MT19970815,      AR07E,     562,          1,     204353,          1,          1,2,19970906,       0000,    52.9167,   -20.6833,       2910,  2912.7,   2.6493,  34.9298,2,  34.9288,2,   249.9,2,   35.21,2,   20.79,2,    0.00,2,    1.39,2,   0.302,2,   0.125,3,  -999.0,9,   2.4150
06MT19970815,      AR07E,     563,          1,     204396,         22,         22,2,19970906,       0000,    53.5150,   -20.2300,       2160,    13.1,  14.7834,  35.5237,2,  35.5249,2,   252.5,2,    0.55,2,    1.41,2,    0.19,2,    0.19,2,   3.075,2,   1.635,3,  2067.7,2,  14.7814
06MT19970815,      AR07E,     563,          1,     204395,         21,         21,2,19970906,       0000,    53.5150,   -20.2300,       2160,    50.3,  14.6134,  35.5394,2,  35.5377,2,   248.7,2,    0.68,2,    1.93,2,    0.23,2,    0.21,2,-999.000,9,-999.000,9,  -999.0,9,  14.6059
06MT19970815,      AR07E,     563,          1,     204394,         20,         20,2,19970906,       0000,    53.5150,   -20.2300,       2160,    99.8,  12.3011,  35.6382,2,  35.6389,2,   238.1,2,    3.53,2,    9.59,2,    0.08,2,    0.59,2,-999.000,9,-999.000,9,  -999.0,9,  12.2878
06MT19970815,      AR07E,     563,          1,     204393,         19,         19,2,19970906,       0000,    53.5150,   -20.2300,       2160,   200.0,  11.5380,  35.5553,2,  35.5571,2,   248.4,2,    3.94,2,   10.12,2,    0.04,2,    0.63,2,   3.354,2,   1.725,3,  -999.0,9,  11.5124
06MT19970815,      AR07E,     563,          1,     204392,         18,         18,2,19970906,       0000,    53.5150,   -20.2300,       2160,   300.5,  10.7664,  35.4416,2,  35.4418,2,   246.7,2,    4.80,2,   11.50,2,    0.03,2,    0.73,2,-999.000,9,-999.000,9,  -999.0,9,  10.7295
06MT19970815,      AR07E,     563,          1,     204391,         17,         17,2,19970906,       0000,    53.5150,   -20.2300,       2160,   402.4,  10.5391,  35.4470,2,  35.4474,2,   241.4,2,    5.00,2,   12.08,2,    0.01,2,    0.76,2,   3.262,2,   1.635,3,  -999.0,9,  10.4901
06MT19970815,      AR07E,     563,          1,     204390,         16,         16,2,19970906,       0000,    53.5150,   -20.2300,       2160,   501.0,   9.7422,  35.3381,2,  35.3435,2,   242.5,2,    5.92,2,   13.34,2,    0.02,2,    0.85,2,-999.000,9,-999.000,9,  -999.0,9,   9.6838
06MT19970815,      AR07E,     563,          1,     204389,         15,         15,2,19970906,       0000,    53.5150,   -20.2300,       2160,   601.2,   9.6269,  35.3768,2,  35.3789,2,   259.0,2,    5.27,2,   12.12,2,    0.02,2,    0.77,2,   3.700,2,   1.845,3,  -999.0,9,   9.5570
06MT19970815,      AR07E,     563,          1,     204388,         14,         14,2,19970906,       0000,    53.5150,   -20.2300,       2160,   699.9,   9.1106,  35.3166,2,  35.3161,2,   250.5,2,    6.25,2,   13.53,2,    0.03,2,    0.87,2,-999.000,9,-999.000,9,  -999.0,9,   9.0315
06MT19970815,      AR07E,     563,          1,     204387,         13,         13,2,19970906,       0000,    53.5150,   -20.2300,       2160,   800.5,   7.7193,  35.1521,2,  35.1601,2,   206.1,2,   10.36,2,   18.50,2,    0.00,2,    1.19,2,   2.233,2,   1.051,3,  -999.0,9,   7.6366
06MT19970815,      AR07E,     563,          1,     204386,         12,         12,2,19970906,       0000,    53.5150,   -20.2300,       2160,   899.9,   7.3177,  35.2241,2,  35.2262,2,   207.1,2,   10.85,2,   18.69,2,    0.01,2,    1.20,2,-999.000,9,-999.000,9,  -999.0,9,   7.2267
06MT19970815,      AR07E,     563,          1,     204385,         11,         11,2,19970906,       0000,    53.5150,   -20.2300,       2160,  1000.3,   6.2143,  35.1137,2,  35.1157,2,   220.1,2,   11.24,2,   18.82,2,    0.00,2,    1.22,2,   2.108,2,   0.983,3,  -999.0,9,   6.1208
06MT19970815,      AR07E,     563,          1,     204384,         10,         10,2,19970906,       0000,    53.5150,   -20.2300,       2160,  1100.8,   5.5994,  35.0775,2,  35.0795,2,   234.7,2,   11.14,2,   18.41,2,    0.00,2,    1.20,2,-999.000,9,-999.000,9,  -999.0,9,   5.5009
06MT19970815,      AR07E,     563,          1,     204383,          9,          9,2,19970906,       0000,    53.5150,   -20.2300,       2160,  1200.2,   5.0756,  35.0349,2,  35.0363,2,   243.7,2,   11.20,2,   18.15,2,    0.03,2,    1.18,2,   2.202,2,   1.070,3,  -999.0,9,   4.9722
06MT19970815,      AR07E,     563,          1,     204382,          8,          8,2,19970906,       0000,    53.5150,   -20.2300,       2160,  1300.0,   4.5519,  34.9871,2,  34.9887,2,   255.8,2,   11.27,2,   17.95,2,    0.00,2,    1.17,2,-999.000,9,-999.000,9,  -999.0,9,   4.4442
06MT19970815,      AR07E,     563,          1,     204381,          7,          7,2,19970906,       0000,    53.5150,   -20.2300,       2160,  1401.0,   4.1769,  34.9552,2,  34.9629,0,   262.8,2,   11.28,2,   17.64,2,    0.01,2,    1.15,2,   2.256,2,   1.074,3,  -999.0,9,   4.0638
06MT19970815,      AR07E,     563,          1,     204380,          6,          6,2,19970906,       0000,    53.5150,   -20.2300,       2160,  1600.4,   3.6665,  34.9121,2,  34.9117,2,   275.0,2,   11.38,2,   17.48,2,    0.00,2,    1.14,2,   2.233,2,   1.064,3,  -999.0,9,   3.5412
06MT19970815,      AR07E,     563,          1,     204379,          5,          5,2,19970906,       0000,    53.5150,   -20.2300,       2160,  1700.6,   3.5435,  34.9063,2,  34.9063,2,   276.7,2,   11.68,2,   17.33,2,    0.00,2,    1.14,2,   2.198,2,   1.046,3,  -999.0,9,   3.4107
06MT19970815,      AR07E,     563,          1,     204378,          4,          4,2,19970906,       0000,    53.5150,   -20.2300,       2160,  1798.3,   3.4781,  34.9175,2,  34.9182,2,   274.0,2,   13.25,2,   17.36,2,    0.00,2,    1.14,2,   1.788,2,   0.757,3,  -999.0,9,   3.3372
06MT19970815,      AR07E,     563,          1,     204377,          3,          3,2,19970906,       0000,    53.5150,   -20.2300,       2160,  1901.7,   3.3558,  34.9166,2,  34.9151,2,   276.6,2,   13.11,2,   17.21,2,    0.01,2,    1.13,2,   1.796,2,   0.771,3,  -999.0,9,   3.2071
06MT19970815,      AR07E,     563,          1,     204376,          2,          2,2,19970906,       0000,    53.5150,   -20.2300,       2160,  2100.0,   3.2061,  34.9340,2,  34.9332,2,   272.7,2,   15.10,2,   17.25,2,    0.01,2,    1.15,2,   1.335,2,   0.566,3,  -999.0,9,   3.0411
06MT19970815,      AR07E,     563,          1,     204375,          1,          1,2,19970906,       0000,    53.5150,   -20.2300,       2160,  2176.2,   3.1084,  34.9403,2,  34.9401,2,   267.6,2,   18.13,2,   17.69,2,    0.00,2,    1.18,2,   1.120,2,   0.455,3,  -999.0,9,   2.9378
06MT19970815,      AR07E,     564,          1,     204418,         22,         22,2,19970908,       0000,    52.4000,   -20.1633,       2885,    15.6,  15.9234,  35.5174,2,  35.5172,2,   243.6,2,    0.45,2,    0.26,2,    0.10,2,    0.10,2,-999.000,9,-999.000,9,  2059.8,6,  15.9209
06MT19970815,      AR07E,     564,          1,     204417,         21,         21,2,19970908,       0000,    52.4000,   -20.1633,       2885,    49.8,  15.2758,  35.5247,2,  35.5158,2,   234.2,2,    1.08,2,    2.23,2,    0.74,2,    0.26,2,   3.039,2,   1.623,3,  2078.6,2,  15.2682
06MT19970815,      AR07E,     564,          1,     204416,         20,         20,2,19970908,       0000,    52.4000,   -20.1633,       2885,    99.8,  11.7059,  35.5102,2,  35.5102,2,   242.5,2,    3.98,2,   10.13,2,    0.11,2,    0.63,2,   3.589,2,   1.855,3,  2120.5,2,  11.6931
06MT19970815,      AR07E,     564,          1,     204415,         19,         19,2,19970908,       0000,    52.4000,   -20.1633,       2885,   201.2,  10.7519,  35.4285,2,  35.4272,2,   248.7,2,    4.92,2,   11.52,2,    0.06,2,    0.73,2,   3.535,2,   1.812,3,  2126.0,2,  10.7273
06MT19970815,      AR07E,     564,          1,     204414,         18,         18,2,19970908,       0000,    52.4000,   -20.1633,       2885,   401.1,   9.2626,  35.2250,2,  35.2228,2,   222.7,2,    7.93,2,   15.70,2,    0.06,2,    1.00,2,   2.922,2,   1.484,3,  2147.2,2,   9.2176
06MT19970815,      AR07E,     564,          1,     204413,         17,         17,2,19970908,       0000,    52.4000,   -20.1633,       2885,   701.0,   6.7546,  35.1309,2,  35.1289,2,   209.8,2,   11.25,2,   19.06,2,    0.01,2,    1.22,2,   2.018,2,   0.948,3,  2171.0,2,   6.6877
06MT19970815,      AR07E,     564,          1,     204412,         16,         16,2,19970908,       0000,    52.4000,   -20.1633,       2885,   797.2,   6.3777,  35.1682,2,  35.1707,2,   219.1,2,   11.24,2,   18.65,2,    0.04,2,    1.20,2,   1.961,2,   0.912,3,  2171.4,2,   6.3033
06MT19970815,      AR07E,     564,          1,     204411,         15,         15,2,19970908,       0000,    52.4000,   -20.1633,       2885,   902.0,   5.4296,  35.0711,2,  35.0780,2,   234.9,2,   11.34,2,   18.50,2,    0.05,2,    1.19,2,   2.149,2,   0.998,3,  2167.2,2,   5.3513
06MT19970815,      AR07E,     564,          1,     204410,         14,         14,2,19970908,       0000,    52.4000,   -20.1633,       2885,  1098.0,   4.7321,  35.0186,2,  35.0189,0,   249.4,2,   11.28,2,   18.17,2,    0.06,2,    1.17,2,   2.138,2,   1.029,3,  2162.0,2,   4.6411
06MT19970815,      AR07E,     564,          1,     204409,         13,         13,2,19970908,       0000,    52.4000,   -20.1633,       2885,  1298.8,   3.8260,  34.9145,2,  34.9151,2,   271.5,2,   10.93,2,   17.63,2,    0.02,2,    1.15,2,   2.655,2,   1.196,3,  2155.1,2,   3.7257
06MT19970815,      AR07E,     564,          1,     204408,         12,         12,2,19970908,       0000,    52.4000,   -20.1633,       2885,  1500.1,   3.5706,  34.8979,2,  34.8976,2,   277.1,2,   10.89,2,   17.39,2,    0.02,2,    1.13,2,   2.710,2,   1.229,3,  2153.0,2,   3.4554
06MT19970815,      AR07E,     564,          1,     204407,         11,         11,2,19970908,       0000,    52.4000,   -20.1633,       2885,  1700.3,   3.3991,  34.8876,2,  34.8869,2,   282.2,2,   10.72,2,   17.20,2,    0.01,2,    1.12,2,   2.667,2,   1.292,3,  2151.2,2,   3.2682
06MT19970815,      AR07E,     564,          1,     204406,         10,         10,2,19970908,       0000,    52.4000,   -20.1633,       2885,  1799.7,   3.3458,  34.8858,2,  34.8854,2,   283.8,2,   10.87,2,   17.03,2,    0.01,2,    1.12,2,   2.812,2,   1.261,3,  2151.2,2,   3.2067
06MT19970815,      AR07E,     564,          1,     204405,          9,          9,2,19970908,       0000,    52.4000,   -20.1633,       2885,  1899.1,   3.3487,  34.8935,2,  34.8926,2,   281.1,2,   11.30,2,   17.04,2,    0.04,2,    1.12,2,   2.452,2,   1.114,3,  2151.1,2,   3.2004
06MT19970815,      AR07E,     564,          1,     204404,          8,          8,2,19970908,       0000,    52.4000,   -20.1633,       2885,  2000.2,   3.3072,  34.8941,2,  34.8931,2,   282.0,2,   11.35,2,   16.99,2,    0.02,2,    1.12,2,   2.410,2,   1.105,3,  2151.0,2,   3.1502
06MT19970815,      AR07E,     564,          1,     204403,          7,          7,2,19970908,       0000,    52.4000,   -20.1633,       2885,  2200.5,   3.2783,  34.9130,2,  34.9134,2,   277.8,2,   12.41,2,   17.02,2,    0.02,2,    1.12,2,   1.910,2,   0.881,3,  2151.9,2,   3.1027
06MT19970815,      AR07E,     564,          1,     204402,          6,          6,2,19970908,       0000,    52.4000,   -20.1633,       2885,  2401.1,   3.2127,  34.9351,2,  34.9344,2,   274.4,2,   14.23,2,   17.16,2,    0.00,2,    1.12,2,   1.400,2,   0.655,3,  2155.4,2,   3.0186
06MT19970815,      AR07E,     564,          1,     204401,          5,          5,2,19970908,       0000,    52.4000,   -20.1633,       2885,  2601.0,   3.0914,  34.9448,2,  34.9448,2,   270.5,2,   16.08,2,   17.20,2,    0.02,2,    1.13,2,   1.285,2,   0.590,3,  2158.3,2,   2.8797
06MT19970815,      AR07E,     564,          1,     204400,          4,          4,2,19970908,       0000,    52.4000,   -20.1633,       2885,  2700.2,   3.0218,  34.9475,2,  34.9479,2,   268.6,2,   18.07,2,   17.50,2,    0.01,2,    1.16,2,   1.159,2,   0.532,3,  2161.9,2,   2.8014
06MT19970815,      AR07E,     564,          1,     204399,          3,          3,2,19970908,       0000,    52.4000,   -20.1633,       2885,  2801.3,   2.9358,  34.9468,2,  34.9467,2,   263.4,2,   22.81,2,   18.38,2,    0.03,2,    1.22,2,   0.826,2,   0.386,3,  2168.7,2,   2.7069
06MT19970815,      AR07E,     564,          1,     204398,          2,          2,2,19970908,       0000,    52.4000,   -20.1633,       2885,  2856.0,   2.8906,  34.9450,2,  34.9441,2,   259.8,2,   25.03,2,   18.72,2,    0.01,2,    1.25,2,   0.692,2,   0.339,3,  2172.1,2,   2.6570
06MT19970815,      AR07E,     564,          1,     204397,          1,          1,2,19970908,       0000,    52.4000,   -20.1633,       2885,  2908.3,   2.8251,  34.9410,2,  34.9419,2,   255.4,2,   27.77,2,   19.31,2,    0.02,2,    1.29,2,   0.572,2,   0.269,3,  2176.4,2,   2.5875