BOTTLE,20220204CCHSIOENA
EXPOCODE,SECT_ID,STNNBR,CASTNO,BIONBR,SAMPNO,BTLNBR,BTLNBR_FLAG_W,DATE,TIME,LATITUDE,LONGITUDE,DEPTH,CTDPRS,CTDTMP,CTDSAL,CTDSAL_FLAG_W,SALNTY,SALNTY_FLAG_W,OXYGEN,OXYGEN_FLAG_W,SILCAT,SILCAT_FLAG_W,NITRAT,NITRAT_FLAG_W,NITRIT,NITRIT_FLAG_W,PHSPHT,PHSPHT_FLAG_W,CFC-11,CFC-11_FLAG_W,CFC-12,CFC-12_FLAG_W,TCARBN,TCARBN_FLAG_W,THETA
,,,,,,,,,,,,METERS,DBAR,ITS-90,PSS-78,,PSS-78,,UMOL/KG,,UMOL/KG,,UMOL/KG,,UMOL/KG,,UMOL/KG,,PMOL/KG,,PMOL/KG,,UMOL/KG,,DEG C
06MT19970815,      AR07E,     510,          1,     203170,         22,         22,2,19970825,       0000,    59.8650,   -41.2000,       2040,     9.4,   9.6619,  34.9298,2,  34.9248,2,   293.4,2,    2.04,2,    5.39,2,    0.20,2,    0.39,2,   4.042,2,   2.168,3,  2078.1,6,   9.6608
06MT19970815,      AR07E,     510,          1,     203169,         21,         21,2,19970825,       0000,    59.8650,   -41.2000,       2040,    50.4,   7.2570,  34.9470,2,  34.9573,2,   286.8,2,    4.24,2,   11.35,2,    0.40,2,    0.81,2,-999.000,9,-999.000,9,  -999.0,9,   7.2522
06MT19970815,      AR07E,     510,          1,     203168,         20,         20,2,19970825,       0000,    59.8650,   -41.2000,       2040,   101.1,   5.9535,  35.0058,2,  35.0080,2,   282.4,2,    7.45,2,   15.44,2,    0.04,2,    1.01,2,   4.348,2,   2.291,3,  -999.0,9,   5.9449
06MT19970815,      AR07E,     510,          1,     203167,         19,         19,2,19970825,       0000,    59.8650,   -41.2000,       2040,   200.9,   5.1607,  34.9568,2,  34.9567,2,   282.7,2,    8.45,2,   15.99,2,    0.02,2,    1.05,2,-999.000,9,-999.000,9,  -999.0,9,   5.1447
06MT19970815,      AR07E,     510,          1,     203166,         18,         18,2,19970825,       0000,    59.8650,   -41.2000,       2040,   291.1,   4.7791,  34.9348,2,  34.9338,2,   283.5,2,    8.83,2,   16.28,2,    0.02,2,    1.07,2,   4.131,2,   2.152,3,  -999.0,9,   4.7566
06MT19970815,      AR07E,     510,          1,     203165,         17,         17,2,19970825,       0000,    59.8650,   -41.2000,       2040,   401.0,   4.2962,  34.9066,2,  34.9077,2,   284.1,2,    9.10,2,   16.43,2,    0.04,2,    1.08,2,-999.000,9,-999.000,9,  -999.0,9,   4.2665
06MT19970815,      AR07E,     510,          1,     203164,         16,         16,2,19970825,       0000,    59.8650,   -41.2000,       2040,   501.7,   4.0675,  34.9006,2,  34.9015,2,   283.8,2,    9.31,2,   16.46,2,    0.06,2,    1.08,2,-999.000,9,-999.000,9,  -999.0,9,   4.0308
06MT19970815,      AR07E,     510,          1,     203163,         15,         15,2,19970825,       0000,    59.8650,   -41.2000,       2040,   601.5,   3.8335,  34.9022,2,  34.9030,2,   281.1,2,    9.64,2,   16.56,2,    0.02,2,    1.08,2,-999.000,9,-999.000,9,  -999.0,9,   3.7902
06MT19970815,      AR07E,     510,          1,     203162,         14,         14,2,19970825,       0000,    59.8650,   -41.2000,       2040,   701.7,   3.6957,  34.9014,2,  34.9036,2,   281.1,2,    9.72,2,   16.61,2,    0.02,2,    1.09,2,   3.493,2,   1.783,3,  -999.0,9,   3.6454
06MT19970815,      AR07E,     510,          1,     203161,         13,         13,2,19970825,       0000,    59.8650,   -41.2000,       2040,   800.5,   3.5495,  34.8971,2,  34.8988,2,   286.7,2,    9.88,2,   16.64,2,    0.01,2,    1.09,2,-999.000,9,-999.000,9,  -999.0,9,   3.4924
06MT19970815,      AR07E,     510,          1,     203160,         12,         12,2,19970825,       0000,    59.8650,   -41.2000,       2040,   901.2,   3.3545,  34.8850,2,  34.8875,2,   283.1,2,   10.02,2,   16.80,2,    0.02,2,    1.10,2,   3.514,2,   1.776,3,  -999.0,9,   3.2909
06MT19970815,      AR07E,     510,          1,     203159,         11,         11,2,19970825,       0000,    59.8650,   -41.2000,       2040,  1001.5,   3.1882,  34.8696,2,  34.8708,2,   290.9,2,   10.10,2,   16.99,2,    0.02,2,    1.11,2,-999.000,9,-999.000,9,  -999.0,9,   3.1181
06MT19970815,      AR07E,     510,          1,     203158,         10,         10,2,19970825,       0000,    59.8650,   -41.2000,       2040,  1100.7,   3.0755,  34.8620,2,  34.8634,2,   294.6,2,   10.02,2,   16.79,2,    0.02,2,    1.10,2,   3.803,2,   1.904,3,  -999.0,9,   2.9986
06MT19970815,      AR07E,     510,          1,     203157,          9,          9,2,19970825,       0000,    59.8650,   -41.2000,       2040,  1200.5,   3.0094,  34.8569,2,  34.8562,2,   297.9,2,    9.97,2,   16.81,2,    0.01,2,    1.09,2,   3.916,2,   1.949,3,  -999.0,9,   2.9252
06MT19970815,      AR07E,     510,          1,     203156,          8,          8,2,19970825,       0000,    59.8650,   -41.2000,       2040,  1301.0,   2.9516,  34.8514,2,  34.8512,2,   299.0,2,    9.88,2,   16.67,2,    0.01,2,    1.08,2,   3.979,2,   1.980,3,  -999.0,9,   2.8599
06MT19970815,      AR07E,     510,          1,     203155,          7,          7,2,19970825,       0000,    59.8650,   -41.2000,       2040,  1402.8,   2.9088,  34.8483,2,  34.8476,2,   300.4,2,    9.83,2,   16.71,2,    0.02,2,    1.09,2,   3.978,2,   1.968,3,  -999.0,9,   2.8093
06MT19970815,      AR07E,     510,          1,     203154,          6,          6,2,19970825,       0000,    59.8650,   -41.2000,       2040,  1500.6,   2.8995,  34.8486,2,  34.8472,2,   299.9,2,    9.87,2,   16.58,2,    0.01,2,    1.09,2,   3.950,2,   1.957,3,  -999.0,9,   2.7921
06MT19970815,      AR07E,     510,          1,     203153,          5,          5,2,19970825,       0000,    59.8650,   -41.2000,       2040,  1600.9,   2.9589,  34.8640,2,  34.8634,2,   295.0,2,   10.14,2,   16.65,2,    0.02,2,    1.09,2,   3.512,2,   1.744,3,  -999.0,9,   2.8423
06MT19970815,      AR07E,     510,          1,     203152,          4,          4,2,19970825,       0000,    59.8650,   -41.2000,       2040,  1700.3,   2.9548,  34.8833,2,  34.8822,2,   290.5,2,   10.34,2,   16.24,2,    0.01,2,    1.07,2,   3.170,2,   1.583,3,  -999.0,9,   2.8297
06MT19970815,      AR07E,     510,          1,     203151,          3,          3,2,19970825,       0000,    59.8650,   -41.2000,       2040,  1800.8,   2.8372,  34.8927,2,  34.8924,2,   288.3,2,   10.63,2,   16.02,2,    0.01,2,    1.06,2,   2.908,2,   1.453,3,  -999.0,9,   2.7049
06MT19970815,      AR07E,     510,          1,     203150,          2,          2,2,19970825,       0000,    59.8650,   -41.2000,       2040,  1899.6,   2.6231,  34.8826,2,  34.8815,2,   292.2,2,    9.95,2,   15.55,2,    0.02,2,    1.03,2,   3.240,2,   1.639,3,  -999.0,9,   2.4852
06MT19970815,      AR07E,     510,          1,     203149,          1,          1,2,19970825,       0000,    59.8650,   -41.2000,       2040,  2024.0,   2.2284,  34.8770,2,  34.8774,2,   296.8,2,    9.44,2,   14.97,2,    0.02,2,    1.00,2,   3.432,2,   1.712,3,  -999.0,9,   2.0856
06MT19970815,      AR07E,     511,          1,     203191,         21,         21,2,19970825,       0000,    59.8183,   -40.7517,       2596,    11.7,   9.2194,  34.7434,2,  34.7406,2,   292.9,2,    1.06,2,    5.80,2,    0.11,2,    0.48,2,-999.000,9,-999.000,9,  2080.8,2,   9.2181
06MT19970815,      AR07E,     511,          1,     203190,         20,         20,2,19970825,       0000,    59.8183,   -40.7517,       2596,    50.5,   6.7359,  34.9400,2,  34.9424,2,   288.6,2,    4.41,2,   11.80,2,    0.45,2,    0.88,2,-999.000,9,-999.000,9,  -999.0,9,   6.7313
06MT19970815,      AR07E,     511,          1,     203189,         19,         19,2,19970825,       0000,    59.8183,   -40.7517,       2596,   100.7,   6.0313,  35.0260,2,  35.0258,2,   281.7,2,    7.63,2,   15.31,2,    0.04,2,    1.01,2,-999.000,9,-999.000,9,  -999.0,9,   6.0227
06MT19970815,      AR07E,     511,          1,     203188,         18,         18,2,19970825,       0000,    59.8183,   -40.7517,       2596,   201.4,   4.8142,  34.9331,2,  34.9326,2,   284.5,2,    8.70,2,   16.10,2,    0.03,2,    1.06,2,-999.000,9,-999.000,9,  -999.0,9,   4.7987
06MT19970815,      AR07E,     511,          1,     203187,         17,         17,2,19970825,       0000,    59.8183,   -40.7517,       2596,   300.6,   4.3142,  34.9031,2,  34.9019,2,   286.6,2,    8.87,2,   16.28,2,    0.03,2,    1.08,2,-999.000,9,-999.000,9,  -999.0,9,   4.2921
06MT19970815,      AR07E,     511,          1,     203186,         16,         16,2,19970825,       0000,    59.8183,   -40.7517,       2596,   400.4,   3.8974,  34.8772,2,  34.8752,2,   292.1,2,    9.07,2,   16.52,2,    0.02,2,    1.09,2,-999.000,9,-999.000,9,  -999.0,9,   3.8690
06MT19970815,      AR07E,     511,          1,     203185,         15,         15,2,19970825,       0000,    59.8183,   -40.7517,       2596,   501.7,   3.5770,  34.8546,2,  34.8538,2,   294.7,2,    9.21,2,   16.62,2,    0.03,2,    1.10,2,-999.000,9,-999.000,9,  -999.0,9,   3.5423
06MT19970815,      AR07E,     511,          1,     203184,         14,         14,2,19970825,       0000,    59.8183,   -40.7517,       2596,   601.0,   3.6676,  34.8838,2,  34.8838,2,   287.0,2,    9.50,2,   16.72,2,    0.03,2,    1.10,2,-999.000,9,-999.000,9,  -999.0,9,   3.6251
06MT19970815,      AR07E,     511,          1,     203183,         13,         13,2,19970825,       0000,    59.8183,   -40.7517,       2596,   700.8,   3.5505,  34.8868,2,  34.8859,2,   288.7,2,    9.75,2,   16.73,2,    0.03,2,    1.11,2,-999.000,9,-999.000,9,  -999.0,9,   3.5011
06MT19970815,      AR07E,     511,          1,     203182,         12,         12,2,19970825,       0000,    59.8183,   -40.7517,       2596,   801.2,   3.4447,  34.8813,2,  34.8842,2,   281.6,2,    9.82,2,   16.79,2,    0.02,2,    1.11,2,-999.000,9,-999.000,9,  -999.0,9,   3.3882
06MT19970815,      AR07E,     511,          1,     203181,         11,         11,2,19970825,       0000,    59.8183,   -40.7517,       2596,   901.3,   3.2896,  34.8789,2,  34.8792,2,   288.6,2,   10.06,2,   16.94,2,    0.02,2,    1.11,2,-999.000,9,-999.000,9,  -999.0,9,   3.2265
06MT19970815,      AR07E,     511,          1,     203180,         10,         10,2,19970825,       0000,    59.8183,   -40.7517,       2596,  1100.1,   3.0906,  34.8651,2,  34.8652,2,   294.7,2,    9.96,2,   16.84,2,    0.04,2,    1.11,2,-999.000,9,-999.000,9,  -999.0,9,   3.0136
06MT19970815,      AR07E,     511,          1,     203179,          9,          9,2,19970825,       0000,    59.8183,   -40.7517,       2596,  1201.4,   3.0245,  34.8588,2,  34.8594,2,   297.3,2,    9.87,2,   16.76,2,    0.02,2,    1.11,2,-999.000,9,-999.000,9,  -999.0,9,   2.9401
06MT19970815,      AR07E,     511,          1,     203178,          8,          8,2,19970825,       0000,    59.8183,   -40.7517,       2596,  1283.0,   2.9917,  34.8567,2,  34.8570,2,   299.0,2,    9.88,2,   16.70,2,    0.02,2,    1.10,2,-999.000,9,-999.000,9,  -999.0,9,   2.9011
06MT19970815,      AR07E,     511,          1,     203177,          7,          7,2,19970825,       0000,    59.8183,   -40.7517,       2596,  1502.5,   2.9412,  34.8530,2,  34.8527,2,   299.0,2,    9.79,2,   16.59,2,    0.02,2,    1.10,2,-999.000,9,-999.000,9,  -999.0,9,   2.8331
06MT19970815,      AR07E,     511,          1,     203176,          6,          6,2,19970825,       0000,    59.8183,   -40.7517,       2596,  1700.0,   2.9790,  34.8681,2,  34.8671,2,   294.5,2,   10.11,2,   16.51,2,    0.02,2,    1.09,2,-999.000,9,-999.000,9,  -999.0,9,   2.8536
06MT19970815,      AR07E,     511,          1,     203175,          5,          5,2,19970825,       0000,    59.8183,   -40.7517,       2596,  1900.0,   2.9406,  34.9076,2,  34.9068,2,   283.8,2,   11.46,2,   16.27,2,    0.02,2,    1.08,2,   2.421,2,   1.182,3,  -999.0,9,   2.7980
06MT19970815,      AR07E,     511,          1,     203174,          4,          4,2,19970825,       0000,    59.8183,   -40.7517,       2596,  2101.9,   2.7103,  34.9162,2,  34.9162,2,   283.2,2,   12.32,2,   16.13,2,    0.02,2,    1.07,2,   2.258,2,   1.078,3,  -999.0,9,   2.5530
06MT19970815,      AR07E,     511,          1,     203173,          3,          3,2,19970825,       0000,    59.8183,   -40.7517,       2596,  2300.9,   1.7224,  34.8786,2,  34.8787,2,   299.9,2,    8.75,2,   14.26,2,    0.04,2,    0.97,2,-999.000,9,-999.000,9,  -999.0,9,   1.5639
06MT19970815,      AR07E,     511,          1,     203172,          2,          2,2,19970825,       0000,    59.8183,   -40.7517,       2596,  2500.7,   1.5279,  34.8775,2,  34.8787,2,   302.0,2,    8.42,2,   14.06,2,    0.01,2,    0.95,2,   3.772,2,   1.850,3,  -999.0,9,   1.3554
06MT19970815,      AR07E,     511,          1,     203171,          1,          1,2,19970825,       0000,    59.8183,   -40.7517,       2596,  2596.7,   1.5109,  34.8776,2,  34.8774,2,   302.7,2,    8.45,2,   13.95,2,    0.06,2,    0.95,2,   3.749,2,   1.827,3,  -999.0,9,   1.3302
06MT19970815,      AR07E,     512,          2,     203214,         22,         22,2,19970826,       0000,    59.7650,   -40.2183,       2647,    10.8,   9.1103,  34.7974,2,  34.7887,2,   293.0,2,    1.34,2,    5.75,2,    0.13,2,    0.45,2,   4.141,2,   2.241,3,  2082.4,2,   9.1091
06MT19970815,      AR07E,     512,          2,     203213,         21,         21,2,19970826,       0000,    59.7650,   -40.2183,       2647,    48.5,   6.4602,  35.0138,2,  35.0155,2,   281.8,2,    6.28,2,   14.67,2,    0.03,2,    0.96,2,-999.000,9,-999.000,9,  -999.0,9,   6.4559
06MT19970815,      AR07E,     512,          2,     203212,         20,         20,2,19970826,       0000,    59.7650,   -40.2183,       2647,    99.9,   5.6543,  34.9929,2,  34.9960,2,   282.4,2,    8.08,2,   15.66,2,    0.02,2,    1.03,2,-999.000,9,-999.000,9,  -999.0,9,   5.6460
06MT19970815,      AR07E,     512,          2,     203211,         19,         19,2,19970826,       0000,    59.7650,   -40.2183,       2647,   200.4,   4.8501,  34.9419,2,  34.9409,2,   282.4,2,    8.66,2,   16.06,2,    0.02,2,    1.05,2,   4.112,2,   2.144,3,  -999.0,9,   4.8347
06MT19970815,      AR07E,     512,          2,     203210,         18,         18,2,19970826,       0000,    59.7650,   -40.2183,       2647,   300.9,   4.2726,  34.9046,2,  34.9052,2,   285.6,2,    9.11,2,   16.41,2,    0.02,2,    1.08,2,-999.000,9,-999.000,9,  -999.0,9,   4.2506
06MT19970815,      AR07E,     512,          2,     203209,         17,         17,2,19970826,       0000,    59.7650,   -40.2183,       2647,   401.0,   3.9141,  34.8867,2,  34.8858,2,   287.6,2,    9.15,2,   16.49,2,    0.02,2,    1.08,2,   4.106,2,   2.119,3,  -999.0,9,   3.8856
06MT19970815,      AR07E,     512,          2,     203208,         16,         16,2,19970826,       0000,    59.7650,   -40.2183,       2647,   501.2,   3.5046,  34.8568,2,  34.8552,2,   294.2,2,    9.41,2,   16.78,2,    0.01,2,    1.10,2,-999.000,9,-999.000,9,  -999.0,9,   3.4702
06MT19970815,      AR07E,     512,          2,     203207,         15,         15,2,19970826,       0000,    59.7650,   -40.2183,       2647,   600.8,   3.4005,  34.8584,2,  34.8578,2,   290.3,2,    9.69,2,   17.07,2,    0.02,2,    1.12,2,   4.065,2,   2.071,3,  -999.0,9,   3.3593
06MT19970815,      AR07E,     512,          2,     203206,         14,         14,2,19970826,       0000,    59.7650,   -40.2183,       2647,   701.2,   3.2533,  34.8511,2,  34.8516,2,   293.7,2,    9.66,2,   16.91,2,    0.01,2,    1.11,2,-999.000,9,-999.000,9,  -999.0,9,   3.2055
06MT19970815,      AR07E,     512,          2,     203205,         13,         13,2,19970826,       0000,    59.7650,   -40.2183,       2647,   800.4,   3.2737,  34.8618,2,  34.8587,2,   294.3,2,    9.86,2,   17.04,2,    0.02,2,    1.12,2,   3.940,2,   1.967,3,  -999.0,9,   3.2184
06MT19970815,      AR07E,     512,          2,     203204,         12,         12,2,19970826,       0000,    59.7650,   -40.2183,       2647,  1000.5,   3.1816,  34.8666,2,  34.8674,2,   287.4,2,   10.06,2,   17.01,2,    0.01,2,    1.11,2,   3.703,2,   1.836,3,  -999.0,9,   3.1116
06MT19970815,      AR07E,     512,          2,     203203,         11,         11,2,19970826,       0000,    59.7650,   -40.2183,       2647,  1200.1,   3.0678,  34.8599,2,  34.8603,2,   296.0,2,   10.00,2,   16.87,2,    0.01,2,    1.11,2,   3.827,2,   1.896,3,  -999.0,9,   2.9831
06MT19970815,      AR07E,     512,          2,     203202,         10,         10,2,19970826,       0000,    59.7650,   -40.2183,       2647,  1400.0,   2.9748,  34.8526,2,  34.8598,0,   299.6,2,    9.85,2,   16.77,2,    0.01,2,    1.10,2,   3.967,2,   1.976,3,  -999.0,9,   2.8748
06MT19970815,      AR07E,     512,          2,     203201,          9,          9,2,19970826,       0000,    59.7650,   -40.2183,       2647,  1500.1,   2.9437,  34.8502,2,  34.8504,2,   300.4,2,    9.83,2,   16.76,2,    0.01,2,    1.10,2,   4.007,2,   1.981,3,  -999.0,9,   2.8358
06MT19970815,      AR07E,     512,          2,     203200,          8,          8,2,19970826,       0000,    59.7650,   -40.2183,       2647,  1599.7,   2.9225,  34.8484,2,  34.8482,2,   301.2,2,    9.77,2,   16.70,2,    0.01,2,    1.10,2,   4.001,2,   1.988,3,  -999.0,9,   2.8065
06MT19970815,      AR07E,     512,          2,     203199,          7,          7,2,19970826,       0000,    59.7650,   -40.2183,       2647,  1799.7,   2.9559,  34.8588,2,  34.8583,2,   297.4,2,   10.03,2,   16.66,2,    0.01,2,    1.10,2,   3.658,2,   1.810,3,  -999.0,9,   2.8221
06MT19970815,      AR07E,     512,          2,     203198,          6,          6,2,19970826,       0000,    59.7650,   -40.2183,       2647,  1899.8,   3.0297,  34.8791,2,  34.8780,2,   291.8,2,   10.46,2,   16.65,2,    0.01,2,    1.10,2,   3.126,2,   1.541,3,  -999.0,9,   2.8860
06MT19970815,      AR07E,     512,          2,     203197,          5,          5,2,19970826,       0000,    59.7650,   -40.2183,       2647,  2000.1,   3.0504,  34.8901,2,  34.8892,2,   289.1,2,   10.72,2,   16.52,2,    0.01,2,    1.09,2,   2.898,2,   1.420,3,  -999.0,9,   2.8972
06MT19970815,      AR07E,     512,          2,     203196,          4,          4,2,19970826,       0000,    59.7650,   -40.2183,       2647,  2200.2,   2.8599,  34.8935,2,  34.8916,2,   289.4,2,   10.57,2,   15.94,2,    0.01,2,    1.06,2,   2.897,2,   1.434,3,  -999.0,9,   2.6912
06MT19970815,      AR07E,     512,          2,     203195,          3,          3,2,19970826,       0000,    59.7650,   -40.2183,       2647,  2401.9,   2.6646,  34.9152,2,  34.9150,2,   283.7,2,   12.20,2,   16.02,2,    0.01,2,    1.07,2,   2.305,2,   1.120,3,  -999.0,9,   2.4802
06MT19970815,      AR07E,     512,          2,     203194,          2,          2,2,19970826,       0000,    59.7650,   -40.2183,       2647,  2551.1,   2.1462,  34.8834,2,  34.8835,2,   296.5,2,    9.29,2,   14.74,2,    0.01,2,    0.99,2,   3.424,2,   1.693,3,  -999.0,9,   1.9575
06MT19970815,      AR07E,     512,          2,     203193,          1,          1,2,19970826,       0000,    59.7650,   -40.2183,       2647,  2645.7,   1.3325,  34.8793,2,  34.8806,2,   301.4,2,    9.28,2,   13.94,2,    0.02,2,    0.94,2,   3.623,2,   1.795,3,  -999.0,9,   1.1509