BOTTLE,20220204CCHSIOENA
EXPOCODE,SECT_ID,STNNBR,CASTNO,BIONBR,SAMPNO,BTLNBR,BTLNBR_FLAG_W,DATE,TIME,LATITUDE,LONGITUDE,DEPTH,CTDPRS,CTDTMP,CTDSAL,CTDSAL_FLAG_W,SALNTY,SALNTY_FLAG_W,OXYGEN,OXYGEN_FLAG_W,SILCAT,SILCAT_FLAG_W,NITRAT,NITRAT_FLAG_W,NITRIT,NITRIT_FLAG_W,PHSPHT,PHSPHT_FLAG_W,CFC-11,CFC-11_FLAG_W,CFC-12,CFC-12_FLAG_W,TCARBN,TCARBN_FLAG_W,THETA
,,,,,,,,,,,,METERS,DBAR,ITS-90,PSS-78,,PSS-78,,UMOL/KG,,UMOL/KG,,UMOL/KG,,UMOL/KG,,UMOL/KG,,PMOL/KG,,PMOL/KG,,UMOL/KG,,DEG C
06MT19970815,      AR07E,     490,          1,     202832,         20,         20,2,19970821,       0000,    62.5850,   -39.2200,       2026,    13.5,  10.1060,  34.8993,2,  34.8921,2,  -999.0,9,    1.19,2,    2.98,2,    0.10,2,    0.25,2,-999.000,9,-999.000,9,  2060.1,6,  10.1044
06MT19970815,      AR07E,     490,          1,     202831,         19,         19,2,19970821,       0000,    62.5850,   -39.2200,       2026,    50.2,   7.7177,  35.0355,2,  35.0348,2,  -999.0,9,    4.50,2,   11.10,2,    0.24,2,    0.77,2,-999.000,9,-999.000,9,  2119.9,2,   7.7128
06MT19970815,      AR07E,     490,          1,     202830,         18,         18,2,19970821,       0000,    62.5850,   -39.2200,       2026,   101.4,   6.7863,  35.0697,2,  35.0710,2,  -999.0,9,    7.01,2,   14.70,2,    0.04,2,    0.97,2,-999.000,9,-999.000,9,  2141.3,2,   6.7770
06MT19970815,      AR07E,     490,          1,     202829,         17,         17,2,19970821,       0000,    62.5850,   -39.2200,       2026,   201.0,   6.2832,  35.0443,2,  35.0385,2,  -999.0,9,    7.83,2,   15.25,2,    0.02,2,    1.01,2,-999.000,9,-999.000,9,  2143.7,2,   6.2654
06MT19970815,      AR07E,     490,          1,     202828,         16,         16,2,19970821,       0000,    62.5850,   -39.2200,       2026,   300.8,   5.6115,  34.9916,2,  34.9916,2,   279.5,2,    8.32,2,   15.75,2,    0.03,2,    1.05,2,-999.000,9,-999.000,9,  2146.6,2,   5.5863
06MT19970815,      AR07E,     490,          1,     202827,         15,         15,2,19970821,       0000,    62.5850,   -39.2200,       2026,   401.3,   5.2572,  34.9669,2,  34.9672,2,   280.1,2,    8.54,2,   15.89,2,    0.03,2,    1.05,2,-999.000,9,-999.000,9,  2147.4,2,   5.2244
06MT19970815,      AR07E,     490,          1,     202826,         14,         14,2,19970821,       0000,    62.5850,   -39.2200,       2026,   501.4,   4.7839,  34.9354,2,  34.9452,2,  -999.0,9,    8.56,2,   15.66,2,    0.05,2,    1.04,2,-999.000,9,-999.000,9,  2146.5,2,   4.7444
06MT19970815,      AR07E,     490,          1,     202825,         13,         13,2,19970821,       0000,    62.5850,   -39.2200,       2026,   600.9,   4.4432,  34.9211,2,  34.9192,2,   281.9,2,    9.02,2,   16.13,2,    0.02,2,    1.07,2,   4.002,2,   2.013,3,  2179.6,3,   4.3970
06MT19970815,      AR07E,     490,          1,     202824,         12,         12,2,19970821,       0000,    62.5850,   -39.2200,       2026,   701.8,   4.1951,  34.9114,2,  34.9119,2,   282.4,2,    9.18,2,   16.25,2,    0.03,2,    1.08,2,   3.989,2,   1.997,3,  -999.0,9,   4.1420
06MT19970815,      AR07E,     490,          1,     202823,         11,         11,2,19970821,       0000,    62.5850,   -39.2200,       2026,   800.2,   4.0151,  34.9093,2,  34.9114,2,   281.0,2,    9.58,2,   16.44,2,    0.07,2,    1.08,2,-999.000,9,-999.000,9,  -999.0,9,   3.9551
06MT19970815,      AR07E,     490,          1,     202822,         10,         10,2,19970821,       0000,    62.5850,   -39.2200,       2026,   900.2,   3.8288,  34.9126,2,  34.9125,2,   279.5,2,    9.79,2,   16.73,2,    0.03,2,    1.11,2,   3.489,2,   1.721,3,  -999.0,9,   3.7619
06MT19970815,      AR07E,     490,          1,     202821,          9,          9,2,19970821,       0000,    62.5850,   -39.2200,       2026,  1001.0,   3.6692,  34.9104,2,  34.9107,2,   280.7,2,    9.90,2,   16.70,2,    0.03,2,    1.09,2,   3.401,2,   1.688,3,  -999.0,9,   3.5953
06MT19970815,      AR07E,     490,          1,     202820,          8,          8,2,19970821,       0000,    62.5850,   -39.2200,       2026,  1100.4,   3.5019,  34.9015,2,  34.9014,2,   284.0,2,    9.96,2,   16.50,2,    0.02,2,    1.09,2,   3.496,2,   1.715,3,  -999.0,9,   3.4213
06MT19970815,      AR07E,     490,          1,     202819,          7,          7,2,19970821,       0000,    62.5850,   -39.2200,       2026,  1200.5,   3.3161,  34.8901,2,  34.8898,2,   288.0,2,    9.90,2,   16.42,2,    0.03,2,    1.09,2,   3.630,2,   1.775,3,  -999.0,9,   3.2290
06MT19970815,      AR07E,     490,          1,     202818,          6,          6,2,19970821,       0000,    62.5850,   -39.2200,       2026,  1301.0,   3.1320,  34.8775,2,  34.8753,0,   292.4,2,    9.72,2,   16.25,2,    0.02,2,    1.07,2,   3.820,2,   1.838,3,  2151.4,2,   3.0385
06MT19970815,      AR07E,     490,          1,     202817,          5,          5,2,19970821,       0000,    62.5850,   -39.2200,       2026,  1401.2,   3.0314,  34.8726,2,  34.8722,2,   294.2,2,    9.78,2,   16.22,2,    0.03,2,    1.07,2,-999.000,9,-999.000,9,  -999.0,9,   2.9307
06MT19970815,      AR07E,     490,          1,     202816,          4,          4,2,19970821,       0000,    62.5850,   -39.2200,       2026,  1501.8,   2.9153,  34.8789,2,  34.8803,2,   292.6,2,   10.07,2,   16.04,2,    0.02,2,    1.06,2,   3.442,2,   1.672,3,  -999.0,9,   2.8075
06MT19970815,      AR07E,     490,          1,     202815,          3,          3,2,19970821,       0000,    62.5850,   -39.2200,       2026,  1602.1,   2.6426,  34.8784,2,  34.8782,2,   293.7,2,    9.47,2,   15.49,2,    0.02,2,    1.03,2,   3.678,2,   1.766,3,  -999.0,9,   2.5297
06MT19970815,      AR07E,     490,          1,     202814,          2,          2,2,19970821,       0000,    62.5850,   -39.2200,       2026,  1700.8,   2.4820,  34.8790,2,  34.8794,2,   294.5,2,    9.46,2,   15.21,2,    0.03,2,    1.01,2,   3.459,2,   1.697,3,  -999.0,9,   2.3629
06MT19970815,      AR07E,     490,          1,     202813,          1,          1,2,19970821,       0000,    62.5850,   -39.2200,       2026,  2012.7,   1.9332,  34.8765,2,  34.8775,2,   298.8,2,    8.75,2,   14.38,2,    0.08,2,    0.97,2,   3.694,2,   1.790,3,  -999.0,9,   1.7959
06MT19970815,      AR07E,     491,          1,     202854,         20,         20,2,19970821,       0000,    62.7833,   -39.8167,       1939,    10.4,   8.1339,  34.9511,2,  34.9489,2,   292.6,2,    3.24,2,    8.46,2,    0.19,2,    0.59,2,-999.000,9,-999.000,9,  -999.0,9,   8.1328
06MT19970815,      AR07E,     491,          1,     202853,         19,         19,2,19970821,       0000,    62.7833,   -39.8167,       1939,    50.0,   8.0224,  34.9505,2,  34.9482,2,   290.8,2,    3.30,2,    8.59,2,    0.18,2,    0.61,2,-999.000,9,-999.000,9,  -999.0,9,   8.0174
06MT19970815,      AR07E,     491,          1,     202852,         18,         18,2,19970821,       0000,    62.7833,   -39.8167,       1939,    99.3,   7.8075,  34.9429,2,  34.9416,2,  -999.0,9,    3.54,2,    9.16,2,    0.20,2,    0.67,2,-999.000,9,-999.000,9,  -999.0,9,   7.7977
06MT19970815,      AR07E,     491,          1,     202851,         17,         17,2,19970821,       0000,    62.7833,   -39.8167,       1939,   201.6,   7.3291,  34.9783,2,  34.9761,2,  -999.0,9,    4.73,2,   11.24,2,    0.17,2,    0.78,2,-999.000,9,-999.000,9,  -999.0,9,   7.3097
06MT19970815,      AR07E,     491,          1,     202850,         16,         16,2,19970821,       0000,    62.7833,   -39.8167,       1939,   301.2,   6.8740,  35.0372,2,  35.0387,2,   278.9,2,    6.48,2,   13.83,2,    0.11,2,    0.92,2,-999.000,9,-999.000,9,  -999.0,9,   6.8458
06MT19970815,      AR07E,     491,          1,     202849,         15,         15,2,19970821,       0000,    62.7833,   -39.8167,       1939,   401.1,   6.3440,  35.0365,2,  35.0375,2,   279.0,2,    7.57,2,   15.06,2,    0.04,2,    0.99,2,-999.000,9,-999.000,9,  -999.0,9,   6.3078
06MT19970815,      AR07E,     491,          1,     202848,         14,         14,2,19970821,       0000,    62.7833,   -39.8167,       1939,   500.2,   6.0722,  35.0198,2,  35.0222,2,   278.5,2,    7.91,2,   15.37,2,    0.02,2,    1.01,2,-999.000,9,-999.000,9,  -999.0,9,   6.0278
06MT19970815,      AR07E,     491,          1,     202847,         13,         13,2,19970821,       0000,    62.7833,   -39.8167,       1939,   601.6,   5.6667,  34.9926,2,  34.9934,2,   278.8,2,    8.31,2,   15.61,2,    0.03,2,    1.03,2,-999.000,9,-999.000,9,  -999.0,9,   5.6148
06MT19970815,      AR07E,     491,          1,     202846,         12,         12,2,19970821,       0000,    62.7833,   -39.8167,       1939,   701.2,   5.2137,  34.9594,2,  34.9604,2,   278.4,2,    8.60,2,   15.93,2,    0.05,2,    1.05,2,-999.000,9,-999.000,9,  -999.0,9,   5.1551
06MT19970815,      AR07E,     491,          1,     202845,         11,         11,2,19970821,       0000,    62.7833,   -39.8167,       1939,   802.6,   4.7134,  34.9319,2,  34.9323,2,   280.1,2,    8.94,2,   16.22,2,    0.01,2,    1.07,2,   4.038,2,   2.057,3,  -999.0,9,   4.6489
06MT19970815,      AR07E,     491,          1,     202844,         10,         10,2,19970821,       0000,    62.7833,   -39.8167,       1939,   899.9,   4.4118,  34.9185,2,  34.9201,2,   280.6,2,    9.11,2,   16.30,2,    0.03,2,    1.07,2,   3.989,2,   2.001,3,  -999.0,9,   4.3409
06MT19970815,      AR07E,     491,          1,     202843,          9,          9,2,19970821,       0000,    62.7833,   -39.8167,       1939,  1099.5,   3.5642,  34.9005,2,  34.9017,2,  -999.0,9,    8.58,2,   15.29,2,    0.03,2,    1.02,2,-999.000,9,-999.000,9,  -999.0,9,   3.4831
06MT19970815,      AR07E,     491,          1,     202842,          8,          8,2,19970821,       0000,    62.7833,   -39.8167,       1939,  1199.4,   2.8537,  34.8862,2,  34.8863,2,   291.2,2,    8.71,2,   14.81,2,    0.02,2,    0.99,2,-999.000,9,-999.000,9,  -999.0,9,   2.7710
06MT19970815,      AR07E,     491,          1,     202841,          7,          7,2,19970821,       0000,    62.7833,   -39.8167,       1939,  1305.1,   2.4645,  34.8802,2,  34.8801,2,   293.6,2,    8.69,2,   14.86,2,    0.02,2,    0.99,2,   3.788,2,   1.865,3,  -999.0,9,   2.3774
06MT19970815,      AR07E,     491,          1,     202840,          6,          6,2,19970821,       0000,    62.7833,   -39.8167,       1939,  1402.4,   2.1262,  34.8774,2,  34.8772,2,   295.9,2,    8.81,2,   14.73,2,    0.01,2,    0.99,2,   3.681,2,   1.801,3,  -999.0,9,   2.0352
06MT19970815,      AR07E,     491,          1,     202839,          5,          5,2,19970821,       0000,    62.7833,   -39.8167,       1939,  1501.0,   1.9787,  34.8773,2,  34.8767,2,   297.2,2,    8.76,2,   14.62,2,    0.02,2,    0.98,2,   3.677,2,   1.811,3,  -999.0,9,   1.8818
06MT19970815,      AR07E,     491,          1,     202838,          4,          4,2,19970821,       0000,    62.7833,   -39.8167,       1939,  1604.8,   1.8340,  34.8766,2,  34.8760,2,   298.6,2,    8.54,2,   14.43,2,    0.02,2,    0.97,2,   3.722,2,   1.817,3,  -999.0,9,   1.7309
06MT19970815,      AR07E,     491,          1,     202837,          3,          3,2,19970821,       0000,    62.7833,   -39.8167,       1939,  1702.3,   1.6868,  34.8768,2,  34.8767,2,   300.7,2,    8.49,2,   14.28,2,    0.01,2,    0.96,2,   3.730,2,   1.825,3,  -999.0,9,   1.5780
06MT19970815,      AR07E,     491,          1,     202836,          2,          2,2,19970821,       0000,    62.7833,   -39.8167,       1939,  1807.4,   1.5845,  34.8776,2,  34.8779,2,   300.3,2,    8.39,2,   14.11,2,    0.01,2,    0.96,2,   3.751,2,   1.829,3,  -999.0,9,   1.4689
06MT19970815,      AR07E,     491,          1,     202835,          1,          1,2,19970821,       0000,    62.7833,   -39.8167,       1939,  1917.5,   1.5429,  34.8784,2,  34.8752,0,   300.4,2,    8.36,2,   14.09,2,    0.02,2,    0.95,2,   3.760,2,   1.822,3,  -999.0,9,   1.4192
06MT19970815,      AR07E,     492,          1,     202874,         18,         18,2,19970822,       0000,    62.8633,   -40.1117,       1690,     9.7,   9.1503,  34.9641,2,  34.9621,2,   294.3,2,    1.92,2,    5.55,2,    0.15,2,    0.44,2,   4.208,2,   2.195,3,  -999.0,9,   9.1492
06MT19970815,      AR07E,     492,          1,     202873,         17,         17,3,19970822,       0000,    62.8633,   -40.1117,       1690,    50.4,   7.9390,  34.9984,2,  34.9927,2,   285.8,2,    3.78,2,    9.84,2,    0.22,2,    0.70,2,-999.000,9,-999.000,9,  -999.0,9,   7.9340
06MT19970815,      AR07E,     492,          1,     202872,         16,         16,3,19970822,       0000,    62.8633,   -40.1117,       1690,   100.6,   6.6830,  35.0513,2,  35.0535,2,   278.8,2,    6.91,2,   14.50,2,    0.04,2,    0.95,2,-999.000,9,-999.000,9,  -999.0,9,   6.6739
06MT19970815,      AR07E,     492,          1,     202871,         15,         15,2,19970822,       0000,    62.8633,   -40.1117,       1690,   200.8,   5.9395,  35.0180,2,  35.0192,2,   279.0,2,    7.95,2,   15.47,2,    0.02,2,    1.02,2,   4.077,2,   2.107,3,  -999.0,9,   5.9223
06MT19970815,      AR07E,     492,          1,     202870,         14,         14,2,19970822,       0000,    62.8633,   -40.1117,       1690,   301.3,   5.3864,  34.9763,2,  34.9782,2,   278.4,2,    8.43,2,   15.80,2,    0.01,2,    1.05,2,   4.073,2,   2.072,3,  -999.0,9,   5.3617
06MT19970815,      AR07E,     492,          1,     202869,         13,         13,2,19970822,       0000,    62.8633,   -40.1117,       1690,   501.4,   5.0091,  34.9477,2,  34.9606,2,   279.1,2,    8.53,2,   15.75,2,    0.03,2,    1.04,2,-999.000,9,-999.000,9,  -999.0,9,   4.9687
06MT19970815,      AR07E,     492,          1,     202868,         12,         12,2,19970822,       0000,    62.8633,   -40.1117,       1690,   602.0,   4.9306,  34.9451,2,  34.9496,2,   278.9,2,    8.65,2,   15.90,2,    0.02,2,    1.05,2,   4.049,2,   2.050,3,  -999.0,9,   4.8821
06MT19970815,      AR07E,     492,          1,     202867,         11,         11,2,19970822,       0000,    62.8633,   -40.1117,       1690,   701.0,   4.7965,  34.9385,2,  34.9394,2,   278.4,2,    8.78,2,   16.10,2,    0.02,2,    1.05,2,-999.000,9,-999.000,9,  -999.0,9,   4.7402
06MT19970815,      AR07E,     492,          1,     202866,         10,         10,2,19970822,       0000,    62.8633,   -40.1117,       1690,   801.1,   4.5790,  34.9280,2,  34.9295,2,   278.5,2,    8.92,2,   16.20,2,    0.02,2,    1.05,2,   3.943,2,   1.976,3,  -999.0,9,   4.5154
06MT19970815,      AR07E,     492,          1,     202865,          9,          9,2,19970822,       0000,    62.8633,   -40.1117,       1690,   901.0,   4.4315,  34.9208,2,  34.9225,2,   279.6,2,    9.01,2,   16.08,2,    0.02,2,    1.04,2,-999.000,9,-999.000,9,  -999.0,9,   4.3604
06MT19970815,      AR07E,     492,          1,     202864,          8,          8,2,19970822,       0000,    62.8633,   -40.1117,       1690,  1001.5,   4.1357,  34.9074,2,  34.9080,2,   280.9,2,    9.27,2,   16.55,2,    0.01,2,    1.09,2,   3.843,2,   1.931,3,  -999.0,9,   4.0582
06MT19970815,      AR07E,     492,          1,     202863,          7,          7,3,19970822,       0000,    62.8633,   -40.1117,       1690,  1100.7,   3.8753,  34.9014,2,  34.9171,0,  -999.0,9,    9.08,2,   16.10,2,    0.02,2,    1.06,2,-999.000,9,-999.000,9,  -999.0,9,   3.7915
06MT19970815,      AR07E,     492,          1,     202862,          6,          6,2,19970822,       0000,    62.8633,   -40.1117,       1690,  1200.8,   3.7559,  34.9047,2,  34.9059,2,   279.2,2,    9.73,2,   16.74,2,    0.02,2,    1.09,2,   3.478,2,   1.719,3,  -999.0,9,   3.6647
06MT19970815,      AR07E,     492,          1,     202861,          5,          5,2,19970822,       0000,    62.8633,   -40.1117,       1690,  1300.5,   3.5662,  34.9011,2,  34.9008,2,   282.2,2,    9.71,2,   16.40,2,    0.04,2,    1.09,2,   3.553,2,   1.710,3,  -999.0,9,   3.4683
06MT19970815,      AR07E,     492,          1,     202860,          4,          4,2,19970822,       0000,    62.8633,   -40.1117,       1690,  1401.0,   3.3667,  34.8898,2,  34.8900,2,   286.7,2,    9.82,2,   16.57,2,    0.01,2,    1.08,2,-999.000,9,-999.000,9,  -999.0,9,   3.2624
06MT19970815,      AR07E,     492,          1,     202859,          3,          3,2,19970822,       0000,    62.8633,   -40.1117,       1690,  1500.1,   3.1644,  34.8797,2,  34.8791,2,   291.5,2,    9.77,2,   16.26,2,    0.01,2,    1.01,2,-999.000,9,-999.000,9,  -999.0,9,   3.0539
06MT19970815,      AR07E,     492,          1,     202858,          2,          2,2,19970822,       0000,    62.8633,   -40.1117,       1690,  1601.0,   3.0019,  34.8755,2,  34.8747,2,   292.2,2,    9.79,2,   16.14,2,    0.02,2,    1.04,2,   3.590,2,   1.762,3,  -999.0,9,   2.8847
06MT19970815,      AR07E,     492,          1,     202857,          1,          1,2,19970822,       0000,    62.8633,   -40.1117,       1690,  1671.3,   2.9666,  34.8754,2,  34.8751,2,   292.5,2,    9.83,2,   16.11,2,    0.02,2,    1.06,2,   3.559,2,   1.744,3,  -999.0,9,   2.8438
06MT19970815,      AR07E,     493,          1,     202879,          4,          4,2,19970822,       0000,    62.9667,   -40.4167,        230,    10.3,   8.0179,  34.9287,2,  34.9291,2,   296.8,2, -999.00,9, -999.00,9,    7.98,3, -999.00,9,-999.000,9,-999.000,9,  -999.0,9,   8.0169
06MT19970815,      AR07E,     493,          1,     202878,          3,          3,2,19970822,       0000,    62.9667,   -40.4167,        230,    51.1,   7.2551,  34.9970,2,  34.9995,2,   285.2,2, -999.00,9, -999.00,9,   11.98,3, -999.00,9,-999.000,9,-999.000,9,  -999.0,9,   7.2503
06MT19970815,      AR07E,     493,          1,     202877,          2,          2,2,19970822,       0000,    62.9667,   -40.4167,        230,   103.3,   6.7285,  35.0149,2,  35.0190,2,   281.3,2, -999.00,9, -999.00,9,   13.64,3, -999.00,9,-999.000,9,-999.000,9,  -999.0,9,   6.7191
06MT19970815,      AR07E,     493,          1,     202876,          1,          1,2,19970822,       0000,    62.9667,   -40.4167,        230,   207.2,   5.3733,  34.9250,2,  34.9256,2,   283.7,2, -999.00,9, -999.00,9,   14.90,3, -999.00,9,-999.000,9,-999.000,9,  -999.0,9,   5.3565