BOTTLE,202201227CCHSIOENA
EXPOCODE,SECT_ID,STNNBR,CASTNO,SAMPNO,BTLNBR,BTLNBR_FLAG_W,DATE,TIME,LATITUDE,LONGITUDE,DEPTH,CTDPRS,CTDTMP,CTDSAL,CTDSAL_FLAG_W,SALNTY,SALNTY_FLAG_W,CTDOXY,CTDOXY_FLAG_W,OXYGEN,OXYGEN_FLAG_W,SILCAT,SILCAT_FLAG_W,NITRAT,NITRAT_FLAG_W,NITRIT,PHSPHT,PHSPHT_FLAG_W,CFC-12,CFC-12_FLAG_W,THETA
,,,,,,,,,,,METERS,DBAR,ITS-90,PSS-78,,PSS-78,,UMOL/KG,,UMOL/KG,,UMOL/KG,,UMOL/KG,,UMOL/KG,UMOL/KG,,PMOL/KG,,DEG C
  320620070203,NBP0702,    71,  1,      6,      6,2,20070224,   0,-74.7070,-108.6360,  898,      2.0,  -1.6280,  33.7170,2,-999.0000,9,    238.2,2,   -999.0,9,    89.76,2,    29.32,2,     0.01,     2.12,2, -999.000,9,  -1.6280
  320620070203,NBP0702,    71,  1,      5,      5,2,20070224,   0,-74.7070,-108.6360,  898,     49.8,  -1.4770,  33.7730,2,  33.7720,2,    217.3,2,    217.5,2,    91.96,2,    29.80,2,     0.00,     2.14,2, -999.000,9,  -1.4781
  320620070203,NBP0702,    71,  1,      4,      4,2,20070224,   0,-74.7070,-108.6360,  898,    150.3,  -1.4740,  33.8980,2,  33.9010,2,    243.8,2,    243.1,2,    84.20,2,    29.02,2,     0.00,     2.11,2, -999.000,9,  -1.4774
  320620070203,NBP0702,    71,  1,      3,      3,2,20070224,   0,-74.7070,-108.6360,  898,    300.1,  -1.4250,  33.9960,2,  33.9980,2,    255.0,2,    252.8,2,    82.09,2,    28.93,2,     0.00,     2.07,2, -999.000,9,  -1.4323
  320620070203,NBP0702,    71,  1,      2,      2,2,20070224,   0,-74.7070,-108.6360,  898,    800.2,   1.1750,  34.7140,2,  34.7150,2,    185.5,2,   -999.0,9,   102.79,2,    30.63,2,     0.00,     2.19,2, -999.000,9,   1.1333
  320620070203,NBP0702,    71,  1,      1,      1,2,20070224,   0,-74.7070,-108.6360,  898,    888.5,   1.1810,  34.7150,2,  34.7180,2,    185.8,2,    186.6,2,   103.75,2,    30.45,2,     0.00,     2.15,2, -999.000,9,   1.1340
  320620070203,NBP0702,    72,  1,     14,     14,2,20070224,   0,-74.0210,-106.3320, 1194,      2.0,  -1.6940,  32.9050,2,-999.0000,9,    348.4,2,    337.9,2,  -999.00,9,  -999.00,9,  -999.00,  -999.00,9, -999.000,9,  -1.6940
  320620070203,NBP0702,    72,  1,     13,     13,2,20070224,   0,-74.0210,-106.3320, 1194,     29.4,  -1.2290,  33.5760,2,-999.0000,9,    303.9,2,    293.1,2,  -999.00,9,  -999.00,9,  -999.00,  -999.00,9, -999.000,9,  -1.2297
  320620070203,NBP0702,    72,  1,     12,     12,2,20070224,   0,-74.0210,-106.3320, 1194,     29.4,  -1.2280,  33.5740,2,-999.0000,9,    314.4,2,   -999.0,9,    70.39,2,    23.99,2,     0.08,     2.11,2,    2.179,2,  -1.2287
  320620070203,NBP0702,    72,  1,     11,     11,2,20070224,   0,-74.0210,-106.3320, 1194,    149.5,  -1.6770,  33.9820,2,  33.9850,2,    278.2,2,   -999.0,9,  -999.00,9,  -999.00,9,  -999.00,  -999.00,9, -999.000,9,  -1.6801
  320620070203,NBP0702,    72,  1,     10,     10,2,20070224,   0,-74.0210,-106.3320, 1194,    149.5,  -1.6770,  33.9820,2,-999.0000,9,    278.1,2,   -999.0,9,    73.03,2,    27.41,2,     0.09,     2.10,2,    2.102,2,  -1.6801
  320620070203,NBP0702,    72,  1,      9,      9,2,20070224,   0,-74.0210,-106.3320, 1194,    350.0,  -0.0300,  34.3700,2,-999.0000,9,    212.1,2,   -999.0,9,  -999.00,9,  -999.00,9,  -999.00,  -999.00,9, -999.000,9,  -0.0432
  320620070203,NBP0702,    72,  1,      8,      8,2,20070224,   0,-74.0210,-106.3320, 1194,    350.0,  -0.0310,  34.3700,2,-999.0000,9,    212.3,2,   -999.0,9,  -999.00,9,  -999.00,9,  -999.00,  -999.00,9,    0.977,2,  -0.0441
  320620070203,NBP0702,    72,  1,      7,      7,2,20070224,   0,-74.0210,-106.3320, 1194,    549.7,   1.2320,  34.7090,2,-999.0000,9,    183.2,2,   -999.0,9,  -999.00,9,  -999.00,9,  -999.00,  -999.00,9, -999.000,9,   1.2043
  320620070203,NBP0702,    72,  1,      6,      6,2,20070224,   0,-74.0210,-106.3320, 1194,    549.7,   1.2320,  34.7090,2,-999.0000,9,    183.1,2,   -999.0,9,    96.12,2,    29.48,2,     0.00,     2.23,2,    0.123,2,   1.2043
  320620070203,NBP0702,    72,  1,      5,      5,2,20070224,   0,-74.0210,-106.3320, 1194,    699.7,   1.2090,  34.7170,2,-999.0000,9,    184.6,2,   -999.0,9,    99.93,2,    29.59,2,     0.00,     2.23,2, -999.000,9,   1.1729
  320620070203,NBP0702,    72,  1,      4,      4,2,20070224,   0,-74.0210,-106.3320, 1194,    899.6,   1.1770,  34.7190,2,  34.7210,2,    185.9,2,    184.1,2,  -999.00,9,  -999.00,9,  -999.00,  -999.00,9, -999.000,9,   1.1293
  320620070203,NBP0702,    72,  1,      3,      3,2,20070224,   0,-74.0210,-106.3320, 1194,    999.7,   1.1720,  34.7200,2,  34.7200,2,    186.1,2,    184.7,2,  -999.00,9,  -999.00,9,  -999.00,  -999.00,9, -999.000,9,   1.1182
  320620070203,NBP0702,    72,  1,      2,      2,2,20070224,   0,-74.0210,-106.3320, 1194,   1099.9,   1.1690,  34.7200,2,-999.0000,9,    186.1,2,   -999.0,9,   101.85,2,    29.97,2,     0.00,     2.23,2, -999.000,9,   1.1089
  320620070203,NBP0702,    72,  1,      1,      1,2,20070224,   0,-74.0210,-106.3320, 1194,   1184.1,   1.1710,  34.7200,2,  34.7200,2,    186.3,2,    188.3,2,  -999.00,9,  -999.00,9,  -999.00,  -999.00,9, -999.000,9,   1.1055
  320620070203,NBP0702,    73,  1,      7,      7,2,20070224,   0,-74.2090,-105.5790, 1654,      2.0,  -1.6170,  32.6360,2,-999.0000,9,    355.6,2,   -999.0,9,    50.17,2,    12.01,2,     0.14,     0.74,2, -999.000,9,  -1.6170
  320620070203,NBP0702,    73,  1,      6,      6,2,20070224,   0,-74.2090,-105.5790, 1654,     60.2,  -1.6820,  33.9040,2,-999.0000,9,    273.2,2,   -999.0,9,    72.85,2,    27.29,2,     0.11,     2.16,2, -999.000,9,  -1.6832
  320620070203,NBP0702,    73,  1,      5,      5,2,20070224,   0,-74.2090,-105.5790, 1654,    159.7,  -1.7210,  33.9800,2,  33.9940,2,    280.1,2,    277.9,2,    71.21,2,    27.24,2,     0.06,     2.10,2, -999.000,9,  -1.7243
  320620070203,NBP0702,    73,  1,      4,      4,2,20070224,   0,-74.2090,-105.5790, 1654,    599.1,   1.2080,  34.7060,2,  34.7080,2,    183.1,2,    183.2,2,    96.98,2,    29.20,2,     0.00,     2.24,2, -999.000,9,   1.1776
  320620070203,NBP0702,    73,  1,      3,      3,2,20070224,   0,-74.2090,-105.5790, 1654,   1599.2,   1.1940,  34.7200,2,  34.7200,2,    186.5,2,    184.1,2,    98.98,2,    29.20,2,     0.00,     2.21,2, -999.000,9,   1.0997
  320620070203,NBP0702,    73,  1,      2,      2,2,20070224,   0,-74.2090,-105.5790, 1654,   1599.3,   1.1940,  34.7200,2,-999.0000,9,    186.5,2,   -999.0,9,  -999.00,9,  -999.00,9,  -999.00,  -999.00,9,    0.120,2,   1.0997
  320620070203,NBP0702,    73,  1,      1,      1,2,20070224,   0,-74.2090,-105.5790, 1654,   1644.5,   1.1960,  34.7200,2,  34.7200,2,    186.5,2,    185.4,2,    98.98,2,    29.39,2,     0.00,     2.24,2, -999.000,9,   1.0984
  320620070203,NBP0702,    74,  1,     13,     13,2,20070224,   0,-74.3590,-104.7780, 1377,      2.0,  -1.5360,  32.6560,2,-999.0000,9,    355.3,2,    342.8,2,  -999.00,9,  -999.00,9,  -999.00,  -999.00,9, -999.000,9,  -1.5360
  320620070203,NBP0702,    74,  1,     12,     12,2,20070224,   0,-74.3590,-104.7780, 1377,     59.7,  -1.2460,  33.6580,2,-999.0000,9,    319.5,2,   -999.0,9,    71.82,2,    26.47,2,     0.09,     2.13,2, -999.000,9,  -1.2474
  320620070203,NBP0702,    74,  1,     11,     11,2,20070224,   0,-74.3590,-104.7780, 1377,     59.7,  -1.7440,  33.9170,2,-999.0000,9,    273.6,2,   -999.0,9,  -999.00,9,  -999.00,9,  -999.00,  -999.00,9,    2.271,2,  -1.7451
  320620070203,NBP0702,    74,  1,     10,     10,2,20070224,   0,-74.3590,-104.7780, 1377,    139.7,  -1.7040,  33.9860,2,  33.9870,2,    279.2,2,    277.0,2,  -999.00,9,  -999.00,9,  -999.00,  -999.00,9, -999.000,9,  -1.7069
  320620070203,NBP0702,    74,  1,      9,      9,2,20070224,   0,-74.3590,-104.7780, 1377,    139.7,  -1.7050,  33.9870,2,-999.0000,9,    279.3,2,   -999.0,9,    73.51,2,    27.14,2,     0.06,     2.12,2,    2.242,2,  -1.7079
  320620070203,NBP0702,    74,  1,      8,      8,2,20070224,   0,-74.3590,-104.7780, 1377,    290.1,  -0.1120,  34.3410,2,  34.3480,2,    212.1,2,    210.4,2,    89.00,2,    29.49,2,     0.00,     2.27,2, -999.000,9,  -0.1225
  320620070203,NBP0702,    74,  1,      7,      7,2,20070224,   0,-74.3590,-104.7780, 1377,    290.1,  -0.1140,  34.3420,2,-999.0000,9,    212.4,2,   -999.0,9,    84.01,2,    29.10,2,     0.06,     2.27,2,    1.009,2,  -0.1245
  320620070203,NBP0702,    74,  1,      6,      6,2,20070224,   0,-74.3590,-104.7780, 1377,    600.3,   1.0760,  34.6370,2,-999.0000,9,    184.4,2,   -999.0,9,  -999.00,9,  -999.00,9,  -999.00,  -999.00,9, -999.000,9,   1.0463
  320620070203,NBP0702,    74,  1,      5,      5,2,20070224,   0,-74.3590,-104.7780, 1377,    680.3,   1.2710,  34.6970,2,  34.6980,2,    181.6,2,    181.4,2,  -999.00,9,  -999.00,9,  -999.00,  -999.00,9, -999.000,9,   1.2357
  320620070203,NBP0702,    74,  1,      4,      4,2,20070224,   0,-74.3590,-104.7780, 1377,    680.3,   1.2710,  34.6970,2,-999.0000,9,    181.6,2,   -999.0,9,    90.50,2,    29.56,2,     0.00,     2.25,2,    0.185,2,   1.2357
  320620070203,NBP0702,    74,  1,      3,      3,2,20070224,   0,-74.3590,-104.7780, 1377,    899.7,   1.2110,  34.7130,2,  34.7130,2,    184.3,2,    183.2,2,  -999.00,9,  -999.00,9,  -999.00,  -999.00,9, -999.000,9,   1.1631
  320620070203,NBP0702,    74,  1,      2,      2,2,20070224,   0,-74.3590,-104.7780, 1377,    899.7,   1.2110,  34.7130,2,-999.0000,9,    184.3,2,   -999.0,9,    95.36,2,    29.20,2,     0.00,     2.24,2, -999.000,9,   1.1631
  320620070203,NBP0702,    74,  1,      1,      1,2,20070224,   0,-74.3590,-104.7780, 1377,   1366.7,   1.2140,  34.7180,2,-999.0000,9,    185.9,2,    186.6,2,    98.03,2,    29.58,2,     0.00,     2.24,2, -999.000,9,   1.1358
  320620070203,NBP0702,    75,  1,      9,      9,2,20070225,   0,-74.6160,-103.8380,  840,      9.7,  -1.5880,  33.3870,2,-999.0000,9,    330.8,2,    329.3,2,  -999.00,9,  -999.00,9,  -999.00,  -999.00,9, -999.000,9,  -1.5882
  320620070203,NBP0702,    75,  1,      8,      8,2,20070225,   0,-74.6160,-103.8380,  840,     19.8,  -1.5120,  33.7720,2,  33.8310,2,    301.4,2,    294.6,2,    72.70,2,    25.51,2,     0.08,     2.08,2, -999.000,9,  -1.5124
  320620070203,NBP0702,    75,  1,      7,      7,2,20070225,   0,-74.6160,-103.8380,  840,     94.5,  -1.6020,  33.9700,2,-999.0000,9,    277.3,2,    275.9,2,    76.42,2,    27.80,2,     0.08,     2.20,2, -999.000,9,  -1.6040
  320620070203,NBP0702,    75,  1,      6,      6,2,20070225,   0,-74.6160,-103.8380,  840,    176.5,  -1.2840,  34.0730,2,  34.0740,2,    258.1,2,    254.9,2,    80.60,2,    29.25,2,     0.05,     2.24,2, -999.000,9,  -1.2884
  320620070203,NBP0702,    75,  1,      5,      5,2,20070225,   0,-74.6160,-103.8380,  840,    187.4,  -0.9130,  34.1210,2,  34.1090,2,    233.6,2,    233.9,2,    84.99,2,    29.85,2,     0.03,     2.25,2, -999.000,9,  -0.9183
  320620070203,NBP0702,    75,  1,      4,      4,2,20070225,   0,-74.6160,-103.8380,  840,    209.8,  -1.0640,  34.1350,2,  34.1390,2,    249.6,2,    246.0,2,    81.17,2,    30.47,2,     0.07,     2.24,2, -999.000,9,  -1.0697
  320620070203,NBP0702,    75,  1,      3,      3,2,20070225,   0,-74.6160,-103.8380,  840,    299.8,  -0.4980,  34.2640,2,  34.2550,2,    228.7,2,    227.2,2,  -999.00,9,  -999.00,9,  -999.00,  -999.00,9, -999.000,9,  -0.5079
  320620070203,NBP0702,    75,  1,      2,      2,2,20070225,   0,-74.6160,-103.8380,  840,    699.9,   1.1870,  34.6740,2,  34.6750,2,    183.8,2,    184.3,2,    95.60,2,    31.31,2,     0.00,     2.30,2, -999.000,9,   1.1511
  320620070203,NBP0702,    75,  1,      1,      1,2,20070225,   0,-74.6160,-103.8380,  840,    829.7,   1.2100,  34.6820,2,  34.6820,2,    184.0,2,   -999.0,9,  -999.00,9,  -999.00,9,  -999.00,  -999.00,9, -999.000,9,   1.1664
  320620070203,NBP0702,    76,  1,     14,     14,2,20070225,   0,-74.5500,-103.1820, 1130,      4.3,  -1.4490,  33.0990,2,-999.0000,9,    359.4,2,    360.5,2,    58.63,2,    15.31,2,     0.12,     1.31,2, -999.000,9,  -1.4491
  320620070203,NBP0702,    76,  1,     13,     13,2,20070225,   0,-74.5500,-103.1820, 1130,     30.2,  -1.3480,  33.7290,2,-999.0000,9,    318.4,2,   -999.0,9,    71.19,2,    22.08,2,     0.07,     1.92,2, -999.000,9,  -1.3487
  320620070203,NBP0702,    76,  1,     12,     12,2,20070225,   0,-74.5500,-103.1820, 1130,     30.2,  -1.3480,  33.7290,2,  33.7290,2,    318.4,2,    319.9,2,    71.19,2,    22.08,2,     0.07,     1.92,2, -999.000,9,  -1.3487
  320620070203,NBP0702,    76,  1,     11,     11,2,20070225,   0,-74.5500,-103.1820, 1130,    101.0,  -1.6180,  33.9530,2,  33.9530,2,    277.5,2,    278.8,2,    75.94,2,    26.77,2,     0.08,     2.22,2, -999.000,9,  -1.6201
  320620070203,NBP0702,    76,  1,     10,     10,2,20070225,   0,-74.5500,-103.1820, 1130,    101.1,  -1.6170,  33.9510,2,-999.0000,9,    277.5,2,   -999.0,9,  -999.00,9,  -999.00,9,  -999.00,  -999.00,9,    2.308,2,  -1.6191
  320620070203,NBP0702,    76,  1,      9,      9,2,20070225,   0,-74.5500,-103.1820, 1130,    272.6,  -1.0660,  34.1020,2,-999.0000,9,    246.7,2,   -999.0,9,  -999.00,9,  -999.00,9,  -999.00,  -999.00,9,    1.571,2,  -1.0735
  320620070203,NBP0702,    76,  1,      8,      8,2,20070225,   0,-74.5500,-103.1820, 1130,    272.7,  -1.0910,  34.1010,2,  34.0930,2,    248.3,2,    252.3,2,    80.60,2,    28.65,2,     0.05,     2.28,2, -999.000,9,  -1.0984
  320620070203,NBP0702,    76,  1,      7,      7,2,20070225,   0,-74.5500,-103.1820, 1130,    285.0,  -0.7090,  34.1270,2,  34.1220,2,    224.7,2,    231.4,2,    86.23,2,    29.20,2,     0.02,     2.29,2, -999.000,9,  -0.7178
  320620070203,NBP0702,    76,  1,      6,      6,2,20070225,   0,-74.5500,-103.1820, 1130,    285.0,  -0.7540,  34.1270,2,-999.0000,9,    224.6,2,   -999.0,9,  -999.00,9,  -999.00,9,  -999.00,  -999.00,9,    1.151,2,  -0.7627
  320620070203,NBP0702,    76,  1,      5,      5,2,20070225,   0,-74.5500,-103.1820, 1130,    317.5,  -0.9150,  34.1550,2,  34.1640,2,    242.0,2,    240.0,2,    83.17,2,    29.40,2,     0.05,     2.29,2, -999.000,9,  -0.9243
  320620070203,NBP0702,    76,  1,      4,      4,2,20070225,   0,-74.5500,-103.1820, 1130,    317.6,  -0.9210,  34.1560,2,-999.0000,9,    242.2,2,   -999.0,9,  -999.00,9,  -999.00,9,  -999.00,  -999.00,9,    1.470,2,  -0.9303
  320620070203,NBP0702,    76,  1,      3,      3,2,20070225,   0,-74.5500,-103.1820, 1130,    549.8,   0.8410,  34.5740,2,  34.5810,2,    189.5,2,    188.7,2,    91.61,2,    30.74,2,    -0.02,     2.34,2, -999.000,9,   0.8152
  320620070203,NBP0702,    76,  1,      2,      2,2,20070225,   0,-74.5500,-103.1820, 1130,    700.3,   1.1320,  34.6550,2,  34.6550,2,    184.0,2,    183.9,2,    94.65,2,    30.83,2,    -0.03,     2.35,2,    0.541,2,   1.0964
  320620070203,NBP0702,    76,  1,      1,      1,2,20070225,   0,-74.5500,-103.1820, 1130,   1120.3,   1.2420,  34.6930,2,  34.6930,2,    183.2,2,    183.7,2,    97.98,2,    31.02,2,    -0.02,     2.33,2, -999.000,9,   1.1800
  320620070203,NBP0702,    77,  1,     13,     13,2,20070225,   0,-74.9750,-103.6550,  460,      2.0,  -1.6920,  33.3750,2,-999.0000,9,    338.5,2,   -999.0,9,    79.74,2,    18.01,2,     0.10,     1.52,2, -999.000,9,  -1.6920
  320620070203,NBP0702,    77,  1,     12,     12,2,20070225,   0,-74.9750,-103.6550,  460,     49.8,  -1.6310,  33.3830,2,-999.0000,9,    338.2,2,   -999.0,9,  -999.00,9,  -999.00,9,  -999.00,  -999.00,9,    2.812,2,  -1.6319
  320620070203,NBP0702,    77,  1,     11,     11,2,20070225,   0,-74.9750,-103.6550,  460,     49.9,  -1.6300,  33.3830,2,  33.4430,2,    338.1,2,    329.5,2,    81.64,2,    19.39,2,     0.09,     1.61,2, -999.000,9,  -1.6310
  320620070203,NBP0702,    77,  1,     10,     10,2,20070225,   0,-74.9750,-103.6550,  460,    115.7,  -0.8970,  33.9510,2,-999.0000,9,    215.5,2,    222.7,2,   100.96,2,    30.55,2,     0.03,     2.30,2, -999.000,9,  -0.9001
  320620070203,NBP0702,    77,  1,      9,      9,2,20070225,   0,-74.9750,-103.6550,  460,    147.1,  -1.5220,  33.9650,2,-999.0000,9,    271.1,2,    266.3,2,    89.79,2,    29.10,2,     0.10,     2.23,2, -999.000,9,  -1.5252
  320620070203,NBP0702,    77,  1,      8,      8,2,20070225,   0,-74.9750,-103.6550,  460,    147.1,  -1.5430,  33.9560,2,-999.0000,9,    279.6,2,   -999.0,9,  -999.00,9,  -999.00,9,  -999.00,  -999.00,9,    1.685,2,  -1.5462
  320620070203,NBP0702,    77,  1,      7,      7,2,20070225,   0,-74.9750,-103.6550,  460,    170.0,  -0.8970,  34.0100,2,-999.0000,9,    222.1,2,    229.6,2,    96.37,2,    30.33,2,     0.05,     2.28,2, -999.000,9,  -0.9017
  320620070203,NBP0702,    77,  1,      6,      6,2,20070225,   0,-74.9750,-103.6550,  460,    229.9,  -1.1440,  34.0390,2,-999.0000,9,    245.6,2,   -999.0,9,    91.01,2,    30.01,2,     0.02,     2.27,2, -999.000,9,  -1.1500
  320620070203,NBP0702,    77,  1,      5,      5,2,20070225,   0,-74.9750,-103.6550,  460,    249.5,  -1.1710,  34.0530,2,-999.0000,9,    246.4,2,   -999.0,9,  -999.00,9,  -999.00,9,  -999.00,  -999.00,9,    1.367,2,  -1.1776
  320620070203,NBP0702,    77,  1,      4,      4,2,20070225,   0,-74.9750,-103.6550,  460,    249.5,  -1.2060,  34.0500,2,  34.0510,2,    247.8,2,    247.3,2,    89.58,2,    29.88,2,     0.01,     2.27,2, -999.000,9,  -1.2125
  320620070203,NBP0702,    77,  1,      3,      3,2,20070225,   0,-74.9750,-103.6550,  460,    280.0,  -0.8890,  34.0860,2,  34.0980,2,    232.2,2,   -999.0,9,  -999.00,9,  -999.00,9,  -999.00,  -999.00,9, -999.000,9,  -0.8971
  320620070203,NBP0702,    77,  1,      2,      2,2,20070225,   0,-74.9750,-103.6550,  460,    374.5,  -0.2410,  34.2110,2,  34.2280,2,    204.1,2,    200.6,2,    98.05,2,    30.69,2,     0.00,     2.32,2, -999.000,9,  -0.2544
  320620070203,NBP0702,    77,  1,      1,      1,2,20070225,   0,-74.9750,-103.6550,  460,    449.8,   0.2550,  34.3620,2,  34.3400,2,    195.0,2,    197.6,2,    96.41,2,    30.55,2,     0.00,     2.33,2, -999.000,9,   0.2366