BOTTLE,202201227CCHSIOENA
EXPOCODE,SECT_ID,STNNBR,CASTNO,SAMPNO,BTLNBR,BTLNBR_FLAG_W,DATE,TIME,LATITUDE,LONGITUDE,DEPTH,CTDPRS,CTDTMP,CTDSAL,CTDSAL_FLAG_W,SALNTY,SALNTY_FLAG_W,CTDOXY,CTDOXY_FLAG_W,OXYGEN,OXYGEN_FLAG_W,SILCAT,SILCAT_FLAG_W,NITRAT,NITRAT_FLAG_W,NITRIT,PHSPHT,PHSPHT_FLAG_W,CFC-12,CFC-12_FLAG_W,THETA
,,,,,,,,,,,METERS,DBAR,ITS-90,PSS-78,,PSS-78,,UMOL/KG,,UMOL/KG,,UMOL/KG,,UMOL/KG,,UMOL/KG,UMOL/KG,,PMOL/KG,,DEG C
  320620070203,NBP0702,    78,  1,     12,     12,2,20070225,   0,-74.9350,-103.4740,  788,      2.0,  -1.7080,  33.3520,2,-999.0000,9,    340.2,2,   -999.0,9,    83.27,2,    17.75,2,     0.12,     1.52,2, -999.000,9,  -1.7080
  320620070203,NBP0702,    78,  1,     11,     11,2,20070225,   0,-74.9350,-103.4740,  788,     49.5,  -1.5690,  33.3810,2,  33.4450,2,    334.2,2,    327.0,2,    84.88,2,    18.96,2,     0.09,     1.63,2, -999.000,9,  -1.5700
  320620070203,NBP0702,    78,  1,     10,     10,2,20070225,   0,-74.9350,-103.4740,  788,     49.5,  -1.5690,  33.3810,2,-999.0000,9,    335.9,2,   -999.0,9,  -999.00,9,  -999.00,9,  -999.00,  -999.00,9,    2.683,2,  -1.5700
  320620070203,NBP0702,    78,  1,      9,      9,2,20070225,   0,-74.9350,-103.4740,  788,    114.5,  -0.9090,  33.9640,2,-999.0000,9,    213.0,2,    216.1,2,   106.68,2,    31.09,2,     0.02,     2.32,2, -999.000,9,  -0.9121
  320620070203,NBP0702,    78,  1,      8,      8,2,20070225,   0,-74.9350,-103.4740,  788,    170.0,  -1.1380,  34.0040,2,-999.0000,9,    240.1,2,    228.6,3,   102.86,2,    30.72,2,     0.05,     2.30,2, -999.000,9,  -1.1424
  320620070203,NBP0702,    78,  1,      7,      7,2,20070225,   0,-74.9350,-103.4740,  788,    184.0,  -0.6770,  34.0340,2,-999.0000,9,    208.1,2,   -999.0,9,  -999.00,9,  -999.00,9,  -999.00,  -999.00,9,    0.522,2,  -0.6825
  320620070203,NBP0702,    78,  1,      6,      6,2,20070225,   0,-74.9350,-103.4740,  788,    184.1,  -0.6780,  34.0350,2,  34.0390,2,    208.1,2,    210.9,2,   107.62,2,    31.28,2,     0.01,     2.32,2, -999.000,9,  -0.6835
  320620070203,NBP0702,    78,  1,      5,      5,2,20070225,   0,-74.9350,-103.4740,  788,    239.7,  -1.1140,  34.0700,2,-999.0000,9,    239.5,2,   -999.0,9,   100.94,2,    30.84,2,     0.00,     2.28,2, -999.000,9,  -1.1204
  320620070203,NBP0702,    78,  1,      4,      4,2,20070225,   0,-74.9350,-103.4740,  788,    239.7,  -1.1480,  34.0540,2,-999.0000,9,    243.6,2,   -999.0,9,  -999.00,9,  -999.00,9,  -999.00,  -999.00,9,    0.214,2,  -1.1543
  320620070203,NBP0702,    78,  1,      3,      3,2,20070225,   0,-74.9350,-103.4740,  788,    500.0,   0.2380,  34.3410,2,-999.0000,9,    193.0,2,   -999.0,9,  -999.00,9,  -999.00,9,  -999.00,  -999.00,9,    1.006,2,   0.2174
  320620070203,NBP0702,    78,  1,      2,      2,2,20070225,   0,-74.9350,-103.4740,  788,    500.0,   0.2380,  34.3410,2,  34.3500,2,    193.0,2,    192.7,2,   109.48,2,    31.75,2,     0.00,     2.33,2, -999.000,9,   0.2174
  320620070203,NBP0702,    78,  1,      1,      1,2,20070225,   0,-74.9350,-103.4740,  788,    777.5,   1.1780,  34.6860,2,  34.6950,2,    184.2,2,    183.7,2,   112.29,2,    31.88,2,     0.00,     2.36,2, -999.000,9,   1.1376
  320620070203,NBP0702,    79,  1,     11,     11,2,20070225,   0,-74.8680,-103.2060, 1076,      2.0,  -1.4320,  33.2960,2,-999.0000,9,    348.2,2,   -999.0,9,    63.78,2,    14.04,2,     0.11,     1.08,2, -999.000,9,  -1.4320
  320620070203,NBP0702,    79,  1,     10,     10,2,20070225,   0,-74.8680,-103.2060, 1076,     24.9,  -1.3670,  33.4380,2,  33.6210,2,    306.1,2,   -999.0,9,    79.99,2,    23.53,2,     0.06,     1.70,2, -999.000,9,  -1.3675
  320620070203,NBP0702,    79,  1,      9,      9,2,20070225,   0,-74.8680,-103.2060, 1076,     94.7,  -0.8590,  33.9530,2,-999.0000,9,    208.8,2,   -999.0,9,  -999.00,9,  -999.00,9,  -999.00,  -999.00,9,    0.481,2,  -0.8616
  320620070203,NBP0702,    79,  1,      8,      8,2,20070225,   0,-74.8680,-103.2060, 1076,     94.7,  -0.8600,  33.9520,2,  33.9580,2,    208.6,2,    210.2,2,    96.85,2,    30.93,2,     0.01,     2.16,2, -999.000,9,  -0.8626
  320620070203,NBP0702,    79,  1,      7,      7,2,20070225,   0,-74.8680,-103.2060, 1076,    169.6,  -0.8780,  34.0120,2,-999.0000,9,    217.6,2,    213.2,2,    94.74,2,    30.73,2,     0.01,     2.15,2, -999.000,9,  -0.8827
  320620070203,NBP0702,    79,  1,      6,      6,2,20070225,   0,-74.8680,-103.2060, 1076,    240.6,  -0.7680,  34.0770,2,-999.0000,9,    221.4,2,    220.3,2,    94.63,2,    30.83,2,     0.00,     2.13,2, -999.000,9,  -0.7752
  320620070203,NBP0702,    79,  1,      5,      5,2,20070225,   0,-74.8680,-103.2060, 1076,    499.0,   0.4670,  34.4390,2,-999.0000,9,    192.2,2,    192.1,2,    98.02,2,    31.69,2,     0.00,     2.19,2, -999.000,9,   0.4454
  320620070203,NBP0702,    79,  1,      4,      4,2,20070225,   0,-74.8680,-103.2060, 1076,    499.0,   0.4670,  34.4390,2,-999.0000,9,    192.3,2,   -999.0,9,  -999.00,9,  -999.00,9,  -999.00,  -999.00,9,    0.371,2,   0.4454
  320620070203,NBP0702,    79,  1,      3,      3,2,20070225,   0,-74.8680,-103.2060, 1076,    499.0,   0.4670,  34.4390,2,-999.0000,9,    192.2,2,   -999.0,9,  -999.00,9,  -999.00,9,  -999.00,  -999.00,9, -999.000,9,   0.4454
  320620070203,NBP0702,    79,  1,      2,      2,2,20070225,   0,-74.8680,-103.2060, 1076,    899.7,   1.2020,  34.6940,2,  34.6950,2,    184.4,2,   -999.0,9,  -999.00,9,  -999.00,9,  -999.00,  -999.00,9, -999.000,9,   1.1542
  320620070203,NBP0702,    79,  1,      1,      1,2,20070225,   0,-74.8680,-103.2060, 1076,   1065.5,   1.2120,  34.6970,2,  34.6980,2,    184.6,2,    183.6,2,   104.66,2,    31.78,2,     0.00,     2.20,2, -999.000,9,   1.1538
  320620070203,NBP0702,    80,  1,     11,     11,2,20070225,   0,-74.8010,-102.9450, 1014,      2.0,  -1.1070,  33.0860,2,-999.0000,9,    363.1,2,   -999.0,9,    63.90,2,    14.52,2,     0.11,     1.18,2, -999.000,9,  -1.1070
  320620070203,NBP0702,    80,  1,     10,     10,2,20070225,   0,-74.8010,-102.9450, 1014,     49.8,  -1.2090,  33.8240,2,  33.8370,2,    302.6,2,    300.6,2,    80.06,2,    24.75,2,     0.08,     1.93,2, -999.000,9,  -1.2102
  320620070203,NBP0702,    80,  1,      9,      9,2,20070225,   0,-74.8010,-102.9450, 1014,     49.8,  -1.2050,  33.8230,2,-999.0000,9,    304.1,2,   -999.0,9,  -999.00,9,  -999.00,9,  -999.00,  -999.00,9,    2.389,2,  -1.2062
  320620070203,NBP0702,    80,  1,      8,      8,2,20070225,   0,-74.8010,-102.9450, 1014,     99.8,  -0.9470,  33.9390,2,-999.0000,9,    213.8,2,    214.5,2,    95.89,2,    31.01,2,     0.01,     2.18,2, -999.000,9,  -0.9497
  320620070203,NBP0702,    80,  1,      7,      7,2,20070225,   0,-74.8010,-102.9450, 1014,    180.1,  -0.6000,  34.0420,2,-999.0000,9,    202.4,2,    204.9,2,    97.12,2,    31.13,2,     0.00,     2.18,2, -999.000,9,  -0.6055
  320620070203,NBP0702,    80,  1,      6,      6,2,20070225,   0,-74.8010,-102.9450, 1014,    219.6,  -0.8610,  34.0640,2,-999.0000,9,    224.7,2,    222.6,2,    93.49,2,    30.75,2,     0.00,     2.16,2, -999.000,9,  -0.8673
  320620070203,NBP0702,    80,  1,      5,      5,2,20070225,   0,-74.8010,-102.9450, 1014,    219.7,  -0.8490,  34.0710,2,-999.0000,9,    220.6,2,   -999.0,9,  -999.00,9,  -999.00,9,  -999.00,  -999.00,9,    0.882,2,  -0.8553
  320620070203,NBP0702,    80,  1,      4,      4,2,20070225,   0,-74.8010,-102.9450, 1014,    500.3,   0.5370,  34.4790,2,-999.0000,9,    193.9,2,   -999.0,9,  -999.00,9,  -999.00,9,  -999.00,  -999.00,9,    0.483,2,   0.5151
  320620070203,NBP0702,    80,  1,      3,      3,2,20070225,   0,-74.8010,-102.9450, 1014,    500.3,   0.5360,  34.4780,2,  34.4770,2,    194.0,2,    193.4,2,    98.49,2,    31.87,2,     0.00,     2.22,2, -999.000,9,   0.5141
  320620070203,NBP0702,    80,  1,      2,      2,2,20070225,   0,-74.8010,-102.9450, 1014,    800.0,   1.1940,  34.6810,2,  34.6860,2,    184.0,2,   -999.0,9,  -999.00,9,  -999.00,9,  -999.00,  -999.00,9, -999.000,9,   1.1522
  320620070203,NBP0702,    80,  1,      1,      1,2,20070225,   0,-74.8010,-102.9450, 1014,   1004.2,   1.2100,  34.6940,2,  34.6960,2,    184.6,2,    185.2,2,   102.76,2,    31.96,2,     0.00,     2.22,2, -999.000,9,   1.1557
  320620070203,NBP0702,    81,  1,     11,     11,2,20070225,   0,-74.7230,-102.6570, 1077,      2.0,  -0.9480,  33.0010,2,  33.0030,2,    366.9,2,    370.2,2,    60.27,2,    11.06,2,     0.13,     0.94,2, -999.000,9,  -0.9480
  320620070203,NBP0702,    81,  1,     10,     10,2,20070225,   0,-74.7230,-102.6570, 1077,     20.5,  -0.6240,  33.3110,2,-999.0000,9,    359.5,2,   -999.0,9,    73.14,2,    16.92,2,     0.09,     1.46,2, -999.000,9,  -0.6246
  320620070203,NBP0702,    81,  1,      9,      9,2,20070225,   0,-74.7230,-102.6570, 1077,     90.3,  -1.4970,  33.9110,2,-999.0000,9,    293.0,2,   -999.0,9,    80.62,2,    27.88,2,     0.10,     2.05,2, -999.000,9,  -1.4990
  320620070203,NBP0702,    81,  1,      8,      8,2,20070225,   0,-74.7230,-102.6570, 1077,    130.4,  -1.5720,  33.9460,2,  33.9500,2,    280.8,2,    283.7,2,    81.29,2,    28.26,2,     0.10,     2.06,2, -999.000,9,  -1.5748
  320620070203,NBP0702,    81,  1,      7,      7,2,20070225,   0,-74.7230,-102.6570, 1077,    170.6,  -1.6200,  33.9620,2,  33.9610,2,    279.6,2,    280.3,2,    81.10,2,    28.74,2,     0.10,     2.09,2, -999.000,9,  -1.6237
  320620070203,NBP0702,    81,  1,      6,      6,2,20070225,   0,-74.7230,-102.6570, 1077,    170.6,  -1.6200,  33.9620,2,-999.0000,9,    279.7,2,   -999.0,9,  -999.00,9,  -999.00,9,  -999.00,  -999.00,9,    2.375,2,  -1.6237
  320620070203,NBP0702,    81,  1,      5,      5,2,20070225,   0,-74.7230,-102.6570, 1077,    388.5,   0.2640,  34.3640,2,-999.0000,9,    194.8,2,   -999.0,9,  -999.00,9,  -999.00,9,  -999.00,  -999.00,9,    0.402,2,   0.2483
  320620070203,NBP0702,    81,  1,      4,      4,2,20070225,   0,-74.7230,-102.6570, 1077,    388.5,   0.2570,  34.3550,2,  34.3880,2,    193.8,2,    194.7,2,    98.98,2,    31.60,2,     0.00,     2.22,2, -999.000,9,   0.2413
  320620070203,NBP0702,    81,  1,      3,      3,2,20070225,   0,-74.7230,-102.6570, 1077,    800.5,   1.1930,  34.6830,2,-999.0000,9,    184.1,2,   -999.0,9,  -999.00,9,  -999.00,9,  -999.00,  -999.00,9,    0.176,2,   1.1512
  320620070203,NBP0702,    81,  1,      2,      2,2,20070225,   0,-74.7230,-102.6570, 1077,    800.5,   1.1940,  34.6830,2,  34.6860,2,    184.1,2,    183.2,2,   102.76,2,    31.96,2,     0.00,     2.23,2, -999.000,9,   1.1522
  320620070203,NBP0702,    81,  1,      1,      1,2,20070225,   0,-74.7230,-102.6570, 1077,   1067.0,   1.2140,  34.6930,2,  34.6940,2,    184.7,2,    184.4,2,   103.70,2,    31.96,2,     0.00,     2.23,2, -999.000,9,   1.1557
  320620070203,NBP0702,    82,  1,     13,     13,2,20070225,   0,-74.6660,-102.4140,  411,      2.0,  -0.9430,  32.9770,2,-999.0000,9,    366.8,2,   -999.0,9,  -999.00,9,  -999.00,9,  -999.00,  -999.00,9,    3.185,2,  -0.9430
  320620070203,NBP0702,    82,  1,     12,     12,2,20070225,   0,-74.6660,-102.4140,  411,      2.0,  -0.9430,  32.9770,2,-999.0000,9,    366.3,2,   -999.0,9,    62.57,2,    11.63,2,     0.14,     0.98,2, -999.000,9,  -0.9430
  320620070203,NBP0702,    82,  1,     11,     11,2,20070225,   0,-74.6660,-102.4140,  411,     14.7,  -0.4460,  33.3150,2,-999.0000,9,    365.3,2,   -999.0,9,    71.52,2,    15.48,2,     0.10,     1.36,2, -999.000,9,  -0.4464
  320620070203,NBP0702,    82,  1,     10,     10,2,20070225,   0,-74.6660,-102.4140,  411,    100.4,  -1.5960,  33.9210,2,  33.9150,2,    281.3,2,    282.3,2,    81.39,2,    28.08,2,     0.08,     2.09,2, -999.000,9,  -1.5981
  320620070203,NBP0702,    82,  1,      9,      9,2,20070225,   0,-74.6660,-102.4140,  411,    144.0,  -1.2360,  33.9760,2,  33.9760,2,    248.0,2,    257.2,2,    88.25,2,    30.17,2,     0.09,     2.14,2, -999.000,9,  -1.2395
  320620070203,NBP0702,    82,  1,      8,      8,2,20070225,   0,-74.6660,-102.4140,  411,    144.0,  -1.1810,  33.9720,2,-999.0000,9,    247.9,2,   -999.0,9,  -999.00,9,  -999.00,9,  -999.00,  -999.00,9,    1.567,2,  -1.1846
  320620070203,NBP0702,    82,  1,      7,      7,2,20070225,   0,-74.6660,-102.4140,  411,    200.4,  -1.5960,  33.9890,2,  33.9880,2,    276.9,2,    277.7,2,    83.19,2,    29.58,2,     0.11,     2.11,2, -999.000,9,  -1.6004
  320620070203,NBP0702,    82,  1,      6,      6,2,20070225,   0,-74.6660,-102.4140,  411,    200.4,  -1.5960,  33.9890,2,-999.0000,9,    276.9,2,   -999.0,9,  -999.00,9,  -999.00,9,  -999.00,  -999.00,9,    2.207,2,  -1.6004
  320620070203,NBP0702,    82,  1,      5,      5,2,20070225,   0,-74.6660,-102.4140,  411,    340.1,  -0.0700,  34.2430,2,  34.2370,2,    197.6,2,    197.7,2,    99.96,2,    31.69,2,     0.00,     2.22,2, -999.000,9,  -0.0825
  320620070203,NBP0702,    82,  1,      4,      4,2,20070225,   0,-74.6660,-102.4140,  411,    340.1,  -0.0640,  34.2480,2,-999.0000,9,    197.7,2,   -999.0,9,  -999.00,9,  -999.00,9,  -999.00,  -999.00,9,    0.374,2,  -0.0766
  320620070203,NBP0702,    82,  1,      3,      3,2,20070225,   0,-74.6660,-102.4140,  411,    370.2,   0.0030,  34.3280,2,  34.3390,2,    205.1,2,    204.8,2,    97.08,2,    32.16,2,     0.00,     2.21,2, -999.000,9,  -0.0111
  320620070203,NBP0702,    82,  1,      2,      2,2,20070225,   0,-74.6660,-102.4140,  411,    370.2,  -0.0950,  34.3110,2,-999.0000,9,    207.8,2,   -999.0,9,  -999.00,9,  -999.00,9,  -999.00,  -999.00,9,    0.745,2,  -0.1087
  320620070203,NBP0702,    82,  1,      1,      1,2,20070225,   0,-74.6660,-102.4140,  411,    400.6,   0.1850,  34.3950,2,  34.3440,2,    203.1,2,    202.9,2,    98.03,2,    32.45,2,     0.00,     2.22,2, -999.000,9,   0.1691
  320620070203,NBP0702,    83,  1,      3,      3,2,20070226,   0,-74.6200,-101.9190,  435,      9.5,  -0.4930,  33.4240,2,  33.4440,2,    362.6,2,    362.3,2,    70.17,2,    14.90,2,     0.11,     1.26,2, -999.000,9,  -0.4933
  320620070203,NBP0702,    83,  1,      2,      2,2,20070226,   0,-74.6200,-101.9190,  435,     99.7,  -1.0950,  33.8920,2,  33.8860,2,    221.2,2,    220.5,2,    96.14,2,    31.12,2,     0.00,     2.17,2, -999.000,9,  -1.0975
  320620070203,NBP0702,    83,  1,      1,      1,2,20070226,   0,-74.6200,-101.9190,  435,    424.9,   0.3610,  34.4280,2,  34.4140,2,    198.0,2,    198.6,2,  -999.00,9,  -999.00,9,  -999.00,  -999.00,9, -999.000,9,   0.3433
  320620070203,NBP0702,    84,  1,     12,     12,2,20070226,   0,-74.7840,-105.2660, 1484,      2.0,  -1.5630,  33.3520,2,  33.3660,2,    339.4,2,    343.3,2,    72.28,2,    17.66,2,     0.11,     1.37,2, -999.000,9,  -1.5630
  320620070203,NBP0702,    84,  1,     11,     11,2,20070226,   0,-74.7840,-105.2660, 1484,     20.4,  -1.5890,  33.3810,2,-999.0000,9,    339.2,2,   -999.0,9,    71.99,2,    17.76,2,     0.11,     1.37,2, -999.000,9,  -1.5894
  320620070203,NBP0702,    84,  1,     10,     10,2,20070226,   0,-74.7840,-105.2660, 1484,     80.0,  -0.9670,  33.7430,2,-999.0000,9,    295.7,2,   -999.0,9,  -999.00,9,  -999.00,9,  -999.00,  -999.00,9,    1.311,2,  -0.9691
  320620070203,NBP0702,    84,  1,      9,      9,2,20070226,   0,-74.7840,-105.2660, 1484,     80.0,  -0.9570,  33.7300,2,-999.0000,9,    295.0,2,   -999.0,9,    86.19,2,    25.05,2,     0.07,     1.96,2, -999.000,9,  -0.9591
  320620070203,NBP0702,    84,  1,      8,      8,2,20070226,   0,-74.7840,-105.2660, 1484,    244.1,  -1.2040,  34.0290,2,-999.0000,9,    247.2,2,   -999.0,9,  -999.00,9,  -999.00,9,  -999.00,  -999.00,9,    2.083,2,  -1.2103
  320620070203,NBP0702,    84,  1,      7,      7,2,20070226,   0,-74.7840,-105.2660, 1484,    244.1,  -1.2060,  34.0290,2,  34.0300,2,    247.2,2,    247.7,2,    91.39,2,    30.12,2,     0.04,  -999.00,9, -999.000,9,  -1.2123
  320620070203,NBP0702,    84,  1,      6,      6,2,20070226,   0,-74.7840,-105.2660, 1484,    349.7,  -0.4340,  34.1600,2,-999.0000,9,    210.5,2,   -999.0,9,  -999.00,9,  -999.00,9,  -999.00,  -999.00,9,    0.557,2,  -0.4458
  320620070203,NBP0702,    84,  1,      5,      5,2,20070226,   0,-74.7840,-105.2660, 1484,    349.7,  -0.4400,  34.1630,2,-999.0000,9,    210.0,2,    209.7,2,    99.01,2,    31.02,2,     0.01,     2.23,2, -999.000,9,  -0.4518
  320620070203,NBP0702,    84,  1,      4,      4,2,20070226,   0,-74.7840,-105.2660, 1484,    800.4,   1.1670,  34.6790,2,  34.6810,2,    184.1,2,    183.7,2,   103.70,2,    31.49,2,     0.00,     2.25,2, -999.000,9,   1.1254
  320620070203,NBP0702,    84,  1,      3,      3,2,20070226,   0,-74.7840,-105.2660, 1484,    800.4,   1.1640,  34.6780,2,-999.0000,9,    184.0,2,   -999.0,9,  -999.00,9,  -999.00,9,  -999.00,  -999.00,9,    0.110,2,   1.1224
  320620070203,NBP0702,    84,  1,      2,      2,2,20070226,   0,-74.7840,-105.2660, 1484,   1200.3,   1.1860,  34.6980,2,  34.6980,2,    184.3,2,    184.1,2,  -999.00,9,  -999.00,9,  -999.00,  -999.00,9, -999.000,9,   1.1193
  320620070203,NBP0702,    84,  1,      1,      1,2,20070226,   0,-74.7840,-105.2660, 1484,   1473.8,   1.1900,  34.7010,2,  34.7010,2,    185.2,2,    186.0,2,  -999.00,9,  -999.00,9,  -999.00,  -999.00,9, -999.000,9,   1.1047
  320620070203,NBP0702,    85,  1,     11,     11,2,20070227,   0,-73.5050,-107.8370,  705,      2.0,  -1.6350,  32.4600,2,-999.0000,9,    355.1,2,   -999.0,9,    60.23,2,     9.73,2,     0.13,     0.93,2, -999.000,9,  -1.6350
  320620070203,NBP0702,    85,  1,     10,     10,2,20070227,   0,-73.5050,-107.8370,  705,     25.1,  -0.7680,  33.2770,2,-999.0000,9,    339.2,2,   -999.0,9,    73.72,2,    17.88,2,     0.08,     1.56,2, -999.000,9,  -0.7687
  320620070203,NBP0702,    85,  1,      9,      9,2,20070227,   0,-73.5050,-107.8370,  705,     49.7,  -1.3600,  33.8450,2,-999.0000,9,    278.4,2,   -999.0,9,    85.21,2,    26.84,2,     0.09,     2.08,2, -999.000,9,  -1.3611
  320620070203,NBP0702,    85,  1,      8,      8,2,20070227,   0,-73.5050,-107.8370,  705,     99.6,  -1.4630,  33.9600,2,  33.9640,2,    259.0,2,    260.7,2,    88.16,2,    29.43,2,     0.07,     2.04,2, -999.000,9,  -1.4652
  320620070203,NBP0702,    85,  1,      7,      7,2,20070227,   0,-73.5050,-107.8370,  705,     99.6,  -1.4630,  33.9600,2,-999.0000,9,    259.5,2,   -999.0,9,  -999.00,9,  -999.00,9,  -999.00,  -999.00,9,    1.641,2,  -1.4652
  320620070203,NBP0702,    85,  1,      6,      6,2,20070227,   0,-73.5050,-107.8370,  705,    139.9,  -1.4270,  33.9950,2,-999.0000,9,    262.6,2,    266.2,2,    88.53,2,    29.38,2,     0.12,     2.12,2, -999.000,9,  -1.4302
  320620070203,NBP0702,    85,  1,      5,      5,2,20070227,   0,-73.5050,-107.8370,  705,    139.9,  -1.4260,  33.9960,2,-999.0000,9,    262.6,2,   -999.0,9,  -999.00,9,  -999.00,9,  -999.00,  -999.00,9,    1.838,2,  -1.4292
  320620070203,NBP0702,    85,  1,      4,      4,2,20070227,   0,-73.5050,-107.8370,  705,    279.8,  -0.7240,  34.2140,2,  34.2090,2,    234.7,2,    238.0,2,  -999.00,9,  -999.00,9,  -999.00,  -999.00,9, -999.000,9,  -0.7326
  320620070203,NBP0702,    85,  1,      3,      3,2,20070227,   0,-73.5050,-107.8370,  705,    539.8,   1.1800,  34.6820,2,-999.0000,9,    182.9,2,   -999.0,9,  -999.00,9,  -999.00,9,  -999.00,  -999.00,9,    0.232,2,   1.1531
  320620070203,NBP0702,    85,  1,      2,      2,2,20070227,   0,-73.5050,-107.8370,  705,    539.8,   1.1800,  34.6820,2,  34.6860,2,    183.0,2,    182.3,2,   105.62,2,    31.19,2,     0.00,     2.25,2, -999.000,9,   1.1531
  320620070203,NBP0702,    85,  1,      1,      1,2,20070227,   0,-73.5050,-107.8370,  705,    694.7,   1.1310,  34.7180,2,-999.0000,9,    179.5,2,   -999.0,9,   119.91,2,    31.61,2,     0.05,     2.41,2, -999.000,9,   1.0957