BOTTLE,202201227CCHSIOENA
EXPOCODE,SECT_ID,STNNBR,CASTNO,SAMPNO,BTLNBR,BTLNBR_FLAG_W,DATE,TIME,LATITUDE,LONGITUDE,DEPTH,CTDPRS,CTDTMP,CTDSAL,CTDSAL_FLAG_W,SALNTY,SALNTY_FLAG_W,CTDOXY,CTDOXY_FLAG_W,OXYGEN,OXYGEN_FLAG_W,SILCAT,SILCAT_FLAG_W,NITRAT,NITRAT_FLAG_W,NITRIT,PHSPHT,PHSPHT_FLAG_W,CFC-12,CFC-12_FLAG_W,THETA
,,,,,,,,,,,METERS,DBAR,ITS-90,PSS-78,,PSS-78,,UMOL/KG,,UMOL/KG,,UMOL/KG,,UMOL/KG,,UMOL/KG,UMOL/KG,,PMOL/KG,,DEG C
  320620070203,NBP0702,   115,  1,      6,      6,2,20070306,   0,-74.5070,-133.8380, 1014,      2.0,  -1.8140,  33.5690,2,  33.5760,2,    330.7,2,    332.0,2,    86.22,2,    23.14,2,     0.09,     1.82,2, -999.000,9,  -1.8140
  320620070203,NBP0702,   115,  1,      5,      5,2,20070306,   0,-74.5070,-133.8380, 1014,    199.5,  -1.6870,  33.9700,2,  33.9700,2,    264.9,2,    265.6,2,    92.47,2,    30.68,2,     0.08,     2.15,2, -999.000,9,  -1.6912
  320620070203,NBP0702,   115,  1,      4,      4,2,20070306,   0,-74.5070,-133.8380, 1014,    399.8,  -1.7050,  34.0920,2,  34.0940,2,    272.5,2,    273.1,2,    90.07,2,    30.54,2,     0.03,     2.16,2, -999.000,9,  -1.7143
  320620070203,NBP0702,   115,  1,      3,      3,2,20070306,   0,-74.5070,-133.8380, 1014,    560.1,  -0.4570,  34.2760,2,  34.2780,2,    224.5,2,    223.4,2,    97.01,2,    31.71,2,     0.00,     2.19,2, -999.000,9,  -0.4770
  320620070203,NBP0702,   115,  1,      2,      2,2,20070306,   0,-74.5070,-133.8380, 1014,    649.2,  -0.2980,  34.3430,2,  34.3470,2,    224.2,2,    222.1,2,    96.91,2,    31.99,2,     0.00,     2.21,2, -999.000,9,  -0.3227
  320620070203,NBP0702,   115,  1,      1,      1,2,20070306,   0,-74.5070,-133.8380, 1014,   1003.6,   0.3950,  34.5150,2,  34.5150,2,    208.7,2,    207.5,2,   101.27,2,    31.78,2,     0.00,     2.21,2, -999.000,9,   0.3476
  320620070203,NBP0702,   116,  1,      4,      4,2,20070306,   0,-74.4230,-134.3820,  644,     59.4,  -1.7750,  33.6180,2,  33.6220,2,    323.4,2,    326.4,2,  -999.00,9,  -999.00,9,  -999.00,  -999.00,9, -999.000,9,  -1.7761
  320620070203,NBP0702,   116,  1,      3,      3,2,20070306,   0,-74.4230,-134.3820,  644,    300.2,  -1.6750,  34.0510,2,  34.0510,2,    271.1,2,    272.9,2,  -999.00,9,  -999.00,9,  -999.00,  -999.00,9, -999.000,9,  -1.6817
  320620070203,NBP0702,   116,  1,      2,      2,2,20070306,   0,-74.4230,-134.3820,  644,    549.7,  -0.3300,  34.3080,2,  34.3100,2,    222.0,2,    222.6,2,  -999.00,9,  -999.00,9,  -999.00,  -999.00,9, -999.000,9,  -0.3502
  320620070203,NBP0702,   116,  1,      1,      1,2,20070306,   0,-74.4230,-134.3820,  644,    633.5,  -0.2000,  34.3490,2,  34.3510,2,    220.8,2,    219.5,2,  -999.00,9,  -999.00,9,  -999.00,  -999.00,9, -999.000,9,  -0.2245
  320620070203,NBP0702,   117,  1,      6,      6,2,20070306,   0,-74.1890,-134.4760,  559,      2.0,  -1.8180,  33.5700,2,  33.5670,2,    327.4,2,    331.6,2,    80.68,2,    23.43,2,     0.10,     1.82,2, -999.000,9,  -1.8180
  320620070203,NBP0702,   117,  1,      5,      5,2,20070306,   0,-74.1890,-134.4760,  559,     29.5,  -1.8110,  33.5720,2,  33.6090,2,    327.2,2,    326.1,2,    86.22,2,    23.69,2,     0.11,     1.86,2, -999.000,9,  -1.8115
  320620070203,NBP0702,   117,  1,      4,      4,2,20070306,   0,-74.1890,-134.4760,  559,     99.9,  -1.5970,  33.8430,2,  33.8560,2,    287.1,2,    286.8,2,    89.34,2,    27.71,2,     0.10,     2.09,2, -999.000,9,  -1.5991
  320620070203,NBP0702,   117,  1,      3,      3,2,20070306,   0,-74.1890,-134.4760,  559,    329.7,  -1.6590,  34.1130,2,  34.1110,2,    271.9,2,    273.8,2,    91.21,2,    30.66,2,     0.00,     2.15,2, -999.000,9,  -1.6666
  320620070203,NBP0702,   117,  1,      2,      2,2,20070306,   0,-74.1890,-134.4760,  559,    500.1,  -0.2080,  34.3510,2,  34.3570,2,    220.5,2,    220.2,2,    92.51,2,    32.17,2,     0.01,     2.24,2, -999.000,9,  -0.2267
  320620070203,NBP0702,   117,  1,      1,      1,2,20070306,   0,-74.1890,-134.4760,  559,    549.3,   0.6880,  34.6120,2,  34.6130,2,    203.7,2,    203.0,2,   104.12,2,    31.79,2,     0.00,     2.25,2, -999.000,9,   0.6628
  320620070203,NBP0702,   118,  1,      6,      6,2,20070306,   0,-73.9430,-134.5190,  475,      2.0,  -1.8290,  33.6320,2,-999.0000,9,    317.1,2,   -999.0,9,    75.52,2,    25.70,2,     0.09,     2.02,2, -999.000,9,  -1.8290
  320620070203,NBP0702,   118,  1,      5,      5,2,20070306,   0,-73.9430,-134.5190,  475,     30.4,  -1.8290,  33.6320,2,  33.6330,2,    317.7,2,    320.0,2,    76.28,2,    26.01,2,     0.08,     2.03,2, -999.000,9,  -1.8295
  320620070203,NBP0702,   118,  1,      4,      4,2,20070306,   0,-73.9430,-134.5190,  475,    149.7,  -1.7370,  34.0640,2,  34.0630,2,    274.0,2,    274.0,2,    81.29,2,    30.34,2,     0.03,     2.26,2, -999.000,9,  -1.7401
  320620070203,NBP0702,   118,  1,      3,      3,2,20070306,   0,-73.9430,-134.5190,  475,    249.9,  -1.7300,  34.1030,2,  34.1020,2,    275.8,2,    277.0,2,    86.73,2,    30.28,2,     0.00,     2.26,2, -999.000,9,  -1.7354
  320620070203,NBP0702,   118,  1,      2,      2,2,20070306,   0,-73.9430,-134.5190,  475,    415.5,  -0.2960,  34.3530,2,-999.0000,9,    226.5,2,   -999.0,9,    93.95,2,    31.60,2,     0.00,     2.34,2, -999.000,9,  -0.3109
  320620070203,NBP0702,   118,  1,      1,      1,2,20070306,   0,-73.9430,-134.5190,  475,    465.3,   0.4090,  34.5410,2,  34.5410,2,    209.8,2,    211.0,2,   100.50,2,    31.79,2,     0.00,     2.40,2, -999.000,9,   0.3892
  320620070203,NBP0702,   119,  1,      5,      5,2,20070306,   0,-73.7230,-134.1790,  405,      2.0,  -1.8190,  33.5980,2,-999.0000,9,    322.5,2,   -999.0,9,    73.23,2,    24.86,2,     0.08,     1.96,2, -999.000,9,  -1.8190
  320620070203,NBP0702,   119,  1,      4,      4,2,20070306,   0,-73.7230,-134.1790,  405,     60.0,  -1.6890,  33.9010,2,  33.9060,2,    282.0,2,    282.4,2,    84.18,2,    28.74,2,     0.11,     2.21,2, -999.000,9,  -1.6902
  320620070203,NBP0702,   119,  1,      3,      3,2,20070306,   0,-73.7230,-134.1790,  405,    150.2,  -1.7250,  34.0530,2,  34.0580,2,    270.6,2,    271.9,2,    85.87,2,    30.40,2,     0.17,     2.29,2, -999.000,9,  -1.7281
  320620070203,NBP0702,   119,  1,      2,      2,2,20070306,   0,-73.7230,-134.1790,  405,    319.8,  -1.7550,  34.1120,2,  34.1170,2,    276.1,2,    275.6,2,    90.25,2,    30.53,2,     0.02,     2.27,2, -999.000,9,  -1.7621
  320620070203,NBP0702,   119,  1,      1,      1,2,20070306,   0,-73.7230,-134.1790,  405,    394.8,  -1.2300,  34.1980,2,  34.1630,2,    253.0,2,    264.1,3,    88.15,2,    30.92,2,     0.02,     2.29,2, -999.000,9,  -1.2408
  320620070203,NBP0702,   120,  1,     10,     10,2,20070306,   0,-73.6600,-134.1750, 1010,      2.0,  -1.8110,  33.6150,2,  33.6260,2,    316.1,2,   -999.0,9,    78.10,2,    25.72,2,     0.08,     2.09,2, -999.000,9,  -1.8110
  320620070203,NBP0702,   120,  1,      9,      9,2,20070306,   0,-73.6600,-134.1750, 1010,     40.0,  -1.7880,  33.6900,2,-999.0000,9,    308.3,2,    303.1,2,  -999.00,9,  -999.00,9,  -999.00,  -999.00,9, -999.000,9,  -1.7887
  320620070203,NBP0702,   120,  1,      8,      8,2,20070306,   0,-73.6600,-134.1750, 1010,     40.0,  -1.8000,  33.6730,2,-999.0000,9,    309.2,2,   -999.0,9,    77.90,2,    27.52,2,     0.09,     2.16,2, -999.000,9,  -1.8007
  320620070203,NBP0702,   120,  1,      7,      7,2,20070306,   0,-73.6600,-134.1750, 1010,    120.3,  -1.7270,  34.0240,2,  34.0270,2,    272.2,2,   -999.0,9,    82.63,2,    30.20,2,     0.17,     2.29,2, -999.000,9,  -1.7294
  320620070203,NBP0702,   120,  1,      6,      6,2,20070306,   0,-73.6600,-134.1750, 1010,    240.1,  -1.7220,  34.0980,2,  34.0970,2,    271.9,2,    274.2,2,    87.59,2,    30.46,2,     0.00,     2.29,2, -999.000,9,  -1.7272
  320620070203,NBP0702,   120,  1,      5,      5,2,20070306,   0,-73.6600,-134.1750, 1010,    363.7,  -0.2460,  34.3440,2,-999.0000,9,    225.5,2,    224.9,2,    87.37,2,    31.98,2,     0.00,     2.37,2, -999.000,9,  -0.2590
  320620070203,NBP0702,   120,  1,      4,      4,2,20070306,   0,-73.6600,-134.1750, 1010,    424.0,   1.4230,  34.7120,2,  34.7090,2,    184.3,2,    184.1,2,    89.41,2,    31.59,2,     0.00,     2.39,2, -999.000,9,   1.4014
  320620070203,NBP0702,   120,  1,      3,      3,2,20070306,   0,-73.6600,-134.1750, 1010,    500.5,   1.3380,  34.7290,2,  34.7300,2,    186.0,2,   -999.0,9,   100.00,2,    31.69,2,     0.00,     2.33,2, -999.000,9,   1.3125
  320620070203,NBP0702,   120,  1,      2,      2,2,20070306,   0,-73.6600,-134.1750, 1010,    700.0,   1.0450,  34.7230,2,  34.7250,2,    193.2,2,   -999.0,9,   110.02,2,    31.88,2,     0.00,     2.37,2, -999.000,9,   1.0098
  320620070203,NBP0702,   120,  1,      1,      1,2,20070306,   0,-73.6600,-134.1750, 1010,   1000.0,   0.9430,  34.7200,2,  34.7210,2,    195.9,2,    197.1,2,   105.24,2,    31.70,2,     0.00,     2.35,2, -999.000,9,   0.8910
  320620070203,NBP0702,   121,  1,      7,      7,2,20070307,   0,-73.5490,-133.0090,  593,      2.0,  -1.8250,  33.6200,2,  33.6230,2,    317.0,2,    320.2,2,    77.62,2,    26.01,2,     0.08,     2.02,2, -999.000,9,  -1.8250
  320620070203,NBP0702,   121,  1,      6,      6,2,20070307,   0,-73.5490,-133.0090,  593,     19.8,  -1.8130,  33.6510,2,-999.0000,9,    314.1,2,    316.7,2,    75.90,2,    26.48,2,     0.08,     2.07,2, -999.000,9,  -1.8133
  320620070203,NBP0702,   121,  1,      5,      5,2,20070307,   0,-73.5490,-133.0090,  593,    240.0,  -1.2520,  34.1760,2,  34.1780,2,    253.2,2,    251.2,2,    88.05,2,    31.04,2,     0.00,     2.33,2, -999.000,9,  -1.2582
  320620070203,NBP0702,   121,  1,      4,      4,2,20070307,   0,-73.5490,-133.0090,  593,    376.8,   0.8780,  34.5760,2,-999.0000,9,    195.1,2,    195.6,2,    91.34,2,    32.17,2,     0.00,     2.42,2, -999.000,9,   0.8607
  320620070203,NBP0702,   121,  1,      3,      3,2,20070307,   0,-73.5490,-133.0090,  593,    442.2,   1.4070,  34.7170,2,  34.7150,2,    185.4,2,    184.6,2,    96.66,2,    31.98,2,     0.00,     2.36,2, -999.000,9,   1.3845
  320620070203,NBP0702,   121,  1,      2,      2,2,20070307,   0,-73.5490,-133.0090,  593,    530.2,   0.8790,  34.7190,2,  34.7200,2,    196.4,2,    197.2,2,   113.83,2,    31.88,2,     0.00,     2.39,2, -999.000,9,   0.8539
  320620070203,NBP0702,   121,  1,      1,      1,2,20070307,   0,-73.5490,-133.0090,  593,    583.0,   0.8060,  34.7170,2,  34.7170,2,    198.4,2,   -999.0,9,  -999.00,9,  -999.00,9,  -999.00,  -999.00,9, -999.000,9,   0.7785
  320620070203,NBP0702,   122,  1,      7,      7,2,20070307,   0,-73.6120,-132.6110,  464,      2.0,  -1.8130,  33.5260,2,  33.5290,2,    337.1,2,    340.6,2,    80.30,2,    22.56,2,     0.09,     1.79,2, -999.000,9,  -1.8130
  320620070203,NBP0702,   122,  1,      6,      6,2,20070307,   0,-73.6120,-132.6110,  464,     29.8,  -1.8160,  33.5300,2,  33.5750,2,    335.7,2,    335.6,2,    79.16,2,    23.91,2,     0.09,     1.90,2, -999.000,9,  -1.8165
  320620070203,NBP0702,   122,  1,      5,      5,2,20070307,   0,-73.6120,-132.6110,  464,     59.7,  -1.7080,  33.7900,2,  33.8560,2,    296.7,2,    289.7,2,    82.85,2,    28.09,2,     0.09,     2.25,2, -999.000,9,  -1.7092
  320620070203,NBP0702,   122,  1,      4,      4,2,20070307,   0,-73.6120,-132.6110,  464,    119.9,  -1.6960,  34.0200,2,  34.0190,2,    270.1,2,    272.1,2,    87.03,2,    30.40,2,     0.16,     2.29,2, -999.000,9,  -1.6984
  320620070203,NBP0702,   122,  1,      3,      3,2,20070307,   0,-73.6120,-132.6110,  464,    300.3,  -1.6640,  34.1100,2,  34.1090,2,    270.2,2,    272.0,2,    88.73,2,    30.93,2,     0.00,     2.29,2, -999.000,9,  -1.6708
  320620070203,NBP0702,   122,  1,      2,      2,2,20070307,   0,-73.6120,-132.6110,  464,    380.4,  -1.1960,  34.1950,2,  34.1960,2,    251.4,2,    250.0,2,    91.11,2,    31.38,2,     0.03,     2.34,2, -999.000,9,  -1.2065
  320620070203,NBP0702,   122,  1,      1,      1,2,20070307,   0,-73.6120,-132.6110,  464,    453.6,   1.0770,  34.7120,2,  34.7090,2,    192.4,2,    194.6,2,   107.16,2,    32.34,2,     0.00,     2.39,2, -999.000,9,   1.0551
  320620070203,NBP0702,   123,  1,      7,      7,2,20070307,   0,-73.4410,-132.0720,  448,      2.0,  -1.8200,  33.6880,2,-999.0000,9,    306.1,2,   -999.0,9,    74.66,2,    27.64,2,     0.07,     2.01,2, -999.000,9,  -1.8200
  320620070203,NBP0702,   123,  1,      6,      6,2,20070307,   0,-73.4410,-132.0720,  448,     29.6,  -1.8180,  33.6910,2,  33.6990,2,    305.7,2,    308.6,2,    75.32,2,    27.82,2,     0.08,     2.02,2, -999.000,9,  -1.8185
  320620070203,NBP0702,   123,  1,      5,      5,2,20070307,   0,-73.4410,-132.0720,  448,     99.6,  -1.6910,  34.0050,2,  34.0120,2,    269.2,2,    271.1,2,    86.65,2,    29.98,2,     0.11,     2.12,2, -999.000,9,  -1.6930
  320620070203,NBP0702,   123,  1,      4,      4,2,20070307,   0,-73.4410,-132.0720,  448,    199.8,  -1.7050,  34.0870,2,  34.0870,2,    267.2,2,    269.7,2,    88.93,2,    30.66,2,     0.00,     2.13,2, -999.000,9,  -1.7092
  320620070203,NBP0702,   123,  1,      3,      3,2,20070307,   0,-73.4410,-132.0720,  448,    259.0,  -1.5240,  34.1210,2,  34.1190,2,    262.9,2,    265.7,2,    87.69,2,    30.76,2,     0.00,     2.18,2, -999.000,9,  -1.5301
  320620070203,NBP0702,   123,  1,      2,      2,2,20070307,   0,-73.4410,-132.0720,  448,    379.9,   0.1390,  34.4240,2,  34.4310,2,    213.2,2,    212.2,2,    84.97,2,    31.71,2,     0.00,     2.25,2, -999.000,9,   0.1240
  320620070203,NBP0702,   123,  1,      1,      1,2,20070307,   0,-73.4410,-132.0720,  448,    437.8,   1.1550,  34.6820,2,  34.6800,2,    189.2,2,    189.7,2,    99.53,2,    31.80,2,     0.00,     2.23,2, -999.000,9,   1.1336
  320620070203,NBP0702,   124,  1,     11,     11,2,20070307,   0,-73.1480,-131.0350, 1032,      2.0,  -1.7940,  33.7120,2,-999.0000,9,    303.3,2,   -999.0,9,    81.72,2,    26.78,2,     0.07,     1.96,2, -999.000,9,  -1.7940
  320620070203,NBP0702,   124,  1,     10,     10,2,20070307,   0,-73.1480,-131.0350, 1032,     19.9,  -1.7940,  33.7150,2,  33.7120,2,    302.5,2,    305.6,2,    75.60,2,    26.68,2,     0.07,     1.99,2, -999.000,9,  -1.7944
  320620070203,NBP0702,   124,  1,      9,      9,2,20070307,   0,-73.1480,-131.0350, 1032,    100.2,  -1.6400,  33.9880,2,-999.0000,9,    265.7,2,    267.9,2,    90.27,2,    29.88,2,     0.11,     2.16,2, -999.000,9,  -1.6421
  320620070203,NBP0702,   124,  1,      8,      8,2,20070307,   0,-73.1480,-131.0350, 1032,    249.9,  -1.7480,  34.0890,2,  34.0900,2,    271.9,2,    273.7,2,    89.49,2,    30.46,2,     0.00,     2.15,2, -999.000,9,  -1.7533
  320620070203,NBP0702,   124,  1,      7,      7,2,20070307,   0,-73.1480,-131.0350, 1032,    319.9,  -1.7290,  34.1150,2,-999.0000,9,    274.3,2,    274.9,2,  -999.00,9,  -999.00,9,  -999.00,  -999.00,9, -999.000,9,  -1.7361
  320620070203,NBP0702,   124,  1,      6,      6,2,20070307,   0,-73.1480,-131.0350, 1032,    420.5,  -0.3790,  34.3340,2,-999.0000,9,    224.0,2,   -999.0,9,    93.29,2,    31.87,2,     0.01,     2.24,2, -999.000,9,  -0.3938
  320620070203,NBP0702,   124,  1,      5,      5,2,20070307,   0,-73.1480,-131.0350, 1032,    480.6,   1.3890,  34.7160,2,-999.0000,9,    184.7,2,   -999.0,9,    98.38,2,    31.69,2,     0.00,     2.23,2, -999.000,9,   1.3644
  320620070203,NBP0702,   124,  1,      4,      4,2,20070307,   0,-73.1480,-131.0350, 1032,    540.5,   1.2080,  34.7270,2,  34.7240,2,    189.0,2,    189.0,2,  -999.00,9,  -999.00,9,  -999.00,  -999.00,9, -999.000,9,   1.1809
  320620070203,NBP0702,   124,  1,      3,      3,2,20070307,   0,-73.1480,-131.0350, 1032,    700.6,   1.0120,  34.7220,2,  34.7220,2,    193.6,2,   -999.0,9,  -999.00,9,  -999.00,9,  -999.00,  -999.00,9, -999.000,9,   0.9770
  320620070203,NBP0702,   124,  1,      2,      2,2,20070307,   0,-73.1480,-131.0350, 1032,    950.5,   0.8670,  34.7170,2,  34.7180,2,    197.1,2,    196.2,2,   118.51,2,    31.99,2,     0.00,     2.25,2, -999.000,9,   0.8186
  320620070203,NBP0702,   124,  1,      1,      1,2,20070307,   0,-73.1480,-131.0350, 1032,   1021.8,   0.8400,  34.7170,2,  34.7160,2,    198.0,2,    198.5,2,  -999.00,9,  -999.00,9,  -999.00,  -999.00,9, -999.000,9,   0.7876
  320620070203,NBP0702,   125,  1,      7,      7,2,20070307,   0,-73.1930,-131.0140,  430,      2.0,  -1.7890,  33.7310,2,-999.0000,9,    298.3,2,   -999.0,9,    76.18,2,    26.88,2,     0.07,     2.01,2, -999.000,9,  -1.7890
  320620070203,NBP0702,   125,  1,      6,      6,2,20070307,   0,-73.1930,-131.0140,  430,     50.4,  -1.6500,  33.8870,2,  33.8910,2,    278.8,2,    279.3,2,    86.75,2,    28.21,2,     0.06,     2.10,2, -999.000,9,  -1.6510
  320620070203,NBP0702,   125,  1,      5,      5,2,20070307,   0,-73.1930,-131.0140,  430,    150.3,  -1.7070,  34.0330,2,  34.0320,2,    270.1,2,    271.7,2,    88.45,2,    30.30,2,     0.16,     2.13,2, -999.000,9,  -1.7101
  320620070203,NBP0702,   125,  1,      4,      4,2,20070307,   0,-73.1930,-131.0140,  430,    250.3,  -1.7480,  34.0840,2,  34.0790,2,    271.9,2,   -999.0,9,  -999.00,9,  -999.00,9,  -999.00,  -999.00,9, -999.000,9,  -1.7533
  320620070203,NBP0702,   125,  1,      3,      3,2,20070307,   0,-73.1930,-131.0140,  430,    350.4,  -1.7350,  34.1150,2,  34.1110,2,    275.2,2,    276.9,2,    84.34,2,    30.28,2,     0.00,     2.15,2, -999.000,9,  -1.7429
  320620070203,NBP0702,   125,  1,      2,      2,2,20070307,   0,-73.1930,-131.0140,  430,    400.2,  -1.4670,  34.1500,2,-999.0000,9,    263.0,2,   -999.0,9,    84.43,2,    30.74,2,     0.01,     2.17,2, -999.000,9,  -1.4772
  320620070203,NBP0702,   125,  1,      1,      1,2,20070307,   0,-73.1930,-131.0140,  430,    419.9,  -1.3470,  34.1660,2,  34.1610,2,    258.2,2,    259.1,2,    90.25,2,    30.83,2,     0.01,     2.16,2, -999.000,9,  -1.3582
  320620070203,NBP0702,   126,  1,      8,      8,2,20070308,   0,-73.0710,-129.9960,  440,      2.0,  -1.8210,  33.5810,2,  33.5770,2,    323.7,2,    328.0,2,    79.16,2,    24.66,2,     0.10,     1.82,2, -999.000,9,  -1.8210
  320620070203,NBP0702,   126,  1,      7,      7,2,20070308,   0,-73.0710,-129.9960,  440,     29.7,  -1.8020,  33.5990,2,  33.6550,2,    321.3,2,    316.4,2,    74.08,2,    25.52,2,     0.09,     1.90,2, -999.000,9,  -1.8025
  320620070203,NBP0702,   126,  1,      6,      6,2,20070308,   0,-73.0710,-129.9960,  440,     70.0,  -1.7110,  33.8760,2,-999.0000,9,    284.6,2,    286.3,2,    79.98,2,    28.47,2,     0.08,     2.07,2, -999.000,9,  -1.7124
  320620070203,NBP0702,   126,  1,      5,      5,2,20070308,   0,-73.0710,-129.9960,  440,    130.4,  -1.6670,  34.0180,2,  34.0180,2,    268.5,2,    270.3,2,    89.61,2,    30.05,2,     0.13,     2.15,2, -999.000,9,  -1.6697
  320620070203,NBP0702,   126,  1,      4,      4,2,20070308,   0,-73.0710,-129.9960,  440,    200.2,  -1.7150,  34.0790,2,  34.0760,2,    267.6,2,   -999.0,9,  -999.00,9,  -999.00,9,  -999.00,  -999.00,9, -999.000,9,  -1.7192
  320620070203,NBP0702,   126,  1,      3,      3,2,20070308,   0,-73.0710,-129.9960,  440,    350.2,  -0.9790,  34.2230,2,-999.0000,9,    243.6,2,    245.8,2,    93.01,2,    31.21,2,     0.00,     2.21,2, -999.000,9,  -0.9892
  320620070203,NBP0702,   126,  1,      2,      2,2,20070308,   0,-73.0710,-129.9960,  440,    399.6,  -0.5950,  34.3090,2,-999.0000,9,    230.1,2,    230.7,2,    92.43,2,    31.40,2,     0.01,     2.24,2, -999.000,9,  -0.6082
  320620070203,NBP0702,   126,  1,      1,      1,2,20070308,   0,-73.0710,-129.9960,  440,    430.5,   0.9730,  34.7130,2,  34.7020,2,    194.4,2,    198.7,2,   113.64,2,    31.79,2,     0.00,     2.24,2, -999.000,9,   0.9527