BOTTLE,202201227CCHSIOENA
EXPOCODE,SECT_ID,STNNBR,CASTNO,SAMPNO,BTLNBR,BTLNBR_FLAG_W,DATE,TIME,LATITUDE,LONGITUDE,DEPTH,CTDPRS,CTDTMP,CTDSAL,CTDSAL_FLAG_W,SALNTY,SALNTY_FLAG_W,CTDOXY,CTDOXY_FLAG_W,OXYGEN,OXYGEN_FLAG_W,SILCAT,SILCAT_FLAG_W,NITRAT,NITRAT_FLAG_W,NITRIT,PHSPHT,PHSPHT_FLAG_W,CFC-12,CFC-12_FLAG_W,THETA
,,,,,,,,,,,METERS,DBAR,ITS-90,PSS-78,,PSS-78,,UMOL/KG,,UMOL/KG,,UMOL/KG,,UMOL/KG,,UMOL/KG,UMOL/KG,,PMOL/KG,,DEG C
  320620070203,NBP0702,    86,  1,     13,     13,2,20070227,   0,-73.7500,-107.0060,  820,      2.0,  -1.5700,  32.6490,2,-999.0000,9,    367.0,2,   -999.0,9,    57.63,2,    10.96,2,     0.13,     0.86,2, -999.000,9,  -1.5700
  320620070203,NBP0702,    86,  1,     12,     12,2,20070227,   0,-73.7500,-107.0060,  820,     24.7,  -0.9950,  33.5860,2,-999.0000,9,    320.6,2,   -999.0,9,    79.42,2,    23.13,2,     0.08,     1.94,2, -999.000,9,  -0.9956
  320620070203,NBP0702,    86,  1,     11,     11,2,20070227,   0,-73.7500,-107.0060,  820,    100.0,  -1.6690,  33.9450,2,  33.9510,2,    276.3,2,    277.6,2,    84.25,2,    29.16,2,     0.16,     2.18,2, -999.000,9,  -1.6710
  320620070203,NBP0702,    86,  1,     10,     10,2,20070227,   0,-73.7500,-107.0060,  820,    139.8,  -1.6770,  33.9750,2,-999.0000,9,    277.6,2,   -999.0,9,  -999.00,9,  -999.00,9,  -999.00,  -999.00,9,    2.113,2,  -1.6799
  320620070203,NBP0702,    86,  1,      9,      9,2,20070227,   0,-73.7500,-107.0060,  820,    139.8,  -1.6770,  33.9740,2,  33.9830,2,    277.6,2,    277.3,2,    83.57,2,    29.26,2,     0.14,     2.13,2, -999.000,9,  -1.6799
  320620070203,NBP0702,    86,  1,      8,      8,2,20070227,   0,-73.7500,-107.0060,  820,    189.3,  -1.5670,  34.0200,2,  34.0170,2,    270.2,2,    271.7,2,  -999.00,9,  -999.00,9,  -999.00,  -999.00,9, -999.000,9,  -1.5712
  320620070203,NBP0702,    86,  1,      7,      7,2,20070227,   0,-73.7500,-107.0060,  820,    319.9,  -0.2780,  34.3000,2,-999.0000,9,    218.0,2,   -999.0,9,  -999.00,9,  -999.00,9,  -999.00,  -999.00,9,    1.055,2,  -0.2892
  320620070203,NBP0702,    86,  1,      6,      6,2,20070227,   0,-73.7500,-107.0060,  820,    319.9,  -0.2790,  34.3000,2,-999.0000,9,    218.1,2,   -999.0,9,    96.04,2,    31.15,2,     0.05,     2.27,2, -999.000,9,  -0.2902
  320620070203,NBP0702,    86,  1,      5,      5,2,20070227,   0,-73.7500,-107.0060,  820,    519.8,   1.1300,  34.6690,2,  34.6820,2,    183.7,2,    183.8,2,  -999.00,9,  -999.00,9,  -999.00,  -999.00,9, -999.000,9,   1.1044
  320620070203,NBP0702,    86,  1,      4,      4,2,20070227,   0,-73.7500,-107.0060,  820,    599.4,   1.2030,  34.7070,2,  34.7080,2,    183.9,2,    186.2,2,  -999.00,9,  -999.00,9,  -999.00,  -999.00,9, -999.000,9,   1.1727
  320620070203,NBP0702,    86,  1,      3,      3,2,20070227,   0,-73.7500,-107.0060,  820,    599.4,   1.2030,  34.7060,2,-999.0000,9,    184.0,2,   -999.0,9,   109.42,2,    31.29,2,     0.00,     2.27,2, -999.000,9,   1.1727
  320620070203,NBP0702,    86,  1,      2,      2,2,20070227,   0,-73.7500,-107.0060,  820,    599.5,   1.2030,  34.7070,2,-999.0000,9,    183.8,2,   -999.0,9,  -999.00,9,  -999.00,9,  -999.00,  -999.00,9,    0.112,2,   1.1726
  320620070203,NBP0702,    86,  1,      1,      1,2,20070227,   0,-73.7500,-107.0060,  820,    810.2,   1.1600,  34.7180,2,-999.0000,9,    184.2,2,   -999.0,9,   116.10,2,    31.85,2,     0.00,     2.28,2, -999.000,9,   1.1178
  320620070203,NBP0702,    87,  1,      9,      9,2,20070227,   0,-73.8660,-107.6060,  786,      2.0,  -1.6740,  32.6900,2,  32.7890,2,    361.4,2,   -999.0,9,    60.19,2,    12.50,2,     0.13,     0.88,2, -999.000,9,  -1.6740
  320620070203,NBP0702,    87,  1,      8,      8,2,20070227,   0,-73.8660,-107.6060,  786,     18.8,  -1.0290,  33.6970,2,-999.0000,9,    320.7,2,   -999.0,9,    81.89,2,    25.79,2,     0.10,     2.07,2, -999.000,9,  -1.0295
  320620070203,NBP0702,    87,  1,      7,      7,2,20070227,   0,-73.8660,-107.6060,  786,    150.2,  -1.6800,  33.9840,2,-999.0000,9,    278.7,2,   -999.0,9,  -999.00,9,  -999.00,9,  -999.00,  -999.00,9,    2.113,2,  -1.6831
  320620070203,NBP0702,    87,  1,      6,      6,2,20070227,   0,-73.8660,-107.6060,  786,    150.2,  -1.6800,  33.9830,2,  33.9820,2,    278.5,2,    278.5,2,    84.43,2,    29.35,2,     0.15,     2.15,2, -999.000,9,  -1.6831
  320620070203,NBP0702,    87,  1,      5,      5,2,20070227,   0,-73.8660,-107.6060,  786,    300.2,  -0.4910,  34.2670,2,-999.0000,9,    226.4,2,    226.5,2,    94.42,2,    31.25,2,     0.05,     2.26,2, -999.000,9,  -0.5009
  320620070203,NBP0702,    87,  1,      4,      4,2,20070227,   0,-73.8660,-107.6060,  786,    300.2,  -0.4920,  34.2670,2,-999.0000,9,    226.9,2,   -999.0,9,  -999.00,9,  -999.00,9,  -999.00,  -999.00,9,    1.293,2,  -0.5019
  320620070203,NBP0702,    87,  1,      3,      3,2,20070227,   0,-73.8660,-107.6060,  786,    640.5,   1.1740,  34.7030,2,  34.7030,2,    183.8,2,    185.4,2,  -999.00,9,  -999.00,9,  -999.00,  -999.00,9,    0.155,2,   1.1415
  320620070203,NBP0702,    87,  1,      2,      2,2,20070227,   0,-73.8660,-107.6060,  786,    640.6,   1.1730,  34.7030,2,  34.7030,2,    183.8,2,    182.6,2,   110.38,2,    31.29,2,     0.00,     2.28,2, -999.000,9,   1.1405
  320620070203,NBP0702,    87,  1,      1,      1,2,20070227,   0,-73.8660,-107.6060,  786,    776.1,   1.1700,  34.7120,2,  34.7120,2,    183.5,2,   -999.0,9,  -999.00,9,  -999.00,9,  -999.00,  -999.00,9, -999.000,9,   1.1297
  320620070203,NBP0702,    88,  1,      7,      7,2,20070228,   0,-74.0160,-108.3620,  337,      2.0,  -1.5960,  33.1100,2,  33.1190,2,    358.2,2,    360.0,2,    61.13,2,    13.34,2,     0.14,     0.98,2, -999.000,9,  -1.5960
  320620070203,NBP0702,    88,  1,      6,      6,2,20070228,   0,-74.0160,-108.3620,  337,      2.0,  -1.5970,  33.1060,2,-999.0000,9,    358.1,2,   -999.0,9,  -999.00,9,  -999.00,9,  -999.00,  -999.00,9,    3.174,2,  -1.5970
  320620070203,NBP0702,    88,  1,      5,      5,2,20070228,   0,-74.0160,-108.3620,  337,     69.5,  -1.1460,  33.7600,2,-999.0000,9,    292.6,2,    280.1,3,    87.99,2,    25.33,2,     0.07,     1.96,2, -999.000,9,  -1.1477
  320620070203,NBP0702,    88,  1,      4,      4,2,20070228,   0,-74.0160,-108.3620,  337,     89.8,  -1.2430,  33.8670,2,  33.8670,2,    259.1,2,    257.4,2,  -999.00,9,  -999.00,9,  -999.00,  -999.00,9, -999.000,9,  -1.2451
  320620070203,NBP0702,    88,  1,      3,      3,2,20070228,   0,-74.0160,-108.3620,  337,    159.7,  -1.2930,  33.9580,2,  33.9570,2,    253.2,2,    249.0,2,    94.47,2,    29.80,2,     0.08,     2.19,2, -999.000,9,  -1.2969
  320620070203,NBP0702,    88,  1,      2,      2,2,20070228,   0,-74.0160,-108.3620,  337,    159.8,  -1.2580,  33.9540,2,-999.0000,9,    251.6,2,   -999.0,9,  -999.00,9,  -999.00,9,  -999.00,  -999.00,9,    1.380,2,  -1.2619
  320620070203,NBP0702,    88,  1,      1,      1,2,20070228,   0,-74.0160,-108.3620,  337,    326.9,  -0.9040,  34.1410,2,  34.1270,2,    240.1,2,    241.9,2,    94.25,2,    30.31,2,     0.05,     2.22,2, -999.000,9,  -0.9136
  320620070203,NBP0702,    89,  1,      8,      8,2,20070228,   0,-74.0970,-108.6130,  738,      2.0,  -1.6650,  33.2040,2,  33.2020,2,    349.0,2,    356.6,2,    66.18,2,    13.92,2,     0.13,     1.07,2, -999.000,9,  -1.6650
  320620070203,NBP0702,    89,  1,      7,      7,2,20070228,   0,-74.0970,-108.6130,  738,    150.3,  -1.2700,  33.9280,2,  33.9380,2,    248.9,2,    252.5,2,    93.41,2,    29.42,2,     0.08,     2.19,2, -999.000,9,  -1.2736
  320620070203,NBP0702,    89,  1,      6,      6,2,20070228,   0,-74.0970,-108.6130,  738,    150.3,  -1.2700,  33.9280,2,  33.9330,2,    248.7,2,   -999.0,9,  -999.00,9,  -999.00,9,  -999.00,  -999.00,9,    1.375,2,  -1.2736
  320620070203,NBP0702,    89,  1,      5,      5,2,20070228,   0,-74.0970,-108.6130,  738,    289.7,  -1.3890,  34.0080,2,  34.0080,2,    260.3,2,    263.2,2,    91.69,2,    29.68,2,     0.10,     2.17,2, -999.000,9,  -1.3962
  320620070203,NBP0702,    89,  1,      4,      4,2,20070228,   0,-74.0970,-108.6130,  738,    289.7,  -1.3880,  34.0050,2,  34.0060,2,    260.7,2,   -999.0,9,  -999.00,9,  -999.00,9,  -999.00,  -999.00,9,    1.711,2,  -1.3952
  320620070203,NBP0702,    89,  1,      3,      3,2,20070228,   0,-74.0970,-108.6130,  738,    500.2,   0.5100,  34.4970,2,  34.5000,2,    195.3,2,    196.1,2,   103.74,2,    31.77,2,     0.00,     2.30,2, -999.000,9,   0.4882
  320620070203,NBP0702,    89,  1,      2,      2,2,20070228,   0,-74.0970,-108.6130,  738,    500.2,   0.5070,  34.4950,2,  34.4950,2,    195.2,2,   -999.0,9,  -999.00,9,  -999.00,9,  -999.00,  -999.00,9,    0.571,2,   0.4852
  320620070203,NBP0702,    89,  1,      1,      1,2,20070228,   0,-74.0970,-108.6130,  738,    727.9,   1.1600,  34.6900,2,  34.6880,2,    183.3,2,    184.3,2,   110.38,2,    31.28,2,     0.00,     2.29,2, -999.000,9,   1.1226
  320620070203,NBP0702,    90,  1,     11,     11,2,20070228,   0,-74.2190,-109.1250,  588,      2.0,  -1.4670,  33.1980,2,  33.2000,2,    343.8,2,    350.4,2,    61.97,2,    14.33,2,     0.11,     1.08,2, -999.000,9,  -1.4670
  320620070203,NBP0702,    90,  1,     10,     10,2,20070228,   0,-74.2190,-109.1250,  588,     29.9,  -1.1100,  33.4740,2,-999.0000,9,    315.6,2,   -999.0,9,    77.04,2,    21.33,2,     0.07,     1.61,2, -999.000,9,  -1.1107
  320620070203,NBP0702,    90,  1,      9,      9,2,20070228,   0,-74.2190,-109.1250,  588,     60.0,  -1.5140,  33.7880,2,-999.0000,9,    231.1,2,   -999.0,9,    92.67,2,    30.56,2,     0.00,     2.15,2, -999.000,9,  -1.5153
  320620070203,NBP0702,    90,  1,      8,      8,2,20070228,   0,-74.2190,-109.1250,  588,     60.0,  -1.5010,  33.7980,2,-999.0000,9,    230.4,2,   -999.0,9,  -999.00,9,  -999.00,9,  -999.00,  -999.00,9,    0.838,2,  -1.5023
  320620070203,NBP0702,    90,  1,      7,      7,2,20070228,   0,-74.2190,-109.1250,  588,    100.1,  -1.4100,  33.8430,2,  33.8430,2,    224.7,2,    227.6,2,    92.57,2,    30.57,2,     0.00,     2.14,2, -999.000,9,  -1.4122
  320620070203,NBP0702,    90,  1,      6,      6,2,20070228,   0,-74.2190,-109.1250,  588,    100.1,  -1.4090,  33.8420,2,-999.0000,9,    223.6,2,   -999.0,9,  -999.00,9,  -999.00,9,  -999.00,  -999.00,9,    0.776,2,  -1.4112
  320620070203,NBP0702,    90,  1,      5,      5,2,20070228,   0,-74.2190,-109.1250,  588,    239.8,  -1.5520,  33.9470,2,  33.9430,2,    255.5,2,    259.1,2,    86.92,2,    30.27,2,     0.00,     2.07,2, -999.000,9,  -1.5574
  320620070203,NBP0702,    90,  1,      4,      4,2,20070228,   0,-74.2190,-109.1250,  588,    239.9,  -1.5520,  33.9470,2,-999.0000,9,    255.4,2,   -999.0,9,  -999.00,9,  -999.00,9,  -999.00,  -999.00,9,    1.509,2,  -1.5574
  320620070203,NBP0702,    90,  1,      3,      3,2,20070228,   0,-74.2190,-109.1250,  588,    410.0,  -0.0890,  34.3220,2,  34.3090,2,    211.3,2,    214.0,2,    94.13,2,    31.41,2,     0.00,     2.18,2, -999.000,9,  -0.1044
  320620070203,NBP0702,    90,  1,      2,      2,2,20070228,   0,-74.2190,-109.1250,  588,    410.0,  -0.1380,  34.3200,2,-999.0000,9,    210.2,2,   -999.0,9,  -999.00,9,  -999.00,9,  -999.00,  -999.00,9,    0.751,2,  -0.1532
  320620070203,NBP0702,    90,  1,      1,      1,2,20070228,   0,-74.2190,-109.1250,  588,    578.2,   0.6160,  34.5270,2,  34.5230,2,    192.6,2,    196.6,2,  -999.00,9,  -999.00,9,  -999.00,  -999.00,9, -999.000,9,   0.5898
  320620070203,NBP0702,    91,  1,     11,     11,2,20070228,   0,-74.3180,-109.4350, 1011,      2.0,  -1.6740,  33.3390,2,-999.0000,9,    336.5,2,   -999.0,9,    71.80,2,    17.78,2,     0.09,     1.27,2, -999.000,9,  -1.6740
  320620070203,NBP0702,    91,  1,     10,     10,2,20070228,   0,-74.3180,-109.4350, 1011,     59.5,  -1.4500,  33.8340,2,  33.8380,2,    229.3,2,    233.7,2,    93.33,2,    30.84,2,     0.01,     2.18,2, -999.000,9,  -1.4513
  320620070203,NBP0702,    91,  1,      9,      9,2,20070228,   0,-74.3180,-109.4350, 1011,     99.6,  -1.4380,  33.8560,2,  33.8580,2,    230.4,2,   -999.0,9,  -999.00,9,  -999.00,9,  -999.00,  -999.00,9,    0.919,2,  -1.4402
  320620070203,NBP0702,    91,  1,      8,      8,2,20070228,   0,-74.3180,-109.4350, 1011,     99.6,  -1.4550,  33.8530,2,  33.8520,2,    231.5,2,    234.8,2,    93.05,2,    30.65,2,     0.00,     2.12,2, -999.000,9,  -1.4572
  320620070203,NBP0702,    91,  1,      7,      7,2,20070228,   0,-74.3180,-109.4350, 1011,    239.7,  -1.5910,  33.9440,2,  33.9460,2,    257.5,2,    260.1,2,    85.77,2,    30.17,2,    -0.01,     2.11,2, -999.000,9,  -1.5964
  320620070203,NBP0702,    91,  1,      6,      6,2,20070228,   0,-74.3180,-109.4350, 1011,    269.3,  -1.2240,  33.9930,2,  33.9950,2,    236.5,2,    241.2,2,    89.87,2,    30.28,2,    -0.02,     2.14,2, -999.000,9,  -1.2310
  320620070203,NBP0702,    91,  1,      5,      5,2,20070228,   0,-74.3180,-109.4350, 1011,    269.3,  -1.3050,  33.9860,2,  33.9940,2,    238.1,2,   -999.0,9,  -999.00,9,  -999.00,9,  -999.00,  -999.00,9, -999.000,9,  -1.3118
  320620070203,NBP0702,    91,  1,      4,      4,2,20070228,   0,-74.3180,-109.4350, 1011,    309.7,  -1.2320,  34.0440,2,-999.0000,9,    247.9,2,   -999.0,9,  -999.00,9,  -999.00,9,  -999.00,  -999.00,9,    1.437,2,  -1.2402
  320620070203,NBP0702,    91,  1,      3,      3,2,20070228,   0,-74.3180,-109.4350, 1011,    309.7,  -1.2530,  34.0300,2,-999.0000,9,    248.0,2,   -999.0,9,    89.11,2,    30.66,2,    -0.02,     2.15,2, -999.000,9,  -1.2611
  320620070203,NBP0702,    91,  1,      2,      2,2,20070228,   0,-74.3180,-109.4350, 1011,    720.2,   1.1500,  34.6950,2,  34.6960,2,    183.6,2,    185.4,2,   105.62,2,    31.59,2,    -0.02,     2.21,2, -999.000,9,   1.1131
  320620070203,NBP0702,    91,  1,      1,      1,2,20070228,   0,-74.3180,-109.4350, 1011,   1000.9,   1.1610,  34.7060,2,  34.7070,2,    183.2,2,    184.2,2,   108.48,2,    31.88,2,    -0.02,     2.23,2, -999.000,9,   1.1073
  320620070203,NBP0702,    92,  1,      9,      9,2,20070228,   0,-74.3660,-109.7850,  869,      2.0,  -1.7180,  33.5270,2,-999.0000,9,    315.8,2,   -999.0,9,    79.14,2,    22.00,2,     0.06,     1.54,2, -999.000,9,  -1.7180
  320620070203,NBP0702,    92,  1,      8,      8,2,20070228,   0,-74.3660,-109.7850,  869,     59.5,  -1.4850,  33.8090,2,-999.0000,9,    232.4,2,   -999.0,9,  -999.00,9,  -999.00,9,  -999.00,  -999.00,9,    0.918,2,  -1.4863
  320620070203,NBP0702,    92,  1,      7,      7,2,20070228,   0,-74.3660,-109.7850,  869,     59.5,  -1.4850,  33.8090,2,  33.8130,2,    232.4,2,   -999.0,9,    92.39,2,    30.45,2,     0.01,     2.15,2, -999.000,9,  -1.4863
  320620070203,NBP0702,    92,  1,      6,      6,2,20070228,   0,-74.3660,-109.7850,  869,    199.7,  -1.6470,  33.9260,2,  33.9280,2,    257.8,2,   -999.0,9,  -999.00,9,  -999.00,9,  -999.00,  -999.00,9, -999.000,9,  -1.6513
  320620070203,NBP0702,    92,  1,      5,      5,2,20070228,   0,-74.3660,-109.7850,  869,    217.4,  -1.5940,  33.9370,2,-999.0000,9,    256.6,2,   -999.0,9,  -999.00,9,  -999.00,9,  -999.00,  -999.00,9,    1.539,2,  -1.5988
  320620070203,NBP0702,    92,  1,      4,      4,2,20070228,   0,-74.3660,-109.7850,  869,    217.4,  -1.5960,  33.9370,2,  33.9360,2,    256.6,2,    260.3,2,    86.16,2,    29.98,2,     0.00,     2.08,2, -999.000,9,  -1.6008
  320620070203,NBP0702,    92,  1,      3,      3,2,20070228,   0,-74.3660,-109.7850,  869,    500.1,   0.2930,  34.4400,2,-999.0000,9,    196.8,2,   -999.0,9,  -999.00,9,  -999.00,9,  -999.00,  -999.00,9,    0.552,2,   0.2721
  320620070203,NBP0702,    92,  1,      2,      2,2,20070228,   0,-74.3660,-109.7850,  869,    500.1,   0.2770,  34.4340,2,  34.4380,2,    196.8,2,    199.2,2,    99.93,2,    31.97,2,     0.00,     2.24,2, -999.000,9,   0.2562
  320620070203,NBP0702,    92,  1,      1,      1,2,20070228,   0,-74.3660,-109.7850,  869,    858.9,   1.1710,  34.7020,2,  34.7030,2,    184.3,2,    187.7,2,   104.66,2,    31.59,2,     0.00,     2.23,2, -999.000,9,   1.1258
  320620070203,NBP0702,    93,  1,     10,     10,2,20070228,   0,-74.0550,-112.4380,  791,      2.0,  -1.5830,  33.6980,2,-999.0000,9,    332.6,2,   -999.0,9,    76.06,2,    22.86,2,     0.07,     1.66,2, -999.000,9,  -1.5830
  320620070203,NBP0702,    93,  1,      9,      9,2,20070228,   0,-74.0550,-112.4380,  791,    100.2,  -1.5110,  33.9180,2,-999.0000,9,    262.3,2,   -999.0,9,  -999.00,9,  -999.00,9,  -999.00,  -999.00,9,    1.570,2,  -1.5132
  320620070203,NBP0702,    93,  1,      8,      8,2,20070228,   0,-74.0550,-112.4380,  791,    100.2,  -1.5140,  33.9170,2,  33.9240,2,    262.7,2,    262.9,2,    86.25,2,    29.83,2,     0.06,     2.10,2, -999.000,9,  -1.5162
  320620070203,NBP0702,    93,  1,      7,      7,2,20070228,   0,-74.0550,-112.4380,  791,    299.9,  -1.2110,  34.1100,2,-999.0000,9,    242.7,2,   -999.0,9,  -999.00,9,  -999.00,9,  -999.00,  -999.00,9,    1.418,2,  -1.2190
  320620070203,NBP0702,    93,  1,      6,      6,2,20070228,   0,-74.0550,-112.4380,  791,    300.1,  -1.2110,  34.1110,2,  34.1090,2,    242.8,2,    244.5,2,    90.33,2,    30.93,2,     0.09,     2.16,2, -999.000,9,  -1.2190
  320620070203,NBP0702,    93,  1,      5,      5,2,20070228,   0,-74.0550,-112.4380,  791,    460.2,  -0.1400,  34.3260,2,-999.0000,9,    202.6,2,   -999.0,9,  -999.00,9,  -999.00,9,  -999.00,  -999.00,9,    0.594,2,  -0.1573
  320620070203,NBP0702,    93,  1,      4,      4,2,20070228,   0,-74.0550,-112.4380,  791,    460.3,  -0.1380,  34.3270,2,  34.3280,2,    202.4,2,    203.4,2,    99.94,2,    31.68,2,     0.00,     2.23,2, -999.000,9,  -0.1553
  320620070203,NBP0702,    93,  1,      3,      3,2,20070228,   0,-74.0550,-112.4380,  791,    649.8,   0.2380,  34.4340,2,-999.0000,9,    195.0,2,   -999.0,9,  -999.00,9,  -999.00,9,  -999.00,  -999.00,9,    0.448,2,   0.2103
  320620070203,NBP0702,    93,  1,      2,      2,2,20070228,   0,-74.0550,-112.4380,  791,    649.9,   0.2380,  34.4340,2,  34.4330,2,    195.0,2,    195.8,2,   103.74,2,    32.16,2,     0.00,     2.22,2, -999.000,9,   0.2103
  320620070203,NBP0702,    93,  1,      1,      1,2,20070228,   0,-74.0550,-112.4380,  791,    781.4,   0.4360,  34.5170,2,  34.5220,2,    193.9,2,    195.5,2,   104.68,2,    32.52,2,     0.01,     2.31,2, -999.000,9,   0.4004