BOTTLE,202201227CCHSIOENA
EXPOCODE,SECT_ID,STNNBR,CASTNO,SAMPNO,BTLNBR,BTLNBR_FLAG_W,DATE,TIME,LATITUDE,LONGITUDE,DEPTH,CTDPRS,CTDTMP,CTDSAL,CTDSAL_FLAG_W,SALNTY,SALNTY_FLAG_W,CTDOXY,CTDOXY_FLAG_W,OXYGEN,OXYGEN_FLAG_W,SILCAT,SILCAT_FLAG_W,NITRAT,NITRAT_FLAG_W,NITRIT,PHSPHT,PHSPHT_FLAG_W,CFC-12,CFC-12_FLAG_W,THETA
,,,,,,,,,,,METERS,DBAR,ITS-90,PSS-78,,PSS-78,,UMOL/KG,,UMOL/KG,,UMOL/KG,,UMOL/KG,,UMOL/KG,UMOL/KG,,PMOL/KG,,DEG C
  320620070203,NBP0702,    33,  1,     15,     15,2,20070212,   0,-76.9750,-155.5690, 1353,      2.0,  -1.3340,  33.1190,2,-999.0000,9,    376.4,2,    378.6,2,    65.04,2,    15.60,2,     0.17,     1.21,2, -999.000,9,  -1.3340
  320620070203,NBP0702,    33,  1,     14,     14,2,20070212,   0,-76.9750,-155.5690, 1353,     50.5,  -0.8280,  33.9400,2,-999.0000,9,    324.1,2,   -999.0,9,    82.91,2,    25.70,2,     0.08,     2.06,2, -999.000,9,  -0.8294
  320620070203,NBP0702,    33,  1,     13,     13,2,20070212,   0,-76.9750,-155.5690, 1353,     50.5,  -0.8130,  33.9370,2,  33.9530,2,    326.0,2,   -999.0,9,  -999.00,9,  -999.00,9,  -999.00,  -999.00,9, -999.000,9,  -0.8144
  320620070203,NBP0702,    33,  1,     12,     12,2,20070212,   0,-76.9750,-155.5690, 1353,    138.9,  -1.6020,  34.0380,2,-999.0000,9,    270.9,2,   -999.0,9,    84.71,2,    29.59,2,     0.09,     2.27,2, -999.000,9,  -1.6050
  320620070203,NBP0702,    33,  1,     11,     11,2,20070212,   0,-76.9750,-155.5690, 1353,    139.0,  -1.6020,  34.0380,2,-999.0000,9,    269.6,2,    270.7,2,  -999.00,9,  -999.00,9,  -999.00,  -999.00,9, -999.000,9,  -1.6050
  320620070203,NBP0702,    33,  1,     10,     10,2,20070212,   0,-76.9750,-155.5690, 1353,    200.2,  -1.6330,  34.0920,2,-999.0000,9,    271.9,2,   -999.0,9,    84.90,2,    29.76,2,     0.12,     2.29,2, -999.000,9,  -1.6374
  320620070203,NBP0702,    33,  1,      9,      9,2,20070212,   0,-76.9750,-155.5690, 1353,    380.5,  -1.7610,  34.1450,2,  34.1430,2,    278.5,2,   -999.0,9,  -999.00,9,  -999.00,9,  -999.00,  -999.00,9, -999.000,9,  -1.7696
  320620070203,NBP0702,    33,  1,      8,      8,2,20070212,   0,-76.9750,-155.5690, 1353,    380.6,  -1.7600,  34.1450,2,-999.0000,9,    278.5,2,    278.6,2,    84.61,2,    29.96,2,     0.00,     2.28,2, -999.000,9,  -1.7686
  320620070203,NBP0702,    33,  1,      7,      7,2,20070212,   0,-76.9750,-155.5690, 1353,    380.7,  -1.7610,  34.1450,2,-999.0000,9,    278.5,2,   -999.0,9,  -999.00,9,  -999.00,9,  -999.00,  -999.00,9, -999.000,9,  -1.7696
  320620070203,NBP0702,    33,  1,      6,      6,2,20070212,   0,-76.9750,-155.5690, 1353,    700.3,   0.9810,  34.6280,2,  34.6290,2,    191.0,2,    189.4,2,    96.94,2,    31.59,2,     0.00,     2.41,2, -999.000,9,   0.9463
  320620070203,NBP0702,    33,  1,      5,      5,2,20070212,   0,-76.9750,-155.5690, 1353,    700.5,   0.9800,  34.6280,2,  34.6270,2,    191.0,2,   -999.0,9,  -999.00,9,  -999.00,9,  -999.00,  -999.00,9, -999.000,9,   0.9453
  320620070203,NBP0702,    33,  1,      4,      4,2,20070212,   0,-76.9750,-155.5690, 1353,    900.6,   1.0780,  34.6510,2,-999.0000,9,    188.0,2,   -999.0,9,    98.85,2,    31.59,2,     0.00,     2.44,2, -999.000,9,   1.0311
  320620070203,NBP0702,    33,  1,      3,      3,2,20070212,   0,-76.9750,-155.5690, 1353,   1101.3,   1.1200,  34.6630,2,  34.6600,2,    186.7,2,    184.8,2,    99.80,2,    31.58,2,     0.00,     2.45,2, -999.000,9,   1.0604
  320620070203,NBP0702,    33,  1,      2,      2,2,20070212,   0,-76.9750,-155.5690, 1353,   1249.0,   1.1310,  34.6660,2,-999.0000,9,    186.0,2,   -999.0,9,   100.76,2,    31.69,2,     0.00,     2.45,2, -999.000,9,   1.0617
  320620070203,NBP0702,    33,  1,      1,      1,2,20070212,   0,-76.9750,-155.5690, 1353,   1343.3,   1.1380,  34.6660,2,  34.6640,2,    185.7,2,    186.4,2,   101.70,2,    32.15,2,     0.00,     2.47,2, -999.000,9,   1.0624
  320620070203,NBP0702,    34,  1,      9,      9,2,20070213,   0,-76.9600,-153.1410, 1394,      2.0,  -1.2310,  33.4100,2,-999.0000,9,    360.3,2,    362.2,2,    69.50,2,    18.98,2,     0.13,     1.45,2, -999.000,9,  -1.2310
  320620070203,NBP0702,    34,  1,      8,      8,2,20070213,   0,-76.9600,-153.1410, 1394,     20.3,  -1.2430,  33.4130,2,  33.4320,2,    360.9,2,   -999.0,9,    68.83,2,    18.79,2,     0.13,     1.49,2, -999.000,9,  -1.2435
  320620070203,NBP0702,    34,  1,      7,      7,2,20070213,   0,-76.9600,-153.1410, 1394,    102.7,  -1.6340,  34.0050,2,-999.0000,9,    265.2,2,   -999.0,9,    84.72,2,    29.78,2,     0.00,     2.32,2, -999.000,9,  -1.6361
  320620070203,NBP0702,    34,  1,      6,      6,2,20070213,   0,-76.9600,-153.1410, 1394,    157.4,  -1.6910,  34.0630,2,  34.0730,2,    279.4,2,    279.7,2,    83.18,2,    29.33,2,     0.07,     2.29,2, -999.000,9,  -1.6943
  320620070203,NBP0702,    34,  1,      5,      5,2,20070213,   0,-76.9600,-153.1410, 1394,    250.4,  -1.7410,  34.1200,2,-999.0000,9,    279.7,2,   -999.0,9,    82.60,2,    29.39,2,     0.01,     2.30,2, -999.000,9,  -1.7464
  320620070203,NBP0702,    34,  1,      4,      4,2,20070213,   0,-76.9600,-153.1410, 1394,    420.6,  -1.7420,  34.1540,2,  34.1520,2,    281.1,2,    280.9,2,    84.61,2,    29.69,2,     0.00,     2.33,2, -999.000,9,  -1.7518
  320620070203,NBP0702,    34,  1,      3,      3,2,20070213,   0,-76.9600,-153.1410, 1394,    600.4,  -1.0860,  34.2420,2,  34.2430,2,    255.1,2,    253.5,2,    88.13,2,    30.65,2,     0.00,     2.34,2, -999.000,9,  -1.1044
  320620070203,NBP0702,    34,  1,      2,      2,2,20070213,   0,-76.9600,-153.1410, 1394,   1000.7,   0.1120,  34.4470,2,  34.4480,2,    219.6,2,    216.7,2,    90.96,2,    31.11,2,     0.00,     2.41,2, -999.000,9,   0.0672
  320620070203,NBP0702,    34,  1,      1,      1,2,20070213,   0,-76.9600,-153.1410, 1394,   1383.9,   0.1960,  34.4720,2,  34.4700,2,    217.9,2,    215.8,2,    92.01,2,    31.22,2,     0.00,     2.42,2, -999.000,9,   0.1285
  320620070203,NBP0702,    35,  1,      9,      9,2,20070214,   0,-75.5600,-146.5410,  702,      2.0,  -1.3930,  33.8010,2,-999.0000,9,    336.0,2,   -999.0,9,    81.12,2,    24.28,2,     0.07,     1.82,2, -999.000,9,  -1.3930
  320620070203,NBP0702,    35,  1,      8,      8,2,20070214,   0,-75.5600,-146.5410,  702,     20.4,  -1.3930,  33.8010,2,  33.8010,2,    336.4,2,    337.5,2,    81.21,2,    24.57,2,     0.07,     1.82,2, -999.000,9,  -1.3934
  320620070203,NBP0702,    35,  1,      7,      7,2,20070214,   0,-75.5600,-146.5410,  702,     90.5,  -1.3890,  33.8110,2,-999.0000,9,    335.4,2,   -999.0,9,    80.83,2,    24.57,2,     0.08,     1.87,2, -999.000,9,  -1.3910
  320620070203,NBP0702,    35,  1,      6,      6,2,20070214,   0,-75.5600,-146.5410,  702,    180.4,  -1.5800,  33.9770,2,-999.0000,9,    291.1,2,   -999.0,9,    85.49,2,    28.31,2,     0.05,     2.13,2, -999.000,9,  -1.5840
  320620070203,NBP0702,    35,  1,      5,      5,2,20070214,   0,-75.5600,-146.5410,  702,    280.1,  -1.7290,  34.0580,2,-999.0000,9,    277.2,2,   -999.0,9,    85.57,2,    29.54,2,     0.06,     2.21,2, -999.000,9,  -1.7351
  320620070203,NBP0702,    35,  1,      4,      4,2,20070214,   0,-75.5600,-146.5410,  702,    350.6,  -1.7800,  34.1020,2,  34.0990,2,    280.8,2,    280.7,2,    83.85,2,    29.84,2,     0.04,     2.18,2, -999.000,9,  -1.7877
  320620070203,NBP0702,    35,  1,      3,      3,2,20070214,   0,-75.5600,-146.5410,  702,    350.6,  -1.7790,  34.1000,2,  34.1010,2,    280.9,2,   -999.0,9,  -999.00,9,  -999.00,9,  -999.00,  -999.00,9, -999.000,9,  -1.7868
  320620070203,NBP0702,    35,  1,      2,      2,2,20070214,   0,-75.5600,-146.5410,  702,    601.0,  -1.5070,  34.1670,2,  34.1650,2,    269.9,2,    272.6,2,    85.17,2,    30.07,2,     0.00,     2.19,2, -999.000,9,  -1.5232
  320620070203,NBP0702,    35,  1,      1,      1,2,20070214,   0,-75.5600,-146.5410,  702,    691.6,  -1.3630,  34.1870,2,  34.1870,2,    263.8,2,    266.3,2,    85.55,2,    30.93,2,     0.00,     2.19,2, -999.000,9,  -1.3831
  320620070203,NBP0702,    36,  1,      6,      6,2,20070215,   0,-75.3760,-143.8000,  705,      2.0,  -1.7980,  33.9550,2,  33.9530,2,    270.3,2,    269.4,2,    89.31,2,    29.97,2,     0.01,     2.22,2, -999.000,9,  -1.7980
  320620070203,NBP0702,    36,  1,      5,      5,2,20070215,   0,-75.3760,-143.8000,  705,    100.2,  -1.7490,  33.9690,2,  33.9710,2,    272.3,2,    269.2,2,  -999.00,9,  -999.00,9,  -999.00,  -999.00,9, -999.000,9,  -1.7510
  320620070203,NBP0702,    36,  1,      4,      4,2,20070215,   0,-75.3760,-143.8000,  705,    200.4,  -1.6750,  34.0270,2,  34.0270,2,    259.6,2,    259.4,2,    88.43,2,    29.99,2,     0.00,     2.26,2, -999.000,9,  -1.6793
  320620070203,NBP0702,    36,  1,      3,      3,2,20070215,   0,-75.3760,-143.8000,  705,    300.4,  -1.7090,  34.0710,2,  34.0700,2,    268.6,2,    267.5,2,    87.19,2,    29.89,2,     0.00,     2.26,2, -999.000,9,  -1.7157
  320620070203,NBP0702,    36,  1,      2,      2,2,20070215,   0,-75.3760,-143.8000,  705,    500.3,  -1.6150,  34.1520,2,  34.1560,2,    276.6,2,    274.3,2,    85.46,2,    29.89,2,     0.00,     2.23,2, -999.000,9,  -1.6276
  320620070203,NBP0702,    36,  1,      1,      1,2,20070215,   0,-75.3760,-143.8000,  705,    695.3,  -1.3200,  34.2020,2,  34.2010,2,    266.4,2,    263.5,2,    87.55,2,    30.17,2,     0.00,     2.24,2, -999.000,9,  -1.3406
  320620070203,NBP0702,    37,  1,      6,      6,2,20070215,   0,-75.4470,-145.4290, 1015,      2.0,  -1.5670,  33.8920,2,  33.8950,2,    321.1,2,    319.4,2,    84.45,2,    27.25,2,     0.06,     1.96,2, -999.000,9,  -1.5670
  320620070203,NBP0702,    37,  1,      5,      5,2,20070215,   0,-75.4470,-145.4290, 1015,     59.2,  -1.5380,  33.9140,2,  33.9140,2,    318.2,2,    316.2,2,    85.30,2,    27.36,2,     0.05,     2.04,2, -999.000,9,  -1.5392
  320620070203,NBP0702,    37,  1,      4,      4,2,20070215,   0,-75.4470,-145.4290, 1015,    199.7,  -1.7170,  34.0170,2,  34.0160,2,    275.8,2,   -999.0,9,    87.29,2,    29.48,2,     0.03,     2.31,2, -999.000,9,  -1.7212
  320620070203,NBP0702,    37,  1,      3,      3,2,20070215,   0,-75.4470,-145.4290, 1015,    399.6,  -1.7420,  34.1120,2,  34.1120,2,    278.4,2,    276.9,2,    85.09,2,    29.59,2,     0.00,     2.21,2, -999.000,9,  -1.7512
  320620070203,NBP0702,    37,  1,      2,      2,2,20070215,   0,-75.4470,-145.4290, 1015,    499.6,  -1.6230,  34.1500,2,  34.1510,2,    275.4,2,    273.4,2,    85.32,2,    29.78,2,     0.00,     2.25,2, -999.000,9,  -1.6355
  320620070203,NBP0702,    37,  1,      1,      1,2,20070215,   0,-75.4470,-145.4290, 1015,   1004.8,  -0.5730,  34.2960,2,  34.2970,2,    242.7,2,    238.2,2,    85.45,2,    30.83,2,     0.00,     2.29,2, -999.000,9,  -0.6120
  320620070203,NBP0702,    38,  1,      7,      7,2,20070215,   0,-75.1410,-146.2440,  418,      2.0,  -1.7200,  33.7020,2,  33.6970,2,    320.8,2,    320.1,2,    72.72,2,    26.74,2,     0.10,     1.86,2, -999.000,9,  -1.7200
  320620070203,NBP0702,    38,  1,      6,      6,2,20070215,   0,-75.1410,-146.2440,  418,     20.1,  -1.7400,  33.7040,2,  33.7310,2,    320.4,2,    312.9,2,    72.72,2,    26.84,2,     0.10,     1.88,2, -999.000,9,  -1.7404
  320620070203,NBP0702,    38,  1,      5,      5,2,20070215,   0,-75.1410,-146.2440,  418,    140.1,  -1.7510,  34.0710,2,  34.0710,2,    276.8,2,    274.8,2,    82.32,2,    29.46,2,     0.04,     1.98,2, -999.000,9,  -1.7538
  320620070203,NBP0702,    38,  1,      4,      4,2,20070215,   0,-75.1410,-146.2440,  418,    259.7,  -1.6780,  34.1200,2,  34.1230,2,    273.4,2,    269.3,2,    84.89,2,    29.98,2,     0.00,     2.04,2, -999.000,9,  -1.6837
  320620070203,NBP0702,    38,  1,      3,      3,2,20070215,   0,-75.1410,-146.2440,  418,    340.3,  -1.2310,  34.1880,2,  34.1910,2,    258.4,2,    254.8,2,    84.79,2,    30.36,2,     0.00,     2.07,2, -999.000,9,  -1.2402
  320620070203,NBP0702,    38,  1,      2,      2,2,20070215,   0,-75.1410,-146.2440,  418,    379.6,  -1.2660,  34.2010,2,  34.2040,2,    262.5,2,    257.6,2,    84.12,2,    30.27,2,     0.00,     2.08,2, -999.000,9,  -1.2763
  320620070203,NBP0702,    38,  1,      1,      1,2,20070215,   0,-75.1410,-146.2440,  418,    408.5,  -1.2170,  34.2070,2,  34.2090,2,    261.2,2,    257.7,2,    83.45,2,    30.17,2,     0.00,     2.10,2, -999.000,9,  -1.2283
  320620070203,NBP0702,    39,  1,     14,     14,2,20070215,   0,-75.0900,-146.4010, 1543,      2.0,  -1.7420,  33.7010,2,-999.0000,9,    316.8,2,   -999.0,9,    72.06,2,    26.74,2,     0.10,     1.90,2, -999.000,9,  -1.7420
  320620070203,NBP0702,    39,  1,     13,     13,2,20070215,   0,-75.0900,-146.4010, 1543,     20.1,  -1.7700,  33.7620,2,  33.7680,2,    308.3,2,    306.2,2,    74.72,2,    27.51,2,     0.09,     1.93,2, -999.000,9,  -1.7704
  320620070203,NBP0702,    39,  1,     12,     12,2,20070215,   0,-75.0900,-146.4010, 1543,     59.7,  -1.7890,  33.8320,2,-999.0000,9,    294.7,2,    291.9,2,    75.96,2,    27.90,2,     0.09,     1.96,2, -999.000,9,  -1.7901
  320620070203,NBP0702,    39,  1,     11,     11,2,20070215,   0,-75.0900,-146.4010, 1543,    139.9,  -1.7400,  34.0500,2,-999.0000,9,    277.1,2,    274.8,2,    78.89,2,    29.24,2,     0.06,     2.02,2, -999.000,9,  -1.7428
  320620070203,NBP0702,    39,  1,     10,     10,2,20070215,   0,-75.0900,-146.4010, 1543,    220.1,  -1.7270,  34.1060,2,  34.1060,2,    274.3,2,    272.6,2,    84.99,2,    29.79,2,     0.00,     2.04,2, -999.000,9,  -1.7317
  320620070203,NBP0702,    39,  1,      9,      9,2,20070215,   0,-75.0900,-146.4010, 1543,    220.2,  -1.7270,  34.1060,2,-999.0000,9,    274.1,2,   -999.0,9,  -999.00,9,  -999.00,9,  -999.00,  -999.00,9, -999.000,9,  -1.7317
  320620070203,NBP0702,    39,  1,      8,      8,2,20070215,   0,-75.0900,-146.4010, 1543,    319.8,  -1.3680,  34.1700,2,-999.0000,9,    262.1,2,   -999.0,9,    84.60,2,    30.27,2,     0.00,     2.10,2, -999.000,9,  -1.3762
  320620070203,NBP0702,    39,  1,      7,      7,2,20070215,   0,-75.0900,-146.4010, 1543,    580.1,   1.6340,  34.7200,2,  34.7210,2,    178.7,2,    177.1,2,    90.45,2,    31.12,2,     0.00,     2.13,2, -999.000,9,   1.6027
  320620070203,NBP0702,    39,  1,      6,      6,2,20070215,   0,-75.0900,-146.4010, 1543,    580.2,   1.6340,  34.7200,2,-999.0000,9,    178.7,2,   -999.0,9,  -999.00,9,  -999.00,9,  -999.00,  -999.00,9, -999.000,9,   1.6027
  320620070203,NBP0702,    39,  1,      5,      5,2,20070215,   0,-75.0900,-146.4010, 1543,    900.2,   1.1870,  34.7270,2,-999.0000,9,    187.8,2,   -999.0,9,   105.52,2,    31.11,2,     0.00,     2.11,2, -999.000,9,   1.1392
  320620070203,NBP0702,    39,  1,      4,      4,2,20070215,   0,-75.0900,-146.4010, 1543,   1149.8,   0.9540,  34.7200,2,  34.7240,2,    193.6,2,    190.3,2,   111.24,2,    31.40,2,     0.00,     2.14,2, -999.000,9,   0.8927
  320620070203,NBP0702,    39,  1,      3,      3,2,20070215,   0,-75.0900,-146.4010, 1543,   1299.7,   0.8680,  34.7170,2,  34.7170,2,    196.3,2,   -999.0,9,   115.05,2,    31.40,2,     0.00,     2.14,2, -999.000,9,   0.7980
  320620070203,NBP0702,    39,  1,      2,      2,2,20070215,   0,-75.0900,-146.4010, 1543,   1480.3,   0.7940,  34.7140,2,  34.7150,2,    198.3,2,   -999.0,9,  -999.00,9,  -999.00,9,  -999.00,  -999.00,9, -999.000,9,   0.7129
  320620070203,NBP0702,    39,  1,      1,      1,2,20070215,   0,-75.0900,-146.4010, 1543,   1533.4,   0.7890,  34.7140,2,  34.7150,2,    198.9,2,    195.8,2,   117.91,2,    31.30,2,     0.00,     2.14,2, -999.000,9,   0.7043
  320620070203,NBP0702,    40,  1,      9,      9,2,20070218,   0,-72.5210,-124.7660,  495,      2.0,  -1.4340,  32.9430,2,-999.0000,9,    345.0,2,   -999.0,9,  -999.00,9,  -999.00,9,  -999.00,  -999.00,9,    3.182,2,  -1.4340
  320620070203,NBP0702,    40,  1,      8,      8,2,20070218,   0,-72.5210,-124.7660,  495,      2.0,  -1.4350,  32.9430,2,  32.9660,2,    345.2,2,    345.0,2,    70.58,2,    19.00,2,     0.13,     1.39,2, -999.000,9,  -1.4350
  320620070203,NBP0702,    40,  1,      7,      7,2,20070218,   0,-72.5210,-124.7660,  495,     99.8,  -1.5420,  34.0180,2,-999.0000,9,    253.2,2,   -999.0,9,  -999.00,9,  -999.00,9,  -999.00,  -999.00,9,    1.659,2,  -1.5442
  320620070203,NBP0702,    40,  1,      6,      6,2,20070218,   0,-72.5210,-124.7660,  495,     99.9,  -1.5430,  34.0170,2,  34.0220,2,    253.7,2,    254.1,2,    89.47,2,    29.93,2,     0.05,     2.33,2, -999.000,9,  -1.5452
  320620070203,NBP0702,    40,  1,      5,      5,2,20070218,   0,-72.5210,-124.7660,  495,    200.4,  -1.7400,  34.0820,2,  34.0820,2,    261.5,2,    262.1,2,  -999.00,9,  -999.00,9,  -999.00,  -999.00,9, -999.000,9,  -1.7442
  320620070203,NBP0702,    40,  1,      4,      4,2,20070218,   0,-72.5210,-124.7660,  495,    300.2,  -1.5730,  34.1180,2,-999.0000,9,    257.8,2,   -999.0,9,  -999.00,9,  -999.00,9,  -999.00,  -999.00,9,    1.662,2,  -1.5800
  320620070203,NBP0702,    40,  1,      3,      3,2,20070218,   0,-72.5210,-124.7660,  495,    300.3,  -1.5730,  34.1180,2,  34.1180,2,    257.8,2,   -999.0,9,    88.79,2,    31.02,2,     0.00,     2.28,2, -999.000,9,  -1.5800
  320620070203,NBP0702,    40,  1,      2,      2,2,20070218,   0,-72.5210,-124.7660,  495,    460.4,   1.0280,  34.6710,2,  34.6730,2,    188.0,2,    187.2,2,   104.64,2,    32.14,2,     0.01,     2.39,2, -999.000,9,   1.0059
  320620070203,NBP0702,    40,  1,      1,      1,2,20070218,   0,-72.5210,-124.7660,  495,    485.3,   1.0200,  34.6940,2,  34.6910,2,    189.4,2,    188.2,2,   104.64,2,    32.43,2,     0.00,     2.41,2, -999.000,9,   0.9967
  320620070203,NBP0702,    41,  1,      7,      7,2,20070218,   0,-72.7940,-122.4880,  464,     16.3,  -1.1420,  33.0740,2,-999.0000,9,    352.6,2,   -999.0,9,  -999.00,9,  -999.00,9,  -999.00,  -999.00,9, -999.000,9,  -1.1424
  320620070203,NBP0702,    41,  1,      6,      6,2,20070218,   0,-72.7940,-122.4880,  464,     16.4,  -1.2800,  32.9800,2,-999.0000,9,    354.1,2,    349.4,2,    57.97,2,    19.75,2,     0.14,     0.90,3, -999.000,9,  -1.2803
  320620070203,NBP0702,    41,  1,      5,      5,2,20070218,   0,-72.7940,-122.4880,  464,     78.3,  -1.5330,  33.9920,2,  33.9930,2,    256.3,2,    255.3,2,    91.95,2,    29.85,2,     0.04,     2.34,2, -999.000,9,  -1.5347
  320620070203,NBP0702,    41,  1,      4,      4,2,20070218,   0,-72.7940,-122.4880,  464,    220.2,  -1.8020,  34.0970,2,  34.0950,2,    264.1,2,    263.7,2,    88.60,2,    30.43,2,     0.02,     2.25,2, -999.000,9,  -1.8065
  320620070203,NBP0702,    41,  1,      3,      3,2,20070218,   0,-72.7940,-122.4880,  464,    400.1,  -0.9470,  34.2120,2,-999.0000,9,    233.4,2,   -999.0,9,    90.59,2,    31.93,2,     0.00,     2.33,2, -999.000,9,  -0.9590
  320620070203,NBP0702,    41,  1,      2,      2,2,20070218,   0,-72.7940,-122.4880,  464,    435.2,  -0.2640,  34.3580,2,  34.3700,2,    210.8,2,    207.3,2,  -999.00,9,  -999.00,9,  -999.00,  -999.00,9, -999.000,9,  -0.2798
  320620070203,NBP0702,    41,  1,      1,      1,2,20070218,   0,-72.7940,-122.4880,  464,    454.5,   0.1790,  34.4600,2,  34.4140,2,    201.0,2,    206.3,2,    99.91,2,    31.94,2,     0.02,     2.39,2, -999.000,9,   0.1607