BOTTLE,202201227CCHSIOENA
EXPOCODE,SECT_ID,STNNBR,CASTNO,SAMPNO,BTLNBR,BTLNBR_FLAG_W,DATE,TIME,LATITUDE,LONGITUDE,DEPTH,CTDPRS,CTDTMP,CTDSAL,CTDSAL_FLAG_W,SALNTY,SALNTY_FLAG_W,CTDOXY,CTDOXY_FLAG_W,OXYGEN,OXYGEN_FLAG_W,SILCAT,SILCAT_FLAG_W,NITRAT,NITRAT_FLAG_W,NITRIT,PHSPHT,PHSPHT_FLAG_W,CFC-12,CFC-12_FLAG_W,THETA
,,,,,,,,,,,METERS,DBAR,ITS-90,PSS-78,,PSS-78,,UMOL/KG,,UMOL/KG,,UMOL/KG,,UMOL/KG,,UMOL/KG,UMOL/KG,,PMOL/KG,,DEG C
  320620070203,NBP0702,   144,  1,     13,     13,2,20070312,   0,-71.2350,-110.0020,  463,      2.0,  -1.5810,  32.7550,2,-999.0000,9,    348.8,2,    354.0,2,    51.69,2,    19.69,2,     0.13,     1.34,2, -999.000,9,  -1.5810
  320620070203,NBP0702,   144,  1,     12,     12,2,20070312,   0,-71.2350,-110.0020,  463,     30.2,  -1.6940,  33.4650,2,-999.0000,9,    309.6,2,    308.9,2,    64.72,2,    25.81,2,     0.11,     1.93,2, -999.000,9,  -1.6946
  320620070203,NBP0702,   144,  1,     11,     11,2,20070312,   0,-71.2350,-110.0020,  463,     79.8,  -1.7490,  33.9000,2,-999.0000,9,    282.0,2,   -999.0,9,  -999.00,9,  -999.00,9,  -999.00,  -999.00,9,    2.370,2,  -1.7505
  320620070203,NBP0702,   144,  1,     10,     10,2,20070312,   0,-71.2350,-110.0020,  463,     79.9,  -1.7510,  33.9000,2,  33.8990,2,    281.7,2,    283.8,2,    72.80,2,    28.75,2,     0.11,     2.13,2, -999.000,9,  -1.7525
  320620070203,NBP0702,   144,  1,      9,      9,2,20070312,   0,-71.2350,-110.0020,  463,    150.0,  -1.5770,  33.9920,2,-999.0000,9,    270.2,2,   -999.0,9,  -999.00,9,  -999.00,9,  -999.00,  -999.00,9,    2.078,2,  -1.5803
  320620070203,NBP0702,   144,  1,      8,      8,2,20070312,   0,-71.2350,-110.0020,  463,    150.1,  -1.5580,  33.9990,2,  34.0050,2,    269.1,2,    269.2,2,    78.04,2,    29.73,2,     0.08,     2.19,2, -999.000,9,  -1.5613
  320620070203,NBP0702,   144,  1,      7,      7,2,20070312,   0,-71.2350,-110.0020,  463,    334.6,   0.3700,  34.4740,2,  34.4780,2,    200.3,2,    199.5,2,    92.96,2,    31.88,2,     0.00,     2.33,2, -999.000,9,   0.3563
  320620070203,NBP0702,   144,  1,      6,      6,2,20070312,   0,-71.2350,-110.0020,  463,    334.8,   0.3730,  34.4750,2,-999.0000,9,    200.3,2,   -999.0,9,  -999.00,9,  -999.00,9,  -999.00,  -999.00,9,    0.783,2,   0.3593
  320620070203,NBP0702,   144,  1,      5,      5,2,20070312,   0,-71.2350,-110.0020,  463,    399.5,   1.1310,  34.6870,2,-999.0000,9,    186.8,2,   -999.0,9,  -999.00,9,  -999.00,9,  -999.00,  -999.00,9,    0.203,2,   1.1117
  320620070203,NBP0702,   144,  1,      4,      4,2,20070312,   0,-71.2350,-110.0020,  463,    399.6,   1.1330,  34.6880,2,-999.0000,9,    186.6,2,    185.7,2,  -999.00,9,  -999.00,9,  -999.00,  -999.00,9, -999.000,9,   1.1137
  320620070203,NBP0702,   144,  1,      3,      3,2,20070312,   0,-71.2350,-110.0020,  463,    399.8,   1.1280,  34.6860,2,  34.6880,2,    186.9,2,    185.6,2,   103.22,2,    31.48,2,     0.01,     2.31,2, -999.000,9,   1.1087
  320620070203,NBP0702,   144,  1,      2,      2,2,20070312,   0,-71.2350,-110.0020,  463,    453.1,   1.2350,  34.7220,2,-999.0000,9,    186.7,2,   -999.0,9,  -999.00,9,  -999.00,9,  -999.00,  -999.00,9,    0.124,2,   1.2125
  320620070203,NBP0702,   144,  1,      1,      1,2,20070312,   0,-71.2350,-110.0020,  463,    453.3,   1.2350,  34.7220,2,  34.7210,2,    186.8,2,    185.4,2,   101.32,2,    31.30,2,     0.00,     2.28,2, -999.000,9,   1.2125
  320620070203,NBP0702,   145,  1,      8,      8,2,20070313,   0,-71.2030,-108.9930,  485,      2.0,  -1.0390,  32.8620,2,  32.8760,2,    344.3,2,    346.8,2,    48.33,2,    20.67,2,     0.10,     1.45,2, -999.000,9,  -1.0390
  320620070203,NBP0702,   145,  1,      7,      7,2,20070313,   0,-71.2030,-108.9930,  485,     19.7,  -1.5020,  33.1060,2,-999.0000,9,    335.1,2,    336.9,2,    59.49,2,    22.67,2,     0.10,     1.63,2, -999.000,9,  -1.5024
  320620070203,NBP0702,   145,  1,      6,      6,2,20070313,   0,-71.2030,-108.9930,  485,    150.3,  -1.3980,  34.0700,2,  34.0720,2,    261.7,2,    262.0,2,    82.99,2,    30.18,2,     0.01,     2.12,2, -999.000,9,  -1.4015
  320620070203,NBP0702,   145,  1,      5,      5,2,20070313,   0,-71.2030,-108.9930,  485,    220.3,  -0.8610,  34.2010,2,-999.0000,9,    241.2,2,    241.4,2,    85.07,2,    31.03,2,     0.01,     2.18,2, -999.000,9,  -0.8674
  320620070203,NBP0702,   145,  1,      4,      4,2,20070313,   0,-71.2030,-108.9930,  485,    290.3,  -0.0090,  34.3730,2,  34.3760,2,    211.2,2,    209.7,2,    93.45,2,    31.81,2,     0.00,     2.23,2, -999.000,9,  -0.0198
  320620070203,NBP0702,   145,  1,      3,      3,2,20070313,   0,-71.2030,-108.9930,  485,    369.4,   0.5620,  34.5230,2,  34.5200,2,    196.4,2,   -999.0,9,  -999.00,9,  -999.00,9,  -999.00,  -999.00,9, -999.000,9,   0.5461
  320620070203,NBP0702,   145,  1,      2,      2,2,20070313,   0,-71.2030,-108.9930,  485,    400.1,   0.8330,  34.6050,2,-999.0000,9,    190.6,2,    189.6,2,   100.38,2,    32.08,2,     0.00,     2.24,2, -999.000,9,   0.8147
  320620070203,NBP0702,   145,  1,      1,      1,2,20070313,   0,-71.2030,-108.9930,  485,    475.4,   1.1600,  34.6990,2,  34.6990,2,    186.6,2,    185.4,2,   105.14,2,    31.89,2,     0.00,     2.22,2, -999.000,9,   1.1366
  320620070203,NBP0702,   146,  1,      9,      9,2,20070313,   0,-71.1360,-108.9920, 1241,      5.2,  -1.2330,  32.8220,2,-999.0000,9,    347.0,2,    351.1,2,    50.06,2,    20.09,2,     0.12,     1.39,2, -999.000,9,  -1.2331
  320620070203,NBP0702,   146,  1,      8,      8,2,20070313,   0,-71.1360,-108.9920, 1241,     29.4,  -1.1710,  33.1720,2,-999.0000,9,    333.5,2,   -999.0,9,    50.51,2,    22.00,2,     0.10,     1.57,2, -999.000,9,  -1.1717
  320620070203,NBP0702,   146,  1,      7,      7,2,20070313,   0,-71.1360,-108.9920, 1241,     59.8,  -1.5630,  33.8710,2,  33.8530,2,    283.7,2,    287.8,2,    65.26,2,    28.48,2,     0.10,     2.10,2, -999.000,9,  -1.5642
  320620070203,NBP0702,   146,  1,      6,      6,2,20070313,   0,-71.1360,-108.9920, 1241,    149.8,  -1.0660,  34.1560,2,-999.0000,9,    252.5,2,   -999.0,9,    74.48,2,    30.67,2,     0.08,     2.19,2, -999.000,9,  -1.0700
  320620070203,NBP0702,   146,  1,      5,      5,2,20070313,   0,-71.1360,-108.9920, 1241,    243.5,   0.7660,  34.5060,2,-999.0000,9,    193.0,2,   -999.0,9,    82.08,2,    32.35,2,     0.01,     2.28,2, -999.000,9,   0.7554
  320620070203,NBP0702,   146,  1,      4,      4,2,20070313,   0,-71.1360,-108.9920, 1241,    350.2,   1.6320,  34.7030,2,  34.7020,2,    174.6,2,    176.2,2,    87.01,2,    31.79,2,     0.00,     2.24,2, -999.000,9,   1.6138
  320620070203,NBP0702,   146,  1,      3,      3,2,20070313,   0,-71.1360,-108.9920, 1241,    699.9,   1.3470,  34.7310,2,  34.7310,2,    186.0,2,    186.3,2,   101.32,2,    31.43,2,     0.00,     2.20,2, -999.000,9,   1.3101
  320620070203,NBP0702,   146,  1,      2,      2,2,20070313,   0,-71.1360,-108.9920, 1241,   1131.8,   0.9490,  34.7200,2,  34.7210,2,    196.5,2,    195.0,2,   110.86,2,    31.61,2,     0.00,     2.21,2, -999.000,9,   0.8889
  320620070203,NBP0702,   146,  1,      1,      1,2,20070313,   0,-71.1360,-108.9920, 1241,   1230.6,   0.8500,  34.7170,2,  34.7170,2,    198.9,2,    198.5,2,   111.81,2,    31.51,2,     0.00,     2.21,2, -999.000,9,   0.7846
  320620070203,NBP0702,   147,  1,     12,     12,2,20070313,   0,-71.1600,-108.0000,  484,      5.1,  -1.5690,  32.9190,2,-999.0000,9,    343.6,2,   -999.0,9,  -999.00,9,  -999.00,9,  -999.00,  -999.00,9,    2.540,2,  -1.5691
  320620070203,NBP0702,   147,  1,     11,     11,2,20070313,   0,-71.1600,-108.0000,  484,      5.5,  -1.5730,  32.9300,2,  32.9200,2,    343.5,2,    349.4,2,    50.72,2,    22.45,2,     0.13,     1.57,2, -999.000,9,  -1.5731
  320620070203,NBP0702,   147,  1,     10,     10,2,20070313,   0,-71.1600,-108.0000,  484,     19.8,  -1.5770,  32.9430,2,-999.0000,9,    342.2,2,   -999.0,9,    49.19,2,    22.93,2,     0.13,     1.62,2, -999.000,9,  -1.5774
  320620070203,NBP0702,   147,  1,      9,      9,2,20070313,   0,-71.1600,-108.0000,  484,     79.9,  -1.6680,  33.8480,2,  33.8470,2,    287.3,2,   -999.0,9,    67.84,2,    28.47,2,     0.11,     2.08,2, -999.000,9,  -1.6696
  320620070203,NBP0702,   147,  1,      8,      8,2,20070313,   0,-71.1600,-108.0000,  484,     79.9,  -1.6680,  33.8470,2,-999.0000,9,    287.3,2,   -999.0,9,  -999.00,9,  -999.00,9,  -999.00,  -999.00,9,    2.468,2,  -1.6696
  320620070203,NBP0702,   147,  1,      7,      7,2,20070313,   0,-71.1600,-108.0000,  484,    199.6,  -1.2720,  34.0970,2,-999.0000,9,    258.9,2,   -999.0,9,  -999.00,9,  -999.00,9,  -999.00,  -999.00,9,    1.789,2,  -1.2770
  320620070203,NBP0702,   147,  1,      6,      6,2,20070313,   0,-71.1600,-108.0000,  484,    199.9,  -1.2770,  34.0950,2,  34.0930,2,    258.9,2,    260.2,2,    80.60,2,    30.23,2,     0.05,     2.15,2, -999.000,9,  -1.2820
  320620070203,NBP0702,   147,  1,      5,      5,2,20070313,   0,-71.1600,-108.0000,  484,    300.5,  -0.1590,  34.3390,2,-999.0000,9,    217.8,2,   -999.0,9,  -999.00,9,  -999.00,9,  -999.00,  -999.00,9,    1.170,2,  -0.1698
  320620070203,NBP0702,   147,  1,      4,      4,2,20070313,   0,-71.1600,-108.0000,  484,    300.5,  -0.1660,  34.3370,2,  34.3360,2,    218.4,2,    218.6,2,    83.82,2,    31.59,2,     0.01,     2.26,2, -999.000,9,  -0.1768
  320620070203,NBP0702,   147,  1,      3,      3,2,20070313,   0,-71.1600,-108.0000,  484,    408.8,   1.2630,  34.7100,2,  34.7100,2,    184.9,2,    184.6,2,   101.32,2,    31.50,2,     0.00,     2.23,2, -999.000,9,   1.2428
  320620070203,NBP0702,   147,  1,      2,      2,2,20070313,   0,-71.1600,-108.0000,  484,    408.8,   1.2640,  34.7100,2,-999.0000,9,    184.7,2,   -999.0,9,  -999.00,9,  -999.00,9,  -999.00,  -999.00,9,    0.161,2,   1.2438
  320620070203,NBP0702,   147,  1,      1,      1,2,20070313,   0,-71.1600,-108.0000,  484,    474.5,   1.2190,  34.7180,2,  34.7170,2,    185.7,2,    184.6,2,   103.70,2,    31.49,2,     0.00,     2.28,2, -999.000,9,   1.1954
  320620070203,NBP0702,   148,  1,      9,      9,2,20070313,   0,-71.1060,-107.0080,  510,      4.5,  -1.6760,  32.9310,2,-999.0000,9,    344.8,2,   -999.0,9,    53.39,2,    22.27,2,     0.13,     1.56,2, -999.000,9,  -1.6761
  320620070203,NBP0702,   148,  1,      8,      8,2,20070313,   0,-71.1060,-107.0080,  510,     19.4,  -1.7330,  33.5970,2,-999.0000,9,    308.3,2,   -999.0,9,    67.48,2,    25.89,2,     0.11,     1.90,2, -999.000,9,  -1.7334
  320620070203,NBP0702,   148,  1,      7,      7,2,20070313,   0,-71.1060,-107.0080,  510,     79.7,  -1.7790,  33.8990,2,  33.9000,2,    283.6,2,    285.8,2,    75.85,2,    28.85,2,     0.10,     2.08,2, -999.000,9,  -1.7805
  320620070203,NBP0702,   148,  1,      6,      6,2,20070313,   0,-71.1060,-107.0080,  510,    179.6,  -1.4520,  34.0430,2,-999.0000,9,    263.0,2,    264.5,2,    82.80,2,    30.06,2,     0.02,     2.14,2, -999.000,9,  -1.4562
  320620070203,NBP0702,   148,  1,      5,      5,2,20070313,   0,-71.1060,-107.0080,  510,    240.1,  -1.1830,  34.1360,2,-999.0000,9,    252.7,2,    253.6,2,    83.27,2,    30.37,2,     0.00,     2.18,2, -999.000,9,  -1.1893
  320620070203,NBP0702,   148,  1,      4,      4,2,20070313,   0,-71.1060,-107.0080,  510,    359.7,   0.1810,  34.4280,2,-999.0000,9,    204.9,2,    204.1,2,    90.49,2,    31.80,2,     0.00,     2.26,2, -999.000,9,   0.1668
  320620070203,NBP0702,   148,  1,      3,      3,2,20070313,   0,-71.1060,-107.0080,  510,    359.7,   0.1810,  34.4280,2,-999.0000,9,    204.9,2,    204.2,2,    90.49,2,    31.80,2,     0.00,     2.26,2, -999.000,9,   0.1668
  320620070203,NBP0702,   148,  1,      2,      2,2,20070313,   0,-71.1060,-107.0080,  510,    459.7,   1.2100,  34.7150,2,  34.7140,2,    186.3,2,    186.0,2,   104.18,2,    31.88,2,     0.00,     2.24,2, -999.000,9,   1.1872
  320620070203,NBP0702,   148,  1,      1,      1,2,20070313,   0,-71.1060,-107.0080,  510,    499.9,   1.1760,  34.7190,2,  34.7220,2,    187.9,2,    188.2,2,   106.08,2,    31.68,2,     0.00,     2.22,2, -999.000,9,   1.1512
  320620070203,NBP0702,   149,  1,     14,     14,2,20070313,   0,-71.1260,-106.0050,  519,      5.1,  -1.4900,  32.8730,2,-999.0000,9,    345.7,2,   -999.0,9,    47.47,2,    22.80,2,     0.17,     1.55,2, -999.000,9,  -1.4901
  320620070203,NBP0702,   149,  1,     13,     13,2,20070313,   0,-71.1260,-106.0050,  519,     14.3,  -1.4840,  32.9070,2,  32.9550,2,    342.5,2,   -999.0,9,  -999.00,9,  -999.00,9,  -999.00,  -999.00,9, -999.000,9,  -1.4843
  320620070203,NBP0702,   149,  1,     12,     12,2,20070313,   0,-71.1260,-106.0050,  519,     14.4,  -1.4810,  32.9430,2,-999.0000,9,    341.9,2,    346.0,2,    49.38,2,    23.11,2,     0.15,     1.62,2, -999.000,9,  -1.4813
  320620070203,NBP0702,   149,  1,     11,     11,2,20070313,   0,-71.1260,-106.0050,  519,     59.5,  -1.6270,  33.8190,2,  33.7970,2,    293.6,2,    297.3,2,    64.59,2,    27.98,2,     0.12,     2.03,2, -999.000,9,  -1.6282
  320620070203,NBP0702,   149,  1,     10,     10,2,20070313,   0,-71.1260,-106.0050,  519,     59.6,  -1.6150,  33.8110,2,-999.0000,9,    293.3,2,   -999.0,9,  -999.00,9,  -999.00,9,  -999.00,  -999.00,9,    2.493,2,  -1.6162
  320620070203,NBP0702,   149,  1,      9,      9,2,20070313,   0,-71.1260,-106.0050,  519,     99.2,  -1.6790,  33.9340,2,-999.0000,9,    283.1,2,    285.7,2,    65.15,2,    29.20,2,     0.14,     2.10,2, -999.000,9,  -1.6810
  320620070203,NBP0702,   149,  1,      8,      8,2,20070313,   0,-71.1260,-106.0050,  519,    139.5,  -1.6010,  33.9900,2,-999.0000,9,    277.3,2,   -999.0,9,  -999.00,9,  -999.00,9,  -999.00,  -999.00,9, -999.000,9,  -1.6040
  320620070203,NBP0702,   149,  1,      7,      7,2,20070313,   0,-71.1260,-106.0050,  519,    139.9,  -1.5920,  33.9880,2,  33.9860,2,    277.3,2,    279.2,2,    69.64,2,    29.62,2,     0.10,     2.12,2, -999.000,9,  -1.5950
  320620070203,NBP0702,   149,  1,      6,      6,2,20070313,   0,-71.1260,-106.0050,  519,    140.1,  -1.5980,  33.9890,2,-999.0000,9,    277.3,2,   -999.0,9,  -999.00,9,  -999.00,9,  -999.00,  -999.00,9,    2.272,2,  -1.6010
  320620070203,NBP0702,   149,  1,      5,      5,2,20070313,   0,-71.1260,-106.0050,  519,    300.4,   0.1880,  34.4130,2,-999.0000,9,    205.9,2,    205.7,2,    91.25,2,    31.88,2,     0.00,     2.27,2, -999.000,9,   0.1763
  320620070203,NBP0702,   149,  1,      4,      4,2,20070313,   0,-71.1260,-106.0050,  519,    300.6,   0.1750,  34.4130,2,-999.0000,9,    206.7,2,   -999.0,9,  -999.00,9,  -999.00,9,  -999.00,  -999.00,9,    0.939,2,   0.1633
  320620070203,NBP0702,   149,  1,      3,      3,2,20070313,   0,-71.1260,-106.0050,  519,    439.5,   1.2140,  34.7150,2,  34.7150,2,    185.6,2,    185.2,2,   104.18,2,    31.40,2,     0.00,     2.24,2, -999.000,9,   1.1923
  320620070203,NBP0702,   149,  1,      2,      2,2,20070313,   0,-71.1260,-106.0050,  519,    439.5,   1.2150,  34.7150,2,-999.0000,9,    185.3,2,   -999.0,9,  -999.00,9,  -999.00,9,  -999.00,  -999.00,9,    0.109,2,   1.1933
  320620070203,NBP0702,   149,  1,      1,      1,2,20070313,   0,-71.1260,-106.0050,  519,    508.6,   0.9520,  34.7200,2,  34.7200,2,    195.2,2,    195.4,2,   114.67,2,    31.31,2,     0.00,     2.24,2, -999.000,9,   0.9277
  320620070203,NBP0702,   150,  1,      8,      8,2,20070313,   0,-71.0370,-106.0020, 1042,     10.1,  -1.4250,  32.8390,2,-999.0000,9,    344.8,2,   -999.0,9,    46.23,2,    22.63,2,     0.15,     1.56,2, -999.000,9,  -1.4252
  320620070203,NBP0702,   150,  1,      7,      7,2,20070313,   0,-71.0370,-106.0020, 1042,     50.0,  -1.7130,  33.8660,2,-999.0000,9,    287.2,2,   -999.0,9,    63.63,2,    28.85,2,     0.11,     2.06,2, -999.000,9,  -1.7140
  320620070203,NBP0702,   150,  1,      6,      6,2,20070313,   0,-71.0370,-106.0020, 1042,     99.5,  -1.5890,  34.0000,2,  33.9920,2,    277.5,2,    280.4,2,    61.71,2,    29.81,2,     0.09,     2.11,2, -999.000,9,  -1.5911
  320620070203,NBP0702,   150,  1,      5,      5,2,20070313,   0,-71.0370,-106.0020, 1042,    299.9,   1.5500,  34.6720,2,-999.0000,9,    173.9,2,   -999.0,9,    88.93,2,    32.27,2,     0.00,     2.26,2, -999.000,9,   1.5348
  320620070203,NBP0702,   150,  1,      4,      4,2,20070313,   0,-71.0370,-106.0020, 1042,    380.0,   1.6770,  34.7200,2,  34.7210,2,    175.2,2,    176.0,2,    93.40,2,    31.80,2,     0.00,     2.23,2, -999.000,9,   1.6570
  320620070203,NBP0702,   150,  1,      3,      3,2,20070313,   0,-71.0370,-106.0020, 1042,    600.8,   1.4470,  34.7320,2,-999.0000,9,    184.1,2,   -999.0,9,    98.46,2,    31.43,2,     0.00,     2.19,2, -999.000,9,   1.4154
  320620070203,NBP0702,   150,  1,      2,      2,2,20070313,   0,-71.0370,-106.0020, 1042,    900.5,   1.1300,  34.7260,2,  34.7260,2,    192.6,2,    191.3,2,   105.14,2,    31.43,2,     0.00,     2.19,2, -999.000,9,   1.0826
  320620070203,NBP0702,   150,  1,      1,      1,2,20070313,   0,-71.0370,-106.0020, 1042,   1032.0,   1.0180,  34.7220,2,  34.7230,2,    194.9,2,    194.8,2,   111.81,2,    31.71,2,     0.00,     2.20,2, -999.000,9,   0.9635
  320620070203,NBP0702,   151,  1,     11,     11,2,20070313,   0,-71.1490,-105.0040,  536,      5.0,  -1.7850,  33.0380,2,-999.0000,9,    341.9,2,   -999.0,9,    53.96,2,    22.93,2,     0.13,     1.63,2, -999.000,9,  -1.7851
  320620070203,NBP0702,   151,  1,     10,     10,2,20070313,   0,-71.1490,-105.0040,  536,     59.6,  -1.7890,  33.9070,2,  33.9010,2,    281.7,2,    285.1,2,    75.56,2,    29.13,2,     0.11,     2.09,2, -999.000,9,  -1.7901
  320620070203,NBP0702,   151,  1,      9,      9,2,20070313,   0,-71.1490,-105.0040,  536,    110.0,  -1.7300,  33.9500,2,  33.9490,2,    275.1,2,    278.1,2,    78.80,2,    29.58,2,     0.04,     2.07,2, -999.000,9,  -1.7322
  320620070203,NBP0702,   151,  1,      8,      8,2,20070313,   0,-71.1490,-105.0040,  536,    149.1,  -1.5630,  34.0020,2,  34.0010,2,    266.9,2,    269.4,2,    75.94,2,    29.97,2,     0.03,     2.10,2, -999.000,9,  -1.5663
  320620070203,NBP0702,   151,  1,      7,      7,2,20070313,   0,-71.1490,-105.0040,  536,    249.9,  -1.4140,  34.0780,2,-999.0000,9,    258.3,2,   -999.0,9,    79.08,2,    30.17,2,     0.02,     2.14,2, -999.000,9,  -1.4201
  320620070203,NBP0702,   151,  1,      6,      6,2,20070313,   0,-71.1490,-105.0040,  536,    391.2,   0.9700,  34.5750,2,  34.5700,2,    185.9,2,    186.8,2,    91.89,2,    32.45,2,     0.00,     2.28,2, -999.000,9,   0.9517
  320620070203,NBP0702,   151,  1,      5,      5,2,20070313,   0,-71.1490,-105.0040,  536,    391.4,   0.9680,  34.5750,2,-999.0000,9,    185.8,2,    186.5,2,  -999.00,9,  -999.00,9,  -999.00,  -999.00,9, -999.000,9,   0.9497
  320620070203,NBP0702,   151,  1,      4,      4,2,20070313,   0,-71.1490,-105.0040,  536,    413.2,   0.9410,  34.6070,2,-999.0000,9,    187.1,2,   -999.0,9,    91.41,2,    32.18,2,     0.00,     2.26,2, -999.000,9,   0.9217
  320620070203,NBP0702,   151,  1,      3,      3,2,20070313,   0,-71.1490,-105.0040,  536,    483.2,   1.2240,  34.7110,2,  34.7140,2,    185.9,2,   -999.0,9,  -999.00,9,  -999.00,9,  -999.00,  -999.00,9, -999.000,9,   1.1999
  320620070203,NBP0702,   151,  1,      2,      2,2,20070313,   0,-71.1490,-105.0040,  536,    525.0,   1.1290,  34.7190,2,-999.0000,9,    189.1,2,    188.4,2,  -999.00,9,  -999.00,9,  -999.00,  -999.00,9, -999.000,9,   1.1031
  320620070203,NBP0702,   151,  1,      1,      1,2,20070313,   0,-71.1490,-105.0040,  536,    525.6,   1.1290,  34.7190,2,  34.7190,2,    188.9,2,    190.7,2,   106.56,2,    31.60,2,     0.00,     2.24,2, -999.000,9,   1.1030