BOTTLE,202201227CCHSIOENA
EXPOCODE,SECT_ID,STNNBR,CASTNO,SAMPNO,BTLNBR,BTLNBR_FLAG_W,DATE,TIME,LATITUDE,LONGITUDE,DEPTH,CTDPRS,CTDTMP,CTDSAL,CTDSAL_FLAG_W,SALNTY,SALNTY_FLAG_W,CTDOXY,CTDOXY_FLAG_W,OXYGEN,OXYGEN_FLAG_W,SILCAT,SILCAT_FLAG_W,NITRAT,NITRAT_FLAG_W,NITRIT,PHSPHT,PHSPHT_FLAG_W,CFC-12,CFC-12_FLAG_W,THETA
,,,,,,,,,,,METERS,DBAR,ITS-90,PSS-78,,PSS-78,,UMOL/KG,,UMOL/KG,,UMOL/KG,,UMOL/KG,,UMOL/KG,UMOL/KG,,PMOL/KG,,DEG C
  320620070203,NBP0702,   127,  1,      6,      6,2,20070308,   0,-73.0110,-129.0280,  472,      2.0,  -1.8270,  33.5990,2,-999.0000,9,    306.0,2,   -999.0,9,    69.50,2,    28.10,2,     0.09,     2.03,2, -999.000,9,  -1.8270
  320620070203,NBP0702,   127,  1,      5,      5,2,20070308,   0,-73.0110,-129.0280,  472,     50.3,  -1.8250,  33.6050,2,  33.6610,2,    305.7,2,    304.8,2,    71.22,2,    28.19,2,     0.10,     2.06,2, -999.000,9,  -1.8259
  320620070203,NBP0702,   127,  1,      4,      4,2,20070308,   0,-73.0110,-129.0280,  472,    110.0,  -1.6840,  34.0060,2,-999.0000,9,    272.2,2,    274.7,2,    80.92,2,    30.17,2,     0.10,     2.16,2, -999.000,9,  -1.6862
  320620070203,NBP0702,   127,  1,      3,      3,2,20070308,   0,-73.0110,-129.0280,  472,    240.1,  -1.6800,  34.0970,2,  34.0950,2,    267.1,2,    269.2,2,    83.96,2,    30.56,2,     0.00,     2.17,2, -999.000,9,  -1.6853
  320620070203,NBP0702,   127,  1,      2,      2,2,20070308,   0,-73.0110,-129.0280,  472,    400.0,   0.5740,  34.5160,2,  34.5240,2,    200.5,2,    200.5,2,    88.29,2,    32.07,2,     0.00,     2.27,2, -999.000,9,   0.5567
  320620070203,NBP0702,   127,  1,      1,      1,2,20070308,   0,-73.0110,-129.0280,  472,    461.9,   1.2240,  34.7210,2,  34.7220,2,    188.6,2,    189.3,2,   103.82,2,    31.69,2,     0.00,     2.24,2, -999.000,9,   1.2011
  320620070203,NBP0702,   128,  1,      7,      7,2,20070309,   0,-72.4880,-127.0350, 1051,      2.0,  -1.7860,  33.2400,2,-999.0000,9,    332.9,2,   -999.0,9,    71.30,2,    24.25,2,     0.14,     1.74,2, -999.000,9,  -1.7860
  320620070203,NBP0702,   128,  1,      6,      6,2,20070309,   0,-72.4880,-127.0350, 1051,     19.8,  -1.7830,  33.2710,2,  33.3250,2,    331.3,2,    329.0,2,    73.01,2,    24.84,2,     0.12,     1.85,2, -999.000,9,  -1.7833
  320620070203,NBP0702,   128,  1,      5,      5,2,20070309,   0,-72.4880,-127.0350, 1051,    179.8,  -1.7090,  34.0730,2,  34.0710,2,    264.6,2,    265.7,2,    85.43,2,    31.40,2,     0.03,     2.20,2, -999.000,9,  -1.7128
  320620070203,NBP0702,   128,  1,      4,      4,2,20070309,   0,-72.4880,-127.0350, 1051,    240.2,  -1.7430,  34.0890,2,  34.0860,2,    266.6,2,    267.4,2,    89.63,2,    31.04,2,     0.00,     2.18,2, -999.000,9,  -1.7481
  320620070203,NBP0702,   128,  1,      3,      3,2,20070309,   0,-72.4880,-127.0350, 1051,    559.7,   1.6340,  34.7220,2,  34.7210,2,    178.5,2,    177.6,2,    90.03,2,    32.65,2,     0.00,     2.27,2, -999.000,9,   1.6039
  320620070203,NBP0702,   128,  1,      2,      2,2,20070309,   0,-72.4880,-127.0350, 1051,    899.8,   1.1050,  34.7240,2,  34.7230,2,    192.4,2,    190.7,2,   109.86,2,    34.06,3,     0.00,     2.30,2, -999.000,9,   1.0578
  320620070203,NBP0702,   128,  1,      1,      1,2,20070309,   0,-72.4880,-127.0350, 1051,   1041.1,   0.8950,  34.7180,2,  34.7180,2,    197.3,2,    194.3,2,   115.59,2,    33.96,3,     0.01,     2.26,2, -999.000,9,   0.8409
  320620070203,NBP0702,   129,  1,     13,     13,2,20070309,   0,-72.5570,-126.6970,  551,      2.0,  -1.8090,  33.5240,2,-999.0000,9,    313.9,2,   -999.0,9,    77.86,2,    25.60,2,     0.12,     1.95,2, -999.000,9,  -1.8090
  320620070203,NBP0702,   129,  1,     12,     12,2,20070309,   0,-72.5570,-126.6970,  551,     19.1,  -1.8090,  33.5370,2,-999.0000,9,    312.9,2,    312.5,2,    77.20,2,    25.70,2,     0.12,     1.96,2, -999.000,9,  -1.8093
  320620070203,NBP0702,   129,  1,     11,     11,2,20070309,   0,-72.5570,-126.6970,  551,     19.1,  -1.8080,  33.5420,2,-999.0000,9,    312.8,2,   -999.0,9,  -999.00,9,  -999.00,9,  -999.00,  -999.00,9,    2.530,2,  -1.8083
  320620070203,NBP0702,   129,  1,     10,     10,2,20070309,   0,-72.5570,-126.6970,  551,    100.0,  -1.6690,  34.0120,2,  34.0220,2,    266.2,2,    264.7,2,    87.83,2,    30.83,2,     0.13,     2.22,2, -999.000,9,  -1.6710
  320620070203,NBP0702,   129,  1,      9,      9,2,20070309,   0,-72.5570,-126.6970,  551,    100.1,  -1.6690,  34.0120,2,-999.0000,9,    266.2,2,   -999.0,9,  -999.00,9,  -999.00,9,  -999.00,  -999.00,9,    1.776,2,  -1.6710
  320620070203,NBP0702,   129,  1,      8,      8,2,20070309,   0,-72.5570,-126.6970,  551,    150.2,  -1.7010,  34.0560,2,  34.0530,2,    263.2,2,    263.3,2,    91.07,2,    31.38,2,     0.04,     2.20,2, -999.000,9,  -1.7041
  320620070203,NBP0702,   129,  1,      7,      7,2,20070309,   0,-72.5570,-126.6970,  551,    250.5,  -1.6730,  34.1020,2,  34.0990,2,    264.5,2,    263.9,2,  -999.00,9,  -999.00,9,  -999.00,  -999.00,9, -999.000,9,  -1.6785
  320620070203,NBP0702,   129,  1,      6,      6,2,20070309,   0,-72.5570,-126.6970,  551,    250.7,  -1.6620,  34.1030,2,-999.0000,9,    264.6,2,   -999.0,9,    90.21,2,    31.41,2,     0.02,     2.21,2, -999.000,9,  -1.6676
  320620070203,NBP0702,   129,  1,      5,      5,2,20070309,   0,-72.5570,-126.6970,  551,    250.9,  -1.6600,  34.1030,2,-999.0000,9,    264.1,2,   -999.0,9,  -999.00,9,  -999.00,9,  -999.00,  -999.00,9,    1.815,2,  -1.6656
  320620070203,NBP0702,   129,  1,      4,      4,2,20070309,   0,-72.5570,-126.6970,  551,    350.1,  -0.7610,  34.2430,2,  34.2420,2,    232.7,2,    231.4,2,    92.38,2,    32.36,2,     0.02,     2.28,2, -999.000,9,  -0.7719
  320620070203,NBP0702,   129,  1,      3,      3,2,20070309,   0,-72.5570,-126.6970,  551,    425.2,   1.3370,  34.7150,2,  34.7150,2,    186.5,2,    184.8,2,   102.24,2,    32.72,2,     0.00,     2.27,2, -999.000,9,   1.3156
  320620070203,NBP0702,   129,  1,      2,      2,2,20070309,   0,-72.5570,-126.6970,  551,    425.2,   1.3370,  34.7150,2,-999.0000,9,    186.1,2,   -999.0,9,  -999.00,9,  -999.00,9,  -999.00,  -999.00,9,    0.147,2,   1.3156
  320620070203,NBP0702,   129,  1,      1,      1,2,20070309,   0,-72.5570,-126.6970,  551,    540.7,   1.0190,  34.7220,2,  34.7210,2,    194.1,2,    195.0,2,   108.91,2,    32.78,2,     0.15,     2.29,2, -999.000,9,   0.9927
  320620070203,NBP0702,   130,  1,     12,     12,2,20070310,   0,-72.4910,-126.0050,  999,      9.3,  -1.7370,  33.1380,2,  33.1550,2,    335.9,2,    338.2,2,    71.31,2,    23.12,2,     0.12,     1.74,2, -999.000,9,  -1.7372
  320620070203,NBP0702,   130,  1,     11,     11,2,20070310,   0,-72.4910,-126.0050,  999,     44.1,  -1.5250,  33.8640,2,-999.0000,9,    283.2,2,   -999.0,9,    82.41,2,    27.79,2,     0.11,     2.08,2, -999.000,9,  -1.5259
  320620070203,NBP0702,   130,  1,     10,     10,2,20070310,   0,-72.4910,-126.0050,  999,    100.3,  -1.6650,  34.0360,2,-999.0000,9,    259.5,2,   -999.0,9,    91.93,2,    31.78,2,     0.12,     2.25,2, -999.000,9,  -1.6671
  320620070203,NBP0702,   130,  1,      9,      9,2,20070310,   0,-72.4910,-126.0050,  999,    150.2,  -1.7010,  34.0630,2,-999.0000,9,    260.1,2,    262.4,2,    91.45,2,    30.71,2,     0.90,     2.25,2, -999.000,9,  -1.7041
  320620070203,NBP0702,   130,  1,      8,      8,2,20070310,   0,-72.4910,-126.0050,  999,    218.0,  -1.7160,  34.0940,2,  34.0940,2,    264.1,2,    265.1,2,    85.81,2,    31.51,2,     0.01,     2.22,2, -999.000,9,  -1.7207
  320620070203,NBP0702,   130,  1,      7,      7,2,20070310,   0,-72.4910,-126.0050,  999,    330.1,   0.0010,  34.3870,2,-999.0000,9,    210.9,2,   -999.0,9,    93.89,2,    33.11,2,     0.01,     2.32,2, -999.000,9,  -0.0114
  320620070203,NBP0702,   130,  1,      6,      6,2,20070310,   0,-72.4910,-126.0050,  999,    431.8,   1.5970,  34.7110,2,-999.0000,9,    177.6,2,   -999.0,9,    94.22,2,    33.11,2,     0.01,     2.32,2, -999.000,9,   1.5744
  320620070203,NBP0702,   130,  1,      5,      5,2,20070310,   0,-72.4910,-126.0050,  999,    500.1,   1.5250,  34.7280,2,  34.7270,2,    181.3,2,    180.8,2,    96.32,2,    32.44,2,     0.00,     2.29,2, -999.000,9,   1.4988
  320620070203,NBP0702,   130,  1,      4,      4,2,20070310,   0,-72.4910,-126.0050,  999,    660.4,   1.1870,  34.7260,2,  34.7290,2,    189.0,2,    188.4,2,   107.96,2,    32.61,2,     0.03,     2.29,2, -999.000,9,   1.1533
  320620070203,NBP0702,   130,  1,      3,      3,2,20070310,   0,-72.4910,-126.0050,  999,    850.2,   0.9150,  34.7190,2,  34.7190,2,    195.2,2,    194.0,2,   111.77,2,    32.91,2,     0.01,     2.31,2, -999.000,9,   0.8721
  320620070203,NBP0702,   130,  1,      2,      2,2,20070310,   0,-72.4910,-126.0050,  999,    924.6,   0.8820,  34.7180,2,  34.7190,2,    196.4,2,   -999.0,9,   110.82,2,    32.25,2,     0.00,     2.27,2, -999.000,9,   0.8350
  320620070203,NBP0702,   130,  1,      1,      1,2,20070310,   0,-72.4910,-126.0050,  999,    988.9,   0.8330,  34.7160,2,  34.7180,2,    197.3,2,    197.4,2,   112.72,2,    32.54,2,     0.00,     2.28,2, -999.000,9,   0.7826
  320620070203,NBP0702,   131,  1,      6,      6,2,20070310,   0,-72.5570,-125.8090,  434,      2.0,  -1.7260,  33.2130,2,-999.0000,9,    330.3,2,    334.0,2,  -999.00,9,    19.89,2,     0.11,     1.65,2, -999.000,9,  -1.7260
  320620070203,NBP0702,   131,  1,      5,      5,2,20070310,   0,-72.5570,-125.8090,  434,     50.2,  -1.4240,  33.9210,2,-999.0000,9,    271.7,2,    270.2,2,    88.32,2,    28.76,2,     0.10,     2.24,2, -999.000,9,  -1.4251
  320620070203,NBP0702,   131,  1,      4,      4,2,20070310,   0,-72.5570,-125.8090,  434,     99.9,  -1.5470,  33.9790,2,  33.9830,2,    261.3,2,    261.9,2,    86.88,2,    30.47,2,     0.11,     2.28,2, -999.000,9,  -1.5491
  320620070203,NBP0702,   131,  1,      3,      3,2,20070310,   0,-72.5570,-125.8090,  434,    260.3,  -1.7140,  34.0950,2,  34.0930,2,    264.1,2,    265.8,2,    86.57,2,    31.61,2,     0.01,     2.24,2, -999.000,9,  -1.7197
  320620070203,NBP0702,   131,  1,      2,      2,2,20070310,   0,-72.5570,-125.8090,  434,    349.6,  -1.1960,  34.1680,2,  34.1660,2,    242.5,2,    242.7,2,    95.25,2,    32.83,2,     0.02,     2.26,2, -999.000,9,  -1.2055
  320620070203,NBP0702,   131,  1,      1,      1,2,20070310,   0,-72.5570,-125.8090,  434,    424.5,   0.9900,  34.7180,2,  34.7170,2,    193.5,2,   -999.0,9,   107.00,2,    33.20,2,     0.01,     2.31,2, -999.000,9,   0.9699
  320620070203,NBP0702,   132,  1,     12,     12,2,20070310,   0,-72.7010,-123.4920,  468,      2.0,  -1.5010,  32.9010,2,-999.0000,9,    341.6,2,   -999.0,9,    60.53,2,    13.76,2,     0.13,     0.87,2, -999.000,9,  -1.5010
  320620070203,NBP0702,   132,  1,     11,     11,2,20070310,   0,-72.7010,-123.4920,  468,     20.0,  -1.5000,  32.9020,2,  32.9010,2,    341.8,2,    344.9,2,  -999.00,9,  -999.00,9,  -999.00,  -999.00,9, -999.000,9,  -1.5004
  320620070203,NBP0702,   132,  1,     10,     10,2,20070310,   0,-72.7010,-123.4920,  468,     44.9,  -0.6350,  33.4400,2,-999.0000,9,    319.8,2,    316.1,2,    76.24,2,    14.93,2,     0.09,     1.45,2, -999.000,9,  -0.6362
  320620070203,NBP0702,   132,  1,      9,      9,2,20070310,   0,-72.7010,-123.4920,  468,     44.9,  -0.6290,  33.4440,2,-999.0000,9,    320.8,2,   -999.0,9,  -999.00,9,  -999.00,9,  -999.00,  -999.00,9,    3.123,2,  -0.6303
  320620070203,NBP0702,   132,  1,      8,      8,2,20070310,   0,-72.7010,-123.4920,  468,    179.8,  -1.5830,  34.0440,2,-999.0000,9,    252.5,2,   -999.0,9,  -999.00,9,  -999.00,9,  -999.00,  -999.00,9,    1.621,2,  -1.5870
  320620070203,NBP0702,   132,  1,      7,      7,2,20070310,   0,-72.7010,-123.4920,  468,    179.9,  -1.5810,  34.0430,2,  34.0390,2,    252.6,2,    252.7,2,    94.03,2,    31.24,2,     0.10,     2.32,2, -999.000,9,  -1.5850
  320620070203,NBP0702,   132,  1,      6,      6,2,20070310,   0,-72.7010,-123.4920,  468,    299.5,  -1.7960,  34.1020,2,  34.0990,2,    263.7,2,    263.4,2,    88.29,2,    31.40,2,     0.02,     2.33,2, -999.000,9,  -1.8024
  320620070203,NBP0702,   132,  1,      5,      5,2,20070310,   0,-72.7010,-123.4920,  468,    299.7,  -1.7960,  34.1020,2,-999.0000,9,    263.8,2,   -999.0,9,  -999.00,9,  -999.00,9,  -999.00,  -999.00,9,    1.712,2,  -1.8024
  320620070203,NBP0702,   132,  1,      4,      4,2,20070310,   0,-72.7010,-123.4920,  468,    349.6,  -1.5100,  34.1310,2,-999.0000,9,    256.9,2,   -999.0,9,  -999.00,9,  -999.00,9,  -999.00,  -999.00,9, -999.000,9,  -1.5186
  320620070203,NBP0702,   132,  1,      3,      3,2,20070310,   0,-72.7010,-123.4920,  468,    349.6,  -1.5080,  34.1310,2,  34.1310,2,    256.7,2,    255.1,2,    89.91,2,    31.28,2,     0.04,     2.29,2, -999.000,9,  -1.5166
  320620070203,NBP0702,   132,  1,      2,      2,2,20070310,   0,-72.7010,-123.4920,  468,    420.3,  -0.0690,  34.3780,2,  34.3830,2,    211.4,2,    209.9,2,    94.17,2,    32.72,2,     0.02,     2.36,2, -999.000,9,  -0.0849
  320620070203,NBP0702,   132,  1,      1,      1,2,20070310,   0,-72.7010,-123.4920,  468,    458.3,   0.7590,  34.6100,2,  34.6040,2,    195.2,2,    194.4,2,   102.25,2,    32.62,2,     0.02,     2.34,2, -999.000,9,   0.7381
  320620070203,NBP0702,   133,  1,      8,      8,2,20070310,   0,-72.7210,-121.2010,  438,      9.1,  -1.3890,  33.0860,2,  33.0860,2,    342.3,2,    344.3,2,    61.66,2,    17.00,2,     0.13,     0.98,3, -999.000,9,  -1.3892
  320620070203,NBP0702,   133,  1,      7,      7,2,20070310,   0,-72.7210,-121.2010,  438,     34.6,  -1.2150,  33.4040,2,-999.0000,9,    310.1,2,   -999.0,9,    78.64,2,    22.29,2,     0.09,     1.91,2, -999.000,9,  -1.2158
  320620070203,NBP0702,   133,  1,      6,      6,2,20070310,   0,-72.7210,-121.2010,  438,    100.0,  -1.5300,  34.0400,2,  34.0360,2,    249.9,2,    250.7,2,    93.65,2,    31.33,2,     0.09,     2.34,2, -999.000,9,  -1.5322
  320620070203,NBP0702,   133,  1,      5,      5,2,20070310,   0,-72.7210,-121.2010,  438,    150.5,  -1.6030,  34.0740,2,  34.0740,2,    253.2,2,   -999.0,9,    92.97,2,    31.91,2,     0.09,     2.32,2, -999.000,9,  -1.6063
  320620070203,NBP0702,   133,  1,      4,      4,2,20070310,   0,-72.7210,-121.2010,  438,    200.4,  -1.7130,  34.0920,2,  34.0900,2,    259.1,2,    259.6,2,    91.07,2,    31.51,2,     0.11,     2.30,2, -999.000,9,  -1.7172
  320620070203,NBP0702,   133,  1,      3,      3,2,20070310,   0,-72.7210,-121.2010,  438,    260.7,  -1.7330,  34.1010,2,  34.0990,2,    262.3,2,    262.3,2,    91.25,2,    31.47,2,     0.06,     2.28,2, -999.000,9,  -1.7386
  320620070203,NBP0702,   133,  1,      2,      2,2,20070310,   0,-72.7210,-121.2010,  438,    330.1,  -1.4410,  34.1300,2,-999.0000,9,    247.8,2,   -999.0,9,    92.21,2,    31.54,2,     0.07,     2.28,2, -999.000,9,  -1.4492
  320620070203,NBP0702,   133,  1,      1,      1,2,20070310,   0,-72.7210,-121.2010,  438,    428.1,   0.5130,  34.5450,2,-999.0000,9,    197.0,2,    198.6,2,   102.26,2,    32.69,2,     0.05,     2.38,2, -999.000,9,   0.4945
  320620070203,NBP0702,   134,  1,      7,      7,2,20070311,   0,-72.3630,-119.2550,  485,      2.0,  -1.6660,  32.8100,2,  32.8050,2,    351.0,2,    355.2,2,    52.41,2,    23.39,2,     0.16,     1.41,3, -999.000,9,  -1.6660
  320620070203,NBP0702,   134,  1,      6,      6,2,20070311,   0,-72.3630,-119.2550,  485,     20.0,  -1.6660,  32.8160,2,-999.0000,9,    350.7,2,    352.9,2,    53.27,2,    23.57,2,     0.18,     1.32,3, -999.000,9,  -1.6663
  320620070203,NBP0702,   134,  1,      5,      5,2,20070311,   0,-72.3630,-119.2550,  485,     99.5,  -1.6710,  34.0710,2,-999.0000,9,    259.6,2,    259.9,2,    87.35,2,    31.47,2,     0.15,     2.31,2, -999.000,9,  -1.6730
  320620070203,NBP0702,   134,  1,      4,      4,2,20070311,   0,-72.3630,-119.2550,  485,    200.0,  -1.7790,  34.1000,2,  34.0980,2,    263.1,2,    266.0,2,    91.25,2,    31.39,2,     0.03,     2.30,2, -999.000,9,  -1.7831
  320620070203,NBP0702,   134,  1,      3,      3,2,20070311,   0,-72.3630,-119.2550,  485,    299.9,  -1.4440,  34.1420,2,  34.1450,2,    254.2,2,    255.4,2,    91.43,2,    31.97,2,     0.03,     2.30,2, -999.000,9,  -1.4514
  320620070203,NBP0702,   134,  1,      2,      2,2,20070311,   0,-72.3630,-119.2550,  485,    419.8,  -0.1180,  34.3880,2,-999.0000,9,    200.5,2,    198.9,2,   101.33,2,    33.17,2,     0.05,     2.42,2, -999.000,9,  -0.1337
  320620070203,NBP0702,   134,  1,      1,      1,2,20070311,   0,-72.3630,-119.2550,  485,    475.0,   0.8370,  34.6620,2,  34.6610,2,    193.7,2,    192.0,2,   110.82,2,    33.00,2,     0.02,     2.32,2, -999.000,9,   0.8149
  320620070203,NBP0702,   135,  1,      8,      8,2,20070311,   0,-71.7870,-117.5090,  471,      2.0,  -1.6020,  32.7850,2,-999.0000,9,    347.5,2,   -999.0,9,    54.51,2,    23.01,2,     0.15,     1.65,2, -999.000,9,  -1.6020
  320620070203,NBP0702,   135,  1,      7,      7,2,20070311,   0,-71.7870,-117.5090,  471,     19.8,  -1.4730,  33.0230,2,-999.0000,9,    333.8,2,    336.1,2,    60.05,2,    24.27,2,     0.14,     1.84,2, -999.000,9,  -1.4734
  320620070203,NBP0702,   135,  1,      6,      6,2,20070311,   0,-71.7870,-117.5090,  471,     99.9,  -1.6290,  33.9710,2,  33.9690,2,    279.9,2,    280.9,2,    72.36,2,    30.28,2,     0.20,     2.27,2, -999.000,9,  -1.6311
  320620070203,NBP0702,   135,  1,      5,      5,2,20070311,   0,-71.7870,-117.5090,  471,    180.2,  -1.2350,  34.1730,2,  34.1730,2,    253.1,2,    252.6,2,    87.05,2,    31.75,2,     0.05,     2.34,2, -999.000,9,  -1.2396
  320620070203,NBP0702,   135,  1,      4,      4,2,20070311,   0,-71.7870,-117.5090,  471,    309.5,   0.4770,  34.5210,2,  34.5150,2,    198.4,2,    197.8,2,    95.11,2,    32.62,2,     0.02,     2.44,2, -999.000,9,   0.4641
  320620070203,NBP0702,   135,  1,      3,      3,2,20070311,   0,-71.7870,-117.5090,  471,    359.8,   0.6730,  34.5910,2,  34.5970,2,    194.9,2,    193.8,2,   105.12,2,    32.63,2,     0.01,     2.38,2, -999.000,9,   0.6572
  320620070203,NBP0702,   135,  1,      2,      2,2,20070311,   0,-71.7870,-117.5090,  471,    429.7,   0.9270,  34.6870,2,  34.6920,2,    192.7,2,    191.4,2,   111.77,2,    32.72,2,     0.01,     2.36,2, -999.000,9,   0.9069
  320620070203,NBP0702,   135,  1,      1,      1,2,20070311,   0,-71.7870,-117.5090,  471,    461.3,   0.9430,  34.6950,2,  34.6950,2,    193.2,2,    192.0,2,   110.82,2,    32.54,2,     0.01,     2.38,2, -999.000,9,   0.9212