BOTTLE,202201227CCHSIOENA
EXPOCODE,SECT_ID,STNNBR,CASTNO,SAMPNO,BTLNBR,BTLNBR_FLAG_W,DATE,TIME,LATITUDE,LONGITUDE,DEPTH,CTDPRS,CTDTMP,CTDSAL,CTDSAL_FLAG_W,SALNTY,SALNTY_FLAG_W,CTDOXY,CTDOXY_FLAG_W,OXYGEN,OXYGEN_FLAG_W,SILCAT,SILCAT_FLAG_W,NITRAT,NITRAT_FLAG_W,NITRIT,PHSPHT,PHSPHT_FLAG_W,CFC-12,CFC-12_FLAG_W,THETA
,,,,,,,,,,,METERS,DBAR,ITS-90,PSS-78,,PSS-78,,UMOL/KG,,UMOL/KG,,UMOL/KG,,UMOL/KG,,UMOL/KG,UMOL/KG,,PMOL/KG,,DEG C
  320620070203,NBP0702,   102,  1,      9,      9,2,20070303,   0,-73.6550,-127.8750,  815,      2.0,  -1.7030,  33.5760,2,  33.5750,2,    331.8,2,    335.0,2,    81.71,2,    23.23,2,     0.08,     1.77,2, -999.000,9,  -1.7030
  320620070203,NBP0702,   102,  1,      8,      8,2,20070303,   0,-73.6550,-127.8750,  815,     79.8,  -1.7410,  33.6370,2,-999.0000,9,    311.4,2,   -999.0,9,    79.59,2,    24.38,2,     0.08,     1.91,2, -999.000,9,  -1.7425
  320620070203,NBP0702,   102,  1,      7,      7,2,20070303,   0,-73.6550,-127.8750,  815,    150.1,  -1.6650,  33.8130,2,-999.0000,9,    284.8,2,   -999.0,9,    87.50,2,    26.30,2,     0.07,     2.01,2, -999.000,9,  -1.6681
  320620070203,NBP0702,   102,  1,      6,      6,2,20070303,   0,-73.6550,-127.8750,  815,    275.1,  -1.6140,  34.0350,2,  34.0310,2,    265.5,2,    266.2,2,    83.84,2,    29.64,2,     0.05,     2.14,2, -999.000,9,  -1.6202
  320620070203,NBP0702,   102,  1,      5,      5,2,20070303,   0,-73.6550,-127.8750,  815,    500.4,   0.1990,  34.4490,2,-999.0000,9,    207.0,2,   -999.0,9,    95.24,2,    31.49,2,     0.00,     2.22,2, -999.000,9,   0.1785
  320620070203,NBP0702,   102,  1,      4,      4,2,20070303,   0,-73.6550,-127.8750,  815,    560.2,   0.8490,  34.5740,2,  34.5740,2,    195.7,2,   -999.0,9,  -999.00,9,  -999.00,9,  -999.00,  -999.00,9, -999.000,9,   0.8226
  320620070203,NBP0702,   102,  1,      3,      3,2,20070303,   0,-73.6550,-127.8750,  815,    600.2,   0.9150,  34.5930,2,  34.5890,2,    194.2,2,    193.3,2,    94.46,2,    31.30,2,     0.00,     2.25,2, -999.000,9,   0.8862
  320620070203,NBP0702,   102,  1,      2,      2,2,20070303,   0,-73.6550,-127.8750,  815,    700.6,   1.3020,  34.6850,2,  34.6840,2,    186.5,2,   -999.0,9,    98.17,2,    31.21,2,     0.00,     2.20,2, -999.000,9,   1.2654
  320620070203,NBP0702,   102,  1,      1,      1,2,20070303,   0,-73.6550,-127.8750,  815,    804.6,   1.3450,  34.7040,2,  34.7020,2,    186.5,2,    187.1,2,    99.12,2,    31.41,2,     0.00,     2.20,2, -999.000,9,   1.3019
  320620070203,NBP0702,   103,  1,      6,      6,2,20070304,   0,-73.8450,-127.3740,  638,      2.0,  -1.5640,  33.5530,2,  33.5560,2,    326.0,2,    326.8,2,    85.72,2,    20.86,2,     0.08,     1.74,2, -999.000,9,  -1.5640
  320620070203,NBP0702,   103,  1,      5,      5,2,20070304,   0,-73.8450,-127.3740,  638,     99.6,  -1.7110,  33.7060,2,  33.7310,2,    300.0,2,    298.5,2,    85.03,2,    25.44,2,     0.08,     1.96,2, -999.000,9,  -1.7129
  320620070203,NBP0702,   103,  1,      4,      4,2,20070304,   0,-73.8450,-127.3740,  638,    199.6,  -1.6730,  34.0240,2,  34.0270,2,    266.7,2,    266.9,2,    86.71,2,    29.86,2,     0.03,     2.13,2, -999.000,9,  -1.6773
  320620070203,NBP0702,   103,  1,      3,      3,2,20070304,   0,-73.8450,-127.3740,  638,    299.8,  -1.5760,  34.1010,2,  34.1000,2,    264.0,2,    264.5,2,    88.14,2,    29.98,2,     0.00,     2.14,2, -999.000,9,  -1.5830
  320620070203,NBP0702,   103,  1,      2,      2,2,20070304,   0,-73.8450,-127.3740,  638,    339.8,  -1.7130,  34.1130,2,  34.1140,2,    274.2,2,    273.8,2,    88.42,2,    29.51,2,     0.00,     2.13,2, -999.000,9,  -1.7207
  320620070203,NBP0702,   103,  1,      1,      1,2,20070304,   0,-73.8450,-127.3740,  638,    627.5,   1.3350,  34.6740,2,  34.6750,2,    186.1,2,    186.6,2,    95.31,2,    31.31,2,     0.00,     2.24,2, -999.000,9,   1.3024
  320620070203,NBP0702,   104,  1,      4,      4,2,20070304,   0,-73.9480,-127.4630,  786,      2.0,  -1.6340,  33.5690,2,  33.5670,2,    323.1,2,    324.9,2,  -999.00,9,  -999.00,9,  -999.00,  -999.00,9, -999.000,9,  -1.6340
  320620070203,NBP0702,   104,  1,      3,      3,2,20070304,   0,-73.9480,-127.4630,  786,    200.1,  -1.6850,  33.9970,2,  33.9990,2,    271.0,2,    268.0,2,  -999.00,9,  -999.00,9,  -999.00,  -999.00,9, -999.000,9,  -1.6893
  320620070203,NBP0702,   104,  1,      2,      2,2,20070304,   0,-73.9480,-127.4630,  786,    300.1,  -1.6870,  34.0560,2,  34.0490,2,    270.0,2,    271.7,2,  -999.00,9,  -999.00,9,  -999.00,  -999.00,9, -999.000,9,  -1.6937
  320620070203,NBP0702,   104,  1,      1,      1,2,20070304,   0,-73.9480,-127.4630,  786,    776.4,   1.1210,  34.7150,2,  34.7220,2,    191.0,2,    191.2,2,  -999.00,9,  -999.00,9,  -999.00,  -999.00,9, -999.000,9,   1.0810
  320620070203,NBP0702,   105,  1,     11,     11,2,20070304,   0,-74.0340,-127.7100,  739,      2.0,  -1.6760,  33.5740,2,-999.0000,9,    331.6,2,    333.0,2,  -999.00,9,  -999.00,9,  -999.00,  -999.00,9, -999.000,9,  -1.6760
  320620070203,NBP0702,   105,  1,     10,     10,2,20070304,   0,-74.0340,-127.7100,  739,      2.0,  -1.6830,  33.5730,2,-999.0000,9,    332.0,2,   -999.0,9,    82.57,2,    21.81,2,     0.08,     1.75,2, -999.000,9,  -1.6830
  320620070203,NBP0702,   105,  1,      9,      9,2,20070304,   0,-74.0340,-127.7100,  739,     60.1,  -1.6800,  33.5930,2,  33.6280,2,    323.3,2,    319.1,2,    84.66,2,    22.85,2,     0.08,     1.84,2, -999.000,9,  -1.6812
  320620070203,NBP0702,   105,  1,      8,      8,2,20070304,   0,-74.0340,-127.7100,  739,    120.2,  -1.6810,  33.8070,2,  33.8260,2,    286.5,2,    286.5,2,    86.74,2,    27.05,2,     0.08,     2.05,2, -999.000,9,  -1.6834
  320620070203,NBP0702,   105,  1,      7,      7,2,20070304,   0,-74.0340,-127.7100,  739,    160.2,  -1.6730,  33.8550,2,  33.8580,2,    280.9,2,    282.7,2,    85.97,2,    27.43,2,     0.08,     2.06,2, -999.000,9,  -1.6763
  320620070203,NBP0702,   105,  1,      6,      6,2,20070304,   0,-74.0340,-127.7100,  739,    249.5,  -1.6770,  33.9780,2,-999.0000,9,    266.2,2,   -999.0,9,  -999.00,9,  -999.00,9,  -999.00,  -999.00,9, -999.000,9,  -1.6824
  320620070203,NBP0702,   105,  1,      5,      5,2,20070304,   0,-74.0340,-127.7100,  739,    249.5,  -1.6760,  33.9740,2,  33.9740,2,    265.9,2,    266.6,2,    90.54,2,    29.43,2,     0.09,     2.13,2, -999.000,9,  -1.6814
  320620070203,NBP0702,   105,  1,      4,      4,2,20070304,   0,-74.0340,-127.7100,  739,    400.2,  -1.6410,  34.1160,2,  34.1090,2,    268.8,2,    270.5,2,    90.32,2,    30.18,2,     0.00,     2.13,2, -999.000,9,  -1.6505
  320620070203,NBP0702,   105,  1,      3,      3,2,20070304,   0,-74.0340,-127.7100,  739,    636.0,   0.8270,  34.5700,2,-999.0000,9,    194.7,2,    192.5,2,    94.27,2,    31.41,2,     0.00,     2.25,2, -999.000,9,   0.7967
  320620070203,NBP0702,   105,  1,      2,      2,2,20070304,   0,-74.0340,-127.7100,  739,    650.5,   0.6570,  34.5720,2,-999.0000,9,    198.8,2,    198.5,2,    98.18,2,    31.13,2,     0.00,     2.22,2, -999.000,9,   0.6268
  320620070203,NBP0702,   105,  1,      1,      1,2,20070304,   0,-74.0340,-127.7100,  739,    728.6,   0.9280,  34.6510,2,  34.6460,2,    194.4,2,    196.3,2,   104.85,2,    31.41,2,     0.00,     2.21,2, -999.000,9,   0.8920
  320620070203,NBP0702,   106,  1,      4,      4,2,20070304,   0,-74.1170,-127.9130,  677,     50.3,  -1.7110,  33.6260,2,  33.6520,2,    321.7,2,    318.0,2,  -999.00,9,  -999.00,9,  -999.00,  -999.00,9, -999.000,9,  -1.7119
  320620070203,NBP0702,   106,  1,      3,      3,2,20070304,   0,-74.1170,-127.9130,  677,    320.4,  -1.7090,  34.0700,2,  34.0650,2,    270.9,2,    272.3,2,  -999.00,9,  -999.00,9,  -999.00,  -999.00,9, -999.000,9,  -1.7162
  320620070203,NBP0702,   106,  1,      2,      2,2,20070304,   0,-74.1170,-127.9130,  677,    530.7,   0.1510,  34.4350,2,-999.0000,9,    209.4,2,    206.7,2,  -999.00,9,  -999.00,9,  -999.00,  -999.00,9, -999.000,9,   0.1293
  320620070203,NBP0702,   106,  1,      1,      1,2,20070304,   0,-74.1170,-127.9130,  677,    667.2,   0.6970,  34.5840,2,  34.5810,2,    199.2,2,    198.4,2,  -999.00,9,  -999.00,9,  -999.00,  -999.00,9, -999.000,9,   0.6657
  320620070203,NBP0702,   107,  1,      6,      6,2,20070304,   0,-74.2000,-128.1040,  575,      2.0,  -1.5560,  33.6680,2,  33.6530,2,    312.1,2,    314.4,2,    85.04,2,    24.29,2,     0.08,     1.90,2, -999.000,9,  -1.5560
  320620070203,NBP0702,   107,  1,      5,      5,2,20070304,   0,-74.2000,-128.1040,  575,    150.0,  -1.7040,  33.7730,2,  33.7900,2,    292.7,2,    292.0,2,    86.07,2,    26.76,2,     0.09,     2.02,2, -999.000,9,  -1.7070
  320620070203,NBP0702,   107,  1,      4,      4,2,20070304,   0,-74.2000,-128.1040,  575,    219.7,  -1.8230,  33.9750,2,  33.9730,2,    267.5,2,    268.1,2,    88.44,2,    29.55,2,     0.06,     2.15,2, -999.000,9,  -1.8274
  320620070203,NBP0702,   107,  1,      3,      3,2,20070304,   0,-74.2000,-128.1040,  575,    380.0,  -1.6090,  34.1250,2,  34.1230,2,    268.3,2,    269.6,2,    90.22,2,    29.90,2,     0.00,     2.15,2, -999.000,9,  -1.6181
  320620070203,NBP0702,   107,  1,      2,      2,2,20070304,   0,-74.2000,-128.1040,  575,    439.9,  -0.9450,  34.2230,2,  34.2220,2,    241.5,2,    241.6,2,    93.84,2,    30.94,2,     0.00,     2.19,2, -999.000,9,  -0.9584
  320620070203,NBP0702,   107,  1,      1,      1,2,20070304,   0,-74.2000,-128.1040,  575,    565.3,   0.2460,  34.4590,2,  34.4550,2,    207.9,2,    208.2,2,    93.52,2,    31.22,2,     0.00,     2.23,2, -999.000,9,   0.2223
  320620070203,NBP0702,   108,  1,      5,      5,2,20070304,   0,-74.3090,-128.5560,  760,      2.0,  -1.7570,  33.5980,2,  33.5970,2,    323.0,2,    325.2,2,  -999.00,9,  -999.00,9,  -999.00,  -999.00,9, -999.000,9,  -1.7570
  320620070203,NBP0702,   108,  1,      4,      4,2,20070304,   0,-74.3090,-128.5560,  760,     99.2,  -1.7940,  33.6020,2,  33.6010,2,    323.4,2,    325.7,2,  -999.00,9,  -999.00,9,  -999.00,  -999.00,9, -999.000,9,  -1.7958
  320620070203,NBP0702,   108,  1,      3,      3,2,20070304,   0,-74.3090,-128.5560,  760,    259.4,  -1.7600,  33.9700,2,  33.9680,2,    270.1,2,    271.1,2,  -999.00,9,  -999.00,9,  -999.00,  -999.00,9, -999.000,9,  -1.7655
  320620070203,NBP0702,   108,  1,      2,      2,2,20070304,   0,-74.3090,-128.5560,  760,    540.0,  -0.2460,  34.3400,2,  34.3420,2,    219.7,2,    217.6,2,  -999.00,9,  -999.00,9,  -999.00,  -999.00,9, -999.000,9,  -0.2662
  320620070203,NBP0702,   108,  1,      1,      1,2,20070304,   0,-74.3090,-128.5560,  760,    749.7,   0.8270,  34.6110,2,  34.6110,2,    195.7,2,    195.1,2,  -999.00,9,  -999.00,9,  -999.00,  -999.00,9, -999.000,9,   0.7905
  320620070203,NBP0702,   109,  1,      7,      7,2,20070304,   0,-74.3740,-129.0510,  660,      2.0,  -1.8180,  33.6130,2,-999.0000,9,    324.1,2,   -999.0,9,    79.41,2,    23.90,2,     0.09,     1.83,2, -999.000,9,  -1.8180
  320620070203,NBP0702,   109,  1,      6,      6,2,20070304,   0,-74.3740,-129.0510,  660,     29.9,  -1.8320,  33.6130,2,-999.0000,9,    324.3,2,   -999.0,9,    80.84,2,    24.09,2,     0.09,     1.85,2, -999.000,9,  -1.8325
  320620070203,NBP0702,   109,  1,      5,      5,2,20070304,   0,-74.3740,-129.0510,  660,    149.8,  -1.8290,  33.6140,2,  33.6180,2,    323.4,2,    326.3,2,    79.69,2,    24.04,2,     0.09,     1.86,2, -999.000,9,  -1.8318
  320620070203,NBP0702,   109,  1,      4,      4,2,20070304,   0,-74.3740,-129.0510,  660,    319.0,  -1.6280,  34.0230,2,  34.0300,2,    261.3,2,    261.9,2,    83.56,2,    29.95,2,     0.04,     2.12,2, -999.000,9,  -1.6353
  320620070203,NBP0702,   109,  1,      3,      3,2,20070304,   0,-74.3740,-129.0510,  660,    409.7,  -1.7020,  34.1040,2,  34.1070,2,    272.4,2,    273.0,2,    88.22,2,    30.07,2,     0.00,     2.09,2, -999.000,9,  -1.7116
  320620070203,NBP0702,   109,  1,      2,      2,2,20070304,   0,-74.3740,-129.0510,  660,    529.9,  -0.7360,  34.2580,2,  34.2710,2,    235.0,2,    233.3,2,    91.92,2,    31.03,2,     0.00,     2.18,2, -999.000,9,  -0.7535
  320620070203,NBP0702,   109,  1,      1,      1,2,20070304,   0,-74.3740,-129.0510,  660,    650.0,   0.3840,  34.5010,2,  34.5020,2,    205.4,2,    205.1,2,    96.95,2,    31.30,2,     0.00,     2.20,2, -999.000,9,   0.3554
  320620070203,NBP0702,   110,  1,      5,      5,2,20070304,   0,-74.4020,-129.5840,  886,     29.7,  -1.8480,  33.6420,2,  33.6390,2,    323.1,2,    325.8,2,  -999.00,9,  -999.00,9,  -999.00,  -999.00,9, -999.000,9,  -1.8485
  320620070203,NBP0702,   110,  1,      4,      4,2,20070304,   0,-74.4020,-129.5840,  886,    119.5,  -1.8480,  33.6490,2,  33.6490,2,    324.7,2,   -999.0,9,  -999.00,9,  -999.00,9,  -999.00,  -999.00,9, -999.000,9,  -1.8502
  320620070203,NBP0702,   110,  1,      3,      3,2,20070304,   0,-74.4020,-129.5840,  886,    280.3,  -1.6860,  33.9870,2,  33.9880,2,    261.8,2,    262.7,2,  -999.00,9,  -999.00,9,  -999.00,  -999.00,9, -999.000,9,  -1.6922
  320620070203,NBP0702,   110,  1,      2,      2,2,20070304,   0,-74.4020,-129.5840,  886,    400.4,  -1.6110,  34.1050,2,  34.1080,2,    266.8,2,    266.9,2,  -999.00,9,  -999.00,9,  -999.00,  -999.00,9, -999.000,9,  -1.6206
  320620070203,NBP0702,   110,  1,      1,      1,2,20070304,   0,-74.4020,-129.5840,  886,    875.6,   0.8480,  34.6370,2,  34.6330,2,    195.3,2,    195.9,2,  -999.00,9,  -999.00,9,  -999.00,  -999.00,9, -999.000,9,   0.8042
  320620070203,NBP0702,   111,  1,      8,      8,2,20070304,   0,-74.3740,-129.9750,  871,      2.0,  -1.7940,  33.6530,2,-999.0000,9,    324.5,2,   -999.0,9,    78.35,2,    23.98,2,     0.10,     1.85,2, -999.000,9,  -1.7940
  320620070203,NBP0702,   111,  1,      7,      7,2,20070304,   0,-74.3740,-129.9750,  871,     30.3,  -1.8480,  33.6550,2,-999.0000,9,    323.4,2,   -999.0,9,    81.51,2,    23.90,2,     0.09,     1.88,2, -999.000,9,  -1.8485
  320620070203,NBP0702,   111,  1,      6,      6,2,20070304,   0,-74.3740,-129.9750,  871,     99.5,  -1.8410,  33.6850,2,  33.6890,2,    320.5,2,    323.3,2,    82.65,2,    23.52,2,     0.08,     1.84,2, -999.000,9,  -1.8428
  320620070203,NBP0702,   111,  1,      5,      5,2,20070304,   0,-74.3740,-129.9750,  871,    200.3,  -1.7320,  33.8810,2,  33.8860,2,    254.3,2,    256.2,2,    85.49,2,    29.75,2,     0.05,     2.13,2, -999.000,9,  -1.7361
  320620070203,NBP0702,   111,  1,      4,      4,2,20070304,   0,-74.3740,-129.9750,  871,    340.4,  -1.5690,  34.0400,2,  34.0370,2,    262.8,2,    261.4,2,    88.90,2,    30.07,2,     0.11,     2.15,2, -999.000,9,  -1.5771
  320620070203,NBP0702,   111,  1,      3,      3,2,20070304,   0,-74.3740,-129.9750,  871,    509.8,  -1.0030,  34.2110,2,  34.2100,2,    243.8,2,    243.9,2,    91.08,2,    30.45,2,     0.00,     2.16,2, -999.000,9,  -1.0186
  320620070203,NBP0702,   111,  1,      2,      2,2,20070304,   0,-74.3740,-129.9750,  871,    680.0,   0.1560,  34.4540,2,  34.4680,2,    210.9,2,    208.9,2,    96.10,2,    31.31,2,     0.00,     2.18,2, -999.000,9,   0.1272
  320620070203,NBP0702,   111,  1,      1,      1,2,20070304,   0,-74.3740,-129.9750,  871,    860.9,   0.7310,  34.5970,2,  34.5930,2,    197.3,2,    197.8,2,    99.13,2,    31.31,2,     0.00,     2.22,2, -999.000,9,   0.6890
  320620070203,NBP0702,   112,  1,      6,      6,2,20070304,   0,-74.2840,-130.4840,  636,      2.0,  -1.8350,  33.6530,2,  33.6520,2,    333.3,2,   -999.0,9,    82.39,2,    23.14,2,     0.09,     1.71,2, -999.000,9,  -1.8350
  320620070203,NBP0702,   112,  1,      5,      5,2,20070304,   0,-74.2840,-130.4840,  636,    220.0,  -1.6060,  33.9340,2,-999.0000,9,    249.6,2,    251.7,2,    92.48,2,    30.63,2,     0.04,     2.16,2, -999.000,9,  -1.6108
  320620070203,NBP0702,   112,  1,      4,      4,2,20070304,   0,-74.2840,-130.4840,  636,    280.6,  -1.6100,  33.9830,2,  33.9800,2,    260.8,2,   -999.0,9,  -999.00,9,  -999.00,9,  -999.00,  -999.00,9, -999.000,9,  -1.6164
  320620070203,NBP0702,   112,  1,      3,      3,2,20070304,   0,-74.2840,-130.4840,  636,    420.2,  -1.5710,  34.1160,2,  34.1050,2,    268.4,2,    267.6,2,    90.35,2,    30.76,2,     0.00,     2.16,2, -999.000,9,  -1.5813
  320620070203,NBP0702,   112,  1,      2,      2,2,20070304,   0,-74.2840,-130.4840,  636,    530.3,  -0.5020,  34.3010,2,  34.2940,2,    228.9,2,    228.6,2,    94.15,2,    31.43,2,     0.00,     2.25,2, -999.000,9,  -0.5206
  320620070203,NBP0702,   112,  1,      1,      1,2,20070304,   0,-74.2840,-130.4840,  636,    625.9,  -0.0550,  34.4020,2,  34.3970,2,    217.7,2,    218.1,2,    97.00,2,    31.99,2,     0.00,     2.25,2, -999.000,9,  -0.0800
  320620070203,NBP0702,   113,  1,      6,      6,2,20070305,   0,-74.3490,-130.9300,  450,      2.0,  -1.8270,  33.6470,2,-999.0000,9,    335.5,2,    337.0,2,    83.54,2,    23.23,2,     0.10,     1.72,2, -999.000,9,  -1.8270
  320620070203,NBP0702,   113,  1,      5,      5,2,20070305,   0,-74.3490,-130.9300,  450,     77.8,  -1.8360,  33.6540,2,  33.6630,2,    334.2,2,    330.7,2,    82.77,2,    23.72,2,     0.09,     1.77,2, -999.000,9,  -1.8374
  320620070203,NBP0702,   113,  1,      4,      4,2,20070305,   0,-74.3490,-130.9300,  450,    200.1,  -1.6280,  33.9050,2,-999.0000,9,    251.9,2,    250.5,2,    94.29,2,    30.45,2,     0.03,     2.16,2, -999.000,9,  -1.6323
  320620070203,NBP0702,   113,  1,      3,      3,2,20070305,   0,-74.3490,-130.9300,  450,    230.2,  -1.5460,  33.9300,2,  33.9230,2,    246.1,2,    244.7,2,    95.06,2,    31.23,2,     0.01,     2.19,2, -999.000,9,  -1.5512
  320620070203,NBP0702,   113,  1,      2,      2,2,20070305,   0,-74.3490,-130.9300,  450,    340.1,  -1.3710,  34.0710,2,  34.0630,2,    253.0,2,    250.3,2,    92.85,2,    31.14,2,     0.00,     2.18,2, -999.000,9,  -1.3797
  320620070203,NBP0702,   113,  1,      1,      1,2,20070305,   0,-74.3490,-130.9300,  450,    439.7,  -0.9090,  34.1910,2,  34.1830,2,    241.0,2,    241.0,2,    93.97,2,    31.42,2,     0.00,     2.20,2, -999.000,9,  -0.9225
  320620070203,NBP0702,   114,  1,      9,      9,2,20070306,   0,-74.4710,-133.2780,  836,      2.0,  -1.7630,  33.5830,2,-999.0000,9,    327.4,2,   -999.0,9,    81.54,2,    23.06,2,     0.09,     1.79,2, -999.000,9,  -1.7630
  320620070203,NBP0702,   114,  1,      8,      8,2,20070306,   0,-74.4710,-133.2780,  836,     80.0,  -1.7120,  33.6660,2,  33.6670,2,    314.0,2,    314.9,2,    88.51,2,    24.48,2,     0.09,     1.87,2, -999.000,9,  -1.7135
  320620070203,NBP0702,   114,  1,      7,      7,2,20070306,   0,-74.4710,-133.2780,  836,    130.4,  -1.7800,  33.9150,2,-999.0000,9,    266.2,2,   -999.0,9,    91.63,2,    30.13,2,     0.06,     2.12,2, -999.000,9,  -1.7826
  320620070203,NBP0702,   114,  1,      6,      6,2,20070306,   0,-74.4710,-133.2780,  836,    199.7,  -1.7510,  33.9460,2,-999.0000,9,    264.6,2,    265.9,2,    92.01,2,    30.50,2,     0.08,     2.17,2, -999.000,9,  -1.7551
  320620070203,NBP0702,   114,  1,      5,      5,2,20070306,   0,-74.4710,-133.2780,  836,    299.8,  -1.6630,  34.0500,2,  34.0460,2,    268.0,2,    268.6,2,    89.51,2,    30.46,2,     0.11,     2.17,2, -999.000,9,  -1.6697
  320620070203,NBP0702,   114,  1,      4,      4,2,20070306,   0,-74.4710,-133.2780,  836,    449.6,  -1.7000,  34.1140,2,  34.1100,2,    273.0,2,    275.2,2,    89.49,2,    30.45,2,     0.01,     2.13,2, -999.000,9,  -1.7107
  320620070203,NBP0702,   114,  1,      3,      3,2,20070306,   0,-74.4710,-133.2780,  836,    557.2,  -0.8360,  34.2470,2,  34.2470,2,    240.3,2,    239.0,2,    93.49,2,    31.79,2,     0.01,     2.23,2, -999.000,9,  -0.8541
  320620070203,NBP0702,   114,  1,      2,      2,2,20070306,   0,-74.4710,-133.2780,  836,    695.3,   0.2540,  34.4830,2,  34.4880,2,    211.8,2,   -999.0,9,  -999.00,9,  -999.00,9,  -999.00,  -999.00,9, -999.000,9,   0.2239
  320620070203,NBP0702,   114,  1,      1,      1,2,20070306,   0,-74.4710,-133.2780,  836,    826.1,   0.4240,  34.5290,2,  34.5290,2,    209.1,2,    209.5,2,   100.32,2,    31.78,2,     0.00,     2.23,2, -999.000,9,   0.3861