BOTTLE,202201227CCHSIOENA
EXPOCODE,SECT_ID,STNNBR,CASTNO,SAMPNO,BTLNBR,BTLNBR_FLAG_W,DATE,TIME,LATITUDE,LONGITUDE,DEPTH,CTDPRS,CTDTMP,CTDSAL,CTDSAL_FLAG_W,SALNTY,SALNTY_FLAG_W,CTDOXY,CTDOXY_FLAG_W,OXYGEN,OXYGEN_FLAG_W,SILCAT,SILCAT_FLAG_W,NITRAT,NITRAT_FLAG_W,NITRIT,PHSPHT,PHSPHT_FLAG_W,CFC-12,CFC-12_FLAG_W,THETA
,,,,,,,,,,,METERS,DBAR,ITS-90,PSS-78,,PSS-78,,UMOL/KG,,UMOL/KG,,UMOL/KG,,UMOL/KG,,UMOL/KG,UMOL/KG,,PMOL/KG,,DEG C
  320620070203,NBP0702,   160,  1,      7,      7,2,20070315,   0,-71.1940,-102.3210, 1096,      9.6,  -1.7920,  32.8720,2,  33.0820,2,    334.3,2,    330.8,2,    42.74,2,    25.29,2,     0.16,     1.75,2, -999.000,9,  -1.7922
  320620070203,NBP0702,   160,  1,      6,      6,2,20070315,   0,-71.1940,-102.3210, 1096,     99.9,  -1.6460,  33.9770,2,  33.9790,2,    271.4,2,    277.0,2,    79.24,2,    30.10,2,     0.00,     2.10,2, -999.000,9,  -1.6481
  320620070203,NBP0702,   160,  1,      5,      5,2,20070315,   0,-71.1940,-102.3210, 1096,    200.1,  -0.7310,  34.2180,2,-999.0000,9,    238.9,2,    237.6,2,    86.27,2,    32.09,2,     0.00,     2.25,2, -999.000,9,  -0.7370
  320620070203,NBP0702,   160,  1,      4,      4,2,20070315,   0,-71.1940,-102.3210, 1096,    354.0,   1.7550,  34.6920,2,  34.6920,2,    172.1,2,    174.9,2,    87.74,2,    32.28,2,     0.00,     2.29,2, -999.000,9,   1.7362
  320620070203,NBP0702,   160,  1,      3,      3,2,20070315,   0,-71.1940,-102.3210, 1096,    500.3,   1.6670,  34.7230,2,  34.7230,2,    177.7,2,    176.8,2,    90.79,2,    32.37,2,     0.00,     2.25,2, -999.000,9,   1.6402
  320620070203,NBP0702,   160,  1,      2,      2,2,20070315,   0,-71.1940,-102.3210, 1096,    800.5,   1.3390,  34.7310,2,  34.7300,2,    187.2,2,    186.3,2,   101.28,2,    31.90,2,     0.00,     2.24,2, -999.000,9,   1.2962
  320620070203,NBP0702,   160,  1,      1,      1,2,20070315,   0,-71.1940,-102.3210, 1096,   1085.5,   0.8260,  34.7160,2,  34.7150,2,    199.7,2,    198.0,2,   116.53,2,    31.81,2,     0.00,     2.25,2, -999.000,9,   0.7698
  320620070203,NBP0702,   162,  1,     11,     11,2,20070316,   0,-71.4970,-102.7910,  702,    100.4,  -1.7790,  33.9390,2,  33.9470,2,    281.3,2,    282.9,2,    76.28,2,    30.35,2,     0.03,     2.08,2, -999.000,9,  -1.7809
  320620070203,NBP0702,   162,  1,     10,     10,2,20070316,   0,-71.4970,-102.7910,  702,    100.4,  -1.7800,  33.9390,2,-999.0000,9,    281.5,2,   -999.0,9,  -999.00,9,  -999.00,9,  -999.00,  -999.00,9,    2.527,2,  -1.7819
  320620070203,NBP0702,   162,  1,      9,      9,2,20070316,   0,-71.4970,-102.7910,  702,    196.6,  -1.3290,  34.0860,2,  34.0900,2,    266.8,2,    265.9,2,    75.22,2,    31.32,2,     0.00,     2.16,2, -999.000,9,  -1.3338
  320620070203,NBP0702,   162,  1,      8,      8,2,20070316,   0,-71.4970,-102.7910,  702,    196.6,  -1.3290,  34.0860,2,-999.0000,9,    266.7,2,   -999.0,9,  -999.00,9,  -999.00,9,  -999.00,  -999.00,9,    2.131,2,  -1.3338
  320620070203,NBP0702,   162,  1,      7,      7,2,20070316,   0,-71.4970,-102.7910,  702,    300.1,   0.3100,  34.4220,2,-999.0000,9,    205.8,2,    205.1,2,    83.96,2,    32.86,2,     0.00,     2.27,2, -999.000,9,   0.2980
  320620070203,NBP0702,   162,  1,      6,      6,2,20070316,   0,-71.4970,-102.7910,  702,    300.1,   0.3090,  34.4220,2,-999.0000,9,    205.6,2,   -999.0,9,  -999.00,9,  -999.00,9,  -999.00,  -999.00,9,    0.830,2,   0.2970
  320620070203,NBP0702,   162,  1,      5,      5,2,20070316,   0,-71.4970,-102.7910,  702,    401.2,   1.4340,  34.6810,2,  34.6820,2,    179.8,2,    179.4,2,    93.94,2,    32.84,2,     0.00,     2.23,2, -999.000,9,   1.4136
  320620070203,NBP0702,   162,  1,      4,      4,2,20070316,   0,-71.4970,-102.7910,  702,    401.2,   1.4340,  34.6800,2,-999.0000,9,    179.9,2,   -999.0,9,  -999.00,9,  -999.00,9,  -999.00,  -999.00,9,    0.233,2,   1.4136
  320620070203,NBP0702,   162,  1,      3,      3,2,20070316,   0,-71.4970,-102.7910,  702,    550.3,   1.3280,  34.7250,2,  34.7240,2,    186.4,2,    185.4,2,   103.18,2,    32.44,2,     0.00,     2.09,2, -999.000,9,   1.2998
  320620070203,NBP0702,   162,  1,      2,      2,2,20070316,   0,-71.4970,-102.7910,  702,    550.3,   1.3280,  34.7250,2,-999.0000,9,    186.2,2,   -999.0,9,  -999.00,9,  -999.00,9,  -999.00,  -999.00,9,    0.129,2,   1.2998
  320620070203,NBP0702,   162,  1,      1,      1,2,20070316,   0,-71.4970,-102.7910,  702,    691.5,   1.1570,  34.7240,2,  34.7240,2,    190.7,2,    193.8,2,   106.04,2,    32.17,2,     0.01,     2.24,2, -999.000,9,   1.1217
  320620070203,NBP0702,   163,  1,     10,     10,2,20070316,   0,-71.7290,-103.0510,  745,      2.0,  -1.8040,  32.9760,2,-999.0000,9,    333.5,2,   -999.0,9,    41.88,2,    25.07,2,     0.19,     1.75,2, -999.000,9,  -1.8040
  320620070203,NBP0702,   163,  1,      9,      9,2,20070316,   0,-71.7290,-103.0510,  745,     19.8,  -1.8040,  32.9780,2,  33.1190,2,    333.2,2,    331.0,2,    42.83,2,    25.28,2,     0.17,     1.77,2, -999.000,9,  -1.8043
  320620070203,NBP0702,   163,  1,      8,      8,2,20070316,   0,-71.7290,-103.0510,  745,    119.9,  -1.8040,  33.9490,2,  33.9490,2,    282.1,2,   -999.0,9,    77.24,2,    29.52,2,     0.00,     2.05,2, -999.000,9,  -1.8063
  320620070203,NBP0702,   163,  1,      7,      7,2,20070316,   0,-71.7290,-103.0510,  745,    174.4,  -1.7050,  33.9960,2,-999.0000,9,    283.5,2,    283.4,2,    67.02,2,    30.29,2,     0.00,     2.12,2, -999.000,9,  -1.7086
  320620070203,NBP0702,   163,  1,      6,      6,2,20070316,   0,-71.7290,-103.0510,  745,    300.1,   0.0600,  34.3770,2,-999.0000,9,    213.8,2,    211.7,2,    88.64,2,    32.67,2,     0.00,     2.28,2, -999.000,9,   0.0486
  320620070203,NBP0702,   163,  1,      5,      5,2,20070316,   0,-71.7290,-103.0510,  745,    300.4,   0.0600,  34.3770,2,-999.0000,9,    213.7,2,    211.6,2,  -999.00,9,  -999.00,9,  -999.00,  -999.00,9, -999.000,9,   0.0486
  320620070203,NBP0702,   163,  1,      4,      4,2,20070316,   0,-71.7290,-103.0510,  745,    409.6,   1.5640,  34.6980,2,  34.6970,2,    178.8,2,    176.7,2,    91.08,2,    32.29,2,     0.00,     2.28,2, -999.000,9,   1.5427
  320620070203,NBP0702,   163,  1,      3,      3,2,20070316,   0,-71.7290,-103.0510,  745,    409.8,   1.5640,  34.6980,2,-999.0000,9,    178.8,2,    177.3,2,  -999.00,9,  -999.00,9,  -999.00,  -999.00,9, -999.000,9,   1.5427
  320620070203,NBP0702,   163,  1,      2,      2,2,20070316,   0,-71.7290,-103.0510,  745,    599.5,   1.2350,  34.7260,2,  34.7260,2,    189.9,2,    187.6,2,  -999.00,9,  -999.00,9,  -999.00,  -999.00,9, -999.000,9,   1.2045
  320620070203,NBP0702,   163,  1,      1,      1,2,20070316,   0,-71.7290,-103.0510,  745,    734.7,   1.1120,  34.7240,2,  34.7240,2,    193.1,2,    191.3,2,   104.14,2,    32.18,2,     0.00,     2.24,2, -999.000,9,   1.0745
  320620070203,NBP0702,   164,  1,     16,     16,2,20070316,   0,-71.9030,-103.3440,  753,      2.0,  -1.8040,  32.9850,2,-999.0000,9,    332.7,2,   -999.0,9,    40.76,2,    25.27,2,     0.19,     1.86,2, -999.000,9,  -1.8040
  320620070203,NBP0702,   164,  1,     15,     15,2,20070316,   0,-71.9030,-103.3440,  753,     44.8,  -1.8050,  33.2490,2,-999.0000,9,    318.7,2,   -999.0,9,  -999.00,9,  -999.00,9,  -999.00,  -999.00,9,    2.569,2,  -1.8058
  320620070203,NBP0702,   164,  1,     14,     14,2,20070316,   0,-71.9030,-103.3440,  753,     44.8,  -1.8060,  33.2360,2,-999.0000,9,    324.7,2,    309.6,3,    57.85,2,    27.71,2,     0.13,     2.10,2, -999.000,9,  -1.8068
  320620070203,NBP0702,   164,  1,     13,     13,2,20070316,   0,-71.9030,-103.3440,  753,     84.6,  -1.7890,  33.8970,2,  33.8990,2,    285.4,2,    284.6,2,    76.36,2,    29.90,2,     0.10,     2.22,2, -999.000,9,  -1.7906
  320620070203,NBP0702,   164,  1,     12,     12,2,20070316,   0,-71.9030,-103.3440,  753,     84.6,  -1.7900,  33.8980,2,-999.0000,9,    285.4,2,   -999.0,9,  -999.00,9,  -999.00,9,  -999.00,  -999.00,9,    2.323,2,  -1.7916
  320620070203,NBP0702,   164,  1,     11,     11,2,20070316,   0,-71.9030,-103.3440,  753,    164.5,  -1.7230,  33.9750,2,  33.9740,2,    280.7,2,    280.7,2,    69.81,2,    30.47,2,     0.00,     2.20,2, -999.000,9,  -1.7264
  320620070203,NBP0702,   164,  1,     10,     10,2,20070316,   0,-71.9030,-103.3440,  753,    164.5,  -1.7230,  33.9750,2,-999.0000,9,    280.9,2,    280.7,2,  -999.00,9,  -999.00,9,  -999.00,  -999.00,9, -999.000,9,  -1.7264
  320620070203,NBP0702,   164,  1,      9,      9,2,20070316,   0,-71.9030,-103.3440,  753,    164.5,  -1.7230,  33.9750,2,-999.0000,9,    280.7,2,   -999.0,9,  -999.00,9,  -999.00,9,  -999.00,  -999.00,9,    2.281,2,  -1.7264
  320620070203,NBP0702,   164,  1,      8,      8,2,20070316,   0,-71.9030,-103.3440,  753,    249.1,  -0.9160,  34.1790,2,-999.0000,9,    247.2,2,    245.8,2,    86.84,2,    32.00,2,     0.00,     2.28,2, -999.000,9,  -0.9232
  320620070203,NBP0702,   164,  1,      7,      7,2,20070316,   0,-71.9030,-103.3440,  753,    367.8,   0.6860,  34.5200,2,-999.0000,9,    195.4,2,   -999.0,9,  -999.00,9,  -999.00,9,  -999.00,  -999.00,9,    0.601,2,   0.6698
  320620070203,NBP0702,   164,  1,      6,      6,2,20070316,   0,-71.9030,-103.3440,  753,    367.8,   0.6870,  34.5200,2,  34.5230,2,    195.5,2,    192.9,2,    95.85,2,    33.52,2,     0.00,     2.37,2, -999.000,9,   0.6708
  320620070203,NBP0702,   164,  1,      5,      5,2,20070316,   0,-71.9030,-103.3440,  753,    478.8,   1.3710,  34.7120,2,  34.7130,2,    184.6,2,    182.9,2,   101.59,2,    32.58,2,     0.00,     2.35,2, -999.000,9,   1.3466
  320620070203,NBP0702,   164,  1,      4,      4,2,20070316,   0,-71.9030,-103.3440,  753,    478.9,   1.3570,  34.7100,2,-999.0000,9,    184.7,2,   -999.0,9,  -999.00,9,  -999.00,9,  -999.00,  -999.00,9,    0.125,2,   1.3326
  320620070203,NBP0702,   164,  1,      3,      3,2,20070316,   0,-71.9030,-103.3440,  753,    600.7,   1.1520,  34.7240,2,  34.7240,2,    191.3,2,   -999.0,9,   109.28,2,    32.37,2,     0.00,     2.33,2, -999.000,9,   1.1218
  320620070203,NBP0702,   164,  1,      2,      2,2,20070316,   0,-71.9030,-103.3440,  753,    742.9,   1.0420,  34.7230,2,  34.7220,2,    195.1,2,    191.7,2,   113.13,2,    32.36,2,     0.00,     2.35,2, -999.000,9,   1.0044
  320620070203,NBP0702,   164,  1,      1,      1,2,20070316,   0,-71.9030,-103.3440,  753,    743.0,   1.0420,  34.7230,2,-999.0000,9,    194.9,2,   -999.0,9,  -999.00,9,  -999.00,9,  -999.00,  -999.00,9,    0.126,2,   1.0044
  320620070203,NBP0702,   165,  1,      8,      8,2,20070317,   0,-71.7510,-104.0090,  677,      2.0,  -1.8070,  33.1370,2,  33.1330,2,    329.0,2,    332.6,2,    44.47,2,    25.76,2,     0.17,     1.85,2, -999.000,9,  -1.8070
  320620070203,NBP0702,   165,  1,      7,      7,2,20070317,   0,-71.7510,-104.0090,  677,     24.5,  -1.8100,  33.1540,2,-999.0000,9,    328.1,2,   -999.0,9,    46.52,2,    26.15,2,     0.15,     1.88,2, -999.000,9,  -1.8104
  320620070203,NBP0702,   165,  1,      6,      6,2,20070317,   0,-71.7510,-104.0090,  677,     24.5,  -1.8100,  33.1560,2,  33.2110,2,    328.3,2,    328.7,2,  -999.00,9,  -999.00,9,  -999.00,  -999.00,9, -999.000,9,  -1.8104
  320620070203,NBP0702,   165,  1,      5,      5,2,20070317,   0,-71.7510,-104.0090,  677,    130.3,  -1.7540,  33.9560,2,  33.9580,2,    280.3,2,    281.8,2,    77.38,2,    30.35,2,     0.03,     2.21,2, -999.000,9,  -1.7566
  320620070203,NBP0702,   165,  1,      4,      4,2,20070317,   0,-71.7510,-104.0090,  677,    214.5,  -1.3210,  34.0850,2,  34.0880,2,    265.5,2,    264.2,2,    78.00,2,    31.16,2,     0.00,     2.24,2, -999.000,9,  -1.3263
  320620070203,NBP0702,   165,  1,      3,      3,2,20070317,   0,-71.7510,-104.0090,  677,    359.6,   0.7110,  34.5520,2,-999.0000,9,    193.0,2,   -999.0,9,    94.41,2,    33.25,2,     0.00,     2.34,2, -999.000,9,   0.6951
  320620070203,NBP0702,   165,  1,      2,      2,2,20070317,   0,-71.7510,-104.0090,  677,    401.1,   1.6370,  34.7060,2,  34.7040,2,    177.4,2,    176.3,2,    93.48,2,    32.84,2,     0.00,     2.32,2, -999.000,9,   1.6160
  320620070203,NBP0702,   165,  1,      1,      1,2,20070317,   0,-71.7510,-104.0090,  677,    667.2,   1.0840,  34.7240,2,  34.7230,2,    192.8,2,    193.8,2,   112.60,2,    32.18,2,     0.00,     2.30,2, -999.000,9,   1.0505
  320620070203,NBP0702,   166,  1,     12,     12,2,20070317,   0,-71.4800,-105.0000,  577,      2.0,  -1.8050,  33.1820,2,-999.0000,9,    332.0,2,   -999.0,9,    59.17,2,    24.48,2,     0.11,  -999.00,9, -999.000,9,  -1.8050
  320620070203,NBP0702,   166,  1,     11,     11,2,20070317,   0,-71.4800,-105.0000,  577,     39.2,  -1.7550,  33.5630,2,-999.0000,9,    304.9,2,   -999.0,9,    71.89,2,    28.47,2,     0.11,     2.06,2,    2.454,2,  -1.7557
  320620070203,NBP0702,   166,  1,     10,     10,2,20070317,   0,-71.4800,-105.0000,  577,     39.3,  -1.7550,  33.5610,2,-999.0000,9,    307.6,2,    297.6,2,  -999.00,9,  -999.00,9,  -999.00,  -999.00,9, -999.000,9,  -1.7557
  320620070203,NBP0702,   166,  1,      9,      9,2,20070317,   0,-71.4800,-105.0000,  577,    100.2,  -1.7760,  33.9130,2,-999.0000,9,    282.4,2,   -999.0,9,  -999.00,9,  -999.00,9,  -999.00,  -999.00,9,    2.382,2,  -1.7779
  320620070203,NBP0702,   166,  1,      8,      8,2,20070317,   0,-71.4800,-105.0000,  577,    100.3,  -1.7760,  33.9130,2,  33.9120,2,    282.8,2,    284.0,2,    78.30,2,    30.09,2,     0.10,     2.15,2, -999.000,9,  -1.7779
  320620070203,NBP0702,   166,  1,      7,      7,2,20070317,   0,-71.4800,-105.0000,  577,    159.8,  -1.7140,  33.9580,2,-999.0000,9,    277.0,2,   -999.0,9,  -999.00,9,  -999.00,9,  -999.00,  -999.00,9,    2.162,2,  -1.7173
  320620070203,NBP0702,   166,  1,      6,      6,2,20070317,   0,-71.4800,-105.0000,  577,    159.9,  -1.7150,  33.9580,2,  33.9560,2,    277.0,2,    278.7,2,    81.49,2,    30.61,2,     0.05,     2.15,2, -999.000,9,  -1.7183
  320620070203,NBP0702,   166,  1,      5,      5,2,20070317,   0,-71.4800,-105.0000,  577,    300.0,  -0.3710,  34.2950,2,-999.0000,9,    225.1,2,    224.6,2,    91.38,2,    32.19,2,     0.00,     2.30,2, -999.000,9,  -0.3812
  320620070203,NBP0702,   166,  1,      4,      4,2,20070317,   0,-71.4800,-105.0000,  577,    475.0,   1.2650,  34.7110,2,-999.0000,9,    184.9,2,   -999.0,9,  -999.00,9,  -999.00,9,  -999.00,  -999.00,9,    0.131,2,   1.2412
  320620070203,NBP0702,   166,  1,      3,      3,2,20070317,   0,-71.4800,-105.0000,  577,    475.1,   1.2650,  34.7110,2,  34.7110,2,    184.9,2,    184.6,2,   105.49,2,    32.28,2,     0.00,     2.28,2, -999.000,9,   1.2412
  320620070203,NBP0702,   166,  1,      2,      2,2,20070317,   0,-71.4800,-105.0000,  577,    519.0,   1.0520,  34.7190,2,  34.7200,2,    191.6,2,   -999.0,9,  -999.00,9,  -999.00,9,  -999.00,  -999.00,9, -999.000,9,   1.0267
  320620070203,NBP0702,   166,  1,      1,      1,2,20070317,   0,-71.4800,-105.0000,  577,    567.2,   1.0330,  34.7200,2,  34.7190,2,    192.3,2,    186.6,2,   115.07,2,    32.17,2,     0.00,     2.29,2, -999.000,9,   1.0052
  320620070203,NBP0702,   167,  1,     13,     13,2,20070317,   0,-71.2860,-105.2800,  568,      2.0,  -1.8100,  33.1110,2,-999.0000,9,    340.0,2,   -999.0,9,    59.46,2,    23.43,2,     0.11,     1.66,2, -999.000,9,  -1.8100
  320620070203,NBP0702,   167,  1,     12,     12,2,20070317,   0,-71.2860,-105.2800,  568,     17.9,  -1.8140,  33.1180,2,-999.0000,9,    339.7,2,    341.4,2,    54.53,2,    23.53,2,     0.10,     1.69,2, -999.000,9,  -1.8143
  320620070203,NBP0702,   167,  1,     11,     11,2,20070317,   0,-71.2860,-105.2800,  568,     17.9,  -1.8140,  33.1180,2,-999.0000,9,    339.8,2,   -999.0,9,  -999.00,9,  -999.00,9,  -999.00,  -999.00,9,    2.771,2,  -1.8143
  320620070203,NBP0702,   167,  1,     10,     10,2,20070317,   0,-71.2860,-105.2800,  568,    120.9,  -1.6910,  33.9690,2,  33.9700,2,    280.1,2,    279.4,2,    76.18,2,    30.14,2,     0.05,     2.13,2, -999.000,9,  -1.6935
  320620070203,NBP0702,   167,  1,      9,      9,2,20070317,   0,-71.2860,-105.2800,  568,    120.9,  -1.6950,  33.9680,2,-999.0000,9,    280.5,2,   -999.0,9,  -999.00,9,  -999.00,9,  -999.00,  -999.00,9,    2.340,2,  -1.6975
  320620070203,NBP0702,   167,  1,      8,      8,2,20070317,   0,-71.2860,-105.2800,  568,    210.3,  -1.1280,  34.1320,2,-999.0000,9,    256.9,2,    255.2,2,    81.28,2,    31.14,2,     0.00,     2.21,2, -999.000,9,  -1.1336
  320620070203,NBP0702,   167,  1,      7,      7,2,20070317,   0,-71.2860,-105.2800,  568,    210.3,  -1.1340,  34.1270,2,-999.0000,9,    257.8,2,   -999.0,9,  -999.00,9,  -999.00,9,  -999.00,  -999.00,9,    1.804,2,  -1.1395
  320620070203,NBP0702,   167,  1,      6,      6,2,20070317,   0,-71.2860,-105.2800,  568,    330.5,   0.3460,  34.4500,2,-999.0000,9,    204.8,2,   -999.0,9,    90.25,2,    32.66,2,     0.00,     2.30,2, -999.000,9,   0.3325
  320620070203,NBP0702,   167,  1,      5,      5,2,20070317,   0,-71.2860,-105.2800,  568,    409.4,   1.2960,  34.7020,2,  34.7000,2,    185.3,2,    183.2,2,   103.14,2,    32.19,2,     0.00,     2.26,2, -999.000,9,   1.2756
  320620070203,NBP0702,   167,  1,      4,      4,2,20070317,   0,-71.2860,-105.2800,  568,    409.4,   1.2970,  34.7020,2,-999.0000,9,    185.3,2,   -999.0,9,  -999.00,9,  -999.00,9,  -999.00,  -999.00,9,    0.226,2,   1.2766
  320620070203,NBP0702,   167,  1,      3,      3,2,20070317,   0,-71.2860,-105.2800,  568,    500.4,   1.1710,  34.7220,2,  34.7210,2,    190.3,2,    190.9,2,   109.86,2,    32.07,2,     0.00,     2.27,2, -999.000,9,   1.1462
  320620070203,NBP0702,   167,  1,      2,      2,2,20070317,   0,-71.2860,-105.2800,  568,    500.5,   1.1720,  34.7220,2,-999.0000,9,    190.4,2,   -999.0,9,  -999.00,9,  -999.00,9,  -999.00,  -999.00,9,    0.133,2,   1.1472
  320620070203,NBP0702,   167,  1,      1,      1,2,20070317,   0,-71.2860,-105.2800,  568,    558.3,   1.1300,  34.7240,2,  34.7240,2,    191.8,2,    193.1,2,   105.15,2,    32.08,2,     0.00,     2.27,2, -999.000,9,   1.1022
  320620070203,NBP0702,   190,  1,      6,      6,2,20070321,   0,-67.6770, -73.3370,  481,     20.0,   0.6270,  33.5170,2,  33.5210,2,    334.5,2,   -999.0,9,  -999.00,9,  -999.00,9,  -999.00,  -999.00,9, -999.000,9,   0.6262
  320620070203,NBP0702,   190,  1,      5,      5,2,20070321,   0,-67.6770, -73.3370,  481,     98.9,  -1.5200,  34.0910,2,  34.0920,2,    292.1,2,   -999.0,9,  -999.00,9,  -999.00,9,  -999.00,  -999.00,9, -999.000,9,  -1.5222
  320620070203,NBP0702,   190,  1,      4,      4,2,20070321,   0,-67.6770, -73.3370,  481,    260.0,   1.3300,  34.6200,2,  34.6200,2,    178.1,2,   -999.0,9,  -999.00,9,  -999.00,9,  -999.00,  -999.00,9, -999.000,9,   1.3174
  320620070203,NBP0702,   190,  1,      3,      3,2,20070321,   0,-67.6770, -73.3370,  481,    359.6,   1.6000,  34.7000,2,  34.7000,2,    178.1,2,   -999.0,9,  -999.00,9,  -999.00,9,  -999.00,  -999.00,9, -999.000,9,   1.5814
  320620070203,NBP0702,   190,  1,      2,      2,2,20070321,   0,-67.6770, -73.3370,  481,    398.9,   1.5790,  34.7110,2,  34.7120,2,    179.7,2,   -999.0,9,  -999.00,9,  -999.00,9,  -999.00,  -999.00,9, -999.000,9,   1.5583
  320620070203,NBP0702,   190,  1,      1,      1,2,20070321,   0,-67.6770, -73.3370,  481,    471.1,   1.5380,  34.7210,2,  34.7210,2,    178.7,2,   -999.0,9,  -999.00,9,  -999.00,9,  -999.00,  -999.00,9, -999.000,9,   1.5134