BOTTLE,202201227CCHSIOENA
EXPOCODE,SECT_ID,STNNBR,CASTNO,SAMPNO,BTLNBR,BTLNBR_FLAG_W,DATE,TIME,LATITUDE,LONGITUDE,DEPTH,CTDPRS,CTDTMP,CTDSAL,CTDSAL_FLAG_W,SALNTY,SALNTY_FLAG_W,CTDOXY,CTDOXY_FLAG_W,OXYGEN,OXYGEN_FLAG_W,SILCAT,SILCAT_FLAG_W,NITRAT,NITRAT_FLAG_W,NITRIT,PHSPHT,PHSPHT_FLAG_W,CFC-12,CFC-12_FLAG_W,THETA
,,,,,,,,,,,METERS,DBAR,ITS-90,PSS-78,,PSS-78,,UMOL/KG,,UMOL/KG,,UMOL/KG,,UMOL/KG,,UMOL/KG,UMOL/KG,,PMOL/KG,,DEG C
  320620070203,NBP0702,    23,  1,      9,      9,2,20070210,   0,-78.4520,-169.1550,  577,      2.0,  -0.6430,  33.7570,2,-999.0000,9,    366.7,2,   -999.0,9,    75.48,2,    14.41,2,     0.10,     1.06,2, -999.000,9,  -0.6431
  320620070203,NBP0702,    23,  1,      8,      8,2,20070210,   0,-78.4520,-169.1550,  577,     20.0,  -0.6130,  33.7680,2,  33.7730,2,    365.6,2,    366.8,2,    74.62,2,    14.32,2,     0.11,     1.07,2, -999.000,9,  -0.6136
  320620070203,NBP0702,    23,  1,      7,      7,2,20070210,   0,-78.4520,-169.1550,  577,     60.1,  -0.4480,  33.8930,2,  33.9040,2,    361.0,2,    360.6,2,    76.57,2,    15.71,2,     0.10,     1.19,2, -999.000,9,  -0.4498
  320620070203,NBP0702,    23,  1,      6,      6,2,20070210,   0,-78.4520,-169.1550,  577,    109.7,  -0.9390,  33.9990,2,-999.0000,9,    338.7,2,   -999.0,9,  -999.00,9,  -999.00,9,  -999.00,  -999.00,9, -999.000,9,  -0.9419
  320620070203,NBP0702,    23,  1,      5,      5,2,20070210,   0,-78.4520,-169.1550,  577,    109.8,  -0.9380,  33.9990,2,  34.0020,2,    338.4,2,    338.4,2,  -999.00,9,  -999.00,9,  -999.00,  -999.00,9, -999.000,9,  -0.9410
  320620070203,NBP0702,    23,  1,      4,      4,2,20070210,   0,-78.4520,-169.1550,  577,    249.6,  -1.7980,  34.2090,2,  34.2080,2,    283.7,2,    282.2,2,    81.26,2,    28.22,2,     0.12,     2.02,2, -999.000,9,  -1.8033
  320620070203,NBP0702,    23,  1,      3,      3,2,20070210,   0,-78.4520,-169.1550,  577,    379.3,  -1.7050,  34.4220,2,  34.4200,2,    271.0,2,    270.1,2,    81.33,2,    29.75,2,     0.02,     2.02,2, -999.000,9,  -1.7140
  320620070203,NBP0702,    23,  1,      2,      2,2,20070210,   0,-78.4520,-169.1550,  577,    510.2,  -1.8270,  34.4600,2,  34.4630,2,    272.9,2,    272.6,2,  -999.00,9,  -999.00,9,  -999.00,  -999.00,9, -999.000,9,  -1.8392
  320620070203,NBP0702,    23,  1,      1,      1,2,20070210,   0,-78.4520,-169.1550,  577,    566.7,  -1.8390,  34.4670,2,  34.4660,2,    271.7,2,    272.0,2,  -999.00,9,  -999.00,9,  -999.00,  -999.00,9, -999.000,9,  -1.8528
  320620070203,NBP0702,    24,  1,      9,      9,2,20070211,   0,-78.5000,-167.5040,  565,      2.0,  -0.5930,  33.7330,2,  33.7330,2,    367.4,2,    368.3,2,    74.82,2,    14.51,2,     0.10,     1.04,2, -999.000,9,  -0.5931
  320620070203,NBP0702,    24,  1,      8,      8,2,20070211,   0,-78.5000,-167.5040,  565,     20.5,  -0.5800,  33.7390,2,  33.7430,2,    367.4,2,    367.9,2,    74.24,2,    14.90,2,     0.10,     1.03,2, -999.000,9,  -0.5806
  320620070203,NBP0702,    24,  1,      7,      7,2,20070211,   0,-78.5000,-167.5040,  565,     60.3,  -0.4690,  33.7670,2,  33.7760,2,    366.3,2,   -999.0,9,  -999.00,9,  -999.00,9,  -999.00,  -999.00,9, -999.000,9,  -0.4708
  320620070203,NBP0702,    24,  1,      6,      6,2,20070211,   0,-78.5000,-167.5040,  565,     77.7,  -0.2620,  33.8850,2,-999.0000,9,    367.0,2,   -999.0,9,  -999.00,9,  -999.00,9,  -999.00,  -999.00,9,    3.103,2,  -0.2645
  320620070203,NBP0702,    24,  1,      5,      5,2,20070211,   0,-78.5000,-167.5040,  565,     77.8,  -0.2590,  33.8850,2,-999.0000,9,    366.9,2,    367.2,2,    75.09,2,    15.37,2,     0.10,     1.09,2, -999.000,9,  -0.2615
  320620070203,NBP0702,    24,  1,      4,      4,2,20070211,   0,-78.5000,-167.5040,  565,    262.6,  -1.7860,  34.1950,2,  34.1960,2,    278.4,2,   -999.0,9,  -999.00,9,  -999.00,9,  -999.00,  -999.00,9,    2.233,2,  -1.7916
  320620070203,NBP0702,    24,  1,      3,      3,2,20070211,   0,-78.5000,-167.5040,  565,    450.2,  -1.8800,  34.3790,2,-999.0000,9,    275.9,2,   -999.0,9,  -999.00,9,  -999.00,9,  -999.00,  -999.00,9,    2.454,2,  -1.8902
  320620070203,NBP0702,    24,  1,      2,      2,2,20070211,   0,-78.5000,-167.5040,  565,    450.2,  -1.8800,  34.3780,2,  34.3730,2,    276.1,2,    277.4,2,    79.61,2,    29.66,2,     0.02,     2.06,2, -999.000,9,  -1.8902
  320620070203,NBP0702,    24,  1,      1,      1,2,20070211,   0,-78.5000,-167.5040,  565,    554.6,  -1.8440,  34.4680,2,  34.4680,2,    271.9,2,   -999.0,9,  -999.00,9,  -999.00,9,  -999.00,  -999.00,9,    2.478,2,  -1.8574
  320620070203,NBP0702,    25,  1,      3,      3,2,20070211,   0,-78.5720,-165.5120,  500,     58.7,  -0.4780,  33.7650,2,  33.7930,2,    364.9,2,    365.6,2,    76.06,2,    14.50,2,     0.11,     1.12,2, -999.000,9,  -0.4798
  320620070203,NBP0702,    25,  1,      2,      2,2,20070211,   0,-78.5720,-165.5120,  500,    150.0,  -1.7050,  34.1640,2,  34.1620,2,    287.8,2,    287.3,2,    82.60,2,    28.10,2,     0.16,     2.01,2, -999.000,9,  -1.7081
  320620070203,NBP0702,    25,  1,      1,      1,2,20070211,   0,-78.5720,-165.5120,  500,    490.2,  -1.8400,  34.4660,2,  34.4610,2,    270.3,2,    270.8,2,    81.13,2,    29.94,2,     0.02,     2.07,2, -999.000,9,  -1.8516
  320620070203,NBP0702,    26,  1,     15,     15,2,20070211,   0,-78.6380,-163.5220,  394,      2.0,  -0.8000,  33.6740,2,  33.6750,2,    359.6,2,    361.2,2,    74.26,2,    14.90,2,     0.10,     1.09,2, -999.000,9,  -0.8001
  320620070203,NBP0702,    26,  1,     14,     14,2,20070211,   0,-78.6380,-163.5220,  394,     19.5,  -0.6460,  33.7450,2,  33.7490,2,    361.6,2,    360.5,2,    75.96,2,    14.99,2,     0.10,     1.11,2, -999.000,9,  -0.6465
  320620070203,NBP0702,    26,  1,     13,     13,2,20070211,   0,-78.6380,-163.5220,  394,     60.1,  -0.5920,  33.7660,2,  33.7670,2,    359.5,2,    359.8,2,    76.24,2,    14.90,2,     0.09,     1.10,2, -999.000,9,  -0.5937
  320620070203,NBP0702,    26,  1,     12,     12,2,20070211,   0,-78.6380,-163.5220,  394,     60.2,  -0.5930,  33.7660,2,-999.0000,9,    359.5,2,   -999.0,9,  -999.00,9,  -999.00,9,  -999.00,  -999.00,9,    3.049,2,  -0.5947
  320620070203,NBP0702,    26,  1,     11,     11,2,20070211,   0,-78.6380,-163.5220,  394,    100.5,  -1.3970,  33.9090,2,  33.9380,2,    322.8,2,    320.8,2,    81.48,2,    22.25,2,     0.09,     1.66,2, -999.000,9,  -1.3993
  320620070203,NBP0702,    26,  1,     10,     10,2,20070211,   0,-78.6380,-163.5220,  394,    100.5,  -1.3890,  33.9120,2,-999.0000,9,    323.4,2,   -999.0,9,  -999.00,9,  -999.00,9,  -999.00,  -999.00,9,    2.671,2,  -1.3913
  320620070203,NBP0702,    26,  1,      9,      9,2,20070211,   0,-78.6380,-163.5220,  394,    150.3,  -1.4410,  34.0610,2,  34.0550,2,    310.3,2,    311.2,2,    82.04,2,    24.24,2,     0.10,     1.81,2, -999.000,9,  -1.4445
  320620070203,NBP0702,    26,  1,      8,      8,2,20070211,   0,-78.6380,-163.5220,  394,    200.5,  -1.6170,  34.1140,2,  34.1110,2,    293.8,2,    294.9,2,    82.32,2,    26.91,2,     0.11,     1.95,2, -999.000,9,  -1.6214
  320620070203,NBP0702,    26,  1,      7,      7,2,20070211,   0,-78.6380,-163.5220,  394,    259.9,  -1.8010,  34.1690,2,-999.0000,9,    282.7,2,   -999.0,9,  -999.00,9,  -999.00,9,  -999.00,  -999.00,9,    2.193,2,  -1.8065
  320620070203,NBP0702,    26,  1,      6,      6,2,20070211,   0,-78.6380,-163.5220,  394,    259.9,  -1.7920,  34.1650,2,  34.1710,2,    282.2,2,    284.0,2,    84.13,2,    28.97,2,     0.15,     2.04,2, -999.000,9,  -1.7975
  320620070203,NBP0702,    26,  1,      5,      5,2,20070211,   0,-78.6380,-163.5220,  394,    303.2,  -1.8770,  34.2390,2,  34.2400,2,    280.9,2,    281.8,2,    82.69,2,    29.30,2,     0.19,     2.07,2, -999.000,9,  -1.8834
  320620070203,NBP0702,    26,  1,      4,      4,2,20070211,   0,-78.6380,-163.5220,  394,    303.2,  -1.8760,  34.2360,2,-999.0000,9,    281.6,2,   -999.0,9,  -999.00,9,  -999.00,9,  -999.00,  -999.00,9,    2.312,2,  -1.8824
  320620070203,NBP0702,    26,  1,      3,      3,2,20070211,   0,-78.6380,-163.5220,  394,    330.4,  -1.9620,  34.2790,2,-999.0000,9,    276.7,2,   -999.0,9,  -999.00,9,  -999.00,9,  -999.00,  -999.00,9,    2.327,2,  -1.9688
  320620070203,NBP0702,    26,  1,      2,      2,2,20070211,   0,-78.6380,-163.5220,  394,    350.4,  -2.0460,  34.3160,2,  34.3140,2,    274.4,2,    275.3,2,    78.48,2,    29.34,2,     0.05,     2.06,2, -999.000,9,  -2.0531
  320620070203,NBP0702,    26,  1,      1,      1,2,20070211,   0,-78.6380,-163.5220,  394,    384.5,  -2.0330,  34.3350,2,  34.3320,2,    271.8,2,    274.3,2,    78.86,2,    29.45,2,     0.03,     2.08,2, -999.000,9,  -2.0410
  320620070203,NBP0702,    28,  1,     12,     12,2,20070211,   0,-78.3810,-162.1980,  670,      2.0,  -0.9150,  33.5870,2,-999.0000,9,    362.0,2,    363.2,2,    72.64,2,    15.66,2,     0.11,     1.08,2, -999.000,9,  -0.9151
  320620070203,NBP0702,    28,  1,     11,     11,2,20070211,   0,-78.3810,-162.1980,  670,     19.3,  -0.5770,  33.6880,2,  33.6980,2,    359.5,2,    359.2,2,    74.82,2,    16.04,2,     0.10,     1.19,2, -999.000,9,  -0.5776
  320620070203,NBP0702,    28,  1,     10,     10,2,20070211,   0,-78.3810,-162.1980,  670,     39.7,  -0.6140,  33.6970,2,  33.7180,2,    356.0,2,    355.0,2,    74.72,2,    16.23,2,     0.10,     1.23,2, -999.000,9,  -0.6151
  320620070203,NBP0702,    28,  1,      9,      9,2,20070211,   0,-78.3810,-162.1980,  670,    129.9,  -1.7770,  34.0560,2,-999.0000,9,    278.4,2,   -999.0,9,  -999.00,9,  -999.00,9,  -999.00,  -999.00,9,    2.189,2,  -1.7796
  320620070203,NBP0702,    28,  1,      8,      8,2,20070211,   0,-78.3810,-162.1980,  670,    129.9,  -1.7780,  34.0550,2,  34.0580,2,    278.5,2,    278.9,2,    82.33,2,    28.62,2,     0.12,     2.07,2, -999.000,9,  -1.7806
  320620070203,NBP0702,    28,  1,      7,      7,2,20070211,   0,-78.3810,-162.1980,  670,    200.0,  -1.7780,  34.1270,2,  34.1250,2,    276.3,2,   -999.0,9,    83.56,2,    29.67,2,     0.11,     2.07,2, -999.000,9,  -1.7821
  320620070203,NBP0702,    28,  1,      6,      6,2,20070211,   0,-78.3810,-162.1980,  670,    319.6,  -1.7230,  34.1840,2,-999.0000,9,    275.8,2,   -999.0,9,  -999.00,9,  -999.00,9,  -999.00,  -999.00,9,    2.659,2,  -1.7302
  320620070203,NBP0702,    28,  1,      5,      5,2,20070211,   0,-78.3810,-162.1980,  670,    319.7,  -1.7230,  34.1840,2,  34.1840,2,    275.7,2,    276.4,2,    84.79,2,    29.66,2,     0.12,     2.10,2, -999.000,9,  -1.7302
  320620070203,NBP0702,    28,  1,      4,      4,2,20070211,   0,-78.3810,-162.1980,  670,    419.8,  -2.1340,  34.2930,2,-999.0000,9,    275.4,2,   -999.0,9,  -999.00,9,  -999.00,9,  -999.00,  -999.00,9,    2.313,2,  -2.1424
  320620070203,NBP0702,    28,  1,      3,      3,2,20070211,   0,-78.3810,-162.1980,  670,    419.9,  -2.1340,  34.2930,2,  34.2880,2,    275.4,2,    276.7,2,    78.38,2,    29.59,2,     0.00,     2.09,2, -999.000,9,  -2.1424
  320620070203,NBP0702,    28,  1,      2,      2,2,20070211,   0,-78.3810,-162.1980,  670,    499.8,  -1.8990,  34.3670,2,  34.3650,2,    275.6,2,    276.2,2,  -999.00,9,  -999.00,9,  -999.00,  -999.00,9, -999.000,9,  -1.9105
  320620070203,NBP0702,    28,  1,      1,      1,2,20070211,   0,-78.3810,-162.1980,  670,    659.6,  -1.8440,  34.4680,2,  34.4660,2,    270.9,2,    271.9,2,    79.13,2,    29.57,2,     0.01,     2.10,2, -999.000,9,  -1.8607
  320620070203,NBP0702,    29,  1,     14,     14,2,20070211,   0,-78.2250,-160.9110,  666,      2.0,  -0.9010,  33.5410,2,  33.5420,2,    366.0,2,    367.6,2,  -999.00,9,  -999.00,9,  -999.00,  -999.00,9, -999.000,9,  -0.9011
  320620070203,NBP0702,    29,  1,     13,     13,2,20070211,   0,-78.2250,-160.9110,  666,      2.0,  -0.9010,  33.5410,2,-999.0000,9,    365.7,2,   -999.0,9,    67.77,2,    15.56,2,     0.11,     1.02,2, -999.000,9,  -0.9011
  320620070203,NBP0702,    29,  1,     12,     12,2,20070211,   0,-78.2250,-160.9110,  666,     19.8,  -0.9050,  33.5440,2,  33.5450,2,    365.7,2,    367.0,2,    67.39,2,    15.46,2,     0.11,     1.01,2, -999.000,9,  -0.9055
  320620070203,NBP0702,    29,  1,     11,     11,2,20070211,   0,-78.2250,-160.9110,  666,     99.8,  -1.7330,  34.0970,2,  34.0920,2,    278.3,2,    278.4,2,    80.41,2,    28.93,2,     0.09,     2.04,2, -999.000,9,  -1.7350
  320620070203,NBP0702,    29,  1,     10,     10,2,20070211,   0,-78.2250,-160.9110,  666,     99.8,  -1.7320,  34.0960,2,-999.0000,9,    278.2,2,   -999.0,9,  -999.00,9,  -999.00,9,  -999.00,  -999.00,9,    2.138,2,  -1.7340
  320620070203,NBP0702,    29,  1,      9,      9,2,20070211,   0,-78.2250,-160.9110,  666,    160.2,  -1.7600,  34.1150,2,-999.0000,9,    277.0,2,   -999.0,9,  -999.00,9,  -999.00,9,  -999.00,  -999.00,9,    2.101,2,  -1.7633
  320620070203,NBP0702,    29,  1,      8,      8,2,20070211,   0,-78.2250,-160.9110,  666,    160.2,  -1.7580,  34.1150,2,  34.1150,2,    276.7,2,    276.7,2,  -999.00,9,  -999.00,9,  -999.00,  -999.00,9, -999.000,9,  -1.7613
  320620070203,NBP0702,    29,  1,      7,      7,2,20070211,   0,-78.2250,-160.9110,  666,    339.9,  -1.8560,  34.2160,2,  34.2190,2,    279.3,2,    279.6,2,    80.49,2,    29.76,2,     0.12,     2.07,2, -999.000,9,  -1.8633
  320620070203,NBP0702,    29,  1,      6,      6,2,20070211,   0,-78.2250,-160.9110,  666,    419.5,  -2.0960,  34.2930,2,-999.0000,9,    275.8,2,   -999.0,9,  -999.00,9,  -999.00,9,  -999.00,  -999.00,9,    2.283,2,  -2.1046
  320620070203,NBP0702,    29,  1,      5,      5,2,20070211,   0,-78.2250,-160.9110,  666,    419.7,  -2.0970,  34.2920,2,  34.2910,2,    275.8,2,    276.5,2,  -999.00,9,  -999.00,9,  -999.00,  -999.00,9, -999.000,9,  -2.1056
  320620070203,NBP0702,    29,  1,      4,      4,2,20070211,   0,-78.2250,-160.9110,  666,    469.2,  -2.0090,  34.3470,2,  34.3490,2,    274.7,2,    275.2,2,  -999.00,9,  -999.00,9,  -999.00,  -999.00,9, -999.000,9,  -2.0192
  320620070203,NBP0702,    29,  1,      3,      3,2,20070211,   0,-78.2250,-160.9110,  666,    519.5,  -1.8900,  34.3890,2,  34.3910,2,    275.2,2,    275.1,2,  -999.00,9,  -999.00,9,  -999.00,  -999.00,9, -999.000,9,  -1.9021
  320620070203,NBP0702,    29,  1,      2,      2,2,20070211,   0,-78.2250,-160.9110,  666,    599.8,  -1.8490,  34.4530,2,  34.4550,2,    271.2,2,    272.1,2,    76.94,2,    29.76,2,     0.00,     2.08,2,    2.316,2,  -1.8638
  320620070203,NBP0702,    29,  1,      1,      1,2,20070211,   0,-78.2250,-160.9110,  666,    655.8,  -1.8480,  34.4770,2,  34.4740,2,    271.5,2,   -999.0,9,  -999.00,9,  -999.00,9,  -999.00,  -999.00,9, -999.000,9,  -1.8645
  320620070203,NBP0702,    30,  1,     11,     11,2,20070211,   0,-78.0050,-159.4010,  655,      2.0,  -0.8300,  33.4590,2,-999.0000,9,    369.4,2,   -999.0,9,    69.69,2,    16.24,2,     0.11,     1.13,2, -999.000,9,  -0.8301
  320620070203,NBP0702,    30,  1,     10,     10,2,20070211,   0,-78.0050,-159.4010,  655,     37.2,  -0.7860,  33.6570,2,  33.7160,2,    350.8,2,    341.6,2,    74.63,2,    19.49,2,     0.09,     1.45,2, -999.000,9,  -0.7870
  320620070203,NBP0702,    30,  1,      9,      9,2,20070211,   0,-78.0050,-159.4010,  655,    100.4,  -1.5330,  33.9870,2,-999.0000,9,    283.5,2,   -999.0,9,  -999.00,9,  -999.00,9,  -999.00,  -999.00,9,    2.253,2,  -1.5352
  320620070203,NBP0702,    30,  1,      8,      8,2,20070211,   0,-78.0050,-159.4010,  655,    150.1,  -1.5500,  34.0290,2,  34.0250,2,    276.8,2,    276.3,2,  -999.00,9,  -999.00,9,  -999.00,  -999.00,9, -999.000,9,  -1.5533
  320620070203,NBP0702,    30,  1,      7,      7,2,20070211,   0,-78.0050,-159.4010,  655,    150.2,  -1.5340,  34.0250,2,-999.0000,9,    277.1,2,   -999.0,9,  -999.00,9,  -999.00,9,  -999.00,  -999.00,9,    2.051,2,  -1.5373
  320620070203,NBP0702,    30,  1,      6,      6,2,20070211,   0,-78.0050,-159.4010,  655,    249.4,  -1.7760,  34.0740,2,  34.0650,2,    275.8,2,    276.5,2,    79.46,2,    29.00,2,     0.12,     2.07,2, -999.000,9,  -1.7813
  320620070203,NBP0702,    30,  1,      5,      5,2,20070211,   0,-78.0050,-159.4010,  655,    306.6,  -1.9230,  34.1430,2,  34.1440,2,    285.1,2,    284.4,2,  -999.00,9,  -999.00,9,  -999.00,  -999.00,9, -999.000,9,  -1.9293
  320620070203,NBP0702,    30,  1,      4,      4,2,20070211,   0,-78.0050,-159.4010,  655,    400.2,  -1.9320,  34.3000,2,-999.0000,9,    278.4,2,   -999.0,9,  -999.00,9,  -999.00,9,  -999.00,  -999.00,9,    2.373,2,  -1.9407
  320620070203,NBP0702,    30,  1,      3,      3,2,20070211,   0,-78.0050,-159.4010,  655,    400.3,  -1.9300,  34.2990,2,  34.2940,2,    279.0,2,    279.4,2,    78.58,2,    29.68,2,     0.00,     2.07,2, -999.000,9,  -1.9387
  320620070203,NBP0702,    30,  1,      2,      2,2,20070211,   0,-78.0050,-159.4010,  655,    539.9,  -1.8830,  34.4030,2,  34.3970,2,    274.9,2,    275.4,2,  -999.00,9,  -999.00,9,  -999.00,  -999.00,9, -999.000,9,  -1.8958
  320620070203,NBP0702,    30,  1,      1,      1,2,20070211,   0,-78.0050,-159.4010,  655,    645.2,  -1.8530,  34.4520,2,  34.4460,2,    270.1,2,    269.3,2,    78.56,2,    29.93,2,     0.03,     2.10,2, -999.000,9,  -1.8691
  320620070203,NBP0702,    31,  1,      8,      8,2,20070212,   0,-77.8560,-159.8580,  631,      2.0,  -0.5160,  33.6560,2,  33.7150,2,    365.7,2,    364.9,2,    70.34,2,    12.90,2,     0.09,     0.93,2, -999.000,9,  -0.5161
  320620070203,NBP0702,    31,  1,      7,      7,2,20070212,   0,-77.8560,-159.8580,  631,     20.1,  -0.2210,  33.8270,2,  33.8390,2,    365.5,2,    365.6,2,    71.46,2,    13.18,2,     0.10,     0.97,2, -999.000,9,  -0.2216
  320620070203,NBP0702,    31,  1,      6,      6,2,20070212,   0,-77.8560,-159.8580,  631,    100.6,  -1.7750,  34.1310,2,  34.1280,2,    275.5,2,    276.4,2,    79.74,2,    29.20,2,     0.11,     2.08,2, -999.000,9,  -1.7770
  320620070203,NBP0702,    31,  1,      5,      5,2,20070212,   0,-77.8560,-159.8580,  631,    200.1,  -1.7450,  34.1640,2,  34.1600,2,    275.2,2,    275.5,2,    82.41,2,    30.14,2,     0.12,     2.07,2, -999.000,9,  -1.7492
  320620070203,NBP0702,    31,  1,      4,      4,2,20070212,   0,-77.8560,-159.8580,  631,    200.2,  -1.7440,  34.1660,2,-999.0000,9,    275.4,2,   -999.0,9,  -999.00,9,  -999.00,9,  -999.00,  -999.00,9,    2.293,2,  -1.7482
  320620070203,NBP0702,    31,  1,      3,      3,2,20070212,   0,-77.8560,-159.8580,  631,    400.1,  -1.8900,  34.3380,2,  34.3340,2,    277.3,2,    277.2,2,    80.29,2,    29.95,2,     0.01,     2.05,2, -999.000,9,  -1.8988
  320620070203,NBP0702,    31,  1,      2,      2,2,20070212,   0,-77.8560,-159.8580,  631,    400.2,  -1.8910,  34.3350,2,-999.0000,9,    277.3,2,   -999.0,9,  -999.00,9,  -999.00,9,  -999.00,  -999.00,9,    2.295,2,  -1.8998
  320620070203,NBP0702,    31,  1,      1,      1,2,20070212,   0,-77.8560,-159.8580,  631,    621.0,  -1.8480,  34.4480,2,  34.4400,2,    269.8,2,    271.2,2,    78.32,2,    29.71,2,     0.01,     2.10,2, -999.000,9,  -1.8634
  320620070203,NBP0702,    32,  1,      5,      5,2,20070212,   0,-77.4660,-158.2690, 1085,     24.8,  -0.9520,  33.2260,2,  33.2540,2,    373.0,2,    375.3,2,    69.81,2,    14.76,2,     0.15,     1.04,2, -999.000,9,  -0.9526
  320620070203,NBP0702,    32,  1,      4,      4,2,20070212,   0,-77.4660,-158.2690, 1085,    150.2,  -1.7170,  34.0650,2,-999.0000,9,    273.0,2,    273.7,2,    84.52,2,    29.39,2,     0.11,     2.26,2, -999.000,9,  -1.7201
  320620070203,NBP0702,    32,  1,      3,      3,2,20070212,   0,-77.4660,-158.2690, 1085,    301.0,  -1.8100,  34.1230,2,  34.1270,2,    276.8,2,    276.7,2,    83.17,2,    29.57,2,     0.11,     2.26,2, -999.000,9,  -1.8164
  320620070203,NBP0702,    32,  1,      2,      2,2,20070212,   0,-77.4660,-158.2690, 1085,    600.5,  -1.7610,  34.3890,2,  34.3890,2,    265.8,2,    268.7,2,    82.67,2,    30.15,2,     0.01,     2.33,2, -999.000,9,  -1.7762
  320620070203,NBP0702,    32,  1,      1,      1,2,20070212,   0,-77.4660,-158.2690, 1085,   1074.6,  -1.7860,  34.4050,2,  34.4050,2,    268.7,2,   -999.0,9,    82.09,2,    30.25,2,     0.00,     2.32,2, -999.000,9,  -1.8178