BOTTLE,202201227CCHSIOENA
# replaced incorrect character with utf-8 version of the character (-)
# added SAMPNO column
# added SECT_ID column
# BOTTLE,20150225PRINUNIVRMK
# 2/19/2014 Initialized README file 
# Data source: Stan Jacobs 2/25/14 
# SHIP: N.B. Palmer 
# Cruise: NBP0702, McMurdo to Punta Arenas 
# Region: SE Pacific-Antarctic Continental Shelf; 165.35 E  73.34 W. 
# EXPOCODE: 320620070203 
# DATES: 2/3 - 3/26/2007 
# Chief Scientist: S. Jacobs, LDEO 
# 190 CTD stations, 166 with Rosette sampling at up to 12 levels 
# Hydro: Who - S.Jacobs et al; Status -  Processed CTD/O profiles reported to NODC (accession #0049900), along with edited bottle data (salinity and obs noted below).  
# 	Notes: Shipboard (unprocessed) measurements available via Antarctic and Southern Ocean Data Portal; S. Carbotte; www.marine-geo.org/antarctic; 	 
# Nuts: Who - S.Jacobs, C. Little, R. Key; Status- as above 
# 	Notes: ~1096 samples; silicate, phosphate, nitrate, nitrite, nitrite, ammonia 
# O2: Who - S.Jacobs; Status as above 
# 	Notes: ~1025 samples 
# 	Converted using assumed temperatue of 22C and measured CTDSAL 
# pCO2: Who - T. Takahashi; Status -  CO2 archive(s)? 
# 	Notes: Underway only; some accompanying u/way nutrient samples unedited? 
# CFC: Who - W.Smethie; Status - CFC-12 processed & edited 
# 	Notes: Experimental SF6 technique/shipment problems limited resulting data to CFC-12.  
# O16/O18: Who - S. Jacobs, P.Schlosser; Status - Subset processed by R. Mortlock; remaining samples in Lamont queue (?) 
# 	Notes: ~586 samples 
# He/Tr: ~ Who - P. Schlosser; Status ~594/286 samples; He processed  
# Pigments/diatoms: Who - A. Leventer; Status - ? 
# 	Notes: 346/166 samples 
# Other:  
# S.Jacobs, B. Huber & other Cruise participants; Cruise Report, NBP07-02, 84+pp , 84+pp 
# 	Notes: Info re cruise/sampling rationale, data collection methods, related issues, other data types acquired. , other data types acquired. 
# Draft data report format CTD/O and LADCP profiles and tables; currently lacks some geochemical measurements and metadata;  
# 		S.Jacobs, C.Giulivi et al., TBD? 
#
# References: 
# Leonard, K., B. Tremblay, D. MacAyeal & S. Jacobs, D. MacAyeal & S. Jacobs, Interactions of wind-transported snow with a rift in the Ross Ice Shelf,Antarctica. Geophys. Res. Lett. 35, L05501, doi:10.1029/2007GL033005, 2008. 
# Jacobs, S. & C. Giulivi, Large Multidecadal Salinity Trends near the Pacific-Antarctic Continental Margin, J. Climate, J. Climate, 23, 4508-4524, doi:10.1175/2010JCLI3284.1, 2010. 
# Jacobs, S., A. Jenkins, C. Giulivi & P. Dutrieux, C. Giulivi & P. Dutrieux, Stronger Ocean Circulation and Increased Melting under Pine Island Glacier Ice Shelf, Nat. Geosci. 4, August 2011, published online 26 June 2011, doi:10.1038/ngeo1188. 
# Jacobs, S., A. Jenkins, H. Hellmer, H. Hellmer, C. Giulivi, F. Nitsche, B. Huber & R. Guerrero, The Amundsen Sea and the Antarctic Ice Sheet, Oceanography 25(3), 154-163, 2011. 
# Jacobs, S, C. Giulivi, P. Dutrieux, P. Dutrieux, E. Rignot, F. Nitsche & J. Mouginot Getz Ice Shelf Melting Response to Changes in Ocean Forcing, JGR-Oceans 118, 4152-4168, doi:10.1002/jgrc.20298, 2013. 
# Dutrieux, P. et al., Strong Sensitivity of Pine Island Ice-Shelf Melting to Climatic Variability, Science 343, Science 343, 174-178, doi:10.1126/science.1224341, 2014. 
EXPOCODE,SECT_ID,STNNBR,CASTNO,SAMPNO,BTLNBR,BTLNBR_FLAG_W,DATE,TIME,LATITUDE,LONGITUDE,DEPTH,CTDPRS,CTDTMP,CTDSAL,CTDSAL_FLAG_W,SALNTY,SALNTY_FLAG_W,CTDOXY,CTDOXY_FLAG_W,OXYGEN,OXYGEN_FLAG_W,SILCAT,SILCAT_FLAG_W,NITRAT,NITRAT_FLAG_W,NITRIT,PHSPHT,PHSPHT_FLAG_W,CFC-12,CFC-12_FLAG_W,THETA
,,,,,,,,,,,METERS,DBAR,ITS-90,PSS-78,,PSS-78,,UMOL/KG,,UMOL/KG,,UMOL/KG,,UMOL/KG,,UMOL/KG,UMOL/KG,,PMOL/KG,,DEG C
  320620070203,NBP0702,     1,  1,     23,     23,2,20070203,   0,-77.1030, 165.3540,  707,      2.0,   0.2070,  34.1800,2,  34.2230,2,    376.8,2,   -999.0,9,    72.91,2,    15.08,2,     0.09,     1.18,2, -999.000,9,   0.2069
  320620070203,NBP0702,     1,  1,     22,     22,2,20070203,   0,-77.1030, 165.3540,  707,      2.0,   0.2750,  34.1290,2,-999.0000,9,    375.3,2,    373.7,2,  -999.00,9,  -999.00,9,  -999.00,  -999.00,9, -999.000,9,   0.2749
  320620070203,NBP0702,     1,  1,     21,     21,2,20070203,   0,-77.1030, 165.3540,  707,     49.4,  -0.4630,  34.3960,2,  34.3900,2,    346.6,2,   -999.0,9,    72.21,2,    17.57,2,     0.08,     1.42,2, -999.000,9,  -0.4645
  320620070203,NBP0702,     1,  1,     20,     20,2,20070203,   0,-77.1030, 165.3540,  707,     49.4,  -0.3850,  34.3890,2,  34.3860,2,    345.8,2,    346.8,2,  -999.00,9,  -999.00,9,  -999.00,  -999.00,9, -999.000,9,  -0.3866
  320620070203,NBP0702,     1,  1,     19,     19,2,20070203,   0,-77.1030, 165.3540,  707,     98.8,  -0.8690,  34.4220,2,  34.4170,2,    320.1,2,   -999.0,9,    73.27,2,    20.25,2,     0.08,     1.58,2, -999.000,9,  -0.8718
  320620070203,NBP0702,     1,  1,     18,     18,2,20070203,   0,-77.1030, 165.3540,  707,     98.8,  -0.8170,  34.4190,2,-999.0000,9,    321.7,2,    313.6,2,  -999.00,9,  -999.00,9,  -999.00,  -999.00,9, -999.000,9,  -0.8198
  320620070203,NBP0702,     1,  1,     17,     17,2,20070203,   0,-77.1030, 165.3540,  707,    199.2,  -1.4170,  34.4990,2,  34.4880,2,    285.9,2,   -999.0,9,    76.79,2,    24.32,2,     0.10,     1.89,2, -999.000,9,  -1.4219
  320620070203,NBP0702,     1,  1,     16,     16,2,20070203,   0,-77.1030, 165.3540,  707,    199.2,  -1.4010,  34.4960,2,  34.4900,2,    287.7,2,    288.9,2,  -999.00,9,  -999.00,9,  -999.00,  -999.00,9, -999.000,9,  -1.4059
  320620070203,NBP0702,     1,  1,     15,     15,2,20070203,   0,-77.1030, 165.3540,  707,    299.5,  -1.8740,  34.6640,2,  34.6690,2,    271.3,2,   -999.0,9,    78.01,2,    29.44,2,     0.12,     2.09,2, -999.000,9,  -1.8806
  320620070203,NBP0702,     1,  1,     14,     14,2,20070203,   0,-77.1030, 165.3540,  707,    299.6,  -1.8700,  34.6580,2,  34.6600,2,    271.1,2,    275.1,2,  -999.00,9,  -999.00,9,  -999.00,  -999.00,9, -999.000,9,  -1.8766
  320620070203,NBP0702,     1,  1,     13,     13,2,20070203,   0,-77.1030, 165.3540,  707,    399.2,  -1.8810,  34.7500,2,  34.7450,2,    273.2,2,    276.9,2,  -999.00,9,  -999.00,9,  -999.00,  -999.00,9, -999.000,9,  -1.8902
  320620070203,NBP0702,     1,  1,     12,     12,2,20070203,   0,-77.1030, 165.3540,  707,    399.3,  -1.8820,  34.7520,2,  34.7440,2,    272.9,2,   -999.0,9,    77.14,2,    29.94,2,     0.10,     2.11,2, -999.000,9,  -1.8912
  320620070203,NBP0702,     1,  1,     11,     11,2,20070203,   0,-77.1030, 165.3540,  707,    449.3,  -1.8890,  34.7670,2,  34.7560,2,    274.1,2,   -999.0,9,    76.85,2,    29.80,2,     0.05,     2.12,2, -999.000,9,  -1.8995
  320620070203,NBP0702,     1,  1,     10,     10,2,20070203,   0,-77.1030, 165.3540,  707,    449.4,  -1.8880,  34.7660,2,  34.7510,2,    274.2,2,    278.1,2,  -999.00,9,  -999.00,9,  -999.00,  -999.00,9, -999.000,9,  -1.8985
  320620070203,NBP0702,     1,  1,      9,      9,2,20070203,   0,-77.1030, 165.3540,  707,    499.6,  -1.8930,  34.7730,2,  34.7630,2,    275.1,2,   -999.0,9,    77.52,2,    30.28,2,     0.04,     2.11,2, -999.000,9,  -1.9049
  320620070203,NBP0702,     1,  1,      8,      8,2,20070203,   0,-77.1030, 165.3540,  707,    499.7,  -1.8920,  34.7730,2,  34.7670,2,    274.9,2,    279.0,2,  -999.00,9,  -999.00,9,  -999.00,  -999.00,9, -999.000,9,  -1.9039
  320620070203,NBP0702,     1,  1,      7,      7,2,20070203,   0,-77.1030, 165.3540,  707,    549.1,  -1.8940,  34.7790,2,  34.7700,2,    275.4,2,   -999.0,9,    77.52,2,    30.01,2,     0.03,     2.09,2, -999.000,9,  -1.9074
  320620070203,NBP0702,     1,  1,      6,      6,2,20070203,   0,-77.1030, 165.3540,  707,    549.2,  -1.8940,  34.7790,2,  34.7660,2,    275.4,2,    279.3,2,  -999.00,9,  -999.00,9,  -999.00,  -999.00,9, -999.000,9,  -1.9074
  320620070203,NBP0702,     1,  1,      5,      5,2,20070203,   0,-77.1030, 165.3540,  707,    599.7,  -1.8930,  34.7820,2,  34.7770,2,    275.6,2,    280.2,2,    77.42,2,    30.02,2,     0.02,     2.13,2, -999.000,9,  -1.9079
  320620070203,NBP0702,     1,  1,      4,      4,2,20070203,   0,-77.1030, 165.3540,  707,    599.7,  -1.8930,  34.7820,2,  34.7750,2,    275.7,2,   -999.0,9,  -999.00,9,  -999.00,9,  -999.00,  -999.00,9, -999.000,9,  -1.9079
  320620070203,NBP0702,     1,  1,      3,      3,2,20070203,   0,-77.1030, 165.3540,  707,    649.5,  -1.8920,  34.7850,2,  34.7780,2,    275.2,2,    278.9,2,    78.47,2,    30.30,2,     0.02,     2.14,2, -999.000,9,  -1.9085
  320620070203,NBP0702,     1,  1,      2,      2,2,20070203,   0,-77.1030, 165.3540,  707,    649.5,  -1.8920,  34.7850,2,  34.7780,2,    275.3,2,   -999.0,9,  -999.00,9,  -999.00,9,  -999.00,  -999.00,9, -999.000,9,  -1.9085
  320620070203,NBP0702,     1,  1,      1,      1,2,20070203,   0,-77.1030, 165.3540,  707,    697.3,  -1.8910,  34.7880,2,  34.7820,2,    273.1,2,    278.8,2,    80.09,2,    30.30,2,     0.02,     2.15,2, -999.000,9,  -1.9090
  320620070203,NBP0702,     2,  1,     16,     16,2,20070203,   0,-75.2440, 163.9110, 1154,      2.0,  -0.6540,  33.5720,2,  33.6070,2,    382.6,2,    386.7,2,    64.66,2,     9.22,2,     0.10,     0.79,2, -999.000,9,  -0.6541
  320620070203,NBP0702,     2,  1,     15,     15,2,20070203,   0,-75.2440, 163.9110, 1154,     50.2,  -1.0240,  34.2820,2,-999.0000,9,    345.2,2,    337.7,2,    69.55,2,    19.48,2,     0.09,     1.51,2, -999.000,9,  -1.0253
  320620070203,NBP0702,     2,  1,     14,     14,2,20070203,   0,-75.2440, 163.9110, 1154,     50.3,  -0.9800,  34.2650,2,-999.0000,9,    346.0,2,   -999.0,9,  -999.00,9,  -999.00,9,  -999.00,  -999.00,9,    1.074,2,  -0.9813
  320620070203,NBP0702,     2,  1,     13,     13,2,20070203,   0,-75.2440, 163.9110, 1154,    110.0,  -1.8990,  34.7010,2,  34.6960,2,    285.4,2,   -999.0,9,    79.53,2,    29.10,2,     0.08,     2.07,2, -999.000,9,  -1.9012
  320620070203,NBP0702,     2,  1,     12,     12,2,20070203,   0,-75.2440, 163.9110, 1154,    110.0,  -1.8730,  34.6970,2,  34.6980,2,    286.0,2,   -999.0,9,  -999.00,9,  -999.00,9,  -999.00,  -999.00,9, -999.000,9,  -1.8752
  320620070203,NBP0702,     2,  1,     11,     11,2,20070203,   0,-75.2440, 163.9110, 1154,    199.7,  -1.9160,  34.7090,2,  34.7050,2,    286.8,2,   -999.0,9,  -999.00,9,  -999.00,9,  -999.00,  -999.00,9,    0.651,2,  -1.9201
  320620070203,NBP0702,     2,  1,     10,     10,2,20070203,   0,-75.2440, 163.9110, 1154,    199.8,  -1.9160,  34.7100,2,  34.7060,2,    286.8,2,    287.8,2,    76.76,2,    29.27,2,     0.02,     2.05,2, -999.000,9,  -1.9201
  320620070203,NBP0702,     2,  1,      9,      9,2,20070203,   0,-75.2440, 163.9110, 1154,    300.1,  -1.9010,  34.7190,2,-999.0000,9,    285.8,2,   -999.0,9,    76.19,2,    29.28,2,     0.00,     2.03,2, -999.000,9,  -1.9075
  320620070203,NBP0702,     2,  1,      8,      8,2,20070203,   0,-75.2440, 163.9110, 1154,    400.4,  -1.8990,  34.7420,2,  34.7450,2,    281.7,2,    282.6,2,    76.76,2,    29.47,2,     0.00,     2.18,2, -999.000,9,  -1.9081
  320620070203,NBP0702,     2,  1,      7,      7,2,20070203,   0,-75.2440, 163.9110, 1154,    500.5,  -1.8950,  34.7620,2,-999.0000,9,    282.0,2,   -999.0,9,    75.66,2,    29.46,2,     0.01,     2.10,2, -999.000,9,  -1.9069
  320620070203,NBP0702,     2,  1,      6,      6,2,20070203,   0,-75.2440, 163.9110, 1154,    600.6,  -1.8940,  34.7760,2,  34.7730,2,    281.8,2,   -999.0,9,  -999.00,9,  -999.00,9,  -999.00,  -999.00,9,    2.643,2,  -1.9089
  320620070203,NBP0702,     2,  1,      5,      5,2,20070203,   0,-75.2440, 163.9110, 1154,    600.6,  -1.8940,  34.7760,2,  34.7760,2,    281.5,2,    282.5,2,    77.61,2,    29.76,2,     0.00,     2.08,2, -999.000,9,  -1.9089
  320620070203,NBP0702,     2,  1,      4,      4,2,20070203,   0,-75.2440, 163.9110, 1154,    800.2,  -1.8930,  34.7910,2,-999.0000,9,    288.4,2,   -999.0,9,    74.56,2,    28.81,2,     0.00,     2.06,2, -999.000,9,  -1.9145
  320620070203,NBP0702,     2,  1,      3,      3,2,20070203,   0,-75.2440, 163.9110, 1154,    999.7,  -1.8880,  34.7980,2,  34.7950,2,    289.8,2,    290.1,2,    74.65,2,    28.89,2,     0.00,     2.05,2, -999.000,9,  -1.9168
  320620070203,NBP0702,     2,  1,      2,      2,2,20070203,   0,-75.2440, 163.9110, 1154,   1100.2,  -1.8830,  34.8010,2,-999.0000,9,    289.4,2,   -999.0,9,    77.32,2,    29.28,2,     0.00,     2.08,2, -999.000,9,  -1.9158
  320620070203,NBP0702,     2,  1,      1,      1,2,20070203,   0,-75.2440, 163.9110, 1154,   1143.9,  -1.8800,  34.8020,2,  34.7990,2,    289.3,2,    291.5,2,    77.61,2,    29.18,2,     0.00,     2.06,2, -999.000,9,  -1.9146
  320620070203,NBP0702,     3,  1,     12,     12,2,20070205,   0,-71.4750, 172.0800, 1200,      3.0,  -0.4720,  34.2160,2,  34.2140,2,    316.3,2,   -999.0,9,    67.18,2,    26.73,2,     0.09,     1.81,2, -999.000,9,  -0.4721
  320620070203,NBP0702,     3,  1,     11,     11,2,20070205,   0,-71.4750, 172.0800, 1200,     99.4,  -0.4280,  34.2580,2,  34.2590,2,    289.8,2,   -999.0,9,    72.23,2,    28.37,2,     0.07,     1.93,2, -999.000,9,  -0.4311
  320620070203,NBP0702,     3,  1,     10,     10,2,20070205,   0,-71.4750, 172.0800, 1200,    211.7,   0.2770,  34.5270,2,  34.5250,2,    226.1,2,   -999.0,9,    87.76,2,    30.59,2,     0.03,     2.18,2, -999.000,9,   0.2687
  320620070203,NBP0702,     3,  1,      9,      9,2,20070205,   0,-71.4750, 172.0800, 1200,    361.7,   0.4340,  34.6070,2,  34.6080,2,    208.2,2,    208.4,2,    92.42,2,    31.27,2,     0.02,     2.28,2, -999.000,9,   0.4188
  320620070203,NBP0702,     3,  1,      8,      8,2,20070205,   0,-71.4750, 172.0800, 1200,    362.0,   0.4360,  34.6080,2,-999.0000,9,    209.2,2,   -999.0,9,  -999.00,9,  -999.00,9,  -999.00,  -999.00,9, -999.000,9,   0.4208
  320620070203,NBP0702,     3,  1,      7,      7,2,20070205,   0,-71.4750, 172.0800, 1200,    500.6,   0.6030,  34.6890,2,  34.6880,2,    200.1,2,   -999.0,9,  -999.00,9,  -999.00,9,  -999.00,  -999.00,9, -999.000,9,   0.5806
  320620070203,NBP0702,     3,  1,      6,      6,2,20070205,   0,-71.4750, 172.0800, 1200,    608.0,   0.1460,  34.6730,2,  34.6720,2,    213.8,2,   -999.0,9,    96.99,2,    32.80,2,     0.00,     2.37,2, -999.000,9,   0.1205
  320620070203,NBP0702,     3,  1,      5,      5,2,20070205,   0,-71.4750, 172.0800, 1200,    699.9,  -0.0650,  34.6630,2,  34.6600,2,    224.4,2,   -999.0,9,    94.60,2,    34.32,3,     0.02,     2.32,2, -999.000,9,  -0.0937
  320620070203,NBP0702,     3,  1,      4,      4,2,20070205,   0,-71.4750, 172.0800, 1200,    798.4,  -0.1110,  34.6640,2,  34.6620,2,    225.9,2,    225.9,2,    93.46,2,    31.17,2,     0.01,     2.25,2, -999.000,9,  -0.1441
  320620070203,NBP0702,     3,  1,      3,      3,2,20070205,   0,-71.4750, 172.0800, 1200,   1124.0,  -0.2070,  34.6860,2,  34.6840,2,    228.9,2,   -999.0,9,  -999.00,9,  -999.00,9,  -999.00,  -999.00,9, -999.000,9,  -0.2561
  320620070203,NBP0702,     3,  1,      2,      2,2,20070205,   0,-71.4750, 172.0800, 1200,   1125.0,  -0.2080,  34.6860,2,  34.6840,2,    228.9,2,    229.6,2,    93.93,2,    31.04,2,     0.01,     2.24,2,    1.394,2,  -0.2571
  320620070203,NBP0702,     3,  1,      1,      1,2,20070205,   0,-71.4750, 172.0800, 1200,   1189.8,  -0.2030,  34.6860,2,  34.6940,2,    229.1,2,   -999.0,9,    94.31,2,    31.75,2,     0.01,     2.24,2, -999.000,9,  -0.2557
  320620070203,NBP0702,     4,  1,     14,     14,2,20070205,   0,-71.4330, 172.5320, 2041,     19.2,  -0.5530,  34.1710,2,  34.1670,2,    323.5,2,   -999.0,9,  -999.00,9,  -999.00,9,  -999.00,  -999.00,9,    3.253,2,  -0.5536
  320620070203,NBP0702,     4,  1,     13,     13,2,20070205,   0,-71.4330, 172.5320, 2041,     19.6,  -0.5520,  34.1710,2,-999.0000,9,    323.5,2,    325.0,2,    64.80,2,    26.06,2,     0.10,     1.81,2, -999.000,9,  -0.5526
  320620070203,NBP0702,     4,  1,     12,     12,2,20070205,   0,-71.4330, 172.5320, 2041,    100.1,  -0.4220,  34.3880,2,-999.0000,9,    250.8,2,    252.4,2,  -999.00,9,  -999.00,9,  -999.00,  -999.00,9, -999.000,9,  -0.4252
  320620070203,NBP0702,     4,  1,     11,     11,2,20070205,   0,-71.4330, 172.5320, 2041,    100.1,  -0.4270,  34.3850,2,  34.3960,2,    255.2,2,   -999.0,9,    80.90,2,    29.40,2,     0.08,     2.16,2, -999.000,9,  -0.4302
  320620070203,NBP0702,     4,  1,     10,     10,2,20070205,   0,-71.4330, 172.5320, 2041,    200.4,   0.2980,  34.5970,2,  34.6000,2,    208.6,2,    208.6,2,    93.56,2,    31.25,2,     0.03,     2.26,2, -999.000,9,   0.2901
  320620070203,NBP0702,     4,  1,      9,      9,2,20070205,   0,-71.4330, 172.5320, 2041,    500.1,   1.0120,  34.7100,2,  34.7080,2,    186.6,2,   -999.0,9,  -999.00,9,  -999.00,9,  -999.00,  -999.00,9,    0.244,2,   0.9879
  320620070203,NBP0702,     4,  1,      8,      8,2,20070205,   0,-71.4330, 172.5320, 2041,    500.2,   1.0130,  34.7100,2,  34.7080,2,    186.7,2,    187.6,2,   103.65,2,    31.66,2,     0.00,     2.30,2, -999.000,9,   0.9889
  320620070203,NBP0702,     4,  1,      7,      7,2,20070205,   0,-71.4330, 172.5320, 2041,    999.9,   0.7690,  34.7110,2,  34.7090,2,    194.3,2,    194.7,2,   114.15,2,    31.87,2,     0.00,     2.29,2, -999.000,9,   0.7185
  320620070203,NBP0702,     4,  1,      6,      6,2,20070205,   0,-71.4330, 172.5320, 2041,   1599.3,   0.2450,  34.6930,2,  34.6920,2,    211.9,2,    210.6,2,   107.47,2,    31.48,2,     0.00,     2.30,2, -999.000,9,   0.1627
  320620070203,NBP0702,     4,  1,      5,      5,2,20070205,   0,-71.4330, 172.5320, 2041,   1849.6,   0.0050,  34.6860,2,  34.6840,2,    221.1,2,    219.7,2,   102.23,2,    31.28,2,     0.00,     2.33,2, -999.000,9,  -0.0905
  320620070203,NBP0702,     4,  1,      4,      4,2,20070205,   0,-71.4330, 172.5320, 2041,   1850.1,   0.0060,  34.6860,2,  34.6870,2,    221.2,2,   -999.0,9,  -999.00,9,  -999.00,9,  -999.00,  -999.00,9,    0.961,2,  -0.0896
  320620070203,NBP0702,     4,  1,      3,      3,2,20070205,   0,-71.4330, 172.5320, 2041,   1979.3,  -0.1610,  34.6850,2,  34.6830,2,    228.7,2,    225.9,2,    97.93,2,    31.00,2,     0.00,     2.24,2, -999.000,9,  -0.2628
  320620070203,NBP0702,     4,  1,      2,      2,2,20070205,   0,-71.4330, 172.5320, 2041,   1979.7,  -0.1650,  34.6850,2,  34.6820,2,    228.8,2,   -999.0,9,  -999.00,9,  -999.00,9,  -999.00,  -999.00,9,    1.166,2,  -0.2668
  320620070203,NBP0702,     4,  1,      1,      1,2,20070205,   0,-71.4330, 172.5320, 2041,   2031.2,  -0.2190,  34.6820,2,  34.6790,2,    231.5,2,    229.9,2,    95.84,2,    30.80,2,     0.00,     2.26,2, -999.000,9,  -0.3235