BOTTLE,202201227CCHSIOENA
EXPOCODE,SECT_ID,STNNBR,CASTNO,SAMPNO,BTLNBR,BTLNBR_FLAG_W,DATE,TIME,LATITUDE,LONGITUDE,DEPTH,CTDPRS,CTDTMP,CTDSAL,CTDSAL_FLAG_W,SALNTY,SALNTY_FLAG_W,CTDOXY,CTDOXY_FLAG_W,OXYGEN,OXYGEN_FLAG_W,SILCAT,SILCAT_FLAG_W,NITRAT,NITRAT_FLAG_W,NITRIT,PHSPHT,PHSPHT_FLAG_W,CFC-12,CFC-12_FLAG_W,THETA
,,,,,,,,,,,METERS,DBAR,ITS-90,PSS-78,,PSS-78,,UMOL/KG,,UMOL/KG,,UMOL/KG,,UMOL/KG,,UMOL/KG,UMOL/KG,,PMOL/KG,,DEG C
  320620070203,NBP0702,     5,  1,     16,     16,2,20070205,   0,-71.4000, 172.8320, 2155,     19.6,  -0.5050,  34.1770,2,-999.0000,9,    327.0,2,   -999.0,9,    64.80,2,    25.94,2,     0.12,     1.81,2, -999.000,9,  -0.5056
  320620070203,NBP0702,     5,  1,     15,     15,2,20070205,   0,-71.4000, 172.8320, 2155,     19.6,  -0.5050,  34.1770,2,  34.1780,2,    327.3,2,    328.6,2,  -999.00,9,  -999.00,9,  -999.00,  -999.00,9, -999.000,9,  -0.5056
  320620070203,NBP0702,     5,  1,     14,     14,2,20070205,   0,-71.4000, 172.8320, 2155,     59.0,  -0.4960,  34.3640,2,-999.0000,9,    259.8,2,   -999.0,9,    79.66,2,    28.83,2,     0.09,     2.12,2, -999.000,9,  -0.4978
  320620070203,NBP0702,     5,  1,     13,     13,2,20070205,   0,-71.4000, 172.8320, 2155,     59.2,  -0.5240,  34.3310,2,  34.3430,2,    262.7,2,    262.0,2,  -999.00,9,  -999.00,9,  -999.00,  -999.00,9, -999.000,9,  -0.5258
  320620070203,NBP0702,     5,  1,     12,     12,2,20070205,   0,-71.4000, 172.8320, 2155,    200.2,   0.5350,  34.6410,2,  34.6410,2,    200.6,2,    200.8,2,  -999.00,9,  -999.00,9,  -999.00,  -999.00,9, -999.000,9,   0.5267
  320620070203,NBP0702,     5,  1,     11,     11,2,20070205,   0,-71.4000, 172.8320, 2155,    200.5,   0.5420,  34.6420,2,-999.0000,9,    200.9,2,   -999.0,9,    97.94,2,    31.56,2,     0.01,     2.29,2, -999.000,9,   0.5337
  320620070203,NBP0702,     5,  1,     10,     10,2,20070205,   0,-71.4000, 172.8320, 2155,    449.4,   1.0440,  34.7200,2,  34.7180,2,    186.5,2,    186.5,2,  -999.00,9,  -999.00,9,  -999.00,  -999.00,9, -999.000,9,   1.0224
  320620070203,NBP0702,     5,  1,      9,      9,2,20070205,   0,-71.4000, 172.8320, 2155,    449.9,   1.0440,  34.7200,2,  34.7190,2,    186.4,2,   -999.0,9,   108.43,2,    31.76,2,     0.00,     2.29,2,    0.110,2,   1.0224
  320620070203,NBP0702,     5,  1,      8,      8,2,20070205,   0,-71.4000, 172.8320, 2155,    800.5,   0.8580,  34.7150,2,  34.7140,2,    192.4,2,    191.7,2,   114.62,2,    31.82,2,     0.00,     2.32,2, -999.000,9,   0.8183
  320620070203,NBP0702,     5,  1,      7,      7,2,20070205,   0,-71.4000, 172.8320, 2155,   1448.7,   0.4330,  34.7010,2,  34.7000,2,    205.1,2,   -999.0,9,  -999.00,9,  -999.00,9,  -999.00,  -999.00,9,    0.332,2,   0.3582
  320620070203,NBP0702,     5,  1,      6,      6,2,20070205,   0,-71.4000, 172.8320, 2155,   1449.5,   0.4360,  34.7020,2,  34.6980,2,    205.3,2,    203.2,2,   117.01,2,    31.86,2,     0.00,     2.31,2, -999.000,9,   0.3611
  320620070203,NBP0702,     5,  1,      5,      5,2,20070205,   0,-71.4000, 172.8320, 2155,   1899.9,   0.1930,  34.6930,2,  34.6910,2,    214.1,2,   -999.0,9,  -999.00,9,  -999.00,9,  -999.00,  -999.00,9, -999.000,9,   0.0912
  320620070203,NBP0702,     5,  1,      4,      4,2,20070205,   0,-71.4000, 172.8320, 2155,   1900.3,   0.1940,  34.6930,2,  34.6920,2,    214.0,2,    213.3,2,   111.29,2,    31.67,2,     0.00,     2.29,2, -999.000,9,   0.0922
  320620070203,NBP0702,     5,  1,      3,      3,2,20070205,   0,-71.4000, 172.8320, 2155,   2079.3,   0.1160,  34.6930,2,  34.6940,2,    217.6,2,    214.5,2,   109.38,2,    31.67,2,     0.00,     2.30,2, -999.000,9,   0.0027
  320620070203,NBP0702,     5,  1,      2,      2,2,20070205,   0,-71.4000, 172.8320, 2155,   2079.6,   0.1150,  34.6930,2,  34.6900,2,    217.7,2,   -999.0,9,  -999.00,9,  -999.00,9,  -999.00,  -999.00,9,    0.741,2,   0.0017
  320620070203,NBP0702,     5,  1,      1,      1,2,20070205,   0,-71.4000, 172.8320, 2155,   2145.4,   0.0650,  34.6930,2,  34.6910,2,    219.5,2,    217.0,2,   107.47,2,    31.38,2,     0.00,     2.31,2, -999.000,9,  -0.0522
  320620070203,NBP0702,     6,  1,     13,     13,2,20070208,   0,-77.1040, 166.3290,  931,      9.8,  -0.5620,  34.1510,2,  34.1390,2,    361.2,2,    364.1,2,    75.14,2,    13.08,2,     0.09,     1.13,2, -999.000,9,  -0.5623
  320620070203,NBP0702,     6,  1,     12,     12,2,20070208,   0,-77.1040, 166.3290,  931,     59.1,  -0.4440,  34.2140,2,  34.2140,2,    355.2,2,   -999.0,9,  -999.00,9,  -999.00,9,  -999.00,  -999.00,9, -999.000,9,  -0.4458
  320620070203,NBP0702,     6,  1,     11,     11,2,20070208,   0,-77.1040, 166.3290,  931,     87.6,  -0.2880,  34.3380,2,  34.3410,2,    344.5,2,   -999.0,9,  -999.00,9,  -999.00,9,  -999.00,  -999.00,9,    3.140,2,  -0.2909
  320620070203,NBP0702,     6,  1,     10,     10,2,20070208,   0,-77.1040, 166.3290,  931,     87.7,  -0.3020,  34.3310,2,  34.3360,2,    344.6,2,    344.7,2,  -999.00,9,  -999.00,9,  -999.00,  -999.00,9, -999.000,9,  -0.3049
  320620070203,NBP0702,     6,  1,      9,      9,2,20070208,   0,-77.1040, 166.3290,  931,     87.8,  -0.2900,  34.3370,2,-999.0000,9,    343.7,2,   -999.0,9,    70.54,2,    17.57,2,     0.08,     1.40,2, -999.000,9,  -0.2929
  320620070203,NBP0702,     6,  1,      8,      8,2,20070208,   0,-77.1040, 166.3290,  931,    201.8,  -1.7870,  34.6290,2,  34.6300,2,    272.0,2,    273.6,2,    79.57,2,    28.87,2,     0.13,     2.24,2, -999.000,9,  -1.7914
  320620070203,NBP0702,     6,  1,      7,      7,2,20070208,   0,-77.1040, 166.3290,  931,    353.9,  -1.8850,  34.7450,2,  34.7420,2,    279.1,2,    280.7,2,    77.93,2,    29.64,2,     0.12,     2.22,2, -999.000,9,  -1.8930
  320620070203,NBP0702,     6,  1,      6,      6,2,20070208,   0,-77.1040, 166.3290,  931,    354.0,  -1.8850,  34.7440,2,  34.7420,2,    279.1,2,   -999.0,9,  -999.00,9,  -999.00,9,  -999.00,  -999.00,9,    2.443,2,  -1.8930
  320620070203,NBP0702,     6,  1,      5,      5,2,20070208,   0,-77.1040, 166.3290,  931,    708.4,  -1.8890,  34.7840,2,  34.7840,2,    277.9,2,    278.7,2,  -999.00,9,  -999.00,9,  -999.00,  -999.00,9, -999.000,9,  -1.9074
  320620070203,NBP0702,     6,  1,      4,      4,2,20070208,   0,-77.1040, 166.3290,  931,    708.5,  -1.8890,  34.7840,2,-999.0000,9,    277.7,2,   -999.0,9,    77.54,2,    29.76,2,     0.00,     2.25,2,    2.489,2,  -1.9074
  320620070203,NBP0702,     6,  1,      3,      3,2,20070208,   0,-77.1040, 166.3290,  931,    708.6,  -1.8890,  34.7840,2,  34.7820,2,    277.9,2,    279.8,2,  -999.00,9,  -999.00,9,  -999.00,  -999.00,9, -999.000,9,  -1.9074
  320620070203,NBP0702,     6,  1,      2,      2,2,20070208,   0,-77.1040, 166.3290,  931,    920.9,  -1.8810,  34.7900,2,-999.0000,9,    276.2,2,   -999.0,9,    78.31,2,    30.04,2,     0.00,     2.27,2, -999.000,9,  -1.9069
  320620070203,NBP0702,     6,  1,      1,      1,2,20070208,   0,-77.1040, 166.3290,  931,    921.0,  -1.8810,  34.7900,2,  34.7870,2,    276.3,2,    277.1,2,    81.93,2,    30.02,2,     0.02,     2.26,2, -999.000,9,  -1.9069
  320620070203,NBP0702,     7,  1,      4,      4,2,20070208,   0,-77.1500, 167.3300,  912,     39.2,   0.3240,  34.2540,2,-999.0000,9,    340.6,2,    337.0,2,  -999.00,9,  -999.00,9,  -999.00,  -999.00,9, -999.000,9,   0.3225
  320620070203,NBP0702,     7,  1,      3,      3,2,20070208,   0,-77.1500, 167.3300,  912,     39.2,   0.3240,  34.2480,2,  34.2920,2,    341.1,2,    336.8,2,  -999.00,9,  -999.00,9,  -999.00,  -999.00,9, -999.000,9,   0.3225
  320620070203,NBP0702,     7,  1,      2,      2,2,20070208,   0,-77.1500, 167.3300,  912,    399.5,  -1.8930,  34.7690,2,  34.7660,2,    277.6,2,    278.5,2,  -999.00,9,  -999.00,9,  -999.00,  -999.00,9, -999.000,9,  -1.9021
  320620070203,NBP0702,     7,  1,      1,      1,2,20070208,   0,-77.1500, 167.3300,  912,    902.4,  -1.8830,  34.7850,2,  34.7840,2,    277.9,2,    278.2,2,  -999.00,9,  -999.00,9,  -999.00,  -999.00,9, -999.000,9,  -1.9082
  320620070203,NBP0702,     8,  1,      3,      3,2,20070208,   0,-77.1670, 168.3300,  918,     48.8,  -0.3950,  34.3610,2,  34.3630,2,    343.8,2,    339.7,2,    72.72,2,    18.53,2,     0.08,     1.45,2, -999.000,9,  -0.3965
  320620070203,NBP0702,     8,  1,      2,      2,2,20070208,   0,-77.1670, 168.3300,  918,    499.3,  -1.8890,  34.7510,2,  34.7490,2,    276.3,2,    276.1,2,    80.22,2,    30.86,2,     0.04,     2.44,2, -999.000,9,  -1.9009
  320620070203,NBP0702,     8,  1,      1,      1,2,20070208,   0,-77.1670, 168.3300,  918,    907.8,  -1.8820,  34.7840,2,  34.7820,2,    277.3,2,    276.8,2,    80.50,2,    30.03,2,     0.02,     2.30,2, -999.000,9,  -1.9074
  320620070203,NBP0702,     9,  1,      4,      4,2,20070208,   0,-77.4310, 170.3030,  835,     79.5,  -0.9910,  34.1200,2,-999.0000,9,    348.1,2,    349.2,2,    78.38,2,    14.52,2,     0.09,     1.26,2, -999.000,9,  -0.9931
  320620070203,NBP0702,     9,  1,      3,      3,2,20070208,   0,-77.4310, 170.3030,  835,    199.4,  -1.6500,  34.4570,2,  34.4580,2,    265.6,2,    266.0,2,    82.73,2,    29.96,2,     0.09,     2.29,2, -999.000,9,  -1.6545
  320620070203,NBP0702,     9,  1,      2,      2,2,20070208,   0,-77.4310, 170.3030,  835,    499.3,  -1.9030,  34.6960,2,  34.6920,2,    273.8,2,    273.8,2,    78.60,2,    30.26,2,     0.07,     2.32,2, -999.000,9,  -1.9148
  320620070203,NBP0702,     9,  1,      1,      1,2,20070208,   0,-77.4310, 170.3030,  835,    824.7,  -1.8860,  34.7830,2,  34.7800,2,    279.2,2,    279.1,2,    80.88,2,    30.32,2,     0.01,     2.26,2, -999.000,9,  -1.9084
  320620070203,NBP0702,    10,  1,     11,     11,2,20070208,   0,-77.4540, 171.7870,  804,     19.7,  -1.2150,  34.1530,2,  34.1520,2,    336.4,2,    335.3,2,    78.38,2,    17.18,2,     0.09,     1.47,2, -999.000,9,  -1.2155
  320620070203,NBP0702,    10,  1,     10,     10,2,20070208,   0,-77.4540, 171.7870,  804,     69.4,  -1.4420,  34.2120,2,  34.2180,2,    301.0,2,    300.4,2,    79.80,2,    22.43,2,     0.10,     1.90,2, -999.000,9,  -1.4436
  320620070203,NBP0702,    10,  1,      9,      9,2,20070208,   0,-77.4540, 171.7870,  804,    218.6,  -1.5810,  34.4150,2,  34.4290,2,    277.8,2,   -999.0,9,  -999.00,9,  -999.00,9,  -999.00,  -999.00,9,    2.482,2,  -1.5861
  320620070203,NBP0702,    10,  1,      8,      8,2,20070208,   0,-77.4540, 171.7870,  804,    218.6,  -1.5880,  34.4220,2,  34.4190,2,    277.8,2,    276.3,2,    81.69,2,    27.09,2,     0.11,     2.18,2, -999.000,9,  -1.5930
  320620070203,NBP0702,    10,  1,      7,      7,2,20070208,   0,-77.4540, 171.7870,  804,    299.4,  -1.7690,  34.5480,2,  34.5500,2,    269.9,2,    268.1,2,    80.24,2,    29.17,2,     0.11,     2.30,2, -999.000,9,  -1.7758
  320620070203,NBP0702,    10,  1,      6,      6,2,20070208,   0,-77.4540, 171.7870,  804,    389.3,  -1.9430,  34.6330,2,  34.6290,2,    273.8,2,   -999.0,9,  -999.00,9,  -999.00,9,  -999.00,  -999.00,9,    2.365,2,  -1.9516
  320620070203,NBP0702,    10,  1,      5,      5,2,20070208,   0,-77.4540, 171.7870,  804,    389.5,  -1.9570,  34.6240,2,  34.6290,2,    274.0,2,    272.7,2,    79.95,2,    30.18,2,     0.06,     2.30,2, -999.000,9,  -1.9656
  320620070203,NBP0702,    10,  1,      4,      4,2,20070208,   0,-77.4540, 171.7870,  804,    548.6,  -1.9210,  34.7090,2,  34.7090,2,    274.9,2,    274.0,2,    80.32,2,    30.61,2,     0.01,     2.33,2, -999.000,9,  -1.9342
  320620070203,NBP0702,    10,  1,      3,      3,2,20070208,   0,-77.4540, 171.7870,  804,    698.9,  -1.8920,  34.7630,2,  34.7600,2,    277.1,2,    275.9,2,    80.89,2,    30.30,2,     0.02,     2.32,2, -999.000,9,  -1.9100
  320620070203,NBP0702,    10,  1,      2,      2,2,20070208,   0,-77.4540, 171.7870,  804,    699.1,  -1.8920,  34.7630,2,  34.7650,2,    277.1,2,   -999.0,9,  -999.00,9,  -999.00,9,  -999.00,  -999.00,9,    2.198,2,  -1.9100
  320620070203,NBP0702,    10,  1,      1,      1,2,20070208,   0,-77.4540, 171.7870,  804,    794.1,  -1.8860,  34.7750,2,  34.7730,2,    277.1,2,    276.2,2,    81.55,2,    30.59,2,     0.02,     2.34,2, -999.000,9,  -1.9073
  320620070203,NBP0702,    11,  1,      7,      7,2,20070209,   0,-77.2770, 171.7980,  770,      2.0,  -0.7490,  34.1500,2,  34.1530,2,    353.1,2,   -999.0,9,    77.19,2,    13.94,2,     0.09,     1.22,2, -999.000,9,  -0.7491
  320620070203,NBP0702,    11,  1,      6,      6,2,20070209,   0,-77.2770, 171.7980,  770,     49.5,  -1.1300,  34.2000,2,  34.1990,2,    331.0,2,    329.3,2,    78.85,2,    18.14,2,     0.09,     1.49,2, -999.000,9,  -1.1312
  320620070203,NBP0702,    11,  1,      5,      5,2,20070209,   0,-77.2770, 171.7980,  770,    100.3,  -1.3430,  34.4450,2,  34.4440,2,    276.3,2,    279.5,2,    79.49,2,    25.94,2,     0.11,     2.16,2, -999.000,9,  -1.3454
  320620070203,NBP0702,    11,  1,      4,      4,2,20070209,   0,-77.2770, 171.7980,  770,    139.0,  -1.7920,  34.4790,2,  34.4770,2,    267.9,2,    267.5,2,  -999.00,9,  -999.00,9,  -999.00,  -999.00,9, -999.000,9,  -1.7949
  320620070203,NBP0702,    11,  1,      3,      3,2,20070209,   0,-77.2770, 171.7980,  770,    302.8,  -1.9180,  34.6560,2,  34.6500,2,    273.8,2,    274.1,2,    79.09,2,    29.99,2,     0.05,     2.32,2, -999.000,9,  -1.9245
  320620070203,NBP0702,    11,  1,      2,      2,2,20070209,   0,-77.2770, 171.7980,  770,    606.9,  -1.8900,  34.7660,2,  34.7650,2,    277.5,2,    276.9,2,  -999.00,9,  -999.00,9,  -999.00,  -999.00,9, -999.000,9,  -1.9051
  320620070203,NBP0702,    11,  1,      1,      1,2,20070209,   0,-77.2770, 171.7980,  770,    759.8,  -1.8880,  34.7840,2,  34.7820,2,    277.3,2,    278.0,2,    82.98,2,    30.68,2,     0.03,     2.33,2, -999.000,9,  -1.9081
  320620070203,NBP0702,    12,  1,      7,      7,2,20070209,   0,-77.5060, 173.7030,  391,      2.0,  -0.9970,  34.0910,2,-999.0000,9,    347.9,2,   -999.0,9,  -999.00,9,  -999.00,9,  -999.00,  -999.00,9,    3.211,2,  -0.9971
  320620070203,NBP0702,    12,  1,      6,      6,2,20070209,   0,-77.5060, 173.7030,  391,    129.4,  -1.0460,  34.1570,2,  34.1560,2,    331.3,2,   -999.0,9,  -999.00,9,  -999.00,9,  -999.00,  -999.00,9, -999.000,9,  -1.0494
  320620070203,NBP0702,    12,  1,      5,      5,2,20070209,   0,-77.5060, 173.7030,  391,    129.5,  -1.0480,  34.1570,2,  34.1540,2,    332.4,2,    331.9,2,    81.63,2,    15.95,2,     0.08,     1.38,2, -999.000,9,  -1.0514
  320620070203,NBP0702,    12,  1,      4,      4,2,20070209,   0,-77.5060, 173.7030,  391,    241.3,  -1.6330,  34.4280,2,  34.4220,2,    266.4,2,    264.7,2,    88.75,2,    29.95,2,     0.10,     2.27,2, -999.000,9,  -1.6385
  320620070203,NBP0702,    12,  1,      3,      3,2,20070209,   0,-77.5060, 173.7030,  391,    241.4,  -1.6290,  34.4260,2,  34.4290,2,    266.3,2,   -999.0,9,  -999.00,9,  -999.00,9,  -999.00,  -999.00,9, -999.000,9,  -1.6345
  320620070203,NBP0702,    12,  1,      2,      2,2,20070209,   0,-77.5060, 173.7030,  391,    380.9,  -1.9500,  34.6560,2,  34.6550,2,    274.8,2,   -999.0,9,  -999.00,9,  -999.00,9,  -999.00,  -999.00,9,    2.402,2,  -1.9584
  320620070203,NBP0702,    12,  1,      1,      1,2,20070209,   0,-77.5060, 173.7030,  391,    381.1,  -1.9510,  34.6550,2,  34.6530,2,    274.7,2,    276.2,2,    86.71,2,    31.25,2,     0.03,     2.30,2, -999.000,9,  -1.9594
  320620070203,NBP0702,    13,  1,     11,     11,2,20070209,   0,-77.5490, 175.2830,  736,      2.0,  -1.0520,  34.0220,2,  34.0290,2,    351.1,2,    351.9,2,  -999.00,9,  -999.00,9,  -999.00,  -999.00,9, -999.000,9,  -1.0520
  320620070203,NBP0702,    13,  1,     10,     10,2,20070209,   0,-77.5490, 175.2830,  736,     50.5,  -0.9630,  34.0390,2,-999.0000,9,    353.7,2,   -999.0,9,  -999.00,9,  -999.00,9,  -999.00,  -999.00,9,    3.148,2,  -0.9643
  320620070203,NBP0702,    13,  1,      9,      9,2,20070209,   0,-77.5490, 175.2830,  736,    200.5,  -1.5720,  34.4350,2,  34.4350,2,    263.0,2,    262.6,2,  -999.00,9,  -999.00,9,  -999.00,  -999.00,9, -999.000,9,  -1.5766
  320620070203,NBP0702,    13,  1,      8,      8,2,20070209,   0,-77.5490, 175.2830,  736,    339.9,  -1.7550,  34.5130,2,-999.0000,9,    269.4,2,   -999.0,9,  -999.00,9,  -999.00,9,  -999.00,  -999.00,9,    2.277,2,  -1.7628
  320620070203,NBP0702,    13,  1,      7,      7,2,20070209,   0,-77.5490, 175.2830,  736,    340.0,  -1.7430,  34.5080,2,  34.5140,2,    269.7,2,    269.0,2,    87.87,2,    30.37,2,     0.07,     2.26,2, -999.000,9,  -1.7509
  320620070203,NBP0702,    13,  1,      6,      6,2,20070209,   0,-77.5490, 175.2830,  736,    379.9,  -2.0570,  34.5860,2,-999.0000,9,    276.8,2,   -999.0,9,  -999.00,9,  -999.00,9,  -999.00,  -999.00,9,    2.329,2,  -2.0650
  320620070203,NBP0702,    13,  1,      5,      5,2,20070209,   0,-77.5490, 175.2830,  736,    379.9,  -2.0550,  34.5830,2,  34.5830,2,    276.9,2,    276.2,2,    84.91,2,    31.27,2,     0.01,     2.35,2, -999.000,9,  -2.0630
  320620070203,NBP0702,    13,  1,      4,      4,2,20070209,   0,-77.5490, 175.2830,  736,    400.8,  -2.0570,  34.6150,2,  34.6150,2,    276.9,2,    275.8,2,    84.91,2,    31.65,2,     0.01,     2.31,2, -999.000,9,  -2.0655
  320620070203,NBP0702,    13,  1,      3,      3,2,20070209,   0,-77.5490, 175.2830,  736,    420.4,  -2.0620,  34.6380,2,  34.6300,2,    277.1,2,    276.3,2,    85.01,2,    31.66,2,     0.00,     2.44,2, -999.000,9,  -2.0710
  320620070203,NBP0702,    13,  1,      2,      2,2,20070209,   0,-77.5490, 175.2830,  736,    420.6,  -2.0630,  34.6380,2,-999.0000,9,    277.2,2,   -999.0,9,  -999.00,9,  -999.00,9,  -999.00,  -999.00,9,    2.596,2,  -2.0720
  320620070203,NBP0702,    13,  1,      1,      1,2,20070209,   0,-77.5490, 175.2830,  736,    725.9,  -1.8910,  34.7700,2,  34.7800,2,    279.8,2,    280.6,2,    87.65,2,    31.66,2,     0.00,     2.33,2, -999.000,9,  -1.9100
  320620070203,NBP0702,    14,  1,      7,      7,2,20070209,   0,-77.7490, 176.8000,  769,     59.6,  -0.7440,  34.0440,2,  34.0450,2,    356.5,2,   -999.0,9,    75.24,2,    14.72,2,     0.07,     1.18,2, -999.000,9,  -0.7457
  320620070203,NBP0702,    14,  1,      6,      6,2,20070209,   0,-77.7490, 176.8000,  769,     99.4,  -0.6740,  34.0710,2,  34.0740,2,    357.2,2,   -999.0,9,    76.10,2,    15.10,2,     0.07,     1.18,2, -999.000,9,  -0.6769
  320620070203,NBP0702,    14,  1,      5,      5,2,20070209,   0,-77.7490, 176.8000,  769,    159.1,  -1.6410,  34.3510,2,  34.3510,2,    269.0,2,   -999.0,9,    80.36,2,    27.77,2,     0.09,     2.03,2, -999.000,9,  -1.6445
  320620070203,NBP0702,    14,  1,      4,      4,2,20070209,   0,-77.7490, 176.8000,  769,    219.8,  -1.6130,  34.4570,2,  34.4510,2,    262.1,2,   -999.0,9,    82.26,2,    30.27,2,     0.07,     2.09,2, -999.000,9,  -1.6180
  320620070203,NBP0702,    14,  1,      3,      3,2,20070209,   0,-77.7490, 176.8000,  769,    339.7,  -2.0210,  34.5840,2,  34.5810,2,    275.3,2,   -999.0,9,    77.57,2,    30.01,2,     0.04,     2.06,2, -999.000,9,  -2.0281
  320620070203,NBP0702,    14,  1,      2,      2,2,20070209,   0,-77.7490, 176.8000,  769,    442.2,  -1.9530,  34.6760,2,  34.6740,2,    276.8,2,   -999.0,9,    78.03,2,    30.33,2,     0.00,     2.08,2, -999.000,9,  -1.9630
  320620070203,NBP0702,    14,  1,      1,      1,2,20070209,   0,-77.7490, 176.8000,  769,    758.6,  -1.8880,  34.7650,2,  34.7720,2,    275.9,2,   -999.0,9,    81.07,2,    30.79,2,     0.01,     2.12,2, -999.000,9,  -1.9081