BOTTLE,202201227CCHSIOENA
EXPOCODE,SECT_ID,STNNBR,CASTNO,SAMPNO,BTLNBR,BTLNBR_FLAG_W,DATE,TIME,LATITUDE,LONGITUDE,DEPTH,CTDPRS,CTDTMP,CTDSAL,CTDSAL_FLAG_W,SALNTY,SALNTY_FLAG_W,CTDOXY,CTDOXY_FLAG_W,OXYGEN,OXYGEN_FLAG_W,SILCAT,SILCAT_FLAG_W,NITRAT,NITRAT_FLAG_W,NITRIT,PHSPHT,PHSPHT_FLAG_W,CFC-12,CFC-12_FLAG_W,THETA
,,,,,,,,,,,METERS,DBAR,ITS-90,PSS-78,,PSS-78,,UMOL/KG,,UMOL/KG,,UMOL/KG,,UMOL/KG,,UMOL/KG,UMOL/KG,,PMOL/KG,,DEG C
  320620070203,NBP0702,    15,  1,      5,      5,2,20070209,   0,-77.8240, 178.2020,  721,     19.2,  -0.9600,  33.9330,2,  33.9340,2,    371.1,2,    371.0,2,    72.63,2,    14.95,2,     0.09,     1.11,2, -999.000,9,  -0.9605
  320620070203,NBP0702,    15,  1,      4,      4,2,20070209,   0,-77.8240, 178.2020,  721,     59.9,  -0.7580,  34.0020,2,  34.0210,2,    363.0,2,    357.9,2,    76.87,2,    16.15,2,     0.08,     1.28,2, -999.000,9,  -0.7597
  320620070203,NBP0702,    15,  1,      3,      3,2,20070209,   0,-77.8240, 178.2020,  721,    299.9,  -1.6060,  34.4540,2,  34.4560,2,    263.8,2,    263.6,2,    82.73,2,    30.37,2,     0.07,     2.08,2, -999.000,9,  -1.6131
  320620070203,NBP0702,    15,  1,      2,      2,2,20070209,   0,-77.8240, 178.2020,  721,    500.1,  -2.0550,  34.6480,2,  34.6470,2,    276.8,2,    278.1,2,    78.51,2,    30.62,2,     0.00,     2.09,2, -999.000,9,  -2.0661
  320620070203,NBP0702,    15,  1,      1,      1,2,20070209,   0,-77.8240, 178.2020,  721,    711.2,  -1.8920,  34.7620,2,  34.7590,2,    277.1,2,    279.6,2,    80.98,2,    30.60,2,     0.01,     2.13,2, -999.000,9,  -1.9104
  320620070203,NBP0702,    16,  1,      9,      9,2,20070209,   0,-77.8390, 179.8020,  672,     20.0,  -0.9380,  34.0290,2,  34.0450,2,    353.2,2,    342.5,2,    78.96,2,    19.49,2,     0.08,     1.47,2, -999.000,9,  -0.9385
  320620070203,NBP0702,    16,  1,      8,      8,2,20070209,   0,-77.8390, 179.8020,  672,     59.3,  -1.2520,  34.0760,2,  34.0770,2,    326.0,2,    325.7,2,    80.78,2,    21.58,2,     0.09,     1.61,2, -999.000,9,  -1.2534
  320620070203,NBP0702,    16,  1,      7,      7,2,20070209,   0,-77.8390, 179.8020,  672,    239.9,  -1.4810,  34.4450,2,  34.4460,2,    259.5,2,   -999.0,9,    84.55,2,    30.45,2,     0.09,     2.11,2, -999.000,9,  -1.4868
  320620070203,NBP0702,    16,  1,      6,      6,2,20070209,   0,-77.8390, 179.8020,  672,    240.1,  -1.4810,  34.4450,2,-999.0000,9,    259.4,2,    258.4,2,  -999.00,9,  -999.00,9,  -999.00,  -999.00,9, -999.000,9,  -1.4868
  320620070203,NBP0702,    16,  1,      5,      5,2,20070209,   0,-77.8390, 179.8020,  672,    459.7,  -2.0860,  34.6290,2,  34.6290,2,    276.4,2,   -999.0,9,    78.80,2,    30.61,2,     0.00,     2.09,2, -999.000,9,  -2.0959
  320620070203,NBP0702,    16,  1,      4,      4,2,20070209,   0,-77.8390, 179.8020,  672,    459.7,  -2.0850,  34.6270,2,-999.0000,9,    276.5,2,   -999.0,9,  -999.00,9,  -999.00,9,  -999.00,  -999.00,9,    2.399,2,  -2.0949
  320620070203,NBP0702,    16,  1,      3,      3,2,20070209,   0,-77.8390, 179.8020,  672,    459.9,  -2.0850,  34.6270,2,-999.0000,9,    276.6,2,    276.4,2,  -999.00,9,  -999.00,9,  -999.00,  -999.00,9, -999.000,9,  -2.0949
  320620070203,NBP0702,    16,  1,      2,      2,2,20070209,   0,-77.8390, 179.8020,  672,    599.8,  -1.9100,  34.7450,2,  34.7430,2,    276.7,2,    277.5,2,    79.84,2,    31.00,2,     0.00,     2.14,2, -999.000,9,  -1.9248
  320620070203,NBP0702,    16,  1,      1,      1,2,20070209,   0,-77.8390, 179.8020,  672,    662.3,  -1.8930,  34.7440,2,-999.0000,9,    276.5,2,   -999.0,9,  -999.00,9,  -999.00,9,  -999.00,  -999.00,9,    2.431,2,  -1.9098
  320620070203,NBP0702,    17,  1,     11,     11,2,20070209,   0,-77.8740,-178.6080,  709,     19.9,  -0.7510,  33.9690,2,  33.9920,2,    361.0,2,    358.4,2,    76.58,2,    17.58,2,     0.09,     1.28,2, -999.000,9,  -0.7515
  320620070203,NBP0702,    17,  1,     10,     10,2,20070209,   0,-77.8740,-178.6080,  709,     69.9,  -1.6070,  34.0760,2,-999.0000,9,    310.7,2,   -999.0,9,  -999.00,9,  -999.00,9,  -999.00,  -999.00,9,    2.488,2,  -1.6085
  320620070203,NBP0702,    17,  1,      9,      9,2,20070209,   0,-77.8740,-178.6080,  709,     69.9,  -1.5220,  34.0660,2,  34.0760,2,    312.8,2,   -999.0,9,    82.21,2,    24.72,2,     0.10,     1.77,2, -999.000,9,  -1.5235
  320620070203,NBP0702,    17,  1,      8,      8,2,20070209,   0,-77.8740,-178.6080,  709,     69.9,  -1.4790,  34.0660,2,-999.0000,9,    313.7,2,    311.4,2,  -999.00,9,  -999.00,9,  -999.00,  -999.00,9, -999.000,9,  -1.4805
  320620070203,NBP0702,    17,  1,      7,      7,2,20070209,   0,-77.8740,-178.6080,  709,    109.8,  -1.1820,  34.1460,2,-999.0000,9,    320.5,2,   -999.0,9,  -999.00,9,  -999.00,9,  -999.00,  -999.00,9, -999.000,9,  -1.1847
  320620070203,NBP0702,    17,  1,      6,      6,2,20070209,   0,-77.8740,-178.6080,  709,    109.9,  -1.1830,  34.1440,2,  34.1440,2,    324.7,2,    321.3,2,    82.96,2,    23.19,2,     0.09,     1.68,2, -999.000,9,  -1.1857
  320620070203,NBP0702,    17,  1,      5,      5,2,20070209,   0,-77.8740,-178.6080,  709,    259.8,  -1.9520,  34.4390,2,  34.4380,2,    276.6,2,    276.0,2,    81.78,2,    29.87,2,     0.09,     2.04,2, -999.000,9,  -1.9573
  320620070203,NBP0702,    17,  1,      4,      4,2,20070209,   0,-77.8740,-178.6080,  709,    390.0,  -2.1580,  34.6300,2,  34.6290,2,    278.8,2,    278.8,2,    79.57,2,    30.81,2,     0.00,     2.10,2, -999.000,9,  -2.1659
  320620070203,NBP0702,    17,  1,      3,      3,2,20070209,   0,-77.8740,-178.6080,  709,    390.1,  -2.1570,  34.6310,2,-999.0000,9,    278.6,2,   -999.0,9,  -999.00,9,  -999.00,9,  -999.00,  -999.00,9,    2.314,2,  -2.1649
  320620070203,NBP0702,    17,  1,      2,      2,2,20070209,   0,-77.8740,-178.6080,  709,    500.1,  -1.9540,  34.7030,2,  34.7020,2,    278.7,2,    277.6,2,    79.46,2,    30.96,2,     0.00,     2.12,2, -999.000,9,  -1.9656
  320620070203,NBP0702,    17,  1,      1,      1,2,20070209,   0,-77.8740,-178.6080,  709,    699.0,  -1.8850,  34.7590,2,  34.7570,2,    277.5,2,    278.2,2,    81.55,2,    30.92,2,     0.00,     2.12,2, -999.000,9,  -1.9031
  320620070203,NBP0702,    18,  1,     16,     16,2,20070210,   0,-78.2180,-177.2900,  630,      2.0,  -0.8600,  33.8190,2,-999.0000,9,    368.5,2,   -999.0,9,  -999.00,9,  -999.00,9,  -999.00,  -999.00,9,    3.030,2,  -0.8601
  320620070203,NBP0702,    18,  1,     15,     15,2,20070210,   0,-78.2180,-177.2900,  630,      2.0,  -0.8910,  33.8110,2,  33.8260,2,    368.8,2,    368.0,2,    75.00,2,    15.93,2,     0.11,     1.23,2, -999.000,9,  -0.8911
  320620070203,NBP0702,    18,  1,     14,     14,2,20070210,   0,-78.2180,-177.2900,  630,     60.0,  -1.2280,  33.9450,2,  33.9440,2,    346.1,2,    345.9,2,    76.99,2,    19.24,2,     0.10,     1.49,2, -999.000,9,  -1.2294
  320620070203,NBP0702,    18,  1,     13,     13,2,20070210,   0,-78.2180,-177.2900,  630,     99.6,  -1.4370,  34.0550,2,  34.0800,2,    323.7,2,    318.9,2,    78.02,2,    22.81,2,     0.10,     1.74,2, -999.000,9,  -1.4392
  320620070203,NBP0702,    18,  1,     12,     12,2,20070210,   0,-78.2180,-177.2900,  630,    150.0,  -1.5490,  34.1230,2,  34.1270,2,    307.6,2,    305.2,2,    80.02,2,    25.09,2,     0.11,     1.87,2, -999.000,9,  -1.5523
  320620070203,NBP0702,    18,  1,     11,     11,2,20070210,   0,-78.2180,-177.2900,  630,    229.4,  -1.7340,  34.2070,2,-999.0000,9,    285.3,2,   -999.0,9,  -999.00,9,  -999.00,9,  -999.00,  -999.00,9,    2.388,2,  -1.7389
  320620070203,NBP0702,    18,  1,     10,     10,2,20070210,   0,-78.2180,-177.2900,  630,    229.4,  -1.7410,  34.2260,2,  34.2160,2,    286.2,2,    283.4,2,    80.68,2,    27.48,2,     0.11,     2.04,2, -999.000,9,  -1.7459
  320620070203,NBP0702,    18,  1,      9,      9,2,20070210,   0,-78.2180,-177.2900,  630,    279.9,  -1.6690,  34.3550,2,  34.3560,2,    270.3,2,    267.8,2,    80.67,2,    29.20,2,     0.10,     2.10,2, -999.000,9,  -1.6754
  320620070203,NBP0702,    18,  1,      8,      8,2,20070210,   0,-78.2180,-177.2900,  630,    350.1,  -1.8310,  34.4360,2,-999.0000,9,    271.4,2,   -999.0,9,  -999.00,9,  -999.00,9,  -999.00,  -999.00,9,    2.196,2,  -1.8388
  320620070203,NBP0702,    18,  1,      7,      7,2,20070210,   0,-78.2180,-177.2900,  630,    350.1,  -1.8140,  34.4320,2,  34.4240,2,    271.3,2,    268.5,2,    78.75,2,    29.42,2,     0.06,     2.12,2, -999.000,9,  -1.8219
  320620070203,NBP0702,    18,  1,      6,      6,2,20070210,   0,-78.2180,-177.2900,  630,    399.8,  -2.1400,  34.5930,2,  34.5950,2,    278.9,2,    278.2,2,    76.06,2,    30.05,2,     0.00,     2.17,2, -999.000,9,  -2.1482
  320620070203,NBP0702,    18,  1,      5,      5,2,20070210,   0,-78.2180,-177.2900,  630,    399.8,  -2.1440,  34.6050,2,-999.0000,9,    278.9,2,   -999.0,9,  -999.00,9,  -999.00,9,  -999.00,  -999.00,9,    2.458,2,  -2.1522
  320620070203,NBP0702,    18,  1,      4,      4,2,20070210,   0,-78.2180,-177.2900,  630,    419.8,  -2.1620,  34.6270,2,  34.6250,2,    280.3,2,    279.0,2,    75.86,2,    29.96,2,     0.00,     2.17,2, -999.000,9,  -2.1706
  320620070203,NBP0702,    18,  1,      3,      3,2,20070210,   0,-78.2180,-177.2900,  630,    499.6,  -1.9630,  34.7030,2,  34.6990,2,    280.5,2,    278.4,2,    75.86,2,    29.96,2,     0.00,     2.18,2, -999.000,9,  -1.9746
  320620070203,NBP0702,    18,  1,      2,      2,2,20070210,   0,-78.2180,-177.2900,  630,    570.3,  -1.9270,  34.7380,2,  34.7300,2,    280.3,2,    277.8,2,    75.57,2,    29.86,2,     0.00,     2.21,2, -999.000,9,  -1.9408
  320620070203,NBP0702,    18,  1,      1,      1,2,20070210,   0,-78.2180,-177.2900,  630,    619.6,  -1.8970,  34.7550,2,  34.7530,2,    280.3,2,    279.3,2,    76.61,2,    30.15,2,     0.00,     2.20,2, -999.000,9,  -1.9125
  320620070203,NBP0702,    19,  1,     15,     15,2,20070210,   0,-78.3550,-174.5100,  577,      2.0,  -0.7230,  33.9040,2,-999.0000,9,    356.4,2,    356.2,2,    77.57,2,    16.42,2,     0.10,     1.28,2, -999.000,9,  -0.7231
  320620070203,NBP0702,    19,  1,     14,     14,2,20070210,   0,-78.3550,-174.5100,  577,     39.7,  -0.5500,  33.8620,2,  33.8650,2,    366.7,2,   -999.0,9,    76.42,2,    14.79,2,     0.10,     1.15,2, -999.000,9,  -0.5512
  320620070203,NBP0702,    19,  1,     13,     13,2,20070210,   0,-78.3550,-174.5100,  577,     80.4,  -0.7060,  33.9070,2,-999.0000,9,    357.5,2,   -999.0,9,    76.90,2,    16.33,2,     0.10,     1.30,2, -999.000,9,  -0.7083
  320620070203,NBP0702,    19,  1,     12,     12,2,20070210,   0,-78.3550,-174.5100,  577,    109.8,  -0.6930,  33.9030,2,-999.0000,9,    356.1,2,    355.9,2,    77.28,2,    16.70,2,     0.11,     1.31,2, -999.000,9,  -0.6962
  320620070203,NBP0702,    19,  1,     11,     11,2,20070210,   0,-78.3550,-174.5100,  577,    150.2,  -0.8890,  33.9480,2,-999.0000,9,    344.0,2,   -999.0,9,  -999.00,9,  -999.00,9,  -999.00,  -999.00,9,    2.813,2,  -0.8931
  320620070203,NBP0702,    19,  1,     10,     10,2,20070210,   0,-78.3550,-174.5100,  577,    150.2,  -0.9040,  33.9530,2,  34.0070,2,    346.0,2,    332.8,3,    79.37,2,    20.52,2,     0.10,     1.56,2, -999.000,9,  -0.9081
  320620070203,NBP0702,    19,  1,      9,      9,2,20070210,   0,-78.3550,-174.5100,  577,    200.1,  -1.6300,  34.1950,2,  34.2010,2,    292.3,2,    291.7,2,    80.78,2,    26.82,2,     0.10,     2.01,2, -999.000,9,  -1.6344
  320620070203,NBP0702,    19,  1,      8,      8,2,20070210,   0,-78.3550,-174.5100,  577,    270.0,  -1.7210,  34.3320,2,  34.3340,2,    271.4,2,    272.7,2,    81.05,2,    29.30,2,     0.09,     2.16,2, -999.000,9,  -1.7270
  320620070203,NBP0702,    19,  1,      7,      7,2,20070210,   0,-78.3550,-174.5100,  577,    270.1,  -1.7220,  34.3330,2,-999.0000,9,    271.8,2,   -999.0,9,  -999.00,9,  -999.00,9,  -999.00,  -999.00,9,    2.213,2,  -1.7280
  320620070203,NBP0702,    19,  1,      6,      6,2,20070210,   0,-78.3550,-174.5100,  577,    320.1,  -1.5480,  34.3970,2,  34.3850,2,    265.7,2,    264.0,2,    80.85,2,    29.63,2,     0.05,     2.18,2, -999.000,9,  -1.5558
  320620070203,NBP0702,    19,  1,      5,      5,2,20070210,   0,-78.3550,-174.5100,  577,    320.2,  -1.5520,  34.3970,2,-999.0000,9,    265.6,2,   -999.0,9,  -999.00,9,  -999.00,9,  -999.00,  -999.00,9,    2.588,2,  -1.5598
  320620070203,NBP0702,    19,  1,      4,      4,2,20070210,   0,-78.3550,-174.5100,  577,    400.7,  -1.6070,  34.4440,2,-999.0000,9,    265.6,2,    264.5,2,    80.85,2,    29.86,2,     0.00,     2.17,2, -999.000,9,  -1.6169
  320620070203,NBP0702,    19,  1,      3,      3,2,20070210,   0,-78.3550,-174.5100,  577,    496.9,  -2.0720,  34.5970,2,-999.0000,9,    276.1,2,   -999.0,9,  -999.00,9,  -999.00,9,  -999.00,  -999.00,9,    2.308,2,  -2.0829
  320620070203,NBP0702,    19,  1,      2,      2,2,20070210,   0,-78.3550,-174.5100,  577,    497.0,  -2.0730,  34.5930,2,  34.5910,2,    276.1,2,    275.8,2,    77.78,2,    30.33,2,     0.00,     2.18,2, -999.000,9,  -2.0839
  320620070203,NBP0702,    19,  1,      1,      1,2,20070210,   0,-78.3550,-174.5100,  577,    566.9,  -1.8920,  34.7550,2,  34.7530,2,    279.1,2,    279.9,2,    77.52,2,    30.24,2,     0.00,     2.20,2, -999.000,9,  -1.9059
  320620070203,NBP0702,    20,  1,      7,      7,2,20070210,   0,-78.1740,-174.5000,  552,     19.5,  -0.9910,  34.0330,2,  34.1090,2,    316.2,2,    307.9,2,    77.26,2,    23.13,2,     0.07,     1.86,2, -999.000,9,  -0.9915
  320620070203,NBP0702,    20,  1,      6,      6,2,20070210,   0,-78.1740,-174.5000,  552,     99.7,  -1.7560,  34.2700,2,  34.2680,2,    269.0,2,    268.5,2,    82.39,2,    29.85,2,     0.11,     2.19,2, -999.000,9,  -1.7580
  320620070203,NBP0702,    20,  1,      5,      5,2,20070210,   0,-78.1740,-174.5000,  552,    159.8,  -1.5780,  34.3320,2,  34.3280,2,    265.8,2,    267.7,2,    82.39,2,    29.71,2,     0.07,     2.18,2, -999.000,9,  -1.5816
  320620070203,NBP0702,    20,  1,      4,      4,2,20070210,   0,-78.1740,-174.5000,  552,    269.6,  -1.2420,  34.4350,2,  34.4350,2,    255.0,2,    253.7,2,    84.28,2,    30.13,2,     0.01,     2.21,2, -999.000,9,  -1.2492
  320620070203,NBP0702,    20,  1,      3,      3,2,20070210,   0,-78.1740,-174.5000,  552,    499.8,  -2.0580,  34.6110,2,-999.0000,9,    276.3,2,    276.6,2,  -999.00,9,  -999.00,9,  -999.00,  -999.00,9, -999.000,9,  -2.0691
  320620070203,NBP0702,    20,  1,      2,      2,2,20070210,   0,-78.1740,-174.5000,  552,    499.9,  -2.0610,  34.6110,2,  34.6110,2,    276.1,2,    277.7,2,    76.77,2,    29.71,2,     0.00,     2.21,2, -999.000,9,  -2.0721
  320620070203,NBP0702,    20,  1,      1,      1,2,20070210,   0,-78.1740,-174.5000,  552,    541.8,  -1.9150,  34.7390,2,  34.7280,2,    277.7,2,    278.4,2,    77.28,2,    30.22,2,     0.01,     2.22,2, -999.000,9,  -1.9280
  320620070203,NBP0702,    21,  1,     11,     11,2,20070210,   0,-78.4200,-172.6000,  449,     19.6,  -0.5040,  33.8210,2,  33.8240,2,    367.5,2,    368.4,2,    77.20,2,    14.13,2,     0.10,     1.10,2, -999.000,9,  -0.5046
  320620070203,NBP0702,    21,  1,     10,     10,2,20070210,   0,-78.4200,-172.6000,  449,     70.0,  -0.4170,  33.8540,2,-999.0000,9,    366.6,2,   -999.0,9,  -999.00,9,  -999.00,9,  -999.00,  -999.00,9,    3.160,2,  -0.4191
  320620070203,NBP0702,    21,  1,      9,      9,2,20070210,   0,-78.4200,-172.6000,  449,     70.1,  -0.4140,  33.8560,2,  33.8750,2,    367.0,2,    366.4,2,    77.48,2,    14.70,2,     0.10,     1.18,2, -999.000,9,  -0.4162
  320620070203,NBP0702,    21,  1,      8,      8,2,20070210,   0,-78.4200,-172.6000,  449,    141.1,  -1.1190,  34.1030,2,  34.1060,2,    329.1,2,    327.4,2,    81.08,2,    22.33,2,     0.10,     1.75,2, -999.000,9,  -1.1226
  320620070203,NBP0702,    21,  1,      7,      7,2,20070210,   0,-78.4200,-172.6000,  449,    260.2,  -1.7650,  34.2890,2,  34.2860,2,    271.4,2,    271.2,2,    81.73,2,    28.91,2,     0.11,     2.19,2, -999.000,9,  -1.7706
  320620070203,NBP0702,    21,  1,      6,      6,2,20070210,   0,-78.4200,-172.6000,  449,    260.2,  -1.7650,  34.2890,2,-999.0000,9,    271.6,2,   -999.0,9,  -999.00,9,  -999.00,9,  -999.00,  -999.00,9,    2.222,2,  -1.7706
  320620070203,NBP0702,    21,  1,      5,      5,2,20070210,   0,-78.4200,-172.6000,  449,    340.0,  -1.3270,  34.4470,2,  34.4450,2,    258.3,2,    257.2,2,    83.42,2,    30.13,2,     0.01,     2.20,2, -999.000,9,  -1.3360
  320620070203,NBP0702,    21,  1,      4,      4,2,20070210,   0,-78.4200,-172.6000,  449,    340.0,  -1.3630,  34.4480,2,-999.0000,9,    259.3,2,   -999.0,9,  -999.00,9,  -999.00,9,  -999.00,  -999.00,9,    2.061,2,  -1.3719
  320620070203,NBP0702,    21,  1,      3,      3,2,20070210,   0,-78.4200,-172.6000,  449,    399.9,  -1.7130,  34.4560,2,-999.0000,9,    268.9,2,   -999.0,9,  -999.00,9,  -999.00,9,  -999.00,  -999.00,9,    2.260,2,  -1.7225
  320620070203,NBP0702,    21,  1,      2,      2,2,20070210,   0,-78.4200,-172.6000,  449,    399.9,  -1.7180,  34.4560,2,  34.4560,2,    269.2,2,    268.1,2,  -999.00,9,  -999.00,9,  -999.00,  -999.00,9, -999.000,9,  -1.7275
  320620070203,NBP0702,    21,  1,      1,      1,2,20070210,   0,-78.4200,-172.6000,  449,    439.0,  -1.7530,  34.4690,2,  34.4680,2,    267.1,2,    267.8,2,    84.47,2,    30.02,2,     0.03,     2.20,2, -999.000,9,  -1.7635
  320620070203,NBP0702,    22,  1,     10,     10,2,20070210,   0,-78.4130,-170.8040,  570,      2.0,  -0.6030,  33.7880,2,-999.0000,9,    365.3,2,   -999.0,9,    76.34,2,    14.80,2,     0.10,     1.08,2, -999.000,9,  -0.6031
  320620070203,NBP0702,    22,  1,      9,      9,2,20070210,   0,-78.4130,-170.8040,  570,     19.6,  -0.5740,  33.8010,2,  33.8050,2,    364.5,2,    364.2,2,    75.58,2,    14.89,2,     0.10,     1.10,2, -999.000,9,  -0.5746
  320620070203,NBP0702,    22,  1,      8,      8,2,20070210,   0,-78.4130,-170.8040,  570,     59.7,  -0.6080,  33.8310,2,  33.8530,2,    362.0,2,    357.4,2,    80.82,2,    16.13,2,     0.10,     1.21,2, -999.000,9,  -0.6097
  320620070203,NBP0702,    22,  1,      7,      7,2,20070210,   0,-78.4130,-170.8040,  570,    119.4,  -1.3480,  34.0710,2,-999.0000,9,    314.0,2,   -999.0,9,  -999.00,9,  -999.00,9,  -999.00,  -999.00,9, -999.000,9,  -1.3508
  320620070203,NBP0702,    22,  1,      6,      6,2,20070210,   0,-78.4130,-170.8040,  570,    199.6,  -1.6440,  34.1750,2,  34.1720,2,    292.4,2,   -999.0,9,    80.50,2,    26.71,2,     0.11,     1.95,2, -999.000,9,  -1.6484
  320620070203,NBP0702,    22,  1,      5,      5,2,20070210,   0,-78.4130,-170.8040,  570,    302.6,  -1.8140,  34.3800,2,  34.3770,2,    273.7,2,    273.3,2,    80.28,2,    29.63,2,     0.05,     2.06,2, -999.000,9,  -1.8206
  320620070203,NBP0702,    22,  1,      4,      4,2,20070210,   0,-78.4130,-170.8040,  570,    419.6,  -1.8060,  34.4330,2,  34.4300,2,    274.2,2,    273.3,2,  -999.00,9,  -999.00,9,  -999.00,  -999.00,9, -999.000,9,  -1.8157
  320620070203,NBP0702,    22,  1,      3,      3,2,20070210,   0,-78.4130,-170.8040,  570,    500.0,  -1.8370,  34.4490,2,  34.4470,2,    274.8,2,    274.0,2,  -999.00,9,  -999.00,9,  -999.00,  -999.00,9, -999.000,9,  -1.8489
  320620070203,NBP0702,    22,  1,      2,      2,2,20070210,   0,-78.4130,-170.8040,  570,    500.0,  -1.8350,  34.4490,2,-999.0000,9,    274.8,2,   -999.0,9,  -999.00,9,  -999.00,9,  -999.00,  -999.00,9,    2.248,2,  -1.8469
  320620070203,NBP0702,    22,  1,      1,      1,2,20070210,   0,-78.4130,-170.8040,  570,    559.9,  -1.8540,  34.4660,2,-999.0000,9,    272.0,2,   -999.0,9,  -999.00,9,  -999.00,9,  -999.00,  -999.00,9,    2.336,2,  -1.8676