BOTTLE,202201227CCHSIOENA
EXPOCODE,SECT_ID,STNNBR,CASTNO,SAMPNO,BTLNBR,BTLNBR_FLAG_W,DATE,TIME,LATITUDE,LONGITUDE,DEPTH,CTDPRS,CTDTMP,CTDSAL,CTDSAL_FLAG_W,SALNTY,SALNTY_FLAG_W,CTDOXY,CTDOXY_FLAG_W,OXYGEN,OXYGEN_FLAG_W,SILCAT,SILCAT_FLAG_W,NITRAT,NITRAT_FLAG_W,NITRIT,PHSPHT,PHSPHT_FLAG_W,CFC-12,CFC-12_FLAG_W,THETA
,,,,,,,,,,,METERS,DBAR,ITS-90,PSS-78,,PSS-78,,UMOL/KG,,UMOL/KG,,UMOL/KG,,UMOL/KG,,UMOL/KG,UMOL/KG,,PMOL/KG,,DEG C
  320620070203,NBP0702,    94,  1,     12,     12,2,20070228,   0,-73.7120,-113.2410,  794,      2.0,  -1.7990,  33.6600,2,-999.0000,9,    349.9,2,    346.1,2,    71.19,2,    21.90,2,     0.08,     1.57,2, -999.000,9,  -1.7990
  320620070203,NBP0702,    94,  1,     11,     11,2,20070228,   0,-73.7120,-113.2410,  794,      2.0,  -1.7990,  33.6600,2,  33.6580,2,    350.2,2,   -999.0,9,  -999.00,9,  -999.00,9,  -999.00,  -999.00,9, -999.000,9,  -1.7990
  320620070203,NBP0702,    94,  1,     10,     10,2,20070228,   0,-73.7120,-113.2410,  794,     60.1,  -1.4580,  33.8970,2,-999.0000,9,    271.1,2,   -999.0,9,    80.23,2,    28.30,2,     0.07,     2.13,2, -999.000,9,  -1.4593
  320620070203,NBP0702,    94,  1,      9,      9,2,20070228,   0,-73.7120,-113.2410,  794,    172.9,  -1.3530,  34.0450,2,  34.0420,2,    253.4,2,    258.2,2,    85.76,2,    30.28,2,     0.09,     2.11,2, -999.000,9,  -1.3571
  320620070203,NBP0702,    94,  1,      8,      8,2,20070228,   0,-73.7120,-113.2410,  794,    172.9,  -1.3490,  34.0450,2,-999.0000,9,    253.2,2,   -999.0,9,  -999.00,9,  -999.00,9,  -999.00,  -999.00,9,    1.605,2,  -1.3531
  320620070203,NBP0702,    94,  1,      7,      7,2,20070228,   0,-73.7120,-113.2410,  794,    320.2,  -1.1310,  34.1860,2,  34.1870,2,    240.2,2,    242.0,2,    89.64,2,    30.71,2,     0.04,     2.21,2, -999.000,9,  -1.1398
  320620070203,NBP0702,    94,  1,      6,      6,2,20070228,   0,-73.7120,-113.2410,  794,    320.3,  -1.1320,  34.1860,2,-999.0000,9,    240.5,2,   -999.0,9,  -999.00,9,  -999.00,9,  -999.00,  -999.00,9,    1.366,2,  -1.1408
  320620070203,NBP0702,    94,  1,      5,      5,2,20070228,   0,-73.7120,-113.2410,  794,    500.2,   0.1290,  34.3930,2,  34.3940,2,    194.8,2,    196.2,2,   100.97,2,    31.58,2,     0.01,     2.27,2, -999.000,9,   0.1088
  320620070203,NBP0702,    94,  1,      4,      4,2,20070228,   0,-73.7120,-113.2410,  794,    500.4,   0.1270,  34.3930,2,-999.0000,9,    195.0,2,   -999.0,9,  -999.00,9,  -999.00,9,  -999.00,  -999.00,9,    0.456,2,   0.1068
  320620070203,NBP0702,    94,  1,      3,      3,2,20070228,   0,-73.7120,-113.2410,  794,    600.5,   0.2420,  34.4560,2,-999.0000,9,    195.9,2,   -999.0,9,  -999.00,9,  -999.00,9,  -999.00,  -999.00,9, -999.000,9,   0.2166
  320620070203,NBP0702,    94,  1,      2,      2,2,20070228,   0,-73.7120,-113.2410,  794,    600.7,   0.2340,  34.4540,2,-999.0000,9,    196.1,2,   -999.0,9,  -999.00,9,  -999.00,9,  -999.00,  -999.00,9,    0.503,2,   0.2087
  320620070203,NBP0702,    94,  1,      1,      1,2,20070228,   0,-73.7120,-113.2410,  794,    783.5,   0.6140,  34.5830,2,  34.5850,2,    189.5,2,    192.1,2,   106.67,2,    32.00,2,     0.05,     2.30,2, -999.000,9,   0.5770
  320620070203,NBP0702,    95,  1,      8,      8,2,20070301,   0,-73.4800,-114.3160,  809,    184.8,  -1.2060,  33.9710,2,  33.9760,2,    228.9,2,    234.4,2,    91.78,2,    30.54,2,     0.02,     2.18,2, -999.000,9,  -1.2107
  320620070203,NBP0702,    95,  1,      7,      7,2,20070301,   0,-73.4800,-114.3160,  809,    185.0,  -1.2310,  33.9680,2,-999.0000,9,    230.1,2,   -999.0,9,  -999.00,9,  -999.00,9,  -999.00,  -999.00,9,    1.086,2,  -1.2356
  320620070203,NBP0702,    95,  1,      6,      6,2,20070301,   0,-73.4800,-114.3160,  809,    219.8,  -1.4060,  33.9920,2,-999.0000,9,    253.5,2,   -999.0,9,  -999.00,9,  -999.00,9,  -999.00,  -999.00,9,    1.518,2,  -1.4112
  320620070203,NBP0702,    95,  1,      5,      5,2,20070301,   0,-73.4800,-114.3160,  809,    251.0,  -1.3690,  34.0210,2,-999.0000,9,    249.6,2,   -999.0,9,  -999.00,9,  -999.00,9,  -999.00,  -999.00,9,    1.581,2,  -1.3752
  320620070203,NBP0702,    95,  1,      4,      4,2,20070301,   0,-73.4800,-114.3160,  809,    251.5,  -1.3440,  34.0240,2,  34.0190,2,    249.2,2,    252.0,2,    85.66,2,    30.20,2,     0.08,     2.15,2, -999.000,9,  -1.3502
  320620070203,NBP0702,    95,  1,      3,      3,2,20070301,   0,-73.4800,-114.3160,  809,    350.3,  -0.3530,  34.2130,2,  34.2120,2,    200.4,2,    204.3,2,    99.09,2,    31.12,2,     0.00,     2.22,2, -999.000,9,  -0.3651
  320620070203,NBP0702,    95,  1,      2,      2,2,20070301,   0,-73.4800,-114.3160,  809,    350.8,  -0.3750,  34.2110,2,-999.0000,9,    202.3,2,   -999.0,9,  -999.00,9,  -999.00,9,  -999.00,  -999.00,9,    0.478,2,  -0.3871
  320620070203,NBP0702,    95,  1,      1,      1,2,20070301,   0,-73.4800,-114.3160,  809,    798.6,   0.6760,  34.5970,2,  34.5980,2,    191.6,2,    193.8,2,   104.76,2,    31.74,2,     0.03,     2.25,2, -999.000,9,   0.6378
  320620070203,NBP0702,    96,  1,      9,      9,2,20070301,   0,-73.8270,-123.4940, 1001,      2.0,  -1.3720,  32.9360,2,  32.9350,2,    336.4,2,    340.1,2,    65.43,2,     9.00,2,     0.11,     0.66,2, -999.000,9,  -1.3720
  320620070203,NBP0702,    96,  1,      8,      8,2,20070301,   0,-73.8270,-123.4940, 1001,     79.9,  -0.7370,  33.5640,2,-999.0000,9,    304.3,2,   -999.0,9,  -999.00,9,  -999.00,9,  -999.00,  -999.00,9, -999.000,9,  -0.7392
  320620070203,NBP0702,    96,  1,      7,      7,2,20070301,   0,-73.8270,-123.4940, 1001,     79.9,  -0.7470,  33.5720,2,  33.6450,2,    307.1,2,    299.9,2,    82.08,2,    17.60,2,     0.08,     1.57,2, -999.000,9,  -0.7492
  320620070203,NBP0702,    96,  1,      6,      6,2,20070301,   0,-73.8270,-123.4940, 1001,    120.2,  -1.0670,  33.8170,2,-999.0000,9,    279.0,2,   -999.0,9,    86.07,2,    22.57,2,     0.07,     1.91,2, -999.000,9,  -1.0701
  320620070203,NBP0702,    96,  1,      5,      5,2,20070301,   0,-73.8270,-123.4940, 1001,    200.3,  -1.5590,  34.0100,2,-999.0000,9,    250.9,2,   -999.0,9,  -999.00,9,  -999.00,9,  -999.00,  -999.00,9,    1.533,2,  -1.5635
  320620070203,NBP0702,    96,  1,      4,      4,2,20070301,   0,-73.8270,-123.4940, 1001,    200.3,  -1.5600,  34.0100,2,  34.0060,2,    250.7,2,    253.4,2,    94.06,2,    29.83,2,     0.06,     2.16,2, -999.000,9,  -1.5645
  320620070203,NBP0702,    96,  1,      3,      3,2,20070301,   0,-73.8270,-123.4940, 1001,    480.5,  -0.3860,  34.3300,2,-999.0000,9,    219.3,2,   -999.0,9,    95.16,2,    31.67,2,     0.02,     2.25,2,    0.933,2,  -0.4032
  320620070203,NBP0702,    96,  1,      2,      2,2,20070301,   0,-73.8270,-123.4940, 1001,    480.5,  -0.3890,  34.3300,2,  34.3270,2,    219.4,2,    221.9,2,  -999.00,9,  -999.00,9,  -999.00,  -999.00,9, -999.000,9,  -0.4061
  320620070203,NBP0702,    96,  1,      1,      1,2,20070301,   0,-73.8270,-123.4940, 1001,    990.9,   0.0790,  34.4310,2,  34.4310,2,    211.6,2,    213.8,2,    94.67,2,    31.40,2,     0.00,     2.24,2, -999.000,9,   0.0351
  320620070203,NBP0702,    97,  1,     17,     17,2,20070302,   0,-72.4300,-127.5110, 2926,      2.0,  -1.7850,  33.2080,2,  33.2560,2,    329.3,2,    329.9,2,    63.30,2,    25.21,2,     0.13,     1.86,2, -999.000,9,  -1.7850
  320620070203,NBP0702,    97,  1,     16,     16,2,20070302,   0,-72.4300,-127.5110, 2926,      2.0,  -1.7860,  33.2170,2,-999.0000,9,    329.0,2,   -999.0,9,  -999.00,9,  -999.00,9,  -999.00,  -999.00,9,    2.792,2,  -1.7860
  320620070203,NBP0702,    97,  1,     15,     15,2,20070302,   0,-72.4300,-127.5110, 2926,     19.5,  -1.8010,  33.3110,2,-999.0000,9,    322.3,2,   -999.0,9,    65.11,2,    25.69,2,     0.12,     1.89,2, -999.000,9,  -1.8013
  320620070203,NBP0702,    97,  1,     14,     14,2,20070302,   0,-72.4300,-127.5110, 2926,     99.8,  -1.6680,  34.0180,2,-999.0000,9,    263.6,2,   -999.0,9,    80.22,2,    30.16,2,     0.11,     2.17,2, -999.000,9,  -1.6700
  320620070203,NBP0702,    97,  1,     13,     13,2,20070302,   0,-72.4300,-127.5110, 2926,    149.7,  -1.6800,  34.0680,2,  34.0650,2,    261.6,2,    263.6,2,    83.17,2,    30.23,2,     0.04,     2.19,2, -999.000,9,  -1.6831
  320620070203,NBP0702,    97,  1,     12,     12,2,20070302,   0,-72.4300,-127.5110, 2926,    149.9,  -1.6830,  34.0640,2,-999.0000,9,    261.6,2,   -999.0,9,  -999.00,9,  -999.00,9,  -999.00,  -999.00,9, -999.000,9,  -1.6861
  320620070203,NBP0702,    97,  1,     11,     11,2,20070302,   0,-72.4300,-127.5110, 2926,    450.8,   1.5860,  34.7070,2,  34.7080,2,    177.0,2,    178.0,2,    91.96,2,    31.95,2,     0.01,     2.28,2, -999.000,9,   1.5623
  320620070203,NBP0702,    97,  1,     10,     10,2,20070302,   0,-72.4300,-127.5110, 2926,    451.4,   1.5770,  34.7070,2,-999.0000,9,    177.6,2,   -999.0,9,  -999.00,9,  -999.00,9,  -999.00,  -999.00,9,    0.181,2,   1.5533
  320620070203,NBP0702,    97,  1,      9,      9,2,20070302,   0,-72.4300,-127.5110, 2926,    550.1,   1.5520,  34.7270,2,  34.7260,2,    179.7,2,    180.6,2,    93.77,2,    31.40,2,     0.00,     2.25,2, -999.000,9,   1.5228
  320620070203,NBP0702,    97,  1,      8,      8,2,20070302,   0,-72.4300,-127.5110, 2926,    800.1,   1.2990,  34.7290,2,  34.7290,2,    185.8,2,    186.5,2,   102.93,2,    31.39,2,     0.00,     2.26,2, -999.000,9,   1.2565
  320620070203,NBP0702,    97,  1,      7,      7,2,20070302,   0,-72.4300,-127.5110, 2926,    801.1,   1.2970,  34.7290,2,-999.0000,9,    185.9,2,   -999.0,9,  -999.00,9,  -999.00,9,  -999.00,  -999.00,9,    0.120,2,   1.2544
  320620070203,NBP0702,    97,  1,      6,      6,2,20070302,   0,-72.4300,-127.5110, 2926,   1200.0,   0.9690,  34.7200,2,  34.7180,2,    193.2,2,    194.2,2,   109.61,2,    31.78,2,     0.00,     2.28,2, -999.000,9,   0.9044
  320620070203,NBP0702,    97,  1,      5,      5,2,20070302,   0,-72.4300,-127.5110, 2926,   1799.9,   0.7150,  34.7120,2,  34.7110,2,    199.2,2,    199.6,2,   114.38,2,    31.58,2,     0.00,     2.27,2, -999.000,9,   0.6127
  320620070203,NBP0702,    97,  1,      4,      4,2,20070302,   0,-72.4300,-127.5110, 2926,   1800.1,   0.7160,  34.7120,2,  34.7120,2,    199.3,2,   -999.0,9,  -999.00,9,  -999.00,9,  -999.00,  -999.00,9, -999.000,9,   0.6136
  320620070203,NBP0702,    97,  1,      3,      3,2,20070302,   0,-72.4300,-127.5110, 2926,   2199.6,   0.6030,  34.7100,2,  34.7080,2,    202.4,2,    202.2,2,   118.19,2,    31.59,2,     0.00,     2.29,2, -999.000,9,   0.4726
  320620070203,NBP0702,    97,  1,      2,      2,2,20070302,   0,-72.4300,-127.5110, 2926,   2599.7,   0.5240,  34.7080,2,  34.7060,2,    205.0,2,    203.7,2,   122.96,2,    31.97,2,     0.00,     2.29,2, -999.000,9,   0.3630
  320620070203,NBP0702,    97,  1,      1,      1,2,20070302,   0,-72.4300,-127.5110, 2926,   2915.9,   0.5100,  34.7080,2,  34.7060,2,    207.0,2,    206.1,2,   129.64,2,    32.16,2,     0.00,     2.31,2, -999.000,9,   0.3224
  320620070203,NBP0702,    98,  1,      9,      9,2,20070303,   0,-72.8270,-127.6320, 1461,      2.0,  -1.8050,  33.5470,2,-999.0000,9,    311.4,2,   -999.0,9,    71.01,2,    25.13,2,     0.10,     1.91,2, -999.000,9,  -1.8050
  320620070203,NBP0702,    98,  1,      8,      8,2,20070303,   0,-72.8270,-127.6320, 1461,     50.0,  -1.6750,  33.8770,2,  33.9490,2,    278.6,2,    271.9,2,    82.42,2,    29.29,2,     0.13,     2.16,2, -999.000,9,  -1.6760
  320620070203,NBP0702,    98,  1,      7,      7,2,20070303,   0,-72.8270,-127.6320, 1461,    100.3,  -1.6730,  34.0280,2,-999.0000,9,    260.5,2,   -999.0,9,    90.06,2,    30.15,2,     0.12,     2.19,2, -999.000,9,  -1.6750
  320620070203,NBP0702,    98,  1,      6,      6,2,20070303,   0,-72.8270,-127.6320, 1461,    150.1,  -1.7040,  34.0560,2,-999.0000,9,    261.7,2,   -999.0,9,    86.14,2,    30.34,2,     0.03,     2.16,2, -999.000,9,  -1.7071
  320620070203,NBP0702,    98,  1,      5,      5,2,20070303,   0,-72.8270,-127.6320, 1461,    200.7,  -1.7170,  34.0810,2,  34.0790,2,    265.7,2,    266.8,2,    88.52,2,    30.45,2,     0.01,     2.15,2, -999.000,9,  -1.7212
  320620070203,NBP0702,    98,  1,      4,      4,2,20070303,   0,-72.8270,-127.6320, 1461,    250.1,  -1.6580,  34.1020,2,-999.0000,9,    262.8,2,   -999.0,9,    82.40,2,    30.07,2,     0.00,     2.19,2, -999.000,9,  -1.6635
  320620070203,NBP0702,    98,  1,      3,      3,2,20070303,   0,-72.8270,-127.6320, 1461,    499.4,   1.6260,  34.7070,2,  34.7060,2,    177.7,2,    177.4,2,    90.82,2,    31.78,2,     0.00,     2.27,2, -999.000,9,   1.5994
  320620070203,NBP0702,    98,  1,      2,      2,2,20070303,   0,-72.8270,-127.6320, 1461,    700.2,   1.4090,  34.7300,2,-999.0000,9,    185.3,2,   -999.0,9,    93.68,2,    31.49,2,     0.00,     2.25,2, -999.000,9,   1.3717
  320620070203,NBP0702,    98,  1,      1,      1,2,20070303,   0,-72.8270,-127.6320, 1461,   1450.7,   0.8390,  34.7160,2,  34.7160,2,    199.5,2,    200.9,2,   116.28,2,    31.31,2,     0.00,     2.27,2, -999.000,9,   0.7593
  320620070203,NBP0702,    99,  1,      8,      8,2,20070303,   0,-73.0030,-128.2330, 1125,      2.0,  -1.8090,  33.5360,2,-999.0000,9,    313.7,2,   -999.0,9,    69.58,2,    25.42,2,     0.10,     1.91,2, -999.000,9,  -1.8090
  320620070203,NBP0702,    99,  1,      7,      7,2,20070303,   0,-73.0030,-128.2330, 1125,     29.8,  -1.8120,  33.5390,2,  33.5450,2,    313.6,2,    314.9,2,    74.45,2,    25.41,2,     0.10,     1.92,2, -999.000,9,  -1.8125
  320620070203,NBP0702,    99,  1,      6,      6,2,20070303,   0,-73.0030,-128.2330, 1125,    150.5,  -1.6710,  34.0440,2,  34.0440,2,    270.3,2,    270.0,2,    77.83,2,    30.02,2,     0.05,     2.14,2, -999.000,9,  -1.6742
  320620070203,NBP0702,    99,  1,      5,      5,2,20070303,   0,-73.0030,-128.2330, 1125,    439.1,   1.6350,  34.7130,2,  34.7120,2,    178.0,2,    178.2,2,    86.82,2,    31.87,2,     0.00,     2.27,2, -999.000,9,   1.6118
  320620070203,NBP0702,    99,  1,      4,      4,2,20070303,   0,-73.0030,-128.2330, 1125,    520.1,   1.5560,  34.7250,2,-999.0000,9,    181.3,2,   -999.0,9,    93.49,2,    31.20,2,     0.00,     2.24,2, -999.000,9,   1.5285
  320620070203,NBP0702,    99,  1,      3,      3,2,20070303,   0,-73.0030,-128.2330, 1125,    899.1,   1.1350,  34.7250,2,  34.7250,2,    192.0,2,    191.2,2,   107.69,2,    31.20,2,     0.00,     2.25,2, -999.000,9,   1.0877
  320620070203,NBP0702,    99,  1,      2,      2,2,20070303,   0,-73.0030,-128.2330, 1125,   1019.4,   1.0400,  34.7220,2,  34.7170,2,    194.3,2,    192.8,2,   105.79,2,    31.59,2,     0.00,     2.23,2, -999.000,9,   0.9861
  320620070203,NBP0702,    99,  1,      1,      1,2,20070303,   0,-73.0030,-128.2330, 1125,   1115.2,   0.8360,  34.7160,2,  34.7160,2,    198.8,2,    199.2,2,   110.56,2,    31.58,2,     0.00,     2.24,2, -999.000,9,   0.7779
  320620070203,NBP0702,   100,  1,      8,      8,2,20070303,   0,-73.1210,-128.2150,  596,      2.0,  -1.8150,  33.5990,2,-999.0000,9,    309.8,2,   -999.0,9,    66.99,2,    26.94,2,     0.11,     1.98,2, -999.000,9,  -1.8150
  320620070203,NBP0702,   100,  1,      7,      7,2,20070303,   0,-73.1210,-128.2150,  596,     30.0,  -1.8180,  33.6110,2,  33.6230,2,    309.2,2,    309.7,2,    68.71,2,    27.13,2,     0.11,     1.99,2, -999.000,9,  -1.8185
  320620070203,NBP0702,   100,  1,      6,      6,2,20070303,   0,-73.1210,-128.2150,  596,    160.1,  -1.6660,  33.9990,2,  34.0140,2,    267.4,2,   -999.0,9,    84.52,2,    29.96,2,     0.12,     2.13,2, -999.000,9,  -1.6694
  320620070203,NBP0702,   100,  1,      5,      5,2,20070303,   0,-73.1210,-128.2150,  596,    314.3,  -1.4290,  34.1460,2,-999.0000,9,    260.5,2,   -999.0,9,    89.28,2,    30.36,2,     0.00,     2.18,2, -999.000,9,  -1.4368
  320620070203,NBP0702,   100,  1,      4,      4,2,20070303,   0,-73.1210,-128.2150,  596,    339.2,  -1.3250,  34.1670,2,-999.0000,9,    255.8,2,   -999.0,9,    89.66,2,    30.55,2,     0.00,     2.18,2, -999.000,9,  -1.3338
  320620070203,NBP0702,   100,  1,      3,      3,2,20070303,   0,-73.1210,-128.2150,  596,    459.9,   0.2560,  34.4520,2,  34.4530,2,    209.3,2,    207.6,2,    93.05,2,    31.59,2,     0.00,     2.25,2, -999.000,9,   0.2371
  320620070203,NBP0702,   100,  1,      2,      2,2,20070303,   0,-73.1210,-128.2150,  596,    529.3,   0.4350,  34.5100,2,  34.5200,2,    204.0,2,   -999.0,9,  -999.00,9,  -999.00,9,  -999.00,  -999.00,9, -999.000,9,   0.4121
  320620070203,NBP0702,   100,  1,      1,      1,2,20070303,   0,-73.1210,-128.2150,  596,    585.9,   1.0720,  34.7110,2,-999.0000,9,    192.8,2,    190.5,2,   101.97,2,    31.68,2,     0.00,     2.23,2, -999.000,9,   1.0430
  320620070203,NBP0702,   101,  1,     13,     13,2,20070303,   0,-73.3670,-128.2430,  741,      2.0,  -1.7510,  33.5540,2,  33.5500,2,    317.9,2,    320.0,2,    81.42,2,    22.76,2,     0.08,     1.82,2, -999.000,9,  -1.7510
  320620070203,NBP0702,   101,  1,     12,     12,2,20070303,   0,-73.3670,-128.2430,  741,     29.3,  -1.7530,  33.5560,2,  33.6210,2,    317.4,2,    312.3,2,    84.95,2,    23.99,2,     0.09,     1.90,2, -999.000,9,  -1.7535
  320620070203,NBP0702,   101,  1,     11,     11,2,20070303,   0,-73.3670,-128.2430,  741,     29.3,  -1.7530,  33.5560,2,-999.0000,9,    317.4,2,   -999.0,9,  -999.00,9,  -999.00,9,  -999.00,  -999.00,9,    2.441,2,  -1.7535
  320620070203,NBP0702,   101,  1,     10,     10,2,20070303,   0,-73.3670,-128.2430,  741,    130.1,  -1.6890,  33.9170,2,  33.9230,2,    276.7,2,    276.7,2,    85.77,2,    28.66,2,     0.09,     2.09,2, -999.000,9,  -1.6917
  320620070203,NBP0702,   101,  1,      9,      9,2,20070303,   0,-73.3670,-128.2430,  741,    220.5,  -1.6720,  34.0160,2,  34.0140,2,    267.4,2,    267.5,2,    86.62,2,    29.44,2,     0.08,     2.11,2, -999.000,9,  -1.6768
  320620070203,NBP0702,   101,  1,      8,      8,2,20070303,   0,-73.3670,-128.2430,  741,    220.5,  -1.6720,  34.0160,2,-999.0000,9,    267.3,2,   -999.0,9,  -999.00,9,  -999.00,9,  -999.00,  -999.00,9,    1.806,2,  -1.6768
  320620070203,NBP0702,   101,  1,      7,      7,2,20070303,   0,-73.3670,-128.2430,  741,    259.9,  -1.5940,  34.0430,2,  34.0410,2,    260.2,2,    260.8,2,  -999.00,9,  -999.00,9,  -999.00,  -999.00,9, -999.000,9,  -1.5999
  320620070203,NBP0702,   101,  1,      6,      6,2,20070303,   0,-73.3670,-128.2430,  741,    400.3,  -1.7310,  34.0880,2,  34.0850,2,    266.7,2,    267.9,2,    88.52,2,    29.79,2,     0.00,     2.13,2, -999.000,9,  -1.7402
  320620070203,NBP0702,   101,  1,      5,      5,2,20070303,   0,-73.3670,-128.2430,  741,    400.3,  -1.7310,  34.0880,2,-999.0000,9,    266.8,2,   -999.0,9,  -999.00,9,  -999.00,9,  -999.00,  -999.00,9,    1.857,2,  -1.7402
  320620070203,NBP0702,   101,  1,      4,      4,2,20070303,   0,-73.3670,-128.2430,  741,    539.8,  -0.4570,  34.3090,2,-999.0000,9,    227.3,2,   -999.0,9,  -999.00,9,  -999.00,9,  -999.00,  -999.00,9, -999.000,9,  -0.4762
  320620070203,NBP0702,   101,  1,      3,      3,2,20070303,   0,-73.3670,-128.2430,  741,    539.8,  -0.4550,  34.3090,2,  34.3090,2,    227.3,2,   -999.0,9,  -999.00,9,  -999.00,9,  -999.00,  -999.00,9, -999.000,9,  -0.4742
  320620070203,NBP0702,   101,  1,      2,      2,2,20070303,   0,-73.3670,-128.2430,  741,    600.4,   0.2870,  34.4410,2,  34.4440,2,    209.2,2,   -999.0,9,    89.90,2,    31.71,2,     0.00,     2.22,2, -999.000,9,   0.2614
  320620070203,NBP0702,   101,  1,      1,      1,2,20070303,   0,-73.3670,-128.2430,  741,    730.9,   1.1230,  34.7180,2,  34.7160,2,    191.8,2,    192.8,2,   107.69,2,    31.03,2,     0.00,     2.21,2, -999.000,9,   1.0856