BOTTLE,202201227CCHSIOENA
EXPOCODE,SECT_ID,STNNBR,CASTNO,SAMPNO,BTLNBR,BTLNBR_FLAG_W,DATE,TIME,LATITUDE,LONGITUDE,DEPTH,CTDPRS,CTDTMP,CTDSAL,CTDSAL_FLAG_W,SALNTY,SALNTY_FLAG_W,CTDOXY,CTDOXY_FLAG_W,OXYGEN,OXYGEN_FLAG_W,SILCAT,SILCAT_FLAG_W,NITRAT,NITRAT_FLAG_W,NITRIT,PHSPHT,PHSPHT_FLAG_W,CFC-12,CFC-12_FLAG_W,THETA
,,,,,,,,,,,METERS,DBAR,ITS-90,PSS-78,,PSS-78,,UMOL/KG,,UMOL/KG,,UMOL/KG,,UMOL/KG,,UMOL/KG,UMOL/KG,,PMOL/KG,,DEG C
  320620070203,NBP0702,   152,  1,     12,     12,2,20070314,   0,-71.1060,-104.0060,  543,      2.0,  -1.7380,  32.9780,2,-999.0000,9,    336.2,2,    339.4,2,    50.43,2,    24.03,2,     0.18,     1.69,2, -999.000,9,  -1.7380
  320620070203,NBP0702,   152,  1,     11,     11,2,20070314,   0,-71.1060,-104.0060,  543,    129.6,  -1.7060,  33.9570,2,-999.0000,9,    275.6,2,   -999.0,9,  -999.00,9,  -999.00,9,  -999.00,  -999.00,9,    2.240,2,  -1.7086
  320620070203,NBP0702,   152,  1,     10,     10,2,20070314,   0,-71.1060,-104.0060,  543,    129.7,  -1.7040,  33.9570,2,  33.9570,2,    275.5,2,    279.0,2,    74.50,2,    29.57,2,     0.05,     2.11,2, -999.000,9,  -1.7066
  320620070203,NBP0702,   152,  1,      9,      9,2,20070314,   0,-71.1060,-104.0060,  543,    300.2,  -0.1190,  34.3430,2,-999.0000,9,    216.9,2,    220.1,2,    85.15,2,    31.87,2,     0.02,     2.25,2, -999.000,9,  -0.1299
  320620070203,NBP0702,   152,  1,      8,      8,2,20070314,   0,-71.1060,-104.0060,  543,    300.3,  -0.1340,  34.3370,2,-999.0000,9,    218.0,2,   -999.0,9,  -999.00,9,  -999.00,9,  -999.00,  -999.00,9,    1.136,2,  -0.1449
  320620070203,NBP0702,   152,  1,      7,      7,2,20070314,   0,-71.1060,-104.0060,  543,    350.0,   0.6280,  34.5020,2,  34.5020,2,    195.1,2,    195.6,2,    85.33,2,    32.35,2,     0.01,     2.26,2, -999.000,9,   0.6128
  320620070203,NBP0702,   152,  1,      6,      6,2,20070314,   0,-71.1060,-104.0060,  543,    350.1,   0.6220,  34.5030,2,-999.0000,9,    194.9,2,   -999.0,9,  -999.00,9,  -999.00,9,  -999.00,  -999.00,9,    0.752,2,   0.6068
  320620070203,NBP0702,   152,  1,      5,      5,2,20070314,   0,-71.1060,-104.0060,  543,    400.1,   0.9770,  34.6360,2,-999.0000,9,    186.7,2,   -999.0,9,  -999.00,9,  -999.00,9,  -999.00,  -999.00,9,    0.302,2,   0.9582
  320620070203,NBP0702,   152,  1,      4,      4,2,20070314,   0,-71.1060,-104.0060,  543,    400.3,   0.9960,  34.6450,2,-999.0000,9,    186.8,2,    187.2,2,    99.42,2,    32.36,2,     0.00,     2.25,2, -999.000,9,   0.9771
  320620070203,NBP0702,   152,  1,      3,      3,2,20070314,   0,-71.1060,-104.0060,  543,    449.2,   1.2610,  34.7190,2,  34.7200,2,    185.1,2,    185.4,2,   102.27,2,    31.60,2,     0.02,     2.20,2, -999.000,9,   1.2386
  320620070203,NBP0702,   152,  1,      2,      2,2,20070314,   0,-71.1060,-104.0060,  543,    449.3,   1.2600,  34.7200,2,-999.0000,9,    185.3,2,   -999.0,9,  -999.00,9,  -999.00,9,  -999.00,  -999.00,9,    0.147,2,   1.2376
  320620070203,NBP0702,   152,  1,      1,      1,2,20070314,   0,-71.1060,-104.0060,  543,    533.4,   1.1440,  34.7240,2,  34.7240,2,    188.8,2,    187.7,2,   107.04,2,    31.58,2,     0.00,     2.35,2, -999.000,9,   1.1175
  320620070203,NBP0702,   153,  1,      7,      7,2,20070314,   0,-71.0850,-103.0180,  960,      2.0,  -1.7880,  32.7790,2,  32.8290,2,    334.6,2,    338.5,2,    41.06,2,    24.03,2,     0.19,     1.72,2, -999.000,9,  -1.7880
  320620070203,NBP0702,   153,  1,      6,      6,2,20070314,   0,-71.0850,-103.0180,  960,     49.6,  -1.7770,  33.8930,2,-999.0000,9,    283.5,2,    284.7,2,    69.64,2,    29.23,2,     0.10,     2.09,2, -999.000,9,  -1.7779
  320620070203,NBP0702,   153,  1,      5,      5,2,20070314,   0,-71.0850,-103.0180,  960,    100.0,  -1.7530,  33.9400,2,  33.9500,2,    278.7,2,    279.9,2,    75.56,2,    29.65,2,     0.07,     2.10,2, -999.000,9,  -1.7550
  320620070203,NBP0702,   153,  1,      4,      4,2,20070314,   0,-71.0850,-103.0180,  960,    399.9,   1.6630,  34.7050,2,  34.7070,2,    174.3,2,    175.2,2,    86.63,2,    31.98,2,     0.00,     2.26,2, -999.000,9,   1.6419
  320620070203,NBP0702,   153,  1,      3,      3,2,20070314,   0,-71.0850,-103.0180,  960,    599.9,   1.5100,  34.7310,2,  34.7310,2,    182.0,2,    181.4,2,    95.21,2,    31.51,2,     0.00,     2.22,2, -999.000,9,   1.4781
  320620070203,NBP0702,   153,  1,      2,      2,2,20070314,   0,-71.0850,-103.0180,  960,    899.7,   1.1720,  34.7250,2,  34.7260,2,    190.3,2,    191.6,2,   104.18,2,    31.50,2,     0.00,     2.24,2, -999.000,9,   1.1243
  320620070203,NBP0702,   153,  1,      1,      1,2,20070314,   0,-71.0850,-103.0180,  960,    950.2,   0.9060,  34.7180,2,  34.7180,2,    197.5,2,    195.5,2,   107.04,2,    31.79,2,     0.00,     2.21,2, -999.000,9,   0.8573
  320620070203,NBP0702,   154,  1,      8,      8,2,20070314,   0,-71.2390,-103.0890,  571,      2.0,  -1.7970,  32.9320,2,-999.0000,9,    338.2,2,    342.1,2,    47.85,2,    23.37,2,     0.17,     1.69,2, -999.000,9,  -1.7970
  320620070203,NBP0702,   154,  1,      7,      7,2,20070314,   0,-71.2390,-103.0890,  571,     19.8,  -1.7990,  32.9320,2,-999.0000,9,    338.1,2,   -999.0,9,    51.67,2,    24.54,2,     0.15,     1.79,2, -999.000,9,  -1.7993
  320620070203,NBP0702,   154,  1,      6,      6,2,20070314,   0,-71.2390,-103.0890,  571,     79.2,  -1.7720,  33.9040,2,  33.9070,2,    283.8,2,    285.0,2,    73.75,2,    29.13,2,     0.11,     2.09,2, -999.000,9,  -1.7735
  320620070203,NBP0702,   154,  1,      5,      5,2,20070314,   0,-71.2390,-103.0890,  571,    200.3,  -1.2300,  34.1090,2,-999.0000,9,    254.6,2,    254.8,2,    83.47,2,    30.44,2,     0.02,     2.16,2, -999.000,9,  -1.2351
  320620070203,NBP0702,   154,  1,      4,      4,2,20070314,   0,-71.2390,-103.0890,  571,    319.8,   0.4090,  34.4370,2,-999.0000,9,    204.0,2,    203.0,2,    87.23,2,    32.17,2,     0.00,     2.29,2, -999.000,9,   0.3959
  320620070203,NBP0702,   154,  1,      3,      3,2,20070314,   0,-71.2390,-103.0890,  571,    413.7,   1.2930,  34.6880,2,-999.0000,9,    183.0,2,    182.6,2,    96.08,2,    31.79,2,     0.00,     2.25,2, -999.000,9,   1.2724
  320620070203,NBP0702,   154,  1,      2,      2,2,20070314,   0,-71.2390,-103.0890,  571,    479.7,   1.2020,  34.7220,2,  34.7240,2,    188.6,2,    187.0,2,    97.41,2,    31.40,2,     0.00,     2.23,2, -999.000,9,   1.1782
  320620070203,NBP0702,   154,  1,      1,      1,2,20070314,   0,-71.2390,-103.0890,  571,    561.4,   1.0140,  34.7210,2,  34.7260,2,    194.0,2,    191.8,2,   110.85,2,    31.40,2,     0.00,     2.24,2, -999.000,9,   0.9866
  320620070203,NBP0702,   155,  1,     15,     15,2,20070314,   0,-71.3230,-102.0160,  621,      2.0,  -1.8090,  33.2420,2,-999.0000,9,    323.5,2,   -999.0,9,    45.78,2,    26.14,2,     0.16,     1.84,2, -999.000,9,  -1.8090
  320620070203,NBP0702,   155,  1,     14,     14,2,20070314,   0,-71.3230,-102.0160,  621,     14.3,  -1.8130,  33.2260,2,-999.0000,9,    323.3,2,    326.0,2,    47.98,2,    26.06,2,     0.15,     1.86,2, -999.000,9,  -1.8132
  320620070203,NBP0702,   155,  1,     13,     13,2,20070314,   0,-71.3230,-102.0160,  621,     34.5,  -1.8270,  33.7300,2,  33.7340,2,    293.3,2,    296.2,2,    74.98,2,    28.20,2,     0.09,     2.04,2, -999.000,9,  -1.8276
  320620070203,NBP0702,   155,  1,     12,     12,2,20070314,   0,-71.3230,-102.0160,  621,     34.6,  -1.8250,  33.7240,2,-999.0000,9,    292.1,2,   -999.0,9,  -999.00,9,  -999.00,9,  -999.00,  -999.00,9,    2.242,2,  -1.8256
  320620070203,NBP0702,   155,  1,     11,     11,2,20070314,   0,-71.3230,-102.0160,  621,    131.5,  -1.6760,  33.9840,2,-999.0000,9,    272.2,2,   -999.0,9,  -999.00,9,  -999.00,9,  -999.00,  -999.00,9,    2.108,2,  -1.6787
  320620070203,NBP0702,   155,  1,     10,     10,2,20070314,   0,-71.3230,-102.0160,  621,    131.6,  -1.7000,  33.9820,2,  33.9830,2,    271.5,2,    274.0,2,    81.20,2,    30.20,2,     0.00,     2.14,2, -999.000,9,  -1.7027
  320620070203,NBP0702,   155,  1,      9,      9,2,20070314,   0,-71.3230,-102.0160,  621,    200.1,  -1.0460,  34.1480,2,-999.0000,9,    248.5,2,    249.1,2,  -999.00,9,  -999.00,9,  -999.00,  -999.00,9, -999.000,9,  -1.0514
  320620070203,NBP0702,   155,  1,      8,      8,2,20070314,   0,-71.3230,-102.0160,  621,    200.1,  -1.0160,  34.1560,2,-999.0000,9,    247.1,2,   -999.0,9,  -999.00,9,  -999.00,9,  -999.00,  -999.00,9,    1.723,2,  -1.0215
  320620070203,NBP0702,   155,  1,      7,      7,2,20070314,   0,-71.3230,-102.0160,  621,    200.1,  -1.0450,  34.1480,2,-999.0000,9,    248.0,2,    249.7,2,    83.33,2,    31.21,2,     0.01,     2.27,2, -999.000,9,  -1.0504
  320620070203,NBP0702,   155,  1,      6,      6,2,20070314,   0,-71.3230,-102.0160,  621,    320.2,   1.1100,  34.5920,2,-999.0000,9,    183.7,2,   -999.0,9,  -999.00,9,  -999.00,9,  -999.00,  -999.00,9,    0.470,2,   1.0949
  320620070203,NBP0702,   155,  1,      5,      5,2,20070314,   0,-71.3230,-102.0160,  621,    320.2,   1.1100,  34.5920,2,  34.5930,2,    183.8,2,    184.4,2,    87.65,2,    33.05,2,     0.00,     2.36,2, -999.000,9,   1.0949
  320620070203,NBP0702,   155,  1,      4,      4,2,20070314,   0,-71.3230,-102.0160,  621,    400.2,   1.5730,  34.7010,2,-999.0000,9,    177.5,2,   -999.0,9,  -999.00,9,  -999.00,9,  -999.00,  -999.00,9,    0.172,2,   1.5522
  320620070203,NBP0702,   155,  1,      3,      3,2,20070314,   0,-71.3230,-102.0160,  621,    400.3,   1.5620,  34.6990,2,  34.7020,2,    177.5,2,    177.2,2,    93.65,2,    32.75,2,     0.00,     2.28,2, -999.000,9,   1.5412
  320620070203,NBP0702,   155,  1,      2,      2,2,20070314,   0,-71.3230,-102.0160,  621,    400.4,   1.5620,  34.6990,2,-999.0000,9,    177.7,2,    176.6,2,  -999.00,9,  -999.00,9,  -999.00,  -999.00,9, -999.000,9,   1.5412
  320620070203,NBP0702,   155,  1,      1,      1,2,20070314,   0,-71.3230,-102.0160,  621,    611.1,   1.2870,  34.7270,2,  34.7280,2,    187.9,2,    186.8,2,    99.37,2,    32.09,2,     0.00,     2.29,2, -999.000,9,   1.2556
  320620070203,NBP0702,   156,  1,     10,     10,2,20070315,   0,-71.1290,-101.0110,  494,      2.0,  -1.7570,  32.6600,2,-999.0000,9,    337.9,2,   -999.0,9,    38.26,2,    24.40,2,     0.20,     1.62,2, -999.000,9,  -1.7570
  320620070203,NBP0702,   156,  1,      9,      9,2,20070315,   0,-71.1290,-101.0110,  494,     29.7,  -1.8120,  33.5220,2,-999.0000,9,    309.1,2,    310.5,2,    63.05,2,    27.34,2,     0.10,     1.90,2, -999.000,9,  -1.8125
  320620070203,NBP0702,   156,  1,      8,      8,2,20070315,   0,-71.1290,-101.0110,  494,     99.9,  -1.8100,  33.9580,2,-999.0000,9,    279.5,2,    281.1,2,  -999.00,9,  -999.00,9,  -999.00,  -999.00,9, -999.000,9,  -1.8119
  320620070203,NBP0702,   156,  1,      7,      7,2,20070315,   0,-71.1290,-101.0110,  494,    100.0,  -1.8100,  33.9580,2,-999.0000,9,    279.5,2,   -999.0,9,    77.24,2,    30.18,2,     0.00,     2.09,2, -999.000,9,  -1.8119
  320620070203,NBP0702,   156,  1,      6,      6,2,20070315,   0,-71.1290,-101.0110,  494,    150.5,  -1.7020,  34.0110,2,  34.0100,2,    278.4,2,    280.4,2,    67.21,2,    30.29,2,     0.00,     2.13,2, -999.000,9,  -1.7051
  320620070203,NBP0702,   156,  1,      5,      5,2,20070315,   0,-71.1290,-101.0110,  494,    199.9,  -0.9780,  34.1580,2,  34.1580,2,    238.8,2,    239.7,2,    92.01,2,    31.73,2,     0.00,     2.25,2, -999.000,9,  -0.9835
  320620070203,NBP0702,   156,  1,      4,      4,2,20070315,   0,-71.1290,-101.0110,  494,    300.5,   1.0050,  34.5560,2,  34.5550,2,    186.0,2,    188.9,2,    93.10,2,    33.64,2,     0.00,     2.32,2, -999.000,9,   0.9911
  320620070203,NBP0702,   156,  1,      3,      3,2,20070315,   0,-71.1290,-101.0110,  494,    400.6,   1.5380,  34.7030,2,  34.7040,2,    178.2,2,    178.1,2,    94.22,2,    32.67,2,     0.00,     2.31,2, -999.000,9,   1.5173
  320620070203,NBP0702,   156,  1,      2,      2,2,20070315,   0,-71.1290,-101.0110,  494,    400.7,   1.5380,  34.7030,2,-999.0000,9,    178.1,2,    177.9,2,  -999.00,9,  -999.00,9,  -999.00,  -999.00,9, -999.000,9,   1.5173
  320620070203,NBP0702,   156,  1,      1,      1,2,20070315,   0,-71.1290,-101.0110,  494,    483.5,   1.3570,  34.7230,2,  34.7230,2,    184.7,2,    185.9,2,   101.28,2,    32.37,2,     0.00,     2.26,2, -999.000,9,   1.3324
  320620070203,NBP0702,   157,  1,      8,      8,2,20070315,   0,-71.1080,-100.0180,  591,      2.0,  -1.7890,  32.8160,2,-999.0000,9,    333.8,2,   -999.0,9,    39.68,2,    25.07,2,     0.20,     1.72,2, -999.000,9,  -1.7890
  320620070203,NBP0702,   157,  1,      7,      7,2,20070315,   0,-71.1080,-100.0180,  591,     19.9,  -1.7910,  32.8290,2,-999.0000,9,    331.5,2,   -999.0,9,    42.75,2,    25.67,2,     0.17,     1.78,2, -999.000,9,  -1.7913
  320620070203,NBP0702,   157,  1,      6,      6,2,20070315,   0,-71.1080,-100.0180,  591,     79.7,  -1.8070,  33.9450,2,-999.0000,9,    280.1,2,   -999.0,9,    75.24,2,    30.06,2,     0.04,     2.05,2, -999.000,9,  -1.8085
  320620070203,NBP0702,   157,  1,      5,      5,2,20070315,   0,-71.1080,-100.0180,  591,    119.9,  -1.7560,  33.9910,2,  33.9920,2,    279.1,2,    281.8,2,    73.70,2,    30.28,2,     0.01,     2.09,2, -999.000,9,  -1.7584
  320620070203,NBP0702,   157,  1,      4,      4,2,20070315,   0,-71.1080,-100.0180,  591,    179.9,  -1.3550,  34.0740,2,-999.0000,9,    263.0,2,   -999.0,9,    78.56,2,    31.32,2,     0.01,     2.15,2, -999.000,9,  -1.3593
  320620070203,NBP0702,   157,  1,      3,      3,2,20070315,   0,-71.1080,-100.0180,  591,    399.8,   1.3990,  34.6660,2,-999.0000,9,    179.2,2,    179.4,2,    94.13,2,    32.76,2,     0.00,     2.26,2, -999.000,9,   1.3788
  320620070203,NBP0702,   157,  1,      2,      2,2,20070315,   0,-71.1080,-100.0180,  591,    519.9,   1.1130,  34.7240,2,  34.7240,2,    191.6,2,    190.6,2,   110.81,2,    32.28,2,     0.00,     2.26,2, -999.000,9,   1.0874
  320620070203,NBP0702,   157,  1,      1,      1,2,20070315,   0,-71.1080,-100.0180,  591,    580.6,   1.0770,  34.7220,2,  34.7240,2,    193.0,2,    193.3,2,   112.72,2,    32.47,2,     0.00,     2.22,2, -999.000,9,   1.0483
  320620070203,NBP0702,   158,  1,      8,      8,2,20070315,   0,-70.9260,-100.0290, 1213,      2.0,  -1.6320,  32.5970,2,-999.0000,9,    342.7,2,   -999.0,9,    39.42,2,    25.25,2,     0.22,     1.61,2, -999.000,9,  -1.6320
  320620070203,NBP0702,   158,  1,      7,      7,2,20070315,   0,-70.9260,-100.0290, 1213,     29.3,  -1.6850,  33.2300,2,-999.0000,9,    318.9,2,   -999.0,9,    48.46,2,    27.85,2,     0.17,     1.93,2, -999.000,9,  -1.6855
  320620070203,NBP0702,   158,  1,      6,      6,2,20070315,   0,-70.9260,-100.0290, 1213,     89.7,  -1.6110,  33.9770,2,  33.9880,2,    285.6,2,    287.4,2,    62.31,2,    30.05,2,     0.13,     2.08,2, -999.000,9,  -1.6129
  320620070203,NBP0702,   158,  1,      5,      5,2,20070315,   0,-70.9260,-100.0290, 1213,    340.6,   1.5300,  34.6690,2,-999.0000,9,    175.3,2,    176.3,2,    90.82,2,    33.01,2,     0.00,     2.31,2, -999.000,9,   1.5126
  320620070203,NBP0702,   158,  1,      4,      4,2,20070315,   0,-70.9260,-100.0290, 1213,    499.8,   1.4120,  34.7270,2,-999.0000,9,    183.5,2,   -999.0,9,   101.28,2,    32.37,2,     0.00,     2.23,2, -999.000,9,   1.3863
  320620070203,NBP0702,   158,  1,      3,      3,2,20070315,   0,-70.9260,-100.0290, 1213,    649.4,   1.1850,  34.7270,2,  34.7280,2,    189.9,2,    189.9,2,   107.96,2,    32.37,2,     0.00,     2.28,2, -999.000,9,   1.1519
  320620070203,NBP0702,   158,  1,      2,      2,2,20070315,   0,-70.9260,-100.0290, 1213,    899.7,   1.0020,  34.7220,2,  34.7270,2,    195.1,2,    194.3,2,   111.77,2,    31.99,2,     0.00,     2.24,2, -999.000,9,   0.9556
  320620070203,NBP0702,   158,  1,      1,      1,2,20070315,   0,-70.9260,-100.0290, 1213,   1202.6,   0.9410,  34.7190,2,  34.7200,2,    197.5,2,    198.0,2,   115.59,2,    32.37,2,     0.00,     2.24,2, -999.000,9,   0.8765
  320620070203,NBP0702,   159,  1,     12,     12,2,20070315,   0,-70.9980,-102.1360, 1760,      2.0,  -1.7720,  32.6680,2,-999.0000,9,    334.8,2,   -999.0,9,    38.74,2,    24.41,2,     0.20,     1.74,2, -999.000,9,  -1.7720
  320620070203,NBP0702,   159,  1,     11,     11,2,20070315,   0,-70.9980,-102.1360, 1760,     15.2,  -1.7680,  32.7300,2,  32.8670,2,    333.4,2,    334.9,2,    39.12,2,    24.52,2,     0.18,     1.75,2, -999.000,9,  -1.7683
  320620070203,NBP0702,   159,  1,     10,     10,2,20070315,   0,-70.9980,-102.1360, 1760,     39.3,  -1.5220,  33.6120,2,-999.0000,9,    307.1,2,   -999.0,9,    53.01,2,    27.80,2,     0.12,     2.02,2, -999.000,9,  -1.5228
  320620070203,NBP0702,   159,  1,      9,      9,2,20070315,   0,-70.9980,-102.1360, 1760,     75.3,  -1.5890,  33.9400,2,-999.0000,9,    287.5,2,    288.9,2,    59.24,2,    29.58,2,     0.14,     2.12,2, -999.000,9,  -1.5906
  320620070203,NBP0702,   159,  1,      8,      8,2,20070315,   0,-70.9980,-102.1360, 1760,    150.2,  -0.8540,  34.1920,2,-999.0000,9,    252.8,2,   -999.0,9,    69.58,2,    31.33,2,     0.00,     2.23,2, -999.000,9,  -0.8583
  320620070203,NBP0702,   159,  1,      7,      7,2,20070315,   0,-70.9980,-102.1360, 1760,    312.0,   1.6980,  34.6950,2,  34.6990,2,    172.7,2,    173.5,2,    89.55,2,    32.58,2,     0.00,     2.29,2, -999.000,9,   1.6817
  320620070203,NBP0702,   159,  1,      6,      6,2,20070315,   0,-70.9980,-102.1360, 1760,    599.5,   1.4940,  34.7300,2,  34.7230,2,    182.1,2,   -999.0,9,    92.69,2,    32.19,2,     0.00,     2.23,2, -999.000,9,   1.4622
  320620070203,NBP0702,   159,  1,      5,      5,2,20070315,   0,-70.9980,-102.1360, 1760,    899.8,   1.2170,  34.7270,2,  34.7280,2,    189.9,2,    190.9,2,   105.10,2,    31.90,2,     0.00,     2.23,2, -999.000,9,   1.1690
  320620070203,NBP0702,   159,  1,      4,      4,2,20070315,   0,-70.9980,-102.1360, 1760,   1199.7,   1.0130,  34.7220,2,  34.7230,2,    195.3,2,   -999.0,9,   111.77,2,    31.90,2,     0.00,     2.24,2, -999.000,9,   0.9480
  320620070203,NBP0702,   159,  1,      3,      3,2,20070315,   0,-70.9980,-102.1360, 1760,   1499.8,   0.8610,  34.7160,2,  34.7170,2,    199.3,2,    197.4,2,   120.35,2,    32.38,2,     0.00,     2.24,2, -999.000,9,   0.7777
  320620070203,NBP0702,   159,  1,      2,      2,2,20070315,   0,-70.9980,-102.1360, 1760,   1699.9,   0.7480,  34.7130,2,  34.7100,2,    201.7,2,   -999.0,9,   120.35,2,    32.19,2,     0.00,     2.24,2, -999.000,9,   0.6523
  320620070203,NBP0702,   159,  1,      1,      1,2,20070315,   0,-70.9980,-102.1360, 1760,   1750.3,   0.7030,  34.7110,2,  34.7120,2,    203.0,2,    202.2,2,   122.26,2,    32.19,2,     0.03,     2.24,2, -999.000,9,   0.6044