BOTTLE,202201227CCHSIOENA
EXPOCODE,SECT_ID,STNNBR,CASTNO,SAMPNO,BTLNBR,BTLNBR_FLAG_W,DATE,TIME,LATITUDE,LONGITUDE,DEPTH,CTDPRS,CTDTMP,CTDSAL,CTDSAL_FLAG_W,SALNTY,SALNTY_FLAG_W,CTDOXY,CTDOXY_FLAG_W,OXYGEN,OXYGEN_FLAG_W,SILCAT,SILCAT_FLAG_W,NITRAT,NITRAT_FLAG_W,NITRIT,PHSPHT,PHSPHT_FLAG_W,CFC-12,CFC-12_FLAG_W,THETA
,,,,,,,,,,,METERS,DBAR,ITS-90,PSS-78,,PSS-78,,UMOL/KG,,UMOL/KG,,UMOL/KG,,UMOL/KG,,UMOL/KG,UMOL/KG,,PMOL/KG,,DEG C
  320620070203,NBP0702,    51,  1,     12,     12,2,20070221,   0,-73.8160,-117.0030,  824,     10.1,  -0.8400,  32.8760,2,  32.9060,2,    349.2,2,    347.1,2,    70.04,2,     6.80,2,     0.14,     0.57,2, -999.000,9,  -0.8402
  320620070203,NBP0702,    51,  1,     11,     11,2,20070221,   0,-73.8160,-117.0030,  824,     39.7,  -0.0510,  33.3370,2,-999.0000,9,    334.2,2,    328.5,2,    76.51,2,     9.90,2,     0.13,     0.89,2, -999.000,9,  -0.0523
  320620070203,NBP0702,    51,  1,     10,     10,2,20070221,   0,-73.8160,-117.0030,  824,    136.2,  -1.4690,  33.9370,2,  33.9370,2,    240.2,2,    238.5,2,    95.23,2,    30.57,2,     0.04,     2.22,2, -999.000,9,  -1.4720
  320620070203,NBP0702,    51,  1,      9,      9,2,20070221,   0,-73.8160,-117.0030,  824,    200.3,  -1.4960,  34.0060,2,-999.0000,9,    247.9,2,   -999.0,9,  -999.00,9,  -999.00,9,  -999.00,  -999.00,9,    1.502,2,  -1.5006
  320620070203,NBP0702,    51,  1,      8,      8,2,20070221,   0,-73.8160,-117.0030,  824,    200.5,  -1.4960,  34.0060,2,  34.0030,2,    249.0,2,    245.5,2,    93.67,2,    30.74,2,     0.09,     2.25,2, -999.000,9,  -1.5006
  320620070203,NBP0702,    51,  1,      7,      7,2,20070221,   0,-73.8160,-117.0030,  824,    325.2,  -1.6940,  34.0830,2,  34.0820,2,    255.5,2,    255.4,2,    92.62,2,    31.18,2,     0.10,     2.20,2, -999.000,9,  -1.7013
  320620070203,NBP0702,    51,  1,      6,      6,2,20070221,   0,-73.8160,-117.0030,  824,    325.2,  -1.6950,  34.0830,2,-999.0000,9,    255.7,2,   -999.0,9,  -999.00,9,  -999.00,9,  -999.00,  -999.00,9,    1.752,2,  -1.7023
  320620070203,NBP0702,    51,  1,      5,      5,2,20070221,   0,-73.8160,-117.0030,  824,    500.1,  -0.6510,  34.2740,2,-999.0000,9,    216.2,2,   -999.0,9,  -999.00,9,  -999.00,9,  -999.00,  -999.00,9,    1.065,2,  -0.6678
  320620070203,NBP0702,    51,  1,      4,      4,2,20070221,   0,-73.8160,-117.0030,  824,    500.2,  -0.6390,  34.2780,2,  34.2760,2,    215.3,2,    215.0,2,    97.38,2,    31.95,2,     0.05,     2.29,2, -999.000,9,  -0.6558
  320620070203,NBP0702,    51,  1,      3,      3,2,20070221,   0,-73.8160,-117.0030,  824,    700.4,   0.4630,  34.5200,2,  34.5190,2,    199.0,2,    196.6,2,   101.27,2,    32.13,2,     0.03,     2.26,2, -999.000,9,   0.4314
  320620070203,NBP0702,    51,  1,      2,      2,2,20070221,   0,-73.8160,-117.0030,  824,    700.6,   0.4570,  34.5190,2,-999.0000,9,    199.0,2,   -999.0,9,  -999.00,9,  -999.00,9,  -999.00,  -999.00,9,    0.552,2,   0.4254
  320620070203,NBP0702,    51,  1,      1,      1,2,20070221,   0,-73.8160,-117.0030,  824,    813.7,   0.5240,  34.5350,2,  34.5310,2,    198.9,2,    199.0,2,   103.20,2,    32.22,2,     0.02,     2.26,2, -999.000,9,   0.4861
  320620070203,NBP0702,    52,  1,     12,     12,2,20070221,   0,-73.9380,-118.7130, 1480,     10.2,  -1.0870,  32.8270,2,-999.0000,9,    349.1,2,   -999.0,9,    71.00,2,     7.29,2,     0.13,     0.65,2, -999.000,9,  -1.0872
  320620070203,NBP0702,    52,  1,     11,     11,2,20070221,   0,-73.9380,-118.7130, 1480,     40.6,  -1.1150,  32.8300,2,  32.8310,2,    349.6,2,   -999.0,9,    66.69,2,     7.73,2,     0.13,     0.66,2, -999.000,9,  -1.1159
  320620070203,NBP0702,    52,  1,     10,     10,2,20070221,   0,-73.9380,-118.7130, 1480,    100.1,  -1.2720,  33.9170,2,  33.9140,2,    261.3,2,    263.2,2,    91.26,2,    26.73,2,     0.05,     2.13,2, -999.000,9,  -1.2744
  320620070203,NBP0702,    52,  1,      9,      9,2,20070221,   0,-73.9380,-118.7130, 1480,    200.2,  -1.5270,  33.9920,2,  33.9900,2,    245.7,2,    246.9,2,    94.41,2,    29.84,2,     0.07,     2.24,2, -999.000,9,  -1.5315
  320620070203,NBP0702,    52,  1,      8,      8,2,20070221,   0,-73.9380,-118.7130, 1480,    200.2,  -1.5150,  33.9900,2,-999.0000,9,    245.6,2,   -999.0,9,  -999.00,9,  -999.00,9,  -999.00,  -999.00,9,    1.432,2,  -1.5195
  320620070203,NBP0702,    52,  1,      7,      7,2,20070221,   0,-73.9380,-118.7130, 1480,    400.6,  -1.7470,  34.1000,2,  34.0990,2,    259.5,2,    262.8,2,    89.92,2,    29.83,2,     0.05,     2.17,2, -999.000,9,  -1.7562
  320620070203,NBP0702,    52,  1,      6,      6,2,20070221,   0,-73.9380,-118.7130, 1480,    400.6,  -1.7460,  34.1000,2,-999.0000,9,    259.4,2,   -999.0,9,  -999.00,9,  -999.00,9,  -999.00,  -999.00,9,    1.746,2,  -1.7552
  320620070203,NBP0702,    52,  1,      5,      5,2,20070221,   0,-73.9380,-118.7130, 1480,    550.2,  -0.0960,  34.3450,2,-999.0000,9,    206.6,2,   -999.0,9,  -999.00,9,  -999.00,9,  -999.00,  -999.00,9,    0.646,2,  -0.1173
  320620070203,NBP0702,    52,  1,      4,      4,2,20070221,   0,-73.9380,-118.7130, 1480,    550.3,  -0.0680,  34.3560,2,  34.3550,2,    206.7,2,    206.1,2,    99.16,2,    31.10,2,     0.00,     2.23,2, -999.000,9,  -0.0895
  320620070203,NBP0702,    52,  1,      3,      3,2,20070221,   0,-73.9380,-118.7130, 1480,    900.1,   0.6720,  34.5680,2,  34.5690,2,    197.0,2,    195.4,2,   101.06,2,    31.50,2,     0.00,     2.20,2, -999.000,9,   0.6282
  320620070203,NBP0702,    52,  1,      2,      2,2,20070221,   0,-73.9380,-118.7130, 1480,    900.1,   0.6720,  34.5680,2,-999.0000,9,    197.2,2,   -999.0,9,  -999.00,9,  -999.00,9,  -999.00,  -999.00,9,    0.420,2,   0.6282
  320620070203,NBP0702,    52,  1,      1,      1,2,20070221,   0,-73.9380,-118.7130, 1480,   1470.5,   0.7480,  34.5860,2,  34.5870,2,    197.1,2,    194.2,2,   102.03,2,    31.21,2,     0.00,     2.19,2, -999.000,9,   0.6684
  320620070203,NBP0702,    53,  1,      9,      9,2,20070221,   0,-73.9800,-118.5020, 1405,      2.0,  -1.1290,  32.8240,2,  32.8210,2,    348.5,2,    349.2,2,    68.70,2,     6.93,2,     0.12,     0.72,2, -999.000,9,  -1.1290
  320620070203,NBP0702,    53,  1,      8,      8,2,20070221,   0,-73.9800,-118.5020, 1405,      2.0,  -1.1200,  32.8240,2,-999.0000,9,    348.7,2,   -999.0,9,  -999.00,9,  -999.00,9,  -999.00,  -999.00,9,    3.219,2,  -1.1200
  320620070203,NBP0702,    53,  1,      7,      7,2,20070221,   0,-73.9800,-118.5020, 1405,     99.9,  -0.6790,  33.8490,2,-999.0000,9,    296.7,2,   -999.0,9,  -999.00,9,  -999.00,9,  -999.00,  -999.00,9, -999.000,9,  -0.6819
  320620070203,NBP0702,    53,  1,      6,      6,2,20070221,   0,-73.9800,-118.5020, 1405,    100.1,  -0.6800,  33.8480,2,  33.8550,2,    296.7,2,    291.7,2,    87.51,2,    21.60,2,     0.08,     1.85,2, -999.000,9,  -0.6829
  320620070203,NBP0702,    53,  1,      5,      5,2,20070221,   0,-73.9800,-118.5020, 1405,    200.1,  -1.4830,  33.9810,2,-999.0000,9,    242.2,2,   -999.0,9,  -999.00,9,  -999.00,9,  -999.00,  -999.00,9,    1.349,2,  -1.4876
  320620070203,NBP0702,    53,  1,      4,      4,2,20070221,   0,-73.9800,-118.5020, 1405,    200.3,  -1.4830,  33.9810,2,  33.9810,2,    242.4,2,    242.4,2,    95.23,2,    30.79,2,     0.05,     2.15,2, -999.000,9,  -1.4876
  320620070203,NBP0702,    53,  1,      3,      3,2,20070221,   0,-73.9800,-118.5020, 1405,    401.3,  -1.7310,  34.0960,2,  34.0950,2,    259.5,2,    259.2,2,    89.95,2,    30.47,2,     0.07,     2.12,2, -999.000,9,  -1.7402
  320620070203,NBP0702,    53,  1,      2,      2,2,20070221,   0,-73.9800,-118.5020, 1405,    401.5,  -1.7300,  34.0960,2,-999.0000,9,    259.4,2,   -999.0,9,  -999.00,9,  -999.00,9,  -999.00,  -999.00,9,    1.819,2,  -1.7392
  320620070203,NBP0702,    53,  1,      1,      1,2,20070221,   0,-73.9800,-118.5020, 1405,   1395.2,   0.7440,  34.5860,2,  34.5870,2,    197.2,2,   -999.0,9,   100.96,2,    31.58,2,     0.00,     2.18,2, -999.000,9,   0.6694
  320620070203,NBP0702,    54,  1,      7,      7,2,20070221,   0,-74.0020,-118.2370, 1020,      2.0,  -1.1400,  32.9180,2,-999.0000,9,    346.9,2,    347.3,2,    69.65,2,     7.83,2,     0.14,     0.71,2, -999.000,9,  -1.1400
  320620070203,NBP0702,    54,  1,      6,      6,2,20070221,   0,-74.0020,-118.2370, 1020,     39.5,  -0.9640,  32.9890,2,-999.0000,9,    345.6,2,    345.5,2,    70.03,2,     8.15,2,     0.13,     0.74,2, -999.000,9,  -0.9649
  320620070203,NBP0702,    54,  1,      5,      5,2,20070221,   0,-74.0020,-118.2370, 1020,    149.8,  -1.4570,  33.9640,2,  33.9630,2,    232.7,2,    232.6,2,    96.75,2,    31.01,2,     0.02,     2.16,2, -999.000,9,  -1.4604
  320620070203,NBP0702,    54,  1,      4,      4,2,20070221,   0,-74.0020,-118.2370, 1020,    339.7,  -1.7890,  34.0900,2,-999.0000,9,    261.6,2,    260.6,2,    95.21,2,    30.83,2,     0.09,     2.14,2, -999.000,9,  -1.7964
  320620070203,NBP0702,    54,  1,      3,      3,2,20070221,   0,-74.0020,-118.2370, 1020,    460.1,  -1.1450,  34.1770,2,-999.0000,9,    234.1,2,   -999.0,9,    95.01,2,    32.59,2,     0.05,     2.21,2, -999.000,9,  -1.1582
  320620070203,NBP0702,    54,  1,      2,      2,2,20070221,   0,-74.0020,-118.2370, 1020,    759.6,   0.5400,  34.5340,2,  34.5350,2,    200.0,2,   -999.0,9,   100.01,2,    32.05,2,     0.01,     2.18,2, -999.000,9,   0.5048
  320620070203,NBP0702,    54,  1,      1,      1,2,20070221,   0,-74.0020,-118.2370, 1020,   1009.6,   0.6390,  34.5600,2,  34.5640,2,    198.8,2,    195.4,2,   101.92,2,    31.76,2,     0.00,     2.17,2, -999.000,9,   0.5892
  320620070203,NBP0702,    55,  1,     11,     11,2,20070221,   0,-74.0220,-117.9620, 1262,      2.0,  -1.0910,  32.8890,2,-999.0000,9,    348.1,2,    348.1,2,    70.70,2,     7.84,2,     0.12,     0.70,2, -999.000,9,  -1.0910
  320620070203,NBP0702,    55,  1,     10,     10,2,20070221,   0,-74.0220,-117.9620, 1262,     19.6,  -1.1020,  32.8890,2,-999.0000,9,    347.6,2,    348.2,2,    68.22,2,     7.72,2,     0.11,     0.67,2, -999.000,9,  -1.1024
  320620070203,NBP0702,    55,  1,      9,      9,2,20070221,   0,-74.0220,-117.9620, 1262,     99.4,  -1.4750,  33.9250,2,-999.0000,9,    229.5,2,   -999.0,9,  -999.00,9,  -999.00,9,  -999.00,  -999.00,9,    1.011,2,  -1.4772
  320620070203,NBP0702,    55,  1,      8,      8,2,20070221,   0,-74.0220,-117.9620, 1262,     99.5,  -1.4740,  33.9240,2,-999.0000,9,    229.9,2,   -999.0,9,    96.09,2,    31.32,2,     0.00,     2.13,2, -999.000,9,  -1.4762
  320620070203,NBP0702,    55,  1,      7,      7,2,20070221,   0,-74.0220,-117.9620, 1262,    159.7,  -1.4710,  33.9370,2,  33.9400,2,    228.8,2,    229.4,2,  -999.00,9,  -999.00,9,  -999.00,  -999.00,9, -999.000,9,  -1.4746
  320620070203,NBP0702,    55,  1,      6,      6,2,20070221,   0,-74.0220,-117.9620, 1262,    350.1,  -1.3710,  34.0990,2,-999.0000,9,    242.3,2,   -999.0,9,  -999.00,9,  -999.00,9,  -999.00,  -999.00,9,    1.344,2,  -1.3800
  320620070203,NBP0702,    55,  1,      5,      5,2,20070221,   0,-74.0220,-117.9620, 1262,    350.3,  -1.3710,  34.0990,2,  34.0960,2,    242.3,2,    241.7,2,    94.73,2,    31.68,2,     0.01,     2.14,2, -999.000,9,  -1.3800
  320620070203,NBP0702,    55,  1,      4,      4,2,20070221,   0,-74.0220,-117.9620, 1262,    464.2,  -0.4280,  34.2650,2,-999.0000,9,    213.2,2,   -999.0,9,  -999.00,9,  -999.00,9,  -999.00,  -999.00,9, -999.000,9,  -0.4443
  320620070203,NBP0702,    55,  1,      3,      3,2,20070221,   0,-74.0220,-117.9620, 1262,    749.7,   0.5680,  34.5430,2,  34.5430,2,    198.7,2,    197.2,2,    99.06,2,    32.16,2,     0.00,     2.20,2, -999.000,9,   0.5332
  320620070203,NBP0702,    55,  1,      2,      2,2,20070221,   0,-74.0220,-117.9620, 1262,    749.9,   0.5680,  34.5420,2,-999.0000,9,    198.8,2,   -999.0,9,  -999.00,9,  -999.00,9,  -999.00,  -999.00,9,    0.501,2,   0.5332
  320620070203,NBP0702,    55,  1,      1,      1,2,20070221,   0,-74.0220,-117.9620, 1262,   1252.2,   0.7110,  34.5780,2,  34.5780,2,    197.7,2,    195.4,2,   100.00,2,    32.07,2,     0.00,     2.19,2, -999.000,9,   0.6459
  320620070203,NBP0702,    56,  1,      8,      8,2,20070221,   0,-74.0300,-117.7530,  825,      2.0,  -1.0540,  32.8560,2,  32.8580,2,    350.0,2,    349.6,2,    68.89,2,     6.97,2,     0.17,     0.66,2, -999.000,9,  -1.0540
  320620070203,NBP0702,    56,  1,      7,      7,2,20070221,   0,-74.0300,-117.7530,  825,    100.2,  -1.2270,  33.8850,2,-999.0000,9,    263.8,2,   -999.0,9,  -999.00,9,  -999.00,9,  -999.00,  -999.00,9,    1.651,2,  -1.2294
  320620070203,NBP0702,    56,  1,      6,      6,2,20070221,   0,-74.0300,-117.7530,  825,    100.2,  -1.2040,  33.8860,2,-999.0000,9,    262.9,2,   -999.0,9,    90.27,2,    27.62,2,     0.06,     2.05,2, -999.000,9,  -1.2064
  320620070203,NBP0702,    56,  1,      5,      5,2,20070221,   0,-74.0300,-117.7530,  825,    150.3,  -1.5090,  33.9170,2,  33.9190,2,    243.5,2,    242.0,2,    95.04,2,    30.69,2,     0.05,     2.16,2, -999.000,9,  -1.5123
  320620070203,NBP0702,    56,  1,      4,      4,2,20070221,   0,-74.0300,-117.7530,  825,    319.1,  -1.4890,  34.0570,2,-999.0000,9,    243.4,2,   -999.0,9,  -999.00,9,  -999.00,9,  -999.00,  -999.00,9, -999.000,9,  -1.4967
  320620070203,NBP0702,    56,  1,      3,      3,2,20070221,   0,-74.0300,-117.7530,  825,    639.8,   0.4870,  34.5250,2,-999.0000,9,    200.0,2,   -999.0,9,  -999.00,9,  -999.00,9,  -999.00,  -999.00,9,    0.494,2,   0.4584
  320620070203,NBP0702,    56,  1,      2,      2,2,20070221,   0,-74.0300,-117.7530,  825,    640.0,   0.4860,  34.5250,2,  34.5270,2,    200.0,2,    197.8,2,   100.01,2,    32.14,2,     0.01,     2.20,2, -999.000,9,   0.4573
  320620070203,NBP0702,    56,  1,      1,      1,2,20070221,   0,-74.0300,-117.7530,  825,    815.4,   0.5920,  34.5520,2,  34.5530,2,    198.0,2,    197.3,2,   100.96,2,    32.15,2,     0.00,     2.21,2, -999.000,9,   0.5535
  320620070203,NBP0702,    57,  1,      9,      9,2,20070221,   0,-74.0390,-117.5030,  355,      2.0,  -1.0330,  32.8590,2,-999.0000,9,    349.9,2,   -999.0,9,    70.52,2,     7.33,2,     0.12,     0.69,2, -999.000,9,  -1.0330
  320620070203,NBP0702,    57,  1,      8,      8,2,20070221,   0,-74.0390,-117.5030,  355,     19.7,  -1.0290,  32.8660,2,-999.0000,9,    349.6,2,    344.9,2,    72.52,2,     8.28,2,     0.11,     0.80,2, -999.000,9,  -1.0295
  320620070203,NBP0702,    57,  1,      7,      7,2,20070221,   0,-74.0390,-117.5030,  355,     49.9,  -0.3200,  33.6650,2,-999.0000,9,    320.7,2,   -999.0,9,  -999.00,9,  -999.00,9,  -999.00,  -999.00,9, -999.000,9,  -0.3215
  320620070203,NBP0702,    57,  1,      6,      6,2,20070221,   0,-74.0390,-117.5030,  355,     50.0,  -0.3200,  33.6640,2,  33.6700,2,    321.2,2,    316.4,2,    78.55,2,    15.19,2,     0.09,     1.42,2, -999.000,9,  -0.3216
  320620070203,NBP0702,    57,  1,      5,      5,2,20070221,   0,-74.0390,-117.5030,  355,    180.3,  -1.4640,  33.9550,2,  33.9550,2,    243.0,2,    244.2,2,  -999.00,9,  -999.00,9,  -999.00,  -999.00,9, -999.000,9,  -1.4681
  320620070203,NBP0702,    57,  1,      4,      4,2,20070221,   0,-74.0390,-117.5030,  355,    220.1,  -1.4260,  33.9970,2,-999.0000,9,    249.3,2,   -999.0,9,  -999.00,9,  -999.00,9,  -999.00,  -999.00,9, -999.000,9,  -1.4312
  320620070203,NBP0702,    57,  1,      3,      3,2,20070221,   0,-74.0390,-117.5030,  355,    344.7,  -1.5570,  34.0960,2,  34.0930,2,    251.1,2,    249.4,2,    93.87,2,    31.44,2,     0.06,     0.29,4, -999.000,9,  -1.5653
  320620070203,NBP0702,    57,  1,      2,      2,2,20070221,   0,-74.0390,-117.5030,  355,    344.8,  -1.5600,  34.0970,2,-999.0000,9,    250.4,2,    250.4,2,  -999.00,9,  -999.00,9,  -999.00,  -999.00,9, -999.000,9,  -1.5683
  320620070203,NBP0702,    57,  1,      1,      1,2,20070221,   0,-74.0390,-117.5030,  355,    344.9,  -1.5520,  34.0960,2,-999.0000,9,    250.9,2,   -999.0,9,  -999.00,9,  -999.00,9,  -999.00,  -999.00,9, -999.000,9,  -1.5603
  320620070203,NBP0702,    58,  1,      8,      8,2,20070222,   0,-73.8390,-115.5500,  869,     20.0,  -0.7650,  33.4920,2,  33.5190,2,    345.5,2,   -999.0,9,    76.18,2,    16.35,2,     0.08,     1.19,2, -999.000,9,  -0.7655
  320620070203,NBP0702,    58,  1,      7,      7,2,20070222,   0,-73.8390,-115.5500,  869,    129.8,  -1.3610,  33.9340,2,  33.9300,2,    255.0,2,    255.2,2,    89.69,2,    30.12,2,     0.05,     2.13,2, -999.000,9,  -1.3640
  320620070203,NBP0702,    58,  1,      6,      6,2,20070222,   0,-73.8390,-115.5500,  869,    250.1,  -1.4060,  34.0490,2,-999.0000,9,    250.2,2,    251.5,2,    91.21,2,    31.19,2,     0.12,     2.15,2, -999.000,9,  -1.4121
  320620070203,NBP0702,    58,  1,      5,      5,2,20070222,   0,-73.8390,-115.5500,  869,    274.5,  -1.1660,  34.0780,2,  34.0810,2,    241.6,2,    240.7,2,    98.17,2,    31.25,2,     0.05,     2.14,2, -999.000,9,  -1.1733
  320620070203,NBP0702,    58,  1,      4,      4,2,20070222,   0,-73.8390,-115.5500,  869,    349.4,  -1.6260,  34.1070,2,  34.1080,2,    254.2,2,    254.5,2,    98.16,2,    31.66,2,     0.02,     2.12,2, -999.000,9,  -1.6342
  320620070203,NBP0702,    58,  1,      3,      3,2,20070222,   0,-73.8390,-115.5500,  869,    549.5,  -0.0530,  34.3470,2,  34.3470,2,    199.2,2,    198.5,2,   102.42,2,    32.67,2,     0.00,     2.20,2, -999.000,9,  -0.0745
  320620070203,NBP0702,    58,  1,      2,      2,2,20070222,   0,-73.8390,-115.5500,  869,    699.7,   0.3840,  34.5080,2,  34.5120,2,    197.0,2,   -999.0,9,  -999.00,9,  -999.00,9,  -999.00,  -999.00,9, -999.000,9,   0.3529
  320620070203,NBP0702,    58,  1,      1,      1,2,20070222,   0,-73.8390,-115.5500,  869,    858.6,   0.5740,  34.5710,2,  34.5710,2,    188.3,2,    189.4,2,   106.68,2,    33.19,2,     0.01,     2.25,2, -999.000,9,   0.5332
  320620070203,NBP0702,    59,  1,      7,      7,2,20070222,   0,-73.9900,-116.1240,  955,      2.0,  -0.5590,  33.4080,2,-999.0000,9,    348.1,2,    346.7,2,    69.03,2,     9.76,2,     0.09,     0.85,2, -999.000,9,  -0.5591
  320620070203,NBP0702,    59,  1,      6,      6,2,20070222,   0,-73.9900,-116.1240,  955,     19.9,  -0.4740,  33.4200,2,  33.4330,2,    348.8,2,    346.8,2,    69.98,2,    10.22,2,     0.10,     0.88,2, -999.000,9,  -0.4746
  320620070203,NBP0702,    59,  1,      5,      5,2,20070222,   0,-73.9900,-116.1240,  955,     59.9,  -0.2380,  33.7090,2,-999.0000,9,    326.5,2,   -999.0,9,    76.35,2,    14.25,2,     0.08,     1.38,2, -999.000,9,  -0.2399
  320620070203,NBP0702,    59,  1,      4,      4,2,20070222,   0,-73.9900,-116.1240,  955,    250.2,  -1.3750,  34.0170,2,  34.0160,2,    236.8,2,   -999.0,9,    92.83,2,    30.13,2,     0.04,     2.15,2, -999.000,9,  -1.3811
  320620070203,NBP0702,    59,  1,      3,      3,2,20070222,   0,-73.9900,-116.1240,  955,    400.0,  -1.0160,  34.1700,2,  34.1730,2,    228.7,2,    228.5,2,    95.01,2,    31.16,2,     0.04,     2.15,2, -999.000,9,  -1.0277
  320620070203,NBP0702,    59,  1,      2,      2,2,20070222,   0,-73.9900,-116.1240,  955,    700.3,   0.2770,  34.4830,2,  34.4870,2,    196.4,2,    195.4,2,   100.97,2,    33.49,2,     0.00,     2.18,2, -999.000,9,   0.2465
  320620070203,NBP0702,    59,  1,      1,      1,2,20070222,   0,-73.9900,-116.1240,  955,    944.8,   0.4010,  34.5470,2,  34.5510,2,    190.4,2,    190.4,2,   103.82,2,    31.98,2,     0.00,     2.21,2, -999.000,9,   0.3568