BOTTLE,202201227CCHSIOENA
EXPOCODE,SECT_ID,STNNBR,CASTNO,SAMPNO,BTLNBR,BTLNBR_FLAG_W,DATE,TIME,LATITUDE,LONGITUDE,DEPTH,CTDPRS,CTDTMP,CTDSAL,CTDSAL_FLAG_W,SALNTY,SALNTY_FLAG_W,CTDOXY,CTDOXY_FLAG_W,OXYGEN,OXYGEN_FLAG_W,SILCAT,SILCAT_FLAG_W,NITRAT,NITRAT_FLAG_W,NITRIT,PHSPHT,PHSPHT_FLAG_W,CFC-12,CFC-12_FLAG_W,THETA
,,,,,,,,,,,METERS,DBAR,ITS-90,PSS-78,,PSS-78,,UMOL/KG,,UMOL/KG,,UMOL/KG,,UMOL/KG,,UMOL/KG,UMOL/KG,,PMOL/KG,,DEG C
  320620070203,NBP0702,    42,  1,     12,     12,2,20070218,   0,-72.6530,-122.4620, 1041,      2.0,  -1.3850,  32.8930,2,  32.9020,2,    350.8,2,    352.2,2,    62.55,2,    19.66,2,     0.14,     1.18,3, -999.000,9,  -1.3850
  320620070203,NBP0702,    42,  1,     11,     11,2,20070218,   0,-72.6530,-122.4620, 1041,     35.5,  -1.0600,  33.3220,2,-999.0000,9,    349.2,2,    342.4,2,    67.01,2,    21.21,2,     0.10,     1.41,2, -999.000,9,  -1.0608
  320620070203,NBP0702,    42,  1,     10,     10,2,20070218,   0,-72.6530,-122.4620, 1041,    150.6,  -1.7790,  34.0960,2,  34.0950,2,    263.1,2,    263.1,2,    88.79,2,    30.71,2,     0.03,     2.23,2, -999.000,9,  -1.7820
  320620070203,NBP0702,    42,  1,      9,      9,2,20070218,   0,-72.6530,-122.4620, 1041,    200.1,  -1.6420,  34.1190,2,  34.1200,2,    258.1,2,    257.4,2,    88.51,2,    30.54,2,     0.00,     2.26,2, -999.000,9,  -1.6464
  320620070203,NBP0702,    42,  1,      8,      8,2,20070218,   0,-72.6530,-122.4620, 1041,    300.2,  -0.8130,  34.2380,2,-999.0000,9,    226.2,2,   -999.0,9,    93.35,2,    31.78,2,     0.00,     2.34,2, -999.000,9,  -0.8221
  320620070203,NBP0702,    42,  1,      7,      7,2,20070218,   0,-72.6530,-122.4620, 1041,    401.0,   0.6250,  34.5160,2,-999.0000,9,    195.2,2,   -999.0,9,    92.65,2,    32.45,2,     0.00,     2.36,2, -999.000,9,   0.6074
  320620070203,NBP0702,    42,  1,      6,      6,2,20070218,   0,-72.6530,-122.4620, 1041,    500.2,   1.3150,  34.7040,2,  34.7060,2,    184.0,2,    182.3,2,    97.96,2,    31.88,2,     0.00,     2.35,2, -999.000,9,   1.2896
  320620070203,NBP0702,    42,  1,      5,      5,2,20070218,   0,-72.6530,-122.4620, 1041,    600.1,   1.2740,  34.7270,2,-999.0000,9,    186.3,2,   -999.0,9,   108.45,2,    32.44,2,     0.00,     2.32,2, -999.000,9,   1.2432
  320620070203,NBP0702,    42,  1,      4,      4,2,20070218,   0,-72.6530,-122.4620, 1041,    701.1,   1.1750,  34.7260,2,  34.7290,2,    188.6,2,    186.5,2,   106.54,2,    31.96,2,     0.00,     2.32,2, -999.000,9,   1.1390
  320620070203,NBP0702,    42,  1,      3,      3,2,20070218,   0,-72.6530,-122.4620, 1041,    800.5,   0.9950,  34.7210,2,-999.0000,9,    192.1,2,   -999.0,9,   110.36,2,    32.15,2,     0.00,     2.32,2, -999.000,9,   0.9544
  320620070203,NBP0702,    42,  1,      2,      2,2,20070218,   0,-72.6530,-122.4620, 1041,    980.3,   0.8490,  34.7160,2,  34.7160,2,    195.6,2,    193.4,2,   115.13,2,    31.96,2,     0.00,     2.33,2, -999.000,9,   0.7990
  320620070203,NBP0702,    42,  1,      1,      1,2,20070218,   0,-72.6530,-122.4620, 1041,   1030.9,   0.7710,  34.7140,2,  34.7160,2,    196.5,2,   -999.0,9,   118.94,2,    32.42,2,     0.00,     2.34,2, -999.000,9,   0.7186
  320620070203,NBP0702,    43,  1,      9,      9,2,20070219,   0,-72.6150,-120.2140,  502,      2.0,  -1.5000,  32.8770,2,  32.8770,2,    351.6,2,    354.2,2,    53.23,2,    22.04,2,     0.15,     0.87,3, -999.000,9,  -1.5000
  320620070203,NBP0702,    43,  1,      8,      8,2,20070219,   0,-72.6150,-120.2140,  502,     20.0,  -1.5010,  32.8980,2,  33.1670,2,    346.5,2,    339.3,2,    59.99,2,    24.15,2,     0.13,     1.27,3, -999.000,9,  -1.5014
  320620070203,NBP0702,    43,  1,      7,      7,2,20070219,   0,-72.6150,-120.2140,  502,    100.1,  -1.7800,  34.0880,2,  34.0900,2,    260.6,2,    261.6,2,    88.55,2,    31.10,2,     0.12,     2.29,2, -999.000,9,  -1.7820
  320620070203,NBP0702,    43,  1,      6,      6,2,20070219,   0,-72.6150,-120.2140,  502,    100.1,  -1.7770,  34.0880,2,  34.0900,2,    260.7,2,   -999.0,9,  -999.00,9,  -999.00,9,  -999.00,  -999.00,9,    1.735,2,  -1.7790
  320620070203,NBP0702,    43,  1,      5,      5,2,20070219,   0,-72.6150,-120.2140,  502,    199.9,  -1.8040,  34.1010,2,  34.1010,2,    262.1,2,    263.1,2,    91.03,2,    30.45,2,     0.00,     2.32,2, -999.000,9,  -1.8081
  320620070203,NBP0702,    43,  1,      4,      4,2,20070219,   0,-72.6150,-120.2140,  502,    199.9,  -1.8160,  34.1010,2,  34.1020,2,    262.2,2,   -999.0,9,  -999.00,9,  -999.00,9,  -999.00,  -999.00,9,    1.762,2,  -1.8201
  320620070203,NBP0702,    43,  1,      3,      3,2,20070219,   0,-72.6150,-120.2140,  502,    400.3,  -0.2320,  34.3550,2,  34.3430,2,    210.7,2,    211.0,2,    92.43,2,    31.39,2,     0.01,     2.47,2, -999.000,9,  -0.2465
  320620070203,NBP0702,    43,  1,      2,      2,2,20070219,   0,-72.6150,-120.2140,  502,    400.3,  -0.3150,  34.3360,2,  34.3330,2,    211.0,2,   -999.0,9,  -999.00,9,  -999.00,9,  -999.00,  -999.00,9, -999.000,9,  -0.3292
  320620070203,NBP0702,    43,  1,      1,      1,2,20070219,   0,-72.6150,-120.2140,  502,    492.5,   1.0610,  34.6560,2,  34.6500,2,    186.6,2,    188.0,2,    96.01,2,    31.20,2,     0.00,     2.45,2, -999.000,9,   1.0371
  320620070203,NBP0702,    44,  1,     13,     13,2,20070219,   0,-71.9000,-118.6530, 1055,      2.0,  -1.6380,  32.7070,2,-999.0000,9,    351.6,2,   -999.0,9,    52.57,2,    21.11,2,     0.13,     1.27,3, -999.000,9,  -1.6380
  320620070203,NBP0702,    44,  1,     12,     12,2,20070219,   0,-71.9000,-118.6530, 1055,     39.3,  -1.6220,  33.7960,2,  33.8080,2,    296.7,2,    299.2,2,    64.80,2,    26.76,2,     0.08,     2.11,2, -999.000,9,  -1.6228
  320620070203,NBP0702,    44,  1,     11,     11,2,20070219,   0,-71.9000,-118.6530, 1055,     39.3,  -1.6090,  33.7630,2,-999.0000,9,    298.7,2,   -999.0,9,  -999.00,9,  -999.00,9,  -999.00,  -999.00,9,    2.192,2,  -1.6098
  320620070203,NBP0702,    44,  1,     10,     10,2,20070219,   0,-71.9000,-118.6530, 1055,    100.0,  -1.6860,  34.0020,2,-999.0000,9,    275.7,2,   -999.0,9,    71.08,2,    28.57,2,     0.07,     2.23,2, -999.000,9,  -1.6880
  320620070203,NBP0702,    44,  1,      9,      9,2,20070219,   0,-71.9000,-118.6530, 1055,    199.3,  -1.4330,  34.1330,2,-999.0000,9,    257.6,2,   -999.0,9,  -999.00,9,  -999.00,9,  -999.00,  -999.00,9,    1.869,2,  -1.4377
  320620070203,NBP0702,    44,  1,      8,      8,2,20070219,   0,-71.9000,-118.6530, 1055,    199.3,  -1.4580,  34.1270,2,  34.1300,2,    257.7,2,    258.8,2,  -999.00,9,  -999.00,9,  -999.00,  -999.00,9, -999.000,9,  -1.4627
  320620070203,NBP0702,    44,  1,      7,      7,2,20070219,   0,-71.9000,-118.6530, 1055,    499.5,   1.3760,  34.7140,2,-999.0000,9,    181.4,2,   -999.0,9,  -999.00,9,  -999.00,9,  -999.00,  -999.00,9,    0.188,2,   1.3504
  320620070203,NBP0702,    44,  1,      6,      6,2,20070219,   0,-71.9000,-118.6530, 1055,    499.6,   1.3750,  34.7130,2,-999.0000,9,    181.2,2,   -999.0,9,    91.80,2,    30.44,2,     0.00,     2.43,2, -999.000,9,   1.3494
  320620070203,NBP0702,    44,  1,      5,      5,2,20070219,   0,-71.9000,-118.6530, 1055,    599.6,   1.2670,  34.7250,2,  34.7270,2,    185.0,2,    183.9,2,    95.71,2,    31.02,2,     0.00,     2.44,2, -999.000,9,   1.2363
  320620070203,NBP0702,    44,  1,      4,      4,2,20070219,   0,-71.9000,-118.6530, 1055,    899.7,   0.9080,  34.7180,2,  34.7190,2,    193.5,2,    192.4,2,  -999.00,9,  -999.00,9,  -999.00,  -999.00,9, -999.000,9,   0.8623
  320620070203,NBP0702,    44,  1,      3,      3,2,20070219,   0,-71.9000,-118.6530, 1055,    899.7,   0.9110,  34.7190,2,-999.0000,9,    193.7,2,   -999.0,9,  -999.00,9,  -999.00,9,  -999.00,  -999.00,9,    0.134,2,   0.8653
  320620070203,NBP0702,    44,  1,      2,      2,2,20070219,   0,-71.9000,-118.6530, 1055,    999.5,   0.8390,  34.7160,2,-999.0000,9,    195.6,2,   -999.0,9,   108.58,2,    31.30,2,     0.00,     2.44,2, -999.000,9,   0.7879
  320620070203,NBP0702,    44,  1,      1,      1,2,20070219,   0,-71.9000,-118.6530, 1055,   1044.8,   0.8340,  34.7160,2,  34.7170,2,    195.7,2,    196.5,2,   108.58,2,    30.34,2,     0.00,     2.45,2, -999.000,9,   0.7802
  320620070203,NBP0702,    45,  1,      8,      8,2,20070219,   0,-72.0100,-118.4390,  504,      2.0,  -1.6210,  32.7190,2,-999.0000,9,    352.5,2,    349.1,2,    53.72,2,    20.93,2,     0.12,     1.41,2, -999.000,9,  -1.6210
  320620070203,NBP0702,    45,  1,      7,      7,2,20070219,   0,-72.0100,-118.4390,  504,     19.4,  -1.5690,  32.8550,2,  32.9760,2,    348.2,2,    345.1,2,    54.65,2,    21.21,2,     0.11,     1.46,2, -999.000,9,  -1.5694
  320620070203,NBP0702,    45,  1,      6,      6,2,20070219,   0,-72.0100,-118.4390,  504,     59.9,  -1.6190,  33.9820,2,  33.9950,2,    270.7,2,    268.9,2,    73.66,2,    27.86,2,     0.12,     2.32,2, -999.000,9,  -1.6202
  320620070203,NBP0702,    45,  1,      5,      5,2,20070219,   0,-72.0100,-118.4390,  504,     99.5,  -1.5940,  34.0610,2,  34.0690,2,    258.0,2,    260.0,2,    78.62,2,    28.71,2,     0.12,     2.33,2, -999.000,9,  -1.5961
  320620070203,NBP0702,    45,  1,      4,      4,2,20070219,   0,-72.0100,-118.4390,  504,    200.2,  -1.6790,  34.1170,2,  34.1190,2,    260.9,2,    260.9,2,    79.66,2,    28.72,2,     0.00,     2.33,2, -999.000,9,  -1.6833
  320620070203,NBP0702,    45,  1,      3,      3,2,20070219,   0,-72.0100,-118.4390,  504,    360.4,  -0.6320,  34.2680,2,  34.2670,2,    219.1,2,    219.2,2,    87.19,2,    29.78,2,     0.00,     2.43,2, -999.000,9,  -0.6437
  320620070203,NBP0702,    45,  1,      2,      2,2,20070219,   0,-72.0100,-118.4390,  504,    449.5,   0.7870,  34.6180,2,  34.6200,2,    191.6,2,    190.3,2,    93.53,2,    29.95,2,     0.00,     2.45,2, -999.000,9,   0.7664
  320620070203,NBP0702,    45,  1,      1,      1,2,20070219,   0,-72.0100,-118.4390,  504,    494.4,   0.8180,  34.6350,2,  34.6360,2,    191.4,2,    191.7,2,    94.96,2,    29.95,2,     0.00,     2.46,2, -999.000,9,   0.7950
  320620070203,NBP0702,    46,  1,      6,      6,2,20070219,   0,-72.1950,-117.6000,  526,      2.0,  -1.4960,  32.8390,2,  32.8640,2,    345.7,2,    347.2,2,    56.39,2,    20.42,2,     0.14,     1.51,2, -999.000,9,  -1.4960
  320620070203,NBP0702,    46,  1,      5,      5,2,20070219,   0,-72.1950,-117.6000,  526,     20.3,  -1.3790,  33.1110,2,-999.0000,9,    335.5,2,   -999.0,9,    60.57,2,    20.53,2,     0.12,     1.63,2, -999.000,9,  -1.3794
  320620070203,NBP0702,    46,  1,      4,      4,2,20070219,   0,-72.1950,-117.6000,  526,    140.4,  -1.4930,  34.0770,2,  34.0760,2,    254.4,2,    253.6,2,    79.19,2,    28.53,2,     0.11,     2.32,2, -999.000,9,  -1.4962
  320620070203,NBP0702,    46,  1,      3,      3,2,20070219,   0,-72.1950,-117.6000,  526,    200.4,  -1.6350,  34.1040,2,  34.1050,2,    257.2,2,    257.3,2,    79.76,2,    28.41,2,     0.04,     2.32,2, -999.000,9,  -1.6394
  320620070203,NBP0702,    46,  1,      2,      2,2,20070219,   0,-72.1950,-117.6000,  526,    400.5,  -0.5530,  34.2800,2,-999.0000,9,    213.7,2,   -999.0,9,    88.71,2,    29.77,2,     0.01,     2.42,2, -999.000,9,  -0.5664
  320620070203,NBP0702,    46,  1,      1,      1,2,20070219,   0,-72.1950,-117.6000,  526,    516.2,   0.1510,  34.4580,2,  34.4580,2,    197.4,2,    199.2,2,    91.55,2,    30.03,2,     0.02,     2.45,2, -999.000,9,   0.1300
  320620070203,NBP0702,    47,  1,     10,     10,2,20070220,   0,-72.3200,-116.5000,  509,      2.0,  -1.5590,  32.8500,2,  32.8560,2,    343.3,2,   -999.0,9,    54.95,2,    21.67,2,     0.14,     1.62,2, -999.000,9,  -1.5590
  320620070203,NBP0702,    47,  1,      9,      9,2,20070220,   0,-72.3200,-116.5000,  509,     51.1,  -1.6080,  33.5360,2,-999.0000,9,    311.5,2,    300.4,2,    63.49,2,    25.02,2,     0.11,     2.05,2, -999.000,9,  -1.6090
  320620070203,NBP0702,    47,  1,      8,      8,2,20070220,   0,-72.3200,-116.5000,  509,     51.1,  -1.6070,  33.5320,2,-999.0000,9,    312.2,2,   -999.0,9,  -999.00,9,  -999.00,9,  -999.00,  -999.00,9, -999.000,9,  -1.6080
  320620070203,NBP0702,    47,  1,      7,      7,2,20070220,   0,-72.3200,-116.5000,  509,    149.8,  -1.6860,  34.1000,2,  34.1090,2,    264.4,2,    262.6,2,    76.80,2,    28.14,2,     0.02,     2.27,2, -999.000,9,  -1.6891
  320620070203,NBP0702,    47,  1,      6,      6,2,20070220,   0,-72.3200,-116.5000,  509,    149.9,  -1.6870,  34.0970,2,  34.1040,2,    264.4,2,   -999.0,9,  -999.00,9,  -999.00,9,  -999.00,  -999.00,9,    1.768,2,  -1.6901
  320620070203,NBP0702,    47,  1,      5,      5,2,20070220,   0,-72.3200,-116.5000,  509,    250.3,  -1.3020,  34.1810,2,  34.1970,2,    252.6,2,    247.4,2,    78.60,2,    28.45,2,     0.00,     2.33,2, -999.000,9,  -1.3084
  320620070203,NBP0702,    47,  1,      4,      4,2,20070220,   0,-72.3200,-116.5000,  509,    250.3,  -1.3140,  34.1850,2,  34.1840,2,    253.1,2,   -999.0,9,  -999.00,9,  -999.00,9,  -999.00,  -999.00,9,    1.711,2,  -1.3203
  320620070203,NBP0702,    47,  1,      3,      3,2,20070220,   0,-72.3200,-116.5000,  509,    350.8,  -0.0480,  34.4060,2,  34.4010,2,    205.3,2,    204.7,2,    87.02,2,    29.49,2,     0.00,     2.42,2, -999.000,9,  -0.0612
  320620070203,NBP0702,    47,  1,      2,      2,2,20070220,   0,-72.3200,-116.5000,  509,    350.8,  -0.0670,  34.4020,2,  34.3980,2,    206.7,2,   -999.0,9,  -999.00,9,  -999.00,9,  -999.00,  -999.00,9, -999.000,9,  -0.0801
  320620070203,NBP0702,    47,  1,      1,      1,2,20070220,   0,-72.3200,-116.5000,  509,    498.8,   0.8620,  34.6590,2,  34.6600,2,    192.1,2,    191.6,2,    95.72,2,    29.39,2,     0.00,     2.39,2, -999.000,9,   0.8386
  320620070203,NBP0702,    48,  1,      5,      5,2,20070220,   0,-72.7410,-115.7680,  630,      2.0,  -1.4420,  32.7610,2,  32.7850,2,    355.5,2,    356.0,2,    64.88,2,    13.38,2,     0.11,     0.91,2, -999.000,9,  -1.4420
  320620070203,NBP0702,    48,  1,      4,      4,2,20070220,   0,-72.7410,-115.7680,  630,     39.6,  -1.1690,  33.8960,2,  33.8970,2,    276.9,2,    275.2,2,    83.59,2,    26.75,2,     0.08,     2.16,2, -999.000,9,  -1.1699
  320620070203,NBP0702,    48,  1,      3,      3,2,20070220,   0,-72.7410,-115.7680,  630,    249.4,  -1.6650,  34.1210,2,  34.1180,2,    261.7,2,    259.9,2,    86.99,2,    31.21,2,     0.01,     2.26,2, -999.000,9,  -1.6705
  320620070203,NBP0702,    48,  1,      2,      2,2,20070220,   0,-72.7410,-115.7680,  630,    479.9,  -0.0740,  34.3830,2,  34.3840,2,    203.5,2,    200.6,2,  -999.00,9,  -999.00,9,  -999.00,  -999.00,9, -999.000,9,  -0.0924
  320620070203,NBP0702,    48,  1,      1,      1,2,20070220,   0,-72.7410,-115.7680,  630,    620.2,   0.7540,  34.6260,2,  34.6270,2,    191.8,2,    189.2,2,  -999.00,9,  -999.00,9,  -999.00,  -999.00,9, -999.000,9,   0.7249
  320620070203,NBP0702,    49,  1,     11,     11,2,20070220,   0,-73.1670,-114.9990,  768,      9.2,  -0.9770,  33.0650,2,-999.0000,9,    351.7,2,    350.6,2,    67.15,2,    13.38,2,     0.11,     0.89,2, -999.000,9,  -0.9772
  320620070203,NBP0702,    49,  1,     10,     10,2,20070220,   0,-73.1670,-114.9990,  768,     49.6,  -0.6650,  33.8490,2,  33.8630,2,    299.0,2,    289.8,2,    82.73,2,    22.38,2,     0.07,     1.94,2, -999.000,9,  -0.6664
  320620070203,NBP0702,    49,  1,      9,      9,2,20070220,   0,-73.1670,-114.9990,  768,    119.6,  -1.4220,  33.9990,2,-999.0000,9,    254.2,2,   -999.0,9,  -999.00,9,  -999.00,9,  -999.00,  -999.00,9,    1.622,2,  -1.4247
  320620070203,NBP0702,    49,  1,      8,      8,2,20070220,   0,-73.1670,-114.9990,  768,    119.7,  -1.4270,  33.9960,2,  33.9990,2,    254.4,2,    253.0,2,    87.67,2,    29.80,2,     0.09,     2.28,2, -999.000,9,  -1.4297
  320620070203,NBP0702,    49,  1,      7,      7,2,20070220,   0,-73.1670,-114.9990,  768,    259.2,  -1.7150,  34.1060,2,-999.0000,9,    259.2,2,   -999.0,9,  -999.00,9,  -999.00,9,  -999.00,  -999.00,9, -999.000,9,  -1.7206
  320620070203,NBP0702,    49,  1,      6,      6,2,20070220,   0,-73.1670,-114.9990,  768,    259.3,  -1.7170,  34.1060,2,  34.1040,2,    259.4,2,    258.2,2,    91.01,2,    30.62,2,     0.03,     2.25,2, -999.000,9,  -1.7226
  320620070203,NBP0702,    49,  1,      5,      5,2,20070220,   0,-73.1670,-114.9990,  768,    319.5,  -1.1130,  34.1690,2,  34.1680,2,    237.3,2,    235.3,2,  -999.00,9,  -999.00,9,  -999.00,  -999.00,9, -999.000,9,  -1.1218
  320620070203,NBP0702,    49,  1,      4,      4,2,20070220,   0,-73.1670,-114.9990,  768,    518.5,   0.1010,  34.4130,2,-999.0000,9,    198.6,2,   -999.0,9,  -999.00,9,  -999.00,9,  -999.00,  -999.00,9, -999.000,9,   0.0801
  320620070203,NBP0702,    49,  1,      3,      3,2,20070220,   0,-73.1670,-114.9990,  768,    519.0,   0.1030,  34.4130,2,  34.4170,2,    198.6,2,    197.1,2,   100.03,2,    31.69,2,     0.00,     2.36,2, -999.000,9,   0.0821
  320620070203,NBP0702,    49,  1,      2,      2,2,20070220,   0,-73.1670,-114.9990,  768,    649.2,   0.4000,  34.5110,2,  34.5160,2,    198.6,2,    196.2,2,   100.96,2,    31.59,2,     0.00,     2.38,2, -999.000,9,   0.3714
  320620070203,NBP0702,    49,  1,      1,      1,2,20070220,   0,-73.1670,-114.9990,  768,    758.3,   0.4920,  34.5330,2,  34.5340,2,    195.4,2,    195.3,2,   101.92,2,    31.76,2,     0.00,     2.41,2, -999.000,9,   0.4572
  320620070203,NBP0702,    50,  1,     10,     10,2,20070220,   0,-73.6360,-115.2540,  933,     20.3,  -0.2300,  33.5460,2,-999.0000,9,    345.0,2,   -999.0,9,    74.22,2,    11.50,2,     0.13,     0.84,2, -999.000,9,  -0.2306
  320620070203,NBP0702,    50,  1,      9,      9,2,20070220,   0,-73.6360,-115.2540,  933,     20.4,  -0.2300,  33.5460,2,  33.5480,2,    345.3,2,    342.2,2,  -999.00,9,  -999.00,9,  -999.00,  -999.00,9, -999.000,9,  -0.2306
  320620070203,NBP0702,    50,  1,      8,      8,2,20070220,   0,-73.6360,-115.2540,  933,     59.8,  -0.2630,  33.5700,2,-999.0000,9,    344.3,2,   -999.0,9,    74.33,2,    12.54,2,     0.12,     0.93,2, -999.000,9,  -0.2649
  320620070203,NBP0702,    50,  1,      7,      7,2,20070220,   0,-73.6360,-115.2540,  933,     80.4,  -0.4420,  33.6530,2,-999.0000,9,    341.6,2,   -999.0,9,    76.63,2,    15.61,2,     0.08,     1.11,2, -999.000,9,  -0.4444
  320620070203,NBP0702,    50,  1,      6,      6,2,20070220,   0,-73.6360,-115.2540,  933,    119.5,  -0.4550,  33.7880,2,-999.0000,9,    320.0,2,   -999.0,9,    82.64,2,    19.02,2,     0.08,     1.56,2, -999.000,9,  -0.4587
  320620070203,NBP0702,    50,  1,      5,      5,2,20070220,   0,-73.6360,-115.2540,  933,    200.2,  -1.3850,  33.9080,2,  33.9100,2,    248.8,2,    247.0,2,    88.83,2,    30.23,2,     0.04,     2.25,2, -999.000,9,  -1.3897
  320620070203,NBP0702,    50,  1,      4,      4,2,20070220,   0,-73.6360,-115.2540,  933,    399.6,  -1.0990,  34.1360,2,-999.0000,9,    239.0,2,   -999.0,9,    91.01,2,    30.53,2,     0.02,     2.31,2, -999.000,9,  -1.1104
  320620070203,NBP0702,    50,  1,      3,      3,2,20070220,   0,-73.6360,-115.2540,  933,    599.8,   0.1050,  34.3820,2,  34.3830,2,    196.4,2,    195.2,2,   102.90,2,    31.79,2,     0.00,     2.37,2, -999.000,9,   0.0804
  320620070203,NBP0702,    50,  1,      2,      2,2,20070220,   0,-73.6360,-115.2540,  933,    799.6,   0.5060,  34.5350,2,  34.5360,2,    197.4,2,    195.3,2,   102.87,2,    31.39,2,     0.00,     2.38,2, -999.000,9,   0.4689
  320620070203,NBP0702,    50,  1,      1,      1,2,20070220,   0,-73.6360,-115.2540,  933,    923.2,   0.5310,  34.5570,2,  34.5590,2,    191.1,2,    191.1,2,   110.50,2,    31.96,2,     0.00,     2.42,2, -999.000,9,   0.4870