BOTTLE,202201227CCHSIOENA
EXPOCODE,SECT_ID,STNNBR,CASTNO,SAMPNO,BTLNBR,BTLNBR_FLAG_W,DATE,TIME,LATITUDE,LONGITUDE,DEPTH,CTDPRS,CTDTMP,CTDSAL,CTDSAL_FLAG_W,SALNTY,SALNTY_FLAG_W,CTDOXY,CTDOXY_FLAG_W,OXYGEN,OXYGEN_FLAG_W,SILCAT,SILCAT_FLAG_W,NITRAT,NITRAT_FLAG_W,NITRIT,PHSPHT,PHSPHT_FLAG_W,CFC-12,CFC-12_FLAG_W,THETA
,,,,,,,,,,,METERS,DBAR,ITS-90,PSS-78,,PSS-78,,UMOL/KG,,UMOL/KG,,UMOL/KG,,UMOL/KG,,UMOL/KG,UMOL/KG,,PMOL/KG,,DEG C
  320620070203,NBP0702,    60,  1,      7,      7,2,20070222,   0,-74.0300,-115.9060, 1281,      2.0,  -0.3980,  33.4520,2,  33.4540,2,    348.8,2,    348.2,2,    68.93,2,     9.55,2,     0.10,     0.85,2, -999.000,9,  -0.3981
  320620070203,NBP0702,    60,  1,      6,      6,2,20070222,   0,-74.0300,-115.9060, 1281,    150.4,  -1.3580,  33.9550,2,  33.9550,2,    235.9,2,    236.9,2,    94.27,2,    29.86,2,     0.02,     2.13,2, -999.000,9,  -1.3615
  320620070203,NBP0702,    60,  1,      5,      5,2,20070222,   0,-74.0300,-115.9060, 1281,    220.4,  -1.3820,  33.9990,2,  33.9980,2,    241.7,2,    240.3,2,    91.01,2,    29.91,2,     0.07,     2.18,2, -999.000,9,  -1.3873
  320620070203,NBP0702,    60,  1,      4,      4,2,20070222,   0,-74.0300,-115.9060, 1281,    600.8,   0.0750,  34.3880,2,  34.3860,2,    196.4,2,   -999.0,9,  -999.00,9,  -999.00,9,  -999.00,  -999.00,9, -999.000,9,   0.0505
  320620070203,NBP0702,    60,  1,      3,      3,2,20070222,   0,-74.0300,-115.9060, 1281,    800.9,   0.4290,  34.5330,2,  34.5380,2,    191.6,2,    191.0,2,   101.92,2,    31.31,2,     0.00,     2.22,2, -999.000,9,   0.3924
  320620070203,NBP0702,    60,  1,      2,      2,2,20070222,   0,-74.0300,-115.9060, 1281,    869.7,   0.4210,  34.5420,2,  34.5440,2,    190.7,2,    189.9,2,   103.82,2,    31.69,2,     0.00,     2.21,2, -999.000,9,   0.3807
  320620070203,NBP0702,    60,  1,      1,      1,2,20070222,   0,-74.0300,-115.9060, 1281,   1270.9,   0.6280,  34.5830,2,  34.5840,2,    185.4,2,    187.0,2,   105.72,2,    32.04,2,     0.01,     2.25,2, -999.000,9,   0.5626
  320620070203,NBP0702,    61,  1,      4,      4,2,20070222,   0,-74.0170,-115.6580, 1086,      2.0,  -0.2980,  33.4840,2,  33.4850,2,    348.6,2,   -999.0,9,  -999.00,9,  -999.00,9,  -999.00,  -999.00,9, -999.000,9,  -0.2981
  320620070203,NBP0702,    61,  1,      3,      3,2,20070222,   0,-74.0170,-115.6580, 1086,    240.2,  -1.3840,  34.0290,2,  34.0310,2,    240.4,2,    240.2,2,  -999.00,9,  -999.00,9,  -999.00,  -999.00,9, -999.000,9,  -1.3898
  320620070203,NBP0702,    61,  1,      2,      2,2,20070222,   0,-74.0170,-115.6580, 1086,    650.2,   0.1770,  34.4450,2,  34.4510,2,    197.6,2,    197.1,2,  -999.00,9,  -999.00,9,  -999.00,  -999.00,9, -999.000,9,   0.1496
  320620070203,NBP0702,    61,  1,      1,      1,2,20070222,   0,-74.0170,-115.6580, 1086,   1075.7,   0.5880,  34.5750,2,  34.5770,2,    187.1,2,    185.9,2,  -999.00,9,  -999.00,9,  -999.00,  -999.00,9, -999.000,9,   0.5348
  320620070203,NBP0702,    62,  1,      6,      6,2,20070222,   0,-74.0360,-115.4750, 1170,      2.0,  -0.3590,  33.4540,2,-999.0000,9,    349.8,2,   -999.0,9,    72.84,2,     9.66,2,     0.09,     0.86,2, -999.000,9,  -0.3591
  320620070203,NBP0702,    62,  1,      5,      5,2,20070222,   0,-74.0360,-115.4750, 1170,     20.3,  -0.1790,  33.5120,2,-999.0000,9,    345.6,2,   -999.0,9,    71.31,2,    10.52,2,     0.09,     1.00,2, -999.000,9,  -0.1796
  320620070203,NBP0702,    62,  1,      4,      4,2,20070222,   0,-74.0360,-115.4750, 1170,    180.3,  -1.4350,  33.9830,2,  33.9890,2,    246.6,2,    246.0,2,    96.65,2,    29.64,2,     0.04,     2.16,2, -999.000,9,  -1.4392
  320620070203,NBP0702,    62,  1,      3,      3,2,20070222,   0,-74.0360,-115.4750, 1170,    340.3,  -1.4730,  34.1090,2,-999.0000,9,    246.4,2,    246.8,2,    91.01,2,    30.48,2,     0.06,     2.15,2, -999.000,9,  -1.4814
  320620070203,NBP0702,    62,  1,      2,      2,2,20070222,   0,-74.0360,-115.4750, 1170,    800.2,   0.4800,  34.5440,2,  34.5460,2,    191.7,2,    191.3,2,  -999.00,9,  -999.00,9,  -999.00,  -999.00,9, -999.000,9,   0.4431
  320620070203,NBP0702,    62,  1,      1,      1,2,20070222,   0,-74.0360,-115.4750, 1170,   1160.0,   0.6030,  34.5780,2,  34.5790,2,    185.9,2,    185.0,2,  -999.00,9,  -999.00,9,  -999.00,  -999.00,9, -999.000,9,   0.5446
  320620070203,NBP0702,    63,  1,      5,      5,2,20070222,   0,-74.0380,-115.2620,  930,      2.0,  -0.3320,  33.5020,2,  33.5200,2,    347.5,2,    343.5,2,  -999.00,9,  -999.00,9,  -999.00,  -999.00,9, -999.000,9,  -0.3321
  320620070203,NBP0702,    63,  1,      4,      4,2,20070222,   0,-74.0380,-115.2620,  930,    219.8,  -1.4020,  34.0230,2,  34.0250,2,    240.6,2,   -999.0,9,  -999.00,9,  -999.00,9,  -999.00,  -999.00,9, -999.000,9,  -1.4073
  320620070203,NBP0702,    63,  1,      3,      3,2,20070222,   0,-74.0380,-115.2620,  930,    250.5,  -1.4360,  34.0370,2,  34.0450,2,    246.6,2,    245.3,2,  -999.00,9,  -999.00,9,  -999.00,  -999.00,9, -999.000,9,  -1.4420
  320620070203,NBP0702,    63,  1,      2,      2,2,20070222,   0,-74.0380,-115.2620,  930,    580.1,   0.0900,  34.3940,2,  34.3960,2,    196.3,2,    195.9,2,  -999.00,9,  -999.00,9,  -999.00,  -999.00,9, -999.000,9,   0.0664
  320620070203,NBP0702,    63,  1,      1,      1,2,20070222,   0,-74.0380,-115.2620,  930,    920.3,   0.5050,  34.5550,2,  34.5570,2,    189.1,2,    188.4,2,  -999.00,9,  -999.00,9,  -999.00,  -999.00,9, -999.000,9,   0.4613
  320620070203,NBP0702,    64,  1,      9,      9,2,20070222,   0,-74.1750,-113.3530,  570,      2.0,  -1.5230,  33.7990,2,-999.0000,9,    287.7,2,   -999.0,9,    89.04,2,    28.70,2,     0.04,     2.03,2, -999.000,9,  -1.5230
  320620070203,NBP0702,    64,  1,      8,      8,2,20070222,   0,-74.1750,-113.3530,  570,     25.2,  -1.5520,  33.8240,2,  33.8250,2,    270.9,2,    264.0,2,    89.89,2,    29.38,2,     0.03,     2.07,2, -999.000,9,  -1.5525
  320620070203,NBP0702,    64,  1,      7,      7,2,20070222,   0,-74.1750,-113.3530,  570,     80.5,  -1.4190,  33.8670,2,-999.0000,9,    231.1,2,   -999.0,9,    92.67,2,    29.88,2,     0.01,     2.13,2, -999.000,9,  -1.4208
  320620070203,NBP0702,    64,  1,      6,      6,2,20070222,   0,-74.1750,-113.3530,  570,    160.0,  -1.2990,  33.9250,2,-999.0000,9,    227.3,2,   -999.0,9,    93.13,2,    30.26,2,     0.01,     2.14,2, -999.000,9,  -1.3029
  320620070203,NBP0702,    64,  1,      5,      5,2,20070222,   0,-74.1750,-113.3530,  570,    160.1,  -1.2900,  33.9260,2,-999.0000,9,    227.0,2,   -999.0,9,  -999.00,9,  -999.00,9,  -999.00,  -999.00,9, -999.000,9,  -1.2939
  320620070203,NBP0702,    64,  1,      4,      4,2,20070222,   0,-74.1750,-113.3530,  570,    189.9,  -1.4800,  33.9430,2,-999.0000,9,    257.1,2,    255.2,2,    83.67,2,    29.36,2,     0.05,     2.08,2, -999.000,9,  -1.4843
  320620070203,NBP0702,    64,  1,      3,      3,2,20070222,   0,-74.1750,-113.3530,  570,    189.9,  -1.4800,  33.9430,2,-999.0000,9,    256.8,2,   -999.0,9,  -999.00,9,  -999.00,9,  -999.00,  -999.00,9,    1.649,2,  -1.4843
  320620070203,NBP0702,    64,  1,      2,      2,2,20070222,   0,-74.1750,-113.3530,  570,    350.3,  -0.3190,  34.2190,2,  34.2190,2,    200.3,2,    199.3,2,   100.06,2,    31.04,2,     0.00,     2.20,2, -999.000,9,  -0.3312
  320620070203,NBP0702,    64,  1,      1,      1,2,20070222,   0,-74.1750,-113.3530,  570,    560.1,   0.0640,  34.3640,2,  34.3640,2,    196.8,2,    197.4,2,   101.94,2,    31.40,2,     0.00,     2.20,2, -999.000,9,   0.0415
  320620070203,NBP0702,    65,  1,      6,      6,2,20070222,   0,-74.1980,-113.2080,  839,    160.9,  -1.5160,  33.9000,2,-999.0000,9,    245.5,2,   -999.0,9,  -999.00,9,  -999.00,9,  -999.00,  -999.00,9,    1.384,2,  -1.5196
  320620070203,NBP0702,    65,  1,      5,      5,2,20070222,   0,-74.1980,-113.2080,  839,    160.9,  -1.5160,  33.9000,2,  33.9020,2,    246.1,2,    247.1,2,  -999.00,9,  -999.00,9,  -999.00,  -999.00,9, -999.000,9,  -1.5196
  320620070203,NBP0702,    65,  1,      4,      4,2,20070222,   0,-74.1980,-113.2080,  839,    200.9,  -1.5230,  33.9450,2,  33.9510,2,    260.1,2,    258.8,2,  -999.00,9,  -999.00,9,  -999.00,  -999.00,9, -999.000,9,  -1.5275
  320620070203,NBP0702,    65,  1,      3,      3,2,20070222,   0,-74.1980,-113.2080,  839,    401.0,  -0.2340,  34.2480,2,  34.2430,2,    199.8,2,   -999.0,9,  -999.00,9,  -999.00,9,  -999.00,  -999.00,9, -999.000,9,  -0.2485
  320620070203,NBP0702,    65,  1,      2,      2,2,20070222,   0,-74.1980,-113.2080,  839,    600.4,   0.1880,  34.4080,2,  34.4090,2,    195.2,2,   -999.0,9,  -999.00,9,  -999.00,9,  -999.00,  -999.00,9, -999.000,9,   0.1629
  320620070203,NBP0702,    65,  1,      1,      1,2,20070222,   0,-74.1980,-113.2080,  839,    828.9,   0.3320,  34.4680,2,  34.4710,2,    194.9,2,    196.8,2,  -999.00,9,  -999.00,9,  -999.00,  -999.00,9, -999.000,9,   0.2946
  320620070203,NBP0702,    66,  1,     11,     11,2,20070223,   0,-74.2250,-112.8700,  490,      2.0,  -1.6090,  33.8090,2,-999.0000,9,    302.9,2,   -999.0,9,    86.55,2,    27.32,2,     0.03,     2.02,2, -999.000,9,  -1.6090
  320620070203,NBP0702,    66,  1,     10,     10,2,20070223,   0,-74.2250,-112.8700,  490,     99.9,  -1.5600,  33.8440,2,  33.8470,2,    269.2,2,    267.3,2,    85.93,2,    29.47,2,     0.02,     2.15,2, -999.000,9,  -1.5621
  320620070203,NBP0702,    66,  1,      9,      9,2,20070223,   0,-74.2250,-112.8700,  490,    100.0,  -1.5480,  33.8530,2,-999.0000,9,    269.0,2,   -999.0,9,  -999.00,9,  -999.00,9,  -999.00,  -999.00,9,    1.585,2,  -1.5501
  320620070203,NBP0702,    66,  1,      8,      8,2,20070223,   0,-74.2250,-112.8700,  490,    139.9,  -1.4920,  33.9080,2,  33.9080,2,    255.6,2,    253.6,2,    85.13,2,    29.80,2,     0.03,     2.17,2, -999.000,9,  -1.4951
  320620070203,NBP0702,    66,  1,      7,      7,2,20070223,   0,-74.2250,-112.8700,  490,    139.9,  -1.4920,  33.9090,2,-999.0000,9,    255.3,2,   -999.0,9,  -999.00,9,  -999.00,9,  -999.00,  -999.00,9,    0.755,2,  -1.4951
  320620070203,NBP0702,    66,  1,      6,      6,2,20070223,   0,-74.2250,-112.8700,  490,    249.4,  -1.2210,  34.0110,2,  34.0120,2,    243.2,2,    242.6,2,    85.90,2,    30.20,2,     0.02,     2.21,2, -999.000,9,  -1.2274
  320620070203,NBP0702,    66,  1,      5,      5,2,20070223,   0,-74.2250,-112.8700,  490,    279.8,  -1.3640,  34.0360,2,  34.0360,2,    252.4,2,    252.7,2,    84.62,2,    30.22,2,     0.05,     2.20,2, -999.000,9,  -1.3710
  320620070203,NBP0702,    66,  1,      4,      4,2,20070223,   0,-74.2250,-112.8700,  490,    279.8,  -1.5100,  34.0210,2,-999.0000,9,    257.7,2,   -999.0,9,  -999.00,9,  -999.00,9,  -999.00,  -999.00,9,    1.647,2,  -1.5166
  320620070203,NBP0702,    66,  1,      3,      3,2,20070223,   0,-74.2250,-112.8700,  490,    319.8,  -1.0980,  34.0940,2,  34.0960,2,    240.4,2,    239.2,2,    89.16,2,    31.08,2,     0.01,     2.21,2, -999.000,9,  -1.1069
  320620070203,NBP0702,    66,  1,      2,      2,2,20070223,   0,-74.2250,-112.8700,  490,    319.8,  -1.0970,  34.0940,2,-999.0000,9,    240.3,2,   -999.0,9,  -999.00,9,  -999.00,9,  -999.00,  -999.00,9,    1.220,2,  -1.1059
  320620070203,NBP0702,    66,  1,      1,      1,2,20070223,   0,-74.2250,-112.8700,  490,    480.0,  -0.0190,  34.3550,2,  34.3530,2,    200.0,2,    199.9,2,    99.68,2,    31.92,2,     0.00,     2.27,2, -999.000,9,  -0.0376
  320620070203,NBP0702,    67,  1,     13,     13,2,20070223,   0,-74.2280,-112.5290, 1216,     50.1,  -1.6380,  33.8090,2,-999.0000,9,    301.0,2,   -999.0,9,    90.97,2,    28.27,2,     0.03,     1.96,2, -999.000,9,  -1.6390
  320620070203,NBP0702,    67,  1,     12,     12,2,20070223,   0,-74.2280,-112.5290, 1216,    220.5,  -1.4350,  33.9540,2,  33.9530,2,    252.3,2,    253.0,2,    86.34,2,    30.41,2,     0.05,     2.14,2, -999.000,9,  -1.4402
  320620070203,NBP0702,    67,  1,     11,     11,2,20070223,   0,-74.2280,-112.5290, 1216,    280.4,  -0.8650,  34.0780,2,  34.0840,2,    225.6,2,    222.8,2,    94.56,2,    31.41,2,     0.00,     2.21,2, -999.000,9,  -0.8732
  320620070203,NBP0702,    67,  1,     10,     10,2,20070223,   0,-74.2280,-112.5290, 1216,    280.4,  -0.8720,  34.0780,2,-999.0000,9,    224.7,2,   -999.0,9,  -999.00,9,  -999.00,9,  -999.00,  -999.00,9,    0.903,2,  -0.8802
  320620070203,NBP0702,    67,  1,      9,      9,2,20070223,   0,-74.2280,-112.5290, 1216,    320.0,  -0.6630,  34.1330,2,  34.1350,2,    216.9,2,    221.9,2,    93.84,2,    31.28,2,     0.00,     2.20,2, -999.000,9,  -0.6731
  320620070203,NBP0702,    67,  1,      8,      8,2,20070223,   0,-74.2280,-112.5290, 1216,    320.1,  -0.6720,  34.1300,2,-999.0000,9,    217.1,2,   -999.0,9,  -999.00,9,  -999.00,9,  -999.00,  -999.00,9,    1.501,2,  -0.6821
  320620070203,NBP0702,    67,  1,      7,      7,2,20070223,   0,-74.2280,-112.5290, 1216,    360.1,  -1.0690,  34.1430,2,-999.0000,9,    239.8,2,   -999.0,9,  -999.00,9,  -999.00,9,  -999.00,  -999.00,9,    1.336,2,  -1.0792
  320620070203,NBP0702,    67,  1,      6,      6,2,20070223,   0,-74.2280,-112.5290, 1216,    360.2,  -1.0630,  34.1450,2,  34.1420,2,    239.7,2,    239.6,2,    90.75,2,    31.13,2,     0.00,     2.18,2, -999.000,9,  -1.0733
  320620070203,NBP0702,    67,  1,      5,      5,2,20070223,   0,-74.2280,-112.5290, 1216,    440.0,  -0.6060,  34.2560,2,  34.2580,2,    217.1,2,    215.9,2,    97.19,2,    31.57,2,     0.00,     2.24,2, -999.000,9,  -0.6207
  320620070203,NBP0702,    67,  1,      4,      4,2,20070223,   0,-74.2280,-112.5290, 1216,    440.0,  -0.6150,  34.2500,2,-999.0000,9,    218.0,2,   -999.0,9,  -999.00,9,  -999.00,9,  -999.00,  -999.00,9,    0.927,2,  -0.6296
  320620070203,NBP0702,    67,  1,      3,      3,2,20070223,   0,-74.2280,-112.5290, 1216,    800.4,   0.4180,  34.5140,2,  34.5190,2,    193.9,2,    192.8,2,   104.08,2,    32.49,2,     0.00,     2.29,2, -999.000,9,   0.3815
  320620070203,NBP0702,    67,  1,      2,      2,2,20070223,   0,-74.2280,-112.5290, 1216,    800.4,   0.4180,  34.5140,2,-999.0000,9,    194.0,2,   -999.0,9,  -999.00,9,  -999.00,9,  -999.00,  -999.00,9,    0.449,2,   0.3815
  320620070203,NBP0702,    67,  1,      1,      1,2,20070223,   0,-74.2280,-112.5290, 1216,   1205.8,   0.6040,  34.5700,2,  34.5710,2,    191.5,2,    190.7,2,   102.41,2,    31.87,2,     0.00,     2.30,2, -999.000,9,   0.5428
  320620070203,NBP0702,    68,  1,      9,      9,2,20070223,   0,-74.2300,-112.1920, 1011,      2.0,  -1.6670,  33.4410,2,  33.4560,2,    307.7,2,    306.0,2,    83.46,2,    24.54,2,     0.07,     1.75,2, -999.000,9,  -1.6670
  320620070203,NBP0702,    68,  1,      8,      8,2,20070223,   0,-74.2300,-112.1920, 1011,      2.0,  -1.6660,  33.4410,2,-999.0000,9,    308.0,2,   -999.0,9,  -999.00,9,  -999.00,9,  -999.00,  -999.00,9,    2.238,2,  -1.6660
  320620070203,NBP0702,    68,  1,      7,      7,2,20070223,   0,-74.2300,-112.1920, 1011,    149.9,  -1.4930,  33.8610,2,  33.8660,2,    258.5,2,    255.7,2,    90.72,2,    30.36,2,     0.02,     2.09,2, -999.000,9,  -1.4963
  320620070203,NBP0702,    68,  1,      6,      6,2,20070223,   0,-74.2300,-112.1920, 1011,    149.9,  -1.4930,  33.8610,2,-999.0000,9,    258.5,2,   -999.0,9,  -999.00,9,  -999.00,9,  -999.00,  -999.00,9,    1.386,2,  -1.4963
  320620070203,NBP0702,    68,  1,      5,      5,2,20070223,   0,-74.2300,-112.1920, 1011,    380.0,  -0.9860,  34.1870,2,-999.0000,9,    235.6,2,   -999.0,9,  -999.00,9,  -999.00,9,  -999.00,  -999.00,9,    1.192,2,  -0.9972
  320620070203,NBP0702,    68,  1,      4,      4,2,20070223,   0,-74.2300,-112.1920, 1011,    380.1,  -0.9700,  34.1720,2,  34.1940,2,    236.3,2,    230.0,2,    94.94,2,    31.38,2,     0.00,     2.16,2, -999.000,9,  -0.9812
  320620070203,NBP0702,    68,  1,      3,      3,2,20070223,   0,-74.2300,-112.1920, 1011,    499.9,   0.0280,  34.3660,2,  34.3670,2,    197.8,2,    197.0,2,   103.76,2,    32.29,2,     0.00,     2.29,2, -999.000,9,   0.0083
  320620070203,NBP0702,    68,  1,      2,      2,2,20070223,   0,-74.2300,-112.1920, 1011,    500.0,   0.0300,  34.3660,2,-999.0000,9,    198.0,2,   -999.0,9,  -999.00,9,  -999.00,9,  -999.00,  -999.00,9,    0.475,2,   0.0103
  320620070203,NBP0702,    68,  1,      1,      1,2,20070223,   0,-74.2300,-112.1920, 1011,   1001.2,   0.5400,  34.5520,2,  34.5530,2,    192.6,2,    192.2,2,   105.88,2,    32.48,2,     0.03,     2.27,2, -999.000,9,   0.4915
  320620070203,NBP0702,    69,  1,      5,      5,2,20070223,   0,-74.2200,-111.9420,  560,      2.0,  -1.6270,  33.3860,2,-999.0000,9,    311.7,2,   -999.0,9,    81.07,2,    23.60,2,     0.09,     1.64,2, -999.000,9,  -1.6270
  320620070203,NBP0702,    69,  1,      4,      4,2,20070223,   0,-74.2200,-111.9420,  560,     20.0,  -1.6070,  33.4060,2,  33.4260,2,    309.2,2,    311.3,2,    81.31,2,    24.13,2,     0.08,     1.70,2, -999.000,9,  -1.6074
  320620070203,NBP0702,    69,  1,      3,      3,2,20070223,   0,-74.2200,-111.9420,  560,    149.8,  -1.3990,  33.8970,2,  33.9010,2,    241.2,2,    240.9,2,    96.59,2,    30.82,2,     0.02,     2.10,2, -999.000,9,  -1.4025
  320620070203,NBP0702,    69,  1,      2,      2,2,20070223,   0,-74.2200,-111.9420,  560,    274.6,  -0.9420,  34.0390,2,  34.0400,2,    223.8,2,    223.3,2,    93.95,2,    31.17,2,     0.00,     2.14,2, -999.000,9,  -0.9498
  320620070203,NBP0702,    69,  1,      1,      1,2,20070223,   0,-74.2200,-111.9420,  560,    549.5,   0.2030,  34.4530,2,  34.4550,2,    196.6,2,    195.9,2,   104.64,2,    32.54,2,     0.00,     2.23,2, -999.000,9,   0.1802
  320620070203,NBP0702,    70,  1,     10,     10,2,20070223,   0,-74.3850,-110.0250, 1348,      2.0,  -1.7950,  33.5110,2,-999.0000,9,    329.3,2,    326.6,2,    82.73,2,    22.46,2,     0.09,     1.42,2, -999.000,9,  -1.7950
  320620070203,NBP0702,    70,  1,      9,      9,2,20070223,   0,-74.3850,-110.0250, 1348,     29.8,  -1.6920,  33.7120,2,  33.7170,2,    293.9,2,    289.6,2,    88.87,2,    26.85,2,     0.05,     1.75,2, -999.000,9,  -1.6926
  320620070203,NBP0702,    70,  1,      8,      8,2,20070223,   0,-74.3850,-110.0250, 1348,    129.9,  -1.3280,  33.8910,2,-999.0000,9,    226.1,2,   -999.0,9,  -999.00,9,  -999.00,9,  -999.00,  -999.00,9,    0.819,2,  -1.3310
  320620070203,NBP0702,    70,  1,      7,      7,2,20070223,   0,-74.3850,-110.0250, 1348,    129.9,  -1.3330,  33.8920,2,  33.8920,2,    226.1,2,    226.7,2,    93.88,2,    31.24,2,     0.00,     2.09,2, -999.000,9,  -1.3360
  320620070203,NBP0702,    70,  1,      6,      6,2,20070223,   0,-74.3850,-110.0250, 1348,    299.8,  -0.5400,  34.1060,2,-999.0000,9,    203.4,2,    204.4,2,  -999.00,9,  -999.00,9,  -999.00,  -999.00,9,    0.528,2,  -0.5497
  320620070203,NBP0702,    70,  1,      5,      5,2,20070223,   0,-74.3850,-110.0250, 1348,    299.8,  -0.5440,  34.1040,2,  34.1080,2,    203.5,2,    204.7,2,    98.87,2,    31.77,2,     0.00,     2.13,2, -999.000,9,  -0.5537
  320620070203,NBP0702,    70,  1,      4,      4,2,20070223,   0,-74.3850,-110.0250, 1348,    749.8,   1.1440,  34.6940,2,  34.6970,2,    183.0,2,    182.4,2,   108.58,2,    32.56,2,     0.00,     2.15,2, -999.000,9,   1.1055
  320620070203,NBP0702,    70,  1,      3,      3,2,20070223,   0,-74.3850,-110.0250, 1348,    749.9,   1.1450,  34.6940,2,-999.0000,9,    182.9,2,   -999.0,9,  -999.00,9,  -999.00,9,  -999.00,  -999.00,9,    0.110,2,   1.1064
  320620070203,NBP0702,    70,  1,      2,      2,2,20070223,   0,-74.3850,-110.0250, 1348,   1099.7,   1.1620,  34.7070,2,  34.7080,2,    182.9,2,   -999.0,9,  -999.00,9,  -999.00,9,  -999.00,  -999.00,9, -999.000,9,   1.1020
  320620070203,NBP0702,    70,  1,      1,      1,2,20070223,   0,-74.3850,-110.0250, 1348,   1337.9,   1.1770,  34.7080,2,  34.7090,2,    183.2,2,    182.9,2,   110.03,2,    32.57,2,     0.00,     2.17,2, -999.000,9,   1.1012