BOTTLE,202201227CCHSIOENA
EXPOCODE,SECT_ID,STNNBR,CASTNO,SAMPNO,BTLNBR,BTLNBR_FLAG_W,DATE,TIME,LATITUDE,LONGITUDE,DEPTH,CTDPRS,CTDTMP,CTDSAL,CTDSAL_FLAG_W,SALNTY,SALNTY_FLAG_W,CTDOXY,CTDOXY_FLAG_W,OXYGEN,OXYGEN_FLAG_W,SILCAT,SILCAT_FLAG_W,NITRAT,NITRAT_FLAG_W,NITRIT,PHSPHT,PHSPHT_FLAG_W,CFC-12,CFC-12_FLAG_W,THETA
,,,,,,,,,,,METERS,DBAR,ITS-90,PSS-78,,PSS-78,,UMOL/KG,,UMOL/KG,,UMOL/KG,,UMOL/KG,,UMOL/KG,UMOL/KG,,PMOL/KG,,DEG C
  320620070203,NBP0702,   136,  1,     13,     13,2,20070311,   0,-71.5760,-116.1990,  489,      5.0,  -1.4670,  32.7640,2,  32.7600,2,    348.8,2,   -999.0,9,    54.51,2,    21.79,2,     0.13,     1.61,2, -999.000,9,  -1.4671
  320620070203,NBP0702,   136,  1,     12,     12,2,20070311,   0,-71.5760,-116.1990,  489,     29.5,  -1.6560,  33.2740,2,-999.0000,9,    320.3,2,   -999.0,9,  -999.00,9,  -999.00,9,  -999.00,  -999.00,9,    2.858,2,  -1.6565
  320620070203,NBP0702,   136,  1,     11,     11,2,20070311,   0,-71.5760,-116.1990,  489,     29.6,  -1.6540,  33.3060,2,-999.0000,9,    322.6,2,    321.9,2,    61.64,2,    25.51,2,     0.13,     1.88,2, -999.000,9,  -1.6545
  320620070203,NBP0702,   136,  1,     10,     10,2,20070311,   0,-71.5760,-116.1990,  489,     99.7,  -1.6460,  33.9710,2,-999.0000,9,    278.2,2,   -999.0,9,  -999.00,9,  -999.00,9,  -999.00,  -999.00,9,    2.196,2,  -1.6480
  320620070203,NBP0702,   136,  1,      9,      9,2,20070311,   0,-71.5760,-116.1990,  489,    100.0,  -1.6510,  33.9630,2,  33.9580,2,    278.2,2,    280.0,2,    70.36,2,    29.55,2,     0.17,     2.16,2, -999.000,9,  -1.6530
  320620070203,NBP0702,   136,  1,      8,      8,2,20070311,   0,-71.5760,-116.1990,  489,    174.9,  -1.5020,  34.1120,2,  34.1100,2,    260.9,2,    261.8,2,    86.10,2,    30.45,2,     0.02,     2.18,2, -999.000,9,  -1.5060
  320620070203,NBP0702,   136,  1,      7,      7,2,20070311,   0,-71.5760,-116.1990,  489,    174.9,  -1.5030,  34.1120,2,-999.0000,9,    261.3,2,   -999.0,9,  -999.00,9,  -999.00,9,  -999.00,  -999.00,9,    1.695,2,  -1.5070
  320620070203,NBP0702,   136,  1,      6,      6,2,20070311,   0,-71.5760,-116.1990,  489,    319.6,  -0.4470,  34.3040,2,-999.0000,9,    217.7,2,   -999.0,9,    93.33,2,    32.08,2,     0.00,     2.24,2, -999.000,9,  -0.4578
  320620070203,NBP0702,   136,  1,      5,      5,2,20070311,   0,-71.5760,-116.1990,  489,    321.0,  -0.4580,  34.3020,2,-999.0000,9,    217.9,2,   -999.0,9,  -999.00,9,  -999.00,9,  -999.00,  -999.00,9,    0.952,2,  -0.4688
  320620070203,NBP0702,   136,  1,      4,      4,2,20070311,   0,-71.5760,-116.1990,  489,    438.8,   0.9680,  34.7110,2,-999.0000,9,    192.9,2,   -999.0,9,  -999.00,9,  -999.00,9,  -999.00,  -999.00,9,    0.135,2,   0.9472
  320620070203,NBP0702,   136,  1,      3,      3,2,20070311,   0,-71.5760,-116.1990,  489,    439.9,   0.9680,  34.7110,2,-999.0000,9,    192.9,2,    192.0,2,  -999.00,9,  -999.00,9,  -999.00,  -999.00,9, -999.000,9,   0.9472
  320620070203,NBP0702,   136,  1,      2,      2,2,20070311,   0,-71.5760,-116.1990,  489,    440.5,   0.9680,  34.7120,2,  34.7110,2,    193.1,2,    191.9,2,   111.30,2,    32.07,2,     0.00,     2.26,2, -999.000,9,   0.9472
  320620070203,NBP0702,   136,  1,      1,      1,2,20070311,   0,-71.5760,-116.1990,  489,    478.7,   0.8950,  34.7200,2,  34.7190,2,    196.0,2,    195.8,2,   108.43,2,    31.88,2,     0.00,     2.23,2, -999.000,9,   0.8725
  320620070203,NBP0702,   137,  1,      7,      7,2,20070312,   0,-71.5440,-114.9930,  430,      4.7,  -1.5690,  32.7080,2,  32.7780,2,    343.3,2,   -999.0,9,    55.67,2,    21.81,2,     0.12,     1.57,2, -999.000,9,  -1.5691
  320620070203,NBP0702,   137,  1,      6,      6,2,20070312,   0,-71.5440,-114.9930,  430,    101.4,  -1.6590,  33.9450,2,  33.9530,2,    278.4,2,    279.4,2,    72.18,2,    29.67,2,     0.13,     2.12,2, -999.000,9,  -1.6611
  320620070203,NBP0702,   137,  1,      5,      5,2,20070312,   0,-71.5440,-114.9930,  430,    200.5,  -1.4250,  34.1140,2,  34.1130,2,    259.2,2,    259.5,2,    86.67,2,    30.68,2,     0.00,     2.20,2, -999.000,9,  -1.4298
  320620070203,NBP0702,   137,  1,      4,      4,2,20070312,   0,-71.5440,-114.9930,  430,    299.7,  -1.0220,  34.2110,2,  34.2090,2,    240.0,2,    240.7,2,    90.09,2,    30.96,2,     0.00,     2.23,2, -999.000,9,  -1.0305
  320620070203,NBP0702,   137,  1,      3,      3,2,20070312,   0,-71.5440,-114.9930,  430,    399.1,   0.2220,  34.4750,2,  34.4740,2,    196.6,2,    196.6,2,   102.27,2,    32.41,2,     0.00,     2.29,2, -999.000,9,   0.2059
  320620070203,NBP0702,   137,  1,      2,      2,2,20070312,   0,-71.5440,-114.9930,  430,    419.5,   0.2270,  34.4770,2,  34.4770,2,    196.9,2,    198.1,2,   102.74,2,    32.27,2,     0.00,     2.30,2, -999.000,9,   0.2100
  320620070203,NBP0702,   137,  1,      1,      1,2,20070312,   0,-71.5440,-114.9930,  430,    419.6,   0.2260,  34.4770,2,-999.0000,9,    196.7,2,    196.5,2,  -999.00,9,  -999.00,9,  -999.00,  -999.00,9, -999.000,9,   0.2090
  320620070203,NBP0702,   138,  1,      9,      9,2,20070312,   0,-71.4640,-114.9740, 1049,      4.5,  -1.4470,  32.8480,2,  32.8850,2,    344.3,2,    348.0,2,    58.05,2,    22.19,2,     0.12,     1.60,2, -999.000,9,  -1.4471
  320620070203,NBP0702,   138,  1,      8,      8,2,20070312,   0,-71.4640,-114.9740, 1049,     50.0,  -1.7200,  33.8870,2,-999.0000,9,    281.8,2,    285.4,2,    72.76,2,    29.48,2,     0.14,     2.13,2, -999.000,9,  -1.7210
  320620070203,NBP0702,   138,  1,      7,      7,2,20070312,   0,-71.4640,-114.9740, 1049,    150.2,  -1.4910,  34.0820,2,  34.0860,2,    262.8,2,    264.1,2,    81.90,2,    30.18,2,     0.00,     2.19,2, -999.000,9,  -1.4944
  320620070203,NBP0702,   138,  1,      6,      6,2,20070312,   0,-71.4640,-114.9740, 1049,    300.3,  -0.5590,  34.2780,2,-999.0000,9,    224.0,2,    225.9,2,    89.61,2,    31.62,2,     0.00,     2.27,2, -999.000,9,  -0.5687
  320620070203,NBP0702,   138,  1,      5,      5,2,20070312,   0,-71.4640,-114.9740, 1049,    400.4,   1.4340,  34.6540,2,  34.6520,2,    177.4,2,    178.1,2,    87.55,2,    32.76,2,     0.00,     2.29,2, -999.000,9,   1.4137
  320620070203,NBP0702,   138,  1,      4,      4,2,20070312,   0,-71.4640,-114.9740, 1049,    499.9,   1.6210,  34.7210,2,  34.7220,2,    177.3,2,    178.0,2,    89.65,2,    31.89,2,     0.00,     2.26,2, -999.000,9,   1.5944
  320620070203,NBP0702,   138,  1,      3,      3,2,20070312,   0,-71.4640,-114.9740, 1049,    801.0,   1.1860,  34.7260,2,  34.7230,2,    188.8,2,    188.8,2,   105.58,2,    32.06,2,     0.00,     2.24,2, -999.000,9,   1.1442
  320620070203,NBP0702,   138,  1,      2,      2,2,20070312,   0,-71.4640,-114.9740, 1049,   1001.6,   0.8140,  34.7160,2,  34.7150,2,    197.3,2,   -999.0,9,  -999.00,9,  -999.00,9,  -999.00,  -999.00,9, -999.000,9,   0.7630
  320620070203,NBP0702,   138,  1,      1,      1,2,20070312,   0,-71.4640,-114.9740, 1049,   1039.4,   0.8020,  34.7150,2,  34.7150,2,    197.7,2,    198.6,2,   115.11,2,    31.79,2,     0.00,     2.21,2, -999.000,9,   0.7488
  320620070203,NBP0702,   139,  1,     13,     13,2,20070312,   0,-71.5090,-114.0050,  579,      9.1,  -1.7300,  32.8030,2,-999.0000,9,    346.6,2,   -999.0,9,    57.95,2,    21.91,2,     0.11,     1.60,2, -999.000,9,  -1.7302
  320620070203,NBP0702,   139,  1,     12,     12,2,20070312,   0,-71.5090,-114.0050,  579,     32.5,  -1.7640,  33.3610,2,-999.0000,9,    317.9,2,    320.7,2,    68.80,2,    26.19,2,     0.11,     1.93,2, -999.000,9,  -1.7646
  320620070203,NBP0702,   139,  1,     11,     11,2,20070312,   0,-71.5090,-114.0050,  579,     68.7,  -1.7160,  33.8260,2,-999.0000,9,    287.8,2,   -999.0,9,  -999.00,9,  -999.00,9,  -999.00,  -999.00,9,    2.410,2,  -1.7173
  320620070203,NBP0702,   139,  1,     10,     10,2,20070312,   0,-71.5090,-114.0050,  579,     69.2,  -1.7160,  33.8270,2,  33.8220,2,    288.2,2,    289.9,2,    70.66,2,    28.72,2,     0.14,     2.13,2, -999.000,9,  -1.7173
  320620070203,NBP0702,   139,  1,      9,      9,2,20070312,   0,-71.5090,-114.0050,  579,    140.4,  -1.5500,  34.0420,2,  34.0350,2,    265.9,2,    267.4,2,    83.63,2,    30.32,2,     0.16,     2.19,2, -999.000,9,  -1.5531
  320620070203,NBP0702,   139,  1,      8,      8,2,20070312,   0,-71.5090,-114.0050,  579,    140.6,  -1.5500,  34.0410,2,-999.0000,9,    266.2,2,   -999.0,9,  -999.00,9,  -999.00,9,  -999.00,  -999.00,9,    1.955,2,  -1.5531
  320620070203,NBP0702,   139,  1,      7,      7,2,20070312,   0,-71.5090,-114.0050,  579,    240.4,  -1.3700,  34.1520,2,  34.1500,2,    254.4,2,    253.6,2,    88.67,2,    30.67,2,     0.00,     2.21,2, -999.000,9,  -1.3759
  320620070203,NBP0702,   139,  1,      6,      6,2,20070312,   0,-71.5090,-114.0050,  579,    240.8,  -1.3720,  34.1530,2,-999.0000,9,    253.9,2,   -999.0,9,  -999.00,9,  -999.00,9,  -999.00,  -999.00,9,    1.608,2,  -1.3779
  320620070203,NBP0702,   139,  1,      5,      5,2,20070312,   0,-71.5090,-114.0050,  579,    420.0,   0.6230,  34.5690,2,  34.5660,2,    192.2,2,    192.2,2,   101.78,2,    32.47,2,     0.00,     2.30,2, -999.000,9,   0.6045
  320620070203,NBP0702,   139,  1,      4,      4,2,20070312,   0,-71.5090,-114.0050,  579,    420.2,   0.5570,  34.5550,2,-999.0000,9,    192.4,2,   -999.0,9,  -999.00,9,  -999.00,9,  -999.00,  -999.00,9,    0.457,2,   0.5387
  320620070203,NBP0702,   139,  1,      3,      3,2,20070312,   0,-71.5090,-114.0050,  579,    500.5,   1.0700,  34.7240,2,-999.0000,9,    191.4,2,   -999.0,9,  -999.00,9,  -999.00,9,  -999.00,  -999.00,9, -999.000,9,   1.0456
  320620070203,NBP0702,   139,  1,      2,      2,2,20070312,   0,-71.5090,-114.0050,  579,    500.6,   1.0710,  34.7230,2,  34.7230,2,    191.4,2,    191.0,2,   107.48,2,    31.89,2,     0.00,     2.26,2, -999.000,9,   1.0466
  320620070203,NBP0702,   139,  1,      1,      1,2,20070312,   0,-71.5090,-114.0050,  579,    569.2,   0.9400,  34.7200,2,  34.7170,2,    194.9,2,    193.9,2,   110.34,2,    31.61,2,     0.00,     2.28,2, -999.000,9,   0.9125
  320620070203,NBP0702,   140,  1,      8,      8,2,20070312,   0,-71.4480,-113.3330,  635,     10.0,  -1.5890,  32.5980,2,-999.0000,9,    357.7,2,   -999.0,9,    51.18,2,    19.34,2,     0.10,     1.42,2, -999.000,9,  -1.5892
  320620070203,NBP0702,   140,  1,      7,      7,2,20070312,   0,-71.4480,-113.3330,  635,     40.0,  -1.7350,  33.3610,2,  33.5460,2,    311.4,2,    310.2,2,    66.30,2,    26.66,2,     0.11,     2.01,2, -999.000,9,  -1.7357
  320620070203,NBP0702,   140,  1,      6,      6,2,20070312,   0,-71.4480,-113.3330,  635,    101.0,  -1.6890,  33.9160,2,  33.9260,2,    281.7,2,    281.4,2,    72.28,2,    29.58,2,     0.14,     2.12,2, -999.000,9,  -1.6910
  320620070203,NBP0702,   140,  1,      5,      5,2,20070312,   0,-71.4480,-113.3330,  635,    220.0,  -1.2520,  34.1460,2,  34.1530,2,    255.5,2,    253.3,2,    83.42,2,    31.14,2,     0.00,     2.21,2, -999.000,9,  -1.2576
  320620070203,NBP0702,   140,  1,      4,      4,2,20070312,   0,-71.4480,-113.3330,  635,    319.0,  -0.2750,  34.3320,2,  34.3430,2,    210.5,2,    209.0,2,    98.00,2,    31.91,2,     0.00,     2.29,2, -999.000,9,  -0.2862
  320620070203,NBP0702,   140,  1,      3,      3,2,20070312,   0,-71.4480,-113.3330,  635,    420.0,   1.1770,  34.6760,2,  34.6760,2,    186.2,2,    185.3,2,   100.80,2,    32.19,2,     0.00,     2.29,2, -999.000,9,   1.1565
  320620070203,NBP0702,   140,  1,      2,      2,2,20070312,   0,-71.4480,-113.3330,  635,    580.0,   1.1490,  34.7250,2,  34.7200,2,    190.3,2,    189.4,2,   105.58,2,    32.27,2,     0.00,     2.24,2, -999.000,9,   1.1200
  320620070203,NBP0702,   140,  1,      1,      1,2,20070312,   0,-71.4480,-113.3330,  635,    625.0,   1.0130,  34.7220,2,  34.7060,2,    193.0,2,    191.9,2,   110.34,2,    31.80,2,     0.00,     2.20,2, -999.000,9,   0.9822
  320620070203,NBP0702,   141,  1,      9,      9,2,20070312,   0,-71.3120,-112.1730, 1121,     19.0,  -1.6790,  32.7700,2,-999.0000,9,    335.7,2,   -999.0,9,    61.90,2,    22.58,2,     0.10,     1.62,2, -999.000,9,  -1.6793
  320620070203,NBP0702,   141,  1,      8,      8,2,20070312,   0,-71.3120,-112.1730, 1121,     50.0,  -1.7460,  33.8410,2,-999.0000,9,    285.9,2,   -999.0,9,    74.42,2,    29.03,2,     0.11,     2.16,2, -999.000,9,  -1.7469
  320620070203,NBP0702,   141,  1,      7,      7,2,20070312,   0,-71.3120,-112.1730, 1121,     99.0,  -1.7370,  33.9180,2,  33.9150,2,    279.6,2,    280.9,2,    77.48,2,    29.83,2,     0.07,     2.15,2, -999.000,9,  -1.7389
  320620070203,NBP0702,   141,  1,      6,      6,2,20070312,   0,-71.3120,-112.1730, 1121,    180.0,  -1.4100,  34.0740,2,-999.0000,9,    260.0,2,   -999.0,9,    86.61,2,    30.92,2,     0.03,     2.23,2, -999.000,9,  -1.4142
  320620070203,NBP0702,   141,  1,      5,      5,2,20070312,   0,-71.3120,-112.1730, 1121,    420.0,   1.3590,  34.6950,2,-999.0000,9,    180.9,2,   -999.0,9,   102.28,2,    32.27,2,     0.00,     2.30,2, -999.000,9,   1.3379
  320620070203,NBP0702,   141,  1,      4,      4,2,20070312,   0,-71.3120,-112.1730, 1121,    600.0,   1.2360,  34.7280,2,  34.7280,2,    186.5,2,    187.5,2,   108.94,2,    32.17,2,     0.00,     2.31,2, -999.000,9,   1.2054
  320620070203,NBP0702,   141,  1,      3,      3,2,20070312,   0,-71.3120,-112.1730, 1121,    800.0,   1.0460,  34.7230,2,  34.7220,2,    190.8,2,    191.6,2,   114.19,2,    32.31,2,     0.00,     2.29,2, -999.000,9,   1.0051
  320620070203,NBP0702,   141,  1,      2,      2,2,20070312,   0,-71.3120,-112.1730, 1121,   1049.6,   0.8810,  34.7180,2,  34.7180,2,    195.4,2,    196.7,2,  -999.00,9,  -999.00,9,  -999.00,  -999.00,9, -999.000,9,   0.8265
  320620070203,NBP0702,   141,  1,      1,      1,2,20070312,   0,-71.3120,-112.1730, 1121,   1111.0,   0.7850,  34.7150,2,  34.7100,2,    196.0,2,    198.8,2,   118.49,2,    32.16,2,     0.00,     2.32,2, -999.000,9,   0.7277
  320620070203,NBP0702,   142,  1,     11,     11,2,20070312,   0,-71.4150,-112.1680,  474,      4.4,  -1.5440,  32.6390,2,-999.0000,9,    351.9,2,   -999.0,9,    54.18,2,    19.14,2,     0.11,     1.31,2, -999.000,9,  -1.5441
  320620070203,NBP0702,   142,  1,     10,     10,2,20070312,   0,-71.4150,-112.1680,  474,     14.3,  -1.5580,  32.6750,2,  33.0320,2,    311.8,2,    337.8,3,    60.27,2,    21.80,2,     0.11,     1.57,2, -999.000,9,  -1.5583
  320620070203,NBP0702,   142,  1,      9,      9,2,20070312,   0,-71.4150,-112.1680,  474,     75.2,  -1.7540,  33.8880,2,  33.8810,2,    281.9,2,    283.5,2,    74.32,2,    29.04,2,     0.10,     2.14,2, -999.000,9,  -1.7554
  320620070203,NBP0702,   142,  1,      8,      8,2,20070312,   0,-71.4150,-112.1680,  474,     75.5,  -1.7540,  33.8890,2,-999.0000,9,    281.9,2,   -999.0,9,  -999.00,9,  -999.00,9,  -999.00,  -999.00,9, -999.000,9,  -1.7554
  320620070203,NBP0702,   142,  1,      7,      7,2,20070312,   0,-71.4150,-112.1680,  474,    169.2,  -1.4230,  34.0600,2,-999.0000,9,    261.1,2,   -999.0,9,  -999.00,9,  -999.00,9,  -999.00,  -999.00,9,    1.909,2,  -1.4270
  320620070203,NBP0702,   142,  1,      6,      6,2,20070312,   0,-71.4150,-112.1680,  474,    169.4,  -1.4230,  34.0600,2,  34.0480,2,    261.1,2,    263.3,2,    81.47,2,    30.20,2,     0.08,     2.19,2, -999.000,9,  -1.4270
  320620070203,NBP0702,   142,  1,      5,      5,2,20070312,   0,-71.4150,-112.1680,  474,    300.5,  -0.1610,  34.3400,2,  34.3580,2,    212.2,2,    213.5,2,    92.21,2,    31.89,2,     0.00,     2.31,2, -999.000,9,  -0.1718
  320620070203,NBP0702,   142,  1,      4,      4,2,20070312,   0,-71.4150,-112.1680,  474,    300.6,  -0.1610,  34.3400,2,-999.0000,9,    212.2,2,   -999.0,9,  -999.00,9,  -999.00,9,  -999.00,  -999.00,9,    1.040,2,  -0.1718
  320620070203,NBP0702,   142,  1,      3,      3,2,20070312,   0,-71.4150,-112.1680,  474,    399.9,   1.0980,  34.6770,2,  34.6810,2,    183.9,2,    184.5,2,   104.18,2,    31.97,2,     0.00,     2.32,2, -999.000,9,   1.0788
  320620070203,NBP0702,   142,  1,      2,      2,2,20070312,   0,-71.4150,-112.1680,  474,    400.2,   1.0980,  34.6770,2,-999.0000,9,    183.9,2,   -999.0,9,  -999.00,9,  -999.00,9,  -999.00,  -999.00,9,    0.225,2,   1.0788
  320620070203,NBP0702,   142,  1,      1,      1,2,20070312,   0,-71.4150,-112.1680,  474,    464.3,   1.1570,  34.7230,2,  34.7210,2,    185.9,2,    187.5,2,   107.99,2,    31.87,2,     0.00,     2.30,2,    0.077,2,   1.1342
  320620070203,NBP0702,   143,  1,     11,     11,2,20070312,   0,-71.3180,-110.9980,  479,      2.0,  -1.5130,  32.6140,2,-999.0000,9,    350.6,2,    356.1,2,    47.78,2,    18.27,2,     0.11,     1.27,2, -999.000,9,  -1.5130
  320620070203,NBP0702,   143,  1,     10,     10,2,20070312,   0,-71.3180,-110.9980,  479,     20.4,  -1.5300,  32.7260,2,-999.0000,9,    344.9,2,   -999.0,9,    57.62,2,    21.72,2,     0.11,     1.57,2, -999.000,9,  -1.5304
  320620070203,NBP0702,   143,  1,      9,      9,2,20070312,   0,-71.3180,-110.9980,  479,     50.2,  -1.7000,  33.8170,2,-999.0000,9,    288.2,2,   -999.0,9,    70.61,2,    27.89,2,     0.11,     2.12,2, -999.000,9,  -1.7010
  320620070203,NBP0702,   143,  1,      8,      8,2,20070312,   0,-71.3180,-110.9980,  479,     70.7,  -1.7350,  33.8830,2,  33.8770,2,    281.2,2,    283.5,2,    73.18,2,    28.66,2,     0.10,     2.15,2, -999.000,9,  -1.7364
  320620070203,NBP0702,   143,  1,      7,      7,2,20070312,   0,-71.3180,-110.9980,  479,    130.5,  -1.5480,  33.9990,2,-999.0000,9,    268.9,2,    270.6,2,    75.18,2,    29.81,2,     0.09,     2.21,2, -999.000,9,  -1.5508
  320620070203,NBP0702,   143,  1,      6,      6,2,20070312,   0,-71.3180,-110.9980,  479,    214.6,  -1.0410,  34.1610,2,-999.0000,9,    253.1,2,    252.1,2,    76.02,2,    30.58,2,     0.08,     2.23,2, -999.000,9,  -1.0469
  320620070203,NBP0702,   143,  1,      5,      5,2,20070312,   0,-71.3180,-110.9980,  479,    350.1,   0.4280,  34.4970,2,  34.5040,2,    197.8,2,    198.6,2,    97.06,2,    32.08,2,     0.00,     2.31,2, -999.000,9,   0.4134
  320620070203,NBP0702,   143,  1,      4,      4,2,20070312,   0,-71.3180,-110.9980,  479,    412.5,   1.1300,  34.6840,2,  34.6780,2,    185.5,2,    185.0,2,   103.23,2,    31.79,2,     0.00,     2.28,2, -999.000,9,   1.1100
  320620070203,NBP0702,   143,  1,      3,      3,2,20070312,   0,-71.3180,-110.9980,  479,    412.6,   1.1200,  34.6790,2,  34.6760,2,    185.7,2,   -999.0,9,  -999.00,9,  -999.00,9,  -999.00,  -999.00,9, -999.000,9,   1.1001
  320620070203,NBP0702,   143,  1,      2,      2,2,20070312,   0,-71.3180,-110.9980,  479,    468.7,   1.2410,  34.7160,2,  34.7160,2,    185.2,2,   -999.0,9,  -999.00,9,  -999.00,9,  -999.00,  -999.00,9, -999.000,9,   1.2176
  320620070203,NBP0702,   143,  1,      1,      1,2,20070312,   0,-71.3180,-110.9980,  479,    468.9,   1.2400,  34.7170,2,  34.7160,2,    185.3,2,    184.0,2,   105.14,2,    31.58,2,     0.00,     2.26,2, -999.000,9,   1.2166