BOTTLE,20220121SIOCCHENA
EXPOCODE,SECT_ID,STNNBR,CASTNO,SAMPNO,BTLNBR,BTLNBR_FLAG_W,DATE,TIME,LATITUDE,LONGITUDE,DEPTH,CTDPRS,CTDTMP,CTDSAL,CTDSAL_FLAG_W,SALNTY,SALNTY_FLAG_W,OXYGEN,OXYGEN_FLAG_W,SILCAT,SILCAT_FLAG_W,NITRAT,NITRAT_FLAG_W,PHSPHT,PHSPHT_FLAG_W,NH4,NH4_FLAG_W,CFC-11,CFC-11_FLAG_W,CFC-12,CFC-12_FLAG_W,CFC113,CFC113_FLAG_W,CCL4,CCL4_FLAG_W,TCARBN,TCARBN_FLAG_W,ALKALI,ALKALI_FLAG_W,PH_TOT,PH_TOT_FLAG_W,PH_TMP
,,,,,,,,,,,METERS,DBAR,ITS-90,PSS-78,,PSS-78,,UMOL/KG,,UMOL/KG,,UMOL/KG,,UMOL/KG,,UMOL/KG,,PMOL/KG,,PMOL/KG,,PMOL/KG,,PMOL/KG,,UMOL/KG,,UMOL/KG,,,,DEG C
  90JS20080815,ISSS08,   125,  1,      6,      6,2,20080917,   0, 75.9010, 134.3190,   55,     45.1,  -1.6000,  32.6000,2,-999.0000,9,    281.6,2,    14.00,2,     4.70,2,     0.80,2,     -999,9, -999.000,9, -999.000,9, -999.000,9, -999.000,9,   2200.0,2,   2240.7,2,   7.6100,2,    15.00
  90JS20080815,ISSS08,   125,  1,      5,      5,2,20080917,   0, 75.9010, 134.3190,   55,     30.0,  -1.6000,  32.2000,2,-999.0000,9,    325.8,2,     6.70,2,     2.60,2,     0.53,2,     -999,9, -999.000,9, -999.000,9, -999.000,9, -999.000,9,   2163.9,2,   2232.3,2,   7.7000,2,    15.00
  90JS20080815,ISSS08,   125,  1,      4,      4,2,20080917,   0, 75.9010, 134.3190,   55,     20.1,  -1.4000,  31.6000,2,  31.5980,2,    377.4,2,     3.50,2,     0.00,2,     0.28,2,     -999,9, -999.000,9, -999.000,9, -999.000,9, -999.000,9,   2093.8,2,   2208.4,2,   7.8200,2,    15.00
  90JS20080815,ISSS08,   125,  1,      3,      3,2,20080917,   0, 75.9010, 134.3190,   55,     14.9,  -1.2000,  31.1000,2,  31.0290,2,    365.2,2,     6.50,2,     0.40,2,     0.37,2,     -999,9, -999.000,9, -999.000,9, -999.000,9, -999.000,9,   2090.9,2,   2183.6,2,   7.7800,2,    15.00
  90JS20080815,ISSS08,   125,  1,      2,      2,2,20080917,   0, 75.9010, 134.3190,   55,     10.1,  -1.3000,  30.3000,2,  30.1250,2,    366.0,2,     5.30,2,     0.30,2,     0.28,2,     -999,9, -999.000,9, -999.000,9, -999.000,9, -999.000,9,   2068.5,2,   2154.9,2,   7.7900,2,    15.00
  90JS20080815,ISSS08,   125,  1,      1,      1,2,20080917,   0, 75.9010, 134.3190,   55,      3.8,   0.0000,  26.2000,2,  25.4970,2,    364.2,2,    14.60,2,     0.20,2,     0.25,2,     -999,9, -999.000,9, -999.000,9, -999.000,9, -999.000,9,   1898.6,2,   1984.5,2,   7.7600,2,    15.00
  90JS20080815,ISSS08,   126,  1,      6,      6,2,20080917,   0, 76.3660, 132.6180,   60,     49.6,  -1.5000,  33.3000,2,-999.0000,9,    286.0,2,    12.60,2,     6.90,2,     0.73,2,     -999,9, -999.000,9, -999.000,9, -999.000,9, -999.000,9,   2180.8,2,   2252.7,2,   7.6800,2,    15.00
  90JS20080815,ISSS08,   126,  1,      5,      5,2,20080917,   0, 76.3660, 132.6180,   60,     35.3,  -1.6000,  32.9000,2,-999.0000,9,    319.3,2,     7.90,2,     5.00,2,     0.57,2,     -999,9, -999.000,9, -999.000,9, -999.000,9, -999.000,9,   2155.2,2,   2244.9,2,   7.7400,2,    15.00
  90JS20080815,ISSS08,   126,  1,      4,      4,2,20080917,   0, 76.3660, 132.6180,   60,     20.1,  -1.5000,  32.1000,2,  32.0870,2,    345.3,2,     2.40,2,     0.80,2,     0.38,2,     -999,9, -999.000,9, -999.000,9, -999.000,9, -999.000,9,   2147.8,2,   2230.7,2,   7.7400,2,    15.00
  90JS20080815,ISSS08,   126,  1,      3,      3,2,20080917,   0, 76.3660, 132.6180,   60,     15.0,  -1.5000,  31.7000,2,  30.6480,2,    362.0,2,     4.90,2,     0.50,2,     0.31,2,     -999,9, -999.000,9, -999.000,9, -999.000,9, -999.000,9,   2097.9,2,   2200.1,2,   7.8000,2,    15.00
  90JS20080815,ISSS08,   126,  1,      2,      2,2,20080917,   0, 76.3660, 132.6180,   60,     10.0,  -1.2000,  31.1000,2,  30.9780,2,    396.1,2,     3.40,2,     0.00,2,     0.23,2,     -999,9, -999.000,9, -999.000,9, -999.000,9, -999.000,9,   2005.4,2,   2140.2,2,   7.9000,2,    15.00
  90JS20080815,ISSS08,   126,  1,      1,      1,2,20080917,   0, 76.3660, 132.6180,   60,      3.8,   1.5000,  18.1000,2,-999.0000,9,    375.2,2,    20.20,2,     0.00,2,     0.03,2,     -999,9, -999.000,9, -999.000,9, -999.000,9, -999.000,9,   1489.9,2,   1538.6,2,   7.7400,2,    15.00
  90JS20080815,ISSS08,   127,  1,      6,      6,2,20080917,   0, 76.5560, 130.1490,   68,     58.2,  -1.3000,  33.7000,2,-999.0000,9,    260.8,2,    12.70,2,     7.80,2,     0.76,2,     -999,9, -999.000,9, -999.000,9, -999.000,9, -999.000,9,   2205.5,2,   2269.2,2,   7.6600,2,    15.00
  90JS20080815,ISSS08,   127,  1,      5,      5,2,20080917,   0, 76.5560, 130.1490,   68,     34.9,  -1.6000,  32.9000,2,-999.0000,9,    344.8,2,     7.00,2,     4.60,2,     0.56,2,     -999,9, -999.000,9, -999.000,9, -999.000,9, -999.000,9,   2164.5,2,   2246.1,2,   7.7600,2,    15.00
  90JS20080815,ISSS08,   127,  1,      4,      4,2,20080917,   0, 76.5560, 130.1490,   68,     19.8,  -1.5000,  32.0000,2,  31.9320,2,    358.6,2,     5.60,2,     2.00,2,     0.37,2,     -999,9, -999.000,9, -999.000,9, -999.000,9, -999.000,9,   2134.3,2,   2220.6,2,   7.7900,2,    15.00
  90JS20080815,ISSS08,   127,  1,      3,      3,2,20080917,   0, 76.5560, 130.1490,   68,     15.1,  -1.3000,  31.5000,2,  31.4430,2,    380.0,2,     5.10,2,     0.50,2,     0.31,2,     -999,9, -999.000,9, -999.000,9, -999.000,9, -999.000,9,   2086.0,2,   2190.0,2,   7.8400,2,    15.00
  90JS20080815,ISSS08,   127,  1,      2,      2,2,20080917,   0, 76.5560, 130.1490,   68,      9.8,  -1.0000,  30.4000,2,  29.7440,2,    387.5,2,     3.60,2,     0.00,2,     0.25,2,     -999,9, -999.000,9, -999.000,9, -999.000,9, -999.000,9,   1985.1,2,   2108.5,2,   7.8800,2,    15.00
  90JS20080815,ISSS08,   127,  1,      1,      1,2,20080917,   0, 76.5560, 130.1490,   68,      4.1,   0.9000,  17.6000,2,  17.7540,2,    382.5,2,    20.30,2,     0.20,2,     0.06,2,     -999,9, -999.000,9, -999.000,9, -999.000,9, -999.000,9,   1464.2,2,   1519.2,2,   7.7700,2,    15.00
  90JS20080815,ISSS08,   131,  1,      6,      6,2,20080918,   0, 76.3980, 125.4730,   68,     49.6,  -1.5000,  33.1000,2,-999.0000,9,    261.4,2,     1.60,2,     2.10,2,     0.87,2,     -999,9, -999.000,9, -999.000,9, -999.000,9, -999.000,9,   -999.0,9,   2249.2,2,   7.6000,2,    15.00
  90JS20080815,ISSS08,   131,  1,      5,      5,2,20080918,   0, 76.3980, 125.4730,   68,     35.3,  -1.6000,  32.4000,2,-999.0000,9,    330.7,2,     3.10,2,     0.20,2,     0.36,2,     -999,9, -999.000,9, -999.000,9, -999.000,9, -999.000,9,   -999.0,9,   2231.4,2,   7.7300,2,    15.00
  90JS20080815,ISSS08,   131,  1,      4,      4,2,20080918,   0, 76.3980, 125.4730,   68,     19.8,  -1.5000,  31.8000,2,  31.7570,2,    367.8,2,    61.30,2,    14.70,2,     2.44,2,     -999,9, -999.000,9, -999.000,9, -999.000,9, -999.000,9,   -999.0,9,   2203.9,2,   7.8100,2,    15.00
  90JS20080815,ISSS08,   131,  1,      3,      3,2,20080918,   0, 76.3980, 125.4730,   68,     15.4,  -1.4000,  31.3000,2,  31.1330,2,    392.5,2,     2.30,2,     0.20,2,     0.96,2,     -999,9, -999.000,9, -999.000,9, -999.000,9, -999.000,9,   -999.0,9,   2168.2,2,   7.8700,2,    15.00
  90JS20080815,ISSS08,   131,  1,      2,      2,2,20080918,   0, 76.3980, 125.4730,   68,     10.0,   0.4000,  24.3000,2,  23.7590,2,    369.0,2,    29.00,2,    12.30,2,     1.01,2,     -999,9, -999.000,9, -999.000,9, -999.000,9, -999.000,9,   -999.0,9,   1812.2,2,   7.8100,2,    15.00
  90JS20080815,ISSS08,   131,  1,      1,      1,2,20080918,   0, 76.3980, 125.4730,   68,      3.8,   1.1000,  22.9000,2,  22.9160,2,    368.2,2,    37.20,2,    15.20,2,     2.14,2,     -999,9, -999.000,9, -999.000,9, -999.000,9, -999.000,9,   -999.0,9,   1780.8,2,   7.8000,2,    15.00