BOTTLE,20220121SIOCCHENA
EXPOCODE,SECT_ID,STNNBR,CASTNO,SAMPNO,BTLNBR,BTLNBR_FLAG_W,DATE,TIME,LATITUDE,LONGITUDE,DEPTH,CTDPRS,CTDTMP,CTDSAL,CTDSAL_FLAG_W,SALNTY,SALNTY_FLAG_W,OXYGEN,OXYGEN_FLAG_W,SILCAT,SILCAT_FLAG_W,NITRAT,NITRAT_FLAG_W,PHSPHT,PHSPHT_FLAG_W,NH4,NH4_FLAG_W,CFC-11,CFC-11_FLAG_W,CFC-12,CFC-12_FLAG_W,CFC113,CFC113_FLAG_W,CCL4,CCL4_FLAG_W,TCARBN,TCARBN_FLAG_W,ALKALI,ALKALI_FLAG_W,PH_TOT,PH_TOT_FLAG_W,PH_TMP
,,,,,,,,,,,METERS,DBAR,ITS-90,PSS-78,,PSS-78,,UMOL/KG,,UMOL/KG,,UMOL/KG,,UMOL/KG,,UMOL/KG,,PMOL/KG,,PMOL/KG,,PMOL/KG,,PMOL/KG,,UMOL/KG,,UMOL/KG,,,,DEG C
  90JS20080815,ISSS08,    51,  1,      5,      5,2,20080906,   0, 71.3990,-174.2000,   54,     43.5,   2.2000,  32.7000,2,-999.0000,9,    254.1,2,    13.90,2,     6.10,2,     1.79,2,     0.19,2,    6.790,2,    3.150,2,    0.410,2,    5.770,2,   2132.4,2,   2238.6,2,   7.8000,2,    15.00
  90JS20080815,ISSS08,    51,  1,      4,      4,2,20080906,   0, 71.3990,-174.2000,   54,     20.2,   4.3000,  32.4000,2,-999.0000,9,    334.6,2,     0.30,2,     0.20,2,     0.34,2,     -999,9,    6.230,2,    2.870,2,    0.380,2,    5.530,2,   1972.3,2,   2217.3,2,   8.1400,2,    15.00
  90JS20080815,ISSS08,    51,  1,      3,      3,2,20080906,   0, 71.3990,-174.2000,   54,     15.2,   4.6000,  32.1000,2,  32.1030,2,    331.2,2,     0.50,2,     0.10,2,     0.30,2,     -999,9, -999.000,9, -999.000,9, -999.000,9, -999.000,9,   1971.1,2,   2200.0,2,   8.1200,2,    15.00
  90JS20080815,ISSS08,    51,  1,      2,      2,2,20080906,   0, 71.3990,-174.2000,   54,      9.9,   4.7000,  32.1000,2,  32.0830,2,    334.4,2,     0.20,2,     0.10,2,     0.36,2,     -999,9,    6.110,2,    2.900,2,    0.360,2,    5.900,2,   1968.5,2,   2197.5,2,   8.1200,2,    15.00
  90JS20080815,ISSS08,    51,  1,      1,      1,2,20080906,   0, 71.3990,-174.2000,   54,      3.7,   4.7000,  32.1000,2,-999.0000,9,    334.6,2,     0.40,2,     0.10,2,     0.28,2,     0.85,2, -999.000,9, -999.000,9, -999.000,9, -999.000,9,   1965.6,2,   2197.4,2,   8.1200,2,    15.00
  90JS20080815,ISSS08,    52,  1,      5,      5,2,20080906,   0, 71.8000,-176.0020,   58,     48.2,  -1.6000,  32.9000,2,-999.0000,9,    301.0,2,    22.70,2,    10.50,2,     2.09,2,     -999,9,    7.910,2,    3.690,2,    0.500,2,    6.520,2,   2222.0,2,   2259.4,2,   7.6300,2,    15.00
  90JS20080815,ISSS08,    52,  1,      4,      4,2,20080906,   0, 71.8000,-176.0020,   58,     20.0,  -1.3000,  32.5000,2,  32.4410,2,    412.7,2,    17.70,2,     0.20,2,     1.40,2,     -999,9,    8.010,2,    3.690,2,    0.510,2,    6.710,2,   2096.4,2,   2229.8,2,   7.9000,2,    15.00
  90JS20080815,ISSS08,    52,  1,      3,      3,2,20080906,   0, 71.8000,-176.0020,   58,     14.8,  -0.7000,  31.6000,2,  31.4660,2,    440.4,2,     9.70,2,     0.10,2,     1.09,2,     0.92,2, -999.000,9, -999.000,9, -999.000,9, -999.000,9,   1970.0,2,   2161.4,2,   8.0800,2,    15.00
  90JS20080815,ISSS08,    52,  1,      2,      2,2,20080906,   0, 71.8000,-176.0020,   58,     10.4,   0.2000,  30.1000,2,  30.0060,2,    378.3,2,     3.10,2,     0.10,2,     0.92,2,     -999,9,    8.160,2,    3.730,2,    0.520,2,    8.430,2,   1846.8,2,   2067.8,2,   8.1400,2,    15.00
  90JS20080815,ISSS08,    52,  1,      1,      1,2,20080906,   0, 71.8000,-176.0020,   58,      4.2,   0.2000,  29.9000,2,-999.0000,9,    379.6,2,     3.40,2,     0.10,2,     0.87,2,     -999,9, -999.000,9, -999.000,9, -999.000,9, -999.000,9,   1846.6,2,   2062.8,2,   8.1300,2,    15.00
  90JS20080815,ISSS08,    54,  1,      8,      8,2,20080906,   0, 71.8400,-175.6810,   72,     56.7,  -1.7000,  33.1000,2,-999.0000,9,    266.9,2,    26.00,2,    11.00,2,     2.23,2,     -999,9,    9.050,2,    3.790,2,    0.480,2,    6.240,2,   2252.5,2,   2266.4,2,   7.5400,2,    15.00
  90JS20080815,ISSS08,    54,  1,      7,      7,2,20080906,   0, 71.8400,-175.6810,   72,     40.1,  -1.7000,  33.0000,2,-999.0000,9,    281.4,2,    23.30,2,    11.00,2,     2.24,2,     -999,9,    8.110,2,    3.790,2,    0.540,2,    6.890,2,   2241.1,2,   2257.7,2,   7.5800,2,    15.00
  90JS20080815,ISSS08,    54,  1,      6,      6,2,20080906,   0, 71.8400,-175.6810,   72,     30.0,  -1.6000,  32.9000,2,-999.0000,9,    291.8,2,    21.70,2,    10.70,2,     2.11,2,     -999,9,    8.210,2,    3.650,2,    0.500,2,    6.720,2,   2228.9,2,   2255.6,2,   7.6000,2,    15.00
  90JS20080815,ISSS08,    54,  1,      5,      5,2,20080906,   0, 71.8400,-175.6810,   72,     19.7,  -1.3000,  32.4000,2,  32.4020,2,    415.6,2,    17.00,2,     0.10,2,     1.30,2,     -999,9,    7.810,2,    3.590,2,    0.490,2,    6.270,2,   2094.5,2,   2224.6,2,   7.9000,2,    15.00
  90JS20080815,ISSS08,    54,  1,      4,      4,2,20080906,   0, 71.8400,-175.6810,   72,     15.3,  -0.7000,  31.7000,2,  31.3420,2,    442.5,2,  -999.00,9,  -999.00,9,  -999.00,9,     -999,9, -999.000,9, -999.000,9, -999.000,9, -999.000,9,   -999.0,9,   -999.0,9,-999.0000,9,    15.00
  90JS20080815,ISSS08,    54,  1,      3,      3,2,20080906,   0, 71.8400,-175.6810,   72,     10.1,   0.8000,  30.3000,2,  30.3260,2,   -999.0,9,     4.00,2,     0.10,2,     0.99,2,     -999,9,    7.270,2,    3.380,2,    0.430,2,    6.300,2,   1883.9,2,   2089.9,2,   8.1000,2,    15.00
  90JS20080815,ISSS08,    54,  1,      2,      2,2,20080906,   0, 71.8400,-175.6810,   72,      3.9,   0.7000,  30.2000,2,  30.1450,2,    371.8,2,     3.30,2,     0.20,2,     0.92,2,     -999,9, -999.000,9, -999.000,9, -999.000,9, -999.000,9,   1872.2,2,   2072.3,2,   8.1100,2,    15.00
  90JS20080815,ISSS08,    54,  1,      1,      1,2,20080906,   0, 71.8400,-175.6810,   72,      4.0,   0.7000,  30.2000,2,-999.0000,9,    369.9,2,  -999.00,9,  -999.00,9,  -999.00,9,     -999,9, -999.000,9, -999.000,9, -999.000,9, -999.000,9,   -999.0,9,   -999.0,9,-999.0000,9,    15.00
  90JS20080815,ISSS08,    56,  1,      8,      8,2,20080906,   0, 71.8800,-175.3610,   84,     68.6,  -1.2000,  33.1000,2,-999.0000,9,    261.0,2,    37.30,2,    13.40,2,     2.44,2,     -999,9,    7.210,2,    3.290,2,    0.440,2,    6.230,2,   2240.4,2,   2262.2,2,   7.6000,2,    15.00
  90JS20080815,ISSS08,    56,  1,      7,      7,2,20080906,   0, 71.8800,-175.3610,   84,     60.5,  -1.2000,  33.1000,2,-999.0000,9,    261.8,2,    37.70,2,    13.20,2,     2.44,2,     -999,9,    7.300,2,    3.300,2,    0.450,2,    5.950,2,   2226.8,2,   2260.6,2,   7.6000,2,    15.00
  90JS20080815,ISSS08,    56,  1,      6,      6,2,20080906,   0, 71.8800,-175.3610,   84,     44.9,  -1.4000,  33.0000,2,-999.0000,9,    287.0,2,    25.40,2,    12.20,2,     2.33,2,     -999,9,    7.560,2,    3.460,2,    0.460,2,    6.630,2,   2222.9,2,   2259.2,2,   7.6100,2,    15.00
  90JS20080815,ISSS08,    56,  1,      5,      5,2,20080906,   0, 71.8800,-175.3610,   84,     30.1,  -1.6000,  33.0000,2,-999.0000,9,    322.7,2,    17.90,2,    10.20,2,     2.10,2,     -999,9,    7.910,2,    3.610,2,    0.500,2,    6.950,2,   2205.0,2,   2265.8,2,   7.6600,2,    15.00
  90JS20080815,ISSS08,    56,  1,      4,      4,2,20080906,   0, 71.8800,-175.3610,   84,     20.6,  -0.2000,  31.9000,2,  32.0100,2,    400.5,2,     4.20,2,     0.20,2,     1.15,2,     -999,9,    7.910,2,    3.590,2,    0.480,2,    7.260,2,   2027.4,2,   2201.6,2,   8.0000,2,    15.00
  90JS20080815,ISSS08,    56,  1,      3,      3,2,20080906,   0, 71.8800,-175.3610,   84,     14.7,   0.3000,  31.5000,2,  31.5590,2,    400.6,2,     3.60,2,     0.30,2,     1.05,2,     -999,9, -999.000,9, -999.000,9, -999.000,9, -999.000,9,   1965.1,2,   2172.4,2,   8.0700,2,    15.00
  90JS20080815,ISSS08,    56,  1,      2,      2,2,20080906,   0, 71.8800,-175.3610,   84,      9.9,   1.4000,  31.2000,2,  31.2800,2,    378.3,2,     1.80,2,     0.10,2,     0.91,2,     -999,9,    7.650,2,    3.470,2,    0.450,2,    7.570,2,   1931.7,2,   2152.0,2,   8.1100,2,    15.00
  90JS20080815,ISSS08,    56,  1,      1,      1,2,20080906,   0, 71.8800,-175.3610,   84,      3.9,   1.4000,  30.7000,2,-999.0000,9,    367.7,2,     2.80,2,     0.30,2,     0.96,2,     -999,9, -999.000,9, -999.000,9, -999.000,9, -999.000,9,   1898.2,2,   2110.2,2,   8.1200,2,    15.00
  90JS20080815,ISSS08,    58,  1,      8,      8,2,20080907,   0, 71.9200,-175.0400,   84,     69.4,   0.1000,  33.1000,2,-999.0000,9,    231.1,2,    17.20,2,     7.80,2,     2.15,2,     -999,9,    7.330,2,    3.430,2,    0.450,2,    5.990,2,   2235.7,2,   2264.2,2,   7.6200,2,    15.00
  90JS20080815,ISSS08,    58,  1,      7,      7,2,20080907,   0, 71.9200,-175.0400,   84,     60.3,   0.1000,  33.1000,2,-999.0000,9,    233.9,2,    17.40,2,     7.80,2,     2.20,2,     -999,9,    7.320,2,    3.440,2,    0.440,2,    5.960,2,   2235.1,2,   2263.5,2,   7.6200,2,    15.00
  90JS20080815,ISSS08,    58,  1,      6,      6,2,20080907,   0, 71.9200,-175.0400,   84,     50.4,  -0.3000,  33.0000,2,-999.0000,9,    251.6,2,    17.10,2,     7.10,2,     2.10,2,     -999,9,    7.440,2,    3.460,2,    0.450,2,    6.230,2,   2226.9,2,   2256.3,2,   7.6300,2,    15.00
  90JS20080815,ISSS08,    58,  1,      5,      5,2,20080907,   0, 71.9200,-175.0400,   84,     40.1,  -0.3000,  32.8000,2,  31.7810,2,    279.2,2,     9.20,2,     4.50,2,     1.67,2,     -999,9, -999.000,9, -999.000,9, -999.000,9, -999.000,9,   2192.0,2,   2251.9,2,   7.7000,2,    15.00
  90JS20080815,ISSS08,    58,  1,      4,      4,2,20080907,   0, 71.9200,-175.0400,   84,     30.3,   3.7000,  32.7000,2,-999.0000,9,    316.7,2,     1.50,2,     1.50,2,     1.28,2,     4.06,2,    6.520,2,    2.980,2,    0.380,2,    5.700,2,   2021.5,2,   2230.0,2,   8.0500,2,    15.00
  90JS20080815,ISSS08,    58,  1,      3,      3,2,20080907,   0, 71.9200,-175.0400,   84,     20.4,   4.3000,  32.5000,2,-999.0000,9,    330.2,2,     0.60,2,     0.00,2,     0.38,2,     -999,9,    6.280,2,    2.950,2,    0.420,2,    6.110,2,   1980.6,2,   2222.0,2,   8.1200,2,    15.00
  90JS20080815,ISSS08,    58,  1,      2,      2,2,20080907,   0, 71.9200,-175.0400,   84,     10.1,   4.0000,  32.2000,2,  32.1070,2,    336.5,2,     0.90,2,     0.20,2,     0.39,2,     3.25,2, -999.000,9, -999.000,9, -999.000,9, -999.000,9,   1960.7,2,   2198.5,2,   8.1200,2,    15.00
  90JS20080815,ISSS08,    58,  1,      1,      1,2,20080907,   0, 71.9200,-175.0400,   84,      4.0,   2.0000,  31.1000,2,  31.1060,2,    359.3,2,     2.70,2,     0.40,2,     5.47,2,     1.97,2, -999.000,9, -999.000,9, -999.000,9, -999.000,9,   1917.0,2,   2144.4,2,   8.1100,2,    15.00
  90JS20080815,ISSS08,    60,  1,      8,      8,2,20080907,   0, 71.9610,-174.7200,   86,     59.7,   2.2000,  32.7000,2,-999.0000,9,    248.3,2,    17.00,2,     8.00,2,     2.03,2,     -999,9,    6.820,2,    3.180,2,    0.420,2,    5.910,2,   2152.9,2,   2234.8,2,   7.7600,2,    15.00
  90JS20080815,ISSS08,    60,  1,      7,      7,2,20080907,   0, 71.9610,-174.7200,   86,     49.7,   2.3000,  32.7000,2,-999.0000,9,    251.0,2,    16.00,2,     7.40,2,     1.99,2,     -999,9,    6.860,2,    3.200,2,    0.410,2,    6.010,2,   2148.6,2,   2231.1,2,   7.7800,2,    15.00
  90JS20080815,ISSS08,    60,  1,      6,      6,2,20080907,   0, 71.9610,-174.7200,   86,     40.2,   2.3000,  32.6000,2,-999.0000,9,    255.2,2,    14.80,2,     6.50,2,     1.89,2,     -999,9, -999.000,9, -999.000,9, -999.000,9, -999.000,9,   2146.0,2,   2229.8,2,   7.7900,2,    15.00
  90JS20080815,ISSS08,    60,  1,      5,      5,2,20080907,   0, 71.9610,-174.7200,   86,     30.5,   3.3000,  32.7000,2,  32.6600,2,    303.2,2,     4.00,2,     3.20,2,     1.04,2,     -999,9,    6.670,2,    3.100,2,    0.390,2,    5.990,2,   2062.1,2,   2224.6,2,   7.9900,2,    15.00
  90JS20080815,ISSS08,    60,  1,      4,      4,2,20080907,   0, 71.9610,-174.7200,   86,     20.0,   4.0000,  32.6000,2,  32.6170,2,    329.1,2,     0.80,2,     0.90,2,     1.25,2,     -999,9,    6.190,2,    3.040,2,    0.380,2,    5.890,2,   2005.8,2,   2222.6,2,   8.1000,2,    15.00
  90JS20080815,ISSS08,    60,  1,      3,      3,2,20080907,   0, 71.9610,-174.7200,   86,     15.0,   4.3000,  32.4000,2,-999.0000,9,    340.2,2,     0.30,2,     0.00,2,     0.34,2,     -999,9, -999.000,9, -999.000,9, -999.000,9, -999.000,9,   1973.7,2,   2211.5,2,   8.1200,2,    15.00
  90JS20080815,ISSS08,    60,  1,      2,      2,2,20080907,   0, 71.9610,-174.7200,   86,     10.1,   4.1000,  32.2000,2,  32.0680,2,    338.2,2,     1.30,2,     0.10,2,     0.42,2,     -999,9, -999.000,9, -999.000,9, -999.000,9, -999.000,9,   1963.8,2,   2195.0,2,   8.1100,2,    15.00
  90JS20080815,ISSS08,    60,  1,      1,      1,2,20080907,   0, 71.9610,-174.7200,   86,      3.9,   3.3000,  31.6000,2,  31.5750,2,    345.4,2,     1.90,2,     0.20,2,     0.57,2,     -999,9, -999.000,9, -999.000,9, -999.000,9, -999.000,9,   1937.6,2,   2165.9,2,   8.1000,2,    15.00
  90JS20080815,ISSS08,    62,  1,      6,      6,2,20080907,   0, 72.0000,-174.4010,   76,     51.7,   1.2000,  33.0000,2,-999.0000,9,    237.0,2,    13.00,2,     8.10,2,     2.03,2,     5.09,2,    6.730,2,    3.400,2,    0.440,2,    6.070,2,   2175.7,2,   2239.5,2,   7.6800,2,    15.00
  90JS20080815,ISSS08,    62,  1,      5,      5,2,20080907,   0, 72.0000,-174.4010,   76,     40.3,   2.5000,  32.7000,2,  32.6750,2,    252.6,2,     8.90,2,     6.80,2,     1.74,2,     -999,9, -999.000,9, -999.000,9, -999.000,9, -999.000,9,   2121.1,2,   2230.6,2,   7.8000,2,    15.00
  90JS20080815,ISSS08,    62,  1,      4,      4,2,20080907,   0, 72.0000,-174.4010,   76,     29.8,   3.5000,  32.6000,2,  32.6210,2,    313.5,2,     2.00,2,     2.00,2,     0.86,2,     -999,9,    6.360,2,    3.160,2,    0.400,2,    6.290,2,   2026.5,2,   2222.1,2,   8.0200,2,    15.00
  90JS20080815,ISSS08,    62,  1,      3,      3,2,20080907,   0, 72.0000,-174.4010,   76,     20.1,   4.1000,  32.4000,2,  32.3640,2,    334.5,2,     0.30,2,     0.30,2,     0.49,2,     -999,9,    6.130,2,    3.060,2,    0.360,2,    6.620,2,   1994.2,2,   2206.7,2,   8.0600,2,    15.00
  90JS20080815,ISSS08,    62,  1,      2,      2,2,20080907,   0, 72.0000,-174.4010,   76,     10.2,   4.1000,  32.4000,2,-999.0000,9,    335.7,2,     0.80,2,     0.20,2,     0.46,2,     -999,9, -999.000,9, -999.000,9, -999.000,9, -999.000,9,   1989.9,2,   2211.4,2,   8.0700,2,    15.00
  90JS20080815,ISSS08,    62,  1,      1,      1,2,20080907,   0, 72.0000,-174.4010,   76,      4.2,   4.2000,  32.4000,2,-999.0000,9,    339.1,2,     0.20,2,     0.20,2,     0.50,2,     -999,9, -999.000,9, -999.000,9, -999.000,9, -999.000,9,   1994.9,2,   2208.7,2,   8.0700,2,    15.00
  90JS20080815,ISSS08,    63,  1,      8,      8,2,20080907,   0, 72.3000,-176.5040,   80,     70.2,  -1.7000,  33.7000,2,-999.0000,9,    230.5,2,    58.70,2,    16.60,2,     2.67,2,     -999,9,    7.440,2,    3.780,2,    0.470,2,    7.010,2,   2348.3,2,   2302.6,2,   7.4200,2,    15.00
  90JS20080815,ISSS08,    63,  1,      7,      7,2,20080907,   0, 72.3000,-176.5040,   80,     59.8,  -1.7000,  33.7000,2,-999.0000,9,    231.1,2,    58.30,2,    16.50,2,     2.88,2,     -999,9,    7.280,2,    3.880,2,    0.460,2,    7.240,2,   2314.3,2,   2300.0,2,   7.4400,2,    15.00
  90JS20080815,ISSS08,    63,  1,      6,      6,2,20080907,   0, 72.3000,-176.5040,   80,     40.2,  -1.5000,  33.1000,2,-999.0000,9,    289.8,2,    41.40,2,    16.60,2,     2.43,2,     -999,9,    7.360,2,    3.800,2,    0.450,2,    7.760,2,   2212.1,2,   2252.7,2,   7.5900,2,    15.00
  90JS20080815,ISSS08,    63,  1,      5,      5,2,20080907,   0, 72.3000,-176.5040,   80,     29.8,  -1.6000,  32.8000,2,-999.0000,9,    305.7,2,    42.30,2,    16.70,2,     2.20,2,     -999,9,    6.930,2,    3.850,2,    0.440,2,    7.950,2,   2178.2,2,   2233.4,2,   7.6300,2,    15.00
  90JS20080815,ISSS08,    63,  1,      4,      4,2,20080907,   0, 72.3000,-176.5040,   80,     20.5,  -0.2000,  32.1000,2,  31.9670,2,    395.2,2,     5.70,2,     0.50,2,     0.78,2,     0.04,2,    6.300,2,    3.710,2,    0.430,2,    7.960,2,   1982.9,2,   2196.6,2,   8.0500,2,    15.00
  90JS20080815,ISSS08,    63,  1,      3,      3,2,20080907,   0, 72.3000,-176.5040,   80,     14.9,   0.2000,  31.3000,2,  31.2380,2,    436.6,2,     9.00,2,     0.20,2,     0.81,2,     -999,9, -999.000,9, -999.000,9, -999.000,9, -999.000,9,   1917.9,2,   2152.8,2,   8.1000,2,    15.00
  90JS20080815,ISSS08,    63,  1,      2,      2,2,20080907,   0, 72.3000,-176.5040,   80,     10.4,   1.0000,  30.6000,2,  30.6730,2,    396.7,2,     5.30,2,     0.20,2,     0.85,2,     -999,9, -999.000,9, -999.000,9, -999.000,9, -999.000,9,   1881.6,2,   2112.5,2,   8.1300,2,    15.00
  90JS20080815,ISSS08,    63,  1,      1,      1,2,20080907,   0, 72.3000,-176.5040,   80,      4.0,   1.3000,  29.2000,2,  29.1840,2,    367.7,2,     3.50,2,     0.10,2,     0.73,2,     -999,9, -999.000,9, -999.000,9, -999.000,9, -999.000,9,   1867.9,2,   2031.6,2,   8.0000,2,    15.00
  90JS20080815,ISSS08,    65,  1,      7,      7,2,20080907,   0, 72.3120,-176.1370,   92,     82.5,  -1.3000,  33.9000,2,-999.0000,9,    189.2,2,    64.70,2,    16.60,2,     2.60,2,     -999,9,    5.860,2,    3.650,2,    0.390,2,    6.600,2,   2333.5,2,   2302.0,2,   7.3900,2,    15.00
  90JS20080815,ISSS08,    65,  1,      6,      6,2,20080907,   0, 72.3120,-176.1370,   92,     60.0,  -1.7000,  33.5000,2,-999.0000,9,    245.3,2,    47.60,2,    15.50,2,     3.17,2,     -999,9, -999.000,9,    3.960,2, -999.000,9,    8.030,2,   2285.6,2,   2285.0,2,   7.4800,2,    15.00
  90JS20080815,ISSS08,    65,  1,      5,      5,2,20080907,   0, 72.3120,-176.1370,   92,     45.4,  -1.7000,  33.2000,2,-999.0000,9,    263.6,2,    39.30,2,    13.90,2,     2.47,2,     -999,9, -999.000,9,    3.950,2, -999.000,9,    8.130,2,   2259.8,2,   2272.3,2,   7.5100,2,    15.00
  90JS20080815,ISSS08,    65,  1,      4,      4,2,20080907,   0, 72.3120,-176.1370,   92,     30.2,  -1.6000,  33.1000,2,  33.0260,2,    290.9,2,    25.90,2,    13.10,2,     2.34,2,     -999,9, -999.000,9,    3.890,2, -999.000,9,    7.910,2,   2222.9,2,   2257.9,2,   7.5900,2,    15.00
  90JS20080815,ISSS08,    65,  1,      3,      3,2,20080907,   0, 72.3120,-176.1370,   92,     20.1,  -1.3000,  32.3000,2,  32.2820,2,    410.0,2,    16.00,2,     5.00,2,     1.37,2,     -999,9, -999.000,9, -999.000,9, -999.000,9, -999.000,9,   2114.6,2,   2222.5,2,   7.9100,2,    15.00
  90JS20080815,ISSS08,    65,  1,      2,      2,2,20080907,   0, 72.3120,-176.1370,   92,     10.0,   1.1000,  30.0000,2,  29.8060,2,    370.8,2,     3.70,2,     0.10,2,     0.79,2,     -999,9,    7.110,2,    3.470,2,    0.490,2,    8.720,2,   1938.0,2,   2059.9,2,   8.0700,2,    15.00
  90JS20080815,ISSS08,    65,  1,      1,      1,2,20080907,   0, 72.3120,-176.1370,   92,      4.3,   1.2000,  29.5000,2,  29.0500,2,    363.7,2,     3.50,2,     0.10,2,     0.68,2,     -999,9, -999.000,9, -999.000,9, -999.000,9, -999.000,9,   1858.9,2,   2018.7,2,   8.0100,2,    15.00