BOTTLE,20220121SIOCCHENA
EXPOCODE,SECT_ID,STNNBR,CASTNO,SAMPNO,BTLNBR,BTLNBR_FLAG_W,DATE,TIME,LATITUDE,LONGITUDE,DEPTH,CTDPRS,CTDTMP,CTDSAL,CTDSAL_FLAG_W,SALNTY,SALNTY_FLAG_W,OXYGEN,OXYGEN_FLAG_W,SILCAT,SILCAT_FLAG_W,NITRAT,NITRAT_FLAG_W,PHSPHT,PHSPHT_FLAG_W,NH4,NH4_FLAG_W,CFC-11,CFC-11_FLAG_W,CFC-12,CFC-12_FLAG_W,CFC113,CFC113_FLAG_W,CCL4,CCL4_FLAG_W,TCARBN,TCARBN_FLAG_W,ALKALI,ALKALI_FLAG_W,PH_TOT,PH_TOT_FLAG_W,PH_TMP
,,,,,,,,,,,METERS,DBAR,ITS-90,PSS-78,,PSS-78,,UMOL/KG,,UMOL/KG,,UMOL/KG,,UMOL/KG,,UMOL/KG,,PMOL/KG,,PMOL/KG,,PMOL/KG,,PMOL/KG,,UMOL/KG,,UMOL/KG,,,,DEG C
  90JS20080815,ISSS08,   109,  1,      7,      7,2,20080913,   0, 75.3510, 157.4590,   48,     38.4,  -0.9000,  32.3000,2,-999.0000,9,    173.3,2,  -999.00,9,  -999.00,9,  -999.00,9,     -999,9, -999.000,9, -999.000,9, -999.000,9, -999.000,9,   2252.4,2,   2201.3,2,   7.3100,2,    15.00
  90JS20080815,ISSS08,   109,  1,      6,      6,2,20080913,   0, 75.3510, 157.4590,   48,     29.7,  -1.0000,  31.8000,2,-999.0000,9,    240.5,2,  -999.00,9,  -999.00,9,  -999.00,9,     -999,9, -999.000,9, -999.000,9, -999.000,9, -999.000,9,   2196.3,2,   2178.0,2,   7.4200,2,    15.00
  90JS20080815,ISSS08,   109,  1,      5,      5,2,20080913,   0, 75.3510, 157.4590,   48,     25.2,  -0.9000,  31.6000,2,-999.0000,9,    284.3,2,  -999.00,9,  -999.00,9,  -999.00,9,     -999,9, -999.000,9, -999.000,9, -999.000,9, -999.000,9,   2137.8,2,   2164.4,2,   7.5600,2,    15.00
  90JS20080815,ISSS08,   109,  1,      4,      4,2,20080913,   0, 75.3510, 157.4590,   48,     19.8,  -0.9000,  28.1000,2,  27.7210,2,    375.7,2,  -999.00,9,  -999.00,9,  -999.00,9,     -999,9, -999.000,9, -999.000,9, -999.000,9, -999.000,9,   1903.3,2,   1959.2,2,   7.7100,2,    15.00
  90JS20080815,ISSS08,   109,  1,      3,      3,2,20080913,   0, 75.3510, 157.4590,   48,     15.1,  -0.1000,  26.0000,2,-999.0000,9,    371.6,2,  -999.00,9,  -999.00,9,  -999.00,9,     -999,9, -999.000,9, -999.000,9, -999.000,9, -999.000,9,   1736.7,2,   1787.0,2,   7.7400,2,    15.00
  90JS20080815,ISSS08,   109,  1,      2,      2,2,20080913,   0, 75.3510, 157.4590,   48,     10.6,   0.9000,  24.6000,2,  24.4650,2,    371.2,2,  -999.00,9,  -999.00,9,  -999.00,9,     -999,9, -999.000,9, -999.000,9, -999.000,9, -999.000,9,   1715.8,2,   1782.3,2,   7.7400,2,    15.00
  90JS20080815,ISSS08,   109,  1,      1,      1,2,20080913,   0, 75.3510, 157.4590,   48,      3.7,   1.1000,  24.0000,2,  23.9910,2,    371.3,2,  -999.00,9,  -999.00,9,  -999.00,9,     -999,9, -999.000,9, -999.000,9, -999.000,9, -999.000,9,   1696.5,2,   1762.1,2,   7.7400,2,    15.00
  90JS20080815,ISSS08,   110,  1,      6,      6,2,20080914,   0, 75.1640, 158.8160,   48,     37.5,  -0.9000,  32.5000,2,-999.0000,9,    232.8,2,  -999.00,9,  -999.00,9,  -999.00,9,     -999,9, -999.000,9, -999.000,9, -999.000,9, -999.000,9,   2203.7,2,   2208.0,2,   7.4700,2,    15.00
  90JS20080815,ISSS08,   110,  1,      5,      5,2,20080914,   0, 75.1640, 158.8160,   48,     30.1,  -0.8000,  32.4000,2,-999.0000,9,    246.0,2,  -999.00,9,  -999.00,9,  -999.00,9,     -999,9, -999.000,9, -999.000,9, -999.000,9, -999.000,9,   2194.1,2,   2208.7,2,   7.5000,2,    15.00
  90JS20080815,ISSS08,   110,  1,      4,      4,2,20080914,   0, 75.1640, 158.8160,   48,     20.2,  -0.7000,  31.3000,2,  30.4960,2,    308.3,2,  -999.00,9,  -999.00,9,  -999.00,9,     -999,9, -999.000,9, -999.000,9, -999.000,9, -999.000,9,   2077.7,2,   2119.5,2,   7.6200,2,    15.00
  90JS20080815,ISSS08,   110,  1,      3,      3,2,20080914,   0, 75.1640, 158.8160,   48,     14.9,  -0.5000,  26.7000,2,  26.0130,2,    387.7,2,  -999.00,9,  -999.00,9,  -999.00,9,     -999,9, -999.000,9, -999.000,9, -999.000,9, -999.000,9,   1801.5,2,   1865.8,2,   7.7400,2,    15.00
  90JS20080815,ISSS08,   110,  1,      2,      2,2,20080914,   0, 75.1640, 158.8160,   48,     10.5,   1.1000,  23.6000,2,  23.5280,2,    372.8,2,  -999.00,9,  -999.00,9,  -999.00,9,     -999,9, -999.000,9, -999.000,9, -999.000,9, -999.000,9,   1676.3,2,   1743.6,2,   7.7400,2,    15.00
  90JS20080815,ISSS08,   110,  1,      1,      1,2,20080914,   0, 75.1640, 158.8160,   48,      4.0,   1.1000,  23.5000,2,-999.0000,9,    372.8,2,  -999.00,9,  -999.00,9,  -999.00,9,     -999,9, -999.000,9, -999.000,9, -999.000,9, -999.000,9,   1674.4,2,   1743.0,2,   7.7400,2,    15.00
  90JS20080815,ISSS08,   111,  1,      6,      6,2,20080914,   0, 74.9970, 160.0100,   56,     45.6,  -1.2000,  32.7000,2,-999.0000,9,    166.9,2,  -999.00,9,  -999.00,9,  -999.00,9,     -999,9,    7.420,2,    3.510,2,    0.410,2,    3.630,2,   2267.4,2,   2222.6,2,   7.3000,2,    15.00
  90JS20080815,ISSS08,   111,  1,      5,      5,2,20080914,   0, 74.9970, 160.0100,   56,     35.5,  -1.3000,  32.5000,2,-999.0000,9,    209.5,2,  -999.00,9,  -999.00,9,  -999.00,9,     -999,9,    7.600,2,    3.710,2,    0.470,2,    4.250,2,   2232.3,2,   2215.6,2,   7.4000,2,    15.00
  90JS20080815,ISSS08,   111,  1,      4,      4,2,20080914,   0, 74.9970, 160.0100,   56,     24.3,  -0.8000,  31.8000,2,  31.6740,2,    344.5,2,  -999.00,9,  -999.00,9,  -999.00,9,     -999,9,    7.800,2,    3.810,2,    0.450,2,    4.230,2,   2093.7,2,   2184.4,2,   7.7300,2,    15.00
  90JS20080815,ISSS08,   111,  1,      3,      3,2,20080914,   0, 74.9970, 160.0100,   56,     14.8,  -0.3000,  26.4000,2,  26.1030,2,    383.6,2,  -999.00,9,  -999.00,9,  -999.00,9,     -999,9, -999.000,9, -999.000,9, -999.000,9, -999.000,9,   1785.4,2,   1859.3,2,   7.7400,2,    15.00
  90JS20080815,ISSS08,   111,  1,      2,      2,2,20080914,   0, 74.9970, 160.0100,   56,     10.1,   1.3000,  23.1000,2,  23.0300,2,    373.1,2,  -999.00,9,  -999.00,9,  -999.00,9,     -999,9,    8.330,2,    4.010,2,    0.520,2,    7.640,2,   1671.8,2,   1733.9,2,   7.7400,2,    15.00
  90JS20080815,ISSS08,   111,  1,      1,      1,2,20080914,   0, 74.9970, 160.0100,   56,      4.3,   1.3000,  22.9000,2,  22.9600,2,    372.0,2,  -999.00,9,  -999.00,9,  -999.00,9,     -999,9, -999.000,9, -999.000,9, -999.000,9, -999.000,9,   1669.9,2,   1731.3,2,   7.7400,2,    15.00
  90JS20080815,ISSS08,   112,  1,      6,      6,2,20080914,   0, 74.8330, 159.3300,   51,     41.4,  -1.3000,  32.4000,2,-999.0000,9,    206.5,2,  -999.00,9,  -999.00,9,  -999.00,9,     -999,9,    7.620,2,    3.590,2,    0.430,2,    4.450,2,   2239.2,2,   2210.8,2,   7.3900,2,    15.00
  90JS20080815,ISSS08,   112,  1,      5,      5,2,20080914,   0, 74.8330, 159.3300,   51,     26.0,  -0.8000,  31.4000,2,-999.0000,9,    361.5,2,    12.60,2,     0.10,2,     1.21,2,     -999,9,    8.160,2,    3.820,2,    0.500,2,    5.060,2,   2051.1,2,   2142.9,2,   7.7600,2,    15.00
  90JS20080815,ISSS08,   112,  1,      4,      4,2,20080914,   0, 74.8330, 159.3300,   51,     19.2,  -0.8000,  27.5000,2,  27.2540,2,    383.2,2,    12.80,2,     0.10,2,     1.22,2,     -999,9, -999.000,9, -999.000,9, -999.000,9, -999.000,9,   1867.8,2,   1930.8,2,   7.7300,2,    15.00
  90JS20080815,ISSS08,   112,  1,      3,      3,2,20080914,   0, 74.8330, 159.3300,   51,     14.7,  -0.7000,  26.2000,2,  26.0500,2,    383.8,2,    11.70,2,     0.10,2,     1.11,2,     -999,9,    8.910,2,    4.080,2,    0.600,2,    7.360,2,   1792.0,2,   1857.7,2,   7.7500,2,    15.00
  90JS20080815,ISSS08,   112,  1,      2,      2,2,20080914,   0, 74.8330, 159.3300,   51,      9.9,   1.1000,  24.5000,2,  21.3090,3,    372.3,2,    14.30,2,     0.10,2,     0.97,2,     -999,9,    8.530,2,    3.880,2,    0.540,2,    7.710,2,   1710.2,2,   1710.9,2,   7.7400,2,    15.00
  90JS20080815,ISSS08,   112,  1,      1,      1,2,20080914,   0, 74.8330, 159.3300,   51,      4.4,   1.7000,  21.3000,2,  21.3100,2,    372.1,2,    19.10,2,     0.20,2,     0.66,2,     -999,9, -999.000,9, -999.000,9, -999.000,9, -999.000,9,   1625.2,2,   1672.6,2,   7.7200,2,    15.00
  90JS20080815,ISSS08,   115,  1,      5,      5,2,20080914,   0, 74.5840, 158.2460,   40,     29.9,  -1.2000,  31.3000,2,-999.0000,9,    187.8,2,    36.10,2,     6.80,2,     2.25,2,     -999,9, -999.000,9, -999.000,9, -999.000,9, -999.000,9,   2210.6,2,   2156.5,2,   7.2900,2,    15.00
  90JS20080815,ISSS08,   115,  1,      4,      4,2,20080914,   0, 74.5840, 158.2460,   40,     19.9,  -1.1000,  30.2000,2,  28.4760,3,    242.8,2,    25.30,2,     2.20,2,     1.55,2,     -999,9, -999.000,9, -999.000,9, -999.000,9, -999.000,9,   2048.5,2,   2043.3,2,   7.4100,2,    15.00
  90JS20080815,ISSS08,   115,  1,      3,      3,2,20080914,   0, 74.5840, 158.2460,   40,     15.1,  -0.6000,  24.9000,2,  24.6560,2,    376.0,2,    16.70,2,     0.20,2,     1.15,2,     -999,9, -999.000,9, -999.000,9, -999.000,9, -999.000,9,   1796.0,2,   1835.4,2,   7.6600,2,    15.00
  90JS20080815,ISSS08,   115,  1,      2,      2,2,20080914,   0, 74.5840, 158.2460,   40,     10.1,   1.5000,  22.0000,2,  21.2650,2,    369.2,2,    18.70,2,     0.20,2,     0.78,2,     -999,9, -999.000,9, -999.000,9, -999.000,9, -999.000,9,   1621.9,2,   1675.8,2,   7.7200,2,    15.00
  90JS20080815,ISSS08,   115,  1,      1,      1,2,20080914,   0, 74.5840, 158.2460,   40,      3.7,   2.0000,  20.3000,2,  20.3090,2,    370.6,2,    21.60,2,     0.20,2,     0.75,2,     -999,9, -999.000,9, -999.000,9, -999.000,9, -999.000,9,   1587.4,2,   1635.7,2,   7.7200,2,    15.00
  90JS20080815,ISSS08,   116,  1,      1,      1,2,20080914,   0, 74.5830, 157.0030,   40,     30.3,  -1.1000,  31.5000,2,-999.0000,9,    183.1,2,  -999.00,9,  -999.00,9,  -999.00,9,     -999,9, -999.000,9, -999.000,9, -999.000,9, -999.000,9,   -999.0,9,   -999.0,9,-999.0000,9,    15.00
  90JS20080815,ISSS08,   117,  1,      6,      6,2,20080914,   0, 74.3360, 157.0020,   42,     31.9,  -1.2000,  31.6000,2,-999.0000,9,    182.0,2,    41.90,2,     8.30,2,     2.25,2,     -999,9, -999.000,9, -999.000,9, -999.000,9, -999.000,9,   2220.4,2,   2174.6,2,   7.2800,2,    15.00
  90JS20080815,ISSS08,   117,  1,      5,      5,2,20080914,   0, 74.3360, 157.0020,   42,     25.1,  -1.2000,  31.6000,2,-999.0000,9,    220.7,2,    41.80,2,     8.10,2,     2.36,2,     -999,9, -999.000,9, -999.000,9, -999.000,9, -999.000,9,   2221.7,2,   2169.6,2,   7.2800,2,    15.00
  90JS20080815,ISSS08,   117,  1,      4,      4,2,20080914,   0, 74.3360, 157.0020,   42,     20.0,  -1.1000,  30.4000,2,  30.0790,2,    313.5,2,    33.20,2,     4.30,2,     1.91,2,     -999,9, -999.000,9, -999.000,9, -999.000,9, -999.000,9,   2135.9,2,   2099.6,2,   7.3400,2,    15.00
  90JS20080815,ISSS08,   117,  1,      3,      3,2,20080914,   0, 74.3360, 157.0020,   42,     14.8,  -0.8000,  26.1000,2,  25.8350,2,    369.1,2,    23.30,2,     1.00,2,     1.39,2,     -999,9, -999.000,9, -999.000,9, -999.000,9, -999.000,9,   1882.2,2,   1894.5,2,   7.4600,2,    15.00
  90JS20080815,ISSS08,   117,  1,      2,      2,2,20080914,   0, 74.3360, 157.0020,   42,     10.4,   0.7000,  23.2000,2,  21.7990,3,    372.1,2,    20.00,2,     0.10,2,     0.82,2,     -999,9, -999.000,9, -999.000,9, -999.000,9, -999.000,9,   1659.0,2,   1703.2,2,   7.6800,2,    15.00
  90JS20080815,ISSS08,   117,  1,      1,      1,2,20080914,   0, 74.3360, 157.0020,   42,      3.9,   1.9000,  20.3000,2,  20.3020,2,   -999.0,9,    21.70,2,     0.10,2,     0.60,2,     -999,9, -999.000,9, -999.000,9, -999.000,9, -999.000,9,   1582.3,2,   1635.2,2,   7.7000,2,    15.00
  90JS20080815,ISSS08,   119,  1,      6,      6,2,20080915,   0, 74.0000, 156.0000,   44,     34.1,  -1.1000,  31.5000,2,-999.0000,9,    157.2,2,    48.20,2,     8.70,2,     2.56,2,     -999,9,    7.490,2,    3.710,2,    0.470,2,    3.460,2,   2244.4,2,   2162.3,2,   7.2200,2,    15.00
  90JS20080815,ISSS08,   119,  1,      5,      5,2,20080915,   0, 74.0000, 156.0000,   44,     25.2,  -1.1000,  31.4000,2,-999.0000,9,    156.1,2,    48.50,2,     9.10,2,     2.39,2,     -999,9,    7.510,2,    3.830,2,    0.650,2,    3.520,2,   2247.8,2,   2162.3,2,   7.2100,2,    15.00
  90JS20080815,ISSS08,   119,  1,      4,      4,2,20080915,   0, 74.0000, 156.0000,   44,     20.2,  -0.8000,  25.9000,2,  24.7530,2,    344.1,2,    18.10,2,     0.20,2,     1.43,2,     -999,9,    9.200,2,    4.300,2,    0.570,2,    6.180,2,   1795.4,2,   1798.0,2,   7.5300,2,    15.00
  90JS20080815,ISSS08,   119,  1,      3,      3,2,20080915,   0, 74.0000, 156.0000,   44,     15.1,  -0.5000,  24.0000,2,  23.7520,2,    345.8,2,    21.20,2,     0.30,2,     1.30,2,     -999,9,    9.380,2,    4.420,2,    0.630,2,    6.120,2,   1776.6,2,   1771.3,2,   7.4900,2,    15.00
  90JS20080815,ISSS08,   119,  1,      2,      2,2,20080915,   0, 74.0000, 156.0000,   44,      9.6,   1.6000,  21.2000,2,  21.1040,2,    373.9,2,    19.10,2,     0.30,2,     0.79,2,     -999,9,    8.540,2,    4.090,2,    0.550,2,    7.620,2,   1598.3,2,   1643.7,2,   7.6800,2,    15.00
  90JS20080815,ISSS08,   119,  1,      1,      1,2,20080915,   0, 74.0000, 156.0000,   44,      4.3,   2.0000,  20.2000,2,  20.2070,2,    371.7,2,    21.20,2,     0.10,2,     0.68,2,     -999,9, -999.000,9, -999.000,9, -999.000,9, -999.000,9,   1570.8,2,   1624.0,2,   7.7000,2,    15.00
  90JS20080815,ISSS08,   120,  1,      6,      6,2,20080915,   0, 73.2920, 155.1680,   43,     32.7,  -1.1000,  31.7000,2,-999.0000,9,    134.6,2,    54.20,2,     9.80,2,     2.71,2,     -999,9, -999.000,9, -999.000,9, -999.000,9, -999.000,9,   2266.1,2,   2169.6,2,   7.1800,2,    15.00
  90JS20080815,ISSS08,   120,  1,      5,      5,2,20080915,   0, 73.2920, 155.1680,   43,     32.6,  -1.1000,  31.7000,2,-999.0000,9,   -999.0,9,  -999.00,9,  -999.00,9,  -999.00,9,     -999,9, -999.000,9, -999.000,9, -999.000,9, -999.000,9,   2236.5,2,   2147.2,2,   7.2000,2,    15.00
  90JS20080815,ISSS08,   120,  1,      4,      4,2,20080915,   0, 73.2920, 155.1680,   43,     20.1,  -1.1000,  31.5000,2,  30.1790,2,    147.2,2,    47.60,2,     8.00,2,     2.37,2,     -999,9, -999.000,9, -999.000,9, -999.000,9, -999.000,9,   -999.0,9,   -999.0,9,-999.0000,9,    15.00
  90JS20080815,ISSS08,   120,  1,      3,      3,2,20080915,   0, 73.2920, 155.1680,   43,     14.8,  -0.5000,  23.0000,2,  22.8260,2,    370.0,2,    20.10,2,     0.20,2,     1.08,2,     -999,9, -999.000,9, -999.000,9, -999.000,9, -999.000,9,   1723.8,2,   1740.2,2,   7.5600,2,    15.00
  90JS20080815,ISSS08,   120,  1,      2,      2,2,20080915,   0, 73.2920, 155.1680,   43,     10.0,   1.6000,  22.8000,2,  20.9170,3,    374.4,2,    19.50,2,     0.20,2,     0.83,2,     -999,9, -999.000,9, -999.000,9, -999.000,9, -999.000,9,   1592.6,2,   1630.1,2,   7.6700,2,    15.00
  90JS20080815,ISSS08,   120,  1,      1,      1,2,20080915,   0, 73.2920, 155.1680,   43,      4.0,   1.8000,  22.8000,2,  20.7080,3,    374.0,2,    20.10,2,     0.10,2,     0.78,2,     -999,9, -999.000,9, -999.000,9, -999.000,9, -999.000,9,   1589.3,2,   1632.5,2,   7.6800,2,    15.00
  90JS20080815,ISSS08,   121,  1,      3,      3,2,20080916,   0, 74.3720, 145.2810,   26,     16.1,   1.8000,  18.2000,2,-999.0000,9,    344.6,2,    25.70,2,     1.50,2,     0.40,2,     -999,9, -999.000,9, -999.000,9, -999.000,9, -999.000,9,   1544.5,2,   1556.3,2,   7.5200,2,    15.00
  90JS20080815,ISSS08,   121,  1,      2,      2,2,20080916,   0, 74.3720, 145.2810,   26,     10.9,   1.8000,  18.1000,2,-999.0000,9,    348.8,2,    25.90,2,     1.40,2,     0.39,2,     -999,9, -999.000,9, -999.000,9, -999.000,9, -999.000,9,   1533.0,2,   1537.9,2,   7.5200,2,    15.00
  90JS20080815,ISSS08,   121,  1,      1,      1,2,20080916,   0, 74.3720, 145.2810,   26,      4.6,   1.8000,  17.5000,2,-999.0000,9,    356.8,2,    26.00,2,     1.30,2,     0.37,2,     -999,9, -999.000,9, -999.000,9, -999.000,9, -999.000,9,   1498.0,2,   1511.1,2,   7.5400,2,    15.00
  90JS20080815,ISSS08,   122,  1,      5,      5,2,20080916,   0, 74.5030, 136.0100,   35,     25.4,  -1.4000,  31.3000,2,-999.0000,9,    246.7,2,    23.70,2,     4.80,2,     0.97,2,     -999,9, -999.000,9, -999.000,9, -999.000,9, -999.000,9,   2226.9,2,   2228.7,2,   7.4300,2,    15.00
  90JS20080815,ISSS08,   122,  1,      4,      4,2,20080916,   0, 74.5030, 136.0100,   35,     22.0,  -1.3000,  30.8000,2,-999.0000,9,    274.2,2,    18.70,2,     3.30,2,     0.71,2,     -999,9, -999.000,9, -999.000,9, -999.000,9, -999.000,9,   2185.9,2,   2200.7,2,   7.5200,2,    15.00
  90JS20080815,ISSS08,   122,  1,      3,      3,2,20080916,   0, 74.5030, 136.0100,   35,     14.9,  -1.1000,  26.5000,2,  28.6560,3,    322.1,2,    16.20,2,     1.80,2,     0.45,2,     -999,9, -999.000,9, -999.000,9, -999.000,9, -999.000,9,   2118.3,2,   2184.9,2,   7.6100,2,    15.00
  90JS20080815,ISSS08,   122,  1,      2,      2,2,20080916,   0, 74.5030, 136.0100,   35,      8.4,   1.6000,  18.2000,2,-999.0000,9,    378.2,2,    20.40,2,     0.30,2,     0.03,2,     -999,9, -999.000,9, -999.000,9, -999.000,9, -999.000,9,   1425.5,2,   1457.1,2,   7.7100,2,    15.00
  90JS20080815,ISSS08,   122,  1,      1,      1,2,20080916,   0, 74.5030, 136.0100,   35,      3.7,   2.3000,  15.7000,2,  15.6720,2,    378.7,2,    20.30,2,     0.10,2,     0.06,2,     -999,9, -999.000,9, -999.000,9, -999.000,9, -999.000,9,   1417.4,2,   1452.9,2,   7.7100,2,    15.00
  90JS20080815,ISSS08,   123,  1,      6,      6,2,20080916,   0, 75.2520, 134.9910,   49,     39.2,  -1.3000,  31.5000,2,-999.0000,9,    301.8,2,    15.40,2,     2.40,2,     0.60,2,     -999,9, -999.000,9, -999.000,9, -999.000,9, -999.000,9,   2185.6,2,   2223.1,2,   7.6100,2,    15.00
  90JS20080815,ISSS08,   123,  1,      5,      5,2,20080916,   0, 75.2520, 134.9910,   49,     29.8,  -1.3000,  31.4000,2,-999.0000,9,    339.7,2,    10.50,2,     1.10,2,     0.46,2,     -999,9, -999.000,9, -999.000,9, -999.000,9, -999.000,9,   2147.5,2,   2207.9,2,   7.6900,2,    15.00
  90JS20080815,ISSS08,   123,  1,      4,      4,2,20080916,   0, 75.2520, 134.9910,   49,     23.7,  -1.0000,  30.7000,2,-999.0000,9,    345.3,2,    10.00,2,     0.70,2,     0.42,2,     -999,9, -999.000,9, -999.000,9, -999.000,9, -999.000,9,   2121.4,2,   2196.1,2,   7.7100,2,    15.00
  90JS20080815,ISSS08,   123,  1,      3,      3,2,20080916,   0, 75.2520, 134.9910,   49,     20.1,  -0.8000,  29.9000,2,  29.7680,2,    339.3,2,    15.00,2,     1.40,2,     0.47,2,     -999,9, -999.000,9, -999.000,9, -999.000,9, -999.000,9,   2123.6,2,   2185.4,2,   7.6700,2,    15.00
  90JS20080815,ISSS08,   123,  1,      2,      2,2,20080916,   0, 75.2520, 134.9910,   49,     10.1,  -0.8000,  24.9000,2,  24.6260,2,    412.9,2,    18.80,2,     0.10,2,     0.30,2,     -999,9, -999.000,9, -999.000,9, -999.000,9, -999.000,9,   1899.8,2,   1980.0,2,   7.7700,2,    15.00
  90JS20080815,ISSS08,   123,  1,      1,      1,2,20080916,   0, 75.2520, 134.9910,   49,      4.4,   1.7000,  17.6000,2,  17.2260,2,    379.2,2,    20.30,2,     0.00,2,     0.02,2,     -999,9, -999.000,9, -999.000,9, -999.000,9, -999.000,9,   1478.6,2,   1531.1,2,   7.7400,2,    15.00