BOTTLE,20220121SIOCCHENA
EXPOCODE,SECT_ID,STNNBR,CASTNO,SAMPNO,BTLNBR,BTLNBR_FLAG_W,DATE,TIME,LATITUDE,LONGITUDE,DEPTH,CTDPRS,CTDTMP,CTDSAL,CTDSAL_FLAG_W,SALNTY,SALNTY_FLAG_W,OXYGEN,OXYGEN_FLAG_W,SILCAT,SILCAT_FLAG_W,NITRAT,NITRAT_FLAG_W,PHSPHT,PHSPHT_FLAG_W,NH4,NH4_FLAG_W,CFC-11,CFC-11_FLAG_W,CFC-12,CFC-12_FLAG_W,CFC113,CFC113_FLAG_W,CCL4,CCL4_FLAG_W,TCARBN,TCARBN_FLAG_W,ALKALI,ALKALI_FLAG_W,PH_TOT,PH_TOT_FLAG_W,PH_TMP
,,,,,,,,,,,METERS,DBAR,ITS-90,PSS-78,,PSS-78,,UMOL/KG,,UMOL/KG,,UMOL/KG,,UMOL/KG,,UMOL/KG,,PMOL/KG,,PMOL/KG,,PMOL/KG,,PMOL/KG,,UMOL/KG,,UMOL/KG,,,,DEG C
  90JS20080815,ISSS08,    98,  1,      6,      6,2,20080911,   0, 75.5510, 160.7510,   58,     48.3,  -1.1000,  33.3000,2,-999.0000,9,    143.6,2,    43.00,2,    11.90,2,     1.91,2,     -999,9, -999.000,9, -999.000,9, -999.000,9, -999.000,9,   2238.5,2,   2236.2,2,   7.3400,2,    15.00
  90JS20080815,ISSS08,    98,  1,      5,      5,2,20080911,   0, 75.5510, 160.7510,   58,     34.9,  -1.0000,  33.0000,2,-999.0000,9,    200.8,2,    19.50,2,     7.60,2,     1.73,2,     -999,9, -999.000,9, -999.000,9, -999.000,9, -999.000,9,   2238.5,2,   2230.3,2,   7.4500,2,    15.00
  90JS20080815,ISSS08,    98,  1,      4,      4,2,20080911,   0, 75.5510, 160.7510,   58,     25.0,  -0.7000,  31.6000,2,  31.4540,2,    371.5,2,     9.60,2,     0.10,2,     1.08,2,     -999,9, -999.000,9, -999.000,9, -999.000,9, -999.000,9,   2063.0,2,   2166.3,2,   7.8000,2,    15.00
  90JS20080815,ISSS08,    98,  1,      3,      3,2,20080911,   0, 75.5510, 160.7510,   58,     20.0,  -0.2000,  27.6000,2,  26.8220,2,    389.5,2,    10.10,2,     0.00,2,     0.72,2,     -999,9, -999.000,9, -999.000,9, -999.000,9, -999.000,9,   1827.0,2,   1908.5,2,   7.8000,2,    15.00
  90JS20080815,ISSS08,    98,  1,      2,      2,2,20080911,   0, 75.5510, 160.7510,   58,     10.1,   0.4000,  25.9000,2,  25.9370,2,    375.4,2,    11.00,2,     0.10,2,     0.91,2,     -999,9, -999.000,9, -999.000,9, -999.000,9, -999.000,9,   1767.4,2,   1829.6,2,   7.7800,2,    15.00
  90JS20080815,ISSS08,    98,  1,      1,      1,2,20080911,   0, 75.5510, 160.7510,   58,     10.0,   0.4000,  25.9000,2,  25.9330,2,    375.6,2,    10.90,2,     0.10,2,     0.87,2,     -999,9, -999.000,9, -999.000,9, -999.000,9, -999.000,9,   1769.3,2,   1844.0,2,   7.7800,2,    15.00
  90JS20080815,ISSS08,    99,  1,      6,      6,2,20080911,   0, 75.1710, 163.5860,   60,     49.5,  -1.3000,  32.9000,2,-999.0000,9,    159.3,2,    53.10,2,    11.90,2,     2.17,2,     -999,9,    7.410,2,    3.510,2,    0.400,2,    4.500,2,   2274.1,2,   2230.3,2,   7.3000,2,    15.00
  90JS20080815,ISSS08,    99,  1,      5,      5,2,20080911,   0, 75.1710, 163.5860,   60,     30.0,  -1.3000,  32.2000,2,-999.0000,9,    367.5,2,    16.70,2,     0.10,2,     1.19,2,     -999,9,    9.030,2,    3.760,2,    0.500,2,    6.120,2,   2122.8,2,   2223.1,2,   7.7900,2,    15.00
  90JS20080815,ISSS08,    99,  1,      4,      4,2,20080911,   0, 75.1710, 163.5860,   60,     25.0,  -1.1000,  30.9000,2,-999.0000,9,    417.5,2,     9.40,2,     0.10,2,     0.80,2,     -999,9,    8.320,2,    3.940,2,    0.540,2,    7.200,2,   2027.6,2,   2156.7,2,   7.8900,2,    15.00
  90JS20080815,ISSS08,    99,  1,      3,      3,2,20080911,   0, 75.1710, 163.5860,   60,     19.9,  -0.9000,  28.3000,2,  28.5030,2,    411.7,2,    11.40,2,     0.10,2,     0.97,2,     -999,9,    8.880,2,    4.130,2,    0.580,2,    8.080,2,   1908.7,2,   2012.1,2,   7.8400,2,    15.00
  90JS20080815,ISSS08,    99,  1,      2,      2,2,20080911,   0, 75.1710, 163.5860,   60,     15.2,   0.1000,  26.1000,2,  26.5980,2,    390.6,2,    10.60,2,     0.20,2,     0.93,2,     -999,9,    8.810,2,    4.090,2,    0.560,2,    9.070,2,   1802.8,2,   1882.7,2,   7.8100,2,    15.00
  90JS20080815,ISSS08,    99,  1,      1,      1,2,20080911,   0, 75.1710, 163.5860,   60,      3.9,   0.3000,  25.6000,2,  25.6550,2,    377.9,2,    11.30,2,     0.10,2,     0.92,2,     -999,9, -999.000,9, -999.000,9, -999.000,9, -999.000,9,   1758.7,2,   1823.7,2,   7.7800,2,    15.00
  90JS20080815,ISSS08,   100,  1,      6,      6,2,20080911,   0, 75.7160, 164.0790,   70,     58.2,  -1.0000,  33.9000,2,-999.0000,9,    187.2,2,    38.40,2,    13.00,2,     1.54,2,     -999,9, -999.000,9, -999.000,9, -999.000,9, -999.000,9,   2264.9,2,   2261.3,2,   7.4800,2,    15.00
  90JS20080815,ISSS08,   100,  1,      5,      5,2,20080911,   0, 75.7160, 164.0790,   70,     40.1,  -1.4000,  32.7000,2,-999.0000,9,    219.4,2,    44.20,2,    12.90,2,     2.15,2,     -999,9, -999.000,9, -999.000,9, -999.000,9, -999.000,9,   2249.7,2,   2225.3,2,   7.4100,2,    15.00
  90JS20080815,ISSS08,   100,  1,      4,      4,2,20080911,   0, 75.7160, 164.0790,   70,     30.1,  -1.1000,  32.2000,2,-999.0000,9,    406.6,2,    12.40,2,     0.10,2,     0.98,2,     -999,9, -999.000,9, -999.000,9, -999.000,9, -999.000,9,   2083.6,2,   2223.1,2,   7.8800,2,    15.00
  90JS20080815,ISSS08,   100,  1,      3,      3,2,20080911,   0, 75.7160, 164.0790,   70,     20.0,  -0.7000,  29.0000,2,  29.0160,2,    411.2,2,     8.40,2,     0.10,2,     0.88,2,     -999,9, -999.000,9, -999.000,9, -999.000,9, -999.000,9,   1913.9,2,   2051.6,2,   7.8900,2,    15.00
  90JS20080815,ISSS08,   100,  1,      2,      2,2,20080911,   0, 75.7160, 164.0790,   70,     15.0,  -0.6000,  27.4000,2,  27.6410,2,    390.6,2,     8.80,2,     0.10,2,     0.78,2,     -999,9, -999.000,9, -999.000,9, -999.000,9, -999.000,9,   1837.8,2,   1951.8,2,   7.8500,2,    15.00
  90JS20080815,ISSS08,   100,  1,      1,      1,2,20080911,   0, 75.7160, 164.0790,   70,      4.0,   0.1000,  26.3000,2,  26.2960,2,    378.0,2,    10.20,2,     0.10,2,     0.85,2,     -999,9, -999.000,9, -999.000,9, -999.000,9, -999.000,9,   1785.3,2,   1863.9,2,   7.7900,2,    15.00
  90JS20080815,ISSS08,   101,  1,      5,      5,2,20080912,   0, 76.1170, 160.4570,   84,     54.1,  -1.1000,  33.7000,2,-999.0000,9,    185.8,2,  -999.00,9,  -999.00,9,  -999.00,9,     -999,9, -999.000,9, -999.000,9, -999.000,9, -999.000,9,   2248.3,2,   2247.9,2,   7.4800,2,    15.00
  90JS20080815,ISSS08,   101,  1,      4,      4,2,20080912,   0, 76.1170, 160.4570,   84,     30.3,  -0.9000,  32.4000,2,  32.3010,2,    319.1,2,  -999.00,9,  -999.00,9,  -999.00,9,     -999,9, -999.000,9, -999.000,9, -999.000,9, -999.000,9,   2146.1,2,   2204.3,2,   7.7000,2,    15.00
  90JS20080815,ISSS08,   101,  1,      3,      3,2,20080912,   0, 76.1170, 160.4570,   84,     20.4,  -0.8000,  29.2000,2,  28.8930,2,    403.5,2,  -999.00,9,  -999.00,9,  -999.00,9,     -999,9, -999.000,9, -999.000,9, -999.000,9, -999.000,9,   1921.2,2,   2022.2,2,   7.8500,2,    15.00
  90JS20080815,ISSS08,   101,  1,      2,      2,2,20080912,   0, 76.1170, 160.4570,   84,     10.3,   0.3000,  25.8000,2,  25.8200,2,   -999.0,9,  -999.00,9,  -999.00,9,  -999.00,9,     -999,9, -999.000,9, -999.000,9, -999.000,9, -999.000,9,   1772.7,2,   1838.9,2,   7.7800,2,    15.00
  90JS20080815,ISSS08,   101,  1,      1,      1,2,20080912,   0, 76.1170, 160.4570,   84,      4.3,   0.4000,  25.8000,2,  25.8050,2,    376.7,2,  -999.00,9,  -999.00,9,  -999.00,9,     -999,9, -999.000,9, -999.000,9, -999.000,9, -999.000,9,   1769.8,2,   1838.7,2,   7.7800,2,    15.00
  90JS20080815,ISSS08,   102,  1,      6,      6,2,20080912,   0, 76.5590, 160.0720,   70,     59.6,  -1.2000,  33.8000,2,-999.0000,9,    216.4,2,  -999.00,9,  -999.00,9,  -999.00,9,     -999,9, -999.000,9, -999.000,9, -999.000,9, -999.000,9,   2229.4,2,   2252.5,2,   7.5700,2,    15.00
  90JS20080815,ISSS08,   102,  1,      5,      5,2,20080912,   0, 76.5590, 160.0720,   70,     41.1,  -1.2000,  33.0000,2,-999.0000,9,    209.8,2,  -999.00,9,  -999.00,9,  -999.00,9,     -999,9, -999.000,9, -999.000,9, -999.000,9, -999.000,9,   2229.2,2,   2230.8,2,   7.4600,2,    15.00
  90JS20080815,ISSS08,   102,  1,      4,      4,2,20080912,   0, 76.5590, 160.0720,   70,     30.8,  -1.1000,  32.1000,2,-999.0000,9,    362.9,2,  -999.00,9,  -999.00,9,  -999.00,9,     -999,9, -999.000,9, -999.000,9, -999.000,9, -999.000,9,   2099.2,2,   2199.0,2,   7.8000,2,    15.00
  90JS20080815,ISSS08,   102,  1,      3,      3,2,20080912,   0, 76.5590, 160.0720,   70,     19.8,  -0.8000,  28.0000,2,  27.7020,2,    390.3,2,  -999.00,9,  -999.00,9,  -999.00,9,     -999,9, -999.000,9, -999.000,9, -999.000,9, -999.000,9,   1874.0,2,   1966.5,2,   7.8200,2,    15.00
  90JS20080815,ISSS08,   102,  1,      2,      2,2,20080912,   0, 76.5590, 160.0720,   70,     10.4,  -0.9000,  26.4000,2,  26.4430,2,    382.9,2,  -999.00,9,  -999.00,9,  -999.00,9,     -999,9, -999.000,9, -999.000,9, -999.000,9, -999.000,9,   1813.6,2,   1881.9,2,   7.7900,2,    15.00
  90JS20080815,ISSS08,   102,  1,      1,      1,2,20080912,   0, 76.5590, 160.0720,   70,      3.4,  -0.9000,  26.4000,2,  26.4320,2,    382.8,2,  -999.00,9,  -999.00,9,  -999.00,9,     -999,9, -999.000,9, -999.000,9, -999.000,9, -999.000,9,   1814.2,2,   1885.4,2,   7.7900,2,    15.00
  90JS20080815,ISSS08,   103,  1,      7,      7,2,20080912,   0, 76.7340, 157.8980,   74,     64.5,  -1.2000,  33.7000,2,-999.0000,9,    215.2,2,  -999.00,9,  -999.00,9,  -999.00,9,     -999,9,    8.110,2,    3.540,2,    0.340,2,    3.070,2,   2239.7,2,   2252.6,2,   7.5600,2,    15.00
  90JS20080815,ISSS08,   103,  1,      6,      6,2,20080912,   0, 76.7340, 157.8980,   74,     40.6,  -1.2000,  33.5000,2,-999.0000,9,    225.4,2,    38.30,2,    10.50,2,     2.35,2,     -999,9,    8.230,2,    3.630,2,    0.360,2,    3.340,2,   2228.0,2,   2242.5,2,   7.5600,2,    15.00
  90JS20080815,ISSS08,   103,  1,      5,      5,2,20080912,   0, 76.7340, 157.8980,   74,     30.2,  -1.0000,  32.5000,2,-999.0000,9,    302.2,2,  -999.00,9,  -999.00,9,  -999.00,9,     -999,9,    7.880,2,    3.710,2,    0.410,2,    4.060,2,   2161.1,2,   2206.7,2,   7.6500,2,    15.00
  90JS20080815,ISSS08,   103,  1,      4,      4,2,20080912,   0, 76.7340, 157.8980,   74,     24.9,  -0.7000,  30.9000,2,  30.0220,2,    368.9,2,  -999.00,9,  -999.00,9,  -999.00,9,     -999,9, -999.000,9, -999.000,9, -999.000,9, -999.000,9,   2015.7,2,   2108.6,2,   7.7700,2,    15.00
  90JS20080815,ISSS08,   103,  1,      3,      3,2,20080912,   0, 76.7340, 157.8980,   74,     20.4,  -0.7000,  27.8000,2,  27.2540,2,    388.5,2,  -999.00,9,  -999.00,9,  -999.00,9,     -999,9,    9.040,2,    4.140,2,    0.650,2,    8.930,2,   1864.7,2,   1939.5,2,   7.8000,2,    15.00
  90JS20080815,ISSS08,   103,  1,      2,      2,2,20080912,   0, 76.7340, 157.8980,   74,     10.4,  -0.1000,  26.0000,2,  25.9860,2,    380.0,2,  -999.00,9,  -999.00,9,  -999.00,9,     -999,9,    8.840,2,    4.140,2,    0.560,2,    9.460,2,   1793.8,2,   1862.5,2,   7.7800,2,    15.00
  90JS20080815,ISSS08,   103,  1,      1,      1,2,20080912,   0, 76.7340, 157.8980,   74,      4.5,  -0.1000,  26.0000,2,  25.9860,2,    379.9,2,  -999.00,9,  -999.00,9,  -999.00,9,     -999,9, -999.000,9, -999.000,9, -999.000,9, -999.000,9,   1790.4,2,   1863.3,2,   7.7800,2,    15.00
  90JS20080815,ISSS08,   104,  1,      6,      6,2,20080912,   0, 76.9340, 155.1690,   66,     56.2,  -1.3000,  33.6000,2,-999.0000,9,    237.6,2,  -999.00,9,  -999.00,9,  -999.00,9,     -999,9, -999.000,9, -999.000,9, -999.000,9, -999.000,9,   2212.0,2,   2254.0,2,   7.6000,2,    15.00
  90JS20080815,ISSS08,   104,  1,      5,      5,2,20080912,   0, 76.9340, 155.1690,   66,     40.3,  -1.3000,  33.6000,2,-999.0000,9,    238.4,2,  -999.00,9,  -999.00,9,  -999.00,9,     -999,9, -999.000,9, -999.000,9, -999.000,9, -999.000,9,   2214.0,2,   2254.9,2,   7.5900,2,    15.00
  90JS20080815,ISSS08,   104,  1,      4,      4,2,20080912,   0, 76.9340, 155.1690,   66,     25.0,  -1.0000,  31.8000,2,  31.6330,2,    285.2,2,  -999.00,9,  -999.00,9,  -999.00,9,     -999,9, -999.000,9, -999.000,9, -999.000,9, -999.000,9,   2143.5,2,   -999.0,9,   7.6000,2,    15.00
  90JS20080815,ISSS08,   104,  1,      3,      3,2,20080912,   0, 76.9340, 155.1690,   66,     19.9,   0.2000,  25.7000,2,  25.6430,2,    378.4,2,  -999.00,9,  -999.00,9,  -999.00,9,     -999,9, -999.000,9, -999.000,9, -999.000,9, -999.000,9,   1794.5,2,   1858.9,2,   7.7700,2,    15.00
  90JS20080815,ISSS08,   104,  1,      2,      2,2,20080912,   0, 76.9340, 155.1690,   66,     15.3,   0.3000,  25.4000,2,  25.4480,2,    377.2,2,  -999.00,9,  -999.00,9,  -999.00,9,     -999,9, -999.000,9, -999.000,9, -999.000,9, -999.000,9,   1774.6,2,   1845.7,2,   7.7700,2,    15.00
  90JS20080815,ISSS08,   104,  1,      1,      1,2,20080912,   0, 76.9340, 155.1690,   66,      4.1,   0.4000,  25.4000,2,  25.4440,2,    377.1,2,  -999.00,9,  -999.00,9,  -999.00,9,     -999,9, -999.000,9, -999.000,9, -999.000,9, -999.000,9,   1779.4,2,   1848.3,2,   7.7700,2,    15.00
  90JS20080815,ISSS08,   105,  1,      6,      6,2,20080912,   0, 77.1790, 152.6220,   61,     51.0,  -1.4000,  33.2000,2,-999.0000,9,    252.3,2,  -999.00,9,  -999.00,9,  -999.00,9,     -999,9, -999.000,9, -999.000,9, -999.000,9, -999.000,9,   2195.0,2,   2248.2,2,   7.6100,2,    15.00
  90JS20080815,ISSS08,   105,  1,      5,      5,2,20080912,   0, 77.1790, 152.6220,   61,     30.2,  -1.3000,  33.0000,2,-999.0000,9,    270.8,2,  -999.00,9,  -999.00,9,  -999.00,9,     -999,9, -999.000,9, -999.000,9, -999.000,9, -999.000,9,   2184.7,2,   2239.9,2,   7.6300,2,    15.00
  90JS20080815,ISSS08,   105,  1,      4,      4,2,20080912,   0, 77.1790, 152.6220,   61,     25.0,  -1.3000,  32.3000,2,  32.0410,2,    296.2,2,  -999.00,9,  -999.00,9,  -999.00,9,     -999,9, -999.000,9, -999.000,9, -999.000,9, -999.000,9,   2148.5,2,   2213.7,2,   7.6600,2,    15.00
  90JS20080815,ISSS08,   105,  1,      3,      3,2,20080912,   0, 77.1790, 152.6220,   61,     20.0,   0.8000,  26.0000,2,  25.9110,2,    369.0,2,  -999.00,9,  -999.00,9,  -999.00,9,     -999,9, -999.000,9, -999.000,9, -999.000,9, -999.000,9,   1815.9,2,   1888.6,2,   7.7600,2,    15.00
  90JS20080815,ISSS08,   105,  1,      2,      2,2,20080912,   0, 77.1790, 152.6220,   61,     14.8,   0.9000,  25.8000,2,  25.6880,2,    370.4,2,  -999.00,9,  -999.00,9,  -999.00,9,     -999,9, -999.000,9, -999.000,9, -999.000,9, -999.000,9,   1798.0,2,   1871.4,2,   7.7600,2,    15.00
  90JS20080815,ISSS08,   105,  1,      1,      1,2,20080912,   0, 77.1790, 152.6220,   61,      3.9,   0.9000,  25.6000,2,  25.6470,2,    370.9,2,  -999.00,9,  -999.00,9,  -999.00,9,     -999,9, -999.000,9, -999.000,9, -999.000,9, -999.000,9,   1795.7,2,   1865.9,2,   7.7600,2,    15.00
  90JS20080815,ISSS08,   106,  1,      6,      6,2,20080913,   0, 76.9680, 150.2910,   52,     41.6,  -1.4000,  32.6000,2,-999.0000,9,    247.8,2,  -999.00,9,  -999.00,9,  -999.00,9,     -999,9, -999.000,9, -999.000,9, -999.000,9, -999.000,9,   2201.0,2,   2227.8,2,   7.5600,2,    15.00
  90JS20080815,ISSS08,   106,  1,      5,      5,2,20080913,   0, 76.9680, 150.2910,   52,     30.4,  -1.4000,  32.5000,2,-999.0000,9,    279.6,2,  -999.00,9,  -999.00,9,  -999.00,9,     -999,9, -999.000,9, -999.000,9, -999.000,9, -999.000,9,   2185.0,2,   2231.7,2,   7.6100,2,    15.00
  90JS20080815,ISSS08,   106,  1,      4,      4,2,20080913,   0, 76.9680, 150.2910,   52,     25.3,  -1.4000,  31.6000,2,-999.0000,9,    309.6,2,  -999.00,9,  -999.00,9,  -999.00,9,     -999,9, -999.000,9, -999.000,9, -999.000,9, -999.000,9,   2149.2,2,   2202.6,2,   7.6300,2,    15.00
  90JS20080815,ISSS08,   106,  1,      3,      3,2,20080913,   0, 76.9680, 150.2910,   52,     19.7,  -0.2000,  30.4000,2,-999.0000,9,    363.0,2,  -999.00,9,  -999.00,9,  -999.00,9,     -999,9, -999.000,9, -999.000,9, -999.000,9, -999.000,9,   2064.8,2,   2155.2,2,   7.7600,2,    15.00
  90JS20080815,ISSS08,   106,  1,      2,      2,2,20080913,   0, 76.9680, 150.2910,   52,     16.1,   1.2000,  26.8000,2,  26.7310,2,    363.6,2,  -999.00,9,  -999.00,9,  -999.00,9,     -999,9, -999.000,9, -999.000,9, -999.000,9, -999.000,9,   1865.0,2,   1947.8,2,   7.7800,2,    15.00
  90JS20080815,ISSS08,   106,  1,      1,      1,2,20080913,   0, 76.9680, 150.2910,   52,      4.1,   1.2000,  26.5000,2,  26.5070,2,    364.0,2,  -999.00,9,  -999.00,9,  -999.00,9,     -999,9, -999.000,9, -999.000,9, -999.000,9, -999.000,9,   1850.6,2,   1932.3,2,   7.7800,2,    15.00
  90JS20080815,ISSS08,   107,  1,      6,      6,2,20080913,   0, 76.7720, 149.2340,   45,     35.0,  -1.4000,  32.5000,2,-999.0000,9,    243.8,2,  -999.00,9,  -999.00,9,  -999.00,9,     -999,9,    8.610,2,    3.840,2,    0.420,2,    3.030,2,   2202.2,2,   2223.9,2,   7.5300,2,    15.00
  90JS20080815,ISSS08,   107,  1,      5,      5,2,20080913,   0, 76.7720, 149.2340,   45,     25.8,  -1.2000,  31.1000,2,-999.0000,9,    305.7,2,  -999.00,9,  -999.00,9,  -999.00,9,     -999,9,    8.970,2,    3.990,2,    0.490,2,    4.930,2,   2137.9,2,   2184.1,2,   7.6000,2,    15.00
  90JS20080815,ISSS08,   107,  1,      4,      4,2,20080913,   0, 76.7720, 149.2340,   45,     20.2,  -0.3000,  29.3000,2,-999.0000,9,    359.9,2,  -999.00,9,  -999.00,9,  -999.00,9,     -999,9,    8.210,2,    3.790,2,    0.490,2,    7.860,2,   1927.5,2,   2008.2,2,   7.7700,2,    15.00
  90JS20080815,ISSS08,   107,  1,      3,      3,2,20080913,   0, 76.7720, 149.2340,   45,     14.7,   1.4000,  26.8000,2,-999.0000,9,    361.6,2,  -999.00,9,  -999.00,9,  -999.00,9,     -999,9, -999.000,9, -999.000,9, -999.000,9, -999.000,9,   1860.3,2,   1944.0,2,   7.7800,2,    15.00
  90JS20080815,ISSS08,   107,  1,      2,      2,2,20080913,   0, 76.7720, 149.2340,   45,      3.8,   1.4000,  26.4000,2,-999.0000,9,   -999.0,9,  -999.00,9,  -999.00,9,  -999.00,9,     -999,9, -999.000,9, -999.000,9, -999.000,9, -999.000,9,   1841.5,2,   1921.3,2,   7.7700,2,    15.00
  90JS20080815,ISSS08,   107,  1,      1,      1,2,20080913,   0, 76.7720, 149.2340,   45,      4.2,   1.4000,  26.4000,2,-999.0000,9,    361.4,2,  -999.00,9,  -999.00,9,  -999.00,9,     -999,9, -999.000,9, -999.000,9, -999.000,9, -999.000,9,   -999.0,9,   -999.0,9,-999.0000,9,    15.00
  90JS20080815,ISSS08,   108,  1,      5,      5,2,20080913,   0, 75.5610, 155.8830,   47,     36.9,  -1.0000,  32.8000,2,-999.0000,9,    209.3,2,  -999.00,9,  -999.00,9,  -999.00,9,     -999,9, -999.000,9, -999.000,9, -999.000,9, -999.000,9,   2225.1,2,   2222.7,2,   7.4500,2,    15.00
  90JS20080815,ISSS08,   108,  1,      4,      4,2,20080913,   0, 75.5610, 155.8830,   47,     25.2,  -1.0000,  32.8000,2,  32.7810,2,    216.1,2,  -999.00,9,  -999.00,9,  -999.00,9,     -999,9, -999.000,9, -999.000,9, -999.000,9, -999.000,9,   2219.4,2,   2225.1,2,   7.4600,2,    15.00
  90JS20080815,ISSS08,   108,  1,      3,      3,2,20080913,   0, 75.5610, 155.8830,   47,     19.1,  -0.8000,  32.1000,2,  31.0320,2,    294.3,2,  -999.00,9,  -999.00,9,  -999.00,9,     -999,9, -999.000,9, -999.000,9, -999.000,9, -999.000,9,   2097.8,2,   2140.3,2,   7.6100,2,    15.00
  90JS20080815,ISSS08,   108,  1,      2,      2,2,20080913,   0, 75.5610, 155.8830,   47,     10.2,   0.8000,  25.0000,2,  25.0230,2,    372.4,2,  -999.00,9,  -999.00,9,  -999.00,9,     -999,9, -999.000,9, -999.000,9, -999.000,9, -999.000,9,   1740.1,2,   1802.9,2,   7.7400,2,    15.00
  90JS20080815,ISSS08,   108,  1,      1,      1,2,20080913,   0, 75.5610, 155.8830,   47,      4.0,   0.8000,  25.0000,2,-999.0000,9,    253.3,2,  -999.00,9,  -999.00,9,  -999.00,9,     -999,9, -999.000,9, -999.000,9, -999.000,9, -999.000,9,   2125.4,2,   2132.5,2,   7.5100,2,    15.00