BOTTLE,20220120SIOCCHENA
EXPOCODE,SECT_ID,STNNBR,CASTNO,SAMPNO,BTLNBR,BTLNBR_FLAG_W,DATE,TIME,LATITUDE,LONGITUDE,DEPTH,CTDPRS,CTDTMP,CTDSAL,CTDSAL_FLAG_W,SALNTY,SALNTY_FLAG_W,CTDOXY,CTDOXY_FLAG_W,OXYGEN,OXYGEN_FLAG_W,SILCAT,SILCAT_FLAG_W,NITRAT,NITRAT_FLAG_W,PHSPHT,PHSPHT_FLAG_W,ALKALI,ALKALI_FLAG_W,PH_SWS,PH_SWS_FLAG_W,PH_TMP,THETA
,,,,,,,,,,,METERS,DBAR,ITS-90,PSS-78,,PSS-78,,UMOL/KG,,UMOL/KG,,UMOL/KG,,UMOL/KG,,UMOL/KG,,UMOL/KG,,,,DEG C,DEG C
  35TH20040604, OVIDE,    89,  1,      3,      3,2,20040627,2017, 44.2270, -17.6220, 4654,   4642.5,   2.6040,  34.9090,2,  34.9100,2,    241.9,2,    242.1,2,    45.30,2,    23.59,   2,     1.38,2,   -999.0,9,   7.7280,2,    25.00,   2.1759
  35TH20040604, OVIDE,    89,  1,      4,      4,2,20040627,2017, 44.2270, -17.6220, 4654,   4147.1,   2.5770,  34.9120,2,  34.9120,2,    241.7,2,    241.1,2,    43.99,2,    23.53,   2,     1.39,2,   -999.0,9,-999.0000,9,  -999.00,   2.2094
  35TH20040604, OVIDE,    89,  1,      5,      5,2,20040627,2017, 44.2270, -17.6220, 4654,   3748.6,   2.5940,  34.9180,2,  34.9190,2,    243.5,2,    243.5,2,    41.37,2,    23.17,   2,     1.34,2,   -999.0,9,   7.7290,2,    25.00,   2.2716
  35TH20040604, OVIDE,    89,  1,      6,      6,2,20040627,2017, 44.2270, -17.6220, 4654,   3498.9,   2.6450,  34.9250,2,  34.9260,2,    246.4,2,    246.9,2,    38.60,2,    22.63,   2,     1.31,2,   -999.0,9,   7.7310,2,    25.00,   2.3490
  35TH20040604, OVIDE,    89,  1,      7,      7,2,20040627,2017, 44.2270, -17.6220, 4654,   3247.1,   2.7560,  34.9370,2,  34.9380,2,    249.4,2,    249.9,2,    33.94,2,    21.49,   2,     1.26,2,   -999.0,9,   7.7310,2,    25.00,   2.4845
  35TH20040604, OVIDE,    89,  1,      8,      8,2,20040627,2017, 44.2270, -17.6220, 4654,   2996.2,   2.8990,  34.9470,2,  34.9470,2,    253.0,2,    253.3,2,    29.57,2,    20.95,   2,     1.21,2,   -999.0,9,   7.7330,2,    25.00,   2.6507
  35TH20040604, OVIDE,    89,  1,      9,      9,2,20040627,2017, 44.2270, -17.6220, 4654,   2695.6,   3.1240,  34.9580,2,  34.9590,2,    258.4,2,    257.2,2,    24.62,2,    20.48,   2,     1.17,2,   -999.0,9,   7.7340,2,    25.00,   2.9020
  35TH20040604, OVIDE,    89,  1,     10,     10,2,20040627,2017, 44.2270, -17.6220, 4654,   2540.8,   3.2440,  34.9560,2,  34.9540,2,    261.8,2,    261.5,2,    19.27,2,    19.58,   2,     1.11,2,   -999.0,9,   7.7340,2,    25.00,   3.0354
  35TH20040604, OVIDE,    89,  1,     11,     11,2,20040627,2017, 44.2270, -17.6220, 4654,   2244.6,   3.2590,  34.9130,2,  34.9160,2,    275.4,2,    275.6,2,    13.58,2,    18.50,   2,     1.04,2,   -999.0,9,   7.7300,2,    25.00,   3.0795
  35TH20040604, OVIDE,    89,  1,     12,     12,2,20040627,2017, 44.2270, -17.6220, 4654,   2045.9,   3.4670,  34.9200,2,  34.9190,2,    274.2,2,    273.7,2,    12.81,2,    18.68,   2,     1.04,2,   -999.0,9,   7.7370,2,    25.00,   3.3032
  35TH20040604, OVIDE,    89,  1,     13,     13,2,20040627,2017, 44.2270, -17.6220, 4654,   1845.2,   3.5480,  34.9050,2,  34.9050,2,    274.1,2,    274.5,2,    11.79,2,    18.68,   2,     1.04,2,   -999.0,9,   7.7240,2,    25.00,   3.4019
  35TH20040604, OVIDE,    89,  1,     14,     14,2,20040627,2017, 44.2270, -17.6220, 4654,   1597.2,   3.9530,  34.9380,2,  34.9050,3,    264.4,2,    265.4,2,    11.59,2,    19.04,   2,     1.03,2,   -999.0,9,   7.7190,2,    25.00,   3.8245
  35TH20040604, OVIDE,    89,  1,     15,     15,2,20040627,2017, 44.2270, -17.6220, 4654,   1396.3,   4.7260,  35.0250,2,  35.0220,2,    248.0,2,    250.3,2,    11.71,2,    19.28,   2,     1.08,2,   -999.0,9,   7.7170,2,    25.00,   4.6074
  35TH20040604, OVIDE,    89,  1,     16,     16,2,20040627,2017, 44.2270, -17.6220, 4654,   1196.9,   6.7100,  35.2910,2,  35.2930,2,    222.4,2,    219.5,2,    11.38,2,    19.45,   2,     1.06,2,   -999.0,9,   7.7300,2,    25.00,   6.5919
  35TH20040604, OVIDE,    89,  1,     17,     17,2,20040627,2017, 44.2270, -17.6220, 4654,    996.0,   9.2990,  35.6810,2,  35.6740,2,    190.9,2,    189.9,2,    10.04,2,    18.79,   2,     0.95,2,   -999.0,9,   7.7580,2,    25.00,   9.1828
  35TH20040604, OVIDE,    89,  1,     18,     18,2,20040627,2017, 44.2270, -17.6220, 4654,    897.2,   8.9470,  35.4400,2,  35.4480,2,    190.4,2,    190.1,2,    10.16,2,    19.63,   2,     1.05,2,   -999.0,9,   7.7420,2,    25.00,   8.8454
  35TH20040604, OVIDE,    89,  1,     19,     19,2,20040627,2017, 44.2270, -17.6220, 4654,    797.6,   9.1190,  35.3390,2,  35.3420,2,    188.3,2,    190.1,2,     9.76,2,    19.51,   2,     1.05,2,   -999.0,9,   7.7410,2,    25.00,   9.0283
  35TH20040604, OVIDE,    89,  1,     20,     20,2,20040627,2017, 44.2270, -17.6220, 4654,    725.2,   9.5720,  35.3230,2,  35.3280,2,    194.2,2,    195.5,2,     8.74,2,    18.79,   2,     1.01,2,   -999.0,9,   7.7520,2,    25.00,   9.4875
  35TH20040604, OVIDE,    89,  1,     21,     21,2,20040627,2017, 44.2270, -17.6220, 4654,    596.8,  10.5780,  35.4200,2,  35.4200,2,    212.6,2,    211.2,2,     6.58,2,    16.04,   2,     0.83,2,   -999.0,9,   7.7900,2,    25.00,  10.5045
  35TH20040604, OVIDE,    89,  1,     22,     22,2,20040627,2017, 44.2270, -17.6220, 4654,    467.2,  11.7020,  35.5990,2,  35.5980,2,    244.0,2,    244.4,2,     3.78,2,    10.95,   2,     0.53,2,   -999.0,9,   7.8520,2,    25.00,  11.6410
  35TH20040604, OVIDE,    89,  1,     23,     23,2,20040627,2017, 44.2270, -17.6220, 4654,    396.8,  11.8120,  35.6020,2,  35.6030,2,    239.1,2,    238.3,2,     3.94,2,    11.19,   2,     0.55,2,   -999.0,9,   7.8480,2,    25.00,  11.7600
  35TH20040604, OVIDE,    89,  1,     24,     24,2,20040627,2017, 44.2270, -17.6220, 4654,    289.7,  12.1820,  35.6390,2,  35.6400,2,    236.8,2,    235.5,2,     3.74,2,    10.77,   2,     0.54,2,   -999.0,9,   7.8560,2,    25.00,  12.1434
  35TH20040604, OVIDE,    89,  1,     25,     25,2,20040627,2017, 44.2270, -17.6220, 4654,    289.2,  12.1800,  35.6380,2,  35.6390,2,    236.7,2,    235.2,2,     3.74,2,    10.77,   2,     0.53,2,   -999.0,9,   7.8580,2,    25.00,  12.1415
  35TH20040604, OVIDE,    89,  1,     26,     26,2,20040627,2017, 44.2270, -17.6220, 4654,    196.9,  12.9460,  35.7600,2,  35.7600,2,    240.8,2,    242.8,2,     2.84,2,     8.32,   2,     0.41,2,   -999.0,9,   7.8820,2,    25.00,  12.9188
  35TH20040604, OVIDE,    89,  1,     27,     27,2,20040627,2017, 44.2270, -17.6220, 4654,    147.1,  13.0770,  35.7700,2,  35.7740,2,    240.5,2,    242.5,2,     2.76,2,     8.26,   2,     0.41,2,   -999.0,9,   7.8880,2,    25.00,  13.0566
  35TH20040604, OVIDE,    89,  1,     28,     28,2,20040627,2017, 44.2270, -17.6220, 4654,     98.9,  13.4190,  35.8190,2,  35.8230,2,    246.2,2,    246.4,2,     2.44,2,     7.36,   2,     0.36,2,   -999.0,9,   7.9010,2,    25.00,  13.4050
  35TH20040604, OVIDE,    89,  1,     29,     29,2,20040627,2017, 44.2270, -17.6220, 4654,     47.0,  14.2520,  35.8680,2,  35.8660,2,    264.8,2,    252.7,3,     1.87,2,     4.49,   2,     0.26,2,   -999.0,9,   7.9290,2,    25.00,  14.2451
  35TH20040604, OVIDE,    89,  1,     30,     30,2,20040627,2017, 44.2270, -17.6220, 4654,      5.9,  18.4220,  35.8870,2,  35.8880,2,    237.0,2,    244.7,3,     0.57,2,     0.00,   2,     0.02,2,   -999.0,9,   8.0010,2,    25.00,  18.4210
  35TH20040604, OVIDE,    90,  1,      5,      5,2,20040628,0139, 44.0770, -17.4250, 3260,   3246.3,   2.7130,  34.9330,2,  34.9380,2,    245.0,2,    247.4,2,    35.68,2,    21.62,   2,     1.26,2,   2340.7,2,   7.7310,2,    25.00,   2.4426
  35TH20040604, OVIDE,    90,  1,      6,      6,2,20040628,0139, 44.0770, -17.4250, 3260,   2995.8,   2.8360,  34.9430,2,  34.9420,2,    249.7,2,    250.8,2,    32.04,2,    21.00,   2,     1.22,2,   2335.6,2,   7.7330,2,    25.00,   2.5892
  35TH20040604, OVIDE,    90,  1,      7,      7,2,20040628,0139, 44.0770, -17.4250, 3260,   2796.3,   2.9830,  34.9540,2,  34.9540,2,    251.7,2,    253.6,2,    28.11,2,    20.75,   2,     1.21,2,   2327.9,2,   7.7330,2,    25.00,   2.7536
  35TH20040604, OVIDE,    90,  1,      8,      8,2,20040628,0139, 44.0770, -17.4250, 3260,   2596.6,   3.1470,  34.9600,2,  34.9570,2,    256.4,2,    257.8,2,    23.89,2,    19.76,   2,     1.12,2,   2322.8,2,   7.7340,2,    25.00,   2.9346
  35TH20040604, OVIDE,    90,  1,      9,      9,2,20040628,0139, 44.0770, -17.4250, 3260,   2395.6,   3.2780,  34.9540,2,  34.9530,2,    261.8,2,    262.2,2,    20.10,2,    18.71,   2,     1.09,2,   2318.5,2,   7.7330,2,    25.00,   3.0833
  35TH20040604, OVIDE,    90,  1,     10,     10,2,20040628,0139, 44.0770, -17.4250, 3260,   2197.0,   3.3790,  34.9330,2,  34.9280,2,    268.3,2,    270.3,2,    15.44,2,    18.59,   2,     1.04,2,   2308.9,2,   7.7290,2,    25.00,   3.2020
  35TH20040604, OVIDE,    90,  1,     11,     11,2,20040628,0139, 44.0770, -17.4250, 3260,   2196.3,   3.3780,  34.9320,2,  34.9300,2,    268.3,2,    270.3,2,    14.29,2,    18.90,   2,     1.04,2,   2310.0,2,   7.7310,2,    25.00,   3.2011
  35TH20040604, OVIDE,    90,  1,     12,     12,2,20040628,0139, 44.0770, -17.4250, 3260,   1996.1,   3.4720,  34.9170,2,  34.9160,2,    271.0,2,    274.4,2,    12.35,2,    17.29,   2,     0.98,2,   2309.6,2,   7.7300,2,    25.00,   3.3128
  35TH20040604, OVIDE,    90,  1,     13,     13,2,20040628,0139, 44.0770, -17.4250, 3260,   1795.4,   3.9560,  34.9760,2,  34.9730,2,    262.7,2,    264.9,2,    12.19,2,    18.65,   2,     1.06,2,   2311.3,2,   7.7310,2,    25.00,   3.8088
  35TH20040604, OVIDE,    90,  1,     14,     14,2,20040628,0139, 44.0770, -17.4250, 3260,   1596.2,   4.3880,  35.0190,2,  35.0210,2,    251.3,2,    257.8,2,    11.50,2,    18.84,   2,     1.04,2,   2313.2,2,   7.7250,2,    25.00,   4.2542
  35TH20040604, OVIDE,    90,  1,     15,     15,2,20040628,0139, 44.0770, -17.4250, 3260,   1395.5,   4.7710,  35.0390,2,  35.0430,2,    245.3,2,    249.9,2,    11.22,2,    19.33,   2,     1.06,2,   2314.1,2,   7.7210,2,    25.00,   4.6520
  35TH20040604, OVIDE,    90,  1,     16,     16,2,20040628,0139, 44.0770, -17.4250, 3260,   1195.1,   6.4620,  35.2500,2,  35.2550,2,    218.0,2,    221.5,2,    11.25,2,    19.94,   2,     1.06,2,   2328.1,2,   7.7290,2,    25.00,   6.3463
  35TH20040604, OVIDE,    90,  1,     17,     17,2,20040628,0139, 44.0770, -17.4250, 3260,   1066.4,   8.1620,  35.5120,2,  35.5030,3,    194.6,2,    202.0,2,    10.60,2,    19.26,   2,     1.02,2,   2345.4,2,   7.7420,2,    25.00,   8.0460
  35TH20040604, OVIDE,    90,  1,     18,     18,2,20040628,0139, 44.0770, -17.4250, 3260,    976.9,   8.9340,  35.5660,2,  35.5320,3,    190.5,2,    193.8,2,    10.28,2,    19.14,   2,     1.02,2,   2345.4,2,   7.7460,2,    25.00,   8.8228
  35TH20040604, OVIDE,    90,  1,     19,     19,2,20040628,0139, 44.0770, -17.4250, 3260,    870.6,   8.8770,  35.3880,2,  35.3830,2,    188.7,2,    190.3,2,    10.12,2,    19.51,   2,     1.06,2,   -999.0,9,   7.7410,2,    25.00,   8.7791
  35TH20040604, OVIDE,    90,  1,     20,     20,2,20040628,0139, 44.0770, -17.4250, 3260,    796.3,   8.9970,  35.3140,2,  35.3110,2,    188.7,2,    191.6,2,     9.59,2,    19.57,   2,     1.04,2,   2326.4,2,   7.7370,2,    25.00,   8.9072
  35TH20040604, OVIDE,    90,  1,     21,     21,2,20040628,0139, 44.0770, -17.4250, 3260,    597.9,  10.5480,  35.4130,2,  35.4110,2,    208.8,2,    211.0,2,     6.60,2,    15.81,   2,     0.82,2,   2329.2,2,   7.7880,2,    25.00,  10.4745
  35TH20040604, OVIDE,    90,  1,     22,     22,2,20040628,0139, 44.0770, -17.4250, 3260,    398.7,  12.0320,  35.6300,2,  35.6280,2,    230.0,2,    235.5,2,     3.93,2,    10.37,   2,     0.51,2,   2341.0,2,   7.8540,2,    25.00,  11.9791
  35TH20040604, OVIDE,    90,  1,     23,     23,2,20040628,0139, 44.0770, -17.4250, 3260,    296.8,  12.5250,  35.6960,2,  35.6940,2,    232.7,2,    234.8,2,     3.60,2,    10.00,   2,     0.50,2,   2344.8,2,   7.8660,2,    25.00,  12.4847
  35TH20040604, OVIDE,    90,  1,     24,     24,2,20040628,0139, 44.0770, -17.4250, 3260,    198.6,  13.0440,  35.7700,2,  35.7680,2,    237.5,2,    240.9,2,     2.95,2,     8.83,   2,     0.41,2,   2349.8,2,   7.8870,2,    25.00,  13.0164
  35TH20040604, OVIDE,    90,  1,     25,     25,2,20040628,0139, 44.0770, -17.4250, 3260,    147.8,  13.2400,  35.7960,2,  35.7970,2,    235.7,2,    244.5,2,     2.67,2,     7.90,   2,     0.37,2,   -999.0,9,   7.8960,2,    25.00,  13.2193
  35TH20040604, OVIDE,    90,  1,     26,     26,2,20040628,0139, 44.0770, -17.4250, 3260,     97.1,  13.5030,  35.8330,2,  35.8320,2,    236.9,2,    246.0,2,     2.35,2,     7.10,   2,     0.35,2,   2353.0,2,   7.9010,2,    25.00,  13.4892
  35TH20040604, OVIDE,    90,  1,     27,     27,2,20040628,0139, 44.0770, -17.4250, 3260,     37.2,  15.5190,  35.8870,2,  35.8870,2,    261.5,2,    272.3,2,     0.65,2,     0.00,   2,     0.02,2,   -999.0,9,   7.9910,2,    25.00,  15.5132
  35TH20040604, OVIDE,    90,  1,     28,     28,2,20040628,0139, 44.0770, -17.4250, 3260,      4.6,  18.5440,  35.9010,2,  35.8990,2,    226.3,2,    238.5,2,     0.73,2,     0.00,   2,     0.02,2,   2361.5,2,   7.9920,2,    25.00,  18.5432
  35TH20040604, OVIDE,    91,  1,      3,      3,2,20040628,0628, 43.7790, -17.0310, 4072,   4059.5,   2.5870,  34.9140,2,  34.9140,2,    241.6,2,    241.0,2,    43.55,2,    23.08,   2,     1.36,2,   -999.0,9,-999.0000,9,  -999.00,   2.2293
  35TH20040604, OVIDE,    91,  1,      4,      4,2,20040628,0628, 43.7790, -17.0310, 4072,   3746.7,   2.5930,  34.9180,2,  34.9160,2,    242.4,2,    242.8,2,    41.80,2,    22.95,   2,     1.31,2,   -999.0,9,   7.7320,2,    25.00,   2.2709
  35TH20040604, OVIDE,    91,  1,      5,      5,2,20040628,0628, 43.7790, -17.0310, 4072,   3497.0,   2.6240,  34.9230,2,  34.9230,2,    243.6,2,    244.5,2,    39.91,2,    23.54,   2,     1.30,2,   -999.0,9,   7.7310,2,    25.00,   2.3287
  35TH20040604, OVIDE,    91,  1,      6,      6,2,20040628,0628, 43.7790, -17.0310, 4072,   3245.0,   2.6940,  34.9310,2,  34.9310,2,    246.5,2,    246.7,2,    36.70,2,    22.82,   2,     1.28,2,   -999.0,9,   7.7320,2,    25.00,   2.4242
  35TH20040604, OVIDE,    91,  1,      7,      7,2,20040628,0628, 43.7790, -17.0310, 4072,   2995.2,   2.8040,  34.9410,2,  34.9430,2,    250.0,2,    249.4,2,    32.77,2,    21.23,   2,     1.22,2,   -999.0,9,   7.7340,2,    25.00,   2.5579
  35TH20040604, OVIDE,    91,  1,      8,      8,2,20040628,0628, 43.7790, -17.0310, 4072,   2745.1,   2.9560,  34.9510,2,  34.9500,2,    254.6,2,    253.8,2,    26.95,2,    21.43,   2,     1.19,2,   -999.0,9,   7.7320,2,    25.00,   2.7324
  35TH20040604, OVIDE,    91,  1,      9,      9,2,20040628,0628, 43.7790, -17.0310, 4072,   2494.6,   3.1680,  34.9580,2,  34.9560,2,    258.4,2,    257.8,2,    23.01,2,    20.84,   2,     1.11,2,   -999.0,9,   7.7360,2,    25.00,   2.9654
  35TH20040604, OVIDE,    91,  1,     10,     10,2,20040628,0628, 43.7790, -17.0310, 4072,   2243.1,   3.3450,  34.9490,2,  34.9480,2,    266.0,2,    264.3,2,    16.59,2,    19.98,   2,     1.06,2,   -999.0,9,   7.7330,2,    25.00,   3.1641
  35TH20040604, OVIDE,    91,  1,     11,     11,2,20040628,0628, 43.7790, -17.0310, 4072,   1996.6,   3.6820,  34.9700,2,  34.9690,2,    263.1,2,    265.0,2,    14.31,2,    19.12,   2,     1.03,2,   -999.0,9,   7.7290,2,    25.00,   3.5195
  35TH20040604, OVIDE,    91,  1,     12,     12,2,20040628,0628, 43.7790, -17.0310, 4072,   1794.6,   3.9980,  34.9890,2,  34.9880,2,    259.8,2,    263.0,2,    12.52,2,    19.78,   2,     1.05,2,   -999.0,9,   7.7300,2,    25.00,   3.8503
  35TH20040604, OVIDE,    91,  1,     13,     13,2,20040628,0628, 43.7790, -17.0310, 4072,   1595.3,   4.8370,  35.1000,2,  35.1160,3,    248.3,2,    247.4,2,    12.24,2,    19.65,   2,     1.04,2,   -999.0,9,   7.7330,2,    25.00,   4.6977
  35TH20040604, OVIDE,    91,  1,     14,     14,2,20040628,0628, 43.7790, -17.0310, 4072,   1595.2,   4.8450,  35.1070,2,  35.1140,2,    248.3,2,    248.0,2,    12.12,2,    19.19,   2,     1.04,2,   -999.0,9,   7.7320,2,    25.00,   4.7056
  35TH20040604, OVIDE,    91,  1,     15,     15,2,20040628,0628, 43.7790, -17.0310, 4072,   1396.5,   6.4090,  35.3490,2,  35.3510,2,    225.0,2,    225.8,2,    11.38,2,    19.97,   2,     1.03,2,   -999.0,9,   7.7420,2,    25.00,   6.2723
  35TH20040604, OVIDE,    91,  1,     16,     16,2,20040628,0628, 43.7790, -17.0310, 4072,   1234.8,   8.2940,  35.6470,2,  35.6460,2,    204.0,2,    203.0,2,    10.44,2,    19.05,   2,     0.97,2,   -999.0,9,   7.7600,2,    25.00,   8.1570
  35TH20040604, OVIDE,    91,  1,     17,     17,2,20040628,0628, 43.7790, -17.0310, 4072,   1144.9,   7.2440,  35.3510,2,  35.3420,2,    211.7,2,    210.8,2,    10.89,2,    20.10,   2,     1.05,2,   -999.0,9,   7.7350,2,    25.00,   7.1268
  35TH20040604, OVIDE,    91,  1,     18,     18,2,20040628,0628, 43.7790, -17.0310, 4072,    966.2,   9.4380,  35.6130,2,  35.6030,3,    187.5,2,    188.1,2,    10.08,2,    19.84,   2,     0.99,2,   -999.0,9,   7.7630,2,    25.00,   9.3245
  35TH20040604, OVIDE,    91,  1,     19,     19,2,20040628,0628, 43.7790, -17.0310, 4072,    874.4,   9.9730,  35.5920,2,  35.5940,2,    185.5,2,    185.6,2,     9.10,2,    18.58,   2,     0.96,2,   -999.0,9,   7.7610,2,    25.00,   9.8675
  35TH20040604, OVIDE,    91,  1,     20,     20,2,20040628,0628, 43.7790, -17.0310, 4072,    796.3,  10.2270,  35.5540,2,  35.5640,3,    187.3,2,    186.9,2,     8.49,2,    18.12,   2,     0.95,2,   -999.0,9,   7.7650,2,    25.00,  10.1299
  35TH20040604, OVIDE,    91,  1,     21,     21,2,20040628,0628, 43.7790, -17.0310, 4072,    695.8,  10.6470,  35.5340,2,  35.5320,2,    194.4,2,    193.6,2,     7.28,2,    17.47,   2,     0.88,2,   -999.0,9,   7.7730,2,    25.00,  10.5605
  35TH20040604, OVIDE,    91,  1,     22,     22,2,20040628,0628, 43.7790, -17.0310, 4072,    596.4,  10.9710,  35.5030,2,  35.5060,2,    204.8,2,    205.3,2,     6.10,2,    15.29,   2,     0.78,2,   -999.0,9,   7.7920,2,    25.00,  10.8958
  35TH20040604, OVIDE,    91,  1,     23,     23,2,20040628,0628, 43.7790, -17.0310, 4072,    496.1,  11.4980,  35.5540,2,  35.5530,2,    226.7,2,    223.5,2,     4.76,2,    12.85,   2,     0.65,2,   -999.0,9,   7.8210,2,    25.00,  11.4339
  35TH20040604, OVIDE,    91,  1,     24,     24,2,20040628,0628, 43.7790, -17.0310, 4072,    395.6,  12.0080,  35.6240,2,  35.6240,2,    224.0,2,    224.2,2,     4.19,2,    12.26,   2,     0.58,2,   -999.0,9,   7.8330,2,    25.00,  11.9556
  35TH20040604, OVIDE,    91,  1,     25,     25,2,20040628,0628, 43.7790, -17.0310, 4072,    296.6,  12.6340,  35.7160,2,  35.7160,2,    237.0,2,    237.6,2,     3.05,2,     9.56,   2,     0.46,2,   -999.0,9,   7.8730,2,    25.00,  12.5935
  35TH20040604, OVIDE,    91,  1,     26,     26,2,20040628,0628, 43.7790, -17.0310, 4072,    196.5,  13.1290,  35.7780,2,  35.7760,2,    240.3,2,    241.5,2,     2.36,2,     7.05,   2,     0.36,2,   -999.0,9,   7.8910,2,    25.00,  13.1016
  35TH20040604, OVIDE,    91,  1,     27,     27,2,20040628,0628, 43.7790, -17.0310, 4072,    146.5,  13.4220,  35.8210,2,  35.8250,2,    239.9,2,    241.2,2,     2.11,2,     6.92,   2,     0.32,2,   -999.0,9,   7.9000,2,    25.00,  13.4013
  35TH20040604, OVIDE,    91,  1,     28,     28,2,20040628,0628, 43.7790, -17.0310, 4072,     97.1,  13.7300,  35.8620,2,  35.8570,2,    239.7,2,    243.9,2,     1.71,2,     6.06,   2,     0.28,2,   -999.0,9,   7.9160,2,    25.00,  13.7161
  35TH20040604, OVIDE,    91,  1,     29,     29,2,20040628,0628, 43.7790, -17.0310, 4072,     46.3,  14.4890,  35.8750,2,  35.8690,2,    252.2,2,    255.6,2,     1.06,2,     3.43,   2,     0.18,2,   -999.0,9,   7.9500,2,    25.00,  14.4821
  35TH20040604, OVIDE,    91,  1,     30,     30,2,20040628,0628, 43.7790, -17.0310, 4072,      4.0,  18.5320,  35.9040,2,  35.9050,2,    227.7,2,    242.9,3,     0.53,2,     0.00,   2,     0.02,2,   -999.0,9,   8.0050,2,    25.00,  18.5313