BOTTLE,20220120SIOCCHENA
EXPOCODE,SECT_ID,STNNBR,CASTNO,SAMPNO,BTLNBR,BTLNBR_FLAG_W,DATE,TIME,LATITUDE,LONGITUDE,DEPTH,CTDPRS,CTDTMP,CTDSAL,CTDSAL_FLAG_W,SALNTY,SALNTY_FLAG_W,CTDOXY,CTDOXY_FLAG_W,OXYGEN,OXYGEN_FLAG_W,SILCAT,SILCAT_FLAG_W,NITRAT,NITRAT_FLAG_W,PHSPHT,PHSPHT_FLAG_W,ALKALI,ALKALI_FLAG_W,PH_SWS,PH_SWS_FLAG_W,PH_TMP,THETA
,,,,,,,,,,,METERS,DBAR,ITS-90,PSS-78,,PSS-78,,UMOL/KG,,UMOL/KG,,UMOL/KG,,UMOL/KG,,UMOL/KG,,UMOL/KG,,,,DEG C,DEG C
  35TH20040604, OVIDE,    53,  1,      3,      3,2,20040620,0134, 55.1490, -26.4060, 3439,   3426.0,   2.7530,  34.9700,2,  34.9720,2,    275.1,2,    273.5,2,    14.80,2,    16.58,   2,  -999.00,9,   -999.0,9,   7.7180,2,    25.00,   2.4620
  35TH20040604, OVIDE,    53,  1,      4,      4,2,20040620,0134, 55.1490, -26.4060, 3439,   3196.2,   2.7340,  34.9390,2,  34.9450,2,    262.0,2,    260.8,2,    17.52,2,    18.84,   2,  -999.00,9,   -999.0,9,   7.7230,2,    25.00,   2.4684
  35TH20040604, OVIDE,    53,  1,      5,      5,2,20040620,0134, 55.1490, -26.4060, 3439,   2996.5,   2.8400,  34.9470,2,  34.9480,2,    268.2,2,    267.0,2,    18.93,2,    17.43,   2,  -999.00,9,   -999.0,9,   7.7230,2,    25.00,   2.5930
  35TH20040604, OVIDE,    53,  1,      6,      6,2,20040620,0134, 55.1490, -26.4060, 3439,   2796.5,   2.9760,  34.9460,2,  34.9480,2,    274.1,2,    272.2,2,    15.26,2,    16.98,   2,  -999.00,9,   -999.0,9,   7.7280,2,    25.00,   2.7467
  35TH20040604, OVIDE,    53,  1,      7,      7,2,20040620,0134, 55.1490, -26.4060, 3439,   2596.2,   3.0550,  34.9310,2,  34.9360,2,    274.9,2,    275.4,2,    13.43,2,    16.92,   2,  -999.00,9,   -999.0,9,   7.7230,2,    25.00,   2.8445
  35TH20040604, OVIDE,    53,  1,      8,      8,2,20040620,0134, 55.1490, -26.4060, 3439,   2396.3,   3.1100,  34.9160,2,  34.9200,2,    278.6,2,    277.1,2,    12.76,2,    16.92,   2,  -999.00,9,   -999.0,9,   7.7280,2,    25.00,   2.9183
  35TH20040604, OVIDE,    53,  1,      9,      9,2,20040620,0134, 55.1490, -26.4060, 3439,   2195.7,   3.1420,  34.9020,2,  34.9020,2,    281.6,2,    279.3,2,    12.14,2,    16.92,   2,  -999.00,9,   -999.0,9,   7.7270,2,    25.00,   2.9691
  35TH20040604, OVIDE,    53,  1,     10,     10,2,20040620,0134, 55.1490, -26.4060, 3439,   1996.0,   3.1790,  34.8880,2,  34.8910,2,    283.4,2,    282.1,2,    11.47,2,    17.04,   2,  -999.00,9,   -999.0,9,   7.7270,2,    25.00,   3.0243
  35TH20040604, OVIDE,    53,  1,     11,     11,2,20040620,0134, 55.1490, -26.4060, 3439,   1795.3,   3.2700,  34.8840,2,  34.8870,2,    281.2,2,    281.1,2,    11.30,2,    17.21,   2,  -999.00,9,   -999.0,9,   7.7250,2,    25.00,   3.1323
  35TH20040604, OVIDE,    53,  1,     12,     12,2,20040620,0134, 55.1490, -26.4060, 3439,   1595.0,   3.3900,  34.8890,2,  34.8950,2,    280.3,2,    278.8,2,    11.22,2,    17.26,   2,  -999.00,9,   -999.0,9,   7.7260,2,    25.00,   3.2686
  35TH20040604, OVIDE,    53,  1,     13,     13,2,20040620,0134, 55.1490, -26.4060, 3439,   1396.4,   3.5220,  34.8940,2,  34.8960,2,    278.8,2,    275.9,2,    11.09,2,    17.38,   2,  -999.00,9,   -999.0,9,   7.7200,2,    25.00,   3.4164
  35TH20040604, OVIDE,    53,  1,     14,     14,2,20040620,0134, 55.1490, -26.4060, 3439,   1196.0,   3.6210,  34.8900,2,  34.8900,2,    279.1,2,    278.2,2,    10.59,2,    17.26,   2,  -999.00,9,   -999.0,9,   7.7170,2,    25.00,   3.5314
  35TH20040604, OVIDE,    53,  1,     15,     15,2,20040620,0134, 55.1490, -26.4060, 3439,    995.8,   3.8340,  34.9020,2,  34.9030,2,    274.8,2,    271.6,2,    10.51,2,    17.49,   2,  -999.00,9,   -999.0,9,   7.7140,2,    25.00,   3.7593
  35TH20040604, OVIDE,    53,  1,     16,     16,2,20040620,0134, 55.1490, -26.4060, 3439,    795.9,   3.9620,  34.8910,2,  34.8910,2,    273.3,2,    271.0,2,    10.26,2,    17.49,   2,  -999.00,9,   -999.0,9,   7.7100,2,    25.00,   3.9027
  35TH20040604, OVIDE,    53,  1,     17,     17,2,20040620,0134, 55.1490, -26.4060, 3439,    596.0,   4.7900,  34.9610,2,  34.9640,2,    249.5,2,    248.3,2,    11.01,2,    18.28,   2,  -999.00,9,   -999.0,9,   7.6980,2,    25.00,   4.7426
  35TH20040604, OVIDE,    53,  1,     18,     18,2,20040620,0134, 55.1490, -26.4060, 3439,    465.5,   4.9010,  34.9070,2,  34.9090,2,    250.4,2,    247.9,2,    10.76,2,    18.28,   2,  -999.00,9,   -999.0,9,   7.7060,2,    25.00,   4.8641
  35TH20040604, OVIDE,    53,  1,     19,     19,2,20040620,0134, 55.1490, -26.4060, 3439,    396.3,   5.7370,  34.9890,2,  34.9840,2,    227.6,2,    227.4,2,    11.26,2,    18.90,   2,  -999.00,9,   -999.0,9,   7.7100,2,    25.00,   5.7032
  35TH20040604, OVIDE,    53,  1,     20,     20,2,20040620,0134, 55.1490, -26.4060, 3439,    296.6,   5.9180,  34.8960,2,  34.8960,2,    239.6,2,    230.0,3,    10.88,2,    18.90,   2,  -999.00,9,   -999.0,9,   7.7030,2,    25.00,   5.8925
  35TH20040604, OVIDE,    53,  1,     21,     21,2,20040620,0134, 55.1490, -26.4060, 3439,    196.7,   6.5800,  34.8520,2,  34.8510,2,    266.4,2,    264.2,2,     7.80,2,    15.18,   2,  -999.00,9,   -999.0,9,   7.7510,2,    25.00,   6.5622
  35TH20040604, OVIDE,    53,  1,     22,     22,2,20040620,0134, 55.1490, -26.4060, 3439,     97.0,   7.3710,  34.8440,2,  34.8490,2,    269.6,2,    274.5,2,     5.59,2,    13.03,   2,  -999.00,9,   -999.0,9,   7.7840,2,    25.00,   7.3617
  35TH20040604, OVIDE,    53,  1,     23,     23,2,20040620,0134, 55.1490, -26.4060, 3439,     48.0,   9.3270,  34.7920,2,  34.7970,2,    284.3,2,    279.7,2,     4.13,2,     7.67,   2,  -999.00,9,   -999.0,9,   7.8440,2,    25.00,   9.3217
  35TH20040604, OVIDE,    53,  1,     24,     24,2,20040620,0134, 55.1490, -26.4060, 3439,     48.4,   9.3190,  34.7940,2,  34.7940,2,    284.3,2,    279.8,2,     4.25,2,     7.73,   2,  -999.00,9,   -999.0,9,   7.8440,2,    25.00,   9.3137
  35TH20040604, OVIDE,    53,  1,     25,     25,2,20040620,0134, 55.1490, -26.4060, 3439,      4.0,  11.1100,  34.7740,2,  34.7730,2,    292.3,2,    299.2,3,     3.80,2,     5.13,   2,  -999.00,9,   -999.0,9,   7.9010,2,    25.00,  11.1095
  35TH20040604, OVIDE,    54,  1,      3,      3,2,20040620,0536, 54.9980, -26.2930, 3400,   3387.1,   2.7470,  34.9700,2,  34.9670,2,    271.8,2,    273.1,2,    15.31,2,    16.28,   2,  -999.00,9,   -999.0,9,   7.7220,2,    25.00,   2.4605
  35TH20040604, OVIDE,    54,  1,      4,      4,2,20040620,0536, 54.9980, -26.2930, 3400,   1994.5,   3.1780,  34.8900,2,  34.8920,2,    282.8,2,    281.5,2,    11.78,2,    16.95,   2,  -999.00,9,   -999.0,9,   7.7270,2,    25.00,   3.0234
  35TH20040604, OVIDE,    54,  1,      5,      5,2,20040620,0536, 54.9980, -26.2930, 3400,    995.9,   3.8990,  34.9030,2,  34.9070,2,    269.9,2,    271.2,2,    10.64,2,    17.40,   2,  -999.00,9,   -999.0,9,   7.7200,2,    25.00,   3.8238
  35TH20040604, OVIDE,    54,  1,      6,      6,2,20040620,0536, 54.9980, -26.2930, 3400,    896.6,   4.1480,  34.9250,2,  34.9270,2,    265.1,2,    263.4,2,    10.81,2,    17.62,   2,  -999.00,9,   -999.0,9,   7.7120,2,    25.00,   4.0792
  35TH20040604, OVIDE,    54,  1,      7,      7,2,20040620,0536, 54.9980, -26.2930, 3400,    796.0,   4.2860,  34.9240,2,  34.9260,2,    261.0,2,    261.3,2,    10.64,2,    17.68,   2,  -999.00,9,   -999.0,9,   7.7110,2,    25.00,   4.2247
  35TH20040604, OVIDE,    54,  1,      8,      8,2,20040620,0536, 54.9980, -26.2930, 3400,    695.2,   4.3250,  34.8960,2,  34.9030,2,    263.6,2,    260.9,2,    10.47,2,    17.68,   2,  -999.00,9,   -999.0,9,   7.7090,2,    25.00,   4.2718
  35TH20040604, OVIDE,    54,  1,      9,      9,2,20040620,0536, 54.9980, -26.2930, 3400,    595.8,   4.6160,  34.8980,2,  34.8960,2,    252.6,2,    253.0,2,    10.56,2,    17.90,   2,  -999.00,9,   -999.0,9,   7.7060,2,    25.00,   4.5695
  35TH20040604, OVIDE,    54,  1,     10,     10,2,20040620,0536, 54.9980, -26.2930, 3400,    496.3,   5.0320,  34.8800,2,  34.8840,2,    248.6,2,    248.0,2,    10.64,2,    18.07,   2,  -999.00,9,   -999.0,9,-999.0000,9,  -999.00,   4.9920
  35TH20040604, OVIDE,    54,  1,     11,     11,2,20040620,0536, 54.9980, -26.2930, 3400,    397.8,   6.6320,  35.0050,2,  35.0080,2,    213.6,2,    218.8,2,    11.06,2,    18.74,   2,  -999.00,9,   -999.0,9,-999.0000,9,  -999.00,   6.5953
  35TH20040604, OVIDE,    54,  1,     12,     12,2,20040620,0536, 54.9980, -26.2930, 3400,    297.2,   7.8290,  35.0420,2,  35.0450,2,    226.2,2,    224.7,2,     9.42,2,    17.29,   2,  -999.00,9,   -999.0,9,-999.0000,9,  -999.00,   7.7991
  35TH20040604, OVIDE,    54,  1,     13,     13,2,20040620,0536, 54.9980, -26.2930, 3400,    197.8,   8.6460,  35.0700,2,  35.0690,2,    243.6,2,    243.0,2,     7.02,2,    14.50,   2,  -999.00,9,   -999.0,9,-999.0000,9,  -999.00,   8.6250
  35TH20040604, OVIDE,    54,  1,     14,     14,2,20040620,0536, 54.9980, -26.2930, 3400,    147.9,   8.8920,  35.0710,2,  35.0720,2,    237.0,2,    245.5,3,     6.56,2,    13.72,   2,  -999.00,9,   -999.0,9,-999.0000,9,  -999.00,   8.8761
  35TH20040604, OVIDE,    54,  1,     15,     15,2,20040620,0536, 54.9980, -26.2930, 3400,     97.0,   9.8380,  35.2140,2,  35.2130,2,    251.5,2,    256.4,2,     4.29,2,    11.65,   2,  -999.00,9,   -999.0,9,-999.0000,9,  -999.00,   9.8269
  35TH20040604, OVIDE,    54,  1,     16,     16,2,20040620,0536, 54.9980, -26.2930, 3400,     47.0,  10.4610,  35.0910,2,  35.0920,2,    278.2,2,    272.4,2,     2.82,2,     7.64,   2,  -999.00,9,   -999.0,9,-999.0000,9,  -999.00,  10.4554
  35TH20040604, OVIDE,    54,  1,     17,     17,2,20040620,0536, 54.9980, -26.2930, 3400,      3.3,  11.1440,  34.9420,2,  34.9420,2,    294.3,2,    293.1,2,     2.36,2,     5.13,   2,  -999.00,9,   -999.0,9,-999.0000,9,  -999.00,  11.1436
  35TH20040604, OVIDE,    55,  1,      3,      3,2,20040620,0947, 54.8490, -26.1740, 3441,   3428.0,   2.7500,  34.9690,2,  34.9670,2,   -999.0,9,    272.4,2,    15.53,2,    16.52,   2,  -999.00,9,   2316.7,2,   7.7170,2,    25.00,   2.4589
  35TH20040604, OVIDE,    55,  1,      4,      4,2,20040620,0947, 54.8490, -26.1740, 3441,   3396.5,   2.7560,  34.9660,2,  34.9660,2,    270.8,2,    271.3,2,    16.03,2,    16.74,   2,  -999.00,9,   2316.2,2,   7.7250,2,    25.00,   2.4682
  35TH20040604, OVIDE,    55,  1,      5,      5,2,20040620,0947, 54.8490, -26.1740, 3441,   3246.4,   2.7760,  34.9450,2,  34.9450,2,    265.9,2,    261.7,2,    23.94,2,    18.08,   2,  -999.00,9,   2325.8,2,   7.7250,2,    25.00,   2.5041
  35TH20040604, OVIDE,    55,  1,      6,      6,2,20040620,0947, 54.8490, -26.1740, 3441,   2996.2,   2.8610,  34.9440,2,  34.9460,2,    265.8,2,    244.0,3,    19.02,2,    17.63,   2,  -999.00,9,   2321.5,2,   7.7230,2,    25.00,   2.6136
  35TH20040604, OVIDE,    55,  1,      7,      7,2,20040620,0947, 54.8490, -26.1740, 3441,   2745.8,   3.0070,  34.9390,2,  34.9340,2,    274.3,2,    273.2,2,    14.74,2,    16.97,   2,  -999.00,9,   2312.1,2,   7.7270,2,    25.00,   2.7823
  35TH20040604, OVIDE,    55,  1,      8,      8,2,20040620,0947, 54.8490, -26.1740, 3441,   2497.0,   3.1080,  34.9220,2,  34.9220,2,    275.4,2,    254.6,3,    13.12,2,    16.97,   2,  -999.00,9,   2305.2,2,   7.7280,2,    25.00,   2.9064
  35TH20040604, OVIDE,    55,  1,      9,      9,2,20040620,0947, 54.8490, -26.1740, 3441,   2245.7,   3.1670,  34.9010,2,  34.9040,2,    281.3,2,    280.5,2,    11.92,2,    17.02,   2,  -999.00,9,   2302.6,2,   7.7280,2,    25.00,   2.9889
  35TH20040604, OVIDE,    55,  1,     10,     10,2,20040620,0947, 54.8490, -26.1740, 3441,   1995.9,   3.2140,  34.8860,2,  34.8850,2,    280.9,2,    282.2,2,    11.54,2,    17.19,   2,  -999.00,9,   2299.7,2,   7.7260,2,    25.00,   3.0588
  35TH20040604, OVIDE,    55,  1,     11,     11,2,20040620,0947, 54.8490, -26.1740, 3441,   1795.2,   3.3170,  34.8860,2,  34.8880,2,    280.5,2,    280.5,2,    11.30,2,    17.30,   2,  -999.00,9,   2300.4,2,   7.7260,2,    25.00,   3.1787
  35TH20040604, OVIDE,    55,  1,     12,     12,2,20040620,0947, 54.8490, -26.1740, 3441,   1596.2,   3.5030,  34.8930,2,  34.8960,2,    276.6,2,    276.4,2,    11.09,2,    17.36,   2,  -999.00,9,   2300.3,2,   7.7210,2,    25.00,   3.3801
  35TH20040604, OVIDE,    55,  1,     13,     13,2,20040620,0947, 54.8490, -26.1740, 3441,   1396.0,   3.6250,  34.8920,2,  34.8940,2,    272.8,2,    275.8,2,    10.80,2,    17.36,   2,  -999.00,9,   2300.8,2,   7.7200,2,    25.00,   3.5183
  35TH20040604, OVIDE,    55,  1,     14,     14,2,20040620,0947, 54.8490, -26.1740, 3441,   1181.9,   3.7890,  34.8950,2,  34.8980,2,    272.3,2,    273.3,2,    10.55,2,    17.19,   2,  -999.00,9,   2301.4,2,   7.7100,2,    25.00,   3.6991
  35TH20040604, OVIDE,    55,  1,     15,     15,2,20040620,0947, 54.8490, -26.1740, 3441,    995.4,   3.9270,  34.8900,2,  34.8880,2,    267.7,2,    272.4,2,    10.26,2,    17.36,   2,  -999.00,9,   2301.5,2,   7.7100,2,    25.00,   3.8516
  35TH20040604, OVIDE,    55,  1,     16,     16,2,20040620,0947, 54.8490, -26.1740, 3441,    896.5,   4.2210,  34.9190,2,  34.9220,2,    259.5,2,    263.4,2,    10.63,2,    17.91,   2,  -999.00,9,   2304.1,2,   7.7100,2,    25.00,   4.1517
  35TH20040604, OVIDE,    55,  1,     17,     17,2,20040620,0947, 54.8490, -26.1740, 3441,    795.7,   4.6890,  34.9590,2,  34.9590,2,    243.2,2,    252.1,3,    10.96,2,    18.02,   2,  -999.00,9,   2306.2,2,   7.7070,2,    25.00,   4.6252
  35TH20040604, OVIDE,    55,  1,     18,     18,2,20040620,0947, 54.8490, -26.1740, 3441,    796.0,   4.7130,  34.9550,2,  34.9570,2,    243.2,2,    251.3,3,    10.92,2,    18.30,   2,  -999.00,9,   -999.0,9,   7.7060,2,    25.00,   4.6490
  35TH20040604, OVIDE,    55,  1,     19,     19,2,20040620,0947, 54.8490, -26.1740, 3441,    695.9,   5.4000,  35.0010,2,  35.0000,2,    228.4,2,    235.0,2,    11.30,2,    18.85,   2,  -999.00,9,   -999.0,9,   7.7020,2,    25.00,   5.3409
  35TH20040604, OVIDE,    55,  1,     20,     20,2,20040620,0947, 54.8490, -26.1740, 3441,    596.9,   6.1120,  35.0340,2,  35.0360,2,    218.5,2,    221.3,2,    11.34,2,    19.18,   2,  -999.00,9,   2310.3,2,   7.7010,2,    25.00,   6.0584
  35TH20040604, OVIDE,    55,  1,     21,     21,2,20040620,0947, 54.8490, -26.1740, 3441,    445.5,   7.7590,  35.0770,2,  35.0760,2,    211.6,2,    214.1,2,    10.17,2,    18.52,   2,  -999.00,9,   2311.9,2,   7.7230,2,    25.00,   7.7139
  35TH20040604, OVIDE,    55,  1,     22,     22,2,20040620,0947, 54.8490, -26.1740, 3441,    375.7,   8.7890,  35.1590,2,  35.1580,2,    257.3,2,    242.3,3,     7.14,2,    15.02,   2,  -999.00,9,   2315.2,2,   7.7820,2,    25.00,   8.7482
  35TH20040604, OVIDE,    55,  1,     23,     23,2,20040620,0947, 54.8490, -26.1740, 3441,    248.2,   9.7920,  35.2850,2,  35.2860,2,    261.8,2,    263.6,2,     5.11,2,    11.75,   2,  -999.00,9,   2321.6,2,   7.8270,2,    25.00,   9.7634
  35TH20040604, OVIDE,    55,  1,     24,     24,2,20040620,0947, 54.8490, -26.1740, 3441,    146.0,   9.9260,  35.2910,2,  35.2910,2,    257.9,2,    256.8,2,     4.65,2,    11.97,   2,  -999.00,9,   -999.0,9,   7.8250,2,    25.00,   9.9091
  35TH20040604, OVIDE,    55,  1,     25,     25,2,20040620,0947, 54.8490, -26.1740, 3441,     96.2,  10.3790,  35.3420,2,  35.3460,2,    239.5,2,    249.6,3,     4.48,2,    11.92,   2,  -999.00,9,   2324.5,2,   7.8280,2,    25.00,  10.3676
  35TH20040604, OVIDE,    55,  1,     26,     26,2,20040620,0947, 54.8490, -26.1740, 3441,     45.4,  10.8660,  35.2960,2,  35.3030,2,    261.4,2,    269.3,3,     1.50,2,     7.93,   2,  -999.00,9,   -999.0,9,   7.8750,2,    25.00,  10.8605
  35TH20040604, OVIDE,    55,  1,     27,     27,2,20040620,0947, 54.8490, -26.1740, 3441,      3.0,  11.4890,  35.1270,2,  35.1290,2,    274.4,2,    217.2,3,     1.37,2,     5.93,   2,  -999.00,9,   2317.8,2,   7.9060,2,    25.00,  11.4886
  35TH20040604, OVIDE,    56,  1,      3,      3,2,20040620,1409, 54.6970, -26.0600, 3548,   3534.4,   2.6870,  34.9360,2,  34.9340,2,    256.3,2,    254.0,2,    32.48,2,    19.85,   2,  -999.00,9,   -999.0,9,   7.7240,2,    25.00,   2.3860
  35TH20040604, OVIDE,    56,  1,      4,      4,2,20040620,1409, 54.6970, -26.0600, 3548,   1995.9,   3.2440,  34.8910,2,  34.8900,2,    282.7,2,    281.9,2,    11.48,2,    17.23,   2,  -999.00,9,   -999.0,9,   7.7240,2,    25.00,   3.0883
  35TH20040604, OVIDE,    56,  1,      5,      5,2,20040620,1409, 54.6970, -26.0600, 3548,    995.6,   4.0430,  34.9090,2,  34.9080,2,    263.4,2,    267.9,2,    10.56,2,    17.51,   2,  -999.00,9,   -999.0,9,   7.7110,2,    25.00,   3.9667
  35TH20040604, OVIDE,    56,  1,      6,      6,2,20040620,1409, 54.6970, -26.0600, 3548,    896.9,   4.3280,  34.9320,2,  34.9310,2,    256.5,2,    260.0,2,    10.81,2,    17.96,   2,  -999.00,9,   -999.0,9,   7.7090,2,    25.00,   4.2579
  35TH20040604, OVIDE,    56,  1,      7,      7,2,20040620,1409, 54.6970, -26.0600, 3548,    796.4,   4.8380,  34.9700,2,  34.9680,2,    249.6,2,    246.9,2,    11.10,2,    18.57,   2,  -999.00,9,   -999.0,9,   7.7050,2,    25.00,   4.7732
  35TH20040604, OVIDE,    56,  1,      8,      8,2,20040620,1409, 54.6970, -26.0600, 3548,    657.6,   5.9320,  35.0280,2,  35.0300,2,    223.9,2,    223.9,2,    11.43,2,    19.01,   2,  -999.00,9,   -999.0,9,   7.7030,2,    25.00,   5.8736
  35TH20040604, OVIDE,    56,  1,      9,      9,2,20040620,1409, 54.6970, -26.0600, 3548,    596.8,   6.1210,  34.9880,2,  34.9890,2,    226.8,2,    224.3,2,    11.14,2,    18.79,   2,  -999.00,9,   -999.0,9,   7.7030,2,    25.00,   6.0674
  35TH20040604, OVIDE,    56,  1,     10,     10,2,20040620,1409, 54.6970, -26.0600, 3548,    496.1,   7.3830,  35.0600,2,  35.0600,2,    213.3,2,    211.1,2,    10.72,2,    19.01,   2,  -999.00,9,   -999.0,9,-999.0000,9,  -999.00,   7.3340
  35TH20040604, OVIDE,    56,  1,     12,     12,2,20040620,1409, 54.6970, -26.0600, 3548,    296.5,   9.7480,  35.2890,2,  35.2890,2,    263.0,2,    261.8,2,     5.28,2,    11.48,   2,  -999.00,9,   -999.0,9,   7.8220,2,    25.00,   9.7138
  35TH20040604, OVIDE,    56,  1,     13,     13,2,20040620,1409, 54.6970, -26.0600, 3548,    197.0,   9.9360,  35.3180,2,  35.3160,2,    265.3,2,    262.3,2,     4.90,2,    11.48,   2,  -999.00,9,   -999.0,9,   7.8280,2,    25.00,   9.9131
  35TH20040604, OVIDE,    56,  1,     14,     14,2,20040620,1409, 54.6970, -26.0600, 3548,    146.3,   9.9190,  35.3020,2,  35.3010,2,    258.4,2,    259.7,2,     4.44,2,    11.71,   2,  -999.00,9,   -999.0,9,   7.8230,2,    25.00,   9.9021
  35TH20040604, OVIDE,    56,  1,     15,     15,2,20040620,1409, 54.6970, -26.0600, 3548,     96.7,  10.0250,  35.2980,2,  35.2990,2,    258.9,2,    260.5,2,     3.48,2,    10.65,   2,  -999.00,9,   -999.0,9,   7.8320,2,    25.00,  10.0138
  35TH20040604, OVIDE,    56,  1,     16,     16,2,20040620,1409, 54.6970, -26.0600, 3548,     48.5,  10.9830,  35.2990,2,  35.2890,3,    268.8,2,    271.9,2,     1.38,2,     7.58,   2,  -999.00,9,   -999.0,9,   7.8780,2,    25.00,  10.9770
  35TH20040604, OVIDE,    56,  1,     17,     17,2,20040620,1409, 54.6970, -26.0600, 3548,      3.7,  11.7910,  35.2930,2,  35.2940,2,    264.8,2,    288.1,3,     0.59,2,     7.08,   2,  -999.00,9,   -999.0,9,   7.8920,2,    25.00,  11.7905