BOTTLE,20220120SIOCCHENA
EXPOCODE,SECT_ID,STNNBR,CASTNO,SAMPNO,BTLNBR,BTLNBR_FLAG_W,DATE,TIME,LATITUDE,LONGITUDE,DEPTH,CTDPRS,CTDTMP,CTDSAL,CTDSAL_FLAG_W,SALNTY,SALNTY_FLAG_W,CTDOXY,CTDOXY_FLAG_W,OXYGEN,OXYGEN_FLAG_W,SILCAT,SILCAT_FLAG_W,NITRAT,NITRAT_FLAG_W,PHSPHT,PHSPHT_FLAG_W,ALKALI,ALKALI_FLAG_W,PH_SWS,PH_SWS_FLAG_W,PH_TMP,THETA
,,,,,,,,,,,METERS,DBAR,ITS-90,PSS-78,,PSS-78,,UMOL/KG,,UMOL/KG,,UMOL/KG,,UMOL/KG,,UMOL/KG,,UMOL/KG,,,,DEG C,DEG C
  35TH20040604, OVIDE,    81,  1,      3,      3,2,20040625,1819, 46.8990, -19.9740, 4470,   4458.0,   2.5620,  34.9080,2,  34.9090,2,    238.8,2,    240.5,2,    46.08,2,    23.42,   2,     1.37,2,   2356.7,2,   7.7280,2,    25.00,   2.1578
  35TH20040604, OVIDE,    81,  1,      4,      4,2,20040625,1819, 46.8990, -19.9740, 4470,   3996.4,   2.5670,  34.9130,2,  34.9140,2,    240.9,2,    241.3,2,    43.73,2,    23.48,   2,     1.33,2,   2351.1,2,   7.7290,2,    25.00,   2.2172
  35TH20040604, OVIDE,    81,  1,      5,      5,2,20040625,1819, 46.8990, -19.9740, 4470,   3995.1,   2.5670,  34.9140,2,  34.9200,2,    240.9,2,    241.5,2,    43.00,2,    23.01,   2,     1.32,2,   2352.6,2,   7.7280,2,    25.00,   2.2173
  35TH20040604, OVIDE,    81,  1,      6,      6,2,20040625,1819, 46.8990, -19.9740, 4470,   3747.5,   2.6020,  34.9190,2,  34.9200,2,    243.0,2,    243.9,2,    40.94,2,    22.59,   2,     1.31,2,   2347.0,2,   7.7260,2,    25.00,   2.2795
  35TH20040604, OVIDE,    81,  1,      7,      7,2,20040625,1819, 46.8990, -19.9740, 4470,   3495.7,   2.6710,  34.9280,2,  34.9320,2,    246.3,2,    248.3,2,    36.54,2,    21.88,   2,     1.24,2,   2341.1,2,   7.7270,2,    25.00,   2.3746
  35TH20040604, OVIDE,    81,  1,      8,      8,2,20040625,1819, 46.8990, -19.9740, 4470,   3244.3,   2.7920,  34.9370,2,  34.9370,2,    251.4,2,    253.2,2,    31.40,2,    20.94,   2,     1.20,2,   2334.6,2,   7.7270,2,    25.00,   2.5199
  35TH20040604, OVIDE,    81,  1,      9,      9,2,20040625,1819, 46.8990, -19.9740, 4470,   2996.0,   2.9110,  34.9440,2,  34.9490,2,    257.1,2,    259.1,2,    25.68,2,    19.75,   2,     1.12,2,   2326.8,2,   7.7280,2,    25.00,   2.6625
  35TH20040604, OVIDE,    81,  1,     10,     10,2,20040625,1819, 46.8990, -19.9740, 4470,   2745.2,   3.0810,  34.9410,2,  34.9440,2,    262.5,2,    265.4,2,    18.24,2,    18.81,   2,     1.05,2,   2316.3,2,   7.7270,2,    25.00,   2.8549
  35TH20040604, OVIDE,    81,  1,     11,     11,2,20040625,1819, 46.8990, -19.9740, 4470,   2495.8,   3.2010,  34.9260,2,  34.9280,2,    270.6,2,    271.9,2,    14.38,2,    18.34,   2,     1.00,2,   2309.5,2,   7.7270,2,    25.00,   2.9978
  35TH20040604, OVIDE,    81,  1,     12,     12,2,20040625,1819, 46.8990, -19.9740, 4470,   2244.1,   3.2740,  34.9040,2,  34.9080,2,    275.9,2,    277.6,2,    12.23,2,    18.22,   2,     1.00,2,   2304.3,2,   7.7250,2,    25.00,   3.0943
  35TH20040604, OVIDE,    81,  1,     13,     13,2,20040625,1819, 46.8990, -19.9740, 4470,   1997.7,   3.4110,  34.8980,2,  34.8990,2,    275.5,2,    277.5,2,    11.39,2,    18.34,   2,     1.00,2,   2304.2,2,   7.7170,2,    25.00,   3.2526
  35TH20040604, OVIDE,    81,  1,     14,     14,2,20040625,1819, 46.8990, -19.9740, 4470,   1795.5,   3.6120,  34.9100,2,  34.9150,2,    270.8,2,    273.1,2,    11.15,2,    17.39,   2,     1.02,2,   2305.7,2,   7.7150,2,    25.00,   3.4696
  35TH20040604, OVIDE,    81,  1,     15,     15,2,20040625,1819, 46.8990, -19.9740, 4470,   1596.4,   3.9050,  34.9330,2,  34.9350,2,    264.8,2,    266.9,2,    11.07,2,    18.75,   2,     1.02,2,   2306.1,2,   7.7110,2,    25.00,   3.7772
  35TH20040604, OVIDE,    81,  1,     16,     16,2,20040625,1819, 46.8990, -19.9740, 4470,   1395.5,   4.5810,  35.0110,2,  35.0140,2,    252.4,2,    256.2,2,    10.99,2,    18.87,   2,     1.05,2,   2312.6,2,   7.7120,2,    25.00,   4.4640
  35TH20040604, OVIDE,    81,  1,     17,     17,2,20040625,1819, 46.8990, -19.9740, 4470,   1196.4,   5.7360,  35.1600,2,  35.1600,2,    231.0,2,    224.0,2,    11.03,2,    18.86,   2,     1.04,2,   2323.4,2,   7.7140,2,    25.00,   5.6268
  35TH20040604, OVIDE,    81,  1,     18,     18,2,20040625,1819, 46.8990, -19.9740, 4470,   1024.2,   6.8970,  35.2490,2,  35.2510,2,    207.7,2,    213.5,2,    10.91,2,    19.40,   2,     1.07,2,   2326.3,2,   7.7160,2,    25.00,   6.7957
  35TH20040604, OVIDE,    81,  1,     19,     19,2,20040625,1819, 46.8990, -19.9740, 4470,    894.2,   7.4060,  35.2000,2,  35.2040,2,    200.5,2,    202.4,2,    10.87,2,    20.16,   2,     1.11,2,   -999.0,9,   7.7100,2,    25.00,   7.3151
  35TH20040604, OVIDE,    81,  1,     20,     20,2,20040625,1819, 46.8990, -19.9740, 4470,    796.8,   7.8890,  35.1360,2,  35.1360,2,    196.2,2,    200.3,2,    10.47,2,    20.11,   2,     1.09,2,   2318.1,2,   7.7080,2,    25.00,   7.8057
  35TH20040604, OVIDE,    81,  1,     21,     21,2,20040625,1819, 46.8990, -19.9740, 4470,    692.5,   9.6130,  35.3350,2,  35.3340,2,    196.1,2,    192.7,2,     8.84,2,    18.68,   2,     1.00,2,   -999.0,9,   7.7460,2,    25.00,   9.5322
  35TH20040604, OVIDE,    81,  1,     22,     22,2,20040625,1819, 46.8990, -19.9740, 4470,    596.6,  10.3960,  35.4000,2,  35.4020,2,    201.5,2,    206.2,2,     7.13,2,    16.50,   2,     0.88,2,   2329.0,2,   7.7670,2,    25.00,  10.3233
  35TH20040604, OVIDE,    81,  1,     23,     23,2,20040625,1819, 46.8990, -19.9740, 4470,    497.0,  11.1930,  35.4960,2,  35.4970,2,    206.6,2,    220.5,3,     5.53,2,    13.60,   2,     0.73,2,   2335.3,2,   7.8000,2,    25.00,  11.1298
  35TH20040604, OVIDE,    81,  1,     24,     24,2,20040625,1819, 46.8990, -19.9740, 4470,    395.6,  11.8510,  35.6010,2,  35.6030,2,    219.8,2,    208.9,3,     4.14,2,    11.29,   2,     0.57,2,   2340.2,2,   7.8330,2,    25.00,  11.7991
  35TH20040604, OVIDE,    81,  1,     25,     25,2,20040625,1819, 46.8990, -19.9740, 4470,    296.3,  12.4160,  35.6840,2,  35.6860,2,    232.8,2,    221.0,3,     3.62,2,    10.28,   2,     0.50,2,   2344.0,2,   7.8420,2,    25.00,  12.3760
  35TH20040604, OVIDE,    81,  1,     26,     26,2,20040625,1819, 46.8990, -19.9740, 4470,    196.5,  13.0250,  35.7630,2,  35.7640,2,    229.9,2,    239.4,3,     2.67,2,     7.74,   2,     0.38,2,   2349.4,2,   7.8700,2,    25.00,  12.9977
  35TH20040604, OVIDE,    81,  1,     27,     27,2,20040625,1819, 46.8990, -19.9740, 4470,    146.0,  13.3120,  35.8020,2,  35.8010,2,    228.9,2,    246.9,3,     1.91,2,     5.79,   2,     0.28,2,   -999.0,9,   7.8860,2,    25.00,  13.2915
  35TH20040604, OVIDE,    81,  1,     28,     28,2,20040625,1819, 46.8990, -19.9740, 4470,     97.0,  13.5640,  35.8310,2,  35.8320,2,    230.2,2,    247.0,3,     1.51,2,     4.73,   2,     0.24,2,   2353.7,2,   7.8960,2,    25.00,  13.5502
  35TH20040604, OVIDE,    81,  1,     29,     29,2,20040625,1819, 46.8990, -19.9740, 4470,     46.8,  14.3190,  35.8750,2,  35.8740,2,    233.5,2,    251.3,3,     1.35,2,     3.43,   2,     0.19,2,   -999.0,9,   7.9150,2,    25.00,  14.3121
  35TH20040604, OVIDE,    81,  1,     30,     30,2,20040625,1819, 46.8990, -19.9740, 4470,      4.2,  17.5540,  35.8810,2,  35.8810,2,    223.3,2,    207.7,3,     0.80,2,     0.24,   2,     0.04,2,   2360.8,2,   7.9870,2,    25.00,  17.5533
  35TH20040604, OVIDE,    82,  1,      3,      3,2,20040626,2357, 46.5400, -19.6710, 4601,   4588.6,   2.5930,  34.9090,2,  34.9100,2,    238.7,2,    240.0,2,  -999.00,9,    23.14,   2,     1.31,2,   -999.0,9,   7.7280,2,    25.00,   2.1719
  35TH20040604, OVIDE,    82,  1,      4,      4,2,20040626,2357, 46.5400, -19.6710, 4601,   4298.8,   2.5900,  34.9110,2,  34.9120,2,    240.9,2,    240.9,2,  -999.00,9,    22.96,   2,     1.31,2,   -999.0,9,   7.7290,2,    25.00,   2.2040
  35TH20040604, OVIDE,    82,  1,      5,      5,2,20040626,2357, 46.5400, -19.6710, 4601,   3996.5,   2.6090,  34.9170,2,  34.9230,2,    242.6,2,    243.3,2,  -999.00,9,    22.62,   2,     1.29,2,   -999.0,9,   7.7270,2,    25.00,   2.2579
  35TH20040604, OVIDE,    82,  1,      6,      6,2,20040626,2357, 46.5400, -19.6710, 4601,   3798.4,   2.6590,  34.9240,2,  34.9240,2,    245.2,2,    245.8,2,  -999.00,9,    22.22,   2,     1.26,2,   -999.0,9,   7.7280,2,    25.00,   2.3292
  35TH20040604, OVIDE,    82,  1,      7,      7,2,20040626,2357, 46.5400, -19.6710, 4601,   3596.4,   2.7190,  34.9310,2,  34.9320,2,    248.0,2,    248.5,2,  -999.00,9,    21.53,   2,     1.23,2,   -999.0,9,   7.7280,2,    25.00,   2.4103
  35TH20040604, OVIDE,    82,  1,      8,      8,2,20040626,2357, 46.5400, -19.6710, 4601,   3390.8,   2.8010,  34.9380,2,  34.9360,2,    251.4,2,    251.4,2,  -999.00,9,    21.01,   2,     1.19,2,   -999.0,9,   7.7250,2,    25.00,   2.5129
  35TH20040604, OVIDE,    82,  1,      9,      9,2,20040626,2357, 46.5400, -19.6710, 4601,   3197.2,   2.9020,  34.9440,2,  34.9480,2,    254.2,2,    255.0,2,  -999.00,9,    20.32,   2,     1.16,2,   -999.0,9,   7.7260,2,    25.00,   2.6324
  35TH20040604, OVIDE,    82,  1,     10,     10,2,20040626,2357, 46.5400, -19.6710, 4601,   2993.1,   3.0220,  34.9460,2,  34.9500,2,    258.5,2,    259.1,2,  -999.00,9,    19.52,   2,     1.10,2,   -999.0,9,   7.7260,2,    25.00,   2.7714
  35TH20040604, OVIDE,    82,  1,     11,     11,2,20040626,2357, 46.5400, -19.6710, 4601,   2795.5,   3.1240,  34.9390,2,  34.9440,2,    265.5,2,    267.0,2,  -999.00,9,    18.83,   2,     1.03,2,   -999.0,9,   7.7230,2,    25.00,   2.8919
  35TH20040604, OVIDE,    82,  1,     12,     12,2,20040626,2357, 46.5400, -19.6710, 4601,   2595.9,   3.1970,  34.9230,2,  34.9230,2,    272.1,2,    272.8,2,  -999.00,9,    18.37,   2,     1.01,2,   -999.0,9,   7.7280,2,    25.00,   2.9839
  35TH20040604, OVIDE,    82,  1,     13,     13,2,20040626,2357, 46.5400, -19.6710, 4601,   2396.4,   3.2700,  34.9060,2,  34.9040,2,    277.2,2,    277.1,2,  -999.00,9,    18.20,   2,     1.00,2,   -999.0,9,   7.7230,2,    25.00,   3.0755
  35TH20040604, OVIDE,    82,  1,     14,     14,2,20040626,2357, 46.5400, -19.6710, 4601,   2199.4,   3.3340,  34.8950,2,  34.9010,2,    277.1,2,    278.3,2,  -999.00,9,    18.31,   2,     0.99,2,   -999.0,9,   7.7240,2,    25.00,   3.1576
  35TH20040604, OVIDE,    82,  1,     15,     15,2,20040626,2357, 46.5400, -19.6710, 4601,   1996.8,   3.5030,  34.9050,2,  34.9060,2,    273.5,2,    274.8,2,  -999.00,9,    18.48,   2,     1.00,2,   -999.0,9,   7.7190,2,    25.00,   3.3433
  35TH20040604, OVIDE,    82,  1,     16,     16,2,20040626,2357, 46.5400, -19.6710, 4601,   1797.5,   3.7580,  34.9220,2,  34.9260,2,    268.6,2,    269.3,2,  -999.00,9,    18.66,   2,     1.02,2,   -999.0,9,   7.7130,2,    25.00,   3.6134
  35TH20040604, OVIDE,    82,  1,     17,     17,2,20040626,2357, 46.5400, -19.6710, 4601,   1596.8,   4.2820,  34.9750,2,  34.9750,2,    259.8,2,    258.4,2,  -999.00,9,    18.94,   2,     1.00,2,   -999.0,9,   7.7130,2,    25.00,   4.1495
  35TH20040604, OVIDE,    82,  1,     18,     18,2,20040626,2357, 46.5400, -19.6710, 4601,   1396.1,   5.2230,  35.0910,2,  35.0900,2,    240.7,2,    241.9,2,  -999.00,9,    19.40,   2,     1.02,2,   -999.0,9,   7.7120,2,    25.00,   5.0991
  35TH20040604, OVIDE,    82,  1,     19,     19,2,20040626,2357, 46.5400, -19.6710, 4601,   1177.6,   6.6110,  35.2320,2,  35.2340,2,    210.7,2,    218.5,3,  -999.00,9,    19.57,   2,     1.05,2,   -999.0,9,   7.7170,2,    25.00,   6.4959
  35TH20040604, OVIDE,    82,  1,     20,     20,2,20040626,2357, 46.5400, -19.6710, 4601,   1056.2,   7.6580,  35.3340,2,  35.3330,2,    201.5,2,    203.0,2,  -999.00,9,    19.74,   2,     1.05,2,   -999.0,9,   7.7240,2,    25.00,   7.5474
  35TH20040604, OVIDE,    82,  1,     21,     21,2,20040626,2357, 46.5400, -19.6710, 4601,    997.6,   7.0430,  35.1160,2,  35.1180,2,    205.3,2,    205.3,2,  -999.00,9,    20.55,   2,     1.10,2,   -999.0,9,   7.7060,2,    25.00,   6.9437
  35TH20040604, OVIDE,    82,  1,     22,     22,2,20040626,2357, 46.5400, -19.6710, 4601,    797.3,   9.6340,  35.3640,2,  35.3660,2,    195.8,2,    192.5,2,  -999.00,9,    18.71,   2,     0.96,2,   -999.0,9,   7.7510,2,    25.00,   9.5403
  35TH20040604, OVIDE,    82,  1,     23,     23,2,20040626,2357, 46.5400, -19.6710, 4601,    597.6,  11.2340,  35.5110,2,  35.5120,2,    232.5,2,    230.3,2,  -999.00,9,    12.97,   2,     0.65,2,   -999.0,9,   7.8240,2,    25.00,  11.1575
  35TH20040604, OVIDE,    82,  1,     24,     24,2,20040626,2357, 46.5400, -19.6710, 4601,    396.5,  12.3540,  35.6800,2,  35.6780,2,    237.8,2,    236.3,2,  -999.00,9,    10.44,   2,     0.50,2,   -999.0,9,   7.8580,2,    25.00,  12.3005
  35TH20040604, OVIDE,    82,  1,     25,     25,2,20040626,2357, 46.5400, -19.6710, 4601,    246.2,  13.0430,  35.7920,2,  35.7930,2,    243.9,2,    246.2,2,  -999.00,9,     7.69,   2,     0.37,2,   -999.0,9,   7.8930,2,    25.00,  13.0087
  35TH20040604, OVIDE,    82,  1,     26,     26,2,20040626,2357, 46.5400, -19.6710, 4601,    146.0,  13.2260,  35.7990,2,  35.8010,2,    241.7,2,    244.6,2,  -999.00,9,     7.80,   2,     0.39,2,   -999.0,9,   7.8940,2,    25.00,  13.2056
  35TH20040604, OVIDE,    82,  1,     27,     27,2,20040626,2357, 46.5400, -19.6710, 4601,     97.2,  13.5050,  35.8360,2,  35.8380,2,    242.4,2,    245.8,2,  -999.00,9,     7.23,   2,     0.34,2,   -999.0,9,   7.9080,2,    25.00,  13.4912
  35TH20040604, OVIDE,    82,  1,     28,     28,2,20040626,2357, 46.5400, -19.6710, 4601,     53.9,  14.2330,  35.8570,2,  35.8590,2,    244.3,2,    252.3,3,  -999.00,9,     4.70,   2,     0.27,2,   -999.0,9,   7.9260,2,    25.00,  14.2251
  35TH20040604, OVIDE,    82,  1,     29,     29,2,20040626,2357, 46.5400, -19.6710, 4601,     52.3,  14.2660,  35.8550,2,  35.8600,2,    244.2,2,    252.2,3,  -999.00,9,     4.59,   2,     0.26,2,   -999.0,9,   7.9290,2,    25.00,  14.2583
  35TH20040604, OVIDE,    82,  1,     30,     30,2,20040626,2357, 46.5400, -19.6710, 4601,      9.0,  17.4260,  35.8990,2,  35.8950,2,    229.7,2,    245.0,3,  -999.00,9,     0.12,   2,     0.04,2,   -999.0,9,   8.0010,2,    25.00,  17.4245