BOTTLE,20220120SIOCCHENA
EXPOCODE,SECT_ID,STNNBR,CASTNO,SAMPNO,BTLNBR,BTLNBR_FLAG_W,DATE,TIME,LATITUDE,LONGITUDE,DEPTH,CTDPRS,CTDTMP,CTDSAL,CTDSAL_FLAG_W,SALNTY,SALNTY_FLAG_W,CTDOXY,CTDOXY_FLAG_W,OXYGEN,OXYGEN_FLAG_W,SILCAT,SILCAT_FLAG_W,NITRAT,NITRAT_FLAG_W,PHSPHT,PHSPHT_FLAG_W,ALKALI,ALKALI_FLAG_W,PH_SWS,PH_SWS_FLAG_W,PH_TMP,THETA
,,,,,,,,,,,METERS,DBAR,ITS-90,PSS-78,,PSS-78,,UMOL/KG,,UMOL/KG,,UMOL/KG,,UMOL/KG,,UMOL/KG,,UMOL/KG,,,,DEG C,DEG C
  35TH20040604, OVIDE,    97,  1,      3,      3,2,20040629,1412, 42.5840, -15.4550, 5093,   5081.3,   2.5290,  34.8950,2,  34.8940,2,    242.2,2,    242.2,2,    44.46,2,    19.91,   2,     1.31,2,   2358.2,2,   7.7340,2,    25.00,   2.0482
  35TH20040604, OVIDE,    97,  1,      4,      4,2,20040629,1412, 42.5840, -15.4550, 5093,   4496.7,   2.4800,  34.8980,2,  34.8990,2,    242.4,2,    242.5,2,    43.78,2,    18.62,   2,     1.30,2,   2356.2,2,   7.7310,2,    25.00,   2.0736
  35TH20040604, OVIDE,    97,  1,      5,      5,2,20040629,1412, 42.5840, -15.4550, 5093,   3997.4,   2.5140,  34.9080,2,  34.9120,2,    242.7,2,    243.2,2,    41.75,2,    17.89,   2,     1.31,2,   2353.3,2,   7.7320,2,    25.00,   2.1655
  35TH20040604, OVIDE,    97,  1,      6,      6,2,20040629,1412, 42.5840, -15.4550, 5093,   3747.8,   2.5530,  34.9150,2,  34.9140,2,    243.5,2,    243.2,2,    40.26,2,    18.28,   2,     1.30,2,   2350.9,2,   7.7330,2,    25.00,   2.2318
  35TH20040604, OVIDE,    97,  1,      7,      7,2,20040629,1412, 42.5840, -15.4550, 5093,   3747.3,   2.5540,  34.9140,2,  34.9140,2,    243.5,2,    243.3,2,    40.26,2,    18.17,   2,     1.31,2,   2350.4,2,   7.7310,2,    25.00,   2.2328
  35TH20040604, OVIDE,    97,  1,      8,      8,2,20040629,1412, 42.5840, -15.4550, 5093,   3248.2,   2.7070,  34.9320,2,  34.9320,2,    246.5,2,    245.9,2,    35.51,2,    18.00,   2,     1.26,2,   2343.7,2,   7.7320,2,    25.00,   2.4365
  35TH20040604, OVIDE,    97,  1,      9,      9,2,20040629,1412, 42.5840, -15.4550, 5093,   2996.8,   2.8210,  34.9440,2,  34.9460,2,    248.8,2,    247.8,2,    32.39,2,    18.11,   2,     1.25,2,   2339.9,2,   7.7310,2,    25.00,   2.5744
  35TH20040604, OVIDE,    97,  1,     10,     10,2,20040629,1412, 42.5840, -15.4550, 5093,   2744.6,   2.9910,  34.9580,2,  34.9580,2,    249.5,2,    250.3,2,    28.87,2,    17.39,   2,     1.16,2,   2336.4,2,   7.7340,2,    25.00,   2.7667
  35TH20040604, OVIDE,    97,  1,     11,     11,2,20040629,1412, 42.5840, -15.4550, 5093,   2495.6,   3.2390,  34.9750,2,  34.9740,2,    253.0,2,    254.0,2,    24.12,2,    16.66,   2,     1.08,2,   2328.1,2,   7.7330,2,    25.00,   3.0350
  35TH20040604, OVIDE,    97,  1,     12,     12,2,20040629,1412, 42.5840, -15.4550, 5093,   2245.9,   3.4370,  34.9700,2,  34.9680,2,    258.1,2,    259.3,2,    17.94,2,    18.40,   2,     1.06,2,   2318.4,2,   7.7320,2,    25.00,   3.2542
  35TH20040604, OVIDE,    97,  1,     13,     13,2,20040629,1412, 42.5840, -15.4550, 5093,   1995.6,   3.5820,  34.9520,2,  34.9520,2,    266.9,2,    266.9,2,    13.73,2,    16.88,   2,     1.01,2,   2311.2,2,   7.7320,2,    25.00,   3.4211
  35TH20040604, OVIDE,    97,  1,     14,     14,2,20040629,1412, 42.5840, -15.4550, 5093,   1796.6,   3.8720,  34.9680,2,  34.9750,2,    266.6,2,    264.6,2,    12.16,2,    13.57,   2,     0.99,2,   2311.8,2,   7.7250,2,    25.00,   3.7258
  35TH20040604, OVIDE,    97,  1,     15,     15,2,20040629,1412, 42.5840, -15.4550, 5093,   1596.1,   4.7120,  35.0880,2,  35.0940,2,    250.5,2,    249.6,2,    11.88,2,    13.57,   2,     1.01,2,   2322.0,2,   7.7290,2,    25.00,   4.5742
  35TH20040604, OVIDE,    97,  1,     16,     16,2,20040629,1412, 42.5840, -15.4550, 5093,   1396.2,   6.4440,  35.3620,2,  35.3650,2,    224.3,2,    225.4,2,    11.33,2,    13.57,   2,     0.99,2,   2340.9,2,   7.7410,2,    25.00,   6.3069
  35TH20040604, OVIDE,    97,  1,     17,     17,2,20040629,1412, 42.5840, -15.4550, 5093,   1196.4,   8.2930,  35.6450,2,  35.6460,2,    202.7,2,    203.1,2,    10.58,2,    13.34,   2,     0.91,2,   2359.4,2,   7.7560,2,    25.00,   8.1606
  35TH20040604, OVIDE,    97,  1,     18,     18,2,20040629,1412, 42.5840, -15.4550, 5093,   1090.2,   9.0750,  35.7420,2,  35.7440,2,    194.2,2,    193.9,2,    10.11,2,    10.65,   3,     0.88,2,   -999.0,9,   7.7650,2,    25.00,   8.9488
  35TH20040604, OVIDE,    97,  1,     19,     19,2,20040629,1412, 42.5840, -15.4550, 5093,    945.9,   9.9150,  35.7890,2,  35.7880,2,    185.2,2,    185.1,2,     9.48,2,    12.28,   2,     0.90,2,   2365.6,2,   7.7700,2,    25.00,   9.8006
  35TH20040604, OVIDE,    97,  1,     20,     20,2,20040629,1412, 42.5840, -15.4550, 5093,    797.2,  10.2830,  35.6950,2,  35.6990,2,    182.6,2,    183.6,2,     8.77,2,    11.94,   2,     0.91,2,   2355.5,2,   7.7660,2,    25.00,  10.1853
  35TH20040604, OVIDE,    97,  1,     21,     21,2,20040629,1412, 42.5840, -15.4550, 5093,    696.4,  10.5020,  35.6210,2,  35.6200,2,    185.7,2,    186.5,2,     7.98,2,    13.34,   2,     0.85,2,   -999.0,9,   7.7680,2,    25.00,  10.4160
  35TH20040604, OVIDE,    97,  1,     22,     22,2,20040629,1412, 42.5840, -15.4550, 5093,    597.2,  10.7990,  35.5490,2,  35.5520,2,    196.1,2,    196.3,2,     6.69,2,    13.45,   2,     0.81,2,   2340.8,2,   7.7750,2,    25.00,  10.7244
  35TH20040604, OVIDE,    97,  1,     23,     23,2,20040629,1412, 42.5840, -15.4550, 5093,    495.3,  11.1600,  35.5400,2,  35.5410,2,    209.9,2,    207.4,2,     5.51,2,    10.99,   2,     0.74,2,   2337.1,2,   7.7910,2,    25.00,  11.0972
  35TH20040604, OVIDE,    97,  1,     24,     24,2,20040629,1412, 42.5840, -15.4550, 5093,    396.4,  11.5870,  35.5760,2,  35.5770,2,    217.7,2,    216.2,2,     4.52,2,     8.63,   2,     0.61,2,   2337.6,2,   7.8140,2,    25.00,  11.5357
  35TH20040604, OVIDE,    97,  1,     25,     25,2,20040629,1412, 42.5840, -15.4550, 5093,    296.3,  12.0760,  35.6380,2,  35.6360,2,    223.2,2,    223.9,2,     3.85,2,     7.85,   2,     0.54,2,   2339.5,2,   7.8360,2,    25.00,  12.0368
  35TH20040604, OVIDE,    97,  1,     26,     26,2,20040629,1412, 42.5840, -15.4550, 5093,    196.0,  12.6850,  35.7170,2,  35.7170,2,    236.4,2,    227.0,3,     3.22,2,     6.33,   2,     0.46,2,   2347.0,2,   7.8550,2,    25.00,  12.6583
  35TH20040604, OVIDE,    97,  1,     27,     27,2,20040629,1412, 42.5840, -15.4550, 5093,    147.3,  13.1900,  35.7840,2,  35.7840,2,    241.4,2,    240.0,2,     2.12,2,     4.26,   2,     0.32,2,   -999.0,9,   7.8930,2,    25.00,  13.1694
  35TH20040604, OVIDE,    97,  1,     28,     28,2,20040629,1412, 42.5840, -15.4550, 5093,     97.2,  13.5710,  35.8260,2,  35.8290,2,    238.6,2,    244.3,2,     1.42,2,     3.25,   2,     0.22,2,   2353.6,2,   7.9120,2,    25.00,  13.5572
  35TH20040604, OVIDE,    97,  1,     29,     29,2,20040629,1412, 42.5840, -15.4550, 5093,     51.0,  14.0320,  35.8630,2,  35.8670,2,    264.8,2,    245.4,3,     0.79,2,     0.95,   2,     0.10,2,   -999.0,9,   7.9340,2,    25.00,  14.0246
  35TH20040604, OVIDE,    97,  1,     30,     30,2,20040629,1412, 42.5840, -15.4550, 5093,      6.1,  18.5910,  35.9200,2,  35.9170,2,    238.5,2,    242.2,2,     0.86,2,     0.17,   2,     0.02,2,   -999.0,9,   7.9810,2,    25.00,  18.5899
  35TH20040604, OVIDE,    98,  1,      3,      3,2,20040629,1943, 42.4300, -15.2610, 4982,   4970.4,   2.5200,  34.8960,2,  34.8980,2,    243.1,2,    243.0,2,    44.05,2,    22.26,   2,     1.31,2,   -999.0,9,   7.7360,2,    25.00,   2.0536
  35TH20040604, OVIDE,    98,  1,      4,      4,2,20040629,1943, 42.4300, -15.2610, 4982,   4499.3,   2.4930,  34.8990,2,  34.9000,2,    243.4,2,    243.3,2,    43.37,2,    22.43,   2,     1.31,2,   -999.0,9,   7.7330,2,    25.00,   2.0859
  35TH20040604, OVIDE,    98,  1,      5,      5,2,20040629,1943, 42.4300, -15.2610, 4982,   3997.9,   2.5350,  34.9090,2,  34.9150,2,    243.3,2,    244.5,2,    40.93,2,    21.86,   2,     1.29,2,   -999.0,9,   7.7330,2,    25.00,   2.1859
  35TH20040604, OVIDE,    98,  1,      6,      6,2,20040629,1943, 42.4300, -15.2610, 4982,   3747.2,   2.5710,  34.9140,2,  34.9160,2,    244.8,2,    244.5,2,    39.58,2,    21.80,   2,     1.29,2,   -999.0,9,   7.7320,2,    25.00,   2.2494
  35TH20040604, OVIDE,    98,  1,      7,      7,2,20040629,1943, 42.4300, -15.2610, 4982,   3497.6,   2.6260,  34.9220,2,  34.9300,2,    245.8,2,    245.0,2,    37.68,2,    21.40,   2,     1.26,2,   -999.0,9,   7.7330,2,    25.00,   2.3306
  35TH20040604, OVIDE,    98,  1,      8,      8,2,20040629,1943, 42.4300, -15.2610, 4982,   3247.0,   2.7200,  34.9330,2,  34.9340,2,    245.6,2,    246.7,2,    35.10,2,    21.12,   2,     1.24,2,   -999.0,9,   7.7320,2,    25.00,   2.4493
  35TH20040604, OVIDE,    98,  1,      9,      9,2,20040629,1943, 42.4300, -15.2610, 4982,   2998.3,   2.8610,  34.9460,2,  34.9460,2,    250.1,2,    248.7,2,    31.58,2,    20.66,   2,     1.20,2,   -999.0,9,   7.7330,2,    25.00,   2.6133
  35TH20040604, OVIDE,    98,  1,     10,     10,2,20040629,1943, 42.4300, -15.2610, 4982,   2746.9,   3.0390,  34.9600,2,  34.9610,2,    251.9,2,    251.1,2,    28.06,2,    19.57,   2,     1.15,2,   -999.0,9,   7.7360,2,    25.00,   2.8135
  35TH20040604, OVIDE,    98,  1,     11,     11,2,20040629,1943, 42.4300, -15.2610, 4982,   2495.1,   3.3130,  34.9810,2,  34.9800,2,    254.6,2,    254.2,2,    23.72,2,    19.63,   2,     1.11,2,   -999.0,9,   7.7340,2,    25.00,   3.1076
  35TH20040604, OVIDE,    98,  1,     12,     12,2,20040629,1943, 42.4300, -15.2610, 4982,   2246.5,   3.5870,  34.9880,2,  34.9870,2,    259.5,2,    259.7,2,    17.23,2,    18.60,   2,     1.03,2,   -999.0,9,   7.7360,2,    25.00,   3.4016
  35TH20040604, OVIDE,    98,  1,     13,     13,2,20040629,1943, 42.4300, -15.2610, 4982,   1996.6,   3.6330,  34.9520,2,  34.9530,2,    267.9,2,    267.8,2,    13.32,2,    17.98,   2,     0.98,2,   -999.0,9,   7.7320,2,    25.00,   3.4713
  35TH20040604, OVIDE,    98,  1,     14,     14,2,20040629,1943, 42.4300, -15.2610, 4982,   1796.4,   4.2460,  35.0340,2,  35.1520,3,    256.4,2,    258.3,2,    12.52,2,    19.52,   2,     0.99,2,   -999.0,9,   7.7330,2,    25.00,   4.0947
  35TH20040604, OVIDE,    98,  1,     15,     15,2,20040629,1943, 42.4300, -15.2610, 4982,   1595.8,   5.0920,  35.1490,2,  35.1520,2,    242.4,2,    245.2,2,    11.77,2,    18.14,   2,     0.98,2,   -999.0,9,   7.7370,2,    25.00,   4.9495
  35TH20040604, OVIDE,    98,  1,     16,     16,2,20040629,1943, 42.4300, -15.2610, 4982,   1395.8,   6.4520,  35.3580,2,  35.3600,2,    225.1,2,    226.0,2,    11.45,2,    18.60,   2,     0.96,2,   -999.0,9,   7.7410,2,    25.00,   6.3149
  35TH20040604, OVIDE,    98,  1,     17,     17,2,20040629,1943, 42.4300, -15.2610, 4982,   1196.2,   8.5010,  35.6780,2,  35.6780,2,    203.6,2,    201.1,2,    10.42,2,    17.45,   2,     0.85,2,   -999.0,9,   7.7600,2,    25.00,   8.3668
  35TH20040604, OVIDE,    98,  1,     18,     18,2,20040629,1943, 42.4300, -15.2610, 4982,    976.8,  10.2060,  35.8890,2,  35.8890,2,    186.3,2,    185.1,2,     9.20,2,    16.88,   2,     0.85,2,   -999.0,9,   7.7760,2,    25.00,  10.0855
  35TH20040604, OVIDE,    98,  1,     19,     19,2,20040629,1943, 42.4300, -15.2610, 4982,    866.4,   9.8500,  35.6830,2,  35.6870,2,    186.2,2,    186.3,2,     9.24,2,    17.45,   2,     0.90,2,   -999.0,9,   7.7620,2,    25.00,   9.7461
  35TH20040604, OVIDE,    98,  1,     20,     20,2,20040629,1943, 42.4300, -15.2610, 4982,    776.4,   9.6380,  35.4880,2,  35.6880,3,    188.1,2,    187.2,2,     9.08,2,    17.80,   2,     0.94,2,   -999.0,9,   7.7480,2,    25.00,   9.5467
  35TH20040604, OVIDE,    98,  1,     21,     21,2,20040629,1943, 42.4300, -15.2610, 4982,    695.5,  10.3490,  35.5300,2,  35.5100,3,    191.2,2,    190.0,2,     7.86,2,    16.94,   2,     0.88,2,   -999.0,9,   7.7650,2,    25.00,  10.2640
  35TH20040604, OVIDE,    98,  1,     22,     22,2,20040629,1943, 42.4300, -15.2610, 4982,    597.5,  10.7350,  35.4740,2,  35.5290,3,    208.5,2,    204.3,2,     6.44,2,    15.29,   2,     0.77,2,   -999.0,9,   7.7850,2,    25.00,  10.6607
  35TH20040604, OVIDE,    98,  1,     23,     23,2,20040629,1943, 42.4300, -15.2610, 4982,    495.7,  11.3610,  35.5330,2,  35.6250,3,    222.1,2,    221.5,2,     4.90,2,    13.01,   2,     0.63,2,   -999.0,9,   7.8140,2,    25.00,  11.2974
  35TH20040604, OVIDE,    98,  1,     24,     24,2,20040629,1943, 42.4300, -15.2610, 4982,    395.8,  11.9940,  35.6270,2,  35.6990,3,    233.2,2,    234.3,2,     3.79,2,    10.55,   2,     0.51,2,   -999.0,9,   7.8500,2,    25.00,  11.9416
  35TH20040604, OVIDE,    98,  1,     25,     25,2,20040629,1943, 42.4300, -15.2610, 4982,    294.9,  12.4820,  35.6990,2,  35.7000,2,    235.7,2,    239.0,2,     3.16,2,     9.01,   2,     0.44,2,   -999.0,9,   7.8690,2,    25.00,  12.4421
  35TH20040604, OVIDE,    98,  1,     26,     26,2,20040629,1943, 42.4300, -15.2610, 4982,    196.7,  13.0490,  35.7730,2,  35.7720,2,    242.4,2,    243.7,2,     2.33,2,     7.13,   2,     0.33,2,   -999.0,9,   7.8920,2,    25.00,  13.0217
  35TH20040604, OVIDE,    98,  1,     27,     27,2,20040629,1943, 42.4300, -15.2610, 4982,    134.5,  13.2700,  35.8000,2,  35.8000,2,    244.0,2,    247.0,2,     1.82,2,     6.04,   2,     0.28,2,   -999.0,9,   7.9060,2,    25.00,  13.2511
  35TH20040604, OVIDE,    98,  1,     28,     28,2,20040629,1943, 42.4300, -15.2610, 4982,     94.6,  13.4540,  35.8200,2,  35.8220,2,    237.4,2,    247.5,2,     1.34,2,     5.13,   2,     0.24,2,   -999.0,9,   7.9120,2,    25.00,  13.4406
  35TH20040604, OVIDE,    98,  1,     29,     29,2,20040629,1943, 42.4300, -15.2610, 4982,     47.0,  14.0070,  35.8910,2,  35.8790,3,    253.4,2,    244.0,2,     1.18,2,     2.91,   2,     0.13,2,   -999.0,9,   7.9250,2,    25.00,  14.0002
  35TH20040604, OVIDE,    98,  1,     30,     30,2,20040629,1943, 42.4300, -15.2610, 4982,      4.0,  19.7160,  35.8940,2,  35.8890,2,    219.3,2,    238.6,3,     0.91,2,     0.11,   2,     0.01,2,   -999.0,9,   7.9970,2,    25.00,  19.7153