BOTTLE,20220120SIOCCHENA
EXPOCODE,SECT_ID,STNNBR,CASTNO,SAMPNO,BTLNBR,BTLNBR_FLAG_W,DATE,TIME,LATITUDE,LONGITUDE,DEPTH,CTDPRS,CTDTMP,CTDSAL,CTDSAL_FLAG_W,SALNTY,SALNTY_FLAG_W,CTDOXY,CTDOXY_FLAG_W,OXYGEN,OXYGEN_FLAG_W,SILCAT,SILCAT_FLAG_W,NITRAT,NITRAT_FLAG_W,PHSPHT,PHSPHT_FLAG_W,ALKALI,ALKALI_FLAG_W,PH_SWS,PH_SWS_FLAG_W,PH_TMP,THETA
,,,,,,,,,,,METERS,DBAR,ITS-90,PSS-78,,PSS-78,,UMOL/KG,,UMOL/KG,,UMOL/KG,,UMOL/KG,,UMOL/KG,,UMOL/KG,,,,DEG C,DEG C
  35TH20040604, OVIDE,    29,  1,      3,      3,2,20040616,0022, 59.2990, -35.7560, 3145,   3131.4,   1.9760,  34.8960,2,  34.8960,2,    285.9,2,    292.2,2,    10.42,2,    13.24,   2,     1.12,2,   -999.0,9,   7.7230,2,    25.00,   1.7346
  35TH20040604, OVIDE,    29,  1,      4,      4,2,20040616,0022, 59.2990, -35.7560, 3145,   3096.7,   2.6380,  34.9170,2,  34.9200,2,    280.3,2,    280.7,2,    13.04,2,    16.57,   2,     1.15,2,   -999.0,9,   7.7250,2,    25.00,   2.3851
  35TH20040604, OVIDE,    29,  1,      5,      5,2,20040616,0022, 59.2990, -35.7560, 3145,   3044.5,   2.8000,  34.9250,2,  34.9230,2,    279.7,2,    278.3,2,    13.53,3,    17.49,   3,     1.21,2,   -999.0,9,   7.7260,2,    25.00,   2.5490
  35TH20040604, OVIDE,    29,  1,      6,      6,2,20040616,0022, 59.2990, -35.7560, 3145,   2996.1,   2.8240,  34.9250,2,  34.9250,2,    278.6,2,    278.2,2,    13.45,3,    16.18,   3,     1.24,2,   -999.0,9,   7.7240,2,    25.00,   2.5775
  35TH20040604, OVIDE,    29,  1,      7,      7,2,20040616,0022, 59.2990, -35.7560, 3145,   2946.8,   2.8500,  34.9270,2,  34.9260,2,    278.3,2,    277.0,2,    13.57,2,    16.81,   2,     1.18,2,   -999.0,9,   7.7250,2,    25.00,   2.6080
  35TH20040604, OVIDE,    29,  1,      8,      8,2,20040616,0022, 59.2990, -35.7560, 3145,   2746.3,   2.9300,  34.9280,2,  34.9290,2,    278.3,2,    276.7,2,    13.28,2,    16.91,   2,     1.21,2,   -999.0,9,   7.7270,2,    25.00,   2.7069
  35TH20040604, OVIDE,    29,  1,      9,      9,2,20040616,0022, 59.2990, -35.7560, 3145,   2496.6,   3.0800,  34.9330,2,  34.9330,2,    278.0,2,    276.3,2,    12.38,2,    16.23,   2,     1.18,2,   -999.0,9,   7.7270,2,    25.00,   2.8789
  35TH20040604, OVIDE,    29,  1,     10,     10,2,20040616,0022, 59.2990, -35.7560, 3145,   2244.7,   3.2390,  34.9400,2,  34.9380,2,    276.5,2,    276.6,2,    11.40,2,    16.23,   2,     1.18,2,   -999.0,9,   7.7240,2,    25.00,   3.0597
  35TH20040604, OVIDE,    29,  1,     11,     11,2,20040616,0022, 59.2990, -35.7560, 3145,   1995.0,   3.3190,  34.9250,2,  34.9270,2,    280.2,2,    279.3,2,    10.82,3,    13.91,   3,     1.24,2,   -999.0,9,   7.7240,2,    25.00,   3.1622
  35TH20040604, OVIDE,    29,  1,     12,     12,2,20040616,0022, 59.2990, -35.7560, 3145,   1787.0,   3.5070,  34.9370,2,  34.9370,2,    278.0,2,    275.3,2,    10.74,2,    16.91,   2,     1.18,2,   -999.0,9,   7.7230,2,    25.00,   3.3667
  35TH20040604, OVIDE,    29,  1,     13,     13,2,20040616,0022, 59.2990, -35.7560, 3145,   1596.2,   3.4620,  34.8980,2,  34.8950,2,    276.5,2,    279.2,2,    10.50,3,    12.80,   3,     1.25,2,   -999.0,9,   7.7190,2,    25.00,   3.3396
  35TH20040604, OVIDE,    29,  1,     14,     14,2,20040616,0022, 59.2990, -35.7560, 3145,   1394.0,   3.5430,  34.8860,2,  34.8830,2,    278.5,2,    280.3,2,     9.84,2,    16.67,   2,     1.25,2,   -999.0,9,   7.7160,2,    25.00,   3.4374
  35TH20040604, OVIDE,    29,  1,     15,     15,2,20040616,0022, 59.2990, -35.7560, 3145,   1276.0,   3.3820,  34.8490,2,  34.8440,2,    291.7,2,    291.8,2,     9.02,2,    17.20,   2,     1.23,2,   -999.0,9,   7.7180,2,    25.00,   3.2881
  35TH20040604, OVIDE,    29,  1,     16,     16,2,20040616,0022, 59.2990, -35.7560, 3145,   1195.3,   3.4680,  34.8560,2,  34.8550,2,    288.9,2,    288.7,2,     9.10,3,    18.26,   3,     1.24,2,   -999.0,9,   7.7160,2,    25.00,   3.3800
  35TH20040604, OVIDE,    29,  1,     17,     17,2,20040616,0022, 59.2990, -35.7560, 3145,    995.4,   3.7470,  34.8740,2,  34.8690,2,    283.7,2,    282.7,2,     9.18,2,    16.76,   2,     1.33,2,   -999.0,9,   7.7140,2,    25.00,   3.6730
  35TH20040604, OVIDE,    29,  1,     18,     18,2,20040616,0022, 59.2990, -35.7560, 3145,    895.6,   3.9560,  34.8880,2,  34.8850,2,    277.7,2,    277.0,2,     9.43,2,    16.72,   2,     1.29,2,   -999.0,9,   7.7110,2,    25.00,   3.8887
  35TH20040604, OVIDE,    29,  1,     19,     19,2,20040616,0022, 59.2990, -35.7560, 3145,    795.2,   4.3850,  34.9150,2,  34.9140,2,    273.6,2,    268.3,2,     9.55,2,    17.10,   2,     1.24,2,   -999.0,9,   7.7110,2,    25.00,   4.3231
  35TH20040604, OVIDE,    29,  1,     20,     20,2,20040616,0022, 59.2990, -35.7560, 3145,    725.8,   4.8490,  34.9650,2,  34.9570,2,    251.8,2,    254.1,2,    10.09,2,    17.92,   2,     1.30,2,   -999.0,9,   7.7050,2,    25.00,   4.7903
  35TH20040604, OVIDE,    29,  1,     21,     21,2,20040616,0022, 59.2990, -35.7560, 3145,    596.1,   5.2240,  34.9410,2,  34.9390,2,    270.8,2,    267.9,2,     8.78,2,    16.67,   2,     1.19,2,   -999.0,9,   7.7250,2,    25.00,   5.1746
  35TH20040604, OVIDE,    29,  1,     22,     22,2,20040616,0022, 59.2990, -35.7560, 3145,    497.1,   5.9050,  34.9890,2,  34.9800,2,    263.2,2,    265.1,2,     8.53,2,    16.62,   2,     1.21,2,   -999.0,9,   7.7350,2,    25.00,   5.8616
  35TH20040604, OVIDE,    29,  1,     23,     23,2,20040616,0022, 59.2990, -35.7560, 3145,    415.1,   6.1710,  34.9960,2,  34.9900,2,    278.6,2,    281.5,2,     7.30,2,    15.60,   2,     1.15,2,   -999.0,9,   7.7580,2,    25.00,   6.1341
  35TH20040604, OVIDE,    29,  1,     24,     24,2,20040616,0022, 59.2990, -35.7560, 3145,    296.8,   6.8660,  35.0570,2,  35.0550,2,    277.3,2,    272.4,2,     7.18,2,    15.26,   2,     1.10,2,   -999.0,9,   7.7640,2,    25.00,   6.8383
  35TH20040604, OVIDE,    29,  1,     25,     25,2,20040616,0022, 59.2990, -35.7560, 3145,    197.4,   7.2760,  35.0830,2,  35.0810,2,    278.6,2,    278.0,2,     6.40,2,    12.42,   2,     1.05,2,   -999.0,9,   7.7800,2,    25.00,   7.2571
  35TH20040604, OVIDE,    29,  1,     26,     26,2,20040616,0022, 59.2990, -35.7560, 3145,    147.1,   7.3550,  35.0900,2,  35.0870,2,    273.8,2,    278.6,2,     6.36,2,    12.46,   2,     1.06,2,   -999.0,9,   7.7800,2,    25.00,   7.3408
  35TH20040604, OVIDE,    29,  1,     27,     27,2,20040616,0022, 59.2990, -35.7560, 3145,     97.0,   7.4680,  35.0860,2,  35.0830,2,    267.7,2,    281.4,3,     6.23,2,    12.22,   2,     1.02,2,   -999.0,9,   7.7870,2,    25.00,   7.4586
  35TH20040604, OVIDE,    29,  1,     28,     28,2,20040616,0022, 59.2990, -35.7560, 3145,     43.5,   8.3530,  35.0380,2,  35.0350,2,    288.3,2,    299.9,3,     1.52,2,     9.66,   2,     0.79,2,   -999.0,9,   7.8460,2,    25.00,   8.3485
  35TH20040604, OVIDE,    29,  1,     29,     29,2,20040616,0022, 59.2990, -35.7560, 3145,      3.8,   8.3570,  35.0390,2,  35.0350,2,    287.5,2,    300.2,3,     1.31,2,     8.55,   2,     0.79,2,   -999.0,9,   7.8470,2,    25.00,   8.3566
  35TH20040604, OVIDE,    29,  1,     30,     30,2,20040616,0022, 59.2990, -35.7560, 3145,      3.6,   8.3570,  35.0390,2,  35.0350,2,    287.5,2,    300.1,3,     1.27,2,     8.98,   2,     0.77,2,   -999.0,9,   7.8510,2,    25.00,   8.3566
  35TH20040604, OVIDE,    30,  1,      3,      3,2,20040616,0437, 59.2310, -35.1150, 3035,   3021.4,   2.6430,  34.9170,2,  34.9190,2,    281.0,2,    280.0,2,    12.77,2,    16.66,   2,     1.19,2,   2304.3,2,   7.7310,2,    25.00,   2.3978
  35TH20040604, OVIDE,    30,  1,      4,      4,2,20040616,0437, 59.2310, -35.1150, 3035,   3019.3,   2.6460,  34.9170,2,  34.9170,2,    281.0,2,    280.3,2,    12.65,2,    16.09,   2,     1.22,2,   2304.8,2,   7.7270,2,    25.00,   2.4010
  35TH20040604, OVIDE,    30,  1,      5,      5,2,20040616,0437, 59.2310, -35.1150, 3035,   2995.5,   2.7160,  34.9190,2,  34.9180,2,    279.9,2,    278.9,2,    12.60,2,    15.61,   2,     1.21,2,   2308.9,2,   7.7270,2,    25.00,   2.4719
  35TH20040604, OVIDE,    30,  1,      6,      6,2,20040616,0437, 59.2310, -35.1150, 3035,   2946.8,   2.8280,  34.9250,2,  34.9260,2,    280.5,2,    277.5,2,    13.09,2,    16.66,   2,     1.22,2,   2309.1,2,   7.7260,2,    25.00,   2.5865
  35TH20040604, OVIDE,    30,  1,      7,      7,2,20040616,0437, 59.2310, -35.1150, 3035,   2895.3,   2.8850,  34.9260,2,  34.9260,2,    278.7,2,    277.2,2,    13.05,3,    15.42,   3,     1.20,2,   2309.6,2,   7.7280,2,    25.00,   2.6476
  35TH20040604, OVIDE,    30,  1,      8,      8,2,20040616,0437, 59.2310, -35.1150, 3035,   2846.6,   2.9270,  34.9260,2,  34.9270,2,    276.3,2,    276.8,2,    13.01,2,    16.57,   2,     1.23,2,   2304.8,2,   7.7280,2,    25.00,   2.6937
  35TH20040604, OVIDE,    30,  1,      9,      9,2,20040616,0437, 59.2310, -35.1150, 3035,   2745.7,   2.9790,  34.9280,2,  34.9260,2,    279.5,2,    277.0,2,    12.60,3,    14.62,   3,     1.19,2,   2305.4,2,   7.7280,2,    25.00,   2.7550
  35TH20040604, OVIDE,    30,  1,     10,     10,2,20040616,0437, 59.2310, -35.1150, 3035,   2495.8,   3.1080,  34.9300,2,  34.9310,2,    278.8,2,    276.9,2,    11.91,2,    16.80,   2,     1.23,2,   2305.7,2,   7.7240,2,    25.00,   2.9065
  35TH20040604, OVIDE,    30,  1,     11,     11,2,20040616,0437, 59.2310, -35.1150, 3035,   2246.7,   3.1530,  34.9120,2,  34.9120,2,    281.8,2,    279.8,2,    11.22,2,    17.23,   2,     1.15,2,   2306.1,2,   7.7200,2,    25.00,   2.9750
  35TH20040604, OVIDE,    30,  1,     12,     12,2,20040616,0437, 59.2310, -35.1150, 3035,   1996.7,   3.2060,  34.8960,2,  34.8940,2,    283.7,2,    282.7,2,    10.65,3,    16.71,   3,     1.25,2,   2305.8,2,   7.7240,2,    25.00,   3.0508
  35TH20040604, OVIDE,    30,  1,     13,     13,2,20040616,0437, 59.2310, -35.1150, 3035,   1796.5,   3.2710,  34.8880,2,  34.8900,2,    282.7,2,    282.8,2,    10.65,2,    17.95,   2,     1.24,2,   2306.2,2,   7.7260,2,    25.00,   3.1332
  35TH20040604, OVIDE,    30,  1,     14,     14,2,20040616,0437, 59.2310, -35.1150, 3035,   1596.5,   3.4590,  34.8960,2,  34.8940,2,    279.1,2,    279.0,2,    10.45,2,    17.61,   2,     1.27,2,   -999.0,9,   7.7190,2,    25.00,   3.3366
  35TH20040604, OVIDE,    30,  1,     15,     15,2,20040616,0437, 59.2310, -35.1150, 3035,   1396.9,   3.5770,  34.8930,2,  34.8910,2,    283.3,2,    278.6,2,    10.00,2,    15.80,   2,     1.25,2,   2303.0,2,   7.7160,2,    25.00,   3.4708
  35TH20040604, OVIDE,    30,  1,     16,     16,2,20040616,0437, 59.2310, -35.1150, 3035,   1196.1,   3.4820,  34.8600,2,  34.8600,2,    284.7,2,    287.4,2,     9.43,2,    16.33,   2,     1.19,2,   2300.5,2,   7.7110,2,    25.00,   3.3938
  35TH20040604, OVIDE,    30,  1,     17,     17,2,20040616,0437, 59.2310, -35.1150, 3035,    995.0,   3.6780,  34.8640,2,  34.8620,2,    282.2,2,    285.4,2,     9.39,2,    16.85,   2,     1.21,2,   2300.4,2,   7.7140,2,    25.00,   3.6046
  35TH20040604, OVIDE,    30,  1,     18,     18,2,20040616,0437, 59.2310, -35.1150, 3035,    897.9,   3.8700,  34.8810,2,  34.8760,2,    281.5,2,    281.2,2,     9.60,2,    16.57,   2,     1.35,2,   -999.0,9,   7.7110,2,    25.00,   3.8031
  35TH20040604, OVIDE,    30,  1,     19,     19,2,20040616,0437, 59.2310, -35.1150, 3035,    795.6,   4.1940,  34.9000,2,  34.8960,2,    271.1,2,    273.9,2,     9.35,2,    17.28,   2,     1.25,2,   2300.9,2,   7.7100,2,    25.00,   4.1333
  35TH20040604, OVIDE,    30,  1,     20,     20,2,20040616,0437, 59.2310, -35.1150, 3035,    696.7,   4.5330,  34.9040,2,  34.9020,2,    271.5,2,    281.1,3,     8.50,3,    12.81,   3,     1.24,2,   -999.0,9,   7.7200,2,    25.00,   4.4785
  35TH20040604, OVIDE,    30,  1,     21,     21,2,20040616,0437, 59.2310, -35.1150, 3035,    595.9,   4.9310,  34.9140,2,  34.9120,2,    282.4,2,    279.6,2,     8.38,2,    16.76,   2,     1.23,2,   2302.3,2,   7.7300,2,    25.00,   4.8830
  35TH20040604, OVIDE,    30,  1,     22,     22,2,20040616,0437, 59.2310, -35.1150, 3035,    497.8,   5.7630,  34.9750,2,  34.9700,2,    258.0,2,    262.7,2,     8.62,3,    12.80,   3,     1.27,2,   2305.9,2,   7.7320,2,    25.00,   5.7200
  35TH20040604, OVIDE,    30,  1,     23,     23,2,20040616,0437, 59.2310, -35.1150, 3035,    394.9,   6.1240,  34.9870,2,  34.9840,2,    282.0,2,    283.7,2,     7.24,2,    14.71,   2,     1.13,2,   2306.3,2,   7.7550,2,    25.00,   6.0891
  35TH20040604, OVIDE,    30,  1,     24,     24,2,20040616,0437, 59.2310, -35.1150, 3035,    296.1,   6.4620,  35.0130,2,  35.0080,2,    275.0,2,    273.9,2,     7.32,2,    14.14,   2,     1.07,2,   2310.0,2,   7.7540,2,    25.00,   6.4353
  35TH20040604, OVIDE,    30,  1,     25,     25,2,20040616,0437, 59.2310, -35.1150, 3035,    197.5,   7.0920,  35.0700,2,  35.0680,2,    278.8,2,    276.4,2,     6.75,2,    13.95,   2,     1.01,2,   2312.8,2,   7.7670,2,    25.00,   7.0733
  35TH20040604, OVIDE,    30,  1,     26,     26,2,20040616,0437, 59.2310, -35.1150, 3035,    146.9,   7.2260,  35.0600,2,  35.0550,2,    277.9,2,    283.0,2,     6.50,2,    13.04,   2,     0.97,2,   -999.0,9,   7.7750,2,    25.00,   7.2120
  35TH20040604, OVIDE,    30,  1,     27,     27,2,20040616,0437, 59.2310, -35.1150, 3035,     96.8,   7.5820,  35.0650,2,  35.0650,2,    287.3,2,    284.2,2,     6.02,2,    13.04,   2,     0.93,2,   2314.0,2,   7.7870,2,    25.00,   7.5726
  35TH20040604, OVIDE,    30,  1,     28,     28,2,20040616,0437, 59.2310, -35.1150, 3035,     47.2,   8.4130,  34.9920,2,  34.9900,2,    300.2,2,    296.5,2,     3.09,2,     8.38,   2,     0.82,2,   -999.0,9,   7.8340,2,    25.00,   8.4081
  35TH20040604, OVIDE,    30,  1,     29,     29,2,20040616,0437, 59.2310, -35.1150, 3035,      4.7,   8.4190,  34.9910,2,  34.9890,2,    295.9,2,    297.7,2,     2.93,2,     9.14,   2,     0.80,2,   2309.6,2,   7.8430,2,    25.00,   8.4185