BOTTLE,20220120SIOCCHENA
# added sample number column
# changed flags for fill values to 9 instead of 3 for SALNTY, CTDOXY, and OXYGEN
# BOTTLE,20140820PRINUNIVRMK
# 3/17/99 Initialized README file  
# Data from F.Perez 
# New version from Maribel I Garcia-Ibanez 8/13/14 
# Ship and cruise designation: R/V Thalassia; Ovide4 
# EXPOCODE: 35TH20040605 
# Cruise dates: 6/4/2004 - 7/6/2004 
# 114 stations 
# Region: North Atlantic, Spain to Greenland 
# Chief Scientist: Thierry Huck 
# Hydro: Who - T. Huck; Status - final 
# 	Notes:  
# 	Pressure values updated 2/26/08 
# 	See Lherminier et al. 2008 
# Nuts/O2: Who - P. Morin; Status - final 
# 	Notes: final nuts from P.Morin  
# 	Nitrate data (actually nitrate+nitrite)  
# TA: Who - F.Perez et al.; Status - final 
# 	Notes: CRM used (batch 64) 
# 	Automatic potentiometric titrator (Perez et al., 2000) 
# 	CRM reproducibility of 0.7+/-1.0 (23 duplicates) 
# 	Deep values in East (high silicate) may be slightly low relative to  
# 		WOCE, but detailed comparison needed to qualtify/assure 
# 	See Perez et al. 2008. 
# fCO2: Who - ; Status - Underway data only 
# pH: Who - F.Perez et al.; Status - final   
# 	Notes: Reported on SWS@25C 
# 	CRM used (batch 64) 
# 	CRM replication of 0.0015+/-0.0016 
# 	Measured spectrophotometric via Clayton and Byrne (1993), Total H scale @ 25C 
# References: 
# Clayton and Byrne, Spectrophotometric seawater pH measurements: total hydrogen ion concentration scale concentration scale calibration of m-cresol purple and at-sea results. Deep-sea Research I, Vol. 40, 10, 2115-2129, 2115-2129, 1993. 
# Lherminier, P., H. Mercier, T. Huck, C. Gourcuff, C. Gourcuff, F.F. Perez, P. Morin, A.Sarafanov and A. Falina, The meridional overturning circulation and the subpolar byre observed at the A25-OVIDE section in June 2002 and 2004, D.S.R. I, 57, 1374-1391, 2010. 
# Perez, F., M. Alvarez, M. Castano and A.F. Rios, Mesures de pH et d'alcalinite lows de la Campagne Ovide 2004, Mesures de pH et d'alcalinite lows de la Campagne Ovide 2004, Final Sci. Rpt, Instituto de Investigaciones Marinas, (CSIC) C/ Eduardo Cabello, N° 6, 36208 VIGO, 76pp. 
# Perez, F.F., M. Vazquez-Rodriguez, E. Louarn, X.A. Padin, X.A. Padin, H. Mercier and A.F. Rios, Temporal variability of the anthropogenic CO2 storage in the Irminger Sea, Biogeosci, 4, 1-11, 2008. 
EXPOCODE,SECT_ID,STNNBR,CASTNO,SAMPNO,BTLNBR,BTLNBR_FLAG_W,DATE,TIME,LATITUDE,LONGITUDE,DEPTH,CTDPRS,CTDTMP,CTDSAL,CTDSAL_FLAG_W,SALNTY,SALNTY_FLAG_W,CTDOXY,CTDOXY_FLAG_W,OXYGEN,OXYGEN_FLAG_W,SILCAT,SILCAT_FLAG_W,NITRAT,NITRAT_FLAG_W,PHSPHT,PHSPHT_FLAG_W,ALKALI,ALKALI_FLAG_W,PH_SWS,PH_SWS_FLAG_W,PH_TMP,THETA
,,,,,,,,,,,METERS,DBAR,ITS-90,PSS-78,,PSS-78,,UMOL/KG,,UMOL/KG,,UMOL/KG,,UMOL/KG,,UMOL/KG,,UMOL/KG,,,,DEG C,DEG C
  35TH20040604, OVIDE,     3,  1,      3,      3,2,20040611,0757, 59.8760, -42.5740,  205,    191.5,   4.9090,  34.8600,2,  34.8640,2,    292.1,2,    290.4,2,     7.29,2,    13.20,   2,     0.58,3,   2302.9,2,   7.7610,2,    25.00,   4.8942
  35TH20040604, OVIDE,     3,  1,      4,      4,2,20040611,0757, 59.8760, -42.5740,  205,    147.0,   3.9770,  34.5780,2,  34.5790,2,    306.9,2,    305.9,2,     6.20,2,    11.08,   2,     0.58,3,   2285.6,2,   7.7660,2,    25.00,   3.9668
  35TH20040604, OVIDE,     3,  1,      5,      5,2,20040611,0757, 59.8760, -42.5740,  205,     97.4,   2.8810,  34.2730,2,  34.2780,2,    313.7,2,    329.7,3,     5.53,2,     9.88,   2,     0.58,3,   2269.9,2,   7.7660,2,    25.00,   2.8752
  35TH20040604, OVIDE,     3,  1,      6,      6,2,20040611,0757, 59.8760, -42.5740,  205,     48.6,   2.6270,  34.1920,2,  34.1960,2,    318.3,2,    317.8,2,     5.16,2,     9.36,   2,     0.58,3,   2269.4,2,   7.7810,2,    25.00,   2.6242
  35TH20040604, OVIDE,     3,  1,      7,      7,2,20040611,0757, 59.8760, -42.5740,  205,      2.7,   0.3010,  32.2520,2,  32.3170,3,    340.4,2,    346.5,2,     2.27,2,     5.37,   2,     0.58,3,   2150.4,2,   7.8430,2,    25.00,   0.3009
  35TH20040604, OVIDE,     4,  1,      3,      3,2,20040611,0903, 59.8670, -42.5140,  210,    196.8,   5.2230,  34.9330,2,  34.9390,2,    284.9,2,    286.0,2,  -999.00,9,  -999.00,   9,  -999.00,9,   2309.4,2,   7.7600,2,    25.00,   5.2073
  35TH20040604, OVIDE,     4,  1,      4,      4,2,20040611,0903, 59.8670, -42.5140,  210,    148.1,   4.5870,  34.7320,2,  34.7500,3,    299.7,2,    299.2,2,  -999.00,9,  -999.00,   9,  -999.00,9,   2299.4,2,   7.7670,2,    25.00,   4.5760
  35TH20040604, OVIDE,     4,  1,      5,      5,2,20040611,0903, 59.8670, -42.5140,  210,     98.2,   4.0080,  34.5270,2,  34.5290,2,    307.8,2,    310.6,2,  -999.00,9,  -999.00,   9,  -999.00,9,   2289.9,2,   7.7740,2,    25.00,   4.0012
  35TH20040604, OVIDE,     4,  1,      6,      6,2,20040611,0903, 59.8670, -42.5140,  210,     48.5,   2.6110,  34.1870,2,  34.1920,2,    313.5,2,    318.1,2,  -999.00,9,  -999.00,   9,  -999.00,9,   2267.8,2,   7.7700,2,    25.00,   2.6083
  35TH20040604, OVIDE,     4,  1,      7,      7,2,20040611,0903, 59.8670, -42.5140,  210,      3.9,   2.2760,  33.8300,2,  33.8400,3,    329.9,2,    330.7,2,  -999.00,9,  -999.00,   9,  -999.00,9,   2248.1,2,   7.7930,2,    25.00,   2.2758
  35TH20040604, OVIDE,     5,  1,      3,      3,2,20040611,1010, 59.8470, -42.4680,  253,    239.2,   5.2110,  34.9290,2,  34.9330,2,    285.1,2,    291.0,2,  -999.00,9,  -999.00,   9,  -999.00,9,   2303.0,2,   7.7480,2,    25.00,   5.1918
  35TH20040604, OVIDE,     5,  1,      4,      4,2,20040611,1010, 59.8470, -42.4680,  253,    198.1,   5.2680,  34.9130,2,  34.9110,2,    289.6,2,    292.1,2,  -999.00,9,  -999.00,   9,  -999.00,9,   2304.1,2,   7.7750,2,    25.00,   5.2521
  35TH20040604, OVIDE,     5,  1,      5,      5,2,20040611,1010, 59.8470, -42.4680,  253,    147.5,   5.3730,  34.8590,2,  34.8570,2,    297.6,2,    301.9,2,  -999.00,9,  -999.00,   9,  -999.00,9,   2299.5,2,   7.7790,2,    25.00,   5.3611
  35TH20040604, OVIDE,     5,  1,      6,      6,2,20040611,1010, 59.8470, -42.4680,  253,     96.8,   5.5090,  34.8120,2,  34.7970,3,    305.5,2,    306.7,2,  -999.00,9,  -999.00,   9,  -999.00,9,   2299.1,2,   7.7870,2,    25.00,   5.5011
  35TH20040604, OVIDE,     5,  1,      7,      7,2,20040611,1010, 59.8470, -42.4680,  253,     48.5,   2.9340,  34.2890,2,  34.3020,3,    310.2,2,    316.5,2,  -999.00,9,  -999.00,   9,  -999.00,9,   2270.8,2,   7.7650,2,    25.00,   2.9311
  35TH20040604, OVIDE,     6,  1,      3,      3,2,20040611,1137, 59.8880, -42.6220,  180,    166.3,   4.4220,  34.7100,2,  34.7150,2,    294.8,2,    299.4,2,  -999.00,9,  -999.00,   9,  -999.00,9,   2290.4,2,   7.7670,2,    25.00,   4.4099
  35TH20040604, OVIDE,     6,  1,      4,      4,2,20040611,1137, 59.8880, -42.6220,  180,    144.5,   3.7460,  34.5020,2,  34.5040,2,    303.3,2,    307.8,2,  -999.00,9,  -999.00,   9,  -999.00,9,   2281.3,2,   7.7700,2,    25.00,   3.7363
  35TH20040604, OVIDE,     6,  1,      5,      5,2,20040611,1137, 59.8880, -42.6220,  180,     95.5,   2.8260,  34.2620,2,  34.2660,2,    311.8,2,    316.3,2,  -999.00,9,  -999.00,   9,  -999.00,9,   2269.2,2,   7.7670,2,    25.00,   2.8204
  35TH20040604, OVIDE,     6,  1,      6,      6,2,20040611,1137, 59.8880, -42.6220,  180,     46.0,   2.9740,  34.1260,2,  34.1190,2,    318.8,2,    325.1,2,  -999.00,9,  -999.00,   9,  -999.00,9,   2275.8,2,   7.7820,2,    25.00,   2.9713
  35TH20040604, OVIDE,     6,  1,      7,      7,2,20040611,1137, 59.8880, -42.6220,  180,      1.6,  -0.9980,  32.0900,2,  31.8810,3,    387.6,2,    392.4,2,  -999.00,9,  -999.00,   9,  -999.00,9,   2127.9,2,   7.9150,2,    25.00,  -0.9980
  35TH20040604, OVIDE,     7,  1,      3,      3,2,20040611,1515, 59.8830, -42.5430,  205,    191.1,   5.1680,  34.9280,2,  34.9280,2,    285.1,2,    288.2,2,  -999.00,9,  -999.00,   9,  -999.00,9,   2296.1,2,   7.7590,2,    25.00,   5.1528
  35TH20040604, OVIDE,     7,  1,      4,      4,2,20040611,1515, 59.8830, -42.5430,  205,    147.5,   4.2260,  34.6480,2,  34.6510,2,    302.4,2,    303.2,2,  -999.00,9,  -999.00,   9,  -999.00,9,   2284.7,2,   7.7700,2,    25.00,   4.2155
  35TH20040604, OVIDE,     7,  1,      5,      5,2,20040611,1515, 59.8830, -42.5430,  205,     46.8,   2.6490,  34.1990,2,  34.2060,2,    315.6,2,    318.1,2,  -999.00,9,  -999.00,   9,  -999.00,9,   2266.6,2,   7.7720,2,    25.00,   2.6463
  35TH20040604, OVIDE,     7,  1,      6,      6,2,20040611,1515, 59.8830, -42.5430,  205,     47.8,   2.6490,  34.2000,2,  34.2040,2,    315.6,2,    318.3,2,  -999.00,9,  -999.00,   9,  -999.00,9,   2267.7,2,   7.7720,2,    25.00,   2.6463
  35TH20040604, OVIDE,     7,  1,      7,      7,2,20040611,1515, 59.8830, -42.5430,  205,      2.4,   2.2040,  33.8340,2,  33.8370,2,    324.8,2,    328.6,2,  -999.00,9,  -999.00,   9,  -999.00,9,   2248.8,2,   7.7860,2,    25.00,   2.2039
  35TH20040604, OVIDE,     8,  1,      3,      3,2,20040611,1823, 59.8170, -42.3250,  473,    459.3,   5.0520,  34.9370,2,  34.9410,2,    287.1,2,    282.5,2,     7.55,2,    15.44,   2,     1.02,2,   2305.2,2,   7.7570,2,    25.00,   5.0150
  35TH20040604, OVIDE,     8,  1,      4,      4,2,20040611,1823, 59.8170, -42.3250,  473,    396.0,   5.0480,  34.9370,2,  34.9420,2,    285.2,2,    281.0,2,     7.55,2,    15.27,   2,     1.02,2,   2305.7,2,   7.7540,2,    25.00,   5.0163
  35TH20040604, OVIDE,     8,  1,      5,      5,2,20040611,1823, 59.8170, -42.3250,  473,    297.1,   5.2350,  34.9460,2,  34.9450,2,    287.2,2,    285.8,2,     7.34,2,    15.01,   2,     1.01,2,   2308.0,2,   7.7580,2,    25.00,   5.2110
  35TH20040604, OVIDE,     8,  1,      6,      6,2,20040611,1823, 59.8170, -42.3250,  473,    198.7,   5.7280,  34.9680,2,  34.9720,2,    297.3,2,    294.0,2,     6.83,2,    14.23,   2,     0.98,2,   2316.3,2,   7.7720,2,    25.00,   5.7113
  35TH20040604, OVIDE,     8,  1,      7,      7,2,20040611,1823, 59.8170, -42.3250,  473,    147.3,   6.0930,  35.0030,2,  35.0140,3,    297.9,2,    293.2,2,     6.62,2,    14.05,   2,     0.98,2,   2315.0,2,   7.7800,2,    25.00,   6.0803
  35TH20040604, OVIDE,     8,  1,      8,      8,2,20040611,1823, 59.8170, -42.3250,  473,     96.1,   5.2750,  34.8180,2,  34.8310,3,    302.7,2,    301.0,2,     6.32,2,    12.88,   2,     0.94,2,   2300.9,2,   7.7850,2,    25.00,   5.2674
  35TH20040604, OVIDE,     8,  1,      9,      9,2,20040611,1823, 59.8170, -42.3250,  473,     46.4,   4.3270,  34.6000,2,  34.6200,3,    309.7,2,    309.0,2,     6.32,2,    11.84,   2,     0.89,2,   2291.1,2,   7.7780,2,    25.00,   4.3237
  35TH20040604, OVIDE,     8,  1,     10,     10,2,20040611,1823, 59.8170, -42.3250,  473,      3.3,   4.3180,  34.3410,2,  34.3440,2,    318.0,2,    316.4,2,     5.35,2,    10.94,   2,     0.84,2,   2272.6,2,   7.7900,2,    25.00,   4.3178
  35TH20040604, OVIDE,     9,  1,      3,      3,2,20040612,1839, 59.6540, -41.8160, 1896,   1882.2,   2.1550,  34.8620,2,  34.8650,2,    293.2,2,    294.2,2,     9.47,2,    15.24,   2,     1.01,2,   2298.8,2,   7.7260,2,    25.00,   2.0253
  35TH20040604, OVIDE,     9,  1,      4,      4,2,20040612,1839, 59.6540, -41.8160, 1896,   1796.6,   2.4360,  34.8840,2,  34.8850,2,    290.2,2,    289.0,2,    10.71,2,    15.84,   2,     1.05,2,   2301.6,2,   7.7280,2,    25.00,   2.3095
  35TH20040604, OVIDE,     9,  1,      5,      5,2,20040612,1839, 59.6540, -41.8160, 1896,   1674.8,   2.6560,  34.8790,2,  34.8820,2,    286.6,2,    287.1,2,    10.09,2,    16.01,   2,     1.07,2,   2301.6,2,   7.7290,2,    25.00,   2.5369
  35TH20040604, OVIDE,     9,  1,      6,      6,2,20040612,1839, 59.6540, -41.8160, 1896,   1596.3,   2.8760,  34.8950,2,  34.8980,2,    284.0,2,    284.0,2,    10.55,2,    16.22,   2,     1.10,2,   2302.2,2,   7.7280,2,    25.00,   2.7607
  35TH20040604, OVIDE,     9,  1,      7,      7,2,20040612,1839, 59.6540, -41.8160, 1896,   1398.9,   3.0640,  34.8850,2,  34.8850,2,    284.9,2,    285.2,2,     9.59,2,    15.67,   2,     1.09,2,   -999.0,9,   7.7250,2,    25.00,   2.9631
  35TH20040604, OVIDE,     9,  1,      8,      8,2,20040612,1839, 59.6540, -41.8160, 1896,   1197.3,   3.2950,  34.8930,2,  34.8970,2,    280.8,2,    283.8,2,     9.55,2,    16.18,   2,     1.10,2,   2301.3,2,   7.7260,2,    25.00,   3.2083
  35TH20040604, OVIDE,     9,  1,      9,      9,2,20040612,1839, 59.6540, -41.8160, 1896,    996.3,   3.5860,  34.8990,2,  34.9040,2,    281.5,2,    280.3,2,     9.30,2,    16.65,   2,     1.10,2,   2307.8,2,   7.7230,2,    25.00,   3.5132
  35TH20040604, OVIDE,     9,  1,     10,     10,2,20040612,1839, 59.6540, -41.8160, 1896,    894.3,   3.7920,  34.9060,2,  34.9080,2,    279.0,2,    278.0,2,     9.22,2,    16.48,   2,     1.10,2,   2306.1,2,   7.7250,2,    25.00,   3.7259
  35TH20040604, OVIDE,     9,  1,     11,     11,2,20040612,1839, 59.6540, -41.8160, 1896,    796.6,   3.8570,  34.9060,2,  34.9100,2,    281.1,2,    278.2,2,     9.05,2,    16.57,   2,     1.10,2,   2307.3,2,   7.7250,2,    25.00,   3.7983
  35TH20040604, OVIDE,     9,  1,     12,     12,2,20040612,1839, 59.6540, -41.8160, 1896,    696.3,   4.1160,  34.9160,2,  34.9190,2,    279.9,2,    276.9,2,     8.80,2,    16.44,   2,     1.08,2,   2306.4,2,   7.7260,2,    25.00,   4.0638
  35TH20040604, OVIDE,     9,  1,     13,     13,2,20040612,1839, 59.6540, -41.8160, 1896,    594.6,   4.3020,  34.9210,2,  34.9240,2,    279.3,2,    279.1,2,     8.56,2,    15.88,   2,     1.09,2,   2306.6,2,   7.7310,2,    25.00,   4.2570
  35TH20040604, OVIDE,     9,  1,     14,     14,2,20040612,1839, 59.6540, -41.8160, 1896,    494.7,   4.5700,  34.9300,2,  34.9340,2,    283.2,2,    277.2,2,     8.43,2,    16.09,   2,     1.09,2,   2305.4,2,   7.7320,2,    25.00,   4.5319
  35TH20040604, OVIDE,     9,  1,     15,     15,2,20040612,1839, 59.6540, -41.8160, 1896,    396.6,   4.8890,  34.9480,2,  34.9520,2,    280.3,2,    276.9,2,     8.22,2,    16.31,   2,     1.07,2,   2307.0,2,   7.7370,2,    25.00,   4.8577
  35TH20040604, OVIDE,     9,  1,     16,     16,2,20040612,1839, 59.6540, -41.8160, 1896,    295.9,   5.3320,  34.9830,2,  34.9840,2,    287.0,2,    280.4,2,     7.89,2,    16.14,   2,     1.07,2,   2306.5,2,   7.7460,2,    25.00,   5.3079
  35TH20040604, OVIDE,     9,  1,     17,     17,2,20040612,1839, 59.6540, -41.8160, 1896,    245.7,   5.4990,  34.9950,2,  34.9950,2,    278.1,2,    282.2,2,     7.60,2,    15.84,   2,     1.07,2,   2306.4,2,   7.7510,2,    25.00,   5.4787
  35TH20040604, OVIDE,     9,  1,     18,     18,2,20040612,1839, 59.6540, -41.8160, 1896,    196.0,   5.6770,  35.0100,2,  35.0140,2,    282.5,2,    283.3,2,     7.47,2,    15.84,   2,     1.06,2,   2305.5,2,   7.7550,2,    25.00,   5.6606
  35TH20040604, OVIDE,     9,  1,     19,     19,2,20040612,1839, 59.6540, -41.8160, 1896,    146.3,   5.8520,  35.0200,2,  35.0240,2,    289.1,2,    285.6,2,     7.18,2,    15.41,   2,     1.03,2,   2306.1,2,   7.7610,2,    25.00,   5.8396
  35TH20040604, OVIDE,     9,  1,     20,     20,2,20040612,1839, 59.6540, -41.8160, 1896,     96.5,   6.1630,  35.0320,2,  35.0340,2,    292.6,2,    292.1,2,     6.81,2,    13.78,   2,     0.98,2,   2310.3,2,   7.7750,2,    25.00,   6.1546
  35TH20040604, OVIDE,     9,  1,     21,     21,2,20040612,1839, 59.6540, -41.8160, 1896,     48.0,   6.5120,  34.9940,2,  34.9980,2,    301.0,2,    301.4,2,     6.10,2,    12.46,   2,     0.91,2,   2307.0,2,   7.8020,2,    25.00,   6.5077
  35TH20040604, OVIDE,     9,  1,     22,     22,2,20040612,1839, 59.6540, -41.8160, 1896,      3.3,   6.7730,  34.9850,2,  34.9860,2,    298.6,2,    305.6,2,     5.44,2,    11.81,   2,     0.84,2,   2305.8,2,   7.8180,2,    25.00,   6.7727
  35TH20040604, OVIDE,    10,  1,     14,     14,2,20040612,2145, 59.7630, -42.1480, 1717,   1702.3,   2.8960,  34.8820,2,  34.8870,2,    289.8,2,   -999.0,9,    10.01,2,    15.95,   2,     1.06,2,   2303.2,2,   7.7250,2,    25.00,   2.7714
  35TH20040604, OVIDE,    10,  1,     15,     15,2,20040612,2145, 59.7630, -42.1480, 1717,   1594.5,   3.0720,  34.8870,2,  34.8930,2,    286.4,2,    288.0,2,    10.01,2,    16.12,   2,     1.08,2,   2298.2,2,   7.7260,2,    25.00,   2.9545
  35TH20040604, OVIDE,    10,  1,     16,     16,2,20040612,2145, 59.7630, -42.1480, 1717,   1394.8,   3.4560,  34.9020,2,  34.9070,2,    282.1,2,    280.6,2,     9.92,2,    16.55,   2,     1.10,2,   2295.6,2,   7.7220,2,    25.00,   3.3512
  35TH20040604, OVIDE,    10,  1,     17,     17,2,20040612,2145, 59.7630, -42.1480, 1717,   1194.9,   3.7180,  34.9040,2,  34.9120,2,    280.3,2,    278.7,2,     9.60,2,    16.55,   2,     1.10,2,   2299.4,2,   7.7200,2,    25.00,   3.6276
  35TH20040604, OVIDE,    10,  1,     18,     18,2,20040612,2145, 59.7630, -42.1480, 1717,    995.1,   4.1060,  34.9140,2,  34.9180,2,    277.0,2,    279.7,2,     9.10,2,    16.21,   2,     1.10,2,   2301.3,2,   7.7290,2,    25.00,   4.0292
  35TH20040604, OVIDE,    10,  1,     19,     19,2,20040612,2145, 59.7630, -42.1480, 1717,    896.4,   4.3780,  34.9260,2,  34.9320,2,    275.2,2,    277.5,2,     8.86,2,    16.21,   2,     1.08,2,   2306.8,2,   7.7280,2,    25.00,   4.3076
  35TH20040604, OVIDE,    10,  1,     20,     20,2,20040612,2145, 59.7630, -42.1480, 1717,    794.9,   4.6560,  34.9260,2,  34.9310,2,    281.9,2,    280.1,2,     8.12,2,    15.49,   2,     1.06,2,   2304.7,2,   7.7340,2,    25.00,   4.5925
  35TH20040604, OVIDE,    10,  1,     21,     21,2,20040612,2145, 59.7630, -42.1480, 1717,    695.0,   4.7820,  34.9200,2,  34.9250,2,    288.0,2,    286.1,2,     7.71,2,    14.77,   2,     1.03,2,   2302.4,2,   7.7430,2,    25.00,   4.7263
  35TH20040604, OVIDE,    10,  1,     22,     22,2,20040612,2145, 59.7630, -42.1480, 1717,    593.4,   4.8460,  34.9170,2,  34.9150,2,    292.6,2,    288.7,2,     7.42,2,    14.55,   2,     1.03,2,   2297.1,2,   7.7480,2,    25.00,   4.7986
  35TH20040604, OVIDE,    10,  1,     23,     23,2,20040612,2145, 59.7630, -42.1480, 1717,    496.3,   5.0250,  34.9300,2,  34.9360,2,    286.1,2,    288.1,2,     7.38,2,    14.64,   2,     1.03,2,   2305.6,2,   7.7550,2,    25.00,   4.9850
  35TH20040604, OVIDE,    10,  1,     24,     24,2,20040612,2145, 59.7630, -42.1480, 1717,    396.0,   5.2900,  34.9420,2,  34.9470,2,    290.4,2,    287.9,2,     7.22,2,    14.51,   2,     1.01,2,   2308.7,2,   7.7610,2,    25.00,   5.2576
  35TH20040604, OVIDE,    10,  1,     25,     25,2,20040612,2145, 59.7630, -42.1480, 1717,    292.3,   5.3740,  34.9440,2,  34.9460,2,    295.6,2,    290.5,2,     6.97,2,    14.00,   2,     0.99,2,   2307.7,2,   7.7670,2,    25.00,   5.3501
  35TH20040604, OVIDE,    10,  1,     27,     27,2,20040612,2145, 59.7630, -42.1480, 1717,    145.1,   5.5570,  34.8610,2,  34.8620,2,    299.6,2,    304.9,2,     6.19,2,    12.35,   2,     0.93,2,   2303.6,2,   7.7820,2,    25.00,   5.5451
  35TH20040604, OVIDE,    10,  1,     28,     28,2,20040612,2145, 59.7630, -42.1480, 1717,     96.5,   5.4990,  34.8390,2,  34.8400,2,    301.0,2,    303.1,2,     6.07,2,    12.31,   2,     0.91,2,   2302.2,2,   7.7840,2,    25.00,   5.4912
  35TH20040604, OVIDE,    10,  1,     29,     29,2,20040612,2145, 59.7630, -42.1480, 1717,     48.6,   5.5710,  34.8390,2,  34.8400,2,    302.9,2,    307.1,2,     5.90,2,    12.05,   2,     0.90,2,   2299.2,2,   7.7840,2,    25.00,   5.5670
  35TH20040604, OVIDE,    10,  1,     30,     30,2,20040612,2145, 59.7630, -42.1480, 1717,      4.8,   5.5990,  34.8340,2,  34.8360,2,    295.7,2,    308.7,3,     5.62,2,    12.05,   2,     0.89,2,   2295.2,2,   7.7900,2,    25.00,   5.5986