BOTTLE,20220120SIOCCHENA
EXPOCODE,SECT_ID,STNNBR,CASTNO,SAMPNO,BTLNBR,BTLNBR_FLAG_W,DATE,TIME,LATITUDE,LONGITUDE,DEPTH,CTDPRS,CTDTMP,CTDSAL,CTDSAL_FLAG_W,SALNTY,SALNTY_FLAG_W,CTDOXY,CTDOXY_FLAG_W,OXYGEN,OXYGEN_FLAG_W,SILCAT,SILCAT_FLAG_W,NITRAT,NITRAT_FLAG_W,PHSPHT,PHSPHT_FLAG_W,ALKALI,ALKALI_FLAG_W,PH_SWS,PH_SWS_FLAG_W,PH_TMP,THETA
,,,,,,,,,,,METERS,DBAR,ITS-90,PSS-78,,PSS-78,,UMOL/KG,,UMOL/KG,,UMOL/KG,,UMOL/KG,,UMOL/KG,,UMOL/KG,,,,DEG C,DEG C
  35TH20040604, OVIDE,    34,  1,      3,      3,2,20040616,2017, 58.9720, -32.5550, 1893,   1878.8,   3.4360,  34.9500,2,  34.9510,2,    273.1,2,    274.6,2,    11.24,2,    16.11,   2,     1.24,2,   2305.4,2,   7.7240,2,    25.00,   3.2882
  35TH20040604, OVIDE,    34,  1,      4,      4,2,20040616,2017, 58.9720, -32.5550, 1893,   1745.4,   3.5440,  34.9500,2,  34.9510,2,    273.1,2,    273.7,2,    10.96,2,    16.16,   2,     1.25,2,   2306.6,2,   7.7200,2,    25.00,   3.4070
  35TH20040604, OVIDE,    34,  1,      5,      5,2,20040616,2017, 58.9720, -32.5550, 1893,   1597.2,   3.5950,  34.9500,2,  34.9510,2,    273.9,2,    273.2,2,    10.84,2,    16.30,   2,     1.22,2,   2308.0,2,   7.7210,2,    25.00,   3.4708
  35TH20040604, OVIDE,    34,  1,      6,      6,2,20040616,2017, 58.9720, -32.5550, 1893,   1394.8,   3.7130,  34.9440,2,  34.9420,2,    273.3,2,    272.4,2,    10.68,3,    13.87,   3,     1.25,2,   2305.6,2,   7.7220,2,    25.00,   3.6054
  35TH20040604, OVIDE,    34,  1,      7,      7,2,20040616,2017, 58.9720, -32.5550, 1893,   1196.7,   3.9420,  34.9490,2,  34.9500,2,    267.7,2,    267.5,2,    10.60,3,    15.22,   3,     1.27,2,   2305.6,2,   7.7160,2,    25.00,   3.8493
  35TH20040604, OVIDE,    34,  1,      8,      8,2,20040616,2017, 58.9720, -32.5550, 1893,    995.5,   4.3010,  34.9530,2,  34.9540,2,    260.7,2,    261.6,2,    10.64,2,    17.09,   2,     1.30,2,   2307.2,2,   7.7120,2,    25.00,   4.2227
  35TH20040604, OVIDE,    34,  1,      9,      9,2,20040616,2017, 58.9720, -32.5550, 1893,    845.8,   4.7250,  34.9640,2,  34.9650,2,    254.6,2,    253.8,2,    10.48,2,    17.42,   2,     1.30,2,   2308.4,2,   7.7060,2,    25.00,   4.6566
  35TH20040604, OVIDE,    34,  1,     10,     10,2,20040616,2017, 58.9720, -32.5550, 1893,    695.4,   5.3240,  34.9920,2,  34.9920,2,    241.0,2,    241.3,2,    10.60,2,    17.70,   2,     1.32,2,   2311.4,2,   7.7020,2,    25.00,   5.2653
  35TH20040604, OVIDE,    34,  1,     11,     11,2,20040616,2017, 58.9720, -32.5550, 1893,    546.7,   5.7130,  34.9480,2,  34.9460,2,    277.9,2,    274.8,2,     8.27,2,    11.53,   3,     1.21,2,   2307.7,2,   7.7360,2,    25.00,   5.6659
  35TH20040604, OVIDE,    34,  1,     12,     12,2,20040616,2017, 58.9720, -32.5550, 1893,    446.3,   6.1480,  34.9760,2,  34.9750,2,    260.3,2,    262.8,2,     8.51,2,    11.67,   3,     1.19,2,   2308.9,2,   7.7390,2,    25.00,   6.1083
  35TH20040604, OVIDE,    34,  1,     13,     13,2,20040616,2017, 58.9720, -32.5550, 1893,    347.3,   6.6510,  35.0060,2,  35.0050,2,    269.1,2,    270.5,2,     7.71,3,     9.76,   3,     1.21,2,   2312.0,2,   7.7530,2,    25.00,   6.6190
  35TH20040604, OVIDE,    34,  1,     14,     14,2,20040616,2017, 58.9720, -32.5550, 1893,    195.7,   7.2110,  35.0470,2,  35.0460,2,    276.4,2,    275.1,2,     6.83,2,     9.99,   3,     1.16,2,   2313.5,2,   7.7690,2,    25.00,   7.1923
  35TH20040604, OVIDE,    34,  1,     15,     15,2,20040616,2017, 58.9720, -32.5550, 1893,    145.9,   7.4770,  35.0450,2,  35.0460,2,    284.1,2,    280.6,2,     6.18,2,     8.96,   3,     1.10,2,   -999.0,9,   7.7800,2,    25.00,   7.4628
  35TH20040604, OVIDE,    34,  1,     16,     16,2,20040616,2017, 58.9720, -32.5550, 1893,     96.2,   7.8750,  35.0750,2,  35.0660,3,    288.8,2,    285.5,2,     5.30,2,     7.61,   3,     1.04,2,   2315.1,2,   7.7970,2,    25.00,   7.8654
  35TH20040604, OVIDE,    34,  1,     17,     17,2,20040616,2017, 58.9720, -32.5550, 1893,     46.1,   8.8950,  35.0160,2,  35.0190,2,    294.9,2,    307.6,3,     3.90,2,     5.32,   3,     0.98,2,   -999.0,9,   7.8340,2,    25.00,   8.8901
  35TH20040604, OVIDE,    34,  1,     18,     18,2,20040616,2017, 58.9720, -32.5550, 1893,      3.9,   9.0380,  35.0150,2,  35.0130,2,    290.6,2,    296.0,2,     3.86,2,     5.60,   3,     0.84,2,   2306.3,2,   7.8450,2,    25.00,   9.0376
  35TH20040604, OVIDE,    35,  1,      3,      3,2,20040617,0055, 58.9100, -31.9110, 1712,   1697.1,   3.7630,  34.9530,2,  34.9540,2,   -999.0,9,    271.3,2,    10.69,2,    16.30,   2,     1.19,2,   -999.0,9,   7.7220,2,    25.00,   3.6276
  35TH20040604, OVIDE,    35,  1,      4,      4,2,20040617,0055, 58.9100, -31.9110, 1712,   1595.1,   3.7970,  34.9550,2,  34.9560,2,    271.4,2,    270.4,2,    10.61,2,    16.20,   2,     1.21,2,   -999.0,9,   7.7200,2,    25.00,   3.6705
  35TH20040604, OVIDE,    35,  1,      5,      5,2,20040617,0055, 58.9100, -31.9110, 1712,   1495.4,   3.8070,  34.9570,2,  34.9590,2,    270.7,2,    269.8,2,    10.48,2,    15.08,   2,     1.22,2,   -999.0,9,   7.7150,2,    25.00,   3.6894
  35TH20040604, OVIDE,    35,  1,      6,      6,2,20040617,0055, 58.9100, -31.9110, 1712,   1395.6,   3.8190,  34.9560,2,  34.9560,2,    270.4,2,    270.1,2,    10.44,3,    12.61,   3,     1.18,2,   -999.0,9,   7.7150,2,    25.00,   3.7102
  35TH20040604, OVIDE,    35,  1,      7,      7,2,20040617,0055, 58.9100, -31.9110, 1712,   1194.4,   3.9170,  34.9540,2,  34.9570,2,    266.2,2,    267.6,2,    10.40,3,    10.88,   3,     1.22,2,   -999.0,9,   7.7140,2,    25.00,   3.8247
  35TH20040604, OVIDE,    35,  1,      8,      8,2,20040617,0055, 58.9100, -31.9110, 1712,    995.1,   4.1700,  34.9360,2,  34.9360,2,    265.7,2,    265.8,2,    10.12,2,    16.81,   2,     1.29,2,   -999.0,9,   7.7190,2,    25.00,   4.0927
  35TH20040604, OVIDE,    35,  1,      9,      9,2,20040617,0055, 58.9100, -31.9110, 1712,    794.4,   4.9990,  34.9880,2,  34.9880,2,    247.9,2,    248.4,2,    10.32,2,    16.76,   2,     1.29,2,   -999.0,9,   7.7070,2,    25.00,   4.9334
  35TH20040604, OVIDE,    35,  1,     10,     10,2,20040617,0055, 58.9100, -31.9110, 1712,    645.6,   5.9950,  35.0510,2,  35.0530,2,    232.2,2,    232.4,2,    10.24,2,    14.10,   3,     1.31,2,   -999.0,9,   7.7090,2,    25.00,   5.9374
  35TH20040604, OVIDE,    35,  1,     11,     11,2,20040617,0055, 58.9100, -31.9110, 1712,    476.2,   6.9960,  35.0960,2,  35.0960,2,    259.2,2,    263.8,2,     7.34,2,    11.86,   3,     1.15,2,   -999.0,9,   7.7580,2,    25.00,   6.9504
  35TH20040604, OVIDE,    35,  1,     12,     12,2,20040617,0055, 58.9100, -31.9110, 1712,    294.2,   7.7480,  35.1680,2,  35.1710,2,    271.2,2,    268.5,2,     6.33,2,    12.14,   3,     1.23,2,   -999.0,9,   7.7800,2,    25.00,   7.7185
  35TH20040604, OVIDE,    35,  1,     13,     13,2,20040617,0055, 58.9100, -31.9110, 1712,    196.6,   7.9870,  35.1820,2,  35.1840,2,    269.4,2,    268.4,2,     6.09,2,    12.51,   2,     1.02,2,   -999.0,9,   7.7800,2,    25.00,   7.9671
  35TH20040604, OVIDE,    35,  1,     14,     14,2,20040617,0055, 58.9100, -31.9110, 1712,     97.1,   8.4020,  35.1870,2,  35.1860,2,    276.4,2,    276.0,2,     3.91,2,    11.20,   2,     0.98,2,   -999.0,9,   7.8060,2,    25.00,   8.3919
  35TH20040604, OVIDE,    35,  1,     15,     15,2,20040617,0055, 58.9100, -31.9110, 1712,     46.9,   9.2640,  35.1160,2,  35.1170,2,    287.7,2,    288.1,2,     2.14,2,     8.45,   2,     0.78,2,   -999.0,9,   7.8470,2,    25.00,   9.2588
  35TH20040604, OVIDE,    35,  1,     16,     16,2,20040617,0055, 58.9100, -31.9110, 1712,      2.6,   9.3280,  35.1080,2,  35.1070,2,    283.0,2,    289.0,2,     2.22,2,     8.36,   2,     0.78,2,   -999.0,9,   7.8510,2,    25.00,   9.3277
  35TH20040604, OVIDE,    36,  1,      3,      3,2,20040617,0517, 58.8440, -31.2690, 1487,   1472.3,   3.9490,  34.9750,2,  34.9750,2,    269.9,2,    268.0,2,    10.48,2,    16.71,   2,     1.27,2,   2308.4,2,   7.7230,2,    25.00,   3.8318
  35TH20040604, OVIDE,    36,  1,      4,      4,2,20040617,0517, 58.8440, -31.2690, 1487,   1196.3,   3.9440,  34.9730,2,  34.9740,2,    268.8,2,    267.5,2,    10.24,3,    13.85,   3,     1.26,2,   2308.2,2,   7.7210,2,    25.00,   3.8513
  35TH20040604, OVIDE,    36,  1,      5,      5,2,20040617,0517, 58.8440, -31.2690, 1487,    995.6,   4.0030,  34.9620,2,  34.9610,2,    267.5,2,    266.2,2,    10.48,2,    16.71,   2,     1.28,2,   -999.0,9,   7.7200,2,    25.00,   3.9269
  35TH20040604, OVIDE,    36,  1,      6,      6,2,20040617,0517, 58.8440, -31.2690, 1487,    896.1,   4.2130,  34.9530,2,  34.9510,2,    264.9,2,    261.5,2,    10.60,2,    17.47,   2,     1.31,2,   2306.7,2,   7.7120,2,    25.00,   4.1438
  35TH20040604, OVIDE,    36,  1,      7,      7,2,20040617,0517, 58.8440, -31.2690, 1487,    796.4,   5.0500,  35.0290,2,  35.0280,2,    250.9,2,    249.1,2,    10.56,2,    17.90,   2,     1.39,2,   2313.1,2,   7.7160,2,    25.00,   4.9838
  35TH20040604, OVIDE,    36,  1,      8,      8,2,20040617,0517, 58.8440, -31.2690, 1487,    596.8,   5.7140,  35.0270,2,  35.0250,2,    237.6,2,    238.6,2,    10.24,2,    16.42,   2,     1.39,2,   2312.9,2,   7.7100,2,    25.00,   5.6622
  35TH20040604, OVIDE,    36,  1,      9,      9,2,20040617,0517, 58.8440, -31.2690, 1487,    499.7,   6.3220,  35.0750,2,  35.0780,2,    235.6,2,    231.7,2,    10.20,2,    16.66,   2,     1.38,2,   2315.2,2,   7.7170,2,    25.00,   6.2767
  35TH20040604, OVIDE,    36,  1,     10,     10,2,20040617,0517, 58.8440, -31.2690, 1487,    397.6,   6.9710,  35.0950,2,  35.0890,2,    252.1,2,    247.9,2,     8.56,2,    16.85,   2,     1.22,2,   2314.7,2,   7.7360,2,    25.00,   6.9332
  35TH20040604, OVIDE,    36,  1,     11,     11,2,20040617,0517, 58.8440, -31.2690, 1487,    297.5,   7.2530,  35.0890,2,  35.0880,2,    271.7,2,    267.1,2,     7.20,2,    14.95,   2,     1.25,2,   2315.3,2,   7.7630,2,    25.00,   7.2243
  35TH20040604, OVIDE,    36,  1,     12,     12,2,20040617,0517, 58.8440, -31.2690, 1487,    195.3,   7.8180,  35.1720,2,  35.1780,2,    257.4,2,    260.9,2,     6.96,2,    14.33,   2,     1.13,2,   2316.2,2,   7.7690,2,    25.00,   7.7984
  35TH20040604, OVIDE,    36,  1,     13,     13,2,20040617,0517, 58.8440, -31.2690, 1487,    122.3,   7.8850,  35.1480,2,  35.1490,2,    273.6,2,    272.4,2,     6.28,2,    12.80,   2,     1.08,2,   2314.2,2,   7.7820,2,    25.00,   7.8728
  35TH20040604, OVIDE,    36,  1,     14,     14,2,20040617,0517, 58.8440, -31.2690, 1487,     47.1,   8.8880,  35.1190,2,  35.1180,2,    277.5,2,    287.0,3,     2.44,2,     8.43,   2,     0.85,2,   -999.0,9,   7.8300,2,    25.00,   8.8830
  35TH20040604, OVIDE,    36,  1,     15,     15,2,20040617,0517, 58.8440, -31.2690, 1487,      4.1,   9.4960,  35.1180,2,  35.1180,2,    283.6,2,    290.7,3,     2.08,2,     7.62,   2,     0.76,2,   -999.0,9,   7.8510,2,    25.00,   9.4955
  35TH20040604, OVIDE,    37,  1,      3,      3,2,20040617,0930, 58.7270, -30.6950, 1471,   1456.7,   3.8920,  34.9730,2,  34.9740,2,    268.6,2,    268.7,2,    10.99,2,    17.73,   2,     1.24,2,   -999.0,9,   7.7100,2,    25.00,   3.7769
  35TH20040604, OVIDE,    37,  1,      4,      4,2,20040617,0930, 58.7270, -30.6950, 1471,   1397.1,   3.8890,  34.9720,2,  34.9720,2,    267.4,2,    269.1,2,    10.82,3,    15.99,   3,     1.25,2,   -999.0,9,   7.7130,2,    25.00,   3.7792
  35TH20040604, OVIDE,    37,  1,      5,      5,2,20040617,0930, 58.7270, -30.6950, 1471,   1196.4,   3.9460,  34.9710,2,  34.9700,2,    267.1,2,    280.9,3,    10.42,2,    17.68,   2,     1.29,2,   -999.0,9,   7.7160,2,    25.00,   3.8533
  35TH20040604, OVIDE,    37,  1,      6,      6,2,20040617,0930, 58.7270, -30.6950, 1471,    995.6,   4.2370,  34.9650,2,  34.9680,2,    261.3,2,    262.9,2,    10.50,2,    17.05,   2,     1.29,2,   -999.0,9,   7.7120,2,    25.00,   4.1591
  35TH20040604, OVIDE,    37,  1,      7,      7,2,20040617,0930, 58.7270, -30.6950, 1471,    896.8,   4.6600,  35.0000,2,  35.0000,2,    254.4,2,    255.2,2,    10.50,2,    17.68,   2,     1.29,2,   -999.0,9,   7.7140,2,    25.00,   4.5875
  35TH20040604, OVIDE,    37,  1,      8,      8,2,20040617,0930, 58.7270, -30.6950, 1471,    795.6,   5.2010,  35.0410,2,  35.0420,2,    246.8,2,    246.4,2,    10.29,3,    15.75,   3,     1.29,2,   -999.0,9,   7.7150,2,    25.00,   5.1340
  35TH20040604, OVIDE,    37,  1,      9,      9,2,20040617,0930, 58.7270, -30.6950, 1471,    695.4,   5.6440,  35.0650,2,  35.0660,2,    235.9,2,    237.6,2,    10.50,3,    14.15,   3,     1.32,2,   -999.0,9,   7.7140,2,    25.00,   5.5835
  35TH20040604, OVIDE,    37,  1,     10,     10,2,20040617,0930, 58.7270, -30.6950, 1471,    626.2,   6.2120,  35.0990,2,  35.0970,2,    226.2,2,    229.2,2,    10.41,3,    15.17,   3,     1.32,2,   -999.0,9,   7.7170,2,    25.00,   6.1551
  35TH20040604, OVIDE,    37,  1,     11,     11,2,20040617,0930, 58.7270, -30.6950, 1471,    495.7,   6.9060,  35.1330,2,  35.1320,2,    235.8,2,    234.4,2,     9.51,2,    17.20,   2,     1.28,2,   -999.0,9,   7.7310,2,    25.00,   6.8588
  35TH20040604, OVIDE,    37,  1,     12,     12,2,20040617,0930, 58.7270, -30.6950, 1471,    416.8,   7.3060,  35.1450,2,  35.1470,2,    240.3,2,    245.4,2,     8.53,2,    17.15,   3,     1.22,2,   -999.0,9,   7.7500,2,    25.00,   7.2653
  35TH20040604, OVIDE,    37,  1,     13,     13,2,20040617,0930, 58.7270, -30.6950, 1471,    284.2,   7.7290,  35.1660,2,  35.1640,2,    257.6,2,    250.9,3,     7.67,2,    15.65,   2,     1.17,2,   -999.0,9,   7.7530,2,    25.00,   7.7006
  35TH20040604, OVIDE,    37,  1,     14,     14,2,20040617,0930, 58.7270, -30.6950, 1471,    245.8,   7.8890,  35.1820,2,  35.1800,2,    259.5,2,    258.4,2,     6.97,2,    13.52,   2,     1.15,2,   -999.0,9,   7.7710,2,    25.00,   7.8642
  35TH20040604, OVIDE,    37,  1,     15,     15,2,20040617,0930, 58.7270, -30.6950, 1471,    176.0,   8.0900,  35.1910,2,  35.1870,2,    259.7,2,    260.0,2,     6.48,2,    10.82,   3,     1.12,2,   -999.0,9,   7.7760,2,    25.00,   8.0720
  35TH20040604, OVIDE,    37,  1,     16,     16,2,20040617,0930, 58.7270, -30.6950, 1471,     97.1,   8.6830,  35.2010,2,  35.1980,2,    282.6,2,    280.3,2,     2.54,2,    10.14,   2,     0.98,2,   -999.0,9,   7.8220,2,    25.00,   8.6727
  35TH20040604, OVIDE,    37,  1,     17,     17,2,20040617,0930, 58.7270, -30.6950, 1471,     46.8,   9.8020,  35.1770,2,  35.1770,2,    285.8,2,    284.1,2,     2.38,2,     9.52,   3,     0.98,2,   -999.0,9,   7.8590,2,    25.00,   9.7967
  35TH20040604, OVIDE,    37,  1,     18,     18,2,20040617,0930, 58.7270, -30.6950, 1471,      3.1,   9.8100,  35.1720,2,  35.1740,2,    276.3,2,    284.6,3,     1.48,2,     4.68,   3,     0.99,2,   -999.0,9,   7.8640,2,    25.00,   9.8096
  35TH20040604, OVIDE,    38,  1,      3,      3,2,20040617,1259, 58.5500, -30.3670, 1639,   1624.6,   3.6240,  34.9650,2,  34.9640,2,    270.9,2,    272.5,2,    10.49,2,    16.23,   2,     1.25,2,   2306.2,2,   7.7210,2,    25.00,   3.4969
  35TH20040604, OVIDE,    38,  1,      4,      4,2,20040617,1259, 58.5500, -30.3670, 1639,   1596.1,   3.6320,  34.9650,2,  34.9640,2,    273.0,2,    272.9,2,    10.49,2,    15.01,   3,     1.25,2,   2304.5,2,   7.7220,2,    25.00,   3.5074
  35TH20040604, OVIDE,    38,  1,      5,      5,2,20040617,1259, 58.5500, -30.3670, 1639,   1545.7,   3.6310,  34.9620,2,  34.9630,2,    273.0,2,    272.4,2,    10.53,2,    16.72,   2,     1.26,2,   2306.5,2,   7.7210,2,    25.00,   3.5109
  35TH20040604, OVIDE,    38,  1,      6,      6,2,20040617,1259, 58.5500, -30.3670, 1639,   1495.4,   3.6230,  34.9610,2,  34.9600,2,    274.4,2,    272.8,2,    10.53,2,    15.84,   2,     1.25,2,   2307.2,2,   7.7210,2,    25.00,   3.5075
  35TH20040604, OVIDE,    38,  1,      7,      7,2,20040617,1259, 58.5500, -30.3670, 1639,   1395.8,   3.6070,  34.9490,2,  34.9520,2,    274.4,2,    273.1,2,    10.66,2,    16.43,   2,     1.29,2,   2303.3,2,   7.7210,2,    25.00,   3.5004
  35TH20040604, OVIDE,    38,  1,      8,      8,2,20040617,1259, 58.5500, -30.3670, 1639,   1196.2,   3.7820,  34.9360,2,  34.9380,2,    270.7,2,    270.1,2,    10.70,2,    15.20,   2,     1.33,2,   2302.2,2,   7.7210,2,    25.00,   3.6909
  35TH20040604, OVIDE,    38,  1,      9,      9,2,20040617,1259, 58.5500, -30.3670, 1639,    996.0,   4.4380,  34.9860,2,  34.9870,2,    259.7,2,    259.4,2,    10.29,2,    14.86,   2,     1.29,2,   2306.1,2,   7.7180,2,    25.00,   4.3585
  35TH20040604, OVIDE,    38,  1,     10,     10,2,20040617,1259, 58.5500, -30.3670, 1639,    795.4,   5.4480,  35.0530,2,  35.0560,2,    237.6,2,    240.9,2,    10.49,2,    16.03,   2,     1.32,2,   2311.3,2,   7.7080,2,    25.00,   5.3795
  35TH20040604, OVIDE,    38,  1,     11,     11,2,20040617,1259, 58.5500, -30.3670, 1639,    596.5,   6.6060,  35.1130,2,  35.1150,2,    232.4,2,    233.9,2,     9.88,2,    17.26,   2,     1.30,2,   2314.9,2,   7.7210,2,    25.00,   6.5502
  35TH20040604, OVIDE,    38,  1,     12,     12,2,20040617,1259, 58.5500, -30.3670, 1639,    395.9,   7.5970,  35.1740,2,  35.1740,2,    263.0,2,    264.6,2,     7.10,2,    14.42,   2,     1.11,2,   2318.8,2,   7.7830,2,    25.00,   7.5575
  35TH20040604, OVIDE,    38,  1,     13,     13,2,20040617,1259, 58.5500, -30.3670, 1639,    295.9,   7.7750,  35.1740,2,  35.1740,2,    269.6,2,    266.7,2,     6.74,2,    14.17,   2,     1.09,2,   2318.4,2,   7.7870,2,    25.00,   7.7453
  35TH20040604, OVIDE,    38,  1,     14,     14,2,20040617,1259, 58.5500, -30.3670, 1639,    197.1,   8.0040,  35.1900,2,  35.1880,2,    262.3,2,    267.4,2,     6.37,2,    13.63,   2,     1.08,2,   2318.3,2,   7.7890,2,    25.00,   7.9840
  35TH20040604, OVIDE,    38,  1,     15,     15,2,20040617,1259, 58.5500, -30.3670, 1639,    147.9,   8.1270,  35.1880,2,  35.1880,2,    259.8,2,    263.0,2,     6.45,2,    13.53,   2,     1.08,2,   -999.0,9,   7.7870,2,    25.00,   8.1119
  35TH20040604, OVIDE,    38,  1,     16,     16,2,20040617,1259, 58.5500, -30.3670, 1639,     96.6,   8.3120,  35.1830,2,  35.1830,2,    266.7,2,    265.9,2,     5.80,2,    13.24,   2,     1.04,2,   2317.6,2,   7.7920,2,    25.00,   8.3020
  35TH20040604, OVIDE,    38,  1,     17,     17,2,20040617,1259, 58.5500, -30.3670, 1639,     47.2,   9.0260,  35.1930,2,  35.1850,2,    283.2,2,    282.5,2,     2.00,2,     9.22,   2,     0.84,2,   -999.0,9,   7.8500,2,    25.00,   9.0209
  35TH20040604, OVIDE,    38,  1,     18,     18,2,20040617,1259, 58.5500, -30.3670, 1639,      2.5,   9.8770,  35.1860,2,  35.1880,2,    276.3,2,    285.5,3,     1.51,2,     7.55,   2,     0.74,2,   2316.8,2,   7.8660,2,    25.00,   9.8767