BOTTLE,20220120SIOCCHENA
EXPOCODE,SECT_ID,STNNBR,CASTNO,SAMPNO,BTLNBR,BTLNBR_FLAG_W,DATE,TIME,LATITUDE,LONGITUDE,DEPTH,CTDPRS,CTDTMP,CTDSAL,CTDSAL_FLAG_W,SALNTY,SALNTY_FLAG_W,CTDOXY,CTDOXY_FLAG_W,OXYGEN,OXYGEN_FLAG_W,SILCAT,SILCAT_FLAG_W,NITRAT,NITRAT_FLAG_W,PHSPHT,PHSPHT_FLAG_W,ALKALI,ALKALI_FLAG_W,PH_SWS,PH_SWS_FLAG_W,PH_TMP,THETA
,,,,,,,,,,,METERS,DBAR,ITS-90,PSS-78,,PSS-78,,UMOL/KG,,UMOL/KG,,UMOL/KG,,UMOL/KG,,UMOL/KG,,UMOL/KG,,,,DEG C,DEG C
  35TH20040604, OVIDE,    99,  1,      3,      3,2,20040630,0053, 42.2780, -15.0680, 5412,   5401.1,   2.5700,  34.8950,2,  34.8940,2,    243.0,2,    243.0,2,    47.13,2,    22.39,   2,     1.33,2,   -999.0,9,   7.7320,2,    25.00,   2.0461
  35TH20040604, OVIDE,    99,  1,      4,      4,2,20040630,0053, 42.2780, -15.0680, 5412,   4798.5,   2.5070,  34.8950,2,  34.8970,2,    243.2,2,    243.0,2,    46.70,2,    22.10,   2,     1.30,2,   -999.0,9,   7.7330,2,    25.00,   2.0627
  35TH20040604, OVIDE,    99,  1,      5,      5,2,20040630,0053, 42.2780, -15.0680, 5412,   4497.9,   2.4970,  34.8990,2,  34.8990,2,    243.1,2,    243.0,2,    46.12,2,    22.22,   2,     1.31,2,   -999.0,9,   7.7340,2,    25.00,   2.0900
  35TH20040604, OVIDE,    99,  1,      6,      6,2,20040630,0053, 42.2780, -15.0680, 5412,   4197.8,   2.5080,  34.9030,2,  34.9020,2,    243.6,2,    243.4,2,    45.40,2,    21.76,   2,     1.29,2,   -999.0,9,   7.7310,2,    25.00,   2.1364
  35TH20040604, OVIDE,    99,  1,      7,      7,2,20040630,0053, 42.2780, -15.0680, 5412,   3896.8,   2.5520,  34.9120,2,  34.9140,2,    243.1,2,    243.4,2,    43.37,2,    21.93,   2,     1.29,2,   -999.0,9,   7.7310,2,    25.00,   2.2140
  35TH20040604, OVIDE,    99,  1,      8,      8,2,20040630,0053, 42.2780, -15.0680, 5412,   3597.6,   2.6070,  34.9200,2,  34.9220,2,    243.9,2,    244.6,2,    41.35,2,    21.53,   2,     1.26,2,   -999.0,9,   7.7310,2,    25.00,   2.3011
  35TH20040604, OVIDE,    99,  1,      9,      9,2,20040630,0053, 42.2780, -15.0680, 5412,   3294.7,   2.7100,  34.9320,2,  34.9340,2,    245.7,2,    246.2,2,    37.73,2,    21.07,   2,     1.23,2,   -999.0,9,   7.7360,2,    25.00,   2.4345
  35TH20040604, OVIDE,    99,  1,     10,     10,2,20040630,0053, 42.2780, -15.0680, 5412,   2997.3,   2.8600,  34.9450,2,  34.9470,2,    249.4,2,    249.0,2,    34.12,2,    20.67,   2,     1.19,2,   -999.0,9,   7.7360,2,    25.00,   2.6125
  35TH20040604, OVIDE,    99,  1,     11,     11,2,20040630,0053, 42.2780, -15.0680, 5412,   2695.9,   3.0950,  34.9640,2,  34.9670,2,    252.2,2,    251.4,2,    28.91,2,    19.98,   2,     1.14,2,   -999.0,9,   7.7430,2,    25.00,   2.8735
  35TH20040604, OVIDE,    99,  1,     12,     12,2,20040630,0053, 42.2780, -15.0680, 5412,   2396.1,   3.4240,  34.9860,2,  34.9830,2,    257.6,2,    255.1,2,    23.42,2,    18.83,   2,     1.06,2,   -999.0,9,   7.7370,2,    25.00,   3.2265
  35TH20040604, OVIDE,    99,  1,     13,     13,2,20040630,0053, 42.2780, -15.0680, 5412,   2194.8,   3.5490,  34.9690,2,  34.9700,2,    261.3,2,    262.0,2,    16.00,2,    18.48,   2,     1.03,2,   -999.0,9,   7.7360,2,    25.00,   3.3694
  35TH20040604, OVIDE,    99,  1,     14,     14,2,20040630,0053, 42.2780, -15.0680, 5412,   1994.7,   3.8020,  34.9840,2,  34.9840,2,    262.4,2,    263.8,2,    13.55,2,    18.25,   2,     1.00,2,   -999.0,9,   7.7320,2,    25.00,   3.6378
  35TH20040604, OVIDE,    99,  1,     15,     15,2,20040630,0053, 42.2780, -15.0680, 5412,   1796.1,   4.2660,  35.0360,2,  35.0400,2,    257.2,2,    257.8,2,    12.33,2,    18.25,   2,     1.00,2,   -999.0,9,   7.7310,2,    25.00,   4.1144
  35TH20040604, OVIDE,    99,  1,     16,     16,2,20040630,0053, 42.2780, -15.0680, 5412,   1596.8,   5.1540,  35.1630,2,  35.1580,2,    244.2,2,    243.7,2,    11.81,2,    18.37,   2,     0.99,2,   -999.0,9,   7.7330,2,    25.00,   5.0107
  35TH20040604, OVIDE,    99,  1,     17,     17,2,20040630,0053, 42.2780, -15.0680, 5412,   1395.3,   6.9280,  35.4390,2,  35.4360,2,    218.4,2,    219.8,2,    11.18,2,    18.02,   2,     0.97,2,   -999.0,9,   7.7470,2,    25.00,   6.7860
  35TH20040604, OVIDE,    99,  1,     18,     18,2,20040630,0053, 42.2780, -15.0680, 5412,   1196.2,   8.8930,  35.7500,2,  35.7520,2,    195.5,2,    197.3,2,    10.31,2,    17.38,   2,     0.92,2,   -999.0,9,   7.7660,2,    25.00,   8.7553
  35TH20040604, OVIDE,    99,  1,     19,     19,2,20040630,0053, 42.2780, -15.0680, 5412,   1004.6,   9.8900,  35.8180,2,  35.8240,2,    184.4,2,    185.2,2,     9.56,2,    17.32,   2,     0.90,2,   -999.0,9,   7.7730,2,    25.00,   9.7683
  35TH20040604, OVIDE,    99,  1,     20,     20,2,20040630,0053, 42.2780, -15.0680, 5412,    874.6,  10.4270,  35.7710,2,  35.7730,2,    183.4,2,    182.4,2,     8.77,2,    16.87,   2,     0.88,2,   -999.0,9,   7.7730,2,    25.00,  10.3184
  35TH20040604, OVIDE,    99,  1,     21,     21,2,20040630,0053, 42.2780, -15.0680, 5412,    797.0,  10.4760,  35.6570,2,  35.6580,2,    184.5,2,    183.4,2,     8.45,2,    17.10,   2,     0.90,2,   -999.0,9,   7.7700,2,    25.00,  10.3773
  35TH20040604, OVIDE,    99,  1,     22,     22,2,20040630,0053, 42.2780, -15.0680, 5412,    597.6,  10.9270,  35.5500,2,  35.5490,2,    199.8,2,    196.0,2,     6.56,2,    15.44,   2,     0.78,2,   -999.0,9,   7.7780,2,    25.00,  10.8518
  35TH20040604, OVIDE,    99,  1,     23,     23,2,20040630,0053, 42.2780, -15.0680, 5412,    496.7,  11.3670,  35.5530,2,  35.5520,2,    216.1,2,    212.1,2,     5.13,2,    13.48,   2,     0.67,2,   -999.0,9,   7.8050,2,    25.00,  11.3032
  35TH20040604, OVIDE,    99,  1,     24,     24,2,20040630,0053, 42.2780, -15.0680, 5412,    346.6,  12.2120,  35.6550,2,  35.6520,2,    222.4,2,    225.4,2,     3.83,2,    10.67,   2,     0.53,2,   -999.0,9,   7.8430,2,    25.00,  12.1657
  35TH20040604, OVIDE,    99,  1,     25,     25,2,20040630,0053, 42.2780, -15.0680, 5412,    197.6,  12.8810,  35.7410,2,  35.7420,2,    238.4,2,    241.6,2,     2.05,2,     6.14,   2,     0.29,2,   -999.0,9,   7.8860,2,    25.00,  12.8538
  35TH20040604, OVIDE,    99,  1,     26,     26,2,20040630,0053, 42.2780, -15.0680, 5412,    147.3,  13.1010,  35.7660,2,  35.7660,2,    239.0,2,    241.4,2,     1.70,2,     4.93,   2,     0.24,2,   -999.0,9,   7.8950,2,    25.00,  13.0805
  35TH20040604, OVIDE,    99,  1,     27,     27,2,20040630,0053, 42.2780, -15.0680, 5412,    101.5,  13.5170,  35.8170,2,  35.8140,2,    239.3,2,    242.4,2,     1.42,2,     3.79,   2,     0.19,2,   -999.0,9,   7.9110,2,    25.00,  13.5026
  35TH20040604, OVIDE,    99,  1,     28,     28,2,20040630,0053, 42.2780, -15.0680, 5412,     48.4,  14.1900,  35.8290,2,  35.8290,2,    262.8,2,    262.7,2,     0.95,2,     0.06,   2,     0.04,2,   -999.0,9,   7.9590,2,    25.00,  14.1829
  35TH20040604, OVIDE,    99,  1,     29,     29,2,20040630,0053, 42.2780, -15.0680, 5412,     48.4,  14.1980,  35.8310,2,  35.8300,2,    262.8,2,    263.9,2,     0.99,2,     0.06,   2,     0.03,2,   -999.0,9,   7.9530,2,    25.00,  14.1909
  35TH20040604, OVIDE,    99,  1,     30,     30,2,20040630,0053, 42.2780, -15.0680, 5412,      4.9,  19.0230,  35.8960,2,  35.8990,2,    224.8,2,    239.8,3,     0.95,2,     0.06,   2,     0.02,2,   -999.0,9,   7.9850,2,    25.00,  19.0221
  35TH20040604, OVIDE,   100,  1,      3,      3,2,20040630,0645, 41.9840, -14.6720, 5438,   5427.0,   2.5710,  34.8950,2,  34.8960,2,    242.6,2,    242.9,2,    46.99,2,    22.32,   2,     1.29,2,   2356.7,2,   7.7320,2,    25.00,   2.0436
  35TH20040604, OVIDE,   100,  1,      4,      4,2,20040630,0645, 41.9840, -14.6720, 5438,   4982.5,   2.5200,  34.8950,2,  34.8990,2,    244.4,2,    243.5,2,    46.70,2,    22.20,   2,     1.28,2,   2352.7,2,   7.7340,2,    25.00,   2.0520
  35TH20040604, OVIDE,   100,  1,      5,      5,2,20040630,0645, 41.9840, -14.6720, 5438,   4498.3,   2.4970,  34.8990,2,  34.9020,2,    243.4,2,    244.6,2,    45.54,2,    22.14,   2,     1.28,2,   2351.0,2,   7.7320,2,    25.00,   2.0899
  35TH20040604, OVIDE,   100,  1,      6,      6,2,20040630,0645, 41.9840, -14.6720, 5438,   3998.6,   2.5300,  34.9080,2,  34.9050,2,    243.1,2,    243.6,2,    43.66,2,    22.09,   2,     1.30,2,   2347.5,2,   7.7300,2,    25.00,   2.1810
  35TH20040604, OVIDE,   100,  1,      7,      7,2,20040630,0645, 41.9840, -14.6720, 5438,   3497.4,   2.6350,  34.9230,2,  34.9280,2,    246.9,2,    245.3,2,    39.61,2,    21.34,   2,     1.25,2,   2344.2,2,   7.7380,2,    25.00,   2.3394
  35TH20040604, OVIDE,   100,  1,      8,      8,2,20040630,0645, 41.9840, -14.6720, 5438,   3246.4,   2.7250,  34.9340,2,  34.9320,2,    247.9,2,    247.7,2,    37.01,2,    21.00,   2,     1.25,2,   2340.2,2,   7.7370,2,    25.00,   2.4543
  35TH20040604, OVIDE,   100,  1,      9,      9,2,20040630,0645, 41.9840, -14.6720, 5438,   2997.9,   2.8590,  34.9450,2,  34.9470,2,    249.0,2,    249.0,2,    33.54,2,    20.54,   2,     1.21,2,   2336.0,2,   7.7360,2,    25.00,   2.6114
  35TH20040604, OVIDE,   100,  1,     10,     10,2,20040630,0645, 41.9840, -14.6720, 5438,   2746.3,   3.0610,  34.9640,2,  34.9610,2,    252.1,2,    251.1,2,    29.49,2,    19.97,   2,     1.16,2,   2331.8,2,   7.7370,2,    25.00,   2.8351
  35TH20040604, OVIDE,   100,  1,     11,     11,2,20040630,0645, 41.9840, -14.6720, 5438,   2496.2,   3.3530,  34.9850,2,  34.9860,2,    255.2,2,    255.2,2,    24.72,2,    19.29,   2,     1.00,2,   2324.6,2,   7.7380,2,    25.00,   3.1468
  35TH20040604, OVIDE,   100,  1,     12,     12,2,20040630,0645, 41.9840, -14.6720, 5438,   2278.1,   3.6230,  34.9990,2,  34.9930,2,    254.4,2,    257.8,2,    17.86,2,    18.72,   2,     1.05,2,   2319.4,2,   7.7370,2,    25.00,   3.4338
  35TH20040604, OVIDE,   100,  1,     13,     13,2,20040630,0645, 41.9840, -14.6720, 5438,   2126.8,   3.7360,  34.9920,2,  34.9880,2,    261.1,2,    261.5,2,    15.25,2,    18.20,   2,     1.03,2,   2313.9,2,   7.7370,2,    25.00,   3.5600
  35TH20040604, OVIDE,   100,  1,     14,     14,2,20040630,0645, 41.9840, -14.6720, 5438,   1996.0,   3.9890,  35.0110,2,  35.0150,2,    260.8,2,    259.9,2,    13.75,2,    18.09,   2,     1.01,2,   2314.9,2,   7.7280,2,    25.00,   3.8219
  35TH20040604, OVIDE,   100,  1,     15,     15,2,20040630,0645, 41.9840, -14.6720, 5438,   1796.5,   4.4230,  35.0620,2,  35.0620,2,    255.7,2,    255.9,2,    12.52,2,    18.03,   2,     1.00,2,   2316.2,2,   7.7350,2,    25.00,   4.2692
  35TH20040604, OVIDE,   100,  1,     16,     16,2,20040630,0645, 41.9840, -14.6720, 5438,   1597.5,   5.5080,  35.2250,2,  35.2280,2,    240.4,2,    239.9,2,    11.93,2,    17.69,   2,     0.98,2,   2327.5,2,   7.7390,2,    25.00,   5.3603
  35TH20040604, OVIDE,   100,  1,     17,     17,2,20040630,0645, 41.9840, -14.6720, 5438,   1394.5,   7.2180,  35.4930,2,  35.4950,2,    217.8,2,    216.7,2,    11.34,2,    17.80,   2,     0.96,2,   2346.5,2,   7.7520,2,    25.00,   7.0730
  35TH20040604, OVIDE,   100,  1,     18,     18,2,20040630,0645, 41.9840, -14.6720, 5438,   1180.5,   9.5030,  35.8690,2,  35.8630,2,    192.4,2,    192.6,2,    10.15,2,    17.05,   2,     0.90,2,   2372.8,2,   7.7750,2,    25.00,   9.3619
  35TH20040604, OVIDE,   100,  1,     19,     19,2,20040630,0645, 41.9840, -14.6720, 5438,   1037.7,  10.0210,  35.8540,2,  35.8560,2,    185.2,2,    185.7,2,     9.71,2,    17.11,   2,     0.90,2,   2368.7,2,   7.7770,2,    25.00,   9.8941
  35TH20040604, OVIDE,   100,  1,     20,     20,2,20040630,0645, 41.9840, -14.6720, 5438,    897.3,  10.3460,  35.7830,2,  35.7890,2,    183.3,2,    183.8,2,     9.12,2,    17.00,   2,     0.89,2,   -999.0,9,   7.7750,2,    25.00,  10.2350
  35TH20040604, OVIDE,   100,  1,     21,     21,2,20040630,0645, 41.9840, -14.6720, 5438,    756.5,  10.5990,  35.6690,2,  35.6680,2,    185.1,2,    185.7,2,     8.25,2,    16.83,   2,     0.87,2,   2351.6,2,   7.7730,2,    25.00,  10.5048
  35TH20040604, OVIDE,   100,  1,     22,     22,2,20040630,0645, 41.9840, -14.6720, 5438,    696.6,  10.6810,  35.6080,2,  35.6130,2,    190.2,2,    186.9,2,     7.74,2,    16.37,   2,     0.86,2,   -999.0,9,   7.7750,2,    25.00,  10.5941
  35TH20040604, OVIDE,   100,  1,     23,     23,2,20040630,0645, 41.9840, -14.6720, 5438,    596.2,  11.0000,  35.5430,2,  35.5450,2,    201.1,2,    199.2,2,     6.32,2,    15.12,   2,     0.77,2,   2335.5,2,   7.7840,2,    25.00,  10.9247
  35TH20040604, OVIDE,   100,  1,     24,     24,2,20040630,0645, 41.9840, -14.6720, 5438,    516.8,  11.3300,  35.5390,2,  35.5400,2,    216.0,2,    217.9,2,     5.13,2,    12.89,   2,     0.65,2,   2335.0,2,   7.8130,2,    25.00,  11.2637
  35TH20040604, OVIDE,   100,  1,     25,     25,2,20040630,0645, 41.9840, -14.6720, 5438,    287.0,  12.5750,  35.7140,2,  35.7160,2,    241.9,2,    245.9,2,     2.88,2,     7.81,   2,     0.37,2,   2344.5,2,   7.8800,2,    25.00,  12.5360
  35TH20040604, OVIDE,   100,  1,     26,     26,2,20040630,0645, 41.9840, -14.6720, 5438,    197.1,  12.9340,  35.7570,2,  35.7560,2,    247.0,2,    239.5,2,     2.68,2,     7.59,   2,     0.36,2,   2348.1,2,   7.8830,2,    25.00,  12.9068
  35TH20040604, OVIDE,   100,  1,     27,     27,2,20040630,0645, 41.9840, -14.6720, 5438,    147.3,  13.0620,  35.7730,2,  35.7760,2,    245.4,2,    246.3,2,     2.09,2,     6.27,   2,     0.30,2,   -999.0,9,   7.8990,2,    25.00,  13.0416
  35TH20040604, OVIDE,   100,  1,     28,     28,2,20040630,0645, 41.9840, -14.6720, 5438,     97.0,  13.1800,  35.7810,2,  35.7810,2,    237.8,2,    245.2,2,     1.66,2,     5.48,   2,     0.27,2,   2350.3,2,   7.9060,2,    25.00,  13.1665
  35TH20040604, OVIDE,   100,  1,     29,     29,2,20040630,0645, 41.9840, -14.6720, 5438,     47.1,  13.7750,  35.8330,2,  35.8310,2,    254.0,2,    257.5,2,     1.26,2,     1.37,   2,     0.08,2,   -999.0,9,   7.9410,2,    25.00,  13.7682
  35TH20040604, OVIDE,   100,  1,     30,     30,2,20040630,0645, 41.9840, -14.6720, 5438,      5.2,  19.0980,  35.8730,2,  35.8680,2,    229.7,2,    238.6,2,     0.87,2,     0.00,   2,     0.01,2,   2360.5,2,   7.9770,2,    25.00,  19.0971