BOTTLE,20220120SIOCCHENA
EXPOCODE,SECT_ID,STNNBR,CASTNO,SAMPNO,BTLNBR,BTLNBR_FLAG_W,DATE,TIME,LATITUDE,LONGITUDE,DEPTH,CTDPRS,CTDTMP,CTDSAL,CTDSAL_FLAG_W,SALNTY,SALNTY_FLAG_W,CTDOXY,CTDOXY_FLAG_W,OXYGEN,OXYGEN_FLAG_W,SILCAT,SILCAT_FLAG_W,NITRAT,NITRAT_FLAG_W,PHSPHT,PHSPHT_FLAG_W,ALKALI,ALKALI_FLAG_W,PH_SWS,PH_SWS_FLAG_W,PH_TMP,THETA
,,,,,,,,,,,METERS,DBAR,ITS-90,PSS-78,,PSS-78,,UMOL/KG,,UMOL/KG,,UMOL/KG,,UMOL/KG,,UMOL/KG,,UMOL/KG,,,,DEG C,DEG C
  35TH20040604, OVIDE,    49,  1,      3,      3,2,20040619,0851, 55.7410, -26.8830, 3018,   3004.4,   2.7080,  34.9720,2,  34.9720,2,    274.3,2,   -999.0,9,    14.27,2,    16.26,   2,     1.22,2,   -999.0,9,   7.7170,2,    25.00,   2.4629
  35TH20040604, OVIDE,    49,  1,      4,      4,2,20040619,0851, 55.7410, -26.8830, 3018,   2896.2,   2.7630,  34.9630,2,  34.9660,2,    272.5,2,    270.7,2,    15.91,2,    16.71,   2,     1.24,2,   -999.0,9,   7.7230,2,    25.00,   2.5279
  35TH20040604, OVIDE,    49,  1,      5,      5,2,20040619,0851, 55.7410, -26.8830, 3018,   2746.7,   2.9000,  34.9610,2,  34.9630,2,    274.1,2,    272.3,2,    14.72,2,    16.71,   2,     1.24,2,   -999.0,9,   7.7280,2,    25.00,   2.6773
  35TH20040604, OVIDE,    49,  1,      6,      6,2,20040619,0851, 55.7410, -26.8830, 3018,   2496.1,   3.1380,  34.9420,2,  34.9460,2,    276.7,2,    277.6,2,    12.55,2,    16.66,   2,     1.23,2,   -999.0,9,   7.7290,2,    25.00,   2.9359
  35TH20040604, OVIDE,    49,  1,      7,      7,2,20040619,0851, 55.7410, -26.8830, 3018,   2245.4,   3.1540,  34.9060,2,  34.9070,2,    280.9,2,    279.3,2,    11.93,2,    16.88,   2,     1.24,2,   -999.0,9,   7.7290,2,    25.00,   2.9762
  35TH20040604, OVIDE,    49,  1,      8,      8,2,20040619,0851, 55.7410, -26.8830, 3018,   1996.4,   3.2090,  34.8900,2,  34.8880,2,    283.3,2,    282.2,2,    11.11,2,    17.05,   2,     1.24,2,   -999.0,9,   7.7310,2,    25.00,   3.0538
  35TH20040604, OVIDE,    49,  1,      9,      9,2,20040619,0851, 55.7410, -26.8830, 3018,   1795.9,   3.3000,  34.8870,2,  34.8870,2,    282.8,2,    281.4,2,    10.87,2,    17.16,   2,     1.25,2,   -999.0,9,   7.7280,2,    25.00,   3.1618
  35TH20040604, OVIDE,    49,  1,     10,     10,2,20040619,0851, 55.7410, -26.8830, 3018,   1595.6,   3.4610,  34.8920,2,  34.8910,2,    279.7,2,    279.7,2,    10.82,2,    17.33,   2,     1.27,2,   -999.0,9,   7.7240,2,    25.00,   3.3387
  35TH20040604, OVIDE,    49,  1,     11,     11,2,20040619,0851, 55.7410, -26.8830, 3018,   1395.8,   3.5840,  34.8940,2,  34.8940,2,    277.8,2,    275.6,2,    10.58,2,    17.39,   2,     1.27,2,   -999.0,9,   7.7180,2,    25.00,   3.4778
  35TH20040604, OVIDE,    49,  1,     12,     12,2,20040619,0851, 55.7410, -26.8830, 3018,   1195.9,   3.7140,  34.8890,2,  34.8880,2,    278.5,2,    276.9,2,    10.09,2,    17.27,   2,     1.25,2,   -999.0,9,   7.7160,2,    25.00,   3.6236
  35TH20040604, OVIDE,    49,  1,     13,     13,2,20040619,0851, 55.7410, -26.8830, 3018,    995.5,   3.9290,  34.9010,2,  34.9020,2,    273.3,2,    271.1,2,    10.17,2,    17.44,   2,     1.27,2,   -999.0,9,   7.7130,2,    25.00,   3.8536
  35TH20040604, OVIDE,    49,  1,     14,     14,2,20040619,0851, 55.7410, -26.8830, 3018,    996.0,   3.9290,  34.9020,2,  34.9020,2,    273.3,2,    271.6,2,    10.09,2,    17.39,   2,     1.25,2,   -999.0,9,   7.7130,2,    25.00,   3.8535
  35TH20040604, OVIDE,    49,  1,     15,     15,2,20040619,0851, 55.7410, -26.8830, 3018,    895.2,   4.1550,  34.9200,2,  34.9220,2,    264.9,2,    265.2,2,    10.46,2,    17.89,   2,     1.30,2,   -999.0,9,   7.7130,2,    25.00,   4.0863
  35TH20040604, OVIDE,    49,  1,     16,     16,2,20040619,0851, 55.7410, -26.8830, 3018,    796.2,   4.5020,  34.9490,2,  34.9470,2,    256.1,2,    254.2,2,    10.78,2,    18.23,   2,     1.31,2,   -999.0,9,   7.7040,2,    25.00,   4.4393
  35TH20040604, OVIDE,    49,  1,     17,     17,2,20040619,0851, 55.7410, -26.8830, 3018,    692.7,   5.0270,  34.9840,2,  34.9830,2,    242.1,2,    255.0,3,    10.87,2,    18.62,   2,     1.33,2,   -999.0,9,   7.7030,2,    25.00,   4.9701
  35TH20040604, OVIDE,    49,  1,     18,     18,2,20040619,0851, 55.7410, -26.8830, 3018,    596.7,   5.7240,  35.0260,2,  35.0270,2,    228.4,2,    228.0,2,    11.07,2,    18.96,   2,     1.36,2,   -999.0,9,   7.7020,2,    25.00,   5.6722
  35TH20040604, OVIDE,    49,  1,     19,     19,2,20040619,0851, 55.7410, -26.8830, 3018,    495.7,   6.3190,  35.0260,2,  35.0280,2,    222.5,2,    220.3,2,    10.78,2,    19.01,   2,     1.36,2,   -999.0,9,   7.7050,2,    25.00,   6.2741
  35TH20040604, OVIDE,    49,  1,     20,     20,2,20040619,0851, 55.7410, -26.8830, 3018,    396.3,   7.2680,  35.0360,2,  35.0400,2,    221.5,2,    219.2,2,    10.00,2,    18.40,   2,     1.29,2,   -999.0,9,   7.7200,2,    25.00,   7.2295
  35TH20040604, OVIDE,    49,  1,     21,     21,2,20040619,0851, 55.7410, -26.8830, 3018,    283.2,   8.2230,  35.1000,2,  35.0950,2,    236.4,2,    234.4,2,     8.16,2,    16.32,   2,     1.18,2,   -999.0,9,   7.7550,2,    25.00,   8.1937
  35TH20040604, OVIDE,    49,  1,     22,     22,2,20040619,0851, 55.7410, -26.8830, 3018,    197.0,   9.0110,  35.1920,2,  35.1940,2,    262.6,2,    262.8,2,     5.25,2,    12.73,   2,     0.98,2,   -999.0,9,   7.8070,2,    25.00,   8.9895
  35TH20040604, OVIDE,    49,  1,     23,     23,2,20040619,0851, 55.7410, -26.8830, 3018,    146.9,   9.2280,  35.2110,2,  35.2160,2,    267.1,2,    262.0,2,     5.08,2,    12.50,   2,     0.94,2,   -999.0,9,   7.8070,2,    25.00,   9.2118
  35TH20040604, OVIDE,    49,  1,     24,     24,2,20040619,0851, 55.7410, -26.8830, 3018,     96.1,   9.3990,  35.2060,2,  35.2130,2,    265.2,2,    262.2,2,     4.59,2,    12.00,   2,     0.92,2,   -999.0,9,   7.8180,2,    25.00,   9.3883
  35TH20040604, OVIDE,    49,  1,     25,     25,2,20040619,0851, 55.7410, -26.8830, 3018,     46.0,  10.1490,  35.1740,2,  35.1760,2,    281.3,2,    277.9,2,     1.15,2,     8.07,   2,     0.74,2,   -999.0,9,   7.8690,2,    25.00,  10.1436
  35TH20040604, OVIDE,    49,  1,     26,     26,2,20040619,0851, 55.7410, -26.8830, 3018,      2.6,  11.0060,  35.1130,2,  35.1170,2,    269.5,2,    279.3,3,     0.90,2,     7.29,   2,     0.65,2,   -999.0,9,   7.8830,2,    25.00,  11.0057
  35TH20040604, OVIDE,    50,  1,      3,      3,2,20040619,1317, 55.5930, -26.7610, 3220,   3205.9,   2.7220,  34.9730,2,  34.9730,2,    274.3,2,    274.4,2,    14.13,2,    16.39,   2,     1.24,2,   -999.0,9,   7.7170,2,    25.00,   2.4555
  35TH20040604, OVIDE,    50,  1,      4,      4,2,20040619,1317, 55.5930, -26.7610, 3220,   1994.7,   3.2140,  34.8900,2,  34.8900,2,    282.0,2,    281.7,2,    11.27,2,    16.95,   2,     1.22,2,   -999.0,9,   7.7270,2,    25.00,   3.0589
  35TH20040604, OVIDE,    50,  1,      5,      5,2,20040619,1317, 55.5930, -26.7610, 3220,    996.0,   3.9540,  34.9050,2,  34.9070,2,    270.7,2,    269.3,2,    10.37,2,    17.62,   2,     1.30,2,   -999.0,9,   7.7160,2,    25.00,   3.8783
  35TH20040604, OVIDE,    50,  1,      6,      6,2,20040619,1317, 55.5930, -26.7610, 3220,    796.1,   4.5070,  34.9420,2,  34.9460,2,    254.8,2,    254.4,2,    10.66,2,    18.29,   2,     1.37,2,   -999.0,9,   7.7090,2,    25.00,   4.4443
  35TH20040604, OVIDE,    50,  1,      7,      7,2,20040619,1317, 55.5930, -26.7610, 3220,    696.2,   5.1330,  34.9910,2,  34.9930,2,    241.0,2,    239.6,2,    11.02,2,    18.85,   2,     1.39,2,   -999.0,9,   7.7060,2,    25.00,   5.0753
  35TH20040604, OVIDE,    50,  1,      8,      8,2,20040619,1317, 55.5930, -26.7610, 3220,    576.9,   6.4050,  35.1290,2,  35.1300,2,    218.2,2,    217.8,2,    11.10,2,    18.96,   2,     1.40,2,   -999.0,9,   7.7130,2,    25.00,   6.3519
  35TH20040604, OVIDE,    50,  1,      9,      9,2,20040619,1317, 55.5930, -26.7610, 3220,    496.3,   6.6890,  35.0930,2,  35.0950,2,    218.0,2,    216.7,2,    10.86,2,    18.96,   2,     1.42,2,   -999.0,9,   7.7120,2,    25.00,   6.6426
  35TH20040604, OVIDE,    50,  1,     10,     10,2,20040619,1317, 55.5930, -26.7610, 3220,    446.8,   6.8620,  35.0620,2,  35.0640,2,    219.7,2,    217.9,2,    10.57,2,    18.79,   2,     1.39,2,   -999.0,9,   7.7120,2,    25.00,   6.8198
  35TH20040604, OVIDE,    50,  1,     11,     11,2,20040619,1317, 55.5930, -26.7610, 3220,    296.2,   8.3590,  35.1260,2,  35.1340,2,    234.7,2,    232.7,2,     8.08,2,    16.17,   2,     1.22,2,   -999.0,9,   7.7610,2,    25.00,   8.3280
  35TH20040604, OVIDE,    50,  1,     12,     12,2,20040619,1317, 55.5930, -26.7610, 3220,    196.3,   8.9730,  35.1730,2,  35.1820,3,    262.0,2,    256.5,2,     5.96,2,    13.05,   2,     1.01,2,   -999.0,9,   7.8010,2,    25.00,   8.9516
  35TH20040604, OVIDE,    50,  1,     13,     13,2,20040619,1317, 55.5930, -26.7610, 3220,    157.4,   9.3370,  35.2280,2,  35.2370,3,    266.2,2,    265.5,2,     4.82,2,    12.04,   2,     0.95,2,   -999.0,9,   7.8190,2,    25.00,   9.3195
  35TH20040604, OVIDE,    50,  1,     14,     14,2,20040619,1317, 55.5930, -26.7610, 3220,     97.1,   9.4290,  35.1890,2,  35.1900,2,    265.6,2,    265.8,2,     3.80,2,    11.48,   2,     0.91,2,   -999.0,9,   7.8240,2,    25.00,   9.4182
  35TH20040604, OVIDE,    50,  1,     15,     15,2,20040619,1317, 55.5930, -26.7610, 3220,     47.5,  10.3570,  35.1920,2,  35.1870,2,    278.6,2,    277.2,2,     0.98,2,     7.81,   2,     0.73,2,   -999.0,9,   7.8820,2,    25.00,  10.3514
  35TH20040604, OVIDE,    50,  1,     16,     16,2,20040619,1317, 55.5930, -26.7610, 3220,      3.1,  11.3870,  35.1470,2,  35.1460,2,    267.9,2,    276.1,3,     0.65,2,     7.08,   2,     0.65,2,   -999.0,9,   7.8710,2,    25.00,  11.3866
  35TH20040604, OVIDE,    51,  1,      3,      3,2,20040619,1702, 55.4450, -26.6440, 3365,   3351.0,   2.7550,  34.9670,2,  34.9680,2,    271.4,2,    271.3,2,    16.10,2,    16.63,   2,     1.28,2,   -999.0,9,   7.7260,2,    25.00,   2.4722
  35TH20040604, OVIDE,    51,  1,      4,      4,2,20040619,1702, 55.4450, -26.6440, 3365,   3351.2,   2.7550,  34.9670,2,  34.9700,2,    271.4,2,    272.2,2,    16.18,2,    16.58,   2,     1.27,2,   2312.3,2,-999.0000,9,  -999.00,   2.4721
  35TH20040604, OVIDE,    51,  1,      5,      5,2,20040619,1702, 55.4450, -26.6440, 3365,   2996.2,   2.8330,  34.9460,2,  34.9500,2,    267.0,2,    267.7,2,    19.23,2,    17.52,   2,     1.32,2,   2314.4,2,   7.7270,2,    25.00,   2.5861
  35TH20040604, OVIDE,    51,  1,      6,      6,2,20040619,1702, 55.4450, -26.6440, 3365,   2745.4,   2.9560,  34.9400,2,  34.9420,2,    270.6,2,    270.7,2,    16.93,2,    17.30,   2,     1.32,2,   2312.1,2,   7.7280,2,    25.00,   2.7324
  35TH20040604, OVIDE,    51,  1,      7,      7,2,20040619,1702, 55.4450, -26.6440, 3365,   2495.7,   3.0590,  34.9270,2,  34.9280,2,    274.6,2,    275.4,2,    13.85,2,    16.91,   2,     1.28,2,   2305.5,2,   7.7280,2,    25.00,   2.8584
  35TH20040604, OVIDE,    51,  1,      8,      8,2,20040619,1702, 55.4450, -26.6440, 3365,   2245.4,   3.1280,  34.9120,2,  34.9120,2,    277.7,2,    278.1,2,    12.72,2,    16.97,   2,     1.29,2,   2305.2,2,   7.7280,2,    25.00,   2.9506
  35TH20040604, OVIDE,    51,  1,      9,      9,2,20040619,1702, 55.4450, -26.6440, 3365,   1996.0,   3.1870,  34.8900,2,  34.8930,2,    281.1,2,    281.7,2,    11.68,2,    17.08,   2,     1.30,2,   2300.7,2,   7.7260,2,    25.00,   3.0321
  35TH20040604, OVIDE,    51,  1,     10,     10,2,20040619,1702, 55.4450, -26.6440, 3365,   1795.9,   3.2830,  34.8870,2,  34.8870,2,    281.9,2,    280.8,2,    11.51,2,    17.30,   2,     1.31,2,   2301.4,2,   7.7250,2,    25.00,   3.1451
  35TH20040604, OVIDE,    51,  1,     11,     11,2,20040619,1702, 55.4450, -26.6440, 3365,   1595.7,   3.4190,  34.8910,2,  34.8900,2,    278.9,2,    278.4,2,    11.22,2,    17.36,   2,     1.32,2,   2300.9,2,   7.7220,2,    25.00,   3.2972
  35TH20040604, OVIDE,    51,  1,     12,     12,2,20040619,1702, 55.4450, -26.6440, 3365,   1395.8,   3.5620,  34.8940,2,  34.8920,2,    276.1,2,    275.9,2,    11.05,2,    17.41,   2,     1.32,2,   2299.8,2,   7.7230,2,    25.00,   3.4560
  35TH20040604, OVIDE,    51,  1,     13,     13,2,20040619,1702, 55.4450, -26.6440, 3365,   1195.9,   3.7490,  34.8990,2,  34.8970,2,    271.8,2,    272.7,2,    10.84,2,    17.47,   2,     1.33,2,   2300.7,2,   7.7170,2,    25.00,   3.6583
  35TH20040604, OVIDE,    51,  1,     14,     14,2,20040619,1702, 55.4450, -26.6440, 3365,    995.3,   3.9570,  34.9080,2,  34.9100,2,    266.1,2,    268.8,2,    10.64,2,    17.52,   2,     1.33,2,   2300.4,2,   7.7150,2,    25.00,   3.8814
  35TH20040604, OVIDE,    51,  1,     15,     15,2,20040619,1702, 55.4450, -26.6440, 3365,    895.9,   4.2520,  34.9330,2,  34.9330,2,    259.8,2,    260.2,2,    11.05,2,    18.02,   2,     1.34,2,   2305.0,2,   7.7120,2,    25.00,   4.1825
  35TH20040604, OVIDE,    51,  1,     16,     16,2,20040619,1702, 55.4450, -26.6440, 3365,    796.6,   4.5870,  34.9550,2,  34.9560,2,    246.8,2,    251.6,2,    11.14,2,    18.41,   2,     1.36,2,   2306.8,2,   7.7080,2,    25.00,   4.5237
  35TH20040604, OVIDE,    51,  1,     17,     17,2,20040619,1702, 55.4450, -26.6440, 3365,    695.4,   5.0490,  34.9920,2,  34.9890,2,    236.1,2,    241.3,2,    11.34,2,    18.68,   2,     1.38,2,   -999.0,9,   7.7040,2,    25.00,   4.9918
  35TH20040604, OVIDE,    51,  1,     18,     18,2,20040619,1702, 55.4450, -26.6440, 3365,    596.8,   5.5230,  35.0050,2,  35.0100,2,    229.2,2,    231.0,2,    11.43,2,    18.91,   2,     1.37,2,   2311.4,2,   7.6970,2,    25.00,   5.4721
  35TH20040604, OVIDE,    51,  1,     19,     19,2,20040619,1702, 55.4450, -26.6440, 3365,    496.4,   6.3170,  35.0460,2,  35.0460,2,    219.1,2,    221.0,2,    11.30,2,    18.80,   2,     1.39,2,   2313.4,2,   7.7070,2,    25.00,   6.2720
  35TH20040604, OVIDE,    51,  1,     20,     20,2,20040619,1702, 55.4450, -26.6440, 3365,    396.4,   6.6570,  34.9750,2,  34.9770,2,    220.4,2,    224.5,2,    10.72,2,    18.68,   2,     1.38,2,   2307.5,2,   7.7200,2,    25.00,   6.6204
  35TH20040604, OVIDE,    51,  1,     21,     21,2,20040619,1702, 55.4450, -26.6440, 3365,    296.6,   8.1460,  35.1150,2,  35.1090,2,    232.1,2,    230.5,2,     8.88,2,    16.69,   2,     1.23,2,   2313.4,2,   7.7500,2,    25.00,   8.1154
  35TH20040604, OVIDE,    51,  1,     22,     22,2,20040619,1702, 55.4450, -26.6440, 3365,    196.6,   8.9850,  35.1800,2,  35.1990,3,    250.9,2,    255.3,2,     6.09,2,    13.42,   2,     1.02,2,   2319.7,2,   7.8040,2,    25.00,   8.9636
  35TH20040604, OVIDE,    51,  1,     23,     23,2,20040619,1702, 55.4450, -26.6440, 3365,    145.3,   9.2520,  35.2010,2,  35.1940,2,    259.9,2,    260.8,2,     5.21,2,    12.53,   2,     0.98,2,   -999.0,9,   7.8100,2,    25.00,   9.2359
  35TH20040604, OVIDE,    51,  1,     24,     24,2,20040619,1702, 55.4450, -26.6440, 3365,     96.6,   9.7630,  35.2400,2,  35.2310,3,    258.2,2,    261.1,2,     4.21,2,    11.42,   2,     0.93,2,   2323.7,2,   7.8230,2,    25.00,   9.7520
  35TH20040604, OVIDE,    51,  1,     25,     25,2,20040619,1702, 55.4450, -26.6440, 3365,     46.8,  10.2340,  35.1720,2,  35.1650,2,    283.0,2,    281.8,2,     0.67,2,     7.32,   2,     0.71,2,   -999.0,9,   7.8800,2,    25.00,  10.2285
  35TH20040604, OVIDE,    51,  1,     26,     26,2,20040619,1702, 55.4450, -26.6440, 3365,      3.1,  11.4590,  35.1750,2,  35.1800,2,    271.3,2,    277.3,2,     0.79,2,     7.26,   2,     0.65,2,   2324.8,2,   7.8900,2,    25.00,  11.4586
  35TH20040604, OVIDE,    52,  1,      3,      3,2,20040619,2119, 55.2960, -26.5270, 3409,   3395.8,   2.7390,  34.9710,2,  34.9750,2,   -999.0,9,    272.9,2,    14.97,2,    16.63,   2,  -999.00,9,   -999.0,9,   7.7180,2,    25.00,   2.4517
  35TH20040604, OVIDE,    52,  1,      4,      4,2,20040619,2119, 55.2960, -26.5270, 3409,   1995.7,   3.1790,  34.8930,2,  34.8950,2,    281.2,2,    280.8,2,    11.76,2,    17.36,   2,  -999.00,9,   -999.0,9,   7.7270,2,    25.00,   3.0243
  35TH20040604, OVIDE,    52,  1,      5,      5,2,20040619,2119, 55.2960, -26.5270, 3409,    996.0,   3.8750,  34.9020,2,  34.9050,2,    271.6,2,    270.5,2,    10.55,2,    17.80,   2,  -999.00,9,   -999.0,9,   7.7150,2,    25.00,   3.8000
  35TH20040604, OVIDE,    52,  1,      6,      6,2,20040619,2119, 55.2960, -26.5270, 3409,    895.7,   4.0480,  34.9120,2,  34.9170,2,    267.6,2,    266.2,2,    10.55,2,    18.02,   2,  -999.00,9,   -999.0,9,   7.7120,2,    25.00,   3.9800
  35TH20040604, OVIDE,    52,  1,      7,      7,2,20040619,2119, 55.2960, -26.5270, 3409,    795.6,   4.2540,  34.9260,2,  34.9270,2,    261.8,2,    261.3,2,    10.72,2,    18.08,   2,  -999.00,9,   -999.0,9,   7.7110,2,    25.00,   4.1929
  35TH20040604, OVIDE,    52,  1,      8,      8,2,20040619,2119, 55.2960, -26.5270, 3409,    695.1,   4.5910,  34.9480,2,  34.9520,2,    251.7,2,    249.9,2,    10.84,2,    18.35,   2,  -999.00,9,   -999.0,9,   7.7060,2,    25.00,   4.5363
  35TH20040604, OVIDE,    52,  1,      9,      9,2,20040619,2119, 55.2960, -26.5270, 3409,    595.6,   5.0230,  34.9780,2,  34.9850,2,    242.1,2,    241.7,2,    11.01,2,    18.68,   2,  -999.00,9,   -999.0,9,   7.7040,2,    25.00,   4.9745
  35TH20040604, OVIDE,    52,  1,     10,     10,2,20040619,2119, 55.2960, -26.5270, 3409,    495.8,   5.3960,  34.9610,2,  34.9630,2,    236.7,2,    235.5,2,    11.01,2,    18.85,   2,  -999.00,9,   -999.0,9,   7.7010,2,    25.00,   5.3546
  35TH20040604, OVIDE,    52,  1,     11,     11,2,20040619,2119, 55.2960, -26.5270, 3409,    396.5,   5.8980,  34.9450,2,  34.9700,3,    238.5,2,    227.0,3,    11.26,2,    18.96,   2,  -999.00,9,   -999.0,9,   7.7110,2,    25.00,   5.8637
  35TH20040604, OVIDE,    52,  1,     12,     12,2,20040619,2119, 55.2960, -26.5270, 3409,    295.1,   6.4100,  34.8960,2,  34.9000,2,    241.9,2,    236.3,2,     9.84,2,    18.08,   2,  -999.00,9,   -999.0,9,   7.7140,2,    25.00,   6.3835
  35TH20040604, OVIDE,    52,  1,     13,     13,2,20040619,2119, 55.2960, -26.5270, 3409,    195.6,   7.3590,  34.8990,2,  34.9030,2,    251.5,2,    258.7,3,     7.01,2,    14.80,   2,  -999.00,9,   -999.0,9,   7.7660,2,    25.00,   7.3402
  35TH20040604, OVIDE,    52,  1,     14,     14,2,20040619,2119, 55.2960, -26.5270, 3409,    147.0,   7.8580,  34.9390,2,  34.9440,2,    265.6,2,    261.0,2,     6.17,2,    13.75,   2,  -999.00,9,   -999.0,9,   7.7800,2,    25.00,   7.8433
  35TH20040604, OVIDE,    52,  1,     15,     15,2,20040619,2119, 55.2960, -26.5270, 3409,     94.2,   8.0920,  34.9170,2,  34.9160,2,    279.0,2,    273.6,2,     4.59,2,    11.98,   2,  -999.00,9,   -999.0,9,   7.8060,2,    25.00,   8.0825
  35TH20040604, OVIDE,    52,  1,     16,     16,2,20040619,2119, 55.2960, -26.5270, 3409,     45.0,  10.4380,  35.0180,2,  35.0170,3,    281.1,2,    277.1,2,     2.34,2,     7.48,   2,  -999.00,9,   -999.0,9,   7.8650,2,    25.00,  10.4327
  35TH20040604, OVIDE,    52,  1,     17,     17,2,20040619,2119, 55.2960, -26.5270, 3409,      3.5,  11.2480,  34.9010,2,  34.9270,3,    291.4,2,    291.0,2,     2.59,2,     5.82,   2,  -999.00,9,   -999.0,9,   7.9040,2,    25.00,  11.2476