BOTTLE,20220120SIOCCHENA
EXPOCODE,SECT_ID,STNNBR,CASTNO,SAMPNO,BTLNBR,BTLNBR_FLAG_W,DATE,TIME,LATITUDE,LONGITUDE,DEPTH,CTDPRS,CTDTMP,CTDSAL,CTDSAL_FLAG_W,SALNTY,SALNTY_FLAG_W,CTDOXY,CTDOXY_FLAG_W,OXYGEN,OXYGEN_FLAG_W,SILCAT,SILCAT_FLAG_W,NITRAT,NITRAT_FLAG_W,PHSPHT,PHSPHT_FLAG_W,ALKALI,ALKALI_FLAG_W,PH_SWS,PH_SWS_FLAG_W,PH_TMP,THETA
,,,,,,,,,,,METERS,DBAR,ITS-90,PSS-78,,PSS-78,,UMOL/KG,,UMOL/KG,,UMOL/KG,,UMOL/KG,,UMOL/KG,,UMOL/KG,,,,DEG C,DEG C
  35TH20040604, OVIDE,    67,  1,      3,      3,2,20040622,1459, 52.1470, -24.0710, 3966,   3953.4,   2.6360,  34.9200,2,  34.9180,2,    246.9,2,    246.1,2,    41.53,2,    21.87,   2,  -999.00,9,   2345.6,2,   7.7280,2,    25.00,   2.2892
  35TH20040604, OVIDE,    67,  1,      4,      4,2,20040622,1459, 52.1470, -24.0710, 3966,   3746.4,   2.7510,  34.9370,2,  34.9350,2,    257.8,2,    256.0,2,    31.70,2,    19.86,   2,  -999.00,9,   2330.8,2,   7.7240,2,    25.00,   2.4247
  35TH20040604, OVIDE,    67,  1,      5,      5,2,20040622,1459, 52.1470, -24.0710, 3966,   3495.1,   2.8100,  34.9430,2,  34.9430,2,    262.4,2,    261.2,2,    26.23,2,    19.06,   2,  -999.00,9,   2322.2,2,   7.7250,2,    25.00,   2.5102
  35TH20040604, OVIDE,    67,  1,      6,      6,2,20040622,1459, 52.1470, -24.0710, 3966,   3245.5,   2.8960,  34.9500,2,  34.9480,2,    269.5,2,    268.0,2,    18.50,2,    17.97,   2,  -999.00,9,   2313.9,2,   7.7260,2,    25.00,   2.6214
  35TH20040604, OVIDE,    67,  1,      7,      7,2,20040622,1459, 52.1470, -24.0710, 3966,   2996.2,   2.9890,  34.9470,2,  34.9450,2,    272.6,2,    272.3,2,    15.11,2,    17.39,   2,  -999.00,9,   2308.5,2,   7.7300,2,    25.00,   2.7388
  35TH20040604, OVIDE,    67,  1,      8,      8,2,20040622,1459, 52.1470, -24.0710, 3966,   2745.6,   3.0760,  34.9320,2,  34.9310,2,    273.4,2,    273.8,2,    14.21,2,    17.45,   2,  -999.00,9,   2305.6,2,   7.7300,2,    25.00,   2.8500
  35TH20040604, OVIDE,    67,  1,      9,      9,2,20040622,1459, 52.1470, -24.0710, 3966,   2495.7,   3.1410,  34.9160,2,  34.9130,2,    277.7,2,    277.5,2,    12.50,2,    17.45,   2,  -999.00,9,   2301.2,2,   7.7260,2,    25.00,   2.9390
  35TH20040604, OVIDE,    67,  1,     10,     10,2,20040622,1459, 52.1470, -24.0710, 3966,   2246.5,   3.2080,  34.8970,2,  34.8940,2,    280.2,2,    281.2,2,    11.68,2,    17.85,   2,  -999.00,9,   2300.0,2,   7.7240,2,    25.00,   3.0292
  35TH20040604, OVIDE,    67,  1,     11,     11,2,20040622,1459, 52.1470, -24.0710, 3966,   1996.5,   3.2930,  34.8910,2,  34.8890,2,    279.6,2,    281.0,2,    11.47,2,    17.68,   2,  -999.00,9,   2298.4,2,   7.7230,2,    25.00,   3.1365
  35TH20040604, OVIDE,    67,  1,     12,     12,2,20040622,1459, 52.1470, -24.0710, 3966,   1796.2,   3.4260,  34.8960,2,  34.8940,2,    278.6,2,    278.0,2,    11.27,2,    17.97,   2,  -999.00,9,   2298.6,2,   7.7210,2,    25.00,   3.2861
  35TH20040604, OVIDE,    67,  1,     13,     13,2,20040622,1459, 52.1470, -24.0710, 3966,   1596.3,   3.5830,  34.9010,2,  34.9000,2,    276.1,2,    274.6,2,    11.19,2,    18.14,   2,  -999.00,9,   2303.8,2,   7.7170,2,    25.00,   3.4591
  35TH20040604, OVIDE,    67,  1,     14,     14,2,20040622,1459, 52.1470, -24.0710, 3966,   1396.7,   3.7920,  34.9110,2,  34.9080,2,    272.6,2,    270.8,2,    10.94,2,    18.20,   2,  -999.00,9,   2303.1,2,   7.7140,2,    25.00,   3.6835
  35TH20040604, OVIDE,    67,  1,     15,     15,2,20040622,1459, 52.1470, -24.0710, 3966,   1397.1,   3.7900,  34.9110,2,  34.9070,2,    272.6,2,    270.6,2,    10.86,2,    18.02,   2,  -999.00,9,   2302.3,2,   7.7160,2,    25.00,   3.6814
  35TH20040604, OVIDE,    67,  1,     16,     16,2,20040622,1459, 52.1470, -24.0710, 3966,   1196.2,   4.1550,  34.9370,2,  34.9350,2,    264.8,2,    264.0,2,    10.98,2,    18.31,   2,  -999.00,9,   2304.4,2,   7.7090,2,    25.00,   4.0605
  35TH20040604, OVIDE,    67,  1,     17,     17,2,20040622,1459, 52.1470, -24.0710, 3966,    995.3,   4.8860,  35.0100,2,  35.0120,2,    246.8,2,    246.4,2,    11.27,2,    19.06,   2,  -999.00,9,   2310.5,2,   7.7100,2,    25.00,   4.8031
  35TH20040604, OVIDE,    67,  1,     18,     18,2,20040622,1459, 52.1470, -24.0710, 3966,    895.8,   5.4860,  35.0710,2,  35.0690,2,    234.7,2,    234.4,2,    11.39,2,    19.29,   2,  -999.00,9,   2314.1,2,   7.7110,2,    25.00,   5.4079
  35TH20040604, OVIDE,    67,  1,     19,     19,2,20040622,1459, 52.1470, -24.0710, 3966,    795.7,   7.4500,  35.3650,2,  35.3670,2,    206.0,2,    207.1,2,    11.18,2,    19.17,   2,  -999.00,9,   2333.2,2,   7.7280,2,    25.00,   7.3691
  35TH20040604, OVIDE,    67,  1,     20,     20,2,20040622,1459, 52.1470, -24.0710, 3966,    697.0,   7.2860,  35.2400,2,  35.2420,2,    206.4,2,    205.6,2,    11.27,2,    19.57,   2,  -999.00,9,   -999.0,9,   7.7200,2,    25.00,   7.2166
  35TH20040604, OVIDE,    67,  1,     21,     21,2,20040622,1459, 52.1470, -24.0710, 3966,    556.0,   7.3560,  35.0760,2,  35.0680,2,    209.4,2,    209.4,2,    10.90,2,    19.74,   2,  -999.00,9,   2314.8,2,   7.7140,2,    25.00,   7.3010
  35TH20040604, OVIDE,    67,  1,     22,     22,2,20040622,1459, 52.1470, -24.0710, 3966,    496.5,   7.9740,  35.1080,2,  35.1110,2,    208.5,2,    207.9,2,    10.37,2,    19.11,   2,  -999.00,9,   2317.0,2,   7.7270,2,    25.00,   7.9228
  35TH20040604, OVIDE,    67,  1,     23,     23,2,20040622,1459, 52.1470, -24.0710, 3966,    395.9,   9.0200,  35.1710,2,  35.1720,2,    215.5,2,    217.0,2,     8.61,2,    17.16,   2,  -999.00,9,   2318.8,2,   7.7560,2,    25.00,   8.9763
  35TH20040604, OVIDE,    67,  1,     24,     24,2,20040622,1459, 52.1470, -24.0710, 3966,    296.6,   9.6750,  35.2200,2,  35.2210,2,    251.8,2,    247.5,2,     5.92,2,    13.32,   2,  -999.00,9,   2320.3,2,   7.8040,2,    25.00,   9.6410
  35TH20040604, OVIDE,    67,  1,     25,     25,2,20040622,1459, 52.1470, -24.0710, 3966,    195.9,  10.4730,  35.3340,2,  35.3350,2,    242.7,2,    244.7,2,     5.10,2,    12.34,   2,  -999.00,9,   2327.9,2,   7.8270,2,    25.00,  10.4495
  35TH20040604, OVIDE,    67,  1,     26,     26,2,20040622,1459, 52.1470, -24.0710, 3966,    146.8,  10.8510,  35.3900,2,  35.3950,2,    245.8,2,    247.6,2,     4.65,2,    11.53,   2,  -999.00,9,   -999.0,9,   7.8320,2,    25.00,  10.8330
  35TH20040604, OVIDE,    67,  1,     27,     27,2,20040622,1459, 52.1470, -24.0710, 3966,     97.1,  11.1270,  35.3980,2,  35.4000,2,    247.8,2,    254.3,2,     2.69,2,    10.10,   2,  -999.00,9,   2330.2,2,   7.8550,2,    25.00,  11.1149
  35TH20040604, OVIDE,    67,  1,     28,     28,2,20040622,1459, 52.1470, -24.0710, 3966,     50.5,  11.7050,  35.3900,2,  35.3750,3,    258.6,2,    264.1,2,     1.47,2,     7.52,   2,  -999.00,9,   -999.0,9,   7.8740,2,    25.00,  11.6985
  35TH20040604, OVIDE,    67,  1,     29,     29,2,20040622,1459, 52.1470, -24.0710, 3966,      5.8,  14.5220,  35.4180,2,  35.4200,2,    273.9,2,    280.5,2,     0.74,2,     0.34,   2,  -999.00,9,   2341.8,2,   8.0040,2,    25.00,  14.5211
  35TH20040604, OVIDE,    68,  1,      3,      3,2,20040622,2010, 51.7750, -23.7800, 3930,   3916.9,   2.6340,  34.9210,2,  34.9190,2,    247.4,2,    242.9,2,    41.40,2,    20.83,   2,  -999.00,9,   -999.0,9,   7.7270,2,    25.00,   2.2914
  35TH20040604, OVIDE,    68,  1,      4,      4,2,20040622,2010, 51.7750, -23.7800, 3930,   3747.4,   2.6760,  34.9260,2,  34.9260,2,    249.1,2,    248.5,2,    37.85,2,    20.88,   2,  -999.00,9,   -999.0,9,   7.7260,2,    25.00,   2.3516
  35TH20040604, OVIDE,    68,  1,      5,      5,2,20040622,2010, 51.7750, -23.7800, 3930,   3496.5,   2.7130,  34.9300,2,  34.9310,2,    253.4,2,    252.1,2,    33.71,2,    18.89,   2,  -999.00,9,   -999.0,9,   7.7280,2,    25.00,   2.4155
  35TH20040604, OVIDE,    68,  1,      6,      6,2,20040622,2010, 51.7750, -23.7800, 3930,   3244.9,   2.8300,  34.9400,2,  34.9370,2,    260.9,2,    261.1,2,    27.35,2,    18.78,   2,  -999.00,9,   -999.0,9,   7.7280,2,    25.00,   2.5570
  35TH20040604, OVIDE,    68,  1,      7,      7,2,20040622,2010, 51.7750, -23.7800, 3930,   2997.0,   2.9700,  34.9410,2,  34.9400,2,    265.9,2,    266.0,2,    21.44,2,    18.00,   2,  -999.00,9,   -999.0,9,   7.7320,2,    25.00,   2.7201
  35TH20040604, OVIDE,    68,  1,      8,      8,2,20040622,2010, 51.7750, -23.7800, 3930,   2745.7,   3.0850,  34.9300,2,  34.9270,2,    271.4,2,    271.6,2,    15.58,2,    17.89,   2,  -999.00,9,   -999.0,9,   7.7300,2,    25.00,   2.8588
  35TH20040604, OVIDE,    68,  1,      9,      9,2,20040622,2010, 51.7750, -23.7800, 3930,   2493.5,   3.1640,  34.9140,2,  34.9120,2,    277.6,2,    276.4,2,    13.30,2,    17.31,   2,  -999.00,9,   -999.0,9,   7.7270,2,    25.00,   2.9618
  35TH20040604, OVIDE,    68,  1,     10,     10,2,20040622,2010, 51.7750, -23.7800, 3930,   2247.0,   3.2460,  34.8970,2,  34.8930,2,    280.3,2,    255.1,3,    12.08,2,    17.63,   2,  -999.00,9,   -999.0,9,   7.7230,2,    25.00,   3.0665
  35TH20040604, OVIDE,    68,  1,     11,     11,2,20040622,2010, 51.7750, -23.7800, 3930,   1996.3,   3.3750,  34.8940,2,  34.8930,2,    278.1,2,    278.7,2,    11.49,2,    17.79,   2,  -999.00,9,   -999.0,9,   7.7230,2,    25.00,   3.2173
  35TH20040604, OVIDE,    68,  1,     12,     12,2,20040622,2010, 51.7750, -23.7800, 3930,   1795.2,   3.5240,  34.9000,2,  34.8960,2,    274.5,2,    275.4,2,    11.41,2,    18.00,   2,  -999.00,9,   -999.0,9,   7.7220,2,    25.00,   3.3829
  35TH20040604, OVIDE,    68,  1,     13,     13,2,20040622,2010, 51.7750, -23.7800, 3930,   1595.4,   3.7210,  34.9090,2,  34.9110,2,    268.5,2,    272.1,2,    11.14,2,    18.05,   2,  -999.00,9,   -999.0,9,   7.7170,2,    25.00,   3.5955
  35TH20040604, OVIDE,    68,  1,     14,     14,2,20040622,2010, 51.7750, -23.7800, 3930,   1395.4,   4.2210,  34.9610,2,  34.9590,2,    256.8,2,    259.9,2,    11.65,2,    19.10,   3,  -999.00,9,   -999.0,9,   7.7140,2,    25.00,   4.1079
  35TH20040604, OVIDE,    68,  1,     15,     15,2,20040622,2010, 51.7750, -23.7800, 3930,   1196.6,   4.6190,  34.9650,2,  34.9640,2,    250.5,2,    253.0,2,    10.98,2,    18.42,   2,  -999.00,9,   -999.0,9,   7.7100,2,    25.00,   4.5202
  35TH20040604, OVIDE,    68,  1,     16,     16,2,20040622,2010, 51.7750, -23.7800, 3930,   1196.4,   4.6180,  34.9660,2,  34.9620,2,    250.7,2,    253.4,2,    10.94,2,    18.36,   2,  -999.00,9,   -999.0,9,   7.7090,2,    25.00,   4.5192
  35TH20040604, OVIDE,    68,  1,     17,     17,2,20040622,2010, 51.7750, -23.7800, 3930,    994.3,   6.1450,  35.1560,2,  35.1640,2,    223.3,2,    222.8,2,    11.45,2,    18.99,   2,  -999.00,9,   -999.0,9,   7.7160,2,    25.00,   6.0526
  35TH20040604, OVIDE,    68,  1,     18,     18,2,20040622,2010, 51.7750, -23.7800, 3930,    895.4,   7.2070,  35.2580,2,  35.2640,2,    205.6,2,    207.8,2,    11.25,2,    19.46,   2,  -999.00,9,   -999.0,9,   7.7210,2,    25.00,   7.1172
  35TH20040604, OVIDE,    68,  1,     19,     19,2,20040622,2010, 51.7750, -23.7800, 3930,    796.0,   8.4910,  35.3920,2,  35.3950,2,    194.8,2,    194.1,2,    10.62,2,    18.99,   2,  -999.00,9,   -999.0,9,   7.7340,2,    25.00,   8.4040
  35TH20040604, OVIDE,    68,  1,     20,     20,2,20040622,2010, 51.7750, -23.7800, 3930,    695.8,   8.0250,  35.1400,2,  35.1670,3,    204.4,2,    205.6,2,    10.39,2,    19.25,   2,  -999.00,9,   -999.0,9,   7.7240,2,    25.00,   7.9520
  35TH20040604, OVIDE,    68,  1,     21,     21,2,20040622,2010, 51.7750, -23.7800, 3930,    593.4,   9.4510,  35.2950,2,  35.2950,2,    211.9,2,    210.2,2,     8.46,2,    17.10,   2,  -999.00,9,   -999.0,9,   7.7620,2,    25.00,   9.3828
  35TH20040604, OVIDE,    68,  1,     22,     22,2,20040622,2010, 51.7750, -23.7800, 3930,    544.5,  10.2040,  35.4020,2,  35.3950,2,    257.4,2,    251.3,2,     5.39,2,    12.17,   2,  -999.00,9,   -999.0,9,   7.8250,2,    25.00,  10.1386
  35TH20040604, OVIDE,    68,  1,     23,     23,2,20040622,2010, 51.7750, -23.7800, 3930,    397.2,  10.9530,  35.5020,2,  35.5000,2,    253.3,2,    249.3,2,     4.33,2,    11.12,   2,  -999.00,9,   -999.0,9,   7.8390,2,    25.00,  10.9034
  35TH20040604, OVIDE,    68,  1,     24,     24,2,20040622,2010, 51.7750, -23.7800, 3930,    297.1,  11.1920,  35.5170,2,  35.5230,2,    251.5,2,    251.8,2,     3.78,2,    10.96,   2,  -999.00,9,   -999.0,9,   7.8480,2,    25.00,  11.1546
  35TH20040604, OVIDE,    68,  1,     25,     25,2,20040622,2010, 51.7750, -23.7800, 3930,    196.9,  11.6200,  35.5670,2,  35.5670,2,    245.0,2,    239.1,3,     3.19,2,    10.17,   2,  -999.00,9,   -999.0,9,   7.8540,2,    25.00,  11.5947
  35TH20040604, OVIDE,    68,  1,     26,     26,2,20040622,2010, 51.7750, -23.7800, 3930,    146.2,  11.6950,  35.5600,2,  35.5550,2,    246.5,2,    251.5,2,     3.07,2,    10.07,   2,  -999.00,9,   -999.0,9,   7.8630,2,    25.00,  11.6762
  35TH20040604, OVIDE,    68,  1,     27,     27,2,20040622,2010, 51.7750, -23.7800, 3930,     96.1,  11.9940,  35.5900,2,  35.5890,2,    251.7,2,    258.1,2,     2.04,2,     8.55,   2,  -999.00,9,   -999.0,9,   7.8790,2,    25.00,  11.9814
  35TH20040604, OVIDE,    68,  1,     28,     28,2,20040622,2010, 51.7750, -23.7800, 3930,     46.8,  12.7940,  35.5360,2,  35.5500,3,    269.2,2,    265.9,2,     1.18,2,     5.98,   2,  -999.00,9,   -999.0,9,   7.9080,2,    25.00,  12.7876
  35TH20040604, OVIDE,    68,  1,     29,     29,2,20040622,2010, 51.7750, -23.7800, 3930,      4.1,  14.7400,  35.5400,2,  35.5410,2,    261.5,2,    272.7,3,     0.55,2,     0.63,   2,  -999.00,9,   -999.0,9,   8.0100,2,    25.00,  14.7394
  35TH20040604, OVIDE,    69,  1,      3,      3,2,20040623,0130, 51.4010, -23.4910, 3300,   3286.1,   2.6850,  34.9300,2,  34.9320,2,   -999.0,9,    252.6,2,    34.30,2,    19.92,   2,  -999.00,9,   2337.2,2,   7.7280,2,    25.00,   2.4110
  35TH20040604, OVIDE,    69,  1,      4,      4,2,20040623,0130, 51.4010, -23.4910, 3300,   3196.1,   2.7670,  34.9370,2,  34.9380,2,    258.1,2,    257.2,2,    29.28,2,    19.01,   2,  -999.00,9,   2327.8,2,   7.7280,2,    25.00,   2.5007
  35TH20040604, OVIDE,    69,  1,      5,      5,2,20040623,0130, 51.4010, -23.4910, 3300,   2997.2,   2.8980,  34.9420,2,  34.9500,2,    264.0,2,    262.9,2,    23.51,2,    18.40,   2,  -999.00,9,   2320.6,2,   7.7280,2,    25.00,   2.6496
  35TH20040604, OVIDE,    69,  1,      6,      6,2,20040623,0130, 51.4010, -23.4910, 3300,   2796.6,   2.9910,  34.9410,2,  34.9430,2,    267.9,2,    266.6,2,    20.40,2,    17.80,   2,  -999.00,9,   2316.0,2,   7.7280,2,    25.00,   2.7614
  35TH20040604, OVIDE,    69,  1,      7,      7,2,20040623,0130, 51.4010, -23.4910, 3300,   2595.4,   3.1120,  34.9290,2,  34.9300,2,    274.2,2,    272.8,2,    14.79,2,    17.39,   2,  -999.00,9,   2308.2,2,   7.7290,2,    25.00,   2.9005
  35TH20040604, OVIDE,    69,  1,      8,      8,2,20040623,0130, 51.4010, -23.4910, 3300,   2395.6,   3.1760,  34.9120,2,  34.9130,2,    277.4,2,    277.2,2,    12.94,2,    17.09,   2,  -999.00,9,   2304.4,2,   7.7280,2,    25.00,   2.9832
  35TH20040604, OVIDE,    69,  1,      9,      9,2,20040623,0130, 51.4010, -23.4910, 3300,   2195.8,   3.2460,  34.8980,2,  34.8990,2,    280.2,2,    279.8,2,    12.16,2,    17.24,   2,  -999.00,9,   2303.4,2,   7.7270,2,    25.00,   3.0714
  35TH20040604, OVIDE,    69,  1,     10,     10,2,20040623,0130, 51.4010, -23.4910, 3300,   1996.0,   3.3790,  34.8980,2,  34.8990,2,    277.7,2,    277.9,2,    11.81,2,    17.24,   2,  -999.00,9,   2304.1,2,   7.7230,2,    25.00,   3.2213
  35TH20040604, OVIDE,    69,  1,     11,     11,2,20040623,0130, 51.4010, -23.4910, 3300,   1796.4,   3.5460,  34.9020,2,  34.9020,2,    276.2,2,    275.4,2,    11.12,2,    17.29,   2,  -999.00,9,   2302.0,2,   7.7220,2,    25.00,   3.4044
  35TH20040604, OVIDE,    69,  1,     12,     12,2,20040623,0130, 51.4010, -23.4910, 3300,   1596.6,   3.7400,  34.9110,2,  34.9090,2,    271.8,2,    272.1,2,    11.35,2,    17.65,   2,  -999.00,9,   2302.5,2,   7.7170,2,    25.00,   3.6142
  35TH20040604, OVIDE,    69,  1,     13,     13,2,20040623,0130, 51.4010, -23.4910, 3300,   1396.3,   4.0980,  34.9390,2,  34.9370,2,    265.9,2,    264.5,2,    11.08,2,    17.90,   2,  -999.00,9,   2304.6,2,   7.7140,2,    25.00,   3.9862
  35TH20040604, OVIDE,    69,  1,     14,     14,2,20040623,0130, 51.4010, -23.4910, 3300,   1196.4,   4.4470,  34.9550,2,  34.9570,2,    256.4,2,    257.7,2,    11.00,2,    18.40,   2,  -999.00,9,   2306.1,2,-999.0000,9,  -999.00,   4.3497
  35TH20040604, OVIDE,    69,  1,     15,     15,2,20040623,0130, 51.4010, -23.4910, 3300,    996.3,   5.7840,  35.0660,2,  35.0650,2,    227.5,2,    227.6,2,    11.42,2,    19.06,   2,  -999.00,9,   2314.6,2,   7.7080,2,    25.00,   5.6942
  35TH20040604, OVIDE,    69,  1,     16,     16,2,20040623,0130, 51.4010, -23.4910, 3300,    836.0,   7.2060,  35.1920,2,  35.1930,2,    207.0,2,    206.4,2,    11.31,2,    19.16,   2,  -999.00,9,   -999.0,9,   7.7170,2,    25.00,   7.1226
  35TH20040604, OVIDE,    69,  1,     17,     17,2,20040623,0130, 51.4010, -23.4910, 3300,    836.4,   7.2120,  35.1930,2,  35.1920,2,    207.0,2,    207.0,2,    11.23,2,    19.16,   2,  -999.00,9,   2323.3,2,   7.7180,2,    25.00,   7.1285
  35TH20040604, OVIDE,    69,  1,     18,     18,2,20040623,0130, 51.4010, -23.4910, 3300,    716.0,   8.3580,  35.2210,2,  35.2110,3,    200.1,2,    200.9,2,    10.38,2,    18.96,   2,  -999.00,9,   2321.6,2,   7.7300,2,    25.00,   8.2810
  35TH20040604, OVIDE,    69,  1,     19,     19,2,20040623,0130, 51.4010, -23.4910, 3300,    666.5,   8.7800,  35.2250,2,  35.1950,3,    207.9,2,    206.4,2,     9.68,2,    17.90,   2,  -999.00,9,   2327.5,2,   7.7350,2,    25.00,   8.7065
  35TH20040604, OVIDE,    69,  1,     20,     20,2,20040623,0130, 51.4010, -23.4910, 3300,    597.2,   9.7650,  35.3470,2,  35.3480,2,    206.6,2,    205.8,2,     8.05,2,    16.48,   2,  -999.00,9,   -999.0,9,   7.7620,2,    25.00,   9.6950
  35TH20040604, OVIDE,    69,  1,     21,     21,2,20040623,0130, 51.4010, -23.4910, 3300,    536.3,   9.9620,  35.3290,2,  35.3470,3,    242.1,2,    223.0,3,     7.16,2,    15.47,   2,  -999.00,9,   2326.2,2,   7.7860,2,    25.00,   9.8986
  35TH20040604, OVIDE,    69,  1,     22,     22,2,20040623,0130, 51.4010, -23.4910, 3300,    396.8,  10.8920,  35.4760,2,  35.4730,2,    240.3,2,    245.0,2,     4.80,2,    12.23,   2,  -999.00,9,   -999.0,9,   7.8330,2,    25.00,  10.8427
  35TH20040604, OVIDE,    69,  1,     23,     23,2,20040623,0130, 51.4010, -23.4910, 3300,    396.6,  10.8930,  35.4750,2,  35.4740,2,    240.3,2,    244.6,2,     4.80,2,    11.62,   2,  -999.00,9,   2330.9,2,   7.8270,2,    25.00,  10.8437
  35TH20040604, OVIDE,    69,  1,     24,     24,2,20040623,0130, 51.4010, -23.4910, 3300,    256.4,  11.1980,  35.4950,2,  35.4940,2,    234.6,2,    242.9,3,     4.68,2,    11.62,   2,  -999.00,9,   2333.2,2,   7.8360,2,    25.00,  11.1658
  35TH20040604, OVIDE,    69,  1,     25,     25,2,20040623,0130, 51.4010, -23.4910, 3300,    196.4,  11.6040,  35.5680,2,  35.5740,2,    245.0,2,    251.8,2,     3.72,2,    10.51,   2,  -999.00,9,   2336.4,2,   7.8530,2,    25.00,  11.5788
  35TH20040604, OVIDE,    69,  1,     26,     26,2,20040623,0130, 51.4010, -23.4910, 3300,    147.2,  11.8320,  35.5950,2,  35.5950,2,    248.0,2,    249.2,2,     3.48,2,     9.55,   2,  -999.00,9,   -999.0,9,   7.8660,2,    25.00,  11.8129
  35TH20040604, OVIDE,    69,  1,     27,     27,2,20040623,0130, 51.4010, -23.4910, 3300,     98.0,  12.2500,  35.6450,2,  35.6400,2,    258.1,2,    255.8,2,     2.48,2,     8.09,   2,  -999.00,9,   2342.0,2,   7.8820,2,    25.00,  12.2370
  35TH20040604, OVIDE,    69,  1,     28,     28,2,20040623,0130, 51.4010, -23.4910, 3300,     47.8,  13.1590,  35.6800,2,  35.6800,2,    257.5,2,    265.3,3,     1.70,2,     5.86,   2,  -999.00,9,   -999.0,9,   7.9100,2,    25.00,  13.1524
  35TH20040604, OVIDE,    69,  1,     29,     29,2,20040623,0130, 51.4010, -23.4910, 3300,      3.1,  15.1070,  35.6160,2,  35.6170,2,    246.2,2,    263.5,3,     0.85,2,     1.42,   2,  -999.00,9,   2350.8,2,   7.9800,2,    25.00,  15.1065