BOTTLE,20220120SIOCCHENA
EXPOCODE,SECT_ID,STNNBR,CASTNO,SAMPNO,BTLNBR,BTLNBR_FLAG_W,DATE,TIME,LATITUDE,LONGITUDE,DEPTH,CTDPRS,CTDTMP,CTDSAL,CTDSAL_FLAG_W,SALNTY,SALNTY_FLAG_W,CTDOXY,CTDOXY_FLAG_W,OXYGEN,OXYGEN_FLAG_W,SILCAT,SILCAT_FLAG_W,NITRAT,NITRAT_FLAG_W,PHSPHT,PHSPHT_FLAG_W,ALKALI,ALKALI_FLAG_W,PH_SWS,PH_SWS_FLAG_W,PH_TMP,THETA
,,,,,,,,,,,METERS,DBAR,ITS-90,PSS-78,,PSS-78,,UMOL/KG,,UMOL/KG,,UMOL/KG,,UMOL/KG,,UMOL/KG,,UMOL/KG,,,,DEG C,DEG C
  35TH20040604, OVIDE,    87,  1,      3,      3,2,20040627,0427, 44.6770, -18.2120, 4929,   4917.0,   2.6350,  34.9080,2,  34.9140,2,    239.7,2,    240.1,2,    44.24,2,    23.23,   2,     1.37,2,   2358.0,2,   7.7260,2,    25.00,   2.1715
  35TH20040604, OVIDE,    87,  1,      4,      4,2,20040627,0427, 44.6770, -18.2120, 4929,   4500.1,   2.5880,  34.9090,2,  34.9120,2,    241.1,2,    240.1,2,    43.95,2,    23.11,   2,     1.36,2,   2353.7,2,   7.7270,2,    25.00,   2.1778
  35TH20040604, OVIDE,    87,  1,      5,      5,2,20040627,0427, 44.6770, -18.2120, 4929,   3996.4,   2.5730,  34.9140,2,  34.9230,2,    241.7,2,    241.9,2,    41.93,2,    22.81,   2,     1.33,2,   2349.7,2,   7.7280,2,    25.00,   2.2229
  35TH20040604, OVIDE,    87,  1,      6,      6,2,20040627,0427, 44.6770, -18.2120, 4929,   3747.2,   2.5940,  34.9180,2,  34.9230,2,    242.8,2,    243.3,2,    40.63,2,    22.57,   2,     1.32,2,   2347.8,2,   7.7290,2,    25.00,   2.2718
  35TH20040604, OVIDE,    87,  1,      7,      7,2,20040627,0427, 44.6770, -18.2120, 4929,   3498.0,   2.6440,  34.9250,2,  34.9270,2,    245.4,2,    245.8,2,    37.73,2,    22.03,   2,     1.27,2,   2342.4,2,   7.7300,2,    25.00,   2.3481
  35TH20040604, OVIDE,    87,  1,      8,      8,2,20040627,0427, 44.6770, -18.2120, 4929,   3244.5,   2.7500,  34.9360,2,  34.9380,2,    248.8,2,    249.3,2,    33.25,2,    21.31,   2,     1.23,2,   2335.4,2,   7.7300,2,    25.00,   2.4789
  35TH20040604, OVIDE,    87,  1,      9,      9,2,20040627,0427, 44.6770, -18.2120, 4929,   2994.9,   2.8970,  34.9470,2,  34.9560,2,    253.1,2,    253.3,2,    28.34,2,    20.54,   2,     1.18,2,   2330.1,2,   7.7350,2,    25.00,   2.6489
  35TH20040604, OVIDE,    87,  1,     10,     10,2,20040627,0427, 44.6770, -18.2120, 4929,   2744.6,   3.0580,  34.9510,2,  34.9530,2,    260.2,2,    259.1,2,    23.13,2,    19.64,   2,     1.12,2,   2321.4,2,   7.7350,2,    25.00,   2.8324
  35TH20040604, OVIDE,    87,  1,     11,     11,2,20040627,0427, 44.6770, -18.2120, 4929,   2495.3,   3.2090,  34.9410,2,  34.9430,2,    267.9,2,    267.1,2,  -999.00,9,    18.62,   2,     1.03,2,   2312.8,2,   7.7320,2,    25.00,   3.0057
  35TH20040604, OVIDE,    87,  1,     12,     12,2,20040627,0427, 44.6770, -18.2120, 4929,   2244.9,   3.3340,  34.9290,2,  34.9300,2,    272.7,2,    271.9,2,    16.32,2,    18.44,   2,     1.05,2,   2308.9,2,   7.7300,2,    25.00,   3.1531
  35TH20040604, OVIDE,    87,  1,     13,     13,2,20040627,0427, 44.6770, -18.2120, 4929,   1996.6,   3.5380,  34.9220,2,  34.9250,2,    272.8,2,    273.1,2,    13.84,2,    18.44,   2,     1.03,2,   2304.2,2,   7.7280,2,    25.00,   3.3778
  35TH20040604, OVIDE,    87,  1,     14,     14,2,20040627,0427, 44.6770, -18.2120, 4929,   1796.1,   3.8380,  34.9480,2,  34.9520,2,    266.4,2,    267.0,2,    12.04,2,    18.68,   2,     1.03,2,   2306.5,2,   7.7220,2,    25.00,   3.6924
  35TH20040604, OVIDE,    87,  1,     15,     15,2,20040627,0427, 44.6770, -18.2120, 4929,   1593.4,   4.5280,  35.0350,2,  35.0390,2,    250.9,2,    253.2,2,    11.68,2,    18.98,   2,     1.03,2,   2312.6,2,   7.7240,2,    25.00,   4.3927
  35TH20040604, OVIDE,    87,  1,     16,     16,2,20040627,0427, 44.6770, -18.2120, 4929,   1430.4,   5.4280,  35.1670,2,  35.1700,2,    239.2,2,    238.7,2,    11.64,2,    19.04,   2,     1.04,2,   2321.9,2,   7.7270,2,    25.00,   5.2984
  35TH20040604, OVIDE,    87,  1,     17,     17,2,20040627,0427, 44.6770, -18.2120, 4929,   1196.5,   8.1910,  35.6150,2,  35.6170,2,    203.2,2,    203.8,2,    11.47,2,    18.55,   2,     0.99,2,   2354.9,2,   7.7550,2,    25.00,   8.0595
  35TH20040604, OVIDE,    87,  1,     18,     18,2,20040627,0427, 44.6770, -18.2120, 4929,   1060.9,   9.5910,  35.8170,2,  35.8190,2,    189.7,2,    189.2,2,     9.75,2,    19.27,   2,     0.93,2,   2365.7,2,   7.7650,2,    25.00,   9.4644
  35TH20040604, OVIDE,    87,  1,     19,     19,2,20040627,0427, 44.6770, -18.2120, 4929,    993.1,   9.5810,  35.7370,2,  35.7410,2,    190.5,2,    187.8,2,     9.63,2,    17.83,   2,     0.95,2,   -999.0,9,   7.7660,2,    25.00,   9.4630
  35TH20040604, OVIDE,    87,  1,     20,     20,2,20040627,0427, 44.6770, -18.2120, 4929,    916.5,   9.7020,  35.6660,2,  35.6600,2,    187.5,2,    186.7,2,     9.43,2,    18.43,   2,     0.97,2,   -999.0,9,   7.7600,2,    25.00,   9.5929
  35TH20040604, OVIDE,    87,  1,     21,     21,2,20040627,0427, 44.6770, -18.2120, 4929,    796.3,  10.1850,  35.5990,2,  35.6010,2,    185.2,2,    185.2,2,     8.56,2,    18.25,   2,     0.95,2,   2344.8,2,   7.7580,2,    25.00,  10.0881
  35TH20040604, OVIDE,    87,  1,     22,     22,2,20040627,0427, 44.6770, -18.2120, 4929,    696.3,  10.5140,  35.5400,2,  35.5440,2,    189.8,2,    190.6,2,     7.44,2,    17.41,   2,     0.90,2,   -999.0,9,   7.7670,2,    25.00,  10.4281
  35TH20040604, OVIDE,    87,  1,     23,     23,2,20040627,0427, 44.6770, -18.2120, 4929,    593.1,  10.9180,  35.5090,2,  35.5100,2,    200.4,2,    203.4,2,     6.00,2,    15.74,   2,     0.80,2,   2333.9,2,   7.7850,2,    25.00,  10.8435
  35TH20040604, OVIDE,    87,  1,     24,     24,2,20040627,0427, 44.6770, -18.2120, 4929,    495.8,  11.4480,  35.5590,2,  35.5620,2,    211.7,2,    212.3,2,     4.80,2,    13.94,   2,     0.69,2,   2334.2,2,   7.8020,2,    25.00,  11.3841
  35TH20040604, OVIDE,    87,  1,     25,     25,2,20040627,0427, 44.6770, -18.2120, 4929,    397.6,  11.8910,  35.6110,2,  35.6140,2,    220.5,2,    219.9,2,     4.08,2,    12.33,   2,     0.60,2,   2337.5,2,   7.8250,2,    25.00,  11.8387
  35TH20040604, OVIDE,    87,  1,     26,     26,2,20040627,0427, 44.6770, -18.2120, 4929,    197.0,  13.0130,  35.7630,2,  35.7700,3,    237.3,2,    233.1,2,     3.00,2,     8.98,   2,     0.43,2,   2347.9,2,   7.8810,2,    25.00,  12.9857
  35TH20040604, OVIDE,    87,  1,     27,     27,2,20040627,0427, 44.6770, -18.2120, 4929,    144.7,  13.3920,  35.8170,2,  35.8190,2,    243.2,2,    242.9,2,     2.16,2,     6.46,   2,     0.32,2,   -999.0,9,   7.9030,2,    25.00,  13.3716
  35TH20040604, OVIDE,    87,  1,     28,     28,2,20040627,0427, 44.6770, -18.2120, 4929,     94.8,  13.7050,  35.8630,2,  35.8670,2,    243.1,2,    245.3,2,     2.24,2,     6.10,   2,     0.29,2,   2354.5,2,   7.9110,2,    25.00,  13.6914
  35TH20040604, OVIDE,    87,  1,     29,     29,2,20040627,0427, 44.6770, -18.2120, 4929,     47.4,  14.1690,  35.8950,2,  35.8970,2,    248.8,2,    249.1,2,     1.68,2,     4.07,   2,     0.21,2,   -999.0,9,   7.9260,2,    25.00,  14.1621
  35TH20040604, OVIDE,    87,  1,     30,     30,2,20040627,0427, 44.6770, -18.2120, 4929,      4.1,  18.0410,  35.8980,2,  35.9010,2,    232.7,2,    242.7,3,     0.60,2,     0.00,   2,     0.02,2,   2362.6,2,   7.9980,2,    25.00,  18.0403
  35TH20040604, OVIDE,    88,  1,      3,      3,2,20040627,1508, 44.3760, -17.8160, 4971,   4959.5,   2.6450,  34.9100,2,  34.9120,2,    239.3,2,    239.8,2,    44.86,2,    23.35,   2,     1.40,2,   -999.0,9,   7.7310,2,    25.00,   2.1757
  35TH20040604, OVIDE,    88,  1,      4,      4,2,20040627,1508, 44.3760, -17.8160, 4971,   4497.7,   2.5940,  34.9100,2,  34.9130,2,    241.7,2,    240.8,2,    44.57,2,    23.17,   2,     1.40,2,   -999.0,9,   7.7310,2,    25.00,   2.1839
  35TH20040604, OVIDE,    88,  1,      5,      5,2,20040627,1508, 44.3760, -17.8160, 4971,   3996.9,   2.5770,  34.9140,2,  34.9170,2,    242.5,2,    241.7,2,    42.97,2,    22.33,   2,     1.36,2,   -999.0,9,   7.7300,2,    25.00,   2.2268
  35TH20040604, OVIDE,    88,  1,      6,      6,2,20040627,1508, 44.3760, -17.8160, 4971,   3746.9,   2.6040,  34.9200,2,  34.9220,2,    243.2,2,    243.4,2,    41.22,2,    22.57,   2,     1.35,2,   -999.0,9,   7.7300,2,    25.00,   2.2815
  35TH20040604, OVIDE,    88,  1,      7,      7,2,20040627,1508, 44.3760, -17.8160, 4971,   3497.9,   2.6600,  34.9260,2,  34.9300,2,    244.9,2,    246.2,2,    38.02,2,    22.03,   2,     1.32,2,   -999.0,9,   7.7340,2,    25.00,   2.3637
  35TH20040604, OVIDE,    88,  1,      8,      8,2,20040627,1508, 44.3760, -17.8160, 4971,   3247.0,   2.7660,  34.9380,2,  34.9380,2,    248.9,2,    250.1,2,    33.94,2,    20.96,   2,     1.27,2,   -999.0,9,   7.7330,2,    25.00,   2.4943
  35TH20040604, OVIDE,    88,  1,      9,      9,2,20040627,1508, 44.3760, -17.8160, 4971,   2996.1,   2.9460,  34.9500,2,  34.9530,2,    252.8,2,    253.2,2,    29.13,2,    20.30,   2,     1.22,2,   -999.0,9,   7.7340,2,    25.00,   2.6967
  35TH20040604, OVIDE,    88,  1,     10,     10,2,20040627,1508, 44.3760, -17.8160, 4971,   2748.2,   3.0990,  34.9550,2,  34.9570,2,    258.8,2,    258.3,2,    25.34,2,    19.40,   2,     1.16,2,   -999.0,9,   7.7360,2,    25.00,   2.8722
  35TH20040604, OVIDE,    88,  1,     11,     11,2,20040627,1508, 44.3760, -17.8160, 4971,   2496.3,   3.2190,  34.9350,2,  34.9370,2,    268.7,2,    269.2,2,    15.56,2,    18.26,   2,     1.10,2,   -999.0,9,   7.7300,2,    25.00,   3.0154
  35TH20040604, OVIDE,    88,  1,     12,     12,2,20040627,1508, 44.3760, -17.8160, 4971,   2247.3,   3.3340,  34.9190,2,  34.9190,2,    274.2,2,    274.1,2,    13.16,2,    18.08,   2,     1.06,2,   -999.0,9,   7.7330,2,    25.00,   3.1529
  35TH20040604, OVIDE,    88,  1,     13,     13,2,20040627,1508, 44.3760, -17.8160, 4971,   1996.0,   3.5220,  34.9200,2,  34.9230,2,    275.8,2,    273.0,2,    12.16,2,    18.32,   2,     1.06,2,   -999.0,9,   7.7330,2,    25.00,   3.3621
  35TH20040604, OVIDE,    88,  1,     14,     14,2,20040627,1508, 44.3760, -17.8160, 4971,   1795.1,   3.9290,  34.9600,2,  34.9650,2,    269.1,2,    265.3,2,    11.80,2,    18.50,   2,     1.07,2,   -999.0,9,   7.7280,2,    25.00,   3.7822
  35TH20040604, OVIDE,    88,  1,     15,     15,2,20040627,1508, 44.3760, -17.8160, 4971,   1494.7,   4.6590,  35.0320,2,  35.0280,2,    251.8,2,    251.4,2,    11.36,2,    18.86,   2,     1.09,2,   -999.0,9,   7.7220,2,    25.00,   4.5317
  35TH20040604, OVIDE,    88,  1,     16,     16,2,20040627,1508, 44.3760, -17.8160, 4971,   1396.2,   5.1800,  35.1030,2,  35.1150,3,    239.5,2,    241.6,2,    11.28,2,    18.68,   2,     1.07,2,   -999.0,9,   7.7250,2,    25.00,   5.0565
  35TH20040604, OVIDE,    88,  1,     17,     17,2,20040627,1508, 44.3760, -17.8160, 4971,   1196.1,   8.3140,  35.6460,2,  35.6480,2,    198.8,2,    203.0,2,    10.75,2,    18.01,   2,     1.00,2,   -999.0,9,   7.7600,2,    25.00,   8.1814
  35TH20040604, OVIDE,    88,  1,     18,     18,2,20040627,1508, 44.3760, -17.8160, 4971,   1012.4,   9.1280,  35.6210,2,  35.6220,2,    185.4,2,    191.1,2,    10.19,2,    18.55,   2,     1.03,2,   -999.0,9,   7.7590,2,    25.00,   9.0111
  35TH20040604, OVIDE,    88,  1,     19,     19,2,20040627,1508, 44.3760, -17.8160, 4971,    897.0,   9.7450,  35.6170,2,  35.6360,3,    186.4,2,    185.9,2,     9.55,2,    17.71,   2,     1.00,2,   -999.0,9,   7.7580,2,    25.00,   9.6381
  35TH20040604, OVIDE,    88,  1,     20,     20,2,20040627,1508, 44.3760, -17.8160, 4971,    794.2,   9.6650,  35.4500,2,  35.4520,2,    184.0,2,    188.2,2,     9.28,2,    18.61,   2,     1.04,2,   -999.0,9,   7.7500,2,    25.00,   9.5714
  35TH20040604, OVIDE,    88,  1,     21,     21,2,20040627,1508, 44.3760, -17.8160, 4971,    697.6,  10.1120,  35.4220,2,  35.4270,2,    195.7,2,    194.5,2,     8.20,2,    17.54,   2,     0.97,2,   -999.0,9,   7.7640,2,    25.00,  10.0280
  35TH20040604, OVIDE,    88,  1,     22,     22,2,20040627,1508, 44.3760, -17.8160, 4971,    598.3,  10.6130,  35.4200,2,  35.4200,2,    218.7,2,    212.7,2,     6.76,2,    15.14,   2,     0.85,2,   -999.0,9,-999.0000,9,  -999.00,  10.5392
  35TH20040604, OVIDE,    88,  1,     23,     23,2,20040627,1508, 44.3760, -17.8160, 4971,    596.9,  10.5970,  35.4190,2,  35.4210,2,    219.0,2,    212.0,2,     6.72,2,    15.20,   2,     0.83,2,   -999.0,9,-999.0000,9,  -999.00,  10.5234
  35TH20040604, OVIDE,    88,  1,     24,     24,2,20040627,1508, 44.3760, -17.8160, 4971,    396.5,  11.9190,  35.6040,2,  35.6050,2,    233.0,2,    233.6,2,     4.40,2,    11.07,   2,     0.60,2,   -999.0,9,   7.8500,2,    25.00,  11.8667
  35TH20040604, OVIDE,    88,  1,     25,     25,2,20040627,1508, 44.3760, -17.8160, 4971,    296.4,  12.6280,  35.7210,2,  35.7280,2,    240.8,2,    236.9,2,     3.52,2,     9.22,   2,     0.48,2,   -999.0,9,   7.8680,2,    25.00,  12.5876
  35TH20040604, OVIDE,    88,  1,     26,     26,2,20040627,1508, 44.3760, -17.8160, 4971,    197.5,  13.1110,  35.8020,2,  35.8010,2,    243.9,2,    248.2,2,     2.48,2,     7.00,   2,     0.37,2,   -999.0,9,   7.9000,2,    25.00,  13.0835
  35TH20040604, OVIDE,    88,  1,     27,     27,2,20040627,1508, 44.3760, -17.8160, 4971,    147.2,  13.2370,  35.8090,2,  35.8100,2,    241.0,2,    246.2,2,     2.68,2,     7.42,   2,     0.38,2,   -999.0,9,   7.9020,2,    25.00,  13.2164
  35TH20040604, OVIDE,    88,  1,     28,     28,2,20040627,1508, 44.3760, -17.8160, 4971,     96.8,  13.5210,  35.8370,2,  35.8400,2,    247.4,2,    245.6,2,     2.44,2,     6.88,   2,     0.34,2,   -999.0,9,   7.9080,2,    25.00,  13.5073
  35TH20040604, OVIDE,    88,  1,     29,     29,2,20040627,1508, 44.3760, -17.8160, 4971,     46.7,  14.4430,  35.8600,2,  35.8660,2,    252.5,2,    253.8,2,     1.60,2,     3.83,   2,     0.24,2,   -999.0,9,   7.9410,2,    25.00,  14.4361
  35TH20040604, OVIDE,    88,  1,     30,     30,2,20040627,1508, 44.3760, -17.8160, 4971,      4.6,  18.4180,  35.9160,2,  35.9130,2,    233.4,2,    245.1,2,     0.56,2,     0.00,   2,     0.02,2,   -999.0,9,   8.0060,2,    25.00,  18.4172