BOTTLE,20220120SIOCCHENA
EXPOCODE,SECT_ID,STNNBR,CASTNO,SAMPNO,BTLNBR,BTLNBR_FLAG_W,DATE,TIME,LATITUDE,LONGITUDE,DEPTH,CTDPRS,CTDTMP,CTDSAL,CTDSAL_FLAG_W,SALNTY,SALNTY_FLAG_W,CTDOXY,CTDOXY_FLAG_W,OXYGEN,OXYGEN_FLAG_W,SILCAT,SILCAT_FLAG_W,NITRAT,NITRAT_FLAG_W,PHSPHT,PHSPHT_FLAG_W,ALKALI,ALKALI_FLAG_W,PH_SWS,PH_SWS_FLAG_W,PH_TMP,THETA
,,,,,,,,,,,METERS,DBAR,ITS-90,PSS-78,,PSS-78,,UMOL/KG,,UMOL/KG,,UMOL/KG,,UMOL/KG,,UMOL/KG,,UMOL/KG,,,,DEG C,DEG C
  35TH20040604, OVIDE,   103,  1,      3,      3,2,20040701,0026, 41.0860, -13.4910, 5454,   5442.9,   2.5680,  34.8970,2,  34.8960,2,    244.0,2,    244.0,2,    46.50,2,    21.84,   2,     1.25,3,   -999.0,9,   7.7360,2,    25.00,   2.0386
  35TH20040604, OVIDE,   103,  1,      4,      4,2,20040701,0026, 41.0860, -13.4910, 5454,   4691.2,   2.5130,  34.9010,2,  34.9000,2,    243.7,2,    243.2,2,    45.64,2,    21.49,   2,     1.19,3,   -999.0,9,   7.7360,2,    25.00,   2.0818
  35TH20040604, OVIDE,   103,  1,      5,      5,2,20040701,0026, 41.0860, -13.4910, 5454,   4391.8,   2.5160,  34.9050,2,  34.9070,2,    243.3,2,    243.2,2,    44.49,2,    21.38,   2,     1.21,3,   -999.0,9,   7.7350,2,    25.00,   2.1211
  35TH20040604, OVIDE,   103,  1,      6,      6,2,20040701,0026, 41.0860, -13.4910, 5454,   4098.2,   2.5420,  34.9110,2,  34.9110,2,    243.3,2,    243.8,2,    43.48,2,    21.96,   2,     1.31,2,   -999.0,9,   7.7340,2,    25.00,   2.1811
  35TH20040604, OVIDE,   103,  1,      7,      7,2,20040701,0026, 41.0860, -13.4910, 5454,   3797.8,   2.5820,  34.9180,2,  34.9210,2,    243.9,2,    244.0,2,    41.33,2,    21.61,   2,     1.28,2,   -999.0,9,   7.7350,2,    25.00,   2.2544
  35TH20040604, OVIDE,   103,  1,      8,      8,2,20040701,0026, 41.0860, -13.4910, 5454,   3597.4,   2.6280,  34.9250,2,  34.9250,2,    244.0,2,    245.0,2,    40.18,2,    21.61,   2,     1.28,2,   -999.0,9,   7.7340,2,    25.00,   2.3216
  35TH20040604, OVIDE,   103,  1,      9,      9,2,20040701,0026, 41.0860, -13.4910, 5454,   3396.9,   2.6830,  34.9300,2,  34.9320,2,    245.9,2,    245.7,2,    38.03,2,    21.32,   2,     1.31,2,   -999.0,9,-999.0000,9,  -999.00,   2.3971
  35TH20040604, OVIDE,   103,  1,     10,     10,2,20040701,0026, 41.0860, -13.4910, 5454,   3192.3,   2.7560,  34.9380,2,  34.9390,2,    247.5,2,    247.7,2,    36.02,2,    21.09,   2,     1.22,2,   -999.0,9,   7.7380,2,    25.00,   2.4903
  35TH20040604, OVIDE,   103,  1,     11,     11,2,20040701,0026, 41.0860, -13.4910, 5454,   2996.8,   2.8480,  34.9480,2,  34.9480,2,    248.8,2,    248.5,2,    33.72,2,    20.39,   2,     1.15,2,   -999.0,9,   7.7370,2,    25.00,   2.6008
  35TH20040604, OVIDE,   103,  1,     12,     12,2,20040701,0026, 41.0860, -13.4910, 5454,   2796.3,   2.9940,  34.9600,2,  34.9600,2,    250.9,2,    249.5,2,    30.71,2,    20.33,   2,     1.18,2,   -999.0,9,   7.7380,2,    25.00,   2.7643
  35TH20040604, OVIDE,   103,  1,     13,     13,2,20040701,0026, 41.0860, -13.4910, 5454,   2596.0,   3.1650,  34.9770,2,  34.9770,2,    252.7,2,    252.7,2,    27.41,2,    19.63,   2,     1.12,2,   -999.0,9,   7.7380,2,    25.00,   2.9523
  35TH20040604, OVIDE,   103,  1,     14,     14,2,20040701,0026, 41.0860, -13.4910, 5454,   2396.9,   3.3720,  34.9910,2,  34.9930,2,    254.7,2,    254.3,2,    23.82,2,    19.34,   2,     1.09,2,   -999.0,9,   7.7400,2,    25.00,   3.1753
  35TH20040604, OVIDE,   103,  1,     15,     15,2,20040701,0026, 41.0860, -13.4910, 5454,   2195.6,   3.6140,  35.0020,2,  35.0000,2,    258.0,2,    256.3,2,    18.15,2,    18.64,   2,     1.05,2,   -999.0,9,   7.7400,2,    25.00,   3.4331
  35TH20040604, OVIDE,   103,  1,     16,     16,2,20040701,0026, 41.0860, -13.4910, 5454,   1995.9,   3.8940,  35.0180,2,  35.0140,2,    258.2,2,    259.2,2,    14.74,2,    17.31,   3,     0.92,3,   -999.0,9,   7.7420,2,    25.00,   3.7283
  35TH20040604, OVIDE,   103,  1,     17,     17,2,20040701,0026, 41.0860, -13.4910, 5454,   1796.2,   4.7080,  35.1400,2,  35.1330,2,    247.0,2,    249.4,2,    13.33,2,    18.12,   2,     1.00,2,   -999.0,9,   7.7400,2,    25.00,   4.5503
  35TH20040604, OVIDE,   103,  1,     18,     18,2,20040701,0026, 41.0860, -13.4910, 5454,   1596.0,   5.4550,  35.2410,2,  35.2380,2,    238.3,2,    239.9,2,    12.29,2,    18.18,   2,     0.98,2,   -999.0,9,   7.7450,2,    25.00,   5.3080
  35TH20040604, OVIDE,   103,  1,     19,     19,2,20040701,0026, 41.0860, -13.4910, 5454,   1396.1,   7.8210,  35.6490,2,  35.6470,2,    209.8,2,    210.6,2,    11.28,2,    17.36,   2,     0.89,2,   -999.0,9,   7.7660,2,    25.00,   7.6695
  35TH20040604, OVIDE,   103,  1,     20,     20,2,20040701,0026, 41.0860, -13.4910, 5454,   1207.1,   9.8960,  36.0140,2,  36.0020,3,    191.6,2,    190.1,2,    10.07,2,    16.60,   2,     0.86,2,   -999.0,9,   7.7910,2,    25.00,   9.7480
  35TH20040604, OVIDE,   103,  1,     21,     21,2,20040701,0026, 41.0860, -13.4910, 5454,    995.9,  10.4680,  35.9540,2,  35.9540,2,    184.2,2,    183.5,2,     9.31,2,    16.37,   2,     0.80,2,   -999.0,9,   7.7830,2,    25.00,  10.3432
  35TH20040604, OVIDE,   103,  1,     22,     22,2,20040701,0026, 41.0860, -13.4910, 5454,    796.2,  10.9060,  35.8200,2,  35.8250,2,    184.1,2,    182.6,2,     8.11,2,    16.08,   2,     0.80,2,   -999.0,9,   7.7850,2,    25.00,  10.8048
  35TH20040604, OVIDE,   103,  1,     23,     23,2,20040701,0026, 41.0860, -13.4910, 5454,    596.5,  10.9600,  35.5860,2,  35.5880,2,    194.6,2,    193.1,2,     6.66,2,    15.68,   2,     0.80,2,   -999.0,9,   7.7840,2,    25.00,  10.8848
  35TH20040604, OVIDE,   103,  1,     24,     24,2,20040701,0026, 41.0860, -13.4910, 5454,    397.3,  11.7780,  35.6020,2,  35.5980,2,    213.5,2,    214.4,2,     4.62,2,    12.60,   2,     0.61,2,   -999.0,9,   7.8190,2,    25.00,  11.7260
  35TH20040604, OVIDE,   103,  1,     25,     25,2,20040701,0026, 41.0860, -13.4910, 5454,    296.5,  12.4000,  35.6820,2,  35.6790,2,    221.5,2,    217.8,2,     3.97,2,    11.15,   2,     0.54,2,   -999.0,9,   7.8410,2,    25.00,  12.3600
  35TH20040604, OVIDE,   103,  1,     26,     26,2,20040701,0026, 41.0860, -13.4910, 5454,    197.1,  13.1010,  35.7710,2,  35.7690,2,    225.2,2,    238.7,3,     2.09,2,     6.04,   2,     0.27,2,   -999.0,9,   7.8770,2,    25.00,  13.0735
  35TH20040604, OVIDE,   103,  1,     27,     27,2,20040701,0026, 41.0860, -13.4910, 5454,    147.6,  13.8210,  35.8800,2,  35.8770,2,    229.5,2,    236.6,2,     1.69,2,     4.18,   2,     0.19,2,   -999.0,9,   7.9120,2,    25.00,  13.7997
  35TH20040604, OVIDE,   103,  1,     28,     28,2,20040701,0026, 41.0860, -13.4910, 5454,    101.5,  14.3750,  35.9680,2,  35.9600,2,    228.7,2,    234.8,2,     1.48,2,     3.31,   2,     0.16,2,   -999.0,9,   7.9280,2,    25.00,  14.3600
  35TH20040604, OVIDE,   103,  1,     29,     29,2,20040701,0026, 41.0860, -13.4910, 5454,     49.6,  15.0450,  36.0420,2,  36.0400,2,    254.7,2,    251.5,2,     0.84,2,     0.00,   2,     0.02,2,   -999.0,9,   7.9630,2,    25.00,  15.0374
  35TH20040604, OVIDE,   103,  1,     30,     30,2,20040701,0026, 41.0860, -13.4910, 5454,      5.4,  19.6750,  35.9920,2,  35.9880,2,    216.6,2,    235.6,3,     0.68,2,     0.00,   2,     0.01,2,   -999.0,9,   7.9970,2,    25.00,  19.6740
  35TH20040604, OVIDE,   104,  1,      3,      3,2,20040701,0619, 40.7860, -13.0990, 5443,   5431.9,   2.5660,  34.8960,2,  34.8900,2,    243.6,2,    243.1,2,    45.78,2,    23.25,   2,     1.40,2,   2351.7,2,   7.7370,2,    25.00,   2.0382
  35TH20040604, OVIDE,   104,  1,      4,      4,2,20040701,0619, 40.7860, -13.0990, 5443,   4998.2,   2.5130,  34.8960,2,  34.8890,2,    242.4,2,    243.0,2,    46.07,2,    23.01,   2,     1.34,2,   2352.5,2,-999.0000,9,  -999.00,   2.0434
  35TH20040604, OVIDE,   104,  1,      5,      5,2,20040701,0619, 40.7860, -13.0990, 5443,   4495.6,   2.4840,  34.9010,2,  34.8980,2,    242.9,2,    243.7,2,    44.92,2,    22.89,   2,     1.32,2,   2350.1,2,-999.0000,9,  -999.00,   2.0777
  35TH20040604, OVIDE,   104,  1,      6,      6,2,20040701,0619, 40.7860, -13.0990, 5443,   3998.8,   2.5230,  34.9090,2,  34.9040,2,    244.5,2,    243.3,2,    43.06,2,    22.77,   2,     1.30,2,   2349.7,2,   7.7370,2,    25.00,   2.1742
  35TH20040604, OVIDE,   104,  1,      7,      7,2,20040701,0619, 40.7860, -13.0990, 5443,   3496.0,   2.6280,  34.9250,2,  34.9210,2,    245.1,2,    244.5,2,    39.32,2,    22.23,   2,     1.28,2,   2343.8,2,   7.7360,2,    25.00,   2.3327
  35TH20040604, OVIDE,   104,  1,      8,      8,2,20040701,0619, 40.7860, -13.0990, 5443,   2995.8,   2.8350,  34.9470,2,  34.9430,2,    248.4,2,    248.6,2,    33.44,2,    21.44,   2,     1.21,2,   2335.6,2,   7.7380,2,    25.00,   2.5882
  35TH20040604, OVIDE,   104,  1,      9,      9,2,20040701,0619, 40.7860, -13.0990, 5443,   2747.9,   3.0210,  34.9670,2,  34.9610,2,    247.8,2,    247.6,2,    30.85,2,    21.08,   2,     1.18,2,   2332.2,2,   7.7360,2,    25.00,   2.7957
  35TH20040604, OVIDE,   104,  1,     10,     10,2,20040701,0619, 40.7860, -13.0990, 5443,   2498.5,   3.2630,  34.9860,2,  34.9790,2,    250.7,2,    251.1,2,    26.26,2,    20.30,   2,     1.14,2,   2326.9,2,   7.7440,2,    25.00,   3.0582
  35TH20040604, OVIDE,   104,  1,     11,     11,2,20040701,0619, 40.7860, -13.0990, 5443,   2295.7,   3.5980,  35.0190,2,  35.0110,2,    250.0,2,    250.7,2,    22.96,2,    20.00,   2,     1.10,2,   2325.6,2,   7.7380,2,    25.00,   3.4074
  35TH20040604, OVIDE,   104,  1,     12,     12,2,20040701,0619, 40.7860, -13.0990, 5443,   2136.9,   3.7230,  35.0150,2,  35.0050,3,    253.1,2,    255.0,2,    17.79,2,    19.28,   2,     1.06,2,   2320.1,2,   7.7370,2,    25.00,   3.5461
  35TH20040604, OVIDE,   104,  1,     13,     13,2,20040701,0619, 40.7860, -13.0990, 5443,   1957.1,   4.2080,  35.0640,2,  35.0650,2,    252.4,2,    254.3,2,    14.82,2,    18.85,   2,     1.02,2,   2318.4,2,   7.7380,2,    25.00,   4.0413
  35TH20040604, OVIDE,   104,  1,     14,     14,2,20040701,0619, 40.7860, -13.0990, 5443,   1796.1,   4.9750,  35.1790,2,  35.1820,2,    245.1,2,    244.4,2,    13.49,2,    18.31,   2,     1.00,2,   2327.2,2,   7.7420,2,    25.00,   4.8136
  35TH20040604, OVIDE,   104,  1,     15,     15,2,20040701,0619, 40.7860, -13.0990, 5443,   1595.8,   6.5290,  35.4330,2,  35.4310,2,    227.8,2,    225.3,2,    12.20,2,    18.07,   2,     0.97,2,   2344.0,2,   7.7520,2,    25.00,   6.3691
  35TH20040604, OVIDE,   104,  1,     16,     16,2,20040701,0619, 40.7860, -13.0990, 5443,   1396.3,   8.8160,  35.8310,2,  35.8390,2,    203.6,2,    200.8,2,    10.64,2,    17.10,   2,     0.89,2,   2371.5,2,   7.7780,2,    25.00,   8.6542
  35TH20040604, OVIDE,   104,  1,     17,     17,2,20040701,0619, 40.7860, -13.0990, 5443,   1216.1,  10.3150,  36.0710,2,  36.0690,2,    186.6,2,    185.7,2,     9.67,2,    16.55,   2,     0.83,2,   2387.7,2,   7.7870,2,    25.00,  10.1622
  35TH20040604, OVIDE,   104,  1,     18,     18,2,20040701,0619, 40.7860, -13.0990, 5443,   1095.4,  10.9430,  36.1490,2,  36.1440,2,    181.9,2,    181.1,2,     9.11,2,    16.31,   2,     0.82,2,   2392.8,2,   7.7960,2,    25.00,  10.8012
  35TH20040604, OVIDE,   104,  1,     19,     19,2,20040701,0619, 40.7860, -13.0990, 5443,    995.6,  11.1620,  36.1290,2,  36.1280,2,    179.8,2,    180.1,2,     8.71,2,    16.19,   2,     0.80,2,   2390.0,2,   7.8000,2,    25.00,  11.0321
  35TH20040604, OVIDE,   104,  1,     20,     20,2,20040701,0619, 40.7860, -13.0990, 5443,    896.7,  11.4230,  36.0990,2,  36.0980,2,    179.5,2,    181.8,2,     8.19,2,    15.89,   2,     0.78,2,   -999.0,9,   7.7980,2,    25.00,  11.3049
  35TH20040604, OVIDE,   104,  1,     21,     21,2,20040701,0619, 40.7860, -13.0990, 5443,    797.5,  11.6240,  36.0660,2,  36.0640,2,    181.6,2,    182.6,2,     7.62,2,    15.11,   2,     0.74,2,   2381.7,2,   7.8050,2,    25.00,  11.5183
  35TH20040604, OVIDE,   104,  1,     22,     22,2,20040701,0619, 40.7860, -13.0990, 5443,    696.1,  11.5570,  35.9380,2,  35.9450,2,    182.1,2,    183.8,2,     7.34,2,    15.59,   2,     0.77,2,   -999.0,9,   7.7970,2,    25.00,  11.4656
  35TH20040604, OVIDE,   104,  1,     23,     23,2,20040701,0619, 40.7860, -13.0990, 5443,    597.0,  11.1820,  35.7150,2,  35.7180,2,    187.7,2,    186.8,2,     7.14,2,    16.20,   2,     0.80,2,   2350.5,2,   7.7860,2,    25.00,  11.1057
  35TH20040604, OVIDE,   104,  1,     24,     24,2,20040701,0619, 40.7860, -13.0990, 5443,    496.3,  11.2880,  35.6230,2,  35.6210,2,    196.0,2,    195.2,2,     6.18,2,    15.35,   2,     0.76,2,   2343.6,2,   7.7910,2,    25.00,  11.2245
  35TH20040604, OVIDE,   104,  1,     25,     25,2,20040701,0619, 40.7860, -13.0990, 5443,    417.4,  11.5140,  35.5930,2,  35.5920,2,    206.1,2,    206.3,2,     5.10,2,    13.85,   2,     0.67,2,   2338.4,2,   7.8020,2,    25.00,  11.4601
  35TH20040604, OVIDE,   104,  1,     26,     26,2,20040701,0619, 40.7860, -13.0990, 5443,    196.6,  12.7270,  35.7220,2,  35.7160,2,    227.9,2,    229.5,2,     2.65,2,     8.07,   2,     0.38,2,   2343.8,2,   7.8660,2,    25.00,  12.7001
  35TH20040604, OVIDE,   104,  1,     27,     27,2,20040701,0619, 40.7860, -13.0990, 5443,    148.4,  13.2250,  35.7970,2,  35.7880,3,    234.0,2,    233.2,2,     2.13,2,     6.14,   2,     0.29,2,   -999.0,9,   7.8890,2,    25.00,  13.2042
  35TH20040604, OVIDE,   104,  1,     28,     28,2,20040701,0619, 40.7860, -13.0990, 5443,     97.4,  13.7990,  35.8900,2,  35.8890,2,    237.4,2,    237.0,2,     1.60,2,     4.09,   2,     0.19,2,   2357.1,2,   7.9120,2,    25.00,  13.7850
  35TH20040604, OVIDE,   104,  1,     29,     29,2,20040701,0619, 40.7860, -13.0990, 5443,     47.7,  14.5150,  35.8940,2,  35.8970,2,    264.9,2,    259.6,2,     1.08,2,     0.00,   2,     0.02,2,   -999.0,9,   7.9570,2,    25.00,  14.5079
  35TH20040604, OVIDE,   104,  1,     30,     30,2,20040701,0619, 40.7860, -13.0990, 5443,      4.5,  19.8450,  36.0180,2,  36.0140,2,    226.4,2,    233.3,2,     0.92,2,     0.12,   2,     0.01,2,   2368.6,2,   7.9850,2,    25.00,  19.8442