BOTTLE,20220120SIOCCHENA
EXPOCODE,SECT_ID,STNNBR,CASTNO,SAMPNO,BTLNBR,BTLNBR_FLAG_W,DATE,TIME,LATITUDE,LONGITUDE,DEPTH,CTDPRS,CTDTMP,CTDSAL,CTDSAL_FLAG_W,SALNTY,SALNTY_FLAG_W,CTDOXY,CTDOXY_FLAG_W,OXYGEN,OXYGEN_FLAG_W,SILCAT,SILCAT_FLAG_W,NITRAT,NITRAT_FLAG_W,PHSPHT,PHSPHT_FLAG_W,ALKALI,ALKALI_FLAG_W,PH_SWS,PH_SWS_FLAG_W,PH_TMP,THETA
,,,,,,,,,,,METERS,DBAR,ITS-90,PSS-78,,PSS-78,,UMOL/KG,,UMOL/KG,,UMOL/KG,,UMOL/KG,,UMOL/KG,,UMOL/KG,,,,DEG C,DEG C
  35TH20040604, OVIDE,   107,  1,      3,      3,2,20040702,2345, 40.3280, -11.7850, 5318,   5306.4,   2.5500,  34.8960,2,  34.8940,2,    243.1,2,    243.3,2,    46.04,2,    22.32,   2,     1.29,2,   -999.0,9,   7.7320,2,    25.00,   2.0392
  35TH20040604, OVIDE,   107,  1,      4,      4,2,20040702,2345, 40.3280, -11.7850, 5318,   4998.5,   2.5140,  34.8970,2,  34.8970,2,    243.3,2,    242.8,2,    46.04,2,    22.49,   2,     1.30,2,   -999.0,9,   7.7310,2,    25.00,   2.0442
  35TH20040604, OVIDE,   107,  1,      5,      5,2,20040702,2345, 40.3280, -11.7850, 5318,   4696.0,   2.4910,  34.8980,2,  34.9030,2,    243.4,2,    243.1,2,    45.31,2,    21.86,   2,     1.27,2,   -999.0,9,   7.7310,2,    25.00,   2.0599
  35TH20040604, OVIDE,   107,  1,      6,      6,2,20040702,2345, 40.3280, -11.7850, 5318,   4396.5,   2.4850,  34.9010,2,  34.8980,2,    243.0,2,    243.6,2,    44.87,2,    22.14,   2,     1.31,2,   -999.0,9,   7.7310,2,    25.00,   2.0906
  35TH20040604, OVIDE,   107,  1,      7,      7,2,20040702,2345, 40.3280, -11.7850, 5318,   4097.4,   2.4910,  34.9050,2,  34.9040,2,    243.0,2,    243.0,2,    42.70,2,    22.60,   2,     1.31,2,   -999.0,9,   7.7320,2,    25.00,   2.1317
  35TH20040604, OVIDE,   107,  1,      8,      8,2,20040702,2345, 40.3280, -11.7850, 5318,   3795.9,   2.5270,  34.9120,2,  34.9120,2,    243.3,2,    243.1,2,    42.26,2,    21.97,   2,     1.31,2,   -999.0,9,   7.7320,2,    25.00,   2.2011
  35TH20040604, OVIDE,   107,  1,      9,      9,2,20040702,2345, 40.3280, -11.7850, 5318,   3496.0,   2.5970,  34.9220,2,  34.9220,2,    244.2,2,    245.1,2,    39.79,2,    21.86,   2,     1.28,2,   -999.0,9,   7.7320,2,    25.00,   2.3025
  35TH20040604, OVIDE,   107,  1,     10,     10,2,20040702,2345, 40.3280, -11.7850, 5318,   3197.1,   2.7060,  34.9350,2,  34.9330,2,    246.7,2,    246.3,2,    36.60,2,    20.66,   2,     1.24,2,   -999.0,9,   7.7340,2,    25.00,   2.4410
  35TH20040604, OVIDE,   107,  1,     11,     11,2,20040702,2345, 40.3280, -11.7850, 5318,   2995.1,   2.8120,  34.9450,2,  34.9450,2,    247.9,2,    247.7,2,    34.42,2,    21.06,   2,     1.18,2,   -999.0,9,   7.7340,2,    25.00,   2.5657
  35TH20040604, OVIDE,   107,  1,     12,     12,2,20040702,2345, 40.3280, -11.7850, 5318,   2795.4,   2.9500,  34.9580,2,  34.9570,3,    248.9,2,    248.3,2,    31.80,2,    20.66,   2,     1.20,2,   -999.0,9,   7.7340,2,    25.00,   2.7213
  35TH20040604, OVIDE,   107,  1,     13,     13,2,20040702,2345, 40.3280, -11.7850, 5318,   2595.2,   3.1440,  34.9760,2,  34.9770,2,    250.0,2,    249.3,2,    28.61,2,    20.03,   2,     1.16,2,   -999.0,9,   7.7340,2,    25.00,   2.9317
  35TH20040604, OVIDE,   107,  1,     14,     14,2,20040702,2345, 40.3280, -11.7850, 5318,   2395.6,   3.4020,  34.9950,2,  34.9970,2,    252.7,2,    252.7,2,    24.40,2,    19.40,   2,     1.11,2,   -999.0,9,   7.7360,2,    25.00,   3.2049
  35TH20040604, OVIDE,   107,  1,     15,     15,2,20040702,2345, 40.3280, -11.7850, 5318,   2195.9,   3.7520,  35.0250,2,  35.0240,2,    251.6,2,    253.2,2,    18.54,2,    18.95,   2,     1.08,2,   -999.0,9,   7.7340,2,    25.00,   3.5688
  35TH20040604, OVIDE,   107,  1,     16,     16,2,20040702,2345, 40.3280, -11.7850, 5318,   1996.7,   4.0430,  35.0380,2,  35.0390,2,    256.2,2,    256.0,2,    15.12,2,    18.26,   2,     0.98,2,   -999.0,9,   7.7350,2,    25.00,   3.8749
  35TH20040604, OVIDE,   107,  1,     17,     17,2,20040702,2345, 40.3280, -11.7850, 5318,   1794.8,   4.5600,  35.0990,2,  35.0980,2,    253.2,2,    252.0,2,    13.05,2,    18.37,   2,     1.02,2,   -999.0,9,   7.7320,2,    25.00,   4.4045
  35TH20040604, OVIDE,   107,  1,     18,     18,2,20040702,2345, 40.3280, -11.7850, 5318,   1596.4,   5.7180,  35.2780,2,  35.2790,2,    236.3,2,    237.3,2,    12.07,2,    18.03,   2,     1.00,2,   -999.0,9,   7.7410,2,    25.00,   5.5678
  35TH20040604, OVIDE,   107,  1,     19,     19,2,20040702,2345, 40.3280, -11.7850, 5318,   1396.6,   7.9110,  35.6550,2,  35.6530,2,    208.0,2,    210.0,2,    10.97,2,    17.34,   2,     0.91,2,   -999.0,9,   7.7600,2,    25.00,   7.7585
  35TH20040604, OVIDE,   107,  1,     20,     20,2,20040702,2345, 40.3280, -11.7850, 5318,   1246.0,   9.3950,  35.9050,2,  35.9040,2,    195.1,2,    194.4,2,    10.08,2,    17.34,   2,     0.89,2,   -999.0,9,   7.7750,2,    25.00,   9.2465
  35TH20040604, OVIDE,   107,  1,     21,     21,2,20040702,2345, 40.3280, -11.7850, 5318,   1096.4,  10.4440,  36.0490,2,  36.0450,2,    185.2,2,    184.3,2,     9.38,2,    16.76,   2,     0.82,2,   -999.0,9,   7.7830,2,    25.00,  10.3060
  35TH20040604, OVIDE,   107,  1,     22,     22,2,20040702,2345, 40.3280, -11.7850, 5318,    845.4,  10.7160,  35.9160,2,  35.9160,2,    181.8,2,    181.5,2,     8.74,2,    16.65,   2,     0.85,2,   -999.0,9,   7.7810,2,    25.00,  10.6093
  35TH20040604, OVIDE,   107,  1,     23,     23,2,20040702,2345, 40.3280, -11.7850, 5318,    647.1,  11.2220,  35.7780,2,  35.7790,2,    183.9,2,    183.6,2,     7.36,2,    16.08,   2,     0.82,2,   -999.0,9,   7.7820,2,    25.00,  11.1389
  35TH20040604, OVIDE,   107,  1,     24,     24,2,20040702,2345, 40.3280, -11.7850, 5318,    446.5,  11.5300,  35.6040,2,  35.6030,2,    204.7,2,    201.5,2,     5.20,2,    14.09,   2,     0.71,2,   -999.0,9,   7.7960,2,    25.00,  11.4723
  35TH20040604, OVIDE,   107,  1,     25,     25,2,20040702,2345, 40.3280, -11.7850, 5318,    346.5,  11.9830,  35.6280,2,  35.6270,2,    216.5,2,    219.4,2,     3.90,2,    11.18,   2,     0.57,2,   -999.0,9,   7.8270,2,    25.00,  11.9373
  35TH20040604, OVIDE,   107,  1,     26,     26,2,20040702,2345, 40.3280, -11.7850, 5318,    196.1,  12.9230,  35.7490,2,  35.7490,2,    230.6,2,    229.3,2,     2.40,2,     7.19,   2,     0.34,2,   -999.0,9,   7.8730,2,    25.00,  12.8959
  35TH20040604, OVIDE,   107,  1,     27,     27,2,20040702,2345, 40.3280, -11.7850, 5318,    146.3,  13.3900,  35.8240,2,  35.8260,2,    231.3,2,    234.4,2,     1.91,2,     5.25,   2,     0.26,2,   -999.0,9,   7.9010,2,    25.00,  13.3694
  35TH20040604, OVIDE,   107,  1,     28,     28,2,20040702,2345, 40.3280, -11.7850, 5318,     96.8,  14.0080,  35.9120,2,  35.9040,3,    239.9,2,    239.1,2,     1.26,2,     3.31,   2,     0.17,2,   -999.0,9,   7.9090,2,    25.00,  13.9939
  35TH20040604, OVIDE,   107,  1,     29,     29,2,20040702,2345, 40.3280, -11.7850, 5318,     48.1,  14.8370,  35.8670,2,  35.8700,2,    262.1,2,    264.0,2,     0.89,2,     0.00,   2,     0.03,2,   -999.0,9,   7.9580,2,    25.00,  14.8297
  35TH20040604, OVIDE,   107,  1,     30,     30,2,20040702,2345, 40.3280, -11.7850, 5318,      5.5,  19.4880,  35.9670,2,  35.9640,2,    225.5,2,    235.6,3,     0.77,2,     0.00,   2,     0.03,2,   -999.0,9,   7.9840,2,    25.00,  19.4870
  35TH20040604, OVIDE,   108,  1,      3,      3,2,20040702,0510, 40.3320, -11.3420, 5198,   5186.7,   2.5340,  34.8950,2,  34.8910,2,    244.0,2,    244.1,2,    45.60,2,    22.20,   2,     1.34,2,   2356.1,2,   7.7370,2,    25.00,   2.0394
  35TH20040604, OVIDE,   108,  1,      4,      4,2,20040702,0510, 40.3320, -11.3420, 5198,   4797.1,   2.4880,  34.8960,2,  34.8930,2,    243.8,2,    243.2,2,    45.31,2,    22.09,   2,     1.32,2,   2354.6,2,   7.7380,2,    25.00,   2.0445
  35TH20040604, OVIDE,   108,  1,      5,      5,2,20040702,0510, 40.3320, -11.3420, 5198,   4499.8,   2.4690,  34.8980,2,  34.8980,2,    243.0,2,    243.4,2,    44.87,2,    22.09,   2,     1.32,2,   2353.9,2,   7.7330,2,    25.00,   2.0626
  35TH20040604, OVIDE,   108,  1,      6,      6,2,20040702,0510, 40.3320, -11.3420, 5198,   3996.6,   2.4920,  34.9070,2,  34.9010,2,    243.1,2,    243.8,2,    43.28,2,    21.86,   2,     1.30,2,   2353.3,2,   7.7330,2,    25.00,   2.1443
  35TH20040604, OVIDE,   108,  1,      7,      7,2,20040702,0510, 40.3320, -11.3420, 5198,   3745.1,   2.5310,  34.9140,2,  34.9110,2,    243.2,2,    243.5,2,    41.53,2,    21.69,   2,     1.30,2,   2350.7,2,   7.7320,2,    25.00,   2.2107
  35TH20040604, OVIDE,   108,  1,      8,      8,2,20040702,0510, 40.3320, -11.3420, 5198,   3496.5,   2.5900,  34.9210,2,  34.9180,2,    244.2,2,    244.0,2,    39.21,2,    21.46,   2,     1.27,2,   2348.6,2,   7.7340,2,    25.00,   2.2956
  35TH20040604, OVIDE,   108,  1,      9,      9,2,20040702,0510, 40.3320, -11.3420, 5198,   3246.0,   2.6810,  34.9310,2,  34.9340,2,    245.4,2,    244.7,2,    37.47,2,    21.12,   2,     1.26,2,   2346.4,2,   7.7360,2,    25.00,   2.4114
  35TH20040604, OVIDE,   108,  1,     10,     10,2,20040702,0510, 40.3320, -11.3420, 5198,   2995.3,   2.8090,  34.9460,2,  34.9430,2,    246.9,2,    246.2,2,    34.71,2,    20.66,   2,     1.23,2,   2341.8,2,   7.7360,2,    25.00,   2.5628
  35TH20040604, OVIDE,   108,  1,     11,     11,2,20040702,0510, 40.3320, -11.3420, 5198,   2745.6,   3.0020,  34.9670,2,  34.9660,2,    247.6,2,    246.6,2,    31.66,2,    20.32,   2,     1.20,2,   2340.0,2,   7.7340,2,    25.00,   2.7773
  35TH20040604, OVIDE,   108,  1,     12,     12,2,20040702,0510, 40.3320, -11.3420, 5198,   2496.0,   3.2450,  34.9900,2,  34.9870,2,    248.3,2,    248.6,2,    27.45,2,    19.63,   2,     1.14,2,   2334.1,2,   7.7360,2,    25.00,   3.0408
  35TH20040604, OVIDE,   108,  1,     13,     13,2,20040702,0510, 40.3320, -11.3420, 5198,   2232.5,   3.6190,  35.0250,2,  35.0260,2,    247.9,2,    249.8,2,    23.09,2,    19.12,   2,     1.12,2,   2329.5,2,   7.7380,2,    25.00,   3.4343
  35TH20040604, OVIDE,   108,  1,     14,     14,2,20040702,0510, 40.3320, -11.3420, 5198,   2065.7,   3.8200,  35.0370,2,  35.0330,2,    251.5,2,    252.0,2,    18.30,2,    18.55,   2,     1.08,2,   2326.5,2,   7.7370,2,    25.00,   3.6485
  35TH20040604, OVIDE,   108,  1,     15,     15,2,20040702,0510, 40.3320, -11.3420, 5198,   1846.5,   4.3180,  35.0850,2,  35.0810,2,    250.5,2,    251.5,2,    14.96,2,    18.03,   2,     1.03,2,   2325.8,2,   7.7360,2,    25.00,   4.1607
  35TH20040604, OVIDE,   108,  1,     16,     16,2,20040702,0510, 40.3320, -11.3420, 5198,   1596.2,   5.9820,  35.3400,2,  35.3340,2,    232.6,2,    232.6,2,    12.28,2,    17.34,   2,     0.98,2,   2338.1,2,   7.7460,2,    25.00,   5.8286
  35TH20040604, OVIDE,   108,  1,     17,     17,2,20040702,0510, 40.3320, -11.3420, 5198,   1396.5,   7.8030,  35.6270,2,  35.6260,2,    212.7,2,    211.3,2,    11.05,2,    17.28,   2,     0.93,2,   2358.0,2,   7.7640,2,    25.00,   7.6516
  35TH20040604, OVIDE,   108,  1,     18,     18,2,20040702,0510, 40.3320, -11.3420, 5198,   1145.7,  10.1170,  35.9800,2,  35.9770,2,    188.3,2,    186.2,2,     9.30,2,    16.48,   2,     0.86,2,   2380.8,2,   7.7830,2,    25.00,   9.9752
  35TH20040604, OVIDE,   108,  1,     19,     19,2,20040702,0510, 40.3320, -11.3420, 5198,    995.6,  10.8990,  36.0440,2,  36.0400,2,    180.4,2,    180.4,2,     8.57,2,    16.02,   2,     0.85,2,   2384.6,2,   7.7900,2,    25.00,  10.7711
  35TH20040604, OVIDE,   108,  1,     20,     20,2,20040702,0510, 40.3320, -11.3420, 5198,    895.8,  11.3910,  36.0830,2,  36.0810,2,    178.9,2,    181.0,2,     7.72,2,    15.22,   2,     0.78,2,   -999.0,9,   7.7940,2,    25.00,  11.2733
  35TH20040604, OVIDE,   108,  1,     21,     21,2,20040702,0510, 40.3320, -11.3420, 5198,    776.0,  11.9240,  36.0870,2,  36.0910,2,    184.2,2,    184.4,2,     6.74,2,    14.14,   2,     0.77,2,   2382.4,2,   7.8130,2,    25.00,  11.8196
  35TH20040604, OVIDE,   108,  1,     22,     22,2,20040702,0510, 40.3320, -11.3420, 5198,    597.3,  11.3080,  35.6960,2,  35.6960,2,    189.2,2,    187.6,2,     6.75,2,    15.34,   2,     0.78,2,   2351.3,2,   7.7860,2,    25.00,  11.2311
  35TH20040604, OVIDE,   108,  1,     23,     23,2,20040702,0510, 40.3320, -11.3420, 5198,    496.1,  11.3720,  35.5820,2,  35.5830,2,    206.6,2,    205.2,2,     5.08,2,    13.75,   2,     0.70,2,   2338.5,2,   7.7950,2,    25.00,  11.3083
  35TH20040604, OVIDE,   108,  1,     24,     24,2,20040702,0510, 40.3320, -11.3420, 5198,    396.8,  11.8980,  35.6190,2,  35.6160,2,    216.5,2,    218.1,2,     4.06,2,    11.58,   2,     0.59,2,   2340.0,2,   7.8260,2,    25.00,  11.8458
  35TH20040604, OVIDE,   108,  1,     25,     25,2,20040702,0510, 40.3320, -11.3420, 5198,    296.6,  12.5690,  35.6970,2,  35.6950,2,    236.9,2,    230.5,3,     2.76,2,     8.10,   2,     0.40,2,   2344.9,2,   7.8630,2,    25.00,  12.5287
  35TH20040604, OVIDE,   108,  1,     26,     26,2,20040702,0510, 40.3320, -11.3420, 5198,    196.2,  13.2380,  35.7980,2,  35.7930,2,    243.2,2,    241.5,2,     1.71,2,     4.56,   2,     0.23,2,   2350.1,2,   7.8980,2,    25.00,  13.2105
  35TH20040604, OVIDE,   108,  1,     27,     27,2,20040702,0510, 40.3320, -11.3420, 5198,    147.7,  13.5630,  35.8550,2,  35.8460,3,    238.4,2,    240.2,2,     1.71,2,     4.16,   2,     0.22,2,   -999.0,9,   7.9040,2,    25.00,  13.5420
  35TH20040604, OVIDE,   108,  1,     28,     28,2,20040702,0510, 40.3320, -11.3420, 5198,     97.2,  13.8780,  35.8890,2,  35.8920,2,    238.2,2,    239.6,2,     1.62,2,     3.42,   2,     0.18,2,   2356.9,2,   7.9130,2,    25.00,  13.8640
  35TH20040604, OVIDE,   108,  1,     29,     29,2,20040702,0510, 40.3320, -11.3420, 5198,     47.1,  15.0930,  35.9040,2,  35.9110,2,    264.6,2,    269.0,2,     0.94,2,     0.00,   2,     0.04,2,   -999.0,9,   7.9740,2,    25.00,  15.0858
  35TH20040604, OVIDE,   108,  1,     30,     30,2,20040702,0510, 40.3320, -11.3420, 5198,      4.5,  19.5060,  35.9550,2,  35.9540,2,    222.3,2,    235.1,3,     1.02,2,     0.11,   2,     0.02,2,   2367.4,2,   7.9930,2,    25.00,  19.5052