BOTTLE,20220120SIOCCHENA
EXPOCODE,SECT_ID,STNNBR,CASTNO,SAMPNO,BTLNBR,BTLNBR_FLAG_W,DATE,TIME,LATITUDE,LONGITUDE,DEPTH,CTDPRS,CTDTMP,CTDSAL,CTDSAL_FLAG_W,SALNTY,SALNTY_FLAG_W,CTDOXY,CTDOXY_FLAG_W,OXYGEN,OXYGEN_FLAG_W,SILCAT,SILCAT_FLAG_W,NITRAT,NITRAT_FLAG_W,PHSPHT,PHSPHT_FLAG_W,ALKALI,ALKALI_FLAG_W,PH_SWS,PH_SWS_FLAG_W,PH_TMP,THETA
,,,,,,,,,,,METERS,DBAR,ITS-90,PSS-78,,PSS-78,,UMOL/KG,,UMOL/KG,,UMOL/KG,,UMOL/KG,,UMOL/KG,,UMOL/KG,,,,DEG C,DEG C
  35TH20040604, OVIDE,    73,  1,      3,      3,2,20040624,2159, 49.9070, -22.3140, 4072,   4059.8,   2.5890,  34.9140,2,  34.9080,2,   -999.0,9,    228.3,3,    42.60,2,    22.32,   2,     1.36,2,   2349.6,2,   7.7270,2,    25.00,   2.2312
  35TH20040604, OVIDE,    73,  1,      4,      4,2,20040624,2159, 49.9070, -22.3140, 4072,   3796.4,   2.5820,  34.9160,2,  34.9100,2,    243.5,2,    215.7,3,    41.46,2,    21.96,   2,     1.35,2,   2348.4,2,   7.7240,2,    25.00,   2.2546
  35TH20040604, OVIDE,    73,  1,      5,      5,2,20040624,2159, 49.9070, -22.3140, 4072,   3795.7,   2.5820,  34.9170,2,  34.9110,2,    243.5,2,    241.5,2,    41.32,2,    21.85,   2,     1.34,2,   2348.6,2,   7.7240,2,    25.00,   2.2547
  35TH20040604, OVIDE,    73,  1,      6,      6,2,20040624,2159, 49.9070, -22.3140, 4072,   3593.6,   2.6330,  34.9220,2,  34.9160,2,    247.6,2,    210.4,3,    37.75,2,    21.18,   2,     1.27,2,   2346.0,2,   7.7250,2,    25.00,   2.3269
  35TH20040604, OVIDE,    73,  1,      7,      7,2,20040624,2159, 49.9070, -22.3140, 4072,   3393.7,   2.7160,  34.9320,2,  34.9280,2,    251.8,2,    214.5,3,    32.77,2,    20.14,   2,     1.21,2,   2336.1,2,   7.7270,2,    25.00,   2.4297
  35TH20040604, OVIDE,    73,  1,      8,      8,2,20040624,2159, 49.9070, -22.3140, 4072,   3196.0,   2.8200,  34.9390,2,  34.9330,2,    257.5,2,    228.0,3,    26.78,2,    19.21,   2,     1.15,2,   2328.1,2,   7.7270,2,    25.00,   2.5525
  35TH20040604, OVIDE,    73,  1,      9,      9,2,20040624,2159, 49.9070, -22.3140, 4072,   2984.0,   2.9150,  34.9410,2,  34.9380,2,    260.3,2,    263.0,2,    22.79,2,    18.58,   2,     1.10,2,   2323.0,2,   7.7280,2,    25.00,   2.6677
  35TH20040604, OVIDE,    73,  1,     10,     10,2,20040624,2159, 49.9070, -22.3140, 4072,   2794.9,   2.9910,  34.9390,2,  34.9370,2,    267.7,2,    266.7,2,    18.10,2,    18.01,   2,     1.06,2,   2314.5,2,   7.7270,2,    25.00,   2.7616
  35TH20040604, OVIDE,    73,  1,     11,     11,2,20040624,2159, 49.9070, -22.3140, 4072,   2596.8,   3.0630,  34.9250,2,  34.9170,2,    271.0,2,    274.5,2,    14.32,2,    17.34,   2,     1.03,2,   2308.4,2,   7.7260,2,    25.00,   2.8524
  35TH20040604, OVIDE,    73,  1,     12,     12,2,20040624,2159, 49.9070, -22.3140, 4072,   2397.7,   3.1600,  34.9150,2,  34.9050,2,    274.2,2,    276.4,2,    13.02,2,    17.55,   2,     1.02,2,   2305.2,2,   7.7220,2,    25.00,   2.9673
  35TH20040604, OVIDE,    73,  1,     13,     13,2,20040624,2159, 49.9070, -22.3140, 4072,   2196.1,   3.1960,  34.9000,2,  34.8950,2,    278.2,2,    279.1,2,    12.20,2,    17.49,   2,     1.00,2,   2303.2,2,   7.7220,2,    25.00,   3.0222
  35TH20040604, OVIDE,    73,  1,     14,     14,2,20040624,2159, 49.9070, -22.3140, 4072,   1996.5,   3.2620,  34.8910,2,  34.8870,2,    280.6,2,    280.6,2,    11.49,2,    17.44,   2,     1.00,2,   2302.5,2,   7.7220,2,    25.00,   3.1060
  35TH20040604, OVIDE,    73,  1,     15,     15,2,20040624,2159, 49.9070, -22.3140, 4072,   1795.0,   3.3910,  34.8930,2,  34.8910,2,    278.7,2,    278.6,2,    11.33,2,    17.65,   2,     1.01,2,   2300.6,2,   7.7240,2,    25.00,   3.2517
  35TH20040604, OVIDE,    73,  1,     16,     16,2,20040624,2159, 49.9070, -22.3140, 4072,   1596.0,   3.5550,  34.9000,2,  34.8970,2,    275.1,2,    275.4,2,    11.14,2,    17.80,   2,     1.03,2,   2301.3,2,   7.7200,2,    25.00,   3.4315
  35TH20040604, OVIDE,    73,  1,     17,     17,2,20040624,2159, 49.9070, -22.3140, 4072,   1395.4,   3.7710,  34.9110,2,  34.9050,2,    267.2,2,    271.8,2,    10.86,2,    17.80,   2,     1.05,2,   2301.1,2,   7.7150,2,    25.00,   3.6628
  35TH20040604, OVIDE,    73,  1,     18,     18,2,20040624,2159, 49.9070, -22.3140, 4072,   1245.8,   4.0040,  34.9270,2,  34.9240,2,    263.4,2,    266.0,2,    10.62,2,    17.96,   2,     1.08,2,   2301.1,2,   7.7150,2,    25.00,   3.9065
  35TH20040604, OVIDE,    73,  1,     19,     19,2,20040624,2159, 49.9070, -22.3140, 4072,   1096.1,   4.1330,  34.9180,2,  34.9150,2,    263.6,2,    265.6,2,    10.47,2,    17.86,   2,     1.06,2,   2301.3,2,   7.7130,2,    25.00,   4.0474
  35TH20040604, OVIDE,    73,  1,     20,     20,2,20040624,2159, 49.9070, -22.3140, 4072,    846.7,   5.9140,  35.1180,2,  35.1090,2,    228.2,2,    228.5,2,    10.86,2,    18.68,   2,     1.09,2,   2316.4,2,   7.7140,2,    25.00,   5.8377
  35TH20040604, OVIDE,    73,  1,     21,     21,2,20040624,2159, 49.9070, -22.3140, 4072,    746.8,   5.7340,  35.0070,2,  35.0010,2,    228.1,2,    227.4,2,    10.98,2,    19.31,   2,     1.14,2,   2309.5,2,   7.7080,2,    25.00,   5.6684
  35TH20040604, OVIDE,    73,  1,     22,     22,2,20040624,2159, 49.9070, -22.3140, 4072,    545.7,   7.7420,  35.1120,2,  35.1070,2,    203.7,2,    202.8,2,    10.47,2,    19.62,   2,     1.14,2,   2315.6,2,   7.7180,2,    25.00,   7.6865
  35TH20040604, OVIDE,    73,  1,     23,     23,2,20040624,2159, 49.9070, -22.3140, 4072,    396.9,   9.4710,  35.2230,2,  35.2220,2,    212.4,2,    215.6,2,     7.91,2,    16.87,   2,     0.96,2,   2319.2,2,   7.7650,2,    25.00,   9.4259
  35TH20040604, OVIDE,    73,  1,     24,     24,2,20040624,2159, 49.9070, -22.3140, 4072,    295.8,  10.2840,  35.3080,2,  35.3040,2,    235.1,2,    241.0,2,     5.27,2,    12.97,   2,     0.71,2,   2323.2,2,   7.8150,2,    25.00,  10.2488
  35TH20040604, OVIDE,    73,  1,     25,     25,2,20040624,2159, 49.9070, -22.3140, 4072,    197.6,  11.0880,  35.4440,2,  35.4420,2,    248.7,2,    247.7,2,     4.21,2,    11.16,   2,     0.61,2,   2332.5,2,   7.8430,2,    25.00,  11.0634
  35TH20040604, OVIDE,    73,  1,     26,     26,2,20040624,2159, 49.9070, -22.3140, 4072,    146.0,  11.3300,  35.4670,2,  35.4580,3,    248.2,2,    245.7,2,     3.78,2,    10.90,   2,     0.51,2,   -999.0,9,   7.8460,2,    25.00,  11.3116
  35TH20040604, OVIDE,    73,  1,     27,     27,2,20040624,2159, 49.9070, -22.3140, 4072,     95.8,  11.8140,  35.5280,2,  35.5300,2,    249.3,2,    247.4,2,     3.42,2,     9.76,   2,     0.49,2,   2336.8,2,   7.8630,2,    25.00,  11.8016
  35TH20040604, OVIDE,    73,  1,     28,     28,2,20040624,2159, 49.9070, -22.3140, 4072,     45.1,  12.6130,  35.4920,2,  35.4900,2,    251.9,2,    202.3,3,     1.50,2,     5.34,   2,     0.35,2,   -999.0,9,   7.9060,2,    25.00,  12.6069
  35TH20040604, OVIDE,    73,  1,     29,     29,2,20040624,2159, 49.9070, -22.3140, 4072,      4.6,  15.2920,  35.4770,2,  35.4760,2,    259.0,2,    190.3,3,     0.79,2,     0.10,   2,     0.07,2,   2345.3,2,   8.0360,2,    25.00,  15.2913
  35TH20040604, OVIDE,    74,  1,      3,      3,2,20040624,0309, 49.5320, -22.0210, 4301,   4288.5,   2.5850,  34.9110,2,  34.9110,2,    241.8,2,    240.4,2,    43.88,2,    22.34,   2,     1.30,2,   -999.0,9,   7.7290,2,    25.00,   2.2004
  35TH20040604, OVIDE,    74,  1,      4,      4,2,20040624,0309, 49.5320, -22.0210, 4301,   3996.9,   2.6140,  34.9170,2,  34.9170,2,    244.6,2,    243.3,2,    41.03,2,    21.97,   2,     1.30,2,   -999.0,9,   7.7310,2,    25.00,   2.2628
  35TH20040604, OVIDE,    74,  1,      5,      5,2,20040624,0309, 49.5320, -22.0210, 4301,   3746.4,   2.6780,  34.9230,2,  34.9270,2,    249.2,2,    247.9,2,    36.47,2,    20.48,   2,     1.16,2,   -999.0,9,   7.7290,2,    25.00,   2.3536
  35TH20040604, OVIDE,    74,  1,      6,      6,2,20040624,0309, 49.5320, -22.0210, 4301,   3747.4,   2.6770,  34.9250,2,  34.9220,2,    249.2,2,    248.1,2,    36.47,2,    21.12,   2,     1.23,2,   -999.0,9,   7.7280,2,    25.00,   2.3526
  35TH20040604, OVIDE,    74,  1,      7,      7,2,20040624,0309, 49.5320, -22.0210, 4301,   3496.9,   2.7460,  34.9330,2,  34.9320,2,    253.4,2,    252.8,2,    31.91,2,    20.26,   2,     1.16,2,   -999.0,9,   7.7240,2,    25.00,   2.4477
  35TH20040604, OVIDE,    74,  1,      8,      8,2,20040624,0309, 49.5320, -22.0210, 4301,   3246.6,   2.8550,  34.9400,2,  34.9400,2,    258.1,2,    257.3,2,    26.93,2,    19.52,   2,     1.13,2,   -999.0,9,   7.7270,2,    25.00,   2.5812
  35TH20040604, OVIDE,    74,  1,      9,      9,2,20040624,0309, 49.5320, -22.0210, 4301,   2997.2,   2.9820,  34.9410,2,  34.9420,2,    263.9,2,    263.4,2,    21.23,2,    18.34,   2,     1.06,2,   -999.0,9,   7.7320,2,    25.00,   2.7319
  35TH20040604, OVIDE,    74,  1,     10,     10,2,20040624,0309, 49.5320, -22.0210, 4301,   2746.1,   3.0990,  34.9330,2,  34.9330,2,    269.7,2,    269.5,2,    15.96,2,    17.81,   2,     1.02,2,   -999.0,9,   7.7290,2,    25.00,   2.8725
  35TH20040604, OVIDE,    74,  1,     11,     11,2,20040624,0309, 49.5320, -22.0210, 4301,   2496.8,   3.1610,  34.9080,2,  34.9090,2,    277.8,2,    277.5,2,    12.84,2,    17.55,   2,     1.00,2,   -999.0,9,   7.7290,2,    25.00,   2.9585
  35TH20040604, OVIDE,    74,  1,     12,     12,2,20040624,0309, 49.5320, -22.0210, 4301,   2245.8,   3.2190,  34.8950,2,  34.8970,2,    279.4,2,    280.3,2,    11.83,2,    17.55,   2,     0.99,2,   -999.0,9,   7.7300,2,    25.00,   3.0401
  35TH20040604, OVIDE,    74,  1,     13,     13,2,20040624,0309, 49.5320, -22.0210, 4301,   1996.0,   3.3290,  34.8920,2,  34.8990,2,    280.1,2,    278.8,2,    11.16,2,    17.65,   2,     1.00,2,   -999.0,9,   7.7320,2,    25.00,   3.1720
  35TH20040604, OVIDE,    74,  1,     14,     14,2,20040624,0309, 49.5320, -22.0210, 4301,   1796.5,   3.5000,  34.8990,2,  34.9020,2,    274.4,2,    275.4,2,    11.24,2,    17.81,   2,     1.02,2,   -999.0,9,   7.7240,2,    25.00,   3.3590
  35TH20040604, OVIDE,    74,  1,     15,     15,2,20040624,0309, 49.5320, -22.0210, 4301,   1595.7,   3.6950,  34.9040,2,  34.9050,2,    273.3,2,    272.7,2,    10.77,2,    17.92,   2,     1.02,2,   -999.0,9,   7.7220,2,    25.00,   3.5698
  35TH20040604, OVIDE,    74,  1,     16,     16,2,20040624,0309, 49.5320, -22.0210, 4301,   1396.4,   3.9640,  34.9210,2,  34.9280,2,    269.6,2,    267.0,2,    10.54,2,    17.92,   2,     1.02,2,   -999.0,9,   7.7180,2,    25.00,   3.8536
  35TH20040604, OVIDE,    74,  1,     17,     17,2,20040624,0309, 49.5320, -22.0210, 4301,   1197.5,   5.0640,  35.0600,2,  35.0610,2,    245.9,2,    243.2,2,    11.12,2,    18.66,   2,     1.04,2,   -999.0,9,   7.7170,2,    25.00,   4.9609
  35TH20040604, OVIDE,    74,  1,     18,     18,2,20040624,0309, 49.5320, -22.0210, 4301,    996.2,   6.8200,  35.2990,2,  35.3000,2,    217.3,2,    215.7,2,    11.16,2,    18.93,   2,     1.04,2,   -999.0,9,   7.7330,2,    25.00,   6.7222
  35TH20040604, OVIDE,    74,  1,     19,     19,2,20040624,0309, 49.5320, -22.0210, 4301,    856.4,   8.0390,  35.4100,2,  35.4100,2,    200.6,2,    198.7,2,    10.69,2,    18.92,   2,     1.02,2,   -999.0,9,   7.7370,2,    25.00,   7.9479
  35TH20040604, OVIDE,    74,  1,     20,     20,2,20040624,0309, 49.5320, -22.0210, 4301,    795.5,   8.2130,  35.3740,2,  35.3710,2,    196.6,2,    195.5,2,    10.61,2,    19.19,   2,     1.08,2,   -999.0,9,   7.7310,2,    25.00,   8.1277
  35TH20040604, OVIDE,    74,  1,     21,     21,2,20040624,0309, 49.5320, -22.0210, 4301,    651.6,   8.5520,  35.2370,2,  35.2350,2,    199.6,2,    197.2,2,    10.03,2,    19.09,   2,     1.08,2,   -999.0,9,   7.7360,2,    25.00,   8.4812
  35TH20040604, OVIDE,    74,  1,     22,     22,2,20040624,0309, 49.5320, -22.0210, 4301,    596.6,   9.4890,  35.3110,2,  35.3020,3,    203.0,2,    200.5,2,     8.82,2,    17.86,   2,     0.98,2,   -999.0,9,   7.7540,2,    25.00,   9.4203
  35TH20040604, OVIDE,    74,  1,     23,     23,2,20040624,0309, 49.5320, -22.0210, 4301,    496.1,  10.3860,  35.3970,2,  35.3930,2,    216.6,2,    220.2,2,     6.60,2,    14.77,   2,     0.80,2,   -999.0,9,   7.7980,2,    25.00,  10.3259
  35TH20040604, OVIDE,    74,  1,     24,     24,2,20040624,0309, 49.5320, -22.0210, 4301,    397.4,  10.9680,  35.4650,2,  35.4710,2,    235.4,2,    228.8,3,     5.38,2,    12.90,   2,     0.69,2,   -999.0,9,   7.8180,2,    25.00,  10.9184
  35TH20040604, OVIDE,    74,  1,     25,     25,2,20040624,0309, 49.5320, -22.0210, 4301,    296.2,  11.4310,  35.5170,2,  35.5140,2,    239.8,2,    247.7,3,     4.37,2,    10.55,   2,     0.55,2,   -999.0,9,   7.8530,2,    25.00,  11.3932
  35TH20040604, OVIDE,    74,  1,     26,     26,2,20040624,0309, 49.5320, -22.0210, 4301,    196.8,  11.8920,  35.5710,2,  35.5740,2,    228.8,2,    242.1,3,     3.94,2,    10.39,   2,     0.54,2,   -999.0,9,   7.8570,2,    25.00,  11.8663
  35TH20040604, OVIDE,    74,  1,     27,     27,2,20040624,0309, 49.5320, -22.0210, 4301,    147.0,  12.3740,  35.6390,2,  35.6410,2,    241.6,2,    241.3,2,     3.51,2,     9.59,   2,     0.50,2,   -999.0,9,   7.8710,2,    25.00,  12.3543
  35TH20040604, OVIDE,    74,  1,     28,     28,2,20040624,0309, 49.5320, -22.0210, 4301,     96.5,  13.2320,  35.7870,2,  35.7790,3,    247.0,2,    240.6,2,     3.08,2,     8.10,   2,     0.40,2,   -999.0,9,   7.8930,2,    25.00,  13.2185
  35TH20040604, OVIDE,    74,  1,     29,     29,2,20040624,0309, 49.5320, -22.0210, 4301,     50.2,  13.6920,  35.8490,2,  35.8430,2,    255.6,2,    238.1,3,     2.73,2,     7.46,   2,     0.37,2,   -999.0,9,   7.9090,2,    25.00,  13.6848
  35TH20040604, OVIDE,    74,  1,     30,     30,2,20040624,0309, 49.5320, -22.0210, 4301,      3.4,  16.4280,  35.7350,2,  35.7360,2,    249.7,2,    256.6,3,     0.35,2,     0.16,   2,     0.04,2,   -999.0,9,   7.9980,2,    25.00,  16.4275