BOTTLE,20220120SIOCCHENA
EXPOCODE,SECT_ID,STNNBR,CASTNO,SAMPNO,BTLNBR,BTLNBR_FLAG_W,DATE,TIME,LATITUDE,LONGITUDE,DEPTH,CTDPRS,CTDTMP,CTDSAL,CTDSAL_FLAG_W,SALNTY,SALNTY_FLAG_W,CTDOXY,CTDOXY_FLAG_W,OXYGEN,OXYGEN_FLAG_W,SILCAT,SILCAT_FLAG_W,NITRAT,NITRAT_FLAG_W,PHSPHT,PHSPHT_FLAG_W,ALKALI,ALKALI_FLAG_W,PH_SWS,PH_SWS_FLAG_W,PH_TMP,THETA
,,,,,,,,,,,METERS,DBAR,ITS-90,PSS-78,,PSS-78,,UMOL/KG,,UMOL/KG,,UMOL/KG,,UMOL/KG,,UMOL/KG,,UMOL/KG,,,,DEG C,DEG C
  35TH20040604, OVIDE,    70,  1,      3,      3,2,20040623,0627, 51.0280, -23.1970, 3992,   3979.0,   2.5660,  34.9130,2,  34.9140,2,    244.1,2,    241.4,2,    44.80,2,    22.18,   2,  -999.00,9,   -999.0,9,   7.7260,2,    25.00,   2.2182
  35TH20040604, OVIDE,    70,  1,      4,      4,2,20040623,0627, 51.0280, -23.1970, 3992,   3747.2,   2.5940,  34.9180,2,  34.9150,2,    245.6,2,    243.4,2,    42.14,2,    21.66,   2,  -999.00,9,   -999.0,9,   7.7280,2,    25.00,   2.2718
  35TH20040604, OVIDE,    70,  1,      5,      5,2,20040623,0627, 51.0280, -23.1970, 3992,   3496.5,   2.6620,  34.9260,2,  34.9260,2,    252.4,2,    249.2,2,    36.08,2,    20.64,   2,  -999.00,9,   -999.0,9,   7.7250,2,    25.00,   2.3658
  35TH20040604, OVIDE,    70,  1,      6,      6,2,20040623,0627, 51.0280, -23.1970, 3992,   3245.9,   2.7580,  34.9360,2,  34.9340,2,    259.6,2,    255.7,2,    30.16,2,    19.57,   2,  -999.00,9,   -999.0,9,   7.7270,2,    25.00,   2.4866
  35TH20040604, OVIDE,    70,  1,      7,      7,2,20040623,0627, 51.0280, -23.1970, 3992,   2994.7,   2.8520,  34.9410,2,  34.9410,2,    262.4,2,    259.4,2,    26.17,2,    18.90,   2,  -999.00,9,   -999.0,9,   7.7290,2,    25.00,   2.6049
  35TH20040604, OVIDE,    70,  1,      8,      8,2,20040623,0627, 51.0280, -23.1970, 3992,   2745.3,   2.9530,  34.9410,2,  34.9410,2,    268.1,2,    265.4,2,    21.00,2,    18.09,   2,  -999.00,9,   -999.0,9,   7.7290,2,    25.00,   2.7294
  35TH20040604, OVIDE,    70,  1,      9,      9,2,20040623,0627, 51.0280, -23.1970, 3992,   2496.5,   3.0860,  34.9320,2,  34.9300,2,    273.3,2,    270.7,2,    15.74,2,    17.58,   2,  -999.00,9,   -999.0,9,   7.7290,2,    25.00,   2.8848
  35TH20040604, OVIDE,    70,  1,     10,     10,2,20040623,0627, 51.0280, -23.1970, 3992,   2246.3,   3.1630,  34.9120,2,  34.9100,2,    279.8,2,    276.5,2,    13.34,2,    17.37,   2,  -999.00,9,   -999.0,9,   7.7270,2,    25.00,   2.9849
  35TH20040604, OVIDE,    70,  1,     11,     11,2,20040623,0627, 51.0280, -23.1970, 3992,   1946.4,   3.2390,  34.8940,2,  34.8910,2,    282.6,2,    280.3,2,    11.88,2,    17.42,   2,  -999.00,9,   -999.0,9,   7.7250,2,    25.00,   3.0880
  35TH20040604, OVIDE,    70,  1,     12,     12,2,20040623,0627, 51.0280, -23.1970, 3992,   1795.2,   3.3920,  34.8990,2,  34.8970,2,    279.7,2,    276.8,2,    12.00,2,    17.68,   2,  -999.00,9,   -999.0,9,   7.7200,2,    25.00,   3.2526
  35TH20040604, OVIDE,    70,  1,     13,     13,2,20040623,0627, 51.0280, -23.1970, 3992,   1597.0,   3.5890,  34.9110,2,  34.9090,2,    275.2,2,    272.2,2,    12.04,2,    17.93,   2,  -999.00,9,   -999.0,9,   7.7180,2,    25.00,   3.4650
  35TH20040604, OVIDE,    70,  1,     14,     14,2,20040623,0627, 51.0280, -23.1970, 3992,   1395.8,   4.0970,  34.9680,2,  34.9670,2,    264.0,2,    260.4,2,    12.12,2,    18.29,   2,  -999.00,9,   -999.0,9,   7.7180,2,    25.00,   3.9852
  35TH20040604, OVIDE,    70,  1,     15,     15,2,20040623,0627, 51.0280, -23.1970, 3992,   1196.9,   4.6270,  35.0230,2,  35.0220,2,    252.9,2,    250.2,2,    11.73,2,    18.50,   2,  -999.00,9,   -999.0,9,   7.7160,2,    25.00,   4.5279
  35TH20040604, OVIDE,    70,  1,     16,     16,2,20040623,0627, 51.0280, -23.1970, 3992,    996.6,   4.7030,  34.9850,2,  34.9820,2,    249.1,2,    250.6,2,    11.10,2,    18.39,   2,  -999.00,9,   -999.0,9,   7.7110,2,    25.00,   4.6215
  35TH20040604, OVIDE,    70,  1,     17,     17,2,20040623,0627, 51.0280, -23.1970, 3992,    896.4,   5.3750,  35.0630,2,  35.0630,2,    241.8,2,    235.8,2,    11.37,2,    18.70,   2,  -999.00,9,   -999.0,9,   7.7050,2,    25.00,   5.2976
  35TH20040604, OVIDE,    70,  1,     18,     18,2,20040623,0627, 51.0280, -23.1970, 3992,    747.3,   6.7230,  35.2060,2,  35.2040,2,    217.2,2,    214.2,2,    11.41,2,    19.16,   2,  -999.00,9,   -999.0,9,   7.7160,2,    25.00,   6.6515
  35TH20040604, OVIDE,    70,  1,     19,     19,2,20040623,0627, 51.0280, -23.1970, 3992,    747.5,   6.7220,  35.2060,2,  35.2050,2,    217.0,2,    213.5,2,    11.37,2,    19.05,   2,  -999.00,9,   -999.0,9,   7.7130,2,    25.00,   6.6505
  35TH20040604, OVIDE,    70,  1,     20,     20,2,20040623,0627, 51.0280, -23.1970, 3992,    694.8,   5.7200,  34.9630,2,  34.9650,2,    231.5,2,    228.6,2,    11.37,2,    19.11,   2,  -999.00,9,   -999.0,9,   7.6990,2,    25.00,   5.6593
  35TH20040604, OVIDE,    70,  1,     21,     21,2,20040623,0627, 51.0280, -23.1970, 3992,    596.6,   6.5980,  34.9730,2,  34.9700,2,    218.0,2,    216.5,2,    11.37,2,    19.42,   2,  -999.00,9,   -999.0,9,   7.7080,2,    25.00,   6.5423
  35TH20040604, OVIDE,    70,  1,     22,     22,2,20040623,0627, 51.0280, -23.1970, 3992,    496.6,   7.8960,  35.0730,2,  35.0710,2,    211.2,2,    208.1,2,    10.54,2,    18.90,   2,  -999.00,9,   -999.0,9,   7.7230,2,    25.00,   7.8451
  35TH20040604, OVIDE,    70,  1,     23,     23,2,20040623,0627, 51.0280, -23.1970, 3992,    397.2,   9.0310,  35.1710,2,  35.1610,3,    225.1,2,    222.2,2,     8.30,2,    16.35,   2,  -999.00,9,   -999.0,9,   7.7610,2,    25.00,   8.9871
  35TH20040604, OVIDE,    70,  1,     24,     24,2,20040623,0627, 51.0280, -23.1970, 3992,    296.8,   9.8700,  35.2620,2,  35.2570,2,    249.9,2,    245.6,2,     5.82,2,    13.08,   2,  -999.00,9,   -999.0,9,   7.8070,2,    25.00,   9.8355
  35TH20040604, OVIDE,    70,  1,     25,     25,2,20040623,0627, 51.0280, -23.1970, 3992,    197.4,  10.5990,  35.3570,2,  35.3540,2,    249.0,2,    242.2,3,     5.35,2,    12.21,   2,  -999.00,9,   -999.0,9,   7.8240,2,    25.00,  10.5751
  35TH20040604, OVIDE,    70,  1,     26,     26,2,20040623,0627, 51.0280, -23.1970, 3992,    148.1,  10.9820,  35.4140,2,  35.4140,2,    242.9,2,    249.4,2,     4.13,2,    10.98,   2,  -999.00,9,   -999.0,9,   7.8410,2,    25.00,  10.9637
  35TH20040604, OVIDE,    70,  1,     27,     27,2,20040623,0627, 51.0280, -23.1970, 3992,     98.0,  11.6140,  35.4600,2,  35.4610,2,    253.4,2,    260.4,3,     1.81,2,     7.97,   2,  -999.00,9,   -999.0,9,   7.8780,2,    25.00,  11.6015
  35TH20040604, OVIDE,    70,  1,     28,     28,2,20040623,0627, 51.0280, -23.1970, 3992,     48.2,  12.1200,  35.3950,2,  35.3920,2,    268.5,2,    265.6,2,     1.26,2,     6.03,   2,  -999.00,9,   -999.0,9,   7.8930,2,    25.00,  12.1137
  35TH20040604, OVIDE,    70,  1,     29,     29,2,20040623,0627, 51.0280, -23.1970, 3992,      4.5,  14.4550,  35.4180,2,  35.4200,2,    261.4,2,    274.7,3,     0.71,2,     0.26,   2,  -999.00,9,   -999.0,9,   8.0090,2,    25.00,  14.4543
  35TH20040604, OVIDE,    71,  1,      3,      3,2,20040623,1149, 50.6420, -22.9040, 3806,   3792.7,   2.5390,  34.9120,2,  34.9130,2,    240.1,2,    241.7,2,    45.25,2,    22.48,   2,     1.37,2,   2353.0,2,   7.7260,2,    25.00,   2.2131
  35TH20040604, OVIDE,    71,  1,      4,      4,2,20040623,1149, 50.6420, -22.9040, 3806,   3596.5,   2.5510,  34.9160,2,  34.9130,2,    243.2,2,    243.1,2,    43.77,2,    22.22,   2,     1.35,2,   2349.8,2,   7.7280,2,    25.00,   2.2467
  35TH20040604, OVIDE,    71,  1,      5,      5,2,20040623,1149, 50.6420, -22.9040, 3806,   3395.7,   2.6660,  34.9270,2,  34.9300,2,    249.5,2,    251.4,2,    35.93,2,    20.50,   2,     1.25,2,   2338.0,2,   7.7280,2,    25.00,   2.3807
  35TH20040604, OVIDE,    71,  1,      6,      6,2,20040623,1149, 50.6420, -22.9040, 3806,   3198.0,   2.6980,  34.9320,2,  34.9340,2,    254.2,2,    254.5,2,    32.68,2,    19.93,   2,     1.22,2,   2334.5,2,   7.7260,2,    25.00,   2.4331
  35TH20040604, OVIDE,    71,  1,      7,      7,2,20040623,1149, 50.6420, -22.9040, 3806,   2996.7,   2.8040,  34.9410,2,  34.9400,2,    260.4,2,    263.3,2,  -999.00,9,    18.17,   2,     1.12,2,   2324.1,2,   7.7270,2,    25.00,   2.5578
  35TH20040604, OVIDE,    71,  1,      8,      8,2,20040623,1149, 50.6420, -22.9040, 3806,   2794.9,   2.8750,  34.9400,2,  34.9410,2,    265.3,2,    266.8,2,    19.48,2,    17.80,   2,     1.07,2,   2318.4,2,   7.7270,2,    25.00,   2.6480
  35TH20040604, OVIDE,    71,  1,      9,      9,2,20040623,1149, 50.6420, -22.9040, 3806,   2596.2,   2.9870,  34.9390,2,  34.9360,2,    267.3,2,    268.2,2,    18.02,2,    17.86,   2,     1.07,2,   2316.1,2,   7.7280,2,    25.00,   2.7778
  35TH20040604, OVIDE,    71,  1,     10,     10,2,20040623,1149, 50.6420, -22.9040, 3806,   2395.6,   3.0810,  34.9290,2,  34.9280,2,    272.1,2,    272.5,2,    15.54,2,    17.13,   2,     1.05,2,   2311.3,2,   7.7300,2,    25.00,   2.8898
  35TH20040604, OVIDE,    71,  1,     11,     11,2,20040623,1149, 50.6420, -22.9040, 3806,   2195.6,   3.1410,  34.9150,2,  34.9150,2,    276.2,2,    277.9,2,    13.66,2,    17.44,   2,     1.04,2,   2310.6,2,   7.7300,2,    25.00,   2.9681
  35TH20040604, OVIDE,    71,  1,     12,     12,2,20040623,1149, 50.6420, -22.9040, 3806,   1997.4,   3.1840,  34.8980,2,  34.9000,2,    279.7,2,    279.9,2,    12.24,2,    16.77,   2,     1.04,2,   2306.0,2,   7.7270,2,    25.00,   3.0290
  35TH20040604, OVIDE,    71,  1,     13,     13,2,20040623,1149, 50.6420, -22.9040, 3806,   1796.1,   3.2660,  34.8930,2,  34.8920,2,    279.1,2,    280.7,2,    11.80,2,    17.13,   2,     1.04,2,   2301.4,2,   7.7260,2,    25.00,   3.1283
  35TH20040604, OVIDE,    71,  1,     14,     14,2,20040623,1149, 50.6420, -22.9040, 3806,   1595.9,   3.4680,  34.9000,2,  34.9000,2,    275.3,2,    275.9,2,    11.65,2,    17.23,   2,     1.04,2,   2303.1,2,   7.7220,2,    25.00,   3.3455
  35TH20040604, OVIDE,    71,  1,     15,     15,2,20040623,1149, 50.6420, -22.9040, 3806,   1393.7,   3.6900,  34.9120,2,  34.9150,2,    269.7,2,    271.1,2,    11.49,2,    17.70,   2,     1.04,2,   2304.2,2,   7.7210,2,    25.00,   3.5828
  35TH20040604, OVIDE,    71,  1,     16,     16,2,20040623,1149, 50.6420, -22.9040, 3806,   1194.3,   3.9610,  34.9350,2,  34.9370,2,    262.9,2,    266.8,2,    11.18,2,    17.80,   2,     1.07,2,   2307.1,2,   7.7190,2,    25.00,   3.8684
  35TH20040604, OVIDE,    71,  1,     17,     17,2,20040623,1149, 50.6420, -22.9040, 3806,    995.9,   4.6550,  35.0080,2,  35.0090,2,    249.0,2,    264.6,3,    11.41,2,    17.96,   2,     1.08,2,   2311.9,2,   7.7170,2,    25.00,   4.5738
  35TH20040604, OVIDE,    71,  1,     18,     18,2,20040623,1149, 50.6420, -22.9040, 3806,    795.7,   5.5100,  35.1030,2,  35.1000,2,    231.1,2,    235.0,2,    11.45,2,    18.84,   2,     1.10,2,   2316.3,2,   7.7160,2,    25.00,   5.4410
  35TH20040604, OVIDE,    71,  1,     19,     19,2,20040623,1149, 50.6420, -22.9040, 3806,    596.3,   6.9540,  35.2260,2,  35.2250,2,    206.2,2,    210.4,2,    11.49,2,    19.41,   2,     1.12,2,   2323.9,2,   7.7190,2,    25.00,   6.8965
  35TH20040604, OVIDE,    71,  1,     20,     20,2,20040623,1149, 50.6420, -22.9040, 3806,    596.3,   6.9800,  35.2210,2,  35.2200,2,    206.2,2,    209.4,2,    11.33,2,    19.46,   2,     1.12,2,   2324.2,2,   7.7170,2,    25.00,   6.9224
  35TH20040604, OVIDE,    71,  1,     21,     21,2,20040623,1149, 50.6420, -22.9040, 3806,    547.2,   6.8820,  35.1440,2,  35.1440,2,    217.9,2,    210.0,3,    11.41,2,    19.62,   2,     1.13,2,   -999.0,9,   7.7190,2,    25.00,   6.8298
  35TH20040604, OVIDE,    71,  1,     22,     22,2,20040623,1149, 50.6420, -22.9040, 3806,    397.2,   7.2190,  35.0040,2,  35.0070,2,    213.3,2,    216.2,2,    10.62,2,    19.15,   2,     1.11,2,   2310.3,2,   7.7190,2,    25.00,   7.1806
  35TH20040604, OVIDE,    71,  1,     23,     23,2,20040623,1149, 50.6420, -22.9040, 3806,    296.8,   8.7490,  35.1420,2,  35.1400,2,    207.9,2,    212.5,2,     9.28,2,    17.54,   2,     1.03,2,   2318.7,2,   7.7450,2,    25.00,   8.7170
  35TH20040604, OVIDE,    71,  1,     24,     24,2,20040623,1149, 50.6420, -22.9040, 3806,    196.9,   9.4130,  35.1810,2,  35.1770,2,    253.3,2,    250.0,2,     5.98,2,    13.23,   2,     0.76,2,   2316.8,2,   7.8020,2,    25.00,   9.3909
  35TH20040604, OVIDE,    71,  1,     25,     25,2,20040623,1149, 50.6420, -22.9040, 3806,    146.0,   9.6430,  35.1950,2,  35.1910,2,    255.8,2,    253.0,2,     4.84,2,    12.77,   2,     0.72,2,   -999.0,9,   7.8120,2,    25.00,   9.6264
  35TH20040604, OVIDE,    71,  1,     26,     26,2,20040623,1149, 50.6420, -22.9040, 3806,     97.1,  10.3780,  35.2850,2,  35.2780,2,    258.3,2,    254.3,2,     3.23,2,    10.90,   2,     0.63,2,   2325.4,2,   7.8350,2,    25.00,  10.3665
  35TH20040604, OVIDE,    71,  1,     27,     27,2,20040623,1149, 50.6420, -22.9040, 3806,     48.3,  11.5550,  35.2620,2,  35.2640,2,    287.2,2,    284.3,2,     0.55,2,     4.88,   2,     0.34,2,   -999.0,9,   7.9190,2,    25.00,  11.5489
  35TH20040604, OVIDE,    71,  1,     28,     28,2,20040623,1149, 50.6420, -22.9040, 3806,      3.5,  14.7690,  35.3530,2,  35.3570,2,    258.9,2,    276.8,3,     0.51,2,     0.88,   2,     0.11,2,   2335.8,2,   7.9970,2,    25.00,  14.7685
  35TH20040604, OVIDE,    72,  1,      3,      3,2,20040623,1647, 50.2790, -22.6070, 4203,   4190.7,   2.5730,  34.9110,2,  34.9100,2,    241.4,2,    240.3,2,    45.69,2,    21.50,   2,     1.41,2,   -999.0,9,   7.7280,2,    25.00,   2.2004
  35TH20040604, OVIDE,    72,  1,      4,      4,2,20040623,1647, 50.2790, -22.6070, 4203,   3998.4,   2.5830,  34.9130,2,  34.9110,2,    241.9,2,    242.1,2,    44.06,2,    21.89,   2,     1.36,2,   -999.0,9,-999.0000,9,  -999.00,   2.2325
  35TH20040604, OVIDE,    72,  1,      5,      5,2,20040623,1647, 50.2790, -22.6070, 4203,   3747.0,   2.6500,  34.9230,2,  34.9200,2,    246.7,2,    246.6,2,    33.86,3,    20.95,   2,     1.32,2,   -999.0,9,   7.7280,2,    25.00,   2.3263
  35TH20040604, OVIDE,    72,  1,      6,      6,2,20040623,1647, 50.2790, -22.6070, 4203,   3497.6,   2.7250,  34.9320,2,  34.9340,2,    253.2,2,    253.1,2,    38.89,2,    19.96,   2,     1.27,2,   -999.0,9,   7.7280,2,    25.00,   2.4271
  35TH20040604, OVIDE,    72,  1,      7,      7,2,20040623,1647, 50.2790, -22.6070, 4203,   3247.1,   2.7850,  34.9370,2,  34.9350,2,    254.7,2,    255.8,2,    29.72,2,    19.30,   2,     1.16,2,   -999.0,9,   7.7280,2,    25.00,   2.5128
  35TH20040604, OVIDE,    72,  1,      8,      8,2,20040623,1647, 50.2790, -22.6070, 4203,   2997.2,   2.8790,  34.9400,2,  34.9400,2,    265.5,2,    265.2,2,    21.23,2,    18.86,   2,     1.11,2,   -999.0,9,-999.0000,9,  -999.00,   2.6311
  35TH20040604, OVIDE,    72,  1,      9,      9,2,20040623,1647, 50.2790, -22.6070, 4203,   2746.6,   2.9650,  34.9360,2,  34.9360,2,    269.3,2,    270.2,2,    16.07,2,    18.36,   2,     1.05,2,   -999.0,9,   7.7270,2,    25.00,   2.7411
  35TH20040604, OVIDE,    72,  1,     10,     10,2,20040623,1647, 50.2790, -22.6070, 4203,   2496.0,   3.0570,  34.9230,2,  34.9230,2,    271.5,2,    273.9,2,    14.10,2,    18.08,   2,     1.05,2,   -999.0,9,   7.7270,2,    25.00,   2.8564
  35TH20040604, OVIDE,    72,  1,     11,     11,2,20040623,1647, 50.2790, -22.6070, 4203,   2245.8,   3.1310,  34.9060,2,  34.9060,2,    277.6,2,    277.6,2,    12.55,2,    18.36,   2,     1.03,2,   -999.0,9,   7.7260,2,    25.00,   2.9535
  35TH20040604, OVIDE,    72,  1,     12,     12,2,20040623,1647, 50.2790, -22.6070, 4203,   1997.3,   3.1970,  34.8950,2,  34.8920,2,    279.7,2,    280.0,2,    11.66,2,    18.20,   2,     1.05,2,   -999.0,9,   7.7220,2,    25.00,   3.0419
  35TH20040604, OVIDE,    72,  1,     13,     13,2,20040623,1647, 50.2790, -22.6070, 4203,   1797.3,   3.2830,  34.8920,2,  34.8940,2,    280.2,2,    279.4,2,    11.19,2,    18.36,   2,     1.06,2,   -999.0,9,   7.7180,2,    25.00,   3.1449
  35TH20040604, OVIDE,    72,  1,     14,     14,2,20040623,1647, 50.2790, -22.6070, 4203,   1596.7,   3.4210,  34.8950,2,  34.8960,2,    276.0,2,    277.3,2,    11.00,2,    18.47,   2,     1.06,2,   -999.0,9,-999.0000,9,  -999.00,   3.2991
  35TH20040604, OVIDE,    72,  1,     15,     15,2,20040623,1647, 50.2790, -22.6070, 4203,   1395.6,   3.5990,  34.9030,2,  34.9010,2,    274.3,2,    274.3,2,    10.77,2,    17.31,   2,     1.07,2,   -999.0,9,   7.7140,2,    25.00,   3.4926
  35TH20040604, OVIDE,    72,  1,     16,     16,2,20040623,1647, 50.2790, -22.6070, 4203,   1195.1,   3.8300,  34.9130,2,  34.9130,2,    268.9,2,    269.7,2,    10.50,2,    18.42,   2,     1.07,2,   -999.0,9,   7.7150,2,    25.00,   3.7386
  35TH20040604, OVIDE,    72,  1,     17,     17,2,20040623,1647, 50.2790, -22.6070, 4203,    996.6,   4.1980,  34.9380,2,  34.9360,2,    260.7,2,    261.7,2,    10.65,2,    19.24,   2,     1.08,2,   -999.0,9,   7.7120,2,    25.00,   4.1204
  35TH20040604, OVIDE,    72,  1,     18,     18,2,20040623,1647, 50.2790, -22.6070, 4203,    896.9,   4.3360,  34.9390,2,  34.9400,2,    255.0,2,    259.0,2,    10.46,2,    17.53,   2,     1.08,2,   -999.0,9,   7.7090,2,    25.00,   4.2659
  35TH20040604, OVIDE,    72,  1,     19,     19,2,20040623,1647, 50.2790, -22.6070, 4203,    795.7,   4.8020,  34.9740,2,  34.9780,2,    247.8,2,    247.6,2,    10.69,2,    18.47,   2,     1.12,2,   -999.0,9,   7.7040,2,    25.00,   4.7375
  35TH20040604, OVIDE,    72,  1,     20,     20,2,20040623,1647, 50.2790, -22.6070, 4203,    696.0,   5.7150,  35.0590,2,  35.0560,2,    233.5,2,    229.6,2,    10.88,2,    18.47,   2,     1.14,2,   -999.0,9,   7.7090,2,    25.00,   5.6541
  35TH20040604, OVIDE,    72,  1,     21,     21,2,20040623,1647, 50.2790, -22.6070, 4203,    597.2,   6.4590,  35.1260,2,  35.0460,3,    215.5,2,    220.9,2,    10.88,2,    19.29,   2,     1.16,2,   -999.0,9,   7.7100,2,    25.00,   6.4037
  35TH20040604, OVIDE,    72,  1,     22,     22,2,20040623,1647, 50.2790, -22.6070, 4203,    597.1,   6.4950,  35.0910,2,  35.0510,3,    215.5,2,    220.9,2,    10.92,2,    18.91,   2,     1.14,2,   -999.0,9,   7.7100,2,    25.00,   6.4396
  35TH20040604, OVIDE,    72,  1,     23,     23,2,20040623,1647, 50.2790, -22.6070, 4203,    493.0,   6.9160,  35.0190,2,  35.0020,3,    216.1,2,    217.2,2,    10.61,2,    19.79,   2,     1.17,2,   -999.0,9,   7.7090,2,    25.00,   6.8691
  35TH20040604, OVIDE,    72,  1,     24,     24,2,20040623,1647, 50.2790, -22.6070, 4203,    435.7,   7.3110,  35.0100,2,  35.0110,2,    215.5,2,    213.0,2,    10.22,2,    19.35,   2,     1.15,2,   -999.0,9,   7.7130,2,    25.00,   7.2684
  35TH20040604, OVIDE,    72,  1,     25,     25,2,20040623,1647, 50.2790, -22.6070, 4203,    346.4,   8.5910,  35.0930,2,  35.0900,2,    218.2,2,    222.6,2,     8.21,2,    17.48,   2,     0.99,2,   -999.0,9,   7.7530,2,    25.00,   8.5540
  35TH20040604, OVIDE,    72,  1,     26,     26,2,20040623,1647, 50.2790, -22.6070, 4203,    196.9,  10.2150,  35.3060,2,  35.3070,2,    247.2,2,    226.0,3,     6.43,2,    14.33,   2,     0.81,2,   -999.0,9,   7.7980,2,    25.00,  10.1918
  35TH20040604, OVIDE,    72,  1,     27,     27,2,20040623,1647, 50.2790, -22.6070, 4203,    147.2,  10.7610,  35.3760,2,  35.3730,2,    239.0,2,    245.0,2,     4.76,2,    12.51,   2,     0.66,2,   -999.0,9,   7.8300,2,    25.00,  10.7431
  35TH20040604, OVIDE,    72,  1,     28,     28,2,20040623,1647, 50.2790, -22.6070, 4203,     95.8,  11.1760,  35.4230,2,  35.4230,2,    242.6,2,    248.2,2,     3.29,2,    11.13,   2,     0.58,2,   -999.0,9,   7.8490,2,    25.00,  11.1641
  35TH20040604, OVIDE,    72,  1,     29,     29,2,20040623,1647, 50.2790, -22.6070, 4203,     47.7,  12.6370,  35.3860,2,  35.3980,3,    260.7,2,    260.5,2,     1.24,2,     3.75,   2,     0.32,2,   -999.0,9,   7.9250,2,    25.00,  12.6306
  35TH20040604, OVIDE,    72,  1,     30,     30,2,20040623,1647, 50.2790, -22.6070, 4203,      4.3,  14.4540,  35.4510,2,  35.4530,2,    289.0,2,    285.8,2,     0.77,2,     0.06,   2,     0.03,2,   -999.0,9,   8.0450,2,    25.00,  14.4534