BOTTLE,20220120SIOCCHENA
EXPOCODE,SECT_ID,STNNBR,CASTNO,SAMPNO,BTLNBR,BTLNBR_FLAG_W,DATE,TIME,LATITUDE,LONGITUDE,DEPTH,CTDPRS,CTDTMP,CTDSAL,CTDSAL_FLAG_W,SALNTY,SALNTY_FLAG_W,CTDOXY,CTDOXY_FLAG_W,OXYGEN,OXYGEN_FLAG_W,SILCAT,SILCAT_FLAG_W,NITRAT,NITRAT_FLAG_W,PHSPHT,PHSPHT_FLAG_W,ALKALI,ALKALI_FLAG_W,PH_SWS,PH_SWS_FLAG_W,PH_TMP,THETA
,,,,,,,,,,,METERS,DBAR,ITS-90,PSS-78,,PSS-78,,UMOL/KG,,UMOL/KG,,UMOL/KG,,UMOL/KG,,UMOL/KG,,UMOL/KG,,,,DEG C,DEG C
  35TH20040604, OVIDE,    11,  1,      3,      3,2,20040613,0209, 59.7900, -42.2760, 1050,   1036.3,   4.0060,  34.9130,2,  34.9150,2,    279.3,2,    278.0,2,     9.23,2,    16.74,   2,     1.15,2,   2298.5,2,   7.7290,2,    25.00,   3.9265
  35TH20040604, OVIDE,    11,  1,      4,      4,2,20040613,0209, 59.7900, -42.2760, 1050,    996.6,   4.0170,  34.9120,2,  34.9130,2,    281.0,2,    278.0,2,     9.23,2,    16.74,   2,  -999.00,9,   2294.7,2,   7.7260,2,    25.00,   3.9408
  35TH20040604, OVIDE,    11,  1,      5,      5,2,20040613,0209, 59.7900, -42.2760, 1050,    895.2,   4.4890,  34.9310,2,  34.9320,2,    274.6,2,    276.9,2,     8.75,2,    16.44,   2,     1.11,2,   2295.9,2,   7.7330,2,    25.00,   4.4180
  35TH20040604, OVIDE,    11,  1,      6,      6,2,20040613,0209, 59.7900, -42.2760, 1050,    795.9,   4.8910,  34.9440,2,  34.9450,2,    280.5,2,    278.8,2,     8.26,2,    16.35,   2,     1.10,2,   2298.8,2,   7.7400,2,    25.00,   4.8259
  35TH20040604, OVIDE,    11,  1,      7,      7,2,20040613,0209, 59.7900, -42.2760, 1050,    697.9,   5.0660,  34.9400,2,  34.9440,2,    289.5,2,    283.4,2,     7.65,2,    14.66,   2,     1.05,2,   2296.4,2,   7.7490,2,    25.00,   5.0085
  35TH20040604, OVIDE,    11,  1,      8,      8,2,20040613,0209, 59.7900, -42.2760, 1050,    596.4,   5.1410,  34.9380,2,  34.9400,2,    284.2,2,    286.5,2,     7.37,2,    15.01,   2,     1.04,2,   2295.5,2,   7.7550,2,    25.00,   5.0920
  35TH20040604, OVIDE,    11,  1,      9,      9,2,20040613,0209, 59.7900, -42.2760, 1050,    497.9,   5.3280,  34.9530,2,  34.9550,2,    288.2,2,    286.4,2,     7.29,2,    15.44,   2,     1.05,2,   2299.9,2,   7.7570,2,    25.00,   5.2867
  35TH20040604, OVIDE,    11,  1,     10,     10,2,20040613,0209, 59.7900, -42.2760, 1050,    397.5,   5.3660,  34.9460,2,  34.9480,2,    291.0,2,    288.8,2,     7.09,2,    14.92,   2,     1.03,2,   2294.5,2,   7.7620,2,    25.00,   5.3332
  35TH20040604, OVIDE,    11,  1,     11,     11,2,20040613,0209, 59.7900, -42.2760, 1050,    298.2,   5.7310,  34.9760,2,  34.9820,2,    292.4,2,    290.1,2,     6.92,2,    14.49,   2,     1.03,2,   2298.5,2,   7.7680,2,    25.00,   5.7058
  35TH20040604, OVIDE,    11,  1,     12,     12,2,20040613,0209, 59.7900, -42.2760, 1050,    197.9,   5.9910,  34.9940,2,  34.9990,2,    293.9,2,    290.9,2,     6.76,2,    14.14,   2,     1.00,2,   2303.2,2,   7.7720,2,    25.00,   5.9740
  35TH20040604, OVIDE,    11,  1,     13,     13,2,20040613,0209, 59.7900, -42.2760, 1050,    147.8,   6.3670,  35.0270,2,  35.0310,2,    298.6,2,    296.3,2,     6.52,2,    14.01,   2,     0.98,2,   2303.3,2,   7.7810,2,    25.00,   6.3539
  35TH20040604, OVIDE,    11,  1,     14,     14,2,20040613,0209, 59.7900, -42.2760, 1050,     96.6,   6.2100,  34.9630,2,  34.9630,2,    307.0,2,    300.3,2,     6.16,2,    13.27,   2,     0.91,2,   2298.5,2,   7.7870,2,    25.00,   6.2016
  35TH20040604, OVIDE,    11,  1,     15,     15,2,20040613,0209, 59.7900, -42.2760, 1050,     46.6,   5.9250,  34.9020,2,  34.9040,2,    310.8,2,    302.1,2,     5.95,2,    13.10,   2,     0.91,2,   2298.7,2,   7.7900,2,    25.00,   5.9211
  35TH20040604, OVIDE,    11,  1,     16,     16,2,20040613,0209, 59.7900, -42.2760, 1050,      2.1,   5.9020,  34.8970,2,  34.8980,2,    305.8,2,    302.6,2,     5.87,2,    13.10,   2,     0.90,2,   2297.9,2,   7.7910,2,    25.00,   5.9018
  35TH20040604, OVIDE,    12,  1,      3,      3,2,20040613,1940, 59.8610, -42.9310,  197,    185.8,   2.9720,  34.2540,2,  34.2550,2,    323.9,2,    317.0,2,     5.42,2,    10.78,   2,     0.89,2,   2263.6,2,   7.7660,2,    25.00,   2.9607
  35TH20040604, OVIDE,    12,  1,      4,      4,2,20040613,1940, 59.8610, -42.9310,  197,    147.5,   2.1520,  34.0090,2,  34.0560,3,    330.3,2,    323.0,2,     4.84,2,     9.85,   2,     0.84,2,   2250.1,2,   7.7690,2,    25.00,   2.1441
  35TH20040604, OVIDE,    12,  1,      5,      5,2,20040613,1940, 59.8610, -42.9310,  197,    108.7,   0.0120,  33.3390,2,  33.3550,3,    333.9,2,    336.1,2,     3.67,2,     8.20,   2,     0.75,2,   2217.0,2,   7.7690,2,    25.00,   0.0083
  35TH20040604, OVIDE,    12,  1,      6,      6,2,20040613,1940, 59.8610, -42.9310,  197,     48.9,  -1.2230,  32.6190,2,  32.6650,3,    344.1,2,    352.1,2,     2.00,2,     5.86,   2,     0.63,2,   2172.5,2,   7.7980,2,    25.00,  -1.2240
  35TH20040604, OVIDE,    12,  1,      7,      7,2,20040613,1940, 59.8610, -42.9310,  197,     28.8,  -1.3990,  32.3830,2,  32.3440,3,    372.0,2,    362.8,2,     1.25,2,     4.55,   2,     0.57,2,   2151.5,2,   7.8280,2,    25.00,  -1.3995
  35TH20040604, OVIDE,    12,  1,      8,      8,2,20040613,1940, 59.8610, -42.9310,  197,      3.8,  -1.2610,  31.7500,2,  31.7540,2,    375.9,2,    384.6,2,     0.46,2,     2.30,   2,     0.40,2,   2113.9,2,   7.8770,2,    25.00,  -1.2611
  35TH20040604, OVIDE,    14,  1,      3,      3,2,20040613,2151, 59.8430, -42.6820,  195,    181.1,   5.6710,  34.8690,2,  34.9170,3,    299.3,2,    302.8,2,     6.27,2,    13.04,   2,     0.96,2,   -999.0,9,   7.7830,2,    25.00,   5.6559
  35TH20040604, OVIDE,    14,  1,      4,      4,2,20040613,2151, 59.8430, -42.6820,  195,    148.6,   4.5210,  34.5550,2,  34.5520,2,    306.0,2,    312.3,2,     5.61,2,    11.53,   2,     0.90,2,   -999.0,9,   7.7780,2,    25.00,   4.5101
  35TH20040604, OVIDE,    14,  1,      5,      5,2,20040613,2151, 59.8430, -42.6820,  195,    107.2,   3.0000,  34.1920,2,  34.1730,3,    314.5,2,    319.5,2,     4.82,2,    10.35,   2,     0.85,2,   -999.0,9,   7.7770,2,    25.00,   2.9935
  35TH20040604, OVIDE,    14,  1,      6,      6,2,20040613,2151, 59.8430, -42.6820,  195,     47.4,  -0.3640,  33.2350,2,  33.2360,2,    347.9,2,    340.7,2,     3.28,2,     7.66,   2,     0.75,2,   -999.0,9,   7.7920,2,    25.00,  -0.3654
  35TH20040604, OVIDE,    14,  1,      7,      7,2,20040613,2151, 59.8430, -42.6820,  195,     17.3,  -1.3760,  32.2540,2,  32.3110,3,    379.2,2,    369.7,2,     1.16,2,     4.09,   2,     0.51,2,   -999.0,9,   7.8370,2,    25.00,  -1.3763
  35TH20040604, OVIDE,    14,  1,      8,      8,2,20040613,2151, 59.8430, -42.6820,  195,      2.8,  -1.3910,  31.6430,2,  31.6550,3,    380.9,2,    387.8,2,     0.42,2,     2.02,   2,     0.39,2,   -999.0,9,   7.8880,2,    25.00,  -1.3910
  35TH20040604, OVIDE,    16,  1,      3,      3,2,20040614,0027, 59.7280, -42.4360,  601,    587.0,   4.9470,  34.9350,2,  34.9360,2,    277.9,2,    282.6,2,     7.79,2,    14.89,   2,     1.04,2,   2300.3,2,   7.7470,2,    25.00,   4.8997
  35TH20040604, OVIDE,    16,  1,      4,      4,2,20040614,0027, 59.7280, -42.4360,  601,    545.7,   4.9500,  34.9350,2,  34.9360,2,    279.5,2,    282.9,2,     7.79,2,    14.72,   2,     1.04,2,   2306.5,2,   7.7460,2,    25.00,   4.9062
  35TH20040604, OVIDE,    16,  1,      5,      5,2,20040614,0027, 59.7280, -42.4360,  601,    496.0,   5.0900,  34.9370,2,  34.9410,2,    280.2,2,    284.3,2,     7.66,2,    14.89,   2,     1.03,2,   2305.0,2,   7.7510,2,    25.00,   5.0498
  35TH20040604, OVIDE,    16,  1,      6,      6,2,20040614,0027, 59.7280, -42.4360,  601,    395.8,   5.1930,  34.9450,2,  34.9440,2,    281.2,2,    285.6,2,     7.54,2,    15.06,   2,     1.04,2,   2305.2,2,   7.7540,2,    25.00,   5.1609
  35TH20040604, OVIDE,    16,  1,      7,      7,2,20040614,0027, 59.7280, -42.4360,  601,    295.2,   5.5210,  34.9780,2,  34.9810,2,    278.5,2,    283.1,2,     7.62,2,    15.35,   2,     1.08,2,   2305.4,2,   7.7560,2,    25.00,   5.4965
  35TH20040604, OVIDE,    16,  1,      8,      8,2,20040614,0027, 59.7280, -42.4360,  601,    196.6,   5.7250,  34.9550,2,  34.9550,2,    290.1,2,    292.8,2,     6.87,2,    14.05,   2,     1.00,2,   2304.3,2,   7.7710,2,    25.00,   5.7085
  35TH20040604, OVIDE,    16,  1,      9,      9,2,20040614,0027, 59.7280, -42.4360,  601,    147.3,   5.8100,  34.9490,2,  34.9460,2,    292.0,2,    295.2,2,     6.70,2,    13.71,   2,     0.96,2,   2308.5,2,   7.7750,2,    25.00,   5.7976
  35TH20040604, OVIDE,    16,  1,     10,     10,2,20040614,0027, 59.7280, -42.4360,  601,     80.5,   5.6390,  34.8480,2,  34.8610,3,    298.6,2,    301.8,2,     6.37,2,    12.87,   2,     0.94,2,   2299.0,2,   7.7830,2,    25.00,   5.6324
  35TH20040604, OVIDE,    16,  1,     11,     11,2,20040614,0027, 59.7280, -42.4360,  601,     48.0,   5.6760,  34.8380,2,  34.8330,2,    305.3,2,    305.2,2,     6.24,2,    12.49,   2,     0.91,2,   2302.6,2,   7.7870,2,    25.00,   5.6721
  35TH20040604, OVIDE,    16,  1,     12,     12,2,20040614,0027, 59.7280, -42.4360,  601,     18.1,   5.7280,  34.8390,2,  34.8390,2,    313.5,2,    306.6,2,     6.20,2,    12.33,   2,  -999.00,9,   2301.0,2,   7.7920,2,    25.00,   5.7265
  35TH20040604, OVIDE,    16,  1,     13,     13,2,20040614,0027, 59.7280, -42.4360,  601,      1.8,   0.3970,  32.9130,2,  33.0000,3,    341.9,2,    355.3,2,     2.35,2,     6.36,   2,     0.63,2,   2198.2,2,   7.8220,2,    25.00,   0.3969
  35TH20040604, OVIDE,    16,  1,     14,     14,2,20040614,0027, 59.7280, -42.4360,  601,      1.6,   0.7620,  33.0610,2,  32.8880,3,    341.9,2,    352.3,2,  -999.00,9,  -999.00,   9,  -999.00,9,   2189.9,2,   7.8220,2,    25.00,   0.7619
  35TH20040604, OVIDE,    17,  1,      3,      3,2,20040614,0243, 59.8020, -42.2380, 1235,   1221.0,   3.3920,  34.8970,2,  34.9010,2,    281.7,2,    281.2,2,     9.93,2,    16.44,   2,     1.12,2,   -999.0,9,   7.7250,2,    25.00,   3.3025
  35TH20040604, OVIDE,    17,  1,      4,      4,2,20040614,0243, 59.8020, -42.2380, 1235,   1142.5,   3.6110,  34.9040,2,  34.9070,2,    282.5,2,    279.9,2,     9.64,2,    15.67,   2,     1.11,2,   -999.0,9,   7.7230,2,    25.00,   3.5260
  35TH20040604, OVIDE,    17,  1,      5,      5,2,20040614,0243, 59.8020, -42.2380, 1235,   1097.3,   3.7580,  34.9040,2,  34.9070,2,    282.7,2,    279.3,2,     9.51,2,    16.01,   2,     1.14,2,   -999.0,9,   7.7250,2,    25.00,   3.6755
  35TH20040604, OVIDE,    17,  1,      6,      6,2,20040614,0243, 59.8020, -42.2380, 1235,   1047.2,   4.1500,  34.9160,2,  34.9180,2,    281.1,2,    279.6,2,     9.18,2,    16.14,   2,     1.12,2,   -999.0,9,   7.7260,2,    25.00,   4.0685
  35TH20040604, OVIDE,    17,  1,      7,      7,2,20040614,0243, 59.8020, -42.2380, 1235,    995.4,   4.4490,  34.9240,2,  34.9290,2,    278.4,2,    277.3,2,     8.81,2,    15.92,   2,     1.10,2,   -999.0,9,   7.7320,2,    25.00,   4.3696
  35TH20040604, OVIDE,    17,  1,      8,      8,2,20040614,0243, 59.8020, -42.2380, 1235,    896.0,   4.7690,  34.9270,2,  34.9260,2,    284.9,2,    288.4,3,     8.19,2,    15.37,   2,     1.06,2,   -999.0,9,   7.7410,2,    25.00,   4.6960
  35TH20040604, OVIDE,    17,  1,      9,      9,2,20040614,0243, 59.8020, -42.2380, 1235,    797.2,   4.8510,  34.9290,2,  34.9320,2,    286.3,2,    282.3,2,     7.98,2,    15.24,   2,     1.06,2,   -999.0,9,   7.7430,2,    25.00,   4.7861
  35TH20040604, OVIDE,    17,  1,     10,     10,2,20040614,0243, 59.8020, -42.2380, 1235,    796.7,   4.8540,  34.9290,2,  34.9350,2,    286.3,2,    282.3,2,     7.98,2,    15.28,   2,     1.06,2,   -999.0,9,   7.7450,2,    25.00,   4.7891
  35TH20040604, OVIDE,    17,  1,     11,     11,2,20040614,0243, 59.8020, -42.2380, 1235,    698.1,   4.9250,  34.9310,2,  34.9360,2,    284.8,2,    282.9,2,     7.82,2,    15.24,   2,     1.06,2,   -999.0,9,   7.7460,2,    25.00,   4.8683
  35TH20040604, OVIDE,    17,  1,     12,     12,2,20040614,0243, 59.8020, -42.2380, 1235,    597.3,   4.9320,  34.9320,2,  34.9330,2,    284.3,2,    282.9,2,     7.77,2,    14.08,   2,     1.06,2,   -999.0,9,   7.7480,2,    25.00,   4.8839
  35TH20040604, OVIDE,    17,  1,     13,     13,2,20040614,0243, 59.8020, -42.2380, 1235,    497.4,   4.9580,  34.9330,2,  34.9350,2,    285.5,2,    282.7,2,     7.73,2,    13.65,   2,     1.06,2,   -999.0,9,   7.7480,2,    25.00,   4.9182
  35TH20040604, OVIDE,    17,  1,     14,     14,2,20040614,0243, 59.8020, -42.2380, 1235,    396.5,   4.9720,  34.9310,2,  34.9350,2,    287.1,2,    285.6,2,     7.61,2,    13.70,   2,     1.06,2,   -999.0,9,   7.7500,2,    25.00,   4.9405
  35TH20040604, OVIDE,    17,  1,     15,     15,2,20040614,0243, 59.8020, -42.2380, 1235,    297.3,   5.3910,  34.9710,2,  34.9740,2,    289.2,2,    282.6,2,     7.77,2,    15.28,   2,     1.06,2,   -999.0,9,   7.7530,2,    25.00,   5.3666
  35TH20040604, OVIDE,    17,  1,     16,     16,2,20040614,0243, 59.8020, -42.2380, 1235,    197.5,   6.1890,  35.0540,2,  35.0570,2,    289.6,2,    282.8,2,     7.48,2,    15.32,   2,     1.04,2,   -999.0,9,   7.7630,2,    25.00,   6.1717
  35TH20040604, OVIDE,    17,  1,     17,     17,2,20040614,0243, 59.8020, -42.2380, 1235,    145.1,   6.4070,  35.0680,2,  35.0700,2,    291.7,2,    283.6,2,     7.28,2,    14.98,   2,     1.00,2,   -999.0,9,   7.7700,2,    25.00,   6.3941
  35TH20040604, OVIDE,    17,  1,     18,     18,2,20040614,0243, 59.8020, -42.2380, 1235,     95.5,   6.5370,  35.0530,2,  35.0570,2,    291.7,2,    291.3,2,     6.78,2,    14.17,   2,     0.99,2,   -999.0,9,   7.7810,2,    25.00,   6.5284
  35TH20040604, OVIDE,    17,  1,     19,     19,2,20040614,0243, 59.8020, -42.2380, 1235,     46.9,   6.7970,  35.0240,2,  35.0260,2,    309.0,2,    302.1,2,     5.91,2,    12.46,   2,     0.91,2,   -999.0,9,   7.8050,2,    25.00,   6.7927
  35TH20040604, OVIDE,    17,  1,     20,     20,2,20040614,0243, 59.8020, -42.2380, 1235,     22.7,   6.6150,  34.9600,2,  34.9920,3,    310.9,2,    303.4,2,     5.79,2,    12.20,   2,     0.90,2,   -999.0,9,   7.8060,2,    25.00,   6.6130
  35TH20040604, OVIDE,    17,  1,     21,     21,2,20040614,0243, 59.8020, -42.2380, 1235,      2.6,   4.9340,  34.3720,2,  34.4490,3,    319.5,2,    315.1,2,     4.72,2,    10.79,   2,     0.83,2,   -999.0,9,   7.8090,2,    25.00,   4.9338
  35TH20040604, OVIDE,    18,  1,      3,      3,2,20040614,0523, 59.7910, -41.9850, 1747,   1732.3,   2.7640,  34.8750,2,  34.8730,2,    287.4,2,    287.2,2,     9.88,2,    15.60,   2,     1.09,2,   2299.8,2,   7.7250,2,    25.00,   2.6386
  35TH20040604, OVIDE,    18,  1,      4,      4,2,20040614,0523, 59.7910, -41.9850, 1747,   1696.2,   2.8550,  34.8810,2,  34.8790,2,    287.2,2,    287.1,2,     9.92,2,    15.43,   2,     1.10,2,   2301.0,2,   7.7220,2,    25.00,   2.7315
  35TH20040604, OVIDE,    18,  1,      5,      5,2,20040614,0523, 59.7910, -41.9850, 1747,   1646.1,   2.9270,  34.8820,2,  34.8840,2,    286.5,2,    285.9,2,     9.88,3,    15.13,   3,     1.14,2,   2301.0,2,   7.7210,2,    25.00,   2.8069
  35TH20040604, OVIDE,    18,  1,      6,      6,2,20040614,0523, 59.7910, -41.9850, 1747,   1596.1,   3.0450,  34.8860,2,  34.8840,2,    285.1,2,    285.3,2,     9.92,2,    15.90,   2,     1.11,2,   2298.4,2,   7.7210,2,    25.00,   2.9277
  35TH20040604, OVIDE,    18,  1,      7,      7,2,20040614,0523, 59.7910, -41.9850, 1747,   1546.2,   3.1180,  34.8870,2,  34.8870,2,    284.3,2,    284.3,2,     9.96,2,    16.07,   2,     1.14,2,   2299.8,2,   7.7230,2,    25.00,   3.0041
  35TH20040604, OVIDE,    18,  1,      8,      8,2,20040614,0523, 59.7910, -41.9850, 1747,   1494.9,   3.1660,  34.8900,2,  34.8880,2,    281.8,2,    283.5,2,     9.96,3,    15.47,   3,     1.12,2,   2303.7,2,   7.7220,2,    25.00,   3.0559
  35TH20040604, OVIDE,    18,  1,      9,      9,2,20040614,0523, 59.7910, -41.9850, 1747,   1446.4,   3.2120,  34.8920,2,  34.8900,2,    282.8,2,    283.1,2,     9.88,2,    15.90,   2,     1.12,2,   2303.6,2,   7.7220,2,    25.00,   3.1055
  35TH20040604, OVIDE,    18,  1,     10,     10,2,20040614,0523, 59.7910, -41.9850, 1747,   1396.7,   3.2530,  34.8930,2,  34.8950,2,    281.5,2,    282.8,2,     9.80,2,    16.07,   2,     1.12,2,   2304.2,2,   7.7190,2,    25.00,   3.1502
  35TH20040604, OVIDE,    18,  1,     11,     11,2,20040614,0523, 59.7910, -41.9850, 1747,   1196.3,   3.4990,  34.9000,2,  34.8970,2,    282.0,2,    281.4,2,     9.60,2,    16.15,   2,     1.12,2,   2303.3,2,   7.7200,2,    25.00,   3.4105
  35TH20040604, OVIDE,    18,  1,     12,     12,2,20040614,0523, 59.7910, -41.9850, 1747,    992.4,   3.7700,  34.9060,2,  34.9070,2,    273.0,2,    279.4,2,     9.39,2,    16.24,   2,     1.13,2,   2303.8,2,   7.7200,2,    25.00,   3.6961
  35TH20040604, OVIDE,    18,  1,     13,     13,2,20040614,0523, 59.7910, -41.9850, 1747,    895.6,   3.8770,  34.9100,2,  34.9120,2,    274.1,2,    278.6,2,     9.19,2,    16.15,   2,     1.10,2,   2303.8,2,   7.7210,2,    25.00,   3.8102
  35TH20040604, OVIDE,    18,  1,     14,     14,2,20040614,0523, 59.7910, -41.9850, 1747,    796.2,   4.0020,  34.9120,2,  34.9140,2,    272.9,2,    278.1,2,     9.11,2,    16.07,   2,     1.11,2,   2301.8,2,   7.7230,2,    25.00,   3.9424
  35TH20040604, OVIDE,    18,  1,     15,     15,2,20040614,0523, 59.7910, -41.9850, 1747,    697.0,   4.1080,  34.9150,2,  34.9180,2,    272.5,2,    278.0,2,     9.03,2,    16.11,   2,     1.11,2,   2299.7,2,   7.7200,2,    25.00,   4.0558
  35TH20040604, OVIDE,    18,  1,     16,     16,2,20040614,0523, 59.7910, -41.9850, 1747,    596.4,   4.2310,  34.9130,2,  34.9150,2,    273.9,2,    278.4,2,     8.66,2,    15.17,   2,     1.11,2,   2300.7,2,   7.7270,2,    25.00,   4.1862
  35TH20040604, OVIDE,    18,  1,     17,     17,2,20040614,0523, 59.7910, -41.9850, 1747,    497.5,   4.6440,  34.9420,2,  34.9420,2,    269.5,2,    272.5,2,     8.86,2,    15.04,   2,     1.12,2,   2302.7,2,   7.7260,2,    25.00,   4.6054
  35TH20040604, OVIDE,    18,  1,     18,     18,2,20040614,0523, 59.7910, -41.9850, 1747,    437.6,   4.8600,  34.9410,2,  34.9420,2,    267.4,2,    278.4,2,     8.13,2,    15.26,   2,     1.08,2,   2303.4,2,   7.7330,2,    25.00,   4.8255
  35TH20040604, OVIDE,    18,  1,     19,     19,2,20040614,0523, 59.7910, -41.9850, 1747,    396.0,   5.0260,  34.9510,2,  34.9520,2,    270.4,2,    279.7,2,     7.97,2,    15.60,   2,     1.08,2,   2305.1,2,   7.7400,2,    25.00,   4.9944
  35TH20040604, OVIDE,    18,  1,     20,     20,2,20040614,0523, 59.7910, -41.9850, 1747,    297.6,   5.3930,  34.9780,2,  34.9800,2,    278.4,2,    280.7,2,     7.72,2,    15.47,   2,     1.07,2,   2307.5,2,   7.7460,2,    25.00,   5.3686
  35TH20040604, OVIDE,    18,  1,     21,     21,2,20040614,0523, 59.7910, -41.9850, 1747,    197.5,   5.9050,  35.0250,2,  35.0270,2,    286.2,2,    283.4,2,     7.40,2,    15.26,   2,     1.06,2,   2307.6,2,   7.7540,2,    25.00,   5.8881
  35TH20040604, OVIDE,    18,  1,     22,     22,2,20040614,0523, 59.7910, -41.9850, 1747,    147.6,   6.2530,  35.0560,2,  35.0510,2,    292.9,2,    284.6,2,     7.24,2,    15.21,   2,     1.04,2,   2308.1,2,   7.7610,2,    25.00,   6.2401
  35TH20040604, OVIDE,    18,  1,     23,     23,2,20040614,0523, 59.7910, -41.9850, 1747,     97.4,   6.3480,  35.0430,2,  35.0410,2,    295.3,2,    292.0,2,     6.83,2,    13.81,   2,     0.99,2,   2311.0,2,   7.7800,2,    25.00,   6.3394
  35TH20040604, OVIDE,    18,  1,     24,     24,2,20040614,0523, 59.7910, -41.9850, 1747,     48.2,   6.7520,  35.0240,2,  35.0210,2,    300.3,2,    302.7,2,     5.77,2,    12.32,   2,     0.89,2,   2308.3,2,   7.8000,2,    25.00,   6.7476
  35TH20040604, OVIDE,    18,  1,     25,     25,2,20040614,0523, 59.7910, -41.9850, 1747,      4.7,   6.4810,  34.9350,2,  34.9380,2,    305.8,2,    304.1,2,     5.45,2,    12.32,   2,     0.86,2,   2303.3,2,   7.8020,2,    25.00,   6.4806