BOTTLE,20220120SIOCCHENA
EXPOCODE,SECT_ID,STNNBR,CASTNO,SAMPNO,BTLNBR,BTLNBR_FLAG_W,DATE,TIME,LATITUDE,LONGITUDE,DEPTH,CTDPRS,CTDTMP,CTDSAL,CTDSAL_FLAG_W,SALNTY,SALNTY_FLAG_W,CTDOXY,CTDOXY_FLAG_W,OXYGEN,OXYGEN_FLAG_W,SILCAT,SILCAT_FLAG_W,NITRAT,NITRAT_FLAG_W,PHSPHT,PHSPHT_FLAG_W,ALKALI,ALKALI_FLAG_W,PH_SWS,PH_SWS_FLAG_W,PH_TMP,THETA
,,,,,,,,,,,METERS,DBAR,ITS-90,PSS-78,,PSS-78,,UMOL/KG,,UMOL/KG,,UMOL/KG,,UMOL/KG,,UMOL/KG,,UMOL/KG,,,,DEG C,DEG C
  35TH20040604, OVIDE,    31,  1,      3,      3,2,20040616,0847, 59.1600, -34.4780, 2541,   2526.5,   2.8800,  34.9250,2,  34.9230,2,    279.5,2,    277.7,2,    13.05,2,    16.78,   2,     1.21,2,   -999.0,9,   7.7270,2,    25.00,   2.6797
  35TH20040604, OVIDE,    31,  1,      4,      4,2,20040616,0847, 59.1600, -34.4780, 2541,   2497.2,   2.8910,  34.9260,2,  34.9220,2,    279.5,2,    277.6,2,    13.09,2,    16.23,   2,     1.24,2,   -999.0,9,   7.7270,2,    25.00,   2.6934
  35TH20040604, OVIDE,    31,  1,      5,      5,2,20040616,0847, 59.1600, -34.4780, 2541,   2443.8,   2.9480,  34.9290,2,  34.9290,2,    278.8,2,    277.0,2,    12.93,2,    16.83,   2,     1.27,2,   -999.0,9,   7.7280,2,    25.00,   2.7545
  35TH20040604, OVIDE,    31,  1,      6,      6,2,20040616,0847, 59.1600, -34.4780, 2541,   2444.9,   2.9480,  34.9290,2,  34.9270,2,    278.8,2,    277.4,2,    12.85,2,    16.13,   2,     1.29,2,   -999.0,9,   7.7280,2,    25.00,   2.7544
  35TH20040604, OVIDE,    31,  1,      7,      7,2,20040616,0847, 59.1600, -34.4780, 2541,   2396.9,   2.9740,  34.9300,2,  34.9240,2,    278.6,2,    276.8,2,    12.81,2,    15.68,   2,     1.29,2,   -999.0,9,   7.7270,2,    25.00,   2.7846
  35TH20040604, OVIDE,    31,  1,      8,      8,2,20040616,0847, 59.1600, -34.4780, 2541,   2346.8,   3.0090,  34.9310,2,  34.9290,2,    278.9,2,    276.8,2,    12.72,3,    14.94,   3,     1.30,2,   -999.0,9,   7.7250,2,    25.00,   2.8238
  35TH20040604, OVIDE,    31,  1,      9,      9,2,20040616,0847, 59.1600, -34.4780, 2541,   2296.1,   3.0450,  34.9310,2,  34.9230,2,    278.9,2,    276.5,2,    12.52,2,    15.83,   2,     1.30,2,   -999.0,9,   7.7250,2,    25.00,   2.8641
  35TH20040604, OVIDE,    31,  1,     10,     10,2,20040616,0847, 59.1600, -34.4780, 2541,   2195.3,   3.0860,  34.9320,2,  34.9290,2,    278.1,2,    276.6,2,    12.23,2,    16.08,   2,     1.29,2,   -999.0,9,   7.7250,2,    25.00,   2.9140
  35TH20040604, OVIDE,    31,  1,     11,     11,2,20040616,0847, 59.1600, -34.4780, 2541,   1997.1,   3.1630,  34.9330,2,  34.9240,2,    278.8,2,    277.0,2,    11.86,2,    16.98,   2,     1.26,2,   -999.0,9,   7.7240,2,    25.00,   3.0083
  35TH20040604, OVIDE,    31,  1,     12,     12,2,20040616,0847, 59.1600, -34.4780, 2541,   1794.8,   3.2310,  34.9270,2,  34.9210,2,    278.0,2,    279.3,2,    11.20,3,    15.54,   3,     1.29,2,   -999.0,9,   7.7280,2,    25.00,   3.0938
  35TH20040604, OVIDE,    31,  1,     13,     13,2,20040616,0847, 59.1600, -34.4780, 2541,   1596.8,   3.4090,  34.9410,2,  34.9360,2,    278.5,2,    275.9,2,    11.04,2,    16.93,   2,     1.29,2,   -999.0,9,   7.7220,2,    25.00,   3.2871
  35TH20040604, OVIDE,    31,  1,     14,     14,2,20040616,0847, 59.1600, -34.4780, 2541,   1395.9,   3.5040,  34.9430,2,  34.9360,2,    275.0,2,    274.9,2,    10.83,2,    16.93,   2,     1.25,2,   -999.0,9,   7.7230,2,    25.00,   3.3985
  35TH20040604, OVIDE,    31,  1,     15,     15,2,20040616,0847, 59.1600, -34.4780, 2541,   1196.1,   3.6320,  34.9380,2,  34.9320,2,    275.1,2,    272.1,2,    10.71,2,    16.88,   2,     1.29,2,   -999.0,9,   7.7220,2,    25.00,   3.5423
  35TH20040604, OVIDE,    31,  1,     16,     16,2,20040616,0847, 59.1600, -34.4780, 2541,    997.3,   3.8530,  34.9360,2,  34.9340,2,    266.0,2,    269.3,2,    10.62,3,    15.24,   3,     1.35,2,   -999.0,9,   7.7170,2,    25.00,   3.7780
  35TH20040604, OVIDE,    31,  1,     17,     17,2,20040616,0847, 59.1600, -34.4780, 2541,    895.5,   4.0150,  34.9390,2,  34.9300,2,    265.2,2,    265.9,2,    10.71,3,    17.92,   3,     1.35,2,   -999.0,9,   7.7160,2,    25.00,   3.9472
  35TH20040604, OVIDE,    31,  1,     18,     18,2,20040616,0847, 59.1600, -34.4780, 2541,    796.0,   4.2100,  34.9410,2,  34.9360,2,    263.1,2,    262.5,2,    10.54,2,    15.73,   2,     1.30,2,   -999.0,9,   7.7130,2,    25.00,   4.1491
  35TH20040604, OVIDE,    31,  1,     19,     19,2,20040616,0847, 59.1600, -34.4780, 2541,    695.9,   4.4790,  34.9540,2,  34.9490,2,    257.1,2,    256.5,2,    10.50,2,    16.18,   2,     1.29,2,   -999.0,9,   7.7070,2,    25.00,   4.4248
  35TH20040604, OVIDE,    31,  1,     20,     20,2,20040616,0847, 59.1600, -34.4780, 2541,    596.3,   4.8740,  34.9820,2,  34.9760,2,    246.2,2,    248.5,2,    10.58,3,    16.78,   3,     1.32,2,   -999.0,9,   7.7060,2,    25.00,   4.8262
  35TH20040604, OVIDE,    31,  1,     21,     21,2,20040616,0847, 59.1600, -34.4780, 2541,    545.5,   4.7750,  34.9410,2,  34.9380,2,    256.4,2,    265.1,3,     9.64,3,    15.38,   3,     1.27,2,   -999.0,9,   7.7100,2,    25.00,   4.7319
  35TH20040604, OVIDE,    31,  1,     22,     22,2,20040616,0847, 59.1600, -34.4780, 2541,    495.0,   5.1300,  34.9730,2,  34.9710,2,    243.8,2,    250.8,3,    10.29,3,    15.58,   3,     1.39,2,   -999.0,9,   7.7050,2,    25.00,   5.0897
  35TH20040604, OVIDE,    31,  1,     23,     23,2,20040616,0847, 59.1600, -34.4780, 2541,    395.8,   5.4780,  34.9740,2,  34.9700,2,    248.8,2,    251.5,2,     9.96,2,    18.22,   2,     1.33,2,   -999.0,9,   7.7100,2,    25.00,   5.4450
  35TH20040604, OVIDE,    31,  1,     24,     24,2,20040616,0847, 59.1600, -34.4780, 2541,    297.5,   6.1050,  35.0140,2,  35.0120,2,    259.4,2,    249.0,3,     9.51,2,    17.62,   2,     1.30,2,   -999.0,9,   7.7220,2,    25.00,   6.0789
  35TH20040604, OVIDE,    31,  1,     25,     25,2,20040616,0847, 59.1600, -34.4780, 2541,    196.9,   6.4190,  34.9890,2,  34.9890,2,    270.2,2,    270.6,2,     8.07,2,    15.93,   2,     1.19,2,   -999.0,9,   7.7470,2,    25.00,   6.4014
  35TH20040604, OVIDE,    31,  1,     26,     26,2,20040616,0847, 59.1600, -34.4780, 2541,    145.2,   6.7380,  35.0060,2,  35.0010,2,    280.7,2,    274.0,3,     7.54,2,    15.34,   2,     1.21,2,   -999.0,9,   7.7540,2,    25.00,   6.7247
  35TH20040604, OVIDE,    31,  1,     27,     27,2,20040616,0847, 59.1600, -34.4780, 2541,     85.5,   7.3000,  34.9990,2,  34.9960,2,    280.1,2,    288.3,3,     6.38,2,    10.70,   2,     1.02,2,   -999.0,9,   7.7920,2,    25.00,   7.2919
  35TH20040604, OVIDE,    31,  1,     28,     28,2,20040616,0847, 59.1600, -34.4780, 2541,     46.0,   8.7460,  35.0040,2,  34.9980,2,    282.2,2,    293.1,3,     4.04,2,     7.72,   2,     0.79,2,   -999.0,9,   7.8380,2,    25.00,   8.7411
  35TH20040604, OVIDE,    31,  1,     29,     29,2,20040616,0847, 59.1600, -34.4780, 2541,      2.8,   8.7890,  35.0050,2,  35.0040,2,    277.1,2,    292.7,3,     3.87,2,     8.56,   2,     0.80,2,   -999.0,9,   7.8400,2,    25.00,   8.7887
  35TH20040604, OVIDE,    32,  1,      3,      3,2,20040616,1250, 59.1040, -33.8330, 2308,   2293.4,   3.0360,  34.9380,2,  34.9360,2,   -999.0,9,    275.9,2,    12.88,3,    14.83,   3,     1.23,2,   2308.9,2,   7.7260,2,    25.00,   2.8554
  35TH20040604, OVIDE,    32,  1,      4,      4,2,20040616,1250, 59.1040, -33.8330, 2308,   2244.7,   3.0410,  34.9390,2,  34.9320,2,    275.2,2,    275.7,2,    12.75,3,    14.54,   3,     1.19,2,   -999.0,9,-999.0000,9,  -999.00,   2.8650
  35TH20040604, OVIDE,    32,  1,      5,      5,2,20040616,1250, 59.1040, -33.8330, 2308,   2196.1,   3.0720,  34.9430,2,  34.9420,2,    277.5,2,    275.8,2,    12.63,2,    17.13,   2,     1.18,2,   2307.8,2,   7.7270,2,    25.00,   2.9001
  35TH20040604, OVIDE,    32,  1,      6,      6,2,20040616,1250, 59.1040, -33.8330, 2308,   2145.6,   3.0910,  34.9430,2,  34.9380,2,    277.4,2,    275.7,2,    12.55,2,    16.74,   2,     1.21,2,   2309.4,2,   7.7300,2,    25.00,   2.9235
  35TH20040604, OVIDE,    32,  1,      7,      7,2,20040616,1250, 59.1040, -33.8330, 2308,   2095.4,   3.1640,  34.9480,2,  34.9420,2,    275.0,2,    275.7,2,    12.14,2,    16.46,   2,     1.19,2,   2309.1,2,   7.7290,2,    25.00,   3.0001
  35TH20040604, OVIDE,    32,  1,      8,      8,2,20040616,1250, 59.1040, -33.8330, 2308,   2096.3,   3.1650,  34.9480,2,  34.9460,2,    275.1,2,    275.6,2,    11.97,3,    14.73,   3,     1.21,2,   2310.1,2,   7.7290,2,    25.00,   3.0010
  35TH20040604, OVIDE,    32,  1,      9,      9,2,20040616,1250, 59.1040, -33.8330, 2308,   1996.5,   3.2140,  34.9500,2,  34.9470,2,    276.6,2,    275.4,2,    11.56,3,    10.96,   3,     1.19,2,   2310.5,2,   7.7250,2,    25.00,   3.0585
  35TH20040604, OVIDE,    32,  1,     10,     10,2,20040616,1250, 59.1040, -33.8330, 2308,   1796.8,   3.2930,  34.9530,2,  34.9510,2,    275.9,2,    275.9,2,    11.32,3,    10.43,   3,     1.18,2,   2309.7,2,   7.7230,2,    25.00,   3.1547
  35TH20040604, OVIDE,    32,  1,     11,     11,2,20040616,1250, 59.1040, -33.8330, 2308,   1595.2,   3.3930,  34.9450,2,  34.9390,2,    277.3,2,    275.6,2,    10.91,3,    12.58,   3,     1.21,2,   2307.8,2,   7.7220,2,    25.00,   3.2714
  35TH20040604, OVIDE,    32,  1,     12,     12,2,20040616,1250, 59.1040, -33.8330, 2308,   1396.1,   3.3690,  34.9250,2,  34.9230,2,    276.5,2,    278.0,2,    10.74,3,    12.72,   3,     1.24,2,   2308.8,2,   7.7220,2,    25.00,   3.2650
  35TH20040604, OVIDE,    32,  1,     13,     13,2,20040616,1250, 59.1040, -33.8330, 2308,   1246.4,   3.3700,  34.9090,2,  34.9050,2,    275.6,2,    279.1,2,    10.54,3,    14.50,   3,     1.23,2,   2307.0,2,   7.7190,2,    25.00,   3.2786
  35TH20040604, OVIDE,    32,  1,     14,     14,2,20040616,1250, 59.1040, -33.8330, 2308,    996.0,   3.8390,  34.9350,2,  34.9310,2,    272.5,2,    269.8,2,    10.70,2,    16.98,   2,     1.24,2,   2310.1,2,   7.7160,2,    25.00,   3.7642
  35TH20040604, OVIDE,    32,  1,     15,     15,2,20040616,1250, 59.1040, -33.8330, 2308,    795.7,   4.1250,  34.9450,2,  34.9420,2,    262.0,2,    261.7,2,    10.66,2,    17.22,   2,     1.28,2,   2308.6,2,   7.7160,2,    25.00,   4.0647
  35TH20040604, OVIDE,    32,  1,     16,     16,2,20040616,1250, 59.1040, -33.8330, 2308,    595.4,   4.8810,  34.9820,2,  34.9800,2,    250.4,2,    249.0,2,    10.74,2,    17.89,   2,     1.32,2,   2310.3,2,   7.7160,2,    25.00,   4.8332
  35TH20040604, OVIDE,    32,  1,     17,     17,2,20040616,1250, 59.1040, -33.8330, 2308,    496.6,   5.2300,  34.9850,2,  34.9860,2,    244.1,2,    242.8,2,    10.66,2,    18.32,   2,     1.30,2,   2310.2,2,   7.7050,2,    25.00,   5.1892
  35TH20040604, OVIDE,    32,  1,     18,     18,2,20040616,1250, 59.1040, -33.8330, 2308,    375.2,   5.7080,  34.9880,2,  34.9840,2,    257.4,2,    249.3,3,     9.59,3,    13.82,   3,     1.30,2,   2310.4,2,   7.7180,2,    25.00,   5.6761
  35TH20040604, OVIDE,    32,  1,     19,     19,2,20040616,1250, 59.1040, -33.8330, 2308,    287.3,   6.1000,  34.9930,2,  34.9890,2,    245.6,2,    257.9,3,     8.77,3,    12.53,   3,     1.21,2,   -999.0,9,   7.7300,2,    25.00,   6.0749
  35TH20040604, OVIDE,    32,  1,     20,     20,2,20040616,1250, 59.1040, -33.8330, 2308,    247.0,   6.1880,  34.9810,2,  34.9810,2,    268.7,2,    265.4,2,     8.32,3,    10.43,   3,     1.24,2,   2308.9,2,   7.7380,2,    25.00,   6.1663
  35TH20040604, OVIDE,    32,  1,     21,     21,2,20040616,1250, 59.1040, -33.8330, 2308,    146.1,   7.1270,  35.0620,2,  35.0530,3,    275.6,2,    273.4,2,     7.30,2,    13.49,   2,     1.08,2,   -999.0,9,   7.7680,2,    25.00,   7.1132
  35TH20040604, OVIDE,    32,  1,     22,     22,2,20040616,1250, 59.1040, -33.8330, 2308,     97.0,   7.2610,  34.9940,2,  35.0000,2,    282.6,2,    289.7,3,     6.31,2,     7.27,   3,     1.01,2,   2310.3,2,   7.7830,2,    25.00,   7.2518
  35TH20040604, OVIDE,    32,  1,     23,     23,2,20040616,1250, 59.1040, -33.8330, 2308,     46.9,   8.6170,  35.0060,2,  35.0010,2,    287.2,2,    293.3,2,     4.26,2,     7.18,   3,     0.84,2,   -999.0,9,   7.8300,2,    25.00,   8.6121
  35TH20040604, OVIDE,    32,  1,     24,     24,2,20040616,1250, 59.1040, -33.8330, 2308,      3.5,   8.6520,  35.0050,2,  35.0030,2,    281.2,2,    293.2,3,     4.14,2,     7.18,   3,     0.86,2,   2305.5,2,   7.8320,2,    25.00,   8.6516
  35TH20040604, OVIDE,    33,  1,      3,      3,2,20040616,1638, 59.0390, -33.1930, 2319,   2304.5,   3.1770,  34.9440,2,  34.9420,2,    276.4,2,    275.3,2,    12.24,3,    11.30,   3,     1.19,2,   -999.0,9,-999.0000,9,  -999.00,   2.9930
  35TH20040604, OVIDE,    33,  1,      5,      5,2,20040616,1638, 59.0390, -33.1930, 2319,   2195.4,   3.2040,  34.9430,2,  34.9400,2,    275.8,2,    275.9,2,    12.08,2,    16.25,   2,     1.22,2,   -999.0,9,   7.7280,2,    25.00,   3.0300
  35TH20040604, OVIDE,    33,  1,      7,      7,2,20040616,1638, 59.0390, -33.1930, 2319,   2096.7,   3.2170,  34.9420,2,  34.9370,2,    276.3,2,    276.4,2,    11.83,3,    11.07,   3,     1.18,2,   -999.0,9,   7.7250,2,    25.00,   3.0522
  35TH20040604, OVIDE,    33,  1,      8,      8,2,20040616,1638, 59.0390, -33.1930, 2319,   1996.5,   3.2610,  34.9440,2,  34.9390,2,    276.4,2,    275.9,2,    11.55,3,    12.70,   3,     1.18,2,   -999.0,9,   7.7260,2,    25.00,   3.1048
  35TH20040604, OVIDE,    33,  1,      9,      9,2,20040616,1638, 59.0390, -33.1930, 2319,   1795.9,   3.4380,  34.9500,2,  34.9450,2,    275.8,2,    274.9,2,    11.14,2,    16.20,   2,     1.18,2,   -999.0,9,   7.7250,2,    25.00,   3.2978
  35TH20040604, OVIDE,    33,  1,     10,     10,2,20040616,1638, 59.0390, -33.1930, 2319,   1596.1,   3.5530,  34.9510,2,  34.9470,2,    274.4,2,    273.6,2,    10.94,2,    16.39,   2,     1.22,2,   -999.0,9,   7.7250,2,    25.00,   3.4294
  35TH20040604, OVIDE,    33,  1,     11,     11,2,20040616,1638, 59.0390, -33.1930, 2319,   1405.8,   3.6520,  34.9490,2,  34.9460,2,    269.6,2,    272.8,2,    10.78,2,    16.48,   2,     1.18,2,   -999.0,9,   7.7240,2,    25.00,   3.5441
  35TH20040604, OVIDE,    33,  1,     12,     12,2,20040616,1638, 59.0390, -33.1930, 2319,   1196.6,   3.7750,  34.9290,2,  34.9250,2,    268.4,2,    270.9,2,    10.61,2,    13.82,   3,     1.18,2,   -999.0,9,   7.7160,2,    25.00,   3.6839
  35TH20040604, OVIDE,    33,  1,     13,     13,2,20040616,1638, 59.0390, -33.1930, 2319,    996.3,   4.1540,  34.9490,2,  34.9460,2,    260.7,2,    263.4,2,    10.49,2,    14.15,   3,     1.22,2,   -999.0,9,   7.7100,2,    25.00,   4.0767
  35TH20040604, OVIDE,    33,  1,     14,     14,2,20040616,1638, 59.0390, -33.1930, 2319,    760.4,   4.6380,  34.9370,2,  34.9360,2,    261.1,2,    265.3,2,     9.72,3,    10.09,   3,     1.24,2,   -999.0,9,   7.7090,2,    25.00,   4.5775
  35TH20040604, OVIDE,    33,  1,     15,     15,2,20040616,1638, 59.0390, -33.1930, 2319,    596.3,   5.5730,  34.9890,2,  34.9880,2,    234.4,2,    245.7,3,     9.92,2,    11.77,   3,     1.27,2,   -999.0,9,   7.7070,2,    25.00,   5.5220
  35TH20040604, OVIDE,    33,  1,     16,     16,2,20040616,1638, 59.0390, -33.1930, 2319,    511.1,   5.9840,  34.9780,2,  34.9760,2,    271.3,2,    266.1,2,     8.42,2,    10.93,   3,     1.21,2,   -999.0,9,   7.7390,2,    25.00,   5.9390
  35TH20040604, OVIDE,    33,  1,     17,     17,2,20040616,1638, 59.0390, -33.1930, 2319,    396.1,   6.7450,  35.0390,2,  35.0350,2,    263.3,2,    261.6,2,     8.05,2,     9.43,   3,     1.15,2,   -999.0,9,   7.7510,2,    25.00,   6.7081
  35TH20040604, OVIDE,    33,  1,     19,     19,2,20040616,1638, 59.0390, -33.1930, 2319,    294.4,   7.2600,  35.0830,2,  35.0790,2,    274.4,2,    273.1,2,     6.95,2,     8.31,   3,     1.04,2,   -999.0,9,   7.7690,2,    25.00,   7.2316
  35TH20040604, OVIDE,    33,  1,     21,     21,2,20040616,1638, 59.0390, -33.1930, 2319,     97.5,   7.9730,  35.1030,2,  35.1000,2,    276.3,2,    282.3,2,     5.37,2,    12.23,   2,     0.94,2,   -999.0,9,   7.8010,2,    25.00,   7.9632
  35TH20040604, OVIDE,    33,  1,     22,     22,2,20040616,1638, 59.0390, -33.1930, 2319,     47.5,   8.5190,  35.0510,2,  35.0550,2,    293.3,2,    289.0,2,     4.07,2,    10.46,   2,     0.85,2,   -999.0,9,   7.8240,2,    25.00,   8.5140
  35TH20040604, OVIDE,    33,  1,     23,     23,2,20040616,1638, 59.0390, -33.1930, 2319,      3.8,   8.9610,  35.0430,2,  35.0420,2,    293.2,2,    296.6,2,     3.76,2,     6.26,   3,     0.79,2,   -999.0,9,   7.8490,2,    25.00,   8.9606