BOTTLE,20220120SIOCCHENA
EXPOCODE,SECT_ID,STNNBR,CASTNO,SAMPNO,BTLNBR,BTLNBR_FLAG_W,DATE,TIME,LATITUDE,LONGITUDE,DEPTH,CTDPRS,CTDTMP,CTDSAL,CTDSAL_FLAG_W,SALNTY,SALNTY_FLAG_W,CTDOXY,CTDOXY_FLAG_W,OXYGEN,OXYGEN_FLAG_W,SILCAT,SILCAT_FLAG_W,NITRAT,NITRAT_FLAG_W,PHSPHT,PHSPHT_FLAG_W,ALKALI,ALKALI_FLAG_W,PH_SWS,PH_SWS_FLAG_W,PH_TMP,THETA
,,,,,,,,,,,METERS,DBAR,ITS-90,PSS-78,,PSS-78,,UMOL/KG,,UMOL/KG,,UMOL/KG,,UMOL/KG,,UMOL/KG,,UMOL/KG,,,,DEG C,DEG C
  35TH20040604, OVIDE,    19,  1,      3,      3,2,20040614,0824, 59.7890, -41.7360, 1874,   1859.1,   2.0900,  34.8430,2,  34.8430,2,    298.6,2,    297.8,2,     8.74,2,    14.58,   2,     1.06,2,   -999.0,9,   7.7240,2,    25.00,   1.9633
  35TH20040604, OVIDE,    19,  1,      4,      4,2,20040614,0824, 59.7890, -41.7360, 1874,   1796.4,   2.1310,  34.8440,2,  34.8460,2,    298.0,2,    297.3,2,     8.91,2,    14.45,   2,     1.06,2,   -999.0,9,   7.7240,2,    25.00,   2.0088
  35TH20040604, OVIDE,    19,  1,      5,      5,2,20040614,0824, 59.7890, -41.7360, 1874,   1745.4,   2.1490,  34.8470,2,  34.8520,2,    296.4,2,    296.2,2,     8.95,2,    14.62,   2,     1.07,2,   -999.0,9,   7.7220,2,    25.00,   2.0307
  35TH20040604, OVIDE,    19,  1,      6,      6,2,20040614,0824, 59.7890, -41.7360, 1874,   1695.0,   2.2790,  34.8520,2,  34.8540,2,    289.3,2,    295.0,2,     9.15,2,    14.87,   2,     1.07,2,   -999.0,9,   7.7230,2,    25.00,   2.1631
  35TH20040604, OVIDE,    19,  1,      7,      7,2,20040614,0824, 59.7890, -41.7360, 1874,   1645.7,   2.4460,  34.8620,2,  34.8630,2,    287.1,2,    292.3,2,     9.35,2,    14.79,   2,     1.08,2,   -999.0,9,   7.7230,2,    25.00,   2.3320
  35TH20040604, OVIDE,    19,  1,      8,      8,2,20040614,0824, 59.7890, -41.7360, 1874,   1595.6,   2.7030,  34.8800,2,  34.8830,2,    284.1,2,    287.3,2,    10.04,2,    14.87,   2,     1.10,2,   -999.0,9,   7.7200,2,    25.00,   2.5899
  35TH20040604, OVIDE,    19,  1,      9,      9,2,20040614,0824, 59.7890, -41.7360, 1874,   1495.1,   2.8650,  34.8850,2,  34.8880,2,    286.2,2,    285.7,2,    10.21,2,    15.72,   2,     1.12,2,   -999.0,9,   7.7210,2,    25.00,   2.7583
  35TH20040604, OVIDE,    19,  1,     10,     10,2,20040614,0824, 59.7890, -41.7360, 1874,   1396.8,   3.0510,  34.8870,2,  34.8890,2,    281.7,2,    284.5,2,    10.00,2,    15.88,   2,     1.12,2,   -999.0,9,   7.7200,2,    25.00,   2.9504
  35TH20040604, OVIDE,    19,  1,     11,     11,2,20040614,0824, 59.7890, -41.7360, 1874,   1194.6,   3.3750,  34.9020,2,  34.9040,2,    281.1,2,    279.5,2,    10.29,2,    16.43,   2,     1.16,2,   -999.0,9,   7.7160,2,    25.00,   3.2878
  35TH20040604, OVIDE,    19,  1,     12,     12,2,20040614,0824, 59.7890, -41.7360, 1874,    995.9,   3.5770,  34.9040,2,  34.9060,2,    274.8,2,    278.7,2,     9.84,2,    16.39,   2,     1.17,2,   -999.0,9,   7.7160,2,    25.00,   3.5043
  35TH20040604, OVIDE,    19,  1,     13,     13,2,20040614,0824, 59.7890, -41.7360, 1874,    896.5,   3.6980,  34.9040,2,  34.9030,2,    276.9,2,    278.9,2,     9.43,2,    16.35,   2,     1.15,2,   -999.0,9,   7.7160,2,    25.00,   3.6324
  35TH20040604, OVIDE,    19,  1,     14,     14,2,20040614,0824, 59.7890, -41.7360, 1874,    797.7,   3.8260,  34.9030,2,  34.9030,2,    276.3,2,    277.8,2,     9.35,2,    16.43,   2,     1.16,2,   -999.0,9,   7.7170,2,    25.00,   3.7674
  35TH20040604, OVIDE,    19,  1,     15,     15,2,20040614,0824, 59.7890, -41.7360, 1874,    695.5,   4.0050,  34.9110,2,  34.9120,2,    272.9,2,    276.6,2,     9.11,2,    16.26,   2,     1.12,2,   -999.0,9,   7.7180,2,    25.00,   3.9535
  35TH20040604, OVIDE,    19,  1,     16,     16,2,20040614,0824, 59.7890, -41.7360, 1874,    596.3,   4.2430,  34.9180,2,  34.9180,2,    276.6,2,    275.5,2,     8.90,2,    16.10,   2,     1.12,2,   -999.0,9,   7.7210,2,    25.00,   4.1982
  35TH20040604, OVIDE,    19,  1,     17,     17,2,20040614,0824, 59.7890, -41.7360, 1874,    496.8,   4.4500,  34.9240,2,  34.9240,2,    269.7,2,    269.3,2,     9.52,3,    16.98,   3,     1.20,3,   -999.0,9,   7.7120,2,    25.00,   4.4122
  35TH20040604, OVIDE,    19,  1,     18,     18,2,20040614,0824, 59.7890, -41.7360, 1874,    397.7,   4.8390,  34.9430,2,  34.9420,2,    269.2,2,    276.1,2,     8.42,2,    15.88,   2,     1.11,2,   -999.0,9,   7.7300,2,    25.00,   4.8078
  35TH20040604, OVIDE,    19,  1,     20,     20,2,20040614,0824, 59.7890, -41.7360, 1874,    247.1,   5.3580,  34.9780,2,  34.9790,2,    286.9,2,    286.9,2,     7.77,2,    15.72,   2,     1.10,2,   -999.0,9,   7.7450,2,    25.00,   5.3379
  35TH20040604, OVIDE,    19,  1,     21,     21,2,20040614,0824, 59.7890, -41.7360, 1874,    196.2,   5.5420,  34.9980,2,  34.9970,2,    277.2,2,    287.9,3,     7.56,2,    15.21,   2,     1.09,2,   -999.0,9,   7.7500,2,    25.00,   5.5258
  35TH20040604, OVIDE,    19,  1,     22,     22,2,20040614,0824, 59.7890, -41.7360, 1874,    146.4,   5.8360,  35.0230,2,  35.0240,2,    283.0,2,    286.1,2,     7.40,2,    15.21,   2,     1.07,2,   -999.0,9,   7.7530,2,    25.00,   5.8236
  35TH20040604, OVIDE,    19,  1,     23,     23,2,20040614,0824, 59.7890, -41.7360, 1874,     96.4,   6.2050,  35.0500,2,  35.0510,2,    284.4,2,    289.3,2,     7.08,2,    14.53,   2,     1.03,2,   -999.0,9,   7.7670,2,    25.00,   6.1966
  35TH20040604, OVIDE,    19,  1,     24,     24,2,20040614,0824, 59.7890, -41.7360, 1874,     47.3,   6.6520,  34.9460,2,  34.9430,2,    290.7,2,    304.3,3,     5.86,2,    11.83,   2,     0.87,2,   -999.0,9,   7.8040,2,    25.00,   6.6477
  35TH20040604, OVIDE,    19,  1,     25,     25,2,20040614,0824, 59.7890, -41.7360, 1874,      3.9,   6.6650,  34.9480,2,  34.9490,2,    295.2,2,    305.1,3,     5.73,2,    11.96,   2,     0.85,2,   -999.0,9,   7.8060,2,    25.00,   6.6647
  35TH20040604, OVIDE,    20,  1,      3,      3,2,20040614,1149, 59.7510, -41.2820, 2066,   2052.1,   1.5050,  34.8390,2,  34.8390,2,    305.7,2,    304.7,2,     7.89,2,    13.31,   2,     0.98,2,   2295.7,2,   7.7230,2,    25.00,   1.3712
  35TH20040604, OVIDE,    20,  1,      4,      4,2,20040614,1149, 59.7510, -41.2820, 2066,   1971.6,   1.6950,  34.8390,2,  34.8400,2,    303.5,2,    301.1,2,     8.30,2,    13.65,   2,     1.00,2,   2297.5,2,   7.7210,2,    25.00,   1.5648
  35TH20040604, OVIDE,    20,  1,      5,      5,2,20040614,1149, 59.7510, -41.2820, 2066,   1926.3,   1.7840,  34.8400,2,  34.8440,2,    303.9,2,    301.2,2,     8.42,2,    13.86,   2,     1.02,2,   2299.7,2,   7.7210,2,    25.00,   1.6562
  35TH20040604, OVIDE,    20,  1,      6,      6,2,20040614,1149, 59.7510, -41.2820, 2066,   1877.2,   1.9070,  34.8390,2,  34.8380,2,    302.6,2,    300.5,2,     8.50,2,    14.32,   2,     1.02,2,   2298.5,2,   7.7210,2,    25.00,   1.7814
  35TH20040604, OVIDE,    20,  1,      7,      7,2,20040614,1149, 59.7510, -41.2820, 2066,   1826.0,   2.0560,  34.8500,2,  34.8450,2,    300.1,2,    297.0,2,     8.74,3,    13.56,   3,     1.03,2,   2301.0,2,   7.7210,2,    25.00,   1.9325
  35TH20040604, OVIDE,    20,  1,      8,      8,2,20040614,1149, 59.7510, -41.2820, 2066,   1825.6,   2.0570,  34.8490,2,  34.8490,2,    300.1,2,    297.3,2,     8.82,2,    14.58,   2,     1.04,2,   2298.3,2,   7.7210,2,    25.00,   1.9335
  35TH20040604, OVIDE,    20,  1,      9,      9,2,20040614,1149, 59.7510, -41.2820, 2066,   1715.7,   2.6900,  34.9100,2,  34.9140,2,    282.9,2,    280.4,3,    12.36,3,    16.14,   3,     1.13,2,   2305.6,2,   7.7220,2,    25.00,   2.5669
  35TH20040604, OVIDE,    20,  1,     10,     10,2,20040614,1149, 59.7510, -41.2820, 2066,   1621.1,   2.6050,  34.8740,2,  34.8750,2,    289.8,2,    288.9,2,     9.92,2,    15.38,   2,     1.09,2,   2299.6,2,   7.7200,2,    25.00,   2.4910
  35TH20040604, OVIDE,    20,  1,     11,     11,2,20040614,1149, 59.7510, -41.2820, 2066,   1395.1,   3.0340,  34.8860,2,  34.8890,2,    287.0,2,    284.8,2,    10.04,2,    16.10,   2,     1.12,2,   2299.7,2,   7.7190,2,    25.00,   2.9337
  35TH20040604, OVIDE,    20,  1,     12,     12,2,20040614,1149, 59.7510, -41.2820, 2066,   1197.7,   3.3360,  34.8990,2,  34.9020,2,    281.8,2,    280.4,2,    10.25,2,    15.80,   2,     1.15,2,   2300.7,2,   7.7170,2,    25.00,   3.2489
  35TH20040604, OVIDE,    20,  1,     13,     13,2,20040614,1149, 59.7510, -41.2820, 2066,    997.7,   3.5300,  34.9020,2,  34.9040,2,    278.5,2,    279.8,2,     9.60,2,    15.80,   2,     1.12,2,   2303.5,2,   7.7170,2,    25.00,   3.4575
  35TH20040604, OVIDE,    20,  1,     14,     14,2,20040614,1149, 59.7510, -41.2820, 2066,    893.8,   3.6910,  34.9040,2,  34.9040,2,    277.7,2,    279.5,2,     9.47,2,    16.35,   2,     1.12,2,   2302.4,2,   7.7180,2,    25.00,   3.6256
  35TH20040604, OVIDE,    20,  1,     15,     15,2,20040614,1149, 59.7510, -41.2820, 2066,    797.6,   3.7930,  34.8980,2,  34.9010,2,    276.2,2,    278.5,2,     9.52,2,    16.56,   2,     1.14,2,   2302.3,2,-999.0000,9,  -999.00,   3.7346
  35TH20040604, OVIDE,    20,  1,     16,     16,2,20040614,1149, 59.7510, -41.2820, 2066,    700.1,   3.9920,  34.9110,2,  34.9120,2,    275.4,2,    277.9,2,     9.15,2,    16.39,   2,     1.12,2,   2302.9,2,   7.7190,2,    25.00,   3.9402
  35TH20040604, OVIDE,    20,  1,     17,     17,2,20040614,1149, 59.7510, -41.2820, 2066,    596.0,   4.1780,  34.9170,2,  34.9170,2,    272.8,2,    275.2,2,     9.11,2,    15.97,   2,     1.12,2,   2301.5,2,   7.7170,2,    25.00,   4.1335
  35TH20040604, OVIDE,    20,  1,     18,     18,2,20040614,1149, 59.7510, -41.2820, 2066,    497.0,   4.4710,  34.9320,2,  34.9320,2,    269.4,2,    274.8,2,     8.86,2,    16.18,   2,     1.10,2,   2302.6,2,   7.7210,2,    25.00,   4.4331
  35TH20040604, OVIDE,    20,  1,     19,     19,2,20040614,1149, 59.7510, -41.2820, 2066,    398.9,   4.8410,  34.9530,2,  34.9560,2,    268.3,2,    274.1,2,     8.62,2,    16.01,   2,     1.10,2,   2303.0,2,   7.7280,2,    25.00,   4.8097
  35TH20040604, OVIDE,    20,  1,     20,     20,2,20040614,1149, 59.7510, -41.2820, 2066,    267.0,   5.4050,  34.9910,2,  34.9920,2,    287.6,2,    277.7,3,     8.13,2,    15.93,   2,     1.10,2,   2303.7,2,   7.7390,2,    25.00,   5.3831
  35TH20040604, OVIDE,    20,  1,     21,     21,2,20040614,1149, 59.7510, -41.2820, 2066,    237.3,   5.5410,  35.0010,2,  35.0000,2,    287.4,2,    279.7,3,     7.93,2,    15.63,   2,     1.10,2,   2304.1,2,   7.7430,2,    25.00,   5.5214
  35TH20040604, OVIDE,    20,  1,     22,     22,2,20040614,1149, 59.7510, -41.2820, 2066,    176.8,   5.8690,  35.0300,2,  35.0290,2,    284.5,2,    282.9,2,     7.56,2,    15.29,   2,     1.07,2,   2310.6,2,   7.7520,2,    25.00,   5.8540
  35TH20040604, OVIDE,    20,  1,     23,     23,2,20040614,1149, 59.7510, -41.2820, 2066,    126.2,   6.1180,  35.0490,2,  35.0520,2,    283.9,2,    286.8,2,     7.28,2,    14.91,   2,     1.06,2,   2312.9,2,   7.7610,2,    25.00,   6.1071
  35TH20040604, OVIDE,    20,  1,     24,     24,2,20040614,1149, 59.7510, -41.2820, 2066,     96.3,   6.2610,  35.0520,2,  35.0520,2,    279.6,2,    287.9,3,     7.08,2,    14.45,   2,     1.03,2,   2312.9,2,   7.7650,2,    25.00,   6.2526
  35TH20040604, OVIDE,    20,  1,     25,     25,2,20040614,1149, 59.7510, -41.2820, 2066,     48.1,   6.6330,  34.9690,2,  34.9690,2,    292.3,2,    303.6,3,     6.14,2,    11.96,   2,     0.88,2,   2308.0,2,   7.8010,2,    25.00,   6.6287
  35TH20040604, OVIDE,    20,  1,     26,     26,2,20040614,1149, 59.7510, -41.2820, 2066,     18.6,   6.6010,  34.9490,2,  34.9500,2,    298.2,2,    305.7,3,     6.10,2,    11.96,   2,     0.87,2,   -999.0,9,   7.8010,2,    25.00,   6.5993
  35TH20040604, OVIDE,    20,  1,     27,     27,2,20040614,1149, 59.7510, -41.2820, 2066,      2.7,   6.6350,  34.9480,2,  34.9480,2,    296.2,2,    305.9,3,     6.02,2,    12.00,   2,     0.86,2,   2306.6,2,   7.8010,2,    25.00,   6.6348
  35TH20040604, OVIDE,    21,  1,      3,      3,2,20040614,1515, 59.7510, -40.8930, 2317,   2302.8,   1.3670,  34.8380,2,  34.8460,2,    303.1,2,    307.8,2,     7.40,3,    10.27,   3,     1.00,2,   -999.0,9,   7.7240,2,    25.00,   1.2146
  35TH20040604, OVIDE,    21,  1,      4,      4,2,20040614,1515, 59.7510, -40.8930, 2317,   2197.8,   1.3630,  34.8380,2,  34.8450,2,    302.8,2,    306.6,2,     7.48,2,    13.01,   2,     0.99,2,   -999.0,9,   7.7230,2,    25.00,   1.2195
  35TH20040604, OVIDE,    21,  1,      5,      5,2,20040614,1515, 59.7510, -40.8930, 2317,   2146.2,   1.5640,  34.8380,2,  34.8460,2,    300.4,2,    304.7,2,     7.68,3,    10.65,   3,     1.00,2,   -999.0,9,   7.7240,2,    25.00,   1.4214
  35TH20040604, OVIDE,    21,  1,      6,      6,2,20040614,1515, 59.7510, -40.8930, 2317,   2095.1,   1.7500,  34.8470,2,  34.8540,2,    297.0,2,    301.9,2,     8.16,2,    14.20,   2,     1.03,2,   -999.0,9,   7.7240,2,    25.00,   1.6087
  35TH20040604, OVIDE,    21,  1,      8,      8,2,20040614,1515, 59.7510, -40.8930, 2317,   1996.7,   2.2710,  34.8780,2,  34.8840,2,    289.9,2,    291.2,2,     9.92,3,    13.98,   3,     1.14,2,   -999.0,9,   7.7230,2,    25.00,   2.1299
  35TH20040604, OVIDE,    21,  1,      9,      9,2,20040614,1515, 59.7510, -40.8930, 2317,   1946.7,   2.3060,  34.8570,2,  34.8550,2,    292.0,2,    294.0,2,     9.12,2,    14.74,   2,     1.06,2,   -999.0,9,   7.7250,2,    25.00,   2.1687
  35TH20040604, OVIDE,    21,  1,     10,     10,2,20040614,1515, 59.7510, -40.8930, 2317,   1796.9,   2.6970,  34.8770,2,  34.8840,2,    286.8,2,    288.1,2,     9.92,2,    15.67,   2,     1.10,2,   -999.0,9,   7.7250,2,    25.00,   2.5669
  35TH20040604, OVIDE,    21,  1,     12,     12,2,20040614,1515, 59.7510, -40.8930, 2317,   1396.4,   3.2880,  34.8980,2,  34.9050,2,    281.6,2,    282.5,2,    10.08,2,    16.05,   2,     1.15,2,   -999.0,9,   7.7220,2,    25.00,   3.1849
  35TH20040604, OVIDE,    21,  1,     13,     13,2,20040614,1515, 59.7510, -40.8930, 2317,   1195.9,   3.5250,  34.9080,2,  34.9140,2,    278.0,2,    277.8,2,    10.20,2,    16.98,   2,     1.17,2,   -999.0,9,   7.7180,2,    25.00,   3.4363
  35TH20040604, OVIDE,    21,  1,     14,     14,2,20040614,1515, 59.7510, -40.8930, 2317,   1195.8,   3.5240,  34.9080,2,  34.9150,2,    278.0,2,    279.0,2,    10.16,2,    16.98,   2,     1.17,2,   -999.0,9,   7.7180,2,    25.00,   3.4353
  35TH20040604, OVIDE,    21,  1,     15,     15,2,20040614,1515, 59.7510, -40.8930, 2317,    997.2,   3.6190,  34.8960,2,  34.9040,2,    277.0,2,    278.1,2,     9.76,2,    15.97,   2,     1.14,2,   -999.0,9,   7.7160,2,    25.00,   3.5458
  35TH20040604, OVIDE,    21,  1,     16,     16,2,20040614,1515, 59.7510, -40.8930, 2317,    895.9,   3.6250,  34.8870,2,  34.8910,2,    279.1,2,    280.9,2,     9.60,2,    16.98,   2,     1.15,2,   -999.0,9,   7.7160,2,    25.00,   3.5599
  35TH20040604, OVIDE,    21,  1,     17,     17,2,20040614,1515, 59.7510, -40.8930, 2317,    796.8,   3.7110,  34.8820,2,  34.8890,2,    278.3,2,    281.4,2,     9.44,3,    14.66,   3,     1.16,2,   -999.0,9,   7.7140,2,    25.00,   3.6532
  35TH20040604, OVIDE,    21,  1,     18,     18,2,20040614,1515, 59.7510, -40.8930, 2317,    696.7,   3.9880,  34.9010,2,  34.9070,2,    273.8,2,    276.5,2,     9.40,3,    14.91,   3,     1.17,2,   -999.0,9,   7.7130,2,    25.00,   3.9365
  35TH20040604, OVIDE,    21,  1,     19,     19,2,20040614,1515, 59.7510, -40.8930, 2317,    595.9,   4.2630,  34.9200,2,  34.9260,2,    270.8,2,    275.2,2,     9.00,3,    15.55,   3,     1.12,2,   -999.0,9,   7.7230,2,    25.00,   4.2181
  35TH20040604, OVIDE,    21,  1,     20,     20,2,20040614,1515, 59.7510, -40.8930, 2317,    495.8,   4.5230,  34.9340,2,  34.9390,2,    275.5,2,    274.8,2,     8.68,2,    16.22,   2,     1.12,2,   -999.0,9,   7.7280,2,    25.00,   4.4850
  35TH20040604, OVIDE,    21,  1,     22,     22,2,20040614,1515, 59.7510, -40.8930, 2317,    297.7,   5.4210,  34.9910,2,  34.9930,2,    278.3,2,    278.3,2,     8.00,2,    15.97,   2,     1.08,2,   -999.0,9,   7.7310,2,    25.00,   5.3965
  35TH20040604, OVIDE,    21,  1,     23,     23,2,20040614,1515, 59.7510, -40.8930, 2317,    196.4,   5.8990,  35.0290,2,  35.0340,2,    283.5,2,    284.5,2,     7.28,2,    14.87,   2,     1.06,2,   -999.0,9,   7.7580,2,    25.00,   5.8822
  35TH20040604, OVIDE,    21,  1,     24,     24,2,20040614,1515, 59.7510, -40.8930, 2317,    147.5,   6.1020,  35.0430,2,  35.0480,2,    283.4,2,    286.9,2,     7.12,2,    14.24,   2,     1.03,2,   -999.0,9,   7.7640,2,    25.00,   6.0892
  35TH20040604, OVIDE,    21,  1,     25,     25,2,20040614,1515, 59.7510, -40.8930, 2317,     96.5,   6.2600,  35.0340,2,  35.0320,2,    293.4,2,    291.3,2,     6.72,2,    13.69,   2,     0.98,2,   -999.0,9,   7.7780,2,    25.00,   6.2516
  35TH20040604, OVIDE,    21,  1,     26,     26,2,20040614,1515, 59.7510, -40.8930, 2317,     48.4,   6.6860,  34.9730,2,  34.9730,2,    301.3,2,    304.3,2,     5.76,2,    11.28,   2,     0.84,2,   -999.0,9,   7.8130,2,    25.00,   6.6816
  35TH20040604, OVIDE,    21,  1,     27,     27,2,20040614,1515, 59.7510, -40.8930, 2317,      3.5,   6.8560,  34.9630,2,  34.9690,2,    302.3,2,    306.7,2,     5.56,2,    11.28,   2,     0.83,2,   -999.0,9,   7.8170,2,    25.00,   6.8557