BOTTLE,20220120SIOCCHENA
EXPOCODE,SECT_ID,STNNBR,CASTNO,SAMPNO,BTLNBR,BTLNBR_FLAG_W,DATE,TIME,LATITUDE,LONGITUDE,DEPTH,CTDPRS,CTDTMP,CTDSAL,CTDSAL_FLAG_W,SALNTY,SALNTY_FLAG_W,CTDOXY,CTDOXY_FLAG_W,OXYGEN,OXYGEN_FLAG_W,SILCAT,SILCAT_FLAG_W,NITRAT,NITRAT_FLAG_W,PHSPHT,PHSPHT_FLAG_W,ALKALI,ALKALI_FLAG_W,PH_SWS,PH_SWS_FLAG_W,PH_TMP,THETA
,,,,,,,,,,,METERS,DBAR,ITS-90,PSS-78,,PSS-78,,UMOL/KG,,UMOL/KG,,UMOL/KG,,UMOL/KG,,UMOL/KG,,UMOL/KG,,,,DEG C,DEG C
  35TH20040604, OVIDE,    64,  1,      3,      3,2,20040622,2345, 53.2660, -24.9520, 3581,   3568.2,   2.7000,  34.9320,2,  34.9360,2,    250.3,2,    253.9,2,    32.94,2,    19.91,   2,  -999.00,9,   -999.0,9,   7.7230,2,    25.00,   2.3949
  35TH20040604, OVIDE,    64,  1,      4,      4,2,20040622,2345, 53.2660, -24.9520, 3581,   3497.8,   2.7330,  34.9380,2,  34.9490,3,    258.6,2,    258.1,2,    29.73,2,    19.24,   2,  -999.00,9,   -999.0,9,   7.7230,2,    25.00,   2.4348
  35TH20040604, OVIDE,    64,  1,      5,      5,2,20040622,2345, 53.2660, -24.9520, 3581,   3396.3,   2.7670,  34.9440,2,  34.9450,2,    260.4,2,    261.4,2,    26.53,2,    18.62,   2,  -999.00,9,   -999.0,9,   7.7260,2,    25.00,   2.4791
  35TH20040604, OVIDE,    64,  1,      6,      6,2,20040622,2345, 53.2660, -24.9520, 3581,   3195.5,   2.8070,  34.9470,2,  34.9490,2,    264.4,2,    265.4,2,    23.02,2,    18.07,   2,  -999.00,9,   -999.0,9,   7.7240,2,    25.00,   2.5397
  35TH20040604, OVIDE,    64,  1,      7,      7,2,20040622,2345, 53.2660, -24.9520, 3581,   2997.2,   2.8910,  34.9500,2,  34.9560,2,    268.7,2,    269.6,2,    16.68,2,    17.34,   2,  -999.00,9,   -999.0,9,   7.7250,2,    25.00,   2.6428
  35TH20040604, OVIDE,    64,  1,      8,      8,2,20040622,2345, 53.2660, -24.9520, 3581,   2797.2,   2.9760,  34.9440,2,  34.9510,2,    274.9,2,    274.3,2,    14.01,2,    16.90,   2,  -999.00,9,   -999.0,9,   7.7250,2,    25.00,   2.7467
  35TH20040604, OVIDE,    64,  1,      9,      9,2,20040622,2345, 53.2660, -24.9520, 3581,   2597.4,   3.0480,  34.9360,2,  34.9400,2,    275.6,2,    275.3,2,    13.06,2,    16.95,   2,  -999.00,9,   -999.0,9,   7.7270,2,    25.00,   2.8375
  35TH20040604, OVIDE,    64,  1,     10,     10,2,20040622,2345, 53.2660, -24.9520, 3581,   2597.3,   3.0480,  34.9360,2,  34.9410,2,    275.6,2,    276.0,2,    13.18,2,    16.90,   2,  -999.00,9,   -999.0,9,   7.7270,2,    25.00,   2.8375
  35TH20040604, OVIDE,    64,  1,     11,     11,2,20040622,2345, 53.2660, -24.9520, 3581,   2396.7,   3.0920,  34.9210,2,  34.9280,2,    276.7,2,    278.3,2,    12.28,2,    17.23,   2,  -999.00,9,   -999.0,9,   7.7270,2,    25.00,   2.9005
  35TH20040604, OVIDE,    64,  1,     12,     12,2,20040622,2345, 53.2660, -24.9520, 3581,   2196.3,   3.1640,  34.9130,2,  34.9180,2,    276.7,2,    278.9,2,    11.77,2,    17.06,   2,  -999.00,9,   -999.0,9,   7.7250,2,    25.00,   2.9906
  35TH20040604, OVIDE,    64,  1,     13,     13,2,20040622,2345, 53.2660, -24.9520, 3581,   1996.1,   3.2140,  34.8930,2,  34.8960,2,    282.8,2,    282.2,2,    11.29,2,    17.29,   2,  -999.00,9,   -999.0,9,   7.7230,2,    25.00,   3.0587
  35TH20040604, OVIDE,    64,  1,     14,     14,2,20040622,2345, 53.2660, -24.9520, 3581,   1795.2,   3.2790,  34.8890,2,  34.8890,2,    282.2,2,    281.9,2,    11.26,2,    17.45,   2,  -999.00,9,   -999.0,9,   7.7250,2,    25.00,   3.1412
  35TH20040604, OVIDE,    64,  1,     15,     15,2,20040622,2345, 53.2660, -24.9520, 3581,   1595.3,   3.4300,  34.8940,2,  34.8960,2,    277.0,2,    278.1,2,    11.10,2,    17.57,   2,  -999.00,9,   -999.0,9,   7.7190,2,    25.00,   3.3081
  35TH20040604, OVIDE,    64,  1,     16,     16,2,20040622,2345, 53.2660, -24.9520, 3581,   1396.4,   3.6110,  34.9000,2,  34.9020,2,    274.9,2,    274.6,2,    11.10,2,    17.84,   2,  -999.00,9,   -999.0,9,   7.7160,2,    25.00,   3.5044
  35TH20040604, OVIDE,    64,  1,     17,     17,2,20040622,2345, 53.2660, -24.9520, 3581,   1195.1,   3.8250,  34.9120,2,  34.9150,2,    271.3,2,    269.9,2,    10.90,2,    17.90,   2,  -999.00,9,   -999.0,9,   7.7150,2,    25.00,   3.7336
  35TH20040604, OVIDE,    64,  1,     18,     18,2,20040622,2345, 53.2660, -24.9520, 3581,    995.3,   4.1530,  34.9320,2,  34.9370,2,    260.4,2,    264.2,2,    10.78,2,    18.07,   2,  -999.00,9,   -999.0,9,   7.7140,2,    25.00,   4.0758
  35TH20040604, OVIDE,    64,  1,     19,     19,2,20040622,2345, 53.2660, -24.9520, 3581,    796.7,   4.7350,  34.9710,2,  34.9740,2,    248.2,2,    249.3,2,    11.06,2,    18.57,   2,  -999.00,9,   -999.0,9,   7.7090,2,    25.00,   4.6708
  35TH20040604, OVIDE,    64,  1,     20,     20,2,20040622,2345, 53.2660, -24.9520, 3581,    595.4,   5.7030,  34.9920,2,  34.9950,2,    230.7,2,    228.4,2,    11.33,2,    19.24,   2,  -999.00,9,   -999.0,9,   7.7020,2,    25.00,   5.6514
  35TH20040604, OVIDE,    64,  1,     21,     21,2,20040622,2345, 53.2660, -24.9520, 3581,    395.7,   7.8350,  35.0750,2,  35.0800,2,    208.2,2,    211.4,2,     9.80,2,    18.74,   2,  -999.00,9,   -999.0,9,   7.7230,2,    25.00,   7.7949
  35TH20040604, OVIDE,    64,  1,     22,     22,2,20040622,2345, 53.2660, -24.9520, 3581,    292.8,   9.1650,  35.1840,2,  35.1880,2,    219.3,2,    213.0,2,     8.26,2,    17.00,   2,  -999.00,9,   -999.0,9,   7.7610,2,    25.00,   9.1326
  35TH20040604, OVIDE,    64,  1,     23,     23,2,20040622,2345, 53.2660, -24.9520, 3581,    196.0,   9.7050,  35.2230,2,  35.2310,2,    248.6,2,    254.5,2,     5.04,2,    12.54,   2,  -999.00,9,   -999.0,9,   7.8150,2,    25.00,   9.6826
  35TH20040604, OVIDE,    64,  1,     24,     24,2,20040622,2345, 53.2660, -24.9520, 3581,    145.9,  10.0110,  35.2540,2,  35.2580,2,    246.5,2,    246.4,2,     5.00,2,    12.66,   2,  -999.00,9,   -999.0,9,   7.8150,2,    25.00,   9.9940
  35TH20040604, OVIDE,    64,  1,     25,     25,2,20040622,2345, 53.2660, -24.9520, 3581,     96.8,  10.7950,  35.3770,2,  35.3810,2,    240.1,2,    249.6,3,     3.93,2,    11.20,   2,  -999.00,9,   -999.0,9,   7.8410,2,    25.00,  10.7832
  35TH20040604, OVIDE,    64,  1,     26,     26,2,20040622,2345, 53.2660, -24.9520, 3581,     67.6,  10.7110,  35.2150,2,  35.2310,3,    247.1,2,    270.6,3,     0.79,2,     7.36,   2,  -999.00,9,   -999.0,9,   7.8770,2,    25.00,  10.7028
  35TH20040604, OVIDE,    64,  1,     27,     27,2,20040622,2345, 53.2660, -24.9520, 3581,     37.4,  11.7240,  35.1660,2,  35.1680,2,    265.1,2,    280.6,3,     0.47,2,     4.46,   2,  -999.00,9,   -999.0,9,   7.9200,2,    25.00,  11.7192
  35TH20040604, OVIDE,    64,  1,     28,     28,2,20040622,2345, 53.2660, -24.9520, 3581,      3.9,  12.2790,  35.2170,2,  35.2210,2,    261.8,2,    274.4,3,     0.55,2,     5.02,   2,  -999.00,9,   -999.0,9,   7.9140,2,    25.00,  12.2785
  35TH20040604, OVIDE,    65,  1,      3,      3,2,20040622,0453, 52.8940, -24.6560, 3679,   3665.5,   2.6670,  34.9270,2,  34.9290,2,    251.6,2,    250.1,2,    36.44,2,    20.64,   2,  -999.00,9,   2341.3,2,   7.7260,2,    25.00,   2.3520
  35TH20040604, OVIDE,    65,  1,      4,      4,2,20040622,0453, 52.8940, -24.6560, 3679,   3491.1,   2.7530,  34.9390,2,  34.9400,2,    258.5,2,    257.9,2,    29.12,2,    19.24,   2,  -999.00,9,   2329.1,2,   7.7230,2,    25.00,   2.4551
  35TH20040604, OVIDE,    65,  1,      5,      5,2,20040622,0453, 52.8940, -24.6560, 3679,   3247.2,   2.8460,  34.9460,2,  34.9480,2,    265.2,2,    264.9,2,    23.18,2,    17.95,   2,  -999.00,9,   2320.8,2,   7.7250,2,    25.00,   2.5723
  35TH20040604, OVIDE,    65,  1,      6,      6,2,20040622,0453, 52.8940, -24.6560, 3679,   2996.2,   2.9440,  34.9460,2,  34.9430,2,    268.9,2,    269.6,2,    17.52,2,    17.61,   2,  -999.00,9,   2315.6,2,   7.7320,2,    25.00,   2.6948
  35TH20040604, OVIDE,    65,  1,      7,      7,2,20040622,0453, 52.8940, -24.6560, 3679,   2745.2,   3.0440,  34.9380,2,  34.9370,2,    274.2,2,    272.9,2,    14.70,2,    17.27,   2,  -999.00,9,   2308.2,2,   7.7290,2,    25.00,   2.8187
  35TH20040604, OVIDE,    65,  1,      8,      8,2,20040622,0453, 52.8940, -24.6560, 3679,   2495.3,   3.1170,  34.9200,2,  34.9180,2,    278.8,2,    277.2,2,    12.90,2,    17.16,   2,  -999.00,9,   2307.3,2,   7.7300,2,    25.00,   2.9154
  35TH20040604, OVIDE,    65,  1,      9,      9,2,20040622,0453, 52.8940, -24.6560, 3679,   2246.7,   3.1790,  34.9020,2,  34.9050,2,    278.8,2,    280.0,2,    11.92,2,    17.22,   2,  -999.00,9,   2305.5,2,   7.7280,2,    25.00,   3.0006
  35TH20040604, OVIDE,    65,  1,     10,     10,2,20040622,0453, 52.8940, -24.6560, 3679,   1997.7,   3.2780,  34.8930,2,  34.8920,2,    280.3,2,    281.4,2,    11.27,2,    17.33,   2,  -999.00,9,   2304.3,2,   7.7280,2,    25.00,   3.1216
  35TH20040604, OVIDE,    65,  1,     11,     11,2,20040622,0453, 52.8940, -24.6560, 3679,   1997.6,   3.2790,  34.8920,2,  34.8900,2,    280.3,2,    281.1,2,    11.35,2,    17.44,   2,  -999.00,9,   2302.8,2,   7.7210,2,    25.00,   3.1226
  35TH20040604, OVIDE,    65,  1,     12,     12,2,20040622,0453, 52.8940, -24.6560, 3679,   1796.8,   3.3930,  34.8950,2,  34.8960,2,    279.0,2,    279.2,2,    11.27,2,    17.56,   2,  -999.00,9,   2302.8,2,   7.7180,2,    25.00,   3.2535
  35TH20040604, OVIDE,    65,  1,     13,     13,2,20040622,0453, 52.8940, -24.6560, 3679,   1593.3,   3.5520,  34.8990,2,  34.8970,2,    277.0,2,    276.6,2,    11.02,2,    17.61,   2,  -999.00,9,   2301.1,2,   7.7140,2,    25.00,   3.4288
  35TH20040604, OVIDE,    65,  1,     14,     14,2,20040622,0453, 52.8940, -24.6560, 3679,   1396.8,   3.6610,  34.8960,2,  34.8970,2,    277.5,2,    276.1,2,    10.74,2,    17.50,   2,  -999.00,9,   2303.2,2,   7.7130,2,    25.00,   3.5539
  35TH20040604, OVIDE,    65,  1,     15,     15,2,20040622,0453, 52.8940, -24.6560, 3679,   1196.5,   3.8280,  34.9030,2,  34.9010,2,    274.2,2,    273.7,2,    10.66,2,    17.61,   2,  -999.00,9,   2302.1,2,   7.7120,2,    25.00,   3.7365
  35TH20040604, OVIDE,    65,  1,     16,     16,2,20040622,0453, 52.8940, -24.6560, 3679,    995.9,   4.0380,  34.9070,2,  34.9060,2,    268.5,2,    268.5,2,    10.66,2,    17.72,   2,  -999.00,9,   2301.9,2,   7.7080,2,    25.00,   3.9617
  35TH20040604, OVIDE,    65,  1,     17,     17,2,20040622,0453, 52.8940, -24.6560, 3679,    896.0,   4.2300,  34.9080,2,  34.9060,2,    262.6,2,    276.7,3,    10.74,2,    18.00,   2,  -999.00,9,   2302.3,2,   7.7090,2,    25.00,   4.1607
  35TH20040604, OVIDE,    65,  1,     18,     18,2,20040622,0453, 52.8940, -24.6560, 3679,    796.0,   5.2350,  35.0310,2,  35.0320,2,    245.2,2,    239.4,3,    11.35,2,    18.68,   2,  -999.00,9,   2302.3,2,   7.7050,2,    25.00,   5.1677
  35TH20040604, OVIDE,    65,  1,     19,     19,2,20040622,0453, 52.8940, -24.6560, 3679,    695.3,   4.8250,  34.8960,2,  34.8960,2,    252.6,2,    250.8,2,    10.45,2,    18.34,   2,  -999.00,9,   2303.1,2,   7.6980,2,    25.00,   4.7691
  35TH20040604, OVIDE,    65,  1,     20,     20,2,20040622,0453, 52.8940, -24.6560, 3679,    551.6,   6.0330,  34.9120,2,  34.9120,2,    235.1,2,    230.2,2,    10.86,2,    19.01,   2,  -999.00,9,   -999.0,9,   7.7030,2,    25.00,   5.9841
  35TH20040604, OVIDE,    65,  1,     21,     21,2,20040622,0453, 52.8940, -24.6560, 3679,    494.8,   7.1290,  35.0150,2,  35.0180,2,    216.0,2,    215.1,2,    10.70,2,    19.12,   2,  -999.00,9,   2310.0,2,   7.7130,2,    25.00,   7.0811
  35TH20040604, OVIDE,    65,  1,     22,     22,2,20040622,0453, 52.8940, -24.6560, 3679,    397.8,   8.5440,  35.1360,2,  35.1300,2,    229.4,2,    237.9,3,     7.84,2,    15.70,   2,  -999.00,9,   2316.8,2,   7.7700,2,    25.00,   8.5015
  35TH20040604, OVIDE,    65,  1,     23,     23,2,20040622,0453, 52.8940, -24.6560, 3679,    296.2,   9.7400,  35.2870,2,  35.2860,2,    264.4,2,    260.9,2,     5.43,2,    12.06,   2,  -999.00,9,   2325.3,2,   7.8220,2,    25.00,   9.7059
  35TH20040604, OVIDE,    65,  1,     24,     24,2,20040622,0453, 52.8940, -24.6560, 3679,    196.7,   9.9510,  35.3150,2,  35.3180,2,    264.2,2,    260.6,2,     5.06,2,    11.66,   2,  -999.00,9,   2325.9,2,   7.8250,2,    25.00,   9.9282
  35TH20040604, OVIDE,    65,  1,     25,     25,2,20040622,0453, 52.8940, -24.6560, 3679,    146.1,   9.9550,  35.2940,2,  35.2930,2,    262.7,2,    260.0,2,     4.08,2,    11.38,   2,  -999.00,9,   -999.0,9,   7.8310,2,    25.00,   9.9381
  35TH20040604, OVIDE,    65,  1,     26,     26,2,20040622,0453, 52.8940, -24.6560, 3679,     96.3,  10.2920,  35.2990,2,  35.3010,2,    263.0,2,    262.2,2,     3.10,2,     9.98,   2,  -999.00,9,   2327.8,2,   7.8420,2,    25.00,  10.2806
  35TH20040604, OVIDE,    65,  1,     27,     27,2,20040622,0453, 52.8940, -24.6560, 3679,     47.9,  11.3490,  35.2630,2,  35.2690,2,    275.4,2,    273.3,2,     1.43,2,     7.12,   2,  -999.00,9,   -999.0,9,   7.8930,2,    25.00,  11.3430
  35TH20040604, OVIDE,    66,  1,      3,      3,2,20040622,0955, 52.5210, -24.3640, 3657,   3643.9,   2.5370,  34.9110,2,  34.9130,2,    242.9,2,    242.7,2,    43.61,2,    22.81,   2,  -999.00,9,   -999.0,9,   7.7280,2,    25.00,   2.2278
  35TH20040604, OVIDE,    66,  1,      4,      4,2,20040622,0955, 52.5210, -24.3640, 3657,   3396.1,   2.7660,  34.9400,2,  34.9410,2,    261.7,2,    260.8,2,    27.29,2,    19.40,   2,  -999.00,9,   -999.0,9,   7.7240,2,    25.00,   2.4782
  35TH20040604, OVIDE,    66,  1,      5,      5,2,20040622,0955, 52.5210, -24.3640, 3657,   3196.8,   2.8440,  34.9460,2,  34.9490,2,    265.0,2,    266.0,2,    22.11,2,    18.65,   2,  -999.00,9,   -999.0,9,   7.7270,2,    25.00,   2.5758
  35TH20040604, OVIDE,    66,  1,      6,      6,2,20040622,0955, 52.5210, -24.3640, 3657,   2995.6,   2.9190,  34.9440,2,  34.9480,2,    269.8,2,    270.9,2,    18.18,2,    18.07,   2,  -999.00,9,   -999.0,9,   7.7270,2,    25.00,   2.6704
  35TH20040604, OVIDE,    66,  1,      7,      7,2,20040622,0955, 52.5210, -24.3640, 3657,   2795.6,   3.0160,  34.9380,2,  34.9380,2,    273.2,2,    264.8,3,    15.57,2,    17.78,   2,  -999.00,9,   -999.0,9,   7.7280,2,    25.00,   2.7861
  35TH20040604, OVIDE,    66,  1,      8,      8,2,20040622,0955, 52.5210, -24.3640, 3657,   2596.5,   3.0990,  34.9230,2,  34.9260,2,    275.4,2,    262.2,3,    13.99,2,    17.78,   2,  -999.00,9,   -999.0,9,   7.7300,2,    25.00,   2.8877
  35TH20040604, OVIDE,    66,  1,      9,      9,2,20040622,0955, 52.5210, -24.3640, 3657,   2398.2,   3.1520,  34.9100,2,  34.9120,2,    279.4,2,    282.3,2,    12.24,2,    17.56,   2,  -999.00,9,   -999.0,9,   7.7280,2,    25.00,   2.9594
  35TH20040604, OVIDE,    66,  1,     10,     10,2,20040622,0955, 52.5210, -24.3640, 3657,   2195.4,   3.1930,  34.8950,2,  34.8950,2,    280.0,2,    282.0,2,    11.67,2,    17.56,   2,  -999.00,9,   -999.0,9,   7.7280,2,    25.00,   3.0193
  35TH20040604, OVIDE,    66,  1,     11,     11,2,20040622,0955, 52.5210, -24.3640, 3657,   1995.0,   3.2640,  34.8880,2,  34.8870,2,    280.8,2,    282.0,2,    11.55,2,    17.79,   2,  -999.00,9,   -999.0,9,   7.7250,2,    25.00,   3.1081
  35TH20040604, OVIDE,    66,  1,     12,     12,2,20040622,0955, 52.5210, -24.3640, 3657,   1796.2,   3.3870,  34.8910,2,  34.8890,2,    277.4,2,    280.1,2,    11.30,2,    17.90,   2,  -999.00,9,   -999.0,9,   7.7230,2,    25.00,   3.2476
  35TH20040604, OVIDE,    66,  1,     13,     13,2,20040622,0955, 52.5210, -24.3640, 3657,   1796.0,   3.3880,  34.8910,2,  34.8920,2,    277.4,2,    278.8,2,    11.30,2,    17.90,   2,  -999.00,9,   -999.0,9,   7.7230,2,    25.00,   3.2486
  35TH20040604, OVIDE,    66,  1,     14,     14,2,20040622,0955, 52.5210, -24.3640, 3657,   1596.0,   3.5540,  34.8970,2,  34.8970,2,    276.0,2,    275.8,2,    11.14,2,    18.08,   2,  -999.00,9,   -999.0,9,   7.7210,2,    25.00,   3.4305
  35TH20040604, OVIDE,    66,  1,     15,     15,2,20040622,0955, 52.5210, -24.3640, 3657,   1395.9,   3.6860,  34.8990,2,  34.8980,2,    275.2,2,    274.4,2,    10.74,2,    17.96,   2,  -999.00,9,   -999.0,9,   7.7160,2,    25.00,   3.5787
  35TH20040604, OVIDE,    66,  1,     16,     16,2,20040622,0955, 52.5210, -24.3640, 3657,   1194.6,   3.9160,  34.9140,2,  34.9140,2,    269.2,2,    271.1,2,    10.94,2,    18.25,   2,  -999.00,9,   -999.0,9,   7.7150,2,    25.00,   3.8238
  35TH20040604, OVIDE,    66,  1,     17,     17,2,20040622,0955, 52.5210, -24.3640, 3657,    996.4,   4.3220,  34.9410,2,  34.9400,2,    261.7,2,    260.5,2,    10.94,2,    18.77,   2,  -999.00,9,   -999.0,9,   7.7110,2,    25.00,   4.2434
  35TH20040604, OVIDE,    66,  1,     18,     18,2,20040622,0955, 52.5210, -24.3640, 3657,    736.7,   5.2050,  34.9530,2,  34.9580,2,    235.9,2,    224.8,3,    11.30,2,    19.46,   2,  -999.00,9,   -999.0,9,   7.7040,2,    25.00,   5.1433
  35TH20040604, OVIDE,    66,  1,     19,     19,2,20040622,0955, 52.5210, -24.3640, 3657,    597.7,   6.3770,  35.0080,2,  35.0100,2,    218.3,2,    220.9,2,    11.26,2,    19.86,   2,  -999.00,9,   -999.0,9,   7.7060,2,    25.00,   6.3222
  35TH20040604, OVIDE,    66,  1,     20,     20,2,20040622,0955, 52.5210, -24.3640, 3657,    496.6,   7.6820,  35.1140,2,  35.1120,2,    200.1,2,    207.4,3,    10.73,2,    19.75,   2,  -999.00,9,   -999.0,9,   7.7160,2,    25.00,   7.6318
  35TH20040604, OVIDE,    66,  1,     21,     21,2,20040622,0955, 52.5210, -24.3640, 3657,    396.7,   8.3970,  35.1030,2,  35.1060,2,    222.6,2,    223.1,2,     9.27,2,    18.07,   2,  -999.00,9,   -999.0,9,   7.7450,2,    25.00,   8.3551
  35TH20040604, OVIDE,    66,  1,     22,     22,2,20040622,0955, 52.5210, -24.3640, 3657,    297.8,   9.5980,  35.2430,2,  35.2420,2,    255.6,2,    223.9,3,     5.98,2,    13.39,   2,  -999.00,9,   -999.0,9,   7.8140,2,    25.00,   9.5640
  35TH20040604, OVIDE,    66,  1,     23,     23,2,20040622,0955, 52.5210, -24.3640, 3657,    196.8,   9.8570,  35.2660,2,  35.2680,2,    264.2,2,    224.1,3,     4.96,2,    12.12,   2,  -999.00,9,   -999.0,9,   7.8240,2,    25.00,   9.8343
  35TH20040604, OVIDE,    66,  1,     24,     24,2,20040622,0955, 52.5210, -24.3640, 3657,    146.6,   9.8840,  35.2650,2,  35.2670,2,    260.9,2,    260.7,2,     4.92,2,    12.24,   2,  -999.00,9,   -999.0,9,   7.8240,2,    25.00,   9.8671
  35TH20040604, OVIDE,    66,  1,     25,     25,2,20040622,0955, 52.5210, -24.3640, 3657,    107.9,   9.9030,  35.2360,2,  35.2350,2,    245.0,2,    255.5,3,     4.31,2,    12.36,   2,  -999.00,9,   -999.0,9,   7.8230,2,    25.00,   9.8906
  35TH20040604, OVIDE,    66,  1,     26,     26,2,20040622,0955, 52.5210, -24.3640, 3657,     46.8,  11.2590,  35.2700,2,  35.2680,2,    270.7,2,    273.7,2,     1.18,2,     7.10,   2,  -999.00,9,   -999.0,9,   7.8890,2,    25.00,  11.2532
  35TH20040604, OVIDE,    66,  1,     27,     27,2,20040622,0955, 52.5210, -24.3640, 3657,      4.7,  12.5770,  35.2970,2,  35.3000,2,    262.3,2,    217.2,3,     0.81,2,     6.75,   2,  -999.00,9,   -999.0,9,   7.8990,2,    25.00,  12.5764