BOTTLE,20220120SIOCCHENA
EXPOCODE,SECT_ID,STNNBR,CASTNO,SAMPNO,BTLNBR,BTLNBR_FLAG_W,DATE,TIME,LATITUDE,LONGITUDE,DEPTH,CTDPRS,CTDTMP,CTDSAL,CTDSAL_FLAG_W,SALNTY,SALNTY_FLAG_W,CTDOXY,CTDOXY_FLAG_W,OXYGEN,OXYGEN_FLAG_W,SILCAT,SILCAT_FLAG_W,NITRAT,NITRAT_FLAG_W,PHSPHT,PHSPHT_FLAG_W,ALKALI,ALKALI_FLAG_W,PH_SWS,PH_SWS_FLAG_W,PH_TMP,THETA
,,,,,,,,,,,METERS,DBAR,ITS-90,PSS-78,,PSS-78,,UMOL/KG,,UMOL/KG,,UMOL/KG,,UMOL/KG,,UMOL/KG,,UMOL/KG,,,,DEG C,DEG C
  35TH20040604, OVIDE,    46,  1,      3,      3,2,20040618,2120, 56.6290, -27.5830, 2763,   2748.9,   2.6840,  34.9730,2,  34.9660,2,    274.1,2,    274.4,2,    14.19,2,    16.38,   2,     1.18,2,   2310.4,2,   7.7230,2,    25.00,   2.4653
  35TH20040604, OVIDE,    46,  1,      4,      4,2,20040618,2120, 56.6290, -27.5830, 2763,   2696.3,   2.7430,  34.9690,2,  34.9660,2,    274.1,2,    274.2,2,    14.27,2,    16.43,   2,     1.20,2,   2312.2,2,-999.0000,9,  -999.00,   2.5284
  35TH20040604, OVIDE,    46,  1,      5,      5,2,20040618,2120, 56.6290, -27.5830, 2763,   2495.0,   2.8560,  34.9580,2,  34.9550,2,    272.6,2,    270.8,2,    15.66,2,    16.94,   2,     1.18,2,   2310.7,2,   7.7230,2,    25.00,   2.6591
  35TH20040604, OVIDE,    46,  1,      6,      6,2,20040618,2120, 56.6290, -27.5830, 2763,   2245.6,   3.0940,  34.9440,2,  34.9370,2,    275.2,2,    274.0,2,    13.04,2,    16.77,   2,     1.24,2,   2307.1,2,   7.7270,2,    25.00,   2.9170
  35TH20040604, OVIDE,    46,  1,      7,      7,2,20040618,2120, 56.6290, -27.5830, 2763,   1995.3,   3.2040,  34.9140,2,  34.9370,3,    278.7,2,    280.6,2,    11.60,2,    16.94,   2,     1.24,2,   2302.9,2,-999.0000,9,  -999.00,   3.0489
  35TH20040604, OVIDE,    46,  1,      8,      8,2,20040618,2120, 56.6290, -27.5830, 2763,   1795.7,   3.2380,  34.8930,2,  34.8900,2,    281.8,2,    280.6,2,    11.11,2,    17.22,   2,     1.24,2,   2300.4,2,   7.7270,2,    25.00,   3.1007
  35TH20040604, OVIDE,    46,  1,      9,      9,2,20040618,2120, 56.6290, -27.5830, 2763,   1596.0,   3.3670,  34.8910,2,  34.8870,2,    280.1,2,    278.8,2,    10.99,2,    17.39,   2,     1.24,2,   2300.9,2,   7.7220,2,    25.00,   3.2458
  35TH20040604, OVIDE,    46,  1,     10,     10,2,20040618,2120, 56.6290, -27.5830, 2763,   1396.6,   3.5690,  34.9000,2,  34.8910,2,    275.5,2,    274.2,2,    10.99,2,    17.72,   2,     1.25,2,   2301.3,2,   7.7170,2,    25.00,   3.4629
  35TH20040604, OVIDE,    46,  1,     11,     11,2,20040618,2120, 56.6290, -27.5830, 2763,   1193.3,   3.6940,  34.8970,2,  34.8930,2,    274.0,2,    273.5,2,    10.42,2,    17.56,   2,     1.30,2,   2302.2,2,   7.7140,2,    25.00,   3.6040
  35TH20040604, OVIDE,    46,  1,     12,     12,2,20040618,2120, 56.6290, -27.5830, 2763,    994.2,   4.0140,  34.9170,2,  34.9110,2,    266.4,2,    266.3,2,    10.46,2,    17.78,   2,     1.29,2,   -999.0,9,   7.7110,2,    25.00,   3.9380
  35TH20040604, OVIDE,    46,  1,     13,     13,2,20040618,2120, 56.6290, -27.5830, 2763,    897.0,   4.2920,  34.9390,2,  34.9320,2,    260.9,2,    259.7,2,    10.58,2,    18.06,   2,     1.29,2,   2305.1,2,   7.7080,2,    25.00,   4.2222
  35TH20040604, OVIDE,    46,  1,     14,     14,2,20040618,2120, 56.6290, -27.5830, 2763,    797.0,   4.5550,  34.9520,2,  34.9490,2,    251.6,2,    252.6,2,    10.66,2,    18.17,   2,     1.30,2,   2305.9,2,   7.7050,2,    25.00,   4.4919
  35TH20040604, OVIDE,    46,  1,     15,     15,2,20040618,2120, 56.6290, -27.5830, 2763,    696.0,   4.9460,  34.9740,2,  34.9720,2,    241.5,2,    242.1,2,    10.78,2,    18.51,   2,     1.32,2,   2309.4,2,   7.7010,2,    25.00,   4.8893
  35TH20040604, OVIDE,    46,  1,     16,     16,2,20040618,2120, 56.6290, -27.5830, 2763,    595.1,   5.4960,  35.0000,2,  35.0020,2,    230.4,2,    230.3,2,    10.95,2,    18.96,   2,     1.35,2,   2310.9,2,   7.6970,2,    25.00,   5.4454
  35TH20040604, OVIDE,    46,  1,     17,     17,2,20040618,2120, 56.6290, -27.5830, 2763,    595.1,   5.4960,  35.0000,2,  35.0010,2,    230.4,2,    230.8,2,    10.99,2,    18.96,   2,     1.35,2,   -999.0,9,   7.6930,2,    25.00,   5.4454
  35TH20040604, OVIDE,    46,  1,     18,     18,2,20040618,2120, 56.6290, -27.5830, 2763,    494.9,   6.2230,  35.0440,2,  35.0430,2,    225.4,2,    222.7,2,    10.74,2,    18.84,   2,     1.36,2,   2310.2,2,   7.7030,2,    25.00,   6.1785
  35TH20040604, OVIDE,    46,  1,     19,     19,2,20040618,2120, 56.6290, -27.5830, 2763,    356.6,   7.4220,  35.0910,2,  35.0630,3,    234.2,2,    238.0,2,     8.86,2,    16.94,   2,     1.21,2,   2312.4,2,   7.7370,2,    25.00,   7.3870
  35TH20040604, OVIDE,    46,  1,     20,     20,2,20040618,2120, 56.6290, -27.5830, 2763,    294.9,   7.6990,  35.0850,2,  35.1010,3,    245.1,2,    247.3,2,     7.87,2,    15.81,   2,     1.15,2,   -999.0,9,   7.7560,2,    25.00,   7.6696
  35TH20040604, OVIDE,    46,  1,     21,     21,2,20040618,2120, 56.6290, -27.5830, 2763,    196.4,   7.8910,  35.0530,2,  35.0540,2,    260.4,2,    257.8,2,     7.13,2,    14.69,   2,     1.09,2,   2309.5,2,   7.7700,2,    25.00,   7.8713
  35TH20040604, OVIDE,    46,  1,     22,     22,2,20040618,2120, 56.6290, -27.5830, 2763,    147.0,   8.1020,  35.0630,2,  35.0690,2,    268.6,2,    261.5,3,     6.07,2,    13.68,   2,     1.01,2,   -999.0,9,   7.7840,2,    25.00,   8.0870
  35TH20040604, OVIDE,    46,  1,     23,     23,2,20040618,2120, 56.6290, -27.5830, 2763,     96.2,   8.5510,  35.0630,2,  35.0650,2,    278.9,2,    278.4,2,     3.85,2,    11.10,   2,     0.90,2,   2312.7,2,   7.8140,2,    25.00,   8.5409
  35TH20040604, OVIDE,    46,  1,     24,     24,2,20040618,2120, 56.6290, -27.5830, 2763,     45.7,   9.3060,  35.0730,2,  35.0780,2,    281.7,2,    283.3,2,     1.56,2,     8.80,   2,     0.77,2,   -999.0,9,   7.8410,2,    25.00,   9.3010
  35TH20040604, OVIDE,    46,  1,     25,     25,2,20040618,2120, 56.6290, -27.5830, 2763,      3.9,  10.3670,  34.9880,2,  34.9920,2,    278.2,2,    292.2,3,     0.66,2,     6.11,   2,     0.59,2,   2305.3,2,   7.8850,2,    25.00,  10.3665
  35TH20040604, OVIDE,    47,  1,      3,      3,2,20040619,0058, 56.3330, -27.3440, 2698,   2683.8,   2.7020,  34.9710,2,  34.9700,2,   -999.0,9,    273.7,2,    14.05,2,    16.47,   2,     1.22,2,   -999.0,9,   7.7250,2,    25.00,   2.4894
  35TH20040604, OVIDE,    47,  1,      4,      4,2,20040619,0058, 56.3330, -27.3440, 2698,   2596.2,   2.7440,  34.9650,2,  34.9630,2,    271.3,2,    271.2,2,    15.43,2,    16.80,   2,     1.25,2,   -999.0,9,   7.7270,2,    25.00,   2.5393
  35TH20040604, OVIDE,    47,  1,      5,      5,2,20040619,0058, 56.3330, -27.3440, 2698,   2395.2,   2.8950,  34.9560,2,  34.9520,2,    273.0,2,    271.2,2,    14.78,2,    16.74,   2,     1.27,2,   -999.0,9,   7.7270,2,    25.00,   2.7071
  35TH20040604, OVIDE,    47,  1,      6,      6,2,20040619,0058, 56.3330, -27.3440, 2698,   2194.0,   3.1060,  34.9420,2,  34.9420,2,    275.7,2,    274.2,2,    12.58,2,    16.69,   2,     1.26,2,   -999.0,9,   7.7260,2,    25.00,   2.9337
  35TH20040604, OVIDE,    47,  1,      7,      7,2,20040619,0058, 56.3330, -27.3440, 2698,   1995.6,   3.1730,  34.9180,2,  34.9110,2,    280.2,2,    277.7,2,    11.60,2,    16.80,   2,     1.27,2,   -999.0,9,-999.0000,9,  -999.00,   3.0183
  35TH20040604, OVIDE,    47,  1,      8,      8,2,20040619,0058, 56.3330, -27.3440, 2698,   1995.6,   3.1730,  34.9180,2,  34.9160,2,    280.2,2,    277.0,2,    11.60,2,    16.86,   2,     1.26,2,   -999.0,9,-999.0000,9,  -999.00,   3.0183
  35TH20040604, OVIDE,    47,  1,      9,      9,2,20040619,0058, 56.3330, -27.3440, 2698,   1778.7,   3.2000,  34.8920,2,  34.8910,2,    281.1,2,    281.1,2,    10.94,2,    17.08,   2,     1.27,2,   -999.0,9,-999.0000,9,  -999.00,   3.0647
  35TH20040604, OVIDE,    47,  1,     10,     10,2,20040619,0058, 56.3330, -27.3440, 2698,   1593.9,   3.3070,  34.8880,2,  34.8860,2,    279.7,2,    280.5,2,    10.90,2,    17.19,   2,     1.28,2,   -999.0,9,-999.0000,9,  -999.00,   3.1867
  35TH20040604, OVIDE,    47,  1,     11,     11,2,20040619,0058, 56.3330, -27.3440, 2698,   1396.3,   3.4720,  34.8930,2,  34.8940,2,    277.7,2,    276.3,2,    10.86,2,    17.36,   2,     1.29,2,   -999.0,9,-999.0000,9,  -999.00,   3.3669
  35TH20040604, OVIDE,    47,  1,     12,     12,2,20040619,0058, 56.3330, -27.3440, 2698,   1195.9,   3.6630,  34.9000,2,  34.8970,2,    274.1,2,    272.9,2,    10.62,2,    17.41,   2,     1.30,2,   -999.0,9,-999.0000,9,  -999.00,   3.5731
  35TH20040604, OVIDE,    47,  1,     13,     13,2,20040619,0058, 56.3330, -27.3440, 2698,    996.3,   3.8660,  34.9030,2,  34.9030,2,    266.8,2,    269.2,2,    10.37,2,    17.52,   2,     1.32,2,   -999.0,9,-999.0000,9,  -999.00,   3.7910
  35TH20040604, OVIDE,    47,  1,     14,     14,2,20040619,0058, 56.3330, -27.3440, 2698,    795.9,   4.2890,  34.9310,2,  34.9320,2,    255.3,2,    258.7,2,    10.54,2,    17.91,   2,     1.33,2,   -999.0,9,-999.0000,9,  -999.00,   4.2276
  35TH20040604, OVIDE,    47,  1,     15,     15,2,20040619,0058, 56.3330, -27.3440, 2698,    596.4,   5.1580,  34.9980,2,  34.9990,2,    235.5,2,    237.9,2,    10.94,2,    18.52,   2,     1.38,2,   -999.0,9,-999.0000,9,  -999.00,   5.1088
  35TH20040604, OVIDE,    47,  1,     16,     16,2,20040619,0058, 56.3330, -27.3440, 2698,    386.5,   6.0660,  34.9530,2,  34.9420,3,    236.4,2,    231.7,2,    10.29,2,    18.41,   2,     1.39,2,   -999.0,9,-999.0000,9,  -999.00,   6.0321
  35TH20040604, OVIDE,    47,  1,     17,     17,2,20040619,0058, 56.3330, -27.3440, 2698,    306.0,   7.1030,  35.0080,2,  35.0090,2,    228.8,2,    223.0,2,     9.84,2,    18.08,   2,     1.36,2,   -999.0,9,-999.0000,9,  -999.00,   7.0739
  35TH20040604, OVIDE,    47,  1,     18,     18,2,20040619,0058, 56.3330, -27.3440, 2698,    196.7,   8.3610,  35.0960,2,  35.0960,2,    256.4,2,    252.1,2,     6.70,2,    14.36,   2,     1.10,2,   -999.0,9,-999.0000,9,  -999.00,   8.3405
  35TH20040604, OVIDE,    47,  1,     19,     19,2,20040619,0058, 56.3330, -27.3440, 2698,    196.8,   8.3520,  35.0920,2,  35.0940,2,    256.4,2,    252.2,2,     6.70,2,    14.42,   2,     1.09,2,   -999.0,9,-999.0000,9,  -999.00,   8.3315
  35TH20040604, OVIDE,    47,  1,     20,     20,2,20040619,0058, 56.3330, -27.3440, 2698,    146.9,   8.3260,  35.0250,2,  35.0460,3,    267.6,2,    268.6,2,     5.23,2,    12.64,   2,     1.00,2,   -999.0,9,-999.0000,9,  -999.00,   8.3108
  35TH20040604, OVIDE,    47,  1,     21,     21,2,20040619,0058, 56.3330, -27.3440, 2698,     97.1,   9.5040,  35.1960,2,  35.1900,2,    262.6,2,    258.3,2,     4.94,2,    12.25,   2,     0.96,2,   -999.0,9,-999.0000,9,  -999.00,   9.4931
  35TH20040604, OVIDE,    48,  1,      3,      3,2,20040619,0451, 56.0370, -27.1100, 2840,   2826.1,   2.6950,  34.9690,2,  34.9710,2,    275.2,2,    273.3,2,    14.72,2,    15.98,   2,     1.19,2,   2314.1,2,   7.7190,2,    25.00,   2.4684
  35TH20040604, OVIDE,    48,  1,      4,      4,2,20040619,0451, 56.0370, -27.1100, 2840,   2825.6,   2.6950,  34.9690,2,  34.9690,2,    275.2,2,    273.4,2,    14.76,2,    15.59,   2,     1.18,2,   -999.0,9,   7.7220,2,    25.00,   2.4684
  35TH20040604, OVIDE,    48,  1,      5,      5,2,20040619,0451, 56.0370, -27.1100, 2840,   2695.6,   2.7440,  34.9590,2,  34.9600,2,    271.6,2,    269.8,2,    17.16,2,    16.71,   2,     1.24,2,   2313.6,2,   7.7210,2,    25.00,   2.5295
  35TH20040604, OVIDE,    48,  1,      6,      6,2,20040619,0451, 56.0370, -27.1100, 2840,   2496.5,   2.8370,  34.9490,2,  34.9440,2,    270.4,2,    269.2,2,    17.37,2,    16.94,   2,     1.25,2,   2309.0,2,   7.7230,2,    25.00,   2.6403
  35TH20040604, OVIDE,    48,  1,      7,      7,2,20040619,0451, 56.0370, -27.1100, 2840,   2245.2,   3.1090,  34.9350,2,  34.9410,2,    276.1,2,    274.6,2,    13.03,2,    16.49,   2,     1.22,2,   2306.9,2,   7.7270,2,    25.00,   2.9318
  35TH20040604, OVIDE,    48,  1,      8,      8,2,20040619,0451, 56.0370, -27.1100, 2840,   1981.4,   3.2010,  34.9040,2,  34.9080,2,    280.6,2,    280.3,2,    11.58,2,    16.66,   2,     1.22,2,   2302.3,2,   7.7280,2,    25.00,   3.0472
  35TH20040604, OVIDE,    48,  1,      9,      9,2,20040619,0451, 56.0370, -27.1100, 2840,   1795.1,   3.2130,  34.8840,2,  34.8890,2,    283.7,2,    282.6,2,    11.25,2,    16.88,   2,     1.23,2,   2300.8,2,   7.7250,2,    25.00,   3.0761
  35TH20040604, OVIDE,    48,  1,     10,     10,2,20040619,0451, 56.0370, -27.1100, 2840,   1593.0,   3.3540,  34.8860,2,  34.8990,3,    278.4,2,    279.4,2,    11.16,2,    17.11,   2,     1.25,2,   2301.2,2,   7.7220,2,    25.00,   3.2332
  35TH20040604, OVIDE,    48,  1,     11,     11,2,20040619,0451, 56.0370, -27.1100, 2840,   1396.7,   3.5100,  34.8910,2,  34.8950,2,    278.4,2,    276.5,2,    10.92,2,    17.22,   2,     1.25,2,   2300.0,2,   7.7200,2,    25.00,   3.4045
  35TH20040604, OVIDE,    48,  1,     12,     12,2,20040619,0451, 56.0370, -27.1100, 2840,   1397.1,   3.5110,  34.8910,2,  34.8970,2,    278.4,2,    276.3,2,    10.92,2,    17.16,   2,     1.25,2,   -999.0,9,   7.7190,2,    25.00,   3.4054
  35TH20040604, OVIDE,    48,  1,     13,     13,2,20040619,0451, 56.0370, -27.1100, 2840,   1196.1,   3.6690,  34.8960,2,  34.9010,2,    275.7,2,    273.7,2,    10.71,2,    17.27,   2,     1.25,2,   2300.3,2,   7.7180,2,    25.00,   3.5790
  35TH20040604, OVIDE,    48,  1,     14,     14,2,20040619,0451, 56.0370, -27.1100, 2840,    988.1,   3.8430,  34.8980,2,  34.9040,2,    273.9,2,    273.2,2,    10.26,2,    17.16,   2,     1.25,2,   2301.0,2,   7.7150,2,    25.00,   3.7689
  35TH20040604, OVIDE,    48,  1,     15,     15,2,20040619,0451, 56.0370, -27.1100, 2840,    896.1,   3.9550,  34.9030,2,  34.9020,2,    269.2,2,    268.3,2,    10.46,2,    17.89,   2,     1.25,2,   -999.0,9,   7.7110,2,    25.00,   3.8876
  35TH20040604, OVIDE,    48,  1,     16,     16,2,20040619,0451, 56.0370, -27.1100, 2840,    796.8,   4.1360,  34.9150,2,  34.9180,2,    263.0,2,    264.9,2,    10.54,2,    17.95,   2,     1.27,2,   2303.1,2,   7.7100,2,    25.00,   4.0755
  35TH20040604, OVIDE,    48,  1,     17,     17,2,20040619,0451, 56.0370, -27.1100, 2840,    695.8,   4.3910,  34.9280,2,  34.9320,2,    256.9,2,    256.9,2,    10.67,2,    18.17,   2,     1.30,2,   -999.0,9,   7.7070,2,    25.00,   4.3373
  35TH20040604, OVIDE,    48,  1,     18,     18,2,20040619,0451, 56.0370, -27.1100, 2840,    595.5,   4.9090,  34.9660,2,  34.9720,2,    243.4,2,    244.6,2,    10.92,2,    18.45,   2,     1.32,2,   2308.8,2,   7.7030,2,    25.00,   4.8611
  35TH20040604, OVIDE,    48,  1,     19,     19,2,20040619,0451, 56.0370, -27.1100, 2840,    498.2,   5.2090,  34.9470,2,  34.9520,2,    239.7,2,    239.2,2,    10.92,2,    18.68,   2,     1.33,2,   2306.8,2,   7.7010,2,    25.00,   5.1681
  35TH20040604, OVIDE,    48,  1,     20,     20,2,20040619,0451, 56.0370, -27.1100, 2840,    397.4,   5.7130,  34.9240,2,  34.9240,2,    241.0,2,    235.7,2,    10.63,2,    18.62,   2,     1.35,2,   2305.1,2,   7.7040,2,    25.00,   5.6792
  35TH20040604, OVIDE,    48,  1,     21,     21,2,20040619,0451, 56.0370, -27.1100, 2840,    296.8,   6.6130,  34.9210,2,  34.9250,2,    229.2,2,    228.3,2,    10.17,2,    18.45,   2,     1.33,2,   2304.1,2,   7.7130,2,    25.00,   6.5859
  35TH20040604, OVIDE,    48,  1,     22,     22,2,20040619,0451, 56.0370, -27.1100, 2840,    195.8,   7.6130,  34.9350,2,  34.9360,2,    263.1,2,    254.7,3,     7.24,2,    14.81,   2,     1.10,2,   2305.1,2,   7.7650,2,    25.00,   7.5938
  35TH20040604, OVIDE,    48,  1,     23,     23,2,20040619,0451, 56.0370, -27.1100, 2840,    147.4,   7.8740,  34.9380,2,  34.9390,2,    278.2,2,    269.6,3,     5.71,2,    13.12,   2,     1.00,2,   -999.0,9,   7.7910,2,    25.00,   7.8593
  35TH20040604, OVIDE,    48,  1,     24,     24,2,20040619,0451, 56.0370, -27.1100, 2840,     96.6,   8.3600,  34.9720,2,  34.9700,2,    270.8,2,    266.1,2,     4.92,2,    12.62,   2,     0.97,2,   2307.9,2,   7.8010,2,    25.00,   8.3500
  35TH20040604, OVIDE,    48,  1,     25,     25,2,20040619,0451, 56.0370, -27.1100, 2840,     46.6,   9.4170,  34.9140,2,  34.9190,2,    277.7,2,    278.9,2,     3.47,2,     8.52,   2,     0.78,2,   -999.0,9,   7.8440,2,    25.00,   9.4118
  35TH20040604, OVIDE,    48,  1,     26,     26,2,20040619,0451, 56.0370, -27.1100, 2840,      3.1,  10.8130,  34.8850,2,  34.8950,3,    280.4,2,    290.1,3,     2.94,2,     6.51,   3,     0.40,2,   2300.3,2,   7.8840,2,    25.00,  10.8126