BOTTLE,20220120SIOCCHENA
EXPOCODE,SECT_ID,STNNBR,CASTNO,SAMPNO,BTLNBR,BTLNBR_FLAG_W,DATE,TIME,LATITUDE,LONGITUDE,DEPTH,CTDPRS,CTDTMP,CTDSAL,CTDSAL_FLAG_W,SALNTY,SALNTY_FLAG_W,CTDOXY,CTDOXY_FLAG_W,OXYGEN,OXYGEN_FLAG_W,SILCAT,SILCAT_FLAG_W,NITRAT,NITRAT_FLAG_W,PHSPHT,PHSPHT_FLAG_W,ALKALI,ALKALI_FLAG_W,PH_SWS,PH_SWS_FLAG_W,PH_TMP,THETA
,,,,,,,,,,,METERS,DBAR,ITS-90,PSS-78,,PSS-78,,UMOL/KG,,UMOL/KG,,UMOL/KG,,UMOL/KG,,UMOL/KG,,UMOL/KG,,,,DEG C,DEG C
  35TH20040604, OVIDE,   114,  1,      3,      3,2,20040703,0857, 40.3360,  -9.8730, 2391,   2376.8,   3.6680,  35.0450,2,  35.0390,2,    244.4,2,    245.3,2,    25.71,2,    19.17,   2,     1.18,2,   2332.7,2,   7.7380,2,    25.00,   3.4680
  35TH20040604, OVIDE,   114,  1,      4,      4,2,20040703,0857, 40.3360,  -9.8730, 2391,   2245.6,   3.8200,  35.0610,2,  35.0580,2,    246.1,2,    245.4,2,    23.81,2,    19.63,   2,     1.16,2,   2330.1,2,   7.7390,2,    25.00,   3.6306
  35TH20040604, OVIDE,   114,  1,      5,      5,2,20040703,0857, 40.3360,  -9.8730, 2391,   1997.1,   4.3430,  35.1200,2,  35.1310,3,    246.8,2,    245.7,2,    17.41,2,    18.42,   2,     1.10,2,   2328.9,2,   7.7420,2,    25.00,   4.1702
  35TH20040604, OVIDE,   114,  1,      6,      6,2,20040703,0857, 40.3360,  -9.8730, 2391,   1997.5,   4.3440,  35.1190,2,  35.1140,2,    246.8,2,    245.9,2,    17.49,2,    18.42,   2,     1.12,2,   2327.7,2,   7.7410,2,    25.00,   4.1712
  35TH20040604, OVIDE,   114,  1,      7,      7,2,20040703,0857, 40.3360,  -9.8730, 2391,   1796.4,   5.2290,  35.2450,2,  35.2420,2,    239.8,2,    238.9,2,    14.53,2,    17.95,   2,     1.07,2,   2331.2,2,   7.7460,2,    25.00,   5.0641
  35TH20040604, OVIDE,   114,  1,      8,      8,2,20040703,0857, 40.3360,  -9.8730, 2391,   1596.4,   6.9920,  35.5410,2,  35.5480,2,    216.5,2,    220.0,2,    12.51,2,    17.95,   2,     1.01,2,   2352.0,2,   7.7590,2,    25.00,   6.8264
  35TH20040604, OVIDE,   114,  1,      9,      9,2,20040703,0857, 40.3360,  -9.8730, 2391,   1397.7,   9.8600,  36.0680,2,  36.0770,3,    192.2,2,    191.0,2,    10.12,2,    16.21,   2,     0.88,2,   2388.0,2,   7.7860,2,    25.00,   9.6873
  35TH20040604, OVIDE,   114,  1,     10,     10,2,20040703,0857, 40.3360,  -9.8730, 2391,   1196.5,  11.0910,  36.2530,2,  36.2540,2,    182.6,2,    182.7,2,     8.70,2,    15.69,   2,     0.82,2,   2401.0,2,   7.8040,2,    25.00,  10.9340
  35TH20040604, OVIDE,   114,  1,     11,     11,2,20040703,0857, 40.3360,  -9.8730, 2391,    996.8,  11.4380,  36.2050,2,  36.2010,2,    183.7,2,    181.7,2,     8.13,2,    15.35,   2,     0.83,2,   2394.5,2,   7.8030,2,    25.00,  11.3060
  35TH20040604, OVIDE,   114,  1,     12,     12,2,20040703,0857, 40.3360,  -9.8730, 2391,    896.9,  11.5680,  36.1730,2,  36.1720,2,    183.6,2,    182.8,2,     7.81,2,    14.88,   2,     0.79,2,   2389.8,2,   7.8050,2,    25.00,  11.4489
  35TH20040604, OVIDE,   114,  1,     13,     13,2,20040703,0857, 40.3360,  -9.8730, 2391,    798.1,  11.6780,  36.1530,2,  36.1490,2,    182.3,2,    183.0,2,     7.52,2,    14.77,   2,     0.78,2,   2386.9,2,   7.8080,2,    25.00,  11.5719
  35TH20040604, OVIDE,   114,  1,     14,     14,2,20040703,0857, 40.3360,  -9.8730, 2391,    695.5,  11.7140,  36.0870,2,  36.0870,2,    181.4,2,    183.9,2,     7.36,2,    14.88,   2,     0.79,2,   2380.7,2,   7.8060,2,    25.00,  11.6218
  35TH20040604, OVIDE,   114,  1,     15,     15,2,20040703,0857, 40.3360,  -9.8730, 2391,    595.8,  11.5350,  35.9320,2,  35.9300,2,    182.1,2,    183.2,2,     7.24,2,    15.70,   2,     0.83,2,   2368.7,2,   7.7970,2,    25.00,  11.4572
  35TH20040604, OVIDE,   114,  1,     16,     16,2,20040703,0857, 40.3360,  -9.8730, 2391,    494.8,  11.6420,  35.8210,2,  35.8130,2,    185.1,2,    186.0,2,     6.64,2,    15.41,   2,     0.82,2,   2358.3,2,   7.7950,2,    25.00,  11.5773
  35TH20040604, OVIDE,   114,  1,     17,     17,2,20040703,0857, 40.3360,  -9.8730, 2391,    356.4,  11.6450,  35.6710,2,  35.6710,2,    192.3,2,    194.4,2,     5.62,2,    14.43,   2,     0.75,2,   2343.9,2,   7.8030,2,    25.00,  11.5988
  35TH20040604, OVIDE,   114,  1,     18,     18,2,20040703,0857, 40.3360,  -9.8730, 2391,    296.2,  11.9750,  35.6840,2,  35.6830,2,    196.7,2,    198.2,2,     4.94,2,    13.62,   2,     0.70,2,   2341.9,2,   7.8070,2,    25.00,  11.9360
  35TH20040604, OVIDE,   114,  1,     19,     19,2,20040703,0857, 40.3360,  -9.8730, 2391,    197.5,  12.9720,  35.7670,2,  35.7620,2,    208.7,2,    207.2,2,     3.84,2,    10.39,   2,     0.53,2,   2347.4,2,   7.8310,2,    25.00,  12.9447
  35TH20040604, OVIDE,   114,  1,     20,     20,2,20040703,0857, 40.3360,  -9.8730, 2391,    147.2,  13.5290,  35.8260,2,  35.8190,2,    225.7,2,    224.0,2,     2.47,2,     6.52,   2,     0.34,2,   -999.0,9,   7.8810,2,    25.00,  13.5081
  35TH20040604, OVIDE,   114,  1,     21,     21,2,20040703,0857, 40.3360,  -9.8730, 2391,     93.5,  13.8940,  35.8310,2,  35.8300,2,    229.1,2,    225.3,2,     1.30,2,     2.65,   2,     0.16,2,   2350.7,2,   7.8900,2,    25.00,  13.8805
  35TH20040604, OVIDE,   114,  1,     22,     22,2,20040703,0857, 40.3360,  -9.8730, 2391,     45.3,  15.4170,  35.8230,2,  35.8210,2,    255.8,2,    257.9,2,     0.81,2,     0.00,   2,     0.01,2,   -999.0,9,   7.9620,2,    25.00,  15.4100
  35TH20040604, OVIDE,   114,  1,     23,     23,2,20040703,0857, 40.3360,  -9.8730, 2391,      5.5,  19.4070,  35.6900,2,  35.6880,2,    227.2,2,    238.2,2,     0.53,2,     0.00,   2,     0.04,2,   2348.5,2,   8.0080,2,    25.00,  19.4060
  35TH20040604, OVIDE,   115,  1,      3,      3,2,20040703,1133, 40.3330,  -9.7690,  816,    802.5,  11.7920,  36.1490,2,  36.1470,2,    182.4,2,    183.1,2,     7.29,2,    15.04,   2,     0.76,2,   2386.7,2,   7.8100,2,    25.00,  11.6846
  35TH20040604, OVIDE,   115,  1,      4,      4,2,20040703,1133, 40.3330,  -9.7690,  816,    597.1,  11.6600,  35.9460,2,  35.9460,2,    184.2,2,    183.0,2,     7.01,2,    15.57,   2,     0.80,2,   2368.3,2,   7.7990,2,    25.00,  11.5815
  35TH20040604, OVIDE,   115,  1,      5,      5,2,20040703,1133, 40.3330,  -9.7690,  816,    476.7,  11.6810,  35.8040,2,  35.8040,2,    188.1,2,    187.0,2,     6.31,2,    15.51,   2,     0.79,2,   2354.2,2,   7.7990,2,    25.00,  11.6186
  35TH20040604, OVIDE,   115,  1,      6,      6,2,20040703,1133, 40.3330,  -9.7690,  816,    346.6,  11.7220,  35.6390,2,  35.6400,2,    197.0,2,    199.2,2,     5.00,2,    14.28,   2,     0.72,2,   2337.9,2,   7.8030,2,    25.00,  11.6769
  35TH20040604, OVIDE,   115,  1,      7,      7,2,20040703,1133, 40.3330,  -9.7690,  816,    196.2,  12.7440,  35.7240,2,  35.7230,2,    216.6,2,    215.2,2,     3.11,2,    10.11,   2,     0.51,2,   2341.8,2,   7.8450,2,    25.00,  12.7172
  35TH20040604, OVIDE,   115,  1,      8,      8,2,20040703,1133, 40.3330,  -9.7690,  816,    145.9,  13.2530,  35.7990,2,  35.7990,2,    233.2,2,    232.6,2,     1.76,2,     5.64,   2,     0.29,2,   2344.8,2,   7.8880,2,    25.00,  13.2326
  35TH20040604, OVIDE,   115,  1,      9,      9,2,20040703,1133, 40.3330,  -9.7690,  816,     95.1,  13.9810,  35.9070,2,  35.9090,2,    235.8,2,    233.9,2,     1.39,2,     3.11,   2,     0.19,2,   2350.7,2,   7.9090,2,    25.00,  13.9672
  35TH20040604, OVIDE,   115,  1,     10,     10,2,20040703,1133, 40.3330,  -9.7690,  816,     45.2,  15.1640,  35.8250,2,  35.8320,2,    262.8,2,    256.0,2,     0.78,2,     0.00,   2,     0.02,2,   2355.7,2,   7.9580,2,    25.00,  15.1571
  35TH20040604, OVIDE,   115,  1,     11,     11,2,20040703,1133, 40.3330,  -9.7690,  816,      3.4,  19.4930,  35.6970,2,  35.6960,2,    228.2,2,    238.1,2,     0.45,2,     0.00,   2,     0.01,2,   2351.6,2,   8.0110,2,    25.00,  19.4924
  35TH20040604, OVIDE,   116,  1,      3,      3,2,20040703,1244, 40.3330,  -9.8000, 1474,   1460.0,   9.4170,  35.9840,2,  35.9990,3,    190.6,2,    195.4,2,    10.57,2,    16.62,   2,     0.89,2,   -999.0,9,   7.7860,2,    25.00,   9.2408
  35TH20040604, OVIDE,   116,  1,      4,      4,2,20040703,1244, 40.3330,  -9.8000, 1474,   1345.1,  10.4010,  36.1600,2,  36.1590,2,    188.0,2,    187.7,2,     9.63,2,    16.04,   2,     0.85,2,   -999.0,9,   7.7960,2,    25.00,  10.2300
  35TH20040604, OVIDE,   116,  1,      5,      5,2,20040703,1244, 40.3330,  -9.8000, 1474,   1146.4,  11.2200,  36.2580,2,  36.2560,2,    185.0,2,    181.9,2,     8.60,2,    15.11,   2,     0.80,2,   -999.0,9,   7.8080,2,    25.00,  11.0689
  35TH20040604, OVIDE,   116,  1,      6,      6,2,20040703,1244, 40.3330,  -9.8000, 1474,    995.6,  11.5090,  36.2230,2,  36.2210,2,    184.3,2,    181.5,2,     8.03,2,    14.36,   2,     0.77,2,   -999.0,9,   7.8100,2,    25.00,  11.3766
  35TH20040604, OVIDE,   116,  1,      7,      7,2,20040703,1244, 40.3330,  -9.8000, 1474,    794.7,  11.7600,  36.1390,2,  36.1380,2,    183.8,2,    182.9,2,     7.42,2,    14.83,   2,     0.77,2,   -999.0,9,   7.8090,2,    25.00,  11.6539
  35TH20040604, OVIDE,   116,  1,      8,      8,2,20040703,1244, 40.3330,  -9.8000, 1474,    596.9,  11.4970,  35.8800,2,  35.8720,2,    183.7,2,    183.0,2,     7.13,2,    15.58,   2,     0.82,2,   -999.0,9,   7.7980,2,    25.00,  11.4192
  35TH20040604, OVIDE,   116,  1,      9,      9,2,20040703,1244, 40.3330,  -9.8000, 1474,    396.5,  11.5980,  35.6480,2,  35.6490,2,    194.5,2,    197.5,2,     5.49,2,    14.54,   2,     0.76,2,   -999.0,9,   7.7950,2,    25.00,  11.5466
  35TH20040604, OVIDE,   116,  1,     10,     10,2,20040703,1244, 40.3330,  -9.8000, 1474,    295.6,  12.1480,  35.6720,2,  35.6690,2,    205.1,2,    205.6,2,     4.34,2,    12.41,   2,     0.64,2,   -999.0,9,   7.8160,2,    25.00,  12.1087
  35TH20040604, OVIDE,   116,  1,     11,     11,2,20040703,1244, 40.3330,  -9.8000, 1474,    196.0,  12.9280,  35.7540,2,  35.7500,2,    217.0,2,    214.2,2,     3.20,2,     9.18,   2,     0.47,2,   -999.0,9,   7.8510,2,    25.00,  12.9009
  35TH20040604, OVIDE,   116,  1,     12,     12,2,20040703,1244, 40.3330,  -9.8000, 1474,    147.4,  13.4670,  35.8220,2,  35.8170,2,    222.7,2,    224.4,2,     2.17,2,     6.06,   2,     0.31,2,   -999.0,9,   7.8770,2,    25.00,  13.4461
  35TH20040604, OVIDE,   116,  1,     13,     13,2,20040703,1244, 40.3330,  -9.8000, 1474,     97.0,  13.8550,  35.8290,2,  35.8270,2,    235.3,2,    234.8,2,     1.39,2,     3.06,   2,     0.16,2,   -999.0,9,   7.9080,2,    25.00,  13.8410
  35TH20040604, OVIDE,   116,  1,     14,     14,2,20040703,1244, 40.3330,  -9.8000, 1474,     46.5,  15.4310,  35.8140,2,  35.8130,2,    261.3,2,    259.7,2,     0.94,2,     0.00,   2,     0.02,2,   -999.0,9,   7.9640,2,    25.00,  15.4238
  35TH20040604, OVIDE,   116,  1,     15,     15,2,20040703,1244, 40.3330,  -9.8000, 1474,      3.3,  19.5700,  35.7050,2,  35.7050,2,    230.1,2,    237.2,2,     0.78,2,     0.12,   2,     0.03,2,   -999.0,9,   8.0060,2,    25.00,  19.5694
  35TH20040604, OVIDE,   117,  1,      3,      3,2,20040703,1527, 40.3340,  -9.6440,  429,    414.9,  11.8160,  35.8480,2,  35.8470,2,    186.2,2,    188.3,2,     6.06,2,    12.23,   2,     0.74,2,   -999.0,9,   7.7980,2,    25.00,  11.7614
  35TH20040604, OVIDE,   117,  1,      4,      4,2,20040703,1527, 40.3340,  -9.6440,  429,    296.4,  12.0770,  35.7140,2,  35.7120,2,    195.6,2,    197.3,2,     4.92,2,    12.12,   2,     0.68,2,   -999.0,9,   7.8020,2,    25.00,  12.0377
  35TH20040604, OVIDE,   117,  1,      5,      5,2,20040703,1527, 40.3340,  -9.6440,  429,    196.0,  12.6760,  35.7210,2,  35.7210,2,    211.0,2,    211.1,2,     3.44,2,     9.41,   2,     0.53,2,   -999.0,9,   7.8330,2,    25.00,  12.6493
  35TH20040604, OVIDE,   117,  1,      6,      6,2,20040703,1527, 40.3340,  -9.6440,  429,    146.1,  13.1920,  35.7970,2,  35.7860,3,    229.1,2,    226.0,2,     2.25,2,     6.92,   2,     0.35,2,   -999.0,9,   7.8700,2,    25.00,  13.1716
  35TH20040604, OVIDE,   117,  1,      7,      7,2,20040703,1527, 40.3340,  -9.6440,  429,     96.9,  13.7490,  35.8420,2,  35.8420,2,    231.0,2,    229.8,2,     1.64,2,     4.27,   2,     0.22,2,   -999.0,9,   7.8920,2,    25.00,  13.7351
  35TH20040604, OVIDE,   117,  1,      8,      8,2,20040703,1527, 40.3340,  -9.6440,  429,     44.2,  15.1540,  35.8010,2,  35.8060,2,    254.3,2,    253.2,2,     0.74,2,     0.12,   2,     0.02,2,   -999.0,9,   7.9570,2,    25.00,  15.1472
  35TH20040604, OVIDE,   117,  1,      9,      9,2,20040703,1527, 40.3340,  -9.6440,  429,      3.0,  18.9630,  35.4470,2,  35.4490,2,    233.1,2,    242.9,2,     0.33,2,     0.00,   2,     0.02,2,   -999.0,9,   8.0100,2,    25.00,  18.9625
  35TH20040604, OVIDE,   118,  1,      3,      3,2,20040703,1702, 40.3340,  -9.4600,  149,    135.7,  13.1630,  35.7810,2,  35.7820,2,    203.2,2,    199.7,2,     4.26,2,     9.93,   2,     0.53,2,   2346.7,2,   7.8310,2,    25.00,  13.1441
  35TH20040604, OVIDE,   118,  1,      4,      4,2,20040703,1702, 40.3340,  -9.4600,  149,     97.3,  13.5880,  35.8350,2,  35.8320,2,    228.6,2,    226.8,2,     1.64,2,     4.90,   2,     0.26,2,   2347.8,2,   7.8850,2,    25.00,  13.5742
  35TH20040604, OVIDE,   118,  1,      5,      5,2,20040703,1702, 40.3340,  -9.4600,  149,     44.5,  14.4430,  35.7690,2,  35.7470,3,    252.7,2,    254.9,2,     0.66,2,     0.12,   2,     0.02,2,   2349.8,2,   7.9470,2,    25.00,  14.4364
  35TH20040604, OVIDE,   118,  1,      6,      6,2,20040703,1702, 40.3340,  -9.4600,  149,      2.7,  18.0810,  35.4860,2,  35.4840,2,    234.8,2,    246.1,2,     0.29,2,     0.00,   2,     0.02,2,   2336.9,2,   7.9970,2,    25.00,  18.0805