BOTTLE,20220120SIOCCHENA
EXPOCODE,SECT_ID,STNNBR,CASTNO,SAMPNO,BTLNBR,BTLNBR_FLAG_W,DATE,TIME,LATITUDE,LONGITUDE,DEPTH,CTDPRS,CTDTMP,CTDSAL,CTDSAL_FLAG_W,SALNTY,SALNTY_FLAG_W,CTDOXY,CTDOXY_FLAG_W,OXYGEN,OXYGEN_FLAG_W,SILCAT,SILCAT_FLAG_W,NITRAT,NITRAT_FLAG_W,PHSPHT,PHSPHT_FLAG_W,ALKALI,ALKALI_FLAG_W,PH_SWS,PH_SWS_FLAG_W,PH_TMP,THETA
,,,,,,,,,,,METERS,DBAR,ITS-90,PSS-78,,PSS-78,,UMOL/KG,,UMOL/KG,,UMOL/KG,,UMOL/KG,,UMOL/KG,,UMOL/KG,,,,DEG C,DEG C
  35TH20040604, OVIDE,    83,  1,      3,      3,2,20040626,0545, 46.1700, -19.3840, 4696,   4684.6,   2.6000,  34.9070,2,  34.9120,2,    238.3,2,    239.4,2,    45.20,2,    23.65,   2,     1.36,2,   2357.2,2,   7.7280,2,    25.00,   2.1668
  35TH20040604, OVIDE,    83,  1,      4,      4,2,20040626,0545, 46.1700, -19.3840, 4696,   4498.0,   2.5870,  34.9090,2,  34.9110,2,    238.8,2,    239.9,2,    44.76,2,    23.14,   2,     1.34,2,   2354.6,2,   7.7290,2,    25.00,   2.1771
  35TH20040604, OVIDE,    83,  1,      5,      5,2,20040626,0545, 46.1700, -19.3840, 4696,   3997.9,   2.5800,  34.9160,2,  34.9180,2,    241.4,2,    241.6,2,    42.26,2,    23.14,   2,     1.32,2,   2349.6,2,   7.7270,2,    25.00,   2.2296
  35TH20040604, OVIDE,    83,  1,      6,      6,2,20040626,0545, 46.1700, -19.3840, 4696,   3747.9,   2.6200,  34.9210,2,  34.9250,2,    243.5,2,    244.0,2,    40.21,2,    22.90,   2,     1.29,2,   2349.0,2,   7.7280,2,    25.00,   2.2970
  35TH20040604, OVIDE,    83,  1,      7,      7,2,20040626,0545, 46.1700, -19.3840, 4696,   3495.8,   2.7010,  34.9300,2,  34.9330,2,    247.4,2,    247.8,2,    35.81,2,    22.10,   2,     1.24,2,   2341.4,2,   7.7300,2,    25.00,   2.4039
  35TH20040604, OVIDE,    83,  1,      8,      8,2,20040626,0545, 46.1700, -19.3840, 4696,   3244.3,   2.8290,  34.9400,2,  34.9430,2,    253.8,2,    253.9,2,    29.64,2,    20.95,   2,     1.17,2,   2330.7,2,   7.7330,2,    25.00,   2.5561
  35TH20040604, OVIDE,    83,  1,      9,      9,2,20040626,0545, 46.1700, -19.3840, 4696,   2997.2,   2.9670,  34.9430,2,  34.9480,2,    258.8,2,    260.6,2,    23.48,2,    20.09,   2,     1.10,2,   2321.7,2,   7.7310,2,    25.00,   2.7172
  35TH20040604, OVIDE,    83,  1,     10,     10,2,20040626,0545, 46.1700, -19.3840, 4696,   2743.9,   3.1370,  34.9390,2,  34.9410,2,    265.3,2,    266.6,2,    17.50,2,    19.06,   2,     1.01,2,   2313.7,2,   7.7290,2,    25.00,   2.9099
  35TH20040604, OVIDE,    83,  1,     11,     11,2,20040626,0545, 46.1700, -19.3840, 4696,   2495.3,   3.2210,  34.9150,2,  34.9160,2,    274.0,2,    274.9,2,    13.63,2,    18.54,   2,     1.00,2,   2305.8,2,   7.7290,2,    25.00,   3.0175
  35TH20040604, OVIDE,    83,  1,     12,     12,2,20040626,0545, 46.1700, -19.3840, 4696,   2248.1,   3.2820,  34.8950,2,  34.8940,2,    277.0,2,    279.1,2,    11.98,2,    18.03,   2,     0.99,2,   2301.5,2,   7.7270,2,    25.00,   3.1018
  35TH20040604, OVIDE,    83,  1,     13,     13,2,20040626,0545, 46.1700, -19.3840, 4696,   1996.4,   3.4750,  34.9010,2,  34.9020,2,    274.1,2,    275.9,2,    11.74,2,    19.23,   2,     1.02,2,   2302.0,2,   7.7190,2,    25.00,   3.3158
  35TH20040604, OVIDE,    83,  1,     14,     14,2,20040626,0545, 46.1700, -19.3840, 4696,   1795.7,   3.7020,  34.9160,2,  34.9190,2,    268.6,2,    270.8,2,    11.53,2,    19.12,   2,     1.02,2,   2302.6,2,   7.7190,2,    25.00,   3.5584
  35TH20040604, OVIDE,    83,  1,     15,     15,2,20040626,0545, 46.1700, -19.3840, 4696,   1597.6,   4.1170,  34.9510,2,  34.9530,2,    260.1,2,    261.7,2,    11.45,2,    19.29,   2,     1.04,2,   2305.2,2,   7.7170,2,    25.00,   3.9865
  35TH20040604, OVIDE,    83,  1,     16,     16,2,20040626,0545, 46.1700, -19.3840, 4696,   1397.0,   4.7450,  35.0090,2,  35.0120,2,    248.8,2,    249.6,2,    11.37,2,    19.52,   2,     1.05,2,   2309.6,2,   7.7170,2,    25.00,   4.6262
  35TH20040604, OVIDE,    83,  1,     17,     17,2,20040626,0545, 46.1700, -19.3840, 4696,   1196.9,   5.9520,  35.1210,2,  35.1170,2,    225.4,2,    226.9,2,    11.17,2,    20.15,   2,     1.08,2,   2317.0,2,   7.7100,2,    25.00,   5.8409
  35TH20040604, OVIDE,    83,  1,     18,     18,2,20040626,0545, 46.1700, -19.3840, 4696,    996.9,   8.0650,  35.3140,2,  35.3100,2,    197.0,2,    195.9,2,    11.05,2,    20.43,   2,     1.08,2,   2328.8,2,   7.7240,2,    25.00,   7.9580
  35TH20040604, OVIDE,    83,  1,     19,     19,2,20040626,0545, 46.1700, -19.3840, 4696,    895.9,   9.2150,  35.4320,2,  35.4370,2,    189.6,2,    187.9,2,    10.04,2,    19.86,   2,     1.03,2,   -999.0,9,   7.7360,2,    25.00,   9.1118
  35TH20040604, OVIDE,    83,  1,     20,     20,2,20040626,0545, 46.1700, -19.3840, 4696,    775.8,   9.7590,  35.3540,2,  35.3560,2,    198.5,2,    195.4,2,     8.67,2,    18.48,   2,     0.97,2,   2327.0,2,   7.7490,2,    25.00,   9.6673
  35TH20040604, OVIDE,    83,  1,     21,     21,2,20040626,0545, 46.1700, -19.3840, 4696,    695.9,  10.4870,  35.4060,2,  35.4080,2,    209.1,2,    210.6,2,     7.01,2,    16.18,   2,     0.83,2,   -999.0,9,   7.7840,2,    25.00,  10.4014
  35TH20040604, OVIDE,    83,  1,     22,     22,2,20040626,0545, 46.1700, -19.3840, 4696,    596.5,  11.2650,  35.5130,2,  35.5130,2,    225.0,2,    226.9,2,     5.24,2,    13.08,   2,     0.67,2,   2333.1,2,   7.8190,2,    25.00,  11.1886
  35TH20040604, OVIDE,    83,  1,     23,     23,2,20040626,0545, 46.1700, -19.3840, 4696,    498.5,  11.9270,  35.6120,2,  35.6100,2,    234.0,2,    233.3,2,     4.31,2,    11.59,   2,     0.56,2,   2339.4,2,   7.8440,2,    25.00,  11.8610
  35TH20040604, OVIDE,    83,  1,     24,     24,2,20040626,0545, 46.1700, -19.3840, 4696,    397.5,  12.3770,  35.6780,2,  35.6790,2,    234.6,2,    234.6,2,     4.27,2,    11.53,   2,     0.52,2,   2342.1,2,   7.8570,2,    25.00,  12.3233
  35TH20040604, OVIDE,    83,  1,     25,     25,2,20040626,0545, 46.1700, -19.3840, 4696,    295.6,  12.8660,  35.7560,2,  35.7580,2,    239.1,2,    241.4,2,     3.22,2,     8.72,   2,     0.42,2,   2346.5,2,   7.8830,2,    25.00,  12.8252
  35TH20040604, OVIDE,    83,  1,     26,     26,2,20040626,0545, 46.1700, -19.3840, 4696,    197.4,  13.0920,  35.7780,2,  35.7830,2,    246.3,2,    245.3,2,     2.90,2,     8.03,   2,     0.38,2,   2349.0,2,   7.8940,2,    25.00,  13.0645
  35TH20040604, OVIDE,    83,  1,     27,     27,2,20040626,0545, 46.1700, -19.3840, 4696,    146.3,  13.2200,  35.7900,2,  35.7940,2,    244.6,2,    243.3,2,     2.74,2,     7.97,   2,     0.37,2,   -999.0,9,   7.8940,2,    25.00,  13.1995
  35TH20040604, OVIDE,    83,  1,     28,     28,2,20040626,0545, 46.1700, -19.3840, 4696,     97.4,  13.5060,  35.8340,2,  35.8310,2,    246.8,2,    245.5,2,     2.58,2,     7.34,   2,     0.34,2,   2351.4,2,   7.9000,2,    25.00,  13.4922
  35TH20040604, OVIDE,    83,  1,     29,     29,2,20040626,0545, 46.1700, -19.3840, 4696,     47.8,  14.4020,  35.8560,2,  35.8590,2,    249.6,2,    254.7,2,     1.85,2,     4.02,   2,     0.23,2,   -999.0,9,   7.9360,2,    25.00,  14.3949
  35TH20040604, OVIDE,    83,  1,     30,     30,2,20040626,0545, 46.1700, -19.3840, 4696,      5.8,  17.3140,  35.8570,2,  35.8520,2,    235.1,2,    246.4,3,     0.64,2,     0.34,   2,     0.02,2,   2360.1,2,   8.0090,2,    25.00,  17.3130
  35TH20040604, OVIDE,    84,  1,      3,      3,2,20040626,1134, 45.7890, -19.1020, 4599,   4586.7,   2.6030,  34.9120,2,  34.9120,2,    239.7,2,    240.6,2,    44.35,2,    23.25,   2,     1.35,2,   -999.0,9,   7.7290,2,    25.00,   2.1818
  35TH20040604, OVIDE,    84,  1,      4,      4,2,20040626,1134, 45.7890, -19.1020, 4599,   4298.1,   2.5830,  34.9130,2,  34.9110,2,    241.4,2,    240.3,2,    43.77,2,    23.14,   2,     1.36,2,   -999.0,9,   7.7270,2,    25.00,   2.1973
  35TH20040604, OVIDE,    84,  1,      5,      5,2,20040626,1134, 45.7890, -19.1020, 4599,   3997.2,   2.5910,  34.9160,2,  34.9200,2,    242.8,2,    242.1,2,    41.91,2,    22.62,   2,     1.32,2,   -999.0,9,   7.7270,2,    25.00,   2.2404
  35TH20040604, OVIDE,    84,  1,      6,      6,2,20040626,1134, 45.7890, -19.1020, 4599,   3796.9,   2.6230,  34.9220,2,  34.9240,2,    243.9,2,    243.9,2,    40.33,2,    22.56,   2,     1.29,2,   -999.0,9,   7.7280,2,    25.00,   2.2944
  35TH20040604, OVIDE,    84,  1,      7,      7,2,20040626,1134, 45.7890, -19.1020, 4599,   3799.5,   2.6250,  34.9210,2,  34.9250,2,    243.8,2,    243.7,2,    40.47,2,    22.50,   2,     1.29,2,   -999.0,9,   7.7280,2,    25.00,   2.2960
  35TH20040604, OVIDE,    84,  1,      8,      8,2,20040626,1134, 45.7890, -19.1020, 4599,   3595.7,   2.6680,  34.9270,2,  34.9290,2,    245.4,2,    245.9,2,    37.74,2,    21.99,   2,     1.27,2,   -999.0,9,   7.7280,2,    25.00,   2.3607
  35TH20040604, OVIDE,    84,  1,      9,      9,2,20040626,1134, 45.7890, -19.1020, 4599,   3396.4,   2.7550,  34.9350,2,  34.9380,2,    248.9,2,    249.7,2,    33.72,2,    21.24,   2,     1.21,2,   -999.0,9,   7.7290,2,    25.00,   2.4674
  35TH20040604, OVIDE,    84,  1,     10,     10,2,20040626,1134, 45.7890, -19.1020, 4599,   3197.3,   2.8460,  34.9420,2,  34.9420,2,    252.9,2,    253.4,2,    30.42,2,    20.61,   2,     1.17,2,   -999.0,9,   7.7280,2,    25.00,   2.5777
  35TH20040604, OVIDE,    84,  1,     11,     11,2,20040626,1134, 45.7890, -19.1020, 4599,   2997.1,   2.9510,  34.9440,2,  34.9460,2,    259.6,2,    260.5,2,    24.40,2,    19.34,   2,     1.10,2,   -999.0,9,   7.7280,2,    25.00,   2.7015
  35TH20040604, OVIDE,    84,  1,     12,     12,2,20040626,1134, 45.7890, -19.1020, 4599,   2796.0,   3.0560,  34.9380,2,  34.9370,2,    266.9,2,    266.7,2,    17.76,2,    18.71,   2,     1.05,2,   -999.0,9,   7.7270,2,    25.00,   2.8252
  35TH20040604, OVIDE,    84,  1,     13,     13,2,20040626,1134, 45.7890, -19.1020, 4599,   2596.0,   3.1390,  34.9260,2,  34.9250,2,    272.1,2,    271.7,2,    14.92,2,    18.26,   2,     1.02,2,   -999.0,9,   7.7270,2,    25.00,   2.9270
  35TH20040604, OVIDE,    84,  1,     14,     14,2,20040626,1134, 45.7890, -19.1020, 4599,   2395.2,   3.2180,  34.9120,2,  34.9160,2,    275.9,2,    275.7,2,    13.04,2,    18.14,   2,     1.00,2,   -999.0,9,   7.7310,2,    25.00,   3.0245
  35TH20040604, OVIDE,    84,  1,     15,     15,2,20040626,1134, 45.7890, -19.1020, 4599,   2197.4,   3.2820,  34.8980,2,  34.8970,2,    278.3,2,    278.6,2,    11.96,2,    18.31,   2,     1.00,2,   -999.0,9,   7.7240,2,    25.00,   3.1067
  35TH20040604, OVIDE,    84,  1,     16,     16,2,20040626,1134, 45.7890, -19.1020, 4599,   1996.2,   3.3880,  34.8970,2,  34.8980,2,    279.2,2,    277.8,2,    11.44,2,    18.14,   2,     1.00,2,   -999.0,9,   7.7200,2,    25.00,   3.2301
  35TH20040604, OVIDE,    84,  1,     17,     17,2,20040626,1134, 45.7890, -19.1020, 4599,   1793.7,   3.6050,  34.9090,2,  34.9100,2,    275.0,2,    273.0,2,    11.32,2,    18.60,   2,     1.01,2,   -999.0,9,   7.7170,2,    25.00,   3.4629
  35TH20040604, OVIDE,    84,  1,     18,     18,2,20040626,1134, 45.7890, -19.1020, 4599,   1585.6,   3.9320,  34.9380,2,  34.9400,2,    265.4,2,    265.5,2,    11.28,2,    18.89,   2,     1.02,2,   -999.0,9,   7.7160,2,    25.00,   3.8048
  35TH20040604, OVIDE,    84,  1,     19,     19,2,20040626,1134, 45.7890, -19.1020, 4599,   1383.0,   4.5690,  35.0030,2,  35.0050,2,    250.6,2,    253.2,2,    11.24,2,    19.11,   2,     1.05,2,   -999.0,9,   7.7090,2,    25.00,   4.4533
  35TH20040604, OVIDE,    84,  1,     20,     20,2,20040626,1134, 45.7890, -19.1020, 4599,   1147.3,   5.5620,  35.0720,2,  35.0750,2,    234.8,2,    232.2,2,    11.24,2,    19.63,   2,     1.07,2,   -999.0,9,   7.7100,2,    25.00,   5.4593
  35TH20040604, OVIDE,    84,  1,     21,     21,2,20040626,1134, 45.7890, -19.1020, 4599,    996.0,   7.1530,  35.2500,2,  35.2500,2,    204.8,2,    207.8,2,    11.08,2,    19.86,   2,     1.07,2,   -999.0,9,   7.7200,2,    25.00,   7.0528
  35TH20040604, OVIDE,    84,  1,     22,     22,2,20040626,1134, 45.7890, -19.1020, 4599,    868.1,   8.4700,  35.3620,2,  35.3660,2,    189.8,2,    192.6,2,    10.44,2,    19.57,   2,     1.06,2,   -999.0,9,   7.7380,2,    25.00,   8.3749
  35TH20040604, OVIDE,    84,  1,     23,     23,2,20040626,1134, 45.7890, -19.1020, 4599,    597.0,  10.6330,  35.4410,2,  35.4460,2,    215.1,2,    213.6,2,     6.36,2,    15.26,   2,     0.78,2,   -999.0,9,   7.7900,2,    25.00,  10.5592
  35TH20040604, OVIDE,    84,  1,     24,     24,2,20040626,1134, 45.7890, -19.1020, 4599,    396.9,  11.7490,  35.5790,2,  35.5740,2,    230.2,2,    229.5,2,     4.64,2,    12.05,   2,     0.60,2,   -999.0,9,   7.8350,2,    25.00,  11.6972
  35TH20040604, OVIDE,    84,  1,     25,     25,2,20040626,1134, 45.7890, -19.1020, 4599,    296.8,  12.2180,  35.6460,2,  35.6460,2,    234.7,2,    232.7,2,     4.08,2,    10.90,   2,     0.53,2,   -999.0,9,   7.8520,2,    25.00,  12.1784
  35TH20040604, OVIDE,    84,  1,     26,     26,2,20040626,1134, 45.7890, -19.1020, 4599,    197.1,  12.8050,  35.7260,2,  35.7350,3,    246.2,2,    239.6,2,     3.16,2,     8.89,   2,     0.43,2,   -999.0,9,   7.8780,2,    25.00,  12.7780
  35TH20040604, OVIDE,    84,  1,     27,     27,2,20040626,1134, 45.7890, -19.1020, 4599,    149.2,  13.1010,  35.7650,2,  35.7640,2,    240.8,2,    241.7,2,     2.96,2,     8.26,   2,     0.40,2,   -999.0,9,   7.8840,2,    25.00,  13.0803
  35TH20040604, OVIDE,    84,  1,     28,     28,2,20040626,1134, 45.7890, -19.1020, 4599,     95.2,  13.4640,  35.8270,2,  35.8280,2,    236.3,2,    238.9,2,     2.88,2,     7.80,   2,     0.38,2,   -999.0,9,   7.8970,2,    25.00,  13.4505
  35TH20040604, OVIDE,    84,  1,     29,     29,2,20040626,1134, 45.7890, -19.1020, 4599,     42.7,  14.5500,  35.8540,2,  35.8290,3,    245.8,2,    255.7,2,     1.60,2,     3.73,   2,     0.20,2,   -999.0,9,   7.9440,2,    25.00,  14.5436
  35TH20040604, OVIDE,    84,  1,     30,     30,2,20040626,1134, 45.7890, -19.1020, 4599,      9.1,  17.5260,  35.8650,2,  35.8660,2,    234.7,2,    244.7,2,     0.80,2,     0.12,   2,     0.04,2,   -999.0,9,   8.0020,2,    25.00,  17.5245