BOTTLE,20220120SIOCCHENA
EXPOCODE,SECT_ID,STNNBR,CASTNO,SAMPNO,BTLNBR,BTLNBR_FLAG_W,DATE,TIME,LATITUDE,LONGITUDE,DEPTH,CTDPRS,CTDTMP,CTDSAL,CTDSAL_FLAG_W,SALNTY,SALNTY_FLAG_W,CTDOXY,CTDOXY_FLAG_W,OXYGEN,OXYGEN_FLAG_W,SILCAT,SILCAT_FLAG_W,NITRAT,NITRAT_FLAG_W,PHSPHT,PHSPHT_FLAG_W,ALKALI,ALKALI_FLAG_W,PH_SWS,PH_SWS_FLAG_W,PH_TMP,THETA
,,,,,,,,,,,METERS,DBAR,ITS-90,PSS-78,,PSS-78,,UMOL/KG,,UMOL/KG,,UMOL/KG,,UMOL/KG,,UMOL/KG,,UMOL/KG,,,,DEG C,DEG C
  35TH20040604, OVIDE,    39,  1,      3,      3,2,20040617,1611, 58.4110, -30.1030, 2207,   2193.1,   3.1380,  34.9830,2,  34.9830,2,    275.2,2,    274.4,2,    11.32,2,    15.29,   2,     1.25,2,   -999.0,9,   7.7180,2,    25.00,   2.9651
  35TH20040604, OVIDE,    39,  1,      4,      4,2,20040617,1611, 58.4110, -30.1030, 2207,   1994.9,   3.2060,  34.9780,2,  34.9780,2,    273.6,2,    274.3,2,    11.03,2,    15.00,   2,     1.25,2,   -999.0,9,   7.7220,2,    25.00,   3.0507
  35TH20040604, OVIDE,    39,  1,      5,      5,2,20040617,1611, 58.4110, -30.1030, 2207,   1795.9,   3.3040,  34.9680,2,  34.9690,2,    276.2,2,    275.0,2,    10.95,2,    14.86,   2,     1.25,2,   -999.0,9,   7.7250,2,    25.00,   3.1655
  35TH20040604, OVIDE,    39,  1,      6,      6,2,20040617,1611, 58.4110, -30.1030, 2207,   1595.8,   3.3760,  34.9190,2,  34.9200,2,    275.3,2,    278.1,2,    10.87,2,    14.57,   2,     1.29,2,   -999.0,9,   7.7190,2,    25.00,   3.2546
  35TH20040604, OVIDE,    39,  1,      7,      7,2,20040617,1611, 58.4110, -30.1030, 2207,   1395.4,   3.5350,  34.9100,2,  34.9100,2,    274.7,2,    275.0,2,    10.82,2,    14.91,   2,     1.32,2,   -999.0,9,   7.7150,2,    25.00,   3.4293
  35TH20040604, OVIDE,    39,  1,      8,      8,2,20040617,1611, 58.4110, -30.1030, 2207,   1196.6,   3.7710,  34.9150,2,  34.9170,2,    270.6,2,    270.7,2,    10.91,2,    17.04,   2,     1.35,2,   -999.0,9,   7.7130,2,    25.00,   3.6800
  35TH20040604, OVIDE,    39,  1,      9,      9,2,20040617,1611, 58.4110, -30.1030, 2207,    996.1,   4.2610,  34.9430,2,  34.9440,2,    261.6,2,    260.1,2,    10.62,2,    16.41,   2,     1.37,2,   -999.0,9,   7.7130,2,    25.00,   4.1829
  35TH20040604, OVIDE,    39,  1,     10,     10,2,20040617,1611, 58.4110, -30.1030, 2207,    895.5,   4.9140,  35.0090,2,  35.0120,2,    252.4,2,    249.8,2,    10.41,2,    16.12,   2,     1.32,2,   -999.0,9,-999.0000,9,  -999.00,   4.8399
  35TH20040604, OVIDE,    39,  1,     11,     11,2,20040617,1611, 58.4110, -30.1030, 2207,    796.5,   5.4040,  35.0380,2,  35.0420,2,    240.6,2,    238.8,2,    10.62,2,    16.94,   2,     1.36,2,   -999.0,9,   7.7030,2,    25.00,   5.3357
  35TH20040604, OVIDE,    39,  1,     12,     12,2,20040617,1611, 58.4110, -30.1030, 2207,    696.1,   6.2180,  35.0990,2,  35.1000,2,    235.2,2,    234.6,2,    10.17,2,    13.93,   3,     1.34,2,   -999.0,9,   7.7230,2,    25.00,   6.1544
  35TH20040604, OVIDE,    39,  1,     13,     13,2,20040617,1611, 58.4110, -30.1030, 2207,    596.5,   6.7790,  35.1140,2,  35.1110,2,    239.4,2,    236.1,2,     9.51,2,    13.79,   3,     1.31,2,   -999.0,9,   7.7310,2,    25.00,   6.7224
  35TH20040604, OVIDE,    39,  1,     14,     14,2,20040617,1611, 58.4110, -30.1030, 2207,    496.9,   7.3510,  35.1390,2,  35.1430,2,    256.3,2,    255.0,2,     7.95,2,    15.24,   2,     1.20,2,   -999.0,9,   7.7590,2,    25.00,   7.3020
  35TH20040604, OVIDE,    39,  1,     15,     15,2,20040617,1611, 58.4110, -30.1030, 2207,    397.7,   7.6950,  35.1690,2,  35.1660,2,    268.4,2,    266.1,2,     6.80,2,    14.13,   2,     1.12,2,   -999.0,9,   7.7760,2,    25.00,   7.6550
  35TH20040604, OVIDE,    39,  1,     16,     16,2,20040617,1611, 58.4110, -30.1030, 2207,    296.3,   7.9870,  35.1880,2,  35.1860,2,    265.7,2,    264.7,2,     6.56,2,    13.69,   2,     1.20,2,   -999.0,9,   7.7810,2,    25.00,   7.9568
  35TH20040604, OVIDE,    39,  1,     17,     17,2,20040617,1611, 58.4110, -30.1030, 2207,    255.7,   8.0320,  35.1720,2,  35.1670,2,    260.1,2,    257.2,2,     6.97,2,    13.45,   2,     1.13,2,   -999.0,9,   7.7760,2,    25.00,   8.0059
  35TH20040604, OVIDE,    39,  1,     18,     18,2,20040617,1611, 58.4110, -30.1030, 2207,    147.5,   8.4720,  35.1870,2,  35.1860,2,    270.1,2,    266.6,2,     5.74,2,    11.50,   2,     1.04,2,   -999.0,9,   7.7970,2,    25.00,   8.4565
  35TH20040604, OVIDE,    39,  1,     19,     19,2,20040617,1611, 58.4110, -30.1030, 2207,     97.1,   8.6380,  35.1910,2,  35.1880,2,    281.6,2,    273.6,3,     4.30,2,    11.46,   2,     0.98,2,   -999.0,9,   7.8110,2,    25.00,   8.6277
  35TH20040604, OVIDE,    39,  1,     20,     20,2,20040617,1611, 58.4110, -30.1030, 2207,     47.1,   8.8350,  35.1530,2,  35.1510,2,    286.2,2,    283.2,2,     2.05,2,     9.18,   2,     0.90,2,   -999.0,9,   7.8400,2,    25.00,   8.8300
  35TH20040604, OVIDE,    39,  1,     21,     21,2,20040617,1611, 58.4110, -30.1030, 2207,      2.7,   9.9170,  35.1330,2,  35.1320,2,    279.5,2,    287.9,3,     1.48,2,     7.57,   2,     0.74,2,   -999.0,9,   7.8640,2,    25.00,   9.9167
  35TH20040604, OVIDE,    40,  1,      3,      3,2,20040617,2031, 58.2080, -29.7270, 2261,   2246.4,   2.9730,  34.9830,2,  34.9830,2,    275.1,2,    273.9,2,    11.81,2,    15.88,   2,     1.24,2,   2306.0,2,   7.7230,2,    25.00,   2.7978
  35TH20040604, OVIDE,    40,  1,      4,      4,2,20040617,2031, 58.2080, -29.7270, 2261,   2196.1,   2.9700,  34.9840,2,  34.9810,2,    275.6,2,    273.8,2,    11.81,2,    15.48,   2,     1.22,2,   2306.0,2,   7.7230,2,    25.00,   2.7996
  35TH20040604, OVIDE,    40,  1,      5,      5,2,20040617,2031, 58.2080, -29.7270, 2261,   2196.1,   2.9710,  34.9830,2,  34.9790,2,    275.6,2,    273.5,2,    11.77,2,    15.43,   2,     1.24,2,   2307.0,2,   7.7240,2,    25.00,   2.8006
  35TH20040604, OVIDE,    40,  1,      6,      6,2,20040617,2031, 58.2080, -29.7270, 2261,   1995.6,   3.1910,  34.9750,2,  34.9690,2,    275.7,2,    273.9,2,    11.40,2,    14.09,   2,     1.24,2,   2305.9,2,   7.7240,2,    25.00,   3.0359
  35TH20040604, OVIDE,    40,  1,      7,      7,2,20040617,2031, 58.2080, -29.7270, 2261,   1796.2,   3.3360,  34.9400,2,  34.9340,2,    277.6,2,    276.3,2,    11.15,2,    15.09,   2,     1.27,2,   2303.9,2,   7.7250,2,    25.00,   3.1972
  35TH20040604, OVIDE,    40,  1,      8,      8,2,20040617,2031, 58.2080, -29.7270, 2261,   1595.7,   3.4610,  34.9140,2,  34.9100,2,    277.3,2,    276.7,2,    10.99,2,    13.14,   3,     1.25,2,   2305.5,2,   7.7220,2,    25.00,   3.3386
  35TH20040604, OVIDE,    40,  1,      9,      9,2,20040617,2031, 58.2080, -29.7270, 2261,   1397.3,   3.6500,  34.9120,2,  34.9080,2,    272.5,2,    273.1,2,    10.91,2,    16.33,   2,     1.32,2,   2305.5,2,   7.7170,2,    25.00,   3.5429
  35TH20040604, OVIDE,    40,  1,     10,     10,2,20040617,2031, 58.2080, -29.7270, 2261,   1196.2,   3.8070,  34.9070,2,  34.9050,2,    268.8,2,    269.6,2,    10.74,2,    16.18,   2,     1.32,2,   2302.5,2,   7.7120,2,    25.00,   3.7157
  35TH20040604, OVIDE,    40,  1,     11,     11,2,20040617,2031, 58.2080, -29.7270, 2261,    996.0,   4.1240,  34.9210,2,  34.9210,2,    263.2,2,    263.1,2,    10.66,2,    15.19,   2,     1.34,2,   2300.7,2,   7.7100,2,    25.00,   4.0470
  35TH20040604, OVIDE,    40,  1,     12,     12,2,20040617,2031, 58.2080, -29.7270, 2261,    896.1,   4.5610,  34.9580,2,  34.9550,2,    252.3,2,    252.5,2,    10.82,2,    15.83,   2,     1.34,2,   -999.0,9,   7.7060,2,    25.00,   4.4894
  35TH20040604, OVIDE,    40,  1,     13,     13,2,20040617,2031, 58.2080, -29.7270, 2261,    796.6,   5.0510,  35.0090,2,  35.0100,2,    243.9,2,    244.0,2,    10.82,2,    17.87,   2,     1.34,2,   2305.8,2,   7.7060,2,    25.00,   4.9848
  35TH20040604, OVIDE,    40,  1,     14,     14,2,20040617,2031, 58.2080, -29.7270, 2261,    666.5,   5.6860,  35.0160,2,  35.0130,2,    227.7,2,    228.9,2,    11.19,2,    16.63,   2,     1.38,2,   2308.3,2,   7.6970,2,    25.00,   5.6280
  35TH20040604, OVIDE,    40,  1,     15,     15,2,20040617,2031, 58.2080, -29.7270, 2261,    595.8,   6.6030,  35.0990,2,  35.0990,2,    232.1,2,    229.1,2,    10.21,2,    16.13,   2,     1.33,2,   -999.0,9,   7.7170,2,    25.00,   6.5473
  35TH20040604, OVIDE,    40,  1,     16,     16,2,20040617,2031, 58.2080, -29.7270, 2261,    484.5,   7.3570,  35.1370,2,  35.1360,2,    261.0,2,    251.5,3,     8.08,2,    13.84,   2,     1.19,2,   2311.9,2,   7.7580,2,    25.00,   7.3093
  35TH20040604, OVIDE,    40,  1,     17,     17,2,20040617,2031, 58.2080, -29.7270, 2261,    446.6,   7.4860,  35.1480,2,  35.1440,2,    252.8,2,    258.1,2,     7.54,2,    12.64,   2,     1.15,2,   -999.0,9,   7.7700,2,    25.00,   7.4417
  35TH20040604, OVIDE,    40,  1,     18,     18,2,20040617,2031, 58.2080, -29.7270, 2261,    367.6,   7.5870,  35.1440,2,  35.1380,2,    271.3,2,    256.2,3,     7.58,2,    13.64,   2,     1.16,2,   2313.0,2,   7.7680,2,    25.00,   7.5504
  35TH20040604, OVIDE,    40,  1,     19,     19,2,20040617,2031, 58.2080, -29.7270, 2261,    247.4,   8.0460,  35.1860,2,  35.1770,3,    261.4,2,    264.2,2,     6.64,2,    14.14,   2,     1.10,2,   2313.3,2,   7.7820,2,    25.00,   8.0207
  35TH20040604, OVIDE,    40,  1,     20,     20,2,20040617,2031, 58.2080, -29.7270, 2261,    147.8,   8.5500,  35.2060,2,  35.1950,3,    275.4,2,    272.3,2,     4.67,2,    12.05,   2,     1.02,2,   -999.0,9,   7.8070,2,    25.00,   8.5344
  35TH20040604, OVIDE,    40,  1,     21,     21,2,20040617,2031, 58.2080, -29.7270, 2261,     97.1,   8.7300,  35.1890,2,  35.1860,2,    280.1,2,    278.9,2,     2.95,2,    10.35,   2,     0.93,2,   2318.2,2,   7.8220,2,    25.00,   8.7197
  35TH20040604, OVIDE,    40,  1,     22,     22,2,20040617,2031, 58.2080, -29.7270, 2261,     46.4,   9.1010,  35.1570,2,  35.1540,2,    275.7,2,    283.9,3,     1.80,2,     8.71,   2,     0.85,2,   -999.0,9,   7.8500,2,    25.00,   9.0960
  35TH20040604, OVIDE,    40,  1,     23,     23,2,20040617,2031, 58.2080, -29.7270, 2261,      3.6,  10.0030,  35.1230,2,  35.1130,3,    271.3,2,    286.9,3,     1.31,2,     7.37,   2,     0.70,2,   2309.3,2,   7.8700,2,    25.00,  10.0026
  35TH20040604, OVIDE,    41,  1,      3,      3,2,20040618,0057, 57.9720, -29.2780, 2164,   2149.8,   2.7810,  34.9790,2,  34.9840,2,   -999.0,9,    273.9,2,    12.65,2,    11.27,   3,     1.27,2,   -999.0,9,   7.7260,2,    25.00,   2.6179
  35TH20040604, OVIDE,    41,  1,      4,      4,2,20040618,0057, 57.9720, -29.2780, 2164,   2095.7,   2.8350,  34.9770,2,  34.9810,2,    275.1,2,    273.4,2,    12.37,2,    11.22,   3,     1.22,2,   -999.0,9,   7.7180,2,    25.00,   2.6761
  35TH20040604, OVIDE,    41,  1,      5,      5,2,20040618,0057, 57.9720, -29.2780, 2164,   1995.1,   2.9700,  34.9680,2,  34.9710,2,    274.6,2,    272.6,2,    12.77,2,     9.52,   3,     1.25,2,   -999.0,9,   7.7200,2,    25.00,   2.8182
  35TH20040604, OVIDE,    41,  1,      6,      6,2,20040618,0057, 57.9720, -29.2780, 2164,   1795.2,   3.2060,  34.9230,2,  34.9210,2,    280.1,2,    277.6,2,    11.45,2,    14.83,   2,     1.27,2,   -999.0,9,   7.7270,2,    25.00,   3.0691
  35TH20040604, OVIDE,    41,  1,      7,      7,2,20040618,0057, 57.9720, -29.2780, 2164,   1795.2,   3.2060,  34.9230,2,  34.9220,2,    280.1,2,    277.5,2,    11.36,2,    14.05,   2,     1.27,2,   -999.0,9,   7.7230,2,    25.00,   3.0691
  35TH20040604, OVIDE,    41,  1,      8,      8,2,20040618,0057, 57.9720, -29.2780, 2164,   1596.0,   3.2590,  34.8960,2,  34.8950,2,    281.6,2,    280.4,2,    10.92,2,    14.54,   2,     1.29,2,   -999.0,9,   7.7230,2,    25.00,   3.1391
  35TH20040604, OVIDE,    41,  1,      9,      9,2,20040618,0057, 57.9720, -29.2780, 2164,   1396.3,   3.4250,  34.8940,2,  34.8910,2,    278.4,2,    277.0,2,    10.80,2,    15.52,   2,     1.32,2,   -999.0,9,   7.7190,2,    25.00,   3.3204
  35TH20040604, OVIDE,    41,  1,     10,     10,2,20040618,0057, 57.9720, -29.2780, 2164,   1196.6,   3.6900,  34.9040,2,  34.9050,2,    271.2,2,    271.3,2,    10.76,2,    17.08,   2,     1.33,2,   -999.0,9,   7.7150,2,    25.00,   3.5997
  35TH20040604, OVIDE,    41,  1,     11,     11,2,20040618,0057, 57.9720, -29.2780, 2164,    995.3,   3.9970,  34.9160,2,  34.9180,2,    268.7,2,    265.7,2,    10.44,2,    16.20,   2,     1.32,2,   -999.0,9,   7.7110,2,    25.00,   3.9211
  35TH20040604, OVIDE,    41,  1,     12,     12,2,20040618,0057, 57.9720, -29.2780, 2164,    794.9,   4.5600,  34.9430,2,  34.9370,2,    251.6,2,    250.5,2,    10.56,2,    17.08,   2,     1.37,2,   -999.0,9,   7.7040,2,    25.00,   4.4971
  35TH20040604, OVIDE,    41,  1,     13,     13,2,20040618,0057, 57.9720, -29.2780, 2164,    546.3,   6.2340,  35.0430,2,  35.0550,3,    226.7,2,    223.3,2,    10.44,2,    15.91,   2,     1.39,2,   -999.0,9,   7.7060,2,    25.00,   6.1846
  35TH20040604, OVIDE,    41,  1,     14,     14,2,20040618,0057, 57.9720, -29.2780, 2164,    397.4,   7.6840,  35.1690,2,  35.1710,2,    263.8,2,    269.1,2,     6.54,2,    10.24,   3,     1.10,2,   -999.0,9,   7.7790,2,    25.00,   7.6441
  35TH20040604, OVIDE,    41,  1,     15,     15,2,20040618,0057, 57.9720, -29.2780, 2164,    297.9,   7.9190,  35.1810,2,  35.1790,2,    263.0,2,    266.1,2,     6.42,2,    12.05,   2,     1.10,2,   -999.0,9,   7.7840,2,    25.00,   7.8887
  35TH20040604, OVIDE,    41,  1,     16,     16,2,20040618,0057, 57.9720, -29.2780, 2164,    196.0,   8.1980,  35.1780,2,  35.1740,2,    270.9,2,    270.7,2,     5.78,2,    11.56,   2,     1.04,2,   -999.0,9,   7.7900,2,    25.00,   8.1778
  35TH20040604, OVIDE,    41,  1,     17,     17,2,20040618,0057, 57.9720, -29.2780, 2164,    146.2,   8.6600,  35.2340,2,  35.2350,2,    269.6,2,    268.6,2,     5.42,2,    11.71,   2,     1.01,2,   -999.0,9,   7.8040,2,    25.00,   8.6445
  35TH20040604, OVIDE,    41,  1,     18,     18,2,20040618,0057, 57.9720, -29.2780, 2164,     97.4,   8.5700,  35.1790,2,  35.1770,2,    280.1,2,    276.7,2,     3.94,2,     8.88,   3,     0.98,2,   -999.0,9,   7.8150,2,    25.00,   8.5598
  35TH20040604, OVIDE,    41,  1,     19,     19,2,20040618,0057, 57.9720, -29.2780, 2164,     47.7,   9.0410,  35.1720,2,  35.1730,2,    285.3,2,    282.7,2,     1.93,2,     6.88,   3,     0.87,2,   -999.0,9,   7.8430,2,    25.00,   9.0358
  35TH20040604, OVIDE,    41,  1,     20,     20,2,20040618,0057, 57.9720, -29.2780, 2164,      2.6,   9.9140,  35.1420,2,  35.1370,2,    275.8,2,    286.8,3,     1.53,2,     7.76,   2,     0.73,2,   -999.0,9,   7.8640,2,    25.00,   9.9137
  35TH20040604, OVIDE,    42,  1,      3,      3,2,20040618,0523, 57.7460, -28.8600, 2538,   2523.5,   2.8320,  34.9800,2,  34.9730,2,    274.7,2,    274.1,2,    13.04,2,    16.54,   2,     1.24,2,   2306.3,2,   7.7160,2,    25.00,   2.6327
  35TH20040604, OVIDE,    42,  1,      4,      4,2,20040618,0523, 57.7460, -28.8600, 2538,   2396.3,   2.8620,  34.9760,2,  34.9740,2,    273.3,2,    273.2,2,    13.04,2,    16.65,   2,     1.22,2,   2306.1,2,   7.7210,2,    25.00,   2.6744
  35TH20040604, OVIDE,    42,  1,      5,      5,2,20040618,0523, 57.7460, -28.8600, 2538,   2235.8,   3.0100,  34.9640,2,  34.9640,2,    274.3,2,    272.4,2,    13.20,2,    17.42,   2,     1.27,2,   2305.6,2,   7.7270,2,    25.00,   2.8353
  35TH20040604, OVIDE,    42,  1,      6,      6,2,20040618,0523, 57.7460, -28.8600, 2538,   1995.9,   3.2630,  34.9550,2,  34.9550,2,    276.2,2,    274.7,2,    11.50,2,    14.56,   2,     1.25,2,   2302.8,2,   7.7270,2,    25.00,   3.1068
  35TH20040604, OVIDE,    42,  1,      7,      7,2,20040618,0523, 57.7460, -28.8600, 2538,   1795.7,   3.3350,  34.9180,2,  34.9130,2,    280.2,2,    278.7,2,    10.89,2,     9.15,   3,     1.27,2,   2299.3,2,   7.7260,2,    25.00,   3.1963
  35TH20040604, OVIDE,    42,  1,      8,      8,2,20040618,0523, 57.7460, -28.8600, 2538,   1595.5,   3.3860,  34.8930,2,  34.8910,2,    280.1,2,    278.4,2,    10.85,2,    12.18,   3,     1.28,2,   2296.0,2,   7.7210,2,    25.00,   3.2646
  35TH20040604, OVIDE,    42,  1,      9,      9,2,20040618,0523, 57.7460, -28.8600, 2538,   1594.8,   3.3870,  34.8920,2,  34.8910,2,    280.1,2,    278.2,2,    10.85,2,    12.13,   3,     1.28,2,   -999.0,9,   7.7180,2,    25.00,   3.2656
  35TH20040604, OVIDE,    42,  1,     10,     10,2,20040618,0523, 57.7460, -28.8600, 2538,   1395.8,   3.5810,  34.9000,2,  34.8990,2,    274.2,2,    273.2,2,    10.89,2,    14.34,   2,     1.32,2,   2298.4,2,   7.7130,2,    25.00,   3.4748
  35TH20040604, OVIDE,    42,  1,     11,     11,2,20040618,0523, 57.7460, -28.8600, 2538,   1195.3,   3.7700,  34.9060,2,  34.9080,2,    270.1,2,    270.2,2,    10.89,2,    17.09,   2,     1.31,2,   2300.9,2,   7.7120,2,    25.00,   3.6791
  35TH20040604, OVIDE,    42,  1,     12,     12,2,20040618,0523, 57.7460, -28.8600, 2538,    995.4,   4.0520,  34.9160,2,  34.9170,2,    265.5,2,    264.5,2,    10.53,2,    17.86,   2,     1.30,2,   2301.5,2,   7.7110,2,    25.00,   3.9756
  35TH20040604, OVIDE,    42,  1,     13,     13,2,20040618,0523, 57.7460, -28.8600, 2538,    896.1,   4.2550,  34.9300,2,  34.9330,2,    255.5,2,    259.1,2,    10.57,2,    16.98,   2,     1.35,2,   2303.0,2,   7.7070,2,    25.00,   4.1855
  35TH20040604, OVIDE,    42,  1,     14,     14,2,20040618,0523, 57.7460, -28.8600, 2538,    696.1,   5.2510,  34.9910,2,  34.9950,2,    236.2,2,    236.8,2,    10.93,2,    18.64,   2,     1.39,2,   2307.4,2,   7.7040,2,    25.00,   5.1926
  35TH20040604, OVIDE,    42,  1,     15,     15,2,20040618,0523, 57.7460, -28.8600, 2538,    597.3,   6.0530,  35.0550,2,  35.0590,2,    223.1,2,    223.6,2,    10.93,2,    14.55,   3,     1.39,2,   2311.2,2,   7.7020,2,    25.00,   5.9996
  35TH20040604, OVIDE,    42,  1,     16,     16,2,20040618,0523, 57.7460, -28.8600, 2538,    396.6,   7.5800,  35.1380,2,  35.1370,2,    265.6,2,    254.4,3,    10.85,2,    15.71,   2,     1.18,2,   2315.7,2,   7.7600,2,    25.00,   7.5405
  35TH20040604, OVIDE,    42,  1,     17,     17,2,20040618,0523, 57.7460, -28.8600, 2538,    295.7,   8.0490,  35.1700,2,  35.1610,2,    262.5,2,    257.0,2,     7.49,2,    15.82,   2,     1.12,2,   2313.7,2,   7.7740,2,    25.00,   8.0187
  35TH20040604, OVIDE,    42,  1,     18,     18,2,20040618,0523, 57.7460, -28.8600, 2538,    197.2,   8.4700,  35.1820,2,  35.1820,2,    273.2,2,    269.2,2,     7.57,2,    13.78,   2,     1.01,2,   -999.0,9,   7.7960,2,    25.00,   8.4493
  35TH20040604, OVIDE,    42,  1,     19,     19,2,20040618,0523, 57.7460, -28.8600, 2538,    145.5,   8.4590,  35.1320,2,  35.1340,2,    263.6,2,    265.8,2,     5.42,2,    10.97,   2,     1.02,2,   -999.0,9,   7.7960,2,    25.00,   8.4438
  35TH20040604, OVIDE,    42,  1,     20,     20,2,20040618,0523, 57.7460, -28.8600, 2538,     97.8,   8.9680,  35.2040,2,  35.1990,2,    268.0,2,    268.6,2,     4.53,2,     6.34,   3,     0.97,2,   2317.5,2,   7.8130,2,    25.00,   8.9574
  35TH20040604, OVIDE,    42,  1,     21,     21,2,20040618,0523, 57.7460, -28.8600, 2538,     47.4,   8.8570,  35.1320,2,  35.1360,2,    271.1,2,    274.3,2,     4.17,2,     5.18,   3,     0.93,2,   -999.0,9,   7.8200,2,    25.00,   8.8519
  35TH20040604, OVIDE,    42,  1,     22,     22,2,20040618,0523, 57.7460, -28.8600, 2538,      3.8,   9.8820,  35.1270,2,  35.1300,2,    278.0,2,    287.1,3,     1.30,2,     6.78,   2,     0.73,2,   2311.5,2,   7.8620,2,    25.00,   9.8816