BOTTLE,20220120SIOCCHENA
EXPOCODE,SECT_ID,STNNBR,CASTNO,SAMPNO,BTLNBR,BTLNBR_FLAG_W,DATE,TIME,LATITUDE,LONGITUDE,DEPTH,CTDPRS,CTDTMP,CTDSAL,CTDSAL_FLAG_W,SALNTY,SALNTY_FLAG_W,CTDOXY,CTDOXY_FLAG_W,OXYGEN,OXYGEN_FLAG_W,SILCAT,SILCAT_FLAG_W,NITRAT,NITRAT_FLAG_W,PHSPHT,PHSPHT_FLAG_W,ALKALI,ALKALI_FLAG_W,PH_SWS,PH_SWS_FLAG_W,PH_TMP,THETA
,,,,,,,,,,,METERS,DBAR,ITS-90,PSS-78,,PSS-78,,UMOL/KG,,UMOL/KG,,UMOL/KG,,UMOL/KG,,UMOL/KG,,UMOL/KG,,,,DEG C,DEG C
  35TH20040604, OVIDE,    79,  1,      3,      3,2,20040625,0645, 47.6630, -20.5560, 4432,   4420.1,   2.5600,  34.9060,2,  34.9080,2,    240.0,2,    240.4,2,    45.44,2,    23.05,   2,     1.36,2,   2355.2,2,   7.7310,2,    25.00,   2.1604
  35TH20040604, OVIDE,    79,  1,      4,      4,2,20040625,0645, 47.6630, -20.5560, 4432,   3996.8,   2.5460,  34.9080,2,  34.9130,2,    240.8,2,    241.2,2,    43.99,2,    22.72,   2,     1.32,2,   2353.6,2,   7.7290,2,    25.00,   2.1967
  35TH20040604, OVIDE,    79,  1,      5,      5,2,20040625,0645, 47.6630, -20.5560, 4432,   3749.5,   2.5640,  34.9130,2,  34.9180,2,    242.6,2,    242.9,2,    41.95,2,    22.55,   2,     1.32,2,   2349.9,2,   7.7280,2,    25.00,   2.2423
  35TH20040604, OVIDE,    79,  1,      6,      6,2,20040625,0645, 47.6630, -20.5560, 4432,   3498.5,   2.6160,  34.9190,2,  34.9260,2,    244.5,2,    245.7,2,    39.04,2,    22.04,   2,     1.28,2,   2346.3,2,   7.7270,2,    25.00,   2.3207
  35TH20040604, OVIDE,    79,  1,      7,      7,2,20040625,0645, 47.6630, -20.5560, 4432,   3247.9,   2.7090,  34.9300,2,  34.9370,2,    249.3,2,    250.5,2,    33.65,2,    20.92,   2,     1.22,2,   2338.7,2,   7.7270,2,    25.00,   2.4385
  35TH20040604, OVIDE,    79,  1,      8,      8,2,20040625,0645, 47.6630, -20.5560, 4432,   2996.5,   2.8150,  34.9360,2,  34.9400,2,    254.9,2,    256.7,2,    27.97,2,    19.80,   2,     1.12,2,   2329.3,2,   7.7300,2,    25.00,   2.5685
  35TH20040604, OVIDE,    79,  1,      9,      9,2,20040625,0645, 47.6630, -20.5560, 4432,   2746.3,   2.9740,  34.9400,2,  34.9470,2,    261.7,2,    262.7,2,    22.28,2,    18.84,   2,     1.07,2,   2321.9,2,   7.7300,2,    25.00,   2.7499
  35TH20040604, OVIDE,    79,  1,     10,     10,2,20040625,0645, 47.6630, -20.5560, 4432,   2746.6,   2.9740,  34.9400,2,  34.9450,2,    261.7,2,    263.0,2,    21.99,2,    19.01,   2,     1.08,2,   2320.2,2,   7.7300,2,    25.00,   2.7499
  35TH20040604, OVIDE,    79,  1,     11,     11,2,20040625,0645, 47.6630, -20.5560, 4432,   2496.0,   3.1120,  34.9270,2,  34.9350,2,    266.7,2,    271.0,2,    15.51,2,    18.17,   2,     1.01,2,   2312.4,2,   7.7280,2,    25.00,   2.9104
  35TH20040604, OVIDE,    79,  1,     12,     12,2,20040625,0645, 47.6630, -20.5560, 4432,   2247.3,   3.1790,  34.9070,2,  34.9110,2,    272.2,2,    277.5,2,    13.01,2,    17.72,   2,     0.98,2,   2306.3,2,   7.7270,2,    25.00,   3.0005
  35TH20040604, OVIDE,    79,  1,     13,     13,2,20040625,0645, 47.6630, -20.5560, 4432,   1996.3,   3.2560,  34.8920,2,  34.8960,2,    279.0,2,    281.1,2,    12.06,2,    18.06,   2,     1.00,2,   2305.5,2,   7.7260,2,    25.00,   3.1001
  35TH20040604, OVIDE,    79,  1,     14,     14,2,20040625,0645, 47.6630, -20.5560, 4432,   1795.1,   3.4220,  34.8960,2,  34.9020,2,    276.5,2,    276.5,2,    11.74,2,    18.17,   2,     1.01,2,   2304.5,2,   7.7250,2,    25.00,   3.2822
  35TH20040604, OVIDE,    79,  1,     15,     15,2,20040625,0645, 47.6630, -20.5560, 4432,   1595.4,   3.6840,  34.9160,2,  34.9210,2,    270.6,2,    270.4,2,    11.66,2,    18.51,   2,     1.03,2,   2304.7,2,   7.7190,2,    25.00,   3.5589
  35TH20040604, OVIDE,    79,  1,     16,     16,2,20040625,0645, 47.6630, -20.5560, 4432,   1394.9,   4.0300,  34.9450,2,  34.9500,2,    259.0,2,    264.6,2,    11.38,2,    18.51,   2,     1.03,2,   2306.8,2,   7.7190,2,    25.00,   3.9190
  35TH20040604, OVIDE,    79,  1,     17,     17,2,20040625,0645, 47.6630, -20.5560, 4432,   1195.3,   4.8400,  35.0390,2,  35.0360,2,    246.3,2,    247.7,2,    11.46,2,    19.29,   2,     1.07,2,   2312.5,2,   7.7180,2,    25.00,   4.7391
  35TH20040604, OVIDE,    79,  1,     18,     18,2,20040625,0645, 47.6630, -20.5560, 4432,    995.8,   6.5550,  35.2670,2,  35.2700,2,    217.8,2,    219.8,2,    11.50,2,    19.12,   2,     1.05,2,   2328.8,2,   7.7260,2,    25.00,   6.4592
  35TH20040604, OVIDE,    79,  1,     19,     19,2,20040625,0645, 47.6630, -20.5560, 4432,    894.9,   7.4160,  35.3590,2,  35.3730,3,    205.4,2,    206.7,2,    11.14,2,    19.40,   2,     1.05,2,   -999.0,9,   7.7310,2,    25.00,   7.3247
  35TH20040604, OVIDE,    79,  1,     20,     20,2,20040625,0645, 47.6630, -20.5560, 4432,    825.8,   8.1920,  35.4610,2,  35.4720,3,    199.2,2,    187.0,3,    10.79,2,    19.29,   2,     1.04,2,   2335.9,2,   7.7370,2,    25.00,   8.1033
  35TH20040604, OVIDE,    79,  1,     21,     21,2,20040625,0645, 47.6630, -20.5560, 4432,    725.5,   7.5870,  35.2120,2,  35.2160,2,    199.7,2,    200.7,2,    11.22,2,    20.36,   2,     1.11,2,   -999.0,9,   7.7220,2,    25.00,   7.5130
  35TH20040604, OVIDE,    79,  1,     22,     22,2,20040625,0645, 47.6630, -20.5560, 4432,    596.1,   8.5320,  35.2160,2,  35.2220,2,    198.0,2,    196.1,2,    10.23,2,    19.68,   2,     1.05,2,   2325.6,2,   7.7300,2,    25.00,   8.4676
  35TH20040604, OVIDE,    79,  1,     23,     23,2,20040625,0645, 47.6630, -20.5560, 4432,    496.4,   9.4880,  35.2660,2,  35.2690,2,    201.6,2,    202.4,2,     8.80,2,    18.28,   2,     0.97,2,   2323.9,2,   7.7540,2,    25.00,   9.4312
  35TH20040604, OVIDE,    79,  1,     24,     24,2,20040625,0645, 47.6630, -20.5560, 4432,    395.7,  10.6390,  35.4160,2,  35.4150,2,    221.6,2,    220.5,2,     6.34,2,    14.91,   2,     0.78,2,   2329.8,2,   7.7960,2,    25.00,  10.5906
  35TH20040604, OVIDE,    79,  1,     25,     25,2,20040625,0645, 47.6630, -20.5560, 4432,    296.2,  11.2710,  35.4900,2,  35.4830,2,    239.2,2,    229.7,3,     4.56,2,    11.55,   2,     0.59,2,   2334.3,2,   7.8420,2,    25.00,  11.2335
  35TH20040604, OVIDE,    79,  1,     26,     26,2,20040625,0645, 47.6630, -20.5560, 4432,    195.5,  11.6030,  35.5340,2,  35.5360,2,    234.3,2,    245.0,3,     4.28,2,    11.10,   2,     0.56,2,   2338.2,2,   7.8500,2,    25.00,  11.5779
  35TH20040604, OVIDE,    79,  1,     27,     27,2,20040625,0645, 47.6630, -20.5560, 4432,    147.2,  11.9930,  35.5960,2,  35.6000,2,    229.6,2,    234.9,2,     4.16,2,    11.21,   2,     0.56,2,   -999.0,9,   7.8500,2,    25.00,  11.9737
  35TH20040604, OVIDE,    79,  1,     28,     28,2,20040625,0645, 47.6630, -20.5560, 4432,     96.7,  12.2940,  35.6190,2,  35.6220,2,    237.8,2,    243.8,2,     3.01,2,     9.42,   2,     0.47,2,   -999.0,9,   7.8700,2,    25.00,  12.2812
  35TH20040604, OVIDE,    79,  1,     29,     29,2,20040625,0645, 47.6630, -20.5560, 4432,     46.8,  13.3870,  35.7020,2,  35.7040,2,    254.3,2,    253.7,2,     1.74,2,     7.12,   2,     0.38,2,   -999.0,9,   7.9040,2,    25.00,  13.3804
  35TH20040604, OVIDE,    79,  1,     30,     30,2,20040625,0645, 47.6630, -20.5560, 4432,      5.0,  16.5090,  35.7040,2,  35.7060,2,    246.6,2,    243.2,2,     0.44,2,     0.11,   2,     0.04,2,   -999.0,9,   7.9960,2,    25.00,  16.5082
  35TH20040604, OVIDE,    80,  1,      3,      3,2,20040625,1241, 47.2890, -20.2570, 4581,   4569.2,   2.5890,  34.9080,2,  34.9080,2,    239.1,2,    240.2,2,    45.01,2,    23.44,   2,     1.36,2,   -999.0,9,   7.7290,2,    25.00,   2.1704
  35TH20040604, OVIDE,    80,  1,      4,      4,2,20040625,1241, 47.2890, -20.2570, 4581,   4242.9,   2.5590,  34.9090,2,  34.9080,2,    240.3,2,    240.1,2,    44.57,2,    24.40,   3,     1.35,2,   -999.0,9,   7.7240,2,    25.00,   2.1806
  35TH20040604, OVIDE,    80,  1,      5,      5,2,20040625,1241, 47.2890, -20.2570, 4581,   3999.0,   2.5410,  34.9110,2,  34.9120,2,    239.8,2,    240.5,2,    43.84,2,    23.56,   2,  -999.00,9,   -999.0,9,   7.7250,2,    25.00,   2.1916
  35TH20040604, OVIDE,    80,  1,      6,      6,2,20040625,1241, 47.2890, -20.2570, 4581,   3797.3,   2.5440,  34.9130,2,  34.9130,2,    240.6,2,    242.0,2,    42.53,2,    23.33,   2,     1.34,2,   -999.0,9,   7.7240,2,    25.00,   2.2175
  35TH20040604, OVIDE,    80,  1,      7,      7,2,20040625,1241, 47.2890, -20.2570, 4581,   3599.0,   2.5720,  34.9170,2,  34.9170,2,    243.2,2,    243.8,2,    40.64,2,    22.85,   2,     1.31,2,   -999.0,9,   7.7310,2,    25.00,   2.2669
  35TH20040604, OVIDE,    80,  1,      8,      8,2,20040625,1241, 47.2890, -20.2570, 4581,   3398.6,   2.6360,  34.9250,2,  34.9250,2,    245.4,2,    246.9,2,    37.00,2,    22.14,   2,  -999.00,9,   -999.0,9,   7.7260,2,    25.00,   2.3511
  35TH20040604, OVIDE,    80,  1,      9,      9,2,20040625,1241, 47.2890, -20.2570, 4581,   3196.8,   2.7370,  34.9350,2,  34.9380,2,    251.4,2,    252.1,2,    31.75,2,    21.42,   2,     1.20,2,   -999.0,9,   7.7270,2,    25.00,   2.4713
  35TH20040604, OVIDE,    80,  1,     10,     10,2,20040625,1241, 47.2890, -20.2570, 4581,   2996.7,   2.8360,  34.9420,2,  34.9420,2,    255.1,2,    256.0,2,    27.53,2,    20.41,   2,     1.14,2,   -999.0,9,   7.7230,2,    25.00,   2.5891
  35TH20040604, OVIDE,    80,  1,     11,     11,2,20040625,1241, 47.2890, -20.2570, 4581,   2995.4,   2.8380,  34.9410,2,  34.9420,2,    255.2,2,    257.0,2,    27.38,2,    20.41,   2,     1.14,2,   -999.0,9,   7.7210,2,    25.00,   2.5912
  35TH20040604, OVIDE,    80,  1,     12,     12,2,20040625,1241, 47.2890, -20.2570, 4581,   2795.9,   2.9610,  34.9440,2,  34.9450,2,    259.0,2,    259.6,2,    23.30,2,    19.64,   2,     1.11,2,   -999.0,9,   7.7180,2,    25.00,   2.7321
  35TH20040604, OVIDE,    80,  1,     13,     13,2,20040625,1241, 47.2890, -20.2570, 4581,   2595.3,   3.0870,  34.9420,2,  34.9430,2,    264.3,2,    265.0,2,    18.56,2,    19.04,   2,     1.07,2,   -999.0,9,   7.7190,2,    25.00,   2.8759
  35TH20040604, OVIDE,    80,  1,     14,     14,2,20040625,1241, 47.2890, -20.2570, 4581,   2396.0,   3.1830,  34.9270,2,  34.9270,2,    270.2,2,    271.5,2,    14.76,2,    18.51,   2,     1.02,2,   -999.0,9,   7.7200,2,    25.00,   2.9900
  35TH20040604, OVIDE,    80,  1,     15,     15,2,20040625,1241, 47.2890, -20.2570, 4581,   2197.6,   3.2450,  34.9110,2,  34.9100,2,    274.4,2,    275.6,2,    13.08,2,    18.45,   2,     1.01,2,   -999.0,9,   7.7190,2,    25.00,   3.0702
  35TH20040604, OVIDE,    80,  1,     16,     16,2,20040625,1241, 47.2890, -20.2570, 4581,   1996.6,   3.3140,  34.8950,2,  34.9020,2,    276.8,2,    278.0,2,    11.60,2,    18.33,   2,     1.01,2,   -999.0,9,   7.7170,2,    25.00,   3.1572
  35TH20040604, OVIDE,    80,  1,     17,     17,2,20040625,1241, 47.2890, -20.2570, 4581,   1795.5,   3.4870,  34.9030,2,  34.9030,2,    273.6,2,    290.7,3,    11.60,2,    18.74,   2,     1.00,2,   -999.0,9,   7.7160,2,    25.00,   3.3463
  35TH20040604, OVIDE,    80,  1,     18,     18,2,20040625,1241, 47.2890, -20.2570, 4581,   1595.6,   3.7890,  34.9220,2,  34.9220,2,    264.8,2,    268.6,2,    11.36,2,    18.86,   2,     1.03,2,   -999.0,9,   7.7140,2,    25.00,   3.6627
  35TH20040604, OVIDE,    80,  1,     19,     19,2,20040625,1241, 47.2890, -20.2570, 4581,   1395.1,   4.2660,  34.9700,2,  34.9710,2,    256.0,2,    258.8,2,    11.28,2,    19.28,   2,     1.04,2,   -999.0,9,   7.7080,2,    25.00,   4.1525
  35TH20040604, OVIDE,    80,  1,     20,     20,2,20040625,1241, 47.2890, -20.2570, 4581,   1194.9,   5.0120,  35.0420,2,  35.0420,2,    246.2,2,    245.9,2,    11.28,2,    19.64,   2,     1.06,2,   -999.0,9,   7.7100,2,    25.00,   4.9096
  35TH20040604, OVIDE,    80,  1,     21,     21,2,20040625,1241, 47.2890, -20.2570, 4581,    995.3,   7.1340,  35.3400,2,  35.3410,2,    212.5,2,    211.1,2,    11.20,2,    19.75,   2,     1.05,2,   -999.0,9,   7.7260,2,    25.00,   7.0339
  35TH20040604, OVIDE,    80,  1,     22,     22,2,20040625,1241, 47.2890, -20.2570, 4581,    776.1,   7.9010,  35.2740,2,  35.2750,2,    196.0,2,    196.9,2,    10.84,2,    20.46,   2,     1.08,2,   -999.0,9,   7.7160,2,    25.00,   7.8198
  35TH20040604, OVIDE,    80,  1,     23,     23,2,20040625,1241, 47.2890, -20.2570, 4581,    646.1,   8.8210,  35.2520,2,  35.2450,2,    199.8,2,    196.1,2,     9.84,2,    19.04,   2,     1.06,2,   -999.0,9,   7.7260,2,    25.00,   8.7496
  35TH20040604, OVIDE,    80,  1,     24,     24,2,20040625,1241, 47.2890, -20.2570, 4581,    436.9,  10.9730,  35.5160,2,  35.5130,2,    240.3,2,    244.2,2,     4.56,2,    12.07,   2,     0.64,2,   -999.0,9,   7.8180,2,    25.00,  10.9183
  35TH20040604, OVIDE,    80,  1,     25,     25,2,20040625,1241, 47.2890, -20.2570, 4581,    316.8,  11.3910,  35.5350,2,  35.5240,3,    235.6,2,    235.9,2,     4.56,2,    12.31,   2,     0.61,2,   -999.0,9,   7.8260,2,    25.00,  11.3506
  35TH20040604, OVIDE,    80,  1,     26,     26,2,20040625,1241, 47.2890, -20.2570, 4581,    197.5,  11.9790,  35.6240,2,  35.6250,2,    240.8,2,    242.4,2,     3.48,2,    10.47,   2,     0.52,2,   -999.0,9,   7.8450,2,    25.00,  11.9531
  35TH20040604, OVIDE,    80,  1,     27,     27,2,20040625,1241, 47.2890, -20.2570, 4581,    136.4,  12.2180,  35.6530,2,  35.6520,2,    237.0,2,    243.4,2,     3.00,2,     9.87,   2,     0.48,2,   -999.0,9,   7.8490,2,    25.00,  12.1999
  35TH20040604, OVIDE,    80,  1,     28,     28,2,20040625,1241, 47.2890, -20.2570, 4581,     91.9,  12.5430,  35.7050,2,  35.7060,2,    251.4,2,    253.5,2,     1.48,2,     7.91,   2,     0.39,2,   -999.0,9,   7.8750,2,    25.00,  12.5306
  35TH20040604, OVIDE,    80,  1,     29,     29,2,20040625,1241, 47.2890, -20.2570, 4581,     49.6,  13.8010,  35.7330,2,  35.7320,2,    259.3,2,    264.6,2,     1.20,2,     4.52,   2,     0.26,2,   -999.0,9,   7.9240,2,    25.00,  13.7939
  35TH20040604, OVIDE,    80,  1,     30,     30,2,20040625,1241, 47.2890, -20.2570, 4581,      4.5,  16.8460,  35.6830,2,  35.6820,2,    244.3,2,    252.6,3,     0.44,2,     0.24,   2,     0.06,2,   -999.0,9,   7.9820,2,    25.00,  16.8453