BOTTLE,20220120SIOCCHENA
EXPOCODE,SECT_ID,STNNBR,CASTNO,SAMPNO,BTLNBR,BTLNBR_FLAG_W,DATE,TIME,LATITUDE,LONGITUDE,DEPTH,CTDPRS,CTDTMP,CTDSAL,CTDSAL_FLAG_W,SALNTY,SALNTY_FLAG_W,CTDOXY,CTDOXY_FLAG_W,OXYGEN,OXYGEN_FLAG_W,SILCAT,SILCAT_FLAG_W,NITRAT,NITRAT_FLAG_W,PHSPHT,PHSPHT_FLAG_W,ALKALI,ALKALI_FLAG_W,PH_SWS,PH_SWS_FLAG_W,PH_TMP,THETA
,,,,,,,,,,,METERS,DBAR,ITS-90,PSS-78,,PSS-78,,UMOL/KG,,UMOL/KG,,UMOL/KG,,UMOL/KG,,UMOL/KG,,UMOL/KG,,,,DEG C,DEG C
  35TH20040604, OVIDE,   105,  1,      3,      3,2,20040701,1217, 40.5490, -12.6430, 5412,   5401.4,   2.5610,  34.8960,2,  34.8930,2,   -999.0,9,    243.1,2,    46.70,2,    22.87,   2,     1.40,2,   -999.0,9,   7.7340,2,    25.00,   2.0373
  35TH20040604, OVIDE,   105,  1,      4,      4,2,20040701,1217, 40.5490, -12.6430, 5412,   4998.9,   2.5150,  34.8970,2,  34.8940,2,    243.1,2,    242.8,2,    46.56,2,    22.87,   2,     1.40,2,   -999.0,9,   7.7330,2,    25.00,   2.0452
  35TH20040604, OVIDE,   105,  1,      5,      5,2,20040701,1217, 40.5490, -12.6430, 5412,   4698.8,   2.4930,  34.9000,2,  34.9110,3,    242.4,2,    243.3,2,    45.69,2,    22.63,   2,     1.38,2,   -999.0,9,   7.7360,2,    25.00,   2.0615
  35TH20040604, OVIDE,   105,  1,      6,      6,2,20040701,1217, 40.5490, -12.6430, 5412,   4396.8,   2.4880,  34.9020,2,  34.9000,2,    243.2,2,    243.0,2,    45.40,2,    22.69,   2,     1.40,2,   -999.0,9,   7.7340,2,    25.00,   2.0934
  35TH20040604, OVIDE,   105,  1,      7,      7,2,20040701,1217, 40.5490, -12.6430, 5412,   4097.5,   2.5220,  34.9090,2,  34.9100,2,    243.3,2,    242.9,2,    43.66,2,    22.46,   2,     1.39,2,   -999.0,9,-999.0000,9,  -999.00,   2.1617
  35TH20040604, OVIDE,   105,  1,      8,      8,2,20040701,1217, 40.5490, -12.6430, 5412,   3796.3,   2.5660,  34.9160,2,  34.9110,2,    243.3,2,    243.3,2,    41.93,2,    22.22,   2,     1.36,2,   -999.0,9,   7.7310,2,    25.00,   2.2390
  35TH20040604, OVIDE,   105,  1,      9,      9,2,20040701,1217, 40.5490, -12.6430, 5412,   3497.4,   2.6480,  34.9270,2,  34.9300,2,    244.6,2,    244.6,2,    39.04,2,    21.87,   2,     1.33,2,   -999.0,9,   7.7320,2,    25.00,   2.3520
  35TH20040604, OVIDE,   105,  1,     10,     10,2,20040701,1217, 40.5490, -12.6430, 5412,   3196.8,   2.7600,  34.9390,2,  34.9380,2,    246.7,2,    246.4,2,    35.85,2,    21.40,   2,     1.29,2,   -999.0,9,   7.7340,2,    25.00,   2.4937
  35TH20040604, OVIDE,   105,  1,     11,     11,2,20040701,1217, 40.5490, -12.6430, 5412,   2997.3,   2.8700,  34.9500,2,  34.9480,2,    247.6,2,    248.3,2,    33.25,2,    20.87,   2,     1.28,2,   -999.0,9,   7.7340,2,    25.00,   2.6222
  35TH20040604, OVIDE,   105,  1,     12,     12,2,20040701,1217, 40.5490, -12.6430, 5412,   2797.0,   3.0220,  34.9640,2,  34.9600,2,    249.4,2,    249.5,2,    30.79,2,    20.46,   2,     1.24,2,   -999.0,9,   7.7340,2,    25.00,   2.7917
  35TH20040604, OVIDE,   105,  1,     13,     13,2,20040701,1217, 40.5490, -12.6430, 5412,   2594.8,   3.2030,  34.9790,2,  34.9830,2,    252.2,2,    251.1,2,    27.18,2,    19.87,   2,     1.19,2,   -999.0,9,   7.7360,2,    25.00,   2.9896
  35TH20040604, OVIDE,   105,  1,     14,     14,2,20040701,1217, 40.5490, -12.6430, 5412,   2394.6,   3.4640,  34.9980,2,  35.0060,2,    253.1,2,    253.1,2,    23.28,2,    19.28,   2,     1.17,2,   -999.0,9,   7.7380,2,    25.00,   3.2659
  35TH20040604, OVIDE,   105,  1,     15,     15,2,20040701,1217, 40.5490, -12.6430, 5412,   2195.8,   3.8210,  35.0370,2,  35.0350,2,    250.4,2,    252.2,2,    17.98,2,    19.05,   2,     1.12,2,   -999.0,9,   7.7360,2,    25.00,   3.6366
  35TH20040604, OVIDE,   105,  1,     16,     16,2,20040701,1217, 40.5490, -12.6430, 5412,   1995.6,   4.2540,  35.0770,2,  35.1160,3,    252.4,2,    249.2,2,    14.46,2,    18.05,   2,     1.05,2,   -999.0,9,   7.7410,2,    25.00,   4.0828
  35TH20040604, OVIDE,   105,  1,     17,     17,2,20040701,1217, 40.5490, -12.6430, 5412,   1797.6,   5.2560,  35.2190,2,  35.2180,2,    240.1,2,    242.2,2,    12.88,2,    18.40,   2,     0.98,2,   -999.0,9,   7.7460,2,    25.00,   5.0907
  35TH20040604, OVIDE,   105,  1,     18,     18,2,20040701,1217, 40.5490, -12.6430, 5412,   1594.7,   6.8760,  35.4860,2,  35.4870,2,    219.7,2,    222.6,2,    11.69,2,    17.92,   2,     1.01,2,   -999.0,9,   7.7510,2,    25.00,   6.7121
  35TH20040604, OVIDE,   105,  1,     19,     19,2,20040701,1217, 40.5490, -12.6430, 5412,   1395.3,   9.6110,  35.9810,2,  35.9890,2,    193.8,2,    193.3,2,    10.11,2,    16.68,   2,     0.90,2,   -999.0,9,   7.7840,2,    25.00,   9.4412
  35TH20040604, OVIDE,   105,  1,     20,     20,2,20040701,1217, 40.5490, -12.6430, 5412,   1217.5,  10.9500,  36.2130,2,  36.2100,2,    184.4,2,    181.6,2,     8.76,2,    16.03,   2,     0.84,2,   -999.0,9,   7.7960,2,    25.00,  10.7914
  35TH20040604, OVIDE,   105,  1,     21,     21,2,20040701,1217, 40.5490, -12.6430, 5412,    995.9,  11.3700,  36.1620,2,  36.1610,2,    179.3,2,    180.5,2,     8.33,2,    15.68,   2,     0.81,2,   -999.0,9,   7.7980,2,    25.00,  11.2386
  35TH20040604, OVIDE,   105,  1,     22,     22,2,20040701,1217, 40.5490, -12.6430, 5412,    797.5,  11.8190,  36.1230,2,  36.1220,2,    182.6,2,    181.9,2,     7.26,2,    14.62,   2,     0.71,2,   -999.0,9,   7.8070,2,    25.00,  11.7122
  35TH20040604, OVIDE,   105,  1,     23,     23,2,20040701,1217, 40.5490, -12.6430, 5412,    596.6,  11.3990,  35.8140,2,  35.8130,2,    185.8,2,    184.3,2,     7.11,2,    15.86,   2,     0.80,2,   -999.0,9,   7.7870,2,    25.00,  11.3217
  35TH20040604, OVIDE,   105,  1,     24,     24,2,20040701,1217, 40.5490, -12.6430, 5412,    397.3,  11.6030,  35.5990,2,  35.5940,2,    207.4,2,    206.8,2,     4.98,2,    13.69,   2,     0.71,2,   -999.0,9,   7.8020,2,    25.00,  11.5515
  35TH20040604, OVIDE,   105,  1,     25,     25,2,20040701,1217, 40.5490, -12.6430, 5412,    296.6,  12.1550,  35.6530,2,  35.6490,2,    215.6,2,    214.3,2,     3.99,2,    11.58,   2,     0.58,2,   -999.0,9,   7.8260,2,    25.00,  12.1156
  35TH20040604, OVIDE,   105,  1,     26,     26,2,20040701,1217, 40.5490, -12.6430, 5412,    195.9,  12.9590,  35.7570,2,  35.7550,2,    226.3,2,    227.1,2,     2.61,2,     7.70,   2,     0.37,2,   -999.0,9,   7.8690,2,    25.00,  12.9319
  35TH20040604, OVIDE,   105,  1,     27,     27,2,20040701,1217, 40.5490, -12.6430, 5412,    146.5,  13.5530,  35.8470,2,  35.8500,2,    228.8,2,    232.5,2,     2.09,2,     5.58,   2,     0.28,2,   -999.0,9,   7.8950,2,    25.00,  13.5322
  35TH20040604, OVIDE,   105,  1,     28,     28,2,20040701,1217, 40.5490, -12.6430, 5412,     97.3,  14.0150,  35.9220,2,  35.9220,2,    232.9,2,    238.9,2,     1.58,2,     3.52,   2,     0.19,2,   -999.0,9,   7.9140,2,    25.00,  14.0009
  35TH20040604, OVIDE,   105,  1,     29,     29,2,20040701,1217, 40.5490, -12.6430, 5412,     47.0,  14.5040,  35.9570,2,  35.9610,2,    254.6,2,    251.3,2,     1.26,2,     0.35,   2,     0.04,2,   -999.0,9,   7.9430,2,    25.00,  14.4970
  35TH20040604, OVIDE,   105,  1,     30,     30,2,20040701,1217, 40.5490, -12.6430, 5412,      5.4,  19.4620,  36.0170,2,  36.0140,2,    221.4,2,    236.9,3,     1.07,2,     0.12,   2,     0.01,2,   -999.0,9,   7.9910,2,    25.00,  19.4610
  35TH20040604, OVIDE,   106,  1,      3,      3,2,20040701,1808, 40.3330, -12.2200, 5362,   5350.6,   2.5540,  34.8960,2,  34.8930,2,    243.1,2,    243.5,2,    45.98,2,    22.79,   2,     1.44,2,   2354.3,2,   7.7350,2,    25.00,   2.0373
  35TH20040604, OVIDE,   106,  1,      4,      4,2,20040701,1808, 40.3330, -12.2200, 5362,   4999.6,   2.5100,  34.8960,2,  34.8940,2,    243.8,2,    243.2,2,    45.98,2,    22.79,   2,     1.42,2,   2354.5,2,   7.7330,2,    25.00,   2.0402
  35TH20040604, OVIDE,   106,  1,      5,      5,2,20040701,1808, 40.3330, -12.2200, 5362,   4496.6,   2.4740,  34.9000,2,  34.9050,2,    243.1,2,    243.0,2,    45.11,2,    22.61,   2,     1.43,2,   2352.3,2,   7.7330,2,    25.00,   2.0678
  35TH20040604, OVIDE,   106,  1,      6,      6,2,20040701,1808, 40.3330, -12.2200, 5362,   3997.9,   2.5190,  34.9100,2,  34.9070,2,    242.6,2,    243.5,2,    43.08,2,    22.49,   2,     1.41,2,   2349.7,2,   7.7320,2,    25.00,   2.1704
  35TH20040604, OVIDE,   106,  1,      7,      7,2,20040701,1808, 40.3330, -12.2200, 5362,   3498.0,   2.6220,  34.9250,2,  34.9270,2,    244.1,2,    252.1,3,    39.04,2,    21.90,   2,     1.37,2,   2345.8,2,   7.7320,2,    25.00,   2.3266
  35TH20040604, OVIDE,   106,  1,      8,      8,2,20040701,1808, 40.3330, -12.2200, 5362,   2997.2,   2.8180,  34.9460,2,  34.9420,2,    247.7,2,    247.7,2,    33.83,2,    21.84,   2,     1.31,2,   2338.6,2,   7.7340,2,    25.00,   2.5714
  35TH20040604, OVIDE,   106,  1,      9,      9,2,20040701,1808, 40.3330, -12.2200, 5362,   2746.6,   3.0060,  34.9660,2,  34.9650,2,    249.3,2,    248.5,2,    30.50,2,    21.36,   2,     1.28,2,   2335.6,2,   7.7350,2,    25.00,   2.7811
  35TH20040604, OVIDE,   106,  1,     10,     10,2,20040701,1808, 40.3330, -12.2200, 5362,   2498.9,   3.3080,  34.9940,2,  34.9880,2,    250.0,2,    249.1,2,    26.89,2,    20.71,   2,     1.24,2,   2331.9,2,   7.7390,2,    25.00,   3.1023
  35TH20040604, OVIDE,   106,  1,     11,     11,2,20040701,1808, 40.3330, -12.2200, 5362,   2245.5,   3.6610,  35.0270,2,  35.0250,2,    251.6,2,    250.3,2,    22.84,2,    20.17,   2,     1.18,2,   2327.8,2,   7.7370,2,    25.00,   3.4743
  35TH20040604, OVIDE,   106,  1,     12,     12,2,20040701,1808, 40.3330, -12.2200, 5362,   1995.4,   4.1260,  35.0640,2,  35.0620,2,    250.0,2,    252.2,2,    16.14,2,    19.16,   2,     1.11,2,   2325.1,2,   7.7380,2,    25.00,   3.9568
  35TH20040604, OVIDE,   106,  1,     13,     13,2,20040701,1808, 40.3330, -12.2200, 5362,   1796.0,   4.7830,  35.1490,2,  35.1460,2,    246.1,2,    247.1,2,    13.89,2,    18.09,   2,     1.10,2,   2326.5,2,   7.7410,2,    25.00,   4.6243
  35TH20040604, OVIDE,   106,  1,     14,     14,2,20040701,1808, 40.3330, -12.2200, 5362,   1596.0,   6.2760,  35.3880,2,  35.3940,2,    226.7,2,    228.5,2,    12.36,2,    18.44,   2,     1.04,2,   2341.6,2,   7.7510,2,    25.00,   6.1191
  35TH20040604, OVIDE,   106,  1,     15,     15,2,20040701,1808, 40.3330, -12.2200, 5362,   1395.2,   8.4000,  35.7400,2,  35.7460,2,    205.8,2,    204.1,2,    10.84,2,    17.66,   2,     0.98,2,   2365.5,2,   7.7680,2,    25.00,   8.2426
  35TH20040604, OVIDE,   106,  1,     16,     16,2,20040701,1808, 40.3330, -12.2200, 5362,   1217.0,  10.4810,  36.1290,2,  36.1290,2,    185.2,2,    184.6,2,     9.51,2,    17.36,   2,     0.89,2,   2390.7,2,   7.7980,2,    25.00,  10.3265
  35TH20040604, OVIDE,   106,  1,     17,     17,2,20040701,1808, 40.3330, -12.2200, 5362,   1097.1,  11.0100,  36.1790,2,  36.1780,2,    183.6,2,    180.5,2,     8.99,2,    16.29,   2,     0.86,2,   2394.2,2,   7.7930,2,    25.00,  10.8674
  35TH20040604, OVIDE,   106,  1,     18,     18,2,20040701,1808, 40.3330, -12.2200, 5362,    997.8,  11.1890,  36.1440,2,  36.1460,2,    179.2,2,    179.7,2,     8.71,2,    17.36,   2,     0.85,2,   2389.6,2,   7.7930,2,    25.00,  11.0586
  35TH20040604, OVIDE,   106,  1,     19,     19,2,20040701,1808, 40.3330, -12.2200, 5362,    897.7,  11.4340,  36.1020,2,  36.0990,2,    179.3,2,    180.9,2,     8.02,2,    18.13,   2,     0.85,2,   -999.0,9,   7.8000,2,    25.00,  11.3157
  35TH20040604, OVIDE,   106,  1,     20,     20,2,20040701,1808, 40.3330, -12.2200, 5362,    797.4,  11.6220,  36.0600,2,  36.0600,2,    184.0,2,    181.9,2,     7.46,2,    15.76,   2,     0.81,2,   2379.9,2,   7.8000,2,    25.00,  11.5164
  35TH20040604, OVIDE,   106,  1,     21,     21,2,20040701,1808, 40.3330, -12.2200, 5362,    697.9,  11.5070,  35.9110,2,  35.9120,2,    182.7,2,    183.3,2,     7.22,2,    15.76,   2,     0.84,2,   -999.0,9,   7.7930,2,    25.00,  11.4156
  35TH20040604, OVIDE,   106,  1,     22,     22,2,20040701,1808, 40.3330, -12.2200, 5362,    596.7,  11.1820,  35.6790,2,  35.6870,2,    183.1,2,    187.3,2,     6.82,2,    16.12,   2,     0.84,2,   2350.1,2,   7.7840,2,    25.00,  11.1057
  35TH20040604, OVIDE,   106,  1,     23,     23,2,20040701,1808, 40.3330, -12.2200, 5362,    496.3,  11.2100,  35.5640,2,  35.5650,2,    198.8,2,    198.5,2,     5.86,2,    15.94,   2,     0.80,2,   2338.2,2,   7.7840,2,    25.00,  11.1468
  35TH20040604, OVIDE,   106,  1,     24,     24,2,20040701,1808, 40.3330, -12.2200, 5362,    396.2,  11.6480,  35.5900,2,  35.5890,2,    208.5,2,    208.9,2,     4.78,2,    14.16,   2,     0.71,2,   2339.3,2,   7.8060,2,    25.00,  11.5965
  35TH20040604, OVIDE,   106,  1,     25,     25,2,20040701,1808, 40.3330, -12.2200, 5362,    285.6,  12.2450,  35.6630,2,  35.6590,2,    215.2,2,    214.0,2,     3.93,2,    11.78,   2,     0.59,2,   2341.9,2,   7.8270,2,    25.00,  12.2068
  35TH20040604, OVIDE,   106,  1,     26,     26,2,20040701,1808, 40.3330, -12.2200, 5362,    197.1,  12.8430,  35.7380,2,  35.7330,2,    224.3,2,    220.5,2,     3.13,2,     9.40,   2,     0.48,2,   2346.3,2,   7.8520,2,    25.00,  12.8159
  35TH20040604, OVIDE,   106,  1,     27,     27,2,20040701,1808, 40.3330, -12.2200, 5362,    147.1,  13.3830,  35.8240,2,  35.8210,2,    232.1,2,    230.3,2,     2.09,2,     6.24,   2,     0.32,2,   -999.0,9,   7.8870,2,    25.00,  13.3622
  35TH20040604, OVIDE,   106,  1,     28,     28,2,20040701,1808, 40.3330, -12.2200, 5362,     96.9,  14.1050,  35.9360,2,  35.9310,2,    236.4,2,    238.3,2,     1.04,2,     3.21,   2,     0.17,2,   2359.3,2,   7.9190,2,    25.00,  14.0909
  35TH20040604, OVIDE,   106,  1,     29,     29,2,20040701,1808, 40.3330, -12.2200, 5362,     47.6,  14.8530,  35.9410,2,  35.9420,2,    259.5,2,    262.8,2,     0.96,2,     0.00,   2,     0.04,2,   -999.0,9,   7.9710,2,    25.00,  14.8458
  35TH20040604, OVIDE,   106,  1,     30,     30,2,20040701,1808, 40.3330, -12.2200, 5362,      4.6,  19.6030,  35.9880,2,  35.9870,2,    232.9,2,    238.1,2,     0.76,2,     0.12,   2,     0.02,2,   2366.5,2,   7.9910,2,    25.00,  19.6022