BOTTLE,20220120SIOCCHENA
EXPOCODE,SECT_ID,STNNBR,CASTNO,SAMPNO,BTLNBR,BTLNBR_FLAG_W,DATE,TIME,LATITUDE,LONGITUDE,DEPTH,CTDPRS,CTDTMP,CTDSAL,CTDSAL_FLAG_W,SALNTY,SALNTY_FLAG_W,CTDOXY,CTDOXY_FLAG_W,OXYGEN,OXYGEN_FLAG_W,SILCAT,SILCAT_FLAG_W,NITRAT,NITRAT_FLAG_W,PHSPHT,PHSPHT_FLAG_W,ALKALI,ALKALI_FLAG_W,PH_SWS,PH_SWS_FLAG_W,PH_TMP,THETA
,,,,,,,,,,,METERS,DBAR,ITS-90,PSS-78,,PSS-78,,UMOL/KG,,UMOL/KG,,UMOL/KG,,UMOL/KG,,UMOL/KG,,UMOL/KG,,,,DEG C,DEG C
  35TH20040604, OVIDE,    27,  1,      3,      3,2,20040615,1552, 59.4260, -37.0390, 3171,   3157.5,   1.4320,  34.8740,2,  34.8630,3,    300.7,2,    302.0,2,     8.41,2,    14.07,   2,     0.98,2,   -999.0,9,-999.0000,9,  -999.00,   1.2005
  35TH20040604, OVIDE,    27,  1,      4,      4,2,20040615,1552, 59.4260, -37.0390, 3171,   3097.1,   1.8520,  34.8750,2,  34.8690,2,    294.1,2,    297.2,2,     9.02,2,    14.64,   2,     1.00,2,   -999.0,9,   7.7260,2,    25.00,   1.6169
  35TH20040604, OVIDE,    27,  1,      5,      5,2,20040615,1552, 59.4260, -37.0390, 3171,   3047.9,   2.1520,  34.8970,2,  34.8750,3,    289.3,2,    290.1,2,    10.62,2,    15.09,   2,     1.05,2,   -999.0,9,   7.7240,2,    25.00,   1.9150
  35TH20040604, OVIDE,    27,  1,      6,      6,2,20040615,1552, 59.4260, -37.0390, 3171,   2996.9,   2.3460,  34.9000,2,  34.8920,2,    285.9,2,    286.7,2,    11.56,3,    13.54,   3,     1.06,2,   -999.0,9,   7.7250,2,    25.00,   2.1099
  35TH20040604, OVIDE,    27,  1,      7,      7,2,20040615,1552, 59.4260, -37.0390, 3171,   2946.1,   2.4940,  34.9060,2,  34.9060,2,    284.0,2,    283.0,2,    12.50,2,    15.70,   2,     1.08,2,   -999.0,9,   7.7250,2,    25.00,   2.2598
  35TH20040604, OVIDE,    27,  1,      8,      8,2,20040615,1552, 59.4260, -37.0390, 3171,   2846.0,   2.6680,  34.9170,2,  34.9130,2,    278.8,2,    280.0,2,    12.98,2,    16.35,   2,     1.10,2,   -999.0,9,   7.7250,2,    25.00,   2.4402
  35TH20040604, OVIDE,    27,  1,      9,      9,2,20040615,1552, 59.4260, -37.0390, 3171,   2746.1,   2.7970,  34.9210,2,  34.9180,2,    276.8,2,    278.0,2,    13.11,2,    16.02,   2,     1.11,2,   -999.0,9,   7.7280,2,    25.00,   2.5766
  35TH20040604, OVIDE,    27,  1,     10,     10,2,20040615,1552, 59.4260, -37.0390, 3171,   2497.4,   2.9900,  34.9200,2,  34.9170,2,    278.3,2,    278.0,2,    12.41,2,    16.63,   2,     1.12,2,   -999.0,9,   7.7270,2,    25.00,   2.7906
  35TH20040604, OVIDE,    27,  1,     11,     11,2,20040615,1552, 59.4260, -37.0390, 3171,   2246.4,   3.0940,  34.9120,2,  34.9070,2,    281.0,2,    280.7,2,    11.60,2,    16.71,   2,     1.12,2,   -999.0,9,   7.7240,2,    25.00,   2.9171
  35TH20040604, OVIDE,    27,  1,     12,     12,2,20040615,1552, 59.4260, -37.0390, 3171,   1995.7,   3.1450,  34.8970,2,  34.8860,3,    283.7,2,    282.9,2,    10.98,2,    16.75,   2,     1.10,2,   -999.0,9,   7.7270,2,    25.00,   2.9908
  35TH20040604, OVIDE,    27,  1,     13,     13,2,20040615,1552, 59.4260, -37.0390, 3171,   1794.7,   3.2500,  34.8940,2,  34.8880,2,    280.8,2,    283.3,2,    10.58,2,    16.14,   2,     1.08,2,   -999.0,9,   7.7280,2,    25.00,   3.1126
  35TH20040604, OVIDE,    27,  1,     14,     14,2,20040615,1552, 59.4260, -37.0390, 3171,   1595.1,   3.3910,  34.8980,2,  34.8910,2,    280.7,2,    280.4,2,    10.58,2,    16.06,   2,     1.13,2,   -999.0,9,   7.7190,2,    25.00,   3.2696
  35TH20040604, OVIDE,    27,  1,     15,     15,2,20040615,1552, 59.4260, -37.0390, 3171,   1396.1,   3.5110,  34.8910,2,  34.8850,2,    275.5,2,    279.6,2,    10.25,2,    16.23,   2,     1.08,2,   -999.0,9,   7.7100,2,    25.00,   3.4055
  35TH20040604, OVIDE,    27,  1,     16,     16,2,20040615,1552, 59.4260, -37.0390, 3171,   1197.0,   3.4660,  34.8680,2,  34.8640,2,    288.2,2,    286.4,2,     9.72,2,    16.47,   2,     1.13,2,   -999.0,9,   7.7170,2,    25.00,   3.3778
  35TH20040604, OVIDE,    27,  1,     17,     17,2,20040615,1552, 59.4260, -37.0390, 3171,    996.7,   3.4660,  34.8550,2,  34.8530,2,    284.0,2,    288.6,2,     9.39,2,    16.23,   2,     1.07,2,   -999.0,9,   7.7180,2,    25.00,   3.3941
  35TH20040604, OVIDE,    27,  1,     18,     18,2,20040615,1552, 59.4260, -37.0390, 3171,    898.2,   3.5800,  34.8620,2,  34.8590,2,    282.1,2,    286.8,2,     9.39,2,    16.35,   2,     1.15,2,   -999.0,9,   7.7170,2,    25.00,   3.5151
  35TH20040604, OVIDE,    27,  1,     19,     19,2,20040615,1552, 59.4260, -37.0390, 3171,    795.8,   3.6790,  34.8660,2,  34.8620,2,    282.7,2,    284.5,2,     9.39,2,    16.63,   2,     1.10,2,   -999.0,9,   7.7140,2,    25.00,   3.6215
  35TH20040604, OVIDE,    27,  1,     20,     20,2,20040615,1552, 59.4260, -37.0390, 3171,    694.9,   3.9130,  34.8810,2,  34.8720,2,    279.4,2,    278.7,2,     9.68,3,    17.04,   3,     1.14,2,   -999.0,9,   7.7100,2,    25.00,   3.8621
  35TH20040604, OVIDE,    27,  1,     21,     21,2,20040615,1552, 59.4260, -37.0390, 3171,    642.0,   4.0580,  34.8880,2,  34.8790,2,    272.2,2,    279.7,3,     9.51,3,    15.04,   3,     1.15,2,   -999.0,9,   7.7150,2,    25.00,   4.0105
  35TH20040604, OVIDE,    27,  1,     22,     22,2,20040615,1552, 59.4260, -37.0390, 3171,    597.1,   4.1440,  34.8860,2,  34.8770,2,    282.9,2,    291.6,3,     8.41,2,    16.26,   2,     1.10,2,   -999.0,9,   7.7220,2,    25.00,   4.0996
  35TH20040604, OVIDE,    27,  1,     23,     23,2,20040615,1552, 59.4260, -37.0390, 3171,    495.9,   4.3170,  34.8920,2,  34.8870,2,    300.9,2,    299.3,2,     8.04,3,    13.66,   3,     1.08,2,   -999.0,9,   7.7330,2,    25.00,   4.2798
  35TH20040604, OVIDE,    27,  1,     24,     24,2,20040615,1552, 59.4260, -37.0390, 3171,    397.4,   4.4000,  34.8860,2,  34.8810,2,    296.9,2,    297.8,2,     8.04,3,    13.74,   3,     1.10,2,   -999.0,9,   7.7370,2,    25.00,   4.3702
  35TH20040604, OVIDE,    27,  1,     25,     25,2,20040615,1552, 59.4260, -37.0390, 3171,    295.8,   4.6390,  34.8870,2,  34.8880,2,    293.3,2,    294.6,2,     8.00,3,    13.46,   3,     1.08,2,   -999.0,9,   7.7350,2,    25.00,   4.6165
  35TH20040604, OVIDE,    27,  1,     26,     26,2,20040615,1552, 59.4260, -37.0390, 3171,    197.0,   5.2670,  34.9180,2,  34.9160,2,    276.5,2,    284.7,3,     8.00,2,    16.10,   2,     1.10,2,   -999.0,9,   7.7370,2,    25.00,   5.2512
  35TH20040604, OVIDE,    27,  1,     27,     27,2,20040615,1552, 59.4260, -37.0390, 3171,    197.5,   5.2630,  34.9190,2,  34.9150,2,    276.9,2,    285.0,3,  -999.00,9,  -999.00,   9,  -999.00,9,   -999.0,9,   7.7370,2,    25.00,   5.2472
  35TH20040604, OVIDE,    27,  1,     28,     28,2,20040615,1552, 59.4260, -37.0390, 3171,    146.5,   5.5300,  34.9290,2,  34.9220,2,    282.2,2,    286.4,2,     7.76,2,    12.32,   2,     1.06,2,   -999.0,9,   7.7460,2,    25.00,   5.5180
  35TH20040604, OVIDE,    27,  1,     29,     29,2,20040615,1552, 59.4260, -37.0390, 3171,     96.2,   6.0900,  34.9520,2,  34.9410,3,    279.4,2,    289.0,3,     7.43,3,     9.39,   3,     1.01,2,   -999.0,9,   7.7570,2,    25.00,   6.0817
  35TH20040604, OVIDE,    27,  1,     30,     30,2,20040615,1552, 59.4260, -37.0390, 3171,      4.1,   7.9710,  34.9770,2,  34.9750,2,    297.3,2,    303.6,2,     2.37,2,    10.08,   2,     0.73,2,   -999.0,9,   7.8470,2,    25.00,   7.9706
  35TH20040604, OVIDE,    28,  1,      3,      3,2,20040615,2015, 59.3660, -36.3990, 3147,   3133.4,   1.6450,  34.8870,2,  34.8870,2,    292.9,2,    295.8,2,     9.16,2,    14.05,   2,     0.98,2,   2303.9,2,   7.7220,2,    25.00,   1.4109
  35TH20040604, OVIDE,    28,  1,      4,      4,2,20040615,2015, 59.3660, -36.3990, 3147,   3096.1,   2.0040,  34.8930,2,  34.8900,2,    289.3,2,    291.6,2,     9.92,2,    14.32,   2,     1.04,2,   2306.5,2,   7.7210,2,    25.00,   1.7655
  35TH20040604, OVIDE,    28,  1,      5,      5,2,20040615,2015, 59.3660, -36.3990, 3147,   3046.3,   2.2220,  34.8980,2,  34.8940,2,    286.3,2,    287.6,2,    10.76,2,    14.84,   2,     1.03,2,   2304.9,2,   7.7260,2,    25.00,   1.9836
  35TH20040604, OVIDE,    28,  1,      6,      6,2,20040615,2015, 59.3660, -36.3990, 3147,   2995.7,   2.2700,  34.8990,2,  34.8930,2,    286.1,2,    287.4,2,    10.96,2,    14.88,   2,     1.07,2,   2306.0,2,   7.7240,2,    25.00,   2.0357
  35TH20040604, OVIDE,    28,  1,      7,      7,2,20040615,2015, 59.3660, -36.3990, 3147,   2946.6,   2.3840,  34.9010,2,  34.9000,2,    285.6,2,    285.3,2,    11.48,2,    14.88,   2,     1.07,2,   2306.9,2,   7.7260,2,    25.00,   2.1521
  35TH20040604, OVIDE,    28,  1,      8,      8,2,20040615,2015, 59.3660, -36.3990, 3147,   2895.2,   2.5410,  34.9090,2,  34.9050,2,    282.7,2,    289.1,2,    12.36,2,    14.95,   2,     1.12,2,   2308.9,2,   7.7270,2,    25.00,   2.3109
  35TH20040604, OVIDE,    28,  1,      9,      9,2,20040615,2015, 59.3660, -36.3990, 3147,   2795.7,   2.7290,  34.9190,2,  34.9180,2,    278.9,2,    278.7,2,    12.80,2,    15.23,   2,     1.07,2,   2309.6,2,   7.7260,2,    25.00,   2.5050
  35TH20040604, OVIDE,    28,  1,     10,     10,2,20040615,2015, 59.3660, -36.3990, 3147,   2596.6,   2.9310,  34.9250,2,  34.9240,2,    278.0,2,    277.0,2,    12.52,2,    15.70,   2,     1.12,2,   2311.1,2,   7.7280,2,    25.00,   2.7228
  35TH20040604, OVIDE,    28,  1,     11,     11,2,20040615,2015, 59.3660, -36.3990, 3147,   2495.8,   3.0200,  34.9290,2,  34.9270,2,    277.6,2,    277.0,2,    12.40,2,    16.21,   2,     1.07,2,   2310.0,2,   7.7260,2,    25.00,   2.8201
  35TH20040604, OVIDE,    28,  1,     12,     12,2,20040615,2015, 59.3660, -36.3990, 3147,   2245.9,   3.1470,  34.9290,2,  34.9230,2,    278.6,2,    277.2,2,    11.56,2,    16.21,   2,     1.12,2,   2309.6,2,   7.7280,2,    25.00,   2.9692
  35TH20040604, OVIDE,    28,  1,     13,     13,2,20040615,2015, 59.3660, -36.3990, 3147,   1995.4,   3.1910,  34.9140,2,  34.9120,2,    280.4,2,    280.2,2,    10.84,3,    14.44,   3,     1.13,2,   2307.2,2,   7.7260,2,    25.00,   3.0361
  35TH20040604, OVIDE,    28,  1,     14,     14,2,20040615,2015, 59.3660, -36.3990, 3147,   1796.0,   3.2820,  34.9100,2,  34.9110,2,    279.7,2,    280.7,2,    10.52,3,    15.07,   3,     1.15,2,   2305.2,2,   7.7260,2,    25.00,   3.1440
  35TH20040604, OVIDE,    28,  1,     15,     15,2,20040615,2015, 59.3660, -36.3990, 3147,   1597.2,   3.2760,  34.8890,2,  34.8880,2,    283.3,2,    281.9,2,    10.28,3,    15.46,   3,     1.11,2,   2304.7,2,   7.7230,2,    25.00,   3.1558
  35TH20040604, OVIDE,    28,  1,     16,     16,2,20040615,2015, 59.3660, -36.3990, 3147,   1393.7,   3.4450,  34.8970,2,  34.8950,2,    278.5,2,    278.2,2,    10.28,2,    16.53,-999,     1.13,2,   2304.2,2,   7.7200,2,    25.00,   3.3404
  35TH20040604, OVIDE,    28,  1,     17,     17,2,20040615,2015, 59.3660, -36.3990, 3147,   1195.2,   3.5150,  34.8820,2,  34.8760,2,    280.8,2,    280.6,2,     9.64,3,    15.27,   3,     1.13,2,   2302.9,2,   7.7170,2,    25.00,   3.4265
  35TH20040604, OVIDE,    28,  1,     18,     18,2,20040615,2015, 59.3660, -36.3990, 3147,    995.8,   3.4310,  34.8530,2,  34.8500,2,    289.7,2,    289.7,2,     8.92,2,    15.82,   2,     1.12,2,   2302.2,2,   7.7160,2,    25.00,   3.3595
  35TH20040604, OVIDE,    28,  1,     19,     19,2,20040615,2015, 59.3660, -36.3990, 3147,    796.9,   3.6770,  34.8670,2,  34.8620,2,    282.2,2,    285.0,2,     8.96,3,    12.99,   3,     1.12,2,   2301.9,2,   7.7150,2,    25.00,   3.6194
  35TH20040604, OVIDE,    28,  1,     20,     20,2,20040615,2015, 59.3660, -36.3990, 3147,    647.4,   4.0030,  34.8860,2,  34.8800,2,    289.1,2,    287.0,2,     8.60,2,    15.66,   2,     1.12,2,   2304.0,2,   7.7210,2,    25.00,   3.9553
  35TH20040604, OVIDE,    28,  1,     21,     21,2,20040615,2015, 59.3660, -36.3990, 3147,    576.7,   4.3460,  34.9070,2,  34.9060,2,    268.5,2,    271.5,2,     9.20,2,    16.92,   2,     1.11,2,   2306.6,2,   7.7110,2,    25.00,   4.3023
  35TH20040604, OVIDE,    28,  1,     22,     22,2,20040615,2015, 59.3660, -36.3990, 3147,    497.5,   4.5770,  34.9110,2,  34.9080,2,    271.2,2,    276.6,2,     8.92,2,    16.68,   2,     1.12,2,   -999.0,9,   7.7180,2,    25.00,   4.5387
  35TH20040604, OVIDE,    28,  1,     23,     23,2,20040615,2015, 59.3660, -36.3990, 3147,    396.8,   5.1380,  34.9380,2,  34.9440,2,    260.1,2,    264.2,2,     9.00,2,    16.84,   2,     1.15,2,   2309.0,2,   7.7200,2,    25.00,   5.1060
  35TH20040604, OVIDE,    28,  1,     24,     24,2,20040615,2015, 59.3660, -36.3990, 3147,    275.9,   5.5730,  34.9390,2,  34.9360,2,    283.2,2,    281.2,2,     7.80,2,    15.54,   2,     1.03,2,   2306.7,2,   7.7420,2,    25.00,   5.5500
  35TH20040604, OVIDE,    28,  1,     25,     25,2,20040615,2015, 59.3660, -36.3990, 3147,    195.3,   6.1090,  34.9730,2,  34.9750,2,    277.9,2,    279.8,2,     7.44,3,    13.50,   3,     1.07,2,   2307.7,2,   7.7510,2,    25.00,   6.0920
  35TH20040604, OVIDE,    28,  1,     26,     26,2,20040615,2015, 59.3660, -36.3990, 3147,    146.4,   6.4180,  34.9920,2,  34.9870,2,    272.2,2,    277.0,2,     7.36,2,    14.83,   2,     1.01,2,   -999.0,9,   7.7490,2,    25.00,   6.4050
  35TH20040604, OVIDE,    28,  1,     27,     27,2,20040615,2015, 59.3660, -36.3990, 3147,     96.3,   7.0180,  35.0090,2,  35.0140,2,    281.5,2,    283.9,2,     6.48,3,    11.57,   3,     0.99,2,   2308.5,2,   7.7750,2,    25.00,   7.0090
  35TH20040604, OVIDE,    28,  1,     28,     28,2,20040615,2015, 59.3660, -36.3990, 3147,     96.2,   7.0300,  35.0060,2,  35.0210,3,    281.5,2,    284.2,2,     6.52,2,    13.38,   2,     0.96,2,   -999.0,9,   7.7770,2,    25.00,   7.0210
  35TH20040604, OVIDE,    28,  1,     29,     29,2,20040615,2015, 59.3660, -36.3990, 3147,     46.0,   8.0380,  34.9910,2,  34.9880,2,    296.0,2,    296.5,2,     3.48,3,     8.54,   3,     0.82,2,   -999.0,9,   7.8210,2,    25.00,   8.0334
  35TH20040604, OVIDE,    28,  1,     30,     30,2,20040615,2015, 59.3660, -36.3990, 3147,      3.7,   8.1390,  34.9830,2,  34.9760,2,    289.7,2,    302.1,3,     2.84,2,     9.44,   2,     0.74,2,   2308.1,2,   7.8370,2,    25.00,   8.1386