BOTTLE,20220120SIOCCHENA
EXPOCODE,SECT_ID,STNNBR,CASTNO,SAMPNO,BTLNBR,BTLNBR_FLAG_W,DATE,TIME,LATITUDE,LONGITUDE,DEPTH,CTDPRS,CTDTMP,CTDSAL,CTDSAL_FLAG_W,SALNTY,SALNTY_FLAG_W,CTDOXY,CTDOXY_FLAG_W,OXYGEN,OXYGEN_FLAG_W,SILCAT,SILCAT_FLAG_W,NITRAT,NITRAT_FLAG_W,PHSPHT,PHSPHT_FLAG_W,ALKALI,ALKALI_FLAG_W,PH_SWS,PH_SWS_FLAG_W,PH_TMP,THETA
,,,,,,,,,,,METERS,DBAR,ITS-90,PSS-78,,PSS-78,,UMOL/KG,,UMOL/KG,,UMOL/KG,,UMOL/KG,,UMOL/KG,,UMOL/KG,,,,DEG C,DEG C
  35TH20040604, OVIDE,    57,  1,      3,      3,2,20040620,1822, 54.5460, -25.9460, 3364,   3350.8,   2.6620,  34.9320,2,  34.9220,3,    251.3,2,    252.2,2,    33.85,2,    19.85,   2,  -999.00,9,   -999.0,9,   7.7250,2,    25.00,   2.3816
  35TH20040604, OVIDE,    57,  1,      4,      4,2,20040620,1822, 54.5460, -25.9460, 3364,   3245.5,   2.7400,  34.9390,2,  34.9290,2,    256.8,2,    257.4,2,    29.58,2,    19.96,   2,  -999.00,9,   -999.0,9,   7.7250,2,    25.00,   2.4691
  35TH20040604, OVIDE,    57,  1,      5,      5,2,20040620,1822, 54.5460, -25.9460, 3364,   2995.6,   2.8160,  34.9430,2,  34.9370,2,    261.1,2,    261.7,2,    25.62,2,    18.40,   2,  -999.00,9,   -999.0,9,   7.7250,2,    25.00,   2.5696
  35TH20040604, OVIDE,    57,  1,      6,      6,2,20040620,1822, 54.5460, -25.9460, 3364,   2746.1,   2.9210,  34.9460,2,  34.9410,2,    271.4,2,    268.9,2,    18.24,2,    18.68,   2,  -999.00,9,   -999.0,9,   7.7250,2,    25.00,   2.6980
  35TH20040604, OVIDE,    57,  1,      7,      7,2,20040620,1822, 54.5460, -25.9460, 3364,   2496.8,   3.0750,  34.9300,2,  34.9250,2,    275.5,2,    275.7,2,    13.52,2,    17.73,   2,  -999.00,9,   -999.0,9,   7.7270,2,    25.00,   2.8740
  35TH20040604, OVIDE,    57,  1,      8,      8,2,20040620,1822, 54.5460, -25.9460, 3364,   2246.3,   3.1410,  34.9130,2,  34.9090,2,    279.4,2,    278.4,2,    12.53,2,    17.06,   2,  -999.00,9,   -999.0,9,   7.7260,2,    25.00,   2.9633
  35TH20040604, OVIDE,    57,  1,      9,      9,2,20040620,1822, 54.5460, -25.9460, 3364,   1996.2,   3.2230,  34.8950,2,  34.8890,2,    282.8,2,    281.8,2,    11.37,2,    17.29,   2,  -999.00,9,   -999.0,9,   7.7240,2,    25.00,   3.0676
  35TH20040604, OVIDE,    57,  1,     10,     10,2,20040620,1822, 54.5460, -25.9460, 3364,   1794.8,   3.3320,  34.8940,2,  34.8890,2,    280.7,2,    280.4,2,    11.33,2,    17.40,   2,  -999.00,9,   -999.0,9,   7.7210,2,    25.00,   3.1935
  35TH20040604, OVIDE,    57,  1,     11,     11,2,20040620,1822, 54.5460, -25.9460, 3364,   1596.7,   3.5130,  34.8990,2,  34.8900,2,    277.9,2,    276.8,2,    11.08,2,    17.51,   2,  -999.00,9,   -999.0,9,   7.7200,2,    25.00,   3.3900
  35TH20040604, OVIDE,    57,  1,     12,     12,2,20040620,1822, 54.5460, -25.9460, 3364,   1396.9,   3.6110,  34.8970,2,  34.8890,2,    277.5,2,    276.4,2,    10.79,2,    17.51,   2,  -999.00,9,   -999.0,9,   7.7170,2,    25.00,   3.5044
  35TH20040604, OVIDE,    57,  1,     13,     13,2,20040620,1822, 54.5460, -25.9460, 3364,   1196.2,   3.7790,  34.9050,2,  34.9000,2,    274.6,2,    273.3,2,    10.71,2,    17.57,   2,  -999.00,9,   -999.0,9,   7.7150,2,    25.00,   3.6880
  35TH20040604, OVIDE,    57,  1,     14,     14,2,20040620,1822, 54.5460, -25.9460, 3364,    996.7,   4.0000,  34.9090,2,  34.9120,2,    270.2,2,    267.6,2,    10.59,2,    17.62,   2,  -999.00,9,   -999.0,9,   7.7150,2,    25.00,   3.9239
  35TH20040604, OVIDE,    57,  1,     15,     15,2,20040620,1822, 54.5460, -25.9460, 3364,    896.5,   4.2140,  34.9250,2,  34.9210,2,    264.8,2,    262.9,2,    10.67,2,    17.73,   2,  -999.00,9,   -999.0,9,   7.7090,2,    25.00,   4.1448
  35TH20040604, OVIDE,    57,  1,     16,     16,2,20040620,1822, 54.5460, -25.9460, 3364,    796.6,   4.7320,  34.9720,2,  34.9650,2,    250.6,2,    248.4,2,    11.16,2,    18.01,   2,  -999.00,9,   -999.0,9,   7.7060,2,    25.00,   4.6678
  35TH20040604, OVIDE,    57,  1,     17,     17,2,20040620,1822, 54.5460, -25.9460, 3364,    745.4,   4.5380,  34.9150,2,  34.9090,2,    255.3,2,    255.3,2,    10.88,2,    18.18,   2,  -999.00,9,   -999.0,9,   7.7100,2,    25.00,   4.4794
  35TH20040604, OVIDE,    57,  1,     18,     18,2,20040620,1822, 54.5460, -25.9460, 3364,    646.5,   5.8470,  35.0430,2,  35.0360,2,    227.2,2,    226.7,2,    11.16,2,    18.57,   2,  -999.00,9,   -999.0,9,   7.7060,2,    25.00,   5.7900
  35TH20040604, OVIDE,    57,  1,     19,     19,2,20040620,1822, 54.5460, -25.9460, 3364,    496.7,   6.8350,  35.0240,2,  35.0110,3,    216.9,2,    218.5,2,    10.67,2,    19.07,   2,  -999.00,9,   -999.0,9,   7.7080,2,    25.00,   6.7880
  35TH20040604, OVIDE,    57,  1,     20,     20,2,20040620,1822, 54.5460, -25.9460, 3364,    496.9,   6.8410,  35.0220,2,  35.0180,2,    216.9,2,    218.6,2,    10.71,2,    19.07,   2,  -999.00,9,   -999.0,9,   7.7080,2,    25.00,   6.7940
  35TH20040604, OVIDE,    57,  1,     21,     21,2,20040620,1822, 54.5460, -25.9460, 3364,    396.7,   8.0920,  35.0960,2,  35.0840,3,    217.1,2,   -999.0,9,     9.68,2,    18.29,   2,  -999.00,9,   -999.0,9,   7.7290,2,    25.00,   8.0510
  35TH20040604, OVIDE,    57,  1,     22,     22,2,20040620,1822, 54.5460, -25.9460, 3364,    299.1,   9.5910,  35.2630,2,  35.2620,2,    252.3,2,   -999.0,9,     5.79,2,    13.05,   2,  -999.00,9,   -999.0,9,   7.8030,2,    25.00,   9.5569
  35TH20040604, OVIDE,    57,  1,     23,     23,2,20040620,1822, 54.5460, -25.9460, 3364,    197.1,   9.8390,  35.2850,2,  35.2840,2,    264.4,2,    257.5,3,     4.80,2,    10.93,   2,  -999.00,9,   -999.0,9,   7.8190,2,    25.00,   9.8163
  35TH20040604, OVIDE,    57,  1,     24,     24,2,20040620,1822, 54.5460, -25.9460, 3364,    146.8,  10.0820,  35.3070,2,  35.3040,2,    257.3,2,    252.9,2,     4.67,2,    11.71,   2,  -999.00,9,   -999.0,9,   7.8220,2,    25.00,  10.0649
  35TH20040604, OVIDE,    57,  1,     25,     25,2,20040620,1822, 54.5460, -25.9460, 3364,     96.0,  10.4620,  35.3010,2,  35.2970,2,    256.4,2,    262.9,2,     2.27,2,     9.59,   2,  -999.00,9,   -999.0,9,   7.8480,2,    25.00,  10.4506
  35TH20040604, OVIDE,    57,  1,     26,     26,2,20040620,1822, 54.5460, -25.9460, 3364,     47.3,  11.2460,  35.3000,2,  35.2950,2,    272.2,2,    273.3,2,     1.03,2,     7.47,   2,  -999.00,9,   -999.0,9,   7.8830,2,    25.00,  11.2401
  35TH20040604, OVIDE,    57,  1,     27,     27,2,20040620,1822, 54.5460, -25.9460, 3364,      3.2,  12.0110,  35.2820,2,  35.2840,2,    259.8,2,    273.9,3,     1.03,2,     6.69,   2,  -999.00,9,   -999.0,9,   7.8900,2,    25.00,  12.0106
  35TH20040604, OVIDE,    58,  1,      3,      3,2,20040621,2239, 54.3860, -25.8300, 3094,   3080.2,   2.6810,  34.9320,2,  34.9330,2,    252.2,2,    252.6,2,    34.31,2,    20.30,   2,  -999.00,9,   -999.0,9,   7.7290,2,    25.00,   2.4288
  35TH20040604, OVIDE,    58,  1,      4,      4,2,20040621,2239, 54.3860, -25.8300, 3094,   2796.1,   2.8360,  34.9440,2,  34.9440,2,    267.4,2,    264.6,2,    24.55,2,    18.46,   2,  -999.00,9,   -999.0,9,   7.7260,2,    25.00,   2.6096
  35TH20040604, OVIDE,    58,  1,      5,      5,2,20040621,2239, 54.3860, -25.8300, 3094,   1995.6,   3.1730,  34.9010,2,  34.8990,2,    279.3,2,    262.8,3,    12.17,2,    17.45,   2,  -999.00,9,   -999.0,9,   7.7200,2,    25.00,   3.0184
  35TH20040604, OVIDE,    58,  1,      6,      6,2,20040621,2239, 54.3860, -25.8300, 3094,    996.1,   4.2300,  34.9500,2,  34.9520,2,    260.1,2,    260.5,2,    11.32,2,    18.24,   2,  -999.00,9,   -999.0,9,   7.7140,2,    25.00,   4.1522
  35TH20040604, OVIDE,    58,  1,      7,      7,2,20040621,2239, 54.3860, -25.8300, 3094,    796.4,   4.6590,  34.9750,2,  34.9740,2,    251.2,2,    250.3,2,    11.28,2,    18.57,   2,  -999.00,9,   -999.0,9,   7.7070,2,    25.00,   4.5953
  35TH20040604, OVIDE,    58,  1,      8,      8,2,20040621,2239, 54.3860, -25.8300, 3094,    596.4,   5.2940,  34.9800,2,  34.9800,2,    234.9,2,    237.3,2,    11.03,2,    18.85,   2,  -999.00,9,   -999.0,9,   7.7040,2,    25.00,   5.2442
  35TH20040604, OVIDE,    58,  1,      9,      9,2,20040621,2239, 54.3860, -25.8300, 3094,    396.9,   6.8630,  35.0190,2,  35.0230,2,    223.0,2,    222.0,2,    10.39,2,    18.68,   2,  -999.00,9,   -999.0,9,   7.7150,2,    25.00,   6.8257
  35TH20040604, OVIDE,    58,  1,     10,     10,2,20040621,2239, 54.3860, -25.8300, 3094,    295.9,   8.2010,  35.0960,2,  35.0960,2,    233.6,2,    212.3,3,     9.34,2,    17.68,   2,  -999.00,9,   -999.0,9,   7.7390,2,    25.00,   8.1704
  35TH20040604, OVIDE,    58,  1,     11,     11,2,20040621,2239, 54.3860, -25.8300, 3094,    276.0,   8.4910,  35.1210,2,  35.1240,2,    227.1,2,    242.1,3,     7.56,2,    15.50,   2,  -999.00,9,   -999.0,9,   7.7680,2,    25.00,   8.4618
  35TH20040604, OVIDE,    58,  1,     12,     12,2,20040621,2239, 54.3860, -25.8300, 3094,    196.2,   8.9480,  35.1510,2,  35.1500,2,    253.1,2,    252.0,2,     5.91,2,    13.77,   2,  -999.00,9,   -999.0,9,   7.7950,2,    25.00,   8.9267
  35TH20040604, OVIDE,    58,  1,     13,     13,2,20040621,2239, 54.3860, -25.8300, 3094,    146.3,   9.1280,  35.1340,2,  35.1380,2,    251.4,2,    252.7,2,     5.49,2,    13.27,   2,  -999.00,9,   -999.0,9,   7.8000,2,    25.00,   9.1120
  35TH20040604, OVIDE,    58,  1,     14,     14,2,20040621,2239, 54.3860, -25.8300, 3094,     97.2,   9.2160,  35.0920,2,  35.0950,2,    254.5,2,    247.1,3,     6.00,2,    13.44,   2,  -999.00,9,   -999.0,9,   7.7920,2,    25.00,   9.2053
  35TH20040604, OVIDE,    58,  1,     15,     15,2,20040621,2239, 54.3860, -25.8300, 3094,     47.0,  10.4390,  35.2060,2,  35.1950,3,    275.3,2,    274.4,2,     1.27,2,     8.08,   2,  -999.00,9,   -999.0,9,   7.8660,2,    25.00,  10.4334
  35TH20040604, OVIDE,    58,  1,     16,     16,2,20040621,2239, 54.3860, -25.8300, 3094,      3.8,  11.4050,  34.9950,2,  34.9920,2,    269.7,2,    176.5,3,     2.11,2,     6.47,   2,  -999.00,9,   -999.0,9,   7.8870,2,    25.00,  11.4045
  35TH20040604, OVIDE,    59,  1,      3,      3,2,20040621,0247, 54.2020, -25.6820, 2884,   2870.3,   2.7300,  34.9330,2,  34.9300,2,    254.9,2,    254.4,2,    31.87,2,    19.63,   2,  -999.00,9,   2331.8,2,   7.7270,2,    25.00,   2.4984
  35TH20040604, OVIDE,    59,  1,      4,      4,2,20040621,0247, 54.2020, -25.6820, 2884,   2746.7,   2.8110,  34.9360,2,  34.9260,3,    261.0,2,    258.8,2,    27.90,2,    18.40,   2,  -999.00,9,   2325.1,2,   7.7300,2,    25.00,   2.5902
  35TH20040604, OVIDE,    59,  1,      5,      5,2,20040621,0247, 54.2020, -25.6820, 2884,   2496.0,   3.0080,  34.9350,2,  34.9310,2,    268.8,2,    268.1,2,    17.68,2,    17.73,   2,  -999.00,9,   2316.3,2,   7.7290,2,    25.00,   2.8083
  35TH20040604, OVIDE,    59,  1,      6,      6,2,20040621,0247, 54.2020, -25.6820, 2884,   2246.1,   3.1150,  34.9200,2,  34.9140,2,    276.4,2,    275.1,2,    14.01,2,    17.29,   2,  -999.00,9,   2308.2,2,   7.7290,2,    25.00,   2.9377
  35TH20040604, OVIDE,    59,  1,      7,      7,2,20040621,0247, 54.2020, -25.6820, 2884,   1997.1,   3.1950,  34.8990,2,  34.8960,2,    281.3,2,    279.6,2,    12.21,2,    17.34,   2,  -999.00,9,   2303.8,2,   7.7260,2,    25.00,   3.0399
  35TH20040604, OVIDE,    59,  1,      8,      8,2,20040621,0247, 54.2020, -25.6820, 2884,   1795.9,   3.2820,  34.8910,2,  34.8870,2,    281.4,2,    279.8,2,    11.60,2,    17.34,   2,  -999.00,9,   2302.4,2,   7.7240,2,    25.00,   3.1441
  35TH20040604, OVIDE,    59,  1,      9,      9,2,20040621,0247, 54.2020, -25.6820, 2884,   1595.7,   3.3790,  34.8940,2,  34.8910,2,    279.2,2,    278.5,2,    11.39,2,    17.40,   2,  -999.00,9,   2302.5,2,   7.7220,2,    25.00,   3.2577
  35TH20040604, OVIDE,    59,  1,     10,     10,2,20040621,0247, 54.2020, -25.6820, 2884,   1395.5,   3.5400,  34.8980,2,  34.8940,2,    276.7,2,    276.2,2,    11.11,2,    17.40,   2,  -999.00,9,   2303.8,2,   7.7170,2,    25.00,   3.4343
  35TH20040604, OVIDE,    59,  1,     11,     11,2,20040621,0247, 54.2020, -25.6820, 2884,   1104.6,   3.7250,  34.8960,2,  34.8970,2,    276.1,2,    275.1,2,    10.49,2,    17.29,   2,  -999.00,9,   2303.3,2,   7.7150,2,    25.00,   3.6422
  35TH20040604, OVIDE,    59,  1,     12,     12,2,20040621,0247, 54.2020, -25.6820, 2884,    995.7,   3.8280,  34.9000,2,  34.8990,2,    272.0,2,    273.3,2,    10.41,2,    17.06,   2,  -999.00,9,   2301.6,2,   7.7150,2,    25.00,   3.7533
  35TH20040604, OVIDE,    59,  1,     13,     13,2,20040621,0247, 54.2020, -25.6820, 2884,    996.0,   3.8310,  34.9000,2,  34.8990,2,    272.0,2,    272.7,2,    10.62,2,    17.62,   2,  -999.00,9,   2300.8,2,   7.7160,2,    25.00,   3.7563
  35TH20040604, OVIDE,    59,  1,     14,     14,2,20040621,0247, 54.2020, -25.6820, 2884,    896.9,   4.1220,  34.9310,2,  34.9340,2,    261.9,2,    263.8,2,    11.02,2,    18.01,   2,  -999.00,9,   2306.6,2,   7.7120,2,    25.00,   4.0533
  35TH20040604, OVIDE,    59,  1,     15,     15,2,20040621,0247, 54.2020, -25.6820, 2884,    696.6,   4.7270,  34.9770,2,  34.9770,2,    250.2,2,    248.6,2,    11.23,2,    18.46,   2,  -999.00,9,   2312.5,2,   7.7080,2,    25.00,   4.6714
  35TH20040604, OVIDE,    59,  1,     16,     16,2,20040621,0247, 54.2020, -25.6820, 2884,    596.2,   4.9020,  34.9490,2,  34.9500,2,    246.2,2,    245.2,2,    11.19,2,    18.62,   2,  -999.00,9,   2312.0,2,   7.7000,2,    25.00,   4.8541
  35TH20040604, OVIDE,    59,  1,     17,     17,2,20040621,0247, 54.2020, -25.6820, 2884,    496.4,   5.9120,  35.0450,2,  35.0480,2,    222.8,2,    224.3,2,    11.60,2,    19.07,   2,  -999.00,9,   2314.9,2,   7.7000,2,    25.00,   5.8685
  35TH20040604, OVIDE,    59,  1,     18,     18,2,20040621,0247, 54.2020, -25.6820, 2884,    396.7,   6.8750,  35.0820,2,-999.0,9,    216.4,2,    213.3,2,    11.27,2,    19.12,   2,  -999.00,9,   2312.4,2,   7.7060,2,    25.00,   6.8376
  35TH20040604, OVIDE,    59,  1,     19,     19,2,20040621,0247, 54.2020, -25.6820, 2884,    296.1,   7.2370,  34.9920,2,  34.9740,3,    230.8,2,    226.8,2,    10.17,2,    18.07,   2,  -999.00,9,   2308.2,2,   7.7190,2,    25.00,   7.2085
  35TH20040604, OVIDE,    59,  1,     20,     20,2,20040621,0247, 54.2020, -25.6820, 2884,    239.7,   7.1440,  34.8810,2,  34.8840,2,    259.3,2,    258.9,2,     7.84,2,    14.95,   2,  -999.00,9,   2300.7,2,   7.7560,2,    25.00,   7.1213
  35TH20040604, OVIDE,    59,  1,     21,     21,2,20040621,0247, 54.2020, -25.6820, 2884,    147.4,   9.0260,  35.1530,2,  35.0710,3,    256.7,2,    248.7,3,     6.94,2,    14.05,   2,  -999.00,9,   -999.0,9,   7.7820,2,    25.00,   9.0100
  35TH20040604, OVIDE,    59,  1,     22,     22,2,20040621,0247, 54.2020, -25.6820, 2884,     96.0,   9.7810,  35.2350,2,  35.2370,2,    263.2,2,    257.8,2,     4.70,2,    11.65,   2,  -999.00,9,   2321.3,2,   7.8200,2,    25.00,   9.7700
  35TH20040604, OVIDE,    59,  1,     23,     23,2,20040621,0247, 54.2020, -25.6820, 2884,     51.0,  10.2030,  35.1280,2,  35.1610,3,    275.0,2,    270.2,2,     2.12,2,     8.81,   2,  -999.00,9,   -999.0,9,   7.8480,2,    25.00,  10.1970
  35TH20040604, OVIDE,    59,  1,     24,     24,2,20040621,0247, 54.2020, -25.6820, 2884,      4.3,  11.4950,  35.0410,2,  35.0430,2,    273.2,2,    281.1,3,     2.08,2,     5.97,   2,  -999.00,9,   2313.2,2,   7.8930,2,    25.00,  11.4945
  35TH20040604, OVIDE,    60,  1,      3,      3,2,20040621,0645, 54.0160, -25.5340, 3099,   3085.0,   2.6810,  34.9330,2,  34.9340,2,    254.6,2,    254.2,2,    32.48,2,    19.19,   2,  -999.00,9,   -999.0,9,   7.7260,2,    25.00,   2.4283
  35TH20040604, OVIDE,    60,  1,      4,      4,2,20040621,0645, 54.0160, -25.5340, 3099,   1995.4,   3.2020,  34.8960,2,  34.8950,2,    279.0,2,    280.8,2,    11.81,2,    16.98,   2,  -999.00,9,   -999.0,9,   7.7260,2,    25.00,   3.0470
  35TH20040604, OVIDE,    60,  1,      5,      5,2,20040621,0645, 54.0160, -25.5340, 3099,    996.6,   3.9380,  34.9170,2,  34.9180,2,    270.6,2,    267.9,2,    10.87,2,    17.37,   2,  -999.00,9,   -999.0,9,   7.7130,2,    25.00,   3.8624
  35TH20040604, OVIDE,    60,  1,      6,      6,2,20040621,0645, 54.0160, -25.5340, 3099,    898.5,   4.1540,  34.9340,2,  34.9350,2,    266.4,2,    263.2,2,    10.87,2,    17.53,   2,  -999.00,9,   -999.0,9,   7.7110,2,    25.00,   4.0850
  35TH20040604, OVIDE,    60,  1,      7,      7,2,20040621,0645, 54.0160, -25.5340, 3099,    796.0,   4.2860,  34.9320,2,  34.9320,2,    261.9,2,    260.8,2,    10.62,2,    17.59,   2,  -999.00,9,   -999.0,9,   7.7090,2,    25.00,   4.2247
  35TH20040604, OVIDE,    60,  1,      8,      8,2,20040621,0645, 54.0160, -25.5340, 3099,    696.5,   4.7530,  34.9730,2,  34.9770,2,    248.3,2,    248.0,2,    11.07,2,    18.19,   2,  -999.00,9,   -999.0,9,   7.7030,2,    25.00,   4.6973
  35TH20040604, OVIDE,    60,  1,      9,      9,2,20040621,0645, 54.0160, -25.5340, 3099,    596.8,   5.0090,  34.9710,2,  34.9720,2,    245.6,2,    242.3,2,    11.15,2,    17.97,   2,  -999.00,9,   -999.0,9,   7.7040,2,    25.00,   4.9605
  35TH20040604, OVIDE,    60,  1,     10,     10,2,20040621,0645, 54.0160, -25.5340, 3099,    497.6,   5.5040,  34.9870,2,  34.9960,3,    232.9,2,    231.9,2,    11.19,2,    18.52,   2,  -999.00,9,   -999.0,9,   7.7030,2,    25.00,   5.4620
  35TH20040604, OVIDE,    60,  1,     11,     11,2,20040621,0645, 54.0160, -25.5340, 3099,    396.6,   6.4470,  35.0400,2,  35.0400,2,    219.7,2,    217.4,2,    11.32,2,    19.13,   2,  -999.00,9,   -999.0,9,   7.7080,2,    25.00,   6.4109
  35TH20040604, OVIDE,    60,  1,     12,     12,2,20040621,0645, 54.0160, -25.5340, 3099,    297.3,   7.1660,  35.0000,2,  35.0320,3,    220.0,2,    217.0,2,    10.37,2,    18.41,   2,  -999.00,9,   -999.0,9,   7.7180,2,    25.00,   7.1376
  35TH20040604, OVIDE,    60,  1,     13,     13,2,20040621,0645, 54.0160, -25.5340, 3099,    196.1,   7.6090,  34.9270,2,  34.9330,2,    255.3,2,    247.8,3,     7.54,2,    15.16,   2,  -999.00,9,   -999.0,9,   7.7610,2,    25.00,   7.5897
  35TH20040604, OVIDE,    60,  1,     14,     14,2,20040621,0645, 54.0160, -25.5340, 3099,    148.0,   8.2420,  34.9800,2,  34.9800,2,    251.4,2,    251.4,2,     6.60,2,    13.84,   2,  -999.00,9,   -999.0,9,   7.7780,2,    25.00,   8.2268
  35TH20040604, OVIDE,    60,  1,     15,     15,2,20040621,0645, 54.0160, -25.5340, 3099,     96.9,   9.0430,  35.0750,2,  35.0790,2,    251.2,2,    247.6,2,     5.82,2,    13.34,   2,  -999.00,9,   -999.0,9,   7.7940,2,    25.00,   9.0325
  35TH20040604, OVIDE,    60,  1,     16,     16,2,20040621,0645, 54.0160, -25.5340, 3099,     46.7,   9.9150,  34.9660,2,  34.9710,2,    274.2,2,    273.5,2,     3.69,2,     7.83,   2,  -999.00,9,   -999.0,9,   7.8540,2,    25.00,   9.9097
  35TH20040604, OVIDE,    60,  1,     17,     17,2,20040621,0645, 54.0160, -25.5340, 3099,      4.4,  11.6410,  35.0090,2,  35.0110,2,    274.4,2,    285.1,3,     1.11,2,     5.07,   2,  -999.00,9,   -999.0,9,   7.9030,2,    25.00,  11.6404