BOTTLE,20220120SIOCCHENA
EXPOCODE,SECT_ID,STNNBR,CASTNO,SAMPNO,BTLNBR,BTLNBR_FLAG_W,DATE,TIME,LATITUDE,LONGITUDE,DEPTH,CTDPRS,CTDTMP,CTDSAL,CTDSAL_FLAG_W,SALNTY,SALNTY_FLAG_W,CTDOXY,CTDOXY_FLAG_W,OXYGEN,OXYGEN_FLAG_W,SILCAT,SILCAT_FLAG_W,NITRAT,NITRAT_FLAG_W,PHSPHT,PHSPHT_FLAG_W,ALKALI,ALKALI_FLAG_W,PH_SWS,PH_SWS_FLAG_W,PH_TMP,THETA
,,,,,,,,,,,METERS,DBAR,ITS-90,PSS-78,,PSS-78,,UMOL/KG,,UMOL/KG,,UMOL/KG,,UMOL/KG,,UMOL/KG,,UMOL/KG,,,,DEG C,DEG C
  35TH20040604, OVIDE,    77,  1,      3,      3,2,20040624,1922, 48.4130, -21.1410, 4423,   4410.9,   2.5630,  34.9050,2,  34.9080,2,    240.3,2,    238.2,2,    44.16,2,    22.86,   2,     1.34,2,   2354.8,2,   7.7310,2,    25.00,   2.1644
  35TH20040604, OVIDE,    77,  1,      4,      4,2,20040624,1922, 48.4130, -21.1410, 4423,   3994.7,   2.5300,  34.9100,2,  34.9090,2,    240.8,2,    241.1,2,    43.60,2,    22.92,   2,     1.33,2,   2352.9,2,   7.7310,2,    25.00,   2.1814
  35TH20040604, OVIDE,    77,  1,      5,      5,2,20040624,1922, 48.4130, -21.1410, 4423,   3747.3,   2.5410,  34.9130,2,  34.9110,2,    242.2,2,    204.3,3,    42.31,2,    22.75,   2,     1.30,2,   2351.3,2,   7.7300,2,    25.00,   2.2202
  35TH20040604, OVIDE,    77,  1,      6,      6,2,20040624,1922, 48.4130, -21.1410, 4423,   3496.7,   2.5700,  34.9180,2,  34.9180,2,    244.5,2,    243.8,2,    40.32,2,    22.54,   2,     1.28,2,   2346.7,2,   7.7310,2,    25.00,   2.2761
  35TH20040604, OVIDE,    77,  1,      7,      7,2,20040624,1922, 48.4130, -21.1410, 4423,   3247.3,   2.6560,  34.9270,2,  34.9250,2,    248.2,2,    250.0,2,    35.90,2,    21.51,   2,     1.21,2,   2339.3,2,   7.7340,2,    25.00,   2.3868
  35TH20040604, OVIDE,    77,  1,      8,      8,2,20040624,1922, 48.4130, -21.1410, 4423,   2996.4,   2.7920,  34.9390,2,  34.9370,2,    253.9,2,    254.4,2,    29.20,2,    20.33,   2,     1.14,2,   2329.7,2,   7.7320,2,    25.00,   2.5461
  35TH20040604, OVIDE,    77,  1,      9,      9,2,20040624,1922, 48.4130, -21.1410, 4423,   2996.9,   2.7930,  34.9390,2,  34.9370,2,    253.8,2,    254.6,2,    28.92,2,    20.38,   2,     1.13,2,   2328.4,2,   7.7320,2,    25.00,   2.5470
  35TH20040604, OVIDE,    77,  1,     10,     10,2,20040624,1922, 48.4130, -21.1410, 4423,   2746.8,   2.9370,  34.9440,2,  34.9420,2,    259.3,2,    217.0,3,    24.08,2,    19.19,   2,     1.09,2,   2322.4,2,   7.7350,2,    25.00,   2.7136
  35TH20040604, OVIDE,    77,  1,     11,     11,2,20040624,1922, 48.4130, -21.1410, 4423,   2494.9,   3.0650,  34.9390,2,  34.9380,2,    266.0,2,    268.3,2,    17.45,2,    18.71,   2,     1.03,2,   2314.4,2,   7.7310,2,    25.00,   2.8643
  35TH20040604, OVIDE,    77,  1,     12,     12,2,20040624,1922, 48.4130, -21.1410, 4423,   2245.0,   3.2070,  34.9200,2,  34.9150,2,    273.5,2,    225.2,3,    13.90,2,    18.28,   2,     1.00,2,   2309.3,2,   7.7310,2,    25.00,   3.0283
  35TH20040604, OVIDE,    77,  1,     13,     13,2,20040624,1922, 48.4130, -21.1410, 4423,   1995.1,   3.2490,  34.8970,2,  34.8960,2,    279.2,2,    279.7,2,    11.99,2,    18.12,   2,     1.00,2,   2304.0,2,   7.7310,2,    25.00,   3.0933
  35TH20040604, OVIDE,    77,  1,     14,     14,2,20040624,1922, 48.4130, -21.1410, 4423,   1796.3,   3.3870,  34.9000,2,  34.9000,2,    276.7,2,    278.1,2,    11.79,2,    18.33,   2,     1.00,2,   2307.5,2,   7.7270,2,    25.00,   3.2476
  35TH20040604, OVIDE,    77,  1,     15,     15,2,20040624,1922, 48.4130, -21.1410, 4423,   1595.6,   3.6630,  34.9190,2,  34.9170,2,    270.6,2,    271.3,2,    11.55,2,    18.66,   2,     1.02,2,   2303.9,2,   7.7230,2,    25.00,   3.5382
  35TH20040604, OVIDE,    77,  1,     16,     16,2,20040624,1922, 48.4130, -21.1410, 4423,   1395.7,   4.1380,  34.9670,2,  34.9640,2,    260.4,2,    263.6,2,    11.43,2,    18.98,   2,     1.02,2,   2308.0,2,   7.7210,2,    25.00,   4.0258
  35TH20040604, OVIDE,    77,  1,     17,     17,2,20040624,1922, 48.4130, -21.1410, 4423,   1195.1,   4.7920,  35.0360,2,  35.0370,2,    248.1,2,    249.3,2,    11.39,2,    19.14,   2,     1.00,2,   2312.5,2,   7.7180,2,    25.00,   4.6916
  35TH20040604, OVIDE,    77,  1,     18,     18,2,20040624,1922, 48.4130, -21.1410, 4423,    994.7,   6.4010,  35.2510,2,  35.2450,2,    221.4,2,    204.9,3,    11.31,2,    19.35,   2,     1.03,2,   2326.8,2,   7.7280,2,    25.00,   6.3065
  35TH20040604, OVIDE,    77,  1,     19,     19,2,20040624,1922, 48.4130, -21.1410, 4423,    895.3,   6.9460,  35.2930,2,  35.2940,2,    213.5,2,    189.9,3,    11.15,2,    19.46,   2,     1.04,2,   -999.0,9,   7.7300,2,    25.00,   6.8579
  35TH20040604, OVIDE,    77,  1,     20,     20,2,20040624,1922, 48.4130, -21.1410, 4423,    780.5,   7.9800,  35.3870,2,  35.3720,3,    199.1,2,    203.7,2,    10.71,2,    19.51,   2,     1.04,2,   2334.8,2,   7.7340,2,    25.00,   7.8977
  35TH20040604, OVIDE,    77,  1,     21,     21,2,20040624,1922, 48.4130, -21.1410, 4423,    695.8,   7.5060,  35.1810,2,  35.1880,2,    203.6,2,    203.7,2,    10.87,2,    20.05,   2,     1.10,2,   -999.0,9,   7.7220,2,    25.00,   7.4356
  35TH20040604, OVIDE,    77,  1,     22,     22,2,20040624,1922, 48.4130, -21.1410, 4423,    596.0,   8.3470,  35.1770,2,  35.1760,2,    198.2,2,    169.7,3,    10.28,2,    19.73,   2,     1.09,2,   2319.8,2,   7.7280,2,    25.00,   8.2834
  35TH20040604, OVIDE,    77,  1,     23,     23,2,20040624,1922, 48.4130, -21.1410, 4423,    496.6,   9.4950,  35.2590,2,  35.2560,2,    203.7,2,    206.5,2,     8.52,2,    18.00,   2,     0.97,2,   2325.0,2,   7.7580,2,    25.00,   9.4381
  35TH20040604, OVIDE,    77,  1,     24,     24,2,20040624,1922, 48.4130, -21.1410, 4423,    396.7,  10.4860,  35.3780,2,  35.3730,2,    225.2,2,    229.7,2,     6.21,2,    14.55,   2,     0.74,2,   2330.1,2,   7.8020,2,    25.00,  10.4379
  35TH20040604, OVIDE,    77,  1,     25,     25,2,20040624,1922, 48.4130, -21.1410, 4423,    297.4,  11.1670,  35.4710,2,  35.4660,2,    238.1,2,    242.2,2,     4.86,2,    12.18,   2,     0.62,2,   2335.9,2,   7.8380,2,    25.00,  11.1296
  35TH20040604, OVIDE,    77,  1,     26,     26,2,20040624,1922, 48.4130, -21.1410, 4423,    196.1,  11.8160,  35.5650,2,  35.5670,2,    245.8,2,    244.2,2,     4.14,2,    10.72,   2,     0.53,2,   2340.8,2,   7.8570,2,    25.00,  11.7905
  35TH20040604, OVIDE,    77,  1,     27,     27,2,20040624,1922, 48.4130, -21.1410, 4423,    146.1,  12.0150,  35.5850,2,  35.5860,2,    245.7,2,    216.2,3,     3.82,2,    10.46,   2,     0.51,2,   -999.0,9,   7.8630,2,    25.00,  11.9958
  35TH20040604, OVIDE,    77,  1,     28,     28,2,20040624,1922, 48.4130, -21.1410, 4423,     94.7,  12.5050,  35.6560,2,  35.6590,2,    245.4,2,    244.7,2,     3.10,2,     9.43,   2,     0.48,2,   2344.0,2,   7.8800,2,    25.00,  12.4923
  35TH20040604, OVIDE,    77,  1,     29,     29,2,20040624,1922, 48.4130, -21.1410, 4423,     47.4,  13.6950,  35.7470,2,  35.7460,2,    257.2,2,    236.4,3,     1.75,2,     4.85,   2,     0.29,2,   -999.0,9,   7.9290,2,    25.00,  13.6882
  35TH20040604, OVIDE,    77,  1,     30,     30,2,20040624,1922, 48.4130, -21.1410, 4423,      3.1,  17.1580,  35.7720,2,  35.7740,2,    242.6,2,    221.0,3,     0.40,2,     0.11,   2,     0.04,2,   2357.6,2,   8.0130,2,    25.00,  17.1575
  35TH20040604, OVIDE,    78,  1,      3,      3,2,20040625,0057, 48.0390, -20.8500, 4536,   4524.3,   2.5590,  34.9050,2,  34.9070,2,    239.9,2,    239.6,2,    45.44,2,    22.77,   2,     1.34,2,   -999.0,9,   7.7290,2,    25.00,   2.1468
  35TH20040604, OVIDE,    78,  1,      4,      4,2,20040625,0057, 48.0390, -20.8500, 4536,   4398.2,   2.5590,  34.9070,2,  34.9080,2,    241.0,2,    239.8,2,    44.86,2,    23.22,   2,     1.46,2,   -999.0,9,   7.7280,2,    25.00,   2.1621
  35TH20040604, OVIDE,    78,  1,      5,      5,2,20040625,0057, 48.0390, -20.8500, 4536,   4198.7,   2.5470,  34.9080,2,  34.9090,2,    240.4,2,    241.0,2,    44.28,2,    22.32,   2,     1.30,2,   -999.0,9,   7.7290,2,    25.00,   2.1742
  35TH20040604, OVIDE,    78,  1,      6,      6,2,20040625,0057, 48.0390, -20.8500, 4536,   3999.2,   2.5360,  34.9100,2,  34.9090,2,    240.4,2,    240.5,2,    44.13,2,    23.00,   2,     1.34,2,   -999.0,9,   7.7270,2,    25.00,   2.1867
  35TH20040604, OVIDE,    78,  1,      7,      7,2,20040625,0057, 48.0390, -20.8500, 4536,   3798.8,   2.5420,  34.9130,2,  34.9130,2,    242.0,2,    241.5,2,    42.68,2,    22.77,   2,     1.34,2,   -999.0,9,   7.7280,2,    25.00,   2.2154
  35TH20040604, OVIDE,    78,  1,      8,      8,2,20040625,0057, 48.0390, -20.8500, 4536,   3598.3,   2.5680,  34.9170,2,  34.9170,2,    242.5,2,    242.8,2,    40.93,2,    22.66,   2,     1.32,2,   -999.0,9,   7.7290,2,    25.00,   2.2630
  35TH20040604, OVIDE,    78,  1,      9,      9,2,20040625,0057, 48.0390, -20.8500, 4536,   3397.4,   2.6230,  34.9230,2,  34.9270,2,    245.5,2,    246.0,2,    37.58,2,    21.87,   2,     1.27,2,   -999.0,9,   7.7280,2,    25.00,   2.3385
  35TH20040604, OVIDE,    78,  1,     10,     10,2,20040625,0057, 48.0390, -20.8500, 4536,   2997.8,   2.8180,  34.9400,2,  34.9410,2,    253.8,2,    254.5,2,    28.84,2,    20.25,   2,     1.16,2,   -999.0,9,   7.7300,2,    25.00,   2.5713
  35TH20040604, OVIDE,    78,  1,     11,     11,2,20040625,0057, 48.0390, -20.8500, 4536,   2796.1,   2.9410,  34.9440,2,  34.9430,2,    257.5,2,    259.0,2,    24.47,2,    19.74,   2,     1.13,2,   -999.0,9,   7.7290,2,    25.00,   2.7125
  35TH20040604, OVIDE,    78,  1,     12,     12,2,20040625,0057, 48.0390, -20.8500, 4536,   2595.6,   3.0580,  34.9430,2,  34.9430,2,    262.1,2,    263.6,2,    20.54,2,    19.07,   2,     1.07,2,   -999.0,9,   7.7290,2,    25.00,   2.8475
  35TH20040604, OVIDE,    78,  1,     13,     13,2,20040625,0057, 48.0390, -20.8500, 4536,   2395.7,   3.1610,  34.9310,2,  34.9280,2,    269.4,2,    270.4,2,    15.81,2,    18.51,   2,     1.03,2,   -999.0,9,   7.7320,2,    25.00,   2.9684
  35TH20040604, OVIDE,    78,  1,     14,     14,2,20040625,0057, 48.0390, -20.8500, 4536,   2196.0,   3.2100,  34.9100,2,  34.9110,2,    276.6,2,    276.5,2,    13.14,2,    18.12,   2,     1.00,2,   -999.0,9,   7.7280,2,    25.00,   3.0359
  35TH20040604, OVIDE,    78,  1,     15,     15,2,20040625,0057, 48.0390, -20.8500, 4536,   1996.0,   3.2950,  34.8990,2,  34.8970,2,    277.1,2,    278.4,2,    12.27,2,    18.40,   2,     1.00,2,   -999.0,9,   7.7230,2,    25.00,   3.1385
  35TH20040604, OVIDE,    78,  1,     16,     16,2,20040625,0057, 48.0390, -20.8500, 4536,   1795.7,   3.4200,  34.8990,2,  34.9040,2,    275.1,2,    276.4,2,    11.75,2,    18.40,   2,     1.01,2,   -999.0,9,   7.7230,2,    25.00,   3.2802
  35TH20040604, OVIDE,    78,  1,     17,     17,2,20040625,0057, 48.0390, -20.8500, 4536,   1595.8,   3.6750,  34.9170,2,  34.9150,2,    269.9,2,    272.9,2,    11.55,2,    18.51,   2,     1.01,2,   -999.0,9,   7.7200,2,    25.00,   3.5500
  35TH20040604, OVIDE,    78,  1,     18,     18,2,20040625,0057, 48.0390, -20.8500, 4536,   1395.4,   4.1270,  34.9590,2,  34.9560,2,    258.6,2,    262.0,2,    11.47,2,    18.84,   2,     1.03,2,   -999.0,9,   7.7160,2,    25.00,   4.0149
  35TH20040604, OVIDE,    78,  1,     19,     19,2,20040625,0057, 48.0390, -20.8500, 4536,   1195.6,   5.1770,  35.0860,2,  35.0860,2,    240.2,2,    240.8,2,    11.55,2,    19.29,   2,     1.05,2,   -999.0,9,   7.7210,2,    25.00,   5.0730
  35TH20040604, OVIDE,    78,  1,     20,     20,2,20040625,0057, 48.0390, -20.8500, 4536,    995.9,   6.5920,  35.2530,2,  35.2540,2,    219.8,2,    218.3,2,    11.23,2,    19.57,   2,     1.06,2,   -999.0,9,   7.7230,2,    25.00,   6.4960
  35TH20040604, OVIDE,    78,  1,     21,     21,2,20040625,0057, 48.0390, -20.8500, 4536,    796.9,   8.2720,  35.3970,2,  35.3480,3,    194.0,2,    196.2,2,    10.71,2,    19.57,   2,     1.03,2,   -999.0,9,   7.7340,2,    25.00,   8.1862
  35TH20040604, OVIDE,    78,  1,     22,     22,2,20040625,0057, 48.0390, -20.8500, 4536,    597.8,   9.0680,  35.2650,2,  35.2680,2,    199.9,2,    196.9,2,     9.52,2,    19.06,   2,     1.07,2,   -999.0,9,   7.7430,2,    25.00,   9.0010
  35TH20040604, OVIDE,    78,  1,     23,     23,2,20040625,0057, 48.0390, -20.8500, 4536,    396.6,  10.7180,  35.4130,2,  35.4110,2,    232.2,2,    230.0,2,     5.85,2,    14.02,   2,     0.78,2,   -999.0,9,   7.8000,2,    25.00,  10.6692
  35TH20040604, OVIDE,    78,  1,     24,     24,2,20040625,0057, 48.0390, -20.8500, 4536,    297.0,  11.4530,  35.5240,2,  35.5230,2,    245.5,2,    241.8,2,     4.54,2,    11.60,   2,     0.61,2,   -999.0,9,   7.8430,2,    25.00,  11.4150
  35TH20040604, OVIDE,    78,  1,     25,     25,2,20040625,0057, 48.0390, -20.8500, 4536,    297.2,  11.4550,  35.5240,2,  35.5250,2,    245.5,2,    240.9,2,     4.50,2,    11.55,   2,     0.58,2,   -999.0,9,   7.8430,2,    25.00,  11.4170
  35TH20040604, OVIDE,    78,  1,     26,     26,2,20040625,0057, 48.0390, -20.8500, 4536,    197.2,  12.0000,  35.5980,2,  35.6000,2,    238.7,2,    235.9,2,     4.18,2,    11.21,   2,     0.56,2,   -999.0,9,   7.8540,2,    25.00,  11.9741
  35TH20040604, OVIDE,    78,  1,     27,     27,2,20040625,0057, 48.0390, -20.8500, 4536,    147.7,  12.5580,  35.6850,2,  35.6850,2,    236.8,2,    232.5,2,     3.82,2,    10.43,   2,     0.52,2,   -999.0,9,   7.8630,2,    25.00,  12.5380
  35TH20040604, OVIDE,    78,  1,     28,     28,2,20040625,0057, 48.0390, -20.8500, 4536,     96.7,  13.1710,  35.7790,2,  35.7760,2,    241.9,2,    240.4,2,     3.10,2,     8.46,   2,     0.41,2,   -999.0,9,   7.8910,2,    25.00,  13.1575
  35TH20040604, OVIDE,    78,  1,     29,     29,2,20040625,0057, 48.0390, -20.8500, 4536,     48.1,  13.6450,  35.8480,2,  35.8480,2,    237.8,2,    236.8,2,     2.71,2,     7.96,   2,     0.39,2,   -999.0,9,   7.9010,2,    25.00,  13.6381
  35TH20040604, OVIDE,    78,  1,     30,     30,2,20040625,0057, 48.0390, -20.8500, 4536,      4.0,  16.6880,  35.7450,2,  35.7430,2,    244.7,2,    258.5,3,     0.44,2,     0.17,   2,     0.05,2,   -999.0,9,   8.0020,2,    25.00,  16.6873