BOTTLE,20220120SIOCCHENA
EXPOCODE,SECT_ID,STNNBR,CASTNO,SAMPNO,BTLNBR,BTLNBR_FLAG_W,DATE,TIME,LATITUDE,LONGITUDE,DEPTH,CTDPRS,CTDTMP,CTDSAL,CTDSAL_FLAG_W,SALNTY,SALNTY_FLAG_W,CTDOXY,CTDOXY_FLAG_W,OXYGEN,OXYGEN_FLAG_W,SILCAT,SILCAT_FLAG_W,NITRAT,NITRAT_FLAG_W,PHSPHT,PHSPHT_FLAG_W,ALKALI,ALKALI_FLAG_W,PH_SWS,PH_SWS_FLAG_W,PH_TMP,THETA
,,,,,,,,,,,METERS,DBAR,ITS-90,PSS-78,,PSS-78,,UMOL/KG,,UMOL/KG,,UMOL/KG,,UMOL/KG,,UMOL/KG,,UMOL/KG,,,,DEG C,DEG C
  35TH20040604, OVIDE,    61,  1,      3,      3,2,20040621,1049, 53.8300, -25.3800, 2769,   2755.3,   2.8040,  34.9430,2,  34.9430,2,   -999.0,9,    267.1,3,    22.87,2,    17.76,   2,  -999.00,9,   -999.0,9,   7.7250,2,    25.00,   2.5824
  35TH20040604, OVIDE,    61,  1,      4,      4,2,20040621,1049, 53.8300, -25.3800, 2769,   2595.6,   2.9880,  34.9400,2,  34.9360,2,    271.2,2,    273.5,2,    14.64,2,    17.42,   2,  -999.00,9,   -999.0,9,   7.7260,2,    25.00,   2.7788
  35TH20040604, OVIDE,    61,  1,      5,      5,2,20040621,1049, 53.8300, -25.3800, 2769,   2596.7,   2.9890,  34.9400,2,  34.9400,2,    271.1,2,    265.3,3,    13.33,2,    17.48,   2,  -999.00,9,   -999.0,9,   7.7280,2,    25.00,   2.7797
  35TH20040604, OVIDE,    61,  1,      6,      6,2,20040621,1049, 53.8300, -25.3800, 2769,   2395.3,   3.0960,  34.9200,2,  34.9180,2,    274.7,2,    271.4,3,    13.37,2,    17.30,   2,  -999.00,9,   -999.0,9,   7.7290,2,    25.00,   2.9046
  35TH20040604, OVIDE,    61,  1,      7,      7,2,20040621,1049, 53.8300, -25.3800, 2769,   2195.2,   3.1490,  34.9050,2,  34.9020,2,    278.0,2,    280.1,2,    12.10,2,    17.14,   2,  -999.00,9,   -999.0,9,   7.7270,2,    25.00,   2.9760
  35TH20040604, OVIDE,    61,  1,      8,      8,2,20040621,1049, 53.8300, -25.3800, 2769,   1996.5,   3.1760,  34.8920,2,  34.8880,2,    282.6,2,    282.0,2,    11.48,2,    17.25,   2,  -999.00,9,   -999.0,9,   7.7260,2,    25.00,   3.0213
  35TH20040604, OVIDE,    61,  1,      9,      9,2,20040621,1049, 53.8300, -25.3800, 2769,   1795.6,   3.2550,  34.8880,2,  34.8850,2,    279.9,2,    253.6,3,    11.32,2,    17.82,   2,  -999.00,9,   -999.0,9,   7.7220,2,    25.00,   3.1175
  35TH20040604, OVIDE,    61,  1,     10,     10,2,20040621,1049, 53.8300, -25.3800, 2769,   1595.5,   3.4250,  34.8940,2,  34.8890,2,    278.1,2,    281.3,2,    11.19,2,    17.82,   2,  -999.00,9,   -999.0,9,   7.7200,2,    25.00,   3.3031
  35TH20040604, OVIDE,    61,  1,     11,     11,2,20040621,1049, 53.8300, -25.3800, 2769,   1395.6,   3.5410,  34.8940,2,  34.8910,2,    275.7,2,    276.6,2,    10.95,2,    17.87,   2,  -999.00,9,   -999.0,9,   7.7190,2,    25.00,   3.4353
  35TH20040604, OVIDE,    61,  1,     12,     12,2,20040621,1049, 53.8300, -25.3800, 2769,   1195.2,   3.6450,  34.8870,2,  34.8840,2,    277.8,2,    277.8,2,    10.33,2,    17.65,   2,  -999.00,9,   -999.0,9,   7.7200,2,    25.00,   3.5553
  35TH20040604, OVIDE,    61,  1,     13,     13,2,20040621,1049, 53.8300, -25.3800, 2769,    996.3,   3.8150,  34.8920,2,  34.8900,2,    276.2,2,    276.6,2,    10.29,2,    17.65,   2,  -999.00,9,   -999.0,9,   7.7170,2,    25.00,   3.7404
  35TH20040604, OVIDE,    61,  1,     14,     14,2,20040621,1049, 53.8300, -25.3800, 2769,    795.9,   4.2000,  34.9100,2,  34.9040,2,    265.2,2,    264.7,2,    10.54,2,    18.10,   2,  -999.00,9,   -999.0,9,   7.7120,2,    25.00,   4.1392
  35TH20040604, OVIDE,    61,  1,     15,     15,2,20040621,1049, 53.8300, -25.3800, 2769,    635.4,   4.6290,  34.9120,2,  34.9150,2,    244.5,2,    253.3,3,    10.74,2,    18.72,   2,  -999.00,9,   -999.0,9,   7.7040,2,    25.00,   4.5791
  35TH20040604, OVIDE,    61,  1,     16,     16,2,20040621,1049, 53.8300, -25.3800, 2769,    396.5,   5.8570,  34.8920,2,  34.8930,2,    222.9,2,    231.7,3,    10.82,2,    19.24,   2,  -999.00,9,   -999.0,9,   7.7030,2,    25.00,   5.8228
  35TH20040604, OVIDE,    61,  1,     17,     17,2,20040621,1049, 53.8300, -25.3800, 2769,    296.8,   6.8490,  34.9040,2,  34.9030,2,    234.6,2,    231.6,2,     9.88,2,    18.27,   2,  -999.00,9,   -999.0,9,   7.7210,2,    25.00,   6.8214
  35TH20040604, OVIDE,    61,  1,     18,     18,2,20040621,1049, 53.8300, -25.3800, 2769,    189.3,   8.0620,  34.9810,2,  34.9770,2,    233.4,2,    236.7,2,     7.95,2,    16.06,   2,  -999.00,9,   -999.0,9,   7.7590,2,    25.00,   8.0428
  35TH20040604, OVIDE,    61,  1,     19,     19,2,20040621,1049, 53.8300, -25.3800, 2769,    146.3,   8.7670,  35.0620,2,  35.0580,2,    244.5,2,    236.5,3,     7.46,2,    15.43,   2,  -999.00,9,   -999.0,9,   7.7730,2,    25.00,   8.7514
  35TH20040604, OVIDE,    61,  1,     20,     20,2,20040621,1049, 53.8300, -25.3800, 2769,     97.2,   9.0760,  35.0660,2,  35.0650,2,    252.0,2,    252.3,2,     5.74,2,    13.33,   2,  -999.00,9,   -999.0,9,   7.7980,2,    25.00,   9.0654
  35TH20040604, OVIDE,    61,  1,     21,     21,2,20040621,1049, 53.8300, -25.3800, 2769,     47.3,  10.7180,  35.1440,2,  35.1410,2,    276.4,2,    267.2,3,     2.91,2,     7.43,   2,  -999.00,9,   -999.0,9,   7.8740,2,    25.00,  10.7123
  35TH20040604, OVIDE,    61,  1,     22,     22,2,20040621,1049, 53.8300, -25.3800, 2769,      3.3,  12.0560,  35.0450,2,  35.0450,2,    287.7,2,    298.6,3,     0.57,2,     2.21,   2,  -999.00,9,   -999.0,9,   7.9610,2,    25.00,  12.0556
  35TH20040604, OVIDE,    62,  1,      3,      3,2,20040621,1444, 53.6410, -25.2430, 3671,   3657.8,   2.7680,  34.9390,2,  34.9390,2,    259.0,2,    259.7,2,    28.67,2,    19.35,   2,  -999.00,9,   -999.0,9,   7.7280,2,    25.00,   2.4512
  35TH20040604, OVIDE,    62,  1,      4,      4,2,20040621,1444, 53.6410, -25.2430, 3671,   1993.9,   3.2310,  34.8890,2,  34.8900,2,    281.4,2,    282.4,2,    11.32,2,    17.59,   2,  -999.00,9,   -999.0,9,   7.7260,2,    25.00,   3.0757
  35TH20040604, OVIDE,    62,  1,      5,      5,2,20040621,1444, 53.6410, -25.2430, 3671,    996.0,   4.0930,  34.9290,2,  34.9330,2,    263.4,2,    264.8,2,    10.66,2,    18.16,   2,  -999.00,9,   -999.0,9,   7.7150,2,    25.00,   4.0162
  35TH20040604, OVIDE,    62,  1,      6,      6,2,20040621,1444, 53.6410, -25.2430, 3671,    896.7,   4.3740,  34.9480,2,  34.9500,2,    259.5,2,    257.8,2,    10.78,2,    18.38,   2,  -999.00,9,   -999.0,9,   7.7110,2,    25.00,   4.3036
  35TH20040604, OVIDE,    62,  1,      7,      7,2,20040621,1444, 53.6410, -25.2430, 3671,    696.8,   4.9190,  34.9750,2,  34.9790,2,    245.6,2,    244.9,2,    10.99,2,    18.84,   2,  -999.00,9,   -999.0,9,   7.7090,2,    25.00,   4.8624
  35TH20040604, OVIDE,    62,  1,      8,      8,2,20040621,1444, 53.6410, -25.2430, 3671,    596.7,   5.5820,  35.0030,2,  35.0030,2,    235.4,2,    231.1,2,    11.15,2,    19.29,   2,  -999.00,9,   -999.0,9,   7.7050,2,    25.00,   5.5309
  35TH20040604, OVIDE,    62,  1,      9,      9,2,20040621,1444, 53.6410, -25.2430, 3671,    511.4,   6.0250,  34.9870,2,  34.9910,2,    230.3,2,    226.2,2,    10.99,2,    19.40,   2,  -999.00,9,   -999.0,9,   7.7030,2,    25.00,   5.9798
  35TH20040604, OVIDE,    62,  1,     10,     10,2,20040621,1444, 53.6410, -25.2430, 3671,    397.0,   6.9480,  35.0050,2,  35.0070,2,    218.7,2,    216.4,2,    10.62,2,    19.29,   2,  -999.00,9,   -999.0,9,   7.7100,2,    25.00,   6.9104
  35TH20040604, OVIDE,    62,  1,     11,     11,2,20040621,1444, 53.6410, -25.2430, 3671,    295.3,   8.1280,  35.0770,2,  35.0780,2,    218.9,2,    217.3,2,     9.39,2,    18.15,   2,  -999.00,9,   -999.0,9,   7.7360,2,    25.00,   8.0976
  35TH20040604, OVIDE,    62,  1,     12,     12,2,20040621,1444, 53.6410, -25.2430, 3671,    190.0,   9.0520,  35.1180,2,  35.1110,2,    247.3,2,    258.0,3,     5.54,2,    13.10,   2,  -999.00,9,   -999.0,9,   7.8040,2,    25.00,   9.0312
  35TH20040604, OVIDE,    62,  1,     13,     13,2,20040621,1444, 53.6410, -25.2430, 3671,    146.0,   9.7130,  35.2360,2,  35.2400,2,    245.5,2,    258.3,3,     5.04,2,    12.25,   2,  -999.00,9,   -999.0,9,   7.8230,2,    25.00,   9.6964
  35TH20040604, OVIDE,    62,  1,     14,     14,2,20040621,1444, 53.6410, -25.2430, 3671,     96.4,   9.7750,  35.2210,2,  35.2170,2,    244.7,2,    256.2,3,     4.51,2,    12.31,   2,  -999.00,9,   -999.0,9,   7.8160,2,    25.00,   9.7640
  35TH20040604, OVIDE,    62,  1,     15,     15,2,20040621,1444, 53.6410, -25.2430, 3671,     48.6,  10.5700,  35.2140,2,  35.2220,2,    264.6,2,    269.6,2,     1.27,2,     7.49,   2,  -999.00,9,   -999.0,9,   7.8710,2,    25.00,  10.5642
  35TH20040604, OVIDE,    62,  1,     16,     16,2,20040621,1444, 53.6410, -25.2430, 3671,      3.1,  12.3370,  35.1390,2,  35.1440,2,    278.8,2,    293.6,3,     0.33,2,     2.78,   2,  -999.00,9,   -999.0,9,   7.9510,2,    25.00,  12.3366
  35TH20040604, OVIDE,    63,  1,      3,      3,2,20040621,1921, 53.4540, -25.0920, 3577,   3563.7,   2.6920,  34.9300,2,  34.9310,2,    252.0,2,    253.2,2,    33.55,2,    20.49,   2,  -999.00,9,   2337.5,2,   7.7300,2,    25.00,   2.3876
  35TH20040604, OVIDE,    63,  1,      4,      4,2,20040621,1921, 53.4540, -25.0920, 3577,   3497.2,   2.7060,  34.9330,2,  34.9270,2,    257.0,2,    255.0,2,    32.33,2,    20.20,   2,  -999.00,9,   2334.2,2,   7.7270,2,    25.00,   2.4086
  35TH20040604, OVIDE,    63,  1,      5,      5,2,20040621,1921, 53.4540, -25.0920, 3577,   3247.0,   2.8150,  34.9500,2,  34.9440,2,    265.6,2,    266.9,2,    22.42,2,    18.15,   2,  -999.00,9,   2320.6,2,   7.7250,2,    25.00,   2.5421
  35TH20040604, OVIDE,    63,  1,      6,      6,2,20040621,1921, 53.4540, -25.0920, 3577,   2996.5,   2.8690,  34.9490,2,  34.9420,2,    268.3,2,    269.6,2,    17.89,2,    17.80,   2,  -999.00,9,   2315.9,2,   7.7240,2,    25.00,   2.6214
  35TH20040604, OVIDE,    63,  1,      7,      7,2,20040621,1921, 53.4540, -25.0920, 3577,   2997.2,   2.8700,  34.9480,2,  34.9470,2,    268.3,2,    268.9,2,    17.85,2,    17.80,   2,  -999.00,9,   2313.9,2,   7.7230,2,    25.00,   2.6222
  35TH20040604, OVIDE,    63,  1,      8,      8,2,20040621,1921, 53.4540, -25.0920, 3577,   2747.0,   2.9580,  34.9470,2,  34.9440,2,    272.2,2,    274.0,2,    14.31,2,    17.29,   2,  -999.00,9,   2311.9,2,   7.7250,2,    25.00,   2.7342
  35TH20040604, OVIDE,    63,  1,      9,      9,2,20040621,1921, 53.4540, -25.0920, 3577,   2497.6,   3.0200,  34.9290,2,  34.9230,2,    277.0,2,    276.2,2,    13.50,2,    17.41,   2,  -999.00,9,   2304.6,2,   7.7260,2,    25.00,   2.8200
  35TH20040604, OVIDE,    63,  1,     10,     10,2,20040621,1921, 53.4540, -25.0920, 3577,   2245.4,   3.1070,  34.9130,2,  34.9110,2,    276.1,2,    277.8,2,    12.56,2,    17.46,   2,  -999.00,9,   2305.1,2,   7.7260,2,    25.00,   2.9299
  35TH20040604, OVIDE,    63,  1,     11,     11,2,20040621,1921, 53.4540, -25.0920, 3577,   1996.2,   3.1740,  34.8930,2,  34.8910,2,    281.9,2,    281.9,2,    11.67,2,    17.58,   2,  -999.00,9,   2304.1,2,   7.7250,2,    25.00,   3.0193
  35TH20040604, OVIDE,    63,  1,     12,     12,2,20040621,1921, 53.4540, -25.0920, 3577,   1796.3,   3.2460,  34.8880,2,  34.8830,2,    282.2,2,    275.3,3,    11.47,2,    17.69,   2,  -999.00,9,   2303.2,2,   7.7250,2,    25.00,   3.1085
  35TH20040604, OVIDE,    63,  1,     13,     13,2,20040621,1921, 53.4540, -25.0920, 3577,   1596.7,   3.3700,  34.8910,2,  34.8860,2,    275.2,2,    279.4,2,    11.18,2,    17.86,   2,  -999.00,9,   2300.6,2,   7.7230,2,    25.00,   3.2487
  35TH20040604, OVIDE,    63,  1,     14,     14,2,20040621,1921, 53.4540, -25.0920, 3577,   1396.8,   3.5420,  34.8980,2,  34.8920,2,    272.6,2,    228.4,3,    11.06,2,    17.92,   2,  -999.00,9,   2301.4,2,   7.7210,2,    25.00,   3.4361
  35TH20040604, OVIDE,    63,  1,     15,     15,2,20040621,1921, 53.4540, -25.0920, 3577,   1196.4,   3.7520,  34.9040,2,  34.8960,2,    268.8,2,    272.7,2,    10.65,2,    17.98,   2,  -999.00,9,   2301.6,2,   7.7180,2,    25.00,   3.6612
  35TH20040604, OVIDE,    63,  1,     16,     16,2,20040621,1921, 53.4540, -25.0920, 3577,    996.5,   4.0430,  34.9150,2,  34.9120,2,    263.5,2,    256.2,3,    10.57,2,    18.26,   2,  -999.00,9,   2303.3,2,   7.7130,2,    25.00,   3.9666
  35TH20040604, OVIDE,    63,  1,     17,     17,2,20040621,1921, 53.4540, -25.0920, 3577,    897.4,   4.2040,  34.9230,2,  34.9180,2,    257.7,2,    264.0,2,    10.61,2,    18.32,   2,  -999.00,9,   2303.9,2,   7.7110,2,    25.00,   4.1348
  35TH20040604, OVIDE,    63,  1,     18,     18,2,20040621,1921, 53.4540, -25.0920, 3577,    796.8,   4.5240,  34.9480,2,  34.9470,2,    254.1,2,    250.9,2,    10.82,2,    18.66,   2,  -999.00,9,   2305.1,2,   7.7080,2,    25.00,   4.4611
  35TH20040604, OVIDE,    63,  1,     19,     19,2,20040621,1921, 53.4540, -25.0920, 3577,    697.1,   4.9930,  34.9800,2,  34.9810,2,    241.8,2,    242.3,2,    11.10,2,    19.06,   2,  -999.00,9,   -999.0,9,   7.7050,2,    25.00,   4.9359
  35TH20040604, OVIDE,    63,  1,     20,     20,2,20040621,1921, 53.4540, -25.0920, 3577,    595.0,   5.6160,  34.9970,2,  34.9980,2,    227.6,2,    184.8,3,    11.30,2,    19.46,   2,  -999.00,9,   2311.2,2,   7.7000,2,    25.00,   5.5649
  35TH20040604, OVIDE,    63,  1,     21,     21,2,20040621,1921, 53.4540, -25.0920, 3577,    497.4,   6.4800,  35.0230,2,  35.0160,2,    220.6,2,    217.6,2,    11.10,2,    19.63,   2,  -999.00,9,   2315.5,2,   7.7130,2,    25.00,   6.4343
  35TH20040604, OVIDE,    63,  1,     22,     22,2,20040621,1921, 53.4540, -25.0920, 3577,    396.7,   7.0450,  35.0170,2,  35.0020,3,    217.8,2,    201.9,3,    10.57,2,    19.29,   2,  -999.00,9,   2315.5,2,   7.7190,2,    25.00,   7.0071
  35TH20040604, OVIDE,    63,  1,     23,     23,2,20040621,1921, 53.4540, -25.0920, 3577,    295.9,   8.4750,  35.0960,2,  35.0890,2,    233.3,2,    210.8,3,     8.46,2,    16.95,   2,  -999.00,9,   2317.1,2,   7.7530,2,    25.00,   8.4438
  35TH20040604, OVIDE,    63,  1,     24,     24,2,20040621,1921, 53.4540, -25.0920, 3577,    196.6,   9.5390,  35.2090,2,  35.2080,2,    249.7,2,    234.5,3,     5.77,2,    13.29,   2,  -999.00,9,   2323.3,2,   7.8010,2,    25.00,   9.5168
  35TH20040604, OVIDE,    63,  1,     25,     25,2,20040621,1921, 53.4540, -25.0920, 3577,    146.3,   9.7800,  35.2300,2,  35.2190,3,    244.0,2,    229.1,3,     5.28,2,    13.12,   2,  -999.00,9,   -999.0,9,   7.8070,2,    25.00,   9.7633
  35TH20040604, OVIDE,    63,  1,     26,     26,2,20040621,1921, 53.4540, -25.0920, 3577,     97.2,  10.1710,  35.2180,2,  35.2260,2,    252.9,2,    236.5,3,     2.68,2,    10.16,   2,  -999.00,9,   2325.4,2,   7.8450,2,    25.00,  10.1596
  35TH20040604, OVIDE,    63,  1,     27,     27,2,20040621,1921, 53.4540, -25.0920, 3577,     47.7,  11.3650,  35.1760,2,  35.1850,3,    272.6,2,    259.5,3,     1.26,2,     6.05,   2,  -999.00,9,   -999.0,9,   7.8880,2,    25.00,  11.3590
  35TH20040604, OVIDE,    63,  1,     28,     28,2,20040621,1921, 53.4540, -25.0920, 3577,      3.9,  12.5480,  35.2630,2,  35.2630,2,    269.7,2,    271.1,2,     1.30,2,     5.02,   2,  -999.00,9,   2331.0,2,   7.9250,2,    25.00,  12.5475