BOTTLE,20220120SIOCCHENA
EXPOCODE,SECT_ID,STNNBR,CASTNO,SAMPNO,BTLNBR,BTLNBR_FLAG_W,DATE,TIME,LATITUDE,LONGITUDE,DEPTH,CTDPRS,CTDTMP,CTDSAL,CTDSAL_FLAG_W,SALNTY,SALNTY_FLAG_W,CTDOXY,CTDOXY_FLAG_W,OXYGEN,OXYGEN_FLAG_W,SILCAT,SILCAT_FLAG_W,NITRAT,NITRAT_FLAG_W,PHSPHT,PHSPHT_FLAG_W,ALKALI,ALKALI_FLAG_W,PH_SWS,PH_SWS_FLAG_W,PH_TMP,THETA
,,,,,,,,,,,METERS,DBAR,ITS-90,PSS-78,,PSS-78,,UMOL/KG,,UMOL/KG,,UMOL/KG,,UMOL/KG,,UMOL/KG,,UMOL/KG,,,,DEG C,DEG C
  35TH20040604, OVIDE,   111,  1,      3,      3,2,20040702,2040, 40.3350, -10.2980, 3963,   3950.1,   2.4700,  34.9050,2,  34.9020,2,    242.5,2,    242.0,2,    44.12,2,    22.40,   2,     1.33,2,   -999.0,9,   7.7290,2,    25.00,   2.1282
  35TH20040604, OVIDE,   111,  1,      4,      4,2,20040702,2040, 40.3350, -10.2980, 3963,   3746.0,   2.5050,  34.9110,2,  34.9050,2,    241.9,2,    242.3,2,    42.80,2,    22.28,   2,     1.36,2,   -999.0,9,   7.7310,2,    25.00,   2.1853
  35TH20040604, OVIDE,   111,  1,      5,      5,2,20040702,2040, 40.3350, -10.2980, 3963,   3495.9,   2.6090,  34.9240,2,  34.9060,3,    243.0,2,    243.5,2,    39.88,2,    21.83,   2,     1.32,2,   -999.0,9,   7.7310,2,    25.00,   2.3142
  35TH20040604, OVIDE,   111,  1,      6,      6,2,20040702,2040, 40.3350, -10.2980, 3963,   3246.4,   2.7210,  34.9370,2,  34.9360,2,    244.0,2,    244.8,2,    37.40,2,    21.55,   2,     1.31,2,   -999.0,9,   7.7330,2,    25.00,   2.4504
  35TH20040604, OVIDE,   111,  1,      7,      7,2,20040702,2040, 40.3350, -10.2980, 3963,   2998.2,   2.9430,  34.9600,2,  34.9610,2,    246.5,2,    244.9,2,    33.60,2,    21.04,   2,     1.27,2,   -999.0,9,   7.7340,2,    25.00,   2.6935
  35TH20040604, OVIDE,   111,  1,      8,      8,2,20040702,2040, 40.3350, -10.2980, 3963,   2745.6,   3.1570,  34.9860,2,  34.9820,2,    245.5,2,    245.4,2,    30.97,2,    20.64,   2,     1.24,2,   -999.0,9,   7.7330,2,    25.00,   2.9292
  35TH20040604, OVIDE,   111,  1,      9,      9,2,20040702,2040, 40.3350, -10.2980, 3963,   2494.1,   3.4280,  35.0180,2,  35.0180,2,    245.6,2,    245.0,2,    28.05,2,    20.31,   2,     1.21,2,   -999.0,9,   7.7350,2,    25.00,   3.2205
  35TH20040604, OVIDE,   111,  1,     10,     10,2,20040702,2040, 40.3350, -10.2980, 3963,   2246.5,   3.8080,  35.0640,2,  35.0600,2,    244.9,2,    245.0,2,    24.25,2,    19.74,   2,     1.17,2,   -999.0,9,   7.7360,2,    25.00,   3.6187
  35TH20040604, OVIDE,   111,  1,     11,     11,2,20040702,2040, 40.3350, -10.2980, 3963,   1995.1,   4.4940,  35.1480,2,  35.1480,2,    242.0,2,    243.0,2,    17.10,2,    19.01,   2,     1.10,2,   -999.0,9,   7.7410,2,    25.00,   4.3191
  35TH20040604, OVIDE,   111,  1,     12,     12,2,20040702,2040, 40.3350, -10.2980, 3963,   1796.2,   5.3570,  35.2720,2,  35.2750,2,    233.9,2,    236.8,2,    14.45,2,    18.50,   2,     1.07,2,   -999.0,9,   7.7460,2,    25.00,   5.1903
  35TH20040604, OVIDE,   111,  1,     13,     13,2,20040702,2040, 40.3350, -10.2980, 3963,   1594.7,   7.6470,  35.6670,2,  35.6750,2,    212.8,2,    210.6,2,    12.12,2,    17.76,   2,     1.00,2,   -999.0,9,   7.7670,2,    25.00,   7.4739
  35TH20040604, OVIDE,   111,  1,     14,     14,2,20040702,2040, 40.3350, -10.2980, 3963,   1395.9,   9.8400,  36.0770,2,  36.0770,2,    192.9,2,    192.1,2,    10.19,2,    16.29,   2,     0.86,2,   -999.0,9,   7.7890,2,    25.00,   9.6678
  35TH20040604, OVIDE,   111,  1,     15,     15,2,20040702,2040, 40.3350, -10.2980, 3963,   1396.7,   9.8470,  36.0760,2,  36.0790,2,    193.0,2,    192.0,2,    10.15,2,    16.23,   2,     0.88,2,   -999.0,9,-999.0000,9,  -999.00,   9.6746
  35TH20040604, OVIDE,   111,  1,     16,     16,2,20040702,2040, 40.3350, -10.2980, 3963,   1206.5,  11.1330,  36.3040,2,  36.3090,2,    185.3,2,    184.4,2,     8.67,2,    15.10,   2,     0.78,2,   -999.0,9,   7.8090,2,    25.00,  10.9742
  35TH20040604, OVIDE,   111,  1,     17,     17,2,20040702,2040, 40.3350, -10.2980, 3963,    977.2,  11.3130,  36.2100,2,  36.2090,2,    179.9,2,    181.2,2,     8.35,2,    15.16,   2,     0.78,2,   -999.0,9,   7.8030,2,    25.00,  11.1845
  35TH20040604, OVIDE,   111,  1,     18,     18,2,20040702,2040, 40.3350, -10.2980, 3963,    881.8,  11.2960,  36.1050,2,  36.1040,2,    178.0,2,    180.4,2,     8.27,2,    15.67,   2,     0.82,2,   -999.0,9,   7.7940,2,    25.00,  11.1807
  35TH20040604, OVIDE,   111,  1,     19,     19,2,20040702,2040, 40.3350, -10.2980, 3963,    816.5,  11.7520,  36.1580,2,  36.1600,2,    182.6,2,    182.7,2,     7.46,2,    14.54,   2,     0.75,2,   -999.0,9,   7.8110,2,    25.00,  11.6429
  35TH20040604, OVIDE,   111,  1,     20,     20,2,20040702,2040, 40.3350, -10.2980, 3963,    695.7,  11.6420,  35.9970,2,  35.9990,2,    180.0,2,    182.1,2,     7.26,2,    15.22,   2,     0.80,2,   -999.0,9,   7.8020,2,    25.00,  11.5502
  35TH20040604, OVIDE,   111,  1,     21,     21,2,20040702,2040, 40.3350, -10.2980, 3963,    637.2,  11.5770,  35.9050,2,  35.9070,2,    183.6,2,    182.3,2,     7.26,2,    15.44,   2,     0.82,2,   -999.0,9,   7.7950,2,    25.00,  11.4935
  35TH20040604, OVIDE,   111,  1,     22,     22,2,20040702,2040, 40.3350, -10.2980, 3963,    496.2,  11.4590,  35.6780,2,  35.6820,2,    195.4,2,    191.5,2,     6.10,2,    14.94,   2,     0.77,2,   -999.0,9,   7.7920,2,    25.00,  11.3949
  35TH20040604, OVIDE,   111,  1,     23,     23,2,20040702,2040, 40.3350, -10.2980, 3963,    447.4,  11.3410,  35.5920,2,  35.5920,2,    206.3,2,    201.7,2,     5.42,2,    14.21,   2,     0.75,2,   -999.0,9,   7.7910,2,    25.00,  11.2837
  35TH20040604, OVIDE,   111,  1,     24,     24,2,20040702,2040, 40.3350, -10.2980, 3963,    296.8,  12.1480,  35.6480,2,  35.6450,2,    219.2,2,    222.2,2,     3.53,2,    10.43,   2,     0.54,2,   -999.0,9,   7.8390,2,    25.00,  12.1085
  35TH20040604, OVIDE,   111,  1,     25,     25,2,20040702,2040, 40.3350, -10.2980, 3963,    196.4,  12.8170,  35.7320,2,  35.7350,2,    226.8,2,    235.9,2,     2.25,2,     6.60,   2,     0.34,2,   -999.0,9,   7.8760,2,    25.00,  12.7900
  35TH20040604, OVIDE,   111,  1,     26,     26,2,20040702,2040, 40.3350, -10.2980, 3963,    148.5,  13.5300,  35.8440,2,  35.8410,2,    238.2,2,    233.2,2,     1.93,2,     5.30,   2,     0.27,2,   -999.0,9,   7.8910,2,    25.00,  13.5089
  35TH20040604, OVIDE,   111,  1,     27,     27,2,20040702,2040, 40.3350, -10.2980, 3963,     95.6,  14.0340,  35.9170,2,  35.9180,2,    235.8,2,    234.0,2,     1.60,2,     3.89,   2,     0.21,2,   -999.0,9,   7.9100,2,    25.00,  14.0201
  35TH20040604, OVIDE,   111,  1,     28,     28,2,20040702,2040, 40.3350, -10.2980, 3963,     45.5,  15.0400,  35.8810,2,  35.8760,2,    269.2,2,    268.4,2,     0.92,2,     0.00,   2,     0.03,2,   -999.0,9,   7.9660,2,    25.00,  15.0331
  35TH20040604, OVIDE,   111,  1,     29,     29,2,20040702,2040, 40.3350, -10.2980, 3963,      4.0,  19.9910,  35.9010,2,  35.9000,2,    225.7,2,    231.7,2,     0.88,2,     0.00,   2,     0.01,2,   -999.0,9,   7.9940,2,    25.00,  19.9903
  35TH20040604, OVIDE,   111,  1,     30,     30,2,20040702,2040, 40.3350, -10.2980, 3963,      4.3,  19.9970,  35.9000,2,-999.0,9,    225.7,2,    231.6,2,     0.92,2,     0.00,   2,     0.02,2,   -999.0,9,   7.9930,2,    25.00,  19.9962
  35TH20040604, OVIDE,   112,  1,      3,      3,2,20040703,0121, 40.3330, -10.0320, 3600,   3587.2,   2.5300,  34.9150,2,  34.9140,2,    242.1,2,    241.7,2,    42.51,2,    21.31,   2,     1.20,2,   2349.1,2,   7.7290,2,    25.00,   2.2272
  35TH20040604, OVIDE,   112,  1,      4,      4,2,20040703,0121, 40.3330, -10.0320, 3600,   3396.7,   2.5990,  34.9230,2,  34.9230,2,    242.6,2,    242.9,2,    40.61,2,    21.26,   2,     1.21,2,   2345.5,2,   7.7310,2,    25.00,   2.3152
  35TH20040604, OVIDE,   112,  1,      5,      5,2,20040703,0121, 40.3330, -10.0320, 3600,   3196.5,   2.7000,  34.9350,2,  34.9400,2,    243.1,2,    244.2,2,    37.69,2,    20.86,   2,     1.20,2,   2344.0,2,   7.7300,2,    25.00,   2.4351
  35TH20040604, OVIDE,   112,  1,      6,      6,2,20040703,0121, 40.3330, -10.0320, 3600,   2998.2,   2.8440,  34.9500,2,  34.9500,2,    245.3,2,    245.1,2,    35.65,2,    21.20,   2,     1.27,2,   2339.8,2,   7.7310,2,    25.00,   2.5967
  35TH20040604, OVIDE,   112,  1,      7,      7,2,20040703,0121, 40.3330, -10.0320, 3600,   2795.7,   3.0380,  34.9710,2,  34.9730,2,    246.0,2,    245.4,2,    32.43,2,    20.58,   2,     1.24,2,   2336.6,2,   7.7330,2,    25.00,   2.8075
  35TH20040604, OVIDE,   112,  1,      8,      8,2,20040703,0121, 40.3330, -10.0320, 3600,   2598.4,   3.2630,  34.9960,2,  34.9990,2,    246.8,2,    246.0,2,    29.36,2,    20.36,   2,     1.24,2,   2333.9,2,   7.7290,2,    25.00,   3.0481
  35TH20040604, OVIDE,   112,  1,      9,      9,2,20040703,0121, 40.3330, -10.0320, 3600,   2396.6,   3.5760,  35.0300,2,  35.0310,2,    247.5,2,    246.5,2,    25.71,2,    19.85,   2,     1.20,2,   2330.9,2,   7.7350,2,    25.00,   3.3756
  35TH20040604, OVIDE,   112,  1,     10,     10,2,20040703,0121, 40.3330, -10.0320, 3600,   2196.4,   3.9130,  35.0610,2,  35.0640,2,    247.2,2,    248.5,2,    19.48,2,    19.29,   2,     1.14,2,   2326.9,2,   7.7360,2,    25.00,   3.7270
  35TH20040604, OVIDE,   112,  1,     11,     11,2,20040703,0121, 40.3330, -10.0320, 3600,   1996.7,   4.5360,  35.1450,2,  35.1480,2,    244.3,2,    245.1,2,    16.59,2,    18.39,   2,     1.05,2,   2327.6,2,   7.7410,2,    25.00,   4.3603
  35TH20040604, OVIDE,   112,  1,     12,     12,2,20040703,0121, 40.3330, -10.0320, 3600,   1797.5,   5.6790,  35.3240,2,  35.3270,2,    234.2,2,    233.4,2,    14.02,2,    18.34,   2,     1.07,2,   2336.6,2,   7.7460,2,    25.00,   5.5078
  35TH20040604, OVIDE,   112,  1,     13,     13,2,20040703,0121, 40.3330, -10.0320, 3600,   1796.2,   5.7070,  35.3270,2,  35.3270,2,    233.9,2,    234.5,2,    14.11,2,    18.05,   2,     1.03,2,   2337.3,2,   7.7460,2,    25.00,   5.5356
  35TH20040604, OVIDE,   112,  1,     14,     14,2,20040703,0121, 40.3330, -10.0320, 3600,   1596.0,   7.3910,  35.5970,2,  35.6000,2,    217.2,2,    216.7,2,    11.95,2,    17.49,   2,     0.97,2,   2354.6,2,   7.7580,2,    25.00,   7.2208
  35TH20040604, OVIDE,   112,  1,     15,     15,2,20040703,0121, 40.3330, -10.0320, 3600,   1396.2,   9.4730,  35.9710,2,  35.9770,2,    195.4,2,    196.3,2,    10.28,2,    16.25,   2,     0.90,2,   2380.2,2,   7.7800,2,    25.00,   9.3045
  35TH20040604, OVIDE,   112,  1,     16,     16,2,20040703,0121, 40.3330, -10.0320, 3600,   1126.7,  11.2980,  36.2630,2,  36.2420,3,    182.0,2,    181.4,2,     8.53,2,    14.57,   2,     0.68,3,   2399.6,2,   7.8000,2,    25.00,  11.1490
  35TH20040604, OVIDE,   112,  1,     17,     17,2,20040703,0121, 40.3330, -10.0320, 3600,   1016.2,  11.2540,  36.1840,2,  36.1830,2,    181.4,2,    181.4,2,     8.49,2,    15.46,   2,     0.80,2,   2390.3,2,   7.7960,2,    25.00,  11.1206
  35TH20040604, OVIDE,   112,  1,     18,     18,2,20040703,0121, 40.3330, -10.0320, 3600,    825.1,  11.4760,  36.0800,2,  36.0790,2,    182.0,2,    182.2,2,     7.80,2,    15.30,   2,     0.80,2,   2379.9,2,   7.7930,2,    25.00,  11.3674
  35TH20040604, OVIDE,   112,  1,     19,     19,2,20040703,0121, 40.3330, -10.0320, 3600,    645.3,  11.4930,  35.8870,2,  35.8870,2,    183.7,2,    182.8,2,     7.31,2,    15.08,   2,     0.74,2,   2365.0,2,   7.7910,2,    25.00,  11.4088
  35TH20040604, OVIDE,   112,  1,     20,     20,2,20040703,0121, 40.3330, -10.0320, 3600,    536.4,  11.6790,  35.7860,2,  35.7880,2,    189.6,2,    188.4,2,     6.83,2,    14.91,   2,     0.78,2,   2352.0,2,   7.7940,2,    25.00,  11.6087
  35TH20040604, OVIDE,   112,  1,     21,     21,2,20040703,0121, 40.3330, -10.0320, 3600,    396.8,  11.7240,  35.6540,2,  35.6530,2,    195.7,2,    197.8,2,     6.38,2,    14.29,   2,     0.71,2,   2340.4,2,   7.7910,2,    25.00,  11.6722
  35TH20040604, OVIDE,   112,  1,     22,     22,2,20040703,0121, 40.3330, -10.0320, 3600,    295.6,  12.1560,  35.6590,2,  35.6590,2,    209.7,2,    209.8,2,     4.14,2,    11.83,   2,     0.59,2,   2339.0,2,   7.8180,2,    25.00,  12.1167
  35TH20040604, OVIDE,   112,  1,     23,     23,2,20040703,0121, 40.3330, -10.0320, 3600,    195.8,  12.8620,  35.7410,2,  35.7410,2,    215.4,2,    215.4,2,     3.25,2,     9.08,   2,     0.40,2,   2342.1,2,   7.8430,2,    25.00,  12.8351
  35TH20040604, OVIDE,   112,  1,     24,     24,2,20040703,0121, 40.3330, -10.0320, 3600,    147.2,  13.3930,  35.8250,2,  35.8090,3,    229.6,2,    227.4,2,     2.32,2,     6.45,   2,     0.32,2,   -999.0,9,   7.8800,2,    25.00,  13.3722
  35TH20040604, OVIDE,   112,  1,     25,     25,2,20040703,0121, 40.3330, -10.0320, 3600,    106.9,  13.8960,  35.8920,2,  35.8910,2,    238.4,2,    238.4,2,     1.58,2,     3.36,   2,     0.18,2,   2353.4,2,   7.9100,2,    25.00,  13.8805
  35TH20040604, OVIDE,   112,  1,     26,     26,2,20040703,0121, 40.3330, -10.0320, 3600,     56.3,  14.8550,  35.8880,2,  35.9070,3,    259.8,2,    262.2,2,     1.10,2,     0.00,   2,     0.02,2,   -999.0,9,   7.9650,2,    25.00,  14.8465
  35TH20040604, OVIDE,   112,  1,     27,     27,2,20040703,0121, 40.3330, -10.0320, 3600,      4.8,  19.7220,  35.7620,2,  35.7640,2,    228.4,2,    234.8,2,     0.85,2,     0.11,   2,     0.02,2,   2349.5,2,   8.0030,2,    25.00,  19.7211
  35TH20040604, OVIDE,   113,  1,      3,      3,2,20040703,0529, 40.3320,  -9.9430, 3438,   3424.2,   2.5790,  34.9220,2,  34.9190,2,    243.3,2,    243.1,2,    40.76,2,    22.58,   2,  -999.00,9,   -999.0,9,   7.7310,2,    25.00,   2.2928
  35TH20040604, OVIDE,   113,  1,      4,      4,2,20040703,0529, 40.3320,  -9.9430, 3438,   3247.5,   2.6550,  34.9310,2,  34.9250,2,    243.7,2,    243.5,2,    38.86,2,    22.12,   2,  -999.00,9,   -999.0,9,   7.7320,2,    25.00,   2.3858
  35TH20040604, OVIDE,   113,  1,      5,      5,2,20040703,0529, 40.3320,  -9.9430, 3438,   2995.2,   2.8280,  34.9500,2,  34.9580,2,    243.6,2,    244.1,2,    35.35,2,    21.77,   2,  -999.00,9,   -999.0,9,   7.7320,2,    25.00,   2.5813
  35TH20040604, OVIDE,   113,  1,      6,      6,2,20040703,0529, 40.3320,  -9.9430, 3438,   2745.4,   3.0840,  34.9770,2,  34.9730,2,    245.0,2,    246.0,2,    31.70,2,    21.36,   2,  -999.00,9,   -999.0,9,   7.7330,2,    25.00,   2.8577
  35TH20040604, OVIDE,   113,  1,      7,      7,2,20040703,0529, 40.3320,  -9.9430, 3438,   2496.5,   3.3750,  35.0100,2,  35.0070,2,    246.4,2,    245.9,2,    28.05,2,    20.90,   2,  -999.00,9,   -999.0,9,   7.7340,2,    25.00,   3.1683
  35TH20040604, OVIDE,   113,  1,      8,      8,2,20040703,0529, 40.3320,  -9.9430, 3438,   2246.1,   3.9180,  35.0750,2,  35.0700,2,    246.7,2,    245.0,2,    23.08,2,    20.09,   2,  -999.00,9,   -999.0,9,   7.7360,2,    25.00,   3.7269
  35TH20040604, OVIDE,   113,  1,      9,      9,2,20040703,0529, 40.3320,  -9.9430, 3438,   1996.6,   4.3640,  35.1150,2,  35.1140,2,    247.1,2,    246.7,2,    16.76,2,    19.34,   2,  -999.00,9,   -999.0,9,   7.7400,2,    25.00,   4.1910
  35TH20040604, OVIDE,   113,  1,     10,     10,2,20040703,0529, 40.3320,  -9.9430, 3438,   1995.8,   4.3580,  35.1120,2,  35.1150,2,    247.1,2,    246.8,2,    16.84,2,    19.28,   2,  -999.00,9,   -999.0,9,   7.7370,2,    25.00,   4.1851
  35TH20040604, OVIDE,   113,  1,     11,     11,2,20040703,0529, 40.3320,  -9.9430, 3438,   1793.9,   5.3120,  35.2490,2,  35.2480,2,    237.0,2,    239.2,2,    13.84,2,    18.82,   2,  -999.00,9,   -999.0,9,   7.7430,2,    25.00,   5.1462
  35TH20040604, OVIDE,   113,  1,     12,     12,2,20040703,0529, 40.3320,  -9.9430, 3438,   1593.9,   7.2600,  35.5720,2,  35.5710,2,    217.3,2,    217.0,2,    11.94,2,    17.49,   2,  -999.00,9,   -999.0,9,   7.7600,2,    25.00,   7.0916
  35TH20040604, OVIDE,   113,  1,     13,     13,2,20040703,0529, 40.3320,  -9.9430, 3438,   1396.5,   9.4050,  35.9530,2,  35.9460,2,    194.5,2,    195.5,2,    10.24,2,    17.20,   2,  -999.00,9,   -999.0,9,   7.7780,2,    25.00,   9.2372
  35TH20040604, OVIDE,   113,  1,     14,     14,2,20040703,0529, 40.3320,  -9.9430, 3438,   1316.5,  10.6690,  36.1890,2,  36.2200,3,    184.6,2,    184.5,2,     9.14,2,    16.15,   2,  -999.00,9,   -999.0,9,   7.7970,2,    25.00,  10.4994
  35TH20040604, OVIDE,   113,  1,     15,     15,2,20040703,0529, 40.3320,  -9.9430, 3438,   1196.9,  11.1510,  36.2510,2,  36.2500,2,    182.6,2,    181.7,2,     8.66,2,    15.75,   2,  -999.00,9,   -999.0,9,   7.8010,2,    25.00,  10.9935
  35TH20040604, OVIDE,   113,  1,     16,     16,2,20040703,0529, 40.3320,  -9.9430, 3438,    996.3,  11.4330,  36.2110,2,  36.2090,2,    180.4,2,    181.0,2,     8.17,2,    15.63,   2,  -999.00,9,   -999.0,9,   7.8030,2,    25.00,  11.3011
  35TH20040604, OVIDE,   113,  1,     17,     17,2,20040703,0529, 40.3320,  -9.9430, 3438,    894.5,  11.5430,  36.1860,2,  36.1860,2,    180.3,2,    181.6,2,     7.93,2,    15.35,   2,  -999.00,9,   -999.0,9,   7.8070,2,    25.00,  11.4244
  35TH20040604, OVIDE,   113,  1,     18,     18,2,20040703,0529, 40.3320,  -9.9430, 3438,    796.0,  11.5850,  36.1110,2,  36.1090,2,    181.7,2,    181.9,2,     7.65,2,    15.46,   2,  -999.00,9,   -999.0,9,   7.8040,2,    25.00,  11.4797
  35TH20040604, OVIDE,   113,  1,     19,     19,2,20040703,0529, 40.3320,  -9.9430, 3438,    594.8,  11.4790,  35.8720,2,  35.8750,2,    185.1,2,    182.6,2,     7.28,2,    16.04,   2,  -999.00,9,   -999.0,9,   7.7900,2,    25.00,  11.4016
  35TH20040604, OVIDE,   113,  1,     20,     20,2,20040703,0529, 40.3320,  -9.9430, 3438,    496.9,  11.6090,  35.7720,2,  35.7730,2,    187.8,2,    187.5,2,     6.39,2,    15.47,   2,  -999.00,9,   -999.0,9,   7.7930,2,    25.00,  11.5442
  35TH20040604, OVIDE,   113,  1,     21,     21,2,20040703,0529, 40.3320,  -9.9430, 3438,    396.1,  11.6740,  35.6780,2,  35.6770,2,    194.6,2,    193.5,2,     5.58,2,    14.89,   2,  -999.00,9,   -999.0,9,   7.7930,2,    25.00,  11.6224
  35TH20040604, OVIDE,   113,  1,     22,     22,2,20040703,0529, 40.3320,  -9.9430, 3438,    298.1,  11.9920,  35.6600,2,  35.6580,2,    203.9,2,    201.6,2,     4.70,2,    13.22,   2,  -999.00,9,   -999.0,9,   7.8080,2,    25.00,  11.9527
  35TH20040604, OVIDE,   113,  1,     23,     23,2,20040703,0529, 40.3320,  -9.9430, 3438,    195.0,  12.8790,  35.7480,2,  35.7470,2,    208.1,2,    210.7,2,     3.44,2,    10.27,   2,  -999.00,9,   -999.0,9,   7.8420,2,    25.00,  12.8522
  35TH20040604, OVIDE,   113,  1,     24,     24,2,20040703,0529, 40.3320,  -9.9430, 3438,    146.8,  13.2990,  35.8000,2,  35.7980,2,    217.6,2,    219.4,2,     2.71,2,     7.73,   2,  -999.00,9,   -999.0,9,   7.8690,2,    25.00,  13.2784
  35TH20040604, OVIDE,   113,  1,     25,     25,2,20040703,0529, 40.3320,  -9.9430, 3438,     96.7,  13.6580,  35.8130,2,  35.8200,3,    217.8,2,    222.1,2,     1.78,2,     4.90,   2,  -999.00,9,   -999.0,9,   7.8830,2,    25.00,  13.6442
  35TH20040604, OVIDE,   113,  1,     26,     26,2,20040703,0529, 40.3320,  -9.9430, 3438,     47.1,  14.9840,  35.7970,2,  35.8130,3,    254.5,2,    253.9,2,     0.97,2,     0.00,   2,  -999.00,9,   -999.0,9,   7.9490,2,    25.00,  14.9769
  35TH20040604, OVIDE,   113,  1,     27,     27,2,20040703,0529, 40.3320,  -9.9430, 3438,      4.9,  19.5060,  35.7030,2,  35.7030,2,    232.8,2,    236.3,2,     0.69,2,     0.00,   2,  -999.00,9,   -999.0,9,   8.0110,2,    25.00,  19.5051