BOTTLE,20220120SIOCCHENA
EXPOCODE,SECT_ID,STNNBR,CASTNO,SAMPNO,BTLNBR,BTLNBR_FLAG_W,DATE,TIME,LATITUDE,LONGITUDE,DEPTH,CTDPRS,CTDTMP,CTDSAL,CTDSAL_FLAG_W,SALNTY,SALNTY_FLAG_W,CTDOXY,CTDOXY_FLAG_W,OXYGEN,OXYGEN_FLAG_W,SILCAT,SILCAT_FLAG_W,NITRAT,NITRAT_FLAG_W,PHSPHT,PHSPHT_FLAG_W,ALKALI,ALKALI_FLAG_W,PH_SWS,PH_SWS_FLAG_W,PH_TMP,THETA
,,,,,,,,,,,METERS,DBAR,ITS-90,PSS-78,,PSS-78,,UMOL/KG,,UMOL/KG,,UMOL/KG,,UMOL/KG,,UMOL/KG,,UMOL/KG,,,,DEG C,DEG C
  35TH20040604, OVIDE,    75,  1,      3,      3,2,20040624,0842, 49.1580, -21.7320, 4421,   4409.0,   2.5600,  34.9070,2,  34.9060,2,    241.3,2,    224.9,3,    44.74,2,    22.75,   2,     1.34,2,   2355.1,2,   7.7280,2,    25.00,   2.1618
  35TH20040604, OVIDE,    75,  1,      4,      4,2,20040624,0842, 49.1580, -21.7320, 4421,   3996.2,   2.5920,  34.9140,2,  34.9140,2,    244.2,2,    242.9,2,    41.74,2,    21.84,   2,     1.25,2,   2349.0,2,   7.7300,2,    25.00,   2.2415
  35TH20040604, OVIDE,    75,  1,      5,      5,2,20040624,0842, 49.1580, -21.7320, 4421,   3748.4,   2.6190,  34.9190,2,  34.9220,2,    245.7,2,    245.1,2,    39.46,2,    21.73,   2,     1.27,2,   2345.7,2,   7.7320,2,    25.00,   2.2960
  35TH20040604, OVIDE,    75,  1,      6,      6,2,20040624,0842, 49.1580, -21.7320, 4421,   3496.8,   2.6800,  34.9270,2,  34.9280,2,    248.5,2,    248.9,2,    35.62,2,    21.19,   2,     1.21,2,   2339.7,2,   7.7300,2,    25.00,   2.3833
  35TH20040604, OVIDE,    75,  1,      7,      7,2,20040624,0842, 49.1580, -21.7320, 4421,   3246.7,   2.7660,  34.9360,2,  34.9370,2,    253.1,2,    247.1,3,    31.06,2,    20.27,   2,     1.17,2,   2333.0,2,   7.7310,2,    25.00,   2.4943
  35TH20040604, OVIDE,    75,  1,      8,      8,2,20040624,0842, 49.1580, -21.7320, 4421,   2995.7,   2.8820,  34.9410,2,  34.9410,2,    256.7,2,    258.3,2,    26.50,2,    19.52,   2,     1.11,2,   2327.2,2,   7.7310,2,    25.00,   2.6342
  35TH20040604, OVIDE,    75,  1,      9,      9,2,20040624,0842, 49.1580, -21.7320, 4421,   2745.5,   3.0210,  34.9420,2,  34.9460,2,    261.0,2,    275.7,3,    21.08,2,    18.55,   2,     1.04,2,   2318.4,2,   7.7310,2,    25.00,   2.7960
  35TH20040604, OVIDE,    75,  1,     10,     10,2,20040624,0842, 49.1580, -21.7320, 4421,   2496.0,   3.1440,  34.9340,2,  34.9340,2,    268.8,2,    269.1,2,    15.90,2,    17.79,   2,     1.01,2,   2311.9,2,   7.7300,2,    25.00,   2.9418
  35TH20040604, OVIDE,    75,  1,     11,     11,2,20040624,0842, 49.1580, -21.7320, 4421,   2230.4,   3.2190,  34.9070,2,  34.9070,2,    275.4,2,    277.2,2,    12.67,2,    18.12,   2,     0.98,2,   2305.3,2,   7.7280,2,    25.00,   3.0415
  35TH20040604, OVIDE,    75,  1,     12,     12,2,20040624,0842, 49.1580, -21.7320, 4421,   1995.8,   3.3390,  34.9010,2,  34.9050,2,    277.6,2,    276.6,2,    12.20,2,    17.85,   2,     0.96,2,   2305.0,2,   7.7260,2,    25.00,   3.1819
  35TH20040604, OVIDE,    75,  1,     13,     13,2,20040624,0842, 49.1580, -21.7320, 4421,   1795.3,   3.5250,  34.9070,2,  34.9080,2,    274.0,2,    282.3,3,    11.80,2,    18.60,   2,     1.00,2,   2303.9,2,   7.7260,2,    25.00,   3.3838
  35TH20040604, OVIDE,    75,  1,     14,     14,2,20040624,0842, 49.1580, -21.7320, 4421,   1595.7,   3.8370,  34.9320,2,  34.9330,2,    266.8,2,    266.8,2,    11.61,2,    18.60,   2,     1.02,2,   2304.7,2,   7.7210,2,    25.00,   3.7100
  35TH20040604, OVIDE,    75,  1,     15,     15,2,20040624,0842, 49.1580, -21.7320, 4421,   1395.7,   4.2970,  34.9760,2,  34.9770,2,    259.3,2,    258.0,2,    11.33,2,    19.09,   2,     1.03,2,   2309.1,2,   7.7210,2,    25.00,   4.1831
  35TH20040604, OVIDE,    75,  1,     16,     16,2,20040624,0842, 49.1580, -21.7320, 4421,   1194.0,   5.2060,  35.0900,2,  35.0910,2,    241.2,2,    240.7,2,    11.29,2,    19.08,   2,     1.02,2,   2318.1,2,   7.7220,2,    25.00,   5.1019
  35TH20040604, OVIDE,    75,  1,     17,     17,2,20040624,0842, 49.1580, -21.7320, 4421,    956.8,   6.8450,  35.2770,2,  35.2750,2,    215.2,2,    215.0,2,    11.09,2,    19.19,   2,     1.04,2,   2333.5,2,   7.7280,2,    25.00,   6.7512
  35TH20040604, OVIDE,    75,  1,     18,     18,2,20040624,0842, 49.1580, -21.7320, 4421,    896.1,   6.4600,  35.1530,2,  35.1370,3,    215.0,2,    207.1,3,    11.33,2,    19.62,   2,     1.09,2,   2321.4,2,   7.7140,2,    25.00,   6.3752
  35TH20040604, OVIDE,    75,  1,     19,     19,2,20040624,0842, 49.1580, -21.7320, 4421,    796.1,   7.5580,  35.2520,2,  35.2570,2,    198.0,2,    200.8,2,    11.02,2,    19.73,   2,     1.08,2,   2328.7,2,   7.7240,2,    25.00,   7.4766
  35TH20040604, OVIDE,    75,  1,     20,     20,2,20040624,0842, 49.1580, -21.7320, 4421,    696.1,   7.8670,  35.1870,2,  35.1890,2,    199.0,2,    197.0,2,    10.82,2,    19.84,   2,     1.09,2,   -999.0,9,   7.7190,2,    25.00,   7.7948
  35TH20040604, OVIDE,    75,  1,     21,     21,2,20040624,0842, 49.1580, -21.7320, 4421,    596.1,   8.6430,  35.1930,2,  35.1870,2,    197.1,2,    193.2,2,     9.95,2,    19.51,   2,     1.05,2,   2323.1,2,   7.7330,2,    25.00,   8.5781
  35TH20040604, OVIDE,    75,  1,     22,     22,2,20040624,0842, 49.1580, -21.7320, 4421,    496.4,   9.6200,  35.2690,2,  35.2670,2,    201.9,2,    211.8,3,     8.18,2,    17.25,   2,     0.89,2,   2323.8,2,-999.0000,9,  -999.00,   9.5627
  35TH20040604, OVIDE,    75,  1,     23,     23,2,20040624,0842, 49.1580, -21.7320, 4421,    496.4,   9.6440,  35.2730,2,  35.2710,2,    201.9,2,    212.8,3,     8.14,2,    17.63,   2,     0.91,2,   -999.0,9,   7.7660,2,    25.00,   9.5866
  35TH20040604, OVIDE,    75,  1,     24,     24,2,20040624,0842, 49.1580, -21.7320, 4421,    396.3,  10.5600,  35.3840,2,  35.3860,2,    223.9,2,    223.9,2,     6.29,2,    14.77,   2,     0.75,2,   2328.2,2,   7.8030,2,    25.00,  10.5117
  35TH20040604, OVIDE,    75,  1,     25,     25,2,20040624,0842, 49.1580, -21.7320, 4421,    295.9,  11.2960,  35.4910,2,  35.4930,2,    247.1,2,    235.4,3,     5.04,2,    12.66,   2,     0.64,2,   2332.8,2,   7.8330,2,    25.00,  11.2585
  35TH20040604, OVIDE,    75,  1,     26,     26,2,20040624,0842, 49.1580, -21.7320, 4421,    195.7,  11.8740,  35.5760,2,  35.5800,2,    234.9,2,    244.7,3,     4.17,2,    11.42,   2,     0.55,2,   2337.9,2,   7.8540,2,    25.00,  11.8485
  35TH20040604, OVIDE,    75,  1,     27,     27,2,20040624,0842, 49.1580, -21.7320, 4421,    146.4,  12.1080,  35.5980,2,  35.5980,2,    237.7,2,    236.7,3,     3.19,2,    10.02,   2,     0.50,2,   -999.0,9,   7.8700,2,    25.00,  12.0887
  35TH20040604, OVIDE,    75,  1,     28,     28,2,20040624,0842, 49.1580, -21.7320, 4421,     97.1,  12.7940,  35.7130,2,  35.7170,2,    233.4,2,    245.0,3,     2.75,2,     8.57,   2,     0.48,2,   2343.7,2,   7.8850,2,    25.00,  12.7807
  35TH20040604, OVIDE,    75,  1,     29,     29,2,20040624,0842, 49.1580, -21.7320, 4421,     46.4,  13.9980,  35.7770,2,  35.7860,3,    250.0,2,    257.5,3,     1.26,2,     4.74,   2,     0.26,2,   -999.0,9,   7.9320,2,    25.00,  13.9913
  35TH20040604, OVIDE,    75,  1,     30,     30,2,20040624,0842, 49.1580, -21.7320, 4421,      4.5,  16.6810,  35.6990,2,  35.7020,2,    248.4,2,    257.8,3,     0.39,2,     0.65,   2,     0.04,2,   2369.9,2,   8.0080,2,    25.00,  16.6803
  35TH20040604, OVIDE,    76,  1,      3,      3,2,20040624,1403, 48.7880, -21.4310, 4144,   4131.4,   2.5290,  34.9070,2,  34.9030,2,    240.2,2,    240.0,2,    45.16,2,    22.77,   2,     1.31,2,   -999.0,9,   7.7290,2,    25.00,   2.1646
  35TH20040604, OVIDE,    76,  1,      4,      4,2,20040624,1403, 48.7880, -21.4310, 4144,   3996.6,   2.5310,  34.9090,2,  34.9030,2,    241.0,2,    240.3,2,    44.31,2,    22.88,   2,     1.34,2,   -999.0,9,   7.7290,2,    25.00,   2.1822
  35TH20040604, OVIDE,    76,  1,      5,      5,2,20040624,1403, 48.7880, -21.4310, 4144,   3745.9,   2.5370,  34.9120,2,  34.9080,2,    241.9,2,    242.0,2,    43.02,2,    22.66,   2,     1.28,2,   -999.0,9,   7.7290,2,    25.00,   2.2165
  35TH20040604, OVIDE,    76,  1,      6,      6,2,20040624,1403, 48.7880, -21.4310, 4144,   3496.4,   2.5630,  34.9170,2,  34.9120,2,    242.9,2,    243.2,2,    41.03,2,    22.50,   2,     1.28,2,   -999.0,9,   7.7310,2,    25.00,   2.2694
  35TH20040604, OVIDE,    76,  1,      7,      7,2,20040624,1403, 48.7880, -21.4310, 4144,   3496.8,   2.5630,  34.9170,2,  34.9150,2,    242.9,2,    244.3,2,    40.89,2,    22.50,   2,     1.31,2,   -999.0,9,   7.7310,2,    25.00,   2.2693
  35TH20040604, OVIDE,    76,  1,      8,      8,2,20040624,1403, 48.7880, -21.4310, 4144,   3247.2,   2.6570,  34.9270,2,  34.9250,2,    247.2,2,    248.8,2,    35.76,2,    21.47,   2,     1.22,2,   -999.0,9,   7.7320,2,    25.00,   2.3878
  35TH20040604, OVIDE,    76,  1,      9,      9,2,20040624,1403, 48.7880, -21.4310, 4144,   2996.1,   2.7950,  34.9370,2,  34.9370,2,    253.1,2,    255.2,2,    29.49,2,    20.22,   2,     1.13,2,   -999.0,9,   7.7320,2,    25.00,   2.5490
  35TH20040604, OVIDE,    76,  1,     10,     10,2,20040624,1403, 48.7880, -21.4310, 4144,   2746.9,   2.9240,  34.9430,2,  34.9390,2,    256.6,2,    259.2,2,    24.65,2,    19.30,   2,     1.09,2,   -999.0,9,   7.7290,2,    25.00,   2.7009
  35TH20040604, OVIDE,    76,  1,     11,     11,2,20040624,1403, 48.7880, -21.4310, 4144,   2496.2,   3.0820,  34.9380,2,  34.9370,2,    266.1,2,    266.7,2,    17.64,2,    18.43,   2,     1.04,2,   -999.0,9,   7.7310,2,    25.00,   2.8809
  35TH20040604, OVIDE,    76,  1,     12,     12,2,20040624,1403, 48.7880, -21.4310, 4144,   2244.5,   3.1680,  34.9210,2,  34.9120,2,    274.6,2,    274.0,2,    13.98,2,    17.73,   2,     1.00,2,   -999.0,9,   7.7310,2,    25.00,   2.9900
  35TH20040604, OVIDE,    76,  1,     13,     13,2,20040624,1403, 48.7880, -21.4310, 4144,   1995.6,   3.2890,  34.9080,2,  34.9020,2,    273.6,2,    277.8,2,    12.84,2,    17.84,   2,     1.00,2,   -999.0,9,   7.7290,2,    25.00,   3.1326
  35TH20040604, OVIDE,    76,  1,     14,     14,2,20040624,1403, 48.7880, -21.4310, 4144,   1796.5,   3.4510,  34.9060,2,  34.9010,2,    273.6,2,    275.4,2,    11.94,2,    17.89,   2,     1.01,2,   -999.0,9,   7.7280,2,    25.00,   3.3107
  35TH20040604, OVIDE,    76,  1,     15,     15,2,20040624,1403, 48.7880, -21.4310, 4144,   1596.0,   3.6530,  34.9150,2,  34.9120,2,    271.4,2,    271.6,2,    11.36,2,    18.54,   2,     1.02,2,   -999.0,9,   7.7260,2,    25.00,   3.5283
  35TH20040604, OVIDE,    76,  1,     16,     16,2,20040624,1403, 48.7880, -21.4310, 4144,   1395.1,   4.0600,  34.9510,2,  34.9560,2,    259.8,2,    262.1,2,    11.16,2,    18.76,   2,     1.02,2,   -999.0,9,   7.7190,2,    25.00,   3.9487
  35TH20040604, OVIDE,    76,  1,     17,     17,2,20040624,1403, 48.7880, -21.4310, 4144,   1196.7,   4.7660,  35.0230,2,  35.0240,2,    247.0,2,    261.5,3,    11.16,2,    19.08,   2,     1.04,2,   -999.0,9,   7.7170,2,    25.00,   4.6657
  35TH20040604, OVIDE,    76,  1,     18,     18,2,20040624,1403, 48.7880, -21.4310, 4144,    995.8,   6.2800,  35.2140,2,  35.2160,2,    226.2,2,    223.5,2,    11.20,2,    19.35,   2,     1.04,2,   -999.0,9,   7.7250,2,    25.00,   6.1863
  35TH20040604, OVIDE,    76,  1,     19,     19,2,20040624,1403, 48.7880, -21.4310, 4144,    896.3,   6.0170,  35.0970,2,  35.1100,3,    223.9,2,    223.0,2,    11.32,2,    19.57,   2,     1.11,2,   -999.0,9,   7.7140,2,    25.00,   5.9352
  35TH20040604, OVIDE,    76,  1,     20,     20,2,20040624,1403, 48.7880, -21.4310, 4144,    795.7,   6.7560,  35.1600,2,  35.1630,2,    208.1,2,    210.8,2,    11.32,2,    19.73,   2,     1.14,2,   -999.0,9,   7.7130,2,    25.00,   6.6795
  35TH20040604, OVIDE,    76,  1,     21,     21,2,20040624,1403, 48.7880, -21.4310, 4144,    696.4,   7.5690,  35.2070,2,  35.2050,2,    199.4,2,    200.0,2,    11.08,2,    19.84,   2,     1.09,2,   -999.0,9,   7.7220,2,    25.00,   7.4982
  35TH20040604, OVIDE,    76,  1,     22,     22,2,20040624,1403, 48.7880, -21.4310, 4144,    596.9,   8.1830,  35.1760,2,  35.1840,2,    195.1,2,    195.8,2,    10.58,2,    19.73,   2,     1.09,2,   -999.0,9,   7.7230,2,    25.00,   8.1200
  35TH20040604, OVIDE,    76,  1,     23,     23,2,20040624,1403, 48.7880, -21.4310, 4144,    495.7,   9.2430,  35.2430,2,  35.2430,2,    201.8,2,    201.0,2,     9.05,2,    18.38,   2,     0.98,2,   -999.0,9,   7.7440,2,    25.00,   9.1871
  35TH20040604, OVIDE,    76,  1,     24,     24,2,20040624,1403, 48.7880, -21.4310, 4144,    396.6,  10.0500,  35.3190,2,  35.3160,2,    217.2,2,    214.0,2,     7.34,2,    16.42,   2,     0.87,2,   -999.0,9,   7.7780,2,    25.00,  10.0032
  35TH20040604, OVIDE,    76,  1,     25,     25,2,20040624,1403, 48.7880, -21.4310, 4144,    296.8,  10.9810,  35.4400,2,  35.4420,2,    227.6,2,    230.3,2,     5.54,2,    13.50,   2,     0.69,2,   -999.0,9,   7.8170,2,    25.00,  10.9441
  35TH20040604, OVIDE,    76,  1,     26,     26,2,20040624,1403, 48.7880, -21.4310, 4144,    196.5,  11.6990,  35.5520,2,  35.5520,2,    241.0,2,    239.5,2,     4.37,2,    11.27,   2,     0.56,2,   -999.0,9,-999.0000,9,  -999.00,  11.6736
  35TH20040604, OVIDE,    76,  1,     27,     27,2,20040624,1403, 48.7880, -21.4310, 4144,    146.3,  11.9590,  35.5830,2,  35.5930,3,    243.4,2,    244.4,2,     3.59,2,    10.02,   2,     0.50,2,   -999.0,9,   7.8650,2,    25.00,  11.9399
  35TH20040604, OVIDE,    76,  1,     28,     28,2,20040624,1403, 48.7880, -21.4310, 4144,     97.1,  12.3770,  35.6260,2,  35.6250,2,    237.9,2,    247.3,3,     2.81,2,     9.27,   2,     0.47,2,   -999.0,9,   7.8750,2,    25.00,  12.3640
  35TH20040604, OVIDE,    76,  1,     29,     29,2,20040624,1403, 48.7880, -21.4310, 4144,     50.8,  13.9300,  35.7060,2,  35.7030,2,    254.0,2,    256.2,2,     1.44,2,     4.23,   2,     0.27,2,   -999.0,9,   7.9340,2,    25.00,  13.9227
  35TH20040604, OVIDE,    76,  1,     30,     30,2,20040624,1403, 48.7880, -21.4310, 4144,      6.5,  17.2240,  35.7120,2,  35.7110,2,    251.8,2,    259.5,3,     0.58,2,     0.05,   2,     0.03,2,   -999.0,9,   8.0100,2,    25.00,  17.2229