BOTTLE,20220120SIOCCHENA
EXPOCODE,SECT_ID,STNNBR,CASTNO,SAMPNO,BTLNBR,BTLNBR_FLAG_W,DATE,TIME,LATITUDE,LONGITUDE,DEPTH,CTDPRS,CTDTMP,CTDSAL,CTDSAL_FLAG_W,SALNTY,SALNTY_FLAG_W,CTDOXY,CTDOXY_FLAG_W,OXYGEN,OXYGEN_FLAG_W,SILCAT,SILCAT_FLAG_W,NITRAT,NITRAT_FLAG_W,PHSPHT,PHSPHT_FLAG_W,ALKALI,ALKALI_FLAG_W,PH_SWS,PH_SWS_FLAG_W,PH_TMP,THETA
,,,,,,,,,,,METERS,DBAR,ITS-90,PSS-78,,PSS-78,,UMOL/KG,,UMOL/KG,,UMOL/KG,,UMOL/KG,,UMOL/KG,,UMOL/KG,,,,DEG C,DEG C
  35TH20040604, OVIDE,    22,  1,      3,      3,2,20040614,1851, 59.7240, -40.2560, 2700,   2685.9,   1.1780,  34.8430,2,  34.8480,2,    309.4,2,    308.8,2,     7.08,3,     6.53,   3,     0.98,2,   2301.5,2,   7.7250,2,    25.00,   0.9960
  35TH20040604, OVIDE,    22,  1,      4,      4,2,20040614,1851, 59.7240, -40.2560, 2700,   2645.4,   1.1880,  34.8430,2,  34.8500,2,    308.2,2,    308.9,2,     7.16,3,     9.13,   3,     0.98,2,   2295.6,2,   7.7220,2,    25.00,   1.0094
  35TH20040604, OVIDE,    22,  1,      5,      5,2,20040614,1851, 59.7240, -40.2560, 2700,   2596.5,   1.3130,  34.8450,2,  34.8530,2,    305.2,2,    306.2,2,     7.68,2,    13.99,   2,     0.98,2,   2296.3,2,   7.7230,2,    25.00,   1.1362
  35TH20040604, OVIDE,    22,  1,      6,      6,2,20040614,1851, 59.7240, -40.2560, 2700,   2546.5,   1.4230,  34.8410,2,  34.8470,2,    304.6,2,    306.4,2,     7.52,2,    13.66,   2,     0.98,2,   2296.5,2,   7.7260,2,    25.00,   1.2486
  35TH20040604, OVIDE,    22,  1,      7,      7,2,20040614,1851, 59.7240, -40.2560, 2700,   2496.2,   1.5870,  34.8500,2,  34.8570,2,    302.8,2,    303.5,2,     7.84,2,    14.12,   2,     1.00,2,   2297.0,2,   7.7270,2,    25.00,   1.4139
  35TH20040604, OVIDE,    22,  1,      8,      8,2,20040614,1851, 59.7240, -40.2560, 2700,   2395.8,   1.9590,  34.8440,2,  34.8510,2,    299.5,2,    307.7,3,     8.32,2,    14.45,   2,     1.02,2,   2296.9,2,   7.7250,2,    25.00,   1.7881
  35TH20040604, OVIDE,    22,  1,      9,      9,2,20040614,1851, 59.7240, -40.2560, 2700,   2194.6,   2.5890,  34.8920,2,  34.8990,2,    286.5,2,    286.0,2,    10.88,2,    14.28,   2,     1.07,2,   2300.5,2,   7.7270,2,    25.00,   2.4253
  35TH20040604, OVIDE,    22,  1,     10,     10,2,20040614,1851, 59.7240, -40.2560, 2700,   1997.8,   2.9080,  34.9150,2,  34.9230,2,    278.7,2,    279.5,2,    11.88,2,    16.42,   2,     1.14,2,   2303.2,2,   7.7260,2,    25.00,   2.7570
  35TH20040604, OVIDE,    22,  1,     11,     11,2,20040614,1851, 59.7240, -40.2560, 2700,   1795.9,   3.0480,  34.8970,2,  34.9040,2,    282.6,2,    283.3,2,    10.48,2,    16.17,   2,     1.12,2,   2301.5,2,   7.7260,2,    25.00,   2.9132
  35TH20040604, OVIDE,    22,  1,     12,     12,2,20040614,1851, 59.7240, -40.2560, 2700,   1595.4,   3.2020,  34.8930,2,  34.9000,2,    282.7,2,    283.0,2,    10.36,3,    14.78,   3,     1.15,2,   2302.1,2,   7.7230,2,    25.00,   3.0828
  35TH20040604, OVIDE,    22,  1,     13,     13,2,20040614,1851, 59.7240, -40.2560, 2700,   1395.0,   3.3740,  34.9000,2,  34.9050,2,    279.7,2,    280.4,2,    10.24,2,    16.25,   2,     1.13,2,   2301.2,2,   7.7230,2,    25.00,   3.2701
  35TH20040604, OVIDE,    22,  1,     14,     14,2,20040614,1851, 59.7240, -40.2560, 2700,   1195.8,   3.5590,  34.9070,2,  34.9130,2,    278.2,2,    278.3,2,    10.12,2,    16.75,   2,     1.15,2,   2300.9,2,   7.7200,2,    25.00,   3.4700
  35TH20040604, OVIDE,    22,  1,     15,     15,2,20040614,1851, 59.7240, -40.2560, 2700,    996.9,   3.4310,  34.8640,2,  34.8700,2,    288.0,2,    286.6,2,  -999.00,9,  -999.00,   9,  -999.00,9,   2298.6,2,   7.7190,2,    25.00,   3.3594
  35TH20040604, OVIDE,    22,  1,     16,     16,2,20040614,1851, 59.7240, -40.2560, 2700,    996.5,   3.4310,  34.8640,2,  34.8700,2,    288.0,2,    286.6,2,     9.48,2,    16.80,   2,     1.14,2,   -999.0,9,   7.7190,2,    25.00,   3.3594
  35TH20040604, OVIDE,    22,  1,     17,     17,2,20040614,1851, 59.7240, -40.2560, 2700,    897.6,   3.4360,  34.8580,2,  34.8640,2,    288.4,2,    288.3,2,     9.24,2,    16.17,   2,     1.14,2,   2298.2,2,   7.7170,2,    25.00,   3.3722
  35TH20040604, OVIDE,    22,  1,     18,     18,2,20040614,1851, 59.7240, -40.2560, 2700,    794.6,   3.5860,  34.8680,2,  34.8730,2,    283.7,2,    285.3,2,     9.36,2,    16.88,   2,     1.15,2,   2299.1,2,   7.7150,2,    25.00,   3.5292
  35TH20040604, OVIDE,    22,  1,     19,     19,2,20040614,1851, 59.7240, -40.2560, 2700,    695.3,   3.7240,  34.8750,2,  34.8820,2,    285.2,2,    282.5,2,     9.36,2,    16.88,   2,     1.15,2,   2302.0,2,   7.7150,2,    25.00,   3.6740
  35TH20040604, OVIDE,    22,  1,     20,     20,2,20040614,1851, 59.7240, -40.2560, 2700,    596.5,   3.9110,  34.8840,2,  34.8930,2,    278.5,2,    278.1,2,     9.36,2,    17.38,   2,     1.18,2,   -999.0,9,   7.7130,2,    25.00,   3.8677
  35TH20040604, OVIDE,    22,  1,     21,     21,2,20040614,1851, 59.7240, -40.2560, 2700,    497.7,   4.2040,  34.9050,2,  34.9100,2,    274.3,2,    273.6,2,     9.32,3,    15.58,   3,     1.17,2,   2303.0,2,   7.7120,2,    25.00,   4.1671
  35TH20040604, OVIDE,    22,  1,     22,     22,2,20040614,1851, 59.7240, -40.2560, 2700,    396.3,   4.4020,  34.9040,2,  34.9120,2,    278.4,2,    284.5,2,     8.72,2,    16.67,   2,     1.15,2,   2303.7,2,   7.7230,2,    25.00,   4.3723
  35TH20040604, OVIDE,    22,  1,     23,     23,2,20040614,1851, 59.7240, -40.2560, 2700,    297.2,   4.4940,  34.8970,2,  34.9040,2,    290.7,2,    290.8,2,     8.24,2,    16.38,   2,     1.12,2,   2299.6,2,   7.7320,2,    25.00,   4.4717
  35TH20040604, OVIDE,    22,  1,     24,     24,2,20040614,1851, 59.7240, -40.2560, 2700,    198.1,   4.6430,  34.8870,2,  34.8920,2,    290.4,2,    290.8,2,     8.16,2,    16.25,   2,     1.12,2,   2297.6,2,   7.7290,2,    25.00,   4.6281
  35TH20040604, OVIDE,    22,  1,     25,     25,2,20040614,1851, 59.7240, -40.2560, 2700,    147.2,   4.8760,  34.8910,2,  34.8950,2,    303.9,2,    295.1,3,     7.92,2,    15.25,   2,     1.10,2,   2300.0,2,   7.7380,2,    25.00,   4.8647
  35TH20040604, OVIDE,    22,  1,     26,     26,2,20040614,1851, 59.7240, -40.2560, 2700,     96.9,   5.1550,  34.8510,2,  34.8590,2,    305.1,2,    303.6,2,     7.52,2,    14.28,   2,     1.04,2,   2301.4,2,   7.7540,2,    25.00,   5.1474
  35TH20040604, OVIDE,    22,  1,     27,     27,2,20040614,1851, 59.7240, -40.2560, 2700,     47.2,   6.8860,  34.8810,2,  34.8850,2,    306.3,2,    308.5,2,     5.28,2,    10.89,   2,     0.79,2,   -999.0,9,   7.8130,2,    25.00,   6.8817
  35TH20040604, OVIDE,    22,  1,     28,     28,2,20040614,1851, 59.7240, -40.2560, 2700,      3.7,   6.9130,  34.8840,2,  34.8890,2,    299.4,2,    308.2,3,     5.12,2,    10.85,   2,     0.79,2,   2302.9,2,   7.8180,2,    25.00,   6.9127
  35TH20040604, OVIDE,    23,  1,      3,      3,2,20040615,2302, 59.6790, -39.5580, 2848,   2833.6,   1.0920,  34.8550,2,  34.8600,2,    306.5,2,    308.0,2,     7.40,2,    13.16,   2,     0.94,2,   -999.0,9,   7.7210,2,    25.00,   0.8985
  35TH20040604, OVIDE,    23,  1,      4,      4,2,20040615,2302, 59.6790, -39.5580, 2848,   2736.3,   1.1590,  34.8520,2,  34.8590,2,    305.3,2,    307.2,2,     7.36,3,    12.25,   3,     0.94,2,   -999.0,9,   7.7220,2,    25.00,   0.9729
  35TH20040604, OVIDE,    23,  1,      5,      5,2,20040615,2302, 59.6790, -39.5580, 2848,   2696.0,   1.3900,  34.8480,2,  34.8550,2,    306.1,2,    305.2,2,     7.52,2,    12.90,   2,     0.94,2,   -999.0,9,   7.7240,2,    25.00,   1.2028
  35TH20040604, OVIDE,    23,  1,      6,      6,2,20040615,2302, 59.6790, -39.5580, 2848,   2645.5,   1.6250,  34.8500,2,  34.8560,2,    304.6,2,    303.4,2,     7.84,2,    12.81,   2,     0.97,2,   -999.0,9,   7.7240,2,    25.00,   1.4377
  35TH20040604, OVIDE,    23,  1,      7,      7,2,20040615,2302, 59.6790, -39.5580, 2848,   2596.0,   1.8440,  34.8540,2,  34.8610,2,    301.2,2,    301.7,2,     8.16,2,    14.23,   2,     0.98,2,   -999.0,9,   7.7240,2,    25.00,   1.6570
  35TH20040604, OVIDE,    23,  1,      8,      8,2,20040615,2302, 59.6790, -39.5580, 2848,   2495.9,   2.2810,  34.8740,2,  34.8820,2,    289.0,2,    291.7,2,     9.80,2,    15.00,   2,     1.10,2,   -999.0,9,   7.7260,2,    25.00,   2.0949
  35TH20040604, OVIDE,    23,  1,      9,      9,2,20040615,2302, 59.6790, -39.5580, 2848,   2394.7,   2.6920,  34.9060,2,  34.9110,2,    280.7,2,    282.1,2,    11.80,3,    13.84,   3,     1.10,2,   -999.0,9,   7.7260,2,    25.00,   2.5079
  35TH20040604, OVIDE,    23,  1,     10,     10,2,20040615,2302, 59.6790, -39.5580, 2848,   2195.4,   2.9930,  34.9190,2,  34.9270,2,    278.8,2,    278.4,2,    12.00,2,    16.21,   2,     1.11,2,   -999.0,9,   7.7270,2,    25.00,   2.8225
  35TH20040604, OVIDE,    23,  1,     11,     11,2,20040615,2302, 59.6790, -39.5580, 2848,   1995.8,   3.1250,  34.9090,2,  34.9160,2,    281.3,2,    280.6,2,    10.96,2,    16.08,   2,     1.12,2,   -999.0,9,   7.7240,2,    25.00,   2.9710
  35TH20040604, OVIDE,    23,  1,     12,     12,2,20040615,2302, 59.6790, -39.5580, 2848,   1996.0,   3.1320,  34.9130,2,  34.9170,2,    281.3,2,    280.0,2,    11.08,2,    16.34,   2,     1.11,2,   -999.0,9,   7.7270,2,    25.00,   2.9779
  35TH20040604, OVIDE,    23,  1,     13,     13,2,20040615,2302, 59.6790, -39.5580, 2848,   1845.3,   3.1450,  34.8950,2,  34.9020,2,    285.4,2,    282.6,2,    10.40,2,    16.34,   2,     1.10,2,   -999.0,9,   7.7260,2,    25.00,   3.0045
  35TH20040604, OVIDE,    23,  1,     14,     14,2,20040615,2302, 59.6790, -39.5580, 2848,   1595.9,   3.3010,  34.8950,2,  34.9020,2,    279.4,2,    282.0,2,    10.44,2,    16.98,   2,     1.12,2,   -999.0,9,   7.7220,2,    25.00,   3.1806
  35TH20040604, OVIDE,    23,  1,     15,     15,2,20040615,2302, 59.6790, -39.5580, 2848,   1395.9,   3.4570,  34.9010,2,  34.9060,2,    280.4,2,    277.9,2,    10.28,3,    15.26,   3,     1.13,2,   -999.0,9,   7.7190,2,    25.00,   3.3521
  35TH20040604, OVIDE,    23,  1,     16,     16,2,20040615,2302, 59.6790, -39.5580, 2848,   1214.5,   3.5550,  34.8950,2,  34.9010,2,    275.0,2,    278.1,2,    10.04,3,    16.29,   3,     1.12,2,   -999.0,9,   7.7170,2,    25.00,   3.4645
  35TH20040604, OVIDE,    23,  1,     17,     17,2,20040615,2302, 59.6790, -39.5580, 2848,   1115.1,   3.5030,  34.8780,2,  34.8840,2,    282.2,2,    282.0,2,     9.76,2,    17.28,   2,     1.13,2,   -999.0,9,   7.7160,2,    25.00,   3.4212
  35TH20040604, OVIDE,    23,  1,     18,     18,2,20040615,2302, 59.6790, -39.5580, 2848,    995.9,   3.3460,  34.8460,2,  34.8540,2,    294.5,2,    292.7,2,     9.04,2,    16.90,   2,     1.10,2,   -999.0,9,   7.7170,2,    25.00,   3.2751
  35TH20040604, OVIDE,    23,  1,     19,     19,2,20040615,2302, 59.6790, -39.5580, 2848,    796.1,   3.5960,  34.8650,2,  34.8750,2,    281.5,2,    285.3,2,     9.24,2,    16.77,   2,     1.14,2,   -999.0,9,   7.7150,2,    25.00,   3.5390
  35TH20040604, OVIDE,    23,  1,     20,     20,2,20040615,2302, 59.6790, -39.5580, 2848,    597.0,   3.9630,  34.8890,2,  34.8980,2,    274.2,2,    277.1,2,     9.32,2,    15.56,   2,     1.14,2,   -999.0,9,   7.7110,2,    25.00,   3.9194
  35TH20040604, OVIDE,    23,  1,     21,     21,2,20040615,2302, 59.6790, -39.5580, 2848,    446.0,   4.3350,  34.8960,2,  34.9040,2,    287.4,2,    290.0,2,     8.40,2,    15.91,   2,     1.10,2,   -999.0,9,   7.7280,2,    25.00,   4.3017
  35TH20040604, OVIDE,    23,  1,     22,     22,2,20040615,2302, 59.6790, -39.5580, 2848,    337.2,   4.6980,  34.9140,2,  34.9230,2,    279.7,2,    282.7,2,     8.32,2,    15.61,   2,     1.11,2,   -999.0,9,   7.7290,2,    25.00,   4.6721
  35TH20040604, OVIDE,    23,  1,     23,     23,2,20040615,2302, 59.6790, -39.5580, 2848,    215.9,   5.2040,  34.9600,2,  34.9680,2,    291.1,2,    290.8,2,     7.52,2,    15.60,   2,     1.01,2,   -999.0,9,   7.7460,2,    25.00,   5.1867
  35TH20040604, OVIDE,    23,  1,     24,     24,2,20040615,2302, 59.6790, -39.5580, 2848,    165.8,   5.4210,  34.9850,2,  34.9930,2,    289.9,2,    290.3,2,     7.44,2,    15.18,   2,     1.06,2,   -999.0,9,   7.7490,2,    25.00,   5.4075
  35TH20040604, OVIDE,    23,  1,     25,     25,2,20040615,2302, 59.6790, -39.5580, 2848,     96.1,   5.4830,  34.9260,2,  34.9370,2,    294.1,2,    293.6,2,     7.52,2,    15.13,   2,     1.05,2,   -999.0,9,   7.7540,2,    25.00,   5.4752
  35TH20040604, OVIDE,    23,  1,     26,     26,2,20040615,2302, 59.6790, -39.5580, 2848,     46.2,   6.3350,  34.9120,2,  34.9200,2,    302.5,2,    302.5,2,     6.48,2,    12.08,   2,     0.90,2,   -999.0,9,   7.7870,2,    25.00,   6.3310
  35TH20040604, OVIDE,    23,  1,     27,     27,2,20040615,2302, 59.6790, -39.5580, 2848,      3.9,   7.1100,  34.9020,2,  34.9090,2,    303.4,2,    310.0,3,     4.64,2,    10.10,   2,     0.72,2,   -999.0,9,   7.8290,2,    25.00,   7.1096
  35TH20040604, OVIDE,    24,  1,      3,      3,2,20040615,0309, 59.6240, -38.9600, 2973,   2958.9,   1.4150,  34.8860,2,  34.8710,3,    299.5,2,    299.0,2,     8.99,3,    12.55,   3,     1.00,2,   2299.1,2,   7.7150,2,    25.00,   1.2029
  35TH20040604, OVIDE,    24,  1,      4,      4,2,20040615,0309, 59.6240, -38.9600, 2973,   2894.9,   1.5490,  34.8570,2,  34.8430,3,    303.5,2,    303.2,2,     7.89,2,    13.93,   2,     0.99,2,   2297.9,2,   7.7230,2,    25.00,   1.3402
  35TH20040604, OVIDE,    24,  1,      5,      5,2,20040615,0309, 59.6240, -38.9600, 2973,   2847.6,   1.9440,  34.8820,2,  34.8740,2,    295.0,2,    293.6,2,     9.68,2,    14.96,   2,     1.03,2,   2299.4,2,   7.7190,2,    25.00,   1.7312
  35TH20040604, OVIDE,    24,  1,      6,      6,2,20040615,0309, 59.6240, -38.9600, 2973,   2795.9,   2.2330,  34.8930,2,  34.8840,2,    287.9,2,    287.0,2,    11.51,2,    15.00,   2,     1.07,2,   2301.1,2,   7.7210,2,    25.00,   2.0192
  35TH20040604, OVIDE,    24,  1,      7,      7,2,20040615,0309, 59.6240, -38.9600, 2973,   2746.3,   2.4630,  34.9060,2,  34.8910,3,    285.4,2,    282.8,2,    12.69,3,    14.57,   3,     1.06,2,   2301.7,2,   7.7250,2,    25.00,   2.2493
  35TH20040604, OVIDE,    24,  1,      8,      8,2,20040615,0309, 59.6240, -38.9600, 2973,   2715.3,   2.5390,  34.9090,2,  34.9030,2,    283.7,2,    281.2,2,    12.85,2,    16.47,   2,     1.10,2,   2304.7,2,   7.7280,2,    25.00,   2.3268
  35TH20040604, OVIDE,    24,  1,      9,      9,2,20040615,0309, 59.6240, -38.9600, 2973,   2496.3,   2.8120,  34.9240,2,  34.9160,2,    279.9,2,    277.1,2,    13.18,2,    16.04,   2,     1.11,2,   2306.4,2,   7.7280,2,    25.00,   2.6159
  35TH20040604, OVIDE,    24,  1,     10,     10,2,20040615,0309, 59.6240, -38.9600, 2973,   2247.1,   2.9530,  34.9170,2,  34.9030,3,    281.6,2,    278.7,2,    12.36,2,    16.16,   2,     1.12,2,   2306.3,2,   7.7280,2,    25.00,   2.7783
  35TH20040604, OVIDE,    24,  1,     11,     11,2,20040615,0309, 59.6240, -38.9600, 2973,   1995.7,   3.0820,  34.9060,2,  34.8960,2,    283.1,2,    280.6,2,    11.39,3,    13.37,   3,     1.12,2,   2302.3,2,   7.7260,2,    25.00,   2.9287
  35TH20040604, OVIDE,    24,  1,     12,     12,2,20040615,0309, 59.6240, -38.9600, 2973,   1795.2,   3.1560,  34.8970,2,  34.8770,3,    285.9,2,    282.8,2,    10.74,2,    16.90,   2,     1.13,2,   2299.5,2,   7.7240,2,    25.00,   3.0198
  35TH20040604, OVIDE,    24,  1,     13,     13,2,20040615,0309, 59.6240, -38.9600, 2973,   1595.0,   3.2570,  34.8920,2,  34.8820,2,    284.3,2,    282.3,2,    10.57,2,    17.11,   2,     1.14,2,   2298.6,2,   7.7210,2,    25.00,   3.1372
  35TH20040604, OVIDE,    24,  1,     14,     14,2,20040615,0309, 59.6240, -38.9600, 2973,   1396.0,   3.3380,  34.8870,2,  34.8720,3,    283.5,2,    281.4,2,    10.53,3,    13.93,   3,     1.17,2,   2301.1,2,   7.7200,2,    25.00,   3.2344
  35TH20040604, OVIDE,    24,  1,     15,     15,2,20040615,0309, 59.6240, -38.9600, 2973,   1196.7,   3.4760,  34.8860,2,  34.8810,2,    278.7,2,    279.4,2,    10.25,2,    17.28,   2,     1.15,2,   2302.2,2,   7.7110,2,    25.00,   3.3877
  35TH20040604, OVIDE,    24,  1,     16,     16,2,20040615,0309, 59.6240, -38.9600, 2973,    997.4,   3.4100,  34.8590,2,  34.8500,2,    290.6,2,    288.3,2,     9.43,3,    15.43,   3,     1.12,2,   2300.8,2,   7.7180,2,    25.00,   3.3385
  35TH20040604, OVIDE,    24,  1,     17,     17,2,20040615,0309, 59.6240, -38.9600, 2973,    896.7,   3.4110,  34.8540,2,  34.8390,3,    290.8,2,    289.2,2,     9.23,3,    14.58,   3,     1.12,2,   2299.5,2,   7.7170,2,    25.00,   3.3474
  35TH20040604, OVIDE,    24,  1,     18,     18,2,20040615,0309, 59.6240, -38.9600, 2973,    796.1,   3.4640,  34.8550,2,  34.8430,3,    289.5,2,    288.5,2,     9.27,3,    16.21,   3,     1.12,2,   2301.1,2,   7.7160,2,    25.00,   3.4078
  35TH20040604, OVIDE,    24,  1,     19,     19,2,20040615,0309, 59.6240, -38.9600, 2973,    695.6,   3.5600,  34.8620,2,  34.8490,3,    289.7,2,    287.8,2,     9.15,2,    16.85,   2,     1.10,2,   2301.5,2,   7.7170,2,    25.00,   3.5109
  35TH20040604, OVIDE,    24,  1,     20,     20,2,20040615,0309, 59.6240, -38.9600, 2973,    696.3,   3.5670,  34.8620,2,  34.8550,2,    289.7,2,    287.5,2,     9.15,2,    16.68,   2,     1.11,2,   -999.0,9,   7.7140,2,    25.00,   3.5179
  35TH20040604, OVIDE,    24,  1,     21,     21,2,20040615,0309, 59.6240, -38.9600, 2973,    595.5,   3.7150,  34.8720,2,  34.8650,2,    291.5,2,    286.5,2,     9.03,3,    14.53,   3,     1.11,2,   2302.3,2,   7.7180,2,    25.00,   3.6727
  35TH20040604, OVIDE,    24,  1,     22,     22,2,20040615,0309, 59.6240, -38.9600, 2973,    496.0,   3.8160,  34.8710,2,  34.8650,2,    280.9,2,    282.7,2,     9.19,3,    13.20,   3,     1.12,2,   2302.5,2,   7.7130,2,    25.00,   3.7808
  35TH20040604, OVIDE,    24,  1,     23,     23,2,20040615,0309, 59.6240, -38.9600, 2973,    397.5,   4.0360,  34.8840,2,  34.8700,3,    280.2,2,    277.4,2,     9.39,3,    14.14,   3,     1.17,2,   2301.9,2,   7.7110,2,    25.00,   4.0074
  35TH20040604, OVIDE,    24,  1,     24,     24,2,20040615,0309, 59.6240, -38.9600, 2973,    295.6,   4.2990,  34.8920,2,  34.8800,3,    292.4,2,    284.3,3,     8.86,2,    16.90,   2,     1.12,2,   2303.2,2,   7.7200,2,    25.00,   4.2773
  35TH20040604, OVIDE,    24,  1,     25,     25,2,20040615,0309, 59.6240, -38.9600, 2973,    196.5,   4.4590,  34.8820,2,  34.8780,2,    290.7,2,    288.5,2,     8.50,2,    16.85,   2,     1.10,2,   2303.0,2,   7.7260,2,    25.00,   4.4445
  35TH20040604, OVIDE,    24,  1,     26,     26,2,20040615,0309, 59.6240, -38.9600, 2973,    147.1,   4.8340,  34.9150,2,  34.9150,2,    294.7,2,    289.4,2,     8.13,2,    13.67,   2,     1.10,2,   -999.0,9,   7.7320,2,    25.00,   4.8228
  35TH20040604, OVIDE,    24,  1,     27,     27,2,20040615,0309, 59.6240, -38.9600, 2973,     96.9,   5.0730,  34.9190,2,  34.8960,3,    289.7,2,    292.4,2,     7.89,3,    11.52,   3,     1.08,2,   2304.5,2,   7.7380,2,    25.00,   5.0654
  35TH20040604, OVIDE,    24,  1,     28,     28,2,20040615,0309, 59.6240, -38.9600, 2973,     48.3,   6.0840,  34.8390,2,  34.8180,3,    307.7,2,    304.8,2,     6.63,2,    12.21,   2,     0.90,2,   -999.0,9,   7.7820,2,    25.00,   6.0799
  35TH20040604, OVIDE,    24,  1,     29,     29,2,20040615,0309, 59.6240, -38.9600, 2973,      4.4,   6.8910,  34.8010,2,  34.7900,2,    303.6,2,    309.2,2,     5.49,2,     7.14,   2,     0.77,2,   2297.1,2,   7.8150,2,    25.00,   6.8906