BOTTLE,20220120SIOCCHENA
EXPOCODE,SECT_ID,STNNBR,CASTNO,SAMPNO,BTLNBR,BTLNBR_FLAG_W,DATE,TIME,LATITUDE,LONGITUDE,DEPTH,CTDPRS,CTDTMP,CTDSAL,CTDSAL_FLAG_W,SALNTY,SALNTY_FLAG_W,CTDOXY,CTDOXY_FLAG_W,OXYGEN,OXYGEN_FLAG_W,SILCAT,SILCAT_FLAG_W,NITRAT,NITRAT_FLAG_W,PHSPHT,PHSPHT_FLAG_W,ALKALI,ALKALI_FLAG_W,PH_SWS,PH_SWS_FLAG_W,PH_TMP,THETA
,,,,,,,,,,,METERS,DBAR,ITS-90,PSS-78,,PSS-78,,UMOL/KG,,UMOL/KG,,UMOL/KG,,UMOL/KG,,UMOL/KG,,UMOL/KG,,,,DEG C,DEG C
  35TH20040604, OVIDE,    25,  1,      3,      3,2,20040615,0715, 59.5600, -38.3200, 3090,   3076.6,   1.4740,  34.8740,2,  34.8680,2,    300.5,2,    300.9,2,     8.46,3,    11.72,   3,     0.98,2,   -999.0,9,   7.7160,2,    25.00,   1.2494
  35TH20040604, OVIDE,    25,  1,      4,      4,2,20040615,0715, 59.5600, -38.3200, 3090,   3047.9,   1.5690,  34.8780,2,  34.8640,3,    298.9,2,    300.1,2,     8.66,2,    13.80,   2,     0.97,2,   -999.0,9,   7.7180,2,    25.00,   1.3450
  35TH20040604, OVIDE,    25,  1,      5,      5,2,20040615,0715, 59.5600, -38.3200, 3090,   2996.5,   1.9650,  34.8800,2,  34.8670,3,    294.0,2,    295.8,2,     9.19,2,    14.28,   2,     1.00,2,   -999.0,9,   7.7210,2,    25.00,   1.7373
  35TH20040604, OVIDE,    25,  1,      6,      6,2,20040615,0715, 59.5600, -38.3200, 3090,   2946.3,   2.2580,  34.8950,2,  34.8860,2,    289.9,2,    288.3,2,    10.82,2,    14.96,   2,     1.06,2,   -999.0,9,   7.7230,2,    25.00,   2.0289
  35TH20040604, OVIDE,    25,  1,      7,      7,2,20040615,0715, 59.5600, -38.3200, 3090,   2896.5,   2.3490,  34.8930,2,  34.8870,2,    289.2,2,    288.2,2,    11.02,2,    15.04,   2,     1.03,2,   -999.0,9,   7.7250,2,    25.00,   2.1229
  35TH20040604, OVIDE,    25,  1,      8,      8,2,20040615,0715, 59.5600, -38.3200, 3090,   2796.3,   2.6290,  34.9080,2,  34.9020,2,    280.9,2,    281.7,2,    12.56,2,    15.72,   2,     1.10,2,   -999.0,9,   7.7250,2,    25.00,   2.4070
  35TH20040604, OVIDE,    25,  1,      9,      9,2,20040615,0715, 59.5600, -38.3200, 3090,   2695.7,   2.7710,  34.9160,2,  34.9090,2,    280.6,2,    280.2,2,    12.52,2,    15.88,   2,     1.04,2,   -999.0,9,   7.7260,2,    25.00,   2.5562
  35TH20040604, OVIDE,    25,  1,     10,     10,2,20040615,0715, 59.5600, -38.3200, 3090,   2495.7,   2.9420,  34.9190,2,  34.9140,2,    279.2,2,    278.0,2,    12.28,2,    16.08,   2,     1.12,2,   -999.0,9,   7.7270,2,    25.00,   2.7436
  35TH20040604, OVIDE,    25,  1,     11,     11,2,20040615,0715, 59.5600, -38.3200, 3090,   2395.3,   3.0030,  34.9180,2,  34.9130,2,    277.7,2,    279.2,2,    11.96,2,    16.36,   2,     1.12,2,   -999.0,9,   7.7280,2,    25.00,   2.8133
  35TH20040604, OVIDE,    25,  1,     12,     12,2,20040615,0715, 59.5600, -38.3200, 3090,   2196.9,   3.1200,  34.9170,2,  34.9040,3,    281.2,2,    279.7,2,    11.47,2,    16.40,   2,     1.11,2,   -999.0,9,   7.7230,2,    25.00,   2.9473
  35TH20040604, OVIDE,    25,  1,     13,     13,2,20040615,0715, 59.5600, -38.3200, 3090,   1995.0,   3.1940,  34.9080,2,  34.9000,2,    283.2,2,    283.0,2,    10.86,2,    15.92,   2,     1.10,2,   -999.0,9,   7.7230,2,    25.00,   3.0391
  35TH20040604, OVIDE,    25,  1,     14,     14,2,20040615,0715, 59.5600, -38.3200, 3090,   1795.4,   3.2330,  34.8950,2,  34.8840,2,    284.9,2,    283.4,2,    10.53,3,    15.20,   3,     1.14,2,   -999.0,9,   7.7220,2,    25.00,   3.0958
  35TH20040604, OVIDE,    25,  1,     15,     15,2,20040615,0715, 59.5600, -38.3200, 3090,   1595.9,   3.3460,  34.8950,2,  34.8820,3,    283.1,2,    281.3,2,    10.49,2,    16.48,   2,     1.15,2,   -999.0,9,   7.7190,2,    25.00,   3.2250
  35TH20040604, OVIDE,    25,  1,     16,     16,2,20040615,0715, 59.5600, -38.3200, 3090,   1396.3,   3.4720,  34.8960,2,  34.8840,2,    280.3,2,    279.7,2,    10.33,3,    15.12,   3,     1.17,2,   -999.0,9,   7.7140,2,    25.00,   3.3669
  35TH20040604, OVIDE,    25,  1,     17,     17,2,20040615,0715, 59.5600, -38.3200, 3090,   1294.7,   3.5110,  34.8890,2,  34.8790,2,    280.0,2,    293.9,3,    10.12,2,    16.64,   2,     1.15,2,   -999.0,9,   7.7140,2,    25.00,   3.4142
  35TH20040604, OVIDE,    25,  1,     18,     18,2,20040615,0715, 59.5600, -38.3200, 3090,   1075.3,   3.3980,  34.8510,2,  34.8360,3,    291.8,2,    290.2,2,     9.19,2,    15.96,   2,     1.07,2,   -999.0,9,   7.7200,2,    25.00,   3.3204
  35TH20040604, OVIDE,    25,  1,     19,     19,2,20040615,0715, 59.5600, -38.3200, 3090,    895.1,   3.5890,  34.8660,2,  34.8540,3,    285.8,2,    285.5,2,     9.23,2,    15.56,   2,     1.14,2,   -999.0,9,   7.7190,2,    25.00,   3.5243
  35TH20040604, OVIDE,    25,  1,     20,     20,2,20040615,0715, 59.5600, -38.3200, 3090,    796.6,   3.7160,  34.8740,2,  34.8560,3,    284.4,2,    283.2,2,     9.07,2,    15.80,   2,     1.12,2,   -999.0,9,   7.7180,2,    25.00,   3.6582
  35TH20040604, OVIDE,    25,  1,     21,     21,2,20040615,0715, 59.5600, -38.3200, 3090,    695.3,   3.9030,  34.8870,2,  34.8720,3,    278.2,2,    278.1,2,     9.27,2,    15.60,   2,     1.15,2,   -999.0,9,   7.7120,2,    25.00,   3.8521
  35TH20040604, OVIDE,    25,  1,     22,     22,2,20040615,0715, 59.5600, -38.3200, 3090,    695.5,   3.9060,  34.8870,2,  34.8740,3,    278.3,2,    277.8,2,     9.35,2,    15.20,   2,     1.12,2,   -999.0,9,   7.7140,2,    25.00,   3.8550
  35TH20040604, OVIDE,    25,  1,     23,     23,2,20040615,0715, 59.5600, -38.3200, 3090,    594.5,   4.1260,  34.8950,2,  34.8820,3,    274.9,2,    273.5,2,     9.43,2,    15.40,   2,     1.17,2,   -999.0,9,   7.7130,2,    25.00,   4.0819
  35TH20040604, OVIDE,    25,  1,     24,     24,2,20040615,0715, 59.5600, -38.3200, 3090,    535.7,   4.2260,  34.8930,2,  34.8830,2,    275.0,2,    283.1,3,     8.74,2,    15.84,   2,     1.14,2,   -999.0,9,-999.0000,9,  -999.00,   4.1861
  35TH20040604, OVIDE,    25,  1,     25,     25,2,20040615,0715, 59.5600, -38.3200, 3090,    396.7,   4.6930,  34.9160,2,  34.9080,2,    295.9,2,    277.3,3,     8.70,2,    15.84,   2,     1.11,2,   -999.0,9,   7.7280,2,    25.00,   4.6624
  35TH20040604, OVIDE,    25,  1,     26,     26,2,20040615,0715, 59.5600, -38.3200, 3090,    246.4,   5.3430,  34.9390,2,  34.9370,2,    276.2,2,    275.4,2,     8.25,2,    15.88,   2,     1.11,2,   -999.0,9,   7.7350,2,    25.00,   5.3230
  35TH20040604, OVIDE,    25,  1,     27,     27,2,20040615,0715, 59.5600, -38.3200, 3090,    147.8,   5.6630,  34.9370,2,  34.9320,2,    282.0,2,    286.6,2,     7.56,2,    15.20,   2,     0.98,2,   -999.0,9,   7.7500,2,    25.00,   5.6507
  35TH20040604, OVIDE,    25,  1,     28,     28,2,20040615,0715, 59.5600, -38.3200, 3090,     97.1,   6.0290,  34.9540,2,  34.9420,3,    285.6,2,    286.3,2,     7.36,2,    14.64,   2,     1.05,2,   -999.0,9,   7.7590,2,    25.00,   6.0207
  35TH20040604, OVIDE,    25,  1,     29,     29,2,20040615,0715, 59.5600, -38.3200, 3090,     47.5,   7.1710,  34.9630,2,  34.9500,3,    302.3,2,    295.8,2,     5.69,2,    11.44,   2,     0.89,2,   -999.0,9,   7.7980,2,    25.00,   7.1665
  35TH20040604, OVIDE,    25,  1,     30,     30,2,20040615,0715, 59.5600, -38.3200, 3090,      4.5,   7.8600,  34.9450,2,  34.9380,2,    298.7,2,    301.6,2,     2.93,2,     9.64,   2,     0.73,2,   -999.0,9,   7.8350,2,    25.00,   7.8596
  35TH20040604, OVIDE,    26,  1,      3,      3,2,20040615,1138, 59.4770, -37.6670, 3165,   3151.5,   1.3590,  34.8730,2,  34.8700,2,    301.4,2,    303.5,2,     8.13,2,    13.44,   2,     0.94,2,   2304.2,2,   7.7250,2,    25.00,   1.1298
  35TH20040604, OVIDE,    26,  1,      4,      4,2,20040615,1138, 59.4770, -37.6670, 3165,   3095.9,   1.8010,  34.8720,2,  34.8700,2,    299.7,2,    298.5,2,     8.54,2,    12.56,   2,     0.98,2,   2301.0,2,   7.7220,2,    25.00,   1.5672
  35TH20040604, OVIDE,    26,  1,      5,      5,2,20040615,1138, 59.4770, -37.6670, 3165,   3045.9,   2.0860,  34.8730,2,  34.8730,2,    293.7,2,    294.4,2,     9.27,2,    13.12,   2,     0.97,2,   2301.4,2,   7.7260,2,    25.00,   1.8508
  35TH20040604, OVIDE,    26,  1,      6,      6,2,20040615,1138, 59.4770, -37.6670, 3165,   2996.5,   2.3830,  34.9020,2,  34.8930,2,    286.4,2,    285.1,2,    12.12,2,    14.52,   2,     1.08,2,   2306.4,2,   7.7250,2,    25.00,   2.1461
  35TH20040604, OVIDE,    26,  1,      7,      7,2,20040615,1138, 59.4770, -37.6670, 3165,   2946.7,   2.5500,  34.9110,2,  34.9100,2,    283.3,2,    281.3,2,    13.09,2,    15.48,   2,     1.11,2,   2307.1,2,   7.7290,2,    25.00,   2.3145
  35TH20040604, OVIDE,    26,  1,      8,      8,2,20040615,1138, 59.4770, -37.6670, 3165,   2845.7,   2.7440,  34.9230,2,  34.9190,2,    280.0,2,    277.5,2,    13.66,2,    15.64,   2,     1.04,2,   2308.4,2,   7.7280,2,    25.00,   2.5146
  35TH20040604, OVIDE,    26,  1,      9,      9,2,20040615,1138, 59.4770, -37.6670, 3165,   2795.7,   2.7630,  34.9170,2,  34.9150,2,    281.0,2,    279.1,2,    12.69,3,    15.36,   3,     1.12,2,   2307.2,2,   7.7270,2,    25.00,   2.5383
  35TH20040604, OVIDE,    26,  1,     10,     10,2,20040615,1138, 59.4770, -37.6670, 3165,   2595.3,   2.9340,  34.9200,2,  34.9210,2,    280.3,2,    279.1,2,    12.60,2,    16.00,   2,     1.08,2,   2307.0,2,   7.7280,2,    25.00,   2.7259
  35TH20040604, OVIDE,    26,  1,     11,     11,2,20040615,1138, 59.4770, -37.6670, 3165,   2396.0,   3.0740,  34.9190,2,  34.9180,2,    280.2,2,    279.7,2,    11.87,3,    14.28,   3,     1.14,2,   -999.0,9,   7.7270,2,    25.00,   2.8830
  35TH20040604, OVIDE,    26,  1,     12,     12,2,20040615,1138, 59.4770, -37.6670, 3165,   2194.4,   3.1400,  34.9110,2,  34.9090,2,    282.5,2,    280.9,2,    11.30,2,    16.36,   2,  -999.00,9,   2305.3,2,   7.7250,2,    25.00,   2.9672
  35TH20040604, OVIDE,    26,  1,     13,     13,2,20040615,1138, 59.4770, -37.6670, 3165,   1995.7,   3.1610,  34.8940,2,  34.8910,2,    284.2,2,    283.3,2,    10.69,2,    16.16,   2,     1.10,2,   -999.0,9,   7.7240,2,    25.00,   3.0066
  35TH20040604, OVIDE,    26,  1,     14,     14,2,20040615,1138, 59.4770, -37.6670, 3165,   1795.7,   3.2580,  34.8920,2,  34.8890,2,    285.0,2,    283.1,2,    10.49,2,    16.32,   2,     1.14,2,   2301.4,2,   7.7210,2,    25.00,   3.1204
  35TH20040604, OVIDE,    26,  1,     15,     15,2,20040615,1138, 59.4770, -37.6670, 3165,   1595.0,   3.4070,  34.8960,2,  34.8960,2,    279.9,2,    279.7,2,    10.41,2,    16.16,   2,     1.14,2,   2302.0,2,   7.7190,2,    25.00,   3.2854
  35TH20040604, OVIDE,    26,  1,     16,     16,2,20040615,1138, 59.4770, -37.6670, 3165,   1394.1,   3.5280,  34.8940,2,  34.8890,2,    282.0,2,    278.9,2,    10.17,2,    16.48,   2,     1.12,2,   2301.5,2,   7.7180,2,    25.00,   3.4225
  35TH20040604, OVIDE,    26,  1,     17,     17,2,20040615,1138, 59.4770, -37.6670, 3165,   1195.1,   3.4090,  34.8550,2,  34.8530,2,    292.5,2,    289.4,2,     9.19,2,    16.08,   2,     1.13,2,   -999.0,9,   7.7180,2,    25.00,   3.3215
  35TH20040604, OVIDE,    26,  1,     18,     18,2,20040615,1138, 59.4770, -37.6670, 3165,    993.7,   3.4780,  34.8520,2,  34.8500,2,    287.9,2,    289.0,2,     9.07,2,    16.12,   2,     1.12,2,   2300.6,2,   7.7160,2,    25.00,   3.4063
  35TH20040604, OVIDE,    26,  1,     19,     19,2,20040615,1138, 59.4770, -37.6670, 3165,    795.5,   3.8080,  34.8730,2,  34.8750,2,    280.0,2,    282.0,2,     9.11,2,    16.32,   2,     1.15,2,   2301.9,2,   7.7130,2,    25.00,   3.7497
  35TH20040604, OVIDE,    26,  1,     20,     20,2,20040615,1138, 59.4770, -37.6670, 3165,    696.5,   4.0350,  34.8870,2,  34.8830,2,    273.2,2,    283.7,3,     9.11,2,    16.56,   2,     1.14,2,   2300.8,2,   7.7200,2,    25.00,   3.9833
  35TH20040604, OVIDE,    26,  1,     21,     21,2,20040615,1138, 59.4770, -37.6670, 3165,    547.0,   4.3990,  34.9020,2,  34.9020,2,    276.8,2,    284.2,3,     8.66,2,    16.40,   2,     1.10,2,   2302.7,2,   7.7270,2,    25.00,   4.3574
  35TH20040604, OVIDE,    26,  1,     22,     22,2,20040615,1138, 59.4770, -37.6670, 3165,    394.7,   4.7510,  34.9000,2,  34.8980,2,    272.5,2,    280.2,3,     8.50,2,    16.32,   2,     1.11,2,   2303.2,2,   7.7270,2,    25.00,   4.7204
  35TH20040604, OVIDE,    26,  1,     23,     23,2,20040615,1138, 59.4770, -37.6670, 3165,    394.3,   4.7500,  34.9000,2,  34.8960,2,    272.5,2,    280.3,3,     8.50,2,    16.28,   2,     1.10,2,   -999.0,9,   7.7280,2,    25.00,   4.7194
  35TH20040604, OVIDE,    26,  1,     24,     24,2,20040615,1138, 59.4770, -37.6670, 3165,    295.1,   4.9970,  34.8960,2,  34.8950,2,    288.6,2,    286.0,2,     8.05,2,    15.76,   2,     1.10,2,   2303.8,2,   7.7360,2,    25.00,   4.9737
  35TH20040604, OVIDE,    26,  1,     25,     25,2,20040615,1138, 59.4770, -37.6670, 3165,    197.1,   5.5760,  34.9350,2,  34.9320,2,    288.8,2,    285.6,2,     7.73,2,    14.40,   2,     1.08,2,   -999.0,9,   7.7420,2,    25.00,   5.5597
  35TH20040604, OVIDE,    26,  1,     26,     26,2,20040615,1138, 59.4770, -37.6670, 3165,    146.6,   5.8650,  34.9570,2,  34.9520,2,    286.0,2,    284.9,2,     7.60,2,    13.60,   2,     1.03,2,   2306.2,2,   7.7510,2,    25.00,   5.8526
  35TH20040604, OVIDE,    26,  1,     27,     27,2,20040615,1138, 59.4770, -37.6670, 3165,     95.7,   6.4280,  34.9800,2,  34.9770,2,    278.7,2,    280.9,2,     7.28,2,    13.96,   2,     1.06,2,   -999.0,9,   7.7580,2,    25.00,   6.4195
  35TH20040604, OVIDE,    26,  1,     28,     28,2,20040615,1138, 59.4770, -37.6670, 3165,     49.3,   7.2400,  34.9500,2,  34.9460,2,    284.8,2,    296.3,3,     5.77,2,    11.44,   2,     0.87,2,   2307.2,2,   7.7990,2,    25.00,   7.2353
  35TH20040604, OVIDE,    26,  1,     29,     29,2,20040615,1138, 59.4770, -37.6670, 3165,      4.8,   7.9640,  34.9700,2,  34.9720,2,    299.4,2,    306.2,2,     1.22,2,     8.52,   2,     0.69,2,   2310.0,2,   7.8540,2,    25.00,   7.9635