BOTTLE,20220120SIOCCHENA
EXPOCODE,SECT_ID,STNNBR,CASTNO,SAMPNO,BTLNBR,BTLNBR_FLAG_W,DATE,TIME,LATITUDE,LONGITUDE,DEPTH,CTDPRS,CTDTMP,CTDSAL,CTDSAL_FLAG_W,SALNTY,SALNTY_FLAG_W,CTDOXY,CTDOXY_FLAG_W,OXYGEN,OXYGEN_FLAG_W,SILCAT,SILCAT_FLAG_W,NITRAT,NITRAT_FLAG_W,PHSPHT,PHSPHT_FLAG_W,ALKALI,ALKALI_FLAG_W,PH_SWS,PH_SWS_FLAG_W,PH_TMP,THETA
,,,,,,,,,,,METERS,DBAR,ITS-90,PSS-78,,PSS-78,,UMOL/KG,,UMOL/KG,,UMOL/KG,,UMOL/KG,,UMOL/KG,,UMOL/KG,,,,DEG C,DEG C
  35TH20040604, OVIDE,    94,  1,      3,      3,2,20040629,2325, 43.0300, -16.0440, 5005,   4993.1,   2.5280,  34.8970,2,  34.8970,2,    242.4,2,    242.5,2,    45.82,2,    21.60,   2,     1.35,2,   -999.0,9,   7.7340,2,    25.00,   2.0584
  35TH20040604, OVIDE,    94,  1,      4,      4,2,20040629,2325, 43.0300, -16.0440, 5005,   4596.6,   2.4930,  34.8980,2,  34.8970,2,    243.4,2,    242.5,2,    45.54,2,    21.78,   2,     1.37,2,   -999.0,9,   7.7330,2,    25.00,   2.0741
  35TH20040604, OVIDE,    94,  1,      5,      5,2,20040629,2325, 43.0300, -16.0440, 5005,   4297.3,   2.4890,  34.9020,2,  34.9080,2,    242.3,2,    243.2,2,    44.13,2,    21.04,   2,     1.34,2,   -999.0,9,   7.7330,2,    25.00,   2.1062
  35TH20040604, OVIDE,    94,  1,      6,      6,2,20040629,2325, 43.0300, -16.0440, 5005,   3895.2,   2.5200,  34.9090,2,  34.9090,2,    242.8,2,    243.1,2,    42.57,2,    21.55,   2,     1.33,2,   -999.0,9,   7.7320,2,    25.00,   2.1831
  35TH20040604, OVIDE,    94,  1,      7,      7,2,20040629,2325, 43.0300, -16.0440, 5005,   3596.3,   2.5830,  34.9190,2,  34.9180,2,    243.8,2,    243.7,2,    40.45,2,    20.87,   2,     1.32,2,   -999.0,9,   7.7330,2,    25.00,   2.2779
  35TH20040604, OVIDE,    94,  1,      8,      8,2,20040629,2325, 43.0300, -16.0440, 5005,   3396.4,   2.6330,  34.9250,2,  34.9250,2,    244.9,2,    244.6,2,    38.75,2,    20.93,   2,     1.32,2,   -999.0,9,   7.7360,2,    25.00,   2.3484
  35TH20040604, OVIDE,    94,  1,      9,      9,2,20040629,2325, 43.0300, -16.0440, 5005,   3196.4,   2.7220,  34.9350,2,  34.9360,3,    246.1,2,    246.1,2,    35.92,2,    20.42,   2,     1.25,2,   -999.0,9,   7.7350,2,    25.00,   2.4567
  35TH20040604, OVIDE,    94,  1,     10,     10,2,20040629,2325, 43.0300, -16.0440, 5005,   2996.6,   2.8160,  34.9440,2,  34.9410,2,    248.2,2,    248.4,2,    33.10,2,    20.25,   2,     1.23,2,   -999.0,9,   7.7330,2,    25.00,   2.5695
  35TH20040604, OVIDE,    94,  1,     11,     11,2,20040629,2325, 43.0300, -16.0440, 5005,   2795.2,   2.9540,  34.9540,2,  34.9540,2,    250.4,2,    249.9,2,    29.84,2,    19.69,   2,     1.21,2,   -999.0,9,   7.7340,2,    25.00,   2.7253
  35TH20040604, OVIDE,    94,  1,     12,     12,2,20040629,2325, 43.0300, -16.0440, 5005,   2595.9,   3.1330,  34.9670,2,  34.9660,2,    253.2,2,    252.8,2,    26.16,2,    18.84,   2,     1.16,2,   -999.0,9,   7.7390,2,    25.00,   2.9209
  35TH20040604, OVIDE,    94,  1,     13,     13,2,20040629,2325, 43.0300, -16.0440, 5005,   2394.7,   3.3340,  34.9770,2,  34.9750,2,    256.4,2,    257.4,2,    22.20,2,    18.28,   2,     1.10,2,   -999.0,9,   7.7370,2,    25.00,   3.1383
  35TH20040604, OVIDE,    94,  1,     14,     14,2,20040629,2325, 43.0300, -16.0440, 5005,   2196.1,   3.5280,  34.9770,2,  34.9790,2,    259.9,2,    258.8,2,    17.31,2,    18.28,   2,     1.09,2,   -999.0,9,   7.7350,2,    25.00,   3.3485
  35TH20040604, OVIDE,    94,  1,     15,     15,2,20040629,2325, 43.0300, -16.0440, 5005,   1996.1,   3.7660,  34.9860,2,  34.9820,2,    260.9,2,    261.3,2,    14.72,2,    17.37,   2,     1.07,2,   -999.0,9,   7.7340,2,    25.00,   3.6023
  35TH20040604, OVIDE,    94,  1,     16,     16,2,20040629,2325, 43.0300, -16.0440, 5005,   1796.2,   4.2630,  35.0410,2,  35.0410,2,    256.1,2,    256.4,2,    13.02,2,    17.94,   2,     1.06,2,   -999.0,9,   7.7330,2,    25.00,   4.1114
  35TH20040604, OVIDE,    94,  1,     17,     17,2,20040629,2325, 43.0300, -16.0440, 5005,   1596.5,   5.1540,  35.1610,2,  35.1610,2,    243.3,2,    243.2,2,    12.04,2,    17.65,   2,     1.04,2,   -999.0,9,   7.7340,2,    25.00,   5.0107
  35TH20040604, OVIDE,    94,  1,     18,     18,2,20040629,2325, 43.0300, -16.0440, 5005,   1395.9,   6.6010,  35.3790,2,  35.3770,2,    222.3,2,    223.5,2,    11.29,2,    17.14,   2,     1.01,2,   -999.0,9,   7.7440,2,    25.00,   6.4623
  35TH20040604, OVIDE,    94,  1,     19,     19,2,20040629,2325, 43.0300, -16.0440, 5005,   1196.3,   8.3620,  35.6300,2,  35.6330,2,    201.8,2,    201.4,2,    10.46,2,    17.48,   2,     0.98,2,   -999.0,9,   7.7580,2,    25.00,   8.2290
  35TH20040604, OVIDE,    94,  1,     20,     20,2,20040629,2325, 43.0300, -16.0440, 5005,    905.6,  10.4180,  35.8550,2,  35.8550,2,    182.2,2,    181.9,2,     8.89,2,    16.46,   2,     0.92,2,   -999.0,9,   7.7740,2,    25.00,  10.3054
  35TH20040604, OVIDE,    94,  1,     21,     21,2,20040629,2325, 43.0300, -16.0440, 5005,    836.2,  10.4080,  35.7710,2,  35.7730,2,    182.9,2,    183.0,2,     8.69,2,    16.69,   2,     0.93,2,   -999.0,9,   7.7730,2,    25.00,  10.3045
  35TH20040604, OVIDE,    94,  1,     22,     22,2,20040629,2325, 43.0300, -16.0440, 5005,    596.8,  10.8330,  35.5560,2,  35.5580,2,    194.1,2,    193.5,2,     6.76,2,    15.79,   2,     0.86,2,   -999.0,9,   7.7730,2,    25.00,  10.7583
  35TH20040604, OVIDE,    94,  1,     23,     23,2,20040629,2325, 43.0300, -16.0440, 5005,    597.0,  10.8320,  35.5550,2,  35.5570,2,    194.1,2,    193.5,2,     6.76,2,    15.56,   2,     0.86,2,   -999.0,9,   7.7760,2,    25.00,  10.7573
  35TH20040604, OVIDE,    94,  1,     24,     24,2,20040629,2325, 43.0300, -16.0440, 5005,    396.6,  11.7100,  35.5880,2,  35.5880,2,    219.7,2,    217.1,2,     4.44,2,    12.29,   2,     0.64,2,   -999.0,9,   7.8180,2,    25.00,  11.6583
  35TH20040604, OVIDE,    94,  1,     25,     25,2,20040629,2325, 43.0300, -16.0440, 5005,    297.5,  12.3690,  35.6770,2,  35.6790,2,    224.3,2,    224.6,2,     3.62,2,    10.09,   2,     0.52,2,   -999.0,9,   7.8440,2,    25.00,  12.3290
  35TH20040604, OVIDE,    94,  1,     26,     26,2,20040629,2325, 43.0300, -16.0440, 5005,    196.4,  13.0390,  35.7660,2,  35.7680,2,    243.2,2,    245.1,2,     1.89,2,     6.43,   2,     0.34,2,   -999.0,9,   7.9000,2,    25.00,  13.0117
  35TH20040604, OVIDE,    94,  1,     27,     27,2,20040629,2325, 43.0300, -16.0440, 5005,    107.6,  13.6010,  35.8350,2,  35.8360,2,    239.9,2,    241.9,2,     1.34,2,     3.95,   2,     0.24,2,   -999.0,9,   7.9130,2,    25.00,  13.5857
  35TH20040604, OVIDE,    94,  1,     28,     28,2,20040629,2325, 43.0300, -16.0440, 5005,     49.0,  14.5760,  35.9130,2,  35.9180,2,    259.2,2,    264.0,2,     0.83,2,     0.00,   2,     0.04,2,   -999.0,9,   7.9700,2,    25.00,  14.5687
  35TH20040604, OVIDE,    94,  1,     29,     29,2,20040629,2325, 43.0300, -16.0440, 5005,      5.1,  18.9570,  35.9180,2,  35.9180,2,    228.2,2,    238.4,3,     0.86,2,     0.11,   2,     0.04,2,   -999.0,9,   7.9810,2,    25.00,  18.9561
  35TH20040604, OVIDE,    95,  1,      3,      3,2,20040629,0443, 42.8810, -15.8500, 4276,   4263.5,   2.4800,  34.9010,2,  34.9020,2,    243.3,2,    242.8,2,    44.41,2,    21.36,   2,     1.36,2,   -999.0,9,   7.7340,2,    25.00,   2.1015
  35TH20040604, OVIDE,    95,  1,      4,      4,2,20040629,0443, 42.8810, -15.8500, 4276,   3996.7,   2.4960,  34.9060,2,  34.9060,2,    242.5,2,    243.0,2,    42.43,2,    20.90,   2,     1.34,2,   -999.0,9,   7.7330,2,    25.00,   2.1481
  35TH20040604, OVIDE,    95,  1,      5,      5,2,20040629,0443, 42.8810, -15.8500, 4276,   3996.7,   2.4970,  34.9070,2,  34.9140,2,    242.5,2,    242.5,2,    42.01,2,    21.10,   2,     1.34,2,   -999.0,9,   7.7320,2,    25.00,   2.1491
  35TH20040604, OVIDE,    95,  1,      6,      6,2,20040629,0443, 42.8810, -15.8500, 4276,   3746.6,   2.5400,  34.9130,2,  34.9140,2,    242.3,2,    243.2,2,    40.88,2,    21.04,   2,     1.31,2,   -999.0,9,   7.7320,2,    25.00,   2.2193
  35TH20040604, OVIDE,    95,  1,      7,      7,2,20040629,0443, 42.8810, -15.8500, 4276,   3496.9,   2.5900,  34.9210,2,  34.9240,2,    244.0,2,    243.9,2,    39.60,2,    19.86,   2,     1.27,2,   -999.0,9,   7.7340,2,    25.00,   2.2956
  35TH20040604, OVIDE,    95,  1,      8,      8,2,20040629,0443, 42.8810, -15.8500, 4276,   3246.4,   2.6870,  34.9310,2,  34.9310,2,    246.2,2,    245.6,2,    36.49,2,    20.42,   2,     1.27,2,   -999.0,9,   7.7340,2,    25.00,   2.4172
  35TH20040604, OVIDE,    95,  1,      9,      9,2,20040629,0443, 42.8810, -15.8500, 4276,   2997.0,   2.7920,  34.9410,2,  34.9440,2,    248.0,2,    247.7,2,    33.38,2,    19.80,   2,     1.27,2,   -999.0,9,   7.7340,2,    25.00,   2.5460
  35TH20040604, OVIDE,    95,  1,     10,     10,2,20040629,0443, 42.8810, -15.8500, 4276,   2745.8,   2.9720,  34.9570,2,  34.9590,2,    250.9,2,    250.5,2,    28.57,2,    19.52,   2,     1.21,2,   -999.0,9,   7.7370,2,    25.00,   2.7479
  35TH20040604, OVIDE,    95,  1,     11,     11,2,20040629,0443, 42.8810, -15.8500, 4276,   2496.2,   3.1930,  34.9710,2,  34.9710,2,    254.3,2,    253.6,2,    24.18,2,    17.94,   2,     1.12,2,   -999.0,9,   7.7350,2,    25.00,   2.9897
  35TH20040604, OVIDE,    95,  1,     12,     12,2,20040629,0443, 42.8810, -15.8500, 4276,   2246.6,   3.4570,  34.9730,2,  34.9710,2,    260.2,2,    259.8,2,    17.33,2,    17.26,   2,     1.10,2,   -999.0,9,   7.7360,2,    25.00,   3.2738
  35TH20040604, OVIDE,    95,  1,     13,     13,2,20040629,0443, 42.8810, -15.8500, 4276,   1996.4,   3.6780,  34.9770,2,  34.9730,2,    262.0,2,    263.2,2,    14.36,2,    17.43,   2,     1.05,2,   -999.0,9,   7.7340,2,    25.00,   3.5156
  35TH20040604, OVIDE,    95,  1,     14,     14,2,20040629,0443, 42.8810, -15.8500, 4276,   1796.4,   4.1090,  35.0180,2,  35.0250,2,    258.2,2,    260.1,2,    12.65,2,    17.37,   2,     1.03,2,   -999.0,9,-999.0000,9,  -999.00,   3.9595
  35TH20040604, OVIDE,    95,  1,     15,     15,2,20040629,0443, 42.8810, -15.8500, 4276,   1596.8,   5.0180,  35.1420,2,  35.1430,2,    244.4,2,    245.6,2,    11.98,2,    17.71,   2,     1.03,2,   -999.0,9,   7.7320,2,    25.00,   4.8763
  35TH20040604, OVIDE,    95,  1,     16,     16,2,20040629,0443, 42.8810, -15.8500, 4276,   1396.4,   6.1050,  35.2810,2,  35.2850,2,    230.9,2,    229.3,2,    11.08,2,    17.93,   2,     1.03,2,   -999.0,9,   7.7320,2,    25.00,   5.9716
  35TH20040604, OVIDE,    95,  1,     17,     17,2,20040629,0443, 42.8810, -15.8500, 4276,   1195.8,   8.5690,  35.6910,2,  35.6940,2,    201.1,2,    200.1,2,    10.22,2,    16.35,   2,     0.97,2,   -999.0,9,   7.7620,2,    25.00,   8.4342
  35TH20040604, OVIDE,    95,  1,     18,     18,2,20040629,0443, 42.8810, -15.8500, 4276,    970.7,  10.1000,  35.8700,2,  35.8710,2,    184.9,2,    184.6,2,     9.28,2,    16.69,   2,     0.93,2,   -999.0,9,   7.7820,2,    25.00,   9.9811
  35TH20040604, OVIDE,    95,  1,     19,     19,2,20040629,0443, 42.8810, -15.8500, 4276,    897.6,  10.0100,  35.7500,2,  35.7560,2,    184.1,2,    184.0,2,     9.13,2,    16.46,   2,     0.94,2,   -999.0,9,   7.7660,2,    25.00,   9.9011
  35TH20040604, OVIDE,    95,  1,     20,     20,2,20040629,0443, 42.8810, -15.8500, 4276,    796.3,  10.3470,  35.7140,2,  35.7190,2,    184.0,2,    183.7,2,     8.54,2,    15.96,   2,     0.94,2,   -999.0,9,   7.7700,2,    25.00,  10.2490
  35TH20040604, OVIDE,    95,  1,     21,     21,2,20040629,0443, 42.8810, -15.8500, 4276,    696.7,  10.4390,  35.6000,2,  35.6080,2,    185.9,2,    186.2,2,     7.96,2,    16.01,   2,     0.92,2,   -999.0,9,   7.7660,2,    25.00,  10.3533
  35TH20040604, OVIDE,    95,  1,     22,     22,2,20040629,0443, 42.8810, -15.8500, 4276,    596.7,  10.7940,  35.5500,2,  35.5490,2,    194.2,2,    193.4,2,     6.79,2,    15.11,   2,     0.86,2,   -999.0,9,   7.7770,2,    25.00,  10.7195
  35TH20040604, OVIDE,    95,  1,     23,     23,2,20040629,0443, 42.8810, -15.8500, 4276,    496.3,  11.2180,  35.5450,2,  35.5460,2,    205.6,2,    205.5,2,     5.46,2,    13.08,   2,     0.75,2,   -999.0,9,   7.7950,2,    25.00,  11.1548
  35TH20040604, OVIDE,    95,  1,     24,     24,2,20040629,0443, 42.8810, -15.8500, 4276,    397.0,  11.7080,  35.5860,2,  35.5860,2,    217.1,2,    216.1,2,     4.53,2,    11.73,   2,     0.65,2,   -999.0,9,   7.8160,2,    25.00,  11.6563
  35TH20040604, OVIDE,    95,  1,     25,     25,2,20040629,0443, 42.8810, -15.8500, 4276,    296.6,  12.3210,  35.6710,2,  35.6710,2,    223.2,2,    223.0,2,     3.74,2,    10.15,   2,     0.55,2,   -999.0,9,   7.8460,2,    25.00,  12.2812
  35TH20040604, OVIDE,    95,  1,     26,     26,2,20040629,0443, 42.8810, -15.8500, 4276,    196.8,  13.0330,  35.7650,2,  35.7620,2,    232.2,2,    232.2,2,     2.65,2,     7.27,   2,     0.40,2,   -999.0,9,   7.8750,2,    25.00,  13.0057
  35TH20040604, OVIDE,    95,  1,     27,     27,2,20040629,0443, 42.8810, -15.8500, 4276,    147.2,  13.4060,  35.8120,2,  35.8090,2,    239.5,2,    245.0,2,     1.48,2,     5.07,   2,     0.26,2,   -999.0,9,   7.9070,2,    25.00,  13.3852
  35TH20040604, OVIDE,    95,  1,     28,     28,2,20040629,0443, 42.8810, -15.8500, 4276,     97.2,  13.6920,  35.8430,2,  35.8430,2,    241.4,2,    242.1,2,     1.40,2,     3.95,   2,     0.21,2,   -999.0,9,   7.9140,2,    25.00,  13.6781
  35TH20040604, OVIDE,    95,  1,     29,     29,2,20040629,0443, 42.8810, -15.8500, 4276,     46.5,  14.2570,  35.9060,2,  35.9060,2,    264.4,2,    254.7,3,     0.82,2,     0.56,   2,     0.06,2,   -999.0,9,   7.9510,2,    25.00,  14.2502
  35TH20040604, OVIDE,    95,  1,     30,     30,2,20040629,0443, 42.8810, -15.8500, 4276,      3.0,  18.9380,  35.9220,2,  35.9200,2,    229.4,2,    238.8,3,     0.74,2,     0.00,   2,     0.01,2,   -999.0,9,   7.9800,2,    25.00,  18.9375
  35TH20040604, OVIDE,    96,  1,      3,      3,2,20040629,0930, 42.7310, -15.6540, 4181,   4168.7,   2.4880,  34.9040,2,  34.9030,2,    243.0,2,    242.9,2,    44.27,2,    19.74,   2,     1.24,2,   -999.0,9,   7.7320,2,    25.00,   2.1204
  35TH20040604, OVIDE,    96,  1,      4,      4,2,20040629,0930, 42.7310, -15.6540, 4181,   3697.0,   2.5520,  34.9140,2,  34.9130,2,    243.6,2,    243.7,2,    41.44,2,    19.01,   2,     1.21,2,   -999.0,9,   7.7310,2,    25.00,   2.2365
  35TH20040604, OVIDE,    96,  1,      5,      5,2,20040629,0930, 42.7310, -15.6540, 4181,   3395.8,   2.6400,  34.9260,2,  34.9250,2,    245.2,2,    245.4,2,    38.05,2,    19.40,   2,     1.24,2,   -999.0,9,   7.7310,2,    25.00,   2.3553
  35TH20040604, OVIDE,    96,  1,      6,      6,2,20040629,0930, 42.7310, -15.6540, 4181,   3196.2,   2.7250,  34.9340,2,  34.9330,2,    246.4,2,    247.2,2,    35.50,2,    19.23,   2,     1.20,2,   -999.0,9,   7.7330,2,    25.00,   2.4596
  35TH20040604, OVIDE,    96,  1,      7,      7,2,20040629,0930, 42.7310, -15.6540, 4181,   2995.8,   2.8260,  34.9440,2,  34.9460,2,    249.6,2,    247.9,2,    32.95,2,    18.78,   2,     1.18,2,   -999.0,9,   7.7340,2,    25.00,   2.5793
  35TH20040604, OVIDE,    96,  1,      8,      8,2,20040629,0930, 42.7310, -15.6540, 4181,   2794.5,   2.9640,  34.9550,2,  34.9540,2,    249.8,2,    251.3,2,    29.42,2,    17.98,   2,     1.17,2,   -999.0,9,   7.7340,2,    25.00,   2.7352
  35TH20040604, OVIDE,    96,  1,      9,      9,2,20040629,0930, 42.7310, -15.6540, 4181,   2595.4,   3.1480,  34.9680,2,  34.9660,2,    255.0,2,    253.3,2,    25.32,2,    17.13,   2,     1.10,2,   -999.0,9,   7.7350,2,    25.00,   2.9357
  35TH20040604, OVIDE,    96,  1,     10,     10,2,20040629,0930, 42.7310, -15.6540, 4181,   2395.8,   3.3270,  34.9760,2,  34.9730,2,    257.1,2,    257.1,2,    21.92,2,    16.62,   2,     1.08,2,   -999.0,9,   7.7350,2,    25.00,   3.1313
  35TH20040604, OVIDE,    96,  1,     11,     11,2,20040629,0930, 42.7310, -15.6540, 4181,   2195.1,   3.4930,  34.9680,2,  34.9650,2,    261.4,2,    261.8,2,    16.55,2,    17.08,   2,     0.99,2,   -999.0,9,   7.7360,2,    25.00,   3.3142
  35TH20040604, OVIDE,    96,  1,     12,     12,2,20040629,0930, 42.7310, -15.6540, 4181,   1996.1,   3.6140,  34.9540,2,  34.9520,2,    266.6,2,    267.9,2,    13.66,2,    16.45,   2,     0.97,2,   -999.0,9,   7.7310,2,    25.00,   3.4526
  35TH20040604, OVIDE,    96,  1,     13,     13,2,20040629,0930, 42.7310, -15.6540, 4181,   1796.5,   3.8310,  34.9620,2,  34.9630,2,    266.6,2,    266.3,2,    12.41,2,    14.98,   2,     0.98,2,   -999.0,9,   7.7270,2,    25.00,   3.6854
  35TH20040604, OVIDE,    96,  1,     14,     14,2,20040629,0930, 42.7310, -15.6540, 4181,   1595.4,   4.6690,  35.0770,2,  35.0810,2,    249.6,2,    250.6,2,    11.79,2,    13.72,   2,     1.00,2,   -999.0,9,   7.7270,2,    25.00,   4.5318
  35TH20040604, OVIDE,    96,  1,     15,     15,2,20040629,0930, 42.7310, -15.6540, 4181,   1395.9,   6.6950,  35.3980,2,  35.4000,2,    224.9,2,    222.8,2,    11.24,2,    12.82,   2,     0.95,2,   -999.0,9,   7.7450,2,    25.00,   6.5553
  35TH20040604, OVIDE,    96,  1,     16,     16,2,20040629,0930, 42.7310, -15.6540, 4181,   1245.3,   7.9850,  35.5990,2,  35.6050,2,    206.4,2,    207.8,2,    10.73,2,    12.99,   2,     0.92,2,   -999.0,9,   7.7570,2,    25.00,   7.8496
  35TH20040604, OVIDE,    96,  1,     17,     17,2,20040629,0930, 42.7310, -15.6540, 4181,   1095.9,   9.3810,  35.8150,2,  35.8150,2,    193.1,2,    192.2,2,     9.95,2,    12.15,   2,     0.88,2,   -999.0,9,   7.7680,2,    25.00,   9.2516
  35TH20040604, OVIDE,    96,  1,     18,     18,2,20040629,0930, 42.7310, -15.6540, 4181,    945.6,   9.7640,  35.7710,2,  35.7730,2,    187.0,2,    187.0,2,     9.52,2,    13.88,   2,     0.91,2,   -999.0,9,   7.7690,2,    25.00,   9.6507
  35TH20040604, OVIDE,    96,  1,     19,     19,2,20040629,0930, 42.7310, -15.6540, 4181,    794.7,  10.4000,  35.7410,2,  35.7410,2,    185.0,2,    185.1,2,     8.58,2,    13.54,   2,     0.87,2,   -999.0,9,   7.7710,2,    25.00,  10.3019
  35TH20040604, OVIDE,    96,  1,     20,     20,2,20040629,0930, 42.7310, -15.6540, 4181,    596.2,  10.6410,  35.5690,2,  35.5740,2,    192.0,2,    192.0,2,     7.30,2,    13.10,   2,     0.84,2,   -999.0,9,   7.7730,2,    25.00,  10.5672
  35TH20040604, OVIDE,    96,  1,     21,     21,2,20040629,0930, 42.7310, -15.6540, 4181,    396.6,  11.4630,  35.5630,2,  35.5650,2,    214.9,2,    215.2,2,     4.64,2,     9.48,   2,     0.63,2,   -999.0,9,   7.8100,2,    25.00,  11.4120
  35TH20040604, OVIDE,    96,  1,     22,     22,2,20040629,0930, 42.7310, -15.6540, 4181,    296.4,  12.0250,  35.6290,2,  35.6300,2,    224.9,2,    224.1,2,     3.71,2,     5.41,   2,     0.52,2,   -999.0,9,   7.8370,2,    25.00,  11.9859
  35TH20040604, OVIDE,    96,  1,     23,     23,2,20040629,0930, 42.7310, -15.6540, 4181,    197.0,  13.1330,  35.7660,2,  35.7580,3,    232.5,2,    236.0,2,     2.22,2,     3.51,   2,     0.30,2,   -999.0,9,   7.8880,2,    25.00,  13.1055
  35TH20040604, OVIDE,    96,  1,     24,     24,2,20040629,0930, 42.7310, -15.6540, 4181,    145.2,  13.5110,  35.8100,2,  35.8120,2,    247.8,2,    243.9,2,     1.48,2,     2.23,   2,     0.20,2,   -999.0,9,   7.9080,2,    25.00,  13.4904
  35TH20040604, OVIDE,    96,  1,     25,     25,2,20040629,0930, 42.7310, -15.6540, 4181,     96.1,  13.8340,  35.8400,2,  35.8430,2,    242.4,2,    242.7,2,     0.78,2,     1.23,   2,     0.12,2,   -999.0,9,-999.0000,9,  -999.00,  13.8202
  35TH20040604, OVIDE,    96,  1,     26,     26,2,20040629,0930, 42.7310, -15.6540, 4181,     96.9,  13.8620,  35.8490,2,  35.8470,2,    242.4,2,    243.2,2,     0.78,2,     1.56,   2,     0.12,2,   -999.0,9,-999.0000,9,  -999.00,  13.8480
  35TH20040604, OVIDE,    96,  1,     27,     27,2,20040629,0930, 42.7310, -15.6540, 4181,     46.3,  14.4390,  35.8460,2,  35.8490,2,    257.5,2,   -999.0,9,     0.62,2,     0.00,   2,     0.01,2,   -999.0,9,   7.9650,2,    25.00,  14.4321
  35TH20040604, OVIDE,    96,  1,     28,     28,2,20040629,0930, 42.7310, -15.6540, 4181,      6.9,  18.8230,  35.9110,2,  35.9160,2,    223.7,2,    239.0,3,     0.74,2,     0.11,   2,     0.02,2,   -999.0,9,   7.9830,2,    25.00,  18.8218