BOTTLE,20220120SIOCCHENA
EXPOCODE,SECT_ID,STNNBR,CASTNO,SAMPNO,BTLNBR,BTLNBR_FLAG_W,DATE,TIME,LATITUDE,LONGITUDE,DEPTH,CTDPRS,CTDTMP,CTDSAL,CTDSAL_FLAG_W,SALNTY,SALNTY_FLAG_W,CTDOXY,CTDOXY_FLAG_W,OXYGEN,OXYGEN_FLAG_W,SILCAT,SILCAT_FLAG_W,NITRAT,NITRAT_FLAG_W,PHSPHT,PHSPHT_FLAG_W,ALKALI,ALKALI_FLAG_W,PH_SWS,PH_SWS_FLAG_W,PH_TMP,THETA
,,,,,,,,,,,METERS,DBAR,ITS-90,PSS-78,,PSS-78,,UMOL/KG,,UMOL/KG,,UMOL/KG,,UMOL/KG,,UMOL/KG,,UMOL/KG,,,,DEG C,DEG C
  35TH20040604, OVIDE,   109,  1,      3,      3,2,20040702,1032, 40.3340, -10.9050, 4942,   4930.8,   2.5040,  34.8960,2,  34.8960,2,    239.2,2,   -999.0,9,    45.31,2,    22.06,   2,     1.34,2,   -999.0,9,   7.7360,2,    25.00,   2.0432
  35TH20040604, OVIDE,   109,  1,      4,      4,2,20040702,1032, 40.3340, -10.9050, 4942,   4696.8,   2.4800,  34.8960,2,  34.8950,2,    242.8,2,    243.2,2,    45.02,2,    22.06,   2,     1.36,2,   -999.0,9,   7.7340,2,    25.00,   2.0492
  35TH20040604, OVIDE,   109,  1,      5,      5,2,20040702,1032, 40.3340, -10.9050, 4942,   4398.0,   2.4600,  34.8990,2,  34.8980,2,    243.1,2,    242.3,2,    44.73,2,    22.12,   2,     1.36,2,   -999.0,9,   7.7320,2,    25.00,   2.0661
  35TH20040604, OVIDE,   109,  1,      6,      6,2,20040702,1032, 40.3340, -10.9050, 4942,   4095.8,   2.4600,  34.9030,2,  34.9020,2,    242.8,2,    242.5,2,    44.15,2,    22.06,   2,     1.35,2,   -999.0,9,   7.7320,2,    25.00,   2.1017
  35TH20040604, OVIDE,   109,  1,      7,      7,2,20040702,1032, 40.3340, -10.9050, 4942,   3797.8,   2.4830,  34.9090,2,  34.9100,2,    242.8,2,    242.9,2,    42.40,2,    21.83,   2,     1.33,2,   -999.0,9,   7.7340,2,    25.00,   2.1581
  35TH20040604, OVIDE,   109,  1,      8,      8,2,20040702,1032, 40.3340, -10.9050, 4942,   3497.6,   2.5600,  34.9180,2,  34.9200,2,    242.8,2,    243.3,2,    40.37,2,    21.66,   2,     1.29,2,   -999.0,9,   7.7340,2,    25.00,   2.2662
  35TH20040604, OVIDE,   109,  1,      9,      9,2,20040702,1032, 40.3340, -10.9050, 4942,   3195.9,   2.6910,  34.9330,2,  34.9410,2,    244.1,2,    244.3,2,    37.18,2,    21.19,   2,     1.26,2,   -999.0,9,   7.7350,2,    25.00,   2.4264
  35TH20040604, OVIDE,   109,  1,     10,     10,2,20040702,1032, 40.3340, -10.9050, 4942,   2992.8,   2.8120,  34.9470,2,  34.9470,2,    244.6,2,    245.1,2,    35.14,2,    20.50,   2,     1.26,2,   -999.0,9,   7.7350,2,    25.00,   2.5660
  35TH20040604, OVIDE,   109,  1,     11,     11,2,20040702,1032, 40.3340, -10.9050, 4942,   2795.0,   2.9720,  34.9640,2,  34.9650,2,    244.7,2,    245.3,2,    32.67,2,    20.84,   2,     1.22,2,   -999.0,9,   7.7340,2,    25.00,   2.7429
  35TH20040604, OVIDE,   109,  1,     12,     12,2,20040702,1032, 40.3340, -10.9050, 4942,   2596.1,   3.2100,  34.9910,2,  34.9890,2,    246.0,2,    245.1,2,    29.04,2,    20.32,   2,     1.19,2,   -999.0,9,   7.7370,2,    25.00,   2.9963
  35TH20040604, OVIDE,   109,  1,     13,     13,2,20040702,1032, 40.3340, -10.9050, 4942,   2394.8,   3.5030,  35.0250,2,  35.0270,2,    245.9,2,    245.0,2,    25.85,2,    19.86,   2,     1.12,2,   -999.0,9,   7.7400,2,    25.00,   3.3041
  35TH20040604, OVIDE,   109,  1,     14,     14,2,20040702,1032, 40.3340, -10.9050, 4942,   2195.9,   3.8650,  35.0640,2,  35.0780,3,    246.6,2,    246.3,2,    21.34,2,    19.11,   2,     1.10,2,   -999.0,9,   7.7420,2,    25.00,   3.6798
  35TH20040604, OVIDE,   109,  1,     15,     15,2,20040702,1032, 40.3340, -10.9050, 4942,   2047.0,   4.0720,  35.0770,2,  35.0780,2,    248.2,2,    248.3,2,    17.97,2,    18.71,   2,     1.04,2,   -999.0,9,   7.7390,2,    25.00,   3.8984
  35TH20040604, OVIDE,   109,  1,     16,     16,2,20040702,1032, 40.3340, -10.9050, 4942,   1865.4,   4.6260,  35.1460,2,  35.1460,2,    246.5,2,    245.6,2,    15.25,2,    18.30,   2,     0.96,2,   -999.0,9,   7.7400,2,    25.00,   4.4624
  35TH20040604, OVIDE,   109,  1,     17,     17,2,20040702,1032, 40.3340, -10.9050, 4942,   1645.0,   6.2550,  35.4140,2,  35.4130,2,    225.7,2,    227.1,2,    13.33,2,    17.55,   2,     0.86,2,   -999.0,9,   7.7550,2,    25.00,   6.0930
  35TH20040604, OVIDE,   109,  1,     18,     18,2,20040702,1032, 40.3340, -10.9050, 4942,   1345.6,   9.6420,  36.0160,2,  36.0180,2,    192.3,2,    193.2,2,    10.44,2,    16.44,   2,     0.80,2,   -999.0,9,   7.7920,2,    25.00,   9.4783
  35TH20040604, OVIDE,   109,  1,     19,     19,2,20040702,1032, 40.3340, -10.9050, 4942,   1146.0,  11.1100,  36.2520,2,  36.2500,2,    183.0,2,    181.3,2,     9.10,2,    15.40,   2,     0.81,2,   -999.0,9,   7.8020,2,    25.00,  10.9598
  35TH20040604, OVIDE,   109,  1,     20,     20,2,20040702,1032, 40.3340, -10.9050, 4942,    946.6,  11.3730,  36.1540,2,  36.1540,2,    180.4,2,    180.2,2,     8.29,2,    15.17,   2,     0.81,2,   -999.0,9,   7.7980,2,    25.00,  11.2484
  35TH20040604, OVIDE,   109,  1,     21,     21,2,20040702,1032, 40.3340, -10.9050, 4942,    796.7,  11.5890,  36.0480,2,  36.0450,2,    180.6,2,    182.7,2,     7.56,2,    15.23,   2,     0.77,2,   -999.0,9,   7.8020,2,    25.00,  11.4837
  35TH20040604, OVIDE,   109,  1,     22,     22,2,20040702,1032, 40.3340, -10.9050, 4942,    595.6,  11.1150,  35.6690,2,  35.6740,2,    187.3,2,    188.0,2,     6.99,2,    15.99,   2,     0.78,2,   -999.0,9,   7.7820,2,    25.00,  11.0392
  35TH20040604, OVIDE,   109,  1,     23,     23,2,20040702,1032, 40.3340, -10.9050, 4942,    396.8,  11.6300,  35.5970,2,  35.5980,2,    209.0,2,    207.7,2,     4.88,2,    13.28,   2,     0.67,2,   -999.0,9,   7.8020,2,    25.00,  11.5785
  35TH20040604, OVIDE,   109,  1,     24,     24,2,20040702,1032, 40.3340, -10.9050, 4942,    296.5,  12.1120,  35.6440,2,  35.6410,2,    224.9,2,    224.2,2,     3.54,2,    10.16,   2,     0.53,2,   -999.0,9,   7.8370,2,    25.00,  12.0727
  35TH20040604, OVIDE,   109,  1,     25,     25,2,20040702,1032, 40.3340, -10.9050, 4942,    195.9,  12.7140,  35.7180,2,  35.7170,2,    234.9,2,    229.6,2,     2.64,2,     7.73,   2,     0.39,2,   -999.0,9,   7.8650,2,    25.00,  12.6873
  35TH20040604, OVIDE,   109,  1,     26,     26,2,20040702,1032, 40.3340, -10.9050, 4942,    145.7,  13.1770,  35.7850,2,  35.7810,2,    236.6,2,    236.6,2,     2.03,2,     5.31,   2,     0.27,2,   -999.0,9,   7.8890,2,    25.00,  13.1567
  35TH20040604, OVIDE,   109,  1,     27,     27,2,20040702,1032, 40.3340, -10.9050, 4942,    145.8,  13.1720,  35.7830,2,  35.7830,2,    236.6,2,    236.8,2,     2.07,2,     5.37,   2,     0.20,2,   -999.0,9,   7.8930,2,    25.00,  13.1517
  35TH20040604, OVIDE,   109,  1,     28,     28,2,20040702,1032, 40.3340, -10.9050, 4942,    104.6,  13.4850,  35.8100,2,  35.8080,2,    242.8,2,    240.8,2,     1.67,2,     3.87,   2,     0.28,2,   -999.0,9,   7.9040,2,    25.00,  13.4702
  35TH20040604, OVIDE,   109,  1,     29,     29,2,20040702,1032, 40.3340, -10.9050, 4942,     54.6,  14.5750,  35.8300,2,  35.8280,2,    257.8,2,    270.9,2,     1.06,2,     0.00,   2,     0.04,2,   -999.0,9,   7.9630,2,    25.00,  14.5669
  35TH20040604, OVIDE,   109,  1,     30,     30,2,20040702,1032, 40.3340, -10.9050, 4942,      4.9,  20.3430,  36.2120,2,  36.2100,2,    218.3,2,    230.0,2,     1.02,2,     0.12,   2,     0.02,2,   -999.0,9,   7.9990,2,    25.00,  20.3421
  35TH20040604, OVIDE,   110,  1,      3,      3,2,20040702,1544, 40.3330, -10.5750, 4426,   4414.1,   2.4530,  34.8980,2,  34.8970,2,    242.3,2,    242.1,2,    45.73,2,    22.52,   2,     1.32,2,   2354.7,2,   7.7310,2,    25.00,   2.0574
  35TH20040604, OVIDE,   110,  1,      4,      4,2,20040702,1544, 40.3330, -10.5750, 4426,   3996.2,   2.4480,  34.9020,2,  34.9000,2,    242.0,2,    242.0,2,    44.70,2,    22.29,   2,     1.32,2,   2353.8,2,   7.7300,2,    25.00,   2.1016
  35TH20040604, OVIDE,   110,  1,      5,      5,2,20040702,1544, 40.3330, -10.5750, 4426,   3747.5,   2.4710,  34.9080,2,  34.9100,2,    241.6,2,    242.2,2,    43.54,2,    22.17,   2,     1.30,2,   2350.3,2,   7.7300,2,    25.00,   2.1520
  35TH20040604, OVIDE,   110,  1,      6,      6,2,20040702,1544, 40.3330, -10.5750, 4426,   3495.8,   2.5350,  34.9170,2,  34.9100,2,    242.3,2,    243.2,2,    42.08,2,    22.00,   2,     1.30,2,   2348.3,2,   7.7310,2,    25.00,   2.2421
  35TH20040604, OVIDE,   110,  1,      7,      7,2,20040702,1544, 40.3330, -10.5750, 4426,   3246.5,   2.6400,  34.9290,2,  34.9260,2,    244.2,2,    243.7,2,    39.44,2,    21.54,   2,     1.28,2,   2344.6,2,   7.7330,2,    25.00,   2.3713
  35TH20040604, OVIDE,   110,  1,      8,      8,2,20040702,1544, 40.3330, -10.5750, 4426,   2992.8,   2.8160,  34.9490,2,  34.9460,2,    245.5,2,    244.8,2,    35.65,2,    21.31,   2,     1.23,2,   2342.8,2,   7.7330,2,    25.00,   2.5699
  35TH20040604, OVIDE,   110,  1,      9,      9,2,20040702,1544, 40.3330, -10.5750, 4426,   2748.2,   3.0460,  34.9730,2,  34.9710,2,    246.5,2,    245.3,2,    32.28,2,    20.61,   2,     1.20,2,   2338.2,2,   7.7350,2,    25.00,   2.8202
  35TH20040604, OVIDE,   110,  1,     10,     10,2,20040702,1544, 40.3330, -10.5750, 4426,   2497.3,   3.3860,  35.0100,2,  35.0070,2,    245.9,2,    245.8,2,    28.34,2,    19.98,   2,     1.16,2,   2332.8,2,   7.7360,2,    25.00,   3.1790
  35TH20040604, OVIDE,   110,  1,     11,     11,2,20040702,1544, 40.3330, -10.5750, 4426,   2247.2,   3.8350,  35.0590,2,  35.0500,2,    246.8,2,    247.0,2,    23.66,2,    19.63,   2,     1.11,2,   2331.1,2,   7.7370,2,    25.00,   3.6452
  35TH20040604, OVIDE,   110,  1,     12,     12,2,20040702,1544, 40.3330, -10.5750, 4426,   1996.5,   4.2990,  35.1060,2,  35.1020,2,    247.2,2,    247.1,2,    17.08,2,    18.59,   2,     1.08,2,   2325.4,2,   7.7350,2,    25.00,   4.1270
  35TH20040604, OVIDE,   110,  1,     13,     13,2,20040702,1544, 40.3330, -10.5750, 4426,   1796.9,   5.3000,  35.2590,2,  35.2620,2,    237.3,2,    237.5,2,    13.98,2,    18.18,   2,     1.03,2,   2332.9,2,   7.7460,2,    25.00,   5.1340
  35TH20040604, OVIDE,   110,  1,     14,     14,2,20040702,1544, 40.3330, -10.5750, 4426,   1596.2,   6.8870,  35.5190,2,  35.5180,2,    218.9,2,    220.6,2,    12.23,2,    17.66,   2,     0.97,2,   2348.3,2,   7.7570,2,    25.00,   6.7227
  35TH20040604, OVIDE,   110,  1,     15,     15,2,20040702,1544, 40.3330, -10.5750, 4426,   1396.0,   9.5610,  36.0150,2,  36.0140,2,    191.3,2,    192.8,2,    10.36,2,    16.56,   2,     0.88,2,   2384.3,2,   7.7840,2,    25.00,   9.3916
  35TH20040604, OVIDE,   110,  1,     16,     16,2,20040702,1544, 40.3330, -10.5750, 4426,   1196.3,  11.0820,  36.2840,2,  36.2880,2,    181.6,2,    184.5,2,     8.73,2,    15.00,   2,     0.79,2,   2401.5,2,   7.8050,2,    25.00,  10.9251
  35TH20040604, OVIDE,   110,  1,     17,     17,2,20040702,1544, 40.3330, -10.5750, 4426,    996.4,  10.8780,  36.0840,2,  36.0830,2,    181.8,2,    179.3,2,     8.82,2,    16.21,   2,     0.84,2,   2386.3,2,   7.7870,2,    25.00,  10.7501
  35TH20040604, OVIDE,   110,  1,     18,     18,2,20040702,1544, 40.3330, -10.5750, 4426,    895.9,  11.2380,  36.1000,2,  36.0980,2,    181.7,2,    180.0,2,     8.21,2,    15.64,   2,     0.82,2,   2385.4,2,   7.7970,2,    25.00,  11.1212
  35TH20040604, OVIDE,   110,  1,     19,     19,2,20040702,1544, 40.3330, -10.5750, 4426,    796.9,  11.6200,  36.0800,2,  36.0810,2,    183.0,2,    182.3,2,     7.48,2,    14.94,   2,     0.79,2,   2381.0,2,   7.8010,2,    25.00,  11.5144
  35TH20040604, OVIDE,   110,  1,     20,     20,2,20040702,1544, 40.3330, -10.5750, 4426,    696.7,  11.6140,  35.9620,2,  35.9650,2,    183.8,2,    182.1,2,     7.15,2,    15.18,   2,     0.79,2,   -999.0,9,   7.7990,2,    25.00,  11.5222
  35TH20040604, OVIDE,   110,  1,     21,     21,2,20040702,1544, 40.3330, -10.5750, 4426,    697.6,  11.6210,  35.9640,2,  35.9610,2,    184.0,2,    182.2,2,     7.15,2,    15.18,   2,     0.79,2,   -999.0,9,   7.7970,2,    25.00,  11.5291
  35TH20040604, OVIDE,   110,  1,     22,     22,2,20040702,1544, 40.3330, -10.5750, 4426,    595.6,  11.5680,  35.8260,2,  35.8260,2,    186.2,2,    185.9,2,     6.58,2,    15.12,   2,     0.79,2,   2357.4,2,   7.7930,2,    25.00,  11.4902
  35TH20040604, OVIDE,   110,  1,     23,     23,2,20040702,1544, 40.3330, -10.5750, 4426,    497.8,  11.5310,  35.6860,2,  35.6840,2,    193.0,2,    189.9,2,     5.93,2,    15.00,   2,     0.77,2,   2344.7,2,   7.7930,2,    25.00,  11.4664
  35TH20040604, OVIDE,   110,  1,     24,     24,2,20040702,1544, 40.3330, -10.5750, 4426,    398.6,  11.7830,  35.6310,2,  35.6310,2,    197.4,2,    200.9,2,     4.80,2,    13.45,   2,     0.68,2,   2338.1,2,   7.8020,2,    25.00,  11.7308
  35TH20040604, OVIDE,   110,  1,     25,     25,2,20040702,1544, 40.3330, -10.5750, 4426,    297.0,  12.3360,  35.6710,2,  35.6720,2,    220.2,2,    218.9,2,     1.95,2,     6.06,   3,     0.51,2,   2339.0,2,   7.8350,2,    25.00,  12.2961
  35TH20040604, OVIDE,   110,  1,     26,     26,2,20040702,1544, 40.3330, -10.5750, 4426,    196.8,  13.1400,  35.7870,2,  35.7850,2,    231.4,2,    233.5,2,     3.33,2,    10.27,   2,     0.30,2,   2346.7,2,   7.8700,2,    25.00,  13.1125
  35TH20040604, OVIDE,   110,  1,     27,     27,2,20040702,1544, 40.3330, -10.5750, 4426,    146.3,  14.0150,  35.9150,2,  35.9110,2,    218.3,2,    225.5,2,     1.95,2,     5.37,   2,     0.28,2,   -999.0,9,   7.8960,2,    25.00,  13.9937
  35TH20040604, OVIDE,   110,  1,     28,     28,2,20040702,1544, 40.3330, -10.5750, 4426,     98.4,  14.7550,  36.0610,2,  36.0540,2,    221.3,2,    227.7,2,     1.54,2,     3.75,   2,     0.20,2,   2364.2,2,   7.9180,2,    25.00,  14.7402
  35TH20040604, OVIDE,   110,  1,     29,     29,2,20040702,1544, 40.3330, -10.5750, 4426,     46.7,  15.5380,  36.1080,2,  36.1030,2,    253.6,2,    245.8,2,     1.06,2,     0.12,   2,     0.04,2,   -999.0,9,   7.9710,2,    25.00,  15.5307
  35TH20040604, OVIDE,   110,  1,     30,     30,2,20040702,1544, 40.3330, -10.5750, 4426,      4.6,  20.1050,  36.1890,2,  36.1890,2,    224.4,2,    232.0,2,     0.81,2,     0.00,   2,     0.02,2,   2375.1,2,   7.9950,2,    25.00,  20.1041