BOTTLE,20220120SIOCCHENA
EXPOCODE,SECT_ID,STNNBR,CASTNO,SAMPNO,BTLNBR,BTLNBR_FLAG_W,DATE,TIME,LATITUDE,LONGITUDE,DEPTH,CTDPRS,CTDTMP,CTDSAL,CTDSAL_FLAG_W,SALNTY,SALNTY_FLAG_W,CTDOXY,CTDOXY_FLAG_W,OXYGEN,OXYGEN_FLAG_W,SILCAT,SILCAT_FLAG_W,NITRAT,NITRAT_FLAG_W,PHSPHT,PHSPHT_FLAG_W,ALKALI,ALKALI_FLAG_W,PH_SWS,PH_SWS_FLAG_W,PH_TMP,THETA
,,,,,,,,,,,METERS,DBAR,ITS-90,PSS-78,,PSS-78,,UMOL/KG,,UMOL/KG,,UMOL/KG,,UMOL/KG,,UMOL/KG,,UMOL/KG,,,,DEG C,DEG C
  35TH20040604, OVIDE,   101,  1,      3,      3,2,20040630,1239, 41.6830, -14.2780, 5444,   5433.4,   2.5720,  34.8950,2,  34.8940,2,    243.7,2,    243.5,2,    46.12,2,    22.45,   2,     1.39,2,   -999.0,9,   7.7360,2,    25.00,   2.0437
  35TH20040604, OVIDE,   101,  1,      4,      4,2,20040630,1239, 41.6830, -14.2780, 5444,   4998.7,   2.5190,  34.8970,2,  34.8960,2,    243.2,2,    242.8,2,    46.26,2,    22.22,   2,     1.38,2,   -999.0,9,   7.7360,2,    25.00,   2.0490
  35TH20040604, OVIDE,   101,  1,      5,      5,2,20040630,1239, 41.6830, -14.2780, 5444,   4699.5,   2.5000,  34.9000,2,  34.9020,2,    243.1,2,    244.1,2,    45.54,2,    21.87,   2,     1.35,2,   -999.0,9,   7.7370,2,    25.00,   2.0682
  35TH20040604, OVIDE,   101,  1,      6,      6,2,20040630,1239, 41.6830, -14.2780, 5444,   4396.6,   2.4960,  34.9040,2,  34.9000,2,    243.4,2,    243.5,2,    44.96,2,    22.04,   2,     1.36,2,   -999.0,9,   7.7320,2,    25.00,   2.1012
  35TH20040604, OVIDE,   101,  1,      7,      7,2,20040630,1239, 41.6830, -14.2780, 5444,   4098.7,   2.5130,  34.9070,2,  34.9070,2,    243.1,2,    243.3,2,    43.95,2,    22.04,   2,     1.38,2,   -999.0,9,   7.7340,2,    25.00,   2.1529
  35TH20040604, OVIDE,   101,  1,      8,      8,2,20040630,1239, 41.6830, -14.2780, 5444,   3796.4,   2.5560,  34.9160,2,  34.9120,2,    243.9,2,    243.3,2,    41.93,2,    21.99,   2,     1.35,2,   -999.0,9,   7.7350,2,    25.00,   2.2293
  35TH20040604, OVIDE,   101,  1,      9,      9,2,20040630,1239, 41.6830, -14.2780, 5444,   3496.5,   2.6350,  34.9270,2,  34.9290,2,    245.1,2,    244.6,2,    38.89,2,    21.76,   2,     1.30,2,   -999.0,9,   7.7360,2,    25.00,   2.3395
  35TH20040604, OVIDE,   101,  1,     10,     10,2,20040630,1239, 41.6830, -14.2780, 5444,   3195.8,   2.7520,  34.9380,2,  34.9380,2,    247.1,2,    246.9,2,    35.71,2,    20.90,   2,     1.27,2,   -999.0,9,   7.7360,2,    25.00,   2.4860
  35TH20040604, OVIDE,   101,  1,     11,     11,2,20040630,1239, 41.6830, -14.2780, 5444,   2996.7,   2.8560,  34.9490,2,  34.9500,2,    248.6,2,    248.5,2,    30.22,2,    20.67,   2,     1.25,2,   -999.0,9,   7.7380,2,    25.00,   2.6086
  35TH20040604, OVIDE,   101,  1,     12,     12,2,20040630,1239, 41.6830, -14.2780, 5444,   2795.2,   3.0160,  34.9630,2,  34.9610,2,    250.4,2,    250.1,2,    29.78,2,    20.15,   2,     1.22,2,   -999.0,9,   7.7360,2,    25.00,   2.7860
  35TH20040604, OVIDE,   101,  1,     13,     13,2,20040630,1239, 41.6830, -14.2780, 5444,   2596.4,   3.2110,  34.9780,2,  34.9790,2,    252.4,2,    252.9,2,    25.88,2,    19.69,   2,     1.18,2,   -999.0,9,   7.7360,2,    25.00,   2.9973
  35TH20040604, OVIDE,   101,  1,     14,     14,2,20040630,1239, 41.6830, -14.2780, 5444,   2397.6,   3.4250,  34.9920,2,  34.9950,2,    254.3,2,    254.4,2,  -999.00,9,    19.57,   2,     1.14,2,   -999.0,9,   7.7400,2,    25.00,   3.2273
  35TH20040604, OVIDE,   101,  1,     15,     15,2,20040630,1239, 41.6830, -14.2780, 5444,   2195.6,   3.6650,  34.9990,2,  34.9990,2,    257.2,2,    258.1,2,    16.92,2,    18.83,   2,     1.10,2,   -999.0,9,   7.7340,2,    25.00,   3.4833
  35TH20040604, OVIDE,   101,  1,     16,     16,2,20040630,1239, 41.6830, -14.2780, 5444,   1995.0,   3.8970,  35.0110,2,  35.0100,2,    258.1,2,    260.1,2,    14.32,2,    18.14,   2,     1.06,2,   -999.0,9,   7.7350,2,    25.00,   3.7313
  35TH20040604, OVIDE,   101,  1,     17,     17,2,20040630,1239, 41.6830, -14.2780, 5444,   1794.8,   4.2850,  35.0490,2,  35.0460,2,    255.3,2,    256.7,2,    12.67,2,    18.14,   2,     1.04,2,   -999.0,9,   7.7340,2,    25.00,   4.1333
  35TH20040604, OVIDE,   101,  1,     18,     18,2,20040630,1239, 41.6830, -14.2780, 5444,   1596.2,   5.7430,  35.2880,2,  35.2910,2,    239.3,2,    236.2,2,    12.08,2,    18.25,   2,     1.04,2,   -999.0,9,   7.7450,2,    25.00,   5.5925
  35TH20040604, OVIDE,   101,  1,     19,     19,2,20040630,1239, 41.6830, -14.2780, 5444,   1396.1,   7.5760,  35.5990,2,  35.6060,2,    213.5,2,    212.4,2,    11.21,2,    17.90,   2,     1.03,2,   -999.0,9,   7.7650,2,    25.00,   7.4270
  35TH20040604, OVIDE,   101,  1,     20,     20,2,20040630,1239, 41.6830, -14.2780, 5444,   1146.7,   9.9480,  35.9870,2,  35.9880,2,    189.2,2,    189.1,2,     9.83,2,    16.98,   2,     0.91,2,   -999.0,9,   7.7810,2,    25.00,   9.8074
  35TH20040604, OVIDE,   101,  1,     21,     21,2,20040630,1239, 41.6830, -14.2780, 5444,    996.9,  10.4120,  35.9630,2,  35.9610,2,    182.0,2,    182.2,2,     9.28,2,    16.81,   2,     0.90,2,   -999.0,9,   7.7850,2,    25.00,  10.2874
  35TH20040604, OVIDE,   101,  1,     22,     22,2,20040630,1239, 41.6830, -14.2780, 5444,    746.0,  11.0310,  35.8390,2,  35.8350,2,    183.5,2,    183.1,2,     7.90,2,    16.18,   2,     0.86,2,   -999.0,9,   7.7820,2,    25.00,  10.9357
  35TH20040604, OVIDE,   101,  1,     23,     23,2,20040630,1239, 41.6830, -14.2780, 5444,    546.1,  10.8440,  35.5170,2,  35.5180,2,    202.8,2,    203.6,2,     6.37,2,    15.15,   2,     0.78,2,   -999.0,9,   7.7870,2,    25.00,  10.7758
  35TH20040604, OVIDE,   101,  1,     24,     24,2,20040630,1239, 41.6830, -14.2780, 5444,    397.4,  11.6170,  35.5860,2,  35.5860,2,    218.5,2,    217.7,2,     4.52,2,    12.34,   2,     0.63,2,   -999.0,9,   7.8180,2,    25.00,  11.5655
  35TH20040604, OVIDE,   101,  1,     25,     25,2,20040630,1239, 41.6830, -14.2780, 5444,    296.8,  12.1890,  35.6530,2,  35.6530,2,    222.2,2,    221.7,2,     3.50,2,    10.33,   2,     0.52,2,   -999.0,9,   7.8380,2,    25.00,  12.1495
  35TH20040604, OVIDE,   101,  1,     26,     26,2,20040630,1239, 41.6830, -14.2780, 5444,    197.6,  12.6840,  35.7150,2,  35.7160,2,    237.8,2,    237.0,2,     2.20,2,     6.83,   2,     0.34,2,   -999.0,9,   7.8770,2,    25.00,  12.6571
  35TH20040604, OVIDE,   101,  1,     27,     27,2,20040630,1239, 41.6830, -14.2780, 5444,    140.2,  13.0580,  35.7660,2,  35.7600,2,    236.9,2,    241.0,2,     1.77,2,     5.39,   2,     0.39,2,   -999.0,9,   7.8980,2,    25.00,  13.0386
  35TH20040604, OVIDE,   101,  1,     28,     28,2,20040630,1239, 41.6830, -14.2780, 5444,    106.4,  13.3270,  35.8070,2,  35.8070,2,    235.4,2,    239.3,2,     1.77,2,     4.70,   2,     0.24,2,   -999.0,9,   7.9080,2,    25.00,  13.3121
  35TH20040604, OVIDE,   101,  1,     29,     29,2,20040630,1239, 41.6830, -14.2780, 5444,     50.3,  14.1120,  35.8220,2,  35.8290,2,    261.7,2,    257.8,2,     1.10,2,     0.57,   2,     0.05,2,   -999.0,9,   7.9440,2,    25.00,  14.1047
  35TH20040604, OVIDE,   101,  1,     30,     30,2,20040630,1239, 41.6830, -14.2780, 5444,      5.0,  19.3270,  35.8690,2,  35.8660,2,    228.0,2,    259.6,3,     0.86,2,     0.12,   2,     0.01,2,   -999.0,9,   7.9810,2,    25.00,  19.3261
  35TH20040604, OVIDE,   102,  1,      3,      3,2,20040630,1835, 41.3830, -13.8880, 5450,   5439.4,   2.5700,  34.8960,2,  34.8960,2,    243.8,2,    243.6,2,    46.79,2,    22.23,   2,     1.31,2,   2352.6,2,   7.7350,2,    25.00,   2.0410
  35TH20040604, OVIDE,   102,  1,      4,      4,2,20040630,1835, 41.3830, -13.8880, 5450,   4998.2,   2.5200,  34.8980,2,  34.8960,2,    243.2,2,    243.3,2,    46.50,2,    22.23,   2,     1.30,2,   2352.6,2,   7.7340,2,    25.00,   2.0501
  35TH20040604, OVIDE,   102,  1,      5,      5,2,20040630,1835, 41.3830, -13.8880, 5450,   4496.5,   2.4920,  34.9000,2,  34.9000,2,    242.9,2,    243.0,2,    45.64,2,    22.18,   2,     1.30,2,   2349.7,2,   7.7360,2,    25.00,   2.0853
  35TH20040604, OVIDE,   102,  1,      6,      6,2,20040630,1835, 41.3830, -13.8880, 5450,   3997.5,   2.5260,  34.9100,2,  34.9070,2,    243.0,2,    244.0,2,    43.63,2,    21.89,   2,     1.29,2,   2348.5,2,   7.7350,2,    25.00,   2.1772
  35TH20040604, OVIDE,   102,  1,      7,      7,2,20040630,1835, 41.3830, -13.8880, 5450,   3496.4,   2.6170,  34.9230,2,  34.9220,2,    245.7,2,    244.7,2,    39.90,2,    21.48,   2,     1.26,2,   2343.3,2,   7.7340,2,    25.00,   2.3220
  35TH20040604, OVIDE,   102,  1,      8,      8,2,20040630,1835, 41.3830, -13.8880, 5450,   3247.5,   2.7030,  34.9330,2,  34.9280,2,    247.4,2,    246.7,2,    35.59,2,    20.90,   2,     1.22,2,   2339.0,2,   7.7350,2,    25.00,   2.4327
  35TH20040604, OVIDE,   102,  1,      9,      9,2,20040630,1835, 41.3830, -13.8880, 5450,   2996.7,   2.8120,  34.9440,2,  34.9460,2,    249.3,2,    248.1,2,    34.30,2,    20.56,   2,     1.21,2,   2335.9,2,   7.7370,2,    25.00,   2.5656
  35TH20040604, OVIDE,   102,  1,     10,     10,2,20040630,1835, 41.3830, -13.8880, 5450,   2745.2,   2.9880,  34.9600,2,  34.9560,2,    250.6,2,    250.8,2,    31.14,2,    19.81,   2,     1.17,2,   2331.7,2,   7.7370,2,    25.00,   2.7637
  35TH20040604, OVIDE,   102,  1,     11,     11,2,20040630,1835, 41.3830, -13.8880, 5450,   2496.4,   3.2170,  34.9800,2,  34.9740,2,    250.6,2,    252.1,2,    26.69,2,    19.63,   2,     1.12,2,   2327.2,2,   7.7390,2,    25.00,   3.0133
  35TH20040604, OVIDE,   102,  1,     12,     12,2,20040630,1835, 41.3830, -13.8880, 5450,   2245.9,   3.5300,  35.0100,2,  35.0050,2,    252.4,2,    252.0,2,    23.25,2,    18.94,   2,     1.08,2,   2324.2,2,   7.7410,2,    25.00,   3.3455
  35TH20040604, OVIDE,   102,  1,     13,     13,2,20040630,1835, 41.3830, -13.8880, 5450,   1997.5,   3.8900,  35.0510,2,  35.0470,2,    251.9,2,    252.2,2,    17.56,2,    18.76,   2,     1.06,2,   2321.7,2,   7.7420,2,    25.00,   3.7241
  35TH20040604, OVIDE,   102,  1,     14,     14,2,20040630,1835, 41.3830, -13.8880, 5450,   1796.6,   5.3260,  35.2710,2,  35.2720,2,    234.4,2,    237.1,2,    14.50,2,    18.24,   2,     1.01,2,   2335.7,2,   7.7490,2,    25.00,   5.1597
  35TH20040604, OVIDE,   102,  1,     15,     15,2,20040630,1835, 41.3830, -13.8880, 5450,   1596.3,   7.4030,  35.6120,2,  35.6160,2,    214.4,2,    214.8,2,    12.06,2,    17.55,   2,     0.95,2,   2356.7,2,   7.7640,2,    25.00,   7.2326
  35TH20040604, OVIDE,   102,  1,     16,     16,2,20040630,1835, 41.3830, -13.8880, 5450,   1397.3,   8.8920,  35.8400,2,  35.8420,2,    200.5,2,    200.2,2,    10.42,2,    16.96,   2,     0.89,2,   2370.2,2,   7.7760,2,    25.00,   8.7293
  35TH20040604, OVIDE,   102,  1,     17,     17,2,20040630,1835, 41.3830, -13.8880, 5450,   1175.2,   9.9390,  35.9610,2,  35.9630,2,    189.7,2,    188.3,2,     9.87,2,    16.73,   2,     0.86,2,   2379.7,2,   7.7850,2,    25.00,   9.7948
  35TH20040604, OVIDE,   102,  1,     18,     18,2,20040630,1835, 41.3830, -13.8880, 5450,   1096.1,   9.8720,  35.8690,2,  35.8660,2,    188.8,2,    186.6,2,     9.83,2,    17.08,   2,     0.89,2,   2369.2,2,   7.7750,2,    25.00,   9.7387
  35TH20040604, OVIDE,   102,  1,     19,     19,2,20040630,1835, 41.3830, -13.8880, 5450,    997.9,  10.3490,  35.9050,2,  35.9050,2,    181.6,2,    182.5,2,     9.32,2,    17.02,   2,     0.87,2,   2372.9,2,   7.7800,2,    25.00,  10.2248
  35TH20040604, OVIDE,   102,  1,     20,     20,2,20040630,1835, 41.3830, -13.8880, 5450,    895.8,  10.5880,  35.8790,2,  35.8790,2,    183.1,2,    181.6,2,     8.85,2,    16.56,   2,     0.86,2,   -999.0,9,   7.7830,2,    25.00,  10.4755
  35TH20040604, OVIDE,   102,  1,     21,     21,2,20040630,1835, 41.3830, -13.8880, 5450,    796.4,  10.8010,  35.8140,2,  35.8130,2,    183.6,2,    182.7,2,     8.34,2,    16.45,   2,     0.84,2,   2362.2,2,   7.7830,2,    25.00,  10.7003
  35TH20040604, OVIDE,   102,  1,     22,     22,2,20040630,1835, 41.3830, -13.8880, 5450,    646.5,  10.6790,  35.6010,2,  35.6030,2,    190.8,2,    188.6,2,     7.64,2,    15.93,   2,     0.83,2,   -999.0,9,   7.7730,2,    25.00,  10.5986
  35TH20040604, OVIDE,   102,  1,     23,     23,2,20040630,1835, 41.3830, -13.8880, 5450,    497.4,  11.2610,  35.5660,2,  35.5630,2,    207.5,2,    209.5,2,     5.41,2,    13.68,   2,     0.68,2,   2338.6,2,   7.8020,2,    25.00,  11.1975
  35TH20040604, OVIDE,   102,  1,     24,     24,2,20040630,1835, 41.3830, -13.8880, 5450,    397.8,  11.6570,  35.5870,2,  35.5850,2,    213.9,2,    219.6,2,     4.58,2,    12.18,   2,     0.60,2,   2336.6,2,   7.8190,2,    25.00,  11.6053
  35TH20040604, OVIDE,   102,  1,     25,     25,2,20040630,1835, 41.3830, -13.8880, 5450,    296.7,  12.2410,  35.6620,2,  35.6610,2,    221.1,2,    222.4,2,     3.88,2,    10.68,   2,     0.51,2,   2341.3,2,   7.8410,2,    25.00,  12.2014
  35TH20040604, OVIDE,   102,  1,     26,     26,2,20040630,1835, 41.3830, -13.8880, 5450,    196.4,  12.7990,  35.7310,2,  35.7310,2,    238.7,2,    232.0,2,     2.78,2,     7.68,   2,     0.36,2,   2346.9,2,   7.8740,2,    25.00,  12.7721
  35TH20040604, OVIDE,   102,  1,     27,     27,2,20040630,1835, 41.3830, -13.8880, 5450,    146.3,  13.1520,  35.7800,2,  35.7790,2,    237.0,2,    240.2,2,     2.04,2,     5.42,   2,     0.26,2,   -999.0,9,   7.8940,2,    25.00,  13.1316
  35TH20040604, OVIDE,   102,  1,     28,     28,2,20040630,1835, 41.3830, -13.8880, 5450,     95.2,  13.7350,  35.8550,2,  35.8520,2,    239.0,2,    241.2,2,     1.64,2,     3.58,   2,     0.19,2,   2354.7,2,   7.9180,2,    25.00,  13.7214
  35TH20040604, OVIDE,   102,  1,     29,     29,2,20040630,1835, 41.3830, -13.8880, 5450,     47.1,  14.2720,  35.9120,2,  35.9150,2,    267.9,2,    250.3,3,     1.29,2,     0.64,   2,     0.07,2,   -999.0,9,   7.9440,2,    25.00,  14.2651
  35TH20040604, OVIDE,   102,  1,     30,     30,2,20040630,1835, 41.3830, -13.8880, 5450,      4.8,  19.4570,  35.9070,2,  35.9080,2,    223.1,2,    240.1,3,     1.02,2,     0.00,   2,     0.01,2,   2362.6,2,   7.9890,2,    25.00,  19.4561