BOTTLE,20220120SIOCCHENA
EXPOCODE,SECT_ID,STNNBR,CASTNO,SAMPNO,BTLNBR,BTLNBR_FLAG_W,DATE,TIME,LATITUDE,LONGITUDE,DEPTH,CTDPRS,CTDTMP,CTDSAL,CTDSAL_FLAG_W,SALNTY,SALNTY_FLAG_W,CTDOXY,CTDOXY_FLAG_W,OXYGEN,OXYGEN_FLAG_W,SILCAT,SILCAT_FLAG_W,NITRAT,NITRAT_FLAG_W,PHSPHT,PHSPHT_FLAG_W,ALKALI,ALKALI_FLAG_W,PH_SWS,PH_SWS_FLAG_W,PH_TMP,THETA
,,,,,,,,,,,METERS,DBAR,ITS-90,PSS-78,,PSS-78,,UMOL/KG,,UMOL/KG,,UMOL/KG,,UMOL/KG,,UMOL/KG,,UMOL/KG,,,,DEG C,DEG C
  35TH20040604, OVIDE,    85,  1,      3,      3,2,20040626,1720, 45.4210, -18.7980, 4653,   4640.6,   2.5990,  34.9100,2,  34.9070,2,    238.8,2,    239.6,2,    44.04,2,    22.96,   2,     1.37,2,   2355.9,2,   7.7260,2,    25.00,   2.1713
  35TH20040604, OVIDE,    85,  1,      4,      4,2,20040626,1720, 45.4210, -18.7980, 4653,   4498.6,   2.5860,  34.9110,2,  34.9080,2,    240.7,2,    239.8,2,    43.90,2,    23.19,   2,     1.43,2,   2353.6,2,   7.7230,2,    25.00,   2.1761
  35TH20040604, OVIDE,    85,  1,      5,      5,2,20040626,1720, 45.4210, -18.7980, 4653,   3997.0,   2.5800,  34.9150,2,  34.9160,2,    242.6,2,    242.2,2,    41.60,2,    23.54,   2,     1.35,2,   2352.6,2,   7.7240,2,    25.00,   2.2297
  35TH20040604, OVIDE,    85,  1,      6,      6,2,20040626,1720, 45.4210, -18.7980, 4653,   3748.3,   2.6110,  34.9220,2,  34.9180,2,    243.4,2,    243.8,2,    39.44,2,    23.02,   2,     1.34,2,   2347.7,2,   7.7250,2,    25.00,   2.2882
  35TH20040604, OVIDE,    85,  1,      7,      7,2,20040626,1720, 45.4210, -18.7980, 4653,   3496.4,   2.6840,  34.9290,2,  34.9280,2,    247.7,2,    247.5,2,    35.41,2,    21.70,   2,     1.28,2,   2341.2,2,   7.7270,2,    25.00,   2.3873
  35TH20040604, OVIDE,    85,  1,      8,      8,2,20040626,1720, 45.4210, -18.7980, 4653,   3244.3,   2.7760,  34.9370,2,  34.9360,2,    253.5,2,    253.1,2,    30.80,2,    20.67,   2,     1.21,2,   2333.0,2,   7.7250,2,    25.00,   2.5043
  35TH20040604, OVIDE,    85,  1,      9,      9,2,20040626,1720, 45.4210, -18.7980, 4653,   2995.6,   2.9270,  34.9450,2,  34.9470,2,    257.7,2,    258.7,2,    24.47,2,    19.86,   2,     1.13,2,   2323.8,2,   7.7270,2,    25.00,   2.6782
  35TH20040604, OVIDE,    85,  1,     10,     10,2,20040626,1720, 45.4210, -18.7980, 4653,   2747.2,   3.0730,  34.9410,2,  34.9380,2,    264.9,2,    265.4,2,    18.32,2,    18.60,   2,     1.07,2,   2315.7,2,   7.7260,2,    25.00,   2.8469
  35TH20040604, OVIDE,    85,  1,     11,     11,2,20040626,1720, 45.4210, -18.7980, 4653,   2495.6,   3.1690,  34.9220,2,  34.9200,2,    273.6,2,    273.8,2,    14.13,2,    18.08,   2,     1.04,2,   2307.2,2,   7.7240,2,    25.00,   2.9665
  35TH20040604, OVIDE,    85,  1,     12,     12,2,20040626,1720, 45.4210, -18.7980, 4653,   2247.4,   3.2360,  34.9010,2,  34.8980,2,    278.7,2,    278.7,2,    12.27,2,    18.08,   2,     1.02,2,   2303.6,2,   7.7220,2,    25.00,   3.0566
  35TH20040604, OVIDE,    85,  1,     13,     13,2,20040626,1720, 45.4210, -18.7980, 4653,   1995.5,   3.3570,  34.8960,2,  34.8930,2,    279.9,2,    278.4,2,    11.34,2,    18.20,   2,     1.03,2,   2302.7,2,   7.7190,2,    25.00,   3.1997
  35TH20040604, OVIDE,    85,  1,     14,     14,2,20040626,1720, 45.4210, -18.7980, 4653,   1794.5,   3.5450,  34.9030,2,  34.9050,2,    276.2,2,    275.5,2,    11.58,2,    18.14,   2,     1.05,2,   2301.9,2,   7.7160,2,    25.00,   3.4036
  35TH20040604, OVIDE,    85,  1,     15,     15,2,20040626,1720, 45.4210, -18.7980, 4653,   1595.5,   3.7970,  34.9230,2,  34.9220,2,    269.9,2,    269.3,2,    11.30,2,    18.89,   2,     1.03,2,   2304.4,2,   7.7140,2,    25.00,   3.6706
  35TH20040604, OVIDE,    85,  1,     16,     16,2,20040626,1720, 45.4210, -18.7980, 4653,   1396.0,   4.2500,  34.9650,2,  34.9660,2,    261.4,2,    260.5,2,    11.18,2,    18.83,   2,     1.05,2,   2308.3,2,   7.7120,2,    25.00,   4.1366
  35TH20040604, OVIDE,    85,  1,     17,     17,2,20040626,1720, 45.4210, -18.7980, 4653,   1198.5,   5.2170,  35.0790,2,  35.0780,2,    239.3,2,    239.9,2,    11.26,2,    19.23,   2,     1.05,2,   2315.9,2,   7.7110,2,    25.00,   5.1124
  35TH20040604, OVIDE,    85,  1,     18,     18,2,20040626,1720, 45.4210, -18.7980, 4653,   1032.5,   6.7880,  35.2910,2,  35.2890,2,    214.7,2,    216.6,2,    11.25,2,    19.34,   2,     1.05,2,   2330.3,2,   7.7210,2,    25.00,   6.6866
  35TH20040604, OVIDE,    85,  1,     19,     19,2,20040626,1720, 45.4210, -18.7980, 4653,    896.0,   7.5540,  35.3070,2,  35.3090,2,    199.4,2,    203.5,2,    10.97,2,    19.68,   2,     1.07,2,   -999.0,9,   7.7230,2,    25.00,   7.4618
  35TH20040604, OVIDE,    85,  1,     20,     20,2,20040626,1720, 45.4210, -18.7980, 4653,    796.2,   8.2340,  35.3060,2,  35.3070,2,    195.4,2,    195.1,2,    10.52,2,    19.74,   2,     1.10,2,   2331.2,2,   7.7220,2,    25.00,   8.1486
  35TH20040604, OVIDE,    85,  1,     21,     21,2,20040626,1720, 45.4210, -18.7980, 4653,    696.9,   9.1480,  35.3410,2,  35.3400,2,    191.4,2,    191.4,2,     9.63,2,    19.23,   2,     1.03,2,   -999.0,9,   7.7350,2,    25.00,   9.0690
  35TH20040604, OVIDE,    85,  1,     22,     22,2,20040626,1720, 45.4210, -18.7980, 4653,    616.2,   9.5230,  35.2990,2,  35.2980,2,    196.1,2,    195.1,2,     8.99,2,    18.65,   2,     1.01,2,   2325.1,2,   7.7460,2,    25.00,   9.4518
  35TH20040604, OVIDE,    85,  1,     23,     23,2,20040626,1720, 45.4210, -18.7980, 4653,    496.6,  10.7950,  35.4610,2,  35.4610,2,    219.2,2,    218.4,2,     5.91,2,    14.75,   2,     0.75,2,   2332.0,2,   7.7910,2,    25.00,  10.7333
  35TH20040604, OVIDE,    85,  1,     24,     24,2,20040626,1720, 45.4210, -18.7980, 4653,    376.0,  11.4590,  35.5420,2,  35.5430,2,    232.1,2,    228.2,2,     4.78,2,    12.68,   2,     0.64,2,   2336.0,2,   7.8220,2,    25.00,  11.4107
  35TH20040604, OVIDE,    85,  1,     25,     25,2,20040626,1720, 45.4210, -18.7980, 4653,    296.0,  11.7800,  35.5770,2,  35.5790,2,    237.4,2,    235.5,2,     4.29,2,    11.70,   2,     0.60,2,   2339.3,2,   7.8410,2,    25.00,  11.7414
  35TH20040604, OVIDE,    85,  1,     26,     26,2,20040626,1720, 45.4210, -18.7980, 4653,    196.4,  12.4260,  35.6910,2,  35.6960,2,    242.6,2,    243.1,2,     3.00,2,     9.18,   2,     0.47,2,   2344.0,2,   7.8670,2,    25.00,  12.3996
  35TH20040604, OVIDE,    85,  1,     27,     27,2,20040626,1720, 45.4210, -18.7980, 4653,    144.8,  12.5400,  35.6860,2,  35.6860,2,    241.9,2,    242.2,2,     3.08,2,     9.41,   2,     0.47,2,   -999.0,9,   7.8690,2,    25.00,  12.5205
  35TH20040604, OVIDE,    85,  1,     28,     28,2,20040626,1720, 45.4210, -18.7980, 4653,     97.4,  12.8630,  35.7360,2,  35.7350,2,    238.6,2,    247.4,2,     2.18,2,     7.98,   2,     0.39,2,   2347.2,2,   7.8850,2,    25.00,  12.8497
  35TH20040604, OVIDE,    85,  1,     29,     29,2,20040626,1720, 45.4210, -18.7980, 4653,     45.5,  13.4250,  35.7710,2,  35.7730,2,    264.0,2,    254.4,2,     1.58,2,     5.79,   2,     0.31,2,   -999.0,9,   7.9090,2,    25.00,  13.4186
  35TH20040604, OVIDE,    85,  1,     30,     30,2,20040626,1720, 45.4210, -18.7980, 4653,      5.1,  17.4660,  35.7450,2,  35.7430,2,    245.2,2,    251.1,2,     0.81,2,     0.29,   2,     0.08,2,   2353.6,2,   7.9960,2,    25.00,  17.4651
  35TH20040604, OVIDE,    86,  1,      3,      3,2,20040627,2249, 45.0490, -18.5020, 4757,   4745.0,   2.6160,  34.9090,2,  34.9110,2,    240.0,2,    240.2,2,    44.24,2,    23.18,   2,     1.35,2,   -999.0,9,   7.7300,2,    25.00,   2.1748
  35TH20040604, OVIDE,    86,  1,      4,      4,2,20040627,2249, 45.0490, -18.5020, 4757,   4298.9,   2.5750,  34.9110,2,  34.9110,2,    240.9,2,    240.4,2,    43.52,2,    23.07,   2,     1.35,2,   -999.0,9,   7.7290,2,    25.00,   2.1895
  35TH20040604, OVIDE,    86,  1,      5,      5,2,20040627,2249, 45.0490, -18.5020, 4757,   3994.6,   2.5730,  34.9140,2,  34.9170,2,    241.7,2,    241.5,2,    42.07,2,    22.83,   2,     1.34,2,   -999.0,9,-999.0000,9,  -999.00,   2.2232
  35TH20040604, OVIDE,    86,  1,      6,      6,2,20040627,2249, 45.0490, -18.5020, 4757,   3797.4,   2.5810,  34.9180,2,  34.9180,2,    242.4,2,    242.1,2,    41.49,2,    22.77,   2,     1.33,2,   -999.0,9,   7.7300,2,    25.00,   2.2535
  35TH20040604, OVIDE,    86,  1,      7,      7,2,20040627,2249, 45.0490, -18.5020, 4757,   3597.2,   2.6140,  34.9230,2,  34.9270,2,    243.1,2,    244.3,2,    39.04,2,    22.24,   2,     1.29,2,   -999.0,9,-999.0000,9,  -999.00,   2.3079
  35TH20040604, OVIDE,    86,  1,      8,      8,2,20040627,2249, 45.0490, -18.5020, 4757,   3398.1,   2.6770,  34.9300,2,  34.9280,2,    247.2,2,    247.0,2,    36.29,2,    21.76,   2,     1.26,2,   -999.0,9,   7.7320,2,    25.00,   2.3912
  35TH20040604, OVIDE,    86,  1,      9,      9,2,20040627,2249, 45.0490, -18.5020, 4757,   3197.3,   2.7790,  34.9380,2,  34.9360,2,    250.3,2,    251.0,2,    32.38,2,    21.00,   2,     1.23,2,   -999.0,9,   7.7330,2,    25.00,   2.5123
  35TH20040604, OVIDE,    86,  1,     10,     10,2,20040627,2249, 45.0490, -18.5020, 4757,   2994.1,   2.8800,  34.9440,2,  34.9450,2,    252.6,2,    252.8,2,    29.49,2,    20.46,   2,     1.18,2,   -999.0,9,   7.7310,2,    25.00,   2.6324
  35TH20040604, OVIDE,    86,  1,     11,     11,2,20040627,2249, 45.0490, -18.5020, 4757,   2794.9,   3.0140,  34.9480,2,  34.9520,2,    259.8,2,    258.7,2,    24.29,2,    19.81,   2,     1.11,2,   -999.0,9,   7.7330,2,    25.00,   2.7841
  35TH20040604, OVIDE,    86,  1,     12,     12,2,20040627,2249, 45.0490, -18.5020, 4757,   2593.5,   3.1100,  34.9390,2,  34.9400,2,    267.9,2,    267.0,2,    16.98,2,    18.63,   2,     1.05,2,   -999.0,9,   7.7340,2,    25.00,   2.8987
  35TH20040604, OVIDE,    86,  1,     13,     13,2,20040627,2249, 45.0490, -18.5020, 4757,   2395.4,   3.2230,  34.9300,2,  34.9290,2,    269.3,2,    272.3,2,    14.68,2,    18.45,   2,     1.03,2,   -999.0,9,   7.7340,2,    25.00,   3.0293
  35TH20040604, OVIDE,    86,  1,     14,     14,2,20040627,2249, 45.0490, -18.5020, 4757,   2194.8,   3.2740,  34.9130,2,  34.9150,2,    278.3,2,    275.8,2,    12.81,2,    18.28,   2,     1.01,2,   -999.0,9,   7.7290,2,    25.00,   3.0990
  35TH20040604, OVIDE,    86,  1,     15,     15,2,20040627,2249, 45.0490, -18.5020, 4757,   1996.9,   3.3260,  34.8990,2,  34.8940,2,    279.7,2,    278.4,2,    11.74,2,    18.22,   2,     1.00,2,   -999.0,9,   7.7270,2,    25.00,   3.1690
  35TH20040604, OVIDE,    86,  1,     16,     16,2,20040627,2249, 45.0490, -18.5020, 4757,   1795.6,   3.5330,  34.9080,2,  34.9070,2,    274.8,2,    274.5,2,    11.50,2,    18.45,   2,     1.01,2,   -999.0,9,-999.0000,9,  -999.00,   3.3917
  35TH20040604, OVIDE,    86,  1,     17,     17,2,20040627,2249, 45.0490, -18.5020, 4757,   1794.1,   3.5370,  34.9090,2,  34.9070,2,    274.7,2,    275.3,2,    11.46,2,    18.39,   2,     1.00,2,   -999.0,9,   7.7270,2,    25.00,   3.3958
  35TH20040604, OVIDE,    86,  1,     18,     18,2,20040627,2249, 45.0490, -18.5020, 4757,   1595.9,   3.8180,  34.9270,2,  34.9250,2,    266.6,2,    268.1,2,    11.27,2,    18.63,   2,     1.03,2,   -999.0,9,   7.7200,2,    25.00,   3.6913
  35TH20040604, OVIDE,    86,  1,     19,     19,2,20040627,2249, 45.0490, -18.5020, 4757,   1348.7,   4.6250,  35.0180,2,  35.0210,2,    252.8,2,    251.4,2,    11.19,2,    18.98,   2,     1.06,2,   -999.0,9,   7.7180,2,    25.00,   4.5119
  35TH20040604, OVIDE,    86,  1,     20,     20,2,20040627,2249, 45.0490, -18.5020, 4757,   1094.3,   7.5060,  35.4660,2,  35.4650,2,    207.5,2,    210.9,2,    10.75,2,    18.68,   2,     1.00,2,   -999.0,9,   7.7460,2,    25.00,   7.3921
  35TH20040604, OVIDE,    86,  1,     21,     21,2,20040627,2249, 45.0490, -18.5020, 4757,    994.5,   7.9380,  35.4670,2,  35.4680,2,    201.8,2,    203.1,2,    10.71,2,    19.21,   2,     1.03,2,   -999.0,9,   7.7430,2,    25.00,   7.8320
  35TH20040604, OVIDE,    86,  1,     22,     22,2,20040627,2249, 45.0490, -18.5020, 4757,    796.7,   7.9610,  35.2170,2,  35.2230,2,    195.8,2,    194.5,2,    10.87,2,    20.34,   2,     1.11,2,   -999.0,9,   7.7200,2,    25.00,   7.8772
  35TH20040604, OVIDE,    86,  1,     23,     23,2,20040627,2249, 45.0490, -18.5020, 4757,    663.9,   9.9290,  35.4580,2,  35.4610,2,    194.2,2,    193.0,2,     8.53,2,    18.09,   2,     0.94,2,   -999.0,9,   7.7540,2,    25.00,   9.8500
  35TH20040604, OVIDE,    86,  1,     24,     24,2,20040627,2249, 45.0490, -18.5020, 4757,    546.1,  10.5850,  35.4420,2,  35.4400,2,    221.0,2,    217.3,2,     6.34,2,    15.14,   2,     0.77,2,   -999.0,9,   7.7920,2,    25.00,  10.5179
  35TH20040604, OVIDE,    86,  1,     25,     25,2,20040627,2249, 45.0490, -18.5020, 4757,    393.7,  11.6420,  35.5860,2,  35.5890,2,    235.0,2,    235.9,2,     4.08,2,    11.41,   2,     0.55,2,   -999.0,9,   7.8420,2,    25.00,  11.5909
  35TH20040604, OVIDE,    86,  1,     26,     26,2,20040627,2249, 45.0490, -18.5020, 4757,    298.1,  12.1140,  35.6540,2,  35.6570,2,    243.3,2,    242.0,2,     3.41,2,     9.70,   2,     0.48,2,   -999.0,9,   7.8650,2,    25.00,  12.0744
  35TH20040604, OVIDE,    86,  1,     27,     27,2,20040627,2249, 45.0490, -18.5020, 4757,    195.4,  12.4950,  35.6970,2,  35.6980,2,    243.4,2,    245.8,2,     2.54,2,     8.45,   2,     0.41,2,   -999.0,9,   7.8800,2,    25.00,  12.4686
  35TH20040604, OVIDE,    86,  1,     28,     28,2,20040627,2249, 45.0490, -18.5020, 4757,     99.6,  12.9370,  35.7370,2,  35.7380,2,    238.0,2,    253.4,3,     1.59,2,     6.56,   2,     0.32,2,   -999.0,9,   7.9010,2,    25.00,  12.9233
  35TH20040604, OVIDE,    86,  1,     29,     29,2,20040627,2249, 45.0490, -18.5020, 4757,     48.2,  14.1050,  35.7900,2,  35.7830,2,    252.9,2,    260.7,2,     1.35,2,     4.02,   2,     0.22,2,   -999.0,9,   7.9390,2,    25.00,  14.0980
  35TH20040604, OVIDE,    86,  1,     30,     30,2,20040627,2249, 45.0490, -18.5020, 4757,      6.0,  17.7160,  35.8070,2,  35.8070,2,    244.5,2,    246.4,2,     0.67,2,     0.12,   2,     0.05,2,   -999.0,9,   8.0030,2,    25.00,  17.7150