BOTTLE,20220120SIOCCHENA
EXPOCODE,SECT_ID,STNNBR,CASTNO,SAMPNO,BTLNBR,BTLNBR_FLAG_W,DATE,TIME,LATITUDE,LONGITUDE,DEPTH,CTDPRS,CTDTMP,CTDSAL,CTDSAL_FLAG_W,SALNTY,SALNTY_FLAG_W,CTDOXY,CTDOXY_FLAG_W,OXYGEN,OXYGEN_FLAG_W,SILCAT,SILCAT_FLAG_W,NITRAT,NITRAT_FLAG_W,PHSPHT,PHSPHT_FLAG_W,ALKALI,ALKALI_FLAG_W,PH_SWS,PH_SWS_FLAG_W,PH_TMP,THETA
,,,,,,,,,,,METERS,DBAR,ITS-90,PSS-78,,PSS-78,,UMOL/KG,,UMOL/KG,,UMOL/KG,,UMOL/KG,,UMOL/KG,,UMOL/KG,,,,DEG C,DEG C
  35TH20040604, OVIDE,    92,  1,      3,      3,2,20040628,1137, 43.4760, -16.6400, 4246,   4233.0,   2.5410,  34.9080,2,  34.9070,2,    241.3,2,    241.2,2,    44.91,2,    22.45,   2,     1.38,2,   2355.5,2,   7.7330,2,    25.00,   2.1643
  35TH20040604, OVIDE,    92,  1,      4,      4,2,20040628,1137, 43.4760, -16.6400, 4246,   3997.1,   2.5550,  34.9120,2,  34.9100,2,    241.1,2,    241.2,2,    43.88,2,    21.89,   2,     1.41,2,   2353.3,2,   7.7310,2,    25.00,   2.2054
  35TH20040604, OVIDE,    92,  1,      5,      5,2,20040628,1137, 43.4760, -16.6400, 4246,   3796.4,   2.5630,  34.9150,2,  34.9110,2,    241.8,2,    241.9,2,    42.56,2,    21.49,   2,     1.38,2,   2353.3,2,   7.7330,2,    25.00,   2.2361
  35TH20040604, OVIDE,    92,  1,      6,      6,2,20040628,1137, 43.4760, -16.6400, 4246,   3595.4,   2.5790,  34.9170,2,  34.9180,2,    243.0,2,    242.8,2,    41.53,2,    21.04,   2,     1.38,2,   2350.8,2,   7.7300,2,    25.00,   2.2741
  35TH20040604, OVIDE,    92,  1,      7,      7,2,20040628,1137, 43.4760, -16.6400, 4246,   3396.2,   2.6160,  34.9220,2,  34.9240,2,    243.5,2,    244.2,2,    38.74,2,    21.66,   2,     1.36,2,   2347.1,2,   7.7300,2,    25.00,   2.3319
  35TH20040604, OVIDE,    92,  1,      8,      8,2,20040628,1137, 43.4760, -16.6400, 4246,   3198.0,   2.7040,  34.9320,2,  34.9320,2,    246.9,2,    247.1,2,    35.95,2,    21.32,   2,     1.33,2,   2343.6,2,   7.7340,2,    25.00,   2.4389
  35TH20040604, OVIDE,    92,  1,      9,      9,2,20040628,1137, 43.4760, -16.6400, 4246,   2995.2,   2.8060,  34.9420,2,  34.9420,2,    248.6,2,    248.7,2,    33.31,2,    20.70,   2,     1.30,2,   2340.9,2,   7.7330,2,    25.00,   2.5599
  35TH20040604, OVIDE,    92,  1,     10,     10,2,20040628,1137, 43.4760, -16.6400, 4246,   2795.9,   2.9410,  34.9510,2,  34.9530,2,    250.9,2,    250.8,2,    30.08,2,    20.19,   2,     1.25,2,   2334.0,2,   7.7340,2,    25.00,   2.7125
  35TH20040604, OVIDE,    92,  1,     11,     11,2,20040628,1137, 43.4760, -16.6400, 4246,   2596.0,   3.0980,  34.9570,2,  34.9610,2,    255.7,2,    254.6,2,  -999.00,9,    19.69,   2,     1.21,2,   2327.3,2,   7.7380,2,    25.00,   2.8866
  35TH20040604, OVIDE,    92,  1,     12,     12,2,20040628,1137, 43.4760, -16.6400, 4246,   2395.9,   3.3100,  34.9680,2,  34.9660,2,    257.6,2,    256.8,2,  -999.00,9,    16.02,   3,     1.17,2,   2324.8,2,   7.7360,2,    25.00,   3.1146
  35TH20040604, OVIDE,    92,  1,     13,     13,2,20040628,1137, 43.4760, -16.6400, 4246,   2195.0,   3.5240,  34.9680,2,  34.9690,2,    260.9,2,    261.3,2,    17.01,2,    14.53,   3,     1.13,2,   2317.7,2,   7.7360,2,    25.00,   3.3447
  35TH20040604, OVIDE,    92,  1,     14,     14,2,20040628,1137, 43.4760, -16.6400, 4246,   1995.5,   3.8140,  34.9870,2,  34.9910,2,    262.1,2,    261.6,2,    15.21,2,    15.69,   2,     1.09,2,   2313.6,2,   7.7310,2,    25.00,   3.6496
  35TH20040604, OVIDE,    92,  1,     15,     15,2,20040628,1137, 43.4760, -16.6400, 4246,   1795.6,   3.7600,  34.9390,2,  34.9390,2,    268.2,2,    268.0,2,    12.31,2,    15.41,   2,     1.09,2,   2306.9,2,   7.7240,2,    25.00,   3.6155
  35TH20040604, OVIDE,    92,  1,     16,     16,2,20040628,1137, 43.4760, -16.6400, 4246,   1795.4,   3.7610,  34.9400,2,  34.9420,2,    268.1,2,    268.8,2,    12.31,2,    13.86,   2,     1.09,2,   2308.1,2,   7.7240,2,    25.00,   3.6165
  35TH20040604, OVIDE,    92,  1,     17,     17,2,20040628,1137, 43.4760, -16.6400, 4246,   1597.0,   4.3500,  35.0040,2,  35.0040,2,    253.7,2,    256.1,2,    12.03,2,    16.24,   2,     1.08,2,   2313.6,2,   7.7240,2,    25.00,   4.2166
  35TH20040604, OVIDE,    92,  1,     18,     18,2,20040628,1137, 43.4760, -16.6400, 4246,   1394.9,   5.8860,  35.2320,2,  35.2350,2,    230.2,2,    231.4,2,    12.22,2,    15.69,   2,     1.09,2,   2328.2,2,   7.7320,2,    25.00,   5.7551
  35TH20040604, OVIDE,    92,  1,     19,     19,2,20040628,1137, 43.4760, -16.6400, 4246,   1196.6,   8.1370,  35.5710,2,  35.5750,2,    203.6,2,    203.0,2,    11.20,2,    16.63,   2,     1.05,2,   -999.0,9,   7.7530,2,    25.00,   8.0060
  35TH20040604, OVIDE,    92,  1,     20,     20,2,20040628,1137, 43.4760, -16.6400, 4246,   1095.0,   9.6980,  35.8340,2,  35.8350,2,    193.7,2,    187.7,3,    10.34,2,    15.18,   2,     0.98,2,   -999.0,9,   7.7720,2,    25.00,   9.5662
  35TH20040604, OVIDE,    92,  1,     21,     21,2,20040628,1137, 43.4760, -16.6400, 4246,    996.2,  10.2980,  35.8700,2,  35.8710,2,    185.3,2,    183.1,2,     9.56,2,    15.13,   2,     0.94,2,   2369.6,2,   7.7780,2,    25.00,  10.1744
  35TH20040604, OVIDE,    92,  1,     22,     22,2,20040628,1137, 43.4760, -16.6400, 4246,    795.6,  10.4610,  35.6770,2,  35.6780,2,    182.3,2,    183.3,2,     9.01,2,    15.57,   2,     0.98,2,   2352.8,2,   7.7690,2,    25.00,  10.3625
  35TH20040604, OVIDE,    92,  1,     23,     23,2,20040628,1137, 43.4760, -16.6400, 4246,    586.1,  10.9420,  35.5380,2,  35.5350,2,    200.2,2,    196.7,2,     7.09,2,    14.19,   2,     0.87,2,   2337.2,2,   7.7840,2,    25.00,  10.8682
  35TH20040604, OVIDE,    92,  1,     24,     24,2,20040628,1137, 43.4760, -16.6400, 4246,    388.3,  11.8660,  35.6100,2,  35.6070,2,    216.1,2,    213.5,2,     4.94,2,    11.53,   2,     0.68,2,   2338.3,2,   7.8170,2,    25.00,  11.8150
  35TH20040604, OVIDE,    92,  1,     25,     25,2,20040628,1137, 43.4760, -16.6400, 4246,    288.3,  12.4710,  35.6990,2,  35.6930,2,    222.4,2,    224.7,2,     4.27,2,     9.36,   2,     0.56,2,   2342.1,2,   7.8530,2,    25.00,  12.4320
  35TH20040604, OVIDE,    92,  1,     26,     26,2,20040628,1137, 43.4760, -16.6400, 4246,    189.4,  13.0740,  35.7110,2,  35.7640,3,    227.1,2,    230.4,2,     3.37,2,     7.04,   2,     0.44,2,   2347.1,2,   7.8730,2,    25.00,  13.0477
  35TH20040604, OVIDE,    92,  1,     27,     27,2,20040628,1137, 43.4760, -16.6400, 4246,    128.5,  13.4790,  35.8250,2,  35.8280,2,    233.2,2,    235.1,2,     2.74,2,     4.71,   2,     0.32,2,   -999.0,9,   7.9000,2,    25.00,  13.4608
  35TH20040604, OVIDE,    92,  1,     28,     28,2,20040628,1137, 43.4760, -16.6400, 4246,     89.5,  13.7740,  35.8630,2,  35.8640,2,    238.8,2,    240.6,2,     2.23,2,     4.43,   2,     0.25,2,   2353.2,2,   7.9130,2,    25.00,  13.7612
  35TH20040604, OVIDE,    92,  1,     29,     29,2,20040628,1137, 43.4760, -16.6400, 4246,     40.5,  14.6210,  35.9220,2,  35.9280,2,    258.4,2,    260.1,2,     1.33,2,     0.11,   2,     0.05,2,   -999.0,9,   7.9640,2,    25.00,  14.6150
  35TH20040604, OVIDE,    93,  1,      3,      3,2,20040628,1748, 43.1800, -16.2460, 5226,   5214.7,   2.5550,  34.8960,2,  34.8960,2,    242.8,2,    243.0,2,    45.68,2,    19.75,   2,     1.41,2,   2360.4,2,   7.7290,2,    25.00,   2.0560
  35TH20040604, OVIDE,    93,  1,      4,      4,2,20040628,1748, 43.1800, -16.2460, 5226,   4498.6,   2.4990,  34.9000,2,  34.9010,2,    243.5,2,    242.9,2,    44.69,2,    22.06,   2,     1.41,2,   2355.8,2,   7.7310,2,    25.00,   2.0918
  35TH20040604, OVIDE,    93,  1,      5,      5,2,20040628,1748, 43.1800, -16.2460, 5226,   3997.7,   2.5270,  34.9090,2,  34.9110,2,    242.5,2,    243.2,2,    42.57,2,    22.69,   2,     1.29,2,   2352.6,2,   7.7320,2,    25.00,   2.1781
  35TH20040604, OVIDE,    93,  1,      6,      6,2,20040628,1748, 43.1800, -16.2460, 5226,   3746.6,   2.5570,  34.9150,2,  34.9160,2,    243.5,2,    242.8,2,    41.44,2,    21.89,   2,     1.33,2,   2352.4,2,   7.7300,2,    25.00,   2.2358
  35TH20040604, OVIDE,    93,  1,      7,      7,2,20040628,1748, 43.1800, -16.2460, 5226,   3497.0,   2.6050,  34.9210,2,  34.9250,2,    243.6,2,    243.9,2,    39.32,2,    21.77,   2,     1.34,2,   2349.6,2,   7.7300,2,    25.00,   2.3102
  35TH20040604, OVIDE,    93,  1,      8,      8,2,20040628,1748, 43.1800, -16.2460, 5226,   3246.7,   2.6810,  34.9300,2,  34.9310,2,    245.6,2,    246.4,2,    36.21,2,    20.79,   2,     1.31,2,   2345.2,2,   7.7290,2,    25.00,   2.4113
  35TH20040604, OVIDE,    93,  1,      9,      9,2,20040628,1748, 43.1800, -16.2460, 5226,   2996.5,   2.8050,  34.9420,2,  34.9470,2,    249.2,2,    249.4,2,    32.53,2,    20.15,   2,     1.27,2,   2337.4,2,   7.7330,2,    25.00,   2.5587
  35TH20040604, OVIDE,    93,  1,     10,     10,2,20040628,1748, 43.1800, -16.2460, 5226,   2746.6,   2.9600,  34.9510,2,  34.9520,2,    252.7,2,    252.4,2,    28.85,2,    19.69,   2,     1.24,2,   2335.3,2,   7.7350,2,    25.00,   2.7361
  35TH20040604, OVIDE,    93,  1,     11,     11,2,20040628,1748, 43.1800, -16.2460, 5226,   2496.0,   3.2010,  34.9650,2,  34.9650,2,    256.4,2,    255.7,2,    24.33,2,    19.98,   2,     1.18,2,   2326.3,2,   7.7340,2,    25.00,   2.9976
  35TH20040604, OVIDE,    93,  1,     12,     12,2,20040628,1748, 43.1800, -16.2460, 5226,   2246.8,   3.5030,  34.9780,2,  34.9770,2,    259.0,2,    259.1,2,    18.31,2,    19.29,   2,     1.11,2,   2321.2,2,   7.7340,2,    25.00,   3.3190
  35TH20040604, OVIDE,    93,  1,     13,     13,2,20040628,1748, 43.1800, -16.2460, 5226,   1996.3,   3.8210,  34.9900,2,  34.9910,2,    263.5,2,    261.9,2,    14.10,2,    17.55,   2,     1.05,2,   2316.3,2,   7.7370,2,    25.00,   3.6564
  35TH20040604, OVIDE,    93,  1,     14,     14,2,20040628,1748, 43.1800, -16.2460, 5226,   1796.8,   4.2660,  35.0370,2,  35.0390,2,    257.1,2,    257.3,2,    12.89,2,    17.38,   2,     1.07,2,   2316.3,2,   7.7320,2,    25.00,   4.1144
  35TH20040604, OVIDE,    93,  1,     15,     15,2,20040628,1748, 43.1800, -16.2460, 5226,   1597.7,   4.6290,  35.0620,2,  35.0590,2,    251.9,2,    251.9,2,    11.81,2,    17.21,   2,     1.08,2,   2316.8,2,   7.7270,2,    25.00,   4.4921
  35TH20040604, OVIDE,    93,  1,     16,     16,2,20040628,1748, 43.1800, -16.2460, 5226,   1396.1,   6.2590,  35.3090,2,  35.3130,2,    225.4,2,    226.9,2,    11.40,2,    17.66,   2,     1.04,2,   2334.5,2,   7.7380,2,    25.00,   6.1239
  35TH20040604, OVIDE,    93,  1,     17,     17,2,20040628,1748, 43.1800, -16.2460, 5226,   1096.2,   9.3540,  35.7970,2,  35.7970,2,    191.1,2,    191.7,2,     9.91,2,    15.98,   2,     0.91,2,   2366.8,2,   7.7690,2,    25.00,   9.2248
  35TH20040604, OVIDE,    93,  1,     18,     18,2,20040628,1748, 43.1800, -16.2460, 5226,    997.3,   9.5240,  35.7530,2,  35.7570,2,    188.6,2,    189.1,2,     9.75,2,    17.02,   2,     0.98,2,   2362.5,2,   7.7650,2,    25.00,   9.4059
  35TH20040604, OVIDE,    93,  1,     19,     19,2,20040628,1748, 43.1800, -16.2460, 5226,    867.7,   9.1980,  35.5110,2,  35.5190,2,    188.4,2,    188.9,2,     9.80,2,    17.49,   2,     1.05,2,   -999.0,9,   7.7470,2,    25.00,   9.0982
  35TH20040604, OVIDE,    93,  1,     20,     20,2,20040628,1748, 43.1800, -16.2460, 5226,    776.4,  10.0450,  35.5560,2,  35.5580,2,    187.0,2,    186.7,2,     8.67,2,    17.37,   2,     0.97,2,   2344.9,2,   7.7580,2,    25.00,   9.9514
  35TH20040604, OVIDE,    93,  1,     21,     21,2,20040628,1748, 43.1800, -16.2460, 5226,    695.3,  10.2110,  35.4740,2,  35.4660,3,    192.6,2,    192.3,2,     8.15,2,    17.37,   2,     0.93,2,   -999.0,9,   7.7600,2,    25.00,  10.1268
  35TH20040604, OVIDE,    93,  1,     22,     22,2,20040628,1748, 43.1800, -16.2460, 5226,    592.0,  10.7590,  35.4830,2,  35.4830,2,    206.9,2,    204.8,2,     6.34,2,    14.20,   2,     0.81,2,   2335.4,2,   7.7830,2,    25.00,  10.6853
  35TH20040604, OVIDE,    93,  1,     23,     23,2,20040628,1748, 43.1800, -16.2460, 5226,    496.9,  11.2750,  35.5350,2,  35.5290,2,    220.8,2,    220.9,2,     5.10,2,    12.24,   2,     0.71,2,   2335.5,2,   7.8020,2,    25.00,  11.2116
  35TH20040604, OVIDE,    93,  1,     24,     24,2,20040628,1748, 43.1800, -16.2460, 5226,    397.5,  11.7440,  35.5940,2,  35.5920,2,    225.0,2,    225.0,2,     4.13,2,    10.45,   2,     0.59,2,   2339.2,2,   7.8280,2,    25.00,  11.6921
  35TH20040604, OVIDE,    93,  1,     25,     25,2,20040628,1748, 43.1800, -16.2460, 5226,    297.9,  12.3110,  35.6720,2,  35.6680,2,    234.4,2,    234.4,2,     3.53,2,     9.58,   2,     0.52,2,   2344.5,2,   7.8580,2,    25.00,  12.2710
  35TH20040604, OVIDE,    93,  1,     26,     26,2,20040628,1748, 43.1800, -16.2460, 5226,    197.9,  12.9400,  35.7560,2,  35.7520,2,    239.2,2,    230.3,3,     3.13,2,     8.89,   2,     0.44,2,   2346.8,2,   7.8700,2,    25.00,  12.9127
  35TH20040604, OVIDE,    93,  1,     27,     27,2,20040628,1748, 43.1800, -16.2460, 5226,    146.4,  13.1840,  35.7820,2,  35.7820,2,    243.2,2,    242.6,2,     2.01,2,     5.60,   2,     0.30,2,   -999.0,9,   7.8970,2,    25.00,  13.1636
  35TH20040604, OVIDE,    93,  1,     28,     28,2,20040628,1748, 43.1800, -16.2460, 5226,     96.9,  13.4900,  35.8130,2,  35.8120,2,    247.0,2,    245.2,2,     1.12,2,     3.87,   2,     0.22,2,   2352.2,2,   7.9160,2,    25.00,  13.4763
  35TH20040604, OVIDE,    93,  1,     29,     29,2,20040628,1748, 43.1800, -16.2460, 5226,     47.6,  15.3690,  35.8700,2,  35.8630,2,    276.8,2,    281.2,2,     0.32,2,     0.46,   2,     0.05,2,   -999.0,9,   7.9880,2,    25.00,  15.3617
  35TH20040604, OVIDE,    93,  1,     30,     30,2,20040628,1748, 43.1800, -16.2460, 5226,      4.0,  19.5050,  35.9150,2,  35.9090,2,    233.3,2,    238.5,2,     0.80,2,     0.06,   2,     0.05,2,   2363.2,2,   7.9920,2,    25.00,  19.5043