BOTTLE,20220120SIOCCHENA
EXPOCODE,SECT_ID,STNNBR,CASTNO,SAMPNO,BTLNBR,BTLNBR_FLAG_W,DATE,TIME,LATITUDE,LONGITUDE,DEPTH,CTDPRS,CTDTMP,CTDSAL,CTDSAL_FLAG_W,SALNTY,SALNTY_FLAG_W,CTDOXY,CTDOXY_FLAG_W,OXYGEN,OXYGEN_FLAG_W,SILCAT,SILCAT_FLAG_W,NITRAT,NITRAT_FLAG_W,PHSPHT,PHSPHT_FLAG_W,ALKALI,ALKALI_FLAG_W,PH_SWS,PH_SWS_FLAG_W,PH_TMP,THETA
,,,,,,,,,,,METERS,DBAR,ITS-90,PSS-78,,PSS-78,,UMOL/KG,,UMOL/KG,,UMOL/KG,,UMOL/KG,,UMOL/KG,,UMOL/KG,,,,DEG C,DEG C
  35TH20040604, OVIDE,    43,  1,      3,      3,2,20040618,0917, 57.5090, -28.4170, 2459,   2445.0,   2.8110,  34.9780,2,  34.9790,2,    274.1,2,    273.5,2,    12.71,2,    19.96,   3,     1.23,2,   -999.0,9,   7.7140,2,    25.00,   2.6197
  35TH20040604, OVIDE,    43,  1,      4,      4,2,20040618,0917, 57.5090, -28.4170, 2459,   2396.5,   2.8120,  34.9790,2,  34.9800,2,    274.5,2,    273.8,2,    12.46,2,    16.48,   3,     1.22,2,   -999.0,9,   7.7190,2,    25.00,   2.6253
  35TH20040604, OVIDE,    43,  1,      5,      5,2,20040618,0917, 57.5090, -28.4170, 2459,   2195.6,   2.9360,  34.9600,2,  34.9620,2,    272.8,2,    271.6,2,    13.86,2,    20.62,   3,     1.25,2,   -999.0,9,   7.7240,2,    25.00,   2.7663
  35TH20040604, OVIDE,    43,  1,      6,      6,2,20040618,0917, 57.5090, -28.4170, 2459,   1995.1,   3.1750,  34.9540,2,  34.9510,2,    274.7,2,    274.6,2,    11.89,2,    21.06,   3,     1.25,2,   -999.0,9,   7.7240,2,    25.00,   3.0202
  35TH20040604, OVIDE,    43,  1,      7,      7,2,20040618,0917, 57.5090, -28.4170, 2459,   1795.9,   3.3210,  34.9320,2,  34.9320,2,    278.8,2,    276.8,2,    11.03,2,    19.46,   3,     1.25,2,   -999.0,9,   7.7240,2,    25.00,   3.1824
  35TH20040604, OVIDE,    43,  1,      8,      8,2,20040618,0917, 57.5090, -28.4170, 2459,   1595.9,   3.4200,  34.9100,2,  34.9100,2,    278.6,2,    285.2,3,    10.82,2,    20.51,   3,     1.27,2,   -999.0,9,   7.7180,2,    25.00,   3.2981
  35TH20040604, OVIDE,    43,  1,      9,      9,2,20040618,0917, 57.5090, -28.4170, 2459,   1395.7,   3.6410,  34.9130,2,  34.9100,2,    274.5,2,    272.5,2,    10.78,2,    20.79,   3,     1.30,2,   -999.0,9,   7.7180,2,    25.00,   3.5341
  35TH20040604, OVIDE,    43,  1,     10,     10,2,20040618,0917, 57.5090, -28.4170, 2459,   1196.0,   3.8690,  34.9220,2,  34.9230,2,    267.6,2,    267.7,2,    10.66,2,    19.46,   3,     1.31,2,   -999.0,9,   7.7160,2,    25.00,   3.7771
  35TH20040604, OVIDE,    43,  1,     11,     11,2,20040618,0917, 57.5090, -28.4170, 2459,   1196.2,   3.8710,  34.9220,2,  34.9220,2,    267.6,2,    268.0,2,    10.70,2,    19.13,   3,     1.30,2,   -999.0,9,   7.7160,2,    25.00,   3.7791
  35TH20040604, OVIDE,    43,  1,     12,     12,2,20040618,0917, 57.5090, -28.4170, 2459,    996.7,   4.1680,  34.9350,2,  34.9350,2,    261.5,2,    261.0,2,    10.58,2,    18.08,   3,     1.32,2,   -999.0,9,   7.7150,2,    25.00,   4.0906
  35TH20040604, OVIDE,    43,  1,     13,     13,2,20040618,0917, 57.5090, -28.4170, 2459,    894.7,   4.3410,  34.9390,2,  34.9410,2,    257.2,2,    256.7,2,    10.62,2,    20.34,   3,     1.32,2,   -999.0,9,   7.7120,2,    25.00,   4.2710
  35TH20040604, OVIDE,    43,  1,     14,     14,2,20040618,0917, 57.5090, -28.4170, 2459,    795.7,   4.6180,  34.9610,2,  34.9590,2,    248.5,2,    250.7,2,    10.66,2,    19.68,   3,     1.32,2,   -999.0,9,   7.7080,2,    25.00,   4.5546
  35TH20040604, OVIDE,    43,  1,     15,     15,2,20040618,0917, 57.5090, -28.4170, 2459,    695.0,   5.1600,  35.0070,2,  35.0100,2,    238.4,2,    240.7,2,    10.99,2,    21.23,   3,     1.39,2,   -999.0,9,   7.7010,2,    25.00,   5.1022
  35TH20040604, OVIDE,    43,  1,     16,     16,2,20040618,0917, 57.5090, -28.4170, 2459,    594.0,   5.5330,  35.0140,2,  35.0140,2,    231.4,2,    229.9,2,    10.99,2,    20.95,   3,     1.39,2,   -999.0,9,   7.6990,2,    25.00,   5.4823
  35TH20040604, OVIDE,    43,  1,     17,     17,2,20040618,0917, 57.5090, -28.4170, 2459,    495.7,   6.0580,  35.0260,2,  35.0300,2,    225.3,2,    223.7,2,    10.82,2,    20.07,   3,     1.39,2,   -999.0,9,   7.6990,2,    25.00,   6.0141
  35TH20040604, OVIDE,    43,  1,     18,     18,2,20040618,0917, 57.5090, -28.4170, 2459,    415.5,   6.6090,  35.0580,2,  35.0570,2,    223.5,2,    221.3,2,    10.41,2,    20.51,   3,     1.39,2,   -999.0,9,   7.7050,2,    25.00,   6.5706
  35TH20040604, OVIDE,    43,  1,     19,     19,2,20040618,0917, 57.5090, -28.4170, 2459,    304.8,   6.8980,  34.9880,2,  34.9850,2,    232.0,2,    229.0,2,     9.72,2,    16.98,   3,     1.35,2,   -999.0,9,   7.7110,2,    25.00,   6.8695
  35TH20040604, OVIDE,    43,  1,     20,     20,2,20040618,0917, 57.5090, -28.4170, 2459,    195.4,   7.8130,  35.0470,2,  35.0450,2,    261.9,2,    258.8,2,     7.13,2,    15.11,   3,     1.15,2,   -999.0,9,   7.7710,2,    25.00,   7.7935
  35TH20040604, OVIDE,    43,  1,     21,     21,2,20040618,0917, 57.5090, -28.4170, 2459,    147.6,   8.1070,  35.0690,2,  35.0690,2,    269.4,2,    266.3,2,     5.90,2,    14.06,   3,     1.04,2,   -999.0,9,   7.7880,2,    25.00,   8.0920
  35TH20040604, OVIDE,    43,  1,     22,     22,2,20040618,0917, 57.5090, -28.4170, 2459,    105.3,   8.5080,  35.0870,2,  35.0820,2,    273.0,2,    273.9,2,     4.67,2,    12.13,   3,     0.98,2,   -999.0,9,   7.8070,2,    25.00,   8.4970
  35TH20040604, OVIDE,    43,  1,     23,     23,2,20040618,0917, 57.5090, -28.4170, 2459,     46.3,   9.0250,  35.0530,2,  35.0510,2,    283.1,2,    283.4,2,     1.39,2,     9.32,   3,     0.84,2,   -999.0,9,   7.8430,2,    25.00,   9.0200
  35TH20040604, OVIDE,    43,  1,     24,     24,2,20040618,0917, 57.5090, -28.4170, 2459,      3.2,  10.2180,  35.0110,2,  35.0090,2,    279.8,2,    287.2,3,     0.74,2,     6.78,   3,     0.64,2,   -999.0,9,   7.8830,2,    25.00,  10.2176
  35TH20040604, OVIDE,    44,  1,      3,      3,2,20040618,1304, 57.2350, -28.0580, 2746,   2731.9,   2.6870,  34.9750,2,  34.9750,2,   -999.0,9,    273.8,2,    13.86,2,    15.49,   3,     1.52,3,   2306.5,2,   7.7210,2,    25.00,   2.4699
  35TH20040604, OVIDE,    44,  1,      4,      4,2,20040618,1304, 57.2350, -28.0580, 2746,   2696.8,   2.7140,  34.9730,2,  34.9740,2,    275.0,2,    273.7,2,    13.98,2,    14.66,   3,     1.53,3,   2307.2,2,   7.7210,2,    25.00,   2.4999
  35TH20040604, OVIDE,    44,  1,      5,      5,2,20040618,1304, 57.2350, -28.0580, 2746,   2596.4,   2.7650,  34.9700,2,  34.9650,2,    273.3,2,    272.7,2,    13.45,2,    16.10,   2,     1.55,3,   2304.6,2,   7.7210,2,    25.00,   2.5599
  35TH20040604, OVIDE,    44,  1,      6,      6,2,20040618,1304, 57.2350, -28.0580, 2746,   2395.4,   2.9540,  34.9640,2,  34.9640,2,    274.6,2,    272.8,2,    12.06,2,    15.49,   3,     1.55,3,   2304.4,2,   7.7250,2,    25.00,   2.7650
  35TH20040604, OVIDE,    44,  1,      7,      7,2,20040618,1304, 57.2350, -28.0580, 2746,   2194.7,   3.1470,  34.9510,2,  34.9480,2,    276.5,2,    274.6,2,    11.32,2,    15.82,   3,     1.59,3,   2303.4,2,   7.7270,2,    25.00,   2.9740
  35TH20040604, OVIDE,    44,  1,      8,      8,2,20040618,1304, 57.2350, -28.0580, 2746,   1995.6,   3.2110,  34.9190,2,  34.9170,2,    280.4,2,    278.2,2,    11.32,2,    15.77,   2,     1.56,3,   2300.9,2,   7.7240,2,    25.00,   3.0557
  35TH20040604, OVIDE,    44,  1,      9,      9,2,20040618,1304, 57.2350, -28.0580, 2746,   1995.8,   3.2120,  34.9180,2,  34.9130,2,    280.4,2,    278.4,2,    10.95,2,    16.04,   2,     1.58,3,   -999.0,9,   7.7250,2,    25.00,   3.0567
  35TH20040604, OVIDE,    44,  1,     10,     10,2,20040618,1304, 57.2350, -28.0580, 2746,   1796.2,   3.2180,  34.8910,2,  34.8890,2,    281.6,2,    281.8,2,    10.91,2,    16.82,   2,     1.61,3,   2299.3,2,   7.7250,2,    25.00,   3.0809
  35TH20040604, OVIDE,    44,  1,     11,     11,2,20040618,1304, 57.2350, -28.0580, 2746,   1595.5,   3.3450,  34.8900,2,  34.8880,2,    280.6,2,    279.1,2,    10.91,2,    16.32,   2,     1.61,3,   2299.9,2,   7.7230,2,    25.00,   3.2241
  35TH20040604, OVIDE,    44,  1,     12,     12,2,20040618,1304, 57.2350, -28.0580, 2746,   1394.4,   3.5560,  34.8990,2,  34.8950,2,    276.4,2,    273.7,2,    10.66,2,    16.49,   2,     1.60,3,   2300.6,2,   7.7200,2,    25.00,   3.4502
  35TH20040604, OVIDE,    44,  1,     13,     13,2,20040618,1304, 57.2350, -28.0580, 2746,   1195.2,   3.7490,  34.9060,2,  34.9100,2,    270.6,2,    269.9,2,    10.74,2,    16.71,   2,     1.65,3,   2301.6,2,   7.7160,2,    25.00,   3.6583
  35TH20040604, OVIDE,    44,  1,     14,     14,2,20040618,1304, 57.2350, -28.0580, 2746,    995.4,   4.0710,  34.9240,2,  34.9250,2,    263.6,2,    263.5,2,    10.82,2,    16.98,   2,     1.67,3,   2299.4,2,   7.7100,2,    25.00,   3.9945
  35TH20040604, OVIDE,    44,  1,     15,     15,2,20040618,1304, 57.2350, -28.0580, 2746,    796.0,   4.6420,  34.9660,2,  34.9660,2,    250.3,2,    249.5,2,    10.50,2,    17.20,   2,     1.74,3,   2305.0,2,   7.7090,2,    25.00,   4.5784
  35TH20040604, OVIDE,    44,  1,     16,     16,2,20040618,1304, 57.2350, -28.0580, 2746,    496.5,   6.1230,  34.9880,2,  34.9720,3,    227.2,2,    230.5,2,     8.86,2,    15.93,   2,     1.55,3,   2305.2,2,   7.7060,2,    25.00,   6.0788
  35TH20040604, OVIDE,    44,  1,     17,     17,2,20040618,1304, 57.2350, -28.0580, 2746,    397.2,   7.2450,  35.0870,2,  35.0720,3,    255.4,2,    240.2,3,     8.98,2,    17.09,   2,     1.58,3,   2311.8,2,   7.7390,2,    25.00,   7.2065
  35TH20040604, OVIDE,    44,  1,     18,     18,2,20040618,1304, 57.2350, -28.0580, 2746,    296.9,   7.4020,  35.0310,2,  35.0200,3,    243.9,2,    234.6,3,     4.59,2,    10.81,   3,     1.21,3,   2308.8,2,   7.7320,2,    25.00,   7.3731
  35TH20040604, OVIDE,    44,  1,     19,     19,2,20040618,1304, 57.2350, -28.0580, 2746,    196.5,   8.3670,  35.1440,2,  35.1430,2,    275.3,2,    274.9,2,     4.43,2,    12.40,   2,     1.26,3,   2318.6,2,   7.8070,2,    25.00,   8.3465
  35TH20040604, OVIDE,    44,  1,     20,     20,2,20040618,1304, 57.2350, -28.0580, 2746,    147.0,   8.2500,  35.0900,2,  35.0870,2,    269.0,2,    266.6,2,     3.12,2,    10.70,   2,     1.13,3,   -999.0,9,   7.7880,2,    25.00,   8.2349
  35TH20040604, OVIDE,    44,  1,     21,     21,2,20040618,1304, 57.2350, -28.0580, 2746,     96.3,   8.8430,  35.1600,2,  35.1530,2,    275.7,2,    276.6,2,     1.97,2,     9.26,   2,     1.05,3,   2318.8,2,   7.8220,2,    25.00,   8.8327
  35TH20040604, OVIDE,    44,  1,     22,     22,2,20040618,1304, 57.2350, -28.0580, 2746,     57.6,   9.1110,  35.1060,2,  35.1130,2,    282.1,2,    282.6,2,     0.86,2,     6.67,   2,     0.77,3,   -999.0,9,   7.8410,2,    25.00,   9.1047
  35TH20040604, OVIDE,    44,  1,     23,     23,2,20040618,1304, 57.2350, -28.0580, 2746,      3.5,  10.4840,  35.0270,2,  35.0250,2,    276.6,2,    289.5,3,  -999.00,9,  -999.00,   9,  -999.00,9,   2309.2,2,   7.8820,2,    25.00,  10.4836
  35TH20040604, OVIDE,    45,  1,      3,      3,2,20040618,1658, 56.9340, -27.8200, 2896,   2882.6,   2.7320,  34.9720,2,  34.9670,2,    274.0,2,    273.2,2,    14.02,2,    17.78,   3,     1.18,2,   -999.0,9,   7.7180,2,    25.00,   2.4989
  35TH20040604, OVIDE,    45,  1,      4,      4,2,20040618,1658, 56.9340, -27.8200, 2896,   2882.0,   2.7320,  34.9730,2,  34.9680,2,    273.9,2,    273.4,2,    14.10,2,    16.82,   3,     1.19,2,   -999.0,9,   7.7180,2,    25.00,   2.4989
  35TH20040604, OVIDE,    45,  1,      5,      5,2,20040618,1658, 56.9340, -27.8200, 2896,   2746.1,   2.7850,  34.9700,2,  34.9670,2,    273.5,2,    273.5,2,    13.70,2,    17.66,   3,     1.18,2,   -999.0,9,   7.7210,2,    25.00,   2.5646
  35TH20040604, OVIDE,    45,  1,      6,      6,2,20040618,1658, 56.9340, -27.8200, 2896,   2496.0,   2.9660,  34.9620,2,  34.9590,2,    273.8,2,    273.2,2,    13.61,2,    17.85,   3,     1.22,2,   -999.0,9,   7.7270,2,    25.00,   2.7670
  35TH20040604, OVIDE,    45,  1,      7,      7,2,20040618,1658, 56.9340, -27.8200, 2896,   2245.4,   3.1570,  34.9370,2,  34.9360,2,    276.7,2,    275.1,2,    12.22,2,    18.30,   3,     1.21,2,   -999.0,9,   7.7280,2,    25.00,   2.9790
  35TH20040604, OVIDE,    45,  1,      8,      8,2,20040618,1658, 56.9340, -27.8200, 2896,   1995.8,   3.2060,  34.9030,2,  34.8950,2,    281.6,2,    280.0,2,    11.24,2,    18.49,   3,     1.21,2,   -999.0,9,   7.7300,2,    25.00,   3.0509
  35TH20040604, OVIDE,    45,  1,      9,      9,2,20040618,1658, 56.9340, -27.8200, 2896,   1796.4,   3.2670,  34.8890,2,  34.8890,2,    281.1,2,    281.1,2,    10.95,2,    18.75,   3,     1.24,2,   -999.0,9,   7.7220,2,    25.00,   3.1292
  35TH20040604, OVIDE,    45,  1,     10,     10,2,20040618,1658, 56.9340, -27.8200, 2896,   1596.4,   3.3930,  34.8900,2,  34.8870,2,    279.1,2,    278.5,2,    10.87,2,    19.00,   3,     1.24,2,   -999.0,9,   7.7170,2,    25.00,   3.2714
  35TH20040604, OVIDE,    45,  1,     11,     11,2,20040618,1658, 56.9340, -27.8200, 2896,   1395.4,   3.5690,  34.8980,2,  34.8930,2,    274.2,2,    274.4,2,    10.74,2,    18.94,   3,     1.24,2,   -999.0,9,-999.0000,9,  -999.00,   3.4630
  35TH20040604, OVIDE,    45,  1,     12,     12,2,20040618,1658, 56.9340, -27.8200, 2896,   1197.2,   3.7570,  34.9010,2,  34.8980,2,    273.3,2,    272.5,2,    10.50,2,    19.26,   3,     1.24,2,   -999.0,9,   7.7160,2,    25.00,   3.6661
  35TH20040604, OVIDE,    45,  1,     13,     13,2,20040618,1658, 56.9340, -27.8200, 2896,    994.5,   3.9700,  34.9100,2,  34.9050,2,    268.2,2,    268.3,2,    10.29,2,    19.26,   3,     1.25,2,   -999.0,9,   7.7100,2,    25.00,   3.8944
  35TH20040604, OVIDE,    45,  1,     14,     14,2,20040618,1658, 56.9340, -27.8200, 2896,    896.6,   4.2280,  34.9290,2,  34.9260,2,    260.7,2,    261.4,2,    10.54,2,    19.52,   3,     1.27,2,   -999.0,9,   7.7100,2,    25.00,   4.1586
  35TH20040604, OVIDE,    45,  1,     15,     15,2,20040618,1658, 56.9340, -27.8200, 2896,    896.2,   4.2350,  34.9280,2,  34.9290,2,    260.6,2,    260.3,2,    10.58,2,    19.52,   3,     1.28,2,   -999.0,9,   7.7080,2,    25.00,   4.1656
  35TH20040604, OVIDE,    45,  1,     16,     16,2,20040618,1658, 56.9340, -27.8200, 2896,    795.2,   4.5480,  34.9510,2,  34.9520,2,    252.4,2,    253.3,2,    10.66,2,    19.58,   3,     1.30,2,   -999.0,9,   7.7050,2,    25.00,   4.4851
  35TH20040604, OVIDE,    45,  1,     17,     17,2,20040618,1658, 56.9340, -27.8200, 2896,    697.2,   5.0730,  34.9860,2,  34.9850,2,    239.5,2,    239.8,2,    10.91,2,    20.29,   3,     1.32,2,   -999.0,9,   7.6990,2,    25.00,   5.0155
  35TH20040604, OVIDE,    45,  1,     18,     18,2,20040618,1658, 56.9340, -27.8200, 2896,    597.2,   5.4560,  34.9850,2,  34.9820,2,    232.5,2,    232.5,2,    10.95,2,    20.61,   3,     1.32,2,   -999.0,9,   7.6980,2,    25.00,   5.4054
  35TH20040604, OVIDE,    45,  1,     19,     19,2,20040618,1658, 56.9340, -27.8200, 2896,    496.0,   6.0520,  34.9670,2,  34.9680,2,    230.2,2,    228.7,2,    10.54,2,    20.42,   3,     1.34,2,   -999.0,9,   7.7020,2,    25.00,   6.0081
  35TH20040604, OVIDE,    45,  1,     20,     20,2,20040618,1658, 56.9340, -27.8200, 2896,    396.4,   7.0660,  35.0030,2,  35.0020,2,    230.0,2,    225.5,2,     9.88,2,    19.71,   3,     1.29,2,   -999.0,9,   7.7130,2,    25.00,   7.0281
  35TH20040604, OVIDE,    45,  1,     21,     21,2,20040618,1658, 56.9340, -27.8200, 2896,    296.7,   8.2680,  35.0960,2,  35.1040,2,    259.7,2,    256.2,2,     6.85,2,    15.79,   3,     0.97,2,   -999.0,9,   7.7770,2,    25.00,   8.2371
  35TH20040604, OVIDE,    45,  1,     22,     22,2,20040618,1658, 56.9340, -27.8200, 2896,    196.4,   8.7500,  35.1670,2,  35.1650,2,    271.2,2,    269.8,2,     5.54,2,    13.86,   3,     0.95,2,   -999.0,9,   7.8020,2,    25.00,   8.7290
  35TH20040604, OVIDE,    45,  1,     23,     23,2,20040618,1658, 56.9340, -27.8200, 2896,    146.4,   8.8500,  35.1720,2,  35.1820,3,    273.8,2,    271.5,2,     4.84,2,    13.29,   3,     0.92,2,   -999.0,9,   7.8100,2,    25.00,   8.8343
  35TH20040604, OVIDE,    45,  1,     24,     24,2,20040618,1658, 56.9340, -27.8200, 2896,     97.0,   8.8460,  35.1210,2,  35.1220,2,    276.6,2,    273.3,2,     4.76,2,    12.39,   3,     0.93,2,   -999.0,9,   7.8200,2,    25.00,   8.8356
  35TH20040604, OVIDE,    45,  1,     25,     25,2,20040618,1658, 56.9340, -27.8200, 2896,     47.3,   9.9470,  35.0630,2,  35.0670,2,    288.0,2,    284.6,2,     0.70,2,     7.70,   3,     0.70,2,   -999.0,9,   7.8740,2,    25.00,   9.9416
  35TH20040604, OVIDE,    45,  1,     26,     26,2,20040618,1658, 56.9340, -27.8200, 2896,      3.9,  10.6760,  35.0220,2,  35.0290,2,    279.8,2,    289.0,3,     0.57,2,     6.48,   3,     0.64,2,   -999.0,9,   7.8900,2,    25.00,  10.6755