BOTTLE,20220105CCHSIOENA
EXPOCODE,SECT_ID,STNNBR,CASTNO,SAMPNO,BTLNBR,BTLNBR_FLAG_W,DATE,TIME,LATITUDE,LONGITUDE,DEPTH,CTDPRS,CTDTMP,CTDSAL,CTDSAL_FLAG_W,SALNTY,SALNTY_FLAG_W,CTDOXY,CTDOXY_FLAG_W,OXYGEN,OXYGEN_FLAG_W,SILCAT,SILCAT_FLAG_W,NITRAT,NITRAT_FLAG_W,PHSPHT,PHSPHT_FLAG_W,CFC-11,CFC-11_FLAG_W,CFC-12,CFC-12_FLAG_W,CFC113,CFC113_FLAG_W,TCARBN,TCARBN_FLAG_W,ALKALI,ALKALI_FLAG_W,THETA
,,,,,,,,,,,METERS,DBAR,ITS-90,PSS-78,,PSS-78,,UMOL/KG,,UMOL/KG,,UMOL/KG,,UMOL/KG,,UMOL/KG,,PMOL/KG,,PMOL/KG,,PMOL/KG,,UMOL/KG,,UMOL/KG,,DEG C
09AR20041223,       I09S,      18,          1,         24,         24,2,20041230,       1406,   -41.5193,   115.0045,       4569,     9.9,  14.9757,  35.1367,2,  35.1356,2,    260.0,2,   258.3,2,    0.78,2,    0.98,2,    0.20,2,-999.000,9,-999.000,9,-999.000,9,  -999.0,9,  -999.0,9,  14.9742
09AR20041223,       I09S,      18,          1,         23,         23,2,20041230,       1406,   -41.5193,   115.0045,       4569,    45.6,  13.1902,  35.0309,2,-999.0000,9,    257.3,2,  -999.0,9, -999.00,9, -999.00,9, -999.00,9,-999.000,9,-999.000,9,-999.000,9,  -999.0,9,  -999.0,9,  13.1839
09AR20041223,       I09S,      18,          1,         22,         22,2,20041230,       1406,   -41.5193,   115.0045,       4569,    45.4,  13.1805,  35.0306,2,-999.0000,9,    257.3,2,  -999.0,9, -999.00,9, -999.00,9, -999.00,9,-999.000,9,-999.000,9,-999.000,9,  -999.0,9,  -999.0,9,  13.1742
09AR20041223,       I09S,      18,          1,         21,         21,2,20041230,       1406,   -41.5193,   115.0045,       4569,    45.4,  13.1607,  35.0336,2,  35.0328,2,    257.3,2,   269.8,3,    1.37,2,    3.90,2,    0.39,2,-999.000,9,-999.000,9,-999.000,9,  -999.0,9,  -999.0,9,  13.1544
09AR20041223,       I09S,      18,          1,         20,         20,2,20041230,       1406,   -41.5193,   115.0045,       4569,    83.1,  12.4258,  35.0366,2,  35.0371,2,    257.6,2,   259.6,2,    2.24,2,    5.37,2,    0.48,2,-999.000,9,-999.000,9,-999.000,9,  -999.0,9,  -999.0,9,  12.4148
09AR20041223,       I09S,      18,          1,         19,         19,2,20041230,       1406,   -41.5193,   115.0045,       4569,   139.1,  11.6747,  35.0371,2,  35.0403,2,    257.1,2,   252.1,2,    2.44,2,    7.42,2,    0.57,2,-999.000,9,-999.000,9,-999.000,9,  -999.0,9,  -999.0,9,  11.6569
09AR20041223,       I09S,      18,          1,         18,         18,2,20041230,       1406,   -41.5193,   115.0045,       4569,   201.3,  10.8735,  34.9089,2,  34.9092,2,    258.9,2,   257.4,2,    2.63,2,    8.98,2,    0.66,2,-999.000,9,-999.000,9,-999.000,9,  -999.0,9,  -999.0,9,  10.8489
09AR20041223,       I09S,      18,          1,         17,          6,2,20041230,       1406,   -41.5193,   115.0045,       4569,   249.8,  10.0322,  34.7553,2,-999.0000,9,    262.3,2,  -999.0,9, -999.00,9, -999.00,9, -999.00,9,-999.000,9,-999.000,9,-999.000,9,  -999.0,9,  -999.0,9,  10.0032
09AR20041223,       I09S,      18,          1,         16,         16,2,20041230,       1406,   -41.5193,   115.0045,       4569,   298.3,   9.7184,  34.7146,2,-999.0000,9,    263.0,2,  -999.0,9, -999.00,9, -999.00,9, -999.00,9,-999.000,9,-999.000,9,-999.000,9,  -999.0,9,  -999.0,9,   9.6843
09AR20041223,       I09S,      18,          1,         15,         15,2,20041230,       1406,   -41.5193,   115.0045,       4569,   400.3,   9.4580,  34.6956,2,  34.6962,2,    249.2,2,   249.0,2,    4.49,2,   14.54,2,    1.00,2,-999.000,9,-999.000,9,-999.000,9,  -999.0,9,  -999.0,9,   9.4128
09AR20041223,       I09S,      18,          1,         14,         14,2,20041230,       1406,   -41.5193,   115.0045,       4569,   503.5,   9.1921,  34.6593,2,  34.6593,2,    251.6,2,   251.4,2,    4.88,2,   15.42,2,    1.02,2,-999.000,9,-999.000,9,-999.000,9,  -999.0,9,  -999.0,9,   9.1360
09AR20041223,       I09S,      18,          1,         13,         13,2,20041230,       1406,   -41.5193,   115.0045,       4569,   600.5,   8.9484,  34.6238,2,  34.6234,2,    246.3,2,   248.4,2,    5.37,2,   16.59,2,    1.09,2,-999.000,9,-999.000,9,-999.000,9,  -999.0,9,  -999.0,9,   8.8822
09AR20041223,       I09S,      18,          1,         12,         12,2,20041230,       1406,   -41.5193,   115.0045,       4569,   803.6,   7.6452,  34.5010,2,  34.5011,2,    209.1,2,   209.7,2,   12.40,2,   23.53,2,    1.49,2,-999.000,9,-999.000,9,-999.000,9,  -999.0,9,  -999.0,9,   7.5634
09AR20041223,       I09S,      18,          1,         11,         11,2,20041230,       1406,   -41.5193,   115.0045,       4569,   999.8,   5.2560,  34.3740,2,  34.3741,2,    199.0,2,   200.2,2,   27.04,2,   29.78,2,    1.89,2,-999.000,9,-999.000,9,-999.000,9,  -999.0,9,  -999.0,9,   5.1710
09AR20041223,       I09S,      18,          1,         10,         10,2,20041230,       1406,   -41.5193,   115.0045,       4569,  1251.2,   3.6059,  34.3901,2,  34.3927,2,    187.8,2,   189.0,2,   47.16,2,   32.90,2,    2.16,2,-999.000,9,-999.000,9,-999.000,9,  -999.0,9,  -999.0,9,   3.5129
09AR20041223,       I09S,      18,          1,          9,          9,2,20041230,       1406,   -41.5193,   115.0045,       4569,  1502.1,   2.9756,  34.5067,2,  34.5071,2,    169.9,2,   169.8,2,   65.60,2,   34.36,2,    2.28,2,-999.000,9,-999.000,9,-999.000,9,  -999.0,9,  -999.0,9,   2.8680
09AR20041223,       I09S,      18,          1,          8,        108,2,20041230,       1406,   -41.5193,   115.0045,       4569,  1748.3,   2.7421,  34.6080,2,  34.6077,2,    162.2,2,   161.3,2,   77.99,2,   34.16,2,    2.27,2,-999.000,9,-999.000,9,-999.000,9,  -999.0,9,  -999.0,9,   2.6164
09AR20041223,       I09S,      18,          1,          7,        107,2,20041230,       1406,   -41.5193,   115.0045,       4569,  2001.3,   2.5493,  34.6724,2,  34.6721,2,    165.0,2,   165.3,2,   84.63,2,   33.38,2,    2.25,2,-999.000,9,-999.000,9,-999.000,9,  -999.0,9,  -999.0,9,   2.4043
09AR20041223,       I09S,      18,          1,          6,        117,2,20041230,       1406,   -41.5193,   115.0045,       4569,  2500.5,   2.1788,  34.7317,2,  34.7314,2,    179.2,2,   178.8,2,   91.75,2,   32.60,2,    2.14,2,-999.000,9,-999.000,9,-999.000,9,  -999.0,9,  -999.0,9,   1.9948
09AR20041223,       I09S,      18,          1,          5,        105,2,20041230,       1406,   -41.5193,   115.0045,       4569,  3000.5,   1.7272,  34.7434,2,  34.7433,2,    193.8,2,   193.7,2,   98.00,2,   31.14,2,    2.10,2,-999.000,9,-999.000,9,-999.000,9,  -999.0,9,  -999.0,9,   1.5050
09AR20041223,       I09S,      18,          1,          4,        104,2,20041230,       1406,   -41.5193,   115.0045,       4569,  3501.1,   1.2646,  34.7281,2,  34.7280,2,    202.9,2,   202.9,2,  108.24,2,   32.01,2,    2.13,2,-999.000,9,-999.000,9,-999.000,9,  -999.0,9,  -999.0,9,   1.0040
09AR20041223,       I09S,      18,          1,          3,        103,2,20041230,       1406,   -41.5193,   115.0045,       4569,  3999.4,   0.8564,  34.7081,2,  34.7074,2,    209.8,2,   209.7,2,  119.28,2,   32.50,2,    2.18,2,-999.000,9,-999.000,9,-999.000,9,  -999.0,9,  -999.0,9,   0.5556
09AR20041223,       I09S,      18,          1,          2,        102,2,20041230,       1406,   -41.5193,   115.0045,       4569,  4299.8,   0.8153,  34.7047,2,  34.7237,4,    210.2,2,   210.3,2,  120.94,2,   32.41,2,    2.17,2,-999.000,9,-999.000,9,-999.000,9,  -999.0,9,  -999.0,9,   0.4836
09AR20041223,       I09S,      18,          1,          1,        101,2,20041230,       1406,   -41.5193,   115.0045,       4569,  4660.2,   0.8345,  34.7035,2,  34.7031,2,    210.1,2,   211.4,2,  122.01,2,   32.11,2,    2.17,2,-999.000,9,-999.000,9,-999.000,9,  -999.0,9,  -999.0,9,   0.4621
09AR20041223,       I09S,      19,          1,         24,         24,2,20041230,       2049,   -41.9982,   115.0050,       4454,    10.7,  14.1663,  34.8712,2,  34.8711,2,    258.1,2,   261.2,2,    1.07,2,    3.03,2,    0.43,2,   2.811,2,   1.610,2,   0.414,4,  2063.5,6,  2308.1,6,  14.1648
09AR20041223,       I09S,      19,          1,         23,         23,2,20041230,       2049,   -41.9982,   115.0050,       4454,    51.8,  12.2274,  34.8819,2,-999.0000,9,    266.4,2,  -999.0,9, -999.00,9, -999.00,9, -999.00,9,-999.000,9,-999.000,9,-999.000,9,  -999.0,9,  -999.0,9,  12.2206
09AR20041223,       I09S,      19,          1,         22,         22,2,20041230,       2049,   -41.9982,   115.0050,       4454,    51.8,  12.2034,  34.8764,2,-999.0000,9,    266.4,2,  -999.0,9, -999.00,9, -999.00,9, -999.00,9,-999.000,9,-999.000,9,-999.000,9,  -999.0,9,  -999.0,9,  12.1966
09AR20041223,       I09S,      19,          1,         21,         21,2,20041230,       2049,   -41.9982,   115.0050,       4454,    51.6,  12.2006,  34.8758,2,  34.8837,2,    266.4,2,   264.6,2,    2.05,2,    6.05,2,    0.54,2,   3.087,2,   1.733,2,   0.407,4,  2088.1,2,  2304.4,2,  12.1938
09AR20041223,       I09S,      19,          1,         20,         20,2,20041230,       2049,   -41.9982,   115.0050,       4454,   101.6,  12.2577,  35.1604,2,  35.1618,2,    254.4,2,   249.8,2,    2.24,2,    6.44,2,    0.50,2,   2.982,2,   1.689,2,   0.247,2,  2100.2,2,  2327.0,2,  12.2443
09AR20041223,       I09S,      19,          1,         19,         19,2,20041230,       2049,   -41.9982,   115.0050,       4454,   150.3,  11.3513,  35.0008,2,  34.9996,2,    258.5,2,   254.7,2,    2.54,2,    8.20,2,    0.61,2,   3.126,6,   1.747,6,   0.256,6,  2103.9,2,  2312.5,2,  11.3324
09AR20041223,       I09S,      19,          1,         18,         18,2,20041230,       2049,   -41.9982,   115.0050,       4454,   200.0,  10.7450,  34.8858,2,  34.8827,2,    255.7,2,   260.4,2,    2.73,2,    9.56,2,    0.67,2,   3.238,2,   1.806,2,   0.277,2,  2103.3,2,  2302.1,2,  10.7207
09AR20041223,       I09S,      19,          1,         17,          6,2,20041230,       2049,   -41.9982,   115.0050,       4454,   298.6,   9.8172,  34.7393,2,  34.7380,2,    252.6,2,   251.9,2,    3.71,2,   12.98,2,    0.88,2,   3.370,2,   1.853,2,   0.235,2,  2116.5,2,  2293.6,2,   9.7829
09AR20041223,       I09S,      19,          1,         16,         16,2,20041230,       2049,   -41.9982,   115.0050,       4454,   451.4,   9.2130,  34.6611,2,  34.6605,2,    251.7,2,   251.4,2,    4.78,2,   15.52,2,    1.02,2,   3.492,2,   1.883,2,   0.235,2,  2119.8,2,  2289.3,2,   9.1627
09AR20041223,       I09S,      19,          1,         15,         15,2,20041230,       2049,   -41.9982,   115.0050,       4454,   602.5,   8.8364,  34.6082,2,  34.6079,2,    245.9,2,   246.4,2,    5.86,2,   16.89,2,    1.11,2,   3.412,2,   1.810,2,   0.230,2,  2124.7,2,  2290.4,2,   8.7705
09AR20041223,       I09S,      19,          1,         14,         14,2,20041230,       2049,   -41.9982,   115.0050,       4454,   750.7,   7.9300,  34.5198,2,  34.5201,2,    216.0,2,   215.3,2,   10.74,2,   22.16,2,    1.43,2,   2.647,2,   1.363,2,   0.141,2,  2148.7,2,  2288.7,2,   7.8523
09AR20041223,       I09S,      19,          1,         13,         13,2,20041230,       2049,   -41.9982,   115.0050,       4454,   898.6,   6.4326,  34.4221,2,  34.4221,2,    198.3,2,   202.9,3,   19.23,2,   26.65,2,    1.85,2,   1.960,2,   0.979,2,   0.101,2,  2169.1,2,  2289.1,2,   6.3488
09AR20041223,       I09S,      19,          1,         12,         12,4,20041230,       2049,   -41.9982,   115.0050,       4454,  1098.6,   4.5643,  34.3651,2,  34.4195,4,    197.8,2,  -999.0,9, -999.00,9, -999.00,9, -999.00,9,   1.426,4,   0.735,4,   0.079,4,  2194.5,2,  2301.7,2,   4.4759
09AR20041223,       I09S,      19,          1,         11,         11,2,20041230,       2049,   -41.9982,   115.0050,       4454,  1299.4,   3.5261,  34.4045,2,  34.4052,2,    186.3,2,   186.2,2,   49.79,2,   33.10,2,    2.20,2,   0.749,2,   0.366,2,   0.034,2,  2223.0,6,  2314.3,6,   3.4298
09AR20041223,       I09S,      19,          1,         10,         10,2,20041230,       2049,   -41.9982,   115.0050,       4454,  1503.4,   2.9990,  34.4916,2,  34.4913,2,    173.4,2,   172.8,2,   63.84,2,   34.27,2,    2.26,2,   0.289,2,   0.142,2,   0.019,2,  2244.0,2,  2330.1,2,   2.8911
09AR20041223,       I09S,      19,          1,          9,          9,2,20041230,       2049,   -41.9982,   115.0050,       4454,  1751.5,   2.6936,  34.5872,2,  34.5866,2,    167.6,2,   168.7,2,   72.33,2,   34.07,2,    2.27,2,   0.166,6,   0.077,6,   0.005,6,  2250.7,2,  2339.6,2,   2.5684
09AR20041223,       I09S,      19,          1,          8,        108,2,20041230,       2049,   -41.9982,   115.0050,       4454,  2001.5,   2.5117,  34.6693,2,  34.6688,2,    171.0,2,   171.6,2,   80.33,2,   32.89,2,    2.16,2,   0.075,2,   0.037,2,   0.007,2,  2256.7,2,  2348.4,2,   2.3672
09AR20041223,       I09S,      19,          1,          7,        107,2,20041230,       2049,   -41.9982,   115.0050,       4454,  2402.9,   2.2379,  34.7372,2,  34.7366,2,    188.8,2,   189.3,2,   81.11,2,   30.75,2,    2.03,2,   0.063,2,   0.034,2,   0.001,2,  2245.4,4,  2349.1,2,   2.0618
09AR20041223,       I09S,      19,          1,          6,        117,2,20041230,       2049,   -41.9982,   115.0050,       4454,  2800.9,   1.8836,  34.7509,2,  34.7508,2,    196.3,2,   196.1,2,   90.48,2,   30.65,2,    2.01,2,   0.034,2,   0.016,2,   0.000,2,  2245.2,4,  2355.1,2,   1.6771
09AR20041223,       I09S,      19,          1,          5,        105,2,20041230,       2049,   -41.9982,   115.0050,       4454,  3199.0,   1.4525,  34.7376,2,  34.7369,2,    201.6,2,   201.4,2,  102.97,2,   31.14,2,    2.10,2,   0.033,2,   0.015,2,   0.006,2,  2254.5,2,  2359.8,2,   1.2172
09AR20041223,       I09S,      19,          1,          4,        104,2,20041230,       2049,   -41.9982,   115.0050,       4454,  3599.1,   1.0695,  34.7193,2,  34.7178,2,    206.4,2,   206.5,2,  116.74,2,   31.82,2,    2.11,2,   0.109,2,   0.050,2,   0.006,2,  2256.8,2,  2361.0,2,   0.8040
09AR20041223,       I09S,      19,          1,          3,        103,2,20041230,       2049,   -41.9982,   115.0050,       4454,  4001.3,   0.8529,  34.7079,2,  34.7066,2,    210.8,2,   210.0,2,  121.13,2,   32.02,2,    2.16,2,   0.171,2,   0.085,2,   0.013,2,  2260.5,2,  2363.2,2,   0.5520
09AR20041223,       I09S,      19,          1,          2,        102,2,20041230,       2049,   -41.9982,   115.0050,       4454,  4402.1,   0.8254,  34.7048,2,  34.7041,2,    211.4,2,   210.5,2,  124.45,2,   32.21,2,    2.16,2,   0.171,6,   0.084,6,   0.010,6,  2261.9,2,  2365.8,2,   0.4821
09AR20041223,       I09S,      19,          1,          1,        101,2,20041230,       2049,   -41.9982,   115.0050,       4454,  4640.6,   0.8393,  34.7039,2,  34.7037,2,    212.0,2,   211.7,2,  124.16,2,   32.21,2,    2.18,2,   0.176,2,   0.089,2,   0.006,2,  2262.1,6,  2368.7,6,   0.4689