BOTTLE,20220105CCHSIOENA
EXPOCODE,SECT_ID,STNNBR,CASTNO,SAMPNO,BTLNBR,BTLNBR_FLAG_W,DATE,TIME,LATITUDE,LONGITUDE,DEPTH,CTDPRS,CTDTMP,CTDSAL,CTDSAL_FLAG_W,SALNTY,SALNTY_FLAG_W,CTDOXY,CTDOXY_FLAG_W,OXYGEN,OXYGEN_FLAG_W,SILCAT,SILCAT_FLAG_W,NITRAT,NITRAT_FLAG_W,PHSPHT,PHSPHT_FLAG_W,CFC-11,CFC-11_FLAG_W,CFC-12,CFC-12_FLAG_W,CFC113,CFC113_FLAG_W,TCARBN,TCARBN_FLAG_W,ALKALI,ALKALI_FLAG_W,THETA
,,,,,,,,,,,METERS,DBAR,ITS-90,PSS-78,,PSS-78,,UMOL/KG,,UMOL/KG,,UMOL/KG,,UMOL/KG,,UMOL/KG,,PMOL/KG,,PMOL/KG,,PMOL/KG,,UMOL/KG,,UMOL/KG,,DEG C
09AR20041223,       I09S,     108,          1,         24,         24,2,20050202,       0410,   -65.1262,    80.4928,       3505,    10.8,   1.3057,  33.6723,2,  33.7620,2,    330.8,2,   331.9,2,   37.02,2,   25.69,2,    1.57,2,-999.000,9,-999.000,9,-999.000,9,  -999.0,9,  -999.0,9,   1.3052
09AR20041223,       I09S,     108,          1,         23,         23,2,20050202,       0410,   -65.1262,    80.4928,       3505,    50.8,  -0.5998,  34.0263,2,  34.1230,2,    309.3,2,   290.2,2,   60.06,2,   29.30,2,    1.95,2,-999.000,9,-999.000,9,-999.000,9,  -999.0,9,  -999.0,9,  -0.6013
09AR20041223,       I09S,     108,          1,         22,         22,2,20050202,       0410,   -65.1262,    80.4928,       3505,   101.0,  -0.7978,  34.3122,2,  34.3218,2,    261.6,2,   260.2,2,   69.61,2,   31.34,2,    2.08,2,-999.000,9,-999.000,9,-999.000,9,  -999.0,9,  -999.0,9,  -0.8007
09AR20041223,       I09S,     108,          1,         21,         21,2,20050202,       0410,   -65.1262,    80.4928,       3505,   152.8,   0.3151,  34.4805,2,  34.4777,2,    224.6,2,   227.0,2,   77.51,2,   32.02,2,    2.15,2,-999.000,9,-999.000,9,-999.000,9,  -999.0,9,  -999.0,9,   0.3092
09AR20041223,       I09S,     108,          1,         20,         20,2,20050202,       0410,   -65.1262,    80.4928,       3505,   202.4,   0.8806,  34.5797,2,  34.5862,2,    199.7,2,   208.1,2,   82.97,2,   31.72,2,    2.14,2,-999.000,9,-999.000,9,-999.000,9,  -999.0,9,  -999.0,9,   0.8716
09AR20041223,       I09S,     108,          1,         19,         19,2,20050202,       0410,   -65.1262,    80.4928,       3505,   301.4,   1.4850,  34.6819,2,  34.6809,2,    195.0,2,   192.8,2,   87.26,2,   31.43,2,    2.13,2,-999.000,9,-999.000,9,-999.000,9,  -999.0,9,  -999.0,9,   1.4698
09AR20041223,       I09S,     108,          1,         18,         18,2,20050202,       0410,   -65.1262,    80.4928,       3505,   400.7,   1.5039,  34.7087,2,  34.7102,2,    196.7,2,   193.9,2,   89.11,2,   30.84,2,    2.09,2,-999.000,9,-999.000,9,-999.000,9,  -999.0,9,  -999.0,9,   1.4833
09AR20041223,       I09S,     108,          1,         17,          6,2,20050202,       0410,   -65.1262,    80.4928,       3505,   502.2,   1.4060,  34.7140,2,  34.7145,2,    199.3,2,   198.0,2,   91.07,2,   30.55,2,    2.07,2,-999.000,9,-999.000,9,-999.000,9,  -999.0,9,  -999.0,9,   1.3802
09AR20041223,       I09S,     108,          1,         16,         16,2,20050202,       0410,   -65.1262,    80.4928,       3505,   602.2,   1.3370,  34.7198,2,  34.7196,2,    201.5,2,   199.9,2,   93.21,2,   30.26,2,    2.07,2,-999.000,9,-999.000,9,-999.000,9,  -999.0,9,  -999.0,9,   1.3058
09AR20041223,       I09S,     108,          1,         15,         15,2,20050202,       0410,   -65.1262,    80.4928,       3505,   700.1,   1.2852,  34.7256,2,  34.7259,2,    202.4,2,   201.3,2,   95.95,2,   30.36,2,    2.06,2,-999.000,9,-999.000,9,-999.000,9,  -999.0,9,  -999.0,9,   1.2487
09AR20041223,       I09S,     108,          1,         14,         14,2,20050202,       0410,   -65.1262,    80.4928,       3505,   800.3,   1.1479,  34.7202,2,  34.7217,2,    203.2,2,   203.5,2,   99.17,2,   30.45,2,    2.08,2,-999.000,9,-999.000,9,-999.000,9,  -999.0,9,  -999.0,9,   1.1063
09AR20041223,       I09S,     108,          1,         13,         13,2,20050202,       0410,   -65.1262,    80.4928,       3505,   903.2,   1.0233,  34.7144,2,  34.7153,2,    204.5,2,   204.9,2,  101.71,2,   30.75,2,    2.09,2,-999.000,9,-999.000,9,-999.000,9,  -999.0,9,  -999.0,9,   0.9765
09AR20041223,       I09S,     108,          1,         12,         12,2,20050202,       0410,   -65.1262,    80.4928,       3505,  1000.4,   0.9498,  34.7127,2,  34.7127,2,    204.9,2,   205.1,2,  104.05,2,   30.94,2,    2.11,2,-999.000,9,-999.000,9,-999.000,9,  -999.0,9,  -999.0,9,   0.8978
09AR20041223,       I09S,     108,          1,         11,         11,2,20050202,       0410,   -65.1262,    80.4928,       3505,  1200.6,   0.7728,  34.7044,2,  34.7045,2,    206.7,2,   206.8,2,  109.12,2,   31.23,2,    2.13,2,-999.000,9,-999.000,9,-999.000,9,  -999.0,9,  -999.0,9,   0.7100
09AR20041223,       I09S,     108,          1,         10,         10,2,20050202,       0410,   -65.1262,    80.4928,       3505,  1401.8,   0.6144,  34.6968,2,  34.6964,2,    209.1,2,   208.7,2,  113.61,2,   31.62,2,    2.17,2,-999.000,9,-999.000,9,-999.000,9,  -999.0,9,  -999.0,9,   0.5405
09AR20041223,       I09S,     108,          1,          9,          9,2,20050202,       0410,   -65.1262,    80.4928,       3505,  1600.7,   0.4667,  34.6900,2,  34.6898,2,    211.6,2,   212.0,2,  117.23,2,   31.62,2,    2.18,2,-999.000,9,-999.000,9,-999.000,9,  -999.0,9,  -999.0,9,   0.3815
09AR20041223,       I09S,     108,          1,          8,        108,2,20050202,       0410,   -65.1262,    80.4928,       3505,  1800.3,   0.3301,  34.6838,2,  34.6837,2,    214.9,2,   216.8,2,  118.01,2,   31.53,2,    2.17,2,-999.000,9,-999.000,9,-999.000,9,  -999.0,9,  -999.0,9,   0.2333
09AR20041223,       I09S,     108,          1,          7,        107,2,20050202,       0410,   -65.1262,    80.4928,       3505,  2002.4,   0.2496,  34.6815,2,  34.6815,2,    215.9,2,   215.8,2,  123.87,2,   31.92,2,    2.21,2,-999.000,9,-999.000,9,-999.000,9,  -999.0,9,  -999.0,9,   0.1398
09AR20041223,       I09S,     108,          1,          6,        117,2,20050202,       0410,   -65.1262,    80.4928,       3505,  2200.2,   0.1658,  34.6780,2,  34.6774,2,    218.3,2,   218.4,2,  125.72,2,   32.02,2,    2.21,2,-999.000,9,-999.000,9,-999.000,9,  -999.0,9,  -999.0,9,   0.0429
09AR20041223,       I09S,     108,          1,          5,        105,2,20050202,       0410,   -65.1262,    80.4928,       3505,  2502.3,   0.0675,  34.6743,2,  34.6735,2,    222.9,2,   222.8,2,  125.72,2,   32.02,2,    2.21,2,-999.000,9,-999.000,9,-999.000,9,  -999.0,9,  -999.0,9,  -0.0766
09AR20041223,       I09S,     108,          1,          4,        104,2,20050202,       0410,   -65.1262,    80.4928,       3505,  2799.9,  -0.0102,  34.6719,2,  34.6805,4,    226.9,2,   227.0,2,  124.36,2,   31.92,2,    2.19,2,-999.000,9,-999.000,9,-999.000,9,  -999.0,9,  -999.0,9,  -0.1766
09AR20041223,       I09S,     108,          1,          3,        103,2,20050202,       0410,   -65.1262,    80.4928,       3505,  3102.3,  -0.0785,  34.6692,2,  34.6670,2,    230.8,2,   230.5,2,  123.48,2,   31.72,2,    2.19,2,-999.000,9,-999.000,9,-999.000,9,  -999.0,9,  -999.0,9,  -0.2689
09AR20041223,       I09S,     108,          1,          2,        102,2,20050202,       0410,   -65.1262,    80.4928,       3505,  3400.7,  -0.1305,  34.6671,2,  34.6656,2,    233.0,2,   232.2,2,  129.63,2,   31.72,2,    2.20,2,-999.000,9,-999.000,9,-999.000,9,  -999.0,9,  -999.0,9,  -0.3460
09AR20041223,       I09S,     108,          1,          1,        101,2,20050202,       0410,   -65.1262,    80.4928,       3505,  3530.2,  -0.1521,  34.6659,2,  34.6644,2,    232.6,2,   234.1,2,  137.92,2,   31.82,2,    2.22,2,-999.000,9,-999.000,9,-999.000,9,  -999.0,9,  -999.0,9,  -0.3789
09AR20041223,       I09S,     109,          1,         24,         24,2,20050202,       0827,   -65.3863,    80.4297,       3282,    10.9,   0.7911,  33.5393,2,  33.5673,2,    340.4,2,   340.4,2,   40.35,2,   25.20,2,    1.56,2,-999.000,9,-999.000,9,-999.000,9,  -999.0,9,  -999.0,9,   0.7907
09AR20041223,       I09S,     109,          1,         23,         23,2,20050202,       0827,   -65.3863,    80.4297,       3282,    60.6,  -1.5825,  34.1189,2,  34.1244,2,    302.5,2,   304.7,2,   63.47,2,   29.10,2,    1.98,2,-999.000,9,-999.000,9,-999.000,9,  -999.0,9,  -999.0,9,  -1.5838
09AR20041223,       I09S,     109,          1,         22,         22,2,20050202,       0827,   -65.3863,    80.4297,       3282,    81.3,  -1.4779,  34.2072,2,  34.2160,2,    268.5,2,   288.9,2,   65.42,2,   29.98,2,    2.02,2,-999.000,9,-999.000,9,-999.000,9,  -999.0,9,  -999.0,9,  -1.4797
09AR20041223,       I09S,     109,          1,         21,         21,2,20050202,       0827,   -65.3863,    80.4297,       3282,   151.3,  -0.5510,  34.3802,2,  34.3886,2,    259.1,2,   256.3,2,   71.37,2,   30.85,2,    2.09,2,-999.000,9,-999.000,9,-999.000,9,  -999.0,9,  -999.0,9,  -0.5557
09AR20041223,       I09S,     109,          1,         20,         20,2,20050202,       0827,   -65.3863,    80.4297,       3282,   201.4,   0.3689,  34.5039,2,  34.5062,2,    228.6,2,   226.3,2,   78.10,2,   31.53,2,    2.14,2,-999.000,9,-999.000,9,-999.000,9,  -999.0,9,  -999.0,9,   0.3609
09AR20041223,       I09S,     109,          1,         19,         19,2,20050202,       0827,   -65.3863,    80.4297,       3282,   300.9,   1.0199,  34.6266,2,  34.6325,2,    204.4,2,   205.1,2,   84.82,2,   31.43,2,    2.13,2,-999.000,9,-999.000,9,-999.000,9,  -999.0,9,  -999.0,9,   1.0059
09AR20041223,       I09S,     109,          1,         18,         18,2,20050202,       0827,   -65.3863,    80.4297,       3282,   401.0,   1.2349,  34.6827,2,  34.6835,2,    197.2,2,   201.9,2,   88.14,2,   30.84,2,    2.09,2,-999.000,9,-999.000,9,-999.000,9,  -999.0,9,  -999.0,9,   1.2152
09AR20041223,       I09S,     109,          1,         17,          6,2,20050202,       0827,   -65.3863,    80.4297,       3282,   501.1,   1.2366,  34.7043,2,  34.7054,2,    202.6,2,   201.5,2,   91.55,2,   30.45,2,    2.08,2,-999.000,9,-999.000,9,-999.000,9,  -999.0,9,  -999.0,9,   1.2115
09AR20041223,       I09S,     109,          1,         16,         16,2,20050202,       0827,   -65.3863,    80.4297,       3282,   600.7,   1.1865,  34.7145,2,  34.7151,2,    203.7,2,   202.6,2,   95.26,2,   30.45,2,    2.07,2,-999.000,9,-999.000,9,-999.000,9,  -999.0,9,  -999.0,9,   1.1562
09AR20041223,       I09S,     109,          1,         15,         15,2,20050202,       0827,   -65.3863,    80.4297,       3282,   700.5,   1.0925,  34.7156,2,  34.7153,2,    203.5,2,   204.2,2,   98.48,2,   30.55,2,    2.07,2,-999.000,9,-999.000,9,-999.000,9,  -999.0,9,  -999.0,9,   1.0571
09AR20041223,       I09S,     109,          1,         14,         14,2,20050202,       0827,   -65.3863,    80.4297,       3282,   800.9,   1.0035,  34.7137,2,  34.7149,2,    203.8,2,   204.7,2,  101.90,2,   30.65,2,    2.09,2,-999.000,9,-999.000,9,-999.000,9,  -999.0,9,  -999.0,9,   0.9629
09AR20041223,       I09S,     109,          1,         13,         13,2,20050202,       0827,   -65.3863,    80.4297,       3282,   901.7,   0.9244,  34.7124,2,  34.7123,2,    205.5,2,   205.1,2,  104.93,2,   30.75,2,    2.11,2,-999.000,9,-999.000,9,-999.000,9,  -999.0,9,  -999.0,9,   0.8785
09AR20041223,       I09S,     109,          1,         12,         12,2,20050202,       0827,   -65.3863,    80.4297,       3282,  1000.7,   0.8167,  34.7073,2,  34.7066,2,    206.2,2,   206.6,2,  107.27,2,   31.04,2,    2.13,2,-999.000,9,-999.000,9,-999.000,9,  -999.0,9,  -999.0,9,   0.7657
09AR20041223,       I09S,     109,          1,         11,         11,2,20050202,       0827,   -65.3863,    80.4297,       3282,  1201.3,   0.6676,  34.7022,2,  34.7033,2,    207.0,2,   207.4,2,  112.93,2,   31.23,2,    2.14,2,-999.000,9,-999.000,9,-999.000,9,  -999.0,9,  -999.0,9,   0.6058
09AR20041223,       I09S,     109,          1,         10,         10,2,20050202,       0827,   -65.3863,    80.4297,       3282,  1402.2,   0.5217,  34.6951,2,  34.6956,2,    209.4,2,   208.6,2,  117.91,2,   31.62,2,    2.18,2,-999.000,9,-999.000,9,-999.000,9,  -999.0,9,  -999.0,9,   0.4488
09AR20041223,       I09S,     109,          1,          9,          9,2,20050202,       0827,   -65.3863,    80.4297,       3282,  1600.1,   0.3755,  34.6876,2,  34.6880,2,    212.7,2,   213.4,2,  120.94,2,   31.82,2,    2.20,2,-999.000,9,-999.000,9,-999.000,9,  -999.0,9,  -999.0,9,   0.2915
09AR20041223,       I09S,     109,          1,          8,        108,2,20050202,       0827,   -65.3863,    80.4297,       3282,  1800.5,   0.2570,  34.6818,2,  34.6811,2,    215.7,2,   216.5,2,  121.33,2,   31.53,2,    2.19,2,-999.000,9,-999.000,9,-999.000,9,  -999.0,9,  -999.0,9,   0.1612
09AR20041223,       I09S,     109,          1,          7,        107,2,20050202,       0827,   -65.3863,    80.4297,       3282,  2100.3,   0.1224,  34.6768,2,  34.6768,2,    221.0,2,   220.1,2,  124.94,2,   31.82,2,    2.20,2,-999.000,9,-999.000,9,-999.000,9,  -999.0,9,  -999.0,9,   0.0076
09AR20041223,       I09S,     109,          1,          6,        117,2,20050202,       0827,   -65.3863,    80.4297,       3282,  2400.3,   0.0330,  34.6746,2,  34.6744,2,    225.9,2,   225.4,2,  120.84,2,   31.33,2,    2.17,2,-999.000,9,-999.000,9,-999.000,9,  -999.0,9,  -999.0,9,  -0.1026
09AR20041223,       I09S,     109,          1,          5,        105,2,20050202,       0827,   -65.3863,    80.4297,       3282,  2600.3,  -0.0314,  34.6716,2,  34.6715,2,    228.7,2,   228.5,2,  120.16,2,   31.14,2,    2.18,2,-999.000,9,-999.000,9,-999.000,9,  -999.0,9,  -999.0,9,  -0.1813
09AR20041223,       I09S,     109,          1,          4,        104,2,20050202,       0827,   -65.3863,    80.4297,       3282,  2799.2,  -0.0742,  34.6698,2,  34.6692,2,    231.0,2,   231.1,2,  119.47,2,   31.24,2,    2.18,2,-999.000,9,-999.000,9,-999.000,9,  -999.0,9,  -999.0,9,  -0.2392
09AR20041223,       I09S,     109,          1,          3,        103,2,20050202,       0827,   -65.3863,    80.4297,       3282,  2999.5,  -0.1014,  34.6691,2,  34.6670,2,    233.0,2,   231.9,2,  120.74,2,   31.33,2,    2.17,2,-999.000,9,-999.000,9,-999.000,9,  -999.0,9,  -999.0,9,  -0.2825
09AR20041223,       I09S,     109,          1,          2,        102,2,20050202,       0827,   -65.3863,    80.4297,       3282,  3200.6,  -0.1507,  34.6659,2,  34.6658,2,    234.8,2,   234.8,2,  122.21,2,   31.33,2,    2.16,2,-999.000,9,-999.000,9,-999.000,9,  -999.0,9,  -999.0,9,  -0.3479
09AR20041223,       I09S,     109,          1,          1,        101,2,20050202,       0827,   -65.3863,    80.4297,       3282,  3293.6,  -0.1772,  34.6657,2,  34.6646,2,    235.2,2,   234.4,2,  130.12,2,   31.33,2,    2.18,2,-999.000,9,-999.000,9,-999.000,9,  -999.0,9,  -999.0,9,  -0.3820