BOTTLE,20220105CCHSIOENA
EXPOCODE,SECT_ID,STNNBR,CASTNO,SAMPNO,BTLNBR,BTLNBR_FLAG_W,DATE,TIME,LATITUDE,LONGITUDE,DEPTH,CTDPRS,CTDTMP,CTDSAL,CTDSAL_FLAG_W,SALNTY,SALNTY_FLAG_W,CTDOXY,CTDOXY_FLAG_W,OXYGEN,OXYGEN_FLAG_W,SILCAT,SILCAT_FLAG_W,NITRAT,NITRAT_FLAG_W,PHSPHT,PHSPHT_FLAG_W,CFC-11,CFC-11_FLAG_W,CFC-12,CFC-12_FLAG_W,CFC113,CFC113_FLAG_W,TCARBN,TCARBN_FLAG_W,ALKALI,ALKALI_FLAG_W,THETA
,,,,,,,,,,,METERS,DBAR,ITS-90,PSS-78,,PSS-78,,UMOL/KG,,UMOL/KG,,UMOL/KG,,UMOL/KG,,UMOL/KG,,PMOL/KG,,PMOL/KG,,PMOL/KG,,UMOL/KG,,UMOL/KG,,DEG C
09AR20041223,       I09S,     100,          1,         24,         24,2,20050131,       1508,   -63.0057,    81.1157,       3291,     9.5,   0.9932,  33.8314,2,  33.8320,2,    333.2,2,   333.2,2,   33.21,2,   25.88,2,    1.67,2,-999.000,9,-999.000,9,-999.000,9,  -999.0,9,  -999.0,9,   0.9928
09AR20041223,       I09S,     100,          1,         23,         23,2,20050131,       1508,   -63.0057,    81.1157,       3291,    40.5,   0.3928,  33.8722,2,  33.8722,2,    327.7,2,   327.9,2,   37.50,2,   26.86,2,    1.76,2,-999.000,9,-999.000,9,-999.000,9,  -999.0,9,  -999.0,9,   0.3913
09AR20041223,       I09S,     100,          1,         22,         22,2,20050131,       1508,   -63.0057,    81.1157,       3291,    80.7,  -0.9219,  34.0645,2,  34.0592,2,    284.7,2,   292.2,2,   54.98,2,   30.76,2,    2.07,2,-999.000,9,-999.000,9,-999.000,9,  -999.0,9,  -999.0,9,  -0.9241
09AR20041223,       I09S,     100,          1,         21,         21,2,20050131,       1508,   -63.0057,    81.1157,       3291,   129.9,   0.4835,  34.2934,2,  34.2871,2,    243.1,2,   234.5,2,   66.20,2,   33.10,2,    2.23,2,-999.000,9,-999.000,9,-999.000,9,  -999.0,9,  -999.0,9,   0.4783
09AR20041223,       I09S,     100,          1,         20,         20,2,20050131,       1508,   -63.0057,    81.1157,       3291,   201.2,   1.7673,  34.5225,2,  34.5211,2,    183.6,2,   182.9,2,   78.58,2,   34.56,2,    2.31,2,-999.000,9,-999.000,9,-999.000,9,  -999.0,9,  -999.0,9,   1.7569
09AR20041223,       I09S,     100,          1,         19,         19,2,20050131,       1508,   -63.0057,    81.1157,       3291,   299.3,   1.9679,  34.6062,2,  34.6073,2,    173.4,2,   174.4,2,   82.48,2,   33.77,2,    2.28,2,-999.000,9,-999.000,9,-999.000,9,  -999.0,9,  -999.0,9,   1.9517
09AR20041223,       I09S,     100,          1,         18,         18,2,20050131,       1508,   -63.0057,    81.1157,       3291,   400.7,   2.0182,  34.6546,2,  34.6540,2,    174.6,2,   175.1,2,   83.55,2,   32.89,2,    2.22,2,-999.000,9,-999.000,9,-999.000,9,  -999.0,9,  -999.0,9,   1.9960
09AR20041223,       I09S,     100,          1,         17,          6,2,20050131,       1508,   -63.0057,    81.1157,       3291,   500.8,   2.0153,  34.6891,2,  34.6880,2,    178.6,2,   178.5,2,   84.53,2,   32.11,2,    2.17,2,-999.000,9,-999.000,9,-999.000,9,  -999.0,9,  -999.0,9,   1.9871
09AR20041223,       I09S,     100,          1,         16,         16,2,20050131,       1508,   -63.0057,    81.1157,       3291,   600.1,   1.9795,  34.7127,2,  34.7125,2,    183.3,2,   183.0,2,   85.11,2,   31.43,2,    2.13,2,-999.000,9,-999.000,9,-999.000,9,  -999.0,9,  -999.0,9,   1.9453
09AR20041223,       I09S,     100,          1,         15,         15,2,20050131,       1508,   -63.0057,    81.1157,       3291,   700.0,   1.9316,  34.7291,2,  34.7286,2,    187.5,2,   187.5,2,   85.70,2,   30.94,2,    2.09,2,-999.000,9,-999.000,9,-999.000,9,  -999.0,9,  -999.0,9,   1.8914
09AR20041223,       I09S,     100,          1,         14,         14,2,20050131,       1508,   -63.0057,    81.1157,       3291,   802.8,   1.8749,  34.7402,2,  34.7406,2,    191.6,2,   192.0,2,   86.48,2,   30.65,2,    2.05,2,-999.000,9,-999.000,9,-999.000,9,  -999.0,9,  -999.0,9,   1.8285
09AR20041223,       I09S,     100,          1,         13,         13,2,20050131,       1508,   -63.0057,    81.1157,       3291,   901.7,   1.8057,  34.7452,2,  34.7451,2,    195.0,2,   194.4,2,   87.75,2,   30.16,2,    2.04,2,-999.000,9,-999.000,9,-999.000,9,  -999.0,9,  -999.0,9,   1.7533
09AR20041223,       I09S,     100,          1,         12,         12,2,20050131,       1508,   -63.0057,    81.1157,       3291,   999.6,   1.7254,  34.7476,2,  34.7478,2,    197.6,2,   196.6,2,   89.40,2,   29.96,2,    2.03,2,-999.000,9,-999.000,9,-999.000,9,  -999.0,9,  -999.0,9,   1.6672
09AR20041223,       I09S,     100,          1,         11,         11,2,20050131,       1508,   -63.0057,    81.1157,       3291,  1199.8,   1.5453,  34.7484,2,  34.7478,2,    201.2,2,   201.1,2,   92.92,2,   29.87,2,    2.03,2,-999.000,9,-999.000,9,-999.000,9,  -999.0,9,  -999.0,9,   1.4751
09AR20041223,       I09S,     100,          1,         10,         10,2,20050131,       1508,   -63.0057,    81.1157,       3291,  1400.3,   1.3620,  34.7415,2,  34.7416,2,    203.1,2,   202.8,2,   97.99,2,   30.26,2,    2.05,2,-999.000,9,-999.000,9,-999.000,9,  -999.0,9,  -999.0,9,   1.2798
09AR20041223,       I09S,     100,          1,          9,          9,2,20050131,       1508,   -63.0057,    81.1157,       3291,  1600.7,   1.1579,  34.7307,2,  34.7304,2,    204.3,2,   204.4,2,  104.54,2,   30.55,2,    2.09,2,-999.000,9,-999.000,9,-999.000,9,  -999.0,9,  -999.0,9,   1.0639
09AR20041223,       I09S,     100,          1,          8,        108,2,20050131,       1508,   -63.0057,    81.1157,       3291,  1802.1,   0.9821,  34.7208,2,  34.7210,2,    205.7,2,   205.9,2,  109.90,2,   31.04,2,    2.12,2,-999.000,9,-999.000,9,-999.000,9,  -999.0,9,  -999.0,9,   0.8758
09AR20041223,       I09S,     100,          1,          7,        107,2,20050131,       1508,   -63.0057,    81.1157,       3291,  2000.1,   0.8298,  34.7116,2,  34.7109,2,    206.8,2,   206.8,2,  114.10,2,   31.33,2,    2.14,2,-999.000,9,-999.000,9,-999.000,9,  -999.0,9,  -999.0,9,   0.7110
09AR20041223,       I09S,     100,          1,          6,        117,2,20050131,       1508,   -63.0057,    81.1157,       3291,  2253.2,   0.6517,  34.7015,2,  34.7011,2,    209.2,2,   208.3,2,  120.06,2,   31.72,2,    2.18,2,-999.000,9,-999.000,9,-999.000,9,  -999.0,9,  -999.0,9,   0.5163
09AR20041223,       I09S,     100,          1,          5,        105,2,20050131,       1508,   -63.0057,    81.1157,       3291,  2500.1,   0.5088,  34.6940,2,  34.6949,2,    211.7,2,   211.7,2,  125.62,2,   32.02,2,    2.19,2,-999.000,9,-999.000,9,-999.000,9,  -999.0,9,  -999.0,9,   0.3564
09AR20041223,       I09S,     100,          1,          4,        104,2,20050131,       1508,   -63.0057,    81.1157,       3291,  2749.1,   0.4089,  34.6883,2,  34.6878,2,    214.3,2,   213.6,2,  128.45,2,   32.31,2,    2.21,2,-999.000,9,-999.000,9,-999.000,9,  -999.0,9,  -999.0,9,   0.2379
09AR20041223,       I09S,     100,          1,          3,        103,2,20050131,       1508,   -63.0057,    81.1157,       3291,  2999.4,   0.2943,  34.6820,2,  34.6809,2,    217.4,2,   217.0,2,  129.92,2,   32.31,2,    2.23,2,-999.000,9,-999.000,9,-999.000,9,  -999.0,9,  -999.0,9,   0.1043
09AR20041223,       I09S,     100,          1,          2,        102,2,20050131,       1508,   -63.0057,    81.1157,       3291,  3251.8,   0.1966,  34.6773,2,  34.6768,2,    220.4,2,   220.4,2,  135.97,2,   32.41,2,    2.23,2,-999.000,9,-999.000,9,-999.000,9,  -999.0,9,  -999.0,9,  -0.0136
09AR20041223,       I09S,     100,          1,          1,        101,2,20050131,       1508,   -63.0057,    81.1157,       3291,  3313.1,  -0.0366,  34.6699,2,  34.6693,2,    226.9,2,   226.8,2,  138.80,2,   32.31,2,    2.23,2,-999.000,9,-999.000,9,-999.000,9,  -999.0,9,  -999.0,9,  -0.2466
09AR20041223,       I09S,     101,          1,         24,         24,2,20050131,       1942,   -63.2423,    81.0312,       3410,    11.4,   1.1675,  33.8045,2,  33.8048,2,    332.9,2,   333.5,2,   25.30,2,   23.83,2,    1.48,2,   5.587,2,   2.834,2,   0.496,2,  2146.6,6,  2289.9,6,   1.1670
09AR20041223,       I09S,     101,          1,         23,         23,2,20050131,       1942,   -63.2423,    81.0312,       3410,    41.8,   0.5084,  33.8490,2,  33.8359,2,    329.7,2,   330.3,2,   30.28,2,   24.91,2,    1.63,2,   5.426,2,   2.774,2,   0.482,2,  2154.8,2,  2291.6,2,   0.5068
09AR20041223,       I09S,     101,          1,         22,         22,2,20050131,       1942,   -63.2423,    81.0312,       3410,    71.1,  -1.3755,  34.0304,2,  34.0256,2,    300.6,2,   303.0,2,   52.64,2,   29.88,2,    2.04,2,   4.884,2,   2.401,2,   0.440,2,  2193.9,2,  2299.8,6,  -1.3771
09AR20041223,       I09S,     101,          1,         21,         21,2,20050131,       1942,   -63.2423,    81.0312,       3410,   101.1,  -0.5055,  34.1745,2,  34.1653,2,    271.9,2,   268.7,2,   60.83,2,   31.93,2,    2.13,2,   3.896,2,   1.977,2,   0.361,2,  2214.4,2,  2307.8,2,  -0.5086
09AR20041223,       I09S,     101,          1,         20,         20,2,20050131,       1942,   -63.2423,    81.0312,       3410,   152.5,   1.5056,  34.4734,2,  34.4715,2,    198.0,2,   193.6,2,   76.44,2,   34.56,2,    2.30,2,   1.671,2,   0.823,2,   0.147,2,  2249.3,2,  2325.3,2,   1.4982
09AR20041223,       I09S,     101,          1,         19,         19,2,20050131,       1942,   -63.2423,    81.0312,       3410,   201.0,   1.8042,  34.5567,2,  34.5546,2,    180.6,2,   179.7,2,   81.22,2,   34.36,2,    2.30,2,   1.043,6,   0.521,6,   0.081,6,  2257.4,2,  2333.7,2,   1.7938
09AR20041223,       I09S,     101,          1,         18,         18,2,20050131,       1942,   -63.2423,    81.0312,       3410,   300.5,   1.9617,  34.6289,2,  34.6279,2,    173.0,2,   174.5,2,   83.75,2,   33.58,2,    2.25,2,   0.576,2,   0.290,2,   0.047,2,  2259.6,2,  2335.4,2,   1.9454
09AR20041223,       I09S,     101,          1,         17,          6,2,20050131,       1942,   -63.2423,    81.0312,       3410,   401.4,   1.9760,  34.6774,2,  34.6770,2,    175.9,2,   176.7,2,   85.70,2,   31.72,2,    2.14,2,   0.355,2,   0.181,2,   0.025,2,  2255.4,2,  2364.5,3,   1.9538
09AR20041223,       I09S,     101,          1,         16,         16,2,20050131,       1942,   -63.2423,    81.0312,       3410,   501.1,   1.9663,  34.7068,2,  34.7078,2,    180.1,2,   181.9,2,   85.70,2,   31.72,2,    2.13,2,   0.259,2,   0.132,2,   0.016,2,  2257.7,2,  2361.4,3,   1.9382
09AR20041223,       I09S,     101,          1,         15,         15,2,20050131,       1942,   -63.2423,    81.0312,       3410,   601.0,   1.9381,  34.7258,2,  34.7261,2,    184.8,2,   186.4,2,   85.60,2,   30.94,2,    2.09,2,   0.190,2,   0.096,2,   0.012,2,  2249.0,2,  2355.1,2,   1.9041
09AR20041223,       I09S,     101,          1,         14,         14,2,20050131,       1942,   -63.2423,    81.0312,       3410,   687.9,   1.8944,  34.7365,2,  34.7369,2,    189.1,2,   190.7,2,   86.09,2,   30.45,2,    2.06,2,   0.170,2,   0.087,2,   0.019,2,  -999.0,9,  -999.0,9,   1.8552
09AR20041223,       I09S,     101,          1,         13,         13,2,20050131,       1942,   -63.2423,    81.0312,       3410,   851.6,   1.7782,  34.7459,2,  34.7467,2,    194.6,2,   195.0,2,   88.04,2,   30.06,2,    2.03,2,   0.134,2,   0.073,2,   0.006,2,  2246.6,2,  2346.8,2,   1.7293
09AR20041223,       I09S,     101,          1,         12,         12,2,20050131,       1942,   -63.2423,    81.0312,       3410,  1001.5,   1.6395,  34.7473,2,  34.7478,2,    197.9,2,   197.9,2,   91.36,2,   29.96,2,    2.04,2,   0.142,2,   0.068,2,   0.007,2,  2245.9,6,  2351.4,6,   1.5818
09AR20041223,       I09S,     101,          1,         11,         11,2,20050131,       1942,   -63.2423,    81.0312,       3410,  1198.0,   1.4620,  34.7449,2,  34.7457,2,    202.3,2,   201.9,2,   94.77,2,   29.96,2,    2.03,2,   0.115,2,   0.060,2,   0.016,2,  2248.1,2,  2351.5,6,   1.3927
09AR20041223,       I09S,     101,          1,         10,         10,2,20050131,       1942,   -63.2423,    81.0312,       3410,  1401.6,   1.2543,  34.7353,2,  34.7355,2,    203.4,2,   202.4,2,  101.61,2,   30.55,2,    2.08,2,   0.111,2,   0.053,2,   0.002,2,  2250.7,2,  2353.6,2,   1.1732
09AR20041223,       I09S,     101,          1,          9,          9,2,20050131,       1942,   -63.2423,    81.0312,       3410,  1599.9,   1.0692,  34.7260,2,  34.7262,2,    204.3,2,   204.6,2,  107.95,2,   30.84,2,    2.10,2,   0.102,6,   0.051,6,   0.002,6,  2254.6,2,  2356.7,2,   0.9764
09AR20041223,       I09S,     101,          1,          8,        108,2,20050131,       1942,   -63.2423,    81.0312,       3410,  1802.9,   0.8927,  34.7155,2,  34.7156,2,    207.7,2,   207.3,2,  111.47,2,   31.23,2,    2.14,2,   0.118,2,   0.064,2,   0.001,2,  2255.4,2,  2373.2,3,   0.7876
09AR20041223,       I09S,     101,          1,          7,        107,2,20050131,       1942,   -63.2423,    81.0312,       3410,  2001.4,   0.7356,  34.7065,2,  34.7058,2,    208.1,2,   208.0,2,  116.84,2,   32.02,2,    2.16,2,   0.115,2,   0.067,2,   0.005,2,  2257.2,2,  2361.0,2,   0.6182
09AR20041223,       I09S,     101,          1,          6,        117,2,20050131,       1942,   -63.2423,    81.0312,       3410,  2302.4,   0.5154,  34.6937,2,  34.6937,2,    209.7,2,   210.1,2,  122.99,2,   32.31,2,    2.20,2,   0.120,2,   0.065,2,   0.000,2,  2259.2,2,  2358.8,2,   0.3786
09AR20041223,       I09S,     101,          1,          5,        105,2,20050131,       1942,   -63.2423,    81.0312,       3410,  2600.5,   0.3442,  34.6849,2,  34.6847,2,    213.2,2,   214.1,2,  127.48,2,   32.11,2,    2.22,2,   0.116,2,   0.066,2,   0.001,2,  2260.2,2,  2369.6,3,   0.1868
09AR20041223,       I09S,     101,          1,          4,        104,2,20050131,       1942,   -63.2423,    81.0312,       3410,  2901.4,   0.1951,  34.6776,2,  34.6766,2,    220.3,2,   220.1,2,  126.99,2,   32.11,2,    2.22,2,   0.319,2,   0.166,2,   0.019,2,  2259.6,2,  2357.0,2,   0.0158
09AR20041223,       I09S,     101,          1,          3,        103,2,20050131,       1942,   -63.2423,    81.0312,       3410,  3201.9,   0.0619,  34.6730,2,  34.6717,2,    226.5,2,   226.2,2,  127.28,2,   31.92,2,    2.21,2,   0.528,2,   0.275,2,   0.031,2,  2256.1,2,  2354.4,2,  -0.1405
09AR20041223,       I09S,     101,          1,          2,        102,2,20050131,       1942,   -63.2423,    81.0312,       3410,  3394.3,  -0.0431,  34.6700,2,  34.6693,2,    231.0,2,   230.0,2,  129.63,2,   32.02,2,    2.20,2,   0.766,6,   0.381,6,   0.048,6,  -999.0,9,  -999.0,9,  -0.2602
09AR20041223,       I09S,     101,          1,          1,        101,2,20050131,       1942,   -63.2423,    81.0312,       3410,  3435.2,  -0.1128,  34.6676,2,  34.6674,2,    235.5,2,   236.9,2,  132.46,2,   32.02,2,    2.21,2,   0.939,2,   0.454,2,   0.071,2,  2257.6,6,  2354.0,6,  -0.3319