BOTTLE,20220105CCHSIOENA
EXPOCODE,SECT_ID,STNNBR,CASTNO,SAMPNO,BTLNBR,BTLNBR_FLAG_W,DATE,TIME,LATITUDE,LONGITUDE,DEPTH,CTDPRS,CTDTMP,CTDSAL,CTDSAL_FLAG_W,SALNTY,SALNTY_FLAG_W,CTDOXY,CTDOXY_FLAG_W,OXYGEN,OXYGEN_FLAG_W,SILCAT,SILCAT_FLAG_W,NITRAT,NITRAT_FLAG_W,PHSPHT,PHSPHT_FLAG_W,CFC-11,CFC-11_FLAG_W,CFC-12,CFC-12_FLAG_W,CFC113,CFC113_FLAG_W,TCARBN,TCARBN_FLAG_W,ALKALI,ALKALI_FLAG_W,THETA
,,,,,,,,,,,METERS,DBAR,ITS-90,PSS-78,,PSS-78,,UMOL/KG,,UMOL/KG,,UMOL/KG,,UMOL/KG,,UMOL/KG,,PMOL/KG,,PMOL/KG,,PMOL/KG,,UMOL/KG,,UMOL/KG,,DEG C
09AR20041223,       I09S,      72,          1,         24,         24,2,20050121,       1033,   -57.5517,    83.8837,       4426,    12.1,   1.5102,  33.9782,2,  33.9782,2,    337.6,2,   337.4,2,   32.91,2,   25.29,2,    1.60,2,   5.396,2,   2.805,2,   0.482,2,  2159.7,6,  2301.8,6,   1.5096
09AR20041223,       I09S,      72,          1,         23,         23,2,20050121,       1033,   -57.5517,    83.8837,       4426,    41.1,   1.1892,  33.9837,2,  33.9839,2,    335.9,2,   337.3,2,   34.47,2,   25.29,2,    1.64,2,   5.407,2,   2.804,2,   0.465,2,  2162.9,2,  2299.3,2,   1.1874
09AR20041223,       I09S,      72,          1,         22,         22,2,20050121,       1033,   -57.5517,    83.8837,       4426,   151.3,   1.1457,  34.4237,2,  34.4211,2,    265.6,2,   219.6,3,   70.97,2,   33.58,2,    2.29,2,-999.000,9,-999.000,9,-999.000,9,  -999.0,9,  -999.0,9,   1.1388
09AR20041223,       I09S,      72,          1,         21,         21,2,20050121,       1033,   -57.5517,    83.8837,       4426,   151.5,   1.1353,  34.4229,2,  34.4195,2,    265.6,2,   220.8,3,   70.97,2,   33.49,2,    2.26,2,   2.356,2,   1.175,2,   0.212,2,  2242.0,2,  2321.5,2,   1.1284
09AR20041223,       I09S,      72,          1,         20,         20,2,20050121,       1033,   -57.5517,    83.8837,       4426,   201.7,   0.8413,  34.4725,2,  34.4713,2,    216.2,2,   215.3,2,   76.63,2,   32.90,2,    2.26,2,   2.025,2,   1.007,2,   0.181,2,  2243.5,2,  2326.0,2,   0.8325
09AR20041223,       I09S,      72,          1,         19,         19,2,20050121,       1033,   -57.5517,    83.8837,       4426,   251.6,   1.3382,  34.5707,2,  34.5695,2,    191.4,2,   195.4,2,   80.92,2,   32.90,2,    2.25,2,   1.223,6,   0.611,6,   0.105,6,  2251.8,2,  2333.1,2,   1.3260
09AR20041223,       I09S,      72,          1,         18,         18,2,20050121,       1033,   -57.5517,    83.8837,       4426,   301.4,   1.3907,  34.6005,2,  34.6021,2,    183.7,2,   192.8,3,   82.58,2,   32.70,2,    2.23,2,   1.045,2,   0.522,2,   0.079,2,  2251.8,2,  2335.2,2,   1.3758
09AR20041223,       I09S,      72,          1,         17,          6,2,20050121,       1033,   -57.5517,    83.8837,       4426,   401.8,   1.6914,  34.6703,2,  34.6715,2,    186.1,2,   187.2,2,   85.02,2,   32.21,2,    2.19,2,   0.579,2,   0.288,2,   0.071,2,  2251.0,2,  2342.5,2,   1.6702
09AR20041223,       I09S,      72,          1,         16,        116,2,20050121,       1033,   -57.5517,    83.8837,       4426,   501.1,   1.6283,  34.6884,2,  34.6880,2,    189.1,2,   189.7,2, -999.00,9, -999.00,9, -999.00,9,   0.537,2,   0.268,2,   0.050,2,  2253.1,2,  2357.8,3,   1.6016
09AR20041223,       I09S,      72,          1,         15,         15,2,20050121,       1033,   -57.5517,    83.8837,       4426,   601.3,   1.6461,  34.7165,2,  34.7162,2,    193.2,2,   192.5,2,   89.21,2,   31.04,2,    2.11,2,-999.000,5,-999.000,5,-999.000,5,  2252.1,2,  2345.2,2,   1.6135
09AR20041223,       I09S,      72,          1,         14,         14,2,20050121,       1033,   -57.5517,    83.8837,       4426,   701.8,   1.5715,  34.7220,2,  34.7227,2,    195.9,2,   195.2,2,   91.16,2,   30.84,2,    2.10,2,   0.352,2,   0.181,2,   0.023,2,  2250.0,2,  2344.4,2,   1.5332
09AR20041223,       I09S,      72,          1,         13,         13,2,20050121,       1033,   -57.5517,    83.8837,       4426,   801.0,   1.5126,  34.7292,2,  34.7284,2,    198.4,2,   197.9,2,   92.72,2,   30.55,2,    2.10,2,   0.299,2,   0.149,2,   0.012,2,  2250.7,2,  2349.1,2,   1.4686
09AR20041223,       I09S,      72,          1,         12,         12,2,20050121,       1033,   -57.5517,    83.8837,       4426,  1001.3,   1.4496,  34.7427,2,  34.7435,2,    202.3,2,   200.9,2,   96.63,2,   30.06,2,    2.10,2,   0.109,2,   0.063,2,   0.016,2,  2250.5,6,  2349.6,6,   1.3934
09AR20041223,       I09S,      72,          1,         11,         11,2,20050121,       1033,   -57.5517,    83.8837,       4426,  1202.1,   1.2374,  34.7303,2,  34.7310,2,    203.7,2,   203.1,2,  100.92,2,   30.65,2,    2.12,2,   0.201,2,   0.101,2,   0.015,2,  2253.8,2,  2353.3,2,   1.1700
09AR20041223,       I09S,      72,          1,         10,         10,2,20050121,       1033,   -57.5517,    83.8837,       4426,  1500.3,   0.9629,  34.7175,2,  34.7176,2,    205.7,2,   205.3,2,  108.73,2,   31.14,2,    2.16,2,   0.185,2,   0.093,2,   0.006,2,  2256.2,2,  2355.3,2,   0.8784
09AR20041223,       I09S,      72,          1,          9,          9,2,20050121,       1033,   -57.5517,    83.8837,       4426,  1800.9,   0.7418,  34.7053,2,  34.7052,2,    207.5,2,   208.0,2,  115.18,2,   31.72,2,    2.19,2,   0.181,2,   0.097,6,   0.006,6,  2259.2,2,  2363.4,3,   0.6390
09AR20041223,       I09S,      72,          1,          8,        208,4,20050121,       1033,   -57.5517,    83.8837,       4426,  2101.1,   0.5640,  34.6974,2,  34.7045,4,    211.1,2,  -999.0,9, -999.00,9, -999.00,9, -999.00,9,   0.209,4,   0.105,4,   0.006,4,  2259.3,2,  2355.1,2,   0.4418
09AR20041223,       I09S,      72,          1,          7,        107,2,20050121,       1033,   -57.5517,    83.8837,       4426,  2501.1,   0.3524,  34.6865,2,  34.6870,2,    216.0,2,   216.2,2,  125.23,2,   32.21,2,    2.23,2,   0.301,2,   0.145,2,   0.013,2,  -999.0,9,  -999.0,9,   0.2029
09AR20041223,       I09S,      72,          1,          6,        117,2,20050121,       1033,   -57.5517,    83.8837,       4426,  2900.5,   0.1685,  34.6782,2,  34.6780,2,    221.5,2,   222.1,2,  126.70,2,   32.21,2,    2.22,2,-999.000,5,-999.000,5,-999.000,5,  2258.9,2,  2359.6,3,  -0.0102
09AR20041223,       I09S,      72,          1,          5,        105,2,20050121,       1033,   -57.5517,    83.8837,       4426,  3302.5,   0.0804,  34.6763,2,  34.6752,2,    226.4,2,   226.7,2,  127.77,2,   32.11,2,    2.24,2,   0.692,2,   0.324,2,   0.023,2,  2257.9,2,  2352.1,2,  -0.1315
09AR20041223,       I09S,      72,          1,          4,        104,2,20050121,       1033,   -57.5517,    83.8837,       4426,  3701.4,   0.0134,  34.6733,2,  34.6727,2,    229.4,2,   230.2,2,  128.45,2,   32.02,2,    2.22,2,   0.915,2,   0.423,2,   0.048,2,  2259.3,2,  2353.5,2,  -0.2339
09AR20041223,       I09S,      72,          1,          3,        103,2,20050121,       1033,   -57.5517,    83.8837,       4426,  4000.8,  -0.0229,  34.6711,2,  34.6701,2,    232.0,2,   231.9,2,  129.24,2,   32.02,2,    2.22,2,   1.091,2,   0.500,2,   0.063,2,  2258.7,2,  2352.3,2,  -0.2985
09AR20041223,       I09S,      72,          1,          2,        102,2,20050121,       1033,   -57.5517,    83.8837,       4426,  4300.5,  -0.0611,  34.6672,2,  34.6672,2,    233.9,2,   234.8,2,  132.07,2,   32.02,2,    2.21,2,   1.306,6,   0.603,6,   0.094,6,  2257.7,2,  2354.3,2,  -0.3660
09AR20041223,       I09S,      72,          1,          1,        101,2,20050121,       1033,   -57.5517,    83.8837,       4426,  4471.4,  -0.0627,  34.6661,2,  34.6654,2,    234.7,2,   234.8,2,  133.73,2,   32.02,2,    2.22,2,   1.393,2,   0.645,2,   0.095,2,  2257.5,6,  2353.6,6,  -0.3855
09AR20041223,       I09S,      73,          1,         24,         24,2,20050121,       1522,   -57.6293,    83.6852,       4403,    11.1,   1.6230,  33.9898,2,-999.0000,9,   -999.0,9,  -999.0,9, -999.00,9, -999.00,9, -999.00,9,-999.000,9,-999.000,9,-999.000,9,  -999.0,9,  -999.0,9,   1.6225
09AR20041223,       I09S,      73,          1,         23,         23,2,20050121,       1522,   -57.6293,    83.6852,       4403,    60.8,   1.3148,  34.0002,2,-999.0000,9,   -999.0,9,  -999.0,9, -999.00,9, -999.00,9, -999.00,9,-999.000,9,-999.000,9,-999.000,9,  -999.0,9,  -999.0,9,   1.3120
09AR20041223,       I09S,      73,          1,         22,         22,2,20050121,       1522,   -57.6293,    83.6852,       4403,    90.7,  -0.0205,  34.1038,2,-999.0000,9,   -999.0,9,  -999.0,9, -999.00,9, -999.00,9, -999.00,9,-999.000,9,-999.000,9,-999.000,9,  -999.0,9,  -999.0,9,  -0.0237
09AR20041223,       I09S,      73,          1,         21,         21,2,20050121,       1522,   -57.6293,    83.6852,       4403,   151.2,   0.4462,  34.3981,2,-999.0000,9,   -999.0,9,  -999.0,9, -999.00,9, -999.00,9, -999.00,9,-999.000,9,-999.000,9,-999.000,9,  -999.0,9,  -999.0,9,   0.4402
09AR20041223,       I09S,      73,          1,         20,         20,2,20050121,       1522,   -57.6293,    83.6852,       4403,   201.7,   0.7103,  34.4968,2,-999.0000,9,   -999.0,9,  -999.0,9, -999.00,9, -999.00,9, -999.00,9,-999.000,9,-999.000,9,-999.000,9,  -999.0,9,  -999.0,9,   0.7017
09AR20041223,       I09S,      73,          1,         19,         19,2,20050121,       1522,   -57.6293,    83.6852,       4403,   250.7,   0.9115,  34.5562,2,-999.0000,9,   -999.0,9,  -999.0,9, -999.00,9, -999.00,9, -999.00,9,-999.000,9,-999.000,9,-999.000,9,  -999.0,9,  -999.0,9,   0.9002
09AR20041223,       I09S,      73,          1,         18,         18,2,20050121,       1522,   -57.6293,    83.6852,       4403,   303.0,   0.9756,  34.5872,2,-999.0000,9,   -999.0,9,  -999.0,9, -999.00,9, -999.00,9, -999.00,9,-999.000,9,-999.000,9,-999.000,9,  -999.0,9,  -999.0,9,   0.9617
09AR20041223,       I09S,      73,          1,         17,          6,2,20050121,       1522,   -57.6293,    83.6852,       4403,   401.2,   1.4952,  34.6763,2,-999.0000,9,   -999.0,9,  -999.0,9, -999.00,9, -999.00,9, -999.00,9,-999.000,9,-999.000,9,-999.000,9,  -999.0,9,  -999.0,9,   1.4746
09AR20041223,       I09S,      73,          1,         16,        116,2,20050121,       1522,   -57.6293,    83.6852,       4403,   501.2,   1.5507,  34.7050,2,  34.7051,2,    194.1,2,   193.7,2, -999.00,9, -999.00,9, -999.00,9,   0.498,2,   0.246,2,   0.041,2,  -999.0,9,  -999.0,9,   1.5243
09AR20041223,       I09S,      73,          1,         15,         15,2,20050121,       1522,   -57.6293,    83.6852,       4403,   600.2,   1.5503,  34.7202,2,  34.7208,2,    195.1,2,   195.3,2,   90.19,2,   30.94,2,    2.10,2,   0.400,2,   0.158,4,   0.033,2,  -999.0,9,  -999.0,9,   1.5182
09AR20041223,       I09S,      73,          1,         14,         14,2,20050121,       1522,   -57.6293,    83.6852,       4403,   702.2,   1.4811,  34.7262,2,  34.7262,2,    197.5,2,   198.3,2,   92.24,2,   30.75,2,    2.10,2,   0.349,2,   0.168,2,   0.037,2,  -999.0,9,  -999.0,9,   1.4433
09AR20041223,       I09S,      73,          1,         13,         13,2,20050121,       1522,   -57.6293,    83.6852,       4403,   800.7,   1.4085,  34.7286,2,  34.7288,2,    200.4,2,   200.1,2,   93.80,2,   30.65,2,    2.09,2,   0.319,2,   0.148,2,   0.024,2,  -999.0,9,  -999.0,9,   1.3652
09AR20041223,       I09S,      73,          1,         12,         12,2,20050121,       1522,   -57.6293,    83.6852,       4403,  1001.4,   1.2356,  34.7272,2,  34.7272,2,    204.4,2,   203.0,2,   98.78,2,   30.75,2,    2.10,2,   0.416,3,   0.137,2,   0.016,2,  -999.0,9,  -999.0,9,   1.1812
09AR20041223,       I09S,      73,          1,         11,         11,2,20050121,       1522,   -57.6293,    83.6852,       4403,  1201.1,   1.1019,  34.7250,2,  34.7251,2,    205.0,2,   203.7,2,  104.34,2,   30.94,2,    2.13,2,   0.204,2,   0.095,2,   0.020,2,  -999.0,9,  -999.0,9,   1.0359
09AR20041223,       I09S,      73,          1,         10,         10,2,20050121,       1522,   -57.6293,    83.6852,       4403,  1500.1,   0.8755,  34.7139,2,  34.7141,2,    208.2,2,   206.2,2,  111.76,2,   31.53,2,    2.16,2,   0.184,2,   0.095,2,   0.016,2,  -999.0,9,  -999.0,9,   0.7921
09AR20041223,       I09S,      73,          1,          9,          9,2,20050121,       1522,   -57.6293,    83.6852,       4403,  1804.2,   0.6678,  34.7025,2,  34.7027,2,    210.6,2,   209.5,2,  117.71,2,   31.92,2,    2.19,2,   0.208,6,   0.097,6,   0.009,6,  -999.0,9,  -999.0,9,   0.5659
09AR20041223,       I09S,      73,          1,          8,        208,2,20050121,       1522,   -57.6293,    83.6852,       4403,  2100.6,   0.4874,  34.6938,2,  34.6933,2,    211.3,2,   211.8,2,  122.79,2,   32.11,2,    2.19,2,   0.235,2,   0.104,2,   0.010,2,  -999.0,9,  -999.0,9,   0.3665
09AR20041223,       I09S,      73,          1,          7,        107,2,20050121,       1522,   -57.6293,    83.6852,       4403,  2499.2,   0.2950,  34.6851,2,  34.6882,2,    215.4,2,   213.6,2,  124.16,2,   32.21,2,    2.21,2,   0.257,2,   0.113,2,   0.015,2,  -999.0,9,  -999.0,9,   0.1467
09AR20041223,       I09S,      73,          1,          6,        117,2,20050121,       1522,   -57.6293,    83.6852,       4403,  2902.0,   0.1295,  34.6770,2,  34.6801,2,    220.7,2,   221.0,2,  126.79,2,   32.11,2,    2.21,2,   0.448,2,   0.206,2,   0.028,2,  -999.0,9,  -999.0,9,  -0.0485
09AR20041223,       I09S,      73,          1,          5,        105,2,20050121,       1522,   -57.6293,    83.6852,       4403,  3300.4,   0.0438,  34.6744,2,  34.6744,2,    225.8,2,   227.1,2,  126.40,2,   32.11,2,    2.21,2,   0.747,2,   0.346,2,   0.047,2,  -999.0,9,  -999.0,9,  -0.1670
09AR20041223,       I09S,      73,          1,          4,        104,2,20050121,       1522,   -57.6293,    83.6852,       4403,  3700.4,  -0.0099,  34.6723,2,  34.6735,2,    230.2,2,   229.1,2,  127.28,2,   32.31,2,    2.20,2,   0.922,2,   0.430,2,   0.062,2,  -999.0,9,  -999.0,9,  -0.2565
09AR20041223,       I09S,      73,          1,          3,        103,2,20050121,       1522,   -57.6293,    83.6852,       4403,  4001.6,  -0.0391,  34.6703,2,  34.6699,2,    233.6,2,   232.7,2,  127.38,2,   32.02,2,    2.21,2,   1.156,2,   0.533,2,   0.076,2,  -999.0,9,  -999.0,9,  -0.3143
09AR20041223,       I09S,      73,          1,          2,        102,2,20050121,       1522,   -57.6293,    83.6852,       4403,  4297.9,  -0.0664,  34.6670,2,  34.6668,2,    235.6,2,   235.0,2,  131.19,2,   32.02,2,    2.21,2,   1.358,6,   0.627,6,   0.092,6,  -999.0,9,  -999.0,9,  -0.3709
09AR20041223,       I09S,      73,          1,          1,        101,2,20050121,       1522,   -57.6293,    83.6852,       4403,  4445.0,  -0.0709,  34.6655,2,  34.6654,2,    236.6,2,   237.9,2,  133.73,2,   32.02,2,    2.21,2,   1.451,2,   0.674,2,   0.099,2,  -999.0,9,  -999.0,9,  -0.3906