BOTTLE,20220105CCHSIOENA
EXPOCODE,SECT_ID,STNNBR,CASTNO,SAMPNO,BTLNBR,BTLNBR_FLAG_W,DATE,TIME,LATITUDE,LONGITUDE,DEPTH,CTDPRS,CTDTMP,CTDSAL,CTDSAL_FLAG_W,SALNTY,SALNTY_FLAG_W,CTDOXY,CTDOXY_FLAG_W,OXYGEN,OXYGEN_FLAG_W,SILCAT,SILCAT_FLAG_W,NITRAT,NITRAT_FLAG_W,PHSPHT,PHSPHT_FLAG_W,CFC-11,CFC-11_FLAG_W,CFC-12,CFC-12_FLAG_W,CFC113,CFC113_FLAG_W,TCARBN,TCARBN_FLAG_W,ALKALI,ALKALI_FLAG_W,THETA
,,,,,,,,,,,METERS,DBAR,ITS-90,PSS-78,,PSS-78,,UMOL/KG,,UMOL/KG,,UMOL/KG,,UMOL/KG,,UMOL/KG,,PMOL/KG,,PMOL/KG,,PMOL/KG,,UMOL/KG,,UMOL/KG,,DEG C
09AR20041223,       I09S,      90,          1,         24,         24,2,20050129,       2037,   -59.6872,    81.5862,       1805,    10.5,   1.2048,  33.8988,2,  33.9002,2,    336.4,2,   335.6,2,   39.75,2,   26.56,2,    1.68,2,-999.000,9,-999.000,9,-999.000,9,  -999.0,9,  -999.0,9,   1.2043
09AR20041223,       I09S,      90,          1,         23,         23,2,20050129,       2037,   -59.6872,    81.5862,       1805,    36.9,   1.0981,  33.9057,2,-999.0000,9,    335.7,2,  -999.0,9, -999.00,9, -999.00,9, -999.00,9,-999.000,9,-999.000,9,-999.000,9,  -999.0,9,  -999.0,9,   1.0965
09AR20041223,       I09S,      90,          1,         22,         22,2,20050129,       2037,   -59.6872,    81.5862,       1805,    37.1,   1.0998,  33.9051,2,  33.9067,2,    335.5,2,   335.7,2,   40.24,2,   26.37,2,    1.70,2,-999.000,9,-999.000,9,-999.000,9,  -999.0,9,  -999.0,9,   1.0982
09AR20041223,       I09S,      90,          1,         21,         21,2,20050129,       2037,   -59.6872,    81.5862,       1805,    60.1,  -0.2847,  33.9960,2,-999.0000,9,    322.3,2,  -999.0,9, -999.00,9, -999.00,9, -999.00,9,-999.000,9,-999.000,9,-999.000,9,  -999.0,9,  -999.0,9,  -0.2866
09AR20041223,       I09S,      90,          1,         20,         20,2,20050129,       2037,   -59.6872,    81.5862,       1805,    60.0,  -0.4071,  34.0042,2,-999.0000,9,    322.3,2,  -999.0,9, -999.00,9, -999.00,9, -999.00,9,-999.000,9,-999.000,9,-999.000,9,  -999.0,9,  -999.0,9,  -0.4090
09AR20041223,       I09S,      90,          1,         19,         19,2,20050129,       2037,   -59.6872,    81.5862,       1805,    81.9,  -1.0269,  34.1548,2,-999.0000,9,    292.6,2,  -999.0,9, -999.00,9, -999.00,9, -999.00,9,-999.000,9,-999.000,9,-999.000,9,  -999.0,9,  -999.0,9,  -1.0290
09AR20041223,       I09S,      90,          1,         18,         18,2,20050129,       2037,   -59.6872,    81.5862,       1805,    81.7,  -1.0231,  34.1563,2,  34.1563,2,    292.6,2,   293.1,2,   59.27,2,   30.86,2,    2.09,2,-999.000,9,-999.000,9,-999.000,9,  -999.0,9,  -999.0,9,  -1.0252
09AR20041223,       I09S,      90,          1,         17,          6,2,20050129,       2037,   -59.6872,    81.5862,       1805,   101.0,  -0.5211,  34.2572,2,  34.2561,2,    267.0,2,   268.4,2,   64.34,2,   31.63,2,    2.13,2,-999.000,9,-999.000,9,-999.000,9,  -999.0,9,  -999.0,9,  -0.5242
09AR20041223,       I09S,      90,          1,         16,         16,2,20050129,       2037,   -59.6872,    81.5862,       1805,   131.8,   0.5993,  34.4564,2,  34.4385,2,    217.6,2,   223.0,2,   74.10,2,   33.00,2,    2.22,2,-999.000,9,-999.000,9,-999.000,9,  -999.0,9,  -999.0,9,   0.5939
09AR20041223,       I09S,      90,          1,         15,         15,2,20050129,       2037,   -59.6872,    81.5862,       1805,   159.9,   1.6574,  34.6332,2,  34.6325,2,    183.2,2,   179.2,2,   85.02,2,   33.58,2,    2.26,2,-999.000,9,-999.000,9,-999.000,9,  -999.0,9,  -999.0,9,   1.6493
09AR20041223,       I09S,      90,          1,         14,         14,2,20050129,       2037,   -59.6872,    81.5862,       1805,   201.6,   1.8850,  34.6787,2,  34.6780,2,    173.2,2,   173.9,2,   86.87,2,   33.19,2,    2.24,2,-999.000,9,-999.000,9,-999.000,9,  -999.0,9,  -999.0,9,   1.8744
09AR20041223,       I09S,      90,          1,         13,         13,2,20050129,       2037,   -59.6872,    81.5862,       1805,   301.2,   1.8966,  34.7102,2,  34.7100,2,    178.5,2,   178.6,2,   87.65,2,   32.31,2,    2.18,2,-999.000,9,-999.000,9,-999.000,9,  -999.0,9,  -999.0,9,   1.8804
09AR20041223,       I09S,      90,          1,         12,         12,2,20050129,       2037,   -59.6872,    81.5862,       1805,   400.0,   1.8429,  34.7283,2,  34.7276,2,    183.8,2,   183.8,2,   88.14,2,   31.53,2,    2.13,2,-999.000,9,-999.000,9,-999.000,9,  -999.0,9,  -999.0,9,   1.8212
09AR20041223,       I09S,      90,          1,         11,         11,2,20050129,       2037,   -59.6872,    81.5862,       1805,   499.3,   1.7703,  34.7376,2,  34.7380,2,    188.4,2,   189.1,2,   89.11,2,   31.04,2,    2.10,2,-999.000,9,-999.000,9,-999.000,9,  -999.0,9,  -999.0,9,   1.7431
09AR20041223,       I09S,      90,          1,         10,         10,2,20050129,       2037,   -59.6872,    81.5862,       1805,   601.3,   1.6934,  34.7439,2,  34.7439,2,    192.2,2,   192.6,2,   90.58,2,   30.84,2,    2.08,2,-999.000,9,-999.000,9,-999.000,9,  -999.0,9,  -999.0,9,   1.6605
09AR20041223,       I09S,      90,          1,          9,          9,2,20050129,       2037,   -59.6872,    81.5862,       1805,   700.2,   1.6007,  34.7454,2,  34.7461,2,    195.4,2,   196.4,2,   92.72,2,   30.55,2,    2.16,3,-999.000,9,-999.000,9,-999.000,9,  -999.0,9,  -999.0,9,   1.5623
09AR20041223,       I09S,      90,          1,          8,        108,2,20050129,       2037,   -59.6872,    81.5862,       1805,   801.0,   1.5196,  34.7451,2,  34.7455,2,    197.4,2,   197.9,2,   93.99,2,   30.55,2,    2.07,2,-999.000,9,-999.000,9,-999.000,9,  -999.0,9,  -999.0,9,   1.4756
09AR20041223,       I09S,      90,          1,          7,        107,2,20050129,       2037,   -59.6872,    81.5862,       1805,   900.3,   1.3964,  34.7422,2,  34.7433,2,    199.9,2,   199.7,2,   97.41,2,   30.65,2,    2.07,2,-999.000,9,-999.000,9,-999.000,9,  -999.0,9,  -999.0,9,   1.3471
09AR20041223,       I09S,      90,          1,          6,        117,2,20050129,       2037,   -59.6872,    81.5862,       1805,  1000.2,   1.3065,  34.7385,2,  34.7396,2,    201.0,2,   200.9,2,  100.34,2,   30.84,2,    2.09,2,-999.000,9,-999.000,9,-999.000,9,  -999.0,9,  -999.0,9,   1.2516
09AR20041223,       I09S,      90,          1,          5,        105,2,20050129,       2037,   -59.6872,    81.5862,       1805,  1100.2,   1.2233,  34.7346,2,  34.7351,2,    201.7,2,   201.9,2,  103.17,2,   30.94,2,    2.11,2,-999.000,9,-999.000,9,-999.000,9,  -999.0,9,  -999.0,9,   1.1627
09AR20041223,       I09S,      90,          1,          4,        104,2,20050129,       2037,   -59.6872,    81.5862,       1805,  1302.2,   1.0426,  34.7250,2,  34.7261,2,    202.1,2,   202.5,2,  112.54,2,   31.33,2,    2.15,2,-999.000,9,-999.000,9,-999.000,9,  -999.0,9,  -999.0,9,   0.9706
09AR20041223,       I09S,      90,          1,          3,        103,2,20050129,       2037,   -59.6872,    81.5862,       1805,  1499.4,   0.9652,  34.7204,2,  34.7210,2,    202.3,2,   202.6,2,  117.62,2,   31.62,2,    2.18,2,-999.000,9,-999.000,9,-999.000,9,  -999.0,9,  -999.0,9,   0.8807
09AR20041223,       I09S,      90,          1,          2,        102,2,20050129,       2037,   -59.6872,    81.5862,       1805,  1700.8,   0.8748,  34.7151,2,  34.7156,2,    202.9,2,   203.0,2,  123.57,2,   31.72,2,    2.20,2,-999.000,9,-999.000,9,-999.000,9,  -999.0,9,  -999.0,9,   0.7774
09AR20041223,       I09S,      90,          1,          1,        101,2,20050129,       2037,   -59.6872,    81.5862,       1805,  1796.5,   0.8155,  34.7116,2,  34.7121,2,    203.3,2,   203.4,2,  127.18,2,   31.92,2,    2.21,2,-999.000,9,-999.000,9,-999.000,9,  -999.0,9,  -999.0,9,   0.7120
09AR20041223,       I09S,      91,          1,         24,         24,2,20050130,       0021,   -60.0472,    81.5408,       1570,    10.3,   1.2212,  33.8734,2,  33.8738,2,    339.1,2,   339.1,2,   34.28,2,   25.10,2,    1.56,2,-999.000,9,-999.000,9,-999.000,9,  -999.0,9,  -999.0,9,   1.2207
09AR20041223,       I09S,      91,          1,         23,         23,2,20050130,       0021,   -60.0472,    81.5408,       1570,    10.4,   1.1929,  33.8721,2,-999.0000,9,    339.1,2,  -999.0,9, -999.00,9, -999.00,9, -999.00,9,-999.000,9,-999.000,9,-999.000,9,  -999.0,9,  -999.0,9,   1.1924
09AR20041223,       I09S,      91,          1,         22,         22,2,20050130,       0021,   -60.0472,    81.5408,       1570,    10.3,   1.2696,  33.8739,2,-999.0000,9,    339.1,2,  -999.0,9, -999.00,9, -999.00,9, -999.00,9,-999.000,9,-999.000,9,-999.000,9,  -999.0,9,  -999.0,9,   1.2691
09AR20041223,       I09S,      91,          1,         21,         21,2,20050130,       0021,   -60.0472,    81.5408,       1570,    10.4,   1.2008,  33.8730,2,-999.0000,9,    339.1,2,  -999.0,9, -999.00,9, -999.00,9, -999.00,9,-999.000,9,-999.000,9,-999.000,9,  -999.0,9,  -999.0,9,   1.2003
09AR20041223,       I09S,      91,          1,         20,         20,2,20050130,       0021,   -60.0472,    81.5408,       1570,    10.2,   1.1944,  33.8723,2,-999.0000,9,    339.1,2,  -999.0,9, -999.00,9, -999.00,9, -999.00,9,-999.000,9,-999.000,9,-999.000,9,  -999.0,9,  -999.0,9,   1.1940
09AR20041223,       I09S,      91,          1,         19,         19,2,20050130,       0021,   -60.0472,    81.5408,       1570,    10.2,   1.1933,  33.8723,2,-999.0000,9,    339.1,2,  -999.0,9, -999.00,9, -999.00,9, -999.00,9,-999.000,9,-999.000,9,-999.000,9,  -999.0,9,  -999.0,9,   1.1929
09AR20041223,       I09S,      91,          1,         18,         18,2,20050130,       0021,   -60.0472,    81.5408,       1570,    10.2,   1.1642,  33.8726,2,-999.0000,9,    339.1,2,  -999.0,9, -999.00,9, -999.00,9, -999.00,9,-999.000,9,-999.000,9,-999.000,9,  -999.0,9,  -999.0,9,   1.1638
09AR20041223,       I09S,      91,          1,         17,          6,2,20050130,       0021,   -60.0472,    81.5408,       1570,    52.0,  -0.0407,  33.9503,2,  33.9698,2,    331.5,2,   323.0,2,   47.66,2,   27.83,2,    1.91,2,-999.000,9,-999.000,9,-999.000,9,  -999.0,9,  -999.0,9,  -0.0425
09AR20041223,       I09S,      91,          1,         16,         16,2,20050130,       0021,   -60.0472,    81.5408,       1570,    76.5,  -0.9219,  34.1146,2,  34.1234,2,    289.9,2,   293.9,2,   60.25,2,   30.56,2,    2.11,2,-999.000,9,-999.000,9,-999.000,9,  -999.0,9,  -999.0,9,  -0.9240
09AR20041223,       I09S,      91,          1,         15,         15,2,20050130,       0021,   -60.0472,    81.5408,       1570,   101.2,  -0.3150,  34.2710,2,  34.2687,2,    259.0,2,   259.2,2,   67.08,2,   31.83,2,    2.16,2,-999.000,9,-999.000,9,-999.000,9,  -999.0,9,  -999.0,9,  -0.3183
09AR20041223,       I09S,      91,          1,         14,         14,2,20050130,       0021,   -60.0472,    81.5408,       1570,   150.3,   1.2813,  34.5609,2,  34.5642,2,    195.5,2,   191.3,2,   81.90,2,   33.48,2,    2.25,2,-999.000,9,-999.000,9,-999.000,9,  -999.0,9,  -999.0,9,   1.2742
09AR20041223,       I09S,      91,          1,         13,         13,2,20050130,       0021,   -60.0472,    81.5408,       1570,   201.8,   1.8760,  34.6884,2,  34.6880,2,    174.3,2,   175.2,2,   87.16,2,   32.99,2,    2.24,2,-999.000,9,-999.000,9,-999.000,9,  -999.0,9,  -999.0,9,   1.8654
09AR20041223,       I09S,      91,          1,         12,         12,2,20050130,       0021,   -60.0472,    81.5408,       1570,   300.5,   1.8611,  34.7222,2,  34.7223,2,    180.5,2,   182.0,2,   87.65,2,   31.82,2,    2.15,2,-999.000,9,-999.000,9,-999.000,9,  -999.0,9,  -999.0,9,   1.8450
09AR20041223,       I09S,      91,          1,         11,         11,2,20050130,       0021,   -60.0472,    81.5408,       1570,   401.3,   1.8073,  34.7340,2,  34.7341,2,    185.8,2,   186.7,2,   88.43,2,   31.23,2,    2.11,2,-999.000,9,-999.000,9,-999.000,9,  -999.0,9,  -999.0,9,   1.7857
09AR20041223,       I09S,      91,          1,         10,         10,2,20050130,       0021,   -60.0472,    81.5408,       1570,   502.2,   1.7443,  34.7407,2,  34.7406,2,    190.2,2,   190.3,2,   89.11,2,   30.84,2,    2.09,2,-999.000,9,-999.000,9,-999.000,9,  -999.0,9,  -999.0,9,   1.7170
09AR20041223,       I09S,      91,          1,          9,          9,2,20050130,       0021,   -60.0472,    81.5408,       1570,   601.4,   1.6663,  34.7444,2,  34.7447,2,    193.5,2,   193.3,2,   90.67,2,   30.65,2,    2.08,2,-999.000,9,-999.000,9,-999.000,9,  -999.0,9,  -999.0,9,   1.6335
09AR20041223,       I09S,      91,          1,          8,        108,2,20050130,       0021,   -60.0472,    81.5408,       1570,   700.3,   1.5808,  34.7455,2,  34.7457,2,    196.3,2,   196.0,2,   92.63,2,   30.55,2,    2.07,2,-999.000,9,-999.000,9,-999.000,9,  -999.0,9,  -999.0,9,   1.5426
09AR20041223,       I09S,      91,          1,          7,        107,2,20050130,       0021,   -60.0472,    81.5408,       1570,   800.5,   1.4957,  34.7446,2,  34.7449,2,    198.4,2,   198.2,2,   94.68,2,   30.45,2,    2.08,2,-999.000,9,-999.000,9,-999.000,9,  -999.0,9,  -999.0,9,   1.4519
09AR20041223,       I09S,      91,          1,          6,        117,2,20050130,       0021,   -60.0472,    81.5408,       1570,   900.7,   1.3678,  34.7411,2,  34.7420,2,    200.2,2,   200.4,2,   98.19,2,   30.55,2,    2.09,2,-999.000,9,-999.000,9,-999.000,9,  -999.0,9,  -999.0,9,   1.3186
09AR20041223,       I09S,      91,          1,          5,        105,2,20050130,       0021,   -60.0472,    81.5408,       1570,  1001.2,   1.2485,  34.7359,2,  34.7365,2,    201.3,2,   201.4,2,  102.19,2,   30.84,2,    2.10,2,-999.000,9,-999.000,9,-999.000,9,  -999.0,9,  -999.0,9,   1.1940
09AR20041223,       I09S,      91,          1,          4,        104,2,20050130,       0021,   -60.0472,    81.5408,       1570,  1100.8,   1.1654,  34.7319,2,  34.7321,2,    202.0,2,   201.9,2,  105.32,2,   30.94,2,    2.12,2,-999.000,9,-999.000,9,-999.000,9,  -999.0,9,  -999.0,9,   1.1053
09AR20041223,       I09S,      91,          1,          3,        103,2,20050130,       0021,   -60.0472,    81.5408,       1570,  1302.4,   1.0130,  34.7237,2,  34.7245,2,    202.5,2,   202.3,2,  113.61,2,   31.33,2,    2.16,2,-999.000,9,-999.000,9,-999.000,9,  -999.0,9,  -999.0,9,   0.9413
09AR20041223,       I09S,      91,          1,          2,        102,2,20050130,       0021,   -60.0472,    81.5408,       1570,  1501.1,   0.8932,  34.7168,2,  34.7174,2,    202.4,2,   202.0,2,  124.06,2,   31.82,2,    2.19,2,-999.000,9,-999.000,9,-999.000,9,  -999.0,9,  -999.0,9,   0.8095
09AR20041223,       I09S,      91,          1,          1,        101,2,20050130,       0021,   -60.0472,    81.5408,       1570,  1552.3,   0.8653,  34.7152,2,  34.7160,2,    202.4,2,   203.0,2,  126.40,2,   31.92,2,    2.21,2,-999.000,9,-999.000,9,-999.000,9,  -999.0,9,  -999.0,9,   0.7784