BOTTLE,20220105CCHSIOENA
EXPOCODE,SECT_ID,STNNBR,CASTNO,SAMPNO,BTLNBR,BTLNBR_FLAG_W,DATE,TIME,LATITUDE,LONGITUDE,DEPTH,CTDPRS,CTDTMP,CTDSAL,CTDSAL_FLAG_W,SALNTY,SALNTY_FLAG_W,CTDOXY,CTDOXY_FLAG_W,OXYGEN,OXYGEN_FLAG_W,SILCAT,SILCAT_FLAG_W,NITRAT,NITRAT_FLAG_W,PHSPHT,PHSPHT_FLAG_W,CFC-11,CFC-11_FLAG_W,CFC-12,CFC-12_FLAG_W,CFC113,CFC113_FLAG_W,TCARBN,TCARBN_FLAG_W,ALKALI,ALKALI_FLAG_W,THETA
,,,,,,,,,,,METERS,DBAR,ITS-90,PSS-78,,PSS-78,,UMOL/KG,,UMOL/KG,,UMOL/KG,,UMOL/KG,,UMOL/KG,,PMOL/KG,,PMOL/KG,,PMOL/KG,,UMOL/KG,,UMOL/KG,,DEG C
09AR20041223,       I09S,       4,          1,         24,         24,2,20041224,       2348,   -35.0478,   114.9993,          0,    15.5,  19.9917,  35.8441,2,-999.0000,9,    229.6,2,  -999.0,9, -999.00,9, -999.00,9, -999.00,9,-999.000,9,-999.000,9,-999.000,9,  -999.0,9,  -999.0,9,  19.9888
09AR20041223,       I09S,       4,          1,         23,         23,2,20041224,       2348,   -35.0478,   114.9993,          0,    15.7,  19.9913,  35.8442,2,-999.0000,9,    229.6,2,  -999.0,9, -999.00,9, -999.00,9, -999.00,9,-999.000,9,-999.000,9,-999.000,9,  -999.0,9,  -999.0,9,  19.9884
09AR20041223,       I09S,       4,          1,         22,         22,2,20041224,       2348,   -35.0478,   114.9993,          0,    15.8,  19.9914,  35.8443,2,-999.0000,9,    229.6,2,  -999.0,9, -999.00,9, -999.00,9, -999.00,9,-999.000,9,-999.000,9,-999.000,9,  -999.0,9,  -999.0,9,  19.9885
09AR20041223,       I09S,       4,          1,         21,         21,2,20041224,       2348,   -35.0478,   114.9993,          0,    15.6,  19.9916,  35.8443,2,-999.0000,9,    229.6,2,  -999.0,9, -999.00,9, -999.00,9, -999.00,9,-999.000,9,-999.000,9,-999.000,9,  -999.0,9,  -999.0,9,  19.9887
09AR20041223,       I09S,       4,          1,         20,         20,2,20041224,       2348,   -35.0478,   114.9993,          0,    15.7,  19.9914,  35.8443,2,-999.0000,9,    229.6,2,  -999.0,9, -999.00,9, -999.00,9, -999.00,9,-999.000,9,-999.000,9,-999.000,9,  -999.0,9,  -999.0,9,  19.9885
09AR20041223,       I09S,       4,          1,         19,         19,2,20041224,       2348,   -35.0478,   114.9993,          0,    15.7,  19.9909,  35.8439,2,-999.0000,9,    229.6,2,  -999.0,9, -999.00,9, -999.00,9, -999.00,9,-999.000,9,-999.000,9,-999.000,9,  -999.0,9,  -999.0,9,  19.9880
09AR20041223,       I09S,       4,          1,         18,         18,2,20041224,       2348,   -35.0478,   114.9993,          0,    15.7,  19.9907,  35.8438,2,-999.0000,9,    229.6,2,  -999.0,9, -999.00,9, -999.00,9, -999.00,9,-999.000,9,-999.000,9,-999.000,9,  -999.0,9,  -999.0,9,  19.9878
09AR20041223,       I09S,       4,          1,         17,         17,2,20041224,       2348,   -35.0478,   114.9993,          0,    15.7,  19.9908,  35.8439,2,-999.0000,9,    229.6,2,  -999.0,9, -999.00,9, -999.00,9, -999.00,9,-999.000,9,-999.000,9,-999.000,9,  -999.0,9,  -999.0,9,  19.9879
09AR20041223,       I09S,       4,          1,         16,         16,2,20041224,       2348,   -35.0478,   114.9993,          0,    15.7,  19.9908,  35.8440,2,-999.0000,9,    229.6,2,  -999.0,9, -999.00,9, -999.00,9, -999.00,9,-999.000,9,-999.000,9,-999.000,9,  -999.0,9,  -999.0,9,  19.9879
09AR20041223,       I09S,       4,          1,         15,         15,2,20041224,       2348,   -35.0478,   114.9993,          0,    15.7,  19.9909,  35.8441,2,-999.0000,9,    229.6,2,  -999.0,9, -999.00,9, -999.00,9, -999.00,9,-999.000,9,-999.000,9,-999.000,9,  -999.0,9,  -999.0,9,  19.9880
09AR20041223,       I09S,       4,          1,         14,         14,2,20041224,       2348,   -35.0478,   114.9993,          0,    15.7,  19.9911,  35.8440,2,-999.0000,9,    229.6,2,  -999.0,9, -999.00,9, -999.00,9, -999.00,9,-999.000,9,-999.000,9,-999.000,9,  -999.0,9,  -999.0,9,  19.9882
09AR20041223,       I09S,       4,          1,         13,         13,2,20041224,       2348,   -35.0478,   114.9993,          0,    15.6,  19.9914,  35.8440,2,-999.0000,9,    229.6,2,  -999.0,9, -999.00,9, -999.00,9, -999.00,9,-999.000,9,-999.000,9,-999.000,9,  -999.0,9,  -999.0,9,  19.9885
09AR20041223,       I09S,       4,          1,         12,         12,2,20041224,       2348,   -35.0478,   114.9993,          0,    15.7,  19.9916,  35.8439,2,-999.0000,9,    229.6,2,  -999.0,9, -999.00,9, -999.00,9, -999.00,9,-999.000,9,-999.000,9,-999.000,9,  -999.0,9,  -999.0,9,  19.9887
09AR20041223,       I09S,       4,          1,         11,         11,2,20041224,       2348,   -35.0478,   114.9993,          0,    15.6,  19.9898,  35.8437,2,  35.8483,2,    229.6,2,   229.9,2,    2.44,2,    0.00,2,    0.09,2,-999.000,9,-999.000,9,-999.000,9,  -999.0,9,  -999.0,9,  19.9869
09AR20041223,       I09S,       4,          1,         10,         10,2,20041224,       2348,   -35.0478,   114.9993,          0,    43.1,  19.9459,  35.8378,2,  35.8422,2,    229.7,2,   228.6,2,    2.54,2,    0.00,2,    0.09,2,-999.000,9,-999.000,9,-999.000,9,  -999.0,9,  -999.0,9,  19.9379
09AR20041223,       I09S,       4,          1,          9,          9,2,20041224,       2348,   -35.0478,   114.9993,          0,    72.1,  18.5753,  35.8457,2,  35.8477,2,    228.3,2,   231.3,2,    2.63,2,    0.00,2,    0.08,2,-999.000,9,-999.000,9,-999.000,9,  -999.0,9,  -999.0,9,  18.5626
09AR20041223,       I09S,       4,          1,          8,          8,2,20041224,       2348,   -35.0478,   114.9993,          0,   101.7,  18.0364,  35.8340,2,  35.8349,2,    229.7,2,   228.8,2,    2.54,2,    0.49,2,    0.15,2,-999.000,9,-999.000,9,-999.000,9,  -999.0,9,  -999.0,9,  18.0189
09AR20041223,       I09S,       4,          1,          7,          7,2,20041224,       2348,   -35.0478,   114.9993,          0,   151.5,  16.9347,  35.7686,2,  35.7736,2,    238.3,2,   238.1,2,    1.95,2,    0.00,2,    0.14,2,-999.000,9,-999.000,9,-999.000,9,  -999.0,9,  -999.0,9,  16.9097
09AR20041223,       I09S,       4,          1,          6,          6,2,20041224,       2348,   -35.0478,   114.9993,          0,   201.0,  14.7696,  35.5184,2,  35.5249,2,    241.3,2,   241.4,2,    1.76,2,    1.66,2,    0.23,2,-999.000,9,-999.000,9,-999.000,9,  -999.0,9,  -999.0,9,  14.7393
09AR20041223,       I09S,       4,          1,          5,          5,2,20041224,       2348,   -35.0478,   114.9993,          0,   252.1,  12.0462,  35.0933,2,  35.0967,2,    243.8,2,   242.2,2,    2.15,2,    7.03,2,    0.55,2,-999.000,9,-999.000,9,-999.000,9,  -999.0,9,  -999.0,9,  12.0131
09AR20041223,       I09S,       4,          1,          4,          4,2,20041224,       2348,   -35.0478,   114.9993,          0,   299.8,  11.1848,  34.9674,2,  34.9658,2,    240.9,2,   241.3,2,    2.73,2,    9.66,2,    0.70,2,-999.000,9,-999.000,9,-999.000,9,  -999.0,9,  -999.0,9,  11.1473
09AR20041223,       I09S,       4,          1,          3,          3,2,20041224,       2348,   -35.0478,   114.9993,          0,   399.9,   9.5675,  34.7192,2,  34.7219,2,    241.6,2,   242.4,2,    4.29,2,   14.45,2,    0.97,2,-999.000,9,-999.000,9,-999.000,9,  -999.0,9,  -999.0,9,   9.5220
09AR20041223,       I09S,       4,          1,          2,          2,2,20041224,       2348,   -35.0478,   114.9993,          0,   501.8,   8.8578,  34.6191,2,  34.6197,2,    236.2,2,   237.5,2,    5.95,2,   17.38,2,    1.14,2,-999.000,9,-999.000,9,-999.000,9,  -999.0,9,  -999.0,9,   8.8031
09AR20041223,       I09S,       4,          1,          1,          1,2,20041224,       2348,   -35.0478,   114.9993,          0,   572.1,   8.2767,  34.5631,2,  34.5640,2,    223.9,2,   223.3,2,    9.08,2,   20.11,2,    1.35,2,-999.000,9,-999.000,9,-999.000,9,  -999.0,9,  -999.0,9,   8.2166
09AR20041223,       I09S,       5,          1,         24,         24,2,20041225,       0212,   -35.1968,   115.0013,       1507,    10.9,  20.2003,  35.8363,2,-999.0000,9,    231.4,2,  -999.0,9, -999.00,9, -999.00,9, -999.00,9,-999.000,9,-999.000,9,-999.000,9,  -999.0,9,  -999.0,9,  20.1983
09AR20041223,       I09S,       5,          1,         23,         23,2,20041225,       0212,   -35.1968,   115.0013,       1507,    10.9,  20.1980,  35.8362,2,-999.0000,9,    231.4,2,  -999.0,9, -999.00,9, -999.00,9, -999.00,9,-999.000,9,-999.000,9,-999.000,9,  -999.0,9,  -999.0,9,  20.1960
09AR20041223,       I09S,       5,          1,         22,         22,2,20041225,       0212,   -35.1968,   115.0013,       1507,    11.1,  20.1966,  35.8361,2,-999.0000,9,    231.3,2,  -999.0,9, -999.00,9, -999.00,9, -999.00,9,-999.000,9,-999.000,9,-999.000,9,  -999.0,9,  -999.0,9,  20.1945
09AR20041223,       I09S,       5,          1,         21,         21,2,20041225,       0212,   -35.1968,   115.0013,       1507,    11.1,  20.1952,  35.8361,2,-999.0000,9,    231.3,2,  -999.0,9, -999.00,9, -999.00,9, -999.00,9,-999.000,9,-999.000,9,-999.000,9,  -999.0,9,  -999.0,9,  20.1931
09AR20041223,       I09S,       5,          1,         20,         20,2,20041225,       0212,   -35.1968,   115.0013,       1507,    11.1,  20.2076,  35.8335,2,  35.8347,2,    231.3,2,   228.0,2,    2.54,2,    0.00,2,    0.14,2,   5.294,4,   1.028,4,   0.302,4,  2046.8,6,  2348.1,6,  20.2055
09AR20041223,       I09S,       5,          1,         19,         19,2,20041225,       0212,   -35.1968,   115.0013,       1507,    41.4,  20.1439,  35.8361,2,  35.8375,2,    236.7,2,   235.1,2,    2.44,2,    0.00,2,    0.14,2,   5.652,4,   1.194,6,   0.285,4,  2045.3,2,  2346.2,2,  20.1362
09AR20041223,       I09S,       5,          1,         18,         18,2,20041225,       0212,   -35.1968,   115.0013,       1507,    71.5,  17.5411,  35.8308,2,  35.8791,4,    236.1,2,   233.0,2,    2.15,2,    0.00,2,    0.18,2,   4.539,4,   1.319,4,   0.393,4,  2070.4,2,  2349.7,3,  17.5290
09AR20041223,       I09S,       5,          1,         17,         17,2,20041225,       0212,   -35.1968,   115.0013,       1507,   100.7,  16.7108,  35.7723,2,  35.4441,4,    239.0,2,   240.7,2,    2.34,2, -999.00,9, -999.00,9,   5.453,4,   1.483,2,   0.247,4,  2089.9,2,  2329.5,6,  16.6943
09AR20041223,       I09S,       5,          1,         16,         16,2,20041225,       0212,   -35.1968,   115.0013,       1507,   151.0,  15.1715,  35.5805,2,  35.5751,2,    242.9,2,   245.8,2,    1.66,2,    0.29,2,    0.20,2,   3.104,4,   1.475,2,   0.242,2,  2081.5,2,  2338.7,2,  15.1484
09AR20041223,       I09S,       5,          1,         15,         15,2,20041225,       0212,   -35.1968,   115.0013,       1507,   201.2,  13.4239,  35.3240,2,  35.3199,2,    244.5,2,   243.5,2,    1.66,2,    3.51,2,    0.40,2,   5.226,4,   1.565,2,   0.282,2,  2096.2,2,  2323.3,2,  13.3955
09AR20041223,       I09S,       5,          1,         14,         14,2,20041225,       0212,   -35.1968,   115.0013,       1507,   250.7,  11.5381,  35.0214,2,  35.0159,2,    242.8,2,   241.5,2,    2.54,2,    8.59,2,    0.70,2,   4.956,4,   1.717,2,   0.205,2,  2109.9,2,  2308.5,2,  11.5061
09AR20041223,       I09S,       5,          1,         13,         13,2,20041225,       0212,   -35.1968,   115.0013,       1507,   301.2,  10.3512,  34.8356,2,  34.8342,2,    241.1,2,   241.3,2,    3.42,2,   12.10,2,    0.89,2,   4.782,4,   1.786,2,   0.156,2,  2116.5,2,  2297.9,2,  10.3154
09AR20041223,       I09S,       5,          1,         12,         12,2,20041225,       0212,   -35.1968,   115.0013,       1507,   400.0,   9.3642,  34.6892,2,  34.6890,2,    243.2,2,   241.8,2,    4.69,2,   15.32,2,    1.06,2,   4.091,4,   1.813,2,   0.216,2,  2124.7,2,  2290.2,2,   9.3193
09AR20041223,       I09S,       5,          1,         11,         11,2,20041225,       0212,   -35.1968,   115.0013,       1507,   501.0,   9.0769,  34.6492,2,  34.6507,2,    239.9,2,   240.0,2,    5.47,2,   16.30,2,    1.14,2,   5.146,4,   1.782,2,   0.189,2,  2127.9,6,  2293.0,6,   9.0215
09AR20041223,       I09S,       5,          1,         10,         10,2,20041225,       0212,   -35.1968,   115.0013,       1507,   599.0,   8.6896,  34.5997,2,  34.5985,2,    232.5,2,   231.4,2,    6.93,2,   18.45,2,    1.26,2,   3.778,4,   1.648,2,   0.157,2,  2135.6,2,  2288.1,2,   8.6247
09AR20041223,       I09S,       5,          1,          9,          9,2,20041225,       0212,   -35.1968,   115.0013,       1507,   701.1,   7.0097,  34.4632,2,  34.4646,2,    202.9,2,   202.5,2,   16.11,2,   24.60,2,    1.67,2,   3.687,4,   0.943,6,   0.092,6,  2165.3,2,  2288.1,2,   6.9422
09AR20041223,       I09S,       5,          1,          8,          8,2,20041225,       0212,   -35.1968,   115.0013,       1507,   800.5,   5.6119,  34.4035,2,  34.4044,2,    196.0,2,   195.9,2,   26.26,2,   28.12,2,    1.88,2,   1.674,4,   0.661,2,   0.062,2,  2185.8,2,  2293.8,2,   5.5427
09AR20041223,       I09S,       5,          1,          7,          7,2,20041225,       0212,   -35.1968,   115.0013,       1507,   900.6,   4.7097,  34.3823,2,  34.3833,2,    192.5,2,   193.6,2,   34.46,2,   29.68,2,    2.03,2,   1.407,4,   0.524,2,   0.055,2,  2197.5,2,  2301.9,2,   4.6375
09AR20041223,       I09S,       5,          1,          6,          6,2,20041225,       0212,   -35.1968,   115.0013,       1507,  1000.9,   3.9181,  34.4198,2,  34.4207,2,    178.6,2,   179.0,2,   50.08,2,   32.22,2,    2.21,2,   0.868,4,   0.293,2,   0.040,2,  2222.3,2,  2316.5,2,   3.8431
09AR20041223,       I09S,       5,          1,          5,          5,2,20041225,       0212,   -35.1968,   115.0013,       1507,  1102.1,   3.6291,  34.4560,2,  34.4572,2,    169.5,2,  -999.0,9,   58.38,2,   32.90,2,    2.28,2,   0.736,4,   0.168,2,   0.008,2,  2237.1,2,  2326.0,2,   3.5481
09AR20041223,       I09S,       5,          1,          4,          4,2,20041225,       0212,   -35.1968,   115.0013,       1507,  1199.6,   3.4862,  34.4977,2,  34.4983,2,    160.7,2,   160.7,2,   66.09,2,   33.88,2,    2.35,2,   0.471,4,   0.093,2,   0.000,2,  2249.5,2,  2333.3,2,   3.3984
09AR20041223,       I09S,       5,          1,          3,          3,2,20041225,       0212,   -35.1968,   115.0013,       1507,  1300.6,   3.3284,  34.5253,2,  34.5258,2,    156.4,2,   155.9,2,   70.58,2,   34.36,2,    2.36,2,   0.302,4,   0.053,2,   0.046,4,  2254.2,2,  2336.4,2,   3.2337
09AR20041223,       I09S,       5,          1,          2,          2,2,20041225,       0212,   -35.1968,   115.0013,       1507,  1401.3,   3.1979,  34.5541,2,  34.5550,2,    153.8,2,   154.3,2,   75.17,2,   34.17,2,    2.38,2,   1.556,4,   0.039,6,   0.000,6,  2257.5,2,  2340.5,2,   3.0961
09AR20041223,       I09S,       5,          1,          1,          1,2,20041225,       0212,   -35.1968,   115.0013,       1507,  1468.2,   3.0830,  34.5702,2,  34.5705,2,    154.3,2,   155.0,2,   77.02,2,   33.87,2,    2.36,2,   0.351,4,   0.015,2,   0.000,2,  2262.8,6,  2346.3,6,   2.9769