BOTTLE,20220105CCHSIOENA
EXPOCODE,SECT_ID,STNNBR,CASTNO,SAMPNO,BTLNBR,BTLNBR_FLAG_W,DATE,TIME,LATITUDE,LONGITUDE,DEPTH,CTDPRS,CTDTMP,CTDSAL,CTDSAL_FLAG_W,SALNTY,SALNTY_FLAG_W,CTDOXY,CTDOXY_FLAG_W,OXYGEN,OXYGEN_FLAG_W,SILCAT,SILCAT_FLAG_W,NITRAT,NITRAT_FLAG_W,PHSPHT,PHSPHT_FLAG_W,CFC-11,CFC-11_FLAG_W,CFC-12,CFC-12_FLAG_W,CFC113,CFC113_FLAG_W,TCARBN,TCARBN_FLAG_W,ALKALI,ALKALI_FLAG_W,THETA
,,,,,,,,,,,METERS,DBAR,ITS-90,PSS-78,,PSS-78,,UMOL/KG,,UMOL/KG,,UMOL/KG,,UMOL/KG,,UMOL/KG,,PMOL/KG,,PMOL/KG,,PMOL/KG,,UMOL/KG,,UMOL/KG,,DEG C
09AR20041223,       I09S,      78,          1,         24,         24,2,20050123,       1404,   -58.3253,    82.3075,       2136,    11.3,   1.3774,  33.9854,2,  33.9882,2,    333.8,2,   335.4,2,   36.82,2,   25.88,2,    1.63,2,-999.000,9,-999.000,9,-999.000,9,  -999.0,9,  -999.0,9,   1.3769
09AR20041223,       I09S,      78,          1,         23,         23,2,20050123,       1404,   -58.3253,    82.3075,       2136,    30.8,   1.3439,  33.9877,2,  33.9888,2,    333.7,2,   334.3,2,   37.40,2,   25.68,2,    1.62,2,-999.000,9,-999.000,9,-999.000,9,  -999.0,9,  -999.0,9,   1.3425
09AR20041223,       I09S,      78,          1,         22,         22,2,20050123,       1404,   -58.3253,    82.3075,       2136,    71.0,  -0.4331,  34.2107,2,  34.2401,2,    264.2,2,   262.2,2,   67.37,2,   31.05,2,    2.21,2,-999.000,9,-999.000,9,-999.000,9,  -999.0,9,  -999.0,9,  -0.4353
09AR20041223,       I09S,      78,          1,         21,         21,2,20050123,       1404,   -58.3253,    82.3075,       2136,   100.7,   0.3656,  34.3578,2,  34.3643,2,    225.1,2,   225.1,2,   73.42,2,   32.61,2,    2.28,2,-999.000,9,-999.000,9,-999.000,9,  -999.0,9,  -999.0,9,   0.3617
09AR20041223,       I09S,      78,          1,         20,         20,2,20050123,       1404,   -58.3253,    82.3075,       2136,   151.2,   1.1194,  34.4778,2,  34.4764,2,    194.2,2,   197.7,2,   78.68,2,   35.05,2,    2.31,2,-999.000,9,-999.000,9,-999.000,9,  -999.0,9,  -999.0,9,   1.1125
09AR20041223,       I09S,      78,          1,         19,         19,2,20050123,       1404,   -58.3253,    82.3075,       2136,   200.8,   1.6498,  34.5748,2,  34.5697,2,    179.5,2,   180.7,2,   83.17,2,   34.17,2,    2.30,2,-999.000,9,-999.000,9,-999.000,9,  -999.0,9,  -999.0,9,   1.6396
09AR20041223,       I09S,      78,          1,         18,         18,2,20050123,       1404,   -58.3253,    82.3075,       2136,   301.0,   1.9604,  34.6647,2,  34.6638,2,    175.7,2,   174.8,2,   85.80,2,   33.28,2,    2.24,2,-999.000,9,-999.000,9,-999.000,9,  -999.0,9,  -999.0,9,   1.9441
09AR20041223,       I09S,      78,          1,         17,          6,2,20050123,       1404,   -58.3253,    82.3075,       2136,   400.6,   1.9610,  34.6986,2,  34.6982,2,    181.0,2,   180.2,2,   86.09,2,   32.21,2,    2.19,2,-999.000,9,-999.000,9,-999.000,9,  -999.0,9,  -999.0,9,   1.9389
09AR20041223,       I09S,      78,          1,         16,        116,2,20050123,       1404,   -58.3253,    82.3075,       2136,   500.5,   1.9154,  34.7225,2,  34.7223,2,    186.5,2,   185.5,2,   86.97,2,   31.92,2,    2.14,2,-999.000,9,-999.000,9,-999.000,9,  -999.0,9,  -999.0,9,   1.8876
09AR20041223,       I09S,      78,          1,         15,         15,2,20050123,       1404,   -58.3253,    82.3075,       2136,   601.5,   1.8053,  34.7331,2,  34.7333,2,    191.6,2,   189.8,2,   89.01,2,   31.14,2,    2.11,2,-999.000,9,-999.000,9,-999.000,9,  -999.0,9,  -999.0,9,   1.7719
09AR20041223,       I09S,      78,          1,         14,         14,2,20050123,       1404,   -58.3253,    82.3075,       2136,   700.7,   1.7261,  34.7404,2,  34.7402,2,    194.9,2,   194.0,2,   89.99,2,   30.84,2,    2.08,2,-999.000,9,-999.000,9,-999.000,9,  -999.0,9,  -999.0,9,   1.6870
09AR20041223,       I09S,      78,          1,         13,         13,2,20050123,       1404,   -58.3253,    82.3075,       2136,   800.3,   1.6392,  34.7448,2,  34.7451,2,    198.1,2,   196.9,2,   91.75,2,   30.35,2,    2.08,2,-999.000,9,-999.000,9,-999.000,9,  -999.0,9,  -999.0,9,   1.5944
09AR20041223,       I09S,      78,          1,         12,         12,2,20050123,       1404,   -58.3253,    82.3075,       2136,   900.3,   1.5593,  34.7459,2,  34.7457,2,    200.2,2,   199.2,2,   92.92,2,   30.26,2,    2.07,2,-999.000,9,-999.000,9,-999.000,9,  -999.0,9,  -999.0,9,   1.5088
09AR20041223,       I09S,      78,          1,         11,         11,2,20050123,       1404,   -58.3253,    82.3075,       2136,  1001.2,   1.4570,  34.7436,2,  34.7427,2,    201.6,2,   200.7,2,   95.65,2,   30.26,2,    2.08,2,-999.000,9,-999.000,9,-999.000,9,  -999.0,9,  -999.0,9,   1.4008
09AR20041223,       I09S,      78,          1,         10,         10,2,20050123,       1404,   -58.3253,    82.3075,       2136,  1103.5,   1.3337,  34.7385,2,  34.7386,2,    202.1,2,   202.0,2,   99.17,2,   31.14,2,    2.09,2,-999.000,9,-999.000,9,-999.000,9,  -999.0,9,  -999.0,9,   1.2719
09AR20041223,       I09S,      78,          1,          9,          9,2,20050123,       1404,   -58.3253,    82.3075,       2136,  1201.9,   1.2386,  34.7342,2,  34.7339,2,    202.6,2,   203.1,2,  101.90,2,   30.94,2,    2.11,2,-999.000,9,-999.000,9,-999.000,9,  -999.0,9,  -999.0,9,   1.1712
09AR20041223,       I09S,      78,          1,          8,        208,2,20050123,       1404,   -58.3253,    82.3075,       2136,  1300.7,   1.1443,  34.7294,2,  34.7290,2,    203.4,2,   204.1,2,  104.54,2,   31.04,2,    2.13,2,-999.000,9,-999.000,9,-999.000,9,  -999.0,9,  -999.0,9,   1.0713
09AR20041223,       I09S,      78,          1,          7,        107,2,20050123,       1404,   -58.3253,    82.3075,       2136,  1400.2,   1.0605,  34.7254,2,  34.7249,2,    203.7,2,   204.8,2,  107.17,2,   31.43,2,    2.14,2,-999.000,9,-999.000,9,-999.000,9,  -999.0,9,  -999.0,9,   0.9817
09AR20041223,       I09S,      78,          1,          6,        117,2,20050123,       1404,   -58.3253,    82.3075,       2136,  1501.5,   0.9631,  34.7196,2,  34.7196,2,    204.6,2,   205.2,2,  110.00,2,   31.33,2,    2.15,2,-999.000,9,-999.000,9,-999.000,9,  -999.0,9,  -999.0,9,   0.8785
09AR20041223,       I09S,      78,          1,          5,        105,2,20050123,       1404,   -58.3253,    82.3075,       2136,  1601.8,   0.8822,  34.7145,2,  34.7143,2,    205.6,2,   206.1,2,  112.35,2,   31.43,2,    2.17,2,-999.000,9,-999.000,9,-999.000,9,  -999.0,9,  -999.0,9,   0.7917
09AR20041223,       I09S,      78,          1,          4,        104,2,20050123,       1404,   -58.3253,    82.3075,       2136,  1802.5,   0.6802,  34.7036,2,  34.7033,2,    207.5,2,   207.7,2,  119.47,2,   31.82,2,    2.21,2,-999.000,9,-999.000,9,-999.000,9,  -999.0,9,  -999.0,9,   0.5782
09AR20041223,       I09S,      78,          1,          3,        103,2,20050123,       1404,   -58.3253,    82.3075,       2136,  1952.0,   0.6294,  34.7010,2,  34.7004,2,    208.3,2,   208.2,2,  123.18,2,   32.11,2,    2.22,2,-999.000,9,-999.000,9,-999.000,9,  -999.0,9,  -999.0,9,   0.5173
09AR20041223,       I09S,      78,          1,          2,        102,2,20050123,       1404,   -58.3253,    82.3075,       2136,  2050.1,   0.6108,  34.6996,2,  34.6994,2,    208.7,2,   208.8,2,  123.96,2,   32.21,2,    2.23,2,-999.000,9,-999.000,9,-999.000,9,  -999.0,9,  -999.0,9,   0.4917
09AR20041223,       I09S,      78,          1,          1,        101,2,20050123,       1404,   -58.3253,    82.3075,       2136,  2124.5,   0.5650,  34.6971,2,  34.6966,2,    209.4,2,   209.8,2,  125.43,2,   32.21,2,    2.24,2,-999.000,9,-999.000,9,-999.000,9,  -999.0,9,  -999.0,9,   0.4411
09AR20041223,       I09S,      79,          1,         24,         24,2,20050123,       1756,   -58.4843,    81.9843,       1648,    10.1,   1.3201,  33.9890,2,  33.9892,2,    331.9,2,   331.1,2,   43.16,2,   27.15,2,    1.79,2,   5.453,2,   2.823,2,   0.486,2,  2171.4,6,  2298.5,6,   1.3196
09AR20041223,       I09S,      79,          1,         23,         23,2,20050123,       1756,   -58.4843,    81.9843,       1648,    25.4,   1.3112,  33.9894,2,  33.9898,2,    331.8,2,   331.4,2,   43.16,2,   27.44,2,    1.78,2,-999.000,9,-999.000,9,-999.000,9,  2171.0,2,  2298.4,2,   1.3101
09AR20041223,       I09S,      79,          1,         22,         22,2,20050123,       1756,   -58.4843,    81.9843,       1648,    51.0,   1.2350,  33.9903,2,  33.9962,2,    330.3,2,   331.2,2,   44.63,2,   27.34,2,    1.82,2,   5.457,2,   2.811,2,   0.486,2,  2174.7,2,  2300.1,2,   1.2327
09AR20041223,       I09S,      79,          1,         21,         21,2,20050123,       1756,   -58.4843,    81.9843,       1648,    75.5,  -0.5183,  34.2032,2,  34.2138,2,    297.8,2,   273.3,3,   66.49,2,   31.15,2,    2.20,2,-999.000,9,-999.000,9,-999.000,9,  2220.5,2,  2311.4,2,  -0.5206
09AR20041223,       I09S,      79,          1,         20,         20,2,20050123,       1756,   -58.4843,    81.9843,       1648,   101.4,   0.4906,  34.3902,2,  34.3905,2,    220.9,2,   220.5,2,   75.27,2,   33.68,2,    2.28,2,   2.349,2,   1.183,2,   0.194,2,  2241.1,2,  2321.2,2,   0.4866
09AR20041223,       I09S,      79,          1,         19,         19,2,20050123,       1756,   -58.4843,    81.9843,       1648,   125.1,   1.3096,  34.5166,2,  34.5146,2,    192.1,2,   192.0,2,   80.93,2,   34.26,2,    2.32,2,-999.000,9,-999.000,9,-999.000,9,  2252.5,2,  2328.0,2,   1.3037
09AR20041223,       I09S,      79,          1,         18,         18,2,20050123,       1756,   -58.4843,    81.9843,       1648,   151.4,   1.4664,  34.5512,2,  34.5548,2,    185.1,2,   186.2,2,   82.58,2,   34.07,2,    2.30,2,   0.634,2,   0.320,2,   0.041,2,  -999.0,9,  -999.0,9,   1.4590
09AR20041223,       I09S,      79,          1,         17,          6,2,20050123,       1756,   -58.4843,    81.9843,       1648,   200.5,   1.8317,  34.6286,2,  34.6274,2,    177.2,2,   176.3,2,   85.70,2,   33.87,2,    2.28,2,   0.487,2,   0.247,2,   0.025,2,  -999.0,9,  -999.0,9,   1.8212
09AR20041223,       I09S,      79,          1,         16,        116,2,20050123,       1756,   -58.4843,    81.9843,       1648,   252.0,   1.8651,  34.6602,2,  34.6595,2,    176.5,2,   176.3,2,   86.87,2,   33.48,2,    2.25,2,   0.370,2,   0.183,2,   0.022,2,  2259.0,2,  2339.4,2,   1.8517
09AR20041223,       I09S,      79,          1,         15,         15,2,20050123,       1756,   -58.4843,    81.9843,       1648,   301.4,   1.8959,  34.6834,2,  34.6831,2,    178.0,2,   178.2,2,   87.75,2,   32.99,2,    2.22,2,   0.309,2,   0.152,2,   0.017,2,  -999.0,9,  -999.0,9,   1.8797
09AR20041223,       I09S,      79,          1,         14,         14,2,20050123,       1756,   -58.4843,    81.9843,       1648,   348.4,   1.8996,  34.6986,2,  34.6984,2,    180.7,2,   180.4,2,   87.85,2,   32.50,2,    2.19,2,-999.000,9,-999.000,9,-999.000,9,  -999.0,9,  -999.0,9,   1.8807
09AR20041223,       I09S,      79,          1,         13,         13,2,20050123,       1756,   -58.4843,    81.9843,       1648,   401.9,   1.9069,  34.7167,2,  34.7164,2,    182.0,2,   184.2,2,   87.65,2,   31.62,2,    2.15,2,   0.223,2,   0.112,2,   0.015,2,  -999.0,9,  -999.0,9,   1.8849
09AR20041223,       I09S,      79,          1,         12,         12,2,20050123,       1756,   -58.4843,    81.9843,       1648,   500.5,   1.8323,  34.7309,2,  34.7308,2,    188.6,2,   188.8,2,   88.04,2,   31.14,2,    2.12,2,   0.193,2,   0.096,2,   0.010,2,  2251.6,2,  2345.0,6,   1.8048
09AR20041223,       I09S,      79,          1,         11,         11,2,20050123,       1756,   -58.4843,    81.9843,       1648,   605.2,   1.6345,  34.7268,2,  34.7262,2,    194.2,2,   193.8,2,   90.19,2,   30.84,2,    2.10,2,   0.293,2,   0.146,2,   0.025,2,  -999.0,9,  -999.0,9,   1.6017
09AR20041223,       I09S,      79,          1,         10,         10,2,20050123,       1756,   -58.4843,    81.9843,       1648,   700.4,   1.5528,  34.7304,2,  34.7300,2,    197.1,2,   197.2,2,   91.94,2,   30.65,2,    2.10,2,   0.280,6,   0.143,6,   0.025,6,  -999.0,9,  -999.0,9,   1.5147
09AR20041223,       I09S,      79,          1,          9,          9,2,20050123,       1756,   -58.4843,    81.9843,       1648,   802.6,   1.5285,  34.7416,2,  34.7424,2,    198.9,2,   199.3,2,   93.90,2,   30.55,2,    2.07,2,   0.156,2,   0.082,2,   0.008,2,  -999.0,9,  -999.0,9,   1.4843
09AR20041223,       I09S,      79,          1,          8,        208,2,20050123,       1756,   -58.4843,    81.9843,       1648,   901.0,   1.3883,  34.7339,2,  34.7335,2,    200.6,2,   201.3,2,   96.92,2,   30.55,2,    2.10,2,   0.225,2,   0.110,2,   0.004,2,  2252.7,2,  2371.8,3,   1.3390
09AR20041223,       I09S,      79,          1,          7,        107,2,20050123,       1756,   -58.4843,    81.9843,       1648,  1000.2,   1.3536,  34.7400,2,  34.7396,2,    201.7,2,   202.0,2,   99.07,2,   30.55,2,    2.09,2,   0.118,2,   0.064,2,-999.000,5,  -999.0,9,  -999.0,9,   1.2983
09AR20041223,       I09S,      79,          1,          6,        117,2,20050123,       1756,   -58.4843,    81.9843,       1648,  1101.0,   1.2557,  34.7359,2,  34.7363,2,    202.1,2,   202.0,2,  102.58,2,   30.75,2,    2.11,2,   0.105,2,   0.058,2,   0.003,2,  -999.0,9,  -999.0,9,   1.1948
09AR20041223,       I09S,      79,          1,          5,        105,2,20050123,       1756,   -58.4843,    81.9843,       1648,  1202.1,   1.1551,  34.7310,2,  34.7312,2,    202.4,2,   202.4,2,  106.78,2,   31.04,2,    2.16,2,   0.093,2,   0.052,2,   0.000,2,  2254.2,2,  2353.8,2,   1.0885
09AR20041223,       I09S,      79,          1,          4,        104,2,20050123,       1756,   -58.4843,    81.9843,       1648,  1301.3,   1.0314,  34.7242,2,  34.7239,2,    203.7,2,   203.5,2,  111.95,2,   31.33,2,    2.15,2,   0.102,2,   0.061,2,   0.000,2,  -999.0,9,  -999.0,9,   0.9595
09AR20041223,       I09S,      79,          1,          3,        103,2,20050123,       1756,   -58.4843,    81.9843,       1648,  1405.6,   0.9254,  34.7187,2,  34.7184,2,    203.6,2,   203.4,2,  117.62,2,   31.53,2,    2.18,2,   0.105,2,   0.059,2,   0.010,3,  -999.0,9,  -999.0,9,   0.8478
09AR20041223,       I09S,      79,          1,          2,        102,2,20050123,       1756,   -58.4843,    81.9843,       1648,  1549.9,   0.8311,  34.7135,2,  34.7139,2,    204.3,2,   204.7,2,  124.25,2,   31.62,2,    2.20,2,   0.092,6,   0.049,6,   0.000,2,  2259.8,2,  2357.0,2,   0.7448
09AR20041223,       I09S,      79,          1,          1,        101,2,20050123,       1756,   -58.4843,    81.9843,       1648,  1622.8,   0.7815,  34.7105,2,  34.7104,2,    204.4,2,   204.6,2,  127.18,2,   31.82,2,    2.22,2,   0.097,2,   0.056,2,   0.001,2,  2260.8,6,  2359.1,6,   0.6908