BOTTLE,20220105CCHSIOENA
EXPOCODE,SECT_ID,STNNBR,CASTNO,SAMPNO,BTLNBR,BTLNBR_FLAG_W,DATE,TIME,LATITUDE,LONGITUDE,DEPTH,CTDPRS,CTDTMP,CTDSAL,CTDSAL_FLAG_W,SALNTY,SALNTY_FLAG_W,CTDOXY,CTDOXY_FLAG_W,OXYGEN,OXYGEN_FLAG_W,SILCAT,SILCAT_FLAG_W,NITRAT,NITRAT_FLAG_W,PHSPHT,PHSPHT_FLAG_W,CFC-11,CFC-11_FLAG_W,CFC-12,CFC-12_FLAG_W,CFC113,CFC113_FLAG_W,TCARBN,TCARBN_FLAG_W,ALKALI,ALKALI_FLAG_W,THETA
,,,,,,,,,,,METERS,DBAR,ITS-90,PSS-78,,PSS-78,,UMOL/KG,,UMOL/KG,,UMOL/KG,,UMOL/KG,,UMOL/KG,,PMOL/KG,,PMOL/KG,,PMOL/KG,,UMOL/KG,,UMOL/KG,,DEG C
09AR20041223,       I09S,      20,          1,         24,         24,2,20041231,       0339,   -42.5022,   114.9978,       4304,    10.6,  12.4968,  34.7088,2,  34.7096,2,    269.2,2,   271.8,2,    1.76,2,    8.78,2,    0.64,2,-999.000,9,-999.000,9,-999.000,9,  -999.0,9,  -999.0,9,  12.4954
09AR20041223,       I09S,      20,          1,         23,         23,2,20041231,       0339,   -42.5022,   114.9978,       4304,    53.5,  10.4701,  34.6992,2,-999.0000,9,    278.3,2,  -999.0,9, -999.00,9, -999.00,9, -999.00,9,-999.000,9,-999.000,9,-999.000,9,  -999.0,9,  -999.0,9,  10.4638
09AR20041223,       I09S,      20,          1,         22,         22,2,20041231,       0339,   -42.5022,   114.9978,       4304,    54.6,  10.4559,  34.6975,2,-999.0000,9,    278.3,2,  -999.0,9, -999.00,9, -999.00,9, -999.00,9,-999.000,9,-999.000,9,-999.000,9,  -999.0,9,  -999.0,9,  10.4495
09AR20041223,       I09S,      20,          1,         21,         21,2,20041231,       0339,   -42.5022,   114.9978,       4304,    55.5,  10.4357,  34.6975,2,  34.6950,2,    281.6,2,   281.5,2,    3.22,2,   10.35,2,    0.79,2,-999.000,9,-999.000,9,-999.000,9,  -999.0,9,  -999.0,9,  10.4292
09AR20041223,       I09S,      20,          1,         20,         20,2,20041231,       0339,   -42.5022,   114.9978,       4304,   100.4,  10.0155,  34.7466,2,  34.7477,2,    264.5,2,   264.8,2,    3.32,2,   11.52,2,    0.80,2,-999.000,9,-999.000,9,-999.000,9,  -999.0,9,  -999.0,9,  10.0039
09AR20041223,       I09S,      20,          1,         19,         19,2,20041231,       0339,   -42.5022,   114.9978,       4304,   154.1,   9.7400,  34.7229,2,  34.7221,2,    268.2,2,   267.0,2,    3.90,2,   12.69,2,    0.85,2,-999.000,9,-999.000,9,-999.000,9,  -999.0,9,  -999.0,9,   9.7225
09AR20041223,       I09S,      20,          1,         18,         18,2,20041231,       0339,   -42.5022,   114.9978,       4304,   201.1,   9.5788,  34.7118,2,  34.7119,2,    265.3,2,   266.3,2,    4.10,2,   12.98,2,    0.88,2,-999.000,9,-999.000,9,-999.000,9,  -999.0,9,  -999.0,9,   9.5562
09AR20041223,       I09S,      20,          1,         17,          6,2,20041231,       0339,   -42.5022,   114.9978,       4304,   302.2,   9.4791,  34.7044,2,  34.7047,2,    264.1,2,   264.8,2,    4.98,2,   13.66,2,    0.93,2,-999.000,9,-999.000,9,-999.000,9,  -999.0,9,  -999.0,9,   9.4451
09AR20041223,       I09S,      20,          1,         16,         16,4,20041231,       0339,   -42.5022,   114.9978,       4304,   402.3,   9.4138,  34.6966,2,  34.6525,4,    265.3,2,  -999.0,9, -999.00,9, -999.00,9, -999.00,9,-999.000,9,-999.000,9,-999.000,9,  -999.0,9,  -999.0,9,   9.3685
09AR20041223,       I09S,      20,          1,         15,         15,2,20041231,       0339,   -42.5022,   114.9978,       4304,   549.4,   9.1859,  34.6608,2,  34.6613,2,    255.6,2,   254.8,2,    5.27,2,   15.52,2,    1.02,2,-999.000,9,-999.000,9,-999.000,9,  -999.0,9,  -999.0,9,   9.1245
09AR20041223,       I09S,      20,          1,         14,         14,2,20041231,       0339,   -42.5022,   114.9978,       4304,   700.4,   8.2869,  34.5430,2,  34.5416,2,    232.2,2,   233.0,2,    8.69,2,   20.21,2,    1.34,2,-999.000,9,-999.000,9,-999.000,9,  -999.0,9,  -999.0,9,   8.2127
09AR20041223,       I09S,      20,          1,         13,         13,2,20041231,       0339,   -42.5022,   114.9978,       4304,   848.7,   6.8904,  34.4423,2,  34.4430,2,    209.4,2,  -999.0,9,   16.21,2,   25.48,2,    1.63,2,-999.000,9,-999.000,9,-999.000,9,  -999.0,9,  -999.0,9,   6.8086
09AR20041223,       I09S,      20,          1,         12,         12,4,20041231,       0339,   -42.5022,   114.9978,       4304,   999.9,   5.4662,  34.3794,2,  34.5216,4,    200.7,2,  -999.0,9, -999.00,9, -999.00,9, -999.00,9,-999.000,9,-999.000,9,-999.000,9,  -999.0,9,  -999.0,9,   5.3796
09AR20041223,       I09S,      20,          1,         11,         11,2,20041231,       0339,   -42.5022,   114.9978,       4304,  1149.5,   4.2255,  34.3354,2,  34.3353,2,    206.0,2,   206.8,2,   33.49,2,   31.54,2,    2.05,2,-999.000,9,-999.000,9,-999.000,9,  -999.0,9,  -999.0,9,   4.1356
09AR20041223,       I09S,      20,          1,         10,         10,2,20041231,       0339,   -42.5022,   114.9978,       4304,  1351.7,   3.3529,  34.3981,2,  34.3982,2,    189.8,2,   189.5,2,   50.57,2,   33.88,2,    2.22,2,-999.000,9,-999.000,9,-999.000,9,  -999.0,9,  -999.0,9,   3.2540
09AR20041223,       I09S,      20,          1,          9,          9,2,20041231,       0339,   -42.5022,   114.9978,       4304,  1548.7,   2.8941,  34.4926,2,  34.4932,2,    176.8,2,   175.5,2,   62.48,2,   35.34,2,    2.26,2,-999.000,9,-999.000,9,-999.000,9,  -999.0,9,  -999.0,9,   2.7836
09AR20041223,       I09S,      20,          1,          8,        108,2,20041231,       0339,   -42.5022,   114.9978,       4304,  1801.0,   2.6288,  34.6031,2,  34.6036,2,    170.8,2,   170.1,2,   72.82,2,   34.46,2,    2.28,2,-999.000,9,-999.000,9,-999.000,9,  -999.0,9,  -999.0,9,   2.5002
09AR20041223,       I09S,      20,          1,          7,        107,2,20041231,       0339,   -42.5022,   114.9978,       4304,  2100.3,   2.4277,  34.6929,2,  34.6929,2,    177.0,2,   178.2,2,   79.26,2,   33.19,2,    2.18,2,-999.000,9,-999.000,9,-999.000,9,  -999.0,9,  -999.0,9,   2.2758
09AR20041223,       I09S,      20,          1,          6,        117,2,20041231,       0339,   -42.5022,   114.9978,       4304,  2499.4,   2.1506,  34.7470,2,  34.7477,2,    192.6,2,   192.3,2,   81.50,2,   31.04,2,    2.04,2,-999.000,9,-999.000,9,-999.000,9,  -999.0,9,  -999.0,9,   1.9671
09AR20041223,       I09S,      20,          1,          5,        105,2,20041231,       0339,   -42.5022,   114.9978,       4304,  2901.6,   1.7218,  34.7471,2,  34.7478,2,    197.8,2,   197.7,2,   94.97,2,   31.33,2,    2.09,2,-999.000,9,-999.000,9,-999.000,9,  -999.0,9,  -999.0,9,   1.5092
09AR20041223,       I09S,      20,          1,          4,        104,2,20041231,       0339,   -42.5022,   114.9978,       4304,  3301.9,   1.2979,  34.7306,2,  34.7300,2,    202.8,2,   202.2,2,  109.22,2,   32.11,2,    2.13,2,-999.000,9,-999.000,9,-999.000,9,  -999.0,9,  -999.0,9,   1.0563
09AR20041223,       I09S,      20,          1,          3,        103,2,20041231,       0339,   -42.5022,   114.9978,       4304,  3700.2,   0.9421,  34.7130,2,  34.7121,2,    208.4,2,   208.4,2,  118.10,2,   32.50,2,    2.19,2,-999.000,9,-999.000,9,-999.000,9,  -999.0,9,  -999.0,9,   0.6698
09AR20041223,       I09S,      20,          1,          2,        102,2,20041231,       0339,   -42.5022,   114.9978,       4304,  4102.4,   0.8260,  34.7060,2,  34.7052,2,    210.8,2,   210.2,2,  122.11,2,   32.70,2,    2.20,2,-999.000,9,-999.000,9,-999.000,9,  -999.0,9,  -999.0,9,   0.5152
09AR20041223,       I09S,      20,          1,          1,        101,2,20041231,       0339,   -42.5022,   114.9978,       4304,  4401.1,   0.8282,  34.7046,2,  34.7045,2,    211.2,2,   210.7,2,  122.50,2,   32.60,2,    2.19,2,-999.000,9,-999.000,9,-999.000,9,  -999.0,9,  -999.0,9,   0.4850
09AR20041223,       I09S,      21,          1,         24,         24,2,20041231,       0957,   -42.9970,   115.0017,       4286,    15.3,  12.4129,  34.7243,2,  34.7231,2,    275.5,2,   274.1,2,    1.27,2,    7.52,2,    0.63,2,   3.113,2,   1.733,2,   0.481,4,  2075.5,6,  2295.8,6,  12.4109
09AR20041223,       I09S,      21,          1,         23,         23,2,20041231,       0957,   -42.9970,   115.0017,       4286,    15.1,  12.3887,  34.7228,2,-999.0000,9,    275.5,2,  -999.0,9, -999.00,9, -999.00,9, -999.00,9,-999.000,9,-999.000,9,-999.000,9,  -999.0,9,  -999.0,9,  12.3867
09AR20041223,       I09S,      21,          1,         22,         22,2,20041231,       0957,   -42.9970,   115.0017,       4286,    15.2,  12.3943,  34.7236,2,-999.0000,9,    275.5,2,  -999.0,9, -999.00,9, -999.00,9, -999.00,9,-999.000,9,-999.000,9,-999.000,9,  -999.0,9,  -999.0,9,  12.3923
09AR20041223,       I09S,      21,          1,         21,         21,2,20041231,       0957,   -42.9970,   115.0017,       4286,    30.4,  12.1327,  34.7147,2,  34.7145,2,    274.8,2,   275.4,2,    1.27,2,    7.71,2,    0.63,2,   3.116,2,   1.742,2,   0.477,4,  2076.0,2,  2297.4,2,  12.1287
09AR20041223,       I09S,      21,          1,         20,         20,2,20041231,       0957,   -42.9970,   115.0017,       4286,    80.4,  10.3326,  34.6862,2,  34.6870,2,    273.4,2,   275.7,2,    3.22,2,   10.05,2,    0.82,2,   3.331,2,   1.852,2,   0.530,4,  2096.6,2,  2294.6,2,  10.3232
09AR20041223,       I09S,      21,          1,         19,         19,2,20041231,       0957,   -42.9970,   115.0017,       4286,   140.3,   9.6909,  34.6979,2,  34.6982,2,    268.9,2,   269.0,2,    3.71,2,   12.10,2,    0.90,2,   3.401,2,   1.892,2,   0.401,3,  2107.1,2,  2295.0,2,   9.6750
09AR20041223,       I09S,      21,          1,         18,         18,2,20041231,       0957,   -42.9970,   115.0017,       4286,   200.0,   9.5733,  34.7085,2,  34.7080,2,    265.5,2,   266.2,2,    3.90,2,   12.40,2,    0.92,2,   3.390,2,   1.874,2,   0.322,2,  2110.3,2,  2294.8,2,   9.5508
09AR20041223,       I09S,      21,          1,         17,          6,2,20041231,       0957,   -42.9970,   115.0017,       4286,   250.5,   9.4739,  34.6987,2,  34.6988,2,    263.8,2,  -999.0,9,    4.10,2,   13.18,2,    0.94,2,   3.426,2,   1.875,2,   0.310,2,  2111.4,2,  2293.7,6,   9.4458
09AR20041223,       I09S,      21,          1,         16,         16,2,20041231,       0957,   -42.9970,   115.0017,       4286,   350.4,   9.3805,  34.6881,2,  34.6872,2,    262.8,2,   257.0,2,    4.49,2,   14.25,2,    1.00,2,   3.583,2,   1.868,2,   0.279,2,  2117.9,2,  2293.2,2,   9.3413
09AR20041223,       I09S,      21,          1,         15,         15,2,20041231,       0957,   -42.9970,   115.0017,       4286,   449.9,   9.3316,  34.6828,2,  34.6799,2,    262.4,2,   262.0,2,    4.49,2,   13.86,2,    1.00,2,   3.430,2,   1.872,2,   0.277,2,  2115.1,2,  2292.3,2,   9.2811
09AR20041223,       I09S,      21,          1,         14,         14,2,20041231,       0957,   -42.9970,   115.0017,       4286,   602.6,   8.9085,  34.6175,2,  34.6168,2,    248.8,2,   249.3,2,    5.56,2,   16.11,2,    1.14,2,   3.425,2,   1.819,2,   0.233,2,  2122.8,2,  2287.9,2,   8.8422
09AR20041223,       I09S,      21,          1,         13,         13,2,20041231,       0957,   -42.9970,   115.0017,       4286,   800.2,   7.4024,  34.4763,2,  34.4764,2,    213.4,2,   213.3,2,   13.47,2,   23.23,2,    1.55,2,   2.476,2,   1.236,2,   0.137,2,  2155.8,2,  2285.1,2,   7.3224
09AR20041223,       I09S,      21,          1,         12,         12,2,20041231,       0957,   -42.9970,   115.0017,       4286,  1050.1,   4.9176,  34.3399,2,  34.3406,2,    208.7,2,   211.0,2,   27.04,2,   28.90,2,    1.93,2,   2.050,2,   0.996,2,   0.125,2,  2184.7,2,  2291.5,2,   4.8307
09AR20041223,       I09S,      21,          1,         11,         11,2,20041231,       0957,   -42.9970,   115.0017,       4286,  1252.2,   3.6983,  34.3530,2,  34.3541,2,    199.9,2,   200.8,2,   41.59,2,   32.22,2,    2.14,2,   1.479,2,   0.705,2,   0.096,2,  2211.1,6,  2303.1,6,   3.6044
09AR20041223,       I09S,      21,          1,         10,         10,2,20041231,       0957,   -42.9970,   115.0017,       4286,  1499.3,   3.0220,  34.4601,2,  34.4607,2,    181.6,2,   179.1,2,   59.75,2,   34.07,2,    2.29,2,   0.651,2,   0.300,2,   0.033,2,  2238.1,2,  2321.6,6,   2.9142
09AR20041223,       I09S,      21,          1,          9,          9,2,20041231,       0957,   -42.9970,   115.0017,       4286,  1751.0,   2.6830,  34.5768,2,  34.5771,2,    173.8,2,   172.2,2,   71.26,2,   33.29,2,    2.28,2,   0.265,6,   0.130,6,   0.016,6,  2251.2,2,  2330.8,2,   2.5580
09AR20041223,       I09S,      21,          1,          8,        108,2,20041231,       0957,   -42.9970,   115.0017,       4286,  1901.6,   2.5770,  34.6328,2,  34.6321,2,    173.1,2,   174.0,2,   76.43,2,   32.99,2,    2.24,2,   0.153,2,   0.071,2,   0.013,2,  2252.5,2,  2342.5,6,   2.4404
09AR20041223,       I09S,      21,          1,          7,        107,2,20041231,       0957,   -42.9970,   115.0017,       4286,  2199.4,   2.3743,  34.7094,2,  34.7094,2,    180.6,2,   179.4,2,   81.50,2,   31.43,2,    2.15,2,   0.062,2,   0.032,2,   0.005,2,  2254.3,2,  2346.1,2,   2.2143
09AR20041223,       I09S,      21,          1,          6,        117,2,20041231,       0957,   -42.9970,   115.0017,       4286,  2500.9,   2.1336,  34.7449,2,  34.7443,2,    190.2,2,   190.4,2,   84.92,2,   30.35,2,    2.09,2,   0.055,2,   0.025,2,   0.013,2,  2247.8,2,  2349.4,2,   1.9503
09AR20041223,       I09S,      21,          1,          5,        105,2,20041231,       0957,   -42.9970,   115.0017,       4286,  2750.0,   1.9040,  34.7503,2,  34.7502,2,    195.5,2,   195.3,2,   91.46,2,   30.35,2,    2.08,2,   0.037,2,   0.019,2,   0.005,2,  2250.0,2,  2355.0,2,   1.7019
09AR20041223,       I09S,      21,          1,          4,        104,2,20041231,       0957,   -42.9970,   115.0017,       4286,  3097.5,   1.5299,  34.7408,2,  34.7404,2,    200.8,2,   200.4,2,  101.61,2,   30.94,2,    2.12,2,   0.034,2,   0.007,2,   0.000,2,  2255.1,2,  2357.5,2,   1.3027
09AR20041223,       I09S,      21,          1,          3,        103,2,20041231,       0957,   -42.9970,   115.0017,       4286,  3498.8,   1.1145,  34.7217,2,  34.7215,2,    206.3,2,   205.9,2,  114.30,2,   31.33,2,    2.18,2,   0.169,3,   0.042,2,   0.000,2,  2259.3,2,  2361.3,2,   0.8579
09AR20041223,       I09S,      21,          1,          2,        102,2,20041231,       0957,   -42.9970,   115.0017,       4286,  4000.2,   0.8857,  34.7091,2,  34.7092,2,    210.8,2,   210.3,2,  121.42,2,   31.62,2,    2.21,2,   0.181,6,   0.076,6,   0.016,6,  2261.6,2,  2362.5,2,   0.5839
09AR20041223,       I09S,      21,          1,          1,        101,2,20041231,       0957,   -42.9970,   115.0017,       4286,  4432.6,   0.8605,  34.7059,2,  34.7072,2,    211.6,2,   211.1,2,  125.04,2,   32.50,2,    2.23,2,   0.133,2,   0.056,2,   0.003,2,  2262.7,6,  2366.5,6,   0.5128