BOTTLE,20220105CCHSIOENA
EXPOCODE,SECT_ID,STNNBR,CASTNO,SAMPNO,BTLNBR,BTLNBR_FLAG_W,DATE,TIME,LATITUDE,LONGITUDE,DEPTH,CTDPRS,CTDTMP,CTDSAL,CTDSAL_FLAG_W,SALNTY,SALNTY_FLAG_W,CTDOXY,CTDOXY_FLAG_W,OXYGEN,OXYGEN_FLAG_W,SILCAT,SILCAT_FLAG_W,NITRAT,NITRAT_FLAG_W,PHSPHT,PHSPHT_FLAG_W,CFC-11,CFC-11_FLAG_W,CFC-12,CFC-12_FLAG_W,CFC113,CFC113_FLAG_W,TCARBN,TCARBN_FLAG_W,ALKALI,ALKALI_FLAG_W,THETA
,,,,,,,,,,,METERS,DBAR,ITS-90,PSS-78,,PSS-78,,UMOL/KG,,UMOL/KG,,UMOL/KG,,UMOL/KG,,UMOL/KG,,PMOL/KG,,PMOL/KG,,PMOL/KG,,UMOL/KG,,UMOL/KG,,DEG C
09AR20041223,       I09S,      50,          1,         24,         24,2,20050110,       2005,   -58.6028,   114.9947,       4547,    12.0,   2.3086,  33.8912,2,  33.8918,2,    332.2,2,   333.7,2,   20.22,2,   26.08,2,    1.55,2,-999.000,9,-999.000,9,-999.000,9,  -999.0,9,  -999.0,9,   2.3080
09AR20041223,       I09S,      50,          1,         23,         23,2,20050110,       2005,   -58.6028,   114.9947,       4547,    53.1,   1.5200,  33.9016,2,  33.8992,2,    334.5,2,   339.3,2,   20.51,2,   26.08,2,    1.59,2,-999.000,9,-999.000,9,-999.000,9,  -999.0,9,  -999.0,9,   1.5175
09AR20041223,       I09S,      50,          1,         22,         22,2,20050110,       2005,   -58.6028,   114.9947,       4547,    90.0,  -0.0234,  33.9366,2,  33.9375,2,    342.4,2,   344.6,2,   28.81,2,   27.44,2,    1.84,2,-999.000,9,-999.000,9,-999.000,9,  -999.0,9,  -999.0,9,  -0.0265
09AR20041223,       I09S,      50,          1,         21,         21,2,20050110,       2005,   -58.6028,   114.9947,       4547,   141.5,  -0.7648,  33.9835,2,  33.9833,2,    332.2,2,   337.0,2,   38.77,2,   28.71,2,    1.92,2,-999.000,9,-999.000,9,-999.000,9,  -999.0,9,  -999.0,9,  -0.7689
09AR20041223,       I09S,      50,          1,         20,         20,2,20050110,       2005,   -58.6028,   114.9947,       4547,   202.2,   1.4546,  34.3064,2,  34.3061,2,    229.1,2,   222.7,2,   58.78,2,   33.29,2,    2.24,2,-999.000,9,-999.000,9,-999.000,9,  -999.0,9,  -999.0,9,   1.4448
09AR20041223,       I09S,      50,          1,         19,         19,2,20050110,       2005,   -58.6028,   114.9947,       4547,   301.7,   2.1683,  34.4899,2,  34.4895,2,    175.5,2,   177.8,2,   72.04,2,   34.36,2,    2.32,2,-999.000,9,-999.000,9,-999.000,9,  -999.0,9,  -999.0,9,   2.1515
09AR20041223,       I09S,      50,          1,         18,         18,2,20050110,       2005,   -58.6028,   114.9947,       4547,   404.0,   2.2262,  34.5835,2,  34.5828,2,    170.5,2,   171.2,2,   77.31,2,   33.68,2,    2.26,2,-999.000,9,-999.000,9,-999.000,9,  -999.0,9,  -999.0,9,   2.2031
09AR20041223,       I09S,      50,          1,         17,          6,2,20050110,       2005,   -58.6028,   114.9947,       4547,   502.7,   2.2096,  34.6243,2,  34.6236,2,    172.1,2,   173.0,2,   79.16,2,   32.99,2,    2.30,3,-999.000,9,-999.000,9,-999.000,9,  -999.0,9,  -999.0,9,   2.1805
09AR20041223,       I09S,      50,          1,         16,         16,2,20050110,       2005,   -58.6028,   114.9947,       4547,   600.9,   2.1490,  34.6592,2,  34.6595,2,    175.3,2,   175.9,2,   81.02,2,   32.60,2,    2.19,2,-999.000,9,-999.000,9,-999.000,9,  -999.0,9,  -999.0,9,   2.1140
09AR20041223,       I09S,      50,          1,         15,         15,2,20050110,       2005,   -58.6028,   114.9947,       4547,   752.9,   2.0808,  34.7006,2,  34.6998,2,    180.6,2,   181.7,2,   83.94,2,   32.41,3,    2.14,2,-999.000,9,-999.000,9,-999.000,9,  -999.0,9,  -999.0,9,   2.0364
09AR20041223,       I09S,      50,          1,         14,         14,2,20050110,       2005,   -58.6028,   114.9947,       4547,   900.9,   2.0027,  34.7233,2,  34.7235,2,    186.1,2,   186.8,2,   85.31,2,   30.94,2,    2.08,2,-999.000,9,-999.000,9,-999.000,9,  -999.0,9,  -999.0,9,   1.9490
09AR20041223,       I09S,      50,          1,         13,         13,2,20050110,       2005,   -58.6028,   114.9947,       4547,  1051.7,   1.9029,  34.7379,2,  34.7382,2,    190.6,2,   191.3,2,   87.94,2,   30.26,2,    2.05,2,-999.000,9,-999.000,9,-999.000,9,  -999.0,9,  -999.0,9,   1.8397
09AR20041223,       I09S,      50,          1,         12,         12,2,20050110,       2005,   -58.6028,   114.9947,       4547,  1151.9,   1.8283,  34.7423,2,  34.7431,2,    193.5,2,   193.5,2,   93.60,3,   29.96,2,    2.04,2,-999.000,9,-999.000,9,-999.000,9,  -999.0,9,  -999.0,9,   1.7588
09AR20041223,       I09S,      50,          1,         11,         11,2,20050110,       2005,   -58.6028,   114.9947,       4547,  1352.0,   1.6684,  34.7458,2,  34.7457,2,    197.2,2,   197.1,2,   93.80,2,   30.16,2,    2.04,2,-999.000,9,-999.000,9,-999.000,9,  -999.0,9,  -999.0,9,   1.5863
09AR20041223,       I09S,      50,          1,         10,         10,2,20050110,       2005,   -58.6028,   114.9947,       4547,  1600.6,   1.4410,  34.7405,2,  34.7412,2,    200.6,2,   200.6,2,  100.53,2,   30.35,2,    2.06,2,-999.000,9,-999.000,9,-999.000,9,  -999.0,9,  -999.0,9,   1.3435
09AR20041223,       I09S,      50,          1,          9,          9,2,20050110,       2005,   -58.6028,   114.9947,       4547,  1898.9,   1.1958,  34.7296,2,  34.7302,2,    203.8,2,   203.7,2,  107.66,2,   30.65,2,    2.10,2,-999.000,9,-999.000,9,-999.000,9,  -999.0,9,  -999.0,9,   1.0791
09AR20041223,       I09S,      50,          1,          8,        208,2,20050110,       2005,   -58.6028,   114.9947,       4547,  2298.9,   0.8712,  34.7129,2,  34.7133,2,    207.2,2,   207.3,2,  117.32,2,   31.04,2,    2.14,2,-999.000,9,-999.000,9,-999.000,9,  -999.0,9,  -999.0,9,   0.7283
09AR20041223,       I09S,      50,          1,          7,        107,2,20050110,       2005,   -58.6028,   114.9947,       4547,  2699.9,   0.5630,  34.6974,2,  34.6970,2,    212.2,2,   212.9,2,  125.33,2,   31.72,2,    2.19,2,-999.000,9,-999.000,9,-999.000,9,  -999.0,9,  -999.0,9,   0.3929
09AR20041223,       I09S,      50,          1,          6,        117,2,20050110,       2005,   -58.6028,   114.9947,       4547,  3102.9,   0.3402,  34.6876,2,  34.6874,2,    218.0,2,   217.9,2,  129.53,2,   31.72,2,    2.20,2,-999.000,9,-999.000,9,-999.000,9,  -999.0,9,  -999.0,9,   0.1400
09AR20041223,       I09S,      50,          1,          5,        105,2,20050110,       2005,   -58.6028,   114.9947,       4547,  3502.1,   0.2029,  34.6820,2,  34.6817,2,    223.0,2,   222.9,2,  132.94,2,   31.72,2,    2.21,2,-999.000,9,-999.000,9,-999.000,9,  -999.0,9,  -999.0,9,  -0.0305
09AR20041223,       I09S,      50,          1,          4,        104,2,20050110,       2005,   -58.6028,   114.9947,       4547,  3902.4,   0.0967,  34.6779,2,  34.6772,2,    227.6,2,   227.0,2,  134.99,2,   31.63,2,    2.20,2,-999.000,9,-999.000,9,-999.000,9,  -999.0,9,  -999.0,9,  -0.1725
09AR20041223,       I09S,      50,          1,          3,        103,2,20050110,       2005,   -58.6028,   114.9947,       4547,  4201.5,   0.0238,  34.6737,2,  34.6729,2,    231.3,2,   231.1,2,  134.80,2,   31.43,3,    2.20,2,-999.000,9,-999.000,9,-999.000,9,  -999.0,9,  -999.0,9,  -0.2735
09AR20041223,       I09S,      50,          1,          2,        102,2,20050110,       2005,   -58.6028,   114.9947,       4547,  4450.4,  -0.0285,  34.6692,2,  34.6686,2,    234.3,2,   234.6,2,  135.09,2,   32.11,3,    2.21,2,-999.000,9,-999.000,9,-999.000,9,  -999.0,9,  -999.0,9,  -0.3502
09AR20041223,       I09S,      50,          1,          1,        101,2,20050110,       2005,   -58.6028,   114.9947,       4547,  4608.1,  -0.1007,  34.6614,2,  34.6607,2,    237.7,2,   239.0,2,  135.48,2,   31.82,2,    2.20,2,-999.000,9,-999.000,9,-999.000,9,  -999.0,9,  -999.0,9,  -0.4369
09AR20041223,       I09S,      51,          1,         24,         24,2,20050111,       0519,   -59.1985,   114.9982,       4525,    11.1,   2.9725,  33.8871,2,-999.0000,9,   -999.0,9,  -999.0,9, -999.00,9, -999.00,9, -999.00,9,-999.000,9,-999.000,9,-999.000,9,  -999.0,9,  -999.0,9,   2.9718
09AR20041223,       I09S,      51,          1,         23,         23,2,20050111,       0519,   -59.1985,   114.9982,       4525,    51.5,   1.0224,  33.9206,2,-999.0000,9,   -999.0,9,  -999.0,9, -999.00,9, -999.00,9, -999.00,9,-999.000,9,-999.000,9,-999.000,9,  -999.0,9,  -999.0,9,   1.0202
09AR20041223,       I09S,      51,          1,         22,         22,2,20050111,       0519,   -59.1985,   114.9982,       4525,    80.1,   0.1059,  33.9390,2,-999.0000,9,   -999.0,9,  -999.0,9, -999.00,9, -999.00,9, -999.00,9,-999.000,9,-999.000,9,-999.000,9,  -999.0,9,  -999.0,9,   0.1031
09AR20041223,       I09S,      51,          1,         21,         21,2,20050111,       0519,   -59.1985,   114.9982,       4525,   130.2,  -0.4495,  33.9695,2,  33.9661,2,    338.8,2,   340.3,2,   33.40,2,   28.42,2,    1.94,2,   5.624,2,   2.908,2,   0.489,2,  2171.2,6,  2289.3,2,  -0.4536
09AR20041223,       I09S,      51,          1,         20,         20,4,20050111,       0519,   -59.1985,   114.9982,       4525,   173.2,   0.3184,  34.1126,2,  33.9690,4,    275.0,2,  -999.0,9, -999.00,9, -999.00,9, -999.00,9,   5.609,4,   2.912,4,   0.524,4,  2172.3,2,  2289.6,6,   0.3117
09AR20041223,       I09S,      51,          1,         19,         19,2,20050111,       0519,   -59.1985,   114.9982,       4525,   212.5,   1.7954,  34.3434,2,  34.3443,2,    206.2,2,   206.7,2,   60.92,2,   34.07,2,    2.28,2,   2.224,6,   1.097,6,   0.177,6,  2231.2,2,  2311.8,2,   1.7845
09AR20041223,       I09S,      51,          1,         18,         18,2,20050111,       0519,   -59.1985,   114.9982,       4525,   250.4,   2.0351,  34.4216,2,  34.4221,2,    191.7,2,   189.1,2,   66.97,2,   34.56,2,    2.31,2,   1.562,2,   0.743,2,   0.126,2,  2242.1,2,  2316.1,2,   2.0216
09AR20041223,       I09S,      51,          1,         17,          6,2,20050111,       0519,   -59.1985,   114.9982,       4525,   301.4,   2.2045,  34.4815,2,  34.4824,2,    178.7,2,   177.5,2,   72.34,2,   34.66,2,    2.32,2,   1.120,2,   0.522,2,   0.099,2,  2249.8,2,  2323.6,2,   2.1877
09AR20041223,       I09S,      51,          1,         16,         16,2,20050111,       0519,   -59.1985,   114.9982,       4525,   401.3,   2.2223,  34.5708,2,  34.5720,2,    172.9,2,   172.3,2,   76.63,2,   33.97,2,    2.28,2,   0.650,2,   0.305,2,   0.060,2,  2254.0,2,  2330.0,2,   2.1994
09AR20041223,       I09S,      51,          1,         15,         15,2,20050111,       0519,   -59.1985,   114.9982,       4525,   501.8,   2.2129,  34.6289,2,  34.6287,2,    173.4,2,   174.3,2,   79.26,2,   32.99,2,    2.23,2,   0.430,2,   0.196,2,   0.039,2,  2252.0,2,  2336.0,2,   2.1839
09AR20041223,       I09S,      51,          1,         14,         14,2,20050111,       0519,   -59.1985,   114.9982,       4525,   699.6,   2.1338,  34.6903,2,  34.6907,2,    179.4,2,   181.0,2,   82.09,2,   31.72,2,    2.13,2,   0.266,2,   0.124,2,   0.032,2,  2249.6,2,  2339.9,2,   2.0925
09AR20041223,       I09S,      51,          1,         13,         13,2,20050111,       0519,   -59.1985,   114.9982,       4525,  1001.7,   1.9564,  34.7344,2,  34.7351,2,    189.2,2,   190.5,2,   86.38,2,   30.45,2,    2.05,2,   0.166,2,   0.074,2,   0.018,2,  2245.8,2,  2357.5,3,   1.8962
09AR20041223,       I09S,      51,          1,         12,         12,2,20050111,       0519,   -59.1985,   114.9982,       4525,  1301.0,   1.7302,  34.7475,2,  34.7477,2,    195.8,2,   196.9,2,   92.04,2,   29.87,2,    2.03,2,   0.115,2,   0.057,2,   0.016,2,  2247.6,6,  2350.4,6,   1.6511
09AR20041223,       I09S,      51,          1,         11,         11,2,20050111,       0519,   -59.1985,   114.9982,       4525,  1601.3,   1.4695,  34.7421,2,  34.7425,2,    200.1,2,   200.3,2,   99.85,2,   30.26,2,    2.04,2,   0.109,2,   0.044,2,   0.012,2,  2249.7,2,  2363.4,3,   1.3716
09AR20041223,       I09S,      51,          1,         10,         10,2,20050111,       0519,   -59.1985,   114.9982,       4525,  1902.8,   1.2031,  34.7307,2,  34.7306,2,    203.1,2,   203.3,2,  108.15,2,   30.75,2,    2.09,2,   0.113,2,   0.052,2,   0.004,2,  2253.2,2,  2356.2,2,   1.0860
09AR20041223,       I09S,      51,          1,          9,          9,4,20050111,       0519,   -59.1985,   114.9982,       4525,  2202.7,   0.9753,  34.7188,2,  34.7253,4,    205.7,2,  -999.0,9, -999.00,9, -999.00,9, -999.00,9,   0.114,4,   0.049,4,   0.012,4,  2254.9,2,  2358.3,2,   0.8384
09AR20041223,       I09S,      51,          1,          8,        208,4,20050111,       0519,   -59.1985,   114.9982,       4525,  2501.2,   0.7301,  34.7053,2,  34.7251,4,    208.4,2,  -999.0,9, -999.00,9, -999.00,9, -999.00,9,   0.110,4,   0.055,4,   0.017,4,  2256.1,2,  2357.3,2,   0.5733
09AR20041223,       I09S,      51,          1,          7,        107,4,20050111,       0519,   -59.1985,   114.9982,       4525,  2799.7,   0.5151,  34.6949,2,  34.7257,4,    212.1,2,  -999.0,9, -999.00,9, -999.00,9, -999.00,9,   0.108,4,   0.052,4,   0.010,4,  2254.4,2,  2357.9,2,   0.3375
09AR20041223,       I09S,      51,          1,          6,        117,4,20050111,       0519,   -59.1985,   114.9982,       4525,  3201.8,   0.3202,  34.6872,2,  34.7249,4,    217.6,2,  -999.0,9, -999.00,9, -999.00,9, -999.00,9,   0.107,4,   0.049,4,   0.016,4,  2253.7,2,  2357.8,2,   0.1116
09AR20041223,       I09S,      51,          1,          5,        105,2,20050111,       0519,   -59.1985,   114.9982,       4525,  3602.0,   0.1976,  34.6821,2,  34.6819,2,    222.6,2,   223.3,2,  133.92,2,   31.92,2,    2.20,2,   0.490,2,   0.223,2,   0.035,2,  2255.1,2,  2356.6,2,  -0.0452
09AR20041223,       I09S,      51,          1,          4,        104,2,20050111,       0519,   -59.1985,   114.9982,       4525,  4000.5,   0.0963,  34.6775,2,  34.6770,2,    227.8,2,   228.0,2,  135.29,2,   32.02,2,    2.20,2,   0.696,2,   0.321,2,   0.039,2,  2256.1,2,  2356.2,2,  -0.1827
09AR20041223,       I09S,      51,          1,          3,        103,2,20050111,       0519,   -59.1985,   114.9982,       4525,  4253.0,   0.0393,  34.6746,2,  34.6744,2,    231.1,2,   230.7,2,  135.78,2,   31.92,2,    2.19,2,   0.887,2,   0.400,2,   0.052,2,  2256.9,2,  2357.0,2,  -0.2638
09AR20041223,       I09S,      51,          1,          2,        102,2,20050111,       0519,   -59.1985,   114.9982,       4525,  4499.7,  -0.0353,  34.6686,2,  34.6697,2,    233.9,2,   234.6,2,  137.14,2,   31.92,2,    2.19,2,   1.257,6,   0.582,6,   0.099,6,  2254.8,2,  2355.6,2,  -0.3620
09AR20041223,       I09S,      51,          1,          1,        101,2,20050111,       0519,   -59.1985,   114.9982,       4525,  4589.5,  -0.0793,  34.6634,2,  34.6621,2,    236.2,2,   237.0,2,  141.05,2,   31.82,2,    2.20,2,   1.524,2,   0.724,2,   0.152,2,  2254.5,6,  2354.2,6,  -0.4142