BOTTLE,20220105CCHSIOENA
EXPOCODE,SECT_ID,STNNBR,CASTNO,SAMPNO,BTLNBR,BTLNBR_FLAG_W,DATE,TIME,LATITUDE,LONGITUDE,DEPTH,CTDPRS,CTDTMP,CTDSAL,CTDSAL_FLAG_W,SALNTY,SALNTY_FLAG_W,CTDOXY,CTDOXY_FLAG_W,OXYGEN,OXYGEN_FLAG_W,SILCAT,SILCAT_FLAG_W,NITRAT,NITRAT_FLAG_W,PHSPHT,PHSPHT_FLAG_W,CFC-11,CFC-11_FLAG_W,CFC-12,CFC-12_FLAG_W,CFC113,CFC113_FLAG_W,TCARBN,TCARBN_FLAG_W,ALKALI,ALKALI_FLAG_W,THETA
,,,,,,,,,,,METERS,DBAR,ITS-90,PSS-78,,PSS-78,,UMOL/KG,,UMOL/KG,,UMOL/KG,,UMOL/KG,,UMOL/KG,,PMOL/KG,,PMOL/KG,,PMOL/KG,,UMOL/KG,,UMOL/KG,,DEG C
09AR20041223,       I09S,      66,          1,         24,         24,2,20050115,       0233,   -65.1297,   112.3758,       1800,     5.4,  -0.4846,  33.7760,2,  33.7753,2,    346.6,2,   344.9,2,   64.95,2,   27.45,2,    1.91,2,-999.000,9,-999.000,9,-999.000,9,  -999.0,9,  -999.0,9,  -0.4848
09AR20041223,       I09S,      66,          1,         23,         23,2,20050115,       0233,   -65.1297,   112.3758,       1800,    31.0,  -0.7192,  33.7795,2,  33.7950,3,    345.3,2,   345.6,2,   65.05,2,   27.64,2,    1.91,2,-999.000,9,-999.000,9,-999.000,9,  -999.0,9,  -999.0,9,  -0.7201
09AR20041223,       I09S,      66,          1,         22,         22,2,20050115,       0233,   -65.1297,   112.3758,       1800,    51.4,  -1.2095,  33.9200,2,  33.9229,3,    327.6,2,   336.3,2,   65.14,2,   27.93,2,    1.95,2,-999.000,9,-999.000,9,-999.000,9,  -999.0,9,  -999.0,9,  -1.2107
09AR20041223,       I09S,      66,          1,         21,         21,2,20050115,       0233,   -65.1297,   112.3758,       1800,    81.0,  -1.6919,  34.2727,2,  34.2959,3,    304.5,2,   302.9,2,   67.76,2,   30.37,2,    2.09,2,-999.000,9,-999.000,9,-999.000,9,  -999.0,9,  -999.0,9,  -1.6936
09AR20041223,       I09S,      66,          1,         20,         20,2,20050115,       0233,   -65.1297,   112.3758,       1800,   101.1,  -1.6469,  34.2987,2,  34.3047,3,    298.6,2,   300.8,2,   67.76,2,   30.46,2,    2.09,2,-999.000,9,-999.000,9,-999.000,9,  -999.0,9,  -999.0,9,  -1.6490
09AR20041223,       I09S,      66,          1,         19,         19,2,20050115,       0233,   -65.1297,   112.3758,       1800,   125.8,  -1.3373,  34.3606,2,  34.3699,3,    294.3,2,   285.3,2,   70.29,2,   30.85,2,    2.14,2,-999.000,9,-999.000,9,-999.000,9,  -999.0,9,  -999.0,9,  -1.3404
09AR20041223,       I09S,      66,          1,         18,         18,2,20050115,       0233,   -65.1297,   112.3758,       1800,   150.4,  -0.7678,  34.4395,2,  34.4462,3,    278.3,2,   266.7,2,   74.49,2,   31.14,2,    2.14,2,-999.000,9,-999.000,9,-999.000,9,  -999.0,9,  -999.0,9,  -0.7722
09AR20041223,       I09S,      66,          1,         17,          6,2,20050115,       0233,   -65.1297,   112.3758,       1800,   200.3,   0.2311,  34.5700,2,  34.5870,3,    240.9,2,   228.8,2,   83.56,2,   31.53,2,    2.21,2,-999.000,9,-999.000,9,-999.000,9,  -999.0,9,  -999.0,9,   0.2233
09AR20041223,       I09S,      66,          1,         16,         16,2,20050115,       0233,   -65.1297,   112.3758,       1800,   251.1,   0.7926,  34.6475,2,  34.6470,2,    212.6,2,   214.8,2,   88.53,2,   31.43,2,    2.21,2,-999.000,9,-999.000,9,-999.000,9,  -999.0,9,  -999.0,9,   0.7815
09AR20041223,       I09S,      66,          1,         15,         15,2,20050115,       0233,   -65.1297,   112.3758,       1800,   301.6,   1.1206,  34.6920,2,  34.6905,2,    205.9,2,   203.3,2,   92.82,2,   31.33,2,    2.19,2,-999.000,9,-999.000,9,-999.000,9,  -999.0,9,  -999.0,9,   1.1063
09AR20041223,       I09S,      66,          1,         14,         14,2,20050115,       0233,   -65.1297,   112.3758,       1800,   400.9,   1.1742,  34.7116,2,  34.7115,2,    202.9,2,   203.2,2,   96.53,2,   31.23,2,    2.20,2,-999.000,9,-999.000,9,-999.000,9,  -999.0,9,  -999.0,9,   1.1547
09AR20041223,       I09S,      66,          1,         13,         13,2,20050115,       0233,   -65.1297,   112.3758,       1800,   501.3,   1.0824,  34.7142,2,  34.7145,2,    203.6,2,   204.8,2,  100.05,2,   31.14,2,    2.21,2,-999.000,9,-999.000,9,-999.000,9,  -999.0,9,  -999.0,9,   1.0579
09AR20041223,       I09S,      66,          1,         12,         12,2,20050115,       0233,   -65.1297,   112.3758,       1800,   600.9,   0.8396,  34.6992,2,  34.6976,2,    209.1,2,   210.4,2,  101.22,2,   31.43,2,    2.19,2,-999.000,9,-999.000,9,-999.000,9,  -999.0,9,  -999.0,9,   0.8110
09AR20041223,       I09S,      66,          1,         11,         11,2,20050115,       0233,   -65.1297,   112.3758,       1800,   701.3,   0.6229,  34.6867,2,  34.6904,2,    215.2,2,   213.9,2,  102.10,2,   31.53,2,    2.21,2,-999.000,9,-999.000,9,-999.000,9,  -999.0,9,  -999.0,9,   0.5901
09AR20041223,       I09S,      66,          1,         10,         10,2,20050115,       0233,   -65.1297,   112.3758,       1800,   801.5,   0.5276,  34.6841,2,  34.6838,2,    217.1,2,   216.8,2,  107.27,2,   31.63,2,    2.21,2,-999.000,9,-999.000,9,-999.000,9,  -999.0,9,  -999.0,9,   0.4901
09AR20041223,       I09S,      66,          1,          9,          9,2,20050115,       0233,   -65.1297,   112.3758,       1800,   901.1,   0.4405,  34.6842,2,  34.6830,2,    216.8,2,   217.8,2,  111.86,2,   31.82,2,    2.23,2,-999.000,9,-999.000,9,-999.000,9,  -999.0,9,  -999.0,9,   0.3982
09AR20041223,       I09S,      66,          1,          8,        208,2,20050115,       0233,   -65.1297,   112.3758,       1800,  1001.2,   0.3347,  34.6784,2,  34.6768,2,    219.6,2,   219.9,2,  112.93,2,   31.92,2,    2.24,2,-999.000,9,-999.000,9,-999.000,9,  -999.0,9,  -999.0,9,   0.2877
09AR20041223,       I09S,      66,          1,          7,        107,2,20050115,       0233,   -65.1297,   112.3758,       1800,  1101.4,   0.2851,  34.6778,2,  34.6756,2,    220.4,2,   220.0,2,  114.98,2,   32.02,2,    2.25,2,-999.000,9,-999.000,9,-999.000,9,  -999.0,9,  -999.0,9,   0.2329
09AR20041223,       I09S,      66,          1,          6,        117,2,20050115,       0233,   -65.1297,   112.3758,       1800,  1200.5,   0.2159,  34.6774,2,  34.6782,2,    221.4,2,   220.8,2,  117.13,2,   32.02,2,    2.25,2,-999.000,9,-999.000,9,-999.000,9,  -999.0,9,  -999.0,9,   0.1586
09AR20041223,       I09S,      66,          1,          5,        105,2,20050115,       0233,   -65.1297,   112.3758,       1800,  1350.8,   0.1038,  34.6722,2,  34.6739,2,    223.5,2,   225.0,2,  117.23,2,   32.02,2,    2.25,2,-999.000,9,-999.000,9,-999.000,9,  -999.0,9,  -999.0,9,   0.0388
09AR20041223,       I09S,      66,          1,          4,        104,2,20050115,       0233,   -65.1297,   112.3758,       1800,  1500.8,  -0.0078,  34.6681,2,  34.6696,2,    229.0,2,   228.9,2,  116.45,2,   32.11,2,    2.25,2,-999.000,9,-999.000,9,-999.000,9,  -999.0,9,  -999.0,9,  -0.0806
09AR20041223,       I09S,      66,          1,          3,        103,2,20050115,       0233,   -65.1297,   112.3758,       1800,  1651.5,  -0.1241,  34.6659,2,  34.6671,2,    232.2,2,   232.2,2,  116.25,2,   32.02,2,    2.26,2,-999.000,9,-999.000,9,-999.000,9,  -999.0,9,  -999.0,9,  -0.2049
09AR20041223,       I09S,      66,          1,          2,        102,2,20050115,       0233,   -65.1297,   112.3758,       1800,  1749.6,  -0.1744,  34.6649,2,  34.6656,2,    234.6,2,   234.1,2,  116.35,2,   31.92,2,    2.25,2,-999.000,9,-999.000,9,-999.000,9,  -999.0,9,  -999.0,9,  -0.2607
09AR20041223,       I09S,      66,          1,          1,        101,2,20050115,       0233,   -65.1297,   112.3758,       1800,  1800.1,  -0.1847,  34.6649,2,  34.6634,2,    235.9,2,   236.2,2,  116.25,2,   31.92,2,    2.26,2,-999.000,9,-999.000,9,-999.000,9,  -999.0,9,  -999.0,9,  -0.2742
09AR20041223,       I09S,      67,          1,         24,         24,2,20050115,       0541,   -65.2232,   112.4578,       1405,     6.9,  -0.3364,  33.9018,2,-999.0000,9,    351.5,2,  -999.0,9, -999.00,9, -999.00,9, -999.00,9,-999.000,9,-999.000,9,-999.000,9,  -999.0,9,  -999.0,9,  -0.3366
09AR20041223,       I09S,      67,          1,         23,         23,2,20050115,       0541,   -65.2232,   112.4578,       1405,    10.9,  -0.3609,  33.9061,2,-999.0000,9,    351.6,2,  -999.0,9, -999.00,9, -999.00,9, -999.00,9,-999.000,9,-999.000,9,-999.000,9,  -999.0,9,  -999.0,9,  -0.3612
09AR20041223,       I09S,      67,          1,         22,         22,2,20050115,       0541,   -65.2232,   112.4578,       1405,    10.9,  -0.3575,  33.9060,2,-999.0000,9,    351.6,2,  -999.0,9, -999.00,9, -999.00,9, -999.00,9,-999.000,9,-999.000,9,-999.000,9,  -999.0,9,  -999.0,9,  -0.3578
09AR20041223,       I09S,      67,          1,         21,         21,2,20050115,       0541,   -65.2232,   112.4578,       1405,    10.9,  -0.3571,  33.9063,2,-999.0000,9,    351.6,2,  -999.0,9, -999.00,9, -999.00,9, -999.00,9,-999.000,9,-999.000,9,-999.000,9,  -999.0,9,  -999.0,9,  -0.3574
09AR20041223,       I09S,      67,          1,         20,         20,2,20050115,       0541,   -65.2232,   112.4578,       1405,    10.8,  -0.3574,  33.9053,2,  33.9098,2,    351.6,2,   350.6,2,   63.58,2,   27.74,2,    1.85,2,   5.369,2,   2.795,2,   0.486,2,  2170.9,6,  2292.7,6,  -0.3577
09AR20041223,       I09S,      67,          1,         19,         19,2,20050115,       0541,   -65.2232,   112.4578,       1405,    30.8,  -0.5395,  33.9461,2,  33.9694,2,    351.7,2,   350.0,2,   62.70,2,   27.54,2,    1.87,2,   5.323,2,   2.775,2,   0.492,2,  2172.9,2,  2299.8,2,  -0.5404
09AR20041223,       I09S,      67,          1,         18,         18,2,20050115,       0541,   -65.2232,   112.4578,       1405,    50.8,  -0.6553,  34.0410,2,  34.0569,2,    343.9,2,   348.8,2,   62.01,2,   27.64,2,    1.87,2,   5.250,2,   2.726,2,   0.476,2,  2179.3,2,  2303.1,6,  -0.6568
09AR20041223,       I09S,      67,          1,         17,          6,2,20050115,       0541,   -65.2232,   112.4578,       1405,   100.9,  -1.7030,  34.2275,2,  34.2279,2,    319.3,2,   320.1,2,   65.22,2,   29.78,2,    2.03,2,   4.698,2,   2.424,2,   0.393,2,  2203.6,2,  2311.5,2,  -1.7051
09AR20041223,       I09S,      67,          1,         16,         16,2,20050115,       0541,   -65.2232,   112.4578,       1405,   150.8,  -1.7951,  34.2832,2,  34.2869,2,    313.7,2,   312.1,2,   65.61,2,   30.56,2,    2.08,2,   4.602,2,   2.391,2,   0.400,2,  2211.9,2,  2315.4,2,  -1.7982
09AR20041223,       I09S,      67,          1,         15,         15,2,20050115,       0541,   -65.2232,   112.4578,       1405,   201.0,  -0.9341,  34.4170,2,  34.4187,2,    288.3,2,   274.5,2,   72.24,2,   31.05,2,    2.14,2,   3.607,2,   1.841,2,   0.294,2,  2225.2,2,  2326.1,2,  -0.9398
09AR20041223,       I09S,      67,          1,         14,         14,2,20050115,       0541,   -65.2232,   112.4578,       1405,   251.1,  -0.0349,  34.5348,2,  34.5295,2,    250.9,2,   244.8,2,   79.36,2,   31.53,2,    2.18,2,   2.723,2,   1.305,2,   0.219,2,  2234.4,2,  2329.9,2,  -0.0442
09AR20041223,       I09S,      67,          1,         13,         13,2,20050115,       0541,   -65.2232,   112.4578,       1405,   300.7,   0.5269,  34.6064,2,  34.6076,2,    221.7,2,   223.6,2,   84.53,2,   31.63,2,    2.21,2,-999.000,5,-999.000,5,-999.000,5,  2242.8,2,  2335.5,2,   0.5142
09AR20041223,       I09S,      67,          1,         12,         12,2,20050115,       0541,   -65.2232,   112.4578,       1405,   350.6,   0.9010,  34.6628,2,  34.6619,2,    214.8,2,   212.5,2,   88.92,2,   31.63,2,    2.20,2,-999.000,5,-999.000,5,-999.000,5,  2248.0,2,  2349.3,3,   0.8849
09AR20041223,       I09S,      67,          1,         11,         11,2,20050115,       0541,   -65.2232,   112.4578,       1405,   400.8,   0.8259,  34.6654,2,  34.6652,2,    215.1,2,   215.0,2,   90.39,2,   31.33,2,    2.19,2,   1.220,2,   0.604,2,   0.102,2,  2246.6,2,  2344.4,2,   0.8076
09AR20041223,       I09S,      67,          1,         10,         10,2,20050115,       0541,   -65.2232,   112.4578,       1405,   500.8,   0.6494,  34.6708,2,  34.6699,2,    218.3,2,   219.4,2,   94.78,2,   31.23,2,    2.20,2,   1.188,2,   0.596,2,   0.086,2,  2248.8,6,  2345.4,6,   0.6268
09AR20041223,       I09S,      67,          1,          9,          9,2,20050115,       0541,   -65.2232,   112.4578,       1405,   601.5,   0.5389,  34.6745,2,  34.6699,4,    221.6,2,   220.6,2,   97.51,2,   31.23,2,    2.20,2,   1.166,2,   0.580,6,   0.103,6,  2248.1,2,  2355.9,3,   0.5118
09AR20041223,       I09S,      67,          1,          8,        208,2,20050115,       0541,   -65.2232,   112.4578,       1405,   696.8,   0.4830,  34.6785,2,  34.6780,2,    220.2,2,   219.5,2,  104.93,2,   31.63,2,    2.20,2,   0.910,2,   0.453,2,   0.084,2,  2250.9,2,  2351.0,6,   0.4513
09AR20041223,       I09S,      67,          1,          7,        107,2,20050115,       0541,   -65.2232,   112.4578,       1405,   800.8,   0.3621,  34.6738,2,  34.6729,2,    219.4,2,   222.9,2,  107.27,2,   31.43,2,    2.21,2,   0.936,2,   0.465,2,   0.110,2,  2252.8,2,  2351.5,2,   0.3257
09AR20041223,       I09S,      67,          1,          6,        117,2,20050115,       0541,   -65.2232,   112.4578,       1405,   901.2,   0.3009,  34.6740,2,  34.6746,2,    222.4,2,   221.6,2,  110.10,2,   31.82,2,    2.23,2,   0.878,2,   0.431,2,   0.077,2,  2253.1,2,  2353.8,6,   0.2596
09AR20041223,       I09S,      67,          1,          5,        105,2,20050115,       0541,   -65.2232,   112.4578,       1405,  1001.5,   0.2476,  34.6728,2,  34.6729,2,    222.5,2,   221.8,2,  112.06,2,   31.82,2,    2.24,2,   0.869,2,   0.439,2,   0.081,2,  2254.1,2,  2353.8,2,   0.2013
09AR20041223,       I09S,      67,          1,          4,        104,4,20050115,       0541,   -65.2232,   112.4578,       1405,  1100.8,   0.1324,  34.6704,2,  34.6725,4,    224.1,2,  -999.0,9, -999.00,9, -999.00,9, -999.00,9,   0.877,2,   0.434,2,   0.093,2,  2254.7,2,  2351.0,6,   0.0816
09AR20041223,       I09S,      67,          1,          3,        103,4,20050115,       0541,   -65.2232,   112.4578,       1405,  1200.3,   0.0493,  34.6690,2,  34.6729,4,    225.8,2,  -999.0,9, -999.00,9, -999.00,9, -999.00,9,   0.876,2,   0.436,2,   0.073,2,  2255.3,2,  2355.0,2,  -0.0064
09AR20041223,       I09S,      67,          1,          2,        102,4,20050115,       0541,   -65.2232,   112.4578,       1405,  1291.9,  -0.1300,  34.6658,2,  34.6727,4,    230.5,2,  -999.0,9, -999.00,9, -999.00,9, -999.00,9,   0.872,6,   0.428,6,   0.060,6,  2253.2,2,  2349.6,2,  -0.1891
09AR20041223,       I09S,      67,          1,          1,        101,2,20050115,       0541,   -65.2232,   112.4578,       1405,  1327.0,  -0.1229,  34.6656,2,  34.6654,2,    230.5,2,   230.9,2,  115.77,2,   31.92,2,    2.25,2,   1.255,2,   0.614,2,   0.095,2,  2254.3,6,  2350.7,6,  -0.1841