BOTTLE,20220105CCHSIOENA
EXPOCODE,SECT_ID,STNNBR,CASTNO,SAMPNO,BTLNBR,BTLNBR_FLAG_W,DATE,TIME,LATITUDE,LONGITUDE,DEPTH,CTDPRS,CTDTMP,CTDSAL,CTDSAL_FLAG_W,SALNTY,SALNTY_FLAG_W,CTDOXY,CTDOXY_FLAG_W,OXYGEN,OXYGEN_FLAG_W,SILCAT,SILCAT_FLAG_W,NITRAT,NITRAT_FLAG_W,PHSPHT,PHSPHT_FLAG_W,CFC-11,CFC-11_FLAG_W,CFC-12,CFC-12_FLAG_W,CFC113,CFC113_FLAG_W,TCARBN,TCARBN_FLAG_W,ALKALI,ALKALI_FLAG_W,THETA
,,,,,,,,,,,METERS,DBAR,ITS-90,PSS-78,,PSS-78,,UMOL/KG,,UMOL/KG,,UMOL/KG,,UMOL/KG,,UMOL/KG,,PMOL/KG,,PMOL/KG,,PMOL/KG,,UMOL/KG,,UMOL/KG,,DEG C
09AR20041223,       I09S,      38,          1,     -999.0,     -999.0,9,20050105,       1722,   -51.0022,   115.0077,       3977,  -999.0,-999.0000,-999.0000,9,-999.0000,9,   -999.0,9,  -999.0,9, -999.00,9, -999.00,9, -999.00,9,-999.000,9,-999.000,9,-999.000,9,  -999.0,9,  -999.0,9,-999.0000
09AR20041223,       I09S,      38,          1,     -999.0,     -999.0,9,20050105,       1722,   -51.0022,   115.0077,       3977,  -999.0,-999.0000,-999.0000,9,-999.0000,9,   -999.0,9,  -999.0,9, -999.00,9, -999.00,9, -999.00,9,-999.000,9,-999.000,9,-999.000,9,  -999.0,9,  -999.0,9,-999.0000
09AR20041223,       I09S,      38,          1,         22,         22,2,20050105,       0259,   -51.0022,   115.0077,       3977,    80.0,   2.4267,  33.9341,2,  33.9358,2,    336.0,2,   329.6,2, -999.00,9, -999.00,9, -999.00,9,-999.000,9,-999.000,9,-999.000,9,  -999.0,9,  -999.0,9,   2.4223
09AR20041223,       I09S,      38,          1,         21,         21,2,20050105,       0259,   -51.0022,   115.0077,       3977,    79.7,   2.3259,  33.9365,2,  33.9368,2,    336.0,2,   330.5,2, -999.00,9, -999.00,9, -999.00,9,-999.000,9,-999.000,9,-999.000,9,  -999.0,9,  -999.0,9,   2.3216
09AR20041223,       I09S,      38,          1,         20,         20,2,20050105,       0259,   -51.0022,   115.0077,       3977,   402.5,   2.2628,  34.4215,2,  34.4215,2,    192.4,2,   191.9,2, -999.00,9, -999.00,9, -999.00,9,-999.000,9,-999.000,9,-999.000,9,  -999.0,9,  -999.0,9,   2.2398
09AR20041223,       I09S,      38,          1,         19,         19,2,20050105,       0259,   -51.0022,   115.0077,       3977,   402.5,   2.2628,  34.4215,2,  34.4215,2,    192.4,2,   191.7,2, -999.00,9, -999.00,9, -999.00,9,-999.000,9,-999.000,9,-999.000,9,  -999.0,9,  -999.0,9,   2.2398
09AR20041223,       I09S,      38,          1,         18,         18,2,20050105,       0259,   -51.0022,   115.0077,       3977,   402.5,   2.2628,  34.4215,2,  34.4223,2,    192.4,2,   192.1,2, -999.00,9, -999.00,9, -999.00,9,-999.000,9,-999.000,9,-999.000,9,  -999.0,9,  -999.0,9,   2.2398
09AR20041223,       I09S,      38,          1,         17,          6,2,20050105,       0259,   -51.0022,   115.0077,       3977,   402.5,   2.2628,  34.4215,2,  34.4223,2,    192.4,2,   192.6,2, -999.00,9, -999.00,9, -999.00,9,-999.000,9,-999.000,9,-999.000,9,  -999.0,9,  -999.0,9,   2.2398
09AR20041223,       I09S,      38,          1,         16,         16,2,20050105,       0259,   -51.0022,   115.0077,       3977,   497.7,   2.3075,  34.5081,2,  34.5077,2,    179.7,2,   179.9,2, -999.00,9, -999.00,9, -999.00,9,-999.000,9,-999.000,9,-999.000,9,  -999.0,9,  -999.0,9,   2.2784
09AR20041223,       I09S,      38,          1,         15,         15,2,20050105,       0259,   -51.0022,   115.0077,       3977,   497.7,   2.3075,  34.5081,2,  34.5083,2,    179.7,2,   180.8,2, -999.00,9, -999.00,9, -999.00,9,-999.000,9,-999.000,9,-999.000,9,  -999.0,9,  -999.0,9,   2.2784
09AR20041223,       I09S,      38,          1,         14,         14,2,20050105,       0259,   -51.0022,   115.0077,       3977,   497.7,   2.3075,  34.5081,2,  34.5081,2,    179.7,2,   180.4,2, -999.00,9, -999.00,9, -999.00,9,-999.000,9,-999.000,9,-999.000,9,  -999.0,9,  -999.0,9,   2.2784
09AR20041223,       I09S,      38,          1,         13,         13,2,20050105,       0259,   -51.0022,   115.0077,       3977,   497.7,   2.3075,  34.5081,2,  34.5079,2,    179.7,2,   180.2,2, -999.00,9, -999.00,9, -999.00,9,-999.000,9,-999.000,9,-999.000,9,  -999.0,9,  -999.0,9,   2.2784
09AR20041223,       I09S,      38,          1,         12,         12,2,20050105,       0259,   -51.0022,   115.0077,       3977,   497.7,   2.3075,  34.5081,2,  34.5077,2,    179.7,2,   180.0,2, -999.00,9, -999.00,9, -999.00,9,-999.000,9,-999.000,9,-999.000,9,  -999.0,9,  -999.0,9,   2.2784
09AR20041223,       I09S,      38,          1,         11,         11,2,20050105,       0259,   -51.0022,   115.0077,       3977,   497.7,   2.3075,  34.5081,2,  34.5079,2,    179.7,2,   180.0,2, -999.00,9, -999.00,9, -999.00,9,-999.000,9,-999.000,9,-999.000,9,  -999.0,9,  -999.0,9,   2.2784
09AR20041223,       I09S,      38,          1,         10,         10,2,20050105,       0259,   -51.0022,   115.0077,       3977,   602.9,   2.3061,  34.5802,2,  34.5809,3,    175.1,2,   175.4,2, -999.00,9, -999.00,9, -999.00,9,-999.000,9,-999.000,9,-999.000,9,  -999.0,9,  -999.0,9,   2.2703
09AR20041223,       I09S,      38,          1,          9,          9,2,20050105,       0259,   -51.0022,   115.0077,       3977,   602.9,   2.3061,  34.5802,2,  34.5803,3,    175.1,2,   175.7,2, -999.00,9, -999.00,9, -999.00,9,-999.000,9,-999.000,9,-999.000,9,  -999.0,9,  -999.0,9,   2.2703
09AR20041223,       I09S,      38,          1,          8,        108,2,20050105,       0259,   -51.0022,   115.0077,       3977,  1165.2,   1.9956,  34.7350,2,  34.7321,3,    190.8,2,   189.9,2, -999.00,9, -999.00,9, -999.00,9,-999.000,9,-999.000,9,-999.000,9,  -999.0,9,  -999.0,9,   1.9237
09AR20041223,       I09S,      38,          1,          7,        107,2,20050105,       0259,   -51.0022,   115.0077,       3977,  1165.2,   1.9956,  34.7350,2,  34.7339,3,    190.8,2,   190.9,2, -999.00,9, -999.00,9, -999.00,9,-999.000,9,-999.000,9,-999.000,9,  -999.0,9,  -999.0,9,   1.9237
09AR20041223,       I09S,      38,          1,          6,        117,2,20050105,       0259,   -51.0022,   115.0077,       3977,  1201.0,   1.9763,  34.7373,2,  34.7363,3,    191.8,2,   191.6,2, -999.00,9, -999.00,9, -999.00,9,-999.000,9,-999.000,9,-999.000,9,  -999.0,9,  -999.0,9,   1.9020
09AR20041223,       I09S,      38,          1,          5,        105,2,20050105,       0259,   -51.0022,   115.0077,       3977,  1201.0,   1.9763,  34.7373,2,  34.7376,3,    191.8,2,   191.2,2, -999.00,9, -999.00,9, -999.00,9,-999.000,9,-999.000,9,-999.000,9,  -999.0,9,  -999.0,9,   1.9020
09AR20041223,       I09S,      38,          1,          4,        104,2,20050105,       0259,   -51.0022,   115.0077,       3977,  1572.7,   1.6734,  34.7482,2,  34.7494,3,    198.7,2,   199.1,2, -999.00,9, -999.00,9, -999.00,9,-999.000,9,-999.000,9,-999.000,9,  -999.0,9,  -999.0,9,   1.5751
09AR20041223,       I09S,      38,          1,          3,        103,2,20050105,       0259,   -51.0022,   115.0077,       3977,  1572.7,   1.6734,  34.7482,2,  34.7486,3,    198.7,2,   198.8,2, -999.00,9, -999.00,9, -999.00,9,-999.000,9,-999.000,9,-999.000,9,  -999.0,9,  -999.0,9,   1.5751
09AR20041223,       I09S,      38,          1,          2,        102,2,20050105,       0259,   -51.0022,   115.0077,       3977,  1572.7,   1.6734,  34.7482,2,  34.7486,3,    198.7,2,   199.4,2, -999.00,9, -999.00,9, -999.00,9,-999.000,9,-999.000,9,-999.000,9,  -999.0,9,  -999.0,9,   1.5751
09AR20041223,       I09S,      38,          1,          1,        101,2,20050105,       0259,   -51.0022,   115.0077,       3977,  3561.1,   0.2367,  34.6832,2,  34.6825,3,    222.5,2,   222.9,2, -999.00,9, -999.00,9, -999.00,9,-999.000,9,-999.000,9,-999.000,9,  -999.0,9,  -999.0,9,  -0.0032
09AR20041223,       I09S,      39,          1,     -999.0,     -999.0,9,20050106,       0259,   -51.4788,   114.9988,       3535,  -999.0,-999.0000,-999.0000,9,-999.0000,9,   -999.0,9,  -999.0,9, -999.00,9, -999.00,9, -999.00,9,-999.000,9,-999.000,9,-999.000,9,  -999.0,9,  -999.0,9,-999.0000
09AR20041223,       I09S,      39,          1,     -999.0,     -999.0,9,20050106,       0259,   -51.4788,   114.9988,       3535,  -999.0,-999.0000,-999.0000,9,-999.0000,9,   -999.0,9,  -999.0,9, -999.00,9, -999.00,9, -999.00,9,-999.000,9,-999.000,9,-999.000,9,  -999.0,9,  -999.0,9,-999.0000
09AR20041223,       I09S,      39,          1,     -999.0,     -999.0,9,20050106,       0259,   -51.4788,   114.9988,       3535,  -999.0,-999.0000,-999.0000,9,-999.0000,9,   -999.0,9,  -999.0,9, -999.00,9, -999.00,9, -999.00,9,-999.000,9,-999.000,9,-999.000,9,  -999.0,9,  -999.0,9,-999.0000
09AR20041223,       I09S,      39,          1,     -999.0,     -999.0,9,20050106,       0259,   -51.4788,   114.9988,       3535,  -999.0,-999.0000,-999.0000,9,-999.0000,9,   -999.0,9,  -999.0,9, -999.00,9, -999.00,9, -999.00,9,-999.000,9,-999.000,9,-999.000,9,  -999.0,9,  -999.0,9,-999.0000
09AR20041223,       I09S,      39,          1,     -999.0,     -999.0,9,20050106,       0259,   -51.4788,   114.9988,       3535,  -999.0,-999.0000,-999.0000,9,-999.0000,9,   -999.0,9,  -999.0,9, -999.00,9, -999.00,9, -999.00,9,-999.000,9,-999.000,9,-999.000,9,  -999.0,9,  -999.0,9,-999.0000
09AR20041223,       I09S,      39,          1,     -999.0,     -999.0,9,20050106,       0259,   -51.4788,   114.9988,       3535,  -999.0,-999.0000,-999.0000,9,-999.0000,9,   -999.0,9,  -999.0,9, -999.00,9, -999.00,9, -999.00,9,-999.000,9,-999.000,9,-999.000,9,  -999.0,9,  -999.0,9,-999.0000
09AR20041223,       I09S,      39,          1,     -999.0,     -999.0,9,20050106,       0259,   -51.4788,   114.9988,       3535,  -999.0,-999.0000,-999.0000,9,-999.0000,9,   -999.0,9,  -999.0,9, -999.00,9, -999.00,9, -999.00,9,-999.000,9,-999.000,9,-999.000,9,  -999.0,9,  -999.0,9,-999.0000
09AR20041223,       I09S,      39,          1,         17,          6,2,20050106,       1156,   -51.4788,   114.9988,       3535,   499.6,   2.2596,  34.5386,2,-999.0000,9,   -999.0,9,  -999.0,9, -999.00,9, -999.00,9, -999.00,9,-999.000,9,-999.000,9,-999.000,9,  -999.0,9,  -999.0,9,   2.2306
09AR20041223,       I09S,      39,          1,     -999.0,     -999.0,9,20050106,       1156,   -51.4788,   114.9988,       3535,  -999.0,-999.0000,-999.0000,9,-999.0000,9,   -999.0,9,  -999.0,9, -999.00,9, -999.00,9, -999.00,9,-999.000,9,-999.000,9,-999.000,9,  -999.0,9,  -999.0,9,-999.0000
09AR20041223,       I09S,      39,          1,     -999.0,     -999.0,9,20050106,       1156,   -51.4788,   114.9988,       3535,  -999.0,-999.0000,-999.0000,9,-999.0000,9,   -999.0,9,  -999.0,9, -999.00,9, -999.00,9, -999.00,9,-999.000,9,-999.000,9,-999.000,9,  -999.0,9,  -999.0,9,-999.0000
09AR20041223,       I09S,      39,          1,     -999.0,     -999.0,9,20050106,       1156,   -51.4788,   114.9988,       3535,  -999.0,-999.0000,-999.0000,9,-999.0000,9,   -999.0,9,  -999.0,9, -999.00,9, -999.00,9, -999.00,9,-999.000,9,-999.000,9,-999.000,9,  -999.0,9,  -999.0,9,-999.0000
09AR20041223,       I09S,      39,          1,     -999.0,     -999.0,9,20050106,       1156,   -51.4788,   114.9988,       3535,  -999.0,-999.0000,-999.0000,9,-999.0000,9,   -999.0,9,  -999.0,9, -999.00,9, -999.00,9, -999.00,9,-999.000,9,-999.000,9,-999.000,9,  -999.0,9,  -999.0,9,-999.0000
09AR20041223,       I09S,      39,          1,     -999.0,     -999.0,9,20050106,       1156,   -51.4788,   114.9988,       3535,  -999.0,-999.0000,-999.0000,9,-999.0000,9,   -999.0,9,  -999.0,9, -999.00,9, -999.00,9, -999.00,9,-999.000,9,-999.000,9,-999.000,9,  -999.0,9,  -999.0,9,-999.0000
09AR20041223,       I09S,      39,          1,     -999.0,     -999.0,9,20050106,       1156,   -51.4788,   114.9988,       3535,  -999.0,-999.0000,-999.0000,9,-999.0000,9,   -999.0,9,  -999.0,9, -999.00,9, -999.00,9, -999.00,9,-999.000,9,-999.000,9,-999.000,9,  -999.0,9,  -999.0,9,-999.0000
09AR20041223,       I09S,      39,          1,     -999.0,     -999.0,9,20050106,       1156,   -51.4788,   114.9988,       3535,  -999.0,-999.0000,-999.0000,9,-999.0000,9,   -999.0,9,  -999.0,9, -999.00,9, -999.00,9, -999.00,9,-999.000,9,-999.000,9,-999.000,9,  -999.0,9,  -999.0,9,-999.0000
09AR20041223,       I09S,      39,          1,     -999.0,     -999.0,9,20050106,       1156,   -51.4788,   114.9988,       3535,  -999.0,-999.0000,-999.0000,9,-999.0000,9,   -999.0,9,  -999.0,9, -999.00,9, -999.00,9, -999.00,9,-999.000,9,-999.000,9,-999.000,9,  -999.0,9,  -999.0,9,-999.0000
09AR20041223,       I09S,      39,          1,     -999.0,     -999.0,9,20050106,       1156,   -51.4788,   114.9988,       3535,  -999.0,-999.0000,-999.0000,9,-999.0000,9,   -999.0,9,  -999.0,9, -999.00,9, -999.00,9, -999.00,9,-999.000,9,-999.000,9,-999.000,9,  -999.0,9,  -999.0,9,-999.0000
09AR20041223,       I09S,      39,          1,          7,        107,2,20050106,       1156,   -51.4788,   114.9988,       3535,   499.6,   2.2596,  34.5386,2,  34.5387,2,   -999.0,9,  -999.0,9, -999.00,9, -999.00,9, -999.00,9,-999.000,9,-999.000,9,-999.000,9,  -999.0,9,  -999.0,9,   2.2306
09AR20041223,       I09S,      39,          1,     -999.0,     -999.0,9,20050106,       1156,   -51.4788,   114.9988,       3535,  -999.0,-999.0000,-999.0000,9,-999.0000,9,   -999.0,9,  -999.0,9, -999.00,9, -999.00,9, -999.00,9,-999.000,9,-999.000,9,-999.000,9,  -999.0,9,  -999.0,9,-999.0000
09AR20041223,       I09S,      39,          1,     -999.0,     -999.0,9,20050106,       1156,   -51.4788,   114.9988,       3535,  -999.0,-999.0000,-999.0000,9,-999.0000,9,   -999.0,9,  -999.0,9, -999.00,9, -999.00,9, -999.00,9,-999.000,9,-999.000,9,-999.000,9,  -999.0,9,  -999.0,9,-999.0000
09AR20041223,       I09S,      39,          1,     -999.0,     -999.0,9,20050106,       1156,   -51.4788,   114.9988,       3535,  -999.0,-999.0000,-999.0000,9,-999.0000,9,   -999.0,9,  -999.0,9, -999.00,9, -999.00,9, -999.00,9,-999.000,9,-999.000,9,-999.000,9,  -999.0,9,  -999.0,9,-999.0000
09AR20041223,       I09S,      39,          1,          3,        103,2,20050106,       1156,   -51.4788,   114.9988,       3535,  2898.6,   0.4086,  34.6920,2,  34.6827,4,   -999.0,9,  -999.0,9, -999.00,9, -999.00,9, -999.00,9,-999.000,9,-999.000,9,-999.000,9,  -999.0,9,  -999.0,9,   0.2248
09AR20041223,       I09S,      39,          1,          2,        102,2,20050106,       1156,   -51.4788,   114.9988,       3535,  3201.0,   0.2635,  34.6857,2,  34.6829,2,   -999.0,9,  -999.0,9, -999.00,9, -999.00,9, -999.00,9,-999.000,9,-999.000,9,-999.000,9,  -999.0,9,  -999.0,9,   0.0563
09AR20041223,       I09S,      39,          1,          1,        101,2,20050106,       1156,   -51.4788,   114.9988,       3535,  3696.5,   0.2534,  34.6834,2,  34.6874,4,   -999.0,9,  -999.0,9, -999.00,9, -999.00,9, -999.00,9,-999.000,9,-999.000,9,-999.000,9,  -999.0,9,  -999.0,9,   0.0000