BOTTLE,20220105CCHSIOENA
EXPOCODE,SECT_ID,STNNBR,CASTNO,SAMPNO,BTLNBR,BTLNBR_FLAG_W,DATE,TIME,LATITUDE,LONGITUDE,DEPTH,CTDPRS,CTDTMP,CTDSAL,CTDSAL_FLAG_W,SALNTY,SALNTY_FLAG_W,CTDOXY,CTDOXY_FLAG_W,OXYGEN,OXYGEN_FLAG_W,SILCAT,SILCAT_FLAG_W,NITRAT,NITRAT_FLAG_W,PHSPHT,PHSPHT_FLAG_W,CFC-11,CFC-11_FLAG_W,CFC-12,CFC-12_FLAG_W,CFC113,CFC113_FLAG_W,TCARBN,TCARBN_FLAG_W,ALKALI,ALKALI_FLAG_W,THETA
,,,,,,,,,,,METERS,DBAR,ITS-90,PSS-78,,PSS-78,,UMOL/KG,,UMOL/KG,,UMOL/KG,,UMOL/KG,,UMOL/KG,,PMOL/KG,,PMOL/KG,,PMOL/KG,,UMOL/KG,,UMOL/KG,,DEG C
09AR20041223,       I09S,      70,          1,         24,         24,2,20050120,       1059,   -57.0507,    84.8087,       4717,    11.8,   3.2043,  33.9170,2,  33.9227,2,    323.2,2,   322.4,2,    6.15,2,   23.05,2,    1.48,2,-999.000,9,-999.000,9,-999.000,9,  -999.0,9,  -999.0,9,   3.2036
09AR20041223,       I09S,      70,          1,         23,         23,2,20050120,       1059,   -57.0507,    84.8087,       4717,    51.8,   2.6665,  33.9375,2,  33.9389,2,    329.8,2,   325.6,2,    8.69,2,   23.83,2,    1.51,2,-999.000,9,-999.000,9,-999.000,9,  -999.0,9,  -999.0,9,   2.6636
09AR20041223,       I09S,      70,          1,         22,         22,2,20050120,       1059,   -57.0507,    84.8087,       4717,    82.1,   2.6222,  33.9387,2,  33.9397,2,    332.2,2,   325.9,2,    8.98,2,   23.73,2,    1.50,2,-999.000,9,-999.000,9,-999.000,9,  -999.0,9,  -999.0,9,   2.6176
09AR20041223,       I09S,      70,          1,         21,         21,2,20050120,       1059,   -57.0507,    84.8087,       4717,   110.4,   1.6717,  33.9792,2,  33.9808,2,    335.0,2,   330.7,2,   20.90,2,   26.17,2,    1.71,2,-999.000,9,-999.000,9,-999.000,9,  -999.0,9,  -999.0,9,   1.6663
09AR20041223,       I09S,      70,          1,         20,         20,2,20050120,       1059,   -57.0507,    84.8087,       4717,   170.4,   0.1797,  34.1232,2,  34.1234,2,    332.7,2,   312.8,3,   48.82,2,   29.98,2,    2.06,2,-999.000,9,-999.000,9,-999.000,9,  -999.0,9,  -999.0,9,   0.1734
09AR20041223,       I09S,      70,          1,         19,         19,2,20050120,       1059,   -57.0507,    84.8087,       4717,   240.5,   0.7933,  34.3089,2,  34.3082,2,    210.4,2,   253.0,3,   62.00,2,   32.41,2,    2.21,2,-999.000,9,-999.000,9,-999.000,9,  -999.0,9,  -999.0,9,   0.7829
09AR20041223,       I09S,      70,          1,         18,         18,2,20050120,       1059,   -57.0507,    84.8087,       4717,   301.2,   2.1276,  34.5183,2,  34.6546,4,    187.8,2,   179.5,3,   79.76,2,   32.21,2,    2.20,2,-999.000,9,-999.000,9,-999.000,9,  -999.0,9,  -999.0,9,   2.1109
09AR20041223,       I09S,      70,          1,         17,          6,2,20050120,       1059,   -57.0507,    84.8087,       4717,   401.3,   1.8139,  34.5600,2,  34.5603,2,    188.6,2,   190.0,2,   76.82,2,   33.09,2,    2.25,2,-999.000,9,-999.000,9,-999.000,9,  -999.0,9,  -999.0,9,   1.7924
09AR20041223,       I09S,      70,          1,         16,         16,2,20050120,       1059,   -57.0507,    84.8087,       4717,   500.9,   2.1287,  34.6546,2,  34.6552,2,    177.1,2,   179.2,2,   79.75,2,   32.11,2,    2.20,2,-999.000,9,-999.000,9,-999.000,9,  -999.0,9,  -999.0,9,   2.1000
09AR20041223,       I09S,      70,          1,         15,         15,2,20050120,       1059,   -57.0507,    84.8087,       4717,   600.4,   2.0704,  34.6868,2,  34.6872,2,    179.6,2,   181.8,2,   81.99,2,   31.53,2,    2.16,2,-999.000,9,-999.000,9,-999.000,9,  -999.0,9,  -999.0,9,   2.0358
09AR20041223,       I09S,      70,          1,         14,         14,2,20050120,       1059,   -57.0507,    84.8087,       4717,   801.3,   1.9784,  34.7230,2,  34.7231,2,    186.6,2,   188.1,2,   84.62,2,   30.84,2,    2.10,2,-999.000,9,-999.000,9,-999.000,9,  -999.0,9,  -999.0,9,   1.9314
09AR20041223,       I09S,      70,          1,         13,         13,2,20050120,       1059,   -57.0507,    84.8087,       4717,  1001.4,   1.8685,  34.7425,2,  34.7433,2,    194.2,2,   194.2,2,   87.06,2,   30.45,2,    2.05,2,-999.000,9,-999.000,9,-999.000,9,  -999.0,9,  -999.0,9,   1.8090
09AR20041223,       I09S,      70,          1,         12,         12,2,20050120,       1059,   -57.0507,    84.8087,       4717,  1200.9,   1.6228,  34.7372,2,  34.7376,2,    197.9,2,   197.1,2,   91.36,2,   30.26,2,    2.08,2,-999.000,9,-999.000,9,-999.000,9,  -999.0,9,  -999.0,9,   1.5518
09AR20041223,       I09S,      70,          1,         11,         11,2,20050120,       1059,   -57.0507,    84.8087,       4717,  1401.7,   1.4481,  34.7346,2,  34.7351,2,    201.6,2,   200.4,2,   95.55,2,   30.16,2,    2.09,2,-999.000,9,-999.000,9,-999.000,9,  -999.0,9,  -999.0,9,   1.3649
09AR20041223,       I09S,      70,          1,         10,         10,2,20050120,       1059,   -57.0507,    84.8087,       4717,  1601.6,   1.2150,  34.7280,2,  34.7290,2,    203.9,2,   203.4,2,  102.29,2,   30.36,2,    2.11,2,-999.000,9,-999.000,9,-999.000,9,  -999.0,9,  -999.0,9,   1.1203
09AR20041223,       I09S,      70,          1,          9,          9,2,20050120,       1059,   -57.0507,    84.8087,       4717,  1901.1,   0.9438,  34.7153,2,  34.7155,2,    206.5,2,   206.7,2,  110.69,2,   30.94,2,    2.15,2,-999.000,9,-999.000,9,-999.000,9,  -999.0,9,  -999.0,9,   0.8307
09AR20041223,       I09S,      70,          1,          8,        208,2,20050120,       1059,   -57.0507,    84.8087,       4717,  2200.1,   0.7146,  34.7037,2,  34.7035,2,    209.0,2,   209.3,2,  117.71,2,   31.43,2,    2.19,2,-999.000,9,-999.000,9,-999.000,9,  -999.0,9,  -999.0,9,   0.5823
09AR20041223,       I09S,      70,          1,          7,        107,2,20050120,       1059,   -57.0507,    84.8087,       4717,  2599.9,   0.4672,  34.6913,2,  34.6911,2,    213.3,2,   213.7,2,  124.26,2,   31.82,2,    2.22,2,-999.000,9,-999.000,9,-999.000,9,  -999.0,9,  -999.0,9,   0.3074
09AR20041223,       I09S,      70,          1,          6,        117,2,20050120,       1059,   -57.0507,    84.8087,       4717,  2999.6,   0.2799,  34.6825,2,  34.6827,2,    218.1,2,   219.2,2,  126.89,2,   31.72,2,    2.24,2,-999.000,9,-999.000,9,-999.000,9,  -999.0,9,  -999.0,9,   0.0902
09AR20041223,       I09S,      70,          1,          5,        105,2,20050120,       1059,   -57.0507,    84.8087,       4717,  3402.2,   0.1751,  34.6793,2,  34.6792,2,    223.9,2,   223.9,2,  128.65,2,   31.72,2,    2.23,2,-999.000,9,-999.000,9,-999.000,9,  -999.0,9,  -999.0,9,  -0.0483
09AR20041223,       I09S,      70,          1,          4,        104,2,20050120,       1059,   -57.0507,    84.8087,       4717,  3804.0,   0.1018,  34.6760,2,  34.6748,2,    226.8,2,   226.7,2,  129.33,2,   31.72,2,    2.23,2,-999.000,9,-999.000,9,-999.000,9,  -999.0,9,  -999.0,9,  -0.1579
09AR20041223,       I09S,      70,          1,          3,        103,2,20050120,       1059,   -57.0507,    84.8087,       4717,  4199.0,   0.0709,  34.6733,2,  34.6733,2,    229.0,2,   229.0,2,  129.72,2,   31.72,2,    2.22,2,-999.000,9,-999.000,9,-999.000,9,  -999.0,9,  -999.0,9,  -0.2276
09AR20041223,       I09S,      70,          1,          2,        102,2,20050120,       1059,   -57.0507,    84.8087,       4717,  4501.2,   0.0618,  34.6715,2,  34.6721,2,    229.8,2,   230.5,2,  131.19,2,   31.92,2,    2.22,2,-999.000,9,-999.000,9,-999.000,9,  -999.0,9,  -999.0,9,  -0.2682
09AR20041223,       I09S,      70,          1,          1,        101,2,20050120,       1059,   -57.0507,    84.8087,       4717,  4800.0,   0.0404,  34.6689,2,  34.6719,2,    231.1,2,   230.2,2,  131.19,2,   31.63,2,    2.23,2,-999.000,9,-999.000,9,-999.000,9,  -999.0,9,  -999.0,9,  -0.3215
09AR20041223,       I09S,      71,          1,         24,         24,2,20050120,       1916,   -57.3463,    84.3258,       4609,    11.2,   2.0142,  33.9699,2,  33.9714,2,   -999.0,9,   331.6,2,   24.32,2,   25.78,2,    1.62,2,   5.308,2,   2.772,2,   0.461,2,  -999.0,9,  -999.0,9,   2.0136
09AR20041223,       I09S,      71,          1,         23,         23,2,20050120,       1916,   -57.3463,    84.3258,       4609,    51.6,   1.9915,  33.9726,2,  33.9743,2,    332.8,2,   332.4,2,   24.61,2,   25.78,2,    1.61,2,   5.306,2,   2.274,4,   0.466,2,  -999.0,9,  -999.0,9,   1.9889
09AR20041223,       I09S,      71,          1,         22,         22,2,20050120,       1916,   -57.3463,    84.3258,       4609,    90.8,   0.7122,  34.0623,2,  34.0488,2,    327.1,2,   332.8,2,   38.77,2,   27.64,2,    1.87,2,   5.512,2,   2.844,2,   0.468,2,  -999.0,9,  -999.0,9,   0.7085
09AR20041223,       I09S,      71,          1,         21,         21,2,20050120,       1916,   -57.3463,    84.3258,       4609,   130.1,  -0.0723,  34.1970,2,  34.1978,2,    313.9,2,   299.4,3,   57.51,2,   30.95,2,    2.14,2,   4.582,2,   2.366,2,   0.391,2,  -999.0,9,  -999.0,9,  -0.0768
09AR20041223,       I09S,      71,          1,         20,         20,2,20050120,       1916,   -57.3463,    84.3258,       4609,   162.1,   0.1848,  34.2928,2,  34.2975,2,    254.0,2,   272.3,3,   63.95,2,   32.12,2,    2.20,2,   3.824,2,   1.956,2,   0.322,2,  -999.0,9,  -999.0,9,   0.1787
09AR20041223,       I09S,      71,          1,         19,         19,2,20050120,       1916,   -57.3463,    84.3258,       4609,   211.4,   1.1487,  34.4647,2,  33.9655,4,    220.6,2,   217.5,2,   74.29,2,   33.29,2,    2.28,2,   2.114,2,   1.065,2,   0.167,2,  -999.0,9,  -999.0,9,   1.1389
09AR20041223,       I09S,      71,          1,         18,         18,2,20050120,       1916,   -57.3463,    84.3258,       4609,   300.5,   1.9185,  34.6133,2,  34.6127,2,    180.8,2,   179.7,2,   81.70,2,   33.68,2,    2.29,2,   0.712,2,   0.345,2,   0.057,2,  -999.0,9,  -999.0,9,   1.9023
09AR20041223,       I09S,      71,          1,         17,          6,2,20050120,       1916,   -57.3463,    84.3258,       4609,   399.9,   1.8659,  34.6684,2,  34.6693,2,    178.8,2,   181.8,2,   84.72,2,   32.41,2,    2.23,2,   0.490,2,   0.245,2,   0.032,2,  -999.0,9,  -999.0,9,   1.8442
09AR20041223,       I09S,      71,          1,         16,        116,2,20050120,       1916,   -57.3463,    84.3258,       4609,   500.2,   1.9277,  34.6987,2,  34.6988,2,    183.5,2,   183.7,2, -999.00,9, -999.00,9, -999.00,9,-999.000,5,-999.000,5,-999.000,5,  -999.0,9,  -999.0,9,   1.8999
09AR20041223,       I09S,      71,          1,         15,         15,2,20050120,       1916,   -57.3463,    84.3258,       4609,   601.9,   1.8898,  34.7164,2,  34.7170,2,    187.1,2,   187.1,2,   86.09,2,   30.94,2,    2.14,2,-999.000,5,-999.000,5,-999.000,5,  -999.0,9,  -999.0,9,   1.8559
09AR20041223,       I09S,      71,          1,         14,         14,2,20050120,       1916,   -57.3463,    84.3258,       4609,   800.2,   1.7584,  34.7404,2,  34.7408,2,    193.8,2,   194.9,2,   89.31,2,   30.16,2,    2.10,2,   0.183,2,   0.089,2,   0.006,2,  -999.0,9,  -999.0,9,   1.7129
09AR20041223,       I09S,      71,          1,         13,         13,2,20050120,       1916,   -57.3463,    84.3258,       4609,  1001.1,   1.6313,  34.7472,2,  34.7477,2,    198.5,2,   199.1,2,   93.02,2,   29.57,2,    2.07,2,   0.137,2,   0.053,2,   0.000,2,  -999.0,9,  -999.0,9,   1.5737
09AR20041223,       I09S,      71,          1,         12,         12,2,20050120,       1916,   -57.3463,    84.3258,       4609,  1202.6,   1.4778,  34.7431,2,  34.7441,2,    201.8,2,   201.3,2,   96.82,2,   30.06,2,    2.09,2,   0.124,2,   0.063,2,   0.009,2,  -999.0,9,  -999.0,9,   1.4081
09AR20041223,       I09S,      71,          1,         11,         11,2,20050120,       1916,   -57.3463,    84.3258,       4609,  1402.7,   1.2915,  34.7365,2,  34.7366,2,    203.4,2,   203.3,2,  102.09,2,   30.35,2,    2.12,2,   0.127,2,   0.064,2,   0.011,2,  -999.0,9,  -999.0,9,   1.2099
09AR20041223,       I09S,      71,          1,         10,         10,2,20050120,       1916,   -57.3463,    84.3258,       4609,  1608.1,   1.1070,  34.7250,2,  34.7259,2,    204.9,2,   204.4,2,  106.29,2,   30.75,2,    2.15,2,   0.179,2,   0.090,2,   0.011,2,  -999.0,9,  -999.0,9,   1.0131
09AR20041223,       I09S,      71,          1,          9,          9,2,20050120,       1916,   -57.3463,    84.3258,       4609,  1894.4,   0.8770,  34.7142,2,  34.7141,2,    207.3,2,   206.7,2,  114.20,2,   31.04,2,    2.19,2,   0.175,2,   0.077,2,   0.000,2,  -999.0,9,  -999.0,9,   0.7654
09AR20041223,       I09S,      71,          1,          8,        208,2,20050120,       1916,   -57.3463,    84.3258,       4609,  1899.8,   0.8763,  34.7142,2,  34.7143,2,    207.2,2,   208.0,2,  114.30,2,   31.14,2,    2.19,2,   0.175,2,   0.076,2,   0.006,2,  -999.0,9,  -999.0,9,   0.7643
09AR20041223,       I09S,      71,          1,          7,        107,2,20050120,       1916,   -57.3463,    84.3258,       4609,  2601.5,   0.4680,  34.6928,2,  34.6927,2,    214.7,2,   214.5,2,  125.04,2, -999.00,9,    2.24,2,   0.298,2,   0.136,2,   0.009,2,  -999.0,9,  -999.0,9,   0.3081
09AR20041223,       I09S,      71,          1,          6,        117,2,20050120,       1916,   -57.3463,    84.3258,       4609,  2998.5,   0.2758,  34.6826,2,  34.6825,2,    219.4,2,   219.6,2,  124.84,2,   31.72,2,    2.24,2,   0.445,3,   0.186,2,   0.024,2,  -999.0,9,  -999.0,9,   0.0863
09AR20041223,       I09S,      71,          1,          5,        105,2,20050120,       1916,   -57.3463,    84.3258,       4609,  3400.9,   0.1757,  34.6797,2,  34.6796,2,    223.9,2,   223.8,2,  128.84,2,   31.72,2,    2.25,2,   0.639,2,   0.292,2,   0.042,2,  -999.0,9,  -999.0,9,  -0.0476
09AR20041223,       I09S,      71,          1,          4,        104,2,20050120,       1916,   -57.3463,    84.3258,       4609,  3801.4,   0.1060,  34.6758,2,  34.6754,2,    227.0,2,   227.6,2,  128.94,2,   31.53,2,    2.24,2,   0.759,2,   0.354,2,   0.051,2,  -999.0,9,  -999.0,9,  -0.1535
09AR20041223,       I09S,      71,          1,          3,        103,2,20050120,       1916,   -57.3463,    84.3258,       4609,  4197.7,   0.0668,  34.6735,2,  34.6733,2,    230.1,2,   229.7,2,  130.31,2,   31.53,2,    2.24,2,   0.922,2,   0.422,2,   0.059,2,  -999.0,9,  -999.0,9,  -0.2314
09AR20041223,       I09S,      71,          1,          2,        102,2,20050120,       1916,   -57.3463,    84.3258,       4609,  4500.2,   0.0400,  34.6709,2,  34.6705,2,    232.2,2,   231.8,2,  131.68,2,   31.53,2,    2.24,2,   1.059,6,   0.493,6,   0.071,6,  -999.0,9,  -999.0,9,  -0.2891
09AR20041223,       I09S,      71,          1,          1,        101,2,20050120,       1916,   -57.3463,    84.3258,       4609,  4677.8,  -0.0217,  34.6671,2,  34.6666,2,    234.4,2,   234.7,2,  134.02,2,   31.72,2,    2.24,2,-999.000,5,-999.000,5,-999.000,5,  -999.0,9,  -999.0,9,  -0.3680