BOTTLE,20220105CCHSIOENA
EXPOCODE,SECT_ID,STNNBR,CASTNO,SAMPNO,BTLNBR,BTLNBR_FLAG_W,DATE,TIME,LATITUDE,LONGITUDE,DEPTH,CTDPRS,CTDTMP,CTDSAL,CTDSAL_FLAG_W,SALNTY,SALNTY_FLAG_W,CTDOXY,CTDOXY_FLAG_W,OXYGEN,OXYGEN_FLAG_W,SILCAT,SILCAT_FLAG_W,NITRAT,NITRAT_FLAG_W,PHSPHT,PHSPHT_FLAG_W,CFC-11,CFC-11_FLAG_W,CFC-12,CFC-12_FLAG_W,CFC113,CFC113_FLAG_W,TCARBN,TCARBN_FLAG_W,ALKALI,ALKALI_FLAG_W,THETA
,,,,,,,,,,,METERS,DBAR,ITS-90,PSS-78,,PSS-78,,UMOL/KG,,UMOL/KG,,UMOL/KG,,UMOL/KG,,UMOL/KG,,PMOL/KG,,PMOL/KG,,PMOL/KG,,UMOL/KG,,UMOL/KG,,DEG C
09AR20041223,       I09S,      74,          1,         24,         24,2,20050122,       0856,   -57.7632,    83.3693,       4579,    11.5,   1.5175,  33.9842,2,  33.9845,2,    337.6,2,   336.2,2,   28.71,2,   25.00,2,    1.58,2,   5.374,2,   2.813,2,   0.483,2,  -999.0,9,  -999.0,9,   1.5170
09AR20041223,       I09S,      74,          1,         23,         23,2,20050122,       0856,   -57.7632,    83.3693,       4579,    41.6,   1.4374,  33.9884,2,  33.9894,2,    335.9,2,   335.9,2,   29.20,2,   25.10,2,    1.58,2,-999.000,9,-999.000,9,-999.000,9,  -999.0,9,  -999.0,9,   1.4355
09AR20041223,       I09S,      74,          1,         22,         22,2,20050122,       0856,   -57.7632,    83.3693,       4579,    61.6,   1.3215,  33.9939,2,  33.9949,2,    327.0,2,   334.2,2,   30.86,2,   25.29,2,    1.63,2,   5.393,2,   2.799,2,   0.462,2,  -999.0,9,  -999.0,9,   1.3187
09AR20041223,       I09S,      74,          1,         21,         21,2,20050122,       0856,   -57.7632,    83.3693,       4579,   101.0,  -0.3139,  34.1370,2,  34.1443,2,    297.5,2,   308.9,3,   57.12,2,   29.20,2,    2.03,2,   4.682,2,   2.431,2,   0.440,2,  -999.0,9,  -999.0,9,  -0.3172
09AR20041223,       I09S,      74,          1,         20,         20,2,20050122,       0856,   -57.7632,    83.3693,       4579,   151.2,  -0.1076,  34.4009,2,  34.4017,2,    255.4,2,   244.5,2,   74.49,2,   31.92,2,    2.17,2,   2.835,2,   1.437,2,   0.239,2,  -999.0,9,  -999.0,9,  -0.1129
09AR20041223,       I09S,      74,          1,         19,         19,2,20050122,       0856,   -57.7632,    83.3693,       4579,   201.2,   0.8259,  34.5414,2,  34.5401,2,    213.3,2,   213.6,2,   80.44,2,   32.51,2,    2.18,2,   1.713,6,   0.859,6,   0.146,6,  -999.0,9,  -999.0,9,   0.8171
09AR20041223,       I09S,      74,          1,         18,         18,2,20050122,       0856,   -57.7632,    83.3693,       4579,   301.5,   1.8263,  34.6935,2,  34.6909,2,    189.7,2,   188.7,2,   84.72,2,   31.72,2,    2.16,2,   0.439,2,   0.224,2,   0.031,2,  -999.0,9,  -999.0,9,   1.8103
09AR20041223,       I09S,      74,          1,         17,          6,2,20050122,       0856,   -57.7632,    83.3693,       4579,   399.7,   1.5988,  34.6993,2,  34.6990,2,    193.5,2,   195.0,2,   87.94,2,   31.33,2,    2.13,2,   0.500,2,   0.254,2,   0.039,2,  -999.0,9,  -999.0,9,   1.5780
09AR20041223,       I09S,      74,          1,         16,        116,2,20050122,       0856,   -57.7632,    83.3693,       4579,   500.6,   1.7254,  34.7287,2,  34.7286,2,    193.4,2,   194.8,2,   88.23,2,   30.75,2,    2.08,2,   0.271,2,   0.140,2,   0.031,2,  -999.0,9,  -999.0,9,   1.6983
09AR20041223,       I09S,      74,          1,         15,         15,2,20050122,       0856,   -57.7632,    83.3693,       4579,   600.5,   1.6452,  34.7342,2,  34.7345,2,    197.4,2,   196.7,2,   90.09,2,   30.55,2,    2.08,2,   0.249,2,   0.130,2,   0.027,2,  -999.0,9,  -999.0,9,   1.6126
09AR20041223,       I09S,      74,          1,         14,         14,2,20050122,       0856,   -57.7632,    83.3693,       4579,   696.9,   1.5053,  34.7302,2,  34.7304,2,    201.6,2,   200.7,2,   92.14,2,   30.55,2,    2.08,2,   0.305,2,   0.157,2,   0.041,2,  -999.0,9,  -999.0,9,   1.4677
09AR20041223,       I09S,      74,          1,         13,         13,2,20050122,       0856,   -57.7632,    83.3693,       4579,   801.8,   1.3687,  34.7282,2,  34.7282,2,    202.9,2,   202.1,2,   95.07,2,   30.55,2,    2.09,2,   0.310,2,   0.161,2,   0.023,2,  -999.0,9,  -999.0,9,   1.3256
09AR20041223,       I09S,      74,          1,         12,         12,2,20050122,       0856,   -57.7632,    83.3693,       4579,   999.8,   1.2029,  34.7260,2,  34.7262,2,    205.4,2,   203.2,2,   99.65,2,   30.75,2,    2.10,2,   0.277,2,   0.139,2,   0.011,2,  -999.0,9,  -999.0,9,   1.1489
09AR20041223,       I09S,      74,          1,         11,         11,2,20050122,       0856,   -57.7632,    83.3693,       4579,  1202.3,   1.0121,  34.7183,2,  34.7184,2,    206.5,2,   205.9,2,  105.22,2,   31.14,2,    2.14,2,   0.257,2,   0.131,2,   0.024,2,  -999.0,9,  -999.0,9,   0.9469
09AR20041223,       I09S,      74,          1,         10,         10,2,20050122,       0856,   -57.7632,    83.3693,       4579,  1502.1,   0.7811,  34.7083,2,  34.7084,2,    208.2,2,   207.8,2,  113.42,2,   31.72,2,    2.16,2,   0.203,2,   0.098,2,   0.013,2,  -999.0,9,  -999.0,9,   0.6987
09AR20041223,       I09S,      74,          1,          9,          9,2,20050122,       0856,   -57.7632,    83.3693,       4579,  1800.7,   0.5749,  34.6977,2,  34.6976,2,    210.4,2,   210.7,2,  119.67,2,   32.11,2,    2.20,2,   0.205,6,   0.109,6,   0.014,6,  -999.0,9,  -999.0,9,   0.4745
09AR20041223,       I09S,      74,          1,          8,        208,2,20050122,       0856,   -57.7632,    83.3693,       4579,  2200.4,   0.3662,  34.6883,2,  34.6880,2,    215.2,2,   215.9,2,  125.43,2,   32.21,2,    2.22,2,   0.268,2,   0.133,2,   0.023,2,  -999.0,9,  -999.0,9,   0.2399
09AR20041223,       I09S,      74,          1,          7,        107,2,20050122,       0856,   -57.7632,    83.3693,       4579,  2601.1,   0.2117,  34.6809,2,  34.6809,2,    220.0,2,   220.1,2,  126.40,2,   32.11,2,    2.21,2,   0.388,2,   0.191,2,   0.015,2,  -999.0,9,  -999.0,9,   0.0569
09AR20041223,       I09S,      74,          1,          6,        117,2,20050122,       0856,   -57.7632,    83.3693,       4579,  3002.1,   0.1112,  34.6772,2,  34.6768,2,    224.5,2,   225.0,2,  126.70,2,   32.21,2,    2.21,2,   0.569,2,   0.279,2,   0.037,2,  -999.0,9,  -999.0,9,  -0.0749
09AR20041223,       I09S,      74,          1,          5,        105,2,20050122,       0856,   -57.7632,    83.3693,       4579,  3401.9,   0.0244,  34.6739,2,  34.6731,2,    228.9,2,   228.4,2,  126.70,2,   32.11,2,    2.20,2,   0.803,2,   0.388,2,   0.046,2,  -999.0,9,  -999.0,9,  -0.1952
09AR20041223,       I09S,      74,          1,          4,        104,2,20050122,       0856,   -57.7632,    83.3693,       4579,  3803.7,  -0.0206,  34.6717,2,  34.6709,2,    231.4,2,   231.5,2,  127.77,2,   32.11,2,    2.20,2,   1.010,2,   0.486,2,   0.060,2,  -999.0,9,  -999.0,9,  -0.2768
09AR20041223,       I09S,      74,          1,          3,        103,2,20050122,       0856,   -57.7632,    83.3693,       4579,  4102.2,  -0.0420,  34.6692,2,  34.6686,2,    233.1,2,   234.1,2,  128.36,2,   32.11,2,    2.23,2,   1.167,2,   0.557,2,   0.069,2,  -999.0,9,  -999.0,9,  -0.3272
09AR20041223,       I09S,      74,          1,          2,        102,2,20050122,       0856,   -57.7632,    83.3693,       4579,  4400.5,  -0.0532,  34.6670,2,  34.6672,2,    234.9,2,   234.3,2,  130.99,2,   32.11,2,    2.21,2,   1.276,6,   0.607,6,   0.080,6,  -999.0,9,  -999.0,9,  -0.3688
09AR20041223,       I09S,      74,          1,          1,        101,2,20050122,       0856,   -57.7632,    83.3693,       4579,  4635.3,  -0.0259,  34.6671,2,  34.6662,2,    235.1,2,   235.5,2,  132.56,2,   32.02,2,    2.21,2,   1.316,2,   0.628,2,   0.089,2,  -999.0,9,  -999.0,9,  -0.3675
09AR20041223,       I09S,      75,          1,         24,         24,2,20050122,       1328,   -57.7755,    83.2328,       3902,    11.1,   1.4643,  33.9804,2,-999.0000,9,    314.3,2,  -999.0,9, -999.00,9, -999.00,9, -999.00,9,-999.000,9,-999.000,9,-999.000,9,  -999.0,9,  -999.0,9,   1.4638
09AR20041223,       I09S,      75,          1,         23,         23,2,20050122,       1328,   -57.7755,    83.2328,       3902,    51.6,   0.4992,  34.0568,2,  34.0506,2,    313.7,2,   322.3,3,   42.28,2,   27.15,2,    1.86,2,-999.000,9,-999.000,9,-999.000,9,  2179.9,6,  2303.5,6,   0.4972
09AR20041223,       I09S,      75,          1,         22,         22,2,20050122,       1328,   -57.7755,    83.2328,       3902,    81.3,  -0.4243,  34.1907,2,  34.1898,2,    304.6,2,   294.3,2,   61.61,2,   30.56,2,    2.14,2,-999.000,5,-999.000,5,-999.000,5,  2209.6,2,  2309.5,2,  -0.4269
09AR20041223,       I09S,      75,          1,         21,         21,2,20050122,       1328,   -57.7755,    83.2328,       3902,   111.0,  -0.3873,  34.2566,2,  34.2646,2,    271.3,2,   272.2,2,   67.27,2,   31.63,2,    2.20,2,   3.693,2,   1.895,2,   0.315,2,  2221.0,2,  2314.2,2,  -0.3909
09AR20041223,       I09S,      75,          1,         20,         20,2,20050122,       1328,   -57.7755,    83.2328,       3902,   152.3,   0.0498,  34.3497,2,  34.3564,2,    228.5,2,   246.5,3,   71.56,2,   32.61,2,    2.25,2,   2.950,2,   1.507,2,   0.258,2,  2230.7,2,  2323.0,2,   0.0443
09AR20041223,       I09S,      75,          1,         19,         19,2,20050122,       1328,   -57.7755,    83.2328,       3902,   199.7,   1.4545,  34.5515,2,  34.5511,2,    193.0,2,   194.1,2,   79.26,2,   33.58,2,    2.30,2,   1.234,6,   0.632,6,   0.102,6,  2250.3,2,  2330.4,2,   1.4447
09AR20041223,       I09S,      75,          1,         18,         18,2,20050122,       1328,   -57.7755,    83.2328,       3902,   301.7,   1.3003,  34.6180,2,  34.6150,2,    197.2,2,   197.1,2,   84.63,2,   32.70,2,    2.25,2,   1.050,2,   0.531,2,   0.087,2,  2251.1,2,  2339.2,2,   1.2856
09AR20041223,       I09S,      75,          1,         17,          6,2,20050122,       1328,   -57.7755,    83.2328,       3902,   402.4,   1.6214,  34.6946,2,  34.6941,2,    192.9,2,   191.5,2,   87.65,2,   31.92,2,    2.19,2,   0.496,2,   0.252,2,   0.037,2,  -999.0,9,  -999.0,9,   1.6003
09AR20041223,       I09S,      75,          1,         16,        116,2,20050122,       1328,   -57.7755,    83.2328,       3902,   502.5,   1.6782,  34.7280,2,  34.7274,2,    194.7,2,   193.8,2,   89.41,2,   31.14,2,    2.15,2,   0.271,2,   0.139,2,   0.014,2,  2248.8,2,  2352.8,3,   1.6512
09AR20041223,       I09S,      75,          1,         15,         15,2,20050122,       1328,   -57.7755,    83.2328,       3902,   600.2,   1.4891,  34.7242,2,  34.7241,2,    195.6,2,   197.9,2,   92.43,2,   31.14,2,    2.14,2,   0.479,4,   0.177,2,   0.020,2,  2249.9,2,  2346.6,2,   1.4573
09AR20041223,       I09S,      75,          1,         14,         14,2,20050122,       1328,   -57.7755,    83.2328,       3902,   700.7,   1.4473,  34.7284,2,  34.7288,2,    198.4,2,   199.7,2,   94.48,2,   31.14,2,    2.14,2,   0.297,2,   0.153,2,   0.023,2,  2250.5,2,  2348.4,2,   1.4098
09AR20041223,       I09S,      75,          1,         13,         13,2,20050122,       1328,   -57.7755,    83.2328,       3902,   802.7,   1.3852,  34.7305,2,  34.7304,2,    200.9,2,   201.7,2,   96.34,2,   31.14,2,    2.15,2,   0.259,2,   0.138,2,   0.029,2,  2250.0,2,  2346.5,2,   1.3420
09AR20041223,       I09S,      75,          1,         12,         12,2,20050122,       1328,   -57.7755,    83.2328,       3902,  1000.0,   1.2175,  34.7287,2,  34.7286,2,    204.5,2,   203.3,2,  101.02,2,   31.43,2,    2.16,2,   0.210,2,   0.112,2,   0.010,2,  2252.2,6,  2351.5,6,   1.1633
09AR20041223,       I09S,      75,          1,         11,         11,2,20050122,       1328,   -57.7755,    83.2328,       3902,  1201.5,   0.9691,  34.7174,2,  34.7176,2,    205.8,2,   205.5,2,  107.76,2,   31.82,2,    2.20,2,   0.251,2,   0.111,2,   0.011,2,  2256.7,2,  2363.9,3,   0.9044
09AR20041223,       I09S,      75,          1,         10,         10,2,20050122,       1328,   -57.7755,    83.2328,       3902,  1500.8,   0.7417,  34.7055,2,  34.7057,2,    208.1,2,   207.8,2,  114.59,2,   32.21,2,    2.24,2,   0.208,2,   0.110,2,   0.020,2,  2258.2,2,  2355.8,2,   0.6598
09AR20041223,       I09S,      75,          1,          9,          9,2,20050122,       1328,   -57.7755,    83.2328,       3902,  1801.4,   0.5763,  34.6975,2,  34.6972,2,    211.6,2,   211.1,2,  119.86,2,   32.60,2,    2.25,2,   0.196,6,   0.108,6,   0.024,6,  2259.2,2,  2355.4,2,   0.4759
09AR20041223,       I09S,      75,          1,          8,        208,2,20050122,       1328,   -57.7755,    83.2328,       3902,  2102.0,   0.3796,  34.6884,2,  34.6880,2,    216.3,2,   214.8,2,  124.65,2,   32.89,2,    2.28,2,   0.233,2,   0.124,2,   0.011,2,  2260.5,2,  2356.8,2,   0.2604
09AR20041223,       I09S,      75,          1,          7,        107,2,20050122,       1328,   -57.7755,    83.2328,       3902,  2403.9,   0.1869,  34.6808,2,  34.6801,2,    220.0,2,   221.4,2,  126.99,2,   32.99,2,    2.27,2,   0.399,2,   0.201,2,   0.018,2,  -999.0,9,  -999.0,9,   0.0482
09AR20041223,       I09S,      75,          1,          6,        117,2,20050122,       1328,   -57.7755,    83.2328,       3902,  2702.4,   0.1434,  34.6801,2,  34.6796,2,    222.3,2,   222.7,2,  128.45,2,   32.89,2,    2.27,2,   0.530,2,   0.252,2,   0.030,2,  2258.6,2,  2355.3,2,  -0.0182
09AR20041223,       I09S,      75,          1,          5,        105,2,20050122,       1328,   -57.7755,    83.2328,       3902,  2999.2,   0.0751,  34.6774,2,  34.6784,2,    226.7,2,   226.0,2,  128.45,2,   32.70,2,    2.27,2,   0.655,2,   0.321,2,   0.038,2,  2259.6,2,  2354.4,2,  -0.1100
09AR20041223,       I09S,      75,          1,          4,        104,2,20050122,       1328,   -57.7755,    83.2328,       3902,  3300.7,  -0.0269,  34.6735,2,  34.6723,2,    230.1,2,   230.1,2,  130.02,2,   32.60,2,    2.27,2,   0.917,2,   0.437,2,   0.054,2,  2257.4,2,  2353.7,2,  -0.2360
09AR20041223,       I09S,      75,          1,          3,        103,2,20050122,       1328,   -57.7755,    83.2328,       3902,  3602.0,  -0.0446,  34.6721,2,  34.6711,2,    230.8,2,   231.7,2,  129.92,2,   32.50,2,    2.27,2,   1.027,2,   0.490,2,   0.070,2,  2257.5,2,  2352.1,2,  -0.2809
09AR20041223,       I09S,      75,          1,          2,        102,2,20050122,       1328,   -57.7755,    83.2328,       3902,  3801.2,  -0.0762,  34.6697,2,  34.6686,2,    232.9,2,   233.3,2,  130.11,2,   32.60,2,    2.27,2,   1.172,6,   0.560,6,   0.082,6,  2256.3,2,  2352.9,2,  -0.3307
09AR20041223,       I09S,      75,          1,          1,        101,2,20050122,       1328,   -57.7755,    83.2328,       3902,  3957.7,  -0.0602,  34.6723,2,  34.6682,2,    232.9,2,   233.6,2,  130.02,2,   32.70,2,    2.26,2,   1.158,2,   0.544,2,   0.070,2,  2255.3,6,  2353.4,6,  -0.3304