BOTTLE,20220105CCHSIOENA
EXPOCODE,SECT_ID,STNNBR,CASTNO,SAMPNO,BTLNBR,BTLNBR_FLAG_W,DATE,TIME,LATITUDE,LONGITUDE,DEPTH,CTDPRS,CTDTMP,CTDSAL,CTDSAL_FLAG_W,SALNTY,SALNTY_FLAG_W,CTDOXY,CTDOXY_FLAG_W,OXYGEN,OXYGEN_FLAG_W,SILCAT,SILCAT_FLAG_W,NITRAT,NITRAT_FLAG_W,PHSPHT,PHSPHT_FLAG_W,CFC-11,CFC-11_FLAG_W,CFC-12,CFC-12_FLAG_W,CFC113,CFC113_FLAG_W,TCARBN,TCARBN_FLAG_W,ALKALI,ALKALI_FLAG_W,THETA
,,,,,,,,,,,METERS,DBAR,ITS-90,PSS-78,,PSS-78,,UMOL/KG,,UMOL/KG,,UMOL/KG,,UMOL/KG,,UMOL/KG,,PMOL/KG,,PMOL/KG,,PMOL/KG,,UMOL/KG,,UMOL/KG,,DEG C
09AR20041223,       I09S,     104,          1,         24,         24,2,20050201,       0940,   -64.0607,    80.8167,       3670,    11.1,   1.0266,  33.6048,2,  33.6050,2,    339.4,2,   337.1,2,   37.12,2,   25.01,2,    1.54,2,   4.660,2,   2.438,2,   0.418,2,  2142.0,6,  2286.4,6,   1.0261
09AR20041223,       I09S,     104,          1,         23,         23,2,20050201,       0940,   -64.0607,    80.8167,       3670,    36.2,   0.5702,  33.7411,2,  33.7528,2,    330.2,2,   332.3,2,   42.49,2,   26.27,2,    1.65,2,   4.361,2,   2.290,2,   0.403,2,  2155.3,2,  2303.3,3,   0.5688
09AR20041223,       I09S,     104,          1,         22,         22,2,20050201,       0940,   -64.0607,    80.8167,       3670,    60.3,  -0.9582,  34.0987,2,  34.1093,2,    290.8,2,   293.2,2,   59.57,2,   29.78,2,    2.02,2,   3.524,2,   1.829,2,   0.308,2,  2200.1,2,  2309.0,2,  -0.9598
09AR20041223,       I09S,     104,          1,         21,         21,2,20050201,       0940,   -64.0607,    80.8167,       3670,    91.4,  -0.3425,  34.3077,2,  34.3129,2,    252.3,2,   246.1,2,   72.84,2,   31.93,2,    2.12,2,   2.435,2,   1.244,2,   0.224,2,  2226.8,2,  2331.8,3,  -0.3455
09AR20041223,       I09S,     104,          1,         20,         20,2,20050201,       0940,   -64.0607,    80.8167,       3670,   145.3,   1.3623,  34.5495,2,  34.5489,2,    191.1,2,   190.9,2,   82.68,2,   33.58,2,    2.25,2,   1.054,2,   0.542,2,   0.100,2,  2253.6,2,  2332.2,2,   1.3554
09AR20041223,       I09S,     104,          1,         19,         19,2,20050201,       0940,   -64.0607,    80.8167,       3670,   200.7,   1.7120,  34.6317,2,  34.6327,2,    178.5,2,   180.4,2,   86.09,2,   33.09,2,    2.22,2,   0.566,6,   0.295,6,   0.054,6,  2258.3,2,  2338.0,2,   1.7017
09AR20041223,       I09S,     104,          1,         18,         18,2,20050201,       0940,   -64.0607,    80.8167,       3670,   250.2,   1.8347,  34.6725,2,  34.6705,2,    177.6,2,   178.6,2,   87.26,2,   32.50,2,    2.19,2,   0.378,2,   0.203,2,   0.038,2,  -999.0,9,  -999.0,9,   1.8215
09AR20041223,       I09S,     104,          1,         17,          6,2,20050201,       0940,   -64.0607,    80.8167,       3670,   301.4,   1.8488,  34.6927,2,  34.6921,2,    180.9,2,   181.0,2,   86.97,2,   32.21,2,    2.14,2,   0.301,2,   0.154,2,   0.024,2,  2255.6,2,  2342.9,2,   1.8327
09AR20041223,       I09S,     104,          1,         16,         16,2,20050201,       0940,   -64.0607,    80.8167,       3670,   400.1,   1.8634,  34.7220,2,  34.7231,2,    186.5,2,   185.6,2,   87.55,2,   31.14,2,    2.09,2,   0.164,2,   0.093,2,   0.013,2,  -999.0,9,  -999.0,9,   1.8417
09AR20041223,       I09S,     104,          1,         15,         15,2,20050201,       0940,   -64.0607,    80.8167,       3670,   553.0,   1.7606,  34.7392,2,  34.7392,2,    193.1,2,   192.1,2,   89.01,2,   30.35,2,    2.04,2,   0.118,2,   0.064,2,   0.008,2,  2249.6,2,  2346.1,2,   1.7303
09AR20041223,       I09S,     104,          1,         14,         14,2,20050201,       0940,   -64.0607,    80.8167,       3670,   700.8,   1.5187,  34.7346,2,  34.7396,2,    197.3,2,   197.7,2,   93.41,2,   30.45,2,    2.05,2,   0.179,2,   0.094,2,   0.021,2,  2248.8,2,  2357.5,3,   1.4808
09AR20041223,       I09S,     104,          1,         13,         13,2,20050201,       0940,   -64.0607,    80.8167,       3670,   850.4,   1.2767,  34.7238,2,  34.7253,2,    201.3,2,   201.3,2,   97.80,2,   30.55,2,    2.07,2,   0.256,2,   0.137,2,   0.026,2,  -999.0,9,  -999.0,9,   1.2313
09AR20041223,       I09S,     104,          1,         12,         12,2,20050201,       0940,   -64.0607,    80.8167,       3670,  1001.0,   1.1607,  34.7239,2,  34.7249,2,    202.7,2,   203.1,2,  101.61,2,   30.65,2,    2.08,2,   0.188,2,   0.104,2,   0.017,2,  2252.9,2,  2356.0,6,   1.1069
09AR20041223,       I09S,     104,          1,         11,         11,2,20050201,       0940,   -64.0607,    80.8167,       3670,  1200.5,   1.0021,  34.7203,2,  34.7206,2,    204.3,2,   204.2,2,  107.07,2,   30.94,2,    2.10,2,   0.128,2,   0.071,2,   0.006,2,  2255.5,2,  2366.5,3,   0.9371
09AR20041223,       I09S,     104,          1,         10,         10,2,20050201,       0940,   -64.0607,    80.8167,       3670,  1394.5,   0.8454,  34.7119,2,  34.7125,2,    205.7,2,   205.6,2,  111.47,2,   31.23,2,    2.12,2,   0.152,2,   0.063,2,   0.003,2,  2257.0,2,  2355.7,2,   0.7694
09AR20041223,       I09S,     104,          1,          9,          9,2,20050201,       0940,   -64.0607,    80.8167,       3670,  1602.0,   0.6822,  34.7033,2,  34.7033,2,    207.2,2,   207.3,2,  116.54,2,   31.53,2,    2.15,2,   0.113,6,   0.063,6,   0.004,6,  -999.0,9,  -999.0,9,   0.5942
09AR20041223,       I09S,     104,          1,          8,        108,2,20050201,       0940,   -64.0607,    80.8167,       3670,  1801.5,   0.5507,  34.6961,2,  34.6962,2,    208.9,2,   209.4,2,  120.25,2,   31.92,2,    2.17,2,   0.109,2,   0.062,2,   0.000,2,  2259.7,2,  2364.8,3,   0.4506
09AR20041223,       I09S,     104,          1,          7,        107,2,20050201,       0940,   -64.0607,    80.8167,       3670,  2101.4,   0.3800,  34.6873,2,  34.6878,2,    212.2,2,   212.4,2,  125.23,2,   32.11,2,    2.19,2,   0.104,2,   0.062,2,   0.003,2,  2264.0,4,  2355.9,2,   0.2608
09AR20041223,       I09S,     104,          1,          6,        117,2,20050201,       0940,   -64.0607,    80.8167,       3670,  2402.5,   0.2350,  34.6803,2,  34.6809,2,    217.2,2,   216.7,2,  127.48,2,   32.02,2,    2.20,2,   0.164,2,   0.095,2,   0.002,2,  2259.6,2,  2356.3,2,   0.0955
09AR20041223,       I09S,     104,          1,          5,        105,2,20050201,       0940,   -64.0607,    80.8167,       3670,  2800.1,   0.0833,  34.6741,2,  34.6743,2,    223.3,2,   223.6,2,  128.16,2,   32.02,2,    2.20,2,   0.333,2,   0.179,2,   0.016,2,  2258.3,2,  2354.4,2,  -0.0851
09AR20041223,       I09S,     104,          1,          4,        104,2,20050201,       0940,   -64.0607,    80.8167,       3670,  3102.6,  -0.0019,  34.6717,2,  34.6697,2,    228.2,2,  -999.0,9,  124.94,2,   31.92,2,    2.17,2,   0.634,2,   0.313,2,   0.050,2,  -999.0,9,  -999.0,9,  -0.1941
09AR20041223,       I09S,     104,          1,          3,        103,2,20050201,       0940,   -64.0607,    80.8167,       3670,  3401.5,  -0.0622,  34.6690,2,  34.6689,2,    230.9,2,   231.8,2,  125.23,2,   32.11,2,    2.18,2,   0.763,2,   0.378,2,   0.054,2,  2255.9,2,  2353.0,2,  -0.2795
09AR20041223,       I09S,     104,          1,          2,        102,2,20050201,       0940,   -64.0607,    80.8167,       3670,  3665.1,  -0.1341,  34.6662,2,  34.6658,2,    231.7,2,   232.1,2,  137.92,2,   31.92,2,    2.20,2,   0.738,6,   0.358,6,   0.050,6,  -999.0,9,  -999.0,9,  -0.3740
09AR20041223,       I09S,     104,          1,          1,        101,2,20050201,       0940,   -64.0607,    80.8167,       3670,  3703.5,  -0.1347,  34.6659,2,  34.6656,2,    231.1,2,   231.9,2,  140.46,2,   32.02,2,    2.21,2,   0.744,2,   0.367,2,   0.048,2,  2258.4,6,  2354.0,6,  -0.3782
09AR20041223,       I09S,     105,          1,         24,         24,2,20050201,       1416,   -64.3470,    80.7388,       3655,    16.7,   1.0417,  33.6522,2,  33.6575,2,    339.4,2,   336.0,2,   37.51,2,   25.49,2,    1.55,2,-999.000,9,-999.000,9,-999.000,9,  -999.0,9,  -999.0,9,   1.0410
09AR20041223,       I09S,     105,          1,         23,         23,2,20050201,       1416,   -64.3470,    80.7388,       3655,    46.6,  -0.3039,  33.9257,2,  33.8887,2,    325.9,2,   327.5,2,   44.05,2,   27.05,2,    1.74,2,-999.000,9,-999.000,9,-999.000,9,  -999.0,9,  -999.0,9,  -0.3054
09AR20041223,       I09S,     105,          1,         22,         22,2,20050201,       1416,   -64.3470,    80.7388,       3655,    70.8,  -1.0770,  34.1958,2,  34.1946,2,    286.3,2,   284.7,2,   62.98,2,   30.27,2,    2.02,2,-999.000,9,-999.000,9,-999.000,9,  -999.0,9,  -999.0,9,  -1.0788
09AR20041223,       I09S,     105,          1,         21,         21,2,20050201,       1416,   -64.3470,    80.7388,       3655,   111.0,   0.8642,  34.4676,2,  34.4658,2,    229.7,2,   208.7,2,   78.00,2,   33.29,2,    2.24,2,-999.000,9,-999.000,9,-999.000,9,  -999.0,9,  -999.0,9,   0.8594
09AR20041223,       I09S,     105,          1,         20,         20,2,20050201,       1416,   -64.3470,    80.7388,       3655,   151.5,   1.6767,  34.6009,2,  34.4646,4,    182.1,2,   180.3,2,   85.41,2,   33.77,2,    2.27,2,-999.000,9,-999.000,9,-999.000,9,  -999.0,9,  -999.0,9,   1.6691
09AR20041223,       I09S,     105,          1,         19,         19,2,20050201,       1416,   -64.3470,    80.7388,       3655,   200.5,   1.7980,  34.6439,2,  34.6442,2,    177.1,2,   177.8,2,   86.87,2,   33.48,2,    2.25,2,-999.000,9,-999.000,9,-999.000,9,  -999.0,9,  -999.0,9,   1.7876
09AR20041223,       I09S,     105,          1,         18,         18,2,20050201,       1416,   -64.3470,    80.7388,       3655,   251.3,   1.8214,  34.6696,2,  34.6705,2,    177.8,2,   178.2,2,   87.75,2,   32.89,2,    2.20,2,-999.000,9,-999.000,9,-999.000,9,  -999.0,9,  -999.0,9,   1.8082
09AR20041223,       I09S,     105,          1,         17,          6,2,20050201,       1416,   -64.3470,    80.7388,       3655,   300.4,   1.8236,  34.6867,2,  34.6874,2,    180.7,2,   180.2,2,   88.04,2,   32.50,2,    2.18,2,-999.000,9,-999.000,9,-999.000,9,  -999.0,9,  -999.0,9,   1.8076
09AR20041223,       I09S,     105,          1,         16,         16,2,20050201,       1416,   -64.3470,    80.7388,       3655,   401.5,   1.7971,  34.7146,2,  34.7155,2,    185.3,2,   185.6,2,   88.72,2,   31.53,2,    2.12,2,-999.000,9,-999.000,9,-999.000,9,  -999.0,9,  -999.0,9,   1.7755
09AR20041223,       I09S,     105,          1,         15,         15,2,20050201,       1416,   -64.3470,    80.7388,       3655,   551.4,   1.6892,  34.7350,2,  34.7357,2,    192.0,2,   192.2,2,   90.48,2,   30.75,2,    2.07,2,-999.000,9,-999.000,9,-999.000,9,  -999.0,9,  -999.0,9,   1.6593
09AR20041223,       I09S,     105,          1,         14,         14,2,20050201,       1416,   -64.3470,    80.7388,       3655,   701.7,   1.5652,  34.7428,2,  34.7427,2,    197.6,2,   198.0,2,   92.82,2,   30.35,2,    2.05,2,-999.000,9,-999.000,9,-999.000,9,  -999.0,9,  -999.0,9,   1.5270
09AR20041223,       I09S,     105,          1,         13,         13,2,20050201,       1416,   -64.3470,    80.7388,       3655,   850.7,   1.3758,  34.7387,2,  34.7390,2,    200.4,2,   201.3,2,   97.41,2,   31.04,2,    2.06,2,-999.000,9,-999.000,9,-999.000,9,  -999.0,9,  -999.0,9,   1.3297
09AR20041223,       I09S,     105,          1,         12,         12,2,20050201,       1416,   -64.3470,    80.7388,       3655,  1003.2,   1.2543,  34.7349,2,  34.7357,2,    202.7,2,   202.6,2,  106.68,3,   31.23,2,    2.12,2,-999.000,9,-999.000,9,-999.000,9,  -999.0,9,  -999.0,9,   1.1996
09AR20041223,       I09S,     105,          1,         11,         11,2,20050201,       1416,   -64.3470,    80.7388,       3655,  1200.4,   1.0132,  34.7201,2,  34.7200,2,    204.5,2,   203.4,2,  106.78,2,   31.14,2,    2.11,2,-999.000,9,-999.000,9,-999.000,9,  -999.0,9,  -999.0,9,   0.9481
09AR20041223,       I09S,     105,          1,         10,         10,2,20050201,       1416,   -64.3470,    80.7388,       3655,  1399.4,   0.8546,  34.7134,2,  34.7137,2,    206.2,2,   205.8,2,  111.47,2,   31.53,2,    2.14,2,-999.000,9,-999.000,9,-999.000,9,  -999.0,9,  -999.0,9,   0.7782
09AR20041223,       I09S,     105,          1,          9,          9,2,20050201,       1416,   -64.3470,    80.7388,       3655,  1599.7,   0.6787,  34.7022,2,  34.7021,2,    207.0,2,   207.1,2,  116.25,2,   31.92,2,    2.17,2,-999.000,9,-999.000,9,-999.000,9,  -999.0,9,  -999.0,9,   0.5909
09AR20041223,       I09S,     105,          1,          8,        108,2,20050201,       1416,   -64.3470,    80.7388,       3655,  1800.5,   0.5646,  34.6968,2,  34.6968,2,    208.6,2,   208.9,2,  120.06,2,   32.11,2,    2.19,2,-999.000,9,-999.000,9,-999.000,9,  -999.0,9,  -999.0,9,   0.4644
09AR20041223,       I09S,     105,          1,          7,        107,2,20050201,       1416,   -64.3470,    80.7388,       3655,  2100.8,   0.3595,  34.6857,2,  34.6852,2,    213.1,2,   213.7,2,  124.16,2,   32.21,2,    2.21,2,-999.000,9,-999.000,9,-999.000,9,  -999.0,9,  -999.0,9,   0.2407
09AR20041223,       I09S,     105,          1,          6,        117,2,20050201,       1416,   -64.3470,    80.7388,       3655,  2400.8,   0.2193,  34.6795,2,  34.6796,2,    218.1,2,   218.2,2,  125.82,2,   32.21,2,    2.21,2,-999.000,9,-999.000,9,-999.000,9,  -999.0,9,  -999.0,9,   0.0802
09AR20041223,       I09S,     105,          1,          5,        105,2,20050201,       1416,   -64.3470,    80.7388,       3655,  2800.2,   0.0795,  34.6742,2,  34.6731,2,    223.9,2,   224.1,2,  125.92,2,   32.31,2,    2.21,2,-999.000,9,-999.000,9,-999.000,9,  -999.0,9,  -999.0,9,  -0.0888
09AR20041223,       I09S,     105,          1,          4,        104,2,20050201,       1416,   -64.3470,    80.7388,       3655,  3100.8,  -0.0011,  34.6712,2,  34.6697,2,    227.6,2,   227.5,2,  126.70,2,   32.50,2,    2.20,2,-999.000,9,-999.000,9,-999.000,9,  -999.0,9,  -999.0,9,  -0.1932
09AR20041223,       I09S,     105,          1,          3,        103,2,20050201,       1416,   -64.3470,    80.7388,       3655,  3399.7,  -0.0785,  34.6685,2,  34.6668,2,    231.9,2,   231.6,2,  125.14,2,   32.31,2,    2.19,2,-999.000,9,-999.000,9,-999.000,9,  -999.0,9,  -999.0,9,  -0.2952
09AR20041223,       I09S,     105,          1,          2,        102,2,20050201,       1416,   -64.3470,    80.7388,       3655,  3600.8,  -0.1326,  34.6665,2,  34.6656,2,    233.0,2,   233.0,2,  135.87,2,   32.31,2,    2.22,2,-999.000,9,-999.000,9,-999.000,9,  -999.0,9,  -999.0,9,  -0.3665
09AR20041223,       I09S,     105,          1,          1,        101,2,20050201,       1416,   -64.3470,    80.7388,       3655,  3690.2,  -0.1423,  34.6654,2,  34.6637,2,    232.5,2,   233.4,2,  142.32,2,   33.38,3,    2.23,2,-999.000,9,-999.000,9,-999.000,9,  -999.0,9,  -999.0,9,  -0.3843