BOTTLE,20220105CCHSIOENA
EXPOCODE,SECT_ID,STNNBR,CASTNO,SAMPNO,BTLNBR,BTLNBR_FLAG_W,DATE,TIME,LATITUDE,LONGITUDE,DEPTH,CTDPRS,CTDTMP,CTDSAL,CTDSAL_FLAG_W,SALNTY,SALNTY_FLAG_W,CTDOXY,CTDOXY_FLAG_W,OXYGEN,OXYGEN_FLAG_W,SILCAT,SILCAT_FLAG_W,NITRAT,NITRAT_FLAG_W,PHSPHT,PHSPHT_FLAG_W,CFC-11,CFC-11_FLAG_W,CFC-12,CFC-12_FLAG_W,CFC113,CFC113_FLAG_W,TCARBN,TCARBN_FLAG_W,ALKALI,ALKALI_FLAG_W,THETA
,,,,,,,,,,,METERS,DBAR,ITS-90,PSS-78,,PSS-78,,UMOL/KG,,UMOL/KG,,UMOL/KG,,UMOL/KG,,UMOL/KG,,PMOL/KG,,PMOL/KG,,PMOL/KG,,UMOL/KG,,UMOL/KG,,DEG C
09AR20041223,       I09S,      56,          1,         24,         24,2,20050112,       2100,   -62.0072,   114.9943,       4305,    12.4,   0.8948,  33.8316,2,  33.8328,2,    344.2,2,   342.3,2,   32.23,2,   26.27,2,    1.71,2,-999.000,9,-999.000,9,-999.000,9,  -999.0,9,  -999.0,9,   0.8943
09AR20041223,       I09S,      56,          1,         23,         23,2,20050112,       2100,   -62.0072,   114.9943,       4305,    53.7,  -0.0465,  33.9218,2,  33.9299,2,    342.4,2,   347.8,2,   36.33,2,   27.15,2,    1.84,2,-999.000,9,-999.000,9,-999.000,9,  -999.0,9,  -999.0,9,  -0.0483
09AR20041223,       I09S,      56,          1,         22,         22,2,20050112,       2100,   -62.0072,   114.9943,       4305,    90.6,  -0.8422,  34.0915,2,  34.0799,2,    320.2,2,   318.2,2,   49.02,2,   30.37,2,    2.07,2,-999.000,9,-999.000,9,-999.000,9,  -999.0,9,  -999.0,9,  -0.8447
09AR20041223,       I09S,      56,          1,         21,         21,2,20050112,       2100,   -62.0072,   114.9943,       4305,   141.0,   0.8129,  34.3535,2,  34.3449,2,    236.6,2,   232.1,2,   64.44,2,   33.19,2,    2.27,2,-999.000,9,-999.000,9,-999.000,9,  -999.0,9,  -999.0,9,   0.8069
09AR20041223,       I09S,      56,          1,         20,         20,2,20050112,       2100,   -62.0072,   114.9943,       4305,   191.2,   1.7561,  34.5246,2,  34.5232,2,    194.5,2,   186.2,3,   74.87,2,   33.97,2,    2.32,2,-999.000,9,-999.000,9,-999.000,9,  -999.0,9,  -999.0,9,   1.7463
09AR20041223,       I09S,      56,          1,         19,         19,2,20050112,       2100,   -62.0072,   114.9943,       4305,   250.6,   1.7879,  34.5848,2,  34.5862,2,    174.9,2,   183.0,3,   78.77,2,   33.68,2,    2.28,2,-999.000,9,-999.000,9,-999.000,9,  -999.0,9,  -999.0,9,   1.7748
09AR20041223,       I09S,      56,          1,         18,         18,2,20050112,       2100,   -62.0072,   114.9943,       4305,   301.5,   1.9358,  34.6365,2,  34.6364,2,    177.7,2,   178.2,2,   80.72,2,   33.09,2,    2.26,2,-999.000,9,-999.000,9,-999.000,9,  -999.0,9,  -999.0,9,   1.9195
09AR20041223,       I09S,      56,          1,         17,          6,2,20050112,       2100,   -62.0072,   114.9943,       4305,   400.6,   1.9789,  34.6797,2,  34.6805,2,    178.3,2,   179.8,2,   80.82,2,   33.09,2,    2.26,2,-999.000,9,-999.000,9,-999.000,9,  -999.0,9,  -999.0,9,   1.9568
09AR20041223,       I09S,      56,          1,         16,         16,2,20050112,       2100,   -62.0072,   114.9943,       4305,   501.0,   1.8539,  34.6971,2,  34.6982,2,    183.1,2,   185.3,2,   84.82,2,   31.92,2,    2.19,2,-999.000,9,-999.000,9,-999.000,9,  -999.0,9,  -999.0,9,   1.8263
09AR20041223,       I09S,      56,          1,         15,         15,2,20050112,       2100,   -62.0072,   114.9943,       4305,   651.8,   1.7710,  34.7189,2,  34.7204,2,    189.1,2,   189.3,2,   87.55,2,   31.23,2,    2.15,2,-999.000,9,-999.000,9,-999.000,9,  -999.0,9,  -999.0,9,   1.7347
09AR20041223,       I09S,      56,          1,         14,         14,2,20050112,       2100,   -62.0072,   114.9943,       4305,   800.2,   1.7039,  34.7370,2,  34.7380,2,    194.1,2,   194.0,2,   89.99,2,   30.55,2,    2.11,2,-999.000,9,-999.000,9,-999.000,9,  -999.0,9,  -999.0,9,   1.6587
09AR20041223,       I09S,      56,          1,         13,         13,2,20050112,       2100,   -62.0072,   114.9943,       4305,  1000.1,   1.5594,  34.7415,2,  34.7424,2,    198.5,2,   198.6,2,   93.99,2,   30.45,2,    2.11,2,-999.000,9,-999.000,9,-999.000,9,  -999.0,9,  -999.0,9,   1.5025
09AR20041223,       I09S,      56,          1,         12,         12,2,20050112,       2100,   -62.0072,   114.9943,       4305,  1201.8,   1.3856,  34.7382,2,  34.7384,2,    201.3,2,   200.4,2,   98.58,2,   30.84,2,    2.12,2,-999.000,9,-999.000,9,-999.000,9,  -999.0,9,  -999.0,9,   1.3168
09AR20041223,       I09S,      56,          1,         11,         11,2,20050112,       2100,   -62.0072,   114.9943,       4305,  1402.1,   1.1964,  34.7310,2,  34.7315,2,    203.6,2,   203.4,2,  104.53,2,   30.84,2,    2.14,2,-999.000,9,-999.000,9,-999.000,9,  -999.0,9,  -999.0,9,   1.1160
09AR20041223,       I09S,      56,          1,         10,         10,2,20050112,       2100,   -62.0072,   114.9943,       4305,  1600.6,   1.0310,  34.7223,2,  34.7229,2,    205.5,2,   205.4,2,  108.83,2,   31.33,2,    2.17,2,-999.000,9,-999.000,9,-999.000,9,  -999.0,9,  -999.0,9,   0.9386
09AR20041223,       I09S,      56,          1,          9,          9,2,20050112,       2100,   -62.0072,   114.9943,       4305,  1799.4,   0.8653,  34.7130,2,  34.7137,2,    207.1,2,   207.8,2,  113.22,2,   31.72,2,    2.19,2,-999.000,9,-999.000,9,-999.000,9,  -999.0,9,  -999.0,9,   0.7609
09AR20041223,       I09S,      56,          1,          8,        208,2,20050112,       2100,   -62.0072,   114.9943,       4305,  2102.7,   0.6508,  34.7023,2,  34.7023,2,    210.8,2,   210.7,2,  124.45,3,   32.02,2,    2.24,2,-999.000,9,-999.000,9,-999.000,9,  -999.0,9,  -999.0,9,   0.5271
09AR20041223,       I09S,      56,          1,          7,        107,2,20050112,       2100,   -62.0072,   114.9943,       4305,  2500.8,   0.3915,  34.6897,2,  34.6896,2,    216.0,2,   216.2,2,  127.87,3,   32.31,2,    2.25,2,-999.000,9,-999.000,9,-999.000,9,  -999.0,9,  -999.0,9,   0.2413
09AR20041223,       I09S,      56,          1,          6,        117,2,20050112,       2100,   -62.0072,   114.9943,       4305,  2900.7,   0.2243,  34.6838,2,  34.6841,2,    221.3,2,   220.9,2,  128.16,2,   32.21,2,    2.25,2,-999.000,9,-999.000,9,-999.000,9,  -999.0,9,  -999.0,9,   0.0443
09AR20041223,       I09S,      56,          1,          5,        105,2,20050112,       2100,   -62.0072,   114.9943,       4305,  3298.1,   0.1043,  34.6788,2,  34.6788,2,    226.3,2,   225.6,2,  128.84,2,   31.92,2,    2.25,2,-999.000,9,-999.000,9,-999.000,9,  -999.0,9,  -999.0,9,  -0.1078
09AR20041223,       I09S,      56,          1,          4,        104,2,20050112,       2100,   -62.0072,   114.9943,       4305,  3701.3,  -0.0013,  34.6740,2,  34.6735,2,    231.2,2,   230.4,2,  128.65,2,   32.02,2,    2.25,2,-999.000,9,-999.000,9,-999.000,9,  -999.0,9,  -999.0,9,  -0.2482
09AR20041223,       I09S,      56,          1,          3,        103,2,20050112,       2100,   -62.0072,   114.9943,       4305,  4000.5,  -0.0578,  34.6706,2,  34.6699,2,    234.3,2,   233.3,2,  129.92,2,   32.21,2,    2.23,2,-999.000,9,-999.000,9,-999.000,9,  -999.0,9,  -999.0,9,  -0.3323
09AR20041223,       I09S,      56,          1,          2,        102,2,20050112,       2100,   -62.0072,   114.9943,       4305,  4201.7,  -0.1462,  34.6614,2,  34.6611,2,    238.2,2,   238.0,2,  129.92,2,   31.82,2,    2.24,2,-999.000,9,-999.000,9,-999.000,9,  -999.0,9,  -999.0,9,  -0.4383
09AR20041223,       I09S,      56,          1,          1,        101,2,20050112,       2100,   -62.0072,   114.9943,       4305,  4287.3,  -0.2024,  34.6551,2,  34.6546,2,    241.1,2,   241.7,2,  125.63,2,   31.63,2,    2.23,2,-999.000,9,-999.000,9,-999.000,9,  -999.0,9,  -999.0,9,  -0.5016
09AR20041223,       I09S,      57,          1,         24,         24,2,20050113,       0327,   -62.4177,   114.4277,       4040,    11.1,   0.6146,  33.8372,2,  33.8384,2,    343.2,2,   341.7,2,   40.63,2,   26.86,2,    1.79,2,   5.423,2,   2.820,2,   0.494,2,  2158.5,6,  2286.4,6,   0.6142
09AR20041223,       I09S,      57,          1,         23,         23,2,20050113,       0327,   -62.4177,   114.4277,       4040,    56.3,  -0.5284,  34.0219,2,  34.0199,2,    326.7,2,   328.7,2,   49.71,2,   27.83,2,    1.89,2,   4.983,2,   2.581,2,   0.445,2,  2178.3,2,  2302.2,2,  -0.5301
09AR20041223,       I09S,      57,          1,         22,         22,2,20050113,       0327,   -62.4177,   114.4277,       4040,    81.5,  -0.5547,  34.1374,2,  34.1269,2,    292.3,2,   303.7,2,   55.85,2,   29.20,2,    2.00,2,   4.426,2,   2.286,2,   0.413,2,  2193.6,2,  2305.9,2,  -0.5572
09AR20041223,       I09S,      57,          1,         21,         21,2,20050113,       0327,   -62.4177,   114.4277,       4040,   111.6,   0.2448,  34.3626,2,  34.3617,2,    242.3,2,   241.1,2,   68.44,2,   32.12,2,    2.19,2,   2.804,2,   1.427,2,   0.246,2,  2224.0,2,  2325.9,2,   0.2406
09AR20041223,       I09S,      57,          1,         20,         20,2,20050113,       0327,   -62.4177,   114.4277,       4040,   171.8,   1.0559,  34.5141,2,  34.5166,2,    206.8,2,   205.0,2,   76.63,2,   32.70,2,    2.24,2,   1.608,2,   0.808,2,   0.128,2,  2243.0,2,  2331.0,2,   1.0481
09AR20041223,       I09S,      57,          1,         19,         19,2,20050113,       0327,   -62.4177,   114.4277,       4040,   251.0,   1.5885,  34.6338,2,  34.6336,2,    189.1,2,   188.7,2,   82.38,2,   32.41,2,    2.23,2,   0.817,6,   0.406,6,   0.075,6,  2251.9,2,  2357.4,3,   1.5758
09AR20041223,       I09S,      57,          1,         18,         18,2,20050113,       0327,   -62.4177,   114.4277,       4040,   301.4,   1.6688,  34.6670,2,  34.6662,2,    185.1,2,   186.6,2,   84.04,2,   32.02,2,    2.20,2,   0.630,2,   0.313,2,   0.042,2,  2250.7,2,  2340.8,2,   1.6532
09AR20041223,       I09S,      57,          1,         17,          6,2,20050113,       0327,   -62.4177,   114.4277,       4040,   400.2,   1.7055,  34.7005,2,  34.6994,2,    186.9,2,   188.9,2,   85.99,2,   31.92,2,    2.16,2,   0.452,2,   0.221,2,   0.046,2,  2248.3,2,  2345.2,2,   1.6843
09AR20041223,       I09S,      57,          1,         16,         16,2,20050113,       0327,   -62.4177,   114.4277,       4040,   501.7,   1.7002,  34.7211,2,  34.7208,2,    190.4,2,   191.4,2,   87.65,2,   31.04,2,    2.13,2,   0.327,2,   0.159,2,   0.023,2,  2247.6,2,  2345.5,2,   1.6732
09AR20041223,       I09S,      57,          1,         15,         15,2,20050113,       0327,   -62.4177,   114.4277,       4040,   602.3,   1.6802,  34.7354,2,  34.7345,2,    193.1,2,   194.2,2,   89.70,2,   30.55,2,    2.11,2,   0.228,2,   0.104,2,   0.010,2,  2246.3,2,  2344.4,2,   1.6473
09AR20041223,       I09S,      57,          1,         14,         14,2,20050113,       0327,   -62.4177,   114.4277,       4040,   799.8,   1.4646,  34.7358,2,  34.7378,2,    197.7,2,   198.5,2,   94.97,2,   30.55,2,    2.11,2,   0.225,2,   0.104,2,   0.034,3,  2249.6,2,  2353.1,3,   1.4210
09AR20041223,       I09S,      57,          1,         13,         13,2,20050113,       0327,   -62.4177,   114.4277,       4040,  1000.5,   1.2938,  34.7325,2,  34.7325,2,    200.5,2,   200.5,2,  100.14,2,   31.72,2,    2.14,2,   0.203,2,   0.093,2,   0.017,2,  2250.5,2,  2351.6,2,   1.2390
09AR20041223,       I09S,      57,          1,         12,         12,2,20050113,       0327,   -62.4177,   114.4277,       4040,  1200.6,   1.1410,  34.7271,2,  34.7274,2,    203.0,2,   202.8,2,  103.95,2,   31.33,2,    2.14,2,   0.172,2,   0.082,2,   0.018,2,  2251.3,6,  2353.4,3,   1.0747
09AR20041223,       I09S,      57,          1,         11,         11,2,20050113,       0327,   -62.4177,   114.4277,       4040,  1400.5,   0.9611,  34.7186,2,  34.7180,2,    205.1,2,   204.3,2,  109.51,2,   31.43,2,    2.16,2,   0.171,2,   0.080,2,   0.008,2,  2257.3,2,  2353.6,2,   0.8834
09AR20041223,       I09S,      57,          1,         10,         10,2,20050113,       0327,   -62.4177,   114.4277,       4040,  1601.7,   0.8113,  34.7103,2,  34.7104,2,    207.2,2,   206.9,2,  113.42,2,   31.82,2,    2.17,2,   0.187,2,   0.084,2,   0.016,2,  2254.9,2,  2355.8,2,   0.7217
09AR20041223,       I09S,      57,          1,          9,          9,2,20050113,       0327,   -62.4177,   114.4277,       4040,  1801.3,   0.6534,  34.7018,2,  34.7015,2,    209.8,2,   210.0,2,  117.13,2,   32.41,2,    2.22,2,   0.212,6,   0.108,6,   0.009,6,  2258.3,2,  2356.8,2,   0.5519
09AR20041223,       I09S,      57,          1,          8,        208,4,20050113,       0327,   -62.4177,   114.4277,       4040,  2000.9,   0.5276,  34.6958,2,  34.7000,4,    212.7,2,  -999.0,9, -999.00,9, -999.00,9, -999.00,9,   0.210,2,   0.104,2,   0.025,2,  2256.4,2,  2355.2,2,   0.4135
09AR20041223,       I09S,      57,          1,          7,        107,2,20050113,       0327,   -62.4177,   114.4277,       4040,  2300.3,   0.3410,  34.6880,2,  34.6872,2,    217.4,2,   217.1,2,  123.77,2,   32.31,2,    2.24,2,   0.338,2,   0.149,2,   0.024,2,  2255.1,2,  2353.7,2,   0.2075
09AR20041223,       I09S,      57,          1,          6,        117,2,20050113,       0327,   -62.4177,   114.4277,       4040,  2699.9,   0.1626,  34.6819,2,  34.6811,2,    222.5,2,   222.1,2,  127.28,2,   32.41,2,    2.25,2,   0.477,2,   0.231,2,   0.026,2,  2256.6,2,  2356.7,2,   0.0008
09AR20041223,       I09S,      57,          1,          5,        105,2,20050113,       0327,   -62.4177,   114.4277,       4040,  3101.0,   0.0358,  34.6762,2,  34.6754,2,    227.6,2,   227.6,2,  126.89,2,   32.11,2,    2.24,2,   0.737,2,   0.355,2,   0.035,2,  2258.7,2,  2352.0,2,  -0.1572
09AR20041223,       I09S,      57,          1,          4,        104,2,20050113,       0327,   -62.4177,   114.4277,       4040,  3501.1,  -0.0491,  34.6733,2,  34.6760,2,    231.1,2,   230.5,2,  130.21,2,   32.41,2,    2.25,2,   0.966,2,   0.459,2,   0.060,2,  2253.3,2,  2352.3,2,  -0.2759
09AR20041223,       I09S,      57,          1,          3,        103,2,20050113,       0327,   -62.4177,   114.4277,       4040,  3802.4,  -0.1168,  34.6671,2,  34.6692,2,    234.2,2,   232.5,2,  129.24,2,   32.21,2,    2.25,2,   1.099,2,   0.512,2,   0.063,2,  2254.4,2,  2352.9,2,  -0.3702
09AR20041223,       I09S,      57,          1,          2,        102,2,20050113,       0327,   -62.4177,   114.4277,       4040,  3999.0,  -0.2270,  34.6559,2,  34.6554,2,    239.4,2,   241.4,2,  120.45,2,   31.92,2,    2.21,2,   1.907,6,   0.937,6,   0.140,6,  2251.5,2,  2350.5,2,  -0.4964
09AR20041223,       I09S,      57,          1,          1,        101,2,20050113,       0327,   -62.4177,   114.4277,       4040,  4101.0,  -0.2784,  34.6511,2,  34.6515,2,    243.0,2,   243.2,2,  118.60,2,   31.92,2,    2.22,2,   2.065,2,   1.026,2,   0.164,2,  2254.3,6,  2351.2,6,  -0.5564