BOTTLE,20220105CCHSIOENA
EXPOCODE,SECT_ID,STNNBR,CASTNO,SAMPNO,BTLNBR,BTLNBR_FLAG_W,DATE,TIME,LATITUDE,LONGITUDE,DEPTH,CTDPRS,CTDTMP,CTDSAL,CTDSAL_FLAG_W,SALNTY,SALNTY_FLAG_W,CTDOXY,CTDOXY_FLAG_W,OXYGEN,OXYGEN_FLAG_W,SILCAT,SILCAT_FLAG_W,NITRAT,NITRAT_FLAG_W,PHSPHT,PHSPHT_FLAG_W,CFC-11,CFC-11_FLAG_W,CFC-12,CFC-12_FLAG_W,CFC113,CFC113_FLAG_W,TCARBN,TCARBN_FLAG_W,ALKALI,ALKALI_FLAG_W,THETA
,,,,,,,,,,,METERS,DBAR,ITS-90,PSS-78,,PSS-78,,UMOL/KG,,UMOL/KG,,UMOL/KG,,UMOL/KG,,UMOL/KG,,PMOL/KG,,PMOL/KG,,PMOL/KG,,UMOL/KG,,UMOL/KG,,DEG C
09AR20041223,       I09S,      94,          1,         24,         24,2,20050130,       1233,   -61.1088,    81.4107,       2107,    10.8,   1.2352,  33.8814,2,-999.0000,9,    339.1,2,  -999.0,9, -999.00,9, -999.00,9, -999.00,9,-999.000,9,-999.000,9,-999.000,9,  -999.0,9,  -999.0,9,   1.2347
09AR20041223,       I09S,      94,          1,         23,         23,2,20050130,       1233,   -61.1088,    81.4107,       2107,    10.7,   1.2012,  33.8810,2,  33.8832,2,    339.1,2,   338.4,2,   33.21,2,   25.59,2,    1.52,2,-999.000,9,-999.000,9,-999.000,9,  -999.0,9,  -999.0,9,   1.2007
09AR20041223,       I09S,      94,          1,         22,         22,2,20050130,       1233,   -61.1088,    81.4107,       2107,    41.2,   0.4026,  33.9406,2,  33.9432,2,    324.9,2,   325.5,2,   40.43,2,   26.95,2,    1.73,2,-999.000,9,-999.000,9,-999.000,9,  -999.0,9,  -999.0,9,   0.4011
09AR20041223,       I09S,      94,          1,         21,         21,2,20050130,       1233,   -61.1088,    81.4107,       2107,    80.2,  -0.4599,  34.1763,2,  34.1858,2,    269.8,2,   268.5,2,   62.39,2,   31.44,2,    2.14,2,-999.000,9,-999.000,9,-999.000,9,  -999.0,9,  -999.0,9,  -0.4624
09AR20041223,       I09S,      94,          1,         20,         20,2,20050130,       1233,   -61.1088,    81.4107,       2107,   150.9,   1.4753,  34.5341,2,  34.5317,2,    184.1,2,   185.5,2,   80.44,2,   33.97,2,    2.28,2,-999.000,9,-999.000,9,-999.000,9,  -999.0,9,  -999.0,9,   1.4680
09AR20041223,       I09S,      94,          1,         19,         19,2,20050130,       1233,   -61.1088,    81.4107,       2107,   200.9,   1.7788,  34.5961,2,  34.5975,2,    174.5,2,   174.2,2,   83.65,2,   34.07,2,    2.28,2,-999.000,9,-999.000,9,-999.000,9,  -999.0,9,  -999.0,9,   1.7684
09AR20041223,       I09S,      94,          1,         18,         18,2,20050130,       1233,   -61.1088,    81.4107,       2107,   301.0,   1.9694,  34.6775,2,  34.6772,2,    172.6,2,   174.0,2,   86.09,2,   32.80,2,    2.21,2,-999.000,9,-999.000,9,-999.000,9,  -999.0,9,  -999.0,9,   1.9531
09AR20041223,       I09S,      94,          1,         17,          6,2,20050130,       1233,   -61.1088,    81.4107,       2107,   400.3,   1.9493,  34.7054,2,  34.7054,2,    178.4,2,   178.1,2,   86.77,2,   32.01,2,    2.16,2,-999.000,9,-999.000,9,-999.000,9,  -999.0,9,  -999.0,9,   1.9273
09AR20041223,       I09S,      94,          1,         16,         16,2,20050130,       1233,   -61.1088,    81.4107,       2107,   502.6,   1.9033,  34.7243,2,  34.7223,2,    183.9,2,   183.5,2,   87.26,2,   31.53,2,    2.11,2,-999.000,9,-999.000,9,-999.000,9,  -999.0,9,  -999.0,9,   1.8754
09AR20041223,       I09S,      94,          1,         15,         15,2,20050130,       1233,   -61.1088,    81.4107,       2107,   601.0,   1.8399,  34.7355,2,  34.7351,2,    189.1,2,   188.2,2,   88.33,2,   30.75,2,    2.08,2,-999.000,9,-999.000,9,-999.000,9,  -999.0,9,  -999.0,9,   1.8063
09AR20041223,       I09S,      94,          1,         14,         14,2,20050130,       1233,   -61.1088,    81.4107,       2107,   701.7,   1.7868,  34.7416,2,  34.7404,2,    192.8,2,   191.0,2,   89.01,2,   30.75,2,    2.06,2,-999.000,9,-999.000,9,-999.000,9,  -999.0,9,  -999.0,9,   1.7473
09AR20041223,       I09S,      94,          1,         13,         13,2,20050130,       1233,   -61.1088,    81.4107,       2107,   801.3,   1.7010,  34.7466,2,  34.7463,2,    196.0,2,   195.2,2,   90.38,2,   30.45,2,    2.04,2,-999.000,9,-999.000,9,-999.000,9,  -999.0,9,  -999.0,9,   1.6558
09AR20041223,       I09S,      94,          1,         12,         12,2,20050130,       1233,   -61.1088,    81.4107,       2107,   901.0,   1.6249,  34.7476,2,  34.7471,2,    198.3,2,   196.9,2,   92.33,2,   30.26,2,    2.04,2,-999.000,9,-999.000,9,-999.000,9,  -999.0,9,  -999.0,9,   1.5739
09AR20041223,       I09S,      94,          1,         11,         11,2,20050130,       1233,   -61.1088,    81.4107,       2107,  1000.7,   1.5267,  34.7467,2,  34.7471,2,    200.5,2,   198.8,2,   93.99,2,   30.45,2,    2.04,2,-999.000,9,-999.000,9,-999.000,9,  -999.0,9,  -999.0,9,   1.4700
09AR20041223,       I09S,      94,          1,         10,         10,2,20050130,       1233,   -61.1088,    81.4107,       2107,  1100.1,   1.4305,  34.7441,2,  34.7431,2,    201.6,2,   200.6,2,   96.63,2,   30.45,2,    2.05,2,-999.000,9,-999.000,9,-999.000,9,  -999.0,9,  -999.0,9,   1.3681
09AR20041223,       I09S,      94,          1,          9,          9,2,20050130,       1233,   -61.1088,    81.4107,       2107,  1202.4,   1.3482,  34.7412,2,  34.7416,2,    202.2,2,   202.5,2,   98.97,2,   30.35,2,    2.05,2,-999.000,9,-999.000,9,-999.000,9,  -999.0,9,  -999.0,9,   1.2797
09AR20041223,       I09S,      94,          1,          8,        108,2,20050130,       1233,   -61.1088,    81.4107,       2107,  1303.4,   1.2435,  34.7361,2,  34.7361,2,    202.7,2,   203.9,2,  101.70,2,   30.55,2,    2.06,2,-999.000,9,-999.000,9,-999.000,9,  -999.0,9,  -999.0,9,   1.1693
09AR20041223,       I09S,      94,          1,          7,        107,2,20050130,       1233,   -61.1088,    81.4107,       2107,  1400.0,   1.1333,  34.7297,2,  34.7306,2,    203.3,2,   204.0,2,  105.12,2,   30.94,2,    2.10,2,-999.000,9,-999.000,9,-999.000,9,  -999.0,9,  -999.0,9,   1.0537
09AR20041223,       I09S,      94,          1,          6,        117,2,20050130,       1233,   -61.1088,    81.4107,       2107,  1498.9,   1.0365,  34.7243,2,  34.7241,2,    203.8,2,   204.3,2,  108.54,2,   31.23,2,    2.11,2,-999.000,9,-999.000,9,-999.000,9,  -999.0,9,  -999.0,9,   0.9512
09AR20041223,       I09S,      94,          1,          5,        105,2,20050130,       1233,   -61.1088,    81.4107,       2107,  1599.9,   0.9530,  34.7199,2,  34.7198,2,    204.9,2,   205.0,2,  111.37,2,   31.43,2,    2.12,2,-999.000,9,-999.000,9,-999.000,9,  -999.0,9,  -999.0,9,   0.8617
09AR20041223,       I09S,      94,          1,          4,        104,2,20050130,       1233,   -61.1088,    81.4107,       2107,  1701.1,   0.8612,  34.7143,2,  34.7139,2,    205.9,2,   205.8,2,  114.30,2,   31.82,2,    2.15,2,-999.000,9,-999.000,9,-999.000,9,  -999.0,9,  -999.0,9,   0.7639
09AR20041223,       I09S,      94,          1,          3,        103,2,20050130,       1233,   -61.1088,    81.4107,       2107,  1802.8,   0.7889,  34.7103,2,  34.7100,2,    206.4,2,   206.6,2,  117.13,2,   31.82,2,    2.16,2,-999.000,9,-999.000,9,-999.000,9,  -999.0,9,  -999.0,9,   0.6853
09AR20041223,       I09S,      94,          1,          2,        102,2,20050130,       1233,   -61.1088,    81.4107,       2107,  1950.7,   0.6617,  34.7034,2,  34.7027,2,    206.7,2,   206.8,2,  127.67,2,   32.11,2,    2.19,2,-999.000,9,-999.000,9,-999.000,9,  -999.0,9,  -999.0,9,   0.5492
09AR20041223,       I09S,      94,          1,          1,        101,2,20050130,       1233,   -61.1088,    81.4107,       2107,  2078.3,   0.5135,  34.6958,2,  34.6954,2,    208.6,2,   209.0,2,  135.97,2,   32.60,2,    2.22,2,-999.000,9,-999.000,9,-999.000,9,  -999.0,9,  -999.0,9,   0.3939
09AR20041223,       I09S,      95,          1,         24,         24,2,20050130,       1644,   -61.4787,    81.3743,       2182,    10.6,   1.4528,  33.9015,2,  33.9024,2,    338.6,2,   337.2,2,   33.40,2,   25.59,2,    1.52,2,   5.439,2,   2.810,2,   0.480,2,  2157.6,6,  2294.7,6,   1.4523
09AR20041223,       I09S,      95,          1,         23,         23,2,20050130,       1644,   -61.4787,    81.3743,       2182,    10.6,   1.4339,  33.9018,2,-999.0000,9,    338.6,2,  -999.0,9, -999.00,9, -999.00,9, -999.00,9,-999.000,9,-999.000,9,-999.000,9,  -999.0,9,  -999.0,9,   1.4334
09AR20041223,       I09S,      95,          1,         22,         22,2,20050130,       1644,   -61.4787,    81.3743,       2182,    10.5,   1.4118,  33.9031,2,-999.0000,9,    338.6,2,  -999.0,9, -999.00,9, -999.00,9, -999.00,9,-999.000,9,-999.000,9,-999.000,9,  -999.0,9,  -999.0,9,   1.4113
09AR20041223,       I09S,      95,          1,         21,         21,2,20050130,       1644,   -61.4787,    81.3743,       2182,    10.6,   1.4060,  33.9034,2,-999.0000,9,    338.6,2,  -999.0,9, -999.00,9, -999.00,9, -999.00,9,-999.000,9,-999.000,9,-999.000,9,  -999.0,9,  -999.0,9,   1.4055
09AR20041223,       I09S,      95,          1,         20,         20,2,20050130,       1644,   -61.4787,    81.3743,       2182,    50.9,   0.9164,  33.9231,2,  33.9315,2,    331.8,2,   333.9,2,   37.01,2,   26.56,2,    1.63,2,   5.355,2,   2.753,2,   0.497,2,  2163.0,2,  2295.8,2,   0.9143
09AR20041223,       I09S,      95,          1,         19,         19,2,20050130,       1644,   -61.4787,    81.3743,       2182,    75.4,  -0.4307,  34.0799,2,  34.0882,2,    294.4,2,   293.4,2,   55.66,2,   30.08,2,    2.05,2,   4.452,6,   2.253,6,   0.388,6,  2202.2,2,  2303.5,2,  -0.4330
09AR20041223,       I09S,      95,          1,         18,         18,2,20050130,       1644,   -61.4787,    81.3743,       2182,   101.3,  -0.1916,  34.2425,2,  34.2489,2,    262.6,2,   252.7,2,   66.20,2,   32.42,2,    2.18,2,   3.335,2,   1.679,2,   0.297,2,  2228.2,2,  2311.6,2,  -0.1950
09AR20041223,       I09S,      95,          1,         17,          6,2,20050130,       1644,   -61.4787,    81.3743,       2182,   131.1,   0.6409,  34.3952,2,  34.4025,2,    213.2,2,  -999.0,9,   74.39,2,   34.17,2,    2.26,2,   2.197,2,   1.085,2,   0.180,2,  2241.9,2,  2320.2,2,   0.6355
09AR20041223,       I09S,      95,          1,         16,         16,2,20050130,       1644,   -61.4787,    81.3743,       2182,   161.2,   1.3049,  34.5094,2,  34.5101,2,    190.5,2,   190.2,2,   79.85,2,   34.66,2,    2.27,2,   1.390,2,   0.693,2,   0.105,2,  2253.0,2,  2328.0,2,   1.2973
09AR20041223,       I09S,      95,          1,         15,         15,2,20050130,       1644,   -61.4787,    81.3743,       2182,   200.2,   1.6647,  34.5775,2,  34.5752,2,    177.8,2,   179.0,2,   82.88,2,   34.56,2,    2.28,2,   0.942,2,   0.465,2,   0.090,2,  2257.8,2,  2333.0,2,   1.6545
09AR20041223,       I09S,      95,          1,         14,         14,2,20050130,       1644,   -61.4787,    81.3743,       2182,   300.9,   1.9312,  34.6665,2,  34.6662,2,    175.0,2,   175.1,2,   85.70,2,   33.38,2,    2.22,2,   0.439,2,   0.211,2,   0.033,2,  -999.0,9,  -999.0,9,   1.9150
09AR20041223,       I09S,      95,          1,         13,         13,2,20050130,       1644,   -61.4787,    81.3743,       2182,   399.8,   1.9205,  34.6993,2,  34.6998,2,    178.1,2,   179.0,2,   86.67,2,   32.70,2,    2.16,2,   0.312,2,   0.145,2,   0.020,2,  2255.1,2,  2341.6,2,   1.8986
09AR20041223,       I09S,      95,          1,         12,         12,2,20050130,       1644,   -61.4787,    81.3743,       2182,   501.5,   1.8896,  34.7190,2,  34.7192,2,    185.4,2,   183.1,2,   87.16,2,   32.11,2,    2.12,2,   0.221,2,   0.114,2,   0.014,2,  2253.6,2,  2343.0,2,   1.8618
09AR20041223,       I09S,      95,          1,         11,         11,2,20050130,       1644,   -61.4787,    81.3743,       2182,   602.9,   1.8507,  34.7315,2,  34.7310,2,    188.8,2,   188.9,2,   86.97,2,   31.14,2,    2.08,2,   0.189,2,   0.093,2,   0.015,2,  2251.6,2,  2344.5,2,   1.8170
09AR20041223,       I09S,      95,          1,         10,         10,2,20050130,       1644,   -61.4787,    81.3743,       2182,   698.2,   1.7827,  34.7397,2,  34.7396,2,    192.5,2,   192.2,2,   88.23,2,   30.94,2,    2.06,2,   0.165,2,   0.083,2,   0.014,2,  2247.3,2,  2351.6,2,   1.7434
09AR20041223,       I09S,      95,          1,          9,          9,2,20050130,       1644,   -61.4787,    81.3743,       2182,   801.1,   1.6873,  34.7443,2,  34.7441,2,    194.9,2,   194.0,2,   90.87,2,   30.84,2,    2.06,2,   0.151,6,   0.074,6,   0.008,6,  -999.0,9,  -999.0,9,   1.6422
09AR20041223,       I09S,      95,          1,          8,        108,2,20050130,       1644,   -61.4787,    81.3743,       2182,   901.2,   1.5991,  34.7457,2,  34.7459,2,    196.9,2,   197.1,2,   92.14,2,   30.84,2,    2.05,2,   0.135,2,   0.064,2,   0.006,2,  2250.0,2,  2350.0,2,   1.5482
09AR20041223,       I09S,      95,          1,          7,        107,2,20050130,       1644,   -61.4787,    81.3743,       2182,  1001.6,   1.4988,  34.7439,2,  34.7437,2,    199.6,2,   199.6,2,   94.29,2,   30.65,2,    2.05,2,   0.139,2,   0.070,2,   0.008,2,  2248.0,2,  2359.1,2,   1.4422
09AR20041223,       I09S,      95,          1,          6,        117,2,20050130,       1644,   -61.4787,    81.3743,       2182,  1199.8,   1.3071,  34.7369,2,-999.0000,9,    202.2,2,  -999.0,9, -999.00,9, -999.00,9, -999.00,9,-999.000,9,-999.000,9,-999.000,9,  -999.0,9,  -999.0,9,   1.2392
09AR20041223,       I09S,      95,          1,          5,        105,2,20050130,       1644,   -61.4787,    81.3743,       2182,  1401.7,   1.1252,  34.7292,2,  34.7296,2,    203.6,2,   203.8,2,  105.12,2,   31.33,2,    2.10,2,   0.128,2,   0.061,2,   0.003,2,  -999.0,9,  -999.0,9,   1.0456
09AR20041223,       I09S,      95,          1,          4,        104,2,20050130,       1644,   -61.4787,    81.3743,       2182,  1601.6,   0.9548,  34.7201,2,  34.7198,2,    204.5,2,   204.7,2,  111.86,2,   31.82,2,    2.14,2,   0.114,2,   0.053,2,   0.000,2,  2255.2,2,  2357.8,2,   0.8633
09AR20041223,       I09S,      95,          1,          3,        103,2,20050130,       1644,   -61.4787,    81.3743,       2182,  1802.6,   0.7870,  34.7105,2,  34.7098,2,    206.9,2,   206.9,2,  116.15,2,   32.11,2,    2.16,2,   0.119,2,   0.060,2,   0.000,2,  2259.7,2,  2361.6,2,   0.6835
09AR20041223,       I09S,      95,          1,          2,        102,2,20050130,       1644,   -61.4787,    81.3743,       2182,  2001.4,   0.6186,  34.7013,2,  34.7013,2,    208.0,2,   208.6,2,  123.47,2,   32.41,2,    2.19,2,   0.107,6,   0.054,6,   0.003,6,  2259.9,2,  2358.9,2,   0.5030
09AR20041223,       I09S,      95,          1,          1,        101,2,20050130,       1644,   -61.4787,    81.3743,       2182,  2170.5,   0.4620,  34.6928,2,  34.6925,2,    208.3,2,   208.2,2,  139.78,2,   32.80,2,    2.24,2,   0.102,2,   0.051,2,   0.006,2,  2262.9,6,  2359.1,6,   0.3363