BOTTLE,20220105CCHSIOENA
EXPOCODE,SECT_ID,STNNBR,CASTNO,SAMPNO,BTLNBR,BTLNBR_FLAG_W,DATE,TIME,LATITUDE,LONGITUDE,DEPTH,CTDPRS,CTDTMP,CTDSAL,CTDSAL_FLAG_W,SALNTY,SALNTY_FLAG_W,CTDOXY,CTDOXY_FLAG_W,OXYGEN,OXYGEN_FLAG_W,SILCAT,SILCAT_FLAG_W,NITRAT,NITRAT_FLAG_W,PHSPHT,PHSPHT_FLAG_W,CFC-11,CFC-11_FLAG_W,CFC-12,CFC-12_FLAG_W,CFC113,CFC113_FLAG_W,TCARBN,TCARBN_FLAG_W,ALKALI,ALKALI_FLAG_W,THETA
,,,,,,,,,,,METERS,DBAR,ITS-90,PSS-78,,PSS-78,,UMOL/KG,,UMOL/KG,,UMOL/KG,,UMOL/KG,,UMOL/KG,,PMOL/KG,,PMOL/KG,,PMOL/KG,,UMOL/KG,,UMOL/KG,,DEG C
09AR20041223,       I09S,      76,          1,         24,         24,2,20050122,       1825,   -57.8957,    82.9798,       2908,    11.1,   2.0487,  33.9831,2,  33.9843,2,    332.5,2,   331.5,2,   20.02,2,   25.20,2,    1.46,2,-999.000,9,-999.000,9,-999.000,9,  -999.0,9,  -999.0,9,   2.0481
09AR20041223,       I09S,      76,          1,         23,         23,2,20050122,       1825,   -57.8957,    82.9798,       2908,    52.2,   1.8432,  34.0011,2,  33.9972,2,    331.1,2,   331.8,2,   20.31,2,   25.39,2,    1.52,2,-999.000,9,-999.000,9,-999.000,9,  -999.0,9,  -999.0,9,   1.8406
09AR20041223,       I09S,      76,          1,         22,         22,2,20050122,       1825,   -57.8957,    82.9798,       2908,    75.3,  -0.2085,  34.1794,2,  34.1806,2,    318.4,2,   318.2,2,   54.68,2,   31.15,2,    2.10,2,-999.000,9,-999.000,9,-999.000,9,  -999.0,9,  -999.0,9,  -0.2110
09AR20041223,       I09S,      76,          1,         21,         21,2,20050122,       1825,   -57.8957,    82.9798,       2908,   100.6,   0.1622,  34.2871,2,  34.2896,2,    294.2,2,   278.0,2,   62.39,2,   33.00,2,    2.24,2,-999.000,9,-999.000,9,-999.000,9,  -999.0,9,  -999.0,9,   0.1585
09AR20041223,       I09S,      76,          1,         20,         20,2,20050122,       1825,   -57.8957,    82.9798,       2908,   151.9,   1.9601,  34.6119,2,  34.5901,2,    194.1,2,   184.5,3,   78.97,2,   34.26,2,    2.28,2,-999.000,9,-999.000,9,-999.000,9,  -999.0,9,  -999.0,9,   1.9521
09AR20041223,       I09S,      76,          1,         19,         19,2,20050122,       1825,   -57.8957,    82.9798,       2908,   201.0,   1.9745,  34.6567,2,  34.6578,2,    185.6,2,   181.2,2,   80.53,2,   33.19,2,    2.22,2,-999.000,9,-999.000,9,-999.000,9,  -999.0,9,  -999.0,9,   1.9638
09AR20041223,       I09S,      76,          1,         18,         18,2,20050122,       1825,   -57.8957,    82.9798,       2908,   299.0,   1.9544,  34.6900,2,  34.6909,2,    183.6,2,   184.0,2,   82.77,2,   32.41,2,    2.24,2,-999.000,9,-999.000,9,-999.000,9,  -999.0,9,  -999.0,9,   1.9382
09AR20041223,       I09S,      76,          1,         17,          6,2,20050122,       1825,   -57.8957,    82.9798,       2908,   401.3,   1.9240,  34.7241,2,  34.7237,2,    187.1,2,   188.7,2,   84.62,2,   31.62,2,    2.13,2,-999.000,9,-999.000,9,-999.000,9,  -999.0,9,  -999.0,9,   1.9020
09AR20041223,       I09S,      76,          1,         16,        116,2,20050122,       1825,   -57.8957,    82.9798,       2908,   501.9,   1.8552,  34.7354,2,  34.7357,2,    191.8,2,   192.6,2,   86.09,2,   31.33,2,    2.11,2,-999.000,9,-999.000,9,-999.000,9,  -999.0,9,  -999.0,9,   1.8275
09AR20041223,       I09S,      76,          1,         15,         15,2,20050122,       1825,   -57.8957,    82.9798,       2908,   601.3,   1.7352,  34.7403,2,  34.7406,2,    195.4,2,   195.0,2,   89.11,2,   31.23,2,    2.10,2,-999.000,9,-999.000,9,-999.000,9,  -999.0,9,  -999.0,9,   1.7021
09AR20041223,       I09S,      76,          1,         14,         14,2,20050122,       1825,   -57.8957,    82.9798,       2908,   702.8,   1.6197,  34.7451,2,  34.7453,2,    197.5,2,   198.0,2,   91.94,2,   30.65,2,    2.09,2,-999.000,9,-999.000,9,-999.000,9,  -999.0,9,  -999.0,9,   1.5811
09AR20041223,       I09S,      76,          1,         13,         13,2,20050122,       1825,   -57.8957,    82.9798,       2908,   801.8,   1.5021,  34.7436,2,-999.0000,9,    199.7,2,  -999.0,9, -999.00,9, -999.00,9, -999.00,9,-999.000,9,-999.000,9,-999.000,9,  -999.0,9,  -999.0,9,   1.4581
09AR20041223,       I09S,      76,          1,         12,         12,2,20050122,       1825,   -57.8957,    82.9798,       2908,   901.7,   1.3685,  34.7385,2,-999.0000,9,    201.2,2,  -999.0,9, -999.00,9, -999.00,9, -999.00,9,-999.000,9,-999.000,9,-999.000,9,  -999.0,9,  -999.0,9,   1.3193
09AR20041223,       I09S,      76,          1,         11,         11,2,20050122,       1825,   -57.8957,    82.9798,       2908,  1001.5,   1.2815,  34.7348,2,  34.7349,2,    202.5,2,   202.7,2,  100.24,2,   31.14,2,    2.13,2,-999.000,9,-999.000,9,-999.000,9,  -999.0,9,  -999.0,9,   1.2267
09AR20041223,       I09S,      76,          1,         10,         10,2,20050122,       1825,   -57.8957,    82.9798,       2908,  1197.8,   1.0543,  34.7246,2,  34.7251,2,    205.0,2,   204.6,2,  106.88,2,   31.53,2,    2.16,2,-999.000,9,-999.000,9,-999.000,9,  -999.0,9,  -999.0,9,   0.9890
09AR20041223,       I09S,      76,          1,          9,          9,2,20050122,       1825,   -57.8957,    82.9798,       2908,  1401.2,   0.8194,  34.7122,2,  34.7131,2,    207.3,2,   207.9,2,  113.61,2,   32.01,2,    2.21,2,-999.000,9,-999.000,9,-999.000,9,  -999.0,9,  -999.0,9,   0.7432
09AR20041223,       I09S,      76,          1,          8,        208,2,20050122,       1825,   -57.8957,    82.9798,       2908,  1601.6,   0.6956,  34.7052,2,  34.7057,2,    209.0,2,   208.7,2,  117.13,2,   32.60,2,    2.24,2,-999.000,9,-999.000,9,-999.000,9,  -999.0,9,  -999.0,9,   0.6074
09AR20041223,       I09S,      76,          1,          7,        107,2,20050122,       1825,   -57.8957,    82.9798,       2908,  1801.0,   0.5315,  34.6968,2,  34.6968,2,    211.6,2,   211.9,2,  121.42,2,   32.41,2,    2.25,2,-999.000,9,-999.000,9,-999.000,9,  -999.0,9,  -999.0,9,   0.4317
09AR20041223,       I09S,      76,          1,          6,        117,2,20050122,       1825,   -57.8957,    82.9798,       2908,  2002.9,   0.3830,  34.6898,2,  34.6898,2,    215.1,2,   213.9,2,  124.45,2,   32.50,2,    2.26,2,-999.000,9,-999.000,9,-999.000,9,  -999.0,9,  -999.0,9,   0.2710
09AR20041223,       I09S,      76,          1,          5,        105,2,20050122,       1825,   -57.8957,    82.9798,       2908,  2204.0,   0.2585,  34.6840,2,  34.6843,2,    218.5,2,   218.9,2,  126.21,2,   32.50,2,    2.27,2,-999.000,9,-999.000,9,-999.000,9,  -999.0,9,  -999.0,9,   0.1337
09AR20041223,       I09S,      76,          1,          4,        104,2,20050122,       1825,   -57.8957,    82.9798,       2908,  2395.8,   0.1426,  34.6786,2,  34.6784,2,    222.0,2,   222.6,2,  126.79,2,   32.70,2,    2.27,2,-999.000,9,-999.000,9,-999.000,9,  -999.0,9,  -999.0,9,   0.0053
09AR20041223,       I09S,      76,          1,          2,        102,2,20050122,       1825,   -57.8957,    82.9798,       2908,  2803.5,  -0.0023,  34.6736,2,  34.6725,2,    227.8,2,   228.5,2,  126.99,2,   32.70,2,    2.26,2,-999.000,9,-999.000,9,-999.000,9,  -999.0,9,  -999.0,9,  -0.1692
09AR20041223,       I09S,      76,          1,          1,        101,2,20050122,       1825,   -57.8957,    82.9798,       2908,  2901.7,  -0.0431,  34.6723,2,  34.6717,2,    229.6,2,   229.8,2,  127.67,2,   32.60,2,    2.28,2,-999.000,9,-999.000,9,-999.000,9,  -999.0,9,  -999.0,9,  -0.2172
09AR20041223,       I09S,      77,          1,         24,         24,2,20050123,       1011,   -58.1128,    82.6383,       2296,    11.3,   1.4436,  33.9677,2,  33.9684,2,    333.9,2,   335.5,2,   25.39,2,   25.29,2,    1.50,2,   5.353,2,   2.796,2,   0.472,2,  2153.3,6,  2298.3,6,   1.4431
09AR20041223,       I09S,      77,          1,         23,         23,2,20050123,       1011,   -58.1128,    82.6383,       2296,    50.7,   1.2212,  33.9726,2,  33.9733,2,    332.1,2,   332.3,2,   27.64,2,   25.00,2,    1.64,2,   5.364,2,   2.796,2,   0.469,2,  2161.6,2,  2299.6,2,   1.2189
09AR20041223,       I09S,      77,          1,         22,         22,2,20050123,       1011,   -58.1128,    82.6383,       2296,    70.4,  -0.6253,  34.1167,2,  34.1140,2,    308.4,2,   308.1,2,   58.39,2,   29.98,2,    2.07,2,   4.711,2,   2.439,2,   0.395,2,  2202.8,2,  2310.7,2,  -0.6274
09AR20041223,       I09S,      77,          1,         21,         21,2,20050123,       1011,   -58.1128,    82.6383,       2296,   131.3,   0.8402,  34.4778,2,  34.4768,2,    222.3,2,   211.0,3,   77.71,2,   33.19,2,    2.26,2,   1.921,2,   0.970,2,   0.156,2,  2244.7,2,  2333.2,2,   0.8345
09AR20041223,       I09S,      77,          1,         20,         20,2,20050123,       1011,   -58.1128,    82.6383,       2296,   201.3,   1.4971,  34.5975,2,  34.5983,2,    190.3,2,   189.3,2,   83.36,2,   33.19,2,    2.25,2,   0.982,2,   0.498,2,   0.084,2,  2259.1,3,  2335.0,3,   1.4872
09AR20041223,       I09S,      77,          1,         19,         19,2,20050123,       1011,   -58.1128,    82.6383,       2296,   301.3,   1.6104,  34.6631,2,  34.6638,2,    187.9,2,   189.1,2,   85.51,2,   32.41,2,    2.18,2,   0.658,6,   0.331,6,   0.054,6,  2252.9,2,  2345.1,2,   1.5949
09AR20041223,       I09S,      77,          1,         18,         18,2,20050123,       1011,   -58.1128,    82.6383,       2296,   400.7,   1.8920,  34.7192,2,  34.7188,2,    185.2,2,   184.7,2,   87.36,2,   31.43,2,    2.13,2,   0.239,2,   0.113,2,   0.019,2,  2253.2,2,  2341.0,3,   1.8701
09AR20041223,       I09S,      77,          1,         17,          6,2,20050123,       1011,   -58.1128,    82.6383,       2296,   501.5,   1.7646,  34.7269,2,  34.7270,2,    190.4,2,   189.9,2,   88.62,2,   30.94,2,    2.11,2,   0.253,2,   0.123,2,   0.028,2,  -999.0,9,  -999.0,9,   1.7373
09AR20041223,       I09S,      77,          1,         16,        116,2,20050123,       1011,   -58.1128,    82.6383,       2296,   601.8,   1.7293,  34.7387,2,  34.7361,2,    194.4,2,   193.2,2,   89.70,2,   30.55,2,    2.08,2,   0.222,2,   0.109,2,   0.014,2,  2247.1,2,  2347.8,2,   1.6962
09AR20041223,       I09S,      77,          1,         15,         15,2,20050123,       1011,   -58.1128,    82.6383,       2296,   700.6,   1.6590,  34.7440,2,  34.7431,2,    196.8,2,   196.4,2,   91.26,2,   30.26,2,    2.10,2,   0.155,2,   0.078,2,   0.009,2,  2247.8,2,  2348.0,2,   1.6203
09AR20041223,       I09S,      77,          1,         14,         14,2,20050123,       1011,   -58.1128,    82.6383,       2296,   800.2,   1.5827,  34.7465,2,  34.7455,2,    199.2,2,   199.9,2,   92.82,2,   30.16,2,    2.06,2,   0.136,2,   0.072,2,   0.006,2,  2247.0,2,  2349.3,2,   1.5383
09AR20041223,       I09S,      77,          1,         13,         13,2,20050123,       1011,   -58.1128,    82.6383,       2296,   900.5,   1.4352,  34.7381,2,  34.7382,2,    200.6,2,   201.5,2,   96.34,2,   30.45,2,    2.08,2,   0.182,2,   0.090,2,   0.011,2,  -999.0,9,  -999.0,9,   1.3856
09AR20041223,       I09S,      77,          1,         12,         12,2,20050123,       1011,   -58.1128,    82.6383,       2296,  1000.9,   1.3646,  34.7396,2,  34.7396,2,    202.1,2,   201.9,2,   98.09,2,   30.75,2,    2.08,2,   0.139,2,   0.069,2,   0.008,2,  2251.3,2,  2351.0,2,   1.3092
09AR20041223,       I09S,      77,          1,         11,         11,2,20050123,       1011,   -58.1128,    82.6383,       2296,  1100.1,   1.2593,  34.7352,2,  34.7347,2,    203.2,2,   203.0,2,  100.92,2,   30.65,2,    2.09,2,   0.140,2,   0.072,2,   0.012,2,  -999.0,9,  -999.0,9,   1.1984
09AR20041223,       I09S,      77,          1,         10,         10,2,20050123,       1011,   -58.1128,    82.6383,       2296,  1199.2,   1.1416,  34.7292,2,  34.7294,2,    204.4,2,   204.5,2,  104.14,2,   30.94,2,    2.10,2,   0.140,2,   0.070,2,   0.006,2,  2253.4,2,  2354.2,2,   1.0753
09AR20041223,       I09S,      77,          1,          9,          9,2,20050123,       1011,   -58.1128,    82.6383,       2296,  1300.3,   1.0215,  34.7233,2,  34.7235,2,    205.1,2,   205.9,2,  107.66,2,   31.23,2,    2.14,2,   0.138,6,   0.068,6,   0.003,6,  -999.0,9,  -999.0,9,   0.9498
09AR20041223,       I09S,      77,          1,          8,        208,2,20050123,       1011,   -58.1128,    82.6383,       2296,  1400.9,   0.9380,  34.7183,2,  34.7178,2,    206.0,2,   206.2,2,  110.10,2,   31.33,2,    2.15,2,   0.150,2,   0.077,2,   0.003,2,  2255.3,2,  2357.9,2,   0.8605
09AR20041223,       I09S,      77,          1,          7,        107,2,20050123,       1011,   -58.1128,    82.6383,       2296,  1501.9,   0.8390,  34.7123,2,  34.7127,2,    206.6,2,   206.2,2,  112.93,2,   31.53,2,    2.17,2,   0.160,2,   0.081,2,   0.014,2,  -999.0,9,  -999.0,9,   0.7559
09AR20041223,       I09S,      77,          1,          6,        117,2,20050123,       1011,   -58.1128,    82.6383,       2296,  1599.5,   0.7679,  34.7084,2,  34.7084,2,    207.4,2,   207.3,2,  115.27,2,   31.72,2,    2.18,2,   0.156,2,   0.078,2,   0.008,2,  2259.9,2,  2357.0,6,   0.6790
09AR20041223,       I09S,      77,          1,          5,        105,2,20050123,       1011,   -58.1128,    82.6383,       2296,  1700.2,   0.7059,  34.7047,2,  34.7045,2,    208.1,2,   207.7,2,  117.42,2,   32.02,2,    2.20,2,   0.170,2,   0.086,2,   0.002,2,  -999.0,9,  -999.0,9,   0.6108
09AR20041223,       I09S,      77,          1,          4,        104,2,20050123,       1011,   -58.1128,    82.6383,       2296,  1802.3,   0.6405,  34.7012,2,  34.7007,2,    208.7,2,   208.6,2,  119.76,2,   32.80,2,    2.21,2,   0.159,2,   0.085,2,   0.004,2,  2260.6,2,  2356.4,2,   0.5391
09AR20041223,       I09S,      77,          1,          3,        103,2,20050123,       1011,   -58.1128,    82.6383,       2296,  2000.7,   0.5136,  34.6933,2,  34.6933,2,    211.0,2,   210.7,2,  121.33,2,   32.31,2,    2.22,2,   0.225,2,   0.117,2,   0.003,2,  2261.2,2,  2357.8,6,   0.3997
09AR20041223,       I09S,      77,          1,          2,        102,2,20050123,       1011,   -58.1128,    82.6383,       2296,  2201.5,   0.4406,  34.6899,2,  34.6896,2,    212.9,2,   213.0,2,  124.84,2,   32.21,2,    2.23,2,   0.200,6,   0.100,6,   0.010,6,  2261.2,2,  2355.6,2,   0.3129
09AR20041223,       I09S,      77,          1,          1,        101,2,20050123,       1011,   -58.1128,    82.6383,       2296,  2278.2,   0.4237,  34.6891,2,  34.6892,2,    213.2,2,   213.0,2,  126.11,2,   32.31,2,    2.24,2,   0.200,2,   0.097,2,   0.010,2,  2262.3,6,  2355.9,6,   0.2904