BOTTLE,20220105CCHSIOENA
EXPOCODE,SECT_ID,STNNBR,CASTNO,SAMPNO,BTLNBR,BTLNBR_FLAG_W,DATE,TIME,LATITUDE,LONGITUDE,DEPTH,CTDPRS,CTDTMP,CTDSAL,CTDSAL_FLAG_W,SALNTY,SALNTY_FLAG_W,CTDOXY,CTDOXY_FLAG_W,OXYGEN,OXYGEN_FLAG_W,SILCAT,SILCAT_FLAG_W,NITRAT,NITRAT_FLAG_W,PHSPHT,PHSPHT_FLAG_W,CFC-11,CFC-11_FLAG_W,CFC-12,CFC-12_FLAG_W,CFC113,CFC113_FLAG_W,TCARBN,TCARBN_FLAG_W,ALKALI,ALKALI_FLAG_W,THETA
,,,,,,,,,,,METERS,DBAR,ITS-90,PSS-78,,PSS-78,,UMOL/KG,,UMOL/KG,,UMOL/KG,,UMOL/KG,,UMOL/KG,,PMOL/KG,,PMOL/KG,,PMOL/KG,,UMOL/KG,,UMOL/KG,,DEG C
09AR20041223,       I09S,      86,          1,         24,         24,2,20050128,       0848,   -56.4398,    85.9618,       4745,    11.9,   2.3632,  33.9566,2,  33.9557,2,    323.3,2,   322.9,2,   13.87,2,   25.20,2,    1.63,2,   5.247,2,   2.692,2,   0.470,2,  -999.0,9,  -999.0,9,   2.3626
09AR20041223,       I09S,      86,          1,         23,         23,2,20050128,       0848,   -56.4398,    85.9618,       4745,    50.6,   2.3549,  33.9569,2,  33.9569,2,    323.0,2,   323.3,2,   13.97,2,   25.10,2,    1.64,2,   5.243,2,   2.686,2,   0.434,2,  -999.0,9,  -999.0,9,   2.3522
09AR20041223,       I09S,      86,          1,         22,         22,2,20050128,       0848,   -56.4398,    85.9618,       4745,    76.2,   2.2771,  33.9614,2,  33.9614,2,    321.8,2,   321.3,2,   14.94,2,   25.29,2,    1.66,2,   5.237,2,   2.665,2,   0.466,2,  -999.0,9,  -999.0,9,   2.2730
09AR20041223,       I09S,      86,          1,         21,         21,2,20050128,       0848,   -56.4398,    85.9618,       4745,   100.6,   1.6068,  34.1729,2,  34.1733,2,    268.4,2,   257.3,2,   44.14,2,   32.42,2,    2.16,2,   3.679,2,   1.815,2,   0.289,2,  -999.0,9,  -999.0,9,   1.6019
09AR20041223,       I09S,      86,          1,         20,         20,2,20050128,       0848,   -56.4398,    85.9618,       4745,   180.7,   1.5707,  34.2758,2,  34.2761,2,    234.2,2,   234.3,2,   54.68,2,   33.00,2,    2.23,2,-999.000,5,-999.000,5,-999.000,5,  -999.0,9,  -999.0,9,   1.5618
09AR20041223,       I09S,      86,          1,         19,         19,2,20050128,       0848,   -56.4398,    85.9618,       4745,   300.5,   2.3478,  34.5276,2,  34.5270,2,    181.9,2,   180.6,2,   70.48,2,   33.78,2,    2.30,2,   0.813,6,   0.399,6,   0.066,6,  -999.0,9,  -999.0,9,   2.3306
09AR20041223,       I09S,      86,          1,         18,         18,2,20050128,       0848,   -56.4398,    85.9618,       4745,   401.1,   2.2849,  34.6033,2,  34.6021,2,    177.7,2,   176.9,2,   75.65,2,   33.09,2,    2.26,2,   0.519,2,   0.249,2,   0.045,2,  -999.0,9,  -999.0,9,   2.2618
09AR20041223,       I09S,      86,          1,         17,          6,2,20050128,       0848,   -56.4398,    85.9618,       4745,   501.9,   2.0247,  34.6489,2,  34.6482,2,    179.1,2,   179.6,2,   81.02,2,   32.89,2,    2.25,2,   0.496,2,   0.243,2,   0.044,2,  -999.0,9,  -999.0,9,   1.9964
09AR20041223,       I09S,      86,          1,         16,         16,2,20050128,       0848,   -56.4398,    85.9618,       4745,   750.7,   1.9542,  34.7166,2,  34.7162,2,    185.8,2,   186.2,2,   84.62,2,   31.33,2,    2.16,2,   0.254,2,   0.120,2,   0.028,2,  -999.0,9,  -999.0,9,   1.9107
09AR20041223,       I09S,      86,          1,         15,         15,2,20050128,       0848,   -56.4398,    85.9618,       4745,  1001.8,   1.7893,  34.7370,2,  34.7372,2,    193.3,2,   194.8,2,   88.33,2,   30.55,2,    2.12,2,   0.210,2,   0.100,2,   0.022,2,  -999.0,9,  -999.0,9,   1.7304
09AR20041223,       I09S,      86,          1,         14,         14,2,20050128,       0848,   -56.4398,    85.9618,       4745,  1201.0,   1.6177,  34.7425,2,  34.7424,2,    197.8,2,   198.6,2,   92.82,2,   30.35,2,    2.11,2,   0.181,2,   0.082,2,   0.018,2,  -999.0,9,  -999.0,9,   1.5468
09AR20041223,       I09S,      86,          1,         13,         13,2,20050128,       0848,   -56.4398,    85.9618,       4745,  1401.3,   1.4600,  34.7415,2,  34.7412,2,    201.1,2,   200.6,2,   97.31,2,   30.26,2,    2.12,2,   0.146,2,   0.070,2,   0.001,2,  -999.0,9,  -999.0,9,   1.3767
09AR20041223,       I09S,      86,          1,         12,         12,2,20050128,       0848,   -56.4398,    85.9618,       4745,  1599.9,   1.2846,  34.7351,2,  34.7341,2,    203.1,2,   202.7,2,  102.00,2,   30.75,2,    2.15,2,   0.146,2,   0.066,2,   0.008,2,  -999.0,9,  -999.0,9,   1.1891
09AR20041223,       I09S,      86,          1,         11,         11,2,20050128,       0848,   -56.4398,    85.9618,       4745,  1801.3,   1.1120,  34.7260,2,  34.7255,2,    204.7,2,   204.7,2,  106.88,2,   31.14,2,    2.17,2,   0.168,2,   0.069,2,   0.003,2,  -999.0,9,  -999.0,9,   1.0040
09AR20041223,       I09S,      86,          1,         10,         10,2,20050128,       0848,   -56.4398,    85.9618,       4745,  2101.5,   0.8780,  34.7135,2,  34.7133,2,    206.8,2,   206.4,2,  113.81,2,   31.62,2,    2.20,2,   0.172,2,   0.073,2,   0.014,2,  -999.0,9,  -999.0,9,   0.7507
09AR20041223,       I09S,      86,          1,          9,          9,2,20050128,       0848,   -56.4398,    85.9618,       4745,  2400.3,   0.6763,  34.7023,2,  34.7019,2,    209.3,2,   209.5,2,  119.57,2,   31.82,2,    2.24,2,   0.208,6,   0.095,6,   0.012,6,  -999.0,9,  -999.0,9,   0.5288
09AR20041223,       I09S,      86,          1,          8,        108,2,20050128,       0848,   -56.4398,    85.9618,       4745,  2700.9,   0.4984,  34.6932,2,  34.6931,2,    212.6,2,   213.4,2,  123.96,2,   32.31,2,    2.25,2,   0.258,2,   0.126,2,   0.034,2,  -999.0,9,  -999.0,9,   0.3296
09AR20041223,       I09S,      86,          1,          7,        107,2,20050128,       0848,   -56.4398,    85.9618,       4745,  3000.9,   0.3521,  34.6860,2,  34.6852,2,    216.8,2,   216.9,2,  126.21,2,   32.41,2,    2.25,2,   0.351,2,   0.167,2,   0.026,2,  -999.0,9,  -999.0,9,   0.1606
09AR20041223,       I09S,      86,          1,          6,        117,2,20050128,       0848,   -56.4398,    85.9618,       4745,  3300.5,   0.2394,  34.6813,2,  34.6809,2,    220.7,2,   220.8,2,  127.28,2,   32.31,2,    2.25,2,   0.493,2,   0.222,2,   0.030,2,  -999.0,9,  -999.0,9,   0.0238
09AR20041223,       I09S,      86,          1,          5,        105,2,20050128,       0848,   -56.4398,    85.9618,       4745,  3600.9,   0.1528,  34.6780,2,  34.6776,2,    224.0,2,   224.4,2,  128.16,2,   32.31,2,    2.25,2,   0.653,2,   0.302,2,   0.035,2,  -999.0,9,  -999.0,9,  -0.0887
09AR20041223,       I09S,      86,          1,          4,        104,2,20050128,       0848,   -56.4398,    85.9618,       4745,  3897.5,   0.1038,  34.6757,2,  34.6744,2,    226.3,2,   227.1,2,  129.04,2,   32.31,2,    2.25,2,   0.792,2,   0.369,2,   0.052,2,  -999.0,9,  -999.0,9,  -0.1651
09AR20041223,       I09S,      86,          1,          3,        103,2,20050128,       0848,   -56.4398,    85.9618,       4745,  4201.3,   0.0678,  34.6735,2,  34.6729,2,    228.5,2,   229.2,2,  129.92,2,   32.31,2,    2.26,2,   0.925,2,   0.425,2,   0.047,2,  -999.0,9,  -999.0,9,  -0.2308
09AR20041223,       I09S,      86,          1,          2,        102,2,20050128,       0848,   -56.4398,    85.9618,       4745,  4498.7,   0.0507,  34.6715,2,  34.6707,2,    230.4,2,   231.2,2,  130.41,2,   32.21,2,    2.25,2,   1.048,6,   0.481,6,   0.066,6,  -999.0,9,  -999.0,9,  -0.2786
09AR20041223,       I09S,      86,          1,          1,        101,2,20050128,       0848,   -56.4398,    85.9618,       4745,  4829.0,   0.0382,  34.6692,2,  34.6688,2,    232.3,2,   231.9,2,  131.48,2,   32.11,2,    2.25,2,   1.238,2,   0.560,2,   0.080,2,  -999.0,9,  -999.0,9,  -0.3268
09AR20041223,       I09S,      87,          1,         24,         24,2,20050128,       1426,   -56.6763,    85.5403,       4749,    11.2,   2.5479,  33.9490,2,  33.9491,2,    323.9,2,   324.3,2,    8.98,2,   24.32,2,    1.58,2,   5.273,2,   2.707,2,   0.430,2,  -999.0,9,  -999.0,9,   2.5473
09AR20041223,       I09S,      87,          1,         23,         23,2,20050128,       1426,   -56.6763,    85.5403,       4749,    50.0,   2.5481,  33.9488,2,  33.9499,2,    323.6,2,   324.3,2,    9.08,2,   24.32,2,    1.59,2,-999.000,9,-999.000,9,-999.000,9,  -999.0,9,  -999.0,9,   2.5453
09AR20041223,       I09S,      87,          1,         22,         22,2,20050128,       1426,   -56.6763,    85.5403,       4749,   101.1,   0.2757,  34.0534,2,  34.0524,2,    331.7,2,   330.5,2,   41.31,2,   28.81,2,    2.04,2,-999.000,9,-999.000,9,-999.000,9,  -999.0,9,  -999.0,9,   0.2719
09AR20041223,       I09S,      87,          1,         21,         21,2,20050128,       1426,   -56.6763,    85.5403,       4749,   150.0,  -0.0431,  34.1186,2,  34.1187,2,    319.5,2,   321.4,2,   49.21,2,   30.08,2,    2.08,2,-999.000,9,-999.000,9,-999.000,9,  -999.0,9,  -999.0,9,  -0.0484
09AR20041223,       I09S,      87,          1,         20,         20,2,20050128,       1426,   -56.6763,    85.5403,       4749,   198.8,   0.2047,  34.2533,2,  34.2526,2,    271.2,2,   283.8,3,   59.46,2,   32.12,2,    2.19,2,-999.000,9,-999.000,9,-999.000,9,  -999.0,9,  -999.0,9,   0.1972
09AR20041223,       I09S,      87,          1,         19,         19,2,20050128,       1426,   -56.6763,    85.5403,       4749,   300.6,   1.6584,  34.5330,2,  34.5338,2,    193.8,2,   193.9,2,   76.24,2,   33.78,2,    2.31,2,-999.000,9,-999.000,9,-999.000,9,  -999.0,9,  -999.0,9,   1.6429
09AR20041223,       I09S,      87,          1,         18,         18,2,20050128,       1426,   -56.6763,    85.5403,       4749,   400.2,   2.0222,  34.6410,2,  34.6403,2,    180.3,2,   179.8,2,   80.33,2,   32.99,2,    2.26,2,-999.000,9,-999.000,9,-999.000,9,  -999.0,9,  -999.0,9,   2.0000
09AR20041223,       I09S,      87,          1,         17,          6,2,20050128,       1426,   -56.6763,    85.5403,       4749,   500.8,   2.0327,  34.6805,2,  34.6799,2,    181.5,2,   180.9,2,   82.19,2,   32.31,2,    2.21,2,   0.338,2,   0.176,2,   0.022,2,  -999.0,9,  -999.0,9,   2.0044
09AR20041223,       I09S,      87,          1,         16,         16,2,20050128,       1426,   -56.6763,    85.5403,       4749,   750.1,   1.8957,  34.7250,2,  34.7239,2,    187.3,2,   187.7,2,   86.09,2,   31.23,2,    2.15,2,   0.248,2,   0.119,2,   0.014,2,  -999.0,9,  -999.0,9,   1.8525
09AR20041223,       I09S,      87,          1,         15,         15,2,20050128,       1426,   -56.6763,    85.5403,       4749,  1000.8,   1.7369,  34.7423,2,  34.7420,2,    195.0,2,   195.5,2,   89.70,2,   30.45,2,    2.11,2,   0.180,2,   0.078,2,   0.019,4,  -999.0,9,  -999.0,9,   1.6785
09AR20041223,       I09S,      87,          1,         14,         14,2,20050128,       1426,   -56.6763,    85.5403,       4749,  1200.7,   1.5801,  34.7444,2,  34.7443,2,    198.8,2,   199.1,2,   93.60,2,   30.35,2,    2.10,2,-999.000,9,-999.000,9,-999.000,9,  -999.0,9,  -999.0,9,   1.5095
09AR20041223,       I09S,      87,          1,         13,         13,2,20050128,       1426,   -56.6763,    85.5403,       4749,  1399.3,   1.4192,  34.7404,2,  34.7402,2,    201.4,2,   201.2,2,   98.29,2,   30.65,2,    2.13,2,   0.141,2,   0.076,2,   0.011,2,  -999.0,9,  -999.0,9,   1.3365
09AR20041223,       I09S,      87,          1,         12,         12,2,20050128,       1426,   -56.6763,    85.5403,       4749,  1603.7,   1.2547,  34.7332,2,  34.7331,2,    203.4,2,   202.7,2,  102.58,2,   30.84,2,    2.14,2,-999.000,9,-999.000,9,-999.000,9,  -999.0,9,  -999.0,9,   1.1593
09AR20041223,       I09S,      87,          1,         11,         11,2,20050128,       1426,   -56.6763,    85.5403,       4749,  1801.6,   1.1122,  34.7270,2,  34.7270,2,    204.9,2,   204.4,2,  107.37,2,   31.14,2,    2.17,2,-999.000,9,-999.000,9,-999.000,9,  -999.0,9,  -999.0,9,   1.0041
09AR20041223,       I09S,      87,          1,         10,         10,2,20050128,       1426,   -56.6763,    85.5403,       4749,  2099.9,   0.9069,  34.7156,2,  34.7153,2,    207.2,2,   206.3,2,  113.52,2,   31.62,2,    2.20,2,   0.158,2,   0.075,2,   0.009,2,  -999.0,9,  -999.0,9,   0.7792
09AR20041223,       I09S,      87,          1,          9,          9,2,20050128,       1426,   -56.6763,    85.5403,       4749,  2401.2,   0.6752,  34.7027,2,  34.7023,2,    210.0,2,   210.2,2,  119.67,2,   31.92,2,    2.24,2,   0.194,2,   0.090,2,   0.017,2,  -999.0,9,  -999.0,9,   0.5276
09AR20041223,       I09S,      87,          1,          8,        108,2,20050128,       1426,   -56.6763,    85.5403,       4749,  2700.0,   0.5065,  34.6932,2,  34.6935,2,    213.4,2,   213.1,2,  123.38,2,   32.11,2,    2.25,2,-999.000,9,-999.000,9,-999.000,9,  -999.0,9,  -999.0,9,   0.3376
09AR20041223,       I09S,      87,          1,          7,        107,2,20050128,       1426,   -56.6763,    85.5403,       4749,  3001.9,   0.3588,  34.6864,2,  34.6860,2,    217.5,2,   216.9,2,  125.72,2,   32.31,2,    2.26,2,   0.337,2,   0.170,2,   0.015,2,  -999.0,9,  -999.0,9,   0.1671
09AR20041223,       I09S,      87,          1,          6,        117,2,20050128,       1426,   -56.6763,    85.5403,       4749,  3300.7,   0.2499,  34.6820,2,  34.6813,2,    221.3,2,   221.1,2,  127.38,2,   32.31,2,    2.26,2,-999.000,9,-999.000,9,-999.000,9,  -999.0,9,  -999.0,9,   0.0340
09AR20041223,       I09S,      87,          1,          5,        105,2,20050128,       1426,   -56.6763,    85.5403,       4749,  3602.4,   0.1691,  34.6789,2,  34.6780,2,    224.4,2,   224.3,2,  127.97,2,   32.21,2,    2.26,2,   0.626,2,   0.301,2,   0.039,2,  -999.0,9,  -999.0,9,  -0.0729
09AR20041223,       I09S,      87,          1,          4,        104,2,20050128,       1426,   -56.6763,    85.5403,       4749,  3900.3,   0.1166,  34.6764,2,  34.6758,2,    227.0,2,   226.4,2,  128.94,2,   32.11,2,    2.26,2,   0.764,6,   0.361,6,   0.051,6,  -999.0,9,  -999.0,9,  -0.1530
09AR20041223,       I09S,      87,          1,          3,        103,2,20050128,       1426,   -56.6763,    85.5403,       4749,  4199.6,   0.0891,  34.6745,2,  34.6737,2,    229.1,2,   228.6,2,  129.53,2,   32.21,2,    2.26,2,-999.000,9,-999.000,9,-999.000,9,  -999.0,9,  -999.0,9,  -0.2100
09AR20041223,       I09S,      87,          1,          2,        102,2,20050128,       1426,   -56.6763,    85.5403,       4749,  4502.3,   0.0620,  34.6722,2,  34.6709,2,    231.3,2,   230.8,2,  130.41,2,   32.11,2,    2.25,2,-999.000,9,-999.000,9,-999.000,9,  -999.0,9,  -999.0,9,  -0.2681
09AR20041223,       I09S,      87,          1,          1,        101,2,20050128,       1426,   -56.6763,    85.5403,       4749,  4826.7,   0.0521,  34.6699,2,  34.6695,2,    233.3,2,   233.5,2,  130.99,2,   32.11,2,    2.25,2,   1.143,2,   0.540,2,   0.080,2,  -999.0,9,  -999.0,9,  -0.3131