BOTTLE,20220105CCHSIOENA
# removed entries from initial test stations
# DATA CITATION
#| CCHDO Citation Information
#|
#| Please cite data downloaded from CCHDO as: 
#| [Data providers of the parameter(s) used]. [Year of file access]. [CTD/Bottle] data from cruise [expocode], 
#| [format version used]. Accessed from CCHDO [url of cruise data page]. Access date [date of download].
#| [Applicable CCHDO cruise DOI if provided].
#|
#| For example: 
#| Swift, J. and Becker, S. 2019. CTD data from Cruise 33RR20160321, exchange version. Accessed from CCHDO 
#| https://cchdo.ucsd.edu/cruise/33RR20160321. Access date 2019-08-21. CCHDO cruise DOI: 10.7942/C2008W
#|
#| Information on the scientists who provided the different parameters can be found in the cruise report. 
#| Additionally, for US GO-SHIP cruises, this information is usually in the comments section in the text headers 
#| of the Exchange bottle files.
#|
#| Users are also encouraged to acknowledge the funding program that supported the data collection in their publication. 
#| For US GO-SHIP data this is the NSF/NOAA funded U.S Repeat Hydrography Program.
#|
# (if the list of PIs is available)
#| For data citation, please use the data providers listed below. 
#|
#| Programs and Principal Investigators
# BOTTLE,20140617SIOCCHRJL
# Change CTDOXY empty data value from flag 2 to flag 9
# BOTTLE,20140512PRINUNIVRMK
# Original header:
# 4/2/2013 Initialized README file
# Data source: CCHDO on 9/13/07; CFC and carbon from Tilbrook 3/25/13
# SHIP: Aurora Australis
# Cruise: AU0403
# Region: SE Indian Ocean; I09S
# EXPOCODE: 09AR20041223
# DATES: 12/23/2004 - 2/17/2005
# Chief Scientist: S.Rintoul
# 115 stations with 24 place Rosette
# Hydro: Who - S.Rintoul; Status - final
# 	Notes: New CTDOXY in file from M.Rosenberg 5/2/14
# Nuts: Who - S.Rintoul; Status - final 
# 	Notes: Nitrate is really NO3+NO2 
# 	Revised nutrients from M.Rosenberg 5/2/14 
# O2: Who - S.Rintoul; Status - final 
# 	Notes: Additional QC by R.Key
# 	Revised oxygen values from M.Rosenberg 5/2/14
# TCO2: Who - B.Tilbrook; Status - final
# 	Notes:
# TA: Who - B.Tilbrook; Status - final
# 	Notes: 
# CFC: Who - S.Watanabe,K.Sasaki; Status - final
# 	Notes: JAMSTEC
# References:
EXPOCODE,SECT_ID,STNNBR,CASTNO,SAMPNO,BTLNBR,BTLNBR_FLAG_W,DATE,TIME,LATITUDE,LONGITUDE,DEPTH,CTDPRS,CTDTMP,CTDSAL,CTDSAL_FLAG_W,SALNTY,SALNTY_FLAG_W,CTDOXY,CTDOXY_FLAG_W,OXYGEN,OXYGEN_FLAG_W,SILCAT,SILCAT_FLAG_W,NITRAT,NITRAT_FLAG_W,PHSPHT,PHSPHT_FLAG_W,CFC-11,CFC-11_FLAG_W,CFC-12,CFC-12_FLAG_W,CFC113,CFC113_FLAG_W,TCARBN,TCARBN_FLAG_W,ALKALI,ALKALI_FLAG_W,THETA
,,,,,,,,,,,METERS,DBAR,ITS-90,PSS-78,,PSS-78,,UMOL/KG,,UMOL/KG,,UMOL/KG,,UMOL/KG,,UMOL/KG,,PMOL/KG,,PMOL/KG,,PMOL/KG,,UMOL/KG,,UMOL/KG,,DEG C
09AR20041223,       I09S,       2,          1,         24,         24,2,20041224,       1826,   -34.8192,   114.9957,        144,    16.6,  20.0961,  35.8300,2,-999.0000,9,    231.5,2,  -999.0,9, -999.00,9, -999.00,9, -999.00,9,-999.000,9,-999.000,9,-999.000,9,  -999.0,9,  -999.0,9,  20.0930
09AR20041223,       I09S,       2,          1,         23,         23,2,20041224,       1826,   -34.8192,   114.9957,        144,    16.7,  20.0961,  35.8300,2,-999.0000,9,    231.5,2,  -999.0,9, -999.00,9, -999.00,9, -999.00,9,-999.000,9,-999.000,9,-999.000,9,  -999.0,9,  -999.0,9,  20.0930
09AR20041223,       I09S,       2,          1,         22,         22,2,20041224,       1826,   -34.8192,   114.9957,        144,    17.0,  20.0964,  35.8299,2,-999.0000,9,    231.5,2,  -999.0,9, -999.00,9, -999.00,9, -999.00,9,-999.000,9,-999.000,9,-999.000,9,  -999.0,9,  -999.0,9,  20.0932
09AR20041223,       I09S,       2,          1,         21,         21,2,20041224,       1826,   -34.8192,   114.9957,        144,    16.8,  20.0965,  35.8298,2,-999.0000,9,    231.5,2,  -999.0,9, -999.00,9, -999.00,9, -999.00,9,-999.000,9,-999.000,9,-999.000,9,  -999.0,9,  -999.0,9,  20.0934
09AR20041223,       I09S,       2,          1,         20,         20,2,20041224,       1826,   -34.8192,   114.9957,        144,    16.6,  20.0959,  35.8297,2,-999.0000,9,    231.5,2,  -999.0,9, -999.00,9, -999.00,9, -999.00,9,-999.000,9,-999.000,9,-999.000,9,  -999.0,9,  -999.0,9,  20.0928
09AR20041223,       I09S,       2,          1,         19,         19,2,20041224,       1826,   -34.8192,   114.9957,        144,    16.1,  20.0966,  35.8297,2,-999.0000,9,    231.5,2,  -999.0,9, -999.00,9, -999.00,9, -999.00,9,-999.000,9,-999.000,9,-999.000,9,  -999.0,9,  -999.0,9,  20.0936
09AR20041223,       I09S,       2,          1,         18,         18,2,20041224,       1826,   -34.8192,   114.9957,        144,    16.7,  20.0970,  35.8300,2,-999.0000,9,    231.5,2,  -999.0,9, -999.00,9, -999.00,9, -999.00,9,-999.000,9,-999.000,9,-999.000,9,  -999.0,9,  -999.0,9,  20.0939
09AR20041223,       I09S,       2,          1,         17,         17,2,20041224,       1826,   -34.8192,   114.9957,        144,    16.8,  20.0976,  35.8297,2,-999.0000,9,    231.5,2,  -999.0,9, -999.00,9, -999.00,9, -999.00,9,-999.000,9,-999.000,9,-999.000,9,  -999.0,9,  -999.0,9,  20.0945
09AR20041223,       I09S,       2,          1,         16,         16,2,20041224,       1826,   -34.8192,   114.9957,        144,    16.4,  20.0980,  35.8298,2,-999.0000,9,    231.5,2,  -999.0,9, -999.00,9, -999.00,9, -999.00,9,-999.000,9,-999.000,9,-999.000,9,  -999.0,9,  -999.0,9,  20.0950
09AR20041223,       I09S,       2,          1,         15,         15,2,20041224,       1826,   -34.8192,   114.9957,        144,    16.6,  20.0977,  35.8297,2,-999.0000,9,    231.5,2,  -999.0,9, -999.00,9, -999.00,9, -999.00,9,-999.000,9,-999.000,9,-999.000,9,  -999.0,9,  -999.0,9,  20.0946
09AR20041223,       I09S,       2,          1,         14,         14,2,20041224,       1826,   -34.8192,   114.9957,        144,    16.7,  20.0973,  35.8296,2,-999.0000,9,    231.5,2,  -999.0,9, -999.00,9, -999.00,9, -999.00,9,-999.000,9,-999.000,9,-999.000,9,  -999.0,9,  -999.0,9,  20.0942
09AR20041223,       I09S,       2,          1,         13,         13,2,20041224,       1826,   -34.8192,   114.9957,        144,    16.9,  20.0953,  35.8294,2,-999.0000,9,    231.5,2,  -999.0,9, -999.00,9, -999.00,9, -999.00,9,-999.000,9,-999.000,9,-999.000,9,  -999.0,9,  -999.0,9,  20.0922
09AR20041223,       I09S,       2,          1,         12,         12,2,20041224,       1826,   -34.8192,   114.9957,        144,    16.8,  20.0937,  35.8291,2,-999.0000,9,    231.5,2,  -999.0,9, -999.00,9, -999.00,9, -999.00,9,-999.000,9,-999.000,9,-999.000,9,  -999.0,9,  -999.0,9,  20.0906
09AR20041223,       I09S,       2,          1,         11,         11,2,20041224,       1826,   -34.8192,   114.9957,        144,    16.8,  20.0945,  35.8293,2,-999.0000,9,    231.5,2,  -999.0,9, -999.00,9, -999.00,9, -999.00,9,-999.000,9,-999.000,9,-999.000,9,  -999.0,9,  -999.0,9,  20.0914
09AR20041223,       I09S,       2,          1,         10,         10,2,20041224,       1826,   -34.8192,   114.9957,        144,    16.7,  20.0938,  35.8294,2,-999.0000,9,    231.5,2,  -999.0,9, -999.00,9, -999.00,9, -999.00,9,-999.000,9,-999.000,9,-999.000,9,  -999.0,9,  -999.0,9,  20.0907
09AR20041223,       I09S,       2,          1,          9,          9,2,20041224,       1826,   -34.8192,   114.9957,        144,    16.5,  20.0864,  35.8285,2,-999.0000,9,    231.5,2,  -999.0,9, -999.00,9, -999.00,9, -999.00,9,-999.000,9,-999.000,9,-999.000,9,  -999.0,9,  -999.0,9,  20.0833
09AR20041223,       I09S,       2,          1,          8,          8,2,20041224,       1826,   -34.8192,   114.9957,        144,    16.9,  20.0784,  35.8275,2,-999.0000,9,    231.5,2,  -999.0,9, -999.00,9, -999.00,9, -999.00,9,-999.000,9,-999.000,9,-999.000,9,  -999.0,9,  -999.0,9,  20.0753
09AR20041223,       I09S,       2,          1,          7,          7,2,20041224,       1826,   -34.8192,   114.9957,        144,    16.8,  20.0837,  35.8281,2,-999.0000,9,    231.5,2,  -999.0,9, -999.00,9, -999.00,9, -999.00,9,-999.000,9,-999.000,9,-999.000,9,  -999.0,9,  -999.0,9,  20.0806
09AR20041223,       I09S,       2,          1,          6,          6,2,20041224,       1826,   -34.8192,   114.9957,        144,    16.0,  20.0908,  35.8287,2,  35.8270,2,    231.5,2,   230.9,2,    2.54,2,    0.00,2,    0.13,2,-999.000,9,-999.000,9,-999.000,9,  2044.7,2,  2346.5,6,  20.0878
09AR20041223,       I09S,       2,          1,          5,          5,2,20041224,       1826,   -34.8192,   114.9957,        144,    40.9,  20.0186,  35.8228,2,  35.8213,2,    231.0,2,   231.9,2,    2.54,2,    0.00,2,    0.11,2,-999.000,9,-999.000,9,-999.000,9,  2045.8,2,  2348.7,2,  20.0110
09AR20041223,       I09S,       2,          1,          4,          4,2,20041224,       1826,   -34.8192,   114.9957,        144,    60.2,  19.5039,  35.8022,2,  35.7990,2,    227.5,2,   226.9,2,    2.63,2,    0.00,2,    0.15,2,-999.000,9,-999.000,9,-999.000,9,  2050.7,2,  2343.2,2,  19.4929
09AR20041223,       I09S,       2,          1,          3,          3,2,20041224,       1826,   -34.8192,   114.9957,        144,    81.4,  19.3552,  35.8120,2,  35.8101,2,    225.0,2,   224.1,2,    2.73,2,    0.29,2,    0.15,2,-999.000,9,-999.000,9,-999.000,9,  2054.2,2,  2349.4,2,  19.3405
09AR20041223,       I09S,       2,          1,          2,          2,2,20041224,       1826,   -34.8192,   114.9957,        144,   101.5,  19.3176,  35.8126,2,  35.8114,2,    225.4,2,   227.3,2,    2.73,2,    0.39,2,    0.14,2,-999.000,9,-999.000,9,-999.000,9,  2055.5,2,  2344.8,2,  19.2992
09AR20041223,       I09S,       2,          1,          1,          1,2,20041224,       1826,   -34.8192,   114.9957,        144,   128.8,  18.9864,  35.8329,2,  35.8280,2,    230.0,2,   228.4,2,    2.73,2,    0.39,2,    0.14,2,-999.000,9,-999.000,9,-999.000,9,  2058.8,6,  2347.6,6,  18.9634
09AR20041223,       I09S,       3,          1,         24,         24,2,20041224,       2125,   -34.9597,   114.9963,        274,    16.9,  20.0339,  35.8355,2,-999.0000,9,    229.8,2,  -999.0,9, -999.00,9, -999.00,9, -999.00,9,-999.000,9,-999.000,9,-999.000,9,  -999.0,9,  -999.0,9,  20.0308
09AR20041223,       I09S,       3,          1,         23,         23,2,20041224,       2125,   -34.9597,   114.9963,        274,    16.7,  20.0315,  35.8357,2,-999.0000,9,    229.8,2,  -999.0,9, -999.00,9, -999.00,9, -999.00,9,-999.000,9,-999.000,9,-999.000,9,  -999.0,9,  -999.0,9,  20.0284
09AR20041223,       I09S,       3,          1,         22,         22,2,20041224,       2125,   -34.9597,   114.9963,        274,    16.9,  20.0302,  35.8357,2,-999.0000,9,    229.8,2,  -999.0,9, -999.00,9, -999.00,9, -999.00,9,-999.000,9,-999.000,9,-999.000,9,  -999.0,9,  -999.0,9,  20.0271
09AR20041223,       I09S,       3,          1,         21,         21,2,20041224,       2125,   -34.9597,   114.9963,        274,    17.0,  20.0290,  35.8358,2,-999.0000,9,    229.8,2,  -999.0,9, -999.00,9, -999.00,9, -999.00,9,-999.000,9,-999.000,9,-999.000,9,  -999.0,9,  -999.0,9,  20.0258
09AR20041223,       I09S,       3,          1,         20,         20,2,20041224,       2125,   -34.9597,   114.9963,        274,    17.1,  20.0291,  35.8357,2,-999.0000,9,    229.3,2,  -999.0,9, -999.00,9, -999.00,9, -999.00,9,-999.000,9,-999.000,9,-999.000,9,  -999.0,9,  -999.0,9,  20.0259
09AR20041223,       I09S,       3,          1,         19,         19,2,20041224,       2125,   -34.9597,   114.9963,        274,    16.7,  20.0323,  35.8356,2,-999.0000,9,    229.8,2,  -999.0,9, -999.00,9, -999.00,9, -999.00,9,-999.000,9,-999.000,9,-999.000,9,  -999.0,9,  -999.0,9,  20.0292
09AR20041223,       I09S,       3,          1,         18,         18,2,20041224,       2125,   -34.9597,   114.9963,        274,    16.3,  20.0356,  35.8355,2,-999.0000,9,    229.8,2,  -999.0,9, -999.00,9, -999.00,9, -999.00,9,-999.000,9,-999.000,9,-999.000,9,  -999.0,9,  -999.0,9,  20.0326
09AR20041223,       I09S,       3,          1,         17,         17,2,20041224,       2125,   -34.9597,   114.9963,        274,    16.3,  20.0359,  35.8354,2,-999.0000,9,    229.8,2,  -999.0,9, -999.00,9, -999.00,9, -999.00,9,-999.000,9,-999.000,9,-999.000,9,  -999.0,9,  -999.0,9,  20.0329
09AR20041223,       I09S,       3,          1,         16,         16,2,20041224,       2125,   -34.9597,   114.9963,        274,    16.5,  20.0358,  35.8354,2,-999.0000,9,    229.8,2,  -999.0,9, -999.00,9, -999.00,9, -999.00,9,-999.000,9,-999.000,9,-999.000,9,  -999.0,9,  -999.0,9,  20.0327
09AR20041223,       I09S,       3,          1,         15,         15,2,20041224,       2125,   -34.9597,   114.9963,        274,    16.7,  20.0358,  35.8354,2,-999.0000,9,    229.8,2,  -999.0,9, -999.00,9, -999.00,9, -999.00,9,-999.000,9,-999.000,9,-999.000,9,  -999.0,9,  -999.0,9,  20.0327
09AR20041223,       I09S,       3,          1,         14,         14,2,20041224,       2125,   -34.9597,   114.9963,        274,    17.0,  20.0368,  35.8353,2,-999.0000,9,    229.8,2,  -999.0,9, -999.00,9, -999.00,9, -999.00,9,-999.000,9,-999.000,9,-999.000,9,  -999.0,9,  -999.0,9,  20.0336
09AR20041223,       I09S,       3,          1,         13,         13,2,20041224,       2125,   -34.9597,   114.9963,        274,    16.7,  20.0375,  35.8354,2,-999.0000,9,    229.8,2,  -999.0,9, -999.00,9, -999.00,9, -999.00,9,-999.000,9,-999.000,9,-999.000,9,  -999.0,9,  -999.0,9,  20.0344
09AR20041223,       I09S,       3,          1,         12,         12,2,20041224,       2125,   -34.9597,   114.9963,        274,    16.8,  20.0381,  35.8353,2,-999.0000,9,    229.8,2,  -999.0,9, -999.00,9, -999.00,9, -999.00,9,-999.000,9,-999.000,9,-999.000,9,  -999.0,9,  -999.0,9,  20.0350
09AR20041223,       I09S,       3,          1,         11,         11,2,20041224,       2125,   -34.9597,   114.9963,        274,    16.9,  20.0381,  35.8353,2,-999.0000,9,    229.8,2,  -999.0,9, -999.00,9, -999.00,9, -999.00,9,-999.000,9,-999.000,9,-999.000,9,  -999.0,9,  -999.0,9,  20.0350
09AR20041223,       I09S,       3,          1,         10,         10,2,20041224,       2125,   -34.9597,   114.9963,        274,    16.8,  20.0373,  35.8351,2,-999.0000,9,    229.8,2,  -999.0,9, -999.00,9, -999.00,9, -999.00,9,-999.000,9,-999.000,9,-999.000,9,  -999.0,9,  -999.0,9,  20.0342
09AR20041223,       I09S,       3,          1,          9,          9,2,20041224,       2125,   -34.9597,   114.9963,        274,    16.9,  20.0363,  35.8352,2,-999.0000,9,    229.8,2,  -999.0,9, -999.00,9, -999.00,9, -999.00,9,-999.000,9,-999.000,9,-999.000,9,  -999.0,9,  -999.0,9,  20.0332
09AR20041223,       I09S,       3,          1,          8,          8,2,20041224,       2125,   -34.9597,   114.9963,        274,    16.8,  20.0343,  35.8352,2,  35.8343,2,    229.8,2,   231.1,2,    2.54,2,    0.00,2,    0.12,2,-999.000,5,-999.000,5,-999.000,5,  2046.2,6,  2346.5,6,  20.0312
09AR20041223,       I09S,       3,          1,          7,          7,2,20041224,       2125,   -34.9597,   114.9963,        274,    40.7,  20.0358,  35.8353,2,  35.8345,2,    229.1,2,   229.8,2,    2.54,2,    0.00,2,    0.10,2,   2.439,2,   1.192,4,   0.265,4,  2047.3,2,  2348.7,2,  20.0282
09AR20041223,       I09S,       3,          1,          6,          6,2,20041224,       2125,   -34.9597,   114.9963,        274,    70.1,  18.7939,  35.8159,2,  35.8138,2,    227.0,2,   226.1,2,    2.73,2,    0.00,2,    0.15,2,   2.675,2,   1.263,2,   0.260,4,  2057.5,2,  2357.1,6,  18.7815
09AR20041223,       I09S,       3,          1,          5,          5,2,20041224,       2125,   -34.9597,   114.9963,        274,   101.3,  18.4308,  35.8274,2,  35.8254,2,    226.6,2,   227.1,2,    2.63,2,    0.39,2,    0.14,2,   2.583,2,   1.252,2,   0.294,4,  2062.1,2,  2348.6,2,  18.4131
09AR20041223,       I09S,       3,          1,          4,          4,2,20041224,       2125,   -34.9597,   114.9963,        274,   129.6,  17.6265,  35.8301,2,  35.8294,2,    235.4,2,   232.7,2,    2.24,2,    0.29,2,    0.14,2,-999.000,5,-999.000,5,-999.000,5,  2070.2,2,  2348.8,2,  17.6045
09AR20041223,       I09S,       3,          1,          3,          3,2,20041224,       2125,   -34.9597,   114.9963,        274,   160.3,  16.4780,  35.7423,2,  35.7456,2,    235.2,2,   235.3,2,    2.05,2,    0.78,2,    0.17,2,   2.737,4,   1.387,4,   0.293,4,  2080.0,2,  2354.0,2,  16.4520
09AR20041223,       I09S,       3,          1,          2,          2,2,20041224,       2125,   -34.9597,   114.9963,        274,   201.3,  14.1732,  35.4440,2,  35.4439,2,    241.8,2,   243.3,2,    1.85,2,    2.93,2,    0.31,2,   2.995,6,   1.500,6,   0.242,6,  2090.5,2,  2332.0,2,  14.1437
09AR20041223,       I09S,       3,          1,          1,          1,2,20041224,       2125,   -34.9597,   114.9963,        274,   258.1,  11.2871,  34.9871,2,  34.9868,2,    241.9,2,   244.3,2,    2.73,2,    8.98,2,    0.67,2,   3.630,2,   1.679,2,   0.195,2,  2109.9,6,  2307.6,6,  11.2547