BOTTLE,20220105CCHSIOENA
EXPOCODE,SECT_ID,STNNBR,CASTNO,SAMPNO,BTLNBR,BTLNBR_FLAG_W,DATE,TIME,LATITUDE,LONGITUDE,DEPTH,CTDPRS,CTDTMP,CTDSAL,CTDSAL_FLAG_W,SALNTY,SALNTY_FLAG_W,CTDOXY,CTDOXY_FLAG_W,OXYGEN,OXYGEN_FLAG_W,SILCAT,SILCAT_FLAG_W,NITRAT,NITRAT_FLAG_W,PHSPHT,PHSPHT_FLAG_W,CFC-11,CFC-11_FLAG_W,CFC-12,CFC-12_FLAG_W,CFC113,CFC113_FLAG_W,TCARBN,TCARBN_FLAG_W,ALKALI,ALKALI_FLAG_W,THETA
,,,,,,,,,,,METERS,DBAR,ITS-90,PSS-78,,PSS-78,,UMOL/KG,,UMOL/KG,,UMOL/KG,,UMOL/KG,,UMOL/KG,,PMOL/KG,,PMOL/KG,,PMOL/KG,,UMOL/KG,,UMOL/KG,,DEG C
09AR20041223,       I09S,      44,          1,         24,         24,2,20050108,       2105,   -54.9990,   115.0053,       4431,    10.2,   4.4613,  33.8732,2,  33.8732,2,    316.0,2,   316.4,2,    0.88,2,   23.05,2,    1.47,2,-999.000,9,-999.000,9,-999.000,9,  -999.0,9,  -999.0,9,   4.4606
09AR20041223,       I09S,      44,          1,         23,         23,2,20050108,       2105,   -54.9990,   115.0053,       4431,    45.5,   4.4595,  33.8727,2,  33.8732,2,    316.3,2,   315.8,2,    0.88,2,   23.15,2,    1.46,2,-999.000,9,-999.000,9,-999.000,9,  -999.0,9,  -999.0,9,   4.4563
09AR20041223,       I09S,      44,          1,         22,         22,2,20050108,       2105,   -54.9990,   115.0053,       4431,    80.9,   3.1316,  33.9014,2,  33.9033,2,    320.9,2,   320.4,2,    5.57,2,   24.22,2,    1.69,2,-999.000,9,-999.000,9,-999.000,9,  -999.0,9,  -999.0,9,   3.1267
09AR20041223,       I09S,      44,          1,         21,         21,2,20050108,       2105,   -54.9990,   115.0053,       4431,   159.6,   2.3931,  33.9492,2,  33.9505,2,    309.1,2,   309.6,2,   16.90,2,   26.95,2,    1.78,2,-999.000,9,-999.000,9,-999.000,9,  -999.0,9,  -999.0,9,   2.3843
09AR20041223,       I09S,      44,          1,         20,         20,2,20050108,       2105,   -54.9990,   115.0053,       4431,   201.2,   2.5189,  34.0371,2,  34.0361,2,    284.4,2,   285.2,2,   23.93,2,   28.71,2,    1.89,2,-999.000,9,-999.000,9,-999.000,9,  -999.0,9,  -999.0,9,   2.5075
09AR20041223,       I09S,      44,          1,         19,         19,2,20050108,       2105,   -54.9990,   115.0053,       4431,   251.0,   2.6830,  34.1450,2,  34.1457,2,    256.5,2,   252.9,2,   33.00,2,   30.66,2,    2.02,2,-999.000,9,-999.000,9,-999.000,9,  -999.0,9,  -999.0,9,   2.6683
09AR20041223,       I09S,      44,          1,         18,         18,2,20050108,       2105,   -54.9990,   115.0053,       4431,   297.8,   2.5651,  34.1975,2,  34.1972,2,    240.0,2,   238.3,2,   38.96,2,   31.64,2,    2.10,2,-999.000,9,-999.000,9,-999.000,9,  -999.0,9,  -999.0,9,   2.5477
09AR20041223,       I09S,      44,          1,         17,          6,2,20050108,       2105,   -54.9990,   115.0053,       4431,   401.5,   2.5368,  34.3041,2,  34.3035,2,    212.2,2,   210.2,2,   50.09,2,   33.20,2,    2.21,2,-999.000,9,-999.000,9,-999.000,9,  -999.0,9,  -999.0,9,   2.5131
09AR20041223,       I09S,      44,          1,         16,         16,2,20050108,       2105,   -54.9990,   115.0053,       4431,   502.1,   2.4154,  34.3772,2,  34.3786,2,    194.0,2,   197.0,2,   58.48,2,   33.88,2,    2.27,2,-999.000,9,-999.000,9,-999.000,9,  -999.0,9,  -999.0,9,   2.3857
09AR20041223,       I09S,      44,          1,         15,         15,2,20050108,       2105,   -54.9990,   115.0053,       4431,   600.6,   2.4381,  34.4766,2,  34.4768,2,    182.0,2,   180.9,2,   66.58,2,   34.17,2,    2.28,2,-999.000,9,-999.000,9,-999.000,9,  -999.0,9,  -999.0,9,   2.4019
09AR20041223,       I09S,      44,          1,         14,         14,2,20050108,       2105,   -54.9990,   115.0053,       4431,   802.9,   2.4265,  34.5962,2,  34.5958,2,    174.1,2,   174.2,2,   73.89,2,   33.09,2,    2.24,2,-999.000,9,-999.000,9,-999.000,9,  -999.0,9,  -999.0,9,   2.3767
09AR20041223,       I09S,      44,          1,         13,         13,2,20050108,       2105,   -54.9990,   115.0053,       4431,  1000.4,   2.3223,  34.6644,2,  34.6638,2,    177.7,2,   178.9,2,   77.11,2,   32.11,2,    2.16,2,-999.000,9,-999.000,9,-999.000,9,  -999.0,9,  -999.0,9,   2.2594
09AR20041223,       I09S,      44,          1,         12,         12,2,20050108,       2105,   -54.9990,   115.0053,       4431,  1253.0,   2.1265,  34.7227,2,  34.7223,2,    185.3,2,   187.6,2,   81.11,2,   30.84,2,    2.07,2,-999.000,9,-999.000,9,-999.000,9,  -999.0,9,  -999.0,9,   2.0470
09AR20041223,       I09S,      44,          1,         11,         11,2,20050108,       2105,   -54.9990,   115.0053,       4431,  1501.4,   1.9763,  34.7467,2,  34.7469,2,    193.3,2,   194.2,2,   84.23,2,   30.06,2,    2.02,2,-999.000,9,-999.000,9,-999.000,9,  -999.0,9,  -999.0,9,   1.8797
09AR20041223,       I09S,      44,          1,         10,         10,2,20050108,       2105,   -54.9990,   115.0053,       4431,  1752.2,   1.7534,  34.7491,2,  34.7486,2,    197.4,2,   197.8,2,   90.67,2,   30.16,2,    2.04,2,-999.000,9,-999.000,9,-999.000,9,  -999.0,9,  -999.0,9,   1.6402
09AR20041223,       I09S,      44,          1,          9,          9,2,20050108,       2105,   -54.9990,   115.0053,       4431,  2002.4,   1.5125,  34.7432,2,  34.7429,2,    200.7,2,   200.8,2,   97.80,2,   30.45,2,    2.06,2,-999.000,9,-999.000,9,-999.000,9,  -999.0,9,  -999.0,9,   1.3829
09AR20041223,       I09S,      44,          1,          8,        108,2,20050108,       2105,   -54.9990,   115.0053,       4431,  2300.0,   1.2420,  34.7318,2,  34.7312,2,    204.1,2,   204.1,2,  106.10,2,   30.84,2,    2.09,2,-999.000,9,-999.000,9,-999.000,9,  -999.0,9,  -999.0,9,   1.0925
09AR20041223,       I09S,      44,          1,          7,        107,2,20050108,       2105,   -54.9990,   115.0053,       4431,  2603.3,   0.9951,  34.7192,2,  34.7192,2,    207.3,2,   207.2,2,  113.61,2,   31.33,2,    2.14,2,-999.000,9,-999.000,9,-999.000,9,  -999.0,9,  -999.0,9,   0.8245
09AR20041223,       I09S,      44,          1,          6,        117,2,20050108,       2105,   -54.9990,   115.0053,       4431,  2898.6,   0.7518,  34.7063,2,  34.7062,2,    211.2,2,   211.3,2,  120.25,2,   31.72,2,    2.17,2,-999.000,9,-999.000,9,-999.000,9,  -999.0,9,  -999.0,9,   0.5605
09AR20041223,       I09S,      44,          1,          5,        105,2,20050108,       2105,   -54.9990,   115.0053,       4431,  3301.7,   0.4362,  34.6915,2,  34.6911,2,    216.9,2,   217.2,2,  127.67,2,   32.21,2,    2.19,2,-999.000,9,-999.000,9,-999.000,9,  -999.0,9,  -999.0,9,   0.2156
09AR20041223,       I09S,      44,          1,          4,        104,2,20050108,       2105,   -54.9990,   115.0053,       4431,  3701.8,   0.3177,  34.6857,2,  34.6852,2,    221.2,2,   220.9,2,  132.55,2,   32.11,2,    2.20,2,-999.000,9,-999.000,9,-999.000,9,  -999.0,9,  -999.0,9,   0.0621
09AR20041223,       I09S,      44,          1,          3,        103,2,20050108,       2105,   -54.9990,   115.0053,       4431,  4101.3,   0.2252,  34.6809,2,  34.6803,2,    224.8,2,   224.7,2,  134.31,2,   32.41,2,    2.21,2,-999.000,9,-999.000,9,-999.000,9,  -999.0,9,  -999.0,9,  -0.0678
09AR20041223,       I09S,      44,          1,          2,        102,2,20050108,       2105,   -54.9990,   115.0053,       4431,  4401.0,   0.1345,  34.6767,2,  34.6756,2,   -999.0,9,   228.0,2,  136.17,2,   32.31,2,    2.21,2,-999.000,9,-999.000,9,-999.000,9,  -999.0,9,  -999.0,9,  -0.1871
09AR20041223,       I09S,      44,          1,          1,        101,2,20050108,       2105,   -54.9990,   115.0053,       4431,  4481.5,   0.1198,  34.6759,2,  34.6756,2,   -999.0,9,   228.8,2,  139.68,2,   32.50,2,    2.22,2,-999.000,9,-999.000,9,-999.000,9,  -999.0,9,  -999.0,9,  -0.2099
09AR20041223,       I09S,      45,          1,         24,         24,2,20050109,       0425,   -55.5977,   115.0380,       4573,    15.3,   4.6698,  33.8570,2,  33.8572,2,    315.5,2,   315.2,2,    0.78,2,   23.64,2,    1.48,2,   4.683,2,   2.463,2,   0.441,2,  2123.9,6,  2278.9,2,   4.6687
09AR20041223,       I09S,      45,          1,         23,         23,2,20050109,       0425,   -55.5977,   115.0380,       4573,    50.6,   4.5899,  33.8588,2,  33.8586,2,    315.4,2,   315.3,2,    0.78,2,   23.54,2,    1.48,2,   4.683,2,   2.454,2,   0.437,2,  2123.6,2,  2277.4,2,   4.5863
09AR20041223,       I09S,      45,          1,         22,         22,2,20050109,       0425,   -55.5977,   115.0380,       4573,    79.3,   3.3637,  33.8999,2,  33.9004,2,    319.3,2,   320.0,2,    1.86,2,   24.22,2,    1.73,2,   4.927,2,   2.585,2,   0.465,2,  2135.2,2,  2278.7,2,   3.3587
09AR20041223,       I09S,      45,          1,         21,         21,2,20050109,       0425,   -55.5977,   115.0380,       4573,   149.6,   1.4825,  33.9135,2,  33.9147,2,    322.3,2,   325.4,2,   19.63,2,   27.35,2,    1.86,2,   5.218,2,   2.721,2,   0.491,2,  2154.9,2,  2280.0,2,   1.4754
09AR20041223,       I09S,      45,          1,         20,         20,2,20050109,       0425,   -55.5977,   115.0380,       4573,   201.8,   1.7682,  34.0096,2,  34.0099,2,    309.9,2,   302.5,2,   26.76,2,   29.00,2,    1.93,2,   4.767,2,   2.468,2,   0.438,2,  2169.0,2,  2286.0,2,   1.7580
09AR20041223,       I09S,      45,          1,         19,         19,2,20050109,       0425,   -55.5977,   115.0380,       4573,   251.8,   2.2342,  34.1511,2,  34.1518,2,    254.2,2,   254.9,2,   38.37,2,   31.34,2,    2.07,2,   3.672,6,   1.843,6,   0.310,6,  2193.2,2,  2292.8,2,   2.2203
09AR20041223,       I09S,      45,          1,         18,         18,2,20050109,       0425,   -55.5977,   115.0380,       4573,   302.1,   2.3708,  34.2315,2,  34.2317,2,    233.4,2,   231.1,2,   44.62,2,   32.51,2,    2.16,2,   2.903,2,   1.439,2,   0.232,2,  2208.8,2,  2298.2,2,   2.3536
09AR20041223,       I09S,      45,          1,         17,          6,2,20050109,       0425,   -55.5977,   115.0380,       4573,   400.9,   2.4169,  34.3504,2,  34.3502,2,    203.1,2,   202.6,2,   55.85,2,   33.78,2,    2.25,2,   1.895,2,   0.928,2,   0.154,2,  2230.0,2,  2310.6,2,   2.3936
09AR20041223,       I09S,      45,          1,         16,         16,2,20050109,       0425,   -55.5977,   115.0380,       4573,   501.3,   2.4609,  34.4496,2,  34.4493,2,    185.4,2,   184.0,2,   64.24,2,   34.27,2,    2.28,2,   1.186,2,   0.566,2,   0.106,2,  2239.5,2,  2319.4,2,   2.4311
09AR20041223,       I09S,      45,          1,         15,         15,2,20050109,       0425,   -55.5977,   115.0380,       4573,   700.6,   2.4072,  34.5763,2,  34.5748,2,    174.1,2,   174.8,2,   72.63,2,   33.68,2,    2.25,2,   0.612,3,   0.251,2,   0.038,2,  2246.9,2,  2330.3,2,   2.3645
09AR20041223,       I09S,      45,          1,         14,         14,2,20050109,       0425,   -55.5977,   115.0380,       4573,   852.3,   2.3571,  34.6458,2,  34.6462,2,    174.8,2,   176.7,2,   76.72,2,   32.60,2,    2.18,2,   0.344,2,   0.142,2,   0.050,2,  2246.8,2,  2337.8,2,   2.3043
09AR20041223,       I09S,      45,          1,         13,         13,2,20050109,       0425,   -55.5977,   115.0380,       4573,  1001.0,   2.2931,  34.6959,2,  34.6964,2,    181.8,2,   182.8,2,   77.70,2,   31.43,2,    2.11,2,   0.186,2,   0.079,2,   0.030,2,  2247.5,2,  2339.5,2,   2.2303
09AR20041223,       I09S,      45,          1,         12,         12,2,20050109,       0425,   -55.5977,   115.0380,       4573,  1300.3,   2.1565,  34.7338,2,  34.7335,2,    190.1,2,   190.8,2,   79.84,2,   30.55,2,    2.04,2,   0.256,3,   0.054,2,   0.015,2,  2243.0,6,  2346.4,6,   2.0732
09AR20041223,       I09S,      45,          1,         11,         11,2,20050109,       0425,   -55.5977,   115.0380,       4573,  1601.1,   1.8738,  34.7464,2,  34.7463,2,    194.7,2,   195.0,2,   86.67,2,   30.45,2,    2.04,2,   0.150,2,   0.063,2,   0.015,2,  2247.7,2,  2348.5,2,   1.7708
09AR20041223,       I09S,      45,          1,         10,         10,2,20050109,       0425,   -55.5977,   115.0380,       4573,  1901.7,   1.6173,  34.7463,2,  34.7461,2,    200.1,2,   199.4,2,   93.99,2,   30.35,2,    2.05,2,   0.103,2,   0.055,2,   0.022,2,  2248.7,2,  2351.2,2,   1.4942
09AR20041223,       I09S,      45,          1,          9,          9,2,20050109,       0425,   -55.5977,   115.0380,       4573,  2202.3,   1.3287,  34.7359,2,  34.7355,2,    203.2,2,   202.9,2,  102.78,2,   30.84,2,    2.08,2,   0.109,6,   0.044,6,   0.014,6,  2256.0,2,  2356.1,2,   1.1858
09AR20041223,       I09S,      45,          1,          8,        108,2,20050109,       0425,   -55.5977,   115.0380,       4573,  2503.1,   1.0695,  34.7230,2,  34.7221,2,    206.1,2,   205.8,2,  110.68,2,   31.53,2,    2.13,2,   0.133,2,   0.057,2,   0.020,2,  2256.3,2,  2361.6,2,   0.9061
09AR20041223,       I09S,      45,          1,          7,        107,2,20050109,       0425,   -55.5977,   115.0380,       4573,  2701.0,   0.9067,  34.7145,2,  34.7141,2,    208.3,2,   208.7,2,  115.96,2,   31.53,2,    2.14,2,   0.157,2,   0.080,2,   0.020,2,  2258.1,2,  2358.5,2,   0.7295
09AR20041223,       I09S,      45,          1,          6,        117,2,20050109,       0425,   -55.5977,   115.0380,       4573,  3001.4,   0.6687,  34.7022,2,  34.7025,2,    212.5,2,   213.0,2,  124.06,2,   31.82,2,    2.18,2,   0.248,2,   0.115,2,   0.018,2,  2259.3,2,  2359.2,2,   0.4700
09AR20041223,       I09S,      45,          1,          5,        105,2,20050109,       0425,   -55.5977,   115.0380,       4573,  3299.1,   0.4558,  34.6925,2,  34.6921,2,    217.2,2,   216.9,2,  129.14,2,   32.02,2,    2.20,2,   0.375,2,   0.183,2,   0.021,2,  2256.9,2,  2359.3,2,   0.2350
09AR20041223,       I09S,      45,          1,          4,        104,2,20050109,       0425,   -55.5977,   115.0380,       4573,  3700.8,   0.3008,  34.6852,2,  34.6847,2,    221.5,2,   220.9,2,  132.55,2,   32.11,2,    2.21,2,   0.515,2,   0.237,2,   0.020,2,  2257.8,2,  2358.5,2,   0.0457
09AR20041223,       I09S,      45,          1,          3,        103,2,20050109,       0425,   -55.5977,   115.0380,       4573,  4102.1,   0.2157,  34.6803,2,  34.6796,2,    224.8,2,   224.8,2,  133.53,2,   32.11,2,    2.21,2,   0.643,2,   0.304,2,   0.027,2,  2260.0,2,  2368.9,3,  -0.0771
09AR20041223,       I09S,      45,          1,          2,        102,2,20050109,       0425,   -55.5977,   115.0380,       4573,  4501.9,   0.1067,  34.6753,2,  34.6750,2,    229.4,2,   229.1,2,  136.07,2,   32.11,2,    2.21,2,   0.865,6,   0.406,6,   0.057,6,  2256.3,2,  2356.4,2,  -0.2248
09AR20041223,       I09S,      45,          1,          1,        101,2,20050109,       0425,   -55.5977,   115.0380,       4573,  4702.9,   0.0818,  34.6733,2,  34.6729,2,    230.9,2,   231.3,2,  135.48,2,   32.11,2,    2.21,2,   0.983,2,   0.448,2,   0.066,2,  2257.7,6,  2354.7,6,  -0.2707