BOTTLE,20220105CCHSIOENA
EXPOCODE,SECT_ID,STNNBR,CASTNO,SAMPNO,BTLNBR,BTLNBR_FLAG_W,DATE,TIME,LATITUDE,LONGITUDE,DEPTH,CTDPRS,CTDTMP,CTDSAL,CTDSAL_FLAG_W,SALNTY,SALNTY_FLAG_W,CTDOXY,CTDOXY_FLAG_W,OXYGEN,OXYGEN_FLAG_W,SILCAT,SILCAT_FLAG_W,NITRAT,NITRAT_FLAG_W,PHSPHT,PHSPHT_FLAG_W,CFC-11,CFC-11_FLAG_W,CFC-12,CFC-12_FLAG_W,CFC113,CFC113_FLAG_W,TCARBN,TCARBN_FLAG_W,ALKALI,ALKALI_FLAG_W,THETA
,,,,,,,,,,,METERS,DBAR,ITS-90,PSS-78,,PSS-78,,UMOL/KG,,UMOL/KG,,UMOL/KG,,UMOL/KG,,UMOL/KG,,PMOL/KG,,PMOL/KG,,PMOL/KG,,UMOL/KG,,UMOL/KG,,DEG C
09AR20041223,       I09S,     112,          1,         24,         24,2,20050203,       1327,   -66.7047,    77.7123,        652,    10.9,  -1.7755,  33.2004,2,-999.0000,9,   -999.0,9,  -999.0,9, -999.00,9, -999.00,9, -999.00,9,-999.000,9,-999.000,9,-999.000,9,  -999.0,9,  -999.0,9,  -1.7757
09AR20041223,       I09S,     112,          1,         23,         23,2,20050203,       1327,   -66.7047,    77.7123,        652,    10.9,  -1.7717,  33.1925,2,-999.0000,9,   -999.0,9,  -999.0,9, -999.00,9, -999.00,9, -999.00,9,-999.000,9,-999.000,9,-999.000,9,  -999.0,9,  -999.0,9,  -1.7719
09AR20041223,       I09S,     112,          1,         22,         22,2,20050203,       1327,   -66.7047,    77.7123,        652,    10.9,  -1.7711,  33.1893,2,  33.2074,2,   -999.0,9,   339.4,2,   53.06,2,   25.70,2,    1.76,2,   5.230,2,   2.723,2,   0.441,2,  2127.5,6,  2248.1,6,  -1.7713
09AR20041223,       I09S,     112,          1,         21,         21,2,20050203,       1327,   -66.7047,    77.7123,        652,    31.1,  -1.7822,  33.2760,2,-999.0000,9,    330.0,2,  -999.0,9, -999.00,9, -999.00,9, -999.00,9,-999.000,9,-999.000,9,-999.000,9,  -999.0,9,  -999.0,9,  -1.7827
09AR20041223,       I09S,     112,          1,         20,         20,2,20050203,       1327,   -66.7047,    77.7123,        652,    31.1,  -1.7823,  33.2759,2,  33.5823,3,    330.0,2,   330.2,2,   56.67,2,   26.97,2,    1.84,2,-999.000,9,-999.000,9,-999.000,9,  2157.6,2,  2273.7,6,  -1.7828
09AR20041223,       I09S,     112,          1,         19,         19,2,20050203,       1327,   -66.7047,    77.7123,        652,    50.8,  -1.7386,  34.0030,2,  34.0688,2,    318.7,2,   316.0,2,   63.38,2,   28.71,2,    1.93,2,   4.884,2,   2.526,2,   0.439,2,  2194.2,2,  2302.5,2,  -1.7396
09AR20041223,       I09S,     112,          1,         18,         18,2,20050203,       1327,   -66.7047,    77.7123,        652,    75.9,  -1.7924,  34.2122,2,  34.2211,2,    311.9,2,   309.2,2,   65.62,2,   29.39,2,    1.97,2,-999.000,9,-999.000,9,-999.000,9,  2204.3,2,  2311.4,2,  -1.7939
09AR20041223,       I09S,     112,          1,         17,          6,2,20050203,       1327,   -66.7047,    77.7123,        652,   100.9,  -1.8019,  34.2514,2,-999.0000,9,    309.4,2,  -999.0,9, -999.00,9, -999.00,9, -999.00,9,-999.000,9,-999.000,9,-999.000,9,  -999.0,9,  -999.0,9,  -1.8039
09AR20041223,       I09S,     112,          1,         16,         16,2,20050203,       1327,   -66.7047,    77.7123,        652,   100.8,  -1.8015,  34.2527,2,  34.2559,2,    309.4,2,   312.6,2,   65.42,2,   29.49,2,    1.98,2,   4.930,2,   2.504,2,   0.425,2,  2206.1,2,  2313.3,2,  -1.8035
09AR20041223,       I09S,     112,          1,         15,         15,2,20050203,       1327,   -66.7047,    77.7123,        652,   150.4,  -1.7878,  34.2882,2,-999.0000,9,    310.3,2,  -999.0,9, -999.00,9, -999.00,9, -999.00,9,-999.000,9,-999.000,9,-999.000,9,  -999.0,9,  -999.0,9,  -1.7909
09AR20041223,       I09S,     112,          1,         14,         14,2,20050203,       1327,   -66.7047,    77.7123,        652,   150.3,  -1.7879,  34.2882,2,  34.2861,2,    310.3,2,   308.1,2,   66.30,2,   29.58,2,    1.98,2,   4.801,2,   2.484,2,   0.376,2,  -999.0,9,  -999.0,9,  -1.7910
09AR20041223,       I09S,     112,          1,         13,         13,2,20050203,       1327,   -66.7047,    77.7123,        652,   200.5,  -1.8080,  34.3097,2,-999.0000,9,    313.6,2,  -999.0,9, -999.00,9, -999.00,9, -999.00,9,-999.000,9,-999.000,9,-999.000,9,  -999.0,9,  -999.0,9,  -1.8122
09AR20041223,       I09S,     112,          1,         12,         12,2,20050203,       1327,   -66.7047,    77.7123,        652,   200.5,  -1.8080,  34.3096,2,  34.3077,2,    313.6,2,   314.9,2,   64.54,2,   29.78,2,    1.98,2,   5.097,2,   2.642,2,   0.472,2,  -999.0,9,  -999.0,9,  -1.8122
09AR20041223,       I09S,     112,          1,         11,         11,2,20050203,       1327,   -66.7047,    77.7123,        652,   250.7,  -1.8002,  34.3279,2,-999.0000,9,    314.3,2,  -999.0,9, -999.00,9, -999.00,9, -999.00,9,-999.000,9,-999.000,9,-999.000,9,  -999.0,9,  -999.0,9,  -1.8056
09AR20041223,       I09S,     112,          1,         10,         10,2,20050203,       1327,   -66.7047,    77.7123,        652,   250.6,  -1.8006,  34.3278,2,  34.3270,2,    314.3,2,   315.5,2,   64.93,2,   29.58,2,    1.98,2,   5.179,2,   2.663,2,   0.441,2,  2212.9,2,  2319.8,2,  -1.8060
09AR20041223,       I09S,     112,          1,          9,          9,2,20050203,       1327,   -66.7047,    77.7123,        652,   301.5,  -1.7656,  34.3409,2,-999.0000,9,    313.5,2,  -999.0,9, -999.00,9, -999.00,9, -999.00,9,-999.000,9,-999.000,9,-999.000,9,  -999.0,9,  -999.0,9,  -1.7723
09AR20041223,       I09S,     112,          1,          8,        108,2,20050203,       1327,   -66.7047,    77.7123,        652,   301.4,  -1.7660,  34.3410,2,  34.3378,2,    313.5,2,   313.3,2,   65.32,2,   29.58,2,    1.98,2,   5.142,2,   2.652,2,   0.448,2,  -999.0,9,  -999.0,9,  -1.7727
09AR20041223,       I09S,     112,          1,          7,        107,2,20050203,       1327,   -66.7047,    77.7123,        652,   400.6,  -1.6007,  34.3782,2,-999.0000,9,    307.5,2,  -999.0,9, -999.00,9, -999.00,9, -999.00,9,-999.000,9,-999.000,9,-999.000,9,  -999.0,9,  -999.0,9,  -1.6106
09AR20041223,       I09S,     112,          1,          6,        117,2,20050203,       1327,   -66.7047,    77.7123,        652,   400.5,  -1.5992,  34.3786,2,  34.3778,2,    307.5,2,   305.5,2,   67.66,2,   29.78,2,    2.00,2,   4.859,2,   2.503,2,   0.425,2,  -999.0,9,  -999.0,9,  -1.6091
09AR20041223,       I09S,     112,          1,          5,        105,2,20050203,       1327,   -66.7047,    77.7123,        652,   501.6,  -1.2196,  34.4342,2,-999.0000,9,    291.3,2,  -999.0,9, -999.00,9, -999.00,9, -999.00,9,-999.000,9,-999.000,9,-999.000,9,  -999.0,9,  -999.0,9,  -1.2342
09AR20041223,       I09S,     112,          1,          4,        104,2,20050203,       1327,   -66.7047,    77.7123,        652,   501.6,  -1.2202,  34.4340,2,  34.4348,2,    291.3,2,   290.7,2,   72.63,2,   30.26,2,    2.03,2,   4.269,2,   2.158,2,   0.364,2,  2223.2,2,  2326.7,2,  -1.2348
09AR20041223,       I09S,     112,          1,          3,        103,2,20050203,       1327,   -66.7047,    77.7123,        652,   589.6,  -0.2515,  34.5336,2,-999.0000,9,    256.3,2,  -999.0,9, -999.00,9, -999.00,9, -999.00,9,-999.000,9,-999.000,9,-999.000,9,  -999.0,9,  -999.0,9,  -0.2740
09AR20041223,       I09S,     112,          1,          2,        102,2,20050203,       1327,   -66.7047,    77.7123,        652,   589.5,  -0.2722,  34.5317,2,  34.5328,2,    256.3,2,   256.0,2,   81.12,2,   30.46,2,    2.07,2,   2.871,2,   1.456,2,   0.232,2,  -999.0,9,  -999.0,9,  -0.2946
09AR20041223,       I09S,     112,          1,          1,        101,2,20050203,       1327,   -66.7047,    77.7123,        652,   626.6,  -0.4136,  34.5236,2,  34.5220,2,    258.6,2,   260.5,2,   81.03,2,   30.56,2,    2.07,2,   3.021,2,   1.530,2,   0.239,2,  2234.2,6,  2331.6,6,  -0.4369
09AR20041223,       I09S,     113,          1,         24,         24,2,20050203,       1607,   -66.8525,    77.7125,        245,    10.6,  -1.7393,  32.7832,2,-999.0000,9,    348.0,2,  -999.0,9, -999.00,9, -999.00,9, -999.00,9,-999.000,9,-999.000,9,-999.000,9,  -999.0,9,  -999.0,9,  -1.7395
09AR20041223,       I09S,     113,          1,         23,         23,2,20050203,       1607,   -66.8525,    77.7125,        245,    10.6,  -1.7387,  32.7808,2,-999.0000,9,    348.0,2,  -999.0,9, -999.00,9, -999.00,9, -999.00,9,-999.000,9,-999.000,9,-999.000,9,  -999.0,9,  -999.0,9,  -1.7389
09AR20041223,       I09S,     113,          1,         22,         22,2,20050203,       1607,   -66.8525,    77.7125,        245,    10.6,  -1.7373,  32.7776,2,-999.0000,9,    348.0,2,  -999.0,9, -999.00,9, -999.00,9, -999.00,9,-999.000,9,-999.000,9,-999.000,9,  -999.0,9,  -999.0,9,  -1.7375
09AR20041223,       I09S,     113,          1,         21,         21,2,20050203,       1607,   -66.8525,    77.7125,        245,    10.6,  -1.7366,  32.7799,2,-999.0000,9,    348.0,2,  -999.0,9, -999.00,9, -999.00,9, -999.00,9,-999.000,9,-999.000,9,-999.000,9,  -999.0,9,  -999.0,9,  -1.7368
09AR20041223,       I09S,     113,          1,         20,         20,2,20050203,       1607,   -66.8525,    77.7125,        245,    10.6,  -1.7395,  32.7838,2,-999.0000,9,    348.0,2,  -999.0,9, -999.00,9, -999.00,9, -999.00,9,-999.000,9,-999.000,9,-999.000,9,  -999.0,9,  -999.0,9,  -1.7397
09AR20041223,       I09S,     113,          1,         19,         19,2,20050203,       1607,   -66.8525,    77.7125,        245,    10.6,  -1.7356,  32.7760,2,-999.0000,9,    348.0,2,  -999.0,9, -999.00,9, -999.00,9, -999.00,9,-999.000,9,-999.000,9,-999.000,9,  -999.0,9,  -999.0,9,  -1.7358
09AR20041223,       I09S,     113,          1,         18,         18,2,20050203,       1607,   -66.8525,    77.7125,        245,    10.6,  -1.7342,  32.7727,2,-999.0000,9,    348.0,2,  -999.0,9, -999.00,9, -999.00,9, -999.00,9,-999.000,9,-999.000,9,-999.000,9,  -999.0,9,  -999.0,9,  -1.7344
09AR20041223,       I09S,     113,          1,         17,          6,2,20050203,       1607,   -66.8525,    77.7125,        245,    10.6,  -1.7367,  32.7772,2,  32.8230,2,    348.0,2,   349.7,2,   46.04,2,   24.53,2,    1.66,2,   5.383,2,   2.777,2,   0.496,2,  2098.1,6,  2222.5,6,  -1.7369
09AR20041223,       I09S,     113,          1,         16,         16,2,20050203,       1607,   -66.8525,    77.7125,        245,    31.3,  -1.6621,  33.3645,2,-999.0000,9,    337.9,2,  -999.0,9, -999.00,9, -999.00,9, -999.00,9,-999.000,9,-999.000,9,-999.000,9,  2147.3,2,  2264.3,3,  -1.6627
09AR20041223,       I09S,     113,          1,         15,         15,2,20050203,       1607,   -66.8525,    77.7125,        245,    31.2,  -1.6581,  33.2259,2,  33.5007,3,    337.9,2,   334.3,2,   54.33,2,   26.68,2,    1.79,2,-999.000,9,-999.000,9,-999.000,9,  -999.0,9,  -999.0,9,  -1.6587
09AR20041223,       I09S,     113,          1,         14,         14,2,20050203,       1607,   -66.8525,    77.7125,        245,    48.1,  -1.6449,  33.9472,2,-999.0000,9,    326.4,2,  -999.0,9, -999.00,9, -999.00,9, -999.00,9,-999.000,9,-999.000,9,-999.000,9,  -999.0,9,  -999.0,9,  -1.6459
09AR20041223,       I09S,     113,          1,         13,         13,2,20050203,       1607,   -66.8525,    77.7125,        245,    48.1,  -1.5852,  33.9378,2,-999.0000,9,    326.4,2,  -999.0,9, -999.00,9, -999.00,9, -999.00,9,-999.000,9,-999.000,9,-999.000,9,  -999.0,9,  -999.0,9,  -1.5862
09AR20041223,       I09S,     113,          1,         12,         12,2,20050203,       1607,   -66.8525,    77.7125,        245,    48.1,  -1.6164,  33.9395,2,  33.9628,2,    326.4,2,   329.7,2,   58.89,2,   27.44,2,    1.85,2,-999.000,9,-999.000,9,-999.000,9,  -999.0,9,  -999.0,9,  -1.6174
09AR20041223,       I09S,     113,          1,         11,         11,2,20050203,       1607,   -66.8525,    77.7125,        245,    60.7,  -1.6643,  34.0740,2,-999.0000,9,    323.3,2,  -999.0,9, -999.00,9, -999.00,9, -999.00,9,-999.000,9,-999.000,9,-999.000,9,  -999.0,9,  -999.0,9,  -1.6655
09AR20041223,       I09S,     113,          1,         10,         10,2,20050203,       1607,   -66.8525,    77.7125,        245,    60.6,  -1.6674,  34.0783,2,  34.1310,2,    323.3,2,   321.8,2,   62.20,2,   28.42,2,    1.91,2,   5.075,2,   2.631,2,   0.446,2,  2197.2,2,  2306.2,2,  -1.6686
09AR20041223,       I09S,     113,          1,          9,          9,2,20050203,       1607,   -66.8525,    77.7125,        245,    81.2,  -1.7186,  34.2423,2,-999.0000,9,    318.0,2,  -999.0,9, -999.00,9, -999.00,9, -999.00,9,-999.000,9,-999.000,9,-999.000,9,  2209.1,2,  2313.3,6,  -1.7202
09AR20041223,       I09S,     113,          1,          8,        108,2,20050203,       1607,   -66.8525,    77.7125,        245,    81.1,  -1.7179,  34.2410,2,  34.2465,2,    318.0,2,   317.8,2,   64.44,2,   29.19,2,    1.96,2,-999.000,9,-999.000,9,-999.000,9,  -999.0,9,  -999.0,9,  -1.7195
09AR20041223,       I09S,     113,          1,          7,        107,2,20050203,       1607,   -66.8525,    77.7125,        245,   120.7,  -1.7445,  34.3076,2,-999.0000,9,    316.7,2,  -999.0,9, -999.00,9, -999.00,9, -999.00,9,-999.000,9,-999.000,9,-999.000,9,  -999.0,9,  -999.0,9,  -1.7470
09AR20041223,       I09S,     113,          1,          6,        117,2,20050203,       1607,   -66.8525,    77.7125,        245,   120.5,  -1.7445,  34.3083,2,  34.3082,2,    316.7,2,   316.6,2,   65.51,2,   29.68,2,    1.99,2,   5.192,2,   2.690,2,   0.484,2,  2214.1,2,  2317.2,2,  -1.7470
09AR20041223,       I09S,     113,          1,          5,        105,2,20050203,       1607,   -66.8525,    77.7125,        245,   160.6,  -1.7443,  34.3252,2,-999.0000,9,    316.5,2,  -999.0,9, -999.00,9, -999.00,9, -999.00,9,-999.000,9,-999.000,9,-999.000,9,  -999.0,9,  -999.0,9,  -1.7477
09AR20041223,       I09S,     113,          1,          4,        104,2,20050203,       1607,   -66.8525,    77.7125,        245,   160.6,  -1.7443,  34.3259,2,  34.3263,2,    316.5,2,   316.4,2,   65.81,2,   29.78,2,    2.00,2,   5.206,2,   2.677,2,   0.453,2,  -999.0,9,  -999.0,9,  -1.7477
09AR20041223,       I09S,     113,          1,          3,        103,2,20050203,       1607,   -66.8525,    77.7125,        245,   190.5,  -1.7446,  34.3389,2,-999.0000,9,    315.8,2,  -999.0,9, -999.00,9, -999.00,9, -999.00,9,-999.000,9,-999.000,9,-999.000,9,  -999.0,9,  -999.0,9,  -1.7487
09AR20041223,       I09S,     113,          1,          2,        102,2,20050203,       1607,   -66.8525,    77.7125,        245,   190.6,  -1.7448,  34.3403,2,  34.3408,2,    315.8,2,   316.5,2,   66.78,2,   29.78,2,    2.01,2,   5.203,6,   2.675,6,   0.444,6,  -999.0,9,  -999.0,9,  -1.7489
09AR20041223,       I09S,     113,          1,          1,        101,2,20050203,       1607,   -66.8525,    77.7125,        245,   226.8,  -1.7324,  34.3617,2,  34.3549,2,    313.6,2,   314.1,2,   67.07,2,   29.78,2,    2.01,2,   5.211,2,   2.693,2,   0.429,2,  2218.5,6,  2320.4,6,  -1.7373