BOTTLE,20220105CCHSIOENA
EXPOCODE,SECT_ID,STNNBR,CASTNO,SAMPNO,BTLNBR,BTLNBR_FLAG_W,DATE,TIME,LATITUDE,LONGITUDE,DEPTH,CTDPRS,CTDTMP,CTDSAL,CTDSAL_FLAG_W,SALNTY,SALNTY_FLAG_W,CTDOXY,CTDOXY_FLAG_W,OXYGEN,OXYGEN_FLAG_W,SILCAT,SILCAT_FLAG_W,NITRAT,NITRAT_FLAG_W,PHSPHT,PHSPHT_FLAG_W,CFC-11,CFC-11_FLAG_W,CFC-12,CFC-12_FLAG_W,CFC113,CFC113_FLAG_W,TCARBN,TCARBN_FLAG_W,ALKALI,ALKALI_FLAG_W,THETA
,,,,,,,,,,,METERS,DBAR,ITS-90,PSS-78,,PSS-78,,UMOL/KG,,UMOL/KG,,UMOL/KG,,UMOL/KG,,UMOL/KG,,PMOL/KG,,PMOL/KG,,PMOL/KG,,UMOL/KG,,UMOL/KG,,DEG C
09AR20041223,       I09S,      64,          1,         24,         24,2,20050114,       1821,   -64.7502,   111.9188,       2260,     8.9,  -0.0905,  33.8912,2,  33.8926,2,    342.6,2,   341.3,2,   64.36,2,   26.86,2,    1.83,2,-999.000,9,-999.000,9,-999.000,9,  -999.0,9,  -999.0,9,  -0.0908
09AR20041223,       I09S,      64,          1,         23,         23,2,20050114,       1821,   -64.7502,   111.9188,       2260,    29.7,  -0.1604,  33.9049,2,  33.9078,2,    340.6,2,   340.4,2,   64.36,2,   26.96,2,    1.84,2,-999.000,9,-999.000,9,-999.000,9,  -999.0,9,  -999.0,9,  -0.1614
09AR20041223,       I09S,      64,          1,         22,         22,2,20050114,       1821,   -64.7502,   111.9188,       2260,    55.4,  -0.8691,  34.3365,2,  34.3231,2,    304.0,2,   284.3,3,   72.35,2,   29.48,2,    2.05,2,-999.000,9,-999.000,9,-999.000,9,  -999.0,9,  -999.0,9,  -0.8706
09AR20041223,       I09S,      64,          1,         21,         21,2,20050114,       1821,   -64.7502,   111.9188,       2260,    69.7,  -0.2695,  34.4788,2,  34.4660,2,    253.9,2,   253.0,2,   77.61,2,   30.85,2,    2.15,2,-999.000,9,-999.000,9,-999.000,9,  -999.0,9,  -999.0,9,  -0.2718
09AR20041223,       I09S,      64,          1,         20,         20,2,20050114,       1821,   -64.7502,   111.9188,       2260,    89.8,   0.2327,  34.5565,2,  34.5675,2,    223.6,2,   228.5,2,   83.17,2,   31.43,2,    2.19,2,-999.000,9,-999.000,9,-999.000,9,  -999.0,9,  -999.0,9,   0.2293
09AR20041223,       I09S,      64,          1,         19,         19,2,20050114,       1821,   -64.7502,   111.9188,       2260,   119.8,   0.7627,  34.6286,2,  34.6313,2,    207.6,2,   212.1,2,   86.87,2,   31.53,2,    2.21,2,-999.000,9,-999.000,9,-999.000,9,  -999.0,9,  -999.0,9,   0.7576
09AR20041223,       I09S,      64,          1,         18,         18,2,20050114,       1821,   -64.7502,   111.9188,       2260,   151.0,   1.0372,  34.6674,2,  34.6692,2,    201.6,2,   203.7,2,   89.51,2,   31.53,2,    2.17,2,-999.000,9,-999.000,9,-999.000,9,  -999.0,9,  -999.0,9,   1.0304
09AR20041223,       I09S,      64,          1,         17,          6,2,20050114,       1821,   -64.7502,   111.9188,       2260,   200.4,   1.1907,  34.6916,2,  34.6929,2,    199.7,2,   199.7,2,   91.46,2,   31.43,2,    2.17,2,-999.000,9,-999.000,9,-999.000,9,  -999.0,9,  -999.0,9,   1.1813
09AR20041223,       I09S,      64,          1,         16,         16,2,20050114,       1821,   -64.7502,   111.9188,       2260,   250.1,   1.2657,  34.7100,2,  34.7096,2,    200.4,2,   198.6,2,   93.70,2,   31.23,2,    2.17,2,-999.000,9,-999.000,9,-999.000,9,  -999.0,9,  -999.0,9,   1.2537
09AR20041223,       I09S,      64,          1,         15,         15,2,20050114,       1821,   -64.7502,   111.9188,       2260,   302.1,   1.2431,  34.7148,2,  34.7143,2,    201.5,2,   199.3,2,   95.07,2,   31.23,2,    2.18,2,-999.000,9,-999.000,9,-999.000,9,  -999.0,9,  -999.0,9,   1.2285
09AR20041223,       I09S,      64,          1,         14,         14,2,20050114,       1821,   -64.7502,   111.9188,       2260,   400.8,   1.1500,  34.7162,2,-999.0000,9,    204.3,2,   203.2,2,   98.00,2,   31.04,2,    2.16,2,-999.000,9,-999.000,9,-999.000,9,  -999.0,9,  -999.0,9,   1.1306
09AR20041223,       I09S,      64,          1,         13,         13,2,20050114,       1821,   -64.7502,   111.9188,       2260,   500.7,   1.0491,  34.7141,2,  34.7139,2,    206.3,2,   204.9,2,  100.63,2,   31.14,2,    2.17,2,-999.000,9,-999.000,9,-999.000,9,  -999.0,9,  -999.0,9,   1.0248
09AR20041223,       I09S,      64,          1,         12,         12,2,20050114,       1821,   -64.7502,   111.9188,       2260,   601.3,   0.9346,  34.7105,2,  34.7104,2,    208.4,2,   207.5,2,  103.76,2,   30.84,2,    2.16,2,-999.000,9,-999.000,9,-999.000,9,  -999.0,9,  -999.0,9,   0.9055
09AR20041223,       I09S,      64,          1,         11,         11,2,20050114,       1821,   -64.7502,   111.9188,       2260,   700.6,   0.7820,  34.7028,2,  34.7027,2,    209.9,2,   209.6,2,  106.68,2,   31.23,2,    2.20,2,-999.000,9,-999.000,9,-999.000,9,  -999.0,9,  -999.0,9,   0.7483
09AR20041223,       I09S,      64,          1,         10,         10,2,20050114,       1821,   -64.7502,   111.9188,       2260,   850.7,   0.6552,  34.6987,2,  34.6988,2,    211.8,2,   211.5,2,  110.49,2,   31.43,2,    2.19,2,-999.000,9,-999.000,9,-999.000,9,  -999.0,9,  -999.0,9,   0.6141
09AR20041223,       I09S,      64,          1,          9,          9,2,20050114,       1821,   -64.7502,   111.9188,       2260,  1000.8,   0.4990,  34.6902,2,  34.6903,2,    215.4,2,   214.9,2,  113.13,2,   31.62,2,    2.21,2,-999.000,9,-999.000,9,-999.000,9,  -999.0,9,  -999.0,9,   0.4506
09AR20041223,       I09S,      64,          1,          8,        208,2,20050114,       1821,   -64.7502,   111.9188,       2260,  1201.0,   0.4070,  34.6902,2,  34.6901,2,    215.0,2,   215.0,2,  118.50,2,   31.82,2,    2.22,2,-999.000,9,-999.000,9,-999.000,9,  -999.0,9,  -999.0,9,   0.3478
09AR20041223,       I09S,      64,          1,          7,        107,2,20050114,       1821,   -64.7502,   111.9188,       2260,  1401.7,   0.2462,  34.6800,2,  34.6799,2,    220.3,2,   221.1,2,  118.11,2,   31.82,2,    2.23,2,-999.000,9,-999.000,9,-999.000,9,  -999.0,9,  -999.0,9,   0.1765
09AR20041223,       I09S,      64,          1,          6,        117,2,20050114,       1821,   -64.7502,   111.9188,       2260,  1600.9,   0.1152,  34.6747,2,  34.6746,2,    223.9,2,   224.0,2,  119.47,2,   31.82,2,    2.24,2,-999.000,9,-999.000,9,-999.000,9,  -999.0,9,  -999.0,9,   0.0345
09AR20041223,       I09S,      64,          1,          5,        105,2,20050114,       1821,   -64.7502,   111.9188,       2260,  1800.4,   0.0435,  34.6742,2,  34.6740,2,    226.1,2,   226.1,2,  119.08,2,   31.82,2,    2.24,2,-999.000,9,-999.000,9,-999.000,9,  -999.0,9,  -999.0,9,  -0.0493
09AR20041223,       I09S,      64,          1,          4,        104,2,20050114,       1821,   -64.7502,   111.9188,       2260,  2000.7,  -0.0360,  34.6700,2,  34.6695,2,    229.6,2,  -999.0,9,  117.72,2,   31.72,2,    2.25,2,-999.000,9,-999.000,9,-999.000,9,  -999.0,9,  -999.0,9,  -0.1412
09AR20041223,       I09S,      64,          1,          3,        103,2,20050114,       1821,   -64.7502,   111.9188,       2260,  2100.7,  -0.1063,  34.6667,2,  34.6660,2,    231.7,2,   231.9,2,  115.96,2,   31.92,2,    2.24,2,-999.000,9,-999.000,9,-999.000,9,  -999.0,9,  -999.0,9,  -0.2174
09AR20041223,       I09S,      64,          1,          2,        102,2,20050114,       1821,   -64.7502,   111.9188,       2260,  2201.1,  -0.1631,  34.6646,2,  34.6638,2,    233.7,2,   234.0,2,  115.28,2,   31.72,2,    2.23,2,-999.000,9,-999.000,9,-999.000,9,  -999.0,9,  -999.0,9,  -0.2804
09AR20041223,       I09S,      64,          1,          1,        101,2,20050114,       1821,   -64.7502,   111.9188,       2260,  2277.4,  -0.2320,  34.6628,2,  34.6621,2,    236.2,2,   236.0,2,  114.11,2,   31.82,2,    2.23,2,-999.000,9,-999.000,9,-999.000,9,  -999.0,9,  -999.0,9,  -0.3536
09AR20041223,       I09S,      65,          1,         24,         24,2,20050114,       2255,   -64.9622,   112.1600,       2300,     6.9,  -0.1702,  33.8960,2,  33.8994,2,    341.4,2,   341.1,2,   65.14,2,   27.25,2,    1.87,2,   5.352,2,   2.776,2,   0.477,2,  2170.3,6,  2292.1,6,  -0.1704
09AR20041223,       I09S,      65,          1,         23,         23,2,20050114,       2255,   -64.9622,   112.1600,       2300,    31.1,  -0.3046,  33.9286,2,  33.9413,2,    339.1,2,   337.9,2,   65.43,2,   27.25,2,    1.87,2,   5.232,2,   2.699,2,   0.466,2,  2173.5,2,  2294.9,2,  -0.3056
09AR20041223,       I09S,      65,          1,         22,         22,2,20050114,       2255,   -64.9622,   112.1600,       2300,    56.5,  -1.1216,  34.2636,2,  34.2624,2,    295.6,2,   296.1,2,   70.59,2,   29.19,2,    1.99,2,   3.868,2,   1.985,2,   0.336,2,  2204.2,2,  2314.8,2,  -1.1230
09AR20041223,       I09S,      65,          1,         21,         21,2,20050114,       2255,   -64.9622,   112.1600,       2300,    91.2,  -0.2293,  34.4933,2,  34.4975,2,    245.6,2,   245.8,2,   79.85,2,   31.24,2,    2.14,2,   2.568,2,   1.306,2,   0.209,2,  2230.6,2,  2328.7,2,  -0.2324
09AR20041223,       I09S,      65,          1,         20,         20,2,20050114,       2255,   -64.9622,   112.1600,       2300,   121.5,   0.4722,  34.5874,2,  34.5975,2,    218.7,2,   220.7,2,   85.90,2,   31.72,2,    2.18,2,   1.627,2,   0.819,2,   0.123,2,  2244.4,2,  2336.6,2,   0.4673
09AR20041223,       I09S,      65,          1,         19,         19,2,20050114,       2255,   -64.9622,   112.1600,       2300,   161.0,   1.0096,  34.6610,2,  34.6627,2,    206.5,2,   205.0,2,   90.19,2,   31.63,2,    2.17,2,   0.986,6,   0.492,6,   0.082,6,  2245.6,2,  2341.9,2,   1.0023
09AR20041223,       I09S,      65,          1,         18,         18,2,20050114,       2255,   -64.9622,   112.1600,       2300,   201.0,   1.2112,  34.6925,2,  34.6939,2,    200.5,2,   199.9,2,   92.43,2,   31.62,2,    2.17,2,   0.691,2,   0.348,2,   0.057,2,  2250.3,2,  -999.0,9,   1.2017
09AR20041223,       I09S,      65,          1,         17,          6,2,20050114,       2255,   -64.9622,   112.1600,       2300,   250.7,   1.2674,  34.7095,2,  34.7094,2,    199.3,2,   198.8,2,   94.58,2,   31.33,2,    2.17,2,   0.557,2,   0.276,2,   0.043,2,  2245.7,2,  2347.3,2,   1.2553
09AR20041223,       I09S,      65,          1,         16,         16,2,20050114,       2255,   -64.9622,   112.1600,       2300,   301.0,   1.2454,  34.7140,2,  34.7141,2,    200.0,2,   200.4,2,   96.04,2,   31.23,2,    2.16,2,   0.505,2,   0.261,2,   0.040,2,  2266.1,3,  2347.6,2,   1.2308
09AR20041223,       I09S,      65,          1,         15,         15,2,20050114,       2255,   -64.9622,   112.1600,       2300,   401.2,   1.1395,  34.7163,2,  34.7160,2,    203.2,2,   202.7,2,  102.39,3,   31.04,2,    2.15,2,   0.461,2,   0.218,2,   0.029,2,  2249.2,2,  2349.4,2,   1.1201
09AR20041223,       I09S,      65,          1,         14,         14,2,20050114,       2255,   -64.9622,   112.1600,       2300,   501.4,   1.0429,  34.7147,2,  34.7137,2,    205.6,2,   205.6,2,  102.49,2,   31.14,2,    2.17,2,   0.443,2,   0.220,2,   0.035,2,  2251.7,2,  2350.3,2,   1.0186
09AR20041223,       I09S,      65,          1,         13,         13,2,20050114,       2255,   -64.9622,   112.1600,       2300,   601.2,   0.9243,  34.7096,2,  34.7094,2,    208.1,2,   208.7,2,  105.02,2,   31.14,2,    2.18,2,   0.454,2,   0.227,2,   0.031,2,  2251.6,2,  2358.1,3,   0.8952
09AR20041223,       I09S,      65,          1,         12,         12,2,20050114,       2255,   -64.9622,   112.1600,       2300,   700.6,   0.7904,  34.7025,2,  34.7023,2,    210.6,2,   210.3,2,  106.59,2,   31.23,2,    2.19,2,   0.505,2,   0.250,2,   0.034,2,  2255.3,6,  2362.2,3,   0.7567
09AR20041223,       I09S,      65,          1,         11,         11,2,20050114,       2255,   -64.9622,   112.1600,       2300,   801.1,   0.6410,  34.6934,2,  34.6923,2,    213.4,2,   213.9,2,  108.25,2,   31.43,2,    2.20,2,   0.613,2,   0.311,2,   0.046,2,  2254.0,2,  2365.3,3,   0.6027
09AR20041223,       I09S,      65,          1,         10,         10,2,20050114,       2255,   -64.9622,   112.1600,       2300,   901.4,   0.5506,  34.6909,2,  34.6903,2,    214.8,2,   214.5,2,  111.86,2,   31.62,2,    2.19,2,   0.567,2,   0.278,2,   0.038,2,  2255.6,2,  2354.9,2,   0.5074
09AR20041223,       I09S,      65,          1,          9,          9,2,20050114,       2255,   -64.9622,   112.1600,       2300,  1001.1,   0.4371,  34.6846,2,  34.6847,2,    216.6,2,   217.8,2,  113.13,2,   31.72,2,    2.20,2,   0.653,6,   0.326,6,   0.042,6,  2256.3,2,  2355.0,2,   0.3892
09AR20041223,       I09S,      65,          1,          8,        208,2,20050114,       2255,   -64.9622,   112.1600,       2300,  1201.9,   0.3688,  34.6881,2,  34.6839,4,    216.0,2,   217.9,2,  113.13,2,   31.72,2,    2.23,2,   0.652,2,   0.328,2,   0.047,2,  2256.1,2,  2372.0,3,   0.3099
09AR20041223,       I09S,      65,          1,          7,        107,2,20050114,       2255,   -64.9622,   112.1600,       2300,  1403.0,   0.2066,  34.6796,2,  34.6792,2,    221.4,2,   220.4,2,  119.77,2,   32.02,2,    2.25,2,   0.652,2,   0.318,2,   0.043,2,  2255.4,2,  2366.8,3,   0.1373
09AR20041223,       I09S,      65,          1,          6,        117,2,20050114,       2255,   -64.9622,   112.1600,       2300,  1600.8,   0.0679,  34.6735,2,  34.6731,2,    225.2,2,   225.2,2,  119.67,2,   31.82,2,    2.24,2,   0.867,2,   0.421,2,   0.058,2,  2255.9,2,  2371.7,3,  -0.0121
09AR20041223,       I09S,      65,          1,          5,        105,2,20050114,       2255,   -64.9622,   112.1600,       2300,  1801.0,  -0.0031,  34.6724,2,  34.6717,2,    228.0,2,   227.7,2,  120.06,2,   31.82,2,    2.23,2,   0.958,2,   0.473,2,   0.066,2,  2254.2,2,  2349.0,2,  -0.0952
09AR20041223,       I09S,      65,          1,          4,        104,2,20050114,       2255,   -64.9622,   112.1600,       2300,  1999.6,  -0.0854,  34.6695,2,  34.6686,2,    231.5,2,   231.5,2,  118.79,2,   31.82,2,    2.23,2,   1.155,2,   0.565,2,   0.072,2,  2254.2,2,  2351.2,2,  -0.1898
09AR20041223,       I09S,      65,          1,          3,        103,2,20050114,       2255,   -64.9622,   112.1600,       2300,  2198.1,  -0.1774,  34.6675,2,  34.6637,2,    235.3,2,   234.3,2,  115.86,2,   31.72,2,    2.21,2,   1.446,2,   0.717,2,   0.093,2,  2254.4,2,  2356.2,2,  -0.2942
09AR20041223,       I09S,      65,          1,          2,        102,2,20050114,       2255,   -64.9622,   112.1600,       2300,  2271.3,  -0.2037,  34.6632,2,  34.6627,2,    236.6,2,   235.9,2,  115.57,2,   31.82,2,    2.22,2,   1.541,6,   0.755,6,   0.116,6,  2254.5,2,  2351.2,2,  -0.3253
09AR20041223,       I09S,      65,          1,          1,        101,2,20050114,       2255,   -64.9622,   112.1600,       2300,  2314.6,  -0.2278,  34.6599,2,  34.6619,2,    237.4,2,   237.7,2,  114.99,2,   31.72,2,    2.22,2,   1.627,2,   0.791,2,   0.130,2,  2257.7,2,  2351.3,3,  -0.3522