BOTTLE,20220105CCHSIOENA
EXPOCODE,SECT_ID,STNNBR,CASTNO,SAMPNO,BTLNBR,BTLNBR_FLAG_W,DATE,TIME,LATITUDE,LONGITUDE,DEPTH,CTDPRS,CTDTMP,CTDSAL,CTDSAL_FLAG_W,SALNTY,SALNTY_FLAG_W,CTDOXY,CTDOXY_FLAG_W,OXYGEN,OXYGEN_FLAG_W,SILCAT,SILCAT_FLAG_W,NITRAT,NITRAT_FLAG_W,PHSPHT,PHSPHT_FLAG_W,CFC-11,CFC-11_FLAG_W,CFC-12,CFC-12_FLAG_W,CFC113,CFC113_FLAG_W,TCARBN,TCARBN_FLAG_W,ALKALI,ALKALI_FLAG_W,THETA
,,,,,,,,,,,METERS,DBAR,ITS-90,PSS-78,,PSS-78,,UMOL/KG,,UMOL/KG,,UMOL/KG,,UMOL/KG,,UMOL/KG,,PMOL/KG,,PMOL/KG,,PMOL/KG,,UMOL/KG,,UMOL/KG,,DEG C
09AR20041223,       I09S,       8,          1,         24,         24,2,20041226,       0931,   -36.0062,   114.9868,       5197,    10.3,  17.8843,  35.7281,2,  35.7280,2,    241.0,2,   242.1,2,    1.85,2,    0.00,2,    0.13,2,-999.000,9,-999.000,9,-999.000,9,  -999.0,9,  -999.0,9,  17.8825
09AR20041223,       I09S,       8,          1,         23,         23,2,20041226,       0931,   -36.0062,   114.9868,       5197,    10.3,  17.8844,  35.7282,2,-999.0000,9,    241.0,2,  -999.0,9, -999.00,9, -999.00,9, -999.00,9,-999.000,9,-999.000,9,-999.000,9,  -999.0,9,  -999.0,9,  17.8826
09AR20041223,       I09S,       8,          1,         22,         22,2,20041226,       0931,   -36.0062,   114.9868,       5197,    10.2,  17.8847,  35.7281,2,-999.0000,9,    241.0,2,  -999.0,9, -999.00,9, -999.00,9, -999.00,9,-999.000,9,-999.000,9,-999.000,9,  -999.0,9,  -999.0,9,  17.8830
09AR20041223,       I09S,       8,          1,         21,         21,2,20041226,       0931,   -36.0062,   114.9868,       5197,    40.3,  17.8552,  35.7264,2,  35.7219,2,    243.5,2,   240.3,2,    1.85,2,    0.00,2,    0.12,2,-999.000,9,-999.000,9,-999.000,9,  -999.0,9,  -999.0,9,  17.8483
09AR20041223,       I09S,       8,          1,         20,         20,2,20041226,       0931,   -36.0062,   114.9868,       5197,    79.8,  15.7356,  35.6514,2,  35.6476,2,    242.1,2,   241.5,2,    1.85,2,    0.59,2,    0.19,2,-999.000,9,-999.000,9,-999.000,9,  -999.0,9,  -999.0,9,  15.7231
09AR20041223,       I09S,       8,          1,         19,         19,2,20041226,       0931,   -36.0062,   114.9868,       5197,   110.9,  14.6563,  35.4684,2,  35.4595,2,    246.0,2,   249.4,2,    1.76,2,    1.66,2,    0.25,2,-999.000,9,-999.000,9,-999.000,9,  -999.0,9,  -999.0,9,  14.6397
09AR20041223,       I09S,       8,          1,         18,         18,2,20041226,       0931,   -36.0062,   114.9868,       5197,   150.5,  13.4858,  35.3082,2,  35.3325,4,    243.5,2,   246.4,2,    1.76,2,    3.41,2,    0.36,2,-999.000,9,-999.000,9,-999.000,9,  -999.0,9,  -999.0,9,  13.4646
09AR20041223,       I09S,       8,          1,         17,         17,2,20041226,       0931,   -36.0062,   114.9868,       5197,   198.9,  12.7197,  35.2011,2,  35.2115,4,    246.1,2,   246.1,2,    1.85,2,    4.98,2,    0.47,2,-999.000,9,-999.000,9,-999.000,9,  -999.0,9,  -999.0,9,  12.6927
09AR20041223,       I09S,       8,          1,         16,         16,2,20041226,       0931,   -36.0062,   114.9868,       5197,   300.4,  10.7004,  34.8762,2,  34.8906,4,    245.3,2,   245.0,2,    2.93,2,   10.44,2,    0.78,2,-999.000,9,-999.000,9,-999.000,9,  -999.0,9,  -999.0,9,  10.6639
09AR20041223,       I09S,       8,          1,         15,         15,2,20041226,       0931,   -36.0062,   114.9868,       5197,   400.9,   9.7212,  34.7393,2,  34.7571,4,    242.8,2,   240.2,2,    4.10,2,   13.86,2,    0.98,2,-999.000,9,-999.000,9,-999.000,9,  -999.0,9,  -999.0,9,   9.6752
09AR20041223,       I09S,       8,          1,         14,         14,2,20041226,       0931,   -36.0062,   114.9868,       5197,   601.0,   8.6246,  34.5879,2,  34.6064,4,    230.9,2,   229.7,2,    6.93,2,   18.45,2,    1.26,2,-999.000,9,-999.000,9,-999.000,9,  -999.0,9,  -999.0,9,   8.5598
09AR20041223,       I09S,       8,          1,         13,         13,2,20041226,       0931,   -36.0062,   114.9868,       5197,   749.4,   6.9991,  34.4706,2,  34.4819,4,    201.2,2,   199.2,2,   17.38,2,   24.80,2,    1.67,2,-999.000,9,-999.000,9,-999.000,9,  -999.0,9,  -999.0,9,   6.9267
09AR20041223,       I09S,       8,          1,         12,         12,2,20041226,       0931,   -36.0062,   114.9868,       5197,   898.1,   4.8442,  34.3741,2,  34.3907,4,    195.6,2,   196.9,2,   31.53,2,   29.48,2,    1.99,2,-999.000,9,-999.000,9,-999.000,9,  -999.0,9,  -999.0,9,   4.7713
09AR20041223,       I09S,       8,          1,         11,         11,2,20041226,       0931,   -36.0062,   114.9868,       5197,  1200.2,   3.2871,  34.4582,2,  34.4711,4,    173.4,2,   173.7,2,   60.53,2,   32.90,2,    2.29,2,-999.000,9,-999.000,9,-999.000,9,  -999.0,9,  -999.0,9,   3.2011
09AR20041223,       I09S,       8,          1,         10,         10,2,20041226,       0931,   -36.0062,   114.9868,       5197,  1499.7,   2.8235,  34.5947,2,  34.6070,4,    159.7,2,   160.1,2,   78.97,2,   33.29,2,    2.34,2,-999.000,9,-999.000,9,-999.000,9,  -999.0,9,  -999.0,9,   2.7177
09AR20041223,       I09S,       8,          1,          9,          9,2,20041226,       0931,   -36.0062,   114.9868,       5197,  1800.3,   2.5155,  34.6814,2,  34.6905,4,    163.3,2,   162.0,2,   90.39,2,   32.60,2,    2.29,2,-999.000,9,-999.000,9,-999.000,9,  -999.0,9,  -999.0,9,   2.3882
09AR20041223,       I09S,       8,          1,          8,          8,2,20041226,       0931,   -36.0062,   114.9868,       5197,  2199.3,   2.1703,  34.7230,2,  34.7308,4,    171.0,2,   172.2,2,  101.90,2,   32.01,2,    2.26,2,-999.000,9,-999.000,9,-999.000,9,  -999.0,9,  -999.0,9,   2.0137
09AR20041223,       I09S,       8,          1,          7,          7,2,20041226,       0931,   -36.0062,   114.9868,       5197,  2600.7,   1.8614,  34.7317,2,  34.7359,4,    179.6,2,   178.0,2,  108.93,2,   31.72,2,    2.24,2,-999.000,9,-999.000,9,-999.000,9,  -999.0,9,  -999.0,9,   1.6742
09AR20041223,       I09S,       8,          1,          6,          6,2,20041226,       0931,   -36.0062,   114.9868,       5197,  3002.6,   1.5624,  34.7318,2,  34.7361,4,    187.6,2,   188.5,2,  112.73,2,   31.53,2,    2.22,2,-999.000,9,-999.000,9,-999.000,9,  -999.0,9,  -999.0,9,   1.3437
09AR20041223,       I09S,       8,          1,          5,          5,2,20041226,       0931,   -36.0062,   114.9868,       5197,  3498.8,   1.3893,  34.7276,2,  34.7306,4,    193.1,2,   193.1,2,  116.44,2,   31.62,2,    2.22,2,-999.000,9,-999.000,9,-999.000,9,  -999.0,9,  -999.0,9,   1.1258
09AR20041223,       I09S,       8,          1,          4,          4,2,20041226,       0931,   -36.0062,   114.9868,       5197,  4000.2,   1.3259,  34.7244,2,  34.7259,2,    196.2,2,   194.7,2,  119.27,2,   31.62,2,    2.23,2,-999.000,9,-999.000,9,-999.000,9,  -999.0,9,  -999.0,9,   1.0116
09AR20041223,       I09S,       8,          1,          3,          3,2,20041226,       0931,   -36.0062,   114.9868,       5197,  4500.8,   1.1883,  34.7185,2,  34.7192,2,    200.9,2,   202.1,2,  119.96,2,   31.33,2,    2.23,2,-999.000,9,-999.000,9,-999.000,9,  -999.0,9,  -999.0,9,   0.8226
09AR20041223,       I09S,       8,          1,          2,          2,2,20041226,       0931,   -36.0062,   114.9868,       5197,  5001.0,   1.0007,  34.7096,2,  34.7100,2,    208.0,2,   207.3,2,  122.11,2,   31.53,2,    2.22,2,-999.000,9,-999.000,9,-999.000,9,  -999.0,9,  -999.0,9,   0.5830
09AR20041223,       I09S,       8,          1,          1,          1,2,20041226,       0931,   -36.0062,   114.9868,       5197,  5344.5,   0.9917,  34.7072,2,  34.7076,2,    210.4,2,   210.7,2,  122.79,2,   31.33,2,    2.22,2,-999.000,9,-999.000,9,-999.000,9,  -999.0,9,  -999.0,9,   0.5328
09AR20041223,       I09S,       9,          1,         24,         24,2,20041226,       1827,   -36.5308,   114.9968,       5334,    10.3,  18.9673,  35.8771,2,  35.8777,2,    236.0,2,   241.3,2,    2.44,2,    0.00,2,    0.07,2,   2.171,2,   1.286,2,   0.379,4,  2059.5,6,  2351.9,6,  18.9655
09AR20041223,       I09S,       9,          1,         23,         23,2,20041226,       1827,   -36.5308,   114.9968,       5334,    50.2,  18.7674,  35.8585,2,-999.0000,9,    238.7,2,  -999.0,9, -999.00,9, -999.00,9, -999.00,9,-999.000,9,-999.000,9,-999.000,9,  -999.0,9,  -999.0,9,  18.7585
09AR20041223,       I09S,       9,          1,         22,         22,2,20041226,       1827,   -36.5308,   114.9968,       5334,    50.2,  18.7925,  35.8608,2,-999.0000,9,    238.7,2,  -999.0,9, -999.00,9, -999.00,9, -999.00,9,-999.000,9,-999.000,9,-999.000,9,  -999.0,9,  -999.0,9,  18.7836
09AR20041223,       I09S,       9,          1,         21,         21,2,20041226,       1827,   -36.5308,   114.9968,       5334,    50.3,  18.8101,  35.8623,2,  35.8621,2,    238.7,2,   241.9,2,    2.34,2,    0.00,2,    0.00,2,   2.247,2,   1.287,2,   0.393,4,  2055.7,2,  2350.6,2,  18.8012
09AR20041223,       I09S,       9,          1,         20,         20,2,20041226,       1827,   -36.5308,   114.9968,       5334,   101.6,  16.0350,  35.6589,2,  35.6628,2,    244.1,2,   240.0,2,    1.95,2,    0.39,2,    0.17,2,   2.585,2,   1.420,2,   0.275,4,  2076.8,2,  2343.8,2,  16.0189
09AR20041223,       I09S,       9,          1,         19,         19,2,20041226,       1827,   -36.5308,   114.9968,       5334,   150.8,  14.9834,  35.5430,2,  35.5442,2,    243.6,2,  -999.0,9,    1.76,2,    1.27,2,    0.20,2,   2.599,6,   1.468,6,   0.276,4,  2083.1,2,  2339.8,2,  14.9605
09AR20041223,       I09S,       9,          1,         18,         18,2,20041226,       1827,   -36.5308,   114.9968,       5334,   199.7,  13.8992,  35.3976,2,  35.3973,2,    243.6,2,   242.4,2,    1.66,2,    2.93,2,    0.29,2,   2.755,2,   1.521,2,   0.231,2,  2092.9,2,  2329.2,2,  13.8704
09AR20041223,       I09S,       9,          1,         17,         17,2,20041226,       1827,   -36.5308,   114.9968,       5334,   350.9,  11.3682,  34.9882,2,  34.9890,2,    240.2,2,   241.9,2,    2.54,2,    9.27,2,    0.66,2,   3.176,2,   1.719,2,   0.167,2,  2110.8,2,  2305.9,2,  11.3237
09AR20041223,       I09S,       9,          1,         16,         16,2,20041226,       1827,   -36.5308,   114.9968,       5334,   500.5,   8.9211,  34.6268,2,  34.6283,2,    237.2,2,   237.9,2,    6.15,2,   17.08,2,    1.10,2,   3.320,2,   1.710,2,   0.197,2,  2130.5,2,  2288.7,2,   8.8663
09AR20041223,       I09S,       9,          1,         15,         15,2,20041226,       1827,   -36.5308,   114.9968,       5334,   652.5,   6.9957,  34.4691,2,  34.4711,2,    199.5,2,   200.0,2,   16.40,2,   25.28,2,    1.60,2,   1.840,2,   0.906,2,   0.136,2,  2164.8,2,  2287.3,2,   6.9331
09AR20041223,       I09S,       9,          1,         14,         14,2,20041226,       1827,   -36.5308,   114.9968,       5334,   800.0,   5.1671,  34.3907,2,  34.3915,2,    192.9,2,   194.1,2,   29.68,2,   29.00,2,    1.90,2,   1.180,2,   0.567,2,   0.060,2,  2194.3,2,  2300.3,2,   5.1007
09AR20041223,       I09S,       9,          1,         13,         13,2,20041226,       1827,   -36.5308,   114.9968,       5334,  1002.2,   3.7399,  34.4047,2,  34.4040,2,    184.7,2,   186.5,2,   46.96,2,   32.51,2,    2.15,2,   0.707,2,   0.320,2,   0.019,2,  2216.3,2,  2313.4,2,   3.6662
09AR20041223,       I09S,       9,          1,         12,         12,2,20041226,       1827,   -36.5308,   114.9968,       5334,  1200.6,   3.1530,  34.4709,2,  34.4711,2,    172.6,2,   173.4,2,   60.43,2,   33.58,2,    2.25,2,   0.310,2,   0.138,2,   0.000,2,  2239.2,2,  2324.4,2,   3.0682
09AR20041223,       I09S,       9,          1,         11,         11,2,20041226,       1827,   -36.5308,   114.9968,       5334,  1402.5,   2.9141,  34.5609,2,  34.5607,2,    162.1,2,   160.8,2,   72.53,2,   34.17,2,    2.27,2,   0.102,2,   0.037,2,   0.027,2,  2255.2,2,  2344.8,3,   2.8153
09AR20041223,       I09S,       9,          1,         10,         10,2,20041226,       1827,   -36.5308,   114.9968,       5334,  1601.5,   2.6952,  34.6245,2,  34.6240,2,    163.2,2,   161.3,2,   81.70,2,   33.68,2,    2.26,2,   0.035,2,   0.009,2,   0.021,2,  2262.7,2,  2347.4,2,   2.5824
09AR20041223,       I09S,       9,          1,          9,          9,2,20041226,       1827,   -36.5308,   114.9968,       5334,  1801.6,   2.5327,  34.6780,2,  34.6770,2,    162.8,2,   163.4,2,   87.26,2,   33.68,2,    2.25,2,   0.425,3,   0.000,2,   0.012,2,  2268.5,2,  2356.9,2,   2.4051
09AR20041223,       I09S,       9,          1,          8,          8,2,20041226,       1827,   -36.5308,   114.9968,       5334,  2001.7,   2.3736,  34.7064,2,  34.7060,2,    166.9,2,   165.5,2,   94.78,2,   32.89,2,    2.25,2,   0.025,2,   0.000,2,   0.024,2,  2274.0,3,  2367.3,2,   2.2311
09AR20041223,       I09S,       9,          1,          7,          7,2,20041226,       1827,   -36.5308,   114.9968,       5334,  2498.0,   2.0055,  34.7314,2,  34.7310,2,    176.0,2,   175.3,2,  100.34,2,   32.31,2,    2.23,2,   0.012,2,   0.000,2,   0.003,2,  2275.6,3,  2372.7,2,   1.8249
09AR20041223,       I09S,       9,          1,          6,          6,2,20041226,       1827,   -36.5308,   114.9968,       5334,  3003.4,   1.6655,  34.7346,2,  34.7341,2,    186.4,2,   186.4,2,  104.73,2,   31.72,2,    2.24,2,   0.019,2,   0.000,2,   0.000,2,  2270.0,2,  2373.2,2,   1.4444
09AR20041223,       I09S,       9,          1,          5,          5,2,20041226,       1827,   -36.5308,   114.9968,       5334,  3505.2,   1.3826,  34.7287,2,  34.7253,2,    194.2,2,   194.6,2,  110.10,2,   32.11,2,    2.14,2,   0.048,2,   0.000,2,   0.015,2,  2275.6,3,  2382.4,3,   1.1186
09AR20041223,       I09S,       9,          1,          4,          4,2,20041226,       1827,   -36.5308,   114.9968,       5334,  4009.2,   1.1922,  34.7204,2,  34.7192,2,    198.8,2,   198.2,2,  116.74,2,   32.21,2,    2.16,2,   0.000,2,   0.000,2,   0.008,2,  2274.1,3,  2377.3,2,   0.8807
09AR20041223,       I09S,       9,          1,          3,          3,2,20041226,       1827,   -36.5308,   114.9968,       5334,  4498.9,   1.0099,  34.7120,2,  34.7113,2,    205.4,2,   205.8,2,  118.69,2,   31.72,2,    2.15,2,   0.011,2,   0.012,2,   0.004,2,  2271.4,3,  2373.4,2,   0.6501
09AR20041223,       I09S,       9,          1,          2,          2,2,20041226,       1827,   -36.5308,   114.9968,       5334,  4801.6,   0.9647,  34.7087,2,  34.7078,2,    206.8,2,   207.0,2,  119.08,2,   31.82,2,    2.16,2,   0.077,6,   0.024,6,   0.004,6,  2267.0,2,  2368.4,2,   0.5717
09AR20041223,       I09S,       9,          1,          1,          1,2,20041226,       1827,   -36.5308,   114.9968,       5334,  5078.8,   0.9702,  34.7074,2,  34.7072,2,    207.1,2,   207.5,2,  119.96,2,   31.92,2,    2.15,2,   0.146,2,   0.027,2,   0.006,2,  2266.2,2,  2371.1,6,   0.5443