BOTTLE,20220105CCHSIOENA
EXPOCODE,SECT_ID,STNNBR,CASTNO,SAMPNO,BTLNBR,BTLNBR_FLAG_W,DATE,TIME,LATITUDE,LONGITUDE,DEPTH,CTDPRS,CTDTMP,CTDSAL,CTDSAL_FLAG_W,SALNTY,SALNTY_FLAG_W,CTDOXY,CTDOXY_FLAG_W,OXYGEN,OXYGEN_FLAG_W,SILCAT,SILCAT_FLAG_W,NITRAT,NITRAT_FLAG_W,PHSPHT,PHSPHT_FLAG_W,CFC-11,CFC-11_FLAG_W,CFC-12,CFC-12_FLAG_W,CFC113,CFC113_FLAG_W,TCARBN,TCARBN_FLAG_W,ALKALI,ALKALI_FLAG_W,THETA
,,,,,,,,,,,METERS,DBAR,ITS-90,PSS-78,,PSS-78,,UMOL/KG,,UMOL/KG,,UMOL/KG,,UMOL/KG,,UMOL/KG,,PMOL/KG,,PMOL/KG,,PMOL/KG,,UMOL/KG,,UMOL/KG,,DEG C
09AR20041223,       I09S,      46,          1,         24,         24,2,20050109,       1117,   -56.1862,   114.9975,          0,    16.7,   4.3800,  33.8297,2,  33.8294,2,    321.0,2,   320.4,2,    3.52,2,   24.22,2,    1.40,2,-999.000,9,-999.000,9,-999.000,9,  -999.0,9,  -999.0,9,   4.3788
09AR20041223,       I09S,      46,          1,         23,         23,2,20050109,       1117,   -56.1862,   114.9975,          0,    51.1,   4.1584,  33.8322,2,  33.8324,2,    321.1,2,   321.1,2,    4.69,2,   24.51,2,    1.45,2,-999.000,9,-999.000,9,-999.000,9,  -999.0,9,  -999.0,9,   4.1549
09AR20041223,       I09S,      46,          1,         22,         22,2,20050109,       1117,   -56.1862,   114.9975,          0,    80.9,   2.7230,  33.8551,2,  33.8554,2,    324.0,2,   326.8,2,   14.06,2,   26.27,2,    1.75,2,-999.000,9,-999.000,9,-999.000,9,  -999.0,9,  -999.0,9,   2.7184
09AR20041223,       I09S,      46,          1,         21,         21,2,20050109,       1117,   -56.1862,   114.9975,          0,   149.8,   1.6092,  33.9278,2,  33.9340,2,    319.9,2,   325.1,2,   21.58,2,   27.83,2,    1.85,2,-999.000,9,-999.000,9,-999.000,9,  -999.0,9,  -999.0,9,   1.6019
09AR20041223,       I09S,      46,          1,         20,         20,2,20050109,       1117,   -56.1862,   114.9975,          0,   201.6,   1.3112,  34.0372,2,  34.0369,2,    301.2,2,   296.0,2,   32.71,2,   30.86,2,    2.00,2,-999.000,9,-999.000,9,-999.000,9,  -999.0,9,  -999.0,9,   1.3018
09AR20041223,       I09S,      46,          1,         19,         19,2,20050109,       1117,   -56.1862,   114.9975,          0,   249.7,   1.7519,  34.1876,2,  34.1921,2,    252.7,2,   247.4,2,   45.40,2,   33.98,2,    2.15,2,-999.000,9,-999.000,9,-999.000,9,  -999.0,9,  -999.0,9,   1.7391
09AR20041223,       I09S,      46,          1,         18,         18,2,20050109,       1117,   -56.1862,   114.9975,          0,   300.3,   2.0061,  34.3102,2,  34.3141,2,    224.0,2,   212.4,3,   55.65,2,   34.46,2,    2.24,2,-999.000,9,-999.000,9,-999.000,9,  -999.0,9,  -999.0,9,   1.9899
09AR20041223,       I09S,      46,          1,         17,          6,2,20050109,       1117,   -56.1862,   114.9975,          0,   398.0,   2.2466,  34.4367,2,  34.4376,2,    186.9,2,   187.3,2,   64.92,2,   35.05,2,    2.30,2,-999.000,9,-999.000,9,-999.000,9,  -999.0,9,  -999.0,9,   2.2239
09AR20041223,       I09S,      46,          1,         16,         16,2,20050109,       1117,   -56.1862,   114.9975,          0,   499.4,   2.3415,  34.5289,2,  34.5287,2,    176.5,2,   175.3,2,   70.48,2,   34.85,2,    2.29,2,-999.000,9,-999.000,9,-999.000,9,  -999.0,9,  -999.0,9,   2.3122
09AR20041223,       I09S,      46,          1,         15,         15,2,20050109,       1117,   -56.1862,   114.9975,          0,   699.5,   2.3319,  34.6334,2,  34.6333,2,    176.6,2,   175.9,2,   74.97,2,   33.29,2,    2.21,2,-999.000,9,-999.000,9,-999.000,9,  -999.0,9,  -999.0,9,   2.2896
09AR20041223,       I09S,      46,          1,         14,         14,2,20050109,       1117,   -56.1862,   114.9975,          0,   850.0,   2.1889,  34.6769,2,  34.6782,2,    179.8,2,   179.3,2,   78.67,2,   32.50,2,    2.19,2,-999.000,9,-999.000,9,-999.000,9,  -999.0,9,  -999.0,9,   2.1374
09AR20041223,       I09S,      46,          1,         13,         13,2,20050109,       1117,   -56.1862,   114.9975,          0,  1002.2,   2.1158,  34.7116,2,  34.7115,2,    183.8,2,   185.0,2,   80.43,2,   31.92,2,    2.13,2,-999.000,9,-999.000,9,-999.000,9,  -999.0,9,  -999.0,9,   2.0543
09AR20041223,       I09S,      46,          1,         12,         12,2,20050109,       1117,   -56.1862,   114.9975,          0,  1302.0,   1.9677,  34.7491,2,  34.7492,2,    195.0,2,   196.4,2,   82.96,2,   30.65,2,    2.03,2,-999.000,9,-999.000,9,-999.000,9,  -999.0,9,  -999.0,9,   1.8861
09AR20041223,       I09S,      46,          1,         11,         11,2,20050109,       1117,   -56.1862,   114.9975,          0,  1602.4,   1.6896,  34.7479,2,  34.7477,2,    198.8,2,   198.7,2,   90.67,2,   30.75,2,    2.06,2,-999.000,9,-999.000,9,-999.000,9,  -999.0,9,  -999.0,9,   1.5888
09AR20041223,       I09S,      46,          1,         10,         10,2,20050109,       1117,   -56.1862,   114.9975,          0,  1901.8,   1.4087,  34.7398,2,  34.7394,2,    201.9,2,   202.0,2,   99.17,2,   31.23,2,    2.09,2,-999.000,9,-999.000,9,-999.000,9,  -999.0,9,  -999.0,9,   1.2887
09AR20041223,       I09S,      46,          1,          9,          9,2,20050109,       1117,   -56.1862,   114.9975,          0,  2201.2,   1.1636,  34.7282,2,  34.7276,2,    204.9,2,   204.4,2,  106.78,2,   31.43,2,    2.12,2,-999.000,9,-999.000,9,-999.000,9,  -999.0,9,  -999.0,9,   1.0236
09AR20041223,       I09S,      46,          1,          8,        108,2,20050109,       1117,   -56.1862,   114.9975,          0,  2502.8,   0.9086,  34.7149,2,  34.7143,2,    208.4,2,   207.4,2,  113.81,2,   31.92,2,    2.17,2,-999.000,9,-999.000,9,-999.000,9,  -999.0,9,  -999.0,9,   0.7483
09AR20041223,       I09S,      46,          1,          7,        107,2,20050109,       1117,   -56.1862,   114.9975,          0,  2701.4,   0.7496,  34.7067,2,  34.7068,2,    210.8,2,   211.2,2,  117.52,2,   32.02,2,    2.18,2,-999.000,9,-999.000,9,-999.000,9,  -999.0,9,  -999.0,9,   0.5755
09AR20041223,       I09S,      46,          1,          6,        117,2,20050109,       1117,   -56.1862,   114.9975,          0,  3000.2,   0.5324,  34.6950,2,  34.6949,2,    214.6,2,   215.5,2,  122.01,2,   32.60,2,    2.20,2,-999.000,9,-999.000,9,-999.000,9,  -999.0,9,  -999.0,9,   0.3369
09AR20041223,       I09S,      46,          1,          5,        105,2,20050109,       1117,   -56.1862,   114.9975,          0,  3298.5,   0.3844,  34.6892,2,  34.6888,2,    218.9,2,   218.3,2,  126.11,2,   32.41,2,    2.20,2,-999.000,9,-999.000,9,-999.000,9,  -999.0,9,  -999.0,9,   0.1654
09AR20041223,       I09S,      46,          1,          4,        104,2,20050109,       1117,   -56.1862,   114.9975,          0,  3704.2,   0.2496,  34.6831,2,  34.6821,2,    223.3,2,   222.4,2,  130.41,2,   32.41,2,    2.23,2,-999.000,9,-999.000,9,-999.000,9,  -999.0,9,  -999.0,9,  -0.0044
09AR20041223,       I09S,      46,          1,          3,        103,2,20050109,       1117,   -56.1862,   114.9975,          0,  4102.1,   0.1516,  34.6782,2,  34.6776,2,    227.3,2,   226.3,2,  133.43,2,   32.70,2,    2.25,2,-999.000,9,-999.000,9,-999.000,9,  -999.0,9,  -999.0,9,  -0.1393
09AR20041223,       I09S,      46,          1,          2,        102,2,20050109,       1117,   -56.1862,   114.9975,          0,  4401.1,   0.0710,  34.6745,2,  34.6770,2,    230.6,2,   230.1,2,  133.24,2,   32.31,2,    2.23,2,-999.000,9,-999.000,9,-999.000,9,  -999.0,9,  -999.0,9,  -0.2486
09AR20041223,       I09S,      46,          1,          1,        101,2,20050109,       1117,   -56.1862,   114.9975,          0,  4584.0,   0.0268,  34.6711,2,  34.6711,2,    232.2,2,   232.2,2,  135.19,2,   32.60,2,    2.22,2,-999.000,9,-999.000,9,-999.000,9,  -999.0,9,  -999.0,9,  -0.3109
09AR20041223,       I09S,      47,          1,         24,         24,2,20050109,       1813,   -56.8023,   115.0130,       4494,    15.1,   4.2261,  33.8345,2,  33.8346,2,    319.1,2,   318.9,2,    3.81,2,   24.51,2,    1.46,2,   4.740,2,   2.506,2,   0.439,2,  2130.2,6,  2277.9,6,   4.2251
09AR20041223,       I09S,      47,          1,         23,         23,2,20050109,       1813,   -56.8023,   115.0130,       4494,    50.3,   4.1985,  33.8341,2,  33.8348,2,    319.6,2,   318.5,2,    3.81,2,   24.51,2,    1.47,2,   4.759,2,   2.491,2,   0.457,2,  2130.1,2,  2276.6,2,   4.1950
09AR20041223,       I09S,      47,          1,         22,         22,2,20050109,       1813,   -56.8023,   115.0130,       4494,   100.4,   2.5299,  33.8617,2,  33.8623,2,    322.9,2,   325.2,2,   14.94,2,   26.08,2,    1.76,2,   5.098,2,   2.675,2,   0.469,2,  2147.9,2,  2278.6,2,   2.5243
09AR20041223,       I09S,      47,          1,         21,         21,2,20050109,       1813,   -56.8023,   115.0130,       4494,   142.4,   1.4961,  33.9409,2,  33.9407,2,    321.7,2,   324.6,2,   22.36,2,   28.91,2,    1.84,2,   5.133,2,   2.693,2,   0.489,2,  2161.4,2,  2283.2,2,   1.4893
09AR20041223,       I09S,      47,          1,         20,         20,2,20050109,       1813,   -56.8023,   115.0130,       4494,   179.8,   1.0197,  34.0004,2,  34.0032,2,    314.9,2,   312.5,2,   30.27,2,   29.98,2,    1.91,2,   4.942,2,   2.574,2,   0.476,2,  2174.5,2,  2288.0,2,   1.0118
09AR20041223,       I09S,      47,          1,         19,         19,2,20050109,       1813,   -56.8023,   115.0130,       4494,   250.0,   1.8079,  34.2505,2,  34.2518,2,    230.8,2,   229.8,2,   50.58,2,   33.59,2,    2.21,2,   2.928,6,   1.450,6,   0.244,6,  2219.1,2,  2303.4,2,   1.7950
09AR20041223,       I09S,      47,          1,         18,         18,2,20050109,       1813,   -56.8023,   115.0130,       4494,   299.3,   2.0327,  34.3452,2,  34.3445,2,    206.0,2,   206.6,2,   58.19,2,   35.83,2,    2.31,2,   2.135,2,   1.044,2,   0.171,2,  2232.0,2,  2318.6,2,   2.0165
09AR20041223,       I09S,      47,          1,         17,          6,2,20050109,       1813,   -56.8023,   115.0130,       4494,   401.0,   2.2214,  34.4730,2,  34.4731,2,    181.9,2,   181.8,2,   67.85,2,   34.85,2,    2.35,2,   1.182,2,   0.581,2,   0.090,2,  2248.2,2,  2321.2,2,   2.1986
09AR20041223,       I09S,      47,          1,         16,         16,2,20050109,       1813,   -56.8023,   115.0130,       4494,   505.1,   2.2776,  34.5598,2,  34.5565,2,    175.9,2,   175.2,2,   72.53,2,   34.46,2,    2.29,2,   0.708,2,   0.336,2,   0.056,2,  2252.6,2,  2326.8,2,   2.2482
09AR20041223,       I09S,      47,          1,         15,         15,2,20050109,       1813,   -56.8023,   115.0130,       4494,   601.0,   2.2583,  34.6199,2,  34.6195,2,    174.8,2,   174.1,2,   75.75,2,   33.97,2,    2.26,2,   0.454,2,   0.220,2,   0.029,2,  2254.1,2,  2338.6,2,   2.2228
09AR20041223,       I09S,      47,          1,         14,         14,2,20050109,       1813,   -56.8023,   115.0130,       4494,   700.4,   2.2254,  34.6555,2,  34.6553,2,    177.4,2,   177.2,2,   77.31,2,   33.09,2,    2.20,2,   0.345,2,   0.162,2,   0.027,2,  2252.6,2,  2340.9,2,   2.1836
09AR20041223,       I09S,      47,          1,         13,         13,2,20050109,       1813,   -56.8023,   115.0130,       4494,   853.3,   2.1954,  34.6994,2,  34.6997,2,    182.8,2,   183.1,2,   78.09,2,   32.21,2,    2.11,2,   0.219,2,   0.099,2,   0.025,2,  2250.1,2,  2339.0,2,   2.1436
09AR20041223,       I09S,      47,          1,         12,         12,2,20050109,       1813,   -56.8023,   115.0130,       4494,   999.9,   2.0996,  34.7239,2,  34.7250,2,    187.1,2,   187.7,2,   79.74,2,   31.23,2,    2.08,2,   0.161,2,   0.070,2,   0.013,2,  2248.5,6,  2341.2,6,   2.0384
09AR20041223,       I09S,      47,          1,         11,         11,2,20050109,       1813,   -56.8023,   115.0130,       4494,  1198.8,   1.9628,  34.7422,2,  34.7422,2,    192.9,2,   192.6,2,   82.96,2,   30.75,2,    2.04,2,   0.136,2,   0.057,2,   0.013,2,  2247.1,2,  2344.3,2,   1.8888
09AR20041223,       I09S,      47,          1,         10,         10,2,20050109,       1813,   -56.8023,   115.0130,       4494,  1499.0,   1.7351,  34.7492,2,  34.7498,2,    198.1,2,   197.8,2,   89.21,2,   30.45,2,    2.05,2,   0.101,2,   0.048,2,   0.006,2,  2249.9,2,  2352.1,2,   1.6415
09AR20041223,       I09S,      47,          1,          9,          9,2,20050109,       1813,   -56.8023,   115.0130,       4494,  1800.7,   1.4205,  34.7405,2,  34.7409,2,    201.6,2,   201.0,2,   98.29,2,   30.84,2,    2.07,2,   0.103,6,   0.049,6,   0.017,6,  2251.7,2,  2354.1,2,   1.3081
09AR20041223,       I09S,      47,          1,          8,        108,2,20050109,       1813,   -56.8023,   115.0130,       4494,  2202.7,   1.0815,  34.7245,2,  34.7248,2,    205.3,2,   205.9,2,  108.34,2,   31.43,2,    2.12,2,   0.104,2,   0.063,2,   0.016,2,  2257.3,2,  2373.8,3,   0.9427
09AR20041223,       I09S,      47,          1,          7,        107,2,20050109,       1813,   -56.8023,   115.0130,       4494,  2601.6,   0.7720,  34.7087,2,  34.7088,2,    210.0,2,   210.6,2,  117.62,2,   31.92,2,    2.17,2,   0.190,2,   0.095,2,   0.027,2,  2260.3,2,  2368.1,3,   0.6060
09AR20041223,       I09S,      47,          1,          6,        117,2,20050109,       1813,   -56.8023,   115.0130,       4494,  3005.4,   0.4621,  34.6924,2,  34.6927,2,    215.8,2,   215.8,2,  122.89,2,   32.41,2,    2.21,2,   0.268,2,   0.130,2,   0.016,2,  2255.8,2,  2357.2,2,   0.2677
09AR20041223,       I09S,      47,          1,          5,        105,2,20050109,       1813,   -56.8023,   115.0130,       4494,  3404.6,   0.2926,  34.6859,2,  34.6859,2,    221.5,2,   220.8,2,  127.87,2,   32.41,2,    2.22,2,   0.445,2,   0.205,2,   0.027,2,  2259.3,2,  2358.4,2,   0.0660
09AR20041223,       I09S,      47,          1,          4,        104,2,20050109,       1813,   -56.8023,   115.0130,       4494,  3803.1,   0.1687,  34.6803,2,  34.6802,2,    226.1,2,   224.8,2,  128.75,2,   32.60,2,    2.23,2,   0.557,2,   0.259,2,   0.032,2,  2259.3,2,  2365.0,3,  -0.0928
09AR20041223,       I09S,      47,          1,          3,        103,2,20050109,       1813,   -56.8023,   115.0130,       4494,  4204.6,   0.0613,  34.6754,2,  34.6750,2,    230.7,2,   229.9,2,  131.87,2,   32.41,2,    2.23,2,   0.852,2,   0.396,2,   0.048,2,  2258.7,2,  2354.6,2,  -0.2375
09AR20041223,       I09S,      47,          1,          2,        102,2,20050109,       1813,   -56.8023,   115.0130,       4494,  4545.0,  -0.0653,  34.6652,2,  34.6644,2,    236.5,2,   236.7,2,  133.53,2,   32.31,2,    2.21,2,   1.453,6,   0.694,6,   0.116,6,  2257.9,2,  2353.2,2,  -0.3958
09AR20041223,       I09S,      47,          1,          1,        101,2,20050109,       1813,   -56.8023,   115.0130,       4494,  4595.7,  -0.0746,  34.6639,2,  34.6633,2,    237.2,2,   238.3,2,  134.21,2,   32.41,2,    2.21,2,   1.522,2,   0.732,2,   0.129,2,  2257.2,6,  2353.2,6,  -0.4103