BOTTLE,20220105CCHSIOENA
EXPOCODE,SECT_ID,STNNBR,CASTNO,SAMPNO,BTLNBR,BTLNBR_FLAG_W,DATE,TIME,LATITUDE,LONGITUDE,DEPTH,CTDPRS,CTDTMP,CTDSAL,CTDSAL_FLAG_W,SALNTY,SALNTY_FLAG_W,CTDOXY,CTDOXY_FLAG_W,OXYGEN,OXYGEN_FLAG_W,SILCAT,SILCAT_FLAG_W,NITRAT,NITRAT_FLAG_W,PHSPHT,PHSPHT_FLAG_W,CFC-11,CFC-11_FLAG_W,CFC-12,CFC-12_FLAG_W,CFC113,CFC113_FLAG_W,TCARBN,TCARBN_FLAG_W,ALKALI,ALKALI_FLAG_W,THETA
,,,,,,,,,,,METERS,DBAR,ITS-90,PSS-78,,PSS-78,,UMOL/KG,,UMOL/KG,,UMOL/KG,,UMOL/KG,,UMOL/KG,,PMOL/KG,,PMOL/KG,,PMOL/KG,,UMOL/KG,,UMOL/KG,,DEG C
09AR20041223,       I09S,      26,          1,         24,         24,2,20050101,       1832,   -45.5008,   114.9962,       4164,    10.4,  11.4364,  34.6484,2,  34.6483,2,    272.5,2,   272.3,2,    2.15,2,    9.08,2,    0.72,2,-999.000,9,-999.000,9,-999.000,9,  -999.0,9,  -999.0,9,  11.4351
09AR20041223,       I09S,      26,          1,         23,         23,2,20050101,       1832,   -45.5008,   114.9962,       4164,    10.3,  11.4374,  34.6484,2,-999.0000,9,    272.5,2,  -999.0,9, -999.00,9, -999.00,9, -999.00,9,-999.000,9,-999.000,9,-999.000,9,  -999.0,9,  -999.0,9,  11.4361
09AR20041223,       I09S,      26,          1,         22,         22,2,20050101,       1832,   -45.5008,   114.9962,       4164,    10.4,  11.4378,  34.6483,2,-999.0000,9,    272.5,2,  -999.0,9, -999.00,9, -999.00,9, -999.00,9,-999.000,9,-999.000,9,-999.000,9,  -999.0,9,  -999.0,9,  11.4365
09AR20041223,       I09S,      26,          1,         21,         21,2,20050101,       1832,   -45.5008,   114.9962,       4164,    50.9,  10.8754,  34.6830,2,  34.6844,2,    274.8,2,   276.1,2,    2.34,2,    9.27,2,    0.73,2,-999.000,9,-999.000,9,-999.000,9,  -999.0,9,  -999.0,9,  10.8692
09AR20041223,       I09S,      26,          1,         20,         20,2,20050101,       1832,   -45.5008,   114.9962,       4164,    81.0,   9.6246,  34.6445,2,  34.6491,2,    274.6,2,   275.9,2,    3.03,2,   11.42,2,    0.91,2,-999.000,9,-999.000,9,-999.000,9,  -999.0,9,  -999.0,9,   9.6155
09AR20041223,       I09S,      26,          1,         19,         19,2,20050101,       1832,   -45.5008,   114.9962,       4164,   140.3,   9.6345,  34.7143,2,  34.7196,2,    268.6,2,   267.8,2,    4.49,2,   12.79,2,    0.92,2,-999.000,9,-999.000,9,-999.000,9,  -999.0,9,  -999.0,9,   9.6187
09AR20041223,       I09S,      26,          1,         18,         18,2,20050101,       1832,   -45.5008,   114.9962,       4164,   200.2,   9.5525,  34.7145,2,  34.7215,2,    267.9,2,   268.4,2,    4.49,2,   12.98,2,    0.92,2,-999.000,9,-999.000,9,-999.000,9,  -999.0,9,  -999.0,9,   9.5300
09AR20041223,       I09S,      26,          1,         17,          6,2,20050101,       1832,   -45.5008,   114.9962,       4164,   301.9,   9.4350,  34.6959,2,  34.7035,2,    265.7,2,   266.0,2,    4.49,2,   13.27,2,    0.95,2,-999.000,9,-999.000,9,-999.000,9,  -999.0,9,  -999.0,9,   9.4012
09AR20041223,       I09S,      26,          1,         16,         16,2,20050101,       1832,   -45.5008,   114.9962,       4164,   401.0,   8.9595,  34.6086,2,  34.6138,2,    264.4,2,   264.5,2,    5.08,2,   14.84,2,    1.03,2,-999.000,9,-999.000,9,-999.000,9,  -999.0,9,  -999.0,9,   8.9158
09AR20041223,       I09S,      26,          1,         15,         15,2,20050101,       1832,   -45.5008,   114.9962,       4164,   502.4,   8.6207,  34.5677,2,  34.5728,2,    252.6,2,   251.2,2,    6.44,2,   16.99,2,    1.16,2,-999.000,9,-999.000,9,-999.000,9,  -999.0,9,  -999.0,9,   8.5669
09AR20041223,       I09S,      26,          1,         14,         14,2,20050101,       1832,   -45.5008,   114.9962,       4164,   651.2,   7.5417,  34.4830,2,  34.4846,2,    220.9,2,   219.2,2,   12.69,2,   22.26,2,    1.48,2,-999.000,9,-999.000,9,-999.000,9,  -999.0,9,  -999.0,9,   7.4766
09AR20041223,       I09S,      26,          1,         13,         13,2,20050101,       1832,   -45.5008,   114.9962,       4164,   800.4,   5.8334,  34.3719,2,  34.3731,2,    212.5,2,   213.3,2,   20.11,2,   26.75,2,    1.78,2,-999.000,9,-999.000,9,-999.000,9,  -999.0,9,  -999.0,9,   5.7630
09AR20041223,       I09S,      26,          1,         12,         12,2,20050101,       1832,   -45.5008,   114.9962,       4164,   951.4,   4.5869,  34.3241,2,  34.3257,2,    212.7,2,   212.7,2,   28.22,2,   30.75,2,    1.91,2,-999.000,9,-999.000,9,-999.000,9,  -999.0,9,  -999.0,9,   4.5112
09AR20041223,       I09S,      26,          1,         11,         11,2,20050101,       1832,   -45.5008,   114.9962,       4164,  1099.6,   3.8675,  34.3475,2,  34.3482,2,    201.1,2,   202.2,2,   38.08,2,   31.34,2,    2.08,2,-999.000,9,-999.000,9,-999.000,9,  -999.0,9,  -999.0,9,   3.7849
09AR20041223,       I09S,      26,          1,         10,         10,2,20050101,       1832,   -45.5008,   114.9962,       4164,  1300.3,   3.2134,  34.4174,2,  34.4184,2,    186.1,2,   186.7,2,   52.13,2,   33.39,2,    2.21,2,-999.000,9,-999.000,9,-999.000,9,  -999.0,9,  -999.0,9,   3.1201
09AR20041223,       I09S,      26,          1,          9,          9,2,20050101,       1832,   -45.5008,   114.9962,       4164,  1498.9,   2.8412,  34.5056,2,  34.5070,2,    176.5,2,   177.0,2,   62.28,2,   33.87,2,    2.24,2,-999.000,9,-999.000,9,-999.000,9,  -999.0,9,  -999.0,9,   2.7354
09AR20041223,       I09S,      26,          1,          8,        108,2,20050101,       1832,   -45.5008,   114.9962,       4164,  1701.7,   2.6408,  34.5919,2,  34.5919,2,    172.4,2,   173.2,2,   69.99,2,   32.99,2,    2.24,2,-999.000,9,-999.000,9,-999.000,9,  -999.0,9,  -999.0,9,   2.5204
09AR20041223,       I09S,      26,          1,          7,        107,2,20050101,       1832,   -45.5008,   114.9962,       4164,  2051.1,   2.4159,  34.6958,2,  34.6954,2,    178.5,2,   178.4,2,   77.60,2,   31.53,2,    2.14,2,-999.000,9,-999.000,9,-999.000,9,  -999.0,9,  -999.0,9,   2.2685
09AR20041223,       I09S,      26,          1,          6,        117,2,20050101,       1832,   -45.5008,   114.9962,       4164,  2400.3,   2.1813,  34.7436,2,  34.7439,2,    191.6,2,   192.1,2,   80.04,2,   30.06,2,    2.03,2,-999.000,9,-999.000,9,-999.000,9,  -999.0,9,  -999.0,9,   2.0064
09AR20041223,       I09S,      26,          1,          5,        105,2,20050101,       1832,   -45.5008,   114.9962,       4164,  2801.6,   1.7769,  34.7490,2,  34.7494,2,    197.3,2,   197.6,2,   91.65,2,   30.06,2,    2.05,2,-999.000,9,-999.000,9,-999.000,9,  -999.0,9,  -999.0,9,   1.5726
09AR20041223,       I09S,      26,          1,          4,        104,2,20050101,       1832,   -45.5008,   114.9962,       4164,  3200.7,   1.3530,  34.7334,2,  34.7329,2,    202.4,2,   202.2,2,  104.54,2,   30.94,2,    2.11,2,-999.000,9,-999.000,9,-999.000,9,  -999.0,9,  -999.0,9,   1.1199
09AR20041223,       I09S,      26,          1,          3,        103,2,20050101,       1832,   -45.5008,   114.9962,       4164,  3601.4,   1.0638,  34.7190,2,  34.7184,2,    206.5,2,   206.7,2,  114.10,2,   31.72,2,    2.14,2,-999.000,9,-999.000,9,-999.000,9,  -999.0,9,  -999.0,9,   0.7983
09AR20041223,       I09S,      26,          1,          2,        102,2,20050101,       1832,   -45.5008,   114.9962,       4164,  4002.3,   0.9389,  34.7115,2,  34.7109,2,    208.6,2,   208.7,2,  118.30,2,   31.33,2,    2.18,2,-999.000,9,-999.000,9,-999.000,9,  -999.0,9,  -999.0,9,   0.6354
09AR20041223,       I09S,      26,          1,          1,        101,2,20050101,       1832,   -45.5008,   114.9962,       4164,  4240.6,   0.9307,  34.7098,2,  34.7098,2,    208.8,2,   208.6,2,  120.45,2,   31.43,2,    2.18,2,-999.000,9,-999.000,9,-999.000,9,  -999.0,9,  -999.0,9,   0.6019
09AR20041223,       I09S,      27,          1,         24,         24,2,20050102,       0045,   -46.0198,   115.0430,       4119,     8.8,  11.3452,  34.6838,2,  34.6837,2,    272.7,2,   274.3,2,    2.15,2,    8.98,2,    0.70,2,   3.291,2,   1.757,2,   0.487,4,  2082.8,6,  2296.5,2,  11.3441
09AR20041223,       I09S,      27,          1,         23,         23,2,20050102,       0045,   -46.0198,   115.0430,       4119,     8.7,  11.3454,  34.6838,2,-999.0000,9,    272.7,2,  -999.0,9, -999.00,9, -999.00,9, -999.00,9,-999.000,9,-999.000,9,-999.000,9,  -999.0,9,  -999.0,9,  11.3443
09AR20041223,       I09S,      27,          1,         22,         22,2,20050102,       0045,   -46.0198,   115.0430,       4119,     8.5,  11.3521,  34.6838,2,-999.0000,9,    272.7,2,  -999.0,9, -999.00,9, -999.00,9, -999.00,9,-999.000,9,-999.000,9,-999.000,9,  -999.0,9,  -999.0,9,  11.3510
09AR20041223,       I09S,      27,          1,         21,         21,2,20050102,       0045,   -46.0198,   115.0430,       4119,    49.6,  11.0018,  34.6847,2,  34.6899,2,    276.5,2,   276.6,2,    2.44,2,    9.37,2,    0.74,2,   3.357,2,   1.797,2,   0.402,4,  2087.4,2,  2296.3,2,  10.9957
09AR20041223,       I09S,      27,          1,         20,         20,2,20050102,       0045,   -46.0198,   115.0430,       4119,   101.0,   9.5262,  34.6850,2,  34.6852,2,    270.4,2,   268.6,2,    4.29,2,   12.98,2,    0.93,2,   3.518,2,   1.883,2,   0.298,2,  2110.4,2,  2295.0,2,   9.5149
09AR20041223,       I09S,      27,          1,         19,         19,2,20050102,       0045,   -46.0198,   115.0430,       4119,   150.2,   9.4641,  34.6917,2,  34.6911,2,    268.6,2,   268.5,2,    4.39,2,   13.08,2,    0.93,2,   3.493,6,   1.880,6,   0.274,6,  2110.0,2,  2299.7,2,   9.4474
09AR20041223,       I09S,      27,          1,         18,         18,2,20050102,       0045,   -46.0198,   115.0430,       4119,   201.3,   9.4144,  34.6883,2,  34.6888,2,    270.5,2,   271.1,2,    4.69,2,   13.18,2,    0.94,2,   3.563,2,   1.890,2,   0.282,2,  2110.0,2,  2294.9,2,   9.3920
09AR20041223,       I09S,      27,          1,         17,          6,2,20050102,       0045,   -46.0198,   115.0430,       4119,   305.8,   9.3640,  34.6882,2,  34.6882,2,    267.6,2,   268.6,2,    4.49,2,   13.37,2,    0.97,2,   3.642,2,   1.935,2,   0.270,2,  2111.4,2,  2293.2,2,   9.3299
09AR20041223,       I09S,      27,          1,         16,         16,2,20050102,       0045,   -46.0198,   115.0430,       4119,   401.4,   9.3497,  34.6873,2,  34.6880,2,    266.5,2,   267.0,2,    4.49,2,   13.37,2,    0.96,2,   3.585,2,   1.924,2,   0.318,2,  2112.4,2,  2293.4,2,   9.3047
09AR20041223,       I09S,      27,          1,         15,         15,2,20050102,       0045,   -46.0198,   115.0430,       4119,   499.6,   8.8864,  34.6027,2,  34.6030,2,    262.4,2,   262.4,2,    5.17,2,   15.13,2,    1.06,2,   3.576,2,   1.904,2,   0.280,2,  2117.0,2,  2290.6,2,   8.8319
09AR20041223,       I09S,      27,          1,         14,         14,2,20050102,       0045,   -46.0198,   115.0430,       4119,   651.3,   8.0135,  34.4902,2,  34.4907,2,    238.7,2,   241.6,2,    8.40,2,   20.31,2,    1.30,2,   3.331,2,   1.730,2,   0.226,2,  2135.0,2,  2286.6,2,   7.9461
09AR20041223,       I09S,      27,          1,         13,         13,2,20050102,       0045,   -46.0198,   115.0430,       4119,   801.6,   6.7732,  34.4324,2,  34.4356,2,    209.4,2,   210.2,2,   15.91,2,   24.70,2,    1.63,2,   2.465,2,   1.228,2,   0.136,2,  2162.6,2,  2287.0,2,   6.6969
09AR20041223,       I09S,      27,          1,         12,         12,2,20050102,       0045,   -46.0198,   115.0430,       4119,   950.0,   5.1063,  34.3471,2,  34.3476,2,    208.6,2,   210.2,2,   24.99,2,   28.51,2,    1.94,2,-999.000,5,-999.000,5,-999.000,5,  2182.7,2,  2298.0,2,   5.0270
09AR20041223,       I09S,      27,          1,         11,         11,2,20050102,       0045,   -46.0198,   115.0430,       4119,  1049.5,   4.3733,  34.3345,2,  34.3353,2,    207.9,2,   207.9,2,   32.12,2,   30.46,2,    1.99,2,   1.843,2,   0.889,2,   0.125,2,  2194.3,6,  2295.4,6,   4.2908
09AR20041223,       I09S,      27,          1,         10,         10,2,20050102,       0045,   -46.0198,   115.0430,       4119,  1300.4,   3.3216,  34.3963,2,  34.3966,2,    191.2,2,   191.1,2,   48.81,2,   32.61,2,    2.21,2,   1.141,2,   0.533,2,   0.076,2,  2222.1,2,  2310.7,2,   3.2273
09AR20041223,       I09S,      27,          1,          9,          9,2,20050102,       0045,   -46.0198,   115.0430,       4119,  1548.4,   2.8412,  34.5080,2,  34.5089,2,    176.3,2,   176.3,2,   63.36,2,   33.58,2,    2.27,2,   0.524,2,   0.247,2,   0.042,2,  2243.4,2,  2325.9,2,   2.7313
09AR20041223,       I09S,      27,          1,          8,        108,2,20050102,       0045,   -46.0198,   115.0430,       4119,  1801.8,   2.6051,  34.6118,2,  34.6117,2,    173.0,2,   172.7,2,   71.84,2,   33.87,2,    2.25,2,   0.220,2,   0.100,2,   0.021,2,  2250.8,2,  2342.6,2,   2.4767
09AR20041223,       I09S,      27,          1,          7,        107,2,20050102,       0045,   -46.0198,   115.0430,       4119,  2049.3,   2.4363,  34.6890,2,  34.6890,2,    180.7,2,   180.5,2,   74.77,2,   31.53,2,    2.15,2,   0.145,2,   0.059,2,   0.011,2,  2248.7,2,  2341.5,2,   2.2887
09AR20041223,       I09S,      27,          1,          6,        117,2,20050102,       0045,   -46.0198,   115.0430,       4119,  2398.5,   2.2192,  34.7387,2,  34.7392,2,    190.2,2,   189.1,2,   79.45,2,   30.26,2,    2.07,2,   0.058,2,   0.033,2,   0.015,2,  2247.6,2,  2346.4,2,   2.0438
09AR20041223,       I09S,      27,          1,          5,        105,2,20050102,       0045,   -46.0198,   115.0430,       4119,  2802.2,   1.8284,  34.7499,2,  34.7498,2,    196.7,2,   196.5,2,   91.26,2,   30.16,2,    2.07,2,   0.043,2,   0.020,2,   0.011,2,  2251.6,2,  2357.7,2,   1.6230
09AR20041223,       I09S,      27,          1,          4,        104,2,20050102,       0045,   -46.0198,   115.0430,       4119,  3200.2,   1.4281,  34.7364,2,  34.7363,2,    201.6,2,   201.3,2,  103.07,2,   30.65,2,    2.12,2,   0.048,2,   0.031,2,   0.018,2,  2251.5,2,  2360.7,2,   1.1933
09AR20041223,       I09S,      27,          1,          3,        103,2,20050102,       0045,   -46.0198,   115.0430,       4119,  3600.6,   1.1171,  34.7214,2,  34.7210,2,    205.6,2,   205.4,2,  112.64,2,   31.33,2,    2.17,2,   0.106,2,   0.052,2,   0.008,2,  2258.1,2,  2360.9,2,   0.8502
09AR20041223,       I09S,      27,          1,          2,        102,2,20050102,       0045,   -46.0198,   115.0430,       4119,  4000.1,   0.9861,  34.7135,2,  34.7131,2,    208.5,2,   208.1,2,  117.32,2,   31.33,2,    2.18,2,   0.148,2,   0.070,6,   0.009,6,  2260.4,2,  2366.1,2,   0.6815
09AR20041223,       I09S,      27,          1,          1,        101,2,20050102,       0045,   -46.0198,   115.0430,       4119,  4243.3,   0.9510,  34.7107,2,  34.7113,2,    209.7,2,   209.6,2,  118.59,2,   31.53,2,    2.18,2,   0.151,2,   0.067,2,   0.005,2,  2261.7,6,  2363.3,6,   0.6213