BOTTLE,20220105CCHSIOENA
EXPOCODE,SECT_ID,STNNBR,CASTNO,SAMPNO,BTLNBR,BTLNBR_FLAG_W,DATE,TIME,LATITUDE,LONGITUDE,DEPTH,CTDPRS,CTDTMP,CTDSAL,CTDSAL_FLAG_W,SALNTY,SALNTY_FLAG_W,CTDOXY,CTDOXY_FLAG_W,OXYGEN,OXYGEN_FLAG_W,SILCAT,SILCAT_FLAG_W,NITRAT,NITRAT_FLAG_W,PHSPHT,PHSPHT_FLAG_W,CFC-11,CFC-11_FLAG_W,CFC-12,CFC-12_FLAG_W,CFC113,CFC113_FLAG_W,TCARBN,TCARBN_FLAG_W,ALKALI,ALKALI_FLAG_W,THETA
,,,,,,,,,,,METERS,DBAR,ITS-90,PSS-78,,PSS-78,,UMOL/KG,,UMOL/KG,,UMOL/KG,,UMOL/KG,,UMOL/KG,,PMOL/KG,,PMOL/KG,,PMOL/KG,,UMOL/KG,,UMOL/KG,,DEG C
09AR20041223,       I09S,      40,          1,         24,         24,2,20050106,       1821,   -52.6105,   114.9943,       3832,    14.9,   4.7074,  33.8008,2,  33.8013,2,    318.4,2,   318.4,2,    5.18,2,   24.42,2,    1.42,2,   4.750,2,   2.447,2,   0.432,2,  2127.5,2,  2277.3,2,   4.7063
09AR20041223,       I09S,      40,          1,         23,         23,2,20050106,       1821,   -52.6105,   114.9943,       3832,    50.1,   4.6962,  33.7998,2,  33.8019,2,    318.1,2,   318.1,2,    8.69,2,   25.88,2,    1.59,2,-999.000,9,-999.000,9,-999.000,9,  -999.0,9,  -999.0,9,   4.6926
09AR20041223,       I09S,      40,          1,         22,         22,2,20050106,       1821,   -52.6105,   114.9943,       3832,    79.7,   3.2187,  33.8473,2,  33.8482,2,    328.4,2,   328.5,2,    8.79,2,   25.49,2,    1.69,2,-999.000,9,-999.000,9,-999.000,9,  -999.0,9,  -999.0,9,   3.2138
09AR20041223,       I09S,      40,          1,         21,         21,2,20050106,       1821,   -52.6105,   114.9943,       3832,   151.3,   1.0484,  33.9876,2,  33.9870,2,    316.9,2,   316.5,2,   29.10,2,   29.49,2,    1.89,2,-999.000,9,-999.000,9,-999.000,9,  -999.0,9,  -999.0,9,   1.0417
09AR20041223,       I09S,      40,          1,         20,         20,2,20050106,       1821,   -52.6105,   114.9943,       3832,   200.5,   1.6702,  34.2196,2,  34.2199,2,    253.2,2,   238.7,3,   49.41,2,   33.10,2,    2.17,2,-999.000,9,-999.000,9,-999.000,9,  2215.8,6,  2301.4,6,   1.6601
09AR20041223,       I09S,      40,          1,     -999.0,     -999.0,9,20050106,       1821,   -52.6105,   114.9943,       3832,  -999.0,-999.0000,-999.0000,9,-999.0000,9,   -999.0,9,  -999.0,9, -999.00,9, -999.00,9, -999.00,9,-999.000,9,-999.000,9,-999.000,9,  -999.0,9,  -999.0,9,-999.0000
09AR20041223,       I09S,      40,          1,         18,         18,2,20050106,       1821,   -52.6105,   114.9943,       3832,   401.8,   2.2498,  34.5225,2,  34.5236,2,    176.7,2,   176.0,2,   71.95,2,   34.95,2,    2.27,2,-999.000,9,-999.000,9,-999.000,9,  -999.0,9,  -999.0,9,   2.2268
09AR20041223,       I09S,      40,          1,         17,          6,2,20050106,       1821,   -52.6105,   114.9943,       3832,   507.7,   2.2677,  34.5944,2,  34.5936,2,    174.2,2,   174.7,2, -999.00,9, -999.00,9, -999.00,9,   0.526,2,   0.255,2,   0.049,2,  2253.3,2,  2332.6,2,   2.2381
09AR20041223,       I09S,      40,          1,         16,         16,2,20050106,       1821,   -52.6105,   114.9943,       3832,   601.4,   2.2332,  34.6416,2,  34.6413,2,    175.5,2,   175.7,2,   77.31,2,   33.09,2,    2.18,2,-999.000,9,-999.000,9,-999.000,9,  -999.0,9,  -999.0,9,   2.1978
09AR20041223,       I09S,      40,          1,         15,         15,4,20050106,       1821,   -52.6105,   114.9943,       3832,   704.0,   2.2016,  34.6743,2,  34.6468,4,    178.9,2,  -999.0,9, -999.00,9, -999.00,9, -999.00,9,-999.000,9,-999.000,9,-999.000,9,  -999.0,9,  -999.0,9,   2.1597
09AR20041223,       I09S,      40,          1,     -999.0,     -999.0,9,20050106,       1821,   -52.6105,   114.9943,       3832,  -999.0,-999.0000,-999.0000,9,-999.0000,9,   -999.0,9,  -999.0,9, -999.00,9, -999.00,9, -999.00,9,-999.000,9,-999.000,9,-999.000,9,  -999.0,9,  -999.0,9,-999.0000
09AR20041223,       I09S,      40,          1,         13,         13,2,20050106,       1821,   -52.6105,   114.9943,       3832,   901.1,   2.0625,  34.7192,2,  34.7200,2,    185.6,2,   186.7,2,   81.99,2,   31.92,2,    2.06,2,-999.000,9,-999.000,9,-999.000,9,  -999.0,9,  -999.0,9,   2.0083
09AR20041223,       I09S,      40,          1,         12,         12,2,20050106,       1821,   -52.6105,   114.9943,       3832,  1001.8,   2.0171,  34.7310,2,  34.7310,2,    189.1,2,   189.9,2,   82.77,2,   31.04,2,    2.04,2,   0.160,2,   0.076,2,   0.031,2,  2248.6,6,  2343.1,6,   1.9564
09AR20041223,       I09S,      40,          1,         11,         11,2,20050106,       1821,   -52.6105,   114.9943,       3832,  1202.4,   1.8830,  34.7427,2,  34.7427,2,    194.3,2,   193.9,2,   85.99,2,   30.16,2,    2.02,2,-999.000,9,-999.000,9,-999.000,9,  -999.0,9,  -999.0,9,   1.8095
09AR20041223,       I09S,      40,          1,         10,         10,2,20050106,       1821,   -52.6105,   114.9943,       3832,  1400.9,   1.7085,  34.7476,2,  34.7478,2,    198.0,2,   197.7,2,   90.28,2,   30.35,2,    2.00,2,   0.105,2,   0.047,2,   0.001,2,  2248.9,2,  2358.8,2,   1.6225
09AR20041223,       I09S,      40,          1,          9,          9,2,20050106,       1821,   -52.6105,   114.9943,       3832,  1603.2,   1.5085,  34.7436,2,  34.7435,2,    200.9,2,   200.8,2,   97.02,2,   30.55,2,    1.97,3,-999.000,9,-999.000,9,-999.000,9,  -999.0,9,  -999.0,9,   1.4099
09AR20041223,       I09S,      40,          1,          8,        108,2,20050106,       1821,   -52.6105,   114.9943,       3832,  1801.1,   1.3343,  34.7371,2,  34.7370,2,    202.6,2,   202.7,2,  102.29,2,   31.04,2,    2.06,2,   0.088,2,   0.042,2,   0.018,2,  2252.4,2,  2363.2,2,   1.2231
09AR20041223,       I09S,      40,          1,          7,        107,2,20050106,       1821,   -52.6105,   114.9943,       3832,  2103.0,   1.0627,  34.7241,2,  34.7235,2,    205.7,2,   206.0,2,  110.68,2,   31.14,2,    2.10,2,-999.000,9,-999.000,9,-999.000,9,  -999.0,9,  -999.0,9,   0.9322
09AR20041223,       I09S,      40,          1,          6,        117,2,20050106,       1821,   -52.6105,   114.9943,       3832,  2400.7,   0.8263,  34.7120,2,  34.7117,2,    208.9,2,   209.1,2,  117.71,2,   31.82,2,    2.14,2,   0.164,2,   0.078,2,   0.018,2,  2260.0,2,  2358.3,2,   0.6760
09AR20041223,       I09S,      40,          1,          5,        105,2,20050106,       1821,   -52.6105,   114.9943,       3832,  2701.0,   0.5537,  34.6984,2,  34.6974,2,    213.8,2,   213.7,2,  123.47,2,   32.11,2,    2.16,2,-999.000,9,-999.000,9,-999.000,9,  -999.0,9,  -999.0,9,   0.3837
09AR20041223,       I09S,      40,          1,          4,        104,2,20050106,       1821,   -52.6105,   114.9943,       3832,  3001.9,   0.3819,  34.6905,2,  34.6896,2,    218.5,2,   218.6,2,  127.77,2,   32.21,2,    2.17,2,   0.383,2,   0.175,2,   0.045,2,  2259.7,2,  2358.6,2,   0.1897
09AR20041223,       I09S,      40,          1,          3,        103,2,20050106,       1821,   -52.6105,   114.9943,       3832,  3302.0,   0.2659,  34.6851,2,  34.6837,2,    221.9,2,   221.3,2,  132.16,2,   32.41,2,    2.18,2,   0.497,2,   0.227,2,   0.050,2,  2260.1,2,  2357.3,2,   0.0495
09AR20041223,       I09S,      40,          1,          2,        102,2,20050106,       1821,   -52.6105,   114.9943,       3832,  3604.3,   0.2013,  34.6814,2,  34.6809,2,    224.3,2,   224.4,2,  135.09,2,   32.21,2,    2.18,2,   0.603,2,   0.276,2,   0.047,2,  2260.7,2,  2364.0,2,  -0.0418
09AR20041223,       I09S,      40,          1,          1,        101,2,20050106,       1821,   -52.6105,   114.9943,       3832,  3817.3,   0.1932,  34.6811,2,  34.6796,2,    225.3,2,   225.4,2,  136.56,2,   32.21,2,    2.19,2,   0.625,2,   0.290,2,   0.031,2,  2260.2,6,  2358.0,6,  -0.0703
09AR20041223,       I09S,      41,          1,     -999.0,     -999.0,9,20050106,       1821,   -52.6105,   114.9943,       3832,  -999.0,-999.0000,-999.0000,9,-999.0000,9,   -999.0,9,  -999.0,9, -999.00,9, -999.00,9, -999.00,9,-999.000,9,-999.000,9,-999.000,9,  -999.0,9,  -999.0,9,-999.0000
09AR20041223,       I09S,      41,          1,     -999.0,     -999.0,9,20050106,       1821,   -52.6105,   114.9943,       3832,  -999.0,-999.0000,-999.0000,9,-999.0000,9,   -999.0,9,  -999.0,9, -999.00,9, -999.00,9, -999.00,9,-999.000,9,-999.000,9,-999.000,9,  -999.0,9,  -999.0,9,-999.0000
09AR20041223,       I09S,      41,          1,     -999.0,     -999.0,9,20050106,       1821,   -52.6105,   114.9943,       3832,  -999.0,-999.0000,-999.0000,9,-999.0000,9,   -999.0,9,  -999.0,9, -999.00,9, -999.00,9, -999.00,9,-999.000,9,-999.000,9,-999.000,9,  -999.0,9,  -999.0,9,-999.0000
09AR20041223,       I09S,      41,          1,     -999.0,     -999.0,9,20050106,       1821,   -52.6105,   114.9943,       3832,  -999.0,-999.0000,-999.0000,9,-999.0000,9,   -999.0,9,  -999.0,9, -999.00,9, -999.00,9, -999.00,9,-999.000,9,-999.000,9,-999.000,9,  -999.0,9,  -999.0,9,-999.0000
09AR20041223,       I09S,      41,          1,     -999.0,     -999.0,9,20050106,       1821,   -52.6105,   114.9943,       3832,  -999.0,-999.0000,-999.0000,9,-999.0000,9,   -999.0,9,  -999.0,9, -999.00,9, -999.00,9, -999.00,9,-999.000,9,-999.000,9,-999.000,9,  -999.0,9,  -999.0,9,-999.0000
09AR20041223,       I09S,      41,          1,     -999.0,     -999.0,9,20050106,       1821,   -52.6105,   114.9943,       3832,  -999.0,-999.0000,-999.0000,9,-999.0000,9,   -999.0,9,  -999.0,9, -999.00,9, -999.00,9, -999.00,9,-999.000,9,-999.000,9,-999.000,9,  -999.0,9,  -999.0,9,-999.0000
09AR20041223,       I09S,      41,          1,     -999.0,     -999.0,9,20050106,       1821,   -52.6105,   114.9943,       3832,  -999.0,-999.0000,-999.0000,9,-999.0000,9,   -999.0,9,  -999.0,9, -999.00,9, -999.00,9, -999.00,9,-999.000,9,-999.000,9,-999.000,9,  -999.0,9,  -999.0,9,-999.0000
09AR20041223,       I09S,      41,          1,         17,          6,2,20050106,       0317,   -52.6105,   114.9943,       3832,   346.0,   2.0319,  34.4130,2,  34.4132,2,    196.3,2,   197.2,2, -999.00,9, -999.00,9, -999.00,9,   1.840,2,   0.841,2,   0.143,2,  2239.6,6,  2319.7,6,   2.0130
09AR20041223,       I09S,      41,          1,         16,         16,2,20050106,       0317,   -52.6105,   114.9943,       3832,   398.2,   2.2455,  34.4900,2,  34.4895,2,    180.5,2,   178.9,2,   69.90,2,   34.66,2,    2.27,2,   1.047,2,   0.507,2,   0.085,2,  2243.7,2,  2324.8,6,   2.2228
09AR20041223,       I09S,      41,          1,         15,         15,2,20050106,       0317,   -52.6105,   114.9943,       3832,   501.9,   2.2833,  34.5709,2,  34.5701,2,    176.0,2,   175.5,2,   73.21,2,   33.77,2,    2.20,2,   0.634,2,   0.307,2,   0.065,2,  2250.6,2,  2339.9,3,   2.2540
09AR20041223,       I09S,      41,          1,         14,         14,2,20050106,       0317,   -52.6105,   114.9943,       3832,   700.9,   2.2200,  34.6601,2,  34.6603,2,    178.4,2,   178.3,2,   77.70,2,   32.70,2,    2.12,2,   0.335,2,   0.158,2,   0.028,2,  2250.7,2,  2339.0,2,   2.1782
09AR20041223,       I09S,      41,          1,         13,         13,2,20050106,       0317,   -52.6105,   114.9943,       3832,   899.4,   2.1018,  34.7121,2,  34.7123,2,    184.3,2,   185.6,2,   80.72,2,   31.23,2,    2.07,2,   0.213,2,   0.104,2,   0.049,3,  2246.3,2,  2343.2,2,   2.0475
09AR20041223,       I09S,      41,          1,         12,         12,2,20050106,       0317,   -52.6105,   114.9943,       3832,  1099.0,   2.0064,  34.7376,2,  34.7380,2,    191.0,2,   192.0,2,   82.28,2,   30.45,2,    2.01,2,   0.133,2,   0.071,2,   0.015,2,  2244.5,2,  2345.5,2,   1.9390
09AR20041223,       I09S,      41,          1,         11,         11,2,20050106,       0317,   -52.6105,   114.9943,       3832,  1301.6,   1.8327,  34.7456,2,  34.7451,2,    195.3,2,   195.8,2,   86.57,2,   30.16,2,    2.01,2,-999.000,5,-999.000,5,-999.000,5,  2245.7,2,  2350.3,2,   1.7525
09AR20041223,       I09S,      41,          1,         10,         10,2,20050106,       0317,   -52.6105,   114.9943,       3832,  1500.9,   1.6589,  34.7463,2,  34.7453,2,    198.7,2,   198.8,2,   91.26,2,   30.26,2,    2.02,2,   0.109,2,   0.061,2,   0.017,2,  2246.3,2,  2351.8,2,   1.5661
09AR20041223,       I09S,      41,          1,          9,          9,2,20050106,       0317,   -52.6105,   114.9943,       3832,  1698.8,   1.4713,  34.7423,2,  34.7414,2,    201.3,2,   201.4,2,   96.82,2,   30.35,2,    2.03,2,   0.128,6,   0.056,6,   0.006,6,  2244.7,2,  2354.5,2,   1.3660
09AR20041223,       I09S,      41,          1,          8,        108,2,20050106,       0317,   -52.6105,   114.9943,       3832,  1901.8,   1.3077,  34.7363,2,  34.7376,2,    203.6,2,   203.8,2,  102.68,2,   30.84,2,    2.06,2,   0.086,2,   0.034,2,   0.010,2,  2251.7,6,  2355.7,6,   1.1892
09AR20041223,       I09S,      41,          1,          7,        107,2,20050106,       0317,   -52.6105,   114.9943,       3832,  2200.1,   1.0467,  34.7232,2,  34.7229,2,    206.8,2,   206.6,2,  109.71,2,   31.04,2,    2.10,2,   0.142,2,   0.051,2,   0.020,2,  2250.1,2,  2357.8,2,   0.9087
09AR20041223,       I09S,      41,          1,          6,        117,2,20050106,       0317,   -52.6105,   114.9943,       3832,  2499.6,   0.7925,  34.7096,2,  34.7080,2,    210.3,2,   210.0,2,  116.64,2,   31.62,2,    2.13,2,   0.180,2,   0.084,2,   0.032,2,  2255.2,2,  2360.6,6,   0.6347
09AR20041223,       I09S,      41,          1,          5,        105,2,20050106,       0317,   -52.6105,   114.9943,       3832,  2800.4,   0.5450,  34.6977,2,  34.6950,2,    214.9,2,   214.6,2,  122.69,2,   31.82,2,    2.15,2,   0.275,2,   0.134,2,   0.041,2,  2255.3,2,  2357.1,6,   0.3667
09AR20041223,       I09S,      41,          1,          4,        104,2,20050106,       0317,   -52.6105,   114.9943,       3832,  3099.9,   0.3773,  34.6902,2,  34.6894,2,    219.5,2,   218.5,2,  127.87,2,   32.02,2,    2.18,2,   0.419,2,   0.195,2,   0.028,2,  2258.8,2,  2358.4,2,   0.1765
09AR20041223,       I09S,      41,          1,          3,        103,4,20050106,       0317,   -52.6105,   114.9943,       3832,  3400.2,   0.2980,  34.6862,2,  34.6892,4,    221.7,2,  -999.0,9, -999.00,9, -999.00,9, -999.00,9,   0.401,4,   0.190,4,   0.030,4,  2258.0,2,  2355.8,2,   0.0717
09AR20041223,       I09S,      41,          1,          2,        102,2,20050106,       0317,   -52.6105,   114.9943,       3832,  3700.8,   0.2603,  34.6837,2,  34.6829,2,    223.5,2,   222.8,2,  131.67,2,   32.31,2, -999.00,9,   0.545,2,   0.254,6,   0.055,6,  2257.6,2,  2359.0,2,   0.0063
09AR20041223,       I09S,      41,          1,          1,        101,2,20050106,       0317,   -52.6105,   114.9943,       3832,  3982.3,   0.2588,  34.6823,2,  34.6819,2,    224.4,2,   223.5,2,  133.14,2,   32.02,2, -999.00,9,   0.569,2,   0.268,2,   0.034,2,  2258.3,6,  2359.5,6,  -0.0231