BOTTLE,20220105CCHSIOENA
EXPOCODE,SECT_ID,STNNBR,CASTNO,SAMPNO,BTLNBR,BTLNBR_FLAG_W,DATE,TIME,LATITUDE,LONGITUDE,DEPTH,CTDPRS,CTDTMP,CTDSAL,CTDSAL_FLAG_W,SALNTY,SALNTY_FLAG_W,CTDOXY,CTDOXY_FLAG_W,OXYGEN,OXYGEN_FLAG_W,SILCAT,SILCAT_FLAG_W,NITRAT,NITRAT_FLAG_W,PHSPHT,PHSPHT_FLAG_W,CFC-11,CFC-11_FLAG_W,CFC-12,CFC-12_FLAG_W,CFC113,CFC113_FLAG_W,TCARBN,TCARBN_FLAG_W,ALKALI,ALKALI_FLAG_W,THETA
,,,,,,,,,,,METERS,DBAR,ITS-90,PSS-78,,PSS-78,,UMOL/KG,,UMOL/KG,,UMOL/KG,,UMOL/KG,,UMOL/KG,,PMOL/KG,,PMOL/KG,,PMOL/KG,,UMOL/KG,,UMOL/KG,,DEG C
09AR20041223,       I09S,      84,          1,         24,         24,2,20050126,       1249,   -55.5977,    87.4400,       4574,    15.8,   2.5211,  33.9434,2,  33.9436,2,    325.5,2,   326.0,2,    9.67,2,   24.42,2,    1.58,2,   5.288,2,   2.745,2,   0.473,2,  -999.0,9,  -999.0,9,   2.5202
09AR20041223,       I09S,      84,          1,         23,         23,2,20050126,       1249,   -55.5977,    87.4400,       4574,    51.7,   2.5161,  33.9435,2,  33.9434,2,    325.5,2,   326.0,2,    9.77,2,   24.90,2,    1.58,2,-999.000,9,-999.000,9,-999.000,9,  -999.0,9,  -999.0,9,   2.5132
09AR20041223,       I09S,      84,          1,         22,         22,2,20050126,       1249,   -55.5977,    87.4400,       4574,    62.8,   2.4628,  33.9452,2,-999.0000,9,    325.4,2,  -999.0,9, -999.00,9, -999.00,9, -999.00,9,-999.000,9,-999.000,9,-999.000,9,  -999.0,9,  -999.0,9,   2.4593
09AR20041223,       I09S,      84,          1,         21,         21,2,20050126,       1249,   -55.5977,    87.4400,       4574,    80.9,   1.1942,  34.0067,2,  34.0081,2,    324.7,2,   324.4,2,   26.86,2,   27.34,2,    1.88,2,-999.000,9,-999.000,9,-999.000,9,  -999.0,9,  -999.0,9,   1.1906
09AR20041223,       I09S,      84,          1,         20,         20,2,20050126,       1249,   -55.5977,    87.4400,       4574,   120.9,   0.7040,  34.0919,2,  34.0897,2,    303.9,2,   303.7,2,   40.72,2,   30.56,2,    2.04,2,-999.000,9,-999.000,9,-999.000,9,  -999.0,9,  -999.0,9,   0.6990
09AR20041223,       I09S,      84,          1,         19,         19,2,20050126,       1249,   -55.5977,    87.4400,       4574,   248.2,   1.7806,  34.3589,2,  34.3580,2,    214.3,2,   215.5,2,   60.92,2,   33.78,2,    2.27,2,-999.000,9,-999.000,9,-999.000,9,  -999.0,9,  -999.0,9,   1.7678
09AR20041223,       I09S,      84,          1,         18,         18,2,20050126,       1249,   -55.5977,    87.4400,       4574,   350.3,   1.8222,  34.4472,2,  34.4454,2,    193.5,2,   198.6,2,   68.43,2,   34.07,2,    2.27,2,-999.000,9,-999.000,9,-999.000,9,  -999.0,9,  -999.0,9,   1.8036
09AR20041223,       I09S,      84,          1,         17,          6,2,20050126,       1249,   -55.5977,    87.4400,       4574,   502.6,   2.1863,  34.6067,2,  34.6062,2,    180.1,2,   178.5,2,   76.72,2,   33.19,2,    2.25,2,   0.566,2,   0.282,2,   0.039,2,  -999.0,9,  -999.0,9,   2.1573
09AR20041223,       I09S,      84,          1,         16,         16,2,20050126,       1249,   -55.5977,    87.4400,       4574,   652.9,   2.1184,  34.6697,2,  34.6692,2,    181.9,2,   180.3,2, -999.00,9, -999.00,9, -999.00,9,   0.352,2,   0.172,2,   0.012,2,  -999.0,9,  -999.0,9,   2.0803
09AR20041223,       I09S,      84,          1,         15,         15,2,20050126,       1249,   -55.5977,    87.4400,       4574,   800.9,   2.0637,  34.7072,2,  34.7064,2,    186.1,2,   184.5,2,   83.06,2,   31.43,2,    2.14,2,   0.245,2,   0.126,2,   0.014,2,  -999.0,9,  -999.0,9,   2.0162
09AR20041223,       I09S,      84,          1,         14,         14,2,20050126,       1249,   -55.5977,    87.4400,       4574,   949.8,   2.0067,  34.7324,2,  34.7327,2,    191.7,2,   190.5,2,   83.45,2,   30.55,2,    2.08,2,-999.000,9,-999.000,9,-999.000,9,  -999.0,9,  -999.0,9,   1.9496
09AR20041223,       I09S,      84,          1,         13,         13,2,20050126,       1249,   -55.5977,    87.4400,       4574,  1101.2,   1.8999,  34.7467,2,  34.7475,2,    195.9,2,   195.5,2,   85.99,2,   29.96,2,    2.06,2,   0.113,2,   0.045,2,   0.000,2,  -999.0,9,  -999.0,9,   1.8333
09AR20041223,       I09S,      84,          1,         12,         12,2,20050126,       1249,   -55.5977,    87.4400,       4574,  1300.6,   1.7616,  34.7474,2,  34.7478,2,    198.4,2,   196.9,2,   89.01,2,   30.06,2,    2.06,2,-999.000,9,-999.000,9,-999.000,9,  -999.0,9,  -999.0,9,   1.6822
09AR20041223,       I09S,      84,          1,         11,         11,2,20050126,       1249,   -55.5977,    87.4400,       4574,  1505.3,   1.5906,  34.7476,2,  34.7478,2,    201.0,2,   200.9,2,   93.99,2,   30.26,2,    2.07,2,   0.100,2,   0.048,2,   0.005,2,  -999.0,9,  -999.0,9,   1.4983
09AR20041223,       I09S,      84,          1,         10,         10,2,20050126,       1249,   -55.5977,    87.4400,       4574,  1754.2,   1.3740,  34.7400,2,  34.7400,2,    202.5,2,   203.0,2,  100.24,2,   30.45,2,    2.10,2,-999.000,9,-999.000,9,-999.000,9,  -999.0,9,  -999.0,9,   1.2658
09AR20041223,       I09S,      84,          1,          9,          9,2,20050126,       1249,   -55.5977,    87.4400,       4574,  1999.8,   1.1841,  34.7305,2,  34.7310,2,    204.4,2,   204.8,2,  105.90,2,   30.65,2,    2.14,2,   0.113,6,   0.061,6,   0.004,6,  -999.0,9,  -999.0,9,   1.0598
09AR20041223,       I09S,      84,          1,          8,        208,2,20050126,       1249,   -55.5977,    87.4400,       4574,  2300.8,   0.9280,  34.7163,2,  34.7184,2,    207.5,2,   207.4,2,  112.54,2,   32.01,2,    2.17,2,-999.000,9,-999.000,9,-999.000,9,  -999.0,9,  -999.0,9,   0.7840
09AR20041223,       I09S,      84,          1,          7,        107,2,20050126,       1249,   -55.5977,    87.4400,       4574,  2599.1,   0.7296,  34.7053,2,  34.7057,2,    210.2,2,   210.2,2,  118.69,2,   31.53,2,    2.23,2,   0.192,2,   0.083,2,   0.009,2,  -999.0,9,  -999.0,9,   0.5647
09AR20041223,       I09S,      84,          1,          6,        117,2,20050126,       1249,   -55.5977,    87.4400,       4574,  3000.0,   0.4628,  34.6920,2,  34.6917,2,    215.4,2,   215.4,2,  124.35,2,   32.21,2,    2.22,2,   0.320,2,   0.153,2,   0.014,2,  -999.0,9,  -999.0,9,   0.2689
09AR20041223,       I09S,      84,          1,          5,        105,2,20050126,       1249,   -55.5977,    87.4400,       4574,  3400.0,   0.3030,  34.6848,2,  34.6847,2,    220.5,2,   220.5,2,  127.09,2,   32.02,2,    2.24,2,   0.478,2,   0.223,2,   0.021,2,  -999.0,9,  -999.0,9,   0.0766
09AR20041223,       I09S,      84,          1,          4,        104,2,20050126,       1249,   -55.5977,    87.4400,       4574,  3702.9,   0.2160,  34.6806,2,  34.6801,2,    223.4,2,   223.6,2,  128.94,2,   32.02,2,    2.23,2,-999.000,9,-999.000,9,-999.000,9,  -999.0,9,  -999.0,9,  -0.0370
09AR20041223,       I09S,      84,          1,          3,        103,2,20050126,       1249,   -55.5977,    87.4400,       4574,  4001.3,   0.1400,  34.6766,2,  34.6762,2,    226.9,2,   226.7,2,  128.84,2,   32.02,2,    2.24,2,   0.747,6,   0.353,6,   0.051,6,  -999.0,9,  -999.0,9,  -0.1403
09AR20041223,       I09S,      84,          1,          2,        102,2,20050126,       1249,   -55.5977,    87.4400,       4574,  4304.2,   0.1049,  34.6745,2,  34.6740,2,    229.4,2,   229.1,2,  130.41,2,   32.50,2,    2.23,2,-999.000,9,-999.000,9,-999.000,9,  -999.0,9,  -999.0,9,  -0.2055
09AR20041223,       I09S,      84,          1,          1,        101,2,20050126,       1249,   -55.5977,    87.4400,       4574,  4677.9,   0.0650,  34.6710,2,  34.6705,2,    231.9,2,   231.5,2,  131.58,2,   32.02,2,    2.23,2,   1.076,2,   0.506,2,   0.077,2,  -999.0,9,  -999.0,9,  -0.2842
09AR20041223,       I09S,      85,          1,         24,         24,2,20050126,       1945,   -55.8647,    86.9912,       4680,    18.2,   3.3318,  33.9516,2,  33.9524,2,    317.0,2,   316.8,2,    9.18,2,   24.12,2,    1.61,2,   4.892,2,   2.555,2,   0.427,2,  -999.0,9,  -999.0,9,   3.3307
09AR20041223,       I09S,      85,          1,         23,         23,2,20050126,       1945,   -55.8647,    86.9912,       4680,    51.2,   3.3298,  33.9517,2,  33.9528,2,    317.5,2,   316.8,2,    9.28,2,   24.02,2,    1.60,2,-999.000,9,-999.000,9,-999.000,9,  -999.0,9,  -999.0,9,   3.3266
09AR20041223,       I09S,      85,          1,         22,         22,2,20050126,       1945,   -55.8647,    86.9912,       4680,   100.9,   1.5929,  34.0195,2,  34.0185,2,    309.2,2,   310.3,2,   27.73,2,   27.83,2,    1.97,2,-999.000,9,-999.000,9,-999.000,9,  -999.0,9,  -999.0,9,   1.5880
09AR20041223,       I09S,      85,          1,         21,         21,2,20050126,       1945,   -55.8647,    86.9912,       4680,   149.2,   1.3582,  34.0796,2,  34.0759,2,    297.2,2,   296.9,2,   35.25,2,   29.78,2,    2.02,2,-999.000,9,-999.000,9,-999.000,9,  -999.0,9,  -999.0,9,   1.3512
09AR20041223,       I09S,      85,          1,         20,         20,2,20050126,       1945,   -55.8647,    86.9912,       4680,   199.9,   2.0680,  34.2281,2,  34.2283,2,    255.9,2,   237.6,3,   46.28,2,   32.51,2,    2.17,2,-999.000,9,-999.000,9,-999.000,9,  -999.0,9,  -999.0,9,   2.0573
09AR20041223,       I09S,      85,          1,         19,         19,2,20050126,       1945,   -55.8647,    86.9912,       4680,   302.4,   1.2442,  34.2633,2,  34.2634,2,    227.2,2,   239.8,3,   56.14,2,   33.10,2,    2.24,2,-999.000,9,-999.000,9,-999.000,9,  -999.0,9,  -999.0,9,   1.2298
09AR20041223,       I09S,      85,          1,         18,         18,2,20050126,       1945,   -55.8647,    86.9912,       4680,   400.0,   2.1786,  34.4563,2,  34.4591,2,    204.8,2,   190.5,3,   66.68,2,   33.97,2,    2.30,2,   1.296,2,   0.633,2,   0.107,2,  -999.0,9,  -999.0,9,   2.1560
09AR20041223,       I09S,      85,          1,         17,          6,2,20050126,       1945,   -55.8647,    86.9912,       4680,   501.7,   2.1541,  34.5434,2,  34.5436,2,    182.3,2,   181.7,2,   73.70,2,   34.36,2,    2.29,2,-999.000,9,-999.000,9,-999.000,9,  -999.0,9,  -999.0,9,   2.1254
09AR20041223,       I09S,      85,          1,         16,         16,2,20050126,       1945,   -55.8647,    86.9912,       4680,   631.3,   2.2979,  34.6275,2,  34.6278,2,    180.7,2,   179.1,2, -999.00,9, -999.00,9, -999.00,9,   0.414,2,   0.205,2,   0.029,2,  -999.0,9,  -999.0,9,   2.2603
09AR20041223,       I09S,      85,          1,         15,         15,2,20050126,       1945,   -55.8647,    86.9912,       4680,   803.8,   2.1370,  34.6884,2,  34.6878,2,    185.1,2,   183.8,2,   80.62,2,   32.11,2,    2.16,2,-999.000,9,-999.000,9,-999.000,9,  -999.0,9,  -999.0,9,   2.0889
09AR20041223,       I09S,      85,          1,         14,         14,2,20050126,       1945,   -55.8647,    86.9912,       4680,   952.1,   2.0619,  34.7169,2,  34.7172,2,    189.9,2,   189.4,2,   82.48,2,   31.14,2,    2.12,2,   0.199,2,   0.091,2,   0.007,2,  -999.0,9,  -999.0,9,   2.0043
09AR20041223,       I09S,      85,          1,         13,         13,2,20050126,       1945,   -55.8647,    86.9912,       4680,  1101.2,   1.9270,  34.7330,2,  34.7402,2,    193.8,2,   192.1,2,   85.50,2,   30.65,2,    2.09,2,   0.179,2,   0.097,2,   0.001,2,  -999.0,9,  -999.0,9,   1.8602
09AR20041223,       I09S,      85,          1,         12,         12,2,20050126,       1945,   -55.8647,    86.9912,       4680,  1299.0,   1.7825,  34.7452,2,  34.7453,2,    199.6,2,   204.1,2,   88.62,2,   30.26,2,    2.07,2,-999.000,9,-999.000,9,-999.000,9,  -999.0,9,  -999.0,9,   1.7030
09AR20041223,       I09S,      85,          1,         11,         11,2,20050126,       1945,   -55.8647,    86.9912,       4680,  1500.4,   1.5904,  34.7443,2,  34.7449,2,    203.6,2,   205.8,2,   93.31,2,   30.26,2,    2.08,2,   0.134,2,   0.068,2,   0.000,2,  -999.0,9,  -999.0,9,   1.4984
09AR20041223,       I09S,      85,          1,         10,         10,2,20050126,       1945,   -55.8647,    86.9912,       4680,  1803.5,   1.2932,  34.7336,2,  34.7339,2,    207.6,2,   210.0,2,  101.31,2,   30.75,2,    2.11,2,-999.000,9,-999.000,9,-999.000,9,  -999.0,9,  -999.0,9,   1.1824
09AR20041223,       I09S,      85,          1,          9,          9,2,20050126,       1945,   -55.8647,    86.9912,       4680,  2099.7,   1.0487,  34.7215,2,  34.7221,2,    210.9,2,   209.9,2,  108.64,2,   31.23,2,    2.15,2,   0.160,2,   0.078,2,   0.007,2,  -999.0,9,  -999.0,9,   0.9187
09AR20041223,       I09S,      85,          1,          8,        108,2,20050126,       1945,   -55.8647,    86.9912,       4680,  2400.5,   0.8344,  34.7101,2,  34.7100,2,    212.1,2,   211.5,2,  115.18,2,   31.62,2,    2.17,2,   0.168,2,   0.096,2,   0.001,2,  -999.0,9,  -999.0,9,   0.6840
09AR20041223,       I09S,      85,          1,          7,        107,2,20050126,       1945,   -55.8647,    86.9912,       4680,  2700.0,   0.6155,  34.6984,2,  34.7184,4,    214.5,2,   213.8,2,  121.03,2,   32.41,2,    2.21,2,-999.000,9,-999.000,9,-999.000,9,  -999.0,9,  -999.0,9,   0.4443
09AR20041223,       I09S,      85,          1,          6,        117,2,20050126,       1945,   -55.8647,    86.9912,       4680,  3101.5,   0.3840,  34.6872,2,  34.6872,2,    219.8,2,   219.9,2,  125.52,2,   32.31,2,    2.22,2,-999.000,9,-999.000,9,-999.000,9,  -999.0,9,  -999.0,9,   0.1829
09AR20041223,       I09S,      85,          1,          5,        105,2,20050126,       1945,   -55.8647,    86.9912,       4680,  3502.9,   0.2277,  34.6806,2,  34.6805,2,    225.5,2,   225.6,2,  127.28,2,   32.11,2,    2.24,2,   0.528,2,   0.246,2,   0.045,2,  -999.0,9,  -999.0,9,  -0.0064
09AR20041223,       I09S,      85,          1,          4,        104,2,20050126,       1945,   -55.8647,    86.9912,       4680,  3901.3,   0.1252,  34.6762,2,  34.6756,2,    230.0,2,   229.4,2,  127.97,2,   32.02,2,    2.24,2,-999.000,9,-999.000,9,-999.000,9,  -999.0,9,  -999.0,9,  -0.1447
09AR20041223,       I09S,      85,          1,          3,        103,2,20050126,       1945,   -55.8647,    86.9912,       4680,  4201.3,   0.0776,  34.6737,2,  34.6739,2,    233.1,2,   231.9,2,  128.65,2,   32.02,2,    2.20,2,   0.900,6,   0.432,6,   0.049,6,  -999.0,9,  -999.0,9,  -0.2213
09AR20041223,       I09S,      85,          1,          2,        102,2,20050126,       1945,   -55.8647,    86.9912,       4680,  4501.8,   0.0538,  34.6716,2,  34.6713,2,    234.8,2,   234.3,2,  129.53,2,   32.11,2,    2.22,2,-999.000,9,-999.000,9,-999.000,9,  -999.0,9,  -999.0,9,  -0.2760
09AR20041223,       I09S,      85,          1,          1,        101,2,20050126,       1945,   -55.8647,    86.9912,       4680,  4789.6,   0.0288,  34.6688,2,  34.6689,2,    235.9,2,   236.0,2,  130.60,2,   32.02,2,    2.22,2,   1.200,2,   0.574,2,   0.069,2,  -999.0,9,  -999.0,9,  -0.3315