BOTTLE,20220105CCHSIOENA
EXPOCODE,SECT_ID,STNNBR,CASTNO,SAMPNO,BTLNBR,BTLNBR_FLAG_W,DATE,TIME,LATITUDE,LONGITUDE,DEPTH,CTDPRS,CTDTMP,CTDSAL,CTDSAL_FLAG_W,SALNTY,SALNTY_FLAG_W,CTDOXY,CTDOXY_FLAG_W,OXYGEN,OXYGEN_FLAG_W,SILCAT,SILCAT_FLAG_W,NITRAT,NITRAT_FLAG_W,PHSPHT,PHSPHT_FLAG_W,CFC-11,CFC-11_FLAG_W,CFC-12,CFC-12_FLAG_W,CFC113,CFC113_FLAG_W,TCARBN,TCARBN_FLAG_W,ALKALI,ALKALI_FLAG_W,THETA
,,,,,,,,,,,METERS,DBAR,ITS-90,PSS-78,,PSS-78,,UMOL/KG,,UMOL/KG,,UMOL/KG,,UMOL/KG,,UMOL/KG,,PMOL/KG,,PMOL/KG,,PMOL/KG,,UMOL/KG,,UMOL/KG,,DEG C
09AR20041223,       I09S,     106,          1,         24,         24,2,20050201,       1914,   -64.6085,    80.6657,       3647,    11.0,   1.0857,  33.6256,2,  33.6263,2,    336.7,2,   336.6,2,   36.53,2,   25.20,2,    1.53,2,-999.000,9,-999.000,9,-999.000,9,  -999.0,9,  -999.0,9,   1.0852
09AR20041223,       I09S,     106,          1,         23,         23,2,20050201,       1914,   -64.6085,    80.6657,       3647,    41.0,   1.0432,  33.7344,2,  33.7368,2,    335.2,2,   335.2,2,   35.07,2,   25.69,2,    1.55,2,-999.000,9,-999.000,9,-999.000,9,  -999.0,9,  -999.0,9,   1.0415
09AR20041223,       I09S,     106,          1,         22,         22,2,20050201,       1914,   -64.6085,    80.6657,       3647,    76.0,  -0.8996,  34.1497,2,  34.1484,2,    285.8,2,   286.1,2,   60.54,2,   30.47,2,    2.01,2,-999.000,9,-999.000,9,-999.000,9,  -999.0,9,  -999.0,9,  -0.9017
09AR20041223,       I09S,     106,          1,         21,         21,2,20050201,       1914,   -64.6085,    80.6657,       3647,   110.8,   0.0327,  34.3504,2,  34.3411,2,    244.2,2,   242.0,2,   71.17,2,   32.51,2,    2.16,2,-999.000,9,-999.000,9,-999.000,9,  -999.0,9,  -999.0,9,   0.0287
09AR20041223,       I09S,     106,          1,         20,         20,2,20050201,       1914,   -64.6085,    80.6657,       3647,   160.8,   1.4497,  34.5636,2,  34.5654,2,    184.0,2,   187.8,2,   83.07,2,   33.97,2,    2.25,2,-999.000,9,-999.000,9,-999.000,9,  -999.0,9,  -999.0,9,   1.4419
09AR20041223,       I09S,     106,          1,         19,         19,2,20050201,       1914,   -64.6085,    80.6657,       3647,   201.2,   1.6780,  34.6302,2,  34.6338,2,    183.5,2,   179.8,2,   86.58,2,   33.38,2,    2.24,2,-999.000,9,-999.000,9,-999.000,9,  -999.0,9,  -999.0,9,   1.6677
09AR20041223,       I09S,     106,          1,         18,         18,2,20050201,       1914,   -64.6085,    80.6657,       3647,   301.0,   1.7362,  34.6866,2,  34.6848,2,    187.1,2,   183.4,2,   88.33,2,   32.31,2,    2.18,2,-999.000,9,-999.000,9,-999.000,9,  -999.0,9,  -999.0,9,   1.7204
09AR20041223,       I09S,     106,          1,         17,          6,2,20050201,       1914,   -64.6085,    80.6657,       3647,   401.3,   1.5759,  34.7005,2,  34.7005,2,    189.0,2,   191.0,2,   89.50,2,   31.72,2,    2.12,2,-999.000,9,-999.000,9,-999.000,9,  -999.0,9,  -999.0,9,   1.5550
09AR20041223,       I09S,     106,          1,         16,         16,2,20050201,       1914,   -64.6085,    80.6657,       3647,   501.3,   1.6305,  34.7249,2,  34.7270,2,    191.4,2,   192.5,2,   90.77,2,   30.84,2,    2.08,2,-999.000,9,-999.000,9,-999.000,9,  -999.0,9,  -999.0,9,   1.6038
09AR20041223,       I09S,     106,          1,         15,         15,2,20050201,       1914,   -64.6085,    80.6657,       3647,   600.7,   1.5755,  34.7327,2,  34.7333,2,    195.1,2,   195.6,2,   91.65,2,   29.87,3,    2.05,2,-999.000,9,-999.000,9,-999.000,9,  -999.0,9,  -999.0,9,   1.5432
09AR20041223,       I09S,     106,          1,         14,         14,2,20050201,       1914,   -64.6085,    80.6657,       3647,   751.6,   1.4801,  34.7404,2,  34.7406,2,    199.0,2,   199.3,2,   94.68,2,   30.35,2,    2.04,2,-999.000,9,-999.000,9,-999.000,9,  -999.0,9,  -999.0,9,   1.4393
09AR20041223,       I09S,     106,          1,         13,         13,2,20050201,       1914,   -64.6085,    80.6657,       3647,   901.6,   1.1892,  34.7218,2,  34.7227,2,    202.1,2,   202.8,2,   99.36,2,   31.04,2,    2.08,2,-999.000,9,-999.000,9,-999.000,9,  -999.0,9,  -999.0,9,   1.1413
09AR20041223,       I09S,     106,          1,         12,         12,2,20050201,       1914,   -64.6085,    80.6657,       3647,  1050.5,   1.0219,  34.7153,2,  34.7160,2,    204.6,2,   205.0,2,  103.27,2,   31.43,2,    2.10,2,-999.000,9,-999.000,9,-999.000,9,  -999.0,9,  -999.0,9,   0.9662
09AR20041223,       I09S,     106,          1,         11,         11,2,20050201,       1914,   -64.6085,    80.6657,       3647,  1200.8,   0.9614,  34.7189,2,  34.7184,2,    205.6,2,   204.9,2,  107.56,2,   31.33,2,    2.11,2,-999.000,9,-999.000,9,-999.000,9,  -999.0,9,  -999.0,9,   0.8968
09AR20041223,       I09S,     106,          1,         10,         10,2,20050201,       1914,   -64.6085,    80.6657,       3647,  1401.5,   0.7872,  34.7095,2,  34.7100,2,    206.8,2,   206.1,2,  112.83,2,   31.72,2,    2.14,2,-999.000,9,-999.000,9,-999.000,9,  -999.0,9,  -999.0,9,   0.7114
09AR20041223,       I09S,     106,          1,          9,          9,2,20050201,       1914,   -64.6085,    80.6657,       3647,  1601.3,   0.6468,  34.7016,2,  34.7005,2,    207.7,2,   208.5,2,  117.42,2,   32.02,2,    2.17,2,-999.000,9,-999.000,9,-999.000,9,  -999.0,9,  -999.0,9,   0.5593
09AR20041223,       I09S,     106,          1,          8,        108,2,20050201,       1914,   -64.6085,    80.6657,       3647,  1802.3,   0.5173,  34.6941,2,  34.6937,2,    210.2,2,   210.0,2,  120.94,2,   32.21,2,    2.20,2,-999.000,9,-999.000,9,-999.000,9,  -999.0,9,  -999.0,9,   0.4176
09AR20041223,       I09S,     106,          1,          7,        107,2,20050201,       1914,   -64.6085,    80.6657,       3647,  2001.1,   0.4076,  34.6889,2,  34.6886,2,    211.6,2,   211.8,2,  124.65,2,   32.99,3,    2.21,2,-999.000,9,-999.000,9,-999.000,9,  -999.0,9,  -999.0,9,   0.2954
09AR20041223,       I09S,     106,          1,          6,        117,2,20050201,       1914,   -64.6085,    80.6657,       3647,  2402.2,   0.2098,  34.6790,2,  34.6790,2,    218.2,2,   219.0,2,  128.36,2,   32.31,2,    2.21,2,-999.000,9,-999.000,9,-999.000,9,  -999.0,9,  -999.0,9,   0.0708
09AR20041223,       I09S,     106,          1,          5,        105,2,20050201,       1914,   -64.6085,    80.6657,       3647,  2801.2,   0.0640,  34.6734,2,  34.6729,2,    223.5,2,   224.1,2,  128.65,2,   32.31,2,    2.20,2,-999.000,9,-999.000,9,-999.000,9,  -999.0,9,  -999.0,9,  -0.1041
09AR20041223,       I09S,     106,          1,          4,        104,2,20050201,       1914,   -64.6085,    80.6657,       3647,  3100.0,  -0.0084,  34.6711,2,  34.6707,2,    227.9,2,   227.8,2,  127.67,2,   32.21,2,    2.20,2,-999.000,9,-999.000,9,-999.000,9,  -999.0,9,  -999.0,9,  -0.2002
09AR20041223,       I09S,     106,          1,          3,        103,2,20050201,       1914,   -64.6085,    80.6657,       3647,  3401.9,  -0.0755,  34.6687,2,  34.6680,2,    231.4,2,   231.6,2,  126.80,2,   32.02,2,    2.19,2,-999.000,9,-999.000,9,-999.000,9,  -999.0,9,  -999.0,9,  -0.2925
09AR20041223,       I09S,     106,          1,          2,        102,2,20050201,       1914,   -64.6085,    80.6657,       3647,  3627.6,  -0.1526,  34.6651,2,  34.6644,2,    232.3,2,   232.5,2,  142.51,2,   32.41,2,    2.24,2,-999.000,9,-999.000,9,-999.000,9,  -999.0,9,  -999.0,9,  -0.3884
09AR20041223,       I09S,     106,          1,          1,        101,2,20050201,       1914,   -64.6085,    80.6657,       3647,  3674.7,  -0.1481,  34.6653,2,  34.6644,2,    232.3,2,   233.3,2,  142.90,2,   32.50,2,    2.23,2,-999.000,9,-999.000,9,-999.000,9,  -999.0,9,  -999.0,9,  -0.3885
09AR20041223,       I09S,     107,          1,         24,         24,2,20050201,       2353,   -64.8643,    80.5865,       3626,    10.3,   0.8980,  33.5411,2,  33.5058,2,    338.1,2,   336.3,2,   37.22,2,   25.11,2,    1.51,2,   5.518,4,   2.855,4,   0.504,4,  2137.6,6,  2268.2,6,   0.8976
09AR20041223,       I09S,     107,          1,         23,         23,2,20050201,       2353,   -64.8643,    80.5865,       3626,    51.2,   0.7388,  33.7937,2,  33.8255,2,    332.4,2,   332.6,2,   38.87,2,   25.98,2,    1.63,2,   5.357,2,   2.750,2,   0.470,2,  2157.6,2,  2290.7,3,   0.7367
09AR20041223,       I09S,     107,          1,         22,         22,2,20050201,       2353,   -64.8643,    80.5865,       3626,   100.7,  -1.2742,  34.1481,2,  34.1602,2,    294.6,2,   294.1,2,   60.44,2,   29.88,2,    1.99,2,   4.254,2,   2.173,2,   0.370,2,  2203.9,2,  2306.0,2,  -1.2766
09AR20041223,       I09S,     107,          1,         21,         21,2,20050201,       2353,   -64.8643,    80.5865,       3626,   151.2,  -0.3918,  34.3590,2,  34.3756,2,    265.9,2,   245.1,2,   72.34,2,   31.93,2,    2.13,2,   2.995,2,   1.503,2,   0.271,2,  2229.2,2,  2322.5,2,  -0.3967
09AR20041223,       I09S,     107,          1,         20,         20,2,20050201,       2353,   -64.8643,    80.5865,       3626,   201.4,   1.0008,  34.5567,2,  34.5646,2,    197.4,2,   202.9,2,   82.97,2,   32.80,2,    2.19,2,   1.471,2,   0.734,2,   0.116,2,  2247.2,2,  2333.8,2,   0.9917
09AR20041223,       I09S,     107,          1,         19,         19,2,20050201,       2353,   -64.8643,    80.5865,       3626,   301.7,   1.4722,  34.6704,2,  34.6715,2,    194.6,2,   191.7,2,   87.75,2,   32.11,2,    2.15,2,   0.713,6,   0.346,6,   0.071,6,  2253.2,2,  2341.7,2,   1.4571
09AR20041223,       I09S,     107,          1,         18,         18,2,20050201,       2353,   -64.8643,    80.5865,       3626,   401.0,   1.4774,  34.7003,2,  34.7009,2,    194.5,2,   194.2,2,   89.60,2,   31.43,2,    2.10,2,   0.553,2,   0.262,2,   0.050,2,  -999.0,9,  -999.0,9,   1.4569
09AR20041223,       I09S,     107,          1,         17,          6,2,20050201,       2353,   -64.8643,    80.5865,       3626,   501.4,   1.4355,  34.7135,2,  34.7151,2,    196.5,2,   196.6,2,   91.75,2,   30.94,2,    2.09,2,   0.453,2,   0.217,2,   0.024,2,  2249.9,2,  2347.8,2,   1.4096
09AR20041223,       I09S,     107,          1,         16,         16,2,20050201,       2353,   -64.8643,    80.5865,       3626,   601.2,   1.4959,  34.7325,2,  34.7329,2,    198.0,2,   196.5,2,   94.19,2,   30.75,2,    2.06,2,   0.222,2,   0.107,2,   0.023,2,  2250.9,2,  2348.1,2,   1.4640
09AR20041223,       I09S,     107,          1,         15,         15,2,20050201,       2353,   -64.8643,    80.5865,       3626,   701.3,   1.4313,  34.7376,2,  34.7380,2,    199.9,2,   199.8,2,   95.36,2,   30.45,2,    2.05,2,   0.184,2,   0.067,4,   0.017,2,  -999.0,9,  -999.0,9,   1.3938
09AR20041223,       I09S,     107,          1,         14,         14,2,20050201,       2353,   -64.8643,    80.5865,       3626,   801.5,   1.2721,  34.7271,2,  34.7280,2,    202.1,2,   202.0,2,   98.00,2,   30.65,2,    2.07,2,   0.269,2,   0.130,2,   0.018,2,  2249.1,2,  2351.5,2,   1.2297
09AR20041223,       I09S,     107,          1,         13,         13,2,20050201,       2353,   -64.8643,    80.5865,       3626,   901.9,   1.1492,  34.7229,2,  34.7233,2,    203.1,2,   203.1,2,  101.31,2,   30.84,2,    2.09,2,   0.281,2,   0.131,2,   0.037,3,  2252.3,2,  2352.9,2,   1.1016
09AR20041223,       I09S,     107,          1,         12,         12,2,20050201,       2353,   -64.8643,    80.5865,       3626,  1001.4,   1.1187,  34.7265,2,  34.7262,2,    204.0,2,   203.9,2,  102.58,2,   30.75,2,    2.08,2,   0.183,2,   0.089,2,   0.012,2,  -999.0,9,  -999.0,9,   1.0652
09AR20041223,       I09S,     107,          1,         11,         11,2,20050201,       2353,   -64.8643,    80.5865,       3626,  1201.8,   0.9029,  34.7140,2,  34.7137,2,    205.4,2,   204.1,2,  108.25,2,   31.53,2,    2.12,2,   0.213,2,   0.105,2,   0.017,2,  2255.7,2,  2355.5,6,   0.8388
09AR20041223,       I09S,     107,          1,         10,         10,2,20050201,       2353,   -64.8643,    80.5865,       3626,  1401.8,   0.7509,  34.7058,2,  34.7058,2,    207.1,2,   206.8,2,  112.74,2,   31.92,2,    2.15,2,   0.199,2,   0.097,2,   0.010,2,  2255.5,2,  2356.8,2,   0.6755
09AR20041223,       I09S,     107,          1,          9,          9,2,20050201,       2353,   -64.8643,    80.5865,       3626,  1601.8,   0.6160,  34.6999,2,  34.6996,2,    208.2,2,   209.2,2,  117.52,2,   31.92,2,    2.18,2,   0.147,2,   0.068,2,   0.005,2,  -999.0,9,  -999.0,9,   0.5289
09AR20041223,       I09S,     107,          1,          8,        108,2,20050201,       2353,   -64.8643,    80.5865,       3626,  1802.2,   0.4814,  34.6926,2,  34.6929,2,    210.4,2,   210.5,2,  121.33,2,   32.21,2,    2.19,2,   0.141,2,   0.071,2,   0.018,2,  2261.9,2,  2359.6,2,   0.3823
09AR20041223,       I09S,     107,          1,          7,        107,2,20050201,       2353,   -64.8643,    80.5865,       3626,  2003.3,   0.3754,  34.6869,2,  34.6866,2,    212.8,2,   212.4,2,  123.28,2,   32.50,2,    2.20,2,   0.168,2,   0.087,2,   0.013,2,  2260.2,2,  2364.0,2,   0.2635
09AR20041223,       I09S,     107,          1,          6,        117,2,20050201,       2353,   -64.8643,    80.5865,       3626,  2302.3,   0.2345,  34.6801,2,  34.6797,2,    217.3,2,   217.4,2,  125.62,2,   32.41,2,    2.21,2,   0.245,2,   0.124,2,   0.020,2,  2259.9,2,  2354.4,2,   0.1027
09AR20041223,       I09S,     107,          1,          5,        105,2,20050201,       2353,   -64.8643,    80.5865,       3626,  2600.5,   0.1153,  34.6753,2,  34.6754,2,    222.0,2,   222.5,2,  126.01,2,   32.11,2,    2.20,2,   0.387,2,   0.193,2,   0.029,2,  -999.0,9,  -999.0,9,  -0.0375
09AR20041223,       I09S,     107,          1,          4,        104,2,20050201,       2353,   -64.8643,    80.5865,       3626,  2900.1,   0.0296,  34.6725,2,  34.6719,2,    226.4,2,   226.6,2,  125.33,2,   31.92,2,    2.20,2,   0.575,2,   0.284,2,   0.039,2,  2257.3,2,  2354.2,2,  -0.1460
09AR20041223,       I09S,     107,          1,          3,        103,2,20050201,       2353,   -64.8643,    80.5865,       3626,  3200.6,  -0.0431,  34.6703,2,  34.6699,2,    230.1,2,   229.4,2,  124.84,2,   32.02,2,    2.20,2,   0.778,2,   0.381,2,   0.057,2,  2255.4,2,  2350.5,2,  -0.2429
09AR20041223,       I09S,     107,          1,          2,        102,2,20050201,       2353,   -64.8643,    80.5865,       3626,  3500.7,  -0.1075,  34.6676,2,  34.6672,2,    232.9,2,   232.6,2,  129.53,2,   32.11,2,    2.21,2,   0.865,6,   0.422,6,   0.068,6,  -999.0,9,  -999.0,9,  -0.3327
09AR20041223,       I09S,     107,          1,          1,        101,2,20050201,       2353,   -64.8643,    80.5865,       3626,  3656.0,  -0.1204,  34.6666,2,  34.6656,2,    233.0,2,   233.0,2,  134.80,2,   32.02,2,    2.21,2,   0.852,2,   0.412,2,   0.062,2,  2256.7,6,  2355.5,6,  -0.3598