BOTTLE,20220105CCHSIOENA
EXPOCODE,SECT_ID,STNNBR,CASTNO,SAMPNO,BTLNBR,BTLNBR_FLAG_W,DATE,TIME,LATITUDE,LONGITUDE,DEPTH,CTDPRS,CTDTMP,CTDSAL,CTDSAL_FLAG_W,SALNTY,SALNTY_FLAG_W,CTDOXY,CTDOXY_FLAG_W,OXYGEN,OXYGEN_FLAG_W,SILCAT,SILCAT_FLAG_W,NITRAT,NITRAT_FLAG_W,PHSPHT,PHSPHT_FLAG_W,CFC-11,CFC-11_FLAG_W,CFC-12,CFC-12_FLAG_W,CFC113,CFC113_FLAG_W,TCARBN,TCARBN_FLAG_W,ALKALI,ALKALI_FLAG_W,THETA
,,,,,,,,,,,METERS,DBAR,ITS-90,PSS-78,,PSS-78,,UMOL/KG,,UMOL/KG,,UMOL/KG,,UMOL/KG,,UMOL/KG,,PMOL/KG,,PMOL/KG,,PMOL/KG,,UMOL/KG,,UMOL/KG,,DEG C
09AR20041223,       I09S,      36,          1,         24,         24,2,20050105,       1054,   -50.4863,   115.0275,       2980,    10.8,   5.8326,  33.9225,2,  33.9239,2,    308.5,2,   307.5,2,    1.76,2,   21.49,2,    1.41,2,-999.000,9,-999.000,9,-999.000,9,  -999.0,9,  -999.0,9,   5.8317
09AR20041223,       I09S,      36,          1,         23,         23,2,20050105,       1054,   -50.4863,   115.0275,       2980,    10.8,   5.8329,  33.9224,2,-999.0000,9,    308.5,2,  -999.0,9, -999.00,9, -999.00,9, -999.00,9,-999.000,9,-999.000,9,-999.000,9,  -999.0,9,  -999.0,9,   5.8320
09AR20041223,       I09S,      36,          1,         22,         22,2,20050105,       1054,   -50.4863,   115.0275,       2980,    10.8,   5.8310,  33.9222,2,-999.0000,9,    308.5,2,  -999.0,9, -999.00,9, -999.00,9, -999.00,9,-999.000,9,-999.000,9,-999.000,9,  -999.0,9,  -999.0,9,   5.8301
09AR20041223,       I09S,      36,          1,         21,         21,2,20050105,       1054,   -50.4863,   115.0275,       2980,    70.2,   5.3251,  33.9351,2,  33.9405,2,    309.7,2,   308.5,2,    2.44,2,   21.88,2,    1.45,2,-999.000,9,-999.000,9,-999.000,9,  -999.0,9,  -999.0,9,   5.3196
09AR20041223,       I09S,      36,          1,         20,         20,2,20050105,       1054,   -50.4863,   115.0275,       2980,   101.1,   3.6917,  33.9986,2,  33.9999,2,    308.9,2,   307.4,2,    9.28,2,   24.32,2,    1.67,2,-999.000,9,-999.000,9,-999.000,9,  -999.0,9,  -999.0,9,   3.6851
09AR20041223,       I09S,      36,          1,         19,         19,2,20050105,       1054,   -50.4863,   115.0275,       2980,   151.1,   3.3098,  34.0321,2,  34.0340,2,    293.9,2,   292.7,2,   17.58,2,   26.95,2,    1.76,2,-999.000,9,-999.000,9,-999.000,9,  -999.0,9,  -999.0,9,   3.3003
09AR20041223,       I09S,      36,          1,         18,         18,2,20050105,       1054,   -50.4863,   115.0275,       2980,   202.7,   3.0159,  34.0579,2,  34.0610,2,    289.1,2,   288.4,2,   21.29,2,   27.64,2,    1.82,2,-999.000,9,-999.000,9,-999.000,9,  -999.0,9,  -999.0,9,   3.0036
09AR20041223,       I09S,      36,          1,         17,          6,2,20050105,       1054,   -50.4863,   115.0275,       2980,   300.4,   2.8332,  34.1383,2,  34.1408,2,    256.4,2,   258.6,2,   30.37,2,   30.17,2,    1.98,2,-999.000,9,-999.000,9,-999.000,9,  -999.0,9,  -999.0,9,   2.8151
09AR20041223,       I09S,      36,          1,         16,         16,2,20050105,       1054,   -50.4863,   115.0275,       2980,   401.3,   2.7363,  34.2499,2,  34.2512,2,    224.9,2,   224.6,2,   42.57,2,   32.42,2,    2.14,2,-999.000,9,-999.000,9,-999.000,9,  -999.0,9,  -999.0,9,   2.7120
09AR20041223,       I09S,      36,          1,         15,         15,2,20050105,       1054,   -50.4863,   115.0275,       2980,   501.4,   2.6095,  34.3338,2,  34.3343,2,    208.0,2,   205.6,2,   51.65,2,   33.88,2,    2.22,2,-999.000,9,-999.000,9,-999.000,9,  -999.0,9,  -999.0,9,   2.5791
09AR20041223,       I09S,      36,          1,         14,         14,2,20050105,       1054,   -50.4863,   115.0275,       2980,   601.4,   2.4527,  34.4108,2,  34.4123,2,    188.7,2,   190.8,2,   60.24,2,   34.17,2,    2.27,2,-999.000,9,-999.000,9,-999.000,9,  -999.0,9,  -999.0,9,   2.4165
09AR20041223,       I09S,      36,          1,         13,         13,2,20050105,       1054,   -50.4863,   115.0275,       2980,   701.8,   2.4900,  34.4905,2,  34.4915,2,    179.7,2,   179.5,2,   66.29,2,   34.27,2,    2.28,2,-999.000,9,-999.000,9,-999.000,9,  -999.0,9,  -999.0,9,   2.4469
09AR20041223,       I09S,      36,          1,         12,         12,2,20050105,       1054,   -50.4863,   115.0275,       2980,   800.3,   2.4631,  34.5488,2,  34.5511,2,    175.6,2,   176.1,2,   71.16,2,   33.78,2,    2.30,2,-999.000,9,-999.000,9,-999.000,9,  -999.0,9,  -999.0,9,   2.4133
09AR20041223,       I09S,      36,          1,         11,         11,2,20050105,       1054,   -50.4863,   115.0275,       2980,   951.0,   2.3946,  34.6224,2,  34.6232,2,    175.2,2,   175.5,2,   76.63,2,   32.70,2,    2.22,2,-999.000,9,-999.000,9,-999.000,9,  -999.0,9,  -999.0,9,   2.3347
09AR20041223,       I09S,      36,          1,         10,         10,2,20050105,       1054,   -50.4863,   115.0275,       2980,  1101.1,   2.2949,  34.6613,2,  34.6621,2,    178.6,2,   178.6,2,   77.11,2,   32.41,2,    2.17,2,-999.000,9,-999.000,9,-999.000,9,  -999.0,9,  -999.0,9,   2.2250
09AR20041223,       I09S,      36,          1,          9,          9,2,20050105,       1054,   -50.4863,   115.0275,       2980,  1301.0,   2.1827,  34.7091,2,  34.7102,2,    184.1,2,   184.9,2,   79.84,2,   31.23,2,    2.10,2,-999.000,9,-999.000,9,-999.000,9,  -999.0,9,  -999.0,9,   2.0991
09AR20041223,       I09S,      36,          1,          8,        108,2,20050105,       1054,   -50.4863,   115.0275,       2980,  1501.4,   2.0836,  34.7388,2,  34.7400,2,    191.5,2,   191.2,2,   81.99,2,   30.65,2,    2.04,2,-999.000,9,-999.000,9,-999.000,9,  -999.0,9,  -999.0,9,   1.9858
09AR20041223,       I09S,      36,          1,          7,        107,2,20050105,       1054,   -50.4863,   115.0275,       2980,  1701.0,   1.9054,  34.7460,2,  34.7467,2,    195.1,2,   194.9,2,   86.97,2,   30.35,2,    2.05,2,-999.000,9,-999.000,9,-999.000,9,  -999.0,9,  -999.0,9,   1.7942
09AR20041223,       I09S,      36,          1,          6,        117,2,20050105,       1054,   -50.4863,   115.0275,       2980,  1902.0,   1.7097,  34.7473,2,  34.7482,2,    198.2,2,   198.7,2,   91.75,2,   30.35,2,    2.05,2,-999.000,9,-999.000,9,-999.000,9,  -999.0,9,  -999.0,9,   1.5852
09AR20041223,       I09S,      36,          1,          5,        105,2,20050105,       1054,   -50.4863,   115.0275,       2980,  2101.7,   1.5405,  34.7432,2,  34.7443,2,    200.7,2,   200.3,2,   96.43,2,   30.45,2,    2.06,2,-999.000,9,-999.000,9,-999.000,9,  -999.0,9,  -999.0,9,   1.4024
09AR20041223,       I09S,      36,          1,          4,        104,2,20050105,       1054,   -50.4863,   115.0275,       2980,  2302.1,   1.3524,  34.7358,2,  34.7365,2,    203.0,2,   203.4,2,  103.56,2,   31.04,2,    2.09,2,-999.000,9,-999.000,9,-999.000,9,  -999.0,9,  -999.0,9,   1.2008
09AR20041223,       I09S,      36,          1,          3,        103,2,20050105,       1054,   -50.4863,   115.0275,       2980,  2602.0,   1.0628,  34.7214,2,  34.7217,2,    206.6,2,   206.5,2,  111.47,2,   31.23,2,    2.13,2,-999.000,9,-999.000,9,-999.000,9,  -999.0,9,  -999.0,9,   0.8910
09AR20041223,       I09S,      36,          1,          2,        102,2,20050105,       1054,   -50.4863,   115.0275,       2980,  2899.7,   0.7755,  34.7074,2,  34.7082,2,    211.4,2,   210.7,2,  121.72,2,   31.82,2,    2.18,2,-999.000,9,-999.000,9,-999.000,9,  -999.0,9,  -999.0,9,   0.5835
09AR20041223,       I09S,      36,          1,          1,        101,2,20050105,       1054,   -50.4863,   115.0275,       2980,  3049.4,   0.6275,  34.7003,2,  34.6964,2,    214.3,2,   213.6,2,  125.13,2,   32.21,2,    2.20,2,-999.000,9,-999.000,9,-999.000,9,  -999.0,9,  -999.0,9,   0.4255
09AR20041223,       I09S,      37,          1,         24,         24,2,20050105,       1722,   -51.0022,   115.0077,       3977,    12.6,   4.4308,  33.9004,2,  33.9020,2,    318.6,2,   320.2,2,    2.25,2,   24.71,2,    1.51,2,   4.862,2,   2.516,2,   0.430,2,  2132.0,6,  2284.4,6,   4.4299
09AR20041223,       I09S,      37,          1,         23,         23,2,20050105,       1722,   -51.0022,   115.0077,       3977,    50.6,   4.2848,  33.9030,2,  33.9053,2,    319.1,2,   319.8,2,    2.34,2,   24.32,2,    1.53,2,   4.891,2,   2.526,2,   0.425,2,  2131.4,2,  2282.9,2,   4.2813
09AR20041223,       I09S,      37,          1,         22,         22,2,20050105,       1722,   -51.0022,   115.0077,       3977,    85.7,   2.9486,  33.9351,2,  33.9362,2,    323.3,2,   326.2,2,    6.15,2,   25.00,2,    1.68,2,   5.159,2,   2.641,2,   0.452,2,  2144.6,2,  2286.1,2,   2.9435
09AR20041223,       I09S,      37,          1,         21,         21,2,20050105,       1722,   -51.0022,   115.0077,       3977,   141.1,   1.8919,  33.9718,2,  33.9743,2,    324.6,2,   326.5,2,   17.87,2,   26.56,2,    1.80,2,   5.224,2,   2.692,2,   0.479,2,  2157.2,2,  2287.3,2,   1.8847
09AR20041223,       I09S,      37,          1,         20,         20,2,20050105,       1722,   -51.0022,   115.0077,       3977,   200.5,   1.3159,  34.0300,2,  34.0318,2,    311.6,2,   310.2,2,   29.39,2,   29.30,2,    1.92,2,   4.978,2,   2.537,2,   0.452,2,  2173.3,2,  2289.1,2,   1.3065
09AR20041223,       I09S,      37,          1,         19,         19,2,20050105,       1722,   -51.0022,   115.0077,       3977,   304.4,   2.0209,  34.2245,2,  34.2217,2,    255.1,2,   242.1,3,   44.82,2,   32.61,2,    2.15,2,   3.113,2,   1.571,2,   0.278,2,  2208.6,2,  2304.2,2,   2.0045
09AR20041223,       I09S,      37,          1,         18,         18,2,20050105,       1722,   -51.0022,   115.0077,       3977,   401.2,   2.2843,  34.3701,2,  34.3713,2,    203.1,2,   200.7,2,   57.41,2,   33.88,2,    2.26,2,   1.801,2,   0.899,2,   0.142,2,  2232.5,2,  2315.2,2,   2.2614
09AR20041223,       I09S,      37,          1,         17,          6,2,20050105,       1722,   -51.0022,   115.0077,       3977,   499.4,   2.2757,  34.4518,2,  34.4521,2,    187.3,2,   187.5,2,   64.63,2,   34.66,2,    2.28,2,   1.266,2,   0.628,2,   0.121,2,  2241.3,2,  2322.1,2,   2.2467
09AR20041223,       I09S,      37,          1,         16,         16,2,20050105,       1722,   -51.0022,   115.0077,       3977,   601.7,   2.4230,  34.5459,2,  34.5462,2,    177.9,2,   177.9,2,   69.41,2,   33.87,2,    2.25,2,   0.654,2,   0.328,2,   0.068,2,  2249.5,2,  2335.4,2,   2.3868
09AR20041223,       I09S,      37,          1,         15,         15,2,20050105,       1722,   -51.0022,   115.0077,       3977,   700.7,   2.3148,  34.5863,2,  34.5866,2,    175.7,2,   176.7,2,   72.43,2,   33.77,2,    2.25,2,   0.552,2,   0.273,2,   0.058,2,  2251.2,2,  2331.9,2,   2.2726
09AR20041223,       I09S,      37,          1,         14,         14,2,20050105,       1722,   -51.0022,   115.0077,       3977,   848.8,   2.2687,  34.6491,2,  34.6499,2,    177.0,2,   178.1,2,   75.75,2,   32.60,2,    2.20,2,   0.335,2,   0.178,2,   0.039,2,  2250.0,2,  2337.6,2,   2.2168
09AR20041223,       I09S,      37,          1,         13,         13,2,20050105,       1722,   -51.0022,   115.0077,       3977,  1003.5,   2.1697,  34.6878,2,  34.6886,2,    181.0,2,   181.3,2,   78.38,2,   32.02,2,    2.15,2,   0.337,3,   0.139,2,   0.031,2,  2251.2,2,  2340.2,2,   2.1078
09AR20041223,       I09S,      37,          1,         12,         12,2,20050105,       1722,   -51.0022,   115.0077,       3977,  1201.5,   2.1161,  34.7288,2,  34.7290,2,    188.5,2,   189.3,2,   79.35,2,   30.75,2,    2.08,2,   0.145,2,   0.069,2,   0.027,2,  2246.5,6,  2342.7,6,   2.0404
09AR20041223,       I09S,      37,          1,         11,         11,2,20050105,       1722,   -51.0022,   115.0077,       3977,  1403.0,   1.9543,  34.7457,2,  34.7465,2,    193.8,2,   194.8,2,   82.96,2,   30.16,2,    2.04,2,   0.117,2,   0.055,2,   0.008,2,  2245.2,2,  2347.6,2,   1.8654
09AR20041223,       I09S,      37,          1,         10,         10,2,20050105,       1722,   -51.0022,   115.0077,       3977,  1604.0,   1.8039,  34.7506,2,  34.7514,2,    197.4,2,   197.9,2,   91.65,3,   30.16,2,    2.04,2,   0.176,4,   0.049,2,   0.023,2,  2247.0,2,  2351.9,2,   1.7016
09AR20041223,       I09S,      37,          1,          9,          9,2,20050105,       1722,   -51.0022,   115.0077,       3977,  1800.6,   1.6047,  34.7466,2,  34.7467,2,    200.3,2,   201.0,2,   91.94,2,   30.26,2,    2.05,2,   0.098,2,   0.050,2,   0.017,2,  2247.3,2,  2358.3,2,   1.4898
09AR20041223,       I09S,      37,          1,          8,        108,2,20050105,       1722,   -51.0022,   115.0077,       3977,  1998.9,   1.4138,  34.7399,2,  34.7400,2,    203.0,2,   202.8,2,   97.21,2,   30.65,2,    2.08,2,   0.099,2,   0.052,2,   0.012,2,  2250.9,2,  2354.8,2,   1.2860
09AR20041223,       I09S,      37,          1,          7,        107,2,20050105,       1722,   -51.0022,   115.0077,       3977,  2301.2,   1.1493,  34.7275,2,  34.7272,2,    205.4,2,   204.9,2,  108.24,2,   31.04,2,    2.12,2,   0.104,2,   0.051,2,   0.007,2,  2254.9,2,  2357.7,2,   1.0013
09AR20041223,       I09S,      37,          1,          6,        117,2,20050105,       1722,   -51.0022,   115.0077,       3977,  2596.0,   0.9155,  34.7154,2,  34.7153,2,    209.1,2,   208.4,2,  112.74,2,   31.62,2,    2.16,2,   0.149,2,   0.064,2,   0.009,2,  2254.2,2,  2363.6,2,   0.7471
09AR20041223,       I09S,      37,          1,          5,        105,2,20050105,       1722,   -51.0022,   115.0077,       3977,  2899.1,   0.6524,  34.7024,2,  34.7021,2,    213.4,2,   212.8,2,  120.64,2,   31.92,2,    2.20,2,   0.256,2,   0.123,2,   0.007,2,  2258.8,2,  2357.4,2,   0.4632
09AR20041223,       I09S,      37,          1,          4,        104,2,20050105,       1722,   -51.0022,   115.0077,       3977,  3201.2,   0.4619,  34.6936,2,  34.6935,2,    218.1,2,   217.6,2,  126.60,2,   32.21,2,    2.22,2,   0.395,2,   0.175,2,   0.022,2,  2259.6,2,  2358.2,2,   0.2499
09AR20041223,       I09S,      37,          1,          3,        103,2,20050105,       1722,   -51.0022,   115.0077,       3977,  3499.2,   0.3592,  34.6882,2,  34.6872,2,    221.0,2,   220.4,2,  128.26,2,   32.11,2,    2.22,2,   0.453,2,   0.222,2,   0.033,2,  2259.2,2,  2356.3,2,   0.1220
09AR20041223,       I09S,      37,          1,          2,        102,2,20050105,       1722,   -51.0022,   115.0077,       3977,  3801.0,   0.3552,  34.6868,2,  34.6862,2,    221.7,2,   221.1,2,  129.33,2,   32.41,2,    2.23,2,   0.482,2,   0.229,6,   0.030,6,  2260.0,2,  2357.0,2,   0.0888
09AR20041223,       I09S,      37,          1,          1,        101,2,20050105,       1722,   -51.0022,   115.0077,       3977,  4027.5,   0.3661,  34.6862,2,  34.6856,2,    221.9,2,   220.7,2,  129.82,2,   32.02,2,    2.23,2,   0.485,2,   0.237,2,   0.024,2,  2260.1,6,  2358.6,6,   0.0765