BOTTLE,20220105CCHSIOENA
EXPOCODE,SECT_ID,STNNBR,CASTNO,SAMPNO,BTLNBR,BTLNBR_FLAG_W,DATE,TIME,LATITUDE,LONGITUDE,DEPTH,CTDPRS,CTDTMP,CTDSAL,CTDSAL_FLAG_W,SALNTY,SALNTY_FLAG_W,CTDOXY,CTDOXY_FLAG_W,OXYGEN,OXYGEN_FLAG_W,SILCAT,SILCAT_FLAG_W,NITRAT,NITRAT_FLAG_W,PHSPHT,PHSPHT_FLAG_W,CFC-11,CFC-11_FLAG_W,CFC-12,CFC-12_FLAG_W,CFC113,CFC113_FLAG_W,TCARBN,TCARBN_FLAG_W,ALKALI,ALKALI_FLAG_W,THETA
,,,,,,,,,,,METERS,DBAR,ITS-90,PSS-78,,PSS-78,,UMOL/KG,,UMOL/KG,,UMOL/KG,,UMOL/KG,,UMOL/KG,,PMOL/KG,,PMOL/KG,,PMOL/KG,,UMOL/KG,,UMOL/KG,,DEG C
09AR20041223,       I09S,      82,          1,         24,         24,2,20050125,       1051,   -56.1862,    86.4490,       4742,    10.7,   2.5750,  33.9165,2,  33.9172,2,   -999.0,9,   327.1,2,   16.80,2,   24.22,2,    1.73,2,   5.238,2,   2.697,2,   0.462,2,  2145.0,2,  2288.3,6,   2.5744
09AR20041223,       I09S,      82,          1,         23,         23,2,20050125,       1051,   -56.1862,    86.4490,       4742,    51.0,   2.3937,  33.9141,2,  33.9158,2,    325.9,2,   326.8,2,   18.56,2,   24.81,2,    1.65,2,   5.271,2,   2.711,2,   0.458,2,  2148.0,2,  2290.4,2,   2.3909
09AR20041223,       I09S,      82,          1,         22,         22,2,20050125,       1051,   -56.1862,    86.4490,       4742,    76.8,   1.3220,  33.9262,2,  33.9291,2,    326.2,2,   326.9,2,   35.06,2,   29.30,2,    2.00,2,   5.456,2,   2.801,2,   0.439,2,  2164.7,2,  2292.0,2,   1.3185
09AR20041223,       I09S,      82,          1,         21,         21,2,20050125,       1051,   -56.1862,    86.4490,       4742,   101.4,   1.6815,  34.0605,2,  34.0481,2,    274.1,2,   291.5,3,   35.06,2,   29.20,2,    2.00,2,   4.626,2,   2.357,2,   0.370,2,  2182.8,2,  2292.8,2,   1.6765
09AR20041223,       I09S,      82,          1,         20,         20,2,20050125,       1051,   -56.1862,    86.4490,       4742,   200.6,   1.7396,  34.2269,2,  34.2277,2,    242.0,2,   241.2,2,   49.50,2,   31.93,2,    2.18,2,   3.138,2,   1.559,2,   0.257,2,  2212.5,2,  2301.8,2,   1.7294
09AR20041223,       I09S,      82,          1,         19,         19,2,20050125,       1051,   -56.1862,    86.4490,       4742,   301.0,   1.7217,  34.3276,2,  34.3266,2,    220.4,2,   220.8,2,   58.58,2,   32.71,2,    2.25,2,   2.433,6,   1.203,6,   0.188,6,  2226.2,2,  2313.4,2,   1.7062
09AR20041223,       I09S,      82,          1,         18,         18,2,20050125,       1051,   -56.1862,    86.4490,       4742,   400.0,   2.2682,  34.4908,2,  34.4905,2,    185.9,2,   182.4,2,   69.80,2,   33.48,2,    2.29,2,   1.032,2,   0.505,2,   0.078,2,  2247.4,2,  2327.8,2,   2.2453
09AR20041223,       I09S,      82,          1,         17,          6,2,20050125,       1051,   -56.1862,    86.4490,       4742,   501.6,   2.3281,  34.5763,2,  34.5770,2,    177.2,2,   177.7,2,   73.80,2,   32.80,2,    2.25,2,   0.584,2,   0.288,2,   0.031,2,  -999.0,9,  -999.0,9,   2.2987
09AR20041223,       I09S,      82,          1,         16,        116,2,20050125,       1051,   -56.1862,    86.4490,       4742,   752.7,   2.1660,  34.6782,2,  34.6784,2,    179.5,2,   180.9,2,   80.33,2,   31.53,2,    2.18,2,   0.302,2,   0.146,2,   0.021,2,  2250.7,2,  2339.7,2,   2.1211
09AR20041223,       I09S,      82,          1,         15,         15,2,20050125,       1051,   -56.1862,    86.4490,       4742,  1001.6,   2.0288,  34.7282,2,  34.7286,2,    186.7,2,   188.1,2,   83.94,2,   30.35,2,    2.09,2,   0.167,2,   0.084,2,   0.006,2,  2246.4,2,  2348.0,2,   1.9680
09AR20041223,       I09S,      82,          1,         14,         14,2,20050125,       1051,   -56.1862,    86.4490,       4742,  1201.2,   1.8748,  34.7447,2,  34.7441,2,    192.8,2,   194.4,2,   87.45,2,   29.67,2,    2.08,2,   0.146,2,   0.065,2,   0.003,2,  2246.0,2,  2347.6,2,   1.8014
09AR20041223,       I09S,      82,          1,         13,         13,2,20050125,       1051,   -56.1862,    86.4490,       4742,  1402.3,   1.6950,  34.7466,2,  34.7465,2,    197.7,2,   198.1,2,   92.04,2,   29.67,2,    2.07,2,-999.000,5,-999.000,5,-999.000,5,  2247.8,2,  2365.1,3,   1.6090
09AR20041223,       I09S,      82,          1,         12,         12,2,20050125,       1051,   -56.1862,    86.4490,       4742,  1602.0,   1.5072,  34.7432,2,  34.7431,2,    200.5,2,   200.5,2,   96.43,2,   29.87,2,    2.08,2,   0.120,2,   0.058,2,   0.002,2,  2249.4,6,  2352.4,6,   1.4087
09AR20041223,       I09S,      82,          1,         11,         11,2,20050125,       1051,   -56.1862,    86.4490,       4742,  1801.1,   1.3054,  34.7355,2,  34.7472,4,    202.8,2,   202.9,2,  102.19,2,   29.96,2,    2.09,2,   0.124,2,   0.057,2,   0.000,2,  2252.3,2,  2357.8,2,   1.1946
09AR20041223,       I09S,      82,          1,         10,         10,2,20050125,       1051,   -56.1862,    86.4490,       4742,  2100.6,   1.0585,  34.7227,2,  34.7227,2,    205.9,2,   204.9,2,  109.51,2,   30.94,2,    2.14,2,   0.144,2,   0.066,2,   0.006,2,  2255.8,2,  2354.5,2,   0.9283
09AR20041223,       I09S,      82,          1,          9,          9,2,20050125,       1051,   -56.1862,    86.4490,       4742,  2403.3,   0.8246,  34.7097,2,  34.7098,2,    208.4,2,   208.0,2,  116.44,2,   30.94,2,    2.18,2,   0.162,6,   0.080,6,   0.009,6,  2256.6,2,  2356.9,2,   0.6741
09AR20041223,       I09S,      82,          1,          8,        208,2,20050125,       1051,   -56.1862,    86.4490,       4742,  2698.8,   0.6303,  34.6993,2,  34.6990,2,    211.4,2,   211.3,2,  121.72,2,   31.23,2,    2.21,2,   0.198,2,   0.093,2,   0.003,2,  2257.9,2,  2355.5,2,   0.4589
09AR20041223,       I09S,      82,          1,          7,        107,2,20050125,       1051,   -56.1862,    86.4490,       4742,  3002.4,   0.4584,  34.6909,2,-999.0000,9,    215.0,2,  -999.0,9, -999.00,9, -999.00,9, -999.00,9,-999.000,9,-999.000,9,-999.000,9,  -999.0,9,  -999.0,9,   0.2644
09AR20041223,       I09S,      82,          1,          6,        117,2,20050125,       1051,   -56.1862,    86.4490,       4742,  3301.5,   0.3175,  34.6842,2,  34.6835,2,    218.6,2,   218.8,2,  127.38,2,   31.53,2,    2.24,2,   0.407,2,   0.199,2,   0.033,2,  2258.3,2,  2355.7,2,   0.0999
09AR20041223,       I09S,      82,          1,          5,        105,2,20050125,       1051,   -56.1862,    86.4490,       4742,  3600.5,   0.2162,  34.6799,2,  34.6796,2,    222.0,2,   222.6,2,  128.45,2,   31.72,2,    2.25,2,   0.546,2,   0.262,2,   0.026,2,  2258.2,2,  2354.6,2,  -0.0269
09AR20041223,       I09S,      82,          1,          4,        104,2,20050125,       1051,   -56.1862,    86.4490,       4742,  3900.1,   0.1578,  34.6770,2,  34.6772,2,    224.8,2,   225.1,2,  129.24,2,   31.33,2,    2.23,2,   0.674,2,   0.321,2,   0.039,2,  2257.3,2,  2357.0,2,  -0.1129
09AR20041223,       I09S,      82,          1,          3,        103,2,20050125,       1051,   -56.1862,    86.4490,       4742,  4201.2,   0.1158,  34.6751,2,  34.6740,2,    227.5,2,   227.7,2,  129.92,2,   31.24,2,    2.24,2,   0.809,2,   0.383,2,   0.070,2,  2256.1,2,  2353.7,2,  -0.1842
09AR20041223,       I09S,      82,          1,          2,        102,2,20050125,       1051,   -56.1862,    86.4490,       4742,  4501.8,   0.0813,  34.6727,2,  34.6725,2,    230.2,2,   230.1,2,  130.80,2,   31.33,2,    2.23,2,   0.948,6,   0.439,6,   0.052,6,  2258.3,2,  2352.8,2,  -0.2493
09AR20041223,       I09S,      82,          1,          1,        101,2,20050125,       1051,   -56.1862,    86.4490,       4742,  4816.0,   0.0550,  34.6698,2,  34.6699,2,    232.8,2,   234.3,2,  132.65,2,   31.43,2,    2.24,2,   1.113,2,   0.520,2,   0.076,2,  2258.0,6,  2353.5,3,  -0.3091
09AR20041223,       I09S,      83,          1,         24,         24,2,20050125,       2210,   -55.3572,    87.8768,       4495,    17.2,   2.9423,  33.9352,2,  33.9368,2,    324.9,2,   323.1,2,    9.96,2,   24.22,2,    1.57,2,   5.151,2,   2.605,2,   0.463,2,  2144.2,6,  2288.4,3,   2.9413
09AR20041223,       I09S,      83,          1,         23,         23,2,20050125,       2210,   -55.3572,    87.8768,       4495,    52.7,   2.6227,  33.9244,2,  33.9270,2,    325.1,2,   325.4,2,   13.38,2,   24.61,2,    1.60,2,   5.273,2,   2.658,2,   0.472,2,  2149.0,2,  2288.5,2,   2.6197
09AR20041223,       I09S,      83,          1,         22,         22,2,20050125,       2210,   -55.3572,    87.8768,       4495,   101.8,   1.1002,  33.9460,2,  33.9469,2,    324.6,2,   331.1,2,   30.67,2,   26.76,2,    1.82,2,   5.610,2,   2.839,2,   0.470,2,  2166.1,2,  2294.8,3,   1.0957
09AR20041223,       I09S,      83,          1,         21,         21,2,20050125,       2210,   -55.3572,    87.8768,       4495,   151.9,   0.0938,  34.0637,2,  34.0643,2,    305.9,2,   306.4,2,   45.02,2,   30.17,2,    2.05,2,   5.015,2,   2.505,2,   0.429,2,  2194.6,2,  2297.6,2,   0.0883
09AR20041223,       I09S,      83,          1,         20,         20,2,20050125,       2210,   -55.3572,    87.8768,       4495,   201.1,   0.9476,  34.2567,2,  34.2581,2,    262.6,2,   249.3,2,   57.22,2,   32.81,2,    2.21,2,   3.346,2,   1.638,2,   0.275,2,  2221.9,2,  2309.0,2,   0.9387
09AR20041223,       I09S,      83,          1,         19,         19,2,20050125,       2210,   -55.3572,    87.8768,       4495,   300.8,   1.8480,  34.4537,2,  34.4534,2,    194.4,2,   196.1,2,   69.51,2,   34.17,2,    2.30,2,   1.565,6,   0.758,6,   0.133,6,  2244.8,2,  2322.2,2,   1.8321
09AR20041223,       I09S,      83,          1,         18,         18,2,20050125,       2210,   -55.3572,    87.8768,       4495,   401.1,   2.0460,  34.5591,2,  34.5591,2,    182.7,2,   178.4,2,   77.80,2,   34.17,2,    2.33,2,   0.846,2,   0.414,2,   0.072,2,  2253.9,2,  2330.6,2,   2.0237
09AR20041223,       I09S,      83,          1,         17,          6,2,20050125,       2210,   -55.3572,    87.8768,       4495,   503.0,   2.2114,  34.6302,2,  34.6299,2,    176.5,2,   177.3,2,   78.38,2,   32.99,2,    2.25,2,   0.434,2,   0.213,2,   0.028,2,  -999.0,9,  -999.0,9,   2.1823
09AR20041223,       I09S,      83,          1,         16,        116,2,20050125,       2210,   -55.3572,    87.8768,       4495,   650.7,   2.1030,  34.6711,2,  34.6693,2,    180.4,2,   180.9,2,   80.92,2,   32.21,2,    2.19,2,   0.355,2,   0.174,2,   0.034,2,  2250.7,2,  2361.6,3,   2.0651
09AR20041223,       I09S,      83,          1,         15,         15,2,20050125,       2210,   -55.3572,    87.8768,       4495,   802.9,   2.0316,  34.7116,2,  34.7109,2,    184.6,2,   185.6,2,   83.26,2,   31.33,2,    2.15,2,   0.292,4,   0.115,2,   0.016,2,  2250.7,2,  2341.7,2,   1.9842
09AR20041223,       I09S,      83,          1,         14,         14,2,20050125,       2210,   -55.3572,    87.8768,       4495,   950.5,   1.9699,  34.7319,2,  34.7319,2,    189.8,2,   190.1,2,   84.92,2,   30.55,2,    2.09,2,   0.165,2,   0.086,2,   0.010,2,  2248.9,2,  2343.4,2,   1.9131
09AR20041223,       I09S,      83,          1,         13,         13,2,20050125,       2210,   -55.3572,    87.8768,       4495,  1100.3,   1.8907,  34.7458,2,  34.7459,2,    194.6,2,   195.1,2,   86.57,2,   30.06,2,    2.06,2,   0.105,2,   0.058,2,   0.000,2,  2249.1,2,  2345.9,2,   1.8242
09AR20041223,       I09S,      83,          1,         12,         12,2,20050125,       2210,   -55.3572,    87.8768,       4495,  1301.7,   1.7384,  34.7490,2,  34.7496,2,    198.3,2,   198.6,2,   90.09,2,   29.96,2,    2.06,2,   0.092,2,   0.042,2,   0.004,2,  2246.7,6,  2349.6,6,   1.6592
09AR20041223,       I09S,      83,          1,         11,         11,2,20050125,       2210,   -55.3572,    87.8768,       4495,  1501.3,   1.5504,  34.7439,2,  34.7447,2,    200.5,2,   200.2,2,   94.87,2,   30.06,2,    2.09,2,   0.166,2,   0.056,2,   0.009,2,  2247.0,2,  2350.5,2,   1.4588
09AR20041223,       I09S,      83,          1,         10,         10,2,20050125,       2210,   -55.3572,    87.8768,       4495,  1749.7,   1.3361,  34.7378,2,  34.7382,2,    203.6,2,   203.6,2,  101.70,2,   30.55,2,    2.11,2,   0.097,2,   0.049,2,   0.010,2,  2252.9,2,  2352.0,2,   1.2288
09AR20041223,       I09S,      83,          1,          9,          9,2,20050125,       2210,   -55.3572,    87.8768,       4495,  2000.3,   1.1554,  34.7283,2,  34.7290,2,    205.5,2,   205.2,2,  107.07,2,   31.14,2,    2.14,2,   0.119,6,   0.061,6,   0.007,6,  2255.2,2,  2354.2,2,   1.0315
09AR20041223,       I09S,      83,          1,          8,        208,2,20050125,       2210,   -55.3572,    87.8768,       4495,  2304.4,   0.9538,  34.7175,2,  34.7174,2,    207.3,2,   207.6,2,  113.42,2,   31.23,2,    2.17,2,   0.135,2,   0.069,2,   0.009,2,  2257.1,2,  2354.9,2,   0.8090
09AR20041223,       I09S,      83,          1,          7,        107,2,20050125,       2210,   -55.3572,    87.8768,       4495,  2605.5,   0.7285,  34.7049,2,  34.7047,2,    210.0,2,   209.9,2,  119.57,2,   31.53,2,    2.20,2,   0.184,2,   0.096,2,   0.004,2,  -999.0,9,  -999.0,9,   0.5630
09AR20041223,       I09S,      83,          1,          6,        117,2,20050125,       2210,   -55.3572,    87.8768,       4495,  3000.1,   0.4815,  34.6927,2,  34.6929,2,    215.2,2,   214.8,2,  125.13,2,   32.11,2,    2.24,2,   0.319,2,   0.157,2,   0.010,2,  2258.8,2,  2355.8,2,   0.2872
09AR20041223,       I09S,      83,          1,          5,        105,2,20050125,       2210,   -55.3572,    87.8768,       4495,  3402.0,   0.2933,  34.6837,2,  34.6835,2,    220.1,2,   221.1,2,  127.87,2,   32.11,2,    2.25,2,   0.470,2,   0.224,2,   0.033,2,  2258.7,2,  2355.9,2,   0.0669
09AR20041223,       I09S,      83,          1,          4,        104,2,20050125,       2210,   -55.3572,    87.8768,       4495,  3703.1,   0.2163,  34.6805,2,  34.6801,2,    223.4,2,   223.3,2,  129.43,2,   32.02,2,    2.24,2,   0.611,2,   0.296,2,   0.030,2,  2260.0,2,  2354.0,2,  -0.0367
09AR20041223,       I09S,      83,          1,          3,        103,2,20050125,       2210,   -55.3572,    87.8768,       4495,  4004.1,   0.1676,  34.6778,2,  34.6770,2,    225.7,2,   225.7,2,  130.60,2,   32.02,2,    2.24,2,   0.723,2,   0.356,2,   0.051,2,  2256.9,2,  2359.2,2,  -0.1138
09AR20041223,       I09S,      83,          1,          2,        102,2,20050125,       2210,   -55.3572,    87.8768,       4495,  4302.0,   0.1300,  34.6753,2,  34.6760,2,    227.9,2,   228.0,2,  131.68,2,   32.02,2,    2.25,2,   0.853,6,   0.409,6,   0.063,6,  2258.7,2,  2355.6,2,  -0.1810
09AR20041223,       I09S,      83,          1,          1,        101,2,20050125,       2210,   -55.3572,    87.8768,       4495,  4568.6,   0.1047,  34.6732,2,  34.6735,2,    229.7,2,   229.3,2,  131.87,2,   31.92,2,    2.24,2,   0.947,2,   0.452,2,   0.075,2,  2258.8,6,  2355.9,6,  -0.2339