BOTTLE,20220105CCHSIOENA
EXPOCODE,SECT_ID,STNNBR,CASTNO,SAMPNO,BTLNBR,BTLNBR_FLAG_W,DATE,TIME,LATITUDE,LONGITUDE,DEPTH,CTDPRS,CTDTMP,CTDSAL,CTDSAL_FLAG_W,SALNTY,SALNTY_FLAG_W,CTDOXY,CTDOXY_FLAG_W,OXYGEN,OXYGEN_FLAG_W,SILCAT,SILCAT_FLAG_W,NITRAT,NITRAT_FLAG_W,PHSPHT,PHSPHT_FLAG_W,CFC-11,CFC-11_FLAG_W,CFC-12,CFC-12_FLAG_W,CFC113,CFC113_FLAG_W,TCARBN,TCARBN_FLAG_W,ALKALI,ALKALI_FLAG_W,THETA
,,,,,,,,,,,METERS,DBAR,ITS-90,PSS-78,,PSS-78,,UMOL/KG,,UMOL/KG,,UMOL/KG,,UMOL/KG,,UMOL/KG,,PMOL/KG,,PMOL/KG,,PMOL/KG,,UMOL/KG,,UMOL/KG,,DEG C
09AR20041223,       I09S,      32,          1,         24,         24,2,20050104,       0645,   -48.4753,   115.0292,       3948,    20.8,   8.4295,  34.1523,2,  34.1522,2,    293.0,2,   289.2,2,    1.37,2,   15.92,2,    1.15,2,-999.000,9,-999.000,9,-999.000,9,  -999.0,9,  -999.0,9,   8.4274
09AR20041223,       I09S,      32,          1,         23,         23,2,20050104,       0645,   -48.4753,   115.0292,       3948,    21.0,   8.4297,  34.1522,2,-999.0000,9,    293.1,2,  -999.0,9, -999.00,9, -999.00,9, -999.00,9,-999.000,9,-999.000,9,-999.000,9,  -999.0,9,  -999.0,9,   8.4276
09AR20041223,       I09S,      32,          1,         22,         22,2,20050104,       0645,   -48.4753,   115.0292,       3948,    20.9,   8.4297,  34.1522,2,-999.0000,9,    293.0,2,  -999.0,9, -999.00,9, -999.00,9, -999.00,9,-999.000,9,-999.000,9,-999.000,9,  -999.0,9,  -999.0,9,   8.4276
09AR20041223,       I09S,      32,          1,         21,         21,2,20050104,       0645,   -48.4753,   115.0292,       3948,    86.6,   7.7520,  34.1858,2,  34.1917,2,    294.8,2,   289.4,2,    1.86,2,   16.31,2,    1.21,2,-999.000,9,-999.000,9,-999.000,9,  -999.0,9,  -999.0,9,   7.7436
09AR20041223,       I09S,      32,          1,         20,         20,2,20050104,       0645,   -48.4753,   115.0292,       3948,   101.5,   7.4749,  34.2469,2,  34.2446,2,    289.2,2,   285.4,2,    3.32,2,   16.70,2,    1.27,2,-999.000,9,-999.000,9,-999.000,9,  -999.0,9,  -999.0,9,   7.4652
09AR20041223,       I09S,      32,          1,         19,         19,2,20050104,       0645,   -48.4753,   115.0292,       3948,   201.4,   7.0455,  34.2897,2,  34.2898,2,    263.7,2,   270.3,2,    7.13,2,   19.72,2,    1.38,2,-999.000,9,-999.000,9,-999.000,9,  -999.0,9,  -999.0,9,   7.0268
09AR20041223,       I09S,      32,          1,         18,         18,2,20050104,       0645,   -48.4753,   115.0292,       3948,   301.5,   6.0356,  34.2126,2,  34.2111,2,    275.2,2,   274.6,2,    9.76,2,   21.58,2,    1.47,2,-999.000,9,-999.000,9,-999.000,9,  -999.0,9,  -999.0,9,   6.0097
09AR20041223,       I09S,      32,          1,         17,          6,2,20050104,       0645,   -48.4753,   115.0292,       3948,   399.0,   5.8454,  34.2888,2,  34.2888,2,    242.6,2,   240.2,2,   15.33,2,   24.70,2,    1.67,2,-999.000,9,-999.000,9,-999.000,9,  -999.0,9,  -999.0,9,   5.8114
09AR20041223,       I09S,      32,          1,         16,         16,2,20050104,       0645,   -48.4753,   115.0292,       3948,   501.5,   5.2210,  34.3014,2,  34.3012,2,    226.9,2,   226.8,2,   20.50,2,   27.05,2,    1.83,2,-999.000,9,-999.000,9,-999.000,9,  -999.0,9,  -999.0,9,   5.1803
09AR20041223,       I09S,      32,          1,         15,         15,2,20050104,       0645,   -48.4753,   115.0292,       3948,   600.1,   4.6645,  34.3116,2,  34.3120,2,    219.1,2,   219.6,2,   25.87,2,   28.61,2,    1.93,2,-999.000,9,-999.000,9,-999.000,9,  -999.0,9,  -999.0,9,   4.6180
09AR20041223,       I09S,      32,          1,         14,         14,2,20050104,       0645,   -48.4753,   115.0292,       3948,   704.0,   3.8013,  34.2748,2,  34.2765,2,    222.3,2,   222.0,2,   31.93,2,   30.27,2,    2.04,2,-999.000,9,-999.000,9,-999.000,9,  -999.0,9,  -999.0,9,   3.7510
09AR20041223,       I09S,      32,          1,         13,         13,2,20050104,       0645,   -48.4753,   115.0292,       3948,   799.6,   3.5135,  34.3054,2,  34.3049,2,    211.5,2,   213.1,2,   37.98,2,   31.54,2,    2.13,2,-999.000,9,-999.000,9,-999.000,9,  -999.0,9,  -999.0,9,   3.4575
09AR20041223,       I09S,      32,          1,         12,         12,2,20050104,       0645,   -48.4753,   115.0292,       3948,  1001.6,   3.1067,  34.4200,2,  34.4197,2,    188.1,2,   187.0,2,   53.79,2,   33.00,2,    2.26,2,-999.000,9,-999.000,9,-999.000,9,  -999.0,9,  -999.0,9,   3.0380
09AR20041223,       I09S,      32,          1,         11,         11,2,20050104,       0645,   -48.4753,   115.0292,       3948,  1200.8,   2.8179,  34.5079,2,  34.5073,2,    178.3,2,   177.0,2,   64.72,2,   33.48,2,    2.27,2,-999.000,9,-999.000,9,-999.000,9,  -999.0,9,  -999.0,9,   2.7362
09AR20041223,       I09S,      32,          1,         10,         10,2,20050104,       0645,   -48.4753,   115.0292,       3948,  1400.1,   2.5728,  34.5960,2,  34.5954,2,    175.9,2,   175.2,2,   71.16,2,   32.90,2,    2.25,2,-999.000,9,-999.000,9,-999.000,9,  -999.0,9,  -999.0,9,   2.4778
09AR20041223,       I09S,      32,          1,          9,          9,2,20050104,       0645,   -48.4753,   115.0292,       3948,  1603.5,   2.4845,  34.6578,2,  34.6576,2,    178.4,2,   178.5,2,   73.99,2,   32.11,2,    2.19,2,-999.000,9,-999.000,9,-999.000,9,  -999.0,9,  -999.0,9,   2.3740
09AR20041223,       I09S,      32,          1,          8,        108,2,20050104,       0645,   -48.4753,   115.0292,       3948,  1802.0,   2.3511,  34.7087,2,  34.7076,2,    185.2,2,   186.3,2,   75.84,2,   30.84,2,    2.11,2,-999.000,9,-999.000,9,-999.000,9,  -999.0,9,  -999.0,9,   2.2259
09AR20041223,       I09S,      32,          1,          7,        107,2,20050104,       0645,   -48.4753,   115.0292,       3948,  2004.2,   2.1988,  34.7332,2,  34.7329,2,    190.0,2,   189.8,2,   78.96,2,   30.55,2,    2.09,2,-999.000,9,-999.000,9,-999.000,9,  -999.0,9,  -999.0,9,   2.0586
09AR20041223,       I09S,      32,          1,          6,        117,2,20050104,       0645,   -48.4753,   115.0292,       3948,  2199.8,   2.0615,  34.7497,2,  34.7486,2,    194.8,2,   195.1,2,   82.38,2,   29.96,2,    2.05,2,-999.000,9,-999.000,9,-999.000,9,  -999.0,9,  -999.0,9,   1.9065
09AR20041223,       I09S,      32,          1,          5,        105,2,20050104,       0645,   -48.4753,   115.0292,       3948,  2502.6,   1.7765,  34.7509,2,  34.7508,2,    198.8,2,   198.8,2,   90.48,2,   29.96,2,    2.06,2,-999.000,9,-999.000,9,-999.000,9,  -999.0,9,  -999.0,9,   1.5997
09AR20041223,       I09S,      32,          1,          4,        104,2,20050104,       0645,   -48.4753,   115.0292,       3948,  2801.7,   1.4750,  34.7396,2,  34.7390,2,    201.2,2,   201.1,2,  102.00,2,   30.55,2,    2.12,2,-999.000,9,-999.000,9,-999.000,9,  -999.0,9,  -999.0,9,   1.2770
09AR20041223,       I09S,      32,          1,          3,        103,2,20050104,       0645,   -48.4753,   115.0292,       3948,  3201.4,   1.2023,  34.7266,2,  34.7259,2,    204.7,2,   204.4,2,  111.27,2,   31.04,2,    2.15,2,-999.000,9,-999.000,9,-999.000,9,  -999.0,9,  -999.0,9,   0.9727
09AR20041223,       I09S,      32,          1,          2,        102,2,20050104,       0645,   -48.4753,   115.0292,       3948,  3601.5,   1.0473,  34.7178,2,  34.7168,2,    208.2,2,   207.8,2,  115.86,2,   31.33,2,    2.18,2,-999.000,9,-999.000,9,-999.000,9,  -999.0,9,  -999.0,9,   0.7822
09AR20041223,       I09S,      32,          1,          1,        101,2,20050104,       0645,   -48.4753,   115.0292,       3948,  4019.5,   1.0434,  34.7155,2,  34.7149,2,    210.7,2,   210.4,2,  117.13,2,   31.33,2,    2.19,2,-999.000,9,-999.000,9,-999.000,9,  -999.0,9,  -999.0,9,   0.7351
09AR20041223,       I09S,      33,          1,         24,         24,2,20050104,       1352,   -48.9998,   115.0078,       3830,    10.4,   8.2711,  34.1508,2,  34.1504,2,    290.9,2,   289.8,2,    1.56,2,   16.11,2,    1.16,2,   3.823,2,   2.034,2,   0.348,2,  2099.3,6,  2278.8,6,   8.2701
09AR20041223,       I09S,      33,          1,         23,         23,2,20050104,       1352,   -48.9998,   115.0078,       3830,    10.4,   8.2714,  34.1507,2,-999.0000,9,    290.9,2,  -999.0,9, -999.00,9, -999.00,9, -999.00,9,-999.000,9,-999.000,9,-999.000,9,  -999.0,9,  -999.0,9,   8.2704
09AR20041223,       I09S,      33,          1,         22,         22,2,20050104,       1352,   -48.9998,   115.0078,       3830,    10.3,   8.2725,  34.1505,2,-999.0000,9,    290.9,2,  -999.0,9, -999.00,9, -999.00,9, -999.00,9,-999.000,9,-999.000,9,-999.000,9,  -999.0,9,  -999.0,9,   8.2715
09AR20041223,       I09S,      33,          1,         21,         21,2,20050104,       1352,   -48.9998,   115.0078,       3830,    72.1,   8.2659,  34.1525,2,  34.1522,2,    291.2,2,   289.0,2,    1.46,2,   16.01,2,    1.17,2,   3.833,2,   2.032,2,   0.343,2,  2097.7,2,  2279.4,2,   8.2586
09AR20041223,       I09S,      33,          1,         20,         20,2,20050104,       1352,   -48.9998,   115.0078,       3830,   102.6,   7.2442,  34.1999,2,  34.1992,2,    285.7,2,   287.4,2,    3.32,2,   17.28,2,    1.30,2,   3.965,2,   2.098,2,   0.355,2,  2114.4,2,  2280.0,2,   7.2346
09AR20041223,       I09S,      33,          1,         19,         19,2,20050104,       1352,   -48.9998,   115.0078,       3830,   200.3,   6.6712,  34.2548,2,  34.2534,2,    275.8,2,   276.0,2,    8.10,2,   20.11,2,    1.39,2,   3.935,2,   2.075,2,   0.319,2,  2127.2,2,  2278.9,2,   6.6532
09AR20041223,       I09S,      33,          1,         18,         18,2,20050104,       1352,   -48.9998,   115.0078,       3830,   301.1,   6.1452,  34.2478,2,  34.2485,2,    261.9,2,   262.6,2,   11.03,2,   22.26,2,    1.51,2,   3.732,2,   1.912,2,   0.292,2,  2140.1,2,  2284.3,2,   6.1191
09AR20041223,       I09S,      33,          1,         17,          6,2,20050104,       1352,   -48.9998,   115.0078,       3830,   400.9,   5.6718,  34.2950,2,  34.2955,2,    233.3,2,   234.8,2,   16.89,2,   25.58,2,    1.71,2,   3.230,2,   1.614,2,   0.231,2,  2161.8,2,  2285.3,2,   5.6382
09AR20041223,       I09S,      33,          1,         16,         16,2,20050104,       1352,   -48.9998,   115.0078,       3830,   501.2,   4.7598,  34.2657,2,  34.2675,2,    231.1,2,   231.3,2,   21.87,2,   27.92,2,    1.86,2,   3.077,2,   1.507,2,   0.217,2,  2174.2,2,  2286.8,2,   4.7210
09AR20041223,       I09S,      33,          1,         15,         15,2,20050104,       1352,   -48.9998,   115.0078,       3830,   601.6,   4.3160,  34.2964,2,  34.2969,2,    221.1,2,   219.7,2,   29.10,2,   29.39,2,    1.98,2,   2.510,2,   1.218,2,   0.163,2,  2185.1,2,  2292.0,2,   4.2710
09AR20041223,       I09S,      33,          1,         14,         14,2,20050104,       1352,   -48.9998,   115.0078,       3830,   701.5,   3.7386,  34.3037,2,  34.3047,2,    215.5,2,   213.9,2,   36.03,2,   31.05,2,    2.07,2,   2.196,2,   1.056,2,   0.151,2,  2198.9,2,  2298.2,2,   3.6888
09AR20041223,       I09S,      33,          1,         13,         13,2,20050104,       1352,   -48.9998,   115.0078,       3830,   802.0,   3.3999,  34.3434,2,  34.3437,2,    202.7,2,   203.1,2,   43.74,2,   32.12,2,    2.16,2,   1.725,2,   0.827,2,   0.118,2,  2212.6,2,  2307.4,2,   3.3444
09AR20041223,       I09S,      33,          1,         12,         12,2,20050104,       1352,   -48.9998,   115.0078,       3830,  1001.9,   2.8819,  34.4291,2,  34.4295,2,    186.6,2,   186.7,2,   57.40,2,   33.39,2,    2.27,2,   1.111,2,   0.529,2,   0.063,2,  2231.2,2,  2315.7,2,   2.8149
09AR20041223,       I09S,      33,          1,         11,         11,2,20050104,       1352,   -48.9998,   115.0078,       3830,  1200.3,   2.7297,  34.5379,2,  34.5383,2,    175.1,2,   175.4,2,   66.48,2,   33.68,2,    2.26,2,   0.435,2,   0.214,2,   0.051,2,  2244.8,6,  2329.8,6,   2.6488
09AR20041223,       I09S,      33,          1,         10,         10,2,20050104,       1352,   -48.9998,   115.0078,       3830,  1401.8,   2.5493,  34.6170,2,  34.6166,2,    176.3,2,   175.8,2,   70.87,2,   32.60,2,    2.23,2,   0.260,2,   0.148,2,   0.015,2,  2246.2,2,  2340.4,2,   2.4543
09AR20041223,       I09S,      33,          1,          9,          9,2,20050104,       1352,   -48.9998,   115.0078,       3830,  1601.9,   2.4242,  34.6754,2,  34.6754,2,    180.6,2,   180.1,2,   73.99,2,   31.53,2,    2.16,2,   0.176,6,   0.085,6,   0.011,2,  2244.0,2,  2338.7,2,   2.3146
09AR20041223,       I09S,      33,          1,          8,        108,2,20050104,       1352,   -48.9998,   115.0078,       3830,  1802.8,   2.2983,  34.7182,2,  34.7180,2,    186.8,2,   186.4,2,   76.13,2,   30.65,2,    2.10,2,   0.097,2,   0.054,2,   0.026,2,  2245.5,2,  2341.9,2,   2.1737
09AR20041223,       I09S,      33,          1,          7,        107,2,20050104,       1352,   -48.9998,   115.0078,       3830,  2003.0,   2.1562,  34.7409,2,  34.7408,2,    192.1,2,   192.1,2,   79.35,2,   30.06,2,    2.07,2,   0.065,2,   0.049,2,   0.015,2,  2242.5,2,  2351.4,2,   2.0167
09AR20041223,       I09S,      33,          1,          6,        117,2,20050104,       1352,   -48.9998,   115.0078,       3830,  2201.5,   2.0019,  34.7522,2,  34.7520,2,    196.3,2,   196.2,2,   83.16,2,   29.77,2,    2.05,2,   0.050,2,   0.036,2,   0.018,2,  2241.5,2,  2346.2,2,   1.8478
09AR20041223,       I09S,      33,          1,          5,        105,2,20050104,       1352,   -48.9998,   115.0078,       3830,  2501.1,   1.7171,  34.7497,2,  34.7492,2,    200.5,2,   200.0,2,   91.65,2,   29.96,2,    2.07,2,   0.063,2,   0.041,2,   0.014,2,  2248.8,2,  2355.3,2,   1.5416
09AR20041223,       I09S,      33,          1,          4,        104,2,20050104,       1352,   -48.9998,   115.0078,       3830,  2800.5,   1.4226,  34.7374,2,  34.7370,2,    202.5,2,   201.7,2,  103.36,2,   30.84,2,    2.13,2,   0.019,2,   0.024,2,   0.010,2,  2251.6,2,  2361.0,2,   1.2258
09AR20041223,       I09S,      33,          1,          3,        103,2,20050104,       1352,   -48.9998,   115.0078,       3830,  3199.7,   1.1469,  34.7241,2,  34.7233,2,    205.8,2,   205.1,2,  111.76,2,   31.14,2,    2.17,2,   0.084,2,   0.049,2,   0.018,2,  2254.2,2,  2361.6,2,   0.9188
09AR20041223,       I09S,      33,          1,          2,        102,2,20050104,       1352,   -48.9998,   115.0078,       3830,  3598.3,   0.9904,  34.7152,2,  34.7149,2,    208.6,2,   208.4,2,  117.03,2,   31.33,2,    2.20,2,   0.170,6,   0.084,6,   0.010,6,  2258.6,2,  2360.0,2,   0.7271
09AR20041223,       I09S,      33,          1,          1,        101,2,20050104,       1352,   -48.9998,   115.0078,       3830,  3733.5,   0.9872,  34.7144,2,  34.7141,2,    208.4,2,   208.5,2,  117.62,2,   31.43,2,    2.21,2,   0.148,2,   0.085,2,   0.015,2,  2258.3,6,  2360.2,6,   0.7103