BOTTLE,20220105CCHSIOENA
EXPOCODE,SECT_ID,STNNBR,CASTNO,SAMPNO,BTLNBR,BTLNBR_FLAG_W,DATE,TIME,LATITUDE,LONGITUDE,DEPTH,CTDPRS,CTDTMP,CTDSAL,CTDSAL_FLAG_W,SALNTY,SALNTY_FLAG_W,CTDOXY,CTDOXY_FLAG_W,OXYGEN,OXYGEN_FLAG_W,SILCAT,SILCAT_FLAG_W,NITRAT,NITRAT_FLAG_W,PHSPHT,PHSPHT_FLAG_W,CFC-11,CFC-11_FLAG_W,CFC-12,CFC-12_FLAG_W,CFC113,CFC113_FLAG_W,TCARBN,TCARBN_FLAG_W,ALKALI,ALKALI_FLAG_W,THETA
,,,,,,,,,,,METERS,DBAR,ITS-90,PSS-78,,PSS-78,,UMOL/KG,,UMOL/KG,,UMOL/KG,,UMOL/KG,,UMOL/KG,,PMOL/KG,,PMOL/KG,,PMOL/KG,,UMOL/KG,,UMOL/KG,,DEG C
09AR20041223,       I09S,     114,          1,         24,         24,2,20050204,       0457,   -67.8800,    77.1758,        424,     2.7,  -0.2280,  32.9288,2,  32.9300,2,   -999.0,9,   368.4,2,   35.87,2,   20.13,2,    1.09,2,-999.000,9,-999.000,9,-999.000,9,  -999.0,9,  -999.0,9,  -0.2281
09AR20041223,       I09S,     114,          1,         23,         23,2,20050204,       0457,   -67.8800,    77.1758,        424,     2.7,  -0.1784,  32.9283,2,-999.0000,9,   -999.0,9,  -999.0,9, -999.00,9, -999.00,9, -999.00,9,-999.000,9,-999.000,9,-999.000,9,  -999.0,9,  -999.0,9,  -0.1785
09AR20041223,       I09S,     114,          1,         22,         22,2,20050204,       0457,   -67.8800,    77.1758,        424,    11.1,  -0.3494,  33.0611,2,-999.0000,9,    376.7,2,  -999.0,9, -999.00,9, -999.00,9, -999.00,9,-999.000,9,-999.000,9,-999.000,9,  -999.0,9,  -999.0,9,  -0.3497
09AR20041223,       I09S,     114,          1,         21,         21,2,20050204,       0457,   -67.8800,    77.1758,        424,    11.0,  -0.2330,  33.0352,2,-999.0000,9,    376.7,2,  -999.0,9, -999.00,9, -999.00,9, -999.00,9,-999.000,9,-999.000,9,-999.000,9,  -999.0,9,  -999.0,9,  -0.2333
09AR20041223,       I09S,     114,          1,         20,         20,2,20050204,       0457,   -67.8800,    77.1758,        424,    20.9,   0.1514,  33.4526,2,-999.0000,9,    376.1,2,  -999.0,9, -999.00,9, -999.00,9, -999.00,9,-999.000,9,-999.000,9,-999.000,9,  -999.0,9,  -999.0,9,   0.1507
09AR20041223,       I09S,     114,          1,         19,         19,2,20050204,       0457,   -67.8800,    77.1758,        424,    20.8,   0.1635,  33.4621,2,-999.0000,9,    376.1,2,  -999.0,9, -999.00,9, -999.00,9, -999.00,9,-999.000,9,-999.000,9,-999.000,9,  -999.0,9,  -999.0,9,   0.1628
09AR20041223,       I09S,     114,          1,         18,         18,2,20050204,       0457,   -67.8800,    77.1758,        424,    31.5,  -0.3825,  33.9404,2,-999.0000,9,    363.3,2,  -999.0,9, -999.00,9, -999.00,9, -999.00,9,-999.000,9,-999.000,9,-999.000,9,  -999.0,9,  -999.0,9,  -0.3835
09AR20041223,       I09S,     114,          1,         17,          6,2,20050204,       0457,   -67.8800,    77.1758,        424,    31.4,  -0.4977,  33.8765,2,-999.0000,9,    363.3,2,  -999.0,9, -999.00,9, -999.00,9, -999.00,9,-999.000,9,-999.000,9,-999.000,9,  -999.0,9,  -999.0,9,  -0.4986
09AR20041223,       I09S,     114,          1,         16,         16,2,20050204,       0457,   -67.8800,    77.1758,        424,    41.4,  -1.3888,  34.1589,2,-999.0000,9,    340.4,2,  -999.0,9, -999.00,9, -999.00,9, -999.00,9,-999.000,9,-999.000,9,-999.000,9,  -999.0,9,  -999.0,9,  -1.3897
09AR20041223,       I09S,     114,          1,         15,         15,2,20050204,       0457,   -67.8800,    77.1758,        424,    41.4,  -1.3756,  34.1523,2,-999.0000,9,    340.4,2,  -999.0,9, -999.00,9, -999.00,9, -999.00,9,-999.000,9,-999.000,9,-999.000,9,  -999.0,9,  -999.0,9,  -1.3765
09AR20041223,       I09S,     114,          1,         14,         14,2,20050204,       0457,   -67.8800,    77.1758,        424,    51.5,  -1.2891,  34.2439,2,-999.0000,9,    329.9,2,  -999.0,9, -999.00,9, -999.00,9, -999.00,9,-999.000,9,-999.000,9,-999.000,9,  -999.0,9,  -999.0,9,  -1.2903
09AR20041223,       I09S,     114,          1,         13,         13,2,20050204,       0457,   -67.8800,    77.1758,        424,    51.4,  -1.2875,  34.2414,2,  34.2485,2,    329.9,2,   330.7,2,   60.83,2,   27.05,2,    1.96,2,-999.000,9,-999.000,9,-999.000,9,  -999.0,9,  -999.0,9,  -1.2887
09AR20041223,       I09S,     114,          1,         12,         12,2,20050204,       0457,   -67.8800,    77.1758,        424,    60.8,  -1.6339,  34.2806,2,-999.0000,9,    325.7,2,  -999.0,9, -999.00,9, -999.00,9, -999.00,9,-999.000,9,-999.000,9,-999.000,9,  -999.0,9,  -999.0,9,  -1.6352
09AR20041223,       I09S,     114,          1,         11,         11,2,20050204,       0457,   -67.8800,    77.1758,        424,    60.6,  -1.6288,  34.2804,2,-999.0000,9,    325.7,2,  -999.0,9, -999.00,9, -999.00,9, -999.00,9,-999.000,9,-999.000,9,-999.000,9,  -999.0,9,  -999.0,9,  -1.6301
09AR20041223,       I09S,     114,          1,         10,         10,2,20050204,       0457,   -67.8800,    77.1758,        424,    70.7,  -1.6685,  34.3030,2,-999.0000,9,    321.1,2,  -999.0,9, -999.00,9, -999.00,9, -999.00,9,-999.000,9,-999.000,9,-999.000,9,  -999.0,9,  -999.0,9,  -1.6700
09AR20041223,       I09S,     114,          1,          9,          9,2,20050204,       0457,   -67.8800,    77.1758,        424,    81.1,  -1.7013,  34.3136,2,-999.0000,9,    319.0,2,  -999.0,9, -999.00,9, -999.00,9, -999.00,9,-999.000,9,-999.000,9,-999.000,9,  -999.0,9,  -999.0,9,  -1.7030
09AR20041223,       I09S,     114,          1,          8,        108,2,20050204,       0457,   -67.8800,    77.1758,        424,    90.7,  -1.7642,  34.3250,2,-999.0000,9,    316.0,2,  -999.0,9, -999.00,9, -999.00,9, -999.00,9,-999.000,9,-999.000,9,-999.000,9,  -999.0,9,  -999.0,9,  -1.7660
09AR20041223,       I09S,     114,          1,          7,        107,2,20050204,       0457,   -67.8800,    77.1758,        424,   101.6,  -1.7602,  34.3349,2,  34.3329,2,    314.9,2,   314.9,2,   64.73,2,   29.49,2,    2.01,2,-999.000,9,-999.000,9,-999.000,9,  -999.0,9,  -999.0,9,  -1.7623
09AR20041223,       I09S,     114,          1,          6,        117,2,20050204,       0457,   -67.8800,    77.1758,        424,   151.0,  -1.6440,  34.3757,2,  34.3801,2,    316.6,2,   317.0,2,   65.71,2,   29.39,2,    2.01,2,-999.000,9,-999.000,9,-999.000,9,  -999.0,9,  -999.0,9,  -1.6473
09AR20041223,       I09S,     114,          1,          5,        105,2,20050204,       0457,   -67.8800,    77.1758,        424,   200.8,  -1.5991,  34.4235,2,  34.4250,2,    308.3,2,   308.1,2,   67.17,2,   29.97,2,    2.02,2,-999.000,9,-999.000,9,-999.000,9,  -999.0,9,  -999.0,9,  -1.6037
09AR20041223,       I09S,     114,          1,          4,        104,2,20050204,       0457,   -67.8800,    77.1758,        424,   251.2,  -1.9245,  34.4348,2,  34.4330,2,    321.7,2,   321.5,2,   63.75,2,   29.48,2,    1.98,2,-999.000,9,-999.000,9,-999.000,9,  -999.0,9,  -999.0,9,  -1.9297
09AR20041223,       I09S,     114,          1,          3,        103,2,20050204,       0457,   -67.8800,    77.1758,        424,   300.9,  -1.8956,  34.4467,2,  34.4432,2,    322.6,2,   322.4,2,   63.95,2,   29.48,2,    1.99,2,-999.000,9,-999.000,9,-999.000,9,  -999.0,9,  -999.0,9,  -1.9020
09AR20041223,       I09S,     114,          1,          2,        102,2,20050204,       0457,   -67.8800,    77.1758,        424,   361.5,  -1.8120,  34.5012,2,  34.5005,2,    307.9,2,   305.9,2,   74.00,2,   30.65,2,    2.08,2,-999.000,9,-999.000,9,-999.000,9,  -999.0,9,  -999.0,9,  -1.8202
09AR20041223,       I09S,     114,          1,          1,        101,2,20050204,       0457,   -67.8800,    77.1758,        424,   400.0,  -1.8679,  34.5158,2,  34.5093,2,    310.2,2,   312.1,2,   73.02,2,   30.26,2,    2.07,2,-999.000,9,-999.000,9,-999.000,9,  -999.0,9,  -999.0,9,  -1.8769
09AR20041223,       I09S,     115,          1,         24,         24,2,20050215,       0235,   -46.9992,   142.0042,       3453,    15.8,  12.2993,  34.7118,2,  34.7108,2,    266.2,2,   266.2,2, -999.00,9, -999.00,9, -999.00,9,-999.000,9,-999.000,9,-999.000,9,  -999.0,9,  -999.0,9,  12.2972
09AR20041223,       I09S,     115,          1,         23,         23,2,20050215,       0235,   -46.9992,   142.0042,       3453,    49.8,  12.2638,  34.7073,2,  34.7074,2,    266.6,2,   266.0,2, -999.00,9, -999.00,9, -999.00,9,-999.000,9,-999.000,9,-999.000,9,  -999.0,9,  -999.0,9,  12.2573
09AR20041223,       I09S,     115,          1,         22,         22,2,20050215,       0235,   -46.9992,   142.0042,       3453,   100.5,   9.6923,  34.6325,2,  34.6325,2,    267.9,2,   270.0,2, -999.00,9, -999.00,9, -999.00,9,-999.000,9,-999.000,9,-999.000,9,  -999.0,9,  -999.0,9,   9.6810
09AR20041223,       I09S,     115,          1,         21,         21,2,20050215,       0235,   -46.9992,   142.0042,       3453,   153.7,   9.5522,  34.7439,2,  34.7457,2,    259.3,2,   256.6,2, -999.00,9, -999.00,9, -999.00,9,-999.000,9,-999.000,9,-999.000,9,  -999.0,9,  -999.0,9,   9.5350
09AR20041223,       I09S,     115,          1,         20,         20,2,20050215,       0235,   -46.9992,   142.0042,       3453,   201.1,   9.0898,  34.6636,2,  34.6631,2,    264.1,2,   262.3,2, -999.00,9, -999.00,9, -999.00,9,-999.000,9,-999.000,9,-999.000,9,  -999.0,9,  -999.0,9,   9.0679
09AR20041223,       I09S,     115,          1,         19,         19,2,20050215,       0235,   -46.9992,   142.0042,       3453,   299.1,   8.7065,  34.5911,2,  34.5911,2,    268.8,2,   268.8,2, -999.00,9, -999.00,9, -999.00,9,-999.000,9,-999.000,9,-999.000,9,  -999.0,9,  -999.0,9,   8.6746
09AR20041223,       I09S,     115,          1,         18,         18,2,20050215,       0235,   -46.9992,   142.0042,       3453,   403.1,   8.7571,  34.6091,2,  34.6083,2,    267.9,2,   266.7,2, -999.00,9, -999.00,9, -999.00,9,-999.000,9,-999.000,9,-999.000,9,  -999.0,9,  -999.0,9,   8.7137
09AR20041223,       I09S,     115,          1,         17,          6,2,20050215,       0235,   -46.9992,   142.0042,       3453,   500.9,   8.6394,  34.5920,2,  34.5917,2,    270.1,2,   268.1,2, -999.00,9, -999.00,9, -999.00,9,-999.000,9,-999.000,9,-999.000,9,  -999.0,9,  -999.0,9,   8.5856
09AR20041223,       I09S,     115,          1,         16,         16,2,20050215,       0235,   -46.9992,   142.0042,       3453,   598.6,   8.3977,  34.5533,2,  34.5532,2,    252.9,2,   257.3,2, -999.00,9, -999.00,9, -999.00,9,-999.000,9,-999.000,9,-999.000,9,  -999.0,9,  -999.0,9,   8.3342
09AR20041223,       I09S,     115,          1,         15,         15,2,20050215,       0235,   -46.9992,   142.0042,       3453,   700.4,   7.5982,  34.4507,2,  34.4534,2,    239.1,2,   238.4,2, -999.00,9, -999.00,9, -999.00,9,-999.000,9,-999.000,9,-999.000,9,  -999.0,9,  -999.0,9,   7.5277
09AR20041223,       I09S,     115,          1,         14,         14,2,20050215,       0235,   -46.9992,   142.0042,       3453,   794.8,   7.0302,  34.4443,2,  34.4446,2,    213.7,2,   212.8,2, -999.00,9, -999.00,9, -999.00,9,-999.000,9,-999.000,9,-999.000,9,  -999.0,9,  -999.0,9,   6.9530
09AR20041223,       I09S,     115,          1,         13,         13,2,20050215,       0235,   -46.9992,   142.0042,       3453,   897.8,   6.0889,  34.3959,2,  34.3960,2,    206.3,2,   206.7,2, -999.00,9, -999.00,9, -999.00,9,-999.000,9,-999.000,9,-999.000,9,  -999.0,9,  -999.0,9,   6.0075
09AR20041223,       I09S,     115,          1,         12,         12,2,20050215,       0235,   -46.9992,   142.0042,       3453,  1003.1,   5.1763,  34.3571,2,  34.3568,2,    206.9,2,   206.4,2, -999.00,9, -999.00,9, -999.00,9,-999.000,9,-999.000,9,-999.000,9,  -999.0,9,  -999.0,9,   5.0916
09AR20041223,       I09S,     115,          1,         11,         11,2,20050215,       0235,   -46.9992,   142.0042,       3453,  1103.6,   4.4319,  34.3483,2,  34.3484,2,    203.8,2,   203.8,2, -999.00,9, -999.00,9, -999.00,9,-999.000,9,-999.000,9,-999.000,9,  -999.0,9,  -999.0,9,   4.3442
09AR20041223,       I09S,     115,          1,         10,         10,2,20050215,       0235,   -46.9992,   142.0042,       3453,  1299.3,   3.4847,  34.3924,2,  34.3931,2,    190.8,2,   190.4,2, -999.00,9, -999.00,9, -999.00,9,-999.000,9,-999.000,9,-999.000,9,  -999.0,9,  -999.0,9,   3.3888
09AR20041223,       I09S,     115,          1,          9,          9,2,20050215,       0235,   -46.9992,   142.0042,       3453,  1499.9,   2.9678,  34.4691,2,  34.4889,4,    178.9,2,   179.0,2, -999.00,9, -999.00,9, -999.00,9,-999.000,9,-999.000,9,-999.000,9,  -999.0,9,  -999.0,9,   2.8606
09AR20041223,       I09S,     115,          1,          8,        108,2,20050215,       0235,   -46.9992,   142.0042,       3453,  1700.9,   2.7048,  34.5659,2,  34.5656,2,    171.0,2,   171.1,2, -999.00,9, -999.00,9, -999.00,9,-999.000,9,-999.000,9,-999.000,9,  -999.0,9,  -999.0,9,   2.5837
09AR20041223,       I09S,     115,          1,          7,        107,2,20050215,       0235,   -46.9992,   142.0042,       3453,  1900.0,   2.5300,  34.6321,2,  34.6311,2,    172.5,2,   172.4,2, -999.00,9, -999.00,9, -999.00,9,-999.000,9,-999.000,9,-999.000,9,  -999.0,9,  -999.0,9,   2.3942
09AR20041223,       I09S,     115,          1,          6,        117,2,20050215,       0235,   -46.9992,   142.0042,       3453,  2098.5,   2.3847,  34.6848,2,  34.6841,2,    174.8,2,   175.1,2, -999.00,9, -999.00,9, -999.00,9,-999.000,9,-999.000,9,-999.000,9,  -999.0,9,  -999.0,9,   2.2336
09AR20041223,       I09S,     115,          1,          5,        105,2,20050215,       0235,   -46.9992,   142.0042,       3453,  2400.2,   2.1774,  34.7243,2,  34.7235,2,    177.0,2,   177.3,2, -999.00,9, -999.00,9, -999.00,9,-999.000,9,-999.000,9,-999.000,9,  -999.0,9,  -999.0,9,   2.0027
09AR20041223,       I09S,     115,          1,          4,        104,2,20050215,       0235,   -46.9992,   142.0042,       3453,  2700.7,   1.9812,  34.7350,2,  34.7349,2,    180.3,2,   180.1,2, -999.00,9, -999.00,9, -999.00,9,-999.000,9,-999.000,9,-999.000,9,  -999.0,9,  -999.0,9,   1.7823
09AR20041223,       I09S,     115,          1,          3,        103,2,20050215,       0235,   -46.9992,   142.0042,       3453,  3004.4,   1.8051,  34.7365,2,  34.7357,2,    184.8,2,   184.0,2, -999.00,9, -999.00,9, -999.00,9,-999.000,9,-999.000,9,-999.000,9,  -999.0,9,  -999.0,9,   1.5808
09AR20041223,       I09S,     115,          1,          2,        102,2,20050215,       0235,   -46.9992,   142.0042,       3453,  3296.6,   1.6211,  34.7351,2,  34.7355,2,    190.0,2,   190.0,2, -999.00,9, -999.00,9, -999.00,9,-999.000,9,-999.000,9,-999.000,9,  -999.0,9,  -999.0,9,   1.3722
09AR20041223,       I09S,     115,          1,          1,        101,2,20050215,       0235,   -46.9992,   142.0042,       3453,  3529.1,   1.4982,  34.7322,2,  34.7329,2,    193.0,2,   193.7,2, -999.00,9, -999.00,9, -999.00,9,-999.000,9,-999.000,9,-999.000,9,  -999.0,9,  -999.0,9,   1.2288