BOTTLE,20220105CCHSIOENA
EXPOCODE,SECT_ID,STNNBR,CASTNO,SAMPNO,BTLNBR,BTLNBR_FLAG_W,DATE,TIME,LATITUDE,LONGITUDE,DEPTH,CTDPRS,CTDTMP,CTDSAL,CTDSAL_FLAG_W,SALNTY,SALNTY_FLAG_W,CTDOXY,CTDOXY_FLAG_W,OXYGEN,OXYGEN_FLAG_W,SILCAT,SILCAT_FLAG_W,NITRAT,NITRAT_FLAG_W,PHSPHT,PHSPHT_FLAG_W,CFC-11,CFC-11_FLAG_W,CFC-12,CFC-12_FLAG_W,CFC113,CFC113_FLAG_W,TCARBN,TCARBN_FLAG_W,ALKALI,ALKALI_FLAG_W,THETA
,,,,,,,,,,,METERS,DBAR,ITS-90,PSS-78,,PSS-78,,UMOL/KG,,UMOL/KG,,UMOL/KG,,UMOL/KG,,UMOL/KG,,PMOL/KG,,PMOL/KG,,PMOL/KG,,UMOL/KG,,UMOL/KG,,DEG C
09AR20041223,       I09S,      80,          1,         24,         24,2,20050123,       2123,   -58.6182,    81.7072,       1478,    12.1,   1.4269,  33.9340,2,  33.9328,2,    334.7,2,   334.9,2,   40.63,2,   26.37,2,    1.74,2,-999.000,9,-999.000,9,-999.000,9,  -999.0,9,  -999.0,9,   1.4263
09AR20041223,       I09S,      80,          1,         23,         23,2,20050123,       2123,   -58.6182,    81.7072,       1478,    25.6,   1.4159,  33.9360,2,  33.9336,2,    334.8,2,   333.9,2,   40.63,2,   26.37,2,    1.74,2,-999.000,9,-999.000,9,-999.000,9,  -999.0,9,  -999.0,9,   1.4147
09AR20041223,       I09S,      80,          1,         22,         22,2,20050123,       2123,   -58.6182,    81.7072,       1478,    49.8,   1.0033,  33.9611,2,  33.9704,2,    334.7,2,   335.8,2,   43.65,2,   27.15,2,    1.83,2,-999.000,9,-999.000,9,-999.000,9,  -999.0,9,  -999.0,9,   1.0012
09AR20041223,       I09S,      80,          1,         21,         21,2,20050123,       2123,   -58.6182,    81.7072,       1478,    75.9,  -1.3922,  34.0730,2,  34.0678,2,    319.4,2,   332.6,3,   53.71,2,   29.59,2,    2.01,2,-999.000,9,-999.000,9,-999.000,9,  -999.0,9,  -999.0,9,  -1.3939
09AR20041223,       I09S,      80,          1,         20,         20,2,20050123,       2123,   -58.6182,    81.7072,       1478,   101.3,  -1.1260,  34.1792,2,  34.1637,2,    298.6,2,   297.5,2,   59.07,2,   30.76,2,    2.10,2,-999.000,9,-999.000,9,-999.000,9,  -999.0,9,  -999.0,9,  -1.1286
09AR20041223,       I09S,      80,          1,         19,         19,2,20050123,       2123,   -58.6182,    81.7072,       1478,   125.1,  -0.2021,  34.3245,2,  34.3202,2,    273.3,2,   254.1,3,   67.86,2,   32.12,2,    2.23,2,-999.000,9,-999.000,9,-999.000,9,  -999.0,9,  -999.0,9,  -0.2063
09AR20041223,       I09S,      80,          1,         18,         18,2,20050123,       2123,   -58.6182,    81.7072,       1478,   153.0,   0.6786,  34.4643,2,  34.4415,2,    222.6,2,   223.8,2,   74.49,2,   33.00,2,    2.26,2,-999.000,9,-999.000,9,-999.000,9,  -999.0,9,  -999.0,9,   0.6722
09AR20041223,       I09S,      80,          1,         17,          6,2,20050123,       2123,   -58.6182,    81.7072,       1478,   175.0,   1.6293,  34.6138,2,  34.6101,2,    185.8,2,   180.3,2,   84.53,2,   33.58,2,    2.28,2,-999.000,9,-999.000,9,-999.000,9,  -999.0,9,  -999.0,9,   1.6205
09AR20041223,       I09S,      80,          1,         16,        116,2,20050123,       2123,   -58.6182,    81.7072,       1478,   200.6,   1.8480,  34.6582,2,  34.6582,2,    174.5,2,   173.9,2,   86.58,2,   33.28,2,    2.26,2,-999.000,9,-999.000,9,-999.000,9,  -999.0,9,  -999.0,9,   1.8375
09AR20041223,       I09S,      80,          1,         15,         15,2,20050123,       2123,   -58.6182,    81.7072,       1478,   251.0,   1.8953,  34.6858,2,  34.6858,2,    174.3,2,   175.3,2,   87.75,2,   32.80,2,    2.24,2,-999.000,9,-999.000,9,-999.000,9,  -999.0,9,  -999.0,9,   1.8819
09AR20041223,       I09S,      80,          1,         14,         14,2,20050123,       2123,   -58.6182,    81.7072,       1478,   301.6,   1.8922,  34.7033,2,  34.7027,2,    177.6,2,   178.4,2,   88.04,2,   32.21,2,    2.21,2,-999.000,9,-999.000,9,-999.000,9,  -999.0,9,  -999.0,9,   1.8760
09AR20041223,       I09S,      80,          1,         13,         13,2,20050123,       2123,   -58.6182,    81.7072,       1478,   347.7,   1.8726,  34.7146,2,  34.7147,2,    179.9,2,   181.9,2,   88.33,2,   31.72,2,    2.17,2,-999.000,9,-999.000,9,-999.000,9,  -999.0,9,  -999.0,9,   1.8538
09AR20041223,       I09S,      80,          1,         12,         12,2,20050123,       2123,   -58.6182,    81.7072,       1478,   401.4,   1.8489,  34.7239,2,  34.7239,2,    183.3,2,   183.6,2,   88.33,2,   31.43,2,    2.15,2,-999.000,9,-999.000,9,-999.000,9,  -999.0,9,  -999.0,9,   1.8271
09AR20041223,       I09S,      80,          1,         11,         11,2,20050123,       2123,   -58.6182,    81.7072,       1478,   500.1,   1.7898,  34.7339,2,  34.7345,2,    188.1,2,   188.2,2,   88.82,2,   30.84,2,    2.11,2,-999.000,9,-999.000,9,-999.000,9,  -999.0,9,  -999.0,9,   1.7625
09AR20041223,       I09S,      80,          1,         10,         10,2,20050123,       2123,   -58.6182,    81.7072,       1478,   598.8,   1.7060,  34.7412,2,  34.7418,2,    192.5,2,   193.1,2,   90.19,2,   30.75,2,    2.08,2,-999.000,9,-999.000,9,-999.000,9,  -999.0,9,  -999.0,9,   1.6732
09AR20041223,       I09S,      80,          1,          9,          9,2,20050123,       2123,   -58.6182,    81.7072,       1478,   701.2,   1.6315,  34.7444,2,  34.7451,2,    196.3,2,   196.1,2,   91.75,2,   30.55,2,    2.07,2,-999.000,9,-999.000,9,-999.000,9,  -999.0,9,  -999.0,9,   1.5929
09AR20041223,       I09S,      80,          1,          8,        208,2,20050123,       2123,   -58.6182,    81.7072,       1478,   803.2,   1.5149,  34.7444,2,  34.7449,2,    198.4,2,   199.6,2,   94.48,2,   30.35,2,    2.07,2,-999.000,9,-999.000,9,-999.000,9,  -999.0,9,  -999.0,9,   1.4708
09AR20041223,       I09S,      80,          1,          7,        107,2,20050123,       2123,   -58.6182,    81.7072,       1478,   902.6,   1.4308,  34.7421,2,  34.7425,2,    200.6,2,   200.1,2,   96.82,2,   30.16,2,    2.09,2,-999.000,9,-999.000,9,-999.000,9,  -999.0,9,  -999.0,9,   1.3811
09AR20041223,       I09S,      80,          1,          6,        117,2,20050123,       2123,   -58.6182,    81.7072,       1478,  1001.3,   1.3204,  34.7381,2,  34.7386,2,    201.2,2,   201.4,2,   99.95,2,   30.36,2,    2.10,2,-999.000,9,-999.000,9,-999.000,9,  -999.0,9,  -999.0,9,   1.2653
09AR20041223,       I09S,      80,          1,          5,        105,2,20050123,       2123,   -58.6182,    81.7072,       1478,  1100.8,   1.2286,  34.7346,2,  34.7357,2,    201.3,2,   200.9,2,  103.95,2,   30.55,2,    2.13,2,-999.000,9,-999.000,9,-999.000,9,  -999.0,9,  -999.0,9,   1.1679
09AR20041223,       I09S,      80,          1,          4,        104,2,20050123,       2123,   -58.6182,    81.7072,       1478,  1200.7,   1.1230,  34.7296,2,  34.7288,2,    201.3,2,   201.0,2,  109.42,2,   30.84,2,    2.15,2,-999.000,9,-999.000,9,-999.000,9,  -999.0,9,  -999.0,9,   1.0568
09AR20041223,       I09S,      80,          1,          3,        103,2,20050123,       2123,   -58.6182,    81.7072,       1478,  1302.3,   1.0093,  34.7235,2,  34.7241,2,    199.9,2,   199.7,2,  122.30,2,   31.33,2,    2.20,2,-999.000,9,-999.000,9,-999.000,9,  -999.0,9,  -999.0,9,   0.9376
09AR20041223,       I09S,      80,          1,          2,        102,2,20050123,       2123,   -58.6182,    81.7072,       1478,  1401.7,   0.9699,  34.7213,2,  34.7221,2,    198.4,2,   198.5,2,  131.38,2,   31.53,2,    2.23,2,-999.000,9,-999.000,9,-999.000,9,  -999.0,9,  -999.0,9,   0.8920
09AR20041223,       I09S,      80,          1,          1,        101,2,20050123,       2123,   -58.6182,    81.7072,       1478,  1451.2,   0.9554,  34.7204,2,  34.7210,2,    198.8,2,   199.1,2,  132.35,2,   31.53,2,    2.23,2,-999.000,9,-999.000,9,-999.000,9,  -999.0,9,  -999.0,9,   0.8743
09AR20041223,       I09S,      81,          1,         24,         24,2,20050124,       0525,   -58.9690,    81.6753,       1588,     9.8,   1.4614,  33.9284,2,  33.9299,2,    335.8,2,   336.7,2,   40.14,2,   26.17,2,    1.72,2,-999.000,9,-999.000,9,-999.000,9,  -999.0,9,  -999.0,9,   1.4609
09AR20041223,       I09S,      81,          1,         23,         23,2,20050124,       0525,   -58.9690,    81.6753,       1588,    30.8,   1.2817,  33.9259,2,  33.9278,2,    335.4,2,   336.4,2,   39.94,2,   26.17,2,    1.72,2,-999.000,9,-999.000,9,-999.000,9,  -999.0,9,  -999.0,9,   1.2803
09AR20041223,       I09S,      81,          1,         22,         22,2,20050124,       0525,   -58.9690,    81.6753,       1588,    50.6,   0.5892,  33.9512,2,  33.9600,2,    332.7,2,   332.5,2,   44.04,2,   27.05,2,    1.93,2,-999.000,9,-999.000,9,-999.000,9,  -999.0,9,  -999.0,9,   0.5872
09AR20041223,       I09S,      81,          1,         21,         21,2,20050124,       0525,   -58.9690,    81.6753,       1588,    82.1,  -1.4769,  34.0961,2,  34.0948,2,    298.9,2,   311.9,2,   55.56,2,   30.08,2,    2.10,2,-999.000,9,-999.000,9,-999.000,9,  -999.0,9,  -999.0,9,  -1.4787
09AR20041223,       I09S,      81,          1,         20,         20,2,20050124,       0525,   -58.9690,    81.6753,       1588,   101.3,  -0.8660,  34.2085,2,  34.2033,2,    282.8,2,   283.6,2,   61.42,2,   31.15,2,    2.20,2,-999.000,9,-999.000,9,-999.000,9,  -999.0,9,  -999.0,9,  -0.8688
09AR20041223,       I09S,      81,          1,         19,         19,2,20050124,       0525,   -58.9690,    81.6753,       1588,   125.2,   0.5144,  34.4298,2,  34.4295,2,    246.1,2,   222.0,3,   74.29,2,   32.90,2,    2.24,2,-999.000,9,-999.000,9,-999.000,9,  -999.0,9,  -999.0,9,   0.5094
09AR20041223,       I09S,      81,          1,         18,         18,2,20050124,       0525,   -58.9690,    81.6753,       1588,   149.5,   1.2769,  34.5668,2,  34.5718,2,    198.4,2,   191.1,2,   82.29,2,   33.19,2,    2.26,2,-999.000,9,-999.000,9,-999.000,9,  -999.0,9,  -999.0,9,   1.2699
09AR20041223,       I09S,      81,          1,         17,          6,2,20050124,       0525,   -58.9690,    81.6753,       1588,   176.4,   1.7116,  34.6417,2,  34.6407,2,    183.8,2,   177.4,2,   86.09,2,   33.29,2,    2.27,2,-999.000,9,-999.000,9,-999.000,9,  -999.0,9,  -999.0,9,   1.7026
09AR20041223,       I09S,      81,          1,         16,        116,2,20050124,       0525,   -58.9690,    81.6753,       1588,   200.2,   1.8544,  34.6709,2,  34.6707,2,    173.2,2,   173.9,2,   87.46,2,   32.99,2,    2.25,2,-999.000,9,-999.000,9,-999.000,9,  -999.0,9,  -999.0,9,   1.8439
09AR20041223,       I09S,      81,          1,         15,         15,2,20050124,       0525,   -58.9690,    81.6753,       1588,   250.8,   1.8993,  34.6947,2,  34.6954,2,    172.8,2,   175.8,2,   88.24,2,   32.50,2,    2.22,2,-999.000,9,-999.000,9,-999.000,9,  -999.0,9,  -999.0,9,   1.8859
09AR20041223,       I09S,      81,          1,         14,         14,2,20050124,       0525,   -58.9690,    81.6753,       1588,   300.2,   1.8935,  34.7080,2,  34.7078,2,    176.0,2,   178.8,2,   88.33,2,   32.01,2,    2.18,2,-999.000,9,-999.000,9,-999.000,9,  -999.0,9,  -999.0,9,   1.8774
09AR20041223,       I09S,      81,          1,         13,         13,2,20050124,       0525,   -58.9690,    81.6753,       1588,   401.4,   1.8469,  34.7257,2,  34.7259,2,    182.5,2,   185.5,2,   88.92,2,   31.33,2,    2.14,2,-999.000,9,-999.000,9,-999.000,9,  -999.0,9,  -999.0,9,   1.8251
09AR20041223,       I09S,      81,          1,         12,         12,2,20050124,       0525,   -58.9690,    81.6753,       1588,   502.2,   1.7720,  34.7360,2,  34.7359,2,    188.5,2,   190.1,2,   89.31,2,   30.75,2,    2.11,2,-999.000,9,-999.000,9,-999.000,9,  -999.0,9,  -999.0,9,   1.7446
09AR20041223,       I09S,      81,          1,         11,         11,2,20050124,       0525,   -58.9690,    81.6753,       1588,   598.9,   1.7143,  34.7412,2,  34.7416,2,    192.7,2,   193.2,2,   89.60,2,   30.35,2,    2.10,2,-999.000,9,-999.000,9,-999.000,9,  -999.0,9,  -999.0,9,   1.6815
09AR20041223,       I09S,      81,          1,         10,         10,2,20050124,       0525,   -58.9690,    81.6753,       1588,   701.1,   1.6282,  34.7445,2,  34.7445,2,    195.6,2,   195.2,2,   92.24,2,   30.35,2,    2.10,2,-999.000,9,-999.000,9,-999.000,9,  -999.0,9,  -999.0,9,   1.5896
09AR20041223,       I09S,      81,          1,          9,          9,2,20050124,       0525,   -58.9690,    81.6753,       1588,   801.5,   1.5259,  34.7445,2,  34.7449,2,    198.2,2,   198.0,2,   94.87,2,   30.06,2,    2.11,2,-999.000,9,-999.000,9,-999.000,9,  -999.0,9,  -999.0,9,   1.4818
09AR20041223,       I09S,      81,          1,          8,        208,2,20050124,       0525,   -58.9690,    81.6753,       1588,   900.5,   1.4338,  34.7425,2,  34.7429,2,    200.2,2,   200.1,2,   97.21,2,   30.26,2,    2.07,2,-999.000,9,-999.000,9,-999.000,9,  -999.0,9,  -999.0,9,   1.3842
09AR20041223,       I09S,      81,          1,          7,        107,2,20050124,       0525,   -58.9690,    81.6753,       1588,  1000.5,   1.3241,  34.7387,2,  34.7386,2,    201.6,2,   201.3,2,  100.44,2,   30.06,2,    2.11,2,-999.000,9,-999.000,9,-999.000,9,  -999.0,9,  -999.0,9,   1.2690
09AR20041223,       I09S,      81,          1,          6,        117,2,20050124,       0525,   -58.9690,    81.6753,       1588,  1101.0,   1.2265,  34.7344,2,  34.7349,2,    202.5,2,   202.9,2,  103.17,2,   30.36,2,    2.13,2,-999.000,9,-999.000,9,-999.000,9,  -999.0,9,  -999.0,9,   1.1658
09AR20041223,       I09S,      81,          1,          5,        105,2,20050124,       0525,   -58.9690,    81.6753,       1588,  1200.6,   1.1481,  34.7305,2,  34.7308,2,    202.7,2,   203.1,2,  106.68,2,   30.75,2,    2.13,2,-999.000,9,-999.000,9,-999.000,9,  -999.0,9,  -999.0,9,   1.0817
09AR20041223,       I09S,      81,          1,          4,        104,2,20050124,       0525,   -58.9690,    81.6753,       1588,  1302.3,   1.0599,  34.7260,2,  34.7262,2,    202.4,2,   202.3,2,  113.03,2,   31.04,2,    2.16,2,-999.000,9,-999.000,9,-999.000,9,  -999.0,9,  -999.0,9,   0.9877
09AR20041223,       I09S,      81,          1,          3,        103,2,20050124,       0525,   -58.9690,    81.6753,       1588,  1401.3,   0.9777,  34.7215,2,  34.7206,2,    201.3,2,   201.6,2,  120.06,2,   31.43,2,    2.20,2,-999.000,9,-999.000,9,-999.000,9,  -999.0,9,  -999.0,9,   0.8998
09AR20041223,       I09S,      81,          1,          2,        102,2,20050124,       0525,   -58.9690,    81.6753,       1588,  1505.1,   0.9295,  34.7188,2,  34.7190,2,    201.1,2,   200.4,2,  129.52,2,   31.43,2,    2.23,2,-999.000,9,-999.000,9,-999.000,9,  -999.0,9,  -999.0,9,   0.8451
09AR20041223,       I09S,      81,          1,          1,        101,2,20050124,       0525,   -58.9690,    81.6753,       1588,  1556.8,   0.9090,  34.7174,2,  34.7178,2,    200.8,2,   201.0,2,  130.50,2,   32.31,2,    2.23,2,-999.000,9,-999.000,9,-999.000,9,  -999.0,9,  -999.0,9,   0.8212