BOTTLE,20220105CCHSIOENA
EXPOCODE,SECT_ID,STNNBR,CASTNO,SAMPNO,BTLNBR,BTLNBR_FLAG_W,DATE,TIME,LATITUDE,LONGITUDE,DEPTH,CTDPRS,CTDTMP,CTDSAL,CTDSAL_FLAG_W,SALNTY,SALNTY_FLAG_W,CTDOXY,CTDOXY_FLAG_W,OXYGEN,OXYGEN_FLAG_W,SILCAT,SILCAT_FLAG_W,NITRAT,NITRAT_FLAG_W,PHSPHT,PHSPHT_FLAG_W,CFC-11,CFC-11_FLAG_W,CFC-12,CFC-12_FLAG_W,CFC113,CFC113_FLAG_W,TCARBN,TCARBN_FLAG_W,ALKALI,ALKALI_FLAG_W,THETA
,,,,,,,,,,,METERS,DBAR,ITS-90,PSS-78,,PSS-78,,UMOL/KG,,UMOL/KG,,UMOL/KG,,UMOL/KG,,UMOL/KG,,PMOL/KG,,PMOL/KG,,PMOL/KG,,UMOL/KG,,UMOL/KG,,DEG C
09AR20041223,       I09S,      48,          1,         24,         24,4,20050110,       0130,   -57.4008,   114.9853,       4547,    15.2,   3.3503,  33.8867,2,  33.9094,3,    328.3,2,   327.4,3,   17.38,2,   26.37,2,    1.61,2,-999.000,9,-999.000,9,-999.000,9,  -999.0,9,  -999.0,9,   3.3494
09AR20041223,       I09S,      48,          1,         23,         23,2,20050110,       0130,   -57.4008,   114.9853,       4547,    55.9,   2.2903,  33.9048,2,  33.8982,2,    338.4,2,   332.3,2,   15.24,2,   26.08,2,    1.59,2,-999.000,9,-999.000,9,-999.000,9,  -999.0,9,  -999.0,9,   2.2873
09AR20041223,       I09S,      48,          1,         22,         22,2,20050110,       0130,   -57.4008,   114.9853,       4547,    81.6,   1.1303,  33.9260,2,  33.9266,2,    338.6,2,   337.7,2,   21.78,2,   27.35,2,    1.79,2,-999.000,9,-999.000,9,-999.000,9,  -999.0,9,  -999.0,9,   1.1267
09AR20041223,       I09S,      48,          1,         21,         21,2,20050110,       0130,   -57.4008,   114.9853,       4547,   141.2,   0.1996,  33.9739,2,  33.9741,2,    334.1,2,   333.6,2,   30.08,2,   28.91,2,    1.91,2,-999.000,9,-999.000,9,-999.000,9,  -999.0,9,  -999.0,9,   0.1944
09AR20041223,       I09S,      48,          1,         20,         20,2,20050110,       0130,   -57.4008,   114.9853,       4547,   202.4,   1.3924,  34.2226,2,  34.2156,2,    250.3,2,   244.5,2,   49.21,2,   33.20,2,    2.18,2,-999.000,9,-999.000,9,-999.000,9,  -999.0,9,  -999.0,9,   1.3827
09AR20041223,       I09S,      48,          1,         19,         19,2,20050110,       0130,   -57.4008,   114.9853,       4547,   298.6,   2.1029,  34.4467,2,  34.4474,2,    187.5,2,   185.1,2,   66.87,2,   35.34,3,    2.33,2,-999.000,9,-999.000,9,-999.000,9,  -999.0,9,  -999.0,9,   2.0865
09AR20041223,       I09S,      48,          1,         18,         18,2,20050110,       0130,   -57.4008,   114.9853,       4547,   400.7,   2.1971,  34.5401,2,  34.5395,2,    173.1,2,   174.3,2,   72.82,2, -999.00,9,    2.31,2,-999.000,9,-999.000,9,-999.000,9,  -999.0,9,  -999.0,9,   2.1744
09AR20041223,       I09S,      48,          1,         17,          6,2,20050110,       0130,   -57.4008,   114.9853,       4547,   500.8,   2.2441,  34.6124,2,  34.6129,2,    172.0,2,   173.0,2,   75.65,2,   34.07,2,    2.25,2,-999.000,9,-999.000,9,-999.000,9,  -999.0,9,  -999.0,9,   2.2150
09AR20041223,       I09S,      48,          1,         16,         16,2,20050110,       0130,   -57.4008,   114.9853,       4547,   600.4,   2.1900,  34.6460,2,  34.6458,2,    173.6,2,   175.0,2,   77.60,2,   33.29,2,    2.21,2,-999.000,9,-999.000,9,-999.000,9,  -999.0,9,  -999.0,9,   2.1549
09AR20041223,       I09S,      48,          1,         15,         15,2,20050110,       0130,   -57.4008,   114.9853,       4547,   747.4,   2.1568,  34.6937,2,  34.6939,2,    179.7,2,   181.4,2,   78.96,2,   32.31,2,    2.13,2,-999.000,9,-999.000,9,-999.000,9,  -999.0,9,  -999.0,9,   2.1123
09AR20041223,       I09S,      48,          1,         14,         14,2,20050110,       0130,   -57.4008,   114.9853,       4547,   901.6,   2.0656,  34.7212,2,  34.7221,2,    185.6,2,   186.7,2,   80.82,2,   31.14,2,    2.13,2,-999.000,9,-999.000,9,-999.000,9,  -999.0,9,  -999.0,9,   2.0114
09AR20041223,       I09S,      48,          1,         13,         13,2,20050110,       0130,   -57.4008,   114.9853,       4547,  1051.0,   1.9566,  34.7350,2,  34.7359,2,    190.0,2,   190.9,2,   83.74,2,   31.04,2,    2.08,2,-999.000,9,-999.000,9,-999.000,9,  -999.0,9,  -999.0,9,   1.8930
09AR20041223,       I09S,      48,          1,         12,         12,2,20050110,       0130,   -57.4008,   114.9853,       4547,  1202.6,   1.8357,  34.7430,2,  34.7437,2,    193.3,2,   193.6,2,   86.18,2,   30.84,2,    2.07,2,-999.000,9,-999.000,9,-999.000,9,  -999.0,9,  -999.0,9,   1.7626
09AR20041223,       I09S,      48,          1,         11,         11,2,20050110,       0130,   -57.4008,   114.9853,       4547,  1404.4,   1.6774,  34.7458,2,  34.7463,2,    197.4,2,   197.0,2,   90.38,2,   30.65,2,    2.05,2,-999.000,9,-999.000,9,-999.000,9,  -999.0,9,  -999.0,9,   1.5915
09AR20041223,       I09S,      48,          1,         10,         10,2,20050110,       0130,   -57.4008,   114.9853,       4547,  1651.6,   1.4571,  34.7418,2,  34.7420,2,    201.1,2,   201.5,2,   96.73,2,   30.94,2,    2.06,2,-999.000,9,-999.000,9,-999.000,9,  -999.0,9,  -999.0,9,   1.3556
09AR20041223,       I09S,      48,          1,          9,          9,2,20050110,       0130,   -57.4008,   114.9853,       4547,  1910.7,   1.2539,  34.7332,2,  34.7339,2,    203.9,2,   202.9,2,  102.78,2,   31.14,2,    2.10,2,-999.000,9,-999.000,9,-999.000,9,  -999.0,9,  -999.0,9,   1.1355
09AR20041223,       I09S,      48,          1,          8,        108,2,20050110,       0130,   -57.4008,   114.9853,       4547,  2192.0,   1.0278,  34.7213,2,-999.0000,9,    206.0,2,  -999.0,9, -999.00,9, -999.00,9, -999.00,9,-999.000,9,-999.000,9,-999.000,9,  -999.0,9,  -999.0,9,   0.8908
09AR20041223,       I09S,      48,          1,          7,        107,2,20050110,       0130,   -57.4008,   114.9853,       4547,  2501.6,   0.7735,  34.7079,2,  34.7064,2,    209.3,2,   210.0,2,  115.76,2,   32.02,2,    2.17,2,-999.000,9,-999.000,9,-999.000,9,  -999.0,9,  -999.0,9,   0.6159
09AR20041223,       I09S,      48,          1,          6,        117,2,20050110,       0130,   -57.4008,   114.9853,       4547,  2803.3,   0.5467,  34.6970,2,  34.6970,2,    213.7,2,   213.8,2,  121.23,2,   32.31,2,    2.19,2,-999.000,9,-999.000,9,-999.000,9,  -999.0,9,  -999.0,9,   0.3681
09AR20041223,       I09S,      48,          1,          5,        105,2,20050110,       0130,   -57.4008,   114.9853,       4547,  3195.9,   0.3500,  34.6877,2,  34.6878,2,    218.9,2,   219.0,2,  124.94,2,   32.60,2,    2.21,2,-999.000,9,-999.000,9,-999.000,9,  -999.0,9,  -999.0,9,   0.1412
09AR20041223,       I09S,      48,          1,          4,        104,2,20050110,       0130,   -57.4008,   114.9853,       4547,  3603.0,   0.2050,  34.6819,2,  34.6819,2,    223.6,2,   223.8,2,  127.67,2,   32.31,2,    2.21,2,-999.000,9,-999.000,9,-999.000,9,  -999.0,9,  -999.0,9,  -0.0381
09AR20041223,       I09S,      48,          1,          3,        103,2,20050110,       0130,   -57.4008,   114.9853,       4547,  4001.9,   0.0997,  34.6772,2,  34.6778,2,    227.9,2,   227.6,2,  130.31,2,   32.50,2,    2.21,2,-999.000,9,-999.000,9,-999.000,9,  -999.0,9,  -999.0,9,  -0.1796
09AR20041223,       I09S,      48,          1,          2,        102,2,20050110,       0130,   -57.4008,   114.9853,       4547,  4401.5,   0.0155,  34.6726,2,  34.6725,2,    232.0,2,   232.7,2,  131.38,2,   32.31,2,    2.21,2,-999.000,9,-999.000,9,-999.000,9,  -999.0,9,  -999.0,9,  -0.3024
09AR20041223,       I09S,      48,          1,          1,        101,2,20050110,       0130,   -57.4008,   114.9853,       4547,  4620.1,  -0.0367,  34.6669,2,  34.6668,2,    234.1,2,   234.5,2,  134.41,2,   32.50,2,    2.21,2,-999.000,9,-999.000,9,-999.000,9,  -999.0,9,  -999.0,9,  -0.3763
09AR20041223,       I09S,      49,          1,         24,         24,2,20050110,       0825,   -57.9992,   115.0037,       4557,    21.3,   3.2414,  33.8841,2,  33.8859,2,    327.1,2,   326.3,2,   15.33,2,   25.78,2,    1.52,2,   5.030,2,   2.636,2,   0.508,2,  2139.6,6,  2284.8,2,   3.2401
09AR20041223,       I09S,      49,          1,         23,         23,2,20050110,       0825,   -57.9992,   115.0037,       4557,   101.7,   0.3470,  33.9586,2,  33.9589,2,    336.1,2,   338.9,2,   28.22,2,   29.10,2,    1.87,2,   5.502,2,   2.868,2,   0.564,2,  2164.2,2,  2288.0,2,   0.3432
09AR20041223,       I09S,      49,          1,         22,         22,2,20050110,       0825,   -57.9992,   115.0037,       4557,   101.5,   0.3454,  33.9587,2,  33.9596,2,    336.1,2,   339.1,2,   28.32,2,   28.22,2,    1.87,2,   5.513,2,   2.878,2,   0.538,2,  2165.3,2,  2288.2,2,   0.3416
09AR20041223,       I09S,      49,          1,         21,         21,2,20050110,       0825,   -57.9992,   115.0037,       4557,   150.2,   0.1005,  33.9993,2,  33.9995,2,    330.5,2,   325.7,2,   32.91,2,   29.39,2,    1.92,2,   5.243,2,   2.721,2,   0.479,2,  2175.0,2,  2293.2,2,   0.0951
09AR20041223,       I09S,      49,          1,         20,         20,2,20050110,       0825,   -57.9992,   115.0037,       4557,   201.9,   1.3283,  34.2546,2,  34.2520,2,    265.2,2,   238.6,3,   52.43,2,   33.59,2,    2.21,2,   3.249,2,   1.559,2,   0.267,2,  2217.3,2,  2305.7,2,   1.3187
09AR20041223,       I09S,      49,          1,         19,         19,2,20050110,       0825,   -57.9992,   115.0037,       4557,   301.0,   2.1377,  34.4724,2,  34.4711,2,    182.4,2,   182.1,2,   68.14,2,   35.05,2,    2.32,2,   1.249,2,   0.603,6,   0.115,6,  2243.0,2,  2324.8,2,   2.1211
09AR20041223,       I09S,      49,          1,         18,         18,2,20050110,       0825,   -57.9992,   115.0037,       4557,   404.0,   2.2037,  34.5580,2,  34.5585,2,    173.5,2,   173.5,2,   73.51,2,   34.56,2,    2.29,2,   0.728,2,   0.357,2,   0.088,2,  2248.9,2,  2328.3,2,   2.1807
09AR20041223,       I09S,      49,          1,         17,          6,2,20050110,       0825,   -57.9992,   115.0037,       4557,   500.1,   2.2032,  34.6194,2,  34.6195,2,    173.0,2,   173.2,2,   76.33,2,   33.87,2,    2.25,2,   0.475,2,   0.225,2,   0.035,2,  2251.6,2,  2333.8,2,   2.1743
09AR20041223,       I09S,      49,          1,         16,         16,2,20050110,       0825,   -57.9992,   115.0037,       4557,   600.9,   2.1722,  34.6579,2,  34.6572,2,    175.6,2,   176.1,2,   77.89,2,   32.99,2,    2.23,2,   0.353,2,   0.164,2,   0.041,2,  2259.4,3,  2336.2,2,   2.1371
09AR20041223,       I09S,      49,          1,         15,         15,2,20050110,       0825,   -57.9992,   115.0037,       4557,   751.1,   2.1222,  34.6979,2,  34.6980,2,    181.5,2,   181.8,2,   79.26,2,   32.01,2,    2.13,2,   0.248,2,   0.123,2,   0.033,2,  2249.1,2,  2340.6,2,   2.0777
09AR20041223,       I09S,      49,          1,         14,         14,2,20050110,       0825,   -57.9992,   115.0037,       4557,   902.7,   2.0123,  34.7206,2,  34.7208,2,    186.5,2,   186.6,2,   81.89,2,   31.33,2,    2.12,2,   0.217,2,   0.110,2,   0.016,2,  2245.4,2,  2346.3,2,   1.9584
09AR20041223,       I09S,      49,          1,         13,         13,2,20050110,       0825,   -57.9992,   115.0037,       4557,  1052.1,   1.9212,  34.7358,2,  34.7359,2,    190.6,2,   191.0,2,   83.94,2,   31.04,2,    2.07,2,   0.173,2,   0.082,2,   0.012,2,  2245.0,2,  2349.8,2,   1.8578
09AR20041223,       I09S,      49,          1,         12,         12,2,20050110,       0825,   -57.9992,   115.0037,       4557,  1199.6,   1.8194,  34.7438,2,  34.7441,2,    194.1,2,   194.1,2,   86.28,2,   30.65,2,    2.05,2,   0.133,2,   0.070,2,   0.022,2,  2245.4,6,  2347.1,6,   1.7466
09AR20041223,       I09S,      49,          1,         11,         11,2,20050110,       0825,   -57.9992,   115.0037,       4557,  1399.3,   1.6584,  34.7451,2,  34.7457,2,    197.8,2,   197.7,2,   90.38,2,   30.65,2,    2.06,2,   0.136,2,   0.059,2,   0.011,2,  2245.7,2,  2350.0,2,   1.5730
09AR20041223,       I09S,      49,          1,         10,         10,2,20050110,       0825,   -57.9992,   115.0037,       4557,  1650.9,   1.4342,  34.7413,2,  34.7421,2,    201.4,2,   201.1,2,   97.21,2,   30.84,2,    2.07,2,   0.098,2,   0.049,2,   0.013,2,  2251.1,2,  2352.2,2,   1.3330
09AR20041223,       I09S,      49,          1,          9,          9,2,20050110,       0825,   -57.9992,   115.0037,       4557,  1904.9,   1.2140,  34.7311,2,  34.7314,2,    203.5,2,   203.6,2,  103.56,2,   31.23,2,    2.11,2,   0.111,6,   0.054,6,   0.007,6,  2252.6,2,  2353.3,2,   1.0966
09AR20041223,       I09S,      49,          1,          8,        208,2,20050110,       0825,   -57.9992,   115.0037,       4557,  2202.3,   0.9925,  34.7190,2,  34.7312,4,    205.9,2,   206.1,2,  109.22,2,   31.53,2,    2.14,2,   0.145,2,   0.068,2,   0.008,2,  2258.2,2,  2355.1,2,   0.8553
09AR20041223,       I09S,      49,          1,          7,        107,2,20050110,       0825,   -57.9992,   115.0037,       4557,  2502.2,   0.7522,  34.7061,2,  34.7096,2,    209.1,2,   208.9,2,  113.91,2,   32.02,2,    2.17,2,   0.167,2,   0.090,2,   0.018,2,  2257.8,2,  2355.4,2,   0.5949
09AR20041223,       I09S,      49,          1,          6,        117,2,20050110,       0825,   -57.9992,   115.0037,       4557,  2804.4,   0.5439,  34.6958,2,  34.6980,2,    213.1,2,   212.2,2,  119.57,2,   32.31,2,    2.20,2,   0.225,2,   0.108,2,   0.018,2,  2260.1,2,  2364.4,3,   0.3653
09AR20041223,       I09S,      49,          1,          5,        105,2,20050110,       0825,   -57.9992,   115.0037,       4557,  3203.3,   0.3336,  34.6875,2,  34.6876,2,    218.8,2,   218.8,2,  124.65,2,   32.50,2,    2.23,2,   0.356,2,   0.163,2,   0.016,2,  2261.8,2,  2356.3,2,   0.1245
09AR20041223,       I09S,      49,          1,          4,        104,2,20050110,       0825,   -57.9992,   115.0037,       4557,  3601.9,   0.1968,  34.6817,2,  34.6811,2,    223.5,2,   224.3,2,  127.48,2,   32.21,2,    2.22,2,   0.517,2,   0.248,2,   0.032,2,  2259.8,2,  2353.7,2,  -0.0459
09AR20041223,       I09S,      49,          1,          3,        103,2,20050110,       0825,   -57.9992,   115.0037,       4557,  4001.0,   0.0867,  34.6769,2,  34.6766,2,    227.8,2,   228.4,2,  129.14,2,   32.41,2,    2.25,2,   0.743,2,   0.346,2,   0.056,2,  2258.8,2,  2354.7,2,  -0.1921
09AR20041223,       I09S,      49,          1,          2,        102,2,20050110,       0825,   -57.9992,   115.0037,       4557,  4402.4,   0.0084,  34.6718,2,  34.6719,2,    232.1,2,   232.5,2,  129.92,2,   32.31,2,    2.24,2,   1.081,6,   0.508,6,   0.076,6,  2256.5,2,  2353.6,2,  -0.3094
09AR20041223,       I09S,      49,          1,          1,        101,2,20050110,       0825,   -57.9992,   115.0037,       4557,  4624.3,  -0.0362,  34.6668,2,  34.6701,2,    234.5,2,   233.9,2,  132.26,2,   32.21,2,    2.23,2,   1.202,2,   0.569,2,   0.070,2,  2257.6,6,  2353.0,6,  -0.3763