BOTTLE,20220105CCHSIOENA
EXPOCODE,SECT_ID,STNNBR,CASTNO,SAMPNO,BTLNBR,BTLNBR_FLAG_W,DATE,TIME,LATITUDE,LONGITUDE,DEPTH,CTDPRS,CTDTMP,CTDSAL,CTDSAL_FLAG_W,SALNTY,SALNTY_FLAG_W,CTDOXY,CTDOXY_FLAG_W,OXYGEN,OXYGEN_FLAG_W,SILCAT,SILCAT_FLAG_W,NITRAT,NITRAT_FLAG_W,PHSPHT,PHSPHT_FLAG_W,CFC-11,CFC-11_FLAG_W,CFC-12,CFC-12_FLAG_W,CFC113,CFC113_FLAG_W,TCARBN,TCARBN_FLAG_W,ALKALI,ALKALI_FLAG_W,THETA
,,,,,,,,,,,METERS,DBAR,ITS-90,PSS-78,,PSS-78,,UMOL/KG,,UMOL/KG,,UMOL/KG,,UMOL/KG,,UMOL/KG,,PMOL/KG,,PMOL/KG,,PMOL/KG,,UMOL/KG,,UMOL/KG,,DEG C
09AR20041223,       I09S,      42,          1,         24,         24,2,20050107,       1054,   -53.8092,   114.9867,          0,    15.8,   4.8661,  33.8363,2,  33.8359,2,    316.6,2,   316.1,2,    5.27,2,   24.22,2,    1.51,2,-999.000,9,-999.000,9,-999.000,9,  -999.0,9,  -999.0,9,   4.8649
09AR20041223,       I09S,      42,          1,         23,         23,2,20050107,       1054,   -53.8092,   114.9867,          0,    50.5,   4.7049,  33.8428,2,  33.8398,2,    317.2,2,   317.8,2,    5.27,2,   24.32,2,    1.52,2,-999.000,9,-999.000,9,-999.000,9,  -999.0,9,  -999.0,9,   4.7012
09AR20041223,       I09S,      42,          1,         22,         22,2,20050107,       1054,   -53.8092,   114.9867,          0,    80.2,   2.2045,  33.9372,2,  33.9374,2,    329.7,2,   332.4,2,   13.67,2,   25.68,2,    1.75,2,-999.000,9,-999.000,9,-999.000,9,  -999.0,9,  -999.0,9,   2.2002
09AR20041223,       I09S,      42,          1,         21,         21,2,20050107,       1054,   -53.8092,   114.9867,          0,   151.4,   1.2888,  33.9758,2,  33.9753,2,    319.3,2,   322.9,2,   25.39,2,   28.13,2,    1.88,2,-999.000,9,-999.000,9,-999.000,9,  -999.0,9,  -999.0,9,   1.2818
09AR20041223,       I09S,      42,          1,         20,         20,2,20050107,       1054,   -53.8092,   114.9867,          0,   200.5,   1.4044,  34.0815,2,  34.0802,2,    292.3,2,   287.8,2,   35.84,2,   30.37,2,    2.00,2,-999.000,9,-999.000,9,-999.000,9,  -999.0,9,  -999.0,9,   1.3948
09AR20041223,       I09S,      42,          1,         19,         19,2,20050107,       1054,   -53.8092,   114.9867,          0,   252.1,   1.7078,  34.1988,2,  34.1962,2,    247.0,2,   247.8,2,   46.58,2,   32.22,2,    2.13,2,-999.000,9,-999.000,9,-999.000,9,  -999.0,9,  -999.0,9,   1.6950
09AR20041223,       I09S,      42,          1,         18,         18,2,20050107,       1054,   -53.8092,   114.9867,          0,   302.7,   1.9188,  34.3097,2,  34.3084,2,    219.2,2,   217.8,2,   55.94,2,   33.49,2,    2.22,2,-999.000,9,-999.000,9,-999.000,9,  -999.0,9,  -999.0,9,   1.9027
09AR20041223,       I09S,      42,          1,         17,          6,2,20050107,       1054,   -53.8092,   114.9867,          0,   351.1,   2.2368,  34.4131,2,  34.4101,2,    194.3,2,   193.4,2, -999.00,9, -999.00,9, -999.00,9,-999.000,9,-999.000,9,-999.000,9,  -999.0,9,  -999.0,9,   2.2170
09AR20041223,       I09S,      42,          1,         16,         16,2,20050107,       1054,   -53.8092,   114.9867,          0,   399.0,   2.2446,  34.4630,2,  34.4615,2,    185.3,2,   183.9,2,   68.04,2,   34.27,2,    2.28,2,-999.000,9,-999.000,9,-999.000,9,  -999.0,9,  -999.0,9,   2.2219
09AR20041223,       I09S,      42,          1,         15,         15,2,20050107,       1054,   -53.8092,   114.9867,          0,   499.8,   2.3020,  34.5492,2,  34.5481,2,    175.3,2,   175.4,2,   72.73,2,   33.87,2,    2.28,2,-999.000,9,-999.000,9,-999.000,9,  -999.0,9,  -999.0,9,   2.2728
09AR20041223,       I09S,      42,          1,         14,         14,2,20050107,       1054,   -53.8092,   114.9867,          0,   699.5,   2.2454,  34.6482,2,  34.6474,2,    176.5,2,   176.8,2,   77.01,2,   32.60,2,    2.18,2,-999.000,9,-999.000,9,-999.000,9,  -999.0,9,  -999.0,9,   2.2036
09AR20041223,       I09S,      42,          1,         13,         13,2,20050107,       1054,   -53.8092,   114.9867,          0,   901.4,   2.1459,  34.6971,2,  34.6964,2,    182.3,2,   182.8,2,   79.84,2,   31.53,2,    2.11,2,-999.000,9,-999.000,9,-999.000,9,  -999.0,9,  -999.0,9,   2.0912
09AR20041223,       I09S,      42,          1,         12,         12,2,20050107,       1054,   -53.8092,   114.9867,          0,  1101.2,   2.0476,  34.7348,2,  34.7333,2,    190.1,2,   191.2,2,   81.60,2,   30.35,2,    2.03,2,-999.000,9,-999.000,9,-999.000,9,  -999.0,9,  -999.0,9,   1.9797
09AR20041223,       I09S,      42,          1,         11,         11,2,20050107,       1054,   -53.8092,   114.9867,          0,  1300.6,   1.9180,  34.7493,2,  34.7282,4,    195.9,2,   196.5,2,   84.62,2,   29.96,2,    2.01,2,-999.000,9,-999.000,9,-999.000,9,  -999.0,9,  -999.0,9,   1.8370
09AR20041223,       I09S,      42,          1,         10,         10,2,20050107,       1054,   -53.8092,   114.9867,          0,  1499.1,   1.7415,  34.7501,2,  34.7486,2,    199.2,2,   198.7,2,   90.09,2,   29.96,2,    2.02,2,-999.000,9,-999.000,9,-999.000,9,  -999.0,9,  -999.0,9,   1.6479
09AR20041223,       I09S,      42,          1,          9,          9,2,20050107,       1054,   -53.8092,   114.9867,          0,  1702.0,   1.5470,  34.7450,2,  34.7443,2,    201.3,2,   200.8,2,   95.94,2,   30.16,2,    2.04,2,-999.000,9,-999.000,9,-999.000,9,  -999.0,9,  -999.0,9,   1.4405
09AR20041223,       I09S,      42,          1,          8,        108,2,20050107,       1054,   -53.8092,   114.9867,          0,  1898.2,   1.3648,  34.7385,2,  34.7378,2,    203.4,2,   203.5,2,  101.12,2,   30.55,2,    2.05,2,-999.000,9,-999.000,9,-999.000,9,  -999.0,9,  -999.0,9,   1.2457
09AR20041223,       I09S,      42,          1,          7,        107,2,20050107,       1054,   -53.8092,   114.9867,          0,  2197.8,   1.0923,  34.7253,2,  34.7243,2,    205.8,2,   206.3,2,  109.22,2,   31.04,2,    2.10,2,-999.000,9,-999.000,9,-999.000,9,  -999.0,9,  -999.0,9,   0.9538
09AR20041223,       I09S,      42,          1,          6,        117,2,20050107,       1054,   -53.8092,   114.9867,          0,  2498.7,   0.8428,  34.7126,2,  34.7111,2,    209.4,2,   209.8,2,  116.25,2,   31.43,2,    2.14,2,-999.000,9,-999.000,9,-999.000,9,  -999.0,9,  -999.0,9,   0.6841
09AR20041223,       I09S,      42,          1,          5,        105,4,20050107,       1054,   -53.8092,   114.9867,          0,  2798.9,   0.6265,  34.7017,2,  34.7057,4,    213.6,2,  -999.0,9, -999.00,9, -999.00,9, -999.00,9,-999.000,9,-999.000,9,-999.000,9,  -999.0,9,  -999.0,9,   0.4466
09AR20041223,       I09S,      42,          1,          4,        104,2,20050107,       1054,   -53.8092,   114.9867,          0,  3097.9,   0.4098,  34.6917,2,  34.6911,2,    218.2,2,   218.3,2,  125.91,2,   31.82,2,    2.17,2,-999.000,9,-999.000,9,-999.000,9,  -999.0,9,  -999.0,9,   0.2084
09AR20041223,       I09S,      42,          1,          3,        103,2,20050107,       1054,   -53.8092,   114.9867,          0,  3400.9,   0.3031,  34.6866,2,  34.6856,2,    221.2,2,   221.4,2,  134.02,3,   32.02,2,    2.18,2,-999.000,9,-999.000,9,-999.000,9,  -999.0,9,  -999.0,9,   0.0766
09AR20041223,       I09S,      42,          1,          2,        102,2,20050107,       1054,   -53.8092,   114.9867,          0,  3700.5,   0.2533,  34.6836,2,  34.6831,2,    223.2,2,   223.3,2,  132.07,2,   31.92,2,    2.19,2,-999.000,9,-999.000,9,-999.000,9,  -999.0,9,  -999.0,9,  -0.0005
09AR20041223,       I09S,      42,          1,          1,        101,2,20050107,       1054,   -53.8092,   114.9867,          0,  4147.5,   0.2328,  34.6809,2,  34.6799,2,    224.4,2,   224.8,2,  135.38,2,   32.02,2,    2.19,2,-999.000,9,-999.000,9,-999.000,9,  -999.0,9,  -999.0,9,  -0.0652
09AR20041223,       I09S,      43,          1,         24,         24,2,20050108,       1356,   -54.4033,   114.9707,          0,    14.9,   4.5757,  33.8774,2,  33.8775,2,    316.9,2,   316.9,2,    0.88,2,   22.85,2,    1.46,2,   4.754,2,   2.456,2,   0.417,2,  2123.0,6,  2278.7,6,   4.5746
09AR20041223,       I09S,      43,          1,         23,         23,2,20050108,       1356,   -54.4033,   114.9707,          0,    50.5,   4.5437,  33.8767,2,  33.8789,2,    317.0,2,   318.4,2,    0.98,2,   22.95,2,    1.46,2,   4.738,2,   2.457,2,   0.410,2,  2122.9,2,  2279.0,2,   4.5401
09AR20041223,       I09S,      43,          1,         22,         22,2,20050108,       1356,   -54.4033,   114.9707,          0,    80.4,   2.7657,  33.8799,2,  33.8826,2,    323.1,2,   323.8,2,    8.30,2,   24.90,2,    1.74,2,   5.108,2,   2.637,2,   0.454,2,  2142.8,2,  2282.4,2,   2.7611
09AR20041223,       I09S,      43,          1,         21,         21,2,20050108,       1356,   -54.4033,   114.9707,          0,   152.1,   1.4431,  33.9205,2,  33.9174,2,    327.5,2,   326.5,2,   20.31,2,   27.05,2,    1.81,2,   5.289,2,   2.712,2,   0.464,2,  2156.0,2,  2282.7,2,   1.4359
09AR20041223,       I09S,      43,          1,         20,         20,2,20050108,       1356,   -54.4033,   114.9707,          0,   202.1,   1.0898,  33.9633,2,  33.9683,2,    311.7,2,   318.9,2,   26.27,2,   28.42,2,    1.88,2,   5.153,2,   2.639,2,   0.432,2,  2166.4,2,  2285.9,2,   1.0807
09AR20041223,       I09S,      43,          1,         19,         19,2,20050108,       1356,   -54.4033,   114.9707,          0,   252.5,   1.1371,  34.0459,2,  34.0488,2,    298.5,2,   295.3,2,   33.40,2,   29.98,2,    1.96,2,   4.643,6,   2.354,6,   0.392,6,  2181.8,2,  2297.8,2,   1.1255
09AR20041223,       I09S,      43,          1,         18,         18,2,20050108,       1356,   -54.4033,   114.9707,          0,   301.3,   1.8075,  34.1805,2,  34.1772,2,    252.8,2,   251.7,2,   43.45,2,   31.93,2,    2.11,2,   3.545,2,   1.769,2,   0.272,2,  2202.2,2,  2299.0,2,   1.7918
09AR20041223,       I09S,      43,          1,         17,          6,2,20050108,       1356,   -54.4033,   114.9707,          0,   350.2,   2.2411,  34.2918,2,  34.2932,2,    218.0,2,   217.5,2,   51.94,2,   33.20,2,    2.20,2,   2.436,2,   1.194,2,   0.189,2,  2223.2,2,  2306.0,2,   2.2214
09AR20041223,       I09S,      43,          1,         16,         16,2,20050108,       1356,   -54.4033,   114.9707,          0,   400.8,   2.2535,  34.3470,2,  34.3466,2,    203.9,2,   204.6,2,   58.19,2,   33.78,2,    2.24,2,   2.017,2,   0.981,2,   0.158,2,  2229.9,2,  2311.8,2,   2.2307
09AR20041223,       I09S,      43,          1,         15,         15,2,20050108,       1356,   -54.4033,   114.9707,          0,   501.8,   2.3043,  34.4570,2,  34.4593,2,    184.4,2,   184.6,2,   66.48,2,   34.17,2,    2.28,2,   1.231,2,   0.593,2,   0.087,2,  2243.1,2,  2321.3,2,   2.2750
09AR20041223,       I09S,      43,          1,         14,         14,2,20050108,       1356,   -54.4033,   114.9707,          0,   701.3,   2.2928,  34.5995,2,  34.5993,2,    174.4,2,   175.2,2,   75.55,2,   33.29,2,    2.23,2,   0.523,2,   0.247,2,   0.037,2,  2248.0,2,  2333.5,2,   2.2507
09AR20041223,       I09S,      43,          1,         13,         13,2,20050108,       1356,   -54.4033,   114.9707,          0,   900.7,   2.2750,  34.6792,2,  34.6796,2,    179.3,2,   180.7,2,   77.79,2,   31.63,2,    2.13,2,   0.246,2,   0.115,2,   0.015,2,  2249.7,2,  2337.8,2,   2.2194
09AR20041223,       I09S,      43,          1,         12,         12,2,20050108,       1356,   -54.4033,   114.9707,          0,  1100.8,   2.1387,  34.7162,2,  34.7166,2,    186.3,2,   186.7,2,   81.50,2,   30.84,2,    2.07,2,   0.212,2,   0.091,2,   0.015,2,  2247.5,6,  2342.1,6,   2.0701
09AR20041223,       I09S,      43,          1,         11,         11,2,20050108,       1356,   -54.4033,   114.9707,          0,  1302.5,   1.9956,  34.7393,2,  34.7398,2,    191.3,2,   192.3,2,   85.01,2,   30.26,2,    2.04,2,   0.148,2,   0.068,2,   0.037,3,  2246.3,2,  2345.4,2,   1.9137
09AR20041223,       I09S,      43,          1,         10,         10,2,20050108,       1356,   -54.4033,   114.9707,          0,  1500.1,   1.8420,  34.7485,2,  34.7482,2,    196.2,2,   196.4,2,   89.11,2,   29.87,2,    2.02,2,   0.118,2,   0.055,2,   0.020,2,  2245.9,2,  2351.0,2,   1.7471
09AR20041223,       I09S,      43,          1,          9,          9,2,20050108,       1356,   -54.4033,   114.9707,          0,  1700.1,   1.6757,  34.7477,2,  34.7484,2,    199.6,2,   199.4,2,   93.80,2,   29.96,2,    2.03,2,   0.121,6,   0.053,6,   0.009,6,  2247.5,2,  2352.6,2,   1.5676
09AR20041223,       I09S,      43,          1,          8,        108,2,20050108,       1356,   -54.4033,   114.9707,          0,  1900.1,   1.4903,  34.7429,2,  34.7429,2,    202.1,2,   201.9,2,   98.58,2,   30.16,2,    2.05,2,   0.095,2,   0.046,2,   0.008,2,  2251.2,2,  2354.6,2,   1.3692
09AR20041223,       I09S,      43,          1,          7,        107,2,20050108,       1356,   -54.4033,   114.9707,          0,  2201.0,   1.2188,  34.7309,2,  34.7306,2,    205.0,2,   204.5,2,  108.15,2,   30.75,2,    2.08,2,   0.111,2,   0.051,2,   0.004,2,  2253.4,2,  2357.2,2,   1.0779
09AR20041223,       I09S,      43,          1,          6,        117,2,20050108,       1356,   -54.4033,   114.9707,          0,  2500.3,   0.9774,  34.7184,2,  34.7190,2,    207.9,2,   207.2,2,  114.10,2,   31.33,2,    2.13,2,   0.154,2,   0.069,2,   0.014,2,  2254.6,2,  2364.8,2,   0.8160
09AR20041223,       I09S,      43,          1,          5,        105,2,20050108,       1356,   -54.4033,   114.9707,          0,  2800.8,   0.7303,  34.7051,2,  34.7054,2,    211.4,2,   211.1,2,  119.86,2,   31.62,2,    2.16,2,   0.196,2,   0.086,2,   0.007,2,  2256.6,2,  2356.8,2,   0.5480
09AR20041223,       I09S,      43,          1,          4,        104,2,20050108,       1356,   -54.4033,   114.9707,          0,  3100.1,   0.5157,  34.6945,2,  34.6950,2,    215.8,2,   215.7,2,  124.94,2,   31.92,2,    2.18,2,   0.275,2,   0.125,2,   0.022,2,  2259.0,2,  2357.1,2,   0.3116
09AR20041223,       I09S,      43,          1,          3,        103,2,20050108,       1356,   -54.4033,   114.9707,          0,  3401.3,   0.3669,  34.6884,2,  34.6882,2,    220.1,2,   219.7,2,  130.31,2,   31.92,2,    2.19,2,   0.436,2,   0.196,2,   0.011,2,  2257.7,2,  2355.5,2,   0.1387
09AR20041223,       I09S,      43,          1,          2,        102,2,20050108,       1356,   -54.4033,   114.9707,          0,  3701.4,   0.2763,  34.6840,2,  34.6841,2,    222.8,2,   222.5,2,  132.55,2,   31.92,2,    2.19,2,   0.514,6,   0.233,6,   0.042,6,  2256.3,2,  2356.5,2,   0.0218
09AR20041223,       I09S,      43,          1,          1,        101,2,20050108,       1356,   -54.4033,   114.9707,          0,  4245.4,   0.1688,  34.6782,2,  34.6782,2,    227.3,2,   226.7,2,  139.19,2,   32.02,2,    2.20,2,   0.736,2,   0.343,2,   0.050,2,  2258.9,6,  2360.0,6,  -0.1374