BOTTLE,20220105CCHSIOENA
EXPOCODE,SECT_ID,STNNBR,CASTNO,SAMPNO,BTLNBR,BTLNBR_FLAG_W,DATE,TIME,LATITUDE,LONGITUDE,DEPTH,CTDPRS,CTDTMP,CTDSAL,CTDSAL_FLAG_W,SALNTY,SALNTY_FLAG_W,CTDOXY,CTDOXY_FLAG_W,OXYGEN,OXYGEN_FLAG_W,SILCAT,SILCAT_FLAG_W,NITRAT,NITRAT_FLAG_W,PHSPHT,PHSPHT_FLAG_W,CFC-11,CFC-11_FLAG_W,CFC-12,CFC-12_FLAG_W,CFC113,CFC113_FLAG_W,TCARBN,TCARBN_FLAG_W,ALKALI,ALKALI_FLAG_W,THETA
,,,,,,,,,,,METERS,DBAR,ITS-90,PSS-78,,PSS-78,,UMOL/KG,,UMOL/KG,,UMOL/KG,,UMOL/KG,,UMOL/KG,,PMOL/KG,,PMOL/KG,,PMOL/KG,,UMOL/KG,,UMOL/KG,,DEG C
09AR20041223,       I09S,      88,          1,         24,         24,2,20050128,       2027,   -56.8820,    85.1447,       4530,    11.1,   2.6257,  33.9334,2,  33.9330,2,    322.6,2,   324.0,2,    9.86,2,   24.42,2,    1.60,2,   5.239,2,   2.685,2,   0.419,2,  2145.7,6,  2292.2,6,   2.6251
09AR20041223,       I09S,      88,          1,         23,         23,2,20050128,       2027,   -56.8820,    85.1447,       4530,    51.3,   2.5505,  33.9346,2,  33.9350,2,    322.9,2,   324.5,2,    9.47,2,   24.42,2,    1.58,2,   5.319,2,   2.718,2,   0.458,2,  2146.1,2,  2290.2,2,   2.5476
09AR20041223,       I09S,      88,          1,         22,         22,2,20050128,       2027,   -56.8820,    85.1447,       4530,   102.0,   1.7574,  33.9675,2,  33.9634,2,    323.1,2,   326.4,2,   16.99,2,   25.39,2,    1.73,2,   5.461,2,   2.802,2,   0.465,2,  2157.3,2,  2295.5,2,   1.7523
09AR20041223,       I09S,      88,          1,         21,         21,2,20050128,       2027,   -56.8820,    85.1447,       4530,   151.9,  -0.0453,  34.0894,2,  34.0890,2,    322.9,2,   323.9,2,   46.58,2,   29.59,2,    2.08,2,   5.514,2,   2.810,2,   0.474,2,  2192.2,2,  2300.7,2,  -0.0506
09AR20041223,       I09S,      88,          1,         20,         20,2,20050128,       2027,   -56.8820,    85.1447,       4530,   200.0,   0.0817,  34.2029,2,  34.2003,2,    302.4,2,   297.4,2,   55.66,2,   31.54,2,    2.16,2,   4.714,2,   2.374,2,   0.409,2,  2208.8,2,  2308.5,2,   0.0743
09AR20041223,       I09S,      88,          1,         19,         19,2,20050128,       2027,   -56.8820,    85.1447,       4530,   301.0,   1.2310,  34.4594,2,  34.4617,2,    223.7,2,   214.0,2,   72.83,2,   33.78,2,    2.30,2,   2.091,6,   1.035,6,   0.173,6,  2242.7,2,  2323.8,2,   1.2166
09AR20041223,       I09S,      88,          1,         18,         18,2,20050128,       2027,   -56.8820,    85.1447,       4530,   401.1,   1.8515,  34.5986,2,  34.5977,2,    183.7,2,   183.2,2,   79.65,2,   33.48,2,    2.28,2,   0.832,2,   0.418,2,   0.056,2,  2254.0,2,  2331.9,2,   1.8298
09AR20041223,       I09S,      88,          1,         17,          6,2,20050128,       2027,   -56.8820,    85.1447,       4530,   502.1,   1.9499,  34.6649,2,  34.6644,2,    180.2,2,   179.3,2,   82.87,2,   32.60,2,    2.25,2,   0.501,2,   0.229,2,   0.027,2,  -999.0,9,  -999.0,9,   1.9219
09AR20041223,       I09S,      88,          1,         16,         16,2,20050128,       2027,   -56.8820,    85.1447,       4530,   652.0,   1.9199,  34.7095,2,  34.7090,2,    183.1,2,   184.1,2,   85.21,2,   31.72,2,    2.18,2,   0.281,2,   0.132,2,   0.034,2,  2252.9,2,  2343.4,2,   1.8828
09AR20041223,       I09S,      88,          1,         15,         15,2,20050128,       2027,   -56.8820,    85.1447,       4530,   801.3,   1.8539,  34.7293,2,  34.7292,2,    187.8,2,   189.5,2,   86.58,2,   30.94,2,    2.14,2,   0.214,2,   0.104,2,   0.017,2,  2250.3,2,  2346.5,2,   1.8077
09AR20041223,       I09S,      88,          1,         14,         14,2,20050128,       2027,   -56.8820,    85.1447,       4530,   950.9,   1.7643,  34.7369,2,  34.7366,2,    192.9,2,   193.3,2,   88.72,2,   30.65,2,    2.12,2,   0.207,2,   0.095,2,   0.005,2,  2249.9,2,  2348.4,2,   1.7090
09AR20041223,       I09S,      88,          1,         13,         13,2,20050128,       2027,   -56.8820,    85.1447,       4530,  1102.1,   1.6455,  34.7426,2,  34.7427,2,    197.3,2,   197.3,2,   91.75,2,   30.35,2,    2.11,2,   0.167,2,   0.080,2,   0.007,2,  2249.1,2,  2349.0,2,   1.5811
09AR20041223,       I09S,      88,          1,         12,         12,2,20050128,       2027,   -56.8820,    85.1447,       4530,  1301.1,   1.4895,  34.7414,2,  34.7420,2,    200.6,2,   199.6,2,   95.36,2,   30.55,2,    2.11,2,   0.146,2,   0.076,2,   0.015,2,  2248.4,6,  2352.2,6,   1.4129
09AR20041223,       I09S,      88,          1,         11,         11,2,20050128,       2027,   -56.8820,    85.1447,       4530,  1502.3,   1.2757,  34.7345,2,  34.7341,2,    202.4,2,   202.7,2,  101.61,2,   30.84,2,    2.14,2,   0.133,2,   0.066,2,   0.003,2,  2251.1,2,  2354.9,2,   1.1873
09AR20041223,       I09S,      88,          1,         10,         10,2,20050128,       2027,   -56.8820,    85.1447,       4530,  1750.7,   1.1461,  34.7286,2,  34.7290,2,    204.4,2,   204.2,2,  106.00,2,   31.04,2,    2.16,2,   0.122,2,   0.061,2,   0.000,2,  2254.9,2,  2354.6,2,   1.0413
09AR20041223,       I09S,      88,          1,          9,          9,2,20050128,       2027,   -56.8820,    85.1447,       4530,  2000.2,   1.0047,  34.7208,2,  34.7206,2,    206.3,2,   206.1,2,  110.39,2,   31.53,2,    2.18,2,   0.133,6,   0.062,6,   0.005,6,  2255.6,2,  2357.2,2,   0.8832
09AR20041223,       I09S,      88,          1,          8,        108,2,20050128,       2027,   -56.8820,    85.1447,       4530,  2304.4,   0.6890,  34.7040,2,  34.7035,2,    210.3,2,   210.1,2,  119.18,2,   32.02,2,    2.23,2,   0.175,2,   0.089,2,   0.006,2,  2259.7,2,  2372.3,3,   0.5489
09AR20041223,       I09S,      88,          1,          7,        107,2,20050128,       2027,   -56.8820,    85.1447,       4530,  2603.9,   0.5077,  34.6940,2,  34.6937,2,    212.9,2,   212.8,2,  123.57,2,   32.11,2,    2.25,2,   0.237,2,   0.114,2,   0.009,2,  -999.0,9,  -999.0,9,   0.3468
09AR20041223,       I09S,      88,          1,          6,        117,2,20050128,       2027,   -56.8820,    85.1447,       4530,  2904.9,   0.3404,  34.6862,2,  34.6858,2,    217.6,2,   217.4,2,  126.11,2,   32.31,2,    2.25,2,   0.342,2,   0.168,2,   0.016,2,  2259.1,2,  2359.0,6,   0.1575
09AR20041223,       I09S,      88,          1,          5,        105,2,20050128,       2027,   -56.8820,    85.1447,       4530,  3300.6,   0.1579,  34.6789,2,  34.6782,2,    223.9,2,   223.8,2,  127.67,2,   32.31,2,    2.26,2,   0.567,2,   0.277,2,   0.037,2,  2259.2,2,  2354.3,2,  -0.0557
09AR20041223,       I09S,      88,          1,          4,        104,2,20050128,       2027,   -56.8820,    85.1447,       4530,  3697.9,   0.0763,  34.6759,2,  34.6744,2,    226.9,2,   228.5,2,  128.26,2,   32.21,2,    2.26,2,   0.761,2,   0.365,2,   0.046,2,  2257.6,2,  2354.8,2,  -0.1724
09AR20041223,       I09S,      88,          1,          3,        103,2,20050128,       2027,   -56.8820,    85.1447,       4530,  4100.0,  -0.0065,  34.6713,2,  34.6707,2,    232.1,2,   231.5,2,  130.21,2,   32.50,2,    2.25,2,   1.066,2,   0.499,2,   0.072,2,  2258.0,2,  2354.2,2,  -0.2925
09AR20041223,       I09S,      88,          1,          2,        102,2,20050128,       2027,   -56.8820,    85.1447,       4530,  4400.8,   0.0163,  34.6707,2,  34.6699,2,    231.8,2,   231.9,2,  130.50,2,   32.11,2,    2.25,2,   1.098,6,   0.522,6,   0.072,6,  2256.3,2,  2355.0,2,  -0.3015
09AR20041223,       I09S,      88,          1,          1,        101,2,20050128,       2027,   -56.8820,    85.1447,       4530,  4657.3,   0.0310,  34.6699,2,  34.6697,2,    232.1,2,   232.4,2,  130.90,2,   32.11,2,    2.25,2,   1.130,2,   0.533,2,   0.067,2,  2255.3,6,  2353.6,6,  -0.3148
09AR20041223,       I09S,      89,          1,         24,         24,2,20050129,       1544,   -59.3248,    81.6387,       1811,     9.9,   1.4762,  33.8604,2,  33.8609,2,    334.7,2,   334.6,2,   34.48,2,   25.20,2,    1.59,2,   5.543,2,   2.841,2,   0.464,2,  2154.3,6,  2290.6,6,   1.4757
09AR20041223,       I09S,      89,          1,         23,         23,2,20050129,       1544,   -59.3248,    81.6387,       1811,    30.5,   1.2349,  33.8562,2,  33.8568,2,    334.3,2,   335.3,2,   33.21,2,   24.91,2,    1.59,2,-999.000,9,-999.000,9,-999.000,9,  2153.2,2,  2293.8,2,   1.2335
09AR20041223,       I09S,      89,          1,         22,         22,2,20050129,       1544,   -59.3248,    81.6387,       1811,    50.0,   1.1134,  33.8727,2,  33.8756,2,    333.7,2,   333.6,2,   35.84,2,   25.39,2,    1.65,2,   5.529,2,   2.819,2,   0.458,2,  2158.6,2,  2290.6,2,   1.1112
09AR20041223,       I09S,      89,          1,         21,         21,2,20050129,       1544,   -59.3248,    81.6387,       1811,    80.9,  -1.3988,  34.0997,2,  34.0978,2,    294.3,2,   306.2,2,   56.34,2,   30.66,2,    2.06,2,-999.000,9,-999.000,9,-999.000,9,  2203.7,2,  2302.9,2,  -1.4006
09AR20041223,       I09S,      89,          1,         20,         20,2,20050129,       1544,   -59.3248,    81.6387,       1811,   100.5,  -0.6278,  34.2369,2,  34.2352,2,    270.4,2,   269.8,2,   63.17,2,   31.83,2,    2.14,2,   3.773,2,   1.908,2,   0.313,2,  2219.5,2,  2309.4,2,  -0.6308
09AR20041223,       I09S,      89,          1,         19,         19,2,20050129,       1544,   -59.3248,    81.6387,       1811,   125.0,   0.5424,  34.4178,2,  34.4134,2,    224.7,2,   219.8,2,   74.10,2,   33.29,2,    2.25,2,-999.000,9,-999.000,9,-999.000,9,  2241.8,2,  2320.6,2,   0.5373
09AR20041223,       I09S,      89,          1,         18,         18,2,20050129,       1544,   -59.3248,    81.6387,       1811,   149.0,   1.1824,  34.5246,2,  34.5220,2,    192.5,2,   194.9,2,   79.66,2,   33.78,2,    2.27,2,   1.440,2,   0.720,6,   0.124,6,  -999.0,9,  -999.0,9,   1.1755
09AR20041223,       I09S,      89,          1,         17,          6,2,20050129,       1544,   -59.3248,    81.6387,       1811,   199.3,   1.8382,  34.6479,2,  34.6478,2,    174.8,2,   174.4,2,   85.51,2,   33.29,2,    2.26,2,   0.532,2,   0.262,2,   0.035,2,  -999.0,9,  -999.0,9,   1.8278
09AR20041223,       I09S,      89,          1,         16,         16,2,20050129,       1544,   -59.3248,    81.6387,       1811,   251.3,   1.9323,  34.6847,2,  34.6847,2,    176.4,2,   175.5,2,   86.29,2,   32.89,2,    2.22,2,   0.330,2,   0.165,2,   0.019,2,  2257.3,2,  2339.6,2,   1.9188
09AR20041223,       I09S,      89,          1,         15,         15,2,20050129,       1544,   -59.3248,    81.6387,       1811,   301.8,   1.9269,  34.7016,2,  34.7023,2,    178.7,2,   178.3,2,   86.87,2,   32.41,2,    2.20,2,   0.273,2,   0.133,2,   0.021,2,  -999.0,9,  -999.0,9,   1.9106
09AR20041223,       I09S,      89,          1,         14,         14,2,20050129,       1544,   -59.3248,    81.6387,       1811,   401.2,   1.8956,  34.7240,2,  34.7241,2,    182.7,2,   184.0,2,   87.06,2,   31.62,2,    2.13,2,   0.197,2,   0.096,2,   0.012,2,  -999.0,9,  -999.0,9,   1.8737
09AR20041223,       I09S,      89,          1,         13,         13,2,20050129,       1544,   -59.3248,    81.6387,       1811,   500.0,   1.8081,  34.7342,2,  34.7341,2,    187.0,2,   186.8,2,   89.11,2,   31.23,2,    2.12,2,   0.170,2,   0.086,2,   0.007,2,  -999.0,9,  -999.0,9,   1.7807
09AR20041223,       I09S,      89,          1,         12,         12,2,20050129,       1544,   -59.3248,    81.6387,       1811,   599.0,   1.7254,  34.7401,2,  34.7402,2,    191.8,2,   192.0,2,   89.41,2,   30.75,2,    2.09,2,   0.174,2,   0.087,2,   0.007,2,  2251.4,2,  2344.8,6,   1.6925
09AR20041223,       I09S,      89,          1,         11,         11,2,20050129,       1544,   -59.3248,    81.6387,       1811,   701.1,   1.6366,  34.7446,2,  34.7441,2,    195.5,2,   194.3,2,   91.65,2,   30.45,2,    2.07,2,   0.127,2,   0.062,2,   0.007,2,  -999.0,9,  -999.0,9,   1.5980
09AR20041223,       I09S,      89,          1,         10,         10,2,20050129,       1544,   -59.3248,    81.6387,       1811,   802.0,   1.5330,  34.7449,2,  34.7459,2,    197.7,2,   197.7,2,   93.99,2,   30.45,2,    2.07,2,   0.129,2,   0.065,2,   0.009,2,  -999.0,9,  -999.0,9,   1.4888
09AR20041223,       I09S,      89,          1,          9,          9,2,20050129,       1544,   -59.3248,    81.6387,       1811,   900.0,   1.4259,  34.7423,2,  34.7425,2,    199.5,2,   199.8,2,   97.12,2,   30.45,2,    2.08,2,   0.116,6,   0.058,6,   0.007,6,  -999.0,9,  -999.0,9,   1.3764
09AR20041223,       I09S,      89,          1,          8,        108,2,20050129,       1544,   -59.3248,    81.6387,       1811,  1000.1,   1.3231,  34.7384,2,  34.7382,2,    201.0,2,   201.7,2,  100.34,2,   30.65,2,    2.09,2,   0.106,2,   0.059,2,   0.003,2,  2254.2,2,  2349.3,2,   1.2680
09AR20041223,       I09S,      89,          1,          7,        107,2,20050129,       1544,   -59.3248,    81.6387,       1811,  1100.1,   1.2410,  34.7355,2,  34.7361,2,    202.5,2,   202.7,2,  102.49,2,   30.84,2,    2.10,2,   0.098,2,   0.048,2,   0.000,2,  -999.0,9,  -999.0,9,   1.1802
09AR20041223,       I09S,      89,          1,          6,        117,2,20050129,       1544,   -59.3248,    81.6387,       1811,  1200.4,   1.1485,  34.7312,2,  34.7314,2,    203.9,2,   203.2,2,  105.02,2,   30.84,2,    2.12,2,   0.100,2,   0.049,2,   0.000,2,  -999.0,9,  -999.0,9,   1.0821
09AR20041223,       I09S,      89,          1,          5,        105,2,20050129,       1544,   -59.3248,    81.6387,       1811,  1350.9,   1.0183,  34.7238,2,  34.7249,2,    204.8,2,   204.6,2,  109.90,2,   31.23,2,    2.13,2,   0.099,2,   0.052,2,   0.003,2,  2255.7,2,  2355.2,2,   0.9433
09AR20041223,       I09S,      89,          1,          4,        104,2,20050129,       1544,   -59.3248,    81.6387,       1811,  1500.5,   0.8891,  34.7164,2,  34.7168,2,    205.8,2,   205.2,2,  115.47,2,   31.53,2,    2.17,2,   0.112,2,   0.060,2,   0.003,2,  -999.0,9,  -999.0,9,   0.8055
09AR20041223,       I09S,      89,          1,          3,        103,2,20050129,       1544,   -59.3248,    81.6387,       1811,  1601.9,   0.7947,  34.7111,2,  34.7117,2,    206.9,2,   206.6,2,  118.40,2,   31.72,2,    2.22,2,-999.000,5,-999.000,5,-999.000,5,  -999.0,9,  -999.0,9,   0.7053
09AR20041223,       I09S,      89,          1,          2,        102,2,20050129,       1544,   -59.3248,    81.6387,       1811,  1700.6,   0.7053,  34.7060,2,  34.7070,2,    207.3,2,   206.7,2,  125.82,2,   32.41,2,    2.22,2,   0.108,6,   0.051,6,   0.013,6,  2260.8,2,  2358.5,2,   0.6102
09AR20041223,       I09S,      89,          1,          1,        101,2,20050129,       1544,   -59.3248,    81.6387,       1811,  1787.4,   0.6029,  34.7004,2,  34.7007,2,    208.8,2,   210.0,2,  129.04,2,   32.11,2,    2.23,2,   0.101,2,   0.054,2,   0.000,2,  2261.7,6,  2356.1,6,   0.5031