BOTTLE,20220105CCHSIOENA
EXPOCODE,SECT_ID,STNNBR,CASTNO,SAMPNO,BTLNBR,BTLNBR_FLAG_W,DATE,TIME,LATITUDE,LONGITUDE,DEPTH,CTDPRS,CTDTMP,CTDSAL,CTDSAL_FLAG_W,SALNTY,SALNTY_FLAG_W,CTDOXY,CTDOXY_FLAG_W,OXYGEN,OXYGEN_FLAG_W,SILCAT,SILCAT_FLAG_W,NITRAT,NITRAT_FLAG_W,PHSPHT,PHSPHT_FLAG_W,CFC-11,CFC-11_FLAG_W,CFC-12,CFC-12_FLAG_W,CFC113,CFC113_FLAG_W,TCARBN,TCARBN_FLAG_W,ALKALI,ALKALI_FLAG_W,THETA
,,,,,,,,,,,METERS,DBAR,ITS-90,PSS-78,,PSS-78,,UMOL/KG,,UMOL/KG,,UMOL/KG,,UMOL/KG,,UMOL/KG,,PMOL/KG,,PMOL/KG,,PMOL/KG,,UMOL/KG,,UMOL/KG,,DEG C
09AR20041223,       I09S,      34,          1,         24,         24,2,20050104,       2037,   -49.5097,   115.0018,       3383,    10.5,   6.9887,  33.9844,2,  33.9849,2,    300.7,2,   299.4,2,    1.76,2,   19.73,2,    1.36,2,-999.000,9,-999.000,9,-999.000,9,  -999.0,9,  -999.0,9,   6.9877
09AR20041223,       I09S,      34,          1,         23,         23,2,20050104,       2037,   -49.5097,   115.0018,       3383,    10.7,   6.9953,  33.9845,2,-999.0000,9,    300.7,2,  -999.0,9, -999.00,9, -999.00,9, -999.00,9,-999.000,9,-999.000,9,-999.000,9,  -999.0,9,  -999.0,9,   6.9943
09AR20041223,       I09S,      34,          1,         22,         22,2,20050104,       2037,   -49.5097,   115.0018,       3383,    10.4,   6.9959,  33.9845,2,-999.0000,9,    300.7,2,  -999.0,9, -999.00,9, -999.00,9, -999.00,9,-999.000,9,-999.000,9,-999.000,9,  -999.0,9,  -999.0,9,   6.9950
09AR20041223,       I09S,      34,          1,         21,         21,2,20050104,       2037,   -49.5097,   115.0018,       3383,    69.8,   7.0097,  34.0052,2,  34.0054,2,    299.0,2,   298.0,2,    2.05,2,   19.43,2,    1.33,2,-999.000,9,-999.000,9,-999.000,9,  -999.0,9,  -999.0,9,   7.0033
09AR20041223,       I09S,      34,          1,         20,         20,2,20050104,       2037,   -49.5097,   115.0018,       3383,    91.2,   6.0625,  34.1344,2,  34.1336,2,    295.2,2,   293.3,2,    6.74,2,   19.92,2,    1.44,2,-999.000,9,-999.000,9,-999.000,9,  -999.0,9,  -999.0,9,   6.0548
09AR20041223,       I09S,      34,          1,         19,         19,2,20050104,       2037,   -49.5097,   115.0018,       3383,   140.7,   5.4009,  34.1131,2,  34.1163,2,    293.2,2,   290.4,2,    9.18,2,   22.07,2,    1.50,2,-999.000,9,-999.000,9,-999.000,9,  -999.0,9,  -999.0,9,   5.3897
09AR20041223,       I09S,      34,          1,         18,         18,2,20050104,       2037,   -49.5097,   115.0018,       3383,   204.6,   5.3427,  34.1716,2,  34.1712,2,    267.5,2,   270.4,2,   12.30,2,   23.53,2,    1.60,2,-999.000,9,-999.000,9,-999.000,9,  -999.0,9,  -999.0,9,   5.3264
09AR20041223,       I09S,      34,          1,         17,          6,2,20050104,       2037,   -49.5097,   115.0018,       3383,   301.8,   4.3344,  34.1273,2,  34.1273,2,    268.9,2,   273.4,2,   16.31,2,   25.68,2,    1.73,2,-999.000,9,-999.000,9,-999.000,9,  -999.0,9,  -999.0,9,   4.3126
09AR20041223,       I09S,      34,          1,         16,         16,2,20050104,       2037,   -49.5097,   115.0018,       3383,   399.2,   4.0768,  34.1958,2,  34.1964,2,    248.6,2,   248.8,2,   22.26,2,   27.93,2,    1.86,2,-999.000,9,-999.000,9,-999.000,9,  -999.0,9,  -999.0,9,   4.0484
09AR20041223,       I09S,      34,          1,         15,         15,2,20050104,       2037,   -49.5097,   115.0018,       3383,   501.6,   3.8752,  34.2535,2,  34.2553,2,    230.5,2,   228.5,2,   28.80,2,   29.68,2,    1.99,2,-999.000,9,-999.000,9,-999.000,9,  -999.0,9,  -999.0,9,   3.8398
09AR20041223,       I09S,      34,          1,         14,         14,2,20050104,       2037,   -49.5097,   115.0018,       3383,   600.4,   3.3294,  34.2718,2,  34.2724,2,    222.0,2,   219.2,2,   36.81,2,   31.24,2,    2.10,2,-999.000,9,-999.000,9,-999.000,9,  -999.0,9,  -999.0,9,   3.2892
09AR20041223,       I09S,      34,          1,         13,         13,2,20050104,       2037,   -49.5097,   115.0018,       3383,   700.6,   3.0209,  34.3250,2,  34.3270,2,    205.8,2,   205.7,2,   45.89,2,   32.32,2,    2.19,2,-999.000,9,-999.000,9,-999.000,9,  -999.0,9,  -999.0,9,   2.9751
09AR20041223,       I09S,      34,          1,         12,         12,2,20050104,       2037,   -49.5097,   115.0018,       3383,   850.3,   2.7685,  34.4100,2,  34.4095,2,    188.8,2,   189.7,2,   56.43,2,   33.39,2,    2.27,2,-999.000,9,-999.000,9,-999.000,9,  -999.0,9,  -999.0,9,   2.7134
09AR20041223,       I09S,      34,          1,         11,         11,2,20050104,       2037,   -49.5097,   115.0018,       3383,  1000.8,   2.5938,  34.4980,2,  34.4993,2,    178.8,2,   180.1,2,   65.11,2,   33.58,2,    2.29,2,-999.000,9,-999.000,9,-999.000,9,  -999.0,9,  -999.0,9,   2.5290
09AR20041223,       I09S,      34,          1,         10,         10,2,20050104,       2037,   -49.5097,   115.0018,       3383,  1201.1,   2.4979,  34.6042,2,  34.6044,2,    174.5,2,   175.6,2,   72.62,2,   32.60,2,    2.25,2,-999.000,9,-999.000,9,-999.000,9,  -999.0,9,  -999.0,9,   2.4189
09AR20041223,       I09S,      34,          1,          9,          9,2,20050104,       2037,   -49.5097,   115.0018,       3383,  1400.6,   2.4087,  34.6723,2,  34.6723,2,    179.5,2,   180.4,2,   74.48,2,   31.63,2,    2.15,2,-999.000,9,-999.000,9,-999.000,9,  -999.0,9,  -999.0,9,   2.3152
09AR20041223,       I09S,      34,          1,          8,        108,2,20050104,       2037,   -49.5097,   115.0018,       3383,  1602.0,   2.2972,  34.7132,2,  34.7119,2,    186.3,2,   185.9,2,   76.43,2,   30.55,2,    2.11,2,-999.000,9,-999.000,9,-999.000,9,  -999.0,9,  -999.0,9,   2.1890
09AR20041223,       I09S,      34,          1,          7,        107,2,20050104,       2037,   -49.5097,   115.0018,       3383,  1802.0,   2.1619,  34.7381,2,  34.7372,2,    191.3,2,   191.7,2,   79.35,2,   30.36,2,    2.06,2,-999.000,9,-999.000,9,-999.000,9,  -999.0,9,  -999.0,9,   2.0392
09AR20041223,       I09S,      34,          1,          6,        117,2,20050104,       2037,   -49.5097,   115.0018,       3383,  2101.4,   1.9515,  34.7532,2,  34.7529,2,    197.1,2,   196.8,2,   84.52,2,   29.57,2,    2.04,2,-999.000,9,-999.000,9,-999.000,9,  -999.0,9,  -999.0,9,   1.8068
09AR20041223,       I09S,      34,          1,          5,        105,2,20050104,       2037,   -49.5097,   115.0018,       3383,  2400.8,   1.6218,  34.7470,2,  34.7461,2,    201.0,2,   200.5,2,   93.50,2,   30.06,2,    2.07,2,-999.000,9,-999.000,9,-999.000,9,  -999.0,9,  -999.0,9,   1.4569
09AR20041223,       I09S,      34,          1,          4,        104,2,20050104,       2037,   -49.5097,   115.0018,       3383,  2700.4,   1.3359,  34.7348,2,  34.7345,2,    204.2,2,   203.8,2,  103.46,2,   30.84,2,    2.12,2,-999.000,9,-999.000,9,-999.000,9,  -999.0,9,  -999.0,9,   1.1500
09AR20041223,       I09S,      34,          1,          3,        103,2,20050104,       2037,   -49.5097,   115.0018,       3383,  3003.0,   1.1186,  34.7235,2,  34.7223,2,    206.8,2,   206.9,2,  112.34,2,   31.04,2,    2.15,2,-999.000,9,-999.000,9,-999.000,9,  -999.0,9,  -999.0,9,   0.9097
09AR20041223,       I09S,      34,          1,          2,        102,2,20050104,       2037,   -49.5097,   115.0018,       3383,  3301.2,   1.0047,  34.7171,2,  34.7166,2,    209.2,2,   208.3,2,  115.86,2,   31.14,2,    2.18,2,-999.000,9,-999.000,9,-999.000,9,  -999.0,9,  -999.0,9,   0.7702
09AR20041223,       I09S,      34,          1,          1,        101,2,20050104,       2037,   -49.5097,   115.0018,       3383,  3450.9,   0.9895,  34.7157,2,  34.7149,2,    209.9,2,   209.8,2,  118.69,2,   31.14,2,    2.18,2,-999.000,9,-999.000,9,-999.000,9,  -999.0,9,  -999.0,9,   0.7409
09AR20041223,       I09S,      35,          1,         24,         24,2,20050105,       0421,   -49.9947,   115.0122,       3756,    11.4,   6.4622,  33.9506,2,  33.9510,2,    303.4,2,   302.7,2,    1.86,2,   20.41,2,    1.35,2,   4.246,2,   2.267,2,   0.377,2,  2109.6,6,  2274.1,6,   6.4612
09AR20041223,       I09S,      35,          1,         23,         23,2,20050105,       0421,   -49.9947,   115.0122,       3756,    11.4,   6.4452,  33.9503,2,-999.0000,9,    303.4,2,  -999.0,9, -999.00,9, -999.00,9, -999.00,9,-999.000,9,-999.000,9,-999.000,9,  -999.0,9,  -999.0,9,   6.4442
09AR20041223,       I09S,      35,          1,         22,         22,2,20050105,       0421,   -49.9947,   115.0122,       3756,    11.2,   6.4444,  33.9505,2,-999.0000,9,    303.4,2,  -999.0,9, -999.00,9, -999.00,9, -999.00,9,-999.000,9,-999.000,9,-999.000,9,  -999.0,9,  -999.0,9,   6.4434
09AR20041223,       I09S,      35,          1,         21,         21,2,20050105,       0421,   -49.9947,   115.0122,       3756,    82.6,   4.5446,  33.9829,2,  33.9813,2,    308.5,2,   309.0,2,    4.49,2,   21.78,2,    1.54,2,   4.572,2,   2.444,2,   0.431,2,  2128.3,2,  2276.0,2,   4.5386
09AR20041223,       I09S,      35,          1,         20,         20,2,20050105,       0421,   -49.9947,   115.0122,       3756,   101.5,   4.5857,  34.0179,2,  34.0187,2,    307.3,2,   302.7,2,    5.76,2,   22.17,2,    1.54,2,   4.456,2,   2.402,2,   0.400,2,  2130.3,2,  2278.1,2,   4.5783
09AR20041223,       I09S,      35,          1,         19,         19,2,20050105,       0421,   -49.9947,   115.0122,       3756,   199.6,   4.0496,  34.0493,2,  34.0488,2,    292.2,2,   293.1,2,   13.96,2,   24.80,2,    1.65,2,-999.000,5,-999.000,5,-999.000,5,  2142.8,2,  2281.5,2,   4.0358
09AR20041223,       I09S,      35,          1,         18,         18,2,20050105,       0421,   -49.9947,   115.0122,       3756,   299.6,   3.7454,  34.1386,2,  34.1416,2,    280.5,2,   260.3,3,   21.97,2,   27.93,2,    1.85,2,   3.892,2,   1.955,2,   0.297,2,  2168.3,2,  2281.8,2,   3.7251
09AR20041223,       I09S,      35,          1,         17,          6,2,20050105,       0421,   -49.9947,   115.0122,       3756,   402.2,   3.4138,  34.2032,2,  34.2035,2,    235.2,2,   239.4,2,   29.59,2,   29.98,2,    1.99,2,   3.226,2,   1.581,2,   0.258,2,  2184.0,2,  2290.0,2,   3.3873
09AR20041223,       I09S,      35,          1,         16,         16,2,20050105,       0421,   -49.9947,   115.0122,       3756,   500.2,   3.1007,  34.2778,2,  34.2777,2,    217.7,2,   217.5,2,   39.54,2,   31.63,2,    2.12,2,   2.429,2,   1.154,2,   0.173,2,  2204.9,2,  2299.9,2,   3.0685
09AR20041223,       I09S,      35,          1,         15,         15,2,20050105,       0421,   -49.9947,   115.0122,       3756,   600.8,   2.8572,  34.3553,2,  34.3549,2,    200.9,2,   199.7,2,   49.79,2,   33.49,2,    2.22,2,   1.716,2,   0.814,2,   0.133,2,  2222.1,2,  2306.2,2,   2.8191
09AR20041223,       I09S,      35,          1,         14,         14,2,20050105,       0421,   -49.9947,   115.0122,       3756,   700.5,   2.7592,  34.4229,2,  34.4236,2,    188.0,2,   187.7,2,   57.60,2,   33.58,2,    2.26,2,   1.226,2,   0.550,2,   0.108,2,  2227.7,2,  2315.5,2,   2.7147
09AR20041223,       I09S,      35,          1,         13,         13,2,20050105,       0421,   -49.9947,   115.0122,       3756,   850.7,   2.6345,  34.5079,2,  34.5066,2,    178.9,2,   178.8,2,   64.82,2,   33.58,2,    2.26,2,   0.761,2,   0.339,2,   0.087,3,  2242.4,2,  2334.4,2,   2.5802
09AR20041223,       I09S,      35,          1,         12,         12,2,20050105,       0421,   -49.9947,   115.0122,       3756,  1001.0,   2.5199,  34.5871,2,  34.5877,2,    176.0,2,   176.0,2,   70.67,2,   32.90,2,    2.24,2,   0.468,2,   0.184,2,   0.027,2,  2247.0,2,  2329.3,2,   2.4555
09AR20041223,       I09S,      35,          1,         11,         11,2,20050105,       0421,   -49.9947,   115.0122,       3756,  1201.2,   2.4224,  34.6671,2,  34.6674,2,    179.5,2,   179.7,2,   75.16,2,   31.63,2,    2.14,2,   0.231,2,   0.098,2,   0.013,2,  2247.4,3,  2338.3,6,   2.3440
09AR20041223,       I09S,      35,          1,         10,         10,2,20050105,       0421,   -49.9947,   115.0122,       3756,  1399.6,   2.3252,  34.7127,2,  34.7119,2,    184.7,2,   185.5,2,   76.43,2,   30.55,2,    2.09,2,   0.145,2,   0.053,2,   0.004,2,  2244.7,2,  2341.0,2,   2.2326
09AR20041223,       I09S,      35,          1,          9,          9,2,20050105,       0421,   -49.9947,   115.0122,       3756,  1600.6,   2.1821,  34.7389,2,  34.7384,2,    191.6,2,   190.8,2,   79.16,2,   29.96,2,    2.04,2,   0.109,2,   0.035,6,   0.006,2,  2245.9,2,  2344.2,2,   2.0754
09AR20041223,       I09S,      35,          1,          8,        108,2,20050105,       0421,   -49.9947,   115.0122,       3756,  1799.9,   2.0291,  34.7507,2,  34.7502,2,    195.2,2,   195.1,2,   82.67,2,   29.67,2, -999.00,9,   0.104,2,   0.034,2,   0.004,2,  2244.9,2,  2353.4,2,   1.9083
09AR20041223,       I09S,      35,          1,          7,        107,2,20050105,       0421,   -49.9947,   115.0122,       3756,  2100.6,   1.7163,  34.7500,2,  34.7494,2,    199.5,2,   199.8,2,   91.16,2,   29.87,2,    2.04,2,   0.134,2,   0.042,2,   0.005,2,  2246.2,2,  2351.6,2,   1.5754
09AR20041223,       I09S,      35,          1,          6,        117,2,20050105,       0421,   -49.9947,   115.0122,       3756,  2401.2,   1.3931,  34.7378,2,  34.7366,2,    202.2,2,   201.8,2,  103.66,2,   30.45,2,    2.10,2,   0.085,2,   0.028,2,   0.006,2,  2251.2,2,  2358.2,2,   1.2323
09AR20041223,       I09S,      35,          1,          5,        105,2,20050105,       0421,   -49.9947,   115.0122,       3756,  2700.4,   1.2041,  34.7287,2,  34.7272,2,    204.6,2,   204.3,2,  109.61,2,   30.75,2,    2.13,2,   0.150,2,   0.042,2,   0.063,2,  2255.7,2,  2359.8,2,   1.0208
09AR20041223,       I09S,      35,          1,          4,        104,2,20050105,       0421,   -49.9947,   115.0122,       3756,  3001.5,   1.0728,  34.7217,2,  34.7204,2,    206.6,2,   206.4,2,  112.93,2,   30.94,2,    2.14,2,   0.177,2,   0.056,2,   0.018,2,  2259.3,3,  2360.2,2,   0.8650
09AR20041223,       I09S,      35,          1,          3,        103,2,20050105,       0421,   -49.9947,   115.0122,       3756,  3301.7,   0.9336,  34.7140,2,  34.7125,2,    208.9,2,   208.1,2,  116.54,2,   31.33,2,    2.17,2,   0.363,3,   0.084,2,   0.021,2,  2255.5,2,  2369.6,2,   0.7008
09AR20041223,       I09S,      35,          1,          2,        102,2,20050105,       0421,   -49.9947,   115.0122,       3756,  3601.6,   0.6680,  34.7006,2,  34.7000,2,    213.4,2,   213.6,2,  122.50,2,   31.53,2,    2.20,2,   0.358,2,   0.148,6,   0.021,6,  2256.8,2,  2366.8,2,   0.4128
09AR20041223,       I09S,      35,          1,          1,        101,2,20050105,       0421,   -49.9947,   115.0122,       3756,  3852.4,   0.6279,  34.6974,2,  34.6962,2,    213.9,2,   214.3,2,  124.06,2,   31.72,2,    2.21,2,   0.388,2,   0.162,2,   0.014,2,  2256.0,6,  2358.2,6,   0.3487