BOTTLE,20220105CCHSIOENA
EXPOCODE,SECT_ID,STNNBR,CASTNO,SAMPNO,BTLNBR,BTLNBR_FLAG_W,DATE,TIME,LATITUDE,LONGITUDE,DEPTH,CTDPRS,CTDTMP,CTDSAL,CTDSAL_FLAG_W,SALNTY,SALNTY_FLAG_W,CTDOXY,CTDOXY_FLAG_W,OXYGEN,OXYGEN_FLAG_W,SILCAT,SILCAT_FLAG_W,NITRAT,NITRAT_FLAG_W,PHSPHT,PHSPHT_FLAG_W,CFC-11,CFC-11_FLAG_W,CFC-12,CFC-12_FLAG_W,CFC113,CFC113_FLAG_W,TCARBN,TCARBN_FLAG_W,ALKALI,ALKALI_FLAG_W,THETA
,,,,,,,,,,,METERS,DBAR,ITS-90,PSS-78,,PSS-78,,UMOL/KG,,UMOL/KG,,UMOL/KG,,UMOL/KG,,UMOL/KG,,PMOL/KG,,PMOL/KG,,PMOL/KG,,UMOL/KG,,UMOL/KG,,DEG C
09AR20041223,       I09S,      98,          1,         24,         24,2,20050131,       0546,   -62.5583,    81.2878,       2021,    10.1,   0.8935,  33.7972,2,  33.8048,2,    339.4,2,   340.9,2,   36.33,2,   25.69,2,    1.60,2,   5.510,2,   2.816,2,   0.498,2,  2153.4,6,  2287.7,6,   0.8931
09AR20041223,       I09S,      98,          1,         23,         23,2,20050131,       0546,   -62.5583,    81.2878,       2021,    40.4,   0.4291,  33.8652,2,  33.8761,2,    330.7,2,   329.8,2, -999.00,9, -999.00,9, -999.00,9,-999.000,9,-999.000,9,-999.000,9,  -999.0,9,  -999.0,9,   0.4276
09AR20041223,       I09S,      98,          1,         22,         22,2,20050131,       0546,   -62.5583,    81.2878,       2021,    40.4,   0.4457,  33.8624,2,-999.0000,9,    330.7,2,  -999.0,9,   40.82,2,   26.86,2,    1.74,2,   5.290,2,   2.708,2,   0.478,2,  2166.5,2,  2291.2,2,   0.4442
09AR20041223,       I09S,      98,          1,         21,         21,2,20050131,       0546,   -62.5583,    81.2878,       2021,    75.9,  -0.5020,  34.1166,2,  34.1453,2,    278.0,2,   278.1,2,   58.78,2,   31.05,2,    2.08,2,-999.000,9,-999.000,9,-999.000,9,  2210.4,2,  2307.7,2,  -0.5043
09AR20041223,       I09S,      98,          1,         20,         20,2,20050131,       0546,   -62.5583,    81.2878,       2021,   149.9,   1.1458,  34.4915,2,  34.5169,2,    186.9,2,   189.1,2,   78.98,2,   34.07,2,    2.27,2,   1.340,2,   0.660,2,   0.113,2,  2252.9,2,  2329.4,2,   1.1389
09AR20041223,       I09S,      98,          1,         19,         19,2,20050131,       0546,   -62.5583,    81.2878,       2021,   201.9,   1.8489,  34.6224,2,  34.6279,2,    172.0,2,   171.8,2,   83.95,2,   33.87,2,    2.26,2,   0.588,6,   0.280,6,   0.052,6,  2259.7,2,  2335.8,2,   1.8383
09AR20041223,       I09S,      98,          1,         18,         18,2,20050131,       0546,   -62.5583,    81.2878,       2021,   299.1,   1.9602,  34.6810,2,  34.6823,2,    173.9,2,   174.6,2,   85.41,2,   32.99,2,    2.20,2,   0.350,2,   0.161,2,   0.023,2,  2259.0,2,  2343.9,2,   1.9440
09AR20041223,       I09S,      98,          1,         17,          6,2,20050131,       0546,   -62.5583,    81.2878,       2021,   400.3,   1.9331,  34.7067,2,  34.7068,2,    180.7,2,   179.8,2,   85.60,2,   32.60,2,    2.15,2,   0.260,2,   0.123,2,   0.027,2,  -999.0,9,  -999.0,9,   1.9111
09AR20041223,       I09S,      98,          1,         16,         16,2,20050131,       0546,   -62.5583,    81.2878,       2021,   500.7,   1.8891,  34.7258,2,  34.7268,2,    185.3,2,   184.8,2,   86.58,2,   31.23,2,    2.11,2,   0.195,2,   0.098,2,   0.012,2,  2251.7,2,  2345.4,2,   1.8614
09AR20041223,       I09S,      98,          1,         15,         15,2,20050131,       0546,   -62.5583,    81.2878,       2021,   601.0,   1.8243,  34.7368,2,  34.7369,2,    189.4,2,   188.9,2,   87.36,2,   30.84,2,    2.08,2,   0.166,2,   0.080,2,   0.008,2,  -999.0,9,  -999.0,9,   1.7908
09AR20041223,       I09S,      98,          1,         14,         14,2,20050131,       0546,   -62.5583,    81.2878,       2021,   704.0,   1.7435,  34.7435,2,  34.7443,2,    192.7,2,   193.2,2,   88.72,2,   30.35,2,    2.06,2,   0.242,3,   0.074,2,   0.008,2,  -999.0,9,  -999.0,9,   1.7041
09AR20041223,       I09S,      98,          1,         13,         13,2,20050131,       0546,   -62.5583,    81.2878,       2021,   801.3,   1.6740,  34.7460,2,  34.7472,2,    195.5,2,   195.0,2,   90.19,2,   30.26,2,    2.05,2,   0.130,2,   0.068,2,   0.003,2,  2248.5,2,  2347.2,2,   1.6290
09AR20041223,       I09S,      98,          1,         12,         12,2,20050131,       0546,   -62.5583,    81.2878,       2021,   901.5,   1.5763,  34.7465,2,  34.7471,2,    198.2,2,   197.4,2,   92.43,2,   30.06,2,    2.04,2,   0.120,2,   0.068,2,   0.005,2,  -999.0,9,  -999.0,9,   1.5256
09AR20041223,       I09S,      98,          1,         11,         11,2,20050131,       0546,   -62.5583,    81.2878,       2021,  1000.9,   1.4851,  34.7452,2,  34.7459,2,    200.2,2,   199.5,2,   94.77,2,   30.26,2,    2.05,2,   0.110,2,   0.057,2,   0.006,2,  -999.0,9,  -999.0,9,   1.4287
09AR20041223,       I09S,      98,          1,         10,         10,2,20050131,       0546,   -62.5583,    81.2878,       2021,  1100.8,   1.4007,  34.7426,2,  34.7427,2,    201.2,2,   200.8,2,   97.02,2,   30.35,2,    2.06,2,   0.104,2,   0.053,2,   0.001,2,  2249.7,2,  2351.8,2,   1.3385
09AR20041223,       I09S,      98,          1,          9,          9,2,20050131,       0546,   -62.5583,    81.2878,       2021,  1201.3,   1.3170,  34.7393,2,  34.7392,2,    202.4,2,   202.1,2,   98.78,2,   30.35,2,    2.07,2,   0.109,6,   0.053,6,   0.002,6,  -999.0,9,  -999.0,9,   1.2489
09AR20041223,       I09S,      98,          1,          8,        108,2,20050131,       0546,   -62.5583,    81.2878,       2021,  1301.1,   1.1882,  34.7331,2,  34.7329,2,    203.1,2,   203.1,2,  102.49,2,   30.36,2,    2.09,2,   0.110,2,   0.056,2,   0.012,2,  -999.0,9,  -999.0,9,   1.1147
09AR20041223,       I09S,      98,          1,          7,        107,2,20050131,       0546,   -62.5583,    81.2878,       2021,  1401.0,   1.0651,  34.7265,2,  34.7262,2,    203.6,2,   203.3,2,  106.98,2,   30.94,2,    2.11,2,   0.102,2,   0.046,2,   0.006,2,  2255.7,2,  2356.6,2,   0.9862
09AR20041223,       I09S,      98,          1,          6,        117,2,20050131,       0546,   -62.5583,    81.2878,       2021,  1501.4,   0.9073,  34.7178,2,  34.7184,2,    204.8,2,   205.0,2,  112.54,2,   31.14,2,    2.14,2,   0.111,2,   0.052,2,-999.000,5,  -999.0,9,  -999.0,9,   0.8234
09AR20041223,       I09S,      98,          1,          5,        105,2,20050131,       0546,   -62.5583,    81.2878,       2021,  1601.1,   0.8154,  34.7127,2,  34.7129,2,    206.0,2,   206.1,2,  115.66,2,   31.23,2,    2.16,2,   0.099,2,   0.054,2,   0.001,2,  2257.2,2,  2357.4,2,   0.7258
09AR20041223,       I09S,      98,          1,          4,        104,2,20050131,       0546,   -62.5583,    81.2878,       2021,  1701.1,   0.7351,  34.7081,2,  34.7084,2,    207.3,2,   206.9,2,  118.69,2,   31.62,2,    2.17,2,   0.105,2,   0.053,2,   0.000,2,  -999.0,9,  -999.0,9,   0.6395
09AR20041223,       I09S,      98,          1,          3,        103,2,20050131,       0546,   -62.5583,    81.2878,       2021,  1801.6,   0.6802,  34.7051,2,  34.7052,2,    207.6,2,   207.3,2,  120.64,2,   31.43,2,    2.18,2,   0.102,2,   0.051,2,   0.001,2,  -999.0,9,  -999.0,9,   0.5783
09AR20041223,       I09S,      98,          1,          2,        102,2,20050131,       0546,   -62.5583,    81.2878,       2021,  1900.7,   0.5932,  34.7001,2,  34.7011,2,    208.9,2,   209.3,2,  122.99,2,   31.82,2,    2.19,2,   0.096,2,   0.055,2,   0.006,2,  2260.2,2,  2357.8,2,   0.4854
09AR20041223,       I09S,      98,          1,          1,        101,2,20050131,       0546,   -62.5583,    81.2878,       2021,  1995.8,   0.5491,  34.6977,2,  34.6986,2,    209.3,2,   209.6,2,  125.33,2,   31.82,2,    2.20,2,   0.103,2,   0.057,2,   0.000,2,  2260.1,6,  2357.2,6,   0.4350
09AR20041223,       I09S,      99,          1,         24,         24,2,20050131,       1042,   -62.7388,    81.2033,       2587,    11.0,   1.0416,  33.8447,2,  33.8459,2,   -999.0,9,   335.2,2,   38.29,2,   26.57,2,    1.71,2,-999.000,9,-999.000,9,-999.000,9,  -999.0,9,  -999.0,9,   1.0411
09AR20041223,       I09S,      99,          1,         23,         23,2,20050131,       1042,   -62.7388,    81.2033,       2587,    47.0,   0.8356,  33.8720,2,-999.0000,9,    331.0,2,  -999.0,9, -999.00,9, -999.00,9, -999.00,9,-999.000,9,-999.000,9,-999.000,9,  -999.0,9,  -999.0,9,   0.8337
09AR20041223,       I09S,      99,          1,         22,         22,2,20050131,       1042,   -62.7388,    81.2033,       2587,    47.0,   0.8389,  33.8716,2,  33.8695,2,    331.0,2,   335.6,2,   38.68,2,   26.66,2,    1.72,2,-999.000,9,-999.000,9,-999.000,9,  -999.0,9,  -999.0,9,   0.8370
09AR20041223,       I09S,      99,          1,         21,         21,2,20050131,       1042,   -62.7388,    81.2033,       2587,    80.6,  -0.7261,  34.1113,2,  34.1136,2,    281.2,2,   285.9,2,   58.88,2,   30.76,2,    2.08,2,-999.000,9,-999.000,9,-999.000,9,  -999.0,9,  -999.0,9,  -0.7284
09AR20041223,       I09S,      99,          1,         20,         20,2,20050131,       1042,   -62.7388,    81.2033,       2587,   130.8,   0.8185,  34.4150,2,  34.4227,2,    206.4,2,   206.9,2,   75.07,2,   33.88,2,    2.26,2,-999.000,9,-999.000,9,-999.000,9,  -999.0,9,  -999.0,9,   0.8129
09AR20041223,       I09S,      99,          1,         19,         19,2,20050131,       1042,   -62.7388,    81.2033,       2587,   201.3,   1.7851,  34.5881,2,  34.5881,2,    174.7,2,   175.0,2,   83.26,2,   34.26,2,    2.29,2,-999.000,9,-999.000,9,-999.000,9,  -999.0,9,  -999.0,9,   1.7747
09AR20041223,       I09S,      99,          1,         18,         18,2,20050131,       1042,   -62.7388,    81.2033,       2587,   251.0,   1.8843,  34.6284,2,  34.6295,2,    170.9,2,   171.5,2,   84.82,2,   33.77,2,    2.26,2,-999.000,9,-999.000,9,-999.000,9,  -999.0,9,  -999.0,9,   1.8710
09AR20041223,       I09S,      99,          1,         17,          6,2,20050131,       1042,   -62.7388,    81.2033,       2587,   300.9,   1.9492,  34.6624,2,  34.6633,2,    171.7,2,   172.5,2,   84.82,2,   33.19,2,    2.23,2,-999.000,9,-999.000,9,-999.000,9,  -999.0,9,  -999.0,9,   1.9329
09AR20041223,       I09S,      99,          1,         16,         16,2,20050131,       1042,   -62.7388,    81.2033,       2587,   400.3,   1.9565,  34.6963,2,  34.6960,2,    176.9,2,   176.4,2,   86.38,2,   32.41,2,    2.17,2,-999.000,9,-999.000,9,-999.000,9,  -999.0,9,  -999.0,9,   1.9345
09AR20041223,       I09S,      99,          1,         15,         15,2,20050131,       1042,   -62.7388,    81.2033,       2587,   500.6,   1.9101,  34.7177,2,  34.7176,2,    181.4,2,   182.2,2,   87.06,2,   31.62,2,    2.12,2,-999.000,9,-999.000,9,-999.000,9,  -999.0,9,  -999.0,9,   1.8823
09AR20041223,       I09S,      99,          1,         14,         14,2,20050131,       1042,   -62.7388,    81.2033,       2587,   600.6,   1.8611,  34.7322,2,  34.7321,2,    186.2,2,   187.5,2,   87.65,2,   30.94,2,    2.09,2,-999.000,9,-999.000,9,-999.000,9,  -999.0,9,  -999.0,9,   1.8275
09AR20041223,       I09S,      99,          1,         13,         13,2,20050131,       1042,   -62.7388,    81.2033,       2587,   701.3,   1.7785,  34.7394,2,  34.7394,2,    190.7,2,   191.7,2,   88.72,2,   30.65,2,    2.07,2,-999.000,9,-999.000,9,-999.000,9,  -999.0,9,  -999.0,9,   1.7391
09AR20041223,       I09S,      99,          1,         12,         12,2,20050131,       1042,   -62.7388,    81.2033,       2587,   801.3,   1.6850,  34.7417,2,  34.7420,2,    194.3,2,   194.6,2,   90.19,2,   30.45,2,    2.06,2,-999.000,9,-999.000,9,-999.000,9,  -999.0,9,  -999.0,9,   1.6399
09AR20041223,       I09S,      99,          1,         11,         11,2,20050131,       1042,   -62.7388,    81.2033,       2587,   900.3,   1.6279,  34.7460,2,  34.7459,2,    196.4,2,   196.4,2,   91.55,2,   30.16,2,    2.04,2,-999.000,9,-999.000,9,-999.000,9,  -999.0,9,  -999.0,9,   1.5769
09AR20041223,       I09S,      99,          1,         10,         10,2,20050131,       1042,   -62.7388,    81.2033,       2587,  1000.5,   1.5444,  34.7464,2,  34.7465,2,    198.3,2,   198.8,2,   93.50,2,   30.35,2,    2.05,2,-999.000,9,-999.000,9,-999.000,9,  -999.0,9,  -999.0,9,   1.4875
09AR20041223,       I09S,      99,          1,          9,          9,2,20050131,       1042,   -62.7388,    81.2033,       2587,  1101.6,   1.4554,  34.7449,2,  34.7443,2,    199.9,2,   200.5,2,   95.85,2,   30.35,2,    2.05,2,-999.000,9,-999.000,9,-999.000,9,  -999.0,9,  -999.0,9,   1.3927
09AR20041223,       I09S,      99,          1,          8,        108,2,20050131,       1042,   -62.7388,    81.2033,       2587,  1201.4,   1.3578,  34.7411,2,  34.7412,2,    201.0,2,   201.5,2,   98.68,2,   30.35,2,    2.07,2,-999.000,9,-999.000,9,-999.000,9,  -999.0,9,  -999.0,9,   1.2893
09AR20041223,       I09S,      99,          1,          7,        107,2,20050131,       1042,   -62.7388,    81.2033,       2587,  1401.3,   1.1372,  34.7303,2,  34.7292,2,    202.5,2,   203.3,2,  105.41,2,   30.65,2,    2.10,2,-999.000,9,-999.000,9,-999.000,9,  -999.0,9,  -999.0,9,   1.0575
09AR20041223,       I09S,      99,          1,          6,        117,2,20050131,       1042,   -62.7388,    81.2033,       2587,  1600.8,   0.9805,  34.7214,2,  34.7210,2,    205.1,2,   205.2,2,  109.12,2,   31.04,2,    2.14,2,-999.000,9,-999.000,9,-999.000,9,  -999.0,9,  -999.0,9,   0.8888
09AR20041223,       I09S,      99,          1,          5,        105,2,20050131,       1042,   -62.7388,    81.2033,       2587,  1800.7,   0.8182,  34.7119,2,  34.7123,2,    206.4,2,   206.6,2,  115.18,2,   31.33,2,    2.16,2,-999.000,9,-999.000,9,-999.000,9,  -999.0,9,  -999.0,9,   0.7144
09AR20041223,       I09S,      99,          1,          4,        104,2,20050131,       1042,   -62.7388,    81.2033,       2587,  2000.2,   0.6732,  34.7034,2,  34.7031,2,    208.0,2,   207.9,2,  119.08,2,   31.62,2,    2.18,2,-999.000,9,-999.000,9,-999.000,9,  -999.0,9,  -999.0,9,   0.5569
09AR20041223,       I09S,      99,          1,          3,        103,2,20050131,       1042,   -62.7388,    81.2033,       2587,  2252.3,   0.5288,  34.6958,2,  34.6941,2,    210.5,2,   210.3,2,  123.86,2,   31.92,2,    2.20,2,-999.000,9,-999.000,9,-999.000,9,  -999.0,9,  -999.0,9,   0.3957
09AR20041223,       I09S,      99,          1,          2,        102,2,20050131,       1042,   -62.7388,    81.2033,       2587,  2503.5,   0.4270,  34.6902,2,  34.6860,2,    212.5,2,   212.8,2,  130.01,2,   32.02,2,    2.22,2,-999.000,9,-999.000,9,-999.000,9,  -999.0,9,  -999.0,9,   0.2759
09AR20041223,       I09S,      99,          1,          1,        101,2,20050131,       1042,   -62.7388,    81.2033,       2587,  2581.1,   0.4190,  34.6895,2,  34.6882,2,    212.9,2,   212.9,2,  130.99,2,   32.21,2,    2.22,2,-999.000,9,-999.000,9,-999.000,9,  -999.0,9,  -999.0,9,   0.2617