BOTTLE,20220105CCHSIOENA
EXPOCODE,SECT_ID,STNNBR,CASTNO,SAMPNO,BTLNBR,BTLNBR_FLAG_W,DATE,TIME,LATITUDE,LONGITUDE,DEPTH,CTDPRS,CTDTMP,CTDSAL,CTDSAL_FLAG_W,SALNTY,SALNTY_FLAG_W,CTDOXY,CTDOXY_FLAG_W,OXYGEN,OXYGEN_FLAG_W,SILCAT,SILCAT_FLAG_W,NITRAT,NITRAT_FLAG_W,PHSPHT,PHSPHT_FLAG_W,CFC-11,CFC-11_FLAG_W,CFC-12,CFC-12_FLAG_W,CFC113,CFC113_FLAG_W,TCARBN,TCARBN_FLAG_W,ALKALI,ALKALI_FLAG_W,THETA
,,,,,,,,,,,METERS,DBAR,ITS-90,PSS-78,,PSS-78,,UMOL/KG,,UMOL/KG,,UMOL/KG,,UMOL/KG,,UMOL/KG,,PMOL/KG,,PMOL/KG,,PMOL/KG,,UMOL/KG,,UMOL/KG,,DEG C
09AR20041223,       I09S,      62,          1,         24,         24,2,20050114,       0807,   -64.2838,   111.7685,       2545,    10.6,  -0.0191,  33.9491,2,  33.9495,2,    341.4,2,   340.4,2,   64.55,2,   27.34,2,    1.80,2,-999.000,9,-999.000,9,-999.000,9,  -999.0,9,  -999.0,9,  -0.0195
09AR20041223,       I09S,      62,          1,         23,         23,2,20050114,       0807,   -64.2838,   111.7685,       2545,    56.4,  -0.9852,  34.3036,2,  34.3337,2,    281.5,2,   281.0,2,   74.20,2,   30.07,2,    2.03,2,-999.000,9,-999.000,9,-999.000,9,  -999.0,9,  -999.0,9,  -0.9867
09AR20041223,       I09S,      62,          1,         22,         22,2,20050114,       0807,   -64.2838,   111.7685,       2545,    76.2,  -0.1104,  34.4923,2,  34.4981,2,    241.6,2,   243.9,2,   80.73,2,   31.04,2,    2.12,2,-999.000,9,-999.000,9,-999.000,9,  -999.0,9,  -999.0,9,  -0.1130
09AR20041223,       I09S,      62,          1,         21,         21,2,20050114,       0807,   -64.2838,   111.7685,       2545,   101.1,   0.4827,  34.5935,2,  34.5928,2,    211.6,2,   221.0,3,   84.83,2,   31.82,2,    2.14,2,-999.000,9,-999.000,9,-999.000,9,  -999.0,9,  -999.0,9,   0.4787
09AR20041223,       I09S,      62,          1,         20,         20,2,20050114,       0807,   -64.2838,   111.7685,       2545,   151.1,   1.1837,  34.6851,2,  34.6854,2,    198.4,2,   199.8,2,   91.07,2,   31.82,2,    2.15,2,-999.000,9,-999.000,9,-999.000,9,  -999.0,9,  -999.0,9,   1.1767
09AR20041223,       I09S,      62,          1,         19,         19,2,20050114,       0807,   -64.2838,   111.7685,       2545,   201.5,   1.3217,  34.7092,2,  34.7100,2,    195.7,2,   196.5,2,   92.92,2,   31.62,2,    2.13,2,-999.000,9,-999.000,9,-999.000,9,  -999.0,9,  -999.0,9,   1.3120
09AR20041223,       I09S,      62,          1,         18,         18,2,20050114,       0807,   -64.2838,   111.7685,       2545,   251.0,   1.3224,  34.7172,2,  34.7170,2,    196.9,2,   196.7,2,   94.19,2,   31.43,2,    2.13,2,-999.000,9,-999.000,9,-999.000,9,  -999.0,9,  -999.0,9,   1.3102
09AR20041223,       I09S,      62,          1,         17,          6,2,20050114,       0807,   -64.2838,   111.7685,       2545,   300.8,   1.2981,  34.7203,2,  34.7198,2,    198.2,2,   197.7,2,   95.56,2,   31.23,2,    2.13,2,-999.000,9,-999.000,9,-999.000,9,  -999.0,9,  -999.0,9,   1.2834
09AR20041223,       I09S,      62,          1,         16,         16,2,20050114,       0807,   -64.2838,   111.7685,       2545,   400.9,   1.2032,  34.7205,2,  34.7202,2,    201.2,2,   200.1,2,   98.29,2,   31.23,2,    2.13,2,-999.000,9,-999.000,9,-999.000,9,  -999.0,9,  -999.0,9,   1.1836
09AR20041223,       I09S,      62,          1,         15,         15,2,20050114,       0807,   -64.2838,   111.7685,       2545,   501.0,   1.0837,  34.7170,2,  34.7168,2,    203.6,2,   202.8,2,  101.22,2,   31.33,2,    2.13,2,-999.000,9,-999.000,9,-999.000,9,  -999.0,9,  -999.0,9,   1.0592
09AR20041223,       I09S,      62,          1,         14,         14,2,20050114,       0807,   -64.2838,   111.7685,       2545,   600.3,   0.9906,  34.7147,2,  34.7149,2,    206.0,2,   205.1,2,  104.15,2,   31.23,2,    2.15,2,-999.000,9,-999.000,9,-999.000,9,  -999.0,9,  -999.0,9,   0.9612
09AR20041223,       I09S,      62,          1,         13,         13,2,20050114,       0807,   -64.2838,   111.7685,       2545,   700.7,   0.8748,  34.7089,2,  34.7086,2,    207.9,2,   207.7,2,  106.78,2,   31.33,2,    2.16,2,-999.000,9,-999.000,9,-999.000,9,  -999.0,9,  -999.0,9,   0.8406
09AR20041223,       I09S,      62,          1,         12,         12,2,20050114,       0807,   -64.2838,   111.7685,       2545,   801.3,   0.7585,  34.7033,2,  34.7029,2,    209.7,2,   209.0,2,  108.64,2,   31.53,2,    2.15,2,-999.000,9,-999.000,9,-999.000,9,  -999.0,9,  -999.0,9,   0.7195
09AR20041223,       I09S,      62,          1,         11,         11,2,20050114,       0807,   -64.2838,   111.7685,       2545,   900.6,   0.6543,  34.6978,2,  34.7013,2,    211.5,2,   209.9,2,  108.93,2,   31.53,2,    2.15,2,-999.000,9,-999.000,9,-999.000,9,  -999.0,9,  -999.0,9,   0.6104
09AR20041223,       I09S,      62,          1,         10,         10,4,20050114,       0807,   -64.2838,   111.7685,       2545,  1001.2,   0.5023,  34.6875,2,  34.7019,4,    214.6,2,  -999.0,9, -999.00,9, -999.00,9, -999.00,9,-999.000,9,-999.000,9,-999.000,9,  -999.0,9,  -999.0,9,   0.4539
09AR20041223,       I09S,      62,          1,          9,          9,2,20050114,       0807,   -64.2838,   111.7685,       2545,  1100.3,   0.4054,  34.6828,2,  34.6823,2,    217.3,2,   217.8,2,  113.03,2,   31.92,2, -999.00,9,-999.000,9,-999.000,9,-999.000,9,  -999.0,9,  -999.0,9,   0.3521
09AR20041223,       I09S,      62,          1,          8,        208,2,20050114,       0807,   -64.2838,   111.7685,       2545,  1200.4,   0.3446,  34.6824,2,  34.6827,2,    217.9,2,   217.7,2,  113.13,2,   31.92,2,    2.18,2,-999.000,9,-999.000,9,-999.000,9,  -999.0,9,  -999.0,9,   0.2860
09AR20041223,       I09S,      62,          1,          7,        107,2,20050114,       0807,   -64.2838,   111.7685,       2545,  1300.6,   0.3010,  34.6830,2,  34.6825,2,    218.4,2,   217.4,2,  118.20,2,   32.02,2,    2.19,2,-999.000,9,-999.000,9,-999.000,9,  -999.0,9,  -999.0,9,   0.2369
09AR20041223,       I09S,      62,          1,          6,        117,4,20050114,       0807,   -64.2838,   111.7685,       2545,  1502.2,   0.1494,  34.6756,2,  34.6813,4,    222.5,2,  -999.0,9, -999.00,9, -999.00,9, -999.00,9,-999.000,9,-999.000,9,-999.000,9,  -999.0,9,  -999.0,9,   0.0746
09AR20041223,       I09S,      62,          1,          5,        105,4,20050114,       0807,   -64.2838,   111.7685,       2545,  1800.8,   0.0143,  34.6731,2,  34.6813,4,    225.3,2,  -999.0,9, -999.00,9, -999.00,9, -999.00,9,-999.000,9,-999.000,9,-999.000,9,  -999.0,9,  -999.0,9,  -0.0781
09AR20041223,       I09S,      62,          1,          4,        104,2,20050114,       0807,   -64.2838,   111.7685,       2545,  2101.3,  -0.1016,  34.6685,2,  34.6678,2,    230.1,2,   231.1,2,  118.40,2,   32.02,2,    2.21,2,-999.000,9,-999.000,9,-999.000,9,  -999.0,9,  -999.0,9,  -0.2128
09AR20041223,       I09S,      62,          1,          3,        103,2,20050114,       0807,   -64.2838,   111.7685,       2545,  2352.2,  -0.1943,  34.6639,2,  34.6654,2,    234.1,2,   232.6,2,  116.84,2,   31.92,2,    2.20,2,-999.000,9,-999.000,9,-999.000,9,  -999.0,9,  -999.0,9,  -0.3220
09AR20041223,       I09S,      62,          1,          2,        102,2,20050114,       0807,   -64.2838,   111.7685,       2545,  2450.8,  -0.2176,  34.6626,2,  34.6617,2,    235.4,2,   236.5,2,  113.91,2,   31.92,2,    2.20,2,-999.000,9,-999.000,9,-999.000,9,  -999.0,9,  -999.0,9,  -0.3523
09AR20041223,       I09S,      62,          1,          1,        101,2,20050114,       0807,   -64.2838,   111.7685,       2545,  2511.6,  -0.2246,  34.6626,2,  34.6619,2,    236.0,2,   236.2,2,  114.79,2,   32.02,2,    2.20,2,-999.000,9,-999.000,9,-999.000,9,  -999.0,9,  -999.0,9,  -0.3638
09AR20041223,       I09S,      63,          1,         24,         24,2,20050114,       1243,   -64.5217,   111.4203,       2895,    10.8,  -0.2882,  33.8647,2,-999.0000,9,   -999.0,9,  -999.0,9, -999.00,9, -999.00,9, -999.00,9,-999.000,9,-999.000,9,-999.000,9,  -999.0,9,  -999.0,9,  -0.2885
09AR20041223,       I09S,      63,          1,         23,         23,2,20050114,       1243,   -64.5217,   111.4203,       2895,    55.6,  -1.0526,  34.2440,2,-999.0000,9,   -999.0,9,  -999.0,9, -999.00,9, -999.00,9, -999.00,9,-999.000,9,-999.000,9,-999.000,9,  -999.0,9,  -999.0,9,  -1.0540
09AR20041223,       I09S,      63,          1,         22,         22,2,20050114,       1243,   -64.5217,   111.4203,       2895,    80.5,  -0.2148,  34.4792,2,-999.0000,9,   -999.0,9,  -999.0,9, -999.00,9, -999.00,9, -999.00,9,-999.000,9,-999.000,9,-999.000,9,  -999.0,9,  -999.0,9,  -0.2175
09AR20041223,       I09S,      63,          1,         21,         21,2,20050114,       1243,   -64.5217,   111.4203,       2895,   101.2,   0.5054,  34.5837,2,-999.0000,9,   -999.0,9,  -999.0,9, -999.00,9, -999.00,9, -999.00,9,-999.000,9,-999.000,9,-999.000,9,  -999.0,9,  -999.0,9,   0.5013
09AR20041223,       I09S,      63,          1,         20,         20,2,20050114,       1243,   -64.5217,   111.4203,       2895,   151.6,   1.2026,  34.6823,2,-999.0000,9,   -999.0,9,  -999.0,9, -999.00,9, -999.00,9, -999.00,9,-999.000,9,-999.000,9,-999.000,9,  -999.0,9,  -999.0,9,   1.1955
09AR20041223,       I09S,      63,          1,         19,         19,2,20050114,       1243,   -64.5217,   111.4203,       2895,   201.6,   1.3802,  34.7125,2,-999.0000,9,   -999.0,9,  -999.0,9, -999.00,9, -999.00,9, -999.00,9,-999.000,9,-999.000,9,-999.000,9,  -999.0,9,  -999.0,9,   1.3704
09AR20041223,       I09S,      63,          1,         18,         18,2,20050114,       1243,   -64.5217,   111.4203,       2895,   251.9,   1.3981,  34.7228,2,-999.0000,9,   -999.0,9,  -999.0,9, -999.00,9, -999.00,9, -999.00,9,-999.000,9,-999.000,9,-999.000,9,  -999.0,9,  -999.0,9,   1.3857
09AR20041223,       I09S,      63,          1,         17,          6,2,20050114,       1243,   -64.5217,   111.4203,       2895,   302.8,   1.3500,  34.7245,2,-999.0000,9,   -999.0,9,  -999.0,9, -999.00,9, -999.00,9, -999.00,9,-999.000,9,-999.000,9,-999.000,9,  -999.0,9,  -999.0,9,   1.3351
09AR20041223,       I09S,      63,          1,         16,         16,2,20050114,       1243,   -64.5217,   111.4203,       2895,   401.2,   1.2686,  34.7268,2,-999.0000,9,   -999.0,9,  -999.0,9, -999.00,9, -999.00,9, -999.00,9,-999.000,9,-999.000,9,-999.000,9,  -999.0,9,  -999.0,9,   1.2487
09AR20041223,       I09S,      63,          1,         15,         15,2,20050114,       1243,   -64.5217,   111.4203,       2895,   500.2,   1.1612,  34.7235,2,-999.0000,9,   -999.0,9,  -999.0,9, -999.00,9, -999.00,9, -999.00,9,-999.000,9,-999.000,9,-999.000,9,  -999.0,9,  -999.0,9,   1.1365
09AR20041223,       I09S,      63,          1,         14,         14,2,20050114,       1243,   -64.5217,   111.4203,       2895,   601.3,   1.0619,  34.7199,2,-999.0000,9,   -999.0,9,  -999.0,9, -999.00,9, -999.00,9, -999.00,9,-999.000,9,-999.000,9,-999.000,9,  -999.0,9,  -999.0,9,   1.0321
09AR20041223,       I09S,      63,          1,         13,         13,2,20050114,       1243,   -64.5217,   111.4203,       2895,   700.5,   0.9798,  34.7177,2,-999.0000,9,   -999.0,9,  -999.0,9, -999.00,9, -999.00,9, -999.00,9,-999.000,9,-999.000,9,-999.000,9,  -999.0,9,  -999.0,9,   0.9450
09AR20041223,       I09S,      63,          1,         12,         12,2,20050114,       1243,   -64.5217,   111.4203,       2895,   801.0,   0.8873,  34.7135,2,-999.0000,9,   -999.0,9,  -999.0,9, -999.00,9, -999.00,9, -999.00,9,-999.000,9,-999.000,9,-999.000,9,  -999.0,9,  -999.0,9,   0.8474
09AR20041223,       I09S,      63,          1,         11,         11,2,20050114,       1243,   -64.5217,   111.4203,       2895,   900.4,   0.8003,  34.7093,2,-999.0000,9,   -999.0,9,  -999.0,9, -999.00,9, -999.00,9, -999.00,9,-999.000,9,-999.000,9,-999.000,9,  -999.0,9,  -999.0,9,   0.7553
09AR20041223,       I09S,      63,          1,         10,         10,2,20050114,       1243,   -64.5217,   111.4203,       2895,  1001.7,   0.7090,  34.7046,2,  34.7045,2,    208.7,2,   208.9,2,  112.93,2,   31.72,2,    2.18,2,   0.299,2,   0.152,2,   0.034,2,  2257.3,6,  2356.2,6,   0.6589
09AR20041223,       I09S,      63,          1,          9,          9,2,20050114,       1243,   -64.5217,   111.4203,       2895,  1201.9,   0.5097,  34.6931,2,  34.6927,2,    212.2,2,   212.9,2,  115.67,2,   31.82,2,    2.20,2,   0.417,2,   0.206,2,   0.024,2,  2257.6,2,  2357.4,2,   0.4494
09AR20041223,       I09S,      63,          1,          8,        208,2,20050114,       1243,   -64.5217,   111.4203,       2895,  1401.8,   0.3002,  34.6816,2,  34.6815,2,    218.1,2,   218.1,2,  117.42,2,   32.11,2,    2.21,2,   0.614,2,   0.303,2,   0.051,2,  2256.9,2,  2355.1,2,   0.2299
09AR20041223,       I09S,      63,          1,          7,        107,2,20050114,       1243,   -64.5217,   111.4203,       2895,  1601.6,   0.2189,  34.6817,2,  34.6799,2,    219.4,2,   219.5,2,  120.64,2,   32.11,2,    2.23,2,   0.588,2,   0.285,2,   0.030,2,  2258.3,2,  2357.9,2,   0.1369
09AR20041223,       I09S,      63,          1,          6,        117,2,20050114,       1243,   -64.5217,   111.4203,       2895,  1902.0,   0.0328,  34.6730,2,  34.6727,2,    225.9,2,   225.6,2,  119.28,2,   32.11,2,    2.23,2,   0.904,2,   0.439,2,   0.074,2,  2256.5,2,  2352.4,2,  -0.0667
09AR20041223,       I09S,      63,          1,          5,        105,2,20050114,       1243,   -64.5217,   111.4203,       2895,  2200.4,  -0.0863,  34.6696,2,  34.6688,2,    230.6,2,   231.5,2,  118.40,2,   32.02,2,    2.22,2,   1.141,2,   0.555,2,   0.094,2,  2255.9,2,  2352.1,2,  -0.2049
09AR20041223,       I09S,      63,          1,          4,        104,2,20050114,       1243,   -64.5217,   111.4203,       2895,  2501.7,  -0.1830,  34.6657,2,  34.6652,2,    234.8,2,   234.6,2,  116.55,2,   31.92,2,    2.20,2,   1.425,2,   0.686,2,   0.098,2,  2255.6,2,  2363.4,3,  -0.3222
09AR20041223,       I09S,      63,          1,          3,        103,2,20050114,       1243,   -64.5217,   111.4203,       2895,  2649.5,  -0.2135,  34.6645,2,  34.6638,2,    236.5,2,   236.3,2,  115.28,2,   32.02,2,    2.20,2,   1.574,2,   0.765,2,   0.116,2,  2255.2,2,  2357.2,2,  -0.3636
09AR20041223,       I09S,      63,          1,          2,        102,2,20050114,       1243,   -64.5217,   111.4203,       2895,  2800.7,  -0.2313,  34.6646,2,  34.6635,2,    237.5,2,   237.6,2,  114.11,2,   31.82,2,    2.20,2,   1.682,6,   0.814,6,   0.131,6,  2254.3,2,  2353.5,2,  -0.3930
09AR20041223,       I09S,      63,          1,          1,        101,2,20050114,       1243,   -64.5217,   111.4203,       2895,  2892.3,  -0.2460,  34.6635,2,  34.6627,2,    238.1,2,   238.6,2,  115.96,2,   31.82,2,    2.20,2,   1.740,2,   0.855,2,   0.142,2,  2254.3,6,  2352.8,6,  -0.4149