BOTTLE,20220105CCHSIOENA
EXPOCODE,SECT_ID,STNNBR,CASTNO,SAMPNO,BTLNBR,BTLNBR_FLAG_W,DATE,TIME,LATITUDE,LONGITUDE,DEPTH,CTDPRS,CTDTMP,CTDSAL,CTDSAL_FLAG_W,SALNTY,SALNTY_FLAG_W,CTDOXY,CTDOXY_FLAG_W,OXYGEN,OXYGEN_FLAG_W,SILCAT,SILCAT_FLAG_W,NITRAT,NITRAT_FLAG_W,PHSPHT,PHSPHT_FLAG_W,CFC-11,CFC-11_FLAG_W,CFC-12,CFC-12_FLAG_W,CFC113,CFC113_FLAG_W,TCARBN,TCARBN_FLAG_W,ALKALI,ALKALI_FLAG_W,THETA
,,,,,,,,,,,METERS,DBAR,ITS-90,PSS-78,,PSS-78,,UMOL/KG,,UMOL/KG,,UMOL/KG,,UMOL/KG,,UMOL/KG,,PMOL/KG,,PMOL/KG,,PMOL/KG,,UMOL/KG,,UMOL/KG,,DEG C
09AR20041223,       I09S,       6,          1,         24,         24,2,20041225,       2019,   -35.5118,   114.9983,       2380,    15.2,  19.4825,  35.8622,2,  35.8617,2,    234.7,2,   232.2,2,    2.44,2,    0.00,2,    0.13,2,-999.000,9,-999.000,9,-999.000,9,  -999.0,9,  -999.0,9,  19.4797
09AR20041223,       I09S,       6,          1,         23,         23,2,20041225,       2019,   -35.5118,   114.9983,       2380,    15.1,  19.4812,  35.8618,2,-999.0000,9,    234.7,2,  -999.0,9, -999.00,9, -999.00,9, -999.00,9,-999.000,9,-999.000,9,-999.000,9,  -999.0,9,  -999.0,9,  19.4785
09AR20041223,       I09S,       6,          1,         22,         22,2,20041225,       2019,   -35.5118,   114.9983,       2380,    15.3,  19.4820,  35.8621,2,-999.0000,9,    234.7,2,  -999.0,9, -999.00,9, -999.00,9, -999.00,9,-999.000,9,-999.000,9,-999.000,9,  -999.0,9,  -999.0,9,  19.4792
09AR20041223,       I09S,       6,          1,         21,         21,2,20041225,       2019,   -35.5118,   114.9983,       2380,    25.5,  19.4769,  35.8611,2,  35.8596,2,    236.7,2,   234.8,2,    2.44,2,    0.00,2,    0.12,2,-999.000,9,-999.000,9,-999.000,9,  -999.0,9,  -999.0,9,  19.4723
09AR20041223,       I09S,       6,          1,         20,         20,2,20041225,       2019,   -35.5118,   114.9983,       2380,    50.9,  16.7628,  35.6954,2,  35.6762,2,    235.7,2,   245.6,3,    1.85,2,    0.00,2,    0.17,2,-999.000,9,-999.000,9,-999.000,9,  -999.0,9,  -999.0,9,  16.7545
09AR20041223,       I09S,       6,          1,         19,         19,2,20041225,       2019,   -35.5118,   114.9983,       2380,    74.9,  15.4270,  35.5984,2,  35.6019,2,    240.7,2,   241.0,2,    1.85,2,    0.88,2,    0.22,2,-999.000,9,-999.000,9,-999.000,9,  -999.0,9,  -999.0,9,  15.4154
09AR20041223,       I09S,       6,          1,         18,         18,2,20041225,       2019,   -35.5118,   114.9983,       2380,    99.6,  14.5896,  35.5045,2,  35.5050,2,    243.0,2,   241.5,2,    1.95,2,    2.24,2,    0.29,2,-999.000,9,-999.000,9,-999.000,9,  -999.0,9,  -999.0,9,  14.5748
09AR20041223,       I09S,       6,          1,         17,         17,2,20041225,       2019,   -35.5118,   114.9983,       2380,   150.2,  14.1505,  35.4508,2,  35.4502,2,    243.7,2,   241.0,2,    1.85,2,    2.93,2,    0.34,2,-999.000,9,-999.000,9,-999.000,9,  -999.0,9,  -999.0,9,  14.1286
09AR20041223,       I09S,       6,          1,         16,         16,2,20041225,       2019,   -35.5118,   114.9983,       2380,   200.3,  12.8066,  35.2190,2,  35.2157,2,    245.6,2,   244.6,2,    1.85,2,    4.98,2,    0.46,2,-999.000,9,-999.000,9,-999.000,9,  -999.0,9,  -999.0,9,  12.7793
09AR20041223,       I09S,       6,          1,         15,         15,2,20041225,       2019,   -35.5118,   114.9983,       2380,   300.9,  10.7774,  34.8996,2,  34.8971,2,    240.8,2,   245.0,2,    2.93,2,   10.25,2,    0.79,2,-999.000,9,-999.000,9,-999.000,9,  -999.0,9,  -999.0,9,  10.7406
09AR20041223,       I09S,       6,          1,         14,         14,2,20041225,       2019,   -35.5118,   114.9983,       2380,   401.5,   9.4725,  34.7033,2,  34.7033,2,    246.3,2,   242.9,2,    4.49,2,   14.84,2,    1.04,2,-999.000,9,-999.000,9,-999.000,9,  -999.0,9,  -999.0,9,   9.4271
09AR20041223,       I09S,       6,          1,         13,         13,2,20041225,       2019,   -35.5118,   114.9983,       2380,   500.6,   8.9874,  34.6340,2,  34.6289,2,    239.0,2,   240.5,2,    5.56,2,   16.50,2,    1.15,2,-999.000,9,-999.000,9,-999.000,9,  -999.0,9,  -999.0,9,   8.9324
09AR20041223,       I09S,       6,          1,         12,         12,2,20041225,       2019,   -35.5118,   114.9983,       2380,   600.7,   8.1910,  34.5446,2,  34.5450,2,    223.4,2,   221.5,2,    8.98,2,   20.21,2,    1.38,2,-999.000,9,-999.000,9,-999.000,9,  -999.0,9,  -999.0,9,   8.1282
09AR20041223,       I09S,       6,          1,         11,         11,2,20041225,       2019,   -35.5118,   114.9983,       2380,   700.0,   6.8981,  34.4613,2,  34.4615,2,    200.7,2,   201.0,2,   16.99,2,   24.89,2,    1.68,2,-999.000,9,-999.000,9,-999.000,9,  -999.0,9,  -999.0,9,   6.8313
09AR20041223,       I09S,       6,          1,         10,         10,2,20041225,       2019,   -35.5118,   114.9983,       2380,   798.4,   5.6882,  34.4026,2,  34.4033,2,    196.2,2,   197.1,2,   24.90,2,   27.73,2,    1.87,2,-999.000,9,-999.000,9,-999.000,9,  -999.0,9,  -999.0,9,   5.6188
09AR20041223,       I09S,       6,          1,          9,          9,2,20041225,       2019,   -35.5118,   114.9983,       2380,   901.8,   4.6159,  34.3766,2,  34.3772,2,    194.5,2,   195.2,2,   34.27,2,   29.68,2,    2.03,2,-999.000,9,-999.000,9,-999.000,9,  -999.0,9,  -999.0,9,   4.5442
09AR20041223,       I09S,       6,          1,          8,          8,2,20041225,       2019,   -35.5118,   114.9983,       2380,   995.6,   3.8920,  34.3905,2,  34.3909,2,    189.0,2,   190.5,2,   45.11,2,   31.34,2,    2.16,2,-999.000,9,-999.000,9,-999.000,9,  -999.0,9,  -999.0,9,   3.8177
09AR20041223,       I09S,       6,          1,          7,          7,2,20041225,       2019,   -35.5118,   114.9983,       2380,  1199.9,   3.2382,  34.4814,2,  34.4823,2,    170.1,2,   169.7,2,   63.85,2,   33.19,2,    2.31,2,-999.000,9,-999.000,9,-999.000,9,  -999.0,9,  -999.0,9,   3.1527
09AR20041223,       I09S,       6,          1,          6,          6,2,20041225,       2019,   -35.5118,   114.9983,       2380,  1399.5,   2.8704,  34.5544,2,  34.5548,2,    165.8,2,   165.0,2,   73.31,2,   33.39,2,    2.31,2,-999.000,9,-999.000,9,-999.000,9,  -999.0,9,  -999.0,9,   2.7723
09AR20041223,       I09S,       6,          1,          5,          5,2,20041225,       2019,   -35.5118,   114.9983,       2380,  1550.4,   2.7204,  34.6147,2,  34.6144,2,    162.1,2,   162.9,2,   80.63,2,   33.09,2,    2.30,2,-999.000,9,-999.000,9,-999.000,9,  -999.0,9,  -999.0,9,   2.6115
09AR20041223,       I09S,       6,          1,          4,          4,2,20041225,       2019,   -35.5118,   114.9983,       2380,  1850.0,   2.4793,  34.6896,2,  34.6901,2,    165.0,2,   165.4,2,   92.73,2,   32.50,2,    2.28,2,-999.000,9,-999.000,9,-999.000,9,  -999.0,9,  -999.0,9,   2.3483
09AR20041223,       I09S,       6,          1,          3,          3,2,20041225,       2019,   -35.5118,   114.9983,       2380,  2102.2,   2.2517,  34.7162,2,  34.7170,2,    170.4,2,   168.2,2,  101.02,2,   32.21,2,    2.26,2,-999.000,9,-999.000,9,-999.000,9,  -999.0,9,  -999.0,9,   2.1023
09AR20041223,       I09S,       6,          1,          2,          2,2,20041225,       2019,   -35.5118,   114.9983,       2380,  2300.6,   2.0293,  34.7271,2,  34.7268,2,    174.6,2,   174.2,2,  106.39,2,   31.82,2,    2.24,2,-999.000,9,-999.000,9,-999.000,9,  -999.0,9,  -999.0,9,   1.8661
09AR20041223,       I09S,       6,          1,          1,          1,2,20041225,       2019,   -35.5118,   114.9983,       2380,  2421.7,   1.9646,  34.7287,2,  34.7286,2,    178.7,2,   179.8,2,  107.17,2,   32.11,2,    2.25,2,-999.000,9,-999.000,9,-999.000,9,  -999.0,9,  -999.0,9,   1.7917
09AR20041223,       I09S,       7,          1,         24,         24,2,20041226,       0148,   -35.6492,   115.0067,          0,    11.4,  19.4990,  35.8764,2,  35.8783,2,    230.7,2,   231.1,2,    2.44,2,    0.00,2,    0.10,2,   2.323,2,   1.270,2,   0.378,4,  2054.3,6,  2352.7,6,  19.4969
09AR20041223,       I09S,       7,          1,         23,         23,2,20041226,       0148,   -35.6492,   115.0067,          0,    51.1,  17.0726,  35.6982,2,-999.0000,9,    244.8,2,  -999.0,9, -999.00,9, -999.00,9, -999.00,9,-999.000,9,-999.000,9,-999.000,9,  -999.0,9,  -999.0,9,  17.0641
09AR20041223,       I09S,       7,          1,         22,         22,2,20041226,       0148,   -35.6492,   115.0067,          0,    51.1,  17.0700,  35.6978,2,-999.0000,9,    244.8,2,  -999.0,9, -999.00,9, -999.00,9, -999.00,9,-999.000,9,-999.000,9,-999.000,9,  -999.0,9,  -999.0,9,  17.0615
09AR20041223,       I09S,       7,          1,         21,         21,2,20041226,       0148,   -35.6492,   115.0067,          0,    51.1,  17.0654,  35.6966,2,  35.6979,2,    244.8,2,   245.1,2,    1.95,2,    0.00,2,    0.13,2,   2.768,2,   1.404,2,   0.425,4,  2068.3,2,  2343.2,2,  17.0569
09AR20041223,       I09S,       7,          1,         20,         20,2,20041226,       0148,   -35.6492,   115.0067,          0,   101.9,  14.5892,  35.4671,2,  35.4589,2,    242.1,2,   244.2,2,    1.76,2,    2.05,2,    0.32,2,   2.887,2,   1.496,2,   0.253,2,  2085.8,2,  2330.6,2,  14.5740
09AR20041223,       I09S,       7,          1,         19,         19,2,20041226,       0148,   -35.6492,   115.0067,          0,   151.7,  13.0481,  35.2153,2,  35.2149,2,    249.6,2,   247.9,2,    1.76,2,    4.10,2,    0.41,2,   3.121,2,   1.608,6,   0.298,6,  2093.9,2,  2319.1,2,  13.0272
09AR20041223,       I09S,       7,          1,         18,         18,2,20041226,       0148,   -35.6492,   115.0067,          0,   200.8,  12.1360,  35.0925,2,  35.0945,2,    247.2,2,   247.4,2,    1.95,2,    6.15,2,    0.53,2,   3.235,2,   1.683,2,   0.263,2,  2101.0,2,  2314.4,2,  12.1096
09AR20041223,       I09S,       7,          1,         17,         17,2,20041226,       0148,   -35.6492,   115.0067,          0,   300.4,  10.4201,  34.8286,2,  34.8319,2,    245.8,2,   247.0,2,    3.03,2,   10.93,2,    0.83,2,   3.763,2,   1.810,2,   0.241,2,  2112.1,2,  2297.1,2,  10.3842
09AR20041223,       I09S,       7,          1,         16,         16,2,20041226,       0148,   -35.6492,   115.0067,          0,   402.0,   9.5994,  34.7203,2,  34.7223,2,    241.5,2,   243.1,2,    4.20,2,   14.15,2,    0.99,2,   3.723,2,   1.809,2,   0.255,2,  2121.9,2,  2294.8,2,   9.5536
09AR20041223,       I09S,       7,          1,         15,         15,2,20041226,       0148,   -35.6492,   115.0067,          0,   551.1,   8.6925,  34.5968,2,  34.5948,2,    232.3,2,   231.2,2,    6.64,2,   18.25,2,    1.24,2,   3.127,2,   1.547,2,   0.165,2,  2134.9,2,  2286.8,2,   8.6330
09AR20041223,       I09S,       7,          1,         14,         14,2,20041226,       0148,   -35.6492,   115.0067,          0,   700.6,   7.1398,  34.4768,2,  34.4768,2,    201.5,2,   201.7,2,   15.81,2,   24.31,2,    1.63,2,   1.973,4,   0.884,2,   0.087,2,  2163.5,2,  2289.4,2,   7.0716
09AR20041223,       I09S,       7,          1,         13,         13,2,20041226,       0148,   -35.6492,   115.0067,          0,   850.5,   5.0767,  34.3832,2,  34.3831,2,    194.9,2,   195.6,2,   29.87,2,   29.19,2,    1.96,2,-999.000,5,-999.000,5,-999.000,5,  2191.0,2,  2296.8,2,   5.0064
09AR20041223,       I09S,       7,          1,         12,         12,2,20041226,       0148,   -35.6492,   115.0067,          0,  1002.1,   3.8828,  34.3935,2,  34.3942,2,    187.8,2,   187.9,2,   45.10,2,   31.34,2,    2.16,2,   1.112,4,   0.368,2,   0.049,2,  2213.2,2,  2314.7,2,   3.8080
09AR20041223,       I09S,       7,          1,         11,         11,2,20041226,       0148,   -35.6492,   115.0067,          0,  1302.2,   3.0345,  34.5137,2,  34.5132,2,    166.3,2,   166.8,2,   67.55,2,   33.29,2,    2.33,2,   0.677,4,   0.093,2,   0.020,2,  2245.6,6,  2333.2,6,   2.9426
09AR20041223,       I09S,       7,          1,         10,         10,2,20041226,       0148,   -35.6492,   115.0067,          0,  1699.3,   2.6331,  34.6569,2,  34.6572,2,    161.2,2,   160.1,2,   86.58,2,   33.09,2,    2.31,2,   0.175,4,   0.009,2,   0.007,2,  2267.4,2,  2354.4,2,   2.5128
09AR20041223,       I09S,       7,          1,          9,          9,2,20041226,       0148,   -35.6492,   115.0067,          0,  2100.8,   2.2707,  34.7167,2,  34.7160,2,    167.5,2,   168.2,2,   98.87,2,   32.31,2,    2.26,2,   0.318,4,   0.004,6,   0.011,6,  2270.0,2,  2370.2,2,   2.1211
09AR20041223,       I09S,       7,          1,          8,          8,2,20041226,       0148,   -35.6492,   115.0067,          0,  2501.0,   1.9190,  34.7316,2,  34.7306,2,    176.5,2,   176.4,2,  106.49,2,   31.92,2,    2.24,2,   0.451,4,   0.001,2,   0.007,2,  2275.3,2,  2381.0,2,   1.7398
09AR20041223,       I09S,       7,          1,          7,          7,2,20041226,       0148,   -35.6492,   115.0067,          0,  2899.6,   1.6965,  34.7326,2,  34.7321,2,    183.8,2,   183.3,2,  111.47,2,   31.33,2,    2.23,2,   0.546,4,   0.005,2,   0.011,2,  2276.0,2,  2378.7,2,   1.4847
09AR20041223,       I09S,       7,          1,          6,          6,2,20041226,       0148,   -35.6492,   115.0067,          0,  3250.6,   1.5232,  34.7314,2,  34.7308,2,   -999.0,9,   188.9,2,  113.71,2,   31.33,2,    2.22,2,   0.091,4,   0.005,2,   0.010,2,  2273.5,2,  2379.8,2,   1.2812
09AR20041223,       I09S,       7,          1,          5,          5,2,20041226,       0148,   -35.6492,   115.0067,          0,  3500.3,   1.4286,  34.7287,2,  34.7282,2,   -999.0,9,   191.0,2,  116.05,2,   31.62,2,    2.21,2,   0.218,4,   0.004,2,   0.000,2,  2272.2,2,  2379.1,2,   1.1639
09AR20041223,       I09S,       7,          1,          4,          4,2,20041226,       0148,   -35.6492,   115.0067,          0,  3999.5,   1.2903,  34.7235,2,  34.7223,2,   -999.0,9,   195.6,2,  118.40,2,   31.33,2,    2.22,2,   0.405,4,   0.004,2,   0.000,2,  2274.0,2,  2383.4,3,   0.9771
09AR20041223,       I09S,       7,          1,          3,          3,2,20041226,       0148,   -35.6492,   115.0067,          0,  4502.3,   1.0586,  34.7144,2,  34.7135,2,   -999.0,9,   203.9,2,  120.64,2,   31.33,2,    2.22,2,   0.251,4,   0.010,2,   0.000,2,  2267.8,2,  2375.4,2,   0.6969
09AR20041223,       I09S,       7,          1,          2,          2,2,20041226,       0148,   -35.6492,   115.0067,          0,  4996.8,   0.9662,  34.7084,2,  34.7074,2,   -999.0,9,   207.9,2,  123.18,2,   31.53,2,    2.22,2,   0.347,4,   0.018,2,   0.000,2,  2267.0,2,  2372.0,2,   0.5502
09AR20041223,       I09S,       7,          1,          1,          1,2,20041226,       0148,   -35.6492,   115.0067,          0,  5137.6,   0.9663,  34.7074,2,  34.7070,2,   -999.0,9,  -999.0,9,  123.67,2,   31.62,2,    2.24,2,   2.476,4,   0.016,2,   0.000,2,  2267.9,6,  2373.0,6,   0.5335