BOTTLE,20220105CCHSIOENA
EXPOCODE,SECT_ID,STNNBR,CASTNO,SAMPNO,BTLNBR,BTLNBR_FLAG_W,DATE,TIME,LATITUDE,LONGITUDE,DEPTH,CTDPRS,CTDTMP,CTDSAL,CTDSAL_FLAG_W,SALNTY,SALNTY_FLAG_W,CTDOXY,CTDOXY_FLAG_W,OXYGEN,OXYGEN_FLAG_W,SILCAT,SILCAT_FLAG_W,NITRAT,NITRAT_FLAG_W,PHSPHT,PHSPHT_FLAG_W,CFC-11,CFC-11_FLAG_W,CFC-12,CFC-12_FLAG_W,CFC113,CFC113_FLAG_W,TCARBN,TCARBN_FLAG_W,ALKALI,ALKALI_FLAG_W,THETA
,,,,,,,,,,,METERS,DBAR,ITS-90,PSS-78,,PSS-78,,UMOL/KG,,UMOL/KG,,UMOL/KG,,UMOL/KG,,UMOL/KG,,PMOL/KG,,PMOL/KG,,PMOL/KG,,UMOL/KG,,UMOL/KG,,DEG C
09AR20041223,       I09S,      24,          1,         24,         24,2,20050101,       0551,   -44.4932,   115.0048,       4307,    10.7,  11.4506,  34.6637,2,  34.6638,2,    275.4,2,   277.3,2,    1.56,2,    8.88,2,    0.73,2,-999.000,9,-999.000,9,-999.000,9,  -999.0,9,  -999.0,9,  11.4493
09AR20041223,       I09S,      24,          1,         23,         23,2,20050101,       0551,   -44.4932,   115.0048,       4307,    10.6,  11.4504,  34.6637,2,-999.0000,9,    275.4,2,  -999.0,9, -999.00,9, -999.00,9, -999.00,9,-999.000,9,-999.000,9,-999.000,9,  -999.0,9,  -999.0,9,  11.4491
09AR20041223,       I09S,      24,          1,         22,         22,2,20050101,       0551,   -44.4932,   115.0048,       4307,    10.6,  11.4541,  34.6637,2,-999.0000,9,    275.4,2,  -999.0,9, -999.00,9, -999.00,9, -999.00,9,-999.000,9,-999.000,9,-999.000,9,  -999.0,9,  -999.0,9,  11.4528
09AR20041223,       I09S,      24,          1,         21,         21,2,20050101,       0551,   -44.4932,   115.0048,       4307,    40.7,  10.9388,  34.6451,2,  34.6429,2,    275.5,2,   277.5,2,    1.85,2,    9.86,2,    0.78,2,-999.000,9,-999.000,9,-999.000,9,  -999.0,9,  -999.0,9,  10.9339
09AR20041223,       I09S,      24,          1,         20,         20,2,20050101,       0551,   -44.4932,   115.0048,       4307,   100.5,   9.7434,  34.7081,2,  34.7072,2,    272.3,2,   270.1,2,    4.20,2,   12.30,2,    0.92,3,-999.000,9,-999.000,9,-999.000,9,  -999.0,9,  -999.0,9,   9.7320
09AR20041223,       I09S,      24,          1,         19,         19,2,20050101,       0551,   -44.4932,   115.0048,       4307,   145.0,   9.7573,  34.7408,2,  34.7400,2,    267.8,2,   266.5,2,    4.10,2,   12.59,2,    0.90,2,-999.000,9,-999.000,9,-999.000,9,  -999.0,9,  -999.0,9,   9.7408
09AR20041223,       I09S,      24,          1,         18,         18,2,20050101,       0551,   -44.4932,   115.0048,       4307,   200.5,   9.5629,  34.7155,2,  34.7151,2,    266.7,2,   268.7,2,    4.29,2,   13.08,2,    0.92,2,-999.000,9,-999.000,9,-999.000,9,  -999.0,9,  -999.0,9,   9.5404
09AR20041223,       I09S,      24,          1,         17,          6,2,20050101,       0551,   -44.4932,   115.0048,       4307,   301.0,   9.3638,  34.6855,2,  34.6852,2,    265.4,2,   266.2,2,    4.49,2,   13.86,2,    0.98,2,-999.000,9,-999.000,9,-999.000,9,  -999.0,9,  -999.0,9,   9.3302
09AR20041223,       I09S,      24,          1,         16,         16,2,20050101,       0551,   -44.4932,   115.0048,       4307,   401.0,   9.1397,  34.6444,2,  34.6444,2,    263.7,2,   264.3,2,    4.88,2,   14.64,2,    1.02,2,-999.000,9,-999.000,9,-999.000,9,  -999.0,9,  -999.0,9,   9.0954
09AR20041223,       I09S,      24,          1,         15,         15,2,20050101,       0551,   -44.4932,   115.0048,       4307,   502.0,   8.7773,  34.5887,2,  34.5887,2,    257.4,2,   254.2,2,    5.86,2,   16.79,2,    1.13,2,-999.000,9,-999.000,9,-999.000,9,  -999.0,9,  -999.0,9,   8.7229
09AR20041223,       I09S,      24,          1,         14,         14,2,20050101,       0551,   -44.4932,   115.0048,       4307,   651.3,   7.9139,  34.5069,2,  34.5075,2,    227.5,2,   225.4,2,   10.35,2,   21.28,2,    1.41,2,-999.000,9,-999.000,9,-999.000,9,  -999.0,9,  -999.0,9,   7.8469
09AR20041223,       I09S,      24,          1,         13,         13,2,20050101,       0551,   -44.4932,   115.0048,       4307,   802.0,   6.2388,  34.3990,2,  34.3982,2,    211.9,2,   211.4,2,   19.14,2,   26.55,2,    1.74,2,-999.000,9,-999.000,9,-999.000,9,  -999.0,9,  -999.0,9,   6.1657
09AR20041223,       I09S,      24,          1,         12,         12,2,20050101,       0551,   -44.4932,   115.0048,       4307,   951.1,   4.9089,  34.3250,2,  34.3253,2,    214.0,2,   215.5,2,   25.68,2,   29.29,2,    1.90,2,-999.000,9,-999.000,9,-999.000,9,  -999.0,9,  -999.0,9,   4.8309
09AR20041223,       I09S,      24,          1,         11,         11,2,20050101,       0551,   -44.4932,   115.0048,       4307,  1101.2,   3.9767,  34.3343,2,  34.3345,2,    206.0,2,   206.3,2,   37.20,2,   31.34,2,    2.08,2,-999.000,9,-999.000,9,-999.000,9,  -999.0,9,  -999.0,9,   3.8930
09AR20041223,       I09S,      24,          1,         10,         10,2,20050101,       0551,   -44.4932,   115.0048,       4307,  1300.7,   3.2673,  34.4045,2,  34.4039,2,    189.0,2,   188.7,2,   52.72,2,   33.58,2,    2.25,2,-999.000,9,-999.000,9,-999.000,9,  -999.0,9,  -999.0,9,   3.1735
09AR20041223,       I09S,      24,          1,          9,          9,2,20050101,       0551,   -44.4932,   115.0048,       4307,  1500.3,   2.8793,  34.4967,2,  34.4962,2,    177.1,2,   176.5,2,   63.94,2,   34.17,2,    2.29,2,-999.000,9,-999.000,9,-999.000,9,  -999.0,9,  -999.0,9,   2.7730
09AR20041223,       I09S,      24,          1,          8,        108,2,20050101,       0551,   -44.4932,   115.0048,       4307,  1700.4,   2.6838,  34.5812,2,  34.5809,2,    173.8,2,   174.2,2,   70.09,2,   33.78,2,    2.25,2,-999.000,9,-999.000,9,-999.000,9,  -999.0,9,  -999.0,9,   2.5630
09AR20041223,       I09S,      24,          1,          7,        107,2,20050101,       0551,   -44.4932,   115.0048,       4307,  2100.2,   2.4022,  34.7016,2,  34.7013,2,    181.2,2,   183.8,2,   76.52,2,   32.80,2,    2.14,2,-999.000,9,-999.000,9,-999.000,9,  -999.0,9,  -999.0,9,   2.2506
09AR20041223,       I09S,      24,          1,          6,        117,2,20050101,       0551,   -44.4932,   115.0048,       4307,  2501.2,   2.1026,  34.7474,2,  34.7472,2,    190.8,2,   191.4,2,   85.11,2,   30.75,2,    2.06,2,-999.000,9,-999.000,9,-999.000,9,  -999.0,9,  -999.0,9,   1.9199
09AR20041223,       I09S,      24,          1,          5,        105,2,20050101,       0551,   -44.4932,   115.0048,       4307,  2874.7,   1.7182,  34.7476,2,  34.7471,2,    197.2,2,   198.5,2,   97.21,2,   30.75,2,    2.08,2,-999.000,9,-999.000,9,-999.000,9,  -999.0,9,  -999.0,9,   1.5082
09AR20041223,       I09S,      24,          1,          4,        104,2,20050101,       0551,   -44.4932,   115.0048,       4307,  3303.7,   1.2797,  34.7297,2,  34.7288,2,    202.8,2,   203.0,2,  110.39,2,   31.53,2,    2.14,2,-999.000,9,-999.000,9,-999.000,9,  -999.0,9,  -999.0,9,   1.0383
09AR20041223,       I09S,      24,          1,          3,        103,2,20050101,       0551,   -44.4932,   115.0048,       4307,  3700.5,   1.0528,  34.7180,2,  34.7178,2,    206.6,2,   206.2,2,  118.01,2,   31.92,2,    2.18,2,-999.000,9,-999.000,9,-999.000,9,  -999.0,9,  -999.0,9,   0.7775
09AR20041223,       I09S,      24,          1,          2,        102,2,20050101,       0551,   -44.4932,   115.0048,       4307,  4002.1,   0.9647,  34.7125,2,  34.7117,2,    208.1,2,   208.8,2,  120.94,2,   32.11,2,    2.18,2,-999.000,9,-999.000,9,-999.000,9,  -999.0,9,  -999.0,9,   0.6605
09AR20041223,       I09S,      24,          1,          1,        101,2,20050101,       0551,   -44.4932,   115.0048,       4307,  4457.8,   0.8908,  34.7072,2,  34.7062,2,    209.5,2,   209.4,2,  123.77,2,   32.31,2,    2.21,2,-999.000,9,-999.000,9,-999.000,9,  -999.0,9,  -999.0,9,   0.5393
09AR20041223,       I09S,      25,          1,         24,         24,2,20050101,       1224,   -45.0073,   114.9878,       4188,    10.2,  11.4398,  34.6047,2,  34.6048,2,    273.5,2,   273.5,2,    2.44,2,    9.37,2,    0.77,2,   3.279,2,   1.811,2,   0.384,4,  2083.3,6,  2293.9,6,  11.4385
09AR20041223,       I09S,      25,          1,         23,         23,2,20050101,       1224,   -45.0073,   114.9878,       4188,    10.2,  11.4392,  34.6048,2,-999.0000,9,    273.5,2,  -999.0,9, -999.00,9, -999.00,9, -999.00,9,-999.000,9,-999.000,9,-999.000,9,  -999.0,9,  -999.0,9,  11.4379
09AR20041223,       I09S,      25,          1,         22,         22,2,20050101,       1224,   -45.0073,   114.9878,       4188,    10.2,  11.4386,  34.6053,2,-999.0000,9,    273.5,2,  -999.0,9, -999.00,9, -999.00,9, -999.00,9,-999.000,9,-999.000,9,-999.000,9,  -999.0,9,  -999.0,9,  11.4373
09AR20041223,       I09S,      25,          1,         21,         21,2,20050101,       1224,   -45.0073,   114.9878,       4188,    51.0,  11.0908,  34.5906,2,  34.5917,2,    275.9,2,   275.7,2,    2.44,2,    9.57,2,    0.78,2,   3.322,2,   1.809,2,   0.409,4,  2084.3,2,  2322.8,4,  11.0845
09AR20041223,       I09S,      25,          1,         20,         20,2,20050101,       1224,   -45.0073,   114.9878,       4188,   100.5,   9.2533,  34.5931,2,  34.5907,2,    274.0,2,   274.5,2,    4.49,2,   12.59,2,    1.01,2,   3.561,2,   1.928,2,   0.379,4,  2109.2,2,  2293.5,2,   9.2423
09AR20041223,       I09S,      25,          1,         19,         19,2,20050101,       1224,   -45.0073,   114.9878,       4188,   151.1,   8.9013,  34.5829,2,  34.5844,2,    267.9,2,   268.6,2,    5.08,2,   14.84,2,    1.05,2,   3.555,6,   1.929,6,   0.315,6,  2114.1,2,  2290.6,2,   8.8851
09AR20041223,       I09S,      25,          1,         18,         18,2,20050101,       1224,   -45.0073,   114.9878,       4188,   200.9,   8.4572,  34.5216,2,  34.5226,2,    269.4,2,   270.6,2,    5.37,2,   16.20,2,    1.10,2,   3.605,2,   1.951,2,   0.317,2,  2117.6,2,  2288.2,2,   8.4363
09AR20041223,       I09S,      25,          1,         17,          6,2,20050101,       1224,   -45.0073,   114.9878,       4188,   301.4,   8.0712,  34.4602,2,  34.4603,2,    269.7,2,   271.7,2,    5.56,2,   16.60,2,    1.16,2,   3.650,2,   1.964,2,   0.318,2,  2118.3,2,  2286.5,2,   8.0406
09AR20041223,       I09S,      25,          1,         16,         16,2,20050101,       1224,   -45.0073,   114.9878,       4188,   401.4,   7.6414,  34.4073,2,  34.4070,2,    265.9,2,   260.6,2,    7.22,2,   18.65,2,    1.28,2,   3.272,2,   1.801,2,   0.398,4,  2126.4,2,  2284.9,2,   7.6017
09AR20041223,       I09S,      25,          1,         15,         15,2,20050101,       1224,   -45.0073,   114.9878,       4188,   501.1,   7.3805,  34.4333,2,  34.4323,2,    231.8,2,   232.2,2,   11.13,2,   21.58,2,    1.45,2,   3.106,2,   1.600,2,   0.208,2,  2146.2,2,  2286.2,2,   7.3315
09AR20041223,       I09S,      25,          1,         14,         14,2,20050101,       1224,   -45.0073,   114.9878,       4188,   651.1,   6.1693,  34.3782,2,  34.3792,2,    216.1,2,   217.0,2,   17.77,2,   26.07,2,    1.71,2,   2.707,2,   1.347,2,   0.178,2,  2166.1,2,  2286.2,2,   6.1110
09AR20041223,       I09S,      25,          1,         13,         13,2,20050101,       1224,   -45.0073,   114.9878,       4188,   800.7,   4.9562,  34.3398,2,  34.3406,2,    210.6,2,   211.6,2,   25.68,2,   28.51,2,    1.90,2,   2.152,2,   1.048,2,   0.123,2,  2185.8,2,  2291.5,2,   4.8911
09AR20041223,       I09S,      25,          1,         12,         12,2,20050101,       1224,   -45.0073,   114.9878,       4188,   949.8,   3.9223,  34.3039,2,  34.3059,2,    212.9,2,   214.5,2,   33.00,2,   30.46,2,    2.06,2,   2.221,2,   1.087,2,   0.164,2,  2200.7,2,  2296.5,2,   3.8517
09AR20041223,       I09S,      25,          1,         11,         11,2,20050101,       1224,   -45.0073,   114.9878,       4188,  1101.7,   3.5459,  34.3651,2,  34.3672,2,    196.3,2,   197.2,2,   43.54,2,   32.51,2,    2.17,2,   1.385,2,   0.672,2,   0.072,2,  2212.9,6,  2306.8,6,   3.4658
09AR20041223,       I09S,      25,          1,         10,         10,2,20050101,       1224,   -45.0073,   114.9878,       4188,  1301.6,   3.0741,  34.4494,2,  34.4501,2,    181.1,2,   181.0,2,   56.82,2,   33.39,2,    2.28,2,   0.699,2,   0.349,2,   0.041,2,  2233.0,2,  2319.5,2,   2.9820
09AR20041223,       I09S,      25,          1,          9,          9,2,20050101,       1224,   -45.0073,   114.9878,       4188,  1503.6,   2.7539,  34.5401,2,  34.5411,2,    175.5,2,   174.7,2,   65.50,2,   33.29,2,    2.28,2,   0.466,6,   0.232,6,   0.023,6,  2245.1,2,  2327.3,2,   2.6487
09AR20041223,       I09S,      25,          1,          8,        108,2,20050101,       1224,   -45.0073,   114.9878,       4188,  1700.0,   2.5956,  34.6114,2,  34.6115,2,    174.6,2,   173.8,2,   70.77,2,   32.60,2,    2.24,2,   0.264,2,   0.124,2,   0.030,2,  2204.2,4,  2335.2,2,   2.4759
09AR20041223,       I09S,      25,          1,          7,        107,2,20050101,       1224,   -45.0073,   114.9878,       4188,  2101.1,   2.3489,  34.7143,2,  34.7153,2,    184.3,2,   184.1,2,   76.91,2,   31.43,2,    2.12,2,   0.107,2,   0.053,2,   0.013,2,  2248.6,2,  2347.7,2,   2.1981
09AR20041223,       I09S,      25,          1,          6,        117,2,20050101,       1224,   -45.0073,   114.9878,       4188,  2500.6,   2.0461,  34.7497,2,  34.7518,2,    193.0,2,   193.7,2,   84.33,2,   29.87,2,    2.07,2,   0.052,2,   0.026,2,   0.012,2,  2247.8,2,  2349.8,2,   1.8645
09AR20041223,       I09S,      25,          1,          5,        105,2,20050101,       1224,   -45.0073,   114.9878,       4188,  2851.1,   1.7010,  34.7472,2,  34.7472,2,    198.3,2,   198.0,2,   94.48,2,   30.06,2,    2.10,2,   0.047,2,   0.018,2,   0.010,2,  2250.7,2,  2355.4,2,   1.4936
09AR20041223,       I09S,      25,          1,          4,        104,2,20050101,       1224,   -45.0073,   114.9878,       4188,  3300.2,   1.2879,  34.7302,2,  34.7310,2,    203.7,2,   202.9,2,  106.68,2,   30.94,2,    2.15,2,   0.069,2,   0.033,2,   0.016,2,  2256.0,2,  2359.7,2,   1.0467
09AR20041223,       I09S,      25,          1,          3,        103,2,20050101,       1224,   -45.0073,   114.9878,       4188,  3700.7,   1.0216,  34.7166,2,  34.7162,2,    208.0,2,   207.0,2,  115.18,2,   31.92,2,    2.18,2,   0.137,2,   0.065,2,   0.019,2,  2259.1,2,  2359.7,2,   0.7471
09AR20041223,       I09S,      25,          1,          2,        102,2,20050101,       1224,   -45.0073,   114.9878,       4188,  4000.8,   0.9356,  34.7113,2,  34.7117,2,    209.7,2,   209.3,2,  118.69,2,   31.33,2,    2.19,2,   0.148,6,   0.074,6,   0.019,6,  2261.8,2,  2362.7,2,   0.6323
09AR20041223,       I09S,      25,          1,          1,        101,2,20050101,       1224,   -45.0073,   114.9878,       4188,  4309.7,   0.9218,  34.7091,2,  34.7118,2,    211.0,2,   210.9,2,  118.79,2,   31.43,2,    2.25,2,   0.144,2,   0.068,2,   0.019,2,  2262.7,6,  2367.7,6,   0.5857