BOTTLE,20220105CCHSIOENA
EXPOCODE,SECT_ID,STNNBR,CASTNO,SAMPNO,BTLNBR,BTLNBR_FLAG_W,DATE,TIME,LATITUDE,LONGITUDE,DEPTH,CTDPRS,CTDTMP,CTDSAL,CTDSAL_FLAG_W,SALNTY,SALNTY_FLAG_W,CTDOXY,CTDOXY_FLAG_W,OXYGEN,OXYGEN_FLAG_W,SILCAT,SILCAT_FLAG_W,NITRAT,NITRAT_FLAG_W,PHSPHT,PHSPHT_FLAG_W,CFC-11,CFC-11_FLAG_W,CFC-12,CFC-12_FLAG_W,CFC113,CFC113_FLAG_W,TCARBN,TCARBN_FLAG_W,ALKALI,ALKALI_FLAG_W,THETA
,,,,,,,,,,,METERS,DBAR,ITS-90,PSS-78,,PSS-78,,UMOL/KG,,UMOL/KG,,UMOL/KG,,UMOL/KG,,UMOL/KG,,PMOL/KG,,PMOL/KG,,PMOL/KG,,UMOL/KG,,UMOL/KG,,DEG C
09AR20041223,       I09S,     102,          1,         24,         24,2,20050201,       0116,   -63.5783,    80.9438,       3645,    11.2,   1.0346,  33.5830,2,  33.5829,2,    337.4,2,   337.2,2,   36.44,2,   25.01,2,    1.51,2,-999.000,9,-999.000,9,-999.000,9,  -999.0,9,  -999.0,9,   1.0341
09AR20041223,       I09S,     102,          1,         23,         23,2,20050201,       0116,   -63.5783,    80.9438,       3645,    41.4,  -0.1658,  33.9803,2,-999.0000,9,    285.3,2,  -999.0,9, -999.00,9, -999.00,9, -999.00,9,-999.000,9,-999.000,9,-999.000,9,  -999.0,9,  -999.0,9,  -0.1672
09AR20041223,       I09S,     102,          1,         22,         22,2,20050201,       0116,   -63.5783,    80.9438,       3645,    44.1,  -0.0751,  33.9568,2,  33.9379,2,    282.7,2,   306.2,2,   51.76,2,   27.74,2,    1.81,2,-999.000,9,-999.000,9,-999.000,9,  -999.0,9,  -999.0,9,  -0.0766
09AR20041223,       I09S,     102,          1,         21,         21,2,20050201,       0116,   -63.5783,    80.9438,       3645,    75.9,  -0.5981,  34.1443,2,  34.1406,2,    260.5,2,   262.2,2,   68.74,2,   30.76,2,    2.06,2,-999.000,9,-999.000,9,-999.000,9,  -999.0,9,  -999.0,9,  -0.6004
09AR20041223,       I09S,     102,          1,         20,         20,2,20050201,       0116,   -63.5783,    80.9438,       3645,   100.3,  -0.5955,  34.1951,2,  34.1939,2,    254.9,2,   256.2,2,   70.69,2,   31.05,2,    2.10,2,-999.000,9,-999.000,9,-999.000,9,  -999.0,9,  -999.0,9,  -0.5985
09AR20041223,       I09S,     102,          1,         19,         19,2,20050201,       0116,   -63.5783,    80.9438,       3645,   151.2,  -0.3188,  34.3020,2,  34.3055,2,    244.8,2,   243.8,2,   73.42,2,   31.83,2,    2.12,2,-999.000,9,-999.000,9,-999.000,9,  -999.0,9,  -999.0,9,  -0.3238
09AR20041223,       I09S,     102,          1,         18,         18,2,20050201,       0116,   -63.5783,    80.9438,       3645,   201.5,   0.9773,  34.5063,2,  34.5124,2,    207.7,2,   201.0,2,   81.61,2,   33.19,2,    2.22,2,-999.000,9,-999.000,9,-999.000,9,  -999.0,9,  -999.0,9,   0.9682
09AR20041223,       I09S,     102,          1,         17,          6,2,20050201,       0116,   -63.5783,    80.9438,       3645,   300.9,   1.7896,  34.6613,2,  34.6629,2,    177.8,2,   179.2,2,   87.46,2,   32.89,2,    2.21,2,-999.000,9,-999.000,9,-999.000,9,  -999.0,9,  -999.0,9,   1.7737
09AR20041223,       I09S,     102,          1,         16,         16,2,20050201,       0116,   -63.5783,    80.9438,       3645,   401.7,   1.7250,  34.6962,2,  34.6962,2,    182.8,2,   185.5,2,   88.82,2,   32.01,2,    2.15,2,-999.000,9,-999.000,9,-999.000,9,  -999.0,9,  -999.0,9,   1.7036
09AR20041223,       I09S,     102,          1,         15,         15,2,20050201,       0116,   -63.5783,    80.9438,       3645,   550.8,   1.6848,  34.7268,2,  34.7270,2,    190.5,2,   191.7,2,   90.38,2,   31.04,2,    2.10,2,-999.000,9,-999.000,9,-999.000,9,  -999.0,9,  -999.0,9,   1.6550
09AR20041223,       I09S,     102,          1,         14,         14,2,20050201,       0116,   -63.5783,    80.9438,       3645,   702.4,   1.5856,  34.7365,2,  34.7370,2,    195.4,2,   195.9,2,   92.33,2,   30.65,2,    2.06,2,-999.000,9,-999.000,9,-999.000,9,  -999.0,9,  -999.0,9,   1.5472
09AR20041223,       I09S,     102,          1,         13,         13,2,20050201,       0116,   -63.5783,    80.9438,       3645,   850.5,   1.4609,  34.7394,2,  34.7398,2,    199.3,2,   199.4,2,   95.55,2,   30.45,2,    2.06,2,-999.000,9,-999.000,9,-999.000,9,  -999.0,9,  -999.0,9,   1.4142
09AR20041223,       I09S,     102,          1,         12,         12,2,20050201,       0116,   -63.5783,    80.9438,       3645,  1001.4,   1.3155,  34.7362,2,  34.7366,2,    201.6,2,   202.3,2,   99.46,2,   30.65,2,    2.07,2,-999.000,9,-999.000,9,-999.000,9,  -999.0,9,  -999.0,9,   1.2604
09AR20041223,       I09S,     102,          1,         11,         11,2,20050201,       0116,   -63.5783,    80.9438,       3645,  1200.5,   1.0830,  34.7233,2,  34.7231,2,    204.3,2,   204.3,2,  104.93,2,   31.04,2,    2.10,2,-999.000,9,-999.000,9,-999.000,9,  -999.0,9,  -999.0,9,   1.0172
09AR20041223,       I09S,     102,          1,         10,         10,2,20050201,       0116,   -63.5783,    80.9438,       3645,  1402.0,   0.9103,  34.7165,2,  34.7188,2,    206.2,2,   206.1,2,  110.00,2,   31.43,2,    2.13,2,-999.000,9,-999.000,9,-999.000,9,  -999.0,9,  -999.0,9,   0.8331
09AR20041223,       I09S,     102,          1,          9,          9,2,20050201,       0116,   -63.5783,    80.9438,       3645,  1600.8,   0.7433,  34.7059,2,  34.7066,2,    207.1,2,   207.0,2,  114.59,2,   31.92,2,    2.17,2,-999.000,9,-999.000,9,-999.000,9,  -999.0,9,  -999.0,9,   0.6546
09AR20041223,       I09S,     102,          1,          8,        108,2,20050201,       0116,   -63.5783,    80.9438,       3645,  1801.3,   0.5808,  34.6958,2,  34.6956,2,    209.5,2,   210.4,2,  117.91,2,   32.60,3,    2.18,2,-999.000,9,-999.000,9,-999.000,9,  -999.0,9,  -999.0,9,   0.4803
09AR20041223,       I09S,     102,          1,          7,        107,2,20050201,       0116,   -63.5783,    80.9438,       3645,  2100.2,   0.4084,  34.6876,2,  34.6878,2,    212.3,2,   211.7,2,  122.79,2,   32.31,2,    2.22,2,-999.000,9,-999.000,9,-999.000,9,  -999.0,9,  -999.0,9,   0.2889
09AR20041223,       I09S,     102,          1,          6,        117,2,20050201,       0116,   -63.5783,    80.9438,       3645,  2400.4,   0.2589,  34.6807,2,  34.6803,2,    216.9,2,   217.2,2,  125.04,2,   32.41,2,    2.21,2,-999.000,9,-999.000,9,-999.000,9,  -999.0,9,  -999.0,9,   0.1191
09AR20041223,       I09S,     102,          1,          5,        105,2,20050201,       0116,   -63.5783,    80.9438,       3645,  2803.3,   0.0979,  34.6750,2,  34.6750,2,    223.4,2,   224.2,2,  125.72,2,   32.41,2,    2.21,2,-999.000,9,-999.000,9,-999.000,9,  -999.0,9,  -999.0,9,  -0.0711
09AR20041223,       I09S,     102,          1,          4,        104,2,20050201,       0116,   -63.5783,    80.9438,       3645,  3100.9,   0.0104,  34.6719,2,  34.6713,2,    227.5,2,   227.9,2,  125.62,2,   32.21,2,    2.20,2,-999.000,9,-999.000,9,-999.000,9,  -999.0,9,  -999.0,9,  -0.1819
09AR20041223,       I09S,     102,          1,          3,        103,2,20050201,       0116,   -63.5783,    80.9438,       3645,  3400.8,  -0.0606,  34.6694,2,  34.6682,2,    231.4,2,   231.0,2,  125.14,2,   32.11,2,    2.20,2,-999.000,9,-999.000,9,-999.000,9,  -999.0,9,  -999.0,9,  -0.2779
09AR20041223,       I09S,     102,          1,          2,        102,2,20050201,       0116,   -63.5783,    80.9438,       3645,  3631.8,  -0.1226,  34.6669,2,  34.6660,2,    233.2,2,   233.8,2,  132.46,2,   32.21,2,    2.21,2,-999.000,9,-999.000,9,-999.000,9,  -999.0,9,  -999.0,9,  -0.3596
09AR20041223,       I09S,     102,          1,          1,        101,2,20050201,       0116,   -63.5783,    80.9438,       3645,  3676.5,  -0.1388,  34.6660,2,  34.6658,2,    232.0,2,   231.8,2,  141.05,2,   32.41,2,    2.24,2,-999.000,9,-999.000,9,-999.000,9,  -999.0,9,  -999.0,9,  -0.3796
09AR20041223,       I09S,     103,          1,         24,         24,2,20050201,       0530,   -63.8112,    80.8640,       3685,    10.8,   0.8017,  33.3652,2,  33.3661,2,    338.4,2,   339.6,2,   33.12,2,   24.52,2,    1.46,2,-999.000,9,-999.000,9,-999.000,9,  -999.0,9,  -999.0,9,   0.8013
09AR20041223,       I09S,     103,          1,         23,         23,2,20050201,       0530,   -63.8112,    80.8640,       3685,    51.8,  -1.0282,  34.1274,2,  34.1351,2,    291.4,2,   291.3,2,   60.74,2,   29.88,2,    2.00,2,-999.000,9,-999.000,9,-999.000,9,  -999.0,9,  -999.0,9,  -1.0295
09AR20041223,       I09S,     103,          1,         22,         22,2,20050201,       0530,   -63.8112,    80.8640,       3685,    76.2,  -0.5074,  34.2791,2,  34.3031,2,    273.1,2,   252.6,2,   69.13,2,   31.73,2,    2.12,2,-999.000,9,-999.000,9,-999.000,9,  -999.0,9,  -999.0,9,  -0.5098
09AR20041223,       I09S,     103,          1,         21,         21,2,20050201,       0530,   -63.8112,    80.8640,       3685,   101.7,   0.7210,  34.4423,2,  34.4538,2,    204.5,2,   207.4,2,   77.71,2,   33.58,2,    2.24,2,-999.000,9,-999.000,9,-999.000,9,  -999.0,9,  -999.0,9,   0.7167
09AR20041223,       I09S,     103,          1,         20,         20,2,20050201,       0530,   -63.8112,    80.8640,       3685,   150.5,   1.3272,  34.5516,2,  34.5681,2,    178.8,2,   186.2,2,   82.97,2,   33.87,2,    2.25,2,-999.000,9,-999.000,9,-999.000,9,  -999.0,9,  -999.0,9,   1.3200
09AR20041223,       I09S,     103,          1,         19,         19,2,20050201,       0530,   -63.8112,    80.8640,       3685,   200.9,   1.8789,  34.6363,2,  34.6381,2,    179.0,2,   174.1,2,   85.41,2,   34.07,2,    2.25,2,-999.000,9,-999.000,9,-999.000,9,  -999.0,9,  -999.0,9,   1.8683
09AR20041223,       I09S,     103,          1,         18,         18,2,20050201,       0530,   -63.8112,    80.8640,       3685,   250.5,   1.8201,  34.6540,2,  34.6546,2,    178.7,2,   178.0,2,   86.48,2,   33.19,2,    2.23,2,-999.000,9,-999.000,9,-999.000,9,  -999.0,9,  -999.0,9,   1.8069
09AR20041223,       I09S,     103,          1,         17,          6,2,20050201,       0530,   -63.8112,    80.8640,       3685,   301.0,   1.8203,  34.6790,2,  34.6799,2,    181.0,2,   180.4,2,   87.55,2,   32.50,2,    2.19,2,-999.000,9,-999.000,9,-999.000,9,  -999.0,9,  -999.0,9,   1.8043
09AR20041223,       I09S,     103,          1,         16,         16,2,20050201,       0530,   -63.8112,    80.8640,       3685,   401.4,   1.7921,  34.7086,2,  34.7108,2,    185.3,2,   185.1,2,   87.94,2,   31.82,2,    2.13,2,-999.000,9,-999.000,9,-999.000,9,  -999.0,9,  -999.0,9,   1.7705
09AR20041223,       I09S,     103,          1,         15,         15,2,20050201,       0530,   -63.8112,    80.8640,       3685,   550.7,   1.7707,  34.7372,2,  34.7370,2,    191.4,2,   191.3,2,   88.62,2,   30.75,2,    2.05,2,-999.000,9,-999.000,9,-999.000,9,  -999.0,9,  -999.0,9,   1.7405
09AR20041223,       I09S,     103,          1,         14,         14,2,20050201,       0530,   -63.8112,    80.8640,       3685,   700.3,   1.5557,  34.7344,2,  34.7349,2,    196.2,2,   196.2,2,   92.63,2,   30.65,2,    2.07,2,-999.000,9,-999.000,9,-999.000,9,  -999.0,9,  -999.0,9,   1.5176
09AR20041223,       I09S,     103,          1,         13,         13,2,20050201,       0530,   -63.8112,    80.8640,       3685,   851.0,   1.3451,  34.7285,2,  34.7292,2,    199.4,2,   200.2,2,   96.43,2,   30.75,2,    2.08,2,-999.000,9,-999.000,9,-999.000,9,  -999.0,9,  -999.0,9,   1.2992
09AR20041223,       I09S,     103,          1,         12,         12,2,20050201,       0530,   -63.8112,    80.8640,       3685,  1001.4,   1.2007,  34.7257,2,  34.7261,2,    202.1,2,   201.9,2,  100.92,2,   30.84,2,    2.09,2,-999.000,9,-999.000,9,-999.000,9,  -999.0,9,  -999.0,9,   1.1466
09AR20041223,       I09S,     103,          1,         11,         11,2,20050201,       0530,   -63.8112,    80.8640,       3685,  1202.1,   1.0628,  34.7244,2,  34.7241,2,    204.1,2,   203.9,2,  106.29,2,   30.84,2,    2.10,2,-999.000,9,-999.000,9,-999.000,9,  -999.0,9,  -999.0,9,   0.9971
09AR20041223,       I09S,     103,          1,         10,         10,2,20050201,       0530,   -63.8112,    80.8640,       3685,  1399.0,   0.8799,  34.7136,2,  34.7141,2,    205.2,2,   206.0,2,  110.10,2,   31.43,2,    2.13,2,-999.000,9,-999.000,9,-999.000,9,  -999.0,9,  -999.0,9,   0.8032
09AR20041223,       I09S,     103,          1,          9,          9,2,20050201,       0530,   -63.8112,    80.8640,       3685,  1601.7,   0.7244,  34.7050,2,  34.7054,2,    207.1,2,   207.3,2,  114.69,2,   31.82,2,    2.16,2,-999.000,9,-999.000,9,-999.000,9,  -999.0,9,  -999.0,9,   0.6359
09AR20041223,       I09S,     103,          1,          8,        108,2,20050201,       0530,   -63.8112,    80.8640,       3685,  1800.4,   0.5811,  34.6970,2,  34.6974,2,    208.7,2,   209.3,2,  118.79,2,   32.02,2,    2.18,2,-999.000,9,-999.000,9,-999.000,9,  -999.0,9,  -999.0,9,   0.4807
09AR20041223,       I09S,     103,          1,          7,        107,2,20050201,       0530,   -63.8112,    80.8640,       3685,  2100.0,   0.4066,  34.6884,2,  34.6876,2,    212.1,2,   211.5,2,  123.86,2,   32.21,2,    2.21,2,-999.000,9,-999.000,9,-999.000,9,  -999.0,9,  -999.0,9,   0.2871
09AR20041223,       I09S,     103,          1,          6,        117,2,20050201,       0530,   -63.8112,    80.8640,       3685,  2401.5,   0.2645,  34.6814,2,  34.6805,2,    216.6,2,   216.3,2,  126.40,2,   32.21,2,    2.22,2,-999.000,9,-999.000,9,-999.000,9,  -999.0,9,  -999.0,9,   0.1245
09AR20041223,       I09S,     103,          1,          5,        105,2,20050201,       0530,   -63.8112,    80.8640,       3685,  2799.6,   0.1029,  34.6746,2,  34.6744,2,    222.6,2,   222.6,2,  127.67,2,   32.02,2,    2.21,2,-999.000,9,-999.000,9,-999.000,9,  -999.0,9,  -999.0,9,  -0.0659
09AR20041223,       I09S,     103,          1,          4,        104,2,20050201,       0530,   -63.8112,    80.8640,       3685,  3100.6,   0.0207,  34.6721,2,  34.6723,2,    227.5,2,   227.2,2,  124.84,2,   32.21,2,    2.20,2,-999.000,9,-999.000,9,-999.000,9,  -999.0,9,  -999.0,9,  -0.1719
09AR20041223,       I09S,     103,          1,          3,        103,2,20050201,       0530,   -63.8112,    80.8640,       3685,  3400.6,  -0.0516,  34.6699,2,  34.6688,2,    230.7,2,   230.8,2,  125.53,2,   32.60,3,    2.20,2,-999.000,9,-999.000,9,-999.000,9,  -999.0,9,  -999.0,9,  -0.2691
09AR20041223,       I09S,     103,          1,          2,        102,2,20050201,       0530,   -63.8112,    80.8640,       3685,  3650.4,  -0.1354,  34.6664,2,  34.6633,2,    233.0,2,   232.3,2,  136.95,2,   32.02,2,    2.22,2,-999.000,9,-999.000,9,-999.000,9,  -999.0,9,  -999.0,9,  -0.3738
09AR20041223,       I09S,     103,          1,          1,        101,2,20050201,       0530,   -63.8112,    80.8640,       3685,  3719.1,  -0.1329,  34.6660,2,  34.6648,2,    232.4,2,   232.2,2,  140.75,2,   32.11,2,    2.23,2,-999.000,9,-999.000,9,-999.000,9,  -999.0,9,  -999.0,9,  -0.3779