BOTTLE,20220105CCHSIOENA
EXPOCODE,SECT_ID,STNNBR,CASTNO,SAMPNO,BTLNBR,BTLNBR_FLAG_W,DATE,TIME,LATITUDE,LONGITUDE,DEPTH,CTDPRS,CTDTMP,CTDSAL,CTDSAL_FLAG_W,SALNTY,SALNTY_FLAG_W,CTDOXY,CTDOXY_FLAG_W,OXYGEN,OXYGEN_FLAG_W,SILCAT,SILCAT_FLAG_W,NITRAT,NITRAT_FLAG_W,PHSPHT,PHSPHT_FLAG_W,CFC-11,CFC-11_FLAG_W,CFC-12,CFC-12_FLAG_W,CFC113,CFC113_FLAG_W,TCARBN,TCARBN_FLAG_W,ALKALI,ALKALI_FLAG_W,THETA
,,,,,,,,,,,METERS,DBAR,ITS-90,PSS-78,,PSS-78,,UMOL/KG,,UMOL/KG,,UMOL/KG,,UMOL/KG,,UMOL/KG,,PMOL/KG,,PMOL/KG,,PMOL/KG,,UMOL/KG,,UMOL/KG,,DEG C
09AR20041223,       I09S,     110,          1,         24,         24,2,20050202,       1327,   -65.6482,    80.3628,       2671,    10.9,  -0.7719,  32.9371,2,  33.1815,2,    337.8,2,   345.2,2,   46.81,2,   25.31,2,    1.61,2,   5.819,2,   3.026,2,   0.527,2,  2119.2,6,  2246.9,6,  -0.7722
09AR20041223,       I09S,     110,          1,         23,         23,2,20050202,       1327,   -65.6482,    80.3628,       2671,    35.1,  -0.5005,  33.6719,2,-999.0000,9,    323.5,2,  -999.0,9, -999.00,9, -999.00,9, -999.00,9,-999.000,9,-999.000,9,-999.000,9,  -999.0,9,  -999.0,9,  -0.5015
09AR20041223,       I09S,     110,          1,         22,         22,2,20050202,       1327,   -65.6482,    80.3628,       2671,    35.1,  -0.8377,  33.6635,2,  33.6872,2,    323.5,2,   336.9,2,   54.60,2,   26.67,2,    1.76,2,   5.336,2,   2.777,2,   0.479,2,  2156.7,2,  2278.7,2,  -0.8386
09AR20041223,       I09S,     110,          1,         21,         21,2,20050202,       1327,   -65.6482,    80.3628,       2671,    71.7,  -1.7535,  34.0994,2,  34.1085,2,    317.1,2,   314.9,2,   66.21,2,   29.10,2,    1.96,2,   4.779,2,   2.482,2,   0.439,2,  2197.5,2,  2313.1,2,  -1.7549
09AR20041223,       I09S,     110,          1,         20,         20,2,20050202,       1327,   -65.6482,    80.3628,       2671,   151.0,  -1.7091,  34.2648,2,  34.2657,2,    304.2,2,   303.6,2,   67.27,2,   30.07,2,    2.01,2,   4.570,2,   2.361,2,   0.430,2,  2211.6,2,  2334.5,3,  -1.7123
09AR20041223,       I09S,     110,          1,         19,         19,2,20050202,       1327,   -65.6482,    80.3628,       2671,   202.0,  -1.6273,  34.3090,2,  34.3143,2,    303.5,2,   301.7,2,   67.27,2,   30.07,2,    2.01,2,   4.588,6,   2.363,6,   0.407,6,  2213.6,2,  2317.0,2,  -1.6318
09AR20041223,       I09S,     110,          1,         18,         18,2,20050202,       1327,   -65.6482,    80.3628,       2671,   302.9,  -1.4476,  34.3767,2,  34.3782,2,    296.5,2,   297.9,2,   69.51,2,   30.17,2,    2.03,2,   4.466,2,   2.303,2,   0.393,2,  -999.0,9,  -999.0,9,  -1.4552
09AR20041223,       I09S,     110,          1,         17,          6,2,20050202,       1327,   -65.6482,    80.3628,       2671,   402.1,  -0.7338,  34.4724,2,  34.4750,2,    260.7,2,   268.2,2,   77.02,2,   30.65,2,    2.09,2,   3.392,2,   1.705,2,   0.293,2,  2229.6,2,  2327.7,2,  -0.7468
09AR20041223,       I09S,     110,          1,         16,         16,2,20050202,       1327,   -65.6482,    80.3628,       2671,   501.8,   0.1914,  34.5865,2,  34.5858,2,    239.2,2,   235.5,2,   86.58,2,   31.33,2,    2.10,2,   2.063,2,   1.042,2,   0.182,2,  -999.0,9,  -999.0,9,   0.1707
09AR20041223,       I09S,     110,          1,         15,         15,2,20050202,       1327,   -65.6482,    80.3628,       2671,   600.0,   0.5828,  34.6499,2,  34.6483,2,    217.1,2,   221.1,2,   93.90,2,   31.14,2,    2.10,2,   1.325,2,   0.661,2,   0.118,2,  2246.5,2,  2344.9,2,   0.5555
09AR20041223,       I09S,     110,          1,         14,         14,2,20050202,       1327,   -65.6482,    80.3628,       2671,   701.7,   0.7618,  34.6837,2,  34.6819,2,    211.9,2,   213.0,2,  100.34,2,   31.23,2,    2.12,2,   0.836,2,   0.417,2,   0.078,2,  2251.9,2,  2360.5,3,   0.7282
09AR20041223,       I09S,     110,          1,         13,         13,2,20050202,       1327,   -65.6482,    80.3628,       2671,   801.5,   0.7211,  34.6913,2,  34.6917,2,    209.1,2,   210.9,2,  105.42,2,   31.53,2,    2.13,2,   0.642,2,   0.319,2,   0.053,2,  -999.0,9,  -999.0,9,   0.6823
09AR20041223,       I09S,     110,          1,         12,         12,2,20050202,       1327,   -65.6482,    80.3628,       2671,   899.9,   0.6825,  34.6949,2,  34.6954,2,    210.9,2,   210.0,2,  109.22,2,   31.43,2,    2.14,2,   0.531,2,   0.263,2,   0.046,2,  -999.0,9,  -999.0,9,   0.6384
09AR20041223,       I09S,     110,          1,         11,         11,2,20050202,       1327,   -65.6482,    80.3628,       2671,  1001.8,   0.6039,  34.6929,2,  34.6919,2,    212.0,2,   211.5,2,  110.88,2,   31.43,2,    2.16,2,   0.521,2,   0.262,2,   0.049,2,  2256.1,2,  2349.5,6,   0.5546
09AR20041223,       I09S,     110,          1,         10,         10,2,20050202,       1327,   -65.6482,    80.3628,       2671,  1101.1,   0.5144,  34.6905,2,  34.6903,2,    213.0,2,   212.5,2,  113.81,2,   31.62,2,    2.16,2,   0.485,2,   0.245,2,   0.033,2,  -999.0,9,  -999.0,9,   0.4601
09AR20041223,       I09S,     110,          1,          9,          9,2,20050202,       1327,   -65.6482,    80.3628,       2671,  1301.1,   0.3858,  34.6863,2,  34.6862,2,    215.2,2,   215.3,2,  117.42,2,   31.82,2,    2.18,2,   0.502,6,   0.252,6,   0.034,6,  -999.0,9,  2372.2,3,   0.3208
09AR20041223,       I09S,     110,          1,          8,        108,2,20050202,       1327,   -65.6482,    80.3628,       2671,  1500.2,   0.2739,  34.6828,2,  34.6825,2,    218.1,2,   218.5,2,  119.86,2,   31.82,2,    2.18,2,   0.541,2,   0.270,2,   0.037,2,  2258.7,2,  -999.0,9,   0.1977
09AR20041223,       I09S,     110,          1,          7,        107,2,20050202,       1327,   -65.6482,    80.3628,       2671,  1701.5,   0.1822,  34.6798,2,  34.6794,2,    220.7,2,   220.7,2,  121.23,2,   32.02,2,    2.19,2,   0.613,2,   0.305,2,   0.037,2,  -999.0,9,  -999.0,9,   0.0941
09AR20041223,       I09S,     110,          1,          6,        117,2,20050202,       1327,   -65.6482,    80.3628,       2671,  1901.5,   0.1079,  34.6769,2,  34.6774,2,    223.0,2,   222.9,2,  121.33,2,   32.41,2,    2.19,2,   0.740,2,   0.354,2,   0.056,2,  -999.0,9,  -999.0,9,   0.0073
09AR20041223,       I09S,     110,          1,          5,        105,2,20050202,       1327,   -65.6482,    80.3628,       2671,  2101.1,   0.0565,  34.6748,2,  34.6752,2,    224.9,2,   225.3,2,  121.43,2,   31.82,2,    2.19,2,   0.817,2,   0.404,2,   0.059,2,  2257.7,2,  2354.7,2,  -0.0573
09AR20041223,       I09S,     110,          1,          4,        104,2,20050202,       1327,   -65.6482,    80.3628,       2671,  2301.6,   0.0344,  34.6735,2,  34.6733,2,    226.0,2,   225.7,2,  121.52,2,   31.92,2,    2.19,2,   0.885,2,   0.437,2,   0.066,2,  -999.0,9,  -999.0,9,  -0.0937
09AR20041223,       I09S,     110,          1,          3,        103,2,20050202,       1327,   -65.6482,    80.3628,       2671,  2501.0,  -0.0070,  34.6721,2,  34.6711,2,    227.9,2,   227.6,2,  121.43,2,   31.82,2,    2.19,2,   0.983,2,   0.484,2,   0.078,2,  2254.7,2,  2354.7,2,  -0.1496
09AR20041223,       I09S,     110,          1,          2,        102,2,20050202,       1327,   -65.6482,    80.3628,       2671,  2652.1,  -0.0487,  34.6702,2,  34.6697,2,    229.5,2,   229.3,2,  121.72,2,   31.72,2,    2.19,2,   1.087,6,   0.529,6,   0.076,6,  -999.0,9,  -999.0,9,  -0.2023
09AR20041223,       I09S,     110,          1,          1,        101,2,20050202,       1327,   -65.6482,    80.3628,       2671,  2729.8,  -0.0802,  34.6692,2,  34.6689,2,    230.4,2,   231.9,2,  122.40,2,   31.82,2,    2.18,2,-999.000,5,-999.000,5,-999.000,5,  2256.6,6,  2352.4,6,  -0.2394
09AR20041223,       I09S,     111,          1,         24,         24,2,20050203,       1100,   -66.6372,    77.5275,       1120,    10.9,  -1.7618,  33.1248,2,-999.0000,9,    340.2,2,  -999.0,9, -999.00,9, -999.00,9, -999.00,9,-999.000,9,-999.000,9,-999.000,9,  -999.0,9,  -999.0,9,  -1.7620
09AR20041223,       I09S,     111,          1,         23,         23,2,20050203,       1100,   -66.6372,    77.5275,       1120,    10.9,  -1.7604,  33.1491,2,-999.0000,9,    340.2,2,  -999.0,9, -999.00,9, -999.00,9, -999.00,9,-999.000,9,-999.000,9,-999.000,9,  -999.0,9,  -999.0,9,  -1.7606
09AR20041223,       I09S,     111,          1,         22,         22,2,20050203,       1100,   -66.6372,    77.5275,       1120,    10.9,  -1.7565,  33.1498,2,-999.0000,9,    340.2,2,  -999.0,9, -999.00,9, -999.00,9, -999.00,9,-999.000,9,-999.000,9,-999.000,9,  -999.0,9,  -999.0,9,  -1.7567
09AR20041223,       I09S,     111,          1,         21,         21,2,20050203,       1100,   -66.6372,    77.5275,       1120,    10.8,  -1.7562,  33.1497,2,  33.1509,2,    340.2,2,   342.0,2,   50.33,2,   25.31,2,    1.75,2,-999.000,9,-999.000,9,-999.000,9,  2122.1,6,  2244.9,6,  -1.7564
09AR20041223,       I09S,     111,          1,         20,         20,2,20050203,       1100,   -66.6372,    77.5275,       1120,    30.8,  -1.7427,  33.2346,2,  33.2938,2,    335.5,2,   336.7,2,   52.28,2,   25.89,2,    1.79,2,   5.161,2,   2.655,2,   0.451,2,  2135.6,2,  2254.9,6,  -1.7432
09AR20041223,       I09S,     111,          1,         19,         19,2,20050203,       1100,   -66.6372,    77.5275,       1120,    40.8,  -1.6956,  33.4955,2,-999.0000,9,    332.4,2,  -999.0,9, -999.00,9, -999.00,9, -999.00,9,-999.000,9,-999.000,9,-999.000,9,  -999.0,9,  -999.0,9,  -1.6964
09AR20041223,       I09S,     111,          1,         18,         18,2,20050203,       1100,   -66.6372,    77.5275,       1120,    51.2,  -1.6685,  34.0596,2,-999.0000,9,    322.6,2,  -999.0,9, -999.00,9, -999.00,9, -999.00,9,-999.000,9,-999.000,9,-999.000,9,  2198.0,2,  2303.8,2,  -1.6695
09AR20041223,       I09S,     111,          1,         17,          6,2,20050203,       1100,   -66.6372,    77.5275,       1120,    51.2,  -1.6730,  34.0645,2,-999.0000,9,    322.6,2,  -999.0,9, -999.00,9, -999.00,9, -999.00,9,-999.000,9,-999.000,9,-999.000,9,  -999.0,9,  -999.0,9,  -1.6740
09AR20041223,       I09S,     111,          1,         16,         16,2,20050203,       1100,   -66.6372,    77.5275,       1120,    51.2,  -1.6711,  34.0593,2,  34.1015,2,    322.6,2,   308.7,2,   64.06,2,   29.00,2,    1.98,2,   4.618,2,   2.367,2,   0.395,2,  -999.0,9,  -999.0,9,  -1.6721
09AR20041223,       I09S,     111,          1,         15,         15,2,20050203,       1100,   -66.6372,    77.5275,       1120,    75.5,  -1.7638,  34.2081,2,  34.2277,2,    304.0,2,   302.0,2,   66.49,2,   29.98,2,    2.00,2,-999.000,9,-999.000,9,-999.000,9,  2208.4,2,  2312.1,2,  -1.7653
09AR20041223,       I09S,     111,          1,         14,         14,2,20050203,       1100,   -66.6372,    77.5275,       1120,   101.2,  -1.7548,  34.2563,2,  34.2632,2,    302.0,2,   301.9,2,   66.69,2,   30.17,2,    1.99,2,   4.561,2,   2.343,2,   0.393,2,  2211.7,2,  2313.5,2,  -1.7568
09AR20041223,       I09S,     111,          1,         13,         13,2,20050203,       1100,   -66.6372,    77.5275,       1120,   150.1,  -1.7746,  34.2927,2,  34.2914,2,    304.5,2,   304.8,2,   66.78,2,   29.68,2,    2.00,2,   4.689,2,   2.403,2,   0.395,2,  2210.3,2,  2316.4,2,  -1.7777
09AR20041223,       I09S,     111,          1,         12,         12,2,20050203,       1100,   -66.6372,    77.5275,       1120,   200.5,  -1.7155,  34.3198,2,  34.3182,2,    304.4,2,   305.1,2,   66.88,2,   29.68,2,    2.00,2,   4.709,2,   2.423,2,   0.433,2,  -999.0,9,  -999.0,9,  -1.7198
09AR20041223,       I09S,     111,          1,         11,         11,2,20050203,       1100,   -66.6372,    77.5275,       1120,   251.1,  -1.4878,  34.3518,2,  34.3496,2,    301.9,2,   297.4,2,   68.83,2,   30.07,2,    2.01,2,-999.000,9,-999.000,9,-999.000,9,  -999.0,9,  -999.0,9,  -1.4939
09AR20041223,       I09S,     111,          1,         10,         10,2,20050203,       1100,   -66.6372,    77.5275,       1120,   301.0,  -1.7618,  34.3548,2,  34.3564,2,    304.9,2,   312.7,2,   66.59,2,   29.97,2,    1.99,2,   5.087,2,   2.589,2,   0.448,2,  2213.9,2,  2324.6,2,  -1.7685
09AR20041223,       I09S,     111,          1,          9,          9,2,20050203,       1100,   -66.6372,    77.5275,       1120,   401.4,  -1.0561,  34.4324,2,  34.4378,2,    299.4,2,   282.2,2,   73.12,2,   30.26,2,    2.04,2,   3.953,2,   2.048,2,   0.331,2,  -999.0,9,  -999.0,9,  -1.0679
09AR20041223,       I09S,     111,          1,          8,        108,2,20050203,       1100,   -66.6372,    77.5275,       1120,   500.7,  -0.1254,  34.5355,2,-999.0000,9,    250.9,2,   249.8,2,   80.63,2,   31.14,2,    2.07,2,   2.720,2,   1.379,2,   0.253,2,  2237.8,2,  2333.0,2,  -0.1447
09AR20041223,       I09S,     111,          1,          7,        107,2,20050203,       1100,   -66.6372,    77.5275,       1120,   601.4,   0.8581,  34.6569,2,  34.6548,2,    211.6,2,   215.4,2,   89.70,2,   31.14,2,    2.09,2,   1.221,2,   0.611,2,   0.110,2,  -999.0,9,  -999.0,9,   0.8294
09AR20041223,       I09S,     111,          1,          6,        117,2,20050203,       1100,   -66.6372,    77.5275,       1120,   706.5,   0.7845,  34.6702,2,  34.6740,2,    214.8,2,   215.0,2,   94.00,2,   31.33,2,    2.09,2,   1.011,2,   0.500,2,   0.103,2,  2248.9,2,  2346.5,2,   0.7505
09AR20041223,       I09S,     111,          1,          5,        105,2,20050203,       1100,   -66.6372,    77.5275,       1120,   801.2,   0.6373,  34.6674,2,  34.6688,2,    218.3,2,   217.3,2,   98.59,2,   30.94,2,    2.11,2,   1.019,2,   0.507,2,   0.068,2,  -999.0,9,  -999.0,9,   0.5991
09AR20041223,       I09S,     111,          1,          4,        104,2,20050203,       1100,   -66.6372,    77.5275,       1120,   901.5,   0.6669,  34.6825,2,  34.6809,2,    213.8,2,   213.8,2,  103.76,2,   31.14,2,    2.12,2,-999.000,9,-999.000,9,-999.000,9,  -999.0,9,  -999.0,9,   0.6229
09AR20041223,       I09S,     111,          1,          3,        103,2,20050203,       1100,   -66.6372,    77.5275,       1120,  1000.8,   0.6442,  34.6895,2,  34.6864,2,    212.0,2,   212.4,2,  107.47,2,   31.14,2,    2.13,2,   0.661,2,   0.330,2,   0.045,2,  2255.8,2,  2351.2,2,   0.5947
09AR20041223,       I09S,     111,          1,          2,        102,2,20050203,       1100,   -66.6372,    77.5275,       1120,  1104.3,   0.6010,  34.6912,2,  34.6901,2,    211.3,2,   212.3,2,  110.69,2,   31.43,2,    2.15,2,-999.000,9,-999.000,9,-999.000,9,  -999.0,9,  -999.0,9,   0.5457
09AR20041223,       I09S,     111,          1,          1,        101,2,20050203,       1100,   -66.6372,    77.5275,       1120,  1153.7,   0.5706,  34.6915,2,  34.6888,2,    211.3,2,   213.3,2,  111.57,2,   31.33,2,    2.16,2,   0.569,2,   0.290,2,   0.041,2,  2256.8,6,  2351.8,6,   0.5127