BOTTLE,20220105CCHSIOENA
EXPOCODE,SECT_ID,STNNBR,CASTNO,SAMPNO,BTLNBR,BTLNBR_FLAG_W,DATE,TIME,LATITUDE,LONGITUDE,DEPTH,CTDPRS,CTDTMP,CTDSAL,CTDSAL_FLAG_W,SALNTY,SALNTY_FLAG_W,CTDOXY,CTDOXY_FLAG_W,OXYGEN,OXYGEN_FLAG_W,SILCAT,SILCAT_FLAG_W,NITRAT,NITRAT_FLAG_W,PHSPHT,PHSPHT_FLAG_W,CFC-11,CFC-11_FLAG_W,CFC-12,CFC-12_FLAG_W,CFC113,CFC113_FLAG_W,TCARBN,TCARBN_FLAG_W,ALKALI,ALKALI_FLAG_W,THETA
,,,,,,,,,,,METERS,DBAR,ITS-90,PSS-78,,PSS-78,,UMOL/KG,,UMOL/KG,,UMOL/KG,,UMOL/KG,,UMOL/KG,,PMOL/KG,,PMOL/KG,,PMOL/KG,,UMOL/KG,,UMOL/KG,,DEG C
09AR20041223,       I09S,      16,          1,         24,         24,2,20041229,       1501,   -40.2962,   115.0005,       4665,     8.3,  15.1664,  35.0749,2,  35.0743,2,    257.1,2,   259.4,2,    0.68,2,    1.85,2,    0.29,2,-999.000,9,-999.000,9,-999.000,9,  -999.0,9,  -999.0,9,  15.1651
09AR20041223,       I09S,      16,          1,         23,         23,2,20041229,       1501,   -40.2962,   115.0005,       4665,    50.2,  14.1069,  35.3432,2,-999.0000,9,    262.0,2,  -999.0,9, -999.00,9, -999.00,9, -999.00,9,-999.000,9,-999.000,9,-999.000,9,  -999.0,9,  -999.0,9,  14.0996
09AR20041223,       I09S,      16,          1,         22,         22,2,20041229,       1501,   -40.2962,   115.0005,       4665,    50.3,  14.1094,  35.3433,2,-999.0000,9,    262.0,2,  -999.0,9, -999.00,9, -999.00,9, -999.00,9,-999.000,9,-999.000,9,-999.000,9,  -999.0,9,  -999.0,9,  14.1021
09AR20041223,       I09S,      16,          1,         21,         21,2,20041229,       1501,   -40.2962,   115.0005,       4665,    50.2,  14.1330,  35.3134,2,  35.3317,2,    262.0,2,   262.6,2,    1.17,2,    1.66,2,    0.27,2,-999.000,9,-999.000,9,-999.000,9,  -999.0,9,  -999.0,9,  14.1257
09AR20041223,       I09S,      16,          1,         20,         20,2,20041229,       1501,   -40.2962,   115.0005,       4665,    79.6,  13.3537,  35.3130,2,  35.3113,2,    248.1,2,   248.0,2,    1.95,2,    4.20,2,    0.41,2,-999.000,9,-999.000,9,-999.000,9,  -999.0,9,  -999.0,9,  13.3426
09AR20041223,       I09S,      16,          1,         19,         19,2,20041229,       1501,   -40.2962,   115.0005,       4665,   147.9,  12.0533,  35.1345,2,  35.1364,2,    250.8,2,   250.5,2,    2.15,2,    6.54,2,    0.53,2,-999.000,9,-999.000,9,-999.000,9,  -999.0,9,  -999.0,9,  12.0340
09AR20041223,       I09S,      16,          1,         18,         18,2,20041229,       1501,   -40.2962,   115.0005,       4665,   201.0,  11.4854,  35.0312,2,  35.0330,2,    253.3,2,   253.6,2, -999.00,9,    7.71,2,    0.60,2,-999.000,9,-999.000,9,-999.000,9,  -999.0,9,  -999.0,9,  11.4599
09AR20041223,       I09S,      16,          1,         17,          6,2,20041229,       1501,   -40.2962,   115.0005,       4665,   299.2,  10.1656,  34.8032,2,  34.8028,2,    246.0,2,   246.9,2,    3.32,2,   12.20,2,    0.87,2,-999.000,9,-999.000,9,-999.000,9,  -999.0,9,  -999.0,9,  10.1304
09AR20041223,       I09S,      16,          1,         16,         16,2,20041229,       1501,   -40.2962,   115.0005,       4665,   402.6,   9.4852,  34.7024,2,  34.7019,2,    248.0,2,   247.4,2,    4.29,2,   14.64,2,    1.00,2,-999.000,9,-999.000,9,-999.000,9,  -999.0,9,  -999.0,9,   9.4397
09AR20041223,       I09S,      16,          1,         15,         15,2,20041229,       1501,   -40.2962,   115.0005,       4665,   500.5,   9.1687,  34.6569,2,  34.6574,2,    250.8,2,   249.2,2,    4.78,2,   15.62,2,    1.05,2,-999.000,9,-999.000,9,-999.000,9,  -999.0,9,  -999.0,9,   9.1130
09AR20041223,       I09S,      16,          1,         14,         14,2,20041229,       1501,   -40.2962,   115.0005,       4665,   599.9,   8.8293,  34.6114,2,  34.6113,2,    241.7,2,   240.5,2,    5.95,2,   17.77,2,    1.17,2,-999.000,9,-999.000,9,-999.000,9,  -999.0,9,  -999.0,9,   8.7637
09AR20041223,       I09S,      16,          1,         13,         13,2,20041229,       1501,   -40.2962,   115.0005,       4665,   704.8,   8.0033,  34.5210,2,  34.5211,2,    220.9,2,   221.2,2,    9.66,2,   21.38,2,    1.40,2,-999.000,9,-999.000,9,-999.000,9,  -999.0,9,  -999.0,9,   7.9301
09AR20041223,       I09S,      16,          1,         12,         12,2,20041229,       1501,   -40.2962,   115.0005,       4665,   801.5,   7.1101,  34.4670,2,  34.4672,2,    203.5,2,   203.1,2,   15.42,2,   25.28,2,    1.60,2,-999.000,9,-999.000,9,-999.000,9,  -999.0,9,  -999.0,9,   7.0318
09AR20041223,       I09S,      16,          1,         11,         11,2,20041229,       1501,   -40.2962,   115.0005,       4665,  1000.3,   4.9400,  34.3700,2,  34.3707,2,    197.9,2,   198.6,2,   30.07,2,   29.88,2,    1.96,2,-999.000,9,-999.000,9,-999.000,9,  -999.0,9,  -999.0,9,   4.8573
09AR20041223,       I09S,      16,          1,         10,         10,2,20041229,       1501,   -40.2962,   115.0005,       4665,  1242.5,   3.5031,  34.4030,2,  34.4029,2,    184.9,2,   186.4,2,   49.99,2,   32.71,2,    2.18,2,-999.000,9,-999.000,9,-999.000,9,  -999.0,9,  -999.0,9,   3.4118
09AR20041223,       I09S,      16,          1,          9,          9,2,20041229,       1501,   -40.2962,   115.0005,       4665,  1500.9,   2.9194,  34.5111,2,  34.5113,2,    170.9,2,   170.7,2,   66.09,2,   34.07,2,    2.29,2,-999.000,9,-999.000,9,-999.000,9,  -999.0,9,  -999.0,9,   2.8126
09AR20041223,       I09S,      16,          1,          8,          8,2,20041229,       1501,   -40.2962,   115.0005,       4665,  1748.8,   2.6674,  34.6163,2,  34.6160,2,    166.3,2,   165.3,2,   76.72,2,   33.77,2,    2.27,2,-999.000,9,-999.000,9,-999.000,9,  -999.0,9,  -999.0,9,   2.5426
09AR20041223,       I09S,      16,          1,          7,          7,2,20041229,       1501,   -40.2962,   115.0005,       4665,  1998.5,   2.4825,  34.6847,2,  34.6841,2,    169.3,2,   169.0,2,   84.53,2,   33.38,2,    2.23,2,-999.000,9,-999.000,9,-999.000,9,  -999.0,9,  -999.0,9,   2.3387
09AR20041223,       I09S,      16,          1,          6,        117,2,20041229,       1501,   -40.2962,   115.0005,       4665,  2499.2,   2.1161,  34.7373,2,  34.7370,2,    182.6,2,   182.6,2,   91.85,2,   31.53,2,    2.13,2,-999.000,9,-999.000,9,-999.000,9,  -999.0,9,  -999.0,9,   1.9333
09AR20041223,       I09S,      16,          1,          5,          5,2,20041229,       1501,   -40.2962,   115.0005,       4665,  3000.5,   1.6649,  34.7410,2,  34.7384,2,    193.6,2,   194.0,2,  100.53,2,   31.23,2,    2.12,2,-999.000,9,-999.000,9,-999.000,9,  -999.0,9,  -999.0,9,   1.4441
09AR20041223,       I09S,      16,          1,          4,          4,2,20041229,       1501,   -40.2962,   115.0005,       4665,  3501.3,   1.2563,  34.7261,2,  34.7251,2,    198.1,2,   198.4,2,  114.78,2,   31.82,2,    2.16,2,-999.000,9,-999.000,9,-999.000,9,  -999.0,9,  -999.0,9,   0.9959
09AR20041223,       I09S,      16,          1,          3,          3,2,20041229,       1501,   -40.2962,   115.0005,       4665,  4000.3,   0.9003,  34.7101,2,  34.7074,2,    208.2,2,   208.5,2,  120.06,2,   32.02,2,    2.18,2,-999.000,9,-999.000,9,-999.000,9,  -999.0,9,  -999.0,9,   0.5981
09AR20041223,       I09S,      16,          1,          2,          2,2,20041229,       1501,   -40.2962,   115.0005,       4665,  4543.3,   0.8374,  34.7047,2,  34.7041,2,    209.5,2,   209.8,2,  125.13,2,   32.50,2,    2.20,2,-999.000,9,-999.000,9,-999.000,9,  -999.0,9,  -999.0,9,   0.4781
09AR20041223,       I09S,      16,          1,          1,          1,2,20041229,       1501,   -40.2962,   115.0005,       4665,  4859.2,   0.8607,  34.7038,2,  34.7031,2,    210.3,2,   210.6,2,  122.21,2,   31.82,2,    2.21,2,-999.000,9,-999.000,9,-999.000,9,  -999.0,9,  -999.0,9,   0.4645
09AR20041223,       I09S,      17,          1,         24,         24,2,20041230,       0017,   -40.8798,   115.0063,       4612,     9.7,  15.0511,  35.0653,2,  35.0647,2,    258.2,2,   260.1,2,    0.78,2,    1.56,2,    0.23,2,   2.711,2,   1.563,2,   0.373,4,  2059.9,6,  2315.8,6,  15.0496
09AR20041223,       I09S,      17,          1,         23,         23,2,20041230,       0017,   -40.8798,   115.0063,       4612,    52.0,  13.7696,  35.3405,2,-999.0000,9,    254.0,2,  -999.0,9, -999.00,9, -999.00,9, -999.00,9,-999.000,9,-999.000,9,-999.000,9,  -999.0,9,  -999.0,9,  13.7622
09AR20041223,       I09S,      17,          1,         22,         22,2,20041230,       0017,   -40.8798,   115.0063,       4612,    52.0,  13.7633,  35.3399,2,-999.0000,9,    254.0,2,  -999.0,9, -999.00,9, -999.00,9, -999.00,9,-999.000,9,-999.000,9,-999.000,9,  -999.0,9,  -999.0,9,  13.7559
09AR20041223,       I09S,      17,          1,         21,         21,2,20041230,       0017,   -40.8798,   115.0063,       4612,    51.8,  13.7926,  35.3379,2,  35.3394,2,    254.0,2,   250.3,2,    1.66,2,    2.05,2,    0.31,2,   2.811,2,   1.605,2,   0.277,3,  2087.4,2,  2327.3,2,  13.7852
09AR20041223,       I09S,      17,          1,         20,         20,2,20041230,       0017,   -40.8798,   115.0063,       4612,   102.4,  12.9632,  35.2737,2,  35.2723,2,    246.0,2,   247.9,2,    1.85,2,    4.68,2,    0.42,2,   2.948,2,   1.638,2,   0.235,2,  2094.9,2,  2321.4,2,  12.9492
09AR20041223,       I09S,      17,          1,         19,         19,2,20041230,       0017,   -40.8798,   115.0063,       4612,   147.8,  12.1131,  35.1375,2,  35.1366,2,    248.6,2,   250.0,2,    2.15,2,    6.54,2,    0.52,2,   3.009,6,   1.673,6,   0.236,6,  2100.3,2,  2314.6,2,  12.0937
09AR20041223,       I09S,      17,          1,         18,         18,2,20041230,       0017,   -40.8798,   115.0063,       4612,   201.1,  11.5042,  35.0307,2,  35.0312,2,    250.8,2,   251.0,2,    2.34,2,    8.00,2,    0.61,2,   3.110,2,   1.730,2,   0.231,2,  2103.1,2,  2308.2,2,  11.4787
09AR20041223,       I09S,      17,          1,         17,          6,2,20041230,       0017,   -40.8798,   115.0063,       4612,   300.9,  10.1441,  34.8016,2,  34.8012,2,    244.4,2,   246.5,2,    3.42,2,   12.79,2,    0.86,2,   3.363,2,   1.805,2,   0.224,2,  2117.2,2,  2296.8,2,  10.1088
09AR20041223,       I09S,      17,          1,         16,         16,4,20041230,       0017,   -40.8798,   115.0063,       4612,   450.5,   9.3022,  34.6749,2,  34.6352,4,    249.5,2,  -999.0,9, -999.00,9, -999.00,9, -999.00,9,   3.012,4,   1.605,4,   0.203,4,  2132.6,4,  2293.2,2,   9.2517
09AR20041223,       I09S,      17,          1,         15,         15,2,20041230,       0017,   -40.8798,   115.0063,       4612,   601.0,   8.8896,  34.6176,2,  34.6172,2,    242.2,2,   242.0,2,    5.66,2,   17.77,2,    1.15,2,   3.402,2,   1.762,2,   0.222,2,  2127.2,2,  2289.6,2,   8.8236
09AR20041223,       I09S,      17,          1,         14,         14,2,20041230,       0017,   -40.8798,   115.0063,       4612,   750.7,   7.7277,  34.4999,2,  34.4999,2,    215.8,2,   214.0,2,   11.32,2,   22.75,2,    1.46,2,   2.563,2,   1.281,2,   0.153,2,  2151.7,2,  2292.2,2,   7.6511
09AR20041223,       I09S,      17,          1,         13,         13,2,20041230,       0017,   -40.8798,   115.0063,       4612,   900.3,   6.2299,  34.4201,2,  34.4211,2,    196.2,2,   197.7,2,   20.89,2,   27.53,2,    1.76,2,   1.647,2,   0.808,2,   0.071,2,  2173.7,2,  2290.4,6,   6.1473
09AR20041223,       I09S,      17,          1,         12,         12,2,20041230,       0017,   -40.8798,   115.0063,       4612,  1049.7,   4.7214,  34.3650,2,  34.3656,2,    197.4,2,   198.5,2,   31.93,2,   30.75,2,    1.98,2,   1.365,2,   0.652,2,   0.051,2,  2193.8,2,  2302.0,2,   4.6360
09AR20041223,       I09S,      17,          1,         11,         11,2,20041230,       0017,   -40.8798,   115.0063,       4612,  1252.3,   3.5234,  34.4052,2,  34.4066,2,    186.3,2,   185.5,2,   50.08,2,   33.58,2,    2.20,2,   0.724,2,   0.357,2,   0.025,2,  2223.7,2,  2314.2,6,   3.4310
09AR20041223,       I09S,      17,          1,         10,         10,2,20041230,       0017,   -40.8798,   115.0063,       4612,  1502.1,   2.9483,  34.5142,2,  34.5144,2,    168.7,2,   168.7,2,   66.58,2,   34.46,2,    2.28,2,   0.233,2,   0.109,2,   0.015,2,  2243.9,2,  2332.3,2,   2.8410
09AR20041223,       I09S,      17,          1,          9,          9,2,20041230,       0017,   -40.8798,   115.0063,       4612,  1749.8,   2.7021,  34.6074,2,  34.6073,2,    164.3,2,   164.4,2,   76.92,2,   34.16,2,    2.28,2,   0.078,2,   0.028,2,   0.003,2,  2258.5,2,  2349.3,2,   2.5768
09AR20041223,       I09S,      17,          1,          8,        108,2,20041230,       0017,   -40.8798,   115.0063,       4612,  1999.3,   2.5132,  34.6772,2,  34.6764,2,    168.0,2,   167.3,2,   83.46,2,   33.28,2,    2.22,2,   0.042,2,   0.016,2,   0.009,2,  2261.7,2,  2352.2,2,   2.3689
09AR20041223,       I09S,      17,          1,          7,        107,2,20041230,       0017,   -40.8798,   115.0063,       4612,  2400.1,   2.1910,  34.7308,2,  34.7308,2,    178.6,2,   179.2,2,   91.26,2,   31.82,2,    2.16,2,   0.033,2,   0.025,2,-999.000,5,  2262.8,2,  2363.2,3,   2.0160
09AR20041223,       I09S,      17,          1,          6,        117,2,20041230,       0017,   -40.8798,   115.0063,       4612,  2801.4,   1.8695,  34.7449,2,  34.7447,2,    191.0,2,   190.9,2,   95.36,2,   31.04,2,    2.09,2,   0.008,2,   0.007,2,   0.006,2,  2258.0,2,  2361.2,2,   1.6633
09AR20041223,       I09S,      17,          1,          5,        105,2,20041230,       0017,   -40.8798,   115.0063,       4612,  3200.1,   1.4794,  34.7370,2,  34.7365,2,    199.0,2,   198.7,2,  104.63,2,   31.33,2,    2.11,2,   0.000,2,   0.007,2,   0.001,2,  2257.1,2,  2363.9,2,   1.2434
09AR20041223,       I09S,      17,          1,          4,        104,2,20041230,       0017,   -40.8798,   115.0063,       4612,  3600.0,   1.1207,  34.7209,2,  34.7204,2,    202.9,2,   203.3,2,  115.96,2,   32.01,2,    2.17,2,   0.019,2,   0.004,2,   0.004,2,  2263.5,2,  2371.4,3,   0.8538
09AR20041223,       I09S,      17,          1,          3,        103,2,20041230,       0017,   -40.8798,   115.0063,       4612,  4000.9,   0.8801,  34.7092,2,  34.7088,2,    208.7,2,   208.5,2,  121.33,2,   32.31,2,    2.17,2,   0.108,2,   0.055,2,   0.010,2,  2260.8,2,  2368.2,2,   0.5784
09AR20041223,       I09S,      17,          1,          2,        102,2,20041230,       0017,   -40.8798,   115.0063,       4612,  4400.2,   0.8302,  34.7049,2,  34.7045,2,    209.8,2,   209.9,2,  122.79,2,   32.50,2,    2.18,2,   0.126,6,   0.064,6,   0.015,6,  2264.9,2,  2369.1,2,   0.4870
09AR20041223,       I09S,      17,          1,          1,        101,2,20041230,       0017,   -40.8798,   115.0063,       4612,  4708.7,   0.8495,  34.7037,2,  34.7054,2,    210.7,2,   210.4,2,  123.18,2,   32.50,2,    2.18,2,   0.170,2,   0.072,2,   0.000,2,  2264.2,6,  2367.6,6,   0.4710