BOTTLE,20220105CCHSIOENA
EXPOCODE,SECT_ID,STNNBR,CASTNO,SAMPNO,BTLNBR,BTLNBR_FLAG_W,DATE,TIME,LATITUDE,LONGITUDE,DEPTH,CTDPRS,CTDTMP,CTDSAL,CTDSAL_FLAG_W,SALNTY,SALNTY_FLAG_W,CTDOXY,CTDOXY_FLAG_W,OXYGEN,OXYGEN_FLAG_W,SILCAT,SILCAT_FLAG_W,NITRAT,NITRAT_FLAG_W,PHSPHT,PHSPHT_FLAG_W,CFC-11,CFC-11_FLAG_W,CFC-12,CFC-12_FLAG_W,CFC113,CFC113_FLAG_W,TCARBN,TCARBN_FLAG_W,ALKALI,ALKALI_FLAG_W,THETA
,,,,,,,,,,,METERS,DBAR,ITS-90,PSS-78,,PSS-78,,UMOL/KG,,UMOL/KG,,UMOL/KG,,UMOL/KG,,UMOL/KG,,PMOL/KG,,PMOL/KG,,PMOL/KG,,UMOL/KG,,UMOL/KG,,DEG C
09AR20041223,       I09S,      68,          1,         24,         24,2,20050115,       0837,   -65.2877,   112.4882,       1165,    10.7,  -1.3368,  33.8609,2,-999.0000,9,   -999.0,9,  -999.0,9, -999.00,9, -999.00,9, -999.00,9,-999.000,9,-999.000,9,-999.000,9,  -999.0,9,  -999.0,9,  -1.3370
09AR20041223,       I09S,      68,          1,         23,         23,2,20050115,       0837,   -65.2877,   112.4882,       1165,    10.6,  -1.3347,  33.8513,2,-999.0000,9,   -999.0,9,  -999.0,9, -999.00,9, -999.00,9, -999.00,9,-999.000,9,-999.000,9,-999.000,9,  -999.0,9,  -999.0,9,  -1.3349
09AR20041223,       I09S,      68,          1,         22,         22,2,20050115,       0837,   -65.2877,   112.4882,       1165,    31.7,  -1.5986,  34.1054,2,-999.0000,9,   -999.0,9,  -999.0,9, -999.00,9, -999.00,9, -999.00,9,-999.000,9,-999.000,9,-999.000,9,  -999.0,9,  -999.0,9,  -1.5993
09AR20041223,       I09S,      68,          1,         21,         21,2,20050115,       0837,   -65.2877,   112.4882,       1165,    31.6,  -1.5980,  34.1048,2,-999.0000,9,   -999.0,9,  -999.0,9, -999.00,9, -999.00,9, -999.00,9,-999.000,9,-999.000,9,-999.000,9,  -999.0,9,  -999.0,9,  -1.5986
09AR20041223,       I09S,      68,          1,         20,         20,2,20050115,       0837,   -65.2877,   112.4882,       1165,    66.0,  -1.6657,  34.1840,2,-999.0000,9,   -999.0,9,  -999.0,9, -999.00,9, -999.00,9, -999.00,9,-999.000,9,-999.000,9,-999.000,9,  -999.0,9,  -999.0,9,  -1.6671
09AR20041223,       I09S,      68,          1,         19,         19,2,20050115,       0837,   -65.2877,   112.4882,       1165,    65.9,  -1.6651,  34.1838,2,-999.0000,9,   -999.0,9,  -999.0,9, -999.00,9, -999.00,9, -999.00,9,-999.000,9,-999.000,9,-999.000,9,  -999.0,9,  -999.0,9,  -1.6664
09AR20041223,       I09S,      68,          1,         18,         18,2,20050115,       0837,   -65.2877,   112.4882,       1165,    82.0,  -1.6663,  34.1896,2,-999.0000,9,   -999.0,9,  -999.0,9, -999.00,9, -999.00,9, -999.00,9,-999.000,9,-999.000,9,-999.000,9,  -999.0,9,  -999.0,9,  -1.6680
09AR20041223,       I09S,      68,          1,         17,          6,2,20050115,       0837,   -65.2877,   112.4882,       1165,    81.8,  -1.6732,  34.1906,2,-999.0000,9,   -999.0,9,  -999.0,9, -999.00,9, -999.00,9, -999.00,9,-999.000,9,-999.000,9,-999.000,9,  -999.0,9,  -999.0,9,  -1.6749
09AR20041223,       I09S,      68,          1,         16,         16,2,20050115,       0837,   -65.2877,   112.4882,       1165,   112.2,  -1.6827,  34.2026,2,-999.0000,9,   -999.0,9,  -999.0,9, -999.00,9, -999.00,9, -999.00,9,-999.000,9,-999.000,9,-999.000,9,  -999.0,9,  -999.0,9,  -1.6850
09AR20041223,       I09S,      68,          1,         15,         15,2,20050115,       0837,   -65.2877,   112.4882,       1165,   112.0,  -1.6825,  34.2035,2,-999.0000,9,   -999.0,9,  -999.0,9, -999.00,9, -999.00,9, -999.00,9,-999.000,9,-999.000,9,-999.000,9,  -999.0,9,  -999.0,9,  -1.6848
09AR20041223,       I09S,      68,          1,         14,         14,2,20050115,       0837,   -65.2877,   112.4882,       1165,   151.2,  -1.7089,  34.2170,2,-999.0000,9,   -999.0,9,  -999.0,9, -999.00,9, -999.00,9, -999.00,9,-999.000,9,-999.000,9,-999.000,9,  -999.0,9,  -999.0,9,  -1.7121
09AR20041223,       I09S,      68,          1,         13,         13,2,20050115,       0837,   -65.2877,   112.4882,       1165,   199.8,  -1.7279,  34.2439,2,-999.0000,9,   -999.0,9,  -999.0,9, -999.00,9, -999.00,9, -999.00,9,-999.000,9,-999.000,9,-999.000,9,  -999.0,9,  -999.0,9,  -1.7322
09AR20041223,       I09S,      68,          1,         12,         12,2,20050115,       0837,   -65.2877,   112.4882,       1165,   250.2,  -1.6702,  34.2692,2,-999.0000,9,   -999.0,9,  -999.0,9, -999.00,9, -999.00,9, -999.00,9,-999.000,9,-999.000,9,-999.000,9,  -999.0,9,  -999.0,9,  -1.6758
09AR20041223,       I09S,      68,          1,         11,         11,2,20050115,       0837,   -65.2877,   112.4882,       1165,   300.6,  -1.7823,  34.3108,2,  34.3137,2,    308.6,2,   307.5,2,   66.68,2, -999.00,9, -999.00,9,   4.559,2,   2.392,2,   0.410,2,  2213.4,6,  2317.8,3,  -1.7889
09AR20041223,       I09S,      68,          1,         10,         10,2,20050115,       0837,   -65.2877,   112.4882,       1165,   351.6,  -0.6617,  34.4512,2,  34.4605,2,    261.1,2,   262.4,2,   75.27,2,   31.24,2,    2.17,2,   3.223,2,   1.665,2,   0.287,2,  2230.4,2,  2327.2,2,  -0.6731
09AR20041223,       I09S,      68,          1,          9,          9,2,20050115,       0837,   -65.2877,   112.4882,       1165,   401.2,   0.6828,  34.6195,2,  34.6205,2,    224.4,2,   218.9,2,   85.31,2,   31.72,2,    2.20,2,   1.646,6,   0.824,6,   0.136,6,  2245.9,2,  2341.8,2,   0.6650
09AR20041223,       I09S,      68,          1,          8,        208,2,20050115,       0837,   -65.2877,   112.4882,       1165,   500.3,   0.9581,  34.6769,2,  34.6770,2,    209.5,2,   210.9,2,   90.58,2,   31.33,2,    2.19,2,   1.067,2,   0.541,2,   0.083,2,  2249.7,2,  2344.5,2,   0.9342
09AR20041223,       I09S,      68,          1,          7,        107,2,20050115,       0837,   -65.2877,   112.4882,       1165,   601.6,   0.7436,  34.6763,2,  34.6754,2,    219.4,2,   217.1,2,   93.70,2,   31.23,2,    2.20,2,   1.133,2,   0.568,2,   0.088,2,  2249.6,2,  2346.4,2,   0.7154
09AR20041223,       I09S,      68,          1,          6,        117,2,20050115,       0837,   -65.2877,   112.4882,       1165,   702.1,   0.4378,  34.6638,2,  34.6637,2,    223.0,2,   223.9,2,   98.39,2,   31.43,2, -999.00,9,   1.248,2,   0.640,2,   0.100,2,  2250.4,2,  2358.6,3,   0.4061
09AR20041223,       I09S,      68,          1,          5,        105,2,20050115,       0837,   -65.2877,   112.4882,       1165,   800.3,   0.3950,  34.6690,2,  34.6688,2,    222.2,2,   222.9,2,  103.17,2,   31.72,2,    2.20,2,   1.087,2,   0.545,2,   0.085,2,  2252.9,2,  2353.7,2,   0.3584
09AR20041223,       I09S,      68,          1,          4,        104,2,20050115,       0837,   -65.2877,   112.4882,       1165,   900.7,   0.3465,  34.6712,2,  34.6715,2,    221.5,2,   222.1,2,  106.79,2,   31.53,2,    2.22,2,   0.998,2,   0.503,2,   0.087,2,  2253.3,2,  2352.7,2,   0.3049
09AR20041223,       I09S,      68,          1,          3,        103,2,20050115,       0837,   -65.2877,   112.4882,       1165,  1000.4,   0.2567,  34.6705,2,  34.6699,2,    223.1,2,   222.8,2,  109.91,2,   31.72,2,    2.23,2,   0.947,2,   0.477,2,   0.082,2,  2254.3,2,  2355.3,2,   0.2104
09AR20041223,       I09S,      68,          1,          2,        102,2,20050115,       0837,   -65.2877,   112.4882,       1165,  1071.8,   0.1661,  34.6688,2,  34.6686,2,    224.4,2,   224.5,2,  111.96,2,   31.92,2,    2.24,2,   0.989,6,   0.490,6,   0.081,6,  2254.5,2,  2355.9,2,   0.1166
09AR20041223,       I09S,      68,          1,          1,        101,2,20050115,       0837,   -65.2877,   112.4882,       1165,  1115.6,   0.0767,  34.6682,2,  34.6682,2,    226.8,2,   225.7,2,  113.62,2,   31.92,2,    2.25,2,   1.037,2,   0.510,2,   0.074,2,  2255.2,6,  2354.2,6,   0.0255
09AR20041223,       I09S,      69,          1,         24,         24,2,20050115,       1131,   -65.3923,   112.5337,        460,    12.2,  -1.4533,  33.8053,2,-999.0000,9,    341.8,2,  -999.0,9, -999.00,9, -999.00,9, -999.00,9,-999.000,9,-999.000,9,-999.000,9,  -999.0,9,  -999.0,9,  -1.4536
09AR20041223,       I09S,      69,          1,         23,         23,2,20050115,       1131,   -65.3923,   112.5337,        460,    12.2,  -1.4533,  33.8053,2,-999.0000,9,    341.8,2,  -999.0,9, -999.00,9, -999.00,9, -999.00,9,-999.000,9,-999.000,9,-999.000,9,  -999.0,9,  -999.0,9,  -1.4536
09AR20041223,       I09S,      69,          1,         22,         22,2,20050115,       1131,   -65.3923,   112.5337,        460,    12.2,  -1.4533,  33.8053,2,-999.0000,9,    341.8,2,  -999.0,9, -999.00,9, -999.00,9, -999.00,9,-999.000,9,-999.000,9,-999.000,9,  -999.0,9,  -999.0,9,  -1.4536
09AR20041223,       I09S,      69,          1,         21,         21,2,20050115,       1131,   -65.3923,   112.5337,        460,    12.2,  -1.4533,  33.8053,2,  33.7896,2,    341.8,2,   341.5,2,   64.07,2,   27.05,2,    1.90,2,-999.000,9,-999.000,9,-999.000,9,  -999.0,9,  -999.0,9,  -1.4536
09AR20041223,       I09S,      69,          1,         20,         20,2,20050115,       1131,   -65.3923,   112.5337,        460,    12.1,  -1.4481,  33.7991,2,  33.7876,2,    341.8,2,   341.3,2,   64.07,2,   26.96,2,    1.89,2,   4.983,2,   2.590,2,   0.454,2,  2163.3,6,  2288.2,6,  -1.4484
09AR20041223,       I09S,      69,          1,         19,         19,2,20050115,       1131,   -65.3923,   112.5337,        460,    42.1,  -1.4942,  33.9616,2,  33.9622,2,    339.0,2,   339.6,2,   66.70,2,   27.05,2,    1.92,2,-999.000,9,-999.000,9,-999.000,9,  -999.0,9,  -999.0,9,  -1.4951
09AR20041223,       I09S,      69,          1,         18,         18,2,20050115,       1131,   -65.3923,   112.5337,        460,    42.2,  -1.4971,  33.9682,2,  33.9679,2,    339.0,2,   340.2,2,   66.90,2,   27.15,2,    1.92,2,   4.741,2,   2.461,2,   0.413,2,  2173.6,2,  2298.2,2,  -1.4980
09AR20041223,       I09S,      69,          1,         17,          6,2,20050115,       1131,   -65.3923,   112.5337,        460,    72.0,  -1.5996,  34.0640,2,  34.0627,2,    328.6,2,   324.2,2,   68.75,2,   28.42,2,    1.99,2,-999.000,9,-999.000,9,-999.000,9,  -999.0,9,  -999.0,9,  -1.6011
09AR20041223,       I09S,      69,          1,         16,         16,2,20050115,       1131,   -65.3923,   112.5337,        460,    71.7,  -1.6002,  34.0640,2,  34.0694,2,    328.6,2,   322.7,2,   68.45,2,   28.51,2,    2.01,2,   4.528,2,   2.334,2,   0.413,2,  2190.6,2,  2307.0,2,  -1.6017
09AR20041223,       I09S,      69,          1,         15,         15,2,20050115,       1131,   -65.3923,   112.5337,        460,   102.5,  -1.6393,  34.1129,2,  34.1091,2,    322.9,2,   317.2,2,   69.04,2,   29.00,2,    2.06,2,-999.000,9,-999.000,9,-999.000,9,  -999.0,9,  -999.0,9,  -1.6414
09AR20041223,       I09S,      69,          1,         14,         14,2,20050115,       1131,   -65.3923,   112.5337,        460,   101.9,  -1.6387,  34.1111,2,  34.1115,2,    322.9,2,   316.3,2,   69.23,2,   29.10,2,    2.05,2,   4.438,2,   2.307,2,   0.392,2,  2194.1,2,  2311.6,2,  -1.6408
09AR20041223,       I09S,      69,          1,         13,         13,2,20050115,       1131,   -65.3923,   112.5337,        460,   151.5,  -1.6595,  34.1547,2,  34.1461,2,    312.2,2,   312.5,2,   69.72,2,   29.68,2,    2.06,2,   4.401,6,   2.284,6,   0.385,6,  2200.4,2,  2307.1,2,  -1.6627
09AR20041223,       I09S,      69,          1,         12,         12,2,20050115,       1131,   -65.3923,   112.5337,        460,   150.7,  -1.6511,  34.1460,2,  34.1600,2,    313.2,2,   309.8,2,   69.82,2,   29.59,2,    2.08,2,-999.000,9,-999.000,9,-999.000,9,  -999.0,9,  -999.0,9,  -1.6543
09AR20041223,       I09S,      69,          1,         11,         11,2,20050115,       1131,   -65.3923,   112.5337,        460,   201.5,  -1.6900,  34.1876,2,  34.1847,2,    306.6,2,   306.5,2,   70.01,2,   29.98,2,    2.11,2,   4.326,2,   2.242,2,   0.348,2,  2206.2,2,  2307.3,2,  -1.6943
09AR20041223,       I09S,      69,          1,         10,         10,2,20050115,       1131,   -65.3923,   112.5337,        460,   201.0,  -1.6880,  34.1857,2,  34.1851,2,    306.6,2,   306.2,2,   69.91,2,   29.88,2,    2.09,2,-999.000,9,-999.000,9,-999.000,9,  -999.0,9,  -999.0,9,  -1.6923
09AR20041223,       I09S,      69,          1,          9,          9,2,20050115,       1131,   -65.3923,   112.5337,        460,   251.8,  -1.6691,  34.2268,2,  34.2236,2,    305.1,2,   305.9,2,   68.64,2,   30.17,2,    2.08,2,   4.429,2,   2.295,2,   0.405,2,  2209.2,2,  2309.4,2,  -1.6747
09AR20041223,       I09S,      69,          1,          8,        208,2,20050115,       1131,   -65.3923,   112.5337,        460,   251.6,  -1.6671,  34.2285,2,  34.2260,2,    305.1,2,   305.9,2,   68.64,2,   30.17,2,    2.09,2,-999.000,9,-999.000,9,-999.000,9,  -999.0,9,  -999.0,9,  -1.6727
09AR20041223,       I09S,      69,          1,          7,        107,2,20050115,       1131,   -65.3923,   112.5337,        460,   302.3,  -1.5352,  34.2679,2,  34.2636,2,    304.0,2,   303.5,2,   69.62,2,   30.27,2,    2.08,2,   4.326,2,   2.241,2,   0.376,2,  2211.1,2,  2314.6,2,  -1.5425
09AR20041223,       I09S,      69,          1,          6,        117,2,20050115,       1131,   -65.3923,   112.5337,        460,   302.2,  -1.4892,  34.2757,2,  34.2638,2,    304.0,2,   302.2,2,   69.62,2,   30.46,2,    2.09,2,-999.000,9,-999.000,9,-999.000,9,  -999.0,9,  -999.0,9,  -1.4966
09AR20041223,       I09S,      69,          1,          5,        105,2,20050115,       1131,   -65.3923,   112.5337,        460,   351.3,  -1.2436,  34.3272,2,  34.3235,2,    299.4,2,   291.2,2,   72.25,2,   30.36,2,    2.12,2,   4.000,2,   2.057,2,   0.385,2,  2217.3,2,  2322.6,2,  -1.2531
09AR20041223,       I09S,      69,          1,          4,        104,2,20050115,       1131,   -65.3923,   112.5337,        460,   351.0,  -1.2747,  34.3217,2,  34.3223,2,    300.2,2,   291.4,2,   71.76,2,   30.36,2,    2.12,2,-999.000,9,-999.000,9,-999.000,9,  -999.0,9,  -999.0,9,  -1.2841
09AR20041223,       I09S,      69,          1,          3,        103,2,20050115,       1131,   -65.3923,   112.5337,        460,   401.5,  -1.0766,  34.3632,2,  34.3623,2,    285.3,2,   284.2,2,   73.32,2,   30.56,2,    2.12,2,   3.766,6,   1.955,6,   0.326,6,  -999.0,9,  -999.0,9,  -1.0883
09AR20041223,       I09S,      69,          1,          2,        102,2,20050115,       1131,   -65.3923,   112.5337,        460,   401.2,  -1.0816,  34.3624,2,  34.3627,2,    285.3,2,   284.4,2,   73.22,2,   30.56,2,    2.13,2,-999.000,9,-999.000,9,-999.000,9,  2219.7,2,  2332.9,3,  -1.0933
09AR20041223,       I09S,      69,          1,          1,        101,2,20050115,       1131,   -65.3923,   112.5337,        460,   433.6,  -1.0292,  34.3723,2,  34.3674,2,    283.4,2,   283.6,2,   73.71,2,   30.46,2,    2.12,2,   3.755,2,   1.948,2,   0.320,2,  2220.1,6,  2319.8,6,  -1.0422