BOTTLE,20220105CCHSIOENA
EXPOCODE,SECT_ID,STNNBR,CASTNO,SAMPNO,BTLNBR,BTLNBR_FLAG_W,DATE,TIME,LATITUDE,LONGITUDE,DEPTH,CTDPRS,CTDTMP,CTDSAL,CTDSAL_FLAG_W,SALNTY,SALNTY_FLAG_W,CTDOXY,CTDOXY_FLAG_W,OXYGEN,OXYGEN_FLAG_W,SILCAT,SILCAT_FLAG_W,NITRAT,NITRAT_FLAG_W,PHSPHT,PHSPHT_FLAG_W,CFC-11,CFC-11_FLAG_W,CFC-12,CFC-12_FLAG_W,CFC113,CFC113_FLAG_W,TCARBN,TCARBN_FLAG_W,ALKALI,ALKALI_FLAG_W,THETA
,,,,,,,,,,,METERS,DBAR,ITS-90,PSS-78,,PSS-78,,UMOL/KG,,UMOL/KG,,UMOL/KG,,UMOL/KG,,UMOL/KG,,PMOL/KG,,PMOL/KG,,PMOL/KG,,UMOL/KG,,UMOL/KG,,DEG C
09AR20041223,       I09S,      28,          1,         24,         24,2,20050102,       0636,   -46.5182,   114.9938,       4008,    10.7,   9.7905,  34.2184,2,  34.2182,2,    282.8,2,   282.9,2,    1.07,2,   13.77,2,    0.98,2,-999.000,9,-999.000,9,-999.000,9,  -999.0,9,  -999.0,9,   9.7893
09AR20041223,       I09S,      28,          1,         23,         23,2,20050102,       0636,   -46.5182,   114.9938,       4008,    10.6,   9.7901,  34.2183,2,-999.0000,9,    282.8,2,  -999.0,9, -999.00,9, -999.00,9, -999.00,9,-999.000,9,-999.000,9,-999.000,9,  -999.0,9,  -999.0,9,   9.7889
09AR20041223,       I09S,      28,          1,         22,         22,2,20050102,       0636,   -46.5182,   114.9938,       4008,    10.6,   9.7882,  34.2186,2,-999.0000,9,    282.8,2,  -999.0,9, -999.00,9, -999.00,9, -999.00,9,-999.000,9,-999.000,9,-999.000,9,  -999.0,9,  -999.0,9,   9.7870
09AR20041223,       I09S,      28,          1,         21,         21,2,20050102,       0636,   -46.5182,   114.9938,       4008,    62.2,   9.8363,  34.4531,2,  34.4558,2,    281.0,2,   280.1,2,    1.76,2,   12.11,2,    0.87,2,-999.000,9,-999.000,9,-999.000,9,  -999.0,9,  -999.0,9,   9.8293
09AR20041223,       I09S,      28,          1,         20,         20,2,20050102,       0636,   -46.5182,   114.9938,       4008,    91.5,   8.6494,  34.4081,2,-999.0000,9,    282.5,2,   283.7,2,    1.95,2,   13.67,2,    1.05,2,-999.000,9,-999.000,9,-999.000,9,  -999.0,9,  -999.0,9,   8.6398
09AR20041223,       I09S,      28,          1,         19,         19,2,20050102,       0636,   -46.5182,   114.9938,       4008,   121.2,   8.4970,  34.4344,2,  34.4311,2,    276.8,2,   277.4,2,    3.61,2,   14.74,2,    1.10,2,-999.000,9,-999.000,9,-999.000,9,  -999.0,9,  -999.0,9,   8.4844
09AR20041223,       I09S,      28,          1,         18,         18,2,20050102,       0636,   -46.5182,   114.9938,       4008,   149.2,   8.6521,  34.4934,2,  34.4915,2,    273.4,2,   273.8,2,    4.49,2,   15.13,2,    1.09,2,-999.000,9,-999.000,9,-999.000,9,  -999.0,9,  -999.0,9,   8.6364
09AR20041223,       I09S,      28,          1,         17,          6,2,20050102,       0636,   -46.5182,   114.9938,       4008,   201.2,   8.6288,  34.5211,2,  34.5207,2,    271.2,2,   269.9,2,    5.27,2,   15.52,2,    1.10,2,-999.000,9,-999.000,9,-999.000,9,  -999.0,9,  -999.0,9,   8.6076
09AR20041223,       I09S,      28,          1,         16,         16,2,20050102,       0636,   -46.5182,   114.9938,       4008,   302.3,   8.2509,  34.4721,2,  34.4723,2,    269.8,2,   270.8,2,    5.86,2,   16.50,2,    1.14,2,-999.000,9,-999.000,9,-999.000,9,  -999.0,9,  -999.0,9,   8.2198
09AR20041223,       I09S,      28,          1,         15,         15,2,20050102,       0636,   -46.5182,   114.9938,       4008,   401.0,   7.9494,  34.4406,2,  34.4413,2,    261.5,2,   260.9,2,    6.83,2,   18.06,2,    1.22,2,-999.000,9,-999.000,9,-999.000,9,  -999.0,9,  -999.0,9,   7.9088
09AR20041223,       I09S,      28,          1,         14,         14,2,20050102,       0636,   -46.5182,   114.9938,       4008,   500.8,   7.3200,  34.3807,2,  34.3729,2,    240.5,2,   254.7,3,    9.08,2,   20.40,2,    1.36,2,-999.000,9,-999.000,9,-999.000,9,  -999.0,9,  -999.0,9,   7.2713
09AR20041223,       I09S,      28,          1,         13,         13,2,20050102,       0636,   -46.5182,   114.9938,       4008,   603.0,   6.7480,  34.3883,2,  34.3870,2,    234.0,2,   229.2,2,   13.67,2,   23.63,2,    1.56,2,-999.000,9,-999.000,9,-999.000,9,  -999.0,9,  -999.0,9,   6.6916
09AR20041223,       I09S,      28,          1,         12,         12,2,20050102,       0636,   -46.5182,   114.9938,       4008,   699.8,   5.9996,  34.3764,2,  34.3778,2,    216.5,2,   214.7,2,   18.75,2,   26.26,2,    1.73,2,-999.000,9,-999.000,9,-999.000,9,  -999.0,9,  -999.0,9,   5.9376
09AR20041223,       I09S,      28,          1,         11,         11,2,20050102,       0636,   -46.5182,   114.9938,       4008,   848.6,   4.6498,  34.3129,2,  34.3135,2,    215.0,2,   216.9,2,   26.07,2,   29.39,2,    1.93,2,-999.000,9,-999.000,9,-999.000,9,  -999.0,9,  -999.0,9,   4.5826
09AR20041223,       I09S,      28,          1,         10,         10,2,20050102,       0636,   -46.5182,   114.9938,       4008,  1000.4,   3.8209,  34.3226,2,  34.3227,2,    207.9,2,   209.0,2,   35.83,2,   31.44,2,    2.09,2,-999.000,9,-999.000,9,-999.000,9,  -999.0,9,  -999.0,9,   3.7469
09AR20041223,       I09S,      28,          1,          9,          9,2,20050102,       0636,   -46.5182,   114.9938,       4008,  1201.6,   3.2619,  34.4093,2,  34.4093,2,    188.1,2,   188.4,2,   50.47,2,   33.00,2,    2.23,2,-999.000,9,-999.000,9,-999.000,9,  -999.0,9,  -999.0,9,   3.1762
09AR20041223,       I09S,      28,          1,          8,        108,2,20050102,       0636,   -46.5182,   114.9938,       4008,  1401.0,   2.8821,  34.4956,2,  34.4948,2,    176.8,2,   177.2,2,   61.40,2,   33.58,2,    2.27,2,-999.000,9,-999.000,9,-999.000,9,  -999.0,9,  -999.0,9,   2.7839
09AR20041223,       I09S,      28,          1,          7,        107,2,20050102,       0636,   -46.5182,   114.9938,       4008,  1602.9,   2.6566,  34.5805,2,  34.5809,2,    173.7,2,   175.4,2,   68.23,2,   33.19,2,    2.25,2,-999.000,9,-999.000,9,-999.000,9,  -999.0,9,  -999.0,9,   2.5443
09AR20041223,       I09S,      28,          1,          6,        117,2,20050102,       0636,   -46.5182,   114.9938,       4008,  1899.8,   2.4777,  34.6749,2,  34.6752,2,    179.1,2,   179.7,2,   73.01,2,   31.92,2,    2.15,2,-999.000,9,-999.000,9,-999.000,9,  -999.0,9,  -999.0,9,   2.3425
09AR20041223,       I09S,      28,          1,          5,        105,2,20050102,       0636,   -46.5182,   114.9938,       4008,  2200.4,   2.2535,  34.7308,2,  34.7310,2,    187.7,2,   188.6,2,   77.21,2,   30.65,2,    2.08,2,-999.000,9,-999.000,9,-999.000,9,  -999.0,9,  -999.0,9,   2.0954
09AR20041223,       I09S,      28,          1,          4,        104,2,20050102,       0636,   -46.5182,   114.9938,       4008,  2802.0,   1.6732,  34.7468,2,  34.7467,2,    198.2,2,   199.1,2,   94.58,2,   30.55,2,    2.08,2,-999.000,9,-999.000,9,-999.000,9,  -999.0,9,  -999.0,9,   1.4710
09AR20041223,       I09S,      28,          1,          3,        103,2,20050102,       0636,   -46.5182,   114.9938,       4008,  3199.4,   1.3396,  34.7325,2,  34.7323,2,    201.8,2,   202.0,2,  105.32,2,   31.04,2,    2.15,2,-999.000,9,-999.000,9,-999.000,9,  -999.0,9,  -999.0,9,   1.1070
09AR20041223,       I09S,      28,          1,          2,        102,2,20050102,       0636,   -46.5182,   114.9938,       4008,  3603.2,   1.1457,  34.7223,2,  34.7221,2,    204.5,2,   205.4,2,  111.56,2,   31.53,2,    2.17,2,-999.000,9,-999.000,9,-999.000,9,  -999.0,9,  -999.0,9,   0.8778
09AR20041223,       I09S,      28,          1,          1,        101,2,20050102,       0636,   -46.5182,   114.9938,       4008,  4063.9,   1.0614,  34.7162,2,  34.7166,2,    206.0,2,   206.7,2,  114.30,2,   31.53,2,    2.20,2,-999.000,9,-999.000,9,-999.000,9,  -999.0,9,  -999.0,9,   0.7478
09AR20041223,       I09S,      29,          1,         24,         24,2,20050102,       1339,   -47.0057,   114.9888,       3848,    11.4,   9.4539,  34.2054,2,  34.2050,2,    285.4,2,   284.1,2,    1.27,2,   14.16,2,    1.00,2,   3.733,2,   1.950,2,   0.406,3,  2089.1,6,  2278.9,6,   9.4526
09AR20041223,       I09S,      29,          1,         23,         23,2,20050102,       1339,   -47.0057,   114.9888,       3848,    11.4,   9.4539,  34.2056,2,-999.0000,9,    285.4,2,  -999.0,9, -999.00,9, -999.00,9, -999.00,9,-999.000,9,-999.000,9,-999.000,9,  -999.0,9,  -999.0,9,   9.4526
09AR20041223,       I09S,      29,          1,         22,         22,2,20050102,       1339,   -47.0057,   114.9888,       3848,    11.3,   9.4530,  34.2057,2,-999.0000,9,    285.4,2,  -999.0,9, -999.00,9, -999.00,9, -999.00,9,-999.000,9,-999.000,9,-999.000,9,  -999.0,9,  -999.0,9,   9.4518
09AR20041223,       I09S,      29,          1,         21,         21,2,20050102,       1339,   -47.0057,   114.9888,       3848,    62.0,   8.8758,  34.2674,2,  34.2632,2,    288.3,2,   286.7,2,    1.46,2,   14.55,2,    1.03,2,   3.799,2,   1.988,2,   0.383,3,  2095.1,2,  2282.1,2,   8.8692
09AR20041223,       I09S,      29,          1,         20,         20,2,20050102,       1339,   -47.0057,   114.9888,       3848,   102.2,   8.7942,  34.5308,2,  34.5299,2,    272.0,2,   274.7,2,    4.39,2,   14.74,2,    1.05,2,   3.694,2,   1.923,2,   0.329,2,  2112.6,2,  2287.6,2,   8.7834
09AR20041223,       I09S,      29,          1,         19,         19,2,20050102,       1339,   -47.0057,   114.9888,       3848,   151.4,   8.5958,  34.5303,2,  34.5305,2,    271.6,2,   270.9,2,    5.17,2,   15.52,2,    1.07,2,   3.565,6,   1.934,2,   0.344,6,  2114.4,2,  2291.2,2,   8.5799
09AR20041223,       I09S,      29,          1,         18,         18,2,20050102,       1339,   -47.0057,   114.9888,       3848,   199.7,   8.2315,  34.4712,2,  34.4709,2,    271.3,2,   271.5,2,    5.95,2,   16.60,2,    1.13,2,   3.598,2,   1.952,2,   0.308,2,  2119.0,2,  2285.7,2,   8.2111
09AR20041223,       I09S,      29,          1,         17,          6,2,20050102,       1339,   -47.0057,   114.9888,       3848,   300.6,   7.7560,  34.4289,2,  34.4297,2,    256.0,2,   255.8,2,    8.10,2,   19.04,2,    1.29,2,   3.475,2,   1.822,2,   0.239,2,  2129.2,2,  2286.3,2,   7.7262
09AR20041223,       I09S,      29,          1,         16,         16,2,20050102,       1339,   -47.0057,   114.9888,       3848,   402.1,   7.1902,  34.4217,2,  34.4195,2,    231.2,2,   231.1,2,   12.98,2,   22.45,2,    1.49,2,   3.103,2,   1.573,2,   0.202,2,  2148.2,2,  2284.7,2,   7.1518
09AR20041223,       I09S,      29,          1,         15,         15,2,20050102,       1339,   -47.0057,   114.9888,       3848,   501.2,   5.9382,  34.3069,2,  34.3073,2,    229.8,2,   235.6,2,   15.72,2,   25.09,2,    1.65,2,   3.243,2,   1.654,2,   0.235,2,  2159.1,2,  2283.4,2,   5.8948
09AR20041223,       I09S,      29,          1,         14,         14,2,20050102,       1339,   -47.0057,   114.9888,       3848,   600.3,   5.0356,  34.2893,2,  34.2894,2,    232.4,2,   227.5,2,   21.97,2,   27.53,2,    1.83,2,   3.013,2,   1.492,2,   0.229,2,  2174.0,2,  2286.2,2,   4.9874
09AR20041223,       I09S,      29,          1,         13,         13,2,20050102,       1339,   -47.0057,   114.9888,       3848,   700.3,   4.2423,  34.2579,2,  34.2583,2,    225.1,2,   229.7,2,   26.17,2,   29.10,2,    1.93,2,   2.961,2,   1.491,2,   0.211,2,  2181.0,2,  2288.5,2,   4.1899
09AR20041223,       I09S,      29,          1,         12,         12,2,20050102,       1339,   -47.0057,   114.9888,       3848,   852.2,   3.6662,  34.3100,2,  34.3106,2,    213.1,2,   211.8,2,   37.69,2,   31.15,2,    2.10,2,   2.126,2,   1.036,2,   0.148,2,  2203.0,2,  2298.1,2,   3.6052
09AR20041223,       I09S,      29,          1,         11,         11,2,20050102,       1339,   -47.0057,   114.9888,       3848,  1000.8,   3.2069,  34.3636,2,  34.3637,2,    196.2,2,   197.3,2,   48.82,2,   32.61,2,    2.21,2,   1.526,2,   0.728,2,   0.104,2,  2220.4,6,  2308.3,6,   3.1376
09AR20041223,       I09S,      29,          1,         10,         10,2,20050102,       1339,   -47.0057,   114.9888,       3848,  1201.2,   2.9210,  34.4739,2,  34.4742,2,    179.9,2,   179.1,2,   62.67,2,   33.68,2,    2.26,2,   0.752,2,   0.353,2,   0.076,2,  2239.5,2,  2322.2,2,   2.8383
09AR20041223,       I09S,      29,          1,          9,          9,2,20050102,       1339,   -47.0057,   114.9888,       3848,  1401.2,   2.6724,  34.5559,2,  34.5558,2,    174.8,2,   175.0,2,   68.63,2,   33.58,2,    2.26,2,   0.602,3,   0.213,6,   0.029,2,  2247.3,2,  2327.7,2,   2.5763
09AR20041223,       I09S,      29,          1,          8,        108,2,20050102,       1339,   -47.0057,   114.9888,       3848,  1600.3,   2.5147,  34.6301,2,  34.6305,2,    176.7,2,   176.6,2,   73.31,2,   32.99,2,    2.21,2,   0.470,3,   0.122,2,   0.002,4,  2246.6,2,  2343.5,3,   2.4042
09AR20041223,       I09S,      29,          1,          7,        107,2,20050102,       1339,   -47.0057,   114.9888,       3848,  1801.2,   2.4126,  34.6909,2,  34.6901,2,    182.1,2,   182.6,2,   75.94,2,   31.33,2,    2.12,2,   0.165,2,   0.077,2,   0.018,4,  2246.1,2,  2340.0,2,   2.2866
09AR20041223,       I09S,      29,          1,          6,        117,2,20050102,       1339,   -47.0057,   114.9888,       3848,  2100.8,   2.2351,  34.7360,2,  34.7363,2,    189.7,2,   190.0,2,   79.45,2,   30.36,2,    2.04,2,   0.105,2,   0.045,2,   0.000,2,  2242.9,2,  2343.1,2,   2.0860
09AR20041223,       I09S,      29,          1,          5,        105,2,20050102,       1339,   -47.0057,   114.9888,       3848,  2399.0,   1.9887,  34.7526,2,  34.7522,2,    195.2,2,   196.3,2,   86.18,2,   29.77,2,    2.04,2,   0.084,2,   0.037,2,   0.004,2,  2246.6,2,  2350.0,2,   1.8173
09AR20041223,       I09S,      29,          1,          4,        104,2,20050102,       1339,   -47.0057,   114.9888,       3848,  2701.4,   1.6522,  34.7466,2,  34.7461,2,    199.1,2,   199.1,2,   97.90,2,   30.35,2,    2.07,2,   0.051,2,   0.016,2,   0.009,2,  2251.9,2,  2362.3,2,   1.4598
09AR20041223,       I09S,      29,          1,          3,        103,2,20050102,       1339,   -47.0057,   114.9888,       3848,  3100.6,   1.3364,  34.7327,2,  34.7321,2,    202.8,2,   202.0,2,  110.68,2,   31.43,2,    2.14,2,   0.093,2,   0.033,2,   0.000,2,  2258.4,2,  2360.4,2,   1.1133
09AR20041223,       I09S,      29,          1,          2,        102,2,20050102,       1339,   -47.0057,   114.9888,       3848,  3500.8,   1.1492,  34.7228,2,  34.7223,2,    206.6,2,   205.5,2,  115.27,2,   30.94,2,    2.17,2,   0.122,6,   0.056,6,   0.000,2,  2260.1,2,  2360.4,2,   0.8915
09AR20041223,       I09S,      29,          1,          1,        101,4,20050102,       1339,   -47.0057,   114.9888,       3848,  3869.8,   1.0770,  34.7178,2,  34.4232,4,    209.6,2,  -999.0,9, -999.00,9, -999.00,9, -999.00,9,   3.529,4,   1.833,4,   0.267,4,  2130.3,4,  2284.5,4,   0.7835