BOTTLE,20220105CCHSIOENA
EXPOCODE,SECT_ID,STNNBR,CASTNO,SAMPNO,BTLNBR,BTLNBR_FLAG_W,DATE,TIME,LATITUDE,LONGITUDE,DEPTH,CTDPRS,CTDTMP,CTDSAL,CTDSAL_FLAG_W,SALNTY,SALNTY_FLAG_W,CTDOXY,CTDOXY_FLAG_W,OXYGEN,OXYGEN_FLAG_W,SILCAT,SILCAT_FLAG_W,NITRAT,NITRAT_FLAG_W,PHSPHT,PHSPHT_FLAG_W,CFC-11,CFC-11_FLAG_W,CFC-12,CFC-12_FLAG_W,CFC113,CFC113_FLAG_W,TCARBN,TCARBN_FLAG_W,ALKALI,ALKALI_FLAG_W,THETA
,,,,,,,,,,,METERS,DBAR,ITS-90,PSS-78,,PSS-78,,UMOL/KG,,UMOL/KG,,UMOL/KG,,UMOL/KG,,UMOL/KG,,PMOL/KG,,PMOL/KG,,PMOL/KG,,UMOL/KG,,UMOL/KG,,DEG C
09AR20041223,       I09S,      30,          1,         24,         24,2,20050102,       1945,   -47.5102,   115.0020,       3788,    11.5,   8.9433,  34.1232,2,  34.1230,2,    287.0,2,   285.8,2,    1.27,2,   15.23,2,    1.09,2,-999.000,9,-999.000,9,-999.000,9,  -999.0,9,  -999.0,9,   8.9421
09AR20041223,       I09S,      30,          1,         23,         23,2,20050102,       1945,   -47.5102,   115.0020,       3788,    11.4,   8.9431,  34.1230,2,-999.0000,9,    287.0,2,  -999.0,9, -999.00,9, -999.00,9, -999.00,9,-999.000,9,-999.000,9,-999.000,9,  -999.0,9,  -999.0,9,   8.9419
09AR20041223,       I09S,      30,          1,         22,         22,2,20050102,       1945,   -47.5102,   115.0020,       3788,    11.2,   8.9393,  34.1239,2,-999.0000,9,    287.0,2,  -999.0,9, -999.00,9, -999.00,9, -999.00,9,-999.000,9,-999.000,9,-999.000,9,  -999.0,9,  -999.0,9,   8.9381
09AR20041223,       I09S,      30,          1,         21,         21,2,20050102,       1945,   -47.5102,   115.0020,       3788,    66.0,   8.2375,  34.2408,2,  34.2381,2,    285.1,2,   288.8,2,    1.76,2,   15.33,2,    1.11,2,-999.000,9,-999.000,9,-999.000,9,  -999.0,9,  -999.0,9,   8.2308
09AR20041223,       I09S,      30,          1,         20,         20,2,20050102,       1945,   -47.5102,   115.0020,       3788,    90.5,   8.8194,  34.5217,2,  34.5177,2,    273.5,2,   272.4,2,    4.49,2,   14.84,2,    1.07,2,-999.000,9,-999.000,9,-999.000,9,  -999.0,9,  -999.0,9,   8.8098
09AR20041223,       I09S,      30,          1,         19,         19,2,20050102,       1945,   -47.5102,   115.0020,       3788,   150.8,   8.2203,  34.4488,2,  34.4491,2,    269.9,2,   269.4,2,    5.76,2,   16.60,2,    1.15,2,-999.000,9,-999.000,9,-999.000,9,  -999.0,9,  -999.0,9,   8.2050
09AR20041223,       I09S,      30,          1,         18,         18,2,20050102,       1945,   -47.5102,   115.0020,       3788,   202.3,   8.1498,  34.4559,2,  34.4564,2,    269.5,2,   270.2,2,    6.44,2,   16.79,2,    1.15,2,-999.000,9,-999.000,9,-999.000,9,  -999.0,9,  -999.0,9,   8.1293
09AR20041223,       I09S,      30,          1,         17,          6,2,20050102,       1945,   -47.5102,   115.0020,       3788,   302.7,   7.3470,  34.3833,2,  34.3839,2,    253.4,2,   253.1,2,    9.47,2,   20.11,2,    1.35,2,-999.000,9,-999.000,9,-999.000,9,  -999.0,9,  -999.0,9,   7.3179
09AR20041223,       I09S,      30,          1,         16,         16,2,20050102,       1945,   -47.5102,   115.0020,       3788,   401.7,   6.4745,  34.3190,2,  34.3223,2,    243.3,2,   246.0,2,   12.40,2,   22.94,2,    1.51,2,-999.000,9,-999.000,9,-999.000,9,  -999.0,9,  -999.0,9,   6.4383
09AR20041223,       I09S,      30,          1,         15,         15,2,20050102,       1945,   -47.5102,   115.0020,       3788,   501.8,   6.2897,  34.3991,2,  34.3986,2,    212.6,2,   212.7,2,   18.06,2,   25.77,2,    1.70,2,-999.000,9,-999.000,9,-999.000,9,  -999.0,9,  -999.0,9,   6.2448
09AR20041223,       I09S,      30,          1,         14,         14,2,20050102,       1945,   -47.5102,   115.0020,       3788,   602.3,   4.9576,  34.2917,2,  34.2916,2,    225.8,2,   225.3,2,   22.16,2,   27.63,2,    1.85,2,-999.000,9,-999.000,9,-999.000,9,  -999.0,9,  -999.0,9,   4.9096
09AR20041223,       I09S,      30,          1,         13,         13,2,20050102,       1945,   -47.5102,   115.0020,       3788,   699.7,   4.2814,  34.2819,2,  34.2824,2,    223.9,2,   223.7,2,   27.73,2,   29.19,2,    1.95,2,-999.000,9,-999.000,9,-999.000,9,  -999.0,9,  -999.0,9,   4.2288
09AR20041223,       I09S,      30,          1,         12,         12,2,20050102,       1945,   -47.5102,   115.0020,       3788,   850.7,   3.8162,  34.3373,2,  34.3388,2,    205.0,2,   205.3,2,   38.37,2,   31.05,2,    2.14,2,-999.000,9,-999.000,9,-999.000,9,  -999.0,9,  -999.0,9,   3.7542
09AR20041223,       I09S,      30,          1,         11,         11,2,20050102,       1945,   -47.5102,   115.0020,       3788,  1000.6,   3.3453,  34.3857,2,  34.3866,2,    192.4,2,   192.3,2,   48.91,2,   32.71,2,    2.21,2,-999.000,9,-999.000,9,-999.000,9,  -999.0,9,  -999.0,9,   3.2749
09AR20041223,       I09S,      30,          1,         10,         10,2,20050102,       1945,   -47.5102,   115.0020,       3788,  1251.7,   2.8308,  34.4950,2,  34.4952,2,    177.7,2,   178.5,2,   63.65,2,   33.78,2,    2.28,2,-999.000,9,-999.000,9,-999.000,9,  -999.0,9,  -999.0,9,   2.7450
09AR20041223,       I09S,      30,          1,          9,          9,2,20050102,       1945,   -47.5102,   115.0020,       3788,  1501.0,   2.5450,  34.6060,2,  34.6062,2,    175.2,2,   175.2,2,   72.04,2,   32.80,2,    2.24,2,-999.000,9,-999.000,9,-999.000,9,  -999.0,9,  -999.0,9,   2.4422
09AR20041223,       I09S,      30,          1,          8,        108,2,20050102,       1945,   -47.5102,   115.0020,       3788,  1750.7,   2.4214,  34.6837,2,  34.6837,2,    180.4,2,   180.9,2,   75.35,2,   31.63,2,    2.13,2,-999.000,9,-999.000,9,-999.000,9,  -999.0,9,  -999.0,9,   2.2996
09AR20041223,       I09S,      30,          1,          7,        107,2,20050102,       1945,   -47.5102,   115.0020,       3788,  2001.1,   2.2725,  34.7275,2,  34.7270,2,    188.0,2,   188.4,2,   78.38,2,   30.45,2,    2.06,2,-999.000,9,-999.000,9,-999.000,9,  -999.0,9,  -999.0,9,   2.1315
09AR20041223,       I09S,      30,          1,          6,        117,2,20050102,       1945,   -47.5102,   115.0020,       3788,  2302.0,   2.0485,  34.7525,2,  34.7522,2,    195.4,2,   195.6,2,   84.82,2,   29.87,2,    2.07,2,-999.000,9,-999.000,9,-999.000,9,  -999.0,9,  -999.0,9,   1.8847
09AR20041223,       I09S,      30,          1,          5,        105,2,20050102,       1945,   -47.5102,   115.0020,       3788,  2651.9,   1.6631,  34.7470,2,  34.7469,2,    199.2,2,   199.4,2,   96.82,2,   30.35,2,    2.07,2,-999.000,9,-999.000,9,-999.000,9,  -999.0,9,  -999.0,9,   1.4750
09AR20041223,       I09S,      30,          1,          4,        104,2,20050102,       1945,   -47.5102,   115.0020,       3788,  3004.1,   1.3435,  34.7336,2,  34.7327,2,    202.3,2,   202.2,2,  106.88,2,   31.14,2,    2.12,2,-999.000,9,-999.000,9,-999.000,9,  -999.0,9,  -999.0,9,   1.1294
09AR20041223,       I09S,      30,          1,          3,        103,2,20050102,       1945,   -47.5102,   115.0020,       3788,  3401.2,   1.1298,  34.7224,2,  34.7219,2,    204.7,2,   205.8,2,  114.39,2,   31.23,2,    2.16,2,-999.000,9,-999.000,9,-999.000,9,  -999.0,9,  -999.0,9,   0.8825
09AR20041223,       I09S,      30,          1,          2,        102,2,20050102,       1945,   -47.5102,   115.0020,       3788,  3703.5,   1.0712,  34.7185,2,  34.7176,2,    205.7,2,   206.4,2,  117.23,2,   31.53,2,    2.17,2,-999.000,9,-999.000,9,-999.000,9,  -999.0,9,  -999.0,9,   0.7951
09AR20041223,       I09S,      30,          1,          1,        101,2,20050102,       1945,   -47.5102,   115.0020,       3788,  3909.0,   1.0843,  34.7178,2,  34.7174,2,    205.8,2,   206.6,2,  117.91,2,   31.82,2,    2.17,2,-999.000,9,-999.000,9,-999.000,9,  -999.0,9,  -999.0,9,   0.7865
09AR20041223,       I09S,      31,          1,         24,         24,2,20050103,       0213,   -48.0020,   115.0173,       3597,    18.4,   8.5689,  34.0850,2,  34.0845,2,    288.2,2,   289.8,2,    1.17,2,   16.01,2,    1.16,2,   3.711,2,   2.026,2,   0.368,2,  2094.7,6,  2276.7,6,   8.5670
09AR20041223,       I09S,      31,          1,         23,         23,2,20050103,       0213,   -48.0020,   115.0173,       3597,    18.2,   8.5807,  34.0843,2,-999.0000,9,    288.2,2,  -999.0,9, -999.00,9, -999.00,9, -999.00,9,-999.000,9,-999.000,9,-999.000,9,  -999.0,9,  -999.0,9,   8.5788
09AR20041223,       I09S,      31,          1,         22,         22,2,20050103,       0213,   -48.0020,   115.0173,       3597,    18.3,   8.5861,  34.0839,2,-999.0000,9,    288.2,2,  -999.0,9, -999.00,9, -999.00,9, -999.00,9,-999.000,9,-999.000,9,-999.000,9,  -999.0,9,  -999.0,9,   8.5842
09AR20041223,       I09S,      31,          1,         21,         21,2,20050103,       0213,   -48.0020,   115.0173,       3597,    50.7,   8.3694,  34.1128,2,  34.1144,2,    291.1,2,   291.8,2,    1.17,2,   16.01,2,    1.19,2,   3.731,2,   2.046,2,   0.338,2,  2094.4,2,  2277.3,2,   8.3642
09AR20041223,       I09S,      31,          1,         20,         20,2,20050103,       0213,   -48.0020,   115.0173,       3597,   100.7,   7.7342,  34.3098,2,  34.3098,2,    281.5,2,   279.0,2,    4.59,2,   16.99,2,    1.26,2,   3.728,2,   2.041,2,   0.370,2,  2116.6,2,  2279.5,2,   7.7244
09AR20041223,       I09S,      31,          1,         19,         19,2,20050103,       0213,   -48.0020,   115.0173,       3597,   150.1,   7.8944,  34.3777,2,  34.3778,2,    277.1,2,   273.1,2,    5.86,2,   17.38,2,    1.25,2,   3.850,6,   1.990,6,   0.319,6,  2119.6,2,  2282.1,2,   7.8795
09AR20041223,       I09S,      31,          1,         18,         18,2,20050103,       0213,   -48.0020,   115.0173,       3597,   200.7,   7.5122,  34.3271,2,  34.3276,2,    271.8,2,   273.3,2,    6.54,2,   18.16,2,    1.30,2,   3.862,2,   1.999,2,   0.323,2,  2122.7,2,  2285.0,2,   7.4928
09AR20041223,       I09S,      31,          1,         17,          6,2,20050103,       0213,   -48.0020,   115.0173,       3597,   302.3,   7.1107,  34.3447,2,  34.3456,2,    258.8,2,   256.4,2,    9.18,2,   20.31,2,    1.43,2,   3.693,2,   1.856,2,   0.320,2,  2135.7,2,  2280.9,2,   7.0822
09AR20041223,       I09S,      31,          1,         16,         16,2,20050103,       0213,   -48.0020,   115.0173,       3597,   400.3,   6.1183,  34.2678,2,  34.2655,2,    256.8,2,   256.5,2,   12.01,2,   22.46,2,    1.54,2,   3.698,2,   1.858,2,   0.371,2,  2143.7,2,  2280.6,2,   6.0834
09AR20041223,       I09S,      31,          1,         15,         15,2,20050103,       0213,   -48.0020,   115.0173,       3597,   501.7,   5.7321,  34.3170,2,  34.3178,2,    227.2,2,   229.0,2,   17.87,2,   25.68,2,    1.74,2,   3.210,2,   1.534,2,   0.190,2,  2163.0,2,  2284.8,2,   5.6894
09AR20041223,       I09S,      31,          1,         14,         14,2,20050103,       0213,   -48.0020,   115.0173,       3597,   600.7,   5.0682,  34.3255,2,  34.3259,2,    219.7,2,   219.2,2,   23.73,2,   27.92,2,    1.88,2,   2.701,2,   1.280,2,   0.193,2,  2174.4,2,  2287.7,2,   5.0197
09AR20041223,       I09S,      31,          1,         13,         13,2,20050103,       0213,   -48.0020,   115.0173,       3597,   749.9,   3.8580,  34.2745,2,  34.2761,2,    219.4,2,   223.2,2,   31.63,2,   29.78,2,    2.03,2,   2.641,2,   1.252,2,   0.190,2,  2190.7,2,  2292.4,2,   3.8038
09AR20041223,       I09S,      31,          1,         12,         12,2,20050103,       0213,   -48.0020,   115.0173,       3597,   901.2,   3.4769,  34.3447,2,  34.3439,2,    202.6,2,   203.1,2,   42.96,2,   31.73,2,    2.16,2,   1.790,2,   0.811,2,   0.104,2,  2211.3,2,  2301.7,2,   3.4133
09AR20041223,       I09S,      31,          1,         11,         11,2,20050103,       0213,   -48.0020,   115.0173,       3597,  1050.7,   3.0239,  34.3984,2,  34.3989,2,    190.7,2,   191.1,2,   53.31,2,   32.71,2,    2.26,2,   1.405,2,   0.611,2,   0.079,2,  2226.2,6,  2312.6,6,   2.9521
09AR20041223,       I09S,      31,          1,         10,         10,2,20050103,       0213,   -48.0020,   115.0173,       3597,  1202.3,   2.8195,  34.4716,2,  34.4734,2,    180.8,2,   180.9,2,   62.19,2,   33.29,2,    2.29,2,   0.966,2,   0.407,2,   0.083,4,  2240.6,2,  2326.4,2,   2.7377
09AR20041223,       I09S,      31,          1,          9,          9,2,20050103,       0213,   -48.0020,   115.0173,       3597,  1400.3,   2.5880,  34.5663,2,  34.5666,2,    175.4,2,   175.7,2,   70.19,2,   33.19,2,    2.26,2,   0.565,2,   0.232,6,   0.050,2,  2247.6,3,  2328.7,2,   2.4929
09AR20041223,       I09S,      31,          1,          8,        108,2,20050103,       0213,   -48.0020,   115.0173,       3597,  1647.4,   2.4727,  34.6602,2,  34.6601,2,    179.5,2,   179.0,2,   73.60,2,   31.63,2,    2.19,2,   0.292,2,   0.098,2,   0.017,2,  2247.3,2,  2336.8,2,   2.3588
09AR20041223,       I09S,      31,          1,          7,        107,2,20050103,       0213,   -48.0020,   115.0173,       3597,  1902.8,   2.3154,  34.7188,2,  34.7184,2,    186.9,2,   187.9,2,   76.52,2,   30.75,2,    2.09,2,   0.089,2,   0.062,2,   0.027,2,  2245.6,2,  2340.5,2,   2.1822
09AR20041223,       I09S,      31,          1,          6,        117,2,20050103,       0213,   -48.0020,   115.0173,       3597,  2198.7,   2.1180,  34.7488,2,  34.7488,2,    194.1,2,   194.0,2,   82.77,2,   29.77,2,    2.05,2,   0.065,2,   0.040,2,   0.021,2,  2247.7,3,  2343.7,2,   1.9622
09AR20041223,       I09S,      31,          1,          5,        105,2,20050103,       0213,   -48.0020,   115.0173,       3597,  2498.2,   1.7991,  34.7513,2,  34.7512,2,    198.3,2,   198.9,2,   91.94,2,   29.96,2,    2.07,2,   0.021,2,   0.028,2,   0.012,2,  2248.0,2,  2354.8,3,   1.6223
09AR20041223,       I09S,      31,          1,          4,        104,4,20050103,       0213,   -48.0020,   115.0173,       3597,  2800.6,   1.4807,  34.7397,2,  34.6223,4,    201.5,2,  -999.0,9, -999.00,9, -999.00,9, -999.00,9,   0.570,4,   0.295,4,   0.056,4,  2241.5,4,  2342.0,3,   1.2826
09AR20041223,       I09S,      31,          1,          3,        103,2,20050103,       0213,   -48.0020,   115.0173,       3597,  3103.4,   1.2544,  34.7293,2,  34.7292,2,    204.1,2,   203.9,2,  110.20,2,   30.84,2,    2.14,2,   0.088,2,   0.041,2,   0.024,2,  2260.6,2,  -999.0,9,   1.0330
09AR20041223,       I09S,      31,          1,          2,        102,2,20050103,       0213,   -48.0020,   115.0173,       3597,  3404.2,   1.0940,  34.7206,2,  34.7211,2,    207.0,2,   206.6,2,  116.15,2,   31.14,2,    2.18,2,   0.179,6,   0.053,6,   0.011,6,  2259.5,2,  2361.0,2,   0.8473
09AR20041223,       I09S,      31,          1,          1,        101,2,20050103,       0213,   -48.0020,   115.0173,       3597,  3651.2,   1.0573,  34.7178,2,  34.7186,2,    208.0,2,   207.9,2,  117.42,2,   31.04,2,    2.19,2,   0.130,2,   0.055,2,   0.001,2,  2259.9,6,  2360.0,6,   0.7869