BOTTLE,20220105CCHSIOENA
EXPOCODE,SECT_ID,STNNBR,CASTNO,SAMPNO,BTLNBR,BTLNBR_FLAG_W,DATE,TIME,LATITUDE,LONGITUDE,DEPTH,CTDPRS,CTDTMP,CTDSAL,CTDSAL_FLAG_W,SALNTY,SALNTY_FLAG_W,CTDOXY,CTDOXY_FLAG_W,OXYGEN,OXYGEN_FLAG_W,SILCAT,SILCAT_FLAG_W,NITRAT,NITRAT_FLAG_W,PHSPHT,PHSPHT_FLAG_W,CFC-11,CFC-11_FLAG_W,CFC-12,CFC-12_FLAG_W,CFC113,CFC113_FLAG_W,TCARBN,TCARBN_FLAG_W,ALKALI,ALKALI_FLAG_W,THETA
,,,,,,,,,,,METERS,DBAR,ITS-90,PSS-78,,PSS-78,,UMOL/KG,,UMOL/KG,,UMOL/KG,,UMOL/KG,,UMOL/KG,,PMOL/KG,,PMOL/KG,,PMOL/KG,,UMOL/KG,,UMOL/KG,,DEG C
09AR20041223,       I09S,      12,          1,         24,         24,2,20041228,       0442,   -38.0003,   114.9933,       4786,    10.9,  16.2492,  35.0845,2,  35.0839,2,    262.9,2,   263.7,2,    0.59,2,    0.59,2,    0.23,2,-999.000,9,-999.000,9,-999.000,9,  -999.0,9,  -999.0,9,  16.2475
09AR20041223,       I09S,      12,          1,         23,         23,2,20041228,       0442,   -38.0003,   114.9933,       4786,    48.2,  14.8236,  35.5004,2,-999.0000,9,    253.1,2,  -999.0,9, -999.00,9, -999.00,9, -999.00,9,-999.000,9,-999.000,9,-999.000,9,  -999.0,9,  -999.0,9,  14.8164
09AR20041223,       I09S,      12,          1,         22,         22,2,20041228,       0442,   -38.0003,   114.9933,       4786,    49.4,  14.8196,  35.5023,2,-999.0000,9,    252.1,2,  -999.0,9, -999.00,9, -999.00,9, -999.00,9,-999.000,9,-999.000,9,-999.000,9,  -999.0,9,  -999.0,9,  14.8122
09AR20041223,       I09S,      12,          1,         21,         21,2,20041228,       0442,   -38.0003,   114.9933,       4786,    49.5,  14.8049,  35.4993,2,  35.4973,2,    252.1,2,   246.8,2,    1.66,2,    1.27,2,    0.24,2,-999.000,9,-999.000,9,-999.000,9,  -999.0,9,  -999.0,9,  14.7975
09AR20041223,       I09S,      12,          1,         20,         20,2,20041228,       0442,   -38.0003,   114.9933,       4786,    80.3,  13.4135,  35.2635,2,  35.2540,2,    246.6,2,   254.8,3,    1.85,2,    3.32,2,    0.40,2,-999.000,9,-999.000,9,-999.000,9,  -999.0,9,  -999.0,9,  13.4022
09AR20041223,       I09S,      12,          1,         19,         19,2,20041228,       0442,   -38.0003,   114.9933,       4786,   149.5,  11.8839,  35.0861,2,  35.0845,2,    251.5,2,   248.6,2,    2.15,2,    7.03,2,    0.59,2,-999.000,9,-999.000,9,-999.000,9,  -999.0,9,  -999.0,9,  11.8645
09AR20041223,       I09S,      12,          1,         18,         18,2,20041228,       0442,   -38.0003,   114.9933,       4786,   251.3,  10.7597,  34.8871,2,  34.8863,2,    257.7,2,   260.0,2,    2.63,2,    9.17,2,    0.72,2,-999.000,9,-999.000,9,-999.000,9,  -999.0,9,  -999.0,9,  10.7291
09AR20041223,       I09S,      12,          1,         17,         17,2,20041228,       0442,   -38.0003,   114.9933,       4786,   301.7,  10.2559,  34.8088,2,  34.8073,2,    255.1,2,   253.5,2,    3.12,2,   11.32,2,    0.82,2,-999.000,9,-999.000,9,-999.000,9,  -999.0,9,  -999.0,9,  10.2202
09AR20041223,       I09S,      12,          1,         16,         16,2,20041228,       0442,   -38.0003,   114.9933,       4786,   351.6,   9.8547,  34.7536,2,  34.7533,2,    253.0,2,   252.6,2,    3.81,2,   12.98,2,    0.93,2,-999.000,9,-999.000,9,-999.000,9,  -999.0,9,  -999.0,9,   9.8141
09AR20041223,       I09S,      12,          1,         15,         15,2,20041228,       0442,   -38.0003,   114.9933,       4786,   503.5,   9.2769,  34.6741,2,  34.6746,2,    250.2,2,   254.6,2,    4.78,2,   15.03,2,    1.02,2,-999.000,9,-999.000,9,-999.000,9,  -999.0,9,  -999.0,9,   9.2204
09AR20041223,       I09S,      12,          1,         14,         14,2,20041228,       0442,   -38.0003,   114.9933,       4786,   650.2,   8.5813,  34.5775,2,  34.5771,2,    235.9,2,   233.0,2,    6.93,2,   18.74,2,    1.25,2,-999.000,9,-999.000,9,-999.000,9,  -999.0,9,  -999.0,9,   8.5112
09AR20041223,       I09S,      12,          1,         13,         13,2,20041228,       0442,   -38.0003,   114.9933,       4786,   802.2,   7.0293,  34.4615,2,  34.4613,2,    203.0,2,   202.4,2,   15.72,2,   25.09,2,    1.66,2,-999.000,9,-999.000,9,-999.000,9,  -999.0,9,  -999.0,9,   6.9514
09AR20041223,       I09S,      12,          1,         12,         12,2,20041228,       0442,   -38.0003,   114.9933,       4786,  1001.9,   4.6404,  34.3670,2,  34.3668,2,    196.7,2,   197.4,2,   33.29,2,   30.56,2,    2.03,2,-999.000,9,-999.000,9,-999.000,9,  -999.0,9,  -999.0,9,   4.5599
09AR20041223,       I09S,      12,          1,         11,         11,2,20041228,       0442,   -38.0003,   114.9933,       4786,  1201.9,   3.6470,  34.4106,2,  34.4101,2,    181.1,2,   183.3,2,   49.30,2,   33.00,2,    2.23,2,-999.000,9,-999.000,9,-999.000,9,  -999.0,9,  -999.0,9,   3.5577
09AR20041223,       I09S,      12,          1,         10,         10,2,20041228,       0442,   -38.0003,   114.9933,       4786,  1402.6,   3.0618,  34.4949,2,  34.4945,2,    169.3,2,   169.0,2,   64.53,2,   34.17,2,    2.33,2,-999.000,9,-999.000,9,-999.000,9,  -999.0,9,  -999.0,9,   2.9615
09AR20041223,       I09S,      12,          1,          9,          9,2,20041228,       0442,   -38.0003,   114.9933,       4786,  1602.4,   2.8315,  34.5848,2,  34.5839,2,    162.3,2,   161.0,2,   75.07,2,   34.75,2,    2.35,2,-999.000,9,-999.000,9,-999.000,9,  -999.0,9,  -999.0,9,   2.7171
09AR20041223,       I09S,      12,          1,          8,          8,2,20041228,       0442,   -38.0003,   114.9933,       4786,  1800.5,   2.6331,  34.6522,2,  34.6517,2,    162.9,2,   162.2,2,   82.48,2,   33.48,2,    2.31,2,-999.000,9,-999.000,9,-999.000,9,  -999.0,9,  -999.0,9,   2.5043
09AR20041223,       I09S,      12,          1,          7,          7,2,20041228,       0442,   -38.0003,   114.9933,       4786,  2001.6,   2.4650,  34.6912,2,  34.6909,2,    167.1,2,   166.6,2,   86.19,2,   32.31,2,    2.25,2,-999.000,9,-999.000,9,-999.000,9,  -999.0,9,  -999.0,9,   2.3211
09AR20041223,       I09S,      12,          1,          6,          6,2,20041228,       0442,   -38.0003,   114.9933,       4786,  2499.5,   2.0605,  34.7323,2,  34.7321,2,    177.0,2,   178.3,2,   98.29,3,   32.21,2,    2.21,2,-999.000,9,-999.000,9,-999.000,9,  -999.0,9,  -999.0,9,   1.8788
09AR20041223,       I09S,      12,          1,          5,          5,2,20041228,       0442,   -38.0003,   114.9933,       4786,  3000.8,   1.6993,  34.7377,2,  34.7371,2,    190.6,2,   190.3,2,  101.61,2,   31.62,2,    2.17,2,-999.000,9,-999.000,9,-999.000,9,  -999.0,9,  -999.0,9,   1.4777
09AR20041223,       I09S,      12,          1,          4,          4,2,20041228,       0442,   -38.0003,   114.9933,       4786,  3500.2,   1.2922,  34.7264,2,  34.7257,2,    198.9,2,   199.5,2,  111.47,2,   31.43,2,    2.19,2,-999.000,9,-999.000,9,-999.000,9,  -999.0,9,  -999.0,9,   1.0310
09AR20041223,       I09S,      12,          1,          3,          3,2,20041228,       0442,   -38.0003,   114.9933,       4786,  4001.2,   0.9872,  34.7128,2,  34.7121,2,    205.5,2,   205.4,2,  118.10,2,   31.43,2,    2.21,2,-999.000,9,-999.000,9,-999.000,9,  -999.0,9,  -999.0,9,   0.6824
09AR20041223,       I09S,      12,          1,          2,          2,2,20041228,       0442,   -38.0003,   114.9933,       4786,  4518.3,   0.8709,  34.7054,2,  34.7052,2,    209.4,2,   208.8,2,  121.81,2,   31.92,2,    2.22,2,-999.000,9,-999.000,9,-999.000,9,  -999.0,9,  -999.0,9,   0.5133
09AR20041223,       I09S,      12,          1,          1,          1,2,20041228,       0442,   -38.0003,   114.9933,       4786,  4903.4,   0.8965,  34.7042,2,  34.7045,2,    209.9,2,   210.2,2,  119.86,2,   31.82,2,    2.22,2,-999.000,9,-999.000,9,-999.000,9,  -999.0,9,  -999.0,9,   0.4939
09AR20041223,       I09S,      13,          1,         24,         24,2,20041228,       1419,   -38.4958,   115.0062,       4665,    11.1,  15.7010,  35.0170,2,  35.0165,2,    264.8,2,   263.5,2,    0.68,2,    1.27,2,    0.25,2,   2.754,2,   1.557,2,   0.358,4,  2054.7,6,  2314.6,6,  15.6993
09AR20041223,       I09S,      13,          1,         23,         23,2,20041228,       1419,   -38.4958,   115.0062,       4665,    11.2,  15.7022,  35.0167,2,-999.0000,9,    264.8,2,  -999.0,9, -999.00,9, -999.00,9, -999.00,9,-999.000,9,-999.000,9,-999.000,9,  -999.0,9,  -999.0,9,  15.7005
09AR20041223,       I09S,      13,          1,         22,         22,2,20041228,       1419,   -38.4958,   115.0062,       4665,    11.1,  15.7017,  35.0167,2,-999.0000,9,    264.8,2,  -999.0,9, -999.00,9, -999.00,9, -999.00,9,-999.000,9,-999.000,9,-999.000,9,  -999.0,9,  -999.0,9,  15.7000
09AR20041223,       I09S,      13,          1,         21,         21,2,20041228,       1419,   -38.4958,   115.0062,       4665,    42.1,  13.1131,  34.8965,2,  34.8984,2,    281.5,2,   283.3,2,    1.07,2,    4.00,2,    0.41,2,   3.078,2,   1.748,2,   0.502,4,  2070.0,2,  2303.6,2,  13.1073
09AR20041223,       I09S,      13,          1,         20,         20,2,20041228,       1419,   -38.4958,   115.0062,       4665,    98.1,  11.9256,  35.0376,2,  34.9519,4,    257.8,2,   257.8,2,    2.34,2,    6.73,2,    0.58,2,   3.116,2,   1.735,2,   0.429,4,  2098.5,2,  2310.1,2,  11.9129
09AR20041223,       I09S,      13,          1,         19,         19,2,20041228,       1419,   -38.4958,   115.0062,       4665,   152.2,  11.0734,  34.9471,2,  34.8760,4,    260.1,2,   258.9,2,    2.63,2,    8.39,2,    0.68,2,   3.231,6,   1.771,6,   0.297,4,  2106.7,2,  2304.6,2,  11.0546
09AR20041223,       I09S,      13,          1,         18,         18,2,20041228,       1419,   -38.4958,   115.0062,       4665,   198.5,  10.6911,  34.8745,2,  34.7013,4,    262.3,2,   259.9,2,    2.73,2,    9.56,2,    0.71,2,   3.257,2,   1.797,2,   0.248,2,  2104.7,2,  2302.3,2,  10.6671
09AR20041223,       I09S,      13,          1,         17,         17,2,20041228,       1419,   -38.4958,   115.0062,       4665,   251.0,  10.4508,  34.8445,2,-999.0000,9,    257.6,2,  -999.0,9, -999.00,9, -999.00,9, -999.00,9,-999.000,9,-999.000,9,-999.000,9,  -999.0,9,  -999.0,9,  10.4208
09AR20041223,       I09S,      13,          1,         16,         16,2,20041228,       1419,   -38.4958,   115.0062,       4665,   402.4,   9.4575,  34.7004,2,  34.7013,2,    251.6,2,   251.6,2,    4.49,2,   14.25,2,    1.02,2,   3.480,2,   1.898,2,   0.204,2,  2119.3,2,  2292.7,2,   9.4121
09AR20041223,       I09S,      13,          1,         15,         15,2,20041228,       1419,   -38.4958,   115.0062,       4665,   497.9,   9.2277,  34.6671,2,  34.6670,2,    253.4,2,   252.9,2,    4.88,2,   15.23,2,    1.03,2,   3.493,2,   1.862,2,   0.327,4,  2121.5,2,  2291.6,2,   9.1721
09AR20041223,       I09S,      13,          1,         14,         14,2,20041228,       1419,   -38.4958,   115.0062,       4665,   601.1,   8.8819,  34.6180,2,  34.3966,4,    241.9,2,   242.5,2,    5.86,2,   16.79,2,    1.15,2,   3.401,2,   1.762,2,   0.172,2,  2128.0,2,  2288.0,2,   8.8159
09AR20041223,       I09S,      13,          1,         13,         13,2,20041228,       1419,   -38.4958,   115.0062,       4665,   801.2,   7.2114,  34.4711,2,  34.4711,2,    205.3,2,   205.2,2,   14.74,2,   24.41,2,    1.62,2,   2.183,2,   1.070,2,   0.099,2,  2161.0,2,  2287.4,2,   7.1325
09AR20041223,       I09S,      13,          1,         12,         12,2,20041228,       1419,   -38.4958,   115.0062,       4665,  1000.6,   4.9082,  34.3690,2,  34.3699,2,    196.9,2,   199.3,2,   30.36,2,   29.68,2,    1.98,2,   1.412,2,   0.659,2,   0.137,4,  2191.0,2,  2295.7,2,   4.8257
09AR20041223,       I09S,      13,          1,         11,         11,2,20041228,       1419,   -38.4958,   115.0062,       4665,  1151.8,   3.9115,  34.3738,2,-999.0000,9,    194.8,2,  -999.0,9, -999.00,9, -999.00,9, -999.00,9,-999.000,9,-999.000,9,-999.000,9,  -999.0,9,  -999.0,9,   3.8241
09AR20041223,       I09S,      13,          1,         10,         10,2,20041228,       1419,   -38.4958,   115.0062,       4665,  1402.7,   3.0866,  34.4811,2,  34.4811,2,    171.1,2,   172.2,2,   62.38,2,   33.78,2,    2.31,2,   0.340,2,   0.162,2,   0.018,2,  2249.2,2,  2327.6,6,   2.9861
09AR20041223,       I09S,      13,          1,          9,          9,2,20041228,       1419,   -38.4958,   115.0062,       4665,  1598.4,   2.8272,  34.5712,2,  34.5717,2,    162.7,2,   162.7,2,   73.41,2,   35.34,3,    2.34,2,   0.109,2,   0.047,6,   0.007,6,  2257.7,2,  2340.2,2,   2.7132
09AR20041223,       I09S,      13,          1,          8,          8,2,20041228,       1419,   -38.4958,   115.0062,       4665,  1797.6,   2.6489,  34.6375,2,  34.6374,2,    161.9,2,   162.3,2,   80.82,2,   33.48,2,    2.32,2,   0.064,2,   0.017,2,   0.004,2,  2264.7,2,  2348.1,2,   2.5202
09AR20041223,       I09S,      13,          1,          7,          7,2,20041228,       1419,   -38.4958,   115.0062,       4665,  2001.0,   2.5004,  34.6839,2,  34.6839,2,    165.4,2,   165.3,2,   87.07,2,   32.60,2,    2.27,2,   0.055,2,   0.013,2,   0.004,2,  2264.2,2,  2357.5,2,   2.3561
09AR20041223,       I09S,      13,          1,          6,          6,2,20041228,       1419,   -38.4958,   115.0062,       4665,  2498.8,   2.1184,  34.7334,2,  34.7335,2,    178.3,2,   178.9,2,   93.99,2,   31.33,2,    2.19,2,   0.028,2,   0.008,2,-999.000,5,  2265.3,2,  2364.1,2,   1.9357
09AR20041223,       I09S,      13,          1,          5,          5,2,20041228,       1419,   -38.4958,   115.0062,       4665,  2974.6,   1.7364,  34.7421,2,  34.7420,2,    192.2,2,   192.0,2,   98.68,2,   30.65,2,    2.14,2,   0.041,2,   0.009,2,   0.011,2,  2259.0,2,  2362.7,2,   1.5165
09AR20041223,       I09S,      13,          1,          4,          4,2,20041228,       1419,   -38.4958,   115.0062,       4665,  3499.0,   1.2701,  34.7281,2,  34.7280,2,    201.8,2,   202.2,2,  109.12,2,   31.04,2,    2.16,2,   0.089,2,   0.033,2,   0.008,2,  2259.3,2,  2364.5,2,   1.0095
09AR20041223,       I09S,      13,          1,          3,          3,2,20041228,       1419,   -38.4958,   115.0062,       4665,  3998.7,   0.8991,  34.7100,2,  34.7096,2,    207.7,2,   207.9,2,  118.98,2,   31.43,2,    2.20,2,   0.136,2,   0.047,2,   0.007,2,  2259.1,2,  2364.1,2,   0.5971
09AR20041223,       I09S,      13,          1,          2,          2,2,20041228,       1419,   -38.4958,   115.0062,       4665,  4499.6,   0.8486,  34.7053,2,  34.7054,2,    208.9,2,   209.0,2,  121.81,2,   31.72,2,    2.22,2,   0.140,6,   0.044,6,   0.005,6,  2264.6,2,  2374.0,3,   0.4938
09AR20041223,       I09S,      13,          1,          1,          1,2,20041228,       1419,   -38.4958,   115.0062,       4665,  4758.1,   0.8665,  34.7045,2,  34.7049,2,    209.8,2,   210.1,2,  122.01,2,   32.11,2,    2.22,2,   0.157,2,   0.045,2,   0.010,2,  2264.4,6,  2367.0,6,   0.4818