BOTTLE,20220105CCHSIOENA
EXPOCODE,SECT_ID,STNNBR,CASTNO,SAMPNO,BTLNBR,BTLNBR_FLAG_W,DATE,TIME,LATITUDE,LONGITUDE,DEPTH,CTDPRS,CTDTMP,CTDSAL,CTDSAL_FLAG_W,SALNTY,SALNTY_FLAG_W,CTDOXY,CTDOXY_FLAG_W,OXYGEN,OXYGEN_FLAG_W,SILCAT,SILCAT_FLAG_W,NITRAT,NITRAT_FLAG_W,PHSPHT,PHSPHT_FLAG_W,CFC-11,CFC-11_FLAG_W,CFC-12,CFC-12_FLAG_W,CFC113,CFC113_FLAG_W,TCARBN,TCARBN_FLAG_W,ALKALI,ALKALI_FLAG_W,THETA
,,,,,,,,,,,METERS,DBAR,ITS-90,PSS-78,,PSS-78,,UMOL/KG,,UMOL/KG,,UMOL/KG,,UMOL/KG,,UMOL/KG,,PMOL/KG,,PMOL/KG,,PMOL/KG,,UMOL/KG,,UMOL/KG,,DEG C
09AR20041223,       I09S,      52,          1,         24,         24,2,20050111,       1237,   -59.8090,   115.0345,       4475,    16.4,   2.2226,  33.9037,2,  33.9049,2,    334.8,2,   334.5,2,   21.58,2,   25.98,2,    1.67,2,-999.000,9,-999.000,9,-999.000,9,  -999.0,9,  -999.0,9,   2.2217
09AR20041223,       I09S,      52,          1,         23,         23,2,20050111,       1237,   -59.8090,   115.0345,       4475,    51.7,   1.9987,  33.8880,2,  33.9033,2,    336.1,2,   336.2,2,   22.37,2,   26.08,2,    1.63,2,-999.000,9,-999.000,9,-999.000,9,  -999.0,9,  -999.0,9,   1.9961
09AR20041223,       I09S,      52,          1,         22,         22,2,20050111,       1237,   -59.8090,   115.0345,       4475,    80.8,   0.2642,  33.9621,2,  33.9632,2,    341.7,2,   345.6,2,   29.40,2,   27.93,2,    1.86,2,-999.000,9,-999.000,9,-999.000,9,  -999.0,9,  -999.0,9,   0.2612
09AR20041223,       I09S,      52,          1,         21,         21,2,20050111,       1237,   -59.8090,   115.0345,       4475,   130.7,  -0.2377,  33.9739,2,  33.9739,2,    338.2,2,   340.5,2,   32.91,2,   28.61,2,    1.89,2,-999.000,9,-999.000,9,-999.000,9,  -999.0,9,  -999.0,9,  -0.2420
09AR20041223,       I09S,      52,          1,         20,         20,2,20050111,       1237,   -59.8090,   115.0345,       4475,   171.1,   0.2214,  34.1018,2,  34.0985,2,    310.3,2,   303.3,2,   43.65,2,   30.86,2,    2.03,2,-999.000,9,-999.000,9,-999.000,9,  -999.0,9,  -999.0,9,   0.2150
09AR20041223,       I09S,      52,          1,         19,         19,2,20050111,       1237,   -59.8090,   115.0345,       4475,   210.2,   1.6295,  34.3327,2,  34.3298,2,    232.7,2,   217.1,3,   59.85,2,   33.98,2,    2.27,2,-999.000,9,-999.000,9,-999.000,9,  -999.0,9,  -999.0,9,   1.6190
09AR20041223,       I09S,      52,          1,         18,         18,2,20050111,       1237,   -59.8090,   115.0345,       4475,   252.2,   1.8358,  34.4157,2,  34.4158,2,    201.4,2,   197.6,2,   66.78,2,   34.56,2,    2.29,2,-999.000,9,-999.000,9,-999.000,9,  -999.0,9,  -999.0,9,   1.8226
09AR20041223,       I09S,      52,          1,         17,          6,2,20050111,       1237,   -59.8090,   115.0345,       4475,   300.6,   1.9419,  34.4875,2,  34.4838,2,    184.4,2,   186.7,2,   71.85,2,   34.75,2,    2.30,2,-999.000,9,-999.000,9,-999.000,9,  -999.0,9,  -999.0,9,   1.9258
09AR20041223,       I09S,      52,          1,         16,         16,2,20050111,       1237,   -59.8090,   115.0345,       4475,   400.9,   2.0945,  34.5818,2,  34.5803,2,    174.7,2,   175.9,2,   76.82,2,   34.17,2,    2.26,2,-999.000,9,-999.000,9,-999.000,9,  -999.0,9,  -999.0,9,   2.0721
09AR20041223,       I09S,      52,          1,         15,         15,2,20050111,       1237,   -59.8090,   115.0345,       4475,   503.0,   2.1117,  34.6361,2,  34.6364,2,    174.2,2,   175.3,2,   79.75,2,   33.38,2,    2.22,2,-999.000,9,-999.000,9,-999.000,9,  -999.0,9,  -999.0,9,   2.0830
09AR20041223,       I09S,      52,          1,         14,         14,2,20050111,       1237,   -59.8090,   115.0345,       4475,   700.0,   2.0945,  34.6999,2,  34.7004,2,    181.4,2,   182.1,2,   81.99,2,   32.01,2,    2.14,2,-999.000,9,-999.000,9,-999.000,9,  -999.0,9,  -999.0,9,   2.0534
09AR20041223,       I09S,      52,          1,         13,         13,2,20050111,       1237,   -59.8090,   115.0345,       4475,   900.2,   1.9821,  34.7299,2,  34.7306,2,    188.0,2,   188.7,2,   84.53,2,   31.14,2,    2.08,2,-999.000,9,-999.000,9,-999.000,9,  -999.0,9,  -999.0,9,   1.9286
09AR20041223,       I09S,      52,          1,         12,         12,2,20050111,       1237,   -59.8090,   115.0345,       4475,  1101.9,   1.8434,  34.7445,2,  34.7453,2,    193.2,2,   193.4,2,   87.55,2,   30.55,2,    2.05,2,-999.000,9,-999.000,9,-999.000,9,  -999.0,9,  -999.0,9,   1.7772
09AR20041223,       I09S,      52,          1,         11,         11,2,20050111,       1237,   -59.8090,   115.0345,       4475,  1299.8,   1.6629,  34.7468,2,  34.7475,2,    196.9,2,   197.3,2,   92.72,2,   30.65,2,    2.05,2,-999.000,9,-999.000,9,-999.000,9,  -999.0,9,  -999.0,9,   1.5846
09AR20041223,       I09S,      52,          1,         10,         10,2,20050111,       1237,   -59.8090,   115.0345,       4475,  1499.8,   1.4890,  34.7426,2,  34.7431,2,    200.0,2,   199.6,2,   97.90,2,   30.75,2,    2.06,2,-999.000,9,-999.000,9,-999.000,9,  -999.0,9,  -999.0,9,   1.3983
09AR20041223,       I09S,      52,          1,          9,          9,2,20050111,       1237,   -59.8090,   115.0345,       4475,  1901.7,   1.1680,  34.7288,2,  34.7290,2,    204.1,2,   204.1,2,  107.07,2,   31.04,2,    2.10,2,-999.000,9,-999.000,9,-999.000,9,  -999.0,9,  -999.0,9,   1.0515
09AR20041223,       I09S,      52,          1,          8,        208,2,20050111,       1237,   -59.8090,   115.0345,       4475,  2302.2,   0.8334,  34.7116,2,  34.7113,2,    208.3,2,   208.4,2,  116.93,2,   31.82,2,    2.15,2,-999.000,9,-999.000,9,-999.000,9,  -999.0,9,  -999.0,9,   0.6909
09AR20041223,       I09S,      52,          1,          7,        107,2,20050111,       1237,   -59.8090,   115.0345,       4475,  2702.7,   0.5491,  34.6974,2,  34.6966,2,    213.5,2,   213.5,2,  123.77,2,   32.21,2,    2.18,2,-999.000,9,-999.000,9,-999.000,9,  -999.0,9,  -999.0,9,   0.3791
09AR20041223,       I09S,      52,          1,          6,        117,2,20050111,       1237,   -59.8090,   115.0345,       4475,  3101.9,   0.3367,  34.6880,2,  34.6878,2,    219.3,2,   219.4,2,  128.16,2,   32.50,2,    2.20,2,-999.000,9,-999.000,9,-999.000,9,  -999.0,9,  -999.0,9,   0.1366
09AR20041223,       I09S,      52,          1,          5,        105,2,20050111,       1237,   -59.8090,   115.0345,       4475,  3502.1,   0.2077,  34.6827,2,  34.6833,2,    223.7,2,   223.8,2,  131.38,2,   32.41,2,    2.21,2,-999.000,9,-999.000,9,-999.000,9,  -999.0,9,  -999.0,9,  -0.0259
09AR20041223,       I09S,      52,          1,          4,        104,2,20050111,       1237,   -59.8090,   115.0345,       4475,  3800.8,   0.1197,  34.6791,2,  34.6788,2,    227.0,2,   226.6,2,  132.75,2,   32.60,2,    2.22,2,-999.000,9,-999.000,9,-999.000,9,  -999.0,9,  -999.0,9,  -0.1402
09AR20041223,       I09S,      52,          1,          3,        103,2,20050111,       1237,   -59.8090,   115.0345,       4475,  4102.6,   0.0412,  34.6751,2,  34.6737,2,    230.4,2,  -999.0,9,  132.75,2,   32.31,2,    2.22,2,-999.000,9,-999.000,9,-999.000,9,  -999.0,9,  -999.0,9,  -0.2465
09AR20041223,       I09S,      52,          1,          2,        102,2,20050111,       1237,   -59.8090,   115.0345,       4475,  4400.8,  -0.0206,  34.6707,2,  34.6692,2,    233.4,2,   233.2,2,  134.31,2,   32.21,2,    2.21,2,-999.000,9,-999.000,9,-999.000,9,  -999.0,9,  -999.0,9,  -0.3373
09AR20041223,       I09S,      52,          1,          1,        101,2,20050111,       1237,   -59.8090,   115.0345,       4475,  4560.6,  -0.0767,  34.6644,2,  34.6641,2,    235.5,2,   235.2,2,  137.73,2,   32.21,2,    2.21,2,-999.000,9,-999.000,9,-999.000,9,  -999.0,9,  -999.0,9,  -0.4085
09AR20041223,       I09S,      53,          1,         24,         24,2,20050111,       2358,   -60.3992,   114.9852,       4455,    10.6,   2.0601,  33.8784,2,  33.8769,2,    338.0,2,   337.1,2,   25.98,2,   25.69,2,    1.65,2,   5.328,2,   2.731,2,   0.459,2,  2148.2,6,  2288.1,6,   2.0596
09AR20041223,       I09S,      53,          1,         23,         23,2,20050111,       2358,   -60.3992,   114.9852,       4455,    49.9,   1.4965,  33.9062,2,  33.9067,2,    338.9,2,   341.5,2,   25.00,2,   26.08,2,    1.69,2,   5.383,2,   2.789,2,   0.489,2,  2152.5,2,  2288.6,2,   1.4942
09AR20041223,       I09S,      53,          1,         22,         22,2,20050111,       2358,   -60.3992,   114.9852,       4455,    90.6,   0.0754,  33.9782,2,  33.9767,2,    342.9,2,   344.4,2,   33.11,2,   27.34,2,    1.92,2,   5.560,2,   2.851,2,   0.479,2,  2171.1,2,  2291.3,2,   0.0722
09AR20041223,       I09S,      53,          1,         21,         21,2,20050111,       2358,   -60.3992,   114.9852,       4455,   135.8,  -0.2906,  34.0305,2,  34.0310,2,    329.4,2,   328.9,2,   39.35,2,   29.00,2,    2.00,2,   5.293,2,   2.727,2,   0.466,2,  2180.9,2,  2295.2,2,  -0.2950
09AR20041223,       I09S,      53,          1,         20,         20,2,20050111,       2358,   -60.3992,   114.9852,       4455,   182.9,   1.2551,  34.2961,2,  34.2898,2,    236.2,2,   236.1,2,   57.90,2,   32.81,2,    2.25,2,   2.932,2,   1.438,2,   0.246,2,  2224.4,2,  2308.6,2,   1.2466
09AR20041223,       I09S,      53,          1,         19,         19,2,20050111,       2358,   -60.3992,   114.9852,       4455,   250.9,   1.9291,  34.4788,2,  34.4799,2,    192.9,2,   188.1,2,   71.46,2,   33.97,2,    2.35,2,   1.312,2,   0.631,6,   0.109,6,  2248.7,2,  2335.8,3,   1.9158
09AR20041223,       I09S,      53,          1,         18,         18,2,20050111,       2358,   -60.3992,   114.9852,       4455,   300.7,   2.0454,  34.5365,2,  34.5356,2,    178.6,2,   179.6,2,   74.58,2,   33.97,2,    2.33,2,   0.939,2,   0.443,2,   0.092,2,  2248.7,2,  2327.8,2,   2.0290
09AR20041223,       I09S,      53,          1,         17,          6,2,20050111,       2358,   -60.3992,   114.9852,       4455,   401.6,   2.0480,  34.6066,2,  34.6058,2,    175.6,2,   177.4,2,   78.68,2,   33.09,2,    2.29,2,   0.625,2,   0.291,2,   0.057,2,  2251.2,2,  2331.7,2,   2.0256
09AR20041223,       I09S,      53,          1,         16,         16,2,20050111,       2358,   -60.3992,   114.9852,       4455,   501.2,   2.0617,  34.6643,2,  34.6642,2,    178.0,2,   178.4,2,   81.11,2,   32.02,2,    2.23,2,   0.395,2,   0.191,2,   0.037,2,  2252.0,2,  2337.0,2,   2.0333
09AR20041223,       I09S,      53,          1,         15,         15,2,20050111,       2358,   -60.3992,   114.9852,       4455,   651.5,   1.9921,  34.7082,2,  34.7076,2,    183.3,2,   184.4,2,   83.55,2,   31.14,2,    2.15,2,   0.275,2,   0.126,2,   0.018,2,  2251.0,2,  2340.9,2,   1.9547
09AR20041223,       I09S,      53,          1,         14,         14,2,20050111,       2358,   -60.3992,   114.9852,       4455,   802.5,   1.9235,  34.7290,2,  34.7288,2,    188.5,2,   189.4,2,   85.31,2,   30.65,2,    2.12,2,   0.206,2,   0.096,2,   0.015,2,  2249.4,2,  2343.0,2,   1.8768
09AR20041223,       I09S,      53,          1,         13,         13,2,20050111,       2358,   -60.3992,   114.9852,       4455,  1001.6,   1.7758,  34.7394,2,  34.7390,2,    194.0,2,   194.6,2,   88.92,2, -999.00,9,    2.10,2,   0.183,2,   0.082,2,   0.010,2,  2250.1,2,  2351.6,2,   1.7170
09AR20041223,       I09S,      53,          1,         12,         12,2,20050111,       2358,   -60.3992,   114.9852,       4455,  1201.0,   1.5964,  34.7430,2,  34.7429,2,    198.3,2,   199.0,2,   93.31,2,   30.26,2,    2.12,2,   0.152,2,   0.060,2,   0.009,2,  2246.9,6,  2349.4,6,   1.5257
09AR20041223,       I09S,      53,          1,         11,         11,2,20050111,       2358,   -60.3992,   114.9852,       4455,  1502.3,   1.3263,  34.7336,2,  34.7329,2,    202.3,2,   202.6,2,  100.04,2,   30.36,2,    2.12,2,   0.185,2,   0.082,2,   0.021,2,  2253.1,2,  2354.0,2,   1.2373
09AR20041223,       I09S,      53,          1,         10,         10,2,20050111,       2358,   -60.3992,   114.9852,       4455,  1801.3,   1.0822,  34.7241,2,  34.7231,2,    205.4,2,   204.4,2,  108.05,2,   30.65,2,    2.16,2,   0.162,2,   0.064,2,   0.017,2,  2255.2,2,  2358.7,2,   0.9746
09AR20041223,       I09S,      53,          1,          9,          9,2,20050111,       2358,   -60.3992,   114.9852,       4455,  2102.9,   0.8643,  34.7130,2,  34.7119,2,    207.9,2,   207.7,2,  114.79,2,   31.23,2,    2.19,2,   0.159,6,   0.068,6,   0.015,6,  2257.7,2,  2356.5,2,   0.7371
09AR20041223,       I09S,      53,          1,          8,        208,2,20050111,       2358,   -60.3992,   114.9852,       4455,  2402.1,   0.6272,  34.7005,2,  34.7001,2,    211.6,2,   212.2,2,  120.74,2,   31.62,2,    2.22,2,   0.199,2,   0.094,2,   0.015,2,  2255.2,2,  2361.5,2,   0.4805
09AR20041223,       I09S,      53,          1,          7,        107,2,20050111,       2358,   -60.3992,   114.9852,       4455,  2801.6,   0.3748,  34.6892,2,  34.6882,2,    217.7,2,   217.7,2,  125.91,2,   31.82,2,    2.24,2,   0.312,2,   0.145,2,   0.017,2,  2259.6,2,  2364.6,2,   0.2000
09AR20041223,       I09S,      53,          1,          6,        117,2,20050111,       2358,   -60.3992,   114.9852,       4455,  3200.5,   0.2207,  34.6830,2,  34.6780,2,    223.1,2,  -999.0,9,  128.55,2,   31.82,2,    2.25,2,   0.457,2,   0.209,2,   0.028,2,  2256.5,2,  2355.8,6,   0.0146
09AR20041223,       I09S,      53,          1,          5,        105,2,20050111,       2358,   -60.3992,   114.9852,       4455,  3598.3,   0.0991,  34.6780,2,  34.6768,2,    227.7,2,   227.8,2,  129.82,2,   31.92,2,    2.24,2,   0.676,2,   0.311,2,   0.050,2,  2258.3,2,  2363.3,2,  -0.1407
09AR20041223,       I09S,      53,          1,          4,        104,2,20050111,       2358,   -60.3992,   114.9852,       4455,  3900.2,   0.0262,  34.6744,2,  34.6737,2,    230.8,2,   230.7,2,  130.41,2,   31.82,2,    2.23,2,   0.885,2,   0.418,2,   0.049,2,  2254.5,2,  2366.0,2,  -0.2408
09AR20041223,       I09S,      53,          1,          3,        103,2,20050111,       2358,   -60.3992,   114.9852,       4455,  4201.9,  -0.0194,  34.6713,2,  34.6705,2,    233.4,2,   234.1,2,  131.68,2,   31.82,2,    2.23,2,   1.095,2,   0.515,2,   0.067,2,  2255.8,2,  2353.6,2,  -0.3154
09AR20041223,       I09S,      53,          1,          2,        102,2,20050111,       2358,   -60.3992,   114.9852,       4455,  4401.6,  -0.0574,  34.6704,2,  34.6662,2,    235.3,2,   235.8,2,  131.77,2,   31.72,2,    2.24,2,   1.324,6,   0.630,6,   0.091,6,  2256.3,2,  2354.9,6,  -0.3730
09AR20041223,       I09S,      53,          1,          1,        101,2,20050111,       2358,   -60.3992,   114.9852,       4455,  4530.2,  -0.0834,  34.6637,2,  34.6629,2,    236.8,2,   236.1,2,  134.90,2,   31.63,2,    2.23,2,   1.523,2,   0.736,2,   0.123,2,  2255.5,2,  2353.6,6,  -0.4118