BOTTLE,20220105CCHSIOENA
EXPOCODE,SECT_ID,STNNBR,CASTNO,SAMPNO,BTLNBR,BTLNBR_FLAG_W,DATE,TIME,LATITUDE,LONGITUDE,DEPTH,CTDPRS,CTDTMP,CTDSAL,CTDSAL_FLAG_W,SALNTY,SALNTY_FLAG_W,CTDOXY,CTDOXY_FLAG_W,OXYGEN,OXYGEN_FLAG_W,SILCAT,SILCAT_FLAG_W,NITRAT,NITRAT_FLAG_W,PHSPHT,PHSPHT_FLAG_W,CFC-11,CFC-11_FLAG_W,CFC-12,CFC-12_FLAG_W,CFC113,CFC113_FLAG_W,TCARBN,TCARBN_FLAG_W,ALKALI,ALKALI_FLAG_W,THETA
,,,,,,,,,,,METERS,DBAR,ITS-90,PSS-78,,PSS-78,,UMOL/KG,,UMOL/KG,,UMOL/KG,,UMOL/KG,,UMOL/KG,,PMOL/KG,,PMOL/KG,,PMOL/KG,,UMOL/KG,,UMOL/KG,,DEG C
09AR20041223,       I09S,      22,          1,         24,         24,2,20041231,       1613,   -43.4958,   115.0005,       4433,    15.7,  12.2417,  34.7163,2,  34.7155,2,   -999.0,9,   274.2,2,    0.78,2,    7.52,2,    0.64,2,-999.000,9,-999.000,9,-999.000,9,  -999.0,9,  -999.0,9,  12.2396
09AR20041223,       I09S,      22,          1,         23,         23,2,20041231,       1613,   -43.4958,   115.0005,       4433,    50.2,  11.9250,  34.7091,2,-999.0000,9,    273.1,2,  -999.0,9, -999.00,9, -999.00,9, -999.00,9,-999.000,9,-999.000,9,-999.000,9,  -999.0,9,  -999.0,9,  11.9185
09AR20041223,       I09S,      22,          1,         22,         22,2,20041231,       1613,   -43.4958,   115.0005,       4433,    49.9,  11.9447,  34.7096,2,-999.0000,9,    273.1,2,  -999.0,9, -999.00,9, -999.00,9, -999.00,9,-999.000,9,-999.000,9,-999.000,9,  -999.0,9,  -999.0,9,  11.9383
09AR20041223,       I09S,      22,          1,         21,         21,2,20041231,       1613,   -43.4958,   115.0005,       4433,    49.2,  11.9370,  34.7094,2,  34.7098,2,    273.1,2,   273.4,2,    0.88,2,    7.81,2,    0.69,2,-999.000,9,-999.000,9,-999.000,9,  -999.0,9,  -999.0,9,  11.9307
09AR20041223,       I09S,      22,          1,         20,         20,2,20041231,       1613,   -43.4958,   115.0005,       4433,    98.7,  10.3162,  34.7762,2,  34.7753,2,    264.8,2,   263.6,2,    2.83,2,   10.05,2,    0.78,2,-999.000,9,-999.000,9,-999.000,9,  -999.0,9,  -999.0,9,  10.3046
09AR20041223,       I09S,      22,          1,         19,         19,2,20041231,       1613,   -43.4958,   115.0005,       4433,   151.0,   9.9218,  34.7424,2,  34.7398,2,    264.9,2,   267.9,2,    3.71,2,   11.61,2,    0.87,2,-999.000,9,-999.000,9,-999.000,9,  -999.0,9,  -999.0,9,   9.9045
09AR20041223,       I09S,      22,          1,         18,         18,2,20041231,       1613,   -43.4958,   115.0005,       4433,   200.5,   9.7160,  34.7191,2,  34.7192,2,    264.8,2,   264.5,2,    3.51,2,   12.20,2,    0.89,2,-999.000,9,-999.000,9,-999.000,9,  -999.0,9,  -999.0,9,   9.6932
09AR20041223,       I09S,      22,          1,         17,          6,2,20041231,       1613,   -43.4958,   115.0005,       4433,   300.1,   9.5312,  34.7054,2,  34.7045,2,    264.1,2,   265.6,2,    4.00,2,   12.88,2,    0.94,2,-999.000,9,-999.000,9,-999.000,9,  -999.0,9,  -999.0,9,   9.4973
09AR20041223,       I09S,      22,          1,         16,         16,2,20041231,       1613,   -43.4958,   115.0005,       4433,   400.4,   9.3596,  34.6830,2,  34.6827,2,    257.6,2,   256.7,2,    4.39,2,   14.35,2,    1.00,2,-999.000,9,-999.000,9,-999.000,9,  -999.0,9,  -999.0,9,   9.3147
09AR20041223,       I09S,      22,          1,         15,         15,2,20041231,       1613,   -43.4958,   115.0005,       4433,   498.6,   9.1710,  34.6579,2,  34.6578,2,    253.6,2,   254.0,2,    4.78,2,   15.13,2,    1.05,2,-999.000,9,-999.000,9,-999.000,9,  -999.0,9,  -999.0,9,   9.1155
09AR20041223,       I09S,      22,          1,         14,         14,2,20041231,       1613,   -43.4958,   115.0005,       4433,   652.0,   8.6906,  34.5892,2,  34.5885,2,    242.5,2,   242.3,2,    6.34,2,   17.77,2,    1.20,2,-999.000,9,-999.000,9,-999.000,9,  -999.0,9,  -999.0,9,   8.6198
09AR20041223,       I09S,      22,          1,         13,         13,2,20041231,       1613,   -43.4958,   115.0005,       4433,   802.8,   7.5675,  34.4855,2,  34.4856,2,    214.7,2,   214.2,2,   12.20,2,   22.84,2,    1.52,2,-999.000,9,-999.000,9,-999.000,9,  -999.0,9,  -999.0,9,   7.4863
09AR20041223,       I09S,      22,          1,         12,         12,2,20041231,       1613,   -43.4958,   115.0005,       4433,   951.6,   6.0024,  34.3964,2,  34.3974,2,    201.2,2,   204.2,2,   21.19,2,   27.82,2,    1.81,2,-999.000,9,-999.000,9,-999.000,9,  -999.0,9,  -999.0,9,   5.9164
09AR20041223,       I09S,      22,          1,         11,         11,2,20041231,       1613,   -43.4958,   115.0005,       4433,  1150.5,   4.1943,  34.3313,2,  34.3310,2,    208.3,2,   208.0,2,   33.78,2,   30.75,2,    2.04,2,-999.000,9,-999.000,9,-999.000,9,  -999.0,9,  -999.0,9,   4.1046
09AR20041223,       I09S,      22,          1,         10,         10,2,20041231,       1613,   -43.4958,   115.0005,       4433,  1400.7,   3.1963,  34.4272,2,  34.4276,2,    185.0,2,   184.5,2,   55.65,2,   33.68,2,    2.26,2,-999.000,9,-999.000,9,-999.000,9,  -999.0,9,  -999.0,9,   3.0949
09AR20041223,       I09S,      22,          1,          9,          9,2,20041231,       1613,   -43.4958,   115.0005,       4433,  1600.5,   2.8392,  34.5110,2,  34.5113,2,    174.7,2,   175.6,2,   65.11,2,   33.97,2,    2.29,2,-999.000,9,-999.000,9,-999.000,9,  -999.0,9,  -999.0,9,   2.7250
09AR20041223,       I09S,      22,          1,          8,        108,2,20041231,       1613,   -43.4958,   115.0005,       4433,  1799.9,   2.6462,  34.5941,2,  34.5938,2,    172.8,2,   172.4,2,   72.63,2,   33.48,2,    2.25,2,-999.000,9,-999.000,9,-999.000,9,  -999.0,9,  -999.0,9,   2.5174
09AR20041223,       I09S,      22,          1,          7,        107,2,20041231,       1613,   -43.4958,   115.0005,       4433,  2199.9,   2.3711,  34.7114,2,  34.7109,2,    184.1,2,   184.4,2,   78.48,2,   30.94,2,    2.11,2,-999.000,9,-999.000,9,-999.000,9,  -999.0,9,  -999.0,9,   2.2111
09AR20041223,       I09S,      22,          1,          6,        117,2,20041231,       1613,   -43.4958,   115.0005,       4433,  2600.7,   2.0740,  34.7477,2,-999.0000,9,    192.2,2,  -999.0,9,   87.84,2,   30.35,2,    2.07,2,-999.000,9,-999.000,9,-999.000,9,  -999.0,9,  -999.0,9,   1.8826
09AR20041223,       I09S,      22,          1,          5,        105,2,20041231,       1613,   -43.4958,   115.0005,       4433,  3001.0,   1.6553,  34.7453,2,  34.7453,2,    199.2,2,   198.8,2,   97.60,2,   30.35,2,    2.10,2,-999.000,9,-999.000,9,-999.000,9,  -999.0,9,  -999.0,9,   1.4346
09AR20041223,       I09S,      22,          1,          4,        104,2,20041231,       1613,   -43.4958,   115.0005,       4433,  3401.3,   1.2342,  34.7275,2,  34.7266,2,    204.6,2,   204.0,2,  111.08,2,   31.14,2,    2.16,2,-999.000,9,-999.000,9,-999.000,9,  -999.0,9,  -999.0,9,   0.9843
09AR20041223,       I09S,      22,          1,          3,        103,2,20041231,       1613,   -43.4958,   115.0005,       4433,  3804.9,   0.9721,  34.7139,2,  34.7133,2,    208.9,2,   207.4,2,  119.47,2,   31.62,2,    2.20,2,-999.000,9,-999.000,9,-999.000,9,  -999.0,9,  -999.0,9,   0.6883
09AR20041223,       I09S,      22,          1,          2,        102,2,20041231,       1613,   -43.4958,   115.0005,       4433,  4200.4,   0.8705,  34.7076,2,  34.7066,2,    211.1,2,   210.3,2,  123.96,2,   31.62,2,    2.21,2,-999.000,9,-999.000,9,-999.000,9,  -999.0,9,  -999.0,9,   0.5479
09AR20041223,       I09S,      22,          1,          1,        101,2,20041231,       1613,   -43.4958,   115.0005,       4433,  4449.3,   0.8663,  34.7060,2,  34.7051,2,    211.4,2,   210.3,2,  124.06,2,   31.82,2,    2.24,2,-999.000,9,-999.000,9,-999.000,9,  -999.0,9,  -999.0,9,   0.5165
09AR20041223,       I09S,      23,          1,         24,         24,2,20041231,       2342,   -43.9932,   115.0033,       4299,    22.9,  11.9888,  34.7099,2,  34.7098,2,    271.9,2,   276.5,2,    0.68,2,    7.81,2,    0.63,2,-999.000,5,-999.000,5,-999.000,5,  2076.3,6,  2299.3,6,  11.9858
09AR20041223,       I09S,      23,          1,         23,         23,2,20041231,       2342,   -43.9932,   115.0033,       4299,    48.2,  11.5389,  34.7078,2,-999.0000,9,    273.0,2,  -999.0,9, -999.00,9, -999.00,9, -999.00,9,-999.000,9,-999.000,9,-999.000,9,  -999.0,9,  -999.0,9,  11.5328
09AR20041223,       I09S,      23,          1,         22,         22,2,20041231,       2342,   -43.9932,   115.0033,       4299,    49.7,  11.4939,  34.7078,2,-999.0000,9,    273.0,2,  -999.0,9, -999.00,9, -999.00,9, -999.00,9,-999.000,9,-999.000,9,-999.000,9,  -999.0,9,  -999.0,9,  11.4877
09AR20041223,       I09S,      23,          1,         21,         21,2,20041231,       2342,   -43.9932,   115.0033,       4299,    50.3,  11.4189,  34.7078,2,  34.7125,2,    273.0,2,   273.5,2,    0.98,2,    8.69,2,    0.71,2,   2.844,2,   1.397,4,   0.416,4,  2086.0,2,  2296.2,2,  11.4126
09AR20041223,       I09S,      23,          1,         20,         20,2,20041231,       2342,   -43.9932,   115.0033,       4299,   101.1,   9.9248,  34.7473,2,  34.7475,2,    265.4,2,   262.9,2,    3.32,2,   11.81,2,    0.85,2,   2.932,2,   1.266,4,   0.275,2,  2107.9,2,  2294.5,2,   9.9132
09AR20041223,       I09S,      23,          1,         19,         19,2,20041231,       2342,   -43.9932,   115.0033,       4299,   151.6,   9.7071,  34.7274,2,  34.7272,2,    263.3,2,   262.6,2,    3.71,2,   12.69,2,    0.90,2,   3.077,2,   1.721,2,   0.279,2,  2111.5,2,  2296.0,2,   9.6899
09AR20041223,       I09S,      23,          1,         18,         18,2,20041231,       2342,   -43.9932,   115.0033,       4299,   202.5,   9.5866,  34.7166,2,  34.7168,2,    264.3,2,   263.0,2,    4.00,2,   13.08,2,    0.92,2,   3.221,2,   1.774,2,   0.283,2,  2113.2,2,  2294.7,2,   9.5638
09AR20041223,       I09S,      23,          1,         17,          6,2,20041231,       2342,   -43.9932,   115.0033,       4299,   301.9,   9.4443,  34.7013,2,  34.7015,2,    265.8,2,   266.5,2,    4.29,2,   13.47,2,    0.95,2,   3.204,2,   1.778,2,   0.257,2,  2111.7,2,  2293.6,2,   9.4104
09AR20041223,       I09S,      23,          1,         16,         16,2,20041231,       2342,   -43.9932,   115.0033,       4299,   401.9,   9.4305,  34.7027,2,  34.7029,2,    265.5,2,   267.9,2,    4.39,2,   13.37,2,    0.95,2,   3.202,2,   1.775,2,   0.270,2,  2112.9,2,  2295.6,2,   9.3852
09AR20041223,       I09S,      23,          1,         15,         15,2,20041231,       2342,   -43.9932,   115.0033,       4299,   498.1,   9.0669,  34.6348,2,  34.6348,2,    263.1,2,   264.3,2,    4.98,2,   14.93,2,    1.02,2,   3.188,2,   1.756,2,   0.276,2,  2114.4,2,  2292.9,2,   9.0119
09AR20041223,       I09S,      23,          1,         14,         14,2,20041231,       2342,   -43.9932,   115.0033,       4299,   652.0,   8.3530,  34.5518,2,  34.5521,2,    235.6,2,   231.1,2,    7.91,2,   19.62,2,    1.29,2,   2.961,2,   1.557,2,   0.206,2,  2137.3,2,  2286.8,2,   8.2838
09AR20041223,       I09S,      23,          1,         13,         13,2,20041231,       2342,   -43.9932,   115.0033,       4299,   802.6,   7.2274,  34.4689,2,  34.4697,2,    204.0,2,   206.0,2,   14.45,2,   24.50,2,    1.57,2,   2.092,2,   1.062,2,   0.106,2,  2161.6,2,  2288.0,2,   7.1482
09AR20041223,       I09S,      23,          1,         12,         12,2,20041231,       2342,   -43.9932,   115.0033,       4299,   949.3,   5.6305,  34.3712,2,  34.3717,2,    206.7,2,   208.4,2,   22.55,2,   28.70,2,    1.82,2,   1.990,2,   0.994,2,   0.112,2,  2176.7,2,  2290.8,2,   5.5474
09AR20041223,       I09S,      23,          1,         11,         11,2,20041231,       2342,   -43.9932,   115.0033,       4299,  1101.3,   4.3245,  34.3362,2,  34.3363,2,    206.3,2,   207.4,2,   32.90,2,   31.15,2,    2.01,2,   1.679,2,   0.824,2,   0.097,2,  2193.8,6,  2295.5,6,   4.2379
09AR20041223,       I09S,      23,          1,         10,         10,2,20041231,       2342,   -43.9932,   115.0033,       4299,  1298.0,   3.4403,  34.3852,2,  34.3858,2,    192.5,2,   192.1,2,   48.13,2,   33.10,2,    2.18,2,   1.021,2,   0.495,2,   0.060,2,  2219.6,2,  2310.0,2,   3.3450
09AR20041223,       I09S,      23,          1,          9,          9,2,20041231,       2342,   -43.9932,   115.0033,       4299,  1502.0,   2.9600,  34.4835,2,  34.4838,2,    178.3,2,   176.1,2,   62.97,2,   34.27,2,    2.27,2,   0.393,6,   0.193,6,   0.020,2,  2241.4,2,  2325.3,2,   2.8527
09AR20041223,       I09S,      23,          1,          8,        108,2,20041231,       2342,   -43.9932,   115.0033,       4299,  1702.5,   2.7026,  34.5712,2,  34.5710,2,    170.1,2,   170.0,2,   71.94,2,   34.36,2,    2.26,2,   0.174,2,   0.090,2,   0.015,2,  2252.2,2,  2336.7,2,   2.5814
09AR20041223,       I09S,      23,          1,          7,        107,2,20041231,       2342,   -43.9932,   115.0033,       4299,  2097.1,   2.4271,  34.6935,2,  34.6931,2,    178.7,2,   179.9,2,   79.06,2,   31.82,2,    2.14,2,   0.069,2,   0.045,2,   0.008,2,  2249.7,2,  2343.0,2,   2.2754
09AR20041223,       I09S,      23,          1,          6,        117,2,20041231,       2342,   -43.9932,   115.0033,       4299,  2490.7,   2.1484,  34.7408,2,  34.7407,2,    188.0,2,   186.9,2,   87.16,2,   30.94,2,    2.09,2,   0.004,2,   0.003,2,   0.000,2,  2251.5,2,  2354.0,2,   1.9658
09AR20041223,       I09S,      23,          1,          5,        105,2,20041231,       2342,   -43.9932,   115.0033,       4299,  2897.3,   1.7632,  34.7479,2,  34.7476,2,    196.5,2,   196.3,2,   95.07,2,   31.14,2,    2.07,2,   0.004,2,   0.007,2,   0.022,2,  2253.7,2,  2362.8,2,   1.5501
09AR20041223,       I09S,      23,          1,          4,        104,2,20041231,       2342,   -43.9932,   115.0033,       4299,  3302.1,   1.3250,  34.7317,2,  34.7309,2,    202.7,2,   202.3,2,  108.73,2,   31.23,2,    2.13,2,   0.028,2,   0.017,2,   0.002,2,  2256.9,2,  2359.1,2,   1.0827
09AR20041223,       I09S,      23,          1,          3,        103,2,20041231,       2342,   -43.9932,   115.0033,       4299,  3702.8,   1.0279,  34.7167,2,  34.7164,2,    206.7,2,   207.0,2,  118.69,2,   31.62,2,    2.18,2,   0.102,2,   0.055,2,   0.013,2,  2260.6,2,  2363.8,2,   0.7530
09AR20041223,       I09S,      23,          1,          2,        102,2,20041231,       2342,   -43.9932,   115.0033,       4299,  4102.1,   0.9159,  34.7097,2,  34.7132,2,    208.6,2,   208.8,2,  121.91,2,   31.82,2,    2.18,2,   0.136,6,   0.066,6,   0.004,6,  2259.4,2,  2362.8,2,   0.6024
09AR20041223,       I09S,      23,          1,          1,        101,2,20041231,       2342,   -43.9932,   115.0033,       4299,  4395.6,   0.8816,  34.7069,2,  34.7109,2,    209.1,2,   210.7,2,  123.57,2,   31.92,2,    2.20,2,   0.113,2,   0.061,2,   0.000,2,  2260.1,6,  2368.0,6,   0.5373