BOTTLE,20220105CCHSIOENA
EXPOCODE,SECT_ID,STNNBR,CASTNO,SAMPNO,BTLNBR,BTLNBR_FLAG_W,DATE,TIME,LATITUDE,LONGITUDE,DEPTH,CTDPRS,CTDTMP,CTDSAL,CTDSAL_FLAG_W,SALNTY,SALNTY_FLAG_W,CTDOXY,CTDOXY_FLAG_W,OXYGEN,OXYGEN_FLAG_W,SILCAT,SILCAT_FLAG_W,NITRAT,NITRAT_FLAG_W,PHSPHT,PHSPHT_FLAG_W,CFC-11,CFC-11_FLAG_W,CFC-12,CFC-12_FLAG_W,CFC113,CFC113_FLAG_W,TCARBN,TCARBN_FLAG_W,ALKALI,ALKALI_FLAG_W,THETA
,,,,,,,,,,,METERS,DBAR,ITS-90,PSS-78,,PSS-78,,UMOL/KG,,UMOL/KG,,UMOL/KG,,UMOL/KG,,UMOL/KG,,PMOL/KG,,PMOL/KG,,PMOL/KG,,UMOL/KG,,UMOL/KG,,DEG C
09AR20041223,       I09S,      14,          1,         24,         24,2,20041228,       2251,   -39.1073,   115.0032,       4721,    10.3,  15.2900,  35.0246,2,  35.0248,2,    262.1,2,   260.9,2,    0.78,2,    2.34,2,    0.31,2,-999.000,9,-999.000,9,-999.000,9,  -999.0,9,  -999.0,9,  15.2884
09AR20041223,       I09S,      14,          1,         23,         23,2,20041228,       2251,   -39.1073,   115.0032,       4721,    10.3,  15.2932,  35.0251,2,-999.0000,9,    262.1,2,  -999.0,9, -999.00,9, -999.00,9, -999.00,9,-999.000,9,-999.000,9,-999.000,9,  -999.0,9,  -999.0,9,  15.2916
09AR20041223,       I09S,      14,          1,         22,         22,2,20041228,       2251,   -39.1073,   115.0032,       4721,    10.5,  15.2983,  35.0252,2,-999.0000,9,    262.1,2,  -999.0,9, -999.00,9, -999.00,9, -999.00,9,-999.000,9,-999.000,9,-999.000,9,  -999.0,9,  -999.0,9,  15.2967
09AR20041223,       I09S,      14,          1,         21,         21,2,20041228,       2251,   -39.1073,   115.0032,       4721,    40.2,  14.3177,  35.3425,2,  35.3369,2,    266.1,2,   270.2,2,    0.78,2,    0.59,2,    0.23,2,-999.000,9,-999.000,9,-999.000,9,  -999.0,9,  -999.0,9,  14.3118
09AR20041223,       I09S,      14,          1,         20,         20,2,20041228,       2251,   -39.1073,   115.0032,       4721,    69.4,  13.3585,  35.2858,2,  35.2851,2,    252.0,2,   251.7,2,    1.95,2,    3.61,2,    0.38,2,-999.000,9,-999.000,9,-999.000,9,  -999.0,9,  -999.0,9,  13.3488
09AR20041223,       I09S,      14,          1,         19,         19,2,20041228,       2251,   -39.1073,   115.0032,       4721,   120.1,  12.8430,  35.2497,2,  35.2493,2,    251.7,2,   247.3,2,    2.05,2,    4.98,2,    0.47,2,-999.000,9,-999.000,9,-999.000,9,  -999.0,9,  -999.0,9,  12.8266
09AR20041223,       I09S,      14,          1,         18,         18,2,20041228,       2251,   -39.1073,   115.0032,       4721,   201.0,  11.8474,  35.0906,2,  35.0888,2,    252.8,2,   250.7,2,    2.24,2,    7.03,2,    0.58,2,-999.000,9,-999.000,9,-999.000,9,  -999.0,9,  -999.0,9,  11.8214
09AR20041223,       I09S,      14,          1,         17,        117,2,20041228,       2251,   -39.1073,   115.0032,       4721,   300.5,  10.7346,  34.8971,2,  34.8959,2,    249.7,2,   249.7,2,    2.93,2,   10.25,2,    0.77,2,-999.000,9,-999.000,9,-999.000,9,  -999.0,9,  -999.0,9,  10.6980
09AR20041223,       I09S,      14,          1,         16,         16,2,20041228,       2251,   -39.1073,   115.0032,       4721,   401.0,   9.7432,  34.7397,2,  34.7376,2,    247.7,2,   247.1,2,    4.10,2,   13.66,2,    0.97,2,-999.000,9,-999.000,9,-999.000,9,  -999.0,9,  -999.0,9,   9.6971
09AR20041223,       I09S,      14,          1,         15,         15,2,20041228,       2251,   -39.1073,   115.0032,       4721,   500.3,   9.2861,  34.6726,2,  34.6717,2,    249.8,2,   249.3,2,    4.78,2,   15.23,2,    1.05,2,-999.000,9,-999.000,9,-999.000,9,  -999.0,9,  -999.0,9,   9.2300
09AR20041223,       I09S,      14,          1,         14,         14,2,20041228,       2251,   -39.1073,   115.0032,       4721,   599.7,   8.9879,  34.6302,2,  34.6307,2,    246.2,2,   247.4,2,    5.37,2,   16.30,2,    1.12,2,-999.000,9,-999.000,9,-999.000,9,  -999.0,9,  -999.0,9,   8.9216
09AR20041223,       I09S,      14,          1,         13,         13,2,20041228,       2251,   -39.1073,   115.0032,       4721,   700.6,   8.5451,  34.5775,2,  34.5768,2,    228.3,2,   229.9,2,    7.42,2,   19.23,2,    1.31,2,-999.000,9,-999.000,9,-999.000,9,  -999.0,9,  -999.0,9,   8.4695
09AR20041223,       I09S,      14,          1,         12,         12,2,20041228,       2251,   -39.1073,   115.0032,       4721,   850.7,   6.9778,  34.4646,2,  34.4648,2,    200.3,2,   201.0,2,   16.99,2,   25.28,2,    1.68,2,-999.000,9,-999.000,9,-999.000,9,  -999.0,9,  -999.0,9,   6.8952
09AR20041223,       I09S,      14,          1,         11,         11,2,20041228,       2251,   -39.1073,   115.0032,       4721,  1001.0,   5.0932,  34.3718,2,  34.3721,2,    199.5,2,   201.0,2,   28.51,2,   29.00,2,    1.95,2,-999.000,9,-999.000,9,-999.000,9,  -999.0,9,  -999.0,9,   5.0093
09AR20041223,       I09S,      14,          1,         10,         10,2,20041228,       2251,   -39.1073,   115.0032,       4721,  1251.4,   3.5596,  34.4228,2,  34.4227,2,    185.1,2,   182.2,2,   52.52,2,   33.00,2,    2.25,2,-999.000,9,-999.000,9,-999.000,9,  -999.0,9,  -999.0,9,   3.4669
09AR20041223,       I09S,      14,          1,          9,          9,2,20041228,       2251,   -39.1073,   115.0032,       4721,  1500.3,   3.0348,  34.5183,2,  34.5183,2,    166.8,2,   170.3,3,   68.33,2,   33.97,2,    2.35,2,-999.000,9,-999.000,9,-999.000,9,  -999.0,9,  -999.0,9,   2.9267
09AR20041223,       I09S,      14,          1,          8,          8,2,20041228,       2251,   -39.1073,   115.0032,       4721,  1750.7,   2.7426,  34.6167,2,  34.6160,2,    163.5,2,   163.4,2,   80.04,2,   33.58,2,    2.33,2,-999.000,9,-999.000,9,-999.000,9,  -999.0,9,  -999.0,9,   2.6167
09AR20041223,       I09S,      14,          1,          7,          7,2,20041228,       2251,   -39.1073,   115.0032,       4721,  2000.1,   2.5309,  34.6813,2,  34.6807,2,    167.4,2,   167.0,2,   87.07,2,   32.70,2,    2.28,2,-999.000,9,-999.000,9,-999.000,9,  -999.0,9,  -999.0,9,   2.3862
09AR20041223,       I09S,      14,          1,          6,          6,2,20041228,       2251,   -39.1073,   115.0032,       4721,  2501.8,   2.1323,  34.7319,2,  34.7319,2,    179.0,2,   179.2,2,   95.07,2,   31.72,2,    2.19,2,-999.000,9,-999.000,9,-999.000,9,  -999.0,9,  -999.0,9,   1.9490
09AR20041223,       I09S,      14,          1,          5,          5,2,20041228,       2251,   -39.1073,   115.0032,       4721,  3001.3,   1.7244,  34.7407,2,  34.7404,2,    192.6,2,   192.7,2,   99.95,2,   30.94,2,    2.16,2,-999.000,9,-999.000,9,-999.000,9,  -999.0,9,  -999.0,9,   1.5022
09AR20041223,       I09S,      14,          1,          4,          4,2,20041228,       2251,   -39.1073,   115.0032,       4721,  3500.7,   1.3289,  34.7288,2,  34.7284,2,    199.2,2,   200.1,2,  111.17,2,   31.43,2,    2.18,2,-999.000,9,-999.000,9,-999.000,9,  -999.0,9,  -999.0,9,   1.0667
09AR20041223,       I09S,      14,          1,          3,          3,2,20041228,       2251,   -39.1073,   115.0032,       4721,  4000.1,   0.9735,  34.7131,2,  34.7127,2,    207.9,2,   207.3,2,  119.08,2,   31.72,2,    2.19,2,-999.000,9,-999.000,9,-999.000,9,  -999.0,9,  -999.0,9,   0.6692
09AR20041223,       I09S,      14,          1,          2,          2,2,20041228,       2251,   -39.1073,   115.0032,       4721,  4501.7,   0.8529,  34.7057,2,  34.7051,2,    212.1,2,   211.6,2,  123.28,2,   32.11,2,    2.22,2,-999.000,9,-999.000,9,-999.000,9,  -999.0,9,  -999.0,9,   0.4977
09AR20041223,       I09S,      14,          1,          1,          1,2,20041228,       2251,   -39.1073,   115.0032,       4721,  4860.6,   0.8789,  34.7045,2,  34.7047,2,    214.8,2,   214.8,2,  123.28,2,   31.62,2,    2.23,2,-999.000,9,-999.000,9,-999.000,9,  -999.0,9,  -999.0,9,   0.4819
09AR20041223,       I09S,      15,          1,         24,         24,2,20041229,       0737,   -39.6985,   114.9992,       4743,    10.7,  15.8507,  35.2359,2,  35.2353,2,    259.6,2,   258.6,2,    0.68,2,    0.98,2,    0.25,2,   2.697,2,   1.516,2,   0.427,4,  2062.9,6,  2324.8,6,  15.8490
09AR20041223,       I09S,      15,          1,         23,         23,2,20041229,       0737,   -39.6985,   114.9992,       4743,    10.5,  15.8431,  35.2353,2,-999.0000,9,    259.6,2,  -999.0,9, -999.00,9, -999.00,9, -999.00,9,-999.000,9,-999.000,9,-999.000,9,  -999.0,9,  -999.0,9,  15.8415
09AR20041223,       I09S,      15,          1,         22,         22,2,20041229,       0737,   -39.6985,   114.9992,       4743,    10.8,  15.8415,  35.2352,2,-999.0000,9,    259.6,2,  -999.0,9, -999.00,9, -999.00,9, -999.00,9,-999.000,9,-999.000,9,-999.000,9,  -999.0,9,  -999.0,9,  15.8398
09AR20041223,       I09S,      15,          1,         21,         21,2,20041229,       0737,   -39.6985,   114.9992,       4743,    51.6,  14.3926,  35.4573,2,  35.4569,2,    259.8,2,   263.5,2,    0.88,2,    0.59,2,    0.23,2,   2.783,2,   1.564,2,   0.309,3,  2075.4,2,  2336.0,2,  14.3850
09AR20041223,       I09S,      15,          1,         20,         20,2,20041229,       0737,   -39.6985,   114.9992,       4743,    99.8,  13.4958,  35.3561,2,  35.3504,2,    246.5,2,   246.2,2,    2.05,2,    3.90,2,    0.40,2,   2.912,2,   1.613,2,   0.241,2,  2094.6,2,  2326.4,2,  13.4817
09AR20041223,       I09S,      15,          1,         19,         19,2,20041229,       0737,   -39.6985,   114.9992,       4743,   150.1,  12.1437,  35.1251,2,  35.1246,2,    248.8,2,   249.4,2,    2.15,2,    6.34,2,    0.56,2,   3.108,6,   1.712,2,   0.264,6,  2102.4,2,  2313.6,2,  12.1240
09AR20041223,       I09S,      15,          1,         18,         18,2,20041229,       0737,   -39.6985,   114.9992,       4743,   200.6,  11.8572,  35.1058,2,  35.1063,2,    254.0,2,   254.0,2,    2.34,2,    6.93,2,    0.58,2,   3.166,2,   1.727,2,   0.318,3,  2102.4,2,  2314.6,2,  11.8312
09AR20041223,       I09S,      15,          1,         17,          6,2,20041229,       0737,   -39.6985,   114.9992,       4743,   300.8,  10.8293,  34.9170,2,  34.9194,2,    256.1,2,   256.3,2,    2.93,2,    9.66,2,    0.73,2,   3.336,2,   1.814,2,   0.260,2,  2108.8,2,  2303.5,2,  10.7924
09AR20041223,       I09S,      15,          1,         16,         16,2,20041229,       0737,   -39.6985,   114.9992,       4743,   400.5,   9.7713,  34.7425,2,  34.7429,2,    246.4,2,   247.7,2,    4.20,2,   13.57,2,    0.96,2,   3.513,2,   1.868,2,   0.220,2,  2121.5,2,  2293.5,2,   9.7252
09AR20041223,       I09S,      15,          1,         15,         15,2,20041229,       0737,   -39.6985,   114.9992,       4743,   501.4,   9.2797,  34.6717,2,  34.6717,2,    247.7,2,   248.0,2,    4.78,2,   15.32,2,    1.04,2,   3.524,2,   1.866,2,   0.209,2,  2122.3,2,  2289.0,6,   9.2235
09AR20041223,       I09S,      15,          1,         14,         14,2,20041229,       0737,   -39.6985,   114.9992,       4743,   598.8,   8.9821,  34.6295,2,  34.6289,2,    247.2,2,   245.7,2,    5.37,2,   16.79,2,    1.12,2,   3.517,2,   1.830,2,   0.221,2,  2126.5,2,  2290.9,2,   8.9159
09AR20041223,       I09S,      15,          1,         13,         13,2,20041229,       0737,   -39.6985,   114.9992,       4743,   699.7,   8.4011,  34.5618,2,  34.5619,2,    228.5,2,   228.3,2,    8.00,2,   19.72,2,    1.31,2,-999.000,5,-999.000,5,-999.000,5,  2140.1,2,  2287.7,2,   8.3264
09AR20041223,       I09S,      15,          1,         12,         12,2,20041229,       0737,   -39.6985,   114.9992,       4743,   850.7,   6.8446,  34.4556,2,  34.4560,2,    200.0,2,   199.7,2,   17.57,2,   25.68,2,    1.73,2,   1.831,2,   0.901,2,   0.087,2,  2169.4,2,  2290.7,2,   6.7629
09AR20041223,       I09S,      15,          1,         11,         11,2,20041229,       0737,   -39.6985,   114.9992,       4743,  1000.6,   5.0660,  34.3692,2,  34.3705,2,    197.7,2,   200.1,2,   28.31,2,   29.68,2,    1.94,2,   1.563,2,   0.724,2,   0.085,2,  2188.9,2,  2296.3,6,   4.9823
09AR20041223,       I09S,      15,          1,         10,         10,2,20041229,       0737,   -39.6985,   114.9992,       4743,  1249.6,   3.5830,  34.4118,2,  34.5094,4,    182.9,2,   184.5,2,   50.08,2,   32.71,2,    2.21,2,   0.627,2,   0.311,2,   0.066,2,  2226.2,2,  2317.8,2,   3.4903
09AR20041223,       I09S,      15,          1,          9,          9,2,20041229,       0737,   -39.6985,   114.9992,       4743,  1500.1,   3.0249,  34.5281,2,  34.5279,2,    165.3,2,   164.5,2,   68.82,2,   34.26,2,    2.31,2,   0.165,6,   0.080,6,   0.016,6,  2254.8,2,  2339.6,2,   2.9169
09AR20041223,       I09S,      15,          1,          8,          8,2,20041229,       0737,   -39.6985,   114.9992,       4743,  1751.0,   2.7360,  34.6158,2,  34.6166,2,    162.2,2,   161.3,2,   78.48,2,   33.58,2,    2.31,2,   0.053,2,   0.031,2,   0.011,2,  2262.9,2,  2346.4,2,   2.6101
09AR20041223,       I09S,      15,          1,          7,          7,2,20041229,       0737,   -39.6985,   114.9992,       4743,  2000.2,   2.5359,  34.6799,2,  34.6805,2,    165.9,2,   166.7,2,   85.99,2,   32.89,2,    2.26,2,   0.028,2,   0.016,2,   0.027,2,  2267.4,2,  2355.2,2,   2.3911
09AR20041223,       I09S,      15,          1,          6,        117,2,20041229,       0737,   -39.6985,   114.9992,       4743,  2502.5,   2.1342,  34.7349,2,  34.7357,2,    181.0,2,   182.1,2,   91.75,2,   31.33,2,    2.16,2,   0.004,2,   0.007,2,   0.007,2,  2263.1,2,  2363.0,2,   1.9508
09AR20041223,       I09S,      15,          1,          5,          5,2,20041229,       0737,   -39.6985,   114.9992,       4743,  2999.7,   1.7202,  34.7411,2,  34.7414,2,    192.8,2,   192.3,2,   99.75,2,   31.23,2,    2.13,2,   0.013,2,   0.009,2,   0.003,2,  2262.6,2,  2364.1,2,   1.4982
09AR20041223,       I09S,      15,          1,          4,          4,2,20041229,       0737,   -39.6985,   114.9992,       4743,  3501.8,   1.3007,  34.7290,2,  34.7290,2,    202.1,2,   201.5,2,  109.32,2,   30.94,2,    2.13,2,   0.038,2,   0.013,2,   0.007,2,  2261.9,2,  2364.9,2,   1.0391
09AR20041223,       I09S,      15,          1,          3,          3,2,20041229,       0737,   -39.6985,   114.9992,       4743,  4001.1,   0.8971,  34.7100,2,  34.7098,2,    210.1,2,   210.1,2,  119.96,2,   31.43,2,    2.18,2,   0.109,2,   0.056,2,   0.012,2,  2264.1,2,  2364.3,2,   0.5949
09AR20041223,       I09S,      15,          1,          2,          2,2,20041229,       0737,   -39.6985,   114.9992,       4743,  4502.2,   0.8390,  34.7048,2,  34.7054,2,    210.8,2,   209.8,2,  123.38,2,   31.72,2,    2.19,2,   0.137,6,   0.064,6,   0.014,6,  2266.5,2,  2368.6,3,   0.4842
09AR20041223,       I09S,      15,          1,          1,          1,2,20041229,       0737,   -39.6985,   114.9992,       4743,  4810.3,   0.8555,  34.7035,2,  34.7041,2,    211.4,2,   211.2,2,  123.86,2,   31.72,2,    2.20,2,   0.170,2,   0.078,2,   0.007,2,  2266.5,6,  2364.8,6,   0.4651