BOTTLE,20220105CCHSIOENA
EXPOCODE,SECT_ID,STNNBR,CASTNO,SAMPNO,BTLNBR,BTLNBR_FLAG_W,DATE,TIME,LATITUDE,LONGITUDE,DEPTH,CTDPRS,CTDTMP,CTDSAL,CTDSAL_FLAG_W,SALNTY,SALNTY_FLAG_W,CTDOXY,CTDOXY_FLAG_W,OXYGEN,OXYGEN_FLAG_W,SILCAT,SILCAT_FLAG_W,NITRAT,NITRAT_FLAG_W,PHSPHT,PHSPHT_FLAG_W,CFC-11,CFC-11_FLAG_W,CFC-12,CFC-12_FLAG_W,CFC113,CFC113_FLAG_W,TCARBN,TCARBN_FLAG_W,ALKALI,ALKALI_FLAG_W,THETA
,,,,,,,,,,,METERS,DBAR,ITS-90,PSS-78,,PSS-78,,UMOL/KG,,UMOL/KG,,UMOL/KG,,UMOL/KG,,UMOL/KG,,PMOL/KG,,PMOL/KG,,PMOL/KG,,UMOL/KG,,UMOL/KG,,DEG C
09AR20041223,       I09S,      54,          1,         24,         24,2,20050112,       0718,   -61.0092,   115.0183,       4385,    11.8,   1.7407,  33.8205,2,  33.8222,2,    342.3,2,   341.6,2,   29.40,2,   25.30,2,    1.61,2,-999.000,9,-999.000,9,-999.000,9,  -999.0,9,  -999.0,9,   1.7401
09AR20041223,       I09S,      54,          1,         23,         23,2,20050112,       0718,   -61.0092,   115.0183,       4385,    56.4,   0.9428,  33.8434,2,  33.8429,2,    345.0,2,   348.5,2,   30.86,2,   25.78,2,    1.69,2,-999.000,9,-999.000,9,-999.000,9,  -999.0,9,  -999.0,9,   0.9404
09AR20041223,       I09S,      54,          1,         22,         22,2,20050112,       0718,   -61.0092,   115.0183,       4385,    80.3,  -0.6830,  33.9383,2,  33.9338,2,    349.8,2,   350.5,2,   39.26,2,   27.25,2,    1.89,2,-999.000,9,-999.000,9,-999.000,9,  -999.0,9,  -999.0,9,  -0.6853
09AR20041223,       I09S,      54,          1,         21,         21,2,20050112,       0718,   -61.0092,   115.0183,       4385,   119.1,  -0.6645,  34.0529,2,  34.0485,2,    324.1,2,   325.0,2,   44.63,2,   29.20,2,    2.02,2,-999.000,9,-999.000,9,-999.000,9,  -999.0,9,  -999.0,9,  -0.6680
09AR20041223,       I09S,      54,          1,         20,         20,2,20050112,       0718,   -61.0092,   115.0183,       4385,   181.4,   1.3487,  34.3895,2,  34.3882,2,    212.0,2,   212.4,2,   66.09,2,   33.19,2,    2.28,2,-999.000,9,-999.000,9,-999.000,9,  -999.0,9,  -999.0,9,   1.3401
09AR20041223,       I09S,      54,          1,         19,         19,2,20050112,       0718,   -61.0092,   115.0183,       4385,   254.0,   1.8044,  34.5192,2,  34.5173,2,    182.9,2,   185.0,2,   74.39,2,   33.78,2,    2.32,2,-999.000,9,-999.000,9,-999.000,9,  -999.0,9,  -999.0,9,   1.7911
09AR20041223,       I09S,      54,          1,         18,         18,2,20050112,       0718,   -61.0092,   115.0183,       4385,   301.4,   1.9827,  34.5824,2,  34.5815,2,    179.0,2,   177.3,2,   77.70,2,   33.29,2,    2.29,2,-999.000,9,-999.000,9,-999.000,9,  -999.0,9,  -999.0,9,   1.9664
09AR20041223,       I09S,      54,          1,         17,          6,2,20050112,       0718,   -61.0092,   115.0183,       4385,   402.5,   1.9084,  34.6386,2,  34.6372,2,    178.9,2,   178.9,2,   81.21,2,   32.50,2,    2.25,2,-999.000,9,-999.000,9,-999.000,9,  -999.0,9,  -999.0,9,   1.8864
09AR20041223,       I09S,      54,          1,         16,         16,2,20050112,       0718,   -61.0092,   115.0183,       4385,   502.4,   1.9550,  34.6836,2,  34.6809,2,    180.7,2,   181.8,2,   82.67,2,   31.72,2,    2.19,2,-999.000,9,-999.000,9,-999.000,9,  -999.0,9,  -999.0,9,   1.9269
09AR20041223,       I09S,      54,          1,         15,         15,2,20050112,       0718,   -61.0092,   115.0183,       4385,   649.0,   1.9353,  34.7143,2,  34.7139,2,    185.7,2,   186.3,2,   84.33,2,   30.94,2,    2.13,2,-999.000,9,-999.000,9,-999.000,9,  -999.0,9,  -999.0,9,   1.8983
09AR20041223,       I09S,      54,          1,         14,         14,2,20050112,       0718,   -61.0092,   115.0183,       4385,   799.4,   1.8578,  34.7300,2,  34.7296,2,    190.3,2,   190.3,2,   86.48,2,   30.55,2,    2.10,2,-999.000,9,-999.000,9,-999.000,9,  -999.0,9,  -999.0,9,   1.8117
09AR20041223,       I09S,      54,          1,         13,         13,2,20050112,       0718,   -61.0092,   115.0183,       4385,  1000.4,   1.7024,  34.7420,2,  34.7404,2,    195.4,2,   196.5,2,   90.87,2,   30.06,2,    2.08,2,-999.000,9,-999.000,9,-999.000,9,  -999.0,9,  -999.0,9,   1.6443
09AR20041223,       I09S,      54,          1,         12,         12,2,20050112,       0718,   -61.0092,   115.0183,       4385,  1199.4,   1.5143,  34.7414,2,  34.7400,2,    199.3,2,   198.9,2,   95.26,2,   29.87,2,    2.08,2,-999.000,9,-999.000,9,-999.000,9,  -999.0,9,  -999.0,9,   1.4445
09AR20041223,       I09S,      54,          1,         11,         11,2,20050112,       0718,   -61.0092,   115.0183,       4385,  1502.3,   1.2495,  34.7328,2,  34.7310,2,    203.1,2,   202.8,2,  103.36,2,   30.26,2,    2.12,2,-999.000,9,-999.000,9,-999.000,9,  -999.0,9,  -999.0,9,   1.1614
09AR20041223,       I09S,      54,          1,         10,         10,2,20050112,       0718,   -61.0092,   115.0183,       4385,  1801.5,   1.0196,  34.7218,2,  34.7192,2,    205.9,2,   206.0,2,  110.10,2,   30.84,2,    2.16,2,-999.000,9,-999.000,9,-999.000,9,  -999.0,9,  -999.0,9,   0.9129
09AR20041223,       I09S,      54,          1,          9,          9,2,20050112,       0718,   -61.0092,   115.0183,       4385,  2101.7,   0.7878,  34.7096,2,  34.7084,2,    208.9,2,   208.5,2,  116.74,2,   31.23,2,    2.19,2,-999.000,9,-999.000,9,-999.000,9,  -999.0,9,  -999.0,9,   0.6619
09AR20041223,       I09S,      54,          1,          8,        208,2,20050112,       0718,   -61.0092,   115.0183,       4385,  2400.7,   0.5755,  34.6986,2,  34.6931,2,    212.2,2,   213.1,2,  121.72,2,   31.43,2,    2.21,2,-999.000,9,-999.000,9,-999.000,9,  -999.0,9,  -999.0,9,   0.4298
09AR20041223,       I09S,      54,          1,          7,        107,2,20050112,       0718,   -61.0092,   115.0183,       4385,  2798.6,   0.3424,  34.6875,2,  34.6860,2,    218.0,2,   218.6,2,  125.72,2,   31.72,2,    2.24,2,-999.000,9,-999.000,9,-999.000,9,  -999.0,9,  -999.0,9,   0.1686
09AR20041223,       I09S,      54,          1,          6,        117,2,20050112,       0718,   -61.0092,   115.0183,       4385,  3199.0,   0.1911,  34.6827,2,  34.6799,2,    222.9,2,   223.4,2,  129.82,2,   31.72,2,    2.24,2,-999.000,9,-999.000,9,-999.000,9,  -999.0,9,  -999.0,9,  -0.0142
09AR20041223,       I09S,      54,          1,          5,        105,2,20050112,       0718,   -61.0092,   115.0183,       4385,  3600.3,   0.0862,  34.6787,2,  34.6752,2,    227.2,2,   227.4,2,  131.28,2,   31.63,2,    2.23,2,-999.000,9,-999.000,9,-999.000,9,  -999.0,9,  -999.0,9,  -0.1534
09AR20041223,       I09S,      54,          1,          4,        104,2,20050112,       0718,   -61.0092,   115.0183,       4385,  3899.1,   0.0159,  34.6746,2,  34.6721,2,    230.6,2,   230.1,2,  131.29,2,   31.63,2,    2.23,2,-999.000,9,-999.000,9,-999.000,9,  -999.0,9,  -999.0,9,  -0.2507
09AR20041223,       I09S,      54,          1,          3,        103,2,20050112,       0718,   -61.0092,   115.0183,       4385,  4199.3,  -0.0321,  34.6708,2,  34.6680,2,    233.1,2,   233.0,2,  132.07,2,   31.63,2,    2.23,2,-999.000,9,-999.000,9,-999.000,9,  -999.0,9,  -999.0,9,  -0.3275
09AR20041223,       I09S,      54,          1,          2,        102,2,20050112,       0718,   -61.0092,   115.0183,       4385,  4400.8,  -0.0795,  34.6658,2,  34.6638,2,    235.2,2,   235.8,2,  134.51,2,   31.63,2,    2.23,2,-999.000,9,-999.000,9,-999.000,9,  -999.0,9,  -999.0,9,  -0.3943
09AR20041223,       I09S,      54,          1,          1,        101,2,20050112,       0718,   -61.0092,   115.0183,       4385,  4452.0,  -0.1117,  34.6621,2,  34.6601,2,    236.3,2,   236.6,2,  134.22,2,   31.72,2,    2.23,2,-999.000,9,-999.000,9,-999.000,9,  -999.0,9,  -999.0,9,  -0.4309
09AR20041223,       I09S,      55,          1,         24,         24,2,20050112,       1426,   -61.5018,   115.0145,       4315,    11.7,   1.3297,  33.8455,2,  33.8468,2,    341.4,2,   340.5,2,   32.03,2,   26.76,2,    1.71,2,   5.510,2,   2.864,2,   0.497,2,  2152.6,6,  2286.4,6,   1.3292
09AR20041223,       I09S,      55,          1,         23,         23,2,20050112,       1426,   -61.5018,   115.0145,       4315,    50.9,   0.6448,  33.8770,2,  33.8777,2,    345.3,2,   348.0,2,   34.18,2,   27.05,2,    1.74,2,   5.765,2,   2.940,2,   0.529,2,  2157.8,2,  2287.3,2,   0.6428
09AR20041223,       I09S,      55,          1,         22,         22,2,20050112,       1426,   -61.5018,   115.0145,       4315,   102.0,  -1.0518,  34.0336,2,  34.0330,2,    333.1,2,   333.7,2,   46.68,2,   29.98,2,    2.02,2,   5.453,2,   2.809,2,   0.500,2,  2182.6,2,  2296.1,2,  -1.0544
09AR20041223,       I09S,      55,          1,         21,         21,2,20050112,       1426,   -61.5018,   115.0145,       4315,   150.8,  -0.2951,  34.2248,2,  34.2236,2,    273.8,2,   274.7,2,   58.58,2,   32.42,2,    2.26,2,   3.978,2,   2.039,2,   0.344,2,  2210.9,2,  2306.1,2,  -0.3001
09AR20041223,       I09S,      55,          1,         20,         20,2,20050112,       1426,   -61.5018,   115.0145,       4315,   201.2,   1.3125,  34.4685,2,  34.4677,2,    208.3,2,   201.9,2,   72.53,2,   34.56,2,    2.31,2,   1.731,2,   0.876,2,   0.160,2,  2239.1,2,  2328.2,2,   1.3029
09AR20041223,       I09S,      55,          1,         19,         19,2,20050112,       1426,   -61.5018,   115.0145,       4315,   251.7,   1.7970,  34.5796,2,  34.5791,2,    185.7,2,   182.7,2,   78.58,2,   34.17,2,    2.30,2,   0.906,6,   0.456,6,   0.087,6,  2255.5,2,  2332.0,2,   1.7838
09AR20041223,       I09S,      55,          1,         18,         18,2,20050112,       1426,   -61.5018,   115.0145,       4315,   303.3,   1.8334,  34.6225,2,  34.6213,2,    179.6,2,   181.1,2,   81.21,2,   32.31,2,    2.27,2,   0.693,2,   0.348,2,   0.056,2,  2254.1,2,  2338.5,2,   1.8173
09AR20041223,       I09S,      55,          1,         17,          6,2,20050112,       1426,   -61.5018,   115.0145,       4315,   403.2,   1.8249,  34.6693,2,  34.6692,2,    180.4,2,   183.5,2,   83.65,2,   33.38,2,    2.22,2,   0.527,2,   0.260,2,   0.048,2,  2251.4,2,  2339.4,2,   1.8031
09AR20041223,       I09S,      55,          1,         16,         16,2,20050112,       1426,   -61.5018,   115.0145,       4315,   501.7,   1.8638,  34.7025,2,  34.7031,2,    184.0,2,   186.1,2,   85.02,2,   32.60,2,    2.17,2,   0.352,2,   0.168,2,   0.027,2,  2247.4,2,  2341.4,2,   1.8361
09AR20041223,       I09S,      55,          1,         15,         15,2,20050112,       1426,   -61.5018,   115.0145,       4315,   651.7,   1.8353,  34.7277,2,  34.7288,2,    188.7,2,   190.8,2,   86.87,2,   31.72,2,    2.13,2,   0.240,2,   0.108,2,   0.024,2,  2247.1,2,  2347.2,2,   1.7987
09AR20041223,       I09S,      55,          1,         14,         14,2,20050112,       1426,   -61.5018,   115.0145,       4315,   799.8,   1.7228,  34.7381,2,  34.7386,2,    192.8,2,   194.1,2,   89.60,2,   31.04,2,    2.11,2,   0.189,2,   0.083,2,   0.020,2,  2248.1,2,  2348.6,2,   1.6775
09AR20041223,       I09S,      55,          1,         13,         13,2,20050112,       1426,   -61.5018,   115.0145,       4315,  1002.6,   1.5568,  34.7411,2,  34.7418,2,    198.0,2,   198.0,2,   94.19,2,   30.65,2,    2.11,2,   0.177,2,   0.083,2,   0.036,3,  2246.1,2,  2353.0,2,   1.4997
09AR20041223,       I09S,      55,          1,         12,         12,2,20050112,       1426,   -61.5018,   115.0145,       4315,  1201.3,   1.3811,  34.7370,2,  34.7380,2,    200.7,2,  -999.0,9,   98.39,2,   30.94,2,    2.12,2,   0.246,3,   0.073,2,   0.021,2,  2249.0,6,  2350.4,4,   1.3124
09AR20041223,       I09S,      55,          1,         11,         11,2,20050112,       1426,   -61.5018,   115.0145,       4315,  1500.6,   1.1438,  34.7284,2,  34.7288,2,    203.9,2,   204.1,2,  106.39,2,   31.33,2,    2.15,2,   0.124,2,   0.058,2,   0.006,2,  2253.0,2,  2357.4,2,   1.0571
09AR20041223,       I09S,      55,          1,         10,         10,2,20050112,       1426,   -61.5018,   115.0145,       4315,  1801.3,   0.9077,  34.7159,2,  34.7164,2,    206.9,2,   206.7,2,  113.22,2,   31.53,2,    2.18,2,   0.136,2,   0.062,2,   0.032,3,  2251.8,2,  2357.2,2,   0.8025
09AR20041223,       I09S,      55,          1,          9,          9,2,20050112,       1426,   -61.5018,   115.0145,       4315,  2100.5,   0.6942,  34.7047,2,  34.7045,2,    209.8,2,   209.4,2,  118.98,2,   31.92,2,    2.22,2,   0.160,6,   0.077,6,   0.006,6,  2257.7,2,  2356.2,2,   0.5699
09AR20041223,       I09S,      55,          1,          8,        208,2,20050112,       1426,   -61.5018,   115.0145,       4315,  2401.2,   0.4853,  34.6940,2,  34.6933,2,    213.6,2,   213.6,2,  123.38,2,   32.41,2,    2.23,2,   0.230,2,   0.107,2,   0.034,3,  2259.9,2,  2367.5,3,   0.3413
09AR20041223,       I09S,      55,          1,          7,        107,2,20050112,       1426,   -61.5018,   115.0145,       4315,  2701.1,   0.3234,  34.6876,2,  34.6874,2,    218.1,2,   218.7,2,  126.50,2,   32.31,2,    2.24,2,   0.321,2,   0.155,2,   0.009,2,  2256.4,2,  2358.8,2,   0.1581
09AR20041223,       I09S,      55,          1,          6,        117,2,20050112,       1426,   -61.5018,   115.0145,       4315,  3001.5,   0.2019,  34.6829,2,  34.6831,2,    222.1,2,   222.4,2,  128.84,2,   32.11,2,    2.24,2,   0.438,2,   0.213,2,   0.020,2,  2257.8,2,  2356.1,2,   0.0138
09AR20041223,       I09S,      55,          1,          5,        105,2,20050112,       1426,   -61.5018,   115.0145,       4315,  3301.4,   0.1006,  34.6789,2,  34.6788,2,    225.8,2,   225.6,2,  129.53,2,   32.41,2,    2.25,2,   0.598,2,   0.287,2,   0.031,2,  2253.5,2,  2358.0,2,  -0.1117
09AR20041223,       I09S,      55,          1,          4,        104,2,20050112,       1426,   -61.5018,   115.0145,       4315,  3601.6,   0.0208,  34.6749,2,  34.6898,2,    229.5,2,   229.5,2,  129.33,2,   32.31,2,    2.24,2,   0.825,2,   0.391,2,   0.049,2,  2252.0,2,  2357.8,2,  -0.2173
09AR20041223,       I09S,      55,          1,          3,        103,2,20050112,       1426,   -61.5018,   115.0145,       4315,  3902.0,  -0.0339,  34.6714,2,  34.6707,2,    232.6,2,   232.5,2,  128.94,2,   32.21,2,    2.23,2,   1.070,2,   0.491,2,   0.117,2,  2255.4,2,  2358.0,2,  -0.2994
09AR20041223,       I09S,      55,          1,          2,        102,2,20050112,       1426,   -61.5018,   115.0145,       4315,  4203.6,  -0.0742,  34.6670,2,  34.6668,2,    235.3,2,   235.1,2,  128.16,2,   32.31,2,    2.23,2,   1.337,2,   0.624,2,   0.124,2,  2252.4,2,  2355.7,2,  -0.3687
09AR20041223,       I09S,      55,          1,          1,        101,2,20050112,       1426,   -61.5018,   115.0145,       4315,  4400.9,  -0.2009,  34.6541,2,  34.6540,2,    240.9,2,   241.8,2,  122.40,2,   32.11,2,    2.21,2,   1.984,2,   0.967,2,   0.161,2,  2253.3,2,  2350.7,6,  -0.5119