BOTTLE,20211216CCHDHYDRO
EXPOCODE,SECT_ID,STNNBR,CASTNO,SAMPNO,BTLNBR,BTLNBR_FLAG_W,DATE,TIME,LATITUDE,LONGITUDE,DEPTH,CTDPRS,CTDTMP,CTDSAL,CTDSAL_FLAG_W,SALNTY,SALNTY_FLAG_W,CTDOXY,CTDOXY_FLAG_W,OXYGEN,OXYGEN_FLAG_W,SILCAT,SILCAT_FLAG_W,NITRAT,NITRAT_FLAG_W,PHSPHT,PHSPHT_FLAG_W,CFC-11,CFC-11_FLAG_W,CFC-12,CFC-12_FLAG_W,TCARBN,TCARBN_FLAG_W,ALKALI,ALKALI_FLAG_W,TRITUM,TRITUM_FLAG_W,HELIUM,HELIUM_FLAG_W,DELHE3,DELHE3_FLAG_W,NEON,NEON_FLAG_W,THETA
,,,,,,,,,,,METERS,DBAR,DEG C,PSS-78,,PSS-78,,UMOL/KG,,UMOL/KG,,UMOL/KG,,UMOL/KG,,UMOL/KG,,PMOL/KG,,PMOL/KG,,UMOL/KG,,UMOL/KG,,TU,,NMOL/KG,,PERCNT,,NMOL/KG,,DEG C
35A3CITHER3_2 ,A13        ,132     ,  1,1          ,32         ,2,19950227,2055, -38.5033,  10.0083,     5070,      4.7,  16.6630,  34.7990,2,  34.8000,2,    263.1,2,    252.5,3,     0.00,2,     0.00,2,     0.00,2,    2.840,2,    1.404,2,     -999,9,     -999,9,     -999,9,     -999,9,     -999,9,     -999,9,  16.6620
35A3CITHER3_2 ,A13        ,132     ,  1,2          ,31         ,2,19950227,2055, -38.5033,  10.0083,     5070,     46.2,  15.5820,  34.9000,2,  34.8990,2,    270.2,2,    254.8,3,     1.40,2,     0.80,2,     0.24,2,    2.968,2,    1.445,2,     -999,9,     -999,9,     -999,9,     -999,9,     -999,9,     -999,9,  15.5750
35A3CITHER3_2 ,A13        ,132     ,  1,3          ,30         ,2,19950227,2055, -38.5033,  10.0083,     5070,    119.5,  12.5130,  34.8400,2,  34.8400,2,    245.9,2,    245.9,2,     2.20,2,     5.30,2,     0.50,2,    3.336,2,    1.615,2,     -999,9,     -999,9,     -999,9,     -999,9,     -999,9,     -999,9,  12.4970
35A3CITHER3_2 ,A13        ,132     ,  1,4          ,29         ,2,19950227,2055, -38.5033,  10.0083,     5070,    195.7,  11.1580,  34.7980,2,  34.8200,3,    243.9,2,    236.6,3,     3.20,2,    10.60,2,     0.76,2,    3.270,2,    1.551,2,     -999,9,     -999,9,     -999,9,     -999,9,     -999,9,     -999,9,  11.1340
35A3CITHER3_2 ,A13        ,132     ,  1,5          ,28         ,2,19950227,2055, -38.5033,  10.0083,     5070,    394.6,   9.0560,  34.6630,2,  34.6630,2,    219.7,2,    216.7,2,     7.50,2,    18.20,2,     1.21,2,    2.711,2,    1.251,2,     -999,9,     -999,9,     -999,9,     -999,9,     -999,9,     -999,9,   9.0130
35A3CITHER3_2 ,A13        ,132     ,  1,6          ,27         ,2,19950227,2055, -38.5033,  10.0083,     5070,    595.5,   6.1780,  34.3920,2,  34.3930,2,    219.2,2,    219.6,2,    14.60,2,    25.20,2,     1.67,2,    2.273,2,    1.036,2,     -999,9,     -999,9,     -999,9,     -999,9,     -999,9,     -999,9,   6.1250
35A3CITHER3_2 ,A13        ,132     ,  1,7          ,26         ,2,19950227,2055, -38.5033,  10.0083,     5070,    794.0,   4.1750,  34.2550,2,  34.2550,2,    238.2,2,    239.0,2,    21.30,2,    28.60,2,     1.85,2,    2.302,2,    1.028,2,     -999,9,     -999,9,     -999,9,     -999,9,     -999,9,     -999,9,   4.1150
35A3CITHER3_2 ,A13        ,132     ,  1,8          ,25         ,2,19950227,2055, -38.5033,  10.0083,     5070,    895.0,   3.8470,  34.2870,2,  34.2870,2,    231.6,2,    227.7,3,    28.00,2,    29.30,2,     1.96,2,    1.838,2,    0.819,2,     -999,9,     -999,9,     -999,9,     -999,9,     -999,9,     -999,9,   3.7810
35A3CITHER3_2 ,A13        ,132     ,  1,9          ,24         ,2,19950227,2055, -38.5033,  10.0083,     5070,    993.4,   3.5900,  34.3330,2,  34.3280,3,    215.2,2,    214.2,2,    35.40,2,    31.40,2,     2.07,2,    1.343,2,    0.606,2,     -999,9,     -999,9,     -999,9,     -999,9,     -999,9,     -999,9,   3.5180
35A3CITHER3_2 ,A13        ,132     ,  1,10         ,23         ,2,19950227,2055, -38.5033,  10.0083,     5070,   1192.8,   3.0800,  34.4200,2,  34.4190,2,    194.1,2,    195.5,2,    50.00,2,    32.70,2,     2.18,2,    0.673,2,    0.314,2,     -999,9,     -999,9,     -999,9,     -999,9,     -999,9,     -999,9,   2.9970
35A3CITHER3_2 ,A13        ,132     ,  1,11         ,22         ,2,19950227,2055, -38.5033,  10.0083,     5070,   1392.8,   2.8860,  34.5420,2,  34.5440,2,    180.0,2,    179.5,2,    61.00,2,    33.00,2,     2.22,2,    0.232,2,    0.118,2,     -999,9,     -999,9,     -999,9,     -999,9,     -999,9,     -999,9,   2.7880
35A3CITHER3_2 ,A13        ,132     ,  1,12         ,21         ,2,19950227,2055, -38.5033,  10.0083,     5070,   1594.4,   2.7600,  34.6390,2,  34.6370,2,    180.0,2,    181.3,2,    63.50,2,    31.70,2,     2.11,2,    0.092,2,    0.046,2,     -999,9,     -999,9,     -999,9,     -999,9,     -999,9,     -999,9,   2.6470
35A3CITHER3_2 ,A13        ,132     ,  1,13         ,20         ,2,19950227,2055, -38.5033,  10.0083,     5070,   1793.8,   2.7280,  34.7180,2,  34.7190,2,    187.2,2,    189.9,2,    61.60,2,    30.10,2,     1.97,2,    0.045,2,    0.023,2,     -999,9,     -999,9,     -999,9,     -999,9,     -999,9,     -999,9,   2.5980
35A3CITHER3_2 ,A13        ,132     ,  1,14         ,19         ,2,19950227,2055, -38.5033,  10.0083,     5070,   1995.9,   2.6750,  34.7790,2,  34.7800,2,    199.8,2,    202.5,2,    57.20,2,    27.50,2,     1.83,2,    0.022,2,    0.015,2,     -999,9,     -999,9,     -999,9,     -999,9,     -999,9,     -999,9,   2.5280
35A3CITHER3_2 ,A13        ,132     ,  1,15         ,18         ,2,19950227,2055, -38.5033,  10.0083,     5070,   1996.4,   2.6750,  34.7790,2,  34.7790,2,    199.8,2,    202.7,2,    57.40,2,    27.60,2,     1.83,2,    0.020,2,    0.013,2,     -999,9,     -999,9,     -999,9,     -999,9,     -999,9,     -999,9,   2.5280
35A3CITHER3_2 ,A13        ,132     ,  1,16         ,17         ,2,19950227,2055, -38.5033,  10.0083,     5070,   2194.3,   2.6340,  34.8130,2,  34.8120,2,    210.6,2,    212.0,2,    54.70,2,    26.30,2,     1.73,2,    0.008,2,    0.011,2,     -999,9,     -999,9,     -999,9,     -999,9,     -999,9,     -999,9,   2.4700
35A3CITHER3_2 ,A13        ,132     ,  1,17         ,16         ,2,19950227,2055, -38.5033,  10.0083,     5070,   2395.5,   2.5470,  34.8290,2,  34.8310,2,    217.2,2,    218.5,2,    53.90,2,    25.50,2,     1.68,2,    0.004,2,    0.007,2,     -999,9,     -999,9,     -999,9,     -999,9,     -999,9,     -999,9,   2.3660
35A3CITHER3_2 ,A13        ,132     ,  1,18         ,15         ,2,19950227,2055, -38.5033,  10.0083,     5070,   2595.6,   2.4600,  34.8370,2,  34.8380,2,    221.7,2,    222.7,2,    54.50,2,    25.30,2,     1.64,2,    0.011,2,     -999,9,     -999,9,     -999,9,     -999,9,     -999,9,     -999,9,     -999,9,   2.2610
35A3CITHER3_2 ,A13        ,132     ,  1,19         ,14         ,2,19950227,2055, -38.5033,  10.0083,     5070,   2795.6,   2.3770,  34.8420,2,  34.8410,2,    224.5,2,    224.9,2,    56.00,2,    25.00,2,     1.62,2,    0.001,2,    0.006,2,     -999,9,     -999,9,     -999,9,     -999,9,     -999,9,     -999,9,   2.1610
35A3CITHER3_2 ,A13        ,132     ,  1,20         ,13         ,2,19950227,2055, -38.5033,  10.0083,     5070,   2995.2,   2.2940,  34.8430,2,  34.8430,2,    226.9,2,    226.8,2,    57.80,2,    25.00,2,     1.63,2,    0.004,2,    0.009,2,     -999,9,     -999,9,     -999,9,     -999,9,     -999,9,     -999,9,   2.0590
35A3CITHER3_2 ,A13        ,132     ,  1,21         ,12         ,2,19950227,2055, -38.5033,  10.0083,     5070,   3196.4,   2.1910,  34.8400,2,  34.8400,2,    227.1,2,    227.1,2,    61.80,2,    25.50,2,     1.65,2,    0.005,2,    0.006,2,     -999,9,     -999,9,     -999,9,     -999,9,     -999,9,     -999,9,   1.9380
35A3CITHER3_2 ,A13        ,132     ,  1,22         ,11         ,2,19950227,2055, -38.5033,  10.0083,     5070,   3394.7,   2.0490,  34.8290,2,  34.8290,2,    226.5,2,    226.3,2,    66.90,2,    25.80,2,     1.69,2,    0.005,2,    0.010,2,     -999,9,     -999,9,     -999,9,     -999,9,     -999,9,     -999,9,   1.7790
35A3CITHER3_2 ,A13        ,132     ,  1,23         ,10         ,2,19950227,2055, -38.5033,  10.0083,     5070,   3595.3,   1.8280,  34.8080,2,  34.8080,2,    223.4,2,    223.3,2,    75.20,2,    26.70,2,     1.76,2,    0.007,2,    0.011,2,     -999,9,     -999,9,     -999,9,     -999,9,     -999,9,     -999,9,   1.5430
35A3CITHER3_2 ,A13        ,132     ,  1,24         ,9          ,2,19950227,2055, -38.5033,  10.0083,     5070,   3795.7,   1.5110,  34.7780,2,  34.7800,2,    220.8,2,    220.9,2,    87.10,2,    28.10,2,     1.86,2,    0.003,2,    0.007,2,     -999,9,     -999,9,     -999,9,     -999,9,     -999,9,     -999,9,   1.2130
35A3CITHER3_2 ,A13        ,132     ,  1,25         ,8          ,2,19950227,2055, -38.5033,  10.0083,     5070,   3996.0,   1.2820,  34.7580,2,  34.7580,2,    218.3,2,    219.0,2,    95.80,2,    29.00,2,     1.93,2,    0.007,2,    0.008,2,     -999,9,     -999,9,     -999,9,     -999,9,     -999,9,     -999,9,   0.9690
35A3CITHER3_2 ,A13        ,132     ,  1,26         ,7          ,2,19950227,2055, -38.5033,  10.0083,     5070,   4196.0,   1.1540,  34.7460,2,  34.7430,2,    217.9,2,    218.6,2,   101.40,2,    29.60,2,     1.97,2,    0.012,2,    0.012,2,     -999,9,     -999,9,     -999,9,     -999,9,     -999,9,     -999,9,   0.8230
35A3CITHER3_2 ,A13        ,132     ,  1,27         ,6          ,2,19950227,2055, -38.5033,  10.0083,     5070,   4196.4,   1.1520,  34.7450,2,  34.7460,2,    217.9,2,    218.2,2,   100.90,2,    29.90,2,     1.97,2,    0.016,2,    0.016,2,     -999,9,     -999,9,     -999,9,     -999,9,     -999,9,     -999,9,   0.8210
35A3CITHER3_2 ,A13        ,132     ,  1,28         ,5          ,2,19950227,2055, -38.5033,  10.0083,     5070,   4397.3,   1.0950,  34.7380,2,  34.7400,2,    217.5,2,    218.0,2,   103.50,2,    29.90,2,     1.96,2,     -999,9,     -999,9,     -999,9,     -999,9,     -999,9,     -999,9,     -999,9,     -999,9,   0.7440
35A3CITHER3_2 ,A13        ,132     ,  1,29         ,4          ,2,19950227,2055, -38.5033,  10.0083,     5070,   4596.6,   1.0640,  34.7330,2,  34.7360,2,    217.8,2,    218.5,2,   104.40,2,    30.40,2,     2.01,2,    0.024,2,    0.013,2,     -999,9,     -999,9,     -999,9,     -999,9,     -999,9,     -999,9,   0.6910
35A3CITHER3_2 ,A13        ,132     ,  1,30         ,3          ,2,19950227,2055, -38.5033,  10.0083,     5070,   4797.9,   1.0570,  34.7310,2,  34.7320,2,    217.8,2,    218.6,2,   106.00,2,    29.80,2,     1.98,2,    0.021,2,    0.016,2,     -999,9,     -999,9,     -999,9,     -999,9,     -999,9,     -999,9,   0.6610
35A3CITHER3_2 ,A13        ,132     ,  1,31         ,2          ,2,19950227,2055, -38.5033,  10.0083,     5070,   4997.5,   1.0630,  34.7300,2,  34.7310,2,    218.6,2,    217.9,2,   107.00,2,    30.50,2,     2.01,2,    0.027,2,    0.017,2,     -999,9,     -999,9,     -999,9,     -999,9,     -999,9,     -999,9,   0.6440
35A3CITHER3_2 ,A13        ,132     ,  1,32         ,1          ,2,19950227,2055, -38.5033,  10.0083,     5070,   5141.4,   1.0410,  34.7270,2,  34.7280,2,    219.0,2,    218.1,2,   107.90,2,    30.60,2,     2.02,2,    0.031,2,    0.022,2,     -999,9,     -999,9,     -999,9,     -999,9,     -999,9,     -999,9,   0.6050