BOTTLE,20211216CCHDHYDRO
EXPOCODE,SECT_ID,STNNBR,CASTNO,SAMPNO,BTLNBR,BTLNBR_FLAG_W,DATE,TIME,LATITUDE,LONGITUDE,DEPTH,CTDPRS,CTDTMP,CTDSAL,CTDSAL_FLAG_W,SALNTY,SALNTY_FLAG_W,CTDOXY,CTDOXY_FLAG_W,OXYGEN,OXYGEN_FLAG_W,SILCAT,SILCAT_FLAG_W,NITRAT,NITRAT_FLAG_W,PHSPHT,PHSPHT_FLAG_W,CFC-11,CFC-11_FLAG_W,CFC-12,CFC-12_FLAG_W,TCARBN,TCARBN_FLAG_W,ALKALI,ALKALI_FLAG_W,TRITUM,TRITUM_FLAG_W,HELIUM,HELIUM_FLAG_W,DELHE3,DELHE3_FLAG_W,NEON,NEON_FLAG_W,THETA
,,,,,,,,,,,METERS,DBAR,DEG C,PSS-78,,PSS-78,,UMOL/KG,,UMOL/KG,,UMOL/KG,,UMOL/KG,,UMOL/KG,,PMOL/KG,,PMOL/KG,,UMOL/KG,,UMOL/KG,,TU,,NMOL/KG,,PERCNT,,NMOL/KG,,DEG C
35A3CITHER3_2 ,A13        ,194     ,  1,1          ,32         ,2,19950316,2247, -12.7513,   5.0000,     5492,      5.5,  26.9810,  36.7830,2,  36.7850,2,    201.5,2,    199.5,2,     2.40,2,     0.00,2,     0.15,2,    1.693,2,    0.920,2,     -999,9,     -999,9,     -999,9,     -999,9,     -999,9,     -999,9,  26.9800
35A3CITHER3_2 ,A13        ,194     ,  1,2          ,31         ,2,19950316,2247, -12.7513,   5.0000,     5492,     35.9,  22.0370,  36.4400,2,  36.4590,3,    244.9,2,    243.7,2,     2.60,2,     0.00,2,     0.16,2,     -999,9,     -999,9,     -999,9,     -999,9,     -999,9,     -999,9,     -999,9,     -999,9,  22.0300
35A3CITHER3_2 ,A13        ,194     ,  1,3          ,30         ,2,19950316,2247, -12.7513,   5.0000,     5492,     65.4,  16.8590,  35.8900,2,  35.9030,3,    173.3,2,    130.2,3,     5.60,2,    15.70,2,     1.05,2,    1.751,2,    0.868,2,     -999,9,     -999,9,     -999,9,     -999,9,     -999,9,     -999,9,  16.8480
35A3CITHER3_2 ,A13        ,194     ,  1,4          ,29         ,2,19950316,2247, -12.7513,   5.0000,     5492,     96.0,  14.0080,  35.4800,2,  35.4700,3,     75.1,2,     58.4,3,     8.80,2,    25.90,2,     1.63,2,     -999,9,     -999,9,     -999,9,     -999,9,     -999,9,     -999,9,     -999,9,     -999,9,  13.9940
35A3CITHER3_2 ,A13        ,194     ,  1,5          ,28         ,2,19950316,2247, -12.7513,   5.0000,     5492,    126.9,  12.9110,  35.3130,2,  35.3150,2,     43.3,2,     46.1,2,    10.10,2,    28.50,2,     1.79,2,     -999,9,     -999,9,     -999,9,     -999,9,     -999,9,     -999,9,     -999,9,     -999,9,  12.8940
35A3CITHER3_2 ,A13        ,194     ,  1,6          ,27         ,2,19950316,2247, -12.7513,   5.0000,     5492,    157.1,  12.1050,  35.1850,2,  35.1860,2,     39.0,2,     31.9,3,    12.10,2,    30.90,2,     1.91,2,    0.630,2,    0.327,2,     -999,9,     -999,9,     -999,9,     -999,9,     -999,9,     -999,9,  12.0840
35A3CITHER3_2 ,A13        ,194     ,  1,7          ,26         ,2,19950316,2247, -12.7513,   5.0000,     5492,    183.3,  11.5930,  35.1170,2,  35.1160,2,     35.3,2,     33.0,2,    13.20,2,    32.00,2,     1.98,2,    0.454,2,    0.239,2,     -999,9,     -999,9,     -999,9,     -999,9,     -999,9,     -999,9,  11.5700
35A3CITHER3_2 ,A13        ,194     ,  1,8          ,25         ,2,19950316,2247, -12.7513,   5.0000,     5492,    216.1,  11.0160,  35.0500,2,  35.0480,2,     33.1,2,     35.1,2,    14.00,2,    32.60,2,     2.03,2,    0.354,2,    0.186,2,     -999,9,     -999,9,     -999,9,     -999,9,     -999,9,     -999,9,  10.9890
35A3CITHER3_2 ,A13        ,194     ,  1,9          ,24         ,2,19950316,2247, -12.7513,   5.0000,     5492,    245.2,  10.6350,  35.0100,2,  35.0060,2,     44.1,2,     49.4,3,    14.10,2,    31.60,3,     1.97,2,    0.330,2,    0.176,2,     -999,9,     -999,9,     -999,9,     -999,9,     -999,9,     -999,9,  10.6050
35A3CITHER3_2 ,A13        ,194     ,  1,10         ,23         ,2,19950316,2247, -12.7513,   5.0000,     5492,    275.0,  10.1740,  34.9560,2,  34.9580,2,     42.3,2,     40.5,2,    15.30,2,    33.50,2,     2.08,2,    0.228,2,    0.130,2,     -999,9,     -999,9,     -999,9,     -999,9,     -999,9,     -999,9,  10.1420
35A3CITHER3_2 ,A13        ,194     ,  1,11         ,22         ,2,19950316,2247, -12.7513,   5.0000,     5492,    305.9,   9.7810,  34.9100,2,  34.9120,2,     37.1,2,     36.1,2,    16.40,2,    35.00,2,     2.17,2,    0.167,2,    0.094,2,     -999,9,     -999,9,     -999,9,     -999,9,     -999,9,     -999,9,   9.7460
35A3CITHER3_2 ,A13        ,194     ,  1,12         ,21         ,2,19950316,2247, -12.7513,   5.0000,     5492,    336.3,   9.3460,  34.8620,2,  34.8630,2,     35.2,2,     34.1,2,    17.70,2,    36.00,2,     2.23,2,    0.124,2,    0.076,2,     -999,9,     -999,9,     -999,9,     -999,9,     -999,9,     -999,9,   9.3080
35A3CITHER3_2 ,A13        ,194     ,  1,13         ,20         ,2,19950316,2247, -12.7513,   5.0000,     5492,    365.4,   8.9160,  34.8180,2,  34.8200,2,     32.5,2,     32.4,2,    18.30,2,    36.60,2,     2.27,2,    0.086,2,    0.053,2,     -999,9,     -999,9,     -999,9,     -999,9,     -999,9,     -999,9,   8.8760
35A3CITHER3_2 ,A13        ,194     ,  1,14         ,19         ,2,19950316,2247, -12.7513,   5.0000,     5492,    394.9,   8.5930,  34.7830,2,  34.7840,2,     33.5,2,     35.7,2,    19.20,2,    37.70,2,     2.36,2,    0.070,2,    0.041,2,     -999,9,     -999,9,     -999,9,     -999,9,     -999,9,     -999,9,   8.5510
35A3CITHER3_2 ,A13        ,194     ,  1,15         ,18         ,2,19950316,2247, -12.7513,   5.0000,     5492,    426.1,   8.1120,  34.7380,2,  34.7360,2,     42.3,2,     46.3,3,    19.40,2,    37.10,3,     2.32,2,    0.055,2,    0.030,2,     -999,9,     -999,9,     -999,9,     -999,9,     -999,9,     -999,9,   8.0680
35A3CITHER3_2 ,A13        ,194     ,  1,16         ,17         ,2,19950316,2247, -12.7513,   5.0000,     5492,    455.8,   7.6950,  34.6960,2,  34.7010,2,     44.0,2,     48.2,2,    20.90,2,    38.60,2,     2.45,2,    0.039,2,    0.021,2,     -999,9,     -999,9,     -999,9,     -999,9,     -999,9,     -999,9,   7.6490
35A3CITHER3_2 ,A13        ,194     ,  1,17         ,16         ,2,19950316,2247, -12.7513,   5.0000,     5492,    485.0,   7.4050,  34.6680,2,  34.6710,2,     47.0,2,     49.7,2,    22.10,2,    38.80,2,     2.45,2,     -999,9,     -999,9,     -999,9,     -999,9,     -999,9,     -999,9,     -999,9,     -999,9,   7.3570
35A3CITHER3_2 ,A13        ,194     ,  1,18         ,15         ,2,19950316,2247, -12.7513,   5.0000,     5492,    514.2,   7.0350,  34.6370,2,  34.6340,2,     53.3,2,     57.9,3,    22.90,2,    38.90,2,     2.45,2,    0.027,2,    0.019,2,     -999,9,     -999,9,     -999,9,     -999,9,     -999,9,     -999,9,   6.9860
35A3CITHER3_2 ,A13        ,194     ,  1,19         ,14         ,2,19950316,2247, -12.7513,   5.0000,     5492,    545.1,   6.6220,  34.6010,2,  34.6000,2,     62.3,2,     65.2,2,    24.30,2,    39.30,2,     2.48,2,     -999,9,     -999,9,     -999,9,     -999,9,     -999,9,     -999,9,     -999,9,     -999,9,   6.5720
35A3CITHER3_2 ,A13        ,194     ,  1,20         ,13         ,2,19950316,2247, -12.7513,   5.0000,     5492,    575.0,   6.3340,  34.5770,2,  34.5770,2,     68.6,2,     70.1,2,    25.20,2,    39.10,2,     2.48,2,    0.019,2,    0.006,2,     -999,9,     -999,9,     -999,9,     -999,9,     -999,9,     -999,9,   6.2820
35A3CITHER3_2 ,A13        ,194     ,  1,21         ,12         ,2,19950316,2247, -12.7513,   5.0000,     5492,    604.5,   6.0510,  34.5600,2,  34.5570,2,     72.6,2,     75.1,2,    26.20,2,    39.50,2,     2.50,2,     -999,9,     -999,9,     -999,9,     -999,9,     -999,9,     -999,9,     -999,9,     -999,9,   5.9970
35A3CITHER3_2 ,A13        ,194     ,  1,22         ,11         ,2,19950316,2247, -12.7513,   5.0000,     5492,    634.0,   5.7590,  34.5400,2,  34.5390,2,     79.9,2,     80.8,2,    27.50,2,    39.10,2,     2.52,2,    0.012,2,    0.007,2,     -999,9,     -999,9,     -999,9,     -999,9,     -999,9,     -999,9,   5.7040
35A3CITHER3_2 ,A13        ,194     ,  1,23         ,10         ,2,19950316,2247, -12.7513,   5.0000,     5492,    665.0,   5.5190,  34.5240,2,  34.5250,2,     85.2,2,     90.0,3,    28.30,2,    39.00,2,     2.49,2,     -999,9,     -999,9,     -999,9,     -999,9,     -999,9,     -999,9,     -999,9,     -999,9,   5.4630
35A3CITHER3_2 ,A13        ,194     ,  1,24         ,9          ,2,19950316,2247, -12.7513,   5.0000,     5492,    695.2,   5.3200,  34.5100,2,  34.5140,2,     94.2,2,     94.9,2,    29.40,2,    38.90,2,     2.49,2,    0.007,2,     -999,9,     -999,9,     -999,9,     -999,9,     -999,9,     -999,9,     -999,9,   5.2620
35A3CITHER3_2 ,A13        ,194     ,  1,25         ,8          ,2,19950316,2247, -12.7513,   5.0000,     5492,    724.5,   5.1560,  34.5110,2,  34.5110,2,     94.5,2,     93.9,2,    30.70,2,    38.70,2,     2.51,2,     -999,9,     -999,9,     -999,9,     -999,9,     -999,9,     -999,9,     -999,9,     -999,9,   5.0960
35A3CITHER3_2 ,A13        ,194     ,  1,26         ,7          ,2,19950316,2247, -12.7513,   5.0000,     5492,    756.3,   4.9630,  34.5050,2,  34.5070,2,     99.1,2,    102.2,2,    31.80,2,    38.30,2,     2.48,2,    0.003,2,   -0.004,2,     -999,9,     -999,9,     -999,9,     -999,9,     -999,9,     -999,9,   4.9020
35A3CITHER3_2 ,A13        ,194     ,  1,27         ,6          ,2,19950316,2247, -12.7513,   5.0000,     5492,    786.8,   4.7660,  34.4980,2,  34.5000,2,    111.5,2,    113.2,2,    32.30,2,    37.50,2,     2.48,2,     -999,9,     -999,9,     -999,9,     -999,9,     -999,9,     -999,9,     -999,9,     -999,9,   4.7030
35A3CITHER3_2 ,A13        ,194     ,  1,28         ,5          ,2,19950316,2247, -12.7513,   5.0000,     5492,    815.7,   4.6540,  34.5030,2,  34.5020,2,    115.2,2,    115.2,2,    33.20,2,    37.10,2,     2.45,2,    0.004,2,    0.008,2,     -999,9,     -999,9,     -999,9,     -999,9,     -999,9,     -999,9,   4.5890
35A3CITHER3_2 ,A13        ,194     ,  1,29         ,4          ,2,19950316,2247, -12.7513,   5.0000,     5492,    855.5,   4.4790,  34.5080,2,  34.5110,2,    123.1,2,    126.8,3,    34.30,2,    36.60,2,     2.39,2,     -999,9,     -999,9,     -999,9,     -999,9,     -999,9,     -999,9,     -999,9,     -999,9,   4.4120
35A3CITHER3_2 ,A13        ,194     ,  1,30         ,3          ,2,19950316,2247, -12.7513,   5.0000,     5492,    906.6,   4.3220,  34.5260,2,  34.5310,2,    130.5,2,    127.8,2,    35.40,2,    36.20,2,     2.40,2,    0.006,2,    0.001,2,     -999,9,     -999,9,     -999,9,     -999,9,     -999,9,     -999,9,   4.2520
35A3CITHER3_2 ,A13        ,194     ,  1,31         ,2          ,2,19950316,2247, -12.7513,   5.0000,     5492,    952.7,   4.1830,  34.5430,2,  34.5460,2,    135.9,2,    136.8,2,    36.00,2,    35.00,2,     2.31,2,     -999,9,     -999,9,     -999,9,     -999,9,     -999,9,     -999,9,     -999,9,     -999,9,   4.1100
35A3CITHER3_2 ,A13        ,194     ,  1,32         ,1          ,2,19950316,2247, -12.7513,   5.0000,     5492,    997.6,   4.1010,  34.5670,2,  34.5700,2,    141.1,2,    141.3,2,    36.20,2,    34.30,2,     2.29,2,    0.002,2,   -0.001,2,     -999,9,     -999,9,     -999,9,     -999,9,     -999,9,     -999,9,   4.0250