BOTTLE,20211216CCHDHYDRO
EXPOCODE,SECT_ID,STNNBR,CASTNO,SAMPNO,BTLNBR,BTLNBR_FLAG_W,DATE,TIME,LATITUDE,LONGITUDE,DEPTH,CTDPRS,CTDTMP,CTDSAL,CTDSAL_FLAG_W,SALNTY,SALNTY_FLAG_W,CTDOXY,CTDOXY_FLAG_W,OXYGEN,OXYGEN_FLAG_W,SILCAT,SILCAT_FLAG_W,NITRAT,NITRAT_FLAG_W,PHSPHT,PHSPHT_FLAG_W,CFC-11,CFC-11_FLAG_W,CFC-12,CFC-12_FLAG_W,TCARBN,TCARBN_FLAG_W,ALKALI,ALKALI_FLAG_W,TRITUM,TRITUM_FLAG_W,HELIUM,HELIUM_FLAG_W,DELHE3,DELHE3_FLAG_W,NEON,NEON_FLAG_W,THETA
,,,,,,,,,,,METERS,DBAR,DEG C,PSS-78,,PSS-78,,UMOL/KG,,UMOL/KG,,UMOL/KG,,UMOL/KG,,UMOL/KG,,PMOL/KG,,PMOL/KG,,UMOL/KG,,UMOL/KG,,TU,,NMOL/KG,,PERCNT,,NMOL/KG,,DEG C
35A3CITHER3_2 ,A13        ,147     ,  1,1          ,32         ,2,19950303,1646, -31.1658,  10.0018,     4885,      4.8,  21.5560,  35.7880,2,  35.7890,2,    225.8,2,    224.7,2,     -999,9,     -999,9,     -999,9,    2.160,2,    1.099,2,     -999,9,     -999,9,     -999,9,     -999,9,     -999,9,     -999,9,  21.5550
35A3CITHER3_2 ,A13        ,147     ,  1,2          ,31         ,2,19950303,1646, -31.1658,  10.0018,     4885,     46.9,  21.4740,  35.8140,2,  35.8060,3,    225.0,2,    226.0,2,     2.10,2,     0.00,2,     0.12,2,    2.223,2,    1.119,2,     -999,9,     -999,9,     -999,9,     -999,9,     -999,9,     -999,9,  21.4650
35A3CITHER3_2 ,A13        ,147     ,  1,3          ,30         ,2,19950303,1646, -31.1658,  10.0018,     4885,    120.8,  16.2500,  35.5280,2,  35.5260,2,    218.2,2,    220.8,2,     3.70,2,     3.40,2,     0.34,2,    2.608,2,    1.277,2,     -999,9,     -999,9,     -999,9,     -999,9,     -999,9,     -999,9,  16.2310
35A3CITHER3_2 ,A13        ,147     ,  1,4          ,29         ,2,19950303,1646, -31.1658,  10.0018,     4885,    195.6,  15.4770,  35.4710,2,  35.4710,2,    223.2,2,    221.0,2,     3.90,2,     4.10,2,     0.36,2,    2.689,2,    1.309,2,     -999,9,     -999,9,     -999,9,     -999,9,     -999,9,     -999,9,  15.4470
35A3CITHER3_2 ,A13        ,147     ,  1,5          ,28         ,2,19950303,1646, -31.1658,  10.0018,     4885,    395.3,  12.3150,  35.0710,2,  35.0700,2,    215.7,2,    213.6,2,     5.00,2,    11.30,2,     0.79,2,    2.595,2,    1.224,2,     -999,9,     -999,9,     -999,9,     -999,9,     -999,9,     -999,9,  12.2620
35A3CITHER3_2 ,A13        ,147     ,  1,6          ,27         ,2,19950303,1646, -31.1658,  10.0018,     4885,    596.6,   8.8870,  34.6600,2,  34.6590,2,    207.5,2,    204.8,2,    10.00,2,    20.00,2,     1.34,2,    2.200,2,    1.009,2,     -999,9,     -999,9,     -999,9,     -999,9,     -999,9,     -999,9,   8.8210
35A3CITHER3_2 ,A13        ,147     ,  1,7          ,26         ,2,19950303,1646, -31.1658,  10.0018,     4885,    657.3,   8.1150,  34.5960,2,  34.5900,2,    183.3,2,    189.1,2,    13.50,2,    23.90,3,     1.58,3,    1.899,2,    0.859,2,     -999,9,     -999,9,     -999,9,     -999,9,     -999,9,     -999,9,   8.0460
35A3CITHER3_2 ,A13        ,147     ,  1,8          ,25         ,2,19950303,1646, -31.1658,  10.0018,     4885,    793.9,   5.5860,  34.3670,2,  34.3680,2,    216.5,2,    217.2,2,    18.90,2,    27.10,2,     1.77,2,    1.863,2,    0.828,2,     -999,9,     -999,9,     -999,9,     -999,9,     -999,9,     -999,9,   5.5180
35A3CITHER3_2 ,A13        ,147     ,  1,9          ,24         ,2,19950303,1646, -31.1658,  10.0018,     4885,    994.2,   3.8100,  34.3330,2,  34.3320,2,    212.7,2,    211.9,2,    33.20,2,    31.30,3,     2.04,2,    1.129,2,    0.505,2,     -999,9,     -999,9,     -999,9,     -999,9,     -999,9,     -999,9,   3.7370
35A3CITHER3_2 ,A13        ,147     ,  1,11         ,22         ,2,19950303,1646, -31.1658,  10.0018,     4885,   1194.3,   3.2080,  34.4430,2,  34.4390,2,    188.9,2,    188.7,2,    50.50,2,    33.30,3,     2.15,2,    0.435,2,    0.193,2,     -999,9,     -999,9,     -999,9,     -999,9,     -999,9,     -999,9,   3.1230
35A3CITHER3_2 ,A13        ,147     ,  1,10         ,23         ,2,19950303,1646, -31.1658,  10.0018,     4885,   1194.8,   3.2200,  34.4430,2,  34.4290,3,    188.8,2,    188.2,2,    50.10,2,    34.40,3,     2.21,2,    0.435,2,    0.192,2,     -999,9,     -999,9,     -999,9,     -999,9,     -999,9,     -999,9,   3.1350
35A3CITHER3_2 ,A13        ,147     ,  1,12         ,21         ,2,19950303,1646, -31.1658,  10.0018,     4885,   1395.0,   3.0320,  34.5880,2,  34.5850,2,    180.2,2,    179.4,2,    56.80,2,    33.10,3,     2.11,2,    0.083,2,    0.038,2,     -999,9,     -999,9,     -999,9,     -999,9,     -999,9,     -999,9,   2.9320
35A3CITHER3_2 ,A13        ,147     ,  1,13         ,20         ,2,19950303,1646, -31.1658,  10.0018,     4885,   1595.7,   2.8290,  34.6790,2,  34.6780,2,    187.1,2,    188.1,2,    58.90,2,    30.20,2,     2.00,2,    0.038,2,    0.013,2,     -999,9,     -999,9,     -999,9,     -999,9,     -999,9,     -999,9,   2.7150
35A3CITHER3_2 ,A13        ,147     ,  1,14         ,19         ,2,19950303,1646, -31.1658,  10.0018,     4885,   1795.0,   2.8510,  34.7570,2,  34.7560,2,    200.3,2,    198.8,2,    54.20,2,    27.00,2,     1.79,2,    0.014,2,    0.008,2,     -999,9,     -999,9,     -999,9,     -999,9,     -999,9,     -999,9,   2.7190
35A3CITHER3_2 ,A13        ,147     ,  1,15         ,18         ,2,19950303,1646, -31.1658,  10.0018,     4885,   1995.6,   2.8880,  34.8240,2,  34.8230,2,    214.3,2,    214.3,2,    46.20,2,    25.40,2,     1.66,2,    0.006,2,     -999,9,     -999,9,     -999,9,     -999,9,     -999,9,     -999,9,     -999,9,   2.7380
35A3CITHER3_2 ,A13        ,147     ,  1,16         ,17         ,2,19950303,1646, -31.1658,  10.0018,     4885,   2195.8,   2.7730,  34.8420,2,  34.8410,2,    220.9,2,    221.0,2,    46.10,2,    25.40,2,     1.64,2,    0.009,2,    0.003,2,     -999,9,     -999,9,     -999,9,     -999,9,     -999,9,     -999,9,   2.6060
35A3CITHER3_2 ,A13        ,147     ,  1,17         ,16         ,2,19950303,1646, -31.1658,  10.0018,     4885,   2395.3,   2.6450,  34.8520,2,  34.8520,2,    225.5,2,    226.4,2,    47.30,2,    24.00,2,     1.58,2,    0.006,2,    0.007,2,     -999,9,     -999,9,     -999,9,     -999,9,     -999,9,     -999,9,   2.4620
35A3CITHER3_2 ,A13        ,147     ,  1,18         ,15         ,2,19950303,1646, -31.1658,  10.0018,     4885,   2596.3,   2.5410,  34.8530,2,  34.8530,2,    228.2,2,    228.3,2,    49.60,2,    23.80,2,     1.57,2,    0.003,2,    0.005,2,     -999,9,     -999,9,     -999,9,     -999,9,     -999,9,     -999,9,   2.3410
35A3CITHER3_2 ,A13        ,147     ,  1,19         ,14         ,2,19950303,1646, -31.1658,  10.0018,     4885,   2795.8,   2.4260,  34.8510,2,  34.8500,2,    228.1,2,    229.3,2,    53.00,2,    24.30,2,     1.60,2,    0.003,2,    0.004,2,     -999,9,     -999,9,     -999,9,     -999,9,     -999,9,     -999,9,   2.2080
35A3CITHER3_2 ,A13        ,147     ,  1,20         ,13         ,2,19950303,1646, -31.1658,  10.0018,     4885,   2996.9,   2.3460,  34.8520,2,  34.8520,2,    229.9,2,    230.3,2,    55.30,2,    23.80,2,     1.60,2,    0.005,2,    0.007,2,     -999,9,     -999,9,     -999,9,     -999,9,     -999,9,     -999,9,   2.1100
35A3CITHER3_2 ,A13        ,147     ,  1,21         ,12         ,2,19950303,1646, -31.1658,  10.0018,     4885,   3196.1,   2.2970,  34.8550,2,  34.8540,2,    231.1,2,    231.2,2,    56.40,2,    24.10,2,     1.60,2,    0.019,3,    0.008,2,     -999,9,     -999,9,     -999,9,     -999,9,     -999,9,     -999,9,   2.0420
35A3CITHER3_2 ,A13        ,147     ,  1,22         ,11         ,2,19950303,1646, -31.1658,  10.0018,     4885,   3395.7,   2.2380,  34.8520,2,  34.8390,3,    231.4,2,    231.3,2,    58.30,2,    24.50,2,     1.58,2,    0.003,2,    0.002,2,     -999,9,     -999,9,     -999,9,     -999,9,     -999,9,     -999,9,   1.9630
35A3CITHER3_2 ,A13        ,147     ,  1,23         ,10         ,2,19950303,1646, -31.1658,  10.0018,     4885,   3596.7,   2.1130,  34.8440,2,  34.8410,2,    230.1,2,    229.0,2,    63.60,2,    25.40,2,     1.62,2,    0.003,2,    0.008,2,     -999,9,     -999,9,     -999,9,     -999,9,     -999,9,     -999,9,   1.8200
35A3CITHER3_2 ,A13        ,147     ,  1,24         ,9          ,2,19950303,1646, -31.1658,  10.0018,     4885,   3795.6,   1.8250,  34.8070,2,  34.8090,2,    224.3,2,    224.2,2,    75.40,2,    26.30,2,     1.73,2,    0.003,2,    0.001,2,     -999,9,     -999,9,     -999,9,     -999,9,     -999,9,     -999,9,   1.5190
35A3CITHER3_2 ,A13        ,147     ,  1,25         ,8          ,2,19950303,1646, -31.1658,  10.0018,     4885,   3996.8,   1.5300,  34.7790,2,  34.7720,2,    220.9,2,    220.6,2,    87.70,2,    28.10,2,     1.85,2,    0.006,2,    0.005,2,     -999,9,     -999,9,     -999,9,     -999,9,     -999,9,     -999,9,   1.2100
35A3CITHER3_2 ,A13        ,147     ,  1,26         ,7          ,2,19950303,1646, -31.1658,  10.0018,     4885,   4198.1,   1.2550,  34.7530,2,  34.7520,2,    218.5,2,    218.5,2,    97.90,2,    28.80,2,     1.92,2,    0.004,2,    0.002,2,     -999,9,     -999,9,     -999,9,     -999,9,     -999,9,     -999,9,   0.9210
35A3CITHER3_2 ,A13        ,147     ,  1,27         ,6          ,2,19950303,1646, -31.1658,  10.0018,     4885,   4396.9,   1.1400,  34.7410,2,  34.7410,2,    217.3,2,    217.6,2,   102.60,2,    29.20,2,     1.95,2,    0.006,2,    0.006,2,     -999,9,     -999,9,     -999,9,     -999,9,     -999,9,     -999,9,   0.7870
35A3CITHER3_2 ,A13        ,147     ,  1,28         ,5          ,2,19950303,1646, -31.1658,  10.0018,     4885,   4597.1,   1.1130,  34.7370,2,  34.7370,2,    217.1,2,    217.1,2,   104.30,2,    29.40,2,     1.97,2,    0.004,2,    0.002,2,     -999,9,     -999,9,     -999,9,     -999,9,     -999,9,     -999,9,   0.7390
35A3CITHER3_2 ,A13        ,147     ,  1,29         ,4          ,2,19950303,1646, -31.1658,  10.0018,     4885,   4796.8,   1.1010,  34.7340,2,  34.7330,2,    217.2,2,    217.1,2,   105.70,2,    29.40,2,     1.99,2,    0.014,2,    0.007,2,     -999,9,     -999,9,     -999,9,     -999,9,     -999,9,     -999,9,   0.7040
35A3CITHER3_2 ,A13        ,147     ,  1,30         ,3          ,2,19950303,1646, -31.1658,  10.0018,     4885,   4796.8,   1.1000,  34.7350,2,  34.7340,2,    217.2,2,    216.8,2,   107.30,2,    30.10,2,     2.00,2,    0.014,2,    0.009,2,     -999,9,     -999,9,     -999,9,     -999,9,     -999,9,     -999,9,   0.7030
35A3CITHER3_2 ,A13        ,147     ,  1,31         ,2          ,2,19950303,1646, -31.1658,  10.0018,     4885,   4870.1,   1.0990,  34.7330,2,  34.7340,2,    217.5,2,    217.0,2,   106.50,2,    29.80,2,     1.97,2,    0.056,2,    0.026,2,     -999,9,     -999,9,     -999,9,     -999,9,     -999,9,     -999,9,   0.6930
35A3CITHER3_2 ,A13        ,147     ,  1,32         ,1          ,2,19950303,1646, -31.1658,  10.0018,     4885,   4929.6,   1.0940,  34.7320,2,  34.7340,2,    216.8,2,    217.0,2,   107.00,2,    29.10,3,     1.94,2,     -999,9,     -999,9,     -999,9,     -999,9,     -999,9,     -999,9,     -999,9,     -999,9,   0.6820