BOTTLE,20211216CCHDHYDRO
EXPOCODE,SECT_ID,STNNBR,CASTNO,SAMPNO,BTLNBR,BTLNBR_FLAG_W,DATE,TIME,LATITUDE,LONGITUDE,DEPTH,CTDPRS,CTDTMP,CTDSAL,CTDSAL_FLAG_W,SALNTY,SALNTY_FLAG_W,CTDOXY,CTDOXY_FLAG_W,OXYGEN,OXYGEN_FLAG_W,SILCAT,SILCAT_FLAG_W,NITRAT,NITRAT_FLAG_W,PHSPHT,PHSPHT_FLAG_W,CFC-11,CFC-11_FLAG_W,CFC-12,CFC-12_FLAG_W,TCARBN,TCARBN_FLAG_W,ALKALI,ALKALI_FLAG_W,TRITUM,TRITUM_FLAG_W,HELIUM,HELIUM_FLAG_W,DELHE3,DELHE3_FLAG_W,NEON,NEON_FLAG_W,THETA
,,,,,,,,,,,METERS,DBAR,DEG C,PSS-78,,PSS-78,,UMOL/KG,,UMOL/KG,,UMOL/KG,,UMOL/KG,,UMOL/KG,,PMOL/KG,,PMOL/KG,,UMOL/KG,,UMOL/KG,,TU,,NMOL/KG,,PERCNT,,NMOL/KG,,DEG C
35A3CITHER3_2 ,A13        ,163     ,  1,1          ,32         ,2,19950309,2249, -24.4168,   8.2008,     4696,      4.6,  22.6860,  35.4140,2,  35.4150,2,    209.1,2,    218.0,3,     2.20,2,     0.00,2,     0.46,2,     -999,9,     -999,9,     -999,9,     -999,9,     -999,9,     -999,9,     -999,9,     -999,9,  22.6850
35A3CITHER3_2 ,A13        ,163     ,  1,2          ,31         ,2,19950309,2249, -24.4168,   8.2008,     4696,     46.7,  22.6820,  35.4170,2,  35.4120,3,    219.8,2,    219.2,2,     4.10,2,     0.00,2,     0.48,2,     -999,9,     -999,9,     -999,9,     -999,9,     -999,9,     -999,9,     -999,9,     -999,9,  22.6730
35A3CITHER3_2 ,A13        ,163     ,  1,3          ,30         ,2,19950309,2249, -24.4168,   8.2008,     4696,    119.7,  13.9000,  35.2120,2,  35.2120,2,    165.9,2,    177.7,3,     7.10,2,    12.90,2,     1.00,2,     -999,9,     -999,9,     -999,9,     -999,9,     -999,9,     -999,9,     -999,9,     -999,9,  13.8830
35A3CITHER3_2 ,A13        ,163     ,  1,4          ,29         ,2,19950309,2249, -24.4168,   8.2008,     4696,    195.7,  12.1220,  35.0550,2,  35.0590,2,    141.8,2,    137.5,2,    10.00,2,    20.00,2,     1.41,2,     -999,9,     -999,9,     -999,9,     -999,9,     -999,9,     -999,9,     -999,9,     -999,9,  12.0960
35A3CITHER3_2 ,A13        ,163     ,  1,5          ,28         ,2,19950309,2249, -24.4168,   8.2008,     4696,    296.8,   9.7520,  34.7760,2,  34.7730,2,    167.8,2,    169.0,2,    12.40,2,    21.20,2,     1.48,2,     -999,9,     -999,9,     -999,9,     -999,9,     -999,9,     -999,9,     -999,9,     -999,9,   9.7180
35A3CITHER3_2 ,A13        ,163     ,  1,6          ,27         ,2,19950309,2249, -24.4168,   8.2008,     4696,    395.0,   7.5950,  34.5610,2,  34.5610,2,    170.2,2,    174.6,2,    16.60,2,    26.00,2,     1.81,2,     -999,9,     -999,9,     -999,9,     -999,9,     -999,9,     -999,9,     -999,9,     -999,9,   7.5560
35A3CITHER3_2 ,A13        ,163     ,  1,7          ,26         ,2,19950309,2249, -24.4168,   8.2008,     4696,    556.1,   5.3840,  34.4150,2,  34.4140,2,    169.5,2,    172.8,2,    16.60,2,    25.90,2,     1.75,2,     -999,9,     -999,9,     -999,9,     -999,9,     -999,9,     -999,9,     -999,9,     -999,9,   5.3380
35A3CITHER3_2 ,A13        ,163     ,  1,8          ,25         ,2,19950309,2249, -24.4168,   8.2008,     4696,    695.1,   4.3330,  34.3990,2,  34.4000,2,    172.9,2,    176.3,2,    34.50,2,    32.50,2,     2.25,2,     -999,9,     -999,9,     -999,9,     -999,9,     -999,9,     -999,9,     -999,9,     -999,9,   4.2800
35A3CITHER3_2 ,A13        ,163     ,  1,9          ,24         ,2,19950309,2249, -24.4168,   8.2008,     4696,    844.6,   3.6810,  34.4420,2,  34.4400,2,    176.1,2,    176.1,2,    43.90,3,    33.10,2,     2.25,2,     -999,9,     -999,9,     -999,9,     -999,9,     -999,9,     -999,9,     -999,9,     -999,9,   3.6200
35A3CITHER3_2 ,A13        ,163     ,  1,10         ,23         ,2,19950309,2249, -24.4168,   8.2008,     4696,    994.0,   3.6440,  34.5510,2,  34.5490,2,    168.9,2,    170.8,2,    43.30,2,    32.50,2,     2.24,2,     -999,9,     -999,9,     -999,9,     -999,9,     -999,9,     -999,9,     -999,9,     -999,9,   3.5710
35A3CITHER3_2 ,A13        ,163     ,  1,11         ,22         ,2,19950309,2249, -24.4168,   8.2008,     4696,   1197.0,   3.3910,  34.6680,2,  34.6690,2,    180.0,2,    182.0,2,    45.50,2,    30.30,2,     2.07,2,     -999,9,     -999,9,     -999,9,     -999,9,     -999,9,     -999,9,     -999,9,     -999,9,   3.3040
35A3CITHER3_2 ,A13        ,163     ,  1,13         ,20         ,2,19950309,2249, -24.4168,   8.2008,     4696,   1394.1,   3.3480,  34.7660,2,  34.7680,2,    193.8,2,    193.8,2,    42.60,2,    27.70,2,     1.86,2,     -999,9,     -999,9,     -999,9,     -999,9,     -999,9,     -999,9,     -999,9,     -999,9,   3.2450
35A3CITHER3_2 ,A13        ,163     ,  1,12         ,21         ,2,19950309,2249, -24.4168,   8.2008,     4696,   1395.0,   3.3470,  34.7670,2,  34.7660,2,    193.9,2,    193.6,2,    42.60,2,    27.80,2,     1.92,2,     -999,9,     -999,9,     -999,9,     -999,9,     -999,9,     -999,9,     -999,9,     -999,9,   3.2440
35A3CITHER3_2 ,A13        ,163     ,  1,14         ,19         ,2,19950309,2249, -24.4168,   8.2008,     4696,   1596.1,   3.3460,  34.8380,2,  34.8410,2,    207.1,2,    206.5,2,    38.00,2,    25.70,2,     1.76,2,     -999,9,     -999,9,     -999,9,     -999,9,     -999,9,     -999,9,     -999,9,     -999,9,   3.2250
35A3CITHER3_2 ,A13        ,163     ,  1,15         ,18         ,2,19950309,2249, -24.4168,   8.2008,     4696,   1796.2,   3.2470,  34.8700,2,  34.8730,2,    217.5,2,    218.2,2,    36.80,2,    24.30,2,     1.60,2,     -999,9,     -999,9,     -999,9,     -999,9,     -999,9,     -999,9,     -999,9,     -999,9,   3.1100
35A3CITHER3_2 ,A13        ,163     ,  1,16         ,17         ,2,19950309,2249, -24.4168,   8.2008,     4696,   1996.2,   3.1290,  34.8890,2,  34.8910,2,    224.8,2,    225.0,2,    36.90,2,    23.50,2,     1.60,2,     -999,9,     -999,9,     -999,9,     -999,9,     -999,9,     -999,9,     -999,9,     -999,9,   2.9750
35A3CITHER3_2 ,A13        ,163     ,  1,17         ,16         ,2,19950309,2249, -24.4168,   8.2008,     4696,   2196.1,   3.0210,  34.8950,2,  34.8970,2,    229.8,2,    230.2,2,    37.60,2,    23.00,2,     1.52,2,     -999,9,     -999,9,     -999,9,     -999,9,     -999,9,     -999,9,     -999,9,     -999,9,   2.8500
35A3CITHER3_2 ,A13        ,163     ,  1,18         ,15         ,2,19950309,2249, -24.4168,   8.2008,     4696,   2395.4,   2.8410,  34.8890,2,  34.8890,2,    232.4,2,    232.0,2,    41.20,2,    23.00,2,     1.50,2,     -999,9,     -999,9,     -999,9,     -999,9,     -999,9,     -999,9,     -999,9,     -999,9,   2.6540
35A3CITHER3_2 ,A13        ,163     ,  1,19         ,14         ,2,19950309,2249, -24.4168,   8.2008,     4696,   2593.7,   2.6890,  34.8820,2,  34.8800,2,    233.4,2,    233.5,2,    44.40,2,    23.30,2,     1.55,2,     -999,9,     -999,9,     -999,9,     -999,9,     -999,9,     -999,9,     -999,9,     -999,9,   2.4860
35A3CITHER3_2 ,A13        ,163     ,  1,20         ,13         ,2,19950309,2249, -24.4168,   8.2008,     4696,   2796.3,   2.5390,  34.8700,2,  34.8700,2,    232.3,2,    232.5,2,    48.60,2,    23.30,2,     1.59,2,     -999,9,     -999,9,     -999,9,     -999,9,     -999,9,     -999,9,     -999,9,     -999,9,   2.3190
35A3CITHER3_2 ,A13        ,163     ,  1,21         ,12         ,2,19950309,2249, -24.4168,   8.2008,     4696,   2995.5,   2.4730,  34.8740,2,  34.8690,2,    233.1,2,    233.0,2,    49.60,2,    23.20,2,     1.58,2,     -999,9,     -999,9,     -999,9,     -999,9,     -999,9,     -999,9,     -999,9,     -999,9,   2.2340
35A3CITHER3_2 ,A13        ,163     ,  1,22         ,11         ,2,19950309,2249, -24.4168,   8.2008,     4696,   3197.6,   2.3970,  34.8680,2,  34.8700,2,    232.5,2,    232.0,2,    52.00,2,    23.40,2,     1.61,2,     -999,9,     -999,9,     -999,9,     -999,9,     -999,9,     -999,9,     -999,9,     -999,9,   2.1390
35A3CITHER3_2 ,A13        ,163     ,  1,23         ,10         ,2,19950309,2249, -24.4168,   8.2008,     4696,   3396.1,   2.3300,  34.8660,2,  34.8690,2,    231.9,2,    231.4,2,    54.70,2,    23.80,2,     1.61,2,     -999,9,     -999,9,     -999,9,     -999,9,     -999,9,     -999,9,     -999,9,     -999,9,   2.0530
35A3CITHER3_2 ,A13        ,163     ,  1,24         ,9          ,2,19950309,2249, -24.4168,   8.2008,     4696,   3596.4,   2.2330,  34.8560,2,  34.8560,2,    230.9,2,    230.1,2,    58.60,2,    24.30,2,     1.67,2,     -999,9,     -999,9,     -999,9,     -999,9,     -999,9,     -999,9,     -999,9,     -999,9,   1.9370
35A3CITHER3_2 ,A13        ,163     ,  1,25         ,8          ,2,19950309,2249, -24.4168,   8.2008,     4696,   3797.2,   2.0340,  34.8340,2,  34.8330,2,    227.9,2,    227.0,2,    66.80,2,    25.30,2,     1.72,2,     -999,9,     -999,9,     -999,9,     -999,9,     -999,9,     -999,9,     -999,9,     -999,9,   1.7220
35A3CITHER3_2 ,A13        ,163     ,  1,26         ,7          ,2,19950309,2249, -24.4168,   8.2008,     4696,   3997.6,   1.6860,  34.7980,2,  34.7980,2,    223.1,2,    222.7,2,    80.80,2,    27.00,2,     1.82,2,     -999,9,     -999,9,     -999,9,     -999,9,     -999,9,     -999,9,     -999,9,     -999,9,   1.3610
35A3CITHER3_2 ,A13        ,163     ,  1,27         ,6          ,2,19950309,2249, -24.4168,   8.2008,     4696,   4197.4,   1.3580,  34.7640,2,  34.7640,2,    218.7,2,    218.9,2,    93.40,2,    28.70,2,     1.96,2,     -999,9,     -999,9,     -999,9,     -999,9,     -999,9,     -999,9,     -999,9,     -999,9,   1.0210
35A3CITHER3_2 ,A13        ,163     ,  1,29         ,4          ,2,19950309,2249, -24.4168,   8.2008,     4696,   4397.6,   1.1840,  34.7480,2,  34.7470,2,    216.5,2,    217.1,2,    99.90,2,    29.50,2,     1.98,2,     -999,9,     -999,9,     -999,9,     -999,9,     -999,9,     -999,9,     -999,9,     -999,9,   0.8300
35A3CITHER3_2 ,A13        ,163     ,  1,28         ,5          ,2,19950309,2249, -24.4168,   8.2008,     4696,   4398.8,   1.1840,  34.7480,2,  34.7450,2,    216.4,2,    216.9,2,   100.70,2,    29.50,2,     2.00,2,     -999,9,     -999,9,     -999,9,     -999,9,     -999,9,     -999,9,     -999,9,     -999,9,   0.8300
35A3CITHER3_2 ,A13        ,163     ,  1,30         ,3          ,2,19950309,2249, -24.4168,   8.2008,     4696,   4596.0,   1.1380,  34.7390,2,  34.7420,2,    215.7,2,    216.6,2,   103.60,2,    29.70,2,     2.01,2,     -999,9,     -999,9,     -999,9,     -999,9,     -999,9,     -999,9,     -999,9,     -999,9,   0.7630
35A3CITHER3_2 ,A13        ,163     ,  1,31         ,2          ,2,19950309,2249, -24.4168,   8.2008,     4696,   4696.8,   1.1280,  34.7370,2,  34.7390,2,    215.6,2,    215.9,2,   104.60,2,    29.30,2,     2.02,2,     -999,9,     -999,9,     -999,9,     -999,9,     -999,9,     -999,9,     -999,9,     -999,9,   0.7420
35A3CITHER3_2 ,A13        ,163     ,  1,32         ,1          ,2,19950309,2249, -24.4168,   8.2008,     4696,   4744.7,   1.1340,  34.7380,2,  34.7400,2,    214.6,2,    217.1,2,   105.10,2,    28.70,3,     2.02,2,     -999,9,     -999,9,     -999,9,     -999,9,     -999,9,     -999,9,     -999,9,     -999,9,   0.7420