BOTTLE,20211216CCHDHYDRO
EXPOCODE,SECT_ID,STNNBR,CASTNO,SAMPNO,BTLNBR,BTLNBR_FLAG_W,DATE,TIME,LATITUDE,LONGITUDE,DEPTH,CTDPRS,CTDTMP,CTDSAL,CTDSAL_FLAG_W,SALNTY,SALNTY_FLAG_W,CTDOXY,CTDOXY_FLAG_W,OXYGEN,OXYGEN_FLAG_W,SILCAT,SILCAT_FLAG_W,NITRAT,NITRAT_FLAG_W,PHSPHT,PHSPHT_FLAG_W,CFC-11,CFC-11_FLAG_W,CFC-12,CFC-12_FLAG_W,TCARBN,TCARBN_FLAG_W,ALKALI,ALKALI_FLAG_W,TRITUM,TRITUM_FLAG_W,HELIUM,HELIUM_FLAG_W,DELHE3,DELHE3_FLAG_W,NEON,NEON_FLAG_W,THETA
,,,,,,,,,,,METERS,DBAR,DEG C,PSS-78,,PSS-78,,UMOL/KG,,UMOL/KG,,UMOL/KG,,UMOL/KG,,UMOL/KG,,PMOL/KG,,PMOL/KG,,UMOL/KG,,UMOL/KG,,TU,,NMOL/KG,,PERCNT,,NMOL/KG,,DEG C
35A3CITHER3_2 ,A13        ,186     ,  1,1          ,32         ,2,19950314,2142, -16.4998,   4.9970,     5458,      8.5,  25.2430,  36.3940,2,  36.3960,2,    205.0,2,    207.1,2,     5.60,3,     0.00,2,     0.16,2,    1.823,2,    0.973,2,     -999,9,     -999,9,    0.613,6,   1.6760,6,    -1.21,6,    6.612,2,  25.2410
35A3CITHER3_2 ,A13        ,186     ,  1,2          ,31         ,2,19950314,2142, -16.4998,   4.9970,     5458,     46.2,  22.6890,  36.1120,2,  36.0940,3,    227.5,2,    211.4,3,     5.60,3,     0.60,2,     0.23,2,    2.049,2,    1.073,2,     -999,9,     -999,9,     -999,9,     -999,9,     -999,9,     -999,9,  22.6800
35A3CITHER3_2 ,A13        ,186     ,  1,3          ,30         ,2,19950314,2142, -16.4998,   4.9970,     5458,    135.8,  13.4420,  35.3050,2,  35.3000,3,     37.3,2,     56.5,3,    10.70,2,    27.40,2,     1.71,2,    1.359,2,    0.667,2,     -999,9,     -999,9,    0.504,2,   1.7590,2,     1.51,2,    7.320,2,  13.4230
35A3CITHER3_2 ,A13        ,186     ,  1,4          ,29         ,2,19950314,2142, -16.4998,   4.9970,     5458,    195.2,  12.0630,  35.1270,2,  35.1220,3,     50.5,2,     58.6,3,    12.20,2,    28.90,2,     1.79,2,    1.064,2,    0.539,2,     -999,9,     -999,9,    0.385,2,   1.7520,2,     1.93,2,    7.350,2,  12.0370
35A3CITHER3_2 ,A13        ,186     ,  1,5          ,28         ,2,19950314,2142, -16.4998,   4.9970,     5458,    276.3,  10.2660,  34.9390,2,  34.9320,3,     26.1,2,     43.7,3,    15.90,2,    33.80,2,     2.10,2,    0.480,2,    0.277,2,     -999,9,     -999,9,    0.185,2,   1.7760,2,     1.29,2,    7.451,2,  10.2330
35A3CITHER3_2 ,A13        ,186     ,  1,6          ,27         ,2,19950314,2142, -16.4998,   4.9970,     5458,    444.4,   7.5020,  34.6700,2,  34.6680,2,     54.1,2,     71.0,3,    21.80,2,    37.60,2,     2.35,2,    0.060,2,    0.036,2,     -999,9,     -999,9,    0.037,2,   1.7730,2,     0.82,2,    7.539,2,   7.4580
35A3CITHER3_2 ,A13        ,186     ,  1,7          ,26         ,2,19950314,2142, -16.4998,   4.9970,     5458,    595.2,   5.9290,  34.5400,2,  34.5400,2,     85.9,2,     90.0,3,    26.60,2,    37.90,2,     2.43,2,    0.018,2,    0.013,2,     -999,9,     -999,9,    0.031,2,   1.7920,2,     1.13,2,    7.649,2,   5.8770
35A3CITHER3_2 ,A13        ,186     ,  1,8          ,25         ,2,19950314,2142, -16.4998,   4.9970,     5458,    795.5,   4.6670,  34.4920,2,  34.4860,3,    114.5,2,    117.3,2,    33.80,2,    37.00,2,     2.43,2,    0.005,2,    0.000,2,     -999,9,     -999,9,     -999,9,     -999,9,     -999,9,     -999,9,   4.6040
35A3CITHER3_2 ,A13        ,186     ,  1,9          ,24         ,2,19950314,2142, -16.4998,   4.9970,     5458,    995.9,   4.0570,  34.5510,2,  34.5490,2,    142.5,2,    142.9,2,    38.20,2,    34.60,2,     2.31,2,   -0.002,2,    0.004,2,     -999,9,     -999,9,     -999,9,   1.8160,2,     2.74,2,     -999,9,   3.9810
35A3CITHER3_2 ,A13        ,186     ,  1,10         ,23         ,2,19950314,2142, -16.4998,   4.9970,     5458,   1194.6,   3.7920,  34.6800,2,  34.6750,3,    163.3,2,    163.7,2,    37.50,2,    30.90,2,     2.10,2,    0.003,2,    0.000,2,     -999,9,     -999,9,     -999,9,     -999,9,     -999,9,     -999,9,   3.7010
35A3CITHER3_2 ,A13        ,186     ,  1,11         ,22         ,2,19950314,2142, -16.4998,   4.9970,     5458,   1395.6,   3.6730,  34.7890,2,  34.7880,2,    187.5,2,    188.8,2,    34.20,2,    27.00,2,     1.81,2,    0.000,2,    0.004,2,     -999,9,     -999,9,    0.028,2,   1.8130,2,     2.80,2,    7.846,4,   3.5660
35A3CITHER3_2 ,A13        ,186     ,  1,12         ,21         ,2,19950314,2142, -16.4998,   4.9970,     5458,   1594.9,   3.5890,  34.8670,2,  34.8670,2,    207.1,2,    205.5,2,    30.90,2,    24.50,2,     1.58,2,    0.000,2,     -999,9,     -999,9,     -999,9,     -999,9,     -999,9,     -999,9,     -999,9,   3.4650
35A3CITHER3_2 ,A13        ,186     ,  1,13         ,20         ,2,19950314,2142, -16.4998,   4.9970,     5458,   1795.9,   3.4500,  34.9010,2,  34.9020,2,    219.5,2,    217.8,2,    30.40,2,    22.90,2,     1.50,2,    0.002,2,    0.006,2,     -999,9,     -999,9,    0.002,2,   1.8080,2,     2.54,2,    7.854,2,   3.3100
35A3CITHER3_2 ,A13        ,186     ,  1,14         ,19         ,2,19950314,2142, -16.4998,   4.9970,     5458,   1996.3,   3.2810,  34.9130,2,  34.9130,2,    225.2,2,    224.5,2,    32.00,2,    22.40,2,     1.48,2,    0.000,2,    0.004,2,     -999,9,     -999,9,     -999,9,   1.8210,2,     3.16,2,     -999,9,   3.1250
35A3CITHER3_2 ,A13        ,186     ,  1,15         ,18         ,2,19950314,2142, -16.4998,   4.9970,     5458,   2196.2,   3.1190,  34.9160,2,  34.9180,2,    228.1,2,    227.2,2,    34.50,2,    22.30,2,     1.43,2,    0.004,2,    0.000,2,     -999,9,     -999,9,    0.005,2,   1.8400,2,     3.17,2,    7.962,2,   2.9460
35A3CITHER3_2 ,A13        ,186     ,  1,16         ,17         ,2,19950314,2142, -16.4998,   4.9970,     5458,   2395.3,   2.9640,  34.9120,2,  34.9140,2,    230.4,2,    229.8,2,    37.20,2,    22.50,2,     1.49,2,    0.000,2,   -0.002,2,     -999,9,     -999,9,     -999,9,   1.8370,2,     3.65,2,     -999,9,   2.7750
35A3CITHER3_2 ,A13        ,186     ,  1,17         ,16         ,2,19950314,2142, -16.4998,   4.9970,     5458,   2594.9,   2.8090,  34.9080,2,  34.9100,2,    231.3,2,    230.2,2,    41.40,2,    22.30,2,     1.49,2,    0.007,2,     -999,9,     -999,9,     -999,9,     -999,9,     -999,9,     -999,9,     -999,9,   2.6030
35A3CITHER3_2 ,A13        ,186     ,  1,18         ,15         ,2,19950314,2142, -16.4998,   4.9970,     5458,   2796.1,   2.6700,  34.8990,2,  34.8990,2,    232.1,2,    231.3,2,    45.40,2,    22.50,2,     1.49,2,    0.006,2,    0.000,2,     -999,9,     -999,9,    0.002,2,   1.8450,2,     3.96,2,    7.993,2,   2.4470
35A3CITHER3_2 ,A13        ,186     ,  1,19         ,14         ,2,19950314,2142, -16.4998,   4.9970,     5458,   2995.9,   2.5670,  34.8970,2,  34.8970,2,    230.8,2,    228.9,2,    48.90,2,    22.90,2,     1.52,2,    0.001,2,   -0.003,2,     -999,9,     -999,9,     -999,9,   1.8300,2,     3.68,2,     -999,9,   2.3260
35A3CITHER3_2 ,A13        ,186     ,  1,20         ,13         ,2,19950314,2142, -16.4998,   4.9970,     5458,   3195.4,   2.4900,  34.8940,2,  34.8910,2,    228.6,2,    227.2,2,    51.00,2,    22.90,2,     1.52,2,    0.003,2,    0.004,2,     -999,9,     -999,9,     -999,9,     -999,9,     -999,9,     -999,9,   2.2300
35A3CITHER3_2 ,A13        ,186     ,  1,21         ,12         ,2,19950314,2142, -16.4998,   4.9970,     5458,   3395.7,   2.4210,  34.8900,2,  34.8920,2,    228.9,2,    229.1,2,    51.90,2,    23.10,2,     1.54,2,    0.001,2,    0.000,2,     -999,9,     -999,9,    0.006,3,   1.8470,3,     3.68,3,    7.993,2,   2.1420
35A3CITHER3_2 ,A13        ,186     ,  1,22         ,11         ,2,19950314,2142, -16.4998,   4.9970,     5458,   3597.2,   2.3900,  34.8900,2,  34.8860,2,    229.1,2,    229.4,2,    52.20,2,    22.70,2,     1.51,2,    0.001,2,    0.003,2,     -999,9,     -999,9,     -999,9,     -999,9,     -999,9,     -999,9,   2.0900
35A3CITHER3_2 ,A13        ,186     ,  1,23         ,10         ,2,19950314,2142, -16.4998,   4.9970,     5458,   3797.3,   2.3680,  34.8880,2,  34.8880,2,    230.8,2,    231.5,2,    52.20,2,    23.10,2,     1.52,2,    0.000,2,     -999,9,     -999,9,     -999,9,     -999,9,     -999,9,     -999,9,     -999,9,   2.0460
35A3CITHER3_2 ,A13        ,186     ,  1,24         ,9          ,2,19950314,2142, -16.4998,   4.9970,     5458,   3995.7,   2.3650,  34.8880,2,  34.8890,2,    231.5,2,    232.3,2,    52.80,2,    22.90,2,     1.56,2,    0.004,2,   -0.003,2,     -999,9,     -999,9,    0.002,2,   1.8380,2,     2.90,2,    8.012,2,   2.0210
35A3CITHER3_2 ,A13        ,186     ,  1,25         ,8          ,2,19950314,2142, -16.4998,   4.9970,     5458,   4195.9,   2.3660,  34.8870,2,  34.8880,2,    231.7,2,    232.5,2,    53.50,2,    23.10,2,     1.52,2,    0.000,2,    0.000,2,     -999,9,     -999,9,     -999,9,     -999,9,     -999,9,     -999,9,   1.9990
35A3CITHER3_2 ,A13        ,186     ,  1,26         ,7          ,2,19950314,2142, -16.4998,   4.9970,     5458,   4395.2,   2.3750,  34.8850,2,  34.8850,2,    232.6,2,    232.9,2,    53.30,2,    22.90,2,     1.50,2,    0.002,2,    0.004,2,     -999,9,     -999,9,     -999,9,     -999,9,     -999,9,     -999,9,   1.9840
35A3CITHER3_2 ,A13        ,186     ,  1,27         ,6          ,2,19950314,2142, -16.4998,   4.9970,     5458,   4596.3,   2.3860,  34.8840,2,  34.8870,2,    232.8,2,    233.3,2,    53.50,2,    22.60,2,     1.51,2,    0.002,2,     -999,9,     -999,9,     -999,9,    0.005,2,   1.8340,2,     3.43,2,    8.024,2,   1.9710
35A3CITHER3_2 ,A13        ,186     ,  1,28         ,5          ,2,19950314,2142, -16.4998,   4.9970,     5458,   4794.5,   2.3980,  34.8820,2,  34.8840,2,    233.9,2,    234.4,2,    52.90,2,    22.70,2,     1.52,2,    0.013,2,     -999,9,     -999,9,     -999,9,     -999,9,     -999,9,     -999,9,     -999,9,   1.9580
35A3CITHER3_2 ,A13        ,186     ,  1,29         ,4          ,2,19950314,2142, -16.4998,   4.9970,     5458,   4998.5,   2.4120,  34.8810,2,  34.8850,2,    234.8,2,    235.2,2,    53.60,2,    22.40,2,     1.48,2,    0.006,2,     -999,9,     -999,9,     -999,9,    0.004,2,   1.8400,2,     2.80,2,    8.035,2,   1.9460
35A3CITHER3_2 ,A13        ,186     ,  1,30         ,3          ,2,19950314,2142, -16.4998,   4.9970,     5458,   5198.5,   2.4330,  34.8810,2,  34.8830,2,    235.0,2,    235.8,2,    54.50,2,    22.90,2,     1.49,2,     -999,9,     -999,9,     -999,9,     -999,9,    0.007,2,   1.8400,2,     2.92,2,    8.066,2,   1.9410
35A3CITHER3_2 ,A13        ,186     ,  1,31         ,2          ,2,19950314,2142, -16.4998,   4.9970,     5458,   5447.0,   2.4610,  34.8790,2,  34.8830,2,    235.0,2,    234.3,2,    54.20,2,    22.70,2,     1.47,2,     -999,9,     -999,9,     -999,9,     -999,9,     -999,9,     -999,9,     -999,9,     -999,9,   1.9350
35A3CITHER3_2 ,A13        ,186     ,  1,32         ,1          ,2,19950314,2142, -16.4998,   4.9970,     5458,   5533.4,   2.4720,  34.8800,2,  34.8850,3,    234.7,2,    235.6,2,    54.20,2,    22.40,2,     1.45,2,    0.007,2,     -999,9,     -999,9,     -999,9,    0.007,2,   1.8340,2,     2.90,2,    8.027,2,   1.9340