BOTTLE,20211216CCHDHYDRO
EXPOCODE,SECT_ID,STNNBR,CASTNO,SAMPNO,BTLNBR,BTLNBR_FLAG_W,DATE,TIME,LATITUDE,LONGITUDE,DEPTH,CTDPRS,CTDTMP,CTDSAL,CTDSAL_FLAG_W,SALNTY,SALNTY_FLAG_W,CTDOXY,CTDOXY_FLAG_W,OXYGEN,OXYGEN_FLAG_W,SILCAT,SILCAT_FLAG_W,NITRAT,NITRAT_FLAG_W,PHSPHT,PHSPHT_FLAG_W,CFC-11,CFC-11_FLAG_W,CFC-12,CFC-12_FLAG_W,TCARBN,TCARBN_FLAG_W,ALKALI,ALKALI_FLAG_W,TRITUM,TRITUM_FLAG_W,HELIUM,HELIUM_FLAG_W,DELHE3,DELHE3_FLAG_W,NEON,NEON_FLAG_W,THETA
,,,,,,,,,,,METERS,DBAR,DEG C,PSS-78,,PSS-78,,UMOL/KG,,UMOL/KG,,UMOL/KG,,UMOL/KG,,UMOL/KG,,PMOL/KG,,PMOL/KG,,UMOL/KG,,UMOL/KG,,TU,,NMOL/KG,,PERCNT,,NMOL/KG,,DEG C
35A3CITHER3_2 ,A13        ,119     ,  1,1          ,32         ,2,19950224,0852, -36.4455,  14.9857,     4865,      3.9,  19.5530,  35.4560,2,  35.4560,2,    240.2,2,    233.9,3,     2.30,2,     0.00,2,     0.13,2,    2.441,2,    1.232,2,     -999,9,     -999,9,     -999,9,     -999,9,     -999,9,     -999,9,  19.5520
35A3CITHER3_2 ,A13        ,119     ,  1,2          ,31         ,2,19950224,0852, -36.4455,  14.9857,     4865,     45.9,  17.8400,  35.1420,2,  35.1380,2,    250.3,2,    242.2,3,     2.00,2,     0.00,2,     0.15,2,    2.612,2,    1.307,2,     -999,9,     -999,9,     -999,9,     -999,9,     -999,9,     -999,9,  17.8320
35A3CITHER3_2 ,A13        ,119     ,  1,3          ,30         ,2,19950224,0852, -36.4455,  14.9857,     4865,    121.1,  15.5220,  35.4530,2,  35.4500,2,    234.1,2,    224.3,3,     3.50,2,     3.80,2,     0.35,2,    2.721,2,    1.349,2,     -999,9,     -999,9,     -999,9,     -999,9,     -999,9,     -999,9,  15.5030
35A3CITHER3_2 ,A13        ,119     ,  1,4          ,29         ,2,19950224,0852, -36.4455,  14.9857,     4865,    195.2,  12.9050,  35.0270,2,  35.0210,2,    227.3,2,    232.9,2,     3.20,2,     6.80,3,     0.54,2,    3.017,2,    1.463,2,     -999,9,     -999,9,     -999,9,     -999,9,     -999,9,     -999,9,  12.8780
35A3CITHER3_2 ,A13        ,119     ,  1,5          ,28         ,2,19950224,0852, -36.4455,  14.9857,     4865,    296.0,  11.7390,  35.0120,2,  35.0130,2,    212.3,2,    213.5,2,     6.60,2,    12.80,3,     0.90,3,    2.394,2,    1.159,2,     -999,9,     -999,9,     -999,9,     -999,9,     -999,9,     -999,9,  11.7010
35A3CITHER3_2 ,A13        ,119     ,  1,6          ,27         ,2,19950224,0852, -36.4455,  14.9857,     4865,    396.3,  10.3850,  34.8260,2,  34.8280,2,    229.9,2,    222.7,3,     5.80,2,    14.10,2,     0.99,2,    2.784,2,    1.318,2,     -999,9,     -999,9,     -999,9,     -999,9,     -999,9,     -999,9,  10.3380
35A3CITHER3_2 ,A13        ,119     ,  1,7          ,26         ,2,19950224,0852, -36.4455,  14.9857,     4865,    596.4,   7.3730,  34.4990,2,  34.5000,2,    217.5,2,    213.6,2,    11.10,2,    22.60,2,     1.51,2,    2.322,2,    1.068,2,     -999,9,     -999,9,     -999,9,     -999,9,     -999,9,     -999,9,   7.3140
35A3CITHER3_2 ,A13        ,119     ,  1,8          ,25         ,2,19950224,0852, -36.4455,  14.9857,     4865,    794.2,   5.3590,  34.3790,2,  34.3800,2,    216.4,2,    213.3,2,    22.60,3,    27.60,3,     1.85,3,    1.731,2,    0.792,2,     -999,9,     -999,9,     -999,9,     -999,9,     -999,9,     -999,9,   5.2920
35A3CITHER3_2 ,A13        ,119     ,  1,9          ,24         ,2,19950224,0852, -36.4455,  14.9857,     4865,    894.0,   4.2340,  34.2990,2,  34.2960,2,    225.1,2,    225.2,2,    25.30,2,    28.10,2,     1.94,2,    1.647,2,    0.758,2,     -999,9,     -999,9,     -999,9,     -999,9,     -999,9,     -999,9,   4.1660
35A3CITHER3_2 ,A13        ,119     ,  1,10         ,23         ,2,19950224,0852, -36.4455,  14.9857,     4865,    995.2,   3.7200,  34.3140,2,  34.3140,2,    215.8,2,    218.0,2,    31.30,2,    30.30,2,     2.05,2,    1.312,2,    0.605,2,     -999,9,     -999,9,     -999,9,     -999,9,     -999,9,     -999,9,   3.6470
35A3CITHER3_2 ,A13        ,119     ,  1,11         ,22         ,2,19950224,0852, -36.4455,  14.9857,     4865,   1195.6,   3.7530,  34.5090,2,  34.5110,2,    176.4,2,    174.4,2,    53.50,2,    32.30,2,     2.20,2,    0.421,2,    0.201,2,     -999,9,     -999,9,     -999,9,     -999,9,     -999,9,     -999,9,   3.6630
35A3CITHER3_2 ,A13        ,119     ,  1,12         ,21         ,2,19950224,0852, -36.4455,  14.9857,     4865,   1195.8,   3.7520,  34.5090,2,  34.5100,2,    176.4,2,    173.0,2,    55.30,2,    32.50,2,     2.25,2,     -999,9,     -999,9,     -999,9,     -999,9,     -999,9,     -999,9,     -999,9,     -999,9,   3.6620
35A3CITHER3_2 ,A13        ,119     ,  1,13         ,20         ,2,19950224,0852, -36.4455,  14.9857,     4865,   1396.2,   3.0980,  34.5650,2,  34.5630,2,    174.7,2,    173.3,2,    62.40,2,    32.50,2,     2.24,2,     -999,9,     -999,9,     -999,9,     -999,9,     -999,9,     -999,9,     -999,9,     -999,9,   2.9980
35A3CITHER3_2 ,A13        ,119     ,  1,14         ,19         ,2,19950224,0852, -36.4455,  14.9857,     4865,   1595.6,   2.7870,  34.6430,2,  34.6450,2,    179.6,2,    180.7,2,    64.00,2,    31.40,2,     2.14,2,    0.079,2,    0.047,2,     -999,9,     -999,9,     -999,9,     -999,9,     -999,9,     -999,9,   2.6740
35A3CITHER3_2 ,A13        ,119     ,  1,15         ,18         ,2,19950224,0852, -36.4455,  14.9857,     4865,   1795.4,   2.7500,  34.7240,2,  34.7250,2,    190.3,2,    190.3,2,    61.90,2,    29.30,2,     2.03,2,    0.035,2,    0.018,2,     -999,9,     -999,9,     -999,9,     -999,9,     -999,9,     -999,9,   2.6200
35A3CITHER3_2 ,A13        ,119     ,  1,16         ,17         ,2,19950224,0852, -36.4455,  14.9857,     4865,   1994.0,   2.7100,  34.7810,2,  34.7820,2,    201.3,2,    202.6,2,    57.50,2,    27.60,2,     1.85,2,    0.014,2,    0.009,2,     -999,9,     -999,9,     -999,9,     -999,9,     -999,9,     -999,9,   2.5630
35A3CITHER3_2 ,A13        ,119     ,  1,17         ,16         ,2,19950224,0852, -36.4455,  14.9857,     4865,   2193.9,   2.6340,  34.8090,2,  34.8110,2,    210.1,2,    211.0,2,    55.50,2,    26.50,2,     1.79,2,    0.013,2,    0.010,2,     -999,9,     -999,9,     -999,9,     -999,9,     -999,9,     -999,9,   2.4700
35A3CITHER3_2 ,A13        ,119     ,  1,18         ,15         ,2,19950224,0852, -36.4455,  14.9857,     4865,   2395.0,   2.5520,  34.8280,2,  34.8270,2,    216.4,2,    217.3,2,    54.20,2,    25.60,2,     1.72,2,    0.007,2,    0.006,2,     -999,9,     -999,9,     -999,9,     -999,9,     -999,9,     -999,9,   2.3710
35A3CITHER3_2 ,A13        ,119     ,  1,19         ,14         ,2,19950224,0852, -36.4455,  14.9857,     4865,   2594.5,   2.4750,  34.8340,2,  34.8340,2,    221.2,2,    221.3,2,    55.00,2,    25.30,2,     1.70,2,    0.005,2,   -0.001,2,     -999,9,     -999,9,     -999,9,     -999,9,     -999,9,     -999,9,   2.2760
35A3CITHER3_2 ,A13        ,119     ,  1,21         ,12         ,2,19950224,0852, -36.4455,  14.9857,     4865,   2795.3,   2.3880,  34.8400,2,  34.8420,2,    224.2,2,    224.8,2,    56.40,2,    25.10,2,     1.67,2,    0.004,2,    0.007,2,     -999,9,     -999,9,     -999,9,     -999,9,     -999,9,     -999,9,   2.1710
35A3CITHER3_2 ,A13        ,119     ,  1,20         ,13         ,2,19950224,0852, -36.4455,  14.9857,     4865,   2796.1,   2.3880,  34.8420,2,  34.8400,2,    224.2,2,    224.2,2,    55.50,2,    25.10,2,     1.69,2,    0.003,2,    0.001,2,     -999,9,     -999,9,     -999,9,     -999,9,     -999,9,     -999,9,   2.1710
35A3CITHER3_2 ,A13        ,119     ,  1,22         ,11         ,2,19950224,0852, -36.4455,  14.9857,     4865,   2997.4,   2.3200,  34.8420,2,  34.8420,2,    225.4,2,    225.8,2,    57.50,2,    25.10,2,     1.67,2,    0.003,2,    0.005,2,     -999,9,     -999,9,     -999,9,     -999,9,     -999,9,     -999,9,   2.0850
35A3CITHER3_2 ,A13        ,119     ,  1,23         ,10         ,2,19950224,0852, -36.4455,  14.9857,     4865,   3196.8,   2.2260,  34.8400,2,  34.8390,2,    226.9,2,    226.4,2,    60.50,2,    25.10,2,     1.64,2,    0.007,2,    0.015,2,     -999,9,     -999,9,     -999,9,     -999,9,     -999,9,     -999,9,   1.9730
35A3CITHER3_2 ,A13        ,119     ,  1,24         ,9          ,2,19950224,0852, -36.4455,  14.9857,     4865,   3394.9,   2.0810,  34.8290,2,  34.8300,2,    225.8,2,    225.3,2,    67.00,2,    25.60,2,     1.71,2,    0.006,2,    0.002,2,     -999,9,     -999,9,     -999,9,     -999,9,     -999,9,     -999,9,   1.8110
35A3CITHER3_2 ,A13        ,119     ,  1,25         ,8          ,2,19950224,0852, -36.4455,  14.9857,     4865,   3597.7,   1.8620,  34.8080,2,  34.8090,2,    223.1,2,    222.4,2,    75.00,2,    26.40,2,     1.77,2,    0.008,2,    0.011,2,     -999,9,     -999,9,     -999,9,     -999,9,     -999,9,     -999,9,   1.5760
35A3CITHER3_2 ,A13        ,119     ,  1,26         ,7          ,2,19950224,0852, -36.4455,  14.9857,     4865,   3794.7,   1.5260,  34.7790,2,  34.7780,2,    220.4,2,    219.8,2,    87.70,2,    27.80,2,     1.88,2,    0.009,2,    0.010,2,     -999,9,     -999,9,     -999,9,     -999,9,     -999,9,     -999,9,   1.2280
35A3CITHER3_2 ,A13        ,119     ,  1,27         ,6          ,2,19950224,0852, -36.4455,  14.9857,     4865,   3995.9,   1.2280,  34.7510,2,  34.7530,2,    218.2,2,    218.6,2,    97.10,2,    29.00,2,     1.96,2,    0.018,2,    0.021,2,     -999,9,     -999,9,     -999,9,     -999,9,     -999,9,     -999,9,   0.9170
35A3CITHER3_2 ,A13        ,119     ,  1,28         ,5          ,2,19950224,0852, -36.4455,  14.9857,     4865,   4197.4,   1.0760,  34.7400,2,  34.7390,2,    217.4,2,    217.9,2,   102.80,2,    29.90,2,     2.01,2,    0.018,2,    0.013,2,     -999,9,     -999,9,     -999,9,     -999,9,     -999,9,     -999,9,   0.7470
35A3CITHER3_2 ,A13        ,119     ,  1,29         ,4          ,2,19950224,0852, -36.4455,  14.9857,     4865,   4396.5,   1.0140,  34.7330,2,  34.7330,2,    217.3,2,    217.9,2,   106.50,2,    30.00,2,     2.04,2,    0.022,2,    0.018,2,     -999,9,     -999,9,     -999,9,     -999,9,     -999,9,     -999,9,   0.6650
35A3CITHER3_2 ,A13        ,119     ,  1,30         ,3          ,2,19950224,0852, -36.4455,  14.9857,     4865,   4596.5,   0.9650,  34.7250,2,  34.7270,2,    217.8,2,    218.2,2,   108.00,2,    30.40,2,     2.05,2,    0.035,2,    0.018,2,     -999,9,     -999,9,     -999,9,     -999,9,     -999,9,     -999,9,   0.5960
35A3CITHER3_2 ,A13        ,119     ,  1,31         ,2          ,2,19950224,0852, -36.4455,  14.9857,     4865,   4797.2,   0.8980,  34.7180,2,  34.7200,2,    218.0,2,    218.3,2,   112.10,2,    30.00,2,     2.09,2,    0.040,2,    0.028,2,     -999,9,     -999,9,     -999,9,     -999,9,     -999,9,     -999,9,   0.5080
35A3CITHER3_2 ,A13        ,119     ,  1,32         ,1          ,2,19950224,0852, -36.4455,  14.9857,     4865,   4913.6,   0.9070,  34.7180,2,  34.7200,2,    218.0,2,    218.5,2,   112.10,2,    30.70,2,     2.08,2,    0.039,2,    0.021,2,     -999,9,     -999,9,     -999,9,     -999,9,     -999,9,     -999,9,   0.5030
35A3CITHER3_2 ,A13        ,120     ,  1,1          ,32         ,2,19950224,1519, -36.7790,  14.5428,     4913,   2195.4,   2.5980,  34.8210,2,  34.8190,2,    215.9,2,    213.9,2,    53.10,2,    25.70,2,     1.68,2,    0.007,2,    0.002,2,     -999,9,     -999,9,     -999,9,     -999,9,     -999,9,     -999,9,   2.4340
35A3CITHER3_2 ,A13        ,120     ,  1,2          ,31         ,2,19950224,1519, -36.7790,  14.5428,     4913,   2397.5,   2.4860,  34.8330,2,  34.8310,2,    220.3,2,    220.2,2,    54.50,2,    25.40,2,     1.66,2,    0.006,2,    0.003,2,     -999,9,     -999,9,     -999,9,     -999,9,     -999,9,     -999,9,   2.3060
35A3CITHER3_2 ,A13        ,120     ,  1,3          ,30         ,2,19950224,1519, -36.7790,  14.5428,     4913,   2595.6,   2.4040,  34.8380,2,  34.8350,2,    224.0,2,    222.8,2,    56.10,2,    25.20,2,     1.64,2,    0.009,2,    0.008,2,     -999,9,     -999,9,     -999,9,     -999,9,     -999,9,     -999,9,   2.2060
35A3CITHER3_2 ,A13        ,120     ,  1,4          ,29         ,2,19950224,1519, -36.7790,  14.5428,     4913,   2595.6,   2.4040,  34.8380,2,  34.8310,2,    224.0,2,    223.0,2,    56.40,2,    25.20,2,     1.67,2,    0.008,2,    0.005,2,     -999,9,     -999,9,     -999,9,     -999,9,     -999,9,     -999,9,   2.2060
35A3CITHER3_2 ,A13        ,120     ,  1,5          ,28         ,2,19950224,1519, -36.7790,  14.5428,     4913,   2795.7,   2.3230,  34.8460,2,  34.8380,2,    226.0,2,    225.9,2,    56.60,2,    25.00,2,     1.64,2,    0.014,2,    0.005,2,     -999,9,     -999,9,     -999,9,     -999,9,     -999,9,     -999,9,   2.1080
35A3CITHER3_2 ,A13        ,120     ,  1,6          ,27         ,2,19950224,1519, -36.7790,  14.5428,     4913,   2995.9,   2.2530,  34.8420,2,  34.8390,2,    226.4,2,    226.1,2,    58.80,2,    25.00,2,     1.67,2,    0.037,2,    0.021,2,     -999,9,     -999,9,     -999,9,     -999,9,     -999,9,     -999,9,   2.0190
35A3CITHER3_2 ,A13        ,120     ,  1,7          ,26         ,2,19950224,1519, -36.7790,  14.5428,     4913,   3197.0,   2.1520,  34.8380,2,  34.8360,2,    226.8,2,    226.5,2,    62.10,2,    25.40,2,     1.66,2,    0.004,2,    0.001,2,     -999,9,     -999,9,     -999,9,     -999,9,     -999,9,     -999,9,   1.9000
35A3CITHER3_2 ,A13        ,120     ,  1,8          ,25         ,2,19950224,1519, -36.7790,  14.5428,     4913,   3396.7,   1.9510,  34.8200,2,  34.8170,2,    224.9,2,    224.5,2,    70.80,2,    26.10,2,     1.73,2,    0.005,2,    0.005,2,     -999,9,     -999,9,     -999,9,     -999,9,     -999,9,     -999,9,   1.6840
35A3CITHER3_2 ,A13        ,120     ,  1,9          ,24         ,2,19950224,1519, -36.7790,  14.5428,     4913,   3594.2,   1.6800,  34.7980,2,  34.7910,2,    222.0,2,    221.9,2,    82.00,2,    27.30,2,     1.82,2,    0.011,2,    0.011,2,     -999,9,     -999,9,     -999,9,     -999,9,     -999,9,     -999,9,   1.3990
35A3CITHER3_2 ,A13        ,120     ,  1,10         ,23         ,2,19950224,1519, -36.7790,  14.5428,     4913,   3996.5,   1.2300,  34.7560,2,  34.7690,3,    218.0,2,    219.9,2,    90.70,2,    28.40,2,     1.87,2,    0.010,2,    0.005,2,     -999,9,     -999,9,     -999,9,     -999,9,     -999,9,     -999,9,   0.9190
35A3CITHER3_2 ,A13        ,120     ,  1,11         ,22         ,2,19950224,1519, -36.7790,  14.5428,     4913,   4196.3,   1.1130,  34.7420,2,  34.7380,2,    217.7,2,    218.1,2,   103.70,2,    29.90,2,     1.98,2,    0.021,2,    0.013,2,     -999,9,     -999,9,     -999,9,     -999,9,     -999,9,     -999,9,   0.7830
35A3CITHER3_2 ,A13        ,120     ,  1,12         ,21         ,2,19950224,1519, -36.7790,  14.5428,     4913,   4393.9,   1.0640,  34.7350,2,  34.7340,2,    217.7,2,    217.5,2,   105.90,2,    30.10,2,     1.99,2,     -999,9,     -999,9,     -999,9,     -999,9,     -999,9,     -999,9,     -999,9,     -999,9,   0.7140
35A3CITHER3_2 ,A13        ,120     ,  1,13         ,20         ,2,19950224,1519, -36.7790,  14.5428,     4913,   4597.1,   1.0250,  34.7330,2,  34.7280,2,    217.6,2,    217.5,2,   108.30,2,    30.40,2,     2.02,2,    0.022,2,    0.027,2,     -999,9,     -999,9,     -999,9,     -999,9,     -999,9,     -999,9,   0.6540
35A3CITHER3_2 ,A13        ,120     ,  1,14         ,19         ,2,19950224,1519, -36.7790,  14.5428,     4913,   4799.0,   0.9610,  34.7240,2,  34.7220,2,    218.1,2,    218.6,2,   111.10,2,    30.50,2,     2.04,2,    0.035,2,    0.026,2,     -999,9,     -999,9,     -999,9,     -999,9,     -999,9,     -999,9,   0.5680
35A3CITHER3_2 ,A13        ,120     ,  1,15         ,18         ,2,19950224,1519, -36.7790,  14.5428,     4913,   4898.1,   0.9220,  34.7210,2,  34.7200,2,    218.4,2,    219.2,2,   112.40,2,    30.70,2,     2.06,2,    0.041,2,    0.018,2,     -999,9,     -999,9,     -999,9,     -999,9,     -999,9,     -999,9,   0.5190
35A3CITHER3_2 ,A13        ,120     ,  1,16         ,17         ,2,19950224,1519, -36.7790,  14.5428,     4913,   4949.6,   0.9150,  34.7200,2,  34.7180,2,    218.3,2,    220.9,2,   113.50,2,    30.70,2,     2.04,2,    0.037,2,    0.021,2,     -999,9,     -999,9,     -999,9,     -999,9,     -999,9,     -999,9,   0.5060