BOTTLE,20211216CCHDHYDRO
EXPOCODE,SECT_ID,STNNBR,CASTNO,SAMPNO,BTLNBR,BTLNBR_FLAG_W,DATE,TIME,LATITUDE,LONGITUDE,DEPTH,CTDPRS,CTDTMP,CTDSAL,CTDSAL_FLAG_W,SALNTY,SALNTY_FLAG_W,CTDOXY,CTDOXY_FLAG_W,OXYGEN,OXYGEN_FLAG_W,SILCAT,SILCAT_FLAG_W,NITRAT,NITRAT_FLAG_W,PHSPHT,PHSPHT_FLAG_W,CFC-11,CFC-11_FLAG_W,CFC-12,CFC-12_FLAG_W,TCARBN,TCARBN_FLAG_W,ALKALI,ALKALI_FLAG_W,TRITUM,TRITUM_FLAG_W,HELIUM,HELIUM_FLAG_W,DELHE3,DELHE3_FLAG_W,NEON,NEON_FLAG_W,THETA
,,,,,,,,,,,METERS,DBAR,DEG C,PSS-78,,PSS-78,,UMOL/KG,,UMOL/KG,,UMOL/KG,,UMOL/KG,,UMOL/KG,,PMOL/KG,,PMOL/KG,,UMOL/KG,,UMOL/KG,,TU,,NMOL/KG,,PERCNT,,NMOL/KG,,DEG C
35A3CITHER3_2 ,A13        ,208     ,  1,1          ,32         ,2,19950320,1241,  -5.9997,   5.0010,     5034,      4.6,  29.2390,  35.8170,2,  35.8160,2,    192.7,2,    196.1,3,     5.90,2,     0.00,2,     0.14,2,    1.564,2,    0.866,2,     -999,9,     -999,9,     -999,9,     -999,9,     -999,9,     -999,9,  29.2380
35A3CITHER3_2 ,A13        ,208     ,  1,2          ,31         ,2,19950320,1241,  -5.9997,   5.0010,     5034,     46.0,  16.9290,  35.6760,2,  35.6730,2,    155.2,2,    116.7,3,     8.00,2,    16.60,2,     1.05,2,    1.536,2,    0.761,2,     -999,9,     -999,9,     -999,9,     -999,9,     -999,9,     -999,9,  16.9210
35A3CITHER3_2 ,A13        ,208     ,  1,3          ,30         ,2,19950320,1241,  -5.9997,   5.0010,     5034,    121.4,  15.1710,  35.5610,2,  35.5570,2,     78.7,2,     72.3,3,    11.20,2,    23.10,2,     1.41,2,    1.236,2,    0.621,2,     -999,9,     -999,9,     -999,9,     -999,9,     -999,9,     -999,9,  15.1520
35A3CITHER3_2 ,A13        ,208     ,  1,4          ,29         ,2,19950320,1241,  -5.9997,   5.0010,     5034,    196.1,  13.8070,  35.3830,2,  35.3820,2,     63.8,2,     64.1,2,    11.50,2,    26.00,2,     1.56,2,    0.959,2,    0.491,2,     -999,9,     -999,9,     -999,9,     -999,9,     -999,9,     -999,9,  13.7790
35A3CITHER3_2 ,A13        ,208     ,  1,5          ,28         ,2,19950320,1241,  -5.9997,   5.0010,     5034,    295.2,  11.5970,  35.1150,2,  35.1160,2,     56.1,2,     52.0,3,    14.10,2,    30.90,2,     1.83,2,    0.516,2,    0.304,2,     -999,9,     -999,9,     -999,9,     -999,9,     -999,9,     -999,9,  11.5590
35A3CITHER3_2 ,A13        ,208     ,  1,6          ,27         ,2,19950320,1241,  -5.9997,   5.0010,     5034,    375.8,   9.3950,  34.8790,2,  34.8740,2,     24.3,2,     25.9,2,    19.10,2,    37.30,2,     2.24,2,    0.113,2,    0.067,2,     -999,9,     -999,9,     -999,9,     -999,9,     -999,9,     -999,9,   9.3530
35A3CITHER3_2 ,A13        ,208     ,  1,7          ,26         ,2,19950320,1241,  -5.9997,   5.0010,     5034,    595.4,   6.2560,  34.5750,2,  34.5750,2,     85.9,2,     87.9,2,    25.40,2,    37.60,2,     2.37,2,    0.028,2,    0.021,2,     -999,9,     -999,9,     -999,9,     -999,9,     -999,9,     -999,9,   6.2020
35A3CITHER3_2 ,A13        ,208     ,  1,8          ,25         ,2,19950320,1241,  -5.9997,   5.0010,     5034,    795.4,   4.7900,  34.5080,2,  34.4840,3,    123.7,2,    120.1,2,    32.00,2,    36.70,2,     2.38,2,    0.010,2,    0.008,2,     -999,9,     -999,9,     -999,9,     -999,9,     -999,9,     -999,9,   4.7260
35A3CITHER3_2 ,A13        ,208     ,  1,9          ,24         ,2,19950320,1241,  -5.9997,   5.0010,     5034,    994.5,   4.2920,  34.6100,2,  34.6040,3,    149.5,2,    146.0,2,    34.00,2,    33.50,2,     2.17,2,    0.002,2,    0.003,2,     -999,9,     -999,9,     -999,9,     -999,9,     -999,9,     -999,9,   4.2140
35A3CITHER3_2 ,A13        ,208     ,  1,10         ,23         ,2,19950320,1241,  -5.9997,   5.0010,     5034,   1194.7,   4.1990,  34.7630,2,  34.7440,3,    174.8,2,    172.2,2,    30.60,2,    29.10,2,     1.89,2,    0.035,2,    0.017,2,     -999,9,     -999,9,     -999,9,     -999,9,     -999,9,     -999,9,   4.1050
35A3CITHER3_2 ,A13        ,208     ,  1,11         ,22         ,2,19950320,1241,  -5.9997,   5.0010,     5034,   1394.9,   4.0470,  34.8910,2,  34.8960,2,    205.9,2,    207.3,2,    25.70,2,    24.40,2,     1.57,2,    0.025,2,    0.019,2,     -999,9,     -999,9,     -999,9,     -999,9,     -999,9,     -999,9,   3.9360
35A3CITHER3_2 ,A13        ,208     ,  1,12         ,21         ,2,19950320,1241,  -5.9997,   5.0010,     5034,   1594.8,   3.8700,  34.9330,2,  34.9340,2,    223.6,2,    221.4,2,    24.20,2,    22.30,2,     1.42,2,    0.003,2,    0.006,2,     -999,9,     -999,9,     -999,9,     -999,9,     -999,9,     -999,9,   3.7430
35A3CITHER3_2 ,A13        ,208     ,  1,13         ,20         ,2,19950320,1241,  -5.9997,   5.0010,     5034,   1795.0,   3.6390,  34.9440,2,  34.9460,2,    233.5,2,    231.1,2,    24.80,2,    21.50,2,     1.37,2,    0.002,2,    0.004,2,     -999,9,     -999,9,     -999,9,     -999,9,     -999,9,     -999,9,   3.4960
35A3CITHER3_2 ,A13        ,208     ,  1,14         ,19         ,2,19950320,1241,  -5.9997,   5.0010,     5034,   1995.4,   3.4190,  34.9460,2,  34.9510,2,    239.9,2,    237.6,2,    26.40,2,    20.80,2,     1.32,2,    0.003,2,    0.003,2,     -999,9,     -999,9,     -999,9,     -999,9,     -999,9,     -999,9,   3.2610
35A3CITHER3_2 ,A13        ,208     ,  1,16         ,17         ,2,19950320,1241,  -5.9997,   5.0010,     5034,   2194.6,   3.1910,  34.9360,2,  34.9360,2,    238.8,2,    236.5,2,    30.90,2,    21.10,2,     1.36,2,    0.002,2,    0.001,2,     -999,9,     -999,9,     -999,9,     -999,9,     -999,9,     -999,9,   3.0170
35A3CITHER3_2 ,A13        ,208     ,  1,15         ,18         ,2,19950320,1241,  -5.9997,   5.0010,     5034,   2195.1,   3.1960,  34.9370,2,  34.9380,2,    238.8,2,    236.6,2,    31.20,2,    20.80,2,     1.33,2,    0.002,2,    0.001,2,     -999,9,     -999,9,     -999,9,     -999,9,     -999,9,     -999,9,   3.0220
35A3CITHER3_2 ,A13        ,208     ,  1,17         ,16         ,2,19950320,1241,  -5.9997,   5.0010,     5034,   2395.8,   3.0370,  34.9290,2,  34.9310,2,    237.3,2,    235.4,2,    33.60,2,    21.40,2,     1.37,2,    0.004,2,    0.005,2,     -999,9,     -999,9,     -999,9,     -999,9,     -999,9,     -999,9,   2.8470
35A3CITHER3_2 ,A13        ,208     ,  1,18         ,15         ,2,19950320,1241,  -5.9997,   5.0010,     5034,   2596.0,   2.8740,  34.9200,2,  34.9220,2,    236.6,2,    234.9,2,    36.50,2,    21.70,2,     1.39,2,    0.001,2,     -999,9,     -999,9,     -999,9,     -999,9,     -999,9,     -999,9,     -999,9,   2.6670
35A3CITHER3_2 ,A13        ,208     ,  1,19         ,14         ,2,19950320,1241,  -5.9997,   5.0010,     5034,   2796.4,   2.7580,  34.9150,2,  34.9170,2,    236.7,2,    236.0,2,    39.20,2,    21.70,2,     1.39,2,    0.003,2,    0.007,2,     -999,9,     -999,9,     -999,9,     -999,9,     -999,9,     -999,9,   2.5330
35A3CITHER3_2 ,A13        ,208     ,  1,20         ,13         ,2,19950320,1241,  -5.9997,   5.0010,     5034,   2995.5,   2.6590,  34.9090,2,  34.9100,2,    235.8,2,     -999,9,    42.00,2,    22.30,2,     1.42,2,    0.001,2,    0.000,2,     -999,9,     -999,9,     -999,9,     -999,9,     -999,9,     -999,9,   2.4160
35A3CITHER3_2 ,A13        ,208     ,  1,21         ,12         ,2,19950320,1241,  -5.9997,   5.0010,     5034,   3194.7,   2.5740,  34.9060,2,  34.9060,2,    235.5,2,    234.7,2,    44.50,2,    22.40,2,     1.42,2,    0.002,2,    0.000,2,     -999,9,     -999,9,     -999,9,     -999,9,     -999,9,     -999,9,   2.3120
35A3CITHER3_2 ,A13        ,208     ,  1,22         ,11         ,2,19950320,1241,  -5.9997,   5.0010,     5034,   3396.7,   2.5090,  34.9010,2,  34.9030,2,    234.7,2,    233.4,2,    46.40,2,    22.30,2,     1.42,2,    0.005,2,    0.003,2,     -999,9,     -999,9,     -999,9,     -999,9,     -999,9,     -999,9,   2.2280
35A3CITHER3_2 ,A13        ,208     ,  1,23         ,10         ,2,19950320,1241,  -5.9997,   5.0010,     5034,   3595.8,   2.4650,  34.8980,2,  34.8990,2,    233.6,2,    233.1,2,    48.10,2,    22.00,2,     1.42,2,    0.002,2,    0.000,2,     -999,9,     -999,9,     -999,9,     -999,9,     -999,9,     -999,9,   2.1630
35A3CITHER3_2 ,A13        ,208     ,  1,24         ,9          ,2,19950320,1241,  -5.9997,   5.0010,     5034,   3796.6,   2.3980,  34.8940,2,  34.8960,2,    225.3,2,    223.8,2,    53.70,2,    22.40,2,     1.44,2,    0.001,2,    0.002,2,     -999,9,     -999,9,     -999,9,     -999,9,     -999,9,     -999,9,   2.0760
35A3CITHER3_2 ,A13        ,208     ,  1,25         ,8          ,2,19950320,1241,  -5.9997,   5.0010,     5034,   3995.8,   2.3370,  34.8880,2,  34.8890,2,    220.4,2,    219.5,2,    56.20,3,    22.20,2,     1.51,3,    0.003,2,    0.001,2,     -999,9,     -999,9,     -999,9,     -999,9,     -999,9,     -999,9,   1.9940
35A3CITHER3_2 ,A13        ,208     ,  1,26         ,7          ,2,19950320,1241,  -5.9997,   5.0010,     5034,   4196.9,   2.3280,  34.8850,2,  34.8860,2,    229.5,2,    230.1,2,    53.40,2,    22.30,2,     1.45,2,    0.001,2,    0.001,2,     -999,9,     -999,9,     -999,9,     -999,9,     -999,9,     -999,9,   1.9620
35A3CITHER3_2 ,A13        ,208     ,  1,27         ,6          ,2,19950320,1241,  -5.9997,   5.0010,     5034,   4396.8,   2.3300,  34.8820,2,  34.8850,2,    232.9,2,    232.8,2,    53.30,2,    22.60,2,     1.43,2,    0.002,2,     -999,9,     -999,9,     -999,9,     -999,9,     -999,9,     -999,9,     -999,9,   1.9400
35A3CITHER3_2 ,A13        ,208     ,  1,28         ,5          ,2,19950320,1241,  -5.9997,   5.0010,     5034,   4396.8,   2.3290,  34.8830,2,  34.8850,2,    232.9,2,    232.7,2,    53.40,2,    21.00,3,     1.34,3,    0.004,2,    0.003,2,     -999,9,     -999,9,     -999,9,     -999,9,     -999,9,     -999,9,   1.9390
35A3CITHER3_2 ,A13        ,208     ,  1,29         ,4          ,2,19950320,1241,  -5.9997,   5.0010,     5034,   4598.1,   2.3370,  34.8810,2,  34.8840,2,    234.6,2,    234.3,2,    53.10,2,    22.20,2,     1.42,2,    0.003,2,    0.005,2,     -999,9,     -999,9,     -999,9,     -999,9,     -999,9,     -999,9,   1.9230
35A3CITHER3_2 ,A13        ,208     ,  1,30         ,3          ,2,19950320,1241,  -5.9997,   5.0010,     5034,   4796.8,   2.3490,  34.8790,2,  34.8810,2,    235.7,2,    235.0,2,    53.00,2,    21.00,3,     1.33,3,    0.004,2,    0.003,2,     -999,9,     -999,9,     -999,9,     -999,9,     -999,9,     -999,9,   1.9100
35A3CITHER3_2 ,A13        ,208     ,  1,31         ,2          ,2,19950320,1241,  -5.9997,   5.0010,     5034,   4998.2,   2.3710,  34.8780,2,  34.8800,2,    234.6,2,    234.2,2,    53.10,2,    22.30,2,     1.44,2,    0.002,2,    0.000,2,     -999,9,     -999,9,     -999,9,     -999,9,     -999,9,     -999,9,   1.9060
35A3CITHER3_2 ,A13        ,208     ,  1,32         ,1          ,2,19950320,1241,  -5.9997,   5.0010,     5034,   5095.0,   2.3670,  34.8750,2,  34.8790,2,    233.1,2,    235.2,2,    54.50,2,    22.00,2,     1.40,2,    0.003,2,    0.003,2,     -999,9,     -999,9,     -999,9,     -999,9,     -999,9,     -999,9,   1.8900