BOTTLE,20211216CCHDHYDRO
EXPOCODE,SECT_ID,STNNBR,CASTNO,SAMPNO,BTLNBR,BTLNBR_FLAG_W,DATE,TIME,LATITUDE,LONGITUDE,DEPTH,CTDPRS,CTDTMP,CTDSAL,CTDSAL_FLAG_W,SALNTY,SALNTY_FLAG_W,CTDOXY,CTDOXY_FLAG_W,OXYGEN,OXYGEN_FLAG_W,SILCAT,SILCAT_FLAG_W,NITRAT,NITRAT_FLAG_W,PHSPHT,PHSPHT_FLAG_W,CFC-11,CFC-11_FLAG_W,CFC-12,CFC-12_FLAG_W,TCARBN,TCARBN_FLAG_W,ALKALI,ALKALI_FLAG_W,TRITUM,TRITUM_FLAG_W,HELIUM,HELIUM_FLAG_W,DELHE3,DELHE3_FLAG_W,NEON,NEON_FLAG_W,THETA
,,,,,,,,,,,METERS,DBAR,DEG C,PSS-78,,PSS-78,,UMOL/KG,,UMOL/KG,,UMOL/KG,,UMOL/KG,,UMOL/KG,,PMOL/KG,,PMOL/KG,,UMOL/KG,,UMOL/KG,,TU,,NMOL/KG,,PERCNT,,NMOL/KG,,DEG C
35A3CITHER3_2 ,A13        ,149     ,  1,1          ,32         ,2,19950304,0357, -30.2328,   9.9992,     4845,      4.5,  21.8060,  35.7640,2,  35.7660,2,    228.8,2,    222.8,3,     2.50,2,     0.00,2,     0.14,2,    2.166,2,    1.117,2,     -999,9,     -999,9,     -999,9,     -999,9,     -999,9,     -999,9,  21.8050
35A3CITHER3_2 ,A13        ,149     ,  1,2          ,31         ,2,19950304,0357, -30.2328,   9.9992,     4845,     47.2,  21.3280,  35.7590,2,  35.7560,2,    227.2,2,    224.8,2,     2.80,2,     0.00,2,     0.12,2,    2.175,2,    1.118,2,     -999,9,     -999,9,     -999,9,     -999,9,     -999,9,     -999,9,  21.3190
35A3CITHER3_2 ,A13        ,149     ,  1,3          ,30         ,2,19950304,0357, -30.2328,   9.9992,     4845,    121.5,  16.0920,  35.5130,2,  35.5140,2,    218.9,2,    222.1,2,     4.40,2,     2.90,2,     0.34,2,    2.604,2,    1.295,2,     -999,9,     -999,9,     -999,9,     -999,9,     -999,9,     -999,9,  16.0730
35A3CITHER3_2 ,A13        ,149     ,  1,4          ,29         ,2,19950304,0357, -30.2328,   9.9992,     4845,    196.7,  15.2750,  35.4420,2,  35.4450,2,    224.7,2,    224.4,2,     4.40,2,     4.60,2,     0.41,2,    2.664,2,    1.321,2,     -999,9,     -999,9,     -999,9,     -999,9,     -999,9,     -999,9,  15.2450
35A3CITHER3_2 ,A13        ,149     ,  1,5          ,28         ,2,19950304,0357, -30.2328,   9.9992,     4845,    316.8,  13.4090,  35.2530,2,  35.2520,2,    211.8,2,    211.9,2,     5.70,2,     9.50,2,     0.69,3,    2.473,2,    1.196,2,     -999,9,     -999,9,     -999,9,     -999,9,     -999,9,     -999,9,  13.3640
35A3CITHER3_2 ,A13        ,149     ,  1,6          ,27         ,2,19950304,0357, -30.2328,   9.9992,     4845,    394.5,  11.9960,  35.0460,2,  35.0450,2,    217.9,2,    215.4,2,     6.00,2,    11.50,2,     0.86,2,    2.468,2,    1.173,2,     -999,9,     -999,9,     -999,9,     -999,9,     -999,9,     -999,9,  11.9440
35A3CITHER3_2 ,A13        ,149     ,  1,7          ,26         ,2,19950304,0357, -30.2328,   9.9992,     4845,    593.6,   8.4720,  34.6430,2,  34.6240,3,    206.7,2,    206.7,2,    12.20,2,    19.70,2,     1.32,2,    2.011,2,    0.935,2,     -999,9,     -999,9,     -999,9,     -999,9,     -999,9,     -999,9,   8.4090
35A3CITHER3_2 ,A13        ,149     ,  1,8          ,25         ,2,19950304,0357, -30.2328,   9.9992,     4845,    793.1,   5.1740,  34.3620,2,  34.3640,2,    214.7,2,    213.5,2,    23.00,2,    27.70,2,     1.85,2,    1.707,2,    0.779,2,     -999,9,     -999,9,     -999,9,     -999,9,     -999,9,     -999,9,   5.1080
35A3CITHER3_2 ,A13        ,149     ,  1,9          ,24         ,2,19950304,0357, -30.2328,   9.9992,     4845,    793.5,   5.1460,  34.3600,2,  34.3640,2,    214.7,2,    213.4,2,    23.40,2,    27.50,2,     1.85,2,    1.672,2,    0.765,2,     -999,9,     -999,9,     -999,9,     -999,9,     -999,9,     -999,9,   5.0800
35A3CITHER3_2 ,A13        ,149     ,  1,10         ,23         ,2,19950304,0357, -30.2328,   9.9992,     4845,    994.6,   3.9860,  34.3920,2,  34.3780,3,    199.5,2,    196.5,2,    38.50,2,    30.60,2,     2.08,2,    0.874,2,    0.404,2,     -999,9,     -999,9,     -999,9,     -999,9,     -999,9,     -999,9,   3.9110
35A3CITHER3_2 ,A13        ,149     ,  1,11         ,22         ,2,19950304,0357, -30.2328,   9.9992,     4845,   1196.6,   3.2960,  34.4910,2,  34.4950,2,    180.5,2,    178.3,2,    56.20,2,    32.10,2,     2.18,2,    0.381,2,    0.188,2,     -999,9,     -999,9,     -999,9,     -999,9,     -999,9,     -999,9,   3.2100
35A3CITHER3_2 ,A13        ,149     ,  1,12         ,21         ,2,19950304,0357, -30.2328,   9.9992,     4845,   1395.5,   2.9040,  34.5920,2,  34.5940,2,    179.5,2,    180.7,2,    58.80,2,    31.20,2,     2.12,2,    0.087,2,    0.050,2,     -999,9,     -999,9,     -999,9,     -999,9,     -999,9,     -999,9,   2.8060
35A3CITHER3_2 ,A13        ,149     ,  1,13         ,20         ,2,19950304,0357, -30.2328,   9.9992,     4845,   1594.6,   2.8890,  34.7110,2,  34.7120,2,    191.0,2,    191.4,2,    55.50,2,    28.20,2,     1.90,2,    0.022,2,    0.017,2,     -999,9,     -999,9,     -999,9,     -999,9,     -999,9,     -999,9,   2.7740
35A3CITHER3_2 ,A13        ,149     ,  1,14         ,19         ,2,19950304,0357, -30.2328,   9.9992,     4845,   1796.1,   2.9070,  34.7940,2,  34.7960,2,    206.1,2,    206.7,2,    48.20,2,    26.20,2,     1.76,2,    0.007,2,    0.006,2,     -999,9,     -999,9,     -999,9,     -999,9,     -999,9,     -999,9,   2.7740
35A3CITHER3_2 ,A13        ,149     ,  1,15         ,18         ,2,19950304,0357, -30.2328,   9.9992,     4845,   1995.2,   2.8640,  34.8370,2,  34.8350,2,    216.9,2,    217.4,2,    45.40,2,    24.20,2,     1.60,2,    0.006,2,    0.009,2,     -999,9,     -999,9,     -999,9,     -999,9,     -999,9,     -999,9,   2.7140
35A3CITHER3_2 ,A13        ,149     ,  1,16         ,17         ,2,19950304,0357, -30.2328,   9.9992,     4845,   2196.7,   2.7420,  34.8500,2,  34.8520,2,    224.1,2,    224.4,2,    45.10,2,    23.70,2,     1.61,2,    0.003,2,    0.009,2,     -999,9,     -999,9,     -999,9,     -999,9,     -999,9,     -999,9,   2.5760
35A3CITHER3_2 ,A13        ,149     ,  1,17         ,16         ,2,19950304,0357, -30.2328,   9.9992,     4845,   2396.1,   2.6020,  34.8550,2,  34.8480,2,    228.2,2,    228.1,2,    47.30,2,    23.00,2,     1.54,2,    0.004,2,    0.007,2,     -999,9,     -999,9,     -999,9,     -999,9,     -999,9,     -999,9,   2.4200
35A3CITHER3_2 ,A13        ,149     ,  1,18         ,15         ,2,19950304,0357, -30.2328,   9.9992,     4845,   2594.6,   2.5020,  34.8560,2,  34.8570,2,    230.8,2,    229.6,2,    49.20,2,    23.20,2,     1.56,2,    0.001,2,    0.012,2,     -999,9,     -999,9,     -999,9,     -999,9,     -999,9,     -999,9,   2.3030
35A3CITHER3_2 ,A13        ,149     ,  1,19         ,14         ,2,19950304,0357, -30.2328,   9.9992,     4845,   2794.4,   2.4210,  34.8570,2,  34.8560,2,    232.2,2,    231.2,2,    51.10,2,    23.50,2,     1.57,2,    0.001,2,    0.003,2,     -999,9,     -999,9,     -999,9,     -999,9,     -999,9,     -999,9,   2.2040
35A3CITHER3_2 ,A13        ,149     ,  1,20         ,13         ,2,19950304,0357, -30.2328,   9.9992,     4845,   2995.5,   2.3590,  34.8570,2,  34.8590,2,    232.7,2,    231.5,2,    53.00,2,    23.50,2,     1.59,2,    0.003,2,    0.005,2,     -999,9,     -999,9,     -999,9,     -999,9,     -999,9,     -999,9,   2.1230
35A3CITHER3_2 ,A13        ,149     ,  1,21         ,12         ,2,19950304,0357, -30.2328,   9.9992,     4845,   3196.0,   2.3010,  34.8580,2,  34.8600,2,    233.2,2,    231.7,2,    54.60,2,    23.20,2,     1.58,2,    0.000,2,    0.006,2,     -999,9,     -999,9,     -999,9,     -999,9,     -999,9,     -999,9,   2.0460
35A3CITHER3_2 ,A13        ,149     ,  1,22         ,11         ,2,19950304,0357, -30.2328,   9.9992,     4845,   3396.7,   2.2400,  34.8560,2,  34.8550,2,    233.0,2,    231.6,2,    57.10,2,    23.20,2,     1.60,2,    0.001,2,    0.005,2,     -999,9,     -999,9,     -999,9,     -999,9,     -999,9,     -999,9,   1.9650
35A3CITHER3_2 ,A13        ,149     ,  1,23         ,10         ,2,19950304,0357, -30.2328,   9.9992,     4845,   3595.3,   2.1470,  34.8470,2,  34.8470,2,    231.5,2,    229.9,2,    61.60,2,    23.90,2,     1.63,2,    0.003,2,    0.010,2,     -999,9,     -999,9,     -999,9,     -999,9,     -999,9,     -999,9,   1.8540
35A3CITHER3_2 ,A13        ,149     ,  1,24         ,9          ,2,19950304,0357, -30.2328,   9.9992,     4845,   3794.2,   1.9460,  34.8240,2,  34.8240,2,    228.7,2,    226.6,2,    71.10,2,    25.30,2,     1.72,2,    0.003,2,    0.010,2,     -999,9,     -999,9,     -999,9,     -999,9,     -999,9,     -999,9,   1.6360
35A3CITHER3_2 ,A13        ,149     ,  1,25         ,8          ,2,19950304,0357, -30.2328,   9.9992,     4845,   3996.8,   1.6280,  34.7910,2,  34.7920,2,    223.1,2,    223.1,2,    82.20,2,    26.80,2,     1.83,2,     -999,9,     -999,9,     -999,9,     -999,9,     -999,9,     -999,9,     -999,9,     -999,9,   1.3050
35A3CITHER3_2 ,A13        ,149     ,  1,26         ,7          ,2,19950304,0357, -30.2328,   9.9992,     4845,   4195.2,   1.3510,  34.7630,2,  34.7640,2,    219.9,2,    219.5,2,    92.40,2,    28.40,2,     1.92,2,     -999,9,     -999,9,     -999,9,     -999,9,     -999,9,     -999,9,     -999,9,     -999,9,   1.0140
35A3CITHER3_2 ,A13        ,149     ,  1,28         ,5          ,2,19950304,0357, -30.2328,   9.9992,     4845,   4395.2,   1.1950,  34.7470,2,  34.7480,2,    217.9,2,    217.9,2,    99.70,2,    28.90,2,     1.98,2,    0.005,2,    0.006,2,     -999,9,     -999,9,     -999,9,     -999,9,     -999,9,     -999,9,   0.8410
35A3CITHER3_2 ,A13        ,149     ,  1,27         ,6          ,2,19950304,0357, -30.2328,   9.9992,     4845,   4395.4,   1.1950,  34.7470,2,  34.7490,2,    217.9,2,    217.7,2,    99.00,2,    28.60,2,     1.98,2,    0.004,2,    0.003,2,     -999,9,     -999,9,     -999,9,     -999,9,     -999,9,     -999,9,   0.8410
35A3CITHER3_2 ,A13        ,149     ,  1,29         ,4          ,2,19950304,0357, -30.2328,   9.9992,     4845,   4594.3,   1.1420,  34.7400,2,  34.7410,2,    217.3,2,    216.8,2,   103.00,2,    28.90,2,     1.98,2,    0.008,2,    0.005,2,     -999,9,     -999,9,     -999,9,     -999,9,     -999,9,     -999,9,   0.7670
35A3CITHER3_2 ,A13        ,149     ,  1,30         ,3          ,2,19950304,0357, -30.2328,   9.9992,     4845,   4795.3,   1.1340,  34.7360,2,  34.7380,2,    217.4,2,    216.8,2,   104.80,2,    29.20,2,     2.01,2,    0.008,2,    0.007,2,     -999,9,     -999,9,     -999,9,     -999,9,     -999,9,     -999,9,   0.7360
35A3CITHER3_2 ,A13        ,149     ,  1,31         ,2          ,2,19950304,0357, -30.2328,   9.9992,     4845,   4844.7,   1.1350,  34.7350,2,  34.7370,2,    217.3,2,    216.6,2,   105.10,2,    29.50,2,     2.02,2,     -999,9,    0.018,2,     -999,9,     -999,9,     -999,9,     -999,9,     -999,9,     -999,9,   0.7310
35A3CITHER3_2 ,A13        ,149     ,  1,32         ,1          ,2,19950304,0357, -30.2328,   9.9992,     4845,   4899.7,   1.1390,  34.7360,2,  34.7370,2,    216.0,2,    217.5,2,   105.60,2,    29.50,2,     2.02,2,    0.023,2,    0.024,2,     -999,9,     -999,9,     -999,9,     -999,9,     -999,9,     -999,9,   0.7290