BOTTLE,20211216CCHDHYDRO
EXPOCODE,SECT_ID,STNNBR,CASTNO,SAMPNO,BTLNBR,BTLNBR_FLAG_W,DATE,TIME,LATITUDE,LONGITUDE,DEPTH,CTDPRS,CTDTMP,CTDSAL,CTDSAL_FLAG_W,SALNTY,SALNTY_FLAG_W,CTDOXY,CTDOXY_FLAG_W,OXYGEN,OXYGEN_FLAG_W,SILCAT,SILCAT_FLAG_W,NITRAT,NITRAT_FLAG_W,PHSPHT,PHSPHT_FLAG_W,CFC-11,CFC-11_FLAG_W,CFC-12,CFC-12_FLAG_W,TCARBN,TCARBN_FLAG_W,ALKALI,ALKALI_FLAG_W,TRITUM,TRITUM_FLAG_W,HELIUM,HELIUM_FLAG_W,DELHE3,DELHE3_FLAG_W,NEON,NEON_FLAG_W,THETA
,,,,,,,,,,,METERS,DBAR,DEG C,PSS-78,,PSS-78,,UMOL/KG,,UMOL/KG,,UMOL/KG,,UMOL/KG,,UMOL/KG,,PMOL/KG,,PMOL/KG,,UMOL/KG,,UMOL/KG,,TU,,NMOL/KG,,PERCNT,,NMOL/KG,,DEG C
35A3CITHER3_2 ,A13        ,141     ,  1,1          ,32         ,2,19950302,0527, -33.9972,  10.0028,     4995,      5.4,  21.2840,  35.7900,2,  35.7940,3,    230.4,2,    224.7,3,     2.30,2,     0.00,2,     0.09,2,     -999,9,     -999,9,     -999,9,     -999,9,     -999,9,     -999,9,     -999,9,     -999,9,  21.2830
35A3CITHER3_2 ,A13        ,141     ,  1,2          ,31         ,2,19950302,0527, -33.9972,  10.0028,     4995,     46.0,  21.0500,  35.7410,2,  35.7330,3,    229.7,2,    225.9,3,     2.40,2,     0.00,2,     0.10,2,    2.253,2,    1.126,2,     -999,9,     -999,9,     -999,9,     -999,9,     -999,9,     -999,9,  21.0410
35A3CITHER3_2 ,A13        ,141     ,  1,3          ,30         ,2,19950302,0527, -33.9972,  10.0028,     4995,    121.5,  16.1020,  35.5300,2,  35.5290,2,    229.2,2,    230.5,2,     3.20,2,     2.10,2,     0.23,2,    2.678,2,    1.302,2,     -999,9,     -999,9,     -999,9,     -999,9,     -999,9,     -999,9,  16.0830
35A3CITHER3_2 ,A13        ,141     ,  1,4          ,29         ,2,19950302,0527, -33.9972,  10.0028,     4995,    196.3,  14.5740,  35.3080,2,  35.3070,2,    223.5,2,    218.3,3,     3.70,2,     5.80,2,     0.43,2,    2.750,2,    1.335,2,     -999,9,     -999,9,     -999,9,     -999,9,     -999,9,     -999,9,  14.5450
35A3CITHER3_2 ,A13        ,141     ,  1,5          ,28         ,2,19950302,0527, -33.9972,  10.0028,     4995,    295.9,  12.9060,  35.1290,2,  35.1290,2,    211.2,2,    210.3,2,     5.00,2,     9.90,2,     0.67,2,    2.660,2,    1.348,2,     -999,9,     -999,9,     -999,9,     -999,9,     -999,9,     -999,9,  12.8650
35A3CITHER3_2 ,A13        ,141     ,  1,6          ,27         ,2,19950302,0527, -33.9972,  10.0028,     4995,    395.6,  11.0600,  34.9150,2,  34.9150,2,    211.9,2,    212.1,2,     6.30,2,    14.10,2,     0.94,2,    2.494,2,    1.155,2,     -999,9,     -999,9,     -999,9,     -999,9,     -999,9,     -999,9,  11.0110
35A3CITHER3_2 ,A13        ,141     ,  1,7          ,26         ,2,19950302,0527, -33.9972,  10.0028,     4995,    596.4,   7.5890,  34.5340,2,  34.5340,2,    206.2,2,    205.1,2,    12.90,2,    23.30,2,     1.49,2,    2.061,2,    0.949,2,     -999,9,     -999,9,     -999,9,     -999,9,     -999,9,     -999,9,   7.5290
35A3CITHER3_2 ,A13        ,141     ,  1,8          ,25         ,2,19950302,0527, -33.9972,  10.0028,     4995,    794.9,   4.8330,  34.3390,2,  34.3370,2,    215.9,2,    215.7,2,    22.90,2,    28.70,2,     1.86,2,    1.540,2,    0.683,2,     -999,9,     -999,9,     -999,9,     -999,9,     -999,9,     -999,9,   4.7690
35A3CITHER3_2 ,A13        ,141     ,  1,9          ,24         ,2,19950302,0527, -33.9972,  10.0028,     4995,    995.7,   3.7440,  34.3680,2,  34.3680,2,    200.7,2,    199.3,2,    36.80,2,    31.60,2,     2.07,2,    0.797,2,    0.369,2,     -999,9,     -999,9,     -999,9,     -999,9,     -999,9,     -999,9,   3.6710
35A3CITHER3_2 ,A13        ,141     ,  1,10         ,23         ,2,19950302,0527, -33.9972,  10.0028,     4995,   1195.1,   3.2010,  34.4750,2,  34.4710,2,    183.9,2,    184.0,2,    50.80,2,    32.60,2,     2.16,2,    0.310,2,    0.137,2,     -999,9,     -999,9,     -999,9,     -999,9,     -999,9,     -999,9,   3.1160
35A3CITHER3_2 ,A13        ,141     ,  1,11         ,22         ,2,19950302,0527, -33.9972,  10.0028,     4995,   1394.7,   2.9840,  34.5940,2,  34.5960,2,    181.5,2,    181.1,2,    56.70,2,    31.60,2,     2.06,2,    0.088,2,    0.046,2,     -999,9,     -999,9,     -999,9,     -999,9,     -999,9,     -999,9,   2.8850
35A3CITHER3_2 ,A13        ,141     ,  1,12         ,21         ,2,19950302,0527, -33.9972,  10.0028,     4995,   1596.2,   2.9970,  34.7000,2,  34.7010,2,    191.6,2,    190.0,2,    52.50,2,    29.40,2,     1.90,2,    0.026,2,    0.027,2,     -999,9,     -999,9,     -999,9,     -999,9,     -999,9,     -999,9,   2.8810
35A3CITHER3_2 ,A13        ,141     ,  1,13         ,20         ,2,19950302,0527, -33.9972,  10.0028,     4995,   1795.7,   2.9990,  34.7800,2,  34.7790,2,    204.0,2,    203.2,2,    48.00,2,    26.90,2,     1.77,2,    0.005,2,    0.009,2,     -999,9,     -999,9,     -999,9,     -999,9,     -999,9,     -999,9,   2.8650
35A3CITHER3_2 ,A13        ,141     ,  1,14         ,19         ,2,19950302,0527, -33.9972,  10.0028,     4995,   1995.7,   2.9440,  34.8300,2,  34.8300,2,    215.9,2,    215.3,2,    44.40,2,    25.00,2,     1.62,2,    0.003,2,    0.006,2,     -999,9,     -999,9,     -999,9,     -999,9,     -999,9,     -999,9,   2.7930
35A3CITHER3_2 ,A13        ,141     ,  1,15         ,18         ,2,19950302,0527, -33.9972,  10.0028,     4995,   2194.5,   2.8180,  34.8470,2,  34.8470,2,    221.4,2,    221.6,2,    45.50,2,    24.30,2,     1.57,2,    0.003,2,     -999,9,     -999,9,     -999,9,     -999,9,     -999,9,     -999,9,     -999,9,   2.6510
35A3CITHER3_2 ,A13        ,141     ,  1,16         ,17         ,2,19950302,0527, -33.9972,  10.0028,     4995,   2194.8,   2.8180,  34.8460,2,  34.8470,2,    221.4,2,    221.6,2,    46.60,2,    24.80,2,     1.61,2,    0.003,2,   -0.001,2,     -999,9,     -999,9,     -999,9,     -999,9,     -999,9,     -999,9,   2.6510
35A3CITHER3_2 ,A13        ,141     ,  1,17         ,16         ,2,19950302,0527, -33.9972,  10.0028,     4995,   2396.3,   2.6620,  34.8510,2,  34.8500,2,    226.5,2,    225.1,2,    48.50,2,    24.10,2,     1.58,2,     -999,9,     -999,9,     -999,9,     -999,9,     -999,9,     -999,9,     -999,9,     -999,9,   2.4790
35A3CITHER3_2 ,A13        ,141     ,  1,18         ,15         ,2,19950302,0527, -33.9972,  10.0028,     4995,   2595.5,   2.5600,  34.8560,2,  34.8560,2,    229.5,2,    228.7,2,    49.90,2,    23.30,2,     1.54,2,    0.002,2,     -999,9,     -999,9,     -999,9,     -999,9,     -999,9,     -999,9,     -999,9,   2.3590
35A3CITHER3_2 ,A13        ,141     ,  1,19         ,14         ,2,19950302,0527, -33.9972,  10.0028,     4995,   2796.8,   2.4540,  34.8550,2,  34.8550,2,    230.9,2,    229.9,2,    52.10,2,    23.70,2,     1.57,2,    0.002,2,    0.004,2,     -999,9,     -999,9,     -999,9,     -999,9,     -999,9,     -999,9,   2.2360
35A3CITHER3_2 ,A13        ,141     ,  1,20         ,13         ,2,19950302,0527, -33.9972,  10.0028,     4995,   2996.1,   2.3770,  34.8560,2,  34.8560,2,    232.1,2,    230.6,2,    53.70,2,    23.70,2,     1.58,2,    0.005,2,    0.004,2,     -999,9,     -999,9,     -999,9,     -999,9,     -999,9,     -999,9,   2.1410
35A3CITHER3_2 ,A13        ,141     ,  1,21         ,12         ,2,19950302,0527, -33.9972,  10.0028,     4995,   2997.2,   2.3770,  34.8560,2,  34.8550,2,    232.1,2,    231.6,2,    53.70,2,    23.70,2,     1.58,2,   -0.000,2,    0.004,2,     -999,9,     -999,9,     -999,9,     -999,9,     -999,9,     -999,9,   2.1400
35A3CITHER3_2 ,A13        ,141     ,  1,22         ,11         ,2,19950302,0527, -33.9972,  10.0028,     4995,   3196.2,   2.3130,  34.8560,2,  34.8540,2,    232.2,2,    232.0,2,    55.60,2,    24.00,2,     1.54,2,    0.002,2,     -999,9,     -999,9,     -999,9,     -999,9,     -999,9,     -999,9,     -999,9,   2.0580
35A3CITHER3_2 ,A13        ,141     ,  1,23         ,10         ,2,19950302,0527, -33.9972,  10.0028,     4995,   3397.1,   2.2620,  34.8560,2,  34.8540,2,    232.1,2,    232.3,2,    57.70,2,    23.90,2,     1.56,2,   -0.000,2,    0.003,2,     -999,9,     -999,9,     -999,9,     -999,9,     -999,9,     -999,9,   1.9870
35A3CITHER3_2 ,A13        ,141     ,  1,24         ,9          ,2,19950302,0527, -33.9972,  10.0028,     4995,   3598.0,   2.1640,  34.8480,2,  34.8490,2,    231.6,2,    230.8,2,    61.90,2,    24.30,2,     1.58,2,    0.002,2,     -999,9,     -999,9,     -999,9,     -999,9,     -999,9,     -999,9,     -999,9,   1.8700
35A3CITHER3_2 ,A13        ,141     ,  1,25         ,8          ,2,19950302,0527, -33.9972,  10.0028,     4995,   3798.2,   1.9300,  34.8230,2,  34.8230,2,    227.6,2,    226.2,2,    72.20,2,    25.60,2,     1.69,2,    0.002,2,    0.006,2,     -999,9,     -999,9,     -999,9,     -999,9,     -999,9,     -999,9,   1.6200
35A3CITHER3_2 ,A13        ,141     ,  1,26         ,7          ,2,19950302,0527, -33.9972,  10.0028,     4995,   3996.2,   1.5880,  34.7880,2,  34.7850,2,    222.9,2,    221.7,2,    86.70,2,    27.20,2,     1.82,2,    0.006,2,    0.005,2,     -999,9,     -999,9,     -999,9,     -999,9,     -999,9,     -999,9,   1.2660
35A3CITHER3_2 ,A13        ,141     ,  1,27         ,6          ,2,19950302,0527, -33.9972,  10.0028,     4995,   4196.2,   1.2920,  34.7590,2,  34.7570,2,    219.1,2,    219.3,2,    97.90,2,    28.50,2,     1.89,2,    0.005,2,     -999,9,     -999,9,     -999,9,     -999,9,     -999,9,     -999,9,     -999,9,   0.9570
35A3CITHER3_2 ,A13        ,141     ,  1,28         ,5          ,2,19950302,0527, -33.9972,  10.0028,     4995,   4396.1,   1.1560,  34.7450,2,  34.7450,2,    217.5,2,    218.2,2,   103.80,2,    29.20,2,     1.93,2,    0.007,2,    0.009,2,     -999,9,     -999,9,     -999,9,     -999,9,     -999,9,     -999,9,   0.8030
35A3CITHER3_2 ,A13        ,141     ,  1,29         ,4          ,2,19950302,0527, -33.9972,  10.0028,     4995,   4598.1,   1.1220,  34.7380,2,  34.7380,2,    217.5,2,    217.6,2,   106.10,2,    29.30,2,     1.96,2,    0.012,2,    0.009,2,     -999,9,     -999,9,     -999,9,     -999,9,     -999,9,     -999,9,   0.7470
35A3CITHER3_2 ,A13        ,141     ,  1,30         ,3          ,2,19950302,0527, -33.9972,  10.0028,     4995,   4796.2,   1.1260,  34.7370,2,  34.7360,2,    217.4,2,    217.0,2,   106.60,2,    29.80,2,     1.98,2,    0.011,2,     -999,9,     -999,9,     -999,9,     -999,9,     -999,9,     -999,9,     -999,9,   0.7280
35A3CITHER3_2 ,A13        ,141     ,  1,31         ,2          ,2,19950302,0527, -33.9972,  10.0028,     4995,   4997.2,   1.1340,  34.7360,2,  34.7360,2,    217.8,2,    218.1,2,   107.40,2,    28.80,3,     1.97,2,    0.008,2,    0.010,2,     -999,9,     -999,9,     -999,9,     -999,9,     -999,9,     -999,9,   0.7120
35A3CITHER3_2 ,A13        ,141     ,  1,32         ,1          ,2,19950302,0527, -33.9972,  10.0028,     4995,   5056.1,   1.1350,  34.7360,2,  34.7360,2,    217.0,2,    218.2,2,   107.90,2,    29.20,2,     1.98,2,    0.012,2,    0.009,2,     -999,9,     -999,9,     -999,9,     -999,9,     -999,9,     -999,9,   0.7060