BOTTLE,20211216CCHDHYDRO
#2021-12-15 - Removed the empty pH and pH flag columns, there was no data and the flag column was entirely 9s (i.e. no missing data). Should pH be submitted, the cruise report indicates it was measured on the NBS scale (Perez and Fraga 1987) 10.1016/0304-4203(87)90054-5
#BOTTLE,20020207WHPSIOdm
#code : jjward hyd_to_exchange.pl
#original files copied from HTML directory: 20020207
#original HYD file: a13hy.txt   Thu Feb  7 07:29:50 2002
#original SUM file: a13su.txt   Thu Feb  7 07:33:07 2002
EXPOCODE,SECT_ID,STNNBR,CASTNO,SAMPNO,BTLNBR,BTLNBR_FLAG_W,DATE,TIME,LATITUDE,LONGITUDE,DEPTH,CTDPRS,CTDTMP,CTDSAL,CTDSAL_FLAG_W,SALNTY,SALNTY_FLAG_W,CTDOXY,CTDOXY_FLAG_W,OXYGEN,OXYGEN_FLAG_W,SILCAT,SILCAT_FLAG_W,NITRAT,NITRAT_FLAG_W,PHSPHT,PHSPHT_FLAG_W,CFC-11,CFC-11_FLAG_W,CFC-12,CFC-12_FLAG_W,TCARBN,TCARBN_FLAG_W,ALKALI,ALKALI_FLAG_W,TRITUM,TRITUM_FLAG_W,HELIUM,HELIUM_FLAG_W,DELHE3,DELHE3_FLAG_W,NEON,NEON_FLAG_W,THETA
,,,,,,,,,,,METERS,DBAR,DEG C,PSS-78,,PSS-78,,UMOL/KG,,UMOL/KG,,UMOL/KG,,UMOL/KG,,UMOL/KG,,PMOL/KG,,PMOL/KG,,UMOL/KG,,UMOL/KG,,TU,,NMOL/KG,,PERCNT,,NMOL/KG,,DEG C
35A3CITHER3_2 ,A13        ,109     ,  1,1          ,32         ,2,19950222,0731, -34.5863,  17.4497,     2097,      7.1,  21.3780,  35.5810,2,  35.5810,2,    223.7,2,    222.3,2,     6.00,2,     0.00,2,     0.10,2,    0.161,2,    0.177,2,   2018.1,2,   2353.6,2,     -999,9,     -999,9,     -999,9,     -999,9,  21.3770
35A3CITHER3_2 ,A13        ,109     ,  1,2          ,31         ,2,19950222,0731, -34.5863,  17.4497,     2097,     45.8,  17.5170,  35.3700,2,  35.3730,2,    227.1,2,    213.0,3,     7.90,2,     2.80,2,     0.35,2,    0.280,2,    0.197,2,   2058.6,2,   2341.4,2,     -999,9,     -999,9,     -999,9,     -999,9,  17.5090
35A3CITHER3_2 ,A13        ,109     ,  1,3          ,30         ,2,19950222,0731, -34.5863,  17.4497,     2097,     99.3,  12.9250,  35.1360,2,  35.1410,2,    213.6,2,    205.5,3,     8.10,2,    10.60,2,     0.78,2,    0.519,2,    0.262,2,   2102.7,2,   2325.6,2,     -999,9,     -999,9,     -999,9,     -999,9,  12.9110
35A3CITHER3_2 ,A13        ,109     ,  1,4          ,29         ,2,19950222,0731, -34.5863,  17.4497,     2097,    146.9,  11.3670,  34.9600,2,  34.9600,2,    208.8,2,    210.8,2,     9.20,2,    13.80,2,     0.96,2,    0.438,2,    0.222,2,   2114.2,2,   2314.6,2,     -999,9,     -999,9,     -999,9,     -999,9,  11.3490
35A3CITHER3_2 ,A13        ,109     ,  1,5          ,28         ,2,19950222,0731, -34.5863,  17.4497,     2097,    196.6,  10.3120,  34.8280,2,  34.8280,2,    210.9,2,    219.1,3,    17.20,2,    15.70,3,     1.19,2,    0.340,2,    0.172,2,   2120.5,2,   2306.1,2,     -999,9,     -999,9,     -999,9,     -999,9,  10.2890
35A3CITHER3_2 ,A13        ,109     ,  1,6          ,27         ,2,19950222,0731, -34.5863,  17.4497,     2097,    297.4,   8.1890,  34.6160,2,  34.6180,2,    188.0,2,    198.0,3,    18.20,3,    22.70,2,     1.60,3,    0.879,2,    0.954,2,   2157.6,2,   2300.2,2,     -999,9,     -999,9,     -999,9,     -999,9,   8.1580
35A3CITHER3_2 ,A13        ,109     ,  1,7          ,26         ,2,19950222,0731, -34.5863,  17.4497,     2097,    398.5,   7.0640,  34.5120,2,  34.5180,2,    200.3,2,    198.0,2,    21.40,2,    24.10,2,     1.63,2,    0.901,2,    0.954,2,   2156.7,2,   2294.9,2,     -999,9,     -999,9,     -999,9,     -999,9,   7.0260
35A3CITHER3_2 ,A13        ,109     ,  1,8          ,25         ,2,19950222,0731, -34.5863,  17.4497,     2097,    496.4,   6.4080,  34.4580,2,  34.4600,2,    204.5,2,    204.2,2,    25.20,2,    26.10,2,     1.75,2,    0.802,2,    0.866,2,   2164.1,2,     -999,9,     -999,9,     -999,9,     -999,9,     -999,9,   6.3630
35A3CITHER3_2 ,A13        ,109     ,  1,9          ,24         ,2,19950222,0731, -34.5863,  17.4497,     2097,    597.3,   5.3520,  34.3840,2,  34.3830,2,    215.2,2,    212.8,2,    37.20,2,    27.70,2,     1.87,2,    0.708,2,    0.813,2,   2171.2,2,   2289.5,2,     -999,9,     -999,9,     -999,9,     -999,9,   5.3020
35A3CITHER3_2 ,A13        ,109     ,  1,10         ,23         ,2,19950222,0731, -34.5863,  17.4497,     2097,    797.3,   4.0970,  34.3690,2,  34.3710,2,    204.8,2,    204.3,2,    53.10,3,    30.80,2,     2.06,2,    0.135,2,    0.548,2,   2194.0,2,     -999,9,     -999,9,     -999,9,     -999,9,     -999,9,   4.0370
35A3CITHER3_2 ,A13        ,109     ,  1,11         ,22         ,2,19950222,0731, -34.5863,  17.4497,     2097,    997.9,   3.4350,  34.4500,2,  34.4520,2,    185.5,2,    186.1,2,    62.10,3,    32.70,2,     2.19,2,    0.548,2,    0.272,2,   2221.2,2,     -999,9,     -999,9,     -999,9,     -999,9,     -999,9,   3.3640
35A3CITHER3_2 ,A13        ,109     ,  1,12         ,21         ,2,19950222,0731, -34.5863,  17.4497,     2097,   1194.6,   3.0330,  34.5610,2,  34.5640,2,    176.0,2,    176.8,2,    62.10,2,    32.70,2,     2.21,2,    0.168,2,     -999,9,   2233.0,2,     -999,9,     -999,9,     -999,9,     -999,9,     -999,9,   2.9500
35A3CITHER3_2 ,A13        ,109     ,  1,13         ,20         ,2,19950222,0731, -34.5863,  17.4497,     2097,   1394.2,   2.9110,  34.6650,2,  34.6660,2,    181.8,2,    183.4,2,    55.50,2,    30.90,2,     2.07,2,     -999,9,    0.032,2,   2229.9,2,     -999,9,     -999,9,     -999,9,     -999,9,     -999,9,   2.8130
35A3CITHER3_2 ,A13        ,109     ,  1,14         ,19         ,2,19950222,0731, -34.5863,  17.4497,     2097,   1597.1,   2.9240,  34.7550,2,  34.7580,2,    194.5,2,    196.8,2,    51.00,2,    28.20,2,     1.89,2,    0.022,2,    0.017,2,   2216.9,2,   2327.8,2,     -999,9,     -999,9,     -999,9,     -999,9,   2.8080
35A3CITHER3_2 ,A13        ,109     ,  1,15         ,18         ,2,19950222,0731, -34.5863,  17.4497,     2097,   1793.9,   2.9210,  34.8060,2,  34.8070,2,    208.0,2,    207.3,2,    48.00,2,    26.50,2,     1.77,2,     -999,9,    0.006,2,   2207.4,2,     -999,9,     -999,9,     -999,9,     -999,9,     -999,9,   2.7880
35A3CITHER3_2 ,A13        ,109     ,  1,32         ,1          ,2,19950222,0731, -34.5863,  17.4497,     2097,   2096.6,   2.6670,  34.8640,2,  34.8640,2,    226.7,2,    227.0,2,     0.00,2,    24.10,2,     1.62,2,    0.012,2,    0.004,2,     -999,9,     -999,9,     -999,9,     -999,9,     -999,9,     -999,9,   2.5110
35A3CITHER3_2 ,A13        ,109     ,  1,25         ,8          ,2,19950222,0731, -34.5863,  17.4497,     2097,   2097.0,   2.6670,  34.8640,2,  34.8660,2,    226.7,2,    226.6,2,     0.00,2,    24.00,2,     1.62,2,     -999,9,     -999,9,     -999,9,     -999,9,     -999,9,     -999,9,     -999,9,     -999,9,   2.5110
35A3CITHER3_2 ,A13        ,109     ,  1,31         ,2          ,2,19950222,0731, -34.5863,  17.4497,     2097,   2097.6,   2.6680,  34.8630,2,  34.8640,2,    226.8,2,    226.9,2,     0.00,2,    24.10,2,     1.62,2,     -999,9,     -999,9,     -999,9,     -999,9,     -999,9,     -999,9,     -999,9,     -999,9,   2.5120
35A3CITHER3_2 ,A13        ,109     ,  1,29         ,4          ,2,19950222,0731, -34.5863,  17.4497,     2097,   2097.8,   2.6680,  34.8630,2,  34.8650,2,    226.8,2,    226.7,2,     0.00,2,    24.00,2,     1.61,2,     -999,9,     -999,9,     -999,9,     -999,9,     -999,9,     -999,9,     -999,9,     -999,9,   2.5120
35A3CITHER3_2 ,A13        ,109     ,  1,24         ,9          ,2,19950222,0731, -34.5863,  17.4497,     2097,   2097.9,   2.6680,  34.8630,2,  34.8640,2,    226.8,2,    226.4,2,    47.30,2,    24.00,2,     1.61,2,     -999,9,     -999,9,     -999,9,     -999,9,     -999,9,     -999,9,     -999,9,     -999,9,   2.5120
35A3CITHER3_2 ,A13        ,109     ,  1,18         ,15         ,2,19950222,0731, -34.5863,  17.4497,     2097,   2098.1,   2.6680,  34.8630,2,  34.8630,2,    226.8,2,    224.9,2,    48.30,2,    24.00,2,     1.64,2,     -999,9,     -999,9,     -999,9,     -999,9,     -999,9,     -999,9,     -999,9,     -999,9,   2.5120
35A3CITHER3_2 ,A13        ,109     ,  1,27         ,6          ,2,19950222,0731, -34.5863,  17.4497,     2097,   2098.4,   2.6670,  34.8640,2,  34.8660,2,    226.8,2,    226.5,2,     0.00,2,    24.00,2,     1.61,2,     -999,9,     -999,9,     -999,9,     -999,9,     -999,9,     -999,9,     -999,9,     -999,9,   2.5110
35A3CITHER3_2 ,A13        ,109     ,  1,19         ,14         ,2,19950222,0731, -34.5863,  17.4497,     2097,   2098.5,   2.6670,  34.8640,2,  34.8640,2,    226.8,2,    225.5,2,    48.30,2,    24.00,2,     1.62,2,     -999,9,     -999,9,     -999,9,     -999,9,     -999,9,     -999,9,     -999,9,     -999,9,   2.5110
35A3CITHER3_2 ,A13        ,109     ,  1,20         ,13         ,2,19950222,0731, -34.5863,  17.4497,     2097,   2098.6,   2.6670,  34.8640,2,  34.8650,2,    226.8,2,    225.9,2,    48.30,2,    24.00,2,     1.60,2,     -999,9,     -999,9,     -999,9,     -999,9,     -999,9,     -999,9,     -999,9,     -999,9,   2.5110
35A3CITHER3_2 ,A13        ,109     ,  1,22         ,11         ,2,19950222,0731, -34.5863,  17.4497,     2097,   2098.9,   2.6670,  34.8640,2,  34.8640,2,    226.8,2,    226.4,2,    47.50,2,    24.00,2,     1.61,2,     -999,9,     -999,9,     -999,9,     -999,9,     -999,9,     -999,9,     -999,9,     -999,9,   2.5110
35A3CITHER3_2 ,A13        ,109     ,  1,28         ,5          ,2,19950222,0731, -34.5863,  17.4497,     2097,   2099.4,   2.6680,  34.8630,2,  34.8630,2,    226.8,2,    226.5,2,     0.00,2,    24.00,2,     1.60,2,     -999,9,     -999,9,     -999,9,     -999,9,     -999,9,     -999,9,     -999,9,     -999,9,   2.5120
35A3CITHER3_2 ,A13        ,109     ,  1,21         ,12         ,2,19950222,0731, -34.5863,  17.4497,     2097,   2099.7,   2.6670,  34.8640,2,  34.8640,2,    226.9,2,    226.0,2,    47.80,2,    24.00,2,     1.62,2,     -999,9,     -999,9,     -999,9,     -999,9,     -999,9,     -999,9,     -999,9,     -999,9,   2.5110
35A3CITHER3_2 ,A13        ,109     ,  1,26         ,7          ,2,19950222,0731, -34.5863,  17.4497,     2097,   2099.7,   2.6670,  34.8640,2,  34.8630,2,    226.9,2,    226.4,2,     0.00,2,    24.00,2,     1.62,2,     -999,9,     -999,9,     -999,9,     -999,9,     -999,9,     -999,9,     -999,9,     -999,9,   2.5110
35A3CITHER3_2 ,A13        ,109     ,  1,23         ,10         ,2,19950222,0731, -34.5863,  17.4497,     2097,   2100.1,   2.6670,  34.8630,2,  34.8650,2,    226.9,2,    226.5,2,    47.50,2,    24.00,2,     1.61,2,     -999,9,     -999,9,     -999,9,     -999,9,     -999,9,     -999,9,     -999,9,     -999,9,   2.5110
35A3CITHER3_2 ,A13        ,109     ,  1,16         ,17         ,2,19950222,0731, -34.5863,  17.4497,     2097,   2101.0,   2.6670,  34.8640,2,  34.8670,2,    226.9,2,    226.3,2,    48.30,2,    23.80,2,     1.61,2,     -999,9,     -999,9,   2197.7,2,     -999,9,     -999,9,     -999,9,     -999,9,     -999,9,   2.5110
35A3CITHER3_2 ,A13        ,109     ,  1,17         ,16         ,2,19950222,0731, -34.5863,  17.4497,     2097,   2101.4,   2.6680,  34.8630,2,  34.8630,2,    226.9,2,    227.1,2,    48.30,2,    23.80,2,     1.59,2,     -999,9,     -999,9,     -999,9,   2341.4,2,     -999,9,     -999,9,     -999,9,     -999,9,   2.5120
35A3CITHER3_2 ,A13        ,109     ,  1,30         ,3          ,2,19950222,0731, -34.5863,  17.4497,     2097,   2101.9,   2.6680,  34.8640,2,  34.8650,2,    227.0,2,    226.6,2,     0.00,2,    24.00,2,     1.62,2,     -999,9,     -999,9,     -999,9,     -999,9,     -999,9,     -999,9,     -999,9,     -999,9,   2.5120
35A3CITHER3_2 ,A13        ,110     ,  1,1          ,9          ,2,19950222,1714, -34.1198,  18.0583,      212,      1.9,  14.1740,  35.0780,2,  35.0800,2,    217.3,2,    223.7,3,     6.90,2,    10.20,2,     0.74,2,    2.578,2,    1.257,2,   2091.8,2,   2320.4,2,     -999,9,     -999,9,     -999,9,     -999,9,  14.1740
35A3CITHER3_2 ,A13        ,110     ,  1,2          ,8          ,2,19950222,1714, -34.1198,  18.0583,      212,     19.9,  13.6270,  35.0850,2,  35.0820,2,    215.8,2,    213.1,2,     7.50,2,    11.00,2,     0.77,2,    2.529,2,    1.221,2,   2098.7,2,   2315.9,2,     -999,9,     -999,9,     -999,9,     -999,9,  13.6240
35A3CITHER3_2 ,A13        ,110     ,  1,3          ,7          ,2,19950222,1714, -34.1198,  18.0583,      212,     45.3,  12.8310,  35.0890,2,  35.0930,2,    213.1,2,    209.8,2,     6.90,2,    11.40,2,     0.80,2,    2.592,2,    1.240,2,   2104.8,2,   2312.4,2,     -999,9,     -999,9,     -999,9,     -999,9,  12.8250
35A3CITHER3_2 ,A13        ,110     ,  1,4          ,6          ,2,19950222,1714, -34.1198,  18.0583,      212,     70.2,  12.1330,  35.0640,2,  35.0600,2,    208.2,2,    207.5,2,     6.90,2,    13.00,2,     0.87,2,    2.381,2,    1.140,2,     -999,9,   2311.2,2,     -999,9,     -999,9,     -999,9,     -999,9,  12.1240
35A3CITHER3_2 ,A13        ,110     ,  1,5          ,5          ,2,19950222,1714, -34.1198,  18.0583,      212,     99.7,  10.8330,  34.8990,2,  34.8990,2,    211.1,2,    211.3,2,     8.10,2,    15.30,2,     1.01,2,    2.364,2,    1.129,2,   2111.8,2,   2303.9,2,     -999,9,     -999,9,     -999,9,     -999,9,  10.8210
35A3CITHER3_2 ,A13        ,110     ,  1,6          ,4          ,2,19950222,1714, -34.1198,  18.0583,      212,    122.8,  10.1130,  34.8050,2,  34.8010,2,    204.9,2,    199.7,2,     9.80,2,    18.00,2,     1.22,2,    2.322,2,    1.102,2,   2133.5,2,     -999,9,     -999,9,     -999,9,     -999,9,     -999,9,  10.0990
35A3CITHER3_2 ,A13        ,110     ,  1,7          ,3          ,2,19950222,1714, -34.1198,  18.0583,      212,    147.5,   9.3060,  34.7180,2,  34.7210,2,    171.1,2,    160.4,3,    15.60,2,    23.10,2,     1.61,2,    2.137,2,    1.030,2,   2168.5,2,   2303.8,2,     -999,9,     -999,9,     -999,9,     -999,9,   9.2900
35A3CITHER3_2 ,A13        ,110     ,  1,8          ,2          ,2,19950222,1714, -34.1198,  18.0583,      212,    176.6,   8.9300,  34.6810,2,  34.6830,2,    123.7,2,    111.3,3,    25.10,2,    27.70,2,     2.18,2,    2.001,2,    0.986,2,   2209.3,2,   2304.1,2,     -999,9,     -999,9,     -999,9,     -999,9,   8.9110
35A3CITHER3_2 ,A13        ,110     ,  1,9          ,1          ,2,19950222,1714, -34.1198,  18.0583,      212,    177.4,   8.9300,  34.6810,2,  34.6830,2,    123.7,2,    112.6,3,    25.40,2,    27.90,2,     2.12,2,    2.034,2,    0.993,2,     -999,9,     -999,9,     -999,9,     -999,9,     -999,9,     -999,9,   8.9110
35A3CITHER3_2 ,A13        ,111     ,  1,1          ,12         ,2,19950222,1927, -34.3062,  17.8272,      347,      4.2,  21.4200,  35.5400,2,  35.5400,2,    223.7,2,    223.0,2,     2.60,2,     0.00,2,     0.07,2,     -999,9,     -999,9,   2015.8,2,     -999,9,     -999,9,     -999,9,     -999,9,     -999,9,  21.4190
35A3CITHER3_2 ,A13        ,111     ,  1,2          ,11         ,2,19950222,1927, -34.3062,  17.8272,      347,     23.8,  21.3440,  35.5430,2,  35.5320,3,    223.4,2,    223.8,2,     2.80,2,     0.00,2,     0.08,2,    2.173,2,    1.139,2,     -999,9,     -999,9,     -999,9,     -999,9,     -999,9,     -999,9,  21.3390
35A3CITHER3_2 ,A13        ,111     ,  1,3          ,10         ,2,19950222,1927, -34.3062,  17.8272,      347,     46.4,  14.4440,  35.1440,2,  35.1560,3,    226.0,2,    203.0,3,     6.10,2,     8.90,2,     0.66,2,    2.433,2,    1.219,2,     -999,9,     -999,9,     -999,9,     -999,9,     -999,9,     -999,9,  14.4370
35A3CITHER3_2 ,A13        ,111     ,  1,4          ,9          ,2,19950222,1927, -34.3062,  17.8272,      347,     72.0,  11.8370,  34.9480,2,  34.9500,2,    201.8,2,    200.0,2,     7.80,2,    13.90,2,     0.99,2,    2.603,2,    1.257,2,     -999,9,     -999,9,     -999,9,     -999,9,     -999,9,     -999,9,  11.8280
35A3CITHER3_2 ,A13        ,111     ,  1,5          ,8          ,2,19950222,1927, -34.3062,  17.8272,      347,     98.9,  11.3220,  34.9500,2,  34.9500,2,    200.1,2,    208.1,3,     7.80,2,    13.90,2,     0.96,2,    2.422,2,    1.166,2,     -999,9,     -999,9,     -999,9,     -999,9,     -999,9,     -999,9,  11.3100
35A3CITHER3_2 ,A13        ,111     ,  1,6          ,7          ,2,19950222,1927, -34.3062,  17.8272,      347,    121.6,  10.6760,  34.8580,2,  34.8520,3,    205.2,2,    221.3,3,     7.80,2,    14.10,3,     0.96,2,    2.635,2,    1.254,2,     -999,9,     -999,9,     -999,9,     -999,9,     -999,9,     -999,9,  10.6610
35A3CITHER3_2 ,A13        ,111     ,  1,7          ,6          ,2,19950222,1927, -34.3062,  17.8272,      347,    146.7,  10.2300,  34.8200,2,  34.8050,3,    206.5,2,    211.0,2,     8.10,2,    16.00,2,     1.09,2,    2.382,2,    1.141,2,     -999,9,     -999,9,     -999,9,     -999,9,     -999,9,     -999,9,  10.2130
35A3CITHER3_2 ,A13        ,111     ,  1,8          ,5          ,2,19950222,1927, -34.3062,  17.8272,      347,    195.7,   8.9000,  34.6790,2,  34.6740,2,    182.5,2,    177.1,2,    14.50,2,    21.80,2,     1.53,2,    2.060,2,    0.995,2,     -999,9,     -999,9,     -999,9,     -999,9,     -999,9,     -999,9,   8.8790
35A3CITHER3_2 ,A13        ,111     ,  1,9          ,4          ,2,19950222,1927, -34.3062,  17.8272,      347,    247.1,   8.3690,  34.6300,2,  34.6270,2,    145.6,2,    153.6,3,    20.40,2,    24.70,2,     1.84,2,    1.964,2,    0.974,2,     -999,9,     -999,9,     -999,9,     -999,9,     -999,9,     -999,9,   8.3430
35A3CITHER3_2 ,A13        ,111     ,  1,10         ,3          ,2,19950222,1927, -34.3062,  17.8272,      347,    296.3,   8.3300,  34.6240,2,  34.6270,2,    154.8,2,    157.0,2,    19.80,2,    24.50,2,     1.82,2,     -999,9,     -999,9,     -999,9,     -999,9,     -999,9,     -999,9,     -999,9,     -999,9,   8.2990
35A3CITHER3_2 ,A13        ,111     ,  1,11         ,2          ,2,19950222,1927, -34.3062,  17.8272,      347,    296.6,   8.3310,  34.6250,2,  34.6250,2,    154.8,2,    156.8,2,    19.80,2,    24.50,2,     1.81,2,    1.950,2,    0.953,2,     -999,9,     -999,9,     -999,9,     -999,9,     -999,9,     -999,9,   8.3000
35A3CITHER3_2 ,A13        ,111     ,  1,12         ,1          ,2,19950222,1927, -34.3062,  17.8272,      347,    325.6,   8.2820,  34.6190,2,  34.6180,2,    157.8,2,    160.2,2,    19.50,2,    24.50,2,     1.80,2,    1.960,2,    0.960,2,     -999,9,     -999,9,     -999,9,     -999,9,     -999,9,     -999,9,   8.2480