BOTTLE,20211216CCHDHYDRO
EXPOCODE,SECT_ID,STNNBR,CASTNO,SAMPNO,BTLNBR,BTLNBR_FLAG_W,DATE,TIME,LATITUDE,LONGITUDE,DEPTH,CTDPRS,CTDTMP,CTDSAL,CTDSAL_FLAG_W,SALNTY,SALNTY_FLAG_W,CTDOXY,CTDOXY_FLAG_W,OXYGEN,OXYGEN_FLAG_W,SILCAT,SILCAT_FLAG_W,NITRAT,NITRAT_FLAG_W,PHSPHT,PHSPHT_FLAG_W,CFC-11,CFC-11_FLAG_W,CFC-12,CFC-12_FLAG_W,TCARBN,TCARBN_FLAG_W,ALKALI,ALKALI_FLAG_W,TRITUM,TRITUM_FLAG_W,HELIUM,HELIUM_FLAG_W,DELHE3,DELHE3_FLAG_W,NEON,NEON_FLAG_W,THETA
,,,,,,,,,,,METERS,DBAR,DEG C,PSS-78,,PSS-78,,UMOL/KG,,UMOL/KG,,UMOL/KG,,UMOL/KG,,UMOL/KG,,PMOL/KG,,PMOL/KG,,UMOL/KG,,UMOL/KG,,TU,,NMOL/KG,,PERCNT,,NMOL/KG,,DEG C
35A3CITHER3_2 ,A13        ,121     ,  1,1          ,32         ,2,19950224,2209, -37.1063,  14.0712,     4939,      4.1,  17.1350,  34.8500,2,  34.8480,2,    253.3,2,    250.7,2,     2.40,2,     0.00,2,     0.20,2,    2.797,2,    1.382,2,   2032.1,2,   2301.6,2,     -999,9,     -999,9,     -999,9,     -999,9,  17.1340
35A3CITHER3_2 ,A13        ,121     ,  1,2          ,31         ,2,19950224,2209, -37.1063,  14.0712,     4939,     45.5,  15.7620,  34.8150,2,  34.8160,2,    259.7,2,    259.6,2,     2.40,2,     0.90,2,     0.27,2,    2.991,2,    1.466,2,   2035.8,2,     -999,9,     -999,9,     -999,9,     -999,9,     -999,9,  15.7550
35A3CITHER3_2 ,A13        ,121     ,  1,4          ,29         ,2,19950224,2209, -37.1063,  14.0712,     4939,    121.8,  13.2660,  35.0160,2,  35.0120,2,    240.9,2,    238.0,2,     2.70,2,     4.70,2,     0.50,2,    3.156,2,    1.542,2,   2079.1,2,   2309.0,2,     -999,9,     -999,9,     -999,9,     -999,9,  13.2490
35A3CITHER3_2 ,A13        ,121     ,  1,3          ,30         ,2,19950224,2209, -37.1063,  14.0712,     4939,    122.6,  13.2320,  35.0110,2,  35.0150,3,    240.8,2,    238.3,2,     3.00,2,     4.70,2,     0.48,2,    3.152,2,    1.541,2,     -999,9,     -999,9,     -999,9,     -999,9,     -999,9,     -999,9,  13.2150
35A3CITHER3_2 ,A13        ,121     ,  1,5          ,28         ,2,19950224,2209, -37.1063,  14.0712,     4939,    194.4,  12.1150,  34.9280,2,  34.9340,3,    236.3,2,    234.6,2,     3.60,2,     8.10,2,     0.67,2,    3.195,2,    1.516,2,   2092.2,2,     -999,9,     -999,9,     -999,9,     -999,9,     -999,9,  12.0890
35A3CITHER3_2 ,A13        ,121     ,  1,7          ,26         ,2,19950224,2209, -37.1063,  14.0712,     4939,    294.7,  11.1140,  34.9110,2,  34.9100,2,    223.2,2,    222.2,2,     5.10,2,    12.00,2,     0.89,2,    2.913,2,    1.375,2,   2109.7,2,     -999,9,     -999,9,     -999,9,     -999,9,     -999,9,  11.0770
35A3CITHER3_2 ,A13        ,121     ,  1,6          ,27         ,2,19950224,2209, -37.1063,  14.0712,     4939,    294.9,  11.1190,  34.9100,2,  34.9110,2,    223.2,2,    222.6,2,     4.80,2,    12.00,2,     0.88,2,    2.917,2,    1.375,2,     -999,9,     -999,9,     -999,9,     -999,9,     -999,9,     -999,9,  11.0820
35A3CITHER3_2 ,A13        ,121     ,  1,8          ,25         ,2,19950224,2209, -37.1063,  14.0712,     4939,    396.1,   9.6210,  34.7380,2,  34.7350,2,    218.2,2,    214.3,2,     8.10,2,    16.50,2,     1.19,2,    2.494,2,    1.153,2,   2127.7,2,   2299.0,2,     -999,9,     -999,9,     -999,9,     -999,9,   9.5760
35A3CITHER3_2 ,A13        ,121     ,  1,9          ,24         ,2,19950224,2209, -37.1063,  14.0712,     4939,    595.3,   6.4720,  34.4130,2,  34.4140,2,    221.7,2,    218.8,2,    13.10,2,    24.10,2,     1.64,2,    2.335,2,    1.063,2,   2152.8,2,     -999,9,     -999,9,     -999,9,     -999,9,     -999,9,   6.4180
35A3CITHER3_2 ,A13        ,121     ,  1,10         ,23         ,2,19950224,2209, -37.1063,  14.0712,     4939,    795.5,   4.3810,  34.2650,2,  34.2650,2,    236.1,2,    236.2,2,    20.20,2,    27.30,2,     1.90,2,    2.115,2,    0.950,2,   2166.0,2,     -999,9,     -999,9,     -999,9,     -999,9,     -999,9,   4.3200
35A3CITHER3_2 ,A13        ,121     ,  1,11         ,22         ,2,19950224,2209, -37.1063,  14.0712,     4939,    995.7,   3.4250,  34.3150,2,  34.3150,2,    220.7,2,    216.0,3,    34.50,2,    30.40,2,     3.68,4,    1.173,2,    0.539,2,   2196.6,2,   2292.5,2,     -999,9,     -999,9,     -999,9,     -999,9,   3.3540
35A3CITHER3_2 ,A13        ,121     ,  1,12         ,21         ,2,19950224,2209, -37.1063,  14.0712,     4939,   1194.6,   3.1040,  34.4100,2,  34.4090,2,    194.1,2,    194.6,2,    47.70,2,    31.60,2,     2.26,2,    0.576,2,    0.266,2,   2217.9,2,     -999,9,     -999,9,     -999,9,     -999,9,     -999,9,   3.0200
35A3CITHER3_2 ,A13        ,121     ,  1,13         ,20         ,2,19950224,2209, -37.1063,  14.0712,     4939,   1394.5,   2.8140,  34.5320,2,  34.5280,2,    183.7,2,    181.6,2,    59.50,2,    31.80,2,     2.25,2,    0.211,2,    0.101,2,   2233.0,2,     -999,9,     -999,9,     -999,9,     -999,9,     -999,9,   2.7170
35A3CITHER3_2 ,A13        ,121     ,  1,14         ,19         ,2,19950224,2209, -37.1063,  14.0712,     4939,   1596.4,   2.7460,  34.6410,2,  34.6420,2,    185.2,2,    182.5,2,    63.10,2,    30.60,2,     2.17,2,    0.067,2,    0.035,2,   2234.7,2,   2323.5,2,     -999,9,     -999,9,     -999,9,     -999,9,   2.6330
35A3CITHER3_2 ,A13        ,121     ,  1,15         ,18         ,2,19950224,2209, -37.1063,  14.0712,     4939,   1796.1,   2.7420,  34.7260,2,  34.7240,2,    194.3,2,    193.1,2,    60.10,2,    28.30,2,     1.94,2,    0.022,2,    0.005,2,   2226.2,2,     -999,9,     -999,9,     -999,9,     -999,9,     -999,9,   2.6120
35A3CITHER3_2 ,A13        ,121     ,  1,16         ,17         ,2,19950224,2209, -37.1063,  14.0712,     4939,   1994.9,   2.7040,  34.7800,2,  34.7810,2,    204.5,2,    203.6,2,    57.30,2,    26.60,2,     1.79,2,    0.008,2,    0.008,2,   2217.7,2,     -999,9,     -999,9,     -999,9,     -999,9,     -999,9,   2.5570
35A3CITHER3_2 ,A13        ,121     ,  1,17         ,16         ,2,19950224,2209, -37.1063,  14.0712,     4939,   2196.2,   2.6470,  34.8170,2,  34.8160,2,    214.8,2,    213.6,2,    54.80,2,    25.40,2,     1.77,2,    0.012,2,    0.004,2,   2210.8,2,   2339.2,2,     -999,9,     -999,9,     -999,9,     -999,9,   2.4820
35A3CITHER3_2 ,A13        ,121     ,  1,18         ,15         ,2,19950224,2209, -37.1063,  14.0712,     4939,   2397.0,   2.5660,  34.8320,2,  34.8340,2,    220.9,2,    219.4,2,    54.10,2,    24.70,2,     1.70,2,     -999,9,     -999,9,   2208.2,2,     -999,9,     -999,9,     -999,9,     -999,9,     -999,9,   2.3840
35A3CITHER3_2 ,A13        ,121     ,  1,19         ,14         ,2,19950224,2209, -37.1063,  14.0712,     4939,   2596.9,   2.4660,  34.8390,2,  34.8390,2,    222.2,2,    223.6,2,    55.00,2,    24.40,2,     1.64,2,     -999,9,     -999,9,   2207.8,2,     -999,9,     -999,9,     -999,9,     -999,9,     -999,9,   2.2670
35A3CITHER3_2 ,A13        ,121     ,  1,20         ,13         ,2,19950224,2209, -37.1063,  14.0712,     4939,   2795.2,   2.3820,  34.8450,2,  34.8440,2,    227.3,2,    225.7,2,    56.00,2,    24.20,2,     1.68,2,    0.001,2,    0.007,2,   2207.4,2,   2340.7,2,     -999,9,     -999,9,     -999,9,     -999,9,   2.1650
35A3CITHER3_2 ,A13        ,121     ,  1,21         ,12         ,2,19950224,2209, -37.1063,  14.0712,     4939,   2994.8,   2.3010,  34.8460,2,  34.8450,2,    227.7,2,    227.4,2,    57.90,2,    24.10,2,     1.67,2,    0.001,2,     -999,9,   2209.1,2,     -999,9,     -999,9,     -999,9,     -999,9,     -999,9,   2.0660
35A3CITHER3_2 ,A13        ,121     ,  1,22         ,11         ,2,19950224,2209, -37.1063,  14.0712,     4939,   3195.1,   2.2110,  34.8440,2,  34.8400,2,    229.9,2,    227.9,2,    60.80,2,    24.60,2,     1.68,2,    0.003,2,    0.002,2,   2210.3,2,     -999,9,     -999,9,     -999,9,     -999,9,     -999,9,   1.9580
35A3CITHER3_2 ,A13        ,121     ,  1,23         ,10         ,2,19950224,2209, -37.1063,  14.0712,     4939,   3396.2,   2.0740,  34.8320,2,  34.8330,2,    228.3,2,    226.2,2,    64.60,2,    25.10,2,     1.73,2,    0.004,2,    0.008,2,   2216.4,2,   2344.2,2,     -999,9,     -999,9,     -999,9,     -999,9,   1.8040
35A3CITHER3_2 ,A13        ,121     ,  1,24         ,9          ,2,19950224,2209, -37.1063,  14.0712,     4939,   3597.4,   1.8770,  34.8130,2,  34.8120,2,    225.7,2,    223.5,2,    74.30,2,    26.10,2,     1.79,2,   -0.002,2,    0.003,2,   2224.5,2,     -999,9,     -999,9,     -999,9,     -999,9,     -999,9,   1.5900
35A3CITHER3_2 ,A13        ,121     ,  1,25         ,8          ,2,19950224,2209, -37.1063,  14.0712,     4939,   3795.4,   1.6510,  34.7900,2,  34.7910,2,    222.1,2,    221.6,2,    83.10,2,    27.00,2,     1.84,2,    0.005,2,    0.007,2,   2233.2,2,     -999,9,     -999,9,     -999,9,     -999,9,     -999,9,   1.3490
35A3CITHER3_2 ,A13        ,121     ,  1,26         ,7          ,2,19950224,2209, -37.1063,  14.0712,     4939,   3998.6,   1.3840,  34.7680,2,  34.7690,2,    219.8,2,    219.1,2,    93.10,2,    28.00,2,     2.03,2,    0.005,2,    0.003,2,   2241.6,2,     -999,9,     -999,9,     -999,9,     -999,9,     -999,9,   1.0680
35A3CITHER3_2 ,A13        ,121     ,  1,27         ,6          ,2,19950224,2209, -37.1063,  14.0712,     4939,   4196.7,   1.2090,  34.7500,2,  34.7510,2,    219.4,2,    218.0,2,   100.30,2,    29.00,2,     2.01,2,    0.008,2,    0.009,2,   2247.8,2,   2369.7,2,     -999,9,     -999,9,     -999,9,     -999,9,   0.8770
35A3CITHER3_2 ,A13        ,121     ,  1,28         ,5          ,2,19950224,2209, -37.1063,  14.0712,     4939,   4397.6,   1.1200,  34.7410,2,  34.7410,2,    218.4,2,    217.4,2,   104.40,2,    29.30,2,     2.02,2,    0.008,2,    0.006,2,   2250.5,2,     -999,9,     -999,9,     -999,9,     -999,9,     -999,9,   0.7680
35A3CITHER3_2 ,A13        ,121     ,  1,29         ,4          ,2,19950224,2209, -37.1063,  14.0712,     4939,   4594.1,   1.0860,  34.7360,2,  34.7370,2,    218.5,2,    217.2,2,   106.10,2,    29.70,2,     2.05,2,    0.011,2,    0.011,2,   2252.8,2,     -999,9,     -999,9,     -999,9,     -999,9,     -999,9,   0.7130
35A3CITHER3_2 ,A13        ,121     ,  1,30         ,3          ,2,19950224,2209, -37.1063,  14.0712,     4939,   4797.9,   1.0690,  34.7330,2,  34.7350,2,    218.5,2,    217.4,2,   107.80,2,    29.90,2,     2.02,2,    0.014,2,    0.008,2,   2253.7,2,     -999,9,     -999,9,     -999,9,     -999,9,     -999,9,   0.6730
35A3CITHER3_2 ,A13        ,121     ,  1,31         ,2          ,2,19950224,2209, -37.1063,  14.0712,     4939,   4863.8,   1.0700,  34.7330,2,  34.7340,2,    218.9,2,    217.3,2,   108.00,2,    30.00,2,     2.07,2,    0.015,2,    0.007,2,   2254.9,2,     -999,9,     -999,9,     -999,9,     -999,9,     -999,9,   0.6660
35A3CITHER3_2 ,A13        ,121     ,  1,32         ,1          ,2,19950224,2209, -37.1063,  14.0712,     4939,   5002.7,   1.0560,  34.7300,2,  34.7320,2,    219.2,2,    217.8,2,   108.60,2,    30.10,2,     2.07,2,    0.010,2,     -999,9,   2255.0,2,   2370.2,2,     -999,9,     -999,9,     -999,9,     -999,9,   0.6360