BOTTLE,20211216CCHDHYDRO
EXPOCODE,SECT_ID,STNNBR,CASTNO,SAMPNO,BTLNBR,BTLNBR_FLAG_W,DATE,TIME,LATITUDE,LONGITUDE,DEPTH,CTDPRS,CTDTMP,CTDSAL,CTDSAL_FLAG_W,SALNTY,SALNTY_FLAG_W,CTDOXY,CTDOXY_FLAG_W,OXYGEN,OXYGEN_FLAG_W,SILCAT,SILCAT_FLAG_W,NITRAT,NITRAT_FLAG_W,PHSPHT,PHSPHT_FLAG_W,CFC-11,CFC-11_FLAG_W,CFC-12,CFC-12_FLAG_W,TCARBN,TCARBN_FLAG_W,ALKALI,ALKALI_FLAG_W,TRITUM,TRITUM_FLAG_W,HELIUM,HELIUM_FLAG_W,DELHE3,DELHE3_FLAG_W,NEON,NEON_FLAG_W,THETA
,,,,,,,,,,,METERS,DBAR,DEG C,PSS-78,,PSS-78,,UMOL/KG,,UMOL/KG,,UMOL/KG,,UMOL/KG,,UMOL/KG,,PMOL/KG,,PMOL/KG,,UMOL/KG,,UMOL/KG,,TU,,NMOL/KG,,PERCNT,,NMOL/KG,,DEG C
35A3CITHER3_2 ,A13        ,188     ,  1,1          ,32         ,2,19950315,1052, -15.4990,   5.0007,     5471,      4.7,  25.9610,  36.4550,2,  36.4550,2,    201.5,2,    204.0,2,     3.90,2,     0.00,2,     0.15,2,    1.748,2,    0.941,2,     -999,9,     -999,9,     -999,9,     -999,9,     -999,9,     -999,9,  25.9600
35A3CITHER3_2 ,A13        ,188     ,  1,2          ,31         ,2,19950315,1052, -15.4990,   5.0007,     5471,      4.8,  25.9550,  36.4550,2,  36.4540,2,    201.5,2,    203.8,2,     3.90,2,     0.00,2,     0.13,2,    1.757,2,    0.941,2,   2051.9,2,   2396.5,2,     -999,9,     -999,9,     -999,9,     -999,9,  25.9540
35A3CITHER3_2 ,A13        ,188     ,  1,3          ,30         ,2,19950315,1052, -15.4990,   5.0007,     5471,     46.2,  18.9480,  35.8370,2,  35.8310,3,    254.1,2,    234.8,3,     3.60,2,     3.10,2,     0.46,2,    2.398,2,    1.204,2,   2083.1,2,   2357.0,2,     -999,9,     -999,9,     -999,9,     -999,9,  18.9400
35A3CITHER3_2 ,A13        ,188     ,  1,4          ,29         ,2,19950315,1052, -15.4990,   5.0007,     5471,    135.7,  13.4350,  35.3470,2,  35.3450,2,     28.6,2,     26.2,2,    11.10,2,    29.90,2,     1.80,2,    0.914,2,    0.470,2,   2235.7,2,   2322.5,2,     -999,9,     -999,9,     -999,9,     -999,9,  13.4160
35A3CITHER3_2 ,A13        ,188     ,  1,5          ,28         ,2,19950315,1052, -15.4990,   5.0007,     5471,    195.8,  12.0070,  35.1550,2,  35.1530,2,     28.3,2,     25.0,2,    13.10,2,    31.90,2,     1.94,2,    0.648,2,    0.336,2,   2242.4,2,     -999,9,     -999,9,     -999,9,     -999,9,     -999,9,  11.9810
35A3CITHER3_2 ,A13        ,188     ,  1,6          ,27         ,2,19950315,1052, -15.4990,   5.0007,     5471,    267.0,  10.8610,  35.0300,2,  35.0280,2,     22.9,2,     23.1,2,    15.10,2,    34.20,2,     2.09,2,    0.311,2,    0.163,2,   2250.9,2,     -999,9,     -999,9,     -999,9,     -999,9,     -999,9,  10.8280
35A3CITHER3_2 ,A13        ,188     ,  1,7          ,26         ,2,19950315,1052, -15.4990,   5.0007,     5471,    395.9,   9.0220,  34.8220,2,  34.8220,2,     36.4,2,     36.7,2,    18.10,2,    36.30,2,     2.26,2,    0.119,2,    0.059,2,   2252.6,2,     -999,9,     -999,9,     -999,9,     -999,9,     -999,9,   8.9790
35A3CITHER3_2 ,A13        ,188     ,  1,8          ,25         ,2,19950315,1052, -15.4990,   5.0007,     5471,    495.3,   7.6750,  34.6910,2,  34.6880,2,     51.8,2,     43.9,3,    21.80,2,    38.70,2,     2.43,2,    0.045,2,    0.022,2,   2257.9,2,   2303.8,2,     -999,9,     -999,9,     -999,9,     -999,9,   7.6250
35A3CITHER3_2 ,A13        ,188     ,  1,9          ,24         ,2,19950315,1052, -15.4990,   5.0007,     5471,    795.2,   4.7280,  34.4880,2,  34.4870,2,    119.4,2,    120.5,2,    32.80,2,    36.70,2,     2.41,2,    0.003,2,    0.003,2,   2236.7,2,     -999,9,     -999,9,     -999,9,     -999,9,     -999,9,   4.6650
35A3CITHER3_2 ,A13        ,188     ,  1,10         ,23         ,2,19950315,1052, -15.4990,   5.0007,     5471,    994.6,   4.0700,  34.5510,2,  34.5420,3,    142.1,2,    142.5,2,    37.70,2,    34.50,2,     2.29,2,    0.006,2,    0.007,2,   2232.5,2,   2310.2,2,     -999,9,     -999,9,     -999,9,     -999,9,   3.9940
35A3CITHER3_2 ,A13        ,188     ,  1,11         ,22         ,2,19950315,1052, -15.4990,   5.0007,     5471,   1196.1,   3.8370,  34.6840,2,  34.6870,2,    159.6,2,    161.5,2,    37.20,2,    31.20,2,     2.07,2,     -999,9,     -999,9,   2224.6,2,     -999,9,     -999,9,     -999,9,     -999,9,     -999,9,   3.7460
35A3CITHER3_2 ,A13        ,188     ,  1,12         ,21         ,2,19950315,1052, -15.4990,   5.0007,     5471,   1394.5,   3.7170,  34.8050,2,  34.8020,2,    183.0,2,    183.5,2,    33.80,2,    27.60,2,     1.83,2,    0.010,2,    0.003,2,   2210.4,2,     -999,9,     -999,9,     -999,9,     -999,9,     -999,9,   3.6100
35A3CITHER3_2 ,A13        ,188     ,  1,13         ,20         ,2,19950315,1052, -15.4990,   5.0007,     5471,   1595.3,   3.6090,  34.8740,2,  34.8760,2,    206.4,2,    205.6,2,    30.60,2,    24.60,2,     1.62,2,    0.002,2,    0.003,2,   2191.3,2,     -999,9,     -999,9,     -999,9,     -999,9,     -999,9,   3.4850
35A3CITHER3_2 ,A13        ,188     ,  1,14         ,19         ,2,19950315,1052, -15.4990,   5.0007,     5471,   1796.1,   3.4610,  34.9060,2,  34.9070,2,    218.0,2,    216.3,2,    30.60,2,    23.10,2,     1.52,2,    0.003,2,    0.000,2,   2187.8,2,     -999,9,     -999,9,     -999,9,     -999,9,     -999,9,   3.3210
35A3CITHER3_2 ,A13        ,188     ,  1,15         ,18         ,2,19950315,1052, -15.4990,   5.0007,     5471,   1996.2,   3.3080,  34.9160,2,  34.9180,2,    222.6,2,    222.8,2,    31.90,2,    22.50,2,     1.46,2,    0.001,2,    0.003,2,   2188.0,2,   2335.2,2,     -999,9,     -999,9,     -999,9,     -999,9,   3.1510
35A3CITHER3_2 ,A13        ,188     ,  1,16         ,17         ,2,19950315,1052, -15.4990,   5.0007,     5471,   2196.4,   3.1470,  34.9170,2,  34.9180,2,    226.7,2,    227.3,2,    33.80,2,    22.30,2,     1.47,2,    0.001,2,    0.005,2,   2187.6,2,     -999,9,     -999,9,     -999,9,     -999,9,     -999,9,   2.9740
35A3CITHER3_2 ,A13        ,188     ,  1,17         ,16         ,2,19950315,1052, -15.4990,   5.0007,     5471,   2595.1,   2.8330,  34.9090,2,  34.9070,2,    231.3,2,    231.0,2,    39.30,2,    22.30,2,     1.46,2,    0.005,2,    0.004,2,   2191.1,2,     -999,9,     -999,9,     -999,9,     -999,9,     -999,9,   2.6270
35A3CITHER3_2 ,A13        ,188     ,  1,18         ,15         ,2,19950315,1052, -15.4990,   5.0007,     5471,   2794.2,   2.7000,  34.9040,2,  34.8980,3,    229.9,2,    229.8,2,    43.20,2,    22.40,2,     1.49,2,    0.003,2,     -999,9,   2195.4,2,     -999,9,     -999,9,     -999,9,     -999,9,     -999,9,   2.4770
35A3CITHER3_2 ,A13        ,188     ,  1,19         ,14         ,2,19950315,1052, -15.4990,   5.0007,     5471,   2996.2,   2.5870,  34.8990,2,  34.9000,2,    228.5,2,    228.6,2,    46.80,2,    22.40,2,     1.51,2,    0.003,2,    0.005,2,   2202.1,2,     -999,9,     -999,9,     -999,9,     -999,9,     -999,9,   2.3460
35A3CITHER3_2 ,A13        ,188     ,  1,20         ,13         ,2,19950315,1052, -15.4990,   5.0007,     5471,   3196.4,   2.4870,  34.8940,2,  34.8940,2,    227.9,2,    228.3,2,    50.00,2,    23.00,2,     1.52,2,     -999,9,     -999,9,   2205.4,2,   2347.0,2,     -999,9,     -999,9,     -999,9,     -999,9,   2.2270
35A3CITHER3_2 ,A13        ,188     ,  1,21         ,12         ,2,19950315,1052, -15.4990,   5.0007,     5471,   3395.3,   2.4260,  34.8920,2,  34.8910,2,    227.4,2,    227.6,2,    51.90,2,    23.10,2,     1.51,2,     -999,9,     -999,9,   2209.7,2,     -999,9,     -999,9,     -999,9,     -999,9,     -999,9,   2.1470
35A3CITHER3_2 ,A13        ,188     ,  1,22         ,11         ,2,19950315,1052, -15.4990,   5.0007,     5471,   3595.5,   2.3830,  34.8910,2,  34.8880,2,    228.2,2,    229.1,2,    52.60,2,    23.00,2,     1.52,2,    0.006,2,    0.005,2,   2209.6,2,     -999,9,     -999,9,     -999,9,     -999,9,     -999,9,   2.0830
35A3CITHER3_2 ,A13        ,188     ,  1,23         ,10         ,2,19950315,1052, -15.4990,   5.0007,     5471,   3797.8,   2.3590,  34.8900,2,  34.8860,2,    229.7,2,    230.8,2,    52.60,2,    22.80,2,     1.47,2,    0.000,2,    0.003,2,   2209.4,2,     -999,9,     -999,9,     -999,9,     -999,9,     -999,9,   2.0380
35A3CITHER3_2 ,A13        ,188     ,  1,24         ,9          ,2,19950315,1052, -15.4990,   5.0007,     5471,   3996.8,   2.3570,  34.8890,2,  34.8910,2,    231.0,2,    231.3,2,    53.00,2,    22.80,2,     1.45,2,    0.003,2,    0.004,2,   2209.9,2,   2363.0,2,     -999,9,     -999,9,     -999,9,     -999,9,   2.0130
35A3CITHER3_2 ,A13        ,188     ,  1,25         ,8          ,2,19950315,1052, -15.4990,   5.0007,     5471,   4196.1,   2.3610,  34.8870,2,  34.8880,2,    231.7,2,    231.9,2,    52.90,2,    22.70,2,     1.48,2,    0.002,2,     -999,9,   2209.6,2,     -999,9,     -999,9,     -999,9,     -999,9,     -999,9,   1.9940
35A3CITHER3_2 ,A13        ,188     ,  1,26         ,7          ,2,19950315,1052, -15.4990,   5.0007,     5471,   4396.9,   2.3690,  34.8860,2,  34.8860,2,    232.5,2,    233.1,2,    53.20,2,    22.50,2,     1.46,2,    0.002,2,     -999,9,   2209.3,2,     -999,9,     -999,9,     -999,9,     -999,9,     -999,9,   1.9780
35A3CITHER3_2 ,A13        ,188     ,  1,27         ,6          ,2,19950315,1052, -15.4990,   5.0007,     5471,   4597.9,   2.3780,  34.8840,2,  34.8860,2,    233.0,2,    233.2,2,    53.60,2,    22.70,2,     1.47,2,    0.002,2,     -999,9,   2209.4,2,     -999,9,     -999,9,     -999,9,     -999,9,     -999,9,   1.9630
35A3CITHER3_2 ,A13        ,188     ,  1,28         ,5          ,2,19950315,1052, -15.4990,   5.0007,     5471,   4797.5,   2.3900,  34.8830,2,  34.8830,2,    233.9,2,    234.4,2,    54.20,2,    21.70,3,     1.44,2,    0.002,2,    0.000,2,   2209.2,2,     -999,9,     -999,9,     -999,9,     -999,9,     -999,9,   1.9500
35A3CITHER3_2 ,A13        ,188     ,  1,29         ,4          ,2,19950315,1052, -15.4990,   5.0007,     5471,   4996.2,   2.4040,  34.8810,2,  34.8820,2,    234.3,2,    235.0,2,    54.40,2,    22.30,2,     1.41,2,    0.002,2,    0.000,2,   2210.0,2,   2364.2,2,     -999,9,     -999,9,     -999,9,     -999,9,   1.9380
35A3CITHER3_2 ,A13        ,188     ,  1,30         ,3          ,2,19950315,1052, -15.4990,   5.0007,     5471,   5197.0,   2.4230,  34.8810,2,  34.8820,2,    234.6,2,    235.0,2,    54.40,2,    22.20,3,     1.42,2,    0.006,2,    0.007,2,   2210.7,2,     -999,9,     -999,9,     -999,9,     -999,9,     -999,9,   1.9310
35A3CITHER3_2 ,A13        ,188     ,  1,31         ,2          ,2,19950315,1052, -15.4990,   5.0007,     5471,   5448.0,   2.4530,  34.8790,2,  34.8810,2,    234.9,2,    234.5,2,    54.60,2,    22.40,2,     1.45,2,    0.004,2,    0.010,2,   2211.5,2,     -999,9,     -999,9,     -999,9,     -999,9,     -999,9,   1.9270
35A3CITHER3_2 ,A13        ,188     ,  1,32         ,1          ,2,19950315,1052, -15.4990,   5.0007,     5471,   5549.7,   2.4670,  34.8790,2,  34.8810,2,    234.4,2,    234.2,2,    54.40,2,    22.40,2,     1.42,2,    0.003,2,     -999,9,   2211.8,2,   2364.7,2,     -999,9,     -999,9,     -999,9,     -999,9,   1.9270