BOTTLE,20211216CCHDHYDRO
EXPOCODE,SECT_ID,STNNBR,CASTNO,SAMPNO,BTLNBR,BTLNBR_FLAG_W,DATE,TIME,LATITUDE,LONGITUDE,DEPTH,CTDPRS,CTDTMP,CTDSAL,CTDSAL_FLAG_W,SALNTY,SALNTY_FLAG_W,CTDOXY,CTDOXY_FLAG_W,OXYGEN,OXYGEN_FLAG_W,SILCAT,SILCAT_FLAG_W,NITRAT,NITRAT_FLAG_W,PHSPHT,PHSPHT_FLAG_W,CFC-11,CFC-11_FLAG_W,CFC-12,CFC-12_FLAG_W,TCARBN,TCARBN_FLAG_W,ALKALI,ALKALI_FLAG_W,TRITUM,TRITUM_FLAG_W,HELIUM,HELIUM_FLAG_W,DELHE3,DELHE3_FLAG_W,NEON,NEON_FLAG_W,THETA
,,,,,,,,,,,METERS,DBAR,DEG C,PSS-78,,PSS-78,,UMOL/KG,,UMOL/KG,,UMOL/KG,,UMOL/KG,,UMOL/KG,,PMOL/KG,,PMOL/KG,,UMOL/KG,,UMOL/KG,,TU,,NMOL/KG,,PERCNT,,NMOL/KG,,DEG C
35A3CITHER3_2 ,A13        ,129     ,  1,1          ,32         ,2,19950227,0224, -40.0013,  10.0005,     4935,      4.8,  16.9100,  34.9000,2,  34.9000,2,    250.7,2,    243.9,3,     1.60,2,     0.00,2,     0.18,2,    2.743,2,    1.352,2,     -999,9,     -999,9,    0.632,2,   1.7220,2,    -1.81,2,    7.021,2,  16.9090
35A3CITHER3_2 ,A13        ,129     ,  1,2          ,31         ,2,19950227,0224, -40.0013,  10.0005,     4935,     57.4,  15.8650,  34.9670,2,  34.9800,3,    259.9,2,    247.3,3,     1.80,2,     0.60,2,     0.22,2,    2.956,2,    1.441,2,     -999,9,     -999,9,     -999,9,     -999,9,     -999,9,     -999,9,  15.8560
35A3CITHER3_2 ,A13        ,129     ,  1,3          ,30         ,2,19950227,0224, -40.0013,  10.0005,     4935,     96.1,  14.1710,  35.1440,2,  35.1300,3,    249.4,2,    239.3,3,     2.40,2,     3.60,2,     0.38,2,    3.080,2,    1.487,2,     -999,9,     -999,9,    0.699,2,   1.7450,2,    -1.62,2,    7.264,2,  14.1570
35A3CITHER3_2 ,A13        ,129     ,  1,4          ,29         ,2,19950227,0224, -40.0013,  10.0005,     4935,    146.5,  12.7250,  34.9640,2,  34.9520,3,    240.8,2,    240.1,2,     2.60,2,     6.10,2,     0.53,2,    3.213,2,    1.537,2,     -999,9,     -999,9,    0.622,2,   1.7540,2,    -1.49,2,    7.315,2,  12.7050
35A3CITHER3_2 ,A13        ,129     ,  1,5          ,28         ,2,19950227,0224, -40.0013,  10.0005,     4935,    196.9,  12.2710,  35.0430,2,  35.0480,3,    225.5,2,    223.0,2,     3.50,2,     9.60,2,     0.69,2,    3.033,2,    1.446,2,     -999,9,     -999,9,     -999,9,   1.7620,3,    -0.95,3,    7.330,1,  12.2450
35A3CITHER3_2 ,A13        ,129     ,  1,6          ,27         ,2,19950227,0224, -40.0013,  10.0005,     4935,    196.9,  12.2730,  35.0460,2,  35.0470,2,    225.5,2,    222.9,2,     3.30,2,     9.70,2,     0.70,2,    3.038,2,    1.443,2,     -999,9,     -999,9,     -999,9,     -999,9,     -999,9,     -999,9,  12.2470
35A3CITHER3_2 ,A13        ,129     ,  1,7          ,26         ,2,19950227,0224, -40.0013,  10.0005,     4935,    344.7,   9.4820,  34.6800,2,  34.6770,2,    241.4,2,    239.4,2,     4.80,3,    14.90,3,     0.98,3,    3.383,2,    1.571,2,     -999,9,     -999,9,     -999,9,   1.7730,2,    -0.97,2,    7.494,1,   9.4430
35A3CITHER3_2 ,A13        ,129     ,  1,8          ,25         ,2,19950227,0224, -40.0013,  10.0005,     4935,    545.2,   6.8890,  34.4360,2,  34.4360,2,    222.4,2,    224.1,2,    11.10,2,    23.70,2,     1.52,2,    2.737,2,    1.231,2,     -999,9,     -999,9,    0.290,2,   1.7850,2,    -0.20,2,    7.634,2,   6.8380
35A3CITHER3_2 ,A13        ,129     ,  1,9          ,24         ,2,19950227,0224, -40.0013,  10.0005,     4935,    745.7,   4.7300,  34.2980,2,  34.2980,2,    230.1,2,    232.9,2,    20.50,2,    28.10,2,     1.84,2,    2.055,2,    0.920,2,     -999,9,     -999,9,     -999,9,     -999,9,     -999,9,     -999,9,   4.6710
35A3CITHER3_2 ,A13        ,129     ,  1,10         ,23         ,2,19950227,0224, -40.0013,  10.0005,     4935,    794.5,   4.5040,  34.3050,2,  34.3020,2,    227.8,2,    226.0,2,    23.80,2,    28.80,2,     1.89,2,    1.810,2,    0.804,2,     -999,9,     -999,9,     -999,9,     -999,9,     -999,9,     -999,9,   4.4420
35A3CITHER3_2 ,A13        ,129     ,  1,11         ,22         ,2,19950227,0224, -40.0013,  10.0005,     4935,    846.3,   4.0700,  34.2750,2,  34.2730,2,    231.4,2,    231.6,2,    24.50,2,    28.80,2,     1.93,2,    1.826,2,    0.813,2,     -999,9,     -999,9,     -999,9,     -999,9,     -999,9,     -999,9,   4.0070
35A3CITHER3_2 ,A13        ,129     ,  1,12         ,21         ,2,19950227,0224, -40.0013,  10.0005,     4935,    997.4,   3.4590,  34.3010,2,  34.2970,2,    223.7,2,    225.0,2,    33.40,2,    30.40,2,     2.04,2,    1.581,2,    0.705,2,     -999,9,     -999,9,    0.113,2,   1.8130,2,     2.60,2,    7.832,2,   3.3880
35A3CITHER3_2 ,A13        ,129     ,  1,13         ,20         ,2,19950227,0224, -40.0013,  10.0005,     4935,   1246.3,   3.0500,  34.4400,2,  34.4360,2,    191.1,2,    190.4,2,    51.50,2,    32.40,2,     2.21,2,    0.559,2,    0.256,2,     -999,9,     -999,9,     -999,9,     -999,9,     -999,9,     -999,9,   2.9630
35A3CITHER3_2 ,A13        ,129     ,  1,14         ,19         ,2,19950227,0224, -40.0013,  10.0005,     4935,   1494.5,   2.7610,  34.5560,2,  34.5560,2,    179.1,2,    182.7,2,    62.20,2,    31.60,2,     2.16,2,    0.243,2,    0.109,2,     -999,9,     -999,9,    0.021,2,   1.8350,2,     7.25,2,    7.950,2,   2.6560
35A3CITHER3_2 ,A13        ,129     ,  1,15         ,18         ,2,19950227,0224, -40.0013,  10.0005,     4935,   1746.1,   2.7500,  34.6880,2,  34.6880,2,    183.9,2,    189.7,3,    63.20,2,    30.50,2,     2.06,2,    0.059,2,    0.027,2,     -999,9,     -999,9,    0.014,2,   1.8450,2,     7.59,2,    7.940,2,   2.6240
35A3CITHER3_2 ,A13        ,129     ,  1,16         ,17         ,2,19950227,0224, -40.0013,  10.0005,     4935,   1994.9,   2.7240,  34.7620,2,  34.7640,2,    198.5,2,    204.1,3,    58.90,2,    28.10,2,     1.88,2,    0.021,2,    0.005,2,     -999,9,     -999,9,     -999,9,     -999,9,     -999,9,     -999,9,   2.5770
35A3CITHER3_2 ,A13        ,129     ,  1,17         ,16         ,2,19950227,0224, -40.0013,  10.0005,     4935,   2245.5,   2.6490,  34.8100,2,  34.8100,2,    210.6,2,    212.4,2,    54.60,2,    26.50,2,     1.75,2,    0.009,2,    0.009,2,     -999,9,     -999,9,    0.006,2,   1.8460,2,     5.62,2,    7.973,2,   2.4800
35A3CITHER3_2 ,A13        ,129     ,  1,18         ,15         ,2,19950227,0224, -40.0013,  10.0005,     4935,   2495.7,   2.5410,  34.8280,2,  34.8300,2,    216.9,2,    218.6,2,    55.90,2,    25.80,2,     1.67,2,    0.007,2,    0.003,2,     -999,9,     -999,9,     -999,9,   1.8540,2,     6.06,2,     -999,9,   2.3500
35A3CITHER3_2 ,A13        ,129     ,  1,19         ,14         ,2,19950227,0224, -40.0013,  10.0005,     4935,   2746.7,   2.4080,  34.8360,2,  34.8320,2,    221.3,2,    222.5,2,    57.40,2,    25.40,2,     1.67,2,    0.006,2,    0.002,2,     -999,9,     -999,9,     -999,9,     -999,9,     -999,9,     -999,9,   2.1960
35A3CITHER3_2 ,A13        ,129     ,  1,20         ,13         ,2,19950227,0224, -40.0013,  10.0005,     4935,   2997.8,   2.3140,  34.8400,2,  34.8380,2,    225.0,2,    225.0,2,    59.30,2,    25.10,2,     1.67,2,    0.004,2,    0.003,2,     -999,9,     -999,9,     -999,9,     -999,9,     -999,9,     -999,9,   2.0790
35A3CITHER3_2 ,A13        ,129     ,  1,21         ,12         ,2,19950227,0224, -40.0013,  10.0005,     4935,   3196.6,   2.2210,  34.8400,2,  34.8390,2,    226.2,2,    227.2,2,    60.60,2,    25.30,2,     1.67,2,    0.004,2,    0.001,2,     -999,9,     -999,9,     -999,9,   1.8470,2,     5.41,2,     -999,9,   1.9680
35A3CITHER3_2 ,A13        ,129     ,  1,22         ,11         ,2,19950227,0224, -40.0013,  10.0005,     4935,   3395.5,   2.1140,  34.8320,2,  34.8290,2,    226.2,2,    225.7,2,    65.10,2,    25.50,2,     1.69,2,    0.005,2,    0.007,2,     -999,9,     -999,9,    0.004,4,   2.2980,2,     3.37,5,    9.244,2,   1.8430
35A3CITHER3_2 ,A13        ,129     ,  1,23         ,10         ,2,19950227,0224, -40.0013,  10.0005,     4935,   3595.1,   1.9450,  34.8160,2,  34.8160,2,    224.8,2,    224.4,2,    73.10,2,    26.30,2,     1.75,2,    0.011,2,    0.004,2,     -999,9,     -999,9,     -999,9,   2.2500,2,     4.15,5,     -999,9,   1.6570
35A3CITHER3_2 ,A13        ,129     ,  1,24         ,9          ,2,19950227,0224, -40.0013,  10.0005,     4935,   3795.9,   1.6640,  34.7920,2,  34.7900,2,    221.9,2,    222.8,2,    84.60,2,    27.70,2,     1.83,2,    0.009,2,    0.008,2,     -999,9,     -999,9,     -999,9,     -999,9,     -999,9,     -999,9,   1.3620
35A3CITHER3_2 ,A13        ,129     ,  1,25         ,8          ,2,19950227,0224, -40.0013,  10.0005,     4935,   3995.8,   1.3860,  34.7670,2,  34.7660,2,    219.5,2,    219.5,2,    95.00,2,    28.60,2,     1.88,2,    0.011,2,    0.009,2,     -999,9,     -999,9,    0.000,2,   1.8610,2,     6.61,2,    8.131,2,   1.0700
35A3CITHER3_2 ,A13        ,129     ,  1,26         ,7          ,2,19950227,0224, -40.0013,  10.0005,     4935,   4197.1,   1.1900,  34.7500,2,  34.7480,2,    218.5,2,    218.8,2,   102.60,2,    29.50,2,     1.94,2,    0.012,2,    0.010,2,     -999,9,     -999,9,     -999,9,     -999,9,     -999,9,     -999,9,   0.8580
35A3CITHER3_2 ,A13        ,129     ,  1,27         ,6          ,2,19950227,0224, -40.0013,  10.0005,     4935,   4397.5,   1.0930,  34.7380,2,  34.7390,2,    218.1,2,    219.8,2,   106.00,2,    30.10,2,     2.00,2,    0.018,2,    0.013,2,     -999,9,     -999,9,     -999,9,   1.8710,2,     6.70,2,     -999,9,   0.7420
35A3CITHER3_2 ,A13        ,129     ,  1,28         ,5          ,2,19950227,0224, -40.0013,  10.0005,     4935,   4596.5,   1.0470,  34.7330,2,  34.7340,2,    218.3,2,    218.7,2,   107.90,2,    30.40,2,     2.01,2,    0.022,2,    0.014,2,     -999,9,     -999,9,    0.006,4,   2.3250,2,     4.48,5,    9.387,2,   0.6750
35A3CITHER3_2 ,A13        ,129     ,  1,29         ,4          ,2,19950227,0224, -40.0013,  10.0005,     4935,   4597.3,   1.0460,  34.7330,2,  34.7310,2,    218.3,2,    218.0,2,   107.50,2,    30.30,2,     2.02,2,    0.023,2,    0.010,2,     -999,9,     -999,9,     -999,9,     -999,9,     -999,9,     -999,9,   0.6740
35A3CITHER3_2 ,A13        ,129     ,  1,30         ,3          ,2,19950227,0224, -40.0013,  10.0005,     4935,   4798.5,   0.9760,  34.7250,2,  34.7260,2,    218.5,2,    220.4,2,   110.50,2,    30.70,2,     2.05,2,    0.034,2,    0.019,2,     -999,9,     -999,9,    0.010,4,   2.2760,2,     4.46,5,    9.075,2,   0.5830
35A3CITHER3_2 ,A13        ,129     ,  1,31         ,2          ,2,19950227,0224, -40.0013,  10.0005,     4935,   4948.1,   0.9450,  34.7210,2,  34.7210,2,    218.8,2,    218.5,2,   113.10,2,    30.80,2,     2.06,2,    0.035,2,    0.024,2,     -999,9,     -999,9,     -999,9,     -999,9,     -999,9,     -999,9,   0.5350
35A3CITHER3_2 ,A13        ,129     ,  1,32         ,1          ,2,19950227,0224, -40.0013,  10.0005,     4935,   5001.9,   0.9490,  34.7220,2,  34.7210,2,    218.0,2,    221.1,2,   112.90,2,    31.10,2,     2.06,2,    0.041,2,    0.020,2,     -999,9,     -999,9,    0.009,4,   2.2990,2,     4.09,5,    9.307,2,   0.5330