BOTTLE,20211216CCHDHYDRO
EXPOCODE,SECT_ID,STNNBR,CASTNO,SAMPNO,BTLNBR,BTLNBR_FLAG_W,DATE,TIME,LATITUDE,LONGITUDE,DEPTH,CTDPRS,CTDTMP,CTDSAL,CTDSAL_FLAG_W,SALNTY,SALNTY_FLAG_W,CTDOXY,CTDOXY_FLAG_W,OXYGEN,OXYGEN_FLAG_W,SILCAT,SILCAT_FLAG_W,NITRAT,NITRAT_FLAG_W,PHSPHT,PHSPHT_FLAG_W,CFC-11,CFC-11_FLAG_W,CFC-12,CFC-12_FLAG_W,TCARBN,TCARBN_FLAG_W,ALKALI,ALKALI_FLAG_W,TRITUM,TRITUM_FLAG_W,HELIUM,HELIUM_FLAG_W,DELHE3,DELHE3_FLAG_W,NEON,NEON_FLAG_W,THETA
,,,,,,,,,,,METERS,DBAR,DEG C,PSS-78,,PSS-78,,UMOL/KG,,UMOL/KG,,UMOL/KG,,UMOL/KG,,UMOL/KG,,PMOL/KG,,PMOL/KG,,UMOL/KG,,UMOL/KG,,TU,,NMOL/KG,,PERCNT,,NMOL/KG,,DEG C
35A3CITHER3_2 ,A13        ,133     ,  1,1          ,32         ,2,19950228,0259, -38.0008,  10.0027,     5405,      5.2,  18.4320,  35.2690,2,  35.2720,2,    244.2,2,    237.8,3,     2.00,2,     0.00,2,     0.15,2,    2.547,2,    1.276,2,     -999,9,     -999,9,     -999,9,     -999,9,     -999,9,     -999,9,  18.4310
35A3CITHER3_2 ,A13        ,133     ,  1,2          ,31         ,2,19950228,0259, -38.0008,  10.0027,     5405,      5.8,  18.4310,  35.2700,2,  35.2710,2,    244.1,2,    237.8,3,     2.00,2,     0.00,2,     0.15,2,    2.537,2,    1.273,2,   2035.8,2,     -999,9,     -999,9,     -999,9,     -999,9,     -999,9,  18.4300
35A3CITHER3_2 ,A13        ,133     ,  1,3          ,30         ,2,19950228,0259, -38.0008,  10.0027,     5405,     46.5,  18.4510,  35.2750,2,  35.2470,3,    262.0,2,    238.8,3,     1.80,2,     0.00,2,     0.16,2,    2.566,2,    1.276,2,   2035.6,2,     -999,9,     -999,9,     -999,9,     -999,9,     -999,9,  18.4430
35A3CITHER3_2 ,A13        ,133     ,  1,4          ,29         ,2,19950228,0259, -38.0008,  10.0027,     5405,    121.1,  13.9520,  35.1030,2,  35.1070,3,    242.3,2,    239.1,2,     2.10,2,     3.70,2,     0.37,2,    3.079,2,    1.491,2,   2073.1,2,     -999,9,     -999,9,     -999,9,     -999,9,     -999,9,  13.9350
35A3CITHER3_2 ,A13        ,133     ,  1,5          ,28         ,2,19950228,0259, -38.0008,  10.0027,     5405,    196.1,  12.8710,  35.0390,2,  35.0370,2,    238.5,2,    232.0,3,     2.40,2,     6.80,2,     0.53,2,    3.097,2,    1.482,2,   2088.9,2,     -999,9,     -999,9,     -999,9,     -999,9,     -999,9,  12.8440
35A3CITHER3_2 ,A13        ,133     ,  1,6          ,27         ,2,19950228,0259, -38.0008,  10.0027,     5405,    396.4,   9.8330,  34.7540,2,  34.7600,3,    219.2,2,    221.9,2,     5.90,2,    15.20,2,     1.05,2,    2.854,2,    1.321,2,   2122.0,2,     -999,9,     -999,9,     -999,9,     -999,9,     -999,9,   9.7870
35A3CITHER3_2 ,A13        ,133     ,  1,7          ,26         ,2,19950228,0259, -38.0008,  10.0027,     5405,    592.3,   6.9910,  34.4510,2,  34.4530,2,    217.9,2,    219.4,2,    10.90,2,    23.30,2,     1.52,2,    2.533,2,    1.144,2,   2148.5,2,     -999,9,     -999,9,     -999,9,     -999,9,     -999,9,   6.9340
35A3CITHER3_2 ,A13        ,133     ,  1,8          ,25         ,2,19950228,0259, -38.0008,  10.0027,     5405,    794.2,   4.8190,  34.3150,2,  34.3170,2,    223.4,2,    225.5,2,    21.60,2,    27.60,2,     1.86,2,    1.903,2,    0.859,2,   2169.9,2,     -999,9,     -999,9,     -999,9,     -999,9,     -999,9,   4.7550
35A3CITHER3_2 ,A13        ,133     ,  1,9          ,24         ,2,19950228,0259, -38.0008,  10.0027,     5405,    996.5,   3.7270,  34.3090,2,  34.3090,2,    224.2,2,    219.3,3,    31.60,2,    30.00,2,     2.02,2,    1.357,2,    0.611,2,   2187.7,2,     -999,9,     -999,9,     -999,9,     -999,9,     -999,9,   3.6540
35A3CITHER3_2 ,A13        ,133     ,  1,10         ,23         ,2,19950228,0259, -38.0008,  10.0027,     5405,   1195.0,   3.1690,  34.3830,2,  34.3830,2,    200.1,2,    200.7,2,    45.40,2,    31.90,2,     2.17,2,    0.904,2,    0.417,2,   2214.7,2,     -999,9,     -999,9,     -999,9,     -999,9,     -999,9,   3.0850
35A3CITHER3_2 ,A13        ,133     ,  1,11         ,22         ,2,19950228,0259, -38.0008,  10.0027,     5405,   1395.4,   2.9210,  34.5050,2,  34.5100,2,    181.5,2,    182.6,2,    58.60,2,    32.70,2,     2.20,2,    0.308,2,    0.147,2,   2234.0,2,     -999,9,     -999,9,     -999,9,     -999,9,     -999,9,   2.8230
35A3CITHER3_2 ,A13        ,133     ,  1,12         ,21         ,2,19950228,0259, -38.0008,  10.0027,     5405,   1596.7,   2.7590,  34.6120,2,  34.6140,2,    179.9,2,    181.1,2,    63.20,2,    31.90,2,     2.19,2,    0.103,2,    0.054,2,   2238.6,2,     -999,9,     -999,9,     -999,9,     -999,9,     -999,9,   2.6460
35A3CITHER3_2 ,A13        ,133     ,  1,13         ,20         ,2,19950228,0259, -38.0008,  10.0027,     5405,   1794.1,   2.7270,  34.7010,2,  34.7020,2,    184.2,2,    187.2,2,    63.20,2,    29.90,2,     1.99,2,    0.049,2,    0.028,2,   2233.5,2,     -999,9,     -999,9,     -999,9,     -999,9,     -999,9,   2.5970
35A3CITHER3_2 ,A13        ,133     ,  1,14         ,19         ,2,19950228,0259, -38.0008,  10.0027,     5405,   1994.5,   2.6990,  34.7590,2,  34.7600,2,    196.9,2,    198.5,2,    60.50,2,    28.30,2,     1.87,2,    0.028,2,    0.021,2,   2225.5,2,     -999,9,     -999,9,     -999,9,     -999,9,     -999,9,   2.5520
35A3CITHER3_2 ,A13        ,133     ,  1,15         ,18         ,2,19950228,0259, -38.0008,  10.0027,     5405,   2198.5,   2.6570,  34.8010,2,  34.8020,2,    208.3,2,    208.6,2,    56.10,2,    26.90,2,     1.76,2,    0.015,2,    0.013,2,   2217.0,2,     -999,9,     -999,9,     -999,9,     -999,9,     -999,9,   2.4920
35A3CITHER3_2 ,A13        ,133     ,  1,16         ,17         ,2,19950228,0259, -38.0008,  10.0027,     5405,   2395.4,   2.5910,  34.8230,2,  34.8240,2,    215.4,2,    215.9,2,    55.00,2,    26.20,2,     1.73,2,    0.008,2,    0.007,2,   2211.1,2,     -999,9,     -999,9,     -999,9,     -999,9,     -999,9,   2.4090
35A3CITHER3_2 ,A13        ,133     ,  1,17         ,16         ,2,19950228,0259, -38.0008,  10.0027,     5405,   2596.3,   2.4950,  34.8360,2,  34.8360,2,    220.4,2,    221.0,2,    55.20,2,    25.50,2,     1.68,2,    0.006,2,    0.002,2,   2208.7,2,     -999,9,     -999,9,     -999,9,     -999,9,     -999,9,   2.2960
35A3CITHER3_2 ,A13        ,133     ,  1,18         ,15         ,2,19950228,0259, -38.0008,  10.0027,     5405,   2797.5,   2.4180,  34.8400,2,  34.8400,2,    223.6,2,    223.7,2,    56.60,2,    25.40,2,     1.66,2,    0.003,2,     -999,9,   2207.4,2,     -999,9,     -999,9,     -999,9,     -999,9,     -999,9,   2.2010
35A3CITHER3_2 ,A13        ,133     ,  1,19         ,14         ,2,19950228,0259, -38.0008,  10.0027,     5405,   2995.6,   2.3340,  34.8430,2,  34.8440,2,    225.9,2,    226.8,2,    57.00,2,    25.20,2,     1.62,2,    0.002,2,    0.004,2,   2209.3,2,     -999,9,     -999,9,     -999,9,     -999,9,     -999,9,   2.0990
35A3CITHER3_2 ,A13        ,133     ,  1,20         ,13         ,2,19950228,0259, -38.0008,  10.0027,     5405,   3195.7,   2.2350,  34.8410,2,  34.8390,2,    227.6,2,    226.4,2,    59.70,2,    24.70,2,     1.67,2,    0.005,2,    0.006,2,   2212.9,2,     -999,9,     -999,9,     -999,9,     -999,9,     -999,9,   1.9810
35A3CITHER3_2 ,A13        ,133     ,  1,21         ,12         ,2,19950228,0259, -38.0008,  10.0027,     5405,   3396.5,   2.1030,  34.8330,2,  34.8310,2,    226.0,2,    226.4,2,    64.60,2,    25.20,2,     1.68,2,    0.005,2,    0.006,2,   2217.3,2,     -999,9,     -999,9,     -999,9,     -999,9,     -999,9,   1.8320
35A3CITHER3_2 ,A13        ,133     ,  1,22         ,11         ,2,19950228,0259, -38.0008,  10.0027,     5405,   3595.6,   1.9350,  34.8170,2,  34.8150,2,    223.9,2,    224.0,2,    71.80,2,    25.90,2,     1.74,2,    0.008,2,    0.008,2,   2222.8,2,     -999,9,     -999,9,     -999,9,     -999,9,     -999,9,   1.6470
35A3CITHER3_2 ,A13        ,133     ,  1,23         ,10         ,2,19950228,0259, -38.0008,  10.0027,     5405,   3796.3,   1.6460,  34.7900,2,  34.7890,2,    220.7,2,    221.2,2,    81.20,2,    27.30,2,     1.84,2,    0.010,2,    0.007,2,   2233.1,2,     -999,9,     -999,9,     -999,9,     -999,9,     -999,9,   1.3440
35A3CITHER3_2 ,A13        ,133     ,  1,24         ,9          ,2,19950228,0259, -38.0008,  10.0027,     5405,   3996.4,   1.4200,  34.7680,2,  34.7700,2,    219.1,2,    219.8,2,    89.60,2,    28.70,2,     1.91,2,    0.009,2,    0.011,2,   2240.7,2,     -999,9,     -999,9,     -999,9,     -999,9,     -999,9,   1.1030
35A3CITHER3_2 ,A13        ,133     ,  1,25         ,8          ,2,19950228,0259, -38.0008,  10.0027,     5405,   4197.8,   1.2290,  34.7530,2,  34.7520,2,    217.9,2,    218.9,2,    96.80,2,    29.10,2,     1.98,2,    0.014,2,    0.009,2,   2246.5,2,     -999,9,     -999,9,     -999,9,     -999,9,     -999,9,   0.8960
35A3CITHER3_2 ,A13        ,133     ,  1,26         ,7          ,2,19950228,0259, -38.0008,  10.0027,     5405,   4398.3,   1.1420,  34.7420,2,  34.7420,2,    217.8,2,    218.0,2,   100.60,2,    30.00,2,     2.00,2,    0.016,2,    0.015,2,   2249.3,2,     -999,9,     -999,9,     -999,9,     -999,9,     -999,9,   0.7890
35A3CITHER3_2 ,A13        ,133     ,  1,27         ,6          ,2,19950228,0259, -38.0008,  10.0027,     5405,   4599.5,   1.0880,  34.7360,2,  34.7360,2,    217.6,2,    218.1,2,   103.00,2,    30.40,2,     2.02,2,    0.018,2,    0.011,2,   2252.9,2,     -999,9,     -999,9,     -999,9,     -999,9,     -999,9,   0.7140
35A3CITHER3_2 ,A13        ,133     ,  1,28         ,5          ,2,19950228,0259, -38.0008,  10.0027,     5405,   4797.4,   1.0720,  34.7340,2,  34.7340,2,    217.9,2,    218.5,2,   104.40,2,    30.40,2,     2.03,2,    0.020,2,    0.017,2,   2251.3,2,     -999,9,     -999,9,     -999,9,     -999,9,     -999,9,   0.6760
35A3CITHER3_2 ,A13        ,133     ,  1,29         ,4          ,2,19950228,0259, -38.0008,  10.0027,     5405,   4998.8,   1.0600,  34.7310,2,  34.7300,2,    218.5,2,    217.3,2,   106.00,2,    30.50,2,     2.04,2,    0.023,2,    0.014,2,   2252.7,2,     -999,9,     -999,9,     -999,9,     -999,9,     -999,9,   0.6410
35A3CITHER3_2 ,A13        ,133     ,  1,30         ,3          ,2,19950228,0259, -38.0008,  10.0027,     5405,   5197.6,   1.0560,  34.7280,2,  34.7280,2,    219.0,2,    218.0,2,   107.00,2,    30.90,2,     2.05,2,    0.029,2,    0.021,2,   2252.8,2,     -999,9,     -999,9,     -999,9,     -999,9,     -999,9,   0.6130
35A3CITHER3_2 ,A13        ,133     ,  1,31         ,2          ,2,19950228,0259, -38.0008,  10.0027,     5405,   5399.4,   1.0650,  34.7260,2,  34.7270,2,    219.4,2,    218.5,2,   107.80,2,    30.90,2,     2.06,2,    0.030,2,    0.018,2,   2253.6,2,     -999,9,     -999,9,     -999,9,     -999,9,     -999,9,   0.5970
35A3CITHER3_2 ,A13        ,133     ,  1,32         ,1          ,2,19950228,0259, -38.0008,  10.0027,     5405,   5471.9,   1.0740,  34.7260,2,  34.7290,2,    219.2,2,    218.5,2,   107.90,2,    31.20,2,     2.06,2,    0.033,2,    0.018,2,   2253.2,2,     -999,9,     -999,9,     -999,9,     -999,9,     -999,9,   0.5960