BOTTLE,20211216CCHDHYDRO
EXPOCODE,SECT_ID,STNNBR,CASTNO,SAMPNO,BTLNBR,BTLNBR_FLAG_W,DATE,TIME,LATITUDE,LONGITUDE,DEPTH,CTDPRS,CTDTMP,CTDSAL,CTDSAL_FLAG_W,SALNTY,SALNTY_FLAG_W,CTDOXY,CTDOXY_FLAG_W,OXYGEN,OXYGEN_FLAG_W,SILCAT,SILCAT_FLAG_W,NITRAT,NITRAT_FLAG_W,PHSPHT,PHSPHT_FLAG_W,CFC-11,CFC-11_FLAG_W,CFC-12,CFC-12_FLAG_W,TCARBN,TCARBN_FLAG_W,ALKALI,ALKALI_FLAG_W,TRITUM,TRITUM_FLAG_W,HELIUM,HELIUM_FLAG_W,DELHE3,DELHE3_FLAG_W,NEON,NEON_FLAG_W,THETA
,,,,,,,,,,,METERS,DBAR,DEG C,PSS-78,,PSS-78,,UMOL/KG,,UMOL/KG,,UMOL/KG,,UMOL/KG,,UMOL/KG,,PMOL/KG,,PMOL/KG,,UMOL/KG,,UMOL/KG,,TU,,NMOL/KG,,PERCNT,,NMOL/KG,,DEG C
35A3CITHER3_2 ,A13        ,174     ,  1,1          ,26         ,2,19950311,2358, -21.4642,   6.0612,     3851,      3.9,  23.4620,  35.7550,2,  35.7540,2,    219.3,2,    214.2,3,     1.90,2,     0.00,2,     0.34,2,    1.947,2,    1.024,2,     -999,9,     -999,9,     -999,9,     -999,9,     -999,9,     -999,9,  23.4610
35A3CITHER3_2 ,A13        ,174     ,  1,2          ,25         ,2,19950311,2358, -21.4642,   6.0612,     3851,     47.5,  23.4250,  35.7580,2,  35.7530,3,    240.2,2,    217.3,3,     1.90,2,     0.00,2,     0.32,2,    1.997,2,    1.034,2,     -999,9,     -999,9,     -999,9,     -999,9,     -999,9,     -999,9,  23.4150
35A3CITHER3_2 ,A13        ,174     ,  1,3          ,24         ,2,19950311,2358, -21.4642,   6.0612,     3851,    120.9,  16.1610,  35.4800,2,  35.4820,2,    212.5,2,    212.3,2,     3.40,2,     5.60,2,     0.59,2,    2.589,2,    1.270,2,     -999,9,     -999,9,     -999,9,     -999,9,     -999,9,     -999,9,  16.1420
35A3CITHER3_2 ,A13        ,174     ,  1,4          ,23         ,2,19950311,2358, -21.4642,   6.0612,     3851,    197.1,  12.8650,  35.1170,2,  35.1160,2,    199.2,2,    199.1,2,     5.50,3,     9.80,2,     0.84,3,    2.456,2,    1.156,2,     -999,9,     -999,9,     -999,9,     -999,9,     -999,9,     -999,9,  12.8380
35A3CITHER3_2 ,A13        ,174     ,  1,5          ,22         ,2,19950311,2358, -21.4642,   6.0612,     3851,    394.9,   8.2630,  34.6400,2,  34.6390,2,    160.9,2,    158.6,2,    14.50,3,    25.60,2,     1.72,2,     -999,9,     -999,9,     -999,9,     -999,9,     -999,9,     -999,9,     -999,9,     -999,9,   8.2220
35A3CITHER3_2 ,A13        ,174     ,  1,6          ,21         ,2,19950311,2358, -21.4642,   6.0612,     3851,    575.6,   5.6140,  34.4660,2,  34.4660,2,    148.1,2,    144.9,2,    24.30,2,    33.50,2,     2.18,2,    1.266,2,    2.348,2,     -999,9,     -999,9,     -999,9,     -999,9,     -999,9,     -999,9,   5.5650
35A3CITHER3_2 ,A13        ,174     ,  1,7          ,20         ,2,19950311,2358, -21.4642,   6.0612,     3851,    576.0,   5.6020,  34.4650,2,  34.4650,2,    148.1,2,    144.6,2,    25.10,2,    33.10,2,     2.18,2,    0.333,2,    0.183,2,     -999,9,     -999,9,     -999,9,     -999,9,     -999,9,     -999,9,   5.5530
35A3CITHER3_2 ,A13        ,174     ,  1,8          ,19         ,2,19950311,2358, -21.4642,   6.0612,     3851,    694.2,   4.5980,  34.4420,2,  34.4380,2,    155.6,2,    155.5,2,    31.50,2,    33.50,2,     2.26,2,    0.102,2,    0.048,2,     -999,9,     -999,9,     -999,9,     -999,9,     -999,9,     -999,9,   4.5440
35A3CITHER3_2 ,A13        ,174     ,  1,9          ,18         ,2,19950311,2358, -21.4642,   6.0612,     3851,    795.2,   4.1840,  34.4530,2,  34.4530,2,    160.8,2,    159.5,2,    35.30,2,    33.50,2,     2.29,2,    0.044,2,    0.025,2,     -999,9,     -999,9,     -999,9,     -999,9,     -999,9,     -999,9,   4.1240
35A3CITHER3_2 ,A13        ,174     ,  1,10         ,17         ,2,19950311,2358, -21.4642,   6.0612,     3851,    995.0,   3.7370,  34.5340,2,  34.5340,2,    172.4,2,    169.6,2,    40.10,2,    32.40,2,     2.21,2,    0.016,2,    0.005,2,     -999,9,     -999,9,     -999,9,     -999,9,     -999,9,     -999,9,   3.6640
35A3CITHER3_2 ,A13        ,174     ,  1,11         ,16         ,2,19950311,2358, -21.4642,   6.0612,     3851,   1195.4,   3.6490,  34.6570,2,  34.6600,2,    181.8,2,    179.7,2,    38.80,3,    29.90,2,     2.01,2,    0.008,2,    0.007,2,     -999,9,     -999,9,     -999,9,     -999,9,     -999,9,     -999,9,   3.5600
35A3CITHER3_2 ,A13        ,174     ,  1,12         ,15         ,2,19950311,2358, -21.4642,   6.0612,     3851,   1395.5,   3.5590,  34.7650,2,  34.7660,2,    197.4,2,    195.0,2,    36.50,3,    26.80,2,     1.90,2,    0.009,2,     -999,9,     -999,9,     -999,9,     -999,9,     -999,9,     -999,9,     -999,9,   3.4530
35A3CITHER3_2 ,A13        ,174     ,  1,13         ,14         ,2,19950311,2358, -21.4642,   6.0612,     3851,   1594.8,   3.4760,  34.8410,2,  34.8420,2,    212.7,2,    212.7,2,    33.20,2,    24.90,2,     1.68,2,    0.001,2,    0.008,2,     -999,9,     -999,9,     -999,9,     -999,9,     -999,9,     -999,9,   3.3540
35A3CITHER3_2 ,A13        ,174     ,  1,14         ,13         ,2,19950311,2358, -21.4642,   6.0612,     3851,   1595.0,   3.4740,  34.8430,2,  34.8440,2,    212.7,2,    212.7,2,    33.00,2,    24.70,2,     1.70,2,    0.003,2,    0.009,2,     -999,9,     -999,9,     -999,9,     -999,9,     -999,9,     -999,9,   3.3520
35A3CITHER3_2 ,A13        ,174     ,  1,15         ,12         ,2,19950311,2358, -21.4642,   6.0612,     3851,   1795.1,   3.2980,  34.8800,2,  34.8800,2,    225.2,2,    226.4,2,    32.70,2,    23.10,2,     1.57,2,     -999,9,     -999,9,     -999,9,     -999,9,     -999,9,     -999,9,     -999,9,     -999,9,   3.1600
35A3CITHER3_2 ,A13        ,174     ,  1,16         ,11         ,2,19950311,2358, -21.4642,   6.0612,     3851,   1995.2,   3.1140,  34.8960,2,  34.8910,2,    235.8,2,    235.9,2,    33.30,2,    21.70,2,     1.50,2,    0.006,2,    0.007,2,     -999,9,     -999,9,     -999,9,     -999,9,     -999,9,     -999,9,   2.9600
35A3CITHER3_2 ,A13        ,174     ,  1,17         ,10         ,2,19950311,2358, -21.4642,   6.0612,     3851,   2195.6,   2.9360,  34.9010,2,  34.9010,2,    239.2,2,    239.1,2,    35.70,2,    21.30,2,     1.48,2,    0.001,2,     -999,9,     -999,9,     -999,9,     -999,9,     -999,9,     -999,9,     -999,9,   2.7670
35A3CITHER3_2 ,A13        ,174     ,  1,18         ,9          ,2,19950311,2358, -21.4642,   6.0612,     3851,   2395.3,   2.7540,  34.8910,2,  34.8950,2,    238.7,2,    238.5,2,    39.70,2,    22.10,2,     1.50,2,    0.007,2,    0.009,2,     -999,9,     -999,9,     -999,9,     -999,9,     -999,9,     -999,9,   2.5690
35A3CITHER3_2 ,A13        ,174     ,  1,19         ,8          ,2,19950311,2358, -21.4642,   6.0612,     3851,   2596.4,   2.6310,  34.8870,2,  34.8870,2,    238.1,2,    237.8,2,    42.90,2,    22.30,2,     1.51,2,    0.001,2,    0.005,2,     -999,9,     -999,9,     -999,9,     -999,9,     -999,9,     -999,9,   2.4290
35A3CITHER3_2 ,A13        ,174     ,  1,20         ,7          ,2,19950311,2358, -21.4642,   6.0612,     3851,   2796.7,   2.5330,  34.8840,2,  34.8830,2,    237.4,2,    236.8,2,    45.70,2,    22.10,2,     1.50,2,    0.000,2,    0.006,2,     -999,9,     -999,9,     -999,9,     -999,9,     -999,9,     -999,9,   2.3130
35A3CITHER3_2 ,A13        ,174     ,  1,21         ,6          ,2,19950311,2358, -21.4642,   6.0612,     3851,   2996.3,   2.4790,  34.8820,2,  34.8820,2,    236.3,2,    236.0,2,    47.50,2,    22.50,2,     1.53,2,    0.000,2,     -999,9,     -999,9,     -999,9,     -999,9,     -999,9,     -999,9,     -999,9,   2.2400
35A3CITHER3_2 ,A13        ,174     ,  1,22         ,5          ,2,19950311,2358, -21.4642,   6.0612,     3851,   3196.9,   2.4420,  34.8840,2,  34.8850,2,    234.9,2,    234.4,2,    49.10,2,    21.50,2,     1.43,2,    0.000,2,    0.000,2,     -999,9,     -999,9,     -999,9,     -999,9,     -999,9,     -999,9,   2.1830
35A3CITHER3_2 ,A13        ,174     ,  1,23         ,4          ,2,19950311,2358, -21.4642,   6.0612,     3851,   3396.3,   2.3970,  34.8860,2,  34.8850,2,    233.6,2,    233.7,2,    50.00,2,    22.60,2,     1.46,2,     -999,9,     -999,9,     -999,9,     -999,9,     -999,9,     -999,9,     -999,9,     -999,9,   2.1180
35A3CITHER3_2 ,A13        ,174     ,  1,24         ,3          ,2,19950311,2358, -21.4642,   6.0612,     3851,   3595.5,   2.3700,  34.8880,2,  34.8880,2,    232.1,2,    232.3,2,    51.00,2,    21.80,2,     1.51,2,    0.001,2,    0.004,2,     -999,9,     -999,9,     -999,9,     -999,9,     -999,9,     -999,9,   2.0710
35A3CITHER3_2 ,A13        ,174     ,  1,25         ,2          ,2,19950311,2358, -21.4642,   6.0612,     3851,   3797.2,   2.3360,  34.8880,2,  34.8880,2,    228.9,2,    229.1,2,    52.90,2,    21.50,2,     1.53,2,    0.019,2,    0.025,2,     -999,9,     -999,9,     -999,9,     -999,9,     -999,9,     -999,9,   2.0150
35A3CITHER3_2 ,A13        ,174     ,  1,26         ,1          ,2,19950311,2358, -21.4642,   6.0612,     3851,   3895.8,   2.3310,  34.8880,2,  34.8890,2,    225.6,2,    227.8,2,    54.10,2,    21.30,2,     1.52,2,    0.014,2,     -999,9,     -999,9,     -999,9,     -999,9,     -999,9,     -999,9,     -999,9,   1.9990
35A3CITHER3_2 ,A13        ,175     ,  1,1          ,29         ,2,19950312,0436, -21.2670,   5.9092,     4127,      6.1,  23.4240,  35.8300,2,  35.8290,2,    216.8,2,    214.0,2,     2.60,2,     0.00,2,     0.29,2,    1.938,2,    1.004,2,     -999,9,     -999,9,     -999,9,     -999,9,     -999,9,     -999,9,  23.4230
35A3CITHER3_2 ,A13        ,175     ,  1,2          ,28         ,2,19950312,0436, -21.2670,   5.9092,     4127,     45.4,  23.4210,  35.8300,2,  35.8180,3,    228.2,2,    216.1,3,     2.40,2,     0.00,2,     0.26,2,    1.989,2,    1.039,2,     -999,9,     -999,9,     -999,9,     -999,9,     -999,9,     -999,9,  23.4120
35A3CITHER3_2 ,A13        ,175     ,  1,3          ,27         ,2,19950312,0436, -21.2670,   5.9092,     4127,    122.6,  15.8710,  35.4640,2,  35.4870,3,    226.2,2,    216.5,3,     3.40,2,     4.90,2,     0.45,2,    2.610,2,    1.292,2,     -999,9,     -999,9,     -999,9,     -999,9,     -999,9,     -999,9,  15.8520
35A3CITHER3_2 ,A13        ,175     ,  1,4          ,26         ,2,19950312,0436, -21.2670,   5.9092,     4127,    197.4,  12.7450,  35.1160,2,  35.1140,2,    167.1,2,    160.0,3,     6.60,2,    16.40,2,     1.01,2,    2.270,2,    1.082,2,     -999,9,     -999,9,     -999,9,     -999,9,     -999,9,     -999,9,  12.7180
35A3CITHER3_2 ,A13        ,175     ,  1,5          ,25         ,2,19950312,0436, -21.2670,   5.9092,     4127,    365.3,   8.9990,  34.7260,2,  34.7190,3,    142.7,2,    136.7,3,    13.80,2,    26.60,2,     1.69,3,    1.202,2,    0.576,2,     -999,9,     -999,9,     -999,9,     -999,9,     -999,9,     -999,9,   8.9590
35A3CITHER3_2 ,A13        ,175     ,  1,6          ,24         ,2,19950312,0436, -21.2670,   5.9092,     4127,    546.0,   5.9340,  34.4830,2,  34.4840,2,    148.9,2,    146.2,2,    22.60,2,    32.50,2,     2.04,3,    0.411,2,    0.210,2,     -999,9,     -999,9,     -999,9,     -999,9,     -999,9,     -999,9,   5.8860
35A3CITHER3_2 ,A13        ,175     ,  1,7          ,23         ,2,19950312,0436, -21.2670,   5.9092,     4127,    684.3,   4.9470,  34.4630,2,  34.4600,2,    141.6,2,    139.3,2,    29.10,2,    35.10,2,     2.22,2,    0.063,2,    0.034,2,     -999,9,     -999,9,     -999,9,     -999,9,     -999,9,     -999,9,   4.8920
35A3CITHER3_2 ,A13        ,175     ,  1,9          ,21         ,2,19950312,0436, -21.2670,   5.9092,     4127,    844.6,   4.1590,  34.4600,2,  34.4580,2,    162.9,2,    162.3,2,    35.20,2,    34.10,2,     2.20,2,    0.042,2,    0.022,2,     -999,9,     -999,9,     -999,9,     -999,9,     -999,9,     -999,9,   4.0950
35A3CITHER3_2 ,A13        ,175     ,  1,8          ,22         ,2,19950312,0436, -21.2670,   5.9092,     4127,    845.9,   4.1550,  34.4590,2,  34.4610,2,    163.1,2,    162.0,2,    34.90,2,    34.10,2,     2.20,2,    0.042,2,    0.022,2,     -999,9,     -999,9,     -999,9,     -999,9,     -999,9,     -999,9,   4.0910
35A3CITHER3_2 ,A13        ,175     ,  1,10         ,20         ,2,19950312,0436, -21.2670,   5.9092,     4127,    995.7,   3.7840,  34.5240,2,  34.5230,2,    169.0,2,    167.6,2,    38.70,2,    32.50,2,     2.15,2,     -999,9,     -999,9,     -999,9,     -999,9,     -999,9,     -999,9,     -999,9,     -999,9,   3.7100
35A3CITHER3_2 ,A13        ,175     ,  1,11         ,19         ,2,19950312,0436, -21.2670,   5.9092,     4127,   1195.8,   3.6520,  34.6480,2,  34.6480,2,    177.4,2,    177.6,2,    38.00,2,    30.60,2,     2.00,2,    0.001,2,    0.003,2,     -999,9,     -999,9,     -999,9,     -999,9,     -999,9,     -999,9,   3.5630
35A3CITHER3_2 ,A13        ,175     ,  1,12         ,18         ,2,19950312,0436, -21.2670,   5.9092,     4127,   1395.3,   3.5940,  34.7610,2,  34.7590,2,    192.2,2,    193.1,2,    34.80,2,    27.80,2,     1.82,2,    0.000,2,   -0.002,2,     -999,9,     -999,9,     -999,9,     -999,9,     -999,9,     -999,9,   3.4880
35A3CITHER3_2 ,A13        ,175     ,  1,13         ,17         ,2,19950312,0436, -21.2670,   5.9092,     4127,   1595.2,   3.5040,  34.8320,2,  34.8350,2,    208.0,2,    209.8,2,    32.70,2,    25.60,2,     1.64,2,    0.000,2,    0.001,2,     -999,9,     -999,9,     -999,9,     -999,9,     -999,9,     -999,9,   3.3810
35A3CITHER3_2 ,A13        ,175     ,  1,14         ,16         ,2,19950312,0436, -21.2670,   5.9092,     4127,   1793.6,   3.3470,  34.8710,2,  34.8730,2,    220.7,2,    222.9,2,    31.80,2,    23.90,2,     1.52,2,    0.000,2,    0.004,2,     -999,9,     -999,9,     -999,9,     -999,9,     -999,9,     -999,9,   3.2080
35A3CITHER3_2 ,A13        ,175     ,  1,16         ,14         ,2,19950312,0436, -21.2670,   5.9092,     4127,   1993.8,   3.1500,  34.8900,2,  34.8910,2,    231.7,2,    233.4,2,    32.90,2,    22.80,2,     1.45,2,    0.000,2,    0.004,2,     -999,9,     -999,9,     -999,9,     -999,9,     -999,9,     -999,9,   2.9960
35A3CITHER3_2 ,A13        ,175     ,  1,15         ,15         ,2,19950312,0436, -21.2670,   5.9092,     4127,   1994.6,   3.1500,  34.8900,2,  34.8910,2,    231.8,2,    232.6,2,    33.30,2,    22.80,2,     1.42,2,    0.000,2,    0.002,2,     -999,9,     -999,9,     -999,9,     -999,9,     -999,9,     -999,9,   2.9960
35A3CITHER3_2 ,A13        ,175     ,  1,17         ,13         ,2,19950312,0436, -21.2670,   5.9092,     4127,   2095.5,   3.0740,  34.8960,2,  34.8960,2,    235.7,2,    236.0,2,    33.70,2,    22.50,2,     1.42,2,    0.000,2,    0.002,2,     -999,9,     -999,9,     -999,9,     -999,9,     -999,9,     -999,9,   2.9120
35A3CITHER3_2 ,A13        ,175     ,  1,18         ,12         ,2,19950312,0436, -21.2670,   5.9092,     4127,   2193.9,   2.9750,  34.8950,2,  34.8960,2,    237.8,2,    237.8,2,    35.10,2,    22.30,2,     1.42,2,    0.001,2,    0.002,2,     -999,9,     -999,9,     -999,9,     -999,9,     -999,9,     -999,9,   2.8050
35A3CITHER3_2 ,A13        ,175     ,  1,19         ,11         ,2,19950312,0436, -21.2670,   5.9092,     4127,   2394.5,   2.7760,  34.8880,2,  34.8880,2,    238.4,2,    238.4,2,    39.00,2,    22.40,2,     1.42,2,    0.002,2,    0.008,2,     -999,9,     -999,9,     -999,9,     -999,9,     -999,9,     -999,9,   2.5910
35A3CITHER3_2 ,A13        ,175     ,  1,20         ,10         ,2,19950312,0436, -21.2670,   5.9092,     4127,   2596.5,   2.5910,  34.8770,2,  34.8780,2,    238.0,2,    237.3,2,    43.80,2,    22.90,2,     1.47,2,    0.002,2,    0.003,2,     -999,9,     -999,9,     -999,9,     -999,9,     -999,9,     -999,9,   2.3900
35A3CITHER3_2 ,A13        ,175     ,  1,21         ,9          ,2,19950312,0436, -21.2670,   5.9092,     4127,   2796.2,   2.5120,  34.8800,2,  34.8790,2,    237.8,2,    237.7,2,    45.50,2,    22.90,2,     1.45,2,    0.000,2,    0.004,2,     -999,9,     -999,9,     -999,9,     -999,9,     -999,9,     -999,9,   2.2930
35A3CITHER3_2 ,A13        ,175     ,  1,22         ,8          ,2,19950312,0436, -21.2670,   5.9092,     4127,   2995.4,   2.4540,  34.8800,2,  34.8790,2,    237.5,2,    237.7,2,    47.00,2,    22.90,2,     1.47,2,    0.000,2,    0.000,2,     -999,9,     -999,9,     -999,9,     -999,9,     -999,9,     -999,9,   2.2160
35A3CITHER3_2 ,A13        ,175     ,  1,23         ,7          ,2,19950312,0436, -21.2670,   5.9092,     4127,   3195.4,   2.4100,  34.8830,2,  34.8840,2,    235.5,2,    235.4,2,    48.90,2,    22.90,2,     1.45,2,    0.000,2,    0.000,2,     -999,9,     -999,9,     -999,9,     -999,9,     -999,9,     -999,9,   2.1520
35A3CITHER3_2 ,A13        ,175     ,  1,24         ,6          ,2,19950312,0436, -21.2670,   5.9092,     4127,   3397.0,   2.3780,  34.8870,2,  34.8870,2,    232.8,2,    233.6,2,    50.60,2,    23.10,2,     1.47,2,    0.000,2,    0.001,2,     -999,9,     -999,9,     -999,9,     -999,9,     -999,9,     -999,9,   2.1000
35A3CITHER3_2 ,A13        ,175     ,  1,25         ,5          ,2,19950312,0436, -21.2670,   5.9092,     4127,   3595.3,   2.3550,  34.8890,2,  34.8870,2,    231.8,2,    232.1,2,    51.00,2,    23.00,2,     1.47,2,    0.000,2,    0.001,2,     -999,9,     -999,9,     -999,9,     -999,9,     -999,9,     -999,9,   2.0560
35A3CITHER3_2 ,A13        ,175     ,  1,26         ,4          ,2,19950312,0436, -21.2670,   5.9092,     4127,   3797.5,   2.3370,  34.8880,2,  34.8880,2,    231.4,2,    231.8,2,    51.80,2,    23.20,2,     1.44,2,    0.003,2,    0.000,2,     -999,9,     -999,9,     -999,9,     -999,9,     -999,9,     -999,9,   2.0160
35A3CITHER3_2 ,A13        ,175     ,  1,27         ,3          ,2,19950312,0436, -21.2670,   5.9092,     4127,   3993.9,   2.3350,  34.8880,2,  34.8880,2,    231.4,2,    231.0,2,    52.90,2,    23.10,2,     1.47,2,    0.003,2,   -0.003,2,     -999,9,     -999,9,     -999,9,     -999,9,     -999,9,     -999,9,   1.9920
35A3CITHER3_2 ,A13        ,175     ,  1,28         ,2          ,2,19950312,0436, -21.2670,   5.9092,     4127,   4094.9,   2.3360,  34.8860,2,  34.8870,2,    231.0,2,    231.0,2,    53.20,2,    22.80,2,     1.46,2,    0.011,3,    0.021,3,     -999,9,     -999,9,     -999,9,     -999,9,     -999,9,     -999,9,   1.9820
35A3CITHER3_2 ,A13        ,175     ,  1,29         ,1          ,2,19950312,0436, -21.2670,   5.9092,     4127,   4170.5,   2.3370,  34.8860,2,  34.8870,2,    228.5,2,    231.0,2,    54.00,2,    23.10,2,     1.47,2,    0.003,2,    0.007,2,     -999,9,     -999,9,     -999,9,     -999,9,     -999,9,     -999,9,   1.9740