BOTTLE,20211216CCHDHYDRO
EXPOCODE,SECT_ID,STNNBR,CASTNO,SAMPNO,BTLNBR,BTLNBR_FLAG_W,DATE,TIME,LATITUDE,LONGITUDE,DEPTH,CTDPRS,CTDTMP,CTDSAL,CTDSAL_FLAG_W,SALNTY,SALNTY_FLAG_W,CTDOXY,CTDOXY_FLAG_W,OXYGEN,OXYGEN_FLAG_W,SILCAT,SILCAT_FLAG_W,NITRAT,NITRAT_FLAG_W,PHSPHT,PHSPHT_FLAG_W,CFC-11,CFC-11_FLAG_W,CFC-12,CFC-12_FLAG_W,TCARBN,TCARBN_FLAG_W,ALKALI,ALKALI_FLAG_W,TRITUM,TRITUM_FLAG_W,HELIUM,HELIUM_FLAG_W,DELHE3,DELHE3_FLAG_W,NEON,NEON_FLAG_W,THETA
,,,,,,,,,,,METERS,DBAR,DEG C,PSS-78,,PSS-78,,UMOL/KG,,UMOL/KG,,UMOL/KG,,UMOL/KG,,UMOL/KG,,PMOL/KG,,PMOL/KG,,UMOL/KG,,UMOL/KG,,TU,,NMOL/KG,,PERCNT,,NMOL/KG,,DEG C
35A3CITHER3_2 ,A13        ,183     ,  1,1          ,32         ,2,19950314,0256, -18.0005,   4.9990,     5437,      4.8,  24.4900,  36.1560,2,  36.1570,2,    215.9,2,    210.8,3,     2.50,2,     0.00,2,     0.18,2,    1.866,2,    0.998,2,     -999,9,     -999,9,     -999,9,     -999,9,     -999,9,     -999,9,  24.4890
35A3CITHER3_2 ,A13        ,183     ,  1,2          ,31         ,2,19950314,0256, -18.0005,   4.9990,     5437,     45.6,  20.1390,  35.6090,2,  35.6180,3,    252.1,2,    247.1,2,     3.00,2,     0.00,2,     0.27,2,    2.364,2,    1.217,2,     -999,9,     -999,9,     -999,9,     -999,9,     -999,9,     -999,9,  20.1310
35A3CITHER3_2 ,A13        ,183     ,  1,3          ,30         ,2,19950314,0256, -18.0005,   4.9990,     5437,    120.4,  14.3440,  35.3000,2,  35.3120,3,    175.7,2,    150.5,3,     6.20,2,    16.60,2,     1.09,2,    2.332,2,    1.153,2,     -999,9,     -999,9,     -999,9,     -999,9,     -999,9,     -999,9,  14.3260
35A3CITHER3_2 ,A13        ,183     ,  1,4          ,29         ,2,19950314,0256, -18.0005,   4.9990,     5437,    195.9,  12.4880,  35.1350,2,  35.1290,3,     75.9,2,    114.1,3,     9.00,2,    22.00,2,     1.39,2,    1.548,2,    0.757,2,     -999,9,     -999,9,     -999,9,     -999,9,     -999,9,     -999,9,  12.4620
35A3CITHER3_2 ,A13        ,183     ,  1,5          ,28         ,2,19950314,0256, -18.0005,   4.9990,     5437,    257.9,  11.2910,  35.0400,2,  35.0440,2,     40.8,2,     52.2,3,    12.90,2,    30.50,2,     1.88,2,    0.798,2,    0.409,2,     -999,9,     -999,9,     -999,9,     -999,9,     -999,9,     -999,9,  11.2590
35A3CITHER3_2 ,A13        ,183     ,  1,6          ,27         ,2,19950314,0256, -18.0005,   4.9990,     5437,    395.9,   8.1090,  34.7050,2,  34.7080,2,     67.3,2,     68.2,2,    18.40,2,    35.10,2,     2.19,2,    0.263,2,    0.147,2,     -999,9,     -999,9,     -999,9,     -999,9,     -999,9,     -999,9,   8.0680
35A3CITHER3_2 ,A13        ,183     ,  1,7          ,26         ,2,19950314,0256, -18.0005,   4.9990,     5437,    596.4,   5.7870,  34.5210,2,  34.5220,2,    103.1,2,    103.7,2,    25.70,2,    36.60,2,     2.32,2,    0.039,2,    0.025,2,     -999,9,     -999,9,     -999,9,     -999,9,     -999,9,     -999,9,   5.7350
35A3CITHER3_2 ,A13        ,183     ,  1,8          ,25         ,2,19950314,0256, -18.0005,   4.9990,     5437,    795.2,   4.4310,  34.4620,2,  34.4520,3,    148.2,2,    148.1,2,    33.30,2,    34.80,2,     2.26,2,    0.019,2,    0.020,2,     -999,9,     -999,9,     -999,9,     -999,9,     -999,9,     -999,9,   4.3690
35A3CITHER3_2 ,A13        ,183     ,  1,9          ,24         ,2,19950314,0256, -18.0005,   4.9990,     5437,    995.2,   3.9070,  34.5360,2,  34.5360,2,    156.2,2,    156.5,2,    38.40,2,    33.60,2,     2.19,2,    0.002,2,    0.003,2,     -999,9,     -999,9,     -999,9,     -999,9,     -999,9,     -999,9,   3.8320
35A3CITHER3_2 ,A13        ,183     ,  1,10         ,23         ,2,19950314,0256, -18.0005,   4.9990,     5437,   1197.1,   3.6930,  34.6640,2,  34.6530,3,    168.8,2,    168.6,2,    38.80,2,    31.00,2,     2.05,2,    0.007,2,    0.008,2,     -999,9,     -999,9,     -999,9,     -999,9,     -999,9,     -999,9,   3.6030
35A3CITHER3_2 ,A13        ,183     ,  1,11         ,22         ,2,19950314,0256, -18.0005,   4.9990,     5437,   1398.1,   3.6220,  34.7860,2,  34.7880,2,    186.2,2,    188.2,2,    34.60,2,    27.70,2,     1.84,2,    0.006,2,    0.015,2,     -999,9,     -999,9,     -999,9,     -999,9,     -999,9,     -999,9,   3.5150
35A3CITHER3_2 ,A13        ,183     ,  1,12         ,21         ,2,19950314,0256, -18.0005,   4.9990,     5437,   1595.1,   3.5280,  34.8640,2,  34.8650,2,    206.9,2,    206.8,2,    31.60,2,    24.90,2,     1.63,2,    0.001,2,    0.001,2,     -999,9,     -999,9,     -999,9,     -999,9,     -999,9,     -999,9,   3.4050
35A3CITHER3_2 ,A13        ,183     ,  1,13         ,20         ,2,19950314,0256, -18.0005,   4.9990,     5437,   1795.1,   3.3800,  34.8980,2,  34.8990,2,    219.3,2,    217.6,2,    31.30,2,    23.20,2,     1.48,2,    0.000,2,    0.000,2,     -999,9,     -999,9,     -999,9,     -999,9,     -999,9,     -999,9,   3.2410
35A3CITHER3_2 ,A13        ,183     ,  1,14         ,19         ,2,19950314,0256, -18.0005,   4.9990,     5437,   1995.3,   3.2060,  34.9090,2,  34.9110,2,    225.5,2,    225.8,2,    32.70,2,    22.60,2,     1.48,2,   -0.001,2,     -999,9,     -999,9,     -999,9,     -999,9,     -999,9,     -999,9,     -999,9,   3.0510
35A3CITHER3_2 ,A13        ,183     ,  1,15         ,18         ,2,19950314,0256, -18.0005,   4.9990,     5437,   2195.2,   3.0470,  34.9110,2,  34.9110,2,    229.3,2,    230.0,2,    34.60,2,    22.40,2,     1.43,2,    0.002,2,    0.004,2,     -999,9,     -999,9,     -999,9,     -999,9,     -999,9,     -999,9,   2.8760
35A3CITHER3_2 ,A13        ,183     ,  1,16         ,17         ,2,19950314,0256, -18.0005,   4.9990,     5437,   2395.3,   2.8920,  34.9080,2,  34.9100,2,    230.7,2,    230.2,2,    37.90,2,    22.60,2,     1.47,2,   -0.001,2,    0.000,2,     -999,9,     -999,9,     -999,9,     -999,9,     -999,9,     -999,9,   2.7040
35A3CITHER3_2 ,A13        ,183     ,  1,17         ,16         ,2,19950314,0256, -18.0005,   4.9990,     5437,   2595.0,   2.7470,  34.9040,2,  34.9040,2,    230.9,2,    231.5,2,    41.20,2,    22.60,2,     1.48,2,    0.002,2,    0.000,2,     -999,9,     -999,9,     -999,9,     -999,9,     -999,9,     -999,9,   2.5430
35A3CITHER3_2 ,A13        ,183     ,  1,18         ,15         ,2,19950314,0256, -18.0005,   4.9990,     5437,   2796.1,   2.6260,  34.8990,2,  34.8990,2,    230.6,2,    230.9,2,    44.30,2,    22.60,2,     1.46,2,    0.000,2,    0.002,2,     -999,9,     -999,9,     -999,9,     -999,9,     -999,9,     -999,9,   2.4040
35A3CITHER3_2 ,A13        ,183     ,  1,19         ,14         ,2,19950314,0256, -18.0005,   4.9990,     5437,   2995.6,   2.5420,  34.8940,2,  34.8940,2,    230.8,2,    230.7,2,    47.30,2,    22.80,2,     1.50,2,    0.000,2,    0.007,2,     -999,9,     -999,9,     -999,9,     -999,9,     -999,9,     -999,9,   2.3020
35A3CITHER3_2 ,A13        ,183     ,  1,20         ,13         ,2,19950314,0256, -18.0005,   4.9990,     5437,   3195.0,   2.4780,  34.8920,2,  34.8920,2,    229.3,2,    229.5,2,    49.10,2,    23.00,2,     1.50,2,    0.003,2,    0.002,2,     -999,9,     -999,9,     -999,9,     -999,9,     -999,9,     -999,9,   2.2190
35A3CITHER3_2 ,A13        ,183     ,  1,21         ,12         ,2,19950314,0256, -18.0005,   4.9990,     5437,   3394.8,   2.4260,  34.8900,2,  34.8900,2,    229.7,2,    230.6,2,    50.30,2,    22.90,2,     1.48,2,    0.000,2,    0.004,2,     -999,9,     -999,9,     -999,9,     -999,9,     -999,9,     -999,9,   2.1470
35A3CITHER3_2 ,A13        ,183     ,  1,22         ,11         ,2,19950314,0256, -18.0005,   4.9990,     5437,   3596.1,   2.3970,  34.8910,2,  34.8900,2,    229.4,2,    230.2,2,    51.40,2,    23.00,2,     1.48,2,    0.002,2,    0.010,3,     -999,9,     -999,9,     -999,9,     -999,9,     -999,9,     -999,9,   2.0970
35A3CITHER3_2 ,A13        ,183     ,  1,23         ,10         ,2,19950314,0256, -18.0005,   4.9990,     5437,   3796.9,   2.3790,  34.8900,2,  34.8900,2,    229.7,2,    230.8,2,    51.50,2,    22.70,2,     1.50,2,    0.000,2,    0.004,2,     -999,9,     -999,9,     -999,9,     -999,9,     -999,9,     -999,9,   2.0570
35A3CITHER3_2 ,A13        ,183     ,  1,24         ,9          ,2,19950314,0256, -18.0005,   4.9990,     5437,   3996.9,   2.3720,  34.8890,2,  34.8910,2,    230.9,2,    231.3,2,    51.90,2,    22.80,2,     1.50,2,   -0.001,2,    0.002,2,     -999,9,     -999,9,     -999,9,     -999,9,     -999,9,     -999,9,   2.0280
35A3CITHER3_2 ,A13        ,183     ,  1,25         ,8          ,2,19950314,0256, -18.0005,   4.9990,     5437,   4197.1,   2.3730,  34.8880,2,  34.8870,2,    232.0,2,    232.7,2,    51.90,2,    22.60,2,     1.47,2,    0.000,2,    0.000,2,     -999,9,     -999,9,     -999,9,     -999,9,     -999,9,     -999,9,   2.0060
35A3CITHER3_2 ,A13        ,183     ,  1,26         ,7          ,2,19950314,0256, -18.0005,   4.9990,     5437,   4397.8,   2.3820,  34.8860,2,  34.8870,2,    233.0,2,    233.3,2,    52.20,2,    22.60,2,     1.44,2,    0.000,2,     -999,9,     -999,9,     -999,9,     -999,9,     -999,9,     -999,9,     -999,9,   1.9910
35A3CITHER3_2 ,A13        ,183     ,  1,27         ,6          ,2,19950314,0256, -18.0005,   4.9990,     5437,   4597.8,   2.3910,  34.8850,2,  34.8840,2,    233.7,2,    234.3,2,    52.20,2,    22.70,2,     1.41,2,    0.000,2,     -999,9,     -999,9,     -999,9,     -999,9,     -999,9,     -999,9,     -999,9,   1.9750
35A3CITHER3_2 ,A13        ,183     ,  1,28         ,5          ,2,19950314,0256, -18.0005,   4.9990,     5437,   4795.6,   2.4010,  34.8830,2,  34.8850,2,    234.2,2,    234.5,2,    52.90,2,    22.60,2,     1.46,2,    0.004,2,    0.001,2,     -999,9,     -999,9,     -999,9,     -999,9,     -999,9,     -999,9,   1.9610
35A3CITHER3_2 ,A13        ,183     ,  1,29         ,4          ,2,19950314,0256, -18.0005,   4.9990,     5437,   4997.2,   2.4170,  34.8830,2,  34.8840,2,    233.6,2,    233.9,2,    52.90,2,    22.60,2,     1.43,2,    0.004,2,     -999,9,     -999,9,     -999,9,     -999,9,     -999,9,     -999,9,     -999,9,   1.9510
35A3CITHER3_2 ,A13        ,183     ,  1,30         ,3          ,2,19950314,0256, -18.0005,   4.9990,     5437,   5198.4,   2.4350,  34.8820,2,  34.8840,2,    234.4,2,    233.9,2,    53.00,2,    22.70,2,     1.44,2,    0.002,2,    0.007,2,     -999,9,     -999,9,     -999,9,     -999,9,     -999,9,     -999,9,   1.9420
35A3CITHER3_2 ,A13        ,183     ,  1,31         ,2          ,2,19950314,0256, -18.0005,   4.9990,     5437,   5397.9,   2.4580,  34.8820,2,  34.8830,2,    235.5,2,    235.0,2,    53.00,2,    22.60,2,     1.43,2,    0.003,2,    0.007,2,     -999,9,     -999,9,     -999,9,     -999,9,     -999,9,     -999,9,   1.9390
35A3CITHER3_2 ,A13        ,183     ,  1,32         ,1          ,2,19950314,0256, -18.0005,   4.9990,     5437,   5511.7,   2.4730,  34.8800,2,  34.8840,2,    234.6,2,    235.9,2,    53.60,2,    22.90,2,     1.45,2,    0.001,2,    0.003,2,     -999,9,     -999,9,     -999,9,     -999,9,     -999,9,     -999,9,   1.9380