BOTTLE,20211216CCHDHYDRO
EXPOCODE,SECT_ID,STNNBR,CASTNO,SAMPNO,BTLNBR,BTLNBR_FLAG_W,DATE,TIME,LATITUDE,LONGITUDE,DEPTH,CTDPRS,CTDTMP,CTDSAL,CTDSAL_FLAG_W,SALNTY,SALNTY_FLAG_W,CTDOXY,CTDOXY_FLAG_W,OXYGEN,OXYGEN_FLAG_W,SILCAT,SILCAT_FLAG_W,NITRAT,NITRAT_FLAG_W,PHSPHT,PHSPHT_FLAG_W,CFC-11,CFC-11_FLAG_W,CFC-12,CFC-12_FLAG_W,TCARBN,TCARBN_FLAG_W,ALKALI,ALKALI_FLAG_W,TRITUM,TRITUM_FLAG_W,HELIUM,HELIUM_FLAG_W,DELHE3,DELHE3_FLAG_W,NEON,NEON_FLAG_W,THETA
,,,,,,,,,,,METERS,DBAR,DEG C,PSS-78,,PSS-78,,UMOL/KG,,UMOL/KG,,UMOL/KG,,UMOL/KG,,UMOL/KG,,PMOL/KG,,PMOL/KG,,UMOL/KG,,UMOL/KG,,TU,,NMOL/KG,,PERCNT,,NMOL/KG,,DEG C
35A3CITHER3_2 ,A13        ,234     ,  1,1          ,32         ,2,19950326,0955,   2.6853,   0.1483,     4792,      5.0,  29.5720,  34.9340,2,  34.9350,2,    195.5,2,    196.2,2,     3.90,2,     0.00,2,     0.01,2,    1.540,2,    0.853,2,     -999,9,     -999,9,     -999,9,     -999,9,     -999,9,     -999,9,  29.5710
35A3CITHER3_2 ,A13        ,234     ,  1,2          ,31         ,2,19950326,0955,   2.6853,   0.1483,     4792,     46.1,  23.3400,  35.6580,2,  35.7750,3,    218.4,2,    187.3,3,     4.10,2,     1.00,2,     0.23,2,    1.700,2,    0.862,2,     -999,9,     -999,9,     -999,9,     -999,9,     -999,9,     -999,9,  23.3300
35A3CITHER3_2 ,A13        ,234     ,  1,3          ,30         ,2,19950326,0955,   2.6853,   0.1483,     4792,    120.7,  16.1770,  35.6690,2,  35.6610,3,    111.5,2,    106.0,3,     8.00,2,    18.00,3,     1.11,2,    1.394,2,    0.689,2,     -999,9,     -999,9,     -999,9,     -999,9,     -999,9,     -999,9,  16.1580
35A3CITHER3_2 ,A13        ,234     ,  1,4          ,29         ,2,19950326,0955,   2.6853,   0.1483,     4792,    196.1,  14.0580,  35.4210,2,  35.4270,3,     89.6,2,     81.0,3,    10.00,2,    23.10,2,     1.40,2,     -999,9,     -999,9,     -999,9,     -999,9,     -999,9,     -999,9,     -999,9,     -999,9,  14.0290
35A3CITHER3_2 ,A13        ,234     ,  1,5          ,28         ,2,19950326,0955,   2.6853,   0.1483,     4792,    275.1,  10.5740,  35.0380,2,  35.0390,2,     53.8,2,     53.6,2,    14.90,2,    31.70,2,     1.89,2,     -999,9,     -999,9,     -999,9,     -999,9,     -999,9,     -999,9,     -999,9,     -999,9,  10.5410
35A3CITHER3_2 ,A13        ,234     ,  1,6          ,27         ,2,19950326,0955,   2.6853,   0.1483,     4792,    395.5,   8.6350,  34.7950,2,  34.8010,3,     84.0,2,     85.3,2,    17.40,2,    32.40,2,     1.96,2,    0.253,2,    0.133,2,     -999,9,     -999,9,     -999,9,     -999,9,     -999,9,     -999,9,   8.5930
35A3CITHER3_2 ,A13        ,234     ,  1,7          ,26         ,2,19950326,0955,   2.6853,   0.1483,     4792,    596.0,   6.2130,  34.5950,2,  34.5970,2,    101.4,2,    101.5,2,    25.20,2,    35.60,2,     2.26,2,    0.032,2,    0.016,2,     -999,9,     -999,9,     -999,9,     -999,9,     -999,9,     -999,9,   6.1590
35A3CITHER3_2 ,A13        ,234     ,  1,8          ,25         ,2,19950326,0955,   2.6853,   0.1483,     4792,    795.7,   4.7510,  34.5390,2,  34.5340,2,    144.0,2,    142.9,2,    30.70,2,    34.00,2,     2.22,2,    0.016,2,    0.009,2,     -999,9,     -999,9,     -999,9,     -999,9,     -999,9,     -999,9,   4.6870
35A3CITHER3_2 ,A13        ,234     ,  1,9          ,24         ,2,19950326,0955,   2.6853,   0.1483,     4792,    994.8,   4.5160,  34.6280,2,  34.6250,2,    153.4,2,    150.3,2,    31.40,2,    32.50,2,     2.10,2,    0.003,2,    0.000,2,     -999,9,     -999,9,     -999,9,     -999,9,     -999,9,     -999,9,   4.4370
35A3CITHER3_2 ,A13        ,234     ,  1,10         ,23         ,2,19950326,0955,   2.6853,   0.1483,     4792,   1195.4,   4.4440,  34.8100,2,  34.8150,2,    180.2,2,    178.0,2,    26.80,2,    27.90,2,     1.82,2,    0.007,2,     -999,9,     -999,9,     -999,9,     -999,9,     -999,9,     -999,9,     -999,9,   4.3470
35A3CITHER3_2 ,A13        ,234     ,  1,11         ,22         ,2,19950326,0955,   2.6853,   0.1483,     4792,   1395.5,   4.2480,  34.9040,2,  34.9050,2,    205.7,2,    202.2,2,    23.90,2,    24.20,2,     1.54,2,    0.006,2,    0.003,2,     -999,9,     -999,9,     -999,9,     -999,9,     -999,9,     -999,9,   4.1350
35A3CITHER3_2 ,A13        ,234     ,  1,12         ,21         ,2,19950326,0955,   2.6853,   0.1483,     4792,   1595.5,   3.9620,  34.9540,2,  34.9550,2,    228.8,2,    226.1,2,    21.80,2,    21.40,2,     1.33,2,    0.005,2,    0.004,2,     -999,9,     -999,9,     -999,9,     -999,9,     -999,9,     -999,9,   3.8340
35A3CITHER3_2 ,A13        ,234     ,  1,13         ,20         ,2,19950326,0955,   2.6853,   0.1483,     4792,   1794.9,   3.8020,  34.9720,2,  34.9740,2,    246.8,2,    243.5,2,    19.90,2,    19.80,2,     1.26,2,    0.021,2,    0.013,2,     -999,9,     -999,9,     -999,9,     -999,9,     -999,9,     -999,9,   3.6570
35A3CITHER3_2 ,A13        ,234     ,  1,14         ,19         ,2,19950326,0955,   2.6853,   0.1483,     4792,   1994.8,   3.5380,  34.9600,2,  34.9520,3,    245.8,2,    243.1,2,    22.90,2,    20.10,2,     1.26,2,    0.010,2,    0.002,2,     -999,9,     -999,9,     -999,9,     -999,9,     -999,9,     -999,9,   3.3780
35A3CITHER3_2 ,A13        ,234     ,  1,15         ,18         ,2,19950326,0955,   2.6853,   0.1483,     4792,   2196.1,   3.2980,  34.9490,2,  34.9520,2,    243.2,2,    240.8,2,    27.20,2,    20.50,2,     1.29,2,    0.001,2,     -999,9,     -999,9,     -999,9,     -999,9,     -999,9,     -999,9,     -999,9,   3.1220
35A3CITHER3_2 ,A13        ,234     ,  1,16         ,17         ,2,19950326,0955,   2.6853,   0.1483,     4792,   2396.2,   3.0780,  34.9390,2,  34.9410,2,    240.8,2,    239.1,2,    31.40,2,    21.10,2,     1.34,2,    0.000,2,    0.000,2,     -999,9,     -999,9,     -999,9,     -999,9,     -999,9,     -999,9,   2.8870
35A3CITHER3_2 ,A13        ,234     ,  1,17         ,16         ,2,19950326,0955,   2.6853,   0.1483,     4792,   2595.8,   2.9000,  34.9290,2,  34.9310,2,    241.5,2,    241.1,2,    33.70,2,    21.00,2,     1.31,2,    0.003,2,     -999,9,     -999,9,     -999,9,     -999,9,     -999,9,     -999,9,     -999,9,   2.6930
35A3CITHER3_2 ,A13        ,234     ,  1,18         ,15         ,2,19950326,0955,   2.6853,   0.1483,     4792,   2796.7,   2.7740,  34.9210,2,  34.9220,2,    242.4,2,    241.0,2,    36.20,2,    21.20,2,     1.36,2,    0.000,2,     -999,9,     -999,9,     -999,9,     -999,9,     -999,9,     -999,9,     -999,9,   2.5490
35A3CITHER3_2 ,A13        ,234     ,  1,19         ,14         ,2,19950326,0955,   2.6853,   0.1483,     4792,   2995.4,   2.6770,  34.9140,2,  34.9090,2,    237.2,2,    237.6,2,    39.30,2,    21.60,2,     1.38,2,    0.005,2,    0.000,2,     -999,9,     -999,9,     -999,9,     -999,9,     -999,9,     -999,9,   2.4340
35A3CITHER3_2 ,A13        ,234     ,  1,21         ,12         ,2,19950326,0955,   2.6853,   0.1483,     4792,   3195.4,   2.5780,  34.9080,2,  34.9090,2,    238.0,2,    238.1,2,    41.90,2,    21.80,2,     1.37,2,    0.000,2,    0.000,2,     -999,9,     -999,9,     -999,9,     -999,9,     -999,9,     -999,9,   2.3160
35A3CITHER3_2 ,A13        ,234     ,  1,20         ,13         ,2,19950326,0955,   2.6853,   0.1483,     4792,   3196.0,   2.5790,  34.9090,2,  34.8980,3,    238.0,2,    237.7,2,    41.60,2,    21.80,2,     1.38,2,    0.004,2,     -999,9,     -999,9,     -999,9,     -999,9,     -999,9,     -999,9,     -999,9,   2.3170
35A3CITHER3_2 ,A13        ,234     ,  1,22         ,11         ,2,19950326,0955,   2.6853,   0.1483,     4792,   3395.7,   2.5030,  34.9030,2,  34.8990,2,    237.9,2,    237.9,2,    43.40,2,    21.80,2,     1.36,2,    0.000,2,    0.001,2,     -999,9,     -999,9,     -999,9,     -999,9,     -999,9,     -999,9,   2.2220
35A3CITHER3_2 ,A13        ,234     ,  1,23         ,10         ,2,19950326,0955,   2.6853,   0.1483,     4792,   3596.0,   2.4420,  34.8980,2,  34.8990,2,    239.7,2,    240.5,2,    44.20,2,    21.30,2,     1.32,3,    0.000,2,   -0.001,2,     -999,9,     -999,9,     -999,9,     -999,9,     -999,9,     -999,9,   2.1410
35A3CITHER3_2 ,A13        ,234     ,  1,24         ,9          ,2,19950326,0955,   2.6853,   0.1483,     4792,   3796.6,   2.4070,  34.8940,2,  34.8960,2,    237.3,2,    236.7,2,    47.10,2,    21.90,2,     1.36,2,    0.000,2,    0.001,2,     -999,9,     -999,9,     -999,9,     -999,9,     -999,9,     -999,9,   2.0840
35A3CITHER3_2 ,A13        ,234     ,  1,25         ,8          ,2,19950326,0955,   2.6853,   0.1483,     4792,   3995.3,   2.3600,  34.8890,2,  34.8930,2,    236.6,2,    237.0,2,    48.60,2,    22.20,2,     1.38,2,    0.000,2,   -0.004,2,     -999,9,     -999,9,     -999,9,     -999,9,     -999,9,     -999,9,   2.0160
35A3CITHER3_2 ,A13        ,234     ,  1,26         ,7          ,2,19950326,0955,   2.6853,   0.1483,     4792,   4197.4,   2.3130,  34.8840,2,  34.8850,2,    237.2,2,    237.6,2,    50.20,2,    22.00,2,     1.38,2,    0.002,2,   -0.003,2,     -999,9,     -999,9,     -999,9,     -999,9,     -999,9,     -999,9,   1.9470
35A3CITHER3_2 ,A13        ,234     ,  1,27         ,6          ,2,19950326,0955,   2.6853,   0.1483,     4792,   4397.6,   2.2700,  34.8780,2,  34.8790,2,    237.1,2,    238.2,2,    51.60,2,    22.40,2,     1.41,3,    0.000,2,    0.001,2,     -999,9,     -999,9,     -999,9,     -999,9,     -999,9,     -999,9,   1.8820
35A3CITHER3_2 ,A13        ,234     ,  1,28         ,5          ,2,19950326,0955,   2.6853,   0.1483,     4792,   4596.5,   2.2310,  34.8720,2,  34.8740,2,    236.5,2,    237.4,2,    53.70,2,    22.10,2,     1.38,2,    0.002,2,    0.001,2,     -999,9,     -999,9,     -999,9,     -999,9,     -999,9,     -999,9,   1.8210
35A3CITHER3_2 ,A13        ,234     ,  1,29         ,4          ,2,19950326,0955,   2.6853,   0.1483,     4792,   4797.3,   2.1940,  34.8650,2,  34.8650,2,    226.6,2,    226.0,2,    60.20,2,    23.50,2,     1.48,2,    0.004,2,     -999,9,     -999,9,     -999,9,     -999,9,     -999,9,     -999,9,     -999,9,   1.7600
35A3CITHER3_2 ,A13        ,234     ,  1,30         ,3          ,2,19950326,0955,   2.6853,   0.1483,     4792,   4844.8,   2.1870,  34.8630,2,  34.8640,2,    224.6,2,    226.7,2,    60.80,2,    23.10,2,     1.47,2,    0.002,2,    0.001,2,     -999,9,     -999,9,     -999,9,     -999,9,     -999,9,     -999,9,   1.7480
35A3CITHER3_2 ,A13        ,235     ,  1,1          ,32         ,2,19950326,1538,   3.0330,  -0.0668,     4827,      4.0,  29.6410,  34.9030,2,  34.8990,2,    199.1,2,    198.4,2,     2.90,2,     0.00,2,     0.02,2,    1.532,2,    0.837,2,     -999,9,   2279.8,2,     -999,9,     -999,9,     -999,9,     -999,9,  29.6400
35A3CITHER3_2 ,A13        ,235     ,  1,2          ,31         ,2,19950326,1538,   3.0330,  -0.0668,     4827,      4.2,  29.6500,  34.9030,2,  34.9020,2,    199.1,2,    197.0,2,     3.00,2,     0.00,2,     0.01,2,    1.541,2,    0.844,2,   1921.9,2,     -999,9,     -999,9,     -999,9,     -999,9,     -999,9,  29.6490
35A3CITHER3_2 ,A13        ,235     ,  1,3          ,30         ,2,19950326,1538,   3.0330,  -0.0668,     4827,     45.5,  23.6780,  35.7160,2,  35.7430,3,    212.5,2,    207.1,2,     2.90,2,     0.00,2,     0.13,2,    1.702,2,    0.863,2,   2051.7,2,   2343.8,2,     -999,9,     -999,9,     -999,9,     -999,9,  23.6680
35A3CITHER3_2 ,A13        ,235     ,  1,4          ,29         ,2,19950326,1538,   3.0330,  -0.0668,     4827,    120.9,  16.4540,  35.7070,2,  35.7010,3,    123.7,2,    111.5,3,     7.10,2,    16.30,2,     1.01,2,    1.462,2,    0.725,2,   2162.4,2,     -999,9,     -999,9,     -999,9,     -999,9,     -999,9,  16.4340
35A3CITHER3_2 ,A13        ,235     ,  1,5          ,28         ,2,19950326,1538,   3.0330,  -0.0668,     4827,    196.8,  14.4360,  35.4550,2,  35.4710,3,     85.2,2,     88.5,2,     9.20,2,    21.90,2,     1.39,2,    1.099,2,    0.562,2,   2186.6,2,     -999,9,     -999,9,     -999,9,     -999,9,     -999,9,  14.4070
35A3CITHER3_2 ,A13        ,235     ,  1,6          ,27         ,2,19950326,1538,   3.0330,  -0.0668,     4827,    296.0,  10.5900,  35.0230,2,  35.0330,3,     53.3,2,     52.9,2,    14.70,2,    31.60,2,     1.92,2,    0.321,2,    0.174,2,   2230.2,2,   2302.0,2,     -999,9,     -999,9,     -999,9,     -999,9,  10.5540
35A3CITHER3_2 ,A13        ,235     ,  1,7          ,26         ,2,19950326,1538,   3.0330,  -0.0668,     4827,    395.0,   8.7090,  34.8090,2,  34.8060,2,     81.0,2,     85.5,2,    17.00,2,    32.40,2,     2.00,2,    0.260,2,    0.136,2,   2221.4,2,     -999,9,     -999,9,     -999,9,     -999,9,     -999,9,   8.6670
35A3CITHER3_2 ,A13        ,235     ,  1,8          ,25         ,2,19950326,1538,   3.0330,  -0.0668,     4827,    595.6,   6.3120,  34.5970,2,  34.5780,3,    102.9,2,    100.2,2,    24.50,2,    35.20,2,     2.30,2,    0.036,2,    0.019,2,   2230.1,2,   2294.3,2,     -999,9,     -999,9,     -999,9,     -999,9,   6.2580
35A3CITHER3_2 ,A13        ,235     ,  1,9          ,24         ,2,19950326,1538,   3.0330,  -0.0668,     4827,    795.4,   4.8130,  34.5400,2,  34.5390,2,    139.9,2,    139.5,2,    30.60,2,    33.90,2,     2.26,2,    0.009,2,    0.007,2,   2223.0,2,   2295.3,2,     -999,9,     -999,9,     -999,9,     -999,9,   4.7490
35A3CITHER3_2 ,A13        ,235     ,  1,10         ,23         ,2,19950326,1538,   3.0330,  -0.0668,     4827,    995.7,   4.5080,  34.6350,2,  34.6060,3,    151.8,2,    151.1,2,    31.00,2,    32.20,2,     2.16,2,    0.009,2,    0.000,2,   2217.8,2,     -999,9,     -999,9,     -999,9,     -999,9,     -999,9,   4.4290
35A3CITHER3_2 ,A13        ,235     ,  1,11         ,22         ,2,19950326,1538,   3.0330,  -0.0668,     4827,   1194.7,   4.4420,  34.8060,2,  34.8050,2,    177.4,2,    177.2,2,    26.90,2,    27.90,2,     1.83,2,    0.005,2,    0.002,2,   2202.7,2,   2314.7,2,     -999,9,     -999,9,     -999,9,     -999,9,   4.3450
35A3CITHER3_2 ,A13        ,235     ,  1,12         ,21         ,2,19950326,1538,   3.0330,  -0.0668,     4827,   1394.6,   4.2470,  34.9040,2,  34.9050,2,    204.1,2,    202.4,2,    23.90,2,    23.90,2,     1.53,2,    0.004,2,    0.000,2,   2187.7,2,     -999,9,     -999,9,     -999,9,     -999,9,     -999,9,   4.1340
35A3CITHER3_2 ,A13        ,235     ,  1,13         ,20         ,2,19950326,1538,   3.0330,  -0.0668,     4827,   1695.1,   3.8370,  34.9580,2,  34.9570,2,    230.5,2,    229.8,2,    22.50,2,    20.70,2,     1.33,2,    0.001,2,    0.000,2,   2173.7,2,     -999,9,     -999,9,     -999,9,     -999,9,     -999,9,   3.7010
35A3CITHER3_2 ,A13        ,235     ,  1,14         ,19         ,2,19950326,1538,   3.0330,  -0.0668,     4827,   1994.4,   3.5170,  34.9570,2,  34.9590,2,    240.8,2,    239.2,2,    24.20,2,    20.10,2,     1.27,2,    0.009,2,    0.009,2,   2170.6,2,     -999,9,     -999,9,     -999,9,     -999,9,     -999,9,   3.3570
35A3CITHER3_2 ,A13        ,235     ,  1,15         ,18         ,2,19950326,1538,   3.0330,  -0.0668,     4827,   2195.0,   3.2790,  34.9480,2,  34.9490,2,    240.5,2,    239.0,2,    28.00,2,    20.30,2,     1.31,2,    0.002,2,    0.004,2,     -999,9,   2323.3,2,     -999,9,     -999,9,     -999,9,     -999,9,   3.1040
35A3CITHER3_2 ,A13        ,235     ,  1,17         ,16         ,2,19950326,1538,   3.0330,  -0.0668,     4827,   2395.9,   3.0730,  34.9390,2,  34.9410,2,    239.9,2,    238.8,2,    31.60,2,    20.50,2,     1.33,2,    0.007,2,    0.002,2,   2178.7,2,     -999,9,     -999,9,     -999,9,     -999,9,     -999,9,   2.8820
35A3CITHER3_2 ,A13        ,235     ,  1,18         ,15         ,2,19950326,1538,   3.0330,  -0.0668,     4827,   2595.3,   2.8890,  34.9290,2,  34.9290,2,    242.2,2,    241.3,2,    33.80,2,    20.30,2,     1.32,2,    0.003,2,    0.001,2,   2180.3,2,     -999,9,     -999,9,     -999,9,     -999,9,     -999,9,   2.6820
35A3CITHER3_2 ,A13        ,235     ,  1,16         ,17         ,2,19950326,1538,   3.0330,  -0.0668,     4827,   2595.4,   2.8890,  34.9290,2,  34.9280,2,    242.2,2,    241.3,2,    33.80,2,    20.80,2,     1.33,2,    0.001,2,    0.000,2,     -999,9,     -999,9,     -999,9,     -999,9,     -999,9,     -999,9,   2.6820
35A3CITHER3_2 ,A13        ,235     ,  1,19         ,14         ,2,19950326,1538,   3.0330,  -0.0668,     4827,   2795.3,   2.7780,  34.9220,2,  34.9140,3,    241.3,2,    241.0,2,    36.30,2,    20.80,2,     1.35,2,    0.003,2,     -999,9,   2183.2,2,     -999,9,     -999,9,     -999,9,     -999,9,     -999,9,   2.5530
35A3CITHER3_2 ,A13        ,235     ,  1,20         ,13         ,2,19950326,1538,   3.0330,  -0.0668,     4827,   2994.0,   2.6920,  34.9150,2,  34.9160,2,    236.9,2,    236.6,2,    39.90,2,    21.40,2,     1.37,2,    0.000,2,    0.000,2,   2190.5,2,     -999,9,     -999,9,     -999,9,     -999,9,     -999,9,   2.4490
35A3CITHER3_2 ,A13        ,235     ,  1,21         ,12         ,2,19950326,1538,   3.0330,  -0.0668,     4827,   3197.1,   2.5700,  34.9080,2,  34.9070,2,    236.4,2,    237.6,2,    42.00,2,    20.70,3,     1.32,3,    0.001,2,    0.000,2,   2192.2,2,   2342.0,2,     -999,9,     -999,9,     -999,9,     -999,9,   2.3080
35A3CITHER3_2 ,A13        ,235     ,  1,22         ,11         ,2,19950326,1538,   3.0330,  -0.0668,     4827,   3396.1,   2.4960,  34.9020,2,  34.8910,3,    236.6,2,    237.1,2,    43.70,2,    21.40,2,     1.37,2,    0.003,2,    0.005,2,   2195.2,2,     -999,9,     -999,9,     -999,9,     -999,9,     -999,9,   2.2150
35A3CITHER3_2 ,A13        ,235     ,  1,23         ,10         ,2,19950326,1538,   3.0330,  -0.0668,     4827,   3595.3,   2.4450,  34.8970,2,  34.8970,2,    237.1,2,    237.6,2,    45.60,2,    21.40,2,     1.38,2,    0.003,2,    0.000,2,   2196.2,2,     -999,9,     -999,9,     -999,9,     -999,9,     -999,9,   2.1440
35A3CITHER3_2 ,A13        ,235     ,  1,24         ,9          ,2,19950326,1538,   3.0330,  -0.0668,     4827,   3796.3,   2.3900,  34.8940,2,  34.8920,2,    237.9,2,    237.5,2,    47.30,2,    20.90,3,     1.39,2,    0.004,2,    0.001,2,   2198.8,2,     -999,9,     -999,9,     -999,9,     -999,9,     -999,9,   2.0680
35A3CITHER3_2 ,A13        ,235     ,  1,25         ,8          ,2,19950326,1538,   3.0330,  -0.0668,     4827,   3996.2,   2.3460,  34.8890,2,  34.8880,2,    236.4,2,    239.1,2,    48.80,2,    21.80,2,     1.41,2,    0.001,2,     -999,9,   2201.2,2,     -999,9,     -999,9,     -999,9,     -999,9,     -999,9,   2.0030
35A3CITHER3_2 ,A13        ,235     ,  1,26         ,7          ,2,19950326,1538,   3.0330,  -0.0668,     4827,   4197.6,   2.2990,  34.8830,2,  34.8820,2,    236.2,2,    236.0,2,    51.10,2,    22.30,2,     1.43,2,    0.000,2,   -0.004,2,   2205.4,2,   2351.5,2,     -999,9,     -999,9,     -999,9,     -999,9,   1.9340
35A3CITHER3_2 ,A13        ,235     ,  1,27         ,6          ,2,19950326,1538,   3.0330,  -0.0668,     4827,   4397.8,   2.2550,  34.8770,2,  34.8760,2,    235.3,2,    233.7,2,    54.20,2,    22.50,2,     1.45,2,    0.002,2,    0.000,2,   2211.6,2,     -999,9,     -999,9,     -999,9,     -999,9,     -999,9,   1.8680
35A3CITHER3_2 ,A13        ,235     ,  1,28         ,5          ,2,19950326,1538,   3.0330,  -0.0668,     4827,   4595.4,   2.2170,  34.8690,2,  34.8690,2,    231.1,2,    230.5,2,    57.10,2,    23.20,2,     1.50,2,    0.001,2,    0.000,2,   2218.9,2,     -999,9,     -999,9,     -999,9,     -999,9,     -999,9,   1.8070
35A3CITHER3_2 ,A13        ,235     ,  1,29         ,4          ,2,19950326,1538,   3.0330,  -0.0668,     4827,   4797.1,   2.1860,  34.8630,2,  34.8640,2,    226.1,2,    226.5,2,    60.60,2,    23.20,2,     1.51,2,    0.002,2,    0.000,2,   2227.6,2,     -999,9,     -999,9,     -999,9,     -999,9,     -999,9,   1.7530
35A3CITHER3_2 ,A13        ,235     ,  1,30         ,3          ,2,19950326,1538,   3.0330,  -0.0668,     4827,   4879.0,   2.1780,  34.8620,2,  34.8600,2,    227.5,2,    230.7,2,    60.00,2,    21.60,3,     1.39,3,    0.005,2,    0.000,2,   2223.0,2,   2365.2,2,     -999,9,     -999,9,     -999,9,     -999,9,   1.7350