BOTTLE,20211216CCHDHYDRO
EXPOCODE,SECT_ID,STNNBR,CASTNO,SAMPNO,BTLNBR,BTLNBR_FLAG_W,DATE,TIME,LATITUDE,LONGITUDE,DEPTH,CTDPRS,CTDTMP,CTDSAL,CTDSAL_FLAG_W,SALNTY,SALNTY_FLAG_W,CTDOXY,CTDOXY_FLAG_W,OXYGEN,OXYGEN_FLAG_W,SILCAT,SILCAT_FLAG_W,NITRAT,NITRAT_FLAG_W,PHSPHT,PHSPHT_FLAG_W,CFC-11,CFC-11_FLAG_W,CFC-12,CFC-12_FLAG_W,TCARBN,TCARBN_FLAG_W,ALKALI,ALKALI_FLAG_W,TRITUM,TRITUM_FLAG_W,HELIUM,HELIUM_FLAG_W,DELHE3,DELHE3_FLAG_W,NEON,NEON_FLAG_W,THETA
,,,,,,,,,,,METERS,DBAR,DEG C,PSS-78,,PSS-78,,UMOL/KG,,UMOL/KG,,UMOL/KG,,UMOL/KG,,UMOL/KG,,PMOL/KG,,PMOL/KG,,UMOL/KG,,UMOL/KG,,TU,,NMOL/KG,,PERCNT,,NMOL/KG,,DEG C
35A3CITHER3_2 ,A13        ,125     ,  1,1          ,32         ,2,19950225,2335, -38.4710,  12.1892,     5021,      4.2,  18.8740,  35.3760,2,  35.3760,2,    231.6,2,    235.1,2,     1.50,2,     0.00,2,     0.16,2,    2.539,2,    1.275,2,     -999,9,     -999,9,     -999,9,     -999,9,     -999,9,     -999,9,  18.8730
35A3CITHER3_2 ,A13        ,125     ,  1,2          ,31         ,2,19950225,2335, -38.4710,  12.1892,     5021,     45.9,  18.0570,  35.3000,2,  35.2930,3,    237.6,2,    238.9,2,     1.50,2,     0.00,2,     0.18,2,    2.602,2,    1.291,2,     -999,9,     -999,9,     -999,9,     -999,9,     -999,9,     -999,9,  18.0490
35A3CITHER3_2 ,A13        ,125     ,  1,3          ,30         ,2,19950225,2335, -38.4710,  12.1892,     5021,    120.6,  14.9300,  35.3400,2,  35.3480,3,    218.2,2,    221.9,3,     3.60,2,     5.10,2,     0.44,2,    2.808,2,    1.352,2,     -999,9,     -999,9,     -999,9,     -999,9,     -999,9,     -999,9,  14.9120
35A3CITHER3_2 ,A13        ,125     ,  1,4          ,29         ,2,19950225,2335, -38.4710,  12.1892,     5021,    196.3,  13.4290,  35.1580,2,  35.1610,2,    218.9,2,    220.2,2,     4.10,2,     7.60,2,     0.59,2,    2.840,2,    1.359,2,     -999,9,     -999,9,     -999,9,     -999,9,     -999,9,     -999,9,  13.4010
35A3CITHER3_2 ,A13        ,125     ,  1,5          ,28         ,2,19950225,2335, -38.4710,  12.1892,     5021,    395.7,   9.9320,  34.7640,2,  34.7650,2,    219.4,2,    226.3,3,     5.70,2,    15.30,2,     1.03,2,    2.830,2,    1.335,2,     -999,9,     -999,9,     -999,9,     -999,9,     -999,9,     -999,9,   9.8860
35A3CITHER3_2 ,A13        ,125     ,  1,6          ,27         ,2,19950225,2335, -38.4710,  12.1892,     5021,    594.3,   6.3920,  34.3910,2,  34.3900,2,    211.3,2,    224.7,3,    11.10,2,    24.40,2,     1.62,2,    2.649,2,    1.180,2,     -999,9,     -999,9,     -999,9,     -999,9,     -999,9,     -999,9,   6.3380
35A3CITHER3_2 ,A13        ,125     ,  1,7          ,26         ,2,19950225,2335, -38.4710,  12.1892,     5021,    794.9,   4.4420,  34.2860,2,  34.2890,2,    232.3,2,    229.5,2,    21.50,2,    28.30,2,     1.86,2,    1.880,2,    0.833,2,     -999,9,     -999,9,     -999,9,     -999,9,     -999,9,     -999,9,   4.3810
35A3CITHER3_2 ,A13        ,125     ,  1,9          ,24         ,2,19950225,2335, -38.4710,  12.1892,     5021,    993.8,   3.8300,  34.3300,2,  34.3330,2,    214.0,2,    212.6,2,    33.70,2,    30.40,2,     2.05,2,    1.221,2,    0.553,2,     -999,9,     -999,9,     -999,9,     -999,9,     -999,9,     -999,9,   3.7560
35A3CITHER3_2 ,A13        ,125     ,  1,8          ,25         ,2,19950225,2335, -38.4710,  12.1892,     5021,    993.9,   3.8350,  34.3300,2,  34.3340,2,    214.0,2,    212.2,2,    32.80,2,    30.50,2,     2.05,2,    1.243,2,    0.552,2,     -999,9,     -999,9,     -999,9,     -999,9,     -999,9,     -999,9,   3.7610
35A3CITHER3_2 ,A13        ,125     ,  1,10         ,23         ,2,19950225,2335, -38.4710,  12.1892,     5021,   1194.7,   3.1610,  34.4210,2,  34.4200,2,    193.1,2,    191.8,2,    48.10,2,    32.60,2,     2.19,2,    0.610,2,    0.273,2,     -999,9,     -999,9,     -999,9,     -999,9,     -999,9,     -999,9,   3.0770
35A3CITHER3_2 ,A13        ,125     ,  1,11         ,22         ,2,19950225,2335, -38.4710,  12.1892,     5021,   1395.5,   2.9070,  34.5350,2,  34.5390,2,    179.2,2,    181.0,2,    58.90,2,    32.70,2,     2.21,2,    0.199,2,    0.101,2,     -999,9,     -999,9,     -999,9,     -999,9,     -999,9,     -999,9,   2.8090
35A3CITHER3_2 ,A13        ,125     ,  1,12         ,21         ,2,19950225,2335, -38.4710,  12.1892,     5021,   1494.5,   2.9090,  34.5940,2,  34.5960,2,    177.4,2,    176.4,2,    62.00,2,    32.20,2,     2.20,2,    0.118,2,    0.059,2,     -999,9,     -999,9,     -999,9,     -999,9,     -999,9,     -999,9,   2.8030
35A3CITHER3_2 ,A13        ,125     ,  1,13         ,20         ,2,19950225,2335, -38.4710,  12.1892,     5021,   1596.7,   2.8230,  34.6370,2,  34.6400,2,    179.9,2,    180.1,2,    62.30,2,    31.50,2,     2.12,2,    0.080,2,    0.034,2,     -999,9,     -999,9,     -999,9,     -999,9,     -999,9,     -999,9,   2.7090
35A3CITHER3_2 ,A13        ,125     ,  1,14         ,19         ,2,19950225,2335, -38.4710,  12.1892,     5021,   1794.8,   2.8040,  34.7220,2,  34.7250,2,    190.0,2,    191.6,2,    58.30,2,    29.30,2,     1.95,2,    0.026,2,    0.012,2,     -999,9,     -999,9,     -999,9,     -999,9,     -999,9,     -999,9,   2.6730
35A3CITHER3_2 ,A13        ,125     ,  1,15         ,18         ,2,19950225,2335, -38.4710,  12.1892,     5021,   1995.8,   2.7490,  34.7830,2,  34.7840,2,    200.6,2,    203.5,2,    54.90,2,    27.50,2,     1.79,2,    0.010,2,     -999,9,     -999,9,     -999,9,     -999,9,     -999,9,     -999,9,     -999,9,   2.6010
35A3CITHER3_2 ,A13        ,125     ,  1,16         ,17         ,2,19950225,2335, -38.4710,  12.1892,     5021,   2195.2,   2.6770,  34.8130,2,  34.8150,2,    210.9,2,    212.1,2,    53.50,2,    26.40,2,     1.70,2,    0.007,2,    0.004,2,     -999,9,     -999,9,     -999,9,     -999,9,     -999,9,     -999,9,   2.5120
35A3CITHER3_2 ,A13        ,125     ,  1,17         ,16         ,2,19950225,2335, -38.4710,  12.1892,     5021,   2394.6,   2.5910,  34.8300,2,  34.8280,2,    217.3,2,    218.4,2,    52.90,2,    25.60,2,     1.68,2,    0.014,2,     -999,9,     -999,9,     -999,9,     -999,9,     -999,9,     -999,9,     -999,9,   2.4090
35A3CITHER3_2 ,A13        ,125     ,  1,18         ,15         ,2,19950225,2335, -38.4710,  12.1892,     5021,   2595.9,   2.5040,  34.8390,2,  34.8370,2,    221.6,2,    222.4,2,    53.30,2,    25.30,2,     1.63,2,    0.004,2,     -999,9,     -999,9,     -999,9,     -999,9,     -999,9,     -999,9,     -999,9,   2.3040
35A3CITHER3_2 ,A13        ,125     ,  1,19         ,14         ,2,19950225,2335, -38.4710,  12.1892,     5021,   2795.2,   2.4230,  34.8430,2,  34.8430,2,    225.3,2,    225.7,2,    54.60,2,    24.90,2,     1.60,2,    0.002,2,     -999,9,     -999,9,     -999,9,     -999,9,     -999,9,     -999,9,     -999,9,   2.2060
35A3CITHER3_2 ,A13        ,125     ,  1,20         ,13         ,2,19950225,2335, -38.4710,  12.1892,     5021,   2995.7,   2.3570,  34.8470,2,  34.8490,2,    227.6,2,    227.9,2,    55.10,2,    24.90,2,     1.62,2,    0.001,2,    0.002,2,     -999,9,     -999,9,     -999,9,     -999,9,     -999,9,     -999,9,   2.1210
35A3CITHER3_2 ,A13        ,125     ,  1,21         ,12         ,2,19950225,2335, -38.4710,  12.1892,     5021,   3195.5,   2.3090,  34.8490,2,  34.8490,2,    228.8,2,    228.6,2,    57.20,2,    24.70,2,     1.61,2,    0.002,2,    0.004,2,     -999,9,     -999,9,     -999,9,     -999,9,     -999,9,     -999,9,   2.0540
35A3CITHER3_2 ,A13        ,125     ,  1,22         ,11         ,2,19950225,2335, -38.4710,  12.1892,     5021,   3395.9,   2.2190,  34.8470,2,  34.8440,2,    228.9,2,    228.7,2,    59.80,2,    25.10,2,     1.63,2,    0.003,2,    0.002,2,     -999,9,     -999,9,     -999,9,     -999,9,     -999,9,     -999,9,   1.9450
35A3CITHER3_2 ,A13        ,125     ,  1,23         ,10         ,2,19950225,2335, -38.4710,  12.1892,     5021,   3596.4,   2.0870,  34.8350,2,  34.8400,2,    227.5,2,    227.1,2,    64.20,2,    25.40,2,     1.67,2,   -0.002,2,     -999,9,     -999,9,     -999,9,     -999,9,     -999,9,     -999,9,     -999,9,   1.7950
35A3CITHER3_2 ,A13        ,125     ,  1,24         ,9          ,2,19950225,2335, -38.4710,  12.1892,     5021,   3796.9,   1.8930,  34.8150,2,  34.8150,2,    224.4,2,    224.1,2,    72.80,2,    26.50,2,     1.75,2,    0.004,2,    0.005,2,     -999,9,     -999,9,     -999,9,     -999,9,     -999,9,     -999,9,   1.5850
35A3CITHER3_2 ,A13        ,125     ,  1,25         ,8          ,2,19950225,2335, -38.4710,  12.1892,     5021,   3996.4,   1.6190,  34.7880,2,  34.7890,2,    220.9,2,    220.9,2,    83.80,2,    27.70,2,     1.82,2,    0.006,2,    0.004,2,     -999,9,     -999,9,     -999,9,     -999,9,     -999,9,     -999,9,   1.2960
35A3CITHER3_2 ,A13        ,125     ,  1,26         ,7          ,2,19950225,2335, -38.4710,  12.1892,     5021,   4195.8,   1.4090,  34.7670,2,  34.7680,2,    219.6,2,    219.3,2,    92.10,2,    28.90,2,     1.91,2,    0.006,2,    0.003,2,     -999,9,     -999,9,     -999,9,     -999,9,     -999,9,     -999,9,   1.0710
35A3CITHER3_2 ,A13        ,125     ,  1,27         ,6          ,2,19950225,2335, -38.4710,  12.1892,     5021,   4395.7,   1.2070,  34.7480,2,  34.7500,2,    217.9,2,    218.2,2,   100.10,2,    29.70,2,     1.96,2,    0.007,2,    0.007,2,     -999,9,     -999,9,     -999,9,     -999,9,     -999,9,     -999,9,   0.8530
35A3CITHER3_2 ,A13        ,125     ,  1,28         ,5          ,2,19950225,2335, -38.4710,  12.1892,     5021,   4595.8,   1.1180,  34.7390,2,  34.7380,2,    217.4,2,    217.3,2,   103.60,2,    30.20,2,     1.96,2,    0.007,2,    0.012,2,     -999,9,     -999,9,     -999,9,     -999,9,     -999,9,     -999,9,   0.7440
35A3CITHER3_2 ,A13        ,125     ,  1,29         ,4          ,2,19950225,2335, -38.4710,  12.1892,     5021,   4795.8,   1.0930,  34.7340,2,  34.7340,2,    217.5,2,    217.2,2,   105.30,2,    30.20,2,     2.01,2,    0.015,2,    0.012,2,     -999,9,     -999,9,     -999,9,     -999,9,     -999,9,     -999,9,   0.6960
35A3CITHER3_2 ,A13        ,125     ,  1,30         ,3          ,2,19950225,2335, -38.4710,  12.1892,     5021,   4996.5,   1.0930,  34.7320,2,  34.7320,2,    217.9,2,    217.1,2,   106.60,2,    30.40,2,     1.99,2,    0.016,2,    0.014,2,     -999,9,     -999,9,     -999,9,     -999,9,     -999,9,     -999,9,   0.6730
35A3CITHER3_2 ,A13        ,125     ,  1,32         ,1          ,2,19950225,2335, -38.4710,  12.1892,     5021,   5084.2,   1.1030,  34.7330,2,  34.7320,2,    217.1,2,    217.4,2,   106.60,2,    30.50,2,     2.03,2,    0.021,2,    0.009,2,     -999,9,     -999,9,     -999,9,     -999,9,     -999,9,     -999,9,   0.6720
35A3CITHER3_2 ,A13        ,125     ,  1,31         ,2          ,2,19950225,2335, -38.4710,  12.1892,     5021,   5085.0,   1.1030,  34.7330,2,  34.7320,2,    217.1,2,    217.4,2,   106.90,2,    30.40,2,     2.04,2,    0.020,2,    0.012,2,     -999,9,     -999,9,     -999,9,     -999,9,     -999,9,     -999,9,   0.6720