BOTTLE,20211216CCHDHYDRO
EXPOCODE,SECT_ID,STNNBR,CASTNO,SAMPNO,BTLNBR,BTLNBR_FLAG_W,DATE,TIME,LATITUDE,LONGITUDE,DEPTH,CTDPRS,CTDTMP,CTDSAL,CTDSAL_FLAG_W,SALNTY,SALNTY_FLAG_W,CTDOXY,CTDOXY_FLAG_W,OXYGEN,OXYGEN_FLAG_W,SILCAT,SILCAT_FLAG_W,NITRAT,NITRAT_FLAG_W,PHSPHT,PHSPHT_FLAG_W,CFC-11,CFC-11_FLAG_W,CFC-12,CFC-12_FLAG_W,TCARBN,TCARBN_FLAG_W,ALKALI,ALKALI_FLAG_W,TRITUM,TRITUM_FLAG_W,HELIUM,HELIUM_FLAG_W,DELHE3,DELHE3_FLAG_W,NEON,NEON_FLAG_W,THETA
,,,,,,,,,,,METERS,DBAR,DEG C,PSS-78,,PSS-78,,UMOL/KG,,UMOL/KG,,UMOL/KG,,UMOL/KG,,UMOL/KG,,PMOL/KG,,PMOL/KG,,UMOL/KG,,UMOL/KG,,TU,,NMOL/KG,,PERCNT,,NMOL/KG,,DEG C
35A3CITHER3_2 ,A13        ,135     ,  1,1          ,32         ,2,19950228,1512, -37.0038,   9.9895,     5057,      5.3,  21.4000,  35.7090,2,  35.7110,2,    233.4,2,    227.3,3,     2.40,2,     0.00,2,     0.15,2,    2.160,2,    1.103,2,     -999,9,     -999,9,    1.062,2,   1.7130,2,    -1.92,2,    6.872,2,  21.3990
35A3CITHER3_2 ,A13        ,135     ,  1,2          ,31         ,2,19950228,1512, -37.0038,   9.9895,     5057,     46.9,  21.2240,  35.7000,2,  35.7010,2,    233.1,2,    225.2,3,     2.40,2,     0.00,2,     0.07,2,    2.172,2,    1.118,2,     -999,9,     -999,9,     -999,9,     -999,9,     -999,9,     -999,9,  21.2150
35A3CITHER3_2 ,A13        ,135     ,  1,3          ,30         ,2,19950228,1512, -37.0038,   9.9895,     5057,     96.2,  18.1090,  35.5920,2,     -999,9,    211.7,2,     -999,9,     -999,9,     -999,9,     -999,9,    2.405,2,    1.206,2,     -999,9,     -999,9,     -999,9,     -999,9,     -999,9,     -999,9,  18.0920
35A3CITHER3_2 ,A13        ,135     ,  1,4          ,29         ,2,19950228,1512, -37.0038,   9.9895,     5057,    195.8,  15.7230,  35.4770,2,  35.4800,2,    206.2,2,    213.1,3,     4.60,2,     5.50,2,     0.39,3,    2.565,2,    1.240,2,     -999,9,     -999,9,    0.902,2,   1.7380,2,    -0.85,2,    7.169,2,  15.6920
35A3CITHER3_2 ,A13        ,135     ,  1,5          ,28         ,2,19950228,1512, -37.0038,   9.9895,     5057,    295.3,  13.6530,  35.2130,2,  35.1990,3,    214.7,2,    218.3,3,     4.40,2,     8.00,2,     0.54,3,    2.751,2,    1.316,2,     -999,9,     -999,9,    0.756,2,   1.7510,2,    -0.55,2,    7.273,2,  13.6110
35A3CITHER3_2 ,A13        ,135     ,  1,6          ,27         ,2,19950228,1512, -37.0038,   9.9895,     5057,    400.1,  11.9720,  35.0320,2,  35.0510,3,    215.6,2,    217.0,2,     6.10,2,    11.70,2,     0.79,3,    2.485,2,    1.153,2,     -999,9,     -999,9,    0.659,2,   1.7560,2,     0.30,2,    7.383,2,  11.9190
35A3CITHER3_2 ,A13        ,135     ,  1,7          ,26         ,2,19950228,1512, -37.0038,   9.9895,     5057,    494.0,  10.6410,  34.8640,2,  34.8640,2,    218.7,2,    220.0,2,     6.70,2,    14.40,2,     0.95,3,    2.482,2,    1.149,2,     -999,9,     -999,9,    0.469,2,   1.7580,2,     0.55,2,    7.435,2,  10.5810
35A3CITHER3_2 ,A13        ,135     ,  1,8          ,25         ,2,19950228,1512, -37.0038,   9.9895,     5057,    696.4,   7.3600,  34.5190,2,  34.5180,2,    206.4,2,    208.8,2,    14.30,2,    23.40,2,     1.54,3,    2.010,2,    0.911,2,     -999,9,     -999,9,    0.259,2,   1.7780,2,     0.86,2,    7.637,2,   7.2910
35A3CITHER3_2 ,A13        ,135     ,  1,9          ,24         ,2,19950228,1512, -37.0038,   9.9895,     5057,    899.9,   4.5370,  34.2750,2,  34.2740,2,    232.9,2,    234.5,2,    19.80,2,    27.90,2,     1.86,2,    2.066,2,    0.905,2,     -999,9,     -999,9,     -999,9,     -999,9,     -999,9,     -999,9,   4.4660
35A3CITHER3_2 ,A13        ,135     ,  1,10         ,23         ,2,19950228,1512, -37.0038,   9.9895,     5057,    996.4,   4.0540,  34.2870,2,  34.2850,2,    230.4,2,    228.4,2,    26.10,2,    29.30,2,     1.96,2,    1.637,2,    0.731,2,     -999,9,     -999,9,     -999,9,     -999,9,     -999,9,     -999,9,   3.9790
35A3CITHER3_2 ,A13        ,135     ,  1,11         ,22         ,2,19950228,1512, -37.0038,   9.9895,     5057,   1197.8,   3.3030,  34.3590,2,  34.3610,2,    207.0,2,    205.7,2,    40.30,2,    31.90,2,     2.11,2,    0.847,2,    0.384,2,     -999,9,     -999,9,     -999,9,     -999,9,     -999,9,     -999,9,   3.2170
35A3CITHER3_2 ,A13        ,135     ,  1,12         ,21         ,2,19950228,1512, -37.0038,   9.9895,     5057,   1394.5,   2.8820,  34.4550,2,  34.4590,2,    189.4,2,    189.7,2,    53.20,2,    32.90,2,     2.26,2,    0.387,2,    0.179,2,     -999,9,     -999,9,    0.040,2,   1.8220,2,     5.83,2,    7.901,2,   2.7840
35A3CITHER3_2 ,A13        ,135     ,  1,13         ,20         ,2,19950228,1512, -37.0038,   9.9895,     5057,   1594.6,   2.8610,  34.5860,2,  34.5860,2,    179.2,2,    179.9,2,    61.90,2,    32.10,2,     2.16,2,    0.123,2,    0.057,2,     -999,9,     -999,9,     -999,9,     -999,9,     -999,9,     -999,9,   2.7470
35A3CITHER3_2 ,A13        ,135     ,  1,14         ,19         ,2,19950228,1512, -37.0038,   9.9895,     5057,   1793.8,   2.7650,  34.6690,2,  34.6740,2,    185.0,2,    184.9,2,    62.50,2,    30.50,2,     2.02,2,    0.050,2,    0.032,2,     -999,9,     -999,9,    0.010,2,   1.8400,2,     7.44,2,    7.927,2,   2.6350
35A3CITHER3_2 ,A13        ,135     ,  1,15         ,18         ,2,19950228,1512, -37.0038,   9.9895,     5057,   1991.8,   2.7520,  34.7570,2,  34.7590,2,    197.4,2,    199.3,2,    56.70,2,    27.80,2,     1.85,2,    0.011,2,    0.013,2,     -999,9,     -999,9,     -999,9,     -999,9,     -999,9,     -999,9,   2.6040
35A3CITHER3_2 ,A13        ,135     ,  1,16         ,17         ,2,19950228,1512, -37.0038,   9.9895,     5057,   2195.9,   2.6970,  34.7960,2,  34.7970,2,    208.3,2,    209.1,2,    54.50,2,    26.90,2,     1.78,2,    0.005,2,    0.004,2,     -999,9,     -999,9,     -999,9,     -999,9,     -999,9,     -999,9,   2.5320
35A3CITHER3_2 ,A13        ,135     ,  1,17         ,16         ,2,19950228,1512, -37.0038,   9.9895,     5057,   2395.9,   2.6230,  34.8200,2,  34.8210,2,    216.1,2,    216.0,2,    53.10,2,    25.50,2,     1.71,2,    0.008,2,    0.009,2,     -999,9,     -999,9,     -999,9,     -999,9,     -999,9,     -999,9,   2.4400
35A3CITHER3_2 ,A13        ,135     ,  1,18         ,15         ,2,19950228,1512, -37.0038,   9.9895,     5057,   2598.0,   2.5330,  34.8360,2,  34.8370,2,    221.7,2,    220.6,2,    53.10,2,    25.40,2,     1.64,2,    0.002,2,    0.010,2,     -999,9,     -999,9,    0.006,3,   1.8560,3,     6.18,3,    7.998,2,   2.3330
35A3CITHER3_2 ,A13        ,135     ,  1,19         ,14         ,2,19950228,1512, -37.0038,   9.9895,     5057,   2797.9,   2.4550,  34.8420,2,  34.8430,2,    224.6,2,    225.3,2,    54.20,2,    25.40,2,     1.64,2,    0.004,2,    0.007,2,     -999,9,     -999,9,    0.006,2,   1.8550,2,     5.33,2,    8.016,2,   2.2370
35A3CITHER3_2 ,A13        ,135     ,  1,20         ,13         ,2,19950228,1512, -37.0038,   9.9895,     5057,   2994.7,   2.3840,  34.8460,2,  34.8470,2,    227.2,2,    228.7,2,    55.40,2,    23.80,2,     1.60,2,    0.002,2,    0.005,2,     -999,9,     -999,9,     -999,9,   1.8520,2,     5.01,2,     -999,9,   2.1480
35A3CITHER3_2 ,A13        ,135     ,  1,21         ,12         ,2,19950228,1512, -37.0038,   9.9895,     5057,   3193.9,   2.3080,  34.8470,2,  34.8470,2,    229.8,2,    228.4,2,    56.80,2,    24.30,2,     1.62,2,    0.004,2,    0.011,3,     -999,9,     -999,9,     -999,9,     -999,9,     -999,9,     -999,9,   2.0530
35A3CITHER3_2 ,A13        ,135     ,  1,22         ,11         ,2,19950228,1512, -37.0038,   9.9895,     5057,   3392.5,   2.2350,  34.8470,2,  34.8480,2,    230.0,2,    231.6,2,    60.10,2,    25.00,2,     1.62,2,    0.005,2,    0.004,2,     -999,9,     -999,9,    0.008,2,   1.8630,2,     5.30,2,    8.044,2,   1.9610
35A3CITHER3_2 ,A13        ,135     ,  1,23         ,10         ,2,19950228,1512, -37.0038,   9.9895,     5057,   3593.2,   2.0900,  34.8330,2,  34.8340,2,    227.5,2,    226.8,2,    66.30,2,    23.80,3,     1.65,2,    0.001,2,    0.004,2,     -999,9,     -999,9,     -999,9,     -999,9,     -999,9,     -999,9,   1.7980
35A3CITHER3_2 ,A13        ,135     ,  1,24         ,9          ,2,19950228,1512, -37.0038,   9.9895,     5057,   3794.9,   1.8410,  34.8090,2,  34.8100,2,    224.1,2,    223.4,2,    75.00,2,    24.90,3,     1.75,2,    0.000,2,    0.006,2,     -999,9,     -999,9,     -999,9,     -999,9,     -999,9,     -999,9,   1.5340
35A3CITHER3_2 ,A13        ,135     ,  1,25         ,8          ,2,19950228,1512, -37.0038,   9.9895,     5057,   3995.3,   1.5670,  34.7820,2,  34.7580,3,    220.7,2,    222.8,2,    86.10,2,    27.40,2,     1.85,2,    0.003,2,    0.005,2,     -999,9,     -999,9,     -999,9,     -999,9,     -999,9,     -999,9,   1.2460
35A3CITHER3_2 ,A13        ,135     ,  1,26         ,7          ,2,19950228,1512, -37.0038,   9.9895,     5057,   4201.8,   1.3000,  34.7580,2,  34.7830,3,    218.8,2,    218.8,2,    96.30,2,    28.80,2,     1.93,2,    0.005,2,    0.003,2,     -999,9,     -999,9,     -999,9,     -999,9,     -999,9,     -999,9,   0.9640
35A3CITHER3_2 ,A13        ,135     ,  1,27         ,6          ,2,19950228,1512, -37.0038,   9.9895,     5057,   4397.0,   1.1690,  34.7460,2,  34.7450,2,    217.8,2,    218.6,2,   101.70,2,    28.60,2,     1.91,2,    0.006,2,    0.007,2,     -999,9,     -999,9,     -999,9,   1.8780,2,     6.62,2,     -999,9,   0.8160
35A3CITHER3_2 ,A13        ,135     ,  1,28         ,5          ,2,19950228,1512, -37.0038,   9.9895,     5057,   4598.6,   1.1060,  34.7380,2,  34.7370,2,    217.4,2,    218.5,2,   104.70,2,    28.80,2,     1.87,3,    0.012,2,    0.010,2,     -999,9,     -999,9,    0.006,2,   1.8900,2,     7.08,2,    8.131,2,   0.7320
35A3CITHER3_2 ,A13        ,135     ,  1,29         ,4          ,2,19950228,1512, -37.0038,   9.9895,     5057,   4795.4,   1.0830,  34.7330,2,  34.7330,2,    217.7,2,    218.4,2,   106.50,2,    30.10,2,     2.03,2,    0.017,2,    0.010,2,     -999,9,     -999,9,     -999,9,   1.8730,2,     6.87,2,     -999,9,   0.6870
35A3CITHER3_2 ,A13        ,135     ,  1,30         ,3          ,2,19950228,1512, -37.0038,   9.9895,     5057,   4997.5,   1.0820,  34.7320,2,  34.7310,2,    217.9,2,    218.2,2,   107.00,2,    29.70,2,     2.05,2,    0.017,2,    0.014,2,     -999,9,     -999,9,     -999,9,     -999,9,     -999,9,     -999,9,   0.6620
35A3CITHER3_2 ,A13        ,135     ,  1,31         ,2          ,2,19950228,1512, -37.0038,   9.9895,     5057,   5100.2,   1.0900,  34.7310,2,  34.7320,2,    218.1,2,    217.9,2,   106.50,2,    28.70,2,     1.98,2,    0.021,2,    0.010,2,     -999,9,     -999,9,     -999,9,     -999,9,     -999,9,     -999,9,   0.6570
35A3CITHER3_2 ,A13        ,135     ,  1,32         ,1          ,2,19950228,1512, -37.0038,   9.9895,     5057,   5121.5,   1.0920,  34.7310,2,  34.7350,2,    217.8,2,    220.1,2,   106.50,2,    29.50,2,     1.99,2,    0.021,2,    0.015,2,     -999,9,     -999,9,    0.007,2,   1.8870,2,     6.72,2,    8.169,2,   0.6570