BOTTLE,20211216CCHDHYDRO
EXPOCODE,SECT_ID,STNNBR,CASTNO,SAMPNO,BTLNBR,BTLNBR_FLAG_W,DATE,TIME,LATITUDE,LONGITUDE,DEPTH,CTDPRS,CTDTMP,CTDSAL,CTDSAL_FLAG_W,SALNTY,SALNTY_FLAG_W,CTDOXY,CTDOXY_FLAG_W,OXYGEN,OXYGEN_FLAG_W,SILCAT,SILCAT_FLAG_W,NITRAT,NITRAT_FLAG_W,PHSPHT,PHSPHT_FLAG_W,CFC-11,CFC-11_FLAG_W,CFC-12,CFC-12_FLAG_W,TCARBN,TCARBN_FLAG_W,ALKALI,ALKALI_FLAG_W,TRITUM,TRITUM_FLAG_W,HELIUM,HELIUM_FLAG_W,DELHE3,DELHE3_FLAG_W,NEON,NEON_FLAG_W,THETA
,,,,,,,,,,,METERS,DBAR,DEG C,PSS-78,,PSS-78,,UMOL/KG,,UMOL/KG,,UMOL/KG,,UMOL/KG,,UMOL/KG,,PMOL/KG,,PMOL/KG,,UMOL/KG,,UMOL/KG,,TU,,NMOL/KG,,PERCNT,,NMOL/KG,,DEG C
35A3CITHER3_2 ,A13        ,166     ,  1,1          ,32         ,2,19950310,1542, -23.4168,   7.4662,     4706,      4.7,  22.8900,  35.5420,2,  35.5410,2,    216.6,2,    217.8,2,     1.80,2,     0.00,2,     0.19,2,     -999,9,     -999,9,     -999,9,     -999,9,     -999,9,     -999,9,     -999,9,     -999,9,  22.8890
35A3CITHER3_2 ,A13        ,166     ,  1,2          ,31         ,2,19950310,1542, -23.4168,   7.4662,     4706,     46.3,  20.9180,  35.3820,2,  35.4030,3,    223.9,2,    231.9,3,     1.60,2,     0.00,2,     0.22,2,    2.243,2,    1.152,2,     -999,9,     -999,9,     -999,9,     -999,9,     -999,9,     -999,9,  20.9090
35A3CITHER3_2 ,A13        ,166     ,  1,3          ,30         ,2,19950310,1542, -23.4168,   7.4662,     4706,    120.6,  13.4680,  35.1730,2,  35.1710,2,    188.8,2,    175.3,3,     5.70,2,    15.70,2,     1.05,2,    2.534,2,    1.232,2,     -999,9,     -999,9,     -999,9,     -999,9,     -999,9,     -999,9,  13.4510
35A3CITHER3_2 ,A13        ,166     ,  1,4          ,29         ,2,19950310,1542, -23.4168,   7.4662,     4706,    194.9,  12.0590,  35.0980,2,  35.0960,2,    119.0,2,     86.6,3,     9.70,2,    26.00,2,     1.63,2,    1.610,2,    0.769,2,     -999,9,     -999,9,     -999,9,     -999,9,     -999,9,     -999,9,  12.0330
35A3CITHER3_2 ,A13        ,166     ,  1,5          ,28         ,2,19950310,1542, -23.4168,   7.4662,     4706,    311.2,   9.8620,  34.8600,2,  34.8690,3,     50.0,2,     57.4,3,    14.20,2,    33.40,2,     2.08,2,    0.831,2,    0.435,2,     -999,9,     -999,9,     -999,9,     -999,9,     -999,9,     -999,9,   9.8260
35A3CITHER3_2 ,A13        ,166     ,  1,6          ,27         ,2,19950310,1542, -23.4168,   7.4662,     4706,    396.4,   8.4550,  34.7320,2,  34.7310,2,     58.3,2,     58.8,2,    17.60,2,    36.30,2,     2.28,2,    0.506,2,    0.295,2,     -999,9,     -999,9,     -999,9,     -999,9,     -999,9,     -999,9,   8.4130
35A3CITHER3_2 ,A13        ,166     ,  1,7          ,26         ,2,19950310,1542, -23.4168,   7.4662,     4706,    595.7,   6.0560,  34.5290,2,  34.5300,2,     95.3,2,     96.5,2,    23.90,2,    37.50,2,     2.43,2,    0.148,2,    0.079,2,     -999,9,     -999,9,     -999,9,     -999,9,     -999,9,     -999,9,   6.0030
35A3CITHER3_2 ,A13        ,166     ,  1,8          ,25         ,2,19950310,1542, -23.4168,   7.4662,     4706,    792.5,   4.5670,  34.4670,2,  34.4610,3,    135.6,2,    135.0,2,    32.20,2,    36.10,2,     2.40,2,    0.050,2,    0.051,2,     -999,9,     -999,9,     -999,9,     -999,9,     -999,9,     -999,9,   4.5050
35A3CITHER3_2 ,A13        ,166     ,  1,9          ,24         ,2,19950310,1542, -23.4168,   7.4662,     4706,    884.1,   4.0410,  34.4480,2,  34.4460,2,    160.6,2,    163.6,2,    35.80,2,    34.50,2,     2.28,2,     -999,9,     -999,9,     -999,9,     -999,9,     -999,9,     -999,9,     -999,9,     -999,9,   3.9750
35A3CITHER3_2 ,A13        ,166     ,  1,10         ,23         ,2,19950310,1542, -23.4168,   7.4662,     4706,    884.5,   4.0420,  34.4480,2,  34.4460,2,    160.8,2,    165.5,3,    36.30,2,    34.70,2,     2.29,2,    0.133,3,    0.104,3,     -999,9,     -999,9,     -999,9,     -999,9,     -999,9,     -999,9,   3.9760
35A3CITHER3_2 ,A13        ,166     ,  1,11         ,22         ,2,19950310,1542, -23.4168,   7.4662,     4706,    995.8,   3.7910,  34.5150,2,  34.5130,2,    163.5,2,    164.0,2,    38.90,2,    34.20,2,     2.25,2,    0.029,2,    0.023,2,     -999,9,     -999,9,     -999,9,     -999,9,     -999,9,     -999,9,   3.7170
35A3CITHER3_2 ,A13        ,166     ,  1,12         ,21         ,2,19950310,1542, -23.4168,   7.4662,     4706,   1194.2,   3.5220,  34.6270,2,  34.6230,2,    175.8,2,    174.5,2,    40.80,2,    31.90,2,     2.05,2,    0.013,2,     -999,9,     -999,9,     -999,9,     -999,9,     -999,9,     -999,9,     -999,9,   3.4340
35A3CITHER3_2 ,A13        ,166     ,  1,13         ,20         ,2,19950310,1542, -23.4168,   7.4662,     4706,   1394.3,   3.5170,  34.7420,2,  34.7410,2,    188.8,2,    187.6,2,    36.50,2,    29.20,2,     1.93,2,     -999,9,     -999,9,     -999,9,     -999,9,     -999,9,     -999,9,     -999,9,     -999,9,   3.4120
35A3CITHER3_2 ,A13        ,166     ,  1,14         ,19         ,2,19950310,1542, -23.4168,   7.4662,     4706,   1595.7,   3.3940,  34.8200,2,  34.8170,2,    204.4,2,    203.8,2,    34.80,2,    26.80,2,     1.74,2,    0.001,2,    0.006,2,     -999,9,     -999,9,     -999,9,     -999,9,     -999,9,     -999,9,   3.2730
35A3CITHER3_2 ,A13        ,166     ,  1,15         ,18         ,2,19950310,1542, -23.4168,   7.4662,     4706,   1796.4,   3.2730,  34.8680,2,  34.8890,3,    218.5,2,    218.3,2,    33.10,2,    25.10,2,     1.56,2,    0.003,2,    0.005,2,     -999,9,     -999,9,     -999,9,     -999,9,     -999,9,     -999,9,   3.1350
35A3CITHER3_2 ,A13        ,166     ,  1,16         ,17         ,2,19950310,1542, -23.4168,   7.4662,     4706,   1993.6,   3.0880,  34.8770,2,  34.8770,2,    224.9,2,    224.9,2,    35.30,2,    24.70,2,     1.59,2,    0.002,2,    0.002,2,     -999,9,     -999,9,     -999,9,     -999,9,     -999,9,     -999,9,   2.9350
35A3CITHER3_2 ,A13        ,166     ,  1,17         ,16         ,2,19950310,1542, -23.4168,   7.4662,     4706,   2195.2,   2.9910,  34.8950,2,  34.8960,2,    233.4,2,    232.4,2,    34.50,2,    23.60,2,     1.50,2,    0.001,2,     -999,9,     -999,9,     -999,9,     -999,9,     -999,9,     -999,9,     -999,9,   2.8210
35A3CITHER3_2 ,A13        ,166     ,  1,18         ,15         ,2,19950310,1542, -23.4168,   7.4662,     4706,   2395.0,   2.8380,  34.8920,2,  34.8910,2,    234.6,2,    233.8,2,    37.50,2,    23.60,2,     1.50,2,    0.003,2,    0.007,2,     -999,9,     -999,9,     -999,9,     -999,9,     -999,9,     -999,9,   2.6510
35A3CITHER3_2 ,A13        ,166     ,  1,19         ,14         ,2,19950310,1542, -23.4168,   7.4662,     4706,   2595.5,   2.7000,  34.8850,2,  34.8870,2,    235.8,2,    234.1,2,    40.80,2,    23.70,2,     1.53,2,     -999,9,     -999,9,     -999,9,     -999,9,     -999,9,     -999,9,     -999,9,     -999,9,   2.4970
35A3CITHER3_2 ,A13        ,166     ,  1,20         ,13         ,2,19950310,1542, -23.4168,   7.4662,     4706,   2796.4,   2.5840,  34.8820,2,  34.8810,2,    236.0,2,    235.3,2,    43.70,2,    23.90,2,     1.53,2,    0.001,2,    0.002,2,     -999,9,     -999,9,     -999,9,     -999,9,     -999,9,     -999,9,   2.3630
35A3CITHER3_2 ,A13        ,166     ,  1,21         ,12         ,2,19950310,1542, -23.4168,   7.4662,     4706,   2997.7,   2.4930,  34.8770,2,  34.8780,2,    235.0,2,    233.7,2,    46.10,2,    24.20,2,     1.56,2,    0.002,2,    0.007,2,     -999,9,     -999,9,     -999,9,     -999,9,     -999,9,     -999,9,   2.2540
35A3CITHER3_2 ,A13        ,166     ,  1,22         ,11         ,2,19950310,1542, -23.4168,   7.4662,     4706,   3195.2,   2.4220,  34.8750,2,  34.8740,2,    234.2,2,    232.7,2,    48.90,2,    24.30,2,     1.47,3,     -999,9,     -999,9,     -999,9,     -999,9,     -999,9,     -999,9,     -999,9,     -999,9,   2.1640
35A3CITHER3_2 ,A13        ,166     ,  1,23         ,10         ,2,19950310,1542, -23.4168,   7.4662,     4706,   3395.2,   2.3110,  34.8630,2,  34.8630,2,    232.3,2,    231.1,2,    52.70,2,    25.10,3,     1.59,2,     -999,9,     -999,9,     -999,9,     -999,9,     -999,9,     -999,9,     -999,9,     -999,9,   2.0350
35A3CITHER3_2 ,A13        ,166     ,  1,24         ,9          ,2,19950310,1542, -23.4168,   7.4662,     4706,   3597.0,   2.1780,  34.8510,2,  34.8310,3,    229.8,2,    229.5,2,    58.20,2,    25.80,2,     1.62,2,    0.000,2,    0.003,2,     -999,9,     -999,9,     -999,9,     -999,9,     -999,9,     -999,9,   1.8840
35A3CITHER3_2 ,A13        ,166     ,  1,25         ,8          ,2,19950310,1542, -23.4168,   7.4662,     4706,   3797.4,   1.9780,  34.8290,2,  34.8280,2,    227.5,2,    227.0,2,    69.50,2,    26.80,2,     1.74,2,    0.000,2,     -999,9,     -999,9,     -999,9,     -999,9,     -999,9,     -999,9,     -999,9,   1.6670
35A3CITHER3_2 ,A13        ,166     ,  1,26         ,7          ,2,19950310,1542, -23.4168,   7.4662,     4706,   3995.5,   1.7300,  34.8020,2,  34.8020,2,    223.6,2,    222.9,2,    80.70,2,    27.70,2,     1.83,2,    0.002,2,     -999,9,     -999,9,     -999,9,     -999,9,     -999,9,     -999,9,     -999,9,   1.4040
35A3CITHER3_2 ,A13        ,166     ,  1,27         ,6          ,2,19950310,1542, -23.4168,   7.4662,     4706,   3996.8,   1.7320,  34.8030,2,  34.8030,2,    223.6,2,    223.2,2,    80.70,2,    28.10,2,     1.83,2,    0.003,2,    0.003,2,     -999,9,     -999,9,     -999,9,     -999,9,     -999,9,     -999,9,   1.4060
35A3CITHER3_2 ,A13        ,166     ,  1,28         ,5          ,2,19950310,1542, -23.4168,   7.4662,     4706,   4197.0,   1.3710,  34.7660,2,  34.7660,2,    218.7,2,    219.1,2,    95.40,2,    29.70,2,     1.95,2,    0.001,2,    0.009,2,     -999,9,     -999,9,     -999,9,     -999,9,     -999,9,     -999,9,   1.0340
35A3CITHER3_2 ,A13        ,166     ,  1,29         ,4          ,2,19950310,1542, -23.4168,   7.4662,     4706,   4397.9,   1.2170,  34.7500,2,  34.7500,2,    216.8,2,    217.3,2,   102.00,2,    30.50,2,     2.00,2,    0.012,2,    0.014,2,     -999,9,     -999,9,     -999,9,     -999,9,     -999,9,     -999,9,   0.8620
35A3CITHER3_2 ,A13        ,166     ,  1,30         ,3          ,2,19950310,1542, -23.4168,   7.4662,     4706,   4598.2,   1.1530,  34.7420,2,  34.7420,2,    215.8,2,    216.4,2,   104.70,2,    31.00,2,     2.04,2,    0.006,2,    0.007,2,     -999,9,     -999,9,     -999,9,     -999,9,     -999,9,     -999,9,   0.7770
35A3CITHER3_2 ,A13        ,166     ,  1,31         ,2          ,2,19950310,1542, -23.4168,   7.4662,     4706,   4697.2,   1.1410,  34.7380,2,  34.7400,2,    215.2,2,    216.5,2,   106.00,2,    30.40,2,     2.04,2,    0.015,2,    0.021,3,     -999,9,     -999,9,     -999,9,     -999,9,     -999,9,     -999,9,   0.7540
35A3CITHER3_2 ,A13        ,166     ,  1,32         ,1          ,2,19950310,1542, -23.4168,   7.4662,     4706,   4758.2,   1.1420,  34.7390,2,  34.7410,2,    213.7,2,    215.7,2,   106.70,2,    30.50,2,     1.99,2,    0.006,2,    0.005,2,     -999,9,     -999,9,     -999,9,     -999,9,     -999,9,     -999,9,   0.7480