BOTTLE,20211216CCHDHYDRO
EXPOCODE,SECT_ID,STNNBR,CASTNO,SAMPNO,BTLNBR,BTLNBR_FLAG_W,DATE,TIME,LATITUDE,LONGITUDE,DEPTH,CTDPRS,CTDTMP,CTDSAL,CTDSAL_FLAG_W,SALNTY,SALNTY_FLAG_W,CTDOXY,CTDOXY_FLAG_W,OXYGEN,OXYGEN_FLAG_W,SILCAT,SILCAT_FLAG_W,NITRAT,NITRAT_FLAG_W,PHSPHT,PHSPHT_FLAG_W,CFC-11,CFC-11_FLAG_W,CFC-12,CFC-12_FLAG_W,TCARBN,TCARBN_FLAG_W,ALKALI,ALKALI_FLAG_W,TRITUM,TRITUM_FLAG_W,HELIUM,HELIUM_FLAG_W,DELHE3,DELHE3_FLAG_W,NEON,NEON_FLAG_W,THETA
,,,,,,,,,,,METERS,DBAR,DEG C,PSS-78,,PSS-78,,UMOL/KG,,UMOL/KG,,UMOL/KG,,UMOL/KG,,UMOL/KG,,PMOL/KG,,PMOL/KG,,UMOL/KG,,UMOL/KG,,TU,,NMOL/KG,,PERCNT,,NMOL/KG,,DEG C
35A3CITHER3_2 ,A13        ,182     ,  1,1          ,32         ,2,19950313,2045, -18.5015,   5.0028,     5430,      5.1,  24.5390,  36.1540,2,  36.1550,2,    212.9,2,    211.3,2,     2.10,2,     0.00,2,     0.19,2,    1.882,2,    0.999,2,   2041.7,2,   2376.0,2,     -999,9,     -999,9,     -999,9,     -999,9,  24.5380
35A3CITHER3_2 ,A13        ,182     ,  1,2          ,31         ,2,19950313,2045, -18.5015,   5.0028,     5430,     46.7,  21.7810,  35.9750,2,  35.9530,3,    246.3,2,    244.2,2,     2.10,2,     0.00,2,     0.17,2,    2.254,2,    1.147,2,   2045.8,2,   2361.7,2,     -999,9,     -999,9,     -999,9,     -999,9,  21.7720
35A3CITHER3_2 ,A13        ,182     ,  1,3          ,30         ,2,19950313,2045, -18.5015,   5.0028,     5430,    120.4,  14.8840,  35.3560,2,  35.3740,3,    194.9,2,    187.0,3,     4.80,2,    10.20,2,     0.79,2,    2.567,2,    1.261,2,   2111.4,2,   2324.2,2,     -999,9,     -999,9,     -999,9,     -999,9,  14.8660
35A3CITHER3_2 ,A13        ,182     ,  1,4          ,29         ,2,19950313,2045, -18.5015,   5.0028,     5430,    197.3,  12.0500,  35.0660,2,  35.0600,3,    130.8,2,    131.6,2,     8.70,2,    20.60,2,     1.33,2,    1.773,2,    0.856,2,   2165.9,2,     -999,9,     -999,9,     -999,9,     -999,9,     -999,9,  12.0240
35A3CITHER3_2 ,A13        ,182     ,  1,5          ,28         ,2,19950313,2045, -18.5015,   5.0028,     5430,    371.0,   8.6030,  34.7510,2,  34.7480,2,     64.4,2,     63.3,2,    17.80,2,    34.90,2,     2.19,2,    0.346,2,    0.180,2,   2236.2,2,     -999,9,     -999,9,     -999,9,     -999,9,     -999,9,   8.5630
35A3CITHER3_2 ,A13        ,182     ,  1,6          ,27         ,2,19950313,2045, -18.5015,   5.0028,     5430,    595.6,   5.9450,  34.5360,2,  34.5350,2,     92.2,2,     93.7,2,    25.40,2,    37.90,2,     2.46,2,    0.028,2,    0.019,2,   2237.4,2,   2294.7,2,     -999,9,     -999,9,     -999,9,     -999,9,   5.8930
35A3CITHER3_2 ,A13        ,182     ,  1,7          ,26         ,2,19950313,2045, -18.5015,   5.0028,     5430,    795.3,   4.4740,  34.4620,2,  34.4610,2,    143.8,2,    144.9,2,    32.80,2,    35.20,2,     2.34,2,    0.028,2,    0.012,2,   2222.8,2,     -999,9,     -999,9,     -999,9,     -999,9,     -999,9,   4.4120
35A3CITHER3_2 ,A13        ,182     ,  1,8          ,25         ,2,19950313,2045, -18.5015,   5.0028,     5430,    996.3,   3.8620,  34.5310,2,  34.5160,3,    160.4,2,    160.0,2,    37.80,2,    33.60,2,     2.25,2,    0.008,2,     -999,9,   2222.1,2,   2308.3,2,     -999,9,     -999,9,     -999,9,     -999,9,   3.7880
35A3CITHER3_2 ,A13        ,182     ,  1,9          ,24         ,2,19950313,2045, -18.5015,   5.0028,     5430,   1195.5,   3.7090,  34.6700,2,  34.6670,2,    167.3,2,    166.7,2,    38.20,2,    31.20,2,     2.12,2,    0.001,2,   -0.002,2,   2221.3,2,     -999,9,     -999,9,     -999,9,     -999,9,     -999,9,   3.6190
35A3CITHER3_2 ,A13        ,182     ,  1,10         ,23         ,2,19950313,2045, -18.5015,   5.0028,     5430,   1394.7,   3.6100,  34.7820,2,  34.7610,3,    190.3,2,    188.3,2,    34.70,2,    27.80,2,     1.89,2,    0.001,2,    0.001,2,   2204.8,2,     -999,9,     -999,9,     -999,9,     -999,9,     -999,9,   3.5040
35A3CITHER3_2 ,A13        ,182     ,  1,11         ,22         ,2,19950313,2045, -18.5015,   5.0028,     5430,   1596.6,   3.5410,  34.8570,2,  34.8530,2,    209.6,2,    207.2,2,    31.40,2,    25.00,2,     1.64,2,    0.005,2,    0.002,2,   2193.9,2,     -999,9,     -999,9,     -999,9,     -999,9,     -999,9,   3.4180
35A3CITHER3_2 ,A13        ,182     ,  1,12         ,21         ,2,19950313,2045, -18.5015,   5.0028,     5430,   1796.1,   3.4170,  34.8950,2,  34.8950,2,    220.3,2,    218.8,2,    30.40,2,    23.50,2,     1.49,2,    0.003,2,    0.000,2,   2187.6,2,     -999,9,     -999,9,     -999,9,     -999,9,     -999,9,   3.2770
35A3CITHER3_2 ,A13        ,182     ,  1,13         ,20         ,2,19950313,2045, -18.5015,   5.0028,     5430,   1997.6,   3.2410,  34.9090,2,  34.9090,2,    226.3,2,    224.9,2,    32.40,2,    22.80,2,     1.49,2,    0.000,2,    0.000,2,   2186.0,2,   2337.9,2,     -999,9,     -999,9,     -999,9,     -999,9,   3.0850
35A3CITHER3_2 ,A13        ,182     ,  1,14         ,19         ,2,19950313,2045, -18.5015,   5.0028,     5430,   2197.2,   3.0890,  34.9110,2,  34.9110,2,    229.5,2,    228.3,2,    34.20,2,    22.40,2,     1.48,2,    0.000,2,    0.000,2,   2187.0,2,     -999,9,     -999,9,     -999,9,     -999,9,     -999,9,   2.9170
35A3CITHER3_2 ,A13        ,182     ,  1,15         ,18         ,2,19950313,2045, -18.5015,   5.0028,     5430,   2331.3,   2.9900,  34.9100,2,  34.9120,2,    229.9,2,    229.3,2,    35.80,2,    22.40,2,     1.48,2,    0.001,2,    0.001,2,   2188.9,2,     -999,9,     -999,9,     -999,9,     -999,9,     -999,9,   2.8070
35A3CITHER3_2 ,A13        ,182     ,  1,16         ,17         ,2,19950313,2045, -18.5015,   5.0028,     5430,   2594.5,   2.7850,  34.9060,2,  34.9050,2,    231.4,2,    231.3,2,    39.40,2,    22.50,2,     1.50,2,    0.002,2,    0.000,2,   2192.0,2,     -999,9,     -999,9,     -999,9,     -999,9,     -999,9,   2.5800
35A3CITHER3_2 ,A13        ,182     ,  1,17         ,16         ,2,19950313,2045, -18.5015,   5.0028,     5430,   2796.8,   2.6590,  34.9010,2,  34.9010,2,    230.3,2,    230.4,2,    43.10,2,    22.50,2,     1.51,2,    0.001,2,     -999,9,   2197.2,2,     -999,9,     -999,9,     -999,9,     -999,9,     -999,9,   2.4360
35A3CITHER3_2 ,A13        ,182     ,  1,18         ,15         ,2,19950313,2045, -18.5015,   5.0028,     5430,   2996.7,   2.5630,  34.8960,2,  34.8930,2,    228.9,2,    229.1,2,    46.50,2,    22.70,2,     1.52,2,    0.002,2,    0.002,2,   2200.9,2,   2348.6,2,     -999,9,     -999,9,     -999,9,     -999,9,   2.3220
35A3CITHER3_2 ,A13        ,182     ,  1,19         ,14         ,2,19950313,2045, -18.5015,   5.0028,     5430,   3196.8,   2.4820,  34.8910,2,  34.8910,2,    229.6,2,    230.8,2,    48.20,2,    23.00,2,     1.53,2,    0.001,2,   -0.002,2,   2203.4,2,     -999,9,     -999,9,     -999,9,     -999,9,     -999,9,   2.2220
35A3CITHER3_2 ,A13        ,182     ,  1,20         ,13         ,2,19950313,2045, -18.5015,   5.0028,     5430,   3393.3,   2.4390,  34.8890,2,  34.8890,2,    228.4,2,    229.2,2,    49.80,2,    23.00,2,     1.51,2,    0.003,2,    0.006,2,   2207.4,2,     -999,9,     -999,9,     -999,9,     -999,9,     -999,9,   2.1600
35A3CITHER3_2 ,A13        ,182     ,  1,21         ,12         ,2,19950313,2045, -18.5015,   5.0028,     5430,   3594.2,   2.4010,  34.8900,2,  34.8890,2,    228.1,2,    228.6,2,    50.90,2,    23.30,2,     1.56,2,    0.000,2,    0.000,2,   2210.2,2,     -999,9,     -999,9,     -999,9,     -999,9,     -999,9,   2.1010
35A3CITHER3_2 ,A13        ,182     ,  1,22         ,11         ,2,19950313,2045, -18.5015,   5.0028,     5430,   3796.1,   2.3760,  34.8890,2,  34.8850,2,    228.9,2,    229.5,2,    50.90,2,    23.00,2,     1.51,2,    0.003,2,   -0.002,2,   2210.8,2,     -999,9,     -999,9,     -999,9,     -999,9,     -999,9,   2.0540
35A3CITHER3_2 ,A13        ,182     ,  1,23         ,10         ,2,19950313,2045, -18.5015,   5.0028,     5430,   3997.4,   2.3670,  34.8880,2,  34.8880,2,    229.8,2,    230.2,2,    51.50,2,    23.20,2,     1.54,2,    0.001,2,    0.007,2,   2212.0,2,   2362.7,2,     -999,9,     -999,9,     -999,9,     -999,9,   2.0230
35A3CITHER3_2 ,A13        ,182     ,  1,24         ,9          ,2,19950313,2045, -18.5015,   5.0028,     5430,   4196.4,   2.3710,  34.8880,2,  34.8880,2,    230.3,2,    231.0,2,    52.20,2,    23.20,2,     1.52,2,    0.000,2,    0.002,2,   2211.5,2,     -999,9,     -999,9,     -999,9,     -999,9,     -999,9,   2.0040
35A3CITHER3_2 ,A13        ,182     ,  1,25         ,8          ,2,19950313,2045, -18.5015,   5.0028,     5430,   4397.7,   2.3800,  34.8860,2,  34.8860,2,    230.3,2,    230.5,2,    52.70,2,    23.20,2,     1.56,2,    0.003,2,    0.002,2,   2213.8,2,     -999,9,     -999,9,     -999,9,     -999,9,     -999,9,   1.9890
35A3CITHER3_2 ,A13        ,182     ,  1,26         ,7          ,2,19950313,2045, -18.5015,   5.0028,     5430,   4597.6,   2.3910,  34.8860,2,  34.8850,2,    230.4,2,    230.7,2,    53.00,2,    23.10,2,     1.55,2,    0.002,2,    0.001,2,   2214.2,2,     -999,9,     -999,9,     -999,9,     -999,9,     -999,9,   1.9750
35A3CITHER3_2 ,A13        ,182     ,  1,27         ,6          ,2,19950313,2045, -18.5015,   5.0028,     5430,   4798.1,   2.4080,  34.8840,2,  34.8840,2,    230.6,2,    231.6,2,    53.30,2,    23.20,2,     1.55,2,    0.005,2,   -0.004,2,     -999,9,     -999,9,     -999,9,     -999,9,     -999,9,     -999,9,   1.9670
35A3CITHER3_2 ,A13        ,182     ,  1,28         ,5          ,2,19950313,2045, -18.5015,   5.0028,     5430,   4997.7,   2.4260,  34.8830,2,  34.8850,2,    231.5,2,    231.8,2,    53.30,2,    23.30,2,     1.49,2,    0.003,2,     -999,9,   2214.8,2,   2366.1,2,     -999,9,     -999,9,     -999,9,     -999,9,   1.9590
35A3CITHER3_2 ,A13        ,182     ,  1,29         ,4          ,2,19950313,2045, -18.5015,   5.0028,     5430,   5199.0,   2.4450,  34.8820,2,  34.8830,2,    232.0,2,    231.3,2,    53.00,2,    23.00,2,     1.51,2,    0.001,2,    0.000,2,     -999,9,     -999,9,     -999,9,     -999,9,     -999,9,     -999,9,   1.9520
35A3CITHER3_2 ,A13        ,182     ,  1,30         ,3          ,2,19950313,2045, -18.5015,   5.0028,     5430,   5200.1,   2.4450,  34.8820,2,  34.8830,2,    232.0,2,    232.6,2,    53.00,2,    23.30,2,     1.51,2,    0.002,2,    0.004,2,   2214.5,2,     -999,9,     -999,9,     -999,9,     -999,9,     -999,9,   1.9520
35A3CITHER3_2 ,A13        ,182     ,  1,31         ,2          ,2,19950313,2045, -18.5015,   5.0028,     5430,   5397.6,   2.4680,  34.8820,2,  34.8830,2,    232.2,2,    232.7,2,    53.00,2,    23.20,2,     1.50,2,    0.006,2,    0.004,2,   2216.0,2,     -999,9,     -999,9,     -999,9,     -999,9,     -999,9,   1.9480
35A3CITHER3_2 ,A13        ,182     ,  1,32         ,1          ,2,19950313,2045, -18.5015,   5.0028,     5430,   5503.6,   2.4810,  34.8820,2,  34.8830,2,    232.9,2,    232.7,2,    53.40,2,    22.70,2,     1.48,2,    0.007,2,    0.006,2,   2214.9,2,   2367.0,2,     -999,9,     -999,9,     -999,9,     -999,9,   1.9470