BOTTLE,20211216CCHDHYDRO
EXPOCODE,SECT_ID,STNNBR,CASTNO,SAMPNO,BTLNBR,BTLNBR_FLAG_W,DATE,TIME,LATITUDE,LONGITUDE,DEPTH,CTDPRS,CTDTMP,CTDSAL,CTDSAL_FLAG_W,SALNTY,SALNTY_FLAG_W,CTDOXY,CTDOXY_FLAG_W,OXYGEN,OXYGEN_FLAG_W,SILCAT,SILCAT_FLAG_W,NITRAT,NITRAT_FLAG_W,PHSPHT,PHSPHT_FLAG_W,CFC-11,CFC-11_FLAG_W,CFC-12,CFC-12_FLAG_W,TCARBN,TCARBN_FLAG_W,ALKALI,ALKALI_FLAG_W,TRITUM,TRITUM_FLAG_W,HELIUM,HELIUM_FLAG_W,DELHE3,DELHE3_FLAG_W,NEON,NEON_FLAG_W,THETA
,,,,,,,,,,,METERS,DBAR,DEG C,PSS-78,,PSS-78,,UMOL/KG,,UMOL/KG,,UMOL/KG,,UMOL/KG,,UMOL/KG,,PMOL/KG,,PMOL/KG,,UMOL/KG,,UMOL/KG,,TU,,NMOL/KG,,PERCNT,,NMOL/KG,,DEG C
35A3CITHER3_2 ,A13        ,169     ,  1,1          ,16         ,2,19950311,0519, -22.7960,   7.0188,     1889,      4.7,  22.6970,  35.5200,2,  35.5170,2,    226.5,2,    217.9,3,     2.20,2,     0.00,2,     0.25,2,    2.063,2,    1.058,2,     -999,9,     -999,9,     -999,9,     -999,9,     -999,9,     -999,9,  22.6960
35A3CITHER3_2 ,A13        ,169     ,  1,2          ,15         ,2,19950311,0519, -22.7960,   7.0188,     1889,     47.3,  20.4790,  35.4780,2,  35.4700,3,    246.8,2,    245.0,2,     2.80,2,     0.00,2,     0.20,2,    2.420,2,    1.213,2,     -999,9,     -999,9,     -999,9,     -999,9,     -999,9,     -999,9,  20.4700
35A3CITHER3_2 ,A13        ,169     ,  1,3          ,14         ,2,19950311,0519, -22.7960,   7.0188,     1889,    121.4,  14.7950,  35.2950,2,  35.2830,3,    208.0,2,    210.7,2,     4.30,2,     7.80,2,     0.64,2,    2.720,2,    1.328,2,     -999,9,     -999,9,     -999,9,     -999,9,     -999,9,     -999,9,  14.7770
35A3CITHER3_2 ,A13        ,169     ,  1,4          ,13         ,2,19950311,0519, -22.7960,   7.0188,     1889,    195.1,  12.6080,  35.1060,2,  35.0970,3,    162.7,2,    153.1,3,     7.90,2,    17.30,2,     1.18,2,    2.210,2,    1.058,2,     -999,9,     -999,9,     -999,9,     -999,9,     -999,9,     -999,9,  12.5820
35A3CITHER3_2 ,A13        ,169     ,  1,5          ,12         ,2,19950311,0519, -22.7960,   7.0188,     1889,    326.0,  10.1850,  34.8990,2,  34.8920,3,     63.8,2,     61.7,2,    14.80,2,    31.50,2,     2.01,2,     -999,9,     -999,9,     -999,9,     -999,9,     -999,9,     -999,9,     -999,9,     -999,9,  10.1470
35A3CITHER3_2 ,A13        ,169     ,  1,7          ,10         ,2,19950311,0519, -22.7960,   7.0188,     1889,    366.0,   9.4370,  34.8170,2,  34.8110,3,     63.7,2,     61.8,2,    16.70,2,    33.00,2,     2.12,2,    0.755,2,    0.372,2,     -999,9,     -999,9,     -999,9,     -999,9,     -999,9,     -999,9,   9.3960
35A3CITHER3_2 ,A13        ,169     ,  1,6          ,11         ,2,19950311,0519, -22.7960,   7.0188,     1889,    366.1,   9.4310,  34.8170,2,  34.8080,3,     63.7,2,     62.4,2,    16.70,2,    33.00,2,     2.09,2,    0.782,2,    0.393,2,     -999,9,     -999,9,     -999,9,     -999,9,     -999,9,     -999,9,   9.3900
35A3CITHER3_2 ,A13        ,169     ,  1,8          ,9          ,2,19950311,0519, -22.7960,   7.0188,     1889,    594.9,   5.9630,  34.5330,2,  34.5300,2,     86.5,2,     91.6,3,    26.60,2,    37.00,2,     2.38,2,    0.086,2,    0.044,2,     -999,9,     -999,9,     -999,9,     -999,9,     -999,9,     -999,9,   5.9110
35A3CITHER3_2 ,A13        ,169     ,  1,9          ,8          ,2,19950311,0519, -22.7960,   7.0188,     1889,    794.3,   4.5220,  34.4610,2,  34.4600,2,    136.3,2,    139.8,2,    33.80,2,    35.10,2,     2.31,2,    0.083,2,    0.044,2,     -999,9,     -999,9,     -999,9,     -999,9,     -999,9,     -999,9,   4.4600
35A3CITHER3_2 ,A13        ,169     ,  1,10         ,7          ,2,19950311,0519, -22.7960,   7.0188,     1889,    996.1,   3.7340,  34.5040,2,  34.5020,2,    165.1,2,    166.0,2,    40.90,2,    32.30,2,     2.18,2,    0.057,2,    0.036,2,     -999,9,     -999,9,     -999,9,     -999,9,     -999,9,     -999,9,   3.6610
35A3CITHER3_2 ,A13        ,169     ,  1,11         ,6          ,2,19950311,0519, -22.7960,   7.0188,     1889,   1195.6,   3.5160,  34.6210,2,  34.6230,2,    176.3,2,    173.7,2,    43.50,2,    30.60,2,     2.10,2,    0.016,2,    0.021,2,     -999,9,     -999,9,     -999,9,     -999,9,     -999,9,     -999,9,   3.4280
35A3CITHER3_2 ,A13        ,169     ,  1,12         ,5          ,2,19950311,0519, -22.7960,   7.0188,     1889,   1395.0,   3.5610,  34.7650,2,  34.7640,2,    193.6,2,    193.5,2,    35.60,2,    28.70,2,     1.83,2,     -999,9,     -999,9,     -999,9,     -999,9,     -999,9,     -999,9,     -999,9,     -999,9,   3.4550
35A3CITHER3_2 ,A13        ,169     ,  1,13         ,4          ,2,19950311,0519, -22.7960,   7.0188,     1889,   1594.7,   3.3710,  34.8230,2,  34.8230,2,    206.9,2,    205.9,2,    36.10,2,    25.50,2,     1.72,2,    0.006,2,    0.007,2,     -999,9,     -999,9,     -999,9,     -999,9,     -999,9,     -999,9,   3.2500
35A3CITHER3_2 ,A13        ,169     ,  1,14         ,3          ,2,19950311,0519, -22.7960,   7.0188,     1889,   1695.2,   3.3190,  34.8470,2,  34.8470,2,    213.5,2,    211.7,2,    35.40,2,    25.20,2,     1.67,2,    0.003,2,    0.007,2,     -999,9,     -999,9,     -999,9,     -999,9,     -999,9,     -999,9,   3.1900
35A3CITHER3_2 ,A13        ,169     ,  1,15         ,2          ,2,19950311,0519, -22.7960,   7.0188,     1889,   1795.0,   3.2390,  34.8730,2,  34.8720,2,    220.7,2,    220.5,2,    34.30,2,    22.20,2,     1.55,2,   -0.000,2,    0.005,2,     -999,9,     -999,9,     -999,9,     -999,9,     -999,9,     -999,9,   3.1020
35A3CITHER3_2 ,A13        ,169     ,  1,16         ,1          ,2,19950311,0519, -22.7960,   7.0188,     1889,   1869.3,   3.1730,  34.8830,2,  34.8830,2,    225.0,2,    225.4,2,    34.30,2,    22.40,2,     1.53,2,    0.016,2,    0.029,2,     -999,9,     -999,9,     -999,9,     -999,9,     -999,9,     -999,9,   3.0300
35A3CITHER3_2 ,A13        ,170     ,  1,1          ,16         ,2,19950311,0836, -22.5115,   6.8147,     1687,      5.8,  22.9990,  35.5100,2,  35.5180,3,    215.6,2,    217.3,2,     2.60,2,     0.00,2,     0.22,2,    2.009,2,    1.059,2,     -999,9,     -999,9,     -999,9,     -999,9,     -999,9,     -999,9,  22.9980
35A3CITHER3_2 ,A13        ,170     ,  1,2          ,15         ,2,19950311,0836, -22.5115,   6.8147,     1687,      6.2,  22.9920,  35.5100,2,  35.5180,3,    215.6,2,    216.7,2,     2.60,2,     0.00,2,     0.23,2,    2.016,2,    1.062,2,   2038.6,2,   2332.8,2,     -999,9,     -999,9,     -999,9,     -999,9,  22.9910
35A3CITHER3_2 ,A13        ,170     ,  1,3          ,14         ,2,19950311,0836, -22.5115,   6.8147,     1687,     45.4,  19.6730,  35.3710,2,  35.3720,2,    233.9,2,    253.7,3,     2.80,2,     0.00,2,     0.24,2,    2.555,2,    1.674,2,   2039.9,2,   2323.6,2,     -999,9,     -999,9,     -999,9,     -999,9,  19.6650
35A3CITHER3_2 ,A13        ,170     ,  1,4          ,13         ,2,19950311,0836, -22.5115,   6.8147,     1687,    121.3,  14.0260,  35.1810,2,  35.1830,2,    204.6,2,    204.4,2,     5.00,2,     9.60,2,     0.77,2,    2.718,2,    1.316,2,   2106.0,2,   2314.3,2,     -999,9,     -999,9,     -999,9,     -999,9,  14.0080
35A3CITHER3_2 ,A13        ,170     ,  1,5          ,12         ,2,19950311,0836, -22.5115,   6.8147,     1687,    194.4,  12.2390,  35.0540,2,  35.0440,3,    183.3,2,    186.9,2,     7.00,2,    14.90,2,     1.07,2,    2.422,2,    1.150,2,   2130.1,2,     -999,9,     -999,9,     -999,9,     -999,9,     -999,9,  12.2130
35A3CITHER3_2 ,A13        ,170     ,  1,6          ,11         ,2,19950311,0836, -22.5115,   6.8147,     1687,    344.8,   8.9570,  34.7350,2,  34.7320,2,    123.4,2,    110.8,3,    15.20,2,    29.90,2,     1.96,2,    1.167,2,    0.556,2,   2205.8,2,     -999,9,     -999,9,     -999,9,     -999,9,     -999,9,   8.9190
35A3CITHER3_2 ,A13        ,170     ,  1,7          ,10         ,2,19950311,0836, -22.5115,   6.8147,     1687,    420.9,   7.9100,  34.6690,2,  34.6600,3,     81.7,2,     80.3,2,    19.40,2,    35.10,2,     2.25,2,    0.555,2,    0.270,2,   2235.0,2,     -999,9,     -999,9,     -999,9,     -999,9,     -999,9,   7.8670
35A3CITHER3_2 ,A13        ,170     ,  1,8          ,9          ,2,19950311,0836, -22.5115,   6.8147,     1687,    495.2,   6.7050,  34.5740,2,  34.5660,3,     89.3,2,     92.9,2,    22.90,2,    36.50,2,     2.35,2,    0.414,2,    0.205,2,   2235.9,2,   2291.0,2,     -999,9,     -999,9,     -999,9,     -999,9,   6.6590
35A3CITHER3_2 ,A13        ,170     ,  1,9          ,8          ,2,19950311,0836, -22.5115,   6.8147,     1687,    595.6,   5.1970,  34.4410,2,  34.4390,2,    145.2,2,    149.0,3,    27.00,2,    34.30,2,     2.26,2,    0.414,2,    0.205,2,   2214.0,2,     -999,9,     -999,9,     -999,9,     -999,9,     -999,9,   5.1480
35A3CITHER3_2 ,A13        ,170     ,  1,10         ,7          ,2,19950311,0836, -22.5115,   6.8147,     1687,    795.8,   3.9820,  34.4500,2,  34.4450,2,    164.2,2,    165.5,2,    37.20,2,    33.40,2,     2.28,2,    0.132,2,    0.069,2,   2220.0,2,     -999,9,     -999,9,     -999,9,     -999,9,     -999,9,   3.9230
35A3CITHER3_2 ,A13        ,170     ,  1,11         ,6          ,2,19950311,0836, -22.5115,   6.8147,     1687,    995.0,   3.6430,  34.5460,2,  34.5450,2,    170.4,2,    169.0,2,    41.60,2,    32.90,2,     2.22,2,    0.031,2,    0.017,2,   2224.5,2,   2302.1,2,     -999,9,     -999,9,     -999,9,     -999,9,   3.5700
35A3CITHER3_2 ,A13        ,170     ,  1,12         ,5          ,2,19950311,0836, -22.5115,   6.8147,     1687,   1194.5,   3.4690,  34.6580,2,  34.6550,2,    181.2,2,    179.9,2,    42.40,3,    29.10,2,     2.07,2,    0.015,2,    0.010,2,   2220.8,2,     -999,9,     -999,9,     -999,9,     -999,9,     -999,9,   3.3810
35A3CITHER3_2 ,A13        ,170     ,  1,13         ,4          ,2,19950311,0836, -22.5115,   6.8147,     1687,   1294.2,   3.4360,  34.7160,2,  34.7150,2,    187.7,2,    186.6,2,    41.40,2,    29.30,2,     1.99,2,    0.007,2,    0.010,2,   2216.1,2,     -999,9,     -999,9,     -999,9,     -999,9,     -999,9,   3.3400
35A3CITHER3_2 ,A13        ,170     ,  1,14         ,3          ,2,19950311,0836, -22.5115,   6.8147,     1687,   1395.6,   3.4030,  34.7630,2,  34.7620,2,    195.4,2,    194.8,2,    39.60,2,    28.00,2,     1.91,2,    0.004,2,     -999,9,   2209.9,2,     -999,9,     -999,9,     -999,9,     -999,9,     -999,9,   3.2990
35A3CITHER3_2 ,A13        ,170     ,  1,15         ,2          ,2,19950311,0836, -22.5115,   6.8147,     1687,   1595.5,   3.3490,  34.8470,2,  34.8460,2,    212.8,2,    213.2,2,    34.80,2,    24.20,3,     1.70,2,    0.004,2,   -0.002,2,   2196.0,2,   2329.9,2,     -999,9,     -999,9,     -999,9,     -999,9,   3.2280
35A3CITHER3_2 ,A13        ,170     ,  1,16         ,1          ,2,19950311,0836, -22.5115,   6.8147,     1687,   1682.7,   3.2330,  34.8780,2,  34.8790,2,    220.7,2,    223.4,2,    34.10,2,    21.80,2,     1.60,2,    0.001,2,     -999,9,   2191.5,2,     -999,9,     -999,9,     -999,9,     -999,9,     -999,9,   3.1060
35A3CITHER3_2 ,A13        ,171     ,  1,1          ,20         ,2,19950311,1216, -22.2332,   6.6132,     2705,      5.3,  23.2830,  35.4920,2,  35.4920,2,    218.1,2,    216.3,2,     2.00,2,     0.00,2,     0.30,2,    2.006,2,    1.127,2,     -999,9,     -999,9,     -999,9,     -999,9,     -999,9,     -999,9,  23.2820
35A3CITHER3_2 ,A13        ,171     ,  1,2          ,19         ,2,19950311,1216, -22.2332,   6.6132,     2705,     47.2,  20.3550,  35.4910,2,  35.4920,2,    230.7,2,    237.5,3,     2.50,2,     0.00,2,     0.25,2,    2.527,2,    1.231,2,     -999,9,     -999,9,     -999,9,     -999,9,     -999,9,     -999,9,  20.3460
35A3CITHER3_2 ,A13        ,171     ,  1,3          ,18         ,2,19950311,1216, -22.2332,   6.6132,     2705,     47.4,  20.3220,  35.4780,2,  35.4900,3,    230.7,2,    242.2,3,     2.20,2,     0.00,2,     0.21,2,    2.374,2,    1.185,2,     -999,9,     -999,9,     -999,9,     -999,9,     -999,9,     -999,9,  20.3130
35A3CITHER3_2 ,A13        ,171     ,  1,4          ,17         ,2,19950311,1216, -22.2332,   6.6132,     2705,    120.6,  14.1630,  35.2150,2,  35.2130,2,    215.2,2,    198.7,3,     4.50,2,    11.40,2,     0.84,2,    2.696,2,    1.318,2,     -999,9,     -999,9,     -999,9,     -999,9,     -999,9,     -999,9,  14.1450
35A3CITHER3_2 ,A13        ,171     ,  1,5          ,16         ,2,19950311,1216, -22.2332,   6.6132,     2705,    196.7,  12.4920,  35.0860,2,  35.0780,3,    180.5,2,    180.5,2,     6.20,2,    15.10,2,     1.02,2,    2.389,2,    1.140,2,     -999,9,     -999,9,     -999,9,     -999,9,     -999,9,     -999,9,  12.4660
35A3CITHER3_2 ,A13        ,171     ,  1,6          ,15         ,2,19950311,1216, -22.2332,   6.6132,     2705,    395.5,   7.6930,  34.5810,2,  34.5830,2,    164.3,2,    161.8,2,    15.20,2,    27.30,2,     1.80,3,    1.465,2,    0.667,2,     -999,9,     -999,9,     -999,9,     -999,9,     -999,9,     -999,9,   7.6540
35A3CITHER3_2 ,A13        ,171     ,  1,7          ,14         ,2,19950311,1216, -22.2332,   6.6132,     2705,    596.1,   5.0940,  34.4270,2,  34.4270,2,    157.1,2,    156.6,2,    26.00,2,    33.30,2,     2.21,3,    0.508,2,    0.244,2,     -999,9,     -999,9,     -999,9,     -999,9,     -999,9,     -999,9,   5.0460
35A3CITHER3_2 ,A13        ,171     ,  1,8          ,13         ,2,19950311,1216, -22.2332,   6.6132,     2705,    795.3,   4.1320,  34.4620,2,  34.4600,2,    157.0,2,    155.1,2,    35.20,2,    34.60,2,     2.33,2,    0.086,2,    0.050,2,     -999,9,     -999,9,     -999,9,     -999,9,     -999,9,     -999,9,   4.0720
35A3CITHER3_2 ,A13        ,171     ,  1,9          ,12         ,2,19950311,1216, -22.2332,   6.6132,     2705,    995.2,   3.6320,  34.5600,2,  34.5610,2,    168.6,2,    171.8,2,    40.10,2,    32.70,2,     2.19,2,    0.023,2,    0.016,2,     -999,9,     -999,9,     -999,9,     -999,9,     -999,9,     -999,9,   3.5590
35A3CITHER3_2 ,A13        ,171     ,  1,10         ,11         ,2,19950311,1216, -22.2332,   6.6132,     2705,   1194.7,   3.5750,  34.6830,2,  34.6860,2,    180.5,2,    180.3,2,    38.40,2,    30.40,2,     2.06,2,    0.014,2,     -999,9,     -999,9,     -999,9,     -999,9,     -999,9,     -999,9,     -999,9,   3.4860
35A3CITHER3_2 ,A13        ,171     ,  1,11         ,10         ,2,19950311,1216, -22.2332,   6.6132,     2705,   1395.4,   3.5650,  34.7760,2,  34.7780,2,    198.2,2,    196.9,2,    34.10,2,    28.10,2,     1.84,2,    0.002,2,     -999,9,     -999,9,     -999,9,     -999,9,     -999,9,     -999,9,     -999,9,   3.4590
35A3CITHER3_2 ,A13        ,171     ,  1,12         ,9          ,2,19950311,1216, -22.2332,   6.6132,     2705,   1593.9,   3.4820,  34.8500,2,  34.8520,2,    212.1,2,    213.5,2,    31.20,2,    25.60,2,     1.68,2,    0.004,2,     -999,9,     -999,9,     -999,9,     -999,9,     -999,9,     -999,9,     -999,9,   3.3600
35A3CITHER3_2 ,A13        ,171     ,  1,13         ,8          ,2,19950311,1216, -22.2332,   6.6132,     2705,   1790.7,   3.3220,  34.8830,2,  34.8830,2,    225.1,2,    226.0,2,    30.90,2,    23.50,2,     1.56,2,    0.003,2,     -999,9,     -999,9,     -999,9,     -999,9,     -999,9,     -999,9,     -999,9,   3.1840
35A3CITHER3_2 ,A13        ,171     ,  1,14         ,7          ,2,19950311,1216, -22.2332,   6.6132,     2705,   1995.0,   3.1510,  34.8990,2,  34.9000,2,    232.2,2,    233.0,2,    31.60,2,    21.80,2,     1.50,2,    0.002,2,     -999,9,     -999,9,     -999,9,     -999,9,     -999,9,     -999,9,     -999,9,   2.9970
35A3CITHER3_2 ,A13        ,171     ,  1,15         ,6          ,2,19950311,1216, -22.2332,   6.6132,     2705,   2196.1,   2.9470,  34.9010,2,  34.9010,2,    236.8,2,    237.6,2,    34.30,2,    21.20,2,     1.48,2,    0.001,2,     -999,9,     -999,9,     -999,9,     -999,9,     -999,9,     -999,9,     -999,9,   2.7770
35A3CITHER3_2 ,A13        ,171     ,  1,16         ,5          ,2,19950311,1216, -22.2332,   6.6132,     2705,   2396.7,   2.7490,  34.8900,2,  34.8900,2,    236.5,2,    237.2,2,    38.50,2,    20.80,2,     1.51,2,    0.002,2,     -999,9,     -999,9,     -999,9,     -999,9,     -999,9,     -999,9,     -999,9,   2.5640
35A3CITHER3_2 ,A13        ,171     ,  1,17         ,4          ,2,19950311,1216, -22.2332,   6.6132,     2705,   2595.6,   2.6250,  34.8850,2,  34.8850,2,    236.1,2,    236.1,2,    42.70,2,    22.70,2,     1.52,2,    0.005,2,     -999,9,     -999,9,     -999,9,     -999,9,     -999,9,     -999,9,     -999,9,   2.4230
35A3CITHER3_2 ,A13        ,171     ,  1,18         ,3          ,2,19950311,1216, -22.2332,   6.6132,     2705,   2695.6,   2.5810,  34.8830,2,  34.8830,2,    235.7,2,    236.5,2,    43.80,2,    22.00,2,     1.54,2,    0.002,2,     -999,9,     -999,9,     -999,9,     -999,9,     -999,9,     -999,9,     -999,9,   2.3700
35A3CITHER3_2 ,A13        ,171     ,  1,20         ,1          ,2,19950311,1216, -22.2332,   6.6132,     2705,   2713.2,   2.5680,  34.8830,2,  34.8840,2,    234.6,2,    236.4,2,     0.00,2,     0.00,2,     1.54,2,    0.005,2,     -999,9,     -999,9,     -999,9,     -999,9,     -999,9,     -999,9,     -999,9,   2.3560
35A3CITHER3_2 ,A13        ,171     ,  1,19         ,2          ,2,19950311,1216, -22.2332,   6.6132,     2705,   2713.4,   2.5680,  34.8840,2,  34.8830,2,    234.6,2,    236.4,2,    44.40,2,    20.70,2,     1.55,2,    0.001,2,     -999,9,     -999,9,     -999,9,     -999,9,     -999,9,     -999,9,     -999,9,   2.3560