BOTTLE,20211216CCHDHYDRO
EXPOCODE,SECT_ID,STNNBR,CASTNO,SAMPNO,BTLNBR,BTLNBR_FLAG_W,DATE,TIME,LATITUDE,LONGITUDE,DEPTH,CTDPRS,CTDTMP,CTDSAL,CTDSAL_FLAG_W,SALNTY,SALNTY_FLAG_W,CTDOXY,CTDOXY_FLAG_W,OXYGEN,OXYGEN_FLAG_W,SILCAT,SILCAT_FLAG_W,NITRAT,NITRAT_FLAG_W,PHSPHT,PHSPHT_FLAG_W,CFC-11,CFC-11_FLAG_W,CFC-12,CFC-12_FLAG_W,TCARBN,TCARBN_FLAG_W,ALKALI,ALKALI_FLAG_W,TRITUM,TRITUM_FLAG_W,HELIUM,HELIUM_FLAG_W,DELHE3,DELHE3_FLAG_W,NEON,NEON_FLAG_W,THETA
,,,,,,,,,,,METERS,DBAR,DEG C,PSS-78,,PSS-78,,UMOL/KG,,UMOL/KG,,UMOL/KG,,UMOL/KG,,UMOL/KG,,PMOL/KG,,PMOL/KG,,UMOL/KG,,UMOL/KG,,TU,,NMOL/KG,,PERCNT,,NMOL/KG,,DEG C
35A3CITHER3_2 ,A13        ,167     ,  1,1          ,29         ,2,19950310,2041, -23.2087,   7.3187,     4370,      9.8,  22.8570,  35.5480,2,  35.5470,2,    220.9,2,    217.5,2,     2.50,2,     0.00,2,     0.28,2,    2.041,2,    1.079,2,   2037.9,2,   2340.6,2,     -999,9,     -999,9,     -999,9,     -999,9,  22.8550
35A3CITHER3_2 ,A13        ,167     ,  1,2          ,28         ,2,19950310,2041, -23.2087,   7.3187,     4370,     46.8,  22.1290,  35.4990,2,  35.5040,3,    214.0,2,    225.1,3,     2.70,2,     0.20,2,     0.27,2,    2.161,2,    1.238,2,   2038.3,2,   2340.0,2,     -999,9,     -999,9,     -999,9,     -999,9,  22.1200
35A3CITHER3_2 ,A13        ,167     ,  1,3          ,27         ,2,19950310,2041, -23.2087,   7.3187,     4370,    121.0,  13.8270,  35.2070,2,  35.2010,3,    184.8,2,    177.2,3,     6.30,2,    14.40,2,     1.14,2,    2.549,2,    1.243,2,   2142.9,2,   2326.1,2,     -999,9,     -999,9,     -999,9,     -999,9,  13.8100
35A3CITHER3_2 ,A13        ,167     ,  1,4          ,26         ,2,19950310,2041, -23.2087,   7.3187,     4370,    276.4,  10.8420,  34.9790,2,  34.9780,2,     47.1,2,     -999,9,    14.50,2,    31.10,2,     2.01,2,     -999,9,     -999,9,     -999,9,     -999,9,     -999,9,     -999,9,     -999,9,     -999,9,  10.8080
35A3CITHER3_2 ,A13        ,167     ,  1,5          ,25         ,2,19950310,2041, -23.2087,   7.3187,     4370,    276.5,  10.8440,  34.9790,2,  34.9820,2,     47.0,2,     46.4,2,    14.40,2,    31.40,2,     2.06,2,    0.930,2,    0.463,2,     -999,9,     -999,9,     -999,9,     -999,9,     -999,9,     -999,9,  10.8100
35A3CITHER3_2 ,A13        ,167     ,  1,6          ,24         ,2,19950310,2041, -23.2087,   7.3187,     4370,    276.5,  10.8610,  34.9830,2,  34.9760,3,     47.0,2,     46.7,2,    14.40,2,    31.70,2,     2.06,2,    0.909,2,    0.448,2,   2235.1,2,     -999,9,     -999,9,     -999,9,     -999,9,     -999,9,  10.8270
35A3CITHER3_2 ,A13        ,167     ,  1,7          ,23         ,2,19950310,2041, -23.2087,   7.3187,     4370,    394.5,   8.4580,  34.7330,2,  34.7320,2,     50.2,2,     61.0,3,    18.60,2,    35.20,2,     2.31,2,    0.513,2,    0.276,2,   2240.9,2,   2297.4,2,     -999,9,     -999,9,     -999,9,     -999,9,   8.4160
35A3CITHER3_2 ,A13        ,167     ,  1,8          ,22         ,2,19950310,2041, -23.2087,   7.3187,     4370,    595.4,   5.8170,  34.5190,2,  34.5210,2,     87.2,2,     99.5,3,    26.60,2,    37.50,2,     2.53,2,    0.103,2,    0.059,2,   2238.2,2,     -999,9,     -999,9,     -999,9,     -999,9,     -999,9,   5.7650
35A3CITHER3_2 ,A13        ,167     ,  1,9          ,21         ,2,19950310,2041, -23.2087,   7.3187,     4370,    797.2,   4.5710,  34.4610,2,  34.4590,2,    135.7,2,    136.3,2,    32.90,2,    35.70,2,     2.46,2,    0.077,2,    0.041,2,   2228.7,2,     -999,9,     -999,9,     -999,9,     -999,9,     -999,9,   4.5080
35A3CITHER3_2 ,A13        ,167     ,  1,10         ,20         ,2,19950310,2041, -23.2087,   7.3187,     4370,    995.1,   3.8930,  34.4990,2,  34.4970,2,    161.1,2,    159.8,2,    39.10,2,    33.20,2,     2.26,2,    0.039,2,    0.019,2,   2223.4,2,   2312.6,2,     -999,9,     -999,9,     -999,9,     -999,9,   3.8190
35A3CITHER3_2 ,A13        ,167     ,  1,11         ,19         ,2,19950310,2041, -23.2087,   7.3187,     4370,   1196.3,   3.4800,  34.6150,2,  34.6140,2,    177.6,2,    175.2,2,    39.10,2,    31.30,2,     2.14,2,    0.023,2,    0.010,2,   2220.6,2,     -999,9,     -999,9,     -999,9,     -999,9,     -999,9,   3.3920
35A3CITHER3_2 ,A13        ,167     ,  1,12         ,18         ,2,19950310,2041, -23.2087,   7.3187,     4370,   1393.0,   3.4750,  34.7350,2,  34.7350,2,    191.8,2,    190.1,2,    39.10,2,    28.20,2,     1.90,2,    0.005,2,    0.004,2,   2210.9,2,     -999,9,     -999,9,     -999,9,     -999,9,     -999,9,   3.3710
35A3CITHER3_2 ,A13        ,167     ,  1,13         ,17         ,2,19950310,2041, -23.2087,   7.3187,     4370,   1595.1,   3.4270,  34.8180,2,  34.8180,2,    205.7,2,    205.2,2,    35.60,2,    26.20,2,     1.77,2,    0.001,2,    0.003,2,   2199.2,2,     -999,9,     -999,9,     -999,9,     -999,9,     -999,9,   3.3050
35A3CITHER3_2 ,A13        ,167     ,  1,14         ,16         ,2,19950310,2041, -23.2087,   7.3187,     4370,   1794.6,   3.3070,  34.8630,2,  34.8640,2,    216.6,2,    216.5,2,    34.50,2,    24.40,2,     1.63,2,    0.000,2,    0.006,2,   2194.0,2,     -999,9,     -999,9,     -999,9,     -999,9,     -999,9,   3.1690
35A3CITHER3_2 ,A13        ,167     ,  1,15         ,15         ,2,19950310,2041, -23.2087,   7.3187,     4370,   1994.7,   3.1820,  34.8880,2,  34.8880,2,    225.8,2,    225.4,2,    34.20,2,    22.90,2,     1.55,2,    0.001,2,    0.009,3,   2188.6,2,   2342.0,2,     -999,9,     -999,9,     -999,9,     -999,9,   3.0270
35A3CITHER3_2 ,A13        ,167     ,  1,16         ,14         ,2,19950310,2041, -23.2087,   7.3187,     4370,   2194.3,   3.0010,  34.8860,2,  34.8840,2,    230.2,2,    229.2,2,    37.20,2,    23.30,2,     1.54,2,    0.003,2,    0.007,3,   2189.7,2,     -999,9,     -999,9,     -999,9,     -999,9,     -999,9,   2.8310
35A3CITHER3_2 ,A13        ,167     ,  1,17         ,13         ,2,19950310,2041, -23.2087,   7.3187,     4370,   2395.7,   2.8660,  34.8890,2,  34.8890,2,    234.6,2,    233.2,2,    38.70,2,    22.70,2,     1.51,2,    0.005,2,    0.006,3,   2189.1,2,     -999,9,     -999,9,     -999,9,     -999,9,     -999,9,   2.6790
35A3CITHER3_2 ,A13        ,167     ,  1,18         ,12         ,2,19950310,2041, -23.2087,   7.3187,     4370,   2595.9,   2.6890,  34.8830,2,  34.8800,2,    235.5,2,    234.0,2,    43.00,2,    22.80,2,     1.53,2,     -999,9,     -999,9,   2193.6,2,     -999,9,     -999,9,     -999,9,     -999,9,     -999,9,   2.4860
35A3CITHER3_2 ,A13        ,167     ,  1,19         ,11         ,2,19950310,2041, -23.2087,   7.3187,     4370,   2795.5,   2.5290,  34.8750,2,  34.8730,2,    235.4,2,    233.6,2,    47.20,2,    22.90,2,     1.55,2,    0.005,2,    0.007,2,   2197.7,2,     -999,9,     -999,9,     -999,9,     -999,9,     -999,9,   2.3090
35A3CITHER3_2 ,A13        ,167     ,  1,20         ,10         ,2,19950310,2041, -23.2087,   7.3187,     4370,   2995.4,   2.4570,  34.8730,2,  34.8710,2,    235.2,2,    233.1,2,    49.50,2,    23.30,2,     1.56,2,    0.000,2,    0.004,2,   2201.1,2,   2344.7,2,     -999,9,     -999,9,     -999,9,     -999,9,   2.2190
35A3CITHER3_2 ,A13        ,167     ,  1,21         ,9          ,2,19950310,2041, -23.2087,   7.3187,     4370,   3195.9,   2.3720,  34.8700,2,  34.8690,2,    233.9,2,    232.0,2,    52.60,2,    23.50,2,     1.57,2,    0.000,2,     -999,9,   2204.7,2,     -999,9,     -999,9,     -999,9,     -999,9,     -999,9,   2.1150
35A3CITHER3_2 ,A13        ,167     ,  1,23         ,7          ,2,19950310,2041, -23.2087,   7.3187,     4370,   3396.7,   2.2790,  34.8610,2,  34.8600,2,    232.4,2,    231.0,2,    56.50,2,    24.30,2,     1.61,2,     -999,9,     -999,9,   2209.2,2,     -999,9,     -999,9,     -999,9,     -999,9,     -999,9,   2.0030
35A3CITHER3_2 ,A13        ,167     ,  1,22         ,8          ,2,19950310,2041, -23.2087,   7.3187,     4370,   3396.8,   2.2790,  34.8630,2,  34.8600,2,    232.4,2,    231.3,2,    56.20,2,    24.40,2,     1.61,2,    0.003,2,    0.001,2,     -999,9,     -999,9,     -999,9,     -999,9,     -999,9,     -999,9,   2.0030
35A3CITHER3_2 ,A13        ,167     ,  1,24         ,6          ,2,19950310,2041, -23.2087,   7.3187,     4370,   3595.7,   2.1750,  34.8500,2,  34.8490,2,    230.8,2,    229.6,2,    59.00,2,    25.20,2,     1.63,2,    0.004,2,    0.006,2,   2212.8,2,     -999,9,     -999,9,     -999,9,     -999,9,     -999,9,   1.8810
35A3CITHER3_2 ,A13        ,167     ,  1,25         ,5          ,2,19950310,2041, -23.2087,   7.3187,     4370,   3796.5,   1.9660,  34.8290,2,  34.8270,2,    227.7,2,    226.8,2,    68.60,2,    26.10,2,     1.73,2,    0.003,2,    0.005,2,   2221.7,2,     -999,9,     -999,9,     -999,9,     -999,9,     -999,9,   1.6560
35A3CITHER3_2 ,A13        ,167     ,  1,26         ,4          ,2,19950310,2041, -23.2087,   7.3187,     4370,   3997.3,   1.6710,  34.7970,2,  34.7960,2,    223.7,2,    223.0,2,    81.30,2,    27.50,2,     1.86,2,    0.005,2,     -999,9,   2232.3,2,   2357.9,2,     -999,9,     -999,9,     -999,9,     -999,9,   1.3470
35A3CITHER3_2 ,A13        ,167     ,  1,27         ,3          ,2,19950310,2041, -23.2087,   7.3187,     4370,   4197.4,   1.3060,  34.7600,2,  34.7590,2,    218.8,2,    218.8,2,    95.20,2,    29.60,2,     1.95,2,    0.004,2,     -999,9,   2244.9,2,     -999,9,     -999,9,     -999,9,     -999,9,     -999,9,   0.9710
35A3CITHER3_2 ,A13        ,167     ,  1,28         ,2          ,2,19950310,2041, -23.2087,   7.3187,     4370,   4348.2,   1.1870,  34.7480,2,  34.7470,2,    217.1,2,    218.0,2,   100.20,2,    29.80,2,     1.98,2,    0.022,2,    0.016,2,   2249.6,2,     -999,9,     -999,9,     -999,9,     -999,9,     -999,9,   0.8380
35A3CITHER3_2 ,A13        ,167     ,  1,29         ,1          ,2,19950310,2041, -23.2087,   7.3187,     4370,   4406.5,   1.1860,  34.7480,2,  34.7460,2,    216.0,2,    217.3,2,   100.40,2,    29.90,2,     1.99,2,    0.005,2,    0.007,2,   2250.8,2,   2365.1,2,     -999,9,     -999,9,     -999,9,     -999,9,   0.8310
35A3CITHER3_2 ,A13        ,168     ,  1,1          ,26         ,2,19950311,0125, -23.0013,   7.1607,     3690,      3.7,  22.8560,  35.5570,2,  35.5600,3,    225.4,2,    216.7,3,     2.20,2,     0.00,2,     0.28,2,    2.017,2,    1.039,2,     -999,9,     -999,9,     -999,9,     -999,9,     -999,9,     -999,9,  22.8550
35A3CITHER3_2 ,A13        ,168     ,  1,2          ,25         ,2,19950311,0125, -23.0013,   7.1607,     3690,     45.6,  22.7660,  35.5570,2,  35.5410,3,    228.9,2,    221.4,3,     2.20,2,     0.00,2,     0.27,2,    2.093,2,    1.084,2,     -999,9,     -999,9,     -999,9,     -999,9,     -999,9,     -999,9,  22.7570
35A3CITHER3_2 ,A13        ,168     ,  1,3          ,24         ,2,19950311,0125, -23.0013,   7.1607,     3690,    121.7,  13.9490,  35.1960,2,  35.1990,2,    197.1,2,    189.4,3,     5.40,2,    12.40,2,     1.01,2,     -999,9,     -999,9,     -999,9,     -999,9,     -999,9,     -999,9,     -999,9,     -999,9,  13.9310
35A3CITHER3_2 ,A13        ,168     ,  1,4          ,23         ,2,19950311,0125, -23.0013,   7.1607,     3690,    197.1,  12.2500,  35.0860,2,  35.0870,2,    127.5,2,    119.0,3,     9.40,2,    21.80,2,     1.50,2,    1.900,2,    0.919,2,     -999,9,     -999,9,     -999,9,     -999,9,     -999,9,     -999,9,  12.2240
35A3CITHER3_2 ,A13        ,168     ,  1,5          ,22         ,2,19950311,0125, -23.0013,   7.1607,     3690,    294.5,  10.2020,  34.8990,2,  34.8970,2,     65.5,2,     59.4,3,    15.10,2,    30.50,2,     2.04,2,    0.903,2,    0.439,2,     -999,9,     -999,9,     -999,9,     -999,9,     -999,9,     -999,9,  10.1670
35A3CITHER3_2 ,A13        ,168     ,  1,6          ,21         ,2,19950311,0125, -23.0013,   7.1607,     3690,    395.5,   8.4800,  34.7340,2,  34.7320,2,     61.5,2,     57.4,2,    19.00,2,    35.30,2,     2.25,2,    0.490,2,    0.243,2,     -999,9,     -999,9,     -999,9,     -999,9,     -999,9,     -999,9,   8.4380
35A3CITHER3_2 ,A13        ,168     ,  1,7          ,20         ,2,19950311,0125, -23.0013,   7.1607,     3690,    596.0,   6.1530,  34.5420,2,  34.5420,2,     87.3,2,     88.2,2,    25.80,2,    37.20,2,     2.45,2,    0.099,2,    0.057,2,     -999,9,     -999,9,     -999,9,     -999,9,     -999,9,     -999,9,   6.1000
35A3CITHER3_2 ,A13        ,168     ,  1,8          ,19         ,2,19950311,0125, -23.0013,   7.1607,     3690,    794.4,   4.5230,  34.4600,2,  34.4570,2,    134.6,2,    137.2,2,    33.50,2,    35.10,2,     2.36,2,    0.077,2,    0.045,2,     -999,9,     -999,9,     -999,9,     -999,9,     -999,9,     -999,9,   4.4610
35A3CITHER3_2 ,A13        ,168     ,  1,10         ,17         ,2,19950311,0125, -23.0013,   7.1607,     3690,    994.9,   3.8220,  34.5150,2,  34.5140,2,    159.8,2,    159.7,2,    39.80,2,    33.70,2,     2.29,2,    0.030,2,    0.019,2,     -999,9,     -999,9,     -999,9,     -999,9,     -999,9,     -999,9,   3.7480
35A3CITHER3_2 ,A13        ,168     ,  1,9          ,18         ,2,19950311,0125, -23.0013,   7.1607,     3690,    996.0,   3.8280,  34.5140,2,  34.5130,2,    159.8,2,    159.6,2,    39.80,2,    33.40,2,     2.26,2,     -999,9,     -999,9,     -999,9,     -999,9,     -999,9,     -999,9,     -999,9,     -999,9,   3.7540
35A3CITHER3_2 ,A13        ,168     ,  1,11         ,16         ,2,19950311,0125, -23.0013,   7.1607,     3690,   1194.5,   3.4770,  34.6240,2,  34.6250,2,    177.8,2,    175.5,2,    44.20,2,    30.50,2,     2.14,2,    0.019,2,    0.018,2,     -999,9,     -999,9,     -999,9,     -999,9,     -999,9,     -999,9,   3.3890
35A3CITHER3_2 ,A13        ,168     ,  1,12         ,15         ,2,19950311,0125, -23.0013,   7.1607,     3690,   1396.6,   3.4490,  34.7450,2,  34.7480,2,    192.8,2,    191.5,2,    39.00,2,    27.60,2,     1.92,2,    0.007,2,    0.001,2,     -999,9,     -999,9,     -999,9,     -999,9,     -999,9,     -999,9,   3.3450
35A3CITHER3_2 ,A13        ,168     ,  1,13         ,14         ,2,19950311,0125, -23.0013,   7.1607,     3690,   1596.0,   3.3700,  34.8140,2,  34.8150,2,    205.1,2,    204.3,2,    36.80,2,    25.70,2,     1.78,2,    0.000,2,    0.018,2,     -999,9,     -999,9,     -999,9,     -999,9,     -999,9,     -999,9,   3.2490
35A3CITHER3_2 ,A13        ,168     ,  1,14         ,13         ,2,19950311,0125, -23.0013,   7.1607,     3690,   1795.9,   3.3320,  34.8650,2,  34.8660,2,    218.9,2,    217.9,2,    33.80,2,    23.90,2,     1.64,2,    0.001,2,   -0.001,2,     -999,9,     -999,9,     -999,9,     -999,9,     -999,9,     -999,9,   3.1930
35A3CITHER3_2 ,A13        ,168     ,  1,15         ,12         ,2,19950311,0125, -23.0013,   7.1607,     3690,   1996.8,   3.1540,  34.8920,2,  34.8920,2,    225.8,2,    228.3,2,    33.80,2,    22.70,2,     1.56,2,     -999,9,     -999,9,     -999,9,     -999,9,     -999,9,     -999,9,     -999,9,     -999,9,   3.0000
35A3CITHER3_2 ,A13        ,168     ,  1,16         ,11         ,2,19950311,0125, -23.0013,   7.1607,     3690,   2195.6,   3.0010,  34.8980,2,  34.8950,2,    234.0,2,    233.7,2,    35.40,2,    22.30,2,     1.49,2,    0.006,2,    0.012,2,     -999,9,     -999,9,     -999,9,     -999,9,     -999,9,     -999,9,   2.8300
35A3CITHER3_2 ,A13        ,168     ,  1,18         ,9          ,2,19950311,0125, -23.0013,   7.1607,     3690,   2395.8,   2.8290,  34.8890,2,  34.8900,2,    235.7,2,    233.5,2,    39.00,2,    22.80,2,     1.53,2,    0.000,2,    0.009,2,     -999,9,     -999,9,     -999,9,     -999,9,     -999,9,     -999,9,   2.6420
35A3CITHER3_2 ,A13        ,168     ,  1,17         ,10         ,2,19950311,0125, -23.0013,   7.1607,     3690,   2395.9,   2.8300,  34.8890,2,  34.8910,2,    235.7,2,    233.5,2,    39.30,2,    23.00,2,     1.54,2,     -999,9,     -999,9,     -999,9,     -999,9,     -999,9,     -999,9,     -999,9,     -999,9,   2.6430
35A3CITHER3_2 ,A13        ,168     ,  1,19         ,8          ,2,19950311,0125, -23.0013,   7.1607,     3690,   2595.9,   2.6820,  34.8830,2,  34.8820,2,    235.8,2,    234.2,2,    42.70,2,    23.30,2,     1.56,2,    0.004,2,    0.005,2,     -999,9,     -999,9,     -999,9,     -999,9,     -999,9,     -999,9,   2.4790
35A3CITHER3_2 ,A13        ,168     ,  1,20         ,7          ,2,19950311,0125, -23.0013,   7.1607,     3690,   2795.5,   2.5960,  34.8790,2,  34.8790,2,    236.1,2,    234.9,2,    45.10,2,    22.50,2,     1.56,2,    0.002,2,    0.005,2,     -999,9,     -999,9,     -999,9,     -999,9,     -999,9,     -999,9,   2.3750
35A3CITHER3_2 ,A13        ,168     ,  1,21         ,6          ,2,19950311,0125, -23.0013,   7.1607,     3690,   2995.6,   2.4620,  34.8740,2,  34.8710,2,    235.3,2,    232.8,2,    49.50,2,    23.10,2,     1.57,2,     -999,9,     -999,9,     -999,9,     -999,9,     -999,9,     -999,9,     -999,9,     -999,9,   2.2240
35A3CITHER3_2 ,A13        ,168     ,  1,22         ,5          ,2,19950311,0125, -23.0013,   7.1607,     3690,   3195.2,   2.3990,  34.8690,2,  34.8700,2,    233.7,2,    232.7,2,    51.70,2,    23.10,2,     1.59,2,    0.003,2,    0.001,2,     -999,9,     -999,9,     -999,9,     -999,9,     -999,9,     -999,9,   2.1420
35A3CITHER3_2 ,A13        ,168     ,  1,23         ,4          ,2,19950311,0125, -23.0013,   7.1607,     3690,   3397.2,   2.2870,  34.8610,2,  34.8620,2,    232.9,2,    230.8,2,    55.90,2,    23.00,2,     1.61,2,    0.011,2,    0.009,2,     -999,9,     -999,9,     -999,9,     -999,9,     -999,9,     -999,9,   2.0110
35A3CITHER3_2 ,A13        ,168     ,  1,24         ,3          ,2,19950311,0125, -23.0013,   7.1607,     3690,   3596.2,   2.1500,  34.8480,2,  34.8490,2,    230.7,2,    228.7,2,    62.30,2,    25.00,2,     1.68,2,    0.003,2,    0.005,2,     -999,9,     -999,9,     -999,9,     -999,9,     -999,9,     -999,9,   1.8560
35A3CITHER3_2 ,A13        ,168     ,  1,25         ,2          ,2,19950311,0125, -23.0013,   7.1607,     3690,   3695.3,   2.0700,  34.8400,2,  34.8390,2,    229.1,2,    227.5,2,    64.10,2,    24.60,2,     1.69,2,    0.010,2,     -999,9,     -999,9,     -999,9,     -999,9,     -999,9,     -999,9,     -999,9,   1.7680
35A3CITHER3_2 ,A13        ,168     ,  1,26         ,1          ,2,19950311,0125, -23.0013,   7.1607,     3690,   3718.6,   2.0700,  34.8390,2,  34.8400,2,    227.8,2,    227.8,2,    64.10,2,    23.30,3,     1.67,2,    0.004,2,    0.005,2,     -999,9,     -999,9,     -999,9,     -999,9,     -999,9,     -999,9,   1.7650