BOTTLE,20211216CCHDHYDRO
EXPOCODE,SECT_ID,STNNBR,CASTNO,SAMPNO,BTLNBR,BTLNBR_FLAG_W,DATE,TIME,LATITUDE,LONGITUDE,DEPTH,CTDPRS,CTDTMP,CTDSAL,CTDSAL_FLAG_W,SALNTY,SALNTY_FLAG_W,CTDOXY,CTDOXY_FLAG_W,OXYGEN,OXYGEN_FLAG_W,SILCAT,SILCAT_FLAG_W,NITRAT,NITRAT_FLAG_W,PHSPHT,PHSPHT_FLAG_W,CFC-11,CFC-11_FLAG_W,CFC-12,CFC-12_FLAG_W,TCARBN,TCARBN_FLAG_W,ALKALI,ALKALI_FLAG_W,TRITUM,TRITUM_FLAG_W,HELIUM,HELIUM_FLAG_W,DELHE3,DELHE3_FLAG_W,NEON,NEON_FLAG_W,THETA
,,,,,,,,,,,METERS,DBAR,DEG C,PSS-78,,PSS-78,,UMOL/KG,,UMOL/KG,,UMOL/KG,,UMOL/KG,,UMOL/KG,,PMOL/KG,,PMOL/KG,,UMOL/KG,,UMOL/KG,,TU,,NMOL/KG,,PERCNT,,NMOL/KG,,DEG C
35A3CITHER3_2 ,A13        ,204     ,  1,1          ,32         ,2,19950319,1231,  -8.0002,   4.9992,     5240,      4.3,  28.6760,  35.5240,2,  35.5380,3,    199.5,2,    198.5,2,     4.50,3,     0.00,2,     0.09,2,    1.570,2,    0.860,2,   1995.7,2,   2338.6,2,     -999,9,     -999,9,     -999,9,     -999,9,  28.6750
35A3CITHER3_2 ,A13        ,204     ,  1,2          ,31         ,2,19950319,1231,  -8.0002,   4.9992,     5240,     46.2,  17.5110,  35.8090,2,  35.8030,3,    178.0,2,     97.1,3,     7.60,3,    17.00,2,     1.02,2,    1.575,2,    0.791,2,   2172.3,2,   2356.2,2,     -999,9,     -999,9,     -999,9,     -999,9,  17.5030
35A3CITHER3_2 ,A13        ,204     ,  1,3          ,30         ,2,19950319,1231,  -8.0002,   4.9992,     5240,    120.7,  14.9640,  35.5340,2,  35.5350,2,     76.8,2,     68.0,3,     9.50,3,    23.30,2,     1.42,2,    1.200,2,    0.607,2,   2198.4,2,   2343.4,2,     -999,9,     -999,9,     -999,9,     -999,9,  14.9460
35A3CITHER3_2 ,A13        ,204     ,  1,4          ,29         ,2,19950319,1231,  -8.0002,   4.9992,     5240,    195.6,  13.6620,  35.3640,2,  35.3620,2,     56.5,2,     55.1,2,     9.30,3,    26.60,2,     1.61,2,    0.875,2,    0.460,2,   2212.8,2,     -999,9,     -999,9,     -999,9,     -999,9,     -999,9,  13.6340
35A3CITHER3_2 ,A13        ,204     ,  1,5          ,28         ,2,19950319,1231,  -8.0002,   4.9992,     5240,    315.4,  10.9580,  35.0440,2,  35.0430,2,     46.3,2,     41.6,3,    14.30,3,    32.50,2,     1.94,2,    0.307,2,    0.172,2,   2235.4,2,   2319.6,2,     -999,9,     -999,9,     -999,9,     -999,9,  10.9190
35A3CITHER3_2 ,A13        ,204     ,  1,6          ,27         ,2,19950319,1231,  -8.0002,   4.9992,     5240,    406.2,   9.2050,  34.8610,2,  34.8670,3,     22.1,2,     22.7,2,    18.20,3,    37.70,2,     2.26,2,    0.095,2,    0.059,2,   2259.7,2,     -999,9,     -999,9,     -999,9,     -999,9,     -999,9,   9.1600
35A3CITHER3_2 ,A13        ,204     ,  1,7          ,26         ,2,19950319,1231,  -8.0002,   4.9992,     5240,    595.4,   6.2340,  34.5900,2,  34.5870,2,     52.6,2,     62.2,3,    25.50,2,    39.90,2,     2.49,2,    0.013,2,    0.004,2,   2255.1,2,     -999,9,     -999,9,     -999,9,     -999,9,     -999,9,   6.1800
35A3CITHER3_2 ,A13        ,204     ,  1,8          ,25         ,2,19950319,1231,  -8.0002,   4.9992,     5240,    795.4,   4.7740,  34.5120,2,  34.5130,2,    112.8,2,    113.9,2,    32.90,2,    37.20,2,     2.39,2,    0.004,2,    0.001,2,   2238.6,2,   2302.6,2,     -999,9,     -999,9,     -999,9,     -999,9,   4.7100
35A3CITHER3_2 ,A13        ,204     ,  1,9          ,24         ,2,19950319,1231,  -8.0002,   4.9992,     5240,    995.7,   4.2040,  34.5940,2,  34.5930,2,    139.0,2,    141.9,2,    35.10,2,    33.90,2,     2.21,2,    0.001,2,    0.000,2,   2229.7,2,     -999,9,     -999,9,     -999,9,     -999,9,     -999,9,   4.1270
35A3CITHER3_2 ,A13        ,204     ,  1,10         ,23         ,2,19950319,1231,  -8.0002,   4.9992,     5240,   1194.5,   4.0730,  34.7330,2,  34.7310,2,    163.9,2,    163.5,2,    32.50,2,    30.40,2,     1.94,2,    0.004,2,    0.000,2,   2216.6,2,     -999,9,     -999,9,     -999,9,     -999,9,     -999,9,   3.9800
35A3CITHER3_2 ,A13        ,204     ,  1,11         ,22         ,2,19950319,1231,  -8.0002,   4.9992,     5240,   1396.5,   3.9450,  34.8610,2,  34.8640,2,    197.7,2,    199.1,2,    27.20,2,    25.80,2,     1.63,2,    0.006,2,     -999,9,   2196.4,2,   2330.5,2,     -999,9,     -999,9,     -999,9,     -999,9,   3.8350
35A3CITHER3_2 ,A13        ,204     ,  1,12         ,21         ,2,19950319,1231,  -8.0002,   4.9992,     5240,   1595.9,   3.8090,  34.9200,2,  34.9220,2,    219.2,2,    217.3,2,    24.90,2,    23.00,2,     1.46,2,    0.003,2,    0.006,2,   2183.3,2,     -999,9,     -999,9,     -999,9,     -999,9,     -999,9,   3.6820
35A3CITHER3_2 ,A13        ,204     ,  1,13         ,20         ,2,19950319,1231,  -8.0002,   4.9992,     5240,   1794.7,   3.5750,  34.9350,2,  34.9380,2,    229.2,2,    227.6,2,    26.00,2,    21.70,2,     1.32,3,    0.022,2,     -999,9,   2179.3,2,     -999,9,     -999,9,     -999,9,     -999,9,     -999,9,   3.4330
35A3CITHER3_2 ,A13        ,204     ,  1,14         ,19         ,2,19950319,1231,  -8.0002,   4.9992,     5240,   1995.9,   3.3360,  34.9330,2,  34.9360,2,    231.3,2,    229.7,2,    26.30,2,    21.80,2,     1.38,2,     -999,9,     -999,9,   2182.3,2,     -999,9,     -999,9,     -999,9,     -999,9,     -999,9,   3.1790
35A3CITHER3_2 ,A13        ,204     ,  1,15         ,18         ,2,19950319,1231,  -8.0002,   4.9992,     5240,   2196.8,   3.1420,  34.9310,2,  34.9340,2,    230.6,2,    229.8,2,    33.70,2,    21.80,2,     1.37,2,     -999,9,     -999,9,   2185.3,2,     -999,9,     -999,9,     -999,9,     -999,9,     -999,9,   2.9690
35A3CITHER3_2 ,A13        ,204     ,  1,16         ,17         ,2,19950319,1231,  -8.0002,   4.9992,     5240,   2395.0,   2.9530,  34.9250,2,  34.9270,2,    232.4,2,    231.5,2,    36.70,2,    22.00,2,     1.37,2,    0.009,2,    0.008,2,   2188.3,2,   2338.4,2,     -999,9,     -999,9,     -999,9,     -999,9,   2.7640
35A3CITHER3_2 ,A13        ,204     ,  1,17         ,16         ,2,19950319,1231,  -8.0002,   4.9992,     5240,   2595.4,   2.8150,  34.9180,2,  34.8990,3,    231.6,2,    231.6,2,    40.90,2,    22.00,2,     1.38,2,    0.002,2,    0.001,2,   2192.9,2,     -999,9,     -999,9,     -999,9,     -999,9,     -999,9,   2.6090
35A3CITHER3_2 ,A13        ,204     ,  1,18         ,15         ,2,19950319,1231,  -8.0002,   4.9992,     5240,   2796.4,   2.6940,  34.9120,2,  34.9120,2,    231.8,2,    231.5,2,    43.70,2,    22.30,2,     1.41,2,    0.001,2,     -999,9,   2196.4,2,     -999,9,     -999,9,     -999,9,     -999,9,     -999,9,   2.4710
35A3CITHER3_2 ,A13        ,204     ,  1,19         ,14         ,2,19950319,1231,  -8.0002,   4.9992,     5240,   2995.5,   2.6070,  34.9080,2,  34.9090,2,    231.1,2,    231.0,2,    45.20,2,    22.30,2,     1.38,2,    0.005,2,    0.002,2,   2198.0,2,     -999,9,     -999,9,     -999,9,     -999,9,     -999,9,   2.3650
35A3CITHER3_2 ,A13        ,204     ,  1,20         ,13         ,2,19950319,1231,  -8.0002,   4.9992,     5240,   3197.0,   2.5240,  34.9040,2,  34.9050,2,    230.2,2,    230.4,2,    45.80,2,    22.40,2,     1.38,2,    0.006,2,    0.002,2,   2201.4,2,     -999,9,     -999,9,     -999,9,     -999,9,     -999,9,   2.2630
35A3CITHER3_2 ,A13        ,204     ,  1,21         ,12         ,2,19950319,1231,  -8.0002,   4.9992,     5240,   3395.4,   2.4620,  34.8990,2,  34.9020,2,    227.8,2,    228.2,2,    49.20,2,    22.40,2,     1.42,2,    0.001,2,    0.006,2,   2206.9,2,   2352.5,2,     -999,9,     -999,9,     -999,9,     -999,9,   2.1820
35A3CITHER3_2 ,A13        ,204     ,  1,22         ,11         ,2,19950319,1231,  -8.0002,   4.9992,     5240,   3595.6,   2.3850,  34.8930,2,  34.8910,2,    224.3,2,    224.3,2,    52.90,2,    22.90,2,     1.44,2,    0.004,2,    0.003,2,   2215.2,2,     -999,9,     -999,9,     -999,9,     -999,9,     -999,9,   2.0850
35A3CITHER3_2 ,A13        ,204     ,  1,23         ,10         ,2,19950319,1231,  -8.0002,   4.9992,     5240,   3797.0,   2.3310,  34.8890,2,  34.8890,2,    227.9,2,    228.6,2,    52.60,2,    23.00,2,     1.44,2,    0.002,2,    0.006,2,   2213.2,2,     -999,9,     -999,9,     -999,9,     -999,9,     -999,9,   2.0100
35A3CITHER3_2 ,A13        ,204     ,  1,24         ,9          ,2,19950319,1231,  -8.0002,   4.9992,     5240,   3996.9,   2.3230,  34.8860,2,  34.8900,2,    229.5,2,    230.8,2,    53.30,2,    22.90,2,     1.42,2,    0.001,2,    0.003,2,   2212.1,2,     -999,9,     -999,9,     -999,9,     -999,9,     -999,9,   1.9800
35A3CITHER3_2 ,A13        ,204     ,  1,25         ,8          ,2,19950319,1231,  -8.0002,   4.9992,     5240,   4197.8,   2.3250,  34.8860,2,  34.8880,2,    231.8,2,    232.3,2,    52.90,2,    22.50,2,     1.39,2,    0.003,2,    0.003,2,   2210.3,2,     -999,9,     -999,9,     -999,9,     -999,9,     -999,9,   1.9590
35A3CITHER3_2 ,A13        ,204     ,  1,26         ,7          ,2,19950319,1231,  -8.0002,   4.9992,     5240,   4397.3,   2.3290,  34.8830,2,  34.8860,2,    232.9,2,    233.3,2,    53.40,2,    22.60,2,     1.41,2,    0.002,2,    0.001,2,   2210.7,2,   2357.6,2,     -999,9,     -999,9,     -999,9,     -999,9,   1.9390
35A3CITHER3_2 ,A13        ,204     ,  1,27         ,6          ,2,19950319,1231,  -8.0002,   4.9992,     5240,   4597.7,   2.3400,  34.8810,2,  34.8840,2,    234.0,2,    234.4,2,    52.90,2,    22.60,2,     1.42,2,    0.001,2,    0.002,2,   2210.4,2,     -999,9,     -999,9,     -999,9,     -999,9,     -999,9,   1.9260
35A3CITHER3_2 ,A13        ,204     ,  1,28         ,5          ,2,19950319,1231,  -8.0002,   4.9992,     5240,   4796.4,   2.3570,  34.8790,2,  34.8830,2,    234.9,2,    235.2,2,    53.30,2,    22.60,2,     1.40,2,    0.005,2,    0.007,2,   2210.7,2,     -999,9,     -999,9,     -999,9,     -999,9,     -999,9,   1.9180
35A3CITHER3_2 ,A13        ,204     ,  1,29         ,4          ,2,19950319,1231,  -8.0002,   4.9992,     5240,   4997.7,   2.3750,  34.8790,2,  34.8820,2,    235.5,2,    235.4,2,    53.20,2,    22.60,2,     1.39,2,    0.004,2,    0.005,2,   2210.1,2,     -999,9,     -999,9,     -999,9,     -999,9,     -999,9,   1.9100
35A3CITHER3_2 ,A13        ,204     ,  1,30         ,3          ,2,19950319,1231,  -8.0002,   4.9992,     5240,   5196.8,   2.3970,  34.8780,2,  34.8810,2,    235.7,2,    235.1,2,    53.30,2,    22.60,2,     1.42,2,    0.002,2,    0.004,2,     -999,9,     -999,9,     -999,9,     -999,9,     -999,9,     -999,9,   1.9060
35A3CITHER3_2 ,A13        ,204     ,  1,31         ,2          ,2,19950319,1231,  -8.0002,   4.9992,     5240,   5198.2,   2.3970,  34.8780,2,  34.8810,2,    235.7,2,    235.0,2,    53.40,2,    22.60,2,     1.40,2,    0.003,2,    0.003,2,   2210.8,2,     -999,9,     -999,9,     -999,9,     -999,9,     -999,9,   1.9060
35A3CITHER3_2 ,A13        ,204     ,  1,32         ,1          ,2,19950319,1231,  -8.0002,   4.9992,     5240,   5304.9,   2.4100,  34.8780,2,  34.8810,2,    234.3,2,    235.2,2,    53.20,2,    22.30,2,     1.37,3,    0.002,2,    0.007,2,   2210.5,2,   2359.5,2,     -999,9,     -999,9,     -999,9,     -999,9,   1.9050