BOTTLE,20211216CCHDHYDRO
EXPOCODE,SECT_ID,STNNBR,CASTNO,SAMPNO,BTLNBR,BTLNBR_FLAG_W,DATE,TIME,LATITUDE,LONGITUDE,DEPTH,CTDPRS,CTDTMP,CTDSAL,CTDSAL_FLAG_W,SALNTY,SALNTY_FLAG_W,CTDOXY,CTDOXY_FLAG_W,OXYGEN,OXYGEN_FLAG_W,SILCAT,SILCAT_FLAG_W,NITRAT,NITRAT_FLAG_W,PHSPHT,PHSPHT_FLAG_W,CFC-11,CFC-11_FLAG_W,CFC-12,CFC-12_FLAG_W,TCARBN,TCARBN_FLAG_W,ALKALI,ALKALI_FLAG_W,TRITUM,TRITUM_FLAG_W,HELIUM,HELIUM_FLAG_W,DELHE3,DELHE3_FLAG_W,NEON,NEON_FLAG_W,THETA
,,,,,,,,,,,METERS,DBAR,DEG C,PSS-78,,PSS-78,,UMOL/KG,,UMOL/KG,,UMOL/KG,,UMOL/KG,,UMOL/KG,,PMOL/KG,,PMOL/KG,,UMOL/KG,,UMOL/KG,,TU,,NMOL/KG,,PERCNT,,NMOL/KG,,DEG C
35A3CITHER3_2 ,A13        ,185     ,  1,1          ,32         ,2,19950314,1526, -17.0005,   4.9992,     5447,      5.6,  24.9480,  36.2680,2,  36.2650,2,    206.3,2,    210.5,3,     2.80,2,     0.00,2,     0.16,2,    1.881,2,    1.000,2,   2049.7,2,   2385.4,2,     -999,9,     -999,9,     -999,9,     -999,9,  24.9470
35A3CITHER3_2 ,A13        ,185     ,  1,2          ,31         ,2,19950314,1526, -17.0005,   4.9992,     5447,     46.0,  18.6540,  35.6020,2,  35.6030,2,    255.7,2,    240.7,3,     3.10,2,     0.30,2,     0.28,2,    2.522,2,    1.293,2,   2060.7,2,   2340.1,2,     -999,9,     -999,9,     -999,9,     -999,9,  18.6460
35A3CITHER3_2 ,A13        ,185     ,  1,3          ,30         ,2,19950314,1526, -17.0005,   4.9992,     5447,    120.7,  13.6910,  35.2570,2,  35.2640,3,    134.4,2,    129.5,3,     7.20,2,    18.20,2,     1.16,2,    2.138,2,    1.065,2,   2161.7,2,   2316.8,2,     -999,9,     -999,9,     -999,9,     -999,9,  13.6740
35A3CITHER3_2 ,A13        ,185     ,  1,4          ,29         ,2,19950314,1526, -17.0005,   4.9992,     5447,    196.2,  11.8820,  35.0960,2,  35.0940,2,     66.1,2,     64.6,2,    11.20,2,    28.10,2,     1.72,2,    1.148,2,    0.606,2,   2216.2,2,     -999,9,     -999,9,     -999,9,     -999,9,     -999,9,  11.8570
35A3CITHER3_2 ,A13        ,185     ,  1,5          ,28         ,2,19950314,1526, -17.0005,   4.9992,     5447,    395.2,   8.3750,  34.7500,2,  34.7460,3,     42.9,2,     43.4,2,    18.60,2,    37.60,2,     2.32,2,    0.166,2,    0.112,2,   2253.4,2,     -999,9,     -999,9,     -999,9,     -999,9,     -999,9,   8.3340
35A3CITHER3_2 ,A13        ,185     ,  1,6          ,27         ,2,19950314,1526, -17.0005,   4.9992,     5447,    595.9,   5.8910,  34.5340,2,  34.5360,2,     80.5,2,     83.2,2,    26.30,2,    38.60,2,     2.44,2,    0.030,2,    0.019,2,   2246.9,2,   2295.6,2,     -999,9,     -999,9,     -999,9,     -999,9,   5.8390
35A3CITHER3_2 ,A13        ,185     ,  1,7          ,26         ,2,19950314,1526, -17.0005,   4.9992,     5447,    794.8,   4.6210,  34.4840,2,  34.4830,2,    122.4,2,    122.1,2,    32.80,2,    36.80,2,     2.40,2,     -999,9,     -999,9,   2237.9,2,     -999,9,     -999,9,     -999,9,     -999,9,     -999,9,   4.5580
35A3CITHER3_2 ,A13        ,185     ,  1,8          ,25         ,2,19950314,1526, -17.0005,   4.9992,     5447,    996.8,   3.9460,  34.5430,2,  34.5230,3,    149.5,2,    150.3,2,    38.00,2,    34.20,2,     2.26,2,     -999,9,     -999,9,   2229.5,2,   2311.8,2,     -999,9,     -999,9,     -999,9,     -999,9,   3.8710
35A3CITHER3_2 ,A13        ,185     ,  1,9          ,24         ,2,19950314,1526, -17.0005,   4.9992,     5447,   1195.0,   3.6920,  34.6580,2,  34.6560,2,    167.7,2,    167.9,2,    38.30,2,    31.40,2,     2.09,2,    0.001,2,    0.001,2,   2223.3,2,     -999,9,     -999,9,     -999,9,     -999,9,     -999,9,   3.6020
35A3CITHER3_2 ,A13        ,185     ,  1,10         ,23         ,2,19950314,1526, -17.0005,   4.9992,     5447,   1394.6,   3.6220,  34.7990,2,  34.7890,3,    190.6,2,    190.5,2,    33.80,2,    27.20,2,     1.87,2,    0.000,2,    0.002,2,   2204.8,2,     -999,9,     -999,9,     -999,9,     -999,9,     -999,9,   3.5160
35A3CITHER3_2 ,A13        ,185     ,  1,11         ,22         ,2,19950314,1526, -17.0005,   4.9992,     5447,   1594.7,   3.5270,  34.8660,2,  34.8640,2,    207.1,2,    206.4,2,    31.40,2,    24.90,2,     1.65,2,    0.000,2,    0.006,2,   2196.8,2,     -999,9,     -999,9,     -999,9,     -999,9,     -999,9,   3.4040
35A3CITHER3_2 ,A13        ,185     ,  1,12         ,21         ,2,19950314,1526, -17.0005,   4.9992,     5447,   1795.9,   3.4340,  34.8990,2,  34.8980,2,    217.7,2,    215.9,2,    30.60,2,    23.60,2,     1.53,2,    0.000,2,    0.005,2,   2190.5,2,     -999,9,     -999,9,     -999,9,     -999,9,     -999,9,   3.2940
35A3CITHER3_2 ,A13        ,185     ,  1,13         ,20         ,2,19950314,1526, -17.0005,   4.9992,     5447,   1995.1,   3.3130,  34.9130,2,  34.9130,2,    223.2,2,    221.5,2,    31.30,2,    22.90,2,     1.47,2,    0.002,2,     -999,9,   2188.8,2,   2334.4,2,     -999,9,     -999,9,     -999,9,     -999,9,   3.1560
35A3CITHER3_2 ,A13        ,185     ,  1,14         ,19         ,2,19950314,1526, -17.0005,   4.9992,     5447,   2195.6,   3.1550,  34.9180,2,  34.9160,2,    226.6,2,    226.2,2,    33.40,2,    22.60,2,     1.38,2,    0.001,2,    0.000,2,   2188.8,2,     -999,9,     -999,9,     -999,9,     -999,9,     -999,9,   2.9820
35A3CITHER3_2 ,A13        ,185     ,  1,15         ,18         ,2,19950314,1526, -17.0005,   4.9992,     5447,   2396.5,   2.9760,  34.9130,2,  34.9130,2,    228.8,2,    228.8,2,    36.30,2,    22.60,2,     1.33,2,     -999,9,     -999,9,   2190.7,2,     -999,9,     -999,9,     -999,9,     -999,9,     -999,9,   2.7870
35A3CITHER3_2 ,A13        ,185     ,  1,16         ,17         ,2,19950314,1526, -17.0005,   4.9992,     5447,   2593.7,   2.8130,  34.9050,2,  34.9050,2,    230.9,2,    230.8,2,    39.50,2,    22.70,2,     1.29,2,    0.001,2,    0.003,2,   2192.5,2,     -999,9,     -999,9,     -999,9,     -999,9,     -999,9,   2.6070
35A3CITHER3_2 ,A13        ,185     ,  1,17         ,16         ,2,19950314,1526, -17.0005,   4.9992,     5447,   2795.7,   2.6710,  34.8990,2,  34.8980,2,    232.0,2,    232.3,2,    42.80,2,    22.90,2,     1.45,2,    0.001,2,    0.001,2,   2196.2,2,     -999,9,     -999,9,     -999,9,     -999,9,     -999,9,   2.4480
35A3CITHER3_2 ,A13        ,185     ,  1,18         ,15         ,2,19950314,1526, -17.0005,   4.9992,     5447,   2995.8,   2.5670,  34.8950,2,  34.8800,3,    230.6,2,    230.8,2,    45.50,2,    22.90,2,     1.43,2,    0.001,2,    0.007,2,   2199.3,2,   2344.9,2,     -999,9,     -999,9,     -999,9,     -999,9,   2.3260
35A3CITHER3_2 ,A13        ,185     ,  1,19         ,14         ,2,19950314,1526, -17.0005,   4.9992,     5447,   3196.7,   2.5020,  34.8930,2,  34.8920,2,    229.0,2,    228.8,2,    48.10,2,    23.20,2,     1.47,2,    0.001,2,    0.003,2,   2205.2,2,     -999,9,     -999,9,     -999,9,     -999,9,     -999,9,   2.2420
35A3CITHER3_2 ,A13        ,185     ,  1,20         ,13         ,2,19950314,1526, -17.0005,   4.9992,     5447,   3395.8,   2.4340,  34.8910,2,  34.8890,2,    228.8,2,    229.8,2,    50.20,2,    23.20,2,     1.47,2,    0.000,2,    0.000,2,   2209.3,2,     -999,9,     -999,9,     -999,9,     -999,9,     -999,9,   2.1550
35A3CITHER3_2 ,A13        ,185     ,  1,21         ,12         ,2,19950314,1526, -17.0005,   4.9992,     5447,   3597.1,   2.3980,  34.8900,2,  34.8890,2,    228.1,2,    228.9,2,    51.20,2,    23.30,2,     1.49,2,    0.001,2,    0.005,2,   2210.4,2,     -999,9,     -999,9,     -999,9,     -999,9,     -999,9,   2.0980
35A3CITHER3_2 ,A13        ,185     ,  1,22         ,11         ,2,19950314,1526, -17.0005,   4.9992,     5447,   3794.7,   2.3800,  34.8890,2,  34.8800,3,    229.6,2,    229.9,2,    51.10,2,    23.10,2,     1.48,2,    0.000,2,    0.007,2,   2210.3,2,     -999,9,     -999,9,     -999,9,     -999,9,     -999,9,   2.0580
35A3CITHER3_2 ,A13        ,185     ,  1,23         ,10         ,2,19950314,1526, -17.0005,   4.9992,     5447,   3996.8,   2.3710,  34.8890,2,  34.8870,2,    229.8,2,    230.3,2,    51.70,2,    23.00,2,     1.49,2,     -999,9,     -999,9,   2210.8,2,   2364.7,2,     -999,9,     -999,9,     -999,9,     -999,9,   2.0270
35A3CITHER3_2 ,A13        ,185     ,  1,24         ,9          ,2,19950314,1526, -17.0005,   4.9992,     5447,   4197.5,   2.3730,  34.8880,2,  34.8870,2,    231.0,2,    231.6,2,    51.40,2,    22.80,2,     1.46,2,    0.000,2,    0.000,2,   2211.3,2,     -999,9,     -999,9,     -999,9,     -999,9,     -999,9,   2.0060
35A3CITHER3_2 ,A13        ,185     ,  1,25         ,8          ,2,19950314,1526, -17.0005,   4.9992,     5447,   4396.9,   2.3800,  34.8860,2,  34.8850,2,    232.0,2,    232.3,2,    51.80,2,    22.80,2,     1.43,2,    0.003,2,    0.004,2,   2211.2,2,     -999,9,     -999,9,     -999,9,     -999,9,     -999,9,   1.9890
35A3CITHER3_2 ,A13        ,185     ,  1,26         ,7          ,2,19950314,1526, -17.0005,   4.9992,     5447,   4597.5,   2.3900,  34.8840,2,  34.8850,2,    232.7,2,    232.6,2,    51.90,2,    22.50,2,     1.43,2,    0.000,2,   -0.003,2,   2210.6,2,     -999,9,     -999,9,     -999,9,     -999,9,     -999,9,   1.9740
35A3CITHER3_2 ,A13        ,185     ,  1,27         ,6          ,2,19950314,1526, -17.0005,   4.9992,     5447,   4797.5,   2.4010,  34.8840,2,  34.8830,2,    233.4,2,    233.3,2,    51.90,2,    22.80,2,     1.46,2,    0.000,2,    0.000,2,   2211.5,2,     -999,9,     -999,9,     -999,9,     -999,9,     -999,9,   1.9600
35A3CITHER3_2 ,A13        ,185     ,  1,28         ,5          ,2,19950314,1526, -17.0005,   4.9992,     5447,   4998.2,   2.4150,  34.8820,2,  34.8810,2,    233.8,2,    233.5,2,    52.20,2,    22.60,2,     1.42,2,    0.001,2,    0.006,2,   2211.4,2,   2366.9,2,     -999,9,     -999,9,     -999,9,     -999,9,   1.9490
35A3CITHER3_2 ,A13        ,185     ,  1,29         ,4          ,2,19950314,1526, -17.0005,   4.9992,     5447,   5197.8,   2.4340,  34.8810,2,  34.8820,2,    234.4,2,    234.8,2,    52.10,2,    22.80,2,     1.48,2,    0.003,2,    0.003,2,   2211.2,2,     -999,9,     -999,9,     -999,9,     -999,9,     -999,9,   1.9420
35A3CITHER3_2 ,A13        ,185     ,  1,30         ,3          ,2,19950314,1526, -17.0005,   4.9992,     5447,   5397.8,   2.4580,  34.8820,2,  34.8810,2,    234.4,2,    234.2,2,    52.20,2,    22.80,2,     1.49,2,    0.001,2,    0.007,2,   2212.1,2,     -999,9,     -999,9,     -999,9,     -999,9,     -999,9,   1.9390
35A3CITHER3_2 ,A13        ,185     ,  1,31         ,2          ,2,19950314,1526, -17.0005,   4.9992,     5447,   5499.6,   2.4710,  34.8810,2,  34.8810,2,    234.8,2,    234.1,2,    52.20,2,    22.60,2,     1.43,2,    0.004,2,    0.006,2,   2212.7,2,     -999,9,     -999,9,     -999,9,     -999,9,     -999,9,   1.9380
35A3CITHER3_2 ,A13        ,185     ,  1,32         ,1          ,2,19950314,1526, -17.0005,   4.9992,     5447,   5525.8,   2.4730,  34.8800,2,  34.8770,2,    233.9,2,    233.9,2,    52.40,2,    22.90,2,     1.47,2,     -999,9,     -999,9,   2212.7,2,   2366.1,2,     -999,9,     -999,9,     -999,9,     -999,9,   1.9360