BOTTLE,20211216CCHDHYDRO
EXPOCODE,SECT_ID,STNNBR,CASTNO,SAMPNO,BTLNBR,BTLNBR_FLAG_W,DATE,TIME,LATITUDE,LONGITUDE,DEPTH,CTDPRS,CTDTMP,CTDSAL,CTDSAL_FLAG_W,SALNTY,SALNTY_FLAG_W,CTDOXY,CTDOXY_FLAG_W,OXYGEN,OXYGEN_FLAG_W,SILCAT,SILCAT_FLAG_W,NITRAT,NITRAT_FLAG_W,PHSPHT,PHSPHT_FLAG_W,CFC-11,CFC-11_FLAG_W,CFC-12,CFC-12_FLAG_W,TCARBN,TCARBN_FLAG_W,ALKALI,ALKALI_FLAG_W,TRITUM,TRITUM_FLAG_W,HELIUM,HELIUM_FLAG_W,DELHE3,DELHE3_FLAG_W,NEON,NEON_FLAG_W,THETA
,,,,,,,,,,,METERS,DBAR,DEG C,PSS-78,,PSS-78,,UMOL/KG,,UMOL/KG,,UMOL/KG,,UMOL/KG,,UMOL/KG,,PMOL/KG,,PMOL/KG,,UMOL/KG,,UMOL/KG,,TU,,NMOL/KG,,PERCNT,,NMOL/KG,,DEG C
35A3CITHER3_2 ,A13        ,215     ,  1,1          ,32         ,2,19950322,0408,  -3.2325,   3.8832,     4677,      5.2,  29.4340,  34.9240,2,  35.0320,3,    205.5,2,    213.6,3,     0.00,2,     0.00,2,     0.07,2,    1.581,2,    0.855,2,     -999,9,     -999,9,     -999,9,     -999,9,     -999,9,     -999,9,  29.4330
35A3CITHER3_2 ,A13        ,215     ,  1,2          ,31         ,2,19950322,0408,  -3.2325,   3.8832,     4677,     46.5,  22.5550,  35.9130,2,  35.9180,3,    202.1,2,    181.3,3,     2.90,2,     0.80,2,     0.29,2,    1.738,2,    0.865,2,     -999,9,     -999,9,     -999,9,     -999,9,     -999,9,     -999,9,  22.5460
35A3CITHER3_2 ,A13        ,215     ,  1,3          ,30         ,2,19950322,0408,  -3.2325,   3.8832,     4677,    104.7,  17.2120,  35.7970,2,  35.8020,3,    129.3,2,    121.2,3,     5.80,2,    14.50,2,     1.01,2,    1.649,2,    0.816,2,     -999,9,     -999,9,     -999,9,     -999,9,     -999,9,     -999,9,  17.1950
35A3CITHER3_2 ,A13        ,215     ,  1,4          ,29         ,2,19950322,0408,  -3.2325,   3.8832,     4677,    155.1,  15.6920,  35.6280,2,  35.6290,2,    127.9,2,    127.4,2,     7.10,2,    15.40,2,     1.07,2,    1.552,2,    0.759,2,     -999,9,     -999,9,     -999,9,     -999,9,     -999,9,     -999,9,  15.6680
35A3CITHER3_2 ,A13        ,215     ,  1,5          ,28         ,2,19950322,0408,  -3.2325,   3.8832,     4677,    196.7,  14.7290,  35.5020,2,  35.5030,2,     91.0,2,     75.5,3,     9.60,2,    23.00,2,     1.47,2,    1.160,2,    0.588,2,     -999,9,     -999,9,     -999,9,     -999,9,     -999,9,     -999,9,  14.6990
35A3CITHER3_2 ,A13        ,215     ,  1,6          ,27         ,2,19950322,0408,  -3.2325,   3.8832,     4677,    294.8,  11.0560,  35.0790,2,  35.0860,3,     41.0,2,     38.8,2,    14.20,2,    32.00,2,     1.99,2,    0.405,2,    0.212,2,     -999,9,     -999,9,     -999,9,     -999,9,     -999,9,     -999,9,  11.0190
35A3CITHER3_2 ,A13        ,215     ,  1,7          ,26         ,2,19950322,0408,  -3.2325,   3.8832,     4677,    396.4,   8.4890,  34.7760,2,  34.7790,2,     65.3,2,     70.2,3,    18.20,2,    34.40,2,     2.17,2,    0.204,2,    0.106,2,     -999,9,     -999,9,     -999,9,     -999,9,     -999,9,     -999,9,   8.4470
35A3CITHER3_2 ,A13        ,215     ,  1,8          ,25         ,2,19950322,0408,  -3.2325,   3.8832,     4677,    594.6,   6.1770,  34.5680,2,  34.5500,3,    100.8,2,     98.3,2,    24.80,2,    36.20,2,     2.38,2,    0.041,2,    0.020,2,     -999,9,     -999,9,     -999,9,     -999,9,     -999,9,     -999,9,   6.1240
35A3CITHER3_2 ,A13        ,215     ,  1,10         ,23         ,2,19950322,0408,  -3.2325,   3.8832,     4677,    794.7,   4.6240,  34.5100,2,  34.4870,3,    140.9,2,    144.0,2,    31.10,2,    34.40,2,     2.32,2,    0.025,2,    0.016,2,     -999,9,     -999,9,     -999,9,     -999,9,     -999,9,     -999,9,   4.5610
35A3CITHER3_2 ,A13        ,215     ,  1,9          ,24         ,2,19950322,0408,  -3.2325,   3.8832,     4677,    794.9,   4.6310,  34.5090,2,  34.5090,2,    140.9,2,    143.6,2,    31.50,2,    34.30,2,     2.32,2,    0.020,2,    0.011,2,     -999,9,     -999,9,     -999,9,     -999,9,     -999,9,     -999,9,   4.5680
35A3CITHER3_2 ,A13        ,215     ,  1,11         ,22         ,2,19950322,0408,  -3.2325,   3.8832,     4677,    995.9,   4.3800,  34.5990,2,  34.5970,2,    155.6,2,    153.9,2,    31.80,2,    32.50,2,     2.20,2,    0.049,2,    0.028,2,     -999,9,     -999,9,     -999,9,     -999,9,     -999,9,     -999,9,   4.3020
35A3CITHER3_2 ,A13        ,215     ,  1,12         ,21         ,2,19950322,0408,  -3.2325,   3.8832,     4677,   1196.0,   4.3620,  34.7780,2,  34.7760,2,    175.0,2,    174.2,2,    27.80,2,    28.20,2,     1.88,2,    0.007,2,    0.015,2,     -999,9,     -999,9,     -999,9,     -999,9,     -999,9,     -999,9,   4.2660
35A3CITHER3_2 ,A13        ,215     ,  1,13         ,20         ,2,19950322,0408,  -3.2325,   3.8832,     4677,   1395.0,   4.2590,  34.9120,2,  34.9120,2,    210.0,2,    207.2,2,    22.40,2,    23.00,2,     1.56,2,    0.013,2,    0.014,2,     -999,9,     -999,9,     -999,9,     -999,9,     -999,9,     -999,9,   4.1460
35A3CITHER3_2 ,A13        ,215     ,  1,14         ,19         ,2,19950322,0408,  -3.2325,   3.8832,     4677,   1595.4,   4.0100,  34.9430,2,  34.9450,2,    226.7,2,    223.3,2,    21.60,2,    22.20,2,     1.47,2,    0.006,2,     -999,9,     -999,9,     -999,9,     -999,9,     -999,9,     -999,9,     -999,9,   3.8810
35A3CITHER3_2 ,A13        ,215     ,  1,15         ,18         ,2,19950322,0408,  -3.2325,   3.8832,     4677,   1794.4,   3.7320,  34.9590,2,  34.9580,2,    239.0,2,    236.1,2,    22.20,2,    20.90,2,     1.37,2,    0.006,2,    0.006,2,     -999,9,     -999,9,     -999,9,     -999,9,     -999,9,     -999,9,   3.5880
35A3CITHER3_2 ,A13        ,215     ,  1,16         ,17         ,2,19950322,0408,  -3.2325,   3.8832,     4677,   1994.3,   3.4720,  34.9500,2,  34.9510,2,    242.1,2,    238.0,2,    24.90,2,    20.90,2,     1.39,2,    0.001,2,   -0.002,2,     -999,9,     -999,9,     -999,9,     -999,9,     -999,9,     -999,9,   3.3130
35A3CITHER3_2 ,A13        ,215     ,  1,17         ,16         ,2,19950322,0408,  -3.2325,   3.8832,     4677,   2196.0,   3.2170,  34.9410,2,  34.9410,2,    240.4,2,    237.7,2,    29.00,2,    20.40,2,     1.39,2,    0.003,2,     -999,9,     -999,9,     -999,9,     -999,9,     -999,9,     -999,9,     -999,9,   3.0430
35A3CITHER3_2 ,A13        ,215     ,  1,18         ,15         ,2,19950322,0408,  -3.2325,   3.8832,     4677,   2394.9,   2.9990,  34.9300,2,  34.9300,2,    239.3,2,    237.2,2,    33.30,2,    20.80,2,     1.41,2,    0.001,2,    0.000,2,     -999,9,     -999,9,     -999,9,     -999,9,     -999,9,     -999,9,   2.8090
35A3CITHER3_2 ,A13        ,215     ,  1,19         ,14         ,2,19950322,0408,  -3.2325,   3.8832,     4677,   2596.1,   2.8190,  34.9220,2,  34.9200,2,    238.9,2,    236.9,2,    36.70,2,    21.00,2,     1.42,2,    0.000,2,    0.000,2,     -999,9,     -999,9,     -999,9,     -999,9,     -999,9,     -999,9,   2.6130
35A3CITHER3_2 ,A13        ,215     ,  1,20         ,13         ,2,19950322,0408,  -3.2325,   3.8832,     4677,   2794.6,   2.7050,  34.9140,2,  34.9110,2,    239.0,2,    237.1,2,    38.70,2,    20.90,2,     1.42,2,    0.004,2,    0.001,2,     -999,9,     -999,9,     -999,9,     -999,9,     -999,9,     -999,9,   2.4820
35A3CITHER3_2 ,A13        ,215     ,  1,22         ,11         ,2,19950322,0408,  -3.2325,   3.8832,     4677,   2994.8,   2.6070,  34.9100,2,  34.8980,3,    237.8,2,    236.5,2,    41.30,2,    21.50,2,     1.43,2,    0.007,2,    0.001,2,     -999,9,     -999,9,     -999,9,     -999,9,     -999,9,     -999,9,   2.3650
35A3CITHER3_2 ,A13        ,215     ,  1,21         ,12         ,2,19950322,0408,  -3.2325,   3.8832,     4677,   2995.6,   2.6080,  34.9090,2,  34.9090,2,    237.7,2,    236.5,2,    41.40,2,    20.90,2,     1.43,2,    0.000,2,    0.001,2,     -999,9,     -999,9,     -999,9,     -999,9,     -999,9,     -999,9,   2.3660
35A3CITHER3_2 ,A13        ,215     ,  1,23         ,10         ,2,19950322,0408,  -3.2325,   3.8832,     4677,   3194.4,   2.5150,  34.9030,2,  34.9040,2,    236.6,2,    235.5,2,    44.00,2,    21.10,2,     1.42,2,    0.000,2,    0.000,2,     -999,9,     -999,9,     -999,9,     -999,9,     -999,9,     -999,9,   2.2550
35A3CITHER3_2 ,A13        ,215     ,  1,24         ,9          ,2,19950322,0408,  -3.2325,   3.8832,     4677,   3395.8,   2.4510,  34.8980,2,  34.8980,2,    237.3,2,    236.1,2,    45.50,2,    21.70,2,     1.45,2,    0.003,2,    0.005,2,     -999,9,     -999,9,     -999,9,     -999,9,     -999,9,     -999,9,   2.1710
35A3CITHER3_2 ,A13        ,215     ,  1,25         ,8          ,2,19950322,0408,  -3.2325,   3.8832,     4677,   3596.5,   2.4190,  34.8960,2,  34.8940,2,    237.5,2,    236.6,2,    50.50,2,    22.10,2,     1.47,2,    0.000,2,    0.001,2,     -999,9,     -999,9,     -999,9,     -999,9,     -999,9,     -999,9,   2.1180
35A3CITHER3_2 ,A13        ,215     ,  1,26         ,7          ,2,19950322,0408,  -3.2325,   3.8832,     4677,   3795.4,   2.3740,  34.8920,2,  34.8910,2,    236.7,2,    235.6,2,    48.10,2,    22.20,2,     1.49,2,    0.003,2,    0.003,2,     -999,9,     -999,9,     -999,9,     -999,9,     -999,9,     -999,9,   2.0520
35A3CITHER3_2 ,A13        ,215     ,  1,27         ,6          ,2,19950322,0408,  -3.2325,   3.8832,     4677,   3996.8,   2.3390,  34.8880,2,  34.8860,2,    233.2,2,    229.9,2,    51.50,2,    22.30,2,     1.52,2,    0.003,2,    0.000,2,     -999,9,     -999,9,     -999,9,     -999,9,     -999,9,     -999,9,   1.9960
35A3CITHER3_2 ,A13        ,215     ,  1,28         ,5          ,2,19950322,0408,  -3.2325,   3.8832,     4677,   4197.0,   2.3110,  34.8830,2,  34.8830,2,    236.6,2,    237.3,2,    49.80,2,    21.60,2,     1.47,2,    0.000,2,    0.006,2,     -999,9,     -999,9,     -999,9,     -999,9,     -999,9,     -999,9,   1.9450
35A3CITHER3_2 ,A13        ,215     ,  1,29         ,4          ,2,19950322,0408,  -3.2325,   3.8832,     4677,   4396.3,   2.2920,  34.8790,2,  34.8780,2,    239.2,2,    239.0,2,    50.10,2,    21.20,2,     1.45,2,    0.004,2,    0.000,2,     -999,9,     -999,9,     -999,9,     -999,9,     -999,9,     -999,9,   1.9040
35A3CITHER3_2 ,A13        ,215     ,  1,30         ,3          ,2,19950322,0408,  -3.2325,   3.8832,     4677,   4598.2,   2.2940,  34.8770,2,  34.8790,2,    239.9,2,    239.3,2,    50.70,2,    20.90,2,     1.47,2,    0.004,2,    0.002,2,     -999,9,     -999,9,     -999,9,     -999,9,     -999,9,     -999,9,   1.8810
35A3CITHER3_2 ,A13        ,215     ,  1,31         ,2          ,2,19950322,0408,  -3.2325,   3.8832,     4677,   4698.1,   2.3010,  34.8750,2,  34.8770,2,    239.5,2,    239.4,2,    51.20,2,    21.30,2,     1.46,2,    0.003,2,    0.002,2,     -999,9,     -999,9,     -999,9,     -999,9,     -999,9,     -999,9,   1.8760
35A3CITHER3_2 ,A13        ,215     ,  1,32         ,1          ,2,19950322,0408,  -3.2325,   3.8832,     4677,   4725.9,   2.3030,  34.8760,2,  34.8780,2,    238.2,2,    239.9,2,    51.00,2,    22.20,2,     1.48,2,    0.004,2,    0.005,2,     -999,9,     -999,9,     -999,9,     -999,9,     -999,9,     -999,9,   1.8740