BOTTLE,20211216CCHDHYDRO
EXPOCODE,SECT_ID,STNNBR,CASTNO,SAMPNO,BTLNBR,BTLNBR_FLAG_W,DATE,TIME,LATITUDE,LONGITUDE,DEPTH,CTDPRS,CTDTMP,CTDSAL,CTDSAL_FLAG_W,SALNTY,SALNTY_FLAG_W,CTDOXY,CTDOXY_FLAG_W,OXYGEN,OXYGEN_FLAG_W,SILCAT,SILCAT_FLAG_W,NITRAT,NITRAT_FLAG_W,PHSPHT,PHSPHT_FLAG_W,CFC-11,CFC-11_FLAG_W,CFC-12,CFC-12_FLAG_W,TCARBN,TCARBN_FLAG_W,ALKALI,ALKALI_FLAG_W,TRITUM,TRITUM_FLAG_W,HELIUM,HELIUM_FLAG_W,DELHE3,DELHE3_FLAG_W,NEON,NEON_FLAG_W,THETA
,,,,,,,,,,,METERS,DBAR,DEG C,PSS-78,,PSS-78,,UMOL/KG,,UMOL/KG,,UMOL/KG,,UMOL/KG,,UMOL/KG,,PMOL/KG,,PMOL/KG,,UMOL/KG,,UMOL/KG,,TU,,NMOL/KG,,PERCNT,,NMOL/KG,,DEG C
35A3CITHER3_2 ,A13        ,112     ,  1,1          ,13         ,2,19950222,2131, -34.4067,  17.6963,      685,      3.2,  21.5460,  35.5770,2,  35.5780,2,    220.0,2,    222.1,2,     3.60,2,     0.00,2,     0.08,2,    2.135,2,    1.125,2,   2018.7,2,   2351.1,2,     -999,9,     -999,9,     -999,9,     -999,9,  21.5450
35A3CITHER3_2 ,A13        ,112     ,  1,2          ,12         ,2,19950222,2131, -34.4067,  17.6963,      685,     23.5,  21.5320,  35.5780,2,  35.5600,3,    226.3,2,    223.9,2,     3.60,2,     0.00,2,     0.07,2,    2.156,2,    1.128,2,     -999,9,     -999,9,     -999,9,     -999,9,     -999,9,     -999,9,  21.5270
35A3CITHER3_2 ,A13        ,112     ,  1,3          ,11         ,2,19950222,2131, -34.4067,  17.6963,      685,     46.4,  15.7570,  35.1500,2,  35.1180,3,    243.1,2,    226.2,3,     4.10,2,     4.90,3,     0.52,2,    2.421,2,    1.196,2,     -999,9,     -999,9,     -999,9,     -999,9,     -999,9,     -999,9,  15.7500
35A3CITHER3_2 ,A13        ,112     ,  1,4          ,10         ,2,19950222,2131, -34.4067,  17.6963,      685,     97.6,  11.5760,  34.9470,2,  34.9490,2,    193.8,2,    197.3,2,     9.70,2,    14.90,2,     1.06,2,    2.392,2,    1.162,2,     -999,9,     -999,9,     -999,9,     -999,9,     -999,9,     -999,9,  11.5640
35A3CITHER3_2 ,A13        ,112     ,  1,5          ,9          ,2,19950222,2131, -34.4067,  17.6963,      685,    148.1,  10.3650,  34.8500,2,  34.8450,2,    196.1,2,    197.5,2,    10.70,2,    17.00,2,     1.18,2,    2.152,2,    1.025,2,     -999,9,     -999,9,     -999,9,     -999,9,     -999,9,     -999,9,  10.3470
35A3CITHER3_2 ,A13        ,112     ,  1,6          ,8          ,2,19950222,2131, -34.4067,  17.6963,      685,    195.7,   9.1500,  34.7020,2,  34.7000,2,    181.8,2,    179.5,2,    14.50,2,    21.60,2,     1.61,3,    2.088,2,    1.000,2,     -999,9,     -999,9,     -999,9,     -999,9,     -999,9,     -999,9,   9.1290
35A3CITHER3_2 ,A13        ,112     ,  1,7          ,7          ,2,19950222,2131, -34.4067,  17.6963,      685,    296.6,   7.7030,  34.5690,2,  34.5650,2,    191.9,2,    191.8,2,    17.50,2,    24.10,2,     1.64,3,    1.858,2,    0.894,2,     -999,9,     -999,9,     -999,9,     -999,9,     -999,9,     -999,9,   7.6740
35A3CITHER3_2 ,A13        ,112     ,  1,8          ,6          ,2,19950222,2131, -34.4067,  17.6963,      685,    396.0,   6.5330,  34.4750,2,  34.4740,2,    201.5,2,    203.4,2,    20.70,2,    25.80,2,     1.73,2,    1.704,2,    0.800,2,     -999,9,     -999,9,     -999,9,     -999,9,     -999,9,     -999,9,   6.4970
35A3CITHER3_2 ,A13        ,112     ,  1,9          ,5          ,2,19950222,2131, -34.4067,  17.6963,      685,    497.8,   5.9940,  34.4320,2,  34.4320,2,    205.8,2,    206.8,2,    22.50,2,    26.70,2,     1.80,2,    1.722,2,    0.797,2,     -999,9,     -999,9,     -999,9,     -999,9,     -999,9,     -999,9,   5.9510
35A3CITHER3_2 ,A13        ,112     ,  1,11         ,3          ,2,19950222,2131, -34.4067,  17.6963,      685,    595.7,   5.4030,  34.3910,2,  34.3900,2,    208.6,2,    210.7,2,    24.80,2,    27.70,2,     1.86,2,    1.679,2,    0.775,2,     -999,9,     -999,9,     -999,9,     -999,9,     -999,9,     -999,9,   5.3530
35A3CITHER3_2 ,A13        ,112     ,  1,10         ,4          ,2,19950222,2131, -34.4067,  17.6963,      685,    597.2,   5.4220,  34.3930,2,  34.3960,2,    208.5,2,    210.7,2,    24.80,2,    27.70,2,     1.85,2,    1.672,2,    0.764,2,     -999,9,     -999,9,     -999,9,     -999,9,     -999,9,     -999,9,   5.3720
35A3CITHER3_2 ,A13        ,112     ,  1,12         ,2          ,2,19950222,2131, -34.4067,  17.6963,      685,    646.4,   5.2040,  34.3790,2,  34.3800,2,    211.1,2,    211.3,2,    25.90,2,    28.30,2,     1.93,2,    1.647,2,    0.757,2,     -999,9,     -999,9,     -999,9,     -999,9,     -999,9,     -999,9,   5.1510
35A3CITHER3_2 ,A13        ,112     ,  1,13         ,1          ,2,19950222,2131, -34.4067,  17.6963,      685,    676.2,   4.7530,  34.3710,2,  34.3780,3,    210.0,2,    208.6,2,    29.80,2,    29.30,2,     1.96,2,    1.478,2,    0.702,2,     -999,9,     -999,9,     -999,9,     -999,9,     -999,9,     -999,9,   4.7000
35A3CITHER3_2 ,A13        ,113     ,  1,1          ,15         ,2,19950223,0014, -34.4958,  17.5623,     1609,      4.5,  21.0680,  35.4870,2,  35.4870,2,    228.4,2,    225.9,2,     2.80,2,     0.00,2,     0.22,2,    2.180,2,    1.133,2,     -999,9,     -999,9,     -999,9,     -999,9,     -999,9,     -999,9,  21.0670
35A3CITHER3_2 ,A13        ,113     ,  1,2          ,14         ,2,19950223,0014, -34.4958,  17.5623,     1609,     46.4,  14.9390,  35.2660,2,  35.2740,3,    226.7,2,    195.6,3,     6.40,3,     8.40,2,     0.65,3,    2.364,2,    1.159,2,     -999,9,     -999,9,     -999,9,     -999,9,     -999,9,     -999,9,  14.9320
35A3CITHER3_2 ,A13        ,113     ,  1,3          ,13         ,2,19950223,0014, -34.4958,  17.5623,     1609,    120.6,  11.6220,  34.9990,2,  34.9910,3,    205.1,2,    207.3,2,     7.20,2,    13.60,2,     0.95,2,    2.378,2,    1.129,2,     -999,9,     -999,9,     -999,9,     -999,9,     -999,9,     -999,9,  11.6070
35A3CITHER3_2 ,A13        ,113     ,  1,4          ,12         ,2,19950223,0014, -34.4958,  17.5623,     1609,    197.3,   9.7040,  34.7600,2,  34.7570,2,    187.3,2,    183.8,2,    11.30,2,    19.50,2,     1.39,3,    2.227,2,    1.058,2,     -999,9,     -999,9,     -999,9,     -999,9,     -999,9,     -999,9,   9.6820
35A3CITHER3_2 ,A13        ,113     ,  1,5          ,11         ,2,19950223,0014, -34.4958,  17.5623,     1609,    295.1,   7.6970,  34.5620,2,  34.5620,2,    191.9,2,    195.7,2,    16.00,2,    23.50,2,     1.56,2,    1.973,2,    0.977,2,     -999,9,     -999,9,     -999,9,     -999,9,     -999,9,     -999,9,   7.6680
35A3CITHER3_2 ,A13        ,113     ,  1,6          ,10         ,2,19950223,0014, -34.4958,  17.5623,     1609,    398.5,   6.8930,  34.4860,2,  34.4880,2,    203.6,2,    206.5,2,    16.40,2,    24.70,2,     1.66,2,    1.965,2,    0.929,2,   2160.6,2,     -999,9,     -999,9,     -999,9,     -999,9,     -999,9,   6.8560
35A3CITHER3_2 ,A13        ,113     ,  1,7          ,9          ,2,19950223,0014, -34.4958,  17.5623,     1609,    494.7,   6.0910,  34.4270,2,  34.4260,2,    208.0,2,    208.6,2,    19.80,2,    26.40,2,     1.77,2,    1.798,2,    0.829,2,   2166.1,2,     -999,9,     -999,9,     -999,9,     -999,9,     -999,9,   6.0480
35A3CITHER3_2 ,A13        ,113     ,  1,8          ,8          ,2,19950223,0014, -34.4958,  17.5623,     1609,    594.9,   5.1180,  34.3780,2,  34.3760,2,    209.5,2,    212.1,2,    24.90,2,    28.10,2,     1.86,2,    1.613,2,    0.742,2,   2176.3,2,     -999,9,     -999,9,     -999,9,     -999,9,     -999,9,   5.0700
35A3CITHER3_2 ,A13        ,113     ,  1,9          ,7          ,2,19950223,0014, -34.4958,  17.5623,     1609,    793.7,   4.2000,  34.3790,2,  34.3780,2,    202.8,2,    201.9,2,    34.40,2,    30.60,2,     2.08,2,    1.123,2,    0.521,2,   2193.1,2,     -999,9,     -999,9,     -999,9,     -999,9,     -999,9,   4.1400
35A3CITHER3_2 ,A13        ,113     ,  1,10         ,6          ,2,19950223,0014, -34.4958,  17.5623,     1609,    995.8,   3.4660,  34.4490,2,  34.4520,2,    188.6,2,    185.5,2,    48.20,2,    32.40,2,     2.18,2,    0.540,2,    0.259,2,   2218.9,2,     -999,9,     -999,9,     -999,9,     -999,9,     -999,9,   3.3950
35A3CITHER3_2 ,A13        ,113     ,  1,12         ,4          ,2,19950223,0014, -34.4958,  17.5623,     1609,   1196.0,   3.0310,  34.5660,2,  34.5660,2,    177.3,2,    177.1,2,    59.30,2,    32.50,2,     2.19,2,    0.154,2,    0.073,2,     -999,9,     -999,9,     -999,9,     -999,9,     -999,9,     -999,9,   2.9480
35A3CITHER3_2 ,A13        ,113     ,  1,11         ,5          ,2,19950223,0014, -34.4958,  17.5623,     1609,   1196.4,   3.0280,  34.5680,2,  34.5670,2,    177.3,2,    177.5,2,    58.60,2,    32.40,2,     2.18,2,    0.153,2,    0.069,2,   2232.0,2,     -999,9,     -999,9,     -999,9,     -999,9,     -999,9,   2.9450
35A3CITHER3_2 ,A13        ,113     ,  1,13         ,3          ,2,19950223,0014, -34.4958,  17.5623,     1609,   1394.3,   2.9170,  34.6640,2,  34.6700,2,    182.4,2,    184.1,2,    58.20,2,    30.60,2,     2.06,2,    0.049,2,    0.025,2,   2229.1,2,     -999,9,     -999,9,     -999,9,     -999,9,     -999,9,   2.8190
35A3CITHER3_2 ,A13        ,113     ,  1,14         ,2          ,2,19950223,0014, -34.4958,  17.5623,     1609,   1491.6,   2.9330,  34.7300,2,  34.7300,2,    191.5,2,    192.5,2,    53.80,2,    28.80,2,     1.96,2,    0.024,2,    0.010,2,   2220.4,2,     -999,9,     -999,9,     -999,9,     -999,9,     -999,9,   2.8260
35A3CITHER3_2 ,A13        ,113     ,  1,15         ,1          ,2,19950223,0014, -34.4958,  17.5623,     1609,   1596.3,   2.9470,  34.7770,2,  34.7770,2,    198.0,2,    200.8,2,    49.60,2,    27.60,2,     1.83,2,    0.001,2,    0.003,2,   2212.8,2,     -999,9,     -999,9,     -999,9,     -999,9,     -999,9,   2.8310
35A3CITHER3_2 ,A13        ,114     ,  1,1          ,19         ,2,19950223,0407, -34.7838,  17.2593,     2665,      3.7,  21.3720,  35.5560,2,  35.5590,2,    228.1,2,    223.0,2,     3.70,2,     0.00,2,     0.07,2,    2.150,2,    1.127,2,     -999,9,     -999,9,     -999,9,     -999,9,     -999,9,     -999,9,  21.3710
35A3CITHER3_2 ,A13        ,114     ,  1,2          ,18         ,2,19950223,0407, -34.7838,  17.2593,     2665,     46.7,  17.8630,  35.4850,2,  35.4860,2,    206.3,2,    208.2,2,     5.70,3,     2.50,2,     0.27,2,    2.300,2,    1.153,2,     -999,9,     -999,9,     -999,9,     -999,9,     -999,9,     -999,9,  17.8550
35A3CITHER3_2 ,A13        ,114     ,  1,3          ,17         ,2,19950223,0407, -34.7838,  17.2593,     2665,    122.9,  14.6290,  35.3250,2,  35.3280,2,    211.6,2,    217.5,3,     5.00,2,     6.00,2,     0.48,2,    2.720,2,    1.336,2,     -999,9,     -999,9,     -999,9,     -999,9,     -999,9,     -999,9,  14.6110
35A3CITHER3_2 ,A13        ,114     ,  1,4          ,16         ,2,19950223,0407, -34.7838,  17.2593,     2665,    196.3,  12.9820,  35.1660,2,  35.1570,3,    216.4,2,    216.9,2,     5.80,2,     9.60,2,     0.68,2,    2.689,2,    1.340,2,     -999,9,     -999,9,     -999,9,     -999,9,     -999,9,     -999,9,  12.9550
35A3CITHER3_2 ,A13        ,114     ,  1,5          ,15         ,2,19950223,0407, -34.7838,  17.2593,     2665,    395.3,   9.3970,  34.7240,2,  34.7340,3,    209.3,2,    208.9,2,    10.20,2,    18.20,3,     1.21,2,    1.969,2,    0.939,2,     -999,9,     -999,9,     -999,9,     -999,9,     -999,9,     -999,9,   9.3530
35A3CITHER3_2 ,A13        ,114     ,  1,6          ,14         ,2,19950223,0407, -34.7838,  17.2593,     2665,    595.2,   6.1480,  34.4430,2,  34.4440,2,    204.5,2,    204.4,2,    21.00,2,    26.60,2,     1.75,2,    1.708,2,    0.798,2,     -999,9,     -999,9,     -999,9,     -999,9,     -999,9,     -999,9,   6.0950
35A3CITHER3_2 ,A13        ,114     ,  1,7          ,13         ,2,19950223,0407, -34.7838,  17.2593,     2665,    793.6,   4.6220,  34.3820,2,  34.3760,2,    208.8,2,    206.8,2,    30.00,2,    29.50,2,     1.97,2,    1.338,2,    0.617,2,     -999,9,     -999,9,     -999,9,     -999,9,     -999,9,     -999,9,   4.5600
35A3CITHER3_2 ,A13        ,114     ,  1,8          ,12         ,2,19950223,0407, -34.7838,  17.2593,     2665,    993.9,   3.5870,  34.4280,2,  34.4290,2,    191.0,2,    189.6,2,    45.10,2,    32.50,2,     2.15,2,    0.626,2,    0.298,2,     -999,9,     -999,9,     -999,9,     -999,9,     -999,9,     -999,9,   3.5150
35A3CITHER3_2 ,A13        ,114     ,  1,9          ,11         ,2,19950223,0407, -34.7838,  17.2593,     2665,   1194.5,   3.0820,  34.5540,2,  34.5530,2,    179.2,2,    177.5,2,    56.80,2,    32.60,2,     2.14,2,    0.147,2,    0.071,2,     -999,9,     -999,9,     -999,9,     -999,9,     -999,9,     -999,9,   2.9980
35A3CITHER3_2 ,A13        ,114     ,  1,10         ,10         ,2,19950223,0407, -34.7838,  17.2593,     2665,   1394.5,   2.9650,  34.6630,2,  34.6640,2,    184.9,2,    184.1,2,    56.00,2,    30.70,2,     2.03,2,    0.016,2,    0.012,2,     -999,9,     -999,9,     -999,9,     -999,9,     -999,9,     -999,9,   2.8660
35A3CITHER3_2 ,A13        ,114     ,  1,11         ,9          ,2,19950223,0407, -34.7838,  17.2593,     2665,   1594.7,   2.9070,  34.7430,2,  34.7440,2,    194.3,2,    194.9,2,    53.40,2,    28.70,2,     1.86,2,    0.016,2,    0.006,2,     -999,9,     -999,9,     -999,9,     -999,9,     -999,9,     -999,9,   2.7920
35A3CITHER3_2 ,A13        ,114     ,  1,12         ,8          ,2,19950223,0407, -34.7838,  17.2593,     2665,   1795.4,   2.9170,  34.8070,2,  34.8070,2,    207.5,2,    208.1,2,    47.30,2,    26.60,2,     1.72,2,    0.003,2,    0.005,2,     -999,9,     -999,9,     -999,9,     -999,9,     -999,9,     -999,9,   2.7840
35A3CITHER3_2 ,A13        ,114     ,  1,13         ,7          ,2,19950223,0407, -34.7838,  17.2593,     2665,   1795.7,   2.9170,  34.8080,2,  34.8070,2,    207.6,2,    208.7,2,    47.00,2,    26.60,2,     1.65,2,    0.005,2,    0.005,2,     -999,9,     -999,9,     -999,9,     -999,9,     -999,9,     -999,9,   2.7840
35A3CITHER3_2 ,A13        ,114     ,  1,14         ,6          ,2,19950223,0407, -34.7838,  17.2593,     2665,   1995.2,   2.8320,  34.8350,2,  34.8330,2,    216.8,2,    216.3,2,    46.10,2,    25.60,2,     1.65,2,    0.006,2,    0.002,2,     -999,9,     -999,9,     -999,9,     -999,9,     -999,9,     -999,9,   2.6830
35A3CITHER3_2 ,A13        ,114     ,  1,15         ,5          ,2,19950223,0407, -34.7838,  17.2593,     2665,   1995.7,   2.8300,  34.8350,2,  34.8350,2,    216.8,2,    216.7,2,    46.00,2,    25.10,2,     1.62,2,    0.004,2,    0.004,2,     -999,9,     -999,9,     -999,9,     -999,9,     -999,9,     -999,9,   2.6810
35A3CITHER3_2 ,A13        ,114     ,  1,16         ,4          ,2,19950223,0407, -34.7838,  17.2593,     2665,   2193.8,   2.7830,  34.8550,2,  34.8570,2,    224.2,2,    222.1,2,    43.90,2,    24.50,2,     1.57,2,    0.003,2,    0.001,2,     -999,9,     -999,9,     -999,9,     -999,9,     -999,9,     -999,9,   2.6160
35A3CITHER3_2 ,A13        ,114     ,  1,17         ,3          ,2,19950223,0407, -34.7838,  17.2593,     2665,   2395.6,   2.6460,  34.8630,2,  34.8640,2,    227.6,2,    226.3,2,    45.80,2,    24.30,2,     1.56,2,    0.002,2,    0.001,2,     -999,9,     -999,9,     -999,9,     -999,9,     -999,9,     -999,9,   2.4630
35A3CITHER3_2 ,A13        ,114     ,  1,18         ,2          ,2,19950223,0407, -34.7838,  17.2593,     2665,   2496.2,   2.6050,  34.8630,2,  34.8630,2,    228.3,2,    227.7,2,    46.50,2,    24.30,2,     1.57,2,    0.004,2,    0.002,2,     -999,9,     -999,9,     -999,9,     -999,9,     -999,9,     -999,9,   2.4130
35A3CITHER3_2 ,A13        ,114     ,  1,19         ,1          ,2,19950223,0407, -34.7838,  17.2593,     2665,   2675.0,   2.5010,  34.8680,2,  34.8690,2,    229.2,2,    229.2,2,    48.80,2,    24.10,2,     1.55,2,    0.006,2,    0.005,2,     -999,9,     -999,9,     -999,9,     -999,9,     -999,9,     -999,9,   2.2940