BOTTLE,20211216CCHDHYDRO
EXPOCODE,SECT_ID,STNNBR,CASTNO,SAMPNO,BTLNBR,BTLNBR_FLAG_W,DATE,TIME,LATITUDE,LONGITUDE,DEPTH,CTDPRS,CTDTMP,CTDSAL,CTDSAL_FLAG_W,SALNTY,SALNTY_FLAG_W,CTDOXY,CTDOXY_FLAG_W,OXYGEN,OXYGEN_FLAG_W,SILCAT,SILCAT_FLAG_W,NITRAT,NITRAT_FLAG_W,PHSPHT,PHSPHT_FLAG_W,CFC-11,CFC-11_FLAG_W,CFC-12,CFC-12_FLAG_W,TCARBN,TCARBN_FLAG_W,ALKALI,ALKALI_FLAG_W,TRITUM,TRITUM_FLAG_W,HELIUM,HELIUM_FLAG_W,DELHE3,DELHE3_FLAG_W,NEON,NEON_FLAG_W,THETA
,,,,,,,,,,,METERS,DBAR,DEG C,PSS-78,,PSS-78,,UMOL/KG,,UMOL/KG,,UMOL/KG,,UMOL/KG,,UMOL/KG,,PMOL/KG,,PMOL/KG,,UMOL/KG,,UMOL/KG,,TU,,NMOL/KG,,PERCNT,,NMOL/KG,,DEG C
35A3CITHER3_2 ,A13        ,197     ,  1,1          ,32         ,2,19950317,1603, -11.5010,   4.9995,     5556,      5.4,  27.8400,  36.4370,2,  36.4370,2,    197.3,2,    198.4,2,     3.00,2,     0.00,2,     0.12,2,    1.607,2,    0.886,2,     -999,9,     -999,9,     -999,9,     -999,9,     -999,9,     -999,9,  27.8390
35A3CITHER3_2 ,A13        ,197     ,  1,2          ,31         ,2,19950317,1603, -11.5010,   4.9995,     5556,     46.0,  19.2660,  36.2460,2,  36.2260,3,    258.1,2,    191.1,3,     4.40,2,     7.40,2,     0.50,2,    1.952,2,    0.984,2,     -999,9,     -999,9,     -999,9,     -999,9,     -999,9,     -999,9,  19.2580
35A3CITHER3_2 ,A13        ,197     ,  1,3          ,30         ,2,19950317,1603, -11.5010,   4.9995,     5556,    120.6,  13.2240,  35.3180,2,  35.3100,3,     64.7,2,     64.3,2,    10.30,2,    26.30,2,     1.56,2,    0.903,2,    0.464,2,     -999,9,     -999,9,     -999,9,     -999,9,     -999,9,     -999,9,  13.2070
35A3CITHER3_2 ,A13        ,197     ,  1,4          ,29         ,2,19950317,1603, -11.5010,   4.9995,     5556,    196.2,  11.7730,  35.1390,2,  35.1370,2,     61.8,2,     59.6,2,    12.10,2,    28.90,2,     1.70,2,    0.589,2,    0.314,2,     -999,9,     -999,9,     -999,9,     -999,9,     -999,9,     -999,9,  11.7480
35A3CITHER3_2 ,A13        ,197     ,  1,5          ,28         ,2,19950317,1603, -11.5010,   4.9995,     5556,    394.1,   8.6860,  34.8050,2,  34.8010,2,     23.6,2,     24.1,2,    19.50,2,    38.60,2,     2.36,2,    0.081,2,    0.073,2,     -999,9,     -999,9,     -999,9,     -999,9,     -999,9,     -999,9,   8.6440
35A3CITHER3_2 ,A13        ,197     ,  1,6          ,27         ,2,19950317,1603, -11.5010,   4.9995,     5556,    595.5,   6.1240,  34.5750,2,  34.5750,2,     51.6,2,     59.2,3,    26.30,2,    40.60,2,     2.58,2,    0.008,2,    0.005,2,     -999,9,     -999,9,     -999,9,     -999,9,     -999,9,     -999,9,   6.0710
35A3CITHER3_2 ,A13        ,197     ,  1,7          ,26         ,2,19950317,1603, -11.5010,   4.9995,     5556,    795.4,   4.7580,  34.5130,2,  34.5120,2,    105.3,2,    109.3,3,    32.80,2,    37.80,2,     2.47,2,    0.002,2,    0.008,2,     -999,9,     -999,9,     -999,9,     -999,9,     -999,9,     -999,9,   4.6940
35A3CITHER3_2 ,A13        ,197     ,  1,8          ,25         ,2,19950317,1603, -11.5010,   4.9995,     5556,    995.8,   4.1990,  34.5780,2,  34.5780,2,    135.2,2,    135.4,2,    35.20,2,    34.80,2,     2.26,2,    0.003,2,    0.000,2,     -999,9,     -999,9,     -999,9,     -999,9,     -999,9,     -999,9,   4.1220
35A3CITHER3_2 ,A13        ,197     ,  1,9          ,24         ,2,19950317,1603, -11.5010,   4.9995,     5556,   1194.7,   3.9930,  34.7150,2,  34.7160,2,    160.6,2,    163.6,2,    33.10,2,    30.30,2,     1.96,2,    0.001,2,    0.004,2,     -999,9,     -999,9,     -999,9,     -999,9,     -999,9,     -999,9,   3.9010
35A3CITHER3_2 ,A13        ,197     ,  1,10         ,23         ,2,19950317,1603, -11.5010,   4.9995,     5556,   1394.7,   3.8830,  34.8350,2,  34.8230,3,    190.7,2,    190.4,2,    28.90,2,    26.00,2,     1.72,2,    0.009,2,    0.002,2,     -999,9,     -999,9,     -999,9,     -999,9,     -999,9,     -999,9,   3.7740
35A3CITHER3_2 ,A13        ,197     ,  1,11         ,22         ,2,19950317,1603, -11.5010,   4.9995,     5556,   1595.2,   3.7480,  34.9010,2,  34.9010,2,    207.7,2,    208.4,2,    27.10,2,    23.60,2,     1.52,2,    0.024,2,    0.028,2,     -999,9,     -999,9,     -999,9,     -999,9,     -999,9,     -999,9,   3.6220
35A3CITHER3_2 ,A13        ,197     ,  1,12         ,21         ,2,19950317,1603, -11.5010,   4.9995,     5556,   1796.6,   3.5540,  34.9230,2,  34.9250,2,    218.4,2,    218.2,2,    27.90,2,    22.70,2,     1.42,2,    0.000,2,    0.000,2,     -999,9,     -999,9,     -999,9,     -999,9,     -999,9,     -999,9,   3.4120
35A3CITHER3_2 ,A13        ,197     ,  1,13         ,20         ,2,19950317,1603, -11.5010,   4.9995,     5556,   1997.0,   3.3100,  34.9270,2,  34.9270,2,    224.3,2,    224.2,2,    30.40,2,    22.00,2,     1.39,2,    0.000,2,    0.001,2,     -999,9,     -999,9,     -999,9,     -999,9,     -999,9,     -999,9,   3.1530
35A3CITHER3_2 ,A13        ,197     ,  1,14         ,19         ,2,19950317,1603, -11.5010,   4.9995,     5556,   2195.3,   3.1170,  34.9250,2,  34.9240,2,    227.8,2,    228.0,2,    33.00,2,    21.70,2,     1.30,4,    0.004,2,    0.002,2,     -999,9,     -999,9,     -999,9,     -999,9,     -999,9,     -999,9,   2.9450
35A3CITHER3_2 ,A13        ,197     ,  1,15         ,18         ,2,19950317,1603, -11.5010,   4.9995,     5556,   2395.7,   2.9770,  34.9220,2,  34.9230,2,    230.2,2,    230.3,2,    35.40,2,    22.10,2,     1.41,2,    0.001,2,    0.003,2,     -999,9,     -999,9,     -999,9,     -999,9,     -999,9,     -999,9,   2.7880
35A3CITHER3_2 ,A13        ,197     ,  1,16         ,17         ,2,19950317,1603, -11.5010,   4.9995,     5556,   2594.5,   2.8470,  34.9160,2,  34.9170,2,    231.2,2,    231.2,2,    38.00,2,    22.20,2,     1.40,2,    0.001,2,   -0.001,2,     -999,9,     -999,9,     -999,9,     -999,9,     -999,9,     -999,9,   2.6410
35A3CITHER3_2 ,A13        ,197     ,  1,17         ,16         ,2,19950317,1603, -11.5010,   4.9995,     5556,   2796.3,   2.7210,  34.9100,2,  34.9110,2,    232.0,2,    231.9,2,    40.80,2,    22.20,2,     1.41,2,    0.004,2,    0.001,2,     -999,9,     -999,9,     -999,9,     -999,9,     -999,9,     -999,9,   2.4970
35A3CITHER3_2 ,A13        ,197     ,  1,18         ,15         ,2,19950317,1603, -11.5010,   4.9995,     5556,   2995.7,   2.6110,  34.9040,2,  34.9030,2,    231.0,2,    231.6,2,    43.40,2,    22.30,2,     1.42,2,    0.002,2,    0.002,2,     -999,9,     -999,9,     -999,9,     -999,9,     -999,9,     -999,9,   2.3690
35A3CITHER3_2 ,A13        ,197     ,  1,19         ,14         ,2,19950317,1603, -11.5010,   4.9995,     5556,   3195.1,   2.5230,  34.8990,2,  34.8990,2,    230.1,2,    228.7,2,    46.80,2,    22.50,2,     1.45,2,    0.000,2,    0.007,2,     -999,9,     -999,9,     -999,9,     -999,9,     -999,9,     -999,9,   2.2630
35A3CITHER3_2 ,A13        ,197     ,  1,20         ,13         ,2,19950317,1603, -11.5010,   4.9995,     5556,   3395.9,   2.4360,  34.8960,2,  34.8900,2,    225.8,2,    225.4,2,    50.60,2,    22.80,2,     1.45,2,    0.003,2,   -0.002,2,     -999,9,     -999,9,     -999,9,     -999,9,     -999,9,     -999,9,   2.1560
35A3CITHER3_2 ,A13        ,197     ,  1,21         ,12         ,2,19950317,1603, -11.5010,   4.9995,     5556,   3596.6,   2.3680,  34.8920,2,  34.8900,2,    225.3,2,    226.8,2,    52.00,2,    22.90,2,     1.47,2,    0.003,2,    0.000,2,     -999,9,     -999,9,     -999,9,     -999,9,     -999,9,     -999,9,   2.0690
35A3CITHER3_2 ,A13        ,197     ,  1,22         ,11         ,2,19950317,1603, -11.5010,   4.9995,     5556,   3795.8,   2.3420,  34.8890,2,  34.8830,2,    229.1,2,    229.9,2,    51.30,2,    22.60,2,     1.44,2,    0.004,2,    0.000,2,     -999,9,     -999,9,     -999,9,     -999,9,     -999,9,     -999,9,   2.0210
35A3CITHER3_2 ,A13        ,197     ,  1,23         ,10         ,2,19950317,1603, -11.5010,   4.9995,     5556,   3996.3,   2.3420,  34.8900,2,  34.8870,2,    230.7,2,    231.2,2,    51.30,2,    22.70,2,     1.45,2,    0.000,2,    0.002,2,     -999,9,     -999,9,     -999,9,     -999,9,     -999,9,     -999,9,   1.9990
35A3CITHER3_2 ,A13        ,197     ,  1,24         ,9          ,2,19950317,1603, -11.5010,   4.9995,     5556,   4198.3,   2.3430,  34.8880,2,  34.8860,2,    232.0,2,    232.6,2,    51.40,2,    22.50,2,     1.42,2,    0.001,2,    0.005,2,     -999,9,     -999,9,     -999,9,     -999,9,     -999,9,     -999,9,   1.9760
35A3CITHER3_2 ,A13        ,197     ,  1,25         ,8          ,2,19950317,1603, -11.5010,   4.9995,     5556,   4396.2,   2.3550,  34.8850,2,  34.8850,2,    232.6,2,    232.7,2,    51.40,2,    22.50,2,     1.40,2,    0.002,2,     -999,9,     -999,9,     -999,9,     -999,9,     -999,9,     -999,9,     -999,9,   1.9650
35A3CITHER3_2 ,A13        ,197     ,  1,26         ,7          ,2,19950317,1603, -11.5010,   4.9995,     5556,   4598.0,   2.3620,  34.8820,2,  34.8840,2,    233.6,2,    233.6,2,    51.80,2,    22.10,3,     1.42,2,    0.000,2,    0.002,2,     -999,9,     -999,9,     -999,9,     -999,9,     -999,9,     -999,9,   1.9470
35A3CITHER3_2 ,A13        ,197     ,  1,27         ,6          ,2,19950317,1603, -11.5010,   4.9995,     5556,   4797.4,   2.3720,  34.8810,2,  34.8800,2,    234.8,2,    235.2,2,    51.70,2,    22.70,2,     1.40,2,    0.001,2,    0.010,2,     -999,9,     -999,9,     -999,9,     -999,9,     -999,9,     -999,9,   1.9320
35A3CITHER3_2 ,A13        ,197     ,  1,28         ,5          ,2,19950317,1603, -11.5010,   4.9995,     5556,   4995.8,   2.3860,  34.8800,2,  34.8790,2,    235.4,2,    235.5,2,    51.80,2,    22.30,2,     1.35,3,    0.000,2,    0.007,2,     -999,9,     -999,9,     -999,9,     -999,9,     -999,9,     -999,9,   1.9210
35A3CITHER3_2 ,A13        ,197     ,  1,29         ,4          ,2,19950317,1603, -11.5010,   4.9995,     5556,   5198.8,   2.4020,  34.8800,2,  34.8780,2,    236.4,2,    236.0,2,    52.10,2,    22.50,2,     1.42,2,    0.003,2,     -999,9,     -999,9,     -999,9,     -999,9,     -999,9,     -999,9,     -999,9,   1.9110
35A3CITHER3_2 ,A13        ,197     ,  1,30         ,3          ,2,19950317,1603, -11.5010,   4.9995,     5556,   5397.5,   2.4230,  34.8780,2,  34.8770,2,    236.9,2,    236.2,2,    52.00,2,    22.50,2,     1.41,2,    0.000,2,    0.002,2,     -999,9,     -999,9,     -999,9,     -999,9,     -999,9,     -999,9,   1.9050
35A3CITHER3_2 ,A13        ,197     ,  1,31         ,2          ,2,19950317,1603, -11.5010,   4.9995,     5556,   5549.4,   2.4410,  34.8780,2,  34.8850,3,    237.6,2,    236.5,2,    51.80,2,    21.90,3,     1.34,3,    0.000,2,    0.006,2,     -999,9,     -999,9,     -999,9,     -999,9,     -999,9,     -999,9,   1.9020
35A3CITHER3_2 ,A13        ,197     ,  1,32         ,1          ,2,19950317,1603, -11.5010,   4.9995,     5556,   5621.1,   2.4500,  34.8770,2,  34.8770,2,    236.6,2,    237.4,2,    52.00,2,    22.40,2,     1.39,2,    0.006,2,    0.022,2,     -999,9,     -999,9,     -999,9,     -999,9,     -999,9,     -999,9,   1.9010