BOTTLE,20211216CCHDHYDRO
EXPOCODE,SECT_ID,STNNBR,CASTNO,SAMPNO,BTLNBR,BTLNBR_FLAG_W,DATE,TIME,LATITUDE,LONGITUDE,DEPTH,CTDPRS,CTDTMP,CTDSAL,CTDSAL_FLAG_W,SALNTY,SALNTY_FLAG_W,CTDOXY,CTDOXY_FLAG_W,OXYGEN,OXYGEN_FLAG_W,SILCAT,SILCAT_FLAG_W,NITRAT,NITRAT_FLAG_W,PHSPHT,PHSPHT_FLAG_W,CFC-11,CFC-11_FLAG_W,CFC-12,CFC-12_FLAG_W,TCARBN,TCARBN_FLAG_W,ALKALI,ALKALI_FLAG_W,TRITUM,TRITUM_FLAG_W,HELIUM,HELIUM_FLAG_W,DELHE3,DELHE3_FLAG_W,NEON,NEON_FLAG_W,THETA
,,,,,,,,,,,METERS,DBAR,DEG C,PSS-78,,PSS-78,,UMOL/KG,,UMOL/KG,,UMOL/KG,,UMOL/KG,,UMOL/KG,,PMOL/KG,,PMOL/KG,,UMOL/KG,,UMOL/KG,,TU,,NMOL/KG,,PERCNT,,NMOL/KG,,DEG C
35A3CITHER3_2 ,A13        ,160     ,  1,8          ,25         ,2,19950306,2316, -25.3843,   8.9183,     4741,   3194.7,   2.4000,  34.8690,2,  34.8660,2,    233.9,2,    232.4,2,    51.50,2,    23.70,2,     1.48,2,    0.001,2,    0.001,2,     -999,9,     -999,9,     -999,9,     -999,9,     -999,9,     -999,9,   2.1430
35A3CITHER3_2 ,A13        ,160     ,  1,1          ,32         ,2,19950306,2316, -25.3843,   8.9183,     4741,   3194.9,   2.4010,  34.8690,2,  34.8710,2,    233.9,2,    232.3,2,    52.00,2,    23.60,2,     1.47,2,   -0.000,2,    0.000,2,     -999,9,     -999,9,     -999,9,     -999,9,     -999,9,     -999,9,   2.1440
35A3CITHER3_2 ,A13        ,160     ,  1,18         ,15         ,2,19950306,2316, -25.3843,   8.9183,     4741,   3195.0,   2.4000,  34.8690,2,     -999,9,    233.9,2,     -999,9,     -999,9,     -999,9,     -999,9,    0.002,2,    0.005,2,     -999,9,     -999,9,     -999,9,     -999,9,     -999,9,     -999,9,   2.1430
35A3CITHER3_2 ,A13        ,160     ,  1,20         ,13         ,2,19950306,2316, -25.3843,   8.9183,     4741,   3195.8,   2.4000,  34.8700,2,     -999,9,    233.9,2,     -999,9,     -999,9,     -999,9,     -999,9,    0.000,2,    0.003,2,     -999,9,     -999,9,     -999,9,     -999,9,     -999,9,     -999,9,   2.1420
35A3CITHER3_2 ,A13        ,160     ,  1,23         ,10         ,2,19950306,2316, -25.3843,   8.9183,     4741,   3195.8,   2.4000,  34.8700,2,     -999,9,    233.9,2,     -999,9,     -999,9,     -999,9,     -999,9,    0.000,2,    0.001,2,     -999,9,     -999,9,     -999,9,     -999,9,     -999,9,     -999,9,   2.1420
35A3CITHER3_2 ,A13        ,160     ,  1,16         ,17         ,2,19950306,2316, -25.3843,   8.9183,     4741,   3195.9,   2.4010,  34.8690,2,  34.8690,2,    233.9,2,    232.6,2,    51.40,2,    23.60,2,     1.48,2,    0.002,2,    0.001,2,     -999,9,     -999,9,     -999,9,     -999,9,     -999,9,     -999,9,   2.1430
35A3CITHER3_2 ,A13        ,160     ,  1,3          ,30         ,2,19950306,2316, -25.3843,   8.9183,     4741,   3196.1,   2.4000,  34.8700,2,  34.8690,2,    233.9,2,    232.5,2,    51.70,2,    23.60,2,     1.45,2,    0.001,2,    0.004,2,     -999,9,     -999,9,     -999,9,     -999,9,     -999,9,     -999,9,   2.1420
35A3CITHER3_2 ,A13        ,160     ,  1,12         ,21         ,2,19950306,2316, -25.3843,   8.9183,     4741,   3196.2,   2.4010,  34.8690,2,  34.8710,2,    233.9,2,    232.5,2,    52.00,2,    23.50,2,     1.48,2,    0.001,2,    0.000,2,     -999,9,     -999,9,     -999,9,     -999,9,     -999,9,     -999,9,   2.1430
35A3CITHER3_2 ,A13        ,160     ,  1,28         ,5          ,2,19950306,2316, -25.3843,   8.9183,     4741,   3196.2,   2.4010,  34.8690,2,     -999,9,    233.9,2,     -999,9,     -999,9,     -999,9,     -999,9,   -0.000,2,    0.004,2,     -999,9,     -999,9,     -999,9,     -999,9,     -999,9,     -999,9,   2.1430
35A3CITHER3_2 ,A13        ,160     ,  1,11         ,22         ,2,19950306,2316, -25.3843,   8.9183,     4741,   3196.4,   2.4000,  34.8700,2,  34.8710,2,    233.9,2,    232.7,2,    51.40,2,    23.60,2,     1.45,2,    0.000,2,    0.003,2,     -999,9,     -999,9,     -999,9,     -999,9,     -999,9,     -999,9,   2.1420
35A3CITHER3_2 ,A13        ,160     ,  1,32         ,1          ,2,19950306,2316, -25.3843,   8.9183,     4741,   3196.5,   2.4010,  34.8690,2,     -999,9,    233.9,2,     -999,9,     -999,9,     -999,9,     -999,9,    0.009,2,    0.008,2,     -999,9,     -999,9,     -999,9,     -999,9,     -999,9,     -999,9,   2.1430
35A3CITHER3_2 ,A13        ,160     ,  1,6          ,27         ,2,19950306,2316, -25.3843,   8.9183,     4741,   3196.6,   2.4000,  34.8700,2,  34.8700,2,    233.9,2,    232.5,2,    51.50,2,    23.40,2,     1.45,2,    0.000,2,     -999,9,     -999,9,     -999,9,     -999,9,     -999,9,     -999,9,     -999,9,   2.1420
35A3CITHER3_2 ,A13        ,160     ,  1,5          ,28         ,2,19950306,2316, -25.3843,   8.9183,     4741,   3196.7,   2.4010,  34.8700,2,  34.8700,2,    233.9,2,    232.5,2,    51.70,2,    23.70,2,     1.46,2,    0.004,2,     -999,9,     -999,9,     -999,9,     -999,9,     -999,9,     -999,9,     -999,9,   2.1430
35A3CITHER3_2 ,A13        ,160     ,  1,9          ,24         ,2,19950306,2316, -25.3843,   8.9183,     4741,   3196.7,   2.4010,  34.8700,2,  34.8680,2,    233.9,2,    232.5,2,    51.40,2,    23.70,2,     1.42,2,    0.001,2,     -999,9,     -999,9,     -999,9,     -999,9,     -999,9,     -999,9,     -999,9,   2.1430
35A3CITHER3_2 ,A13        ,160     ,  1,21         ,12         ,2,19950306,2316, -25.3843,   8.9183,     4741,   3196.9,   2.4000,  34.8700,2,     -999,9,    233.9,2,     -999,9,     -999,9,     -999,9,     -999,9,    0.002,2,    0.003,2,     -999,9,     -999,9,     -999,9,     -999,9,     -999,9,     -999,9,   2.1420
35A3CITHER3_2 ,A13        ,160     ,  1,14         ,19         ,2,19950306,2316, -25.3843,   8.9183,     4741,   3197.0,   2.4000,  34.8700,2,  34.8700,2,    233.9,2,    232.9,2,    51.50,2,    23.20,2,     1.38,3,    0.001,2,    0.005,2,     -999,9,     -999,9,     -999,9,     -999,9,     -999,9,     -999,9,   2.1420
35A3CITHER3_2 ,A13        ,160     ,  1,26         ,7          ,2,19950306,2316, -25.3843,   8.9183,     4741,   3197.1,   2.4000,  34.8700,2,     -999,9,    233.9,2,     -999,9,     -999,9,     -999,9,     -999,9,    0.002,2,    0.001,2,     -999,9,     -999,9,     -999,9,     -999,9,     -999,9,     -999,9,   2.1420
35A3CITHER3_2 ,A13        ,160     ,  1,4          ,29         ,2,19950306,2316, -25.3843,   8.9183,     4741,   3197.3,   2.4010,  34.8700,2,  34.8710,2,    233.9,2,    232.8,2,    52.00,2,    23.40,2,     1.42,2,    0.001,2,    0.003,2,     -999,9,     -999,9,     -999,9,     -999,9,     -999,9,     -999,9,   2.1430
35A3CITHER3_2 ,A13        ,160     ,  1,15         ,18         ,2,19950306,2316, -25.3843,   8.9183,     4741,   3197.5,   2.4010,  34.8700,2,  34.8700,2,    234.0,2,    232.4,2,    51.50,2,    23.60,2,     1.47,2,    0.001,2,     -999,9,     -999,9,     -999,9,     -999,9,     -999,9,     -999,9,     -999,9,   2.1430
35A3CITHER3_2 ,A13        ,160     ,  1,27         ,6          ,2,19950306,2316, -25.3843,   8.9183,     4741,   3198.0,   2.4010,  34.8690,2,     -999,9,    234.0,2,     -999,9,     -999,9,     -999,9,     -999,9,    0.003,2,     -999,9,     -999,9,     -999,9,     -999,9,     -999,9,     -999,9,     -999,9,   2.1430
35A3CITHER3_2 ,A13        ,160     ,  1,24         ,9          ,2,19950306,2316, -25.3843,   8.9183,     4741,   3198.3,   2.4010,  34.8690,2,     -999,9,    234.0,2,     -999,9,     -999,9,     -999,9,     -999,9,    0.001,2,    0.002,2,     -999,9,     -999,9,     -999,9,     -999,9,     -999,9,     -999,9,   2.1430
35A3CITHER3_2 ,A13        ,160     ,  1,7          ,26         ,2,19950306,2316, -25.3843,   8.9183,     4741,   3198.7,   2.4010,  34.8700,2,  34.8690,2,    234.0,2,    232.5,2,    51.40,2,    23.20,2,     1.40,2,    0.001,2,    0.002,2,     -999,9,     -999,9,     -999,9,     -999,9,     -999,9,     -999,9,   2.1430
35A3CITHER3_2 ,A13        ,160     ,  1,10         ,23         ,2,19950306,2316, -25.3843,   8.9183,     4741,   3198.7,   2.4010,  34.8700,2,  34.8650,2,    234.0,2,    232.9,2,    51.40,2,    23.80,2,     1.53,3,    0.002,2,    0.006,2,     -999,9,     -999,9,     -999,9,     -999,9,     -999,9,     -999,9,   2.1430
35A3CITHER3_2 ,A13        ,160     ,  1,29         ,4          ,2,19950306,2316, -25.3843,   8.9183,     4741,   3198.7,   2.4000,  34.8700,2,     -999,9,    234.0,2,     -999,9,     -999,9,     -999,9,     -999,9,    0.001,2,    0.002,2,     -999,9,     -999,9,     -999,9,     -999,9,     -999,9,     -999,9,   2.1420
35A3CITHER3_2 ,A13        ,160     ,  1,2          ,31         ,2,19950306,2316, -25.3843,   8.9183,     4741,   3198.8,   2.4010,  34.8700,2,  34.8700,2,    234.0,2,    232.9,2,    51.90,2,    22.70,2,     0.97,4,    0.002,2,    0.002,2,     -999,9,     -999,9,     -999,9,     -999,9,     -999,9,     -999,9,   2.1430
35A3CITHER3_2 ,A13        ,160     ,  1,19         ,14         ,2,19950306,2316, -25.3843,   8.9183,     4741,   3198.9,   2.4000,  34.8700,2,     -999,9,    234.0,2,     -999,9,     -999,9,     -999,9,     -999,9,    0.002,2,    0.001,2,     -999,9,     -999,9,     -999,9,     -999,9,     -999,9,     -999,9,   2.1420
35A3CITHER3_2 ,A13        ,160     ,  1,13         ,20         ,2,19950306,2316, -25.3843,   8.9183,     4741,   3199.0,   2.4010,  34.8700,2,  34.8700,2,    234.0,2,    233.2,2,    52.00,2,    22.50,2,     1.31,3,    0.001,2,    0.001,2,     -999,9,     -999,9,     -999,9,     -999,9,     -999,9,     -999,9,   2.1430
35A3CITHER3_2 ,A13        ,160     ,  1,22         ,11         ,2,19950306,2316, -25.3843,   8.9183,     4741,   3199.0,   2.4010,  34.8700,2,     -999,9,    234.0,2,     -999,9,     -999,9,     -999,9,     -999,9,   -0.000,2,    0.003,2,     -999,9,     -999,9,     -999,9,     -999,9,     -999,9,     -999,9,   2.1430
35A3CITHER3_2 ,A13        ,160     ,  1,17         ,16         ,2,19950306,2316, -25.3843,   8.9183,     4741,   3199.1,   2.4010,  34.8700,2,     -999,9,    234.0,2,     -999,9,     -999,9,     -999,9,     -999,9,    0.004,2,    0.007,2,     -999,9,     -999,9,     -999,9,     -999,9,     -999,9,     -999,9,   2.1430
35A3CITHER3_2 ,A13        ,160     ,  1,25         ,8          ,2,19950306,2316, -25.3843,   8.9183,     4741,   3199.5,   2.4010,  34.8700,2,     -999,9,    234.0,2,     -999,9,     -999,9,     -999,9,     -999,9,    0.001,2,    0.001,2,     -999,9,     -999,9,     -999,9,     -999,9,     -999,9,     -999,9,   2.1430
35A3CITHER3_2 ,A13        ,160     ,  1,31         ,2          ,2,19950306,2316, -25.3843,   8.9183,     4741,   3200.5,   2.4010,  34.8710,2,     -999,9,    234.0,2,     -999,9,     -999,9,     -999,9,     -999,9,    0.001,2,    0.002,2,     -999,9,     -999,9,     -999,9,     -999,9,     -999,9,     -999,9,   2.1430
35A3CITHER3_2 ,A13        ,160     ,  1,30         ,3          ,2,19950306,2316, -25.3843,   8.9183,     4741,   3200.7,   2.4010,  34.8700,2,     -999,9,    234.0,2,     -999,9,     -999,9,     -999,9,     -999,9,    0.000,2,     -999,9,     -999,9,     -999,9,     -999,9,     -999,9,     -999,9,     -999,9,   2.1430