BOTTLE,20211216CCHDHYDRO
EXPOCODE,SECT_ID,STNNBR,CASTNO,SAMPNO,BTLNBR,BTLNBR_FLAG_W,DATE,TIME,LATITUDE,LONGITUDE,DEPTH,CTDPRS,CTDTMP,CTDSAL,CTDSAL_FLAG_W,SALNTY,SALNTY_FLAG_W,CTDOXY,CTDOXY_FLAG_W,OXYGEN,OXYGEN_FLAG_W,SILCAT,SILCAT_FLAG_W,NITRAT,NITRAT_FLAG_W,PHSPHT,PHSPHT_FLAG_W,CFC-11,CFC-11_FLAG_W,CFC-12,CFC-12_FLAG_W,TCARBN,TCARBN_FLAG_W,ALKALI,ALKALI_FLAG_W,TRITUM,TRITUM_FLAG_W,HELIUM,HELIUM_FLAG_W,DELHE3,DELHE3_FLAG_W,NEON,NEON_FLAG_W,THETA
,,,,,,,,,,,METERS,DBAR,DEG C,PSS-78,,PSS-78,,UMOL/KG,,UMOL/KG,,UMOL/KG,,UMOL/KG,,UMOL/KG,,PMOL/KG,,PMOL/KG,,UMOL/KG,,UMOL/KG,,TU,,NMOL/KG,,PERCNT,,NMOL/KG,,DEG C
35A3CITHER3_2 ,A13        ,124     ,  1,2          ,31         ,2,19950225,1733, -38.1350,  12.6475,     5086,      3.1,  19.4450,  35.5000,2,  35.4940,3,    248.1,2,    234.1,3,     2.00,2,     0.00,2,     0.12,2,    2.474,2,    1.256,2,   2037.3,2,   2334.6,2,     -999,9,     -999,9,     -999,9,     -999,9,  19.4440
35A3CITHER3_2 ,A13        ,124     ,  1,1          ,32         ,2,19950225,1733, -38.1350,  12.6475,     5086,      3.4,  19.4860,  35.5010,2,  35.4960,3,    248.1,2,    233.3,3,     1.90,2,     0.00,2,     0.12,2,    2.486,2,    1.255,2,     -999,9,     -999,9,     -999,9,     -999,9,     -999,9,     -999,9,  19.4850
35A3CITHER3_2 ,A13        ,124     ,  1,3          ,30         ,2,19950225,1733, -38.1350,  12.6475,     5086,     45.8,  18.6620,  35.5000,2,  35.4970,2,    241.4,2,    235.7,3,     2.00,2,     0.00,2,     0.12,2,    2.489,2,    1.237,2,   2036.9,2,     -999,9,     -999,9,     -999,9,     -999,9,     -999,9,  18.6540
35A3CITHER3_2 ,A13        ,124     ,  1,4          ,29         ,2,19950225,1733, -38.1350,  12.6475,     5086,    121.0,  15.3330,  35.3940,2,  35.3890,3,    220.8,2,    224.8,3,     3.20,2,     4.10,2,     0.36,2,    2.788,2,    1.369,2,   2071.4,2,   2328.1,2,     -999,9,     -999,9,     -999,9,     -999,9,  15.3140
35A3CITHER3_2 ,A13        ,124     ,  1,5          ,28         ,2,19950225,1733, -38.1350,  12.6475,     5086,    196.7,  13.5850,  35.1820,2,  35.1780,2,    227.0,2,    217.6,3,     4.30,2,     7.80,2,     0.59,2,    2.805,2,    1.382,2,   2091.0,2,     -999,9,     -999,9,     -999,9,     -999,9,     -999,9,  13.5570
35A3CITHER3_2 ,A13        ,124     ,  1,6          ,27         ,2,19950225,1733, -38.1350,  12.6475,     5086,    394.6,  10.2250,  34.8140,2,  34.8090,3,    222.0,2,    214.7,3,     6.50,2,    15.40,2,     1.02,2,    2.447,2,    1.142,2,   2122.2,2,   2305.8,2,     -999,9,     -999,9,     -999,9,     -999,9,  10.1780
35A3CITHER3_2 ,A13        ,124     ,  1,7          ,26         ,2,19950225,1733, -38.1350,  12.6475,     5086,    595.0,   7.0060,  34.4570,2,  34.4540,2,    218.3,2,    218.0,2,    10.60,2,    23.20,2,     1.46,2,    2.460,2,    1.144,2,   2149.7,2,     -999,9,     -999,9,     -999,9,     -999,9,     -999,9,   6.9490
35A3CITHER3_2 ,A13        ,124     ,  1,8          ,25         ,2,19950225,1733, -38.1350,  12.6475,     5086,    719.1,   5.1030,  34.2870,2,  34.2850,2,    234.6,2,    235.6,2,    14.10,2,    26.40,2,     1.72,3,    2.522,2,    0.993,2,   2156.3,2,     -999,9,     -999,9,     -999,9,     -999,9,     -999,9,   5.0440
35A3CITHER3_2 ,A13        ,124     ,  1,9          ,24         ,2,19950225,1733, -38.1350,  12.6475,     5086,    796.0,   4.6360,  34.2880,2,  34.2850,2,    230.7,2,    231.0,2,    18.60,2,    27.50,2,     1.82,2,    2.011,2,    0.899,2,   2166.5,2,   2291.8,2,     -999,9,     -999,9,     -999,9,     -999,9,   4.5730
35A3CITHER3_2 ,A13        ,124     ,  1,10         ,23         ,2,19950225,1733, -38.1350,  12.6475,     5086,    996.7,   3.6660,  34.3170,2,  34.3130,2,    219.4,2,    217.4,2,    29.40,2,    30.10,2,     2.02,2,    1.259,2,    0.564,2,   2191.9,2,     -999,9,     -999,9,     -999,9,     -999,9,     -999,9,   3.5930
35A3CITHER3_2 ,A13        ,124     ,  1,11         ,22         ,2,19950225,1733, -38.1350,  12.6475,     5086,   1245.8,   2.9500,  34.4170,2,  34.4150,2,    196.7,2,    195.2,2,    45.30,2,    32.10,2,     2.13,2,    0.193,2,    0.074,2,   2220.3,2,     -999,9,     -999,9,     -999,9,     -999,9,     -999,9,   2.8640
35A3CITHER3_2 ,A13        ,124     ,  1,12         ,21         ,2,19950225,1733, -38.1350,  12.6475,     5086,   1346.3,   3.0580,  34.5090,2,  34.5080,2,    182.7,2,    179.7,2,    55.40,2,    32.70,2,     2.19,2,    0.259,2,    0.131,2,   2232.0,2,   2311.7,2,     -999,9,     -999,9,     -999,9,     -999,9,   2.9620
35A3CITHER3_2 ,A13        ,124     ,  1,13         ,20         ,2,19950225,1733, -38.1350,  12.6475,     5086,   1494.2,   2.9090,  34.5940,2,  34.5930,2,    178.1,2,    176.6,2,    63.80,2,    31.90,2,     2.13,2,    0.125,2,    0.056,2,   2237.8,2,     -999,9,     -999,9,     -999,9,     -999,9,     -999,9,   2.8030
35A3CITHER3_2 ,A13        ,124     ,  1,14         ,19         ,2,19950225,1733, -38.1350,  12.6475,     5086,   1796.9,   2.7720,  34.7140,2,  34.7120,2,    189.2,2,    189.9,2,    59.40,2,    29.20,2,     1.94,2,    0.029,2,    0.019,2,   2228.9,2,     -999,9,     -999,9,     -999,9,     -999,9,     -999,9,   2.6410
35A3CITHER3_2 ,A13        ,124     ,  1,15         ,18         ,2,19950225,1733, -38.1350,  12.6475,     5086,   1996.1,   2.7010,  34.7700,2,  34.7680,2,    200.3,2,    200.3,2,    56.90,2,    27.60,2,     1.83,2,    0.011,2,    0.003,2,   2221.5,2,     -999,9,     -999,9,     -999,9,     -999,9,     -999,9,   2.5540
35A3CITHER3_2 ,A13        ,124     ,  1,16         ,17         ,2,19950225,1733, -38.1350,  12.6475,     5086,   2194.2,   2.6500,  34.8070,2,  34.8060,2,    209.3,2,    210.1,2,    53.30,2,    26.40,2,     1.74,2,    0.006,2,    0.004,2,   2213.1,2,   2336.2,2,     -999,9,     -999,9,     -999,9,     -999,9,   2.4860
35A3CITHER3_2 ,A13        ,124     ,  1,17         ,16         ,2,19950225,1733, -38.1350,  12.6475,     5086,   2396.7,   2.5790,  34.8280,2,  34.8220,3,    217.3,2,    217.7,2,    52.20,2,    25.40,2,     1.66,2,    0.006,2,     -999,9,     -999,9,     -999,9,     -999,9,     -999,9,     -999,9,     -999,9,   2.3970
35A3CITHER3_2 ,A13        ,124     ,  1,18         ,15         ,2,19950225,1733, -38.1350,  12.6475,     5086,   2396.7,   2.5760,  34.8290,2,  34.8260,2,    217.3,2,    218.1,2,    51.00,2,    25.10,2,     1.64,2,    0.002,2,    0.007,2,   2209.7,2,     -999,9,     -999,9,     -999,9,     -999,9,     -999,9,   2.3940
35A3CITHER3_2 ,A13        ,124     ,  1,19         ,14         ,2,19950225,1733, -38.1350,  12.6475,     5086,   2597.0,   2.5130,  34.8410,2,  34.8350,3,    222.4,2,    222.5,2,    51.40,2,    24.10,2,     1.60,2,    0.002,2,    0.005,2,   2206.8,2,     -999,9,     -999,9,     -999,9,     -999,9,     -999,9,   2.3130
35A3CITHER3_2 ,A13        ,124     ,  1,20         ,13         ,2,19950225,1733, -38.1350,  12.6475,     5086,   2796.4,   2.4060,  34.8440,2,  34.8430,2,    226.2,2,    225.9,2,    52.90,2,    24.60,2,     1.60,2,    0.004,2,    0.003,2,   2206.6,2,   2342.9,2,     -999,9,     -999,9,     -999,9,     -999,9,   2.1890
35A3CITHER3_2 ,A13        ,124     ,  1,21         ,12         ,2,19950225,1733, -38.1350,  12.6475,     5086,   2995.0,   2.3430,  34.8470,2,  34.8440,2,    227.4,2,    227.5,2,    55.00,2,    24.30,2,     1.60,2,    0.000,2,    0.001,2,   2207.8,2,     -999,9,     -999,9,     -999,9,     -999,9,     -999,9,   2.1070
35A3CITHER3_2 ,A13        ,124     ,  1,22         ,11         ,2,19950225,1733, -38.1350,  12.6475,     5086,   3195.7,   2.2900,  34.8500,2,     -999,9,    229.2,2,    235.5,2,     -999,9,     -999,9,     -999,9,    0.002,2,    0.002,2,   2207.9,2,     -999,9,     -999,9,     -999,9,     -999,9,     -999,9,   2.0350
35A3CITHER3_2 ,A13        ,124     ,  1,23         ,10         ,2,19950225,1733, -38.1350,  12.6475,     5086,   3396.1,   2.1970,  34.8450,2,  34.8410,2,    228.6,2,    228.5,2,    59.80,2,    24.40,2,     1.62,2,    0.000,2,    0.008,2,   2211.7,2,     -999,9,     -999,9,     -999,9,     -999,9,     -999,9,   1.9230
35A3CITHER3_2 ,A13        ,124     ,  1,24         ,9          ,2,19950225,1733, -38.1350,  12.6475,     5086,   3597.6,   2.0440,  34.8320,2,  34.8290,2,    226.3,2,    226.7,2,    67.30,2,    25.20,2,     1.66,2,    0.002,2,     -999,9,   2217.6,2,   2350.7,2,     -999,9,     -999,9,     -999,9,     -999,9,   1.7530
35A3CITHER3_2 ,A13        ,124     ,  1,25         ,8          ,2,19950225,1733, -38.1350,  12.6475,     5086,   3794.9,   1.8260,  34.8090,2,  34.8070,2,    223.5,2,    223.7,2,    75.40,2,    26.20,2,     1.73,2,     -999,9,     -999,9,   2226.0,2,     -999,9,     -999,9,     -999,9,     -999,9,     -999,9,   1.5200
35A3CITHER3_2 ,A13        ,124     ,  1,26         ,7          ,2,19950225,1733, -38.1350,  12.6475,     5086,   3997.8,   1.5350,  34.7800,2,  34.7780,2,    220.4,2,    220.4,2,    86.80,2,    27.70,2,     1.84,2,     -999,9,     -999,9,   2236.1,2,     -999,9,     -999,9,     -999,9,     -999,9,     -999,9,   1.2150
35A3CITHER3_2 ,A13        ,124     ,  1,27         ,6          ,2,19950225,1733, -38.1350,  12.6475,     5086,   4197.8,   1.2980,  34.7590,2,  34.7440,3,    218.2,2,    219.1,2,    96.00,2,    28.70,2,     1.90,2,    0.006,2,    0.008,2,   2244.6,2,     -999,9,     -999,9,     -999,9,     -999,9,     -999,9,   0.9630
35A3CITHER3_2 ,A13        ,124     ,  1,28         ,5          ,2,19950225,1733, -38.1350,  12.6475,     5086,   4394.0,   1.1720,  34.7450,2,  34.7570,3,    217.5,2,    217.4,2,   101.50,2,    29.50,2,     1.92,2,    0.006,2,    0.006,2,   2248.7,2,   2367.3,2,     -999,9,     -999,9,     -999,9,     -999,9,   0.8190
35A3CITHER3_2 ,A13        ,124     ,  1,29         ,4          ,2,19950225,1733, -38.1350,  12.6475,     5086,   4595.3,   1.1350,  34.7390,2,  34.7370,2,    217.1,2,    217.3,2,   103.60,2,    29.50,2,     1.98,2,    0.009,2,    0.005,2,   2251.0,2,     -999,9,     -999,9,     -999,9,     -999,9,     -999,9,   0.7600
35A3CITHER3_2 ,A13        ,124     ,  1,30         ,3          ,2,19950225,1733, -38.1350,  12.6475,     5086,   4796.9,   1.1240,  34.7380,2,  34.7360,2,    217.0,2,    217.0,2,   105.10,2,    29.80,2,     1.97,2,    0.007,2,    0.008,2,   2252.3,2,     -999,9,     -999,9,     -999,9,     -999,9,     -999,9,   0.7260
35A3CITHER3_2 ,A13        ,124     ,  1,31         ,2          ,2,19950225,1733, -38.1350,  12.6475,     5086,   4999.1,   1.1200,  34.7360,2,  34.7360,2,    217.3,2,    217.9,2,   106.50,2,    29.80,2,     2.02,2,    0.014,2,    0.008,2,   2252.5,2,     -999,9,     -999,9,     -999,9,     -999,9,     -999,9,   0.6980
35A3CITHER3_2 ,A13        ,124     ,  1,32         ,1          ,2,19950225,1733, -38.1350,  12.6475,     5086,   5143.8,   1.1190,  34.7330,2,  34.7350,2,    215.4,2,    216.8,2,   106.70,2,    30.00,2,     2.02,2,    0.018,2,    0.011,2,   2252.0,2,   2374.4,2,     -999,9,     -999,9,     -999,9,     -999,9,   0.6800