BOTTLE,20211216CCHDHYDRO
EXPOCODE,SECT_ID,STNNBR,CASTNO,SAMPNO,BTLNBR,BTLNBR_FLAG_W,DATE,TIME,LATITUDE,LONGITUDE,DEPTH,CTDPRS,CTDTMP,CTDSAL,CTDSAL_FLAG_W,SALNTY,SALNTY_FLAG_W,CTDOXY,CTDOXY_FLAG_W,OXYGEN,OXYGEN_FLAG_W,SILCAT,SILCAT_FLAG_W,NITRAT,NITRAT_FLAG_W,PHSPHT,PHSPHT_FLAG_W,CFC-11,CFC-11_FLAG_W,CFC-12,CFC-12_FLAG_W,TCARBN,TCARBN_FLAG_W,ALKALI,ALKALI_FLAG_W,TRITUM,TRITUM_FLAG_W,HELIUM,HELIUM_FLAG_W,DELHE3,DELHE3_FLAG_W,NEON,NEON_FLAG_W,THETA
,,,,,,,,,,,METERS,DBAR,DEG C,PSS-78,,PSS-78,,UMOL/KG,,UMOL/KG,,UMOL/KG,,UMOL/KG,,UMOL/KG,,PMOL/KG,,PMOL/KG,,UMOL/KG,,UMOL/KG,,TU,,NMOL/KG,,PERCNT,,NMOL/KG,,DEG C
35A3CITHER3_2 ,A13        ,118     ,  1,1          ,32         ,2,19950224,0246, -36.1162,  15.4495,     4756,      3.6,  21.2990,  35.5590,2,  35.5590,2,    222.5,2,    223.4,2,     3.40,2,     0.00,2,     0.10,2,    2.098,2,    1.111,2,   2009.7,2,   2346.9,2,     -999,9,     -999,9,     -999,9,     -999,9,  21.2980
35A3CITHER3_2 ,A13        ,118     ,  1,2          ,31         ,2,19950224,0246, -36.1162,  15.4495,     4756,     45.4,  20.5580,  35.5260,2,  35.4970,3,    214.8,2,    222.6,3,     4.10,2,     0.30,2,     0.12,2,    2.118,2,    1.102,2,   2017.7,2,     -999,9,     -999,9,     -999,9,     -999,9,     -999,9,  20.5490
35A3CITHER3_2 ,A13        ,118     ,  1,3          ,30         ,2,19950224,0246, -36.1162,  15.4495,     4756,    120.7,  15.5590,  35.4790,2,  35.4740,2,    229.0,2,    225.7,2,     5.00,2,     4.00,2,     0.37,2,    2.699,2,    1.348,2,   2069.2,2,     -999,9,     -999,9,     -999,9,     -999,9,     -999,9,  15.5400
35A3CITHER3_2 ,A13        ,118     ,  1,4          ,29         ,2,19950224,0246, -36.1162,  15.4495,     4756,    196.7,  13.3430,  35.1540,2,  35.1530,2,    222.5,2,    219.6,2,     5.30,2,     8.00,2,     0.60,2,    2.769,2,    1.336,2,   2092.4,2,   2331.9,2,     -999,9,     -999,9,     -999,9,     -999,9,  13.3150
35A3CITHER3_2 ,A13        ,118     ,  1,5          ,28         ,2,19950224,0246, -36.1162,  15.4495,     4756,    296.3,  11.9120,  35.0220,2,  35.0210,2,    213.7,2,    216.6,2,     5.50,2,    11.50,2,     0.81,2,    2.670,2,    1.280,2,   2108.8,2,     -999,9,     -999,9,     -999,9,     -999,9,     -999,9,  11.8730
35A3CITHER3_2 ,A13        ,118     ,  1,6          ,27         ,2,19950224,0246, -36.1162,  15.4495,     4756,    394.6,  10.5110,  34.8420,2,  34.8380,2,    222.0,2,    220.5,2,     6.30,2,    14.20,3,     1.00,2,    2.643,2,    1.242,2,   2116.4,2,   2305.6,2,     -999,9,     -999,9,     -999,9,     -999,9,  10.4630
35A3CITHER3_2 ,A13        ,118     ,  1,7          ,26         ,2,19950224,0246, -36.1162,  15.4495,     4756,    596.4,   7.5180,  34.5470,2,  34.5470,2,    208.3,2,    205.6,2,    15.70,3,    23.20,2,     1.53,2,    1.891,2,    0.886,2,   2154.0,2,     -999,9,     -999,9,     -999,9,     -999,9,     -999,9,   7.4590
35A3CITHER3_2 ,A13        ,118     ,  1,8          ,25         ,2,19950224,0246, -36.1162,  15.4495,     4756,    746.3,   5.2220,  34.3120,2,  34.3130,2,    229.5,2,    231.6,2,    18.20,2,    26.80,2,     1.78,3,    2.504,2,    1.130,2,   2161.2,2,   2280.6,2,     -999,9,     -999,9,     -999,9,     -999,9,   5.1600
35A3CITHER3_2 ,A13        ,118     ,  1,9          ,24         ,2,19950224,0246, -36.1162,  15.4495,     4756,    816.5,   5.2140,  34.4190,2,  34.4200,2,    206.2,2,    204.0,2,    29.10,3,    28.70,3,     1.87,2,    1.373,2,    0.644,2,   2185.2,2,     -999,9,     -999,9,     -999,9,     -999,9,     -999,9,   5.1460
35A3CITHER3_2 ,A13        ,118     ,  1,10         ,23         ,2,19950224,0246, -36.1162,  15.4495,     4756,    996.0,   4.0470,  34.4110,2,  34.4080,2,    196.9,2,    194.4,2,    40.20,2,    31.20,2,     2.26,3,    0.900,2,    0.427,2,   2206.7,2,   2305.4,2,     -999,9,     -999,9,     -999,9,     -999,9,   3.9710
35A3CITHER3_2 ,A13        ,118     ,  1,11         ,22         ,2,19950224,0246, -36.1162,  15.4495,     4756,   1196.2,   3.8300,  34.5740,2,  34.5750,2,    164.2,2,    161.2,2,    60.00,2,    33.00,2,     2.20,2,    0.210,2,    0.105,2,   2242.8,2,     -999,9,     -999,9,     -999,9,     -999,9,     -999,9,   3.7390
35A3CITHER3_2 ,A13        ,118     ,  1,13         ,20         ,2,19950224,0246, -36.1162,  15.4495,     4756,   1393.8,   3.1500,  34.6280,2,  34.6180,3,    168.7,2,    168.7,2,    67.40,3,    32.50,2,     2.13,2,    0.100,2,    0.057,2,   2245.7,2,   2320.8,2,     -999,9,     -999,9,     -999,9,     -999,9,   3.0490
35A3CITHER3_2 ,A13        ,118     ,  1,12         ,21         ,2,19950224,0246, -36.1162,  15.4495,     4756,   1393.9,   3.1630,  34.6200,2,  34.6180,2,    168.7,2,    168.5,2,    71.50,3,    32.50,2,     2.18,2,    0.104,2,    0.055,2,     -999,9,     -999,9,     -999,9,     -999,9,     -999,9,     -999,9,   3.0620
35A3CITHER3_2 ,A13        ,118     ,  1,14         ,19         ,2,19950224,0246, -36.1162,  15.4495,     4756,   1595.0,   2.8030,  34.6960,2,  34.6950,2,    179.9,2,    182.7,2,    65.10,2,    30.50,2,     2.03,2,    0.042,2,    0.021,2,   2236.8,2,     -999,9,     -999,9,     -999,9,     -999,9,     -999,9,   2.6890
35A3CITHER3_2 ,A13        ,118     ,  1,15         ,18         ,2,19950224,0246, -36.1162,  15.4495,     4756,   1795.4,   2.7100,  34.7580,2,  34.7560,2,    197.8,2,    198.3,2,    59.10,2,    28.40,2,     1.84,2,    0.018,2,    0.010,2,   2223.4,2,   2334.5,2,     -999,9,     -999,9,     -999,9,     -999,9,   2.5800
35A3CITHER3_2 ,A13        ,118     ,  1,16         ,17         ,2,19950224,0246, -36.1162,  15.4495,     4756,   1995.0,   2.6830,  34.8070,2,  34.8060,2,    209.5,2,    209.6,2,    54.20,2,    26.70,2,     1.54,2,    0.005,2,    0.004,2,   2214.2,2,     -999,9,     -999,9,     -999,9,     -999,9,     -999,9,   2.5360
35A3CITHER3_2 ,A13        ,118     ,  1,17         ,16         ,2,19950224,0246, -36.1162,  15.4495,     4756,   2195.9,   2.6130,  34.8280,2,  34.8270,2,    216.9,2,    217.0,2,    52.80,2,    25.70,2,     1.68,2,    0.002,2,     -999,9,   2209.9,2,   2340.8,2,     -999,9,     -999,9,     -999,9,     -999,9,   2.4490
35A3CITHER3_2 ,A13        ,118     ,  1,18         ,15         ,2,19950224,0246, -36.1162,  15.4495,     4756,   2396.1,   2.5120,  34.8370,2,     -999,9,    221.3,2,    227.7,2,     -999,9,     -999,9,     -999,9,    0.001,2,   -0.002,2,   2208.2,2,     -999,9,     -999,9,     -999,9,     -999,9,     -999,9,   2.3310
35A3CITHER3_2 ,A13        ,118     ,  1,19         ,14         ,2,19950224,0246, -36.1162,  15.4495,     4756,   2597.6,   2.4390,  34.8460,2,  34.8460,2,    225.3,2,    226.9,2,    53.90,2,    25.00,2,     1.51,2,   -0.002,2,    0.004,2,   2207.0,2,   2342.6,2,     -999,9,     -999,9,     -999,9,     -999,9,   2.2400
35A3CITHER3_2 ,A13        ,118     ,  1,20         ,13         ,2,19950224,0246, -36.1162,  15.4495,     4756,   2794.8,   2.3690,  34.8500,2,  34.8490,2,    228.1,2,    226.9,2,    55.20,2,    24.90,2,     1.60,2,    0.000,2,   -0.002,2,   2205.7,2,     -999,9,     -999,9,     -999,9,     -999,9,     -999,9,   2.1530
35A3CITHER3_2 ,A13        ,118     ,  1,22         ,11         ,2,19950224,0246, -36.1162,  15.4495,     4756,   2995.3,   2.2940,  34.8510,2,  34.8490,2,    229.7,2,    228.5,2,    56.60,2,    24.50,2,     1.62,2,    0.003,2,    0.003,2,   2207.3,2,   2346.5,2,     -999,9,     -999,9,     -999,9,     -999,9,   2.0590
35A3CITHER3_2 ,A13        ,118     ,  1,21         ,12         ,2,19950224,0246, -36.1162,  15.4495,     4756,   2996.9,   2.2930,  34.8510,2,  34.8490,2,    229.7,2,    228.7,2,    56.40,2,    24.70,2,     1.60,2,   -0.001,2,   -0.003,2,     -999,9,     -999,9,     -999,9,     -999,9,     -999,9,     -999,9,   2.0580
35A3CITHER3_2 ,A13        ,118     ,  1,23         ,10         ,2,19950224,0246, -36.1162,  15.4495,     4756,   3196.1,   2.2010,  34.8460,2,  34.8450,2,    229.5,2,    228.3,2,    59.60,2,    25.00,2,     1.63,2,    0.001,2,     -999,9,   2211.8,2,     -999,9,     -999,9,     -999,9,     -999,9,     -999,9,   1.9480
35A3CITHER3_2 ,A13        ,118     ,  1,24         ,9          ,2,19950224,0246, -36.1162,  15.4495,     4756,   3396.2,   2.0860,  34.8380,2,  34.8380,2,    228.6,2,    226.6,2,    64.70,2,    25.40,2,     1.68,2,    0.000,2,    0.005,2,   2215.9,2,   2357.1,3,     -999,9,     -999,9,     -999,9,     -999,9,   1.8150
35A3CITHER3_2 ,A13        ,118     ,  1,25         ,8          ,2,19950224,0246, -36.1162,  15.4495,     4756,   3596.6,   1.8460,  34.8140,2,  34.8120,2,    225.3,2,    223.4,2,    75.00,2,    26.70,2,     1.73,2,    0.001,2,   -0.001,2,   2225.7,2,     -999,9,     -999,9,     -999,9,     -999,9,     -999,9,   1.5600
35A3CITHER3_2 ,A13        ,118     ,  1,26         ,7          ,2,19950224,0246, -36.1162,  15.4495,     4756,   3796.5,   1.5440,  34.7840,2,  34.7820,2,    221.3,2,    220.6,2,    87.10,2,    28.00,2,     1.86,2,    0.004,2,    0.004,2,   2023.2,4,   2355.6,2,     -999,9,     -999,9,     -999,9,     -999,9,   1.2450
35A3CITHER3_2 ,A13        ,118     ,  1,27         ,6          ,2,19950224,0246, -36.1162,  15.4495,     4756,   3996.3,   1.3100,  34.7610,2,  34.7600,2,    219.0,2,    219.3,2,    96.50,2,    29.10,2,     1.93,2,    0.010,2,    0.007,2,   2244.2,2,     -999,9,     -999,9,     -999,9,     -999,9,     -999,9,   0.9960
35A3CITHER3_2 ,A13        ,118     ,  1,28         ,5          ,2,19950224,0246, -36.1162,  15.4495,     4756,   4197.2,   1.1550,  34.7470,2,  34.7460,2,    217.7,2,    217.5,2,   102.40,2,    29.70,2,     1.92,2,    0.013,2,    0.009,2,   2248.1,2,   2369.4,2,     -999,9,     -999,9,     -999,9,     -999,9,   0.8240
35A3CITHER3_2 ,A13        ,118     ,  1,29         ,4          ,2,19950224,0246, -36.1162,  15.4495,     4756,   4398.5,   1.0800,  34.7400,2,  34.7340,2,    217.4,2,    217.0,2,   105.70,2,    30.10,2,     1.99,2,    0.012,2,    0.008,2,   2251.3,2,     -999,9,     -999,9,     -999,9,     -999,9,     -999,9,   0.7290
35A3CITHER3_2 ,A13        ,118     ,  1,30         ,3          ,2,19950224,0246, -36.1162,  15.4495,     4756,   4598.0,   1.0380,  34.7320,2,  34.7330,2,    217.6,2,    217.7,2,   108.00,2,    30.30,2,     2.02,2,    0.019,2,    0.011,2,   2252.4,2,   2373.7,2,     -999,9,     -999,9,     -999,9,     -999,9,   0.6660
35A3CITHER3_2 ,A13        ,118     ,  1,31         ,2          ,2,19950224,0246, -36.1162,  15.4495,     4756,   4698.2,   1.0150,  34.7310,2,  34.7300,2,    217.7,2,    218.0,2,   109.00,2,    30.50,2,     2.05,2,    0.024,2,    0.018,2,   2253.2,2,     -999,9,     -999,9,     -999,9,     -999,9,     -999,9,   0.6320
35A3CITHER3_2 ,A13        ,118     ,  1,32         ,1          ,2,19950224,0246, -36.1162,  15.4495,     4756,   4816.5,   0.9390,  34.7220,2,  34.7230,2,    217.7,2,    217.1,2,   111.40,2,    30.60,2,     2.05,2,    0.036,2,    0.025,2,   2254.8,2,   2372.6,2,     -999,9,     -999,9,     -999,9,     -999,9,   0.5450