BOTTLE,20211216CCHDHYDRO
EXPOCODE,SECT_ID,STNNBR,CASTNO,SAMPNO,BTLNBR,BTLNBR_FLAG_W,DATE,TIME,LATITUDE,LONGITUDE,DEPTH,CTDPRS,CTDTMP,CTDSAL,CTDSAL_FLAG_W,SALNTY,SALNTY_FLAG_W,CTDOXY,CTDOXY_FLAG_W,OXYGEN,OXYGEN_FLAG_W,SILCAT,SILCAT_FLAG_W,NITRAT,NITRAT_FLAG_W,PHSPHT,PHSPHT_FLAG_W,CFC-11,CFC-11_FLAG_W,CFC-12,CFC-12_FLAG_W,TCARBN,TCARBN_FLAG_W,ALKALI,ALKALI_FLAG_W,TRITUM,TRITUM_FLAG_W,HELIUM,HELIUM_FLAG_W,DELHE3,DELHE3_FLAG_W,NEON,NEON_FLAG_W,THETA
,,,,,,,,,,,METERS,DBAR,DEG C,PSS-78,,PSS-78,,UMOL/KG,,UMOL/KG,,UMOL/KG,,UMOL/KG,,UMOL/KG,,PMOL/KG,,PMOL/KG,,UMOL/KG,,UMOL/KG,,TU,,NMOL/KG,,PERCNT,,NMOL/KG,,DEG C
35A3CITHER3_2 ,A13        ,201     ,  1,1          ,32         ,2,19950318,1731,  -9.5002,   4.9985,     5373,      5.3,  28.8460,  36.0520,2,  36.0530,2,    195.9,2,    194.1,2,     3.90,2,     0.00,2,     0.09,2,    1.554,2,    0.854,2,   2009.4,2,   2367.7,2,     -999,9,     -999,9,     -999,9,     -999,9,  28.8450
35A3CITHER3_2 ,A13        ,201     ,  1,2          ,31         ,2,19950318,1731,  -9.5002,   4.9985,     5373,     46.0,  18.4340,  35.9320,2,  35.8300,3,    203.8,2,    148.1,3,     6.70,2,    12.30,2,     0.80,2,    1.497,2,    0.750,2,   2133.4,2,   2349.1,2,     -999,9,     -999,9,     -999,9,     -999,9,  18.4260
35A3CITHER3_2 ,A13        ,201     ,  1,3          ,30         ,2,19950318,1731,  -9.5002,   4.9985,     5373,    120.8,  13.5320,  35.3530,2,  35.3450,3,     76.5,2,     78.6,2,    10.70,2,    24.20,2,     1.47,2,    1.020,2,    0.510,2,   2194.3,2,     -999,9,     -999,9,     -999,9,     -999,9,     -999,9,  13.5150
35A3CITHER3_2 ,A13        ,201     ,  1,4          ,29         ,2,19950318,1731,  -9.5002,   4.9985,     5373,    196.0,  12.4520,  35.2140,2,  35.2130,2,     73.2,2,     74.8,2,    11.90,2,    26.00,2,     1.58,2,    0.798,2,    0.412,2,   2201.0,2,   2313.4,2,     -999,9,     -999,9,     -999,9,     -999,9,  12.4260
35A3CITHER3_2 ,A13        ,201     ,  1,5          ,28         ,2,19950318,1731,  -9.5002,   4.9985,     5373,    295.3,  10.7670,  35.0260,2,  35.0240,2,     36.7,2,     35.5,2,    15.40,2,    33.00,2,     2.00,2,    0.258,2,    0.151,2,   2238.0,2,     -999,9,     -999,9,     -999,9,     -999,9,     -999,9,  10.7310
35A3CITHER3_2 ,A13        ,201     ,  1,6          ,27         ,2,19950318,1731,  -9.5002,   4.9985,     5373,    436.4,   8.6600,  34.8050,2,  34.7980,3,     22.6,2,     21.9,2,    20.20,2,    38.60,2,     2.38,2,    0.068,2,    0.040,2,   2259.3,2,   2297.4,2,     -999,9,     -999,9,     -999,9,     -999,9,   8.6130
35A3CITHER3_2 ,A13        ,201     ,  1,7          ,26         ,2,19950318,1731,  -9.5002,   4.9985,     5373,    594.9,   6.2560,  34.5820,2,  34.5870,2,     53.9,2,     56.6,2,    26.20,2,    40.30,2,     2.58,2,    0.021,2,    0.053,2,   2256.5,2,     -999,9,     -999,9,     -999,9,     -999,9,     -999,9,   6.2020
35A3CITHER3_2 ,A13        ,201     ,  1,8          ,25         ,2,19950318,1731,  -9.5002,   4.9985,     5373,    795.5,   4.7710,  34.5060,2,  34.4900,3,    118.3,2,    119.4,2,    32.80,2,    36.80,2,     2.39,2,     -999,9,     -999,9,   2232.4,2,   2305.7,2,     -999,9,     -999,9,     -999,9,     -999,9,   4.7070
35A3CITHER3_2 ,A13        ,201     ,  1,9          ,24         ,2,19950318,1731,  -9.5002,   4.9985,     5373,    994.8,   4.2560,  34.5750,2,  34.5740,2,    136.0,2,    136.2,2,    35.60,2,    34.80,2,     2.27,2,    0.003,2,    0.003,2,   2230.7,2,     -999,9,     -999,9,     -999,9,     -999,9,     -999,9,   4.1790
35A3CITHER3_2 ,A13        ,201     ,  1,10         ,23         ,2,19950318,1731,  -9.5002,   4.9985,     5373,   1194.9,   4.0560,  34.7090,2,  34.6790,3,    162.5,2,    163.6,2,    33.40,2,    30.50,2,     2.00,2,    0.005,2,    0.004,2,   2212.9,2,     -999,9,     -999,9,     -999,9,     -999,9,     -999,9,   3.9630
35A3CITHER3_2 ,A13        ,201     ,  1,11         ,22         ,2,19950318,1731,  -9.5002,   4.9985,     5373,   1393.9,   3.9190,  34.8360,2,  34.8350,2,    195.0,2,    193.0,2,    29.00,2,    26.20,2,     1.65,2,    0.002,2,   -0.004,2,   2195.7,2,   2320.6,2,     -999,9,     -999,9,     -999,9,     -999,9,   3.8100
35A3CITHER3_2 ,A13        ,201     ,  1,12         ,21         ,2,19950318,1731,  -9.5002,   4.9985,     5373,   1596.1,   3.7670,  34.9110,2,  34.9120,2,    218.5,2,    217.0,2,    26.10,2,    22.70,2,     1.44,2,    0.001,2,    0.002,2,   2182.4,2,     -999,9,     -999,9,     -999,9,     -999,9,     -999,9,   3.6410
35A3CITHER3_2 ,A13        ,201     ,  1,13         ,20         ,2,19950318,1731,  -9.5002,   4.9985,     5373,   1795.6,   3.5550,  34.9290,2,  34.9290,2,    227.9,2,    226.2,2,    26.90,2,    22.30,2,     1.43,2,    0.002,2,    0.001,2,   2180.6,2,     -999,9,     -999,9,     -999,9,     -999,9,     -999,9,   3.4130
35A3CITHER3_2 ,A13        ,201     ,  1,14         ,19         ,2,19950318,1731,  -9.5002,   4.9985,     5373,   1995.2,   3.3430,  34.9300,2,  34.9310,2,    230.8,2,    229.3,2,    29.70,2,    21.60,2,     1.34,2,    0.001,2,    0.000,2,   2180.2,2,     -999,9,     -999,9,     -999,9,     -999,9,     -999,9,   3.1860
35A3CITHER3_2 ,A13        ,201     ,  1,15         ,18         ,2,19950318,1731,  -9.5002,   4.9985,     5373,   2197.4,   3.1440,  34.9310,2,  34.9300,2,    229.4,2,    227.5,2,    33.50,2,    21.80,2,     1.38,2,    0.005,2,    0.006,2,   2186.3,2,     -999,9,     -999,9,     -999,9,     -999,9,     -999,9,   2.9710
35A3CITHER3_2 ,A13        ,201     ,  1,16         ,17         ,2,19950318,1731,  -9.5002,   4.9985,     5373,   2396.7,   2.9670,  34.9240,2,  34.9250,2,    230.6,2,    228.9,2,    36.60,2,    22.00,2,     1.44,2,     -999,9,     -999,9,   2189.5,2,   2335.7,2,     -999,9,     -999,9,     -999,9,     -999,9,   2.7780
35A3CITHER3_2 ,A13        ,201     ,  1,17         ,16         ,2,19950318,1731,  -9.5002,   4.9985,     5373,   2596.3,   2.8160,  34.9180,2,  34.9180,2,    230.8,2,    229.5,2,    40.00,2,    22.00,2,     1.40,2,     -999,9,     -999,9,   2192.2,2,     -999,9,     -999,9,     -999,9,     -999,9,     -999,9,   2.6100
35A3CITHER3_2 ,A13        ,201     ,  1,18         ,15         ,2,19950318,1731,  -9.5002,   4.9985,     5373,   2796.5,   2.6920,  34.9130,2,  34.9130,2,    230.9,2,    229.5,2,    42.50,2,    21.90,2,     1.42,2,     -999,9,     -999,9,   2195.8,2,     -999,9,     -999,9,     -999,9,     -999,9,     -999,9,   2.4690
35A3CITHER3_2 ,A13        ,201     ,  1,19         ,14         ,2,19950318,1731,  -9.5002,   4.9985,     5373,   2996.0,   2.6110,  34.9080,2,  34.9070,2,    230.0,2,    229.6,2,    44.60,2,    21.80,2,     1.42,2,    0.001,2,    0.003,2,   2197.8,2,     -999,9,     -999,9,     -999,9,     -999,9,     -999,9,   2.3690
35A3CITHER3_2 ,A13        ,201     ,  1,20         ,13         ,2,19950318,1731,  -9.5002,   4.9985,     5373,   3194.5,   2.5280,  34.9040,2,  34.9030,2,    229.4,2,    229.0,2,    47.00,2,    22.20,2,     1.47,2,    0.002,2,    0.000,2,   2201.2,2,     -999,9,     -999,9,     -999,9,     -999,9,     -999,9,   2.2680
35A3CITHER3_2 ,A13        ,201     ,  1,21         ,12         ,2,19950318,1731,  -9.5002,   4.9985,     5373,   3396.6,   2.4590,  34.9000,2,  34.8970,2,    227.7,2,    227.7,2,    49.90,2,    22.50,2,     1.49,2,    0.000,2,    0.002,2,   2207.3,2,   2355.4,2,     -999,9,     -999,9,     -999,9,     -999,9,   2.1790
35A3CITHER3_2 ,A13        ,201     ,  1,22         ,11         ,2,19950318,1731,  -9.5002,   4.9985,     5373,   3596.3,   2.3830,  34.8940,2,  34.8730,3,    224.4,2,    225.4,2,    52.70,2,    22.60,2,     1.49,2,    0.002,2,    0.002,2,   2212.3,2,     -999,9,     -999,9,     -999,9,     -999,9,     -999,9,   2.0830
35A3CITHER3_2 ,A13        ,201     ,  1,23         ,10         ,2,19950318,1731,  -9.5002,   4.9985,     5373,   3797.7,   2.3390,  34.8890,2,  34.8850,2,    226.6,2,    227.9,2,    53.00,2,    22.40,2,     1.43,2,    0.002,2,    0.002,2,   2214.1,2,     -999,9,     -999,9,     -999,9,     -999,9,     -999,9,   2.0180
35A3CITHER3_2 ,A13        ,201     ,  1,24         ,9          ,2,19950318,1731,  -9.5002,   4.9985,     5373,   3995.2,   2.3300,  34.8870,2,  34.8830,2,    229.2,2,    230.1,2,    52.70,2,    22.00,2,     1.40,2,    0.001,2,    0.002,2,   2211.1,2,     -999,9,     -999,9,     -999,9,     -999,9,     -999,9,   1.9870
35A3CITHER3_2 ,A13        ,201     ,  1,25         ,8          ,2,19950318,1731,  -9.5002,   4.9985,     5373,   4197.4,   2.3330,  34.8860,2,  34.8730,3,    232.2,2,    232.3,2,    52.00,2,    22.00,2,     1.42,2,    0.004,2,     -999,9,   2207.6,2,     -999,9,     -999,9,     -999,9,     -999,9,     -999,9,   1.9670
35A3CITHER3_2 ,A13        ,201     ,  1,26         ,7          ,2,19950318,1731,  -9.5002,   4.9985,     5373,   4396.9,   2.3390,  34.8850,2,  34.8820,2,    233.7,2,    233.4,2,    52.30,2,    22.10,2,     1.42,2,    0.001,2,    0.001,2,   2208.6,2,   2356.8,2,     -999,9,     -999,9,     -999,9,     -999,9,   1.9490
35A3CITHER3_2 ,A13        ,201     ,  1,27         ,6          ,2,19950318,1731,  -9.5002,   4.9985,     5373,   4596.7,   2.3460,  34.8830,2,  34.8810,2,    234.8,2,    234.9,2,    52.60,2,    22.30,2,     1.45,2,    0.002,2,    0.001,2,   2208.2,2,     -999,9,     -999,9,     -999,9,     -999,9,     -999,9,   1.9320
35A3CITHER3_2 ,A13        ,201     ,  1,28         ,5          ,2,19950318,1731,  -9.5002,   4.9985,     5373,   4797.6,   2.3600,  34.8810,2,  34.8800,2,    235.8,2,    235.2,2,    52.60,2,    20.30,4,     1.28,4,    0.002,2,    0.001,2,   2207.5,2,     -999,9,     -999,9,     -999,9,     -999,9,     -999,9,   1.9210
35A3CITHER3_2 ,A13        ,201     ,  1,29         ,4          ,2,19950318,1731,  -9.5002,   4.9985,     5373,   4997.8,   2.3760,  34.8790,2,  34.8690,3,    236.5,2,    237.2,2,    52.60,2,    21.90,2,     1.37,2,    0.006,2,    0.001,2,   2205.5,2,     -999,9,     -999,9,     -999,9,     -999,9,     -999,9,   1.9110
35A3CITHER3_2 ,A13        ,201     ,  1,30         ,3          ,2,19950318,1731,  -9.5002,   4.9985,     5373,   5198.8,   2.3950,  34.8790,2,  34.8780,2,    236.8,2,    236.1,2,    52.90,2,    21.10,4,     1.27,4,    0.000,2,     -999,9,   2208.1,2,     -999,9,     -999,9,     -999,9,     -999,9,     -999,9,   1.9040
35A3CITHER3_2 ,A13        ,201     ,  1,31         ,2          ,2,19950318,1731,  -9.5002,   4.9985,     5373,   5398.7,   2.4210,  34.8790,2,  34.8780,2,    237.0,2,    236.3,2,    53.00,2,    22.20,2,     1.42,2,    0.000,2,     -999,9,   2208.7,2,     -999,9,     -999,9,     -999,9,     -999,9,     -999,9,   1.9030
35A3CITHER3_2 ,A13        ,201     ,  1,32         ,1          ,2,19950318,1731,  -9.5002,   4.9985,     5373,   5438.3,   2.4270,  34.8770,2,  34.8770,2,    236.4,2,    236.4,2,    52.70,2,    22.30,2,     1.39,2,    0.001,2,    0.002,2,   2207.0,2,   2358.5,2,     -999,9,     -999,9,     -999,9,     -999,9,   1.9030