BOTTLE,20211216CCHDHYDRO
EXPOCODE,SECT_ID,STNNBR,CASTNO,SAMPNO,BTLNBR,BTLNBR_FLAG_W,DATE,TIME,LATITUDE,LONGITUDE,DEPTH,CTDPRS,CTDTMP,CTDSAL,CTDSAL_FLAG_W,SALNTY,SALNTY_FLAG_W,CTDOXY,CTDOXY_FLAG_W,OXYGEN,OXYGEN_FLAG_W,SILCAT,SILCAT_FLAG_W,NITRAT,NITRAT_FLAG_W,PHSPHT,PHSPHT_FLAG_W,CFC-11,CFC-11_FLAG_W,CFC-12,CFC-12_FLAG_W,TCARBN,TCARBN_FLAG_W,ALKALI,ALKALI_FLAG_W,TRITUM,TRITUM_FLAG_W,HELIUM,HELIUM_FLAG_W,DELHE3,DELHE3_FLAG_W,NEON,NEON_FLAG_W,THETA
,,,,,,,,,,,METERS,DBAR,DEG C,PSS-78,,PSS-78,,UMOL/KG,,UMOL/KG,,UMOL/KG,,UMOL/KG,,UMOL/KG,,PMOL/KG,,PMOL/KG,,UMOL/KG,,UMOL/KG,,TU,,NMOL/KG,,PERCNT,,NMOL/KG,,DEG C
35A3CITHER3_2 ,A13        ,192     ,  1,1          ,32         ,2,19950316,1213, -13.4998,   5.0012,     5534,      5.4,  26.7510,  36.7590,2,  36.7590,2,    201.1,2,    201.5,2,     0.00,2,     0.00,2,     0.18,2,    1.719,2,    0.916,2,     -999,9,     -999,9,     -999,9,     -999,9,     -999,9,     -999,9,  26.7500
35A3CITHER3_2 ,A13        ,192     ,  1,2          ,31         ,2,19950316,1213, -13.4998,   5.0012,     5534,     45.7,  19.1530,  36.1150,2,  36.1010,3,    234.0,2,    212.5,3,     4.50,3,     5.90,2,     0.57,2,    2.098,2,    1.056,2,     -999,9,     -999,9,     -999,9,     -999,9,     -999,9,     -999,9,  19.1450
35A3CITHER3_2 ,A13        ,192     ,  1,3          ,30         ,2,19950316,1213, -13.4998,   5.0012,     5534,    120.6,  13.0130,  35.3140,2,  35.3210,3,     32.6,2,     33.9,2,    11.20,3,    30.00,2,     1.80,2,    0.955,2,    0.485,2,     -999,9,     -999,9,     -999,9,     -999,9,     -999,9,     -999,9,  12.9960
35A3CITHER3_2 ,A13        ,192     ,  1,4          ,29         ,2,19950316,1213, -13.4998,   5.0012,     5534,    196.0,  11.3860,  35.0980,2,  35.1060,3,     30.3,2,     30.3,2,    13.70,3,    32.90,2,     2.01,2,    0.422,2,    0.223,2,     -999,9,     -999,9,     -999,9,     -999,9,     -999,9,     -999,9,  11.3610
35A3CITHER3_2 ,A13        ,192     ,  1,5          ,28         ,2,19950316,1213, -13.4998,   5.0012,     5534,    395.3,   8.3500,  34.7610,2,  34.7610,2,     37.5,2,     42.2,3,    19.50,3,    37.60,2,     2.30,2,    0.101,2,    0.059,2,     -999,9,     -999,9,     -999,9,     -999,9,     -999,9,     -999,9,   8.3090
35A3CITHER3_2 ,A13        ,192     ,  1,6          ,27         ,2,19950316,1213, -13.4998,   5.0012,     5534,    596.3,   6.0830,  34.5650,2,  34.5690,2,     66.1,2,     67.6,2,    26.10,3,    39.80,2,     2.53,2,    0.015,2,    0.007,2,     -999,9,     -999,9,     -999,9,     -999,9,     -999,9,     -999,9,   6.0300
35A3CITHER3_2 ,A13        ,192     ,  1,7          ,26         ,2,19950316,1213, -13.4998,   5.0012,     5534,    795.6,   4.6660,  34.4970,2,  34.5000,2,    113.0,2,    115.9,2,    32.70,2,    37.30,2,     2.40,2,    0.005,2,     -999,9,     -999,9,     -999,9,     -999,9,     -999,9,     -999,9,     -999,9,   4.6030
35A3CITHER3_2 ,A13        ,192     ,  1,8          ,25         ,2,19950316,1213, -13.4998,   5.0012,     5534,    994.3,   4.1050,  34.5730,2,  34.5600,3,    140.1,2,    141.5,2,    36.00,2,    34.80,2,     2.28,2,    0.004,2,    0.002,2,     -999,9,     -999,9,     -999,9,     -999,9,     -999,9,     -999,9,   4.0290
35A3CITHER3_2 ,A13        ,192     ,  1,9          ,24         ,2,19950316,1213, -13.4998,   5.0012,     5534,   1194.5,   3.9020,  34.7140,2,  34.7030,3,    161.3,2,    161.9,2,    34.00,2,    31.00,2,     2.03,2,    0.005,2,    0.001,2,     -999,9,     -999,9,     -999,9,     -999,9,     -999,9,     -999,9,   3.8100
35A3CITHER3_2 ,A13        ,192     ,  1,10         ,23         ,2,19950316,1213, -13.4998,   5.0012,     5534,   1395.8,   3.8110,  34.8380,2,  34.8220,3,    186.7,2,    187.7,2,    29.80,2,    26.30,2,     1.77,2,    0.011,2,     -999,9,     -999,9,     -999,9,     -999,9,     -999,9,     -999,9,     -999,9,   3.7030
35A3CITHER3_2 ,A13        ,192     ,  1,11         ,22         ,2,19950316,1213, -13.4998,   5.0012,     5534,   1595.1,   3.7130,  34.8980,2,  34.9000,2,    206.5,2,    207.3,2,    27.50,2,    24.30,2,     1.61,2,    0.013,2,    0.006,2,     -999,9,     -999,9,     -999,9,     -999,9,     -999,9,     -999,9,   3.5880
35A3CITHER3_2 ,A13        ,192     ,  1,12         ,21         ,2,19950316,1213, -13.4998,   5.0012,     5534,   1795.2,   3.5360,  34.9180,2,  34.9190,2,    215.9,2,    214.8,2,    28.30,2,    23.30,2,     1.53,2,    0.004,2,   -0.002,2,     -999,9,     -999,9,     -999,9,     -999,9,     -999,9,     -999,9,   3.3950
35A3CITHER3_2 ,A13        ,192     ,  1,13         ,20         ,2,19950316,1213, -13.4998,   5.0012,     5534,   1995.4,   3.3650,  34.9250,2,  34.9250,2,    220.4,2,    219.5,2,     0.00,2,    22.50,2,     1.49,2,    0.002,2,    0.004,2,     -999,9,     -999,9,     -999,9,     -999,9,     -999,9,     -999,9,   3.2070
35A3CITHER3_2 ,A13        ,192     ,  1,14         ,19         ,2,19950316,1213, -13.4998,   5.0012,     5534,   2196.3,   3.1920,  34.9250,2,  34.9260,2,    223.0,2,    222.6,2,    34.20,2,    22.30,2,     1.48,2,    0.004,2,   -0.003,2,     -999,9,     -999,9,     -999,9,     -999,9,     -999,9,     -999,9,   3.0180
35A3CITHER3_2 ,A13        ,192     ,  1,15         ,18         ,2,19950316,1213, -13.4998,   5.0012,     5534,   2396.7,   3.0070,  34.9210,2,  34.9220,2,    227.4,2,    227.2,2,    35.70,2,    22.30,2,     1.44,2,    0.002,2,    0.004,2,     -999,9,     -999,9,     -999,9,     -999,9,     -999,9,     -999,9,   2.8170
35A3CITHER3_2 ,A13        ,192     ,  1,16         ,17         ,2,19950316,1213, -13.4998,   5.0012,     5534,   2596.6,   2.8690,  34.9170,2,  34.9170,2,    229.6,2,    229.5,2,    38.00,2,    22.50,2,     1.47,2,    0.007,2,    0.002,2,     -999,9,     -999,9,     -999,9,     -999,9,     -999,9,     -999,9,   2.6620
35A3CITHER3_2 ,A13        ,192     ,  1,17         ,16         ,2,19950316,1213, -13.4998,   5.0012,     5534,   2796.5,   2.7740,  34.9130,2,  34.9150,2,    229.5,2,    229.5,2,    40.40,2,    22.30,2,     1.45,2,    0.005,2,     -999,9,     -999,9,     -999,9,     -999,9,     -999,9,     -999,9,     -999,9,   2.5490
35A3CITHER3_2 ,A13        ,192     ,  1,18         ,15         ,2,19950316,1213, -13.4998,   5.0012,     5534,   2996.4,   2.6500,  34.9070,2,  34.9060,2,    228.9,2,    229.8,2,    43.20,2,    22.50,2,     1.47,2,    0.004,2,    0.001,2,     -999,9,     -999,9,     -999,9,     -999,9,     -999,9,     -999,9,   2.4070
35A3CITHER3_2 ,A13        ,192     ,  1,19         ,14         ,2,19950316,1213, -13.4998,   5.0012,     5534,   3196.2,   2.5590,  34.9020,2,  34.8960,3,    227.3,2,    228.2,2,    46.50,2,    22.60,2,     1.49,2,    0.002,2,    0.001,2,     -999,9,     -999,9,     -999,9,     -999,9,     -999,9,     -999,9,   2.2980
35A3CITHER3_2 ,A13        ,192     ,  1,20         ,13         ,2,19950316,1213, -13.4998,   5.0012,     5534,   3397.5,   2.4780,  34.8970,2,  34.8960,2,    226.0,2,    226.5,2,    49.70,2,    23.20,2,     1.52,2,    0.003,2,   -0.001,2,     -999,9,     -999,9,     -999,9,     -999,9,     -999,9,     -999,9,   2.1970
35A3CITHER3_2 ,A13        ,192     ,  1,21         ,12         ,2,19950316,1213, -13.4998,   5.0012,     5534,   3596.2,   2.4030,  34.8910,2,  34.8900,2,    225.8,2,    227.5,2,    51.80,2,    23.20,2,     1.53,2,    0.005,2,   -0.001,2,     -999,9,     -999,9,     -999,9,     -999,9,     -999,9,     -999,9,   2.1030
35A3CITHER3_2 ,A13        ,192     ,  1,22         ,11         ,2,19950316,1213, -13.4998,   5.0012,     5534,   3796.3,   2.3630,  34.8910,2,  34.8900,2,    227.7,2,    228.9,2,    52.10,2,    22.60,2,     1.50,2,    0.003,2,    0.004,2,     -999,9,     -999,9,     -999,9,     -999,9,     -999,9,     -999,9,   2.0420
35A3CITHER3_2 ,A13        ,192     ,  1,23         ,10         ,2,19950316,1213, -13.4998,   5.0012,     5534,   3996.1,   2.3520,  34.8900,2,  34.8890,2,    229.3,2,    230.7,2,    52.10,2,    22.70,2,     1.47,2,    0.004,2,    0.004,2,     -999,9,     -999,9,     -999,9,     -999,9,     -999,9,     -999,9,   2.0080
35A3CITHER3_2 ,A13        ,192     ,  1,24         ,9          ,2,19950316,1213, -13.4998,   5.0012,     5534,   4196.1,   2.3560,  34.8870,2,  34.8890,2,    230.1,2,    231.5,2,    52.20,2,    22.50,2,     1.45,2,    0.003,2,    0.001,2,     -999,9,     -999,9,     -999,9,     -999,9,     -999,9,     -999,9,   1.9890
35A3CITHER3_2 ,A13        ,192     ,  1,25         ,8          ,2,19950316,1213, -13.4998,   5.0012,     5534,   4396.5,   2.3650,  34.8870,2,  34.8860,2,    231.5,2,    232.5,2,    52.20,2,    22.50,2,     1.47,2,    0.006,2,     -999,9,     -999,9,     -999,9,     -999,9,     -999,9,     -999,9,     -999,9,   1.9740
35A3CITHER3_2 ,A13        ,192     ,  1,26         ,7          ,2,19950316,1213, -13.4998,   5.0012,     5534,   4597.5,   2.3750,  34.8860,2,  34.8850,2,    232.2,2,    233.3,2,    52.20,2,    22.10,2,     1.45,2,    0.005,2,    0.001,2,     -999,9,     -999,9,     -999,9,     -999,9,     -999,9,     -999,9,   1.9600
35A3CITHER3_2 ,A13        ,192     ,  1,27         ,6          ,2,19950316,1213, -13.4998,   5.0012,     5534,   4797.8,   2.3880,  34.8840,2,  34.8840,2,    233.1,2,    233.9,2,    52.50,2,    22.40,2,     1.45,2,    0.002,2,    0.003,2,     -999,9,     -999,9,     -999,9,     -999,9,     -999,9,     -999,9,   1.9480
35A3CITHER3_2 ,A13        ,192     ,  1,28         ,5          ,2,19950316,1213, -13.4998,   5.0012,     5534,   4997.1,   2.4020,  34.8820,2,  34.8840,2,    233.8,2,    234.4,2,    52.70,2,    19.90,3,     1.37,2,    0.005,2,   -0.001,2,     -999,9,     -999,9,     -999,9,     -999,9,     -999,9,     -999,9,   1.9360
35A3CITHER3_2 ,A13        ,192     ,  1,29         ,4          ,2,19950316,1213, -13.4998,   5.0012,     5534,   5198.4,   2.4210,  34.8830,2,  34.8820,2,    234.2,2,    234.7,2,    52.50,2,    21.80,3,     1.42,2,    0.002,2,     -999,9,     -999,9,     -999,9,     -999,9,     -999,9,     -999,9,     -999,9,   1.9290
35A3CITHER3_2 ,A13        ,192     ,  1,30         ,3          ,2,19950316,1213, -13.4998,   5.0012,     5534,   5400.9,   2.4450,  34.8800,2,  34.8840,2,    234.5,2,    234.7,2,    52.70,2,    20.80,3,     1.39,2,    0.001,2,    0.005,2,     -999,9,     -999,9,     -999,9,     -999,9,     -999,9,     -999,9,   1.9260
35A3CITHER3_2 ,A13        ,192     ,  1,31         ,2          ,2,19950316,1213, -13.4998,   5.0012,     5534,   5500.4,   2.4560,  34.8800,2,  34.8810,2,    234.7,2,    234.8,2,    52.80,2,    22.40,2,     1.45,2,    0.004,2,    0.008,2,     -999,9,     -999,9,     -999,9,     -999,9,     -999,9,     -999,9,   1.9230
35A3CITHER3_2 ,A13        ,192     ,  1,32         ,1          ,2,19950316,1213, -13.4998,   5.0012,     5534,   5605.2,   2.4690,  34.8800,2,  34.8820,2,    233.4,2,    235.6,2,    52.80,2,    21.80,3,     1.41,2,    0.002,2,    0.001,2,     -999,9,     -999,9,     -999,9,     -999,9,     -999,9,     -999,9,   1.9220