BOTTLE,20211216CCHDHYDRO
EXPOCODE,SECT_ID,STNNBR,CASTNO,SAMPNO,BTLNBR,BTLNBR_FLAG_W,DATE,TIME,LATITUDE,LONGITUDE,DEPTH,CTDPRS,CTDTMP,CTDSAL,CTDSAL_FLAG_W,SALNTY,SALNTY_FLAG_W,CTDOXY,CTDOXY_FLAG_W,OXYGEN,OXYGEN_FLAG_W,SILCAT,SILCAT_FLAG_W,NITRAT,NITRAT_FLAG_W,PHSPHT,PHSPHT_FLAG_W,CFC-11,CFC-11_FLAG_W,CFC-12,CFC-12_FLAG_W,TCARBN,TCARBN_FLAG_W,ALKALI,ALKALI_FLAG_W,TRITUM,TRITUM_FLAG_W,HELIUM,HELIUM_FLAG_W,DELHE3,DELHE3_FLAG_W,NEON,NEON_FLAG_W,THETA
,,,,,,,,,,,METERS,DBAR,DEG C,PSS-78,,PSS-78,,UMOL/KG,,UMOL/KG,,UMOL/KG,,UMOL/KG,,UMOL/KG,,PMOL/KG,,PMOL/KG,,UMOL/KG,,UMOL/KG,,TU,,NMOL/KG,,PERCNT,,NMOL/KG,,DEG C
35A3CITHER3_2 ,A13        ,220     ,  1,1          ,26         ,2,19950323,0652,  -1.4025,   2.7330,     3424,      5.1,  29.2370,  34.3890,2,  34.3880,2,    196.6,2,    195.3,2,     3.00,2,     0.00,2,     0.02,2,    1.551,2,    0.833,2,   1899.9,2,   2255.2,2,     -999,9,     -999,9,     -999,9,     -999,9,  29.2360
35A3CITHER3_2 ,A13        ,220     ,  1,2          ,25         ,2,19950323,0652,  -1.4025,   2.7330,     3424,     46.4,  24.0460,  36.0930,2,  36.0670,3,    198.3,2,    180.8,3,     3.40,2,     0.70,2,     0.23,2,    1.682,2,    0.863,2,   2075.2,2,   2365.4,2,     -999,9,     -999,9,     -999,9,     -999,9,  24.0360
35A3CITHER3_2 ,A13        ,220     ,  1,3          ,24         ,2,19950323,0652,  -1.4025,   2.7330,     3424,    121.4,  15.5300,  35.6090,2,  35.6010,3,    142.5,2,    146.4,3,     6.60,2,    14.00,2,     0.92,3,    1.636,2,    0.798,2,   2143.3,2,   2337.0,2,     -999,9,     -999,9,     -999,9,     -999,9,  15.5110
35A3CITHER3_2 ,A13        ,220     ,  1,4          ,23         ,2,19950323,0652,  -1.4025,   2.7330,     3424,    195.8,  14.3830,  35.4600,2,  35.4350,3,    120.8,2,    103.6,3,     8.80,2,    20.70,2,     1.29,3,    1.208,2,    0.686,2,   2177.9,2,   2328.1,2,     -999,9,     -999,9,     -999,9,     -999,9,  14.3540
35A3CITHER3_2 ,A13        ,220     ,  1,5          ,22         ,2,19950323,0652,  -1.4025,   2.7330,     3424,    315.8,  10.4740,  35.0020,2,  34.9960,3,     55.8,2,     54.2,2,    14.60,2,    32.30,2,     1.92,2,    0.377,2,    0.202,2,   2230.4,2,     -999,9,     -999,9,     -999,9,     -999,9,     -999,9,  10.4360
35A3CITHER3_2 ,A13        ,220     ,  1,6          ,21         ,2,19950323,0652,  -1.4025,   2.7330,     3424,    394.8,   8.6900,  34.7980,2,  34.7960,2,     72.0,2,     75.2,3,    17.60,2,    33.80,2,     2.04,2,    0.238,2,    0.137,2,   2228.9,2,   2300.3,2,     -999,9,     -999,9,     -999,9,     -999,9,   8.6480
35A3CITHER3_2 ,A13        ,220     ,  1,7          ,20         ,2,19950323,0652,  -1.4025,   2.7330,     3424,    544.2,   6.5210,  34.5790,2,  34.5790,2,    125.7,2,    124.6,2,    22.40,2,    33.20,2,     2.09,2,    0.188,2,    0.098,2,   2213.1,2,     -999,9,     -999,9,     -999,9,     -999,9,     -999,9,   6.4710
35A3CITHER3_2 ,A13        ,220     ,  1,8          ,19         ,2,19950323,0652,  -1.4025,   2.7330,     3424,    694.2,   5.4010,  34.5100,2,  34.5090,2,    141.9,2,    141.3,2,    27.00,2,    34.10,2,     2.21,2,    0.094,2,    0.054,2,   2215.9,2,   2288.4,2,     -999,9,     -999,9,     -999,9,     -999,9,   5.3430
35A3CITHER3_2 ,A13        ,220     ,  1,9          ,18         ,2,19950323,0652,  -1.4025,   2.7330,     3424,    796.6,   4.9610,  34.5140,2,  34.5110,2,    138.4,2,    138.1,2,    30.10,2,    34.80,2,     2.25,2,    0.021,2,    0.020,2,   2221.3,2,     -999,9,     -999,9,     -999,9,     -999,9,     -999,9,   4.8960
35A3CITHER3_2 ,A13        ,220     ,  1,10         ,17         ,2,19950323,0652,  -1.4025,   2.7330,     3424,    994.8,   4.4330,  34.6350,2,  34.6380,2,    158.1,2,    159.0,2,    30.90,2,    33.60,2,     2.09,2,    0.010,2,    0.010,2,   2215.6,2,   2299.5,2,     -999,9,     -999,9,     -999,9,     -999,9,   4.3540
35A3CITHER3_2 ,A13        ,220     ,  1,11         ,16         ,2,19950323,0652,  -1.4025,   2.7330,     3424,   1194.4,   4.4480,  34.7970,2,  34.7990,2,    177.0,2,    178.1,2,    26.50,2,    27.90,2,     1.83,2,    0.008,2,    0.010,2,   2202.8,2,     -999,9,     -999,9,     -999,9,     -999,9,     -999,9,   4.3510
35A3CITHER3_2 ,A13        ,220     ,  1,12         ,15         ,2,19950323,0652,  -1.4025,   2.7330,     3424,   1194.6,   4.4510,  34.7990,2,  34.8000,2,    177.2,2,    178.5,2,    26.60,2,    27.90,2,     1.83,2,    0.007,2,    0.005,2,   2203.8,2,     -999,9,     -999,9,     -999,9,     -999,9,     -999,9,   4.3540
35A3CITHER3_2 ,A13        ,220     ,  1,13         ,14         ,2,19950323,0652,  -1.4025,   2.7330,     3424,   1395.2,   4.2930,  34.9160,2,  34.9180,2,    209.6,2,    208.9,2,    22.20,2,    23.50,2,     1.38,2,    0.013,2,    0.009,2,   2183.9,2,   2317.3,2,     -999,9,     -999,9,     -999,9,     -999,9,   4.1790
35A3CITHER3_2 ,A13        ,220     ,  1,14         ,13         ,2,19950323,0652,  -1.4025,   2.7330,     3424,   1595.3,   3.9790,  34.9600,2,  34.9610,2,    231.7,2,    230.5,2,    20.70,2,    20.90,2,     1.35,2,    0.009,2,    0.006,2,   2173.1,2,     -999,9,     -999,9,     -999,9,     -999,9,     -999,9,   3.8500
35A3CITHER3_2 ,A13        ,220     ,  1,15         ,12         ,2,19950323,0652,  -1.4025,   2.7330,     3424,   1795.7,   3.6520,  34.9620,2,  34.9650,2,    241.9,2,    241.1,2,    21.90,2,    19.00,2,     1.26,2,    0.009,2,    0.008,2,   2168.8,2,     -999,9,     -999,9,     -999,9,     -999,9,     -999,9,   3.5090
35A3CITHER3_2 ,A13        ,220     ,  1,16         ,11         ,2,19950323,0652,  -1.4025,   2.7330,     3424,   1994.9,   3.4670,  34.9610,2,  34.9640,2,    247.8,2,    245.9,2,    23.00,2,    19.20,2,     1.24,2,    0.009,2,    0.009,2,   2168.2,2,     -999,9,     -999,9,     -999,9,     -999,9,     -999,9,   3.3080
35A3CITHER3_2 ,A13        ,220     ,  1,17         ,10         ,2,19950323,0652,  -1.4025,   2.7330,     3424,   2194.8,   3.3120,  34.9500,2,  34.9540,2,    245.1,2,    244.0,2,    23.40,2,    20.00,2,     1.28,2,    0.003,2,    0.004,2,   2170.0,2,     -999,9,     -999,9,     -999,9,     -999,9,     -999,9,   3.1360
35A3CITHER3_2 ,A13        ,220     ,  1,18         ,9          ,2,19950323,0652,  -1.4025,   2.7330,     3424,   2394.8,   3.0010,  34.9330,2,  34.9300,2,    241.2,2,    240.1,2,    32.70,2,    20.70,2,     1.32,2,   -0.001,2,    0.003,2,   2177.9,2,   2328.2,2,     -999,9,     -999,9,     -999,9,     -999,9,   2.8110
35A3CITHER3_2 ,A13        ,220     ,  1,19         ,8          ,2,19950323,0652,  -1.4025,   2.7330,     3424,   2595.6,   2.8550,  34.9250,2,  34.9240,2,    239.4,2,    240.2,2,    35.20,2,    20.80,2,     1.32,2,    0.000,2,    0.000,2,   2179.6,2,     -999,9,     -999,9,     -999,9,     -999,9,     -999,9,   2.6480
35A3CITHER3_2 ,A13        ,220     ,  1,20         ,7          ,2,19950323,0652,  -1.4025,   2.7330,     3424,   2796.6,   2.7430,  34.9180,2,  34.9160,2,    238.4,2,    238.7,2,    38.40,2,    21.10,2,     1.36,2,    0.000,2,    0.000,2,   2179.5,2,     -999,9,     -999,9,     -999,9,     -999,9,     -999,9,   2.5190
35A3CITHER3_2 ,A13        ,220     ,  1,21         ,6          ,2,19950323,0652,  -1.4025,   2.7330,     3424,   2996.3,   2.6050,  34.9100,2,  34.9090,2,    237.4,2,    238.4,2,    41.00,2,    21.40,2,     1.40,2,    0.000,2,     -999,9,   2180.1,2,     -999,9,     -999,9,     -999,9,     -999,9,     -999,9,   2.3630
35A3CITHER3_2 ,A13        ,220     ,  1,22         ,5          ,2,19950323,0652,  -1.4025,   2.7330,     3424,   3197.2,   2.5190,  34.9040,2,  34.9040,2,    239.2,2,    239.4,2,    42.40,2,    21.30,2,     1.40,2,    0.001,2,     -999,9,   2193.2,2,     -999,9,     -999,9,     -999,9,     -999,9,     -999,9,   2.2580
35A3CITHER3_2 ,A13        ,220     ,  1,23         ,4          ,2,19950323,0652,  -1.4025,   2.7330,     3424,   3294.4,   2.4960,  34.9020,2,  34.9010,2,    239.7,2,    239.3,2,    42.60,2,    21.40,2,     1.38,2,     -999,9,     -999,9,   2193.6,2,     -999,9,     -999,9,     -999,9,     -999,9,     -999,9,   2.2260
35A3CITHER3_2 ,A13        ,220     ,  1,24         ,3          ,2,19950323,0652,  -1.4025,   2.7330,     3424,   3403.0,   2.4280,  34.8980,2,  34.8970,2,    236.7,2,    238.6,2,    45.20,2,    21.60,2,     1.41,2,    0.000,2,    0.005,2,   2197.2,2,   2345.9,2,     -999,9,     -999,9,     -999,9,     -999,9,   2.1480
35A3CITHER3_2 ,A13        ,221     ,  1,1          ,32         ,2,19950323,1138,  -1.0508,   2.5060,     4445,      3.8,  29.4010,  34.2730,2,  34.2780,3,    191.1,2,    197.0,3,     3.40,2,     0.00,2,     0.01,2,    1.541,2,    0.846,2,     -999,9,     -999,9,     -999,9,     -999,9,     -999,9,     -999,9,  29.4000
35A3CITHER3_2 ,A13        ,221     ,  1,2          ,31         ,2,19950323,1138,  -1.0508,   2.5060,     4445,     46.4,  25.0640,  36.3630,2,  36.1900,3,    203.2,2,    195.1,3,     3.10,2,     0.50,2,     0.17,2,    1.699,2,    0.856,2,     -999,9,     -999,9,     -999,9,     -999,9,     -999,9,     -999,9,  25.0540
35A3CITHER3_2 ,A13        ,221     ,  1,3          ,30         ,2,19950323,1138,  -1.0508,   2.5060,     4445,    121.1,  15.4900,  35.5880,2,  35.6120,3,    133.4,2,    151.5,3,     6.60,2,    13.80,2,     0.93,2,    1.608,2,    0.776,2,     -999,9,     -999,9,     -999,9,     -999,9,     -999,9,     -999,9,  15.4710
35A3CITHER3_2 ,A13        ,221     ,  1,4          ,29         ,2,19950323,1138,  -1.0508,   2.5060,     4445,    196.0,  14.4880,  35.4990,2,  35.5210,3,    128.6,2,    124.4,3,     7.90,2,    17.40,2,     1.09,2,    1.406,2,    0.688,2,     -999,9,     -999,9,     -999,9,     -999,9,     -999,9,     -999,9,  14.4590
35A3CITHER3_2 ,A13        ,221     ,  1,6          ,27         ,2,19950323,1138,  -1.0508,   2.5060,     4445,    304.5,  10.7060,  35.0210,2,  35.0180,2,     64.7,2,     65.0,2,    13.80,2,    30.30,2,     1.75,3,    0.483,2,    0.245,2,     -999,9,     -999,9,     -999,9,     -999,9,     -999,9,     -999,9,  10.6690
35A3CITHER3_2 ,A13        ,221     ,  1,5          ,28         ,2,19950323,1138,  -1.0508,   2.5060,     4445,    304.7,  10.7230,  35.0190,2,  35.0200,2,     64.7,2,     65.4,2,    13.60,2,    30.40,2,     1.86,2,    0.485,2,    0.245,2,     -999,9,     -999,9,     -999,9,     -999,9,     -999,9,     -999,9,  10.6860
35A3CITHER3_2 ,A13        ,221     ,  1,7          ,26         ,2,19950323,1138,  -1.0508,   2.5060,     4445,    395.8,   8.3860,  34.7540,2,  34.7680,3,     76.2,2,     82.0,3,    17.80,2,    33.30,2,     2.05,2,    0.233,2,    0.121,2,     -999,9,     -999,9,     -999,9,     -999,9,     -999,9,     -999,9,   8.3440
35A3CITHER3_2 ,A13        ,221     ,  1,8          ,25         ,2,19950323,1138,  -1.0508,   2.5060,     4445,    596.1,   6.0160,  34.5420,2,  34.5410,2,    127.7,2,    132.9,3,    23.80,2,    33.00,2,     2.16,2,    0.149,2,    0.084,2,     -999,9,     -999,9,     -999,9,     -999,9,     -999,9,     -999,9,   5.9630
35A3CITHER3_2 ,A13        ,221     ,  1,9          ,24         ,2,19950323,1138,  -1.0508,   2.5060,     4445,    745.4,   5.2790,  34.5060,2,  34.5060,2,    139.7,2,    140.8,2,    27.40,2,    33.90,2,     2.25,2,    0.067,2,    0.042,2,     -999,9,     -999,9,     -999,9,     -999,9,     -999,9,     -999,9,   5.2170
35A3CITHER3_2 ,A13        ,221     ,  1,10         ,23         ,2,19950323,1138,  -1.0508,   2.5060,     4445,    994.7,   4.4480,  34.6340,2,  34.6270,2,    157.5,2,    156.4,2,    30.60,2,    31.70,2,     2.13,2,    0.007,2,    0.005,2,     -999,9,     -999,9,     -999,9,     -999,9,     -999,9,     -999,9,   4.3690
35A3CITHER3_2 ,A13        ,221     ,  1,11         ,22         ,2,19950323,1138,  -1.0508,   2.5060,     4445,   1195.4,   4.4450,  34.8030,2,  34.8020,2,    175.7,2,    178.1,2,    26.20,2,    27.70,2,     1.85,2,    0.007,2,    0.012,2,     -999,9,     -999,9,     -999,9,     -999,9,     -999,9,     -999,9,   4.3480
35A3CITHER3_2 ,A13        ,221     ,  1,12         ,21         ,2,19950323,1138,  -1.0508,   2.5060,     4445,   1394.8,   4.3260,  34.9370,2,  34.9370,2,    215.4,2,    215.1,2,    20.50,2,    22.40,2,     1.43,2,    0.030,2,    0.022,2,     -999,9,     -999,9,     -999,9,     -999,9,     -999,9,     -999,9,   4.2120
35A3CITHER3_2 ,A13        ,221     ,  1,13         ,20         ,2,19950323,1138,  -1.0508,   2.5060,     4445,   1494.9,   4.2630,  34.9560,2,  34.9570,2,    225.3,2,    224.8,2,    19.20,2,    21.30,2,     1.39,2,    0.036,2,    0.028,2,     -999,9,     -999,9,     -999,9,     -999,9,     -999,9,     -999,9,   4.1400
35A3CITHER3_2 ,A13        ,221     ,  1,14         ,19         ,2,19950323,1138,  -1.0508,   2.5060,     4445,   1595.5,   4.0360,  34.9550,2,  34.9550,2,    229.5,2,    227.0,2,    20.00,2,    21.50,2,     1.38,2,    0.017,2,    0.010,2,     -999,9,     -999,9,     -999,9,     -999,9,     -999,9,     -999,9,   3.9070
35A3CITHER3_2 ,A13        ,221     ,  1,15         ,18         ,2,19950323,1138,  -1.0508,   2.5060,     4445,   1795.2,   3.7080,  34.9670,2,  34.9680,2,    245.9,2,    243.7,2,    20.10,2,    19.70,2,     1.29,2,    0.014,2,    0.011,2,     -999,9,     -999,9,     -999,9,     -999,9,     -999,9,     -999,9,   3.5640
35A3CITHER3_2 ,A13        ,221     ,  1,17         ,16         ,2,19950323,1138,  -1.0508,   2.5060,     4445,   1996.6,   3.4490,  34.9560,2,  34.9600,2,    247.0,2,    245.0,2,    22.90,2,    19.70,2,     1.29,2,    0.006,2,    0.005,2,     -999,9,     -999,9,     -999,9,     -999,9,     -999,9,     -999,9,   3.2900
35A3CITHER3_2 ,A13        ,221     ,  1,16         ,17         ,2,19950323,1138,  -1.0508,   2.5060,     4445,   1996.7,   3.4490,  34.9570,2,  34.9580,2,    247.0,2,    244.9,2,    23.00,2,    19.90,2,     1.30,2,    0.007,2,    0.005,2,     -999,9,     -999,9,     -999,9,     -999,9,     -999,9,     -999,9,   3.2900
35A3CITHER3_2 ,A13        ,221     ,  1,18         ,15         ,2,19950323,1138,  -1.0508,   2.5060,     4445,   2196.8,   3.2680,  34.9470,2,  34.9490,2,    246.2,2,    245.0,2,    25.50,2,    20.10,2,     1.30,2,    0.006,2,    0.006,2,     -999,9,     -999,9,     -999,9,     -999,9,     -999,9,     -999,9,   3.0930
35A3CITHER3_2 ,A13        ,221     ,  1,19         ,14         ,2,19950323,1138,  -1.0508,   2.5060,     4445,   2395.6,   3.0270,  34.9320,2,  34.9300,2,    241.0,2,    240.4,2,    31.60,2,    21.00,2,     1.37,2,    0.002,2,    0.005,2,     -999,9,     -999,9,     -999,9,     -999,9,     -999,9,     -999,9,   2.8370
35A3CITHER3_2 ,A13        ,221     ,  1,20         ,13         ,2,19950323,1138,  -1.0508,   2.5060,     4445,   2596.5,   2.8370,  34.9230,2,  34.9220,2,    240.6,2,    240.7,2,    34.30,2,    21.20,2,     1.36,2,    0.000,2,    0.000,2,     -999,9,     -999,9,     -999,9,     -999,9,     -999,9,     -999,9,   2.6310
35A3CITHER3_2 ,A13        ,221     ,  1,21         ,12         ,2,19950323,1138,  -1.0508,   2.5060,     4445,   2796.0,   2.7630,  34.9170,2,  34.9160,2,    238.6,2,    238.4,2,    36.80,2,    21.60,2,     1.38,2,    0.001,2,    0.004,2,     -999,9,     -999,9,     -999,9,     -999,9,     -999,9,     -999,9,   2.5380
35A3CITHER3_2 ,A13        ,221     ,  1,22         ,11         ,2,19950323,1138,  -1.0508,   2.5060,     4445,   2995.8,   2.6120,  34.9070,2,  34.9070,2,    238.1,2,    237.6,2,    39.70,2,    21.60,2,     1.39,2,    0.003,2,    0.002,2,     -999,9,     -999,9,     -999,9,     -999,9,     -999,9,     -999,9,   2.3700
35A3CITHER3_2 ,A13        ,221     ,  1,23         ,10         ,2,19950323,1138,  -1.0508,   2.5060,     4445,   3196.3,   2.5140,  34.9020,2,  34.9010,2,    239.3,2,    239.3,2,    41.50,2,    21.50,2,     1.38,2,    0.000,2,    0.000,2,     -999,9,     -999,9,     -999,9,     -999,9,     -999,9,     -999,9,   2.2540
35A3CITHER3_2 ,A13        ,221     ,  1,24         ,9          ,2,19950323,1138,  -1.0508,   2.5060,     4445,   3396.3,   2.4750,  34.8990,2,  34.8980,2,    239.4,2,    239.4,2,    42.60,2,    21.60,2,     1.39,2,    0.000,2,    0.002,2,     -999,9,     -999,9,     -999,9,     -999,9,     -999,9,     -999,9,   2.1940
35A3CITHER3_2 ,A13        ,221     ,  1,25         ,8          ,2,19950323,1138,  -1.0508,   2.5060,     4445,   3595.9,   2.4110,  34.8930,2,  34.8920,2,    239.4,2,    239.2,2,    44.30,2,    22.00,2,     1.43,2,    0.000,2,    0.000,2,     -999,9,     -999,9,     -999,9,     -999,9,     -999,9,     -999,9,   2.1100
35A3CITHER3_2 ,A13        ,221     ,  1,26         ,7          ,2,19950323,1138,  -1.0508,   2.5060,     4445,   3796.3,   2.3570,  34.8890,2,  34.8880,2,    241.4,2,    242.0,2,    45.00,2,    22.00,2,     1.43,2,    0.003,2,     -999,9,     -999,9,     -999,9,     -999,9,     -999,9,     -999,9,     -999,9,   2.0360
35A3CITHER3_2 ,A13        ,221     ,  1,27         ,6          ,2,19950323,1138,  -1.0508,   2.5060,     4445,   3996.6,   2.3180,  34.8850,2,  34.8840,2,    241.3,2,    242.1,2,    45.90,2,    22.00,2,     1.44,2,    0.001,2,     -999,9,     -999,9,     -999,9,     -999,9,     -999,9,     -999,9,     -999,9,   1.9750
35A3CITHER3_2 ,A13        ,221     ,  1,28         ,5          ,2,19950323,1138,  -1.0508,   2.5060,     4445,   4197.3,   2.2890,  34.8790,2,  34.8800,2,    240.7,2,    240.0,2,    48.50,2,    22.10,2,     1.44,2,    0.003,2,    0.000,2,     -999,9,     -999,9,     -999,9,     -999,9,     -999,9,     -999,9,   1.9240
35A3CITHER3_2 ,A13        ,221     ,  1,29         ,4          ,2,19950323,1138,  -1.0508,   2.5060,     4445,   4395.3,   2.2340,  34.8740,2,  34.8710,2,    239.8,2,    238.5,2,    50.90,2,    22.30,2,     1.45,2,    0.004,2,    0.001,2,     -999,9,     -999,9,     -999,9,     -999,9,     -999,9,     -999,9,   1.8480
35A3CITHER3_2 ,A13        ,221     ,  1,30         ,3          ,2,19950323,1138,  -1.0508,   2.5060,     4445,   4489.1,   2.2150,  34.8700,2,  34.8700,2,    238.1,2,    238.1,2,    52.30,2,    22.10,2,     1.44,2,    0.002,2,    0.005,2,     -999,9,     -999,9,     -999,9,     -999,9,     -999,9,     -999,9,   1.8180