BOTTLE,20211216CCHDHYDRO
EXPOCODE,SECT_ID,STNNBR,CASTNO,SAMPNO,BTLNBR,BTLNBR_FLAG_W,DATE,TIME,LATITUDE,LONGITUDE,DEPTH,CTDPRS,CTDTMP,CTDSAL,CTDSAL_FLAG_W,SALNTY,SALNTY_FLAG_W,CTDOXY,CTDOXY_FLAG_W,OXYGEN,OXYGEN_FLAG_W,SILCAT,SILCAT_FLAG_W,NITRAT,NITRAT_FLAG_W,PHSPHT,PHSPHT_FLAG_W,CFC-11,CFC-11_FLAG_W,CFC-12,CFC-12_FLAG_W,TCARBN,TCARBN_FLAG_W,ALKALI,ALKALI_FLAG_W,TRITUM,TRITUM_FLAG_W,HELIUM,HELIUM_FLAG_W,DELHE3,DELHE3_FLAG_W,NEON,NEON_FLAG_W,THETA
,,,,,,,,,,,METERS,DBAR,DEG C,PSS-78,,PSS-78,,UMOL/KG,,UMOL/KG,,UMOL/KG,,UMOL/KG,,UMOL/KG,,PMOL/KG,,PMOL/KG,,UMOL/KG,,UMOL/KG,,TU,,NMOL/KG,,PERCNT,,NMOL/KG,,DEG C
35A3CITHER3_2 ,A13        ,193     ,  1,1          ,32         ,2,19950316,1833, -12.9990,   5.0000,     5373,      5.2,  26.8320,  36.7670,2,  36.7660,2,    207.6,2,    201.0,3,     2.80,2,     0.00,2,     0.14,2,    1.707,2,    0.917,2,     -999,9,     -999,9,    0.667,2,   1.6770,2,    -1.30,2,    6.533,2,  26.8310
35A3CITHER3_2 ,A13        ,193     ,  1,2          ,31         ,2,19950316,1833, -12.9990,   5.0000,     5373,     46.4,  18.4300,  35.9260,2,  35.8990,3,    258.3,2,    211.4,3,     3.90,2,     7.80,2,     0.53,2,    2.220,2,    1.111,2,     -999,9,     -999,9,    0.628,2,   1.7190,2,    -0.84,2,    7.021,2,  18.4220
35A3CITHER3_2 ,A13        ,193     ,  1,3          ,30         ,2,19950316,1833, -12.9990,   5.0000,     5373,    132.1,  12.3700,  35.2170,2,  35.2240,3,     26.0,2,     24.1,2,    11.70,2,    31.70,2,     1.92,2,    0.758,2,    0.387,2,     -999,9,     -999,9,    0.347,4,   1.7500,2,     1.44,4,    7.312,2,  12.3520
35A3CITHER3_2 ,A13        ,193     ,  1,4          ,29         ,2,19950316,1833, -12.9990,   5.0000,     5373,    196.1,  11.3740,  35.0910,2,  35.0930,2,     32.2,2,     36.3,3,    13.30,2,    32.20,2,     1.94,2,    0.435,2,    0.237,2,     -999,9,     -999,9,     -999,9,     -999,9,     -999,9,     -999,9,  11.3490
35A3CITHER3_2 ,A13        ,193     ,  1,5          ,28         ,2,19950316,1833, -12.9990,   5.0000,     5373,    294.5,   9.9320,  34.9280,2,  34.9210,3,     26.6,2,     26.9,2,    16.30,2,    36.00,2,     2.20,2,    0.177,2,    0.161,2,     -999,9,     -999,9,     -999,9,     -999,9,     -999,9,     -999,9,   9.8980
35A3CITHER3_2 ,A13        ,193     ,  1,6          ,27         ,2,19950316,1833, -12.9990,   5.0000,     5373,    396.8,   8.3150,  34.7570,2,  34.7540,2,     34.7,2,     43.2,3,    19.50,2,    38.40,2,     2.37,2,    0.051,2,    0.030,2,     -999,9,     -999,9,     -999,9,     -999,9,     -999,9,     -999,9,   8.2740
35A3CITHER3_2 ,A13        ,193     ,  1,7          ,26         ,2,19950316,1833, -12.9990,   5.0000,     5373,    596.6,   6.0670,  34.5610,2,  34.5580,2,     70.9,2,     73.4,2,    25.80,2,    39.50,2,     2.52,2,    0.013,2,    0.005,2,     -999,9,     -999,9,    0.010,2,   1.7910,2,     1.00,2,    7.722,2,   6.0140
35A3CITHER3_2 ,A13        ,193     ,  1,8          ,25         ,2,19950316,1833, -12.9990,   5.0000,     5373,    795.6,   4.7210,  34.4980,2,  34.4920,3,    110.0,2,    111.8,2,    32.50,2,    37.80,2,     2.47,2,    0.004,2,    0.002,2,     -999,9,     -999,9,     -999,9,     -999,9,     -999,9,     -999,9,   4.6580
35A3CITHER3_2 ,A13        ,193     ,  1,9          ,24         ,2,19950316,1833, -12.9990,   5.0000,     5373,    995.5,   4.1040,  34.5670,2,  34.5650,2,    141.6,2,    141.2,2,    35.80,2,    34.80,2,     2.31,2,     -999,9,     -999,9,     -999,9,     -999,9,     -999,9,     -999,9,     -999,9,     -999,9,   4.0280
35A3CITHER3_2 ,A13        ,193     ,  1,10         ,23         ,2,19950316,1833, -12.9990,   5.0000,     5373,   1195.9,   3.8570,  34.7150,2,  34.7010,3,    164.8,2,    164.2,2,    34.70,2,    30.70,2,     2.06,2,     -999,9,     -999,9,     -999,9,     -999,9,     -999,9,     -999,9,     -999,9,     -999,9,   3.7660
35A3CITHER3_2 ,A13        ,193     ,  1,11         ,22         ,2,19950316,1833, -12.9990,   5.0000,     5373,   1396.0,   3.8260,  34.8310,2,  34.8330,2,    188.5,2,    186.8,2,    30.30,2,    26.80,2,     1.78,2,    0.005,2,     -999,9,     -999,9,     -999,9,    0.006,2,   1.8120,2,     1.95,2,    7.841,2,   3.7170
35A3CITHER3_2 ,A13        ,193     ,  1,12         ,21         ,2,19950316,1833, -12.9990,   5.0000,     5373,   1594.1,   3.7190,  34.8980,2,  34.8970,2,    208.3,2,    205.5,2,    27.70,2,    24.40,2,     1.59,2,    0.006,2,   -0.001,2,     -999,9,     -999,9,     -999,9,     -999,9,     -999,9,     -999,9,   3.5940
35A3CITHER3_2 ,A13        ,193     ,  1,13         ,20         ,2,19950316,1833, -12.9990,   5.0000,     5373,   1794.7,   3.5380,  34.9190,2,  34.9200,2,    218.0,2,    216.1,2,    28.40,2,    22.80,2,     1.48,2,    0.003,2,    0.003,2,     -999,9,     -999,9,    0.009,2,   1.8200,2,     2.30,2,    7.882,2,   3.3970
35A3CITHER3_2 ,A13        ,193     ,  1,14         ,19         ,2,19950316,1833, -12.9990,   5.0000,     5373,   1994.1,   3.3520,  34.9250,2,  34.9250,2,    223.0,2,    221.2,2,    30.00,2,    22.20,2,     1.32,4,    0.002,2,   -0.001,2,     -999,9,     -999,9,     -999,9,   1.8210,3,     2.76,3,     -999,9,   3.1950
35A3CITHER3_2 ,A13        ,193     ,  1,15         ,18         ,2,19950316,1833, -12.9990,   5.0000,     5373,   2196.6,   3.1500,  34.9250,2,  34.9250,2,    226.1,2,    225.3,2,    32.90,2,    22.30,2,     1.46,2,     -999,9,     -999,9,     -999,9,     -999,9,    0.011,2,   1.8290,2,     2.84,2,    7.903,2,   2.9770
35A3CITHER3_2 ,A13        ,193     ,  1,16         ,17         ,2,19950316,1833, -12.9990,   5.0000,     5373,   2394.7,   2.9720,  34.9210,2,  34.9190,2,    228.9,2,    229.0,2,    35.60,2,    22.20,2,     1.43,2,    0.002,2,    0.002,2,     -999,9,     -999,9,     -999,9,     -999,9,     -999,9,     -999,9,   2.7830
35A3CITHER3_2 ,A13        ,193     ,  1,17         ,16         ,2,19950316,1833, -12.9990,   5.0000,     5373,   2595.8,   2.8390,  34.9160,2,  34.9160,2,    230.7,2,    230.6,2,    38.10,2,    22.30,2,     1.46,2,     -999,9,     -999,9,     -999,9,     -999,9,     -999,9,   1.8320,2,     3.48,2,     -999,9,   2.6330
35A3CITHER3_2 ,A13        ,193     ,  1,18         ,15         ,2,19950316,1833, -12.9990,   5.0000,     5373,   2795.7,   2.7260,  34.9090,2,  34.9080,2,    231.2,2,    231.6,2,    41.00,2,    22.00,2,     1.43,2,    0.003,2,   -0.002,2,     -999,9,     -999,9,    0.004,6,   1.8440,6,     3.72,6,    7.990,2,   2.5020
35A3CITHER3_2 ,A13        ,193     ,  1,19         ,14         ,2,19950316,1833, -12.9990,   5.0000,     5373,   2996.3,   2.6260,  34.9060,2,  34.9040,2,    231.0,2,    231.4,2,    43.60,2,    22.30,2,     1.48,2,    0.006,2,    0.003,2,     -999,9,     -999,9,     -999,9,     -999,9,     -999,9,     -999,9,   2.3840
35A3CITHER3_2 ,A13        ,193     ,  1,20         ,13         ,2,19950316,1833, -12.9990,   5.0000,     5373,   3196.2,   2.5440,  34.9020,2,  34.9000,2,    228.6,2,    229.1,2,    46.80,2,    22.40,2,     1.48,2,     -999,9,     -999,9,     -999,9,     -999,9,     -999,9,   1.8300,2,     3.63,2,     -999,9,   2.2830
35A3CITHER3_2 ,A13        ,193     ,  1,21         ,12         ,2,19950316,1833, -12.9990,   5.0000,     5373,   3395.0,   2.4530,  34.8950,2,  34.8940,2,    225.7,2,    225.9,2,    50.60,2,    23.30,2,     1.54,2,    0.002,2,   -0.003,2,     -999,9,     -999,9,    0.006,3,   1.8260,3,     3.77,3,    7.926,2,   2.1730
35A3CITHER3_2 ,A13        ,193     ,  1,22         ,11         ,2,19950316,1833, -12.9990,   5.0000,     5373,   3597.7,   2.3820,  34.8900,2,  34.8910,2,    226.7,2,    227.2,2,    52.30,2,    22.50,2,     1.51,2,     -999,9,     -999,9,     -999,9,     -999,9,     -999,9,     -999,9,     -999,9,     -999,9,   2.0820
35A3CITHER3_2 ,A13        ,193     ,  1,23         ,10         ,2,19950316,1833, -12.9990,   5.0000,     5373,   3796.5,   2.3530,  34.8890,2,  34.8880,2,    229.3,2,    229.7,2,    51.80,2,    22.80,2,     1.56,2,    0.003,2,     -999,9,     -999,9,     -999,9,     -999,9,     -999,9,     -999,9,     -999,9,   2.0320
35A3CITHER3_2 ,A13        ,193     ,  1,24         ,9          ,2,19950316,1833, -12.9990,   5.0000,     5373,   3995.7,   2.3440,  34.8880,2,  34.8870,2,    231.1,2,    231.6,2,    51.80,2,    22.40,2,     1.50,2,    0.007,2,   -0.004,2,     -999,9,     -999,9,    0.004,2,   1.8310,2,     2.89,2,    7.951,2,   2.0010
35A3CITHER3_2 ,A13        ,193     ,  1,25         ,8          ,2,19950316,1833, -12.9990,   5.0000,     5373,   4196.0,   2.3480,  34.8890,2,  34.8850,2,    231.8,2,    232.8,2,    51.80,2,    21.90,2,     1.44,2,     -999,9,     -999,9,     -999,9,     -999,9,     -999,9,     -999,9,     -999,9,     -999,9,   1.9810
35A3CITHER3_2 ,A13        ,193     ,  1,26         ,7          ,2,19950316,1833, -12.9990,   5.0000,     5373,   4397.6,   2.3560,  34.8870,2,  34.8840,2,    232.4,2,    233.4,2,    52.00,2,    21.20,3,     1.42,2,     -999,9,     -999,9,     -999,9,     -999,9,     -999,9,     -999,9,     -999,9,     -999,9,   1.9650
35A3CITHER3_2 ,A13        ,193     ,  1,27         ,6          ,2,19950316,1833, -12.9990,   5.0000,     5373,   4595.1,   2.3640,  34.8830,2,  34.8840,2,    233.4,2,    234.2,2,    52.10,2,    21.50,3,     1.48,2,    0.004,2,    0.003,2,     -999,9,     -999,9,     -999,9,     -999,9,     -999,9,     -999,9,   1.9490
35A3CITHER3_2 ,A13        ,193     ,  1,28         ,5          ,2,19950316,1833, -12.9990,   5.0000,     5373,   4798.2,   2.3830,  34.8830,2,     -999,9,    233.7,2,    240.8,2,     -999,9,     -999,9,     -999,9,     -999,9,     -999,9,     -999,9,     -999,9,    0.007,2,   1.8330,2,     3.36,2,    7.976,2,   1.9430
35A3CITHER3_2 ,A13        ,193     ,  1,29         ,4          ,2,19950316,1833, -12.9990,   5.0000,     5373,   4996.1,   2.3930,  34.8800,2,  34.8810,2,    234.9,2,    235.5,2,    52.60,2,    22.20,2,     1.45,2,    0.007,2,    0.002,2,     -999,9,     -999,9,    0.007,2,   1.8370,2,     3.23,2,    7.966,2,   1.9280
35A3CITHER3_2 ,A13        ,193     ,  1,30         ,3          ,2,19950316,1833, -12.9990,   5.0000,     5373,   5198.0,   2.4120,  34.8790,2,  34.8800,2,    235.5,2,    235.6,2,    52.80,2,    22.50,2,     1.50,2,    0.003,2,    0.001,2,     -999,9,     -999,9,     -999,9,     -999,9,     -999,9,     -999,9,   1.9200
35A3CITHER3_2 ,A13        ,193     ,  1,31         ,2          ,2,19950316,1833, -12.9990,   5.0000,     5373,   5346.5,   2.4290,  34.8800,2,  34.8790,2,    235.4,2,    236.0,2,    53.00,2,    21.30,3,     1.41,2,    0.007,2,    0.008,2,     -999,9,     -999,9,     -999,9,     -999,9,     -999,9,     -999,9,   1.9170
35A3CITHER3_2 ,A13        ,193     ,  1,32         ,1          ,2,19950316,1833, -12.9990,   5.0000,     5373,   5427.0,   2.4390,  34.8790,2,  34.8790,2,    235.6,2,    236.3,2,    53.00,2,    22.20,2,     1.42,2,    0.005,2,    0.001,2,     -999,9,     -999,9,    0.009,2,   1.8350,2,     2.98,2,    7.981,2,   1.9170