BOTTLE,20211216CCHDHYDRO
EXPOCODE,SECT_ID,STNNBR,CASTNO,SAMPNO,BTLNBR,BTLNBR_FLAG_W,DATE,TIME,LATITUDE,LONGITUDE,DEPTH,CTDPRS,CTDTMP,CTDSAL,CTDSAL_FLAG_W,SALNTY,SALNTY_FLAG_W,CTDOXY,CTDOXY_FLAG_W,OXYGEN,OXYGEN_FLAG_W,SILCAT,SILCAT_FLAG_W,NITRAT,NITRAT_FLAG_W,PHSPHT,PHSPHT_FLAG_W,CFC-11,CFC-11_FLAG_W,CFC-12,CFC-12_FLAG_W,TCARBN,TCARBN_FLAG_W,ALKALI,ALKALI_FLAG_W,TRITUM,TRITUM_FLAG_W,HELIUM,HELIUM_FLAG_W,DELHE3,DELHE3_FLAG_W,NEON,NEON_FLAG_W,THETA
,,,,,,,,,,,METERS,DBAR,DEG C,PSS-78,,PSS-78,,UMOL/KG,,UMOL/KG,,UMOL/KG,,UMOL/KG,,UMOL/KG,,PMOL/KG,,PMOL/KG,,UMOL/KG,,UMOL/KG,,TU,,NMOL/KG,,PERCNT,,NMOL/KG,,DEG C
35A3CITHER3_2 ,A13        ,198     ,  1,1          ,32         ,2,19950317,2228, -11.0018,   4.9990,     5545,      5.2,  27.9780,  36.3510,2,  36.3530,2,    200.4,2,    198.2,2,     5.20,3,     0.00,2,     0.11,2,    1.596,2,    0.872,2,   2034.3,2,     -999,9,     -999,9,     -999,9,     -999,9,     -999,9,  27.9770
35A3CITHER3_2 ,A13        ,198     ,  1,2          ,31         ,2,19950317,2228, -11.0018,   4.9990,     5545,     45.7,  19.1100,  35.8740,2,  35.8670,3,    245.5,2,    192.3,3,     6.40,3,     7.20,2,     0.59,2,    1.542,2,    0.766,2,   2203.9,2,   2357.8,2,     -999,9,     -999,9,     -999,9,     -999,9,  19.1020
35A3CITHER3_2 ,A13        ,198     ,  1,3          ,30         ,2,19950317,2228, -11.0018,   4.9990,     5545,    120.7,  13.6620,  35.3530,2,  35.3570,2,     50.3,2,     52.9,2,    11.10,2,    27.10,2,     1.63,2,    0.881,2,    0.451,2,   2213.2,6,   2319.7,2,     -999,9,     -999,9,     -999,9,     -999,9,  13.6450
35A3CITHER3_2 ,A13        ,198     ,  1,4          ,29         ,2,19950317,2228, -11.0018,   4.9990,     5545,    197.2,  12.2740,  35.1960,2,  35.1960,2,     60.3,2,     60.6,2,    12.20,2,    28.60,2,     1.71,2,    0.685,2,    0.352,2,   2213.1,2,     -999,9,     -999,9,     -999,9,     -999,9,     -999,9,  12.2480
35A3CITHER3_2 ,A13        ,198     ,  1,5          ,28         ,2,19950317,2228, -11.0018,   4.9990,     5545,    394.9,   8.9170,  34.8240,2,  34.8230,2,     22.6,2,     24.9,2,    19.40,2,    38.70,2,     2.32,2,    0.091,2,    0.059,2,   2258.7,2,   2299.5,2,     -999,9,     -999,9,     -999,9,     -999,9,   8.8740
35A3CITHER3_2 ,A13        ,198     ,  1,6          ,27         ,2,19950317,2228, -11.0018,   4.9990,     5545,    594.5,   6.3410,  34.5920,2,  34.5080,4,     47.8,2,    108.8,4,    33.00,3,    38.80,2,     2.47,2,    0.004,2,    0.001,2,   2239.8,2,     -999,9,     -999,9,     -999,9,     -999,9,     -999,9,   6.2870
35A3CITHER3_2 ,A13        ,198     ,  1,7          ,26         ,2,19950317,2228, -11.0018,   4.9990,     5545,    794.2,   4.8350,  34.5070,2,  34.5760,4,    104.4,2,    141.6,4,    36.10,3,    35.60,2,     2.29,2,    0.002,2,    0.004,2,   2228.7,2,   2293.6,2,     -999,9,     -999,9,     -999,9,     -999,9,   4.7710
35A3CITHER3_2 ,A13        ,198     ,  1,8          ,25         ,2,19950317,2228, -11.0018,   4.9990,     5545,    996.2,   4.1710,  34.5760,2,  34.6920,4,    140.6,2,    163.4,4,    34.20,2,    32.20,2,     2.03,2,    0.004,2,     -999,9,   2217.1,2,   2304.3,2,     -999,9,     -999,9,     -999,9,     -999,9,   4.0940
35A3CITHER3_2 ,A13        ,198     ,  1,9          ,24         ,2,19950317,2228, -11.0018,   4.9990,     5545,   1194.7,   3.9890,  34.7120,2,  34.7130,2,    163.2,2,    163.3,2,    34.50,2,    32.40,2,     2.01,2,    0.001,2,    0.002,2,   2218.1,2,     -999,9,     -999,9,     -999,9,     -999,9,     -999,9,   3.8970
35A3CITHER3_2 ,A13        ,198     ,  1,10         ,23         ,2,19950317,2228, -11.0018,   4.9990,     5545,   1396.3,   3.8720,  34.8460,2,  34.8080,3,    194.2,2,    196.7,2,    29.50,2,    25.50,2,     1.70,2,    0.048,2,    0.030,2,   2193.7,2,     -999,9,     -999,9,     -999,9,     -999,9,     -999,9,   3.7630
35A3CITHER3_2 ,A13        ,198     ,  1,11         ,22         ,2,19950317,2228, -11.0018,   4.9990,     5545,   1596.8,   3.7520,  34.9050,2,  34.9050,2,    210.1,2,    210.0,2,    28.00,2,    23.60,2,     1.53,2,    0.001,2,    0.001,2,   2187.9,2,   2331.2,2,     -999,9,     -999,9,     -999,9,     -999,9,   3.6260
35A3CITHER3_2 ,A13        ,198     ,  1,12         ,21         ,2,19950317,2228, -11.0018,   4.9990,     5545,   1795.1,   3.5500,  34.9220,2,  34.9260,2,    221.7,2,    221.3,2,    28.40,2,    22.40,2,     1.46,2,    0.002,2,     -999,9,   2183.1,2,     -999,9,     -999,9,     -999,9,     -999,9,     -999,9,   3.4080
35A3CITHER3_2 ,A13        ,198     ,  1,13         ,20         ,2,19950317,2228, -11.0018,   4.9990,     5545,   1995.7,   3.3590,  34.9280,2,  34.9300,2,    225.9,2,    225.0,2,    30.80,2,    22.40,2,     1.44,2,    0.000,2,    0.001,2,   2183.9,2,     -999,9,     -999,9,     -999,9,     -999,9,     -999,9,   3.2020
35A3CITHER3_2 ,A13        ,198     ,  1,14         ,19         ,2,19950317,2228, -11.0018,   4.9990,     5545,   2197.2,   3.1590,  34.9270,2,  34.9280,2,    227.9,2,    227.0,2,    34.00,2,    21.70,2,     1.43,2,    0.000,2,    0.004,2,   2187.4,2,     -999,9,     -999,9,     -999,9,     -999,9,     -999,9,   2.9860
35A3CITHER3_2 ,A13        ,198     ,  1,15         ,18         ,2,19950317,2228, -11.0018,   4.9990,     5545,   2395.8,   2.9920,  34.9240,2,  34.9240,2,    228.8,2,    229.0,2,    36.70,2,    21.70,2,     1.43,2,    0.001,2,     -999,9,   2188.5,2,     -999,9,     -999,9,     -999,9,     -999,9,     -999,9,   2.8020
35A3CITHER3_2 ,A13        ,198     ,  1,16         ,17         ,2,19950317,2228, -11.0018,   4.9990,     5545,   2594.7,   2.8570,  34.9170,2,  34.9170,2,    230.2,2,    230.3,2,    39.10,2,    22.20,2,     1.45,2,    0.000,2,   -0.003,2,   2191.4,2,   2337.3,2,     -999,9,     -999,9,     -999,9,     -999,9,   2.6510
35A3CITHER3_2 ,A13        ,198     ,  1,17         ,16         ,2,19950317,2228, -11.0018,   4.9990,     5545,   2795.2,   2.7410,  34.9120,2,  34.9150,2,    230.8,2,    231.4,2,    41.60,2,    22.10,2,     1.43,2,    0.002,2,    0.003,2,   2193.6,2,     -999,9,     -999,9,     -999,9,     -999,9,     -999,9,   2.5170
35A3CITHER3_2 ,A13        ,198     ,  1,18         ,15         ,2,19950317,2228, -11.0018,   4.9990,     5545,   2997.8,   2.6330,  34.9050,2,  34.9070,2,    231.5,2,    232.1,2,    43.80,2,    22.30,2,     1.45,2,    0.007,2,    0.005,2,   2195.8,2,     -999,9,     -999,9,     -999,9,     -999,9,     -999,9,   2.3910
35A3CITHER3_2 ,A13        ,198     ,  1,19         ,14         ,2,19950317,2228, -11.0018,   4.9990,     5545,   3195.3,   2.5300,  34.9000,2,  34.9020,2,    229.7,2,    229.8,2,    47.10,2,    22.50,2,     1.47,2,    0.001,2,   -0.002,2,   2201.9,2,     -999,9,     -999,9,     -999,9,     -999,9,     -999,9,   2.2690
35A3CITHER3_2 ,A13        ,198     ,  1,20         ,13         ,2,19950317,2228, -11.0018,   4.9990,     5545,   3396.7,   2.4420,  34.8950,2,  34.8940,2,    226.2,2,    226.6,2,    50.60,2,    23.10,2,     1.52,2,    0.000,2,    0.000,2,   2209.7,2,     -999,9,     -999,9,     -999,9,     -999,9,     -999,9,   2.1620
35A3CITHER3_2 ,A13        ,198     ,  1,21         ,12         ,2,19950317,2228, -11.0018,   4.9990,     5545,   3594.3,   2.3730,  34.8900,2,  34.8910,2,    226.0,2,    226.8,2,    52.90,2,    23.10,2,     1.52,2,    0.004,2,    0.000,2,   2213.1,2,   2352.8,2,     -999,9,     -999,9,     -999,9,     -999,9,   2.0740
35A3CITHER3_2 ,A13        ,198     ,  1,22         ,11         ,2,19950317,2228, -11.0018,   4.9990,     5545,   3797.2,   2.3470,  34.8880,2,  34.8860,2,    229.2,2,    229.7,2,    52.10,2,    22.70,2,     1.48,2,    0.003,2,    0.002,2,   2210.6,2,     -999,9,     -999,9,     -999,9,     -999,9,     -999,9,   2.0260
35A3CITHER3_2 ,A13        ,198     ,  1,23         ,10         ,2,19950317,2228, -11.0018,   4.9990,     5545,   3996.6,   2.3390,  34.8890,2,  34.8870,2,    231.0,2,    232.0,2,    52.50,2,    22.50,2,     1.46,2,    0.001,2,   -0.002,2,   2209.6,2,     -999,9,     -999,9,     -999,9,     -999,9,     -999,9,   1.9960
35A3CITHER3_2 ,A13        ,198     ,  1,24         ,9          ,2,19950317,2228, -11.0018,   4.9990,     5545,   4195.4,   2.3420,  34.8870,2,  34.8790,3,    231.8,2,    233.0,2,    52.50,2,    22.30,2,     1.45,2,    0.001,2,    0.004,2,   2209.3,2,     -999,9,     -999,9,     -999,9,     -999,9,     -999,9,   1.9760
35A3CITHER3_2 ,A13        ,198     ,  1,25         ,8          ,2,19950317,2228, -11.0018,   4.9990,     5545,   4396.8,   2.3480,  34.8850,2,  34.8790,2,    232.5,2,    233.1,2,    52.70,2,    22.40,2,     1.47,2,    0.003,2,    0.006,2,   2208.4,2,     -999,9,     -999,9,     -999,9,     -999,9,     -999,9,   1.9580
35A3CITHER3_2 ,A13        ,198     ,  1,26         ,7          ,2,19950317,2228, -11.0018,   4.9990,     5545,   4596.5,   2.3560,  34.8810,2,  34.8820,2,    233.3,2,    234.5,2,    53.20,2,    22.40,2,     1.45,2,    0.001,2,    0.007,2,   2208.6,2,   2357.5,2,     -999,9,     -999,9,     -999,9,     -999,9,   1.9420
35A3CITHER3_2 ,A13        ,198     ,  1,27         ,6          ,2,19950317,2228, -11.0018,   4.9990,     5545,   4795.4,   2.3660,  34.8800,2,  34.8840,2,    234.9,2,    235.5,2,    52.90,2,    22.50,2,     1.47,2,    0.002,2,    0.005,2,   2208.4,2,     -999,9,     -999,9,     -999,9,     -999,9,     -999,9,   1.9270
35A3CITHER3_2 ,A13        ,198     ,  1,28         ,5          ,2,19950317,2228, -11.0018,   4.9990,     5545,   4997.3,   2.3810,  34.8790,2,  34.8800,2,    235.7,2,    235.9,2,    53.20,2,    20.60,3,     1.34,3,    0.002,2,     -999,9,   2209.8,2,     -999,9,     -999,9,     -999,9,     -999,9,     -999,9,   1.9160
35A3CITHER3_2 ,A13        ,198     ,  1,29         ,4          ,2,19950317,2228, -11.0018,   4.9990,     5545,   5196.1,   2.4020,  34.8770,2,  34.8820,2,    236.2,2,    236.2,2,    53.40,2,    22.10,2,     1.42,2,    0.004,2,     -999,9,   2207.5,2,     -999,9,     -999,9,     -999,9,     -999,9,     -999,9,   1.9110
35A3CITHER3_2 ,A13        ,198     ,  1,30         ,3          ,2,19950317,2228, -11.0018,   4.9990,     5545,   5397.7,   2.4220,  34.8770,2,  34.8790,2,    236.9,2,    237.1,2,    53.20,2,    21.50,3,     1.37,3,    0.000,2,    0.005,2,   2207.5,2,     -999,9,     -999,9,     -999,9,     -999,9,     -999,9,   1.9040
35A3CITHER3_2 ,A13        ,198     ,  1,31         ,2          ,2,19950317,2228, -11.0018,   4.9990,     5545,   5548.5,   2.4380,  34.8760,2,  34.8780,2,    237.5,2,    237.2,2,    53.40,2,    22.40,2,     1.47,2,    0.001,2,    0.004,2,   2208.3,2,     -999,9,     -999,9,     -999,9,     -999,9,     -999,9,   1.8990
35A3CITHER3_2 ,A13        ,198     ,  1,32         ,1          ,2,19950317,2228, -11.0018,   4.9990,     5545,   5623.1,   2.4480,  34.8760,2,  34.8790,2,    237.1,2,    237.8,2,    53.50,2,    22.50,2,     1.44,2,    0.001,2,    0.003,2,   2209.3,2,   2362.7,2,     -999,9,     -999,9,     -999,9,     -999,9,   1.8990