BOTTLE,20211216CCHDHYDRO
EXPOCODE,SECT_ID,STNNBR,CASTNO,SAMPNO,BTLNBR,BTLNBR_FLAG_W,DATE,TIME,LATITUDE,LONGITUDE,DEPTH,CTDPRS,CTDTMP,CTDSAL,CTDSAL_FLAG_W,SALNTY,SALNTY_FLAG_W,CTDOXY,CTDOXY_FLAG_W,OXYGEN,OXYGEN_FLAG_W,SILCAT,SILCAT_FLAG_W,NITRAT,NITRAT_FLAG_W,PHSPHT,PHSPHT_FLAG_W,CFC-11,CFC-11_FLAG_W,CFC-12,CFC-12_FLAG_W,TCARBN,TCARBN_FLAG_W,ALKALI,ALKALI_FLAG_W,TRITUM,TRITUM_FLAG_W,HELIUM,HELIUM_FLAG_W,DELHE3,DELHE3_FLAG_W,NEON,NEON_FLAG_W,THETA
,,,,,,,,,,,METERS,DBAR,DEG C,PSS-78,,PSS-78,,UMOL/KG,,UMOL/KG,,UMOL/KG,,UMOL/KG,,UMOL/KG,,PMOL/KG,,PMOL/KG,,UMOL/KG,,UMOL/KG,,TU,,NMOL/KG,,PERCNT,,NMOL/KG,,DEG C
35A3CITHER3_2 ,A13        ,151     ,  1,2          ,31         ,2,19950304,1604, -29.2998,   9.8407,     4766,      5.2,  23.1810,  35.6950,2,  35.6960,2,    219.2,2,    219.9,2,     2.60,2,     0.30,2,     0.08,2,    2.129,2,    1.107,2,   2030.7,2,   2344.6,2,     -999,9,     -999,9,     -999,9,     -999,9,  23.1800
35A3CITHER3_2 ,A13        ,151     ,  1,1          ,32         ,2,19950304,1604, -29.2998,   9.8407,     4766,      5.7,  23.1990,  35.6930,2,  35.6950,2,    219.9,2,    220.9,2,     2.40,2,     0.30,2,     0.09,2,    2.103,2,    1.094,2,     -999,9,     -999,9,     -999,9,     -999,9,     -999,9,     -999,9,  23.1980
35A3CITHER3_2 ,A13        ,151     ,  1,3          ,30         ,2,19950304,1604, -29.2998,   9.8407,     4766,     46.1,  21.7090,  35.6730,2,  35.6660,3,    227.3,2,    223.4,3,     2.80,2,     0.10,2,     0.09,2,    2.155,2,    1.109,2,   2028.9,2,   2354.4,2,     -999,9,     -999,9,     -999,9,     -999,9,  21.7000
35A3CITHER3_2 ,A13        ,151     ,  1,4          ,29         ,2,19950304,1604, -29.2998,   9.8407,     4766,    122.1,  14.9430,  35.3130,2,  35.3110,2,    207.2,2,    209.6,2,     5.70,3,     6.50,2,     0.52,2,    2.584,2,    1.263,2,   2083.0,2,   2328.1,2,     -999,9,     -999,9,     -999,9,     -999,9,  14.9250
35A3CITHER3_2 ,A13        ,151     ,  1,5          ,28         ,2,19950304,1604, -29.2998,   9.8407,     4766,    195.1,  13.0860,  35.1340,2,  35.1330,2,    209.1,2,    214.0,3,     6.00,2,     9.50,2,     0.72,2,    2.622,2,    1.248,2,   2096.0,2,   2315.8,2,     -999,9,     -999,9,     -999,9,     -999,9,  13.0590
35A3CITHER3_2 ,A13        ,151     ,  1,6          ,27         ,2,19950304,1604, -29.2998,   9.8407,     4766,    295.5,  11.6090,  34.9880,2,  34.9840,2,    215.3,2,    214.9,2,     6.40,2,    11.90,2,     0.90,2,    2.436,2,    1.151,2,   2108.8,2,     -999,9,     -999,9,     -999,9,     -999,9,     -999,9,  11.5710
35A3CITHER3_2 ,A13        ,151     ,  1,7          ,26         ,2,19950304,1604, -29.2998,   9.8407,     4766,    395.4,   9.8200,  34.7750,2,  34.7750,2,    206.3,2,    207.1,2,     9.50,2,    16.80,2,     1.20,2,    2.104,2,    0.991,2,   2128.8,2,     -999,9,     -999,9,     -999,9,     -999,9,     -999,9,   9.7740
35A3CITHER3_2 ,A13        ,151     ,  1,8          ,25         ,2,19950304,1604, -29.2998,   9.8407,     4766,    594.2,   6.5560,  34.4550,2,  34.4510,2,    208.5,2,    204.6,2,    17.50,2,    24.30,2,     1.71,2,    1.803,2,    0.824,2,   2161.7,2,   2294.1,2,     -999,9,     -999,9,     -999,9,     -999,9,   6.5010
35A3CITHER3_2 ,A13        ,151     ,  1,9          ,24         ,2,19950304,1604, -29.2998,   9.8407,     4766,    746.1,   4.5760,  34.3260,2,  34.3250,2,    219.8,2,    217.4,2,    24.80,2,    27.90,2,     1.93,2,    1.515,2,    0.687,2,   2175.7,2,     -999,9,     -999,9,     -999,9,     -999,9,     -999,9,   4.5180
35A3CITHER3_2 ,A13        ,151     ,  1,10         ,23         ,2,19950304,1604, -29.2998,   9.8407,     4766,    845.4,   3.9980,  34.3390,2,  34.3300,3,    210.8,2,    209.8,2,    31.80,2,    29.90,2,     2.04,2,    1.101,2,    0.496,2,   2189.0,2,     -999,9,     -999,9,     -999,9,     -999,9,     -999,9,   3.9350
35A3CITHER3_2 ,A13        ,151     ,  1,11         ,22         ,2,19950304,1604, -29.2998,   9.8407,     4766,    996.1,   3.3340,  34.3970,2,  34.4000,2,    198.1,2,    195.4,2,    43.70,2,    29.80,3,     2.12,2,    0.600,2,    0.274,2,   2210.8,2,   2301.6,2,     -999,9,     -999,9,     -999,9,     -999,9,   3.2640
35A3CITHER3_2 ,A13        ,151     ,  1,12         ,21         ,2,19950304,1604, -29.2998,   9.8407,     4766,   1193.9,   2.9730,  34.5280,2,  34.5230,2,    182.6,2,    180.5,2,    55.30,2,    31.80,2,     2.16,2,    0.205,2,    0.115,2,   2229.8,2,     -999,9,     -999,9,     -999,9,     -999,9,     -999,9,   2.8900
35A3CITHER3_2 ,A13        ,151     ,  1,13         ,20         ,2,19950304,1604, -29.2998,   9.8407,     4766,   1393.8,   2.8910,  34.6570,2,  34.6570,2,    183.6,2,    184.5,2,    56.30,2,    29.00,2,     2.04,2,     -999,9,     -999,9,   2228.1,2,     -999,9,     -999,9,     -999,9,     -999,9,     -999,9,   2.7930
35A3CITHER3_2 ,A13        ,151     ,  1,14         ,19         ,2,19950304,1604, -29.2998,   9.8407,     4766,   1597.0,   2.9790,  34.7640,2,  34.7650,2,    198.3,2,    200.6,2,    47.60,2,    24.70,2,     1.78,2,    0.010,2,    0.011,2,   2212.3,2,     -999,9,     -999,9,     -999,9,     -999,9,     -999,9,   2.8630
35A3CITHER3_2 ,A13        ,151     ,  1,15         ,18         ,2,19950304,1604, -29.2998,   9.8407,     4766,   1795.6,   2.8860,  34.8050,2,  34.8060,2,    209.1,2,    209.4,2,    46.30,2,    25.30,2,     1.72,2,    0.005,2,    0.008,2,   2206.7,2,     -999,9,     -999,9,     -999,9,     -999,9,     -999,9,   2.7540
35A3CITHER3_2 ,A13        ,151     ,  1,16         ,17         ,2,19950304,1604, -29.2998,   9.8407,     4766,   1996.4,   2.8290,  34.8440,2,  34.8450,2,    220.5,2,    220.4,2,    43.00,2,    25.50,2,     1.75,2,    0.004,2,    0.002,2,   2198.4,2,   2335.1,2,     -999,9,     -999,9,     -999,9,     -999,9,   2.6800
35A3CITHER3_2 ,A13        ,151     ,  1,17         ,16         ,2,19950304,1604, -29.2998,   9.8407,     4766,   2195.9,   2.6860,  34.8510,2,  34.8510,2,    224.8,2,    225.1,2,    45.70,2,    23.50,2,     1.61,2,    0.006,2,    0.006,2,   2198.6,2,     -999,9,     -999,9,     -999,9,     -999,9,     -999,9,   2.5210
35A3CITHER3_2 ,A13        ,151     ,  1,18         ,15         ,2,19950304,1604, -29.2998,   9.8407,     4766,   2396.3,   2.5790,  34.8560,2,  34.8610,2,    228.7,2,    228.1,2,    47.10,2,    23.20,2,     1.58,2,    0.007,2,   -0.001,2,   2197.2,2,     -999,9,     -999,9,     -999,9,     -999,9,     -999,9,   2.3970
35A3CITHER3_2 ,A13        ,151     ,  1,19         ,14         ,2,19950304,1604, -29.2998,   9.8407,     4766,   2597.0,   2.5140,  34.8610,2,  34.8620,2,    231.5,2,    230.8,2,    47.60,2,    23.10,2,     1.59,2,    0.002,2,    0.003,2,   2197.2,2,     -999,9,     -999,9,     -999,9,     -999,9,     -999,9,   2.3140
35A3CITHER3_2 ,A13        ,151     ,  1,20         ,13         ,2,19950304,1604, -29.2998,   9.8407,     4766,   2796.2,   2.4150,  34.8600,2,  34.8620,2,    231.6,2,    231.3,2,    50.40,2,    22.70,2,     1.58,2,    0.016,2,    0.009,2,   2200.8,2,     -999,9,     -999,9,     -999,9,     -999,9,     -999,9,   2.1980
35A3CITHER3_2 ,A13        ,151     ,  1,21         ,12         ,2,19950304,1604, -29.2998,   9.8407,     4766,   2996.2,   2.3610,  34.8620,2,  34.8630,2,    232.5,2,    231.9,2,    51.80,2,    23.40,2,     1.58,2,    0.018,2,    0.014,2,   2201.4,2,     -999,9,     -999,9,     -999,9,     -999,9,     -999,9,   2.1250
35A3CITHER3_2 ,A13        ,151     ,  1,22         ,11         ,2,19950304,1604, -29.2998,   9.8407,     4766,   3195.9,   2.3050,  34.8610,2,  34.8620,2,    232.5,2,    231.7,2,    53.60,2,    23.80,2,     1.55,2,    0.003,2,    0.001,2,   2204.2,2,   2345.0,2,     -999,9,     -999,9,     -999,9,     -999,9,   2.0500
35A3CITHER3_2 ,A13        ,151     ,  1,23         ,10         ,2,19950304,1604, -29.2998,   9.8407,     4766,   3397.1,   2.2460,  34.8560,2,  34.8590,2,    232.2,2,    231.3,2,    56.30,2,    23.60,2,     1.59,2,   -0.000,2,    0.001,2,   2207.0,2,     -999,9,     -999,9,     -999,9,     -999,9,     -999,9,   1.9710
35A3CITHER3_2 ,A13        ,151     ,  1,24         ,9          ,2,19950304,1604, -29.2998,   9.8407,     4766,   3597.0,   2.1600,  34.8480,2,  34.8480,2,    230.6,2,    229.8,2,    60.20,2,    24.80,2,     1.61,2,    0.003,2,     -999,9,   2211.5,2,     -999,9,     -999,9,     -999,9,     -999,9,     -999,9,   1.8660
35A3CITHER3_2 ,A13        ,151     ,  1,25         ,8          ,2,19950304,1604, -29.2998,   9.8407,     4766,   3796.8,   1.9830,  34.8290,2,  34.8290,2,    228.0,2,    226.8,2,    70.00,2,    26.60,3,     1.71,2,    0.002,2,    0.002,2,     -999,9,     -999,9,     -999,9,     -999,9,     -999,9,     -999,9,   1.6720
35A3CITHER3_2 ,A13        ,151     ,  1,26         ,7          ,2,19950304,1604, -29.2998,   9.8407,     4766,   3796.9,   1.9800,  34.8300,2,  34.8260,2,    228.0,2,    227.8,2,    70.20,2,    25.70,2,     1.69,2,    0.002,2,    0.004,2,   2218.3,2,     -999,9,     -999,9,     -999,9,     -999,9,     -999,9,   1.6690
35A3CITHER3_2 ,A13        ,151     ,  1,27         ,6          ,2,19950304,1604, -29.2998,   9.8407,     4766,   3996.5,   1.6760,  34.7970,2,  34.7980,2,    223.6,2,    223.2,2,    82.70,2,    26.50,2,     1.79,2,    0.004,2,     -999,9,   2228.8,2,   2356.5,2,     -999,9,     -999,9,     -999,9,     -999,9,   1.3520
35A3CITHER3_2 ,A13        ,151     ,  1,28         ,5          ,2,19950304,1604, -29.2998,   9.8407,     4766,   4197.6,   1.3690,  34.7650,2,  34.7650,2,    219.3,2,    220.0,2,    95.20,2,    28.40,2,     1.90,2,    0.005,2,    0.010,2,   2240.0,2,     -999,9,     -999,9,     -999,9,     -999,9,     -999,9,   1.0320
35A3CITHER3_2 ,A13        ,151     ,  1,29         ,4          ,2,19950304,1604, -29.2998,   9.8407,     4766,   4395.3,   1.2080,  34.7480,2,  34.7480,2,    217.7,2,    219.1,2,   102.40,2,    29.20,2,     1.96,2,    0.020,2,    0.015,2,   2246.2,2,     -999,9,     -999,9,     -999,9,     -999,9,     -999,9,   0.8540
35A3CITHER3_2 ,A13        ,151     ,  1,30         ,3          ,2,19950304,1604, -29.2998,   9.8407,     4766,   4597.1,   1.1360,  34.7400,2,  34.7410,2,    216.8,2,    216.9,2,   105.10,2,    29.60,2,     1.96,2,    0.010,2,    0.004,2,   2249.2,2,     -999,9,     -999,9,     -999,9,     -999,9,     -999,9,   0.7610
35A3CITHER3_2 ,A13        ,151     ,  1,31         ,2          ,2,19950304,1604, -29.2998,   9.8407,     4766,   4747.7,   1.1390,  34.7370,2,  34.7390,2,    216.6,2,    217.0,2,   105.90,2,    29.80,2,     1.96,2,     -999,9,     -999,9,   2251.2,2,     -999,9,     -999,9,     -999,9,     -999,9,     -999,9,   0.7460
35A3CITHER3_2 ,A13        ,151     ,  1,32         ,1          ,2,19950304,1604, -29.2998,   9.8407,     4766,   4820.0,   1.1420,  34.7370,2,  34.7380,2,    215.2,2,    217.1,2,   106.70,2,    28.50,3,     1.94,2,    0.027,2,    0.017,2,   2251.1,2,   2372.4,2,     -999,9,     -999,9,     -999,9,     -999,9,   0.7410