BOTTLE,20211216CCHDHYDRO
EXPOCODE,SECT_ID,STNNBR,CASTNO,SAMPNO,BTLNBR,BTLNBR_FLAG_W,DATE,TIME,LATITUDE,LONGITUDE,DEPTH,CTDPRS,CTDTMP,CTDSAL,CTDSAL_FLAG_W,SALNTY,SALNTY_FLAG_W,CTDOXY,CTDOXY_FLAG_W,OXYGEN,OXYGEN_FLAG_W,SILCAT,SILCAT_FLAG_W,NITRAT,NITRAT_FLAG_W,PHSPHT,PHSPHT_FLAG_W,CFC-11,CFC-11_FLAG_W,CFC-12,CFC-12_FLAG_W,TCARBN,TCARBN_FLAG_W,ALKALI,ALKALI_FLAG_W,TRITUM,TRITUM_FLAG_W,HELIUM,HELIUM_FLAG_W,DELHE3,DELHE3_FLAG_W,NEON,NEON_FLAG_W,THETA
,,,,,,,,,,,METERS,DBAR,DEG C,PSS-78,,PSS-78,,UMOL/KG,,UMOL/KG,,UMOL/KG,,UMOL/KG,,UMOL/KG,,PMOL/KG,,PMOL/KG,,UMOL/KG,,UMOL/KG,,TU,,NMOL/KG,,PERCNT,,NMOL/KG,,DEG C
35A3CITHER3_2 ,A13        ,181     ,  1,1          ,32         ,2,19950313,1427, -19.0038,   5.0002,     5154,      6.2,  24.4920,  36.0840,2,  36.0870,2,    212.7,2,    211.8,2,     2.50,2,     0.00,2,     0.21,2,    1.871,2,    0.999,2,     -999,9,     -999,9,     -999,9,     -999,9,     -999,9,     -999,9,  24.4910
35A3CITHER3_2 ,A13        ,181     ,  1,2          ,31         ,2,19950313,1427, -19.0038,   5.0002,     5154,     46.5,  22.1280,  35.7070,2,  35.7480,3,    236.0,2,    238.4,3,     2.80,2,     0.00,2,     0.20,2,    2.185,2,    1.119,2,     -999,9,     -999,9,     -999,9,     -999,9,     -999,9,     -999,9,  22.1190
35A3CITHER3_2 ,A13        ,181     ,  1,3          ,30         ,2,19950313,1427, -19.0038,   5.0002,     5154,     96.9,  17.0700,  35.7430,2,  35.7590,3,    195.6,2,    179.1,3,     4.30,2,    11.40,2,     0.84,2,    2.373,2,    1.202,2,     -999,9,     -999,9,     -999,9,     -999,9,     -999,9,     -999,9,  17.0540
35A3CITHER3_2 ,A13        ,181     ,  1,4          ,29         ,2,19950313,1427, -19.0038,   5.0002,     5154,    137.3,  14.2040,  35.3740,2,  35.3550,3,    109.4,2,    104.9,3,     7.60,2,    20.10,2,     1.28,2,    1.927,2,    0.949,2,     -999,9,     -999,9,     -999,9,     -999,9,     -999,9,     -999,9,  14.1840
35A3CITHER3_2 ,A13        ,181     ,  1,5          ,28         ,2,19950313,1427, -19.0038,   5.0002,     5154,    197.7,  11.6410,  35.0080,2,  35.0170,3,    156.5,2,    149.8,3,     9.00,2,    19.10,2,     1.25,2,    1.950,2,    0.947,2,     -999,9,     -999,9,     -999,9,     -999,9,     -999,9,     -999,9,  11.6160
35A3CITHER3_2 ,A13        ,181     ,  1,6          ,27         ,2,19950313,1427, -19.0038,   5.0002,     5154,    396.5,   8.0880,  34.7000,2,  34.7000,2,     70.3,2,     69.0,2,    19.00,2,    35.40,2,     2.25,2,    0.301,2,    0.150,2,     -999,9,     -999,9,     -999,9,     -999,9,     -999,9,     -999,9,   8.0470
35A3CITHER3_2 ,A13        ,181     ,  1,7          ,26         ,2,19950313,1427, -19.0038,   5.0002,     5154,    595.5,   5.7660,  34.5220,2,  34.5230,2,     97.3,2,     97.9,2,    26.50,2,    37.20,2,     2.40,2,    0.025,2,    0.017,2,     -999,9,     -999,9,     -999,9,     -999,9,     -999,9,     -999,9,   5.7150
35A3CITHER3_2 ,A13        ,181     ,  1,8          ,25         ,2,19950313,1427, -19.0038,   5.0002,     5154,    793.6,   4.5470,  34.4810,2,  34.4660,3,    131.6,2,    131.9,2,    33.10,2,    36.20,2,     2.35,2,    0.007,2,    0.003,2,     -999,9,     -999,9,     -999,9,     -999,9,     -999,9,     -999,9,   4.4850
35A3CITHER3_2 ,A13        ,181     ,  1,10         ,23         ,2,19950313,1427, -19.0038,   5.0002,     5154,    995.6,   3.8370,  34.5300,2,  34.5210,3,    162.9,2,    162.3,2,    37.70,2,    33.40,2,     2.24,2,    0.012,2,    0.008,2,     -999,9,     -999,9,     -999,9,     -999,9,     -999,9,     -999,9,   3.7630
35A3CITHER3_2 ,A13        ,181     ,  1,9          ,24         ,2,19950313,1427, -19.0038,   5.0002,     5154,    996.3,   3.8450,  34.5280,2,  34.5250,2,    162.9,2,    162.9,2,    37.90,2,    33.40,2,     2.18,2,    0.009,2,    0.009,2,     -999,9,     -999,9,     -999,9,     -999,9,     -999,9,     -999,9,   3.7710
35A3CITHER3_2 ,A13        ,181     ,  1,11         ,22         ,2,19950313,1427, -19.0038,   5.0002,     5154,   1195.8,   3.6980,  34.6740,2,  34.6680,3,    168.0,2,    168.0,2,    37.70,2,    31.00,2,     2.12,2,    0.005,2,    0.001,2,     -999,9,     -999,9,     -999,9,     -999,9,     -999,9,     -999,9,   3.6080
35A3CITHER3_2 ,A13        ,181     ,  1,12         ,21         ,2,19950313,1427, -19.0038,   5.0002,     5154,   1396.7,   3.6370,  34.7890,2,  34.7870,2,    187.4,2,    186.9,2,    33.60,2,    27.80,2,     1.91,2,    0.002,2,   -0.002,2,     -999,9,     -999,9,     -999,9,     -999,9,     -999,9,     -999,9,   3.5300
35A3CITHER3_2 ,A13        ,181     ,  1,13         ,20         ,2,19950313,1427, -19.0038,   5.0002,     5154,   1595.0,   3.5360,  34.8570,2,  34.8560,2,    207.6,2,    206.6,2,    30.70,2,    24.60,2,     1.60,2,    0.002,2,   -0.001,2,     -999,9,     -999,9,     -999,9,     -999,9,     -999,9,     -999,9,   3.4130
35A3CITHER3_2 ,A13        ,181     ,  1,14         ,19         ,2,19950313,1427, -19.0038,   5.0002,     5154,   1794.1,   3.4100,  34.8940,2,  34.8930,2,    219.5,2,    218.1,2,    30.00,2,    23.20,2,     1.43,2,    0.000,2,    0.000,2,     -999,9,     -999,9,     -999,9,     -999,9,     -999,9,     -999,9,   3.2710
35A3CITHER3_2 ,A13        ,181     ,  1,15         ,18         ,2,19950313,1427, -19.0038,   5.0002,     5154,   1996.1,   3.2560,  34.9060,2,  34.9050,2,    225.8,2,    224.3,2,    31.20,2,    22.80,2,     1.52,2,    0.000,2,    0.003,2,     -999,9,     -999,9,     -999,9,     -999,9,     -999,9,     -999,9,   3.1000
35A3CITHER3_2 ,A13        ,181     ,  1,16         ,17         ,2,19950313,1427, -19.0038,   5.0002,     5154,   2195.7,   3.0930,  34.9120,2,  34.9100,2,    229.6,2,    228.8,2,    33.30,2,    22.60,2,     1.47,2,    0.003,2,    0.001,2,     -999,9,     -999,9,     -999,9,     -999,9,     -999,9,     -999,9,   2.9210
35A3CITHER3_2 ,A13        ,181     ,  1,17         ,16         ,2,19950313,1427, -19.0038,   5.0002,     5154,   2395.4,   2.9000,  34.9060,2,  34.9050,2,    235.9,2,    236.7,2,    35.60,2,    22.30,2,     1.47,2,    0.004,2,    0.006,2,     -999,9,     -999,9,     -999,9,     -999,9,     -999,9,     -999,9,   2.7120
35A3CITHER3_2 ,A13        ,181     ,  1,18         ,15         ,2,19950313,1427, -19.0038,   5.0002,     5154,   2596.2,   2.7500,  34.9000,2,  34.8980,2,    235.9,2,    235.2,2,    38.90,2,    22.50,2,     1.46,2,    0.000,2,   -0.001,2,     -999,9,     -999,9,     -999,9,     -999,9,     -999,9,     -999,9,   2.5450
35A3CITHER3_2 ,A13        ,181     ,  1,19         ,14         ,2,19950313,1427, -19.0038,   5.0002,     5154,   2794.2,   2.6190,  34.8930,2,  34.8920,2,    235.9,2,    235.6,2,    42.00,2,    22.80,2,     1.48,2,    0.001,2,    0.005,2,     -999,9,     -999,9,     -999,9,     -999,9,     -999,9,     -999,9,   2.3980
35A3CITHER3_2 ,A13        ,181     ,  1,20         ,13         ,2,19950313,1427, -19.0038,   5.0002,     5154,   2998.7,   2.5250,  34.8900,2,  34.8880,2,    235.5,2,    234.8,2,    45.00,2,    22.90,2,     1.49,2,    0.001,2,   -0.006,2,     -999,9,     -999,9,     -999,9,     -999,9,     -999,9,     -999,9,   2.2850
35A3CITHER3_2 ,A13        ,181     ,  1,21         ,12         ,2,19950313,1427, -19.0038,   5.0002,     5154,   3195.8,   2.4600,  34.8890,2,  34.8870,2,    233.3,2,    233.4,2,    47.60,2,    23.10,2,     1.51,2,    0.001,2,    0.000,2,     -999,9,     -999,9,     -999,9,     -999,9,     -999,9,     -999,9,   2.2010
35A3CITHER3_2 ,A13        ,181     ,  1,22         ,11         ,2,19950313,1427, -19.0038,   5.0002,     5154,   3394.1,   2.4140,  34.8900,2,  34.8880,2,    231.7,2,    231.7,2,    49.20,2,    23.10,2,     1.52,2,    0.005,2,    0.004,2,     -999,9,     -999,9,     -999,9,     -999,9,     -999,9,     -999,9,   2.1350
35A3CITHER3_2 ,A13        ,181     ,  1,23         ,10         ,2,19950313,1427, -19.0038,   5.0002,     5154,   3596.9,   2.3840,  34.8900,2,  34.8890,2,    229.7,2,    229.7,2,    51.00,2,    23.30,2,     1.55,2,    0.000,2,    0.005,2,     -999,9,     -999,9,     -999,9,     -999,9,     -999,9,     -999,9,   2.0840
35A3CITHER3_2 ,A13        ,181     ,  1,24         ,9          ,2,19950313,1427, -19.0038,   5.0002,     5154,   3798.4,   2.3640,  34.8900,2,  34.8890,2,    229.6,2,    230.2,2,    50.90,2,    23.10,2,     1.52,2,    0.001,2,    0.004,2,     -999,9,     -999,9,     -999,9,     -999,9,     -999,9,     -999,9,   2.0420
35A3CITHER3_2 ,A13        ,181     ,  1,25         ,8          ,2,19950313,1427, -19.0038,   5.0002,     5154,   3997.3,   2.3600,  34.8890,2,  34.8890,2,    230.1,2,    229.6,2,    52.20,2,    23.10,2,     1.49,2,    0.002,2,    0.000,2,     -999,9,     -999,9,     -999,9,     -999,9,     -999,9,     -999,9,   2.0160
35A3CITHER3_2 ,A13        ,181     ,  1,26         ,7          ,2,19950313,1427, -19.0038,   5.0002,     5154,   4197.5,   2.3640,  34.8890,2,  34.8870,2,    230.7,2,    230.8,2,    52.20,2,    22.30,2,     1.38,3,    0.000,2,    0.003,2,     -999,9,     -999,9,     -999,9,     -999,9,     -999,9,     -999,9,   1.9970
35A3CITHER3_2 ,A13        ,181     ,  1,27         ,6          ,2,19950313,1427, -19.0038,   5.0002,     5154,   4395.7,   2.3730,  34.8850,2,  34.8840,2,    231.1,2,    231.1,2,    52.20,2,    23.00,2,     1.49,2,    0.002,2,    0.001,2,     -999,9,     -999,9,     -999,9,     -999,9,     -999,9,     -999,9,   1.9820
35A3CITHER3_2 ,A13        ,181     ,  1,28         ,5          ,2,19950313,1427, -19.0038,   5.0002,     5154,   4598.7,   2.3850,  34.8840,2,  34.8850,2,    231.0,2,    230.9,2,    51.90,2,    22.30,2,     1.43,2,    0.000,2,    0.000,2,     -999,9,     -999,9,     -999,9,     -999,9,     -999,9,     -999,9,   1.9690
35A3CITHER3_2 ,A13        ,181     ,  1,29         ,4          ,2,19950313,1427, -19.0038,   5.0002,     5154,   4798.3,   2.3990,  34.8840,2,  34.8800,2,    232.5,2,    233.0,2,    51.60,2,    22.60,2,     1.49,2,    0.004,2,    0.005,2,     -999,9,     -999,9,     -999,9,     -999,9,     -999,9,     -999,9,   1.9580
35A3CITHER3_2 ,A13        ,181     ,  1,30         ,3          ,2,19950313,1427, -19.0038,   5.0002,     5154,   4998.3,   2.4170,  34.8830,2,  34.8830,2,    233.4,2,    233.1,2,    51.30,2,    22.80,2,     1.49,2,    0.002,2,    0.004,2,     -999,9,     -999,9,     -999,9,     -999,9,     -999,9,     -999,9,   1.9510
35A3CITHER3_2 ,A13        ,181     ,  1,31         ,2          ,2,19950313,1427, -19.0038,   5.0002,     5154,   5195.6,   2.4360,  34.8820,2,  34.8830,2,    233.6,2,    233.6,2,    51.90,2,    21.20,3,     1.45,2,    0.008,2,    0.009,2,     -999,9,     -999,9,     -999,9,     -999,9,     -999,9,     -999,9,   1.9440
35A3CITHER3_2 ,A13        ,181     ,  1,32         ,1          ,2,19950313,1427, -19.0038,   5.0002,     5154,   5226.3,   2.4400,  34.8820,2,  34.8830,2,    232.7,2,    233.9,2,    51.60,2,    22.60,2,     1.48,2,    0.004,2,    0.003,2,     -999,9,     -999,9,     -999,9,     -999,9,     -999,9,     -999,9,   1.9440