BOTTLE,20211216CCHDHYDRO
EXPOCODE,SECT_ID,STNNBR,CASTNO,SAMPNO,BTLNBR,BTLNBR_FLAG_W,DATE,TIME,LATITUDE,LONGITUDE,DEPTH,CTDPRS,CTDTMP,CTDSAL,CTDSAL_FLAG_W,SALNTY,SALNTY_FLAG_W,CTDOXY,CTDOXY_FLAG_W,OXYGEN,OXYGEN_FLAG_W,SILCAT,SILCAT_FLAG_W,NITRAT,NITRAT_FLAG_W,PHSPHT,PHSPHT_FLAG_W,CFC-11,CFC-11_FLAG_W,CFC-12,CFC-12_FLAG_W,TCARBN,TCARBN_FLAG_W,ALKALI,ALKALI_FLAG_W,TRITUM,TRITUM_FLAG_W,HELIUM,HELIUM_FLAG_W,DELHE3,DELHE3_FLAG_W,NEON,NEON_FLAG_W,THETA
,,,,,,,,,,,METERS,DBAR,DEG C,PSS-78,,PSS-78,,UMOL/KG,,UMOL/KG,,UMOL/KG,,UMOL/KG,,UMOL/KG,,PMOL/KG,,PMOL/KG,,UMOL/KG,,UMOL/KG,,TU,,NMOL/KG,,PERCNT,,NMOL/KG,,DEG C
35A3CITHER3_2 ,A13        ,209     ,  1,1          ,32         ,2,19950320,1834,  -5.5005,   5.0022,     4994,     43.5,  20.1830,  35.7260,2,  35.7750,3,    229.3,2,    194.7,3,     2.90,2,     2.90,2,     0.37,2,    1.615,2,    0.803,2,     -999,9,     -999,9,     -999,9,     -999,9,     -999,9,     -999,9,  20.1750
35A3CITHER3_2 ,A13        ,209     ,  1,2          ,31         ,2,19950320,1834,  -5.5005,   5.0022,     4994,     46.4,  18.2640,  35.7140,2,  35.7250,3,    221.3,2,    166.1,3,     3.70,2,     8.20,2,     0.59,2,    1.576,2,    0.780,2,     -999,9,     -999,9,     -999,9,     -999,9,     -999,9,     -999,9,  18.2560
35A3CITHER3_2 ,A13        ,209     ,  1,3          ,30         ,2,19950320,1834,  -5.5005,   5.0022,     4994,    122.0,  14.7420,  35.5080,2,  35.5190,3,     94.1,2,     87.2,3,     7.80,2,    20.90,2,     1.33,2,    1.297,2,    0.652,2,     -999,9,     -999,9,     -999,9,     -999,9,     -999,9,     -999,9,  14.7240
35A3CITHER3_2 ,A13        ,209     ,  1,4          ,29         ,2,19950320,1834,  -5.5005,   5.0022,     4994,    195.8,  13.5280,  35.3520,2,  35.3510,2,     61.2,2,     59.1,2,    10.00,2,    25.60,2,     1.59,2,    0.881,2,    0.456,2,     -999,9,     -999,9,     -999,9,     -999,9,     -999,9,     -999,9,  13.5000
35A3CITHER3_2 ,A13        ,209     ,  1,5          ,28         ,2,19950320,1834,  -5.5005,   5.0022,     4994,    371.3,   9.3240,  34.8770,2,  34.8770,2,     27.8,2,     28.0,2,    17.10,2,    37.50,2,     2.23,2,    0.138,2,    0.081,2,     -999,9,     -999,9,     -999,9,     -999,9,     -999,9,     -999,9,   9.2820
35A3CITHER3_2 ,A13        ,209     ,  1,6          ,27         ,2,19950320,1834,  -5.5005,   5.0022,     4994,    496.0,   7.0190,  34.6370,2,  34.6400,2,     78.2,2,     81.3,2,    21.00,2,    37.40,2,     2.27,2,    0.081,2,    0.049,2,     -999,9,     -999,9,     -999,9,     -999,9,     -999,9,     -999,9,   6.9720
35A3CITHER3_2 ,A13        ,209     ,  1,7          ,26         ,2,19950320,1834,  -5.5005,   5.0022,     4994,    594.7,   6.2920,  34.5750,2,  34.5770,2,     89.1,2,     89.1,2,    23.60,2,    37.90,2,     2.36,2,    0.040,2,    0.024,2,     -999,9,     -999,9,     -999,9,     -999,9,     -999,9,     -999,9,   6.2380
35A3CITHER3_2 ,A13        ,209     ,  1,8          ,25         ,2,19950320,1834,  -5.5005,   5.0022,     4994,    795.0,   4.8750,  34.5040,2,  34.4840,3,    121.4,2,    120.7,2,    28.70,2,    37.30,2,     2.36,2,    0.009,2,    0.002,2,     -999,9,     -999,9,     -999,9,     -999,9,     -999,9,     -999,9,   4.8110
35A3CITHER3_2 ,A13        ,209     ,  1,9          ,24         ,2,19950320,1834,  -5.5005,   5.0022,     4994,    994.6,   4.2740,  34.6000,2,  34.5980,2,    147.3,2,    148.5,2,    32.70,2,    34.30,2,     2.21,2,    0.004,2,    0.003,2,     -999,9,     -999,9,     -999,9,     -999,9,     -999,9,     -999,9,   4.1970
35A3CITHER3_2 ,A13        ,209     ,  1,10         ,23         ,2,19950320,1834,  -5.5005,   5.0022,     4994,   1195.3,   4.1880,  34.7670,2,  34.7580,3,    174.4,2,    172.7,2,    28.70,2,    30.10,2,     1.91,2,    0.008,2,    0.001,2,     -999,9,     -999,9,     -999,9,     -999,9,     -999,9,     -999,9,   4.0940
35A3CITHER3_2 ,A13        ,209     ,  1,11         ,22         ,2,19950320,1834,  -5.5005,   5.0022,     4994,   1395.9,   4.0590,  34.8850,2,  34.8860,2,    202.5,2,    199.4,2,    25.10,2,    24.60,2,     1.63,2,    0.006,2,    0.005,2,     -999,9,     -999,9,     -999,9,     -999,9,     -999,9,     -999,9,   3.9480
35A3CITHER3_2 ,A13        ,209     ,  1,12         ,21         ,2,19950320,1834,  -5.5005,   5.0022,     4994,   1595.1,   3.8880,  34.9320,2,  34.9330,2,    224.0,2,    220.7,2,    23.20,2,    22.30,2,     1.47,2,    0.009,2,    0.008,2,     -999,9,     -999,9,     -999,9,     -999,9,     -999,9,     -999,9,   3.7610
35A3CITHER3_2 ,A13        ,209     ,  1,13         ,20         ,2,19950320,1834,  -5.5005,   5.0022,     4994,   1795.4,   3.6730,  34.9460,2,  34.9450,2,    235.0,2,    231.3,2,    22.50,2,    21.10,2,     1.39,2,    0.002,2,    0.001,2,     -999,9,     -999,9,     -999,9,     -999,9,     -999,9,     -999,9,   3.5300
35A3CITHER3_2 ,A13        ,209     ,  1,15         ,18         ,2,19950320,1834,  -5.5005,   5.0022,     4994,   1994.3,   3.4250,  34.9420,2,  34.9430,2,    239.5,2,    236.3,2,    25.10,2,    21.00,2,     1.38,2,    0.004,2,     -999,9,     -999,9,     -999,9,     -999,9,     -999,9,     -999,9,     -999,9,   3.2670
35A3CITHER3_2 ,A13        ,209     ,  1,14         ,19         ,2,19950320,1834,  -5.5005,   5.0022,     4994,   1994.9,   3.4270,  34.9420,2,  34.9430,2,    239.5,2,    235.7,2,    25.10,2,    20.70,2,     1.34,2,    0.003,2,    0.007,2,     -999,9,     -999,9,     -999,9,     -999,9,     -999,9,     -999,9,   3.2690
35A3CITHER3_2 ,A13        ,209     ,  1,16         ,17         ,2,19950320,1834,  -5.5005,   5.0022,     4994,   2196.8,   3.2340,  34.9370,2,  34.9400,2,    240.4,2,    237.3,2,    27.90,2,    21.00,2,     1.38,2,    0.007,2,    0.005,2,     -999,9,     -999,9,     -999,9,     -999,9,     -999,9,     -999,9,   3.0590
35A3CITHER3_2 ,A13        ,209     ,  1,17         ,16         ,2,19950320,1834,  -5.5005,   5.0022,     4994,   2396.4,   3.0710,  34.9300,2,  34.9310,2,    235.5,2,    232.9,2,    31.70,2,    21.30,2,     1.42,2,    0.006,2,    0.006,2,     -999,9,     -999,9,     -999,9,     -999,9,     -999,9,     -999,9,   2.8800
35A3CITHER3_2 ,A13        ,209     ,  1,18         ,15         ,2,19950320,1834,  -5.5005,   5.0022,     4994,   2596.4,   2.8960,  34.9230,2,  34.9230,2,    236.9,2,    235.4,2,    34.40,2,    21.20,2,     1.41,2,    0.006,2,     -999,9,     -999,9,     -999,9,     -999,9,     -999,9,     -999,9,     -999,9,   2.6890
35A3CITHER3_2 ,A13        ,209     ,  1,19         ,14         ,2,19950320,1834,  -5.5005,   5.0022,     4994,   2794.8,   2.7540,  34.9150,2,  34.9080,3,    236.1,2,    235.3,2,    37.40,3,    21.60,2,     1.42,2,     -999,9,    0.003,2,     -999,9,     -999,9,     -999,9,     -999,9,     -999,9,     -999,9,   2.5300
35A3CITHER3_2 ,A13        ,209     ,  1,20         ,13         ,2,19950320,1834,  -5.5005,   5.0022,     4994,   2995.9,   2.6420,  34.9090,2,  34.9090,2,    235.9,2,    235.4,2,    40.40,2,    21.60,2,     1.42,2,    0.002,2,    0.000,2,     -999,9,     -999,9,     -999,9,     -999,9,     -999,9,     -999,9,   2.4000
35A3CITHER3_2 ,A13        ,209     ,  1,21         ,12         ,2,19950320,1834,  -5.5005,   5.0022,     4994,   3195.7,   2.5700,  34.9050,2,  34.9050,2,    236.1,2,    235.2,2,    41.90,2,    21.90,2,     1.44,2,   -0.000,2,    0.000,2,     -999,9,     -999,9,     -999,9,     -999,9,     -999,9,     -999,9,   2.3080
35A3CITHER3_2 ,A13        ,209     ,  1,22         ,11         ,2,19950320,1834,  -5.5005,   5.0022,     4994,   3395.5,   2.5050,  34.9000,2,  34.9010,2,    235.9,2,    234.6,2,    43.80,2,    22.00,2,     1.45,2,    0.001,2,    0.002,2,     -999,9,     -999,9,     -999,9,     -999,9,     -999,9,     -999,9,   2.2240
35A3CITHER3_2 ,A13        ,209     ,  1,23         ,10         ,2,19950320,1834,  -5.5005,   5.0022,     4994,   3597.6,   2.4470,  34.8970,2,  34.8950,2,    233.6,2,    232.3,2,    46.00,2,    22.30,2,     1.49,2,    0.001,2,    0.002,2,     -999,9,     -999,9,     -999,9,     -999,9,     -999,9,     -999,9,   2.1450
35A3CITHER3_2 ,A13        ,209     ,  1,24         ,9          ,2,19950320,1834,  -5.5005,   5.0022,     4994,   3797.0,   2.3910,  34.8930,2,  34.8890,2,    230.8,2,    226.6,3,    50.70,2,    22.40,2,     1.50,2,    0.001,2,     -999,9,     -999,9,     -999,9,     -999,9,     -999,9,     -999,9,     -999,9,   2.0690
35A3CITHER3_2 ,A13        ,209     ,  1,25         ,8          ,2,19950320,1834,  -5.5005,   5.0022,     4994,   3996.4,   2.3320,  34.8870,2,  34.8830,2,    220.7,2,    220.5,2,    54.40,2,    22.90,2,     1.52,2,    0.002,2,    0.005,2,     -999,9,     -999,9,     -999,9,     -999,9,     -999,9,     -999,9,   1.9890
35A3CITHER3_2 ,A13        ,209     ,  1,27         ,6          ,2,19950320,1834,  -5.5005,   5.0022,     4994,   4195.7,   2.3250,  34.8850,2,  34.8850,2,    229.0,2,    229.6,2,    51.30,2,    22.40,2,     1.48,2,    0.002,2,    0.004,2,     -999,9,     -999,9,     -999,9,     -999,9,     -999,9,     -999,9,   1.9590
35A3CITHER3_2 ,A13        ,209     ,  1,26         ,7          ,2,19950320,1834,  -5.5005,   5.0022,     4994,   4196.2,   2.3240,  34.8850,2,  34.8860,2,    229.0,2,    229.7,2,    51.30,2,    22.30,2,     1.45,2,    0.002,2,    0.004,2,     -999,9,     -999,9,     -999,9,     -999,9,     -999,9,     -999,9,   1.9580
35A3CITHER3_2 ,A13        ,209     ,  1,28         ,5          ,2,19950320,1834,  -5.5005,   5.0022,     4994,   4396.6,   2.3290,  34.8840,2,  34.8820,2,    232.1,2,    232.4,2,    50.50,2,    21.60,2,     1.43,2,   -0.001,2,    0.001,2,     -999,9,     -999,9,     -999,9,     -999,9,     -999,9,     -999,9,   1.9390
35A3CITHER3_2 ,A13        ,209     ,  1,29         ,4          ,2,19950320,1834,  -5.5005,   5.0022,     4994,   4596.8,   2.3390,  34.8810,2,  34.8820,2,    234.4,2,    234.6,2,    50.50,2,    22.50,2,     1.49,2,    0.000,2,    0.003,2,     -999,9,     -999,9,     -999,9,     -999,9,     -999,9,     -999,9,   1.9250
35A3CITHER3_2 ,A13        ,209     ,  1,30         ,3          ,2,19950320,1834,  -5.5005,   5.0022,     4994,   4797.2,   2.3510,  34.8790,2,  34.8810,2,    235.8,2,    234.8,2,    50.70,2,    22.90,2,     1.49,2,   -0.001,2,     -999,9,     -999,9,     -999,9,     -999,9,     -999,9,     -999,9,     -999,9,   1.9120
35A3CITHER3_2 ,A13        ,209     ,  1,31         ,2          ,2,19950320,1834,  -5.5005,   5.0022,     4994,   4997.6,   2.3720,  34.8780,2,  34.8800,2,    234.8,2,    234.0,2,    50.80,2,    21.10,3,     1.45,2,    0.002,2,    0.008,2,     -999,9,     -999,9,     -999,9,     -999,9,     -999,9,     -999,9,   1.9070
35A3CITHER3_2 ,A13        ,209     ,  1,32         ,1          ,2,19950320,1834,  -5.5005,   5.0022,     4994,   5049.9,   2.3730,  34.8770,2,  34.8800,2,    232.1,2,    233.6,2,    51.30,2,    22.00,2,     1.47,2,    0.007,2,    0.007,2,     -999,9,     -999,9,     -999,9,     -999,9,     -999,9,     -999,9,   1.9020