BOTTLE,20211216CCHDHYDRO
EXPOCODE,SECT_ID,STNNBR,CASTNO,SAMPNO,BTLNBR,BTLNBR_FLAG_W,DATE,TIME,LATITUDE,LONGITUDE,DEPTH,CTDPRS,CTDTMP,CTDSAL,CTDSAL_FLAG_W,SALNTY,SALNTY_FLAG_W,CTDOXY,CTDOXY_FLAG_W,OXYGEN,OXYGEN_FLAG_W,SILCAT,SILCAT_FLAG_W,NITRAT,NITRAT_FLAG_W,PHSPHT,PHSPHT_FLAG_W,CFC-11,CFC-11_FLAG_W,CFC-12,CFC-12_FLAG_W,TCARBN,TCARBN_FLAG_W,ALKALI,ALKALI_FLAG_W,TRITUM,TRITUM_FLAG_W,HELIUM,HELIUM_FLAG_W,DELHE3,DELHE3_FLAG_W,NEON,NEON_FLAG_W,THETA
,,,,,,,,,,,METERS,DBAR,DEG C,PSS-78,,PSS-78,,UMOL/KG,,UMOL/KG,,UMOL/KG,,UMOL/KG,,UMOL/KG,,PMOL/KG,,PMOL/KG,,UMOL/KG,,UMOL/KG,,TU,,NMOL/KG,,PERCNT,,NMOL/KG,,DEG C
35A3CITHER3_2 ,A13        ,213     ,  1,1          ,32         ,2,19950321,1708,  -4.0000,   4.3675,     4973,      5.8,  29.9350,  34.9760,2,  34.9840,3,    219.4,2,    218.7,2,     1.80,2,     0.00,2,     0.02,2,    1.550,2,    0.854,2,     -999,9,     -999,9,    0.853,2,   1.6880,2,    -1.08,2,    6.588,2,  29.9340
35A3CITHER3_2 ,A13        ,213     ,  1,2          ,31         ,2,19950321,1708,  -4.0000,   4.3675,     4973,     47.5,  21.7610,  35.9530,2,  35.9620,3,    193.1,2,    168.9,3,     3.30,2,     5.70,2,     0.33,2,    1.754,2,    0.889,2,     -999,9,     -999,9,     -999,9,     -999,9,     -999,9,     -999,9,  21.7520
35A3CITHER3_2 ,A13        ,213     ,  1,3          ,30         ,2,19950321,1708,  -4.0000,   4.3675,     4973,    122.0,  16.0810,  35.6790,2,  35.6740,3,    129.6,2,    132.5,2,     5.90,2,    14.80,2,     0.97,2,    1.642,2,    0.801,2,     -999,9,     -999,9,    0.607,2,   1.7290,2,     0.58,2,    7.126,2,  16.0620
35A3CITHER3_2 ,A13        ,213     ,  1,4          ,29         ,2,19950321,1708,  -4.0000,   4.3675,     4973,    195.0,  14.8110,  35.5190,2,  35.5100,3,     99.8,2,     96.0,2,     8.00,2,    19.80,2,     1.25,2,    1.307,2,    0.649,2,     -999,9,     -999,9,     -999,9,   1.7380,2,     1.16,2,    7.200,1,  14.7820
35A3CITHER3_2 ,A13        ,213     ,  1,5          ,28         ,2,19950321,1708,  -4.0000,   4.3675,     4973,    336.0,  10.4250,  34.9880,2,  34.9760,3,     34.7,2,     33.8,2,    15.00,2,    34.40,2,     2.06,2,    0.254,2,    0.268,2,     -999,9,     -999,9,    0.148,2,   1.7670,2,     1.14,2,    7.413,2,  10.3850
35A3CITHER3_2 ,A13        ,213     ,  1,6          ,27         ,2,19950321,1708,  -4.0000,   4.3675,     4973,    444.8,   7.7770,  34.7070,2,  34.6990,3,     71.0,2,     74.8,3,    19.50,2,    36.50,2,     2.20,2,    0.142,2,    0.186,2,     -999,9,     -999,9,    0.069,2,   1.7730,2,     1.05,2,    7.549,2,   7.7320
35A3CITHER3_2 ,A13        ,213     ,  1,7          ,26         ,2,19950321,1708,  -4.0000,   4.3675,     4973,    595.0,   6.4230,  34.5810,2,  34.5820,2,    102.2,2,     99.9,2,    23.20,2,    36.10,2,     2.25,2,    0.078,2,    0.054,2,     -999,9,     -999,9,    0.034,2,   1.7870,2,     1.20,2,    7.640,2,   6.3690
35A3CITHER3_2 ,A13        ,213     ,  1,8          ,25         ,2,19950321,1708,  -4.0000,   4.3675,     4973,    795.1,   4.7460,  34.5000,2,  34.5000,2,    142.7,2,    142.6,2,    30.60,2,    35.00,2,     2.26,2,    0.031,2,    0.031,2,     -999,9,     -999,9,     -999,9,     -999,9,     -999,9,     -999,9,   4.6820
35A3CITHER3_2 ,A13        ,213     ,  1,9          ,24         ,2,19950321,1708,  -4.0000,   4.3675,     4973,    996.7,   4.3540,  34.6060,2,  34.6000,2,    152.9,2,    150.9,2,    32.20,2,    33.40,2,     2.17,2,    0.004,2,    0.008,2,     -999,9,     -999,9,    0.007,6,   1.8260,6,     1.94,6,    7.866,2,   4.2760
35A3CITHER3_2 ,A13        ,213     ,  1,10         ,23         ,2,19950321,1708,  -4.0000,   4.3675,     4973,   1194.6,   4.2560,  34.7740,2,  34.7570,3,    174.1,2,    173.5,2,    28.30,2,    29.40,2,     1.91,2,    0.009,2,    0.007,2,     -999,9,     -999,9,     -999,9,     -999,9,     -999,9,     -999,9,   4.1610
35A3CITHER3_2 ,A13        ,213     ,  1,12         ,21         ,2,19950321,1708,  -4.0000,   4.3675,     4973,   1394.2,   4.1560,  34.8970,2,  34.8980,2,    206.2,2,    204.2,2,    23.40,2,    24.60,2,     1.55,2,    0.015,2,     -999,9,     -999,9,     -999,9,    0.017,2,   1.8120,2,     1.64,2,    7.820,2,   4.0440
35A3CITHER3_2 ,A13        ,213     ,  1,11         ,22         ,2,19950321,1708,  -4.0000,   4.3675,     4973,   1394.6,   4.1550,  34.8960,2,  34.8980,2,    206.2,2,    203.6,2,    23.40,2,    24.20,2,     1.57,2,    0.011,2,    0.004,2,     -999,9,     -999,9,     -999,9,     -999,9,     -999,9,     -999,9,   4.0430
35A3CITHER3_2 ,A13        ,213     ,  1,13         ,20         ,2,19950321,1708,  -4.0000,   4.3675,     4973,   1595.1,   4.0090,  34.9500,2,  34.9500,2,    227.2,2,    225.5,2,    21.10,2,    20.90,2,     1.38,2,    0.007,2,    0.006,2,     -999,9,     -999,9,     -999,9,     -999,9,     -999,9,     -999,9,   3.8800
35A3CITHER3_2 ,A13        ,213     ,  1,14         ,19         ,2,19950321,1708,  -4.0000,   4.3675,     4973,   1795.0,   3.7250,  34.9570,2,  34.9550,2,    236.2,2,    234.2,2,    22.10,2,    19.90,2,     1.25,4,    0.006,2,    0.005,2,     -999,9,     -999,9,    0.014,3,   1.8120,3,     1.81,3,    7.849,2,   3.5810
35A3CITHER3_2 ,A13        ,213     ,  1,15         ,18         ,2,19950321,1708,  -4.0000,   4.3675,     4973,   1995.8,   3.5050,  34.9540,2,  34.9540,2,    241.5,2,    238.4,2,    24.00,2,    20.30,2,     1.32,2,    0.007,2,     -999,9,     -999,9,     -999,9,     -999,9,   1.8180,2,     1.80,2,     -999,9,   3.3450
35A3CITHER3_2 ,A13        ,213     ,  1,16         ,17         ,2,19950321,1708,  -4.0000,   4.3675,     4973,   2196.8,   3.2040,  34.9390,2,  34.9380,2,    240.0,2,    237.1,2,    28.80,2,    21.40,2,     1.39,2,    0.004,2,    0.004,2,     -999,9,     -999,9,    0.006,2,   1.8210,2,     2.47,2,    7.925,2,   3.0300
35A3CITHER3_2 ,A13        ,213     ,  1,17         ,16         ,2,19950321,1708,  -4.0000,   4.3675,     4973,   2395.0,   3.0280,  34.9310,2,  34.9330,2,    238.5,2,    235.9,2,    32.50,2,    20.80,2,     1.37,2,    0.005,2,    0.004,2,     -999,9,     -999,9,     -999,9,     -999,9,     -999,9,     -999,9,   2.8380
35A3CITHER3_2 ,A13        ,213     ,  1,18         ,15         ,2,19950321,1708,  -4.0000,   4.3675,     4973,   2594.9,   2.8560,  34.9230,2,  34.9220,2,    239.1,2,    236.0,2,    35.70,2,    21.20,2,     1.36,2,    0.002,2,    0.006,2,     -999,9,     -999,9,     -999,9,   1.8340,2,     3.33,2,     -999,9,   2.6490
35A3CITHER3_2 ,A13        ,213     ,  1,19         ,14         ,2,19950321,1708,  -4.0000,   4.3675,     4973,   2795.0,   2.7200,  34.9140,2,  34.9150,2,    237.5,2,    235.1,2,    38.70,2,    22.30,2,     1.41,2,    0.000,2,    0.002,2,     -999,9,     -999,9,    0.009,2,   1.8360,2,     3.74,2,    7.980,2,   2.4960
35A3CITHER3_2 ,A13        ,213     ,  1,20         ,13         ,2,19950321,1708,  -4.0000,   4.3675,     4973,   2995.6,   2.6240,  34.9090,2,  34.9080,2,    236.0,2,    234.2,2,    41.30,2,    22.00,2,     1.38,2,    0.008,2,    0.007,2,     -999,9,     -999,9,    0.003,2,   1.8400,2,     3.24,2,    7.972,2,   2.3820
35A3CITHER3_2 ,A13        ,213     ,  1,21         ,12         ,2,19950321,1708,  -4.0000,   4.3675,     4973,   3196.2,   2.5510,  34.9050,2,  34.9040,2,    236.0,2,    234.8,2,    42.70,2,    22.30,2,     1.41,2,    0.001,2,     -999,9,     -999,9,     -999,9,     -999,9,     -999,9,     -999,9,     -999,9,   2.2900
35A3CITHER3_2 ,A13        ,213     ,  1,22         ,11         ,2,19950321,1708,  -4.0000,   4.3675,     4973,   3396.7,   2.4850,  34.9000,2,  34.8980,2,    236.3,2,    235.2,2,    44.60,2,    22.20,2,     1.40,2,    0.004,2,    0.001,2,     -999,9,     -999,9,    0.007,2,   1.8470,2,     3.57,2,    8.031,2,   2.2040
35A3CITHER3_2 ,A13        ,213     ,  1,23         ,10         ,2,19950321,1708,  -4.0000,   4.3675,     4973,   3596.1,   2.4130,  34.8960,2,  34.8920,2,    235.3,2,    234.6,2,    46.90,2,    22.50,2,     1.42,2,    0.002,2,    0.000,2,     -999,9,     -999,9,     -999,9,     -999,9,     -999,9,     -999,9,   2.1120
35A3CITHER3_2 ,A13        ,213     ,  1,24         ,9          ,2,19950321,1708,  -4.0000,   4.3675,     4973,   3596.4,   2.4120,  34.8950,2,  34.8910,2,    235.3,2,    234.5,2,    47.00,2,    22.10,2,     1.40,2,    0.002,2,    0.004,2,     -999,9,     -999,9,     -999,9,     -999,9,     -999,9,     -999,9,   2.1110
35A3CITHER3_2 ,A13        ,213     ,  1,25         ,8          ,2,19950321,1708,  -4.0000,   4.3675,     4973,   3795.1,   2.3590,  34.8910,2,  34.8890,2,    233.9,2,    233.0,2,    49.30,2,    22.20,2,     1.38,2,    0.003,2,    0.001,2,     -999,9,     -999,9,     -999,9,     -999,9,     -999,9,     -999,9,   2.0380
35A3CITHER3_2 ,A13        ,213     ,  1,26         ,7          ,2,19950321,1708,  -4.0000,   4.3675,     4973,   3997.8,   2.3200,  34.8870,2,  34.8840,2,    230.2,2,    229.5,2,    52.20,2,    22.20,2,     1.39,2,    0.006,2,    0.003,2,     -999,9,     -999,9,    0.003,2,   1.8410,2,     3.30,2,    8.040,2,   1.9770
35A3CITHER3_2 ,A13        ,213     ,  1,27         ,6          ,2,19950321,1708,  -4.0000,   4.3675,     4973,   4195.1,   2.3150,  34.8850,2,  34.8840,2,    230.0,2,    229.6,2,    52.60,2,    22.50,2,     1.44,2,    0.009,2,    0.003,2,     -999,9,     -999,9,     -999,9,     -999,9,     -999,9,     -999,9,   1.9500
35A3CITHER3_2 ,A13        ,213     ,  1,28         ,5          ,2,19950321,1708,  -4.0000,   4.3675,     4973,   4397.0,   2.3190,  34.8830,2,     -999,9,    232.4,2,    239.1,2,     -999,9,     -999,9,     -999,9,    0.001,2,    0.002,2,     -999,9,     -999,9,     -999,9,     -999,9,     -999,9,     -999,9,   1.9300
35A3CITHER3_2 ,A13        ,213     ,  1,29         ,4          ,2,19950321,1708,  -4.0000,   4.3675,     4973,   4598.2,   2.3160,  34.8790,2,  34.8770,2,    234.4,2,    236.6,2,    51.20,2,    22.50,2,     1.44,2,    0.007,2,    0.006,2,     -999,9,     -999,9,    0.010,2,   1.8440,2,     3.09,2,    8.007,2,   1.9030
35A3CITHER3_2 ,A13        ,213     ,  1,30         ,3          ,2,19950321,1708,  -4.0000,   4.3675,     4973,   4797.6,   2.3230,  34.8780,2,  34.8770,2,    239.3,2,    238.9,2,    50.70,2,    22.90,2,     1.45,2,    0.003,2,    0.003,2,     -999,9,     -999,9,     -999,9,   1.8400,2,     3.00,2,     -999,9,   1.8850
35A3CITHER3_2 ,A13        ,213     ,  1,31         ,2          ,2,19950321,1708,  -4.0000,   4.3675,     4973,   4948.3,   2.3330,  34.8760,2,  34.8750,2,    240.1,2,    239.4,2,    50.70,2,    20.40,3,     1.35,3,    0.001,2,    0.005,2,     -999,9,     -999,9,     -999,9,     -999,9,     -999,9,     -999,9,   1.8760
35A3CITHER3_2 ,A13        ,213     ,  1,32         ,1          ,2,19950321,1708,  -4.0000,   4.3675,     4973,   5022.3,   2.3380,  34.8760,2,  34.8750,2,    238.0,2,    239.5,2,    50.90,2,    22.00,2,     1.42,2,    0.004,2,    0.003,2,     -999,9,     -999,9,    0.012,2,   1.8390,2,     3.13,2,    8.017,2,   1.8710