BOTTLE,20211216CCHDHYDRO
EXPOCODE,SECT_ID,STNNBR,CASTNO,SAMPNO,BTLNBR,BTLNBR_FLAG_W,DATE,TIME,LATITUDE,LONGITUDE,DEPTH,CTDPRS,CTDTMP,CTDSAL,CTDSAL_FLAG_W,SALNTY,SALNTY_FLAG_W,CTDOXY,CTDOXY_FLAG_W,OXYGEN,OXYGEN_FLAG_W,SILCAT,SILCAT_FLAG_W,NITRAT,NITRAT_FLAG_W,PHSPHT,PHSPHT_FLAG_W,CFC-11,CFC-11_FLAG_W,CFC-12,CFC-12_FLAG_W,TCARBN,TCARBN_FLAG_W,ALKALI,ALKALI_FLAG_W,TRITUM,TRITUM_FLAG_W,HELIUM,HELIUM_FLAG_W,DELHE3,DELHE3_FLAG_W,NEON,NEON_FLAG_W,THETA
,,,,,,,,,,,METERS,DBAR,DEG C,PSS-78,,PSS-78,,UMOL/KG,,UMOL/KG,,UMOL/KG,,UMOL/KG,,UMOL/KG,,PMOL/KG,,PMOL/KG,,UMOL/KG,,UMOL/KG,,TU,,NMOL/KG,,PERCNT,,NMOL/KG,,DEG C
35A3CITHER3_2 ,A13        ,180     ,  1,1          ,32         ,2,19950313,0818, -19.4987,   5.0103,     5118,     11.1,  23.9930,  35.8360,2,  35.8360,2,    216.4,2,    212.0,3,     4.10,2,     0.00,2,     0.34,2,    1.912,2,    1.000,2,     -999,9,     -999,9,     -999,9,     -999,9,     -999,9,     -999,9,  23.9910
35A3CITHER3_2 ,A13        ,180     ,  1,2          ,31         ,2,19950313,0818, -19.4987,   5.0103,     5118,     44.6,  18.8400,  35.6220,2,  35.6060,3,    257.8,2,    247.4,3,     5.30,2,     0.00,2,     0.25,2,    2.509,2,    1.256,2,     -999,9,     -999,9,     -999,9,     -999,9,     -999,9,     -999,9,  18.8320
35A3CITHER3_2 ,A13        ,180     ,  1,3          ,30         ,2,19950313,0818, -19.4987,   5.0103,     5118,    119.7,  14.5050,  35.2880,2,  35.2900,2,    200.4,2,    185.8,3,     7.00,2,    10.90,2,     0.83,2,    2.572,2,    1.260,2,     -999,9,     -999,9,     -999,9,     -999,9,     -999,9,     -999,9,  14.4870
35A3CITHER3_2 ,A13        ,180     ,  1,4          ,29         ,2,19950313,0818, -19.4987,   5.0103,     5118,    195.8,  12.1910,  35.0750,2,  35.0750,2,    138.4,2,    136.4,2,    10.10,2,    19.80,2,     1.27,2,    1.965,2,    0.936,2,     -999,9,     -999,9,     -999,9,     -999,9,     -999,9,     -999,9,  12.1650
35A3CITHER3_2 ,A13        ,180     ,  1,5          ,28         ,2,19950313,0818, -19.4987,   5.0103,     5118,    325.0,   9.4610,  34.8170,2,  34.8190,2,     71.2,2,     71.7,2,    16.60,2,    31.80,2,     2.00,2,    0.783,2,    0.402,2,     -999,9,     -999,9,     -999,9,     -999,9,     -999,9,     -999,9,   9.4240
35A3CITHER3_2 ,A13        ,180     ,  1,6          ,27         ,2,19950313,0818, -19.4987,   5.0103,     5118,    396.3,   8.1770,  34.7040,2,  34.7130,3,     73.7,2,     73.3,2,    19.20,2,    34.40,2,     2.16,2,    0.431,2,    0.225,2,     -999,9,     -999,9,     -999,9,     -999,9,     -999,9,     -999,9,   8.1360
35A3CITHER3_2 ,A13        ,180     ,  1,7          ,26         ,2,19950313,0818, -19.4987,   5.0103,     5118,    597.2,   5.7200,  34.5130,2,  34.5130,2,    107.5,2,    106.8,2,    27.10,2,    36.50,2,     2.33,2,    0.048,2,    0.031,2,     -999,9,     -999,9,     -999,9,     -999,9,     -999,9,     -999,9,   5.6690
35A3CITHER3_2 ,A13        ,180     ,  1,8          ,25         ,2,19950313,0818, -19.4987,   5.0103,     5118,    794.5,   4.3760,  34.4740,2,  34.4750,2,    134.0,2,    143.2,3,    34.80,2,    35.20,2,     2.29,2,    0.016,2,     -999,9,     -999,9,     -999,9,     -999,9,     -999,9,     -999,9,     -999,9,   4.3150
35A3CITHER3_2 ,A13        ,180     ,  1,9          ,24         ,2,19950313,0818, -19.4987,   5.0103,     5118,    994.3,   3.8720,  34.5570,2,  34.5540,2,    154.6,2,    157.1,2,    38.30,2,    33.50,2,     2.22,2,    0.002,2,    0.003,2,     -999,9,     -999,9,     -999,9,     -999,9,     -999,9,     -999,9,   3.7980
35A3CITHER3_2 ,A13        ,180     ,  1,10         ,23         ,2,19950313,0818, -19.4987,   5.0103,     5118,   1194.9,   3.6530,  34.6680,2,  34.6630,3,    169.0,2,    173.1,3,    39.00,2,    30.70,2,     2.03,2,    0.004,2,    0.001,2,     -999,9,     -999,9,     -999,9,     -999,9,     -999,9,     -999,9,   3.5640
35A3CITHER3_2 ,A13        ,180     ,  1,11         ,22         ,2,19950313,0818, -19.4987,   5.0103,     5118,   1397.0,   3.5940,  34.7780,2,  34.7780,2,    190.9,2,    189.7,2,    35.70,2,    27.90,2,     1.82,2,    0.002,2,    0.000,2,     -999,9,     -999,9,     -999,9,     -999,9,     -999,9,     -999,9,   3.4880
35A3CITHER3_2 ,A13        ,180     ,  1,12         ,21         ,2,19950313,0818, -19.4987,   5.0103,     5118,   1595.6,   3.4920,  34.8550,2,  34.8560,2,    213.2,2,    213.5,2,    31.90,2,    24.90,2,     1.56,2,   -0.001,2,   -0.005,2,     -999,9,     -999,9,     -999,9,     -999,9,     -999,9,     -999,9,   3.3690
35A3CITHER3_2 ,A13        ,180     ,  1,13         ,20         ,2,19950313,0818, -19.4987,   5.0103,     5118,   1796.3,   3.3330,  34.8880,2,  34.8890,2,    226.6,2,    226.0,2,    31.40,2,    23.30,2,     1.49,2,    0.003,2,    0.005,2,     -999,9,     -999,9,     -999,9,     -999,9,     -999,9,     -999,9,   3.1940
35A3CITHER3_2 ,A13        ,180     ,  1,14         ,19         ,2,19950313,0818, -19.4987,   5.0103,     5118,   1996.1,   3.2140,  34.9070,2,  34.9060,2,    230.0,2,    228.3,2,    32.20,2,    22.70,2,     1.46,2,   -0.001,2,     -999,9,     -999,9,     -999,9,     -999,9,     -999,9,     -999,9,     -999,9,   3.0590
35A3CITHER3_2 ,A13        ,180     ,  1,15         ,18         ,2,19950313,0818, -19.4987,   5.0103,     5118,   2195.4,   3.0370,  34.9080,2,  34.9100,2,    234.9,2,    233.8,2,    34.30,2,    22.30,2,     1.41,3,    0.000,2,    0.003,2,     -999,9,     -999,9,     -999,9,     -999,9,     -999,9,     -999,9,   2.8660
35A3CITHER3_2 ,A13        ,180     ,  1,16         ,17         ,2,19950313,0818, -19.4987,   5.0103,     5118,   2396.6,   2.8950,  34.9060,2,  34.9060,2,    235.9,2,    235.7,2,    36.90,2,    22.40,2,     1.43,2,    0.002,2,    0.000,2,     -999,9,     -999,9,     -999,9,     -999,9,     -999,9,     -999,9,   2.7070
35A3CITHER3_2 ,A13        ,180     ,  1,17         ,16         ,2,19950313,0818, -19.4987,   5.0103,     5118,   2599.1,   2.7370,  34.8990,2,  34.8980,2,    235.9,2,    238.0,2,    39.50,2,    22.40,2,     1.42,2,    0.006,2,    0.000,2,     -999,9,     -999,9,     -999,9,     -999,9,     -999,9,     -999,9,   2.5320
35A3CITHER3_2 ,A13        ,180     ,  1,18         ,15         ,2,19950313,0818, -19.4987,   5.0103,     5118,   2796.1,   2.6270,  34.8950,2,  34.8950,2,    234.4,2,    233.9,2,    43.40,2,    22.70,2,     1.46,2,    0.000,2,    0.000,2,     -999,9,     -999,9,     -999,9,     -999,9,     -999,9,     -999,9,   2.4050
35A3CITHER3_2 ,A13        ,180     ,  1,19         ,14         ,2,19950313,0818, -19.4987,   5.0103,     5118,   2996.3,   2.5490,  34.8930,2,  34.8930,2,    232.7,2,    232.1,2,    45.70,2,    22.90,2,     1.50,2,    0.001,2,    0.004,2,     -999,9,     -999,9,     -999,9,     -999,9,     -999,9,     -999,9,   2.3090
35A3CITHER3_2 ,A13        ,180     ,  1,20         ,13         ,2,19950313,0818, -19.4987,   5.0103,     5118,   3194.5,   2.4710,  34.8870,2,  34.8870,2,    234.5,2,    233.7,2,    47.70,2,    23.00,2,     1.47,2,    0.004,2,    0.001,2,     -999,9,     -999,9,     -999,9,     -999,9,     -999,9,     -999,9,   2.2120
35A3CITHER3_2 ,A13        ,180     ,  1,21         ,12         ,2,19950313,0818, -19.4987,   5.0103,     5118,   3394.3,   2.4230,  34.8890,2,  34.8870,2,    233.6,2,    232.6,2,    49.20,2,    23.30,2,     1.51,2,    0.000,2,    0.001,2,     -999,9,     -999,9,     -999,9,     -999,9,     -999,9,     -999,9,   2.1440
35A3CITHER3_2 ,A13        ,180     ,  1,22         ,11         ,2,19950313,0818, -19.4987,   5.0103,     5118,   3595.9,   2.3960,  34.8890,2,  34.8870,2,    231.9,2,    232.0,2,    50.20,2,    23.10,2,     1.47,2,    0.004,2,    0.000,2,     -999,9,     -999,9,     -999,9,     -999,9,     -999,9,     -999,9,   2.0960
35A3CITHER3_2 ,A13        ,180     ,  1,23         ,10         ,2,19950313,0818, -19.4987,   5.0103,     5118,   3797.0,   2.3810,  34.8890,2,  34.8910,2,    231.6,2,    231.0,2,    50.80,2,    23.40,2,     1.49,2,    0.002,2,     -999,9,     -999,9,     -999,9,     -999,9,     -999,9,     -999,9,     -999,9,   2.0590
35A3CITHER3_2 ,A13        ,180     ,  1,24         ,9          ,2,19950313,0818, -19.4987,   5.0103,     5118,   3997.8,   2.3730,  34.8900,2,  34.8890,2,    231.6,2,    230.6,2,    51.30,2,    23.00,2,     1.49,2,    0.004,2,    0.001,2,     -999,9,     -999,9,     -999,9,     -999,9,     -999,9,     -999,9,   2.0290
35A3CITHER3_2 ,A13        ,180     ,  1,25         ,8          ,2,19950313,0818, -19.4987,   5.0103,     5118,   4194.6,   2.3730,  34.8890,2,  34.8870,2,    231.5,2,    231.2,2,    51.60,2,    23.10,2,     1.52,2,    0.000,2,   -0.003,2,     -999,9,     -999,9,     -999,9,     -999,9,     -999,9,     -999,9,   2.0060
35A3CITHER3_2 ,A13        ,180     ,  1,26         ,7          ,2,19950313,0818, -19.4987,   5.0103,     5118,   4396.3,   2.3780,  34.8860,2,  34.8870,2,    231.4,2,    231.4,2,    52.10,2,    22.90,2,     1.49,2,    0.003,2,    0.001,2,     -999,9,     -999,9,     -999,9,     -999,9,     -999,9,     -999,9,   1.9870
35A3CITHER3_2 ,A13        ,180     ,  1,27         ,6          ,2,19950313,0818, -19.4987,   5.0103,     5118,   4599.4,   2.3880,  34.8860,2,  34.8850,2,    231.2,2,    231.2,2,    52.00,2,    23.10,2,     1.49,2,    0.000,2,     -999,9,     -999,9,     -999,9,     -999,9,     -999,9,     -999,9,     -999,9,   1.9720
35A3CITHER3_2 ,A13        ,180     ,  1,28         ,5          ,2,19950313,0818, -19.4987,   5.0103,     5118,   4797.5,   2.4010,  34.8840,2,  34.8840,2,    232.0,2,    232.0,2,    52.30,2,    23.10,2,     1.49,2,    0.000,2,    0.001,2,     -999,9,     -999,9,     -999,9,     -999,9,     -999,9,     -999,9,   1.9600
35A3CITHER3_2 ,A13        ,180     ,  1,29         ,4          ,2,19950313,0818, -19.4987,   5.0103,     5118,   4994.3,   2.4190,  34.8830,2,  34.8860,2,    232.9,2,    233.6,2,    52.10,2,    23.10,2,     1.45,2,    0.005,2,    0.003,2,     -999,9,     -999,9,     -999,9,     -999,9,     -999,9,     -999,9,   1.9530
35A3CITHER3_2 ,A13        ,180     ,  1,30         ,3          ,2,19950313,0818, -19.4987,   5.0103,     5118,   5096.9,   2.4290,  34.8820,2,  34.8830,2,    233.4,2,    233.0,2,    51.90,2,    22.90,2,     1.49,2,    0.001,2,    0.001,2,     -999,9,     -999,9,     -999,9,     -999,9,     -999,9,     -999,9,   1.9500
35A3CITHER3_2 ,A13        ,180     ,  1,31         ,2          ,2,19950313,0818, -19.4987,   5.0103,     5118,   5096.9,   2.4290,  34.8820,2,  34.8830,2,    233.4,2,    234.7,2,    52.00,2,    22.70,2,     1.49,2,    0.000,2,    0.004,2,     -999,9,     -999,9,     -999,9,     -999,9,     -999,9,     -999,9,   1.9500
35A3CITHER3_2 ,A13        ,180     ,  1,32         ,1          ,2,19950313,0818, -19.4987,   5.0103,     5118,   5190.0,   2.4400,  34.8820,2,  34.8920,3,    233.5,2,    233.2,2,    51.90,2,    22.10,3,     1.43,3,    0.001,2,    0.003,2,     -999,9,     -999,9,     -999,9,     -999,9,     -999,9,     -999,9,   1.9480