BOTTLE,20211216CCHDHYDRO
EXPOCODE,SECT_ID,STNNBR,CASTNO,SAMPNO,BTLNBR,BTLNBR_FLAG_W,DATE,TIME,LATITUDE,LONGITUDE,DEPTH,CTDPRS,CTDTMP,CTDSAL,CTDSAL_FLAG_W,SALNTY,SALNTY_FLAG_W,CTDOXY,CTDOXY_FLAG_W,OXYGEN,OXYGEN_FLAG_W,SILCAT,SILCAT_FLAG_W,NITRAT,NITRAT_FLAG_W,PHSPHT,PHSPHT_FLAG_W,CFC-11,CFC-11_FLAG_W,CFC-12,CFC-12_FLAG_W,TCARBN,TCARBN_FLAG_W,ALKALI,ALKALI_FLAG_W,TRITUM,TRITUM_FLAG_W,HELIUM,HELIUM_FLAG_W,DELHE3,DELHE3_FLAG_W,NEON,NEON_FLAG_W,THETA
,,,,,,,,,,,METERS,DBAR,DEG C,PSS-78,,PSS-78,,UMOL/KG,,UMOL/KG,,UMOL/KG,,UMOL/KG,,UMOL/KG,,PMOL/KG,,PMOL/KG,,UMOL/KG,,UMOL/KG,,TU,,NMOL/KG,,PERCNT,,NMOL/KG,,DEG C
35A3CITHER3_2 ,A13        ,131     ,  1,1          ,32         ,2,19950227,1450, -39.0052,   9.9962,     5425,      3.8,  16.3350,  34.8150,2,  34.8150,2,    258.5,2,    254.4,3,     1.20,2,     0.60,2,     0.20,2,    2.904,2,    1.450,2,     -999,9,     -999,9,     -999,9,     -999,9,     -999,9,     -999,9,  16.3340
35A3CITHER3_2 ,A13        ,131     ,  1,2          ,31         ,2,19950227,1450, -39.0052,   9.9962,     5425,     46.0,  15.2060,  34.8880,2,  34.9000,3,    261.6,2,    251.3,3,     1.40,2,     1.40,2,     0.27,2,    3.039,2,    1.482,2,     -999,9,     -999,9,     -999,9,     -999,9,     -999,9,     -999,9,  15.1990
35A3CITHER3_2 ,A13        ,131     ,  1,3          ,30         ,2,19950227,1450, -39.0052,   9.9962,     5425,    122.1,  12.9710,  34.9810,2,  34.9840,2,    236.6,2,    238.7,2,     2.60,2,     6.20,2,     0.50,2,    3.216,2,    1.551,2,     -999,9,     -999,9,     -999,9,     -999,9,     -999,9,     -999,9,  12.9540
35A3CITHER3_2 ,A13        ,131     ,  1,4          ,29         ,2,19950227,1450, -39.0052,   9.9962,     5425,    195.3,  11.8960,  34.9410,2,  34.9570,3,    231.6,2,    228.6,2,     3.80,2,    10.10,2,     0.71,2,    3.083,2,    1.462,2,     -999,9,     -999,9,     -999,9,     -999,9,     -999,9,     -999,9,  11.8710
35A3CITHER3_2 ,A13        ,131     ,  1,5          ,28         ,2,19950227,1450, -39.0052,   9.9962,     5425,    395.7,   8.9200,  34.6210,2,  34.6210,2,    235.4,2,    229.3,3,     6.30,2,    17.40,2,     1.14,3,    3.078,2,    1.428,2,     -999,9,     -999,9,     -999,9,     -999,9,     -999,9,     -999,9,   8.8770
35A3CITHER3_2 ,A13        ,131     ,  1,6          ,27         ,2,19950227,1450, -39.0052,   9.9962,     5425,    595.4,   5.9640,  34.3470,2,  34.3510,2,    227.6,2,    227.8,2,    12.50,3,    25.50,2,     1.64,2,    2.827,2,    1.271,2,     -999,9,     -999,9,     -999,9,     -999,9,     -999,9,     -999,9,   5.9120
35A3CITHER3_2 ,A13        ,131     ,  1,7          ,26         ,2,19950227,1450, -39.0052,   9.9962,     5425,    796.2,   4.2660,  34.2570,2,  34.2570,2,    240.5,2,    239.7,2,    20.60,3,    28.30,2,     1.83,2,    2.491,2,    1.090,2,     -999,9,     -999,9,     -999,9,     -999,9,     -999,9,     -999,9,   4.2060
35A3CITHER3_2 ,A13        ,131     ,  1,8          ,25         ,2,19950227,1450, -39.0052,   9.9962,     5425,    997.2,   3.4340,  34.2890,2,  34.2910,2,    222.0,2,    225.6,2,    31.90,2,    31.10,2,     2.03,2,    1.722,2,    0.777,2,     -999,9,     -999,9,     -999,9,     -999,9,     -999,9,     -999,9,   3.3630
35A3CITHER3_2 ,A13        ,131     ,  1,9          ,24         ,2,19950227,1450, -39.0052,   9.9962,     5425,   1195.6,   2.9240,  34.3800,2,  34.3800,2,    203.3,2,    201.2,2,    46.80,2,    33.40,2,     2.18,2,    0.944,2,    0.424,2,     -999,9,     -999,9,     -999,9,     -999,9,     -999,9,     -999,9,   2.8420
35A3CITHER3_2 ,A13        ,131     ,  1,10         ,23         ,2,19950227,1450, -39.0052,   9.9962,     5425,   1396.7,   2.9150,  34.5240,2,  34.5220,2,    182.0,2,    179.7,2,    59.40,2,    34.10,2,     2.22,2,    0.308,2,    0.142,2,     -999,9,     -999,9,     -999,9,     -999,9,     -999,9,     -999,9,   2.8170
35A3CITHER3_2 ,A13        ,131     ,  1,11         ,22         ,2,19950227,1450, -39.0052,   9.9962,     5425,   1594.6,   2.7670,  34.6290,2,  34.6290,2,    179.7,2,    179.5,2,    63.70,2,    32.50,2,     2.13,2,    0.116,2,    0.058,2,     -999,9,     -999,9,     -999,9,     -999,9,     -999,9,     -999,9,   2.6540
35A3CITHER3_2 ,A13        ,131     ,  1,12         ,21         ,2,19950227,1450, -39.0052,   9.9962,     5425,   1795.9,   2.7350,  34.7110,2,  34.7110,2,    188.1,2,    188.9,2,    61.00,2,    30.30,2,     1.99,2,    0.038,2,    0.021,2,     -999,9,     -999,9,     -999,9,     -999,9,     -999,9,     -999,9,   2.6050
35A3CITHER3_2 ,A13        ,131     ,  1,13         ,20         ,2,19950227,1450, -39.0052,   9.9962,     5425,   1994.5,   2.7160,  34.7690,2,  34.7690,2,    199.7,2,    199.8,2,    57.00,2,    28.10,2,     1.85,2,    0.019,2,    0.011,2,     -999,9,     -999,9,     -999,9,     -999,9,     -999,9,     -999,9,   2.5690
35A3CITHER3_2 ,A13        ,131     ,  1,14         ,19         ,2,19950227,1450, -39.0052,   9.9962,     5425,   2194.4,   2.6610,  34.8030,2,  34.8050,2,    210.1,2,    209.6,2,    54.70,2,    24.90,3,     1.75,2,    0.009,2,    0.009,2,     -999,9,     -999,9,     -999,9,     -999,9,     -999,9,     -999,9,   2.4960
35A3CITHER3_2 ,A13        ,131     ,  1,15         ,18         ,2,19950227,1450, -39.0052,   9.9962,     5425,   2394.7,   2.5850,  34.8240,2,  34.8230,2,    216.1,2,    215.8,2,    53.70,2,    26.40,2,     1.70,2,     -999,9,     -999,9,     -999,9,     -999,9,     -999,9,     -999,9,     -999,9,     -999,9,   2.4030
35A3CITHER3_2 ,A13        ,131     ,  1,16         ,17         ,2,19950227,1450, -39.0052,   9.9962,     5425,   2595.4,   2.4930,  34.8350,2,  34.8340,2,    221.3,2,    221.0,2,    54.50,2,    25.90,2,     1.66,2,    0.004,2,    0.007,2,     -999,9,     -999,9,     -999,9,     -999,9,     -999,9,     -999,9,   2.2940
35A3CITHER3_2 ,A13        ,131     ,  1,17         ,16         ,2,19950227,1450, -39.0052,   9.9962,     5425,   2796.6,   2.4110,  34.8400,2,  34.8390,2,    224.4,2,    223.8,2,    55.20,2,    25.80,2,     1.66,2,    0.009,2,    0.014,2,     -999,9,     -999,9,     -999,9,     -999,9,     -999,9,     -999,9,   2.1940
35A3CITHER3_2 ,A13        ,131     ,  1,18         ,15         ,2,19950227,1450, -39.0052,   9.9962,     5425,   2994.9,   2.3440,  34.8430,2,  34.8410,2,    226.3,2,    226.7,2,    56.70,2,    25.40,2,     1.63,2,    0.002,2,    0.004,2,     -999,9,     -999,9,     -999,9,     -999,9,     -999,9,     -999,9,   2.1080
35A3CITHER3_2 ,A13        ,131     ,  1,19         ,14         ,2,19950227,1450, -39.0052,   9.9962,     5425,   3195.3,   2.2640,  34.8430,2,  34.8410,2,    227.7,2,    226.6,2,    58.80,2,    25.80,2,     1.63,2,    0.003,2,    0.007,2,     -999,9,     -999,9,     -999,9,     -999,9,     -999,9,     -999,9,   2.0100
35A3CITHER3_2 ,A13        ,131     ,  1,20         ,13         ,2,19950227,1450, -39.0052,   9.9962,     5425,   3396.3,   2.1750,  34.8390,2,  34.8380,2,    228.1,2,    226.5,2,    61.60,2,    25.70,2,     1.65,2,     -999,9,     -999,9,     -999,9,     -999,9,     -999,9,     -999,9,     -999,9,     -999,9,   1.9020
35A3CITHER3_2 ,A13        ,131     ,  1,21         ,12         ,2,19950227,1450, -39.0052,   9.9962,     5425,   3595.6,   2.0040,  34.8240,2,  34.8230,2,    226.3,2,    224.7,2,    69.20,2,    26.70,2,     1.71,2,     -999,9,     -999,9,     -999,9,     -999,9,     -999,9,     -999,9,     -999,9,     -999,9,   1.7140
35A3CITHER3_2 ,A13        ,131     ,  1,22         ,11         ,2,19950227,1450, -39.0052,   9.9962,     5425,   3795.4,   1.7470,  34.7990,2,  34.7980,2,    222.7,2,    222.3,2,     -999,9,    27.90,2,     1.80,2,    0.005,2,    0.002,2,     -999,9,     -999,9,     -999,9,     -999,9,     -999,9,     -999,9,   1.4430
35A3CITHER3_2 ,A13        ,131     ,  1,23         ,10         ,2,19950227,1450, -39.0052,   9.9962,     5425,   3997.3,   1.4760,  34.7730,2,  34.7720,2,    220.2,2,    219.4,2,    93.40,2,    28.90,2,     1.87,2,    0.010,2,     -999,9,     -999,9,     -999,9,     -999,9,     -999,9,     -999,9,     -999,9,   1.1580
35A3CITHER3_2 ,A13        ,131     ,  1,24         ,9          ,2,19950227,1450, -39.0052,   9.9962,     5425,   4198.5,   1.2610,  34.7550,2,  34.7540,2,    218.5,2,    218.6,2,    98.60,2,    30.20,2,     1.94,2,    0.011,2,    0.007,2,     -999,9,     -999,9,     -999,9,     -999,9,     -999,9,     -999,9,   0.9270
35A3CITHER3_2 ,A13        ,131     ,  1,25         ,8          ,2,19950227,1450, -39.0052,   9.9962,     5425,   4396.4,   1.1220,  34.7410,2,  34.7410,2,    218.0,2,    218.4,2,   104.20,2,    30.20,2,     1.98,2,    0.016,2,    0.009,2,     -999,9,     -999,9,     -999,9,     -999,9,     -999,9,     -999,9,   0.7700
35A3CITHER3_2 ,A13        ,131     ,  1,26         ,7          ,2,19950227,1450, -39.0052,   9.9962,     5425,   4598.6,   1.0910,  34.7350,2,  34.7350,2,    218.1,2,    218.6,2,   106.00,2,    31.10,2,     1.99,2,    0.020,2,    0.014,2,     -999,9,     -999,9,     -999,9,     -999,9,     -999,9,     -999,9,   0.7170
35A3CITHER3_2 ,A13        ,131     ,  1,27         ,6          ,2,19950227,1450, -39.0052,   9.9962,     5425,   4797.0,   1.0900,  34.7330,2,  34.7330,2,    218.5,2,    217.6,2,   107.00,2,    31.20,2,     2.01,2,    0.021,2,    0.015,2,     -999,9,     -999,9,     -999,9,     -999,9,     -999,9,     -999,9,   0.6930
35A3CITHER3_2 ,A13        ,131     ,  1,28         ,5          ,2,19950227,1450, -39.0052,   9.9962,     5425,   4996.3,   1.0910,  34.7320,2,  34.7320,2,    218.6,2,    218.3,2,   107.90,2,    31.40,2,     2.01,2,    0.020,2,    0.013,2,     -999,9,     -999,9,     -999,9,     -999,9,     -999,9,     -999,9,   0.6710
35A3CITHER3_2 ,A13        ,131     ,  1,29         ,4          ,2,19950227,1450, -39.0052,   9.9962,     5425,   5200.0,   1.0660,  34.7290,2,  34.7280,2,    219.0,2,    217.9,2,   108.90,2,    31.90,2,     2.03,2,    0.028,2,    0.018,2,     -999,9,     -999,9,     -999,9,     -999,9,     -999,9,     -999,9,   0.6220
35A3CITHER3_2 ,A13        ,131     ,  1,30         ,3          ,2,19950227,1450, -39.0052,   9.9962,     5425,   5347.5,   1.0480,  34.7260,2,  34.7250,2,    219.2,2,    218.3,2,   110.50,2,    31.70,2,     2.02,2,    0.034,2,    0.021,2,     -999,9,     -999,9,     -999,9,     -999,9,     -999,9,     -999,9,   0.5870
35A3CITHER3_2 ,A13        ,131     ,  1,31         ,2          ,2,19950227,1450, -39.0052,   9.9962,     5425,   5448.3,   1.0410,  34.7240,2,  34.7240,2,    219.4,2,    218.4,2,   111.20,2,    31.90,2,     2.04,2,    0.035,2,    0.022,2,     -999,9,     -999,9,     -999,9,     -999,9,     -999,9,     -999,9,   0.5670
35A3CITHER3_2 ,A13        ,131     ,  1,32         ,1          ,2,19950227,1450, -39.0052,   9.9962,     5425,   5512.7,   1.0470,  34.7230,2,  34.7240,2,    218.8,2,    218.1,2,   111.50,2,    32.00,2,     2.04,2,    0.039,2,    0.023,2,     -999,9,     -999,9,     -999,9,     -999,9,     -999,9,     -999,9,   0.5650