BOTTLE,20211216CCHDHYDRO
EXPOCODE,SECT_ID,STNNBR,CASTNO,SAMPNO,BTLNBR,BTLNBR_FLAG_W,DATE,TIME,LATITUDE,LONGITUDE,DEPTH,CTDPRS,CTDTMP,CTDSAL,CTDSAL_FLAG_W,SALNTY,SALNTY_FLAG_W,CTDOXY,CTDOXY_FLAG_W,OXYGEN,OXYGEN_FLAG_W,SILCAT,SILCAT_FLAG_W,NITRAT,NITRAT_FLAG_W,PHSPHT,PHSPHT_FLAG_W,CFC-11,CFC-11_FLAG_W,CFC-12,CFC-12_FLAG_W,TCARBN,TCARBN_FLAG_W,ALKALI,ALKALI_FLAG_W,TRITUM,TRITUM_FLAG_W,HELIUM,HELIUM_FLAG_W,DELHE3,DELHE3_FLAG_W,NEON,NEON_FLAG_W,THETA
,,,,,,,,,,,METERS,DBAR,DEG C,PSS-78,,PSS-78,,UMOL/KG,,UMOL/KG,,UMOL/KG,,UMOL/KG,,UMOL/KG,,PMOL/KG,,PMOL/KG,,UMOL/KG,,UMOL/KG,,TU,,NMOL/KG,,PERCNT,,NMOL/KG,,DEG C
35A3CITHER3_2 ,A13        ,153     ,  1,1          ,32         ,2,19950305,0325, -28.3893,   9.6350,     4941,      4.7,  22.3440,  35.8000,2,  35.8010,2,    218.5,2,    219.9,2,     3.00,2,     0.00,2,     0.15,2,    2.099,2,    1.075,2,     -999,9,     -999,9,     -999,9,     -999,9,     -999,9,     -999,9,  22.3430
35A3CITHER3_2 ,A13        ,153     ,  1,2          ,31         ,2,19950305,0325, -28.3893,   9.6350,     4941,     62.1,  21.7100,  35.7710,2,  35.7700,2,    230.5,2,    222.5,3,     3.00,2,     0.00,2,     0.14,2,    2.167,2,    1.109,2,     -999,9,     -999,9,     -999,9,     -999,9,     -999,9,     -999,9,  21.6980
35A3CITHER3_2 ,A13        ,153     ,  1,3          ,30         ,2,19950305,0325, -28.3893,   9.6350,     4941,     81.3,  19.7280,  35.6830,2,  35.6780,3,    256.4,2,    238.8,3,     3.10,2,     0.00,2,     0.14,2,    2.400,2,    1.198,2,     -999,9,     -999,9,     -999,9,     -999,9,     -999,9,     -999,9,  19.7130
35A3CITHER3_2 ,A13        ,153     ,  1,4          ,29         ,2,19950305,0325, -28.3893,   9.6350,     4941,    120.7,  15.9150,  35.5180,2,  35.5200,2,    222.7,2,    225.5,2,     4.60,2,     3.40,2,     0.36,2,    2.632,2,    1.302,2,     -999,9,     -999,9,     -999,9,     -999,9,     -999,9,     -999,9,  15.8960
35A3CITHER3_2 ,A13        ,153     ,  1,5          ,28         ,2,19950305,0325, -28.3893,   9.6350,     4941,    195.3,  14.8060,  35.3790,2,  35.3780,2,    222.2,2,    222.2,2,     5.00,2,     4.00,2,     0.49,2,    2.654,2,    1.292,2,     -999,9,     -999,9,     -999,9,     -999,9,     -999,9,     -999,9,  14.7770
35A3CITHER3_2 ,A13        ,153     ,  1,6          ,27         ,2,19950305,0325, -28.3893,   9.6350,     4941,    394.8,  11.0360,  34.9150,2,  34.9190,2,    212.9,2,    213.2,2,     7.10,2,    13.70,2,     0.99,2,    2.363,2,    1.101,2,     -999,9,     -999,9,     -999,9,     -999,9,     -999,9,     -999,9,  10.9870
35A3CITHER3_2 ,A13        ,153     ,  1,7          ,26         ,2,19950305,0325, -28.3893,   9.6350,     4941,    395.1,  11.0240,  34.9160,2,  34.9140,2,    212.9,2,    213.1,2,     7.30,2,    13.30,2,     0.95,2,    2.338,2,    1.089,2,     -999,9,     -999,9,     -999,9,     -999,9,     -999,9,     -999,9,  10.9750
35A3CITHER3_2 ,A13        ,153     ,  1,8          ,25         ,2,19950305,0325, -28.3893,   9.6350,     4941,    597.2,   7.0070,  34.4940,2,  34.4890,2,    196.8,2,    196.4,2,    15.60,2,    25.90,2,     1.73,2,    1.810,2,    0.822,2,     -999,9,     -999,9,     -999,9,     -999,9,     -999,9,     -999,9,   6.9500
35A3CITHER3_2 ,A13        ,153     ,  1,9          ,24         ,2,19950305,0325, -28.3893,   9.6350,     4941,    794.8,   4.4630,  34.3270,2,  34.3290,2,    214.0,2,    214.8,2,    26.70,2,    30.30,2,     2.02,2,    1.402,2,    0.622,2,     -999,9,     -999,9,     -999,9,     -999,9,     -999,9,     -999,9,   4.4010
35A3CITHER3_2 ,A13        ,153     ,  1,10         ,23         ,2,19950305,0325, -28.3893,   9.6350,     4941,    994.4,   3.5400,  34.4310,2,  34.4210,3,    190.6,2,    183.4,3,    43.30,2,    33.10,2,     2.25,2,    0.401,2,    0.187,2,     -999,9,     -999,9,     -999,9,     -999,9,     -999,9,     -999,9,   3.4680
35A3CITHER3_2 ,A13        ,153     ,  1,11         ,22         ,2,19950305,0325, -28.3893,   9.6350,     4941,   1195.5,   3.2780,  34.5730,2,  34.5760,2,    178.3,2,    177.1,2,    49.00,2,    32.60,2,     2.19,2,    0.073,2,    0.035,2,     -999,9,     -999,9,     -999,9,     -999,9,     -999,9,     -999,9,   3.1920
35A3CITHER3_2 ,A13        ,153     ,  1,12         ,21         ,2,19950305,0325, -28.3893,   9.6350,     4941,   1394.4,   3.0180,  34.6670,2,  34.6670,2,    185.6,2,    185.4,2,    52.80,2,    30.80,2,     2.10,2,    0.032,2,    0.017,2,     -999,9,     -999,9,     -999,9,     -999,9,     -999,9,     -999,9,   2.9180
35A3CITHER3_2 ,A13        ,153     ,  1,13         ,20         ,2,19950305,0325, -28.3893,   9.6350,     4941,   1595.7,   3.0450,  34.7650,2,  34.7640,2,    200.2,2,    199.2,2,    47.10,2,    28.00,2,     1.88,2,    0.008,2,    0.006,2,     -999,9,     -999,9,     -999,9,     -999,9,     -999,9,     -999,9,   2.9280
35A3CITHER3_2 ,A13        ,153     ,  1,14         ,19         ,2,19950305,0325, -28.3893,   9.6350,     4941,   1796.8,   2.9890,  34.8160,2,  34.8180,2,    211.5,2,    211.0,2,    44.30,2,    26.80,2,     1.76,2,    0.004,2,    0.005,2,     -999,9,     -999,9,     -999,9,     -999,9,     -999,9,     -999,9,   2.8550
35A3CITHER3_2 ,A13        ,153     ,  1,15         ,18         ,2,19950305,0325, -28.3893,   9.6350,     4941,   1996.9,   2.8730,  34.8380,2,  34.8380,2,    219.7,2,    218.0,2,    44.80,2,    25.10,2,     1.66,2,    0.004,2,    0.004,2,     -999,9,     -999,9,     -999,9,     -999,9,     -999,9,     -999,9,   2.7230
35A3CITHER3_2 ,A13        ,153     ,  1,16         ,17         ,2,19950305,0325, -28.3893,   9.6350,     4941,   2195.3,   2.8320,  34.8670,2,  34.8670,2,    224.7,2,    227.3,2,    41.50,2,    24.10,2,     1.60,2,    0.003,2,   -0.001,2,     -999,9,     -999,9,     -999,9,     -999,9,     -999,9,     -999,9,   2.6640
35A3CITHER3_2 ,A13        ,153     ,  1,17         ,16         ,2,19950305,0325, -28.3893,   9.6350,     4941,   2394.9,   2.7020,  34.8680,2,  34.8700,2,    229.3,2,    229.7,2,    43.80,2,    23.10,2,     1.56,2,    0.004,2,    0.003,2,     -999,9,     -999,9,     -999,9,     -999,9,     -999,9,     -999,9,   2.5180
35A3CITHER3_2 ,A13        ,153     ,  1,18         ,15         ,2,19950305,0325, -28.3893,   9.6350,     4941,   2595.5,   2.5630,  34.8630,2,  34.8640,2,    230.7,2,    230.5,2,    46.90,2,    23.90,2,     1.58,2,    0.004,2,    0.004,2,     -999,9,     -999,9,     -999,9,     -999,9,     -999,9,     -999,9,   2.3620
35A3CITHER3_2 ,A13        ,153     ,  1,19         ,14         ,2,19950305,0325, -28.3893,   9.6350,     4941,   2795.6,   2.4600,  34.8600,2,  34.8620,2,    231.8,2,    231.2,2,    49.60,2,    24.10,2,     1.59,2,    0.009,2,    0.004,2,     -999,9,     -999,9,     -999,9,     -999,9,     -999,9,     -999,9,   2.2420
35A3CITHER3_2 ,A13        ,153     ,  1,20         ,13         ,2,19950305,0325, -28.3893,   9.6350,     4941,   2995.5,   2.4080,  34.8640,2,  34.8650,2,    232.2,2,    231.7,2,    50.80,2,    23.90,2,     1.60,2,    0.001,2,    0.001,2,     -999,9,     -999,9,     -999,9,     -999,9,     -999,9,     -999,9,   2.1710
35A3CITHER3_2 ,A13        ,153     ,  1,21         ,12         ,2,19950305,0325, -28.3893,   9.6350,     4941,   3196.0,   2.3510,  34.8630,2,  34.8640,2,    232.8,2,    231.8,2,    52.70,2,    23.60,2,     1.60,2,    0.004,2,     -999,9,     -999,9,     -999,9,     -999,9,     -999,9,     -999,9,     -999,9,   2.0950
35A3CITHER3_2 ,A13        ,153     ,  1,22         ,11         ,2,19950305,0325, -28.3893,   9.6350,     4941,   3397.1,   2.2970,  34.8610,2,  34.8610,2,    232.4,2,    230.9,2,    54.80,2,    23.90,2,     1.61,2,    0.005,2,    0.004,2,     -999,9,     -999,9,     -999,9,     -999,9,     -999,9,     -999,9,   2.0210
35A3CITHER3_2 ,A13        ,153     ,  1,23         ,10         ,2,19950305,0325, -28.3893,   9.6350,     4941,   3594.5,   2.2190,  34.8550,2,  34.8530,2,    231.3,2,    230.0,2,    58.40,2,    23.60,2,     1.61,2,    0.001,2,     -999,9,     -999,9,     -999,9,     -999,9,     -999,9,     -999,9,     -999,9,   1.9240
35A3CITHER3_2 ,A13        ,153     ,  1,24         ,9          ,2,19950305,0325, -28.3893,   9.6350,     4941,   3595.6,   2.2160,  34.8540,2,  34.8560,2,    231.3,2,    230.5,2,    58.40,2,    23.70,2,     1.62,2,    0.003,2,    0.001,2,     -999,9,     -999,9,     -999,9,     -999,9,     -999,9,     -999,9,   1.9210
35A3CITHER3_2 ,A13        ,153     ,  1,25         ,8          ,2,19950305,0325, -28.3893,   9.6350,     4941,   3797.1,   2.0600,  34.8370,2,  34.8360,2,    228.9,2,    228.1,2,    64.40,2,    24.90,2,     1.69,2,    0.003,2,    0.006,2,     -999,9,     -999,9,     -999,9,     -999,9,     -999,9,     -999,9,   1.7470
35A3CITHER3_2 ,A13        ,153     ,  1,26         ,7          ,2,19950305,0325, -28.3893,   9.6350,     4941,   3998.0,   1.7940,  34.8080,2,  34.8070,2,    224.4,2,    224.4,2,    75.40,2,    26.20,2,     1.79,2,    0.002,2,    0.004,2,     -999,9,     -999,9,     -999,9,     -999,9,     -999,9,     -999,9,   1.4660
35A3CITHER3_2 ,A13        ,153     ,  1,27         ,6          ,2,19950305,0325, -28.3893,   9.6350,     4941,   4198.2,   1.4910,  34.7780,2,  34.7770,2,    220.4,2,    220.1,2,    89.60,2,    27.60,2,     1.86,2,    0.002,2,    0.003,2,     -999,9,     -999,9,     -999,9,     -999,9,     -999,9,     -999,9,   1.1500
35A3CITHER3_2 ,A13        ,153     ,  1,28         ,5          ,2,19950305,0325, -28.3893,   9.6350,     4941,   4396.4,   1.2640,  34.7550,2,  34.7540,2,    218.1,2,    218.0,2,    98.40,2,    28.80,2,     1.96,2,    0.006,2,     -999,9,     -999,9,     -999,9,     -999,9,     -999,9,     -999,9,     -999,9,   0.9080
35A3CITHER3_2 ,A13        ,153     ,  1,29         ,4          ,2,19950305,0325, -28.3893,   9.6350,     4941,   4595.6,   1.1580,  34.7430,2,  34.7450,2,    216.8,2,    216.7,2,   102.20,2,    29.00,2,     1.96,2,    0.035,2,    0.018,2,     -999,9,     -999,9,     -999,9,     -999,9,     -999,9,     -999,9,   0.7820
35A3CITHER3_2 ,A13        ,153     ,  1,30         ,3          ,2,19950305,0325, -28.3893,   9.6350,     4941,   4797.1,   1.1500,  34.7390,2,  34.7390,2,    216.7,2,    216.3,2,   104.40,2,    29.30,2,     2.00,2,    0.009,2,    0.004,2,     -999,9,     -999,9,     -999,9,     -999,9,     -999,9,     -999,9,   0.7510
35A3CITHER3_2 ,A13        ,153     ,  1,31         ,2          ,2,19950305,0325, -28.3893,   9.6350,     4941,   4899.6,   1.1510,  34.7380,2,  34.7380,2,    216.8,2,    216.2,2,   104.90,2,    30.00,2,     2.01,2,    0.029,2,    0.017,2,     -999,9,     -999,9,     -999,9,     -999,9,     -999,9,     -999,9,   0.7400
35A3CITHER3_2 ,A13        ,153     ,  1,32         ,1          ,2,19950305,0325, -28.3893,   9.6350,     4941,   4996.9,   1.1570,  34.7390,2,  34.7400,2,    215.9,2,    217.0,2,   105.50,2,    29.60,2,     2.00,2,    0.020,2,    0.010,2,     -999,9,     -999,9,     -999,9,     -999,9,     -999,9,     -999,9,   0.7340