BOTTLE,20211216CCHDHYDRO
EXPOCODE,SECT_ID,STNNBR,CASTNO,SAMPNO,BTLNBR,BTLNBR_FLAG_W,DATE,TIME,LATITUDE,LONGITUDE,DEPTH,CTDPRS,CTDTMP,CTDSAL,CTDSAL_FLAG_W,SALNTY,SALNTY_FLAG_W,CTDOXY,CTDOXY_FLAG_W,OXYGEN,OXYGEN_FLAG_W,SILCAT,SILCAT_FLAG_W,NITRAT,NITRAT_FLAG_W,PHSPHT,PHSPHT_FLAG_W,CFC-11,CFC-11_FLAG_W,CFC-12,CFC-12_FLAG_W,TCARBN,TCARBN_FLAG_W,ALKALI,ALKALI_FLAG_W,TRITUM,TRITUM_FLAG_W,HELIUM,HELIUM_FLAG_W,DELHE3,DELHE3_FLAG_W,NEON,NEON_FLAG_W,THETA
,,,,,,,,,,,METERS,DBAR,DEG C,PSS-78,,PSS-78,,UMOL/KG,,UMOL/KG,,UMOL/KG,,UMOL/KG,,UMOL/KG,,PMOL/KG,,PMOL/KG,,UMOL/KG,,UMOL/KG,,TU,,NMOL/KG,,PERCNT,,NMOL/KG,,DEG C
35A3CITHER3_2 ,A13        ,155     ,  1,1          ,32         ,2,19950305,1746, -27.4695,   9.4335,     4899,      7.7,  22.5220,  35.6280,2,  35.6260,2,    218.6,2,    220.2,2,     2.60,2,     0.00,2,     0.18,2,    2.085,2,    1.085,2,     -999,9,     -999,9,     -999,9,     -999,9,     -999,9,     -999,9,  22.5200
35A3CITHER3_2 ,A13        ,155     ,  1,2          ,31         ,2,19950305,1746, -27.4695,   9.4335,     4899,     45.4,  22.3470,  35.6270,2,  35.6220,3,    224.0,2,    220.7,2,     2.60,2,     0.00,2,     0.15,2,    2.109,2,    1.092,2,     -999,9,     -999,9,     -999,9,     -999,9,     -999,9,     -999,9,  22.3380
35A3CITHER3_2 ,A13        ,155     ,  1,3          ,30         ,2,19950305,1746, -27.4695,   9.4335,     4899,     80.7,  18.2480,  35.3540,2,  35.3590,3,    253.0,2,    254.6,2,     2.60,2,     0.00,2,     0.23,2,    2.597,2,    1.273,2,     -999,9,     -999,9,     -999,9,     -999,9,     -999,9,     -999,9,  18.2340
35A3CITHER3_2 ,A13        ,155     ,  1,4          ,29         ,2,19950305,1746, -27.4695,   9.4335,     4899,    119.3,  15.5520,  35.4090,2,  35.4020,3,    221.3,2,    219.7,2,     3.60,2,     5.10,2,     0.43,2,    2.711,2,    1.334,2,     -999,9,     -999,9,     -999,9,     -999,9,     -999,9,     -999,9,  15.5330
35A3CITHER3_2 ,A13        ,155     ,  1,5          ,28         ,2,19950305,1746, -27.4695,   9.4335,     4899,    120.7,  15.4870,  35.4020,2,  35.3950,3,    220.6,2,    219.4,2,     3.90,2,     5.60,2,     0.45,2,    2.699,2,    1.333,2,     -999,9,     -999,9,     -999,9,     -999,9,     -999,9,     -999,9,  15.4680
35A3CITHER3_2 ,A13        ,155     ,  1,6          ,27         ,2,19950305,1746, -27.4695,   9.4335,     4899,    197.6,  12.8990,  35.1060,2,  35.1030,2,    199.1,2,    196.1,2,     5.20,2,    11.90,2,     0.85,2,    2.588,2,    1.238,2,     -999,9,     -999,9,     -999,9,     -999,9,     -999,9,     -999,9,  12.8720
35A3CITHER3_2 ,A13        ,155     ,  1,7          ,26         ,2,19950305,1746, -27.4695,   9.4335,     4899,    395.4,   9.4610,  34.7430,2,  34.7370,3,    167.5,2,    166.7,2,     0.00,2,     0.00,2,     0.00,2,    1.921,2,    0.891,2,     -999,9,     -999,9,     -999,9,     -999,9,     -999,9,     -999,9,   9.4160
35A3CITHER3_2 ,A13        ,155     ,  1,8          ,25         ,2,19950305,1746, -27.4695,   9.4335,     4899,    596.1,   5.9580,  34.4220,2,  34.4100,3,    196.9,2,    195.5,2,    18.30,2,    27.50,2,     1.85,2,    1.500,2,    0.680,2,     -999,9,     -999,9,     -999,9,     -999,9,     -999,9,     -999,9,   5.9060
35A3CITHER3_2 ,A13        ,155     ,  1,9          ,24         ,2,19950305,1746, -27.4695,   9.4335,     4899,    796.9,   4.1000,  34.3550,2,  34.3540,2,    211.1,2,    201.6,3,    31.00,2,    31.00,2,     2.06,2,    0.958,2,    0.442,2,     -999,9,     -999,9,     -999,9,     -999,9,     -999,9,     -999,9,   4.0410
35A3CITHER3_2 ,A13        ,155     ,  1,10         ,23         ,2,19950305,1746, -27.4695,   9.4335,     4899,    994.2,   3.3630,  34.4400,2,  34.4280,3,    189.0,2,    186.2,2,    46.00,2,    31.70,2,     2.13,2,    0.386,2,    0.187,2,     -999,9,     -999,9,     -999,9,     -999,9,     -999,9,     -999,9,   3.2930
35A3CITHER3_2 ,A13        ,155     ,  1,11         ,22         ,2,19950305,1746, -27.4695,   9.4335,     4899,   1197.7,   3.0170,  34.5630,2,  34.5610,2,    178.6,2,    179.3,2,    55.30,3,    32.00,2,     2.10,2,    0.119,2,    0.065,2,     -999,9,     -999,9,     -999,9,     -999,9,     -999,9,     -999,9,   2.9340
35A3CITHER3_2 ,A13        ,155     ,  1,12         ,21         ,2,19950305,1746, -27.4695,   9.4335,     4899,   1396.1,   3.0130,  34.6830,2,  34.6830,2,    187.4,2,    187.5,2,    51.90,2,    29.60,2,     1.88,2,    0.024,2,    0.017,2,     -999,9,     -999,9,     -999,9,     -999,9,     -999,9,     -999,9,   2.9130
35A3CITHER3_2 ,A13        ,155     ,  1,13         ,20         ,2,19950305,1746, -27.4695,   9.4335,     4899,   1598.8,   3.0360,  34.7790,2,  34.7790,2,    203.1,2,    202.1,2,    45.70,3,    27.00,2,     1.74,2,    0.010,2,    0.007,2,     -999,9,     -999,9,     -999,9,     -999,9,     -999,9,     -999,9,   2.9190
35A3CITHER3_2 ,A13        ,155     ,  1,14         ,19         ,2,19950305,1746, -27.4695,   9.4335,     4899,   1797.0,   3.0550,  34.8400,2,  34.8390,2,    216.9,2,    216.0,2,    39.70,2,    24.50,2,     1.67,2,    0.001,2,     -999,9,     -999,9,     -999,9,     -999,9,     -999,9,     -999,9,     -999,9,   2.9200
35A3CITHER3_2 ,A13        ,155     ,  1,15         ,18         ,2,19950305,1746, -27.4695,   9.4335,     4899,   1996.3,   2.9400,  34.8600,2,  34.8560,2,    224.3,2,    223.0,2,    40.00,2,    23.80,2,     1.50,2,    0.003,2,    0.006,2,     -999,9,     -999,9,     -999,9,     -999,9,     -999,9,     -999,9,   2.7890
35A3CITHER3_2 ,A13        ,155     ,  1,16         ,17         ,2,19950305,1746, -27.4695,   9.4335,     4899,   2197.9,   2.7810,  34.8650,2,  34.8660,2,    228.0,2,    227.5,2,    42.10,2,    23.80,2,     1.48,2,    0.002,2,    0.002,2,     -999,9,     -999,9,     -999,9,     -999,9,     -999,9,     -999,9,   2.6140
35A3CITHER3_2 ,A13        ,155     ,  1,17         ,16         ,2,19950305,1746, -27.4695,   9.4335,     4899,   2395.5,   2.6720,  34.8660,2,  34.8650,2,    230.1,2,    229.7,2,    43.60,2,    23.40,2,     1.49,2,    0.000,2,    0.001,2,     -999,9,     -999,9,     -999,9,     -999,9,     -999,9,     -999,9,   2.4880
35A3CITHER3_2 ,A13        ,155     ,  1,18         ,15         ,2,19950305,1746, -27.4695,   9.4335,     4899,   2594.2,   2.5400,  34.8640,2,  34.8600,2,    230.8,2,    230.8,2,    46.60,2,    23.20,2,     1.53,2,    0.000,2,    0.004,2,     -999,9,     -999,9,     -999,9,     -999,9,     -999,9,     -999,9,   2.3400
35A3CITHER3_2 ,A13        ,155     ,  1,19         ,14         ,2,19950305,1746, -27.4695,   9.4335,     4899,   2797.7,   2.4390,  34.8600,2,  34.8500,3,    231.6,2,    230.9,2,    50.00,2,    23.80,2,     1.55,2,    0.001,2,    0.002,2,     -999,9,     -999,9,     -999,9,     -999,9,     -999,9,     -999,9,   2.2210
35A3CITHER3_2 ,A13        ,155     ,  1,20         ,13         ,2,19950305,1746, -27.4695,   9.4335,     4899,   2994.3,   2.3800,  34.8620,2,  34.8600,2,    231.2,2,    231.5,2,    51.10,2,    23.20,2,     1.54,2,    0.006,2,    0.002,2,     -999,9,     -999,9,     -999,9,     -999,9,     -999,9,     -999,9,   2.1440
35A3CITHER3_2 ,A13        ,155     ,  1,21         ,12         ,2,19950305,1746, -27.4695,   9.4335,     4899,   3196.7,   2.3220,  34.8620,2,  34.8580,2,    231.9,2,    231.8,2,    52.60,2,    23.70,2,     1.53,2,    0.000,2,     -999,9,     -999,9,     -999,9,     -999,9,     -999,9,     -999,9,     -999,9,   2.0660
35A3CITHER3_2 ,A13        ,155     ,  1,22         ,11         ,2,19950305,1746, -27.4695,   9.4335,     4899,   3197.3,   2.3210,  34.8610,2,  34.8590,2,    231.9,2,    231.7,2,    52.90,2,    23.80,2,     1.55,2,    0.003,2,    0.005,2,     -999,9,     -999,9,     -999,9,     -999,9,     -999,9,     -999,9,   2.0650
35A3CITHER3_2 ,A13        ,155     ,  1,23         ,10         ,2,19950305,1746, -27.4695,   9.4335,     4899,   3395.5,   2.2630,  34.8590,2,  34.8600,2,    231.5,2,    231.3,2,    55.50,2,    24.30,2,     1.60,2,    0.001,2,    0.005,2,     -999,9,     -999,9,     -999,9,     -999,9,     -999,9,     -999,9,   1.9880
35A3CITHER3_2 ,A13        ,155     ,  1,24         ,9          ,2,19950305,1746, -27.4695,   9.4335,     4899,   3596.7,   2.1950,  34.8520,2,  34.8490,2,    229.7,2,    230.7,2,    58.30,2,    24.10,2,     1.64,2,    0.000,2,    0.004,2,     -999,9,     -999,9,     -999,9,     -999,9,     -999,9,     -999,9,   1.9000
35A3CITHER3_2 ,A13        ,155     ,  1,25         ,8          ,2,19950305,1746, -27.4695,   9.4335,     4899,   3796.5,   1.9430,  34.8260,2,  34.8240,2,    227.1,2,    226.6,2,    69.50,2,    26.00,2,     1.73,2,    0.000,2,    0.000,2,     -999,9,     -999,9,     -999,9,     -999,9,     -999,9,     -999,9,   1.6330
35A3CITHER3_2 ,A13        ,155     ,  1,26         ,7          ,2,19950305,1746, -27.4695,   9.4335,     4899,   3996.7,   1.6170,  34.7910,2,  34.7880,2,    222.3,2,    221.9,2,    84.10,2,    26.80,2,     1.85,2,    0.000,2,     -999,9,     -999,9,     -999,9,     -999,9,     -999,9,     -999,9,     -999,9,   1.2940
35A3CITHER3_2 ,A13        ,155     ,  1,27         ,6          ,2,19950305,1746, -27.4695,   9.4335,     4899,   4197.7,   1.3040,  34.7600,2,  34.7580,2,    218.3,2,    218.9,2,    96.80,2,    28.50,2,     1.93,2,    0.003,2,    0.002,2,     -999,9,     -999,9,     -999,9,     -999,9,     -999,9,     -999,9,   0.9690
35A3CITHER3_2 ,A13        ,155     ,  1,28         ,5          ,2,19950305,1746, -27.4695,   9.4335,     4899,   4395.7,   1.1910,  34.7490,2,  34.7470,2,    217.1,2,    218.4,2,   102.00,2,    29.20,2,     1.95,2,    0.003,2,    0.002,2,     -999,9,     -999,9,     -999,9,     -999,9,     -999,9,     -999,9,   0.8370
35A3CITHER3_2 ,A13        ,155     ,  1,29         ,4          ,2,19950305,1746, -27.4695,   9.4335,     4899,   4596.1,   1.1420,  34.7410,2,  34.7380,2,    216.3,2,    217.2,2,   104.20,2,    30.00,2,     2.02,2,    0.009,2,    0.006,2,     -999,9,     -999,9,     -999,9,     -999,9,     -999,9,     -999,9,   0.7670
35A3CITHER3_2 ,A13        ,155     ,  1,30         ,3          ,2,19950305,1746, -27.4695,   9.4335,     4899,   4797.6,   1.1400,  34.7390,2,  34.7370,2,    215.8,2,    216.2,2,   105.50,2,    30.40,2,     2.06,2,    0.015,2,    0.011,2,     -999,9,     -999,9,     -999,9,     -999,9,     -999,9,     -999,9,   0.7420
35A3CITHER3_2 ,A13        ,155     ,  1,31         ,2          ,2,19950305,1746, -27.4695,   9.4335,     4899,   4897.4,   1.1450,  34.7380,2,  34.7360,2,    216.0,2,    216.9,2,   106.00,2,    29.90,2,     2.04,2,    0.008,2,    0.004,2,     -999,9,     -999,9,     -999,9,     -999,9,     -999,9,     -999,9,   0.7350
35A3CITHER3_2 ,A13        ,155     ,  1,32         ,1          ,2,19950305,1746, -27.4695,   9.4335,     4899,   4961.1,   1.1500,  34.7370,2,  34.7360,2,    216.3,2,    205.2,3,   106.50,2,    28.70,3,     1.99,2,    0.014,2,    0.011,2,     -999,9,     -999,9,     -999,9,     -999,9,     -999,9,     -999,9,   0.7320