BOTTLE,20211216CCHDHYDRO
EXPOCODE,SECT_ID,STNNBR,CASTNO,SAMPNO,BTLNBR,BTLNBR_FLAG_W,DATE,TIME,LATITUDE,LONGITUDE,DEPTH,CTDPRS,CTDTMP,CTDSAL,CTDSAL_FLAG_W,SALNTY,SALNTY_FLAG_W,CTDOXY,CTDOXY_FLAG_W,OXYGEN,OXYGEN_FLAG_W,SILCAT,SILCAT_FLAG_W,NITRAT,NITRAT_FLAG_W,PHSPHT,PHSPHT_FLAG_W,CFC-11,CFC-11_FLAG_W,CFC-12,CFC-12_FLAG_W,TCARBN,TCARBN_FLAG_W,ALKALI,ALKALI_FLAG_W,TRITUM,TRITUM_FLAG_W,HELIUM,HELIUM_FLAG_W,DELHE3,DELHE3_FLAG_W,NEON,NEON_FLAG_W,THETA
,,,,,,,,,,,METERS,DBAR,DEG C,PSS-78,,PSS-78,,UMOL/KG,,UMOL/KG,,UMOL/KG,,UMOL/KG,,UMOL/KG,,PMOL/KG,,PMOL/KG,,UMOL/KG,,UMOL/KG,,TU,,NMOL/KG,,PERCNT,,NMOL/KG,,DEG C
35A3CITHER3_2 ,A13        ,127     ,  1,1          ,32         ,2,19950226,1226, -39.1978,  11.1543,     5054,      3.5,  16.4360,  34.9660,2,  34.9660,2,    249.4,2,    253.6,3,     1.50,2,     0.40,2,     0.21,2,    2.975,2,    1.462,2,   2035.1,2,   2308.7,2,     -999,9,     -999,9,     -999,9,     -999,9,  16.4350
35A3CITHER3_2 ,A13        ,127     ,  1,2          ,31         ,2,19950226,1226, -39.1978,  11.1543,     5054,     45.9,  15.2830,  34.9990,2,  35.0000,2,    253.9,2,    248.3,3,     1.50,2,     1.00,2,     0.24,2,    3.057,2,    1.507,2,   2044.6,2,   2308.1,2,     -999,9,     -999,9,     -999,9,     -999,9,  15.2760
35A3CITHER3_2 ,A13        ,127     ,  1,3          ,30         ,2,19950226,1226, -39.1978,  11.1543,     5054,    120.9,  12.4470,  35.0690,2,  35.0680,2,    244.3,2,    242.2,2,     3.60,2,     7.80,2,     0.60,2,    3.320,2,    1.601,2,   2085.9,2,     -999,9,     -999,9,     -999,9,     -999,9,     -999,9,  12.4310
35A3CITHER3_2 ,A13        ,127     ,  1,4          ,29         ,2,19950226,1226, -39.1978,  11.1543,     5054,    195.7,  11.6140,  35.0520,2,  35.0550,2,    252.6,2,    249.7,2,     4.50,2,     9.50,2,     0.70,2,    3.388,2,    1.640,2,   2092.8,2,   2311.8,2,     -999,9,     -999,9,     -999,9,     -999,9,  11.5890
35A3CITHER3_2 ,A13        ,127     ,  1,5          ,28         ,2,19950226,1226, -39.1978,  11.1543,     5054,    345.6,  11.3960,  35.0290,2,  35.0280,2,    260.5,2,    254.2,3,     4.50,2,    10.00,2,     0.72,2,    3.412,2,    1.653,2,   2091.5,2,     -999,9,     -999,9,     -999,9,     -999,9,     -999,9,  11.3520
35A3CITHER3_2 ,A13        ,127     ,  1,6          ,27         ,2,19950226,1226, -39.1978,  11.1543,     5054,    494.0,  10.8800,  34.9220,2,  34.9180,2,    263.4,2,    256.1,3,     4.50,2,    10.90,2,     0.78,2,    3.457,2,    1.635,2,     -999,9,   2302.6,2,     -999,9,     -999,9,     -999,9,     -999,9,  10.8190
35A3CITHER3_2 ,A13        ,127     ,  1,7          ,26         ,2,19950226,1226, -39.1978,  11.1543,     5054,    494.4,  10.8800,  34.9210,2,  34.9170,3,    263.4,2,    255.8,3,     4.50,2,    10.90,2,     0.78,2,    3.429,2,    1.646,2,   2093.1,2,     -999,9,     -999,9,     -999,9,     -999,9,     -999,9,  10.8190
35A3CITHER3_2 ,A13        ,127     ,  1,8          ,25         ,2,19950226,1226, -39.1978,  11.1543,     5054,    595.3,   9.2110,  34.6550,2,  34.6560,2,    238.2,2,    232.9,3,     7.00,2,    17.00,2,     1.14,2,    2.990,2,    1.382,2,   2121.2,2,   2293.2,2,     -999,9,     -999,9,     -999,9,     -999,9,   9.1440
35A3CITHER3_2 ,A13        ,127     ,  1,9          ,24         ,2,19950226,1226, -39.1978,  11.1543,     5054,    745.4,   6.8610,  34.4440,2,  34.4460,2,    222.8,2,    221.1,2,    12.80,2,    24.40,2,     1.57,2,    2.635,2,    1.188,2,   2149.6,2,     -999,9,     -999,9,     -999,9,     -999,9,     -999,9,   6.7900
35A3CITHER3_2 ,A13        ,127     ,  1,10         ,23         ,2,19950226,1226, -39.1978,  11.1543,     5054,    896.0,   4.6780,  34.2740,2,  34.2750,2,    237.8,2,    238.4,2,    18.60,2,    28.10,2,     1.84,2,    2.734,2,    1.212,2,     -999,9,     -999,9,     -999,9,     -999,9,     -999,9,     -999,9,   4.6070
35A3CITHER3_2 ,A13        ,127     ,  1,11         ,22         ,2,19950226,1226, -39.1978,  11.1543,     5054,    995.3,   3.9840,  34.2660,2,  34.2660,2,    236.0,2,    236.8,2,    24.40,2,    29.40,2,     1.91,2,    2.430,2,    1.065,2,   2174.0,2,   2289.4,2,     -999,9,     -999,9,     -999,9,     -999,9,   3.9090
35A3CITHER3_2 ,A13        ,127     ,  1,12         ,21         ,2,19950226,1226, -39.1978,  11.1543,     5054,   1195.2,   3.2310,  34.3290,2,  34.3320,2,    214.3,2,    213.6,2,    38.80,2,    32.60,2,     2.11,2,    1.395,2,    0.614,2,   2201.1,2,     -999,9,     -999,9,     -999,9,     -999,9,     -999,9,   3.1460
35A3CITHER3_2 ,A13        ,127     ,  1,13         ,20         ,2,19950226,1226, -39.1978,  11.1543,     5054,   1394.8,   2.9660,  34.4500,2,  34.4500,2,    190.0,2,    188.2,2,    53.50,2,    34.10,2,     2.20,2,    0.501,2,    0.225,2,   2226.4,2,     -999,9,     -999,9,     -999,9,     -999,9,     -999,9,   2.8680
35A3CITHER3_2 ,A13        ,127     ,  1,14         ,19         ,2,19950226,1226, -39.1978,  11.1543,     5054,   1595.2,   2.8670,  34.5760,2,  34.5760,2,    177.9,2,    178.3,2,    62.40,2,    33.30,2,     2.19,2,    0.154,2,    0.073,2,   2237.9,2,     -999,9,     -999,9,     -999,9,     -999,9,     -999,9,   2.7530
35A3CITHER3_2 ,A13        ,127     ,  1,15         ,18         ,2,19950226,1226, -39.1978,  11.1543,     5054,   1794.8,   2.7360,  34.6550,2,  34.6550,2,    182.0,2,    181.2,2,    64.50,2,    32.20,2,     2.10,2,    0.096,2,    0.044,2,   2237.9,2,     -999,9,     -999,9,     -999,9,     -999,9,     -999,9,   2.6060
35A3CITHER3_2 ,A13        ,127     ,  1,16         ,17         ,2,19950226,1226, -39.1978,  11.1543,     5054,   1994.8,   2.6890,  34.7410,2,  34.7410,2,    191.0,2,    194.0,2,    61.10,2,    29.60,2,     1.96,2,    0.037,2,    0.021,2,   2229.6,2,   2333.9,2,     -999,9,     -999,9,     -999,9,     -999,9,   2.5420
35A3CITHER3_2 ,A13        ,127     ,  1,17         ,16         ,2,19950226,1226, -39.1978,  11.1543,     5054,   2194.7,   2.6580,  34.7930,2,  34.7900,2,    203.7,2,    206.1,2,    56.30,2,    28.10,2,     1.83,2,    0.018,2,    0.017,2,   2218.8,2,     -999,9,     -999,9,     -999,9,     -999,9,     -999,9,   2.4940
35A3CITHER3_2 ,A13        ,127     ,  1,18         ,15         ,2,19950226,1226, -39.1978,  11.1543,     5054,   2395.1,   2.6090,  34.8200,2,  34.8200,2,    214.0,2,    214.8,2,    53.50,2,    25.80,2,     1.71,2,    0.007,2,    0.008,2,   2212.3,2,     -999,9,     -999,9,     -999,9,     -999,9,     -999,9,   2.4270
35A3CITHER3_2 ,A13        ,127     ,  1,19         ,14         ,2,19950226,1226, -39.1978,  11.1543,     5054,   2595.5,   2.5170,  34.8330,2,  34.8320,2,    219.5,2,    220.5,2,    53.90,2,    24.90,2,     1.72,2,    0.003,2,    0.003,2,   2208.0,2,     -999,9,     -999,9,     -999,9,     -999,9,     -999,9,   2.3170
35A3CITHER3_2 ,A13        ,127     ,  1,20         ,13         ,2,19950226,1226, -39.1978,  11.1543,     5054,   2795.7,   2.4270,  34.8410,2,  34.8400,2,    224.6,2,    224.1,2,    54.20,2,    25.00,2,     1.64,2,    0.004,2,    0.005,2,   2208.2,2,     -999,9,     -999,9,     -999,9,     -999,9,     -999,9,   2.2100
35A3CITHER3_2 ,A13        ,127     ,  1,21         ,12         ,2,19950226,1226, -39.1978,  11.1543,     5054,   2995.9,   2.3420,  34.8450,2,  34.8440,2,    226.8,2,    226.7,2,    56.30,2,    24.70,2,     1.62,2,   -0.000,2,   -0.001,2,   2208.1,2,   2349.2,2,     -999,9,     -999,9,     -999,9,     -999,9,   2.1060
35A3CITHER3_2 ,A13        ,127     ,  1,22         ,11         ,2,19950226,1226, -39.1978,  11.1543,     5054,   3195.7,   2.2590,  34.8450,2,  34.8440,2,    228.4,2,    228.0,2,    58.30,2,    25.20,2,     1.62,2,    0.003,2,    0.005,2,   2209.2,2,     -999,9,     -999,9,     -999,9,     -999,9,     -999,9,   2.0050
35A3CITHER3_2 ,A13        ,127     ,  1,23         ,10         ,2,19950226,1226, -39.1978,  11.1543,     5054,   3395.4,   2.1760,  34.8410,2,  34.8410,2,    228.0,2,    227.8,2,    61.40,2,    22.60,3,     1.64,2,    0.002,2,    0.003,2,   2213.2,2,     -999,9,     -999,9,     -999,9,     -999,9,     -999,9,   1.9030
35A3CITHER3_2 ,A13        ,127     ,  1,24         ,9          ,2,19950226,1226, -39.1978,  11.1543,     5054,   3595.1,   1.9650,  34.8220,2,  34.8210,2,    225.7,2,    224.8,2,    70.60,2,    24.70,3,     1.71,2,   -0.002,2,    0.003,2,   2221.8,2,     -999,9,     -999,9,     -999,9,     -999,9,     -999,9,   1.6760
35A3CITHER3_2 ,A13        ,127     ,  1,25         ,8          ,2,19950226,1226, -39.1978,  11.1543,     5054,   3796.1,   1.7020,  34.7960,2,  34.7950,2,    222.2,2,    221.3,2,    81.50,2,    27.40,2,     1.81,2,    0.003,2,    0.007,2,   2229.7,2,     -999,9,     -999,9,     -999,9,     -999,9,     -999,9,   1.3990
35A3CITHER3_2 ,A13        ,127     ,  1,26         ,7          ,2,19950226,1226, -39.1978,  11.1543,     5054,   3997.2,   1.4270,  34.7690,2,  34.7690,2,    218.9,2,    220.4,2,    92.90,2,    28.70,2,     1.90,2,    0.009,2,    0.008,2,   2240.2,2,   2362.0,2,     -999,9,     -999,9,     -999,9,     -999,9,   1.1100
35A3CITHER3_2 ,A13        ,127     ,  1,27         ,6          ,2,19950226,1226, -39.1978,  11.1543,     5054,   4195.9,   1.2060,  34.7500,2,  34.7470,2,    217.7,2,    217.8,2,   101.00,2,    29.40,2,     1.96,2,    0.017,2,    0.009,2,   2246.3,2,     -999,9,     -999,9,     -999,9,     -999,9,     -999,9,   0.8740
35A3CITHER3_2 ,A13        ,127     ,  1,28         ,5          ,2,19950226,1226, -39.1978,  11.1543,     5054,   4397.4,   1.0920,  34.7380,2,  34.7390,2,    217.4,2,    217.4,2,   105.50,2,    30.60,2,     1.96,2,    0.012,2,    0.013,2,   2249.6,2,     -999,9,     -999,9,     -999,9,     -999,9,     -999,9,   0.7410
35A3CITHER3_2 ,A13        ,127     ,  1,29         ,4          ,2,19950226,1226, -39.1978,  11.1543,     5054,   4596.5,   1.0520,  34.7330,2,  34.7340,2,    217.6,2,    218.1,2,   107.50,2,    30.20,2,     2.01,2,    0.022,2,    0.011,2,   2250.7,2,     -999,9,     -999,9,     -999,9,     -999,9,     -999,9,   0.6800
35A3CITHER3_2 ,A13        ,127     ,  1,30         ,3          ,2,19950226,1226, -39.1978,  11.1543,     5054,   4798.6,   0.9810,  34.7260,2,  34.7260,2,    217.8,2,    217.9,2,   110.50,2,    30.40,2,     2.03,2,    0.033,2,    0.025,2,   2252.2,2,     -999,9,     -999,9,     -999,9,     -999,9,     -999,9,   0.5880
35A3CITHER3_2 ,A13        ,127     ,  1,31         ,2          ,2,19950226,1226, -39.1978,  11.1543,     5054,   4997.5,   0.9250,  34.7190,2,  34.7190,2,    218.5,2,    218.2,2,   112.90,2,    30.00,2,     2.06,2,    0.040,2,    0.021,2,   2253.6,2,     -999,9,     -999,9,     -999,9,     -999,9,     -999,9,   0.5100
35A3CITHER3_2 ,A13        ,127     ,  1,32         ,1          ,2,19950226,1226, -39.1978,  11.1543,     5054,   5131.9,   0.9300,  34.7180,2,  34.7170,2,    218.1,2,    218.5,2,   113.40,2,    29.00,3,     2.07,2,    0.042,2,    0.022,2,   2252.8,2,     -999,9,     -999,9,     -999,9,     -999,9,     -999,9,   0.4990