BOTTLE,20211216CCHDHYDRO
EXPOCODE,SECT_ID,STNNBR,CASTNO,SAMPNO,BTLNBR,BTLNBR_FLAG_W,DATE,TIME,LATITUDE,LONGITUDE,DEPTH,CTDPRS,CTDTMP,CTDSAL,CTDSAL_FLAG_W,SALNTY,SALNTY_FLAG_W,CTDOXY,CTDOXY_FLAG_W,OXYGEN,OXYGEN_FLAG_W,SILCAT,SILCAT_FLAG_W,NITRAT,NITRAT_FLAG_W,PHSPHT,PHSPHT_FLAG_W,CFC-11,CFC-11_FLAG_W,CFC-12,CFC-12_FLAG_W,TCARBN,TCARBN_FLAG_W,ALKALI,ALKALI_FLAG_W,TRITUM,TRITUM_FLAG_W,HELIUM,HELIUM_FLAG_W,DELHE3,DELHE3_FLAG_W,NEON,NEON_FLAG_W,THETA
,,,,,,,,,,,METERS,DBAR,DEG C,PSS-78,,PSS-78,,UMOL/KG,,UMOL/KG,,UMOL/KG,,UMOL/KG,,UMOL/KG,,PMOL/KG,,PMOL/KG,,UMOL/KG,,UMOL/KG,,TU,,NMOL/KG,,PERCNT,,NMOL/KG,,DEG C
35A3CITHER3_2 ,A13        ,191     ,  1,1          ,32         ,2,19950316,0551, -13.9990,   5.0095,     5522,      5.4,  26.4380,  36.5910,2,  36.5920,2,    199.3,2,    201.6,2,     4.50,3,     0.00,2,     0.14,2,    1.719,2,    0.908,2,   2055.4,2,   2404.7,2,     -999,9,     -999,9,     -999,9,     -999,9,  26.4370
35A3CITHER3_2 ,A13        ,191     ,  1,2          ,31         ,2,19950316,0551, -13.9990,   5.0095,     5522,     46.4,  19.1340,  35.9910,2,  35.9380,3,    232.4,2,    192.1,3,     6.20,2,     8.90,2,     0.67,2,    2.054,2,    1.034,2,   2121.5,2,   2361.0,2,     -999,9,     -999,9,     -999,9,     -999,9,  19.1260
35A3CITHER3_2 ,A13        ,191     ,  1,3          ,30         ,2,19950316,0551, -13.9990,   5.0095,     5522,    121.1,  12.6760,  35.2710,2,  35.2610,3,     25.5,2,     27.0,2,    12.00,2,    30.80,2,     1.89,2,    0.793,2,    0.408,2,   2236.6,2,   2311.4,2,     -999,9,     -999,9,     -999,9,     -999,9,  12.6600
35A3CITHER3_2 ,A13        ,191     ,  1,4          ,29         ,2,19950316,0551, -13.9990,   5.0095,     5522,    196.1,  11.2250,  35.0760,2,  35.0750,2,     29.6,2,     30.9,2,    14.90,2,    33.10,2,     2.02,2,    0.380,2,    0.208,2,   2240.9,2,     -999,9,     -999,9,     -999,9,     -999,9,     -999,9,  11.2000
35A3CITHER3_2 ,A13        ,191     ,  1,5          ,28         ,2,19950316,0551, -13.9990,   5.0095,     5522,    395.8,   8.5330,  34.7770,2,  34.7750,2,     35.5,2,     38.8,2,    19.80,2,    37.70,2,     2.36,2,    0.093,2,    0.050,2,   2252.0,2,     -999,9,     -999,9,     -999,9,     -999,9,     -999,9,   8.4910
35A3CITHER3_2 ,A13        ,191     ,  1,6          ,27         ,2,19950316,0551, -13.9990,   5.0095,     5522,    593.4,   6.1530,  34.5700,2,  34.5680,2,     65.1,2,     66.6,2,    26.60,2,    40.10,2,     2.57,2,    0.007,2,    0.006,2,   2254.0,2,   2293.6,2,     -999,9,     -999,9,     -999,9,     -999,9,   6.1000
35A3CITHER3_2 ,A13        ,191     ,  1,7          ,26         ,2,19950316,0551, -13.9990,   5.0095,     5522,    795.1,   4.7960,  34.4990,2,  34.4980,2,    106.6,2,    110.3,3,    32.90,2,    38.20,2,     2.48,2,    0.001,2,   -0.001,2,   2239.8,2,     -999,9,     -999,9,     -999,9,     -999,9,     -999,9,   4.7320
35A3CITHER3_2 ,A13        ,191     ,  1,8          ,25         ,2,19950316,0551, -13.9990,   5.0095,     5522,    995.7,   4.1080,  34.5720,2,  34.5420,3,    140.4,2,    140.9,2,    36.80,2,    34.70,2,     2.31,2,    0.003,2,     -999,9,   2230.0,2,   2306.3,2,     -999,9,     -999,9,     -999,9,     -999,9,   4.0320
35A3CITHER3_2 ,A13        ,191     ,  1,9          ,24         ,2,19950316,0551, -13.9990,   5.0095,     5522,   1183.5,   3.8750,  34.6960,2,  34.6950,2,    160.4,2,    162.4,2,    36.10,2,    31.30,2,     2.10,2,    0.000,2,   -0.002,2,   2220.4,2,     -999,9,     -999,9,     -999,9,     -999,9,     -999,9,   3.7850
35A3CITHER3_2 ,A13        ,191     ,  1,10         ,23         ,2,19950316,0551, -13.9990,   5.0095,     5522,   1396.5,   3.8200,  34.8340,2,  34.8210,3,    185.5,2,    188.0,2,    31.40,2,    27.10,2,     1.82,2,    0.004,2,     -999,9,   2202.5,2,     -999,9,     -999,9,     -999,9,     -999,9,     -999,9,   3.7110
35A3CITHER3_2 ,A13        ,191     ,  1,11         ,22         ,2,19950316,0551, -13.9990,   5.0095,     5522,   1595.4,   3.7090,  34.8950,2,  34.8970,2,    205.5,2,    206.8,2,    29.10,2,    23.80,2,     1.58,2,    0.004,2,    0.004,2,   2192.4,2,     -999,9,     -999,9,     -999,9,     -999,9,     -999,9,   3.5840
35A3CITHER3_2 ,A13        ,191     ,  1,12         ,21         ,2,19950316,0551, -13.9990,   5.0095,     5522,   1795.7,   3.5030,  34.9120,2,  34.9140,2,    216.0,2,    216.3,2,    30.00,2,    23.10,2,     1.48,2,    0.001,2,    0.005,2,   2189.4,2,     -999,9,     -999,9,     -999,9,     -999,9,     -999,9,   3.3620
35A3CITHER3_2 ,A13        ,191     ,  1,13         ,20         ,2,19950316,0551, -13.9990,   5.0095,     5522,   1996.6,   3.3420,  34.9210,2,  34.9230,2,    221.0,2,    221.3,2,    31.60,2,    22.50,2,     1.47,2,    0.002,2,    0.000,2,   2189.0,2,   2335.4,2,     -999,9,     -999,9,     -999,9,     -999,9,   3.1850
35A3CITHER3_2 ,A13        ,191     ,  1,14         ,19         ,2,19950316,0551, -13.9990,   5.0095,     5522,   2195.7,   3.1930,  34.9240,2,  34.9230,2,    224.4,2,    224.3,2,    33.60,2,    22.60,2,     1.47,2,    0.005,2,    0.005,2,   2189.0,2,     -999,9,     -999,9,     -999,9,     -999,9,     -999,9,   3.0190
35A3CITHER3_2 ,A13        ,191     ,  1,15         ,18         ,2,19950316,0551, -13.9990,   5.0095,     5522,   2395.6,   3.0170,  34.9200,2,  34.9200,2,    227.0,2,    227.2,2,    36.40,2,    22.40,2,     1.46,2,    0.001,2,    0.005,2,   2190.5,2,     -999,9,     -999,9,     -999,9,     -999,9,     -999,9,   2.8270
35A3CITHER3_2 ,A13        ,191     ,  1,16         ,17         ,2,19950316,0551, -13.9990,   5.0095,     5522,   2594.1,   2.8750,  34.9170,2,  34.9150,2,    229.4,2,    230.1,2,    38.40,2,    22.30,2,     1.48,2,    0.002,2,     -999,9,   2192.2,2,     -999,9,     -999,9,     -999,9,     -999,9,     -999,9,   2.6680
35A3CITHER3_2 ,A13        ,191     ,  1,17         ,16         ,2,19950316,0551, -13.9990,   5.0095,     5522,   2796.0,   2.7370,  34.9080,2,  34.9100,2,    229.6,2,    230.2,2,    41.40,2,    22.00,2,     1.50,2,    0.003,2,    0.001,2,   2195.3,2,     -999,9,     -999,9,     -999,9,     -999,9,     -999,9,   2.5130
35A3CITHER3_2 ,A13        ,191     ,  1,18         ,15         ,2,19950316,0551, -13.9990,   5.0095,     5522,   2993.8,   2.6390,  34.9040,2,  34.9030,2,    228.2,2,    228.7,2,    44.70,2,    22.50,2,     1.50,2,    0.003,2,    0.003,2,   2200.3,2,   2347.9,2,     -999,9,     -999,9,     -999,9,     -999,9,   2.3970
35A3CITHER3_2 ,A13        ,191     ,  1,19         ,14         ,2,19950316,0551, -13.9990,   5.0095,     5522,   3196.7,   2.5440,  34.9000,2,  34.8990,2,    227.8,2,    227.9,2,    47.60,2,    22.60,2,     1.51,2,    0.003,2,    0.003,2,   2205.2,2,     -999,9,     -999,9,     -999,9,     -999,9,     -999,9,   2.2830
35A3CITHER3_2 ,A13        ,191     ,  1,20         ,13         ,2,19950316,0551, -13.9990,   5.0095,     5522,   3395.3,   2.4520,  34.8940,2,  34.8910,2,    227.0,2,    228.0,2,    50.60,2,    22.80,2,     1.49,2,    0.003,2,     -999,9,   2209.5,2,     -999,9,     -999,9,     -999,9,     -999,9,     -999,9,   2.1720
35A3CITHER3_2 ,A13        ,191     ,  1,21         ,12         ,2,19950316,0551, -13.9990,   5.0095,     5522,   3597.4,   2.3880,  34.8920,2,  34.8900,2,    227.4,2,    227.9,2,    52.20,2,    23.10,2,     1.52,2,    0.000,2,    0.001,2,   2212.0,2,     -999,9,     -999,9,     -999,9,     -999,9,     -999,9,   2.0880
35A3CITHER3_2 ,A13        ,191     ,  1,22         ,11         ,2,19950316,0551, -13.9990,   5.0095,     5522,   3796.6,   2.3600,  34.8920,2,  34.8900,2,    229.5,2,    230.4,2,    51.90,2,    22.60,2,     1.45,2,    0.000,2,   -0.001,2,   2211.6,2,     -999,9,     -999,9,     -999,9,     -999,9,     -999,9,   2.0390
35A3CITHER3_2 ,A13        ,191     ,  1,23         ,10         ,2,19950316,0551, -13.9990,   5.0095,     5522,   3996.1,   2.3550,  34.8890,2,  34.8920,2,    231.5,2,    231.8,2,    51.60,2,    22.60,2,     1.48,2,    0.002,2,    0.003,2,   2210.8,2,   2359.5,2,     -999,9,     -999,9,     -999,9,     -999,9,   2.0110
35A3CITHER3_2 ,A13        ,191     ,  1,24         ,9          ,2,19950316,0551, -13.9990,   5.0095,     5522,   4197.2,   2.3590,  34.8870,2,  34.8900,2,    232.3,2,    232.2,2,    51.70,2,    22.80,2,     1.50,2,    0.003,2,    0.001,2,   2210.3,2,     -999,9,     -999,9,     -999,9,     -999,9,     -999,9,   1.9920
35A3CITHER3_2 ,A13        ,191     ,  1,25         ,8          ,2,19950316,0551, -13.9990,   5.0095,     5522,   4397.2,   2.3670,  34.8870,2,  34.8850,2,    232.8,2,    232.8,2,    51.70,2,    22.80,2,     1.50,2,    0.001,2,    0.011,2,   2210.4,2,     -999,9,     -999,9,     -999,9,     -999,9,     -999,9,   1.9760
35A3CITHER3_2 ,A13        ,191     ,  1,26         ,7          ,2,19950316,0551, -13.9990,   5.0095,     5522,   4596.5,   2.3760,  34.8850,2,  34.8850,2,    233.3,2,    234.2,2,    52.30,2,    22.60,2,     1.49,2,    0.002,2,    0.002,2,   2210.4,2,     -999,9,     -999,9,     -999,9,     -999,9,     -999,9,   1.9610
35A3CITHER3_2 ,A13        ,191     ,  1,27         ,6          ,2,19950316,0551, -13.9990,   5.0095,     5522,   4796.5,   2.3870,  34.8840,2,  34.8830,2,    234.6,2,    234.3,2,    52.50,2,    22.60,2,     1.49,2,    0.000,2,    0.001,2,   2209.5,2,     -999,9,     -999,9,     -999,9,     -999,9,     -999,9,   1.9470
35A3CITHER3_2 ,A13        ,191     ,  1,28         ,5          ,2,19950316,0551, -13.9990,   5.0095,     5522,   4998.0,   2.4000,  34.8810,2,  34.8820,2,    235.0,2,    234.8,2,    52.60,2,    22.60,2,     1.50,2,    0.000,2,     -999,9,   2211.6,2,   2361.3,2,     -999,9,     -999,9,     -999,9,     -999,9,   1.9340
35A3CITHER3_2 ,A13        ,191     ,  1,29         ,4          ,2,19950316,0551, -13.9990,   5.0095,     5522,   5198.3,   2.4180,  34.8810,2,  34.8810,2,    235.3,2,    235.3,2,    52.50,2,    22.00,3,     1.46,2,    0.009,2,    0.009,2,   2211.9,2,     -999,9,     -999,9,     -999,9,     -999,9,     -999,9,   1.9260
35A3CITHER3_2 ,A13        ,191     ,  1,30         ,3          ,2,19950316,0551, -13.9990,   5.0095,     5522,   5398.2,   2.4410,  34.8800,2,  34.8800,2,    235.6,2,    235.5,2,    52.50,2,    22.60,2,     1.49,2,    0.001,2,    0.002,2,   2211.9,2,     -999,9,     -999,9,     -999,9,     -999,9,     -999,9,   1.9220
35A3CITHER3_2 ,A13        ,191     ,  1,31         ,2          ,2,19950316,0551, -13.9990,   5.0095,     5522,   5496.5,   2.4530,  34.8800,2,  34.8820,2,    236.0,2,    235.3,2,    53.00,2,    22.60,2,     1.47,2,    0.012,2,    0.008,2,   2211.6,2,     -999,9,     -999,9,     -999,9,     -999,9,     -999,9,   1.9210
35A3CITHER3_2 ,A13        ,191     ,  1,32         ,1          ,2,19950316,0551, -13.9990,   5.0095,     5522,   5597.1,   2.4650,  34.8800,2,  34.8810,2,    234.5,2,    236.0,2,    53.20,2,    22.60,2,     1.44,2,    0.003,2,    0.003,2,   2212.0,2,   2365.3,2,     -999,9,     -999,9,     -999,9,     -999,9,   1.9190