BOTTLE,20211216CCHDHYDRO
EXPOCODE,SECT_ID,STNNBR,CASTNO,SAMPNO,BTLNBR,BTLNBR_FLAG_W,DATE,TIME,LATITUDE,LONGITUDE,DEPTH,CTDPRS,CTDTMP,CTDSAL,CTDSAL_FLAG_W,SALNTY,SALNTY_FLAG_W,CTDOXY,CTDOXY_FLAG_W,OXYGEN,OXYGEN_FLAG_W,SILCAT,SILCAT_FLAG_W,NITRAT,NITRAT_FLAG_W,PHSPHT,PHSPHT_FLAG_W,CFC-11,CFC-11_FLAG_W,CFC-12,CFC-12_FLAG_W,TCARBN,TCARBN_FLAG_W,ALKALI,ALKALI_FLAG_W,TRITUM,TRITUM_FLAG_W,HELIUM,HELIUM_FLAG_W,DELHE3,DELHE3_FLAG_W,NEON,NEON_FLAG_W,THETA
,,,,,,,,,,,METERS,DBAR,DEG C,PSS-78,,PSS-78,,UMOL/KG,,UMOL/KG,,UMOL/KG,,UMOL/KG,,UMOL/KG,,PMOL/KG,,PMOL/KG,,UMOL/KG,,UMOL/KG,,TU,,NMOL/KG,,PERCNT,,NMOL/KG,,DEG C
35A3CITHER3_2 ,A13        ,115     ,  1,1          ,24         ,2,19950223,0915, -35.1137,  16.8197,     3527,      2.7,  19.8260,  35.4650,2,  35.4650,2,    229.6,2,    231.3,2,     2.30,2,     0.00,2,     0.14,2,    2.395,2,    1.219,2,   2033.6,2,     -999,9,     -999,9,     -999,9,     -999,9,     -999,9,  19.8260
35A3CITHER3_2 ,A13        ,115     ,  1,2          ,23         ,2,19950223,0915, -35.1137,  16.8197,     3527,     45.9,  17.5660,  35.2080,2,  35.2200,3,    245.2,2,    243.5,2,     2.50,2,     0.00,2,     0.16,2,    2.636,2,    1.324,2,   2035.7,2,   2327.3,2,     -999,9,     -999,9,     -999,9,     -999,9,  17.5580
35A3CITHER3_2 ,A13        ,115     ,  1,3          ,22         ,2,19950223,0915, -35.1137,  16.8197,     3527,    120.5,  15.6350,  35.4490,2,  35.4540,2,    216.8,2,    218.8,2,     4.60,2,     4.70,2,     0.40,2,    2.643,2,    1.304,2,   2074.1,2,     -999,9,     -999,9,     -999,9,     -999,9,     -999,9,  15.6160
35A3CITHER3_2 ,A13        ,115     ,  1,4          ,21         ,2,19950223,0915, -35.1137,  16.8197,     3527,    195.6,  14.3640,  35.3010,2,  35.3000,2,    218.3,2,    218.6,2,     4.90,2,     6.50,2,     0.53,2,    2.578,2,    1.264,2,   2085.1,2,   2319.9,2,     -999,9,     -999,9,     -999,9,     -999,9,  14.3350
35A3CITHER3_2 ,A13        ,115     ,  1,5          ,20         ,2,19950223,0915, -35.1137,  16.8197,     3527,    295.5,  13.0630,  35.2290,2,  35.2250,2,    213.7,2,    210.6,2,     6.10,2,    10.50,3,     0.75,3,    1.665,2,    0.812,2,   2102.6,2,     -999,9,     -999,9,     -999,9,     -999,9,     -999,9,  13.0220
35A3CITHER3_2 ,A13        ,115     ,  1,6          ,19         ,2,19950223,0915, -35.1137,  16.8197,     3527,    395.4,  11.0840,  34.9460,2,  34.9420,2,    218.9,2,    211.7,3,     7.40,2,    14.30,2,     0.97,2,    2.154,2,    1.030,2,   2116.1,2,     -999,9,     -999,9,     -999,9,     -999,9,     -999,9,  11.0350
35A3CITHER3_2 ,A13        ,115     ,  1,8          ,17         ,2,19950223,0915, -35.1137,  16.8197,     3527,    595.2,   7.6050,  34.5460,2,  34.5490,2,    203.1,2,    200.4,2,    15.40,2,    23.80,2,     1.58,2,    1.920,2,    0.899,2,   2156.2,2,     -999,9,     -999,9,     -999,9,     -999,9,     -999,9,   7.5450
35A3CITHER3_2 ,A13        ,115     ,  1,7          ,18         ,2,19950223,0915, -35.1137,  16.8197,     3527,    595.8,   7.5730,  34.5520,2,  34.5500,2,    203.3,2,    200.7,2,    15.10,2,    23.60,2,     1.56,2,    1.943,2,    0.917,2,     -999,9,     -999,9,     -999,9,     -999,9,     -999,9,     -999,9,   7.5130
35A3CITHER3_2 ,A13        ,115     ,  1,9          ,16         ,2,19950223,0915, -35.1137,  16.8197,     3527,    794.5,   4.7170,  34.3480,2,  34.3500,2,    215.0,2,    215.0,2,    25.60,2,    29.10,2,     1.85,3,    1.573,2,    0.897,2,   2179.0,2,     -999,9,     -999,9,     -999,9,     -999,9,     -999,9,   4.6540
35A3CITHER3_2 ,A13        ,115     ,  1,10         ,15         ,2,19950223,0915, -35.1137,  16.8197,     3527,    995.3,   3.7170,  34.4150,2,  34.4130,2,    193.9,2,    192.9,2,    40.80,2,    31.80,2,     2.09,2,    0.770,2,    0.370,2,   2210.6,2,   2296.7,2,     -999,9,     -999,9,     -999,9,     -999,9,   3.6440
35A3CITHER3_2 ,A13        ,115     ,  1,11         ,14         ,2,19950223,0915, -35.1137,  16.8197,     3527,   1195.0,   3.1630,  34.5140,2,  34.5160,2,    178.6,2,    177.9,2,    57.40,2,    32.90,2,     2.17,2,    0.289,2,    0.141,2,   2233.4,2,     -999,9,     -999,9,     -999,9,     -999,9,     -999,9,   3.0790
35A3CITHER3_2 ,A13        ,115     ,  1,12         ,13         ,2,19950223,0915, -35.1137,  16.8197,     3527,   1394.4,   2.9000,  34.6180,2,  34.6190,2,    178.2,2,    177.9,2,    62.20,2,    31.80,2,     2.12,2,    0.086,2,    0.041,2,   2238.2,2,     -999,9,     -999,9,     -999,9,     -999,9,     -999,9,   2.8020
35A3CITHER3_2 ,A13        ,115     ,  1,13         ,12         ,2,19950223,0915, -35.1137,  16.8197,     3527,   1594.6,   2.8370,  34.7150,2,  34.7170,2,    187.0,2,    189.1,2,    58.60,2,    29.70,2,     1.96,2,    0.027,2,    0.013,2,   2228.5,2,     -999,9,     -999,9,     -999,9,     -999,9,     -999,9,   2.7230
35A3CITHER3_2 ,A13        ,115     ,  1,14         ,11         ,2,19950223,0915, -35.1137,  16.8197,     3527,   1794.3,   2.8020,  34.7770,2,  34.7790,2,    200.7,2,    202.4,2,    53.80,2,    27.60,2,     1.83,2,    0.012,2,    0.010,2,   2218.3,2,     -999,9,     -999,9,     -999,9,     -999,9,     -999,9,   2.6710
35A3CITHER3_2 ,A13        ,115     ,  1,15         ,10         ,2,19950223,0915, -35.1137,  16.8197,     3527,   1995.0,   2.7150,  34.8120,2,  34.8170,2,    210.5,2,    211.7,2,    51.30,2,    26.40,2,     1.73,2,    0.004,2,    0.011,2,     -999,9,   2340.9,2,     -999,9,     -999,9,     -999,9,     -999,9,   2.5680
35A3CITHER3_2 ,A13        ,115     ,  1,16         ,9          ,2,19950223,0915, -35.1137,  16.8197,     3527,   2193.5,   2.6850,  34.8450,2,  34.8500,2,    221.0,2,    222.8,2,    46.80,2,    24.80,2,     1.61,2,    0.001,2,     -999,9,     -999,9,     -999,9,     -999,9,     -999,9,     -999,9,     -999,9,   2.5200
35A3CITHER3_2 ,A13        ,115     ,  1,17         ,8          ,2,19950223,0915, -35.1137,  16.8197,     3527,   2194.0,   2.6970,  34.8480,2,  34.8510,2,    221.0,2,    222.9,2,    46.60,2,    24.80,2,     1.62,2,    0.000,2,    0.000,2,   2211.3,2,     -999,9,     -999,9,     -999,9,     -999,9,     -999,9,   2.5320
35A3CITHER3_2 ,A13        ,115     ,  1,18         ,7          ,2,19950223,0915, -35.1137,  16.8197,     3527,   2395.6,   2.5670,  34.8450,2,  34.8500,2,    224.0,2,    224.5,2,    49.60,2,    24.80,2,     1.62,2,    0.003,2,    0.002,2,   2204.6,2,     -999,9,     -999,9,     -999,9,     -999,9,     -999,9,   2.3850
35A3CITHER3_2 ,A13        ,115     ,  1,19         ,6          ,2,19950223,0915, -35.1137,  16.8197,     3527,   2596.2,   2.4770,  34.8480,2,  34.8530,2,    226.2,2,    226.9,2,    49.00,2,    24.60,2,     1.61,2,    0.004,2,    0.006,2,   2205.3,2,     -999,9,     -999,9,     -999,9,     -999,9,     -999,9,   2.2780
35A3CITHER3_2 ,A13        ,115     ,  1,20         ,5          ,2,19950223,0915, -35.1137,  16.8197,     3527,   2795.7,   2.4470,  34.8590,2,  34.8620,2,    230.5,2,    230.4,2,    47.10,2,    24.10,2,     1.58,2,    0.001,2,    0.002,2,   2202.8,2,     -999,9,     -999,9,     -999,9,     -999,9,     -999,9,   2.2290
35A3CITHER3_2 ,A13        ,115     ,  1,21         ,4          ,2,19950223,0915, -35.1137,  16.8197,     3527,   2995.9,   2.3700,  34.8560,2,  34.8600,2,    231.1,2,    230.6,2,    52.90,2,    24.30,2,     1.58,2,    0.000,2,     -999,9,   2205.1,2,     -999,9,     -999,9,     -999,9,     -999,9,     -999,9,   2.1340
35A3CITHER3_2 ,A13        ,115     ,  1,22         ,3          ,2,19950223,0915, -35.1137,  16.8197,     3527,   3196.4,   2.3260,  34.8580,2,  34.8620,2,    231.2,2,    230.8,2,    53.80,2,    24.30,2,     1.60,2,    0.000,2,    0.005,2,   2207.3,2,     -999,9,     -999,9,     -999,9,     -999,9,     -999,9,   2.0700
35A3CITHER3_2 ,A13        ,115     ,  1,23         ,2          ,2,19950223,0915, -35.1137,  16.8197,     3527,   3396.4,   2.2340,  34.8550,2,  34.8560,2,    229.7,2,    229.3,2,    57.70,2,    24.60,2,     1.65,2,    0.004,2,    0.002,2,   2211.9,2,     -999,9,     -999,9,     -999,9,     -999,9,     -999,9,   1.9590
35A3CITHER3_2 ,A13        ,115     ,  1,24         ,1          ,2,19950223,0915, -35.1137,  16.8197,     3527,   3563.6,   1.8270,  34.8160,2,  34.8170,2,    225.5,2,    224.3,2,    74.70,2,    26.30,2,     1.76,2,    0.003,2,    0.005,2,   2226.8,2,   2356.5,2,     -999,9,     -999,9,     -999,9,     -999,9,   1.5450
35A3CITHER3_2 ,A13        ,116     ,  1,1          ,29         ,2,19950223,1456, -35.4515,  16.3682,     4269,      3.5,  20.8860,  35.6750,2,  35.6740,2,    226.6,2,    225.4,2,     2.40,2,     0.00,2,     0.09,2,    2.236,2,    1.160,2,     -999,9,     -999,9,    0.908,2,   1.7190,2,    -1.83,2,    6.880,2,  20.8850
35A3CITHER3_2 ,A13        ,116     ,  1,2          ,28         ,2,19950223,1456, -35.4515,  16.3682,     4269,     47.4,  18.1640,  35.3460,2,  35.2880,3,    250.9,2,    242.4,3,     2.20,2,     0.00,2,     0.16,2,    2.614,2,    1.312,2,     -999,9,     -999,9,     -999,9,     -999,9,     -999,9,     -999,9,  18.1560
35A3CITHER3_2 ,A13        ,116     ,  1,3          ,27         ,2,19950223,1456, -35.4515,  16.3682,     4269,    121.4,  15.6890,  35.4330,2,  35.4350,2,    219.0,2,    222.8,2,     3.40,2,     3.80,2,     0.45,2,    2.673,2,    1.330,2,     -999,9,     -999,9,    0.794,2,   1.7420,2,    -1.50,2,    7.156,2,  15.6700
35A3CITHER3_2 ,A13        ,116     ,  1,4          ,26         ,2,19950223,1456, -35.4515,  16.3682,     4269,    195.5,  13.7610,  35.1850,2,  35.1740,3,    229.7,2,    225.9,2,     3.50,2,     6.30,3,     0.53,2,    2.867,2,    1.416,2,     -999,9,     -999,9,     -999,9,     -999,9,     -999,9,     -999,9,  13.7330
35A3CITHER3_2 ,A13        ,116     ,  1,5          ,25         ,2,19950223,1456, -35.4515,  16.3682,     4269,    296.0,  12.0020,  35.0220,2,  35.0230,2,    217.4,2,    216.8,2,     4.80,2,    11.30,2,     0.82,2,    2.701,2,    1.279,2,     -999,9,     -999,9,    0.621,2,   1.7580,2,    -0.25,2,    7.376,2,  11.9630
35A3CITHER3_2 ,A13        ,116     ,  1,6          ,24         ,2,19950223,1456, -35.4515,  16.3682,     4269,    396.1,  10.2400,  34.8110,2,  34.8110,2,    220.2,2,    218.1,2,     5.90,2,    15.20,3,     1.05,2,    2.539,2,    1.204,2,     -999,9,     -999,9,    0.462,2,   1.7720,2,     0.05,2,    7.482,2,  10.1930
35A3CITHER3_2 ,A13        ,116     ,  1,7          ,23         ,2,19950223,1456, -35.4515,  16.3682,     4269,    595.8,   7.4540,  34.5520,2,  34.5530,2,    205.8,2,    204.3,2,    15.40,2,    23.70,2,     1.57,2,    1.686,2,    0.794,2,     -999,9,     -999,9,    0.245,2,   1.8040,2,     1.60,2,    7.663,2,   7.3950
35A3CITHER3_2 ,A13        ,116     ,  1,8          ,22         ,2,19950223,1456, -35.4515,  16.3682,     4269,    694.8,   5.5670,  34.3720,2,  34.3790,3,    223.7,2,    217.7,3,    18.70,3,    26.90,2,     1.67,3,    1.993,2,    0.914,2,     -999,9,     -999,9,    0.152,2,   1.7860,2,     1.15,2,    7.699,2,   5.5080
35A3CITHER3_2 ,A13        ,116     ,  1,9          ,21         ,2,19950223,1456, -35.4515,  16.3682,     4269,    795.4,   5.2500,  34.4230,2,  34.4300,2,    205.0,2,    201.8,2,    26.10,2,    28.60,3,     1.86,2,    1.331,2,    0.624,2,     -999,9,     -999,9,     -999,9,   1.8010,2,     2.68,2,     -999,9,   5.1830
35A3CITHER3_2 ,A13        ,116     ,  1,10         ,20         ,2,19950223,1456, -35.4515,  16.3682,     4269,    994.9,   3.8260,  34.4210,2,  34.4190,2,    192.0,2,    192.6,2,    36.40,2,    31.90,2,     2.13,2,    0.760,2,    0.363,2,     -999,9,     -999,9,    0.063,2,   1.8340,2,     4.13,2,    7.878,2,   3.7520
35A3CITHER3_2 ,A13        ,116     ,  1,11         ,19         ,2,19950223,1456, -35.4515,  16.3682,     4269,   1194.2,   3.2340,  34.5060,2,  34.5070,2,    179.1,2,    178.1,2,    52.70,2,    33.00,2,     2.21,2,    0.329,2,    0.166,2,     -999,9,     -999,9,     -999,9,     -999,9,     -999,9,     -999,9,   3.1490
35A3CITHER3_2 ,A13        ,116     ,  1,12         ,18         ,2,19950223,1456, -35.4515,  16.3682,     4269,   1194.5,   3.2330,  34.5050,2,  34.5070,2,    179.0,2,    179.6,2,    53.40,2,    33.10,2,     2.23,2,    0.328,2,    0.165,2,     -999,9,     -999,9,     -999,9,     -999,9,     -999,9,     -999,9,   3.1480
35A3CITHER3_2 ,A13        ,116     ,  1,13         ,17         ,2,19950223,1456, -35.4515,  16.3682,     4269,   1394.4,   2.9070,  34.6090,2,  34.6100,2,    177.3,2,    178.1,2,    60.80,2,    32.10,2,     2.14,2,    0.100,2,    0.054,2,     -999,9,     -999,9,    0.018,2,   1.8460,2,     7.27,2,    7.929,2,   2.8090
35A3CITHER3_2 ,A13        ,116     ,  1,14         ,16         ,2,19950223,1456, -35.4515,  16.3682,     4269,   1595.4,   2.8390,  34.7100,2,  34.7090,2,    188.4,2,    187.7,2,    55.20,2,    29.80,2,     1.96,2,    0.029,2,    0.038,2,     -999,9,     -999,9,     -999,9,     -999,9,     -999,9,     -999,9,   2.7250
35A3CITHER3_2 ,A13        ,116     ,  1,15         ,15         ,2,19950223,1456, -35.4515,  16.3682,     4269,   1797.0,   2.7530,  34.7670,2,  34.7680,2,    199.6,2,    199.4,2,    52.50,2,    27.90,2,     1.86,2,    0.016,2,    0.008,2,     -999,9,     -999,9,    0.007,2,   1.8530,2,     6.41,2,    8.045,2,   2.6230
35A3CITHER3_2 ,A13        ,116     ,  1,16         ,14         ,2,19950223,1456, -35.4515,  16.3682,     4269,   1994.9,   2.7160,  34.8090,2,  34.8090,2,    212.0,2,    209.9,2,    47.50,2,    26.60,2,     1.74,2,    0.004,2,    0.007,2,     -999,9,     -999,9,     -999,9,     -999,9,     -999,9,     -999,9,   2.5690
35A3CITHER3_2 ,A13        ,116     ,  1,17         ,13         ,2,19950223,1456, -35.4515,  16.3682,     4269,   2195.9,   2.5960,  34.8290,2,  34.8280,2,    217.6,2,    217.3,2,    47.90,2,    25.80,2,     1.67,2,    0.002,2,    0.006,2,     -999,9,     -999,9,     -999,9,   1.8560,2,     5.76,2,    7.986,1,   2.4320
35A3CITHER3_2 ,A13        ,116     ,  1,18         ,12         ,2,19950223,1456, -35.4515,  16.3682,     4269,   2395.8,   2.4880,  34.8390,2,  34.8360,2,    221.5,2,    221.8,2,    49.00,2,    25.30,2,     1.65,2,   -0.002,2,    0.003,2,     -999,9,     -999,9,     -999,9,     -999,9,     -999,9,     -999,9,   2.3080
35A3CITHER3_2 ,A13        ,116     ,  1,19         ,11         ,2,19950223,1456, -35.4515,  16.3682,     4269,   2594.0,   2.4280,  34.8460,2,  34.8450,2,    225.1,2,    224.7,2,    49.70,2,    24.90,2,     1.59,2,    0.003,2,    0.012,2,     -999,9,     -999,9,     -999,9,     -999,9,     -999,9,     -999,9,   2.2300
35A3CITHER3_2 ,A13        ,116     ,  1,20         ,10         ,2,19950223,1456, -35.4515,  16.3682,     4269,   2795.0,   2.4100,  34.8600,2,  34.8590,2,    230.0,2,    224.2,3,    46.80,2,    24.30,2,     1.43,4,    0.004,2,    0.025,2,     -999,9,     -999,9,     -999,9,     -999,9,     -999,9,     -999,9,   2.1930
35A3CITHER3_2 ,A13        ,116     ,  1,21         ,9          ,2,19950223,1456, -35.4515,  16.3682,     4269,   2795.0,   2.4100,  34.8600,2,  34.8580,2,    230.0,2,    229.0,2,    46.40,2,    24.10,2,     1.57,2,    0.004,2,    0.008,2,     -999,9,     -999,9,    0.005,2,   1.8490,2,     5.09,2,    8.043,2,   2.1930
35A3CITHER3_2 ,A13        ,116     ,  1,22         ,8          ,2,19950223,1456, -35.4515,  16.3682,     4269,   2996.3,   2.2710,  34.8440,2,  34.8440,2,    227.3,2,    224.4,2,    54.30,2,    24.50,2,     1.60,2,    0.003,2,     -999,9,     -999,9,     -999,9,     -999,9,     -999,9,     -999,9,     -999,9,   2.0370
35A3CITHER3_2 ,A13        ,116     ,  1,23         ,7          ,2,19950223,1456, -35.4515,  16.3682,     4269,   3196.2,   2.2120,  34.8460,2,  34.8480,2,    228.6,2,    226.9,2,    61.50,2,    24.50,2,     1.62,2,    0.003,2,    0.008,2,     -999,9,     -999,9,     -999,9,     -999,9,     -999,9,     -999,9,   1.9590
35A3CITHER3_2 ,A13        ,116     ,  1,24         ,6          ,2,19950223,1456, -35.4515,  16.3682,     4269,   3396.0,   2.0890,  34.8420,2,  34.8400,2,    229.1,2,    226.9,2,    65.70,2,    25.00,2,     1.65,2,    0.009,2,    0.004,2,     -999,9,     -999,9,    0.003,2,   1.8640,2,     5.02,2,    8.056,2,   1.8180
35A3CITHER3_2 ,A13        ,116     ,  1,25         ,5          ,2,19950223,1456, -35.4515,  16.3682,     4269,   3595.9,   1.8260,  34.8110,2,  34.8120,2,    225.7,2,    224.9,2,    76.10,2,    26.60,2,     1.74,2,    0.007,2,    0.004,2,     -999,9,     -999,9,     -999,9,   1.8580,2,     5.28,2,     -999,9,   1.5410
35A3CITHER3_2 ,A13        ,116     ,  1,26         ,4          ,2,19950223,1456, -35.4515,  16.3682,     4269,   3797.1,   1.4600,  34.7770,2,  34.7740,2,    220.4,2,    221.4,2,    89.90,2,    28.20,2,     1.86,2,    0.004,2,    0.004,2,     -999,9,     -999,9,     -999,9,   1.8540,3,     6.19,3,     -999,9,   1.1630
35A3CITHER3_2 ,A13        ,116     ,  1,27         ,3          ,2,19950223,1456, -35.4515,  16.3682,     4269,   3997.5,   1.0980,  34.7460,2,  34.7450,2,    217.0,2,    216.0,2,   103.50,2,    29.90,2,     1.98,2,    0.006,2,    0.005,2,     -999,9,     -999,9,     -999,9,   1.8670,2,     6.74,2,     -999,9,   0.7900
35A3CITHER3_2 ,A13        ,116     ,  1,28         ,2          ,2,19950223,1456, -35.4515,  16.3682,     4269,   4197.7,   0.9340,  34.7290,2,  34.7270,2,    217.2,2,    217.8,2,   109.30,2,    30.40,2,     2.11,4,    0.024,2,    0.018,2,     -999,9,     -999,9,     -999,9,   1.8850,2,     6.62,2,     -999,9,   0.6100
35A3CITHER3_2 ,A13        ,116     ,  1,29         ,1          ,2,19950223,1456, -35.4515,  16.3682,     4269,   4310.1,   0.9010,  34.7230,2,  34.7240,2,    217.3,2,    218.9,2,   111.10,2,    30.60,2,     2.05,2,    0.032,2,    0.023,2,     -999,9,     -999,9,     -999,9,   1.8780,2,     6.43,2,     -999,9,   0.5650