BOTTLE,20211216CCHDHYDRO
EXPOCODE,SECT_ID,STNNBR,CASTNO,SAMPNO,BTLNBR,BTLNBR_FLAG_W,DATE,TIME,LATITUDE,LONGITUDE,DEPTH,CTDPRS,CTDTMP,CTDSAL,CTDSAL_FLAG_W,SALNTY,SALNTY_FLAG_W,CTDOXY,CTDOXY_FLAG_W,OXYGEN,OXYGEN_FLAG_W,SILCAT,SILCAT_FLAG_W,NITRAT,NITRAT_FLAG_W,PHSPHT,PHSPHT_FLAG_W,CFC-11,CFC-11_FLAG_W,CFC-12,CFC-12_FLAG_W,TCARBN,TCARBN_FLAG_W,ALKALI,ALKALI_FLAG_W,TRITUM,TRITUM_FLAG_W,HELIUM,HELIUM_FLAG_W,DELHE3,DELHE3_FLAG_W,NEON,NEON_FLAG_W,THETA
,,,,,,,,,,,METERS,DBAR,DEG C,PSS-78,,PSS-78,,UMOL/KG,,UMOL/KG,,UMOL/KG,,UMOL/KG,,UMOL/KG,,PMOL/KG,,PMOL/KG,,UMOL/KG,,UMOL/KG,,TU,,NMOL/KG,,PERCNT,,NMOL/KG,,DEG C
35A3CITHER3_2 ,A13        ,238     ,  1,1          ,32         ,2,19950327,0753,   4.0200,  -0.6907,     4656,      5.9,  29.3890,  34.6940,2,  34.6980,3,    194.2,2,    195.8,2,     6.10,2,     0.00,2,     0.00,2,    1.545,2,    0.834,2,   1899.8,2,   2266.8,2,     -999,9,     -999,9,     -999,9,     -999,9,  29.3880
35A3CITHER3_2 ,A13        ,238     ,  1,2          ,31         ,2,19950327,0753,   4.0200,  -0.6907,     4656,     46.4,  23.4150,  35.7700,2,  35.7570,3,    209.6,2,    194.3,3,     4.80,2,     0.00,2,     0.09,2,    1.665,2,    0.852,2,   2052.3,2,   2342.9,2,     -999,9,     -999,9,     -999,9,     -999,9,  23.4050
35A3CITHER3_2 ,A13        ,238     ,  1,3          ,30         ,2,19950327,0753,   4.0200,  -0.6907,     4656,    121.0,  16.7080,  35.7340,2,  35.7350,2,    147.8,2,    147.1,2,     7.10,2,    12.50,2,     0.85,2,    1.641,2,    0.807,2,   2138.3,2,   2342.0,2,     -999,9,     -999,9,     -999,9,     -999,9,  16.6880
35A3CITHER3_2 ,A13        ,238     ,  1,4          ,29         ,2,19950327,0753,   4.0200,  -0.6907,     4656,    195.8,  14.5550,  35.4810,2,  35.4870,3,     98.8,2,     97.2,2,     9.60,2,    20.10,2,     1.26,2,    1.181,2,    0.581,2,   2179.7,2,     -999,9,     -999,9,     -999,9,     -999,9,     -999,9,  14.5260
35A3CITHER3_2 ,A13        ,238     ,  1,5          ,28         ,2,19950327,0753,   4.0200,  -0.6907,     4656,    296.2,  11.3680,  35.1160,2,  35.1250,3,     55.3,2,     56.1,2,    14.10,2,    30.20,2,     1.83,2,    0.455,2,    0.235,2,   2224.1,2,     -999,9,     -999,9,     -999,9,     -999,9,     -999,9,  11.3300
35A3CITHER3_2 ,A13        ,238     ,  1,6          ,27         ,2,19950327,0753,   4.0200,  -0.6907,     4656,    396.4,   8.5950,  34.8060,2,  34.8110,2,     61.3,2,     63.6,2,    19.20,2,    34.70,2,     2.12,2,    0.135,2,    0.068,2,   2236.8,2,     -999,9,     -999,9,     -999,9,     -999,9,     -999,9,   8.5530
35A3CITHER3_2 ,A13        ,238     ,  1,7          ,26         ,2,19950327,0753,   4.0200,  -0.6907,     4656,    595.1,   6.1920,  34.5930,2,  34.5950,2,     99.0,2,    102.9,2,    25.90,2,    35.80,2,     2.29,2,    0.032,2,    0.016,2,   2230.1,2,   2294.7,2,     -999,9,     -999,9,     -999,9,     -999,9,   6.1390
35A3CITHER3_2 ,A13        ,238     ,  1,8          ,25         ,2,19950327,0753,   4.0200,  -0.6907,     4656,    780.8,   4.9790,  34.5490,2,  34.5420,3,    129.9,2,    131.6,2,    30.70,2,    34.70,2,     2.28,2,    0.010,2,    0.009,2,   2225.9,2,   2298.2,2,     -999,9,     -999,9,     -999,9,     -999,9,   4.9150
35A3CITHER3_2 ,A13        ,238     ,  1,9          ,24         ,2,19950327,0753,   4.0200,  -0.6907,     4656,    995.3,   4.5370,  34.6420,2,  34.6420,2,    147.2,2,    148.6,2,    31.60,2,    32.50,2,     2.16,2,    0.006,2,    0.001,2,   2221.8,2,   2304.1,2,     -999,9,     -999,9,     -999,9,     -999,9,   4.4570
35A3CITHER3_2 ,A13        ,238     ,  1,10         ,23         ,2,19950327,0753,   4.0200,  -0.6907,     4656,   1195.1,   4.3950,  34.8150,2,  34.8150,2,    178.6,2,    177.4,2,    27.50,2,    27.90,2,     1.83,2,    0.007,2,    0.005,2,   2203.7,2,     -999,9,     -999,9,     -999,9,     -999,9,     -999,9,   4.2990
35A3CITHER3_2 ,A13        ,238     ,  1,11         ,22         ,2,19950327,0753,   4.0200,  -0.6907,     4656,   1395.5,   4.2080,  34.9160,2,  34.9160,2,    206.6,2,    206.0,2,    24.00,2,    23.90,2,     1.55,2,    0.006,2,    0.004,2,   2186.5,2,     -999,9,     -999,9,     -999,9,     -999,9,     -999,9,   4.0950
35A3CITHER3_2 ,A13        ,238     ,  1,12         ,21         ,2,19950327,0753,   4.0200,  -0.6907,     4656,   1595.5,   3.9670,  34.9470,2,  34.9490,2,    223.0,2,    222.4,2,    22.90,2,    21.90,2,     1.39,2,    0.007,2,     -999,9,   2177.0,2,     -999,9,     -999,9,     -999,9,     -999,9,     -999,9,   3.8380
35A3CITHER3_2 ,A13        ,238     ,  1,13         ,20         ,2,19950327,0753,   4.0200,  -0.6907,     4656,   1796.0,   3.7310,  34.9590,2,  34.9570,2,    236.0,2,    233.7,2,    23.20,2,    20.10,2,     1.32,2,    0.002,2,   -0.001,2,   2171.7,2,     -999,9,     -999,9,     -999,9,     -999,9,     -999,9,   3.5870
35A3CITHER3_2 ,A13        ,238     ,  1,15         ,18         ,2,19950327,0753,   4.0200,  -0.6907,     4656,   1995.1,   3.5160,  34.9570,2,  34.9590,2,    241.3,2,    238.4,2,    25.40,2,    20.20,2,     1.31,2,    0.003,2,    0.010,2,   2171.9,2,   2328.9,2,     -999,9,     -999,9,     -999,9,     -999,9,   3.3560
35A3CITHER3_2 ,A13        ,238     ,  1,14         ,19         ,2,19950327,0753,   4.0200,  -0.6907,     4656,   1995.6,   3.5180,  34.9560,2,  34.9550,2,    241.3,2,    238.4,2,    25.40,2,    20.00,2,     1.29,2,    0.006,2,     -999,9,     -999,9,     -999,9,     -999,9,     -999,9,     -999,9,     -999,9,   3.3580
35A3CITHER3_2 ,A13        ,238     ,  1,16         ,17         ,2,19950327,0753,   4.0200,  -0.6907,     4656,   2196.2,   3.2430,  34.9460,2,  34.9500,2,    239.8,2,    239.2,2,    29.20,2,    20.50,2,     1.35,2,    0.002,2,    0.000,2,   2176.5,2,     -999,9,     -999,9,     -999,9,     -999,9,     -999,9,   3.0680
35A3CITHER3_2 ,A13        ,238     ,  1,17         ,16         ,2,19950327,0753,   4.0200,  -0.6907,     4656,   2394.8,   3.0350,  34.9380,2,  34.9390,2,    239.4,2,    238.1,2,    33.00,2,    20.70,2,     1.36,2,    0.004,2,    0.001,2,   2181.6,2,     -999,9,     -999,9,     -999,9,     -999,9,     -999,9,   2.8450
35A3CITHER3_2 ,A13        ,238     ,  1,18         ,15         ,2,19950327,0753,   4.0200,  -0.6907,     4656,   2596.5,   2.8520,  34.9290,2,  34.9280,2,    238.4,2,    237.0,2,    36.60,2,    21.10,2,     1.37,2,    0.000,2,    0.000,2,     -999,9,     -999,9,     -999,9,     -999,9,     -999,9,     -999,9,   2.6450
35A3CITHER3_2 ,A13        ,238     ,  1,19         ,14         ,2,19950327,0753,   4.0200,  -0.6907,     4656,   2597.0,   2.8520,  34.9270,2,  34.9240,2,    238.4,2,    237.0,2,    36.70,2,    21.10,2,     1.39,2,    0.003,2,    0.005,2,   2186.4,2,     -999,9,     -999,9,     -999,9,     -999,9,     -999,9,   2.6450
35A3CITHER3_2 ,A13        ,238     ,  1,20         ,13         ,2,19950327,0753,   4.0200,  -0.6907,     4656,   2795.9,   2.7110,  34.9200,2,  34.9180,2,    236.9,2,    236.8,2,    39.40,2,    21.40,2,     1.39,2,    0.001,2,   -0.004,2,   2191.2,2,     -999,9,     -999,9,     -999,9,     -999,9,     -999,9,   2.4870
35A3CITHER3_2 ,A13        ,238     ,  1,21         ,12         ,2,19950327,0753,   4.0200,  -0.6907,     4656,   2994.0,   2.6230,  34.9110,2,  34.9130,2,    237.8,2,    237.1,2,    41.10,2,    21.10,2,     1.34,2,    0.003,2,   -0.004,2,   2192.9,2,   2336.6,2,     -999,9,     -999,9,     -999,9,     -999,9,   2.3810
35A3CITHER3_2 ,A13        ,238     ,  1,22         ,11         ,2,19950327,0753,   4.0200,  -0.6907,     4656,   3196.3,   2.5370,  34.9070,2,  34.9040,2,    237.4,2,    237.0,2,    43.10,2,    21.30,2,     1.37,2,    0.003,2,    0.000,2,   2196.2,2,     -999,9,     -999,9,     -999,9,     -999,9,     -999,9,   2.2760
35A3CITHER3_2 ,A13        ,238     ,  1,23         ,10         ,2,19950327,0753,   4.0200,  -0.6907,     4656,   3396.3,   2.4690,  34.9020,2,  34.8990,2,    235.9,2,    236.0,2,    45.20,2,    21.60,2,     1.40,2,    0.004,2,    0.000,2,   2198.4,2,     -999,9,     -999,9,     -999,9,     -999,9,     -999,9,   2.1890
35A3CITHER3_2 ,A13        ,238     ,  1,24         ,9          ,2,19950327,0753,   4.0200,  -0.6907,     4656,   3596.1,   2.4090,  34.8970,2,  34.8920,2,    236.8,2,    237.2,2,    46.60,2,    21.30,2,     1.39,2,    0.006,2,    0.013,2,   2198.9,2,     -999,9,     -999,9,     -999,9,     -999,9,     -999,9,   2.1080
35A3CITHER3_2 ,A13        ,238     ,  1,25         ,8          ,2,19950327,0753,   4.0200,  -0.6907,     4656,   3796.7,   2.3690,  34.8920,2,  34.8920,2,    237.4,2,    236.6,2,    47.60,2,    21.80,2,     1.42,2,    0.003,2,    0.005,2,   2202.1,2,     -999,9,     -999,9,     -999,9,     -999,9,     -999,9,   2.0470
35A3CITHER3_2 ,A13        ,238     ,  1,26         ,7          ,2,19950327,0753,   4.0200,  -0.6907,     4656,   3996.7,   2.3440,  34.8900,2,  34.8900,2,    235.8,2,    237.1,2,    49.10,2,    22.10,2,     1.43,2,    0.004,2,    0.001,2,   2201.6,2,   2347.0,2,     -999,9,     -999,9,     -999,9,     -999,9,   2.0010
35A3CITHER3_2 ,A13        ,238     ,  1,27         ,6          ,2,19950327,0753,   4.0200,  -0.6907,     4656,   4195.6,   2.3110,  34.8840,2,  34.8850,2,    236.0,2,    236.3,2,    50.60,2,    22.00,2,     1.43,2,    0.003,2,    0.003,2,   2203.1,2,     -999,9,     -999,9,     -999,9,     -999,9,     -999,9,   1.9460
35A3CITHER3_2 ,A13        ,238     ,  1,28         ,5          ,2,19950327,0753,   4.0200,  -0.6907,     4656,   4397.8,   2.2760,  34.8790,2,  34.8780,2,    234.4,2,    234.9,2,    52.60,2,    22.80,2,     1.47,2,    0.000,2,    0.006,2,   2208.1,2,     -999,9,     -999,9,     -999,9,     -999,9,     -999,9,   1.8880
35A3CITHER3_2 ,A13        ,238     ,  1,29         ,4          ,2,19950327,0753,   4.0200,  -0.6907,     4656,   4596.6,   2.2420,  34.8740,2,  34.8730,2,    231.1,2,    231.1,2,    56.10,2,    22.70,2,     1.49,2,    0.006,2,     -999,9,   2208.2,2,     -999,9,     -999,9,     -999,9,     -999,9,     -999,9,   1.8310
35A3CITHER3_2 ,A13        ,238     ,  1,30         ,3          ,2,19950327,0753,   4.0200,  -0.6907,     4656,   4696.2,   2.2490,  34.8730,2,  34.8720,2,    228.7,2,    230.4,2,    56.40,2,    21.30,3,     1.42,3,    0.005,2,    0.001,2,   2202.8,2,   2360.1,2,     -999,9,     -999,9,     -999,9,     -999,9,   1.8260
35A3CITHER3_2 ,A13        ,239     ,  1,1          ,30         ,2,19950327,1254,   4.2348,  -0.8313,     4190,      3.8,  30.2960,  34.7590,2,  34.7610,2,    188.3,2,    200.3,3,     4.90,3,     0.00,2,     0.00,2,    1.531,2,    0.842,2,     -999,9,     -999,9,     -999,9,     -999,9,     -999,9,     -999,9,  30.2950
35A3CITHER3_2 ,A13        ,239     ,  1,2          ,29         ,2,19950327,1254,   4.2348,  -0.8313,     4190,     46.7,  25.5320,  35.5130,2,  35.4620,3,    213.6,2,    214.3,2,     4.60,2,     0.00,2,     0.02,2,    1.664,2,    0.860,2,     -999,9,     -999,9,     -999,9,     -999,9,     -999,9,     -999,9,  25.5220
35A3CITHER3_2 ,A13        ,239     ,  1,3          ,28         ,2,19950327,1254,   4.2348,  -0.8313,     4190,    121.3,  16.9810,  35.7330,2,  35.7390,3,    125.9,2,    122.7,2,     7.60,2,    14.80,2,     0.97,2,    1.544,2,    0.762,2,     -999,9,     -999,9,     -999,9,     -999,9,     -999,9,     -999,9,  16.9610
35A3CITHER3_2 ,A13        ,239     ,  1,4          ,27         ,2,19950327,1254,   4.2348,  -0.8313,     4190,    195.9,  14.7160,  35.5090,2,  35.5060,2,    103.3,2,    102.2,2,     9.90,2,    19.60,2,     1.29,2,    1.232,2,    0.615,2,     -999,9,     -999,9,     -999,9,     -999,9,     -999,9,     -999,9,  14.6870
35A3CITHER3_2 ,A13        ,239     ,  1,5          ,26         ,2,19950327,1254,   4.2348,  -0.8313,     4190,    295.1,  10.7150,  35.0310,2,  35.0270,2,     55.4,2,     54.3,2,    16.00,2,    32.10,2,     1.96,2,    0.335,2,    0.179,2,     -999,9,     -999,9,     -999,9,     -999,9,     -999,9,     -999,9,  10.6790
35A3CITHER3_2 ,A13        ,239     ,  1,6          ,25         ,2,19950327,1254,   4.2348,  -0.8313,     4190,    395.2,   8.4360,  34.7880,2,  34.7740,3,     64.1,2,     71.9,3,    19.60,2,    34.50,2,     2.15,2,    0.145,2,    0.081,2,     -999,9,     -999,9,     -999,9,     -999,9,     -999,9,     -999,9,   8.3940
35A3CITHER3_2 ,A13        ,239     ,  1,7          ,24         ,2,19950327,1254,   4.2348,  -0.8313,     4190,    594.9,   6.4000,  34.6090,2,  34.6070,2,     99.6,2,    100.7,2,    25.40,2,    35.50,2,     2.32,2,    0.038,2,    0.025,2,     -999,9,     -999,9,     -999,9,     -999,9,     -999,9,     -999,9,   6.3460
35A3CITHER3_2 ,A13        ,239     ,  1,8          ,23         ,2,19950327,1254,   4.2348,  -0.8313,     4190,    794.8,   4.9320,  34.5410,2,  34.5270,3,    136.3,2,    135.4,2,    31.00,2,    34.20,2,     2.30,2,    0.018,2,    0.006,2,     -999,9,     -999,9,     -999,9,     -999,9,     -999,9,     -999,9,   4.8670
35A3CITHER3_2 ,A13        ,239     ,  1,9          ,22         ,2,19950327,1254,   4.2348,  -0.8313,     4190,    995.8,   4.5660,  34.6270,2,  34.6260,2,    146.9,2,    146.3,2,    32.20,2,    32.40,2,     2.20,2,    0.004,2,    0.005,2,     -999,9,     -999,9,     -999,9,     -999,9,     -999,9,     -999,9,   4.4860
35A3CITHER3_2 ,A13        ,239     ,  1,11         ,20         ,2,19950327,1254,   4.2348,  -0.8313,     4190,   1195.0,   4.4230,  34.8080,2,  34.8050,2,    175.9,2,    175.3,2,    27.80,2,    27.90,2,     1.86,2,    0.002,2,   -0.002,2,     -999,9,     -999,9,     -999,9,     -999,9,     -999,9,     -999,9,   4.3260
35A3CITHER3_2 ,A13        ,239     ,  1,10         ,21         ,2,19950327,1254,   4.2348,  -0.8313,     4190,   1195.1,   4.4250,  34.8060,2,  34.8050,2,    175.9,2,    175.7,2,    28.00,2,    27.40,2,     1.84,2,    0.002,2,    0.000,2,     -999,9,     -999,9,     -999,9,     -999,9,     -999,9,     -999,9,   4.3280
35A3CITHER3_2 ,A13        ,239     ,  1,12         ,19         ,2,19950327,1254,   4.2348,  -0.8313,     4190,   1394.5,   4.2030,  34.9160,2,  34.9140,2,    207.0,2,    206.1,2,    24.20,2,    23.30,2,     1.57,2,    0.005,2,    0.002,2,     -999,9,     -999,9,     -999,9,     -999,9,     -999,9,     -999,9,   4.0900
35A3CITHER3_2 ,A13        ,239     ,  1,13         ,18         ,2,19950327,1254,   4.2348,  -0.8313,     4190,   1594.7,   3.9900,  34.9490,2,  34.9470,2,    223.6,2,    223.3,2,    23.00,2,    21.80,2,     1.43,2,    0.006,2,    0.006,2,     -999,9,     -999,9,     -999,9,     -999,9,     -999,9,     -999,9,   3.8610
35A3CITHER3_2 ,A13        ,239     ,  1,14         ,17         ,2,19950327,1254,   4.2348,  -0.8313,     4190,   1796.1,   3.7480,  34.9590,2,  34.9590,2,    235.6,2,    233.6,2,    23.40,2,    20.60,2,     1.36,2,    0.004,2,    0.001,2,     -999,9,     -999,9,     -999,9,     -999,9,     -999,9,     -999,9,   3.6040
35A3CITHER3_2 ,A13        ,239     ,  1,15         ,16         ,2,19950327,1254,   4.2348,  -0.8313,     4190,   1796.4,   3.7440,  34.9610,2,  34.9600,2,    235.6,2,    233.9,2,    23.30,2,    20.40,2,     1.34,2,    0.019,2,    0.018,2,     -999,9,     -999,9,     -999,9,     -999,9,     -999,9,     -999,9,   3.6000
35A3CITHER3_2 ,A13        ,239     ,  1,16         ,15         ,2,19950327,1254,   4.2348,  -0.8313,     4190,   1994.5,   3.5050,  34.9550,2,  34.9560,2,    240.0,2,    238.0,2,    25.70,2,    20.50,2,     1.34,2,    0.004,2,    0.006,2,     -999,9,     -999,9,     -999,9,     -999,9,     -999,9,     -999,9,   3.3450
35A3CITHER3_2 ,A13        ,239     ,  1,17         ,14         ,2,19950327,1254,   4.2348,  -0.8313,     4190,   2195.0,   3.2610,  34.9490,2,  34.9480,2,    241.3,2,    239.6,2,    28.70,2,    19.70,2,     1.32,2,    0.006,2,    0.002,2,     -999,9,     -999,9,     -999,9,     -999,9,     -999,9,     -999,9,   3.0860
35A3CITHER3_2 ,A13        ,239     ,  1,18         ,13         ,2,19950327,1254,   4.2348,  -0.8313,     4190,   2396.4,   3.0720,  34.9400,2,  34.9380,2,    240.5,2,    238.8,2,    32.30,2,    20.10,2,     1.34,2,    0.001,2,   -0.002,2,     -999,9,     -999,9,     -999,9,     -999,9,     -999,9,     -999,9,   2.8810
35A3CITHER3_2 ,A13        ,239     ,  1,19         ,12         ,2,19950327,1254,   4.2348,  -0.8313,     4190,   2595.9,   2.8570,  34.9260,2,  34.9260,2,    238.7,2,    238.2,2,    36.40,2,    20.00,2,     1.33,2,    0.001,2,     -999,9,     -999,9,     -999,9,     -999,9,     -999,9,     -999,9,     -999,9,   2.6500
35A3CITHER3_2 ,A13        ,239     ,  1,20         ,11         ,2,19950327,1254,   4.2348,  -0.8313,     4190,   2795.4,   2.6830,  34.9170,2,  34.9120,2,    240.3,2,    239.8,2,    39.00,2,    20.60,2,     1.36,2,    0.004,2,    0.001,2,     -999,9,     -999,9,     -999,9,     -999,9,     -999,9,     -999,9,   2.4600
35A3CITHER3_2 ,A13        ,239     ,  1,21         ,10         ,2,19950327,1254,   4.2348,  -0.8313,     4190,   2996.2,   2.5930,  34.9110,2,  34.9090,2,    238.7,2,    238.0,2,    41.50,2,    21.40,2,     1.41,2,    0.002,2,    0.000,2,     -999,9,     -999,9,     -999,9,     -999,9,     -999,9,     -999,9,   2.3520
35A3CITHER3_2 ,A13        ,239     ,  1,22         ,9          ,2,19950327,1254,   4.2348,  -0.8313,     4190,   3196.7,   2.5120,  34.9060,2,  34.9040,2,    237.8,2,    237.3,2,    43.50,2,    20.80,2,     1.40,2,    0.004,2,    0.005,2,     -999,9,     -999,9,     -999,9,     -999,9,     -999,9,     -999,9,   2.2520
35A3CITHER3_2 ,A13        ,239     ,  1,23         ,8          ,2,19950327,1254,   4.2348,  -0.8313,     4190,   3396.5,   2.4490,  34.9000,2,  34.8980,2,    236.7,2,    236.8,2,    45.50,2,    20.90,2,     1.38,2,    0.001,2,    0.000,2,     -999,9,     -999,9,     -999,9,     -999,9,     -999,9,     -999,9,   2.1690
35A3CITHER3_2 ,A13        ,239     ,  1,24         ,7          ,2,19950327,1254,   4.2348,  -0.8313,     4190,   3596.4,   2.3890,  34.8950,2,  34.8930,2,    235.6,2,    236.7,2,    47.60,2,    21.20,2,     1.42,2,    0.000,2,     -999,9,     -999,9,     -999,9,     -999,9,     -999,9,     -999,9,     -999,9,   2.0890
35A3CITHER3_2 ,A13        ,239     ,  1,25         ,6          ,2,19950327,1254,   4.2348,  -0.8313,     4190,   3796.7,   2.3580,  34.8910,2,  34.8900,2,    237.6,2,    238.1,2,    48.20,2,    21.80,2,     1.43,2,    0.003,2,   -0.001,2,     -999,9,     -999,9,     -999,9,     -999,9,     -999,9,     -999,9,   2.0370
35A3CITHER3_2 ,A13        ,239     ,  1,26         ,5          ,2,19950327,1254,   4.2348,  -0.8313,     4190,   3997.6,   2.3270,  34.8870,2,  34.8860,2,    236.5,2,    236.6,2,    50.00,2,    21.70,2,     1.45,2,    0.004,2,   -0.001,2,     -999,9,     -999,9,     -999,9,     -999,9,     -999,9,     -999,9,   1.9840
35A3CITHER3_2 ,A13        ,239     ,  1,27         ,4          ,2,19950327,1254,   4.2348,  -0.8313,     4190,   4196.6,   2.3020,  34.8830,2,  34.8810,2,    234.6,2,    235.6,2,    51.80,2,    22.20,2,     1.45,2,    0.005,2,    0.009,2,     -999,9,     -999,9,     -999,9,     -999,9,     -999,9,     -999,9,   1.9370
35A3CITHER3_2 ,A13        ,239     ,  1,28         ,3          ,2,19950327,1254,   4.2348,  -0.8313,     4190,   4235.0,   2.3030,  34.8830,2,  34.8810,2,    232.6,2,    235.7,2,    51.90,2,    22.00,2,     1.45,2,    0.003,2,    0.002,2,     -999,9,     -999,9,     -999,9,     -999,9,     -999,9,     -999,9,   1.9330