BOTTLE,20211216CCHDHYDRO
EXPOCODE,SECT_ID,STNNBR,CASTNO,SAMPNO,BTLNBR,BTLNBR_FLAG_W,DATE,TIME,LATITUDE,LONGITUDE,DEPTH,CTDPRS,CTDTMP,CTDSAL,CTDSAL_FLAG_W,SALNTY,SALNTY_FLAG_W,CTDOXY,CTDOXY_FLAG_W,OXYGEN,OXYGEN_FLAG_W,SILCAT,SILCAT_FLAG_W,NITRAT,NITRAT_FLAG_W,PHSPHT,PHSPHT_FLAG_W,CFC-11,CFC-11_FLAG_W,CFC-12,CFC-12_FLAG_W,TCARBN,TCARBN_FLAG_W,ALKALI,ALKALI_FLAG_W,TRITUM,TRITUM_FLAG_W,HELIUM,HELIUM_FLAG_W,DELHE3,DELHE3_FLAG_W,NEON,NEON_FLAG_W,THETA
,,,,,,,,,,,METERS,DBAR,DEG C,PSS-78,,PSS-78,,UMOL/KG,,UMOL/KG,,UMOL/KG,,UMOL/KG,,UMOL/KG,,PMOL/KG,,PMOL/KG,,UMOL/KG,,UMOL/KG,,TU,,NMOL/KG,,PERCNT,,NMOL/KG,,DEG C
35A3CITHER3_2 ,A13        ,154     ,  1,1          ,32         ,2,19950305,1140, -27.9357,   9.5312,     4963,      4.6,  22.4490,  35.7530,2,  35.7510,2,    218.9,2,    220.7,2,     2.60,2,     0.00,2,     0.11,2,    2.084,2,    1.055,2,   2036.4,2,   2344.0,2,     -999,9,     -999,9,     -999,9,     -999,9,  22.4480
35A3CITHER3_2 ,A13        ,154     ,  1,2          ,31         ,2,19950305,1140, -27.9357,   9.5312,     4963,     47.8,  21.3590,  35.5750,2,  35.5750,2,    228.9,2,    224.0,3,     2.90,2,     0.00,2,     0.14,2,    2.196,2,    1.103,2,   2029.1,2,   2329.0,2,     -999,9,     -999,9,     -999,9,     -999,9,  21.3500
35A3CITHER3_2 ,A13        ,154     ,  1,3          ,30         ,2,19950305,1140, -27.9357,   9.5312,     4963,    123.3,  15.8490,  35.4940,2,  35.4920,2,    224.7,2,    223.6,2,     4.20,2,     4.90,2,     0.26,2,    2.637,2,    1.295,2,   2066.7,2,   2326.2,2,     -999,9,     -999,9,     -999,9,     -999,9,  15.8300
35A3CITHER3_2 ,A13        ,154     ,  1,4          ,29         ,2,19950305,1140, -27.9357,   9.5312,     4963,    195.1,  13.7210,  35.1780,2,  35.1810,2,    214.9,2,    208.9,3,     5.10,2,     9.60,2,     0.72,2,    2.690,2,    1.296,2,   2100.7,2,   2312.8,2,     -999,9,     -999,9,     -999,9,     -999,9,  13.6930
35A3CITHER3_2 ,A13        ,154     ,  1,5          ,28         ,2,19950305,1140, -27.9357,   9.5312,     4963,    398.2,   9.7560,  34.7630,2,  34.7630,2,    209.7,2,    203.9,3,     9.10,2,    17.60,2,     1.21,2,    2.240,2,    1.038,2,     -999,9,     -999,9,     -999,9,     -999,9,     -999,9,     -999,9,   9.7100
35A3CITHER3_2 ,A13        ,154     ,  1,6          ,27         ,2,19950305,1140, -27.9357,   9.5312,     4963,    400.4,   9.7200,  34.7610,2,  34.7640,2,    208.3,2,    198.4,3,     9.50,2,    18.30,2,     1.24,2,    2.224,2,    1.024,2,   2136.4,2,     -999,9,     -999,9,     -999,9,     -999,9,     -999,9,   9.6740
35A3CITHER3_2 ,A13        ,154     ,  1,7          ,26         ,2,19950305,1140, -27.9357,   9.5312,     4963,    544.3,   7.0830,  34.5160,2,  34.5160,2,    168.7,2,    181.5,3,    16.10,2,    27.00,2,     1.72,2,    1.571,2,    0.732,2,   2170.8,2,   2287.2,2,     -999,9,     -999,9,     -999,9,     -999,9,   7.0310
35A3CITHER3_2 ,A13        ,154     ,  1,8          ,25         ,2,19950305,1140, -27.9357,   9.5312,     4963,    745.4,   4.3990,  34.3400,2,  34.3270,3,    223.6,2,    210.1,3,    27.50,2,    30.50,2,     1.93,2,     -999,9,     -999,9,   2184.2,2,     -999,9,     -999,9,     -999,9,     -999,9,     -999,9,   4.3420
35A3CITHER3_2 ,A13        ,154     ,  1,9          ,24         ,2,19950305,1140, -27.9357,   9.5312,     4963,    896.0,   3.7560,  34.3960,2,  34.3940,2,    200.2,2,    189.2,3,    38.60,2,    32.90,2,     2.12,2,    0.581,2,    0.267,2,   2207.2,2,     -999,9,     -999,9,     -999,9,     -999,9,     -999,9,   3.6910
35A3CITHER3_2 ,A13        ,154     ,  1,10         ,23         ,2,19950305,1140, -27.9357,   9.5312,     4963,    996.0,   3.5090,  34.4470,2,  34.4360,3,    184.1,2,    181.4,2,    44.20,2,    33.30,2,     2.17,2,    0.318,2,    0.153,2,   2215.6,2,   2309.1,2,     -999,9,     -999,9,     -999,9,     -999,9,   3.4380
35A3CITHER3_2 ,A13        ,154     ,  1,11         ,22         ,2,19950305,1140, -27.9357,   9.5312,     4963,   1196.5,   3.2520,  34.5800,2,  34.5800,2,    180.9,2,    181.0,2,    47.90,2,    32.30,2,     2.11,2,    0.083,2,    0.043,2,   2224.8,2,     -999,9,     -999,9,     -999,9,     -999,9,     -999,9,   3.1660
35A3CITHER3_2 ,A13        ,154     ,  1,12         ,21         ,2,19950305,1140, -27.9357,   9.5312,     4963,   1395.5,   3.1890,  34.7040,2,  34.7040,2,    191.0,2,    188.6,2,    47.30,3,    29.80,2,     1.90,2,    0.013,2,    0.009,2,   2217.5,2,     -999,9,     -999,9,     -999,9,     -999,9,     -999,9,   3.0870
35A3CITHER3_2 ,A13        ,154     ,  1,13         ,20         ,2,19950305,1140, -27.9357,   9.5312,     4963,   1596.2,   3.1930,  34.7980,2,  34.8000,2,    206.0,2,    204.8,2,    41.40,2,    26.80,2,     1.78,2,    0.004,2,    0.000,2,   2203.8,2,     -999,9,     -999,9,     -999,9,     -999,9,     -999,9,   3.0740
35A3CITHER3_2 ,A13        ,154     ,  1,14         ,19         ,2,19950305,1140, -27.9357,   9.5312,     4963,   1796.7,   3.0900,  34.8330,2,  34.8330,2,    216.9,2,    213.7,2,    39.50,2,    25.40,2,     1.71,2,    0.002,2,    0.000,2,   2198.7,2,     -999,9,     -999,9,     -999,9,     -999,9,     -999,9,   2.9550
35A3CITHER3_2 ,A13        ,154     ,  1,15         ,18         ,2,19950305,1140, -27.9357,   9.5312,     4963,   1996.7,   2.9590,  34.8520,2,  34.8520,2,    221.7,2,    220.6,2,    41.10,2,    24.90,2,     1.67,2,    0.000,2,    0.002,2,   2194.0,2,   2345.2,2,     -999,9,     -999,9,     -999,9,     -999,9,   2.8080
35A3CITHER3_2 ,A13        ,154     ,  1,16         ,17         ,2,19950305,1140, -27.9357,   9.5312,     4963,   2196.2,   2.8600,  34.8710,2,  34.8690,2,    228.9,2,    227.9,2,    40.10,2,    23.90,2,     1.57,2,    0.001,2,    0.006,2,   2191.5,2,     -999,9,     -999,9,     -999,9,     -999,9,     -999,9,   2.6920
35A3CITHER3_2 ,A13        ,154     ,  1,17         ,16         ,2,19950305,1140, -27.9357,   9.5312,     4963,   2396.3,   2.7000,  34.8700,2,  34.8690,2,    231.4,2,    229.8,2,    43.50,2,    23.60,2,     1.56,2,    0.004,2,     -999,9,   2192.9,2,     -999,9,     -999,9,     -999,9,     -999,9,     -999,9,   2.5160
35A3CITHER3_2 ,A13        ,154     ,  1,18         ,15         ,2,19950305,1140, -27.9357,   9.5312,     4963,   2599.4,   2.5660,  34.8660,2,  34.8660,2,    232.2,2,    231.2,2,    46.10,2,    23.60,2,     1.61,2,    0.000,2,    0.005,2,   2194.5,2,     -999,9,     -999,9,     -999,9,     -999,9,     -999,9,   2.3650
35A3CITHER3_2 ,A13        ,154     ,  1,19         ,14         ,2,19950305,1140, -27.9357,   9.5312,     4963,   2793.8,   2.4840,  34.8660,2,  34.8650,2,    233.4,2,    232.4,2,    48.10,2,    23.00,2,     1.53,2,     -999,9,     -999,9,   2198.5,2,     -999,9,     -999,9,     -999,9,     -999,9,     -999,9,   2.2650
35A3CITHER3_2 ,A13        ,154     ,  1,20         ,13         ,2,19950305,1140, -27.9357,   9.5312,     4963,   2995.9,   2.4130,  34.8650,2,  34.8640,2,    233.2,2,    232.1,2,    50.50,2,    23.60,2,     1.65,2,    0.000,2,    0.002,2,   2198.8,2,   2354.9,2,     -999,9,     -999,9,     -999,9,     -999,9,   2.1760
35A3CITHER3_2 ,A13        ,154     ,  1,21         ,12         ,2,19950305,1140, -27.9357,   9.5312,     4963,   3198.7,   2.3550,  34.8630,2,  34.8630,2,    233.5,2,    232.2,2,    52.30,2,    23.30,2,     1.65,2,    0.000,2,    0.005,2,   2200.9,2,     -999,9,     -999,9,     -999,9,     -999,9,     -999,9,   2.0980
35A3CITHER3_2 ,A13        ,154     ,  1,23         ,10         ,2,19950305,1140, -27.9357,   9.5312,     4963,   3393.9,   2.2980,  34.8610,2,  34.8610,2,    232.5,2,    231.5,2,    54.20,2,    23.40,2,     1.67,2,     -999,9,     -999,9,   2204.2,2,     -999,9,     -999,9,     -999,9,     -999,9,     -999,9,   2.0220
35A3CITHER3_2 ,A13        ,154     ,  1,22         ,11         ,2,19950305,1140, -27.9357,   9.5312,     4963,   3394.1,   2.2980,  34.8620,2,  34.8590,2,    232.5,2,    231.5,2,    53.30,2,    24.10,2,     1.65,2,    0.003,2,    0.004,2,     -999,9,     -999,9,     -999,9,     -999,9,     -999,9,     -999,9,   2.0220
35A3CITHER3_2 ,A13        ,154     ,  1,24         ,9          ,2,19950305,1140, -27.9357,   9.5312,     4963,   3598.4,   2.2320,  34.8560,2,  34.8560,2,    231.8,2,    230.5,2,    56.80,2,    23.60,2,     1.68,2,     -999,9,     -999,9,   2209.3,2,     -999,9,     -999,9,     -999,9,     -999,9,     -999,9,   1.9360
35A3CITHER3_2 ,A13        ,154     ,  1,25         ,8          ,2,19950305,1140, -27.9357,   9.5312,     4963,   3798.0,   2.0910,  34.8410,2,  34.8390,2,    230.5,2,    228.3,2,    62.90,2,    25.00,2,     1.74,2,    0.002,2,   -0.001,2,   2215.5,2,     -999,9,     -999,9,     -999,9,     -999,9,     -999,9,   1.7770
35A3CITHER3_2 ,A13        ,154     ,  1,26         ,7          ,2,19950305,1140, -27.9357,   9.5312,     4963,   3996.1,   1.8270,  34.8130,2,  34.8110,2,    226.0,2,    224.0,2,    72.30,2,    26.00,2,     1.82,2,    0.002,2,    0.000,2,   2225.2,2,   2361.4,2,     -999,9,     -999,9,     -999,9,     -999,9,   1.4990
35A3CITHER3_2 ,A13        ,154     ,  1,27         ,6          ,2,19950305,1140, -27.9357,   9.5312,     4963,   4197.2,   1.5090,  34.7800,2,  34.7780,2,    221.4,2,    220.4,2,    89.10,2,    27.20,2,     1.90,2,   -0.002,2,    0.002,2,   2237.1,2,     -999,9,     -999,9,     -999,9,     -999,9,     -999,9,   1.1670
35A3CITHER3_2 ,A13        ,154     ,  1,28         ,5          ,2,19950305,1140, -27.9357,   9.5312,     4963,   4398.9,   1.2940,  34.7570,2,  34.7570,2,    219.3,2,    218.2,2,    98.10,2,    27.50,2,     1.96,2,    0.003,2,    0.005,2,   2244.2,2,     -999,9,     -999,9,     -999,9,     -999,9,     -999,9,   0.9360
35A3CITHER3_2 ,A13        ,154     ,  1,29         ,4          ,2,19950305,1140, -27.9357,   9.5312,     4963,   4600.0,   1.1810,  34.7450,2,  34.7450,2,    217.5,2,    217.1,2,   103.00,2,    29.20,2,     2.08,2,    0.006,2,    0.006,2,   2248.8,2,     -999,9,     -999,9,     -999,9,     -999,9,     -999,9,   0.8040
35A3CITHER3_2 ,A13        ,154     ,  1,30         ,3          ,2,19950305,1140, -27.9357,   9.5312,     4963,   4797.2,   1.1480,  34.7400,2,  34.7390,2,    216.5,2,    215.8,2,   105.50,2,    27.90,3,     2.04,2,    0.016,2,    0.019,2,   2251.5,2,     -999,9,     -999,9,     -999,9,     -999,9,     -999,9,   0.7490
35A3CITHER3_2 ,A13        ,154     ,  1,31         ,2          ,2,19950305,1140, -27.9357,   9.5312,     4963,   4952.2,   1.1530,  34.7390,2,  34.7380,2,    216.6,2,    215.9,2,   106.00,2,    29.60,2,     2.07,2,    0.022,2,    0.014,2,   2250.9,2,     -999,9,     -999,9,     -999,9,     -999,9,     -999,9,   0.7360
35A3CITHER3_2 ,A13        ,154     ,  1,32         ,1          ,2,19950305,1140, -27.9357,   9.5312,     4963,   5025.7,   1.1610,  34.7390,2,  34.7400,2,    215.9,2,    217.2,2,   105.70,2,    30.20,2,     2.07,2,    0.018,2,    0.009,2,   2252.5,2,   2369.8,2,     -999,9,     -999,9,     -999,9,     -999,9,   0.7350