BOTTLE,20211216CCHDHYDRO
EXPOCODE,SECT_ID,STNNBR,CASTNO,SAMPNO,BTLNBR,BTLNBR_FLAG_W,DATE,TIME,LATITUDE,LONGITUDE,DEPTH,CTDPRS,CTDTMP,CTDSAL,CTDSAL_FLAG_W,SALNTY,SALNTY_FLAG_W,CTDOXY,CTDOXY_FLAG_W,OXYGEN,OXYGEN_FLAG_W,SILCAT,SILCAT_FLAG_W,NITRAT,NITRAT_FLAG_W,PHSPHT,PHSPHT_FLAG_W,CFC-11,CFC-11_FLAG_W,CFC-12,CFC-12_FLAG_W,TCARBN,TCARBN_FLAG_W,ALKALI,ALKALI_FLAG_W,TRITUM,TRITUM_FLAG_W,HELIUM,HELIUM_FLAG_W,DELHE3,DELHE3_FLAG_W,NEON,NEON_FLAG_W,THETA
,,,,,,,,,,,METERS,DBAR,DEG C,PSS-78,,PSS-78,,UMOL/KG,,UMOL/KG,,UMOL/KG,,UMOL/KG,,UMOL/KG,,PMOL/KG,,PMOL/KG,,UMOL/KG,,UMOL/KG,,TU,,NMOL/KG,,PERCNT,,NMOL/KG,,DEG C
35A3CITHER3_2 ,A13        ,148     ,  1,1          ,32         ,2,19950303,2215, -30.7012,  10.0008,     4836,      4.9,  21.7460,  35.7850,2,  35.7870,2,    224.4,2,    223.5,2,     2.80,2,     0.00,2,     0.15,2,    2.172,2,    1.097,2,   2029.8,2,   2341.8,2,     -999,9,     -999,9,     -999,9,     -999,9,  21.7450
35A3CITHER3_2 ,A13        ,148     ,  1,2          ,31         ,2,19950303,2215, -30.7012,  10.0008,     4836,     47.5,  21.1590,  35.7540,2,  35.7510,2,    224.8,2,    226.2,2,     3.10,2,     0.00,2,     0.08,2,    2.194,2,    1.103,2,   2026.9,2,   2344.4,2,     -999,9,     -999,9,     -999,9,     -999,9,  21.1500
35A3CITHER3_2 ,A13        ,148     ,  1,3          ,30         ,2,19950303,2215, -30.7012,  10.0008,     4836,    119.5,  16.7750,  35.5500,2,  35.5530,2,    214.4,2,    217.2,2,     4.40,2,     2.70,2,     0.33,2,    2.513,2,    1.232,2,   2059.7,2,   2326.6,2,     -999,9,     -999,9,     -999,9,     -999,9,  16.7550
35A3CITHER3_2 ,A13        ,148     ,  1,4          ,29         ,2,19950303,2215, -30.7012,  10.0008,     4836,    196.8,  15.5680,  35.4690,2,  35.4660,2,    211.6,2,    211.2,2,     5.70,2,     5.40,2,     0.47,3,    2.512,2,    1.204,2,   2078.6,2,   2321.1,2,     -999,9,     -999,9,     -999,9,     -999,9,  15.5370
35A3CITHER3_2 ,A13        ,148     ,  1,5          ,28         ,2,19950303,2215, -30.7012,  10.0008,     4836,    396.0,  12.0970,  35.0420,2,  35.0420,2,    212.0,2,    212.1,2,     6.10,2,    11.30,2,     0.83,2,    2.532,2,    1.165,2,   2107.6,2,     -999,9,     -999,9,     -999,9,     -999,9,     -999,9,  12.0450
35A3CITHER3_2 ,A13        ,148     ,  1,6          ,27         ,2,19950303,2215, -30.7012,  10.0008,     4836,    596.7,   8.6620,  34.6400,2,  34.6400,2,    209.7,2,    207.8,2,    10.90,2,    19.90,2,     1.36,2,    2.141,2,    0.969,2,   2139.8,2,   2290.7,2,     -999,9,     -999,9,     -999,9,     -999,9,   8.5970
35A3CITHER3_2 ,A13        ,148     ,  1,7          ,26         ,2,19950303,2215, -30.7012,  10.0008,     4836,    796.6,   5.3250,  34.3630,2,  34.3640,2,    219.7,2,    217.1,2,    21.30,2,    27.20,2,     1.83,2,    1.830,2,    0.808,2,   2168.5,2,     -999,9,     -999,9,     -999,9,     -999,9,     -999,9,   5.2580
35A3CITHER3_2 ,A13        ,148     ,  1,8          ,25         ,2,19950303,2215, -30.7012,  10.0008,     4836,    846.1,   4.7000,  34.3200,2,  34.3210,2,    222.6,2,    219.6,2,    28.00,2,    28.70,2,     1.92,2,    1.615,2,    0.703,2,   2172.2,2,     -999,9,     -999,9,     -999,9,     -999,9,     -999,9,   4.6330
35A3CITHER3_2 ,A13        ,148     ,  1,9          ,24         ,2,19950303,2215, -30.7012,  10.0008,     4836,    986.8,   3.6460,  34.3280,2,  34.3250,2,    213.1,2,    212.2,2,    34.70,2,    30.50,2,     2.03,2,    1.122,2,    0.513,2,     -999,9,     -999,9,     -999,9,     -999,9,     -999,9,     -999,9,   3.5740
35A3CITHER3_2 ,A13        ,148     ,  1,10         ,23         ,2,19950303,2215, -30.7012,  10.0008,     4836,    990.9,   3.6380,  34.3280,2,  34.3160,3,    213.0,2,    211.9,2,    35.00,2,    31.80,3,     2.09,3,    1.074,2,    0.479,2,   2192.5,2,   2299.7,2,     -999,9,     -999,9,     -999,9,     -999,9,   3.5660
35A3CITHER3_2 ,A13        ,148     ,  1,11         ,22         ,2,19950303,2215, -30.7012,  10.0008,     4836,   1145.1,   3.2360,  34.4190,2,  34.4230,2,    192.4,2,    191.7,2,    48.10,2,    32.20,2,     2.20,2,    0.514,2,    0.228,2,   2218.1,2,     -999,9,     -999,9,     -999,9,     -999,9,     -999,9,   3.1550
35A3CITHER3_2 ,A13        ,148     ,  1,12         ,21         ,2,19950303,2215, -30.7012,  10.0008,     4836,   1195.4,   3.3650,  34.4920,2,  34.4940,2,    179.8,2,    177.5,2,    49.00,3,    32.50,2,     2.20,2,    0.196,2,    0.090,2,   2226.8,2,     -999,9,     -999,9,     -999,9,     -999,9,     -999,9,   3.2790
35A3CITHER3_2 ,A13        ,148     ,  1,13         ,20         ,2,19950303,2215, -30.7012,  10.0008,     4836,   1396.2,   3.1690,  34.6360,2,  34.6350,2,    181.6,2,    181.1,2,    51.20,3,    30.30,2,     2.05,2,    0.038,2,    0.022,2,   2224.7,2,     -999,9,     -999,9,     -999,9,     -999,9,     -999,9,   3.0680
35A3CITHER3_2 ,A13        ,148     ,  1,14         ,19         ,2,19950303,2215, -30.7012,  10.0008,     4836,   1595.3,   2.9780,  34.7170,2,  34.7180,2,    190.6,2,    192.2,2,    52.80,2,    28.30,2,     1.87,2,    0.020,2,    0.016,2,   2219.3,2,     -999,9,     -999,9,     -999,9,     -999,9,     -999,9,   2.8620
35A3CITHER3_2 ,A13        ,148     ,  1,15         ,18         ,2,19950303,2215, -30.7012,  10.0008,     4836,   1794.9,   2.9240,  34.7810,2,  34.7810,2,    203.7,2,    203.2,2,    49.70,2,    26.60,2,     1.81,2,    0.012,2,    0.003,2,   2211.3,2,     -999,9,     -999,9,     -999,9,     -999,9,     -999,9,   2.7910
35A3CITHER3_2 ,A13        ,148     ,  1,16         ,17         ,2,19950303,2215, -30.7012,  10.0008,     4836,   1995.9,   2.8950,  34.8280,2,  34.8300,2,    216.1,2,    215.4,2,    45.80,2,    25.20,2,     1.70,2,    0.002,2,    0.002,2,   2203.0,2,   2330.1,2,     -999,9,     -999,9,     -999,9,     -999,9,   2.7450
35A3CITHER3_2 ,A13        ,148     ,  1,17         ,16         ,2,19950303,2215, -30.7012,  10.0008,     4836,   2195.0,   2.7910,  34.8470,2,  34.8490,2,    224.1,2,    222.7,2,    46.60,2,    24.30,2,     1.62,2,    0.005,2,    0.005,2,   2199.3,2,     -999,9,     -999,9,     -999,9,     -999,9,     -999,9,   2.6240
35A3CITHER3_2 ,A13        ,148     ,  1,18         ,15         ,2,19950303,2215, -30.7012,  10.0008,     4836,   2394.8,   2.6330,  34.8480,2,  34.8490,2,    226.8,2,    225.1,2,    48.40,2,    23.30,2,     1.53,2,    0.005,2,    0.001,2,   2200.3,2,     -999,9,     -999,9,     -999,9,     -999,9,     -999,9,   2.4500
35A3CITHER3_2 ,A13        ,148     ,  1,19         ,14         ,2,19950303,2215, -30.7012,  10.0008,     4836,   2594.4,   2.5280,  34.8540,2,  34.8560,2,    230.0,2,    229.0,2,    50.00,2,    23.90,2,     1.59,2,    0.007,2,    0.005,2,   2200.1,2,     -999,9,     -999,9,     -999,9,     -999,9,     -999,9,   2.3280
35A3CITHER3_2 ,A13        ,148     ,  1,20         ,13         ,2,19950303,2215, -30.7012,  10.0008,     4836,   2794.6,   2.4340,  34.8570,2,  34.8580,2,    231.6,2,    230.5,2,    51.50,2,    23.30,2,     1.57,2,    0.001,2,    0.004,2,   2200.3,2,     -999,9,     -999,9,     -999,9,     -999,9,     -999,9,   2.2160
35A3CITHER3_2 ,A13        ,148     ,  1,21         ,12         ,2,19950303,2215, -30.7012,  10.0008,     4836,   2995.9,   2.3540,  34.8560,2,  34.8560,2,    232.1,2,    231.3,2,    53.70,2,    23.50,2,     1.60,2,    0.007,2,    0.001,2,   2202.2,2,   2342.0,2,     -999,9,     -999,9,     -999,9,     -999,9,   2.1180
35A3CITHER3_2 ,A13        ,148     ,  1,22         ,11         ,2,19950303,2215, -30.7012,  10.0008,     4836,   3194.9,   2.2990,  34.8560,2,  34.8560,2,    232.6,2,    231.2,2,    55.60,2,    23.50,2,     1.59,2,    0.009,2,    0.002,2,   2205.8,2,     -999,9,     -999,9,     -999,9,     -999,9,     -999,9,   2.0440
35A3CITHER3_2 ,A13        ,148     ,  1,23         ,10         ,2,19950303,2215, -30.7012,  10.0008,     4836,   3396.5,   2.2430,  34.8550,2,  34.8540,2,    232.5,2,    231.1,2,    58.10,2,    23.50,2,     1.60,2,    0.002,2,    0.001,2,   2206.9,2,     -999,9,     -999,9,     -999,9,     -999,9,     -999,9,   1.9680
35A3CITHER3_2 ,A13        ,148     ,  1,24         ,9          ,2,19950303,2215, -30.7012,  10.0008,     4836,   3596.9,   2.1300,  34.8410,2,  34.8390,2,    230.9,2,    228.8,2,    62.20,2,    24.20,2,     1.64,2,    0.006,2,    0.008,2,   2214.0,2,     -999,9,     -999,9,     -999,9,     -999,9,     -999,9,   1.8370
35A3CITHER3_2 ,A13        ,148     ,  1,25         ,8          ,2,19950303,2215, -30.7012,  10.0008,     4836,   3796.0,   1.9000,  34.8180,2,  34.8170,2,    225.7,2,    225.0,2,    72.10,2,    25.00,2,     1.63,3,    0.003,2,    0.005,2,   2222.9,2,     -999,9,     -999,9,     -999,9,     -999,9,     -999,9,   1.5910
35A3CITHER3_2 ,A13        ,148     ,  1,26         ,7          ,2,19950303,2215, -30.7012,  10.0008,     4836,   3996.2,   1.5390,  34.7820,2,  34.7810,2,    221.7,2,    221.0,2,    86.20,2,    26.60,2,     1.62,3,    0.003,2,    0.003,2,   2235.1,2,   2357.8,2,     -999,9,     -999,9,     -999,9,     -999,9,   1.2190
35A3CITHER3_2 ,A13        ,148     ,  1,27         ,6          ,2,19950303,2215, -30.7012,  10.0008,     4836,   4197.3,   1.2750,  34.7570,2,  34.7560,2,    219.0,2,    218.0,2,    97.60,2,    28.80,2,     1.93,2,    0.005,2,    0.004,2,   2244.4,2,     -999,9,     -999,9,     -999,9,     -999,9,     -999,9,   0.9400
35A3CITHER3_2 ,A13        ,148     ,  1,28         ,5          ,2,19950303,2215, -30.7012,  10.0008,     4836,   4395.4,   1.1580,  34.7420,2,  34.7430,2,    217.8,2,    217.1,2,   101.80,2,    29.10,2,     1.92,2,    0.004,2,     -999,9,     -999,9,     -999,9,     -999,9,     -999,9,     -999,9,     -999,9,   0.8050
35A3CITHER3_2 ,A13        ,148     ,  1,29         ,4          ,2,19950303,2215, -30.7012,  10.0008,     4836,   4395.4,   1.1550,  34.7440,2,  34.7390,2,    217.8,2,    217.6,2,   101.80,2,    29.80,2,     1.98,2,    0.017,2,    0.008,2,   2248.1,2,     -999,9,     -999,9,     -999,9,     -999,9,     -999,9,   0.8020
35A3CITHER3_2 ,A13        ,148     ,  1,30         ,3          ,2,19950303,2215, -30.7012,  10.0008,     4836,   4598.3,   1.1270,  34.7380,2,  34.7330,2,    217.4,2,    216.7,2,   103.40,2,    29.70,2,     1.98,2,    0.010,2,    0.006,2,   2249.9,2,     -999,9,     -999,9,     -999,9,     -999,9,     -999,9,   0.7520
35A3CITHER3_2 ,A13        ,148     ,  1,31         ,2          ,2,19950303,2215, -30.7012,  10.0008,     4836,   4798.5,   1.1270,  34.7360,2,  34.7390,2,    217.3,2,    216.3,2,   104.20,2,    30.10,2,     1.99,2,    0.059,2,    0.032,2,   2252.0,2,     -999,9,     -999,9,     -999,9,     -999,9,     -999,9,   0.7290
35A3CITHER3_2 ,A13        ,148     ,  1,32         ,1          ,2,19950303,2215, -30.7012,  10.0008,     4836,   4894.9,   1.1000,  34.7320,2,  34.7350,2,    216.6,2,    217.0,2,   105.50,2,    30.20,2,     1.99,2,    0.032,2,    0.024,2,   2254.1,2,   2367.8,2,     -999,9,     -999,9,     -999,9,     -999,9,   0.6910