BOTTLE,20211216CCHDHYDRO
EXPOCODE,SECT_ID,STNNBR,CASTNO,SAMPNO,BTLNBR,BTLNBR_FLAG_W,DATE,TIME,LATITUDE,LONGITUDE,DEPTH,CTDPRS,CTDTMP,CTDSAL,CTDSAL_FLAG_W,SALNTY,SALNTY_FLAG_W,CTDOXY,CTDOXY_FLAG_W,OXYGEN,OXYGEN_FLAG_W,SILCAT,SILCAT_FLAG_W,NITRAT,NITRAT_FLAG_W,PHSPHT,PHSPHT_FLAG_W,CFC-11,CFC-11_FLAG_W,CFC-12,CFC-12_FLAG_W,TCARBN,TCARBN_FLAG_W,ALKALI,ALKALI_FLAG_W,TRITUM,TRITUM_FLAG_W,HELIUM,HELIUM_FLAG_W,DELHE3,DELHE3_FLAG_W,NEON,NEON_FLAG_W,THETA
,,,,,,,,,,,METERS,DBAR,DEG C,PSS-78,,PSS-78,,UMOL/KG,,UMOL/KG,,UMOL/KG,,UMOL/KG,,UMOL/KG,,PMOL/KG,,PMOL/KG,,UMOL/KG,,UMOL/KG,,TU,,NMOL/KG,,PERCNT,,NMOL/KG,,DEG C
35A3CITHER3_2 ,A13        ,240     ,  1,1          ,22         ,2,19950327,1725,   4.3615,  -0.9108,     3021,      3.7,  30.0220,  34.8580,2,  34.8250,3,    196.8,2,    195.0,2,     4.30,2,     0.00,2,     0.00,2,    1.496,2,    0.831,2,     -999,9,     -999,9,     -999,9,     -999,9,     -999,9,     -999,9,  30.0210
35A3CITHER3_2 ,A13        ,240     ,  1,2          ,21         ,2,19950327,1725,   4.3615,  -0.9108,     3021,     46.0,  27.1580,  35.3540,2,  35.2830,3,    223.1,2,    215.1,3,     4.00,2,     0.00,2,     0.01,2,    1.636,2,    0.871,2,     -999,9,     -999,9,     -999,9,     -999,9,     -999,9,     -999,9,  27.1470
35A3CITHER3_2 ,A13        ,240     ,  1,3          ,20         ,2,19950327,1725,   4.3615,  -0.9108,     3021,    121.9,  16.9440,  35.7120,2,  35.7070,3,    110.3,2,    107.8,2,     7.90,2,    16.60,2,     1.04,2,    1.462,2,    0.717,2,     -999,9,     -999,9,     -999,9,     -999,9,     -999,9,     -999,9,  16.9240
35A3CITHER3_2 ,A13        ,240     ,  1,4          ,19         ,2,19950327,1725,   4.3615,  -0.9108,     3021,    195.7,  14.1980,  35.4410,2,  35.4310,3,     98.5,2,     90.6,3,    10.10,2,    22.30,2,     1.39,2,    1.039,2,    0.528,2,     -999,9,     -999,9,     -999,9,     -999,9,     -999,9,     -999,9,  14.1690
35A3CITHER3_2 ,A13        ,240     ,  1,5          ,18         ,2,19950327,1725,   4.3615,  -0.9108,     3021,    265.7,  11.7090,  35.1530,2,  35.1360,3,     54.4,2,     54.5,2,    14.00,2,    22.80,3,     1.86,2,    0.447,2,    0.258,2,     -999,9,     -999,9,     -999,9,     -999,9,     -999,9,     -999,9,  11.6750
35A3CITHER3_2 ,A13        ,240     ,  1,6          ,17         ,2,19950327,1725,   4.3615,  -0.9108,     3021,    395.6,   8.4600,  34.7870,2,  34.7870,2,     69.2,2,     70.7,2,    18.50,2,    34.90,2,     2.15,2,    0.135,2,    0.071,2,     -999,9,     -999,9,     -999,9,     -999,9,     -999,9,     -999,9,   8.4180
35A3CITHER3_2 ,A13        ,240     ,  1,7          ,16         ,2,19950327,1725,   4.3615,  -0.9108,     3021,    594.7,   6.5220,  34.6180,2,  34.6130,2,     98.2,2,     98.0,2,    24.30,2,    36.00,2,     2.29,2,    0.038,2,    0.040,2,     -999,9,     -999,9,     -999,9,     -999,9,     -999,9,     -999,9,   6.4670
35A3CITHER3_2 ,A13        ,240     ,  1,8          ,15         ,2,19950327,1725,   4.3615,  -0.9108,     3021,    795.0,   5.0960,  34.5500,2,  34.5510,2,    129.5,2,    128.3,2,    29.90,2,    35.10,2,     2.31,2,    0.001,2,    0.062,2,     -999,9,     -999,9,     -999,9,     -999,9,     -999,9,     -999,9,   5.0300
35A3CITHER3_2 ,A13        ,240     ,  1,9          ,14         ,2,19950327,1725,   4.3615,  -0.9108,     3021,    995.2,   4.5690,  34.6260,2,  34.6180,3,    146.3,2,    147.0,2,    31.10,2,    32.60,2,     2.22,2,    0.003,2,    0.006,2,     -999,9,     -999,9,     -999,9,     -999,9,     -999,9,     -999,9,   4.4890
35A3CITHER3_2 ,A13        ,240     ,  1,10         ,13         ,2,19950327,1725,   4.3615,  -0.9108,     3021,   1195.6,   4.4240,  34.8050,2,  34.7920,3,    175.5,2,    175.7,2,    26.90,2,    28.20,2,     1.88,2,    0.004,2,    0.001,2,     -999,9,     -999,9,     -999,9,     -999,9,     -999,9,     -999,9,   4.3270
35A3CITHER3_2 ,A13        ,240     ,  1,11         ,12         ,2,19950327,1725,   4.3615,  -0.9108,     3021,   1395.5,   4.2070,  34.9090,2,  34.9120,2,    206.4,2,    205.5,2,    23.40,2,    23.90,2,     1.59,2,    0.001,2,    0.003,2,     -999,9,     -999,9,     -999,9,     -999,9,     -999,9,     -999,9,   4.0940
35A3CITHER3_2 ,A13        ,240     ,  1,12         ,11         ,2,19950327,1725,   4.3615,  -0.9108,     3021,   1595.3,   3.9820,  34.9460,2,  34.9380,3,    221.7,2,    221.1,2,    22.30,2,    21.60,2,     1.44,2,    0.008,2,    0.002,2,     -999,9,     -999,9,     -999,9,     -999,9,     -999,9,     -999,9,   3.8530
35A3CITHER3_2 ,A13        ,240     ,  1,13         ,10         ,2,19950327,1725,   4.3615,  -0.9108,     3021,   1795.1,   3.6960,  34.9590,2,  34.9580,2,    234.7,2,    233.6,2,    23.00,2,    19.90,2,     1.35,2,    0.006,2,    0.005,2,     -999,9,     -999,9,     -999,9,     -999,9,     -999,9,     -999,9,   3.5520
35A3CITHER3_2 ,A13        ,240     ,  1,14         ,9          ,2,19950327,1725,   4.3615,  -0.9108,     3021,   1995.5,   3.4830,  34.9550,2,  34.9480,3,    239.1,2,    238.3,2,    24.90,2,    18.50,3,     1.33,2,    0.001,2,    0.002,2,     -999,9,     -999,9,     -999,9,     -999,9,     -999,9,     -999,9,   3.3240
35A3CITHER3_2 ,A13        ,240     ,  1,15         ,8          ,2,19950327,1725,   4.3615,  -0.9108,     3021,   2195.3,   3.2940,  34.9500,2,  34.9480,2,    240.3,2,    239.0,2,    27.70,2,    20.80,2,     1.35,2,    0.010,2,    0.011,2,     -999,9,     -999,9,     -999,9,     -999,9,     -999,9,     -999,9,   3.1190
35A3CITHER3_2 ,A13        ,240     ,  1,16         ,7          ,2,19950327,1725,   4.3615,  -0.9108,     3021,   2394.6,   3.0540,  34.9390,2,  34.9370,2,    239.2,2,    238.1,2,    31.60,2,    19.90,2,     1.35,2,    0.004,2,    0.001,2,     -999,9,     -999,9,     -999,9,     -999,9,     -999,9,     -999,9,   2.8630
35A3CITHER3_2 ,A13        ,240     ,  1,17         ,6          ,2,19950327,1725,   4.3615,  -0.9108,     3021,   2595.2,   2.8350,  34.9270,2,  34.9240,2,    237.7,2,    237.4,2,    35.70,2,    20.40,2,     1.39,2,    0.007,2,    0.011,2,     -999,9,     -999,9,     -999,9,     -999,9,     -999,9,     -999,9,   2.6290
35A3CITHER3_2 ,A13        ,240     ,  1,18         ,5          ,2,19950327,1725,   4.3615,  -0.9108,     3021,   2795.6,   2.6820,  34.9190,2,  34.9150,2,    237.3,2,    236.7,2,    38.90,2,    20.60,2,     1.38,2,     -999,9,     -999,9,     -999,9,     -999,9,     -999,9,     -999,9,     -999,9,     -999,9,   2.4590
35A3CITHER3_2 ,A13        ,240     ,  1,19         ,4          ,2,19950327,1725,   4.3615,  -0.9108,     3021,   2895.3,   2.6340,  34.9160,2,  34.9120,2,    236.9,2,    236.6,2,    39.90,2,    21.50,2,     1.41,2,    0.002,2,    0.001,2,     -999,9,     -999,9,     -999,9,     -999,9,     -999,9,     -999,9,   2.4020
35A3CITHER3_2 ,A13        ,240     ,  1,20         ,3          ,2,19950327,1725,   4.3615,  -0.9108,     3021,   3011.7,   2.5460,  34.9100,2,  34.9070,2,    232.7,2,    236.8,2,    42.10,2,    21.30,2,     1.41,2,    0.000,2,    0.003,2,     -999,9,     -999,9,     -999,9,     -999,9,     -999,9,     -999,9,   2.3040
35A3CITHER3_2 ,A13        ,241     ,  1,1          ,15         ,2,19950327,2022,   4.3883,  -0.9267,     1481,      4.0,  29.6920,  34.8320,2,  34.8420,3,    193.1,2,    195.4,2,     3.70,2,     0.00,2,     0.00,2,    1.556,2,    0.835,2,   1906.3,2,   2279.1,2,     -999,9,     -999,9,     -999,9,     -999,9,  29.6910
35A3CITHER3_2 ,A13        ,241     ,  1,2          ,14         ,2,19950327,2022,   4.3883,  -0.9267,     1481,     44.5,  26.8500,  35.3910,2,  35.4310,3,    200.0,2,    214.5,3,     3.30,2,     0.00,2,     0.00,2,    1.647,2,    0.859,2,   1993.2,2,   2317.7,2,     -999,9,     -999,9,     -999,9,     -999,9,  26.8400
35A3CITHER3_2 ,A13        ,241     ,  1,3          ,13         ,2,19950327,2022,   4.3883,  -0.9267,     1481,    121.5,  17.0640,  35.7190,2,  35.7130,3,    110.7,2,    108.4,2,     7.70,2,    16.30,2,     0.99,2,    1.467,2,    0.690,2,   2161.8,2,   2335.0,2,     -999,9,     -999,9,     -999,9,     -999,9,  17.0440
35A3CITHER3_2 ,A13        ,241     ,  1,4          ,12         ,2,19950327,2022,   4.3883,  -0.9267,     1481,    196.8,  14.1730,  35.4340,2,  35.4140,3,     96.8,2,     86.0,3,    10.30,2,    22.30,2,     1.35,2,     -999,9,     -999,9,   2189.5,2,     -999,9,     -999,9,     -999,9,     -999,9,     -999,9,  14.1440
35A3CITHER3_2 ,A13        ,241     ,  1,5          ,11         ,2,19950327,2022,   4.3883,  -0.9267,     1481,    296.3,  10.6510,  35.0740,2,  35.0320,3,     54.6,2,     55.1,2,    15.30,2,    30.30,2,     1.86,2,    0.340,2,    0.176,2,   2228.0,2,   2305.2,2,     -999,9,     -999,9,     -999,9,     -999,9,  10.6150
35A3CITHER3_2 ,A13        ,241     ,  1,6          ,10         ,2,19950327,2022,   4.3883,  -0.9267,     1481,    396.4,   8.3520,  34.7720,2,  34.7750,2,     68.9,2,     73.1,2,    18.90,2,    33.60,2,     2.09,2,    0.129,2,    0.072,2,   2231.1,2,     -999,9,     -999,9,     -999,9,     -999,9,     -999,9,   8.3100
35A3CITHER3_2 ,A13        ,241     ,  1,7          ,9          ,2,19950327,2022,   4.3883,  -0.9267,     1481,    495.5,   7.2630,  34.6790,2,  34.6780,2,     82.7,2,     84.1,2,    22.30,2,    34.70,2,     2.17,2,    0.056,2,    0.032,2,   2232.6,2,   2292.1,2,     -999,9,     -999,9,     -999,9,     -999,9,   7.2150
35A3CITHER3_2 ,A13        ,241     ,  1,8          ,8          ,2,19950327,2022,   4.3883,  -0.9267,     1481,    594.8,   6.5290,  34.6140,2,  34.6110,2,     96.4,2,     97.7,2,    24.60,2,    34.80,2,     2.24,2,    0.034,2,    0.025,2,   2229.4,2,     -999,9,     -999,9,     -999,9,     -999,9,     -999,9,   6.4740
35A3CITHER3_2 ,A13        ,241     ,  1,9          ,7          ,2,19950327,2022,   4.3883,  -0.9267,     1481,    795.4,   5.2800,  34.5500,2,  34.5500,2,    124.4,2,    125.1,2,    29.50,2,    34.80,2,     2.19,2,    0.015,2,    0.012,2,   2226.2,2,   2295.6,2,     -999,9,     -999,9,     -999,9,     -999,9,   5.2130
35A3CITHER3_2 ,A13        ,241     ,  1,10         ,6          ,2,19950327,2022,   4.3883,  -0.9267,     1481,    995.4,   4.5920,  34.6160,2,  34.6200,2,    146.4,2,    145.1,2,    31.30,2,    31.40,2,     2.15,2,    0.011,2,    0.004,2,   2222.6,2,     -999,9,     -999,9,     -999,9,     -999,9,     -999,9,   4.5120
35A3CITHER3_2 ,A13        ,241     ,  1,11         ,5          ,2,19950327,2022,   4.3883,  -0.9267,     1481,   1195.5,   4.4270,  34.8060,2,  34.8100,2,    174.0,2,    176.1,2,    27.00,2,    27.20,2,     1.80,2,    0.005,2,    0.000,2,   2203.4,2,   2309.0,2,     -999,9,     -999,9,     -999,9,     -999,9,   4.3300
35A3CITHER3_2 ,A13        ,241     ,  1,12         ,4          ,2,19950327,2022,   4.3883,  -0.9267,     1481,   1394.3,   4.2010,  34.9080,2,  34.9100,2,    206.0,2,    205.4,2,    23.70,2,    23.20,2,     1.49,2,    0.004,2,    0.003,2,   2187.2,2,     -999,9,     -999,9,     -999,9,     -999,9,     -999,9,   4.0880
35A3CITHER3_2 ,A13        ,241     ,  1,13         ,3          ,2,19950327,2022,   4.3883,  -0.9267,     1481,   1464.8,   4.1730,  34.9170,2,  34.9190,2,    204.5,2,    208.2,2,    23.30,2,    21.70,2,     1.40,2,    0.004,2,    0.007,2,   2185.4,2,   2310.1,2,     -999,9,     -999,9,     -999,9,     -999,9,   4.0540
35A3CITHER3_2 ,A13        ,242     ,  1,1          ,12         ,2,19950327,2233,   4.4313,  -0.9563,      736,      3.0,  29.8180,  34.8990,2,  34.8980,2,    184.2,2,    194.6,3,     3.30,2,     0.00,2,     0.00,2,    1.545,2,    0.829,2,   1910.0,2,   2282.8,2,     -999,9,     -999,9,     -999,9,     -999,9,  29.8170
35A3CITHER3_2 ,A13        ,242     ,  1,2          ,11         ,2,19950327,2233,   4.4313,  -0.9563,      736,     46.5,  25.6650,  35.4000,2,  35.5290,3,    205.2,2,    178.7,3,     3.50,2,     0.40,2,     0.17,2,    1.670,2,    0.845,2,   2053.9,2,   2323.2,2,     -999,9,     -999,9,     -999,9,     -999,9,  25.6550
35A3CITHER3_2 ,A13        ,242     ,  1,3          ,10         ,2,19950327,2233,   4.4313,  -0.9563,      736,    121.1,  17.0600,  35.7230,2,  35.6990,3,    105.1,2,    108.0,2,     7.60,2,    16.20,2,     0.99,2,    1.470,2,    0.712,2,   2163.7,2,     -999,9,     -999,9,     -999,9,     -999,9,     -999,9,  17.0400
35A3CITHER3_2 ,A13        ,242     ,  1,4          ,9          ,2,19950327,2233,   4.4313,  -0.9563,      736,    196.0,  14.3090,  35.4540,2,  35.4260,3,     95.5,2,     87.3,3,    10.30,2,    22.80,2,     1.40,2,    1.020,2,    0.548,2,   2191.2,2,   2327.2,2,     -999,9,     -999,9,     -999,9,     -999,9,  14.2800
35A3CITHER3_2 ,A13        ,242     ,  1,5          ,8          ,2,19950327,2233,   4.4313,  -0.9563,      736,    295.9,  10.4330,  35.0050,2,  34.9890,3,     56.2,2,     59.4,2,    15.40,2,    32.00,2,     1.91,2,    0.319,2,    0.181,2,   2229.2,2,     -999,9,     -999,9,     -999,9,     -999,9,     -999,9,  10.3980
35A3CITHER3_2 ,A13        ,242     ,  1,6          ,7          ,2,19950327,2233,   4.4313,  -0.9563,      736,    395.4,   8.4320,  34.7860,2,  34.7870,2,     65.3,2,     71.1,3,    19.10,2,    34.90,2,     2.08,2,    0.126,2,    0.069,2,   2234.2,2,     -999,9,     -999,9,     -999,9,     -999,9,     -999,9,   8.3900
35A3CITHER3_2 ,A13        ,242     ,  1,7          ,6          ,2,19950327,2233,   4.4313,  -0.9563,      736,    495.8,   7.1680,  34.6670,2,  34.6680,2,     81.7,2,     87.9,3,    22.30,2,    35.60,2,     2.20,2,    0.056,2,    0.030,2,   2233.4,2,   2293.6,2,     -999,9,     -999,9,     -999,9,     -999,9,   7.1200
35A3CITHER3_2 ,A13        ,242     ,  1,8          ,5          ,2,19950327,2233,   4.4313,  -0.9563,      736,    596.2,   6.6100,  34.6200,2,  34.6190,2,     96.1,2,     97.9,2,    24.00,2,    35.40,2,     2.22,2,    0.040,2,    0.018,2,   2230.6,2,     -999,9,     -999,9,     -999,9,     -999,9,     -999,9,   6.5550
35A3CITHER3_2 ,A13        ,242     ,  1,9          ,4          ,2,19950327,2233,   4.4313,  -0.9563,      736,    695.4,   5.8620,  34.5700,2,  34.5700,2,    108.2,2,    111.4,2,    26.60,2,    34.80,2,     2.27,2,    0.027,2,    0.020,2,   2228.2,2,     -999,9,     -999,9,     -999,9,     -999,9,     -999,9,   5.8010
35A3CITHER3_2 ,A13        ,242     ,  1,10         ,3          ,2,19950327,2233,   4.4313,  -0.9563,      736,    718.5,   5.8340,  34.5660,2,  34.5700,2,    110.3,2,    110.3,2,    26.90,2,    35.20,2,     2.29,2,    0.023,2,    0.013,2,   2229.0,2,     -999,9,     -999,9,     -999,9,     -999,9,     -999,9,   5.7710
35A3CITHER3_2 ,A13        ,243     ,  1,1          ,10         ,2,19950328,0008,   4.4560,  -0.9728,      170,      1.1,  29.7190,  34.9070,2,  34.9140,3,    193.0,2,    194.8,2,     3.20,2,     0.00,2,     0.00,2,     -999,9,     -999,9,     -999,9,   2285.4,2,     -999,9,     -999,9,     -999,9,     -999,9,  29.7190
35A3CITHER3_2 ,A13        ,243     ,  1,2          ,9          ,2,19950328,0008,   4.4560,  -0.9728,      170,      1.1,  29.7150,  34.9090,2,  34.9160,3,    193.0,2,    195.6,2,     3.00,2,     0.00,2,     0.00,2,    1.544,2,    0.824,2,   1911.4,2,   2285.5,2,     -999,9,     -999,9,     -999,9,     -999,9,  29.7150
35A3CITHER3_2 ,A13        ,243     ,  1,3          ,8          ,2,19950328,0008,   4.4560,  -0.9728,      170,     46.8,  24.7550,  35.5000,2,  35.5400,3,    221.5,2,    174.1,3,     3.20,2,     0.30,2,     0.19,2,    1.648,2,    0.853,2,   2061.3,2,     -999,9,     -999,9,     -999,9,     -999,9,     -999,9,  24.7450
35A3CITHER3_2 ,A13        ,243     ,  1,4          ,7          ,2,19950328,0008,   4.4560,  -0.9728,      170,     95.9,  17.3700,  35.7210,2,  35.7180,2,    116.4,2,    108.5,3,     7.00,2,    14.20,2,     0.93,2,    1.509,2,    0.744,2,   2162.7,2,   2346.9,2,     -999,9,     -999,9,     -999,9,     -999,9,  17.3540
35A3CITHER3_2 ,A13        ,243     ,  1,5          ,6          ,2,19950328,0008,   4.4560,  -0.9728,      170,    121.0,  16.9090,  35.7060,2,  35.6870,3,    109.1,2,    106.5,2,     7.60,2,    15.40,2,     1.05,2,    1.460,2,    0.729,2,   2165.9,2,     -999,9,     -999,9,     -999,9,     -999,9,     -999,9,  16.8890
35A3CITHER3_2 ,A13        ,243     ,  1,7          ,4          ,2,19950328,0008,   4.4560,  -0.9728,      170,    144.8,  16.0530,  35.6430,2,     -999,9,    106.3,2,     -999,9,     -999,9,     -999,9,     -999,9,    1.403,2,    0.675,2,   2168.9,2,     -999,9,     -999,9,     -999,9,     -999,9,     -999,9,  16.0300
35A3CITHER3_2 ,A13        ,243     ,  1,6          ,5          ,2,19950328,0008,   4.4560,  -0.9728,      170,    144.9,  15.9940,  35.6260,2,     -999,9,    106.3,2,     -999,9,     -999,9,     -999,9,     -999,9,    1.403,2,    0.687,2,     -999,9,     -999,9,     -999,9,     -999,9,     -999,9,     -999,9,  15.9710
35A3CITHER3_2 ,A13        ,243     ,  1,8          ,3          ,2,19950328,0008,   4.4560,  -0.9728,      170,    145.1,  15.9770,  35.6390,2,  35.6320,3,    106.3,2,    105.7,2,     8.10,2,    17.50,2,     1.11,2,    1.399,2,    0.683,2,     -999,9,   2341.8,2,     -999,9,     -999,9,     -999,9,     -999,9,  15.9540