BOTTLE,20211216CCHDHYDRO
EXPOCODE,SECT_ID,STNNBR,CASTNO,SAMPNO,BTLNBR,BTLNBR_FLAG_W,DATE,TIME,LATITUDE,LONGITUDE,DEPTH,CTDPRS,CTDTMP,CTDSAL,CTDSAL_FLAG_W,SALNTY,SALNTY_FLAG_W,CTDOXY,CTDOXY_FLAG_W,OXYGEN,OXYGEN_FLAG_W,SILCAT,SILCAT_FLAG_W,NITRAT,NITRAT_FLAG_W,PHSPHT,PHSPHT_FLAG_W,CFC-11,CFC-11_FLAG_W,CFC-12,CFC-12_FLAG_W,TCARBN,TCARBN_FLAG_W,ALKALI,ALKALI_FLAG_W,TRITUM,TRITUM_FLAG_W,HELIUM,HELIUM_FLAG_W,DELHE3,DELHE3_FLAG_W,NEON,NEON_FLAG_W,THETA
,,,,,,,,,,,METERS,DBAR,DEG C,PSS-78,,PSS-78,,UMOL/KG,,UMOL/KG,,UMOL/KG,,UMOL/KG,,UMOL/KG,,PMOL/KG,,PMOL/KG,,UMOL/KG,,UMOL/KG,,TU,,NMOL/KG,,PERCNT,,NMOL/KG,,DEG C
35A3CITHER3_2 ,A13        ,214     ,  1,1          ,32         ,2,19950321,2240,  -3.6178,   4.1217,     4862,      4.3,  29.6210,  34.9820,2,  34.9840,2,    215.7,2,    219.8,3,     1.10,2,     0.00,2,     0.05,2,    1.543,2,    0.867,2,   1899.7,2,   2295.1,2,     -999,9,     -999,9,     -999,9,     -999,9,  29.6200
35A3CITHER3_2 ,A13        ,214     ,  1,2          ,31         ,2,19950321,2240,  -3.6178,   4.1217,     4862,     45.9,  21.8520,  35.9420,2,  35.8920,3,    211.6,2,    176.6,3,     2.60,2,     1.30,2,     0.29,2,    1.712,2,    0.868,2,   2089.9,2,   2356.6,2,     -999,9,     -999,9,     -999,9,     -999,9,  21.8430
35A3CITHER3_2 ,A13        ,214     ,  1,3          ,30         ,2,19950321,2240,  -3.6178,   4.1217,     4862,    121.6,  16.5770,  35.7510,2,  35.7610,3,    125.3,2,    126.8,2,     5.50,2,    14.40,2,     0.99,2,    1.635,2,    0.809,2,   2156.5,2,     -999,9,     -999,9,     -999,9,     -999,9,     -999,9,  16.5570
35A3CITHER3_2 ,A13        ,214     ,  1,4          ,29         ,2,19950321,2240,  -3.6178,   4.1217,     4862,    195.7,  14.6810,  35.5000,2,  35.4910,3,    103.5,2,     99.7,3,     7.70,2,    20.00,2,     1.29,2,    1.296,2,    0.641,2,   2182.1,2,   2332.0,2,     -999,9,     -999,9,     -999,9,     -999,9,  14.6520
35A3CITHER3_2 ,A13        ,214     ,  1,5          ,28         ,2,19950321,2240,  -3.6178,   4.1217,     4862,    315.4,  10.5540,  35.0130,2,  35.0150,2,     38.8,2,     38.9,2,    14.30,2,    33.50,2,     2.02,2,    0.322,2,    0.172,2,   2244.7,2,   2303.0,2,     -999,9,     -999,9,     -999,9,     -999,9,  10.5160
35A3CITHER3_2 ,A13        ,214     ,  1,6          ,27         ,2,19950321,2240,  -3.6178,   4.1217,     4862,    396.2,   8.6950,  34.8110,2,  34.8070,2,     55.3,2,     55.8,2,    17.80,2,    35.30,2,     2.18,2,    0.151,2,    0.103,2,   2247.0,2,     -999,9,     -999,9,     -999,9,     -999,9,     -999,9,   8.6520
35A3CITHER3_2 ,A13        ,214     ,  1,7          ,26         ,2,19950321,2240,  -3.6178,   4.1217,     4862,    595.8,   6.0450,  34.5510,2,  34.5520,2,    102.9,2,    103.6,2,    24.00,2,    36.30,2,     2.32,2,    0.042,2,    0.032,2,   2236.4,2,   2298.2,2,     -999,9,     -999,9,     -999,9,     -999,9,   5.9920
35A3CITHER3_2 ,A13        ,214     ,  1,8          ,25         ,2,19950321,2240,  -3.6178,   4.1217,     4862,    796.3,   4.6910,  34.5030,2,  34.4910,3,    144.1,2,    142.7,2,    30.50,2,    34.20,2,     2.25,2,    0.026,2,    0.016,2,   2224.6,2,     -999,9,     -999,9,     -999,9,     -999,9,     -999,9,   4.6280
35A3CITHER3_2 ,A13        ,214     ,  1,9          ,24         ,2,19950321,2240,  -3.6178,   4.1217,     4862,    995.2,   4.3720,  34.5950,2,  34.5930,2,    153.1,2,    151.4,2,    32.20,2,    32.80,2,     2.17,2,    0.005,2,    0.003,2,   2226.9,2,   2309.3,2,     -999,9,     -999,9,     -999,9,     -999,9,   4.2940
35A3CITHER3_2 ,A13        ,214     ,  1,10         ,23         ,2,19950321,2240,  -3.6178,   4.1217,     4862,   1195.3,   4.3660,  34.7780,2,  34.7670,3,    176.7,2,    174.4,2,    28.00,2,    28.50,2,     1.88,2,    0.008,2,    0.011,2,     -999,9,     -999,9,     -999,9,     -999,9,     -999,9,     -999,9,   4.2700
35A3CITHER3_2 ,A13        ,214     ,  1,11         ,22         ,2,19950321,2240,  -3.6178,   4.1217,     4862,   1195.8,   4.3630,  34.7830,2,  34.7780,2,    176.8,2,    176.1,2,    27.60,2,    28.70,2,     1.87,2,    0.007,2,    0.003,2,   2210.8,2,     -999,9,     -999,9,     -999,9,     -999,9,     -999,9,   4.2670
35A3CITHER3_2 ,A13        ,214     ,  1,12         ,21         ,2,19950321,2240,  -3.6178,   4.1217,     4862,   1393.7,   4.1900,  34.8920,2,  34.8930,2,    203.9,2,    201.4,2,    24.10,2,    24.30,2,     1.60,2,    0.005,2,    0.005,2,   2195.7,2,     -999,9,     -999,9,     -999,9,     -999,9,     -999,9,   4.0780
35A3CITHER3_2 ,A13        ,214     ,  1,13         ,20         ,2,19950321,2240,  -3.6178,   4.1217,     4862,   1595.4,   3.9960,  34.9490,2,  34.9470,2,    228.2,2,    224.1,2,    21.40,2,    20.90,2,     1.37,2,    0.006,2,    0.008,2,   2181.5,2,     -999,9,     -999,9,     -999,9,     -999,9,     -999,9,   3.8670
35A3CITHER3_2 ,A13        ,214     ,  1,14         ,19         ,2,19950321,2240,  -3.6178,   4.1217,     4862,   1795.0,   3.7100,  34.9550,2,  34.9530,2,    237.7,2,    233.8,2,    22.20,2,    20.70,2,     1.37,2,    0.004,2,    0.005,2,   2179.4,2,     -999,9,     -999,9,     -999,9,     -999,9,     -999,9,   3.5660
35A3CITHER3_2 ,A13        ,214     ,  1,15         ,18         ,2,19950321,2240,  -3.6178,   4.1217,     4862,   1993.5,   3.4610,  34.9510,2,  34.9490,2,    241.5,2,    238.0,2,    24.50,2,    20.20,2,     1.32,2,    0.008,2,    0.010,2,   2179.1,2,   2337.0,2,     -999,9,     -999,9,     -999,9,     -999,9,   3.3020
35A3CITHER3_2 ,A13        ,214     ,  1,16         ,17         ,2,19950321,2240,  -3.6178,   4.1217,     4862,   2195.7,   3.2050,  34.9420,2,  34.9410,2,    240.1,2,    237.0,2,    28.80,2,    20.50,2,     1.35,2,    0.004,2,     -999,9,   2183.2,2,     -999,9,     -999,9,     -999,9,     -999,9,     -999,9,   3.0310
35A3CITHER3_2 ,A13        ,214     ,  1,17         ,16         ,2,19950321,2240,  -3.6178,   4.1217,     4862,   2395.8,   3.0070,  34.9300,2,  34.9290,2,    238.8,2,    236.1,2,    32.70,2,    20.90,2,     1.37,2,    0.005,2,     -999,9,   2184.8,2,     -999,9,     -999,9,     -999,9,     -999,9,     -999,9,   2.8170
35A3CITHER3_2 ,A13        ,214     ,  1,18         ,15         ,2,19950321,2240,  -3.6178,   4.1217,     4862,   2596.2,   2.8540,  34.9220,2,  34.9200,2,    238.0,2,    236.2,2,    36.20,2,    21.20,2,     1.40,2,    0.002,2,    0.005,2,   2190.2,2,     -999,9,     -999,9,     -999,9,     -999,9,     -999,9,   2.6470
35A3CITHER3_2 ,A13        ,214     ,  1,19         ,14         ,2,19950321,2240,  -3.6178,   4.1217,     4862,   2797.9,   2.7150,  34.9140,2,  34.9130,2,    237.8,2,    236.1,2,    38.70,2,    20.80,2,     1.39,2,    0.002,2,    0.000,2,   2194.1,2,     -999,9,     -999,9,     -999,9,     -999,9,     -999,9,   2.4910
35A3CITHER3_2 ,A13        ,214     ,  1,20         ,13         ,2,19950321,2240,  -3.6178,   4.1217,     4862,   2996.6,   2.6260,  34.9100,2,  34.9040,2,    236.8,2,    235.8,2,    40.80,2,    21.10,2,     1.40,2,    0.004,2,    0.000,2,   2201.9,2,   2344.5,2,     -999,9,     -999,9,     -999,9,     -999,9,   2.3840
35A3CITHER3_2 ,A13        ,214     ,  1,21         ,12         ,2,19950321,2240,  -3.6178,   4.1217,     4862,   3194.8,   2.5440,  34.9040,2,  34.9030,2,    236.2,2,    235.4,2,    43.00,2,    21.40,2,     1.43,2,    0.002,2,    0.001,2,   2202.3,2,     -999,9,     -999,9,     -999,9,     -999,9,     -999,9,   2.2830
35A3CITHER3_2 ,A13        ,214     ,  1,22         ,11         ,2,19950321,2240,  -3.6178,   4.1217,     4862,   3396.4,   2.4740,  34.9000,2,  34.8960,2,    236.0,2,    235.4,2,    44.90,2,    21.10,2,     1.43,2,    0.002,2,    0.004,2,     -999,9,     -999,9,     -999,9,     -999,9,     -999,9,     -999,9,   2.1930
35A3CITHER3_2 ,A13        ,214     ,  1,23         ,10         ,2,19950321,2240,  -3.6178,   4.1217,     4862,   3396.4,   2.4740,  34.9000,2,  34.8980,2,    236.0,2,    235.4,2,    45.20,2,    21.80,2,     1.43,2,    0.000,2,    0.000,2,   2198.8,2,     -999,9,     -999,9,     -999,9,     -999,9,     -999,9,   2.1930
35A3CITHER3_2 ,A13        ,214     ,  1,24         ,9          ,2,19950321,2240,  -3.6178,   4.1217,     4862,   3596.2,   2.4140,  34.8940,2,  34.8910,2,    234.8,2,    234.1,2,    47.50,2,    21.40,2,     1.43,2,    0.000,2,    0.010,2,   2203.5,2,     -999,9,     -999,9,     -999,9,     -999,9,     -999,9,   2.1130
35A3CITHER3_2 ,A13        ,214     ,  1,25         ,8          ,2,19950321,2240,  -3.6178,   4.1217,     4862,   3796.3,   2.3490,  34.8910,2,  34.8880,2,    231.4,2,    230.7,2,    50.40,2,    21.70,2,     1.45,2,    0.002,2,    0.001,2,   2203.8,2,     -999,9,     -999,9,     -999,9,     -999,9,     -999,9,   2.0280
35A3CITHER3_2 ,A13        ,214     ,  1,26         ,7          ,2,19950321,2240,  -3.6178,   4.1217,     4862,   3996.0,   2.3120,  34.8880,2,  34.8840,2,    228.6,2,    227.9,2,    52.80,2,    22.30,2,     1.47,2,    0.001,2,    0.001,2,   2209.6,2,   2356.1,2,     -999,9,     -999,9,     -999,9,     -999,9,   1.9700
35A3CITHER3_2 ,A13        ,214     ,  1,27         ,6          ,2,19950321,2240,  -3.6178,   4.1217,     4862,   4197.2,   2.3100,  34.8840,2,  34.8830,2,    231.8,2,    231.0,2,    52.40,2,    22.60,2,     1.49,2,    0.002,2,    0.005,2,   2205.4,2,     -999,9,     -999,9,     -999,9,     -999,9,     -999,9,   1.9440
35A3CITHER3_2 ,A13        ,214     ,  1,28         ,5          ,2,19950321,2240,  -3.6178,   4.1217,     4862,   4397.6,   2.3150,  34.8820,2,  34.8820,2,    232.9,2,    232.1,2,    52.80,2,    22.20,2,     1.47,2,    0.006,2,    0.002,2,   2220.8,3,     -999,9,     -999,9,     -999,9,     -999,9,     -999,9,   1.9260
35A3CITHER3_2 ,A13        ,214     ,  1,29         ,4          ,2,19950321,2240,  -3.6178,   4.1217,     4862,   4597.8,   2.3060,  34.8780,2,  34.8780,2,    239.0,2,    239.1,2,    50.70,2,    22.00,2,     1.42,2,    0.002,2,    0.002,2,   2209.5,2,     -999,9,     -999,9,     -999,9,     -999,9,     -999,9,   1.8930
35A3CITHER3_2 ,A13        ,214     ,  1,30         ,3          ,2,19950321,2240,  -3.6178,   4.1217,     4862,   4798.7,   2.3120,  34.8760,2,  34.8760,2,    239.9,2,    239.2,2,    51.10,2,    21.90,2,     1.43,2,    0.005,2,    0.001,2,   2209.3,2,     -999,9,     -999,9,     -999,9,     -999,9,     -999,9,   1.8740
35A3CITHER3_2 ,A13        ,214     ,  1,31         ,2          ,2,19950321,2240,  -3.6178,   4.1217,     4862,   4866.4,   2.3180,  34.8770,2,  34.8730,2,    239.8,2,    239.3,2,    51.30,2,    21.80,2,     1.42,2,    0.004,2,    0.004,2,   2209.8,2,     -999,9,     -999,9,     -999,9,     -999,9,     -999,9,   1.8720
35A3CITHER3_2 ,A13        ,214     ,  1,32         ,1          ,2,19950321,2240,  -3.6178,   4.1217,     4862,   4914.5,   2.3230,  34.8750,2,  34.8770,2,    239.3,2,    239.7,2,    51.30,2,    21.60,2,     1.41,2,    0.007,2,    0.002,2,   2209.6,2,   2361.9,2,     -999,9,     -999,9,     -999,9,     -999,9,   1.8700