BOTTLE,20211216CCHDHYDRO
EXPOCODE,SECT_ID,STNNBR,CASTNO,SAMPNO,BTLNBR,BTLNBR_FLAG_W,DATE,TIME,LATITUDE,LONGITUDE,DEPTH,CTDPRS,CTDTMP,CTDSAL,CTDSAL_FLAG_W,SALNTY,SALNTY_FLAG_W,CTDOXY,CTDOXY_FLAG_W,OXYGEN,OXYGEN_FLAG_W,SILCAT,SILCAT_FLAG_W,NITRAT,NITRAT_FLAG_W,PHSPHT,PHSPHT_FLAG_W,CFC-11,CFC-11_FLAG_W,CFC-12,CFC-12_FLAG_W,TCARBN,TCARBN_FLAG_W,ALKALI,ALKALI_FLAG_W,TRITUM,TRITUM_FLAG_W,HELIUM,HELIUM_FLAG_W,DELHE3,DELHE3_FLAG_W,NEON,NEON_FLAG_W,THETA
,,,,,,,,,,,METERS,DBAR,DEG C,PSS-78,,PSS-78,,UMOL/KG,,UMOL/KG,,UMOL/KG,,UMOL/KG,,UMOL/KG,,PMOL/KG,,PMOL/KG,,UMOL/KG,,UMOL/KG,,TU,,NMOL/KG,,PERCNT,,NMOL/KG,,DEG C
35A3CITHER3_2 ,A13        ,212     ,  1,1          ,32         ,2,19950321,1049,  -4.4997,   4.6832,     4973,      3.9,  29.7980,  34.9800,2,  34.9890,3,    197.3,2,    199.5,2,     2.00,2,     0.00,2,     0.00,2,    1.417,2,    0.775,2,     -999,9,     -999,9,     -999,9,     -999,9,     -999,9,     -999,9,  29.7970
35A3CITHER3_2 ,A13        ,212     ,  1,2          ,31         ,2,19950321,1049,  -4.4997,   4.6832,     4973,     46.4,  23.8910,  35.9720,2,  35.9160,3,    220.7,2,    183.9,3,     2.70,2,     0.00,2,     0.16,2,    1.665,2,    0.859,2,     -999,9,     -999,9,     -999,9,     -999,9,     -999,9,     -999,9,  23.8810
35A3CITHER3_2 ,A13        ,212     ,  1,3          ,30         ,2,19950321,1049,  -4.4997,   4.6832,     4973,    196.4,  14.3850,  35.4640,2,  35.4520,3,     99.1,2,     90.7,3,     8.20,2,    21.90,2,     1.24,2,    1.085,2,    0.517,2,     -999,9,     -999,9,     -999,9,     -999,9,     -999,9,     -999,9,  14.3560
35A3CITHER3_2 ,A13        ,212     ,  1,4          ,29         ,2,19950321,1049,  -4.4997,   4.6832,     4973,    196.8,  14.3390,  35.4490,2,     -999,9,     98.0,2,     95.7,3,     -999,9,     -999,9,     -999,9,    1.219,2,    0.605,2,     -999,9,     -999,9,     -999,9,     -999,9,     -999,9,     -999,9,  14.3100
35A3CITHER3_2 ,A13        ,212     ,  1,5          ,28         ,2,19950321,1049,  -4.4997,   4.6832,     4973,    296.0,  12.0150,  35.1670,2,     -999,9,     65.1,2,     58.5,3,     -999,9,     -999,9,     -999,9,    0.604,2,    0.306,2,     -999,9,     -999,9,     -999,9,     -999,9,     -999,9,     -999,9,  11.9760
35A3CITHER3_2 ,A13        ,212     ,  1,6          ,27         ,2,19950321,1049,  -4.4997,   4.6832,     4973,    365.6,   9.6020,  34.9020,2,  34.8920,3,     31.1,2,     30.7,2,    16.80,2,    36.20,2,     2.17,2,    0.155,2,    0.085,2,     -999,9,     -999,9,     -999,9,     -999,9,     -999,9,     -999,9,   9.5600
35A3CITHER3_2 ,A13        ,212     ,  1,7          ,26         ,2,19950321,1049,  -4.4997,   4.6832,     4973,    595.5,   6.3260,  34.5750,2,  34.5840,3,     90.3,2,     90.5,2,    23.20,2,    37.20,2,     2.33,2,    0.047,2,    0.030,2,     -999,9,     -999,9,     -999,9,     -999,9,     -999,9,     -999,9,   6.2720
35A3CITHER3_2 ,A13        ,212     ,  1,8          ,25         ,2,19950321,1049,  -4.4997,   4.6832,     4973,    795.4,   4.8650,  34.5000,2,     -999,9,    127.2,2,    130.8,2,     -999,9,     -999,9,     -999,9,    0.015,2,    0.007,2,     -999,9,     -999,9,     -999,9,     -999,9,     -999,9,     -999,9,   4.8010
35A3CITHER3_2 ,A13        ,212     ,  1,9          ,24         ,2,19950321,1049,  -4.4997,   4.6832,     4973,    995.0,   4.3370,  34.5770,2,  34.5730,2,    147.6,2,    145.0,2,    32.50,2,    33.70,2,     2.24,2,    0.005,2,     -999,9,     -999,9,     -999,9,     -999,9,     -999,9,     -999,9,     -999,9,   4.2590
35A3CITHER3_2 ,A13        ,212     ,  1,10         ,23         ,2,19950321,1049,  -4.4997,   4.6832,     4973,   1195.1,   4.2950,  34.7440,2,  34.7350,3,    172.1,2,    166.5,3,    29.00,2,    30.20,2,     1.96,2,    0.007,2,    0.015,2,     -999,9,     -999,9,     -999,9,     -999,9,     -999,9,     -999,9,   4.2000
35A3CITHER3_2 ,A13        ,212     ,  1,11         ,22         ,2,19950321,1049,  -4.4997,   4.6832,     4973,   1395.7,   4.1160,  34.8970,2,  34.8980,2,    208.3,2,    204.0,2,    23.30,2,    24.00,2,     1.55,2,    0.016,2,    0.011,2,     -999,9,     -999,9,     -999,9,     -999,9,     -999,9,     -999,9,   4.0040
35A3CITHER3_2 ,A13        ,212     ,  1,13         ,20         ,2,19950321,1049,  -4.4997,   4.6832,     4973,   1595.3,   3.9360,  34.9410,2,  34.9420,2,    226.8,2,    224.7,2,    21.40,2,    20.80,2,     1.37,2,    0.007,2,    0.004,2,     -999,9,     -999,9,     -999,9,     -999,9,     -999,9,     -999,9,   3.8080
35A3CITHER3_2 ,A13        ,212     ,  1,12         ,21         ,2,19950321,1049,  -4.4997,   4.6832,     4973,   1595.7,   3.9420,  34.9410,2,  34.9420,2,    226.9,2,    224.2,2,    21.50,2,    21.50,2,     1.33,3,    0.006,2,    0.005,2,     -999,9,     -999,9,     -999,9,     -999,9,     -999,9,     -999,9,   3.8140
35A3CITHER3_2 ,A13        ,212     ,  1,14         ,19         ,2,19950321,1049,  -4.4997,   4.6832,     4973,   1795.9,   3.7250,  34.9550,2,  34.9570,2,    238.4,2,    235.6,2,    21.50,2,    21.10,2,     1.30,2,    0.005,2,    0.009,2,     -999,9,     -999,9,     -999,9,     -999,9,     -999,9,     -999,9,   3.5810
35A3CITHER3_2 ,A13        ,212     ,  1,15         ,18         ,2,19950321,1049,  -4.4997,   4.6832,     4973,   1994.6,   3.4980,  34.9470,2,  34.9500,2,    240.6,2,    237.5,2,    24.10,2,    21.00,2,     1.30,2,    0.003,2,    0.004,2,     -999,9,     -999,9,     -999,9,     -999,9,     -999,9,     -999,9,   3.3390
35A3CITHER3_2 ,A13        ,212     ,  1,16         ,17         ,2,19950321,1049,  -4.4997,   4.6832,     4973,   2195.4,   3.2470,  34.9400,2,  34.9410,2,    240.9,2,    239.3,2,    27.50,2,    21.30,2,     1.33,2,    0.003,2,    0.005,2,     -999,9,     -999,9,     -999,9,     -999,9,     -999,9,     -999,9,   3.0720
35A3CITHER3_2 ,A13        ,212     ,  1,17         ,16         ,2,19950321,1049,  -4.4997,   4.6832,     4973,   2396.1,   3.0390,  34.9290,2,  34.9300,2,    238.7,2,    237.1,2,    31.50,2,    20.30,3,     1.33,2,    0.006,2,     -999,9,     -999,9,     -999,9,     -999,9,     -999,9,     -999,9,     -999,9,   2.8490
35A3CITHER3_2 ,A13        ,212     ,  1,18         ,15         ,2,19950321,1049,  -4.4997,   4.6832,     4973,   2596.4,   2.8510,  34.9220,2,  34.9200,2,    237.3,2,    235.3,2,    35.70,2,    21.30,2,     1.37,2,    0.001,2,    0.004,2,     -999,9,     -999,9,     -999,9,     -999,9,     -999,9,     -999,9,   2.6440
35A3CITHER3_2 ,A13        ,212     ,  1,19         ,14         ,2,19950321,1049,  -4.4997,   4.6832,     4973,   2794.1,   2.7240,  34.9140,2,  34.9020,3,    236.9,2,    235.4,2,    38.40,2,    21.30,2,     1.39,2,    0.001,2,    0.001,2,     -999,9,     -999,9,     -999,9,     -999,9,     -999,9,     -999,9,   2.5000
35A3CITHER3_2 ,A13        ,212     ,  1,20         ,13         ,2,19950321,1049,  -4.4997,   4.6832,     4973,   2996.3,   2.6340,  34.9090,2,  34.9080,2,    236.0,2,    235.3,2,    40.70,2,    21.50,2,     1.35,3,    0.002,2,    0.000,2,     -999,9,     -999,9,     -999,9,     -999,9,     -999,9,     -999,9,   2.3920
35A3CITHER3_2 ,A13        ,212     ,  1,21         ,12         ,2,19950321,1049,  -4.4997,   4.6832,     4973,   3196.0,   2.5580,  34.9040,2,  34.9040,2,    235.5,2,    234.2,2,    42.80,2,    21.10,2,     1.39,2,    0.000,2,    0.000,2,     -999,9,     -999,9,     -999,9,     -999,9,     -999,9,     -999,9,   2.2970
35A3CITHER3_2 ,A13        ,212     ,  1,22         ,11         ,2,19950321,1049,  -4.4997,   4.6832,     4973,   3396.6,   2.4840,  34.9000,2,  34.8990,2,    236.3,2,    235.4,2,    44.10,2,    21.80,2,     1.37,2,    0.004,2,     -999,9,     -999,9,     -999,9,     -999,9,     -999,9,     -999,9,     -999,9,   2.2030
35A3CITHER3_2 ,A13        ,212     ,  1,23         ,10         ,2,19950321,1049,  -4.4997,   4.6832,     4973,   3596.4,   2.4430,  34.8950,2,  34.8950,2,    236.4,2,    236.0,2,    45.70,2,    20.50,3,     1.35,3,    0.002,2,    0.003,2,     -999,9,     -999,9,     -999,9,     -999,9,     -999,9,     -999,9,   2.1420
35A3CITHER3_2 ,A13        ,212     ,  1,24         ,9          ,2,19950321,1049,  -4.4997,   4.6832,     4973,   3796.3,   2.3900,  34.8920,2,  34.8880,2,    231.7,2,    230.6,2,    49.60,2,    22.30,2,     1.43,2,    0.001,2,    0.000,2,     -999,9,     -999,9,     -999,9,     -999,9,     -999,9,     -999,9,   2.0680
35A3CITHER3_2 ,A13        ,212     ,  1,25         ,8          ,2,19950321,1049,  -4.4997,   4.6832,     4973,   3796.3,   2.3890,  34.8910,2,  34.8900,2,    231.7,2,    230.5,2,    49.70,2,    22.90,2,     1.45,2,    0.001,2,    0.003,2,     -999,9,     -999,9,     -999,9,     -999,9,     -999,9,     -999,9,   2.0670
35A3CITHER3_2 ,A13        ,212     ,  1,26         ,7          ,2,19950321,1049,  -4.4997,   4.6832,     4973,   3996.6,   2.3270,  34.8860,2,  34.8850,2,    229.0,2,    228.6,2,    52.50,2,    22.90,2,     1.45,2,    0.003,2,    0.000,2,     -999,9,     -999,9,     -999,9,     -999,9,     -999,9,     -999,9,   1.9840
35A3CITHER3_2 ,A13        ,212     ,  1,27         ,6          ,2,19950321,1049,  -4.4997,   4.6832,     4973,   4195.7,   2.3130,  34.8830,2,  34.8840,2,    230.0,2,    230.2,2,    52.10,2,    22.80,2,     1.45,2,    0.000,2,    0.000,2,     -999,9,     -999,9,     -999,9,     -999,9,     -999,9,     -999,9,   1.9480
35A3CITHER3_2 ,A13        ,212     ,  1,28         ,5          ,2,19950321,1049,  -4.4997,   4.6832,     4973,   4396.8,   2.3210,  34.8810,2,  34.8810,2,    232.7,2,    233.2,2,    52.20,2,    22.00,2,     1.42,2,     -999,9,     -999,9,     -999,9,     -999,9,     -999,9,     -999,9,     -999,9,     -999,9,   1.9320
35A3CITHER3_2 ,A13        ,212     ,  1,29         ,4          ,2,19950321,1049,  -4.4997,   4.6832,     4973,   4596.6,   2.3300,  34.8780,2,  34.8780,2,    233.7,2,    233.5,2,    52.10,2,    21.20,2,     1.41,2,    0.000,2,     -999,9,     -999,9,     -999,9,     -999,9,     -999,9,     -999,9,     -999,9,   1.9160
35A3CITHER3_2 ,A13        ,212     ,  1,30         ,3          ,2,19950321,1049,  -4.4997,   4.6832,     4973,   4798.1,   2.3380,  34.8770,2,  34.8760,2,    235.4,2,    235.4,2,    51.90,2,    21.50,2,     1.42,2,    0.005,2,   -0.004,2,     -999,9,     -999,9,     -999,9,     -999,9,     -999,9,     -999,9,   1.8990
35A3CITHER3_2 ,A13        ,212     ,  1,31         ,2          ,2,19950321,1049,  -4.4997,   4.6832,     4973,   4995.2,   2.3450,  34.8740,2,  34.8700,2,    237.9,2,    237.2,2,    51.90,2,    21.70,2,     1.42,2,    0.003,2,    0.001,2,     -999,9,     -999,9,     -999,9,     -999,9,     -999,9,     -999,9,   1.8820
35A3CITHER3_2 ,A13        ,212     ,  1,32         ,1          ,2,19950321,1049,  -4.4997,   4.6832,     4973,   5025.5,   2.3490,  34.8750,2,  34.8740,2,    235.8,2,    237.4,2,    52.10,2,    22.90,3,     1.43,2,    0.001,2,    0.002,2,     -999,9,     -999,9,     -999,9,     -999,9,     -999,9,     -999,9,   1.8820