BOTTLE,20211216CCHDHYDRO
EXPOCODE,SECT_ID,STNNBR,CASTNO,SAMPNO,BTLNBR,BTLNBR_FLAG_W,DATE,TIME,LATITUDE,LONGITUDE,DEPTH,CTDPRS,CTDTMP,CTDSAL,CTDSAL_FLAG_W,SALNTY,SALNTY_FLAG_W,CTDOXY,CTDOXY_FLAG_W,OXYGEN,OXYGEN_FLAG_W,SILCAT,SILCAT_FLAG_W,NITRAT,NITRAT_FLAG_W,PHSPHT,PHSPHT_FLAG_W,CFC-11,CFC-11_FLAG_W,CFC-12,CFC-12_FLAG_W,TCARBN,TCARBN_FLAG_W,ALKALI,ALKALI_FLAG_W,TRITUM,TRITUM_FLAG_W,HELIUM,HELIUM_FLAG_W,DELHE3,DELHE3_FLAG_W,NEON,NEON_FLAG_W,THETA
,,,,,,,,,,,METERS,DBAR,DEG C,PSS-78,,PSS-78,,UMOL/KG,,UMOL/KG,,UMOL/KG,,UMOL/KG,,UMOL/KG,,PMOL/KG,,PMOL/KG,,UMOL/KG,,UMOL/KG,,TU,,NMOL/KG,,PERCNT,,NMOL/KG,,DEG C
35A3CITHER3_2 ,A13        ,187     ,  1,1          ,32         ,2,19950315,0358, -16.0015,   4.9993,     5468,      5.7,  25.3740,  36.4560,2,  36.4570,2,    213.2,2,    206.4,3,     4.50,2,     0.00,2,     0.16,2,    1.823,2,    0.959,2,     -999,9,     -999,9,     -999,9,     -999,9,     -999,9,     -999,9,  25.3730
35A3CITHER3_2 ,A13        ,187     ,  1,2          ,31         ,2,19950315,0358, -16.0015,   4.9993,     5468,     46.6,  20.8600,  35.9440,2,  35.9330,3,    252.3,2,    238.3,3,     4.10,2,     0.50,2,     0.23,2,    2.276,2,    1.160,2,     -999,9,     -999,9,     -999,9,     -999,9,     -999,9,     -999,9,  20.8510
35A3CITHER3_2 ,A13        ,187     ,  1,3          ,30         ,2,19950315,0358, -16.0015,   4.9993,     5468,    120.3,  13.8170,  35.3060,2,  35.3100,3,     88.2,2,     80.3,3,     9.40,2,    23.50,2,     1.49,2,    1.804,2,    0.880,2,     -999,9,     -999,9,     -999,9,     -999,9,     -999,9,     -999,9,  13.8000
35A3CITHER3_2 ,A13        ,187     ,  1,4          ,29         ,2,19950315,0358, -16.0015,   4.9993,     5468,    195.9,  11.8940,  35.1020,2,  35.1080,3,     54.8,2,     57.8,2,    12.60,2,    29.00,2,     1.79,2,    1.031,2,    0.507,2,     -999,9,     -999,9,     -999,9,     -999,9,     -999,9,     -999,9,  11.8690
35A3CITHER3_2 ,A13        ,187     ,  1,5          ,28         ,2,19950315,0358, -16.0015,   4.9993,     5468,    396.5,   8.5480,  34.7690,2,  34.7650,2,     37.3,2,     38.2,2,    19.90,2,    37.80,2,     2.42,2,    0.143,2,    0.078,2,     -999,9,     -999,9,     -999,9,     -999,9,     -999,9,     -999,9,   8.5060
35A3CITHER3_2 ,A13        ,187     ,  1,6          ,27         ,2,19950315,0358, -16.0015,   4.9993,     5468,    594.2,   5.9840,  34.5400,2,  34.5390,2,     92.3,2,     89.5,2,    26.80,2,    38.10,2,     2.39,2,    0.032,2,    0.019,2,     -999,9,     -999,9,     -999,9,     -999,9,     -999,9,     -999,9,   5.9320
35A3CITHER3_2 ,A13        ,187     ,  1,7          ,26         ,2,19950315,0358, -16.0015,   4.9993,     5468,    794.6,   4.5790,  34.4810,2,  34.4810,2,    132.6,2,    127.8,3,    34.30,2,    36.50,2,     2.36,2,    0.007,2,    0.010,2,     -999,9,     -999,9,     -999,9,     -999,9,     -999,9,     -999,9,   4.5170
35A3CITHER3_2 ,A13        ,187     ,  1,8          ,25         ,2,19950315,0358, -16.0015,   4.9993,     5468,    994.5,   3.9480,  34.5450,2,  34.5460,2,    153.8,2,    152.1,2,    38.80,2,    34.10,2,     2.24,2,    0.001,2,    0.000,2,     -999,9,     -999,9,     -999,9,     -999,9,     -999,9,     -999,9,   3.8730
35A3CITHER3_2 ,A13        ,187     ,  1,9          ,24         ,2,19950315,0358, -16.0015,   4.9993,     5468,   1195.4,   3.7340,  34.6840,2,  34.6850,2,    169.0,2,    169.3,2,    38.00,2,    30.60,2,     2.02,2,    0.001,2,   -0.003,2,     -999,9,     -999,9,     -999,9,     -999,9,     -999,9,     -999,9,   3.6440
35A3CITHER3_2 ,A13        ,187     ,  1,10         ,23         ,2,19950315,0358, -16.0015,   4.9993,     5468,   1394.4,   3.6740,  34.8010,2,  34.8010,2,    189.0,2,    187.9,2,    34.50,2,    27.50,2,     1.78,2,    0.000,2,    0.000,2,     -999,9,     -999,9,     -999,9,     -999,9,     -999,9,     -999,9,   3.5670
35A3CITHER3_2 ,A13        ,187     ,  1,11         ,22         ,2,19950315,0358, -16.0015,   4.9993,     5468,   1594.0,   3.6050,  34.8730,2,  34.8750,2,    207.1,2,    206.0,2,    31.20,2,    25.00,2,     1.56,2,    0.001,2,    0.003,2,     -999,9,     -999,9,     -999,9,     -999,9,     -999,9,     -999,9,   3.4810
35A3CITHER3_2 ,A13        ,187     ,  1,12         ,21         ,2,19950315,0358, -16.0015,   4.9993,     5468,   1796.0,   3.4810,  34.9050,2,  34.9080,2,    216.3,2,    214.5,2,    31.20,2,    23.50,2,     1.48,2,    0.007,2,     -999,9,     -999,9,     -999,9,     -999,9,     -999,9,     -999,9,     -999,9,   3.3400
35A3CITHER3_2 ,A13        ,187     ,  1,13         ,20         ,2,19950315,0358, -16.0015,   4.9993,     5468,   1995.4,   3.3120,  34.9170,2,  34.9170,2,    223.1,2,    221.3,2,    32.40,2,    22.40,2,     1.43,2,    0.000,2,    0.007,2,     -999,9,     -999,9,     -999,9,     -999,9,     -999,9,     -999,9,   3.1550
35A3CITHER3_2 ,A13        ,187     ,  1,14         ,19         ,2,19950315,0358, -16.0015,   4.9993,     5468,   2194.6,   3.1610,  34.9200,2,  34.9190,2,    226.7,2,    224.8,2,    34.60,2,    22.80,2,     1.46,2,    0.001,2,    0.003,2,     -999,9,     -999,9,     -999,9,     -999,9,     -999,9,     -999,9,   2.9880
35A3CITHER3_2 ,A13        ,187     ,  1,15         ,18         ,2,19950315,0358, -16.0015,   4.9993,     5468,   2395.6,   2.9870,  34.9150,2,  34.9150,2,    230.9,2,    229.6,2,    37.00,2,    22.40,2,     1.43,2,    0.000,2,    0.000,2,     -999,9,     -999,9,     -999,9,     -999,9,     -999,9,     -999,9,   2.7980
35A3CITHER3_2 ,A13        ,187     ,  1,16         ,17         ,2,19950315,0358, -16.0015,   4.9993,     5468,   2595.8,   2.8290,  34.9080,2,  34.9100,2,    230.5,2,    229.9,2,    41.00,2,    22.80,2,     1.49,2,    0.003,2,    0.003,2,     -999,9,     -999,9,     -999,9,     -999,9,     -999,9,     -999,9,   2.6230
35A3CITHER3_2 ,A13        ,187     ,  1,17         ,16         ,2,19950315,0358, -16.0015,   4.9993,     5468,   2795.9,   2.6910,  34.9050,2,  34.9040,2,    230.6,2,    230.2,2,    44.00,2,    22.80,2,     1.47,2,    0.004,2,    0.004,2,     -999,9,     -999,9,     -999,9,     -999,9,     -999,9,     -999,9,   2.4680
35A3CITHER3_2 ,A13        ,187     ,  1,18         ,15         ,2,19950315,0358, -16.0015,   4.9993,     5468,   2996.9,   2.5860,  34.8980,2,  34.8990,2,    229.3,2,    229.2,2,    47.50,2,    22.80,2,     1.48,2,    0.001,2,    0.000,2,     -999,9,     -999,9,     -999,9,     -999,9,     -999,9,     -999,9,   2.3450
35A3CITHER3_2 ,A13        ,187     ,  1,19         ,14         ,2,19950315,0358, -16.0015,   4.9993,     5468,   3197.4,   2.4850,  34.8920,2,  34.8930,2,    230.2,2,    230.5,2,    50.10,2,    23.10,2,     1.49,2,    0.003,2,   -0.003,2,     -999,9,     -999,9,     -999,9,     -999,9,     -999,9,     -999,9,   2.2250
35A3CITHER3_2 ,A13        ,187     ,  1,20         ,13         ,2,19950315,0358, -16.0015,   4.9993,     5468,   3393.9,   2.4230,  34.8910,2,  34.8900,2,    228.4,2,    228.7,2,    51.90,2,    22.90,2,     1.52,2,    0.002,2,    0.003,2,     -999,9,     -999,9,     -999,9,     -999,9,     -999,9,     -999,9,   2.1440
35A3CITHER3_2 ,A13        ,187     ,  1,21         ,12         ,2,19950315,0358, -16.0015,   4.9993,     5468,   3595.3,   2.3880,  34.8910,2,  34.8900,2,    229.3,2,    230.5,2,    52.20,2,    22.90,2,     1.47,2,    0.001,2,    0.000,2,     -999,9,     -999,9,     -999,9,     -999,9,     -999,9,     -999,9,   2.0880
35A3CITHER3_2 ,A13        ,187     ,  1,22         ,11         ,2,19950315,0358, -16.0015,   4.9993,     5468,   3797.7,   2.3650,  34.8900,2,  34.8890,2,    230.8,2,    231.1,2,    51.90,2,    22.30,2,     1.47,2,    0.002,2,    0.003,2,     -999,9,     -999,9,     -999,9,     -999,9,     -999,9,     -999,9,   2.0430
35A3CITHER3_2 ,A13        ,187     ,  1,23         ,10         ,2,19950315,0358, -16.0015,   4.9993,     5468,   3995.9,   2.3570,  34.8890,2,  34.8880,2,    231.9,2,    232.0,2,    53.30,2,    22.50,2,     1.50,2,    0.001,2,    0.001,2,     -999,9,     -999,9,     -999,9,     -999,9,     -999,9,     -999,9,   2.0130
35A3CITHER3_2 ,A13        ,187     ,  1,24         ,9          ,2,19950315,0358, -16.0015,   4.9993,     5468,   4196.9,   2.3620,  34.8880,2,  34.8880,2,    231.7,2,    232.1,2,    54.10,2,    22.60,2,     1.47,2,    0.003,2,    0.005,2,     -999,9,     -999,9,     -999,9,     -999,9,     -999,9,     -999,9,   1.9950
35A3CITHER3_2 ,A13        ,187     ,  1,25         ,8          ,2,19950315,0358, -16.0015,   4.9993,     5468,   4396.6,   2.3700,  34.8860,2,  34.8860,2,    232.4,2,    232.6,2,    55.60,2,    22.20,3,     1.48,2,    0.003,2,   -0.002,2,     -999,9,     -999,9,     -999,9,     -999,9,     -999,9,     -999,9,   1.9790
35A3CITHER3_2 ,A13        ,187     ,  1,26         ,7          ,2,19950315,0358, -16.0015,   4.9993,     5468,   4596.4,   2.3800,  34.8840,2,  34.8860,2,    233.3,2,    233.4,2,    55.20,2,    22.00,3,     1.45,2,    0.001,2,    0.003,2,     -999,9,     -999,9,     -999,9,     -999,9,     -999,9,     -999,9,   1.9650
35A3CITHER3_2 ,A13        ,187     ,  1,27         ,6          ,2,19950315,0358, -16.0015,   4.9993,     5468,   4800.1,   2.3910,  34.8840,2,  34.8840,2,    234.1,2,    234.2,2,    53.80,2,    22.30,2,     1.48,2,    0.001,2,    0.000,2,     -999,9,     -999,9,     -999,9,     -999,9,     -999,9,     -999,9,   1.9500
35A3CITHER3_2 ,A13        ,187     ,  1,28         ,5          ,2,19950315,0358, -16.0015,   4.9993,     5468,   4998.2,   2.4060,  34.8810,2,  34.8820,2,    234.3,2,    234.2,2,    54.20,2,    22.30,2,     1.49,2,    0.000,2,    0.006,2,     -999,9,     -999,9,     -999,9,     -999,9,     -999,9,     -999,9,   1.9400
35A3CITHER3_2 ,A13        ,187     ,  1,29         ,4          ,2,19950315,0358, -16.0015,   4.9993,     5468,   5197.8,   2.4260,  34.8810,2,  34.8820,2,    234.5,2,    234.4,2,    54.50,2,    22.40,2,     1.43,2,    0.013,2,    0.015,2,     -999,9,     -999,9,     -999,9,     -999,9,     -999,9,     -999,9,   1.9340
35A3CITHER3_2 ,A13        ,187     ,  1,30         ,3          ,2,19950315,0358, -16.0015,   4.9993,     5468,   5398.7,   2.4490,  34.8800,2,  34.8830,2,    234.8,2,    234.5,2,    54.20,2,    22.30,2,     1.49,2,    0.000,2,     -999,9,     -999,9,     -999,9,     -999,9,     -999,9,     -999,9,     -999,9,   1.9300
35A3CITHER3_2 ,A13        ,187     ,  1,31         ,2          ,2,19950315,0358, -16.0015,   4.9993,     5468,   5498.8,   2.4610,  34.8800,2,  34.8820,2,    234.8,2,    234.5,2,    54.30,2,    22.00,3,     1.47,2,     -999,9,     -999,9,     -999,9,     -999,9,     -999,9,     -999,9,     -999,9,     -999,9,   1.9280
35A3CITHER3_2 ,A13        ,187     ,  1,32         ,1          ,2,19950315,0358, -16.0015,   4.9993,     5468,   5544.8,   2.4680,  34.8800,2,  34.8830,2,    233.7,2,    235.4,2,    54.10,2,    22.20,3,     1.46,2,    0.006,2,    0.029,2,     -999,9,     -999,9,     -999,9,     -999,9,     -999,9,     -999,9,   1.9290