BOTTLE,20211216CCHDHYDRO
EXPOCODE,SECT_ID,STNNBR,CASTNO,SAMPNO,BTLNBR,BTLNBR_FLAG_W,DATE,TIME,LATITUDE,LONGITUDE,DEPTH,CTDPRS,CTDTMP,CTDSAL,CTDSAL_FLAG_W,SALNTY,SALNTY_FLAG_W,CTDOXY,CTDOXY_FLAG_W,OXYGEN,OXYGEN_FLAG_W,SILCAT,SILCAT_FLAG_W,NITRAT,NITRAT_FLAG_W,PHSPHT,PHSPHT_FLAG_W,CFC-11,CFC-11_FLAG_W,CFC-12,CFC-12_FLAG_W,TCARBN,TCARBN_FLAG_W,ALKALI,ALKALI_FLAG_W,TRITUM,TRITUM_FLAG_W,HELIUM,HELIUM_FLAG_W,DELHE3,DELHE3_FLAG_W,NEON,NEON_FLAG_W,THETA
,,,,,,,,,,,METERS,DBAR,DEG C,PSS-78,,PSS-78,,UMOL/KG,,UMOL/KG,,UMOL/KG,,UMOL/KG,,UMOL/KG,,PMOL/KG,,PMOL/KG,,UMOL/KG,,UMOL/KG,,TU,,NMOL/KG,,PERCNT,,NMOL/KG,,DEG C
35A3CITHER3_2 ,A13        ,130     ,  1,1          ,32         ,2,19950227,0837, -39.5038,  10.0007,     4827,      7.7,  16.0290,  34.9520,2,  34.9530,2,    252.5,2,    254.0,2,     1.50,2,     0.00,2,     0.20,2,    2.894,2,    1.424,2,   2028.8,2,   2306.1,2,     -999,9,     -999,9,     -999,9,     -999,9,  16.0280
35A3CITHER3_2 ,A13        ,130     ,  1,2          ,31         ,2,19950227,0837, -39.5038,  10.0007,     4827,     47.2,  15.6520,  35.0700,2,  35.0680,2,    260.0,2,    248.5,3,     1.80,2,     0.00,2,     0.20,2,    2.860,2,    1.403,2,   2042.3,2,   2311.4,2,     -999,9,     -999,9,     -999,9,     -999,9,  15.6450
35A3CITHER3_2 ,A13        ,130     ,  1,3          ,30         ,2,19950227,0837, -39.5038,  10.0007,     4827,    120.1,  13.4310,  35.0530,2,  35.0540,2,    238.6,2,    234.9,2,     2.90,2,     6.00,2,     0.47,2,    3.071,2,    1.495,2,   2077.8,2,     -999,9,     -999,9,     -999,9,     -999,9,     -999,9,  13.4140
35A3CITHER3_2 ,A13        ,130     ,  1,5          ,28         ,2,19950227,0837, -39.5038,  10.0007,     4827,    196.2,  11.5770,  34.8640,2,  34.8410,3,    234.6,2,    243.5,3,     3.60,2,    10.10,2,     0.72,2,    3.256,2,    1.567,2,   2090.8,2,     -999,9,     -999,9,     -999,9,     -999,9,     -999,9,  11.5520
35A3CITHER3_2 ,A13        ,130     ,  1,4          ,29         ,2,19950227,0837, -39.5038,  10.0007,     4827,    196.5,  11.5220,  34.8350,2,  34.8430,3,    234.7,2,    237.5,2,     3.60,2,    10.20,2,     0.70,2,    3.233,2,    1.537,2,     -999,9,   2298.8,2,     -999,9,     -999,9,     -999,9,     -999,9,  11.4970
35A3CITHER3_2 ,A13        ,130     ,  1,6          ,27         ,2,19950227,0837, -39.5038,  10.0007,     4827,    297.1,  10.6520,  34.8630,2,  34.8630,2,    245.4,2,    242.1,2,     5.00,2,    12.30,2,     0.84,2,    3.129,2,    1.484,2,   2100.6,2,   2299.8,2,     -999,9,     -999,9,     -999,9,     -999,9,  10.6160
35A3CITHER3_2 ,A13        ,130     ,  1,7          ,26         ,2,19950227,0837, -39.5038,  10.0007,     4827,    395.7,   8.6910,  34.5990,2,  34.6050,3,    231.2,2,    227.3,3,     7.60,2,    18.40,2,     1.18,3,    2.895,2,    1.348,2,   2124.4,2,     -999,9,     -999,9,     -999,9,     -999,9,     -999,9,   8.6490
35A3CITHER3_2 ,A13        ,130     ,  1,8          ,25         ,2,19950227,0837, -39.5038,  10.0007,     4827,    593.9,   6.0990,  34.3790,2,  34.3890,3,    219.9,2,    221.3,2,    15.00,2,    25.70,2,     1.63,2,    2.416,2,    1.092,2,   2153.6,2,   2288.8,2,     -999,9,     -999,9,     -999,9,     -999,9,   6.0460
35A3CITHER3_2 ,A13        ,130     ,  1,9          ,24         ,2,19950227,0837, -39.5038,  10.0007,     4827,    795.3,   4.4420,  34.2800,2,  34.2800,2,    231.9,2,    233.6,2,    21.40,2,    28.90,2,     1.84,2,    2.168,2,    0.964,2,   2166.3,2,     -999,9,     -999,9,     -999,9,     -999,9,     -999,9,   4.3810
35A3CITHER3_2 ,A13        ,130     ,  1,10         ,23         ,2,19950227,0837, -39.5038,  10.0007,     4827,    894.5,   3.8260,  34.2700,2,  34.2750,3,    233.6,2,    233.8,2,    26.60,2,    30.10,2,     1.93,2,    2.116,2,    0.945,2,   2175.0,2,     -999,9,     -999,9,     -999,9,     -999,9,     -999,9,   3.7610
35A3CITHER3_2 ,A13        ,130     ,  1,11         ,22         ,2,19950227,0837, -39.5038,  10.0007,     4827,    994.5,   3.8610,  34.3600,2,  34.3600,2,    213.0,2,    208.2,3,    35.90,2,    31.10,2,     2.02,2,    1.130,2,    0.516,2,   2197.5,2,   2294.7,2,     -999,9,     -999,9,     -999,9,     -999,9,   3.7870
35A3CITHER3_2 ,A13        ,130     ,  1,12         ,21         ,2,19950227,0837, -39.5038,  10.0007,     4827,   1195.6,   2.8310,  34.3650,2,  34.3570,3,    204.4,2,    207.5,3,    45.90,2,    33.70,3,     2.13,2,    1.086,2,    0.487,2,   2212.9,2,     -999,9,     -999,9,     -999,9,     -999,9,     -999,9,   2.7500
35A3CITHER3_2 ,A13        ,130     ,  1,13         ,20         ,2,19950227,0837, -39.5038,  10.0007,     4827,   1394.8,   2.8480,  34.5140,2,  34.5140,2,    181.5,2,    181.0,2,    58.90,2,    34.20,2,     2.18,2,    0.324,2,    0.177,2,   2231.3,2,     -999,9,     -999,9,     -999,9,     -999,9,     -999,9,   2.7510
35A3CITHER3_2 ,A13        ,130     ,  1,14         ,19         ,2,19950227,0837, -39.5038,  10.0007,     4827,   1595.6,   2.7770,  34.6230,2,  34.6220,2,    179.1,2,    179.4,2,    64.00,2,    32.80,2,     2.11,2,     -999,9,     -999,9,   2237.0,2,     -999,9,     -999,9,     -999,9,     -999,9,     -999,9,   2.6640
35A3CITHER3_2 ,A13        ,130     ,  1,15         ,18         ,2,19950227,0837, -39.5038,  10.0007,     4827,   1794.3,   2.7440,  34.7090,2,  34.7090,2,    187.3,2,    188.5,2,    61.40,2,    30.30,2,     1.96,2,    0.034,2,    0.021,2,   2228.8,2,     -999,9,     -999,9,     -999,9,     -999,9,     -999,9,   2.6140
35A3CITHER3_2 ,A13        ,130     ,  1,16         ,17         ,2,19950227,0837, -39.5038,  10.0007,     4827,   1995.5,   2.7050,  34.7640,2,  34.7680,2,    198.4,2,    199.5,2,    57.80,2,    28.90,2,     1.84,2,    0.017,2,    0.011,2,   2219.8,2,   2334.5,2,     -999,9,     -999,9,     -999,9,     -999,9,   2.5580
35A3CITHER3_2 ,A13        ,130     ,  1,17         ,16         ,2,19950227,0837, -39.5038,  10.0007,     4827,   2195.7,   2.6450,  34.8080,2,  34.8090,2,    208.8,2,    211.5,2,    55.20,2,    27.40,2,     1.74,2,    0.014,2,    0.016,2,   2212.0,2,     -999,9,     -999,9,     -999,9,     -999,9,     -999,9,   2.4810
35A3CITHER3_2 ,A13        ,130     ,  1,18         ,15         ,2,19950227,0837, -39.5038,  10.0007,     4827,   2395.7,   2.5710,  34.8260,2,  34.8270,2,    215.3,2,    217.1,2,    54.00,2,    26.20,2,     1.67,2,    0.008,2,    0.007,2,   2209.4,2,     -999,9,     -999,9,     -999,9,     -999,9,     -999,9,   2.3890
35A3CITHER3_2 ,A13        ,130     ,  1,19         ,14         ,2,19950227,0837, -39.5038,  10.0007,     4827,   2595.5,   2.4850,  34.8360,2,  34.8360,2,    220.5,2,    221.5,2,    54.70,2,    26.20,2,     1.64,2,    0.003,2,    0.007,2,   2207.8,2,     -999,9,     -999,9,     -999,9,     -999,9,     -999,9,   2.2860
35A3CITHER3_2 ,A13        ,130     ,  1,20         ,13         ,2,19950227,0837, -39.5038,  10.0007,     4827,   2796.9,   2.4120,  34.8420,2,  34.8410,2,    224.0,2,    224.2,2,    55.70,2,    25.90,2,     1.63,2,    0.004,2,     -999,9,   2209.7,2,     -999,9,     -999,9,     -999,9,     -999,9,     -999,9,   2.1950
35A3CITHER3_2 ,A13        ,130     ,  1,21         ,12         ,2,19950227,0837, -39.5038,  10.0007,     4827,   2996.9,   2.3490,  34.8430,2,  34.8440,2,    225.9,2,    225.8,2,    57.00,2,    26.20,2,     1.63,2,    0.004,2,    0.006,2,   2208.2,2,   2346.0,2,     -999,9,     -999,9,     -999,9,     -999,9,   2.1130
35A3CITHER3_2 ,A13        ,130     ,  1,22         ,11         ,2,19950227,0837, -39.5038,  10.0007,     4827,   3196.6,   2.2630,  34.8440,2,  34.8430,2,    227.2,2,    226.9,2,    59.10,2,    25.80,2,     1.60,2,    0.002,2,    0.008,2,   2209.1,2,     -999,9,     -999,9,     -999,9,     -999,9,     -999,9,   2.0090
35A3CITHER3_2 ,A13        ,130     ,  1,23         ,10         ,2,19950227,0837, -39.5038,  10.0007,     4827,   3396.6,   2.1190,  34.8330,2,  34.8330,2,    226.2,2,    225.9,2,    64.60,2,    25.70,2,     1.64,2,    0.005,2,    0.004,2,   2214.5,2,     -999,9,     -999,9,     -999,9,     -999,9,     -999,9,   1.8470
35A3CITHER3_2 ,A13        ,130     ,  1,24         ,9          ,2,19950227,0837, -39.5038,  10.0007,     4827,   3596.3,   1.9080,  34.8130,2,  34.8130,2,    223.9,2,    223.4,2,    74.50,2,    26.60,2,     1.72,2,    0.010,2,    0.012,2,   2225.9,2,     -999,9,     -999,9,     -999,9,     -999,9,     -999,9,   1.6210
35A3CITHER3_2 ,A13        ,130     ,  1,25         ,8          ,2,19950227,0837, -39.5038,  10.0007,     4827,   3796.8,   1.6690,  34.7920,2,  34.7910,2,    221.4,2,    220.9,2,    83.80,2,    28.10,2,     1.79,2,    0.011,2,     -999,9,   2230.4,2,     -999,9,     -999,9,     -999,9,     -999,9,     -999,9,   1.3670
35A3CITHER3_2 ,A13        ,130     ,  1,26         ,7          ,2,19950227,0837, -39.5038,  10.0007,     4827,   3996.9,   1.4260,  34.7720,2,  34.7710,2,    219.5,2,    219.6,2,    92.60,2,    29.30,2,     1.86,2,    0.012,2,    0.015,2,   2239.7,2,   2360.3,2,     -999,9,     -999,9,     -999,9,     -999,9,   1.1090
35A3CITHER3_2 ,A13        ,130     ,  1,27         ,6          ,2,19950227,0837, -39.5038,  10.0007,     4827,   4197.0,   1.2160,  34.7520,2,  34.7520,2,    218.5,2,    218.8,2,   101.00,2,    29.30,2,     1.91,2,    0.014,2,    0.006,2,     -999,9,     -999,9,     -999,9,     -999,9,     -999,9,     -999,9,   0.8830
35A3CITHER3_2 ,A13        ,130     ,  1,28         ,5          ,2,19950227,0837, -39.5038,  10.0007,     4827,   4197.2,   1.2160,  34.7520,2,  34.7510,2,    218.5,2,    218.8,2,   101.30,2,    29.60,2,     1.91,2,    0.017,2,    0.005,2,   2246.0,2,     -999,9,     -999,9,     -999,9,     -999,9,     -999,9,   0.8830
35A3CITHER3_2 ,A13        ,130     ,  1,29         ,4          ,2,19950227,0837, -39.5038,  10.0007,     4827,   4398.4,   1.1100,  34.7390,2,  34.7410,2,    217.7,2,    219.1,2,   105.00,2,    29.80,2,     1.96,2,    0.019,2,    0.013,2,   2251.4,2,     -999,9,     -999,9,     -999,9,     -999,9,     -999,9,   0.7580
35A3CITHER3_2 ,A13        ,130     ,  1,30         ,3          ,2,19950227,0837, -39.5038,  10.0007,     4827,   4597.9,   1.0710,  34.7350,2,  34.7340,2,    217.9,2,    217.9,2,   107.80,2,    30.90,2,     1.96,2,    0.020,2,    0.015,2,   2249.9,2,     -999,9,     -999,9,     -999,9,     -999,9,     -999,9,   0.6980
35A3CITHER3_2 ,A13        ,130     ,  1,31         ,2          ,2,19950227,0837, -39.5038,  10.0007,     4827,   4795.3,   1.0240,  34.7300,2,  34.7300,2,    218.3,2,    219.1,2,   110.00,2,    29.50,3,     1.95,2,    0.029,2,    0.021,2,   2252.2,2,     -999,9,     -999,9,     -999,9,     -999,9,     -999,9,   0.6300
35A3CITHER3_2 ,A13        ,130     ,  1,32         ,1          ,2,19950227,0837, -39.5038,  10.0007,     4827,   4891.4,   0.9090,  34.7190,2,  34.7220,2,    218.6,2,    218.2,2,   113.40,2,    31.60,2,     2.06,2,    0.042,2,    0.023,2,   2254.5,2,   2371.3,2,     -999,9,     -999,9,     -999,9,     -999,9,   0.5070