BOTTLE,20211216CCHDHYDRO
EXPOCODE,SECT_ID,STNNBR,CASTNO,SAMPNO,BTLNBR,BTLNBR_FLAG_W,DATE,TIME,LATITUDE,LONGITUDE,DEPTH,CTDPRS,CTDTMP,CTDSAL,CTDSAL_FLAG_W,SALNTY,SALNTY_FLAG_W,CTDOXY,CTDOXY_FLAG_W,OXYGEN,OXYGEN_FLAG_W,SILCAT,SILCAT_FLAG_W,NITRAT,NITRAT_FLAG_W,PHSPHT,PHSPHT_FLAG_W,CFC-11,CFC-11_FLAG_W,CFC-12,CFC-12_FLAG_W,TCARBN,TCARBN_FLAG_W,ALKALI,ALKALI_FLAG_W,TRITUM,TRITUM_FLAG_W,HELIUM,HELIUM_FLAG_W,DELHE3,DELHE3_FLAG_W,NEON,NEON_FLAG_W,THETA
,,,,,,,,,,,METERS,DBAR,DEG C,PSS-78,,PSS-78,,UMOL/KG,,UMOL/KG,,UMOL/KG,,UMOL/KG,,UMOL/KG,,PMOL/KG,,PMOL/KG,,UMOL/KG,,UMOL/KG,,TU,,NMOL/KG,,PERCNT,,NMOL/KG,,DEG C
35A3CITHER3_2 ,A13        ,224     ,  1,1          ,32         ,2,19950324,0313,  -0.2053,   1.9753,     4605,      4.1,  29.3990,  34.0720,2,  34.0770,3,    194.3,2,    195.9,2,     3.60,2,     0.00,2,     0.01,2,    1.562,2,    0.837,2,     -999,9,     -999,9,     -999,9,     -999,9,     -999,9,     -999,9,  29.3980
35A3CITHER3_2 ,A13        ,224     ,  1,2          ,31         ,2,19950324,0313,  -0.2053,   1.9753,     4605,     46.6,  24.8480,  36.2590,2,  36.2550,3,    186.5,2,    195.1,3,     3.40,2,     0.00,2,     0.14,2,    1.712,2,    0.866,2,     -999,9,     -999,9,     -999,9,     -999,9,     -999,9,     -999,9,  24.8380
35A3CITHER3_2 ,A13        ,224     ,  1,3          ,30         ,2,19950324,0313,  -0.2053,   1.9753,     4605,    120.9,  16.0050,  35.6630,2,  35.6580,3,    145.1,2,    151.9,3,     6.60,2,    12.90,2,     0.84,2,    1.658,2,    0.799,2,     -999,9,     -999,9,     -999,9,     -999,9,     -999,9,     -999,9,  15.9860
35A3CITHER3_2 ,A13        ,224     ,  1,4          ,29         ,2,19950324,0313,  -0.2053,   1.9753,     4605,    121.0,  16.0000,  35.6640,2,  35.6530,3,    145.1,2,    151.2,3,     6.60,2,    12.90,2,     0.88,2,    1.631,2,    0.790,2,     -999,9,     -999,9,     -999,9,     -999,9,     -999,9,     -999,9,  15.9810
35A3CITHER3_2 ,A13        ,224     ,  1,5          ,28         ,2,19950324,0313,  -0.2053,   1.9753,     4605,    196.5,  13.7100,  35.3740,2,  35.3670,3,    103.3,2,    101.7,2,     9.80,2,    21.20,2,     1.34,2,    1.084,2,    0.526,2,     -999,9,     -999,9,     -999,9,     -999,9,     -999,9,     -999,9,  13.6820
35A3CITHER3_2 ,A13        ,224     ,  1,6          ,27         ,2,19950324,0313,  -0.2053,   1.9753,     4605,    296.0,  10.7850,  35.0290,2,  35.0130,3,     62.8,2,     64.1,2,    14.30,2,    30.50,2,     1.82,2,    0.441,2,    0.221,2,     -999,9,     -999,9,     -999,9,     -999,9,     -999,9,     -999,9,  10.7490
35A3CITHER3_2 ,A13        ,224     ,  1,7          ,26         ,2,19950324,0313,  -0.2053,   1.9753,     4605,    395.9,   8.8550,  34.8160,2,  34.8130,2,     75.8,2,     77.2,2,    17.20,2,    32.80,2,     2.00,2,    0.259,2,    0.132,2,     -999,9,     -999,9,     -999,9,     -999,9,     -999,9,     -999,9,   8.8120
35A3CITHER3_2 ,A13        ,224     ,  1,8          ,25         ,2,19950324,0313,  -0.2053,   1.9753,     4605,    594.8,   6.0760,  34.5470,2,  34.5420,2,    131.3,2,    133.6,2,    23.90,2,    32.80,2,     2.12,2,    0.152,2,    0.074,2,     -999,9,     -999,9,     -999,9,     -999,9,     -999,9,     -999,9,   6.0230
35A3CITHER3_2 ,A13        ,224     ,  1,9          ,24         ,2,19950324,0313,  -0.2053,   1.9753,     4605,    795.1,   4.9360,  34.5090,2,  34.5090,2,    136.7,2,    140.7,3,    29.90,2,    34.00,2,     2.20,2,    0.024,2,    0.009,2,     -999,9,     -999,9,     -999,9,     -999,9,     -999,9,     -999,9,   4.8710
35A3CITHER3_2 ,A13        ,224     ,  1,10         ,23         ,2,19950324,0313,  -0.2053,   1.9753,     4605,    994.5,   4.4510,  34.6430,2,  34.6390,2,    155.3,2,    157.6,2,    30.70,2,    31.50,2,     2.07,2,    0.014,2,    0.006,2,     -999,9,     -999,9,     -999,9,     -999,9,     -999,9,     -999,9,   4.3720
35A3CITHER3_2 ,A13        ,224     ,  1,11         ,22         ,2,19950324,0313,  -0.2053,   1.9753,     4605,   1195.0,   4.4320,  34.8140,2,  34.8150,2,    176.1,2,    180.5,3,    26.40,2,    27.00,2,     1.76,2,    0.013,2,    0.003,2,     -999,9,     -999,9,     -999,9,     -999,9,     -999,9,     -999,9,   4.3350
35A3CITHER3_2 ,A13        ,224     ,  1,12         ,21         ,2,19950324,0313,  -0.2053,   1.9753,     4605,   1395.3,   4.3290,  34.9400,2,  34.9420,2,    216.9,2,    216.4,2,    20.10,2,    22.00,2,     1.42,2,    0.034,2,    0.018,2,     -999,9,     -999,9,     -999,9,     -999,9,     -999,9,     -999,9,   4.2150
35A3CITHER3_2 ,A13        ,224     ,  1,13         ,20         ,2,19950324,0313,  -0.2053,   1.9753,     4605,   1594.9,   4.2000,  34.9620,2,  34.9620,2,    228.4,2,    227.4,2,    19.10,2,    21.00,2,     1.35,2,    0.035,2,    0.020,2,     -999,9,     -999,9,     -999,9,     -999,9,     -999,9,     -999,9,   4.0690
35A3CITHER3_2 ,A13        ,224     ,  1,14         ,19         ,2,19950324,0313,  -0.2053,   1.9753,     4605,   1795.7,   3.6370,  34.9680,2,  34.9690,2,    243.1,2,    245.5,2,    20.40,2,    19.20,2,     1.23,2,    0.017,2,    0.006,2,     -999,9,     -999,9,     -999,9,     -999,9,     -999,9,     -999,9,   3.4940
35A3CITHER3_2 ,A13        ,224     ,  1,15         ,18         ,2,19950324,0313,  -0.2053,   1.9753,     4605,   1995.2,   3.4990,  34.9610,2,  34.9620,2,    245.8,2,    245.2,2,    22.20,2,    19.30,2,     1.23,2,    0.009,2,    0.014,2,     -999,9,     -999,9,     -999,9,     -999,9,     -999,9,     -999,9,   3.3390
35A3CITHER3_2 ,A13        ,224     ,  1,16         ,17         ,2,19950324,0313,  -0.2053,   1.9753,     4605,   2195.2,   3.1840,  34.9460,2,  34.9470,2,    246.3,2,    244.8,2,    26.90,2,    20.00,2,     1.29,2,    0.007,2,    0.002,2,     -999,9,     -999,9,     -999,9,     -999,9,     -999,9,     -999,9,   3.0100
35A3CITHER3_2 ,A13        ,224     ,  1,17         ,16         ,2,19950324,0313,  -0.2053,   1.9753,     4605,   2396.0,   2.9860,  34.9330,2,  34.9350,2,    240.2,2,    240.4,2,    31.70,2,    20.70,2,     1.32,2,    0.004,2,    0.002,2,     -999,9,     -999,9,     -999,9,     -999,9,     -999,9,     -999,9,   2.7960
35A3CITHER3_2 ,A13        ,224     ,  1,18         ,15         ,2,19950324,0313,  -0.2053,   1.9753,     4605,   2596.1,   2.8250,  34.9240,2,  34.9230,2,    240.2,2,    240.8,2,    34.70,2,    21.00,2,     1.35,2,    0.003,2,    0.000,2,     -999,9,     -999,9,     -999,9,     -999,9,     -999,9,     -999,9,   2.6190
35A3CITHER3_2 ,A13        ,224     ,  1,19         ,14         ,2,19950324,0313,  -0.2053,   1.9753,     4605,   2795.7,   2.7570,  34.9180,2,  34.9180,2,    239.3,2,    239.9,2,    36.50,2,    21.00,2,     1.36,2,    0.005,2,   -0.003,2,     -999,9,     -999,9,     -999,9,     -999,9,     -999,9,     -999,9,   2.5320
35A3CITHER3_2 ,A13        ,224     ,  1,20         ,13         ,2,19950324,0313,  -0.2053,   1.9753,     4605,   2997.2,   2.6000,  34.9090,2,  34.9100,2,    238.0,2,    239.3,2,    40.00,2,    21.50,2,     1.39,2,    0.001,2,     -999,9,     -999,9,     -999,9,     -999,9,     -999,9,     -999,9,     -999,9,   2.3580
35A3CITHER3_2 ,A13        ,224     ,  1,21         ,12         ,2,19950324,0313,  -0.2053,   1.9753,     4605,   3195.8,   2.5030,  34.9020,2,  34.9010,2,    239.9,2,    239.7,2,    41.90,2,    21.50,2,     1.39,2,    0.000,2,    0.001,2,     -999,9,     -999,9,     -999,9,     -999,9,     -999,9,     -999,9,   2.2430
35A3CITHER3_2 ,A13        ,224     ,  1,22         ,11         ,2,19950324,0313,  -0.2053,   1.9753,     4605,   3397.5,   2.4660,  34.9000,2,  34.8920,3,    239.5,2,    240.3,2,    42.70,2,    21.30,2,     1.38,2,     -999,9,     -999,9,     -999,9,     -999,9,     -999,9,     -999,9,     -999,9,     -999,9,   2.1860
35A3CITHER3_2 ,A13        ,224     ,  1,23         ,10         ,2,19950324,0313,  -0.2053,   1.9753,     4605,   3595.9,   2.3980,  34.8940,2,  34.8930,2,    239.6,2,    240.6,2,    44.70,2,    21.00,2,     1.36,2,    0.000,2,     -999,9,     -999,9,     -999,9,     -999,9,     -999,9,     -999,9,     -999,9,   2.0980
35A3CITHER3_2 ,A13        ,224     ,  1,24         ,9          ,2,19950324,0313,  -0.2053,   1.9753,     4605,   3797.1,   2.3500,  34.8900,2,  34.8900,2,    241.2,2,    242.3,2,    45.60,2,    21.00,2,     1.36,2,    0.000,2,   -0.002,2,     -999,9,     -999,9,     -999,9,     -999,9,     -999,9,     -999,9,   2.0290
35A3CITHER3_2 ,A13        ,224     ,  1,25         ,8          ,2,19950324,0313,  -0.2053,   1.9753,     4605,   3996.5,   2.3230,  34.8870,2,  34.8850,2,    242.5,2,    242.3,2,    46.60,2,    21.40,2,     1.38,2,    0.002,2,     -999,9,     -999,9,     -999,9,     -999,9,     -999,9,     -999,9,     -999,9,   1.9800
35A3CITHER3_2 ,A13        ,224     ,  1,26         ,7          ,2,19950324,0313,  -0.2053,   1.9753,     4605,   4196.5,   2.2860,  34.8820,2,  34.8790,2,    241.3,2,    241.0,2,    48.90,2,    21.40,2,     1.38,2,    0.018,2,    0.003,2,     -999,9,     -999,9,     -999,9,     -999,9,     -999,9,     -999,9,   1.9210
35A3CITHER3_2 ,A13        ,224     ,  1,28         ,5          ,2,19950324,0313,  -0.2053,   1.9753,     4605,   4396.3,   2.2490,  34.8770,2,  34.8760,2,    240.1,2,    238.8,2,    51.50,2,    21.50,2,     1.38,2,    0.001,2,    0.004,2,     -999,9,     -999,9,     -999,9,     -999,9,     -999,9,     -999,9,   1.8620
35A3CITHER3_2 ,A13        ,224     ,  1,27         ,6          ,2,19950324,0313,  -0.2053,   1.9753,     4605,   4396.7,   2.2500,  34.8750,2,  34.8750,2,    240.1,2,    239.4,2,    51.50,2,    22.00,2,     1.42,2,    0.001,2,    0.000,2,     -999,9,     -999,9,     -999,9,     -999,9,     -999,9,     -999,9,   1.8630
35A3CITHER3_2 ,A13        ,224     ,  1,29         ,4          ,2,19950324,0313,  -0.2053,   1.9753,     4605,   4597.3,   2.2010,  34.8690,2,  34.8890,3,    237.8,2,    236.5,2,    55.00,2,    22.60,3,     1.43,2,    0.006,2,    0.001,2,     -999,9,     -999,9,     -999,9,     -999,9,     -999,9,     -999,9,   1.7910
35A3CITHER3_2 ,A13        ,224     ,  1,30         ,3          ,2,19950324,0313,  -0.2053,   1.9753,     4605,   4647.6,   2.1950,  34.8680,2,  34.8660,2,    235.9,2,    236.1,2,    55.80,2,    22.20,2,     1.42,2,    0.005,2,    0.004,2,     -999,9,     -999,9,     -999,9,     -999,9,     -999,9,     -999,9,   1.7800
35A3CITHER3_2 ,A13        ,225     ,  1,1          ,32         ,2,19950324,0824,  -0.0008,   1.8408,     4662,      5.0,  29.4310,  34.0930,2,  34.2070,3,    196.0,2,    196.4,2,     3.50,2,     0.00,2,     0.03,2,    1.515,2,    0.735,2,     -999,9,     -999,9,     -999,9,   1.6850,2,    -1.34,2,    6.562,1,  29.4300
35A3CITHER3_2 ,A13        ,225     ,  1,2          ,31         ,2,19950324,0824,  -0.0008,   1.8408,     4662,     46.9,  24.4450,  36.2390,2,  36.2340,3,    198.4,2,    193.3,3,     3.30,2,     0.00,2,     0.12,2,    1.728,2,    0.867,2,     -999,9,     -999,9,     -999,9,     -999,9,     -999,9,     -999,9,  24.4350
35A3CITHER3_2 ,A13        ,225     ,  1,3          ,30         ,2,19950324,0824,  -0.0008,   1.8408,     4662,     96.4,  18.5240,  35.9590,2,  35.9080,3,    161.8,2,    165.9,3,     5.00,2,     8.90,2,     0.64,2,    1.803,2,    0.864,2,     -999,9,     -999,9,    0.630,2,   1.7250,2,     0.38,2,    7.040,2,  18.5070
35A3CITHER3_2 ,A13        ,225     ,  1,4          ,29         ,2,19950324,0824,  -0.0008,   1.8408,     4662,    196.3,  14.0380,  35.4260,2,  35.4160,3,    112.2,2,    110.4,2,     9.10,2,    20.80,2,     1.25,2,    1.165,2,    0.564,2,     -999,9,     -999,9,    0.442,3,   1.7200,2,     1.55,3,    7.049,2,  14.0090
35A3CITHER3_2 ,A13        ,225     ,  1,5          ,28         ,2,19950324,0824,  -0.0008,   1.8408,     4662,    295.7,  11.0400,  35.0600,2,  35.0430,3,     62.7,2,     63.2,2,    13.80,2,    30.10,2,     1.80,2,    0.451,2,    0.233,2,     -999,9,     -999,9,    0.211,2,   1.7580,2,     1.96,2,    7.418,2,  11.0030
35A3CITHER3_2 ,A13        ,225     ,  1,6          ,27         ,2,19950324,0824,  -0.0008,   1.8408,     4662,    395.3,   8.7130,  34.8040,2,  34.7990,2,     75.2,2,     79.5,3,    17.50,2,    33.70,2,     2.03,2,    0.249,2,    0.130,2,     -999,9,     -999,9,    0.122,2,   1.7590,2,     1.50,2,    7.468,2,   8.6700
35A3CITHER3_2 ,A13        ,225     ,  1,7          ,26         ,2,19950324,0824,  -0.0008,   1.8408,     4662,    496.1,   6.7340,  34.6080,2,  34.6030,2,    114.1,2,    114.4,2,    22.10,2,    34.20,2,     2.11,2,    0.120,2,    0.068,2,     -999,9,     -999,9,     -999,9,   1.7810,2,     0.98,2,    7.628,1,   6.6880
35A3CITHER3_2 ,A13        ,225     ,  1,8          ,25         ,2,19950324,0824,  -0.0008,   1.8408,     4662,    595.2,   5.9750,  34.5400,2,  34.5350,2,    133.4,2,    134.8,2,    24.00,2,    33.10,2,     2.13,2,    0.138,2,    0.067,2,     -999,9,     -999,9,     -999,9,     -999,9,     -999,9,     -999,9,   5.9230
35A3CITHER3_2 ,A13        ,225     ,  1,9          ,24         ,2,19950324,0824,  -0.0008,   1.8408,     4662,    795.6,   5.0680,  34.5050,2,  34.5110,2,    138.6,2,    137.9,2,    28.80,2,    34.30,2,     2.21,2,    0.040,2,    0.015,2,     -999,9,     -999,9,     -999,9,   1.7940,2,     1.09,2,    7.706,1,   5.0020
35A3CITHER3_2 ,A13        ,225     ,  1,10         ,23         ,2,19950324,0824,  -0.0008,   1.8408,     4662,    995.5,   4.4480,  34.6460,2,  34.6440,2,    157.4,2,    157.8,2,    30.50,2,    31.60,2,     2.06,2,    0.011,2,    0.005,2,     -999,9,     -999,9,     -999,9,     -999,9,     -999,9,     -999,9,   4.3690
35A3CITHER3_2 ,A13        ,225     ,  1,11         ,22         ,2,19950324,0824,  -0.0008,   1.8408,     4662,   1195.3,   4.4370,  34.8150,2,  34.8150,2,    179.5,2,    180.6,2,    25.90,2,    27.10,2,     1.77,2,    0.009,2,    0.004,2,     -999,9,     -999,9,     -999,9,   1.8070,6,     1.20,6,     -999,9,   4.3400
35A3CITHER3_2 ,A13        ,225     ,  1,12         ,21         ,2,19950324,0824,  -0.0008,   1.8408,     4662,   1389.0,   4.3290,  34.9410,2,  34.9420,2,    217.5,2,    217.4,2,    20.30,2,    22.00,2,     1.39,2,    0.033,2,    0.016,2,     -999,9,     -999,9,    0.081,2,   1.7970,2,     1.40,2,    7.813,2,   4.2150
35A3CITHER3_2 ,A13        ,225     ,  1,13         ,20         ,2,19950324,0824,  -0.0008,   1.8408,     4662,   1595.6,   4.2170,  34.9640,2,  34.9640,2,    229.0,2,    228.2,2,    19.10,2,    20.90,2,     1.34,2,    0.040,2,    0.022,2,     -999,9,     -999,9,     -999,9,     -999,9,     -999,9,     -999,9,   4.0850
35A3CITHER3_2 ,A13        ,225     ,  1,14         ,19         ,2,19950324,0824,  -0.0008,   1.8408,     4662,   1795.4,   3.6710,  34.9690,2,  34.9690,2,    243.1,2,    245.1,2,    20.50,2,    19.80,2,     1.26,2,    0.010,2,    0.010,2,     -999,9,     -999,9,    0.033,2,   1.8100,2,     1.47,2,    7.856,2,   3.5280
35A3CITHER3_2 ,A13        ,225     ,  1,15         ,18         ,2,19950324,0824,  -0.0008,   1.8408,     4662,   1995.7,   3.5040,  34.9630,2,  34.9630,2,    247.4,2,    246.4,2,    22.30,2,    19.50,2,     1.24,2,    0.010,2,    0.007,2,     -999,9,     -999,9,     -999,9,     -999,9,     -999,9,     -999,9,   3.3440
35A3CITHER3_2 ,A13        ,225     ,  1,16         ,17         ,2,19950324,0824,  -0.0008,   1.8408,     4662,   2196.1,   3.1790,  34.9470,2,  34.9460,2,    246.0,2,    245.1,2,    27.20,2,    19.90,2,     1.27,2,    0.009,2,    0.006,2,     -999,9,     -999,9,    0.007,2,   1.8190,2,     2.58,2,    7.919,2,   3.0050
35A3CITHER3_2 ,A13        ,225     ,  1,17         ,16         ,2,19950324,0824,  -0.0008,   1.8408,     4662,   2395.8,   2.9860,  34.9320,2,  34.9350,2,    240.8,2,    240.6,2,    32.00,2,    20.80,2,     1.33,2,    0.004,2,    0.003,2,     -999,9,     -999,9,     -999,9,     -999,9,     -999,9,     -999,9,   2.7970
35A3CITHER3_2 ,A13        ,225     ,  1,18         ,15         ,2,19950324,0824,  -0.0008,   1.8408,     4662,   2596.5,   2.8020,  34.9220,2,  34.9220,2,    240.8,2,    241.4,2,    35.10,2,    21.10,2,     1.35,2,    0.001,2,    0.000,2,     -999,9,     -999,9,     -999,9,   1.8180,2,     3.52,2,     -999,9,   2.5960
35A3CITHER3_2 ,A13        ,225     ,  1,19         ,14         ,2,19950324,0824,  -0.0008,   1.8408,     4662,   2796.6,   2.7250,  34.9160,2,  34.9170,2,    239.5,2,    240.1,2,    37.20,2,    21.10,2,     1.34,2,    0.001,2,     -999,9,     -999,9,     -999,9,     -999,9,     -999,9,     -999,9,     -999,9,   2.5010
35A3CITHER3_2 ,A13        ,225     ,  1,20         ,13         ,2,19950324,0824,  -0.0008,   1.8408,     4662,   2995.9,   2.6060,  34.9100,2,  34.9040,2,    239.0,2,    240.0,2,    39.40,2,    21.20,2,     1.35,2,    0.004,2,    0.000,2,     -999,9,     -999,9,     -999,9,   1.8280,2,     3.37,2,     -999,9,   2.3640
35A3CITHER3_2 ,A13        ,225     ,  1,21         ,12         ,2,19950324,0824,  -0.0008,   1.8408,     4662,   3196.6,   2.4950,  34.9020,2,  34.9020,2,    240.1,2,    241.7,2,    41.80,2,    21.00,2,     1.34,2,    0.000,2,     -999,9,     -999,9,     -999,9,     -999,9,   1.8380,3,     3.26,3,     -999,9,   2.2350
35A3CITHER3_2 ,A13        ,225     ,  1,22         ,11         ,2,19950324,0824,  -0.0008,   1.8408,     4662,   3396.3,   2.4350,  34.8980,2,  34.8980,2,    239.7,2,    240.3,2,    43.60,2,    21.20,2,     1.34,2,    0.001,2,   -0.001,2,     -999,9,     -999,9,    0.003,2,   1.8350,2,     3.24,2,    7.977,2,   2.1550
35A3CITHER3_2 ,A13        ,225     ,  1,23         ,10         ,2,19950324,0824,  -0.0008,   1.8408,     4662,   3596.7,   2.4000,  34.8950,2,  34.8930,2,    240.6,2,    241.4,2,    44.40,2,    21.60,2,     1.40,2,    0.004,2,   -0.001,2,     -999,9,     -999,9,     -999,9,     -999,9,     -999,9,     -999,9,   2.1000
35A3CITHER3_2 ,A13        ,225     ,  1,24         ,9          ,2,19950324,0824,  -0.0008,   1.8408,     4662,   3796.5,   2.3510,  34.8910,2,  34.8880,2,    242.5,2,    243.4,2,    45.20,2,    21.20,2,     1.35,2,    0.001,2,    0.001,2,     -999,9,     -999,9,     -999,9,     -999,9,     -999,9,     -999,9,   2.0300
35A3CITHER3_2 ,A13        ,225     ,  1,25         ,8          ,2,19950324,0824,  -0.0008,   1.8408,     4662,   3997.6,   2.3210,  34.8860,2,  34.8830,2,    242.5,2,    243.4,2,    46.50,2,    21.30,2,     1.35,2,    0.004,2,    0.001,2,     -999,9,     -999,9,     -999,9,     -999,9,     -999,9,     -999,9,   1.9780
35A3CITHER3_2 ,A13        ,225     ,  1,26         ,7          ,2,19950324,0824,  -0.0008,   1.8408,     4662,   4196.9,   2.2990,  34.8820,2,  34.8820,2,    241.5,2,    241.8,2,    48.40,2,    21.70,2,     1.38,2,    0.009,2,    0.001,2,     -999,9,     -999,9,     -999,9,     -999,9,     -999,9,     -999,9,   1.9340
35A3CITHER3_2 ,A13        ,225     ,  1,27         ,6          ,2,19950324,0824,  -0.0008,   1.8408,     4662,   4197.3,   2.2980,  34.8840,2,  34.8800,2,    241.5,2,    242.2,2,    48.70,2,    22.10,2,     1.42,2,    0.000,2,    0.000,2,     -999,9,     -999,9,     -999,9,   1.8400,2,     3.25,2,     -999,9,   1.9330
35A3CITHER3_2 ,A13        ,225     ,  1,28         ,5          ,2,19950324,0824,  -0.0008,   1.8408,     4662,   4397.9,   2.2590,  34.8760,2,  34.8760,2,    240.8,2,    240.7,2,    51.30,2,    22.20,2,     1.42,2,    0.001,2,    0.000,2,     -999,9,     -999,9,     -999,9,     -999,9,     -999,9,     -999,9,   1.8710
35A3CITHER3_2 ,A13        ,225     ,  1,29         ,4          ,2,19950324,0824,  -0.0008,   1.8408,     4662,   4598.1,   2.2150,  34.8690,2,  34.8690,2,    238.6,2,    238.0,2,    54.00,2,    22.60,2,     1.42,2,    0.008,2,     -999,9,     -999,9,     -999,9,     -999,9,     -999,9,     -999,9,     -999,9,   1.8050
35A3CITHER3_2 ,A13        ,225     ,  1,30         ,3          ,2,19950324,0824,  -0.0008,   1.8408,     4662,   4706.8,   2.1910,  34.8680,2,  34.8660,2,    235.5,2,    237.2,2,    56.40,2,    22.80,2,     1.43,2,    0.006,2,    0.010,2,     -999,9,     -999,9,    0.009,2,   1.8500,2,     3.10,2,    8.040,2,   1.7680