BOTTLE,20211216CCHDHYDRO
EXPOCODE,SECT_ID,STNNBR,CASTNO,SAMPNO,BTLNBR,BTLNBR_FLAG_W,DATE,TIME,LATITUDE,LONGITUDE,DEPTH,CTDPRS,CTDTMP,CTDSAL,CTDSAL_FLAG_W,SALNTY,SALNTY_FLAG_W,CTDOXY,CTDOXY_FLAG_W,OXYGEN,OXYGEN_FLAG_W,SILCAT,SILCAT_FLAG_W,NITRAT,NITRAT_FLAG_W,PHSPHT,PHSPHT_FLAG_W,CFC-11,CFC-11_FLAG_W,CFC-12,CFC-12_FLAG_W,TCARBN,TCARBN_FLAG_W,ALKALI,ALKALI_FLAG_W,TRITUM,TRITUM_FLAG_W,HELIUM,HELIUM_FLAG_W,DELHE3,DELHE3_FLAG_W,NEON,NEON_FLAG_W,THETA
,,,,,,,,,,,METERS,DBAR,DEG C,PSS-78,,PSS-78,,UMOL/KG,,UMOL/KG,,UMOL/KG,,UMOL/KG,,UMOL/KG,,PMOL/KG,,PMOL/KG,,UMOL/KG,,UMOL/KG,,TU,,NMOL/KG,,PERCNT,,NMOL/KG,,DEG C
35A3CITHER3_2 ,A13        ,203     ,  1,1          ,32         ,2,19950319,0602,  -8.5000,   4.9997,     5291,      4.3,  28.5100,  35.9650,2,  35.9680,2,    197.5,2,    198.0,2,     5.20,2,     0.00,2,     0.13,2,    1.572,2,    0.866,2,     -999,9,     -999,9,     -999,9,     -999,9,     -999,9,     -999,9,  28.5090
35A3CITHER3_2 ,A13        ,203     ,  1,2          ,31         ,2,19950319,0602,  -8.5000,   4.9997,     5291,     46.7,  17.1060,  35.7140,2,  35.7140,2,    133.3,2,    112.6,3,     7.60,2,    15.20,2,     0.95,2,    1.544,2,    0.779,2,     -999,9,     -999,9,     -999,9,     -999,9,     -999,9,     -999,9,  17.0980
35A3CITHER3_2 ,A13        ,203     ,  1,3          ,30         ,2,19950319,0602,  -8.5000,   4.9997,     5291,    121.2,  14.7050,  35.4970,2,  35.4880,3,     73.1,2,     64.9,3,    10.00,2,    24.20,2,     1.47,2,    1.117,2,    0.579,2,     -999,9,     -999,9,     -999,9,     -999,9,     -999,9,     -999,9,  14.6870
35A3CITHER3_2 ,A13        ,203     ,  1,4          ,29         ,2,19950319,0602,  -8.5000,   4.9997,     5291,    196.4,  13.1480,  35.3000,2,  35.2970,2,     77.3,2,     78.4,2,    10.80,2,    24.50,2,     1.51,2,    0.941,2,    0.489,2,     -999,9,     -999,9,     -999,9,     -999,9,     -999,9,     -999,9,  13.1210
35A3CITHER3_2 ,A13        ,203     ,  1,5          ,28         ,2,19950319,0602,  -8.5000,   4.9997,     5291,    385.2,   9.9550,  34.9370,2,  34.9330,2,     27.2,2,     26.3,2,    16.90,2,    36.00,2,     2.17,2,    0.179,2,    0.104,2,     -999,9,     -999,9,     -999,9,     -999,9,     -999,9,     -999,9,   9.9100
35A3CITHER3_2 ,A13        ,203     ,  1,6          ,27         ,2,19950319,0602,  -8.5000,   4.9997,     5291,    595.8,   6.4490,  34.5990,2,  34.6010,2,     56.8,2,     58.0,2,    24.30,2,    40.40,2,     2.53,2,    0.014,2,    0.015,2,     -999,9,     -999,9,     -999,9,     -999,9,     -999,9,     -999,9,   6.3940
35A3CITHER3_2 ,A13        ,203     ,  1,7          ,26         ,2,19950319,0602,  -8.5000,   4.9997,     5291,    794.5,   4.8340,  34.5130,2,  34.5140,2,    109.0,2,    110.7,2,    32.00,2,    37.90,2,     2.44,2,    0.003,2,     -999,9,     -999,9,     -999,9,     -999,9,     -999,9,     -999,9,     -999,9,   4.7700
35A3CITHER3_2 ,A13        ,203     ,  1,8          ,25         ,2,19950319,0602,  -8.5000,   4.9997,     5291,    994.6,   4.2510,  34.5690,2,  34.5690,2,    142.1,2,    142.4,2,    34.80,2,    34.60,2,     2.26,2,    0.002,2,   -0.001,2,     -999,9,     -999,9,     -999,9,     -999,9,     -999,9,     -999,9,   4.1740
35A3CITHER3_2 ,A13        ,203     ,  1,9          ,24         ,2,19950319,0602,  -8.5000,   4.9997,     5291,   1196.2,   4.1020,  34.7200,2,  34.7190,2,    163.1,2,    163.1,2,    32.00,2,    30.60,2,     2.02,2,    0.025,2,    0.015,2,     -999,9,     -999,9,     -999,9,     -999,9,     -999,9,     -999,9,   4.0080
35A3CITHER3_2 ,A13        ,203     ,  1,10         ,23         ,2,19950319,0602,  -8.5000,   4.9997,     5291,   1393.1,   3.9390,  34.8460,2,  34.8310,3,    194.7,2,    191.9,2,    27.80,2,    26.50,2,     1.75,2,    0.011,2,    0.010,2,     -999,9,     -999,9,     -999,9,     -999,9,     -999,9,     -999,9,   3.8290
35A3CITHER3_2 ,A13        ,203     ,  1,11         ,22         ,2,19950319,0602,  -8.5000,   4.9997,     5291,   1594.4,   3.8010,  34.9110,2,  34.9120,2,    217.9,2,    216.4,2,    24.90,2,    23.10,2,     1.52,2,    0.053,2,    0.027,2,     -999,9,     -999,9,     -999,9,     -999,9,     -999,9,     -999,9,   3.6750
35A3CITHER3_2 ,A13        ,203     ,  1,12         ,21         ,2,19950319,0602,  -8.5000,   4.9997,     5291,   1796.1,   3.5740,  34.9290,2,  34.9300,2,    227.2,2,    226.8,2,    25.70,2,    22.20,2,     1.41,2,    0.004,2,    0.000,2,     -999,9,     -999,9,     -999,9,     -999,9,     -999,9,     -999,9,   3.4320
35A3CITHER3_2 ,A13        ,203     ,  1,13         ,20         ,2,19950319,0602,  -8.5000,   4.9997,     5291,   1996.5,   3.3500,  34.9310,2,  34.9330,2,    231.4,2,    230.5,2,    28.30,2,    21.50,3,     1.45,2,    0.003,2,    0.000,2,     -999,9,     -999,9,     -999,9,     -999,9,     -999,9,     -999,9,   3.1930
35A3CITHER3_2 ,A13        ,203     ,  1,14         ,19         ,2,19950319,0602,  -8.5000,   4.9997,     5291,   2195.7,   3.1360,  34.9280,2,  34.9290,2,    230.2,2,    229.8,2,    32.80,2,    21.10,3,     1.31,2,    0.002,2,    0.001,2,     -999,9,     -999,9,     -999,9,     -999,9,     -999,9,     -999,9,   2.9630
35A3CITHER3_2 ,A13        ,203     ,  1,15         ,18         ,2,19950319,0602,  -8.5000,   4.9997,     5291,   2497.2,   2.8930,  34.9230,2,  34.9220,2,    230.8,2,    230.2,2,    38.20,2,    21.70,2,     1.43,2,    0.002,2,    0.000,2,     -999,9,     -999,9,     -999,9,     -999,9,     -999,9,     -999,9,   2.6950
35A3CITHER3_2 ,A13        ,203     ,  1,17         ,16         ,2,19950319,0602,  -8.5000,   4.9997,     5291,   2795.6,   2.7050,  34.9140,2,  34.9150,2,    230.7,2,    230.5,2,    43.40,2,    22.20,2,     1.44,2,    0.003,2,     -999,9,     -999,9,     -999,9,     -999,9,     -999,9,     -999,9,     -999,9,   2.4820
35A3CITHER3_2 ,A13        ,203     ,  1,18         ,15         ,2,19950319,0602,  -8.5000,   4.9997,     5291,   2995.8,   2.6030,  34.9090,2,  34.9090,2,    230.1,2,    230.2,2,    45.70,2,    22.30,2,     1.44,2,    0.002,2,    0.005,2,     -999,9,     -999,9,     -999,9,     -999,9,     -999,9,     -999,9,   2.3610
35A3CITHER3_2 ,A13        ,203     ,  1,19         ,14         ,2,19950319,0602,  -8.5000,   4.9997,     5291,   3195.1,   2.5160,  34.9030,2,  34.9040,2,    230.1,2,    230.2,2,    48.30,2,    22.60,2,     1.48,2,    0.002,2,    0.004,2,     -999,9,     -999,9,     -999,9,     -999,9,     -999,9,     -999,9,   2.2560
35A3CITHER3_2 ,A13        ,203     ,  1,20         ,13         ,2,19950319,0602,  -8.5000,   4.9997,     5291,   3396.0,   2.4440,  34.8980,2,  34.8980,2,    227.9,2,    228.1,2,    51.20,2,    22.60,2,     1.47,2,    0.002,2,    0.003,2,     -999,9,     -999,9,     -999,9,     -999,9,     -999,9,     -999,9,   2.1640
35A3CITHER3_2 ,A13        ,203     ,  1,21         ,12         ,2,19950319,0602,  -8.5000,   4.9997,     5291,   3606.9,   2.3630,  34.8930,2,  34.8920,2,    226.0,2,    226.2,2,    54.50,2,    23.20,3,     1.52,2,    0.004,2,    0.003,2,     -999,9,     -999,9,     -999,9,     -999,9,     -999,9,     -999,9,   2.0630
35A3CITHER3_2 ,A13        ,203     ,  1,22         ,11         ,2,19950319,0602,  -8.5000,   4.9997,     5291,   3795.9,   2.3320,  34.8890,2,  34.8860,2,    229.1,2,    230.2,2,    53.80,2,    22.60,2,     1.50,2,    0.003,2,     -999,9,     -999,9,     -999,9,     -999,9,     -999,9,     -999,9,     -999,9,   2.0110
35A3CITHER3_2 ,A13        ,203     ,  1,23         ,10         ,2,19950319,0602,  -8.5000,   4.9997,     5291,   3994.2,   2.3260,  34.8880,2,  34.8850,2,    229.8,2,    231.2,2,    54.20,2,    23.00,3,     1.50,2,    0.002,2,     -999,9,     -999,9,     -999,9,     -999,9,     -999,9,     -999,9,     -999,9,   1.9830
35A3CITHER3_2 ,A13        ,203     ,  1,16         ,17         ,2,19950319,0602,  -8.5000,   4.9997,     5291,   4197.0,   2.3270,  34.8860,2,  34.8880,2,    231.9,2,    233.0,2,    53.70,2,    22.40,2,     1.48,2,    0.002,2,    0.000,2,     -999,9,     -999,9,     -999,9,     -999,9,     -999,9,     -999,9,   1.9610
35A3CITHER3_2 ,A13        ,203     ,  1,24         ,9          ,2,19950319,0602,  -8.5000,   4.9997,     5291,   4197.0,   2.3270,  34.8860,2,  34.8830,2,    231.9,2,    232.9,2,    54.00,2,    22.60,2,     1.47,2,    0.002,2,    0.000,2,     -999,9,     -999,9,     -999,9,     -999,9,     -999,9,     -999,9,   1.9610
35A3CITHER3_2 ,A13        ,203     ,  1,25         ,8          ,2,19950319,0602,  -8.5000,   4.9997,     5291,   4396.1,   2.3310,  34.8840,2,     -999,9,    233.4,2,    240.4,2,     -999,9,     -999,9,     -999,9,    0.002,2,    0.004,2,     -999,9,     -999,9,     -999,9,     -999,9,     -999,9,     -999,9,   1.9410
35A3CITHER3_2 ,A13        ,203     ,  1,26         ,7          ,2,19950319,0602,  -8.5000,   4.9997,     5291,   4597.8,   2.3410,  34.8810,2,  34.8820,2,    234.2,2,    235.3,2,    54.70,2,    21.80,3,     1.39,2,    0.003,2,    0.000,2,     -999,9,     -999,9,     -999,9,     -999,9,     -999,9,     -999,9,   1.9270
35A3CITHER3_2 ,A13        ,203     ,  1,27         ,6          ,2,19950319,0602,  -8.5000,   4.9997,     5291,   4796.5,   2.3580,  34.8810,2,  34.8810,2,    234.9,2,    235.5,2,    54.50,2,    22.20,2,     1.45,2,    0.002,2,     -999,9,     -999,9,     -999,9,     -999,9,     -999,9,     -999,9,     -999,9,   1.9190
35A3CITHER3_2 ,A13        ,203     ,  1,28         ,5          ,2,19950319,0602,  -8.5000,   4.9997,     5291,   4998.1,   2.3770,  34.8780,2,  34.8780,2,    235.5,2,    235.8,2,    54.40,2,    21.90,3,     1.39,2,    0.003,2,    0.002,2,     -999,9,     -999,9,     -999,9,     -999,9,     -999,9,     -999,9,   1.9120
35A3CITHER3_2 ,A13        ,203     ,  1,29         ,4          ,2,19950319,0602,  -8.5000,   4.9997,     5291,   5195.5,   2.3960,  34.8780,2,  34.8790,2,    236.0,2,    236.0,2,    54.10,2,    22.60,2,     1.46,2,    0.002,2,    0.002,2,     -999,9,     -999,9,     -999,9,     -999,9,     -999,9,     -999,9,   1.9050
35A3CITHER3_2 ,A13        ,203     ,  1,30         ,3          ,2,19950319,0602,  -8.5000,   4.9997,     5291,   5298.9,   2.4080,  34.8780,2,  34.8780,2,    236.4,2,    236.8,2,    53.80,2,    22.60,2,     1.46,2,    0.002,2,    0.005,2,     -999,9,     -999,9,     -999,9,     -999,9,     -999,9,     -999,9,   1.9030
35A3CITHER3_2 ,A13        ,203     ,  1,31         ,2          ,2,19950319,0602,  -8.5000,   4.9997,     5291,   5346.7,   2.4150,  34.8770,2,  34.8800,2,    234.3,2,    236.4,2,    54.70,2,    21.00,3,     1.40,2,    0.002,2,    0.000,2,     -999,9,     -999,9,     -999,9,     -999,9,     -999,9,     -999,9,   1.9040
35A3CITHER3_2 ,A13        ,203     ,  1,32         ,1          ,2,19950319,0602,  -8.5000,   4.9997,     5291,   5347.8,   2.4150,  34.8770,2,  34.8800,2,    234.3,2,    238.0,2,    54.50,2,    22.40,2,     1.43,2,    0.003,2,     -999,9,     -999,9,     -999,9,     -999,9,     -999,9,     -999,9,     -999,9,   1.9040