BOTTLE,20211216CCHDHYDRO
EXPOCODE,SECT_ID,STNNBR,CASTNO,SAMPNO,BTLNBR,BTLNBR_FLAG_W,DATE,TIME,LATITUDE,LONGITUDE,DEPTH,CTDPRS,CTDTMP,CTDSAL,CTDSAL_FLAG_W,SALNTY,SALNTY_FLAG_W,CTDOXY,CTDOXY_FLAG_W,OXYGEN,OXYGEN_FLAG_W,SILCAT,SILCAT_FLAG_W,NITRAT,NITRAT_FLAG_W,PHSPHT,PHSPHT_FLAG_W,CFC-11,CFC-11_FLAG_W,CFC-12,CFC-12_FLAG_W,TCARBN,TCARBN_FLAG_W,ALKALI,ALKALI_FLAG_W,TRITUM,TRITUM_FLAG_W,HELIUM,HELIUM_FLAG_W,DELHE3,DELHE3_FLAG_W,NEON,NEON_FLAG_W,THETA
,,,,,,,,,,,METERS,DBAR,DEG C,PSS-78,,PSS-78,,UMOL/KG,,UMOL/KG,,UMOL/KG,,UMOL/KG,,UMOL/KG,,PMOL/KG,,PMOL/KG,,UMOL/KG,,UMOL/KG,,TU,,NMOL/KG,,PERCNT,,NMOL/KG,,DEG C
35A3CITHER3_2 ,A13        ,136     ,  1,1          ,32         ,2,19950228,2138, -36.5022,   9.9963,     5074,      4.9,  20.7920,  35.7140,2,  35.7140,2,    229.0,2,    225.9,2,     2.40,2,     0.00,2,     0.08,2,    2.157,2,    1.140,2,   2022.2,2,   2340.4,2,     -999,9,     -999,9,     -999,9,     -999,9,  20.7910
35A3CITHER3_2 ,A13        ,136     ,  1,2          ,31         ,2,19950228,2138, -36.5022,   9.9963,     5074,      5.7,  20.7970,  35.7120,2,  35.7120,2,    229.4,2,    226.0,2,     2.60,2,     0.00,2,     0.09,2,    2.156,2,    1.156,2,     -999,9,     -999,9,     -999,9,     -999,9,     -999,9,     -999,9,  20.7960
35A3CITHER3_2 ,A13        ,136     ,  1,3          ,30         ,2,19950228,2138, -36.5022,   9.9963,     5074,     46.8,  20.5910,  35.6910,2,  35.6960,3,    229.8,2,    227.0,2,     2.60,2,     0.00,2,     0.08,2,    2.209,2,    1.174,2,   2023.8,2,     -999,9,     -999,9,     -999,9,     -999,9,     -999,9,  20.5820
35A3CITHER3_2 ,A13        ,136     ,  1,4          ,29         ,2,19950228,2138, -36.5022,   9.9963,     5074,    121.5,  16.4450,  35.5440,2,  35.5410,2,    205.9,2,    215.3,3,     4.40,2,     4.50,2,     0.36,2,    2.459,2,    1.273,2,   2068.5,2,   2328.8,2,     -999,9,     -999,9,     -999,9,     -999,9,  16.4250
35A3CITHER3_2 ,A13        ,136     ,  1,5          ,28         ,2,19950228,2138, -36.5022,   9.9963,     5074,    196.1,  15.0200,  35.3700,2,  35.3720,2,    219.9,2,    217.3,2,     4.40,2,     5.90,2,     0.45,2,    2.641,2,    1.327,2,   2081.7,2,   2321.5,2,     -999,9,     -999,9,     -999,9,     -999,9,  14.9900
35A3CITHER3_2 ,A13        ,136     ,  1,6          ,27         ,2,19950228,2138, -36.5022,   9.9963,     5074,    395.2,  11.4820,  34.9760,2,  34.9710,3,    214.3,2,    213.8,2,     6.10,3,    12.70,2,     0.86,2,    2.419,2,    1.179,2,   2116.1,2,     -999,9,     -999,9,     -999,9,     -999,9,     -999,9,  11.4310
35A3CITHER3_2 ,A13        ,136     ,  1,7          ,26         ,2,19950228,2138, -36.5022,   9.9963,     5074,    595.7,   8.7320,  34.6620,2,  34.6650,2,    207.7,2,    205.2,2,    12.60,3,    20.30,2,     1.31,2,    1.806,2,    0.869,2,   2143.3,2,   2297.3,2,     -999,9,     -999,9,     -999,9,     -999,9,   8.6670
35A3CITHER3_2 ,A13        ,136     ,  1,8          ,25         ,2,19950228,2138, -36.5022,   9.9963,     5074,    796.6,   5.8010,  34.3990,2,  34.3990,2,    209.9,2,    213.4,3,    20.40,3,    26.40,2,     1.74,2,    1.790,2,    0.833,2,   2169.0,2,     -999,9,     -999,9,     -999,9,     -999,9,     -999,9,   5.7310
35A3CITHER3_2 ,A13        ,136     ,  1,9          ,24         ,2,19950228,2138, -36.5022,   9.9963,     5074,    891.2,   4.8450,  34.3360,2,     -999,9,    210.8,2,    227.8,3,     -999,9,     -999,9,     -999,9,    1.865,2,    0.857,2,   2176.7,2,     -999,9,     -999,9,     -999,9,     -999,9,     -999,9,   4.7730
35A3CITHER3_2 ,A13        ,136     ,  1,10         ,23         ,2,19950228,2138, -36.5022,   9.9963,     5074,    996.5,   4.6830,  34.4340,2,  34.4370,2,    194.5,2,    192.3,2,    37.10,3,    30.60,3,     2.02,3,    0.945,2,    0.454,2,   2202.9,2,   2307.3,2,     -999,9,     -999,9,     -999,9,     -999,9,   4.6030
35A3CITHER3_2 ,A13        ,136     ,  1,11         ,22         ,2,19950228,2138, -36.5022,   9.9963,     5074,   1195.8,   3.7130,  34.4740,2,  34.4730,2,    188.4,2,    181.2,3,    51.40,2,    32.40,2,     2.17,2,    0.510,2,    0.240,2,   2225.3,2,     -999,9,     -999,9,     -999,9,     -999,9,     -999,9,   3.6230
35A3CITHER3_2 ,A13        ,136     ,  1,12         ,21         ,2,19950228,2138, -36.5022,   9.9963,     5074,   1395.2,   3.0850,  34.5410,2,  34.5420,2,    173.3,2,    176.5,2,    60.40,2,    32.60,2,     2.18,2,    0.215,2,    0.103,2,   2238.3,2,     -999,9,     -999,9,     -999,9,     -999,9,     -999,9,   2.9850
35A3CITHER3_2 ,A13        ,136     ,  1,13         ,20         ,2,19950228,2138, -36.5022,   9.9963,     5074,   1594.9,   2.8600,  34.6280,2,  34.6260,2,    179.6,2,    179.5,2,    63.30,2,    31.60,2,     2.10,2,    0.070,2,    0.033,2,   2238.1,2,     -999,9,     -999,9,     -999,9,     -999,9,     -999,9,   2.7460
35A3CITHER3_2 ,A13        ,136     ,  1,14         ,19         ,2,19950228,2138, -36.5022,   9.9963,     5074,   1800.7,   2.7970,  34.7120,2,  34.7150,2,    189.5,2,    191.1,2,    59.80,2,    29.60,2,     1.94,2,    0.032,2,    0.014,2,   2231.1,2,     -999,9,     -999,9,     -999,9,     -999,9,     -999,9,   2.6660
35A3CITHER3_2 ,A13        ,136     ,  1,15         ,18         ,2,19950228,2138, -36.5022,   9.9963,     5074,   1996.4,   2.7790,  34.7760,2,  34.7780,2,    199.7,2,    201.9,2,    56.10,2,    27.80,2,     1.82,2,    0.013,2,    0.006,2,   2220.8,2,   2336.7,2,     -999,9,     -999,9,     -999,9,     -999,9,   2.6310
35A3CITHER3_2 ,A13        ,136     ,  1,16         ,17         ,2,19950228,2138, -36.5022,   9.9963,     5074,   2194.0,   2.7060,  34.8090,2,  34.8100,2,    209.1,2,    210.7,2,    54.40,2,    26.40,2,     1.71,2,    0.007,2,    0.006,2,   2212.3,2,     -999,9,     -999,9,     -999,9,     -999,9,     -999,9,   2.5410
35A3CITHER3_2 ,A13        ,136     ,  1,17         ,16         ,2,19950228,2138, -36.5022,   9.9963,     5074,   2396.6,   2.6440,  34.8340,2,  34.8340,2,    217.3,2,    219.2,2,    51.40,2,    24.80,2,     1.64,2,    0.009,2,    0.013,2,   2209.2,2,     -999,9,     -999,9,     -999,9,     -999,9,     -999,9,   2.4610
35A3CITHER3_2 ,A13        ,136     ,  1,18         ,15         ,2,19950228,2138, -36.5022,   9.9963,     5074,   2593.9,   2.5270,  34.8390,2,  34.8390,2,    221.2,2,    222.4,2,    53.60,2,    25.10,2,     1.62,2,    0.007,2,    0.008,2,   2208.6,2,     -999,9,     -999,9,     -999,9,     -999,9,     -999,9,   2.3270
35A3CITHER3_2 ,A13        ,136     ,  1,19         ,14         ,2,19950228,2138, -36.5022,   9.9963,     5074,   2791.4,   2.4330,  34.8430,2,  34.8430,2,    224.6,2,    225.6,2,    56.10,2,    24.60,2,     1.57,2,    0.004,2,     -999,9,   2208.6,2,   2341.2,2,     -999,9,     -999,9,     -999,9,     -999,9,   2.2160
35A3CITHER3_2 ,A13        ,136     ,  1,20         ,13         ,2,19950228,2138, -36.5022,   9.9963,     5074,   2994.9,   2.3730,  34.8470,2,  34.8460,2,    226.6,2,    227.8,2,    56.40,2,    24.60,2,     1.60,2,    0.004,2,    0.004,2,   2208.6,2,     -999,9,     -999,9,     -999,9,     -999,9,     -999,9,   2.1370
35A3CITHER3_2 ,A13        ,136     ,  1,21         ,12         ,2,19950228,2138, -36.5022,   9.9963,     5074,   3193.4,   2.3210,  34.8500,2,  34.8490,2,    228.1,2,    229.2,2,    57.30,2,    24.80,2,     1.59,2,    0.004,2,    0.005,2,   2207.9,2,     -999,9,     -999,9,     -999,9,     -999,9,     -999,9,   2.0660
35A3CITHER3_2 ,A13        ,136     ,  1,22         ,11         ,2,19950228,2138, -36.5022,   9.9963,     5074,   3398.2,   2.2250,  34.8460,2,  34.8470,2,    229.1,2,    229.4,2,    60.40,2,    24.80,2,     1.60,2,    0.007,2,    0.006,2,   2212.8,2,     -999,9,     -999,9,     -999,9,     -999,9,     -999,9,   1.9510
35A3CITHER3_2 ,A13        ,136     ,  1,23         ,10         ,2,19950228,2138, -36.5022,   9.9963,     5074,   3593.9,   2.1400,  34.8410,2,  34.8400,2,    228.5,2,    228.2,2,    63.80,2,    24.80,2,     1.63,2,    0.003,2,    0.007,2,   2216.9,2,     -999,9,     -999,9,     -999,9,     -999,9,     -999,9,   1.8470
35A3CITHER3_2 ,A13        ,136     ,  1,24         ,9          ,2,19950228,2138, -36.5022,   9.9963,     5074,   3795.4,   1.9060,  34.8170,2,  34.8150,2,    224.7,2,    225.0,2,    73.80,2,    26.50,2,     1.73,2,    0.003,2,    0.004,2,   2224.4,2,     -999,9,     -999,9,     -999,9,     -999,9,     -999,9,   1.5970
35A3CITHER3_2 ,A13        ,136     ,  1,25         ,8          ,2,19950228,2138, -36.5022,   9.9963,     5074,   3997.6,   1.6350,  34.7900,2,  34.7900,2,    221.2,2,    221.3,2,    82.70,2,    27.80,2,     1.83,2,    0.006,2,    0.010,2,   2233.7,2,   2357.1,2,     -999,9,     -999,9,     -999,9,     -999,9,   1.3120
35A3CITHER3_2 ,A13        ,136     ,  1,26         ,7          ,2,19950228,2138, -36.5022,   9.9963,     5074,   4197.1,   1.4140,  34.7690,2,  34.7690,2,    219.5,2,    219.8,2,    91.60,2,    28.80,2,     1.88,2,    0.006,2,    0.007,2,   2241.9,2,     -999,9,     -999,9,     -999,9,     -999,9,     -999,9,   1.0750
35A3CITHER3_2 ,A13        ,136     ,  1,27         ,6          ,2,19950228,2138, -36.5022,   9.9963,     5074,   4396.0,   1.2230,  34.7510,2,  34.7500,2,    217.8,2,    218.7,2,    98.90,2,    29.40,2,     1.92,2,    0.007,2,    0.007,2,   2248.1,2,     -999,9,     -999,9,     -999,9,     -999,9,     -999,9,   0.8680
35A3CITHER3_2 ,A13        ,136     ,  1,28         ,5          ,2,19950228,2138, -36.5022,   9.9963,     5074,   4598.3,   1.1340,  34.7400,2,  34.7400,2,    217.3,2,    217.6,2,   103.90,2,    29.80,2,     1.97,2,    0.008,2,    0.007,2,   2251.6,2,     -999,9,     -999,9,     -999,9,     -999,9,     -999,9,   0.7590
35A3CITHER3_2 ,A13        ,136     ,  1,29         ,4          ,2,19950228,2138, -36.5022,   9.9963,     5074,   4795.7,   1.1110,  34.7360,2,  34.7360,2,    217.2,2,    217.3,2,   106.20,2,    30.40,2,     1.99,2,    0.009,2,    0.008,2,   2251.5,2,     -999,9,     -999,9,     -999,9,     -999,9,     -999,9,   0.7140
35A3CITHER3_2 ,A13        ,136     ,  1,30         ,3          ,2,19950228,2138, -36.5022,   9.9963,     5074,   4997.9,   1.0940,  34.7330,2,  34.7320,2,    217.8,2,    217.5,2,   107.50,2,    29.40,2,     1.98,2,    0.018,2,    0.007,2,   2253.4,2,     -999,9,     -999,9,     -999,9,     -999,9,     -999,9,   0.6730
35A3CITHER3_2 ,A13        ,136     ,  1,31         ,2          ,2,19950228,2138, -36.5022,   9.9963,     5074,   5096.2,   1.1010,  34.7330,2,  34.7320,2,    217.9,2,    217.1,2,   107.90,2,    30.10,2,     1.99,2,    0.016,2,    0.013,2,   2253.6,2,     -999,9,     -999,9,     -999,9,     -999,9,     -999,9,   0.6680
35A3CITHER3_2 ,A13        ,136     ,  1,32         ,1          ,2,19950228,2138, -36.5022,   9.9963,     5074,   5148.2,   1.1070,  34.7330,2,  34.7340,2,    217.7,2,    217.4,2,   107.80,2,    30.50,2,     1.99,2,    0.022,2,    0.012,2,   2254.6,2,   2372.1,2,     -999,9,     -999,9,     -999,9,     -999,9,   0.6680