BOTTLE,20211216CCHDHYDRO
EXPOCODE,SECT_ID,STNNBR,CASTNO,SAMPNO,BTLNBR,BTLNBR_FLAG_W,DATE,TIME,LATITUDE,LONGITUDE,DEPTH,CTDPRS,CTDTMP,CTDSAL,CTDSAL_FLAG_W,SALNTY,SALNTY_FLAG_W,CTDOXY,CTDOXY_FLAG_W,OXYGEN,OXYGEN_FLAG_W,SILCAT,SILCAT_FLAG_W,NITRAT,NITRAT_FLAG_W,PHSPHT,PHSPHT_FLAG_W,CFC-11,CFC-11_FLAG_W,CFC-12,CFC-12_FLAG_W,TCARBN,TCARBN_FLAG_W,ALKALI,ALKALI_FLAG_W,TRITUM,TRITUM_FLAG_W,HELIUM,HELIUM_FLAG_W,DELHE3,DELHE3_FLAG_W,NEON,NEON_FLAG_W,THETA
,,,,,,,,,,,METERS,DBAR,DEG C,PSS-78,,PSS-78,,UMOL/KG,,UMOL/KG,,UMOL/KG,,UMOL/KG,,UMOL/KG,,PMOL/KG,,PMOL/KG,,UMOL/KG,,UMOL/KG,,TU,,NMOL/KG,,PERCNT,,NMOL/KG,,DEG C
35A3CITHER3_2 ,A13        ,210     ,  1,1          ,32         ,2,19950321,0027,  -4.9992,   5.0007,     4947,      4.7,  29.4200,  35.2180,2,  35.2200,2,    193.8,2,    195.3,2,     2.10,2,     0.00,2,     0.04,2,    1.547,2,    0.870,2,   1954.8,2,   2315.6,2,     -999,9,     -999,9,     -999,9,     -999,9,  29.4190
35A3CITHER3_2 ,A13        ,210     ,  1,2          ,31         ,2,19950321,0027,  -4.9992,   5.0007,     4947,     46.0,  21.3470,  35.8200,2,  35.8060,3,    234.5,2,    203.6,3,     2.80,2,     0.50,2,     0.29,2,    1.634,2,    0.823,2,   2081.2,2,   2356.2,2,     -999,9,     -999,9,     -999,9,     -999,9,  21.3380
35A3CITHER3_2 ,A13        ,210     ,  1,3          ,30         ,2,19950321,0027,  -4.9992,   5.0007,     4947,    120.9,  15.0520,  35.5450,2,  35.5420,2,     76.3,2,     76.5,2,     8.60,2,    22.10,2,     1.36,2,    1.240,2,    0.619,2,   2195.5,2,   2336.9,2,     -999,9,     -999,9,     -999,9,     -999,9,  15.0340
35A3CITHER3_2 ,A13        ,210     ,  1,4          ,29         ,2,19950321,0027,  -4.9992,   5.0007,     4947,    196.1,  13.6830,  35.3710,2,  35.3640,3,     63.5,2,     59.6,2,    10.10,2,    25.80,2,     1.57,2,    0.901,2,    0.464,2,   2211.8,2,     -999,9,     -999,9,     -999,9,     -999,9,     -999,9,  13.6550
35A3CITHER3_2 ,A13        ,210     ,  1,5          ,28         ,2,19950321,0027,  -4.9992,   5.0007,     4947,    345.0,   9.3870,  34.8740,2,  34.8810,3,     31.9,2,     34.1,2,    17.10,2,    35.70,2,     2.16,2,    0.151,2,    0.090,2,   2252.9,2,     -999,9,     -999,9,     -999,9,     -999,9,     -999,9,   9.3480
35A3CITHER3_2 ,A13        ,210     ,  1,6          ,27         ,2,19950321,0027,  -4.9992,   5.0007,     4947,    445.5,   7.8610,  34.7180,2,  34.7170,2,     54.5,2,     56.5,2,    20.90,2,    36.60,2,     2.26,2,    0.074,2,    0.047,2,   2249.2,2,   2295.9,2,     -999,9,     -999,9,     -999,9,     -999,9,   7.8160
35A3CITHER3_2 ,A13        ,210     ,  1,7          ,26         ,2,19950321,0027,  -4.9992,   5.0007,     4947,    595.7,   6.1090,  34.5600,2,  34.5590,2,     95.9,2,     95.3,2,    25.10,2,    36.60,2,     2.35,2,    0.036,2,    0.022,2,   2239.0,2,     -999,9,     -999,9,     -999,9,     -999,9,     -999,9,   6.0560
35A3CITHER3_2 ,A13        ,210     ,  1,8          ,25         ,2,19950321,0027,  -4.9992,   5.0007,     4947,    745.1,   5.0370,  34.5010,2,  34.4890,3,    121.8,2,    121.5,2,    29.80,2,    36.20,2,     2.35,2,    0.014,2,    0.011,2,   2232.0,2,   2296.5,2,     -999,9,     -999,9,     -999,9,     -999,9,   4.9760
35A3CITHER3_2 ,A13        ,210     ,  1,9          ,24         ,2,19950321,0027,  -4.9992,   5.0007,     4947,    994.9,   4.3060,  34.6000,2,  34.6010,2,    149.0,2,    147.5,2,    33.60,2,    33.00,2,     2.19,2,    0.001,2,    0.004,2,   2227.5,2,   2307.3,2,     -999,9,     -999,9,     -999,9,     -999,9,   4.2280
35A3CITHER3_2 ,A13        ,210     ,  1,10         ,23         ,2,19950321,0027,  -4.9992,   5.0007,     4947,   1195.8,   4.2540,  34.7790,2,  34.7620,3,    175.6,2,    171.7,2,    29.00,2,    28.60,2,     1.89,2,    0.007,2,    0.008,2,   2211.2,2,     -999,9,     -999,9,     -999,9,     -999,9,     -999,9,   4.1590
35A3CITHER3_2 ,A13        ,210     ,  1,11         ,22         ,2,19950321,0027,  -4.9992,   5.0007,     4947,   1395.0,   4.1230,  34.9060,2,  34.9030,2,    210.1,2,    206.7,2,    23.50,2,    23.50,2,     1.55,2,    0.010,2,    0.010,2,   2190.2,2,     -999,9,     -999,9,     -999,9,     -999,9,     -999,9,   4.0110
35A3CITHER3_2 ,A13        ,210     ,  1,12         ,21         ,2,19950321,0027,  -4.9992,   5.0007,     4947,   1594.9,   3.8860,  34.9390,2,  34.9420,2,    227.2,2,    224.6,2,    22.20,2,    21.70,2,     1.42,2,    0.007,2,    0.021,2,   2181.1,2,     -999,9,     -999,9,     -999,9,     -999,9,     -999,9,   3.7590
35A3CITHER3_2 ,A13        ,210     ,  1,14         ,19         ,2,19950321,0027,  -4.9992,   5.0007,     4947,   1795.1,   3.6590,  34.9460,2,  34.9480,2,    234.2,2,    231.2,2,    23.70,2,    21.10,2,     1.36,2,    0.000,2,   -0.003,2,   2178.5,2,     -999,9,     -999,9,     -999,9,     -999,9,     -999,9,   3.5160
35A3CITHER3_2 ,A13        ,210     ,  1,13         ,20         ,2,19950321,0027,  -4.9992,   5.0007,     4947,   1795.3,   3.6590,  34.9450,2,  34.9470,2,    234.2,2,    231.2,2,    23.70,2,    21.30,2,     1.38,2,    0.000,2,    0.003,2,     -999,9,     -999,9,     -999,9,     -999,9,     -999,9,     -999,9,   3.5160
35A3CITHER3_2 ,A13        ,210     ,  1,15         ,18         ,2,19950321,0027,  -4.9992,   5.0007,     4947,   1995.0,   3.4330,  34.9470,2,  34.9490,2,    239.4,2,    236.8,2,    25.70,2,    20.60,2,     1.32,2,    0.001,2,    0.008,2,   2178.8,2,   2334.7,2,     -999,9,     -999,9,     -999,9,     -999,9,   3.2740
35A3CITHER3_2 ,A13        ,210     ,  1,16         ,17         ,2,19950321,0027,  -4.9992,   5.0007,     4947,   2195.0,   3.2030,  34.9380,2,  34.9390,2,    238.5,2,    236.9,2,    29.50,2,    21.30,2,     1.36,2,    0.006,2,    0.007,2,   2181.2,2,     -999,9,     -999,9,     -999,9,     -999,9,     -999,9,   3.0290
35A3CITHER3_2 ,A13        ,210     ,  1,17         ,16         ,2,19950321,0027,  -4.9992,   5.0007,     4947,   2395.4,   3.0280,  34.9290,2,  34.9310,2,    238.0,2,    236.3,2,    33.00,2,    21.20,2,     1.38,2,    0.004,2,    0.003,2,   2186.5,2,     -999,9,     -999,9,     -999,9,     -999,9,     -999,9,   2.8380
35A3CITHER3_2 ,A13        ,210     ,  1,18         ,15         ,2,19950321,0027,  -4.9992,   5.0007,     4947,   2594.8,   2.8610,  34.9210,2,  34.9220,2,    236.0,2,    234.5,2,    36.30,2,    21.70,2,     1.40,2,    0.002,2,    0.003,2,   2191.5,2,     -999,9,     -999,9,     -999,9,     -999,9,     -999,9,   2.6540
35A3CITHER3_2 ,A13        ,210     ,  1,19         ,14         ,2,19950321,0027,  -4.9992,   5.0007,     4947,   2796.9,   2.7110,  34.9130,2,  34.9140,2,    236.6,2,    235.4,2,    39.10,2,    21.60,2,     1.42,2,    0.004,2,     -999,9,   2195.3,2,     -999,9,     -999,9,     -999,9,     -999,9,     -999,9,   2.4870
35A3CITHER3_2 ,A13        ,210     ,  1,20         ,13         ,2,19950321,0027,  -4.9992,   5.0007,     4947,   2996.1,   2.6220,  34.9080,2,  34.9040,2,    236.2,2,    235.3,2,    41.40,2,    22.00,2,     1.42,2,    0.004,2,    0.002,2,   2197.4,2,   2342.4,2,     -999,9,     -999,9,     -999,9,     -999,9,   2.3800
35A3CITHER3_2 ,A13        ,210     ,  1,21         ,12         ,2,19950321,0027,  -4.9992,   5.0007,     4947,   3195.9,   2.5440,  34.9030,2,  34.9030,2,    235.7,2,    234.9,2,    43.60,2,    22.20,2,     1.43,2,    0.001,2,   -0.001,2,   2201.0,2,     -999,9,     -999,9,     -999,9,     -999,9,     -999,9,   2.2830
35A3CITHER3_2 ,A13        ,210     ,  1,22         ,11         ,2,19950321,0027,  -4.9992,   5.0007,     4947,   3396.4,   2.4800,  34.9000,2,  34.8960,2,    234.8,2,    234.3,2,    46.50,2,    22.40,2,     1.48,2,   -0.000,2,    0.009,2,   2202.7,2,     -999,9,     -999,9,     -999,9,     -999,9,     -999,9,   2.1990
35A3CITHER3_2 ,A13        ,210     ,  1,23         ,10         ,2,19950321,0027,  -4.9992,   5.0007,     4947,   3595.6,   2.4360,  34.8950,2,  34.8960,2,    234.4,2,    233.2,2,    47.30,2,    22.40,2,     1.43,2,    0.003,2,    0.002,2,   2207.5,2,     -999,9,     -999,9,     -999,9,     -999,9,     -999,9,   2.1350
35A3CITHER3_2 ,A13        ,210     ,  1,24         ,9          ,2,19950321,0027,  -4.9992,   5.0007,     4947,   3796.0,   2.3570,  34.8900,2,  34.8890,2,    226.0,2,    226.8,2,    52.40,2,    22.70,2,     1.43,2,    0.005,2,    0.000,2,   2219.3,2,     -999,9,     -999,9,     -999,9,     -999,9,     -999,9,   2.0360
35A3CITHER3_2 ,A13        ,210     ,  1,26         ,7          ,2,19950321,0027,  -4.9992,   5.0007,     4947,   3997.2,   2.3190,  34.8860,2,  34.8880,2,    223.2,2,    224.3,2,    53.20,2,    22.30,2,     1.50,2,    0.001,2,    0.000,2,   2227.2,2,   2361.9,2,     -999,9,     -999,9,     -999,9,     -999,9,   1.9760
35A3CITHER3_2 ,A13        ,210     ,  1,25         ,8          ,2,19950321,0027,  -4.9992,   5.0007,     4947,   3997.6,   2.3180,  34.8870,2,  34.8840,2,    223.3,2,    224.1,2,    54.50,2,    23.40,3,     1.44,2,    0.004,2,     -999,9,     -999,9,     -999,9,     -999,9,     -999,9,     -999,9,     -999,9,   1.9750
35A3CITHER3_2 ,A13        ,210     ,  1,27         ,6          ,2,19950321,0027,  -4.9992,   5.0007,     4947,   4196.8,   2.3160,  34.8850,2,  34.8850,2,    230.4,2,    231.1,2,    51.40,2,    22.10,2,     1.47,2,    0.000,2,    0.006,2,   2218.4,2,     -999,9,     -999,9,     -999,9,     -999,9,     -999,9,   1.9500
35A3CITHER3_2 ,A13        ,210     ,  1,28         ,5          ,2,19950321,0027,  -4.9992,   5.0007,     4947,   4397.1,   2.3210,  34.8820,2,  34.8820,2,    232.5,2,    232.1,2,    51.10,2,    20.90,3,     1.42,2,    0.000,2,    0.003,2,   2217.2,2,     -999,9,     -999,9,     -999,9,     -999,9,     -999,9,   1.9320
35A3CITHER3_2 ,A13        ,210     ,  1,29         ,4          ,2,19950321,0027,  -4.9992,   5.0007,     4947,   4597.2,   2.3310,  34.8790,2,  34.8750,2,    234.1,2,    234.3,2,    51.20,2,    21.80,2,     1.44,2,    0.002,2,    0.001,2,   2213.8,2,     -999,9,     -999,9,     -999,9,     -999,9,     -999,9,   1.9170
35A3CITHER3_2 ,A13        ,210     ,  1,30         ,3          ,2,19950321,0027,  -4.9992,   5.0007,     4947,   4798.2,   2.3450,  34.8770,2,  34.8790,2,    233.9,2,    233.9,2,    51.80,2,    20.80,3,     1.42,2,    0.000,2,    0.006,2,   2215.6,2,     -999,9,     -999,9,     -999,9,     -999,9,     -999,9,   1.9060
35A3CITHER3_2 ,A13        ,210     ,  1,31         ,2          ,2,19950321,0027,  -4.9992,   5.0007,     4947,   4898.5,   2.3420,  34.8760,2,  34.8770,2,    235.6,2,    236.1,2,    51.50,2,    22.00,2,     1.46,2,    0.003,2,    0.004,2,   2213.6,2,     -999,9,     -999,9,     -999,9,     -999,9,     -999,9,   1.8910
35A3CITHER3_2 ,A13        ,210     ,  1,32         ,1          ,2,19950321,0027,  -4.9992,   5.0007,     4947,   4994.2,   2.3450,  34.8760,2,  34.8790,2,    236.6,2,    237.9,2,    51.40,2,    20.60,3,     1.44,2,    0.002,2,    0.004,2,   2211.5,2,   2357.7,2,     -999,9,     -999,9,     -999,9,     -999,9,   1.8820