BOTTLE,20211216CCHDHYDRO
EXPOCODE,SECT_ID,STNNBR,CASTNO,SAMPNO,BTLNBR,BTLNBR_FLAG_W,DATE,TIME,LATITUDE,LONGITUDE,DEPTH,CTDPRS,CTDTMP,CTDSAL,CTDSAL_FLAG_W,SALNTY,SALNTY_FLAG_W,CTDOXY,CTDOXY_FLAG_W,OXYGEN,OXYGEN_FLAG_W,SILCAT,SILCAT_FLAG_W,NITRAT,NITRAT_FLAG_W,PHSPHT,PHSPHT_FLAG_W,CFC-11,CFC-11_FLAG_W,CFC-12,CFC-12_FLAG_W,TCARBN,TCARBN_FLAG_W,ALKALI,ALKALI_FLAG_W,TRITUM,TRITUM_FLAG_W,HELIUM,HELIUM_FLAG_W,DELHE3,DELHE3_FLAG_W,NEON,NEON_FLAG_W,THETA
,,,,,,,,,,,METERS,DBAR,DEG C,PSS-78,,PSS-78,,UMOL/KG,,UMOL/KG,,UMOL/KG,,UMOL/KG,,UMOL/KG,,PMOL/KG,,PMOL/KG,,UMOL/KG,,UMOL/KG,,TU,,NMOL/KG,,PERCNT,,NMOL/KG,,DEG C
35A3CITHER3_2 ,A13        ,196     ,  1,1          ,32         ,2,19950317,0941, -12.0027,   4.9967,     5517,      5.8,  27.5100,  36.5790,2,  36.5800,2,    199.9,2,    198.4,2,     2.90,2,     0.00,2,     0.11,2,    1.635,2,    0.893,2,     -999,9,     -999,9,     -999,9,     -999,9,     -999,9,     -999,9,  27.5090
35A3CITHER3_2 ,A13        ,196     ,  1,2          ,31         ,2,19950317,0941, -12.0027,   4.9967,     5517,     47.0,  19.5850,  36.3070,2,  36.2990,3,    253.3,2,    206.8,3,     3.80,2,     5.50,2,     0.45,2,    2.007,2,    1.012,2,     -999,9,     -999,9,     -999,9,     -999,9,     -999,9,     -999,9,  19.5760
35A3CITHER3_2 ,A13        ,196     ,  1,3          ,30         ,2,19950317,0941, -12.0027,   4.9967,     5517,    118.9,  12.7990,  35.2780,2,  35.2710,3,     59.6,2,     59.4,2,    10.90,2,    27.50,2,     1.75,2,    0.869,2,    0.447,2,     -999,9,     -999,9,     -999,9,     -999,9,     -999,9,     -999,9,  12.7830
35A3CITHER3_2 ,A13        ,196     ,  1,4          ,29         ,2,19950317,0941, -12.0027,   4.9967,     5517,    194.7,  11.5890,  35.1180,2,  35.1160,2,     58.4,2,     58.8,2,    12.70,2,    29.80,2,     1.77,2,    0.537,2,    0.290,2,     -999,9,     -999,9,     -999,9,     -999,9,     -999,9,     -999,9,  11.5640
35A3CITHER3_2 ,A13        ,196     ,  1,5          ,28         ,2,19950317,0941, -12.0027,   4.9967,     5517,    296.0,  10.2430,  34.9620,2,  34.9590,2,     32.7,2,     33.2,2,    15.80,2,    34.90,2,     2.11,2,    0.225,2,    0.151,2,     -999,9,     -999,9,     -999,9,     -999,9,     -999,9,     -999,9,  10.2080
35A3CITHER3_2 ,A13        ,196     ,  1,6          ,27         ,2,19950317,0941, -12.0027,   4.9967,     5517,    383.7,   8.9540,  34.8220,2,  34.8240,2,     47.7,2,     47.1,2,    17.70,2,    36.10,2,     2.18,2,    0.104,2,    0.065,2,     -999,9,     -999,9,     -999,9,     -999,9,     -999,9,     -999,9,   8.9120
35A3CITHER3_2 ,A13        ,196     ,  1,7          ,26         ,2,19950317,0941, -12.0027,   4.9967,     5517,    472.9,   7.8890,  34.7180,2,  34.7200,2,     40.4,2,     39.8,2,    20.70,2,    38.80,2,     2.40,2,    0.029,2,    0.025,2,     -999,9,     -999,9,     -999,9,     -999,9,     -999,9,     -999,9,   7.8410
35A3CITHER3_2 ,A13        ,196     ,  1,8          ,25         ,2,19950317,0941, -12.0027,   4.9967,     5517,    794.7,   4.7840,  34.5030,2,  34.4970,2,    106.4,2,    109.1,2,    32.20,2,    38.00,2,     2.43,2,    0.003,2,    0.002,2,     -999,9,     -999,9,     -999,9,     -999,9,     -999,9,     -999,9,   4.7200
35A3CITHER3_2 ,A13        ,196     ,  1,9          ,24         ,2,19950317,0941, -12.0027,   4.9967,     5517,    994.7,   4.1270,  34.5760,2,  34.5750,2,    138.2,2,    139.0,2,    35.50,2,    34.60,2,     2.15,3,    0.002,2,     -999,9,     -999,9,     -999,9,     -999,9,     -999,9,     -999,9,     -999,9,   4.0510
35A3CITHER3_2 ,A13        ,196     ,  1,10         ,23         ,2,19950317,0941, -12.0027,   4.9967,     5517,   1195.8,   3.9260,  34.7100,2,  34.6920,3,    166.0,2,    164.4,2,    33.70,2,    30.80,2,     1.98,2,    0.006,2,    0.003,2,     -999,9,     -999,9,     -999,9,     -999,9,     -999,9,     -999,9,   3.8340
35A3CITHER3_2 ,A13        ,196     ,  1,11         ,22         ,2,19950317,0941, -12.0027,   4.9967,     5517,   1394.3,   3.8270,  34.8270,2,  34.8310,2,    187.5,2,    188.3,2,    30.40,2,    26.90,2,     1.71,2,    0.010,2,    0.007,2,     -999,9,     -999,9,     -999,9,     -999,9,     -999,9,     -999,9,   3.7190
35A3CITHER3_2 ,A13        ,196     ,  1,12         ,21         ,2,19950317,0941, -12.0027,   4.9967,     5517,   1593.2,   3.7110,  34.8990,2,  34.9010,2,    207.0,2,    207.0,2,    27.70,2,    24.00,2,     1.51,2,    0.001,2,    0.001,2,     -999,9,     -999,9,     -999,9,     -999,9,     -999,9,     -999,9,   3.5860
35A3CITHER3_2 ,A13        ,196     ,  1,13         ,20         ,2,19950317,0941, -12.0027,   4.9967,     5517,   1798.4,   3.5310,  34.9190,2,  34.9220,2,    217.6,2,    216.3,2,    28.30,2,    22.90,2,     1.46,2,    0.000,2,    0.005,2,     -999,9,     -999,9,     -999,9,     -999,9,     -999,9,     -999,9,   3.3890
35A3CITHER3_2 ,A13        ,196     ,  1,14         ,19         ,2,19950317,0941, -12.0027,   4.9967,     5517,   1993.1,   3.3120,  34.9260,2,  34.9260,2,    222.6,2,    221.9,2,    31.20,2,    22.40,2,     1.45,2,    0.003,2,    0.003,2,     -999,9,     -999,9,     -999,9,     -999,9,     -999,9,     -999,9,   3.1550
35A3CITHER3_2 ,A13        ,196     ,  1,15         ,18         ,2,19950317,0941, -12.0027,   4.9967,     5517,   2197.1,   3.1120,  34.9230,2,  34.9250,2,    225.7,2,    225.7,2,    33.80,2,    22.20,2,     1.42,2,    0.004,2,    0.000,2,     -999,9,     -999,9,     -999,9,     -999,9,     -999,9,     -999,9,   2.9390
35A3CITHER3_2 ,A13        ,196     ,  1,16         ,17         ,2,19950317,0941, -12.0027,   4.9967,     5517,   2383.5,   2.9670,  34.9180,2,  34.9190,2,    230.9,2,    231.4,2,    35.80,2,    22.20,2,     1.42,2,    0.000,2,    0.000,2,     -999,9,     -999,9,     -999,9,     -999,9,     -999,9,     -999,9,   2.7790
35A3CITHER3_2 ,A13        ,196     ,  1,17         ,16         ,2,19950317,0941, -12.0027,   4.9967,     5517,   2594.8,   2.8200,  34.9130,2,  34.9160,2,    232.0,2,    231.8,2,    38.50,2,    22.00,2,     1.41,2,    0.003,2,    0.001,2,     -999,9,     -999,9,     -999,9,     -999,9,     -999,9,     -999,9,   2.6140
35A3CITHER3_2 ,A13        ,196     ,  1,18         ,15         ,2,19950317,0941, -12.0027,   4.9967,     5517,   2996.8,   2.5950,  34.9020,2,  34.8930,3,    232.4,2,    232.4,2,    43.80,2,    22.30,2,     1.43,2,    0.002,2,    0.000,2,     -999,9,     -999,9,     -999,9,     -999,9,     -999,9,     -999,9,   2.3530
35A3CITHER3_2 ,A13        ,196     ,  1,19         ,14         ,2,19950317,0941, -12.0027,   4.9967,     5517,   3196.9,   2.5090,  34.8980,2,  34.9000,2,    228.2,2,    228.1,2,    47.60,2,    22.70,2,     1.48,2,    0.000,2,    0.003,2,     -999,9,     -999,9,     -999,9,     -999,9,     -999,9,     -999,9,   2.2490
35A3CITHER3_2 ,A13        ,196     ,  1,20         ,13         ,2,19950317,0941, -12.0027,   4.9967,     5517,   3396.2,   2.4200,  34.8930,2,  34.8910,2,    225.3,2,    225.6,2,    51.10,2,    22.80,2,     1.48,2,    0.001,2,    0.000,2,     -999,9,     -999,9,     -999,9,     -999,9,     -999,9,     -999,9,   2.1410
35A3CITHER3_2 ,A13        ,196     ,  1,21         ,12         ,2,19950317,0941, -12.0027,   4.9967,     5517,   3596.0,   2.3620,  34.8910,2,  34.8920,2,    227.5,2,    228.5,2,    51.80,2,    23.10,2,     1.49,2,    0.001,2,    0.001,2,     -999,9,     -999,9,     -999,9,     -999,9,     -999,9,     -999,9,   2.0630
35A3CITHER3_2 ,A13        ,196     ,  1,22         ,11         ,2,19950317,0941, -12.0027,   4.9967,     5517,   3797.4,   2.3410,  34.8890,2,  34.8890,2,    230.5,2,    231.2,2,    51.40,2,    22.60,2,     1.43,2,    0.002,2,    0.004,2,     -999,9,     -999,9,     -999,9,     -999,9,     -999,9,     -999,9,   2.0200
35A3CITHER3_2 ,A13        ,196     ,  1,23         ,10         ,2,19950317,0941, -12.0027,   4.9967,     5517,   3996.4,   2.3380,  34.8890,2,  34.8890,2,    231.2,2,    231.9,2,    51.80,2,    22.70,2,     1.43,2,    0.002,2,    0.000,2,     -999,9,     -999,9,     -999,9,     -999,9,     -999,9,     -999,9,   1.9950
35A3CITHER3_2 ,A13        ,196     ,  1,24         ,9          ,2,19950317,0941, -12.0027,   4.9967,     5517,   4195.0,   2.3440,  34.8870,2,  34.8890,2,    232.0,2,    233.1,2,    52.20,2,    22.90,2,     1.47,2,    0.000,2,    0.000,2,     -999,9,     -999,9,     -999,9,     -999,9,     -999,9,     -999,9,   1.9780
35A3CITHER3_2 ,A13        ,196     ,  1,25         ,8          ,2,19950317,0941, -12.0027,   4.9967,     5517,   4395.7,   2.3530,  34.8850,2,  34.8880,2,    232.7,2,    233.4,2,    51.90,2,    22.80,2,     1.47,2,    0.004,2,    0.010,2,     -999,9,     -999,9,     -999,9,     -999,9,     -999,9,     -999,9,   1.9630
35A3CITHER3_2 ,A13        ,196     ,  1,26         ,7          ,2,19950317,0941, -12.0027,   4.9967,     5517,   4596.6,   2.3620,  34.8830,2,  34.8850,2,    233.5,2,    234.2,2,    52.10,2,    22.50,2,     1.47,2,    0.000,2,     -999,9,     -999,9,     -999,9,     -999,9,     -999,9,     -999,9,     -999,9,   1.9470
35A3CITHER3_2 ,A13        ,196     ,  1,27         ,6          ,2,19950317,0941, -12.0027,   4.9967,     5517,   4796.0,   2.3750,  34.8820,2,     -999,9,    234.4,2,    241.4,2,     -999,9,     -999,9,     -999,9,    0.001,2,    0.000,2,     -999,9,     -999,9,     -999,9,     -999,9,     -999,9,     -999,9,   1.9350
35A3CITHER3_2 ,A13        ,196     ,  1,28         ,5          ,2,19950317,0941, -12.0027,   4.9967,     5517,   5000.1,   2.3910,  34.8800,2,  34.8810,2,    235.5,2,    236.4,2,    52.20,2,    22.60,2,     1.45,2,    0.000,2,    0.000,2,     -999,9,     -999,9,     -999,9,     -999,9,     -999,9,     -999,9,   1.9250
35A3CITHER3_2 ,A13        ,196     ,  1,29         ,4          ,2,19950317,0941, -12.0027,   4.9967,     5517,   5199.7,   2.4090,  34.8780,2,  34.8830,2,    235.8,2,    236.3,2,    52.50,2,    22.30,2,     1.42,2,    0.005,2,    0.008,2,     -999,9,     -999,9,     -999,9,     -999,9,     -999,9,     -999,9,   1.9170
35A3CITHER3_2 ,A13        ,196     ,  1,30         ,3          ,2,19950317,0941, -12.0027,   4.9967,     5517,   5396.9,   2.4290,  34.8770,2,  34.8810,2,    236.4,2,    236.3,2,    52.80,2,    22.60,2,     1.45,2,    0.001,2,    0.004,2,     -999,9,     -999,9,     -999,9,     -999,9,     -999,9,     -999,9,   1.9110
35A3CITHER3_2 ,A13        ,196     ,  1,31         ,2          ,2,19950317,0941, -12.0027,   4.9967,     5517,   5499.8,   2.4420,  34.8780,2,  34.8800,2,    236.5,2,    236.2,2,    52.80,2,    22.60,2,     1.44,2,    0.001,2,     -999,9,     -999,9,     -999,9,     -999,9,     -999,9,     -999,9,     -999,9,   1.9100
35A3CITHER3_2 ,A13        ,196     ,  1,32         ,1          ,2,19950317,0941, -12.0027,   4.9967,     5517,   5595.4,   2.4540,  34.8770,2,  34.8800,2,    236.5,2,    236.6,2,    53.10,2,    22.80,2,     1.46,2,    0.001,2,    0.003,2,     -999,9,     -999,9,     -999,9,     -999,9,     -999,9,     -999,9,   1.9090