BOTTLE,20211216CCHDHYDRO
EXPOCODE,SECT_ID,STNNBR,CASTNO,SAMPNO,BTLNBR,BTLNBR_FLAG_W,DATE,TIME,LATITUDE,LONGITUDE,DEPTH,CTDPRS,CTDTMP,CTDSAL,CTDSAL_FLAG_W,SALNTY,SALNTY_FLAG_W,CTDOXY,CTDOXY_FLAG_W,OXYGEN,OXYGEN_FLAG_W,SILCAT,SILCAT_FLAG_W,NITRAT,NITRAT_FLAG_W,PHSPHT,PHSPHT_FLAG_W,CFC-11,CFC-11_FLAG_W,CFC-12,CFC-12_FLAG_W,TCARBN,TCARBN_FLAG_W,ALKALI,ALKALI_FLAG_W,TRITUM,TRITUM_FLAG_W,HELIUM,HELIUM_FLAG_W,DELHE3,DELHE3_FLAG_W,NEON,NEON_FLAG_W,THETA
,,,,,,,,,,,METERS,DBAR,DEG C,PSS-78,,PSS-78,,UMOL/KG,,UMOL/KG,,UMOL/KG,,UMOL/KG,,UMOL/KG,,PMOL/KG,,PMOL/KG,,UMOL/KG,,UMOL/KG,,TU,,NMOL/KG,,PERCNT,,NMOL/KG,,DEG C
35A3CITHER3_2 ,A13        ,145     ,  1,1          ,32         ,2,19950303,0456, -32.1053,   9.9995,     4987,      4.1,  21.5050,  35.7530,2,  35.7570,3,    220.9,2,    223.2,2,     2.60,2,     0.00,2,     0.11,2,    2.178,2,    1.112,2,   2034.0,2,   2341.7,2,     -999,9,     -999,9,     -999,9,     -999,9,  21.5040
35A3CITHER3_2 ,A13        ,145     ,  1,2          ,31         ,2,19950303,0456, -32.1053,   9.9995,     4987,     47.1,  21.4600,  35.7480,2,  35.7460,2,    230.9,2,    224.5,3,     2.60,2,     0.00,2,     0.10,2,    2.201,2,    1.119,2,   2033.7,2,   2341.9,2,     -999,9,     -999,9,     -999,9,     -999,9,  21.4510
35A3CITHER3_2 ,A13        ,145     ,  1,3          ,30         ,2,19950303,0456, -32.1053,   9.9995,     4987,    121.2,  16.0550,  35.5140,2,  35.5140,2,    237.6,2,    226.8,3,     3.70,2,     2.50,2,     0.31,2,    2.669,2,    1.309,2,   2065.4,2,   2330.9,2,     -999,9,     -999,9,     -999,9,     -999,9,  16.0360
35A3CITHER3_2 ,A13        ,145     ,  1,4          ,29         ,2,19950303,0456, -32.1053,   9.9995,     4987,    196.2,  15.1320,  35.4070,2,  35.4080,2,    223.7,2,    225.7,2,     4.00,2,     4.40,2,     0.39,2,    2.717,2,    1.311,2,   2075.2,2,   2320.9,2,     -999,9,     -999,9,     -999,9,     -999,9,  15.1020
35A3CITHER3_2 ,A13        ,145     ,  1,5          ,28         ,2,19950303,0456, -32.1053,   9.9995,     4987,    395.8,  11.8620,  35.0220,2,  35.0230,2,    214.8,2,    215.3,2,     6.00,2,    12.00,2,     0.85,2,    2.475,2,    1.157,2,   2110.7,2,     -999,9,     -999,9,     -999,9,     -999,9,     -999,9,  11.8100
35A3CITHER3_2 ,A13        ,145     ,  1,6          ,27         ,2,19950303,0456, -32.1053,   9.9995,     4987,    595.1,   8.6460,  34.6360,2,  34.6380,2,    208.8,2,    207.2,2,    10.50,2,    20.10,2,     1.35,2,    2.222,2,    1.012,2,   2142.7,2,   2288.6,2,     -999,9,     -999,9,     -999,9,     -999,9,   8.5820
35A3CITHER3_2 ,A13        ,145     ,  1,7          ,26         ,2,19950303,0456, -32.1053,   9.9995,     4987,    794.0,   5.5930,  34.3700,2,  34.3700,2,    214.7,2,    215.3,2,    18.90,2,    26.90,2,     1.81,2,    1.816,2,    0.814,2,   2167.2,2,     -999,9,     -999,9,     -999,9,     -999,9,     -999,9,   5.5250
35A3CITHER3_2 ,A13        ,145     ,  1,8          ,25         ,2,19950303,0456, -32.1053,   9.9995,     4987,    885.1,   4.6070,  34.3160,2,  34.3200,3,    223.2,2,    220.8,2,    24.00,2,    28.60,2,     1.90,2,    1.608,2,    0.715,2,   2174.3,2,     -999,9,     -999,9,     -999,9,     -999,9,     -999,9,   4.5370
35A3CITHER3_2 ,A13        ,145     ,  1,9          ,24         ,2,19950303,0456, -32.1053,   9.9995,     4987,    995.2,   4.0040,  34.3340,2,  34.3340,2,    213.3,2,    211.9,2,    31.50,2,    30.30,2,     2.04,2,    1.167,2,    0.518,2,   2190.9,2,   2298.9,2,     -999,9,     -999,9,     -999,9,     -999,9,   3.9290
35A3CITHER3_2 ,A13        ,145     ,  1,10         ,23         ,2,19950303,0456, -32.1053,   9.9995,     4987,   1188.0,   3.2520,  34.3900,2,  34.3910,2,    194.8,2,    197.1,2,    44.70,2,    32.10,2,     2.19,2,    0.658,2,    0.304,2,   2213.3,2,     -999,9,     -999,9,     -999,9,     -999,9,     -999,9,   3.1680
35A3CITHER3_2 ,A13        ,145     ,  1,11         ,22         ,2,19950303,0456, -32.1053,   9.9995,     4987,   1395.2,   2.9820,  34.5210,2,  34.5220,2,    180.4,2,    180.1,2,    57.80,2,    32.40,2,     2.19,2,    0.230,2,    0.109,2,   2233.8,2,     -999,9,     -999,9,     -999,9,     -999,9,     -999,9,   2.8830
35A3CITHER3_2 ,A13        ,145     ,  1,13         ,20         ,2,19950303,0456, -32.1053,   9.9995,     4987,   1595.3,   2.8380,  34.6380,2,  34.6380,2,    181.7,2,    180.9,2,    62.40,2,    31.30,2,     2.12,2,    0.070,2,    0.035,2,   2235.6,2,     -999,9,     -999,9,     -999,9,     -999,9,     -999,9,   2.7240
35A3CITHER3_2 ,A13        ,145     ,  1,12         ,21         ,2,19950303,0456, -32.1053,   9.9995,     4987,   1595.9,   2.8390,  34.6360,2,  34.6380,2,    181.8,2,    180.4,2,    62.30,2,    31.20,2,     2.10,2,    0.068,2,    0.037,2,     -999,9,     -999,9,     -999,9,     -999,9,     -999,9,     -999,9,   2.7250
35A3CITHER3_2 ,A13        ,145     ,  1,14         ,19         ,2,19950303,0456, -32.1053,   9.9995,     4987,   1795.1,   2.8070,  34.7300,2,  34.7320,2,    194.8,2,    193.0,2,    58.90,2,    28.70,2,     1.89,2,    0.026,2,    0.014,2,   2226.8,2,     -999,9,     -999,9,     -999,9,     -999,9,     -999,9,   2.6760
35A3CITHER3_2 ,A13        ,145     ,  1,15         ,18         ,2,19950303,0456, -32.1053,   9.9995,     4987,   1995.7,   2.7350,  34.7850,2,  34.7880,2,    203.6,2,    204.3,2,    54.90,2,    26.90,2,     1.78,2,    0.027,2,     -999,9,   2217.0,2,   2333.1,2,     -999,9,     -999,9,     -999,9,     -999,9,   2.5870
35A3CITHER3_2 ,A13        ,145     ,  1,16         ,17         ,2,19950303,0456, -32.1053,   9.9995,     4987,   2195.4,   2.6560,  34.8180,2,  34.8190,2,    212.1,2,    213.8,2,    53.50,2,    26.10,2,     1.75,2,    0.008,2,     -999,9,   2209.9,2,     -999,9,     -999,9,     -999,9,     -999,9,     -999,9,   2.4910
35A3CITHER3_2 ,A13        ,145     ,  1,17         ,16         ,2,19950303,0456, -32.1053,   9.9995,     4987,   2395.3,   2.5740,  34.8330,2,  34.8350,2,    220.0,2,    220.3,2,    52.70,2,    25.20,2,     1.67,2,    0.010,2,    0.006,2,   2207.6,2,     -999,9,     -999,9,     -999,9,     -999,9,     -999,9,   2.3920
35A3CITHER3_2 ,A13        ,145     ,  1,18         ,15         ,2,19950303,0456, -32.1053,   9.9995,     4987,   2597.4,   2.4800,  34.8390,2,  34.8390,2,    223.5,2,    223.5,2,    54.30,2,    24.90,2,     1.66,2,    0.009,2,     -999,9,   2207.0,2,     -999,9,     -999,9,     -999,9,     -999,9,     -999,9,   2.2810
35A3CITHER3_2 ,A13        ,145     ,  1,19         ,14         ,2,19950303,0456, -32.1053,   9.9995,     4987,   2795.3,   2.3960,  34.8450,2,  34.8450,2,    226.8,2,    226.1,2,    55.30,2,    24.70,2,     1.64,2,    0.004,2,    0.003,2,   2206.9,2,     -999,9,     -999,9,     -999,9,     -999,9,     -999,9,   2.1790
35A3CITHER3_2 ,A13        ,145     ,  1,20         ,13         ,2,19950303,0456, -32.1053,   9.9995,     4987,   2996.7,   2.3230,  34.8470,2,  34.8460,2,    227.6,2,    227.7,2,    56.40,2,    24.20,2,     1.62,2,    0.004,2,     -999,9,   2207.8,2,   2341.5,2,     -999,9,     -999,9,     -999,9,     -999,9,   2.0880
35A3CITHER3_2 ,A13        ,145     ,  1,21         ,12         ,2,19950303,0456, -32.1053,   9.9995,     4987,   3195.3,   2.2470,  34.8450,2,  34.8460,2,    228.5,2,    228.3,2,    58.80,2,    24.50,2,     1.64,2,    0.003,2,    0.007,2,   2209.5,2,     -999,9,     -999,9,     -999,9,     -999,9,     -999,9,   1.9930
35A3CITHER3_2 ,A13        ,145     ,  1,22         ,11         ,2,19950303,0456, -32.1053,   9.9995,     4987,   3396.6,   2.1770,  34.8430,2,  34.8420,2,    229.2,2,    228.5,2,    61.30,2,    24.60,2,     1.62,2,    0.005,2,    0.012,3,   2211.3,2,     -999,9,     -999,9,     -999,9,     -999,9,     -999,9,   1.9040
35A3CITHER3_2 ,A13        ,145     ,  1,23         ,10         ,2,19950303,0456, -32.1053,   9.9995,     4987,   3594.1,   1.9870,  34.8260,2,  34.8270,2,    226.6,2,    225.6,2,    69.30,2,    25.80,2,     1.71,2,    0.005,2,    0.012,3,   2218.5,2,     -999,9,     -999,9,     -999,9,     -999,9,     -999,9,   1.6980
35A3CITHER3_2 ,A13        ,145     ,  1,24         ,9          ,2,19950303,0456, -32.1053,   9.9995,     4987,   3797.3,   1.7200,  34.8000,2,  34.8010,2,    223.2,2,    222.9,2,    80.90,2,    26.60,2,     1.79,2,    0.005,2,    0.006,2,   2229.2,2,     -999,9,     -999,9,     -999,9,     -999,9,     -999,9,   1.4160
35A3CITHER3_2 ,A13        ,145     ,  1,25         ,8          ,2,19950303,0456, -32.1053,   9.9995,     4987,   3997.1,   1.4430,  34.7730,2,  34.7710,2,    220.2,2,    220.4,2,    91.80,2,    28.20,2,     1.89,2,    0.004,2,    0.002,2,   2237.0,2,   2359.2,2,     -999,9,     -999,9,     -999,9,     -999,9,   1.1250
35A3CITHER3_2 ,A13        ,145     ,  1,26         ,7          ,2,19950303,0456, -32.1053,   9.9995,     4987,   4197.2,   1.2190,  34.7520,2,  34.7510,2,    217.8,2,    218.0,2,   100.40,2,    29.00,2,     1.96,2,    0.008,2,    0.001,2,   2244.5,2,     -999,9,     -999,9,     -999,9,     -999,9,     -999,9,   0.8860
35A3CITHER3_2 ,A13        ,145     ,  1,27         ,6          ,2,19950303,0456, -32.1053,   9.9995,     4987,   4397.7,   1.1450,  34.7430,2,  34.7420,2,    217.0,2,    217.7,2,   103.80,2,    29.40,2,     1.98,2,    0.010,2,    0.008,2,   2249.8,2,     -999,9,     -999,9,     -999,9,     -999,9,     -999,9,   0.7920
35A3CITHER3_2 ,A13        ,145     ,  1,28         ,5          ,2,19950303,0456, -32.1053,   9.9995,     4987,   4597.5,   1.0940,  34.7350,2,  34.7360,2,    216.8,2,    217.6,2,   106.50,2,    29.70,2,     2.00,2,    0.013,2,    0.005,2,   2251.7,2,     -999,9,     -999,9,     -999,9,     -999,9,     -999,9,   0.7200
35A3CITHER3_2 ,A13        ,145     ,  1,29         ,4          ,2,19950303,0456, -32.1053,   9.9995,     4987,   4797.3,   1.1000,  34.7360,2,  34.7360,2,    216.9,2,    217.7,2,   107.00,2,    29.70,2,     2.02,2,    0.022,2,    0.012,2,   2252.0,2,     -999,9,     -999,9,     -999,9,     -999,9,     -999,9,   0.7030
35A3CITHER3_2 ,A13        ,145     ,  1,30         ,3          ,2,19950303,0456, -32.1053,   9.9995,     4987,   4996.7,   1.1150,  34.7330,2,  34.7350,2,    217.4,2,    217.2,2,   109.30,2,    29.50,2,     2.02,2,    0.016,2,    0.004,2,   2252.3,2,     -999,9,     -999,9,     -999,9,     -999,9,     -999,9,   0.6940
35A3CITHER3_2 ,A13        ,145     ,  1,31         ,2          ,2,19950303,0456, -32.1053,   9.9995,     4987,   5049.9,   1.1180,  34.7330,2,  34.7350,2,    216.3,2,    217.5,2,   107.50,2,    29.70,2,     2.00,2,    0.014,2,    0.015,2,     -999,9,     -999,9,     -999,9,     -999,9,     -999,9,     -999,9,   0.6900
35A3CITHER3_2 ,A13        ,145     ,  1,32         ,1          ,2,19950303,0456, -32.1053,   9.9995,     4987,   5050.4,   1.1180,  34.7330,2,  34.7350,2,    216.3,2,    217.5,2,   107.50,2,    29.50,2,     1.98,2,    0.014,2,    0.008,2,   2253.4,2,   2366.7,2,     -999,9,     -999,9,     -999,9,     -999,9,   0.6900