BOTTLE,20211216CCHDHYDRO
EXPOCODE,SECT_ID,STNNBR,CASTNO,SAMPNO,BTLNBR,BTLNBR_FLAG_W,DATE,TIME,LATITUDE,LONGITUDE,DEPTH,CTDPRS,CTDTMP,CTDSAL,CTDSAL_FLAG_W,SALNTY,SALNTY_FLAG_W,CTDOXY,CTDOXY_FLAG_W,OXYGEN,OXYGEN_FLAG_W,SILCAT,SILCAT_FLAG_W,NITRAT,NITRAT_FLAG_W,PHSPHT,PHSPHT_FLAG_W,CFC-11,CFC-11_FLAG_W,CFC-12,CFC-12_FLAG_W,TCARBN,TCARBN_FLAG_W,ALKALI,ALKALI_FLAG_W,TRITUM,TRITUM_FLAG_W,HELIUM,HELIUM_FLAG_W,DELHE3,DELHE3_FLAG_W,NEON,NEON_FLAG_W,THETA
,,,,,,,,,,,METERS,DBAR,DEG C,PSS-78,,PSS-78,,UMOL/KG,,UMOL/KG,,UMOL/KG,,UMOL/KG,,UMOL/KG,,PMOL/KG,,PMOL/KG,,UMOL/KG,,UMOL/KG,,TU,,NMOL/KG,,PERCNT,,NMOL/KG,,DEG C
35A3CITHER3_2 ,A13        ,164     ,  1,1          ,32         ,2,19950310,0455, -24.0425,   7.9155,     4700,      4.9,  22.7430,  35.4470,2,  35.4470,2,    215.5,2,    217.4,2,     2.70,2,     0.00,2,     0.31,2,    2.062,2,    1.110,2,   2033.9,2,   2334.6,2,     -999,9,     -999,9,     -999,9,     -999,9,  22.7420
35A3CITHER3_2 ,A13        ,164     ,  1,2          ,31         ,2,19950310,0455, -24.0425,   7.9155,     4700,     46.1,  22.7130,  35.4480,2,  35.4220,3,    220.8,2,    222.9,2,     3.20,2,     0.00,2,     0.25,2,     -999,9,     -999,9,   2034.0,2,   2338.8,2,     -999,9,     -999,9,     -999,9,     -999,9,  22.7040
35A3CITHER3_2 ,A13        ,164     ,  1,3          ,30         ,2,19950310,0455, -24.0425,   7.9155,     4700,    119.3,  13.9860,  35.1890,2,  35.1860,2,    201.5,2,    202.7,2,     5.30,2,     9.80,2,     0.76,2,    2.708,2,    1.320,2,   2103.3,2,   2315.9,2,     -999,9,     -999,9,     -999,9,     -999,9,  13.9690
35A3CITHER3_2 ,A13        ,164     ,  1,4          ,29         ,2,19950310,0455, -24.0425,   7.9155,     4700,    196.7,  11.8450,  35.0130,2,  35.0080,3,    182.5,2,    186.7,3,     7.50,2,    15.00,2,     1.03,2,    2.400,2,    1.140,2,   2130.0,2,   2303.3,2,     -999,9,     -999,9,     -999,9,     -999,9,  11.8200
35A3CITHER3_2 ,A13        ,164     ,  1,5          ,28         ,2,19950310,0455, -24.0425,   7.9155,     4700,    295.8,   9.8620,  34.7900,2,  34.7940,2,    170.9,2,    171.9,2,    10.70,2,    20.60,2,     1.41,2,    1.981,2,    0.940,2,   2153.8,2,     -999,9,     -999,9,     -999,9,     -999,9,     -999,9,   9.8280
35A3CITHER3_2 ,A13        ,164     ,  1,6          ,27         ,2,19950310,0455, -24.0425,   7.9155,     4700,    395.6,   8.0080,  34.6150,2,  34.6130,2,    154.0,2,    153.1,2,    16.10,2,    27.20,2,     1.82,2,    1.403,2,    0.666,2,   2183.1,2,     -999,9,     -999,9,     -999,9,     -999,9,     -999,9,   7.9680
35A3CITHER3_2 ,A13        ,164     ,  1,7          ,26         ,2,19950310,0455, -24.0425,   7.9155,     4700,    475.5,   6.7030,  34.5410,2,  34.5440,2,    120.3,2,    119.7,2,    21.20,2,    33.90,2,     2.21,2,    0.614,2,    0.303,2,   2216.8,2,     -999,9,     -999,9,     -999,9,     -999,9,     -999,9,   6.6590
35A3CITHER3_2 ,A13        ,164     ,  1,8          ,25         ,2,19950310,0455, -24.0425,   7.9155,     4700,    596.0,   5.3880,  34.4500,2,  34.4600,3,    135.6,2,    136.1,2,    26.90,2,    35.20,2,     2.28,2,    0.266,2,    0.141,2,   2218.2,2,   2292.8,2,     -999,9,     -999,9,     -999,9,     -999,9,   5.3380
35A3CITHER3_2 ,A13        ,164     ,  1,9          ,24         ,2,19950310,0455, -24.0425,   7.9155,     4700,    795.1,   4.2200,  34.4500,2,  34.4500,2,    157.2,2,    156.9,2,    35.50,2,    34.90,2,     2.29,2,    0.079,2,    0.041,2,   2219.5,2,     -999,9,     -999,9,     -999,9,     -999,9,     -999,9,   4.1600
35A3CITHER3_2 ,A13        ,164     ,  1,10         ,23         ,2,19950310,0455, -24.0425,   7.9155,     4700,    996.0,   3.6520,  34.5280,2,  34.5270,2,    165.2,2,    168.2,2,    42.30,2,    33.30,2,     2.26,2,    0.043,2,    0.052,2,   2222.0,2,   2309.7,2,     -999,9,     -999,9,     -999,9,     -999,9,   3.5790
35A3CITHER3_2 ,A13        ,164     ,  1,12         ,21         ,2,19950310,0455, -24.0425,   7.9155,     4700,   1196.3,   3.3990,  34.6390,2,  34.6390,2,    180.2,2,    179.1,2,    45.40,2,    31.20,2,     2.05,2,    0.015,2,    0.014,2,     -999,9,     -999,9,     -999,9,     -999,9,     -999,9,     -999,9,   3.3120
35A3CITHER3_2 ,A13        ,164     ,  1,11         ,22         ,2,19950310,0455, -24.0425,   7.9155,     4700,   1198.5,   3.3890,  34.6400,2,  34.6400,2,    180.6,2,    179.3,2,    44.40,2,    31.00,2,     2.09,2,     -999,9,     -999,9,   2220.6,2,     -999,9,     -999,9,     -999,9,     -999,9,     -999,9,   3.3020
35A3CITHER3_2 ,A13        ,164     ,  1,13         ,20         ,2,19950310,0455, -24.0425,   7.9155,     4700,   1398.0,   3.3750,  34.7620,2,  34.7610,2,    194.2,2,    193.0,2,    40.80,2,    28.30,2,     1.85,2,    0.002,2,    0.004,2,   2209.5,2,     -999,9,     -999,9,     -999,9,     -999,9,     -999,9,   3.2710
35A3CITHER3_2 ,A13        ,164     ,  1,14         ,19         ,2,19950310,0455, -24.0425,   7.9155,     4700,   1596.6,   3.2790,  34.8240,2,  34.8230,2,    207.0,2,    206.8,2,    38.50,2,    26.00,2,     1.59,2,   -0.001,2,    0.004,2,   2201.3,2,     -999,9,     -999,9,     -999,9,     -999,9,     -999,9,   3.1590
35A3CITHER3_2 ,A13        ,164     ,  1,15         ,18         ,2,19950310,0455, -24.0425,   7.9155,     4700,   1792.2,   3.2610,  34.8670,2,  34.8670,2,    217.1,2,    216.3,2,    35.20,2,    24.70,2,     1.61,2,     -999,9,     -999,9,   2193.8,2,     -999,9,     -999,9,     -999,9,     -999,9,     -999,9,   3.1240
35A3CITHER3_2 ,A13        ,164     ,  1,18         ,15         ,2,19950310,0455, -24.0425,   7.9155,     4700,   1995.3,   3.1050,  34.8830,2,  34.8850,2,    225.5,2,    224.8,2,    36.30,2,    23.40,2,     1.50,2,     -999,9,     -999,9,   2189.8,2,     -999,9,     -999,9,     -999,9,     -999,9,     -999,9,   2.9510
35A3CITHER3_2 ,A13        ,164     ,  1,17         ,16         ,2,19950310,0455, -24.0425,   7.9155,     4700,   1995.8,   3.1050,  34.8830,2,  34.8850,2,    225.5,2,    225.0,2,    36.00,2,    24.00,2,     1.54,2,     -999,9,     -999,9,     -999,9,   2338.3,2,     -999,9,     -999,9,     -999,9,     -999,9,   2.9510
35A3CITHER3_2 ,A13        ,164     ,  1,16         ,17         ,2,19950310,0455, -24.0425,   7.9155,     4700,   1995.9,   3.1050,  34.8830,2,  34.8840,2,    225.5,2,    225.2,2,    36.00,2,    24.00,2,     1.56,2,     -999,9,     -999,9,   2190.4,2,     -999,9,     -999,9,     -999,9,     -999,9,     -999,9,   2.9510
35A3CITHER3_2 ,A13        ,164     ,  1,19         ,14         ,2,19950310,0455, -24.0425,   7.9155,     4700,   2194.7,   2.9720,  34.8900,2,  34.8910,2,    231.0,2,    231.0,2,    37.50,2,    23.30,2,     1.51,2,     -999,9,     -999,9,   2187.1,2,     -999,9,     -999,9,     -999,9,     -999,9,     -999,9,   2.8020
35A3CITHER3_2 ,A13        ,164     ,  1,20         ,13         ,2,19950310,0455, -24.0425,   7.9155,     4700,   2395.5,   2.8300,  34.8860,2,  34.8870,2,    232.2,2,    232.6,2,    40.10,2,    23.10,2,     1.50,2,     -999,9,     -999,9,   2190.0,2,     -999,9,     -999,9,     -999,9,     -999,9,     -999,9,   2.6430
35A3CITHER3_2 ,A13        ,164     ,  1,21         ,12         ,2,19950310,0455, -24.0425,   7.9155,     4700,   2597.3,   2.6860,  34.8820,2,  34.8810,2,    234.2,2,    233.4,2,    43.20,2,    23.40,2,     1.53,2,     -999,9,     -999,9,   2192.0,2,     -999,9,     -999,9,     -999,9,     -999,9,     -999,9,   2.4830
35A3CITHER3_2 ,A13        ,164     ,  1,22         ,11         ,2,19950310,0455, -24.0425,   7.9155,     4700,   2796.3,   2.5750,  34.8770,2,  34.8750,2,    234.3,2,    233.9,2,    46.10,2,    23.40,2,     1.52,2,     -999,9,     -999,9,   2195.5,2,     -999,9,     -999,9,     -999,9,     -999,9,     -999,9,   2.3540
35A3CITHER3_2 ,A13        ,164     ,  1,23         ,10         ,2,19950310,0455, -24.0425,   7.9155,     4700,   2996.0,   2.4790,  34.8700,2,  34.8680,2,    233.6,2,    233.3,2,    49.00,2,    23.80,2,     1.54,2,     -999,9,     -999,9,   2198.5,2,   2342.9,2,     -999,9,     -999,9,     -999,9,     -999,9,   2.2400
35A3CITHER3_2 ,A13        ,164     ,  1,24         ,9          ,2,19950310,0455, -24.0425,   7.9155,     4700,   3196.2,   2.4220,  34.8720,2,  34.8680,2,    233.2,2,    233.1,2,    50.80,2,    23.60,2,     1.50,2,     -999,9,     -999,9,   2200.8,2,     -999,9,     -999,9,     -999,9,     -999,9,     -999,9,   2.1640
35A3CITHER3_2 ,A13        ,164     ,  1,25         ,8          ,2,19950310,0455, -24.0425,   7.9155,     4700,   3396.4,   2.3650,  34.8680,2,  34.8670,2,    232.5,2,    232.2,2,    52.80,2,    23.80,2,     1.50,2,     -999,9,     -999,9,   2204.6,2,     -999,9,     -999,9,     -999,9,     -999,9,     -999,9,   2.0870
35A3CITHER3_2 ,A13        ,164     ,  1,26         ,7          ,2,19950310,0455, -24.0425,   7.9155,     4700,   3596.5,   2.2680,  34.8590,2,  34.8620,2,    231.1,2,    230.9,2,    56.20,2,    23.40,2,     1.45,2,     -999,9,     -999,9,   2209.6,2,     -999,9,     -999,9,     -999,9,     -999,9,     -999,9,   1.9710
35A3CITHER3_2 ,A13        ,164     ,  1,27         ,6          ,2,19950310,0455, -24.0425,   7.9155,     4700,   3795.2,   2.1140,  34.8430,2,  34.8430,2,    229.3,2,    228.5,2,    63.00,2,    25.10,2,     1.66,2,    0.001,2,    0.012,3,   2216.2,2,     -999,9,     -999,9,     -999,9,     -999,9,     -999,9,   1.8000
35A3CITHER3_2 ,A13        ,164     ,  1,28         ,5          ,2,19950310,0455, -24.0425,   7.9155,     4700,   3994.7,   1.7660,  34.8060,2,  34.8060,2,    224.0,2,    223.8,2,    78.40,2,    26.60,2,     1.74,2,    0.004,2,    0.005,2,   2228.7,2,   2359.9,2,     -999,9,     -999,9,     -999,9,     -999,9,   1.4390
35A3CITHER3_2 ,A13        ,164     ,  1,29         ,4          ,2,19950310,0455, -24.0425,   7.9155,     4700,   4195.9,   1.3940,  34.7680,2,  34.7690,2,    218.7,2,    219.9,2,    92.40,2,    28.80,2,     1.89,2,    0.005,2,    0.002,2,   2240.7,2,     -999,9,     -999,9,     -999,9,     -999,9,     -999,9,   1.0560
35A3CITHER3_2 ,A13        ,164     ,  1,30         ,3          ,2,19950310,0455, -24.0425,   7.9155,     4700,   4397.1,   1.1980,  34.7480,2,  34.7510,2,    216.5,2,    217.8,2,   100.70,2,    30.00,2,     1.97,2,    0.001,2,    0.003,2,   2248.0,2,     -999,9,     -999,9,     -999,9,     -999,9,     -999,9,   0.8440
35A3CITHER3_2 ,A13        ,164     ,  1,31         ,2          ,2,19950310,0455, -24.0425,   7.9155,     4700,   4597.6,   1.1430,  34.7410,2,  34.7430,2,    215.6,2,    217.1,2,   103.60,2,    28.30,3,     1.96,2,    0.030,3,     -999,9,   2250.8,2,     -999,9,     -999,9,     -999,9,     -999,9,     -999,9,   0.7680
35A3CITHER3_2 ,A13        ,164     ,  1,32         ,1          ,2,19950310,0455, -24.0425,   7.9155,     4700,   4752.5,   1.1350,  34.7380,2,  34.7410,2,    214.3,2,    216.5,2,   105.10,2,    29.40,2,     1.98,2,    0.006,2,    0.015,3,   2255.8,2,   2368.8,2,     -999,9,     -999,9,     -999,9,     -999,9,   0.7420