BOTTLE,20211216CCHDHYDRO
EXPOCODE,SECT_ID,STNNBR,CASTNO,SAMPNO,BTLNBR,BTLNBR_FLAG_W,DATE,TIME,LATITUDE,LONGITUDE,DEPTH,CTDPRS,CTDTMP,CTDSAL,CTDSAL_FLAG_W,SALNTY,SALNTY_FLAG_W,CTDOXY,CTDOXY_FLAG_W,OXYGEN,OXYGEN_FLAG_W,SILCAT,SILCAT_FLAG_W,NITRAT,NITRAT_FLAG_W,PHSPHT,PHSPHT_FLAG_W,CFC-11,CFC-11_FLAG_W,CFC-12,CFC-12_FLAG_W,TCARBN,TCARBN_FLAG_W,ALKALI,ALKALI_FLAG_W,TRITUM,TRITUM_FLAG_W,HELIUM,HELIUM_FLAG_W,DELHE3,DELHE3_FLAG_W,NEON,NEON_FLAG_W,THETA
,,,,,,,,,,,METERS,DBAR,DEG C,PSS-78,,PSS-78,,UMOL/KG,,UMOL/KG,,UMOL/KG,,UMOL/KG,,UMOL/KG,,PMOL/KG,,PMOL/KG,,UMOL/KG,,UMOL/KG,,TU,,NMOL/KG,,PERCNT,,NMOL/KG,,DEG C
35A3CITHER3_2 ,A13        ,134     ,  1,1          ,32         ,2,19950228,0858, -37.4993,   9.9988,     5038,      7.5,  19.0470,  35.3460,2,  35.3450,2,    231.3,2,    233.8,2,     1.50,2,     0.00,2,     0.14,2,    2.469,2,    1.240,2,     -999,9,   2325.9,2,     -999,9,     -999,9,     -999,9,     -999,9,  19.0460
35A3CITHER3_2 ,A13        ,134     ,  1,2          ,31         ,2,19950228,0858, -37.4993,   9.9988,     5038,     46.0,  19.2880,  35.4510,2,  35.4300,3,    239.4,2,    232.1,3,     1.50,2,     0.00,2,     0.12,2,    2.480,2,    1.239,2,     -999,9,     -999,9,     -999,9,     -999,9,     -999,9,     -999,9,  19.2800
35A3CITHER3_2 ,A13        ,134     ,  1,3          ,30         ,2,19950228,0858, -37.4993,   9.9988,     5038,    120.3,  15.8360,  35.4360,2,  35.4180,3,    234.0,2,    227.7,3,     3.00,3,     3.00,2,     0.31,2,    2.800,2,    1.357,2,     -999,9,   2328.4,2,     -999,9,     -999,9,     -999,9,     -999,9,  15.8170
35A3CITHER3_2 ,A13        ,134     ,  1,4          ,29         ,2,19950228,0858, -37.4993,   9.9988,     5038,    197.1,  13.2740,  35.0310,2,  35.0330,2,    237.8,2,    240.4,2,     1.80,2,     5.00,2,     0.46,2,    3.124,2,    1.502,2,     -999,9,     -999,9,     -999,9,     -999,9,     -999,9,     -999,9,  13.2470
35A3CITHER3_2 ,A13        ,134     ,  1,5          ,28         ,2,19950228,0858, -37.4993,   9.9988,     5038,    295.1,  12.7220,  35.1340,2,  35.1320,2,    214.1,2,    219.0,3,     4.70,3,    10.50,2,     0.73,2,    2.559,2,    1.196,2,     -999,9,     -999,9,     -999,9,     -999,9,     -999,9,     -999,9,  12.6820
35A3CITHER3_2 ,A13        ,134     ,  1,6          ,27         ,2,19950228,0858, -37.4993,   9.9988,     5038,    394.4,  11.2470,  34.9490,2,  34.9510,2,    216.7,2,    216.7,2,     5.40,2,    13.40,2,     0.93,2,    2.489,2,    1.160,2,     -999,9,     -999,9,     -999,9,     -999,9,     -999,9,     -999,9,  11.1970
35A3CITHER3_2 ,A13        ,134     ,  1,7          ,26         ,2,19950228,0858, -37.4993,   9.9988,     5038,    595.4,   8.0020,  34.5610,2,  34.5610,2,    213.9,2,    214.3,2,    10.00,2,    21.70,2,     1.40,2,    2.453,2,    1.116,2,     -999,9,     -999,9,     -999,9,     -999,9,     -999,9,     -999,9,   7.9410
35A3CITHER3_2 ,A13        ,134     ,  1,8          ,25         ,2,19950228,0858, -37.4993,   9.9988,     5038,    794.4,   5.2600,  34.3380,2,  34.3360,2,    222.8,2,    223.5,2,    18.60,2,    27.60,2,     1.80,2,    2.034,2,    0.902,2,     -999,9,     -999,9,     -999,9,     -999,9,     -999,9,     -999,9,   5.1940
35A3CITHER3_2 ,A13        ,134     ,  1,9          ,24         ,2,19950228,0858, -37.4993,   9.9988,     5038,    893.8,   4.4140,  34.2940,2,  34.2990,2,    226.2,2,    227.3,2,    23.00,2,    28.90,2,     1.87,2,    1.805,2,    0.798,2,     -999,9,     -999,9,     -999,9,     -999,9,     -999,9,     -999,9,   4.3450
35A3CITHER3_2 ,A13        ,134     ,  1,10         ,23         ,2,19950228,0858, -37.4993,   9.9988,     5038,    994.9,   4.0470,  34.3130,2,  34.3170,2,    219.8,2,    219.6,2,    28.60,2,    29.60,2,     1.99,2,    1.429,2,    0.640,2,     -999,9,   2303.8,2,     -999,9,     -999,9,     -999,9,     -999,9,   3.9720
35A3CITHER3_2 ,A13        ,134     ,  1,11         ,22         ,2,19950228,0858, -37.4993,   9.9988,     5038,   1194.7,   3.2290,  34.3560,2,  34.3550,2,    206.0,2,    208.1,2,    40.40,2,    31.70,2,     2.12,2,    0.923,2,    0.418,2,     -999,9,     -999,9,     -999,9,     -999,9,     -999,9,     -999,9,   3.1440
35A3CITHER3_2 ,A13        ,134     ,  1,12         ,21         ,2,19950228,0858, -37.4993,   9.9988,     5038,   1397.2,   2.7870,  34.4490,2,  34.4500,2,    190.0,2,    191.0,2,    52.90,2,    32.80,2,     2.20,2,    0.484,2,    0.218,2,     -999,9,     -999,9,     -999,9,     -999,9,     -999,9,     -999,9,   2.6900
35A3CITHER3_2 ,A13        ,134     ,  1,13         ,20         ,2,19950228,0858, -37.4993,   9.9988,     5038,   1596.5,   2.7860,  34.5860,2,  34.5890,2,    180.6,2,    181.3,2,    60.20,3,    32.00,2,     2.13,2,    0.130,2,    0.058,2,     -999,9,     -999,9,     -999,9,     -999,9,     -999,9,     -999,9,   2.6730
35A3CITHER3_2 ,A13        ,134     ,  1,14         ,19         ,2,19950228,0858, -37.4993,   9.9988,     5038,   1794.7,   2.7320,  34.6770,2,  34.6770,2,    185.0,2,    186.0,2,    61.10,2,    29.60,2,     2.00,2,    0.050,2,    0.015,2,     -999,9,     -999,9,     -999,9,     -999,9,     -999,9,     -999,9,   2.6020
35A3CITHER3_2 ,A13        ,134     ,  1,15         ,18         ,2,19950228,0858, -37.4993,   9.9988,     5038,   1997.6,   2.7220,  34.7480,2,  34.7520,2,    196.1,2,    197.3,2,    57.70,2,    28.90,2,     1.91,2,    0.026,2,    0.013,2,     -999,9,     -999,9,     -999,9,     -999,9,     -999,9,     -999,9,   2.5740
35A3CITHER3_2 ,A13        ,134     ,  1,16         ,17         ,2,19950228,0858, -37.4993,   9.9988,     5038,   2196.1,   2.6770,  34.7990,2,  34.7990,2,    207.0,2,    208.1,2,    54.90,2,    27.40,2,     1.79,2,    0.014,2,    0.007,2,     -999,9,     -999,9,     -999,9,     -999,9,     -999,9,     -999,9,   2.5120
35A3CITHER3_2 ,A13        ,134     ,  1,17         ,16         ,2,19950228,0858, -37.4993,   9.9988,     5038,   2394.9,   2.6030,  34.8230,2,  34.8240,2,    214.9,2,    215.8,2,    53.30,2,    26.40,2,     1.69,2,    0.012,2,    0.006,2,     -999,9,     -999,9,     -999,9,     -999,9,     -999,9,     -999,9,   2.4210
35A3CITHER3_2 ,A13        ,134     ,  1,18         ,15         ,2,19950228,0858, -37.4993,   9.9988,     5038,   2595.7,   2.5130,  34.8340,2,  34.8350,2,    219.8,2,    220.8,2,    53.30,2,    25.40,2,     1.66,2,    0.008,2,    0.005,2,     -999,9,     -999,9,     -999,9,     -999,9,     -999,9,     -999,9,   2.3130
35A3CITHER3_2 ,A13        ,134     ,  1,19         ,14         ,2,19950228,0858, -37.4993,   9.9988,     5038,   2794.9,   2.4300,  34.8400,2,  34.8410,2,    223.8,2,    224.7,2,    54.40,2,    25.40,2,     1.64,2,    0.028,3,    0.010,3,     -999,9,     -999,9,     -999,9,     -999,9,     -999,9,     -999,9,   2.2130
35A3CITHER3_2 ,A13        ,134     ,  1,20         ,13         ,2,19950228,0858, -37.4993,   9.9988,     5038,   2998.9,   2.3420,  34.8440,2,  34.8430,2,    225.7,2,    226.1,2,    56.30,2,    25.10,2,     1.64,2,    0.006,2,    0.005,2,     -999,9,   2347.9,2,     -999,9,     -999,9,     -999,9,     -999,9,   2.1060
35A3CITHER3_2 ,A13        ,134     ,  1,21         ,12         ,2,19950228,0858, -37.4993,   9.9988,     5038,   3195.8,   2.2680,  34.8440,2,  34.8430,2,    227.1,2,    228.1,2,    58.40,2,    25.30,2,     1.64,2,    0.021,3,    0.006,2,     -999,9,     -999,9,     -999,9,     -999,9,     -999,9,     -999,9,   2.0140
35A3CITHER3_2 ,A13        ,134     ,  1,22         ,11         ,2,19950228,0858, -37.4993,   9.9988,     5038,   3397.7,   2.1480,  34.8380,2,  34.8370,2,    227.0,2,    227.2,2,    62.70,2,    25.60,2,     1.67,2,    0.008,2,    0.005,2,     -999,9,     -999,9,     -999,9,     -999,9,     -999,9,     -999,9,   1.8760
35A3CITHER3_2 ,A13        ,134     ,  1,23         ,10         ,2,19950228,0858, -37.4993,   9.9988,     5038,   3596.0,   1.9680,  34.8210,2,  34.8220,2,    224.6,2,    224.8,2,    69.20,2,    26.20,2,     1.73,2,    0.011,2,    0.008,2,     -999,9,     -999,9,     -999,9,     -999,9,     -999,9,     -999,9,   1.6790
35A3CITHER3_2 ,A13        ,134     ,  1,24         ,9          ,2,19950228,0858, -37.4993,   9.9988,     5038,   3797.8,   1.6690,  34.7930,2,  34.7930,2,    221.3,2,    222.5,2,    81.90,2,    27.80,2,     1.83,2,    0.008,2,    0.005,2,     -999,9,     -999,9,     -999,9,     -999,9,     -999,9,     -999,9,   1.3670
35A3CITHER3_2 ,A13        ,134     ,  1,25         ,8          ,2,19950228,0858, -37.4993,   9.9988,     5038,   3997.4,   1.3470,  34.7650,2,  34.7650,2,    218.6,2,    219.2,2,    93.00,2,    28.30,2,     1.89,2,    0.017,2,    0.009,2,     -999,9,     -999,9,     -999,9,     -999,9,     -999,9,     -999,9,   1.0320
35A3CITHER3_2 ,A13        ,134     ,  1,26         ,7          ,2,19950228,0858, -37.4993,   9.9988,     5038,   3997.6,   1.3450,  34.7640,2,  34.7640,2,    218.6,2,    219.6,2,    93.80,2,    28.90,2,     1.89,2,    0.015,2,    0.008,2,     -999,9,     -999,9,     -999,9,     -999,9,     -999,9,     -999,9,   1.0300
35A3CITHER3_2 ,A13        ,134     ,  1,27         ,6          ,2,19950228,0858, -37.4993,   9.9988,     5038,   4198.5,   1.1940,  34.7490,2,  34.7500,2,    217.8,2,    218.4,2,    99.70,2,    29.00,2,     1.97,2,    0.019,2,    0.010,2,     -999,9,     -999,9,     -999,9,     -999,9,     -999,9,     -999,9,   0.8620
35A3CITHER3_2 ,A13        ,134     ,  1,28         ,5          ,2,19950228,0858, -37.4993,   9.9988,     5038,   4397.6,   1.0920,  34.7390,2,  34.7400,2,    217.3,2,    218.6,2,   103.50,2,    29.60,2,     1.98,2,    0.025,2,    0.010,2,     -999,9,     -999,9,     -999,9,     -999,9,     -999,9,     -999,9,   0.7410
35A3CITHER3_2 ,A13        ,134     ,  1,29         ,4          ,2,19950228,0858, -37.4993,   9.9988,     5038,   4597.5,   1.0700,  34.7350,2,  34.7370,2,    217.5,2,    218.0,2,   105.20,2,    29.80,2,     2.01,2,    0.026,2,    0.015,2,     -999,9,     -999,9,     -999,9,     -999,9,     -999,9,     -999,9,   0.6970
35A3CITHER3_2 ,A13        ,134     ,  1,30         ,3          ,2,19950228,0858, -37.4993,   9.9988,     5038,   4797.8,   1.0630,  34.7320,2,  34.7340,2,    217.8,2,    218.0,2,   106.50,2,    29.80,2,     2.04,2,    0.024,2,    0.015,2,     -999,9,     -999,9,     -999,9,     -999,9,     -999,9,     -999,9,   0.6670
35A3CITHER3_2 ,A13        ,134     ,  1,31         ,2          ,2,19950228,0858, -37.4993,   9.9988,     5038,   4995.9,   1.0540,  34.7300,2,  34.7320,2,    218.4,2,    217.8,2,   107.90,2,    30.20,2,     2.04,2,    0.034,2,    0.016,2,     -999,9,     -999,9,     -999,9,     -999,9,     -999,9,     -999,9,   0.6350
35A3CITHER3_2 ,A13        ,134     ,  1,32         ,1          ,2,19950228,0858, -37.4993,   9.9988,     5038,   5104.6,   1.0420,  34.7270,2,  34.7280,2,    218.6,2,    218.2,2,   108.50,2,    29.70,2,     2.05,2,    0.042,2,    0.017,2,     -999,9,   2375.8,2,     -999,9,     -999,9,     -999,9,     -999,9,   0.6100