BOTTLE,20211216CCHDHYDRO
EXPOCODE,SECT_ID,STNNBR,CASTNO,SAMPNO,BTLNBR,BTLNBR_FLAG_W,DATE,TIME,LATITUDE,LONGITUDE,DEPTH,CTDPRS,CTDTMP,CTDSAL,CTDSAL_FLAG_W,SALNTY,SALNTY_FLAG_W,CTDOXY,CTDOXY_FLAG_W,OXYGEN,OXYGEN_FLAG_W,SILCAT,SILCAT_FLAG_W,NITRAT,NITRAT_FLAG_W,PHSPHT,PHSPHT_FLAG_W,CFC-11,CFC-11_FLAG_W,CFC-12,CFC-12_FLAG_W,TCARBN,TCARBN_FLAG_W,ALKALI,ALKALI_FLAG_W,TRITUM,TRITUM_FLAG_W,HELIUM,HELIUM_FLAG_W,DELHE3,DELHE3_FLAG_W,NEON,NEON_FLAG_W,THETA
,,,,,,,,,,,METERS,DBAR,DEG C,PSS-78,,PSS-78,,UMOL/KG,,UMOL/KG,,UMOL/KG,,UMOL/KG,,UMOL/KG,,PMOL/KG,,PMOL/KG,,UMOL/KG,,UMOL/KG,,TU,,NMOL/KG,,PERCNT,,NMOL/KG,,DEG C
35A3CITHER3_2 ,A13        ,142     ,  1,2          ,31         ,2,19950302,1121, -33.4972,   9.9987,     4995,      3.6,  21.7270,  35.7570,2,  35.7570,2,    218.1,2,    222.9,3,     3.00,2,     0.00,2,     0.07,2,    2.182,2,    1.112,2,   2033.9,2,   2344.8,2,     -999,9,     -999,9,     -999,9,     -999,9,  21.7260
35A3CITHER3_2 ,A13        ,142     ,  1,1          ,32         ,2,19950302,1121, -33.4972,   9.9987,     4995,      4.1,  21.7290,  35.7540,2,  35.7570,3,    218.1,2,    223.4,3,     2.90,2,     0.00,2,     0.08,2,    2.178,2,    1.111,2,   2033.4,2,     -999,9,     -999,9,     -999,9,     -999,9,     -999,9,  21.7280
35A3CITHER3_2 ,A13        ,142     ,  1,3          ,30         ,2,19950302,1121, -33.4972,   9.9987,     4995,     46.5,  21.4040,  35.7550,2,  35.7580,2,    229.0,2,    223.7,3,     3.20,2,     0.00,2,     0.06,2,    2.212,2,    1.128,2,   2033.0,2,   2343.1,2,     -999,9,     -999,9,     -999,9,     -999,9,  21.3950
35A3CITHER3_2 ,A13        ,142     ,  1,4          ,29         ,2,19950302,1121, -33.4972,   9.9987,     4995,    121.3,  15.9890,  35.4850,2,  35.4950,3,    222.4,2,    226.0,2,     4.50,2,     2.80,2,     0.25,2,    2.616,2,    1.274,2,   2058.8,2,   2327.4,2,     -999,9,     -999,9,     -999,9,     -999,9,  15.9700
35A3CITHER3_2 ,A13        ,142     ,  1,5          ,28         ,2,19950302,1121, -33.4972,   9.9987,     4995,    195.5,  14.3480,  35.3000,2,  35.3010,2,    219.0,2,    226.8,3,     5.10,2,     6.00,2,     0.47,2,    2.729,2,    1.355,2,   2080.1,2,   2318.5,2,     -999,9,     -999,9,     -999,9,     -999,9,  14.3190
35A3CITHER3_2 ,A13        ,142     ,  1,6          ,27         ,2,19950302,1121, -33.4972,   9.9987,     4995,    395.0,  10.9250,  34.8970,2,  34.8980,2,    215.5,2,    215.6,2,     7.20,2,    13.40,2,     0.89,2,    2.407,2,    1.119,2,   2112.9,2,     -999,9,     -999,9,     -999,9,     -999,9,     -999,9,  10.8760
35A3CITHER3_2 ,A13        ,142     ,  1,7          ,26         ,2,19950302,1121, -33.4972,   9.9987,     4995,    595.9,   7.5840,  34.5400,2,  34.5410,2,    203.1,2,    204.2,2,    14.30,2,    23.30,2,     1.47,2,    1.965,2,    0.891,2,   2151.1,2,   2290.9,2,     -999,9,     -999,9,     -999,9,     -999,9,   7.5240
35A3CITHER3_2 ,A13        ,142     ,  1,8          ,25         ,2,19950302,1121, -33.4972,   9.9987,     4995,    795.6,   4.9870,  34.3560,2,  34.3560,2,    214.9,2,    210.0,3,    24.00,2,    28.10,2,     1.82,2,    1.568,2,    0.695,2,   2176.2,2,     -999,9,     -999,9,     -999,9,     -999,9,     -999,9,   4.9220
35A3CITHER3_2 ,A13        ,142     ,  1,9          ,24         ,2,19950302,1121, -33.4972,   9.9987,     4995,    894.6,   4.1120,  34.3160,2,  34.3160,2,    218.2,2,    217.5,2,    28.90,2,    29.90,2,     1.92,2,    1.359,2,    0.612,2,   2182.7,2,     -999,9,     -999,9,     -999,9,     -999,9,     -999,9,   4.0450
35A3CITHER3_2 ,A13        ,142     ,  1,10         ,23         ,2,19950302,1121, -33.4972,   9.9987,     4995,    996.4,   3.8210,  34.3640,2,  34.3640,2,    206.6,2,    200.0,3,    36.40,2,    31.30,2,     2.04,2,    0.844,2,    0.383,2,   2198.2,2,   2303.2,2,     -999,9,     -999,9,     -999,9,     -999,9,   3.7470
35A3CITHER3_2 ,A13        ,142     ,  1,11         ,22         ,2,19950302,1121, -33.4972,   9.9987,     4995,   1195.2,   3.3300,  34.4620,2,  34.4630,2,    181.9,2,    185.0,2,    48.30,2,    32.30,2,     2.15,2,    0.322,2,    0.151,2,   2220.4,2,     -999,9,     -999,9,     -999,9,     -999,9,     -999,9,   3.2440
35A3CITHER3_2 ,A13        ,142     ,  1,12         ,21         ,2,19950302,1121, -33.4972,   9.9987,     4995,   1394.7,   3.0030,  34.5660,2,  34.5640,2,    180.7,2,    179.9,2,    56.20,2,    31.50,2,     2.11,2,    0.113,2,    0.055,2,   2229.3,2,     -999,9,     -999,9,     -999,9,     -999,9,     -999,9,   2.9040
35A3CITHER3_2 ,A13        ,142     ,  1,13         ,20         ,2,19950302,1121, -33.4972,   9.9987,     4995,   1594.4,   2.8780,  34.6650,2,  34.6650,2,    187.1,2,    186.2,2,    56.80,2,    30.60,2,     1.98,2,    0.040,2,    0.026,2,   2226.5,2,     -999,9,     -999,9,     -999,9,     -999,9,     -999,9,   2.7630
35A3CITHER3_2 ,A13        ,142     ,  1,14         ,19         ,2,19950302,1121, -33.4972,   9.9987,     4995,   1794.4,   2.8360,  34.7480,2,  34.7490,2,    198.0,2,    198.3,2,    53.90,2,    28.10,2,     1.83,2,    0.018,2,    0.013,2,   2217.0,2,     -999,9,     -999,9,     -999,9,     -999,9,     -999,9,   2.7050
35A3CITHER3_2 ,A13        ,142     ,  1,15         ,18         ,2,19950302,1121, -33.4972,   9.9987,     4995,   1994.7,   2.7980,  34.7990,2,  34.7990,2,    208.7,2,    209.1,2,    50.60,2,    26.40,2,     1.72,2,    0.007,2,    0.002,2,   2209.0,2,   2342.2,2,     -999,9,     -999,9,     -999,9,     -999,9,   2.6490
35A3CITHER3_2 ,A13        ,142     ,  1,16         ,17         ,2,19950302,1121, -33.4972,   9.9987,     4995,   2195.0,   2.7140,  34.8300,2,  34.8300,2,    217.5,2,    218.2,2,    49.90,2,    25.50,2,     1.60,2,    0.002,2,    0.005,2,   2202.8,2,     -999,9,     -999,9,     -999,9,     -999,9,     -999,9,   2.5480
35A3CITHER3_2 ,A13        ,142     ,  1,17         ,16         ,2,19950302,1121, -33.4972,   9.9987,     4995,   2393.4,   2.6060,  34.8420,2,  34.8430,2,    222.1,2,    223.2,2,    49.90,2,    23.90,2,     1.57,2,    0.010,2,     -999,9,   2200.8,2,     -999,9,     -999,9,     -999,9,     -999,9,     -999,9,   2.4240
35A3CITHER3_2 ,A13        ,142     ,  1,18         ,15         ,2,19950302,1121, -33.4972,   9.9987,     4995,   2594.8,   2.4990,  34.8470,2,  34.8470,2,    226.3,2,    226.3,2,    52.60,2,    24.40,2,     1.57,2,    0.000,2,    0.005,2,   2201.2,2,     -999,9,     -999,9,     -999,9,     -999,9,     -999,9,   2.3000
35A3CITHER3_2 ,A13        ,142     ,  1,19         ,14         ,2,19950302,1121, -33.4972,   9.9987,     4995,   2795.2,   2.4120,  34.8490,2,  34.8490,2,    228.3,2,    228.7,2,    52.60,2,    23.90,2,     1.50,2,    0.006,2,    0.004,2,     -999,9,     -999,9,     -999,9,     -999,9,     -999,9,     -999,9,   2.1950
35A3CITHER3_2 ,A13        ,142     ,  1,20         ,13         ,2,19950302,1121, -33.4972,   9.9987,     4995,   2795.5,   2.4110,  34.8490,2,  34.8480,2,    228.3,2,    228.5,2,    52.60,2,    24.40,2,     1.57,2,    0.002,2,    0.004,2,   2201.8,2,     -999,9,     -999,9,     -999,9,     -999,9,     -999,9,   2.1940
35A3CITHER3_2 ,A13        ,142     ,  1,21         ,12         ,2,19950302,1121, -33.4972,   9.9987,     4995,   2996.7,   2.3550,  34.8540,2,  34.8540,2,    230.5,2,    230.5,2,    54.20,2,    24.40,2,     1.57,2,    0.013,3,    0.007,3,   2201.7,2,     -999,9,     -999,9,     -999,9,     -999,9,     -999,9,   2.1190
35A3CITHER3_2 ,A13        ,142     ,  1,22         ,11         ,2,19950302,1121, -33.4972,   9.9987,     4995,   3196.1,   2.2990,  34.8540,2,  34.8540,2,    231.4,2,    230.8,2,    55.30,2,    24.50,2,     1.57,2,   -0.000,2,   -0.004,2,   2203.2,2,   2346.0,2,     -999,9,     -999,9,     -999,9,     -999,9,   2.0440
35A3CITHER3_2 ,A13        ,142     ,  1,23         ,10         ,2,19950302,1121, -33.4972,   9.9987,     4995,   3395.6,   2.2250,  34.8510,2,  34.8510,2,    231.9,2,    230.6,2,    57.80,2,    23.90,2,     1.55,2,    0.001,2,     -999,9,   2206.8,2,     -999,9,     -999,9,     -999,9,     -999,9,     -999,9,   1.9510
35A3CITHER3_2 ,A13        ,142     ,  1,24         ,9          ,2,19950302,1121, -33.4972,   9.9987,     4995,   3596.6,   2.1110,  34.8410,2,  34.8400,2,    229.1,2,    228.4,2,    62.70,2,    25.10,2,     1.60,2,    0.006,2,    0.008,2,   2213.1,2,     -999,9,     -999,9,     -999,9,     -999,9,     -999,9,   1.8180
35A3CITHER3_2 ,A13        ,142     ,  1,25         ,8          ,2,19950302,1121, -33.4972,   9.9987,     4995,   3798.0,   1.9050,  34.8190,2,  34.8200,2,    225.6,2,    225.4,2,    71.00,2,    26.30,2,     1.72,2,    0.001,2,    0.004,2,   2221.0,2,     -999,9,     -999,9,     -999,9,     -999,9,     -999,9,   1.5960
35A3CITHER3_2 ,A13        ,142     ,  1,26         ,7          ,2,19950302,1121, -33.4972,   9.9987,     4995,   3995.9,   1.5630,  34.7830,2,  34.7850,2,    221.3,2,    220.5,2,    88.20,2,    27.30,2,     1.82,2,    0.006,2,    0.007,2,   2233.2,2,   2358.0,2,     -999,9,     -999,9,     -999,9,     -999,9,   1.2420
35A3CITHER3_2 ,A13        ,142     ,  1,27         ,6          ,2,19950302,1121, -33.4972,   9.9987,     4995,   4197.0,   1.2990,  34.7580,2,  34.7590,2,    219.0,2,    219.1,2,    97.90,2,    28.10,2,     1.88,2,    0.004,2,    0.007,2,   2241.8,2,     -999,9,     -999,9,     -999,9,     -999,9,     -999,9,   0.9640
35A3CITHER3_2 ,A13        ,142     ,  1,28         ,5          ,2,19950302,1121, -33.4972,   9.9987,     4995,   4397.5,   1.1850,  34.7460,2,  34.7470,2,    217.9,2,    217.8,2,   102.20,2,    27.10,3,     1.85,3,    0.004,2,    0.002,2,   2246.9,2,     -999,9,     -999,9,     -999,9,     -999,9,     -999,9,   0.8310
35A3CITHER3_2 ,A13        ,142     ,  1,29         ,4          ,2,19950302,1121, -33.4972,   9.9987,     4995,   4597.3,   1.1460,  34.7400,2,  34.7420,2,    217.6,2,    217.2,2,   104.80,2,    29.80,2,     1.98,2,    0.009,2,    0.008,2,   2248.9,2,     -999,9,     -999,9,     -999,9,     -999,9,     -999,9,   0.7710
35A3CITHER3_2 ,A13        ,142     ,  1,30         ,3          ,2,19950302,1121, -33.4972,   9.9987,     4995,   4795.9,   1.1300,  34.7380,2,  34.7380,2,    217.5,2,    216.9,2,   106.90,2,    27.70,3,     1.91,3,    0.007,2,    0.005,2,   2250.2,2,     -999,9,     -999,9,     -999,9,     -999,9,     -999,9,   0.7320
35A3CITHER3_2 ,A13        ,142     ,  1,31         ,2          ,2,19950302,1121, -33.4972,   9.9987,     4995,   4997.1,   1.1370,  34.7360,2,  34.7360,2,    217.6,2,    216.9,2,   106.60,2,    29.40,2,     2.00,2,    0.012,2,    0.008,2,   2250.7,2,     -999,9,     -999,9,     -999,9,     -999,9,     -999,9,   0.7150
35A3CITHER3_2 ,A13        ,142     ,  1,32         ,1          ,2,19950302,1121, -33.4972,   9.9987,     4995,   5065.8,   1.1440,  34.7360,2,  34.7360,2,    215.9,2,    217.2,2,   107.40,2,    29.90,2,     2.00,2,    0.012,2,    0.008,2,   2250.9,2,   2369.6,2,     -999,9,     -999,9,     -999,9,     -999,9,   0.7140