BOTTLE,20211216CCHDHYDRO
EXPOCODE,SECT_ID,STNNBR,CASTNO,SAMPNO,BTLNBR,BTLNBR_FLAG_W,DATE,TIME,LATITUDE,LONGITUDE,DEPTH,CTDPRS,CTDTMP,CTDSAL,CTDSAL_FLAG_W,SALNTY,SALNTY_FLAG_W,CTDOXY,CTDOXY_FLAG_W,OXYGEN,OXYGEN_FLAG_W,SILCAT,SILCAT_FLAG_W,NITRAT,NITRAT_FLAG_W,PHSPHT,PHSPHT_FLAG_W,CFC-11,CFC-11_FLAG_W,CFC-12,CFC-12_FLAG_W,TCARBN,TCARBN_FLAG_W,ALKALI,ALKALI_FLAG_W,TRITUM,TRITUM_FLAG_W,HELIUM,HELIUM_FLAG_W,DELHE3,DELHE3_FLAG_W,NEON,NEON_FLAG_W,THETA
,,,,,,,,,,,METERS,DBAR,DEG C,PSS-78,,PSS-78,,UMOL/KG,,UMOL/KG,,UMOL/KG,,UMOL/KG,,UMOL/KG,,PMOL/KG,,PMOL/KG,,UMOL/KG,,UMOL/KG,,TU,,NMOL/KG,,PERCNT,,NMOL/KG,,DEG C
35A3CITHER3_2 ,A13        ,178     ,  1,1          ,32         ,2,19950312,2006, -20.3550,   5.2582,     5094,      6.0,  24.2480,  36.1160,2,  36.1180,2,    210.3,2,    212.3,2,     3.10,2,     0.00,2,     0.20,2,    1.905,2,    1.014,2,     -999,9,     -999,9,     -999,9,     -999,9,     -999,9,     -999,9,  24.2470
35A3CITHER3_2 ,A13        ,178     ,  1,2          ,31         ,2,19950312,2006, -20.3550,   5.2582,     5094,     48.7,  18.2110,  35.4740,2,  35.4930,3,    227.1,2,    220.4,3,     4.20,2,     3.30,2,     0.60,3,    2.531,2,    1.264,2,     -999,9,     -999,9,     -999,9,     -999,9,     -999,9,     -999,9,  18.2030
35A3CITHER3_2 ,A13        ,178     ,  1,3          ,30         ,2,19950312,2006, -20.3550,   5.2582,     5094,    118.5,  14.2580,  35.2610,2,  35.2530,3,    206.4,2,    195.5,3,     6.30,2,    10.90,2,     0.78,2,    2.604,2,    1.257,2,     -999,9,     -999,9,     -999,9,     -999,9,     -999,9,     -999,9,  14.2410
35A3CITHER3_2 ,A13        ,178     ,  1,4          ,29         ,2,19950312,2006, -20.3550,   5.2582,     5094,    164.6,  13.4840,  35.3120,2,  35.3080,2,     13.6,2,      3.3,3,    14.90,3,    30.10,2,     2.21,3,    1.157,2,    0.581,2,     -999,9,     -999,9,     -999,9,     -999,9,     -999,9,     -999,9,  13.4610
35A3CITHER3_2 ,A13        ,178     ,  1,5          ,28         ,2,19950312,2006, -20.3550,   5.2582,     5094,    198.1,  13.0260,  35.2690,2,  35.2690,2,      4.5,2,     -999,9,    15.30,3,    32.60,2,     2.13,3,    0.972,2,    0.522,2,     -999,9,     -999,9,     -999,9,     -999,9,     -999,9,     -999,9,  12.9990
35A3CITHER3_2 ,A13        ,178     ,  1,6          ,27         ,2,19950312,2006, -20.3550,   5.2582,     5094,    294.3,  10.8990,  34.9840,2,  34.9810,2,     53.1,2,     53.3,2,    15.30,2,    32.20,2,     1.99,2,    0.946,2,    0.477,2,     -999,9,     -999,9,     -999,9,     -999,9,     -999,9,     -999,9,  10.8630
35A3CITHER3_2 ,A13        ,178     ,  1,7          ,26         ,2,19950312,2006, -20.3550,   5.2582,     5094,    397.1,   8.9030,  34.7770,2,  34.7730,2,     60.4,2,     58.4,2,    19.00,2,    36.10,2,     2.16,2,    0.494,2,    0.245,2,     -999,9,     -999,9,     -999,9,     -999,9,     -999,9,     -999,9,   8.8600
35A3CITHER3_2 ,A13        ,178     ,  1,8          ,25         ,2,19950312,2006, -20.3550,   5.2582,     5094,    595.5,   6.0730,  34.5340,2,  34.5270,3,     99.1,2,     99.6,2,    26.20,2,    38.20,2,     2.32,2,    0.106,2,    0.073,2,     -999,9,     -999,9,     -999,9,     -999,9,     -999,9,     -999,9,   6.0200
35A3CITHER3_2 ,A13        ,178     ,  1,9          ,24         ,2,19950312,2006, -20.3550,   5.2582,     5094,    794.2,   4.6210,  34.4640,2,  34.4640,2,    134.2,2,    136.5,2,    33.30,2,    36.80,2,     2.30,2,    0.064,2,    0.044,2,     -999,9,     -999,9,     -999,9,     -999,9,     -999,9,     -999,9,   4.5580
35A3CITHER3_2 ,A13        ,178     ,  1,10         ,23         ,2,19950312,2006, -20.3550,   5.2582,     5094,    996.5,   3.7940,  34.5160,2,  34.5050,3,    163.0,2,    165.9,2,    40.10,2,    34.10,2,     2.18,2,     -999,9,     -999,9,     -999,9,     -999,9,     -999,9,     -999,9,     -999,9,     -999,9,   3.7200
35A3CITHER3_2 ,A13        ,178     ,  1,11         ,22         ,2,19950312,2006, -20.3550,   5.2582,     5094,   1194.8,   3.6390,  34.6360,2,  34.6360,2,    173.3,2,    172.5,2,    40.80,2,    32.20,2,     2.10,2,    0.014,2,    0.007,2,     -999,9,     -999,9,     -999,9,     -999,9,     -999,9,     -999,9,   3.5500
35A3CITHER3_2 ,A13        ,178     ,  1,12         ,21         ,2,19950312,2006, -20.3550,   5.2582,     5094,   1397.7,   3.5480,  34.7630,2,  34.7630,2,    186.8,2,    188.8,2,    37.60,2,    28.70,2,     1.88,2,    0.003,2,     -999,9,     -999,9,     -999,9,     -999,9,     -999,9,     -999,9,     -999,9,   3.4420
35A3CITHER3_2 ,A13        ,178     ,  1,13         ,20         ,2,19950312,2006, -20.3550,   5.2582,     5094,   1599.2,   3.4800,  34.8490,2,  34.8460,2,    212.4,2,    213.0,2,    33.00,2,    25.60,2,     1.63,2,    0.000,2,    0.007,2,     -999,9,     -999,9,     -999,9,     -999,9,     -999,9,     -999,9,   3.3570
35A3CITHER3_2 ,A13        ,178     ,  1,14         ,19         ,2,19950312,2006, -20.3550,   5.2582,     5094,   1794.6,   3.3620,  34.8880,2,  34.8860,2,    220.5,2,    221.5,2,    32.00,2,    24.30,2,     1.57,2,    0.000,2,    0.007,2,     -999,9,     -999,9,     -999,9,     -999,9,     -999,9,     -999,9,   3.2230
35A3CITHER3_2 ,A13        ,178     ,  1,15         ,18         ,2,19950312,2006, -20.3550,   5.2582,     5094,   1995.2,   3.2020,  34.9000,2,  34.9000,2,    233.3,2,    232.2,2,    32.80,2,    22.80,2,     1.50,2,    0.001,2,     -999,9,     -999,9,     -999,9,     -999,9,     -999,9,     -999,9,     -999,9,   3.0470
35A3CITHER3_2 ,A13        ,178     ,  1,16         ,17         ,2,19950312,2006, -20.3550,   5.2582,     5094,   2194.8,   3.0250,  34.9030,2,  34.9010,2,    239.5,2,    238.5,2,    34.30,2,    22.90,2,     1.47,2,    0.003,2,    0.003,2,     -999,9,     -999,9,     -999,9,     -999,9,     -999,9,     -999,9,   2.8540
35A3CITHER3_2 ,A13        ,178     ,  1,17         ,16         ,2,19950312,2006, -20.3550,   5.2582,     5094,   2396.4,   2.8340,  34.8970,2,  34.8970,2,    240.7,2,    239.9,2,    37.70,2,    22.90,2,     1.49,2,    0.007,2,    0.009,2,     -999,9,     -999,9,     -999,9,     -999,9,     -999,9,     -999,9,   2.6470
35A3CITHER3_2 ,A13        ,178     ,  1,18         ,15         ,2,19950312,2006, -20.3550,   5.2582,     5094,   2596.9,   2.6930,  34.8920,2,  34.8910,2,    240.5,2,    239.9,2,    41.20,2,    23.00,2,     1.51,2,    0.003,2,   -0.004,2,     -999,9,     -999,9,     -999,9,     -999,9,     -999,9,     -999,9,   2.4900
35A3CITHER3_2 ,A13        ,178     ,  1,19         ,14         ,2,19950312,2006, -20.3550,   5.2582,     5094,   2795.1,   2.5620,  34.8840,2,  34.8850,2,    239.2,2,    238.3,2,    45.00,2,    23.30,2,     1.52,2,     -999,9,    0.002,2,     -999,9,     -999,9,     -999,9,     -999,9,     -999,9,     -999,9,   2.3420
35A3CITHER3_2 ,A13        ,178     ,  1,20         ,13         ,2,19950312,2006, -20.3550,   5.2582,     5094,   2997.3,   2.4690,  34.8820,2,  34.8820,2,    238.2,2,    237.3,2,    47.40,2,    23.60,2,     1.55,2,    0.004,2,     -999,9,     -999,9,     -999,9,     -999,9,     -999,9,     -999,9,     -999,9,   2.2300
35A3CITHER3_2 ,A13        ,178     ,  1,21         ,12         ,2,19950312,2006, -20.3550,   5.2582,     5094,   3194.0,   2.4390,  34.8850,2,  34.8860,2,    235.3,2,    235.0,2,    48.80,2,    23.40,2,     1.55,2,    0.003,2,    0.002,2,     -999,9,     -999,9,     -999,9,     -999,9,     -999,9,     -999,9,   2.1810
35A3CITHER3_2 ,A13        ,178     ,  1,22         ,11         ,2,19950312,2006, -20.3550,   5.2582,     5094,   3395.4,   2.4060,  34.8870,2,  34.8820,3,    234.3,2,    233.5,2,    50.30,2,    23.80,2,     1.56,2,    0.000,2,    0.003,2,     -999,9,     -999,9,     -999,9,     -999,9,     -999,9,     -999,9,   2.1270
35A3CITHER3_2 ,A13        ,178     ,  1,23         ,10         ,2,19950312,2006, -20.3550,   5.2582,     5094,   3598.3,   2.3830,  34.8880,2,  34.8860,2,    232.3,2,    231.9,2,    51.30,2,    23.30,2,     1.51,2,    0.002,2,    0.003,2,     -999,9,     -999,9,     -999,9,     -999,9,     -999,9,     -999,9,   2.0830
35A3CITHER3_2 ,A13        ,178     ,  1,24         ,9          ,2,19950312,2006, -20.3550,   5.2582,     5094,   3798.0,   2.3730,  34.8870,2,  34.8830,2,    231.9,2,    231.3,2,    51.90,2,    23.10,2,     1.57,2,    0.004,2,    0.005,2,     -999,9,     -999,9,     -999,9,     -999,9,     -999,9,     -999,9,   2.0510
35A3CITHER3_2 ,A13        ,178     ,  1,25         ,8          ,2,19950312,2006, -20.3550,   5.2582,     5094,   3998.1,   2.3640,  34.8880,2,  34.8810,3,    231.9,2,    231.7,2,    52.10,2,    23.80,2,     1.55,2,    0.010,2,     -999,9,     -999,9,     -999,9,     -999,9,     -999,9,     -999,9,     -999,9,   2.0200
35A3CITHER3_2 ,A13        ,178     ,  1,26         ,7          ,2,19950312,2006, -20.3550,   5.2582,     5094,   4200.3,   2.3690,  34.8880,2,  34.8870,2,    231.8,2,    231.9,2,    52.10,2,    23.30,2,     1.53,2,    0.002,2,    0.000,2,     -999,9,     -999,9,     -999,9,     -999,9,     -999,9,     -999,9,   2.0010
35A3CITHER3_2 ,A13        ,178     ,  1,27         ,6          ,2,19950312,2006, -20.3550,   5.2582,     5094,   4397.2,   2.3760,  34.8860,2,  34.8860,2,    231.9,2,    231.0,2,    52.20,2,    23.30,2,     1.51,2,    0.002,2,    0.000,2,     -999,9,     -999,9,     -999,9,     -999,9,     -999,9,     -999,9,   1.9850
35A3CITHER3_2 ,A13        ,178     ,  1,28         ,5          ,2,19950312,2006, -20.3550,   5.2582,     5094,   4599.2,   2.3870,  34.8840,2,  34.8840,2,    232.1,2,    231.2,2,    51.90,2,    22.40,2,     1.46,2,    0.001,2,   -0.003,2,     -999,9,     -999,9,     -999,9,     -999,9,     -999,9,     -999,9,   1.9710
35A3CITHER3_2 ,A13        ,178     ,  1,29         ,4          ,2,19950312,2006, -20.3550,   5.2582,     5094,   4795.1,   2.4000,  34.8840,2,  34.8840,2,    232.9,2,    232.5,2,    51.80,2,    23.40,2,     1.49,2,    0.000,2,    0.002,2,     -999,9,     -999,9,     -999,9,     -999,9,     -999,9,     -999,9,   1.9600
35A3CITHER3_2 ,A13        ,178     ,  1,30         ,3          ,2,19950312,2006, -20.3550,   5.2582,     5094,   5000.2,   2.4170,  34.8830,2,  34.8820,2,    234.3,2,    233.6,2,    51.80,2,    23.10,2,     1.49,2,    0.001,2,    0.002,2,     -999,9,     -999,9,     -999,9,     -999,9,     -999,9,     -999,9,   1.9500
35A3CITHER3_2 ,A13        ,178     ,  1,31         ,2          ,2,19950312,2006, -20.3550,   5.2582,     5094,   5097.7,   2.4270,  34.8820,2,  34.8820,2,    234.3,2,    234.0,2,    52.20,2,    23.70,2,     1.51,2,    0.002,2,     -999,9,     -999,9,     -999,9,     -999,9,     -999,9,     -999,9,     -999,9,   1.9480
35A3CITHER3_2 ,A13        ,178     ,  1,32         ,1          ,2,19950312,2006, -20.3550,   5.2582,     5094,   5162.7,   2.4330,  34.8820,2,  34.8820,2,    234.6,2,    234.2,2,    51.70,2,    23.30,2,     1.45,2,    0.010,2,    0.014,2,     -999,9,     -999,9,     -999,9,     -999,9,     -999,9,     -999,9,   1.9450