BOTTLE,20211216CCHDHYDRO
EXPOCODE,SECT_ID,STNNBR,CASTNO,SAMPNO,BTLNBR,BTLNBR_FLAG_W,DATE,TIME,LATITUDE,LONGITUDE,DEPTH,CTDPRS,CTDTMP,CTDSAL,CTDSAL_FLAG_W,SALNTY,SALNTY_FLAG_W,CTDOXY,CTDOXY_FLAG_W,OXYGEN,OXYGEN_FLAG_W,SILCAT,SILCAT_FLAG_W,NITRAT,NITRAT_FLAG_W,PHSPHT,PHSPHT_FLAG_W,CFC-11,CFC-11_FLAG_W,CFC-12,CFC-12_FLAG_W,TCARBN,TCARBN_FLAG_W,ALKALI,ALKALI_FLAG_W,TRITUM,TRITUM_FLAG_W,HELIUM,HELIUM_FLAG_W,DELHE3,DELHE3_FLAG_W,NEON,NEON_FLAG_W,THETA
,,,,,,,,,,,METERS,DBAR,DEG C,PSS-78,,PSS-78,,UMOL/KG,,UMOL/KG,,UMOL/KG,,UMOL/KG,,UMOL/KG,,PMOL/KG,,PMOL/KG,,UMOL/KG,,UMOL/KG,,TU,,NMOL/KG,,PERCNT,,NMOL/KG,,DEG C
35A3CITHER3_2 ,A13        ,146     ,  1,1          ,32         ,2,19950303,1041, -31.6332,  10.0008,     4922,      3.8,  21.8820,  35.7580,2,  35.7640,3,    216.6,2,    223.0,3,     2.80,2,     0.00,2,     0.11,2,    2.148,2,    1.087,2,     -999,9,     -999,9,     -999,9,     -999,9,     -999,9,     -999,9,  21.8810
35A3CITHER3_2 ,A13        ,146     ,  1,2          ,31         ,2,19950303,1041, -31.6332,  10.0008,     4922,    121.6,  16.1140,  35.5190,2,  35.5200,2,    217.1,2,    222.4,3,     4.30,2,     3.20,2,     0.29,2,    2.629,2,    1.293,2,     -999,9,     -999,9,     -999,9,     -999,9,     -999,9,     -999,9,  16.0950
35A3CITHER3_2 ,A13        ,146     ,  1,3          ,30         ,2,19950303,1041, -31.6332,  10.0008,     4922,    196.2,  15.3430,  35.4580,2,  35.4560,2,    223.0,2,    224.9,2,     5.10,2,     2.70,2,     0.24,3,    2.655,2,    1.290,2,     -999,9,     -999,9,     -999,9,     -999,9,     -999,9,     -999,9,  15.3130
35A3CITHER3_2 ,A13        ,146     ,  1,4          ,29         ,2,19950303,1041, -31.6332,  10.0008,     4922,    395.6,  12.1080,  35.0530,2,  35.0500,2,    214.3,2,    213.8,2,     6.20,2,    12.30,2,     0.82,2,    2.519,2,    1.210,2,     -999,9,     -999,9,     -999,9,     -999,9,     -999,9,     -999,9,  12.0560
35A3CITHER3_2 ,A13        ,146     ,  1,5          ,28         ,2,19950303,1041, -31.6332,  10.0008,     4922,    495.2,  10.2680,  34.8170,2,  34.8160,2,    216.0,2,    221.0,3,     7.70,2,    15.10,2,     1.06,2,     -999,9,     -999,9,     -999,9,     -999,9,     -999,9,     -999,9,     -999,9,     -999,9,  10.2090
35A3CITHER3_2 ,A13        ,146     ,  1,6          ,27         ,2,19950303,1041, -31.6332,  10.0008,     4922,    595.1,   8.8420,  34.6560,2,  34.6570,2,    209.6,2,    207.6,2,    10.60,2,    19.30,2,     1.32,2,    2.131,2,    0.972,2,     -999,9,     -999,9,     -999,9,     -999,9,     -999,9,     -999,9,   8.7770
35A3CITHER3_2 ,A13        ,146     ,  1,7          ,26         ,2,19950303,1041, -31.6332,  10.0008,     4922,    705.0,   7.4940,  34.5480,2,  34.5440,2,    178.2,2,    180.1,2,    16.80,2,    26.40,2,     1.74,2,    1.692,2,    0.772,2,     -999,9,     -999,9,     -999,9,     -999,9,     -999,9,     -999,9,   7.4230
35A3CITHER3_2 ,A13        ,146     ,  1,8          ,25         ,2,19950303,1041, -31.6332,  10.0008,     4922,    794.5,   5.6970,  34.3890,2,  34.3860,2,    209.9,2,    210.2,2,    19.80,2,    27.40,2,     1.78,2,    1.729,2,    0.775,2,     -999,9,     -999,9,     -999,9,     -999,9,     -999,9,     -999,9,   5.6280
35A3CITHER3_2 ,A13        ,146     ,  1,9          ,24         ,2,19950303,1041, -31.6332,  10.0008,     4922,    894.9,   4.7720,  34.3430,2,  34.3420,2,    209.3,2,    211.6,2,    24.70,2,    30.00,2,     1.96,2,    1.389,2,    0.613,2,     -999,9,     -999,9,     -999,9,     -999,9,     -999,9,     -999,9,   4.7000
35A3CITHER3_2 ,A13        ,146     ,  1,10         ,23         ,2,19950303,1041, -31.6332,  10.0008,     4922,    994.2,   4.1610,  34.3380,2,  34.3360,2,    208.6,2,    209.3,2,    30.50,2,    30.00,2,     2.05,2,    1.142,2,    0.510,2,     -999,9,     -999,9,     -999,9,     -999,9,     -999,9,     -999,9,   4.0850
35A3CITHER3_2 ,A13        ,146     ,  1,12         ,21         ,2,19950303,1041, -31.6332,  10.0008,     4922,   1194.6,   3.3970,  34.4020,2,  34.4030,2,    195.1,2,    193.8,2,    45.00,2,    31.20,2,     2.14,2,    0.579,2,    0.269,2,     -999,9,     -999,9,     -999,9,     -999,9,     -999,9,     -999,9,   3.3110
35A3CITHER3_2 ,A13        ,146     ,  1,11         ,22         ,2,19950303,1041, -31.6332,  10.0008,     4922,   1194.8,   3.3960,  34.4030,2,  34.4060,2,    195.1,2,    195.3,2,    44.40,2,    32.60,2,     2.17,2,    0.579,2,    0.256,2,     -999,9,     -999,9,     -999,9,     -999,9,     -999,9,     -999,9,   3.3100
35A3CITHER3_2 ,A13        ,146     ,  1,13         ,20         ,2,19950303,1041, -31.6332,  10.0008,     4922,   1394.9,   3.0340,  34.5250,2,  34.5260,2,    180.4,2,    180.0,2,    57.30,2,    32.10,2,     2.21,2,    0.183,2,    0.089,2,     -999,9,     -999,9,     -999,9,     -999,9,     -999,9,     -999,9,   2.9350
35A3CITHER3_2 ,A13        ,146     ,  1,14         ,19         ,2,19950303,1041, -31.6332,  10.0008,     4922,   1595.2,   2.8580,  34.6420,2,  34.6420,2,    184.5,2,    183.4,2,    60.10,2,    29.70,3,     2.10,2,    0.060,2,    0.028,2,     -999,9,     -999,9,     -999,9,     -999,9,     -999,9,     -999,9,   2.7440
35A3CITHER3_2 ,A13        ,146     ,  1,15         ,18         ,2,19950303,1041, -31.6332,  10.0008,     4922,   1795.5,   2.8280,  34.7410,2,  34.7420,2,    195.3,2,    196.2,2,    55.70,2,    27.30,3,     1.93,2,    0.017,2,    0.013,2,     -999,9,     -999,9,     -999,9,     -999,9,     -999,9,     -999,9,   2.6970
35A3CITHER3_2 ,A13        ,146     ,  1,16         ,17         ,2,19950303,1041, -31.6332,  10.0008,     4922,   1995.4,   2.8010,  34.8020,2,  34.8010,2,    206.8,2,    209.2,2,    51.60,2,    26.60,2,     1.78,2,    0.014,2,    0.007,2,     -999,9,     -999,9,     -999,9,     -999,9,     -999,9,     -999,9,   2.6520
35A3CITHER3_2 ,A13        ,146     ,  1,17         ,16         ,2,19950303,1041, -31.6332,  10.0008,     4922,   2194.9,   2.7290,  34.8330,2,  34.8360,2,    217.1,2,    218.6,2,    49.40,2,    23.90,2,     1.66,2,    0.004,2,    0.007,2,     -999,9,     -999,9,     -999,9,     -999,9,     -999,9,     -999,9,   2.5630
35A3CITHER3_2 ,A13        ,146     ,  1,18         ,15         ,2,19950303,1041, -31.6332,  10.0008,     4922,   2344.8,   2.6050,  34.8370,2,  34.8380,2,    220.9,2,    221.0,2,    51.90,2,    23.70,2,     1.70,2,    0.008,2,    0.011,2,     -999,9,     -999,9,     -999,9,     -999,9,     -999,9,     -999,9,   2.4270
35A3CITHER3_2 ,A13        ,146     ,  1,19         ,14         ,2,19950303,1041, -31.6332,  10.0008,     4922,   2595.6,   2.4730,  34.8420,2,  34.8440,2,    223.6,2,    225.0,2,    53.90,2,    23.10,2,     1.56,2,    0.008,2,    0.002,2,     -999,9,     -999,9,     -999,9,     -999,9,     -999,9,     -999,9,   2.2740
35A3CITHER3_2 ,A13        ,146     ,  1,20         ,13         ,2,19950303,1041, -31.6332,  10.0008,     4922,   2795.3,   2.4020,  34.8530,2,  34.8520,2,    228.4,2,    229.1,2,    54.20,2,    23.10,2,     1.62,2,    0.002,2,    0.003,2,     -999,9,     -999,9,     -999,9,     -999,9,     -999,9,     -999,9,   2.1850
35A3CITHER3_2 ,A13        ,146     ,  1,21         ,12         ,2,19950303,1041, -31.6332,  10.0008,     4922,   2995.4,   2.3430,  34.8590,2,  34.8590,2,    230.9,2,    231.3,2,    54.80,2,    23.30,2,     1.62,2,    0.003,2,    0.004,2,     -999,9,     -999,9,     -999,9,     -999,9,     -999,9,     -999,9,   2.1070
35A3CITHER3_2 ,A13        ,146     ,  1,22         ,11         ,2,19950303,1041, -31.6332,  10.0008,     4922,   3196.2,   2.2740,  34.8540,2,  34.8540,2,    231.0,2,    231.1,2,    57.30,2,    24.10,2,     1.62,2,    0.004,2,    0.005,2,     -999,9,     -999,9,     -999,9,     -999,9,     -999,9,     -999,9,   2.0190
35A3CITHER3_2 ,A13        ,146     ,  1,23         ,10         ,2,19950303,1041, -31.6332,  10.0008,     4922,   3396.0,   2.2200,  34.8540,2,  34.8540,2,    230.8,2,    230.6,2,    59.80,2,    23.70,2,     1.54,2,   -0.000,2,    0.005,2,     -999,9,     -999,9,     -999,9,     -999,9,     -999,9,     -999,9,   1.9460
35A3CITHER3_2 ,A13        ,146     ,  1,24         ,9          ,2,19950303,1041, -31.6332,  10.0008,     4922,   3595.7,   2.0540,  34.8360,2,  34.8380,2,    228.6,2,    227.7,2,    66.80,2,    24.30,2,     1.66,2,    0.001,2,    0.005,2,     -999,9,     -999,9,     -999,9,     -999,9,     -999,9,     -999,9,   1.7630
35A3CITHER3_2 ,A13        ,146     ,  1,25         ,8          ,2,19950303,1041, -31.6332,  10.0008,     4922,   3797.6,   1.8780,  34.8170,2,  34.8150,2,    225.0,2,    224.7,2,    74.90,2,    25.80,2,     1.77,2,    0.002,2,    0.002,2,     -999,9,     -999,9,     -999,9,     -999,9,     -999,9,     -999,9,   1.5700
35A3CITHER3_2 ,A13        ,146     ,  1,26         ,7          ,2,19950303,1041, -31.6332,  10.0008,     4922,   3996.3,   1.5010,  34.7790,2,  34.7780,2,    220.6,2,    220.4,2,    90.80,2,    27.30,2,     1.85,2,    0.004,2,    0.006,2,     -999,9,     -999,9,     -999,9,     -999,9,     -999,9,     -999,9,   1.1820
35A3CITHER3_2 ,A13        ,146     ,  1,27         ,6          ,2,19950303,1041, -31.6332,  10.0008,     4922,   4196.8,   1.3100,  34.7600,2,  34.7600,2,    218.2,2,    218.6,2,    97.90,2,    25.90,4,     1.76,4,    0.007,2,    0.013,3,     -999,9,     -999,9,     -999,9,     -999,9,     -999,9,     -999,9,   0.9750
35A3CITHER3_2 ,A13        ,146     ,  1,28         ,5          ,2,19950303,1041, -31.6332,  10.0008,     4922,   4398.2,   1.1700,  34.7460,2,  34.7440,2,    217.3,2,    217.5,2,   103.80,2,    25.00,4,     1.66,4,    0.009,2,    0.009,2,     -999,9,     -999,9,     -999,9,     -999,9,     -999,9,     -999,9,   0.8160
35A3CITHER3_2 ,A13        ,146     ,  1,29         ,4          ,2,19950303,1041, -31.6332,  10.0008,     4922,   4598.9,   1.1520,  34.7410,2,  34.7400,2,    217.1,2,    217.3,2,   105.30,2,    29.00,2,     1.99,2,    0.012,2,    0.010,2,     -999,9,     -999,9,     -999,9,     -999,9,     -999,9,     -999,9,   0.7760
35A3CITHER3_2 ,A13        ,146     ,  1,30         ,3          ,2,19950303,1041, -31.6332,  10.0008,     4922,   4798.0,   1.1050,  34.7350,2,  34.7370,2,    217.1,2,    216.8,2,   108.10,2,    27.30,3,     1.84,3,    0.016,2,    0.008,2,     -999,9,     -999,9,     -999,9,     -999,9,     -999,9,     -999,9,   0.7080
35A3CITHER3_2 ,A13        ,146     ,  1,31         ,2          ,2,19950303,1041, -31.6332,  10.0008,     4922,   4798.1,   1.1040,  34.7350,2,  34.7360,2,    217.1,2,    217.0,2,   108.10,2,    28.20,3,     1.98,2,     -999,9,     -999,9,     -999,9,     -999,9,     -999,9,     -999,9,     -999,9,     -999,9,   0.7070
35A3CITHER3_2 ,A13        ,146     ,  1,32         ,1          ,2,19950303,1041, -31.6332,  10.0008,     4922,   4926.9,   1.1050,  34.7330,2,  34.7360,2,    216.5,2,    217.5,2,   108.60,2,    29.70,2,     1.99,2,    0.018,2,    0.016,2,     -999,9,     -999,9,     -999,9,     -999,9,     -999,9,     -999,9,   0.6930