BOTTLE,20211216CCHDHYDRO
EXPOCODE,SECT_ID,STNNBR,CASTNO,SAMPNO,BTLNBR,BTLNBR_FLAG_W,DATE,TIME,LATITUDE,LONGITUDE,DEPTH,CTDPRS,CTDTMP,CTDSAL,CTDSAL_FLAG_W,SALNTY,SALNTY_FLAG_W,CTDOXY,CTDOXY_FLAG_W,OXYGEN,OXYGEN_FLAG_W,SILCAT,SILCAT_FLAG_W,NITRAT,NITRAT_FLAG_W,PHSPHT,PHSPHT_FLAG_W,CFC-11,CFC-11_FLAG_W,CFC-12,CFC-12_FLAG_W,TCARBN,TCARBN_FLAG_W,ALKALI,ALKALI_FLAG_W,TRITUM,TRITUM_FLAG_W,HELIUM,HELIUM_FLAG_W,DELHE3,DELHE3_FLAG_W,NEON,NEON_FLAG_W,THETA
,,,,,,,,,,,METERS,DBAR,DEG C,PSS-78,,PSS-78,,UMOL/KG,,UMOL/KG,,UMOL/KG,,UMOL/KG,,UMOL/KG,,PMOL/KG,,PMOL/KG,,UMOL/KG,,UMOL/KG,,TU,,NMOL/KG,,PERCNT,,NMOL/KG,,DEG C
35A3CITHER3_2 ,A13        ,152     ,  1,1          ,32         ,2,19950304,2138, -28.8493,   9.7530,     4870,      5.2,  22.4800,  35.7830,2,  35.7830,2,    218.7,2,    219.9,2,     2.60,2,     0.00,2,     0.10,2,    2.102,2,    1.083,2,     -999,9,     -999,9,     -999,9,     -999,9,     -999,9,     -999,9,  22.4790
35A3CITHER3_2 ,A13        ,152     ,  1,2          ,31         ,2,19950304,2138, -28.8493,   9.7530,     4870,     45.7,  21.7770,  35.7790,2,  35.7740,2,    222.6,2,    222.4,2,     2.60,2,     0.00,2,     0.09,2,    2.152,2,    1.097,2,     -999,9,     -999,9,     -999,9,     -999,9,     -999,9,     -999,9,  21.7680
35A3CITHER3_2 ,A13        ,152     ,  1,3          ,30         ,2,19950304,2138, -28.8493,   9.7530,     4870,    120.5,  16.0130,  35.5160,2,  35.5160,2,    227.1,2,    230.3,2,     3.30,2,     1.90,2,     0.25,2,    2.660,2,    1.321,2,     -999,9,     -999,9,     -999,9,     -999,9,     -999,9,     -999,9,  15.9940
35A3CITHER3_2 ,A13        ,152     ,  1,4          ,29         ,2,19950304,2138, -28.8493,   9.7530,     4870,    196.1,  14.1250,  35.2380,2,  35.2500,3,    212.1,2,    215.9,3,     4.60,2,     6.90,2,     0.55,2,    2.671,2,    1.307,2,     -999,9,     -999,9,     -999,9,     -999,9,     -999,9,     -999,9,  14.0960
35A3CITHER3_2 ,A13        ,152     ,  1,5          ,28         ,2,19950304,2138, -28.8493,   9.7530,     4870,    396.0,  10.3430,  34.8330,2,  34.8300,2,    197.3,2,    197.2,2,     8.30,2,    16.50,2,     1.14,2,    2.287,2,    1.065,2,     -999,9,     -999,9,     -999,9,     -999,9,     -999,9,     -999,9,  10.2960
35A3CITHER3_2 ,A13        ,152     ,  1,6          ,27         ,2,19950304,2138, -28.8493,   9.7530,     4870,    495.8,   8.2780,  34.6170,2,  34.6200,2,    179.2,2,    180.9,2,    13.50,2,    23.20,2,     1.57,2,    1.867,2,    0.852,2,     -999,9,     -999,9,     -999,9,     -999,9,     -999,9,     -999,9,   8.2260
35A3CITHER3_2 ,A13        ,152     ,  1,8          ,25         ,2,19950304,2138, -28.8493,   9.7530,     4870,    624.6,   6.0520,  34.4030,2,  34.4040,2,    208.8,2,    209.8,2,    17.60,2,    26.10,2,     1.76,2,    1.835,2,    0.819,2,     -999,9,     -999,9,     -999,9,     -999,9,     -999,9,     -999,9,   5.9970
35A3CITHER3_2 ,A13        ,152     ,  1,7          ,26         ,2,19950304,2138, -28.8493,   9.7530,     4870,    624.8,   6.0570,  34.4040,2,  34.4050,2,    208.8,2,    209.9,2,    17.10,2,    25.70,2,     1.74,2,    1.866,2,    0.845,2,     -999,9,     -999,9,     -999,9,     -999,9,     -999,9,     -999,9,   6.0020
35A3CITHER3_2 ,A13        ,152     ,  1,9          ,24         ,2,19950304,2138, -28.8493,   9.7530,     4870,    793.0,   4.7860,  34.3830,2,  34.3790,2,    184.7,2,    181.8,2,    26.90,2,    30.40,2,     2.07,2,    0.876,2,    0.404,2,     -999,9,     -999,9,     -999,9,     -999,9,     -999,9,     -999,9,   4.7230
35A3CITHER3_2 ,A13        ,152     ,  1,10         ,23         ,2,19950304,2138, -28.8493,   9.7530,     4870,    994.9,   3.7200,  34.4190,2,  34.4130,2,    181.1,2,    182.8,2,    39.80,2,    32.90,2,     2.17,2,    0.394,2,    0.184,2,     -999,9,     -999,9,     -999,9,     -999,9,     -999,9,     -999,9,   3.6470
35A3CITHER3_2 ,A13        ,152     ,  1,11         ,22         ,2,19950304,2138, -28.8493,   9.7530,     4870,   1196.4,   3.0820,  34.5190,2,  34.5190,2,    180.8,2,    180.0,2,    54.40,2,    31.70,2,     2.19,2,    0.192,2,    0.096,2,     -999,9,     -999,9,     -999,9,     -999,9,     -999,9,     -999,9,   2.9980
35A3CITHER3_2 ,A13        ,152     ,  1,12         ,21         ,2,19950304,2138, -28.8493,   9.7530,     4870,   1395.4,   2.9630,  34.6510,2,  34.6510,2,    184.1,2,    183.5,2,    56.30,2,    29.30,2,     2.07,2,    0.040,2,    0.022,2,     -999,9,     -999,9,     -999,9,     -999,9,     -999,9,     -999,9,   2.8640
35A3CITHER3_2 ,A13        ,152     ,  1,13         ,20         ,2,19950304,2138, -28.8493,   9.7530,     4870,   1593.0,   2.9770,  34.7480,2,  34.7490,2,    197.4,2,    197.2,2,    50.90,2,    24.50,3,     1.86,2,    0.016,2,    0.007,2,     -999,9,     -999,9,     -999,9,     -999,9,     -999,9,     -999,9,   2.8610
35A3CITHER3_2 ,A13        ,152     ,  1,14         ,19         ,2,19950304,2138, -28.8493,   9.7530,     4870,   1793.8,   3.0640,  34.8340,2,  34.8330,2,    212.9,2,    214.1,2,    41.10,2,    24.00,2,     1.68,2,    0.003,2,    0.007,2,     -999,9,     -999,9,     -999,9,     -999,9,     -999,9,     -999,9,   2.9290
35A3CITHER3_2 ,A13        ,152     ,  1,15         ,18         ,2,19950304,2138, -28.8493,   9.7530,     4870,   1994.7,   2.9230,  34.8560,2,  34.8550,2,    222.2,2,    222.1,2,    41.30,2,    22.60,2,     1.62,2,    0.003,2,    0.001,2,     -999,9,     -999,9,     -999,9,     -999,9,     -999,9,     -999,9,   2.7720
35A3CITHER3_2 ,A13        ,152     ,  1,16         ,17         ,2,19950304,2138, -28.8493,   9.7530,     4870,   2195.7,   2.7740,  34.8620,2,  34.8610,2,    227.1,2,    226.7,2,    43.40,2,    23.40,2,     1.60,2,    0.001,2,   -0.001,2,     -999,9,     -999,9,     -999,9,     -999,9,     -999,9,     -999,9,   2.6070
35A3CITHER3_2 ,A13        ,152     ,  1,17         ,16         ,2,19950304,2138, -28.8493,   9.7530,     4870,   2395.3,   2.6310,  34.8590,2,  34.8610,2,    228.5,2,    228.3,2,    46.20,2,    23.20,2,     1.61,2,    0.011,3,    0.001,2,     -999,9,     -999,9,     -999,9,     -999,9,     -999,9,     -999,9,   2.4480
35A3CITHER3_2 ,A13        ,152     ,  1,18         ,15         ,2,19950304,2138, -28.8493,   9.7530,     4870,   2593.8,   2.5370,  34.8610,2,  34.8600,2,    230.5,2,    230.2,2,    49.00,2,    21.50,3,     1.55,2,    0.006,3,    0.002,2,     -999,9,     -999,9,     -999,9,     -999,9,     -999,9,     -999,9,   2.3370
35A3CITHER3_2 ,A13        ,152     ,  1,19         ,14         ,2,19950304,2138, -28.8493,   9.7530,     4870,   2796.0,   2.4520,  34.8600,2,  34.8610,2,    231.7,2,    231.5,2,    51.30,2,    24.20,2,     1.59,2,    0.004,2,    0.003,2,     -999,9,     -999,9,     -999,9,     -999,9,     -999,9,     -999,9,   2.2340
35A3CITHER3_2 ,A13        ,152     ,  1,20         ,13         ,2,19950304,2138, -28.8493,   9.7530,     4870,   2998.7,   2.3880,  34.8610,2,     -999,9,    231.8,2,    238.0,2,     -999,9,     -999,9,     -999,9,    0.001,2,    0.002,2,     -999,9,     -999,9,     -999,9,     -999,9,     -999,9,     -999,9,   2.1510
35A3CITHER3_2 ,A13        ,152     ,  1,21         ,12         ,2,19950304,2138, -28.8493,   9.7530,     4870,   3195.4,   2.3280,  34.8610,2,  34.8600,2,    232.6,2,    231.5,2,    55.80,2,    22.50,2,     1.59,2,    0.005,2,    0.002,2,     -999,9,     -999,9,     -999,9,     -999,9,     -999,9,     -999,9,   2.0720
35A3CITHER3_2 ,A13        ,152     ,  1,22         ,11         ,2,19950304,2138, -28.8493,   9.7530,     4870,   3396.3,   2.2800,  34.8610,2,  34.8520,3,    232.3,2,    231.3,2,    56.10,2,    23.70,2,     1.61,2,    0.004,2,    0.006,2,     -999,9,     -999,9,     -999,9,     -999,9,     -999,9,     -999,9,   2.0040
35A3CITHER3_2 ,A13        ,152     ,  1,23         ,10         ,2,19950304,2138, -28.8493,   9.7530,     4870,   3596.6,   2.2020,  34.8520,2,  34.8510,2,    231.1,2,    230.1,2,    59.50,2,    24.20,2,     1.62,2,    0.000,2,    0.004,2,     -999,9,     -999,9,     -999,9,     -999,9,     -999,9,     -999,9,   1.9070
35A3CITHER3_2 ,A13        ,152     ,  1,24         ,9          ,2,19950304,2138, -28.8493,   9.7530,     4870,   3796.4,   2.0230,  34.8340,2,  34.8320,2,    228.2,2,    226.9,2,    68.70,2,    25.60,2,     1.69,2,    0.005,2,    0.001,2,     -999,9,     -999,9,     -999,9,     -999,9,     -999,9,     -999,9,   1.7110
35A3CITHER3_2 ,A13        ,152     ,  1,25         ,8          ,2,19950304,2138, -28.8493,   9.7530,     4870,   3796.6,   2.0170,  34.8340,2,  34.8300,2,    228.1,2,    227.1,2,    68.90,2,    25.10,3,     1.66,2,    0.002,2,    0.003,2,     -999,9,     -999,9,     -999,9,     -999,9,     -999,9,     -999,9,   1.7050
35A3CITHER3_2 ,A13        ,152     ,  1,26         ,7          ,2,19950304,2138, -28.8493,   9.7530,     4870,   3996.1,   1.7210,  34.8020,2,  34.7970,2,    224.1,2,    223.1,2,    81.30,2,    25.30,2,     1.77,2,    0.005,2,    0.006,2,     -999,9,     -999,9,     -999,9,     -999,9,     -999,9,     -999,9,   1.3960
35A3CITHER3_2 ,A13        ,152     ,  1,27         ,6          ,2,19950304,2138, -28.8493,   9.7530,     4870,   4196.5,   1.4060,  34.7690,2,  34.7660,2,    219.8,2,    219.8,2,    94.10,2,    27.70,2,     1.92,2,    0.009,2,    0.008,2,     -999,9,     -999,9,     -999,9,     -999,9,     -999,9,     -999,9,   1.0680
35A3CITHER3_2 ,A13        ,152     ,  1,28         ,5          ,2,19950304,2138, -28.8493,   9.7530,     4870,   4396.9,   1.2090,  34.7490,2,  34.7490,2,    217.3,2,    217.7,2,   101.30,2,    26.70,3,     1.96,2,    0.005,2,    0.001,2,     -999,9,     -999,9,     -999,9,     -999,9,     -999,9,     -999,9,   0.8540
35A3CITHER3_2 ,A13        ,152     ,  1,29         ,4          ,2,19950304,2138, -28.8493,   9.7530,     4870,   4597.1,   1.1410,  34.7390,2,  34.7390,2,    216.7,2,    216.7,2,   104.80,2,    27.00,3,     2.03,2,    0.012,2,    0.007,2,     -999,9,     -999,9,     -999,9,     -999,9,     -999,9,     -999,9,   0.7660
35A3CITHER3_2 ,A13        ,152     ,  1,30         ,3          ,2,19950304,2138, -28.8493,   9.7530,     4870,   4796.9,   1.1360,  34.7370,2,  34.7370,2,    216.6,2,    216.9,2,   105.90,2,    30.00,2,     2.03,2,    0.008,2,    0.007,2,     -999,9,     -999,9,     -999,9,     -999,9,     -999,9,     -999,9,   0.7380
35A3CITHER3_2 ,A13        ,152     ,  1,31         ,2          ,2,19950304,2138, -28.8493,   9.7530,     4870,   4878.5,   1.1400,  34.7360,2,  34.7370,2,    216.6,2,    216.4,2,   106.40,2,    29.20,2,     2.02,2,    0.013,2,    0.012,2,     -999,9,     -999,9,     -999,9,     -999,9,     -999,9,     -999,9,   0.7320
35A3CITHER3_2 ,A13        ,152     ,  1,32         ,1          ,2,19950304,2138, -28.8493,   9.7530,     4870,   4938.9,   1.1450,  34.7380,2,  34.7370,2,    215.7,2,    216.3,2,   105.90,2,    29.60,2,     2.03,2,     -999,9,     -999,9,     -999,9,     -999,9,     -999,9,     -999,9,     -999,9,     -999,9,   0.7300