BOTTLE,20211216CCHDHYDRO
EXPOCODE,SECT_ID,STNNBR,CASTNO,SAMPNO,BTLNBR,BTLNBR_FLAG_W,DATE,TIME,LATITUDE,LONGITUDE,DEPTH,CTDPRS,CTDTMP,CTDSAL,CTDSAL_FLAG_W,SALNTY,SALNTY_FLAG_W,CTDOXY,CTDOXY_FLAG_W,OXYGEN,OXYGEN_FLAG_W,SILCAT,SILCAT_FLAG_W,NITRAT,NITRAT_FLAG_W,PHSPHT,PHSPHT_FLAG_W,CFC-11,CFC-11_FLAG_W,CFC-12,CFC-12_FLAG_W,TCARBN,TCARBN_FLAG_W,ALKALI,ALKALI_FLAG_W,TRITUM,TRITUM_FLAG_W,HELIUM,HELIUM_FLAG_W,DELHE3,DELHE3_FLAG_W,NEON,NEON_FLAG_W,THETA
,,,,,,,,,,,METERS,DBAR,DEG C,PSS-78,,PSS-78,,UMOL/KG,,UMOL/KG,,UMOL/KG,,UMOL/KG,,UMOL/KG,,PMOL/KG,,PMOL/KG,,UMOL/KG,,UMOL/KG,,TU,,NMOL/KG,,PERCNT,,NMOL/KG,,DEG C
35A3CITHER3_2 ,A13        ,228     ,  1,1          ,32         ,2,19950325,0059,   0.7080,   1.3997,     4756,      4.4,  29.5140,  34.1420,2,  34.1450,2,    197.8,2,    196.1,2,     5.20,2,     0.00,2,     0.03,2,    1.548,2,    0.879,2,     -999,9,     -999,9,     -999,9,     -999,9,     -999,9,     -999,9,  29.5130
35A3CITHER3_2 ,A13        ,228     ,  1,3          ,30         ,2,19950325,0059,   0.7080,   1.3997,     4756,     46.4,  24.1390,  36.0380,2,  36.0480,3,    200.4,2,    195.4,3,     5.70,2,     0.00,2,     0.15,2,    1.674,2,    0.862,2,     -999,9,     -999,9,     -999,9,     -999,9,     -999,9,     -999,9,  24.1290
35A3CITHER3_2 ,A13        ,228     ,  1,2          ,31         ,2,19950325,0059,   0.7080,   1.3997,     4756,     46.5,  24.1150,  36.0340,2,  36.0370,2,    199.1,2,    195.5,2,     5.30,2,     0.00,2,     0.11,2,    1.675,2,    0.860,2,     -999,9,     -999,9,     -999,9,     -999,9,     -999,9,     -999,9,  24.1050
35A3CITHER3_2 ,A13        ,228     ,  1,4          ,29         ,2,19950325,0059,   0.7080,   1.3997,     4756,    122.5,  16.0330,  35.6550,2,  35.6520,2,    145.7,2,    149.8,3,     7.40,2,    13.10,2,     0.86,2,    1.657,2,    0.811,2,     -999,9,     -999,9,     -999,9,     -999,9,     -999,9,     -999,9,  16.0140
35A3CITHER3_2 ,A13        ,228     ,  1,5          ,28         ,2,19950325,0059,   0.7080,   1.3997,     4756,    194.9,  14.3140,  35.4480,2,  35.4510,2,    120.7,2,    117.6,2,     8.90,2,    18.50,2,     1.17,2,    1.272,2,    0.626,2,     -999,9,     -999,9,     -999,9,     -999,9,     -999,9,     -999,9,  14.2850
35A3CITHER3_2 ,A13        ,228     ,  1,6          ,27         ,2,19950325,0059,   0.7080,   1.3997,     4756,    296.3,  10.4210,  35.0090,2,  35.0130,2,     57.6,2,     58.2,2,    14.80,2,    31.50,2,     1.87,2,    0.359,2,    0.196,2,     -999,9,     -999,9,     -999,9,     -999,9,     -999,9,     -999,9,  10.3860
35A3CITHER3_2 ,A13        ,228     ,  1,7          ,26         ,2,19950325,0059,   0.7080,   1.3997,     4756,    395.7,   8.5790,  34.7830,2,  34.7980,3,     77.2,2,     78.5,2,    17.70,2,    33.40,2,     2.03,2,    0.253,2,    0.138,2,     -999,9,     -999,9,     -999,9,     -999,9,     -999,9,     -999,9,   8.5370
35A3CITHER3_2 ,A13        ,228     ,  1,8          ,25         ,2,19950325,0059,   0.7080,   1.3997,     4756,    597.4,   6.1500,  34.5520,2,  34.5550,2,    131.1,2,    133.0,2,    24.10,2,    33.00,2,     2.12,2,    0.167,2,    0.080,2,     -999,9,     -999,9,     -999,9,     -999,9,     -999,9,     -999,9,   6.0970
35A3CITHER3_2 ,A13        ,228     ,  1,9          ,24         ,2,19950325,0059,   0.7080,   1.3997,     4756,    795.4,   4.8820,  34.5140,2,  34.5140,2,    140.3,2,    141.3,2,    30.80,2,    34.30,2,     2.25,2,    0.022,2,    0.014,2,     -999,9,     -999,9,     -999,9,     -999,9,     -999,9,     -999,9,   4.8180
35A3CITHER3_2 ,A13        ,228     ,  1,10         ,23         ,2,19950325,0059,   0.7080,   1.3997,     4756,    995.5,   4.4570,  34.6390,2,  34.6320,3,    157.5,2,    156.9,2,    31.50,2,    31.90,2,     2.11,2,    0.015,2,    0.006,2,     -999,9,     -999,9,     -999,9,     -999,9,     -999,9,     -999,9,   4.3780
35A3CITHER3_2 ,A13        ,228     ,  1,11         ,22         ,2,19950325,0059,   0.7080,   1.3997,     4756,   1194.7,   4.4430,  34.8080,2,  34.8100,2,    180.3,2,    179.2,2,    26.70,2,    27.60,2,     1.79,2,    0.005,2,     -999,9,     -999,9,     -999,9,     -999,9,     -999,9,     -999,9,     -999,9,   4.3460
35A3CITHER3_2 ,A13        ,228     ,  1,12         ,21         ,2,19950325,0059,   0.7080,   1.3997,     4756,   1395.0,   4.3230,  34.9360,2,  34.9390,2,    215.0,2,    214.8,2,    21.20,2,    22.40,2,     1.42,2,    0.025,2,    0.013,2,     -999,9,     -999,9,     -999,9,     -999,9,     -999,9,     -999,9,   4.2090
35A3CITHER3_2 ,A13        ,228     ,  1,13         ,20         ,2,19950325,0059,   0.7080,   1.3997,     4756,   1595.9,   4.1490,  34.9570,2,  34.9590,2,    229.3,2,    226.0,2,    20.40,2,    21.50,2,     1.38,2,    0.016,2,    0.009,2,     -999,9,     -999,9,     -999,9,     -999,9,     -999,9,     -999,9,   4.0180
35A3CITHER3_2 ,A13        ,228     ,  1,14         ,19         ,2,19950325,0059,   0.7080,   1.3997,     4756,   1795.4,   3.7230,  34.9680,2,  34.9720,2,    241.3,2,    243.8,2,    20.80,2,    19.50,2,     1.26,2,    0.014,2,    0.011,2,     -999,9,     -999,9,     -999,9,     -999,9,     -999,9,     -999,9,   3.5790
35A3CITHER3_2 ,A13        ,228     ,  1,15         ,18         ,2,19950325,0059,   0.7080,   1.3997,     4756,   1996.3,   3.5140,  34.9620,2,  34.9640,2,    247.9,2,    246.9,2,    22.40,2,    19.30,2,     1.24,2,    0.012,2,    0.009,2,     -999,9,     -999,9,     -999,9,     -999,9,     -999,9,     -999,9,   3.3540
35A3CITHER3_2 ,A13        ,228     ,  1,16         ,17         ,2,19950325,0059,   0.7080,   1.3997,     4756,   2195.5,   3.2790,  34.9500,2,  34.9510,2,    245.0,2,    245.5,2,    25.30,2,    19.70,2,     1.26,2,    0.009,2,    0.008,2,     -999,9,     -999,9,     -999,9,     -999,9,     -999,9,     -999,9,   3.1040
35A3CITHER3_2 ,A13        ,228     ,  1,17         ,16         ,2,19950325,0059,   0.7080,   1.3997,     4756,   2396.0,   3.0540,  34.9370,2,  34.9390,2,    242.2,2,    241.3,2,    31.60,2,    20.40,2,     1.32,2,    0.005,2,    0.001,2,     -999,9,     -999,9,     -999,9,     -999,9,     -999,9,     -999,9,   2.8630
35A3CITHER3_2 ,A13        ,228     ,  1,18         ,15         ,2,19950325,0059,   0.7080,   1.3997,     4756,   2595.7,   2.8580,  34.9240,2,  34.9260,2,    241.5,2,    241.6,2,    35.40,2,    20.90,2,     1.33,2,    0.002,2,    0.000,2,     -999,9,     -999,9,     -999,9,     -999,9,     -999,9,     -999,9,   2.6510
35A3CITHER3_2 ,A13        ,228     ,  1,19         ,14         ,2,19950325,0059,   0.7080,   1.3997,     4756,   2796.4,   2.7690,  34.9190,2,  34.9200,2,    240.2,2,    241.7,2,    37.70,2,    20.80,2,     1.32,2,    0.002,2,    0.000,2,     -999,9,     -999,9,     -999,9,     -999,9,     -999,9,     -999,9,   2.5440
35A3CITHER3_2 ,A13        ,228     ,  1,20         ,13         ,2,19950325,0059,   0.7080,   1.3997,     4756,   2996.6,   2.6290,  34.9110,2,  34.9070,2,    239.3,2,    240.0,2,    40.70,2,    21.10,2,     1.34,2,    0.002,2,    0.000,2,     -999,9,     -999,9,     -999,9,     -999,9,     -999,9,     -999,9,   2.3870
35A3CITHER3_2 ,A13        ,228     ,  1,21         ,12         ,2,19950325,0059,   0.7080,   1.3997,     4756,   3196.2,   2.5350,  34.9030,2,  34.9050,2,    239.6,2,    241.3,2,    42.30,2,    20.90,2,     1.33,2,    0.007,2,    0.003,2,     -999,9,     -999,9,     -999,9,     -999,9,     -999,9,     -999,9,   2.2740
35A3CITHER3_2 ,A13        ,228     ,  1,22         ,11         ,2,19950325,0059,   0.7080,   1.3997,     4756,   3398.2,   2.4690,  34.8980,2,  34.8970,2,    240.4,2,    239.7,2,    44.50,2,    21.30,2,     1.36,2,    0.006,2,    0.001,2,     -999,9,     -999,9,     -999,9,     -999,9,     -999,9,     -999,9,   2.1880
35A3CITHER3_2 ,A13        ,228     ,  1,23         ,10         ,2,19950325,0059,   0.7080,   1.3997,     4756,   3596.4,   2.4080,  34.8940,2,  34.8950,2,    239.9,2,    240.7,2,    45.90,2,    21.80,2,     1.42,2,    0.002,2,     -999,9,     -999,9,     -999,9,     -999,9,     -999,9,     -999,9,     -999,9,   2.1070
35A3CITHER3_2 ,A13        ,228     ,  1,24         ,9          ,2,19950325,0059,   0.7080,   1.3997,     4756,   3796.6,   2.3660,  34.8890,2,  34.8940,2,    241.1,2,    242.4,2,    46.50,2,    21.20,2,     1.37,2,    0.001,2,    0.001,2,     -999,9,     -999,9,     -999,9,     -999,9,     -999,9,     -999,9,   2.0450
35A3CITHER3_2 ,A13        ,228     ,  1,25         ,8          ,2,19950325,0059,   0.7080,   1.3997,     4756,   3996.9,   2.3360,  34.8870,2,  34.8870,2,    242.0,2,    242.6,2,    47.50,2,    21.20,2,     1.38,2,    0.000,2,    0.000,2,     -999,9,     -999,9,     -999,9,     -999,9,     -999,9,     -999,9,   1.9930
35A3CITHER3_2 ,A13        ,228     ,  1,26         ,7          ,2,19950325,0059,   0.7080,   1.3997,     4756,   4197.2,   2.3030,  34.8840,2,  34.8800,2,    242.0,2,    242.7,2,    48.80,2,    21.70,2,     1.41,2,    0.004,2,     -999,9,     -999,9,     -999,9,     -999,9,     -999,9,     -999,9,     -999,9,   1.9380
35A3CITHER3_2 ,A13        ,228     ,  1,27         ,6          ,2,19950325,0059,   0.7080,   1.3997,     4756,   4396.3,   2.2610,  34.8770,2,  34.8810,2,    240.8,2,    242.0,2,    51.00,2,    22.10,2,     1.42,2,    0.003,2,    0.003,2,     -999,9,     -999,9,     -999,9,     -999,9,     -999,9,     -999,9,   1.8740
35A3CITHER3_2 ,A13        ,228     ,  1,28         ,5          ,2,19950325,0059,   0.7080,   1.3997,     4756,   4597.5,   2.2160,  34.8710,2,  34.8720,2,    241.5,2,    240.3,2,    53.30,2,    22.30,2,     1.43,2,    0.003,2,    0.005,2,     -999,9,     -999,9,     -999,9,     -999,9,     -999,9,     -999,9,   1.8060
35A3CITHER3_2 ,A13        ,228     ,  1,29         ,4          ,2,19950325,0059,   0.7080,   1.3997,     4756,   4696.5,   2.1990,  34.8660,2,  34.8680,2,    238.3,2,    237.7,2,    55.90,2,    22.70,2,     1.45,2,    0.010,2,    0.019,2,     -999,9,     -999,9,     -999,9,     -999,9,     -999,9,     -999,9,   1.7770
35A3CITHER3_2 ,A13        ,228     ,  1,30         ,3          ,2,19950325,0059,   0.7080,   1.3997,     4756,   4804.2,   2.1850,  34.8640,2,  34.8640,2,    232.0,2,    232.8,2,    58.90,2,    23.00,2,     1.47,2,    0.004,2,    0.003,2,     -999,9,     -999,9,     -999,9,     -999,9,     -999,9,     -999,9,   1.7510
35A3CITHER3_2 ,A13        ,229     ,  1,1          ,32         ,2,19950325,0623,   0.9855,   1.2200,     4772,      5.5,  29.4240,  34.1220,2,  34.1260,3,    199.2,2,    196.1,2,     6.30,2,     0.00,2,     0.00,2,    1.551,2,    0.841,2,   1887.1,2,   2241.9,2,     -999,9,     -999,9,     -999,9,     -999,9,  29.4230
35A3CITHER3_2 ,A13        ,229     ,  1,2          ,31         ,2,19950325,0623,   0.9855,   1.2200,     4772,     46.0,  24.3950,  36.0100,2,  35.9970,3,    200.3,2,    192.9,3,     6.30,2,     0.20,2,     0.11,2,    1.667,2,    0.855,2,   2054.2,2,   2359.4,2,     -999,9,     -999,9,     -999,9,     -999,9,  24.3850
35A3CITHER3_2 ,A13        ,229     ,  1,3          ,30         ,2,19950325,0623,   0.9855,   1.2200,     4772,    120.9,  16.0110,  35.6600,2,  35.6530,3,    138.5,2,    143.3,3,     8.90,2,    13.90,2,     0.86,2,    1.612,2,    0.788,2,   2143.3,2,   2338.6,2,     -999,9,     -999,9,     -999,9,     -999,9,  15.9920
35A3CITHER3_2 ,A13        ,229     ,  1,4          ,29         ,2,19950325,0623,   0.9855,   1.2200,     4772,    195.8,  14.5230,  35.4780,2,  35.4660,3,    124.1,2,    109.9,3,    10.60,2,    19.50,2,     1.20,2,    1.225,2,    0.618,2,   2172.3,2,   2325.6,2,     -999,9,     -999,9,     -999,9,     -999,9,  14.4940
35A3CITHER3_2 ,A13        ,229     ,  1,5          ,28         ,2,19950325,0623,   0.9855,   1.2200,     4772,    295.1,  10.0350,  34.9650,2,  34.9600,2,     55.2,2,     58.9,3,    17.10,2,    32.60,2,     1.89,2,    0.304,2,    0.169,2,   2230.6,2,     -999,9,     -999,9,     -999,9,     -999,9,     -999,9,  10.0010
35A3CITHER3_2 ,A13        ,229     ,  1,6          ,27         ,2,19950325,0623,   0.9855,   1.2200,     4772,    395.1,   8.3980,  34.7650,2,  34.7560,3,     79.9,2,     88.1,3,    19.50,2,    32.80,2,     1.96,2,    0.249,2,    0.130,2,   2222.3,2,   2295.1,2,     -999,9,     -999,9,     -999,9,     -999,9,   8.3560
35A3CITHER3_2 ,A13        ,229     ,  1,7          ,26         ,2,19950325,0623,   0.9855,   1.2200,     4772,    595.2,   6.3120,  34.5730,2,  34.5750,2,    123.9,2,    123.6,2,    25.20,2,    33.50,2,     2.10,2,     -999,9,     -999,9,   2217.3,2,     -999,9,     -999,9,     -999,9,     -999,9,     -999,9,   6.2580
35A3CITHER3_2 ,A13        ,229     ,  1,8          ,25         ,2,19950325,0623,   0.9855,   1.2200,     4772,    795.4,   5.0210,  34.5200,2,  34.5180,2,    138.4,2,    138.0,2,    31.20,2,    34.30,2,     2.22,2,    0.024,2,    0.017,2,   2220.3,2,   2299.3,2,     -999,9,     -999,9,     -999,9,     -999,9,   4.9560
35A3CITHER3_2 ,A13        ,229     ,  1,9          ,24         ,2,19950325,0623,   0.9855,   1.2200,     4772,    994.4,   4.4570,  34.6370,2,  34.6390,2,    155.3,2,    157.2,2,    32.60,2,    31.60,2,     2.06,2,    0.006,2,    0.006,2,   2215.9,2,   2315.1,2,     -999,9,     -999,9,     -999,9,     -999,9,   4.3780
35A3CITHER3_2 ,A13        ,229     ,  1,10         ,23         ,2,19950325,0623,   0.9855,   1.2200,     4772,   1169.9,   4.4510,  34.7940,2,  34.7830,3,    174.7,2,    176.6,2,    31.20,3,    28.20,2,     1.82,2,    0.009,2,    0.009,2,   2202.1,2,     -999,9,     -999,9,     -999,9,     -999,9,     -999,9,   4.3560
35A3CITHER3_2 ,A13        ,229     ,  1,11         ,22         ,2,19950325,0623,   0.9855,   1.2200,     4772,   1394.7,   4.3320,  34.9380,2,  34.9410,2,    216.6,2,    215.4,2,    22.40,2,    22.40,2,     1.42,2,    0.030,2,    0.019,2,   2179.6,2,     -999,9,     -999,9,     -999,9,     -999,9,     -999,9,   4.2180
35A3CITHER3_2 ,A13        ,229     ,  1,12         ,21         ,2,19950325,0623,   0.9855,   1.2200,     4772,   1595.3,   4.0780,  34.9550,2,  34.9560,2,    228.2,2,    226.0,2,    22.20,2,    21.00,2,     1.35,2,    0.008,2,    0.009,2,   2174.1,2,     -999,9,     -999,9,     -999,9,     -999,9,     -999,9,   3.9480
35A3CITHER3_2 ,A13        ,229     ,  1,13         ,20         ,2,19950325,0623,   0.9855,   1.2200,     4772,   1795.4,   3.7150,  34.9670,2,  34.9690,2,    242.8,2,    242.4,2,    22.50,2,    19.80,2,     1.25,2,    0.009,2,    0.007,2,   2167.2,2,     -999,9,     -999,9,     -999,9,     -999,9,     -999,9,   3.5710
35A3CITHER3_2 ,A13        ,229     ,  1,14         ,19         ,2,19950325,0623,   0.9855,   1.2200,     4772,   1994.5,   3.5230,  34.9630,2,  34.9670,2,    248.5,2,    247.9,2,    23.30,2,    19.30,2,     1.22,2,    0.014,2,    0.010,2,   2166.0,2,   2318.6,2,     -999,9,     -999,9,     -999,9,     -999,9,   3.3630
35A3CITHER3_2 ,A13        ,229     ,  1,15         ,18         ,2,19950325,0623,   0.9855,   1.2200,     4772,   2246.0,   3.2960,  34.9500,2,  34.9520,2,    246.2,2,    245.6,2,    27.20,2,    19.60,2,     1.23,2,    0.007,2,    0.008,2,   2170.0,2,     -999,9,     -999,9,     -999,9,     -999,9,     -999,9,   3.1160
35A3CITHER3_2 ,A13        ,229     ,  1,17         ,16         ,2,19950325,0623,   0.9855,   1.2200,     4772,   2595.3,   2.8970,  34.9270,2,  34.9280,2,    241.7,2,    241.8,2,    35.00,2,    20.60,2,     1.31,2,    0.016,2,    0.012,2,   2183.3,2,     -999,9,     -999,9,     -999,9,     -999,9,     -999,9,   2.6900
35A3CITHER3_2 ,A13        ,229     ,  1,16         ,17         ,2,19950325,0623,   0.9855,   1.2200,     4772,   2795.8,   2.7840,  34.9210,2,  34.9230,2,    241.4,2,    241.9,2,    37.40,2,    20.90,2,     1.35,2,    0.000,2,    0.001,2,   2180.6,2,     -999,9,     -999,9,     -999,9,     -999,9,     -999,9,   2.5590
35A3CITHER3_2 ,A13        ,229     ,  1,18         ,15         ,2,19950325,0623,   0.9855,   1.2200,     4772,   2795.9,   2.7840,  34.9210,2,  34.9220,2,    241.4,2,    241.8,2,    37.60,2,    21.00,2,     1.34,2,    0.002,2,    0.010,2,   2184.0,2,     -999,9,     -999,9,     -999,9,     -999,9,     -999,9,   2.5590
35A3CITHER3_2 ,A13        ,229     ,  1,19         ,14         ,2,19950325,0623,   0.9855,   1.2200,     4772,   2996.7,   2.6160,  34.9110,2,  34.9100,2,    238.1,2,    238.5,2,    41.80,2,    21.40,2,     1.37,2,    0.002,2,    0.003,2,   2189.4,2,     -999,9,     -999,9,     -999,9,     -999,9,     -999,9,   2.3740
35A3CITHER3_2 ,A13        ,229     ,  1,20         ,13         ,2,19950325,0623,   0.9855,   1.2200,     4772,   3196.6,   2.5330,  34.9050,2,  34.9050,2,    241.5,2,    242.2,2,    42.50,2,    21.50,2,     1.37,2,    0.003,2,     -999,9,   2189.1,2,   2337.1,2,     -999,9,     -999,9,     -999,9,     -999,9,   2.2720
35A3CITHER3_2 ,A13        ,229     ,  1,21         ,12         ,2,19950325,0623,   0.9855,   1.2200,     4772,   3396.2,   2.4790,  34.9010,2,  34.9010,2,    241.2,2,    240.7,2,    44.30,2,    21.50,2,     1.37,2,    0.000,2,    0.003,2,   2192.1,2,     -999,9,     -999,9,     -999,9,     -999,9,     -999,9,   2.1980
35A3CITHER3_2 ,A13        ,229     ,  1,22         ,11         ,2,19950325,0623,   0.9855,   1.2200,     4772,   3595.8,   2.4220,  34.8960,2,     -999,9,    240.4,2,    247.1,2,     -999,9,     -999,9,     -999,9,    0.001,2,    0.003,2,     -999,9,     -999,9,     -999,9,     -999,9,     -999,9,     -999,9,   2.1210
35A3CITHER3_2 ,A13        ,229     ,  1,23         ,10         ,2,19950325,0623,   0.9855,   1.2200,     4772,   3796.8,   2.3680,  34.8900,2,  34.8930,2,    241.7,2,    242.1,2,    47.00,2,    21.20,2,     1.37,2,    0.000,2,    0.002,2,   2193.8,2,     -999,9,     -999,9,     -999,9,     -999,9,     -999,9,   2.0460
35A3CITHER3_2 ,A13        ,229     ,  1,24         ,9          ,2,19950325,0623,   0.9855,   1.2200,     4772,   3796.9,   2.3670,  34.8910,2,  34.8920,2,    241.7,2,    241.8,2,    47.10,2,    21.30,2,     1.36,2,    0.007,2,    0.003,2,   2195.0,2,     -999,9,     -999,9,     -999,9,     -999,9,     -999,9,   2.0450
35A3CITHER3_2 ,A13        ,229     ,  1,25         ,8          ,2,19950325,0623,   0.9855,   1.2200,     4772,   3996.6,   2.3280,  34.8860,2,  34.8880,2,    243.4,2,    243.0,2,    47.90,2,    21.20,2,     1.38,2,    0.004,2,    0.004,2,   2195.3,2,   2345.1,2,     -999,9,     -999,9,     -999,9,     -999,9,   1.9850
35A3CITHER3_2 ,A13        ,229     ,  1,26         ,7          ,2,19950325,0623,   0.9855,   1.2200,     4772,   4196.7,   2.2940,  34.8810,2,  34.8850,2,    243.2,2,    242.6,2,    50.00,2,    21.10,2,     1.39,2,    0.000,2,    0.000,2,   2198.2,2,     -999,9,     -999,9,     -999,9,     -999,9,     -999,9,   1.9290
35A3CITHER3_2 ,A13        ,229     ,  1,27         ,6          ,2,19950325,0623,   0.9855,   1.2200,     4772,   4396.6,   2.2550,  34.8760,2,  34.8790,2,    243.5,2,    242.3,2,    51.70,2,    21.80,2,     1.42,2,    0.001,2,    0.004,2,   2199.7,2,     -999,9,     -999,9,     -999,9,     -999,9,     -999,9,   1.8680
35A3CITHER3_2 ,A13        ,229     ,  1,28         ,5          ,2,19950325,0623,   0.9855,   1.2200,     4772,   4596.6,   2.2150,  34.8710,2,  34.8730,2,    242.8,2,    240.9,2,    53.70,2,    21.20,2,     1.39,2,    0.001,2,    0.002,2,   2201.7,2,     -999,9,     -999,9,     -999,9,     -999,9,     -999,9,   1.8050
35A3CITHER3_2 ,A13        ,229     ,  1,29         ,4          ,2,19950325,0623,   0.9855,   1.2200,     4772,   4748.1,   2.1740,  34.8620,2,  34.8630,2,    233.2,2,    230.9,2,    60.50,2,    23.10,2,     1.47,2,    0.004,2,    0.010,2,   2223.0,3,     -999,9,     -999,9,     -999,9,     -999,9,     -999,9,   1.7470
35A3CITHER3_2 ,A13        ,229     ,  1,30         ,3          ,2,19950325,0623,   0.9855,   1.2200,     4772,   4826.4,   2.1780,  34.8630,2,  34.8650,2,    230.6,2,    231.3,2,    60.70,2,    22.40,2,     1.46,2,    0.003,2,    0.005,2,   2222.2,3,   2365.4,2,     -999,9,     -999,9,     -999,9,     -999,9,   1.7410