BOTTLE,20211216CCHDHYDRO
EXPOCODE,SECT_ID,STNNBR,CASTNO,SAMPNO,BTLNBR,BTLNBR_FLAG_W,DATE,TIME,LATITUDE,LONGITUDE,DEPTH,CTDPRS,CTDTMP,CTDSAL,CTDSAL_FLAG_W,SALNTY,SALNTY_FLAG_W,CTDOXY,CTDOXY_FLAG_W,OXYGEN,OXYGEN_FLAG_W,SILCAT,SILCAT_FLAG_W,NITRAT,NITRAT_FLAG_W,PHSPHT,PHSPHT_FLAG_W,CFC-11,CFC-11_FLAG_W,CFC-12,CFC-12_FLAG_W,TCARBN,TCARBN_FLAG_W,ALKALI,ALKALI_FLAG_W,TRITUM,TRITUM_FLAG_W,HELIUM,HELIUM_FLAG_W,DELHE3,DELHE3_FLAG_W,NEON,NEON_FLAG_W,THETA
,,,,,,,,,,,METERS,DBAR,DEG C,PSS-78,,PSS-78,,UMOL/KG,,UMOL/KG,,UMOL/KG,,UMOL/KG,,UMOL/KG,,PMOL/KG,,PMOL/KG,,UMOL/KG,,UMOL/KG,,TU,,NMOL/KG,,PERCNT,,NMOL/KG,,DEG C
35A3CITHER3_2 ,A13        ,205     ,  1,1          ,32         ,2,19950319,1836,  -7.5008,   5.0005,     5166,      5.4,  29.2760,  35.5300,2,  35.5300,2,    199.3,2,    198.1,2,     6.90,2,     0.00,2,     0.15,3,    1.551,2,    0.861,2,     -999,9,     -999,9,    0.805,2,   1.6820,2,    -1.17,2,    6.519,2,  29.2750
35A3CITHER3_2 ,A13        ,205     ,  1,2          ,31         ,2,19950319,1836,  -7.5008,   5.0005,     5166,     46.6,  17.6170,  35.7040,2,  35.7000,2,    157.5,2,    128.3,3,     8.90,2,    14.40,2,     0.99,3,    1.568,2,    0.776,2,     -999,9,     -999,9,     -999,9,     -999,9,     -999,9,     -999,9,  17.6090
35A3CITHER3_2 ,A13        ,205     ,  1,3          ,30         ,2,19950319,1836,  -7.5008,   5.0005,     5166,     96.7,  15.5080,  35.6010,2,  35.5910,3,     73.2,2,     73.8,2,    11.30,2,    22.20,2,     1.41,3,    1.306,2,    0.652,2,     -999,9,     -999,9,    0.565,2,   1.7470,2,     0.89,2,    7.180,2,  15.4930
35A3CITHER3_2 ,A13        ,205     ,  1,4          ,29         ,2,19950319,1836,  -7.5008,   5.0005,     5166,    195.4,  13.8510,  35.3860,2,  35.3830,2,     57.2,2,     57.6,2,    12.60,2,    26.40,2,     1.62,3,    0.960,2,    0.508,2,     -999,9,     -999,9,    0.447,2,   1.7420,2,     1.50,2,    7.232,2,  13.8230
35A3CITHER3_2 ,A13        ,205     ,  1,5          ,28         ,2,19950319,1836,  -7.5008,   5.0005,     5166,    295.9,  11.3450,  35.0870,2,  35.0880,2,     54.4,2,     47.3,3,    15.00,2,    31.40,2,     1.92,2,    0.454,2,    0.262,2,     -999,9,     -999,9,    0.252,2,   1.7580,2,     1.40,2,    7.381,2,  11.3080
35A3CITHER3_2 ,A13        ,205     ,  1,6          ,27         ,2,19950319,1836,  -7.5008,   5.0005,     5166,    395.9,   9.2720,  34.8740,2,  34.8620,3,     23.4,2,     25.2,2,    19.50,2,    37.70,2,     2.32,2,    0.102,2,    0.064,2,     -999,9,     -999,9,     -999,9,   1.7740,2,     0.66,2,    7.529,1,   9.2280
35A3CITHER3_2 ,A13        ,205     ,  1,7          ,26         ,2,19950319,1836,  -7.5008,   5.0005,     5166,    494.7,   7.5200,  34.6890,2,  34.6910,2,     36.8,2,     41.2,3,    22.80,2,    39.60,2,     2.48,2,    0.027,2,    0.024,2,     -999,9,     -999,9,    0.023,2,   1.7860,2,     0.74,2,    7.611,2,   7.4710
35A3CITHER3_2 ,A13        ,205     ,  1,8          ,25         ,2,19950319,1836,  -7.5008,   5.0005,     5166,    590.8,   6.3770,  34.5870,2,  34.5810,3,     75.3,2,     77.4,2,    25.60,2,    38.70,2,     2.46,2,    0.028,2,    0.028,2,     -999,9,     -999,9,    0.015,2,   1.7870,2,     1.06,2,    7.650,2,   6.3230
35A3CITHER3_2 ,A13        ,205     ,  1,9          ,24         ,2,19950319,1836,  -7.5008,   5.0005,     5166,    793.7,   4.8140,  34.5060,2,  34.5040,2,    125.2,2,    120.5,3,    32.80,2,    36.60,2,     2.40,2,    0.006,2,    0.007,2,     -999,9,     -999,9,     -999,9,     -999,9,     -999,9,     -999,9,   4.7500
35A3CITHER3_2 ,A13        ,205     ,  1,10         ,23         ,2,19950319,1836,  -7.5008,   5.0005,     5166,    995.8,   4.2660,  34.5850,2,  34.7430,4,    143.5,2,    141.4,2,    32.20,2,    30.20,2,     2.00,2,    0.009,2,    0.004,2,     -999,9,     -999,9,     -999,9,     -999,9,     -999,9,     -999,9,   4.1890
35A3CITHER3_2 ,A13        ,205     ,  1,11         ,22         ,2,19950319,1836,  -7.5008,   5.0005,     5166,   1195.1,   4.1170,  34.7420,2,  34.7430,2,    167.7,2,    165.9,2,    32.20,2,    30.10,2,     1.99,2,    0.005,2,    0.006,2,     -999,9,     -999,9,     -999,9,     -999,9,     -999,9,     -999,9,   4.0230
35A3CITHER3_2 ,A13        ,205     ,  1,12         ,21         ,2,19950319,1836,  -7.5008,   5.0005,     5166,   1395.3,   4.0130,  34.8680,2,  34.8660,2,    198.4,2,    196.5,2,    27.80,2,    25.70,2,     1.68,2,    0.004,2,    0.003,2,     -999,9,     -999,9,    0.005,2,   1.8300,2,     1.44,2,    7.881,2,   3.9020
35A3CITHER3_2 ,A13        ,205     ,  1,13         ,20         ,2,19950319,1836,  -7.5008,   5.0005,     5166,   1595.5,   3.8360,  34.9240,2,  34.9230,2,    221.3,2,    219.0,2,    25.80,2,    23.10,2,     1.51,2,    0.006,2,    0.005,2,     -999,9,     -999,9,     -999,9,     -999,9,     -999,9,     -999,9,   3.7090
35A3CITHER3_2 ,A13        ,205     ,  1,14         ,19         ,2,19950319,1836,  -7.5008,   5.0005,     5166,   1794.6,   3.6000,  34.9380,2,  34.9380,2,    229.6,2,    228.8,2,    26.80,2,    21.90,2,     1.42,2,    0.001,2,    0.001,2,     -999,9,     -999,9,    0.008,2,   1.8340,2,     1.35,2,    7.930,2,   3.4580
35A3CITHER3_2 ,A13        ,205     ,  1,15         ,18         ,2,19950319,1836,  -7.5008,   5.0005,     5166,   1996.4,   3.3810,  34.9360,2,  34.9370,2,    234.6,2,    232.6,2,    28.90,2,    21.60,2,     1.37,2,    0.002,2,     -999,9,     -999,9,     -999,9,     -999,9,     -999,9,     -999,9,     -999,9,   3.2230
35A3CITHER3_2 ,A13        ,205     ,  1,16         ,17         ,2,19950319,1836,  -7.5008,   5.0005,     5166,   2195.2,   3.1690,  34.9320,2,  34.9340,2,    236.2,2,    233.5,2,    32.50,2,    21.90,2,     1.42,2,    0.001,2,    0.002,2,     -999,9,     -999,9,    0.003,2,   1.8250,2,     2.65,2,    7.910,2,   2.9960
35A3CITHER3_2 ,A13        ,205     ,  1,17         ,16         ,2,19950319,1836,  -7.5008,   5.0005,     5166,   2396.7,   3.0060,  34.9270,2,  34.9260,2,    235.5,2,    233.3,2,    35.60,2,    21.90,2,     1.42,2,    0.008,2,    0.004,2,     -999,9,     -999,9,     -999,9,     -999,9,     -999,9,     -999,9,   2.8160
35A3CITHER3_2 ,A13        ,205     ,  1,18         ,15         ,2,19950319,1836,  -7.5008,   5.0005,     5166,   2594.9,   2.8480,  34.9190,2,  34.9150,2,    234.1,2,    232.9,2,    38.70,2,    22.20,2,     1.42,2,    0.003,2,   -0.002,2,     -999,9,     -999,9,     -999,9,     -999,9,     -999,9,     -999,9,   2.6420
35A3CITHER3_2 ,A13        ,205     ,  1,19         ,14         ,2,19950319,1836,  -7.5008,   5.0005,     5166,   2796.1,   2.7130,  34.9110,2,  34.9110,2,    235.3,2,    234.1,2,    41.40,2,    22.30,2,     1.42,2,    0.003,2,    0.002,2,     -999,9,     -999,9,    0.005,2,   1.8390,2,     3.47,2,    7.971,2,   2.4890
35A3CITHER3_2 ,A13        ,205     ,  1,20         ,13         ,2,19950319,1836,  -7.5008,   5.0005,     5166,   2995.3,   2.6140,  34.9070,2,  34.9060,2,    235.2,2,    234.3,2,    43.70,2,    22.40,2,     1.43,2,    0.008,2,     -999,9,     -999,9,     -999,9,     -999,9,   1.8370,2,     3.47,2,     -999,9,   2.3720
35A3CITHER3_2 ,A13        ,205     ,  1,21         ,12         ,2,19950319,1836,  -7.5008,   5.0005,     5166,   3195.1,   2.5380,  34.9020,2,  34.9020,2,    233.8,2,    233.1,2,    46.20,2,    22.40,2,     1.46,2,    0.005,2,    0.004,2,     -999,9,     -999,9,     -999,9,     -999,9,     -999,9,     -999,9,   2.2770
35A3CITHER3_2 ,A13        ,205     ,  1,22         ,11         ,2,19950319,1836,  -7.5008,   5.0005,     5166,   3396.1,   2.4750,  34.9000,2,  34.8960,2,    231.9,2,    229.7,2,    49.30,2,    22.40,2,     1.46,2,    0.007,2,    0.000,2,     -999,9,     -999,9,    0.006,2,   1.8390,2,     3.35,2,    7.975,2,   2.1940
35A3CITHER3_2 ,A13        ,205     ,  1,23         ,10         ,2,19950319,1836,  -7.5008,   5.0005,     5166,   3596.3,   2.4010,  34.8940,2,  34.8940,2,    225.6,2,    224.1,2,    53.90,2,    22.80,2,     1.49,2,    0.003,2,    0.001,2,     -999,9,     -999,9,     -999,9,     -999,9,     -999,9,     -999,9,   2.1010
35A3CITHER3_2 ,A13        ,205     ,  1,24         ,9          ,2,19950319,1836,  -7.5008,   5.0005,     5166,   3796.2,   2.3440,  34.8900,2,  34.8910,2,    226.1,2,    227.6,2,    54.30,2,    22.50,2,     1.44,2,    0.003,2,    0.001,2,     -999,9,     -999,9,     -999,9,     -999,9,     -999,9,     -999,9,   2.0230
35A3CITHER3_2 ,A13        ,205     ,  1,25         ,8          ,2,19950319,1836,  -7.5008,   5.0005,     5166,   3996.2,   2.3260,  34.8870,2,  34.8850,2,    227.7,2,    228.3,2,    55.00,2,    22.80,2,     1.49,2,    0.001,2,    0.003,2,     -999,9,     -999,9,    0.013,2,   1.8460,2,     3.18,2,    8.009,4,   1.9830
35A3CITHER3_2 ,A13        ,205     ,  1,26         ,7          ,2,19950319,1836,  -7.5008,   5.0005,     5166,   4197.0,   2.3240,  34.8850,2,  34.8830,2,    231.3,2,    231.8,2,    54.20,2,    22.60,2,     1.46,2,    0.003,2,    0.002,2,     -999,9,     -999,9,     -999,9,     -999,9,     -999,9,     -999,9,   1.9580
35A3CITHER3_2 ,A13        ,205     ,  1,27         ,6          ,2,19950319,1836,  -7.5008,   5.0005,     5166,   4385.0,   2.3300,  34.8820,2,  34.8810,2,    232.4,2,    232.5,2,    54.30,2,    22.60,2,     1.48,2,    0.002,2,    0.005,2,     -999,9,     -999,9,     -999,9,     -999,9,     -999,9,     -999,9,   1.9420
35A3CITHER3_2 ,A13        ,205     ,  1,28         ,5          ,2,19950319,1836,  -7.5008,   5.0005,     5166,   4596.4,   2.3430,  34.8800,2,  34.8800,2,    234.3,2,    234.3,2,    54.00,2,    20.90,3,     1.38,2,    0.003,2,    0.001,2,     -999,9,     -999,9,    0.003,2,   1.8380,2,     2.83,2,    7.997,2,   1.9290
35A3CITHER3_2 ,A13        ,205     ,  1,29         ,4          ,2,19950319,1836,  -7.5008,   5.0005,     5166,   4797.7,   2.3590,  34.8790,2,  34.8790,2,    235.1,2,    235.0,2,    54.00,2,    22.30,2,     1.43,2,    0.003,2,    0.001,2,     -999,9,     -999,9,     -999,9,     -999,9,     -999,9,     -999,9,   1.9200
35A3CITHER3_2 ,A13        ,205     ,  1,30         ,3          ,2,19950319,1836,  -7.5008,   5.0005,     5166,   4998.8,   2.3760,  34.8770,2,  34.8790,2,    235.9,2,    235.4,2,    54.20,2,    21.20,3,     1.38,2,    0.002,2,     -999,9,     -999,9,     -999,9,    0.007,2,   1.8360,2,     2.59,2,    8.015,2,   1.9110
35A3CITHER3_2 ,A13        ,205     ,  1,31         ,2          ,2,19950319,1836,  -7.5008,   5.0005,     5166,   5149.2,   2.3900,  34.8770,2,  34.8730,2,    235.4,2,    234.6,2,    54.20,2,    22.40,2,     1.48,2,    0.003,2,    0.002,2,     -999,9,     -999,9,     -999,9,     -999,9,     -999,9,     -999,9,   1.9050
35A3CITHER3_2 ,A13        ,205     ,  1,32         ,1          ,2,19950319,1836,  -7.5008,   5.0005,     5166,   5230.3,   2.4010,  34.8770,2,  34.8770,2,    233.8,2,    235.1,2,    54.50,2,    22.30,2,     1.45,2,    0.004,2,    0.003,2,     -999,9,     -999,9,    0.006,2,   1.8400,2,     3.03,2,    8.009,2,   1.9060