BOTTLE,20211216CCHDHYDRO
EXPOCODE,SECT_ID,STNNBR,CASTNO,SAMPNO,BTLNBR,BTLNBR_FLAG_W,DATE,TIME,LATITUDE,LONGITUDE,DEPTH,CTDPRS,CTDTMP,CTDSAL,CTDSAL_FLAG_W,SALNTY,SALNTY_FLAG_W,CTDOXY,CTDOXY_FLAG_W,OXYGEN,OXYGEN_FLAG_W,SILCAT,SILCAT_FLAG_W,NITRAT,NITRAT_FLAG_W,PHSPHT,PHSPHT_FLAG_W,CFC-11,CFC-11_FLAG_W,CFC-12,CFC-12_FLAG_W,TCARBN,TCARBN_FLAG_W,ALKALI,ALKALI_FLAG_W,TRITUM,TRITUM_FLAG_W,HELIUM,HELIUM_FLAG_W,DELHE3,DELHE3_FLAG_W,NEON,NEON_FLAG_W,THETA
,,,,,,,,,,,METERS,DBAR,DEG C,PSS-78,,PSS-78,,UMOL/KG,,UMOL/KG,,UMOL/KG,,UMOL/KG,,UMOL/KG,,PMOL/KG,,PMOL/KG,,UMOL/KG,,UMOL/KG,,TU,,NMOL/KG,,PERCNT,,NMOL/KG,,DEG C
35A3CITHER3_2 ,A13        ,157     ,  1,1          ,32         ,2,19950306,0534, -26.5263,   9.2297,     4826,      9.2,  22.5430,  35.7530,2,  35.7510,2,    216.6,2,    218.7,2,     3.10,2,     0.00,2,     0.16,2,    2.079,2,    1.059,2,   2043.8,2,     -999,9,     -999,9,     -999,9,     -999,9,     -999,9,  22.5410
35A3CITHER3_2 ,A13        ,157     ,  1,2          ,31         ,2,19950306,0534, -26.5263,   9.2297,     4826,     46.7,  20.8570,  35.6480,2,  35.6880,3,    229.3,2,    229.7,2,     2.80,2,     0.00,2,     0.16,2,    2.243,2,    1.121,2,   2040.2,2,     -999,9,     -999,9,     -999,9,     -999,9,     -999,9,  20.8480
35A3CITHER3_2 ,A13        ,157     ,  1,3          ,30         ,2,19950306,0534, -26.5263,   9.2297,     4826,    116.6,  15.8950,  35.5030,2,  35.5030,2,    228.0,2,    228.8,2,     3.80,2,     2.20,2,     0.32,2,    2.692,2,    1.308,2,   2065.9,2,     -999,9,     -999,9,     -999,9,     -999,9,     -999,9,  15.8770
35A3CITHER3_2 ,A13        ,157     ,  1,4          ,29         ,2,19950306,0534, -26.5263,   9.2297,     4826,    198.2,  13.9150,  35.2220,2,  35.2250,2,    215.8,2,    213.3,2,     4.40,2,     7.50,2,     0.61,2,    2.708,2,    1.301,2,   2092.0,2,     -999,9,     -999,9,     -999,9,     -999,9,     -999,9,  13.8860
35A3CITHER3_2 ,A13        ,157     ,  1,5          ,28         ,2,19950306,0534, -26.5263,   9.2297,     4826,    398.8,   9.7460,  34.7670,2,  34.7660,2,    204.9,2,    186.3,3,     9.50,2,    17.70,2,     1.29,2,    2.167,2,    1.009,2,   2145.1,2,     -999,9,     -999,9,     -999,9,     -999,9,     -999,9,   9.7000
35A3CITHER3_2 ,A13        ,157     ,  1,6          ,27         ,2,19950306,0534, -26.5263,   9.2297,     4826,    497.1,   7.8950,  34.5970,2,  34.6040,3,    154.5,2,    161.9,3,    15.00,2,    26.40,2,     1.74,2,    1.514,2,    0.685,2,   2177.6,2,     -999,9,     -999,9,     -999,9,     -999,9,     -999,9,   7.8440
35A3CITHER3_2 ,A13        ,157     ,  1,7          ,26         ,2,19950306,0534, -26.5263,   9.2297,     4826,    669.3,   5.2170,  34.3880,2,  34.3880,2,    193.7,2,    189.4,2,    23.70,2,    30.30,2,     1.94,2,    1.165,2,    0.536,2,   2187.6,2,     -999,9,     -999,9,     -999,9,     -999,9,     -999,9,   5.1620
35A3CITHER3_2 ,A13        ,157     ,  1,8          ,25         ,2,19950306,0534, -26.5263,   9.2297,     4826,    792.9,   4.3300,  34.4010,2,  34.3940,3,    170.9,2,    174.7,2,    32.70,2,    32.50,2,     2.17,2,    0.525,2,    0.245,2,   2207.8,2,     -999,9,     -999,9,     -999,9,     -999,9,     -999,9,   4.2690
35A3CITHER3_2 ,A13        ,157     ,  1,9          ,24         ,2,19950306,0534, -26.5263,   9.2297,     4826,    862.8,   3.8990,  34.3990,2,  34.3980,2,    184.5,2,    184.9,2,    37.70,2,    32.20,2,     2.17,2,    0.530,2,    0.246,2,   2209.3,2,     -999,9,     -999,9,     -999,9,     -999,9,     -999,9,   3.8350
35A3CITHER3_2 ,A13        ,157     ,  1,10         ,23         ,2,19950306,0534, -26.5263,   9.2297,     4826,    993.4,   3.6900,  34.4800,2,  34.4700,3,    171.3,2,    172.6,2,    41.90,2,    32.80,2,     2.21,2,    0.135,2,    0.065,2,   2220.4,2,     -999,9,     -999,9,     -999,9,     -999,9,     -999,9,   3.6170
35A3CITHER3_2 ,A13        ,157     ,  1,11         ,22         ,2,19950306,0534, -26.5263,   9.2297,     4826,   1192.9,   3.3420,  34.5870,2,  34.5880,2,    176.7,2,    178.0,2,    48.10,2,    31.50,2,     2.11,2,    0.048,2,    0.027,2,   2225.6,2,     -999,9,     -999,9,     -999,9,     -999,9,     -999,9,   3.2560
35A3CITHER3_2 ,A13        ,157     ,  1,12         ,21         ,2,19950306,0534, -26.5263,   9.2297,     4826,   1395.7,   3.2150,  34.7070,2,  34.7090,2,    189.0,2,    189.0,2,    46.90,2,    29.10,2,     1.96,2,    0.015,2,    0.007,2,   2217.7,2,     -999,9,     -999,9,     -999,9,     -999,9,     -999,9,   3.1130
35A3CITHER3_2 ,A13        ,157     ,  1,13         ,20         ,2,19950306,0534, -26.5263,   9.2297,     4826,   1596.1,   3.2960,  34.8110,2,  34.8120,2,    203.9,2,    204.6,2,    38.80,2,    26.00,2,     1.73,2,    0.003,2,    0.002,2,   2202.6,2,     -999,9,     -999,9,     -999,9,     -999,9,     -999,9,   3.1760
35A3CITHER3_2 ,A13        ,157     ,  1,14         ,19         ,2,19950306,0534, -26.5263,   9.2297,     4826,   1797.9,   3.1590,  34.8450,2,  34.8450,2,    214.0,2,    215.8,2,    38.50,2,    24.90,2,     1.66,2,     -999,9,     -999,9,   2198.1,2,     -999,9,     -999,9,     -999,9,     -999,9,     -999,9,   3.0230
35A3CITHER3_2 ,A13        ,157     ,  1,15         ,18         ,2,19950306,0534, -26.5263,   9.2297,     4826,   1998.3,   2.9940,  34.8610,2,  34.8610,2,    220.8,2,    222.9,2,    40.10,2,    24.00,2,     1.56,2,    0.003,2,    0.002,2,   2195.0,2,     -999,9,     -999,9,     -999,9,     -999,9,     -999,9,   2.8420
35A3CITHER3_2 ,A13        ,157     ,  1,16         ,17         ,2,19950306,0534, -26.5263,   9.2297,     4826,   2191.4,   2.8910,  34.8750,2,  34.8760,2,    228.6,2,    228.3,2,    40.50,2,    23.50,2,     1.54,2,    0.002,2,     -999,9,     -999,9,     -999,9,     -999,9,     -999,9,     -999,9,     -999,9,   2.7230
35A3CITHER3_2 ,A13        ,157     ,  1,17         ,16         ,2,19950306,0534, -26.5263,   9.2297,     4826,   2193.9,   2.8910,  34.8750,2,  34.8750,2,    228.7,2,    228.6,2,    40.50,2,    23.10,2,     1.53,2,    0.004,2,    0.006,2,   2191.8,2,     -999,9,     -999,9,     -999,9,     -999,9,     -999,9,   2.7220
35A3CITHER3_2 ,A13        ,157     ,  1,18         ,15         ,2,19950306,0534, -26.5263,   9.2297,     4826,   2397.1,   2.7470,  34.8760,2,  34.8670,3,    230.7,2,    231.0,2,    43.00,2,    23.00,2,     1.50,2,    0.004,2,    0.012,2,   2192.4,2,     -999,9,     -999,9,     -999,9,     -999,9,     -999,9,   2.5620
35A3CITHER3_2 ,A13        ,157     ,  1,20         ,13         ,2,19950306,0534, -26.5263,   9.2297,     4826,   2593.7,   2.6210,  34.8710,2,  34.8690,2,    230.8,2,    231.9,2,    46.20,2,    23.40,2,     1.54,2,     -999,9,     -999,9,   2195.5,2,     -999,9,     -999,9,     -999,9,     -999,9,     -999,9,   2.4190
35A3CITHER3_2 ,A13        ,157     ,  1,19         ,14         ,2,19950306,0534, -26.5263,   9.2297,     4826,   2595.4,   2.6210,  34.8700,2,  34.8700,2,    230.8,2,    232.2,2,    45.90,2,    23.40,2,     1.51,2,     -999,9,     -999,9,     -999,9,     -999,9,     -999,9,     -999,9,     -999,9,     -999,9,   2.4190
35A3CITHER3_2 ,A13        ,157     ,  1,21         ,12         ,2,19950306,0534, -26.5263,   9.2297,     4826,   2795.3,   2.5090,  34.8670,2,  34.8660,2,    231.4,2,    232.0,2,    49.20,2,    23.60,2,     1.54,2,    0.001,2,   -0.001,2,   2198.8,2,     -999,9,     -999,9,     -999,9,     -999,9,     -999,9,   2.2900
35A3CITHER3_2 ,A13        ,157     ,  1,22         ,11         ,2,19950306,0534, -26.5263,   9.2297,     4826,   2993.6,   2.4290,  34.8640,2,  34.8620,2,    232.3,2,    232.5,2,    51.50,2,    23.40,2,     1.54,2,    0.004,2,    0.002,2,   2201.6,2,     -999,9,     -999,9,     -999,9,     -999,9,     -999,9,   2.1920
35A3CITHER3_2 ,A13        ,157     ,  1,23         ,10         ,2,19950306,0534, -26.5263,   9.2297,     4826,   3193.6,   2.3840,  34.8690,2,  34.8680,2,    232.5,2,    232.9,2,    52.80,2,    23.40,2,     1.54,2,    0.002,2,   -0.002,2,   2203.7,2,     -999,9,     -999,9,     -999,9,     -999,9,     -999,9,   2.1270
35A3CITHER3_2 ,A13        ,157     ,  1,24         ,9          ,2,19950306,0534, -26.5263,   9.2297,     4826,   3399.1,   2.3000,  34.8620,2,  34.8620,2,    231.3,2,    231.7,2,    56.00,2,    23.80,2,     1.57,2,    0.001,2,    0.005,2,     -999,9,     -999,9,     -999,9,     -999,9,     -999,9,     -999,9,   2.0240
35A3CITHER3_2 ,A13        ,157     ,  1,25         ,8          ,2,19950306,0534, -26.5263,   9.2297,     4826,   3594.5,   2.2180,  34.8540,2,  34.8530,2,    230.7,2,    230.5,2,    60.10,2,    24.20,2,     1.60,2,    0.004,2,    0.001,2,   2212.4,2,     -999,9,     -999,9,     -999,9,     -999,9,     -999,9,   1.9230
35A3CITHER3_2 ,A13        ,157     ,  1,26         ,7          ,2,19950306,0534, -26.5263,   9.2297,     4826,   3794.9,   2.0380,  34.8360,2,  34.8340,2,    228.2,2,    227.9,2,    68.40,2,    24.40,2,     1.66,2,    0.002,2,    0.004,2,   2218.6,2,     -999,9,     -999,9,     -999,9,     -999,9,     -999,9,   1.7260
35A3CITHER3_2 ,A13        ,157     ,  1,27         ,6          ,2,19950306,0534, -26.5263,   9.2297,     4826,   3995.2,   1.7320,  34.8020,2,  34.8010,2,    224.0,2,    223.9,2,    79.60,2,    27.10,2,     1.78,2,    0.003,2,     -999,9,   2228.9,2,     -999,9,     -999,9,     -999,9,     -999,9,     -999,9,   1.4060
35A3CITHER3_2 ,A13        ,157     ,  1,28         ,5          ,2,19950306,0534, -26.5263,   9.2297,     4826,   4197.2,   1.4220,  34.7720,2,  34.7690,2,    219.8,2,    220.3,2,    92.50,2,    28.60,2,     1.87,2,    0.001,2,    0.004,2,   2240.2,2,     -999,9,     -999,9,     -999,9,     -999,9,     -999,9,   1.0830
35A3CITHER3_2 ,A13        ,157     ,  1,29         ,4          ,2,19950306,0534, -26.5263,   9.2297,     4826,   4398.1,   1.2210,  34.7500,2,  34.7490,2,    217.4,2,    218.3,2,   100.80,2,    29.70,2,     1.93,2,    0.007,2,    0.004,2,   2248.3,2,     -999,9,     -999,9,     -999,9,     -999,9,     -999,9,   0.8660
35A3CITHER3_2 ,A13        ,157     ,  1,30         ,3          ,2,19950306,0534, -26.5263,   9.2297,     4826,   4599.8,   1.1500,  34.7410,2,  34.7390,2,    216.4,2,    217.0,2,   104.50,2,    29.70,2,     1.98,2,    0.008,2,    0.003,2,   2252.2,2,     -999,9,     -999,9,     -999,9,     -999,9,     -999,9,   0.7740
35A3CITHER3_2 ,A13        ,157     ,  1,31         ,2          ,2,19950306,0534, -26.5263,   9.2297,     4826,   4793.1,   1.1400,  34.7380,2,  34.7390,2,    215.8,2,    216.6,2,   106.40,2,    30.20,2,     1.97,2,    0.006,2,    0.008,2,   2254.3,2,     -999,9,     -999,9,     -999,9,     -999,9,     -999,9,   0.7420
35A3CITHER3_2 ,A13        ,157     ,  1,32         ,1          ,2,19950306,0534, -26.5263,   9.2297,     4826,   4905.7,   1.1450,  34.7370,2,  34.7370,2,    214.6,2,    216.8,2,   106.70,2,    29.90,2,     2.00,2,    0.014,2,     -999,9,   2255.2,2,     -999,9,     -999,9,     -999,9,     -999,9,     -999,9,   0.7340