BOTTLE,20211216CCHDHYDRO
EXPOCODE,SECT_ID,STNNBR,CASTNO,SAMPNO,BTLNBR,BTLNBR_FLAG_W,DATE,TIME,LATITUDE,LONGITUDE,DEPTH,CTDPRS,CTDTMP,CTDSAL,CTDSAL_FLAG_W,SALNTY,SALNTY_FLAG_W,CTDOXY,CTDOXY_FLAG_W,OXYGEN,OXYGEN_FLAG_W,SILCAT,SILCAT_FLAG_W,NITRAT,NITRAT_FLAG_W,PHSPHT,PHSPHT_FLAG_W,CFC-11,CFC-11_FLAG_W,CFC-12,CFC-12_FLAG_W,TCARBN,TCARBN_FLAG_W,ALKALI,ALKALI_FLAG_W,TRITUM,TRITUM_FLAG_W,HELIUM,HELIUM_FLAG_W,DELHE3,DELHE3_FLAG_W,NEON,NEON_FLAG_W,THETA
,,,,,,,,,,,METERS,DBAR,DEG C,PSS-78,,PSS-78,,UMOL/KG,,UMOL/KG,,UMOL/KG,,UMOL/KG,,UMOL/KG,,PMOL/KG,,PMOL/KG,,UMOL/KG,,UMOL/KG,,TU,,NMOL/KG,,PERCNT,,NMOL/KG,,DEG C
35A3CITHER3_2 ,A13        ,165     ,  1,1          ,32         ,2,19950310,1033, -23.6922,   7.6685,     4695,      4.8,  22.9670,  35.6840,2,  35.6880,3,    217.0,2,    217.1,2,     2.40,2,     0.00,2,     0.20,2,    2.039,2,    1.085,2,     -999,9,     -999,9,    0.676,2,   1.7030,2,    -1.43,2,    6.804,2,  22.9660
35A3CITHER3_2 ,A13        ,165     ,  1,2          ,31         ,2,19950310,1033, -23.6922,   7.6685,     4695,     46.7,  20.9920,  35.5560,2,  35.5900,3,    222.1,2,    237.9,3,     2.70,2,     0.00,2,     0.22,2,    2.349,2,    1.184,2,     -999,9,     -999,9,     -999,9,     -999,9,     -999,9,     -999,9,  20.9830
35A3CITHER3_2 ,A13        ,165     ,  1,3          ,30         ,2,19950310,1033, -23.6922,   7.6685,     4695,     96.3,  16.1510,  35.4440,2,  35.4310,3,    232.4,2,    222.2,3,     3.70,2,     4.50,2,     0.42,2,    2.709,2,    1.368,2,     -999,9,     -999,9,    0.727,2,   1.7420,2,    -1.00,2,    7.159,2,  16.1360
35A3CITHER3_2 ,A13        ,165     ,  1,4          ,29         ,2,19950310,1033, -23.6922,   7.6685,     4695,    196.7,  12.3740,  35.1060,2,  35.1100,2,    119.1,2,    116.4,2,     9.30,2,    23.20,2,     1.47,2,    1.909,2,    0.926,2,     -999,9,     -999,9,    0.469,2,   1.7750,2,     0.94,2,    7.357,2,  12.3480
35A3CITHER3_2 ,A13        ,165     ,  1,5          ,28         ,2,19950310,1033, -23.6922,   7.6685,     4695,    296.0,  10.3180,  34.8970,2,  34.9090,3,     78.6,2,     83.4,3,    12.90,2,    30.00,2,     1.82,2,    1.184,2,    0.583,2,     -999,9,     -999,9,    0.321,2,   1.7720,2,     1.38,2,    7.427,2,  10.2830
35A3CITHER3_2 ,A13        ,165     ,  1,6          ,27         ,2,19950310,1033, -23.6922,   7.6685,     4695,    345.4,   9.6560,  34.8580,2,  34.8410,3,     55.8,2,     56.4,2,    15.80,2,    34.00,2,     2.10,2,    0.753,2,    0.358,2,     -999,9,     -999,9,    0.210,2,   1.7710,2,     1.36,2,    7.501,2,   9.6170
35A3CITHER3_2 ,A13        ,165     ,  1,7          ,26         ,2,19950310,1033, -23.6922,   7.6685,     4695,    494.5,   6.9890,  34.5860,2,  34.5890,2,     87.7,2,     89.6,2,    21.30,2,    36.30,2,     2.29,2,    0.355,2,    0.184,2,     -999,9,     -999,9,    0.077,2,   1.7850,2,     1.26,2,    7.647,2,   6.9420
35A3CITHER3_2 ,A13        ,165     ,  1,8          ,25         ,2,19950310,1033, -23.6922,   7.6685,     4695,    595.8,   5.9300,  34.5150,2,  34.5220,3,    108.5,2,     99.2,3,    25.70,2,    37.60,2,     2.38,2,    0.153,2,    0.138,2,     -999,9,     -999,9,    0.027,2,   1.7930,2,     1.56,2,    7.717,2,   5.8780
35A3CITHER3_2 ,A13        ,165     ,  1,9          ,24         ,2,19950310,1033, -23.6922,   7.6685,     4695,    794.5,   4.2090,  34.4390,2,  34.4470,3,    158.0,2,    156.4,2,    35.20,2,    34.90,2,     2.25,2,    0.122,2,    0.104,2,     -999,9,     -999,9,     -999,9,     -999,9,     -999,9,     -999,9,   4.1490
35A3CITHER3_2 ,A13        ,165     ,  1,10         ,23         ,2,19950310,1033, -23.6922,   7.6685,     4695,    994.6,   3.7840,  34.5310,2,  34.5240,3,    161.7,2,    160.3,2,    40.30,2,    34.00,2,     2.25,2,     -999,9,     -999,9,     -999,9,     -999,9,     -999,9,     -999,9,     -999,9,     -999,9,   3.7100
35A3CITHER3_2 ,A13        ,165     ,  1,11         ,22         ,2,19950310,1033, -23.6922,   7.6685,     4695,    996.0,   3.7820,  34.5300,2,  34.5320,2,    161.6,2,    166.4,3,    40.20,2,    34.20,2,     2.23,2,    0.028,2,    0.021,2,     -999,9,     -999,9,    0.010,2,   1.8080,2,     2.78,2,    7.848,2,   3.7080
35A3CITHER3_2 ,A13        ,165     ,  1,12         ,21         ,2,19950310,1033, -23.6922,   7.6685,     4695,   1194.6,   3.4790,  34.6320,2,  34.6350,2,    173.3,2,    174.0,2,    43.60,2,    31.50,2,     2.05,2,    0.015,2,    0.021,2,     -999,9,     -999,9,     -999,9,     -999,9,     -999,9,     -999,9,   3.3910
35A3CITHER3_2 ,A13        ,165     ,  1,13         ,20         ,2,19950310,1033, -23.6922,   7.6685,     4695,   1395.9,   3.4130,  34.7330,2,  34.7330,2,    188.2,2,    189.8,2,    40.50,2,    29.00,2,     1.90,2,    0.002,2,     -999,9,     -999,9,     -999,9,    0.005,2,   1.8200,2,     4.49,2,    7.906,2,   3.3090
35A3CITHER3_2 ,A13        ,165     ,  1,14         ,19         ,2,19950310,1033, -23.6922,   7.6685,     4695,   1595.3,   3.3870,  34.8250,2,  34.8250,2,    203.9,2,    205.7,2,    35.50,2,    26.40,2,     1.71,2,    0.002,2,     -999,9,     -999,9,     -999,9,     -999,9,     -999,9,     -999,9,     -999,9,   3.2660
35A3CITHER3_2 ,A13        ,165     ,  1,15         ,18         ,2,19950310,1033, -23.6922,   7.6685,     4695,   1796.2,   3.2220,  34.8560,2,  34.8590,2,    215.9,2,    216.7,2,    36.00,2,    25.30,2,     1.60,2,    0.000,2,    0.006,2,     -999,9,     -999,9,    0.003,2,   1.8380,2,     3.84,2,    7.926,2,   3.0850
35A3CITHER3_2 ,A13        ,165     ,  1,16         ,17         ,2,19950310,1033, -23.6922,   7.6685,     4695,   1994.3,   3.1380,  34.8860,2,  34.8850,2,    224.1,2,    224.1,2,    34.80,2,    24.10,2,     1.50,2,     -999,9,     -999,9,     -999,9,     -999,9,     -999,9,   1.8220,2,     3.79,2,     -999,9,   2.9840
35A3CITHER3_2 ,A13        ,165     ,  1,17         ,16         ,2,19950310,1033, -23.6922,   7.6685,     4695,   2194.1,   2.9830,  34.8900,2,  34.8880,2,    229.6,2,    230.1,2,    36.60,2,    23.60,2,     1.47,2,     -999,9,     -999,9,     -999,9,     -999,9,    0.005,2,   1.8200,2,     4.03,2,    7.946,2,   2.8130
35A3CITHER3_2 ,A13        ,165     ,  1,18         ,15         ,2,19950310,1033, -23.6922,   7.6685,     4695,   2395.2,   2.8450,  34.8910,2,  34.8910,2,    233.8,2,    233.5,2,    38.10,2,    23.30,2,     1.49,2,     -999,9,     -999,9,     -999,9,     -999,9,    0.006,2,   1.8390,2,     4.52,2,    7.937,2,   2.6580
35A3CITHER3_2 ,A13        ,165     ,  1,19         ,14         ,2,19950310,1033, -23.6922,   7.6685,     4695,   2596.2,   2.6930,  34.8810,2,  34.8820,2,    235.0,2,    233.7,2,    41.90,2,    23.30,2,     1.42,3,    0.001,2,    0.006,2,     -999,9,     -999,9,     -999,9,   1.8440,2,     5.10,2,     -999,9,   2.4900
35A3CITHER3_2 ,A13        ,165     ,  1,20         ,13         ,2,19950310,1033, -23.6922,   7.6685,     4695,   2795.0,   2.5840,  34.8790,2,  34.8790,2,    234.7,2,    234.4,2,    44.10,2,    23.80,2,     1.52,2,     -999,9,     -999,9,     -999,9,     -999,9,     -999,9,     -999,9,     -999,9,     -999,9,   2.3630
35A3CITHER3_2 ,A13        ,165     ,  1,21         ,12         ,2,19950310,1033, -23.6922,   7.6685,     4695,   2997.3,   2.4810,  34.8710,2,  34.8700,2,    233.7,2,    233.5,2,    47.10,2,    24.40,2,     1.56,2,    0.000,2,    0.008,2,     -999,9,     -999,9,     -999,9,   1.8360,2,     4.95,2,     -999,9,   2.2420
35A3CITHER3_2 ,A13        ,165     ,  1,22         ,11         ,2,19950310,1033, -23.6922,   7.6685,     4695,   3196.5,   2.4070,  34.8700,2,  34.8640,3,    233.4,2,    232.4,2,    49.60,2,    24.40,2,     1.57,2,    0.026,3,    0.033,3,     -999,9,     -999,9,     -999,9,     -999,9,     -999,9,     -999,9,   2.1490
35A3CITHER3_2 ,A13        ,165     ,  1,23         ,10         ,2,19950310,1033, -23.6922,   7.6685,     4695,   3396.7,   2.3360,  34.8650,2,  34.8640,2,    232.1,2,    231.9,2,    52.00,2,    24.40,2,     1.53,3,     -999,9,     -999,9,     -999,9,     -999,9,    0.009,2,   1.8440,2,     5.11,2,    8.028,2,   2.0590
35A3CITHER3_2 ,A13        ,165     ,  1,24         ,9          ,2,19950310,1033, -23.6922,   7.6685,     4695,   3597.3,   2.2390,  34.8580,2,  34.8570,2,    231.1,2,    230.3,2,    56.00,2,    24.90,2,     1.59,2,    0.002,2,     -999,9,     -999,9,     -999,9,     -999,9,     -999,9,     -999,9,     -999,9,   1.9430
35A3CITHER3_2 ,A13        ,165     ,  1,25         ,8          ,2,19950310,1033, -23.6922,   7.6685,     4695,   3795.9,   2.0560,  34.8370,2,  34.8360,2,    228.7,2,    227.6,2,    65.40,2,    26.00,2,     1.68,2,    0.006,2,    0.010,2,     -999,9,     -999,9,     -999,9,     -999,9,     -999,9,     -999,9,   1.7430
35A3CITHER3_2 ,A13        ,165     ,  1,26         ,7          ,2,19950310,1033, -23.6922,   7.6685,     4695,   3995.4,   1.6980,  34.8000,2,  34.7990,2,    223.4,2,    222.9,2,    80.00,2,    27.40,2,     1.79,2,    0.000,2,    0.009,2,     -999,9,     -999,9,    0.008,2,   1.8690,2,     5.97,2,    8.062,2,   1.3730
35A3CITHER3_2 ,A13        ,165     ,  1,27         ,6          ,2,19950310,1033, -23.6922,   7.6685,     4695,   4196.3,   1.3450,  34.7650,2,  34.7630,2,    218.5,2,    219.1,2,    93.90,2,    29.20,2,     1.89,2,     -999,9,     -999,9,     -999,9,     -999,9,     -999,9,     -999,9,     -999,9,     -999,9,   1.0080
35A3CITHER3_2 ,A13        ,165     ,  1,28         ,5          ,2,19950310,1033, -23.6922,   7.6685,     4695,   4196.4,   1.3450,  34.7640,2,  34.7640,2,    218.5,2,    219.0,2,    94.20,2,    28.50,2,     1.88,2,     -999,9,     -999,9,     -999,9,     -999,9,     -999,9,     -999,9,     -999,9,     -999,9,   1.0080
35A3CITHER3_2 ,A13        ,165     ,  1,29         ,4          ,2,19950310,1033, -23.6922,   7.6685,     4695,   4396.3,   1.1780,  34.7480,2,  34.7440,2,    216.2,2,    217.4,2,   101.00,2,    30.00,2,     1.96,2,    0.007,2,    0.016,3,     -999,9,     -999,9,     -999,9,     -999,9,     -999,9,     -999,9,   0.8240
35A3CITHER3_2 ,A13        ,165     ,  1,30         ,3          ,2,19950310,1033, -23.6922,   7.6685,     4695,   4598.1,   1.1320,  34.7400,2,  34.7410,2,    215.0,2,    217.5,2,   103.80,2,    30.30,2,     1.99,2,    0.006,2,    0.005,2,     -999,9,     -999,9,    0.006,2,   1.8730,2,     6.48,2,    8.221,2,   0.7570
35A3CITHER3_2 ,A13        ,165     ,  1,31         ,2          ,2,19950310,1033, -23.6922,   7.6685,     4695,   4695.4,   1.1270,  34.7380,2,  34.7390,2,    214.7,2,    216.3,2,   104.60,2,    30.00,2,     2.02,2,    0.007,2,     -999,9,     -999,9,     -999,9,     -999,9,     -999,9,     -999,9,     -999,9,   0.7410
35A3CITHER3_2 ,A13        ,165     ,  1,32         ,1          ,2,19950310,1033, -23.6922,   7.6685,     4695,   4752.4,   1.1340,  34.7370,2,  34.7380,2,    214.4,2,    217.4,2,   104.60,2,    30.10,2,     1.99,2,    0.006,2,     -999,9,     -999,9,     -999,9,    0.013,2,   1.8630,2,     6.72,2,    8.207,4,   0.7410