BOTTLE,20211216CCHDHYDRO
EXPOCODE,SECT_ID,STNNBR,CASTNO,SAMPNO,BTLNBR,BTLNBR_FLAG_W,DATE,TIME,LATITUDE,LONGITUDE,DEPTH,CTDPRS,CTDTMP,CTDSAL,CTDSAL_FLAG_W,SALNTY,SALNTY_FLAG_W,CTDOXY,CTDOXY_FLAG_W,OXYGEN,OXYGEN_FLAG_W,SILCAT,SILCAT_FLAG_W,NITRAT,NITRAT_FLAG_W,PHSPHT,PHSPHT_FLAG_W,CFC-11,CFC-11_FLAG_W,CFC-12,CFC-12_FLAG_W,TCARBN,TCARBN_FLAG_W,ALKALI,ALKALI_FLAG_W,TRITUM,TRITUM_FLAG_W,HELIUM,HELIUM_FLAG_W,DELHE3,DELHE3_FLAG_W,NEON,NEON_FLAG_W,THETA
,,,,,,,,,,,METERS,DBAR,DEG C,PSS-78,,PSS-78,,UMOL/KG,,UMOL/KG,,UMOL/KG,,UMOL/KG,,UMOL/KG,,PMOL/KG,,PMOL/KG,,UMOL/KG,,UMOL/KG,,TU,,NMOL/KG,,PERCNT,,NMOL/KG,,DEG C
35A3CITHER3_2 ,A13        ,137     ,  1,1          ,32         ,2,19950301,0348, -35.9927,   9.9957,     5108,      6.1,  20.8510,  35.7860,2,  35.7870,2,    228.4,2,    225.7,2,     3.80,3,     0.00,2,     0.09,2,    2.251,2,    1.155,2,     -999,9,     -999,9,     -999,9,     -999,9,     -999,9,     -999,9,  20.8500
35A3CITHER3_2 ,A13        ,137     ,  1,2          ,31         ,2,19950301,0348, -35.9927,   9.9957,     5108,     46.8,  20.8720,  35.7990,2,  35.7990,2,    231.0,2,    225.0,3,     3.70,3,     0.00,2,     0.09,2,    2.251,2,    1.160,2,     -999,9,     -999,9,     -999,9,     -999,9,     -999,9,     -999,9,  20.8630
35A3CITHER3_2 ,A13        ,137     ,  1,3          ,30         ,2,19950301,0348, -35.9927,   9.9957,     5108,    121.4,  17.2140,  35.5640,2,  35.5630,2,    210.1,2,    213.0,2,     4.90,3,     3.40,2,     0.29,2,    2.504,2,    1.249,2,     -999,9,     -999,9,     -999,9,     -999,9,     -999,9,     -999,9,  17.1940
35A3CITHER3_2 ,A13        ,137     ,  1,4          ,29         ,2,19950301,0348, -35.9927,   9.9957,     5108,    196.4,  15.3670,  35.4400,2,  35.4390,2,    213.1,2,    213.2,2,     5.80,3,     5.80,2,     0.42,2,    2.617,2,    1.274,2,     -999,9,     -999,9,     -999,9,     -999,9,     -999,9,     -999,9,  15.3370
35A3CITHER3_2 ,A13        ,137     ,  1,5          ,28         ,2,19950301,0348, -35.9927,   9.9957,     5108,    196.6,  15.3650,  35.4410,2,  35.4320,3,    213.3,2,    212.6,2,     5.70,3,     5.80,2,     0.43,2,    2.621,2,    1.275,2,     -999,9,     -999,9,     -999,9,     -999,9,     -999,9,     -999,9,  15.3350
35A3CITHER3_2 ,A13        ,137     ,  1,6          ,27         ,2,19950301,0348, -35.9927,   9.9957,     5108,    395.5,  12.2030,  35.0750,2,  35.0710,2,    216.3,2,    214.5,2,     6.10,3,    11.50,2,     0.77,2,    2.515,2,    1.201,2,     -999,9,     -999,9,     -999,9,     -999,9,     -999,9,     -999,9,  12.1500
35A3CITHER3_2 ,A13        ,137     ,  1,7          ,26         ,2,19950301,0348, -35.9927,   9.9957,     5108,    593.5,   8.9150,  34.6810,2,  34.6800,2,    204.8,2,    205.0,2,    11.90,3,    20.00,2,     1.30,2,    1.949,2,    0.917,2,     -999,9,     -999,9,     -999,9,     -999,9,     -999,9,     -999,9,   8.8500
35A3CITHER3_2 ,A13        ,137     ,  1,8          ,25         ,2,19950301,0348, -35.9927,   9.9957,     5108,    794.6,   5.7910,  34.3910,2,  34.3930,2,    210.5,2,    212.8,2,    19.90,3,    26.90,2,     1.75,2,     -999,9,     -999,9,     -999,9,     -999,9,     -999,9,     -999,9,     -999,9,     -999,9,   5.7210
35A3CITHER3_2 ,A13        ,137     ,  1,9          ,24         ,2,19950301,0348, -35.9927,   9.9957,     5108,    995.0,   4.3520,  34.3770,2,  34.3760,2,    210.0,2,    205.9,3,    34.50,3,    30.20,2,     1.98,3,    1.304,2,    0.592,2,     -999,9,     -999,9,     -999,9,     -999,9,     -999,9,     -999,9,   4.2740
35A3CITHER3_2 ,A13        ,137     ,  1,10         ,23         ,2,19950301,0348, -35.9927,   9.9957,     5108,   1194.9,   3.5680,  34.4530,2,  34.4530,2,    182.1,2,    184.6,2,    51.30,2,    32.60,2,     2.15,2,    0.578,2,    0.272,2,     -999,9,     -999,9,     -999,9,     -999,9,     -999,9,     -999,9,   3.4800
35A3CITHER3_2 ,A13        ,137     ,  1,11         ,22         ,2,19950301,0348, -35.9927,   9.9957,     5108,   1396.6,   3.1940,  34.5530,2,  34.5560,2,    176.1,2,    173.2,2,    62.30,2,    32.40,2,     2.18,2,    0.218,2,    0.101,2,     -999,9,     -999,9,     -999,9,     -999,9,     -999,9,     -999,9,   3.0930
35A3CITHER3_2 ,A13        ,137     ,  1,12         ,21         ,2,19950301,0348, -35.9927,   9.9957,     5108,   1599.0,   2.8620,  34.6380,2,  34.6390,2,    179.3,2,    178.9,2,    64.70,2,    32.10,2,     2.08,2,    0.082,2,    0.037,2,     -999,9,     -999,9,     -999,9,     -999,9,     -999,9,     -999,9,   2.7470
35A3CITHER3_2 ,A13        ,137     ,  1,13         ,20         ,2,19950301,0348, -35.9927,   9.9957,     5108,   1795.5,   2.7750,  34.7210,2,  34.7240,2,    190.4,2,    191.2,2,    60.80,2,    29.70,2,     1.93,2,    0.028,2,    0.007,2,     -999,9,     -999,9,     -999,9,     -999,9,     -999,9,     -999,9,   2.6450
35A3CITHER3_2 ,A13        ,137     ,  1,14         ,19         ,2,19950301,0348, -35.9927,   9.9957,     5108,   1993.8,   2.7900,  34.7860,2,  34.7860,2,    204.7,2,    204.0,2,    54.20,2,    26.30,2,     1.79,2,    0.011,2,    0.002,2,     -999,9,     -999,9,     -999,9,     -999,9,     -999,9,     -999,9,   2.6420
35A3CITHER3_2 ,A13        ,137     ,  1,15         ,18         ,2,19950301,0348, -35.9927,   9.9957,     5108,   2198.2,   2.7340,  34.8190,2,  34.8190,2,    214.1,2,    213.5,2,    52.10,2,    25.20,2,     1.68,2,    0.005,2,    0.001,2,     -999,9,     -999,9,     -999,9,     -999,9,     -999,9,     -999,9,   2.5680
35A3CITHER3_2 ,A13        ,137     ,  1,16         ,17         ,2,19950301,0348, -35.9927,   9.9957,     5108,   2390.3,   2.6040,  34.8310,2,  34.8310,2,    219.9,2,    218.8,2,    52.90,2,    25.90,2,     1.66,2,    0.005,2,    0.002,2,     -999,9,     -999,9,     -999,9,     -999,9,     -999,9,     -999,9,   2.4220
35A3CITHER3_2 ,A13        ,137     ,  1,17         ,16         ,2,19950301,0348, -35.9927,   9.9957,     5108,   2595.4,   2.5160,  34.8390,2,  34.8430,2,    223.1,2,    222.9,2,    53.60,2,    25.40,2,     1.63,2,    0.005,2,    0.005,2,     -999,9,     -999,9,     -999,9,     -999,9,     -999,9,     -999,9,   2.3160
35A3CITHER3_2 ,A13        ,137     ,  1,18         ,15         ,2,19950301,0348, -35.9927,   9.9957,     5108,   2801.3,   2.4370,  34.8440,2,  34.8450,2,    226.7,2,    226.0,2,    55.50,2,    23.80,2,     1.54,2,    0.001,2,    0.002,2,     -999,9,     -999,9,     -999,9,     -999,9,     -999,9,     -999,9,   2.2190
35A3CITHER3_2 ,A13        ,137     ,  1,19         ,14         ,2,19950301,0348, -35.9927,   9.9957,     5108,   2996.3,   2.3600,  34.8490,2,  34.8460,2,    228.2,2,    228.0,2,    56.00,2,    24.00,2,     1.60,2,    0.004,2,    0.001,2,     -999,9,     -999,9,     -999,9,     -999,9,     -999,9,     -999,9,   2.1240
35A3CITHER3_2 ,A13        ,137     ,  1,20         ,13         ,2,19950301,0348, -35.9927,   9.9957,     5108,   3198.9,   2.2970,  34.8490,2,  34.8490,2,    229.3,2,    229.4,2,    57.20,2,    24.10,2,     1.60,2,    0.004,2,    0.003,2,     -999,9,     -999,9,     -999,9,     -999,9,     -999,9,     -999,9,   2.0420
35A3CITHER3_2 ,A13        ,137     ,  1,21         ,12         ,2,19950301,0348, -35.9927,   9.9957,     5108,   3396.9,   2.2270,  34.8480,2,  34.8480,2,    230.2,2,    229.0,2,    59.90,2,    24.90,2,     1.61,2,   -0.000,2,    0.004,2,     -999,9,     -999,9,     -999,9,     -999,9,     -999,9,     -999,9,   1.9530
35A3CITHER3_2 ,A13        ,137     ,  1,22         ,11         ,2,19950301,0348, -35.9927,   9.9957,     5108,   3595.3,   2.1130,  34.8400,2,  34.8380,2,    230.0,2,    227.9,2,    64.20,2,    25.50,2,     1.63,2,    0.004,2,    0.005,2,     -999,9,     -999,9,     -999,9,     -999,9,     -999,9,     -999,9,   1.8200
35A3CITHER3_2 ,A13        ,137     ,  1,23         ,10         ,2,19950301,0348, -35.9927,   9.9957,     5108,   3797.0,   1.9130,  34.8180,2,  34.8170,2,    226.0,2,    225.3,2,    72.00,2,    26.70,2,     1.71,2,    0.001,2,    0.011,2,     -999,9,     -999,9,     -999,9,     -999,9,     -999,9,     -999,9,   1.6040
35A3CITHER3_2 ,A13        ,137     ,  1,24         ,9          ,2,19950301,0348, -35.9927,   9.9957,     5108,   3996.3,   1.6410,  34.7920,2,  34.7900,2,    223.3,2,    221.4,2,    85.50,2,    27.50,2,     1.82,2,    0.007,2,    0.002,2,     -999,9,     -999,9,     -999,9,     -999,9,     -999,9,     -999,9,   1.3180
35A3CITHER3_2 ,A13        ,137     ,  1,25         ,8          ,2,19950301,0348, -35.9927,   9.9957,     5108,   3997.0,   1.6360,  34.7900,2,  34.7890,2,    223.2,2,    221.4,2,    84.70,2,    28.30,2,     1.82,2,    0.005,2,    0.005,2,     -999,9,     -999,9,     -999,9,     -999,9,     -999,9,     -999,9,   1.3130
35A3CITHER3_2 ,A13        ,137     ,  1,26         ,7          ,2,19950301,0348, -35.9927,   9.9957,     5108,   4198.1,   1.3900,  34.7660,2,  34.7650,2,    219.7,2,    219.7,2,    95.30,2,    28.60,2,     1.94,2,   -0.001,2,    0.001,2,     -999,9,     -999,9,     -999,9,     -999,9,     -999,9,     -999,9,   1.0520
35A3CITHER3_2 ,A13        ,137     ,  1,27         ,6          ,2,19950301,0348, -35.9927,   9.9957,     5108,   4400.2,   1.2300,  34.7510,2,  34.7510,2,    218.5,2,    218.0,2,   101.30,2,    29.30,2,     1.93,2,    0.010,2,    0.014,2,     -999,9,     -999,9,     -999,9,     -999,9,     -999,9,     -999,9,   0.8740
35A3CITHER3_2 ,A13        ,137     ,  1,28         ,5          ,2,19950301,0348, -35.9927,   9.9957,     5108,   4601.7,   1.1570,  34.7430,2,     -999,9,    218.2,2,    223.8,2,     -999,9,     -999,9,     -999,9,    0.005,2,    0.006,2,     -999,9,     -999,9,     -999,9,     -999,9,     -999,9,     -999,9,   0.7810
35A3CITHER3_2 ,A13        ,137     ,  1,29         ,4          ,2,19950301,0348, -35.9927,   9.9957,     5108,   4795.4,   1.1260,  34.7370,2,  34.7390,2,    217.8,2,    218.2,2,   107.10,2,    29.90,2,     1.99,2,    0.009,2,    0.010,2,     -999,9,     -999,9,     -999,9,     -999,9,     -999,9,     -999,9,   0.7280
35A3CITHER3_2 ,A13        ,137     ,  1,30         ,3          ,2,19950301,0348, -35.9927,   9.9957,     5108,   5001.6,   1.1120,  34.7350,2,  34.7340,2,    217.9,2,    217.2,2,   108.30,2,    30.50,2,     2.01,2,    0.017,2,    0.011,2,     -999,9,     -999,9,     -999,9,     -999,9,     -999,9,     -999,9,   0.6900
35A3CITHER3_2 ,A13        ,137     ,  1,31         ,2          ,2,19950301,0348, -35.9927,   9.9957,     5108,   5097.6,   1.1070,  34.7320,2,  34.7330,2,    217.9,2,    217.3,2,   108.60,2,    30.10,2,     2.01,2,    0.023,2,    0.018,2,     -999,9,     -999,9,     -999,9,     -999,9,     -999,9,     -999,9,   0.6740
35A3CITHER3_2 ,A13        ,137     ,  1,32         ,1          ,2,19950301,0348, -35.9927,   9.9957,     5108,   5182.3,   1.1140,  34.7320,2,  34.7340,2,    218.3,2,    217.5,2,   109.10,2,    30.50,2,     2.01,2,    0.018,2,    0.015,2,     -999,9,     -999,9,     -999,9,     -999,9,     -999,9,     -999,9,   0.6710