BOTTLE,20211216CCHDHYDRO
EXPOCODE,SECT_ID,STNNBR,CASTNO,SAMPNO,BTLNBR,BTLNBR_FLAG_W,DATE,TIME,LATITUDE,LONGITUDE,DEPTH,CTDPRS,CTDTMP,CTDSAL,CTDSAL_FLAG_W,SALNTY,SALNTY_FLAG_W,CTDOXY,CTDOXY_FLAG_W,OXYGEN,OXYGEN_FLAG_W,SILCAT,SILCAT_FLAG_W,NITRAT,NITRAT_FLAG_W,PHSPHT,PHSPHT_FLAG_W,CFC-11,CFC-11_FLAG_W,CFC-12,CFC-12_FLAG_W,TCARBN,TCARBN_FLAG_W,ALKALI,ALKALI_FLAG_W,TRITUM,TRITUM_FLAG_W,HELIUM,HELIUM_FLAG_W,DELHE3,DELHE3_FLAG_W,NEON,NEON_FLAG_W,THETA
,,,,,,,,,,,METERS,DBAR,DEG C,PSS-78,,PSS-78,,UMOL/KG,,UMOL/KG,,UMOL/KG,,UMOL/KG,,UMOL/KG,,PMOL/KG,,PMOL/KG,,UMOL/KG,,UMOL/KG,,TU,,NMOL/KG,,PERCNT,,NMOL/KG,,DEG C
35A3CITHER3_2 ,A13        ,161     ,  1,1          ,32         ,2,19950307,0515, -25.1680,   8.7610,     4759,     10.9,  22.2140,  35.4020,2,  35.4030,2,    223.4,2,    219.7,2,     2.90,2,     0.00,2,     0.20,2,    2.135,2,    1.074,2,     -999,9,     -999,9,     -999,9,     -999,9,     -999,9,     -999,9,  22.2120
35A3CITHER3_2 ,A13        ,161     ,  1,2          ,31         ,2,19950307,0515, -25.1680,   8.7610,     4759,     11.4,  22.2160,  35.4020,2,  35.4020,2,    223.4,2,    219.8,2,     2.90,2,     0.00,2,     0.22,2,    2.133,2,    1.085,2,   2035.8,2,   2322.1,2,     -999,9,     -999,9,     -999,9,     -999,9,  22.2140
35A3CITHER3_2 ,A13        ,161     ,  1,3          ,30         ,2,19950307,0515, -25.1680,   8.7610,     4759,     45.2,  21.6320,  35.5620,2,  35.5680,3,    225.4,2,    228.5,2,     3.20,2,     0.00,2,     0.07,2,    2.269,2,    1.134,2,   2034.9,2,   2330.0,2,     -999,9,     -999,9,     -999,9,     -999,9,  21.6230
35A3CITHER3_2 ,A13        ,161     ,  1,4          ,29         ,2,19950307,0515, -25.1680,   8.7610,     4759,    121.8,  14.7880,  35.3510,2,  35.3510,2,    222.3,2,    222.3,2,     4.50,2,     5.60,2,     0.45,2,    2.725,2,    1.329,2,   2076.7,2,   2319.3,2,     -999,9,     -999,9,     -999,9,     -999,9,  14.7700
35A3CITHER3_2 ,A13        ,161     ,  1,5          ,28         ,2,19950307,0515, -25.1680,   8.7610,     4759,    196.4,  12.5430,  35.0740,2,  35.0740,2,    194.7,2,    181.3,3,     6.50,2,    14.50,2,     0.95,2,    2.526,2,    1.194,2,   2131.0,2,   2306.1,2,     -999,9,     -999,9,     -999,9,     -999,9,  12.5170
35A3CITHER3_2 ,A13        ,161     ,  1,6          ,27         ,2,19950307,0515, -25.1680,   8.7610,     4759,    395.2,   8.2470,  34.6170,2,  34.6180,2,    175.1,2,    175.9,2,    13.10,2,    24.40,2,     1.50,2,    1.854,2,    0.848,2,   2164.7,2,     -999,9,     -999,9,     -999,9,     -999,9,     -999,9,   8.2060
35A3CITHER3_2 ,A13        ,161     ,  1,7          ,26         ,2,19950307,0515, -25.1680,   8.7610,     4759,    497.3,   6.2460,  34.4400,2,  34.4330,3,    191.5,2,    198.2,3,    17.80,2,    27.30,2,     1.69,2,    1.686,2,    0.754,2,   2169.4,2,   2286.5,2,     -999,9,     -999,9,     -999,9,     -999,9,   6.2020
35A3CITHER3_2 ,A13        ,161     ,  1,8          ,25         ,2,19950307,0515, -25.1680,   8.7610,     4759,    597.7,   5.0620,  34.4010,2,  34.4020,2,    187.0,2,    174.7,3,    24.90,2,    31.90,2,     1.88,2,    0.899,2,    0.418,2,   2197.9,2,     -999,9,     -999,9,     -999,9,     -999,9,     -999,9,   5.0140
35A3CITHER3_2 ,A13        ,161     ,  1,9          ,24         ,2,19950307,0515, -25.1680,   8.7610,     4759,    694.9,   4.3610,  34.3880,2,  34.3890,2,    179.8,2,    179.1,2,    31.10,2,    32.70,2,     2.09,2,    0.653,2,    0.310,2,   2204.3,2,     -999,9,     -999,9,     -999,9,     -999,9,     -999,9,   4.3080
35A3CITHER3_2 ,A13        ,161     ,  1,10         ,23         ,2,19950307,0515, -25.1680,   8.7610,     4759,    797.7,   4.1720,  34.4530,2,  34.4550,2,    158.1,2,    154.2,2,    35.10,2,    34.90,2,     2.26,2,    0.137,2,    0.192,2,   2222.8,2,     -999,9,     -999,9,     -999,9,     -999,9,     -999,9,   4.1120
35A3CITHER3_2 ,A13        ,161     ,  1,11         ,22         ,2,19950307,0515, -25.1680,   8.7610,     4759,    995.1,   3.6270,  34.5210,2,  34.5240,2,    171.7,2,    169.4,2,    41.90,2,    33.20,2,     2.16,2,    0.092,2,    0.057,2,   2223.7,2,   2312.5,2,     -999,9,     -999,9,     -999,9,     -999,9,   3.5550
35A3CITHER3_2 ,A13        ,161     ,  1,12         ,21         ,2,19950307,0515, -25.1680,   8.7610,     4759,   1192.8,   3.3360,  34.6390,2,  34.6390,2,    181.4,2,    181.7,2,    44.10,2,    30.70,2,     1.92,2,    0.026,2,    0.018,2,   2219.9,2,     -999,9,     -999,9,     -999,9,     -999,9,     -999,9,   3.2500
35A3CITHER3_2 ,A13        ,161     ,  1,13         ,20         ,2,19950307,0515, -25.1680,   8.7610,     4759,   1393.1,   3.3230,  34.7450,2,  34.7440,2,    194.5,2,    192.0,2,    40.90,2,    28.00,2,     1.83,2,    0.006,2,    0.004,2,   2211.3,2,     -999,9,     -999,9,     -999,9,     -999,9,     -999,9,   3.2200
35A3CITHER3_2 ,A13        ,161     ,  1,14         ,19         ,2,19950307,0515, -25.1680,   8.7610,     4759,   1588.8,   3.2810,  34.8070,2,  34.8090,2,    206.8,2,    204.3,2,    37.70,2,    26.20,2,     1.72,2,    0.001,2,    0.004,2,   2202.1,2,     -999,9,     -999,9,     -999,9,     -999,9,     -999,9,   3.1620
35A3CITHER3_2 ,A13        ,161     ,  1,15         ,18         ,2,19950307,0515, -25.1680,   8.7610,     4759,   1795.9,   3.2740,  34.8650,2,  34.8690,2,    221.8,2,    218.3,2,    33.40,3,    24.20,2,     1.58,2,    0.001,2,     -999,9,   2192.7,2,     -999,9,     -999,9,     -999,9,     -999,9,     -999,9,   3.1360
35A3CITHER3_2 ,A13        ,161     ,  1,16         ,17         ,2,19950307,0515, -25.1680,   8.7610,     4759,   1995.7,   3.1050,  34.8760,2,  34.8770,2,    226.7,2,    224.6,2,    32.30,3,    23.70,2,     1.55,2,     -999,9,     -999,9,   2191.0,2,   2341.4,2,     -999,9,     -999,9,     -999,9,     -999,9,   2.9510
35A3CITHER3_2 ,A13        ,161     ,  1,17         ,16         ,2,19950307,0515, -25.1680,   8.7610,     4759,   2197.7,   2.9850,  34.8920,2,  34.8930,2,    231.6,2,    231.1,2,    35.40,2,    22.30,2,     1.42,2,    0.002,2,    0.008,3,   2187.0,2,     -999,9,     -999,9,     -999,9,     -999,9,     -999,9,   2.8150
35A3CITHER3_2 ,A13        ,161     ,  1,18         ,15         ,2,19950307,0515, -25.1680,   8.7610,     4759,   2398.5,   2.8100,  34.8840,2,  34.8830,2,    233.5,2,    231.9,2,    39.30,2,    22.70,2,     1.51,2,    0.001,2,    0.007,3,   2190.8,2,     -999,9,     -999,9,     -999,9,     -999,9,     -999,9,   2.6240
35A3CITHER3_2 ,A13        ,161     ,  1,19         ,14         ,2,19950307,0515, -25.1680,   8.7610,     4759,   2596.7,   2.7110,  34.8850,2,  34.8820,2,    234.7,2,    233.6,2,    41.10,2,    22.30,2,     1.40,2,    0.001,2,     -999,9,   2191.2,2,     -999,9,     -999,9,     -999,9,     -999,9,     -999,9,   2.5070
35A3CITHER3_2 ,A13        ,161     ,  1,20         ,13         ,2,19950307,0515, -25.1680,   8.7610,     4759,   2795.1,   2.5310,  34.8670,2,  34.8680,2,    232.9,2,    232.2,2,    46.70,2,    23.40,2,     1.55,2,    0.003,2,    0.005,2,   2199.7,3,     -999,9,     -999,9,     -999,9,     -999,9,     -999,9,   2.3110
35A3CITHER3_2 ,A13        ,161     ,  1,21         ,12         ,2,19950307,0515, -25.1680,   8.7610,     4759,   2996.2,   2.5020,  34.8750,2,  34.8760,2,    234.9,2,    233.8,2,    49.30,2,    23.40,2,     1.57,2,    0.000,2,    0.000,2,   2197.2,2,     -999,9,     -999,9,     -999,9,     -999,9,     -999,9,   2.2630
35A3CITHER3_2 ,A13        ,161     ,  1,22         ,11         ,2,19950307,0515, -25.1680,   8.7610,     4759,   3199.0,   2.4300,  34.8720,2,  34.8720,2,    234.4,2,    232.9,2,    52.00,2,    23.40,2,     1.50,2,    0.003,2,    0.007,2,   2202.6,2,   2343.9,2,     -999,9,     -999,9,     -999,9,     -999,9,   2.1710
35A3CITHER3_2 ,A13        ,161     ,  1,23         ,10         ,2,19950307,0515, -25.1680,   8.7610,     4759,   3395.6,   2.3580,  34.8680,2,  34.8710,2,    232.8,2,    231.8,2,    57.30,2,    23.40,2,     1.42,2,    0.003,2,     -999,9,   2206.6,2,     -999,9,     -999,9,     -999,9,     -999,9,     -999,9,   2.0810
35A3CITHER3_2 ,A13        ,161     ,  1,24         ,9          ,2,19950307,0515, -25.1680,   8.7610,     4759,   3594.2,   2.2430,  34.8560,2,  34.8580,2,    231.2,2,    230.8,2,    62.50,2,    24.20,2,     1.59,2,    0.000,2,    0.002,2,   2209.8,2,     -999,9,     -999,9,     -999,9,     -999,9,     -999,9,   1.9470
35A3CITHER3_2 ,A13        ,161     ,  1,25         ,8          ,2,19950307,0515, -25.1680,   8.7610,     4759,   3801.1,   2.1000,  34.8410,2,  34.8410,2,    229.4,2,    228.4,2,    75.40,2,    24.80,2,     1.64,2,    0.001,2,    0.000,2,   2216.8,2,     -999,9,     -999,9,     -999,9,     -999,9,     -999,9,   1.7850
35A3CITHER3_2 ,A13        ,161     ,  1,26         ,7          ,2,19950307,0515, -25.1680,   8.7610,     4759,   3996.8,   1.7700,  34.8060,2,  34.8080,2,    224.3,2,    224.0,2,    78.40,2,    26.20,2,     1.70,2,    0.000,2,    0.002,2,   2229.1,2,   2358.1,2,     -999,9,     -999,9,     -999,9,     -999,9,   1.4430
35A3CITHER3_2 ,A13        ,161     ,  1,27         ,6          ,2,19950307,0515, -25.1680,   8.7610,     4759,   4197.5,   1.3730,  34.7670,2,  34.7670,2,    219.8,2,    219.4,2,    95.00,2,    28.20,2,     1.81,2,    0.005,2,    0.006,2,   2241.5,2,     -999,9,     -999,9,     -999,9,     -999,9,     -999,9,   1.0360
35A3CITHER3_2 ,A13        ,161     ,  1,28         ,5          ,2,19950307,0515, -25.1680,   8.7610,     4759,   4402.5,   1.2050,  34.7480,2,  34.7480,2,    217.9,2,    217.7,2,   101.70,2,    28.00,2,     1.78,3,    0.004,2,    0.002,2,   2249.2,2,     -999,9,     -999,9,     -999,9,     -999,9,     -999,9,   0.8500
35A3CITHER3_2 ,A13        ,161     ,  1,29         ,4          ,2,19950307,0515, -25.1680,   8.7610,     4759,   4597.7,   1.1460,  34.7410,2,  34.7420,2,    217.6,2,    216.8,2,   105.20,2,    29.40,2,     1.87,2,    0.006,2,    0.001,2,   2252.6,2,     -999,9,     -999,9,     -999,9,     -999,9,     -999,9,   0.7710
35A3CITHER3_2 ,A13        ,161     ,  1,30         ,3          ,2,19950307,0515, -25.1680,   8.7610,     4759,   4742.1,   1.1350,  34.7380,2,  34.7390,2,    217.2,2,    216.2,2,   106.30,2,    29.00,2,     1.92,2,    0.003,2,    0.005,2,     -999,9,     -999,9,     -999,9,     -999,9,     -999,9,     -999,9,   0.7430
35A3CITHER3_2 ,A13        ,161     ,  1,31         ,2          ,2,19950307,0515, -25.1680,   8.7610,     4759,   4747.1,   1.1340,  34.7380,2,  34.7380,2,    217.1,2,    216.1,2,   106.30,2,    29.60,2,     1.96,2,    0.005,2,    0.006,2,   2254.4,2,     -999,9,     -999,9,     -999,9,     -999,9,     -999,9,   0.7420
35A3CITHER3_2 ,A13        ,161     ,  1,32         ,1          ,2,19950307,0515, -25.1680,   8.7610,     4759,   4811.6,   1.1340,  34.7370,2,  34.7380,2,    216.6,2,    216.8,2,   106.80,2,    29.20,2,     1.78,3,    0.005,2,    0.004,2,   2254.2,2,   2370.1,2,     -999,9,     -999,9,     -999,9,     -999,9,   0.7340