BOTTLE,20211216CCHDHYDRO
EXPOCODE,SECT_ID,STNNBR,CASTNO,SAMPNO,BTLNBR,BTLNBR_FLAG_W,DATE,TIME,LATITUDE,LONGITUDE,DEPTH,CTDPRS,CTDTMP,CTDSAL,CTDSAL_FLAG_W,SALNTY,SALNTY_FLAG_W,CTDOXY,CTDOXY_FLAG_W,OXYGEN,OXYGEN_FLAG_W,SILCAT,SILCAT_FLAG_W,NITRAT,NITRAT_FLAG_W,PHSPHT,PHSPHT_FLAG_W,CFC-11,CFC-11_FLAG_W,CFC-12,CFC-12_FLAG_W,TCARBN,TCARBN_FLAG_W,ALKALI,ALKALI_FLAG_W,TRITUM,TRITUM_FLAG_W,HELIUM,HELIUM_FLAG_W,DELHE3,DELHE3_FLAG_W,NEON,NEON_FLAG_W,THETA
,,,,,,,,,,,METERS,DBAR,DEG C,PSS-78,,PSS-78,,UMOL/KG,,UMOL/KG,,UMOL/KG,,UMOL/KG,,UMOL/KG,,PMOL/KG,,PMOL/KG,,UMOL/KG,,UMOL/KG,,TU,,NMOL/KG,,PERCNT,,NMOL/KG,,DEG C
35A3CITHER3_2 ,A13        ,138     ,  1,1          ,32         ,2,19950301,1011, -35.4998,  10.0000,     5076,      3.7,  21.2330,  35.8440,2,  35.8450,2,    227.7,2,    224.7,2,     2.40,2,     0.00,2,     0.15,2,    2.249,2,    1.151,2,     -999,9,     -999,9,     -999,9,     -999,9,     -999,9,     -999,9,  21.2320
35A3CITHER3_2 ,A13        ,138     ,  1,2          ,31         ,2,19950301,1011, -35.4998,  10.0000,     5076,     48.4,  21.2150,  35.8420,2,  35.8400,2,    241.0,2,    225.1,3,     2.70,2,     0.00,2,     0.12,2,    2.252,2,    1.151,2,     -999,9,     -999,9,     -999,9,     -999,9,     -999,9,     -999,9,  21.2060
35A3CITHER3_2 ,A13        ,138     ,  1,3          ,30         ,2,19950301,1011, -35.4998,  10.0000,     5076,    121.0,  16.1520,  35.4980,2,  35.5000,2,    237.5,2,    240.5,2,     2.70,2,     0.40,2,     0.20,2,    2.790,2,    1.377,2,     -999,9,     -999,9,     -999,9,     -999,9,     -999,9,     -999,9,  16.1330
35A3CITHER3_2 ,A13        ,138     ,  1,4          ,29         ,2,19950301,1011, -35.4998,  10.0000,     5076,    121.8,  16.1140,  35.5050,2,  35.4980,3,    237.3,2,    239.4,2,     2.90,2,     0.40,2,     0.20,2,    2.767,2,    1.351,2,     -999,9,     -999,9,     -999,9,     -999,9,     -999,9,     -999,9,  16.0950
35A3CITHER3_2 ,A13        ,138     ,  1,5          ,28         ,2,19950301,1011, -35.4998,  10.0000,     5076,    195.6,  14.6970,  35.3200,2,  35.3220,2,    222.7,2,    224.8,2,     3.70,2,     5.30,2,     0.45,2,    2.809,2,    1.372,2,     -999,9,     -999,9,     -999,9,     -999,9,     -999,9,     -999,9,  14.6680
35A3CITHER3_2 ,A13        ,138     ,  1,6          ,27         ,2,19950301,1011, -35.4998,  10.0000,     5076,    396.1,  11.3980,  34.9600,2,  34.9600,2,    213.0,2,    212.5,2,     5.80,2,    13.90,2,     0.90,2,    2.611,2,    1.221,2,     -999,9,     -999,9,     -999,9,     -999,9,     -999,9,     -999,9,  11.3480
35A3CITHER3_2 ,A13        ,138     ,  1,7          ,26         ,2,19950301,1011, -35.4998,  10.0000,     5076,    595.5,   8.3850,  34.6100,2,  34.6090,2,    212.9,2,    208.5,2,    10.80,2,    21.40,2,     1.40,2,    2.262,2,    1.053,2,     -999,9,     -999,9,     -999,9,     -999,9,     -999,9,     -999,9,   8.3220
35A3CITHER3_2 ,A13        ,138     ,  1,8          ,25         ,2,19950301,1011, -35.4998,  10.0000,     5076,    794.5,   5.5040,  34.3730,2,  34.3730,2,    214.0,2,    210.7,2,    19.90,2,    28.30,2,     1.85,3,    1.862,2,    0.839,2,     -999,9,     -999,9,     -999,9,     -999,9,     -999,9,     -999,9,   5.4360
35A3CITHER3_2 ,A13        ,138     ,  1,9          ,24         ,2,19950301,1011, -35.4998,  10.0000,     5076,    994.4,   4.2290,  34.3750,2,  34.3720,2,    206.0,2,    204.0,2,    34.10,2,    30.70,2,     2.05,3,    1.158,2,    0.532,2,     -999,9,     -999,9,     -999,9,     -999,9,     -999,9,     -999,9,   4.1520
35A3CITHER3_2 ,A13        ,138     ,  1,10         ,23         ,2,19950301,1011, -35.4998,  10.0000,     5076,   1196.8,   3.2890,  34.4120,2,  34.4110,2,    195.1,2,    194.0,2,    45.80,2,    32.60,2,     2.18,2,    0.576,2,    0.277,2,     -999,9,     -999,9,     -999,9,     -999,9,     -999,9,     -999,9,   3.2030
35A3CITHER3_2 ,A13        ,138     ,  1,11         ,22         ,2,19950301,1011, -35.4998,  10.0000,     5076,   1394.8,   2.9970,  34.5270,2,  34.5270,2,    180.9,2,    183.2,2,    57.10,3,    33.00,2,     2.22,2,    0.230,2,    0.106,2,     -999,9,     -999,9,     -999,9,     -999,9,     -999,9,     -999,9,   2.8980
35A3CITHER3_2 ,A13        ,138     ,  1,12         ,21         ,2,19950301,1011, -35.4998,  10.0000,     5076,   1595.7,   2.8260,  34.6280,2,  34.6280,2,    180.8,2,    181.1,2,    61.30,3,    31.40,2,     2.12,2,     -999,9,     -999,9,     -999,9,     -999,9,     -999,9,     -999,9,     -999,9,     -999,9,   2.7120
35A3CITHER3_2 ,A13        ,138     ,  1,13         ,20         ,2,19950301,1011, -35.4998,  10.0000,     5076,   1795.8,   2.7840,  34.7160,2,  34.7140,2,    189.6,2,    190.0,2,    59.40,2,    29.90,2,     2.00,2,    0.033,2,    0.019,2,     -999,9,     -999,9,     -999,9,     -999,9,     -999,9,     -999,9,   2.6530
35A3CITHER3_2 ,A13        ,138     ,  1,14         ,19         ,2,19950301,1011, -35.4998,  10.0000,     5076,   1994.5,   2.7550,  34.7750,2,  34.7740,2,    202.5,2,    201.8,2,    55.20,2,    26.20,2,     1.79,2,    0.014,2,    0.013,2,     -999,9,     -999,9,     -999,9,     -999,9,     -999,9,     -999,9,   2.6070
35A3CITHER3_2 ,A13        ,138     ,  1,15         ,18         ,2,19950301,1011, -35.4998,  10.0000,     5076,   2196.0,   2.6800,  34.8110,2,  34.8100,2,    210.7,2,    212.1,2,    53.40,2,    25.20,2,     1.76,2,    0.010,2,    0.012,2,     -999,9,     -999,9,     -999,9,     -999,9,     -999,9,     -999,9,   2.5150
35A3CITHER3_2 ,A13        ,138     ,  1,16         ,17         ,2,19950301,1011, -35.4998,  10.0000,     5076,   2395.2,   2.5960,  34.8310,2,  34.8300,2,    217.2,2,    218.4,2,    52.60,2,    26.10,2,     1.61,2,    0.010,2,    0.010,2,     -999,9,     -999,9,     -999,9,     -999,9,     -999,9,     -999,9,   2.4140
35A3CITHER3_2 ,A13        ,138     ,  1,17         ,16         ,2,19950301,1011, -35.4998,  10.0000,     5076,   2596.9,   2.4960,  34.8410,2,  34.8410,2,    221.7,2,    223.0,2,    53.10,2,    25.50,2,     1.62,2,    0.001,2,    0.008,2,     -999,9,     -999,9,     -999,9,     -999,9,     -999,9,     -999,9,   2.2960
35A3CITHER3_2 ,A13        ,138     ,  1,18         ,15         ,2,19950301,1011, -35.4998,  10.0000,     5076,   2798.8,   2.4240,  34.8470,2,  34.8470,2,    225.6,2,    226.2,2,    54.00,2,    23.50,2,     1.59,2,    0.002,2,    0.003,2,     -999,9,     -999,9,     -999,9,     -999,9,     -999,9,     -999,9,   2.2060
35A3CITHER3_2 ,A13        ,138     ,  1,19         ,14         ,2,19950301,1011, -35.4998,  10.0000,     5076,   2998.2,   2.3520,  34.8500,2,  34.8510,2,    227.2,2,    228.4,2,    55.50,2,    25.00,2,     1.62,2,    0.003,2,    0.007,2,     -999,9,     -999,9,     -999,9,     -999,9,     -999,9,     -999,9,   2.1160
35A3CITHER3_2 ,A13        ,138     ,  1,20         ,13         ,2,19950301,1011, -35.4998,  10.0000,     5076,   3194.2,   2.2850,  34.8480,2,  34.8480,2,    228.5,2,    228.5,2,    57.40,2,    23.20,2,     1.61,2,    0.002,2,    0.004,2,     -999,9,     -999,9,     -999,9,     -999,9,     -999,9,     -999,9,   2.0300
35A3CITHER3_2 ,A13        ,138     ,  1,21         ,12         ,2,19950301,1011, -35.4998,  10.0000,     5076,   3393.3,   2.2120,  34.8460,2,  34.8490,2,    229.2,2,    229.4,2,    60.10,2,    24.60,2,     1.63,2,    0.002,2,    0.008,2,     -999,9,     -999,9,     -999,9,     -999,9,     -999,9,     -999,9,   1.9380
35A3CITHER3_2 ,A13        ,138     ,  1,22         ,11         ,2,19950301,1011, -35.4998,  10.0000,     5076,   3598.4,   2.0880,  34.8390,2,  34.8380,2,    227.8,2,    227.5,2,    64.50,2,    25.20,2,     1.68,2,    0.005,2,    0.014,2,     -999,9,     -999,9,     -999,9,     -999,9,     -999,9,     -999,9,   1.7960
35A3CITHER3_2 ,A13        ,138     ,  1,24         ,9          ,2,19950301,1011, -35.4998,  10.0000,     5076,   3795.2,   1.8780,  34.8140,2,  34.8140,2,    224.6,2,    224.6,2,    75.00,2,    25.30,2,     1.76,2,    0.006,2,    0.005,2,     -999,9,     -999,9,     -999,9,     -999,9,     -999,9,     -999,9,   1.5700
35A3CITHER3_2 ,A13        ,138     ,  1,23         ,10         ,2,19950301,1011, -35.4998,  10.0000,     5076,   3795.4,   1.8800,  34.8150,2,  34.8120,2,    224.6,2,    224.2,2,    74.70,2,    25.30,2,     1.74,2,    0.005,2,    0.008,2,     -999,9,     -999,9,     -999,9,     -999,9,     -999,9,     -999,9,   1.5720
35A3CITHER3_2 ,A13        ,138     ,  1,25         ,8          ,2,19950301,1011, -35.4998,  10.0000,     5076,   3996.0,   1.6020,  34.7890,2,  34.7880,2,    221.2,2,    221.2,2,    85.50,2,    26.30,2,     1.79,2,    0.010,2,    0.008,2,     -999,9,     -999,9,     -999,9,     -999,9,     -999,9,     -999,9,   1.2800
35A3CITHER3_2 ,A13        ,138     ,  1,26         ,7          ,2,19950301,1011, -35.4998,  10.0000,     5076,   4198.5,   1.3730,  34.7660,2,  34.7640,2,    219.0,2,    219.1,2,    94.70,2,    28.50,2,     1.85,2,    0.011,2,    0.007,2,     -999,9,     -999,9,     -999,9,     -999,9,     -999,9,     -999,9,   1.0350
35A3CITHER3_2 ,A13        ,138     ,  1,27         ,6          ,2,19950301,1011, -35.4998,  10.0000,     5076,   4398.0,   1.2320,  34.7520,2,  34.7510,2,    218.3,2,    218.4,2,   100.60,2,    29.50,2,     1.93,2,    0.008,2,    0.009,2,     -999,9,     -999,9,     -999,9,     -999,9,     -999,9,     -999,9,   0.8760
35A3CITHER3_2 ,A13        ,138     ,  1,28         ,5          ,2,19950301,1011, -35.4998,  10.0000,     5076,   4599.4,   1.1510,  34.7420,2,  34.7440,2,    217.7,2,    218.0,2,   104.10,2,    29.00,2,     1.97,2,    0.009,2,    0.010,2,     -999,9,     -999,9,     -999,9,     -999,9,     -999,9,     -999,9,   0.7750
35A3CITHER3_2 ,A13        ,138     ,  1,29         ,4          ,2,19950301,1011, -35.4998,  10.0000,     5076,   4797.3,   1.1130,  34.7370,2,  34.7390,2,    218.0,2,    217.3,2,   106.10,2,    29.70,2,     2.00,2,    0.018,2,    0.011,2,     -999,9,     -999,9,     -999,9,     -999,9,     -999,9,     -999,9,   0.7150
35A3CITHER3_2 ,A13        ,138     ,  1,30         ,3          ,2,19950301,1011, -35.4998,  10.0000,     5076,   4997.1,   1.0990,  34.7350,2,  34.7380,2,    218.0,2,    217.4,2,   107.70,2,    30.20,2,     2.00,2,    0.018,2,    0.009,2,     -999,9,     -999,9,     -999,9,     -999,9,     -999,9,     -999,9,   0.6780
35A3CITHER3_2 ,A13        ,138     ,  1,31         ,2          ,2,19950301,1011, -35.4998,  10.0000,     5076,   5074.8,   1.0980,  34.7340,2,  34.7360,2,    218.9,2,    217.5,2,   108.10,2,    28.60,3,     2.01,2,    0.020,2,    0.016,2,     -999,9,     -999,9,     -999,9,     -999,9,     -999,9,     -999,9,   0.6680
35A3CITHER3_2 ,A13        ,138     ,  1,32         ,1          ,2,19950301,1011, -35.4998,  10.0000,     5076,   5149.9,   1.0800,  34.7320,2,  34.7320,2,    219.2,2,    218.9,2,   108.80,2,    28.00,3,     2.02,2,    0.028,2,    0.016,2,     -999,9,     -999,9,     -999,9,     -999,9,     -999,9,     -999,9,   0.6420