BOTTLE,20211216CCHDHYDRO
EXPOCODE,SECT_ID,STNNBR,CASTNO,SAMPNO,BTLNBR,BTLNBR_FLAG_W,DATE,TIME,LATITUDE,LONGITUDE,DEPTH,CTDPRS,CTDTMP,CTDSAL,CTDSAL_FLAG_W,SALNTY,SALNTY_FLAG_W,CTDOXY,CTDOXY_FLAG_W,OXYGEN,OXYGEN_FLAG_W,SILCAT,SILCAT_FLAG_W,NITRAT,NITRAT_FLAG_W,PHSPHT,PHSPHT_FLAG_W,CFC-11,CFC-11_FLAG_W,CFC-12,CFC-12_FLAG_W,TCARBN,TCARBN_FLAG_W,ALKALI,ALKALI_FLAG_W,TRITUM,TRITUM_FLAG_W,HELIUM,HELIUM_FLAG_W,DELHE3,DELHE3_FLAG_W,NEON,NEON_FLAG_W,THETA
,,,,,,,,,,,METERS,DBAR,DEG C,PSS-78,,PSS-78,,UMOL/KG,,UMOL/KG,,UMOL/KG,,UMOL/KG,,UMOL/KG,,PMOL/KG,,PMOL/KG,,UMOL/KG,,UMOL/KG,,TU,,NMOL/KG,,PERCNT,,NMOL/KG,,DEG C
35A3CITHER3_2 ,A13        ,195     ,  1,1          ,32         ,2,19950317,0310, -12.5007,   5.0007,     5493,      5.8,  27.0930,  36.6520,2,  36.6520,2,    207.7,2,    198.9,3,     3.00,2,     0.00,2,     0.17,2,    1.642,2,    0.902,2,   2052.4,2,   2409.0,2,     -999,9,     -999,9,     -999,9,     -999,9,  27.0920
35A3CITHER3_2 ,A13        ,195     ,  1,2          ,31         ,2,19950317,0310, -12.5007,   5.0007,     5493,     44.6,  20.7320,  36.3920,2,  36.3830,3,    253.4,2,    242.7,3,     3.60,2,     0.80,2,     0.30,2,    2.087,2,    1.062,2,   2082.3,2,   2391.8,2,     -999,9,     -999,9,     -999,9,     -999,9,  20.7230
35A3CITHER3_2 ,A13        ,195     ,  1,3          ,30         ,2,19950317,0310, -12.5007,   5.0007,     5493,    108.6,  12.9250,  35.2970,2,  35.3110,3,     56.4,2,     55.4,2,    10.60,2,    27.30,2,     1.65,2,    0.920,2,    0.475,2,   2214.1,2,   2317.3,2,     -999,9,     -999,9,     -999,9,     -999,9,  12.9100
35A3CITHER3_2 ,A13        ,195     ,  1,4          ,29         ,2,19950317,0310, -12.5007,   5.0007,     5493,    194.7,  11.2550,  35.0800,2,  35.0770,2,     45.4,2,     45.9,2,    13.90,2,    31.10,2,     1.89,2,    0.420,2,    0.224,2,   2231.2,2,     -999,9,     -999,9,     -999,9,     -999,9,     -999,9,  11.2310
35A3CITHER3_2 ,A13        ,195     ,  1,5          ,28         ,2,19950317,0310, -12.5007,   5.0007,     5493,    396.0,   8.6790,  34.7910,2,  34.7900,2,     48.3,2,     48.7,2,    18.60,2,    36.00,2,     2.23,2,    0.098,2,    0.057,2,   2246.1,2,     -999,9,     -999,9,     -999,9,     -999,9,     -999,9,   8.6370
35A3CITHER3_2 ,A13        ,195     ,  1,6          ,27         ,2,19950317,0310, -12.5007,   5.0007,     5493,    595.7,   6.3170,  34.5790,2,  34.5790,2,     67.4,2,     70.1,2,    25.10,2,    39.00,2,     2.53,2,    0.014,2,    0.010,2,   2251.2,2,   2294.2,2,     -999,9,     -999,9,     -999,9,     -999,9,   6.2630
35A3CITHER3_2 ,A13        ,195     ,  1,7          ,26         ,2,19950317,0310, -12.5007,   5.0007,     5493,    794.1,   4.7650,  34.4990,2,  34.4980,2,    106.1,2,    114.3,3,    32.40,2,    37.20,2,     2.48,2,    0.004,2,     -999,9,   2239.9,2,     -999,9,     -999,9,     -999,9,     -999,9,     -999,9,   4.7010
35A3CITHER3_2 ,A13        ,195     ,  1,8          ,25         ,2,19950317,0310, -12.5007,   5.0007,     5493,    995.3,   4.1220,  34.5620,2,  34.5440,3,    139.9,2,    140.0,2,    36.30,2,    34.80,2,     2.33,2,    0.003,2,   -0.002,2,   2226.0,2,   2307.1,2,     -999,9,     -999,9,     -999,9,     -999,9,   4.0460
35A3CITHER3_2 ,A13        ,195     ,  1,9          ,24         ,2,19950317,0310, -12.5007,   5.0007,     5493,   1195.3,   3.9090,  34.7020,2,  34.7040,2,    164.2,2,    164.3,2,    34.60,2,    30.70,2,     2.04,2,    0.003,2,     -999,9,   2220.1,2,     -999,9,     -999,9,     -999,9,     -999,9,     -999,9,   3.8170
35A3CITHER3_2 ,A13        ,195     ,  1,10         ,23         ,2,19950317,0310, -12.5007,   5.0007,     5493,   1394.2,   3.8220,  34.8340,2,  34.8120,3,    188.3,2,    187.1,2,    30.50,2,    26.40,2,     1.77,2,    0.006,2,    0.003,2,   2203.6,2,     -999,9,     -999,9,     -999,9,     -999,9,     -999,9,   3.7140
35A3CITHER3_2 ,A13        ,195     ,  1,11         ,22         ,2,19950317,0310, -12.5007,   5.0007,     5493,   1594.5,   3.7140,  34.8980,2,  34.8920,2,    207.9,2,    206.4,2,    28.10,2,    23.90,2,     1.57,2,    0.004,2,    0.001,2,   2192.2,2,     -999,9,     -999,9,     -999,9,     -999,9,     -999,9,   3.5890
35A3CITHER3_2 ,A13        ,195     ,  1,12         ,21         ,2,19950317,0310, -12.5007,   5.0007,     5493,   1794.9,   3.5190,  34.9190,2,  34.9200,2,    218.1,2,    216.1,2,    28.80,2,    23.00,2,     1.53,2,    0.000,2,    0.005,2,   2189.4,2,     -999,9,     -999,9,     -999,9,     -999,9,     -999,9,   3.3780
35A3CITHER3_2 ,A13        ,195     ,  1,13         ,20         ,2,19950317,0310, -12.5007,   5.0007,     5493,   1995.7,   3.3260,  34.9250,2,  34.9260,2,    223.5,2,    221.5,2,    31.10,2,    22.40,2,     1.47,2,    0.002,2,    0.002,2,   2188.9,2,   2335.8,2,     -999,9,     -999,9,     -999,9,     -999,9,   3.1690
35A3CITHER3_2 ,A13        ,195     ,  1,14         ,19         ,2,19950317,0310, -12.5007,   5.0007,     5493,   2194.7,   3.1490,  34.9240,2,  34.9220,2,    227.1,2,    224.9,2,    33.70,2,    22.30,2,     1.47,2,    0.005,2,    0.002,2,   2190.0,2,     -999,9,     -999,9,     -999,9,     -999,9,     -999,9,   2.9760
35A3CITHER3_2 ,A13        ,195     ,  1,15         ,18         ,2,19950317,0310, -12.5007,   5.0007,     5493,   2395.8,   2.9720,  34.9200,2,  34.9220,2,    230.5,2,    229.5,2,    36.10,2,    22.20,2,     1.44,2,    0.004,2,     -999,9,   2190.2,2,     -999,9,     -999,9,     -999,9,     -999,9,     -999,9,   2.7830
35A3CITHER3_2 ,A13        ,195     ,  1,16         ,17         ,2,19950317,0310, -12.5007,   5.0007,     5493,   2594.9,   2.8390,  34.9150,2,  34.9160,2,    231.9,2,    231.2,2,    38.50,2,    22.20,2,     1.45,2,    0.002,2,    0.004,2,   2192.5,2,     -999,9,     -999,9,     -999,9,     -999,9,     -999,9,   2.6330
35A3CITHER3_2 ,A13        ,195     ,  1,17         ,16         ,2,19950317,0310, -12.5007,   5.0007,     5493,   2795.2,   2.7230,  34.9100,2,  34.9120,2,    231.8,2,    231.9,2,    41.00,2,    22.00,2,     1.45,2,    0.002,2,    0.001,2,   2195.1,2,     -999,9,     -999,9,     -999,9,     -999,9,     -999,9,   2.4990
35A3CITHER3_2 ,A13        ,195     ,  1,18         ,15         ,2,19950317,0310, -12.5007,   5.0007,     5493,   2993.9,   2.6170,  34.9050,2,  34.9050,2,    231.1,2,    231.0,2,    44.00,2,    22.30,2,     1.46,2,    0.001,2,    0.001,2,   2200.1,2,   2341.6,2,     -999,9,     -999,9,     -999,9,     -999,9,   2.3750
35A3CITHER3_2 ,A13        ,195     ,  1,19         ,14         ,2,19950317,0310, -12.5007,   5.0007,     5493,   3196.9,   2.5230,  34.9000,2,  34.9000,2,    228.7,2,    228.2,2,    47.40,2,    22.60,2,     1.49,2,    0.001,2,    0.001,2,   2206.1,2,     -999,9,     -999,9,     -999,9,     -999,9,     -999,9,   2.2620
35A3CITHER3_2 ,A13        ,195     ,  1,20         ,13         ,2,19950317,0310, -12.5007,   5.0007,     5493,   3394.6,   2.4370,  34.8940,2,  34.8940,2,    226.4,2,    225.8,2,    51.10,2,    23.20,2,     1.52,2,    0.002,2,    0.002,2,   2211.9,2,     -999,9,     -999,9,     -999,9,     -999,9,     -999,9,   2.1580
35A3CITHER3_2 ,A13        ,195     ,  1,21         ,12         ,2,19950317,0310, -12.5007,   5.0007,     5493,   3595.1,   2.3740,  34.8910,2,  34.8910,2,    227.5,2,    228.1,2,    52.30,2,    23.20,2,     1.50,2,    0.000,2,     -999,9,   2213.8,2,     -999,9,     -999,9,     -999,9,     -999,9,     -999,9,   2.0750
35A3CITHER3_2 ,A13        ,195     ,  1,22         ,11         ,2,19950317,0310, -12.5007,   5.0007,     5493,   3798.2,   2.3460,  34.8900,2,  34.8850,2,    230.1,2,    230.9,2,    51.80,2,    22.80,2,     1.50,2,    0.002,2,   -0.001,2,   2211.4,2,     -999,9,     -999,9,     -999,9,     -999,9,     -999,9,   2.0250
35A3CITHER3_2 ,A13        ,195     ,  1,23         ,10         ,2,19950317,0310, -12.5007,   5.0007,     5493,   4000.3,   2.3430,  34.8880,2,  34.8890,2,    231.2,2,    231.8,2,    52.30,2,    22.70,2,     1.48,2,    0.000,2,    0.003,2,   2211.8,2,   2360.8,2,     -999,9,     -999,9,     -999,9,     -999,9,   1.9990
35A3CITHER3_2 ,A13        ,195     ,  1,24         ,9          ,2,19950317,0310, -12.5007,   5.0007,     5493,   4199.2,   2.3470,  34.8870,2,  34.8860,2,    232.3,2,    232.7,2,    52.30,2,    22.40,2,     1.48,2,    0.001,2,    0.004,2,   2208.2,2,     -999,9,     -999,9,     -999,9,     -999,9,     -999,9,   1.9800
35A3CITHER3_2 ,A13        ,195     ,  1,25         ,8          ,2,19950317,0310, -12.5007,   5.0007,     5493,   4396.6,   2.3550,  34.8850,2,  34.8870,2,    232.8,2,    233.0,2,    52.10,2,    22.40,2,     1.48,2,    0.001,2,    0.003,2,   2211.9,2,     -999,9,     -999,9,     -999,9,     -999,9,     -999,9,   1.9650
35A3CITHER3_2 ,A13        ,195     ,  1,26         ,7          ,2,19950317,0310, -12.5007,   5.0007,     5493,   4597.2,   2.3650,  34.8840,2,  34.8850,2,    233.8,2,    234.0,2,    52.40,2,    22.30,2,     1.47,2,    0.003,2,     -999,9,   2211.1,2,     -999,9,     -999,9,     -999,9,     -999,9,     -999,9,   1.9500
35A3CITHER3_2 ,A13        ,195     ,  1,27         ,6          ,2,19950317,0310, -12.5007,   5.0007,     5493,   4795.7,   2.3780,  34.8820,2,  34.8830,2,    234.9,2,    234.7,2,    52.60,2,    22.80,2,     1.49,2,    0.002,2,    0.003,2,   2211.4,2,     -999,9,     -999,9,     -999,9,     -999,9,     -999,9,   1.9380
35A3CITHER3_2 ,A13        ,195     ,  1,28         ,5          ,2,19950317,0310, -12.5007,   5.0007,     5493,   4999.0,   2.3910,  34.8810,2,  34.8810,2,    235.3,2,    235.5,2,    52.70,2,    21.40,3,     1.42,2,    0.000,2,   -0.002,2,   2210.1,2,   2360.4,2,     -999,9,     -999,9,     -999,9,     -999,9,   1.9250
35A3CITHER3_2 ,A13        ,195     ,  1,29         ,4          ,2,19950317,0310, -12.5007,   5.0007,     5493,   5201.3,   2.4090,  34.8790,2,  34.8790,2,    236.3,2,    236.8,2,    53.00,2,    22.30,2,     1.44,2,    0.012,3,    0.008,3,   2208.7,2,     -999,9,     -999,9,     -999,9,     -999,9,     -999,9,   1.9170
35A3CITHER3_2 ,A13        ,195     ,  1,30         ,3          ,2,19950317,0310, -12.5007,   5.0007,     5493,   5398.1,   2.4300,  34.8790,2,  34.8800,2,    236.7,2,    236.3,2,    53.00,2,    21.80,3,     1.44,2,    0.003,2,    0.003,2,   2209.5,2,     -999,9,     -999,9,     -999,9,     -999,9,     -999,9,   1.9120
35A3CITHER3_2 ,A13        ,195     ,  1,31         ,2          ,2,19950317,0310, -12.5007,   5.0007,     5493,   5498.9,   2.4420,  34.8780,2,  34.8800,2,    236.7,2,    236.5,2,    53.00,2,    22.50,2,     1.47,2,    0.005,2,     -999,9,   2210.2,2,     -999,9,     -999,9,     -999,9,     -999,9,     -999,9,   1.9100
35A3CITHER3_2 ,A13        ,195     ,  1,32         ,1          ,2,19950317,0310, -12.5007,   5.0007,     5493,   5560.4,   2.4500,  34.8790,2,  34.8790,2,    236.0,2,    237.4,2,    53.30,2,    22.40,2,     1.45,2,    0.002,2,    0.004,2,   2209.2,2,   2362.4,2,     -999,9,     -999,9,     -999,9,     -999,9,   1.9090