BOTTLE,20211216CCHDHYDRO
EXPOCODE,SECT_ID,STNNBR,CASTNO,SAMPNO,BTLNBR,BTLNBR_FLAG_W,DATE,TIME,LATITUDE,LONGITUDE,DEPTH,CTDPRS,CTDTMP,CTDSAL,CTDSAL_FLAG_W,SALNTY,SALNTY_FLAG_W,CTDOXY,CTDOXY_FLAG_W,OXYGEN,OXYGEN_FLAG_W,SILCAT,SILCAT_FLAG_W,NITRAT,NITRAT_FLAG_W,PHSPHT,PHSPHT_FLAG_W,CFC-11,CFC-11_FLAG_W,CFC-12,CFC-12_FLAG_W,TCARBN,TCARBN_FLAG_W,ALKALI,ALKALI_FLAG_W,TRITUM,TRITUM_FLAG_W,HELIUM,HELIUM_FLAG_W,DELHE3,DELHE3_FLAG_W,NEON,NEON_FLAG_W,THETA
,,,,,,,,,,,METERS,DBAR,DEG C,PSS-78,,PSS-78,,UMOL/KG,,UMOL/KG,,UMOL/KG,,UMOL/KG,,UMOL/KG,,PMOL/KG,,PMOL/KG,,UMOL/KG,,UMOL/KG,,TU,,NMOL/KG,,PERCNT,,NMOL/KG,,DEG C
35A3CITHER3_2 ,A13        ,202     ,  1,1          ,32         ,2,19950318,2350,  -9.0008,   5.0017,     5315,      4.7,  28.9280,  36.0450,2,  36.0450,2,    195.4,2,    195.1,2,     4.70,2,     0.00,2,     0.11,2,    1.553,2,    0.861,2,     -999,9,     -999,9,     -999,9,     -999,9,     -999,9,     -999,9,  28.9270
35A3CITHER3_2 ,A13        ,202     ,  1,2          ,31         ,2,19950318,2350,  -9.0008,   5.0017,     5315,     46.6,  18.8550,  35.7800,2,  35.7700,3,    179.1,2,    137.9,3,     5.70,2,    10.00,2,     0.75,2,    1.516,2,    0.768,2,     -999,9,     -999,9,     -999,9,     -999,9,     -999,9,     -999,9,  18.8470
35A3CITHER3_2 ,A13        ,202     ,  1,3          ,30         ,2,19950318,2350,  -9.0008,   5.0017,     5315,    120.0,  13.8230,  35.3830,2,  35.3800,2,     74.4,2,     82.2,3,     9.40,2,    23.40,2,     1.43,2,    1.130,2,    0.562,2,     -999,9,     -999,9,     -999,9,     -999,9,     -999,9,     -999,9,  13.8060
35A3CITHER3_2 ,A13        ,202     ,  1,4          ,29         ,2,19950318,2350,  -9.0008,   5.0017,     5315,    195.6,  12.7010,  35.2420,2,  35.2460,2,     65.3,2,     71.1,3,    11.20,2,    26.10,2,     1.57,2,    0.822,2,    0.417,2,     -999,9,     -999,9,     -999,9,     -999,9,     -999,9,     -999,9,  12.6740
35A3CITHER3_2 ,A13        ,202     ,  1,5          ,28         ,2,19950318,2350,  -9.0008,   5.0017,     5315,    395.8,   9.4780,  34.8810,2,  34.8820,2,     34.1,2,     33.3,2,    17.70,2,    36.20,2,     2.18,2,    0.166,2,    0.092,2,     -999,9,     -999,9,     -999,9,     -999,9,     -999,9,     -999,9,   9.4330
35A3CITHER3_2 ,A13        ,202     ,  1,6          ,27         ,2,19950318,2350,  -9.0008,   5.0017,     5315,    495.0,   8.0440,  34.7390,2,  34.7450,2,     28.3,2,     29.2,2,    20.70,2,    39.40,2,     2.44,2,    0.031,2,    0.021,2,     -999,9,     -999,9,     -999,9,     -999,9,     -999,9,     -999,9,   7.9930
35A3CITHER3_2 ,A13        ,202     ,  1,7          ,26         ,2,19950318,2350,  -9.0008,   5.0017,     5315,    594.8,   6.5510,  34.6090,2,  34.6110,2,     50.9,2,     49.9,2,    24.90,2,    40.80,2,     2.62,2,    0.008,2,    0.001,2,     -999,9,     -999,9,     -999,9,     -999,9,     -999,9,     -999,9,   6.4960
35A3CITHER3_2 ,A13        ,202     ,  1,8          ,25         ,2,19950318,2350,  -9.0008,   5.0017,     5315,    796.1,   4.8880,  34.5050,2,  34.4980,3,    120.1,2,    116.8,2,    31.90,2,    39.00,2,     2.45,2,    0.003,2,    0.002,2,     -999,9,     -999,9,     -999,9,     -999,9,     -999,9,     -999,9,   4.8240
35A3CITHER3_2 ,A13        ,202     ,  1,9          ,24         ,2,19950318,2350,  -9.0008,   5.0017,     5315,    995.7,   4.2960,  34.5670,2,  34.5600,3,    137.1,2,    137.4,2,    34.90,2,    34.50,2,     2.30,2,    0.002,2,    0.001,2,     -999,9,     -999,9,     -999,9,     -999,9,     -999,9,     -999,9,   4.2180
35A3CITHER3_2 ,A13        ,202     ,  1,10         ,23         ,2,19950318,2350,  -9.0008,   5.0017,     5315,   1195.0,   4.1000,  34.7130,2,  34.6960,3,    160.3,2,    160.2,2,    32.90,2,    30.70,2,     2.04,2,    0.004,2,    0.005,2,     -999,9,     -999,9,     -999,9,     -999,9,     -999,9,     -999,9,   4.0070
35A3CITHER3_2 ,A13        ,202     ,  1,11         ,22         ,2,19950318,2350,  -9.0008,   5.0017,     5315,   1395.4,   3.9460,  34.8280,2,  34.8290,2,    188.3,2,    187.2,2,    29.50,2,    26.30,2,     1.71,2,    0.035,2,    0.021,2,     -999,9,     -999,9,     -999,9,     -999,9,     -999,9,     -999,9,   3.8360
35A3CITHER3_2 ,A13        ,202     ,  1,12         ,21         ,2,19950318,2350,  -9.0008,   5.0017,     5315,   1595.4,   3.7960,  34.9070,2,  34.9070,2,    217.2,2,    214.4,2,    25.70,2,    23.00,2,     1.49,2,    0.001,2,    0.003,2,     -999,9,     -999,9,     -999,9,     -999,9,     -999,9,     -999,9,   3.6700
35A3CITHER3_2 ,A13        ,202     ,  1,13         ,20         ,2,19950318,2350,  -9.0008,   5.0017,     5315,   1795.4,   3.5720,  34.9270,2,  34.9290,2,    228.4,2,    225.7,2,    26.70,2,    21.80,2,     1.41,2,   -0.000,2,   -0.002,2,     -999,9,     -999,9,     -999,9,     -999,9,     -999,9,     -999,9,   3.4300
35A3CITHER3_2 ,A13        ,202     ,  1,14         ,19         ,2,19950318,2350,  -9.0008,   5.0017,     5315,   1993.6,   3.3490,  34.9310,2,  34.9220,3,    231.8,2,    229.4,2,    29.50,2,    21.90,2,     1.40,2,    0.002,2,    0.000,2,     -999,9,     -999,9,     -999,9,     -999,9,     -999,9,     -999,9,   3.1920
35A3CITHER3_2 ,A13        ,202     ,  1,15         ,18         ,2,19950318,2350,  -9.0008,   5.0017,     5315,   2194.3,   3.1340,  34.9300,2,  34.9320,2,    230.3,2,    228.8,2,    33.50,2,    21.80,2,     1.41,2,    0.002,2,    0.002,2,     -999,9,     -999,9,     -999,9,     -999,9,     -999,9,     -999,9,   2.9610
35A3CITHER3_2 ,A13        ,202     ,  1,16         ,17         ,2,19950318,2350,  -9.0008,   5.0017,     5315,   2395.4,   2.9480,  34.9240,2,  34.9250,2,    229.3,2,    228.7,2,    37.30,2,    22.20,2,     1.43,2,   -0.001,2,     -999,9,     -999,9,     -999,9,     -999,9,     -999,9,     -999,9,     -999,9,   2.7590
35A3CITHER3_2 ,A13        ,202     ,  1,17         ,16         ,2,19950318,2350,  -9.0008,   5.0017,     5315,   2595.6,   2.8070,  34.9180,2,  34.9190,2,    229.7,2,    229.6,2,    39.90,2,    21.80,2,     1.41,2,    0.004,2,    0.001,2,     -999,9,     -999,9,     -999,9,     -999,9,     -999,9,     -999,9,   2.6010
35A3CITHER3_2 ,A13        ,202     ,  1,18         ,15         ,2,19950318,2350,  -9.0008,   5.0017,     5315,   2796.2,   2.7000,  34.9140,2,  34.9140,2,    230.7,2,    231.0,2,    42.20,2,    22.00,2,     1.41,2,    0.001,2,    0.002,2,     -999,9,     -999,9,     -999,9,     -999,9,     -999,9,     -999,9,   2.4770
35A3CITHER3_2 ,A13        ,202     ,  1,19         ,14         ,2,19950318,2350,  -9.0008,   5.0017,     5315,   2994.9,   2.6090,  34.9100,2,  34.9080,2,    230.3,2,    230.7,2,    44.60,2,    22.10,2,     1.42,2,    0.001,2,    0.003,2,     -999,9,     -999,9,     -999,9,     -999,9,     -999,9,     -999,9,   2.3670
35A3CITHER3_2 ,A13        ,202     ,  1,20         ,13         ,2,19950318,2350,  -9.0008,   5.0017,     5315,   3196.2,   2.5250,  34.9040,2,  34.9020,2,    229.5,2,    229.3,2,    47.50,2,    22.30,2,     1.44,2,    0.002,2,    0.001,2,     -999,9,     -999,9,     -999,9,     -999,9,     -999,9,     -999,9,   2.2640
35A3CITHER3_2 ,A13        ,202     ,  1,21         ,12         ,2,19950318,2350,  -9.0008,   5.0017,     5315,   3396.4,   2.4500,  34.8990,2,  34.8990,2,    227.2,2,    227.4,2,    50.90,2,    22.60,2,     1.47,2,    0.000,2,    0.000,2,     -999,9,     -999,9,     -999,9,     -999,9,     -999,9,     -999,9,   2.1700
35A3CITHER3_2 ,A13        ,202     ,  1,22         ,11         ,2,19950318,2350,  -9.0008,   5.0017,     5315,   3596.1,   2.3740,  34.8930,2,  34.8900,2,    225.8,2,    225.9,2,    53.50,2,    22.70,2,     1.44,2,    0.010,2,    0.008,2,     -999,9,     -999,9,     -999,9,     -999,9,     -999,9,     -999,9,   2.0740
35A3CITHER3_2 ,A13        ,202     ,  1,23         ,10         ,2,19950318,2350,  -9.0008,   5.0017,     5315,   3796.7,   2.3360,  34.8880,2,  34.8900,2,    227.6,2,    226.3,2,    54.80,2,    22.80,2,     1.45,2,    0.000,2,     -999,9,     -999,9,     -999,9,     -999,9,     -999,9,     -999,9,     -999,9,   2.0150
35A3CITHER3_2 ,A13        ,202     ,  1,24         ,9          ,2,19950318,2350,  -9.0008,   5.0017,     5315,   3997.4,   2.3280,  34.8880,2,  34.8860,2,    230.2,2,    231.4,2,    53.30,2,    22.80,2,     1.47,2,    0.001,2,    0.000,2,     -999,9,     -999,9,     -999,9,     -999,9,     -999,9,     -999,9,   1.9850
35A3CITHER3_2 ,A13        ,202     ,  1,25         ,8          ,2,19950318,2350,  -9.0008,   5.0017,     5315,   4197.5,   2.3280,  34.8860,2,  34.8830,2,    232.1,2,    232.4,2,    53.30,2,    22.90,2,     1.46,2,    0.005,2,    0.011,2,     -999,9,     -999,9,     -999,9,     -999,9,     -999,9,     -999,9,   1.9620
35A3CITHER3_2 ,A13        ,202     ,  1,26         ,7          ,2,19950318,2350,  -9.0008,   5.0017,     5315,   4397.0,   2.3330,  34.8840,2,  34.8840,2,    232.9,2,    233.2,2,    54.10,2,    22.80,2,     1.46,2,    0.001,2,    0.003,2,     -999,9,     -999,9,     -999,9,     -999,9,     -999,9,     -999,9,   1.9430
35A3CITHER3_2 ,A13        ,202     ,  1,27         ,6          ,2,19950318,2350,  -9.0008,   5.0017,     5315,   4599.2,   2.3450,  34.8820,2,  34.8820,2,    233.7,2,    234.3,2,    54.20,2,    22.80,2,     1.44,2,    0.003,2,    0.002,2,     -999,9,     -999,9,     -999,9,     -999,9,     -999,9,     -999,9,   1.9310
35A3CITHER3_2 ,A13        ,202     ,  1,28         ,5          ,2,19950318,2350,  -9.0008,   5.0017,     5315,   4797.3,   2.3620,  34.8810,2,  34.8810,2,    234.7,2,    235.0,2,    54.50,2,    22.60,2,     1.44,2,    0.000,2,    0.001,2,     -999,9,     -999,9,     -999,9,     -999,9,     -999,9,     -999,9,   1.9230
35A3CITHER3_2 ,A13        ,202     ,  1,29         ,4          ,2,19950318,2350,  -9.0008,   5.0017,     5315,   4998.6,   2.3820,  34.8790,2,  34.8800,2,    235.4,2,    235.8,2,    54.40,2,    22.40,2,     1.42,2,    0.002,2,    0.002,2,     -999,9,     -999,9,     -999,9,     -999,9,     -999,9,     -999,9,   1.9170
35A3CITHER3_2 ,A13        ,202     ,  1,30         ,3          ,2,19950318,2350,  -9.0008,   5.0017,     5315,   5196.2,   2.4000,  34.8780,2,  34.8790,2,    235.7,2,    236.0,2,    54.60,2,    22.80,2,     1.44,2,    0.003,2,    0.003,2,     -999,9,     -999,9,     -999,9,     -999,9,     -999,9,     -999,9,   1.9090
35A3CITHER3_2 ,A13        ,202     ,  1,31         ,2          ,2,19950318,2350,  -9.0008,   5.0017,     5315,   5298.1,   2.4100,  34.8770,2,  34.8800,2,    235.6,2,    235.3,2,    54.80,2,    22.70,2,     1.43,2,    0.003,2,    0.003,2,     -999,9,     -999,9,     -999,9,     -999,9,     -999,9,     -999,9,   1.9050
35A3CITHER3_2 ,A13        ,202     ,  1,32         ,1          ,2,19950318,2350,  -9.0008,   5.0017,     5315,   5386.1,   2.4220,  34.8760,2,  34.8780,2,    235.1,2,    235.4,2,    54.80,2,    23.10,2,     1.46,2,    0.000,2,    0.001,2,     -999,9,     -999,9,     -999,9,     -999,9,     -999,9,     -999,9,   1.9060