BOTTLE,20211216CCHDHYDRO
EXPOCODE,SECT_ID,STNNBR,CASTNO,SAMPNO,BTLNBR,BTLNBR_FLAG_W,DATE,TIME,LATITUDE,LONGITUDE,DEPTH,CTDPRS,CTDTMP,CTDSAL,CTDSAL_FLAG_W,SALNTY,SALNTY_FLAG_W,CTDOXY,CTDOXY_FLAG_W,OXYGEN,OXYGEN_FLAG_W,SILCAT,SILCAT_FLAG_W,NITRAT,NITRAT_FLAG_W,PHSPHT,PHSPHT_FLAG_W,CFC-11,CFC-11_FLAG_W,CFC-12,CFC-12_FLAG_W,TCARBN,TCARBN_FLAG_W,ALKALI,ALKALI_FLAG_W,TRITUM,TRITUM_FLAG_W,HELIUM,HELIUM_FLAG_W,DELHE3,DELHE3_FLAG_W,NEON,NEON_FLAG_W,THETA
,,,,,,,,,,,METERS,DBAR,DEG C,PSS-78,,PSS-78,,UMOL/KG,,UMOL/KG,,UMOL/KG,,UMOL/KG,,UMOL/KG,,PMOL/KG,,PMOL/KG,,UMOL/KG,,UMOL/KG,,TU,,NMOL/KG,,PERCNT,,NMOL/KG,,DEG C
35A3CITHER3_2 ,A13        ,216     ,  1,1          ,32         ,2,19950322,1101,  -2.8507,   3.6418,     4570,      4.7,  29.5650,  34.8260,2,  34.8290,3,    208.1,2,    207.5,2,     2.10,2,     0.00,2,     0.01,2,    1.552,2,    0.878,2,     -999,9,     -999,9,     -999,9,     -999,9,     -999,9,     -999,9,  29.5640
35A3CITHER3_2 ,A13        ,216     ,  1,2          ,31         ,2,19950322,1101,  -2.8507,   3.6418,     4570,     46.7,  23.9750,  36.0330,2,  36.0040,3,    196.2,2,    173.6,3,     3.10,2,     1.40,2,     0.27,2,    1.695,2,    0.903,2,     -999,9,     -999,9,     -999,9,     -999,9,     -999,9,     -999,9,  23.9650
35A3CITHER3_2 ,A13        ,216     ,  1,3          ,30         ,2,19950322,1101,  -2.8507,   3.6418,     4570,    120.8,  16.5890,  35.7370,2,  35.7440,3,    124.6,2,    125.9,2,     6.20,2,    16.00,2,     0.99,2,    1.606,2,    0.784,2,     -999,9,     -999,9,     -999,9,     -999,9,     -999,9,     -999,9,  16.5690
35A3CITHER3_2 ,A13        ,216     ,  1,4          ,29         ,2,19950322,1101,  -2.8507,   3.6418,     4570,    196.7,  15.0220,  35.5430,2,  35.5490,3,    112.5,2,    108.8,3,     7.60,2,    19.20,2,     1.23,2,    1.370,2,    0.675,2,     -999,9,     -999,9,     -999,9,     -999,9,     -999,9,     -999,9,  14.9920
35A3CITHER3_2 ,A13        ,216     ,  1,5          ,28         ,2,19950322,1101,  -2.8507,   3.6418,     4570,    296.1,  11.5200,  35.1150,2,  35.1140,2,     40.2,2,     37.3,2,    14.10,2,    32.50,2,     1.96,2,    0.429,2,    0.221,2,     -999,9,     -999,9,     -999,9,     -999,9,     -999,9,     -999,9,  11.4820
35A3CITHER3_2 ,A13        ,216     ,  1,6          ,27         ,2,19950322,1101,  -2.8507,   3.6418,     4570,    396.8,   8.2320,  34.7470,2,  34.7580,3,     86.1,2,     81.1,3,    18.50,2,    34.60,2,     2.10,2,    0.215,2,    0.115,2,     -999,9,     -999,9,     -999,9,     -999,9,     -999,9,     -999,9,   8.1910
35A3CITHER3_2 ,A13        ,216     ,  1,7          ,26         ,2,19950322,1101,  -2.8507,   3.6418,     4570,    595.3,   6.4560,  34.5900,2,  34.5910,2,     97.2,2,     93.2,2,    24.20,2,    36.90,2,     2.35,2,    0.048,2,    0.029,2,     -999,9,     -999,9,     -999,9,     -999,9,     -999,9,     -999,9,   6.4010
35A3CITHER3_2 ,A13        ,216     ,  1,9          ,24         ,2,19950322,1101,  -2.8507,   3.6418,     4570,    794.5,   4.7250,  34.5070,2,  34.5070,2,    142.1,2,    144.4,2,    31.40,2,    34.90,2,     2.29,2,     -999,9,     -999,9,     -999,9,     -999,9,     -999,9,     -999,9,     -999,9,     -999,9,   4.6620
35A3CITHER3_2 ,A13        ,216     ,  1,8          ,25         ,2,19950322,1101,  -2.8507,   3.6418,     4570,    794.7,   4.7260,  34.5070,2,  34.4980,3,    142.1,2,    141.3,2,    31.60,2,    35.00,2,     2.31,2,    0.025,2,    0.017,2,     -999,9,     -999,9,     -999,9,     -999,9,     -999,9,     -999,9,   4.6630
35A3CITHER3_2 ,A13        ,216     ,  1,10         ,23         ,2,19950322,1101,  -2.8507,   3.6418,     4570,    995.5,   4.3810,  34.5940,2,  34.5930,2,    153.9,2,    151.7,2,    33.10,2,    33.40,2,     2.22,2,    0.008,2,    0.002,2,     -999,9,     -999,9,     -999,9,     -999,9,     -999,9,     -999,9,   4.3030
35A3CITHER3_2 ,A13        ,216     ,  1,11         ,22         ,2,19950322,1101,  -2.8507,   3.6418,     4570,   1196.4,   4.3570,  34.7810,2,  34.7840,2,    176.4,2,    176.1,2,    28.60,2,    28.70,2,     1.91,2,    0.007,2,    0.001,2,     -999,9,     -999,9,     -999,9,     -999,9,     -999,9,     -999,9,   4.2610
35A3CITHER3_2 ,A13        ,216     ,  1,12         ,21         ,2,19950322,1101,  -2.8507,   3.6418,     4570,   1395.5,   4.2070,  34.9150,2,  34.9150,2,    207.1,2,    208.9,2,    23.50,2,    23.50,2,     1.56,2,    0.011,2,    0.006,2,     -999,9,     -999,9,     -999,9,     -999,9,     -999,9,     -999,9,   4.0940
35A3CITHER3_2 ,A13        ,216     ,  1,13         ,20         ,2,19950322,1101,  -2.8507,   3.6418,     4570,   1596.5,   4.0010,  34.9530,2,  34.9550,2,    231.2,2,    228.3,2,    22.10,2,    21.50,2,     1.42,2,    0.013,2,     -999,9,     -999,9,     -999,9,     -999,9,     -999,9,     -999,9,     -999,9,   3.8720
35A3CITHER3_2 ,A13        ,216     ,  1,14         ,19         ,2,19950322,1101,  -2.8507,   3.6418,     4570,   1795.4,   3.6980,  34.9620,2,  34.9620,2,    238.6,2,    239.1,2,    22.90,2,    20.50,2,     1.35,2,    0.012,2,    0.007,2,     -999,9,     -999,9,     -999,9,     -999,9,     -999,9,     -999,9,   3.5540
35A3CITHER3_2 ,A13        ,216     ,  1,15         ,18         ,2,19950322,1101,  -2.8507,   3.6418,     4570,   1994.5,   3.4460,  34.9520,2,  34.9530,2,    240.4,2,    239.3,2,    26.40,2,    20.70,2,     1.33,2,    0.005,2,    0.004,2,     -999,9,     -999,9,     -999,9,     -999,9,     -999,9,     -999,9,   3.2870
35A3CITHER3_2 ,A13        ,216     ,  1,16         ,17         ,2,19950322,1101,  -2.8507,   3.6418,     4570,   2194.8,   3.2120,  34.9440,2,  34.9440,2,    241.6,2,    240.2,2,    30.20,2,    21.10,2,     1.38,2,    0.009,2,    0.003,2,     -999,9,     -999,9,     -999,9,     -999,9,     -999,9,     -999,9,   3.0380
35A3CITHER3_2 ,A13        ,216     ,  1,17         ,16         ,2,19950322,1101,  -2.8507,   3.6418,     4570,   2396.6,   2.9980,  34.9310,2,  34.9320,2,    238.3,2,    238.2,2,    35.20,2,    21.50,2,     1.40,2,    0.002,2,    0.000,2,     -999,9,     -999,9,     -999,9,     -999,9,     -999,9,     -999,9,   2.8080
35A3CITHER3_2 ,A13        ,216     ,  1,18         ,15         ,2,19950322,1101,  -2.8507,   3.6418,     4570,   2595.9,   2.8230,  34.9220,2,  34.9220,2,    238.8,2,    238.0,2,    38.10,2,    22.00,2,     1.42,2,    0.004,2,    0.002,2,     -999,9,     -999,9,     -999,9,     -999,9,     -999,9,     -999,9,   2.6170
35A3CITHER3_2 ,A13        ,216     ,  1,19         ,14         ,2,19950322,1101,  -2.8507,   3.6418,     4570,   2797.4,   2.6900,  34.9130,2,  34.9100,2,    237.8,2,    238.1,2,    41.10,2,    22.00,2,     1.44,2,    0.002,2,    0.006,2,     -999,9,     -999,9,     -999,9,     -999,9,     -999,9,     -999,9,   2.4670
35A3CITHER3_2 ,A13        ,216     ,  1,21         ,12         ,2,19950322,1101,  -2.8507,   3.6418,     4570,   2995.5,   2.5740,  34.9060,2,  34.9050,2,    236.5,2,    235.7,2,    44.50,2,    22.30,2,     1.45,2,    0.003,2,   -0.004,2,     -999,9,     -999,9,     -999,9,     -999,9,     -999,9,     -999,9,   2.3330
35A3CITHER3_2 ,A13        ,216     ,  1,20         ,13         ,2,19950322,1101,  -2.8507,   3.6418,     4570,   2995.9,   2.5770,  34.9060,2,  34.9060,2,    236.5,2,    235.7,2,    44.10,2,    22.00,2,     1.45,2,    0.002,2,     -999,9,     -999,9,     -999,9,     -999,9,     -999,9,     -999,9,     -999,9,   2.3360
35A3CITHER3_2 ,A13        ,216     ,  1,22         ,11         ,2,19950322,1101,  -2.8507,   3.6418,     4570,   3196.0,   2.5000,  34.9020,2,  34.8910,3,    237.5,2,    236.7,2,    45.80,2,    21.80,2,     1.43,2,    0.005,2,     -999,9,     -999,9,     -999,9,     -999,9,     -999,9,     -999,9,     -999,9,   2.2400
35A3CITHER3_2 ,A13        ,216     ,  1,23         ,10         ,2,19950322,1101,  -2.8507,   3.6418,     4570,   3395.3,   2.4510,  34.8970,2,  34.8970,2,    237.4,2,    236.9,2,    47.30,2,    21.60,2,     1.43,2,    0.000,2,    0.001,2,     -999,9,     -999,9,     -999,9,     -999,9,     -999,9,     -999,9,   2.1710
35A3CITHER3_2 ,A13        ,216     ,  1,24         ,9          ,2,19950322,1101,  -2.8507,   3.6418,     4570,   3597.2,   2.3950,  34.8930,2,  34.8930,2,    237.6,2,    236.4,2,    49.10,2,    21.80,2,     1.41,2,    0.003,2,   -0.003,2,     -999,9,     -999,9,     -999,9,     -999,9,     -999,9,     -999,9,   2.0950
35A3CITHER3_2 ,A13        ,216     ,  1,25         ,8          ,2,19950322,1101,  -2.8507,   3.6418,     4570,   3798.0,   2.3520,  34.8890,2,  34.8860,2,    235.8,2,    235.1,2,    51.00,2,    22.30,2,     1.46,2,    0.003,2,    0.005,2,     -999,9,     -999,9,     -999,9,     -999,9,     -999,9,     -999,9,   2.0310
35A3CITHER3_2 ,A13        ,216     ,  1,26         ,7          ,2,19950322,1101,  -2.8507,   3.6418,     4570,   3997.7,   2.3170,  34.8840,2,  34.8830,2,    237.8,2,    237.3,2,    51.70,2,    22.10,2,     1.45,2,    0.000,2,    0.001,2,     -999,9,     -999,9,     -999,9,     -999,9,     -999,9,     -999,9,   1.9740
35A3CITHER3_2 ,A13        ,216     ,  1,27         ,6          ,2,19950322,1101,  -2.8507,   3.6418,     4570,   4199.7,   2.2980,  34.8810,2,  34.8800,2,    239.8,2,    239.7,2,    51.80,2,    22.30,2,     1.46,2,    0.003,2,    0.005,2,     -999,9,     -999,9,     -999,9,     -999,9,     -999,9,     -999,9,   1.9330
35A3CITHER3_2 ,A13        ,216     ,  1,28         ,5          ,2,19950322,1101,  -2.8507,   3.6418,     4570,   4397.1,   2.2860,  34.8780,2,  34.8790,2,    242.0,2,    240.7,2,    52.80,2,    21.40,2,     1.42,2,    0.000,2,     -999,9,     -999,9,     -999,9,     -999,9,     -999,9,     -999,9,     -999,9,   1.8980
35A3CITHER3_2 ,A13        ,216     ,  1,29         ,4          ,2,19950322,1101,  -2.8507,   3.6418,     4570,   4547.0,   2.2910,  34.8770,2,  34.8750,2,    241.4,2,    240.3,2,    53.00,2,    22.50,2,     1.45,2,    0.003,2,    0.002,2,     -999,9,     -999,9,     -999,9,     -999,9,     -999,9,     -999,9,   1.8850
35A3CITHER3_2 ,A13        ,216     ,  1,30         ,3          ,2,19950322,1101,  -2.8507,   3.6418,     4570,   4614.5,   2.2960,  34.8760,2,  34.8750,2,    239.1,2,    239.5,2,    53.40,2,    21.40,2,     1.41,2,    0.002,2,    0.002,2,     -999,9,     -999,9,     -999,9,     -999,9,     -999,9,     -999,9,   1.8810
35A3CITHER3_2 ,A13        ,217     ,  1,2          ,24         ,2,19950322,1630,  -2.4508,   3.3217,     3205,      3.2,  29.6310,  34.8000,2,     -999,9,    220.8,2,    228.0,2,     -999,9,     -999,9,     -999,9,    1.541,2,    0.851,2,   1870.7,2,   2280.5,2,     -999,9,     -999,9,     -999,9,     -999,9,  29.6300
35A3CITHER3_2 ,A13        ,217     ,  1,1          ,25         ,2,19950322,1630,  -2.4508,   3.3217,     3205,      3.4,  29.7150,  34.8010,2,  34.7940,3,    220.8,2,    225.0,3,     4.50,2,     0.00,2,     0.01,2,    1.547,2,    0.863,2,     -999,9,     -999,9,     -999,9,     -999,9,     -999,9,     -999,9,  29.7140
35A3CITHER3_2 ,A13        ,217     ,  1,3          ,23         ,2,19950322,1630,  -2.4508,   3.3217,     3205,     46.4,  24.9120,  36.1120,2,  36.0830,3,    205.6,2,    186.7,3,     4.60,2,     0.00,2,     0.16,2,    1.710,2,    0.886,2,   2054.4,2,   2365.8,2,     -999,9,     -999,9,     -999,9,     -999,9,  24.9020
35A3CITHER3_2 ,A13        ,217     ,  1,4          ,22         ,2,19950322,1630,  -2.4508,   3.3217,     3205,    120.6,  16.6780,  35.7530,2,  35.7430,3,    130.6,2,    139.5,3,     6.70,2,    13.80,2,     0.91,2,    1.645,2,    0.799,2,   2143.2,2,   2346.2,2,     -999,9,     -999,9,     -999,9,     -999,9,  16.6580
35A3CITHER3_2 ,A13        ,217     ,  1,5          ,21         ,2,19950322,1630,  -2.4508,   3.3217,     3205,    196.3,  14.7220,  35.5040,2,  35.5000,2,     95.3,2,     93.4,2,     9.40,2,    21.10,2,     1.30,2,    1.240,2,    0.599,2,   2181.4,2,     -999,9,     -999,9,     -999,9,     -999,9,     -999,9,  14.6930
35A3CITHER3_2 ,A13        ,217     ,  1,6          ,20         ,2,19950322,1630,  -2.4508,   3.3217,     3205,    295.7,  10.6530,  35.0230,2,  35.0180,2,     40.8,2,     38.4,2,    15.40,2,    33.60,2,     2.01,2,    0.323,2,    0.175,2,   2239.6,2,   2304.1,2,     -999,9,     -999,9,     -999,9,     -999,9,  10.6170
35A3CITHER3_2 ,A13        ,217     ,  1,7          ,19         ,2,19950322,1630,  -2.4508,   3.3217,     3205,    395.8,   8.4280,  34.7700,2,  34.7660,2,     76.5,2,     73.6,2,    18.40,2,    34.80,2,     2.15,2,    0.192,2,    0.104,2,   2230.6,2,   2296.6,2,     -999,9,     -999,9,     -999,9,     -999,9,   8.3860
35A3CITHER3_2 ,A13        ,217     ,  1,8          ,18         ,2,19950322,1630,  -2.4508,   3.3217,     3205,    595.2,   6.0890,  34.5440,2,  34.5420,2,    129.2,2,    127.6,2,    23.70,2,    33.90,2,     2.20,2,    0.142,2,    0.074,2,   2213.5,2,     -999,9,     -999,9,     -999,9,     -999,9,     -999,9,   6.0360
35A3CITHER3_2 ,A13        ,217     ,  1,9          ,17         ,2,19950322,1630,  -2.4508,   3.3217,     3205,    795.2,   4.6830,  34.5050,2,  34.5040,2,    144.8,2,    144.2,2,    31.30,2,    34.70,2,     2.28,2,    0.020,2,    0.014,2,   2220.8,2,   2290.6,2,     -999,9,     -999,9,     -999,9,     -999,9,   4.6200
35A3CITHER3_2 ,A13        ,217     ,  1,10         ,16         ,2,19950322,1630,  -2.4508,   3.3217,     3205,    994.7,   4.3750,  34.6140,2,  34.6130,2,    155.6,2,    153.6,2,    32.40,2,    32.80,2,     2.17,2,    0.010,2,    0.009,2,   2218.5,2,     -999,9,     -999,9,     -999,9,     -999,9,     -999,9,   4.2970
35A3CITHER3_2 ,A13        ,217     ,  1,11         ,15         ,2,19950322,1630,  -2.4508,   3.3217,     3205,   1195.5,   4.3910,  34.7850,2,  34.7840,2,    176.5,2,    176.6,2,    27.30,2,    28.30,2,     1.89,2,    0.011,2,    0.006,2,   2203.8,2,   2314.6,2,     -999,9,     -999,9,     -999,9,     -999,9,   4.2950
35A3CITHER3_2 ,A13        ,217     ,  1,12         ,14         ,2,19950322,1630,  -2.4508,   3.3217,     3205,   1394.4,   4.2540,  34.9030,2,  34.9020,2,    205.1,2,    204.8,2,    23.10,2,    24.10,2,     1.59,2,    0.013,2,    0.006,2,     -999,9,     -999,9,     -999,9,     -999,9,     -999,9,     -999,9,   4.1410
35A3CITHER3_2 ,A13        ,217     ,  1,13         ,13         ,2,19950322,1630,  -2.4508,   3.3217,     3205,   1395.0,   4.2520,  34.9020,2,  34.8990,2,    205.4,2,    206.7,2,    23.40,2,    23.70,2,     1.58,2,    0.013,2,    0.003,2,   2186.1,2,     -999,9,     -999,9,     -999,9,     -999,9,     -999,9,   4.1390
35A3CITHER3_2 ,A13        ,217     ,  1,14         ,12         ,2,19950322,1630,  -2.4508,   3.3217,     3205,   1595.2,   4.0180,  34.9560,2,  34.9540,2,    230.0,2,    228.0,2,    21.00,2,    20.90,2,     1.39,2,    0.015,2,    0.013,2,   2173.8,2,   2327.9,2,     -999,9,     -999,9,     -999,9,     -999,9,   3.8890
35A3CITHER3_2 ,A13        ,217     ,  1,15         ,11         ,2,19950322,1630,  -2.4508,   3.3217,     3205,   1795.7,   3.7310,  34.9630,2,  34.9600,2,    241.1,2,    228.4,3,    23.10,2,    20.00,2,     1.32,2,    0.011,2,    0.012,2,   2169.7,2,     -999,9,     -999,9,     -999,9,     -999,9,     -999,9,   3.5870
35A3CITHER3_2 ,A13        ,217     ,  1,16         ,10         ,2,19950322,1630,  -2.4508,   3.3217,     3205,   1995.2,   3.4320,  34.9530,2,  34.9530,2,    243.5,2,    252.5,4,    26.40,2,    20.60,2,     1.34,2,    0.004,2,    0.005,2,   2172.7,2,     -999,9,     -999,9,     -999,9,     -999,9,     -999,9,   3.2730
35A3CITHER3_2 ,A13        ,217     ,  1,17         ,9          ,2,19950322,1630,  -2.4508,   3.3217,     3205,   2196.3,   3.1780,  34.9400,2,  34.9370,2,    240.7,2,    238.6,2,    31.20,2,    20.80,2,     1.36,2,    0.004,2,    0.005,2,   2178.0,2,     -999,9,     -999,9,     -999,9,     -999,9,     -999,9,   3.0040
35A3CITHER3_2 ,A13        ,217     ,  1,18         ,8          ,2,19950322,1630,  -2.4508,   3.3217,     3205,   2396.0,   2.9760,  34.9290,2,  34.9280,2,    239.5,2,    237.9,2,    35.00,2,    20.90,2,     1.36,2,    0.001,2,    0.006,2,   2183.9,2,     -999,9,     -999,9,     -999,9,     -999,9,     -999,9,   2.7870
35A3CITHER3_2 ,A13        ,217     ,  1,19         ,7          ,2,19950322,1630,  -2.4508,   3.3217,     3205,   2595.6,   2.7170,  34.9150,2,  34.9140,2,    237.6,2,    243.6,4,    40.10,2,    21.50,2,     1.40,2,    0.001,2,    0.002,2,   2189.8,2,   2338.6,2,     -999,9,     -999,9,     -999,9,     -999,9,   2.5130
35A3CITHER3_2 ,A13        ,217     ,  1,20         ,6          ,2,19950322,1630,  -2.4508,   3.3217,     3205,   2796.5,   2.6590,  34.9130,2,  34.9110,2,    237.8,2,    237.7,2,    41.20,2,    21.80,2,     1.45,2,    0.004,2,    0.002,2,   2190.4,2,     -999,9,     -999,9,     -999,9,     -999,9,     -999,9,   2.4360
35A3CITHER3_2 ,A13        ,217     ,  1,21         ,5          ,2,19950322,1630,  -2.4508,   3.3217,     3205,   2997.1,   2.5400,  34.9050,2,  34.9030,2,    237.1,2,    237.4,2,    44.10,2,    22.00,2,     1.45,2,    0.002,2,    0.003,2,   2195.4,2,     -999,9,     -999,9,     -999,9,     -999,9,     -999,9,   2.3000
35A3CITHER3_2 ,A13        ,217     ,  1,22         ,4          ,2,19950322,1630,  -2.4508,   3.3217,     3205,   3146.6,   2.5300,  34.9040,2,  34.9010,2,    237.6,2,    237.2,2,    44.50,2,    22.30,2,     1.43,2,    0.000,2,   -0.002,2,   2195.1,2,     -999,9,     -999,9,     -999,9,     -999,9,     -999,9,   2.2740
35A3CITHER3_2 ,A13        ,217     ,  1,23         ,3          ,2,19950322,1630,  -2.4508,   3.3217,     3205,   3208.7,   2.4820,  34.9020,2,  34.8990,2,    235.4,2,    237.3,2,    45.60,2,    22.30,2,     1.43,2,    0.002,2,   -0.003,2,   2196.6,2,   2346.3,2,     -999,9,     -999,9,     -999,9,     -999,9,   2.2210