BOTTLE,20211216CCHDHYDRO
EXPOCODE,SECT_ID,STNNBR,CASTNO,SAMPNO,BTLNBR,BTLNBR_FLAG_W,DATE,TIME,LATITUDE,LONGITUDE,DEPTH,CTDPRS,CTDTMP,CTDSAL,CTDSAL_FLAG_W,SALNTY,SALNTY_FLAG_W,CTDOXY,CTDOXY_FLAG_W,OXYGEN,OXYGEN_FLAG_W,SILCAT,SILCAT_FLAG_W,NITRAT,NITRAT_FLAG_W,PHSPHT,PHSPHT_FLAG_W,CFC-11,CFC-11_FLAG_W,CFC-12,CFC-12_FLAG_W,TCARBN,TCARBN_FLAG_W,ALKALI,ALKALI_FLAG_W,TRITUM,TRITUM_FLAG_W,HELIUM,HELIUM_FLAG_W,DELHE3,DELHE3_FLAG_W,NEON,NEON_FLAG_W,THETA
,,,,,,,,,,,METERS,DBAR,DEG C,PSS-78,,PSS-78,,UMOL/KG,,UMOL/KG,,UMOL/KG,,UMOL/KG,,UMOL/KG,,PMOL/KG,,PMOL/KG,,UMOL/KG,,UMOL/KG,,TU,,NMOL/KG,,PERCNT,,NMOL/KG,,DEG C
35A3CITHER3_2 ,A13        ,230     ,  1,1          ,32         ,2,19950325,1139,   1.2667,   1.0497,     4782,      4.6,  29.6820,  34.2100,2,  34.2100,2,    201.7,2,    196.2,3,     5.70,2,     0.00,2,     0.03,2,    1.532,2,    0.842,2,     -999,9,     -999,9,     -999,9,     -999,9,     -999,9,     -999,9,  29.6810
35A3CITHER3_2 ,A13        ,230     ,  1,2          ,31         ,2,19950325,1139,   1.2667,   1.0497,     4782,     46.3,  24.5060,  35.8790,2,  35.8260,3,    214.1,2,    196.7,3,     5.40,2,     0.00,2,     0.09,2,    1.631,2,    0.851,2,     -999,9,     -999,9,     -999,9,     -999,9,     -999,9,     -999,9,  24.4960
35A3CITHER3_2 ,A13        ,230     ,  1,3          ,30         ,2,19950325,1139,   1.2667,   1.0497,     4782,    121.7,  16.1400,  35.6800,2,  35.6790,2,    140.0,2,    143.2,3,     8.30,2,    13.80,2,     0.89,2,    1.615,2,    0.795,2,     -999,9,     -999,9,     -999,9,     -999,9,     -999,9,     -999,9,  16.1210
35A3CITHER3_2 ,A13        ,230     ,  1,4          ,29         ,2,19950325,1139,   1.2667,   1.0497,     4782,    196.7,  14.7850,  35.5150,2,  35.5120,2,    119.7,2,    118.1,2,     9.50,2,    18.10,2,     1.15,2,    1.302,2,    0.651,2,     -999,9,     -999,9,     -999,9,     -999,9,     -999,9,     -999,9,  14.7550
35A3CITHER3_2 ,A13        ,230     ,  1,5          ,28         ,2,19950325,1139,   1.2667,   1.0497,     4782,    266.1,  11.3620,  35.1120,2,  35.0890,3,     56.9,2,     56.4,2,    14.90,2,    30.90,2,     1.82,2,    0.418,2,    0.229,2,     -999,9,     -999,9,     -999,9,     -999,9,     -999,9,     -999,9,  11.3280
35A3CITHER3_2 ,A13        ,230     ,  1,6          ,27         ,2,19950325,1139,   1.2667,   1.0497,     4782,    395.5,   8.1990,  34.7440,2,  34.7440,2,     89.5,2,     91.2,2,    19.80,2,    33.00,2,     2.01,2,    0.236,2,    0.131,2,     -999,9,     -999,9,     -999,9,     -999,9,     -999,9,     -999,9,   8.1580
35A3CITHER3_2 ,A13        ,230     ,  1,7          ,26         ,2,19950325,1139,   1.2667,   1.0497,     4782,    595.2,   6.3010,  34.5710,2,  34.5710,2,    127.6,2,    127.6,2,    24.30,2,    33.40,2,     2.11,2,    0.137,2,    0.078,2,     -999,9,     -999,9,     -999,9,     -999,9,     -999,9,     -999,9,   6.2470
35A3CITHER3_2 ,A13        ,230     ,  1,8          ,25         ,2,19950325,1139,   1.2667,   1.0497,     4782,    745.7,   5.1770,  34.5300,2,  34.5240,2,    130.7,2,    131.4,2,    29.90,2,    34.80,2,     2.25,2,    0.023,2,    0.019,2,     -999,9,     -999,9,     -999,9,     -999,9,     -999,9,     -999,9,   5.1150
35A3CITHER3_2 ,A13        ,230     ,  1,9          ,24         ,2,19950325,1139,   1.2667,   1.0497,     4782,    995.3,   4.4540,  34.6430,2,  34.6450,2,    157.7,2,    158.7,2,    31.80,2,    31.70,2,     2.15,2,    0.013,2,    0.010,2,     -999,9,     -999,9,     -999,9,     -999,9,     -999,9,     -999,9,   4.3750
35A3CITHER3_2 ,A13        ,230     ,  1,10         ,23         ,2,19950325,1139,   1.2667,   1.0497,     4782,   1195.0,   4.4500,  34.8020,2,  34.7950,3,    178.7,2,    178.5,2,    27.30,2,    28.00,2,     1.83,2,    0.017,2,    0.007,2,     -999,9,     -999,9,     -999,9,     -999,9,     -999,9,     -999,9,   4.3530
35A3CITHER3_2 ,A13        ,230     ,  1,11         ,22         ,2,19950325,1139,   1.2667,   1.0497,     4782,   1395.8,   4.3840,  34.9270,2,  34.9290,2,    213.2,2,    211.3,2,    22.30,2,    23.10,2,     1.49,2,    0.032,2,    0.018,2,     -999,9,     -999,9,     -999,9,     -999,9,     -999,9,     -999,9,   4.2690
35A3CITHER3_2 ,A13        ,230     ,  1,12         ,21         ,2,19950325,1139,   1.2667,   1.0497,     4782,   1595.4,   4.0620,  34.9580,2,  34.9580,2,    228.0,2,    228.1,2,    21.50,2,    21.30,2,     1.33,2,    0.008,2,    0.012,2,     -999,9,     -999,9,     -999,9,     -999,9,     -999,9,     -999,9,   3.9320
35A3CITHER3_2 ,A13        ,230     ,  1,13         ,20         ,2,19950325,1139,   1.2667,   1.0497,     4782,   1794.6,   3.7090,  34.9670,2,  34.9600,3,    241.4,2,    242.3,2,    22.30,2,    19.80,2,     1.25,2,    0.012,2,    0.013,2,     -999,9,     -999,9,     -999,9,     -999,9,     -999,9,     -999,9,   3.5650
35A3CITHER3_2 ,A13        ,230     ,  1,14         ,19         ,2,19950325,1139,   1.2667,   1.0497,     4782,   1994.9,   3.4950,  34.9620,2,  34.9660,2,    246.9,2,    247.8,2,    23.40,2,    19.70,2,     1.23,2,    0.014,2,    0.011,2,     -999,9,     -999,9,     -999,9,     -999,9,     -999,9,     -999,9,   3.3350
35A3CITHER3_2 ,A13        ,230     ,  1,15         ,18         ,2,19950325,1139,   1.2667,   1.0497,     4782,   2195.5,   3.2780,  34.9500,2,  34.9520,2,    243.7,2,    244.0,2,    27.60,2,    20.30,2,     1.28,2,    0.003,2,    0.003,2,     -999,9,     -999,9,     -999,9,     -999,9,     -999,9,     -999,9,   3.1030
35A3CITHER3_2 ,A13        ,230     ,  1,16         ,17         ,2,19950325,1139,   1.2667,   1.0497,     4782,   2395.8,   3.0390,  34.9380,2,  34.9390,2,    242.2,2,    243.4,2,    32.10,2,    20.90,2,     1.32,2,    0.001,2,    0.001,2,     -999,9,     -999,9,     -999,9,     -999,9,     -999,9,     -999,9,   2.8490
35A3CITHER3_2 ,A13        ,230     ,  1,17         ,16         ,2,19950325,1139,   1.2667,   1.0497,     4782,   2595.7,   2.8820,  34.9270,2,  34.9290,2,    241.7,2,    241.0,2,    35.70,2,    21.00,2,     1.34,2,    0.004,2,    0.005,2,     -999,9,     -999,9,     -999,9,     -999,9,     -999,9,     -999,9,   2.6750
35A3CITHER3_2 ,A13        ,230     ,  1,18         ,15         ,2,19950325,1139,   1.2667,   1.0497,     4782,   2795.7,   2.7610,  34.9210,2,  34.9200,2,    240.9,2,    240.3,2,    38.60,2,    21.10,2,     1.36,2,    0.000,2,    0.004,2,     -999,9,     -999,9,     -999,9,     -999,9,     -999,9,     -999,9,   2.5360
35A3CITHER3_2 ,A13        ,230     ,  1,19         ,14         ,2,19950325,1139,   1.2667,   1.0497,     4782,   2995.9,   2.6160,  34.9120,2,  34.9110,2,    238.4,2,    240.2,2,    41.60,2,    21.50,2,     1.38,2,    0.000,2,    0.000,2,     -999,9,     -999,9,     -999,9,     -999,9,     -999,9,     -999,9,   2.3740
35A3CITHER3_2 ,A13        ,230     ,  1,20         ,13         ,2,19950325,1139,   1.2667,   1.0497,     4782,   3195.5,   2.5340,  34.9060,2,  34.9030,2,    240.6,2,    241.6,2,    42.50,2,    21.30,2,     1.36,2,    0.004,2,     -999,9,     -999,9,     -999,9,     -999,9,     -999,9,     -999,9,     -999,9,   2.2730
35A3CITHER3_2 ,A13        ,230     ,  1,21         ,12         ,2,19950325,1139,   1.2667,   1.0497,     4782,   3396.0,   2.4940,  34.9030,2,  34.9030,2,    240.7,2,    240.8,2,    44.10,2,    21.10,2,     1.35,2,    0.001,2,     -999,9,     -999,9,     -999,9,     -999,9,     -999,9,     -999,9,     -999,9,   2.2130
35A3CITHER3_2 ,A13        ,230     ,  1,23         ,10         ,2,19950325,1139,   1.2667,   1.0497,     4782,   3595.3,   2.4180,  34.8960,2,  34.8990,2,    239.7,2,    240.5,2,    46.30,2,    21.20,2,     1.36,2,    0.000,2,    0.001,2,     -999,9,     -999,9,     -999,9,     -999,9,     -999,9,     -999,9,   2.1170
35A3CITHER3_2 ,A13        ,230     ,  1,22         ,11         ,2,19950325,1139,   1.2667,   1.0497,     4782,   3595.7,   2.4170,  34.8960,2,  34.8880,3,    239.7,2,    240.9,2,    46.40,2,    21.50,2,     1.35,2,    0.001,2,    0.007,2,     -999,9,     -999,9,     -999,9,     -999,9,     -999,9,     -999,9,   2.1160
35A3CITHER3_2 ,A13        ,230     ,  1,24         ,9          ,2,19950325,1139,   1.2667,   1.0497,     4782,   3796.8,   2.3690,  34.8910,2,  34.8910,2,    240.1,2,    240.7,2,    47.50,2,    21.20,2,     1.38,2,    0.000,2,    0.004,2,     -999,9,     -999,9,     -999,9,     -999,9,     -999,9,     -999,9,   2.0470
35A3CITHER3_2 ,A13        ,230     ,  1,25         ,8          ,2,19950325,1139,   1.2667,   1.0497,     4782,   3995.5,   2.3290,  34.8870,2,  34.8880,2,    239.2,2,    240.3,2,    49.20,2,    21.90,2,     1.42,2,    0.002,2,    0.001,2,     -999,9,     -999,9,     -999,9,     -999,9,     -999,9,     -999,9,   1.9860
35A3CITHER3_2 ,A13        ,230     ,  1,26         ,7          ,2,19950325,1139,   1.2667,   1.0497,     4782,   4197.2,   2.2930,  34.8820,2,  34.8810,2,    242.0,2,    242.5,2,    50.00,2,    22.00,2,     1.42,2,    0.001,2,    0.005,2,     -999,9,     -999,9,     -999,9,     -999,9,     -999,9,     -999,9,   1.9280
35A3CITHER3_2 ,A13        ,230     ,  1,27         ,6          ,2,19950325,1139,   1.2667,   1.0497,     4782,   4396.5,   2.2580,  34.8770,2,  34.8780,2,    241.2,2,    242.1,2,    51.70,2,    21.90,2,     1.43,2,    0.002,2,    0.005,2,     -999,9,     -999,9,     -999,9,     -999,9,     -999,9,     -999,9,   1.8710
35A3CITHER3_2 ,A13        ,230     ,  1,28         ,5          ,2,19950325,1139,   1.2667,   1.0497,     4782,   4598.3,   2.2130,  34.8710,2,     -999,9,    238.8,2,    244.3,2,     -999,9,     -999,9,     -999,9,    0.002,2,    0.005,2,     -999,9,     -999,9,     -999,9,     -999,9,     -999,9,     -999,9,   1.8030
35A3CITHER3_2 ,A13        ,230     ,  1,29         ,4          ,2,19950325,1139,   1.2667,   1.0497,     4782,   4798.5,   2.1750,  34.8620,2,  34.8610,2,    229.5,2,    228.8,2,    61.70,2,    23.40,2,     1.51,2,    0.005,2,    0.012,2,     -999,9,     -999,9,     -999,9,     -999,9,     -999,9,     -999,9,   1.7420
35A3CITHER3_2 ,A13        ,230     ,  1,30         ,3          ,2,19950325,1139,   1.2667,   1.0497,     4782,   4836.9,   2.1790,  34.8610,2,  34.8620,2,    228.5,2,    228.5,2,    62.00,2,    22.70,2,     1.45,2,    0.002,2,    0.007,2,     -999,9,     -999,9,     -999,9,     -999,9,     -999,9,     -999,9,   1.7410
35A3CITHER3_2 ,A13        ,231     ,  1,1          ,32         ,2,19950325,1731,   1.6187,   0.8205,     4761,      5.4,  29.7820,  34.7880,2,  34.7960,3,    194.0,2,    195.8,2,     4.40,2,     0.00,2,     0.02,2,    1.538,2,    0.862,2,     -999,9,     -999,9,     -999,9,     -999,9,     -999,9,     -999,9,  29.7810
35A3CITHER3_2 ,A13        ,231     ,  1,2          ,31         ,2,19950325,1731,   1.6187,   0.8205,     4761,     46.0,  25.5910,  35.8170,2,  35.8040,3,    217.3,2,    202.6,3,     4.00,2,     0.00,2,     0.07,2,    1.641,2,    0.866,2,     -999,9,     -999,9,     -999,9,     -999,9,     -999,9,     -999,9,  25.5810
35A3CITHER3_2 ,A13        ,231     ,  1,3          ,30         ,2,19950325,1731,   1.6187,   0.8205,     4761,    121.4,  16.3600,  35.7060,2,  35.6980,3,    142.3,2,    145.4,2,     7.40,2,    14.00,2,     0.89,2,    1.619,2,    0.804,2,     -999,9,     -999,9,     -999,9,     -999,9,     -999,9,     -999,9,  16.3400
35A3CITHER3_2 ,A13        ,231     ,  1,4          ,29         ,2,19950325,1731,   1.6187,   0.8205,     4761,    195.9,  14.5880,  35.4870,2,  35.4820,2,    122.4,2,    120.1,2,     8.60,2,    18.60,2,     1.15,2,    1.309,2,    0.653,2,     -999,9,     -999,9,     -999,9,     -999,9,     -999,9,     -999,9,  14.5590
35A3CITHER3_2 ,A13        ,231     ,  1,5          ,28         ,2,19950325,1731,   1.6187,   0.8205,     4761,    280.8,  10.7160,  35.0410,2,  35.0390,2,     57.5,2,     56.7,2,    14.70,2,    32.00,2,     1.87,2,    0.352,2,    0.194,2,     -999,9,     -999,9,     -999,9,     -999,9,     -999,9,     -999,9,  10.6820
35A3CITHER3_2 ,A13        ,231     ,  1,6          ,27         ,2,19950325,1731,   1.6187,   0.8205,     4761,    395.4,   8.3240,  34.7590,2,  34.7580,2,     93.4,2,     93.5,2,    17.90,2,    32.90,2,     1.98,2,    0.259,2,    0.141,2,     -999,9,     -999,9,     -999,9,     -999,9,     -999,9,     -999,9,   8.2830
35A3CITHER3_2 ,A13        ,231     ,  1,7          ,26         ,2,19950325,1731,   1.6187,   0.8205,     4761,    594.3,   6.3020,  34.5730,2,  34.5730,2,    126.2,2,    128.7,2,    23.50,2,    33.40,2,     2.11,2,    0.145,2,    0.082,2,     -999,9,     -999,9,     -999,9,     -999,9,     -999,9,     -999,9,   6.2480
35A3CITHER3_2 ,A13        ,231     ,  1,8          ,25         ,2,19950325,1731,   1.6187,   0.8205,     4761,    794.8,   4.7560,  34.5470,2,  34.5270,3,    138.3,2,    142.7,3,    31.10,2,    34.20,2,     2.24,2,    0.016,2,    0.011,2,     -999,9,     -999,9,     -999,9,     -999,9,     -999,9,     -999,9,   4.6920
35A3CITHER3_2 ,A13        ,231     ,  1,9          ,24         ,2,19950325,1731,   1.6187,   0.8205,     4761,    995.4,   4.4630,  34.6460,2,  34.6460,2,    160.0,2,    160.7,2,    31.20,2,    31.80,2,     2.08,2,    0.010,2,    0.008,2,     -999,9,     -999,9,     -999,9,     -999,9,     -999,9,     -999,9,   4.3840
35A3CITHER3_2 ,A13        ,231     ,  1,10         ,23         ,2,19950325,1731,   1.6187,   0.8205,     4761,   1194.8,   4.4450,  34.8190,2,  34.8030,3,    184.0,2,    182.5,2,    26.40,2,    27.60,2,     1.76,2,    0.013,2,    0.010,2,     -999,9,     -999,9,     -999,9,     -999,9,     -999,9,     -999,9,   4.3480
35A3CITHER3_2 ,A13        ,231     ,  1,11         ,22         ,2,19950325,1731,   1.6187,   0.8205,     4761,   1396.1,   4.3260,  34.9280,2,  34.9280,2,    215.8,2,    211.9,2,    21.50,2,    23.40,2,     1.46,2,    0.018,2,    0.015,2,     -999,9,     -999,9,     -999,9,     -999,9,     -999,9,     -999,9,   4.2120
35A3CITHER3_2 ,A13        ,231     ,  1,12         ,21         ,2,19950325,1731,   1.6187,   0.8205,     4761,   1594.5,   4.0180,  34.9590,2,  34.9600,2,    234.2,2,    229.8,2,    20.70,2,    21.30,2,     1.33,2,    0.008,2,    0.007,2,     -999,9,     -999,9,     -999,9,     -999,9,     -999,9,     -999,9,   3.8890
35A3CITHER3_2 ,A13        ,231     ,  1,13         ,20         ,2,19950325,1731,   1.6187,   0.8205,     4761,   1795.3,   3.7160,  34.9680,2,  34.9670,2,    245.3,2,    242.2,2,    20.90,2,    20.20,2,     1.26,2,    0.008,2,    0.007,2,     -999,9,     -999,9,     -999,9,     -999,9,     -999,9,     -999,9,   3.5720
35A3CITHER3_2 ,A13        ,231     ,  1,14         ,19         ,2,19950325,1731,   1.6187,   0.8205,     4761,   1995.1,   3.5410,  34.9640,2,  34.9660,2,    251.1,2,    247.4,2,    22.10,2,    19.70,2,     1.24,2,    0.012,2,    0.014,2,     -999,9,     -999,9,     -999,9,     -999,9,     -999,9,     -999,9,   3.3810
35A3CITHER3_2 ,A13        ,231     ,  1,15         ,18         ,2,19950325,1731,   1.6187,   0.8205,     4761,   2194.9,   3.2920,  34.9490,2,  34.9510,2,    245.6,2,    242.6,2,    27.10,2,    20.40,2,     1.29,2,    0.005,2,     -999,9,     -999,9,     -999,9,     -999,9,     -999,9,     -999,9,     -999,9,   3.1170
35A3CITHER3_2 ,A13        ,231     ,  1,17         ,16         ,2,19950325,1731,   1.6187,   0.8205,     4761,   2394.1,   3.0910,  34.9400,2,  34.9400,2,    244.0,2,    242.0,2,    30.50,2,    20.80,2,     1.29,2,    0.005,2,    0.002,2,     -999,9,     -999,9,     -999,9,     -999,9,     -999,9,     -999,9,   2.9000
35A3CITHER3_2 ,A13        ,231     ,  1,18         ,15         ,2,19950325,1731,   1.6187,   0.8205,     4761,   2595.7,   2.9100,  34.9280,2,  34.9290,2,    243.9,2,    242.1,2,    33.40,2,    21.10,2,     1.33,2,    0.002,2,    0.003,2,     -999,9,     -999,9,     -999,9,     -999,9,     -999,9,     -999,9,   2.7020
35A3CITHER3_2 ,A13        ,231     ,  1,16         ,17         ,2,19950325,1731,   1.6187,   0.8205,     4761,   2595.8,   2.9100,  34.9280,2,  34.9300,2,    243.9,2,    242.3,2,    34.00,2,    21.00,2,     1.31,2,    0.001,2,     -999,9,     -999,9,     -999,9,     -999,9,     -999,9,     -999,9,     -999,9,   2.7020
35A3CITHER3_2 ,A13        ,231     ,  1,19         ,14         ,2,19950325,1731,   1.6187,   0.8205,     4761,   2794.6,   2.7700,  34.9210,2,  34.9210,2,    242.1,2,    240.3,2,    36.80,2,    21.10,2,     1.32,2,    0.000,2,    0.003,2,     -999,9,     -999,9,     -999,9,     -999,9,     -999,9,     -999,9,   2.5450
35A3CITHER3_2 ,A13        ,231     ,  1,20         ,13         ,2,19950325,1731,   1.6187,   0.8205,     4761,   2995.7,   2.6450,  34.9120,2,  34.9030,3,    239.3,2,    239.1,2,    39.60,2,    21.40,2,     1.34,2,    0.003,2,    0.007,2,     -999,9,     -999,9,     -999,9,     -999,9,     -999,9,     -999,9,   2.4020
35A3CITHER3_2 ,A13        ,231     ,  1,21         ,12         ,2,19950325,1731,   1.6187,   0.8205,     4761,   3195.9,   2.5520,  34.9070,2,  34.9070,2,    241.7,2,    242.6,2,    40.70,2,    21.00,2,     1.31,2,    0.001,2,     -999,9,     -999,9,     -999,9,     -999,9,     -999,9,     -999,9,     -999,9,   2.2910
35A3CITHER3_2 ,A13        ,231     ,  1,22         ,11         ,2,19950325,1731,   1.6187,   0.8205,     4761,   3395.9,   2.5000,  34.9030,2,  34.9030,2,    240.9,2,    241.0,2,    42.50,2,    21.20,2,     1.33,2,    0.001,2,   -0.001,2,     -999,9,     -999,9,     -999,9,     -999,9,     -999,9,     -999,9,   2.2190
35A3CITHER3_2 ,A13        ,231     ,  1,23         ,10         ,2,19950325,1731,   1.6187,   0.8205,     4761,   3597.4,   2.4340,  34.8970,2,  34.8980,2,    238.9,2,    239.9,2,    44.70,2,    22.00,2,     1.38,2,    0.001,2,    0.001,2,     -999,9,     -999,9,     -999,9,     -999,9,     -999,9,     -999,9,   2.1330
35A3CITHER3_2 ,A13        ,231     ,  1,24         ,9          ,2,19950325,1731,   1.6187,   0.8205,     4761,   3797.0,   2.3810,  34.8920,2,  34.8930,2,    238.4,2,    238.6,2,    46.50,2,    21.70,2,     1.37,2,    0.009,2,     -999,9,     -999,9,     -999,9,     -999,9,     -999,9,     -999,9,     -999,9,   2.0590
35A3CITHER3_2 ,A13        ,231     ,  1,25         ,8          ,2,19950325,1731,   1.6187,   0.8205,     4761,   3996.1,   2.3350,  34.8890,2,  34.8870,2,    240.4,2,    240.9,2,    47.10,2,    21.50,2,     1.35,2,    0.007,2,    0.004,2,     -999,9,     -999,9,     -999,9,     -999,9,     -999,9,     -999,9,   1.9920
35A3CITHER3_2 ,A13        ,231     ,  1,26         ,7          ,2,19950325,1731,   1.6187,   0.8205,     4761,   4196.1,   2.3040,  34.8840,2,  34.8840,2,    240.1,2,    240.5,2,    49.20,2,    22.00,2,     1.38,2,    0.002,2,     -999,9,     -999,9,     -999,9,     -999,9,     -999,9,     -999,9,     -999,9,   1.9390
35A3CITHER3_2 ,A13        ,231     ,  1,27         ,6          ,2,19950325,1731,   1.6187,   0.8205,     4761,   4397.0,   2.2610,  34.8770,2,  34.8780,2,    239.3,2,    239.5,2,    51.10,2,    22.50,2,     1.42,2,    0.002,2,    0.003,2,     -999,9,     -999,9,     -999,9,     -999,9,     -999,9,     -999,9,   1.8730
35A3CITHER3_2 ,A13        ,231     ,  1,28         ,5          ,2,19950325,1731,   1.6187,   0.8205,     4761,   4597.6,   2.2210,  34.8710,2,  34.8720,2,    237.1,2,    236.7,2,    53.80,2,    22.70,2,     1.43,2,    0.010,2,    0.009,2,     -999,9,     -999,9,     -999,9,     -999,9,     -999,9,     -999,9,   1.8110
35A3CITHER3_2 ,A13        ,231     ,  1,29         ,4          ,2,19950325,1731,   1.6187,   0.8205,     4761,   4747.5,   2.1840,  34.8650,2,  34.8630,2,    231.7,2,    230.7,2,    58.50,2,    23.60,2,     1.47,2,    0.010,2,     -999,9,     -999,9,     -999,9,     -999,9,     -999,9,     -999,9,     -999,9,   1.7570
35A3CITHER3_2 ,A13        ,231     ,  1,30         ,3          ,2,19950325,1731,   1.6187,   0.8205,     4761,   4814.8,   2.1830,  34.8620,2,  34.8640,2,    224.1,2,    227.5,2,    60.40,2,    23.60,2,     1.47,2,     -999,9,     -999,9,     -999,9,     -999,9,     -999,9,     -999,9,     -999,9,     -999,9,   1.7470