BOTTLE,20211216CCHDHYDRO
EXPOCODE,SECT_ID,STNNBR,CASTNO,SAMPNO,BTLNBR,BTLNBR_FLAG_W,DATE,TIME,LATITUDE,LONGITUDE,DEPTH,CTDPRS,CTDTMP,CTDSAL,CTDSAL_FLAG_W,SALNTY,SALNTY_FLAG_W,CTDOXY,CTDOXY_FLAG_W,OXYGEN,OXYGEN_FLAG_W,SILCAT,SILCAT_FLAG_W,NITRAT,NITRAT_FLAG_W,PHSPHT,PHSPHT_FLAG_W,CFC-11,CFC-11_FLAG_W,CFC-12,CFC-12_FLAG_W,TCARBN,TCARBN_FLAG_W,ALKALI,ALKALI_FLAG_W,TRITUM,TRITUM_FLAG_W,HELIUM,HELIUM_FLAG_W,DELHE3,DELHE3_FLAG_W,NEON,NEON_FLAG_W,THETA
,,,,,,,,,,,METERS,DBAR,DEG C,PSS-78,,PSS-78,,UMOL/KG,,UMOL/KG,,UMOL/KG,,UMOL/KG,,UMOL/KG,,PMOL/KG,,PMOL/KG,,UMOL/KG,,UMOL/KG,,TU,,NMOL/KG,,PERCNT,,NMOL/KG,,DEG C
35A3CITHER3_2 ,A13        ,158     ,  1,1          ,32         ,2,19950306,1117, -26.0832,   9.1280,     4762,      5.2,  22.5500,  35.6820,2,  35.6830,2,    214.0,2,    218.6,3,     5.50,3,     0.00,2,     0.14,2,    2.073,2,    1.051,2,     -999,9,     -999,9,     -999,9,     -999,9,     -999,9,     -999,9,  22.5490
35A3CITHER3_2 ,A13        ,158     ,  1,2          ,31         ,2,19950306,1117, -26.0832,   9.1280,     4762,     47.1,  22.1280,  35.7510,2,  35.7450,3,    219.2,2,    221.9,2,     6.30,3,     0.00,2,     0.13,2,    2.146,2,    1.075,2,     -999,9,     -999,9,     -999,9,     -999,9,     -999,9,     -999,9,  22.1190
35A3CITHER3_2 ,A13        ,158     ,  1,3          ,30         ,2,19950306,1117, -26.0832,   9.1280,     4762,    120.1,  15.6000,  35.4780,2,  35.4760,2,    226.5,2,    226.3,2,     6.60,3,     2.50,2,     0.28,2,    2.682,2,    1.314,2,     -999,9,     -999,9,     -999,9,     -999,9,     -999,9,     -999,9,  15.5810
35A3CITHER3_2 ,A13        ,158     ,  1,4          ,29         ,2,19950306,1117, -26.0832,   9.1280,     4762,    197.3,  13.9710,  35.2310,2,  35.2320,2,    215.9,2,    213.4,2,     7.20,3,     7.60,2,     0.60,2,    2.699,2,    1.283,2,     -999,9,     -999,9,     -999,9,     -999,9,     -999,9,     -999,9,  13.9420
35A3CITHER3_2 ,A13        ,158     ,  1,5          ,28         ,2,19950306,1117, -26.0832,   9.1280,     4762,    295.3,  11.7100,  35.0000,2,  35.0060,3,    206.0,2,    207.7,2,     8.50,3,    12.90,2,     0.94,2,    2.436,2,    1.163,2,     -999,9,     -999,9,     -999,9,     -999,9,     -999,9,     -999,9,  11.6720
35A3CITHER3_2 ,A13        ,158     ,  1,6          ,27         ,2,19950306,1117, -26.0832,   9.1280,     4762,    426.8,   9.2370,  34.7370,2,  34.7430,3,    150.0,2,    135.8,3,    14.90,3,    25.80,2,     1.69,2,    1.593,2,    0.741,2,     -999,9,     -999,9,     -999,9,     -999,9,     -999,9,     -999,9,   9.1890
35A3CITHER3_2 ,A13        ,158     ,  1,7          ,26         ,2,19950306,1117, -26.0832,   9.1280,     4762,    596.5,   6.1080,  34.4550,2,  34.4680,3,    158.8,2,    160.9,2,    22.60,3,    30.50,2,     2.01,2,     -999,9,     -999,9,     -999,9,     -999,9,     -999,9,     -999,9,     -999,9,     -999,9,   6.0550
35A3CITHER3_2 ,A13        ,158     ,  1,8          ,25         ,2,19950306,1117, -26.0832,   9.1280,     4762,    692.2,   5.2490,  34.4330,2,  34.4330,2,    145.9,2,    153.7,3,    27.40,3,    33.00,2,     2.16,2,    0.571,2,    0.259,2,     -999,9,     -999,9,     -999,9,     -999,9,     -999,9,     -999,9,   5.1920
35A3CITHER3_2 ,A13        ,158     ,  1,9          ,24         ,2,19950306,1117, -26.0832,   9.1280,     4762,    847.1,   3.9730,  34.4010,2,  34.4010,2,    182.0,2,    181.6,2,    36.40,2,    32.70,2,     2.17,2,    0.490,2,    0.225,2,     -999,9,     -999,9,     -999,9,     -999,9,     -999,9,     -999,9,   3.9100
35A3CITHER3_2 ,A13        ,158     ,  1,10         ,23         ,2,19950306,1117, -26.0832,   9.1280,     4762,    997.4,   3.5500,  34.4770,2,  34.4720,2,    174.7,2,    174.1,2,    44.30,2,    32.60,2,     2.23,2,    0.174,2,    0.082,2,     -999,9,     -999,9,     -999,9,     -999,9,     -999,9,     -999,9,   3.4780
35A3CITHER3_2 ,A13        ,158     ,  1,11         ,22         ,2,19950306,1117, -26.0832,   9.1280,     4762,   1197.1,   3.3970,  34.6240,2,  34.6190,2,    178.6,2,    181.0,2,    45.30,2,    30.90,2,     2.07,2,    0.055,2,    0.035,2,     -999,9,     -999,9,     -999,9,     -999,9,     -999,9,     -999,9,   3.3100
35A3CITHER3_2 ,A13        ,158     ,  1,12         ,21         ,2,19950306,1117, -26.0832,   9.1280,     4762,   1393.9,   3.3210,  34.7310,2,  34.7330,2,    188.5,2,    190.8,2,    42.70,2,    28.50,2,     1.87,2,    0.006,2,    0.008,2,     -999,9,     -999,9,     -999,9,     -999,9,     -999,9,     -999,9,   3.2180
35A3CITHER3_2 ,A13        ,158     ,  1,13         ,20         ,2,19950306,1117, -26.0832,   9.1280,     4762,   1594.4,   3.4050,  34.8230,2,  34.8280,2,    205.9,2,    206.2,2,    34.70,2,    24.60,2,     1.71,2,    0.003,2,   -0.001,2,     -999,9,     -999,9,     -999,9,     -999,9,     -999,9,     -999,9,   3.2840
35A3CITHER3_2 ,A13        ,158     ,  1,14         ,19         ,2,19950306,1117, -26.0832,   9.1280,     4762,   1796.5,   3.2760,  34.8580,2,  34.8590,2,    217.7,2,    216.0,2,    34.60,2,    24.60,2,     1.62,2,    0.004,2,     -999,9,     -999,9,     -999,9,     -999,9,     -999,9,     -999,9,     -999,9,   3.1380
35A3CITHER3_2 ,A13        ,158     ,  1,15         ,18         ,2,19950306,1117, -26.0832,   9.1280,     4762,   1996.5,   3.2080,  34.8840,2,  34.8860,2,    223.7,2,    224.7,2,    33.10,2,    23.50,2,     1.54,2,    0.001,2,    0.003,2,     -999,9,     -999,9,     -999,9,     -999,9,     -999,9,     -999,9,   3.0530
35A3CITHER3_2 ,A13        ,158     ,  1,16         ,17         ,2,19950306,1117, -26.0832,   9.1280,     4762,   1997.8,   3.2060,  34.8840,2,  34.8860,2,    223.9,2,    224.7,2,    33.80,2,    23.90,2,     1.54,2,    0.005,2,    0.003,2,     -999,9,     -999,9,     -999,9,     -999,9,     -999,9,     -999,9,   3.0510
35A3CITHER3_2 ,A13        ,158     ,  1,17         ,16         ,2,19950306,1117, -26.0832,   9.1280,     4762,   2194.3,   3.0330,  34.8920,2,  34.8930,2,    230.1,2,    230.1,2,    35.40,2,    22.90,2,     1.48,2,    0.003,2,    0.007,2,     -999,9,     -999,9,     -999,9,     -999,9,     -999,9,     -999,9,   2.8620
35A3CITHER3_2 ,A13        ,158     ,  1,19         ,14         ,2,19950306,1117, -26.0832,   9.1280,     4762,   2397.4,   2.8480,  34.8880,2,  34.8900,2,    233.1,2,    232.1,2,    39.00,2,    23.00,2,     1.49,2,    0.000,2,    0.001,2,     -999,9,     -999,9,     -999,9,     -999,9,     -999,9,     -999,9,   2.6610
35A3CITHER3_2 ,A13        ,158     ,  1,18         ,15         ,2,19950306,1117, -26.0832,   9.1280,     4762,   2398.2,   2.8470,  34.8870,2,  34.8880,2,    233.0,2,    232.2,2,    39.00,2,    22.20,2,     1.49,2,    0.002,2,    0.002,2,     -999,9,     -999,9,     -999,9,     -999,9,     -999,9,     -999,9,   2.6600
35A3CITHER3_2 ,A13        ,158     ,  1,20         ,13         ,2,19950306,1117, -26.0832,   9.1280,     4762,   2595.5,   2.7110,  34.8800,2,  34.8800,2,    231.3,2,    232.9,2,    42.40,2,    23.00,2,     1.54,2,    0.002,2,     -999,9,     -999,9,     -999,9,     -999,9,     -999,9,     -999,9,     -999,9,   2.5070
35A3CITHER3_2 ,A13        ,158     ,  1,21         ,12         ,2,19950306,1117, -26.0832,   9.1280,     4762,   2796.9,   2.5730,  34.8730,2,  34.8750,2,    232.6,2,    232.7,2,    46.60,2,    23.70,2,     1.59,2,    0.000,2,   -0.003,2,     -999,9,     -999,9,     -999,9,     -999,9,     -999,9,     -999,9,   2.3520
35A3CITHER3_2 ,A13        ,158     ,  1,22         ,11         ,2,19950306,1117, -26.0832,   9.1280,     4762,   2993.7,   2.4620,  34.8680,2,  34.8700,2,    232.0,2,    232.2,2,    49.90,2,    23.80,2,     1.59,2,    0.005,2,    0.001,2,     -999,9,     -999,9,     -999,9,     -999,9,     -999,9,     -999,9,   2.2240
35A3CITHER3_2 ,A13        ,158     ,  1,23         ,10         ,2,19950306,1117, -26.0832,   9.1280,     4762,   3193.8,   2.3760,  34.8640,2,  34.8670,2,    231.4,2,    232.0,2,    52.60,2,    23.40,2,     1.55,2,    0.002,2,    0.006,2,     -999,9,     -999,9,     -999,9,     -999,9,     -999,9,     -999,9,   2.1190
35A3CITHER3_2 ,A13        ,158     ,  1,24         ,9          ,2,19950306,1117, -26.0832,   9.1280,     4762,   3396.9,   2.3080,  34.8620,2,  34.8640,2,    232.0,2,    231.3,2,    54.90,2,    22.90,2,     1.60,2,    0.002,2,    0.007,2,     -999,9,     -999,9,     -999,9,     -999,9,     -999,9,     -999,9,   2.0320
35A3CITHER3_2 ,A13        ,158     ,  1,25         ,8          ,2,19950306,1117, -26.0832,   9.1280,     4762,   3596.0,   2.2120,  34.8530,2,  34.8550,2,    229.8,2,    230.2,2,    59.30,2,    24.20,2,     1.64,2,    0.000,2,   -0.001,2,     -999,9,     -999,9,     -999,9,     -999,9,     -999,9,     -999,9,   1.9170
35A3CITHER3_2 ,A13        ,158     ,  1,26         ,7          ,2,19950306,1117, -26.0832,   9.1280,     4762,   3796.5,   2.0400,  34.8350,2,  34.8350,2,    227.4,2,    227.5,2,    67.00,2,    22.80,2,     1.68,2,    0.000,2,     -999,9,     -999,9,     -999,9,     -999,9,     -999,9,     -999,9,     -999,9,   1.7280
35A3CITHER3_2 ,A13        ,158     ,  1,27         ,6          ,2,19950306,1117, -26.0832,   9.1280,     4762,   3997.6,   1.6940,  34.7980,2,  34.8010,2,    222.7,2,    222.6,2,    82.10,2,    23.40,2,     1.78,2,    0.002,2,     -999,9,     -999,9,     -999,9,     -999,9,     -999,9,     -999,9,     -999,9,   1.3690
35A3CITHER3_2 ,A13        ,158     ,  1,28         ,5          ,2,19950306,1117, -26.0832,   9.1280,     4762,   4192.9,   1.3790,  34.7670,2,  34.7670,2,    219.3,2,    219.2,2,    95.00,2,    24.00,2,     1.89,2,    0.004,2,     -999,9,     -999,9,     -999,9,     -999,9,     -999,9,     -999,9,     -999,9,   1.0420
35A3CITHER3_2 ,A13        ,158     ,  1,29         ,4          ,2,19950306,1117, -26.0832,   9.1280,     4762,   4397.0,   1.1840,  34.7480,2,  34.7490,2,    216.6,2,    217.6,2,   103.00,2,    29.00,2,     1.99,2,    0.005,2,    0.005,2,     -999,9,     -999,9,     -999,9,     -999,9,     -999,9,     -999,9,   0.8300
35A3CITHER3_2 ,A13        ,158     ,  1,30         ,3          ,2,19950306,1117, -26.0832,   9.1280,     4762,   4599.9,   1.1360,  34.7400,2,  34.7410,2,    216.0,2,    217.0,2,   105.60,2,    27.20,2,     1.99,2,    0.008,2,    0.009,2,     -999,9,     -999,9,     -999,9,     -999,9,     -999,9,     -999,9,   0.7610
35A3CITHER3_2 ,A13        ,158     ,  1,31         ,2          ,2,19950306,1117, -26.0832,   9.1280,     4762,   4806.3,   1.1360,  34.7380,2,  34.7390,2,    215.2,2,    216.0,2,   107.00,2,    27.70,2,     2.04,2,    0.011,2,    0.006,2,     -999,9,     -999,9,     -999,9,     -999,9,     -999,9,     -999,9,   0.7370
35A3CITHER3_2 ,A13        ,158     ,  1,32         ,1          ,2,19950306,1117, -26.0832,   9.1280,     4762,   4811.0,   1.1370,  34.7380,2,  34.7410,2,    215.1,2,    216.3,2,   107.30,2,    23.40,2,     2.01,2,    0.020,2,    0.013,2,     -999,9,     -999,9,     -999,9,     -999,9,     -999,9,     -999,9,   0.7370