BOTTLE,20211216CCHDHYDRO
EXPOCODE,SECT_ID,STNNBR,CASTNO,SAMPNO,BTLNBR,BTLNBR_FLAG_W,DATE,TIME,LATITUDE,LONGITUDE,DEPTH,CTDPRS,CTDTMP,CTDSAL,CTDSAL_FLAG_W,SALNTY,SALNTY_FLAG_W,CTDOXY,CTDOXY_FLAG_W,OXYGEN,OXYGEN_FLAG_W,SILCAT,SILCAT_FLAG_W,NITRAT,NITRAT_FLAG_W,PHSPHT,PHSPHT_FLAG_W,CFC-11,CFC-11_FLAG_W,CFC-12,CFC-12_FLAG_W,TCARBN,TCARBN_FLAG_W,ALKALI,ALKALI_FLAG_W,TRITUM,TRITUM_FLAG_W,HELIUM,HELIUM_FLAG_W,DELHE3,DELHE3_FLAG_W,NEON,NEON_FLAG_W,THETA
,,,,,,,,,,,METERS,DBAR,DEG C,PSS-78,,PSS-78,,UMOL/KG,,UMOL/KG,,UMOL/KG,,UMOL/KG,,UMOL/KG,,PMOL/KG,,PMOL/KG,,UMOL/KG,,UMOL/KG,,TU,,NMOL/KG,,PERCNT,,NMOL/KG,,DEG C
35A3CITHER3_2 ,A13        ,144     ,  1,1          ,32         ,2,19950302,2304, -32.5655,   9.9988,     5038,      4.2,  21.5760,  35.7440,2,  35.7480,3,    222.1,2,    223.5,2,     2.60,2,     0.00,2,     0.11,2,    2.162,2,    1.099,2,     -999,9,     -999,9,     -999,9,     -999,9,     -999,9,     -999,9,  21.5750
35A3CITHER3_2 ,A13        ,144     ,  1,2          ,31         ,2,19950302,2304, -32.5655,   9.9988,     5038,     46.4,  21.4610,  35.7420,2,  35.7420,2,    228.3,2,    223.7,3,     3.00,2,     0.00,2,     0.11,2,    2.179,2,    1.114,2,     -999,9,     -999,9,     -999,9,     -999,9,     -999,9,     -999,9,  21.4520
35A3CITHER3_2 ,A13        ,144     ,  1,3          ,30         ,2,19950302,2304, -32.5655,   9.9988,     5038,    120.1,  15.8400,  35.5030,2,  35.5040,2,    222.8,2,    222.9,2,     4.10,2,     3.80,2,     0.36,2,    2.641,2,    1.293,2,     -999,9,     -999,9,     -999,9,     -999,9,     -999,9,     -999,9,  15.8210
35A3CITHER3_2 ,A13        ,144     ,  1,4          ,29         ,2,19950302,2304, -32.5655,   9.9988,     5038,    195.7,  14.9220,  35.3910,2,  35.3900,2,    223.5,2,    224.2,2,     5.70,2,     5.10,2,     0.44,2,    2.684,2,    1.301,2,     -999,9,     -999,9,     -999,9,     -999,9,     -999,9,     -999,9,  14.8920
35A3CITHER3_2 ,A13        ,144     ,  1,5          ,28         ,2,19950302,2304, -32.5655,   9.9988,     5038,    395.3,  11.7830,  35.0040,2,  35.0010,2,    213.7,2,    208.8,3,     7.10,2,    13.00,2,     0.88,2,    2.477,2,    1.147,2,     -999,9,     -999,9,     -999,9,     -999,9,     -999,9,     -999,9,  11.7320
35A3CITHER3_2 ,A13        ,144     ,  1,6          ,27         ,2,19950302,2304, -32.5655,   9.9988,     5038,    594.0,   8.4580,  34.6190,2,  34.6170,2,    210.2,2,     -999,9,    12.00,2,    20.60,2,     1.38,2,    2.125,2,    0.975,2,     -999,9,     -999,9,     -999,9,     -999,9,     -999,9,     -999,9,   8.3950
35A3CITHER3_2 ,A13        ,144     ,  1,7          ,26         ,2,19950302,2304, -32.5655,   9.9988,     5038,    794.5,   5.2360,  34.3600,2,  34.3600,2,    212.6,2,    213.3,2,    21.40,2,    28.00,2,     1.81,2,    1.656,2,    0.736,2,     -999,9,     -999,9,     -999,9,     -999,9,     -999,9,     -999,9,   5.1700
35A3CITHER3_2 ,A13        ,144     ,  1,8          ,25         ,2,19950302,2304, -32.5655,   9.9988,     5038,    895.3,   4.5070,  34.3380,2,  34.3400,2,    213.5,2,    210.2,2,    27.90,2,    29.90,2,     1.99,2,    1.296,2,    0.575,2,     -999,9,     -999,9,     -999,9,     -999,9,     -999,9,     -999,9,   4.4370
35A3CITHER3_2 ,A13        ,144     ,  1,9          ,24         ,2,19950302,2304, -32.5655,   9.9988,     5038,    995.5,   4.0240,  34.3640,2,  34.3600,3,    210.2,2,    200.2,3,    34.70,2,    31.20,2,     2.08,2,    0.901,2,    0.413,2,     -999,9,     -999,9,     -999,9,     -999,9,     -999,9,     -999,9,   3.9490
35A3CITHER3_2 ,A13        ,144     ,  1,10         ,23         ,2,19950302,2304, -32.5655,   9.9988,     5038,   1194.9,   3.3430,  34.4520,2,  34.4520,2,    188.4,2,    184.1,3,    48.60,2,    32.70,2,     2.19,2,    0.343,2,    0.166,2,     -999,9,     -999,9,     -999,9,     -999,9,     -999,9,     -999,9,   3.2570
35A3CITHER3_2 ,A13        ,144     ,  1,11         ,22         ,2,19950302,2304, -32.5655,   9.9988,     5038,   1395.4,   2.9520,  34.5590,2,  34.5610,2,    180.0,2,    180.6,2,    59.20,2,    32.30,2,     2.17,2,    0.135,2,    0.067,2,     -999,9,     -999,9,     -999,9,     -999,9,     -999,9,     -999,9,   2.8530
35A3CITHER3_2 ,A13        ,144     ,  1,12         ,21         ,2,19950302,2304, -32.5655,   9.9988,     5038,   1595.9,   2.8220,  34.6380,2,  34.6370,2,    183.5,2,    182.3,2,    61.00,2,    31.20,2,     2.11,2,    0.065,2,    0.043,2,     -999,9,     -999,9,     -999,9,     -999,9,     -999,9,     -999,9,   2.7080
35A3CITHER3_2 ,A13        ,144     ,  1,14         ,19         ,2,19950302,2304, -32.5655,   9.9988,     5038,   1795.2,   2.7600,  34.7290,2,  34.7300,2,    193.2,2,    193.7,2,    58.60,2,    28.90,2,     1.92,2,    0.021,2,    0.016,2,     -999,9,     -999,9,     -999,9,     -999,9,     -999,9,     -999,9,   2.6300
35A3CITHER3_2 ,A13        ,144     ,  1,13         ,20         ,2,19950302,2304, -32.5655,   9.9988,     5038,   1796.0,   2.7590,  34.7310,2,  34.7300,2,    193.2,2,    193.7,2,    59.10,2,    28.80,2,     1.92,2,    0.020,2,    0.014,2,     -999,9,     -999,9,     -999,9,     -999,9,     -999,9,     -999,9,   2.6290
35A3CITHER3_2 ,A13        ,144     ,  1,15         ,18         ,2,19950302,2304, -32.5655,   9.9988,     5038,   1995.7,   2.7170,  34.7850,2,  34.7860,2,    205.4,2,    205.5,2,    55.10,2,    26.90,2,     1.76,2,    0.015,2,    0.007,2,     -999,9,     -999,9,     -999,9,     -999,9,     -999,9,     -999,9,   2.5700
35A3CITHER3_2 ,A13        ,144     ,  1,16         ,17         ,2,19950302,2304, -32.5655,   9.9988,     5038,   2196.5,   2.6780,  34.8180,2,  34.8190,2,    217.4,2,    215.1,2,    52.10,2,    25.90,2,     1.72,2,    0.007,2,    0.003,2,     -999,9,     -999,9,     -999,9,     -999,9,     -999,9,     -999,9,   2.5130
35A3CITHER3_2 ,A13        ,144     ,  1,18         ,15         ,2,19950302,2304, -32.5655,   9.9988,     5038,   2394.7,   2.6200,  34.8360,2,  34.8350,2,    222.0,2,    221.0,2,    50.60,2,    25.00,2,     1.63,2,    0.004,2,    0.009,2,     -999,9,     -999,9,     -999,9,     -999,9,     -999,9,     -999,9,   2.4370
35A3CITHER3_2 ,A13        ,144     ,  1,17         ,16         ,2,19950302,2304, -32.5655,   9.9988,     5038,   2395.9,   2.6200,  34.8360,2,  34.8360,2,    222.1,2,    221.2,2,    50.30,2,    24.80,2,     1.57,2,    0.008,2,    0.010,2,     -999,9,     -999,9,     -999,9,     -999,9,     -999,9,     -999,9,   2.4370
35A3CITHER3_2 ,A13        ,144     ,  1,19         ,14         ,2,19950302,2304, -32.5655,   9.9988,     5038,   2594.9,   2.5230,  34.8440,2,  34.8460,2,    226.4,2,    225.2,2,    51.50,2,    24.70,2,     1.59,2,    0.002,2,    0.002,2,     -999,9,     -999,9,     -999,9,     -999,9,     -999,9,     -999,9,   2.3230
35A3CITHER3_2 ,A13        ,144     ,  1,20         ,13         ,2,19950302,2304, -32.5655,   9.9988,     5038,   2795.7,   2.4370,  34.8500,2,  34.8500,2,    229.1,2,    228.5,2,    52.10,2,    24.30,2,     1.58,2,    0.004,2,     -999,9,     -999,9,     -999,9,     -999,9,     -999,9,     -999,9,     -999,9,   2.2190
35A3CITHER3_2 ,A13        ,144     ,  1,21         ,12         ,2,19950302,2304, -32.5655,   9.9988,     5038,   2995.4,   2.3510,  34.8510,2,  34.8520,2,    231.3,2,    230.4,2,    53.80,2,    24.10,2,     1.58,2,   -0.000,2,    0.006,2,     -999,9,     -999,9,     -999,9,     -999,9,     -999,9,     -999,9,   2.1150
35A3CITHER3_2 ,A13        ,144     ,  1,22         ,11         ,2,19950302,2304, -32.5655,   9.9988,     5038,   3196.1,   2.2870,  34.8520,2,  34.8520,2,    232.4,2,    231.2,2,    55.80,2,    23.90,2,     1.55,2,    0.005,2,    0.008,2,     -999,9,     -999,9,     -999,9,     -999,9,     -999,9,     -999,9,   2.0320
35A3CITHER3_2 ,A13        ,144     ,  1,23         ,10         ,2,19950302,2304, -32.5655,   9.9988,     5038,   3396.1,   2.2320,  34.8520,2,  34.8540,2,    231.7,2,    230.9,2,    57.30,2,    24.10,2,     1.57,2,    0.001,2,    0.006,2,     -999,9,     -999,9,     -999,9,     -999,9,     -999,9,     -999,9,   1.9580
35A3CITHER3_2 ,A13        ,144     ,  1,24         ,9          ,2,19950302,2304, -32.5655,   9.9988,     5038,   3597.0,   2.1220,  34.8430,2,  34.8440,2,    230.0,2,    228.8,2,    62.60,2,    25.20,2,     1.61,2,    0.004,2,    0.004,2,     -999,9,     -999,9,     -999,9,     -999,9,     -999,9,     -999,9,   1.8290
35A3CITHER3_2 ,A13        ,144     ,  1,25         ,8          ,2,19950302,2304, -32.5655,   9.9988,     5038,   3795.7,   1.8500,  34.8140,2,  34.8140,2,    226.4,2,    225.1,2,    75.10,2,    26.40,2,     1.71,2,    0.001,2,    0.003,2,     -999,9,     -999,9,     -999,9,     -999,9,     -999,9,     -999,9,   1.5430
35A3CITHER3_2 ,A13        ,144     ,  1,26         ,7          ,2,19950302,2304, -32.5655,   9.9988,     5038,   3996.1,   1.5910,  34.7860,2,  34.7860,2,    221.7,2,    221.1,2,    86.60,2,    28.00,2,     1.80,2,    0.003,2,    0.004,2,     -999,9,     -999,9,     -999,9,     -999,9,     -999,9,     -999,9,   1.2690
35A3CITHER3_2 ,A13        ,144     ,  1,27         ,6          ,2,19950302,2304, -32.5655,   9.9988,     5038,   4197.2,   1.3380,  34.7610,2,  34.7630,2,    219.5,2,    218.9,2,    97.00,2,    28.90,2,     1.87,2,    0.006,2,    0.007,2,     -999,9,     -999,9,     -999,9,     -999,9,     -999,9,     -999,9,   1.0020
35A3CITHER3_2 ,A13        ,144     ,  1,28         ,5          ,2,19950302,2304, -32.5655,   9.9988,     5038,   4396.0,   1.1790,  34.7460,2,  34.7470,2,    217.6,2,    217.6,2,   103.60,2,    30.00,2,     1.93,2,    0.005,2,    0.006,2,     -999,9,     -999,9,     -999,9,     -999,9,     -999,9,     -999,9,   0.8250
35A3CITHER3_2 ,A13        ,144     ,  1,29         ,4          ,2,19950302,2304, -32.5655,   9.9988,     5038,   4596.6,   1.1360,  34.7400,2,  34.7410,2,    217.4,2,    217.3,2,   106.30,2,    30.10,2,     1.92,2,    0.008,2,    0.008,2,     -999,9,     -999,9,     -999,9,     -999,9,     -999,9,     -999,9,   0.7610
35A3CITHER3_2 ,A13        ,144     ,  1,30         ,3          ,2,19950302,2304, -32.5655,   9.9988,     5038,   4798.1,   1.1220,  34.7370,2,  34.7390,2,    217.7,2,    217.1,2,   107.40,2,    30.30,2,     1.95,2,    0.016,2,    0.011,2,     -999,9,     -999,9,     -999,9,     -999,9,     -999,9,     -999,9,   0.7240
35A3CITHER3_2 ,A13        ,144     ,  1,31         ,2          ,2,19950302,2304, -32.5655,   9.9988,     5038,   4997.5,   1.1120,  34.7340,2,  34.7350,2,    218.0,2,    217.1,2,   109.40,2,    30.40,2,     1.96,2,    0.014,2,    0.009,2,     -999,9,     -999,9,     -999,9,     -999,9,     -999,9,     -999,9,   0.6910
35A3CITHER3_2 ,A13        ,144     ,  1,32         ,1          ,2,19950302,2304, -32.5655,   9.9988,     5038,   5101.9,   1.1240,  34.7340,2,  34.7360,2,    217.4,2,    217.2,2,   107.70,2,    30.60,2,     1.95,2,    0.015,2,    0.017,2,     -999,9,     -999,9,     -999,9,     -999,9,     -999,9,     -999,9,   0.6900