BOTTLE,20211216CCHDHYDRO
EXPOCODE,SECT_ID,STNNBR,CASTNO,SAMPNO,BTLNBR,BTLNBR_FLAG_W,DATE,TIME,LATITUDE,LONGITUDE,DEPTH,CTDPRS,CTDTMP,CTDSAL,CTDSAL_FLAG_W,SALNTY,SALNTY_FLAG_W,CTDOXY,CTDOXY_FLAG_W,OXYGEN,OXYGEN_FLAG_W,SILCAT,SILCAT_FLAG_W,NITRAT,NITRAT_FLAG_W,PHSPHT,PHSPHT_FLAG_W,CFC-11,CFC-11_FLAG_W,CFC-12,CFC-12_FLAG_W,TCARBN,TCARBN_FLAG_W,ALKALI,ALKALI_FLAG_W,TRITUM,TRITUM_FLAG_W,HELIUM,HELIUM_FLAG_W,DELHE3,DELHE3_FLAG_W,NEON,NEON_FLAG_W,THETA
,,,,,,,,,,,METERS,DBAR,DEG C,PSS-78,,PSS-78,,UMOL/KG,,UMOL/KG,,UMOL/KG,,UMOL/KG,,UMOL/KG,,PMOL/KG,,PMOL/KG,,UMOL/KG,,UMOL/KG,,TU,,NMOL/KG,,PERCNT,,NMOL/KG,,DEG C
35A3CITHER3_2 ,A13        ,226     ,  1,1          ,32         ,2,19950324,1341,   0.2170,   1.7148,     4712,      3.9,  29.7930,  34.1680,2,     -999,9,    196.3,2,    200.9,2,     -999,9,     -999,9,     -999,9,    1.546,2,    0.841,2,     -999,9,     -999,9,     -999,9,     -999,9,     -999,9,     -999,9,  29.7920
35A3CITHER3_2 ,A13        ,226     ,  1,2          ,31         ,2,19950324,1341,   0.2170,   1.7148,     4712,      4.0,  29.7990,  34.1690,2,     -999,9,    196.3,2,    200.9,2,     -999,9,     -999,9,     -999,9,    1.547,2,    0.833,2,   1892.4,2,   2239.2,2,     -999,9,     -999,9,     -999,9,     -999,9,  29.7980
35A3CITHER3_2 ,A13        ,226     ,  1,3          ,30         ,2,19950324,1341,   0.2170,   1.7148,     4712,     46.7,  23.9210,  36.2270,2,     -999,9,    190.9,2,     -999,9,     -999,9,     -999,9,     -999,9,     -999,9,     -999,9,     -999,9,     -999,9,     -999,9,     -999,9,     -999,9,     -999,9,  23.9110
35A3CITHER3_2 ,A13        ,226     ,  1,4          ,29         ,2,19950324,1341,   0.2170,   1.7148,     4712,    120.9,  16.4450,  35.7110,2,     -999,9,    149.8,2,    157.4,3,     -999,9,     -999,9,     -999,9,    1.663,2,    0.807,2,   2133.7,2,   2346.3,2,     -999,9,     -999,9,     -999,9,     -999,9,  16.4250
35A3CITHER3_2 ,A13        ,226     ,  1,5          ,28         ,2,19950324,1341,   0.2170,   1.7148,     4712,    195.7,  13.9160,  35.4090,2,  35.4110,2,    109.2,2,    109.7,2,     9.20,2,    20.00,2,     1.19,2,    1.173,2,    0.567,2,   2175.2,2,   2323.9,2,     -999,9,     -999,9,     -999,9,     -999,9,  13.8880
35A3CITHER3_2 ,A13        ,226     ,  1,6          ,27         ,2,19950324,1341,   0.2170,   1.7148,     4712,    296.0,  10.8230,  35.0550,2,  35.0220,3,     63.3,2,     64.1,2,    14.30,2,    30.90,2,     1.79,2,    0.434,2,    0.210,2,   2222.9,2,     -999,9,     -999,9,     -999,9,     -999,9,     -999,9,  10.7870
35A3CITHER3_2 ,A13        ,226     ,  1,7          ,26         ,2,19950324,1341,   0.2170,   1.7148,     4712,    395.4,   8.6010,  34.7880,2,  34.7900,2,     79.5,2,     81.3,2,    17.80,2,    33.40,2,     2.01,2,    0.247,2,    0.124,2,   2226.2,2,   2295.9,2,     -999,9,     -999,9,     -999,9,     -999,9,   8.5590
35A3CITHER3_2 ,A13        ,226     ,  1,8          ,25         ,2,19950324,1341,   0.2170,   1.7148,     4712,    595.3,   5.9040,  34.5350,2,  34.5350,2,    135.7,2,    137.0,2,    24.70,2,    33.50,2,     2.11,2,    0.150,2,    0.071,2,   2210.5,2,     -999,9,     -999,9,     -999,9,     -999,9,     -999,9,   5.8520
35A3CITHER3_2 ,A13        ,226     ,  1,9          ,24         ,2,19950324,1341,   0.2170,   1.7148,     4712,    795.4,   4.9440,  34.5060,2,  34.5080,2,    140.1,2,    140.3,2,    30.10,2,    34.70,2,     2.21,2,    0.029,2,    0.014,2,   2219.3,2,   2298.1,2,     -999,9,     -999,9,     -999,9,     -999,9,   4.8790
35A3CITHER3_2 ,A13        ,226     ,  1,10         ,23         ,2,19950324,1341,   0.2170,   1.7148,     4712,    995.8,   4.4480,  34.6470,2,  34.6390,3,    157.6,2,    157.6,2,    30.90,2,    32.00,2,     2.07,2,    0.007,2,     -999,9,   2213.7,2,     -999,9,     -999,9,     -999,9,     -999,9,     -999,9,   4.3690
35A3CITHER3_2 ,A13        ,226     ,  1,11         ,22         ,2,19950324,1341,   0.2170,   1.7148,     4712,   1194.9,   4.4360,  34.8180,2,  34.8200,2,    181.0,2,    181.2,2,    26.30,2,    28.70,3,     1.76,2,    0.009,2,    0.005,2,   2198.5,2,   2311.4,2,     -999,9,     -999,9,     -999,9,     -999,9,   4.3390
35A3CITHER3_2 ,A13        ,226     ,  1,12         ,21         ,2,19950324,1341,   0.2170,   1.7148,     4712,   1395.2,   4.3280,  34.9460,2,  34.9470,2,    217.5,2,    218.5,2,    20.30,2,    22.20,2,     1.38,2,    0.044,2,    0.025,2,   2177.5,2,     -999,9,     -999,9,     -999,9,     -999,9,     -999,9,   4.2140
35A3CITHER3_2 ,A13        ,226     ,  1,13         ,20         ,2,19950324,1341,   0.2170,   1.7148,     4712,   1595.3,   4.1710,  34.9570,2,  34.9590,2,    228.6,2,    226.7,2,    19.80,2,    21.40,2,     1.35,2,    0.026,2,    0.022,2,   2172.3,2,     -999,9,     -999,9,     -999,9,     -999,9,     -999,9,   4.0400
35A3CITHER3_2 ,A13        ,226     ,  1,14         ,19         ,2,19950324,1341,   0.2170,   1.7148,     4712,   1795.6,   3.6650,  34.9680,2,  34.9690,2,    244.4,2,    244.4,2,    20.60,2,    19.60,2,     1.23,2,    0.012,2,    0.009,2,   2163.9,2,   2316.8,2,     -999,9,     -999,9,     -999,9,     -999,9,   3.5220
35A3CITHER3_2 ,A13        ,226     ,  1,15         ,18         ,2,19950324,1341,   0.2170,   1.7148,     4712,   1995.8,   3.5200,  34.9630,2,  34.9650,2,    246.9,2,    246.3,2,    22.20,2,    19.50,2,     1.21,2,    0.014,2,     -999,9,   2165.6,2,     -999,9,     -999,9,     -999,9,     -999,9,     -999,9,   3.3600
35A3CITHER3_2 ,A13        ,226     ,  1,16         ,17         ,2,19950324,1341,   0.2170,   1.7148,     4712,   2195.4,   3.2260,  34.9490,2,  34.9500,2,    246.3,2,    245.5,2,    26.50,2,    19.90,2,     1.26,2,    0.007,2,    0.007,2,   2171.7,2,     -999,9,     -999,9,     -999,9,     -999,9,     -999,9,   3.0520
35A3CITHER3_2 ,A13        ,226     ,  1,17         ,16         ,2,19950324,1341,   0.2170,   1.7148,     4712,   2395.8,   3.0270,  34.9350,2,  34.9350,2,    241.1,2,    241.3,2,    31.40,2,    20.70,2,     1.30,2,    0.005,2,    0.004,2,   2177.1,2,     -999,9,     -999,9,     -999,9,     -999,9,     -999,9,   2.8370
35A3CITHER3_2 ,A13        ,226     ,  1,18         ,15         ,2,19950324,1341,   0.2170,   1.7148,     4712,   2595.8,   2.8230,  34.9230,2,  34.9220,2,    239.6,2,    240.5,2,    35.50,2,    21.20,2,     1.33,2,    0.000,2,    0.002,2,   2182.8,2,     -999,9,     -999,9,     -999,9,     -999,9,     -999,9,   2.6170
35A3CITHER3_2 ,A13        ,226     ,  1,19         ,14         ,2,19950324,1341,   0.2170,   1.7148,     4712,   2795.8,   2.7620,  34.9180,2,  34.9200,2,    239.9,2,    240.0,2,    36.90,2,    21.40,2,     1.35,2,    0.002,2,   -0.003,2,   2184.3,2,   2330.2,2,     -999,9,     -999,9,     -999,9,     -999,9,   2.5370
35A3CITHER3_2 ,A13        ,226     ,  1,20         ,13         ,2,19950324,1341,   0.2170,   1.7148,     4712,   2996.3,   2.6130,  34.9110,2,  34.9110,2,    239.0,2,    239.3,2,    39.90,2,    21.60,2,     1.35,2,    0.006,2,    0.001,2,   2187.8,2,     -999,9,     -999,9,     -999,9,     -999,9,     -999,9,   2.3710
35A3CITHER3_2 ,A13        ,226     ,  1,21         ,12         ,2,19950324,1341,   0.2170,   1.7148,     4712,   3195.4,   2.4990,  34.9030,2,  34.9030,2,    240.2,2,    240.8,2,    41.90,2,    21.70,2,     1.37,2,    0.002,2,     -999,9,   2190.5,2,     -999,9,     -999,9,     -999,9,     -999,9,     -999,9,   2.2390
35A3CITHER3_2 ,A13        ,226     ,  1,22         ,11         ,2,19950324,1341,   0.2170,   1.7148,     4712,   3396.3,   2.4320,  34.8990,2,  34.8960,2,    239.7,2,    240.3,2,    44.00,2,    21.60,2,     1.35,2,    0.004,2,     -999,9,   2193.1,2,     -999,9,     -999,9,     -999,9,     -999,9,     -999,9,   2.1520
35A3CITHER3_2 ,A13        ,226     ,  1,23         ,10         ,2,19950324,1341,   0.2170,   1.7148,     4712,   3595.9,   2.3970,  34.8940,2,  34.8950,2,    241.4,2,    240.9,2,    44.70,2,    21.40,2,     1.33,2,    0.002,2,    0.001,2,   2194.0,2,     -999,9,     -999,9,     -999,9,     -999,9,     -999,9,   2.0970
35A3CITHER3_2 ,A13        ,226     ,  1,24         ,9          ,2,19950324,1341,   0.2170,   1.7148,     4712,   3797.0,   2.3520,  34.8900,2,  34.8900,2,    241.8,2,    242.6,2,    45.10,2,    21.40,2,     1.33,2,    0.007,2,    0.003,2,   2193.1,2,   2342.1,2,     -999,9,     -999,9,     -999,9,     -999,9,   2.0310
35A3CITHER3_2 ,A13        ,226     ,  1,25         ,8          ,2,19950324,1341,   0.2170,   1.7148,     4712,   3996.7,   2.3300,  34.8850,2,  34.8860,2,    242.5,2,    242.3,2,    46.40,2,    21.80,2,     1.38,2,    0.001,2,    0.007,2,   2194.8,2,     -999,9,     -999,9,     -999,9,     -999,9,     -999,9,   1.9870
35A3CITHER3_2 ,A13        ,226     ,  1,26         ,7          ,2,19950324,1341,   0.2170,   1.7148,     4712,   4197.1,   2.3050,  34.8830,2,  34.8840,2,    242.0,2,    241.2,2,    48.10,2,    21.70,2,     1.36,2,    0.004,2,    0.000,2,   2196.3,2,     -999,9,     -999,9,     -999,9,     -999,9,     -999,9,   1.9400
35A3CITHER3_2 ,A13        ,226     ,  1,27         ,6          ,2,19950324,1341,   0.2170,   1.7148,     4712,   4396.8,   2.2610,  34.8770,2,  34.8780,2,    240.4,2,    240.0,2,    50.70,2,    22.20,2,     1.40,2,    0.002,2,    0.004,2,   2200.4,2,     -999,9,     -999,9,     -999,9,     -999,9,     -999,9,   1.8730
35A3CITHER3_2 ,A13        ,226     ,  1,28         ,5          ,2,19950324,1341,   0.2170,   1.7148,     4712,   4597.8,   2.2110,  34.8710,2,  34.8720,2,    238.6,2,    237.7,2,    53.80,2,    22.00,2,     1.38,2,    0.004,2,    0.001,2,   2206.1,2,     -999,9,     -999,9,     -999,9,     -999,9,     -999,9,   1.8010
35A3CITHER3_2 ,A13        ,226     ,  1,29         ,4          ,2,19950324,1341,   0.2170,   1.7148,     4712,   4697.1,   2.1960,  34.8680,2,  34.8690,2,    237.4,2,    237.2,2,    54.80,2,    22.80,2,     1.42,2,    0.006,2,    0.007,2,   2209.0,2,     -999,9,     -999,9,     -999,9,     -999,9,     -999,9,   1.7740
35A3CITHER3_2 ,A13        ,226     ,  1,30         ,3          ,2,19950324,1341,   0.2170,   1.7148,     4712,   4758.8,   2.1930,  34.8660,2,  34.8670,2,    235.2,2,    237.3,2,    55.70,2,    22.30,2,     1.41,2,    0.006,2,    0.010,2,   2209.7,2,   2360.3,2,     -999,9,     -999,9,     -999,9,     -999,9,   1.7640
35A3CITHER3_2 ,A13        ,227     ,  1,1          ,32         ,2,19950324,1908,   0.4223,   1.5730,     4726,      5.4,  29.5620,  34.1200,2,  34.1200,2,    194.3,2,    196.4,2,     3.30,2,     0.00,2,     0.05,2,    1.547,2,    0.844,2,     -999,9,     -999,9,     -999,9,     -999,9,     -999,9,     -999,9,  29.5610
35A3CITHER3_2 ,A13        ,227     ,  1,2          ,31         ,2,19950324,1908,   0.4223,   1.5730,     4726,     46.7,  24.2710,  36.1710,2,  36.1900,3,    189.5,2,    193.0,3,     3.30,2,     0.00,2,     0.15,2,    1.698,2,    0.857,2,     -999,9,     -999,9,     -999,9,     -999,9,     -999,9,     -999,9,  24.2610
35A3CITHER3_2 ,A13        ,227     ,  1,3          ,30         ,2,19950324,1908,   0.4223,   1.5730,     4726,    121.1,  16.1080,  35.6490,2,  35.6400,3,    141.9,2,    145.5,3,     6.60,2,    14.10,2,     0.94,2,    1.581,2,    0.752,2,     -999,9,     -999,9,     -999,9,     -999,9,     -999,9,     -999,9,  16.0890
35A3CITHER3_2 ,A13        ,227     ,  1,4          ,29         ,2,19950324,1908,   0.4223,   1.5730,     4726,    196.5,  14.1490,  35.4290,2,  35.4240,2,    111.4,2,    106.1,3,     9.00,2,    20.20,2,     1.25,2,    1.082,2,    0.508,2,     -999,9,     -999,9,     -999,9,     -999,9,     -999,9,     -999,9,  14.1200
35A3CITHER3_2 ,A13        ,227     ,  1,5          ,28         ,2,19950324,1908,   0.4223,   1.5730,     4726,    296.0,  10.6460,  35.0320,2,  35.0200,3,     64.1,2,     64.7,2,    14.10,2,    32.40,2,     1.89,2,    0.426,2,    0.192,2,     -999,9,     -999,9,     -999,9,     -999,9,     -999,9,     -999,9,  10.6100
35A3CITHER3_2 ,A13        ,227     ,  1,6          ,27         ,2,19950324,1908,   0.4223,   1.5730,     4726,    395.8,   8.6580,  34.7950,2,  34.7900,2,     76.6,2,     81.6,3,    17.10,2,    32.70,2,     2.04,2,    0.256,2,    0.119,2,     -999,9,     -999,9,     -999,9,     -999,9,     -999,9,     -999,9,   8.6160
35A3CITHER3_2 ,A13        ,227     ,  1,7          ,26         ,2,19950324,1908,   0.4223,   1.5730,     4726,    595.5,   6.0970,  34.5470,2,  34.5450,2,    132.8,2,    134.7,2,    23.10,2,    32.70,2,     2.15,2,    0.156,2,    0.076,2,     -999,9,     -999,9,     -999,9,     -999,9,     -999,9,     -999,9,   6.0440
35A3CITHER3_2 ,A13        ,227     ,  1,8          ,25         ,2,19950324,1908,   0.4223,   1.5730,     4726,    795.0,   4.8930,  34.5060,2,  34.5040,2,    141.9,2,    142.0,2,    29.60,2,    33.90,2,     2.26,2,    0.022,2,    0.016,2,     -999,9,     -999,9,     -999,9,     -999,9,     -999,9,     -999,9,   4.8290
35A3CITHER3_2 ,A13        ,227     ,  1,9          ,24         ,2,19950324,1908,   0.4223,   1.5730,     4726,    995.4,   4.4480,  34.6430,2,  34.6420,2,    158.1,2,    158.6,2,    30.40,2,    31.60,2,     2.12,2,    0.006,2,    0.006,2,     -999,9,     -999,9,     -999,9,     -999,9,     -999,9,     -999,9,   4.3690
35A3CITHER3_2 ,A13        ,227     ,  1,10         ,23         ,2,19950324,1908,   0.4223,   1.5730,     4726,   1194.7,   4.4390,  34.8150,2,  34.8110,2,    180.5,2,    180.6,2,    25.60,2,    27.20,2,     1.83,2,    0.012,2,    0.007,2,     -999,9,     -999,9,     -999,9,     -999,9,     -999,9,     -999,9,   4.3420
35A3CITHER3_2 ,A13        ,227     ,  1,11         ,22         ,2,19950324,1908,   0.4223,   1.5730,     4726,   1395.0,   4.3220,  34.9390,2,  34.9390,2,    218.4,2,    216.4,2,    20.10,2,    22.30,2,     1.47,2,    0.030,2,    0.019,2,     -999,9,     -999,9,     -999,9,     -999,9,     -999,9,     -999,9,   4.2080
35A3CITHER3_2 ,A13        ,227     ,  1,12         ,21         ,2,19950324,1908,   0.4223,   1.5730,     4726,   1594.4,   4.2030,  34.9580,2,  34.9580,2,    228.3,2,    226.2,2,    19.20,2,    21.00,2,     1.34,2,    0.025,2,    0.016,2,     -999,9,     -999,9,     -999,9,     -999,9,     -999,9,     -999,9,   4.0720
35A3CITHER3_2 ,A13        ,227     ,  1,13         ,20         ,2,19950324,1908,   0.4223,   1.5730,     4726,   1794.9,   3.7080,  34.9690,2,  34.9690,2,    245.4,2,    243.4,2,    20.10,2,    19.40,2,     1.24,2,    0.012,2,    0.011,2,     -999,9,     -999,9,     -999,9,     -999,9,     -999,9,     -999,9,   3.5640
35A3CITHER3_2 ,A13        ,227     ,  1,14         ,19         ,2,19950324,1908,   0.4223,   1.5730,     4726,   1995.9,   3.5260,  34.9630,2,  34.9640,2,    246.8,2,    247.1,2,    21.50,2,    19.30,2,     1.23,2,    0.009,2,    0.007,2,     -999,9,     -999,9,     -999,9,     -999,9,     -999,9,     -999,9,   3.3660
35A3CITHER3_2 ,A13        ,227     ,  1,15         ,18         ,2,19950324,1908,   0.4223,   1.5730,     4726,   2196.1,   3.2050,  34.9470,2,  34.9460,2,    247.3,2,    245.4,2,    26.30,2,    19.90,2,     1.28,2,    0.008,2,    0.015,2,     -999,9,     -999,9,     -999,9,     -999,9,     -999,9,     -999,9,   3.0310
35A3CITHER3_2 ,A13        ,227     ,  1,16         ,17         ,2,19950324,1908,   0.4223,   1.5730,     4726,   2395.8,   3.0270,  34.9340,2,  34.9340,2,    241.3,2,    241.0,2,    30.90,2,    20.70,2,     1.35,2,    0.001,2,    0.000,2,     -999,9,     -999,9,     -999,9,     -999,9,     -999,9,     -999,9,   2.8370
35A3CITHER3_2 ,A13        ,227     ,  1,17         ,16         ,2,19950324,1908,   0.4223,   1.5730,     4726,   2595.8,   2.8300,  34.9230,2,  34.9220,2,    242.4,2,    240.9,2,    34.50,2,    20.70,2,     1.36,2,    0.003,2,    0.006,2,     -999,9,     -999,9,     -999,9,     -999,9,     -999,9,     -999,9,   2.6240
35A3CITHER3_2 ,A13        ,227     ,  1,18         ,15         ,2,19950324,1908,   0.4223,   1.5730,     4726,   2795.8,   2.7460,  34.9190,2,  34.9170,2,    241.6,2,    240.7,2,    36.30,2,    20.90,2,     1.36,2,    0.001,2,     -999,9,     -999,9,     -999,9,     -999,9,     -999,9,     -999,9,     -999,9,   2.5220
35A3CITHER3_2 ,A13        ,227     ,  1,19         ,14         ,2,19950324,1908,   0.4223,   1.5730,     4726,   2995.8,   2.5770,  34.9070,2,  34.9020,2,    240.7,2,    240.2,2,    39.60,2,    21.20,2,     1.38,2,    0.002,2,    0.004,2,     -999,9,     -999,9,     -999,9,     -999,9,     -999,9,     -999,9,   2.3360
35A3CITHER3_2 ,A13        ,227     ,  1,20         ,13         ,2,19950324,1908,   0.4223,   1.5730,     4726,   3194.3,   2.5260,  34.9040,2,  34.9030,2,    241.1,2,    241.1,2,    40.60,2,    21.30,2,     1.37,2,    0.002,2,     -999,9,     -999,9,     -999,9,     -999,9,     -999,9,     -999,9,     -999,9,   2.2660
35A3CITHER3_2 ,A13        ,227     ,  1,21         ,12         ,2,19950324,1908,   0.4223,   1.5730,     4726,   3395.1,   2.4610,  34.9000,2,  34.8970,2,    240.4,2,    240.3,2,    42.60,2,    21.30,2,     1.36,2,    0.002,2,    0.003,2,     -999,9,     -999,9,     -999,9,     -999,9,     -999,9,     -999,9,   2.1810
35A3CITHER3_2 ,A13        ,227     ,  1,22         ,11         ,2,19950324,1908,   0.4223,   1.5730,     4726,   3595.9,   2.4130,  34.8950,2,  34.8840,3,    242.1,2,    241.2,2,    43.50,3,    21.30,2,     1.36,2,    0.005,2,    0.005,2,     -999,9,     -999,9,     -999,9,     -999,9,     -999,9,     -999,9,   2.1120
35A3CITHER3_2 ,A13        ,227     ,  1,23         ,10         ,2,19950324,1908,   0.4223,   1.5730,     4726,   3796.7,   2.3670,  34.8900,2,  34.8870,2,    241.7,2,    241.6,2,    45.20,2,    21.20,2,     1.37,2,    0.003,2,    0.001,2,     -999,9,     -999,9,     -999,9,     -999,9,     -999,9,     -999,9,   2.0450
35A3CITHER3_2 ,A13        ,227     ,  1,24         ,9          ,2,19950324,1908,   0.4223,   1.5730,     4726,   3996.4,   2.3350,  34.8860,2,  34.8820,2,    242.9,2,    242.6,2,    45.80,2,    21.40,2,     1.38,2,    0.002,2,    0.001,2,     -999,9,     -999,9,     -999,9,     -999,9,     -999,9,     -999,9,   1.9920
35A3CITHER3_2 ,A13        ,227     ,  1,25         ,8          ,2,19950324,1908,   0.4223,   1.5730,     4726,   4195.8,   2.3090,  34.8830,2,  34.8760,2,    242.1,2,    241.3,2,    47.80,2,    21.90,2,     1.42,2,    0.002,2,    0.004,2,     -999,9,     -999,9,     -999,9,     -999,9,     -999,9,     -999,9,   1.9440
35A3CITHER3_2 ,A13        ,227     ,  1,26         ,7          ,2,19950324,1908,   0.4223,   1.5730,     4726,   4196.1,   2.3090,  34.8830,2,  34.8800,2,    242.1,2,    241.7,2,    47.80,2,    21.90,2,     1.42,2,    0.003,2,    0.004,2,     -999,9,     -999,9,     -999,9,     -999,9,     -999,9,     -999,9,   1.9440
35A3CITHER3_2 ,A13        ,227     ,  1,27         ,6          ,2,19950324,1908,   0.4223,   1.5730,     4726,   4395.6,   2.2650,  34.8780,2,  34.8800,2,    240.6,2,    240.1,2,    50.40,2,    22.30,2,     1.43,2,    0.002,2,    0.000,2,     -999,9,     -999,9,     -999,9,     -999,9,     -999,9,     -999,9,   1.8780
35A3CITHER3_2 ,A13        ,227     ,  1,28         ,5          ,2,19950324,1908,   0.4223,   1.5730,     4726,   4597.1,   2.2220,  34.8720,2,  34.8710,2,    238.7,2,    238.5,2,    53.00,2,    22.30,2,     1.45,2,    0.002,2,    0.005,2,     -999,9,     -999,9,     -999,9,     -999,9,     -999,9,     -999,9,   1.8120
35A3CITHER3_2 ,A13        ,227     ,  1,29         ,4          ,2,19950324,1908,   0.4223,   1.5730,     4726,   4698.5,   2.1950,  34.8670,2,  34.8660,2,    238.4,2,    238.3,2,    54.50,2,    22.30,2,     1.45,2,    0.004,2,    0.004,2,     -999,9,     -999,9,     -999,9,     -999,9,     -999,9,     -999,9,   1.7730
35A3CITHER3_2 ,A13        ,227     ,  1,30         ,3          ,2,19950324,1908,   0.4223,   1.5730,     4726,   4778.1,   2.1910,  34.8660,2,  34.8630,2,    234.9,2,    236.0,2,    56.20,2,    22.10,2,     1.41,3,    0.004,2,    0.005,2,     -999,9,     -999,9,     -999,9,     -999,9,     -999,9,     -999,9,   1.7600