BOTTLE,20211216CCHDHYDRO
EXPOCODE,SECT_ID,STNNBR,CASTNO,SAMPNO,BTLNBR,BTLNBR_FLAG_W,DATE,TIME,LATITUDE,LONGITUDE,DEPTH,CTDPRS,CTDTMP,CTDSAL,CTDSAL_FLAG_W,SALNTY,SALNTY_FLAG_W,CTDOXY,CTDOXY_FLAG_W,OXYGEN,OXYGEN_FLAG_W,SILCAT,SILCAT_FLAG_W,NITRAT,NITRAT_FLAG_W,PHSPHT,PHSPHT_FLAG_W,CFC-11,CFC-11_FLAG_W,CFC-12,CFC-12_FLAG_W,TCARBN,TCARBN_FLAG_W,ALKALI,ALKALI_FLAG_W,TRITUM,TRITUM_FLAG_W,HELIUM,HELIUM_FLAG_W,DELHE3,DELHE3_FLAG_W,NEON,NEON_FLAG_W,THETA
,,,,,,,,,,,METERS,DBAR,DEG C,PSS-78,,PSS-78,,UMOL/KG,,UMOL/KG,,UMOL/KG,,UMOL/KG,,UMOL/KG,,PMOL/KG,,PMOL/KG,,UMOL/KG,,UMOL/KG,,TU,,NMOL/KG,,PERCNT,,NMOL/KG,,DEG C
35A3CITHER3_2 ,A13        ,128     ,  1,1          ,32         ,2,19950226,1942, -39.6053,  10.5870,     4805,      3.8,  16.0640,  34.9310,2,  34.9300,2,    256.0,2,    254.1,2,     1.80,2,     0.40,2,     0.21,2,    2.917,2,    1.449,2,     -999,9,     -999,9,     -999,9,     -999,9,     -999,9,     -999,9,  16.0630
35A3CITHER3_2 ,A13        ,128     ,  1,2          ,31         ,2,19950226,1942, -39.6053,  10.5870,     4805,     46.4,  14.7540,  35.0110,2,  35.0090,2,    255.9,2,    243.9,3,     2.00,2,     2.40,2,     0.33,2,    3.057,2,    1.491,2,     -999,9,     -999,9,     -999,9,     -999,9,     -999,9,     -999,9,  14.7470
35A3CITHER3_2 ,A13        ,128     ,  1,3          ,30         ,2,19950226,1942, -39.6053,  10.5870,     4805,    120.9,  12.0350,  35.0850,2,  35.0840,2,    245.5,2,    249.4,3,     3.80,2,     8.50,2,     0.60,2,    3.323,2,    1.607,2,     -999,9,     -999,9,     -999,9,     -999,9,     -999,9,     -999,9,  12.0190
35A3CITHER3_2 ,A13        ,128     ,  1,4          ,29         ,2,19950226,1942, -39.6053,  10.5870,     4805,    196.2,  11.7320,  35.1000,2,  35.1000,2,    254.4,2,    251.9,2,     4.70,2,     9.50,2,     0.68,2,    3.277,2,    1.574,2,     -999,9,     -999,9,     -999,9,     -999,9,     -999,9,     -999,9,  11.7070
35A3CITHER3_2 ,A13        ,128     ,  1,5          ,28         ,2,19950226,1942, -39.6053,  10.5870,     4805,    397.0,  11.4950,  35.0510,2,  35.0490,2,    260.7,2,    255.7,3,     4.60,2,     9.80,2,     0.67,2,    3.282,2,    1.575,2,     -999,9,     -999,9,     -999,9,     -999,9,     -999,9,     -999,9,  11.4440
35A3CITHER3_2 ,A13        ,128     ,  1,6          ,27         ,2,19950226,1942, -39.6053,  10.5870,     4805,    595.1,   9.7290,  34.7330,2,  34.7320,2,    243.3,2,    236.3,3,     6.30,2,    15.20,2,     1.03,2,    2.971,2,    1.393,2,     -999,9,     -999,9,     -999,9,     -999,9,     -999,9,     -999,9,   9.6600
35A3CITHER3_2 ,A13        ,128     ,  1,7          ,26         ,2,19950226,1942, -39.6053,  10.5870,     4805,    595.5,   9.7290,  34.7330,2,  34.7250,3,    242.8,2,    235.9,3,     6.20,2,    15.40,2,     1.03,2,    2.951,2,    1.389,2,     -999,9,     -999,9,     -999,9,     -999,9,     -999,9,     -999,9,   9.6600
35A3CITHER3_2 ,A13        ,128     ,  1,8          ,25         ,2,19950226,1942, -39.6053,  10.5870,     4805,    695.0,   7.9500,  34.5460,2,  34.5410,3,    223.5,2,    221.3,2,    10.40,2,    21.10,2,     1.38,2,    2.661,2,    1.211,2,     -999,9,     -999,9,     -999,9,     -999,9,     -999,9,     -999,9,   7.8780
35A3CITHER3_2 ,A13        ,128     ,  1,9          ,24         ,2,19950226,1942, -39.6053,  10.5870,     4805,    794.9,   6.1360,  34.3800,2,  34.3730,3,    226.1,2,    225.6,2,    14.70,2,    25.80,2,     1.67,2,    2.598,2,    1.167,2,     -999,9,     -999,9,     -999,9,     -999,9,     -999,9,     -999,9,   6.0640
35A3CITHER3_2 ,A13        ,128     ,  1,10         ,23         ,2,19950226,1942, -39.6053,  10.5870,     4805,    896.5,   4.6980,  34.2730,2,  34.2720,2,    237.4,2,    239.1,2,    18.50,2,    27.50,2,     1.82,2,    2.688,2,    1.179,2,     -999,9,     -999,9,     -999,9,     -999,9,     -999,9,     -999,9,   4.6260
35A3CITHER3_2 ,A13        ,128     ,  1,11         ,22         ,2,19950226,1942, -39.6053,  10.5870,     4805,    996.0,   4.0140,  34.2640,2,  34.2650,2,    236.8,2,    236.7,2,    24.30,2,    29.00,2,     1.92,2,    2.322,2,    1.014,2,     -999,9,     -999,9,     -999,9,     -999,9,     -999,9,     -999,9,   3.9390
35A3CITHER3_2 ,A13        ,128     ,  1,12         ,21         ,2,19950226,1942, -39.6053,  10.5870,     4805,   1195.7,   3.1360,  34.3110,2,  34.3110,2,    219.9,2,    218.1,2,    37.80,2,    31.70,2,     2.11,2,    1.520,2,    0.675,2,     -999,9,     -999,9,     -999,9,     -999,9,     -999,9,     -999,9,   3.0520
35A3CITHER3_2 ,A13        ,128     ,  1,13         ,20         ,2,19950226,1942, -39.6053,  10.5870,     4805,   1393.8,   2.9030,  34.4470,2,  34.4490,2,    187.6,2,    188.9,2,    55.80,2,    33.20,2,     2.21,2,    0.567,2,    0.261,2,     -999,9,     -999,9,     -999,9,     -999,9,     -999,9,     -999,9,   2.8050
35A3CITHER3_2 ,A13        ,128     ,  1,14         ,19         ,2,19950226,1942, -39.6053,  10.5870,     4805,   1597.1,   2.8100,  34.5810,2,  34.5810,2,    177.8,2,    178.4,2,    65.20,2,    32.80,2,     2.18,2,    0.170,2,    0.080,2,     -999,9,     -999,9,     -999,9,     -999,9,     -999,9,     -999,9,   2.6960
35A3CITHER3_2 ,A13        ,128     ,  1,15         ,18         ,2,19950226,1942, -39.6053,  10.5870,     4805,   1797.1,   2.7690,  34.6730,2,  34.6720,2,    184.3,2,    184.3,2,    65.80,2,    31.10,2,     2.03,2,     -999,9,     -999,9,     -999,9,     -999,9,     -999,9,     -999,9,     -999,9,     -999,9,   2.6390
35A3CITHER3_2 ,A13        ,128     ,  1,16         ,17         ,2,19950226,1942, -39.6053,  10.5870,     4805,   1995.1,   2.7230,  34.7560,2,  34.7570,2,    194.8,2,    196.7,2,    61.30,2,    28.50,2,     1.89,2,    0.024,2,    0.014,2,     -999,9,     -999,9,     -999,9,     -999,9,     -999,9,     -999,9,   2.5760
35A3CITHER3_2 ,A13        ,128     ,  1,17         ,16         ,2,19950226,1942, -39.6053,  10.5870,     4805,   2196.4,   2.6370,  34.8030,2,  34.8010,2,    206.3,2,    208.8,2,    57.40,2,    27.30,2,     1.78,2,    0.029,2,    0.024,3,     -999,9,     -999,9,     -999,9,     -999,9,     -999,9,     -999,9,   2.4730
35A3CITHER3_2 ,A13        ,128     ,  1,18         ,15         ,2,19950226,1942, -39.6053,  10.5870,     4805,   2397.5,   2.5570,  34.8260,2,  34.8250,2,    216.4,2,    216.2,2,    56.30,2,    26.30,2,     1.69,2,    0.020,2,     -999,9,     -999,9,     -999,9,     -999,9,     -999,9,     -999,9,     -999,9,   2.3750
35A3CITHER3_2 ,A13        ,128     ,  1,19         ,14         ,2,19950226,1942, -39.6053,  10.5870,     4805,   2596.9,   2.4640,  34.8330,2,  34.8310,2,    221.2,2,    221.0,2,    57.60,2,    25.90,2,     1.64,2,    0.021,2,     -999,9,     -999,9,     -999,9,     -999,9,     -999,9,     -999,9,     -999,9,   2.2650
35A3CITHER3_2 ,A13        ,128     ,  1,20         ,13         ,2,19950226,1942, -39.6053,  10.5870,     4805,   2795.6,   2.3950,  34.8400,2,  34.8390,2,    225.0,2,    223.1,2,    57.90,2,    25.30,2,     1.64,2,     -999,9,     -999,9,     -999,9,     -999,9,     -999,9,     -999,9,     -999,9,     -999,9,   2.1780
35A3CITHER3_2 ,A13        ,128     ,  1,21         ,12         ,2,19950226,1942, -39.6053,  10.5870,     4805,   3011.9,   2.2900,  34.8420,2,  34.8410,2,    226.6,2,    226.2,2,    60.80,2,    25.30,2,     1.67,2,    0.001,2,    0.004,2,     -999,9,     -999,9,     -999,9,     -999,9,     -999,9,     -999,9,   2.0540
35A3CITHER3_2 ,A13        ,128     ,  1,22         ,11         ,2,19950226,1942, -39.6053,  10.5870,     4805,   3195.6,   2.2090,  34.8410,2,  34.8410,2,    227.0,2,    227.5,2,    62.50,2,    25.50,2,     1.67,2,    0.003,2,    0.008,2,     -999,9,     -999,9,     -999,9,     -999,9,     -999,9,     -999,9,   1.9560
35A3CITHER3_2 ,A13        ,128     ,  1,23         ,10         ,2,19950226,1942, -39.6053,  10.5870,     4805,   3394.9,   2.0130,  34.8230,2,  34.8230,2,    224.8,2,    224.5,2,    71.10,2,    26.30,2,     1.73,2,    0.003,2,    0.009,2,     -999,9,     -999,9,     -999,9,     -999,9,     -999,9,     -999,9,   1.7440
35A3CITHER3_2 ,A13        ,128     ,  1,24         ,9          ,2,19950226,1942, -39.6053,  10.5870,     4805,   3596.9,   1.7670,  34.8010,2,  34.8010,2,    222.0,2,    222.1,2,    79.90,2,    27.30,2,     1.80,2,    0.012,2,    0.001,2,     -999,9,     -999,9,     -999,9,     -999,9,     -999,9,     -999,9,   1.4830
35A3CITHER3_2 ,A13        ,128     ,  1,25         ,8          ,2,19950226,1942, -39.6053,  10.5870,     4805,   3796.2,   1.4620,  34.7740,2,  34.7720,2,    219.4,2,    220.0,2,    90.90,2,    28.90,2,     1.85,2,    0.002,2,   -0.001,2,     -999,9,     -999,9,     -999,9,     -999,9,     -999,9,     -999,9,   1.1650
35A3CITHER3_2 ,A13        ,128     ,  1,26         ,7          ,2,19950226,1942, -39.6053,  10.5870,     4805,   3996.3,   1.2500,  34.7550,2,  34.7540,2,    218.0,2,    218.9,2,    99.10,2,    29.80,2,     1.93,2,    0.013,2,    0.016,2,     -999,9,     -999,9,     -999,9,     -999,9,     -999,9,     -999,9,   0.9380
35A3CITHER3_2 ,A13        ,128     ,  1,27         ,6          ,2,19950226,1942, -39.6053,  10.5870,     4805,   4196.9,   1.1040,  34.7400,2,  34.7390,2,    217.2,2,    218.7,2,   104.70,2,    30.50,2,     1.99,2,    0.016,2,    0.016,2,     -999,9,     -999,9,     -999,9,     -999,9,     -999,9,     -999,9,   0.7750
35A3CITHER3_2 ,A13        ,128     ,  1,28         ,5          ,2,19950226,1942, -39.6053,  10.5870,     4805,   4396.7,   1.0310,  34.7330,2,  34.7330,2,    216.8,2,    218.3,2,   107.80,2,    30.60,2,     2.00,2,    0.016,2,    0.011,2,     -999,9,     -999,9,     -999,9,     -999,9,     -999,9,     -999,9,   0.6820
35A3CITHER3_2 ,A13        ,128     ,  1,29         ,4          ,2,19950226,1942, -39.6053,  10.5870,     4805,   4594.8,   1.0320,  34.7320,2,  34.7300,2,    217.2,2,    218.8,2,   107.90,2,    30.80,2,     1.99,2,    0.022,2,    0.013,2,     -999,9,     -999,9,     -999,9,     -999,9,     -999,9,     -999,9,   0.6610
35A3CITHER3_2 ,A13        ,128     ,  1,30         ,3          ,2,19950226,1942, -39.6053,  10.5870,     4805,   4595.7,   1.0320,  34.7300,2,  34.7310,2,    217.2,2,    217.6,2,   108.70,2,    30.60,2,     1.98,2,     -999,9,     -999,9,     -999,9,     -999,9,     -999,9,     -999,9,     -999,9,     -999,9,   0.6600
35A3CITHER3_2 ,A13        ,128     ,  1,31         ,2          ,2,19950226,1942, -39.6053,  10.5870,     4805,   4797.0,   0.9660,  34.7230,2,  34.7230,2,    217.8,2,    218.3,2,   111.00,2,    31.00,2,     2.04,2,     -999,9,     -999,9,     -999,9,     -999,9,     -999,9,     -999,9,     -999,9,     -999,9,   0.5730
35A3CITHER3_2 ,A13        ,128     ,  1,32         ,1          ,2,19950226,1942, -39.6053,  10.5870,     4805,   4865.5,   0.9320,  34.7200,2,  34.7210,2,    218.0,2,    219.0,2,   112.60,2,    31.10,2,     2.04,2,    0.040,2,    0.023,2,     -999,9,     -999,9,     -999,9,     -999,9,     -999,9,     -999,9,   0.5330