BOTTLE,20211216CCHDHYDRO
EXPOCODE,SECT_ID,STNNBR,CASTNO,SAMPNO,BTLNBR,BTLNBR_FLAG_W,DATE,TIME,LATITUDE,LONGITUDE,DEPTH,CTDPRS,CTDTMP,CTDSAL,CTDSAL_FLAG_W,SALNTY,SALNTY_FLAG_W,CTDOXY,CTDOXY_FLAG_W,OXYGEN,OXYGEN_FLAG_W,SILCAT,SILCAT_FLAG_W,NITRAT,NITRAT_FLAG_W,PHSPHT,PHSPHT_FLAG_W,CFC-11,CFC-11_FLAG_W,CFC-12,CFC-12_FLAG_W,TCARBN,TCARBN_FLAG_W,ALKALI,ALKALI_FLAG_W,TRITUM,TRITUM_FLAG_W,HELIUM,HELIUM_FLAG_W,DELHE3,DELHE3_FLAG_W,NEON,NEON_FLAG_W,THETA
,,,,,,,,,,,METERS,DBAR,DEG C,PSS-78,,PSS-78,,UMOL/KG,,UMOL/KG,,UMOL/KG,,UMOL/KG,,UMOL/KG,,PMOL/KG,,PMOL/KG,,UMOL/KG,,UMOL/KG,,TU,,NMOL/KG,,PERCNT,,NMOL/KG,,DEG C
35A3CITHER3_2 ,A13        ,159     ,  1,1          ,32         ,2,19950306,1742, -25.6170,   9.0245,     4750,      5.0,  22.2710,  35.5150,2,  35.5140,2,    219.0,2,    220.6,2,     3.40,2,     0.00,2,     0.19,2,    2.046,2,    1.013,2,     -999,9,     -999,9,     -999,9,     -999,9,     -999,9,     -999,9,  22.2700
35A3CITHER3_2 ,A13        ,159     ,  1,2          ,31         ,2,19950306,1742, -25.6170,   9.0245,     4750,     46.7,  21.8880,  35.5530,2,  35.5630,3,    225.1,2,    222.7,2,     3.70,2,     0.00,2,     0.13,2,    2.183,2,    1.086,2,     -999,9,     -999,9,     -999,9,     -999,9,     -999,9,     -999,9,  21.8790
35A3CITHER3_2 ,A13        ,159     ,  1,3          ,30         ,2,19950306,1742, -25.6170,   9.0245,     4750,    119.0,  15.6950,  35.4860,2,  35.4820,2,    223.9,2,    223.0,2,     5.00,2,     4.30,2,     0.38,2,    2.530,2,    1.212,2,     -999,9,     -999,9,     -999,9,     -999,9,     -999,9,     -999,9,  15.6760
35A3CITHER3_2 ,A13        ,159     ,  1,4          ,29         ,2,19950306,1742, -25.6170,   9.0245,     4750,    198.4,  13.6110,  35.1970,2,  35.1980,2,    213.1,2,    217.1,2,     5.30,3,     4.70,2,     0.60,2,     -999,9,     -999,9,     -999,9,     -999,9,     -999,9,     -999,9,     -999,9,     -999,9,  13.5830
35A3CITHER3_2 ,A13        ,159     ,  1,5          ,28         ,2,19950306,1742, -25.6170,   9.0245,     4750,    346.4,  10.5330,  34.8700,2,  34.8690,2,    158.8,2,    152.5,3,    10.70,2,    21.80,2,     1.42,2,    1.965,2,    0.948,2,     -999,9,     -999,9,     -999,9,     -999,9,     -999,9,     -999,9,  10.4910
35A3CITHER3_2 ,A13        ,159     ,  1,6          ,27         ,2,19950306,1742, -25.6170,   9.0245,     4750,    445.6,   8.3030,  34.6090,2,  34.6140,3,    194.9,2,    195.7,2,    12.10,2,    22.60,2,     1.46,2,    2.046,2,    0.904,2,     -999,9,     -999,9,     -999,9,     -999,9,     -999,9,     -999,9,   8.2560
35A3CITHER3_2 ,A13        ,159     ,  1,7          ,26         ,2,19950306,1742, -25.6170,   9.0245,     4750,    546.2,   6.5490,  34.4910,2,  34.4910,2,    164.1,2,    165.8,2,    18.50,2,    30.10,2,     1.92,2,    1.275,2,    0.569,2,     -999,9,     -999,9,     -999,9,     -999,9,     -999,9,     -999,9,   6.4990
35A3CITHER3_2 ,A13        ,159     ,  1,8          ,25         ,2,19950306,1742, -25.6170,   9.0245,     4750,    674.0,   4.7160,  34.3620,2,  34.3620,2,    190.4,2,    196.0,3,    26.20,2,    31.40,2,     2.09,2,    1.113,2,    0.485,2,     -999,9,     -999,9,     -999,9,     -999,9,     -999,9,     -999,9,   4.6630
35A3CITHER3_2 ,A13        ,159     ,  1,9          ,24         ,2,19950306,1742, -25.6170,   9.0245,     4750,    794.7,   4.2460,  34.4130,2,  34.4120,2,    169.9,2,    169.6,2,    33.60,2,    34.50,2,     2.27,2,    0.362,2,    0.168,2,     -999,9,     -999,9,     -999,9,     -999,9,     -999,9,     -999,9,   4.1860
35A3CITHER3_2 ,A13        ,159     ,  1,10         ,23         ,2,19950306,1742, -25.6170,   9.0245,     4750,    991.5,   3.6800,  34.4970,2,  34.4910,3,    170.2,2,    171.2,2,    40.50,2,    34.00,2,     2.32,2,    0.070,2,    0.028,2,     -999,9,     -999,9,     -999,9,     -999,9,     -999,9,     -999,9,   3.6080
35A3CITHER3_2 ,A13        ,159     ,  1,11         ,22         ,2,19950306,1742, -25.6170,   9.0245,     4750,   1197.8,   3.4260,  34.6170,2,  34.6160,2,    177.3,2,    178.8,2,    43.70,2,    31.80,2,     2.09,2,    0.026,2,    0.015,2,     -999,9,     -999,9,     -999,9,     -999,9,     -999,9,     -999,9,   3.3390
35A3CITHER3_2 ,A13        ,159     ,  1,12         ,21         ,2,19950306,1742, -25.6170,   9.0245,     4750,   1390.7,   3.2550,  34.7170,2,  34.7180,2,    187.8,2,    190.9,2,    43.30,2,    28.90,2,     1.92,2,    0.001,2,    0.003,2,     -999,9,     -999,9,     -999,9,     -999,9,     -999,9,     -999,9,   3.1530
35A3CITHER3_2 ,A13        ,159     ,  1,13         ,20         ,2,19950306,1742, -25.6170,   9.0245,     4750,   1594.0,   3.2880,  34.8080,2,  34.8060,2,    201.8,2,    203.6,2,    38.00,2,    26.60,2,     1.76,2,    0.001,2,   -0.003,2,     -999,9,     -999,9,     -999,9,     -999,9,     -999,9,     -999,9,   3.1680
35A3CITHER3_2 ,A13        ,159     ,  1,15         ,18         ,2,19950306,1742, -25.6170,   9.0245,     4750,   1793.9,   3.2220,  34.8610,2,  34.8590,2,    213.3,2,    216.6,2,    34.70,2,    24.80,2,     1.58,2,    0.001,2,     -999,9,     -999,9,     -999,9,     -999,9,     -999,9,     -999,9,     -999,9,   3.0850
35A3CITHER3_2 ,A13        ,159     ,  1,14         ,19         ,2,19950306,1742, -25.6170,   9.0245,     4750,   1797.0,   3.2290,  34.8610,2,  34.8590,2,    213.3,2,    216.5,2,    35.00,2,    24.70,2,     1.57,2,    0.001,2,    0.003,2,     -999,9,     -999,9,     -999,9,     -999,9,     -999,9,     -999,9,   3.0920
35A3CITHER3_2 ,A13        ,159     ,  1,16         ,17         ,2,19950306,1742, -25.6170,   9.0245,     4750,   1993.8,   3.0670,  34.8790,2,  34.8770,2,    222.9,2,    225.0,2,    35.70,2,    24.00,2,     1.56,2,    0.003,2,     -999,9,     -999,9,     -999,9,     -999,9,     -999,9,     -999,9,     -999,9,   2.9140
35A3CITHER3_2 ,A13        ,159     ,  1,17         ,16         ,2,19950306,1742, -25.6170,   9.0245,     4750,   2195.3,   2.9240,  34.8850,2,  34.8840,2,    227.5,2,    229.5,2,    37.30,2,    23.60,2,     1.42,2,    0.006,2,    0.006,2,     -999,9,     -999,9,     -999,9,     -999,9,     -999,9,     -999,9,   2.7550
35A3CITHER3_2 ,A13        ,159     ,  1,18         ,15         ,2,19950306,1742, -25.6170,   9.0245,     4750,   2198.0,   2.9200,  34.8840,2,  34.8770,3,    227.6,2,    229.5,2,    37.30,2,    23.50,2,     1.50,2,    0.006,2,    0.000,2,     -999,9,     -999,9,     -999,9,     -999,9,     -999,9,     -999,9,   2.7510
35A3CITHER3_2 ,A13        ,159     ,  1,19         ,14         ,2,19950306,1742, -25.6170,   9.0245,     4750,   2393.5,   2.8090,  34.8860,2,  34.8860,2,    230.9,2,    232.3,2,    38.80,2,    23.50,2,     1.49,2,    0.000,2,    0.000,2,     -999,9,     -999,9,     -999,9,     -999,9,     -999,9,     -999,9,   2.6230
35A3CITHER3_2 ,A13        ,159     ,  1,20         ,13         ,2,19950306,1742, -25.6170,   9.0245,     4750,   2593.2,   2.6870,  34.8820,2,  34.8810,2,    232.7,2,    233.5,2,    41.80,2,    23.40,2,     1.53,2,    0.000,2,    0.003,2,     -999,9,     -999,9,     -999,9,     -999,9,     -999,9,     -999,9,   2.4840
35A3CITHER3_2 ,A13        ,159     ,  1,21         ,12         ,2,19950306,1742, -25.6170,   9.0245,     4750,   2795.8,   2.5780,  34.8770,2,  34.8760,2,    233.8,2,    233.8,2,    44.60,2,    23.60,2,     1.55,2,    0.001,2,   -0.003,2,     -999,9,     -999,9,     -999,9,     -999,9,     -999,9,     -999,9,   2.3570
35A3CITHER3_2 ,A13        ,159     ,  1,22         ,11         ,2,19950306,1742, -25.6170,   9.0245,     4750,   2990.6,   2.4720,  34.8710,2,  34.8670,2,    233.3,2,    232.5,2,    47.70,2,    23.90,2,     1.56,2,    0.013,3,    0.013,3,     -999,9,     -999,9,     -999,9,     -999,9,     -999,9,     -999,9,   2.2340
35A3CITHER3_2 ,A13        ,159     ,  1,23         ,10         ,2,19950306,1742, -25.6170,   9.0245,     4750,   3198.1,   2.4190,  34.8690,2,  34.8690,2,    232.7,2,    232.6,2,    49.80,2,    24.10,2,     1.59,2,    0.006,2,     -999,9,     -999,9,     -999,9,     -999,9,     -999,9,     -999,9,     -999,9,   2.1610
35A3CITHER3_2 ,A13        ,159     ,  1,24         ,9          ,2,19950306,1742, -25.6170,   9.0245,     4750,   3399.8,   2.3540,  34.8650,2,  34.8650,2,    231.8,2,    231.9,2,    52.60,2,    24.00,2,     1.60,2,    0.001,2,     -999,9,     -999,9,     -999,9,     -999,9,     -999,9,     -999,9,     -999,9,   2.0760
35A3CITHER3_2 ,A13        ,159     ,  1,25         ,8          ,2,19950306,1742, -25.6170,   9.0245,     4750,   3597.3,   2.2690,  34.8580,2,  34.8560,2,    230.9,2,    231.0,2,    55.80,2,    24.40,2,     1.65,2,    0.005,2,    0.002,2,     -999,9,     -999,9,     -999,9,     -999,9,     -999,9,     -999,9,   1.9720
35A3CITHER3_2 ,A13        ,159     ,  1,26         ,7          ,2,19950306,1742, -25.6170,   9.0245,     4750,   3795.5,   2.0760,  34.8380,2,  34.8380,2,    229.2,2,    227.8,2,    63.80,2,    25.10,2,     1.69,2,    0.004,2,    0.005,2,     -999,9,     -999,9,     -999,9,     -999,9,     -999,9,     -999,9,   1.7630
35A3CITHER3_2 ,A13        ,159     ,  1,27         ,6          ,2,19950306,1742, -25.6170,   9.0245,     4750,   3997.0,   1.7730,  34.8070,2,  34.8060,2,    222.9,2,    224.0,2,    78.10,2,    27.10,2,     1.79,2,    0.005,2,   -0.002,2,     -999,9,     -999,9,     -999,9,     -999,9,     -999,9,     -999,9,   1.4460
35A3CITHER3_2 ,A13        ,159     ,  1,28         ,5          ,2,19950306,1742, -25.6170,   9.0245,     4750,   4197.4,   1.3690,  34.7660,2,  34.7650,2,    219.4,2,    218.9,2,    94.40,2,    28.80,2,     1.97,2,    0.004,2,    0.004,2,     -999,9,     -999,9,     -999,9,     -999,9,     -999,9,     -999,9,   1.0320
35A3CITHER3_2 ,A13        ,159     ,  1,29         ,4          ,2,19950306,1742, -25.6170,   9.0245,     4750,   4400.9,   1.1880,  34.7470,2,  34.7490,2,    216.7,2,    217.4,2,   100.80,2,    29.80,2,     2.03,2,    0.008,2,     -999,9,     -999,9,     -999,9,     -999,9,     -999,9,     -999,9,     -999,9,   0.8340
35A3CITHER3_2 ,A13        ,159     ,  1,30         ,3          ,2,19950306,1742, -25.6170,   9.0245,     4750,   4594.8,   1.1580,  34.7430,2,  34.7420,2,    216.0,2,    217.0,2,   104.00,2,    30.40,2,     2.05,2,     -999,9,     -999,9,     -999,9,     -999,9,     -999,9,     -999,9,     -999,9,     -999,9,   0.7820
35A3CITHER3_2 ,A13        ,159     ,  1,31         ,2          ,2,19950306,1742, -25.6170,   9.0245,     4750,   4694.2,   1.1590,  34.7410,2,  34.7400,2,    215.9,2,    216.9,2,   104.50,2,    30.00,2,     2.03,2,    0.006,2,     -999,9,     -999,9,     -999,9,     -999,9,     -999,9,     -999,9,     -999,9,   0.7720
35A3CITHER3_2 ,A13        ,159     ,  1,32         ,1          ,2,19950306,1742, -25.6170,   9.0245,     4750,   4791.6,   1.1560,  34.7410,2,  34.7410,2,    215.4,2,    216.8,2,   105.10,2,    29.50,2,     1.96,4,    0.011,2,    0.006,2,     -999,9,     -999,9,     -999,9,     -999,9,     -999,9,     -999,9,   0.7580