BOTTLE,20211216CCHDHYDRO
EXPOCODE,SECT_ID,STNNBR,CASTNO,SAMPNO,BTLNBR,BTLNBR_FLAG_W,DATE,TIME,LATITUDE,LONGITUDE,DEPTH,CTDPRS,CTDTMP,CTDSAL,CTDSAL_FLAG_W,SALNTY,SALNTY_FLAG_W,CTDOXY,CTDOXY_FLAG_W,OXYGEN,OXYGEN_FLAG_W,SILCAT,SILCAT_FLAG_W,NITRAT,NITRAT_FLAG_W,PHSPHT,PHSPHT_FLAG_W,CFC-11,CFC-11_FLAG_W,CFC-12,CFC-12_FLAG_W,TCARBN,TCARBN_FLAG_W,ALKALI,ALKALI_FLAG_W,TRITUM,TRITUM_FLAG_W,HELIUM,HELIUM_FLAG_W,DELHE3,DELHE3_FLAG_W,NEON,NEON_FLAG_W,THETA
,,,,,,,,,,,METERS,DBAR,DEG C,PSS-78,,PSS-78,,UMOL/KG,,UMOL/KG,,UMOL/KG,,UMOL/KG,,UMOL/KG,,PMOL/KG,,PMOL/KG,,UMOL/KG,,UMOL/KG,,TU,,NMOL/KG,,PERCNT,,NMOL/KG,,DEG C
35A3CITHER3_2 ,A13        ,126     ,  1,1          ,32         ,2,19950226,0554, -38.8010,  11.7195,     5161,      4.7,  16.8560,  34.8830,2,  34.8840,2,    254.9,2,    254.2,2,     1.20,2,     0.50,2,     0.36,2,    2.969,2,    1.437,2,     -999,9,     -999,9,     -999,9,     -999,9,     -999,9,     -999,9,  16.8550
35A3CITHER3_2 ,A13        ,126     ,  1,2          ,31         ,2,19950226,0554, -38.8010,  11.7195,     5161,     46.6,  15.3180,  34.9220,2,  34.9230,2,    250.4,2,    253.6,2,     1.50,2,     1.40,2,     0.35,2,    3.036,2,    1.459,2,     -999,9,     -999,9,     -999,9,     -999,9,     -999,9,     -999,9,  15.3110
35A3CITHER3_2 ,A13        ,126     ,  1,3          ,30         ,2,19950226,0554, -38.8010,  11.7195,     5161,    120.9,  14.0490,  35.1780,2,  34.9030,3,    230.3,2,    234.4,3,     3.90,2,     9.30,2,     0.69,2,    3.247,2,    1.523,2,     -999,9,     -999,9,     -999,9,     -999,9,     -999,9,     -999,9,  14.0320
35A3CITHER3_2 ,A13        ,126     ,  1,4          ,29         ,2,19950226,0554, -38.8010,  11.7195,     5161,    195.4,  12.0430,  34.9150,2,  34.9010,3,    235.8,2,    235.1,2,     4.20,2,     9.30,2,     0.68,2,    3.252,2,    1.531,2,     -999,9,     -999,9,     -999,9,     -999,9,     -999,9,     -999,9,  12.0170
35A3CITHER3_2 ,A13        ,126     ,  1,5          ,28         ,2,19950226,0554, -38.8010,  11.7195,     5161,    395.0,   8.8820,  34.5940,2,  34.5920,2,    238.8,2,    237.5,2,     6.30,2,    17.20,2,     1.11,2,    3.353,2,    1.532,2,     -999,9,     -999,9,     -999,9,     -999,9,     -999,9,     -999,9,   8.8390
35A3CITHER3_2 ,A13        ,126     ,  1,6          ,27         ,2,19950226,0554, -38.8010,  11.7195,     5161,    594.6,   6.3410,  34.3980,2,  34.4010,2,    218.0,2,    221.3,2,    14.50,2,    25.20,2,     1.64,2,    2.539,2,    1.133,2,     -999,9,     -999,9,     -999,9,     -999,9,     -999,9,     -999,9,   6.2870
35A3CITHER3_2 ,A13        ,126     ,  1,8          ,25         ,2,19950226,0554, -38.8010,  11.7195,     5161,    768.1,   4.6720,  34.2820,2,  34.2820,2,    238.5,2,    235.9,2,    20.80,2,    27.80,2,     1.85,2,    2.526,2,    1.093,2,     -999,9,     -999,9,     -999,9,     -999,9,     -999,9,     -999,9,   4.6120
35A3CITHER3_2 ,A13        ,126     ,  1,7          ,26         ,2,19950226,0554, -38.8010,  11.7195,     5161,    768.2,   4.6580,  34.2760,2,  34.2840,3,    238.5,2,    235.5,2,    19.60,2,    27.50,2,     1.79,2,    2.534,2,    1.113,2,     -999,9,     -999,9,     -999,9,     -999,9,     -999,9,     -999,9,   4.5980
35A3CITHER3_2 ,A13        ,126     ,  1,9          ,24         ,2,19950226,0554, -38.8010,  11.7195,     5161,    894.2,   4.2050,  34.3270,2,  34.3270,2,    218.8,2,    216.5,2,    30.10,2,    30.00,2,     1.99,2,    1.552,2,    0.684,2,     -999,9,     -999,9,     -999,9,     -999,9,     -999,9,     -999,9,   4.1370
35A3CITHER3_2 ,A13        ,126     ,  1,10         ,23         ,2,19950226,0554, -38.8010,  11.7195,     5161,    993.8,   3.2230,  34.2560,2,  34.2560,2,    232.0,2,    233.5,2,    31.00,2,    31.00,3,     2.03,2,    1.958,2,    0.860,2,     -999,9,     -999,9,     -999,9,     -999,9,     -999,9,     -999,9,   3.1540
35A3CITHER3_2 ,A13        ,126     ,  1,11         ,22         ,2,19950226,0554, -38.8010,  11.7195,     5161,   1294.6,   2.9250,  34.4590,2,  34.4590,2,    190.0,2,    188.4,2,    54.20,2,    33.50,2,     2.22,2,    0.416,2,    0.199,2,     -999,9,     -999,9,     -999,9,     -999,9,     -999,9,     -999,9,   2.8350
35A3CITHER3_2 ,A13        ,126     ,  1,12         ,21         ,2,19950226,0554, -38.8010,  11.7195,     5161,   1595.6,   2.7800,  34.6280,2,  34.6320,2,    180.1,2,    179.8,2,    64.90,2,    32.30,2,     2.10,2,    0.109,2,    0.051,2,     -999,9,     -999,9,     -999,9,     -999,9,     -999,9,     -999,9,   2.6670
35A3CITHER3_2 ,A13        ,126     ,  1,13         ,20         ,2,19950226,0554, -38.8010,  11.7195,     5161,   1795.9,   2.7350,  34.7130,2,  34.7130,2,    188.2,2,    188.5,2,    63.00,2,    30.20,2,     2.00,2,    0.043,2,    0.016,2,     -999,9,     -999,9,     -999,9,     -999,9,     -999,9,     -999,9,   2.6050
35A3CITHER3_2 ,A13        ,126     ,  1,14         ,19         ,2,19950226,0554, -38.8010,  11.7195,     5161,   1994.9,   2.7030,  34.7730,2,  34.7730,2,    200.9,2,    201.0,2,    59.10,2,    27.80,2,     1.83,2,    0.010,2,    0.011,2,     -999,9,     -999,9,     -999,9,     -999,9,     -999,9,     -999,9,   2.5560
35A3CITHER3_2 ,A13        ,126     ,  1,15         ,18         ,2,19950226,0554, -38.8010,  11.7195,     5161,   2197.1,   2.6510,  34.8070,2,  34.8040,2,    210.2,2,    210.1,2,    56.00,2,    27.00,2,     1.78,2,    0.007,2,    0.011,2,     -999,9,     -999,9,     -999,9,     -999,9,     -999,9,     -999,9,   2.4860
35A3CITHER3_2 ,A13        ,126     ,  1,16         ,17         ,2,19950226,0554, -38.8010,  11.7195,     5161,   2396.6,   2.5650,  34.8270,2,  34.8290,2,    216.7,2,    217.8,2,    54.80,2,    25.80,2,     1.71,2,    0.007,2,    0.006,2,     -999,9,     -999,9,     -999,9,     -999,9,     -999,9,     -999,9,   2.3830
35A3CITHER3_2 ,A13        ,126     ,  1,17         ,16         ,2,19950226,0554, -38.8010,  11.7195,     5161,   2596.1,   2.4870,  34.8360,2,  34.8330,2,    221.0,2,    221.6,2,    55.40,2,    25.30,2,     1.65,2,    0.004,2,    0.018,2,     -999,9,     -999,9,     -999,9,     -999,9,     -999,9,     -999,9,   2.2880
35A3CITHER3_2 ,A13        ,126     ,  1,18         ,15         ,2,19950226,0554, -38.8010,  11.7195,     5161,   2796.7,   2.4030,  34.8420,2,  34.8410,2,    224.2,2,    225.0,2,    56.00,2,    24.90,2,     1.65,2,    0.001,2,    0.008,2,     -999,9,     -999,9,     -999,9,     -999,9,     -999,9,     -999,9,   2.1860
35A3CITHER3_2 ,A13        ,126     ,  1,19         ,14         ,2,19950226,0554, -38.8010,  11.7195,     5161,   2995.8,   2.3100,  34.8430,2,  34.8440,2,    226.1,2,    226.6,2,    58.60,2,    24.70,2,     1.63,2,    0.000,2,    0.002,2,     -999,9,     -999,9,     -999,9,     -999,9,     -999,9,     -999,9,   2.0750
35A3CITHER3_2 ,A13        ,126     ,  1,20         ,13         ,2,19950226,0554, -38.8010,  11.7195,     5161,   3197.5,   2.2460,  34.8430,2,  34.8420,2,    227.3,2,    227.2,2,    60.10,2,    24.70,2,     1.66,2,    0.002,2,    0.001,2,     -999,9,     -999,9,     -999,9,     -999,9,     -999,9,     -999,9,   1.9920
35A3CITHER3_2 ,A13        ,126     ,  1,21         ,12         ,2,19950226,0554, -38.8010,  11.7195,     5161,   3397.5,   2.1490,  34.8380,2,  34.8370,2,    227.1,2,    228.3,2,    63.90,2,    25.10,2,     1.66,2,    0.001,2,    0.000,2,     -999,9,     -999,9,     -999,9,     -999,9,     -999,9,     -999,9,   1.8770
35A3CITHER3_2 ,A13        ,126     ,  1,22         ,11         ,2,19950226,0554, -38.8010,  11.7195,     5161,   3596.3,   1.9610,  34.8200,2,  34.8100,3,    225.0,2,    224.7,2,    72.10,2,    26.80,2,     1.74,2,    0.007,2,    0.006,2,     -999,9,     -999,9,     -999,9,     -999,9,     -999,9,     -999,9,   1.6720
35A3CITHER3_2 ,A13        ,126     ,  1,23         ,10         ,2,19950226,0554, -38.8010,  11.7195,     5161,   3795.4,   1.7070,  34.7960,2,  34.7980,2,    222.3,2,    221.8,2,    80.40,2,    26.90,2,     1.82,2,    0.003,2,    0.006,2,     -999,9,     -999,9,     -999,9,     -999,9,     -999,9,     -999,9,   1.4040
35A3CITHER3_2 ,A13        ,126     ,  1,24         ,9          ,2,19950226,0554, -38.8010,  11.7195,     5161,   3996.5,   1.3930,  34.7680,2,  34.7680,2,    219.0,2,    220.8,2,    91.60,2,    27.70,2,     1.92,2,    0.009,2,    0.013,2,     -999,9,     -999,9,     -999,9,     -999,9,     -999,9,     -999,9,   1.0770
35A3CITHER3_2 ,A13        ,126     ,  1,25         ,8          ,2,19950226,0554, -38.8010,  11.7195,     5161,   4197.4,   1.2460,  34.7530,2,  34.7520,2,    218.2,2,    218.8,2,    96.80,2,    28.50,2,     1.92,2,    0.035,2,    0.015,2,     -999,9,     -999,9,     -999,9,     -999,9,     -999,9,     -999,9,   0.9120
35A3CITHER3_2 ,A13        ,126     ,  1,26         ,7          ,2,19950226,0554, -38.8010,  11.7195,     5161,   4398.6,   1.1370,  34.7430,2,  34.7420,2,    217.7,2,    217.8,2,   102.20,2,    29.70,2,     1.96,2,    0.011,2,    0.006,2,     -999,9,     -999,9,     -999,9,     -999,9,     -999,9,     -999,9,   0.7840
35A3CITHER3_2 ,A13        ,126     ,  1,27         ,6          ,2,19950226,0554, -38.8010,  11.7195,     5161,   4597.0,   1.0990,  34.7370,2,  34.7370,2,    217.8,2,    218.3,2,   104.50,2,    29.70,2,     2.02,2,    0.010,2,    0.010,2,     -999,9,     -999,9,     -999,9,     -999,9,     -999,9,     -999,9,   0.7250
35A3CITHER3_2 ,A13        ,126     ,  1,28         ,5          ,2,19950226,0554, -38.8010,  11.7195,     5161,   4797.8,   1.0820,  34.7330,2,  34.7350,2,    217.8,2,    217.5,2,   106.10,2,    30.80,2,     2.01,2,    0.013,2,    0.003,2,     -999,9,     -999,9,     -999,9,     -999,9,     -999,9,     -999,9,   0.6850
35A3CITHER3_2 ,A13        ,126     ,  1,29         ,4          ,2,19950226,0554, -38.8010,  11.7195,     5161,   5000.7,   1.0920,  34.7320,2,  34.7320,2,    218.2,2,    217.3,2,   106.30,2,    30.00,2,     2.04,2,    0.018,2,    0.012,2,     -999,9,     -999,9,     -999,9,     -999,9,     -999,9,     -999,9,   0.6710
35A3CITHER3_2 ,A13        ,126     ,  1,31         ,2          ,2,19950226,0554, -38.8010,  11.7195,     5161,   5145.5,   0.9770,  34.7210,2,  34.7220,2,    218.6,2,    218.6,2,   110.50,2,    29.30,2,     2.09,2,    0.036,2,    0.023,2,     -999,9,     -999,9,     -999,9,     -999,9,     -999,9,     -999,9,   0.5430
35A3CITHER3_2 ,A13        ,126     ,  1,30         ,3          ,2,19950226,0554, -38.8010,  11.7195,     5161,   5148.1,   0.9800,  34.7220,2,  34.7220,2,    218.6,2,    217.9,2,   109.90,2,    30.80,2,     2.08,2,    0.035,2,    0.018,2,     -999,9,     -999,9,     -999,9,     -999,9,     -999,9,     -999,9,   0.5450
35A3CITHER3_2 ,A13        ,126     ,  1,32         ,1          ,2,19950226,0554, -38.8010,  11.7195,     5161,   5234.8,   0.9100,  34.7160,2,  34.7150,2,    218.6,2,    218.9,2,   112.20,2,    30.10,2,     2.10,2,    0.051,2,    0.024,2,     -999,9,     -999,9,     -999,9,     -999,9,     -999,9,     -999,9,   0.4670