BOTTLE,20211216CCHDHYDRO
EXPOCODE,SECT_ID,STNNBR,CASTNO,SAMPNO,BTLNBR,BTLNBR_FLAG_W,DATE,TIME,LATITUDE,LONGITUDE,DEPTH,CTDPRS,CTDTMP,CTDSAL,CTDSAL_FLAG_W,SALNTY,SALNTY_FLAG_W,CTDOXY,CTDOXY_FLAG_W,OXYGEN,OXYGEN_FLAG_W,SILCAT,SILCAT_FLAG_W,NITRAT,NITRAT_FLAG_W,PHSPHT,PHSPHT_FLAG_W,CFC-11,CFC-11_FLAG_W,CFC-12,CFC-12_FLAG_W,TCARBN,TCARBN_FLAG_W,ALKALI,ALKALI_FLAG_W,TRITUM,TRITUM_FLAG_W,HELIUM,HELIUM_FLAG_W,DELHE3,DELHE3_FLAG_W,NEON,NEON_FLAG_W,THETA
,,,,,,,,,,,METERS,DBAR,DEG C,PSS-78,,PSS-78,,UMOL/KG,,UMOL/KG,,UMOL/KG,,UMOL/KG,,UMOL/KG,,PMOL/KG,,PMOL/KG,,UMOL/KG,,UMOL/KG,,TU,,NMOL/KG,,PERCNT,,NMOL/KG,,DEG C
35A3CITHER3_2 ,A13        ,232     ,  1,1          ,32         ,2,19950325,2302,   1.9785,   0.5938,     4774,      4.5,  29.6370,  34.9220,2,  34.9250,2,    185.6,2,    195.7,3,     0.00,3,     0.00,2,     0.04,2,    1.524,2,    0.834,2,   1926.3,2,   2286.4,2,     -999,9,     -999,9,     -999,9,     -999,9,  29.6360
35A3CITHER3_2 ,A13        ,232     ,  1,2          ,31         ,2,19950325,2302,   1.9785,   0.5938,     4774,     45.8,  24.3760,  35.7880,2,  35.8000,3,    214.2,2,    192.7,3,     3.30,2,     0.00,2,     0.12,2,    1.640,2,    0.839,2,   2047.8,2,   2347.1,2,     -999,9,     -999,9,     -999,9,     -999,9,  24.3660
35A3CITHER3_2 ,A13        ,232     ,  1,3          ,30         ,2,19950325,2302,   1.9785,   0.5938,     4774,    121.2,  16.3460,  35.6930,2,  35.6930,2,    140.0,2,    137.2,2,     6.70,2,    14.60,2,     0.91,2,    1.592,2,    0.779,2,   2146.6,2,     -999,9,     -999,9,     -999,9,     -999,9,     -999,9,  16.3260
35A3CITHER3_2 ,A13        ,232     ,  1,4          ,29         ,2,19950325,2302,   1.9785,   0.5938,     4774,    195.5,  14.5200,  35.4820,2,  35.4800,2,     97.5,2,     94.2,2,     9.00,2,    21.40,2,     1.27,2,    1.146,2,    0.571,2,   2181.6,2,     -999,9,     -999,9,     -999,9,     -999,9,     -999,9,  14.4910
35A3CITHER3_2 ,A13        ,232     ,  1,5          ,28         ,2,19950325,2302,   1.9785,   0.5938,     4774,    286.5,  10.6920,  35.0370,2,  35.0310,3,     54.9,2,     54.5,2,    14.60,2,    31.90,2,     1.92,2,    0.339,2,    0.183,2,   2229.9,2,   2305.8,2,     -999,9,     -999,9,     -999,9,     -999,9,  10.6570
35A3CITHER3_2 ,A13        ,232     ,  1,6          ,27         ,2,19950325,2302,   1.9785,   0.5938,     4774,    395.7,   8.5160,  34.7840,2,  34.7850,2,     91.0,2,     90.4,2,    17.40,2,    32.50,2,     1.98,2,    0.254,2,    0.138,2,   2218.4,2,   2298.0,2,     -999,9,     -999,9,     -999,9,     -999,9,   8.4740
35A3CITHER3_2 ,A13        ,232     ,  1,7          ,26         ,2,19950325,2302,   1.9785,   0.5938,     4774,    595.8,   6.3580,  34.5840,2,  34.5860,2,    126.8,2,    118.4,3,    23.00,2,    34.00,2,     2.19,2,    0.099,2,    0.056,2,   2219.0,2,     -999,9,     -999,9,     -999,9,     -999,9,     -999,9,   6.3040
35A3CITHER3_2 ,A13        ,232     ,  1,8          ,25         ,2,19950325,2302,   1.9785,   0.5938,     4774,    746.3,   5.0910,  34.5330,2,  34.5290,2,    131.0,2,    130.4,2,    28.90,2,    34.80,2,     2.27,2,    0.015,2,    0.012,2,   2223.8,2,   2297.4,2,     -999,9,     -999,9,     -999,9,     -999,9,   5.0300
35A3CITHER3_2 ,A13        ,232     ,  1,9          ,24         ,2,19950325,2302,   1.9785,   0.5938,     4774,    994.9,   4.5010,  34.6480,2,  34.6500,2,    149.7,2,    152.7,2,    30.10,2,    31.90,2,     2.11,2,    0.004,2,    0.003,2,   2219.0,2,   2306.6,2,     -999,9,     -999,9,     -999,9,     -999,9,   4.4220
35A3CITHER3_2 ,A13        ,232     ,  1,10         ,23         ,2,19950325,2302,   1.9785,   0.5938,     4774,   1195.4,   4.4280,  34.8320,2,  34.8290,2,    181.4,2,    183.4,2,    25.80,2,    27.00,2,     1.77,2,    0.013,2,    0.006,2,   2198.6,2,     -999,9,     -999,9,     -999,9,     -999,9,     -999,9,   4.3310
35A3CITHER3_2 ,A13        ,232     ,  1,11         ,22         ,2,19950325,2302,   1.9785,   0.5938,     4774,   1395.4,   4.1990,  34.9180,2,  34.9180,2,    206.7,2,    207.0,2,    22.60,2,    23.90,2,     1.55,2,    0.008,2,    0.002,2,   2186.6,2,     -999,9,     -999,9,     -999,9,     -999,9,     -999,9,   4.0860
35A3CITHER3_2 ,A13        ,232     ,  1,12         ,21         ,2,19950325,2302,   1.9785,   0.5938,     4774,   1595.2,   4.0010,  34.9590,2,  34.9610,2,    230.2,2,    229.5,2,    20.50,2,    21.30,2,     1.32,2,    0.007,2,    0.002,2,   2172.6,2,     -999,9,     -999,9,     -999,9,     -999,9,     -999,9,   3.8720
35A3CITHER3_2 ,A13        ,232     ,  1,13         ,20         ,2,19950325,2302,   1.9785,   0.5938,     4774,   1795.1,   3.7250,  34.9660,2,  34.9680,2,    240.8,2,    241.0,2,    20.90,2,    20.20,2,     1.26,2,    0.005,2,    0.006,2,   2168.4,2,     -999,9,     -999,9,     -999,9,     -999,9,     -999,9,   3.5810
35A3CITHER3_2 ,A13        ,232     ,  1,14         ,19         ,2,19950325,2302,   1.9785,   0.5938,     4774,   1995.3,   3.5440,  34.9600,2,  34.9640,2,    245.1,2,    242.0,2,    22.60,2,    20.30,2,     1.25,2,    0.005,2,    0.005,2,   2168.4,2,   2321.2,2,     -999,9,     -999,9,     -999,9,     -999,9,   3.3840
35A3CITHER3_2 ,A13        ,232     ,  1,15         ,18         ,2,19950325,2302,   1.9785,   0.5938,     4774,   2197.5,   3.2830,  34.9490,2,  34.9510,2,    244.7,2,    243.5,2,    26.20,2,    20.60,2,     1.30,2,    0.003,2,    0.001,2,   2173.0,2,     -999,9,     -999,9,     -999,9,     -999,9,     -999,9,   3.1080
35A3CITHER3_2 ,A13        ,232     ,  1,16         ,17         ,2,19950325,2302,   1.9785,   0.5938,     4774,   2396.7,   3.0680,  34.9390,2,  34.9400,2,    243.0,2,    241.6,2,    29.60,2,    20.90,2,     1.32,2,    0.001,2,   -0.004,2,   2177.1,2,     -999,9,     -999,9,     -999,9,     -999,9,     -999,9,   2.8770
35A3CITHER3_2 ,A13        ,232     ,  1,17         ,16         ,2,19950325,2302,   1.9785,   0.5938,     4774,   2594.8,   2.8850,  34.9280,2,  34.9290,2,    242.8,2,    241.9,2,    32.50,2,    20.90,2,     1.34,2,    0.002,2,     -999,9,   2180.4,2,     -999,9,     -999,9,     -999,9,     -999,9,     -999,9,   2.6780
35A3CITHER3_2 ,A13        ,232     ,  1,18         ,15         ,2,19950325,2302,   1.9785,   0.5938,     4774,   2795.4,   2.7710,  34.9210,2,  34.9220,2,    242.5,2,    241.2,2,    35.10,2,    21.30,2,     1.35,2,    0.000,2,    0.005,2,   2184.3,2,     -999,9,     -999,9,     -999,9,     -999,9,     -999,9,   2.5460
35A3CITHER3_2 ,A13        ,232     ,  1,19         ,14         ,2,19950325,2302,   1.9785,   0.5938,     4774,   2997.3,   2.6590,  34.9130,2,  34.9150,2,    239.9,2,    238.1,2,    38.50,2,    21.70,2,     1.38,2,    0.002,2,    0.002,2,   2190.4,2,   2337.0,2,     -999,9,     -999,9,     -999,9,     -999,9,   2.4160
35A3CITHER3_2 ,A13        ,232     ,  1,20         ,13         ,2,19950325,2302,   1.9785,   0.5938,     4774,   3196.4,   2.5360,  34.9060,2,  34.9030,2,    240.1,2,    240.8,2,    40.00,2,    21.60,2,     1.38,2,    0.003,2,    0.007,2,   2190.8,2,     -999,9,     -999,9,     -999,9,     -999,9,     -999,9,   2.2750
35A3CITHER3_2 ,A13        ,232     ,  1,21         ,12         ,2,19950325,2302,   1.9785,   0.5938,     4774,   3396.4,   2.4870,  34.8990,2,  34.9020,2,    241.6,2,    241.1,2,    41.00,2,    21.40,2,     1.36,2,    0.001,2,    0.007,2,   2192.2,2,     -999,9,     -999,9,     -999,9,     -999,9,     -999,9,   2.2060
35A3CITHER3_2 ,A13        ,232     ,  1,22         ,11         ,2,19950325,2302,   1.9785,   0.5938,     4774,   3396.7,   2.4860,  34.9020,2,  34.9020,2,    241.6,2,    240.8,2,    41.30,2,    21.60,2,     1.38,2,    0.003,2,    0.006,2,     -999,9,     -999,9,     -999,9,     -999,9,     -999,9,     -999,9,   2.2050
35A3CITHER3_2 ,A13        ,232     ,  1,23         ,10         ,2,19950325,2302,   1.9785,   0.5938,     4774,   3595.5,   2.4430,  34.8980,2,  34.8780,3,    240.4,2,    239.8,2,    42.80,2,    21.80,2,     1.39,2,    0.005,2,    0.009,2,   2195.5,2,     -999,9,     -999,9,     -999,9,     -999,9,     -999,9,   2.1420
35A3CITHER3_2 ,A13        ,232     ,  1,24         ,9          ,2,19950325,2302,   1.9785,   0.5938,     4774,   3797.5,   2.3950,  34.8930,2,  34.8870,2,    238.7,2,    239.2,2,    44.40,2,    21.90,2,     1.39,2,    0.001,2,    0.004,2,   2196.9,2,     -999,9,     -999,9,     -999,9,     -999,9,     -999,9,   2.0730
35A3CITHER3_2 ,A13        ,232     ,  1,25         ,8          ,2,19950325,2302,   1.9785,   0.5938,     4774,   3997.5,   2.3400,  34.8890,2,  34.8860,2,    238.4,2,    239.0,2,    46.60,2,    22.20,2,     1.42,2,    0.002,2,    0.014,2,   2200.1,2,   2354.8,2,     -999,9,     -999,9,     -999,9,     -999,9,   1.9970
35A3CITHER3_2 ,A13        ,232     ,  1,26         ,7          ,2,19950325,2302,   1.9785,   0.5938,     4774,   4197.5,   2.3020,  34.8840,2,  34.8830,2,    238.0,2,    239.1,2,    47.90,2,    22.40,2,     1.42,2,    0.003,2,     -999,9,   2201.4,2,     -999,9,     -999,9,     -999,9,     -999,9,     -999,9,   1.9370
35A3CITHER3_2 ,A13        ,232     ,  1,27         ,6          ,2,19950325,2302,   1.9785,   0.5938,     4774,   4396.6,   2.2630,  34.8760,2,  34.8780,2,    239.0,2,    238.9,2,    49.90,2,    22.40,2,     1.42,2,    0.002,2,    0.002,2,   2204.4,2,     -999,9,     -999,9,     -999,9,     -999,9,     -999,9,   1.8750
35A3CITHER3_2 ,A13        ,232     ,  1,28         ,5          ,2,19950325,2302,   1.9785,   0.5938,     4774,   4596.0,   2.2340,  34.8730,2,  34.8700,2,    238.0,2,    238.5,2,    51.50,2,    22.90,2,     1.44,2,    0.004,2,    0.001,2,   2206.3,2,     -999,9,     -999,9,     -999,9,     -999,9,     -999,9,   1.8230
35A3CITHER3_2 ,A13        ,232     ,  1,29         ,4          ,2,19950325,2302,   1.9785,   0.5938,     4774,   4747.6,   2.1890,  34.8640,2,  34.8640,2,    229.9,2,    225.2,3,    58.80,2,    24.00,2,     1.51,2,    0.007,2,    0.014,2,   2231.8,3,     -999,9,     -999,9,     -999,9,     -999,9,     -999,9,   1.7620
35A3CITHER3_2 ,A13        ,232     ,  1,30         ,3          ,2,19950325,2302,   1.9785,   0.5938,     4774,   4825.5,   2.1850,  34.8630,2,  34.8640,2,    225.2,2,    226.2,2,    59.10,2,    23.40,2,     1.46,2,    0.003,2,    0.005,2,   2230.4,3,   2366.1,2,     -999,9,     -999,9,     -999,9,     -999,9,   1.7480
35A3CITHER3_2 ,A13        ,233     ,  1,1          ,32         ,2,19950326,0430,   2.3327,   0.3750,     4760,      7.6,  29.4030,  34.9830,2,  34.9790,2,    194.3,2,    195.6,2,     3.20,2,     0.00,2,     0.01,2,    1.535,2,    0.825,2,     -999,9,     -999,9,     -999,9,     -999,9,     -999,9,     -999,9,  29.4010
35A3CITHER3_2 ,A13        ,233     ,  1,2          ,31         ,2,19950326,0430,   2.3327,   0.3750,     4760,     45.6,  24.8830,  35.6410,2,  35.6000,3,    220.3,2,    200.9,3,     3.20,2,     0.00,2,     0.09,2,    1.668,2,    0.854,2,     -999,9,     -999,9,     -999,9,     -999,9,     -999,9,     -999,9,  24.8730
35A3CITHER3_2 ,A13        ,233     ,  1,3          ,30         ,2,19950326,0430,   2.3327,   0.3750,     4760,    122.1,  16.3840,  35.7020,2,  35.6990,2,    125.0,2,    121.7,2,     6.80,2,    16.00,2,     1.01,2,    1.510,2,    0.743,2,     -999,9,     -999,9,     -999,9,     -999,9,     -999,9,     -999,9,  16.3640
35A3CITHER3_2 ,A13        ,233     ,  1,4          ,29         ,2,19950326,0430,   2.3327,   0.3750,     4760,    196.4,  14.1940,  35.4360,2,  35.4270,3,     89.4,2,     86.2,2,     9.60,2,    22.60,2,     1.40,2,    1.004,2,    0.503,2,     -999,9,     -999,9,     -999,9,     -999,9,     -999,9,     -999,9,  14.1650
35A3CITHER3_2 ,A13        ,233     ,  1,5          ,28         ,2,19950326,0430,   2.3327,   0.3750,     4760,    255.4,  11.0800,  35.0810,2,  35.0770,2,     56.5,2,     54.3,2,    14.00,2,    31.10,2,     1.85,2,    0.379,2,    0.210,2,     -999,9,     -999,9,     -999,9,     -999,9,     -999,9,     -999,9,  11.0480
35A3CITHER3_2 ,A13        ,233     ,  1,6          ,27         ,2,19950326,0430,   2.3327,   0.3750,     4760,    395.5,   8.5010,  34.7830,2,  34.7820,2,     87.8,2,     87.2,2,    17.80,2,    32.50,2,     1.99,2,    0.235,2,    0.128,2,     -999,9,     -999,9,     -999,9,     -999,9,     -999,9,     -999,9,   8.4590
35A3CITHER3_2 ,A13        ,233     ,  1,7          ,26         ,2,19950326,0430,   2.3327,   0.3750,     4760,    594.3,   6.3150,  34.6000,2,  34.5970,2,    106.3,2,    102.7,2,    24.50,2,    35.40,2,     2.26,2,    0.037,2,    0.021,2,     -999,9,     -999,9,     -999,9,     -999,9,     -999,9,     -999,9,   6.2610
35A3CITHER3_2 ,A13        ,233     ,  1,8          ,25         ,2,19950326,0430,   2.3327,   0.3750,     4760,    794.8,   4.8230,  34.5370,2,  34.5150,3,    140.8,2,    140.6,2,    30.40,2,    34.00,2,     2.25,2,    0.017,2,    0.006,2,     -999,9,     -999,9,     -999,9,     -999,9,     -999,9,     -999,9,   4.7590
35A3CITHER3_2 ,A13        ,233     ,  1,9          ,24         ,2,19950326,0430,   2.3327,   0.3750,     4760,    994.7,   4.5110,  34.6360,2,  34.6330,2,    149.6,2,    150.1,2,    31.10,2,    32.40,2,     2.14,2,    0.001,2,    0.001,2,     -999,9,     -999,9,     -999,9,     -999,9,     -999,9,     -999,9,   4.4320
35A3CITHER3_2 ,A13        ,233     ,  1,10         ,23         ,2,19950326,0430,   2.3327,   0.3750,     4760,   1194.8,   4.4230,  34.8280,2,  34.8130,3,    182.6,2,    182.1,2,    25.80,2,    27.00,2,     1.77,2,    0.009,2,    0.002,2,     -999,9,     -999,9,     -999,9,     -999,9,     -999,9,     -999,9,   4.3260
35A3CITHER3_2 ,A13        ,233     ,  1,11         ,22         ,2,19950326,0430,   2.3327,   0.3750,     4760,   1395.0,   4.2200,  34.9150,2,  34.9170,2,    206.3,2,    205.8,2,    24.40,2,    23.80,2,     1.52,2,    0.001,2,    0.004,2,     -999,9,     -999,9,     -999,9,     -999,9,     -999,9,     -999,9,   4.1070
35A3CITHER3_2 ,A13        ,233     ,  1,12         ,21         ,2,19950326,0430,   2.3327,   0.3750,     4760,   1594.4,   3.9980,  34.9600,2,  34.9610,2,    231.0,2,    229.4,2,    22.10,2,    21.20,2,     1.34,2,    0.002,2,    0.002,2,     -999,9,     -999,9,     -999,9,     -999,9,     -999,9,     -999,9,   3.8690
35A3CITHER3_2 ,A13        ,233     ,  1,13         ,20         ,2,19950326,0430,   2.3327,   0.3750,     4760,   1794.9,   3.7530,  34.9650,2,  34.9670,2,    239.3,2,    240.6,2,    22.20,2,    20.20,2,     1.28,2,    0.005,2,    0.002,2,     -999,9,     -999,9,     -999,9,     -999,9,     -999,9,     -999,9,   3.6090
35A3CITHER3_2 ,A13        ,233     ,  1,14         ,19         ,2,19950326,0430,   2.3327,   0.3750,     4760,   1994.9,   3.5220,  34.9610,2,  34.9620,2,    244.9,2,    243.9,2,    24.10,2,    20.00,2,     1.27,2,    0.006,2,    0.001,2,     -999,9,     -999,9,     -999,9,     -999,9,     -999,9,     -999,9,   3.3620
35A3CITHER3_2 ,A13        ,233     ,  1,16         ,17         ,2,19950326,0430,   2.3327,   0.3750,     4760,   2194.8,   3.2730,  34.9490,2,  34.9520,2,    246.9,2,    243.8,2,    27.40,2,    20.30,2,     1.30,2,    0.002,2,     -999,9,     -999,9,     -999,9,     -999,9,     -999,9,     -999,9,     -999,9,   3.0980
35A3CITHER3_2 ,A13        ,233     ,  1,15         ,18         ,2,19950326,0430,   2.3327,   0.3750,     4760,   2195.6,   3.2780,  34.9500,2,  34.9510,2,    246.8,2,    244.0,2,    27.40,2,    20.30,2,     1.30,2,    0.004,2,   -0.001,2,     -999,9,     -999,9,     -999,9,     -999,9,     -999,9,     -999,9,   3.1030
35A3CITHER3_2 ,A13        ,233     ,  1,17         ,16         ,2,19950326,0430,   2.3327,   0.3750,     4760,   2394.7,   3.1010,  34.9400,2,  34.9420,2,    244.8,2,    242.5,2,    30.50,2,    20.70,2,     1.32,2,    0.007,2,   -0.002,2,     -999,9,     -999,9,     -999,9,     -999,9,     -999,9,     -999,9,   2.9100
35A3CITHER3_2 ,A13        ,233     ,  1,18         ,15         ,2,19950326,0430,   2.3327,   0.3750,     4760,   2595.2,   2.8980,  34.9300,2,  34.9290,2,    242.2,2,    241.3,2,    34.40,2,    21.00,2,     1.36,2,    0.001,2,    0.003,2,     -999,9,     -999,9,     -999,9,     -999,9,     -999,9,     -999,9,   2.6910
35A3CITHER3_2 ,A13        ,233     ,  1,19         ,14         ,2,19950326,0430,   2.3327,   0.3750,     4760,   2796.1,   2.7670,  34.9210,2,  34.9090,3,    242.2,2,    241.7,2,    37.00,2,    21.10,2,     1.35,2,    0.004,2,     -999,9,     -999,9,     -999,9,     -999,9,     -999,9,     -999,9,     -999,9,   2.5420
35A3CITHER3_2 ,A13        ,233     ,  1,20         ,13         ,2,19950326,0430,   2.3327,   0.3750,     4760,   2996.8,   2.6780,  34.9150,2,  34.9140,2,    239.2,2,    238.1,2,    39.80,2,    21.60,2,     1.39,2,    0.004,2,    0.003,2,     -999,9,     -999,9,     -999,9,     -999,9,     -999,9,     -999,9,   2.4350
35A3CITHER3_2 ,A13        ,233     ,  1,21         ,12         ,2,19950326,0430,   2.3327,   0.3750,     4760,   3195.4,   2.5710,  34.9070,2,  34.9080,2,    239.1,2,    239.3,2,    41.70,2,    21.50,2,     1.37,2,    0.000,2,    0.000,2,     -999,9,     -999,9,     -999,9,     -999,9,     -999,9,     -999,9,   2.3090
35A3CITHER3_2 ,A13        ,233     ,  1,22         ,11         ,2,19950326,0430,   2.3327,   0.3750,     4760,   3396.4,   2.4920,  34.9030,2,  34.9000,2,    239.1,2,    238.5,2,    43.70,2,    21.50,2,     1.40,2,    0.005,2,    0.002,2,     -999,9,     -999,9,     -999,9,     -999,9,     -999,9,     -999,9,   2.2110
35A3CITHER3_2 ,A13        ,233     ,  1,23         ,10         ,2,19950326,0430,   2.3327,   0.3750,     4760,   3596.2,   2.4370,  34.8970,2,  34.8960,2,    241.1,2,    239.1,2,    45.20,2,    21.80,2,     1.41,2,    0.002,2,    0.000,2,     -999,9,     -999,9,     -999,9,     -999,9,     -999,9,     -999,9,   2.1360
35A3CITHER3_2 ,A13        ,233     ,  1,24         ,9          ,2,19950326,0430,   2.3327,   0.3750,     4760,   3796.2,   2.3910,  34.8940,2,  34.8940,2,    239.4,2,    239.5,2,    46.80,2,    21.80,2,     1.41,2,    0.000,2,    0.004,2,     -999,9,     -999,9,     -999,9,     -999,9,     -999,9,     -999,9,   2.0690
35A3CITHER3_2 ,A13        ,233     ,  1,25         ,8          ,2,19950326,0430,   2.3327,   0.3750,     4760,   3996.0,   2.3510,  34.8900,2,  34.8890,2,    236.9,2,    237.2,2,    48.90,2,    22.00,2,     1.41,2,    0.000,2,    0.000,2,     -999,9,     -999,9,     -999,9,     -999,9,     -999,9,     -999,9,   2.0070
35A3CITHER3_2 ,A13        ,233     ,  1,26         ,7          ,2,19950326,0430,   2.3327,   0.3750,     4760,   4196.2,   2.3050,  34.8830,2,  34.8810,2,    238.5,2,    239.2,2,    50.10,2,    22.10,2,     1.42,2,    0.000,2,    0.000,2,     -999,9,     -999,9,     -999,9,     -999,9,     -999,9,     -999,9,   1.9400
35A3CITHER3_2 ,A13        ,233     ,  1,27         ,6          ,2,19950326,0430,   2.3327,   0.3750,     4760,   4397.8,   2.2630,  34.8780,2,  34.8770,2,    238.9,2,    239.6,2,    51.50,2,    22.50,2,     1.43,2,    0.000,2,    0.001,2,     -999,9,     -999,9,     -999,9,     -999,9,     -999,9,     -999,9,   1.8750
35A3CITHER3_2 ,A13        ,233     ,  1,28         ,5          ,2,19950326,0430,   2.3327,   0.3750,     4760,   4597.2,   2.2400,  34.8730,2,  34.8750,2,    238.6,2,    239.3,2,    53.00,2,    22.60,2,     1.45,2,    0.000,2,    0.000,2,     -999,9,     -999,9,     -999,9,     -999,9,     -999,9,     -999,9,   1.8290
35A3CITHER3_2 ,A13        ,233     ,  1,29         ,4          ,2,19950326,0430,   2.3327,   0.3750,     4760,   4747.6,   2.2200,  34.8690,2,  34.8670,2,    231.2,2,    228.1,2,    59.00,2,    23.40,2,     1.50,2,     -999,9,     -999,9,     -999,9,     -999,9,     -999,9,     -999,9,     -999,9,     -999,9,   1.7920
35A3CITHER3_2 ,A13        ,233     ,  1,30         ,3          ,2,19950326,0430,   2.3327,   0.3750,     4760,   4816.9,   2.2070,  34.8660,2,  34.8650,2,    224.1,2,    226.0,2,    61.10,2,    23.70,2,     1.52,2,     -999,9,     -999,9,     -999,9,     -999,9,     -999,9,     -999,9,     -999,9,     -999,9,   1.7700