BOTTLE,20211216CCHDHYDRO
EXPOCODE,SECT_ID,STNNBR,CASTNO,SAMPNO,BTLNBR,BTLNBR_FLAG_W,DATE,TIME,LATITUDE,LONGITUDE,DEPTH,CTDPRS,CTDTMP,CTDSAL,CTDSAL_FLAG_W,SALNTY,SALNTY_FLAG_W,CTDOXY,CTDOXY_FLAG_W,OXYGEN,OXYGEN_FLAG_W,SILCAT,SILCAT_FLAG_W,NITRAT,NITRAT_FLAG_W,PHSPHT,PHSPHT_FLAG_W,CFC-11,CFC-11_FLAG_W,CFC-12,CFC-12_FLAG_W,TCARBN,TCARBN_FLAG_W,ALKALI,ALKALI_FLAG_W,TRITUM,TRITUM_FLAG_W,HELIUM,HELIUM_FLAG_W,DELHE3,DELHE3_FLAG_W,NEON,NEON_FLAG_W,THETA
,,,,,,,,,,,METERS,DBAR,DEG C,PSS-78,,PSS-78,,UMOL/KG,,UMOL/KG,,UMOL/KG,,UMOL/KG,,UMOL/KG,,PMOL/KG,,PMOL/KG,,UMOL/KG,,UMOL/KG,,TU,,NMOL/KG,,PERCNT,,NMOL/KG,,DEG C
35A3CITHER3_2 ,A13        ,211     ,  1,1          ,32         ,2,19950321,0545,  -4.7168,   4.8315,     4993,   2994.0,   2.6360,  34.9080,2,     -999,9,    238.5,2,     -999,9,     -999,9,     -999,9,     -999,9,    0.003,2,    0.009,2,     -999,9,     -999,9,     -999,9,     -999,9,     -999,9,     -999,9,   2.3940
35A3CITHER3_2 ,A13        ,211     ,  1,5          ,28         ,2,19950321,0545,  -4.7168,   4.8315,     4993,   2994.2,   2.6360,  34.9080,2,     -999,9,    238.5,2,     -999,9,     -999,9,     -999,9,     -999,9,    0.002,2,    0.005,2,     -999,9,     -999,9,     -999,9,     -999,9,     -999,9,     -999,9,   2.3940
35A3CITHER3_2 ,A13        ,211     ,  1,2          ,31         ,2,19950321,0545,  -4.7168,   4.8315,     4993,   2994.5,   2.6360,  34.9080,2,     -999,9,    238.5,2,     -999,9,     -999,9,     -999,9,     -999,9,    0.000,2,    0.005,2,     -999,9,     -999,9,     -999,9,     -999,9,     -999,9,     -999,9,   2.3940
35A3CITHER3_2 ,A13        ,211     ,  1,3          ,30         ,2,19950321,0545,  -4.7168,   4.8315,     4993,   2994.5,   2.6360,  34.9080,2,     -999,9,    238.5,2,     -999,9,     -999,9,     -999,9,     -999,9,    0.001,2,    0.007,2,     -999,9,     -999,9,     -999,9,     -999,9,     -999,9,     -999,9,   2.3940
35A3CITHER3_2 ,A13        ,211     ,  1,6          ,27         ,2,19950321,0545,  -4.7168,   4.8315,     4993,   2994.7,   2.6360,  34.9080,2,     -999,9,    238.5,2,     -999,9,     -999,9,     -999,9,     -999,9,    0.004,2,    0.021,2,     -999,9,     -999,9,     -999,9,     -999,9,     -999,9,     -999,9,   2.3940
35A3CITHER3_2 ,A13        ,211     ,  1,4          ,29         ,2,19950321,0545,  -4.7168,   4.8315,     4993,   2994.8,   2.6360,  34.9080,2,     -999,9,    238.5,2,     -999,9,     -999,9,     -999,9,     -999,9,    0.001,2,    0.005,2,     -999,9,     -999,9,     -999,9,     -999,9,     -999,9,     -999,9,   2.3940
35A3CITHER3_2 ,A13        ,211     ,  1,7          ,26         ,2,19950321,0545,  -4.7168,   4.8315,     4993,   2994.9,   2.6360,  34.9090,2,     -999,9,    238.5,2,     -999,9,     -999,9,     -999,9,     -999,9,    0.001,2,    0.010,2,     -999,9,     -999,9,     -999,9,     -999,9,     -999,9,     -999,9,   2.3940
35A3CITHER3_2 ,A13        ,211     ,  1,10         ,23         ,2,19950321,0545,  -4.7168,   4.8315,     4993,   2995.0,   2.6360,  34.9080,2,     -999,9,    238.5,2,     -999,9,     -999,9,     -999,9,     -999,9,    0.005,2,    0.005,2,     -999,9,     -999,9,     -999,9,     -999,9,     -999,9,     -999,9,   2.3940
35A3CITHER3_2 ,A13        ,211     ,  1,12         ,21         ,2,19950321,0545,  -4.7168,   4.8315,     4993,   2995.0,   2.6360,  34.9080,2,     -999,9,    238.5,2,     -999,9,     -999,9,     -999,9,     -999,9,    0.000,2,    0.007,2,     -999,9,     -999,9,     -999,9,     -999,9,     -999,9,     -999,9,   2.3940
35A3CITHER3_2 ,A13        ,211     ,  1,8          ,25         ,2,19950321,0545,  -4.7168,   4.8315,     4993,   2995.2,   2.6360,  34.9090,2,     -999,9,    238.5,2,     -999,9,     -999,9,     -999,9,     -999,9,    0.002,2,    0.005,2,     -999,9,     -999,9,     -999,9,     -999,9,     -999,9,     -999,9,   2.3940
35A3CITHER3_2 ,A13        ,211     ,  1,11         ,22         ,2,19950321,0545,  -4.7168,   4.8315,     4993,   2995.3,   2.6360,  34.9090,2,     -999,9,    238.5,2,     -999,9,     -999,9,     -999,9,     -999,9,    0.001,2,    0.024,2,     -999,9,     -999,9,     -999,9,     -999,9,     -999,9,     -999,9,   2.3940
35A3CITHER3_2 ,A13        ,211     ,  1,17         ,16         ,2,19950321,0545,  -4.7168,   4.8315,     4993,   2995.3,   2.6360,  34.9090,2,  34.9080,2,    238.5,2,    237.5,2,    42.00,2,    21.60,2,     1.41,2,    0.001,2,    0.010,2,     -999,9,     -999,9,     -999,9,     -999,9,     -999,9,     -999,9,   2.3940
35A3CITHER3_2 ,A13        ,211     ,  1,9          ,24         ,2,19950321,0545,  -4.7168,   4.8315,     4993,   2995.5,   2.6360,  34.9090,2,     -999,9,    238.5,2,     -999,9,     -999,9,     -999,9,     -999,9,    0.001,2,    0.009,2,     -999,9,     -999,9,     -999,9,     -999,9,     -999,9,     -999,9,   2.3940
35A3CITHER3_2 ,A13        ,211     ,  1,13         ,20         ,2,19950321,0545,  -4.7168,   4.8315,     4993,   2995.5,   2.6360,  34.9070,2,     -999,9,    238.5,2,     -999,9,     -999,9,     -999,9,     -999,9,    0.000,2,    0.007,2,     -999,9,     -999,9,     -999,9,     -999,9,     -999,9,     -999,9,   2.3940
35A3CITHER3_2 ,A13        ,211     ,  1,16         ,17         ,2,19950321,0545,  -4.7168,   4.8315,     4993,   2995.6,   2.6360,  34.9090,2,     -999,9,    238.5,2,     -999,9,     -999,9,     -999,9,     -999,9,    0.003,2,    0.007,2,     -999,9,     -999,9,     -999,9,     -999,9,     -999,9,     -999,9,   2.3940
35A3CITHER3_2 ,A13        ,211     ,  1,18         ,15         ,2,19950321,0545,  -4.7168,   4.8315,     4993,   2995.8,   2.6360,  34.9080,2,  34.9080,2,    238.5,2,    235.8,2,    42.40,2,    21.30,2,     1.42,2,    0.000,2,    0.007,2,     -999,9,     -999,9,     -999,9,     -999,9,     -999,9,     -999,9,   2.3940
35A3CITHER3_2 ,A13        ,211     ,  1,20         ,13         ,2,19950321,0545,  -4.7168,   4.8315,     4993,   2995.8,   2.6360,  34.9070,2,  34.9070,2,    238.5,2,    237.0,2,    42.30,2,    21.00,2,     1.42,2,    0.001,2,    0.007,2,     -999,9,     -999,9,     -999,9,     -999,9,     -999,9,     -999,9,   2.3940
35A3CITHER3_2 ,A13        ,211     ,  1,21         ,12         ,2,19950321,0545,  -4.7168,   4.8315,     4993,   2995.8,   2.6360,  34.9080,2,  34.9080,2,    238.5,2,    236.1,2,    42.00,2,    21.00,2,     1.41,2,    0.000,2,    0.006,2,     -999,9,     -999,9,     -999,9,     -999,9,     -999,9,     -999,9,   2.3940
35A3CITHER3_2 ,A13        ,211     ,  1,31         ,2          ,2,19950321,0545,  -4.7168,   4.8315,     4993,   2995.8,   2.6360,  34.9080,2,  34.9090,2,    238.5,2,    235.7,2,    42.10,2,    20.80,2,     1.38,2,    0.000,2,    0.005,2,     -999,9,     -999,9,     -999,9,     -999,9,     -999,9,     -999,9,   2.3940
35A3CITHER3_2 ,A13        ,211     ,  1,14         ,19         ,2,19950321,0545,  -4.7168,   4.8315,     4993,   2996.0,   2.6360,  34.9080,2,     -999,9,    238.5,2,     -999,9,     -999,9,     -999,9,     -999,9,    0.001,2,    0.005,2,     -999,9,     -999,9,     -999,9,     -999,9,     -999,9,     -999,9,   2.3940
35A3CITHER3_2 ,A13        ,211     ,  1,28         ,5          ,2,19950321,0545,  -4.7168,   4.8315,     4993,   2996.0,   2.6360,  34.9080,2,  34.9100,2,    238.5,2,    235.9,2,    42.00,2,    21.00,2,     1.40,2,    0.000,2,    0.006,2,     -999,9,     -999,9,     -999,9,     -999,9,     -999,9,     -999,9,   2.3940
35A3CITHER3_2 ,A13        ,211     ,  1,15         ,18         ,2,19950321,0545,  -4.7168,   4.8315,     4993,   2996.1,   2.6360,  34.9080,2,     -999,9,    238.5,2,     -999,9,     -999,9,     -999,9,     -999,9,    0.002,2,    0.008,2,     -999,9,     -999,9,     -999,9,     -999,9,     -999,9,     -999,9,   2.3940
35A3CITHER3_2 ,A13        ,211     ,  1,19         ,14         ,2,19950321,0545,  -4.7168,   4.8315,     4993,   2996.1,   2.6360,  34.9080,2,  34.9090,2,    238.5,2,    236.3,2,    42.10,2,    21.40,2,     1.42,2,    0.002,2,    0.011,2,     -999,9,     -999,9,     -999,9,     -999,9,     -999,9,     -999,9,   2.3940
35A3CITHER3_2 ,A13        ,211     ,  1,29         ,4          ,2,19950321,0545,  -4.7168,   4.8315,     4993,   2996.1,   2.6360,  34.9080,2,  34.9100,2,    238.5,2,    235.8,2,    42.30,2,    21.70,2,     1.38,2,    0.000,2,    0.005,2,     -999,9,     -999,9,     -999,9,     -999,9,     -999,9,     -999,9,   2.3940
35A3CITHER3_2 ,A13        ,211     ,  1,22         ,11         ,2,19950321,0545,  -4.7168,   4.8315,     4993,   2996.4,   2.6360,  34.9080,2,  34.9090,2,    238.5,2,    236.5,2,    42.00,2,    21.10,2,     1.42,2,    0.001,2,    0.003,2,     -999,9,     -999,9,     -999,9,     -999,9,     -999,9,     -999,9,   2.3940
35A3CITHER3_2 ,A13        ,211     ,  1,23         ,10         ,2,19950321,0545,  -4.7168,   4.8315,     4993,   2996.4,   2.6360,  34.9080,2,  34.9080,2,    238.5,2,    235.8,2,    41.80,2,    21.80,2,     1.42,2,    0.000,2,    0.007,2,     -999,9,     -999,9,     -999,9,     -999,9,     -999,9,     -999,9,   2.3940
35A3CITHER3_2 ,A13        ,211     ,  1,24         ,9          ,2,19950321,0545,  -4.7168,   4.8315,     4993,   2996.4,   2.6360,  34.9080,2,  34.9050,2,    238.5,2,    235.5,2,    42.00,2,    20.90,2,     1.41,2,    0.001,2,    0.006,2,     -999,9,     -999,9,     -999,9,     -999,9,     -999,9,     -999,9,   2.3940
35A3CITHER3_2 ,A13        ,211     ,  1,30         ,3          ,2,19950321,0545,  -4.7168,   4.8315,     4993,   2996.5,   2.6360,  34.9080,2,  34.9110,2,    238.5,2,    235.4,2,    42.00,2,    21.10,2,     1.41,2,    0.000,2,    0.004,2,     -999,9,     -999,9,     -999,9,     -999,9,     -999,9,     -999,9,   2.3940
35A3CITHER3_2 ,A13        ,211     ,  1,25         ,8          ,2,19950321,0545,  -4.7168,   4.8315,     4993,   2996.6,   2.6360,  34.9080,2,  34.9030,2,    238.5,2,    235.4,2,    41.70,2,    21.00,2,     1.40,2,    0.001,2,    0.005,2,     -999,9,     -999,9,     -999,9,     -999,9,     -999,9,     -999,9,   2.3940
35A3CITHER3_2 ,A13        ,211     ,  1,26         ,7          ,2,19950321,0545,  -4.7168,   4.8315,     4993,   2996.6,   2.6360,  34.9080,2,     -999,9,    238.5,2,    242.5,2,     -999,9,     -999,9,     -999,9,    0.000,2,    0.005,2,     -999,9,     -999,9,     -999,9,     -999,9,     -999,9,     -999,9,   2.3940
35A3CITHER3_2 ,A13        ,211     ,  1,32         ,1          ,2,19950321,0545,  -4.7168,   4.8315,     4993,   2996.6,   2.6360,  34.9080,2,  34.9100,2,    238.5,2,    235.4,2,    41.10,2,    20.50,2,     1.36,2,    0.000,2,    0.004,2,     -999,9,     -999,9,     -999,9,     -999,9,     -999,9,     -999,9,   2.3940
35A3CITHER3_2 ,A13        ,211     ,  1,27         ,6          ,2,19950321,0545,  -4.7168,   4.8315,     4993,   2996.9,   2.6360,  34.9080,2,  34.9100,2,    238.5,2,    235.4,2,    42.50,2,    21.60,2,     1.42,2,    0.002,2,    0.006,2,     -999,9,     -999,9,     -999,9,     -999,9,     -999,9,     -999,9,   2.3940