BOTTLE,20211216CCHDHYDRO
EXPOCODE,SECT_ID,STNNBR,CASTNO,SAMPNO,BTLNBR,BTLNBR_FLAG_W,DATE,TIME,LATITUDE,LONGITUDE,DEPTH,CTDPRS,CTDTMP,CTDSAL,CTDSAL_FLAG_W,SALNTY,SALNTY_FLAG_W,CTDOXY,CTDOXY_FLAG_W,OXYGEN,OXYGEN_FLAG_W,SILCAT,SILCAT_FLAG_W,NITRAT,NITRAT_FLAG_W,PHSPHT,PHSPHT_FLAG_W,CFC-11,CFC-11_FLAG_W,CFC-12,CFC-12_FLAG_W,TCARBN,TCARBN_FLAG_W,ALKALI,ALKALI_FLAG_W,TRITUM,TRITUM_FLAG_W,HELIUM,HELIUM_FLAG_W,DELHE3,DELHE3_FLAG_W,NEON,NEON_FLAG_W,THETA
,,,,,,,,,,,METERS,DBAR,DEG C,PSS-78,,PSS-78,,UMOL/KG,,UMOL/KG,,UMOL/KG,,UMOL/KG,,UMOL/KG,,PMOL/KG,,PMOL/KG,,UMOL/KG,,UMOL/KG,,TU,,NMOL/KG,,PERCNT,,NMOL/KG,,DEG C
35A3CITHER3_2 ,A13        ,140     ,  1,2          ,31         ,2,19950301,2300, -34.4993,  10.0020,     5021,      4.5,  20.5470,  35.7200,2,  35.7210,2,    226.2,2,    227.5,2,     2.60,2,     0.00,2,     0.12,2,    2.233,2,    1.135,2,     -999,9,     -999,9,     -999,9,     -999,9,     -999,9,     -999,9,  20.5460
35A3CITHER3_2 ,A13        ,140     ,  1,1          ,32         ,2,19950301,2300, -34.4993,  10.0020,     5021,      4.6,  20.5440,  35.7200,2,  35.7200,2,    226.2,2,    227.5,2,     2.30,2,     0.00,2,     0.13,2,    2.258,2,    1.144,2,     -999,9,     -999,9,     -999,9,     -999,9,     -999,9,     -999,9,  20.5430
35A3CITHER3_2 ,A13        ,140     ,  1,3          ,30         ,2,19950301,2300, -34.4993,  10.0020,     5021,     46.8,  20.1810,  35.6800,2,  35.6870,3,    229.3,2,    229.5,2,     2.80,2,     0.00,2,     0.12,2,    2.283,2,    1.148,2,     -999,9,     -999,9,     -999,9,     -999,9,     -999,9,     -999,9,  20.1720
35A3CITHER3_2 ,A13        ,140     ,  1,4          ,29         ,2,19950301,2300, -34.4993,  10.0020,     5021,    120.9,  15.4590,  35.4480,2,  35.4510,2,    239.7,2,    226.2,3,     3.70,2,     3.60,2,     0.35,2,    2.724,2,    1.339,2,     -999,9,     -999,9,     -999,9,     -999,9,     -999,9,     -999,9,  15.4400
35A3CITHER3_2 ,A13        ,140     ,  1,5          ,28         ,2,19950301,2300, -34.4993,  10.0020,     5021,    196.4,  13.8890,  35.2010,2,  35.2050,3,    224.5,2,    227.9,2,     3.60,2,     5.70,3,     0.50,2,    2.852,2,    1.562,2,     -999,9,     -999,9,     -999,9,     -999,9,     -999,9,     -999,9,  13.8610
35A3CITHER3_2 ,A13        ,140     ,  1,6          ,27         ,2,19950301,2300, -34.4993,  10.0020,     5021,    394.0,  10.5350,  34.8490,2,  34.8500,2,    213.1,2,    217.3,3,     5.90,2,    14.20,2,     1.01,2,    2.630,2,    1.202,2,     -999,9,     -999,9,     -999,9,     -999,9,     -999,9,     -999,9,  10.4870
35A3CITHER3_2 ,A13        ,140     ,  1,7          ,26         ,2,19950301,2300, -34.4993,  10.0020,     5021,    595.6,   6.5410,  34.4250,2,  34.4240,2,    221.7,2,    217.4,3,    13.80,2,    24.60,2,     1.61,2,    2.259,2,    1.009,2,     -999,9,     -999,9,     -999,9,     -999,9,     -999,9,     -999,9,   6.4860
35A3CITHER3_2 ,A13        ,140     ,  1,8          ,25         ,2,19950301,2300, -34.4993,  10.0020,     5021,    795.5,   4.4340,  34.2780,2,  34.2800,2,    221.1,2,    231.4,3,    21.30,2,    28.30,2,     1.89,2,    1.946,2,    0.867,2,     -999,9,     -999,9,     -999,9,     -999,9,     -999,9,     -999,9,   4.3730
35A3CITHER3_2 ,A13        ,140     ,  1,9          ,24         ,2,19950301,2300, -34.4993,  10.0020,     5021,    994.5,   3.6240,  34.3760,2,  34.3760,2,    201.0,2,    200.8,2,    40.20,2,    30.90,2,     2.08,2,    0.861,2,    0.395,2,     -999,9,     -999,9,     -999,9,     -999,9,     -999,9,     -999,9,   3.5520
35A3CITHER3_2 ,A13        ,140     ,  1,10         ,23         ,2,19950301,2300, -34.4993,  10.0020,     5021,   1194.7,   3.3180,  34.4810,2,  34.4810,2,    183.7,2,    180.6,2,    54.40,2,    32.40,2,     2.23,2,    0.394,2,    0.184,2,     -999,9,     -999,9,     -999,9,     -999,9,     -999,9,     -999,9,   3.2320
35A3CITHER3_2 ,A13        ,140     ,  1,11         ,22         ,2,19950301,2300, -34.4993,  10.0020,     5021,   1395.9,   2.9790,  34.5860,2,  34.5850,2,    177.1,2,    176.0,2,    63.00,2,    32.00,2,     2.13,2,    0.140,2,    0.069,2,     -999,9,     -999,9,     -999,9,     -999,9,     -999,9,     -999,9,   2.8800
35A3CITHER3_2 ,A13        ,140     ,  1,12         ,21         ,2,19950301,2300, -34.4993,  10.0020,     5021,   1594.0,   2.8230,  34.6830,2,  34.6830,2,    186.6,2,    184.3,2,    61.40,2,    30.60,2,     2.07,2,    0.050,2,    0.023,2,     -999,9,     -999,9,     -999,9,     -999,9,     -999,9,     -999,9,   2.7090
35A3CITHER3_2 ,A13        ,140     ,  1,13         ,20         ,2,19950301,2300, -34.4993,  10.0020,     5021,   1794.8,   2.8000,  34.7480,2,  34.7500,2,    195.6,2,    196.3,2,    56.60,2,    27.20,2,     1.80,2,    0.018,2,    0.013,2,     -999,9,     -999,9,     -999,9,     -999,9,     -999,9,     -999,9,   2.6690
35A3CITHER3_2 ,A13        ,140     ,  1,14         ,19         ,2,19950301,2300, -34.4993,  10.0020,     5021,   1994.3,   2.7350,  34.7930,2,  34.7940,2,    205.4,2,    206.3,2,    54.50,2,    26.90,2,     1.80,2,    0.011,2,    0.009,2,     -999,9,     -999,9,     -999,9,     -999,9,     -999,9,     -999,9,   2.5870
35A3CITHER3_2 ,A13        ,140     ,  1,15         ,18         ,2,19950301,2300, -34.4993,  10.0020,     5021,   2194.1,   2.6740,  34.8210,2,  34.8210,2,    213.9,2,    214.6,2,    52.50,2,    25.70,2,     1.66,2,    0.009,2,    0.002,2,     -999,9,     -999,9,     -999,9,     -999,9,     -999,9,     -999,9,   2.5090
35A3CITHER3_2 ,A13        ,140     ,  1,16         ,17         ,2,19950301,2300, -34.4993,  10.0020,     5021,   2395.7,   2.6080,  34.8360,2,  34.8360,2,    220.2,2,    221.0,2,    52.00,2,    25.60,2,     1.67,2,     -999,9,     -999,9,     -999,9,     -999,9,     -999,9,     -999,9,     -999,9,     -999,9,   2.4260
35A3CITHER3_2 ,A13        ,140     ,  1,17         ,16         ,2,19950301,2300, -34.4993,  10.0020,     5021,   2395.7,   2.6080,  34.8360,2,  34.8370,2,    220.2,2,    220.7,2,    51.70,2,    25.50,2,     1.64,2,    0.007,2,     -999,9,     -999,9,     -999,9,     -999,9,     -999,9,     -999,9,     -999,9,   2.4260
35A3CITHER3_2 ,A13        ,140     ,  1,18         ,15         ,2,19950301,2300, -34.4993,  10.0020,     5021,   2595.1,   2.4780,  34.8410,2,  34.8410,2,    224.5,2,    223.9,2,    54.50,2,    24.70,2,     1.58,2,    0.007,2,     -999,9,     -999,9,     -999,9,     -999,9,     -999,9,     -999,9,     -999,9,   2.2790
35A3CITHER3_2 ,A13        ,140     ,  1,19         ,14         ,2,19950301,2300, -34.4993,  10.0020,     5021,   2796.5,   2.3910,  34.8460,2,  34.8460,2,    227.3,2,    227.1,2,    55.20,2,    24.40,2,     1.56,2,    0.000,2,    0.002,2,     -999,9,     -999,9,     -999,9,     -999,9,     -999,9,     -999,9,   2.1740
35A3CITHER3_2 ,A13        ,140     ,  1,20         ,13         ,2,19950301,2300, -34.4993,  10.0020,     5021,   2994.9,   2.3190,  34.8470,2,  34.8470,2,    229.2,2,    228.4,2,    56.90,2,    24.40,2,     1.60,2,    0.004,2,    0.006,2,     -999,9,     -999,9,     -999,9,     -999,9,     -999,9,     -999,9,   2.0840
35A3CITHER3_2 ,A13        ,140     ,  1,21         ,12         ,2,19950301,2300, -34.4993,  10.0020,     5021,   3196.1,   2.2620,  34.8470,2,  34.8480,2,    230.2,2,    229.2,2,    58.30,2,    24.60,2,     1.59,2,    0.003,2,    0.006,2,     -999,9,     -999,9,     -999,9,     -999,9,     -999,9,     -999,9,   2.0080
35A3CITHER3_2 ,A13        ,140     ,  1,22         ,11         ,2,19950301,2300, -34.4993,  10.0020,     5021,   3197.0,   2.2620,  34.8470,2,  34.8490,2,    230.3,2,    228.9,2,    58.80,2,    24.80,2,     1.58,2,    0.003,2,     -999,9,     -999,9,     -999,9,     -999,9,     -999,9,     -999,9,     -999,9,   2.0080
35A3CITHER3_2 ,A13        ,140     ,  1,23         ,10         ,2,19950301,2300, -34.4993,  10.0020,     5021,   3395.9,   2.1680,  34.8440,2,  34.8450,2,    229.7,2,    228.6,2,    60.80,2,    24.30,2,     1.60,2,    0.006,2,     -999,9,     -999,9,     -999,9,     -999,9,     -999,9,     -999,9,     -999,9,   1.8950
35A3CITHER3_2 ,A13        ,140     ,  1,24         ,9          ,2,19950301,2300, -34.4993,  10.0020,     5021,   3596.5,   2.0070,  34.8280,2,  34.8290,2,    227.2,2,    225.8,2,    68.20,2,    25.40,2,     1.66,2,     -999,9,     -999,9,     -999,9,     -999,9,     -999,9,     -999,9,     -999,9,     -999,9,   1.7170
35A3CITHER3_2 ,A13        ,140     ,  1,25         ,8          ,2,19950301,2300, -34.4993,  10.0020,     5021,   3795.0,   1.7590,  34.8030,2,  34.8010,2,    224.4,2,    222.8,2,    79.60,2,    26.70,2,     1.74,2,     -999,9,     -999,9,     -999,9,     -999,9,     -999,9,     -999,9,     -999,9,     -999,9,   1.4540
35A3CITHER3_2 ,A13        ,140     ,  1,26         ,7          ,2,19950301,2300, -34.4993,  10.0020,     5021,   3995.8,   1.5170,  34.7770,2,  34.7780,2,    220.7,2,    220.0,2,    89.40,2,    27.20,2,     1.82,2,    0.009,2,    0.011,2,     -999,9,     -999,9,     -999,9,     -999,9,     -999,9,     -999,9,   1.1970
35A3CITHER3_2 ,A13        ,140     ,  1,27         ,6          ,2,19950301,2300, -34.4993,  10.0020,     5021,   4195.0,   1.2560,  34.7550,2,  34.7530,2,    218.8,2,    218.4,2,    99.20,2,    29.20,2,     1.88,2,    0.008,2,     -999,9,     -999,9,     -999,9,     -999,9,     -999,9,     -999,9,     -999,9,   0.9220
35A3CITHER3_2 ,A13        ,140     ,  1,28         ,5          ,2,19950301,2300, -34.4993,  10.0020,     5021,   4394.9,   1.1590,  34.7450,2,  34.7450,2,    218.3,2,    217.8,2,   103.40,2,    29.80,2,     1.91,2,    0.013,2,    0.011,2,     -999,9,     -999,9,     -999,9,     -999,9,     -999,9,     -999,9,   0.8060
35A3CITHER3_2 ,A13        ,140     ,  1,29         ,4          ,2,19950301,2300, -34.4993,  10.0020,     5021,   4595.8,   1.1170,  34.7380,2,  34.7390,2,    217.6,2,    217.3,2,   105.90,2,    29.40,2,     1.92,2,    0.015,2,     -999,9,     -999,9,     -999,9,     -999,9,     -999,9,     -999,9,     -999,9,   0.7430
35A3CITHER3_2 ,A13        ,140     ,  1,30         ,3          ,2,19950301,2300, -34.4993,  10.0020,     5021,   4798.3,   1.1040,  34.7360,2,  34.7360,2,    218.2,2,    217.2,2,   107.10,2,    29.80,2,     1.94,2,    0.014,2,    0.006,2,     -999,9,     -999,9,     -999,9,     -999,9,     -999,9,     -999,9,   0.7070
35A3CITHER3_2 ,A13        ,140     ,  1,31         ,2          ,2,19950301,2300, -34.4993,  10.0020,     5021,   4996.0,   1.1070,  34.7330,2,  34.7340,2,    218.5,2,    217.2,2,   108.30,2,    30.40,2,     1.96,2,    0.015,2,    0.014,2,     -999,9,     -999,9,     -999,9,     -999,9,     -999,9,     -999,9,   0.6860
35A3CITHER3_2 ,A13        ,140     ,  1,32         ,1          ,2,19950301,2300, -34.4993,  10.0020,     5021,   5091.2,   1.1180,  34.7340,2,  34.7340,2,    217.9,2,    217.0,2,   108.10,2,    30.50,2,     1.96,2,    0.019,2,    0.013,2,     -999,9,     -999,9,     -999,9,     -999,9,     -999,9,     -999,9,   0.6850