BOTTLE,20211216CCHDHYDRO
EXPOCODE,SECT_ID,STNNBR,CASTNO,SAMPNO,BTLNBR,BTLNBR_FLAG_W,DATE,TIME,LATITUDE,LONGITUDE,DEPTH,CTDPRS,CTDTMP,CTDSAL,CTDSAL_FLAG_W,SALNTY,SALNTY_FLAG_W,CTDOXY,CTDOXY_FLAG_W,OXYGEN,OXYGEN_FLAG_W,SILCAT,SILCAT_FLAG_W,NITRAT,NITRAT_FLAG_W,PHSPHT,PHSPHT_FLAG_W,CFC-11,CFC-11_FLAG_W,CFC-12,CFC-12_FLAG_W,TCARBN,TCARBN_FLAG_W,ALKALI,ALKALI_FLAG_W,TRITUM,TRITUM_FLAG_W,HELIUM,HELIUM_FLAG_W,DELHE3,DELHE3_FLAG_W,NEON,NEON_FLAG_W,THETA
,,,,,,,,,,,METERS,DBAR,DEG C,PSS-78,,PSS-78,,UMOL/KG,,UMOL/KG,,UMOL/KG,,UMOL/KG,,UMOL/KG,,PMOL/KG,,PMOL/KG,,UMOL/KG,,UMOL/KG,,TU,,NMOL/KG,,PERCNT,,NMOL/KG,,DEG C
35A3CITHER3_2 ,A13        ,189     ,  1,1          ,32         ,2,19950315,1710, -14.9978,   5.0022,     5486,      6.3,  26.0000,  36.4280,2,  36.4290,2,    202.8,2,    204.7,2,     3.40,2,     0.00,2,     0.17,2,    1.801,2,    0.956,2,     -999,9,     -999,9,     -999,9,     -999,9,     -999,9,     -999,9,  25.9990
35A3CITHER3_2 ,A13        ,189     ,  1,2          ,31         ,2,19950315,1710, -14.9978,   5.0022,     5486,     45.8,  19.1610,  35.8580,2,  35.8400,3,    236.9,2,    215.6,3,     2.90,2,     7.70,2,     0.63,2,    2.392,2,    1.208,2,     -999,9,     -999,9,     -999,9,     -999,9,     -999,9,     -999,9,  19.1530
35A3CITHER3_2 ,A13        ,189     ,  1,3          ,30         ,2,19950315,1710, -14.9978,   5.0022,     5486,    121.9,  13.4060,  35.3230,2,  35.3210,2,     19.2,2,     29.1,3,    11.00,2,    29.90,2,     1.80,2,    1.081,2,    0.539,2,     -999,9,     -999,9,     -999,9,     -999,9,     -999,9,     -999,9,  13.3890
35A3CITHER3_2 ,A13        ,189     ,  1,4          ,29         ,2,19950315,1710, -14.9978,   5.0022,     5486,    196.6,  11.9620,  35.1590,2,  35.1560,2,     25.4,2,     24.9,2,    13.40,2,    32.10,2,     1.93,2,    0.552,2,    0.283,2,     -999,9,     -999,9,     -999,9,     -999,9,     -999,9,     -999,9,  11.9360
35A3CITHER3_2 ,A13        ,189     ,  1,5          ,28         ,2,19950315,1710, -14.9978,   5.0022,     5486,    395.3,   8.6340,  34.7900,2,  34.7890,2,     22.7,2,     24.7,2,    19.80,2,    38.70,2,     2.45,2,    0.100,2,    0.055,2,     -999,9,     -999,9,     -999,9,     -999,9,     -999,9,     -999,9,   8.5920
35A3CITHER3_2 ,A13        ,189     ,  1,6          ,27         ,2,19950315,1710, -14.9978,   5.0022,     5486,    597.8,   6.2420,  34.5710,2,  34.5710,2,     69.2,2,     68.0,2,    26.00,2,    39.70,2,     2.53,2,    0.013,2,    0.007,2,     -999,9,     -999,9,     -999,9,     -999,9,     -999,9,     -999,9,   6.1880
35A3CITHER3_2 ,A13        ,189     ,  1,7          ,26         ,2,19950315,1710, -14.9978,   5.0022,     5486,    795.2,   4.8150,  34.5020,2,  34.5010,2,    109.0,2,    108.2,2,    33.60,2,    38.00,2,     2.47,2,    0.006,2,    0.001,2,     -999,9,     -999,9,     -999,9,     -999,9,     -999,9,     -999,9,   4.7510
35A3CITHER3_2 ,A13        ,189     ,  1,8          ,25         ,2,19950315,1710, -14.9978,   5.0022,     5486,    996.0,   4.0540,  34.5530,2,  34.5230,3,    142.9,2,    143.6,2,    37.60,2,    34.60,2,     2.30,2,    0.003,2,    0.000,2,     -999,9,     -999,9,     -999,9,     -999,9,     -999,9,     -999,9,   3.9780
35A3CITHER3_2 ,A13        ,189     ,  1,9          ,24         ,2,19950315,1710, -14.9978,   5.0022,     5486,   1194.6,   3.8350,  34.6870,2,  34.6860,2,    160.7,2,    164.0,2,    36.80,2,    31.10,2,     2.06,2,    0.001,2,     -999,9,     -999,9,     -999,9,     -999,9,     -999,9,     -999,9,     -999,9,   3.7440
35A3CITHER3_2 ,A13        ,189     ,  1,10         ,23         ,2,19950315,1710, -14.9978,   5.0022,     5486,   1395.1,   3.7410,  34.8040,2,  34.7790,3,    183.1,2,    186.3,2,    32.90,2,    27.60,2,     1.83,2,    0.006,2,    0.007,2,     -999,9,     -999,9,     -999,9,     -999,9,     -999,9,     -999,9,   3.6330
35A3CITHER3_2 ,A13        ,189     ,  1,11         ,22         ,2,19950315,1710, -14.9978,   5.0022,     5486,   1595.7,   3.6280,  34.8760,2,  34.8790,2,    201.7,2,    204.6,2,    30.60,2,    25.00,2,     1.62,2,    0.007,2,    0.003,2,     -999,9,     -999,9,     -999,9,     -999,9,     -999,9,     -999,9,   3.5040
35A3CITHER3_2 ,A13        ,189     ,  1,12         ,21         ,2,19950315,1710, -14.9978,   5.0022,     5486,   1794.2,   3.4810,  34.9060,2,  34.9090,2,    214.4,2,    214.9,2,    30.60,2,    23.50,2,     1.53,2,    0.000,2,    0.004,2,     -999,9,     -999,9,     -999,9,     -999,9,     -999,9,     -999,9,   3.3410
35A3CITHER3_2 ,A13        ,189     ,  1,13         ,20         ,2,19950315,1710, -14.9978,   5.0022,     5486,   1994.5,   3.2980,  34.9170,2,  34.9170,2,    221.5,2,    221.9,2,    32.20,2,    22.50,2,     1.46,2,    0.000,2,    0.000,2,     -999,9,     -999,9,     -999,9,     -999,9,     -999,9,     -999,9,   3.1420
35A3CITHER3_2 ,A13        ,189     ,  1,14         ,19         ,2,19950315,1710, -14.9978,   5.0022,     5486,   2196.9,   3.1270,  34.9180,2,  34.9190,2,    225.7,2,    225.5,2,    35.00,2,    22.30,2,     1.34,2,    0.001,2,    0.000,2,     -999,9,     -999,9,     -999,9,     -999,9,     -999,9,     -999,9,   2.9540
35A3CITHER3_2 ,A13        ,189     ,  1,15         ,18         ,2,19950315,1710, -14.9978,   5.0022,     5486,   2394.6,   2.9710,  34.9170,2,  34.9160,2,    229.2,2,    228.3,2,    37.30,2,    22.40,2,     1.45,2,    0.000,2,    0.000,2,     -999,9,     -999,9,     -999,9,     -999,9,     -999,9,     -999,9,   2.7820
35A3CITHER3_2 ,A13        ,189     ,  1,16         ,17         ,2,19950315,1710, -14.9978,   5.0022,     5486,   2596.0,   2.8330,  34.9130,2,  34.9130,2,    228.1,2,    228.9,2,    40.50,2,    22.50,2,     1.48,2,    0.003,2,    0.004,2,     -999,9,     -999,9,     -999,9,     -999,9,     -999,9,     -999,9,   2.6270
35A3CITHER3_2 ,A13        ,189     ,  1,17         ,16         ,2,19950315,1710, -14.9978,   5.0022,     5486,   2796.2,   2.6780,  34.9010,2,  34.9050,2,    230.3,2,    231.8,2,    43.80,2,    22.70,2,     1.48,2,    0.007,2,    0.006,2,     -999,9,     -999,9,     -999,9,     -999,9,     -999,9,     -999,9,   2.4550
35A3CITHER3_2 ,A13        ,189     ,  1,18         ,15         ,2,19950315,1710, -14.9978,   5.0022,     5486,   2996.7,   2.5770,  34.8990,2,  34.8980,2,    228.6,2,    229.0,2,    47.10,2,    23.00,2,     1.47,2,    0.000,2,    0.000,2,     -999,9,     -999,9,     -999,9,     -999,9,     -999,9,     -999,9,   2.3360
35A3CITHER3_2 ,A13        ,189     ,  1,19         ,14         ,2,19950315,1710, -14.9978,   5.0022,     5486,   3196.4,   2.4920,  34.8950,2,  34.8950,2,    227.3,2,    227.7,2,    50.20,2,    23.10,2,     1.51,2,    0.003,2,    0.001,2,     -999,9,     -999,9,     -999,9,     -999,9,     -999,9,     -999,9,   2.2320
35A3CITHER3_2 ,A13        ,189     ,  1,20         ,13         ,2,19950315,1710, -14.9978,   5.0022,     5486,   3396.9,   2.4180,  34.8900,2,  34.8890,2,    227.6,2,    228.4,2,    52.20,2,    23.10,2,     1.48,2,    0.000,2,     -999,9,     -999,9,     -999,9,     -999,9,     -999,9,     -999,9,     -999,9,   2.1390
35A3CITHER3_2 ,A13        ,189     ,  1,21         ,12         ,2,19950315,1710, -14.9978,   5.0022,     5486,   3595.3,   2.3770,  34.8910,2,  34.8900,2,    228.7,2,    229.7,2,    53.10,2,    23.10,2,     1.50,2,    0.000,2,    0.001,2,     -999,9,     -999,9,     -999,9,     -999,9,     -999,9,     -999,9,   2.0770
35A3CITHER3_2 ,A13        ,189     ,  1,22         ,11         ,2,19950315,1710, -14.9978,   5.0022,     5486,   3796.2,   2.3600,  34.8910,2,  34.8890,2,    230.2,2,    231.0,2,    53.10,2,    23.00,2,     1.48,2,    0.005,2,    0.000,2,     -999,9,     -999,9,     -999,9,     -999,9,     -999,9,     -999,9,   2.0390
35A3CITHER3_2 ,A13        ,189     ,  1,23         ,10         ,2,19950315,1710, -14.9978,   5.0022,     5486,   3995.0,   2.3590,  34.8890,2,  34.8880,2,    231.5,2,    231.8,2,    53.10,2,    22.90,2,     1.40,2,    0.002,2,    0.005,2,     -999,9,     -999,9,     -999,9,     -999,9,     -999,9,     -999,9,   2.0150
35A3CITHER3_2 ,A13        ,189     ,  1,24         ,9          ,2,19950315,1710, -14.9978,   5.0022,     5486,   4195.2,   2.3610,  34.8870,2,  34.8890,2,    232.0,2,    232.1,2,    53.40,2,    22.80,2,     1.44,2,    0.005,2,    0.003,2,     -999,9,     -999,9,     -999,9,     -999,9,     -999,9,     -999,9,   1.9940
35A3CITHER3_2 ,A13        ,189     ,  1,25         ,8          ,2,19950315,1710, -14.9978,   5.0022,     5486,   4397.6,   2.3690,  34.8850,2,  34.8860,2,    232.8,2,    232.7,2,    53.70,2,    22.60,2,     1.45,2,    0.008,2,     -999,9,     -999,9,     -999,9,     -999,9,     -999,9,     -999,9,     -999,9,   1.9780
35A3CITHER3_2 ,A13        ,189     ,  1,26         ,7          ,2,19950315,1710, -14.9978,   5.0022,     5486,   4597.7,   2.3780,  34.8840,2,  34.8840,2,    233.2,2,    233.2,2,    54.00,2,    22.30,3,     1.42,2,    0.012,2,    0.007,2,     -999,9,     -999,9,     -999,9,     -999,9,     -999,9,     -999,9,   1.9630
35A3CITHER3_2 ,A13        ,189     ,  1,27         ,6          ,2,19950315,1710, -14.9978,   5.0022,     5486,   4796.8,   2.3890,  34.8810,2,  34.8840,2,    234.0,2,    234.2,2,    54.10,2,    22.60,2,     1.47,2,    0.003,2,   -0.001,2,     -999,9,     -999,9,     -999,9,     -999,9,     -999,9,     -999,9,   1.9490
35A3CITHER3_2 ,A13        ,189     ,  1,28         ,5          ,2,19950315,1710, -14.9978,   5.0022,     5486,   4997.3,   2.4040,  34.8810,2,  34.8820,2,    234.4,2,    234.1,2,    54.30,2,    22.40,2,     1.42,2,    0.001,2,    0.000,2,     -999,9,     -999,9,     -999,9,     -999,9,     -999,9,     -999,9,   1.9380
35A3CITHER3_2 ,A13        ,189     ,  1,29         ,4          ,2,19950315,1710, -14.9978,   5.0022,     5486,   5198.0,   2.4240,  34.8790,2,  34.8810,2,    234.9,2,    234.8,2,    54.10,2,    22.60,2,     1.47,2,    0.003,2,    0.008,2,     -999,9,     -999,9,     -999,9,     -999,9,     -999,9,     -999,9,   1.9320
35A3CITHER3_2 ,A13        ,189     ,  1,30         ,3          ,2,19950315,1710, -14.9978,   5.0022,     5486,   5397.1,   2.4450,  34.8790,2,  34.8800,2,    235.1,2,    234.4,2,    54.90,2,    22.80,2,     1.46,2,    0.003,2,    0.003,2,     -999,9,     -999,9,     -999,9,     -999,9,     -999,9,     -999,9,   1.9260
35A3CITHER3_2 ,A13        ,189     ,  1,31         ,2          ,2,19950315,1710, -14.9978,   5.0022,     5486,   5497.8,   2.4590,  34.8790,2,  34.8800,2,    235.3,2,    234.4,2,    54.40,2,    22.00,3,     1.42,2,    0.008,2,    0.004,2,     -999,9,     -999,9,     -999,9,     -999,9,     -999,9,     -999,9,   1.9260
35A3CITHER3_2 ,A13        ,189     ,  1,32         ,1          ,2,19950315,1710, -14.9978,   5.0022,     5486,   5564.3,   2.4670,  34.8800,2,  34.8810,2,    234.5,2,    234.3,2,    54.70,2,    22.40,2,     1.44,2,    0.002,2,     -999,9,     -999,9,     -999,9,     -999,9,     -999,9,     -999,9,     -999,9,   1.9250