BOTTLE,20211216CCHDHYDRO
EXPOCODE,SECT_ID,STNNBR,CASTNO,SAMPNO,BTLNBR,BTLNBR_FLAG_W,DATE,TIME,LATITUDE,LONGITUDE,DEPTH,CTDPRS,CTDTMP,CTDSAL,CTDSAL_FLAG_W,SALNTY,SALNTY_FLAG_W,CTDOXY,CTDOXY_FLAG_W,OXYGEN,OXYGEN_FLAG_W,SILCAT,SILCAT_FLAG_W,NITRAT,NITRAT_FLAG_W,PHSPHT,PHSPHT_FLAG_W,CFC-11,CFC-11_FLAG_W,CFC-12,CFC-12_FLAG_W,TCARBN,TCARBN_FLAG_W,ALKALI,ALKALI_FLAG_W,TRITUM,TRITUM_FLAG_W,HELIUM,HELIUM_FLAG_W,DELHE3,DELHE3_FLAG_W,NEON,NEON_FLAG_W,THETA
,,,,,,,,,,,METERS,DBAR,DEG C,PSS-78,,PSS-78,,UMOL/KG,,UMOL/KG,,UMOL/KG,,UMOL/KG,,UMOL/KG,,PMOL/KG,,PMOL/KG,,UMOL/KG,,UMOL/KG,,TU,,NMOL/KG,,PERCNT,,NMOL/KG,,DEG C
35A3CITHER3_2 ,A13        ,162     ,  1,1          ,32         ,2,19950307,1118, -24.8022,   8.4828,     4711,     12.7,  22.4710,  35.3440,2,  35.3450,2,    225.3,2,    219.5,3,     2.50,2,     0.00,2,     0.27,2,    2.137,2,    1.081,2,     -999,9,     -999,9,     -999,9,     -999,9,     -999,9,     -999,9,  22.4680
35A3CITHER3_2 ,A13        ,162     ,  1,2          ,31         ,2,19950307,1118, -24.8022,   8.4828,     4711,     46.2,  22.2890,  35.3240,2,  35.3360,3,    250.2,2,    224.5,3,     2.50,2,     0.00,2,     0.27,2,    2.198,2,    1.103,2,     -999,9,     -999,9,     -999,9,     -999,9,     -999,9,     -999,9,  22.2800
35A3CITHER3_2 ,A13        ,162     ,  1,3          ,30         ,2,19950307,1118, -24.8022,   8.4828,     4711,    122.1,  14.7340,  35.3000,2,  35.3000,2,    199.7,2,    209.8,3,     4.30,2,     7.80,2,     0.58,2,    2.722,2,    1.321,2,     -999,9,     -999,9,     -999,9,     -999,9,     -999,9,     -999,9,  14.7160
35A3CITHER3_2 ,A13        ,162     ,  1,4          ,29         ,2,19950307,1118, -24.8022,   8.4828,     4711,    196.6,  12.2380,  35.0550,2,  35.0560,2,    198.4,2,    190.1,3,     6.30,2,    14.10,2,     0.99,2,    2.486,2,    1.170,2,     -999,9,     -999,9,     -999,9,     -999,9,     -999,9,     -999,9,  12.2120
35A3CITHER3_2 ,A13        ,162     ,  1,5          ,28         ,2,19950307,1118, -24.8022,   8.4828,     4711,    396.2,   8.2650,  34.6400,2,  34.6420,2,    155.1,2,    158.1,2,    14.10,2,    26.80,2,     1.67,2,    1.441,2,    0.658,2,     -999,9,     -999,9,     -999,9,     -999,9,     -999,9,     -999,9,   8.2240
35A3CITHER3_2 ,A13        ,162     ,  1,6          ,27         ,2,19950307,1118, -24.8022,   8.4828,     4711,    546.4,   5.8330,  34.4400,2,  34.4430,2,    171.3,2,    168.6,2,    21.60,2,    31.00,2,     1.99,2,    1.027,2,    0.474,2,     -999,9,     -999,9,     -999,9,     -999,9,     -999,9,     -999,9,   5.7860
35A3CITHER3_2 ,A13        ,162     ,  1,7          ,26         ,2,19950307,1118, -24.8022,   8.4828,     4711,    646.5,   4.9160,  34.4140,2,  34.4160,2,    161.7,2,    161.8,2,    27.50,2,    33.70,2,     2.10,2,    0.563,2,    0.273,2,     -999,9,     -999,9,     -999,9,     -999,9,     -999,9,     -999,9,   4.8640
35A3CITHER3_2 ,A13        ,162     ,  1,8          ,25         ,2,19950307,1118, -24.8022,   8.4828,     4711,    796.6,   4.0700,  34.4380,2,  34.4370,2,    164.2,2,    163.3,2,    36.30,2,    34.40,2,     2.23,2,    0.217,2,    0.106,2,     -999,9,     -999,9,     -999,9,     -999,9,     -999,9,     -999,9,   4.0110
35A3CITHER3_2 ,A13        ,162     ,  1,9          ,24         ,2,19950307,1118, -24.8022,   8.4828,     4711,    994.8,   3.5800,  34.5370,2,  34.5400,2,    170.1,2,    169.5,2,    42.50,2,    33.00,2,     2.17,2,    0.044,2,    0.028,2,     -999,9,     -999,9,     -999,9,     -999,9,     -999,9,     -999,9,   3.5080
35A3CITHER3_2 ,A13        ,162     ,  1,10         ,23         ,2,19950307,1118, -24.8022,   8.4828,     4711,   1195.2,   3.4320,  34.6530,2,  34.6490,2,    179.3,2,    178.5,2,    43.00,2,    30.60,2,     2.01,2,    0.023,2,    0.017,2,     -999,9,     -999,9,     -999,9,     -999,9,     -999,9,     -999,9,   3.3450
35A3CITHER3_2 ,A13        ,162     ,  1,11         ,22         ,2,19950307,1118, -24.8022,   8.4828,     4711,   1396.8,   3.3100,  34.7560,2,  34.7590,2,    194.1,2,    196.5,2,    41.00,2,    28.00,2,     1.83,2,    0.007,2,    0.005,2,     -999,9,     -999,9,     -999,9,     -999,9,     -999,9,     -999,9,   3.2070
35A3CITHER3_2 ,A13        ,162     ,  1,12         ,21         ,2,19950307,1118, -24.8022,   8.4828,     4711,   1599.3,   3.3540,  34.8440,2,  34.8440,2,    210.1,2,    210.7,2,    34.80,2,    25.40,2,     1.65,2,    0.000,2,     -999,9,     -999,9,     -999,9,     -999,9,     -999,9,     -999,9,     -999,9,   3.2330
35A3CITHER3_2 ,A13        ,162     ,  1,14         ,19         ,2,19950307,1118, -24.8022,   8.4828,     4711,   1795.8,   3.2420,  34.8670,2,  34.8690,2,    219.5,2,    218.3,2,    34.50,2,    24.30,2,     1.56,2,    0.002,2,     -999,9,     -999,9,     -999,9,     -999,9,     -999,9,     -999,9,     -999,9,   3.1050
35A3CITHER3_2 ,A13        ,162     ,  1,13         ,20         ,2,19950307,1118, -24.8022,   8.4828,     4711,   1797.0,   3.2410,  34.8690,2,  34.8700,2,    219.5,2,    218.3,2,    34.50,2,    24.40,2,     1.53,2,    0.002,2,    0.001,2,     -999,9,     -999,9,     -999,9,     -999,9,     -999,9,     -999,9,   3.1040
35A3CITHER3_2 ,A13        ,162     ,  1,15         ,18         ,2,19950307,1118, -24.8022,   8.4828,     4711,   1895.3,   3.1830,  34.8800,2,  34.8820,2,    222.9,2,    222.3,2,    34.30,2,    23.70,2,     1.47,2,     -999,9,     -999,9,     -999,9,     -999,9,     -999,9,     -999,9,     -999,9,     -999,9,   3.0370
35A3CITHER3_2 ,A13        ,162     ,  1,16         ,17         ,2,19950307,1118, -24.8022,   8.4828,     4711,   1995.6,   3.1210,  34.8850,2,  34.8880,2,    225.2,2,    224.6,2,    35.20,2,    23.60,2,     1.52,2,    0.004,2,     -999,9,     -999,9,     -999,9,     -999,9,     -999,9,     -999,9,     -999,9,   2.9670
35A3CITHER3_2 ,A13        ,162     ,  1,17         ,16         ,2,19950307,1118, -24.8022,   8.4828,     4711,   2196.6,   2.9590,  34.8890,2,  34.8910,2,    230.0,2,    229.7,2,    37.40,2,    23.10,2,     1.48,2,   -0.001,2,   -0.001,2,     -999,9,     -999,9,     -999,9,     -999,9,     -999,9,     -999,9,   2.7890
35A3CITHER3_2 ,A13        ,162     ,  1,18         ,15         ,2,19950307,1118, -24.8022,   8.4828,     4711,   2397.3,   2.8000,  34.8850,2,  34.8840,2,    232.8,2,    232.2,2,    40.30,2,    23.10,2,     1.46,2,    0.001,2,    0.007,3,     -999,9,     -999,9,     -999,9,     -999,9,     -999,9,     -999,9,   2.6140
35A3CITHER3_2 ,A13        ,162     ,  1,19         ,14         ,2,19950307,1118, -24.8022,   8.4828,     4711,   2597.3,   2.6210,  34.8780,2,  34.8790,2,    233.9,2,    233.0,2,    44.40,2,    23.30,2,     1.49,2,    0.001,2,    0.008,3,     -999,9,     -999,9,     -999,9,     -999,9,     -999,9,     -999,9,   2.4190
35A3CITHER3_2 ,A13        ,162     ,  1,20         ,13         ,2,19950307,1118, -24.8022,   8.4828,     4711,   2797.8,   2.5200,  34.8770,2,  34.8800,2,    235.1,2,    233.9,2,    46.30,2,    23.50,2,     1.51,2,    0.007,2,     -999,9,     -999,9,     -999,9,     -999,9,     -999,9,     -999,9,     -999,9,   2.3000
35A3CITHER3_2 ,A13        ,162     ,  1,21         ,12         ,2,19950307,1118, -24.8022,   8.4828,     4711,   2995.2,   2.4750,  34.8790,2,  34.8810,2,    234.7,2,    234.0,2,    47.10,2,    23.50,2,     1.50,2,     -999,9,     -999,9,     -999,9,     -999,9,     -999,9,     -999,9,     -999,9,     -999,9,   2.2360
35A3CITHER3_2 ,A13        ,162     ,  1,22         ,11         ,2,19950307,1118, -24.8022,   8.4828,     4711,   3199.2,   2.4070,  34.8730,2,  34.8610,3,    234.2,2,    232.7,2,    50.30,2,    23.50,2,     1.53,2,    0.005,2,    0.005,2,     -999,9,     -999,9,     -999,9,     -999,9,     -999,9,     -999,9,   2.1490
35A3CITHER3_2 ,A13        ,162     ,  1,23         ,10         ,2,19950307,1118, -24.8022,   8.4828,     4711,   3397.3,   2.3300,  34.8650,2,  34.8660,2,    232.7,2,    231.6,2,    53.20,2,    24.00,2,     1.55,2,   -0.001,2,    0.004,2,     -999,9,     -999,9,     -999,9,     -999,9,     -999,9,     -999,9,   2.0530
35A3CITHER3_2 ,A13        ,162     ,  1,24         ,9          ,2,19950307,1118, -24.8022,   8.4828,     4711,   3597.3,   2.2580,  34.8580,2,  34.8590,2,    232.0,2,    230.3,2,    56.20,2,    24.10,2,     1.56,2,    0.003,2,    0.001,2,     -999,9,     -999,9,     -999,9,     -999,9,     -999,9,     -999,9,   1.9610
35A3CITHER3_2 ,A13        ,162     ,  1,25         ,8          ,2,19950307,1118, -24.8022,   8.4828,     4711,   3800.0,   2.0350,  34.8340,2,  34.8370,2,    228.9,2,    227.0,2,    65.50,2,    25.30,2,     1.65,2,    0.002,2,    0.001,2,     -999,9,     -999,9,     -999,9,     -999,9,     -999,9,     -999,9,   1.7220
35A3CITHER3_2 ,A13        ,162     ,  1,26         ,7          ,2,19950307,1118, -24.8022,   8.4828,     4711,   3998.1,   1.6430,  34.7950,2,  34.7890,3,    223.5,2,    222.3,2,    83.30,2,    27.60,2,     1.79,2,    0.002,2,    0.005,2,     -999,9,     -999,9,     -999,9,     -999,9,     -999,9,     -999,9,   1.3200
35A3CITHER3_2 ,A13        ,162     ,  1,27         ,6          ,2,19950307,1118, -24.8022,   8.4828,     4711,   4199.1,   1.3330,  34.7630,2,  34.7630,2,    219.8,2,    219.0,2,    95.60,2,    29.10,2,     1.89,2,    0.003,2,    0.004,2,     -999,9,     -999,9,     -999,9,     -999,9,     -999,9,     -999,9,   0.9970
35A3CITHER3_2 ,A13        ,162     ,  1,28         ,5          ,2,19950307,1118, -24.8022,   8.4828,     4711,   4393.8,   1.1930,  34.7470,2,  34.7490,2,    217.0,2,    217.6,2,   101.90,2,    29.70,2,     1.92,2,   -0.000,2,    0.004,2,     -999,9,     -999,9,     -999,9,     -999,9,     -999,9,     -999,9,   0.8390
35A3CITHER3_2 ,A13        ,162     ,  1,30         ,3          ,2,19950307,1118, -24.8022,   8.4828,     4711,   4597.1,   1.1460,  34.7400,2,  34.7430,2,    216.7,2,    216.9,2,   104.30,2,    29.90,2,     1.96,2,    0.004,2,    0.006,2,     -999,9,     -999,9,     -999,9,     -999,9,     -999,9,     -999,9,   0.7710
35A3CITHER3_2 ,A13        ,162     ,  1,29         ,4          ,2,19950307,1118, -24.8022,   8.4828,     4711,   4598.2,   1.1470,  34.7400,2,  34.7410,2,    216.7,2,    216.3,2,   104.30,2,    29.80,2,     1.94,2,    0.004,2,    0.004,2,     -999,9,     -999,9,     -999,9,     -999,9,     -999,9,     -999,9,   0.7710
35A3CITHER3_2 ,A13        ,162     ,  1,31         ,2          ,2,19950307,1118, -24.8022,   8.4828,     4711,   4696.3,   1.1380,  34.7380,2,  34.7410,2,    217.1,2,    218.5,2,   106.30,2,    30.10,2,     1.97,2,    0.005,2,    0.007,2,     -999,9,     -999,9,     -999,9,     -999,9,     -999,9,     -999,9,   0.7510
35A3CITHER3_2 ,A13        ,162     ,  1,32         ,1          ,2,19950307,1118, -24.8022,   8.4828,     4711,   4753.9,   1.1390,  34.7370,2,  34.7420,2,    215.6,2,    218.1,2,   106.00,2,    29.80,2,     1.96,2,    0.005,2,    0.006,2,     -999,9,     -999,9,     -999,9,     -999,9,     -999,9,     -999,9,   0.7460