BOTTLE,20211216CCHDHYDRO
EXPOCODE,SECT_ID,STNNBR,CASTNO,SAMPNO,BTLNBR,BTLNBR_FLAG_W,DATE,TIME,LATITUDE,LONGITUDE,DEPTH,CTDPRS,CTDTMP,CTDSAL,CTDSAL_FLAG_W,SALNTY,SALNTY_FLAG_W,CTDOXY,CTDOXY_FLAG_W,OXYGEN,OXYGEN_FLAG_W,SILCAT,SILCAT_FLAG_W,NITRAT,NITRAT_FLAG_W,PHSPHT,PHSPHT_FLAG_W,CFC-11,CFC-11_FLAG_W,CFC-12,CFC-12_FLAG_W,TCARBN,TCARBN_FLAG_W,ALKALI,ALKALI_FLAG_W,TRITUM,TRITUM_FLAG_W,HELIUM,HELIUM_FLAG_W,DELHE3,DELHE3_FLAG_W,NEON,NEON_FLAG_W,THETA
,,,,,,,,,,,METERS,DBAR,DEG C,PSS-78,,PSS-78,,UMOL/KG,,UMOL/KG,,UMOL/KG,,UMOL/KG,,UMOL/KG,,PMOL/KG,,PMOL/KG,,UMOL/KG,,UMOL/KG,,TU,,NMOL/KG,,PERCNT,,NMOL/KG,,DEG C
35A3CITHER3_2 ,A13        ,184     ,  1,1          ,32         ,2,19950314,0916, -17.5040,   5.0015,     5448,      6.0,  24.7260,  36.1460,2,  36.1470,2,    211.8,2,    209.8,2,     2.10,2,     0.00,2,     0.16,2,    1.875,2,    1.001,2,     -999,9,     -999,9,     -999,9,     -999,9,     -999,9,     -999,9,  24.7250
35A3CITHER3_2 ,A13        ,184     ,  1,2          ,31         ,2,19950314,0916, -17.5040,   5.0015,     5448,     46.2,  19.1090,  35.7360,2,  35.6510,3,    253.2,2,    239.6,3,     2.40,2,     1.00,2,     0.32,2,    2.370,2,    1.226,2,     -999,9,     -999,9,     -999,9,     -999,9,     -999,9,     -999,9,  19.1010
35A3CITHER3_2 ,A13        ,184     ,  1,3          ,30         ,2,19950314,0916, -17.5040,   5.0015,     5448,    120.0,  13.6810,  35.2150,2,  35.2260,3,    182.9,2,    166.2,3,     6.30,2,    14.80,2,     0.95,2,    2.465,2,    1.193,2,     -999,9,     -999,9,     -999,9,     -999,9,     -999,9,     -999,9,  13.6640
35A3CITHER3_2 ,A13        ,184     ,  1,4          ,29         ,2,19950314,0916, -17.5040,   5.0015,     5448,    196.5,  11.7680,  35.0330,2,  35.0330,2,    146.6,2,    132.1,3,     9.40,2,    21.50,2,     1.36,2,    1.862,2,    0.892,2,     -999,9,     -999,9,     -999,9,     -999,9,     -999,9,     -999,9,  11.7430
35A3CITHER3_2 ,A13        ,184     ,  1,5          ,28         ,2,19950314,0916, -17.5040,   5.0015,     5448,    371.3,   8.7010,  34.7610,2,  34.7600,2,     61.3,2,     60.1,2,    17.70,2,    35.50,2,     2.19,2,    0.358,2,    0.212,2,     -999,9,     -999,9,     -999,9,     -999,9,     -999,9,     -999,9,   8.6610
35A3CITHER3_2 ,A13        ,184     ,  1,6          ,27         ,2,19950314,0916, -17.5040,   5.0015,     5448,    445.9,   7.4970,  34.6530,2,  34.6520,2,     78.7,2,     78.1,2,    20.20,2,    36.00,2,     2.25,2,    0.162,2,    0.083,2,     -999,9,     -999,9,     -999,9,     -999,9,     -999,9,     -999,9,   7.4530
35A3CITHER3_2 ,A13        ,184     ,  1,7          ,26         ,2,19950314,0916, -17.5040,   5.0015,     5448,    596.8,   5.9970,  34.5390,2,  34.5420,2,     97.6,2,     95.3,2,    25.10,2,    37.50,2,     2.35,2,    0.035,2,    0.024,2,     -999,9,     -999,9,     -999,9,     -999,9,     -999,9,     -999,9,   5.9440
35A3CITHER3_2 ,A13        ,184     ,  1,8          ,25         ,2,19950314,0916, -17.5040,   5.0015,     5448,    795.5,   4.5970,  34.4730,2,  34.4720,2,    140.8,2,    132.7,3,    32.50,2,    36.20,2,     2.34,2,    0.015,2,    0.004,2,     -999,9,     -999,9,     -999,9,     -999,9,     -999,9,     -999,9,   4.5340
35A3CITHER3_2 ,A13        ,184     ,  1,9          ,24         ,2,19950314,0916, -17.5040,   5.0015,     5448,    994.5,   3.8550,  34.5250,2,  34.5220,2,    163.4,2,    162.0,2,    38.30,2,    33.70,2,     2.19,2,    0.005,2,   -0.001,2,     -999,9,     -999,9,     -999,9,     -999,9,     -999,9,     -999,9,   3.7810
35A3CITHER3_2 ,A13        ,184     ,  1,10         ,23         ,2,19950314,0916, -17.5040,   5.0015,     5448,   1195.3,   3.6810,  34.6590,2,  34.6490,3,    173.9,2,    171.8,2,    38.20,2,    31.00,2,     2.05,2,    0.003,2,    0.005,2,     -999,9,     -999,9,     -999,9,     -999,9,     -999,9,     -999,9,   3.5910
35A3CITHER3_2 ,A13        ,184     ,  1,11         ,22         ,2,19950314,0916, -17.5040,   5.0015,     5448,   1394.0,   3.5930,  34.7810,2,  34.7850,2,    195.4,2,    197.0,2,    34.40,2,    27.30,2,     1.81,2,    0.008,2,    0.001,2,     -999,9,     -999,9,     -999,9,     -999,9,     -999,9,     -999,9,   3.4870
35A3CITHER3_2 ,A13        ,184     ,  1,12         ,21         ,2,19950314,0916, -17.5040,   5.0015,     5448,   1596.3,   3.4990,  34.8660,2,  34.8640,2,    213.5,2,    211.8,2,    30.80,2,    24.80,2,     1.60,2,    0.001,2,     -999,9,     -999,9,     -999,9,     -999,9,     -999,9,     -999,9,     -999,9,   3.3760
35A3CITHER3_2 ,A13        ,184     ,  1,13         ,20         ,2,19950314,0916, -17.5040,   5.0015,     5448,   1795.6,   3.3600,  34.8990,2,  34.9000,2,    221.1,2,    219.7,2,    30.90,2,    23.50,2,     1.50,2,    0.002,2,    0.001,2,     -999,9,     -999,9,     -999,9,     -999,9,     -999,9,     -999,9,   3.2210
35A3CITHER3_2 ,A13        ,184     ,  1,14         ,19         ,2,19950314,0916, -17.5040,   5.0015,     5448,   1996.0,   3.2090,  34.9090,2,  34.9110,2,    227.2,2,    225.9,2,    32.50,2,    22.50,2,     1.45,2,    0.002,2,   -0.001,2,     -999,9,     -999,9,     -999,9,     -999,9,     -999,9,     -999,9,   3.0540
35A3CITHER3_2 ,A13        ,184     ,  1,15         ,18         ,2,19950314,0916, -17.5040,   5.0015,     5448,   2194.9,   3.0550,  34.9130,2,  34.9140,2,    228.1,2,    228.2,2,    35.00,2,    22.60,2,     1.45,2,    0.000,2,     -999,9,     -999,9,     -999,9,     -999,9,     -999,9,     -999,9,     -999,9,   2.8840
35A3CITHER3_2 ,A13        ,184     ,  1,16         ,17         ,2,19950314,0916, -17.5040,   5.0015,     5448,   2399.5,   2.9110,  34.9090,2,  34.9110,2,    230.4,2,    229.7,2,    37.60,2,    22.70,2,     1.47,2,    0.001,2,   -0.001,2,     -999,9,     -999,9,     -999,9,     -999,9,     -999,9,     -999,9,   2.7230
35A3CITHER3_2 ,A13        ,184     ,  1,17         ,16         ,2,19950314,0916, -17.5040,   5.0015,     5448,   2596.5,   2.7570,  34.9030,2,  34.9050,2,    231.9,2,    231.3,2,    40.50,2,    22.70,2,     1.47,2,    0.008,2,    0.007,2,     -999,9,     -999,9,     -999,9,     -999,9,     -999,9,     -999,9,   2.5520
35A3CITHER3_2 ,A13        ,184     ,  1,18         ,15         ,2,19950314,0916, -17.5040,   5.0015,     5448,   2793.6,   2.6330,  34.8990,2,  34.8960,2,    230.5,2,    229.8,2,    44.10,2,    23.00,2,     1.49,2,    0.004,2,    0.005,2,     -999,9,     -999,9,     -999,9,     -999,9,     -999,9,     -999,9,   2.4110
35A3CITHER3_2 ,A13        ,184     ,  1,19         ,14         ,2,19950314,0916, -17.5040,   5.0015,     5448,   2996.4,   2.5440,  34.8970,2,  34.8970,2,    229.4,2,    228.9,2,    46.90,2,    23.10,2,     1.50,2,    0.000,2,    0.003,2,     -999,9,     -999,9,     -999,9,     -999,9,     -999,9,     -999,9,   2.3040
35A3CITHER3_2 ,A13        ,184     ,  1,20         ,13         ,2,19950314,0916, -17.5040,   5.0015,     5448,   3197.3,   2.4660,  34.8920,2,  34.8940,2,    229.7,2,    229.6,2,    49.10,2,    23.20,2,     1.50,2,    0.000,2,    0.003,2,     -999,9,     -999,9,     -999,9,     -999,9,     -999,9,     -999,9,   2.2070
35A3CITHER3_2 ,A13        ,184     ,  1,21         ,12         ,2,19950314,0916, -17.5040,   5.0015,     5448,   3397.5,   2.4130,  34.8920,2,  34.8910,2,    228.7,2,    229.4,2,    50.80,2,    23.40,2,     1.52,2,    0.000,2,    0.004,2,     -999,9,     -999,9,     -999,9,     -999,9,     -999,9,     -999,9,   2.1340
35A3CITHER3_2 ,A13        ,184     ,  1,22         ,11         ,2,19950314,0916, -17.5040,   5.0015,     5448,   3594.7,   2.3870,  34.8900,2,  34.8920,2,    229.7,2,    229.8,2,    50.90,2,    23.20,2,     1.50,2,    0.001,2,    0.002,2,     -999,9,     -999,9,     -999,9,     -999,9,     -999,9,     -999,9,   2.0870
35A3CITHER3_2 ,A13        ,184     ,  1,23         ,10         ,2,19950314,0916, -17.5040,   5.0015,     5448,   3796.6,   2.3710,  34.8900,2,  34.8940,2,    230.3,2,    231.1,2,    51.40,2,    23.10,2,     1.48,2,    0.000,2,     -999,9,     -999,9,     -999,9,     -999,9,     -999,9,     -999,9,     -999,9,   2.0490
35A3CITHER3_2 ,A13        ,184     ,  1,24         ,9          ,2,19950314,0916, -17.5040,   5.0015,     5448,   3996.7,   2.3670,  34.8890,2,  34.8870,2,    231.9,2,    232.9,2,    51.30,2,    23.10,2,     1.47,2,    0.004,2,   -0.005,2,     -999,9,     -999,9,     -999,9,     -999,9,     -999,9,     -999,9,   2.0230
35A3CITHER3_2 ,A13        ,184     ,  1,25         ,8          ,2,19950314,0916, -17.5040,   5.0015,     5448,   4195.9,   2.3710,  34.8880,2,  34.8880,2,    232.5,2,    232.6,2,    51.30,2,    22.90,2,     1.49,2,    0.003,2,    0.001,2,     -999,9,     -999,9,     -999,9,     -999,9,     -999,9,     -999,9,   2.0040
35A3CITHER3_2 ,A13        ,184     ,  1,26         ,7          ,2,19950314,0916, -17.5040,   5.0015,     5448,   4397.5,   2.3790,  34.8860,2,  34.8850,2,    233.1,2,    233.2,2,    51.40,2,    22.70,2,     1.48,2,    0.000,2,    0.006,2,     -999,9,     -999,9,     -999,9,     -999,9,     -999,9,     -999,9,   1.9880
35A3CITHER3_2 ,A13        ,184     ,  1,27         ,6          ,2,19950314,0916, -17.5040,   5.0015,     5448,   4596.9,   2.3890,  34.8860,2,  34.8860,2,    233.2,2,    233.4,2,    51.70,2,    22.90,2,     1.45,2,   -0.001,2,    0.001,2,     -999,9,     -999,9,     -999,9,     -999,9,     -999,9,     -999,9,   1.9730
35A3CITHER3_2 ,A13        ,184     ,  1,28         ,5          ,2,19950314,0916, -17.5040,   5.0015,     5448,   4796.8,   2.4000,  34.8830,2,  34.8830,2,    233.3,2,    233.7,2,    52.40,2,    21.50,3,     1.39,2,    0.000,2,    0.000,2,     -999,9,     -999,9,     -999,9,     -999,9,     -999,9,     -999,9,   1.9600
35A3CITHER3_2 ,A13        ,184     ,  1,29         ,4          ,2,19950314,0916, -17.5040,   5.0015,     5448,   4996.6,   2.4150,  34.8810,2,  34.8810,2,    234.5,2,    234.6,2,    52.50,2,    22.60,2,     1.40,2,    0.003,2,    0.005,2,     -999,9,     -999,9,     -999,9,     -999,9,     -999,9,     -999,9,   1.9490
35A3CITHER3_2 ,A13        ,184     ,  1,30         ,3          ,2,19950314,0916, -17.5040,   5.0015,     5448,   5197.8,   2.4330,  34.8820,2,  34.8820,2,    234.7,2,    234.6,2,    52.70,2,    22.50,2,     1.42,2,    0.001,2,    0.000,2,     -999,9,     -999,9,     -999,9,     -999,9,     -999,9,     -999,9,   1.9410
35A3CITHER3_2 ,A13        ,184     ,  1,31         ,2          ,2,19950314,0916, -17.5040,   5.0015,     5448,   5447.0,   2.4640,  34.8800,2,  34.8810,2,    234.8,2,    234.6,2,    52.40,2,    22.80,2,     1.45,2,    0.005,2,    0.008,2,     -999,9,     -999,9,     -999,9,     -999,9,     -999,9,     -999,9,   1.9380
35A3CITHER3_2 ,A13        ,184     ,  1,32         ,1          ,2,19950314,0916, -17.5040,   5.0015,     5448,   5524.7,   2.4740,  34.8810,2,  34.8830,2,    234.5,2,    234.5,2,    52.80,2,    22.80,2,     1.40,2,    0.004,2,     -999,9,     -999,9,     -999,9,     -999,9,     -999,9,     -999,9,     -999,9,   1.9370