BOTTLE,20211216CCHDHYDRO
EXPOCODE,SECT_ID,STNNBR,CASTNO,SAMPNO,BTLNBR,BTLNBR_FLAG_W,DATE,TIME,LATITUDE,LONGITUDE,DEPTH,CTDPRS,CTDTMP,CTDSAL,CTDSAL_FLAG_W,SALNTY,SALNTY_FLAG_W,CTDOXY,CTDOXY_FLAG_W,OXYGEN,OXYGEN_FLAG_W,SILCAT,SILCAT_FLAG_W,NITRAT,NITRAT_FLAG_W,PHSPHT,PHSPHT_FLAG_W,CFC-11,CFC-11_FLAG_W,CFC-12,CFC-12_FLAG_W,TCARBN,TCARBN_FLAG_W,ALKALI,ALKALI_FLAG_W,TRITUM,TRITUM_FLAG_W,HELIUM,HELIUM_FLAG_W,DELHE3,DELHE3_FLAG_W,NEON,NEON_FLAG_W,THETA
,,,,,,,,,,,METERS,DBAR,DEG C,PSS-78,,PSS-78,,UMOL/KG,,UMOL/KG,,UMOL/KG,,UMOL/KG,,UMOL/KG,,PMOL/KG,,PMOL/KG,,UMOL/KG,,UMOL/KG,,TU,,NMOL/KG,,PERCNT,,NMOL/KG,,DEG C
35A3CITHER3_2 ,A13        ,190     ,  1,1          ,32         ,2,19950315,2329, -14.5000,   5.0008,     5503,      3.9,  26.3430,  36.4070,2,  36.4080,2,    189.1,2,    202.2,3,     4.50,2,     0.00,2,     0.19,2,    1.682,2,    0.912,2,     -999,9,     -999,9,     -999,9,     -999,9,     -999,9,     -999,9,  26.3420
35A3CITHER3_2 ,A13        ,190     ,  1,2          ,31         ,2,19950315,2329, -14.5000,   5.0008,     5503,     76.4,  14.0940,  35.4220,2,  35.4210,2,     43.5,2,     27.1,3,    10.10,2,    28.70,2,     1.79,2,    1.142,2,    0.571,2,     -999,9,     -999,9,     -999,9,     -999,9,     -999,9,     -999,9,  14.0830
35A3CITHER3_2 ,A13        ,190     ,  1,3          ,30         ,2,19950315,2329, -14.5000,   5.0008,     5503,    110.7,  12.8820,  35.2490,2,  35.2410,3,     34.6,2,     34.3,2,    11.60,2,    29.70,2,     1.86,2,    1.073,2,    0.541,2,     -999,9,     -999,9,     -999,9,     -999,9,     -999,9,     -999,9,  12.8670
35A3CITHER3_2 ,A13        ,190     ,  1,4          ,29         ,2,19950315,2329, -14.5000,   5.0008,     5503,    195.1,  11.3670,  35.0880,2,  35.0870,2,     22.6,2,     25.3,2,    14.40,2,    33.10,2,     2.06,2,    0.416,2,    0.225,2,     -999,9,     -999,9,     -999,9,     -999,9,     -999,9,     -999,9,  11.3420
35A3CITHER3_2 ,A13        ,190     ,  1,5          ,28         ,2,19950315,2329, -14.5000,   5.0008,     5503,    396.5,   8.3710,  34.7610,2,  34.7580,2,     38.2,2,     40.5,2,    19.60,2,    38.30,2,     2.38,2,    0.083,2,    0.046,2,     -999,9,     -999,9,     -999,9,     -999,9,     -999,9,     -999,9,   8.3290
35A3CITHER3_2 ,A13        ,190     ,  1,6          ,27         ,2,19950315,2329, -14.5000,   5.0008,     5503,    595.3,   6.0330,  34.5540,2,  34.5540,2,     66.1,2,     80.8,3,    26.20,2,    38.30,2,     2.59,2,    0.015,2,    0.007,2,     -999,9,     -999,9,     -999,9,     -999,9,     -999,9,     -999,9,   5.9800
35A3CITHER3_2 ,A13        ,190     ,  1,7          ,26         ,2,19950315,2329, -14.5000,   5.0008,     5503,    794.4,   4.7710,  34.4970,2,  34.4990,2,    110.1,2,    111.6,2,    33.20,2,    37.50,2,     2.53,2,    0.006,2,    0.000,2,     -999,9,     -999,9,     -999,9,     -999,9,     -999,9,     -999,9,   4.7070
35A3CITHER3_2 ,A13        ,190     ,  1,8          ,25         ,2,19950315,2329, -14.5000,   5.0008,     5503,    994.5,   4.0890,  34.5520,2,  34.5280,3,    140.8,2,    143.6,2,    36.80,2,    34.50,2,     2.37,2,    0.006,2,    0.000,2,     -999,9,     -999,9,     -999,9,     -999,9,     -999,9,     -999,9,   4.0130
35A3CITHER3_2 ,A13        ,190     ,  1,9          ,24         ,2,19950315,2329, -14.5000,   5.0008,     5503,   1195.6,   3.8260,  34.6810,2,  34.6790,2,    166.0,2,    167.4,2,    36.40,2,    30.70,2,     2.16,2,    0.010,2,   -0.002,2,     -999,9,     -999,9,     -999,9,     -999,9,     -999,9,     -999,9,   3.7350
35A3CITHER3_2 ,A13        ,190     ,  1,10         ,23         ,2,19950315,2329, -14.5000,   5.0008,     5503,   1395.0,   3.7670,  34.8100,2,  34.8100,2,    184.3,2,    185.2,2,    32.50,2,    27.30,2,     1.87,2,    0.007,2,    0.004,2,     -999,9,     -999,9,     -999,9,     -999,9,     -999,9,     -999,9,   3.6590
35A3CITHER3_2 ,A13        ,190     ,  1,11         ,22         ,2,19950315,2329, -14.5000,   5.0008,     5503,   1595.1,   3.6690,  34.8840,2,  34.8860,2,    204.4,2,    204.7,2,    29.60,2,    24.70,2,     1.69,2,    0.001,2,     -999,9,     -999,9,     -999,9,     -999,9,     -999,9,     -999,9,     -999,9,   3.5440
35A3CITHER3_2 ,A13        ,190     ,  1,12         ,21         ,2,19950315,2329, -14.5000,   5.0008,     5503,   1794.9,   3.5020,  34.9070,2,  34.9090,2,    215.0,2,    215.4,2,    29.90,2,    23.30,2,     1.58,2,    0.005,2,     -999,9,     -999,9,     -999,9,     -999,9,     -999,9,     -999,9,     -999,9,   3.3610
35A3CITHER3_2 ,A13        ,190     ,  1,13         ,20         ,2,19950315,2329, -14.5000,   5.0008,     5503,   1995.2,   3.3520,  34.9210,2,  34.9220,2,    220.6,2,    220.0,2,    32.40,2,    22.30,2,     1.49,2,    0.001,2,    0.001,2,     -999,9,     -999,9,     -999,9,     -999,9,     -999,9,     -999,9,   3.1950
35A3CITHER3_2 ,A13        ,190     ,  1,14         ,19         ,2,19950315,2329, -14.5000,   5.0008,     5503,   2195.9,   3.1760,  34.9220,2,  34.9240,2,    223.9,2,    223.5,2,    34.60,2,    22.40,2,     1.49,2,    0.000,2,   -0.001,2,     -999,9,     -999,9,     -999,9,     -999,9,     -999,9,     -999,9,   3.0020
35A3CITHER3_2 ,A13        ,190     ,  1,15         ,18         ,2,19950315,2329, -14.5000,   5.0008,     5503,   2395.6,   3.0130,  34.9200,2,  34.9210,2,    226.3,2,    226.3,2,    37.30,2,    22.20,2,     1.49,2,    0.005,2,   -0.002,2,     -999,9,     -999,9,     -999,9,     -999,9,     -999,9,     -999,9,   2.8230
35A3CITHER3_2 ,A13        ,190     ,  1,16         ,17         ,2,19950315,2329, -14.5000,   5.0008,     5503,   2596.5,   2.8550,  34.9130,2,  34.9130,2,    229.6,2,    229.2,2,    39.90,2,    22.30,2,     1.49,2,    0.001,2,    0.004,2,     -999,9,     -999,9,     -999,9,     -999,9,     -999,9,     -999,9,   2.6480
35A3CITHER3_2 ,A13        ,190     ,  1,17         ,16         ,2,19950315,2329, -14.5000,   5.0008,     5503,   2795.2,   2.7030,  34.9060,2,  34.9060,2,    230.2,2,    230.3,2,    43.30,2,    22.40,2,     1.49,2,    0.003,2,    0.001,2,     -999,9,     -999,9,     -999,9,     -999,9,     -999,9,     -999,9,   2.4800
35A3CITHER3_2 ,A13        ,190     ,  1,18         ,15         ,2,19950315,2329, -14.5000,   5.0008,     5503,   2997.2,   2.5970,  34.9020,2,  34.9000,2,    228.6,2,    229.2,2,    46.60,2,    22.60,2,     1.49,2,    0.001,2,    0.003,2,     -999,9,     -999,9,     -999,9,     -999,9,     -999,9,     -999,9,   2.3550
35A3CITHER3_2 ,A13        ,190     ,  1,19         ,14         ,2,19950315,2329, -14.5000,   5.0008,     5503,   3195.1,   2.4980,  34.8970,2,  34.8950,2,    227.8,2,    228.3,2,    49.90,2,    22.70,2,     1.53,2,    0.002,2,     -999,9,     -999,9,     -999,9,     -999,9,     -999,9,     -999,9,     -999,9,   2.2380
35A3CITHER3_2 ,A13        ,190     ,  1,20         ,13         ,2,19950315,2329, -14.5000,   5.0008,     5503,   3396.0,   2.4300,  34.8920,2,  34.8930,2,    227.0,2,    228.2,2,    51.70,2,    22.70,2,     1.50,2,    0.004,2,    0.006,2,     -999,9,     -999,9,     -999,9,     -999,9,     -999,9,     -999,9,   2.1510
35A3CITHER3_2 ,A13        ,190     ,  1,21         ,12         ,2,19950315,2329, -14.5000,   5.0008,     5503,   3597.2,   2.3770,  34.8920,2,  34.8900,2,    228.0,2,    229.1,2,    52.60,2,    22.60,2,     1.50,2,    0.004,2,    0.004,2,     -999,9,     -999,9,     -999,9,     -999,9,     -999,9,     -999,9,   2.0770
35A3CITHER3_2 ,A13        ,190     ,  1,22         ,11         ,2,19950315,2329, -14.5000,   5.0008,     5503,   3797.1,   2.3580,  34.8900,2,  34.8880,2,    228.5,2,    229.1,2,    53.20,2,    22.60,2,     1.49,2,    0.009,2,    0.006,2,     -999,9,     -999,9,     -999,9,     -999,9,     -999,9,     -999,9,   2.0370
35A3CITHER3_2 ,A13        ,190     ,  1,23         ,10         ,2,19950315,2329, -14.5000,   5.0008,     5503,   3995.8,   2.3560,  34.8900,2,  34.8930,2,    231.0,2,    231.4,2,    52.90,2,    22.60,2,     1.48,2,    0.004,2,     -999,9,     -999,9,     -999,9,     -999,9,     -999,9,     -999,9,     -999,9,   2.0120
35A3CITHER3_2 ,A13        ,190     ,  1,24         ,9          ,2,19950315,2329, -14.5000,   5.0008,     5503,   4196.0,   2.3600,  34.8880,2,  34.8880,2,    231.8,2,    232.2,2,    53.60,2,    22.70,2,     1.49,2,    0.000,2,   -0.002,2,     -999,9,     -999,9,     -999,9,     -999,9,     -999,9,     -999,9,   1.9930
35A3CITHER3_2 ,A13        ,190     ,  1,25         ,8          ,2,19950315,2329, -14.5000,   5.0008,     5503,   4397.7,   2.3690,  34.8860,2,  34.8870,2,    232.4,2,    232.9,2,    54.30,2,    22.60,2,     1.48,2,    0.002,2,    0.001,2,     -999,9,     -999,9,     -999,9,     -999,9,     -999,9,     -999,9,   1.9780
35A3CITHER3_2 ,A13        ,190     ,  1,26         ,7          ,2,19950315,2329, -14.5000,   5.0008,     5503,   4596.4,   2.3780,  34.8840,2,  34.8840,2,    233.4,2,    233.4,2,    54.20,2,    22.60,2,     1.47,2,    0.001,2,   -0.001,2,     -999,9,     -999,9,     -999,9,     -999,9,     -999,9,     -999,9,   1.9630
35A3CITHER3_2 ,A13        ,190     ,  1,27         ,6          ,2,19950315,2329, -14.5000,   5.0008,     5503,   4797.7,   2.3910,  34.8840,2,  34.8840,2,    234.0,2,    234.0,2,    54.20,2,    22.60,2,     1.48,2,    0.003,2,    0.005,2,     -999,9,     -999,9,     -999,9,     -999,9,     -999,9,     -999,9,   1.9510
35A3CITHER3_2 ,A13        ,190     ,  1,28         ,5          ,2,19950315,2329, -14.5000,   5.0008,     5503,   4996.7,   2.4040,  34.8810,2,  34.8810,2,    234.4,2,    234.0,2,    54.20,2,    22.40,2,     1.51,2,    0.005,2,   -0.004,2,     -999,9,     -999,9,     -999,9,     -999,9,     -999,9,     -999,9,   1.9380
35A3CITHER3_2 ,A13        ,190     ,  1,29         ,4          ,2,19950315,2329, -14.5000,   5.0008,     5503,   5196.7,   2.4240,  34.8800,2,  34.8800,2,    234.7,2,    234.5,2,    54.20,2,    22.30,2,     1.46,2,    0.006,2,    0.007,2,     -999,9,     -999,9,     -999,9,     -999,9,     -999,9,     -999,9,   1.9320
35A3CITHER3_2 ,A13        ,190     ,  1,30         ,3          ,2,19950315,2329, -14.5000,   5.0008,     5503,   5398.4,   2.4470,  34.8790,2,  34.8810,2,    234.8,2,    234.5,2,    54.40,2,    22.30,2,     1.48,2,    0.001,2,    0.002,2,     -999,9,     -999,9,     -999,9,     -999,9,     -999,9,     -999,9,   1.9280
35A3CITHER3_2 ,A13        ,190     ,  1,31         ,2          ,2,19950315,2329, -14.5000,   5.0008,     5503,   5498.4,   2.4580,  34.8800,2,  34.8790,2,    235.0,2,    234.6,2,    54.20,2,    22.10,2,     1.46,2,    0.008,2,    0.004,2,     -999,9,     -999,9,     -999,9,     -999,9,     -999,9,     -999,9,   1.9250
35A3CITHER3_2 ,A13        ,190     ,  1,32         ,1          ,2,19950315,2329, -14.5000,   5.0008,     5503,   5578.5,   2.4680,  34.8800,2,  34.8800,2,    234.4,2,    234.3,2,    54.70,2,    22.30,2,     1.45,2,    0.001,2,   -0.001,2,     -999,9,     -999,9,     -999,9,     -999,9,     -999,9,     -999,9,   1.9240