BOTTLE,20211216CCHDHYDRO
EXPOCODE,SECT_ID,STNNBR,CASTNO,SAMPNO,BTLNBR,BTLNBR_FLAG_W,DATE,TIME,LATITUDE,LONGITUDE,DEPTH,CTDPRS,CTDTMP,CTDSAL,CTDSAL_FLAG_W,SALNTY,SALNTY_FLAG_W,CTDOXY,CTDOXY_FLAG_W,OXYGEN,OXYGEN_FLAG_W,SILCAT,SILCAT_FLAG_W,NITRAT,NITRAT_FLAG_W,PHSPHT,PHSPHT_FLAG_W,CFC-11,CFC-11_FLAG_W,CFC-12,CFC-12_FLAG_W,TCARBN,TCARBN_FLAG_W,ALKALI,ALKALI_FLAG_W,TRITUM,TRITUM_FLAG_W,HELIUM,HELIUM_FLAG_W,DELHE3,DELHE3_FLAG_W,NEON,NEON_FLAG_W,THETA
,,,,,,,,,,,METERS,DBAR,DEG C,PSS-78,,PSS-78,,UMOL/KG,,UMOL/KG,,UMOL/KG,,UMOL/KG,,UMOL/KG,,PMOL/KG,,PMOL/KG,,UMOL/KG,,UMOL/KG,,TU,,NMOL/KG,,PERCNT,,NMOL/KG,,DEG C
35A3CITHER3_2 ,A13        ,199     ,  1,1          ,32         ,2,19950318,0448, -10.5005,   4.9997,     5501,      4.3,  28.0570,  36.3350,2,  36.3320,2,    196.2,2,    197.5,2,     4.00,2,     0.00,2,     0.08,2,    1.605,2,    0.861,2,     -999,9,     -999,9,     -999,9,     -999,9,     -999,9,     -999,9,  28.0560
35A3CITHER3_2 ,A13        ,199     ,  1,2          ,31         ,2,19950318,0448, -10.5005,   4.9997,     5501,     45.2,  16.9000,  35.6990,2,  35.6840,3,    182.5,2,     98.5,3,     6.90,2,    17.00,2,     1.00,2,    1.411,2,    0.712,2,     -999,9,     -999,9,     -999,9,     -999,9,     -999,9,     -999,9,  16.8930
35A3CITHER3_2 ,A13        ,199     ,  1,3          ,30         ,2,19950318,0448, -10.5005,   4.9997,     5501,    122.6,  13.5140,  35.3450,2,  35.3380,3,     73.4,2,     74.3,2,    10.80,2,    24.90,2,     1.52,2,    1.002,2,    0.509,2,     -999,9,     -999,9,     -999,9,     -999,9,     -999,9,     -999,9,  13.4970
35A3CITHER3_2 ,A13        ,199     ,  1,4          ,29         ,2,19950318,0448, -10.5005,   4.9997,     5501,    195.7,  12.4200,  35.2120,2,  35.2110,2,     68.3,2,     67.6,2,    12.30,2,    27.00,2,     1.64,2,    0.756,2,    0.394,2,     -999,9,     -999,9,     -999,9,     -999,9,     -999,9,     -999,9,  12.3940
35A3CITHER3_2 ,A13        ,199     ,  1,5          ,28         ,2,19950318,0448, -10.5005,   4.9997,     5501,    396.4,   9.1740,  34.8480,2,  34.8490,2,     25.9,2,     23.9,2,    19.40,2,    37.70,2,     2.31,2,    0.113,2,    0.075,2,     -999,9,     -999,9,     -999,9,     -999,9,     -999,9,     -999,9,   9.1300
35A3CITHER3_2 ,A13        ,199     ,  1,6          ,27         ,2,19950318,0448, -10.5005,   4.9997,     5501,    595.6,   6.4210,  34.5990,2,  34.5990,2,     48.8,2,     55.0,3,    26.40,2,    40.70,2,     2.58,2,    0.005,2,    0.003,2,     -999,9,     -999,9,     -999,9,     -999,9,     -999,9,     -999,9,   6.3670
35A3CITHER3_2 ,A13        ,199     ,  1,7          ,26         ,2,19950318,0448, -10.5005,   4.9997,     5501,    795.5,   4.8360,  34.5040,2,  34.5060,2,    106.8,2,    114.2,3,    33.70,2,    37.50,2,     2.47,2,    0.001,2,    0.005,2,     -999,9,     -999,9,     -999,9,     -999,9,     -999,9,     -999,9,   4.7720
35A3CITHER3_2 ,A13        ,199     ,  1,8          ,25         ,2,19950318,0448, -10.5005,   4.9997,     5501,    994.0,   4.1900,  34.5780,2,  34.5570,3,    134.9,2,    140.6,3,    36.70,2,    34.50,2,     2.31,2,    0.002,2,    0.002,2,     -999,9,     -999,9,     -999,9,     -999,9,     -999,9,     -999,9,   4.1130
35A3CITHER3_2 ,A13        ,199     ,  1,9          ,24         ,2,19950318,0448, -10.5005,   4.9997,     5501,   1195.1,   4.0030,  34.7160,2,  34.7170,2,    163.7,2,    165.3,2,    34.60,2,    30.60,2,     2.24,3,    0.000,2,     -999,9,     -999,9,     -999,9,     -999,9,     -999,9,     -999,9,     -999,9,   3.9100
35A3CITHER3_2 ,A13        ,199     ,  1,10         ,23         ,2,19950318,0448, -10.5005,   4.9997,     5501,   1395.8,   3.8960,  34.8450,2,  34.8350,3,    192.0,2,    194.6,2,    30.00,2,    26.30,2,     1.72,2,   -0.000,2,    0.002,2,     -999,9,     -999,9,     -999,9,     -999,9,     -999,9,     -999,9,   3.7870
35A3CITHER3_2 ,A13        ,199     ,  1,11         ,22         ,2,19950318,0448, -10.5005,   4.9997,     5501,   1596.3,   3.7580,  34.9060,2,  34.9080,2,    214.3,2,    214.6,2,    27.60,2,    22.90,2,     1.51,2,    0.002,2,    0.002,2,     -999,9,     -999,9,     -999,9,     -999,9,     -999,9,     -999,9,   3.6320
35A3CITHER3_2 ,A13        ,199     ,  1,12         ,21         ,2,19950318,0448, -10.5005,   4.9997,     5501,   1795.8,   3.5740,  34.9240,2,  34.9260,2,    224.4,2,    223.9,2,    28.20,2,    22.00,2,     1.38,2,    0.000,2,    0.005,2,     -999,9,     -999,9,     -999,9,     -999,9,     -999,9,     -999,9,   3.4320
35A3CITHER3_2 ,A13        ,199     ,  1,13         ,20         ,2,19950318,0448, -10.5005,   4.9997,     5501,   1992.3,   3.3490,  34.9290,2,  34.9290,2,    226.1,2,    225.1,2,    31.50,2,    21.70,3,     1.42,2,   -0.002,2,    0.002,2,     -999,9,     -999,9,     -999,9,     -999,9,     -999,9,     -999,9,   3.1920
35A3CITHER3_2 ,A13        ,199     ,  1,14         ,19         ,2,19950318,0448, -10.5005,   4.9997,     5501,   2196.0,   3.1600,  34.9290,2,  34.9310,2,    228.2,2,    227.5,2,    34.40,2,    22.00,2,     1.44,2,    0.000,2,    0.000,2,     -999,9,     -999,9,     -999,9,     -999,9,     -999,9,     -999,9,   2.9870
35A3CITHER3_2 ,A13        ,199     ,  1,15         ,18         ,2,19950318,0448, -10.5005,   4.9997,     5501,   2496.5,   2.9110,  34.9220,2,  34.9220,2,    229.6,2,    229.1,2,    38.70,2,    22.00,2,     1.42,2,    0.000,2,    0.000,2,     -999,9,     -999,9,     -999,9,     -999,9,     -999,9,     -999,9,   2.7130
35A3CITHER3_2 ,A13        ,199     ,  1,17         ,16         ,2,19950318,0448, -10.5005,   4.9997,     5501,   2796.5,   2.7210,  34.9130,2,  34.9140,2,    229.7,2,    229.8,2,    43.20,2,    21.70,2,     1.42,2,    0.000,2,    0.005,2,     -999,9,     -999,9,     -999,9,     -999,9,     -999,9,     -999,9,   2.4970
35A3CITHER3_2 ,A13        ,199     ,  1,18         ,15         ,2,19950318,0448, -10.5005,   4.9997,     5501,   2995.0,   2.6440,  34.9090,2,  34.9100,2,    229.7,2,    229.9,2,    45.00,2,    22.00,2,     1.43,2,    0.006,2,     -999,9,     -999,9,     -999,9,     -999,9,     -999,9,     -999,9,     -999,9,   2.4020
35A3CITHER3_2 ,A13        ,199     ,  1,16         ,17         ,2,19950318,0448, -10.5005,   4.9997,     5501,   2995.1,   2.6440,  34.9090,2,  34.9100,2,    229.7,2,    229.6,2,    45.00,2,    22.40,2,     1.46,2,    0.003,2,    0.002,2,     -999,9,     -999,9,     -999,9,     -999,9,     -999,9,     -999,9,   2.4020
35A3CITHER3_2 ,A13        ,199     ,  1,19         ,14         ,2,19950318,0448, -10.5005,   4.9997,     5501,   3193.3,   2.5580,  34.9030,2,  34.9030,2,    230.5,2,    231.8,2,    46.80,2,    22.20,2,     1.44,2,   -0.002,2,     -999,9,     -999,9,     -999,9,     -999,9,     -999,9,     -999,9,     -999,9,   2.2970
35A3CITHER3_2 ,A13        ,199     ,  1,20         ,13         ,2,19950318,0448, -10.5005,   4.9997,     5501,   3394.3,   2.4660,  34.8960,2,  34.8960,2,    228.0,2,    227.1,2,    51.00,2,    22.70,2,     1.46,2,    0.000,2,    0.001,2,     -999,9,     -999,9,     -999,9,     -999,9,     -999,9,     -999,9,   2.1860
35A3CITHER3_2 ,A13        ,199     ,  1,21         ,12         ,2,19950318,0448, -10.5005,   4.9997,     5501,   3595.8,   2.3880,  34.8910,2,  34.8930,2,    225.3,2,    226.3,2,    54.00,2,    22.90,2,     1.48,2,    0.000,2,    0.000,2,     -999,9,     -999,9,     -999,9,     -999,9,     -999,9,     -999,9,   2.0880
35A3CITHER3_2 ,A13        ,199     ,  1,22         ,11         ,2,19950318,0448, -10.5005,   4.9997,     5501,   3795.2,   2.3490,  34.8910,2,  34.8900,2,    229.3,2,    230.3,2,    53.30,2,    22.40,2,     1.44,2,    0.000,2,    0.001,2,     -999,9,     -999,9,     -999,9,     -999,9,     -999,9,     -999,9,   2.0280
35A3CITHER3_2 ,A13        ,199     ,  1,23         ,10         ,2,19950318,0448, -10.5005,   4.9997,     5501,   3995.4,   2.3430,  34.8880,2,  34.8890,2,    231.0,2,    231.8,2,    53.10,2,    22.40,2,     1.42,2,    0.000,2,   -0.002,2,     -999,9,     -999,9,     -999,9,     -999,9,     -999,9,     -999,9,   2.0000
35A3CITHER3_2 ,A13        ,199     ,  1,24         ,9          ,2,19950318,0448, -10.5005,   4.9997,     5501,   4194.9,   2.3440,  34.8860,2,  34.8870,2,    231.9,2,    232.4,2,    53.00,2,    22.70,2,     1.46,2,    0.000,2,    0.002,2,     -999,9,     -999,9,     -999,9,     -999,9,     -999,9,     -999,9,   1.9780
35A3CITHER3_2 ,A13        ,199     ,  1,25         ,8          ,2,19950318,0448, -10.5005,   4.9997,     5501,   4397.4,   2.3500,  34.8840,2,  34.8810,2,    232.8,2,    233.4,2,    53.00,2,    22.60,2,     1.45,2,    0.001,2,     -999,9,     -999,9,     -999,9,     -999,9,     -999,9,     -999,9,     -999,9,   1.9600
35A3CITHER3_2 ,A13        ,199     ,  1,26         ,7          ,2,19950318,0448, -10.5005,   4.9997,     5501,   4596.3,   2.3580,  34.8830,2,  34.8830,2,    233.9,2,    234.4,2,    53.10,2,    22.40,2,     1.45,2,    0.000,2,    0.003,2,     -999,9,     -999,9,     -999,9,     -999,9,     -999,9,     -999,9,   1.9440
35A3CITHER3_2 ,A13        ,199     ,  1,27         ,6          ,2,19950318,0448, -10.5005,   4.9997,     5501,   4796.6,   2.3680,  34.8800,2,  34.8810,2,    234.7,2,    235.3,2,    53.70,2,    22.30,2,     1.44,2,    0.000,2,     -999,9,     -999,9,     -999,9,     -999,9,     -999,9,     -999,9,     -999,9,   1.9290
35A3CITHER3_2 ,A13        ,199     ,  1,28         ,5          ,2,19950318,0448, -10.5005,   4.9997,     5501,   4996.3,   2.3850,  34.8780,2,  34.8820,2,    235.6,2,    235.6,2,    53.70,2,    22.30,2,     1.46,2,    0.001,2,     -999,9,     -999,9,     -999,9,     -999,9,     -999,9,     -999,9,     -999,9,   1.9200
35A3CITHER3_2 ,A13        ,199     ,  1,29         ,4          ,2,19950318,0448, -10.5005,   4.9997,     5501,   5197.6,   2.4030,  34.8780,2,  34.8800,2,    236.3,2,    236.5,2,    53.30,2,    21.80,3,     1.42,2,    0.005,2,     -999,9,     -999,9,     -999,9,     -999,9,     -999,9,     -999,9,     -999,9,   1.9120
35A3CITHER3_2 ,A13        ,199     ,  1,30         ,3          ,2,19950318,0448, -10.5005,   4.9997,     5501,   5398.9,   2.4240,  34.8770,2,  34.8780,2,    236.8,2,    236.6,2,    53.30,2,    22.30,2,     1.44,2,    0.000,2,    0.001,2,     -999,9,     -999,9,     -999,9,     -999,9,     -999,9,     -999,9,   1.9060
35A3CITHER3_2 ,A13        ,199     ,  1,31         ,2          ,2,19950318,0448, -10.5005,   4.9997,     5501,   5497.4,   2.4340,  34.8780,2,  34.8780,2,    236.8,2,    236.7,2,    53.40,2,    22.30,2,     1.43,2,    0.000,2,    0.000,2,     -999,9,     -999,9,     -999,9,     -999,9,     -999,9,     -999,9,   1.9020
35A3CITHER3_2 ,A13        ,199     ,  1,32         ,1          ,2,19950318,0448, -10.5005,   4.9997,     5501,   5571.0,   2.4450,  34.8760,2,  34.8800,2,    235.5,2,    236.5,2,    53.40,2,    22.80,2,     1.46,2,    0.000,2,    0.004,2,     -999,9,     -999,9,     -999,9,     -999,9,     -999,9,     -999,9,   1.9030