BOTTLE,20211216CCHDHYDRO
EXPOCODE,SECT_ID,STNNBR,CASTNO,SAMPNO,BTLNBR,BTLNBR_FLAG_W,DATE,TIME,LATITUDE,LONGITUDE,DEPTH,CTDPRS,CTDTMP,CTDSAL,CTDSAL_FLAG_W,SALNTY,SALNTY_FLAG_W,CTDOXY,CTDOXY_FLAG_W,OXYGEN,OXYGEN_FLAG_W,SILCAT,SILCAT_FLAG_W,NITRAT,NITRAT_FLAG_W,PHSPHT,PHSPHT_FLAG_W,CFC-11,CFC-11_FLAG_W,CFC-12,CFC-12_FLAG_W,TCARBN,TCARBN_FLAG_W,ALKALI,ALKALI_FLAG_W,TRITUM,TRITUM_FLAG_W,HELIUM,HELIUM_FLAG_W,DELHE3,DELHE3_FLAG_W,NEON,NEON_FLAG_W,THETA
,,,,,,,,,,,METERS,DBAR,DEG C,PSS-78,,PSS-78,,UMOL/KG,,UMOL/KG,,UMOL/KG,,UMOL/KG,,UMOL/KG,,PMOL/KG,,PMOL/KG,,UMOL/KG,,UMOL/KG,,TU,,NMOL/KG,,PERCNT,,NMOL/KG,,DEG C
35A3CITHER3_2 ,A13        ,123     ,  1,1          ,32         ,2,19950225,1057, -37.7835,  13.1368,     5043,      3.5,  19.1590,  35.3910,2,  35.3800,3,    232.8,2,    234.2,2,     1.60,2,     0.00,2,     0.17,2,    2.512,2,    1.277,2,     -999,9,     -999,9,    0.817,4,   2.1040,2,    -2.39,5,    7.754,2,  19.1580
35A3CITHER3_2 ,A13        ,123     ,  1,2          ,31         ,2,19950225,1057, -37.7835,  13.1368,     5043,     47.2,  18.7970,  35.5140,2,  35.5010,3,    235.2,2,    234.8,2,     1.90,2,     0.00,2,     0.16,2,    2.523,2,    1.273,2,     -999,9,     -999,9,     -999,9,     -999,9,     -999,9,     -999,9,  18.7890
35A3CITHER3_2 ,A13        ,123     ,  1,3          ,30         ,2,19950225,1057, -37.7835,  13.1368,     5043,    121.7,  14.6850,  35.2910,2,  35.3000,3,    221.7,2,    227.6,3,     2.80,2,     4.20,2,     0.42,2,    2.841,2,    1.400,2,     -999,9,     -999,9,    0.785,2,   1.7490,2,    -1.66,2,    7.203,2,  14.6670
35A3CITHER3_2 ,A13        ,123     ,  1,4          ,29         ,2,19950225,1057, -37.7835,  13.1368,     5043,    196.6,  13.5490,  35.1560,2,  35.1550,2,    217.6,2,    223.5,3,     3.80,2,     6.90,2,     0.56,2,    2.847,2,    1.397,2,     -999,9,     -999,9,    0.728,2,   1.7560,2,    -1.19,2,    7.312,2,  13.5210
35A3CITHER3_2 ,A13        ,123     ,  1,5          ,28         ,2,19950225,1057, -37.7835,  13.1368,     5043,    396.5,  10.4950,  34.8450,2,  34.8460,2,    215.0,2,    216.1,2,     6.10,2,    14.40,2,     1.01,2,    2.515,2,    1.181,2,     -999,9,     -999,9,    0.514,2,   1.7680,2,     0.25,2,    7.325,2,  10.4470
35A3CITHER3_2 ,A13        ,123     ,  1,6          ,27         ,2,19950225,1057, -37.7835,  13.1368,     5043,    595.6,   7.2060,  34.4740,2,  34.4800,3,    216.5,2,    216.4,2,    10.40,2,    22.60,2,     1.51,2,    2.480,2,    1.148,2,     -999,9,     -999,9,    0.290,2,   1.7790,2,     0.25,2,    7.526,2,   7.1480
35A3CITHER3_2 ,A13        ,123     ,  1,7          ,26         ,2,19950225,1057, -37.7835,  13.1368,     5043,    794.7,   4.8610,  34.2970,2,  34.3000,2,    228.3,2,    229.6,2,    17.70,2,    27.10,2,     1.82,2,    2.091,2,    0.949,2,     -999,9,     -999,9,    0.165,4,   1.7580,2,     1.13,4,    7.277,2,   4.7970
35A3CITHER3_2 ,A13        ,123     ,  1,8          ,25         ,2,19950225,1057, -37.7835,  13.1368,     5043,    994.6,   3.9000,  34.3340,2,  34.3240,3,    210.6,2,    215.7,3,    29.90,2,    29.70,2,     2.01,2,    1.282,2,    0.594,2,     -999,9,     -999,9,    0.091,2,   1.7980,2,     2.57,4,    7.602,2,   3.8260
35A3CITHER3_2 ,A13        ,123     ,  1,10         ,23         ,2,19950225,1057, -37.7835,  13.1368,     5043,   1194.4,   3.4990,  34.4560,2,  34.4560,2,    185.8,2,    184.2,2,    49.40,2,    31.90,2,     2.20,2,    0.526,2,    0.263,2,     -999,9,     -999,9,     -999,9,     -999,9,     -999,9,     -999,9,   3.4120
35A3CITHER3_2 ,A13        ,123     ,  1,9          ,24         ,2,19950225,1057, -37.7835,  13.1368,     5043,   1196.2,   3.4990,  34.4560,2,  34.4570,2,    185.7,2,    183.5,2,    48.00,2,    31.80,2,     2.18,2,    0.528,2,    0.252,2,     -999,9,     -999,9,     -999,9,     -999,9,     -999,9,     -999,9,   3.4110
35A3CITHER3_2 ,A13        ,123     ,  1,11         ,22         ,2,19950225,1057, -37.7835,  13.1368,     5043,   1394.0,   3.0180,  34.5270,2,  34.5300,2,    178.0,2,    181.2,2,    57.50,2,    31.80,2,     2.16,2,    0.288,2,    0.149,2,     -999,9,     -999,9,    0.024,2,   1.8220,2,     6.48,4,    7.701,2,   2.9190
35A3CITHER3_2 ,A13        ,123     ,  1,12         ,21         ,2,19950225,1057, -37.7835,  13.1368,     5043,   1495.6,   2.9160,  34.5860,2,  34.5840,2,    175.5,2,    178.7,2,    60.30,2,    32.00,2,     2.17,2,    0.124,2,    0.067,2,     -999,9,     -999,9,     -999,9,     -999,9,     -999,9,     -999,9,   2.8090
35A3CITHER3_2 ,A13        ,123     ,  1,13         ,20         ,2,19950225,1057, -37.7835,  13.1368,     5043,   1595.8,   2.8710,  34.6410,2,  34.6400,2,    177.7,2,    178.8,2,    62.90,2,    31.10,2,     2.09,2,    0.084,2,    0.105,2,     -999,9,     -999,9,     -999,9,     -999,9,     -999,9,     -999,9,   2.7570
35A3CITHER3_2 ,A13        ,123     ,  1,14         ,19         ,2,19950225,1057, -37.7835,  13.1368,     5043,   1794.1,   2.7730,  34.7160,2,  34.7190,2,    187.7,2,    189.5,2,    58.80,2,    29.30,2,     1.97,2,    0.035,2,    0.040,2,     -999,9,     -999,9,    0.009,2,   1.8610,2,     7.02,2,    7.993,2,   2.6430
35A3CITHER3_2 ,A13        ,123     ,  1,15         ,18         ,2,19950225,1057, -37.7835,  13.1368,     5043,   1995.0,   2.7150,  34.7770,2,  34.7780,2,    200.1,2,    202.3,2,    55.20,2,    27.20,2,     1.82,2,     -999,9,     -999,9,     -999,9,     -999,9,     -999,9,     -999,9,     -999,9,     -999,9,   2.5680
35A3CITHER3_2 ,A13        ,123     ,  1,16         ,17         ,2,19950225,1057, -37.7835,  13.1368,     5043,   2195.9,   2.6630,  34.8130,2,  34.8130,2,    210.3,2,    212.8,2,    52.10,2,    26.40,2,     1.75,2,    0.006,2,    0.007,2,     -999,9,     -999,9,     -999,9,     -999,9,     -999,9,     -999,9,   2.4980
35A3CITHER3_2 ,A13        ,123     ,  1,17         ,16         ,2,19950225,1057, -37.7835,  13.1368,     5043,   2395.5,   2.5620,  34.8270,2,  34.8280,2,    217.1,2,    219.5,2,    52.60,2,    25.70,2,     1.69,2,    0.013,2,    0.015,2,     -999,9,     -999,9,     -999,9,     -999,9,     -999,9,     -999,9,   2.3800
35A3CITHER3_2 ,A13        ,123     ,  1,18         ,15         ,2,19950225,1057, -37.7835,  13.1368,     5043,   2595.2,   2.4760,  34.8380,2,  34.8380,2,    221.8,2,    222.3,2,    52.40,2,    24.60,2,     1.64,2,   -0.001,2,    0.004,2,     -999,9,     -999,9,     -999,9,     -999,9,     -999,9,     -999,9,   2.2770
35A3CITHER3_2 ,A13        ,123     ,  1,19         ,14         ,2,19950225,1057, -37.7835,  13.1368,     5043,   2595.3,   2.4760,  34.8380,2,  34.8370,2,    221.8,2,    222.4,2,    52.40,2,    25.20,2,     1.66,2,    0.004,2,    0.007,2,     -999,9,     -999,9,     -999,9,     -999,9,     -999,9,     -999,9,   2.2770
35A3CITHER3_2 ,A13        ,123     ,  1,20         ,13         ,2,19950225,1057, -37.7835,  13.1368,     5043,   2795.2,   2.3930,  34.8440,2,  34.8440,2,    224.9,2,    226.0,2,    53.70,2,    24.90,2,     1.64,2,   -0.002,2,    0.002,2,     -999,9,     -999,9,    0.000,2,   1.8570,2,     5.48,2,    7.999,2,   2.1760
35A3CITHER3_2 ,A13        ,123     ,  1,21         ,12         ,2,19950225,1057, -37.7835,  13.1368,     5043,   2996.7,   2.3290,  34.8450,2,  34.8450,2,    227.0,2,    227.7,2,    54.90,2,    24.70,2,     1.64,2,   -0.001,2,   -0.002,2,     -999,9,     -999,9,     -999,9,     -999,9,     -999,9,     -999,9,   2.0940
35A3CITHER3_2 ,A13        ,123     ,  1,22         ,11         ,2,19950225,1057, -37.7835,  13.1368,     5043,   3195.6,   2.2580,  34.8470,2,  34.8480,2,    228.3,2,    228.5,2,    56.80,2,    24.80,2,     1.61,2,    0.001,2,    0.002,2,     -999,9,     -999,9,    0.000,2,   1.8560,2,     5.06,2,    8.010,2,   2.0040
35A3CITHER3_2 ,A13        ,123     ,  1,23         ,10         ,2,19950225,1057, -37.7835,  13.1368,     5043,   3394.8,   2.1830,  34.8430,2,  34.8430,2,    228.6,2,    228.7,2,    59.60,2,    23.50,2,     1.60,2,    0.009,2,     -999,9,     -999,9,     -999,9,    0.005,2,   1.8560,2,     5.49,2,    8.053,2,   1.9100
35A3CITHER3_2 ,A13        ,123     ,  1,24         ,9          ,2,19950225,1057, -37.7835,  13.1368,     5043,   3594.8,   2.0160,  34.8300,2,  34.8300,2,    227.2,2,    226.3,2,    66.50,2,    24.60,2,     1.67,2,    0.001,2,    0.001,2,     -999,9,     -999,9,     -999,9,     -999,9,     -999,9,     -999,9,   1.7260
35A3CITHER3_2 ,A13        ,123     ,  1,25         ,8          ,2,19950225,1057, -37.7835,  13.1368,     5043,   3797.1,   1.7750,  34.8050,2,  34.8040,2,    223.4,2,    224.6,2,    77.50,2,    26.50,2,     1.77,2,    0.002,2,    0.002,2,     -999,9,     -999,9,     -999,9,   1.8630,2,     5.89,2,     -999,9,   1.4700
35A3CITHER3_2 ,A13        ,123     ,  1,26         ,7          ,2,19950225,1057, -37.7835,  13.1368,     5043,   3995.3,   1.5140,  34.7790,2,  34.7810,2,    220.6,2,    220.6,2,    87.30,2,    26.90,2,     1.84,2,    0.004,2,    0.005,2,     -999,9,     -999,9,     -999,9,   1.8860,2,     6.06,2,     -999,9,   1.1950
35A3CITHER3_2 ,A13        ,123     ,  1,27         ,6          ,2,19950225,1057, -37.7835,  13.1368,     5043,   4196.9,   1.3080,  34.7590,2,  34.7580,2,    218.4,2,    218.4,2,    96.50,2,    28.50,2,     1.91,2,    0.007,2,    0.005,2,     -999,9,     -999,9,     -999,9,     -999,9,     -999,9,     -999,9,   0.9730
35A3CITHER3_2 ,A13        ,123     ,  1,28         ,5          ,2,19950225,1057, -37.7835,  13.1368,     5043,   4397.6,   1.1820,  34.7470,2,  34.7470,2,    217.6,2,    219.3,2,   101.40,2,    29.40,2,     1.94,2,    0.005,2,    0.006,2,     -999,9,     -999,9,     -999,9,   1.8750,2,     6.58,2,     -999,9,   0.8280
35A3CITHER3_2 ,A13        ,123     ,  1,29         ,4          ,2,19950225,1057, -37.7835,  13.1368,     5043,   4596.9,   1.1300,  34.7390,2,  34.7410,2,    217.3,2,    217.6,2,   104.40,2,    29.40,2,     1.97,2,    0.011,2,    0.006,2,     -999,9,     -999,9,     -999,9,     -999,9,     -999,9,     -999,9,   0.7550
35A3CITHER3_2 ,A13        ,123     ,  1,30         ,3          ,2,19950225,1057, -37.7835,  13.1368,     5043,   4798.5,   1.1110,  34.7360,2,  34.7380,2,    217.4,2,    219.1,2,   105.90,2,    29.30,2,     1.99,2,    0.010,2,    0.007,2,     -999,9,     -999,9,     -999,9,   1.8620,2,     6.09,2,     -999,9,   0.7130
35A3CITHER3_2 ,A13        ,123     ,  1,31         ,2          ,2,19950225,1057, -37.7835,  13.1368,     5043,   4996.4,   1.1030,  34.7350,2,  34.7350,2,    217.7,2,    219.8,2,   107.00,2,    28.00,2,     1.98,2,    0.015,2,    0.012,2,     -999,9,     -999,9,     -999,9,     -999,9,     -999,9,     -999,9,   0.6820
35A3CITHER3_2 ,A13        ,123     ,  1,32         ,1          ,2,19950225,1057, -37.7835,  13.1368,     5043,   5118.9,   1.1110,  34.7330,2,  34.7350,2,    217.7,2,    219.4,2,   107.50,2,    29.50,2,     1.99,2,    0.018,2,    0.007,2,     -999,9,     -999,9,    0.011,2,   1.8840,2,     6.51,2,    8.142,2,   0.6750