BOTTLE,20211216CCHDHYDRO
EXPOCODE,SECT_ID,STNNBR,CASTNO,SAMPNO,BTLNBR,BTLNBR_FLAG_W,DATE,TIME,LATITUDE,LONGITUDE,DEPTH,CTDPRS,CTDTMP,CTDSAL,CTDSAL_FLAG_W,SALNTY,SALNTY_FLAG_W,CTDOXY,CTDOXY_FLAG_W,OXYGEN,OXYGEN_FLAG_W,SILCAT,SILCAT_FLAG_W,NITRAT,NITRAT_FLAG_W,PHSPHT,PHSPHT_FLAG_W,CFC-11,CFC-11_FLAG_W,CFC-12,CFC-12_FLAG_W,TCARBN,TCARBN_FLAG_W,ALKALI,ALKALI_FLAG_W,TRITUM,TRITUM_FLAG_W,HELIUM,HELIUM_FLAG_W,DELHE3,DELHE3_FLAG_W,NEON,NEON_FLAG_W,THETA
,,,,,,,,,,,METERS,DBAR,DEG C,PSS-78,,PSS-78,,UMOL/KG,,UMOL/KG,,UMOL/KG,,UMOL/KG,,UMOL/KG,,PMOL/KG,,PMOL/KG,,UMOL/KG,,UMOL/KG,,TU,,NMOL/KG,,PERCNT,,NMOL/KG,,DEG C
35A3CITHER3_2 ,A13        ,222     ,  1,1          ,32         ,2,19950323,1656,  -0.6962,   2.2843,     4301,      4.5,  29.6790,  34.2540,2,  34.2570,2,    197.8,2,    196.7,2,     3.50,2,     0.00,2,     0.05,2,    1.555,2,    0.830,2,     -999,9,     -999,9,     -999,9,     -999,9,     -999,9,     -999,9,  29.6780
35A3CITHER3_2 ,A13        ,222     ,  1,2          ,31         ,2,19950323,1656,  -0.6962,   2.2843,     4301,     46.3,  26.2850,  36.0910,2,  36.1360,3,    212.9,2,    201.8,3,     3.20,2,     0.00,2,     0.12,2,    1.681,2,    0.856,2,     -999,9,     -999,9,     -999,9,     -999,9,     -999,9,     -999,9,  26.2750
35A3CITHER3_2 ,A13        ,222     ,  1,3          ,30         ,2,19950323,1656,  -0.6962,   2.2843,     4301,    121.1,  15.9320,  35.6570,2,  35.6500,3,    144.0,2,    151.3,3,     6.70,2,    13.10,2,     0.89,2,    1.635,2,    0.794,2,     -999,9,     -999,9,     -999,9,     -999,9,     -999,9,     -999,9,  15.9130
35A3CITHER3_2 ,A13        ,222     ,  1,4          ,29         ,2,19950323,1656,  -0.6962,   2.2843,     4301,    196.2,  14.1740,  35.4340,2,  35.4310,2,    113.7,2,    113.9,2,     8.70,2,    19.50,2,     1.25,2,    1.255,2,    0.611,2,     -999,9,     -999,9,     -999,9,     -999,9,     -999,9,     -999,9,  14.1450
35A3CITHER3_2 ,A13        ,222     ,  1,5          ,28         ,2,19950323,1656,  -0.6962,   2.2843,     4301,    196.2,  14.1730,  35.4350,2,  35.4260,3,    113.7,2,    113.0,2,     8.70,2,    19.50,2,     1.28,2,    1.234,2,    0.608,2,     -999,9,     -999,9,     -999,9,     -999,9,     -999,9,     -999,9,  14.1440
35A3CITHER3_2 ,A13        ,222     ,  1,6          ,27         ,2,19950323,1656,  -0.6962,   2.2843,     4301,    295.5,  11.1170,  35.0710,2,  35.0610,3,     67.3,2,     66.8,2,    13.00,2,    29.90,2,     1.81,2,    0.526,2,    0.265,2,     -999,9,     -999,9,     -999,9,     -999,9,     -999,9,     -999,9,  11.0800
35A3CITHER3_2 ,A13        ,222     ,  1,7          ,26         ,2,19950323,1656,  -0.6962,   2.2843,     4301,    395.3,   8.5430,  34.7800,2,  34.7760,2,     77.6,2,     82.0,3,    17.50,2,    33.50,2,     2.05,2,    0.210,2,    0.111,2,     -999,9,     -999,9,     -999,9,     -999,9,     -999,9,     -999,9,   8.5010
35A3CITHER3_2 ,A13        ,222     ,  1,8          ,25         ,2,19950323,1656,  -0.6962,   2.2843,     4301,    546.0,   6.2250,  34.5630,2,  34.5620,2,    124.3,2,    124.3,2,    23.10,2,    33.70,2,     2.19,2,    0.121,2,    0.060,2,     -999,9,     -999,9,     -999,9,     -999,9,     -999,9,     -999,9,   6.1760
35A3CITHER3_2 ,A13        ,222     ,  1,9          ,24         ,2,19950323,1656,  -0.6962,   2.2843,     4301,    695.0,   5.3540,  34.5080,2,  34.5070,2,    142.7,2,    141.5,2,    27.10,2,    33.70,2,     2.19,2,    0.087,2,    0.051,2,     -999,9,     -999,9,     -999,9,     -999,9,     -999,9,     -999,9,   5.2960
35A3CITHER3_2 ,A13        ,222     ,  1,10         ,23         ,2,19950323,1656,  -0.6962,   2.2843,     4301,    795.8,   5.1760,  34.5190,2,  34.5140,2,    138.1,2,    134.8,2,    28.80,2,    34.70,2,     2.26,2,    0.032,2,    0.019,2,     -999,9,     -999,9,     -999,9,     -999,9,     -999,9,     -999,9,   5.1100
35A3CITHER3_2 ,A13        ,222     ,  1,11         ,22         ,2,19950323,1656,  -0.6962,   2.2843,     4301,    994.8,   4.4540,  34.6330,2,  34.6350,2,    157.0,2,    155.7,2,    30.80,2,    31.80,2,     2.11,2,    0.006,2,    0.005,2,     -999,9,     -999,9,     -999,9,     -999,9,     -999,9,     -999,9,   4.3750
35A3CITHER3_2 ,A13        ,222     ,  1,12         ,21         ,2,19950323,1656,  -0.6962,   2.2843,     4301,   1194.0,   4.4510,  34.7980,2,  34.7940,2,    175.3,2,    176.8,2,    26.40,2,    27.80,2,     1.83,2,    0.002,2,    0.003,2,     -999,9,     -999,9,     -999,9,     -999,9,     -999,9,     -999,9,   4.3540
35A3CITHER3_2 ,A13        ,222     ,  1,13         ,20         ,2,19950323,1656,  -0.6962,   2.2843,     4301,   1395.4,   4.3500,  34.9360,2,     -999,9,    214.3,2,    220.9,2,     -999,9,     -999,9,     -999,9,    0.035,2,    0.024,2,     -999,9,     -999,9,     -999,9,     -999,9,     -999,9,     -999,9,   4.2360
35A3CITHER3_2 ,A13        ,222     ,  1,14         ,19         ,2,19950323,1656,  -0.6962,   2.2843,     4301,   1594.7,   4.1670,  34.9580,2,  34.9590,2,    227.6,2,    226.1,2,    19.40,2,    21.10,2,     1.40,2,    0.020,2,    0.012,2,     -999,9,     -999,9,     -999,9,     -999,9,     -999,9,     -999,9,   4.0360
35A3CITHER3_2 ,A13        ,222     ,  1,15         ,18         ,2,19950323,1656,  -0.6962,   2.2843,     4301,   1794.9,   3.6710,  34.9680,2,  34.9680,2,    243.5,2,    243.7,2,    20.30,2,    19.30,2,     1.26,2,    0.013,2,    0.007,2,     -999,9,     -999,9,     -999,9,     -999,9,     -999,9,     -999,9,   3.5280
35A3CITHER3_2 ,A13        ,222     ,  1,16         ,17         ,2,19950323,1656,  -0.6962,   2.2843,     4301,   1994.7,   3.4730,  34.9590,2,  34.9620,2,    246.2,2,    245.2,2,    22.60,2,    19.70,2,     1.29,2,    0.006,2,    0.005,2,     -999,9,     -999,9,     -999,9,     -999,9,     -999,9,     -999,9,   3.3140
35A3CITHER3_2 ,A13        ,222     ,  1,17         ,16         ,2,19950323,1656,  -0.6962,   2.2843,     4301,   2194.2,   3.2970,  34.9500,2,  34.9510,2,    244.4,2,    244.5,2,    25.50,2,    19.90,2,     1.30,2,    0.009,2,    0.003,2,     -999,9,     -999,9,     -999,9,     -999,9,     -999,9,     -999,9,   3.1220
35A3CITHER3_2 ,A13        ,222     ,  1,18         ,15         ,2,19950323,1656,  -0.6962,   2.2843,     4301,   2394.7,   2.9980,  34.9330,2,  34.9330,2,    241.7,2,    240.2,2,    31.60,2,    20.80,2,     1.35,2,    0.003,2,     -999,9,     -999,9,     -999,9,     -999,9,     -999,9,     -999,9,     -999,9,   2.8080
35A3CITHER3_2 ,A13        ,222     ,  1,19         ,14         ,2,19950323,1656,  -0.6962,   2.2843,     4301,   2595.4,   2.8460,  34.9250,2,  34.9240,2,    240.2,2,    240.6,2,    34.50,2,    20.80,2,     1.37,2,    0.000,2,     -999,9,     -999,9,     -999,9,     -999,9,     -999,9,     -999,9,     -999,9,   2.6400
35A3CITHER3_2 ,A13        ,222     ,  1,20         ,13         ,2,19950323,1656,  -0.6962,   2.2843,     4301,   2795.2,   2.7790,  34.9210,2,  34.9120,3,    240.4,2,    239.8,2,    36.20,2,    21.30,2,     1.38,2,    0.003,2,    0.002,2,     -999,9,     -999,9,     -999,9,     -999,9,     -999,9,     -999,9,   2.5540
35A3CITHER3_2 ,A13        ,222     ,  1,21         ,12         ,2,19950323,1656,  -0.6962,   2.2843,     4301,   2995.6,   2.6260,  34.9100,2,  34.9090,2,    238.5,2,    238.6,2,    39.80,2,    21.40,2,     1.41,2,    0.000,2,    0.005,2,     -999,9,     -999,9,     -999,9,     -999,9,     -999,9,     -999,9,   2.3840
35A3CITHER3_2 ,A13        ,222     ,  1,22         ,11         ,2,19950323,1656,  -0.6962,   2.2843,     4301,   3195.1,   2.5320,  34.9040,2,  34.8900,3,    239.5,2,    239.8,2,    41.40,2,    21.30,2,     1.40,2,    0.002,2,    0.002,2,     -999,9,     -999,9,     -999,9,     -999,9,     -999,9,     -999,9,   2.2710
35A3CITHER3_2 ,A13        ,222     ,  1,23         ,10         ,2,19950323,1656,  -0.6962,   2.2843,     4301,   3395.7,   2.4450,  34.8980,2,  34.8950,2,    239.8,2,    239.5,2,    43.40,2,    21.30,2,     1.39,2,    0.000,2,    0.003,2,     -999,9,     -999,9,     -999,9,     -999,9,     -999,9,     -999,9,   2.1650
35A3CITHER3_2 ,A13        ,222     ,  1,24         ,9          ,2,19950323,1656,  -0.6962,   2.2843,     4301,   3596.8,   2.4170,  34.8960,2,  34.8880,3,    240.6,2,    240.0,2,    44.20,2,    20.50,2,     1.39,2,    0.003,2,    0.000,2,     -999,9,     -999,9,     -999,9,     -999,9,     -999,9,     -999,9,   2.1160
35A3CITHER3_2 ,A13        ,222     ,  1,25         ,8          ,2,19950323,1656,  -0.6962,   2.2843,     4301,   3796.7,   2.3650,  34.8900,2,  34.8890,2,    241.2,2,    241.2,2,    45.20,2,    21.30,2,     1.42,2,    0.000,2,    0.000,2,     -999,9,     -999,9,     -999,9,     -999,9,     -999,9,     -999,9,   2.0440
35A3CITHER3_2 ,A13        ,222     ,  1,26         ,7          ,2,19950323,1656,  -0.6962,   2.2843,     4301,   3996.5,   2.3150,  34.8870,2,  34.8840,2,    242.1,2,    241.9,2,    46.50,2,    21.30,2,     1.42,2,    0.000,2,    0.004,2,     -999,9,     -999,9,     -999,9,     -999,9,     -999,9,     -999,9,   1.9720
35A3CITHER3_2 ,A13        ,222     ,  1,27         ,6          ,2,19950323,1656,  -0.6962,   2.2843,     4301,   4196.1,   2.2790,  34.8810,2,  34.8800,2,    241.0,2,    240.6,2,    48.80,2,    21.90,2,     1.44,2,    0.000,2,    0.000,2,     -999,9,     -999,9,     -999,9,     -999,9,     -999,9,     -999,9,   1.9140
35A3CITHER3_2 ,A13        ,222     ,  1,28         ,5          ,2,19950323,1656,  -0.6962,   2.2843,     4301,   4296.5,   2.2700,  34.8790,2,  34.8780,2,    241.0,2,    240.6,2,    49.60,2,    21.50,2,     1.40,3,    0.001,2,     -999,9,     -999,9,     -999,9,     -999,9,     -999,9,     -999,9,     -999,9,   1.8940
35A3CITHER3_2 ,A13        ,222     ,  1,29         ,4          ,2,19950323,1656,  -0.6962,   2.2843,     4301,   4354.5,   2.2720,  34.8780,2,  34.8780,2,    239.1,2,    239.9,2,    50.50,2,    22.00,2,     1.45,2,    0.006,2,    0.010,2,     -999,9,     -999,9,     -999,9,     -999,9,     -999,9,     -999,9,   1.8890
35A3CITHER3_2 ,A13        ,222     ,  1,30         ,3          ,2,19950323,1656,  -0.6962,   2.2843,     4301,   4356.4,   2.2720,  34.8780,2,  34.8780,2,    239.0,2,    240.3,2,    51.20,2,    21.50,2,     1.41,3,    0.003,2,    0.003,2,     -999,9,     -999,9,     -999,9,     -999,9,     -999,9,     -999,9,   1.8890
35A3CITHER3_2 ,A13        ,223     ,  1,1          ,32         ,2,19950323,2156,  -0.4168,   2.1030,     4567,      5.3,  29.5790,  34.1320,2,  34.1380,3,    190.4,2,    196.3,3,     3.50,2,     0.00,2,     0.03,2,    1.551,2,    0.850,2,     -999,9,     -999,9,     -999,9,     -999,9,     -999,9,     -999,9,  29.5780
35A3CITHER3_2 ,A13        ,223     ,  1,2          ,31         ,2,19950323,2156,  -0.4168,   2.1030,     4567,      5.3,  29.5810,  34.1340,2,  34.1430,3,    190.4,2,    195.7,3,     3.10,2,     0.00,2,     0.03,2,    1.559,2,    0.848,2,   1887.4,2,   2236.5,2,     -999,9,     -999,9,     -999,9,     -999,9,  29.5800
35A3CITHER3_2 ,A13        ,223     ,  1,3          ,30         ,2,19950323,2156,  -0.4168,   2.1030,     4567,     46.3,  24.6820,  36.2520,2,  36.2430,3,    206.0,2,    194.6,3,     3.00,2,     0.00,2,     0.18,2,    1.720,2,    0.873,2,   2058.9,2,   2381.9,2,     -999,9,     -999,9,     -999,9,     -999,9,  24.6720
35A3CITHER3_2 ,A13        ,223     ,  1,4          ,29         ,2,19950323,2156,  -0.4168,   2.1030,     4567,    120.6,  15.9830,  35.6630,2,  35.6650,2,    148.2,2,    153.1,3,     6.10,2,    12.80,2,     0.83,2,    1.664,2,    0.796,2,   2134.9,2,     -999,9,     -999,9,     -999,9,     -999,9,     -999,9,  15.9640
35A3CITHER3_2 ,A13        ,223     ,  1,5          ,28         ,2,19950323,2156,  -0.4168,   2.1030,     4567,    196.1,  14.2630,  35.4730,2,  35.4390,3,    119.3,2,    113.2,3,     8.40,2,    19.50,2,     1.25,2,    1.239,2,    0.603,2,   2169.1,2,   2327.3,2,     -999,9,     -999,9,     -999,9,     -999,9,  14.2340
35A3CITHER3_2 ,A13        ,223     ,  1,6          ,27         ,2,19950323,2156,  -0.4168,   2.1030,     4567,    295.7,  10.9690,  35.0520,2,  35.0660,3,     64.0,2,     62.2,2,    13.30,2,    30.20,2,     1.83,2,    0.482,2,    0.243,2,   2221.2,2,     -999,9,     -999,9,     -999,9,     -999,9,     -999,9,  10.9320
35A3CITHER3_2 ,A13        ,223     ,  1,7          ,26         ,2,19950323,2156,  -0.4168,   2.1030,     4567,    396.2,   8.6200,  34.7910,2,  34.7880,2,     77.1,2,     80.0,2,    17.20,2,    33.40,2,     2.05,2,    0.233,2,    0.124,2,   2225.5,2,   2295.5,2,     -999,9,     -999,9,     -999,9,     -999,9,   8.5780
35A3CITHER3_2 ,A13        ,223     ,  1,8          ,25         ,2,19950323,2156,  -0.4168,   2.1030,     4567,    595.9,   6.0500,  34.5440,2,  34.5480,2,    134.3,2,    133.8,2,    23.40,2,    33.20,2,     2.14,2,    0.145,2,    0.075,2,   2210.7,2,     -999,9,     -999,9,     -999,9,     -999,9,     -999,9,   5.9970
35A3CITHER3_2 ,A13        ,223     ,  1,9          ,24         ,2,19950323,2156,  -0.4168,   2.1030,     4567,    745.8,   5.2390,  34.5080,2,  34.5090,2,    138.4,2,    138.8,2,    27.60,2,    34.20,2,     2.23,2,    0.059,2,    0.030,2,   2216.2,2,   2289.4,2,     -999,9,     -999,9,     -999,9,     -999,9,   5.1770
35A3CITHER3_2 ,A13        ,223     ,  1,10         ,23         ,2,19950323,2156,  -0.4168,   2.1030,     4567,    993.7,   4.4510,  34.6400,2,  34.6380,2,    156.2,2,    159.2,2,    30.50,2,    31.90,2,     2.11,2,    0.087,3,    0.043,3,   2213.3,2,   2308.9,2,     -999,9,     -999,9,     -999,9,     -999,9,   4.3720
35A3CITHER3_2 ,A13        ,223     ,  1,11         ,22         ,2,19950323,2156,  -0.4168,   2.1030,     4567,   1195.7,   4.4270,  34.8140,2,  34.8090,2,    175.1,2,    179.9,3,    26.10,2,    27.70,2,     1.82,2,    0.006,2,    0.001,2,   2200.9,2,     -999,9,     -999,9,     -999,9,     -999,9,     -999,9,   4.3300
35A3CITHER3_2 ,A13        ,223     ,  1,12         ,21         ,2,19950323,2156,  -0.4168,   2.1030,     4567,   1395.0,   4.3490,  34.9450,2,  34.9480,2,    218.5,2,    217.0,2,    20.10,2,    22.30,2,     1.42,2,    0.042,2,    0.022,2,   2177.1,2,     -999,9,     -999,9,     -999,9,     -999,9,     -999,9,   4.2350
35A3CITHER3_2 ,A13        ,223     ,  1,13         ,20         ,2,19950323,2156,  -0.4168,   2.1030,     4567,   1595.6,   4.1930,  34.9620,2,  34.9630,2,    229.8,2,    226.7,2,    19.40,2,    21.40,2,     1.34,2,    0.021,2,    0.018,2,   2171.8,2,   2328.8,2,     -999,9,     -999,9,     -999,9,     -999,9,   4.0620
35A3CITHER3_2 ,A13        ,223     ,  1,14         ,19         ,2,19950323,2156,  -0.4168,   2.1030,     4567,   1795.3,   3.6990,  34.9680,2,  34.9690,2,    245.4,2,    242.2,2,    20.70,2,    20.00,2,     1.27,2,    0.008,2,    0.004,2,   2166.3,2,     -999,9,     -999,9,     -999,9,     -999,9,     -999,9,   3.5550
35A3CITHER3_2 ,A13        ,223     ,  1,15         ,18         ,2,19950323,2156,  -0.4168,   2.1030,     4567,   1995.1,   3.4830,  34.9600,2,  34.9630,2,    246.0,2,    245.8,2,    22.50,2,    20.00,2,     1.28,2,    0.009,2,    0.008,2,   2166.5,2,     -999,9,     -999,9,     -999,9,     -999,9,     -999,9,   3.3240
35A3CITHER3_2 ,A13        ,223     ,  1,16         ,17         ,2,19950323,2156,  -0.4168,   2.1030,     4567,   2195.8,   3.2460,  34.9480,2,  34.9510,2,    244.8,2,    245.1,2,    26.30,2,    20.30,2,     1.30,2,    0.007,2,    0.006,2,   2170.3,2,     -999,9,     -999,9,     -999,9,     -999,9,     -999,9,   3.0710
35A3CITHER3_2 ,A13        ,223     ,  1,17         ,16         ,2,19950323,2156,  -0.4168,   2.1030,     4567,   2396.7,   2.9830,  34.9320,2,  34.9330,2,    241.1,2,     -999,9,    32.10,2,    20.90,2,     1.34,2,    0.000,2,    0.003,2,   2178.8,2,     -999,9,     -999,9,     -999,9,     -999,9,     -999,9,   2.7930
35A3CITHER3_2 ,A13        ,223     ,  1,18         ,15         ,2,19950323,2156,  -0.4168,   2.1030,     4567,   2594.7,   2.8210,  34.9220,2,  34.9240,2,    241.9,2,    241.2,2,    34.80,2,    21.20,2,     1.36,2,    0.000,2,    0.000,2,   2181.5,2,   2335.6,2,     -999,9,     -999,9,     -999,9,     -999,9,   2.6150
35A3CITHER3_2 ,A13        ,223     ,  1,19         ,14         ,2,19950323,2156,  -0.4168,   2.1030,     4567,   2794.7,   2.7690,  34.9200,2,  34.9210,2,    240.7,2,    239.8,2,    36.40,2,    21.40,2,     1.37,2,    0.001,2,    0.001,2,   2185.1,2,     -999,9,     -999,9,     -999,9,     -999,9,     -999,9,   2.5440
35A3CITHER3_2 ,A13        ,223     ,  1,20         ,13         ,2,19950323,2156,  -0.4168,   2.1030,     4567,   2998.1,   2.6090,  34.9080,2,  34.9040,2,    238.7,2,    240.3,2,    40.10,2,    21.70,2,     1.39,2,    0.001,2,    0.000,2,   2189.3,2,     -999,9,     -999,9,     -999,9,     -999,9,     -999,9,   2.3670
35A3CITHER3_2 ,A13        ,223     ,  1,21         ,12         ,2,19950323,2156,  -0.4168,   2.1030,     4567,   3196.3,   2.5180,  34.9030,2,  34.9030,2,    239.5,2,    239.4,2,    41.80,2,    21.80,2,     1.38,2,    0.001,2,    0.005,2,   2191.9,2,     -999,9,     -999,9,     -999,9,     -999,9,     -999,9,   2.2580
35A3CITHER3_2 ,A13        ,223     ,  1,22         ,11         ,2,19950323,2156,  -0.4168,   2.1030,     4567,   3395.3,   2.4550,  34.8990,2,  34.9020,2,    238.8,2,    239.2,2,    43.50,2,    21.90,2,     1.40,2,    0.000,2,    0.000,2,   2194.8,2,     -999,9,     -999,9,     -999,9,     -999,9,     -999,9,   2.1750
35A3CITHER3_2 ,A13        ,223     ,  1,23         ,10         ,2,19950323,2156,  -0.4168,   2.1030,     4567,   3597.0,   2.4060,  34.8930,2,  34.8980,2,    239.4,2,    239.6,2,    44.80,2,    21.60,2,     1.40,2,    0.005,2,    0.002,2,   2195.0,2,     -999,9,     -999,9,     -999,9,     -999,9,     -999,9,   2.1050
35A3CITHER3_2 ,A13        ,223     ,  1,24         ,9          ,2,19950323,2156,  -0.4168,   2.1030,     4567,   3796.6,   2.3480,  34.8900,2,  34.8920,2,    242.0,2,    242.0,2,    45.30,2,    21.60,2,     1.38,2,    0.001,2,    0.000,2,   2193.6,2,   2346.8,2,     -999,9,     -999,9,     -999,9,     -999,9,   2.0270
35A3CITHER3_2 ,A13        ,223     ,  1,25         ,8          ,2,19950323,2156,  -0.4168,   2.1030,     4567,   3996.9,   2.3230,  34.8850,2,  34.8860,2,    242.2,2,    242.0,2,    46.10,2,    22.00,2,     1.41,2,    0.001,2,    0.002,2,   2195.1,2,     -999,9,     -999,9,     -999,9,     -999,9,     -999,9,   1.9800
35A3CITHER3_2 ,A13        ,223     ,  1,26         ,7          ,2,19950323,2156,  -0.4168,   2.1030,     4567,   4197.1,   2.2830,  34.8810,2,  34.8810,2,    240.8,2,    240.7,2,    48.70,2,    22.40,2,     1.42,2,    0.006,2,    0.008,2,   2199.4,2,     -999,9,     -999,9,     -999,9,     -999,9,     -999,9,   1.9180
35A3CITHER3_2 ,A13        ,223     ,  1,27         ,6          ,2,19950323,2156,  -0.4168,   2.1030,     4567,   4397.5,   2.2480,  34.8760,2,  34.8760,2,    239.9,2,    239.1,2,    50.90,2,    22.60,2,     1.44,2,    0.004,2,    0.004,2,   2203.4,2,     -999,9,     -999,9,     -999,9,     -999,9,     -999,9,   1.8610
35A3CITHER3_2 ,A13        ,223     ,  1,28         ,5          ,2,19950323,2156,  -0.4168,   2.1030,     4567,   4547.6,   2.2350,  34.8720,2,  34.8740,2,    238.9,2,    238.0,2,    52.30,2,    22.60,2,     1.44,2,    0.002,2,    0.002,2,     -999,9,     -999,9,     -999,9,     -999,9,     -999,9,     -999,9,   1.8300
35A3CITHER3_2 ,A13        ,223     ,  1,29         ,4          ,2,19950323,2156,  -0.4168,   2.1030,     4567,   4548.1,   2.2350,  34.8730,2,  34.8750,2,    238.9,2,    238.3,2,    52.30,2,    22.60,2,     1.42,2,    0.003,2,    0.002,2,   2205.4,2,     -999,9,     -999,9,     -999,9,     -999,9,     -999,9,   1.8300
35A3CITHER3_2 ,A13        ,223     ,  1,30         ,3          ,2,19950323,2156,  -0.4168,   2.1030,     4567,   4613.4,   2.2280,  34.8710,2,  34.8710,2,    237.6,2,    238.3,2,    53.10,2,    22.30,2,     1.42,2,    0.002,2,    0.007,2,   2208.1,2,   2355.5,2,     -999,9,     -999,9,     -999,9,     -999,9,   1.8160