BOTTLE,20211216CCHDHYDRO
EXPOCODE,SECT_ID,STNNBR,CASTNO,SAMPNO,BTLNBR,BTLNBR_FLAG_W,DATE,TIME,LATITUDE,LONGITUDE,DEPTH,CTDPRS,CTDTMP,CTDSAL,CTDSAL_FLAG_W,SALNTY,SALNTY_FLAG_W,CTDOXY,CTDOXY_FLAG_W,OXYGEN,OXYGEN_FLAG_W,SILCAT,SILCAT_FLAG_W,NITRAT,NITRAT_FLAG_W,PHSPHT,PHSPHT_FLAG_W,CFC-11,CFC-11_FLAG_W,CFC-12,CFC-12_FLAG_W,TCARBN,TCARBN_FLAG_W,ALKALI,ALKALI_FLAG_W,TRITUM,TRITUM_FLAG_W,HELIUM,HELIUM_FLAG_W,DELHE3,DELHE3_FLAG_W,NEON,NEON_FLAG_W,THETA
,,,,,,,,,,,METERS,DBAR,DEG C,PSS-78,,PSS-78,,UMOL/KG,,UMOL/KG,,UMOL/KG,,UMOL/KG,,UMOL/KG,,PMOL/KG,,PMOL/KG,,UMOL/KG,,UMOL/KG,,TU,,NMOL/KG,,PERCNT,,NMOL/KG,,DEG C
35A3CITHER3_2 ,A13        ,200     ,  1,1          ,32         ,2,19950318,1109, -10.0000,   5.0017,     5409,      5.0,  28.5290,  36.1600,2,  36.1640,2,    193.7,2,    197.1,3,     4.40,2,     0.00,2,     0.11,2,    1.592,2,    0.879,2,     -999,9,     -999,9,     -999,9,     -999,9,     -999,9,     -999,9,  28.5280
35A3CITHER3_2 ,A13        ,200     ,  1,2          ,31         ,2,19950318,1109, -10.0000,   5.0017,     5409,     47.0,  21.2840,  35.9990,2,  35.9910,3,    206.6,2,    236.1,3,     5.70,2,     0.80,2,     0.17,2,    1.659,2,    0.838,2,     -999,9,     -999,9,     -999,9,     -999,9,     -999,9,     -999,9,  21.2750
35A3CITHER3_2 ,A13        ,200     ,  1,3          ,30         ,2,19950318,1109, -10.0000,   5.0017,     5409,    120.4,  13.4420,  35.3390,2,  35.3370,2,     76.7,2,     73.9,2,    11.40,2,    25.20,2,     1.51,2,    0.968,2,    0.499,2,     -999,9,     -999,9,     -999,9,     -999,9,     -999,9,     -999,9,  13.4250
35A3CITHER3_2 ,A13        ,200     ,  1,4          ,29         ,2,19950318,1109, -10.0000,   5.0017,     5409,    196.1,  12.5300,  35.2240,2,  35.2240,2,     72.9,2,     70.5,2,    12.20,2,    27.10,2,     1.61,2,    0.786,2,    0.408,2,     -999,9,     -999,9,     -999,9,     -999,9,     -999,9,     -999,9,  12.5040
35A3CITHER3_2 ,A13        ,200     ,  1,5          ,28         ,2,19950318,1109, -10.0000,   5.0017,     5409,    296.0,  11.0520,  35.0520,2,  35.0510,2,     58.6,2,     55.8,2,    14.90,2,    31.30,2,     1.87,2,    0.441,2,    0.290,2,     -999,9,     -999,9,     -999,9,     -999,9,     -999,9,     -999,9,  11.0150
35A3CITHER3_2 ,A13        ,200     ,  1,6          ,27         ,2,19950318,1109, -10.0000,   5.0017,     5409,    406.1,   9.3000,  34.8640,2,  34.8630,2,     23.7,2,     20.7,2,    19.20,2,    38.10,2,     2.26,2,     -999,9,     -999,9,     -999,9,     -999,9,     -999,9,     -999,9,     -999,9,     -999,9,   9.2550
35A3CITHER3_2 ,A13        ,200     ,  1,7          ,26         ,2,19950318,1109, -10.0000,   5.0017,     5409,    595.7,   6.3630,  34.5960,2,  34.5950,2,     48.8,2,     52.4,3,    26.80,2,    41.10,2,     2.55,2,    0.004,2,    0.007,2,     -999,9,     -999,9,     -999,9,     -999,9,     -999,9,     -999,9,   6.3090
35A3CITHER3_2 ,A13        ,200     ,  1,8          ,25         ,2,19950318,1109, -10.0000,   5.0017,     5409,    795.3,   4.8720,  34.5070,2,  34.5070,2,    115.4,2,    112.2,2,    32.90,2,    37.80,2,     2.37,2,    0.001,2,    0.004,2,     -999,9,     -999,9,     -999,9,     -999,9,     -999,9,     -999,9,   4.8080
35A3CITHER3_2 ,A13        ,200     ,  1,9          ,24         ,2,19950318,1109, -10.0000,   5.0017,     5409,    996.7,   4.2080,  34.5660,2,  34.5630,2,    143.9,2,    141.5,2,    36.00,2,    34.70,2,     2.23,2,    0.002,2,    0.001,2,     -999,9,     -999,9,     -999,9,     -999,9,     -999,9,     -999,9,   4.1310
35A3CITHER3_2 ,A13        ,200     ,  1,10         ,23         ,2,19950318,1109, -10.0000,   5.0017,     5409,   1195.5,   4.0200,  34.6970,2,  34.6960,2,    164.9,2,    163.7,2,    34.40,2,    31.10,2,     1.96,2,    0.002,2,    0.006,2,     -999,9,     -999,9,     -999,9,     -999,9,     -999,9,     -999,9,   3.9270
35A3CITHER3_2 ,A13        ,200     ,  1,11         ,22         ,2,19950318,1109, -10.0000,   5.0017,     5409,   1395.2,   3.9140,  34.8330,2,  34.8370,2,    191.0,2,    194.8,3,    29.70,2,    26.70,2,     1.69,2,    0.007,2,    0.007,2,     -999,9,     -999,9,     -999,9,     -999,9,     -999,9,     -999,9,   3.8040
35A3CITHER3_2 ,A13        ,200     ,  1,12         ,21         ,2,19950318,1109, -10.0000,   5.0017,     5409,   1595.5,   3.7720,  34.9100,2,  34.9090,2,    216.7,2,    216.4,2,    26.60,2,    23.20,2,     1.46,2,    0.003,2,    0.002,2,     -999,9,     -999,9,     -999,9,     -999,9,     -999,9,     -999,9,   3.6460
35A3CITHER3_2 ,A13        ,200     ,  1,13         ,20         ,2,19950318,1109, -10.0000,   5.0017,     5409,   1795.9,   3.5490,  34.9270,2,  34.9290,2,    226.5,2,    225.4,2,    27.80,2,    21.90,2,     1.32,2,    0.000,2,    0.011,2,     -999,9,     -999,9,     -999,9,     -999,9,     -999,9,     -999,9,   3.4070
35A3CITHER3_2 ,A13        ,200     ,  1,14         ,19         ,2,19950318,1109, -10.0000,   5.0017,     5409,   1995.6,   3.3360,  34.9290,2,  34.9320,2,    230.1,2,    226.6,2,    30.70,2,    22.20,2,     1.37,2,    0.002,2,    0.007,2,     -999,9,     -999,9,     -999,9,     -999,9,     -999,9,     -999,9,   3.1790
35A3CITHER3_2 ,A13        ,200     ,  1,15         ,18         ,2,19950318,1109, -10.0000,   5.0017,     5409,   2196.9,   3.1440,  34.9290,2,  34.9320,2,    229.4,2,    228.6,2,    33.60,2,    22.00,2,     1.36,2,   -0.001,2,     -999,9,     -999,9,     -999,9,     -999,9,     -999,9,     -999,9,     -999,9,   2.9710
35A3CITHER3_2 ,A13        ,200     ,  1,16         ,17         ,2,19950318,1109, -10.0000,   5.0017,     5409,   2394.7,   2.9870,  34.9240,2,  34.9270,2,    230.3,2,    229.5,2,    36.70,2,    22.30,2,     1.42,2,    0.003,2,    0.003,2,     -999,9,     -999,9,     -999,9,     -999,9,     -999,9,     -999,9,   2.7980
35A3CITHER3_2 ,A13        ,200     ,  1,17         ,16         ,2,19950318,1109, -10.0000,   5.0017,     5409,   2598.7,   2.8370,  34.9190,2,  34.9200,2,    230.5,2,    230.3,2,    39.60,2,    22.10,2,     1.41,2,    0.006,2,    0.002,2,     -999,9,     -999,9,     -999,9,     -999,9,     -999,9,     -999,9,   2.6300
35A3CITHER3_2 ,A13        ,200     ,  1,18         ,15         ,2,19950318,1109, -10.0000,   5.0017,     5409,   2794.5,   2.7200,  34.9130,2,  34.9140,2,    230.3,2,    230.1,2,    41.80,2,    22.10,2,     1.41,2,    0.006,2,    0.002,2,     -999,9,     -999,9,     -999,9,     -999,9,     -999,9,     -999,9,   2.4960
35A3CITHER3_2 ,A13        ,200     ,  1,19         ,14         ,2,19950318,1109, -10.0000,   5.0017,     5409,   2995.0,   2.6290,  34.9100,2,  34.9090,2,    229.9,2,    230.1,2,    44.30,2,    22.20,2,     1.42,2,   -0.002,2,    0.002,2,     -999,9,     -999,9,     -999,9,     -999,9,     -999,9,     -999,9,   2.3870
35A3CITHER3_2 ,A13        ,200     ,  1,20         ,13         ,2,19950318,1109, -10.0000,   5.0017,     5409,   3193.0,   2.5520,  34.9050,2,  34.9010,2,    229.7,2,    229.8,2,    46.50,2,    22.20,2,     1.41,2,    0.001,2,    0.003,2,     -999,9,     -999,9,     -999,9,     -999,9,     -999,9,     -999,9,   2.2910
35A3CITHER3_2 ,A13        ,200     ,  1,21         ,12         ,2,19950318,1109, -10.0000,   5.0017,     5409,   3397.7,   2.4730,  34.8980,2,  34.8990,2,    229.0,2,    229.3,2,    49.10,2,    22.20,2,     1.42,2,    0.000,2,    0.002,2,     -999,9,     -999,9,     -999,9,     -999,9,     -999,9,     -999,9,   2.1920
35A3CITHER3_2 ,A13        ,200     ,  1,22         ,11         ,2,19950318,1109, -10.0000,   5.0017,     5409,   3595.7,   2.3920,  34.8920,2,  34.8930,2,    224.9,2,    225.3,2,    52.90,2,    22.90,2,     1.47,2,    0.003,2,    0.005,2,     -999,9,     -999,9,     -999,9,     -999,9,     -999,9,     -999,9,   2.0920
35A3CITHER3_2 ,A13        ,200     ,  1,23         ,10         ,2,19950318,1109, -10.0000,   5.0017,     5409,   3795.8,   2.3480,  34.8900,2,  34.8940,2,    228.3,2,    229.2,2,    52.90,2,    22.80,2,     1.47,2,    0.000,2,    0.007,2,     -999,9,     -999,9,     -999,9,     -999,9,     -999,9,     -999,9,   2.0270
35A3CITHER3_2 ,A13        ,200     ,  1,24         ,9          ,2,19950318,1109, -10.0000,   5.0017,     5409,   3997.6,   2.3390,  34.8890,2,  34.8880,2,    231.5,2,    231.8,2,    52.30,2,    22.60,2,     1.45,2,    0.000,2,    0.001,2,     -999,9,     -999,9,     -999,9,     -999,9,     -999,9,     -999,9,   1.9960
35A3CITHER3_2 ,A13        ,200     ,  1,25         ,8          ,2,19950318,1109, -10.0000,   5.0017,     5409,   4198.3,   2.3390,  34.8870,2,  34.8860,2,    232.3,2,    232.4,2,    52.50,2,    22.40,2,     1.39,2,    0.005,2,     -999,9,     -999,9,     -999,9,     -999,9,     -999,9,     -999,9,     -999,9,   1.9720
35A3CITHER3_2 ,A13        ,200     ,  1,26         ,7          ,2,19950318,1109, -10.0000,   5.0017,     5409,   4395.7,   2.3460,  34.8850,2,  34.8840,2,    233.2,2,    233.1,2,    52.90,2,    22.40,2,     1.30,2,    0.002,2,    0.001,2,     -999,9,     -999,9,     -999,9,     -999,9,     -999,9,     -999,9,   1.9560
35A3CITHER3_2 ,A13        ,200     ,  1,27         ,6          ,2,19950318,1109, -10.0000,   5.0017,     5409,   4596.7,   2.3570,  34.8820,2,  34.8840,2,    234.0,2,    233.9,2,    53.10,2,    22.70,2,     1.46,2,   -0.001,2,    0.004,2,     -999,9,     -999,9,     -999,9,     -999,9,     -999,9,     -999,9,   1.9430
35A3CITHER3_2 ,A13        ,200     ,  1,28         ,5          ,2,19950318,1109, -10.0000,   5.0017,     5409,   4796.9,   2.3670,  34.8810,2,  34.8800,2,    235.0,2,    235.2,2,    53.30,2,    22.50,2,     1.38,2,    0.000,2,    0.005,2,     -999,9,     -999,9,     -999,9,     -999,9,     -999,9,     -999,9,   1.9280
35A3CITHER3_2 ,A13        ,200     ,  1,29         ,4          ,2,19950318,1109, -10.0000,   5.0017,     5409,   4997.5,   2.3850,  34.8800,2,  34.8810,2,    236.1,2,    235.8,2,    53.00,2,    22.40,2,     1.44,2,    0.006,2,     -999,9,     -999,9,     -999,9,     -999,9,     -999,9,     -999,9,     -999,9,   1.9200
35A3CITHER3_2 ,A13        ,200     ,  1,30         ,3          ,2,19950318,1109, -10.0000,   5.0017,     5409,   5198.0,   2.4030,  34.8790,2,  34.8800,2,    236.2,2,    236.1,2,    53.40,2,    22.50,2,     1.45,2,   -0.000,2,    0.002,2,     -999,9,     -999,9,     -999,9,     -999,9,     -999,9,     -999,9,   1.9120
35A3CITHER3_2 ,A13        ,200     ,  1,31         ,2          ,2,19950318,1109, -10.0000,   5.0017,     5409,   5399.6,   2.4230,  34.8790,2,  34.8780,2,    236.7,2,    236.0,2,    53.60,2,    22.20,3,     1.36,3,    0.002,2,     -999,9,     -999,9,     -999,9,     -999,9,     -999,9,     -999,9,     -999,9,   1.9050
35A3CITHER3_2 ,A13        ,200     ,  1,32         ,1          ,2,19950318,1109, -10.0000,   5.0017,     5409,   5482.8,   2.4330,  34.8770,2,  34.8780,2,    236.5,2,    236.9,2,    53.30,2,    21.90,3,     1.32,3,    0.000,2,    0.005,2,     -999,9,     -999,9,     -999,9,     -999,9,     -999,9,     -999,9,   1.9030