BOTTLE,20211216CCHDHYDRO
EXPOCODE,SECT_ID,STNNBR,CASTNO,SAMPNO,BTLNBR,BTLNBR_FLAG_W,DATE,TIME,LATITUDE,LONGITUDE,DEPTH,CTDPRS,CTDTMP,CTDSAL,CTDSAL_FLAG_W,SALNTY,SALNTY_FLAG_W,CTDOXY,CTDOXY_FLAG_W,OXYGEN,OXYGEN_FLAG_W,SILCAT,SILCAT_FLAG_W,NITRAT,NITRAT_FLAG_W,PHSPHT,PHSPHT_FLAG_W,CFC-11,CFC-11_FLAG_W,CFC-12,CFC-12_FLAG_W,TCARBN,TCARBN_FLAG_W,ALKALI,ALKALI_FLAG_W,TRITUM,TRITUM_FLAG_W,HELIUM,HELIUM_FLAG_W,DELHE3,DELHE3_FLAG_W,NEON,NEON_FLAG_W,THETA
,,,,,,,,,,,METERS,DBAR,DEG C,PSS-78,,PSS-78,,UMOL/KG,,UMOL/KG,,UMOL/KG,,UMOL/KG,,UMOL/KG,,PMOL/KG,,PMOL/KG,,UMOL/KG,,UMOL/KG,,TU,,NMOL/KG,,PERCNT,,NMOL/KG,,DEG C
35A3CITHER3_2 ,A13        ,139     ,  1,1          ,32         ,2,19950301,1641, -35.0015,   9.9967,     5045,      3.8,  20.3650,  35.6740,2,  35.6410,3,    230.6,2,    228.9,2,     2.20,2,     0.00,2,     0.10,2,    2.162,2,    1.066,2,   2037.4,2,   2345.1,2,     -999,9,     -999,9,     -999,9,     -999,9,  20.3640
35A3CITHER3_2 ,A13        ,139     ,  1,3          ,30         ,2,19950301,1641, -35.0015,   9.9967,     5045,     47.4,  20.0690,  35.6500,2,  35.6420,3,    230.9,2,    230.5,2,     2.20,2,     0.00,2,     0.10,2,    2.341,2,    1.175,2,   2036.6,2,   2336.8,2,     -999,9,     -999,9,     -999,9,     -999,9,  20.0600
35A3CITHER3_2 ,A13        ,139     ,  1,2          ,31         ,2,19950301,1641, -35.0015,   9.9967,     5045,     47.5,  20.0120,  35.6310,2,  35.6750,3,    230.9,2,    231.1,2,     2.20,2,     0.00,2,     0.11,2,    2.328,2,    1.173,2,     -999,9,     -999,9,     -999,9,     -999,9,     -999,9,     -999,9,  20.0030
35A3CITHER3_2 ,A13        ,139     ,  1,4          ,29         ,2,19950301,1641, -35.0015,   9.9967,     5045,    121.5,  15.4260,  35.2930,2,  35.2930,2,    240.1,2,    236.8,2,     2.50,2,     2.10,2,     0.27,2,    2.832,2,    1.388,2,   2063.9,2,   2327.2,2,     -999,9,     -999,9,     -999,9,     -999,9,  15.4070
35A3CITHER3_2 ,A13        ,139     ,  1,5          ,28         ,2,19950301,1641, -35.0015,   9.9967,     5045,    197.2,  13.3930,  35.0760,2,  35.0560,3,    228.9,2,    235.7,3,     2.60,2,     5.40,2,     0.46,2,    3.014,2,    1.449,2,   2079.1,2,   2308.9,2,     -999,9,     -999,9,     -999,9,     -999,9,  13.3650
35A3CITHER3_2 ,A13        ,139     ,  1,6          ,27         ,2,19950301,1641, -35.0015,   9.9967,     5045,    395.5,   9.7060,  34.7510,2,  34.7500,2,    216.1,2,    213.1,2,     7.10,2,    17.00,2,     1.09,2,    2.505,2,    1.169,2,   2128.7,2,     -999,9,     -999,9,     -999,9,     -999,9,     -999,9,   9.6610
35A3CITHER3_2 ,A13        ,139     ,  1,7          ,26         ,2,19950301,1641, -35.0015,   9.9967,     5045,    595.8,   6.6440,  34.4440,2,  34.4480,2,    209.3,2,    212.6,2,    14.40,2,    25.10,2,     1.61,2,    2.072,2,    0.942,2,   2156.4,2,   2286.9,2,     -999,9,     -999,9,     -999,9,     -999,9,   6.5890
35A3CITHER3_2 ,A13        ,139     ,  1,8          ,25         ,2,19950301,1641, -35.0015,   9.9967,     5045,    795.1,   4.6220,  34.3340,2,  34.3320,2,    220.3,2,    219.8,2,    24.70,2,    28.70,2,     1.87,2,    1.666,2,    0.748,2,   2178.5,2,     -999,9,     -999,9,     -999,9,     -999,9,     -999,9,   4.5590
35A3CITHER3_2 ,A13        ,139     ,  1,9          ,24         ,2,19950301,1641, -35.0015,   9.9967,     5045,    995.3,   4.0050,  34.4430,2,  34.4400,2,    197.1,2,    186.8,3,    45.30,2,    31.90,2,     2.12,2,    0.726,2,    0.342,2,   2214.3,2,   2314.1,2,     -999,9,     -999,9,     -999,9,     -999,9,   3.9300
35A3CITHER3_2 ,A13        ,139     ,  1,10         ,23         ,2,19950301,1641, -35.0015,   9.9967,     5045,   1195.0,   3.1280,  34.4630,2,  34.4620,2,    187.2,2,    185.5,2,    52.80,2,    32.90,2,     2.16,2,    0.358,2,    0.173,2,   2225.4,2,     -999,9,     -999,9,     -999,9,     -999,9,     -999,9,   3.0440
35A3CITHER3_2 ,A13        ,139     ,  1,11         ,22         ,2,19950301,1641, -35.0015,   9.9967,     5045,   1395.6,   2.9550,  34.5640,2,  34.5650,2,    180.5,2,    180.4,2,    59.20,2,    32.50,2,     2.13,2,    0.126,2,    0.064,2,   2234.3,2,     -999,9,     -999,9,     -999,9,     -999,9,     -999,9,   2.8560
35A3CITHER3_2 ,A13        ,139     ,  1,12         ,21         ,2,19950301,1641, -35.0015,   9.9967,     5045,   1596.1,   2.8360,  34.6610,2,  34.6600,2,    181.2,2,    180.3,2,    63.70,2,    31.10,2,     2.05,2,    0.062,2,    0.032,2,   2238.7,2,     -999,9,     -999,9,     -999,9,     -999,9,     -999,9,   2.7220
35A3CITHER3_2 ,A13        ,139     ,  1,13         ,20         ,2,19950301,1641, -35.0015,   9.9967,     5045,   1795.8,   2.8890,  34.7570,2,  34.7550,2,    198.8,2,    199.0,2,    53.40,2,    28.10,2,     1.83,2,    0.011,2,    0.010,2,   2218.0,2,     -999,9,     -999,9,     -999,9,     -999,9,     -999,9,   2.7570
35A3CITHER3_2 ,A13        ,139     ,  1,14         ,19         ,2,19950301,1641, -35.0015,   9.9967,     5045,   1997.3,   2.8120,  34.7970,2,  34.7950,2,    209.1,2,    208.8,2,    51.40,2,    26.50,2,     1.72,2,    0.006,2,    0.007,2,   2212.5,2,   2334.1,2,     -999,9,     -999,9,     -999,9,     -999,9,   2.6630
35A3CITHER3_2 ,A13        ,139     ,  1,15         ,18         ,2,19950301,1641, -35.0015,   9.9967,     5045,   2196.3,   2.6950,  34.8190,2,  34.8180,2,    216.1,2,    214.2,2,    53.20,2,    26.20,2,     1.69,2,    0.003,2,    0.009,2,   2208.6,2,     -999,9,     -999,9,     -999,9,     -999,9,     -999,9,   2.5300
35A3CITHER3_2 ,A13        ,139     ,  1,16         ,17         ,2,19950301,1641, -35.0015,   9.9967,     5045,   2396.2,   2.5890,  34.8330,2,  34.8320,2,    220.3,2,    220.1,2,    53.40,2,    25.50,2,     1.63,2,    0.004,2,    0.006,2,   2208.7,2,     -999,9,     -999,9,     -999,9,     -999,9,     -999,9,   2.4070
35A3CITHER3_2 ,A13        ,139     ,  1,17         ,16         ,2,19950301,1641, -35.0015,   9.9967,     5045,   2593.3,   2.5110,  34.8440,2,  34.8450,2,    224.2,2,    226.1,2,    52.80,2,    24.60,2,     1.55,2,    0.004,2,    0.008,2,   2204.2,2,     -999,9,     -999,9,     -999,9,     -999,9,     -999,9,   2.3120
35A3CITHER3_2 ,A13        ,139     ,  1,18         ,15         ,2,19950301,1641, -35.0015,   9.9967,     5045,   2796.1,   2.4340,  34.8470,2,  34.8460,2,    229.4,2,    227.3,2,    54.30,2,    24.40,2,     1.52,2,    0.000,2,    0.005,2,   2204.3,2,     -999,9,     -999,9,     -999,9,     -999,9,     -999,9,   2.2160
35A3CITHER3_2 ,A13        ,139     ,  1,19         ,14         ,2,19950301,1641, -35.0015,   9.9967,     5045,   2996.8,   2.3720,  34.8540,2,  34.8520,2,    230.7,2,    230.3,2,    54.60,2,    24.30,2,     1.50,2,    0.001,2,    0.004,2,   2205.4,2,   2341.1,2,     -999,9,     -999,9,     -999,9,     -999,9,   2.1360
35A3CITHER3_2 ,A13        ,139     ,  1,20         ,13         ,2,19950301,1641, -35.0015,   9.9967,     5045,   3196.0,   2.3100,  34.8530,2,  34.8510,2,    231.3,2,    230.3,2,    56.70,2,    24.00,2,     1.58,2,    0.000,2,    0.007,2,   2206.6,2,     -999,9,     -999,9,     -999,9,     -999,9,     -999,9,   2.0550
35A3CITHER3_2 ,A13        ,139     ,  1,21         ,12         ,2,19950301,1641, -35.0015,   9.9967,     5045,   3395.9,   2.2200,  34.8480,2,  34.8470,2,    230.4,2,    229.5,2,    60.10,2,    24.70,2,     1.59,2,    0.000,2,    0.002,2,   2210.9,2,     -999,9,     -999,9,     -999,9,     -999,9,     -999,9,   1.9460
35A3CITHER3_2 ,A13        ,139     ,  1,22         ,11         ,2,19950301,1641, -35.0015,   9.9967,     5045,   3596.0,   2.1140,  34.8430,2,  34.8420,2,    230.4,2,    229.6,2,    63.60,2,    24.80,2,     1.59,2,    0.002,2,   -0.001,2,     -999,9,     -999,9,     -999,9,     -999,9,     -999,9,     -999,9,   1.8210
35A3CITHER3_2 ,A13        ,139     ,  1,23         ,10         ,2,19950301,1641, -35.0015,   9.9967,     5045,   3596.3,   2.1130,  34.8430,2,  34.8420,2,    230.4,2,    229.1,2,    63.70,2,    23.50,3,     1.58,2,    0.000,2,    0.011,2,   2214.7,2,     -999,9,     -999,9,     -999,9,     -999,9,     -999,9,   1.8200
35A3CITHER3_2 ,A13        ,139     ,  1,24         ,9          ,2,19950301,1641, -35.0015,   9.9967,     5045,   3796.1,   1.8890,  34.8160,2,  34.8150,2,    227.0,2,    225.3,2,    74.40,2,    26.40,2,     1.70,2,    0.001,2,    0.002,2,   2223.8,2,     -999,9,     -999,9,     -999,9,     -999,9,     -999,9,   1.5810
35A3CITHER3_2 ,A13        ,139     ,  1,25         ,8          ,2,19950301,1641, -35.0015,   9.9967,     5045,   3994.5,   1.6180,  34.7880,2,  34.7870,2,    222.8,2,    222.0,2,    85.50,2,    26.70,2,     1.83,2,    0.003,2,    0.013,3,   2232.7,2,   2355.6,2,     -999,9,     -999,9,     -999,9,     -999,9,   1.2960
35A3CITHER3_2 ,A13        ,139     ,  1,26         ,7          ,2,19950301,1641, -35.0015,   9.9967,     5045,   4196.3,   1.3520,  34.7640,2,  34.7620,2,    220.2,2,    219.2,2,    95.30,2,    28.70,2,     1.88,2,    0.002,2,    0.007,2,   2242.0,2,     -999,9,     -999,9,     -999,9,     -999,9,     -999,9,   1.0150
35A3CITHER3_2 ,A13        ,139     ,  1,27         ,6          ,2,19950301,1641, -35.0015,   9.9967,     5045,   4395.8,   1.2090,  34.7480,2,  34.7460,2,    218.6,2,    218.9,2,   102.10,2,    29.60,2,     1.89,2,    0.005,2,    0.010,2,   2247.2,2,     -999,9,     -999,9,     -999,9,     -999,9,     -999,9,   0.8540
35A3CITHER3_2 ,A13        ,139     ,  1,28         ,5          ,2,19950301,1641, -35.0015,   9.9967,     5045,   4595.6,   1.1370,  34.7390,2,  34.7380,2,    218.5,2,    217.1,2,   105.30,2,    29.90,2,     1.94,2,    0.010,2,    0.010,2,   2250.3,2,     -999,9,     -999,9,     -999,9,     -999,9,     -999,9,   0.7620
35A3CITHER3_2 ,A13        ,139     ,  1,29         ,4          ,2,19950301,1641, -35.0015,   9.9967,     5045,   4798.7,   1.1030,  34.7350,2,  34.7350,2,    217.9,2,    218.2,2,   106.60,2,    30.20,2,     1.98,2,    0.012,2,    0.011,2,   2250.9,2,     -999,9,     -999,9,     -999,9,     -999,9,     -999,9,   0.7060
35A3CITHER3_2 ,A13        ,139     ,  1,30         ,3          ,2,19950301,1641, -35.0015,   9.9967,     5045,   4996.8,   1.1060,  34.7340,2,  34.7330,2,    219.1,2,    217.3,2,   107.40,2,    30.00,2,     1.95,2,    0.013,2,    0.012,2,   2251.4,2,     -999,9,     -999,9,     -999,9,     -999,9,     -999,9,   0.6850
35A3CITHER3_2 ,A13        ,139     ,  1,31         ,2          ,2,19950301,1641, -35.0015,   9.9967,     5045,   5072.1,   1.1110,  34.7340,2,  34.7320,2,    219.0,2,    217.5,2,   107.90,2,    30.10,2,     1.94,2,    0.021,2,    0.015,2,   2251.8,2,     -999,9,     -999,9,     -999,9,     -999,9,     -999,9,   0.6810
35A3CITHER3_2 ,A13        ,139     ,  1,32         ,1          ,2,19950301,1641, -35.0015,   9.9967,     5045,   5111.3,   1.0900,  34.7310,2,  34.7310,2,    219.0,2,    217.2,2,   108.60,2,    30.50,2,     1.98,2,    0.023,2,    0.016,2,   2253.2,2,   2368.0,2,     -999,9,     -999,9,     -999,9,     -999,9,   0.6560