BOTTLE,20211216CCHDHYDRO
EXPOCODE,SECT_ID,STNNBR,CASTNO,SAMPNO,BTLNBR,BTLNBR_FLAG_W,DATE,TIME,LATITUDE,LONGITUDE,DEPTH,CTDPRS,CTDTMP,CTDSAL,CTDSAL_FLAG_W,SALNTY,SALNTY_FLAG_W,CTDOXY,CTDOXY_FLAG_W,OXYGEN,OXYGEN_FLAG_W,SILCAT,SILCAT_FLAG_W,NITRAT,NITRAT_FLAG_W,PHSPHT,PHSPHT_FLAG_W,CFC-11,CFC-11_FLAG_W,CFC-12,CFC-12_FLAG_W,TCARBN,TCARBN_FLAG_W,ALKALI,ALKALI_FLAG_W,TRITUM,TRITUM_FLAG_W,HELIUM,HELIUM_FLAG_W,DELHE3,DELHE3_FLAG_W,NEON,NEON_FLAG_W,THETA
,,,,,,,,,,,METERS,DBAR,DEG C,PSS-78,,PSS-78,,UMOL/KG,,UMOL/KG,,UMOL/KG,,UMOL/KG,,UMOL/KG,,PMOL/KG,,PMOL/KG,,UMOL/KG,,UMOL/KG,,TU,,NMOL/KG,,PERCNT,,NMOL/KG,,DEG C
35A3CITHER3_2 ,A13        ,179     ,  1,2          ,31         ,2,19950313,0201, -20.0025,   4.9995,     5275,      5.2,  24.2990,  36.1140,2,  36.1140,2,    217.9,2,    210.7,3,     4.60,2,     0.00,2,     0.21,2,    1.855,2,    0.986,2,   2040.1,2,   2377.1,2,     -999,9,     -999,9,     -999,9,     -999,9,  24.2980
35A3CITHER3_2 ,A13        ,179     ,  1,1          ,32         ,2,19950313,0201, -20.0025,   4.9995,     5275,      5.3,  24.2980,  36.1140,2,  36.1140,2,    217.9,2,    210.7,3,     4.60,2,     0.00,2,     0.22,2,    1.884,2,    1.007,2,     -999,9,     -999,9,     -999,9,     -999,9,     -999,9,     -999,9,  24.2970
35A3CITHER3_2 ,A13        ,179     ,  1,3          ,30         ,2,19950313,0201, -20.0025,   4.9995,     5275,     46.1,  21.2510,  35.8300,2,  35.7870,3,    233.1,2,    235.1,2,     4.30,2,     0.00,2,     0.31,2,    2.156,2,    1.120,2,   2038.4,2,   2355.5,2,     -999,9,     -999,9,     -999,9,     -999,9,  21.2420
35A3CITHER3_2 ,A13        ,179     ,  1,4          ,29         ,2,19950313,0201, -20.0025,   4.9995,     5275,    121.8,  14.4540,  35.3010,2,  35.2940,3,    187.3,2,    175.3,3,     6.70,2,    14.20,2,     1.02,3,    2.527,2,    1.232,2,   2135.2,2,   2326.6,2,     -999,9,     -999,9,     -999,9,     -999,9,  14.4360
35A3CITHER3_2 ,A13        ,179     ,  1,5          ,28         ,2,19950313,0201, -20.0025,   4.9995,     5275,    198.0,  12.1540,  35.0500,2,  35.0490,2,    167.8,2,    161.5,3,     9.10,2,    17.20,2,     1.15,2,    2.169,2,    1.045,2,   2144.9,2,     -999,9,     -999,9,     -999,9,     -999,9,     -999,9,  12.1280
35A3CITHER3_2 ,A13        ,179     ,  1,6          ,27         ,2,19950313,0201, -20.0025,   4.9995,     5275,    371.5,   8.7260,  34.7510,2,  34.7500,2,     75.0,2,     66.8,3,    19.40,2,    34.50,2,     2.13,2,    0.517,2,    0.254,2,   2231.8,2,     -999,9,     -999,9,     -999,9,     -999,9,     -999,9,   8.6860
35A3CITHER3_2 ,A13        ,179     ,  1,7          ,26         ,2,19950313,0201, -20.0025,   4.9995,     5275,    594.8,   5.4340,  34.4850,2,  34.4850,2,    117.9,2,    121.6,2,    28.60,2,    35.70,2,     2.25,2,    0.092,2,    0.053,2,   2226.3,2,   2291.9,2,     -999,9,     -999,9,     -999,9,     -999,9,   5.3840
35A3CITHER3_2 ,A13        ,179     ,  1,8          ,25         ,2,19950313,0201, -20.0025,   4.9995,     5275,    795.4,   4.3770,  34.4710,2,  34.4700,2,    140.8,2,    141.5,2,    36.10,2,    35.50,2,     2.29,2,    0.026,2,    0.012,2,   2225.4,2,     -999,9,     -999,9,     -999,9,     -999,9,     -999,9,   4.3160
35A3CITHER3_2 ,A13        ,179     ,  1,9          ,24         ,2,19950313,0201, -20.0025,   4.9995,     5275,    994.3,   3.7870,  34.5330,2,  34.5330,2,    164.3,2,    164.8,2,    41.30,2,    33.10,2,     2.18,2,    0.012,2,    0.008,2,   2221.4,2,   2310.8,2,     -999,9,     -999,9,     -999,9,     -999,9,   3.7130
35A3CITHER3_2 ,A13        ,179     ,  1,10         ,23         ,2,19950313,0201, -20.0025,   4.9995,     5275,   1195.5,   3.6270,  34.6570,2,  34.6520,3,    176.1,2,    176.8,2,    40.90,2,    30.40,2,     2.04,2,    0.004,2,    0.001,2,   2214.4,2,     -999,9,     -999,9,     -999,9,     -999,9,     -999,9,   3.5380
35A3CITHER3_2 ,A13        ,179     ,  1,11         ,22         ,2,19950313,0201, -20.0025,   4.9995,     5275,   1395.8,   3.5800,  34.7930,2,  34.7920,2,    196.9,2,    198.6,2,    35.70,2,    26.90,2,     1.78,2,    0.024,3,    0.011,3,   2196.8,2,     -999,9,     -999,9,     -999,9,     -999,9,     -999,9,   3.4740
35A3CITHER3_2 ,A13        ,179     ,  1,12         ,21         ,2,19950313,0201, -20.0025,   4.9995,     5275,   1595.1,   3.4820,  34.8570,2,  34.8540,2,    209.5,2,    212.0,2,    33.50,2,    25.00,2,     1.65,2,    0.000,2,     -999,9,   2189.8,2,     -999,9,     -999,9,     -999,9,     -999,9,     -999,9,   3.3600
35A3CITHER3_2 ,A13        ,179     ,  1,13         ,20         ,2,19950313,0201, -20.0025,   4.9995,     5275,   1794.1,   3.3410,  34.8920,2,  34.8920,2,    222.8,2,    223.2,2,    32.70,2,    23.10,2,     1.51,2,    0.003,2,    0.001,2,   2184.1,2,     -999,9,     -999,9,     -999,9,     -999,9,     -999,9,   3.2020
35A3CITHER3_2 ,A13        ,179     ,  1,14         ,19         ,2,19950313,0201, -20.0025,   4.9995,     5275,   1994.0,   3.2020,  34.9060,2,  34.9070,2,    228.4,2,    228.0,2,    33.60,2,    22.90,2,     1.49,2,   -0.001,2,    0.000,2,   2183.6,2,   2340.2,2,     -999,9,     -999,9,     -999,9,     -999,9,   3.0470
35A3CITHER3_2 ,A13        ,179     ,  1,15         ,18         ,2,19950313,0201, -20.0025,   4.9995,     5275,   2199.6,   3.0380,  34.9090,2,  34.9110,2,    233.1,2,    232.4,2,    35.60,2,    22.30,2,     1.44,2,    0.001,2,   -0.002,2,   2184.4,2,     -999,9,     -999,9,     -999,9,     -999,9,     -999,9,   2.8660
35A3CITHER3_2 ,A13        ,179     ,  1,16         ,17         ,2,19950313,0201, -20.0025,   4.9995,     5275,   2394.5,   2.8650,  34.9050,2,  34.9040,2,    236.5,2,    236.5,2,    38.20,2,    22.60,2,     1.48,2,    0.002,2,   -0.003,2,   2184.1,2,     -999,9,     -999,9,     -999,9,     -999,9,     -999,9,   2.6780
35A3CITHER3_2 ,A13        ,179     ,  1,17         ,16         ,2,19950313,0201, -20.0025,   4.9995,     5275,   2596.2,   2.7200,  34.9000,2,  34.9010,2,    235.1,2,    233.6,2,    42.40,2,    22.60,2,     1.48,2,    0.004,2,     -999,9,   2188.5,2,     -999,9,     -999,9,     -999,9,     -999,9,     -999,9,   2.5160
35A3CITHER3_2 ,A13        ,179     ,  1,18         ,15         ,2,19950313,0201, -20.0025,   4.9995,     5275,   2793.7,   2.6070,  34.8920,2,  34.8930,2,    235.4,2,    235.2,2,    44.50,2,    22.30,2,     1.46,2,    0.000,2,   -0.001,2,   2191.7,2,     -999,9,     -999,9,     -999,9,     -999,9,     -999,9,   2.3860
35A3CITHER3_2 ,A13        ,179     ,  1,19         ,14         ,2,19950313,0201, -20.0025,   4.9995,     5275,   2996.1,   2.5100,  34.8880,2,  34.8890,2,    235.6,2,    235.5,2,    46.70,2,    22.60,2,     1.48,2,    0.003,2,    0.008,2,   2194.3,2,     -999,9,     -999,9,     -999,9,     -999,9,     -999,9,   2.2700
35A3CITHER3_2 ,A13        ,179     ,  1,20         ,13         ,2,19950313,0201, -20.0025,   4.9995,     5275,   3194.1,   2.4520,  34.8870,2,  34.8880,2,    233.5,2,    233.7,2,    48.80,2,    22.80,2,     1.51,2,    0.001,2,    0.001,2,   2198.8,2,   2349.3,2,     -999,9,     -999,9,     -999,9,     -999,9,   2.1930
35A3CITHER3_2 ,A13        ,179     ,  1,21         ,12         ,2,19950313,0201, -20.0025,   4.9995,     5275,   3395.4,   2.4070,  34.8890,2,  34.8880,2,    231.6,2,    232.8,2,    50.80,2,    22.90,2,     1.49,2,   -0.002,2,    0.005,2,   2204.2,2,     -999,9,     -999,9,     -999,9,     -999,9,     -999,9,   2.1280
35A3CITHER3_2 ,A13        ,179     ,  1,22         ,11         ,2,19950313,0201, -20.0025,   4.9995,     5275,   3598.7,   2.3900,  34.8890,2,  34.8880,2,    230.8,2,    231.1,2,    51.70,2,    22.90,2,     1.51,2,    0.002,2,    0.004,2,   2207.0,2,     -999,9,     -999,9,     -999,9,     -999,9,     -999,9,   2.0900
35A3CITHER3_2 ,A13        ,179     ,  1,23         ,10         ,2,19950313,0201, -20.0025,   4.9995,     5275,   3799.2,   2.3740,  34.8890,2,  34.8890,2,    231.0,2,    231.2,2,    52.10,2,    23.10,2,     1.50,2,   -0.001,2,     -999,9,   2208.3,2,     -999,9,     -999,9,     -999,9,     -999,9,     -999,9,   2.0520
35A3CITHER3_2 ,A13        ,179     ,  1,24         ,9          ,2,19950313,0201, -20.0025,   4.9995,     5275,   3997.4,   2.3660,  34.8890,2,  34.8900,2,    232.0,2,    231.7,2,    52.70,2,    22.90,2,     1.48,2,    0.000,2,    0.002,2,   2209.9,2,   2361.1,2,     -999,9,     -999,9,     -999,9,     -999,9,   2.0220
35A3CITHER3_2 ,A13        ,179     ,  1,25         ,8          ,2,19950313,0201, -20.0025,   4.9995,     5275,   4197.6,   2.3690,  34.8870,2,  34.8890,2,    232.0,2,    231.5,2,    53.00,2,    22.60,2,     1.48,2,    0.000,2,     -999,9,   2209.5,2,     -999,9,     -999,9,     -999,9,     -999,9,     -999,9,   2.0020
35A3CITHER3_2 ,A13        ,179     ,  1,26         ,7          ,2,19950313,0201, -20.0025,   4.9995,     5275,   4397.4,   2.3770,  34.8870,2,  34.8880,2,    231.2,2,    231.1,2,    53.50,2,    22.40,2,     1.48,2,    0.000,2,    0.003,2,   2211.9,2,     -999,9,     -999,9,     -999,9,     -999,9,     -999,9,   1.9860
35A3CITHER3_2 ,A13        ,179     ,  1,27         ,6          ,2,19950313,0201, -20.0025,   4.9995,     5275,   4597.2,   2.3900,  34.8860,2,  34.8860,2,    231.2,2,    230.8,2,    54.00,2,    22.60,2,     1.48,2,    0.000,2,    0.005,2,   2215.8,2,     -999,9,     -999,9,     -999,9,     -999,9,     -999,9,   1.9740
35A3CITHER3_2 ,A13        ,179     ,  1,28         ,5          ,2,19950313,0201, -20.0025,   4.9995,     5275,   4800.2,   2.4060,  34.8840,2,  34.8850,2,    231.5,2,    231.7,2,    54.00,2,    22.60,2,     1.46,2,    0.001,2,   -0.004,2,   2213.0,2,     -999,9,     -999,9,     -999,9,     -999,9,     -999,9,   1.9650
35A3CITHER3_2 ,A13        ,179     ,  1,29         ,4          ,2,19950313,0201, -20.0025,   4.9995,     5275,   4997.2,   2.4230,  34.8830,2,  34.8850,2,    233.0,2,    233.1,2,    53.10,2,    22.50,2,     1.45,2,    0.001,2,   -0.001,2,   2210.8,2,   2367.3,2,     -999,9,     -999,9,     -999,9,     -999,9,   1.9570
35A3CITHER3_2 ,A13        ,179     ,  1,30         ,3          ,2,19950313,0201, -20.0025,   4.9995,     5275,   5196.1,   2.4420,  34.8820,2,  34.8840,2,    233.7,2,    232.8,2,    54.00,2,    22.70,2,     1.48,2,    0.001,2,    0.007,2,   2211.1,2,     -999,9,     -999,9,     -999,9,     -999,9,     -999,9,   1.9500
35A3CITHER3_2 ,A13        ,179     ,  1,31         ,2          ,2,19950313,0201, -20.0025,   4.9995,     5275,   5301.7,   2.4530,  34.8830,2,  34.8840,2,    233.8,2,    233.2,2,    53.80,2,    22.40,2,     1.46,2,    0.001,2,     -999,9,   2212.1,2,     -999,9,     -999,9,     -999,9,     -999,9,     -999,9,   1.9460
35A3CITHER3_2 ,A13        ,179     ,  1,32         ,1          ,2,19950313,0201, -20.0025,   4.9995,     5275,   5343.9,   2.4590,  34.8830,2,  34.8840,2,    233.0,2,    233.8,2,    54.00,2,    22.60,2,     1.47,2,    0.006,2,     -999,9,   2213.3,2,   2368.3,2,     -999,9,     -999,9,     -999,9,     -999,9,   1.9470