BOTTLE,20211216CCHDHYDRO
EXPOCODE,SECT_ID,STNNBR,CASTNO,SAMPNO,BTLNBR,BTLNBR_FLAG_W,DATE,TIME,LATITUDE,LONGITUDE,DEPTH,CTDPRS,CTDTMP,CTDSAL,CTDSAL_FLAG_W,SALNTY,SALNTY_FLAG_W,CTDOXY,CTDOXY_FLAG_W,OXYGEN,OXYGEN_FLAG_W,SILCAT,SILCAT_FLAG_W,NITRAT,NITRAT_FLAG_W,PHSPHT,PHSPHT_FLAG_W,CFC-11,CFC-11_FLAG_W,CFC-12,CFC-12_FLAG_W,TCARBN,TCARBN_FLAG_W,ALKALI,ALKALI_FLAG_W,TRITUM,TRITUM_FLAG_W,HELIUM,HELIUM_FLAG_W,DELHE3,DELHE3_FLAG_W,NEON,NEON_FLAG_W,THETA
,,,,,,,,,,,METERS,DBAR,DEG C,PSS-78,,PSS-78,,UMOL/KG,,UMOL/KG,,UMOL/KG,,UMOL/KG,,UMOL/KG,,PMOL/KG,,PMOL/KG,,UMOL/KG,,UMOL/KG,,TU,,NMOL/KG,,PERCNT,,NMOL/KG,,DEG C
35A3CITHER3_2 ,A13        ,172     ,  1,1          ,20         ,2,19950311,1601, -21.9502,   6.4122,     2541,      3.9,  23.3410,  35.5130,2,  35.5130,2,    219.7,2,    215.0,3,     2.00,2,     0.00,2,     0.31,2,     -999,9,     -999,9,     -999,9,     -999,9,     -999,9,     -999,9,     -999,9,     -999,9,  23.3400
35A3CITHER3_2 ,A13        ,172     ,  1,2          ,19         ,2,19950311,1601, -21.9502,   6.4122,     2541,     46.0,  19.6810,  35.4990,2,  35.5120,3,    222.3,2,    247.5,3,     2.50,2,     0.00,2,     0.20,2,    2.463,2,    1.241,2,     -999,9,     -999,9,     -999,9,     -999,9,     -999,9,     -999,9,  19.6730
35A3CITHER3_2 ,A13        ,172     ,  1,3          ,18         ,2,19950311,1601, -21.9502,   6.4122,     2541,    121.3,  15.5370,  35.4190,2,  35.4010,3,    219.0,2,    209.8,3,     4.00,2,     5.30,2,     0.54,2,    2.622,2,    1.286,2,     -999,9,     -999,9,     -999,9,     -999,9,     -999,9,     -999,9,  15.5180
35A3CITHER3_2 ,A13        ,172     ,  1,4          ,17         ,2,19950311,1601, -21.9502,   6.4122,     2541,    196.9,  12.6710,  35.1010,2,  35.0980,2,    189.0,2,    185.0,2,     6.00,2,    14.10,2,     0.95,2,    2.388,2,    1.144,2,     -999,9,     -999,9,     -999,9,     -999,9,     -999,9,     -999,9,  12.6440
35A3CITHER3_2 ,A13        ,172     ,  1,5          ,16         ,2,19950311,1601, -21.9502,   6.4122,     2541,    276.1,  10.9550,  34.9140,2,  34.9040,3,    179.7,2,    172.6,3,     8.50,3,    18.10,2,     1.24,3,    2.100,2,    0.980,2,     -999,9,     -999,9,     -999,9,     -999,9,     -999,9,     -999,9,  10.9210
35A3CITHER3_2 ,A13        ,172     ,  1,6          ,15         ,2,19950311,1601, -21.9502,   6.4122,     2541,    355.7,   9.1950,  34.7220,2,  34.7130,3,    168.0,2,    162.8,3,    12.30,3,    22.60,2,     1.60,3,    1.677,2,    0.783,2,     -999,9,     -999,9,     -999,9,     -999,9,     -999,9,     -999,9,   9.1560
35A3CITHER3_2 ,A13        ,172     ,  1,7          ,14         ,2,19950311,1601, -21.9502,   6.4122,     2541,    486.7,   6.3680,  34.4730,2,  34.4730,2,    175.2,2,    173.9,2,    19.70,3,    27.40,2,     1.98,3,    1.149,2,    0.537,2,     -999,9,     -999,9,     -999,9,     -999,9,     -999,9,     -999,9,   6.3240
35A3CITHER3_2 ,A13        ,172     ,  1,8          ,13         ,2,19950311,1601, -21.9502,   6.4122,     2541,    634.0,   4.9190,  34.4260,2,  34.4270,2,    157.1,2,    153.5,2,    28.60,2,    34.40,2,     2.26,2,    0.396,2,    0.318,2,     -999,9,     -999,9,     -999,9,     -999,9,     -999,9,     -999,9,   4.8680
35A3CITHER3_2 ,A13        ,172     ,  1,9          ,12         ,2,19950311,1601, -21.9502,   6.4122,     2541,    794.9,   3.9990,  34.4420,2,  34.4410,2,    167.1,2,    166.4,2,    37.00,2,    34.20,2,     2.27,2,     -999,9,     -999,9,     -999,9,     -999,9,     -999,9,     -999,9,     -999,9,     -999,9,   3.9400
35A3CITHER3_2 ,A13        ,172     ,  1,10         ,11         ,2,19950311,1601, -21.9502,   6.4122,     2541,    796.2,   3.9900,  34.4440,2,  34.4400,3,    167.1,2,    166.3,2,    37.10,2,    34.20,2,     2.26,2,    0.170,2,     -999,9,     -999,9,     -999,9,     -999,9,     -999,9,     -999,9,     -999,9,   3.9310
35A3CITHER3_2 ,A13        ,172     ,  1,11         ,10         ,2,19950311,1601, -21.9502,   6.4122,     2541,    994.2,   3.6120,  34.5530,2,  34.5540,2,    173.7,2,    173.1,2,    41.10,2,    32.70,2,     2.19,2,    0.025,2,     -999,9,     -999,9,     -999,9,     -999,9,     -999,9,     -999,9,     -999,9,   3.5400
35A3CITHER3_2 ,A13        ,172     ,  1,12         ,9          ,2,19950311,1601, -21.9502,   6.4122,     2541,   1195.2,   3.5970,  34.6700,2,  34.6700,2,    181.4,2,    180.8,2,    38.60,2,    30.60,2,     2.05,2,    0.007,2,    0.008,2,     -999,9,     -999,9,     -999,9,     -999,9,     -999,9,     -999,9,   3.5080
35A3CITHER3_2 ,A13        ,172     ,  1,13         ,8          ,2,19950311,1601, -21.9502,   6.4122,     2541,   1395.6,   3.5330,  34.7800,2,  34.7780,2,    196.9,2,    197.3,2,    35.00,2,    27.60,2,     1.83,2,    0.000,2,    0.010,3,     -999,9,     -999,9,     -999,9,     -999,9,     -999,9,     -999,9,   3.4280
35A3CITHER3_2 ,A13        ,172     ,  1,14         ,7          ,2,19950311,1601, -21.9502,   6.4122,     2541,   1594.7,   3.3880,  34.8350,2,  34.8370,2,    209.2,2,    209.1,2,    34.50,2,    24.80,2,     1.72,2,    0.012,3,    0.013,3,     -999,9,     -999,9,     -999,9,     -999,9,     -999,9,     -999,9,   3.2670
35A3CITHER3_2 ,A13        ,172     ,  1,15         ,6          ,2,19950311,1601, -21.9502,   6.4122,     2541,   1795.2,   3.2640,  34.8770,2,  34.8800,2,    220.8,2,    224.8,3,    32.10,2,    22.30,2,     1.56,2,    0.004,2,     -999,9,     -999,9,     -999,9,     -999,9,     -999,9,     -999,9,     -999,9,   3.1260
35A3CITHER3_2 ,A13        ,172     ,  1,16         ,5          ,2,19950311,1601, -21.9502,   6.4122,     2541,   1994.9,   3.1150,  34.8990,2,  34.8990,2,    234.5,2,    235.2,2,    32.40,2,    20.30,2,     1.49,2,     -999,9,     -999,9,     -999,9,     -999,9,     -999,9,     -999,9,     -999,9,     -999,9,   2.9610
35A3CITHER3_2 ,A13        ,172     ,  1,17         ,4          ,2,19950311,1601, -21.9502,   6.4122,     2541,   2196.7,   2.9100,  34.8970,2,  34.8970,2,    236.9,2,    236.5,2,    36.30,2,    21.60,2,     1.49,2,    0.004,2,     -999,9,     -999,9,     -999,9,     -999,9,     -999,9,     -999,9,     -999,9,   2.7410
35A3CITHER3_2 ,A13        ,172     ,  1,18         ,3          ,2,19950311,1601, -21.9502,   6.4122,     2541,   2396.2,   2.7740,  34.8900,2,  34.8890,2,    237.0,2,    236.6,2,    39.10,2,    23.10,2,     1.52,2,     -999,9,     -999,9,     -999,9,     -999,9,     -999,9,     -999,9,     -999,9,     -999,9,   2.5880
35A3CITHER3_2 ,A13        ,172     ,  1,19         ,2          ,2,19950311,1601, -21.9502,   6.4122,     2541,   2494.5,   2.7130,  34.8880,2,  34.8880,2,    237.1,2,    236.5,2,    39.70,2,    22.20,2,     1.52,2,    0.000,2,    0.010,2,     -999,9,     -999,9,     -999,9,     -999,9,     -999,9,     -999,9,   2.5190
35A3CITHER3_2 ,A13        ,172     ,  1,20         ,1          ,2,19950311,1601, -21.9502,   6.4122,     2541,   2561.6,   2.6680,  34.8870,2,  34.8840,2,    234.9,2,    236.7,2,    40.50,2,    20.30,2,     1.48,2,    0.005,2,    0.019,3,     -999,9,     -999,9,     -999,9,     -999,9,     -999,9,     -999,9,   2.4680
35A3CITHER3_2 ,A13        ,173     ,  1,1          ,24         ,2,19950311,2000, -21.6845,   6.2000,     3393,      8.9,  23.4020,  35.8380,2,  35.8380,2,    214.4,2,    214.4,2,     1.90,2,     0.00,2,     0.33,2,    1.982,2,    1.025,2,   2047.2,2,   2350.1,2,     -999,9,     -999,9,     -999,9,     -999,9,  23.4000
35A3CITHER3_2 ,A13        ,173     ,  1,2          ,23         ,2,19950311,2000, -21.6845,   6.2000,     3393,     46.0,  19.9020,  35.6580,2,  35.6590,2,    226.8,2,    241.9,3,     2.40,2,     0.00,2,     0.30,2,    2.379,2,    1.189,2,   2044.8,2,   2337.9,2,     -999,9,     -999,9,     -999,9,     -999,9,  19.8940
35A3CITHER3_2 ,A13        ,173     ,  1,3          ,22         ,2,19950311,2000, -21.6845,   6.2000,     3393,    120.7,  15.2440,  35.3850,2,  35.3670,3,    219.1,2,    198.4,3,     4.10,2,     9.10,2,     0.71,2,    2.582,2,    1.264,2,   2104.1,2,   2325.6,2,     -999,9,     -999,9,     -999,9,     -999,9,  15.2260
35A3CITHER3_2 ,A13        ,173     ,  1,4          ,21         ,2,19950311,2000, -21.6845,   6.2000,     3393,    196.1,  12.8470,  35.1200,2,  35.1190,2,    186.0,2,    178.8,3,     6.00,2,    14.60,2,     0.93,2,    2.385,2,    1.159,2,   2130.2,2,   2313.3,2,     -999,9,     -999,9,     -999,9,     -999,9,  12.8200
35A3CITHER3_2 ,A13        ,173     ,  1,6          ,19         ,2,19950311,2000, -21.6845,   6.2000,     3393,    396.5,   8.1160,  34.6210,2,  34.6240,2,    166.5,2,    164.7,2,    14.40,3,    26.30,2,     1.58,3,    1.431,2,    0.679,2,   2176.8,2,     -999,9,     -999,9,     -999,9,     -999,9,     -999,9,   8.0750
35A3CITHER3_2 ,A13        ,173     ,  1,5          ,20         ,2,19950311,2000, -21.6845,   6.2000,     3393,    396.9,   8.1180,  34.6200,2,  34.6200,2,    166.5,2,    163.8,2,    14.00,3,    25.90,2,     1.77,3,    1.454,2,    0.664,2,     -999,9,     -999,9,     -999,9,     -999,9,     -999,9,     -999,9,   8.0770
35A3CITHER3_2 ,A13        ,173     ,  1,7          ,18         ,2,19950311,2000, -21.6845,   6.2000,     3393,    545.1,   5.8060,  34.4700,2,  34.4710,2,    146.8,2,    144.7,2,    22.40,2,    33.30,2,     2.24,2,    0.419,2,    0.214,2,   2210.2,2,   2296.1,2,     -999,9,     -999,9,     -999,9,     -999,9,   5.7590
35A3CITHER3_2 ,A13        ,173     ,  1,9          ,16         ,2,19950311,2000, -21.6845,   6.2000,     3393,    793.9,   4.1070,  34.4540,2,  34.4550,2,    164.3,2,    162.9,2,    34.60,2,    34.20,2,     2.28,2,    0.057,2,    0.040,2,   2219.7,2,     -999,9,     -999,9,     -999,9,     -999,9,     -999,9,   4.0480
35A3CITHER3_2 ,A13        ,173     ,  1,10         ,15         ,2,19950311,2000, -21.6845,   6.2000,     3393,    995.0,   3.7500,  34.5430,2,  34.5430,2,    169.7,2,    168.0,2,    38.00,2,    33.00,2,     2.24,2,    0.009,2,     -999,9,   2222.1,2,   2308.0,2,     -999,9,     -999,9,     -999,9,     -999,9,   3.6770
35A3CITHER3_2 ,A13        ,173     ,  1,8          ,17         ,2,19950311,2000, -21.6845,   6.2000,     3393,    995.1,   3.7500,  34.5430,2,  34.5440,2,    169.7,2,    168.1,2,    37.50,2,    33.30,2,     2.24,2,    0.012,2,    0.015,3,     -999,9,     -999,9,     -999,9,     -999,9,     -999,9,     -999,9,   3.6770
35A3CITHER3_2 ,A13        ,173     ,  1,11         ,14         ,2,19950311,2000, -21.6845,   6.2000,     3393,   1194.6,   3.6460,  34.6710,2,  34.6720,2,    180.2,2,    180.3,2,    36.60,2,    30.70,2,     2.14,3,    0.000,2,    0.005,2,   2215.2,2,     -999,9,     -999,9,     -999,9,     -999,9,     -999,9,   3.5570
35A3CITHER3_2 ,A13        ,173     ,  1,13         ,12         ,2,19950311,2000, -21.6845,   6.2000,     3393,   1393.7,   3.5430,  34.7620,2,  34.7650,2,    194.5,2,    195.4,2,    35.20,2,    27.90,2,     1.97,3,    0.001,2,    0.001,2,   2206.0,2,     -999,9,     -999,9,     -999,9,     -999,9,     -999,9,   3.4380
35A3CITHER3_2 ,A13        ,173     ,  1,12         ,13         ,2,19950311,2000, -21.6845,   6.2000,     3393,   1394.0,   3.5420,  34.7630,2,  34.7640,2,    194.5,2,    195.6,2,    35.20,2,    27.90,2,     1.98,3,    0.003,2,    0.001,2,     -999,9,     -999,9,     -999,9,     -999,9,     -999,9,     -999,9,   3.4370
35A3CITHER3_2 ,A13        ,173     ,  1,14         ,11         ,2,19950311,2000, -21.6845,   6.2000,     3393,   1595.7,   3.4510,  34.8390,2,  34.8400,2,    211.7,2,    212.3,2,    32.50,2,    25.20,2,     1.79,3,    0.004,2,     -999,9,   2195.6,2,     -999,9,     -999,9,     -999,9,     -999,9,     -999,9,   3.3290
35A3CITHER3_2 ,A13        ,173     ,  1,15         ,10         ,2,19950311,2000, -21.6845,   6.2000,     3393,   1795.4,   3.2810,  34.8790,2,  34.8800,2,    224.8,2,    226.0,2,    31.70,2,    23.00,2,     1.66,3,    0.001,2,     -999,9,   2188.2,2,     -999,9,     -999,9,     -999,9,     -999,9,     -999,9,   3.1430
35A3CITHER3_2 ,A13        ,173     ,  1,16         ,9          ,2,19950311,2000, -21.6845,   6.2000,     3393,   1995.2,   3.1020,  34.8950,2,  34.8800,3,    234.5,2,    234.8,2,    32.30,2,    22.30,2,     1.57,2,    0.004,2,     -999,9,   2184.0,2,   2333.1,2,     -999,9,     -999,9,     -999,9,     -999,9,   2.9490
35A3CITHER3_2 ,A13        ,173     ,  1,17         ,8          ,2,19950311,2000, -21.6845,   6.2000,     3393,   2195.0,   2.9350,  34.8990,2,  34.8980,2,    238.5,2,    238.6,2,    34.40,2,    21.40,2,     1.47,2,    0.003,2,    0.003,2,   2187.8,2,     -999,9,     -999,9,     -999,9,     -999,9,     -999,9,   2.7660
35A3CITHER3_2 ,A13        ,173     ,  1,18         ,7          ,2,19950311,2000, -21.6845,   6.2000,     3393,   2395.1,   2.7610,  34.8920,2,  34.8900,2,    239.1,2,    238.8,2,    38.30,2,    20.60,2,     1.43,2,    0.000,2,     -999,9,   2187.7,2,     -999,9,     -999,9,     -999,9,     -999,9,     -999,9,   2.5760
35A3CITHER3_2 ,A13        ,173     ,  1,19         ,6          ,2,19950311,2000, -21.6845,   6.2000,     3393,   2597.0,   2.5900,  34.8790,2,  34.8800,2,    238.7,2,    238.0,2,    42.30,2,    22.50,2,     1.56,2,    0.002,2,    0.007,2,   2192.3,2,     -999,9,     -999,9,     -999,9,     -999,9,     -999,9,   2.3890
35A3CITHER3_2 ,A13        ,173     ,  1,20         ,5          ,2,19950311,2000, -21.6845,   6.2000,     3393,   2795.6,   2.5130,  34.8820,2,  34.8810,2,    237.7,2,    237.8,2,    44.10,2,    22.30,2,     1.51,2,    0.000,2,    0.005,2,   2195.1,2,     -999,9,     -999,9,     -999,9,     -999,9,     -999,9,   2.2940
35A3CITHER3_2 ,A13        ,173     ,  1,21         ,4          ,2,19950311,2000, -21.6845,   6.2000,     3393,   2995.2,   2.4320,  34.8800,2,  34.8800,2,    236.8,2,    237.0,2,    46.40,2,    23.30,2,     1.54,2,     -999,9,     -999,9,   2198.7,2,   2344.9,2,     -999,9,     -999,9,     -999,9,     -999,9,   2.1940
35A3CITHER3_2 ,A13        ,173     ,  1,22         ,3          ,2,19950311,2000, -21.6845,   6.2000,     3393,   3195.4,   2.4080,  34.8820,2,  34.8840,2,    234.9,2,    234.6,2,    47.60,2,    22.70,2,     1.59,2,    0.003,2,     -999,9,   2203.2,2,     -999,9,     -999,9,     -999,9,     -999,9,     -999,9,   2.1500
35A3CITHER3_2 ,A13        ,173     ,  1,23         ,2          ,2,19950311,2000, -21.6845,   6.2000,     3393,   3396.0,   2.3650,  34.8870,2,  34.8870,2,    232.2,2,    232.7,2,    49.50,2,    20.80,2,     1.53,2,    0.000,2,     -999,9,   2208.9,2,     -999,9,     -999,9,     -999,9,     -999,9,     -999,9,   2.0870
35A3CITHER3_2 ,A13        ,173     ,  1,24         ,1          ,2,19950311,2000, -21.6845,   6.2000,     3393,   3425.9,   2.3540,  34.8880,2,  34.8880,2,    230.5,2,    231.5,2,    49.60,2,    20.30,2,     1.51,2,    0.001,2,     -999,9,   2211.2,2,   2351.6,2,     -999,9,     -999,9,     -999,9,     -999,9,   2.0730