BOTTLE,20211216CCHDHYDRO
EXPOCODE,SECT_ID,STNNBR,CASTNO,SAMPNO,BTLNBR,BTLNBR_FLAG_W,DATE,TIME,LATITUDE,LONGITUDE,DEPTH,CTDPRS,CTDTMP,CTDSAL,CTDSAL_FLAG_W,SALNTY,SALNTY_FLAG_W,CTDOXY,CTDOXY_FLAG_W,OXYGEN,OXYGEN_FLAG_W,SILCAT,SILCAT_FLAG_W,NITRAT,NITRAT_FLAG_W,PHSPHT,PHSPHT_FLAG_W,CFC-11,CFC-11_FLAG_W,CFC-12,CFC-12_FLAG_W,TCARBN,TCARBN_FLAG_W,ALKALI,ALKALI_FLAG_W,TRITUM,TRITUM_FLAG_W,HELIUM,HELIUM_FLAG_W,DELHE3,DELHE3_FLAG_W,NEON,NEON_FLAG_W,THETA
,,,,,,,,,,,METERS,DBAR,DEG C,PSS-78,,PSS-78,,UMOL/KG,,UMOL/KG,,UMOL/KG,,UMOL/KG,,UMOL/KG,,PMOL/KG,,PMOL/KG,,UMOL/KG,,UMOL/KG,,TU,,NMOL/KG,,PERCNT,,NMOL/KG,,DEG C
35A3CITHER3_2 ,A13        ,206     ,  1,1          ,32         ,2,19950320,0043,  -6.9997,   4.9992,     5110,      5.5,  29.0910,  35.3540,2,  35.3570,2,    190.3,2,    196.7,3,     4.10,2,     0.00,2,     0.12,2,    1.530,2,    0.851,2,     -999,9,     -999,9,     -999,9,     -999,9,     -999,9,     -999,9,  29.0900
35A3CITHER3_2 ,A13        ,206     ,  1,2          ,31         ,2,19950320,0043,  -6.9997,   4.9992,     5110,     46.6,  17.0060,  35.7110,2,  35.7170,3,    130.2,2,    123.8,3,     6.60,2,    14.40,2,     0.90,2,    1.585,2,    0.791,2,     -999,9,     -999,9,     -999,9,     -999,9,     -999,9,     -999,9,  16.9980
35A3CITHER3_2 ,A13        ,206     ,  1,3          ,30         ,2,19950320,0043,  -6.9997,   4.9992,     5110,    121.6,  15.1350,  35.5580,2,  35.5560,2,     96.6,2,     94.4,2,     8.60,2,    19.80,2,     1.27,2,    1.368,2,    0.673,2,     -999,9,     -999,9,     -999,9,     -999,9,     -999,9,     -999,9,  15.1160
35A3CITHER3_2 ,A13        ,206     ,  1,4          ,29         ,2,19950320,0043,  -6.9997,   4.9992,     5110,    196.1,  13.9200,  35.3960,2,  35.3930,2,     61.2,2,     73.6,3,     9.40,2,    23.70,2,     1.48,2,    1.029,2,    0.514,2,     -999,9,     -999,9,     -999,9,     -999,9,     -999,9,     -999,9,  13.8920
35A3CITHER3_2 ,A13        ,206     ,  1,5          ,28         ,2,19950320,0043,  -6.9997,   4.9992,     5110,    371.3,   9.5530,  34.9000,2,  34.8980,2,     25.5,2,     23.2,2,    17.60,2,    36.90,2,     2.27,2,    0.141,2,    0.078,2,     -999,9,     -999,9,     -999,9,     -999,9,     -999,9,     -999,9,   9.5110
35A3CITHER3_2 ,A13        ,206     ,  1,6          ,27         ,2,19950320,0043,  -6.9997,   4.9992,     5110,    496.2,   7.3310,  34.6710,2,  34.6730,2,     45.8,2,     48.3,2,    22.00,2,    38.90,2,     2.47,2,    0.025,2,    0.017,2,     -999,9,     -999,9,     -999,9,     -999,9,     -999,9,     -999,9,   7.2830
35A3CITHER3_2 ,A13        ,206     ,  1,7          ,26         ,2,19950320,0043,  -6.9997,   4.9992,     5110,    595.2,   5.9940,  34.5660,2,  34.5610,2,     81.5,2,     82.6,2,    26.10,3,    38.30,2,     2.49,2,    0.014,2,    0.015,2,     -999,9,     -999,9,     -999,9,     -999,9,     -999,9,     -999,9,   5.9420
35A3CITHER3_2 ,A13        ,206     ,  1,8          ,25         ,2,19950320,0043,  -6.9997,   4.9992,     5110,    794.8,   4.6950,  34.5150,2,  34.5010,3,    119.8,2,    121.4,2,    32.60,2,    36.20,2,     2.42,2,    0.011,2,    0.024,2,     -999,9,     -999,9,     -999,9,     -999,9,     -999,9,     -999,9,   4.6320
35A3CITHER3_2 ,A13        ,206     ,  1,9          ,24         ,2,19950320,0043,  -6.9997,   4.9992,     5110,    995.6,   4.2190,  34.6060,2,  34.6060,2,    145.7,2,    146.9,2,    34.20,3,    33.30,2,     2.24,2,    0.003,2,     -999,9,     -999,9,     -999,9,     -999,9,     -999,9,     -999,9,     -999,9,   4.1420
35A3CITHER3_2 ,A13        ,206     ,  1,10         ,23         ,2,19950320,0043,  -6.9997,   4.9992,     5110,   1195.4,   4.0820,  34.7660,2,  34.7590,3,    172.1,2,    173.7,2,    30.10,3,    28.80,2,     1.94,2,    0.007,2,    0.004,2,     -999,9,     -999,9,     -999,9,     -999,9,     -999,9,     -999,9,   3.9890
35A3CITHER3_2 ,A13        ,206     ,  1,11         ,22         ,2,19950320,0043,  -6.9997,   4.9992,     5110,   1395.4,   4.0200,  34.8880,2,  34.8900,2,    202.2,2,    203.8,2,    26.50,2,    24.10,2,     1.59,2,    0.011,2,    0.009,2,     -999,9,     -999,9,     -999,9,     -999,9,     -999,9,     -999,9,   3.9090
35A3CITHER3_2 ,A13        ,206     ,  1,12         ,21         ,2,19950320,0043,  -6.9997,   4.9992,     5110,   1594.4,   3.8230,  34.9290,2,  34.9300,2,    223.1,2,    220.7,2,    25.50,2,    22.30,2,     1.47,2,    0.002,2,    0.005,2,     -999,9,     -999,9,     -999,9,     -999,9,     -999,9,     -999,9,   3.6960
35A3CITHER3_2 ,A13        ,206     ,  1,13         ,20         ,2,19950320,0043,  -6.9997,   4.9992,     5110,   1794.9,   3.6000,  34.9400,2,  34.9420,2,    233.0,2,    229.9,2,    26.30,2,    21.20,2,     1.39,2,    0.000,2,    0.010,2,     -999,9,     -999,9,     -999,9,     -999,9,     -999,9,     -999,9,   3.4580
35A3CITHER3_2 ,A13        ,206     ,  1,14         ,19         ,2,19950320,0043,  -6.9997,   4.9992,     5110,   1995.2,   3.3910,  34.9390,2,  34.9420,2,    235.7,2,    233.7,2,    29.20,2,    20.40,2,     1.29,3,    0.000,2,    0.000,2,     -999,9,     -999,9,     -999,9,     -999,9,     -999,9,     -999,9,   3.2330
35A3CITHER3_2 ,A13        ,206     ,  1,15         ,18         ,2,19950320,0043,  -6.9997,   4.9992,     5110,   2194.8,   3.1660,  34.9340,2,  34.9350,2,    236.9,2,    234.7,2,    32.90,2,    21.20,2,     1.38,2,    0.004,2,    0.001,2,     -999,9,     -999,9,     -999,9,     -999,9,     -999,9,     -999,9,   2.9930
35A3CITHER3_2 ,A13        ,206     ,  1,16         ,17         ,2,19950320,0043,  -6.9997,   4.9992,     5110,   2395.2,   3.0000,  34.9270,2,  34.9280,2,    236.4,2,    234.3,2,    36.30,2,    21.30,2,     1.41,2,    0.000,2,    0.002,2,     -999,9,     -999,9,     -999,9,     -999,9,     -999,9,     -999,9,   2.8100
35A3CITHER3_2 ,A13        ,206     ,  1,17         ,16         ,2,19950320,0043,  -6.9997,   4.9992,     5110,   2595.4,   2.8430,  34.9210,2,  34.9230,2,    236.5,2,    235.2,2,    38.90,2,    21.20,2,     1.41,2,    0.004,2,    0.003,2,     -999,9,     -999,9,     -999,9,     -999,9,     -999,9,     -999,9,   2.6370
35A3CITHER3_2 ,A13        ,206     ,  1,18         ,15         ,2,19950320,0043,  -6.9997,   4.9992,     5110,   2796.1,   2.7200,  34.9140,2,  34.9140,2,    235.1,2,    233.7,2,    42.20,2,    21.50,2,     1.41,2,    0.000,2,    0.004,2,     -999,9,     -999,9,     -999,9,     -999,9,     -999,9,     -999,9,   2.4960
35A3CITHER3_2 ,A13        ,206     ,  1,19         ,14         ,2,19950320,0043,  -6.9997,   4.9992,     5110,   2996.3,   2.6370,  34.9100,2,  34.9110,2,    234.7,2,    234.1,2,    44.10,2,    21.90,2,     1.43,2,    0.002,2,    0.002,2,     -999,9,     -999,9,     -999,9,     -999,9,     -999,9,     -999,9,   2.3950
35A3CITHER3_2 ,A13        ,206     ,  1,20         ,13         ,2,19950320,0043,  -6.9997,   4.9992,     5110,   3196.6,   2.5560,  34.9040,2,  34.9040,2,    235.1,2,    234.4,2,    45.60,2,    21.60,2,     1.43,2,    0.001,2,    0.002,2,     -999,9,     -999,9,     -999,9,     -999,9,     -999,9,     -999,9,   2.2950
35A3CITHER3_2 ,A13        ,206     ,  1,21         ,12         ,2,19950320,0043,  -6.9997,   4.9992,     5110,   3396.3,   2.5030,  34.9010,2,  34.9010,2,    233.6,2,    233.3,2,    47.80,2,    22.20,2,     1.44,2,    0.001,2,    0.000,2,     -999,9,     -999,9,     -999,9,     -999,9,     -999,9,     -999,9,   2.2220
35A3CITHER3_2 ,A13        ,206     ,  1,22         ,11         ,2,19950320,0043,  -6.9997,   4.9992,     5110,   3597.2,   2.4380,  34.8980,2,  34.8970,2,    229.0,2,    228.1,2,    51.40,2,    22.30,2,     1.47,2,    0.002,2,    0.001,2,     -999,9,     -999,9,     -999,9,     -999,9,     -999,9,     -999,9,   2.1370
35A3CITHER3_2 ,A13        ,206     ,  1,23         ,10         ,2,19950320,0043,  -6.9997,   4.9992,     5110,   3796.4,   2.3590,  34.8910,2,  34.8900,2,    222.7,2,    222.2,2,    55.80,2,    23.20,2,     1.49,2,    0.001,2,    0.000,2,     -999,9,     -999,9,     -999,9,     -999,9,     -999,9,     -999,9,   2.0380
35A3CITHER3_2 ,A13        ,206     ,  1,24         ,9          ,2,19950320,0043,  -6.9997,   4.9992,     5110,   3996.4,   2.3350,  34.8880,2,  34.8890,2,    225.4,2,    225.7,2,    55.20,2,    22.80,2,     1.57,3,    0.001,2,     -999,9,     -999,9,     -999,9,     -999,9,     -999,9,     -999,9,     -999,9,   1.9920
35A3CITHER3_2 ,A13        ,206     ,  1,25         ,8          ,2,19950320,0043,  -6.9997,   4.9992,     5110,   4197.0,   2.3320,  34.8860,2,  34.8820,2,    229.7,2,    230.2,2,    54.50,2,    22.30,2,     1.45,2,    0.005,2,     -999,9,     -999,9,     -999,9,     -999,9,     -999,9,     -999,9,     -999,9,   1.9660
35A3CITHER3_2 ,A13        ,206     ,  1,26         ,7          ,2,19950320,0043,  -6.9997,   4.9992,     5110,   4397.0,   2.3350,  34.8830,2,  34.8840,2,    232.4,2,    232.4,2,    54.10,2,    21.70,2,     1.42,2,   -0.001,2,    0.002,2,     -999,9,     -999,9,     -999,9,     -999,9,     -999,9,     -999,9,   1.9450
35A3CITHER3_2 ,A13        ,206     ,  1,27         ,6          ,2,19950320,0043,  -6.9997,   4.9992,     5110,   4598.4,   2.3450,  34.8810,2,  34.8820,2,    233.8,2,    234.0,2,    54.10,2,    22.00,2,     1.44,2,    0.004,2,    0.002,2,     -999,9,     -999,9,     -999,9,     -999,9,     -999,9,     -999,9,   1.9310
35A3CITHER3_2 ,A13        ,206     ,  1,28         ,5          ,2,19950320,0043,  -6.9997,   4.9992,     5110,   4796.7,   2.3610,  34.8800,2,  34.8810,2,    234.6,2,    234.5,2,    54.10,2,    21.60,2,     1.41,2,    0.001,2,    0.001,2,     -999,9,     -999,9,     -999,9,     -999,9,     -999,9,     -999,9,   1.9220
35A3CITHER3_2 ,A13        ,206     ,  1,29         ,4          ,2,19950320,0043,  -6.9997,   4.9992,     5110,   4997.1,   2.3780,  34.8780,2,  34.8810,2,    235.2,2,    235.1,2,    54.20,2,    22.30,2,     1.44,2,    0.002,2,     -999,9,     -999,9,     -999,9,     -999,9,     -999,9,     -999,9,     -999,9,   1.9130
35A3CITHER3_2 ,A13        ,206     ,  1,30         ,3          ,2,19950320,0043,  -6.9997,   4.9992,     5110,   4997.2,   2.3780,  34.8780,2,  34.8800,2,    235.2,2,    234.9,2,    54.40,2,    22.30,2,     1.46,2,    0.001,2,    0.004,2,     -999,9,     -999,9,     -999,9,     -999,9,     -999,9,     -999,9,   1.9130
35A3CITHER3_2 ,A13        ,206     ,  1,31         ,2          ,2,19950320,0043,  -6.9997,   4.9992,     5110,   5098.3,   2.3860,  34.8790,2,  34.8890,3,    234.5,2,    234.0,2,    54.70,2,    21.20,3,     1.37,3,    0.012,2,    0.005,2,     -999,9,     -999,9,     -999,9,     -999,9,     -999,9,     -999,9,   1.9080
35A3CITHER3_2 ,A13        ,206     ,  1,32         ,1          ,2,19950320,0043,  -6.9997,   4.9992,     5110,   5174.3,   2.3970,  34.8790,2,  34.8790,2,    232.6,2,    234.1,2,    54.70,2,    21.90,2,     1.42,2,     -999,9,     -999,9,     -999,9,     -999,9,     -999,9,     -999,9,     -999,9,     -999,9,   1.9090