BOTTLE,20211216CCHDHYDRO
EXPOCODE,SECT_ID,STNNBR,CASTNO,SAMPNO,BTLNBR,BTLNBR_FLAG_W,DATE,TIME,LATITUDE,LONGITUDE,DEPTH,CTDPRS,CTDTMP,CTDSAL,CTDSAL_FLAG_W,SALNTY,SALNTY_FLAG_W,CTDOXY,CTDOXY_FLAG_W,OXYGEN,OXYGEN_FLAG_W,SILCAT,SILCAT_FLAG_W,NITRAT,NITRAT_FLAG_W,PHSPHT,PHSPHT_FLAG_W,CFC-11,CFC-11_FLAG_W,CFC-12,CFC-12_FLAG_W,TCARBN,TCARBN_FLAG_W,ALKALI,ALKALI_FLAG_W,TRITUM,TRITUM_FLAG_W,HELIUM,HELIUM_FLAG_W,DELHE3,DELHE3_FLAG_W,NEON,NEON_FLAG_W,THETA
,,,,,,,,,,,METERS,DBAR,DEG C,PSS-78,,PSS-78,,UMOL/KG,,UMOL/KG,,UMOL/KG,,UMOL/KG,,UMOL/KG,,PMOL/KG,,PMOL/KG,,UMOL/KG,,UMOL/KG,,TU,,NMOL/KG,,PERCNT,,NMOL/KG,,DEG C
35A3CITHER3_2 ,A13        ,122     ,  1,1          ,32         ,2,19950225,0444, -37.4475,  13.5737,     4828,      3.7,  19.4690,  35.4660,2,  35.4670,2,    233.0,2,    233.7,2,     2.00,2,     0.00,2,     0.14,2,    2.504,2,    1.244,2,     -999,9,     -999,9,     -999,9,     -999,9,     -999,9,     -999,9,  19.4680
35A3CITHER3_2 ,A13        ,122     ,  1,2          ,31         ,2,19950225,0444, -37.4475,  13.5737,     4828,     46.5,  18.4820,  35.4530,2,  35.4490,3,    231.4,2,    235.7,3,     2.20,2,     0.00,2,     0.14,2,    2.539,2,    1.273,2,     -999,9,     -999,9,     -999,9,     -999,9,     -999,9,     -999,9,  18.4740
35A3CITHER3_2 ,A13        ,122     ,  1,3          ,30         ,2,19950225,0444, -37.4475,  13.5737,     4828,    121.4,  15.3810,  35.4280,2,  35.4240,3,    221.1,2,    222.1,2,     3.90,2,     4.60,2,     0.41,2,    2.741,2,    1.351,2,     -999,9,     -999,9,     -999,9,     -999,9,     -999,9,     -999,9,  15.3620
35A3CITHER3_2 ,A13        ,122     ,  1,4          ,29         ,2,19950225,0444, -37.4475,  13.5737,     4828,    195.5,  13.7930,  35.2040,2,  35.1980,3,    224.9,2,    220.5,3,     4.10,2,     7.10,2,     0.57,2,    2.812,2,    1.338,2,     -999,9,     -999,9,     -999,9,     -999,9,     -999,9,     -999,9,  13.7650
35A3CITHER3_2 ,A13        ,122     ,  1,5          ,28         ,2,19950225,0444, -37.4475,  13.5737,     4828,    396.3,  10.4010,  34.8330,2,  34.8320,2,    220.5,2,    216.4,2,     6.50,2,    14.80,2,     1.01,2,    2.557,2,    1.187,2,     -999,9,     -999,9,     -999,9,     -999,9,     -999,9,     -999,9,  10.3530
35A3CITHER3_2 ,A13        ,122     ,  1,6          ,27         ,2,19950225,0444, -37.4475,  13.5737,     4828,    595.7,   7.0090,  34.4570,2,  34.4550,2,    218.5,2,    217.5,2,    11.00,2,    23.30,2,     1.54,2,    2.476,2,    1.114,2,     -999,9,     -999,9,     -999,9,     -999,9,     -999,9,     -999,9,   6.9520
35A3CITHER3_2 ,A13        ,122     ,  1,7          ,26         ,2,19950225,0444, -37.4475,  13.5737,     4828,    795.4,   4.6850,  34.2910,2,  34.2920,2,    230.0,2,    229.8,2,    19.50,2,    27.50,2,     1.85,2,    1.970,2,    0.871,2,     -999,9,     -999,9,     -999,9,     -999,9,     -999,9,     -999,9,   4.6220
35A3CITHER3_2 ,A13        ,122     ,  1,8          ,25         ,2,19950225,0444, -37.4475,  13.5737,     4828,    996.0,   3.5180,  34.2970,2,  34.2970,2,    219.3,2,    219.2,2,    31.00,2,    30.20,2,     2.04,2,    1.341,2,    0.596,2,     -999,9,     -999,9,     -999,9,     -999,9,     -999,9,     -999,9,   3.4470
35A3CITHER3_2 ,A13        ,122     ,  1,9          ,24         ,2,19950225,0444, -37.4475,  13.5737,     4828,   1195.7,   3.1280,  34.4130,2,  34.4080,3,    191.8,2,    195.1,2,    46.60,2,    32.20,2,     2.18,2,    0.629,2,    0.267,2,     -999,9,     -999,9,     -999,9,     -999,9,     -999,9,     -999,9,   3.0440
35A3CITHER3_2 ,A13        ,122     ,  1,10         ,23         ,2,19950225,0444, -37.4475,  13.5737,     4828,   1195.7,   3.1310,  34.4130,2,  34.4110,2,    191.8,2,    193.7,2,    48.00,2,    32.20,2,     2.19,2,    0.615,2,    0.272,2,     -999,9,     -999,9,     -999,9,     -999,9,     -999,9,     -999,9,   3.0470
35A3CITHER3_2 ,A13        ,122     ,  1,11         ,22         ,2,19950225,0444, -37.4475,  13.5737,     4828,   1196.1,   3.1520,  34.4170,2,  34.4150,2,    191.8,2,    193.4,2,    48.30,2,    32.20,2,     2.19,2,    0.593,2,    0.267,2,     -999,9,     -999,9,     -999,9,     -999,9,     -999,9,     -999,9,   3.0680
35A3CITHER3_2 ,A13        ,122     ,  1,12         ,21         ,2,19950225,0444, -37.4475,  13.5737,     4828,   1395.5,   2.9430,  34.5530,2,  34.5510,2,    178.1,2,    178.3,2,    59.60,2,    32.40,2,     2.18,2,    0.166,2,    0.077,2,     -999,9,     -999,9,     -999,9,     -999,9,     -999,9,     -999,9,   2.8440
35A3CITHER3_2 ,A13        ,122     ,  1,13         ,20         ,2,19950225,0444, -37.4475,  13.5737,     4828,   1594.9,   2.8300,  34.6590,2,  34.6580,2,    180.2,2,    182.5,2,    61.80,2,    30.60,2,     2.08,2,    0.052,2,    0.028,2,     -999,9,     -999,9,     -999,9,     -999,9,     -999,9,     -999,9,   2.7160
35A3CITHER3_2 ,A13        ,122     ,  1,14         ,19         ,2,19950225,0444, -37.4475,  13.5737,     4828,   1795.0,   2.7810,  34.7350,2,  34.7340,2,    193.3,2,    193.7,2,    58.30,2,    28.90,2,     1.94,2,    0.023,2,    0.014,2,     -999,9,     -999,9,     -999,9,     -999,9,     -999,9,     -999,9,   2.6500
35A3CITHER3_2 ,A13        ,122     ,  1,15         ,18         ,2,19950225,0444, -37.4475,  13.5737,     4828,   1995.1,   2.7580,  34.7900,2,  34.7810,3,    205.8,2,    204.7,2,    53.90,2,    26.90,2,     1.81,2,    0.012,2,    0.004,2,     -999,9,     -999,9,     -999,9,     -999,9,     -999,9,     -999,9,   2.6100
35A3CITHER3_2 ,A13        ,122     ,  1,16         ,17         ,2,19950225,0444, -37.4475,  13.5737,     4828,   2195.5,   2.6720,  34.8200,2,  34.8200,2,    214.4,2,    213.9,2,    52.10,2,    26.00,2,     1.72,2,    0.001,2,    0.002,2,     -999,9,     -999,9,     -999,9,     -999,9,     -999,9,     -999,9,   2.5070
35A3CITHER3_2 ,A13        ,122     ,  1,17         ,16         ,2,19950225,0444, -37.4475,  13.5737,     4828,   2397.0,   2.5800,  34.8350,2,  34.8350,2,    220.5,2,    220.1,2,    51.80,2,    25.30,2,     1.66,2,    0.003,2,    0.005,2,     -999,9,     -999,9,     -999,9,     -999,9,     -999,9,     -999,9,   2.3980
35A3CITHER3_2 ,A13        ,122     ,  1,18         ,15         ,2,19950225,0444, -37.4475,  13.5737,     4828,   2596.2,   2.4880,  34.8410,2,  34.8400,2,    222.6,2,    223.3,2,    53.30,2,    25.10,2,     1.65,2,    0.002,2,    0.005,2,     -999,9,     -999,9,     -999,9,     -999,9,     -999,9,     -999,9,   2.2890
35A3CITHER3_2 ,A13        ,122     ,  1,20         ,13         ,2,19950225,0444, -37.4475,  13.5737,     4828,   2795.2,   2.3970,  34.8440,2,  34.8450,2,    226.1,2,    225.9,2,    54.80,2,    24.80,2,     1.63,2,    0.003,2,    0.003,2,     -999,9,     -999,9,     -999,9,     -999,9,     -999,9,     -999,9,   2.1800
35A3CITHER3_2 ,A13        ,122     ,  1,19         ,14         ,2,19950225,0444, -37.4475,  13.5737,     4828,   2797.0,   2.3970,  34.8450,2,  34.8430,2,    226.1,2,    224.0,2,    54.80,2,    24.80,2,     1.62,2,    0.002,2,     -999,9,     -999,9,     -999,9,     -999,9,     -999,9,     -999,9,     -999,9,   2.1800
35A3CITHER3_2 ,A13        ,122     ,  1,21         ,12         ,2,19950225,0444, -37.4475,  13.5737,     4828,   2996.1,   2.3260,  34.8460,2,  34.8450,2,    227.5,2,    226.2,2,    56.00,2,    24.70,2,     1.62,2,    0.003,2,    0.003,2,     -999,9,     -999,9,     -999,9,     -999,9,     -999,9,     -999,9,   2.0910
35A3CITHER3_2 ,A13        ,122     ,  1,22         ,11         ,2,19950225,0444, -37.4475,  13.5737,     4828,   3197.1,   2.2410,  34.8450,2,  34.8390,3,    228.7,2,    228.2,2,    58.60,2,    24.80,2,     1.63,2,    0.003,2,    0.002,2,     -999,9,     -999,9,     -999,9,     -999,9,     -999,9,     -999,9,   1.9870
35A3CITHER3_2 ,A13        ,122     ,  1,23         ,10         ,2,19950225,0444, -37.4475,  13.5737,     4828,   3396.1,   2.1410,  34.8400,2,  34.8380,2,    228.3,2,    226.9,2,    62.30,2,    25.10,2,     1.66,2,    0.003,2,     -999,9,     -999,9,     -999,9,     -999,9,     -999,9,     -999,9,     -999,9,   1.8690
35A3CITHER3_2 ,A13        ,122     ,  1,24         ,9          ,2,19950225,0444, -37.4475,  13.5737,     4828,   3596.6,   1.9490,  34.8200,2,  34.8170,2,    225.9,2,    224.6,2,    69.90,2,    26.00,2,     1.74,2,    0.003,2,   -0.001,2,     -999,9,     -999,9,     -999,9,     -999,9,     -999,9,     -999,9,   1.6610
35A3CITHER3_2 ,A13        ,122     ,  1,25         ,8          ,2,19950225,0444, -37.4475,  13.5737,     4828,   3796.2,   1.6660,  34.7940,2,  34.7920,2,    222.0,2,    221.2,2,    81.40,2,    27.00,2,     1.83,2,    0.005,2,    0.009,2,     -999,9,     -999,9,     -999,9,     -999,9,     -999,9,     -999,9,   1.3640
35A3CITHER3_2 ,A13        ,122     ,  1,26         ,7          ,2,19950225,0444, -37.4475,  13.5737,     4828,   3998.0,   1.3870,  34.7670,2,  34.7670,2,    219.5,2,    218.9,2,    92.60,2,    28.20,2,     1.89,2,    0.008,2,    0.005,2,     -999,9,     -999,9,     -999,9,     -999,9,     -999,9,     -999,9,   1.0710
35A3CITHER3_2 ,A13        ,122     ,  1,27         ,6          ,2,19950225,0444, -37.4475,  13.5737,     4828,   4197.9,   1.2160,  34.7520,2,  34.7500,2,    218.0,2,    219.0,2,   100.00,2,    29.00,2,     1.98,2,    0.007,2,    0.007,2,     -999,9,     -999,9,     -999,9,     -999,9,     -999,9,     -999,9,   0.8830
35A3CITHER3_2 ,A13        ,122     ,  1,28         ,5          ,2,19950225,0444, -37.4475,  13.5737,     4828,   4396.6,   1.1140,  34.7390,2,  34.7400,2,    218.1,2,    217.7,2,   103.70,2,    29.40,2,     2.00,2,    0.008,2,    0.006,2,     -999,9,     -999,9,     -999,9,     -999,9,     -999,9,     -999,9,   0.7620
35A3CITHER3_2 ,A13        ,122     ,  1,29         ,4          ,2,19950225,0444, -37.4475,  13.5737,     4828,   4596.6,   1.0720,  34.7340,2,  34.7320,2,    217.7,2,    217.4,2,   106.40,2,    29.70,2,     2.01,2,    0.017,2,    0.006,2,     -999,9,     -999,9,     -999,9,     -999,9,     -999,9,     -999,9,   0.6990
35A3CITHER3_2 ,A13        ,122     ,  1,30         ,3          ,2,19950225,0444, -37.4475,  13.5737,     4828,   4798.1,   1.0650,  34.7310,2,  34.7320,2,    218.0,2,    217.5,2,   107.50,2,    29.90,2,     2.03,2,    0.017,2,    0.011,2,     -999,9,     -999,9,     -999,9,     -999,9,     -999,9,     -999,9,   0.6690
35A3CITHER3_2 ,A13        ,122     ,  1,31         ,2          ,2,19950225,0444, -37.4475,  13.5737,     4828,   4849.0,   1.0380,  34.7290,2,  34.7290,2,    217.2,2,    217.8,2,   108.30,2,    29.90,2,     2.03,2,    0.022,2,    0.011,2,     -999,9,     -999,9,     -999,9,     -999,9,     -999,9,     -999,9,   0.6370
35A3CITHER3_2 ,A13        ,122     ,  1,32         ,1          ,2,19950225,0444, -37.4475,  13.5737,     4828,   4870.5,   1.0350,  34.7290,2,  34.7290,2,    217.0,2,    217.3,2,   108.60,2,    30.00,2,     2.03,2,    0.022,2,    0.015,2,     -999,9,     -999,9,     -999,9,     -999,9,     -999,9,     -999,9,   0.6320