BOTTLE,20211216CCHDHYDRO
EXPOCODE,SECT_ID,STNNBR,CASTNO,SAMPNO,BTLNBR,BTLNBR_FLAG_W,DATE,TIME,LATITUDE,LONGITUDE,DEPTH,CTDPRS,CTDTMP,CTDSAL,CTDSAL_FLAG_W,SALNTY,SALNTY_FLAG_W,CTDOXY,CTDOXY_FLAG_W,OXYGEN,OXYGEN_FLAG_W,SILCAT,SILCAT_FLAG_W,NITRAT,NITRAT_FLAG_W,PHSPHT,PHSPHT_FLAG_W,CFC-11,CFC-11_FLAG_W,CFC-12,CFC-12_FLAG_W,TCARBN,TCARBN_FLAG_W,ALKALI,ALKALI_FLAG_W,TRITUM,TRITUM_FLAG_W,HELIUM,HELIUM_FLAG_W,DELHE3,DELHE3_FLAG_W,NEON,NEON_FLAG_W,THETA
,,,,,,,,,,,METERS,DBAR,DEG C,PSS-78,,PSS-78,,UMOL/KG,,UMOL/KG,,UMOL/KG,,UMOL/KG,,UMOL/KG,,PMOL/KG,,PMOL/KG,,UMOL/KG,,UMOL/KG,,TU,,NMOL/KG,,PERCNT,,NMOL/KG,,DEG C
35A3CITHER3_2 ,A13        ,117     ,  1,1          ,32         ,2,19950223,2045, -35.7745,  15.9273,     4567,      3.3,  22.1340,  35.6110,2,  35.6130,2,    224.2,2,    228.8,2,     3.60,2,     0.00,2,     0.10,2,    2.040,2,    1.080,2,     -999,9,     -999,9,     -999,9,     -999,9,     -999,9,     -999,9,  22.1330
35A3CITHER3_2 ,A13        ,117     ,  1,2          ,31         ,2,19950223,2045, -35.7745,  15.9273,     4567,     46.4,  17.6220,  35.3440,2,  35.3470,2,    239.5,2,    215.3,3,     3.60,2,     1.20,2,     0.20,2,    2.502,2,    1.254,2,     -999,9,     -999,9,     -999,9,     -999,9,     -999,9,     -999,9,  17.6140
35A3CITHER3_2 ,A13        ,117     ,  1,3          ,30         ,2,19950223,2045, -35.7745,  15.9273,     4567,    120.6,  15.2310,  35.4150,2,  35.4220,3,    219.1,2,    243.9,4,     5.30,2,     5.50,2,     0.48,2,    2.629,2,    1.313,2,     -999,9,     -999,9,     -999,9,     -999,9,     -999,9,     -999,9,  15.2130
35A3CITHER3_2 ,A13        ,117     ,  1,4          ,29         ,2,19950223,2045, -35.7745,  15.9273,     4567,    195.9,  13.2290,  35.0530,2,  35.0510,2,    245.7,2,    213.0,3,     3.00,2,     4.60,3,     0.45,3,    3.097,2,    1.523,2,     -999,9,     -999,9,     -999,9,     -999,9,     -999,9,     -999,9,  13.2020
35A3CITHER3_2 ,A13        ,117     ,  1,5          ,28         ,2,19950223,2045, -35.7745,  15.9273,     4567,    295.1,  12.1210,  35.0620,2,  35.0600,2,    217.2,2,    218.4,2,     5.90,2,    11.50,2,     0.83,2,    2.521,2,    1.209,2,     -999,9,     -999,9,     -999,9,     -999,9,     -999,9,     -999,9,  12.0820
35A3CITHER3_2 ,A13        ,117     ,  1,6          ,27         ,2,19950223,2045, -35.7745,  15.9273,     4567,    395.5,  10.3340,  34.8300,2,  34.8250,2,    221.5,2,    208.5,3,     7.50,2,    15.10,2,     1.05,2,    2.370,2,    1.140,2,     -999,9,     -999,9,     -999,9,     -999,9,     -999,9,     -999,9,  10.2870
35A3CITHER3_2 ,A13        ,117     ,  1,7          ,26         ,2,19950223,2045, -35.7745,  15.9273,     4567,    595.9,   7.1910,  34.5060,2,  34.5090,2,    212.7,2,    194.2,3,    15.00,2,    23.40,2,     1.48,2,    1.983,2,    0.947,2,     -999,9,     -999,9,     -999,9,     -999,9,     -999,9,     -999,9,   7.1330
35A3CITHER3_2 ,A13        ,117     ,  1,8          ,25         ,2,19950223,2045, -35.7745,  15.9273,     4567,    774.2,   5.5600,  34.4600,2,  34.4610,2,    227.4,2,    201.6,4,    30.50,3,    28.30,3,     1.87,3,    1.165,2,    0.545,2,     -999,9,     -999,9,     -999,9,     -999,9,     -999,9,     -999,9,   5.4940
35A3CITHER3_2 ,A13        ,117     ,  1,9          ,24         ,2,19950223,2045, -35.7745,  15.9273,     4567,    994.4,   3.6190,  34.3730,2,  34.3720,2,    204.3,2,    182.9,4,    40.60,2,    31.20,2,     2.09,2,    0.876,2,    0.417,2,     -999,9,     -999,9,     -999,9,     -999,9,     -999,9,     -999,9,   3.5470
35A3CITHER3_2 ,A13        ,117     ,  1,10         ,23         ,2,19950223,2045, -35.7745,  15.9273,     4567,   1195.1,   3.1180,  34.4810,2,  34.4790,2,    185.7,2,    179.4,3,    55.00,2,    32.70,2,     3.01,4,    0.341,2,    0.161,2,     -999,9,     -999,9,     -999,9,     -999,9,     -999,9,     -999,9,   3.0340
35A3CITHER3_2 ,A13        ,117     ,  1,11         ,22         ,2,19950223,2045, -35.7745,  15.9273,     4567,   1395.3,   2.8680,  34.5910,2,  34.5930,2,    180.4,2,    184.6,2,    62.60,2,    32.00,2,     2.19,2,    0.107,2,    0.057,2,     -999,9,     -999,9,     -999,9,     -999,9,     -999,9,     -999,9,   2.7700
35A3CITHER3_2 ,A13        ,117     ,  1,12         ,21         ,2,19950223,2045, -35.7745,  15.9273,     4567,   1596.5,   2.7760,  34.6830,2,  34.6850,2,    186.2,2,    196.9,4,    63.20,2,    30.40,2,     1.92,2,    0.044,2,    0.024,2,     -999,9,     -999,9,     -999,9,     -999,9,     -999,9,     -999,9,   2.6620
35A3CITHER3_2 ,A13        ,117     ,  1,13         ,20         ,2,19950223,2045, -35.7745,  15.9273,     4567,   1795.9,   2.7030,  34.7580,2,  34.7600,2,    197.8,2,    196.6,2,    60.50,2,    28.30,2,     1.89,2,    0.026,2,    0.019,2,     -999,9,     -999,9,     -999,9,     -999,9,     -999,9,     -999,9,   2.5730
35A3CITHER3_2 ,A13        ,117     ,  1,14         ,19         ,2,19950223,2045, -35.7745,  15.9273,     4567,   1796.1,   2.7030,  34.7580,2,  34.7600,2,    197.8,2,    207.4,4,    60.40,2,    28.30,2,     1.89,2,    0.029,2,    0.011,2,     -999,9,     -999,9,     -999,9,     -999,9,     -999,9,     -999,9,   2.5730
35A3CITHER3_2 ,A13        ,117     ,  1,15         ,18         ,2,19950223,2045, -35.7745,  15.9273,     4567,   1996.7,   2.6620,  34.7980,2,  34.7990,2,    207.0,2,    217.4,4,    57.00,2,    26.60,2,     1.79,2,    0.011,2,    0.010,2,     -999,9,     -999,9,     -999,9,     -999,9,     -999,9,     -999,9,   2.5150
35A3CITHER3_2 ,A13        ,117     ,  1,16         ,17         ,2,19950223,2045, -35.7745,  15.9273,     4567,   2195.3,   2.5750,  34.8280,2,  34.8290,2,    215.6,2,    222.4,4,    54.60,2,    25.60,2,     1.68,2,    0.004,2,    0.003,2,     -999,9,     -999,9,     -999,9,     -999,9,     -999,9,     -999,9,   2.4120
35A3CITHER3_2 ,A13        ,117     ,  1,17         ,16         ,2,19950223,2045, -35.7745,  15.9273,     4567,   2394.4,   2.4740,  34.8400,2,  34.8370,2,    222.1,2,    225.9,2,    55.50,2,    25.00,2,     1.56,2,    0.006,2,     -999,9,     -999,9,     -999,9,     -999,9,     -999,9,     -999,9,     -999,9,   2.2940
35A3CITHER3_2 ,A13        ,117     ,  1,18         ,15         ,2,19950223,2045, -35.7745,  15.9273,     4567,   2596.1,   2.3990,  34.8450,2,  34.8480,2,    225.5,2,    228.0,2,    55.20,2,    25.00,2,     1.63,2,    0.002,2,    0.008,2,     -999,9,     -999,9,     -999,9,     -999,9,     -999,9,     -999,9,   2.2010
35A3CITHER3_2 ,A13        ,117     ,  1,19         ,14         ,2,19950223,2045, -35.7745,  15.9273,     4567,   2796.9,   2.3290,  34.8500,2,  34.8490,2,    227.8,2,    228.0,2,    56.60,2,    24.40,2,     1.53,2,    0.001,2,    0.007,2,     -999,9,     -999,9,     -999,9,     -999,9,     -999,9,     -999,9,   2.1130
35A3CITHER3_2 ,A13        ,117     ,  1,20         ,13         ,2,19950223,2045, -35.7745,  15.9273,     4567,   2996.4,   2.2200,  34.8440,2,  34.8470,2,    228.2,2,    227.9,2,    59.70,2,    24.80,2,     1.63,2,    0.002,2,    0.001,2,     -999,9,     -999,9,     -999,9,     -999,9,     -999,9,     -999,9,   1.9870
35A3CITHER3_2 ,A13        ,117     ,  1,21         ,12         ,2,19950223,2045, -35.7745,  15.9273,     4567,   3197.0,   2.1320,  34.8410,2,  34.8410,2,    227.8,2,    225.7,2,    62.90,2,    25.00,2,     1.65,2,    0.000,2,    0.001,2,     -999,9,     -999,9,     -999,9,     -999,9,     -999,9,     -999,9,   1.8810
35A3CITHER3_2 ,A13        ,117     ,  1,22         ,11         ,2,19950223,2045, -35.7745,  15.9273,     4567,   3395.1,   1.9610,  34.8270,2,  34.8200,2,    226.3,2,    225.5,2,    69.60,2,    25.80,2,     1.69,2,    0.005,2,    0.010,2,     -999,9,     -999,9,     -999,9,     -999,9,     -999,9,     -999,9,   1.6930
35A3CITHER3_2 ,A13        ,117     ,  1,23         ,10         ,2,19950223,2045, -35.7745,  15.9273,     4567,   3397.3,   1.9600,  34.8260,2,  34.8280,2,    226.3,2,    219.7,4,    70.70,2,    25.80,2,     1.71,2,    0.007,2,     -999,9,     -999,9,     -999,9,     -999,9,     -999,9,     -999,9,     -999,9,   1.6920
35A3CITHER3_2 ,A13        ,117     ,  1,24         ,9          ,2,19950223,2045, -35.7745,  15.9273,     4567,   3597.1,   1.6200,  34.7920,2,  34.7900,2,    222.4,2,    221.0,2,    83.80,2,    27.40,2,     1.83,2,    0.005,2,    0.007,2,     -999,9,     -999,9,     -999,9,     -999,9,     -999,9,     -999,9,   1.3400
35A3CITHER3_2 ,A13        ,117     ,  1,25         ,8          ,2,19950223,2045, -35.7745,  15.9273,     4567,   3796.1,   1.3980,  34.7700,2,  34.7710,2,    219.9,2,    219.4,2,    93.40,2,    28.30,2,     1.85,2,    0.009,2,    0.008,2,     -999,9,     -999,9,     -999,9,     -999,9,     -999,9,     -999,9,   1.1030
35A3CITHER3_2 ,A13        ,117     ,  1,26         ,7          ,2,19950223,2045, -35.7745,  15.9273,     4567,   3897.4,   1.2850,  34.7590,2,  34.7590,2,    219.1,2,    218.6,2,    97.30,2,    28.80,2,     1.83,2,    0.007,2,    0.006,2,     -999,9,     -999,9,     -999,9,     -999,9,     -999,9,     -999,9,   0.9830
35A3CITHER3_2 ,A13        ,117     ,  1,27         ,6          ,2,19950223,2045, -35.7745,  15.9273,     4567,   3996.5,   1.1980,  34.7530,2,  34.7530,2,    218.3,2,    218.5,2,   100.90,2,    29.20,2,     1.96,2,    0.013,2,    0.013,2,     -999,9,     -999,9,     -999,9,     -999,9,     -999,9,     -999,9,   0.8880
35A3CITHER3_2 ,A13        ,117     ,  1,28         ,5          ,2,19950223,2045, -35.7745,  15.9273,     4567,   4096.9,   1.1370,  34.7440,2,  34.7450,2,    217.9,2,    217.9,2,   103.10,2,    29.50,2,     1.92,2,    0.007,2,    0.011,2,     -999,9,     -999,9,     -999,9,     -999,9,     -999,9,     -999,9,   0.8180
35A3CITHER3_2 ,A13        ,117     ,  1,29         ,4          ,2,19950223,2045, -35.7745,  15.9273,     4567,   4197.7,   1.0970,  34.7410,2,  34.7400,2,    217.6,2,    217.5,2,   104.50,2,    29.70,2,     1.98,2,    0.016,2,    0.008,2,     -999,9,     -999,9,     -999,9,     -999,9,     -999,9,     -999,9,   0.7680
35A3CITHER3_2 ,A13        ,117     ,  1,30         ,3          ,2,19950223,2045, -35.7745,  15.9273,     4567,   4396.3,   1.0480,  34.7350,2,  34.7350,2,    217.6,2,    217.7,2,   106.70,2,    30.00,2,     2.02,2,    0.016,2,    0.009,2,     -999,9,     -999,9,     -999,9,     -999,9,     -999,9,     -999,9,   0.6980
35A3CITHER3_2 ,A13        ,117     ,  1,31         ,2          ,2,19950223,2045, -35.7745,  15.9273,     4567,   4546.6,   1.0270,  34.7340,2,  34.7310,2,    217.6,2,    218.3,2,   107.60,2,    30.00,2,     2.04,2,    0.023,2,    0.011,2,     -999,9,     -999,9,     -999,9,     -999,9,     -999,9,     -999,9,   0.6610
35A3CITHER3_2 ,A13        ,117     ,  1,32         ,1          ,2,19950223,2045, -35.7745,  15.9273,     4567,   4629.9,   0.9820,  34.7270,2,  34.7290,2,    217.7,2,    218.1,2,   109.30,2,    30.30,2,     2.04,2,    0.027,2,    0.017,2,     -999,9,     -999,9,     -999,9,     -999,9,     -999,9,     -999,9,   0.6080