BOTTLE,20211216CCHDHYDRO
EXPOCODE,SECT_ID,STNNBR,CASTNO,SAMPNO,BTLNBR,BTLNBR_FLAG_W,DATE,TIME,LATITUDE,LONGITUDE,DEPTH,CTDPRS,CTDTMP,CTDSAL,CTDSAL_FLAG_W,SALNTY,SALNTY_FLAG_W,CTDOXY,CTDOXY_FLAG_W,OXYGEN,OXYGEN_FLAG_W,SILCAT,SILCAT_FLAG_W,NITRAT,NITRAT_FLAG_W,PHSPHT,PHSPHT_FLAG_W,CFC-11,CFC-11_FLAG_W,CFC-12,CFC-12_FLAG_W,TCARBN,TCARBN_FLAG_W,ALKALI,ALKALI_FLAG_W,TRITUM,TRITUM_FLAG_W,HELIUM,HELIUM_FLAG_W,DELHE3,DELHE3_FLAG_W,NEON,NEON_FLAG_W,THETA
,,,,,,,,,,,METERS,DBAR,DEG C,PSS-78,,PSS-78,,UMOL/KG,,UMOL/KG,,UMOL/KG,,UMOL/KG,,UMOL/KG,,PMOL/KG,,PMOL/KG,,UMOL/KG,,UMOL/KG,,TU,,NMOL/KG,,PERCNT,,NMOL/KG,,DEG C
35A3CITHER3_2 ,A13        ,143     ,  1,1          ,32         ,2,19950302,1729, -33.0310,   9.9970,     4993,      4.0,  21.8990,  35.8000,2,  35.8000,2,    216.1,2,    223.1,3,     2.00,2,     0.00,2,     0.10,2,    2.140,2,    1.103,2,     -999,9,     -999,9,     -999,9,   1.7120,2,    -1.89,2,    6.863,1,  21.8980
35A3CITHER3_2 ,A13        ,143     ,  1,2          ,31         ,2,19950302,1729, -33.0310,   9.9970,     4993,     46.6,  21.5420,  35.7680,2,  35.7600,3,    217.0,2,    226.1,3,     2.10,2,     0.00,2,     0.05,2,    2.200,2,    1.122,2,     -999,9,     -999,9,     -999,9,     -999,9,     -999,9,     -999,9,  21.5330
35A3CITHER3_2 ,A13        ,143     ,  1,3          ,30         ,2,19950302,1729, -33.0310,   9.9970,     4993,    122.1,  15.9750,  35.5120,2,  35.5080,3,    225.2,2,    227.0,2,     3.40,2,     2.90,2,     0.28,2,    2.717,2,    1.319,2,     -999,9,     -999,9,    0.925,2,   1.7440,2,    -1.89,2,    7.188,2,  15.9560
35A3CITHER3_2 ,A13        ,143     ,  1,4          ,29         ,2,19950302,1729, -33.0310,   9.9970,     4993,    196.9,  14.9160,  35.3690,2,  35.3670,2,    227.3,2,    224.4,2,     3.60,2,     4.60,2,     0.34,2,    2.719,2,    1.316,2,     -999,9,     -999,9,    0.809,2,   1.7480,2,    -1.33,2,    7.191,2,  14.8860
35A3CITHER3_2 ,A13        ,143     ,  1,5          ,28         ,2,19950302,1729, -33.0310,   9.9970,     4993,    395.6,  11.6060,  34.9820,2,  34.9720,3,    217.7,2,    214.5,2,     5.30,2,    12.50,2,     0.81,2,    2.587,2,    1.271,2,     -999,9,     -999,9,    0.590,2,   1.7610,2,    -0.17,2,    7.381,2,  11.5550
35A3CITHER3_2 ,A13        ,143     ,  1,6          ,27         ,2,19950302,1729, -33.0310,   9.9970,     4993,    596.2,   8.2030,  34.6000,2,  34.5990,2,    208.1,2,    205.6,2,    12.20,2,    21.60,2,     1.40,2,    2.021,2,    0.924,2,     -999,9,     -999,9,    0.312,3,   1.7680,3,     0.96,3,    7.575,2,   8.1410
35A3CITHER3_2 ,A13        ,143     ,  1,7          ,26         ,2,19950302,1729, -33.0310,   9.9970,     4993,    795.7,   5.3510,  34.3700,2,  34.3690,2,    216.4,2,    215.4,2,    21.60,2,    27.60,2,     1.80,2,    1.706,2,    0.764,2,     -999,9,     -999,9,    0.161,2,   1.7900,2,     1.94,2,    7.756,2,   5.2840
35A3CITHER3_2 ,A13        ,143     ,  1,8          ,25         ,2,19950302,1729, -33.0310,   9.9970,     4993,    895.5,   4.6590,  34.3720,2,  34.3730,2,    199.8,2,    197.6,2,    28.20,2,    30.50,2,     2.00,2,    1.159,2,    0.526,2,     -999,9,     -999,9,     -999,9,     -999,9,     -999,9,     -999,9,   4.5880
35A3CITHER3_2 ,A13        ,143     ,  1,9          ,24         ,2,19950302,1729, -33.0310,   9.9970,     4993,    995.4,   3.9300,  34.3630,2,  34.3660,2,    204.8,2,    202.1,2,    34.60,2,    31.10,2,     2.04,2,    0.921,2,    0.416,2,     -999,9,     -999,9,    0.080,2,   1.7960,2,     2.64,2,    7.827,2,   3.8550
35A3CITHER3_2 ,A13        ,143     ,  1,10         ,23         ,2,19950302,1729, -33.0310,   9.9970,     4993,   1194.1,   3.2420,  34.4450,2,  34.4450,2,    189.1,2,    187.4,2,    49.10,2,    32.70,2,     2.17,2,    0.397,2,    0.187,2,     -999,9,     -999,9,     -999,9,     -999,9,     -999,9,     -999,9,   3.1570
35A3CITHER3_2 ,A13        ,143     ,  1,11         ,22         ,2,19950302,1729, -33.0310,   9.9970,     4993,   1395.7,   3.0950,  34.5900,2,  34.5920,2,    181.0,2,    181.2,2,    53.50,2,    31.70,2,     2.10,2,    0.079,2,    0.041,2,     -999,9,     -999,9,    0.023,2,   1.8270,2,     5.96,2,    7.950,2,   2.9950
35A3CITHER3_2 ,A13        ,143     ,  1,12         ,21         ,2,19950302,1729, -33.0310,   9.9970,     4993,   1595.0,   3.0260,  34.6980,2,  34.6960,2,    190.2,2,    189.5,2,    51.20,2,    29.70,2,     1.93,2,    0.032,2,     -999,9,     -999,9,     -999,9,     -999,9,   1.8280,2,     6.06,2,    7.969,1,   2.9100
35A3CITHER3_2 ,A13        ,143     ,  1,13         ,20         ,2,19950302,1729, -33.0310,   9.9970,     4993,   1794.8,   2.9920,  34.7720,2,  34.7720,2,    202.0,2,    201.8,2,    47.40,2,    27.30,2,     1.81,2,    0.010,2,    0.009,2,     -999,9,     -999,9,    0.008,2,   1.8260,2,     5.91,2,    7.920,2,   2.8580
35A3CITHER3_2 ,A13        ,143     ,  1,15         ,18         ,2,19950302,1729, -33.0310,   9.9970,     4993,   1994.5,   2.9190,  34.8170,2,  34.8160,2,    213.0,2,    213.2,2,    45.20,2,    25.90,2,     1.68,2,    0.004,2,   -0.003,2,     -999,9,     -999,9,     -999,9,     -999,9,     -999,9,     -999,9,   2.7690
35A3CITHER3_2 ,A13        ,143     ,  1,14         ,19         ,2,19950302,1729, -33.0310,   9.9970,     4993,   1994.6,   2.9170,  34.8180,2,  34.8170,2,    213.0,2,    212.8,2,    45.40,2,    25.90,2,     1.59,3,    0.009,2,    0.004,2,     -999,9,     -999,9,     -999,9,     -999,9,     -999,9,     -999,9,   2.7670
35A3CITHER3_2 ,A13        ,143     ,  1,16         ,17         ,2,19950302,1729, -33.0310,   9.9970,     4993,   2196.3,   2.7680,  34.8350,2,  34.8340,2,    219.3,2,    219.8,2,    46.70,2,    25.20,2,     1.64,2,    0.007,2,   -0.003,2,     -999,9,     -999,9,    0.008,2,   1.8250,2,     5.28,2,    7.941,2,   2.6010
35A3CITHER3_2 ,A13        ,143     ,  1,17         ,16         ,2,19950302,1729, -33.0310,   9.9970,     4993,   2395.7,   2.6630,  34.8480,2,  34.8460,2,    225.2,2,    225.4,2,    47.40,2,    24.50,2,     1.60,2,    0.005,2,     -999,9,     -999,9,     -999,9,     -999,9,     -999,9,     -999,9,     -999,9,   2.4800
35A3CITHER3_2 ,A13        ,143     ,  1,19         ,14         ,2,19950302,1729, -33.0310,   9.9970,     4993,   2595.3,   2.5370,  34.8510,2,  34.8500,2,    227.9,2,    227.5,2,    49.80,2,    24.20,2,     1.57,2,    0.000,2,   -0.004,2,     -999,9,     -999,9,     -999,9,     -999,9,     -999,9,     -999,9,   2.3370
35A3CITHER3_2 ,A13        ,143     ,  1,18         ,15         ,2,19950302,1729, -33.0310,   9.9970,     4993,   2595.6,   2.5380,  34.8510,2,  34.8500,2,    228.0,2,    227.6,2,    49.60,2,    23.90,2,     1.51,2,    0.002,2,     -999,9,     -999,9,     -999,9,     -999,9,     -999,9,     -999,9,     -999,9,   2.3380
35A3CITHER3_2 ,A13        ,143     ,  1,20         ,13         ,2,19950302,1729, -33.0310,   9.9970,     4993,   2796.0,   2.4350,  34.8540,2,  34.8530,2,    230.6,2,    230.1,2,    51.40,2,    24.20,2,     1.55,2,    0.004,2,    0.001,2,     -999,9,     -999,9,    0.012,2,   1.8330,2,     5.19,2,    7.999,2,   2.2170
35A3CITHER3_2 ,A13        ,143     ,  1,21         ,12         ,2,19950302,1729, -33.0310,   9.9970,     4993,   2995.6,   2.3680,  34.8560,2,  34.8580,2,    232.3,2,    231.7,2,    53.80,2,    24.00,2,     1.54,2,    0.003,2,     -999,9,     -999,9,     -999,9,     -999,9,     -999,9,     -999,9,     -999,9,   2.1320
35A3CITHER3_2 ,A13        ,143     ,  1,22         ,11         ,2,19950302,1729, -33.0310,   9.9970,     4993,   3197.5,   2.3070,  34.8570,2,  34.8550,2,    232.7,2,    231.8,2,    54.70,2,    24.00,2,     1.57,2,    0.002,2,    0.005,2,     -999,9,     -999,9,     -999,9,     -999,9,     -999,9,     -999,9,   2.0520
35A3CITHER3_2 ,A13        ,143     ,  1,23         ,10         ,2,19950302,1729, -33.0310,   9.9970,     4993,   3395.0,   2.2600,  34.8560,2,  34.8540,2,    232.8,2,    232.1,2,    56.20,2,    24.00,2,     1.56,2,    0.000,2,     -999,9,     -999,9,     -999,9,   -0.010,2,   1.8400,2,     5.23,2,    8.034,4,   1.9850
35A3CITHER3_2 ,A13        ,143     ,  1,24         ,9          ,2,19950302,1729, -33.0310,   9.9970,     4993,   3595.2,   2.1820,  34.8500,2,  34.8490,2,    232.1,2,    230.4,2,    60.60,2,    24.30,2,     1.58,2,    0.003,2,     -999,9,     -999,9,     -999,9,    0.006,2,   1.8420,2,     4.90,2,    8.035,2,   1.8880
35A3CITHER3_2 ,A13        ,143     ,  1,25         ,8          ,2,19950302,1729, -33.0310,   9.9970,     4993,   3796.5,   2.0330,  34.8330,2,  34.8320,2,    229.6,2,    227.9,2,    67.30,2,    24.60,2,     1.55,3,   -0.000,2,     -999,9,     -999,9,     -999,9,     -999,9,     -999,9,     -999,9,     -999,9,   1.7210
35A3CITHER3_2 ,A13        ,143     ,  1,26         ,7          ,2,19950302,1729, -33.0310,   9.9970,     4993,   3996.6,   1.7670,  34.8040,2,  34.8030,2,    225.3,2,    223.6,2,    79.40,2,    25.90,2,     1.64,3,    0.000,2,    0.002,2,     -999,9,     -999,9,    0.004,2,   1.8510,2,     5.59,2,    8.042,2,   1.4400
35A3CITHER3_2 ,A13        ,143     ,  1,27         ,6          ,2,19950302,1729, -33.0310,   9.9970,     4993,   4196.3,   1.4460,  34.7720,2,  34.7700,2,    220.8,2,    220.6,2,    92.60,2,    28.00,2,     1.83,2,    0.007,2,     -999,9,     -999,9,     -999,9,     -999,9,   1.8570,2,     6.57,2,     -999,9,   1.1060
35A3CITHER3_2 ,A13        ,143     ,  1,28         ,5          ,2,19950302,1729, -33.0310,   9.9970,     4993,   4397.1,   1.2590,  34.7540,2,  34.7520,2,    218.6,2,    219.7,2,   100.70,2,    28.80,2,     1.90,2,    0.008,2,    0.004,2,     -999,9,     -999,9,     -999,9,     -999,9,     -999,9,     -999,9,   0.9030
35A3CITHER3_2 ,A13        ,143     ,  1,29         ,4          ,2,19950302,1729, -33.0310,   9.9970,     4993,   4597.3,   1.1590,  34.7440,2,  34.7430,2,    217.7,2,    217.4,2,   104.80,2,    29.70,2,     2.00,2,    0.008,2,    0.006,2,     -999,9,     -999,9,    0.011,2,   1.8670,2,     7.05,2,    8.120,2,   0.7830
35A3CITHER3_2 ,A13        ,143     ,  1,30         ,3          ,2,19950302,1729, -33.0310,   9.9970,     4993,   4797.4,   1.1310,  34.7370,2,  34.7380,2,    217.3,2,    217.5,2,   106.30,2,    29.70,2,     2.00,2,    0.007,2,    0.003,2,     -999,9,     -999,9,     -999,9,   1.8690,2,     6.91,2,     -999,9,   0.7330
35A3CITHER3_2 ,A13        ,143     ,  1,31         ,2          ,2,19950302,1729, -33.0310,   9.9970,     4993,   4997.5,   1.1230,  34.7340,2,  34.7350,2,    217.4,2,    217.1,2,   107.40,2,    29.60,2,     2.00,2,    0.016,2,    0.009,2,     -999,9,     -999,9,     -999,9,     -999,9,     -999,9,     -999,9,   0.7010
35A3CITHER3_2 ,A13        ,143     ,  1,32         ,1          ,2,19950302,1729, -33.0310,   9.9970,     4993,   5050.3,   1.1230,  34.7350,2,  34.7360,2,    216.2,2,    217.4,2,   107.40,2,    29.20,2,     1.95,2,    0.014,2,    0.007,2,     -999,9,     -999,9,    0.006,2,   1.8710,2,     6.70,2,    8.177,2,   0.6950