BOTTLE,20211216CCHDHYDRO
EXPOCODE,SECT_ID,STNNBR,CASTNO,SAMPNO,BTLNBR,BTLNBR_FLAG_W,DATE,TIME,LATITUDE,LONGITUDE,DEPTH,CTDPRS,CTDTMP,CTDSAL,CTDSAL_FLAG_W,SALNTY,SALNTY_FLAG_W,CTDOXY,CTDOXY_FLAG_W,OXYGEN,OXYGEN_FLAG_W,SILCAT,SILCAT_FLAG_W,NITRAT,NITRAT_FLAG_W,PHSPHT,PHSPHT_FLAG_W,CFC-11,CFC-11_FLAG_W,CFC-12,CFC-12_FLAG_W,TCARBN,TCARBN_FLAG_W,ALKALI,ALKALI_FLAG_W,TRITUM,TRITUM_FLAG_W,HELIUM,HELIUM_FLAG_W,DELHE3,DELHE3_FLAG_W,NEON,NEON_FLAG_W,THETA
,,,,,,,,,,,METERS,DBAR,DEG C,PSS-78,,PSS-78,,UMOL/KG,,UMOL/KG,,UMOL/KG,,UMOL/KG,,UMOL/KG,,PMOL/KG,,PMOL/KG,,UMOL/KG,,UMOL/KG,,TU,,NMOL/KG,,PERCNT,,NMOL/KG,,DEG C
35A3CITHER3_2 ,A13        ,150     ,  1,1          ,32         ,2,19950304,1017, -29.7675,   9.9500,     4875,      3.0,  22.5780,  35.7240,2,  35.7260,2,    220.4,2,    221.3,2,     2.80,2,     0.00,2,     0.13,2,    2.131,2,    1.091,2,     -999,9,     -999,9,    0.945,2,   1.7080,2,    -2.41,2,    6.848,2,  22.5770
35A3CITHER3_2 ,A13        ,150     ,  1,2          ,31         ,2,19950304,1017, -29.7675,   9.9500,     4875,     46.7,  21.4240,  35.7590,2,  35.7490,3,    222.6,2,    224.0,2,     2.80,2,     0.00,2,     0.13,2,    2.134,2,    1.092,2,     -999,9,     -999,9,     -999,9,     -999,9,     -999,9,     -999,9,  21.4150
35A3CITHER3_2 ,A13        ,150     ,  1,3          ,30         ,2,19950304,1017, -29.7675,   9.9500,     4875,     96.3,  16.2570,  35.4750,2,  35.4770,2,    228.6,2,    219.7,3,     4.10,2,     3.00,2,     0.28,2,    2.586,2,    1.282,2,     -999,9,     -999,9,     -999,9,   1.7190,2,    -1.24,3,     -999,9,  16.2420
35A3CITHER3_2 ,A13        ,150     ,  1,4          ,29         ,2,19950304,1017, -29.7675,   9.9500,     4875,    195.2,  14.4510,  35.3140,2,  35.3160,2,    214.9,2,    214.1,2,     5.10,2,     6.90,2,     0.56,2,    2.599,2,    1.268,2,     -999,9,     -999,9,    0.836,2,   1.7510,2,    -0.76,2,    7.260,2,  14.4220
35A3CITHER3_2 ,A13        ,150     ,  1,5          ,28         ,2,19950304,1017, -29.7675,   9.9500,     4875,    294.3,  12.5310,  35.1000,2,  35.0960,2,    213.8,2,    220.4,3,     5.70,2,    10.40,2,     0.74,2,    2.587,2,    1.238,2,     -999,9,     -999,9,     -999,9,   1.9120,2,     0.38,5,    7.687,1,  12.4910
35A3CITHER3_2 ,A13        ,150     ,  1,6          ,27         ,2,19950304,1017, -29.7675,   9.9500,     4875,    396.7,  10.5880,  34.8510,2,  34.8500,2,    216.9,2,    216.1,2,     6.30,2,    14.50,2,     0.99,2,    2.548,2,    1.198,2,     -999,9,     -999,9,    0.526,2,   1.7720,2,    -0.24,2,    7.424,2,  10.5400
35A3CITHER3_2 ,A13        ,150     ,  1,7          ,26         ,2,19950304,1017, -29.7675,   9.9500,     4875,    495.8,   8.8530,  34.6620,2,  34.6630,2,    199.3,2,    197.8,2,    10.90,2,    20.60,2,     1.38,2,    2.101,2,    0.989,2,     -999,9,     -999,9,    0.376,2,   1.7740,2,     0.56,2,    7.542,2,   8.7990
35A3CITHER3_2 ,A13        ,150     ,  1,8          ,25         ,2,19950304,1017, -29.7675,   9.9500,     4875,    596.3,   7.0760,  34.4990,2,  34.5030,2,    195.2,2,    197.5,2,    16.40,2,    25.20,2,     1.61,2,    1.816,2,    0.839,2,     -999,9,     -999,9,    0.248,2,   1.7850,2,     0.89,2,    7.635,2,   7.0190
35A3CITHER3_2 ,A13        ,150     ,  1,9          ,24         ,2,19950304,1017, -29.7675,   9.9500,     4875,    826.2,   4.3120,  34.3310,2,  34.3310,2,    219.1,2,    216.7,2,    28.30,2,    29.60,2,     1.92,2,    1.472,2,    0.669,2,     -999,9,     -999,9,     -999,9,     -999,9,     -999,9,     -999,9,   4.2490
35A3CITHER3_2 ,A13        ,150     ,  1,10         ,23         ,2,19950304,1017, -29.7675,   9.9500,     4875,    996.1,   3.7630,  34.4220,2,  34.4150,3,    179.4,2,    178.9,2,    39.60,2,    32.50,2,     2.16,2,    0.420,2,    0.204,2,     -999,9,     -999,9,    0.048,2,   1.8060,2,     3.61,2,    7.856,2,   3.6900
35A3CITHER3_2 ,A13        ,150     ,  1,11         ,22         ,2,19950304,1017, -29.7675,   9.9500,     4875,   1196.6,   3.2040,  34.5080,2,  34.5080,2,    180.7,2,    180.2,2,    53.50,2,    32.70,2,     2.17,2,    0.141,2,    0.073,2,     -999,9,     -999,9,     -999,9,     -999,9,     -999,9,     -999,9,   3.1190
35A3CITHER3_2 ,A13        ,150     ,  1,12         ,21         ,2,19950304,1017, -29.7675,   9.9500,     4875,   1395.5,   3.0150,  34.6360,2,  34.6380,2,    181.3,2,    182.1,2,    54.20,2,    30.90,2,     2.00,2,    0.046,2,    0.032,2,     -999,9,     -999,9,    0.014,2,   1.8240,2,     5.83,2,    7.951,2,   2.9150
35A3CITHER3_2 ,A13        ,150     ,  1,13         ,20         ,2,19950304,1017, -29.7675,   9.9500,     4875,   1597.1,   2.9880,  34.7480,2,  34.7520,2,    193.3,2,    196.4,2,    49.40,2,    28.20,2,     1.83,2,    0.015,2,    0.015,2,     -999,9,     -999,9,     -999,9,     -999,9,     -999,9,     -999,9,   2.8720
35A3CITHER3_2 ,A13        ,150     ,  1,14         ,19         ,2,19950304,1017, -29.7675,   9.9500,     4875,   1793.9,   2.8300,  34.7840,2,  34.7860,2,    204.5,2,    204.9,2,    50.70,2,    27.10,2,     1.77,2,    0.011,2,    0.013,2,     -999,9,     -999,9,    0.010,2,   1.8400,2,     5.92,2,    7.938,2,   2.6990
35A3CITHER3_2 ,A13        ,150     ,  1,15         ,18         ,2,19950304,1017, -29.7675,   9.9500,     4875,   1995.3,   2.9040,  34.8460,2,  34.8480,2,    218.5,2,    219.8,2,    42.80,2,    25.00,2,     1.62,2,    0.004,2,    0.009,2,     -999,9,     -999,9,    0.002,3,   1.8420,3,     4.46,3,    7.916,2,   2.7540
35A3CITHER3_2 ,A13        ,150     ,  1,16         ,17         ,2,19950304,1017, -29.7675,   9.9500,     4875,   2195.2,   2.7500,  34.8510,2,     -999,9,    224.7,2,     -999,9,     -999,9,     -999,9,     -999,9,    0.002,2,    0.009,2,     -999,9,     -999,9,     -999,9,     -999,9,     -999,9,     -999,9,   2.5840
35A3CITHER3_2 ,A13        ,150     ,  1,17         ,16         ,2,19950304,1017, -29.7675,   9.9500,     4875,   2395.7,   2.7030,  34.8680,2,  34.8710,2,    230.5,2,    229.7,2,    43.40,2,    23.60,2,     1.48,2,    0.005,2,     -999,9,     -999,9,     -999,9,     -999,9,   1.8320,2,     4.14,2,     -999,9,   2.5190
35A3CITHER3_2 ,A13        ,150     ,  1,18         ,15         ,2,19950304,1017, -29.7675,   9.9500,     4875,   2594.7,   2.5830,  34.8700,2,  34.8710,2,    231.8,2,    231.2,2,    45.70,2,    23.50,2,     1.50,2,    0.002,2,    0.008,2,     -999,9,     -999,9,     -999,9,     -999,9,     -999,9,     -999,9,   2.3820
35A3CITHER3_2 ,A13        ,150     ,  1,19         ,14         ,2,19950304,1017, -29.7675,   9.9500,     4875,   2795.6,   2.4980,  34.8670,2,  34.8700,2,    232.3,2,    232.0,2,    48.00,2,    23.20,2,     1.44,3,    0.003,2,    0.003,2,     -999,9,     -999,9,     -999,9,   1.8460,2,     4.61,2,    7.982,1,   2.2790
35A3CITHER3_2 ,A13        ,150     ,  1,20         ,13         ,2,19950304,1017, -29.7675,   9.9500,     4875,   2998.5,   2.4170,  34.8630,2,  34.8630,2,    232.4,2,    231.8,2,    50.60,2,    23.60,2,     1.55,2,    0.001,2,    0.002,2,     -999,9,     -999,9,     -999,9,   1.8530,2,     4.63,2,     -999,9,   2.1790
35A3CITHER3_2 ,A13        ,150     ,  1,21         ,12         ,2,19950304,1017, -29.7675,   9.9500,     4875,   3195.6,   2.3570,  34.8620,2,  34.8630,2,    231.8,2,    231.7,2,    52.70,2,    23.90,2,     1.58,2,    0.003,2,    0.007,2,     -999,9,     -999,9,     -999,9,     -999,9,     -999,9,     -999,9,   2.1010
35A3CITHER3_2 ,A13        ,150     ,  1,22         ,11         ,2,19950304,1017, -29.7675,   9.9500,     4875,   3396.4,   2.2950,  34.8580,2,  34.8600,2,    232.5,2,    231.4,2,    54.70,2,    24.10,2,     1.59,2,    0.004,2,    0.009,2,     -999,9,     -999,9,    0.004,2,   1.8700,2,     4.73,2,    8.058,2,   2.0190
35A3CITHER3_2 ,A13        ,150     ,  1,23         ,10         ,2,19950304,1017, -29.7675,   9.9500,     4875,   3597.3,   2.2290,  34.8540,2,  34.8550,2,    230.9,2,    230.3,2,    58.00,2,    24.10,2,     1.57,2,    0.004,2,    0.007,2,     -999,9,     -999,9,     -999,9,     -999,9,     -999,9,     -999,9,   1.9330
35A3CITHER3_2 ,A13        ,150     ,  1,24         ,9          ,2,19950304,1017, -29.7675,   9.9500,     4875,   3795.9,   2.0690,  34.8380,2,  34.8380,2,    229.0,2,    228.1,2,    65.30,2,    25.40,2,     1.67,2,    0.003,2,    0.007,2,     -999,9,     -999,9,     -999,9,     -999,9,     -999,9,     -999,9,   1.7560
35A3CITHER3_2 ,A13        ,150     ,  1,25         ,8          ,2,19950304,1017, -29.7675,   9.9500,     4875,   3998.3,   1.8000,  34.8090,2,  34.8090,2,    224.5,2,    224.0,2,    77.30,2,    26.80,2,     1.76,2,    0.001,2,    0.009,2,     -999,9,     -999,9,    0.005,2,   1.8620,2,     5.95,2,    8.092,2,   1.4720
35A3CITHER3_2 ,A13        ,150     ,  1,26         ,7          ,2,19950304,1017, -29.7675,   9.9500,     4875,   4194.9,   1.4830,  34.7750,2,  34.7770,2,    220.6,2,    220.1,2,    90.00,2,    28.00,2,     1.83,2,    0.005,2,    0.009,2,     -999,9,     -999,9,     -999,9,     -999,9,     -999,9,     -999,9,   1.1430
35A3CITHER3_2 ,A13        ,150     ,  1,27         ,6          ,2,19950304,1017, -29.7675,   9.9500,     4875,   4197.9,   1.4820,  34.7740,2,  34.7760,2,    220.5,2,    220.6,2,    90.90,2,    28.00,2,     1.82,2,    0.005,2,    0.012,2,     -999,9,     -999,9,    0.006,2,   1.8530,2,     4.71,2,    8.053,2,   1.1410
35A3CITHER3_2 ,A13        ,150     ,  1,28         ,5          ,2,19950304,1017, -29.7675,   9.9500,     4875,   4397.6,   1.2620,  34.7550,2,  34.7530,2,    218.1,2,    221.2,2,    99.50,2,    28.00,2,     1.83,2,    0.006,2,    0.008,2,     -999,9,     -999,9,     -999,9,     -999,9,     -999,9,     -999,9,   0.9060
35A3CITHER3_2 ,A13        ,150     ,  1,29         ,4          ,2,19950304,1017, -29.7675,   9.9500,     4875,   4599.8,   1.1700,  34.7440,2,  34.7440,2,    217.1,2,    216.9,2,   103.80,2,    30.00,2,     1.98,2,    0.006,2,    0.012,2,     -999,9,     -999,9,    0.014,2,   1.8760,2,     6.45,2,    8.109,2,   0.7930
35A3CITHER3_2 ,A13        ,150     ,  1,30         ,3          ,2,19950304,1017, -29.7675,   9.9500,     4875,   4797.4,   1.1480,  34.7400,2,  34.7390,2,    216.6,2,    216.6,2,   105.90,2,    29.30,2,     1.93,2,    0.007,2,    0.011,2,     -999,9,     -999,9,     -999,9,     -999,9,     -999,9,     -999,9,   0.7490
35A3CITHER3_2 ,A13        ,150     ,  1,31         ,2          ,2,19950304,1017, -29.7675,   9.9500,     4875,   4875.3,   1.1470,  34.7370,2,  34.7300,2,    216.3,2,    216.1,2,   106.40,2,    29.90,2,     2.00,2,    0.011,2,    0.012,2,     -999,9,     -999,9,     -999,9,     -999,9,     -999,9,     -999,9,   0.7390
35A3CITHER3_2 ,A13        ,150     ,  1,32         ,1          ,2,19950304,1017, -29.7675,   9.9500,     4875,   4933.3,   1.1530,  34.7360,2,  34.7370,2,    215.2,2,    218.6,2,   106.70,2,    30.20,2,     2.00,2,    0.013,2,    0.013,2,     -999,9,     -999,9,     -999,9,   1.8710,2,     6.63,2,    8.158,1,   0.7380