BOTTLE,20211216CCHDHYDRO
EXPOCODE,SECT_ID,STNNBR,CASTNO,SAMPNO,BTLNBR,BTLNBR_FLAG_W,DATE,TIME,LATITUDE,LONGITUDE,DEPTH,CTDPRS,CTDTMP,CTDSAL,CTDSAL_FLAG_W,SALNTY,SALNTY_FLAG_W,CTDOXY,CTDOXY_FLAG_W,OXYGEN,OXYGEN_FLAG_W,SILCAT,SILCAT_FLAG_W,NITRAT,NITRAT_FLAG_W,PHSPHT,PHSPHT_FLAG_W,CFC-11,CFC-11_FLAG_W,CFC-12,CFC-12_FLAG_W,TCARBN,TCARBN_FLAG_W,ALKALI,ALKALI_FLAG_W,TRITUM,TRITUM_FLAG_W,HELIUM,HELIUM_FLAG_W,DELHE3,DELHE3_FLAG_W,NEON,NEON_FLAG_W,THETA
,,,,,,,,,,,METERS,DBAR,DEG C,PSS-78,,PSS-78,,UMOL/KG,,UMOL/KG,,UMOL/KG,,UMOL/KG,,UMOL/KG,,PMOL/KG,,PMOL/KG,,UMOL/KG,,UMOL/KG,,TU,,NMOL/KG,,PERCNT,,NMOL/KG,,DEG C
35A3CITHER3_2 ,A13        ,236     ,  1,1          ,32         ,2,19950326,2116,   3.3895,  -0.2927,     4766,      4.5,  29.5720,  34.7900,2,  34.7900,2,    198.5,2,    195.3,2,     4.40,2,     0.00,2,     0.07,2,    1.540,2,    0.847,2,     -999,9,     -999,9,    0.878,2,   1.6950,2,    -1.27,2,    6.574,2,  29.5710
35A3CITHER3_2 ,A13        ,236     ,  1,2          ,31         ,2,19950326,2116,   3.3895,  -0.2927,     4766,     46.3,  22.1320,  35.8430,2,  35.7970,3,    222.4,2,    203.7,3,     4.20,2,     0.00,2,     0.19,2,    1.725,2,    0.870,2,     -999,9,     -999,9,    0.720,2,   1.7120,2,    -0.41,2,    6.875,2,  22.1230
35A3CITHER3_2 ,A13        ,236     ,  1,3          ,30         ,2,19950326,2116,   3.3895,  -0.2927,     4766,     96.2,  18.0390,  35.8420,2,  35.8360,3,    144.3,2,    143.8,2,     6.20,2,    11.70,2,     0.85,2,    1.693,2,    0.840,2,     -999,9,     -999,9,    0.632,2,   1.7300,2,     0.04,2,    7.057,2,  18.0220
35A3CITHER3_2 ,A13        ,236     ,  1,4          ,29         ,2,19950326,2116,   3.3895,  -0.2927,     4766,    198.0,  14.4100,  35.4640,2,  35.4790,3,    106.3,2,    115.7,3,     8.90,2,    18.80,2,     1.27,2,    1.278,2,    0.633,2,     -999,9,     -999,9,     -999,9,     -999,9,     -999,9,     -999,9,  14.3810
35A3CITHER3_2 ,A13        ,236     ,  1,5          ,28         ,2,19950326,2116,   3.3895,  -0.2927,     4766,    296.7,  11.1270,  35.0890,2,  35.0890,2,     55.3,2,     57.0,2,    13.90,2,    30.60,2,     1.90,2,    0.419,2,    0.230,2,     -999,9,     -999,9,    0.255,2,   1.7630,2,     1.58,2,    7.425,2,  11.0900
35A3CITHER3_2 ,A13        ,236     ,  1,6          ,27         ,2,19950326,2116,   3.3895,  -0.2927,     4766,    375.4,   9.1380,  34.8700,2,  34.8630,3,     56.6,2,     59.0,2,    17.90,2,    34.50,2,     2.16,2,    0.169,2,    0.095,2,     -999,9,     -999,9,    0.117,2,   1.7480,2,     1.22,2,    7.446,2,   9.0960
35A3CITHER3_2 ,A13        ,236     ,  1,7          ,26         ,2,19950326,2116,   3.3895,  -0.2927,     4766,    496.2,   7.4240,  34.6970,2,  34.6900,3,     80.1,2,     82.1,2,    21.60,2,    35.40,2,     2.29,2,    0.061,2,    0.033,2,     -999,9,     -999,9,    0.046,2,   1.7780,2,     0.91,2,    7.592,2,   7.3750
35A3CITHER3_2 ,A13        ,236     ,  1,8          ,25         ,2,19950326,2116,   3.3895,  -0.2927,     4766,    595.1,   6.2260,  34.5930,2,  34.5830,3,     95.4,2,    102.6,3,    25.00,2,    35.80,2,     2.35,2,    0.030,2,    0.017,2,     -999,9,     -999,9,    0.019,2,   1.7840,2,     1.26,2,    7.651,2,   6.1730
35A3CITHER3_2 ,A13        ,236     ,  1,9          ,24         ,2,19950326,2116,   3.3895,  -0.2927,     4766,    794.7,   4.8230,  34.5370,2,  34.5390,2,    137.5,2,    140.3,2,    30.40,2,    34.30,2,     2.31,2,    0.012,2,    0.010,2,     -999,9,     -999,9,     -999,9,     -999,9,     -999,9,     -999,9,   4.7590
35A3CITHER3_2 ,A13        ,236     ,  1,10         ,23         ,2,19950326,2116,   3.3895,  -0.2927,     4766,    994.6,   4.5350,  34.6270,2,  34.6090,3,    150.3,2,    147.6,2,    31.00,2,    32.90,2,     2.21,2,    0.004,2,    0.002,2,     -999,9,     -999,9,     -999,9,     -999,9,     -999,9,     -999,9,   4.4560
35A3CITHER3_2 ,A13        ,236     ,  1,11         ,22         ,2,19950326,2116,   3.3895,  -0.2927,     4766,   1164.5,   4.4300,  34.7830,2,  34.7720,3,    169.7,2,    173.8,2,    27.90,2,    28.40,2,     1.92,2,    0.006,2,    0.001,2,     -999,9,     -999,9,    0.013,2,   1.8020,2,     1.15,2,    7.794,2,   4.3360
35A3CITHER3_2 ,A13        ,236     ,  1,12         ,21         ,2,19950326,2116,   3.3895,  -0.2927,     4766,   1395.0,   4.2460,  34.9070,2,  34.9100,2,    203.4,2,    203.2,2,    23.30,2,    23.80,2,     1.60,2,    0.005,2,     -999,9,     -999,9,     -999,9,    0.019,2,   1.8110,2,     1.05,2,    7.832,2,   4.1330
35A3CITHER3_2 ,A13        ,236     ,  1,13         ,20         ,2,19950326,2116,   3.3895,  -0.2927,     4766,   1595.0,   4.0010,  34.9470,2,  34.9490,2,    223.1,2,    221.0,2,    22.20,2,    21.90,2,     1.47,2,    0.000,2,     -999,9,     -999,9,     -999,9,     -999,9,     -999,9,     -999,9,     -999,9,   3.8720
35A3CITHER3_2 ,A13        ,236     ,  1,14         ,19         ,2,19950326,2116,   3.3895,  -0.2927,     4766,   1795.6,   3.7330,  34.9600,2,  34.9510,3,    236.8,2,    234.0,2,    22.20,2,    20.50,2,     1.37,2,    0.004,2,     -999,9,     -999,9,     -999,9,     -999,9,   1.8280,2,     0.88,2,    7.917,1,   3.5890
35A3CITHER3_2 ,A13        ,236     ,  1,15         ,18         ,2,19950326,2116,   3.3895,  -0.2927,     4766,   1995.8,   3.4980,  34.9560,2,  34.9590,2,    240.6,2,    237.9,2,    24.50,2,    20.30,2,     1.35,2,    0.003,2,    0.008,2,     -999,9,     -999,9,     -999,9,   1.8180,2,     1.77,2,     -999,9,   3.3380
35A3CITHER3_2 ,A13        ,236     ,  1,16         ,17         ,2,19950326,2116,   3.3895,  -0.2927,     4766,   2195.8,   3.2910,  34.9480,2,  34.9510,2,    241.7,2,    238.8,2,    27.30,2,    20.40,2,     1.36,2,    0.002,2,   -0.001,2,     -999,9,     -999,9,    0.004,6,   1.8200,6,     1.74,6,    7.921,2,   3.1160
35A3CITHER3_2 ,A13        ,236     ,  1,17         ,16         ,2,19950326,2116,   3.3895,  -0.2927,     4766,   2396.2,   3.0720,  34.9400,2,  34.9390,2,    241.0,2,    239.2,2,    30.70,2,    20.60,2,     1.36,2,    0.006,2,    0.005,2,     -999,9,     -999,9,     -999,9,   1.8280,3,     2.56,3,     -999,9,   2.8810
35A3CITHER3_2 ,A13        ,236     ,  1,18         ,15         ,2,19950326,2116,   3.3895,  -0.2927,     4766,   2596.2,   2.9060,  34.9310,2,  34.9300,2,    239.9,2,    238.9,2,    34.10,2,    21.00,2,     1.40,2,    0.002,2,    0.001,2,     -999,9,     -999,9,     -999,9,   1.8250,2,     2.75,2,     -999,9,   2.6980
35A3CITHER3_2 ,A13        ,236     ,  1,19         ,14         ,2,19950326,2116,   3.3895,  -0.2927,     4766,   2796.4,   2.7560,  34.9200,2,  34.9210,2,    238.4,2,    238.2,2,    37.00,2,    21.00,2,     1.37,2,    0.000,2,     -999,9,     -999,9,     -999,9,    0.003,2,   1.8380,2,     3.38,2,    7.968,2,   2.5310
35A3CITHER3_2 ,A13        ,236     ,  1,20         ,13         ,2,19950326,2116,   3.3895,  -0.2927,     4766,   2996.7,   2.6590,  34.9150,2,  34.9150,2,    237.1,2,    236.7,2,    39.50,2,    21.30,2,     1.42,2,     -999,9,     -999,9,     -999,9,     -999,9,     -999,9,   1.8320,2,     4.18,2,     -999,9,   2.4160
35A3CITHER3_2 ,A13        ,236     ,  1,21         ,12         ,2,19950326,2116,   3.3895,  -0.2927,     4766,   3196.3,   2.5600,  34.9080,2,  34.9080,2,    236.0,2,    237.2,2,    41.70,2,    21.10,2,     1.39,2,     -999,9,     -999,9,     -999,9,     -999,9,     -999,9,     -999,9,     -999,9,     -999,9,   2.2990
35A3CITHER3_2 ,A13        ,236     ,  1,22         ,11         ,2,19950326,2116,   3.3895,  -0.2927,     4766,   3395.9,   2.4930,  34.9030,2,  34.9040,2,    235.7,2,    236.1,2,    43.30,2,    21.20,2,     1.43,2,    0.001,2,    0.004,2,     -999,9,     -999,9,     -999,9,   1.8360,2,     3.16,2,     -999,9,   2.2120
35A3CITHER3_2 ,A13        ,236     ,  1,23         ,10         ,2,19950326,2116,   3.3895,  -0.2927,     4766,   3597.2,   2.4320,  34.8980,2,  34.8980,2,    236.1,2,    235.8,2,    45.00,2,    21.70,2,     1.46,2,    0.000,2,    0.005,2,     -999,9,     -999,9,     -999,9,   1.8360,3,     2.93,3,     -999,9,   2.1310
35A3CITHER3_2 ,A13        ,236     ,  1,24         ,9          ,2,19950326,2116,   3.3895,  -0.2927,     4766,   3798.7,   2.3860,  34.8960,2,  34.8910,2,    237.4,2,    237.2,2,    46.30,2,    21.30,2,     1.42,2,    0.002,2,    0.003,2,     -999,9,     -999,9,     -999,9,   1.8400,2,     2.79,2,     -999,9,   2.0640
35A3CITHER3_2 ,A13        ,236     ,  1,25         ,8          ,2,19950326,2116,   3.3895,  -0.2927,     4766,   3996.5,   2.3410,  34.8880,2,  34.8870,2,    236.8,2,    237.8,2,    47.90,2,    21.30,2,     1.42,2,    0.000,2,    0.003,2,     -999,9,     -999,9,     -999,9,     -999,9,     -999,9,     -999,9,   1.9980
35A3CITHER3_2 ,A13        ,236     ,  1,26         ,7          ,2,19950326,2116,   3.3895,  -0.2927,     4766,   4197.6,   2.2980,  34.8830,2,  34.8830,2,    235.9,2,    236.7,2,    49.90,2,    21.70,2,     1.45,2,    0.001,2,    0.000,2,     -999,9,     -999,9,     -999,9,   1.8460,2,     2.54,2,     -999,9,   1.9330
35A3CITHER3_2 ,A13        ,236     ,  1,27         ,6          ,2,19950326,2116,   3.3895,  -0.2927,     4766,   4397.5,   2.2550,  34.8770,2,  34.8760,2,    234.3,2,    235.0,2,    52.60,2,    22.30,2,     1.49,2,    0.017,2,    0.012,2,     -999,9,     -999,9,     -999,9,     -999,9,     -999,9,     -999,9,   1.8680
35A3CITHER3_2 ,A13        ,236     ,  1,28         ,5          ,2,19950326,2116,   3.3895,  -0.2927,     4766,   4597.1,   2.2220,  34.8710,2,  34.8690,2,    229.4,2,    230.6,2,    56.50,2,    22.80,2,     1.53,2,    0.001,2,    0.018,2,     -999,9,     -999,9,     -999,9,   1.8390,2,     3.01,2,     -999,9,   1.8120
35A3CITHER3_2 ,A13        ,236     ,  1,29         ,4          ,2,19950326,2116,   3.3895,  -0.2927,     4766,   4746.7,   2.1870,  34.8650,2,  34.8650,2,    227.0,2,    232.2,4,    58.60,2,    23.00,2,     1.52,2,    0.009,2,    0.002,2,     -999,9,     -999,9,     -999,9,     -999,9,     -999,9,     -999,9,   1.7600
35A3CITHER3_2 ,A13        ,236     ,  1,30         ,3          ,2,19950326,2116,   3.3895,  -0.2927,     4766,   4810.5,   2.1850,  34.8640,2,  34.8630,2,    224.7,2,    230.5,4,    60.00,2,    22.90,2,     1.53,2,    0.009,2,    0.005,2,     -999,9,     -999,9,    0.005,2,   1.8460,2,     3.30,2,    8.016,2,   1.7500
35A3CITHER3_2 ,A13        ,237     ,  1,1          ,32         ,2,19950327,0248,   3.7447,  -0.5202,     4757,      4.7,  29.4660,  34.7500,2,  34.7520,2,    193.2,2,    195.7,2,     3.70,2,     0.00,2,     0.04,2,    1.504,2,    0.818,2,     -999,9,     -999,9,     -999,9,     -999,9,     -999,9,     -999,9,  29.4650
35A3CITHER3_2 ,A13        ,237     ,  1,2          ,31         ,2,19950327,0248,   3.7447,  -0.5202,     4757,     46.1,  24.3860,  35.5360,2,  35.3940,3,    219.4,2,    207.3,3,     3.40,2,     0.00,2,     0.07,2,    1.683,2,    0.869,2,     -999,9,     -999,9,     -999,9,     -999,9,     -999,9,     -999,9,  24.3760
35A3CITHER3_2 ,A13        ,237     ,  1,3          ,30         ,2,19950327,0248,   3.7447,  -0.5202,     4757,    120.9,  16.7780,  35.7450,2,  35.7430,2,    147.7,2,    147.0,2,     6.30,2,    12.60,2,     0.85,2,    1.656,2,    0.821,2,     -999,9,     -999,9,     -999,9,     -999,9,     -999,9,     -999,9,  16.7580
35A3CITHER3_2 ,A13        ,237     ,  1,4          ,29         ,2,19950327,0248,   3.7447,  -0.5202,     4757,    195.6,  14.4520,  35.4690,2,  35.4700,2,    116.7,2,    128.3,3,     8.70,2,    17.60,2,     1.15,2,    1.367,2,    0.671,2,     -999,9,     -999,9,     -999,9,     -999,9,     -999,9,     -999,9,  14.4230
35A3CITHER3_2 ,A13        ,237     ,  1,5          ,28         ,2,19950327,0248,   3.7447,  -0.5202,     4757,    295.2,  11.2780,  35.0990,2,  35.1010,2,     54.1,2,     51.0,2,    14.00,2,    31.10,2,     1.88,2,    0.394,2,    0.208,2,     -999,9,     -999,9,     -999,9,     -999,9,     -999,9,     -999,9,  11.2410
35A3CITHER3_2 ,A13        ,237     ,  1,6          ,27         ,2,19950327,0248,   3.7447,  -0.5202,     4757,    396.6,   8.8820,  34.8400,2,  34.8380,2,     60.1,2,     60.5,2,    18.20,2,    34.60,2,     2.12,2,    0.147,2,    0.099,2,     -999,9,     -999,9,     -999,9,     -999,9,     -999,9,     -999,9,   8.8390
35A3CITHER3_2 ,A13        ,237     ,  1,7          ,26         ,2,19950327,0248,   3.7447,  -0.5202,     4757,    595.7,   6.1960,  34.5990,2,  34.5930,2,     99.5,2,    101.5,2,    25.30,2,    35.90,2,     2.32,2,    0.024,2,    0.017,2,     -999,9,     -999,9,     -999,9,     -999,9,     -999,9,     -999,9,   6.1430
35A3CITHER3_2 ,A13        ,237     ,  1,8          ,25         ,2,19950327,0248,   3.7447,  -0.5202,     4757,    795.7,   4.8820,  34.5460,2,  34.5170,3,    136.6,2,    135.3,2,    30.60,2,    34.70,2,     2.29,2,    0.011,2,    0.005,2,     -999,9,     -999,9,     -999,9,     -999,9,     -999,9,     -999,9,   4.8180
35A3CITHER3_2 ,A13        ,237     ,  1,9          ,24         ,2,19950327,0248,   3.7447,  -0.5202,     4757,    995.4,   4.5550,  34.6300,2,  34.6290,2,    145.8,2,    146.6,2,    31.30,2,    32.70,2,     2.16,2,    0.004,2,    0.004,2,     -999,9,     -999,9,     -999,9,     -999,9,     -999,9,     -999,9,   4.4750
35A3CITHER3_2 ,A13        ,237     ,  1,10         ,23         ,2,19950327,0248,   3.7447,  -0.5202,     4757,   1194.7,   4.4050,  34.8060,2,  34.7930,3,    174.3,2,    176.6,2,    27.10,2,    27.90,2,     1.84,2,    0.006,2,    0.004,2,     -999,9,     -999,9,     -999,9,     -999,9,     -999,9,     -999,9,   4.3090
35A3CITHER3_2 ,A13        ,237     ,  1,11         ,22         ,2,19950327,0248,   3.7447,  -0.5202,     4757,   1395.9,   4.2390,  34.9090,2,  34.9090,2,    202.3,2,    204.0,2,    23.40,2,    24.00,2,     1.55,2,    0.007,2,    0.002,2,     -999,9,     -999,9,     -999,9,     -999,9,     -999,9,     -999,9,   4.1260
35A3CITHER3_2 ,A13        ,237     ,  1,12         ,21         ,2,19950327,0248,   3.7447,  -0.5202,     4757,   1595.0,   3.9860,  34.9490,2,  34.9480,2,    221.5,2,    222.2,2,    22.10,2,    21.80,2,     1.40,2,    0.000,2,    0.003,2,     -999,9,     -999,9,     -999,9,     -999,9,     -999,9,     -999,9,   3.8570
35A3CITHER3_2 ,A13        ,237     ,  1,13         ,20         ,2,19950327,0248,   3.7447,  -0.5202,     4757,   1795.5,   3.7330,  34.9600,2,  34.9480,3,    234.6,2,    234.1,2,    22.20,2,    20.80,2,     1.32,2,    0.004,2,    0.004,2,     -999,9,     -999,9,     -999,9,     -999,9,     -999,9,     -999,9,   3.5890
35A3CITHER3_2 ,A13        ,237     ,  1,14         ,19         ,2,19950327,0248,   3.7447,  -0.5202,     4757,   1994.9,   3.5280,  34.9590,2,  34.9610,2,    242.2,2,    241.2,2,    23.40,2,    20.10,2,     1.30,2,    0.002,2,    0.003,2,     -999,9,     -999,9,     -999,9,     -999,9,     -999,9,     -999,9,   3.3680
35A3CITHER3_2 ,A13        ,237     ,  1,15         ,18         ,2,19950327,0248,   3.7447,  -0.5202,     4757,   2195.1,   3.2770,  34.9470,2,  34.9500,2,    240.3,2,    238.8,2,    27.50,2,    20.30,2,     1.30,2,    0.002,2,    0.007,2,     -999,9,     -999,9,     -999,9,     -999,9,     -999,9,     -999,9,   3.1020
35A3CITHER3_2 ,A13        ,237     ,  1,16         ,17         ,2,19950327,0248,   3.7447,  -0.5202,     4757,   2395.2,   3.0590,  34.9380,2,  34.9390,2,    239.6,2,    239.1,2,    31.10,2,    20.90,2,     1.35,2,    0.000,2,    0.000,2,     -999,9,     -999,9,     -999,9,     -999,9,     -999,9,     -999,9,   2.8680
35A3CITHER3_2 ,A13        ,237     ,  1,17         ,16         ,2,19950327,0248,   3.7447,  -0.5202,     4757,   2595.1,   2.8620,  34.9290,2,  34.9270,2,    237.4,2,    237.6,2,    35.30,2,    21.20,2,     1.37,2,    0.002,2,    0.000,2,     -999,9,     -999,9,     -999,9,     -999,9,     -999,9,     -999,9,   2.6550
35A3CITHER3_2 ,A13        ,237     ,  1,18         ,15         ,2,19950327,0248,   3.7447,  -0.5202,     4757,   2795.7,   2.7470,  34.9200,2,  34.9220,2,    238.3,2,    237.8,2,     0.00,2,    21.40,2,     1.38,2,    0.000,2,    0.000,2,     -999,9,     -999,9,     -999,9,     -999,9,     -999,9,     -999,9,   2.5230
35A3CITHER3_2 ,A13        ,237     ,  1,20         ,13         ,2,19950327,0248,   3.7447,  -0.5202,     4757,   2996.2,   2.6510,  34.9150,2,  34.9140,2,    237.0,2,    237.3,2,    38.90,2,    21.60,2,     1.41,2,    0.001,2,    0.003,2,     -999,9,     -999,9,     -999,9,     -999,9,     -999,9,     -999,9,   2.4080
35A3CITHER3_2 ,A13        ,237     ,  1,19         ,14         ,2,19950327,0248,   3.7447,  -0.5202,     4757,   2996.3,   2.6530,  34.9140,2,  34.9130,2,    237.0,2,    237.1,2,    39.70,2,    21.60,2,     1.40,2,    0.000,2,    0.002,2,     -999,9,     -999,9,     -999,9,     -999,9,     -999,9,     -999,9,   2.4100
35A3CITHER3_2 ,A13        ,237     ,  1,21         ,12         ,2,19950327,0248,   3.7447,  -0.5202,     4757,   3195.4,   2.5620,  34.9080,2,  34.9070,2,    236.2,2,    236.4,2,    41.80,2,    21.50,2,     1.40,2,    0.002,2,   -0.002,2,     -999,9,     -999,9,     -999,9,     -999,9,     -999,9,     -999,9,   2.3010
35A3CITHER3_2 ,A13        ,237     ,  1,22         ,11         ,2,19950327,0248,   3.7447,  -0.5202,     4757,   3397.5,   2.4850,  34.9020,2,  34.9030,2,    235.2,2,    235.5,2,    43.70,2,    21.40,2,     1.42,2,    0.002,2,   -0.002,2,     -999,9,     -999,9,     -999,9,     -999,9,     -999,9,     -999,9,   2.2040
35A3CITHER3_2 ,A13        ,237     ,  1,23         ,10         ,2,19950327,0248,   3.7447,  -0.5202,     4757,   3596.9,   2.4420,  34.8990,2,  34.8990,2,    236.2,2,    236.6,2,    44.40,2,    21.40,2,     1.38,2,    0.001,2,     -999,9,     -999,9,     -999,9,     -999,9,     -999,9,     -999,9,     -999,9,   2.1410
35A3CITHER3_2 ,A13        ,237     ,  1,24         ,9          ,2,19950327,0248,   3.7447,  -0.5202,     4757,   3796.8,   2.3840,  34.8940,2,  34.8880,2,    235.5,2,    235.8,2,    46.60,2,    22.20,2,     1.41,2,    0.003,2,    0.009,2,     -999,9,     -999,9,     -999,9,     -999,9,     -999,9,     -999,9,   2.0620
35A3CITHER3_2 ,A13        ,237     ,  1,25         ,8          ,2,19950327,0248,   3.7447,  -0.5202,     4757,   3996.6,   2.3290,  34.8870,2,  34.8870,2,    235.7,2,    236.6,2,    48.10,2,    22.30,2,     1.43,2,    0.002,2,    0.004,2,     -999,9,     -999,9,     -999,9,     -999,9,     -999,9,     -999,9,   1.9860
35A3CITHER3_2 ,A13        ,237     ,  1,26         ,7          ,2,19950327,0248,   3.7447,  -0.5202,     4757,   4196.2,   2.2940,  34.8820,2,  34.8820,2,    236.0,2,    236.6,2,    49.50,2,    21.80,2,     1.40,2,    0.002,2,     -999,9,     -999,9,     -999,9,     -999,9,     -999,9,     -999,9,     -999,9,   1.9290
35A3CITHER3_2 ,A13        ,237     ,  1,27         ,6          ,2,19950327,0248,   3.7447,  -0.5202,     4757,   4397.9,   2.2670,  34.8790,2,  34.8780,2,    235.0,2,    235.7,2,    51.70,2,    22.50,2,     1.44,2,    0.001,2,    0.008,2,     -999,9,     -999,9,     -999,9,     -999,9,     -999,9,     -999,9,   1.8790
35A3CITHER3_2 ,A13        ,237     ,  1,28         ,5          ,2,19950327,0248,   3.7447,  -0.5202,     4757,   4598.1,   2.2280,  34.8720,2,  34.8700,2,    231.6,2,    231.5,2,    54.70,2,    22.30,2,     1.42,2,    0.002,2,    0.010,2,     -999,9,     -999,9,     -999,9,     -999,9,     -999,9,     -999,9,   1.8170
35A3CITHER3_2 ,A13        ,237     ,  1,29         ,4          ,2,19950327,0248,   3.7447,  -0.5202,     4757,   4697.0,   2.1800,  34.8660,2,  34.8610,2,    230.1,2,    230.0,2,    57.40,2,    23.40,2,     1.48,2,    0.009,2,    0.028,2,     -999,9,     -999,9,     -999,9,     -999,9,     -999,9,     -999,9,   1.7590
35A3CITHER3_2 ,A13        ,237     ,  1,30         ,3          ,2,19950327,0248,   3.7447,  -0.5202,     4757,   4801.9,   2.1810,  34.8630,2,  34.8630,2,    224.8,2,    228.0,2,    58.80,2,    23.30,2,     1.50,2,    0.004,2,    0.004,2,     -999,9,     -999,9,     -999,9,     -999,9,     -999,9,     -999,9,   1.7470