BOTTLE,20211216CCHDHYDRO
EXPOCODE,SECT_ID,STNNBR,CASTNO,SAMPNO,BTLNBR,BTLNBR_FLAG_W,DATE,TIME,LATITUDE,LONGITUDE,DEPTH,CTDPRS,CTDTMP,CTDSAL,CTDSAL_FLAG_W,SALNTY,SALNTY_FLAG_W,CTDOXY,CTDOXY_FLAG_W,OXYGEN,OXYGEN_FLAG_W,SILCAT,SILCAT_FLAG_W,NITRAT,NITRAT_FLAG_W,PHSPHT,PHSPHT_FLAG_W,CFC-11,CFC-11_FLAG_W,CFC-12,CFC-12_FLAG_W,TCARBN,TCARBN_FLAG_W,ALKALI,ALKALI_FLAG_W,TRITUM,TRITUM_FLAG_W,HELIUM,HELIUM_FLAG_W,DELHE3,DELHE3_FLAG_W,NEON,NEON_FLAG_W,THETA
,,,,,,,,,,,METERS,DBAR,DEG C,PSS-78,,PSS-78,,UMOL/KG,,UMOL/KG,,UMOL/KG,,UMOL/KG,,UMOL/KG,,PMOL/KG,,PMOL/KG,,UMOL/KG,,UMOL/KG,,TU,,NMOL/KG,,PERCNT,,NMOL/KG,,DEG C
35A3CITHER3_2 ,A13        ,207     ,  1,2          ,31         ,2,19950320,0645,  -6.4987,   5.0002,     5047,      8.0,  29.2240,  35.5490,2,  35.5480,2,    192.5,2,    194.3,2,     5.80,2,     0.00,2,     0.07,2,    1.540,2,    0.832,2,   1986.6,2,   2338.2,2,     -999,9,     -999,9,     -999,9,     -999,9,  29.2220
35A3CITHER3_2 ,A13        ,207     ,  1,1          ,32         ,2,19950320,0645,  -6.4987,   5.0002,     5047,      8.1,  29.2330,  35.5470,2,  35.5470,2,    192.5,2,    194.0,2,     5.80,2,     0.00,2,     0.07,2,    1.558,2,    0.839,2,     -999,9,     -999,9,     -999,9,     -999,9,     -999,9,     -999,9,  29.2310
35A3CITHER3_2 ,A13        ,207     ,  1,3          ,30         ,2,19950320,0645,  -6.4987,   5.0002,     5047,     47.2,  16.8850,  35.6880,2,  35.6960,3,    129.4,2,    119.2,3,     7.70,2,    15.80,2,     1.00,2,    1.593,2,    0.801,2,   2157.8,2,   2341.5,2,     -999,9,     -999,9,     -999,9,     -999,9,  16.8770
35A3CITHER3_2 ,A13        ,207     ,  1,4          ,29         ,2,19950320,0645,  -6.4987,   5.0002,     5047,    121.7,  15.1650,  35.5590,2,  35.5570,2,     80.6,2,     80.3,2,    10.00,2,    21.60,2,     1.30,2,    1.286,2,    0.635,2,   2189.9,2,     -999,9,     -999,9,     -999,9,     -999,9,     -999,9,  15.1460
35A3CITHER3_2 ,A13        ,207     ,  1,5          ,28         ,2,19950320,0645,  -6.4987,   5.0002,     5047,    196.3,  14.0980,  35.4190,2,  35.4150,2,     68.5,2,     65.1,2,    10.70,2,    24.70,2,     1.54,2,    1.015,2,    0.513,2,   2202.4,2,   2324.0,2,     -999,9,     -999,9,     -999,9,     -999,9,  14.0690
35A3CITHER3_2 ,A13        ,207     ,  1,6          ,27         ,2,19950320,0645,  -6.4987,   5.0002,     5047,    296.1,  11.7400,  35.1380,2,  35.1260,3,     33.0,2,     33.3,2,    14.40,2,    31.50,2,     1.94,2,    0.443,2,    0.232,2,   2239.6,2,     -999,9,     -999,9,     -999,9,     -999,9,     -999,9,  11.7020
35A3CITHER3_2 ,A13        ,207     ,  1,7          ,26         ,2,19950320,0645,  -6.4987,   5.0002,     5047,    396.4,   9.0170,  34.8450,2,  34.8460,2,     23.8,2,     24.5,2,    19.40,2,    37.60,2,     2.32,2,    0.093,2,    0.062,2,   2260.7,2,   2297.0,2,     -999,9,     -999,9,     -999,9,     -999,9,   8.9730
35A3CITHER3_2 ,A13        ,207     ,  1,8          ,25         ,2,19950320,0645,  -6.4987,   5.0002,     5047,    595.5,   6.1980,  34.5740,2,  34.5740,2,     82.0,2,     80.9,2,    25.90,2,    37.80,2,     2.43,2,    0.021,2,    0.044,2,   2243.2,2,     -999,9,     -999,9,     -999,9,     -999,9,     -999,9,   6.1450
35A3CITHER3_2 ,A13        ,207     ,  1,9          ,24         ,2,19950320,0645,  -6.4987,   5.0002,     5047,    794.8,   4.8010,  34.5080,2,  34.5110,2,    118.9,2,    118.2,2,    32.90,2,    36.50,2,     2.40,2,    0.006,2,    0.007,2,   2235.8,2,   2289.0,2,     -999,9,     -999,9,     -999,9,     -999,9,   4.7370
35A3CITHER3_2 ,A13        ,207     ,  1,10         ,23         ,2,19950320,0645,  -6.4987,   5.0002,     5047,    996.4,   4.2550,  34.6210,2,     -999,9,    148.5,2,     -999,9,     -999,9,     -999,9,     -999,9,     -999,9,     -999,9,     -999,9,     -999,9,     -999,9,     -999,9,     -999,9,     -999,9,   4.1770
35A3CITHER3_2 ,A13        ,207     ,  1,11         ,22         ,2,19950320,0645,  -6.4987,   5.0002,     5047,   1195.7,   4.1860,  34.7760,2,  34.7720,2,    170.6,2,    173.8,2,    30.40,2,    28.20,2,     1.89,2,    0.023,2,    0.012,2,   2208.9,2,     -999,9,     -999,9,     -999,9,     -999,9,     -999,9,   4.0920
35A3CITHER3_2 ,A13        ,207     ,  1,12         ,21         ,2,19950320,0645,  -6.4987,   5.0002,     5047,   1394.4,   4.0690,  34.8910,2,  34.8910,2,    203.7,2,    202.7,2,    25.90,2,    24.30,2,     1.53,2,    0.005,2,    0.006,2,   2189.4,2,   2321.4,2,     -999,9,     -999,9,     -999,9,     -999,9,   3.9580
35A3CITHER3_2 ,A13        ,207     ,  1,13         ,20         ,2,19950320,0645,  -6.4987,   5.0002,     5047,   1595.7,   3.8910,  34.9320,2,  34.9340,2,    224.1,2,    221.9,2,    24.10,2,    21.60,2,     1.42,2,    0.003,2,    0.003,2,   2179.7,2,     -999,9,     -999,9,     -999,9,     -999,9,     -999,9,   3.7630
35A3CITHER3_2 ,A13        ,207     ,  1,14         ,19         ,2,19950320,0645,  -6.4987,   5.0002,     5047,   1796.4,   3.6480,  34.9430,2,  34.9450,2,    234.8,2,    231.0,2,    25.00,2,    21.20,2,     1.35,2,    0.004,2,    0.004,2,   2176.1,2,     -999,9,     -999,9,     -999,9,     -999,9,     -999,9,   3.5050
35A3CITHER3_2 ,A13        ,207     ,  1,15         ,18         ,2,19950320,0645,  -6.4987,   5.0002,     5047,   1994.8,   3.4190,  34.9410,2,  34.9440,2,    239.1,2,    235.4,2,    27.60,2,    20.80,2,     1.33,2,    0.004,2,    0.005,2,   2176.2,2,     -999,9,     -999,9,     -999,9,     -999,9,     -999,9,   3.2610
35A3CITHER3_2 ,A13        ,207     ,  1,16         ,17         ,2,19950320,0645,  -6.4987,   5.0002,     5047,   2194.4,   3.1960,  34.9360,2,  34.9380,2,    239.9,2,    237.2,2,    31.60,2,    21.00,2,     1.35,2,    0.002,2,    0.003,2,   2180.1,2,     -999,9,     -999,9,     -999,9,     -999,9,     -999,9,   3.0220
35A3CITHER3_2 ,A13        ,207     ,  1,17         ,16         ,2,19950320,0645,  -6.4987,   5.0002,     5047,   2394.1,   3.0300,  34.9280,2,  34.9330,2,    238.9,2,    235.5,2,    34.80,2,    20.70,2,     1.35,2,    0.005,2,    0.005,2,   2183.7,2,   2331.4,2,     -999,9,     -999,9,     -999,9,     -999,9,   2.8400
35A3CITHER3_2 ,A13        ,207     ,  1,18         ,15         ,2,19950320,0645,  -6.4987,   5.0002,     5047,   2595.5,   2.8780,  34.9210,2,  34.9240,2,    237.9,2,    235.2,2,    38.10,2,    21.20,2,     1.38,2,    0.005,2,    0.000,2,   2188.2,2,     -999,9,     -999,9,     -999,9,     -999,9,     -999,9,   2.6710
35A3CITHER3_2 ,A13        ,207     ,  1,19         ,14         ,2,19950320,0645,  -6.4987,   5.0002,     5047,   2795.1,   2.7450,  34.9140,2,  34.9150,2,    236.2,2,    235.4,2,    40.90,2,    21.40,2,     1.25,3,    0.003,2,    0.004,2,   2191.4,2,     -999,9,     -999,9,     -999,9,     -999,9,     -999,9,   2.5210
35A3CITHER3_2 ,A13        ,207     ,  1,20         ,13         ,2,19950320,0645,  -6.4987,   5.0002,     5047,   2995.6,   2.6510,  34.9090,2,  34.9110,2,    235.6,2,    235.2,2,    43.60,2,    21.70,2,     1.35,2,    0.001,2,    0.003,2,   2194.1,2,     -999,9,     -999,9,     -999,9,     -999,9,     -999,9,   2.4080
35A3CITHER3_2 ,A13        ,207     ,  1,21         ,12         ,2,19950320,0645,  -6.4987,   5.0002,     5047,   3196.6,   2.5710,  34.9060,2,  34.9070,2,    234.6,2,    233.8,2,    46.00,2,    21.70,2,     1.43,2,    0.003,2,    0.003,2,   2197.3,2,     -999,9,     -999,9,     -999,9,     -999,9,     -999,9,   2.3090
35A3CITHER3_2 ,A13        ,207     ,  1,22         ,11         ,2,19950320,0645,  -6.4987,   5.0002,     5047,   3395.6,   2.5160,  34.9020,2,  34.9030,2,    234.5,2,    234.1,2,    47.20,2,    21.60,2,     1.36,2,    0.001,2,    0.000,2,   2200.0,2,   2343.8,2,     -999,9,     -999,9,     -999,9,     -999,9,   2.2350
35A3CITHER3_2 ,A13        ,207     ,  1,23         ,10         ,2,19950320,0645,  -6.4987,   5.0002,     5047,   3597.3,   2.4660,  34.8980,2,  34.8990,2,    232.9,2,    232.3,2,    50.10,2,    21.60,2,     1.40,2,    0.001,2,    0.004,2,   2204.1,2,     -999,9,     -999,9,     -999,9,     -999,9,     -999,9,   2.1640
35A3CITHER3_2 ,A13        ,207     ,  1,24         ,9          ,2,19950320,0645,  -6.4987,   5.0002,     5047,   3796.0,   2.3990,  34.8940,2,  34.8920,2,    225.7,2,    224.8,2,    54.60,2,    22.30,2,     1.49,2,    0.003,2,    0.001,2,   2215.9,2,     -999,9,     -999,9,     -999,9,     -999,9,     -999,9,   2.0770
35A3CITHER3_2 ,A13        ,207     ,  1,25         ,8          ,2,19950320,0645,  -6.4987,   5.0002,     5047,   3997.3,   2.3450,  34.8870,2,  34.8850,2,    220.1,2,    220.2,2,    57.90,3,    23.10,2,     1.55,2,    0.006,2,    0.002,2,   2225.2,2,     -999,9,     -999,9,     -999,9,     -999,9,     -999,9,   2.0010
35A3CITHER3_2 ,A13        ,207     ,  1,26         ,7          ,2,19950320,0645,  -6.4987,   5.0002,     5047,   4195.5,   2.3370,  34.8860,2,  34.8870,2,    225.5,2,    226.6,2,    55.70,2,    22.70,2,     1.45,2,    0.002,2,    0.002,2,   2219.5,2,     -999,9,     -999,9,     -999,9,     -999,9,     -999,9,   1.9710
35A3CITHER3_2 ,A13        ,207     ,  1,27         ,6          ,2,19950320,0645,  -6.4987,   5.0002,     5047,   4397.6,   2.3410,  34.8840,2,  34.8850,2,    232.5,2,    232.4,2,    54.30,2,    22.50,2,     1.44,2,    0.001,2,    0.001,2,   2212.8,2,   2362.4,3,     -999,9,     -999,9,     -999,9,     -999,9,   1.9510
35A3CITHER3_2 ,A13        ,207     ,  1,29         ,4          ,2,19950320,0645,  -6.4987,   5.0002,     5047,   4596.1,   2.3490,  34.8810,2,  34.8840,2,    233.6,2,    233.8,2,    52.40,2,    21.70,3,     1.42,2,    0.001,2,    0.000,2,   2212.6,2,     -999,9,     -999,9,     -999,9,     -999,9,     -999,9,   1.9350
35A3CITHER3_2 ,A13        ,207     ,  1,28         ,5          ,2,19950320,0645,  -6.4987,   5.0002,     5047,   4596.8,   2.3480,  34.8820,2,  34.8830,2,    233.6,2,    233.9,2,    55.10,2,    22.30,2,     1.43,2,    0.007,2,     -999,9,     -999,9,     -999,9,     -999,9,     -999,9,     -999,9,     -999,9,   1.9340
35A3CITHER3_2 ,A13        ,207     ,  1,30         ,3          ,2,19950320,0645,  -6.4987,   5.0002,     5047,   4797.4,   2.3610,  34.8810,2,  34.8820,2,    234.7,2,    234.9,2,    53.80,2,    22.10,2,     1.43,2,    0.001,2,    0.003,2,   2211.2,2,     -999,9,     -999,9,     -999,9,     -999,9,     -999,9,   1.9220
35A3CITHER3_2 ,A13        ,207     ,  1,31         ,2          ,2,19950320,0645,  -6.4987,   5.0002,     5047,   4997.4,   2.3770,  34.8790,2,  34.8800,2,    234.1,2,    233.6,2,    55.20,2,    22.20,2,     1.43,2,    0.004,2,    0.004,2,   2213.9,2,     -999,9,     -999,9,     -999,9,     -999,9,     -999,9,   1.9120
35A3CITHER3_2 ,A13        ,207     ,  1,32         ,1          ,2,19950320,0645,  -6.4987,   5.0002,     5047,   5109.8,   2.3920,  34.8780,2,  34.8800,2,    231.9,2,    233.2,2,    55.10,2,    22.50,2,     1.47,2,    0.003,2,     -999,9,   2214.3,2,   2356.1,2,     -999,9,     -999,9,     -999,9,     -999,9,   1.9120