BOTTLE,20211216CCHDHYDRO
EXPOCODE,SECT_ID,STNNBR,CASTNO,SAMPNO,BTLNBR,BTLNBR_FLAG_W,DATE,TIME,LATITUDE,LONGITUDE,DEPTH,CTDPRS,CTDTMP,CTDSAL,CTDSAL_FLAG_W,SALNTY,SALNTY_FLAG_W,CTDOXY,CTDOXY_FLAG_W,OXYGEN,OXYGEN_FLAG_W,SILCAT,SILCAT_FLAG_W,NITRAT,NITRAT_FLAG_W,PHSPHT,PHSPHT_FLAG_W,CFC-11,CFC-11_FLAG_W,CFC-12,CFC-12_FLAG_W,TCARBN,TCARBN_FLAG_W,ALKALI,ALKALI_FLAG_W,TRITUM,TRITUM_FLAG_W,HELIUM,HELIUM_FLAG_W,DELHE3,DELHE3_FLAG_W,NEON,NEON_FLAG_W,THETA
,,,,,,,,,,,METERS,DBAR,DEG C,PSS-78,,PSS-78,,UMOL/KG,,UMOL/KG,,UMOL/KG,,UMOL/KG,,UMOL/KG,,PMOL/KG,,PMOL/KG,,UMOL/KG,,UMOL/KG,,TU,,NMOL/KG,,PERCNT,,NMOL/KG,,DEG C
35A3CITHER3_2 ,A13        ,176     ,  1,1          ,29         ,2,19950312,0920, -20.9805,   5.7058,     4296,      5.9,  23.6340,  35.7890,2,  35.7910,2,    218.9,2,    215.2,2,     5.40,3,     0.00,2,     0.22,2,     -999,9,     -999,9,   2040.1,2,   2345.8,2,     -999,9,     -999,9,     -999,9,     -999,9,  23.6330
35A3CITHER3_2 ,A13        ,176     ,  1,2          ,28         ,2,19950312,0920, -20.9805,   5.7058,     4296,     47.5,  20.9420,  35.8560,2,  35.8740,3,    244.1,2,    257.9,3,     5.70,3,     0.00,2,     0.16,2,     -999,9,     -999,9,   2044.0,2,   2351.4,2,     -999,9,     -999,9,     -999,9,     -999,9,  20.9330
35A3CITHER3_2 ,A13        ,176     ,  1,3          ,27         ,2,19950312,0920, -20.9805,   5.7058,     4296,    120.7,  15.0380,  35.3560,2,  35.3610,3,    205.2,2,    195.8,3,     7.50,2,     9.80,2,     0.65,2,     -999,9,     -999,9,   2105.0,2,   2319.6,2,     -999,9,     -999,9,     -999,9,     -999,9,  15.0200
35A3CITHER3_2 ,A13        ,176     ,  1,4          ,26         ,2,19950312,0920, -20.9805,   5.7058,     4296,    195.3,  12.9080,  35.1310,2,  35.1260,3,    184.1,2,    177.2,3,     8.70,2,    14.30,2,     0.93,2,     -999,9,     -999,9,   2127.1,2,     -999,9,     -999,9,     -999,9,     -999,9,     -999,9,  12.8810
35A3CITHER3_2 ,A13        ,176     ,  1,5          ,25         ,2,19950312,0920, -20.9805,   5.7058,     4296,    397.6,   8.4160,  34.6750,2,  34.6730,2,    135.4,2,    136.1,2,    17.40,2,    28.20,2,     1.76,3,     -999,9,     -999,9,   2188.2,2,     -999,9,     -999,9,     -999,9,     -999,9,     -999,9,   8.3740
35A3CITHER3_2 ,A13        ,176     ,  1,6          ,24         ,2,19950312,0920, -20.9805,   5.7058,     4296,    495.2,   6.8380,  34.5660,2,  34.5660,2,    122.5,2,    119.3,2,    22.80,2,    33.90,2,     2.09,3,     -999,9,     -999,9,   2212.3,2,   2299.3,2,     -999,9,     -999,9,     -999,9,     -999,9,   6.7920
35A3CITHER3_2 ,A13        ,176     ,  1,7          ,23         ,2,19950312,0920, -20.9805,   5.7058,     4296,    595.7,   5.8450,  34.5100,2,  34.5010,3,    122.7,2,    119.9,2,    27.10,2,    36.10,2,     2.23,2,    0.335,2,     -999,9,     -999,9,     -999,9,     -999,9,     -999,9,     -999,9,     -999,9,   5.7930
35A3CITHER3_2 ,A13        ,176     ,  1,8          ,22         ,2,19950312,0920, -20.9805,   5.7058,     4296,    596.0,   5.8390,  34.5100,2,  34.5090,2,    122.7,2,    121.4,2,    27.10,2,    35.80,2,     2.20,2,     -999,9,     -999,9,   2221.2,2,     -999,9,     -999,9,     -999,9,     -999,9,     -999,9,   5.7870
35A3CITHER3_2 ,A13        ,176     ,  1,9          ,21         ,2,19950312,0920, -20.9805,   5.7058,     4296,    795.8,   4.4960,  34.4630,2,  34.4600,2,    145.2,2,    145.7,2,    34.90,2,    35.30,2,     2.21,2,     -999,9,     -999,9,   2221.1,2,     -999,9,     -999,9,     -999,9,     -999,9,     -999,9,   4.4340
35A3CITHER3_2 ,A13        ,176     ,  1,10         ,20         ,2,19950312,0920, -20.9805,   5.7058,     4296,    993.2,   3.8180,  34.5240,2,  34.5210,2,    164.4,2,    164.1,2,    40.80,2,    33.40,2,     2.17,2,     -999,9,     -999,9,   2219.9,2,   2309.0,2,     -999,9,     -999,9,     -999,9,     -999,9,   3.7440
35A3CITHER3_2 ,A13        ,176     ,  1,11         ,19         ,2,19950312,0920, -20.9805,   5.7058,     4296,   1196.1,   3.6370,  34.6370,2,  34.6240,3,    174.0,2,    175.7,2,    41.70,2,    31.50,2,     2.02,2,     -999,9,     -999,9,   2216.1,2,     -999,9,     -999,9,     -999,9,     -999,9,     -999,9,   3.5480
35A3CITHER3_2 ,A13        ,176     ,  1,12         ,18         ,2,19950312,0920, -20.9805,   5.7058,     4296,   1396.1,   3.6050,  34.7460,2,  34.7480,2,    187.6,2,    189.1,2,    38.50,2,    28.40,2,     1.84,2,     -999,9,     -999,9,   2206.3,2,     -999,9,     -999,9,     -999,9,     -999,9,     -999,9,   3.4990
35A3CITHER3_2 ,A13        ,176     ,  1,13         ,17         ,2,19950312,0920, -20.9805,   5.7058,     4296,   1596.2,   3.5190,  34.8380,2,  34.8380,2,    206.0,2,    207.0,2,    34.80,2,    26.10,2,     1.65,2,     -999,9,     -999,9,   2193.6,2,     -999,9,     -999,9,     -999,9,     -999,9,     -999,9,   3.3960
35A3CITHER3_2 ,A13        ,176     ,  1,14         ,16         ,2,19950312,0920, -20.9805,   5.7058,     4296,   1796.2,   3.3810,  34.8810,2,  34.8810,2,    220.4,2,    222.1,2,    33.10,2,    23.80,2,     1.53,2,     -999,9,     -999,9,     -999,9,     -999,9,     -999,9,     -999,9,     -999,9,     -999,9,   3.2420
35A3CITHER3_2 ,A13        ,176     ,  1,15         ,15         ,2,19950312,0920, -20.9805,   5.7058,     4296,   1796.6,   3.3800,  34.8810,2,  34.8820,2,    220.5,2,    222.1,2,    33.10,2,    23.70,2,     1.51,2,     -999,9,     -999,9,   2185.4,2,     -999,9,     -999,9,     -999,9,     -999,9,     -999,9,   3.2410
35A3CITHER3_2 ,A13        ,176     ,  1,16         ,14         ,2,19950312,0920, -20.9805,   5.7058,     4296,   1996.4,   3.1670,  34.8910,2,  34.8920,2,    232.4,2,    233.6,2,    34.60,2,    21.90,2,     1.47,2,     -999,9,     -999,9,   2181.1,2,   2339.8,2,     -999,9,     -999,9,     -999,9,     -999,9,   3.0120
35A3CITHER3_2 ,A13        ,176     ,  1,17         ,13         ,2,19950312,0920, -20.9805,   5.7058,     4296,   2194.5,   3.0040,  34.8990,2,  34.8990,2,    238.4,2,    238.6,2,    36.10,2,    21.90,2,     1.42,2,    0.000,2,    0.001,2,   2180.6,2,     -999,9,     -999,9,     -999,9,     -999,9,     -999,9,   2.8340
35A3CITHER3_2 ,A13        ,176     ,  1,18         ,12         ,2,19950312,0920, -20.9805,   5.7058,     4296,   2396.1,   2.7780,  34.8870,2,  34.8850,2,    237.4,2,    238.2,2,    41.20,2,    22.70,2,     1.45,2,    0.000,2,    0.002,2,   2186.6,2,     -999,9,     -999,9,     -999,9,     -999,9,     -999,9,   2.5920
35A3CITHER3_2 ,A13        ,176     ,  1,19         ,11         ,2,19950312,0920, -20.9805,   5.7058,     4296,   2598.1,   2.6130,  34.8790,2,  34.8680,3,    237.4,2,    238.1,2,    44.70,2,    22.90,2,     1.43,2,     -999,9,     -999,9,   2188.4,2,     -999,9,     -999,9,     -999,9,     -999,9,     -999,9,   2.4110
35A3CITHER3_2 ,A13        ,176     ,  1,20         ,10         ,2,19950312,0920, -20.9805,   5.7058,     4296,   2794.1,   2.5330,  34.8800,2,  34.8800,2,    237.3,2,    238.0,2,    46.70,2,    23.00,2,     1.45,2,     -999,9,     -999,9,   2191.8,2,     -999,9,     -999,9,     -999,9,     -999,9,     -999,9,   2.3130
35A3CITHER3_2 ,A13        ,176     ,  1,21         ,9          ,2,19950312,0920, -20.9805,   5.7058,     4296,   2996.9,   2.4890,  34.8850,2,  34.8860,2,    236.4,2,    236.6,2,    48.00,2,    22.90,2,     1.45,2,     -999,9,     -999,9,   2196.0,2,   2345.2,2,     -999,9,     -999,9,     -999,9,     -999,9,   2.2500
35A3CITHER3_2 ,A13        ,176     ,  1,22         ,8          ,2,19950312,0920, -20.9805,   5.7058,     4296,   3197.7,   2.4360,  34.8860,2,  34.8850,2,    235.3,2,    235.3,2,    49.50,2,    23.30,2,     1.50,2,    0.002,2,     -999,9,   2199.9,2,     -999,9,     -999,9,     -999,9,     -999,9,     -999,9,   2.1770
35A3CITHER3_2 ,A13        ,176     ,  1,23         ,7          ,2,19950312,0920, -20.9805,   5.7058,     4296,   3394.9,   2.3960,  34.8870,2,  34.8850,2,    233.3,2,    233.4,2,    51.20,2,    22.40,2,     1.50,2,    0.000,2,     -999,9,   2203.4,2,     -999,9,     -999,9,     -999,9,     -999,9,     -999,9,   2.1180
35A3CITHER3_2 ,A13        ,176     ,  1,24         ,6          ,2,19950312,0920, -20.9805,   5.7058,     4296,   3592.9,   2.3670,  34.8870,2,  34.8860,2,    232.0,2,    232.8,2,    52.20,2,    22.90,2,     1.50,2,    0.000,2,     -999,9,   2207.8,2,     -999,9,     -999,9,     -999,9,     -999,9,     -999,9,   2.0680
35A3CITHER3_2 ,A13        ,176     ,  1,25         ,5          ,2,19950312,0920, -20.9805,   5.7058,     4296,   3797.1,   2.3540,  34.8880,2,  34.8880,2,    231.9,2,    232.1,2,    52.80,2,    22.50,2,     1.48,2,    0.000,2,     -999,9,   2208.9,2,     -999,9,     -999,9,     -999,9,     -999,9,     -999,9,   2.0330
35A3CITHER3_2 ,A13        ,176     ,  1,26         ,4          ,2,19950312,0920, -20.9805,   5.7058,     4296,   3997.0,   2.3480,  34.8890,2,  34.8880,2,    231.9,2,    232.1,2,    53.00,2,    22.80,2,     1.47,2,    0.004,2,     -999,9,   2209.8,2,   2361.4,2,     -999,9,     -999,9,     -999,9,     -999,9,   2.0040
35A3CITHER3_2 ,A13        ,176     ,  1,27         ,3          ,2,19950312,0920, -20.9805,   5.7058,     4296,   4194.4,   2.3500,  34.8870,2,  34.8850,2,    231.5,2,    232.4,2,    53.50,2,    23.30,2,     1.50,2,    0.005,2,     -999,9,   2212.8,2,     -999,9,     -999,9,     -999,9,     -999,9,     -999,9,   1.9840
35A3CITHER3_2 ,A13        ,176     ,  1,28         ,2          ,2,19950312,0920, -20.9805,   5.7058,     4296,   4278.3,   2.3530,  34.8870,2,  34.8850,2,    232.3,2,    231.8,2,    53.90,2,    22.70,2,     1.47,2,     -999,9,     -999,9,   2212.7,2,     -999,9,     -999,9,     -999,9,     -999,9,     -999,9,   1.9770
35A3CITHER3_2 ,A13        ,176     ,  1,29         ,1          ,2,19950312,0920, -20.9805,   5.7058,     4296,   4339.6,   2.3580,  34.8870,2,  34.8870,2,    229.9,2,    231.4,2,    54.30,2,    22.20,2,     1.44,2,     -999,9,     -999,9,   2213.1,2,   2363.2,2,     -999,9,     -999,9,     -999,9,     -999,9,   1.9740
35A3CITHER3_2 ,A13        ,177     ,  1,1          ,29         ,2,19950312,1422, -20.6675,   5.4812,     4111,      5.0,  23.9420,  35.7910,2,  35.7890,2,    217.2,2,    212.9,3,     3.20,2,     0.00,2,     0.25,2,    1.950,2,    1.047,2,     -999,9,     -999,9,    0.622,2,   1.6900,2,    -2.06,2,    6.694,2,  23.9410
35A3CITHER3_2 ,A13        ,177     ,  1,2          ,28         ,2,19950312,1422, -20.6675,   5.4812,     4111,     46.1,  19.5340,  35.6970,2,  35.6700,3,    256.1,2,    246.4,3,     2.90,2,     0.00,2,     0.27,2,    2.416,2,    1.213,2,     -999,9,     -999,9,     -999,9,     -999,9,     -999,9,     -999,9,  19.5260
35A3CITHER3_2 ,A13        ,177     ,  1,3          ,27         ,2,19950312,1422, -20.6675,   5.4812,     4111,     96.2,  16.4390,  35.5260,2,  35.5380,3,    224.2,2,    209.9,3,     4.00,2,     6.80,2,     0.60,2,    2.607,2,    1.299,2,     -999,9,     -999,9,    0.778,2,   1.7350,2,    -1.77,2,    7.107,2,  16.4230
35A3CITHER3_2 ,A13        ,177     ,  1,4          ,26         ,2,19950312,1422, -20.6675,   5.4812,     4111,    196.9,  12.5380,  35.1090,2,  35.1070,2,    150.9,2,    140.7,3,     8.70,2,    19.70,2,     1.21,2,    2.113,2,    1.038,2,     -999,9,     -999,9,    0.580,2,   1.7490,2,     0.31,2,    7.325,2,  12.5120
35A3CITHER3_2 ,A13        ,177     ,  1,5          ,25         ,2,19950312,1422, -20.6675,   5.4812,     4111,    294.5,  10.7970,  34.9680,2,  34.9740,3,     64.8,2,     65.6,2,    13.90,2,    31.40,2,     1.81,2,    0.974,2,    0.483,2,     -999,9,     -999,9,    0.311,2,   1.7620,2,    -0.01,2,    7.446,2,  10.7610
35A3CITHER3_2 ,A13        ,177     ,  1,6          ,24         ,2,19950312,1422, -20.6675,   5.4812,     4111,    397.6,   8.9720,  34.7790,2,  34.7750,3,     66.6,2,     66.8,2,    17.70,2,    35.10,2,     2.08,2,    0.598,2,    0.306,2,     -999,9,     -999,9,    0.162,3,   1.7740,3,     0.57,3,    7.518,2,   8.9290
35A3CITHER3_2 ,A13        ,177     ,  1,7          ,23         ,2,19950312,1422, -20.6675,   5.4812,     4111,    496.1,   7.1870,  34.6250,2,  34.6220,2,     72.6,2,     81.7,3,    22.20,2,    37.90,2,     2.29,2,    0.188,2,    0.096,2,     -999,9,     -999,9,    0.057,2,   1.7720,2,     0.90,2,    7.600,4,   7.1390
35A3CITHER3_2 ,A13        ,177     ,  1,8          ,22         ,2,19950312,1422, -20.6675,   5.4812,     4111,    595.6,   5.8000,  34.5120,2,  34.5170,3,     99.5,2,    105.9,3,    26.40,2,    37.50,2,     2.32,2,    0.117,2,    0.066,2,     -999,9,     -999,9,    0.030,2,   1.7820,2,     0.74,2,    7.671,2,   5.7480
35A3CITHER3_2 ,A13        ,177     ,  1,9          ,21         ,2,19950312,1422, -20.6675,   5.4812,     4111,    792.9,   4.5710,  34.4720,2,  34.4720,2,    129.8,2,    132.0,2,    33.50,2,    36.80,2,     2.28,2,    0.021,2,    0.017,2,     -999,9,     -999,9,     -999,9,     -999,9,     -999,9,     -999,9,   4.5090
35A3CITHER3_2 ,A13        ,177     ,  1,10         ,20         ,2,19950312,1422, -20.6675,   5.4812,     4111,    996.0,   3.7730,  34.5170,2,  34.5160,2,    164.7,2,    166.8,2,    40.20,2,    33.70,2,     2.14,2,    0.023,2,    0.015,2,     -999,9,     -999,9,     -999,9,   1.8060,2,     3.75,2,    7.839,1,   3.6990
35A3CITHER3_2 ,A13        ,177     ,  1,11         ,19         ,2,19950312,1422, -20.6675,   5.4812,     4111,   1195.9,   3.5950,  34.6450,2,  34.6390,3,    177.4,2,    178.3,2,    40.40,2,    31.00,2,     1.85,3,    0.006,2,    0.010,2,     -999,9,     -999,9,     -999,9,     -999,9,     -999,9,     -999,9,   3.5060
35A3CITHER3_2 ,A13        ,177     ,  1,12         ,18         ,2,19950312,1422, -20.6675,   5.4812,     4111,   1394.9,   3.5940,  34.7630,2,  34.7640,2,    193.4,2,    194.2,2,    35.80,2,    28.20,2,     1.78,3,    0.003,2,    0.001,2,     -999,9,     -999,9,     -999,9,     -999,9,     -999,9,     -999,9,   3.4880
35A3CITHER3_2 ,A13        ,177     ,  1,13         ,17         ,2,19950312,1422, -20.6675,   5.4812,     4111,   1598.3,   3.4820,  34.8430,2,  34.8430,2,    210.8,2,    211.0,2,    33.40,2,    25.50,2,     1.61,2,     -999,9,     -999,9,     -999,9,     -999,9,    0.006,2,   1.8140,2,     2.89,2,    7.869,2,   3.3590
35A3CITHER3_2 ,A13        ,177     ,  1,14         ,16         ,2,19950312,1422, -20.6675,   5.4812,     4111,   1598.3,   3.4820,  34.8430,2,  34.8440,2,    210.8,2,    212.5,2,    33.30,2,    25.50,2,     1.61,2,    0.001,2,    0.004,2,     -999,9,     -999,9,     -999,9,     -999,9,     -999,9,     -999,9,   3.3590
35A3CITHER3_2 ,A13        ,177     ,  1,15         ,15         ,2,19950312,1422, -20.6675,   5.4812,     4111,   1795.2,   3.3470,  34.8840,2,  34.8850,2,    223.2,2,    224.8,2,    31.80,2,    22.50,2,     1.48,2,    0.002,2,     -999,9,     -999,9,     -999,9,    0.007,2,   1.8200,2,     3.34,2,    7.938,2,   3.2080
35A3CITHER3_2 ,A13        ,177     ,  1,16         ,14         ,2,19950312,1422, -20.6675,   5.4812,     4111,   1996.3,   3.1950,  34.9020,2,  34.9010,2,    230.0,2,    229.2,2,    32.90,2,    20.00,2,     1.44,2,    0.002,2,    0.003,2,     -999,9,     -999,9,     -999,9,   1.7810,4,     0.00,4,     -999,9,   3.0400
35A3CITHER3_2 ,A13        ,177     ,  1,17         ,13         ,2,19950312,1422, -20.6675,   5.4812,     4111,   2195.3,   3.0400,  34.9060,2,  34.9080,2,    234.5,2,    233.7,2,    34.90,2,    22.50,2,     1.43,2,    0.014,2,    0.019,2,     -999,9,     -999,9,     -999,9,     -999,9,     -999,9,     -999,9,   2.8690
35A3CITHER3_2 ,A13        ,177     ,  1,18         ,12         ,2,19950312,1422, -20.6675,   5.4812,     4111,   2397.2,   2.8710,  34.9040,2,  34.9040,2,    238.2,2,    237.7,2,    37.70,2,    21.90,2,     1.42,2,    0.000,2,     -999,9,     -999,9,     -999,9,     -999,9,   1.8300,2,     4.00,2,     -999,9,   2.6840
35A3CITHER3_2 ,A13        ,177     ,  1,19         ,11         ,2,19950312,1422, -20.6675,   5.4812,     4111,   2594.8,   2.7370,  34.8980,2,  34.8980,2,    237.9,2,    237.1,2,    40.60,2,    21.80,2,     1.44,2,   -0.002,2,     -999,9,     -999,9,     -999,9,     -999,9,   1.8360,2,     4.09,2,     -999,9,   2.5330
35A3CITHER3_2 ,A13        ,177     ,  1,20         ,10         ,2,19950312,1422, -20.6675,   5.4812,     4111,   2797.4,   2.5970,  34.8890,2,  34.8920,2,    237.9,2,    237.8,2,    44.00,2,    22.90,2,     1.44,2,    0.004,2,    0.002,2,     -999,9,     -999,9,    0.006,2,   1.8390,2,     4.92,2,    8.004,2,   2.3760
35A3CITHER3_2 ,A13        ,177     ,  1,21         ,9          ,2,19950312,1422, -20.6675,   5.4812,     4111,   2998.3,   2.4980,  34.8830,2,  34.8820,2,    237.1,2,    236.8,2,    46.60,2,    22.50,2,     1.43,2,     -999,9,     -999,9,     -999,9,     -999,9,    0.005,2,   1.8410,2,     5.19,2,    7.973,2,   2.2590
35A3CITHER3_2 ,A13        ,177     ,  1,22         ,8          ,2,19950312,1422, -20.6675,   5.4812,     4111,   3198.0,   2.4650,  34.8840,2,  34.8840,2,    236.2,2,    235.8,2,    48.00,2,    22.50,2,     1.45,2,     -999,9,     -999,9,     -999,9,     -999,9,     -999,9,     -999,9,     -999,9,     -999,9,   2.2060
35A3CITHER3_2 ,A13        ,177     ,  1,23         ,7          ,2,19950312,1422, -20.6675,   5.4812,     4111,   3395.8,   2.4030,  34.8850,2,  34.8850,2,    234.0,2,    233.8,2,    49.90,2,    20.40,2,     1.43,2,   -0.001,2,   -0.003,2,     -999,9,     -999,9,    0.006,2,   1.8400,2,     4.53,2,    8.059,2,   2.1240
35A3CITHER3_2 ,A13        ,177     ,  1,24         ,6          ,2,19950312,1422, -20.6675,   5.4812,     4111,   3595.8,   2.3780,  34.8890,2,  34.8880,2,    232.6,2,    232.0,2,    50.60,2,    22.40,2,     1.47,2,    0.002,2,    0.000,2,     -999,9,     -999,9,     -999,9,     -999,9,     -999,9,     -999,9,   2.0780
35A3CITHER3_2 ,A13        ,177     ,  1,25         ,5          ,2,19950312,1422, -20.6675,   5.4812,     4111,   3795.5,   2.3670,  34.8880,2,  34.8880,2,    231.9,2,    231.0,2,    50.80,2,    21.50,2,     1.41,2,    0.000,2,    0.003,2,     -999,9,     -999,9,    0.006,2,   1.8380,2,     3.34,2,    8.004,2,   2.0460
35A3CITHER3_2 ,A13        ,177     ,  1,26         ,4          ,2,19950312,1422, -20.6675,   5.4812,     4111,   3998.2,   2.3600,  34.8890,2,  34.8880,2,    231.0,2,    231.1,2,    51.60,2,    22.70,2,     1.48,2,    0.001,2,    0.000,2,     -999,9,     -999,9,    0.006,2,   1.8300,2,     2.70,2,    7.984,2,   2.0160
35A3CITHER3_2 ,A13        ,177     ,  1,27         ,3          ,2,19950312,1422, -20.6675,   5.4812,     4111,   4095.7,   2.3530,  34.8870,2,  34.8860,2,    230.8,2,    230.6,2,    51.90,2,    22.10,2,     1.49,2,    0.000,2,    0.004,2,     -999,9,     -999,9,     -999,9,     -999,9,     -999,9,     -999,9,   1.9980
35A3CITHER3_2 ,A13        ,177     ,  1,29         ,1          ,2,19950312,1422, -20.6675,   5.4812,     4111,   4145.6,   2.3470,  34.8870,2,  34.8870,2,    229.2,2,    232.5,2,    52.30,2,    17.70,3,     1.46,2,    0.002,2,    0.002,2,     -999,9,     -999,9,    0.004,6,   1.8430,6,     3.08,6,    8.024,2,   1.9860
35A3CITHER3_2 ,A13        ,177     ,  1,28         ,2          ,2,19950312,1422, -20.6675,   5.4812,     4111,   4147.1,   2.3470,  34.8880,2,  34.8860,2,    229.2,2,    230.3,2,    52.80,2,    19.50,3,     1.43,2,    0.000,2,    0.009,2,     -999,9,     -999,9,     -999,9,     -999,9,     -999,9,     -999,9,   1.9860