BOTTLE,20211216CCHDHYDRO
EXPOCODE,SECT_ID,STNNBR,CASTNO,SAMPNO,BTLNBR,BTLNBR_FLAG_W,DATE,TIME,LATITUDE,LONGITUDE,DEPTH,CTDPRS,CTDTMP,CTDSAL,CTDSAL_FLAG_W,SALNTY,SALNTY_FLAG_W,CTDOXY,CTDOXY_FLAG_W,OXYGEN,OXYGEN_FLAG_W,SILCAT,SILCAT_FLAG_W,NITRAT,NITRAT_FLAG_W,PHSPHT,PHSPHT_FLAG_W,CFC-11,CFC-11_FLAG_W,CFC-12,CFC-12_FLAG_W,TCARBN,TCARBN_FLAG_W,ALKALI,ALKALI_FLAG_W,TRITUM,TRITUM_FLAG_W,HELIUM,HELIUM_FLAG_W,DELHE3,DELHE3_FLAG_W,NEON,NEON_FLAG_W,THETA
,,,,,,,,,,,METERS,DBAR,DEG C,PSS-78,,PSS-78,,UMOL/KG,,UMOL/KG,,UMOL/KG,,UMOL/KG,,UMOL/KG,,PMOL/KG,,PMOL/KG,,UMOL/KG,,UMOL/KG,,TU,,NMOL/KG,,PERCNT,,NMOL/KG,,DEG C
35A3CITHER3_2 ,A13        ,156     ,  1,1          ,32         ,2,19950305,2332, -27.0013,   9.3387,     4811,      4.5,  22.4480,  35.7000,2,  35.7010,2,    216.8,2,    219.0,2,     2.30,2,     0.00,2,     0.18,2,    2.085,2,    1.065,2,     -999,9,     -999,9,     -999,9,     -999,9,     -999,9,     -999,9,  22.4470
35A3CITHER3_2 ,A13        ,156     ,  1,2          ,31         ,2,19950305,2332, -27.0013,   9.3387,     4811,     47.2,  21.8560,  35.7390,2,  35.7330,3,    225.8,2,    222.5,2,     2.80,2,     0.00,2,     0.10,2,    2.156,2,    1.088,2,     -999,9,     -999,9,     -999,9,     -999,9,     -999,9,     -999,9,  21.8470
35A3CITHER3_2 ,A13        ,156     ,  1,3          ,30         ,2,19950305,2332, -27.0013,   9.3387,     4811,     97.4,  15.8990,  35.4790,2,  35.4730,3,    251.6,2,    229.1,3,     3.60,2,     2.40,2,     0.34,2,    2.694,2,    1.309,2,     -999,9,     -999,9,    0.873,2,   1.7420,2,    -2.33,2,    7.176,2,  15.8840
35A3CITHER3_2 ,A13        ,156     ,  1,4          ,29         ,2,19950305,2332, -27.0013,   9.3387,     4811,    196.2,  13.6860,  35.1930,2,  35.1970,2,    211.9,2,    211.4,2,     4.50,2,     7.70,2,     0.62,2,    2.693,2,    1.294,2,     -999,9,     -999,9,     -999,9,   1.7890,2,    -1.16,3,    7.344,1,  13.6580
35A3CITHER3_2 ,A13        ,156     ,  1,5          ,28         ,2,19950305,2332, -27.0013,   9.3387,     4811,    297.0,  11.9040,  35.0230,2,  35.0270,2,    213.5,2,    213.3,2,     5.70,3,    11.40,2,     0.84,2,    2.559,2,    1.321,2,     -999,9,     -999,9,    0.629,4,   1.8330,4,     0.37,5,    7.982,2,  11.8650
35A3CITHER3_2 ,A13        ,156     ,  1,6          ,27         ,2,19950305,2332, -27.0013,   9.3387,     4811,    397.1,   9.9700,  34.7810,2,  34.7760,2,    213.5,2,    213.2,2,     7.30,3,    15.90,2,     1.14,2,    2.465,2,    1.124,2,     -999,9,     -999,9,    0.470,2,   1.7710,2,     0.01,2,    7.504,2,   9.9240
35A3CITHER3_2 ,A13        ,156     ,  1,7          ,26         ,2,19950305,2332, -27.0013,   9.3387,     4811,    497.6,   7.7730,  34.5540,2,  34.5560,2,    204.6,2,    203.5,2,    12.40,3,    22.10,2,     1.48,2,    2.101,2,    0.940,2,     -999,9,     -999,9,     -999,9,     -999,9,     -999,9,     -999,9,   7.7230
35A3CITHER3_2 ,A13        ,156     ,  1,8          ,25         ,2,19950305,2332, -27.0013,   9.3387,     4811,    595.2,   6.2680,  34.4270,2,  34.4310,2,    204.0,2,    205.0,2,    17.10,2,    26.30,2,     1.78,2,    1.801,2,    0.807,2,     -999,9,     -999,9,    0.211,2,   1.7890,2,     0.53,2,    7.683,2,   6.2140
35A3CITHER3_2 ,A13        ,156     ,  1,9          ,24         ,2,19950305,2332, -27.0013,   9.3387,     4811,    717.8,   4.6430,  34.3290,2,  34.3310,2,    215.8,2,    215.1,2,    24.20,3,    28.60,2,     1.91,2,    1.518,2,    0.690,2,     -999,9,     -999,9,     -999,9,     -999,9,     -999,9,     -999,9,   4.5870
35A3CITHER3_2 ,A13        ,156     ,  1,10         ,23         ,2,19950305,2332, -27.0013,   9.3387,     4811,    795.3,   4.1380,  34.3400,2,  34.3410,2,    203.6,2,    207.7,2,    30.50,2,    30.70,2,     2.08,2,    1.121,2,    0.507,2,     -999,9,     -999,9,     -999,9,     -999,9,     -999,9,     -999,9,   4.0780
35A3CITHER3_2 ,A13        ,156     ,  1,11         ,22         ,2,19950305,2332, -27.0013,   9.3387,     4811,    994.5,   3.5160,  34.4450,2,  34.4470,2,    182.5,2,    182.7,2,    44.60,2,    32.60,2,     2.20,2,    0.323,2,    0.157,2,     -999,9,     -999,9,     -999,9,   1.8230,2,     3.92,2,    7.904,1,   3.4450
35A3CITHER3_2 ,A13        ,156     ,  1,12         ,21         ,2,19950305,2332, -27.0013,   9.3387,     4811,   1198.3,   3.0140,  34.5750,2,  34.5760,2,    179.7,2,    179.6,2,    56.60,3,    32.00,2,     2.15,2,    0.093,2,    0.049,2,     -999,9,     -999,9,     -999,9,     -999,9,     -999,9,     -999,9,   2.9310
35A3CITHER3_2 ,A13        ,156     ,  1,13         ,20         ,2,19950305,2332, -27.0013,   9.3387,     4811,   1394.9,   3.1030,  34.7140,2,  34.7140,2,    189.0,2,    191.5,2,    49.50,2,    27.40,2,     1.88,2,    0.015,2,    0.012,2,     -999,9,     -999,9,     -999,9,     -999,9,     -999,9,     -999,9,   3.0020
35A3CITHER3_2 ,A13        ,156     ,  1,14         ,19         ,2,19950305,2332, -27.0013,   9.3387,     4811,   1594.0,   3.1000,  34.7890,2,  34.7890,2,    202.6,2,    203.8,2,    44.30,2,    26.40,2,     1.72,2,    0.006,2,    0.007,2,     -999,9,     -999,9,     -999,9,     -999,9,     -999,9,     -999,9,   2.9820
35A3CITHER3_2 ,A13        ,156     ,  1,15         ,18         ,2,19950305,2332, -27.0013,   9.3387,     4811,   1794.0,   3.0700,  34.8420,2,  34.8420,2,    214.7,2,    216.2,2,    40.50,2,    24.80,2,     1.67,2,    0.003,2,    0.005,2,     -999,9,     -999,9,    0.008,4,   1.9520,2,     4.59,2,    8.156,2,   2.9350
35A3CITHER3_2 ,A13        ,156     ,  1,16         ,17         ,2,19950305,2332, -27.0013,   9.3387,     4811,   1996.2,   2.9310,  34.8600,2,  34.8630,2,    222.6,2,    224.2,2,    40.60,2,    24.10,2,     1.63,2,    0.002,2,    0.005,2,     -999,9,     -999,9,     -999,9,     -999,9,     -999,9,     -999,9,   2.7800
35A3CITHER3_2 ,A13        ,156     ,  1,17         ,16         ,2,19950305,2332, -27.0013,   9.3387,     4811,   2196.8,   2.7770,  34.8630,2,  34.8650,2,    226.9,2,    228.1,2,    43.30,2,    24.00,2,     1.60,2,    0.009,2,    0.005,2,     -999,9,     -999,9,     -999,9,     -999,9,     -999,9,     -999,9,   2.6100
35A3CITHER3_2 ,A13        ,156     ,  1,18         ,15         ,2,19950305,2332, -27.0013,   9.3387,     4811,   2396.8,   2.6610,  34.8670,2,  34.8690,2,    229.3,2,    230.2,2,    45.10,2,    23.00,2,     1.53,2,    0.006,2,    0.001,2,     -999,9,     -999,9,     -999,9,   1.8430,2,     4.61,2,     -999,9,   2.4770
35A3CITHER3_2 ,A13        ,156     ,  1,19         ,14         ,2,19950305,2332, -27.0013,   9.3387,     4811,   2593.0,   2.5150,  34.8620,2,  34.8640,2,    230.7,2,    230.8,2,    48.60,2,    23.90,2,     1.60,2,    0.006,2,    0.001,2,     -999,9,     -999,9,    0.004,2,   1.8430,2,     4.86,2,    8.050,2,   2.3150
35A3CITHER3_2 ,A13        ,156     ,  1,20         ,13         ,2,19950305,2332, -27.0013,   9.3387,     4811,   2794.5,   2.4370,  34.8620,2,  34.8630,2,    231.9,2,    231.6,2,    50.60,2,    23.40,2,     1.57,2,    0.004,2,    0.005,2,     -999,9,     -999,9,     -999,9,     -999,9,     -999,9,     -999,9,   2.2190
35A3CITHER3_2 ,A13        ,156     ,  1,21         ,12         ,2,19950305,2332, -27.0013,   9.3387,     4811,   2795.1,   2.4370,  34.8620,2,  34.8640,2,    231.9,2,    231.6,2,    50.80,2,    23.70,2,     1.58,2,    0.001,2,    0.003,2,     -999,9,     -999,9,     -999,9,     -999,9,     -999,9,     -999,9,   2.2190
35A3CITHER3_2 ,A13        ,156     ,  1,22         ,11         ,2,19950305,2332, -27.0013,   9.3387,     4811,   2996.2,   2.3750,  34.8630,2,  34.8570,3,    231.3,2,    231.4,2,    53.10,2,    23.90,2,     1.58,2,    0.004,2,    0.004,2,     -999,9,     -999,9,     -999,9,   1.8500,2,     4.98,2,     -999,9,   2.1390
35A3CITHER3_2 ,A13        ,156     ,  1,23         ,10         ,2,19950305,2332, -27.0013,   9.3387,     4811,   3194.4,   2.3240,  34.8610,2,  34.8610,2,    231.4,2,    231.6,2,    54.60,2,    23.80,2,     1.58,2,    0.000,2,     -999,9,     -999,9,     -999,9,     -999,9,   1.8520,2,     4.67,2,     -999,9,   2.0680
35A3CITHER3_2 ,A13        ,156     ,  1,24         ,9          ,2,19950305,2332, -27.0013,   9.3387,     4811,   3395.5,   2.2680,  34.8590,2,  34.8580,2,    231.0,2,    231.3,2,    57.50,2,    24.10,2,     1.58,2,    0.002,2,    0.003,2,     -999,9,     -999,9,    0.008,2,   1.8530,2,     4.26,2,    8.061,2,   1.9930
35A3CITHER3_2 ,A13        ,156     ,  1,25         ,8          ,2,19950305,2332, -27.0013,   9.3387,     4811,   3597.7,   2.1760,  34.8500,2,  34.8480,2,    229.6,2,    229.7,2,    60.20,2,    24.30,2,     1.53,2,    0.006,2,    0.003,2,     -999,9,     -999,9,     -999,9,     -999,9,     -999,9,     -999,9,   1.8820
35A3CITHER3_2 ,A13        ,156     ,  1,26         ,7          ,2,19950305,2332, -27.0013,   9.3387,     4811,   3796.3,   1.9840,  34.8300,2,  34.8310,2,    226.8,2,    226.9,2,    68.60,2,    24.40,2,     1.57,2,    0.004,2,     -999,9,     -999,9,     -999,9,     -999,9,     -999,9,     -999,9,     -999,9,   1.6730
35A3CITHER3_2 ,A13        ,156     ,  1,27         ,6          ,2,19950305,2332, -27.0013,   9.3387,     4811,   3998.5,   1.6710,  34.7970,2,  34.7980,2,    222.6,2,    223.8,2,    82.50,2,    26.80,2,     1.79,2,    0.003,2,     -999,9,     -999,9,     -999,9,    0.005,3,   1.8730,3,     5.60,3,    8.127,2,   1.3470
35A3CITHER3_2 ,A13        ,156     ,  1,28         ,5          ,2,19950305,2332, -27.0013,   9.3387,     4811,   4192.7,   1.3450,  34.7640,2,  34.7620,2,    218.0,2,    218.8,2,    96.20,2,    28.00,2,     1.83,2,    0.004,2,    0.005,2,     -999,9,     -999,9,     -999,9,     -999,9,     -999,9,     -999,9,   1.0090
35A3CITHER3_2 ,A13        ,156     ,  1,29         ,4          ,2,19950305,2332, -27.0013,   9.3387,     4811,   4397.6,   1.1630,  34.7460,2,  34.7460,2,    216.4,2,    217.9,2,   103.50,2,    30.00,2,     1.96,2,    0.007,2,    0.007,2,     -999,9,     -999,9,     -999,9,     -999,9,     -999,9,     -999,9,   0.8100
35A3CITHER3_2 ,A13        ,156     ,  1,30         ,3          ,2,19950305,2332, -27.0013,   9.3387,     4811,   4594.8,   1.1310,  34.7400,2,  34.7420,2,    215.9,2,    217.6,2,   106.00,2,    30.10,2,     1.99,2,    0.005,2,    0.010,2,     -999,9,     -999,9,     -999,9,     -999,9,     -999,9,     -999,9,   0.7560
35A3CITHER3_2 ,A13        ,156     ,  1,31         ,2          ,2,19950305,2332, -27.0013,   9.3387,     4811,   4798.1,   1.1440,  34.7390,2,  34.7390,2,    215.7,2,    216.6,2,   106.80,2,    29.20,2,     1.91,2,    0.010,2,    0.011,2,     -999,9,     -999,9,     -999,9,     -999,9,     -999,9,     -999,9,   0.7450
35A3CITHER3_2 ,A13        ,156     ,  1,32         ,1          ,2,19950305,2332, -27.0013,   9.3387,     4811,   4874.4,   1.1490,  34.7390,2,  34.7410,2,    216.3,2,    218.8,2,   107.00,2,    29.70,2,     1.94,2,    0.013,2,     -999,9,     -999,9,     -999,9,     -999,9,     -999,9,     -999,9,     -999,9,   0.7410