BOTTLE,20211216CCHDHYDRO
EXPOCODE,SECT_ID,STNNBR,CASTNO,SAMPNO,BTLNBR,BTLNBR_FLAG_W,DATE,TIME,LATITUDE,LONGITUDE,DEPTH,CTDPRS,CTDTMP,CTDSAL,CTDSAL_FLAG_W,SALNTY,SALNTY_FLAG_W,CTDOXY,CTDOXY_FLAG_W,OXYGEN,OXYGEN_FLAG_W,SILCAT,SILCAT_FLAG_W,NITRAT,NITRAT_FLAG_W,PHSPHT,PHSPHT_FLAG_W,CFC-11,CFC-11_FLAG_W,CFC-12,CFC-12_FLAG_W,TCARBN,TCARBN_FLAG_W,ALKALI,ALKALI_FLAG_W,TRITUM,TRITUM_FLAG_W,HELIUM,HELIUM_FLAG_W,DELHE3,DELHE3_FLAG_W,NEON,NEON_FLAG_W,THETA
,,,,,,,,,,,METERS,DBAR,DEG C,PSS-78,,PSS-78,,UMOL/KG,,UMOL/KG,,UMOL/KG,,UMOL/KG,,UMOL/KG,,PMOL/KG,,PMOL/KG,,UMOL/KG,,UMOL/KG,,TU,,NMOL/KG,,PERCNT,,NMOL/KG,,DEG C
35A3CITHER3_2 ,A13        ,218     ,  1,4          ,29         ,2,19950322,2103,  -2.1060,   3.1712,     3657,      4.5,  29.8870,  34.7470,2,     -999,9,    218.5,2,     -999,9,     -999,9,     -999,9,     -999,9,     -999,9,     -999,9,     -999,9,     -999,9,     -999,9,     -999,9,     -999,9,     -999,9,  29.8860
35A3CITHER3_2 ,A13        ,218     ,  1,1          ,32         ,2,19950322,2103,  -2.1060,   3.1712,     3657,      4.7,  29.8280,  34.7380,2,     -999,9,    218.5,2,     -999,9,     -999,9,     -999,9,     -999,9,     -999,9,     -999,9,     -999,9,     -999,9,     -999,9,     -999,9,     -999,9,     -999,9,  29.8270
35A3CITHER3_2 ,A13        ,218     ,  1,3          ,30         ,2,19950322,2103,  -2.1060,   3.1712,     3657,      4.7,  29.8830,  34.7420,2,     -999,9,    218.5,2,     -999,9,     -999,9,     -999,9,     -999,9,     -999,9,     -999,9,     -999,9,     -999,9,     -999,9,     -999,9,     -999,9,     -999,9,  29.8820
35A3CITHER3_2 ,A13        ,218     ,  1,2          ,31         ,2,19950322,2103,  -2.1060,   3.1712,     3657,      4.8,  29.8660,  34.7380,2,     -999,9,    218.5,2,     -999,9,     -999,9,     -999,9,     -999,9,     -999,9,     -999,9,     -999,9,     -999,9,     -999,9,     -999,9,     -999,9,     -999,9,  29.8650
35A3CITHER3_2 ,A13        ,218     ,  1,5          ,28         ,2,19950322,2103,  -2.1060,   3.1712,     3657,      5.0,  29.9650,  34.7460,2,  34.7480,2,    218.5,2,    218.8,2,     3.60,2,     0.00,2,     0.01,2,    1.559,2,    0.869,2,     -999,9,     -999,9,     -999,9,     -999,9,     -999,9,     -999,9,  29.9640
35A3CITHER3_2 ,A13        ,218     ,  1,6          ,27         ,2,19950322,2103,  -2.1060,   3.1712,     3657,     46.0,  25.9840,  36.1270,2,  36.1240,2,    208.6,2,    198.6,3,     4.00,2,     0.00,2,     0.13,2,    1.710,2,    0.870,2,     -999,9,     -999,9,     -999,9,     -999,9,     -999,9,     -999,9,  25.9740
35A3CITHER3_2 ,A13        ,218     ,  1,7          ,26         ,2,19950322,2103,  -2.1060,   3.1712,     3657,    121.7,  16.3090,  35.7040,2,  35.7080,2,    146.4,2,    146.5,2,     7.10,2,    13.40,2,     0.91,2,    1.683,2,    0.816,2,     -999,9,     -999,9,     -999,9,     -999,9,     -999,9,     -999,9,  16.2890
35A3CITHER3_2 ,A13        ,218     ,  1,8          ,25         ,2,19950322,2103,  -2.1060,   3.1712,     3657,    122.1,  16.2660,  35.6980,2,  35.7040,3,    146.4,2,    143.7,2,     7.10,2,    13.80,2,     0.93,2,    1.657,2,    0.816,2,     -999,9,     -999,9,     -999,9,     -999,9,     -999,9,     -999,9,  16.2460
35A3CITHER3_2 ,A13        ,218     ,  1,9          ,24         ,2,19950322,2103,  -2.1060,   3.1712,     3657,    196.7,  14.5380,  35.4840,2,  35.4810,2,    123.1,2,    122.1,2,     8.90,2,    18.40,2,     1.21,2,    1.340,2,    0.656,2,     -999,9,     -999,9,     -999,9,     -999,9,     -999,9,     -999,9,  14.5090
35A3CITHER3_2 ,A13        ,218     ,  1,10         ,23         ,2,19950322,2103,  -2.1060,   3.1712,     3657,    295.9,  10.6900,  35.0230,2,  35.0120,3,     46.0,2,     47.9,2,    14.90,2,    32.90,2,     1.98,2,    0.364,2,    0.191,2,     -999,9,     -999,9,     -999,9,     -999,9,     -999,9,     -999,9,  10.6540
35A3CITHER3_2 ,A13        ,218     ,  1,11         ,22         ,2,19950322,2103,  -2.1060,   3.1712,     3657,    394.9,   8.3070,  34.7540,2,  34.7570,2,     80.1,2,     83.4,3,    18.40,2,    34.00,2,     2.08,2,    0.232,2,    0.121,2,     -999,9,     -999,9,     -999,9,     -999,9,     -999,9,     -999,9,   8.2660
35A3CITHER3_2 ,A13        ,218     ,  1,12         ,21         ,2,19950322,2103,  -2.1060,   3.1712,     3657,    595.1,   6.1640,  34.5510,2,  34.5520,2,    127.1,2,    128.0,2,    23.70,2,    33.80,2,     2.13,2,    0.148,2,    0.103,2,     -999,9,     -999,9,     -999,9,     -999,9,     -999,9,     -999,9,   6.1110
35A3CITHER3_2 ,A13        ,218     ,  1,13         ,20         ,2,19950322,2103,  -2.1060,   3.1712,     3657,    795.7,   4.7880,  34.5100,2,  34.5090,2,    131.1,2,    131.5,2,    31.30,2,    35.50,2,     2.32,2,    0.009,2,    0.007,2,     -999,9,     -999,9,     -999,9,     -999,9,     -999,9,     -999,9,   4.7240
35A3CITHER3_2 ,A13        ,218     ,  1,14         ,19         ,2,19950322,2103,  -2.1060,   3.1712,     3657,    995.9,   4.4100,  34.6280,2,  34.6190,3,    156.4,2,    158.9,2,    31.60,2,    32.50,2,     2.12,2,    0.006,2,    0.003,2,     -999,9,     -999,9,     -999,9,     -999,9,     -999,9,     -999,9,   4.3310
35A3CITHER3_2 ,A13        ,218     ,  1,15         ,18         ,2,19950322,2103,  -2.1060,   3.1712,     3657,   1194.6,   4.4060,  34.7820,2,  34.7800,2,    176.6,2,    175.4,2,    27.60,2,    28.70,2,     1.87,2,    0.005,2,    0.002,2,     -999,9,     -999,9,     -999,9,     -999,9,     -999,9,     -999,9,   4.3100
35A3CITHER3_2 ,A13        ,218     ,  1,16         ,17         ,2,19950322,2103,  -2.1060,   3.1712,     3657,   1396.4,   4.2910,  34.9220,2,  34.9220,2,    216.7,2,    210.5,3,    21.90,2,    23.50,2,     1.55,2,    0.019,2,    0.013,2,     -999,9,     -999,9,     -999,9,     -999,9,     -999,9,     -999,9,   4.1770
35A3CITHER3_2 ,A13        ,218     ,  1,17         ,16         ,2,19950322,2103,  -2.1060,   3.1712,     3657,   1596.5,   3.9480,  34.9560,2,  34.9560,2,    230.9,2,    229.5,2,    21.10,2,    21.30,2,     1.38,2,    0.013,2,    0.010,2,     -999,9,     -999,9,     -999,9,     -999,9,     -999,9,     -999,9,   3.8200
35A3CITHER3_2 ,A13        ,218     ,  1,18         ,15         ,2,19950322,2103,  -2.1060,   3.1712,     3657,   1794.7,   3.6950,  34.9630,2,  34.9600,2,    241.1,2,    240.3,2,    21.60,2,    20.40,2,     1.32,2,    0.010,2,    0.009,2,     -999,9,     -999,9,     -999,9,     -999,9,     -999,9,     -999,9,   3.5510
35A3CITHER3_2 ,A13        ,218     ,  1,19         ,14         ,2,19950322,2103,  -2.1060,   3.1712,     3657,   1794.7,   3.6930,  34.9630,2,  34.9610,2,    241.1,2,    240.3,2,    21.60,2,    20.50,2,     1.32,2,    0.009,2,    0.009,2,     -999,9,     -999,9,     -999,9,     -999,9,     -999,9,     -999,9,   3.5490
35A3CITHER3_2 ,A13        ,218     ,  1,20         ,13         ,2,19950322,2103,  -2.1060,   3.1712,     3657,   1995.5,   3.4830,  34.9560,2,  34.9570,2,    245.1,2,    243.0,2,    23.50,2,    20.20,2,     1.30,2,    0.009,2,    0.004,2,     -999,9,     -999,9,     -999,9,     -999,9,     -999,9,     -999,9,   3.3240
35A3CITHER3_2 ,A13        ,218     ,  1,21         ,12         ,2,19950322,2103,  -2.1060,   3.1712,     3657,   2196.9,   3.2660,  34.9450,2,  34.9480,2,    243.8,2,    241.7,2,    27.00,2,    20.60,2,     1.32,2,    0.003,2,    0.008,2,     -999,9,     -999,9,     -999,9,     -999,9,     -999,9,     -999,9,   3.0910
35A3CITHER3_2 ,A13        ,218     ,  1,22         ,11         ,2,19950322,2103,  -2.1060,   3.1712,     3657,   2394.5,   3.0400,  34.9330,2,  34.9300,2,    239.5,2,    239.2,2,    31.90,2,    21.20,2,     1.34,2,    0.004,2,    0.006,2,     -999,9,     -999,9,     -999,9,     -999,9,     -999,9,     -999,9,   2.8500
35A3CITHER3_2 ,A13        ,218     ,  1,23         ,10         ,2,19950322,2103,  -2.1060,   3.1712,     3657,   2594.5,   2.8710,  34.9240,2,  34.9240,2,    239.8,2,    239.1,2,    35.10,2,    21.40,2,     1.36,2,    0.000,2,    0.004,2,     -999,9,     -999,9,     -999,9,     -999,9,     -999,9,     -999,9,   2.6640
35A3CITHER3_2 ,A13        ,218     ,  1,24         ,9          ,2,19950322,2103,  -2.1060,   3.1712,     3657,   2794.2,   2.7270,  34.9150,2,  34.9160,2,    238.7,2,    238.3,2,    38.20,2,    21.80,2,     1.40,2,    0.004,2,    0.002,2,     -999,9,     -999,9,     -999,9,     -999,9,     -999,9,     -999,9,   2.5030
35A3CITHER3_2 ,A13        ,218     ,  1,25         ,8          ,2,19950322,2103,  -2.1060,   3.1712,     3657,   2995.8,   2.6310,  34.9090,2,  34.9090,2,    237.7,2,    237.8,2,    40.50,2,    22.10,2,     1.42,2,    0.001,2,    0.002,2,     -999,9,     -999,9,     -999,9,     -999,9,     -999,9,     -999,9,   2.3890
35A3CITHER3_2 ,A13        ,218     ,  1,26         ,7          ,2,19950322,2103,  -2.1060,   3.1712,     3657,   3196.7,   2.5500,  34.9050,2,  34.9050,2,    237.8,2,    238.2,2,    42.30,2,    22.20,2,     1.43,2,    0.001,2,   -0.001,2,     -999,9,     -999,9,     -999,9,     -999,9,     -999,9,     -999,9,   2.2890
35A3CITHER3_2 ,A13        ,218     ,  1,27         ,6          ,2,19950322,2103,  -2.1060,   3.1712,     3657,   3395.1,   2.4390,  34.8980,2,  34.8970,2,    237.0,2,    237.7,2,    45.00,2,    22.40,2,     1.44,2,    0.000,2,   -0.002,2,     -999,9,     -999,9,     -999,9,     -999,9,     -999,9,     -999,9,   2.1590
35A3CITHER3_2 ,A13        ,218     ,  1,28         ,5          ,2,19950322,2103,  -2.1060,   3.1712,     3657,   3596.8,   2.3910,  34.8930,2,  34.8920,2,    237.9,2,    238.5,2,    46.40,2,    22.30,2,     1.43,2,    0.000,2,    0.004,2,     -999,9,     -999,9,     -999,9,     -999,9,     -999,9,     -999,9,   2.0910
35A3CITHER3_2 ,A13        ,218     ,  1,29         ,4          ,2,19950322,2103,  -2.1060,   3.1712,     3657,   3694.7,   2.3930,  34.8930,2,  34.8910,2,    238.2,2,    238.2,2,    46.50,2,    22.30,2,     1.43,2,    0.001,2,    0.001,2,     -999,9,     -999,9,     -999,9,     -999,9,     -999,9,     -999,9,   2.0820
35A3CITHER3_2 ,A13        ,218     ,  1,30         ,3          ,2,19950322,2103,  -2.1060,   3.1712,     3657,   3766.4,   2.3760,  34.8910,2,  34.8910,2,    236.6,2,    238.5,2,    46.90,2,    22.10,2,     1.42,2,     -999,9,     -999,9,     -999,9,     -999,9,     -999,9,     -999,9,     -999,9,     -999,9,   2.0580
35A3CITHER3_2 ,A13        ,219     ,  1,1          ,32         ,2,19950323,0200,  -1.7510,   2.9493,     4201,      3.6,  29.2650,  34.4470,2,     -999,9,    200.2,2,     -999,9,     -999,9,     -999,9,     -999,9,     -999,9,     -999,9,     -999,9,     -999,9,     -999,9,     -999,9,     -999,9,     -999,9,  29.2640
35A3CITHER3_2 ,A13        ,219     ,  1,3          ,30         ,2,19950323,0200,  -1.7510,   2.9493,     4201,      3.9,  29.2510,  34.4440,2,  34.4560,3,    200.2,2,    195.4,3,     3.80,2,     0.00,2,     0.03,2,    1.541,2,    0.853,2,     -999,9,     -999,9,     -999,9,     -999,9,     -999,9,     -999,9,  29.2500
35A3CITHER3_2 ,A13        ,219     ,  1,2          ,31         ,2,19950323,0200,  -1.7510,   2.9493,     4201,      4.0,  29.2810,  34.4470,2,     -999,9,    200.2,2,     -999,9,     -999,9,     -999,9,     -999,9,     -999,9,     -999,9,     -999,9,     -999,9,     -999,9,     -999,9,     -999,9,     -999,9,  29.2800
35A3CITHER3_2 ,A13        ,219     ,  1,4          ,29         ,2,19950323,0200,  -1.7510,   2.9493,     4201,     46.0,  25.5700,  36.1630,2,  36.1230,3,    194.2,2,    181.5,3,     3.80,2,     1.10,2,     0.26,2,    1.680,2,    0.868,2,     -999,9,     -999,9,     -999,9,     -999,9,     -999,9,     -999,9,  25.5600
35A3CITHER3_2 ,A13        ,219     ,  1,5          ,28         ,2,19950323,0200,  -1.7510,   2.9493,     4201,    121.5,  15.6840,  35.6270,2,  35.6270,2,    138.3,2,    139.8,2,     7.40,2,    14.40,2,     0.98,2,    1.585,2,    0.765,2,     -999,9,     -999,9,     -999,9,     -999,9,     -999,9,     -999,9,  15.6650
35A3CITHER3_2 ,A13        ,219     ,  1,6          ,27         ,2,19950323,0200,  -1.7510,   2.9493,     4201,    195.3,  14.5420,  35.4840,2,  35.4740,3,    117.8,2,    108.0,3,     9.10,3,    19.50,2,     1.27,2,    1.288,2,    0.638,2,     -999,9,     -999,9,     -999,9,     -999,9,     -999,9,     -999,9,  14.5130
35A3CITHER3_2 ,A13        ,219     ,  1,7          ,26         ,2,19950323,0200,  -1.7510,   2.9493,     4201,    196.3,  14.4030,  35.4660,2,  35.4770,3,    117.9,2,    109.2,3,     9.10,3,    19.30,2,     1.28,2,    1.267,2,    0.623,2,     -999,9,     -999,9,     -999,9,     -999,9,     -999,9,     -999,9,  14.3740
35A3CITHER3_2 ,A13        ,219     ,  1,8          ,25         ,2,19950323,0200,  -1.7510,   2.9493,     4201,    306.3,  10.7870,  35.0350,2,  35.0360,2,     53.4,2,     50.9,2,    14.70,2,    32.40,2,     1.92,2,    0.405,2,    0.210,2,     -999,9,     -999,9,     -999,9,     -999,9,     -999,9,     -999,9,  10.7490
35A3CITHER3_2 ,A13        ,219     ,  1,9          ,24         ,2,19950323,0200,  -1.7510,   2.9493,     4201,    396.1,   8.2720,  34.7540,2,  34.7500,2,     80.6,2,     84.2,3,    18.80,2,    34.10,2,     2.08,2,    0.222,2,    0.117,2,     -999,9,     -999,9,     -999,9,     -999,9,     -999,9,     -999,9,   8.2310
35A3CITHER3_2 ,A13        ,219     ,  1,10         ,23         ,2,19950323,0200,  -1.7510,   2.9493,     4201,    595.4,   5.9240,  34.5310,2,  34.5260,2,    137.7,2,    136.7,2,    24.80,2,    33.50,2,     2.16,2,    0.171,2,    0.091,2,     -999,9,     -999,9,     -999,9,     -999,9,     -999,9,     -999,9,   5.8720
35A3CITHER3_2 ,A13        ,219     ,  1,11         ,22         ,2,19950323,0200,  -1.7510,   2.9493,     4201,    795.4,   4.8860,  34.5020,2,  34.5040,2,    141.2,2,    141.6,2,    30.70,2,    32.90,2,     2.26,2,    0.033,2,    0.022,2,     -999,9,     -999,9,     -999,9,     -999,9,     -999,9,     -999,9,   4.8220
35A3CITHER3_2 ,A13        ,219     ,  1,12         ,21         ,2,19950323,0200,  -1.7510,   2.9493,     4201,    995.6,   4.4360,  34.6010,2,  34.5920,3,    157.0,2,    155.4,2,    32.40,2,    33.00,2,     2.16,2,    0.006,2,    0.011,2,     -999,9,     -999,9,     -999,9,     -999,9,     -999,9,     -999,9,   4.3570
35A3CITHER3_2 ,A13        ,219     ,  1,13         ,20         ,2,19950323,0200,  -1.7510,   2.9493,     4201,   1195.7,   4.3790,  34.7710,2,  34.7690,2,    176.5,2,    173.5,2,    28.80,2,    28.70,2,     1.92,2,    0.001,2,    0.006,2,     -999,9,     -999,9,     -999,9,     -999,9,     -999,9,     -999,9,   4.2830
35A3CITHER3_2 ,A13        ,219     ,  1,14         ,19         ,2,19950323,0200,  -1.7510,   2.9493,     4201,   1395.0,   4.3030,  34.9070,2,  34.9070,2,    207.3,2,    206.0,2,    24.10,2,    24.00,2,     1.58,2,    0.013,2,    0.014,2,     -999,9,     -999,9,     -999,9,     -999,9,     -999,9,     -999,9,   4.1890
35A3CITHER3_2 ,A13        ,219     ,  1,15         ,18         ,2,19950323,0200,  -1.7510,   2.9493,     4201,   1596.2,   3.9840,  34.9610,2,  34.9600,2,    231.5,2,    231.4,2,    21.20,2,    20.80,2,     1.36,2,    0.011,2,    0.012,2,     -999,9,     -999,9,     -999,9,     -999,9,     -999,9,     -999,9,   3.8550
35A3CITHER3_2 ,A13        ,219     ,  1,16         ,17         ,2,19950323,0200,  -1.7510,   2.9493,     4201,   1795.8,   3.6580,  34.9610,2,  34.9640,2,    242.3,2,    239.9,2,    22.40,2,    20.20,2,     1.34,2,    0.011,2,    0.006,2,     -999,9,     -999,9,     -999,9,     -999,9,     -999,9,     -999,9,   3.5150
35A3CITHER3_2 ,A13        ,219     ,  1,17         ,16         ,2,19950323,0200,  -1.7510,   2.9493,     4201,   1994.8,   3.4850,  34.9610,2,  34.9620,2,    247.6,2,    245.2,2,    23.50,2,    19.80,2,     1.28,2,     -999,9,     -999,9,     -999,9,     -999,9,     -999,9,     -999,9,     -999,9,     -999,9,   3.3260
35A3CITHER3_2 ,A13        ,219     ,  1,18         ,15         ,2,19950323,0200,  -1.7510,   2.9493,     4201,   2195.2,   3.2500,  34.9460,2,  34.9480,2,    243.5,2,    242.9,2,    28.00,2,    20.40,2,     1.33,2,     -999,9,     -999,9,     -999,9,     -999,9,     -999,9,     -999,9,     -999,9,     -999,9,   3.0750
35A3CITHER3_2 ,A13        ,219     ,  1,19         ,14         ,2,19950323,0200,  -1.7510,   2.9493,     4201,   2195.6,   3.2480,  34.9460,2,  34.9470,2,    243.5,2,    243.4,2,    28.10,2,    20.40,2,     1.34,2,    0.001,2,    0.003,2,     -999,9,     -999,9,     -999,9,     -999,9,     -999,9,     -999,9,   3.0730
35A3CITHER3_2 ,A13        ,219     ,  1,20         ,13         ,2,19950323,0200,  -1.7510,   2.9493,     4201,   2397.4,   2.9900,  34.9300,2,  34.9300,2,    239.7,2,    239.1,2,    33.70,2,    20.90,2,     1.39,2,    0.002,2,    0.001,2,     -999,9,     -999,9,     -999,9,     -999,9,     -999,9,     -999,9,   2.8000
35A3CITHER3_2 ,A13        ,219     ,  1,21         ,12         ,2,19950323,0200,  -1.7510,   2.9493,     4201,   2596.1,   2.8360,  34.9230,2,  34.9220,2,    239.3,2,    239.1,2,    36.80,2,    21.30,2,     1.40,2,    0.000,2,   -0.002,2,     -999,9,     -999,9,     -999,9,     -999,9,     -999,9,     -999,9,   2.6300
35A3CITHER3_2 ,A13        ,219     ,  1,22         ,11         ,2,19950323,0200,  -1.7510,   2.9493,     4201,   2793.9,   2.7310,  34.9160,2,  34.9170,2,    237.9,2,    238.3,2,    39.30,2,    21.20,2,     1.40,2,    0.000,2,     -999,9,     -999,9,     -999,9,     -999,9,     -999,9,     -999,9,     -999,9,   2.5070
35A3CITHER3_2 ,A13        ,219     ,  1,23         ,10         ,2,19950323,0200,  -1.7510,   2.9493,     4201,   2995.0,   2.6130,  34.9080,2,  34.9080,2,    237.5,2,    237.2,2,    42.20,2,    21.60,2,     1.40,2,    0.002,2,    0.003,2,     -999,9,     -999,9,     -999,9,     -999,9,     -999,9,     -999,9,   2.3710
35A3CITHER3_2 ,A13        ,219     ,  1,24         ,9          ,2,19950323,0200,  -1.7510,   2.9493,     4201,   3196.5,   2.5100,  34.9030,2,  34.9010,2,    237.9,2,    238.1,2,    44.30,2,    21.60,2,     1.40,2,   -0.001,2,   -0.003,2,     -999,9,     -999,9,     -999,9,     -999,9,     -999,9,     -999,9,   2.2500
35A3CITHER3_2 ,A13        ,219     ,  1,25         ,8          ,2,19950323,0200,  -1.7510,   2.9493,     4201,   3395.1,   2.4550,  34.8980,2,  34.8990,2,    238.3,2,    238.4,2,    45.50,2,    21.50,2,     1.42,2,    0.000,2,   -0.003,2,     -999,9,     -999,9,     -999,9,     -999,9,     -999,9,     -999,9,   2.1750
35A3CITHER3_2 ,A13        ,219     ,  1,26         ,7          ,2,19950323,0200,  -1.7510,   2.9493,     4201,   3596.2,   2.3970,  34.8940,2,  34.8960,2,    239.2,2,    239.5,2,    46.70,2,    21.50,2,     1.42,2,    0.002,2,    0.002,2,     -999,9,     -999,9,     -999,9,     -999,9,     -999,9,     -999,9,   2.0970
35A3CITHER3_2 ,A13        ,219     ,  1,27         ,6          ,2,19950323,0200,  -1.7510,   2.9493,     4201,   3798.1,   2.3450,  34.8890,2,  34.8900,2,    240.2,2,    240.2,2,    48.20,2,    21.70,2,     1.42,2,    0.000,2,    0.000,2,     -999,9,     -999,9,     -999,9,     -999,9,     -999,9,     -999,9,   2.0240
35A3CITHER3_2 ,A13        ,219     ,  1,28         ,5          ,2,19950323,0200,  -1.7510,   2.9493,     4201,   3995.9,   2.3180,  34.8860,2,  34.8850,2,    239.9,2,    240.4,2,    49.30,2,    21.40,2,     1.41,2,    0.000,2,   -0.002,2,     -999,9,     -999,9,     -999,9,     -999,9,     -999,9,     -999,9,   1.9750
35A3CITHER3_2 ,A13        ,219     ,  1,29         ,4          ,2,19950323,0200,  -1.7510,   2.9493,     4201,   4197.2,   2.2880,  34.8820,2,  34.8800,2,    240.9,2,    240.5,2,    50.50,2,    22.00,2,     1.43,2,    0.001,2,    0.003,2,     -999,9,     -999,9,     -999,9,     -999,9,     -999,9,     -999,9,   1.9230
35A3CITHER3_2 ,A13        ,219     ,  1,30         ,3          ,2,19950323,0200,  -1.7510,   2.9493,     4201,   4239.8,   2.2900,  34.8800,2,  34.8820,2,    239.1,2,    240.3,2,    50.80,2,    21.60,2,     1.42,2,    0.000,2,    0.002,2,     -999,9,     -999,9,     -999,9,     -999,9,     -999,9,     -999,9,   1.9200