BOTTLE,20211215CCHSIOENA
EXPOCODE,SECT_ID,STNNBR,CASTNO,SAMPNO,BTLNBR,BTLNBR_FLAG_W,DATE,TIME,LATITUDE,LONGITUDE,DEPTH,CTDPRS,CTDTMP,CTDSAL,CTDSAL_FLAG_W,SALNTY,SALNTY_FLAG_W,OXYGEN,OXYGEN_FLAG_W,NITRAT,NITRAT_FLAG_W,NITRIT,NITRIT_FLAG_W,PHSPHT,PHSPHT_FLAG_W
,,,,,,,,,,,,DBAR,ITS-90,PSS-78,,PSS-78,,UMOL/KG,,UMOL/KG,,UMOL/KG,,UMOL/KG,
    49RY9301_1,  PR02,RY8355,  1,      1,      1,2,19930131,0518,  7.0018, 136.9997, 4230,      2.0,  28.1170,  34.2510,2,-999.0000,9,    200.0,2,     0.20,2,     0.00,2,     0.02,2
    49RY9301_1,  PR02,RY8355,  1,      2,      2,2,19930131,0518,  7.0018, 136.9997, 4230,     10.0,  27.8720,  34.2420,2,  34.2470,2,    200.0,2,     0.10,2,     0.00,2,     0.02,2
    49RY9301_1,  PR02,RY8355,  1,      3,      3,2,19930131,0518,  7.0018, 136.9997, 4230,     24.0,  27.7590,  34.2370,2,-999.0000,9,    201.0,2,     0.20,2,     0.00,2,     0.03,2
    49RY9301_1,  PR02,RY8355,  1,      4,      4,2,19930131,0518,  7.0018, 136.9997, 4230,     49.0,  27.7040,  34.2510,2,  34.2460,2,    203.0,2,     0.20,2,     0.00,2,     0.04,2
    49RY9301_1,  PR02,RY8355,  1,      5,      5,2,19930131,0518,  7.0018, 136.9997, 4230,     74.0,  25.0680,  34.7720,2,-999.0000,9,    196.0,2,     0.20,2,     0.00,2,     0.08,2
    49RY9301_1,  PR02,RY8355,  1,      6,      6,2,19930131,0518,  7.0018, 136.9997, 4230,    101.0,  20.6440,  34.7950,2,  34.7980,2,    165.0,2,     4.80,2,     0.29,2,     0.47,2
    49RY9301_1,  PR02,RY8355,  1,      7,      7,2,19930131,0518,  7.0018, 136.9997, 4230,    127.0,  16.6700,  34.7160,2,-999.0000,9,    161.0,2,     9.20,2,     0.02,2,     0.73,2
    49RY9301_1,  PR02,RY8355,  1,      8,      8,2,19930131,0518,  7.0018, 136.9997, 4230,    151.0,  13.4120,  34.5330,2,  34.5490,2,    142.0,2,    16.10,2,     0.00,2,     1.23,2
    49RY9301_1,  PR02,RY8355,  1,      9,      9,2,19930131,0518,  7.0018, 136.9997, 4230,    175.0,  11.9170,  34.5210,2,-999.0000,9,    110.0,2,    22.40,2,     0.00,2,     1.69,2
    49RY9301_1,  PR02,RY8355,  1,     10,     10,2,19930131,0518,  7.0018, 136.9997, 4230,    201.0,  10.5660,  34.5270,2,  34.5210,2,     93.0,2,    26.60,2,     0.00,2,     1.97,2
    49RY9301_1,  PR02,RY8355,  1,     11,     11,2,19930131,0518,  7.0018, 136.9997, 4230,    252.0,   9.7350,  34.5800,2,  34.5820,2,     68.0,2,    31.00,2,     0.01,2,     2.28,2
    49RY9301_1,  PR02,RY8355,  1,     12,     12,2,19930131,0518,  7.0018, 136.9997, 4230,    302.0,   9.3460,  34.6060,2,  34.5950,2,     57.0,2,    32.70,2,     0.01,2,     2.42,2
    49RY9301_1,  PR02,RY8355,  1,     13,     13,2,19930131,0518,  7.0018, 136.9997, 4230,    401.0,   8.5950,  34.5950,2,  34.5950,2,     66.0,2,    33.90,2,     0.01,2,     2.47,2
    49RY9301_1,  PR02,RY8355,  2,     14,     14,2,19930131,0659,  7.0378, 137.0112, 4225,    503.0,   7.8160,  34.5770,2,  34.5780,2,     79.0,2,    34.20,2,     0.00,2,     2.51,2
    49RY9301_1,  PR02,RY8355,  2,     15,     15,2,19930131,0659,  7.0378, 137.0112, 4225,    606.0,   7.2140,  34.5520,2,  34.5580,2,     82.0,2,    35.30,2,     0.00,2,     2.58,2
    49RY9301_1,  PR02,RY8355,  2,     16,     16,2,19930131,0659,  7.0378, 137.0112, 4225,    706.0,   6.5550,  34.5380,2,  34.5790,2,     84.0,2,    36.20,2,     0.01,2,     2.65,2
    49RY9301_1,  PR02,RY8355,  2,     17,     17,2,19930131,0659,  7.0378, 137.0112, 4225,    806.0,   5.8610,  34.5340,2,  34.5330,2,     89.0,2,    36.70,2,     0.00,2,     2.69,2
    49RY9301_1,  PR02,RY8355,  2,     18,     18,2,19930131,0659,  7.0378, 137.0112, 4225,    907.0,   5.4270,  34.5360,2,  34.5350,2,     98.0,2,    37.20,2,     0.00,2,     2.71,2
    49RY9301_1,  PR02,RY8355,  2,     19,     19,2,19930131,0659,  7.0378, 137.0112, 4225,   1008.0,   4.9160,  34.5410,2,  34.5360,2,     92.0,2,    37.80,2,     0.00,2,     2.75,2
    49RY9301_1,  PR02,RY8355,  2,     20,     20,2,19930131,0659,  7.0378, 137.0112, 4225,   1261.0,   3.6570,  34.5750,2,  34.5680,2,     98.0,2,    38.40,2,     0.03,2,     2.80,2
    49RY9301_1,  PR02,RY8355,  2,     21,     21,2,19930131,0659,  7.0378, 137.0112, 4225,   1515.0,   2.9620,  34.5990,2,  34.5980,2,    104.0,2,    38.80,2,     0.00,2,     2.81,2
    49RY9301_1,  PR02,RY8355,  2,     22,     22,2,19930131,0659,  7.0378, 137.0112, 4225,   2024.0,   2.1950,  34.6380,2,  34.6320,2,    118.0,2,    38.40,2,     0.00,2,     2.72,2
    49RY9301_1,  PR02,RY8355,  2,     23,     23,2,19930131,0659,  7.0378, 137.0112, 4225,   2531.0,   1.8870,  34.6560,2,  34.6480,2,    131.0,2,    38.00,2,     0.02,2,     2.68,2
    49RY9301_1,  PR02,RY8355,  2,     24,     24,2,19930131,0659,  7.0378, 137.0112, 4225,   3041.0,   1.6230,  34.6730,2,  34.6650,2,    145.0,2,    37.00,2,     0.02,2,     2.61,2
    49RY9301_1,  PR02,RY8355,  2,     25,     25,2,19930131,0659,  7.0378, 137.0112, 4225,   3860.0,   1.5220,  34.6860,2,  34.6780,2,    157.0,2,    36.40,2,     0.02,2,     2.53,2
    49RY9301_1,  PR02,RY8356,  1,      1,      1,2,19930131,1406,  6.0067, 136.9922, 4214,      0.0,  28.2530,  34.2970,2,-999.0000,9,    201.0,2,     0.10,2,     0.00,2,     0.01,2
    49RY9301_1,  PR02,RY8356,  1,      2,      2,2,19930131,1406,  6.0067, 136.9922, 4214,     10.0,  27.8810,  34.2750,2,-999.0000,9,    201.0,2,     0.10,2,     0.00,2,     0.02,2
    49RY9301_1,  PR02,RY8356,  1,      3,      3,2,19930131,1406,  6.0067, 136.9922, 4214,     25.0,  27.8080,  34.2750,2,-999.0000,9,    201.0,2,     0.10,2,     0.00,2,     0.01,2
    49RY9301_1,  PR02,RY8356,  1,      4,      4,2,19930131,1406,  6.0067, 136.9922, 4214,     50.0,  27.7230,  34.2710,2,-999.0000,9,    202.0,2,     0.10,2,     0.00,2,     0.02,2
    49RY9301_1,  PR02,RY8356,  1,      5,      5,2,19930131,1406,  6.0067, 136.9922, 4214,     75.0,  27.3870,  34.3700,2,-999.0000,9,    199.0,2,     0.10,2,     0.00,2,     0.03,2
    49RY9301_1,  PR02,RY8356,  1,      6,      6,2,19930131,1406,  6.0067, 136.9922, 4214,    100.0,  23.6020,  34.8400,2,-999.0000,9,    190.0,2,     0.40,2,     0.03,2,     0.14,2
    49RY9301_1,  PR02,RY8356,  1,      7,      7,2,19930131,1406,  6.0067, 136.9922, 4214,    126.0,  18.2400,  34.6520,2,-999.0000,9,    153.0,2,     9.10,2,     0.09,2,     0.73,2
    49RY9301_1,  PR02,RY8356,  1,      8,      8,2,19930131,1406,  6.0067, 136.9922, 4214,    152.0,  15.0730,  34.6020,2,-999.0000,9,    151.0,2,    13.10,2,     0.02,2,     0.99,2
    49RY9301_1,  PR02,RY8356,  1,      9,      9,2,19930131,1406,  6.0067, 136.9922, 4214,    176.0,  12.2240,  34.4930,2,-999.0000,9,    131.0,2,    19.90,2,     0.00,2,     1.46,2
    49RY9301_1,  PR02,RY8356,  1,     10,     10,2,19930131,1406,  6.0067, 136.9922, 4214,    201.0,  11.4010,  34.4710,2,-999.0000,9,    122.0,2,    22.20,2,     0.00,2,     1.62,2
    49RY9301_1,  PR02,RY8356,  1,     11,     11,2,19930131,1406,  6.0067, 136.9922, 4214,    251.0,   9.8100,  34.5400,2,-999.0000,9,     83.0,2,    29.30,2,     0.00,2,     2.11,2
    49RY9301_1,  PR02,RY8356,  1,     12,     12,2,19930131,1406,  6.0067, 136.9922, 4214,    301.0,   9.3380,  34.6070,2,-999.0000,9,     56.0,2,    33.20,2,     0.01,2,     2.38,2
    49RY9301_1,  PR02,RY8356,  1,     13,     13,2,19930131,1406,  6.0067, 136.9922, 4214,    402.0,   8.3600,  34.5920,2,-999.0000,9,     68.0,2,    34.20,2,     0.00,2,     2.42,2
    49RY9301_1,  PR02,RY8356,  2,     14,     14,2,19930131,1541,  6.0360, 137.0062, 4378,    503.0,   7.5730,  34.5700,2,-999.0000,9,     83.0,2,    34.20,2,     0.00,2,     2.44,2
    49RY9301_1,  PR02,RY8356,  2,     15,     15,2,19930131,1541,  6.0360, 137.0062, 4378,    605.0,   7.0330,  34.5490,2,-999.0000,9,     94.0,2,    34.30,2,     0.00,2,     2.42,2
    49RY9301_1,  PR02,RY8356,  2,     16,     16,2,19930131,1541,  6.0360, 137.0062, 4378,    704.0,   6.3060,  34.5380,2,-999.0000,9,     86.0,2,    36.30,2,     0.00,2,     2.57,2
    49RY9301_1,  PR02,RY8356,  2,     17,     17,2,19930131,1541,  6.0360, 137.0062, 4378,    806.0,   5.7470,  34.5320,2,-999.0000,9,     92.0,2,    36.80,2,     0.00,2,     2.59,2
    49RY9301_1,  PR02,RY8356,  2,     18,     18,2,19930131,1541,  6.0360, 137.0062, 4378,    907.0,   5.1850,  34.5330,2,-999.0000,9,     91.0,2,    37.70,2,     0.00,2,     2.68,2
    49RY9301_1,  PR02,RY8356,  2,     19,     19,2,19930131,1541,  6.0360, 137.0062, 4378,   1009.0,   4.7340,  34.5420,2,-999.0000,9,     89.0,2,    38.10,2,     0.00,2,     2.69,2
    49RY9301_1,  PR02,RY8356,  2,     20,     20,2,19930131,1541,  6.0360, 137.0062, 4378,   1262.0,   3.7190,  34.5740,2,-999.0000,9,     97.0,2,    39.00,2,     0.01,2,     2.73,2
    49RY9301_1,  PR02,RY8356,  2,     21,     21,2,19930131,1541,  6.0360, 137.0062, 4378,   1513.0,   3.0360,  34.5960,2,-999.0000,9,    103.0,2,    39.00,2,     0.00,2,     2.76,2
    49RY9301_1,  PR02,RY8356,  2,     22,     22,2,19930131,1541,  6.0360, 137.0062, 4378,   2022.0,   2.1800,  34.6380,2,-999.0000,9,    116.0,2,    38.60,2,     0.00,2,     2.70,2
    49RY9301_1,  PR02,RY8356,  2,     23,     23,2,19930131,1541,  6.0360, 137.0062, 4378,   2531.0,   1.8230,  34.6610,2,-999.0000,9,    131.0,2,    37.80,2,     0.00,2,     2.61,2
    49RY9301_1,  PR02,RY8356,  2,     24,     24,2,19930131,1541,  6.0360, 137.0062, 4378,   3040.0,   1.6090,  34.6740,2,-999.0000,9,    141.0,2,    37.10,2,     0.00,2,     2.54,2
    49RY9301_1,  PR02,RY8356,  2,     25,     25,2,19930131,1541,  6.0360, 137.0062, 4378,   4068.0,   1.5210,  34.6880,2,-999.0000,9,    157.0,2,    36.30,2,     0.00,2,     2.48,2
    49RY9301_1,  PR02,RY8357,  1,      1,      1,2,19930131,2325,  4.9958, 137.0022, 5034,      3.0,  28.0340,  34.3190,2,-999.0000,9,    201.0,2,     0.60,2,     0.07,2,     0.00,2
    49RY9301_1,  PR02,RY8357,  1,      2,      2,2,19930131,2325,  4.9958, 137.0022, 5034,     10.0,  27.7860,  34.2930,2,-999.0000,9,    200.0,2,     0.30,2,     0.01,2,     0.00,2
    49RY9301_1,  PR02,RY8357,  1,      3,      3,2,19930131,2325,  4.9958, 137.0022, 5034,     24.0,  27.7040,  34.2910,2,-999.0000,9,    201.0,2,     0.40,2,     0.00,2,     0.00,2
    49RY9301_1,  PR02,RY8357,  1,      4,      4,2,19930131,2325,  4.9958, 137.0022, 5034,     50.0,  26.2420,  34.5380,2,-999.0000,9,    201.0,2,     0.20,2,     0.01,2,     0.02,2
    49RY9301_1,  PR02,RY8357,  1,      5,      5,2,19930131,2325,  4.9958, 137.0022, 5034,     76.0,  23.1020,  34.7270,2,-999.0000,9,    165.0,2,     4.00,2,     0.13,2,     0.34,2
    49RY9301_1,  PR02,RY8357,  1,      6,      6,2,19930131,2325,  4.9958, 137.0022, 5034,     99.0,  21.9920,  34.7260,2,-999.0000,9,    161.0,2,     6.60,2,     0.08,2,     0.49,2
    49RY9301_1,  PR02,RY8357,  1,      7,      7,2,19930131,2325,  4.9958, 137.0022, 5034,    125.0,  20.5330,  34.6860,2,-999.0000,9,    156.0,2,     8.70,2,     0.06,2,     0.64,2
    49RY9301_1,  PR02,RY8357,  1,      8,      8,2,19930131,2325,  4.9958, 137.0022, 5034,    149.0,  19.3400,  34.7780,2,-999.0000,9,    164.0,2,     7.40,2,     0.12,2,     0.58,2
    49RY9301_1,  PR02,RY8357,  1,      9,      9,2,19930131,2325,  4.9958, 137.0022, 5034,    175.0,  16.8380,  34.6950,2,-999.0000,9,    159.0,2,    10.20,2,     0.04,2,     0.71,2
    49RY9301_1,  PR02,RY8357,  1,     10,     10,2,19930131,2325,  4.9958, 137.0022, 5034,    201.0,  13.3740,  34.5370,2,-999.0000,9,    158.0,2,    10.10,2,     0.04,2,     0.75,2
    49RY9301_1,  PR02,RY8357,  1,     11,     11,2,19930131,2325,  4.9958, 137.0022, 5034,    303.0,   9.1280,  34.5480,2,-999.0000,9,     76.0,2,    31.10,2,     0.02,2,     2.23,2
    49RY9301_1,  PR02,RY8357,  1,     12,     12,2,19930131,2325,  4.9958, 137.0022, 5034,    401.0,   8.1050,  34.5870,2,-999.0000,9,     73.0,2,    34.20,2,     0.01,2,     2.42,2
    49RY9301_1,  PR02,RY8357,  1,     13,     13,2,19930131,2325,  4.9958, 137.0022, 5034,    505.0,   7.1820,  34.5560,2,-999.0000,9,     81.0,2,    35.10,2,     0.00,2,     2.49,2
    49RY9301_1,  PR02,RY8357,  2,     14,     14,2,19930201,0106,  5.0338, 137.0180, 4465,    606.0,   6.4550,  34.5410,2,  34.5410,2,     98.0,2,    34.90,2,     0.00,2,     2.47,2
    49RY9301_1,  PR02,RY8357,  2,     15,     15,2,19930201,0106,  5.0338, 137.0180, 4465,    705.0,   5.7930,  34.5260,2,  34.5320,2,     96.0,2,    36.50,2,     0.01,2,     2.56,2
    49RY9301_1,  PR02,RY8357,  2,     16,     16,2,19930201,0106,  5.0338, 137.0180, 4465,    808.0,   5.2220,  34.5330,2,  34.5330,2,     93.0,2,    37.10,2,     0.00,2,     2.57,2
    49RY9301_1,  PR02,RY8357,  2,     17,     17,2,19930201,0106,  5.0338, 137.0180, 4465,    908.0,   4.8580,  34.5470,2,  34.5440,2,     92.0,2,    37.60,2,     0.00,2,     2.65,2
    49RY9301_1,  PR02,RY8357,  2,     18,     18,2,19930201,0106,  5.0338, 137.0180, 4465,   1008.0,   4.4660,  34.5550,2,  34.5710,2,     96.0,2,    37.70,2,     0.00,2,     2.67,2
    49RY9301_1,  PR02,RY8357,  2,     19,     19,2,19930201,0106,  5.0338, 137.0180, 4465,   1261.0,   3.6420,  34.5760,2,  34.6000,2,     98.0,2,    38.20,2,     0.00,2,     2.70,2
    49RY9301_1,  PR02,RY8357,  2,     20,     20,2,19930201,0106,  5.0338, 137.0180, 4465,   1517.0,   2.8910,  34.6040,2,  34.6320,2,    104.0,2,    38.50,2,     0.01,2,     2.71,2
    49RY9301_1,  PR02,RY8357,  2,     21,     21,2,19930201,0106,  5.0338, 137.0180, 4465,   2023.0,   2.1970,  34.6380,2,  34.6530,2,    119.0,2,    38.10,2,     0.02,2,     2.67,2
    49RY9301_1,  PR02,RY8357,  2,     22,     22,2,19930201,0106,  5.0338, 137.0180, 4465,   2531.0,   1.7870,  34.6620,2,-999.0000,9,    135.0,2,    37.00,2,     0.01,2,     2.57,2
    49RY9301_1,  PR02,RY8357,  2,     23,     23,2,19930201,0106,  5.0338, 137.0180, 4465,   3039.0,   1.6030,  34.6750,2,  34.6710,2,    148.0,2,    36.20,2,     0.01,2,     2.49,2
    49RY9301_1,  PR02,RY8357,  2,     25,     25,2,19930201,0106,  5.0338, 137.0180, 4465,   4063.0,   1.5210,  34.6880,2,  34.6840,2,    160.0,2,    35.50,2,     0.01,2,     2.42,2
    49RY9301_1,  PR02,RY8357,  2,     24,     24,2,19930201,0106,  5.0338, 137.0180, 4465,   4166.0,   1.5230,  34.6890,2,-999.0000,9,    155.0,2,    35.40,2,     0.01,2,     2.44,2
    49RY9301_1,  PR02,RY8358,  1,      1,      1,2,19930201,0847,  4.0010, 137.0022, 4685,      2.0,  28.7770,  34.3070,2,-999.0000,9,    200.0,2,     0.10,2,     0.00,2,     0.06,2
    49RY9301_1,  PR02,RY8358,  1,      2,      2,2,19930201,0847,  4.0010, 137.0022, 4685,     14.0,  27.8630,  34.2960,2,-999.0000,9,    203.0,2,     0.10,2,     0.00,2,     0.06,2
    49RY9301_1,  PR02,RY8358,  1,      3,      3,2,19930201,0847,  4.0010, 137.0022, 4685,     26.0,  27.7020,  34.2880,2,-999.0000,9,    202.0,2,     0.00,2,     0.00,2,     0.06,2
    49RY9301_1,  PR02,RY8358,  1,      4,      4,2,19930201,0847,  4.0010, 137.0022, 4685,     50.0,  25.7810,  34.5750,2,-999.0000,9,    189.0,2,     1.70,2,     0.14,2,     0.21,2
    49RY9301_1,  PR02,RY8358,  1,      5,      5,2,19930201,0847,  4.0010, 137.0022, 4685,     75.0,  23.4160,  34.9460,2,-999.0000,9,    162.0,2,     5.80,2,     0.05,2,     0.49,2
    49RY9301_1,  PR02,RY8358,  1,      6,      6,2,19930201,0847,  4.0010, 137.0022, 4685,    101.0,  23.0230,  34.9830,2,-999.0000,9,    157.0,2,     6.30,2,     0.03,2,     0.54,2
    49RY9301_1,  PR02,RY8358,  1,      7,      7,2,19930201,0847,  4.0010, 137.0022, 4685,    126.0,  21.3000,  35.2310,2,-999.0000,9,    148.0,2,     8.20,2,     0.02,2,     0.68,2
    49RY9301_1,  PR02,RY8358,  1,      8,      8,2,19930201,0847,  4.0010, 137.0022, 4685,    150.0,  20.4750,  35.3060,2,-999.0000,9,    148.0,2,     8.90,2,     0.01,2,     0.74,2
    49RY9301_1,  PR02,RY8358,  1,      9,      9,2,19930201,0847,  4.0010, 137.0022, 4685,    175.0,  20.3220,  35.3170,2,-999.0000,9,    148.0,2,     9.10,2,     0.01,2,     0.76,2
    49RY9301_1,  PR02,RY8358,  1,     10,     10,2,19930201,0847,  4.0010, 137.0022, 4685,    201.0,  19.1560,  35.1830,2,-999.0000,9,    147.0,2,    10.60,2,     0.01,2,     0.84,2
    49RY9301_1,  PR02,RY8358,  1,     11,     11,2,19930201,0847,  4.0010, 137.0022, 4685,    251.0,  14.1670,  34.5550,2,-999.0000,9,    148.0,2,    15.40,2,     0.01,2,     1.15,2
    49RY9301_1,  PR02,RY8358,  1,     12,     12,2,19930201,0847,  4.0010, 137.0022, 4685,    300.0,  10.6590,  34.4620,2,-999.0000,9,    119.0,2,    24.10,2,     0.00,2,     1.75,2
    49RY9301_1,  PR02,RY8358,  1,     13,     13,2,19930201,0847,  4.0010, 137.0022, 4685,    404.0,   8.3590,  34.5570,2,-999.0000,9,     73.0,2,    33.30,2,     0.00,2,     2.37,2
    49RY9301_1,  PR02,RY8358,  2,     14,     14,2,19930201,1029,  4.0135, 137.0055, 4669,    504.0,   7.2900,  34.5400,2,-999.0000,9,    108.0,2,    32.60,2,     0.00,2,     2.30,2
    49RY9301_1,  PR02,RY8358,  2,     15,     15,2,19930201,1029,  4.0135, 137.0055, 4669,    604.0,   6.6290,  34.5390,2,-999.0000,9,     98.0,2,    35.00,2,     0.00,2,     2.48,2
    49RY9301_1,  PR02,RY8358,  2,     16,     16,2,19930201,1029,  4.0135, 137.0055, 4669,    705.0,   5.9080,  34.5300,2,-999.0000,9,     98.0,2,    36.50,2,     0.00,2,     2.58,2
    49RY9301_1,  PR02,RY8358,  2,     17,     17,2,19930201,1029,  4.0135, 137.0055, 4669,    806.0,   5.3850,  34.5370,2,-999.0000,9,     95.0,2,    37.20,2,     0.00,2,     2.66,2
    49RY9301_1,  PR02,RY8358,  2,     18,     18,2,19930201,1029,  4.0135, 137.0055, 4669,    907.0,   4.9110,  34.5450,2,-999.0000,9,     95.0,2,    38.10,2,     0.00,2,     2.72,2
    49RY9301_1,  PR02,RY8358,  2,     19,     19,2,19930201,1029,  4.0135, 137.0055, 4669,   1008.0,   4.4460,  34.5560,2,-999.0000,9,     96.0,2,    38.10,2,     0.00,2,     2.72,2
    49RY9301_1,  PR02,RY8358,  2,     20,     20,2,19930201,1029,  4.0135, 137.0055, 4669,   1261.0,   3.6440,  34.5770,2,-999.0000,9,    101.0,2,    38.60,2,     0.00,2,     2.76,2
    49RY9301_1,  PR02,RY8358,  2,     21,     21,2,19930201,1029,  4.0135, 137.0055, 4669,   1514.0,   2.9450,  34.6030,2,-999.0000,9,    106.0,2,    38.60,2,     0.00,2,     2.76,2
    49RY9301_1,  PR02,RY8358,  2,     22,     22,2,19930201,1029,  4.0135, 137.0055, 4669,   2023.0,   2.1440,  34.6410,2,-999.0000,9,    121.0,2,    38.10,2,     0.00,2,     2.71,2
    49RY9301_1,  PR02,RY8358,  2,     23,     23,2,19930201,1029,  4.0135, 137.0055, 4669,   2531.0,   1.7710,  34.6630,2,-999.0000,9,    140.0,2,    37.10,2,     0.00,2,     2.60,2
    49RY9301_1,  PR02,RY8358,  2,     24,     24,2,19930201,1029,  4.0135, 137.0055, 4669,   3041.0,   1.5820,  34.6750,2,-999.0000,9,    149.0,2,    36.30,2,     0.00,2,     2.54,2
    49RY9301_1,  PR02,RY8358,  2,     25,     25,2,19930201,1029,  4.0135, 137.0055, 4669,   4396.0,   1.5120,  34.6910,2,-999.0000,9,    165.0,2,    35.30,2,     0.00,2,     2.47,2