BOTTLE,20211215CCHSIOENA
EXPOCODE,SECT_ID,STNNBR,CASTNO,SAMPNO,BTLNBR,BTLNBR_FLAG_W,DATE,TIME,LATITUDE,LONGITUDE,DEPTH,CTDPRS,CTDTMP,CTDSAL,CTDSAL_FLAG_W,SALNTY,SALNTY_FLAG_W,OXYGEN,OXYGEN_FLAG_W,NITRAT,NITRAT_FLAG_W,NITRIT,NITRIT_FLAG_W,PHSPHT,PHSPHT_FLAG_W
,,,,,,,,,,,,DBAR,ITS-90,PSS-78,,PSS-78,,UMOL/KG,,UMOL/KG,,UMOL/KG,,UMOL/KG,
    49RY9301_1,  PR02,RY8347,  1,      1,      1,2,19930127,1302, 14.9922, 136.9968, 5166,      2.0,  26.9930,  34.6700,2,-999.0000,9,    203.0,2,     0.00,2,     0.01,2,     0.09,2
    49RY9301_1,  PR02,RY8347,  1,      2,      2,2,19930127,1302, 14.9922, 136.9968, 5166,     10.0,  27.0000,  34.6700,2,-999.0000,9,    203.0,2,     0.00,2,     0.00,2,     0.09,2
    49RY9301_1,  PR02,RY8347,  1,      3,      3,2,19930127,1302, 14.9922, 136.9968, 5166,     25.0,  27.0060,  34.6690,2,-999.0000,9,    203.0,2,     0.00,2,     0.00,2,     0.10,2
    49RY9301_1,  PR02,RY8347,  1,      4,      4,2,19930127,1302, 14.9922, 136.9968, 5166,     51.0,  26.9430,  34.6680,2,-999.0000,9,    203.0,2,     0.00,2,     0.00,2,     0.10,2
    49RY9301_1,  PR02,RY8347,  1,      5,      5,2,19930127,1302, 14.9922, 136.9968, 5166,     75.0,  26.9240,  34.6680,2,-999.0000,9,    203.0,2,     0.00,2,     0.00,2,     0.08,2
    49RY9301_1,  PR02,RY8347,  1,      6,      6,2,19930127,1302, 14.9922, 136.9968, 5166,    100.0,  26.9220,  34.6730,2,-999.0000,9,    203.0,2,     0.00,2,     0.00,2,     0.09,2
    49RY9301_1,  PR02,RY8347,  1,      7,      7,2,19930127,1302, 14.9922, 136.9968, 5166,    126.0,  26.7890,  34.7090,2,-999.0000,9,    203.0,2,     0.00,2,     0.00,2,     0.09,2
    49RY9301_1,  PR02,RY8347,  1,      8,      8,2,19930127,1302, 14.9922, 136.9968, 5166,    152.0,  23.8740,  34.9830,2,-999.0000,9,    191.0,2,     0.30,2,     0.19,2,     0.09,2
    49RY9301_1,  PR02,RY8347,  1,      9,      9,2,19930127,1302, 14.9922, 136.9968, 5166,    177.0,  21.7620,  34.9630,2,-999.0000,9,    179.0,2,     1.90,2,     0.10,2,     0.26,2
    49RY9301_1,  PR02,RY8347,  1,     10,     10,2,19930127,1302, 14.9922, 136.9968, 5166,    202.0,  19.2020,  34.8610,2,-999.0000,9,    167.0,2,     5.50,2,     0.02,2,     0.53,2
    49RY9301_1,  PR02,RY8347,  1,     11,     11,2,19930127,1302, 14.9922, 136.9968, 5166,    300.0,  13.3090,  34.4650,2,-999.0000,9,    171.0,2,    13.40,2,     0.02,2,     1.00,2
    49RY9301_1,  PR02,RY8347,  1,     12,     12,2,19930127,1302, 14.9922, 136.9968, 5166,    404.0,   8.9410,  34.2330,2,-999.0000,9,    129.0,2,    25.60,2,     0.00,2,     1.94,2
    49RY9301_1,  PR02,RY8347,  1,     13,     13,2,19930127,1302, 14.9922, 136.9968, 5166,    503.0,   7.4930,  34.3420,2,-999.0000,9,     80.0,2,    33.50,2,     0.00,2,     2.49,2
    49RY9301_1,  PR02,RY8347,  2,     14,     14,2,19930127,1525, 14.9905, 136.9678, 5511,    604.0,   6.5190,  34.4400,2,-999.0000,9,     69.0,2,    36.30,2,     0.00,2,     2.73,2
    49RY9301_1,  PR02,RY8347,  2,     15,     15,2,19930127,1525, 14.9905, 136.9678, 5511,    705.0,   5.7960,  34.4620,2,-999.0000,9,     74.0,2,    37.60,2,     0.00,2,     2.78,2
    49RY9301_1,  PR02,RY8347,  2,     16,     16,2,19930127,1525, 14.9905, 136.9678, 5511,    807.0,   5.3180,  34.4910,2,-999.0000,9,     79.0,2,    38.30,2,     0.00,2,     2.82,2
    49RY9301_1,  PR02,RY8347,  2,     17,     17,2,19930127,1525, 14.9905, 136.9678, 5511,    907.0,   4.7720,  34.5110,2,-999.0000,9,     83.0,2,    38.40,2,     0.00,2,     2.85,2
    49RY9301_1,  PR02,RY8347,  2,     18,     18,2,19930127,1525, 14.9905, 136.9678, 5511,   1009.0,   4.2430,  34.5280,2,-999.0000,9,     87.0,2,    38.50,2,     0.00,2,     2.85,2
    49RY9301_1,  PR02,RY8347,  2,     19,     19,2,19930127,1525, 14.9905, 136.9678, 5511,   1262.0,   3.4350,  34.5590,2,-999.0000,9,     96.0,2,    38.90,2,     0.00,2,     2.87,2
    49RY9301_1,  PR02,RY8347,  2,     20,     20,2,19930127,1525, 14.9905, 136.9678, 5511,   1516.0,   2.7540,  34.5850,2,-999.0000,9,    101.0,2,    38.80,2,     0.01,2,     2.82,2
    49RY9301_1,  PR02,RY8347,  2,     21,     21,2,19930127,1525, 14.9905, 136.9678, 5511,   2022.0,   2.0650,  34.6310,2,-999.0000,9,    118.0,2,    38.50,2,     0.00,2,     2.79,2
    49RY9301_1,  PR02,RY8347,  2,     22,     22,2,19930127,1525, 14.9905, 136.9678, 5511,   2531.0,   1.7530,  34.6570,2,-999.0000,9,    132.0,2,    37.70,2,     0.00,2,     2.70,2
    49RY9301_1,  PR02,RY8347,  2,     23,     23,2,19930127,1525, 14.9905, 136.9678, 5511,   3040.0,   1.6230,  34.6710,2,-999.0000,9,    141.0,2,    36.80,2,     0.00,2,     2.64,2
    49RY9301_1,  PR02,RY8347,  2,     24,     24,2,19930127,1525, 14.9905, 136.9678, 5511,   4065.0,   1.5110,  34.6860,2,-999.0000,9,    158.0,2,    36.00,2,     0.01,2,     2.56,2
    49RY9301_1,  PR02,RY8347,  2,     25,     25,2,19930127,1525, 14.9905, 136.9678, 5511,   5094.0,   1.5820,  34.6890,2,-999.0000,9,    163.0,2,    35.70,2,     0.01,2,     2.52,2
    49RY9301_1,  PR02,RY8348,  1,      1,      1,2,19930127,2212, 14.0073, 136.9955, 4724,      3.0,  27.1470,  34.5300,2,-999.0000,9,    202.0,2,     0.10,2,     0.00,2,     0.08,2
    49RY9301_1,  PR02,RY8348,  1,      2,      2,2,19930127,2212, 14.0073, 136.9955, 4724,     10.0,  27.1560,  34.5300,2,-999.0000,9,    202.0,2,     0.10,2,     0.00,2,     0.09,2
    49RY9301_1,  PR02,RY8348,  1,      3,      3,2,19930127,2212, 14.0073, 136.9955, 4724,     26.0,  27.1570,  34.5320,2,-999.0000,9,    202.0,2,     0.10,2,     0.00,2,     0.07,2
    49RY9301_1,  PR02,RY8348,  1,      4,      4,2,19930127,2212, 14.0073, 136.9955, 4724,     50.0,  27.1120,  34.5730,2,-999.0000,9,    201.0,2,     0.10,2,     0.00,2,     0.08,2
    49RY9301_1,  PR02,RY8348,  1,      5,      5,2,19930127,2212, 14.0073, 136.9955, 4724,     77.0,  27.0830,  34.5920,2,-999.0000,9,    202.0,2,     0.10,2,     0.00,2,     0.07,2
    49RY9301_1,  PR02,RY8348,  1,      6,      6,2,19930127,2212, 14.0073, 136.9955, 4724,     99.0,  27.0440,  34.6170,2,-999.0000,9,    201.0,2,     0.10,2,     0.00,2,     0.09,2
    49RY9301_1,  PR02,RY8348,  1,      7,      7,2,19930127,2212, 14.0073, 136.9955, 4724,    125.0,  26.3890,  34.6620,2,-999.0000,9,    198.0,2,     0.10,2,     0.00,2,     0.07,2
    49RY9301_1,  PR02,RY8348,  1,      8,      8,2,19930127,2212, 14.0073, 136.9955, 4724,    150.0,  22.7470,  34.9860,2,-999.0000,9,    183.0,2,     1.10,2,     0.29,2,     0.22,2
    49RY9301_1,  PR02,RY8348,  1,      9,      9,2,19930127,2212, 14.0073, 136.9955, 4724,    175.0,  20.3440,  34.9590,2,-999.0000,9,    173.0,2,     3.60,2,     0.02,2,     0.39,2
    49RY9301_1,  PR02,RY8348,  1,     10,     10,2,19930127,2212, 14.0073, 136.9955, 4724,    201.0,  17.8630,  34.8300,2,-999.0000,9,    179.0,2,     5.70,2,     0.01,2,     0.47,2
    49RY9301_1,  PR02,RY8348,  1,     11,     11,2,19930127,2212, 14.0073, 136.9955, 4724,    302.0,  11.9260,  34.3710,2,-999.0000,9,    163.0,2,    16.10,2,     0.00,2,     1.21,2
    49RY9301_1,  PR02,RY8348,  1,     12,     12,2,19930127,2212, 14.0073, 136.9955, 4724,    400.0,   8.3690,  34.3040,2,-999.0000,9,     99.0,2,    29.40,2,     0.00,2,     2.19,2
    49RY9301_1,  PR02,RY8348,  1,     13,     13,2,19930127,2212, 14.0073, 136.9955, 4724,    502.0,   6.9930,  34.4030,2,-999.0000,9,     70.0,2,    35.00,2,     0.00,2,     2.55,2
    49RY9301_1,  PR02,RY8348,  2,     14,     14,2,19930127,2341, 14.0130, 133.9868, 4904,    604.0,   5.9980,  34.4640,2,-999.0000,9,     74.0,2,    36.80,2,     0.00,2,     2.70,2
    49RY9301_1,  PR02,RY8348,  2,     15,     15,2,19930127,2341, 14.0130, 133.9868, 4904,    704.0,   5.5010,  34.4890,2,-999.0000,9,     77.0,2,    37.60,2,     0.00,2,     2.74,2
    49RY9301_1,  PR02,RY8348,  2,     16,     16,2,19930127,2341, 14.0130, 133.9868, 4904,    807.0,   5.0420,  34.5070,2,-999.0000,9,     81.0,2,    38.00,2,     0.00,2,     2.77,2
    49RY9301_1,  PR02,RY8348,  2,     17,     17,2,19930127,2341, 14.0130, 133.9868, 4904,    907.0,   4.6620,  34.5230,2,-999.0000,9,     82.0,2,    38.10,2,     0.00,2,     2.78,2
    49RY9301_1,  PR02,RY8348,  2,     18,     18,2,19930127,2341, 14.0130, 133.9868, 4904,   1007.0,   4.1760,  34.5380,2,-999.0000,9,     88.0,2,    38.60,2,     0.00,2,     2.79,2
    49RY9301_1,  PR02,RY8348,  2,     19,     19,2,19930127,2341, 14.0130, 133.9868, 4904,   1259.0,   3.3650,  34.5650,2,-999.0000,9,     95.0,2,    38.30,2,     0.00,2,     2.80,2
    49RY9301_1,  PR02,RY8348,  2,     20,     20,2,19930127,2341, 14.0130, 133.9868, 4904,   1515.0,   2.7980,  34.5880,2,-999.0000,9,    105.0,2,    38.70,2,     0.01,2,     2.78,2
    49RY9301_1,  PR02,RY8348,  2,     21,     21,2,19930127,2341, 14.0130, 133.9868, 4904,   2024.0,   2.1220,  34.6330,2,-999.0000,9,    123.0,2,    38.30,2,     0.00,2,     2.72,2
    49RY9301_1,  PR02,RY8348,  2,     22,     22,2,19930127,2341, 14.0130, 133.9868, 4904,   2533.0,   1.7820,  34.6560,2,-999.0000,9,    131.0,2,    37.50,2,     0.00,2,     2.66,2
    49RY9301_1,  PR02,RY8348,  2,     23,     23,2,19930127,2341, 14.0130, 133.9868, 4904,   3044.0,   1.6470,  34.6700,2,-999.0000,9,    145.0,2,    36.90,2,     0.00,2,     2.60,2
    49RY9301_1,  PR02,RY8348,  2,     24,     24,2,19930127,2341, 14.0130, 133.9868, 4904,   4067.0,   1.5030,  34.6870,2,-999.0000,9,    162.0,2,    35.70,2,     0.01,2,     2.50,2
    49RY9301_1,  PR02,RY8348,  2,     25,     25,2,19930127,2341, 14.0130, 133.9868, 4904,   4579.0,   1.5160,  34.6890,2,-999.0000,9,    167.0,2,    35.40,2,     0.01,2,     2.48,2
    49RY9301_1,  PR02,RY8349,  1,      1,      1,2,19930128,0645, 12.9867, 136.9907, 4811,      3.0,  27.4780,  34.5120,2,-999.0000,9,    200.0,2,     0.00,2,     0.01,2,     0.08,2
    49RY9301_1,  PR02,RY8349,  1,      2,      2,2,19930128,0645, 12.9867, 136.9907, 4811,     10.0,  27.2550,  34.4990,2,-999.0000,9,    201.0,2,     0.00,2,     0.00,2,     0.06,2
    49RY9301_1,  PR02,RY8349,  1,      3,      3,2,19930128,0645, 12.9867, 136.9907, 4811,     26.0,  27.2220,  34.5010,2,-999.0000,9,    201.0,2,     0.10,2,     0.01,2,     0.07,2
    49RY9301_1,  PR02,RY8349,  1,      4,      4,2,19930128,0645, 12.9867, 136.9907, 4811,     49.0,  27.2440,  34.5330,2,-999.0000,9,    201.0,2,     0.00,2,     0.00,2,     0.06,2
    49RY9301_1,  PR02,RY8349,  1,      5,      5,2,19930128,0645, 12.9867, 136.9907, 4811,     75.0,  27.2270,  34.5380,2,-999.0000,9,    201.0,2,     0.00,2,     0.00,2,     0.05,2
    49RY9301_1,  PR02,RY8349,  1,      6,      6,2,19930128,0645, 12.9867, 136.9907, 4811,    102.0,  27.0680,  34.6270,2,-999.0000,9,    200.0,2,     0.00,2,     0.00,2,     0.08,2
    49RY9301_1,  PR02,RY8349,  1,      7,      7,2,19930128,0645, 12.9867, 136.9907, 4811,    125.0,  24.3320,  35.0250,2,-999.0000,9,    192.0,2,     0.20,2,     0.14,2,     0.13,2
    49RY9301_1,  PR02,RY8349,  1,      8,      8,2,19930128,0645, 12.9867, 136.9907, 4811,    151.0,  22.6130,  35.0300,2,-999.0000,9,    183.0,2,     1.30,2,     0.24,2,     0.23,2
    49RY9301_1,  PR02,RY8349,  1,      9,      9,2,19930128,0645, 12.9867, 136.9907, 4811,    176.0,  19.0640,  34.8480,2,-999.0000,9,    167.0,2,     5.60,2,     0.02,2,     0.52,2
    49RY9301_1,  PR02,RY8349,  1,     10,     10,2,19930128,0645, 12.9867, 136.9907, 4811,    201.0,  17.6420,  34.7870,2,-999.0000,9,    176.0,2,     6.20,2,     0.01,2,     0.55,2
    49RY9301_1,  PR02,RY8349,  1,     11,     11,2,19930128,0645, 12.9867, 136.9907, 4811,    252.0,  13.9940,  34.5240,2,-999.0000,9,    169.0,2,    12.00,2,     0.01,2,     0.95,2
    49RY9301_1,  PR02,RY8349,  1,     12,     12,2,19930128,0645, 12.9867, 136.9907, 4811,    302.0,  10.8570,  34.3460,2,-999.0000,9,    144.0,2,    20.00,2,     0.00,2,     1.55,2
    49RY9301_1,  PR02,RY8349,  1,     13,     13,2,19930128,0645, 12.9867, 136.9907, 4811,    402.0,   8.1610,  34.3570,2,-999.0000,9,     84.0,2,    31.10,2,     0.01,2,     2.35,2
    49RY9301_1,  PR02,RY8349,  2,     14,     14,2,19930128,0907, 12.9717, 136.9717, 5022,    504.0,   7.2600,  34.3950,2,-999.0000,9,     74.0,2,    34.00,2,     0.00,2,     2.58,2
    49RY9301_1,  PR02,RY8349,  2,     15,     15,2,19930128,0907, 12.9717, 136.9717, 5022,    605.0,   6.3160,  34.4370,2,-999.0000,9,     79.0,2,    36.00,2,     0.01,2,     2.69,2
    49RY9301_1,  PR02,RY8349,  2,     16,     16,2,19930128,0907, 12.9717, 136.9717, 5022,    705.0,   5.5040,  34.4750,2,-999.0000,9,     84.0,2,    36.60,2,     0.02,2,     2.72,2
    49RY9301_1,  PR02,RY8349,  2,     17,     17,2,19930128,0907, 12.9717, 136.9717, 5022,    806.0,   5.0840,  34.4970,2,-999.0000,9,     90.0,2,    37.00,2,     0.01,2,     2.74,2
    49RY9301_1,  PR02,RY8349,  2,     18,     18,2,19930128,0907, 12.9717, 136.9717, 5022,    907.0,   4.6810,  34.5220,2,-999.0000,9,     93.0,2,    37.50,2,     0.00,2,     2.78,2
    49RY9301_1,  PR02,RY8349,  2,     19,     19,2,19930128,0907, 12.9717, 136.9717, 5022,   1008.0,   4.3660,  34.5380,2,-999.0000,9,     96.0,2,    37.80,2,     0.00,2,     2.79,2
    49RY9301_1,  PR02,RY8349,  2,     20,     20,2,19930128,0907, 12.9717, 136.9717, 5022,   1260.0,   3.5890,  34.5610,2,-999.0000,9,    105.0,2,    38.30,2,     0.00,2,     2.80,2
    49RY9301_1,  PR02,RY8349,  2,     21,     21,2,19930128,0907, 12.9717, 136.9717, 5022,   1514.0,   2.9140,  34.5890,2,-999.0000,9,    107.0,2,    38.40,2,     0.01,2,     2.82,2
    49RY9301_1,  PR02,RY8349,  2,     22,     22,2,19930128,0907, 12.9717, 136.9717, 5022,   2022.0,   2.1690,  34.6330,2,-999.0000,9,    122.0,2,    38.10,2,     0.03,2,     2.78,2
    49RY9301_1,  PR02,RY8349,  2,     23,     23,2,19930128,0907, 12.9717, 136.9717, 5022,   2531.0,   1.8190,  34.6570,2,-999.0000,9,   -999.0,5,  -999.00,5,  -999.00,5,  -999.00,5
    49RY9301_1,  PR02,RY8349,  2,     24,     24,2,19930128,0907, 12.9717, 136.9717, 5022,   3043.0,   1.6260,  34.6720,2,-999.0000,9,    149.0,2,    36.50,2,     0.03,2,     2.61,2
    49RY9301_1,  PR02,RY8349,  2,     25,     25,2,19930128,0907, 12.9717, 136.9717, 5022,   4685.0,   1.5400,  34.6900,2,-999.0000,9,    167.0,2,    35.30,2,     0.03,2,     2.52,2
    49RY9301_1,  PR02,RY8350,  1,      1,      1,2,19930129,0846, 12.0010, 136.9700, 4842,      3.0,  26.9670,  34.4990,2,-999.0000,9,    203.0,2,     0.00,2,     0.00,2,     0.01,2
    49RY9301_1,  PR02,RY8350,  1,      2,      2,2,19930129,0846, 12.0010, 136.9700, 4842,     10.0,  26.9730,  34.5000,2,  34.5010,2,    202.0,2,     0.00,2,     0.00,2,     0.01,2
    49RY9301_1,  PR02,RY8350,  1,      3,      3,2,19930129,0846, 12.0010, 136.9700, 4842,     26.0,  27.0180,  34.5520,2,-999.0000,9,    203.0,2,     0.00,2,     0.00,2,     0.01,2
    49RY9301_1,  PR02,RY8350,  1,      4,      4,2,19930129,0846, 12.0010, 136.9700, 4842,     51.0,  27.0170,  34.5520,2,  34.5560,2,    202.0,2,     0.00,2,     0.00,2,     0.03,2
    49RY9301_1,  PR02,RY8350,  1,      5,      5,2,19930129,0846, 12.0010, 136.9700, 4842,     75.0,  26.9890,  34.5620,2,-999.0000,9,    201.0,2,     0.00,2,     0.00,2,     0.03,2
    49RY9301_1,  PR02,RY8350,  1,      6,      6,2,19930129,0846, 12.0010, 136.9700, 4842,    100.0,  26.2130,  34.6560,2,  34.6480,2,    201.0,2,     0.00,2,     0.00,2,     0.05,2
    49RY9301_1,  PR02,RY8350,  1,      7,      7,2,19930129,0846, 12.0010, 136.9700, 4842,    127.0,  23.3830,  34.7780,2,-999.0000,9,    188.0,2,     1.10,2,     0.10,2,     0.23,2
    49RY9301_1,  PR02,RY8350,  1,      8,      8,2,19930129,0846, 12.0010, 136.9700, 4842,    150.0,  20.1970,  34.9060,2,  34.8930,2,    170.0,2,     4.20,2,     0.08,2,     0.41,2
    49RY9301_1,  PR02,RY8350,  1,      9,      9,2,19930129,0846, 12.0010, 136.9700, 4842,    176.0,  17.6240,  34.7660,2,-999.0000,9,    174.0,2,     6.40,2,     0.00,2,     0.53,2
    49RY9301_1,  PR02,RY8350,  1,     10,     10,2,19930129,0846, 12.0010, 136.9700, 4842,    202.0,  15.5210,  34.6360,2,  34.6400,2,    169.0,2,     9.80,2,     0.00,2,     0.73,2
    49RY9301_1,  PR02,RY8350,  1,     11,     11,2,19930129,0846, 12.0010, 136.9700, 4842,    252.0,  12.4560,  34.4920,2,  34.4910,2,    131.0,2,    19.10,2,     0.00,2,     1.39,2
    49RY9301_1,  PR02,RY8350,  1,     12,     12,2,19930129,0846, 12.0010, 136.9700, 4842,    300.0,  10.6640,  34.4730,2,  34.4700,2,    102.0,2,    25.20,2,     0.00,2,     1.84,2
    49RY9301_1,  PR02,RY8350,  1,     13,     13,2,19930129,0846, 12.0010, 136.9700, 4842,    403.0,   8.1420,  34.4240,2,  34.4270,2,     84.0,2,    32.40,2,     0.00,2,     2.31,2
    49RY9301_1,  PR02,RY8350,  2,     14,     14,2,19930129,1050, 11.9728, 136.9225, 4971,    504.0,   6.7480,  34.4490,2,  34.4410,2,     83.0,2,    34.80,2,     0.00,2,     2.52,2
    49RY9301_1,  PR02,RY8350,  2,     15,     15,2,19930129,1050, 11.9728, 136.9225, 4971,    604.0,   6.0990,  34.4760,2,  34.4730,2,     88.0,2,    36.00,2,     0.00,2,     2.58,2
    49RY9301_1,  PR02,RY8350,  2,     16,     16,2,19930129,1050, 11.9728, 136.9225, 4971,    706.0,   5.6920,  34.4940,2,  34.4910,2,     90.0,2,    36.70,2,     0.00,2,     2.64,2
    49RY9301_1,  PR02,RY8350,  2,     17,     17,2,19930129,1050, 11.9728, 136.9225, 4971,    809.0,   5.1840,  34.5140,2,  34.5110,2,     90.0,2,    37.20,2,     0.00,2,     2.67,2
    49RY9301_1,  PR02,RY8350,  2,     18,     18,2,19930129,1050, 11.9728, 136.9225, 4971,    910.0,   4.7470,  34.5270,2,  34.5200,2,     94.0,2,    38.00,2,     0.00,2,     2.72,2
    49RY9301_1,  PR02,RY8350,  2,     19,     19,2,19930129,1050, 11.9728, 136.9225, 4971,   1009.0,   4.3430,  34.5440,2,  34.5410,2,     94.0,2,    38.30,2,     0.00,2,     2.76,2
    49RY9301_1,  PR02,RY8350,  2,     20,     20,2,19930129,1050, 11.9728, 136.9225, 4971,   1261.0,   3.5670,  34.5630,2,  34.5590,2,    101.0,2,    38.50,2,     0.00,2,     2.77,2
    49RY9301_1,  PR02,RY8350,  2,     21,     21,2,19930129,1050, 11.9728, 136.9225, 4971,   1514.0,   2.9160,  34.5920,2,  34.5870,2,    104.0,2,    37.60,2,     0.00,2,     2.65,2
    49RY9301_1,  PR02,RY8350,  2,     22,     22,2,19930129,1050, 11.9728, 136.9225, 4971,   2023.0,   2.1520,  34.6340,2,  34.6280,2,    121.0,2,    38.70,2,     0.00,2,     2.77,2
    49RY9301_1,  PR02,RY8350,  2,     23,     23,2,19930129,1050, 11.9728, 136.9225, 4971,   2531.0,   1.8040,  34.6570,2,  34.6590,2,    134.0,2,    38.30,2,     0.01,2,     2.69,2
    49RY9301_1,  PR02,RY8350,  2,     24,     24,2,19930129,1050, 11.9728, 136.9225, 4971,   3040.0,   1.6480,  34.6690,2,  34.6610,2,    145.0,2,    36.70,2,     0.00,2,     2.58,2
    49RY9301_1,  PR02,RY8350,  2,     25,     25,2,19930129,1050, 11.9728, 136.9225, 4971,   4576.0,   1.5240,  34.6900,2,  34.6820,2,    167.0,2,    35.20,2,     0.01,2,     2.47,2