BOTTLE,20211215CCHSIOENA
EXPOCODE,SECT_ID,STNNBR,CASTNO,SAMPNO,BTLNBR,BTLNBR_FLAG_W,DATE,TIME,LATITUDE,LONGITUDE,DEPTH,CTDPRS,CTDTMP,CTDSAL,CTDSAL_FLAG_W,SALNTY,SALNTY_FLAG_W,OXYGEN,OXYGEN_FLAG_W,NITRAT,NITRAT_FLAG_W,NITRIT,NITRIT_FLAG_W,PHSPHT,PHSPHT_FLAG_W
,,,,,,,,,,,,DBAR,ITS-90,PSS-78,,PSS-78,,UMOL/KG,,UMOL/KG,,UMOL/KG,,UMOL/KG,
    49RY9301_1,  PR02,RY8339,  1,      1,      1,2,19930124,1656, 23.0112, 137.0082, 3287,      2.0,  25.1680,  34.9130,2,-999.0000,9,    206.0,2,     0.10,2,     0.00,2,     0.04,2
    49RY9301_1,  PR02,RY8339,  1,      2,      2,2,19930124,1656, 23.0112, 137.0082, 3287,     10.0,  25.1710,  34.9140,2,-999.0000,9,    205.0,2,     0.10,2,     0.00,2,     0.07,2
    49RY9301_1,  PR02,RY8339,  1,      3,      3,2,19930124,1656, 23.0112, 137.0082, 3287,     25.0,  25.1880,  34.9140,2,-999.0000,9,    205.0,2,     0.10,2,     0.00,2,     0.07,2
    49RY9301_1,  PR02,RY8339,  1,      4,      4,2,19930124,1656, 23.0112, 137.0082, 3287,     52.0,  25.1930,  34.9150,2,-999.0000,9,    204.0,2,     0.00,2,     0.00,2,     0.05,2
    49RY9301_1,  PR02,RY8339,  1,      5,      5,2,19930124,1656, 23.0112, 137.0082, 3287,     75.0,  25.1770,  34.9120,2,-999.0000,9,    205.0,2,     0.00,2,     0.00,2,     0.05,2
    49RY9301_1,  PR02,RY8339,  1,      6,      6,2,19930124,1656, 23.0112, 137.0082, 3287,    101.0,  25.1590,  34.9120,2,-999.0000,9,    205.0,2,     0.00,2,     0.00,2,     0.06,2
    49RY9301_1,  PR02,RY8339,  1,      7,      7,2,19930124,1656, 23.0112, 137.0082, 3287,    125.0,  23.9830,  35.0120,2,-999.0000,9,    198.0,2,     0.10,2,     0.13,2,     0.08,2
    49RY9301_1,  PR02,RY8339,  1,      8,      8,2,19930124,1656, 23.0112, 137.0082, 3287,    150.0,  20.9310,  34.9130,2,-999.0000,9,    201.0,2,     0.40,2,     0.07,2,     0.13,2
    49RY9301_1,  PR02,RY8339,  1,      9,      9,2,19930124,1656, 23.0112, 137.0082, 3287,    177.0,  19.5220,  34.8820,2,-999.0000,9,    198.0,2,     1.60,2,     0.01,2,     0.24,2
    49RY9301_1,  PR02,RY8339,  1,     10,     10,2,19930124,1656, 23.0112, 137.0082, 3287,    201.0,  18.9270,  34.8720,2,-999.0000,9,    199.0,2,     2.10,2,     0.00,2,     0.28,2
    49RY9301_1,  PR02,RY8339,  1,     11,     11,2,19930124,1656, 23.0112, 137.0082, 3287,    251.0,  17.6010,  34.8160,2,-999.0000,9,    198.0,2,     3.40,2,     0.00,2,     0.39,2
    49RY9301_1,  PR02,RY8339,  1,     12,     12,2,19930124,1656, 23.0112, 137.0082, 3287,    302.0,  16.8080,  34.7580,2,-999.0000,9,    200.0,2,     4.50,2,     0.00,2,     0.47,2
    49RY9301_1,  PR02,RY8339,  1,     13,     13,2,19930124,1656, 23.0112, 137.0082, 3287,    403.0,  14.1350,  34.5390,2,-999.0000,9,    187.0,2,     9.30,2,     0.00,2,     0.84,2
    49RY9301_1,  PR02,RY8339,  2,     14,     14,2,19930124,1826, 23.0355, 137.0202, 4331,    502.0,  11.5910,  34.3510,2,-999.0000,9,    179.0,2,    13.90,2,     0.00,2,     1.21,2
    49RY9301_1,  PR02,RY8339,  2,     15,     15,2,19930124,1826, 23.0355, 137.0202, 4331,    604.0,   8.8230,  34.1780,2,-999.0000,9,    153.0,2,    21.00,2,     0.00,2,     1.75,2
    49RY9301_1,  PR02,RY8339,  2,     16,     16,2,19930124,1826, 23.0355, 137.0202, 4331,    704.0,   6.6830,  34.1340,2,-999.0000,9,    111.0,2,    29.30,2,     0.00,2,     2.35,2
    49RY9301_1,  PR02,RY8339,  2,     17,     17,2,19930124,1826, 23.0355, 137.0202, 4331,    805.0,   5.3710,  34.2220,2,-999.0000,9,     71.0,2,    34.80,2,     0.00,2,     2.77,2
    49RY9301_1,  PR02,RY8339,  2,     18,     18,2,19930124,1826, 23.0355, 137.0202, 4331,    907.0,   4.8720,  34.3230,2,-999.0000,9,     60.0,2,    37.20,2,     0.01,2,     2.93,2
    49RY9301_1,  PR02,RY8339,  2,     19,     19,2,19930124,1826, 23.0355, 137.0202, 4331,   1009.0,   4.2690,  34.3720,2,-999.0000,9,     61.0,2,    37.60,2,     0.00,2,     2.98,2
    49RY9301_1,  PR02,RY8339,  2,     20,     20,2,19930124,1826, 23.0355, 137.0202, 4331,   1261.0,   3.1150,  34.4760,2,-999.0000,9,     67.0,2,    39.30,2,     0.00,2,     3.03,2
    49RY9301_1,  PR02,RY8339,  2,     21,     21,2,19930124,1826, 23.0355, 137.0202, 4331,   1515.0,   2.6540,  34.5290,2,-999.0000,9,     80.0,2,    38.50,2,     0.00,2,     2.96,2
    49RY9301_1,  PR02,RY8339,  2,     22,     22,2,19930124,1826, 23.0355, 137.0202, 4331,   2023.0,   2.0080,  34.6180,2,-999.0000,9,    115.0,2,    37.00,2,     0.00,2,     2.83,2
    49RY9301_1,  PR02,RY8339,  2,     23,     23,2,19930124,1826, 23.0355, 137.0202, 4331,   2530.0,   1.7680,  34.6510,2,-999.0000,9,    131.0,2,    36.30,2,     0.00,2,     2.76,2
    49RY9301_1,  PR02,RY8339,  2,     24,     24,2,19930124,1826, 23.0355, 137.0202, 4331,   3039.0,   1.6790,  34.6640,2,-999.0000,9,    140.0,2,    35.60,2,     0.00,2,     2.66,2
    49RY9301_1,  PR02,RY8339,  2,     25,     25,2,19930124,1826, 23.0355, 137.0202, 4331,   3555.0,   1.5830,  34.6780,2,-999.0000,9,    148.0,2,    35.10,2,     0.00,2,     2.55,2
    49RY9301_1,  PR02,RY8340,  1,      1,      1,2,19930125,0120, 21.9960, 136.9902, 4402,      3.0,  24.9320,  34.8040,2,-999.0000,9,    207.0,2,     0.10,2,     0.00,2,     0.05,2
    49RY9301_1,  PR02,RY8340,  1,      2,      2,2,19930125,0120, 21.9960, 136.9902, 4402,      9.0,  24.9510,  34.8550,2,  34.8700,2,    207.0,2,     0.20,2,     0.01,2,     0.03,2
    49RY9301_1,  PR02,RY8340,  1,      3,      3,2,19930125,0120, 21.9960, 136.9902, 4402,     25.0,  24.9330,  34.8600,2,-999.0000,9,    207.0,2,     0.20,2,     0.02,2,     0.03,2
    49RY9301_1,  PR02,RY8340,  1,      4,      4,2,19930125,0120, 21.9960, 136.9902, 4402,     50.0,  24.9430,  34.8630,2,  34.8660,2,    207.0,2,     0.20,2,     0.01,2,     0.04,2
    49RY9301_1,  PR02,RY8340,  1,      5,      5,2,19930125,0120, 21.9960, 136.9902, 4402,     75.0,  24.9570,  34.8690,2,-999.0000,9,    207.0,2,     0.10,2,     0.00,2,     0.02,2
    49RY9301_1,  PR02,RY8340,  1,      6,      6,2,19930125,0120, 21.9960, 136.9902, 4402,    100.0,  24.9760,  34.8760,2,  34.8730,2,    206.0,2,     0.20,2,     0.00,2,     0.02,2
    49RY9301_1,  PR02,RY8340,  1,      7,      7,2,19930125,0120, 21.9960, 136.9902, 4402,    124.0,  25.0040,  34.8830,2,-999.0000,9,    206.0,2,     0.20,2,     0.00,2,     0.02,2
    49RY9301_1,  PR02,RY8340,  1,      8,      8,2,19930125,0120, 21.9960, 136.9902, 4402,    150.0,  22.2210,  34.9720,2,  34.9720,2,    199.0,2,     0.60,2,     0.12,2,     0.07,2
    49RY9301_1,  PR02,RY8340,  1,      9,      9,2,19930125,0120, 21.9960, 136.9902, 4402,    175.0,  20.5810,  34.9610,2,-999.0000,9,    199.0,2,     1.90,2,     0.02,2,     0.19,2
    49RY9301_1,  PR02,RY8340,  1,     10,     10,2,19930125,0120, 21.9960, 136.9902, 4402,    202.0,  19.2150,  34.8930,2,  34.8890,2,    199.0,2,     2.40,2,     0.01,2,     0.21,2
    49RY9301_1,  PR02,RY8340,  1,     11,     11,2,19930125,0120, 21.9960, 136.9902, 4402,    250.0,  17.8210,  34.8150,2,  34.8160,2,    205.0,2,     3.60,2,     0.02,2,     0.29,2
    49RY9301_1,  PR02,RY8340,  1,     12,     12,2,19930125,0120, 21.9960, 136.9902, 4402,    300.0,  17.2010,  34.7850,2,  34.7840,2,    210.0,2,     4.00,2,     0.02,2,     0.32,2
    49RY9301_1,  PR02,RY8340,  1,     13,     13,2,19930125,0120, 21.9960, 136.9902, 4402,    403.0,  15.2390,  34.6270,2,  34.6340,2,    194.0,2,     8.10,2,     0.00,2,     0.63,2
    49RY9301_1,  PR02,RY8340,  2,     14,     14,2,19930125,0254, 22.0010, 136.9822, 4132,    503.0,  11.7450,  34.3550,2,  34.3540,2,    181.0,2,    14.90,2,     0.00,2,     1.15,2
    49RY9301_1,  PR02,RY8340,  2,     15,     15,2,19930125,0254, 22.0010, 136.9822, 4132,    604.0,   8.9610,  34.2130,2,  34.2070,2,    146.0,2,    23.80,2,     0.01,2,     1.78,2
    49RY9301_1,  PR02,RY8340,  2,     16,     16,2,19930125,0254, 22.0010, 136.9822, 4132,    704.0,   7.2520,  34.2090,2,  34.2090,2,    100.0,2,    30.70,2,     0.00,2,     2.32,2
    49RY9301_1,  PR02,RY8340,  2,     17,     17,2,19930125,0254, 22.0010, 136.9822, 4132,    805.0,   5.7130,  34.2050,2,  34.2070,2,     83.0,2,    35.30,2,     0.00,2,     2.64,2
    49RY9301_1,  PR02,RY8340,  2,     18,     18,2,19930125,0254, 22.0010, 136.9822, 4132,    906.0,   4.7890,  34.2600,2,  34.2650,2,     68.0,2,    38.50,2,     0.00,2,     2.84,2
    49RY9301_1,  PR02,RY8340,  2,     19,     19,2,19930125,0254, 22.0010, 136.9822, 4132,   1007.0,   4.0670,  34.3620,2,  34.3600,2,     62.0,2,    39.80,2,     0.01,2,     2.93,2
    49RY9301_1,  PR02,RY8340,  2,     20,     20,2,19930125,0254, 22.0010, 136.9822, 4132,   1261.0,   3.1410,  34.4770,2,  34.4960,2,     67.0,2,    40.70,2,     0.00,2,     2.96,2
    49RY9301_1,  PR02,RY8340,  2,     21,     21,2,19930125,0254, 22.0010, 136.9822, 4132,   1514.0,   2.5870,  34.5410,2,  34.5400,2,     85.0,2,    39.60,2,     0.00,2,     2.91,2
    49RY9301_1,  PR02,RY8340,  2,     22,     22,2,19930125,0254, 22.0010, 136.9822, 4132,   2022.0,   2.0710,  34.6220,2,  34.6180,2,    115.0,2,    38.10,2,     0.00,2,     2.75,2
    49RY9301_1,  PR02,RY8340,  2,     23,     23,2,19930125,0254, 22.0010, 136.9822, 4132,   2531.0,   1.7860,  34.6500,2,-999.0000,5,    132.0,2,    37.30,2,     0.01,2,     2.67,2
    49RY9301_1,  PR02,RY8340,  2,     24,     24,2,19930125,0254, 22.0010, 136.9822, 4132,   3041.0,   1.6470,  34.6670,2,  34.6630,2,    143.0,2,    37.10,2,     0.00,2,     2.61,2
    49RY9301_1,  PR02,RY8340,  2,     25,     25,2,19930125,0254, 22.0010, 136.9822, 4132,   3861.0,   1.5440,  34.6830,2,  34.6890,3,    156.0,2,    36.20,2,     0.00,2,     2.54,2
    49RY9301_1,  PR02,RY8341,  1,      1,      1,2,19930125,1003, 20.9757, 136.9978, 4934,      3.0,  25.5930,  34.7820,2,-999.0000,9,    207.0,2,     0.10,2,     0.02,2,     0.02,2
    49RY9301_1,  PR02,RY8341,  1,      2,      2,2,19930125,1003, 20.9757, 136.9978, 4934,     10.0,  25.5990,  34.7810,2,-999.0000,9,    207.0,2,     0.10,2,     0.00,2,     0.04,2
    49RY9301_1,  PR02,RY8341,  1,      3,      3,2,19930125,1003, 20.9757, 136.9978, 4934,     25.0,  25.6000,  34.7830,2,-999.0000,9,    207.0,2,     0.10,2,     0.02,2,     0.02,2
    49RY9301_1,  PR02,RY8341,  1,      4,      4,2,19930125,1003, 20.9757, 136.9978, 4934,     50.0,  25.5900,  34.8050,2,-999.0000,9,    207.0,2,     0.10,2,     0.00,2,     0.02,2
    49RY9301_1,  PR02,RY8341,  1,      5,      5,2,19930125,1003, 20.9757, 136.9978, 4934,     75.0,  25.5180,  34.8680,2,-999.0000,9,    208.0,2,     0.10,2,     0.01,2,     0.02,2
    49RY9301_1,  PR02,RY8341,  1,      6,      6,2,19930125,1003, 20.9757, 136.9978, 4934,    100.0,  25.4230,  34.9360,2,-999.0000,9,    205.0,2,     0.10,2,     0.00,2,     0.02,2
    49RY9301_1,  PR02,RY8341,  1,      7,      7,2,19930125,1003, 20.9757, 136.9978, 4934,    125.0,  23.2140,  35.1360,2,-999.0000,9,    198.0,2,     0.30,2,     0.12,2,     0.05,2
    49RY9301_1,  PR02,RY8341,  1,      8,      8,2,19930125,1003, 20.9757, 136.9978, 4934,    151.0,  21.5930,  35.0890,2,-999.0000,9,    192.0,2,     1.10,2,     0.04,2,     0.09,2
    49RY9301_1,  PR02,RY8341,  1,      9,      9,2,19930125,1003, 20.9757, 136.9978, 4934,    176.0,  19.5330,  34.9820,2,-999.0000,9,    195.0,2,     2.20,2,     0.00,2,     0.23,2
    49RY9301_1,  PR02,RY8341,  1,     10,     10,2,19930125,1003, 20.9757, 136.9978, 4934,    201.0,  18.3900,  34.8720,2,-999.0000,9,    197.0,2,     3.10,2,     0.00,2,     0.27,2
    49RY9301_1,  PR02,RY8341,  1,     11,     11,2,19930125,1003, 20.9757, 136.9978, 4934,    302.0,  15.8170,  34.6790,2,-999.0000,9,    198.0,2,     6.80,2,     0.00,2,     0.53,2
    49RY9301_1,  PR02,RY8341,  1,     12,     12,2,19930125,1003, 20.9757, 136.9978, 4934,    403.0,  13.0060,  34.4510,2,-999.0000,9,    192.0,2,    11.70,2,     0.00,2,     0.90,2
    49RY9301_1,  PR02,RY8341,  1,     13,     13,2,19930125,1003, 20.9757, 136.9978, 4934,    503.0,   9.8840,  34.2370,2,-999.0000,9,    168.0,2,    19.70,2,     0.01,2,     1.47,2
    49RY9301_1,  PR02,RY8341,  2,     14,     14,2,19930125,1153, 20.9720, 136.9793, 4770,    603.0,   7.1590,  34.1890,2,-999.0000,9,    106.0,2,    30.70,2,     0.01,2,     2.30,2
    49RY9301_1,  PR02,RY8341,  2,     15,     15,2,19930125,1153, 20.9720, 136.9793, 4770,    705.0,   5.9720,  34.2010,2,-999.0000,9,     86.0,2,    34.50,2,     0.02,2,     2.56,2
    49RY9301_1,  PR02,RY8341,  2,     16,     16,2,19930125,1153, 20.9720, 136.9793, 4770,    806.0,   5.5800,  34.3280,2,-999.0000,9,     69.0,2,    37.50,2,     0.00,2,     2.76,2
    49RY9301_1,  PR02,RY8341,  2,     17,     17,2,19930125,1153, 20.9720, 136.9793, 4770,    908.0,   4.9390,  34.3910,2,-999.0000,9,     67.0,2,    38.60,2,     0.00,2,     2.81,2
    49RY9301_1,  PR02,RY8341,  2,     18,     18,2,19930125,1153, 20.9720, 136.9793, 4770,   1009.0,   4.2690,  34.4380,2,-999.0000,9,     71.0,2,    39.60,2,     0.03,2,     2.85,2
    49RY9301_1,  PR02,RY8341,  2,     19,     19,2,19930125,1153, 20.9720, 136.9793, 4770,   1262.0,   3.1790,  34.4980,2,-999.0000,9,     73.0,2,    40.40,2,     0.00,2,     2.88,2
    49RY9301_1,  PR02,RY8341,  2,     20,     20,2,19930125,1153, 20.9720, 136.9793, 4770,   1515.0,   2.5790,  34.5510,2,-999.0000,9,     88.0,2,    40.20,2,     0.00,2,     2.85,2
    49RY9301_1,  PR02,RY8341,  2,     21,     21,2,19930125,1153, 20.9720, 136.9793, 4770,   2022.0,   2.0580,  34.6250,2,-999.0000,9,    120.0,2,    38.80,2,     0.03,2,     2.73,2
    49RY9301_1,  PR02,RY8341,  2,     22,     22,2,19930125,1153, 20.9720, 136.9793, 4770,   2530.0,   1.7820,  34.6510,2,-999.0000,9,    134.0,2,    38.20,2,     0.01,2,     2.66,2
    49RY9301_1,  PR02,RY8341,  2,     23,     23,2,19930125,1153, 20.9720, 136.9793, 4770,   3041.0,   1.6480,  34.6660,2,-999.0000,9,    145.0,2,    37.70,2,     0.00,2,     2.59,2
    49RY9301_1,  PR02,RY8341,  2,     24,     24,2,19930125,1153, 20.9720, 136.9793, 4770,   4065.0,   1.5110,  34.6870,2,-999.0000,9,    163.0,2,    36.60,2,     0.00,2,     2.50,2
    49RY9301_1,  PR02,RY8341,  2,     25,     25,2,19930125,1153, 20.9720, 136.9793, 4770,   4475.0,   1.5350,  34.6890,2,-999.0000,9,    167.0,2,    36.50,2,     0.03,2,     2.49,2
    49RY9301_1,  PR02,RY8342,  1,      1,      1,2,19930125,1833, 20.0007, 136.9867, 4775,      2.0,  25.8560,  34.7970,2,-999.0000,9,    203.0,2,     0.00,2,     0.01,2,     0.04,2
    49RY9301_1,  PR02,RY8342,  1,      2,      2,2,19930125,1833, 20.0007, 136.9867, 4775,     10.0,  25.8590,  34.7970,2,-999.0000,9,    205.0,2,     0.00,2,     0.00,2,     0.02,2
    49RY9301_1,  PR02,RY8342,  1,      3,      3,2,19930125,1833, 20.0007, 136.9867, 4775,     25.0,  25.7560,  34.7880,2,-999.0000,9,    203.0,2,     0.00,2,     0.00,2,     0.03,2
    49RY9301_1,  PR02,RY8342,  1,      4,      4,2,19930125,1833, 20.0007, 136.9867, 4775,     49.0,  25.7230,  34.8140,2,-999.0000,9,    203.0,2,     0.00,2,     0.00,2,     0.02,2
    49RY9301_1,  PR02,RY8342,  1,      5,      5,2,19930125,1833, 20.0007, 136.9867, 4775,     74.0,  24.7990,  34.8350,2,-999.0000,9,    202.0,2,     0.00,2,     0.00,2,     0.05,2
    49RY9301_1,  PR02,RY8342,  1,      6,      6,2,19930125,1833, 20.0007, 136.9867, 4775,    100.0,  22.5250,  35.0910,2,-999.0000,9,    192.0,2,     0.20,2,     0.07,2,     0.06,2
    49RY9301_1,  PR02,RY8342,  1,      7,      7,2,19930125,1833, 20.0007, 136.9867, 4775,    126.0,  21.3210,  35.0930,2,-999.0000,9,    184.0,2,     1.20,2,     0.03,2,     0.07,2
    49RY9301_1,  PR02,RY8342,  1,      8,      8,2,19930125,1833, 20.0007, 136.9867, 4775,    151.0,  19.8470,  34.9710,2,-999.0000,9,    197.0,2,     0.90,2,     0.02,2,     0.13,2
    49RY9301_1,  PR02,RY8342,  1,      9,      9,2,19930125,1833, 20.0007, 136.9867, 4775,    176.0,  19.0320,  34.9240,2,-999.0000,9,    193.0,2,     2.80,2,     0.03,2,     0.27,2
    49RY9301_1,  PR02,RY8342,  1,     10,     10,2,19930125,1833, 20.0007, 136.9867, 4775,    201.0,  18.0060,  34.8450,2,-999.0000,9,    198.0,2,     3.50,2,     0.03,2,     0.28,2
    49RY9301_1,  PR02,RY8342,  1,     11,     11,2,19930125,1833, 20.0007, 136.9867, 4775,    302.0,  15.0720,  34.6170,2,-999.0000,9,    188.0,2,     8.70,2,     0.01,2,     0.68,2
    49RY9301_1,  PR02,RY8342,  1,     12,     12,2,19930125,1833, 20.0007, 136.9867, 4775,    402.0,  12.2470,  34.3980,2,-999.0000,9,    185.0,2,    14.00,2,     0.01,2,     1.05,2
    49RY9301_1,  PR02,RY8342,  1,     13,     13,2,19930125,1833, 20.0007, 136.9867, 4775,    505.0,   8.7130,  34.1740,2,-999.0000,9,    153.0,2,    23.50,2,     0.01,2,     1.73,2
    49RY9301_1,  PR02,RY8342,  2,     14,     14,2,19930125,2041, 20.0090, 136.9583, 4473,    604.0,   7.0500,  34.2060,2,-999.0000,9,    100.0,2,    31.60,2,     0.00,2,     2.33,2
    49RY9301_1,  PR02,RY8342,  2,     15,     15,2,19930125,2041, 20.0090, 136.9583, 4473,    702.0,   5.8360,  34.2330,2,-999.0000,9,     77.0,2,    35.50,2,     0.00,2,     2.61,2
    49RY9301_1,  PR02,RY8342,  2,     16,     16,2,19930125,2041, 20.0090, 136.9583, 4473,    805.0,   4.7340,  34.3340,2,-999.0000,9,     64.0,2,    38.60,2,     0.00,2,     2.83,2
    49RY9301_1,  PR02,RY8342,  2,     17,     17,2,19930125,2041, 20.0090, 136.9583, 4473,    908.0,   4.1890,  34.4050,2,-999.0000,9,     68.0,2,    39.50,2,     0.00,2,     2.84,2
    49RY9301_1,  PR02,RY8342,  2,     18,     18,2,19930125,2041, 20.0090, 136.9583, 4473,   1006.0,   3.6940,  34.4480,2,-999.0000,9,     71.0,2,    40.10,2,     0.00,2,     2.90,2
    49RY9301_1,  PR02,RY8342,  2,     19,     19,2,19930125,2041, 20.0090, 136.9583, 4473,   1260.0,   2.9780,  34.5110,2,-999.0000,9,     78.0,2,    40.20,2,     0.00,2,     2.89,2
    49RY9301_1,  PR02,RY8342,  2,     20,     20,2,19930125,2041, 20.0090, 136.9583, 4473,   1514.0,   2.6050,  34.5780,2,-999.0000,9,    102.0,2,    38.50,2,     0.00,2,     2.78,2
    49RY9301_1,  PR02,RY8342,  2,     21,     21,2,19930125,2041, 20.0090, 136.9583, 4473,   2020.0,   2.0390,  34.6290,2,-999.0000,9,    118.0,2,    38.30,2,     0.00,2,     2.70,2
    49RY9301_1,  PR02,RY8342,  2,     22,     22,2,19930125,2041, 20.0090, 136.9583, 4473,   2531.0,   1.7660,  34.6540,2,-999.0000,9,    133.0,2,    37.60,2,     0.01,2,     2.64,2
    49RY9301_1,  PR02,RY8342,  2,     23,     23,2,19930125,2041, 20.0090, 136.9583, 4473,   3040.0,   1.6220,  34.6700,2,-999.0000,9,    147.0,2,    36.60,2,     0.02,2,     2.58,2
    49RY9301_1,  PR02,RY8342,  2,     24,     24,2,19930125,2041, 20.0090, 136.9583, 4473,   4064.0,   1.5200,  34.6880,2,-999.0000,9,    161.0,2,    35.70,2,     0.02,2,     2.50,2
    49RY9301_1,  PR02,RY8342,  2,     25,     25,2,19930125,2041, 20.0090, 136.9583, 4473,   4376.0,   1.5230,  34.6900,2,-999.0000,9,    164.0,2,    35.80,2,     0.01,2,     2.48,2