BOTTLE,20211215CCHSIOENA
EXPOCODE,SECT_ID,STNNBR,CASTNO,SAMPNO,BTLNBR,BTLNBR_FLAG_W,DATE,TIME,LATITUDE,LONGITUDE,DEPTH,CTDPRS,CTDTMP,CTDSAL,CTDSAL_FLAG_W,SALNTY,SALNTY_FLAG_W,OXYGEN,OXYGEN_FLAG_W,NITRAT,NITRAT_FLAG_W,NITRIT,NITRIT_FLAG_W,PHSPHT,PHSPHT_FLAG_W
,,,,,,,,,,,,DBAR,ITS-90,PSS-78,,PSS-78,,UMOL/KG,,UMOL/KG,,UMOL/KG,,UMOL/KG,
    49RY9301_1,  PR02,RY8343,  1,      1,      1,2,19930126,0343, 18.9872, 137.0105, 4770,      2.0,  26.3570,  34.7970,2,-999.0000,9,    204.0,2,     0.00,2,     0.01,2,     0.06,2
    49RY9301_1,  PR02,RY8343,  1,      2,      2,2,19930126,0343, 18.9872, 137.0105, 4770,      9.0,  26.3430,  34.7990,2,-999.0000,9,    204.0,2,     0.00,2,     0.01,2,     0.07,2
    49RY9301_1,  PR02,RY8343,  1,      3,      3,2,19930126,0343, 18.9872, 137.0105, 4770,     24.0,  26.3070,  34.8010,2,-999.0000,9,    204.0,2,     0.00,2,     0.00,2,     0.04,2
    49RY9301_1,  PR02,RY8343,  1,      4,      4,2,19930126,0343, 18.9872, 137.0105, 4770,     50.0,  25.8460,  34.8170,2,-999.0000,9,    203.0,2,     0.00,2,     0.00,2,     0.02,2
    49RY9301_1,  PR02,RY8343,  1,      5,      5,2,19930126,0343, 18.9872, 137.0105, 4770,     76.0,  25.7510,  34.8670,2,-999.0000,9,    205.0,2,     0.00,2,     0.01,2,     0.03,2
    49RY9301_1,  PR02,RY8343,  1,      6,      6,2,19930126,0343, 18.9872, 137.0105, 4770,    101.0,  25.0930,  34.9000,2,-999.0000,9,    205.0,2,     0.00,2,     0.00,2,     0.04,2
    49RY9301_1,  PR02,RY8343,  1,      7,      7,2,19930126,0343, 18.9872, 137.0105, 4770,    126.0,  22.2410,  34.9950,2,-999.0000,9,    200.0,2,     0.60,2,     0.08,2,     0.09,2
    49RY9301_1,  PR02,RY8343,  1,      8,      8,2,19930126,0343, 18.9872, 137.0105, 4770,    152.0,  19.8180,  34.9000,2,-999.0000,9,    203.0,2,     1.80,2,     0.03,2,     0.15,2
    49RY9301_1,  PR02,RY8343,  1,      9,      9,2,19930126,0343, 18.9872, 137.0105, 4770,    170.0,  18.9810,  34.8790,2,-999.0000,9,    199.0,2,     2.60,2,     0.02,2,     0.23,2
    49RY9301_1,  PR02,RY8343,  1,     10,     10,2,19930126,0343, 18.9872, 137.0105, 4770,    200.0,  17.9800,  34.8370,2,-999.0000,9,    199.0,2,     3.90,2,     0.01,2,     0.28,2
    49RY9301_1,  PR02,RY8343,  1,     11,     11,2,19930126,0343, 18.9872, 137.0105, 4770,    251.0,  16.9620,  34.7670,2,-999.0000,9,    198.0,2,     5.40,2,     0.02,2,     0.41,2
    49RY9301_1,  PR02,RY8343,  1,     12,     12,2,19930126,0343, 18.9872, 137.0105, 4770,    302.0,  15.4600,  34.6490,2,-999.0000,9,    192.0,2,     8.20,2,     0.00,2,     0.61,2
    49RY9301_1,  PR02,RY8343,  1,     13,     13,2,19930126,0343, 18.9872, 137.0105, 4770,    406.0,  11.9520,  34.3630,2,-999.0000,9,    184.0,2,    14.80,2,     0.00,2,     1.08,2
    49RY9301_1,  PR02,RY8343,  2,     14,     14,2,19930126,0544, 18.9747, 137.0122, 4740,    504.0,   9.3020,  34.2180,2,-999.0000,9,    154.0,2,    22.40,2,     0.00,2,     1.61,2
    49RY9301_1,  PR02,RY8343,  2,     15,     15,2,19930126,0544, 18.9747, 137.0122, 4740,    604.0,   6.8620,  34.2120,2,-999.0000,9,     92.0,2,    33.40,2,     0.02,2,     2.36,2
    49RY9301_1,  PR02,RY8343,  2,     16,     16,2,19930126,0544, 18.9747, 137.0122, 4740,    705.0,   5.9940,  34.3250,2,-999.0000,9,     69.0,2,    37.60,2,     0.00,2,     2.65,2
    49RY9301_1,  PR02,RY8343,  2,     17,     17,2,19930126,0544, 18.9747, 137.0122, 4740,    806.0,   5.2780,  34.3900,2,-999.0000,9,     68.0,2,    39.00,2,     0.01,2,     2.73,2
    49RY9301_1,  PR02,RY8343,  2,     18,     18,2,19930126,0544, 18.9747, 137.0122, 4740,    907.0,   4.4600,  34.4370,2,-999.0000,9,     71.0,2,    39.80,2,     0.01,2,     2.79,2
    49RY9301_1,  PR02,RY8343,  2,     19,     19,2,19930126,0544, 18.9747, 137.0122, 4740,   1008.0,   3.9890,  34.4880,2,-999.0000,9,     82.0,2,    39.90,2,     0.00,2,     2.78,2
    49RY9301_1,  PR02,RY8343,  2,     20,     20,2,19930126,0544, 18.9747, 137.0122, 4740,   1261.0,   3.2350,  34.5430,2,-999.0000,9,     93.0,2,    39.80,2,     0.01,2,     2.78,2
    49RY9301_1,  PR02,RY8343,  2,     21,     21,2,19930126,0544, 18.9747, 137.0122, 4740,   1515.0,   2.6840,  34.5810,2,-999.0000,9,    101.0,2,    40.00,2,     0.00,2,     2.76,2
    49RY9301_1,  PR02,RY8343,  2,     22,     22,2,19930126,0544, 18.9747, 137.0122, 4740,   2023.0,   2.0680,  34.6250,2,-999.0000,9,    116.0,2,    39.50,2,     0.00,2,     2.71,2
    49RY9301_1,  PR02,RY8343,  2,     23,     23,2,19930126,0544, 18.9747, 137.0122, 4740,   2532.0,   1.7720,  34.6540,2,-999.0000,9,    133.0,2,    38.50,2,     0.02,2,     2.63,2
    49RY9301_1,  PR02,RY8343,  2,     24,     24,2,19930126,0544, 18.9747, 137.0122, 4740,   3041.0,   1.6330,  34.6710,2,-999.0000,9,    144.0,2,    37.80,2,     0.00,2,     2.57,2
    49RY9301_1,  PR02,RY8343,  2,     25,     25,2,19930126,0544, 18.9747, 137.0122, 4740,   4271.0,   1.5110,  34.6910,2,-999.0000,9,    163.0,2,    36.60,2,     0.00,2,     2.47,2
    49RY9301_1,  PR02,RY8344,  1,      1,      1,2,19930126,1212, 17.9940, 136.9915, 4971,      1.0,  26.5120,  34.8420,2,-999.0000,9,    204.0,2,     0.00,2,     0.00,2,     0.07,2
    49RY9301_1,  PR02,RY8344,  1,      2,      2,2,19930126,1212, 17.9940, 136.9915, 4971,     10.0,  26.5130,  34.8420,2,-999.0000,9,    204.0,2,     0.00,2,     0.00,2,     0.05,2
    49RY9301_1,  PR02,RY8344,  1,      3,      3,2,19930126,1212, 17.9940, 136.9915, 4971,     25.0,  26.5210,  34.8430,2,-999.0000,9,    205.0,2,     0.00,2,     0.00,2,     0.05,2
    49RY9301_1,  PR02,RY8344,  1,      4,      4,2,19930126,1212, 17.9940, 136.9915, 4971,     50.0,  26.5120,  34.8400,2,-999.0000,9,    204.0,2,     0.00,2,     0.00,2,     0.04,2
    49RY9301_1,  PR02,RY8344,  1,      5,      5,2,19930126,1212, 17.9940, 136.9915, 4971,     76.0,  26.4940,  34.8390,2,-999.0000,9,    203.0,2,     0.00,2,     0.00,2,     0.05,2
    49RY9301_1,  PR02,RY8344,  1,      6,      6,2,19930126,1212, 17.9940, 136.9915, 4971,    100.0,  26.4790,  34.8390,2,-999.0000,9,    204.0,2,     0.00,2,     0.00,2,     0.05,2
    49RY9301_1,  PR02,RY8344,  1,      7,      7,2,19930126,1212, 17.9940, 136.9915, 4971,    126.0,  24.8350,  34.8810,2,-999.0000,9,    200.0,2,     0.10,2,     0.09,2,     0.08,2
    49RY9301_1,  PR02,RY8344,  1,      8,      8,2,19930126,1212, 17.9940, 136.9915, 4971,    152.0,  22.3780,  34.9230,2,-999.0000,9,    203.0,2,     0.30,2,     0.09,2,     0.07,2
    49RY9301_1,  PR02,RY8344,  1,      9,      9,2,19930126,1212, 17.9940, 136.9915, 4971,    176.0,  21.0410,  35.0430,2,-999.0000,9,    185.0,2,     2.30,2,     0.01,2,     0.25,2
    49RY9301_1,  PR02,RY8344,  1,     10,     10,2,19930126,1212, 17.9940, 136.9915, 4971,    202.0,  19.9180,  34.9760,2,-999.0000,9,    179.0,2,     3.60,2,     0.02,2,     0.36,2
    49RY9301_1,  PR02,RY8344,  1,     11,     11,2,19930126,1212, 17.9940, 136.9915, 4971,    302.0,  15.1150,  34.6090,2,-999.0000,9,    183.0,2,     9.30,2,     0.01,2,     0.73,2
    49RY9301_1,  PR02,RY8344,  1,     12,     12,2,19930126,1212, 17.9940, 136.9915, 4971,    402.0,  11.2870,  34.3200,2,-999.0000,9,    180.0,2,    16.20,2,     0.02,2,     1.21,2
    49RY9301_1,  PR02,RY8344,  1,     13,     13,2,19930126,1212, 17.9940, 136.9915, 4971,    502.0,   8.0370,  34.1640,2,-999.0000,9,    138.0,2,    26.30,2,     0.01,2,     1.94,2
    49RY9301_1,  PR02,RY8344,  2,     14,     14,2,19930126,1412, 17.9775, 136.9637, 5053,    605.0,   6.6130,  34.2500,2,-999.0000,9,     79.0,2,    34.40,2,     0.00,2,     2.52,2
    49RY9301_1,  PR02,RY8344,  2,     15,     15,2,19930126,1412, 17.9775, 136.9637, 5053,    705.0,   5.9150,  34.3660,2,-999.0000,9,     68.0,2,    37.00,2,     0.00,2,     2.69,2
    49RY9301_1,  PR02,RY8344,  2,     16,     16,2,19930126,1412, 17.9775, 136.9637, 5053,    807.0,   5.0530,  34.4230,2,-999.0000,9,     72.0,2,    38.20,2,     0.00,2,     2.76,2
    49RY9301_1,  PR02,RY8344,  2,     17,     17,2,19930126,1412, 17.9775, 136.9637, 5053,    907.0,   4.2850,  34.4490,2,-999.0000,9,     76.0,2,    38.60,2,     0.00,2,     2.80,2
    49RY9301_1,  PR02,RY8344,  2,     18,     18,2,19930126,1412, 17.9775, 136.9637, 5053,   1008.0,   3.8340,  34.5000,2,-999.0000,9,     83.0,2,    38.90,2,     0.00,2,     2.80,2
    49RY9301_1,  PR02,RY8344,  2,     19,     19,2,19930126,1412, 17.9775, 136.9637, 5053,   1261.0,   3.1040,  34.5530,2,-999.0000,9,     92.0,2,    39.10,2,     0.00,2,     2.79,2
    49RY9301_1,  PR02,RY8344,  2,     20,     20,2,19930126,1412, 17.9775, 136.9637, 5053,   1515.0,   2.5950,  34.5830,2,-999.0000,9,    101.0,2,    39.20,2,     0.00,2,     2.79,2
    49RY9301_1,  PR02,RY8344,  2,     21,     21,2,19930126,1412, 17.9775, 136.9637, 5053,   2022.0,   2.0290,  34.6280,2,-999.0000,9,    119.0,2,    38.40,2,     0.00,2,     2.71,2
    49RY9301_1,  PR02,RY8344,  2,     22,     22,2,19930126,1412, 17.9775, 136.9637, 5053,   2532.0,   1.7790,  34.6520,2,-999.0000,9,    132.0,2,    37.60,2,     0.00,2,     2.67,2
    49RY9301_1,  PR02,RY8344,  2,     23,     23,2,19930126,1412, 17.9775, 136.9637, 5053,   3040.0,   1.6430,  34.6670,2,-999.0000,9,    142.0,2,    37.20,2,     0.00,2,     2.60,2
    49RY9301_1,  PR02,RY8344,  2,     24,     24,2,19930126,1412, 17.9775, 136.9637, 5053,   4063.0,   1.5060,  34.6860,2,-999.0000,9,    160.0,2,    36.00,2,     0.00,2,     2.51,2
    49RY9301_1,  PR02,RY8344,  2,     25,     25,2,19930126,1412, 17.9775, 136.9637, 5053,   4681.0,   1.5400,  34.6880,2,-999.0000,9,    165.0,2,    35.90,2,     0.02,2,     2.48,2
    49RY9301_1,  PR02,RY8345,  1,      1,      1,2,19930126,2032, 17.0035, 137.0015, 4842,      3.0,  26.5090,  34.8210,2,-999.0000,9,    203.0,2,     0.20,2,     0.00,2,     0.09,2
    49RY9301_1,  PR02,RY8345,  1,      2,      2,2,19930126,2032, 17.0035, 137.0015, 4842,     10.0,  26.5200,  34.8210,2,  34.8320,2,    203.0,2,     0.10,2,     0.00,2,     0.07,2
    49RY9301_1,  PR02,RY8345,  1,      3,      3,2,19930126,2032, 17.0035, 137.0015, 4842,     25.0,  26.5120,  34.8210,2,-999.0000,9,    203.0,2,     0.10,2,     0.00,2,     0.07,2
    49RY9301_1,  PR02,RY8345,  1,      4,      4,2,19930126,2032, 17.0035, 137.0015, 4842,     51.0,  26.5250,  34.8210,2,  34.8230,2,    203.0,2,     0.10,2,     0.00,2,     0.05,2
    49RY9301_1,  PR02,RY8345,  1,      5,      5,2,19930126,2032, 17.0035, 137.0015, 4842,     75.0,  26.5270,  34.8220,2,-999.0000,9,    204.0,2,     0.10,2,     0.00,2,     0.05,2
    49RY9301_1,  PR02,RY8345,  1,      6,      6,2,19930126,2032, 17.0035, 137.0015, 4842,    100.0,  26.5310,  34.8220,2,  34.8400,2,    203.0,2,     0.20,2,     0.00,2,     0.06,2
    49RY9301_1,  PR02,RY8345,  1,      7,      7,2,19930126,2032, 17.0035, 137.0015, 4842,    126.0,  26.4880,  34.8350,2,-999.0000,9,    203.0,2,     0.20,2,     0.00,2,     0.05,2
    49RY9301_1,  PR02,RY8345,  1,      8,      8,2,19930126,2032, 17.0035, 137.0015, 4842,    151.0,  24.5880,  34.7190,2,  34.7990,2,    203.0,2,     0.10,2,     0.01,2,     0.04,2
    49RY9301_1,  PR02,RY8345,  1,      9,      9,2,19930126,2032, 17.0035, 137.0015, 4842,    176.0,  21.5530,  35.0040,2,-999.0000,9,    190.0,2,     1.30,2,     0.04,2,     0.17,2
    49RY9301_1,  PR02,RY8345,  1,     10,     10,2,19930126,2032, 17.0035, 137.0015, 4842,    200.0,  19.7350,  34.9860,2,  34.9790,2,    181.0,2,     3.40,2,     0.01,2,     0.34,2
    49RY9301_1,  PR02,RY8345,  1,     11,     11,2,19930126,2032, 17.0035, 137.0015, 4842,    301.0,  15.9980,  34.6940,2,  34.6950,2,    198.0,2,     6.70,2,     0.00,2,     0.54,2
    49RY9301_1,  PR02,RY8345,  1,     12,     12,2,19930126,2032, 17.0035, 137.0015, 4842,    403.0,  11.6890,  34.3510,2,  34.3500,2,    180.0,2,    15.20,2,     0.00,2,     1.13,2
    49RY9301_1,  PR02,RY8345,  1,     13,     13,2,19930126,2032, 17.0035, 137.0015, 4842,    504.0,   8.4170,  34.1770,2,  34.1810,2,    141.0,2,    25.00,2,     0.00,2,     1.88,2
    49RY9301_1,  PR02,RY8345,  2,     14,     14,2,19930126,2204, 16.9908, 136.9938, 4366,    605.0,   6.8890,  34.2380,2,  34.2540,2,     97.0,2,    33.00,2,     0.00,2,     2.47,2
    49RY9301_1,  PR02,RY8345,  2,     15,     15,2,19930126,2204, 16.9908, 136.9938, 4366,    706.0,   6.0490,  34.3240,2,  34.3240,2,     69.0,2,    36.30,2,     0.00,2,     2.70,2
    49RY9301_1,  PR02,RY8345,  2,     16,     16,2,19930126,2204, 16.9908, 136.9938, 4366,    806.0,   5.3510,  34.4010,2,  34.4030,2,     72.0,2,    37.60,2,     0.00,2,     2.74,2
    49RY9301_1,  PR02,RY8345,  2,     17,     17,2,19930126,2204, 16.9908, 136.9938, 4366,    907.0,   4.6980,  34.4340,2,  34.4510,2,     79.0,2,    37.60,2,     0.00,2,     2.75,2
    49RY9301_1,  PR02,RY8345,  2,     18,     18,2,19930126,2204, 16.9908, 136.9938, 4366,   1007.0,   4.0800,  34.4670,2,  34.5200,2,     80.0,2,    38.60,2,     0.00,2,     2.80,2
    49RY9301_1,  PR02,RY8345,  2,     19,     19,2,19930126,2204, 16.9908, 136.9938, 4366,   1261.0,   3.1770,  34.5470,2,  34.5450,2,     97.0,2,    38.30,2,     0.00,2,     2.77,2
    49RY9301_1,  PR02,RY8345,  2,     20,     20,2,19930126,2204, 16.9908, 136.9938, 4366,   1514.0,   2.7270,  34.5840,2,  34.5900,2,    105.0,2,    38.20,2,     0.00,2,     2.77,2
    49RY9301_1,  PR02,RY8345,  2,     21,     21,2,19930126,2204, 16.9908, 136.9938, 4366,   2021.0,   2.0690,  34.6260,2,  34.6220,2,    121.0,2,    37.90,2,     0.00,2,     2.73,2
    49RY9301_1,  PR02,RY8345,  2,     22,     22,2,19930126,2204, 16.9908, 136.9938, 4366,   2532.0,   1.7660,  34.6540,2,  34.6520,2,    138.0,2,    37.70,2,     0.00,2,     2.67,2
    49RY9301_1,  PR02,RY8345,  2,     23,     23,2,19930126,2204, 16.9908, 136.9938, 4366,   3041.0,   1.6220,  34.6700,2,  34.6670,2,    146.0,2,    37.10,2,     0.00,2,     2.61,2
    49RY9301_1,  PR02,RY8345,  2,     25,     25,2,19930126,2204, 16.9908, 136.9938, 4366,   4065.0,   1.5050,  34.6870,2,  34.6850,2,    164.0,2,    35.90,2,     0.01,2,     2.48,2
    49RY9301_1,  PR02,RY8345,  2,     24,     24,2,19930126,2204, 16.9908, 136.9938, 4366,   4170.0,   1.5020,  34.6880,2,  34.6850,2,    163.0,2,    35.90,2,     0.01,2,     2.48,2
    49RY9301_1,  PR02,RY8346,  1,      1,      1,2,19930127,0427, 15.9912, 137.0010, 5305,      3.0,  26.5660,  34.8490,2,-999.0000,9,    203.0,2,     0.00,2,     0.00,2,     0.06,2
    49RY9301_1,  PR02,RY8346,  1,      2,      2,2,19930127,0427, 15.9912, 137.0010, 5305,     10.0,  26.5310,  34.8510,2,-999.0000,9,    203.0,2,     0.00,2,     0.00,2,     0.06,2
    49RY9301_1,  PR02,RY8346,  1,      3,      3,2,19930127,0427, 15.9912, 137.0010, 5305,     25.0,  26.4290,  34.8490,2,-999.0000,9,    203.0,2,     0.00,2,     0.00,2,     0.07,2
    49RY9301_1,  PR02,RY8346,  1,      4,      4,2,19930127,0427, 15.9912, 137.0010, 5305,     51.0,  26.4280,  34.8520,2,-999.0000,9,    203.0,2,     0.00,2,     0.00,2,     0.05,2
    49RY9301_1,  PR02,RY8346,  1,      5,      5,2,19930127,0427, 15.9912, 137.0010, 5305,     75.0,  26.4390,  34.8620,2,-999.0000,9,    204.0,2,     0.00,2,     0.00,2,     0.06,2
    49RY9301_1,  PR02,RY8346,  1,      6,      6,2,19930127,0427, 15.9912, 137.0010, 5305,    101.0,  26.3960,  34.8620,2,-999.0000,9,    203.0,2,     0.00,2,     0.00,2,     0.05,2
    49RY9301_1,  PR02,RY8346,  1,      7,      7,2,19930127,0427, 15.9912, 137.0010, 5305,    125.0,  26.3490,  34.8530,2,-999.0000,9,    201.0,2,     0.00,2,     0.00,2,     0.07,2
    49RY9301_1,  PR02,RY8346,  1,      8,      8,2,19930127,0427, 15.9912, 137.0010, 5305,    151.0,  24.6560,  34.9850,2,-999.0000,9,    188.0,2,     0.40,2,     0.11,2,     0.12,2
    49RY9301_1,  PR02,RY8346,  1,      9,      9,2,19930127,0427, 15.9912, 137.0010, 5305,    177.0,  23.2740,  35.0580,2,-999.0000,9,    182.0,2,     1.00,2,     0.03,2,     0.18,2
    49RY9301_1,  PR02,RY8346,  1,     10,     10,2,19930127,0427, 15.9912, 137.0010, 5305,    203.0,  20.3510,  34.9520,2,-999.0000,9,    192.0,2,     1.70,2,     0.01,2,     0.21,2
    49RY9301_1,  PR02,RY8346,  1,     11,     11,2,19930127,0427, 15.9912, 137.0010, 5305,    302.0,  15.5290,  34.6440,2,-999.0000,9,    182.0,2,     8.40,2,     0.01,2,     0.69,2
    49RY9301_1,  PR02,RY8346,  1,     12,     12,2,19930127,0427, 15.9912, 137.0010, 5305,    401.0,  11.3030,  34.3220,2,-999.0000,9,    159.0,2,    17.10,2,     0.01,2,     1.30,2
    49RY9301_1,  PR02,RY8346,  1,     13,     13,2,19930127,0427, 15.9912, 137.0010, 5305,    503.0,   8.1300,  34.2400,2,-999.0000,9,    110.0,2,    28.70,2,     0.00,2,     2.13,2
    49RY9301_1,  PR02,RY8346,  2,     14,     14,2,19930127,0631, 15.9738, 136.9742, 5160,    604.0,   6.9810,  34.3830,2,-999.0000,9,     71.0,2,    34.50,2,     0.00,2,     2.54,2
    49RY9301_1,  PR02,RY8346,  2,     15,     15,2,19930127,0631, 15.9738, 136.9742, 5160,    704.0,   6.0710,  34.4400,2,-999.0000,9,     74.0,2,    36.10,2,     0.00,2,     2.67,2
    49RY9301_1,  PR02,RY8346,  2,     16,     16,2,19930127,0631, 15.9738, 136.9742, 5160,    806.0,   5.3230,  34.4630,2,-999.0000,9,     80.0,2,    37.30,2,     0.01,2,     2.71,2
    49RY9301_1,  PR02,RY8346,  2,     17,     17,2,19930127,0631, 15.9738, 136.9742, 5160,    907.0,   4.7360,  34.4960,2,-999.0000,9,     84.0,2,    37.60,2,     0.00,2,     2.75,2
    49RY9301_1,  PR02,RY8346,  2,     18,     18,2,19930127,0631, 15.9738, 136.9742, 5160,   1008.0,   4.4250,  34.5170,2,-999.0000,9,     89.0,2,    38.00,2,     0.00,2,     2.75,2
    49RY9301_1,  PR02,RY8346,  2,     19,     19,2,19930127,0631, 15.9738, 136.9742, 5160,   1261.0,   3.5450,  34.5550,2,-999.0000,9,     94.0,2,    38.30,2,     0.00,2,     2.78,2
    49RY9301_1,  PR02,RY8346,  2,     20,     20,2,19930127,0631, 15.9738, 136.9742, 5160,   1514.0,   2.8020,  34.5830,2,-999.0000,9,    102.0,2,    38.30,2,     0.00,2,     2.76,2
    49RY9301_1,  PR02,RY8346,  2,     21,     21,2,19930127,0631, 15.9738, 136.9742, 5160,   2021.0,   2.0820,  34.6260,2,-999.0000,9,    117.0,2,    37.80,2,     0.00,2,     2.70,2
    49RY9301_1,  PR02,RY8346,  2,     22,     22,2,19930127,0631, 15.9738, 136.9742, 5160,   2531.0,   1.7620,  34.6550,2,-999.0000,9,    136.0,2,    37.00,2,     0.00,2,     2.65,2
    49RY9301_1,  PR02,RY8346,  2,     23,     23,2,19930127,0631, 15.9738, 136.9742, 5160,   3041.0,   1.6360,  34.6690,2,-999.0000,9,    147.0,2,    36.70,2,     0.01,2,     2.57,2
    49RY9301_1,  PR02,RY8346,  2,     24,     24,2,19930127,0631, 15.9738, 136.9742, 5160,   4066.0,   1.5070,  34.6880,2,-999.0000,9,    164.0,2,    35.40,2,     0.00,2,     2.49,2
    49RY9301_1,  PR02,RY8346,  2,     25,     25,2,19930127,0631, 15.9738, 136.9742, 5160,   4579.0,   1.5180,  34.6890,2,-999.0000,9,    168.0,2,    35.20,2,     0.01,2,     2.47,2