BOTTLE,20211215CCHSIOENA
EXPOCODE,SECT_ID,STNNBR,CASTNO,SAMPNO,BTLNBR,BTLNBR_FLAG_W,DATE,TIME,LATITUDE,LONGITUDE,DEPTH,CTDPRS,CTDTMP,CTDSAL,CTDSAL_FLAG_W,SALNTY,SALNTY_FLAG_W,OXYGEN,OXYGEN_FLAG_W,NITRAT,NITRAT_FLAG_W,NITRIT,NITRIT_FLAG_W,PHSPHT,PHSPHT_FLAG_W
,,,,,,,,,,,,DBAR,ITS-90,PSS-78,,PSS-78,,UMOL/KG,,UMOL/KG,,UMOL/KG,,UMOL/KG,
    49RY9301_1,  PR02,RY8359,  1,      1,      1,2,19930201,1711,  2.9987, 136.9992, 4514,      3.0,  28.0770,  34.3380,2,-999.0000,9,    198.0,2,     0.10,2,     0.01,2,     0.05,2
    49RY9301_1,  PR02,RY8359,  1,      2,      2,2,19930201,1711,  2.9987, 136.9992, 4514,      9.0,  27.9420,  34.3270,2,-999.0000,9,    199.0,2,     0.10,2,     0.00,2,     0.06,2
    49RY9301_1,  PR02,RY8359,  1,      3,      3,2,19930201,1711,  2.9987, 136.9992, 4514,     25.0,  26.2640,  34.5780,2,-999.0000,9,    191.0,2,     0.80,2,     0.08,2,     0.15,2
    49RY9301_1,  PR02,RY8359,  1,      4,      4,2,19930201,1711,  2.9987, 136.9992, 4514,     51.0,  24.1310,  34.8640,2,-999.0000,9,    163.0,2,     4.60,2,     0.15,2,     0.42,2
    49RY9301_1,  PR02,RY8359,  1,      5,      5,2,19930201,1711,  2.9987, 136.9992, 4514,     75.0,  24.0330,  34.9100,2,-999.0000,9,    160.0,2,     5.20,2,     0.09,2,     0.46,2
    49RY9301_1,  PR02,RY8359,  1,      6,      6,2,19930201,1711,  2.9987, 136.9992, 4514,    102.0,  21.4020,  35.1590,2,  35.1490,2,    148.0,2,     8.40,2,     0.03,2,     0.70,2
    49RY9301_1,  PR02,RY8359,  1,      7,      7,2,19930201,1711,  2.9987, 136.9992, 4514,    125.0,  20.8080,  35.2170,2,-999.0000,9,    146.0,2,     9.30,2,     0.02,2,     0.76,2
    49RY9301_1,  PR02,RY8359,  1,      8,      8,2,19930201,1711,  2.9987, 136.9992, 4514,    151.0,  20.5200,  35.3370,2,-999.0000,9,    145.0,2,     9.20,2,     0.02,2,     0.76,2
    49RY9301_1,  PR02,RY8359,  1,      9,      9,2,19930201,1711,  2.9987, 136.9992, 4514,    176.0,  20.0920,  35.3000,2,-999.0000,9,    145.0,2,     9.70,2,     0.02,2,     0.80,2
    49RY9301_1,  PR02,RY8359,  1,     10,     10,2,19930201,1711,  2.9987, 136.9992, 4514,    201.0,  18.5070,  35.0690,2,  35.0650,2,    145.0,2,    11.30,2,     0.02,2,     0.89,2
    49RY9301_1,  PR02,RY8359,  1,     11,     11,2,19930201,1711,  2.9987, 136.9992, 4514,    251.0,  13.9410,  34.5800,2,-999.0000,9,    138.0,2,    17.50,2,     0.01,2,     1.31,2
    49RY9301_1,  PR02,RY8359,  1,     12,     12,2,19930201,1711,  2.9987, 136.9992, 4514,    301.0,  10.8100,  34.4460,2,  34.5830,2,    145.0,2,    17.50,2,     0.01,2,     1.32,2
    49RY9301_1,  PR02,RY8359,  1,     13,     13,2,19930201,1711,  2.9987, 136.9992, 4514,    404.0,   8.8980,  34.5460,2,  34.4430,2,    126.0,2,    23.30,2,     0.01,2,     1.73,2
    49RY9301_1,  PR02,RY8359,  2,     14,     14,2,19930201,1842,  2.9935, 136.9958, 4494,    503.0,   7.8380,  34.5650,2,-999.0000,9,     83.0,2,    33.90,2,     0.00,2,     2.47,2
    49RY9301_1,  PR02,RY8359,  2,     15,     15,2,19930201,1842,  2.9935, 136.9958, 4494,    602.0,   6.8700,  34.5460,2,  34.5430,2,    110.0,2,    33.50,2,     0.00,2,     2.44,2
    49RY9301_1,  PR02,RY8359,  2,     16,     16,2,19930201,1842,  2.9935, 136.9958, 4494,    704.0,   6.2830,  34.5380,2,-999.0000,9,     95.0,2,    35.90,2,     0.00,2,     2.62,2
    49RY9301_1,  PR02,RY8359,  2,     17,     17,2,19930201,1842,  2.9935, 136.9958, 4494,    805.0,   5.6100,  34.5330,2,  34.5310,2,     94.0,2,    37.00,2,     0.00,2,     2.71,2
    49RY9301_1,  PR02,RY8359,  2,     18,     18,2,19930201,1842,  2.9935, 136.9958, 4494,    906.0,   4.9760,  34.5430,2,-999.0000,9,     91.0,2,    38.20,2,     0.00,2,     2.81,2
    49RY9301_1,  PR02,RY8359,  2,     19,     19,2,19930201,1842,  2.9935, 136.9958, 4494,   1007.0,   4.5200,  34.5550,2,  34.5500,2,     92.0,2,    38.30,2,     0.00,2,     2.84,2
    49RY9301_1,  PR02,RY8359,  2,     20,     20,2,19930201,1842,  2.9935, 136.9958, 4494,   1260.0,   3.5500,  34.5820,2,-999.0000,9,     95.0,2,    39.00,2,     0.00,2,     2.89,2
    49RY9301_1,  PR02,RY8359,  2,     21,     21,2,19930201,1842,  2.9935, 136.9958, 4494,   1514.0,   2.9310,  34.6050,2,  34.5980,2,    106.0,2,    38.60,2,     0.00,2,     2.85,2
    49RY9301_1,  PR02,RY8359,  2,     22,     22,2,19930201,1842,  2.9935, 136.9958, 4494,   2022.0,   2.0750,  34.6450,2,-999.0000,9,    120.0,2,    38.10,2,     0.00,2,     2.78,2
    49RY9301_1,  PR02,RY8359,  2,     23,     23,2,19930201,1842,  2.9935, 136.9958, 4494,   2530.0,   1.7650,  34.6640,2,  34.6550,2,    137.0,2,    37.10,2,     0.00,2,     2.71,2
    49RY9301_1,  PR02,RY8359,  2,     24,     24,2,19930201,1842,  2.9935, 136.9958, 4494,   3041.0,   1.5780,  34.6760,2,-999.0000,9,    149.0,2,    36.30,2,     0.00,2,     2.63,2
    49RY9301_1,  PR02,RY8359,  2,     25,     25,2,19930201,1842,  2.9935, 136.9958, 4494,   4067.0,   1.5100,  34.6890,2,  34.6810,2,    158.0,2,    35.60,2,     0.01,2,     2.57,2