BOTTLE,20211215CCHSIOENA
# changed units for CTDTMP from DEG C to ITS-90
# replaced all instances of 19930230 (invalid date) with 19930131
#BOTTLE,20010413WHPSIOKJU
#code : jjward hyd_to_exchange.pl 
#original files copied from HTML directory: 20010413
#original HYD file: pr02_ghy.txt   Fri Apr 13 11:23:02 2001
#original SUM file: pr02_gsu.txt   Tue Aug 29 09:13:24 2000
# DATA CITATION
#| CCHDO Citation Information
#|
#| Please cite data downloaded from CCHDO as: 
#| [Data providers of the parameter(s) used]. [Year of file access]. [CTD/Bottle] data from cruise [expocode], 
#| [format version used]. Accessed from CCHDO [url of cruise data page]. Access date [date of download].
#| [Applicable CCHDO cruise DOI if provided].
#|
#| For example: 
#| Swift, J. and Becker, S. 2019. CTD data from Cruise 33RR20160321, exchange version. Accessed from CCHDO 
#| https://cchdo.ucsd.edu/cruise/33RR20160321. Access date 2019-08-21. CCHDO cruise DOI: 10.7942/C2008W
#|
#| Information on the scientists who provided the different parameters can be found in the cruise report. 
#| Additionally, for US GO-SHIP cruises, this information is usually in the comments section in the text headers 
#| of the Exchange bottle files.
#|
#| Users are also encouraged to acknowledge the funding program that supported the data collection in their publication. 
#| For US GO-SHIP data this is the NSF/NOAA funded U.S Repeat Hydrography Program.
EXPOCODE,SECT_ID,STNNBR,CASTNO,SAMPNO,BTLNBR,BTLNBR_FLAG_W,DATE,TIME,LATITUDE,LONGITUDE,DEPTH,CTDPRS,CTDTMP,CTDSAL,CTDSAL_FLAG_W,SALNTY,SALNTY_FLAG_W,OXYGEN,OXYGEN_FLAG_W,NITRAT,NITRAT_FLAG_W,NITRIT,NITRIT_FLAG_W,PHSPHT,PHSPHT_FLAG_W
,,,,,,,,,,,,DBAR,ITS-90,PSS-78,,PSS-78,,UMOL/KG,,UMOL/KG,,UMOL/KG,,UMOL/KG,
    49RY9301_1,  PR02,RY8327,  1,      1,      1,2,19930120,1507, 33.9903, 137.0125, 1181,      0.0,  17.5070,  34.6690,2,-999.0000,9,    228.0,2,     3.30,2,     0.31,2,     0.35,2
    49RY9301_1,  PR02,RY8327,  1,      2,      2,2,19930120,1507, 33.9903, 137.0125, 1181,     10.0,  17.5030,  34.6690,2,-999.0000,9,    227.0,2,     3.30,2,     0.31,2,     0.35,2
    49RY9301_1,  PR02,RY8327,  1,      3,      3,2,19930120,1507, 33.9903, 137.0125, 1181,     25.0,  17.5260,  34.6690,2,-999.0000,9,    228.0,2,     3.20,2,     0.31,2,     0.35,2
    49RY9301_1,  PR02,RY8327,  1,      4,      4,2,19930120,1507, 33.9903, 137.0125, 1181,     50.0,  17.0640,  34.6660,2,-999.0000,9,    234.0,2,     3.40,2,     0.35,2,     0.37,2
    49RY9301_1,  PR02,RY8327,  1,      5,      5,2,19930120,1507, 33.9903, 137.0125, 1181,     76.0,  16.5100,  34.6380,2,-999.0000,9,    232.0,2,     4.60,2,     0.43,2,     0.47,2
    49RY9301_1,  PR02,RY8327,  1,      6,      6,2,19930120,1507, 33.9903, 137.0125, 1181,    102.0,  16.4740,  34.6400,2,-999.0000,9,    230.0,2,     4.90,2,     0.43,2,     0.54,2
    49RY9301_1,  PR02,RY8327,  1,      7,      7,2,19930120,1507, 33.9903, 137.0125, 1181,    126.0,  15.5630,  34.5930,2,-999.0000,9,    205.0,2,     8.20,2,     0.18,2,     0.68,2
    49RY9301_1,  PR02,RY8327,  1,      8,      8,2,19930120,1507, 33.9903, 137.0125, 1181,    151.0,  14.6610,  34.5580,2,-999.0000,9,    185.0,2,    11.00,2,     0.06,2,     0.95,2
    49RY9301_1,  PR02,RY8327,  1,      9,      9,2,19930120,1507, 33.9903, 137.0125, 1181,    176.0,  13.4660,  34.5120,2,-999.0000,9,    169.0,2,    13.50,2,     0.00,2,     1.13,2
    49RY9301_1,  PR02,RY8327,  1,     10,     10,2,19930120,1507, 33.9903, 137.0125, 1181,    201.0,  12.9530,  34.4890,2,-999.0000,9,    166.0,2,    14.80,2,     0.02,2,     1.18,2
    49RY9301_1,  PR02,RY8327,  1,     11,     11,2,19930120,1507, 33.9903, 137.0125, 1181,    252.0,  11.1500,  34.4050,2,-999.0000,9,    154.0,2,    18.20,2,     0.00,2,     1.45,2
    49RY9301_1,  PR02,RY8327,  1,     12,     12,2,19930120,1507, 33.9903, 137.0125, 1181,    301.0,   9.5200,  34.3330,2,-999.0000,9,    141.0,2,    22.40,2,     0.00,2,     1.78,2
    49RY9301_1,  PR02,RY8327,  2,     13,     13,2,19930120,1628, 33.9643, 137.0477, 1592,    403.0,   7.4810,  34.2690,2,-999.0000,9,    126.0,2,    28.20,2,     0.00,2,     2.18,2
    49RY9301_1,  PR02,RY8327,  2,     14,     14,2,19930120,1628, 33.9643, 137.0477, 1592,    504.0,   5.9150,  34.2680,2,-999.0000,9,    100.0,2,    32.90,2,     0.00,2,     2.49,2
    49RY9301_1,  PR02,RY8327,  2,     15,     15,2,19930120,1628, 33.9643, 137.0477, 1592,    604.0,   5.1050,  34.2900,2,-999.0000,9,     89.0,2,    35.40,2,     0.00,2,     2.71,2
    49RY9301_1,  PR02,RY8327,  2,     16,     16,2,19930120,1628, 33.9643, 137.0477, 1592,    705.0,   4.2610,  34.3470,2,-999.0000,9,     76.0,2,    38.10,2,     0.00,2,     2.85,2
    49RY9301_1,  PR02,RY8327,  2,     17,     17,2,19930120,1628, 33.9643, 137.0477, 1592,    806.0,   3.9280,  34.3750,2,-999.0000,9,     71.0,2,    38.50,2,     0.00,2,     2.87,2
    49RY9301_1,  PR02,RY8327,  2,     18,     18,2,19930120,1628, 33.9643, 137.0477, 1592,    905.0,   3.7390,  34.3970,2,-999.0000,9,     69.0,2,    39.40,2,     0.00,2,     2.98,2
    49RY9301_1,  PR02,RY8327,  2,     19,     19,2,19930120,1628, 33.9643, 137.0477, 1592,   1006.0,   3.4190,  34.4320,2,-999.0000,9,     73.0,2,    40.00,2,     0.00,2,     2.93,2
    49RY9301_1,  PR02,RY8327,  2,     20,     20,2,19930120,1628, 33.9643, 137.0477, 1592,   1403.0,   2.7240,  34.5140,2,-999.0000,9,     85.0,2,    40.10,2,     0.00,2,     2.90,2
    49RY9301_1,  PR02,RY8328,  1,      1,      1,2,19930120,2038, 33.3442, 137.0233, 2744,      2.0,  19.4060,  34.7040,2,-999.0000,9,    226.0,2,     1.50,2,     0.20,2,     0.22,2
    49RY9301_1,  PR02,RY8328,  1,      2,      2,2,19930120,2038, 33.3442, 137.0233, 2744,      9.0,  19.3890,  34.6990,2,-999.0000,9,    226.0,2,     1.30,2,     0.23,2,     0.19,2
    49RY9301_1,  PR02,RY8328,  1,      3,      3,2,19930120,2038, 33.3442, 137.0233, 2744,     24.0,  19.4060,  34.7010,2,-999.0000,9,    224.0,2,     1.40,2,     0.22,2,     0.21,2
    49RY9301_1,  PR02,RY8328,  1,      4,      4,2,19930120,2038, 33.3442, 137.0233, 2744,     50.0,  19.3550,  34.7010,2,-999.0000,9,    224.0,2,     2.30,2,     0.23,2,     0.25,2
    49RY9301_1,  PR02,RY8328,  1,      5,      5,2,19930120,2038, 33.3442, 137.0233, 2744,     74.0,  19.0570,  34.6930,2,-999.0000,9,    218.0,2,     2.60,2,     0.25,2,     0.30,2
    49RY9301_1,  PR02,RY8328,  1,      6,      6,2,19930120,2038, 33.3442, 137.0233, 2744,    101.0,  18.5180,  34.6770,2,-999.0000,9,    225.0,2,     1.50,2,     0.22,2,     0.19,2
    49RY9301_1,  PR02,RY8328,  1,      7,      7,2,19930120,2038, 33.3442, 137.0233, 2744,    126.0,  17.6460,  34.5190,2,-999.0000,9,    230.0,2,     3.60,2,     0.47,2,     0.35,2
    49RY9301_1,  PR02,RY8328,  1,      8,      8,2,19930120,2038, 33.3442, 137.0233, 2744,    151.0,  16.8170,  34.3380,2,-999.0000,9,    229.0,2,     4.20,2,     0.49,2,     0.39,2
    49RY9301_1,  PR02,RY8328,  1,      9,      9,2,19930120,2038, 33.3442, 137.0233, 2744,    177.0,  16.8790,  34.6260,2,-999.0000,9,    190.0,2,     7.60,2,     0.02,2,     0.76,2
    49RY9301_1,  PR02,RY8328,  1,     10,     10,2,19930120,2038, 33.3442, 137.0233, 2744,    201.0,  15.5660,  34.5950,2,-999.0000,9,    183.0,2,    10.40,2,     0.00,2,     0.83,2
    49RY9301_1,  PR02,RY8328,  1,     11,     11,2,19930120,2038, 33.3442, 137.0233, 2744,    250.0,  13.0650,  34.5030,2,-999.0000,9,    168.0,2,    14.90,2,     0.00,2,     1.15,2
    49RY9301_1,  PR02,RY8328,  1,     12,     12,2,19930120,2038, 33.3442, 137.0233, 2744,    298.0,  10.7040,  34.3960,2,-999.0000,9,    154.0,2,    19.90,2,     0.00,2,     1.51,2
    49RY9301_1,  PR02,RY8328,  2,     13,     13,2,19930120,2221, 33.3333, 137.1288, 2749,    403.0,   7.8070,  34.2720,2,-999.0000,9,    129.0,2,    27.70,2,     0.00,2,     2.07,2
    49RY9301_1,  PR02,RY8328,  2,     14,     14,2,19930120,2221, 33.3333, 137.1288, 2749,    504.0,   6.3810,  34.2600,2,-999.0000,9,    129.0,2,    27.80,2,     0.01,2,     2.11,2
    49RY9301_1,  PR02,RY8328,  2,     15,     15,2,19930120,2221, 33.3333, 137.1288, 2749,    604.0,   5.2390,  34.2900,2,-999.0000,9,    108.0,2,    32.00,2,     0.00,2,     2.40,2
    49RY9301_1,  PR02,RY8328,  2,     16,     16,2,19930120,2221, 33.3333, 137.1288, 2749,    706.0,   4.5260,  34.3230,2,-999.0000,9,     83.0,2,    37.40,2,     0.00,2,     2.76,2
    49RY9301_1,  PR02,RY8328,  2,     17,     17,2,19930120,2221, 33.3333, 137.1288, 2749,    807.0,   3.9960,  34.3700,2,-999.0000,9,     79.0,2,    38.50,2,     0.00,2,     2.83,2
    49RY9301_1,  PR02,RY8328,  2,     18,     18,2,19930120,2221, 33.3333, 137.1288, 2749,    909.0,   3.6210,  34.4070,2,-999.0000,9,     73.0,2,    39.30,2,     0.00,2,     2.89,2
    49RY9301_1,  PR02,RY8328,  2,     19,     19,2,19930120,2221, 33.3333, 137.1288, 2749,   1009.0,   3.3210,  34.4410,2,-999.0000,9,     74.0,2,    39.50,2,     0.01,2,     2.89,2
    49RY9301_1,  PR02,RY8328,  2,     20,     20,2,19930120,2221, 33.3333, 137.1288, 2749,   1262.0,   2.8370,  34.4980,2,-999.0000,9,     86.0,2,    39.40,2,     0.00,2,     2.86,2
    49RY9301_1,  PR02,RY8328,  2,     21,     21,2,19930120,2221, 33.3333, 137.1288, 2749,   1514.0,   2.5120,  34.5380,2,-999.0000,9,     97.0,2,    39.30,2,     0.00,2,     2.87,2
    49RY9301_1,  PR02,RY8328,  2,     22,     22,2,19930120,2221, 33.3333, 137.1288, 2749,   2021.0,   1.9780,  34.6080,2,-999.0000,9,    124.0,2,    38.10,2,     0.00,2,     2.74,2
    49RY9301_1,  PR02,RY8328,  2,     23,     23,2,19930120,2221, 33.3333, 137.1288, 2749,   2531.0,   1.7110,  34.6480,2,-999.0000,9,    145.0,2,    37.30,2,     0.00,2,     2.65,2
    49RY9301_1,  PR02,RY8329,  1,      1,      1,2,19930121,0435, 32.6598, 137.0097, 4169,      3.0,  21.1500,  34.7460,2,-999.0000,9,    222.0,2,     0.50,2,     0.21,2,     0.09,2
    49RY9301_1,  PR02,RY8329,  1,      2,      2,2,19930121,0435, 32.6598, 137.0097, 4169,      8.0,  21.1420,  34.7470,2,-999.0000,9,    220.0,2,     0.40,2,     0.19,2,     0.08,2
    49RY9301_1,  PR02,RY8329,  1,      3,      3,2,19930121,0435, 32.6598, 137.0097, 4169,     24.0,  21.1690,  34.7460,2,-999.0000,9,    220.0,2,     0.30,2,     0.21,2,     0.09,2
    49RY9301_1,  PR02,RY8329,  1,      4,      4,2,19930121,0435, 32.6598, 137.0097, 4169,     50.0,  21.1630,  34.7470,2,-999.0000,9,    220.0,2,     0.50,2,     0.21,2,     0.10,2
    49RY9301_1,  PR02,RY8329,  1,      5,      5,2,19930121,0435, 32.6598, 137.0097, 4169,     75.0,  21.1860,  34.7460,2,-999.0000,9,    219.0,2,     0.40,2,     0.20,2,     0.08,2
    49RY9301_1,  PR02,RY8329,  1,      6,      6,2,19930121,0435, 32.6598, 137.0097, 4169,    100.0,  21.1850,  34.7470,2,-999.0000,9,    219.0,2,     0.40,2,     0.21,2,     0.08,2
    49RY9301_1,  PR02,RY8329,  1,      7,      7,2,19930121,0435, 32.6598, 137.0097, 4169,    126.0,  21.1870,  34.7470,2,-999.0000,9,    220.0,2,     0.40,2,     0.22,2,     0.07,2
    49RY9301_1,  PR02,RY8329,  1,      8,      8,2,19930121,0435, 32.6598, 137.0097, 4169,    150.0,  20.7550,  34.7550,2,-999.0000,9,    219.0,2,     0.60,2,     0.23,2,     0.09,2
    49RY9301_1,  PR02,RY8329,  1,      9,      9,2,19930121,0435, 32.6598, 137.0097, 4169,    175.0,  20.2130,  34.7570,2,-999.0000,9,    223.0,2,     0.50,2,     0.21,2,     0.07,2
    49RY9301_1,  PR02,RY8329,  1,     10,     10,2,19930121,0435, 32.6598, 137.0097, 4169,    200.0,  20.0480,  34.7610,2,-999.0000,9,    222.0,2,     0.80,2,     0.19,2,     0.06,2
    49RY9301_1,  PR02,RY8329,  1,     11,     11,2,19930121,0435, 32.6598, 137.0097, 4169,    250.0,  18.9640,  34.8500,2,-999.0000,9,    204.0,2,     2.80,2,     0.01,2,     0.23,2
    49RY9301_1,  PR02,RY8329,  1,     12,     12,2,19930121,0435, 32.6598, 137.0097, 4169,    301.0,  17.6870,  34.8100,2,-999.0000,9,    202.0,2,     4.50,2,     0.00,2,     0.35,2
    49RY9301_1,  PR02,RY8329,  1,     13,     13,2,19930121,0435, 32.6598, 137.0097, 4169,    403.0,  16.0360,  34.6980,2,-999.0000,9,    199.0,2,     7.30,2,     0.00,2,     0.53,2
    49RY9301_1,  PR02,RY8329,  2,     14,     14,2,19930121,0618, 32.6348, 137.0470, 4159,    504.0,  13.5320,  34.5080,2,-999.0000,9,    187.0,2,    12.50,2,     0.00,2,     0.90,2
    49RY9301_1,  PR02,RY8329,  2,     15,     15,2,19930121,0618, 32.6348, 137.0470, 4159,    604.0,  11.0930,  34.3270,2,-999.0000,9,    182.0,2,    17.10,2,     0.00,2,     1.22,2
    49RY9301_1,  PR02,RY8329,  2,     16,     16,2,19930121,0618, 32.6348, 137.0470, 4159,    702.0,   8.5800,  34.2060,2,-999.0000,9,    156.0,2,    24.70,2,     0.00,2,     1.75,2
    49RY9301_1,  PR02,RY8329,  2,     17,     17,2,19930121,0618, 32.6348, 137.0470, 4159,    806.0,   6.4440,  34.1590,2,-999.0000,9,    114.0,2,    32.30,2,     0.00,2,     2.29,2
    49RY9301_1,  PR02,RY8329,  2,     18,     18,2,19930121,0618, 32.6348, 137.0470, 4159,    906.0,   5.3170,  34.2040,2,-999.0000,9,     92.0,2,    36.20,2,     0.00,2,     2.55,2
    49RY9301_1,  PR02,RY8329,  2,     19,     19,2,19930121,0618, 32.6348, 137.0470, 4159,   1007.0,   4.5080,  34.3230,2,-999.0000,9,     74.0,2,    38.60,2,     0.00,2,     2.74,2
    49RY9301_1,  PR02,RY8329,  2,     20,     20,2,19930121,0618, 32.6348, 137.0470, 4159,   1261.0,   3.3510,  34.4380,2,-999.0000,9,     69.0,2,    40.70,2,     0.00,2,     2.85,2
    49RY9301_1,  PR02,RY8329,  2,     21,     21,2,19930121,0618, 32.6348, 137.0470, 4159,   1514.0,   2.7730,  34.5080,2,-999.0000,9,     83.0,2,    40.00,2,     0.00,2,     2.84,2
    49RY9301_1,  PR02,RY8329,  2,     22,     22,2,19930121,0618, 32.6348, 137.0470, 4159,   2022.0,   2.0860,  34.5940,2,-999.0000,9,    110.0,2,    39.30,2,     0.00,2,     2.74,2
    49RY9301_1,  PR02,RY8329,  2,     23,     23,2,19930121,0618, 32.6348, 137.0470, 4159,   2530.0,   1.7400,  34.6440,2,-999.0000,9,    135.0,2,    38.10,2,     0.03,2,     2.60,2
    49RY9301_1,  PR02,RY8329,  2,     24,     24,2,19930121,0618, 32.6348, 137.0470, 4159,   3040.0,   1.5750,  34.6690,2,-999.0000,9,    152.0,2,    36.90,2,     0.01,2,     2.56,2
    49RY9301_1,  PR02,RY8329,  2,     25,     25,2,19930121,0618, 32.6348, 137.0470, 4159,   3756.0,   1.5280,  34.6820,2,-999.0000,9,    159.0,2,    36.40,2,     0.01,2,     2.53,2
    49RY9301_1,  PR02,RY8330,  1,      1,      1,2,19930121,1115, 32.0005, 137.0018, 4225,      3.0,  19.9490,  34.7740,2,-999.0000,9,    236.0,2,  -999.00,9,     0.27,2,     0.15,2
    49RY9301_1,  PR02,RY8330,  1,      2,      2,2,19930121,1115, 32.0005, 137.0018, 4225,     10.0,  19.9500,  34.7750,2,  34.7790,2,    228.0,2,  -999.00,9,     0.25,2,     0.15,2
    49RY9301_1,  PR02,RY8330,  1,      3,      3,2,19930121,1115, 32.0005, 137.0018, 4225,     25.0,  19.9710,  34.7740,2,-999.0000,9,    225.0,2,  -999.00,9,     0.25,2,     0.16,2
    49RY9301_1,  PR02,RY8330,  1,      4,      4,2,19930121,1115, 32.0005, 137.0018, 4225,     50.0,  19.9750,  34.7730,2,  34.7760,2,    224.0,2,  -999.00,9,     0.26,2,     0.14,2
    49RY9301_1,  PR02,RY8330,  1,      5,      5,2,19930121,1115, 32.0005, 137.0018, 4225,     74.0,  19.9840,  34.7790,2,-999.0000,9,    220.0,2,  -999.00,9,     0.22,2,     0.17,2
    49RY9301_1,  PR02,RY8330,  1,      6,      6,2,19930121,1115, 32.0005, 137.0018, 4225,    100.0,  19.9370,  34.8050,2,  34.8080,2,    212.0,2,  -999.00,9,     0.15,2,     0.20,2
    49RY9301_1,  PR02,RY8330,  1,      7,      7,2,19930121,1115, 32.0005, 137.0018, 4225,    125.0,  19.6770,  34.8490,2,-999.0000,9,    200.0,2,  -999.00,9,     0.07,2,     0.28,2
    49RY9301_1,  PR02,RY8330,  1,      8,      8,2,19930121,1115, 32.0005, 137.0018, 4225,    150.0,  19.1550,  34.8480,2,  34.8520,2,    200.0,2,  -999.00,9,     0.03,2,     0.29,2
    49RY9301_1,  PR02,RY8330,  1,      9,      9,2,19930121,1115, 32.0005, 137.0018, 4225,    176.0,  18.8110,  34.8410,2,-999.0000,9,    204.0,2,  -999.00,9,     0.02,2,     0.30,2
    49RY9301_1,  PR02,RY8330,  1,     10,     10,2,19930121,1115, 32.0005, 137.0018, 4225,    200.0,  18.4730,  34.8360,2,  34.8270,2,    203.0,2,  -999.00,9,     0.03,2,     0.33,2
    49RY9301_1,  PR02,RY8330,  1,     11,     11,2,19930121,1115, 32.0005, 137.0018, 4225,    251.0,  17.7310,  34.7970,2,  34.7970,2,    197.0,2,  -999.00,9,     0.02,2,     0.45,2
    49RY9301_1,  PR02,RY8330,  1,     12,     12,2,19930121,1115, 32.0005, 137.0018, 4225,    301.0,  17.0210,  34.7610,2,  34.7660,2,    199.0,2,  -999.00,9,     0.03,2,     0.49,2
    49RY9301_1,  PR02,RY8330,  1,     13,     13,2,19930121,1115, 32.0005, 137.0018, 4225,    402.0,  15.6530,  34.6670,2,  34.6690,2,    196.0,2,  -999.00,9,     0.02,2,     0.68,2
    49RY9301_1,  PR02,RY8330,  2,     14,     14,2,19930121,1310, 31.9953, 137.0043, 4225,    503.0,  13.4640,  34.5120,2,  34.5120,2,    181.0,2,  -999.00,9,     0.00,2,     1.03,2
    49RY9301_1,  PR02,RY8330,  2,     15,     15,2,19930121,1310, 31.9953, 137.0043, 4225,    604.0,  11.2890,  34.3730,2,  34.3750,2,    168.0,2,  -999.00,9,     0.02,2,     1.39,2
    49RY9301_1,  PR02,RY8330,  2,     16,     16,2,19930121,1310, 31.9953, 137.0043, 4225,    704.0,   9.0070,  34.2510,2,  34.2510,2,    152.0,2,  -999.00,9,     0.01,2,     1.80,2
    49RY9301_1,  PR02,RY8330,  2,     17,     17,2,19930121,1310, 31.9953, 137.0043, 4225,    805.0,   6.8410,  34.2470,2,  34.2470,2,    115.0,2,  -999.00,9,     0.02,2,     2.35,2
    49RY9301_1,  PR02,RY8330,  2,     18,     18,2,19930121,1310, 31.9953, 137.0043, 4225,    906.0,   5.5110,  34.2640,2,  34.2650,2,     90.0,2,  -999.00,9,     0.01,2,     2.65,2
    49RY9301_1,  PR02,RY8330,  2,     19,     19,2,19930121,1310, 31.9953, 137.0043, 4225,   1007.0,   4.6990,  34.3050,2,  34.3050,2,     82.0,2,  -999.00,9,     0.02,2,     2.85,2
    49RY9301_1,  PR02,RY8330,  2,     20,     20,2,19930121,1310, 31.9953, 137.0043, 4225,   1261.0,   3.4230,  34.4310,2,  34.4310,2,     71.0,2,  -999.00,9,     0.01,2,     2.99,2
    49RY9301_1,  PR02,RY8330,  2,     21,     21,2,19930121,1310, 31.9953, 137.0043, 4225,   1514.0,   2.8490,  34.4970,2,  34.4980,2,     81.0,2,  -999.00,9,     0.00,2,     2.97,2
    49RY9301_1,  PR02,RY8330,  2,     22,     22,2,19930121,1310, 31.9953, 137.0043, 4225,   2021.0,   2.0970,  34.5930,2,  34.5910,2,    110.0,2,  -999.00,9,     0.00,2,     2.87,2
    49RY9301_1,  PR02,RY8330,  2,     23,     23,2,19930121,1310, 31.9953, 137.0043, 4225,   2531.0,   1.7630,  34.6410,2,  34.6390,2,    136.0,2,  -999.00,9,     0.00,2,     2.76,2
    49RY9301_1,  PR02,RY8330,  2,     24,     24,2,19930121,1310, 31.9953, 137.0043, 4225,   3041.0,   1.5730,  34.6690,2,  34.6650,2,    148.0,2,  -999.00,9,     0.01,2,     2.68,2
    49RY9301_1,  PR02,RY8330,  2,     25,     25,2,19930121,1310, 31.9953, 137.0043, 4225,   4064.0,   1.5450,  34.6840,2,  34.6780,2,    159.0,2,  -999.00,9,     0.02,2,     2.64,2