BOTTLE,20211215CCHSIOENA
EXPOCODE,SECT_ID,STNNBR,CASTNO,SAMPNO,BTLNBR,BTLNBR_FLAG_W,DATE,TIME,LATITUDE,LONGITUDE,DEPTH,CTDPRS,CTDTMP,CTDSAL,CTDSAL_FLAG_W,SALNTY,SALNTY_FLAG_W,OXYGEN,OXYGEN_FLAG_W,NITRAT,NITRAT_FLAG_W,NITRIT,NITRIT_FLAG_W,PHSPHT,PHSPHT_FLAG_W
,,,,,,,,,,,,DBAR,ITS-90,PSS-78,,PSS-78,,UMOL/KG,,UMOL/KG,,UMOL/KG,,UMOL/KG,
    49RY9301_1,  PR02,RY8335,  1,      1,      1,2,19930123,0547, 26.9863, 137.0025, 4524,      2.0,  20.5520,  34.7870,2,-999.0000,9,    226.0,2,     0.00,2,     0.00,2,     0.06,2
    49RY9301_1,  PR02,RY8335,  1,      2,      2,2,19930123,0547, 26.9863, 137.0025, 4524,     10.0,  20.5450,  34.7860,2,  34.7950,2,    225.0,2,     0.00,2,     0.00,2,     0.06,2
    49RY9301_1,  PR02,RY8335,  1,      3,      3,2,19930123,0547, 26.9863, 137.0025, 4524,     25.0,  20.5090,  34.7860,2,-999.0000,9,    227.0,2,     0.10,2,     0.00,2,     0.05,2
    49RY9301_1,  PR02,RY8335,  1,      4,      4,2,19930123,0547, 26.9863, 137.0025, 4524,     50.0,  20.4440,  34.7790,2,  34.7830,2,    225.0,2,     0.00,2,     0.00,2,     0.07,2
    49RY9301_1,  PR02,RY8335,  1,      5,      5,2,19930123,0547, 26.9863, 137.0025, 4524,     75.0,  20.4290,  34.7800,2,-999.0000,9,    224.0,2,     0.00,2,     0.01,2,     0.06,2
    49RY9301_1,  PR02,RY8335,  1,      6,      6,2,19930123,0547, 26.9863, 137.0025, 4524,    100.0,  20.0520,  34.7910,2,  34.7950,2,    212.0,2,     1.10,2,     0.05,2,     0.13,2
    49RY9301_1,  PR02,RY8335,  1,      7,      7,2,19930123,0547, 26.9863, 137.0025, 4524,    127.0,  19.2240,  34.8210,2,-999.0000,9,    204.0,2,     2.30,2,     0.01,2,     0.23,2
    49RY9301_1,  PR02,RY8335,  1,      8,      8,2,19930123,0547, 26.9863, 137.0025, 4524,    151.0,  18.4540,  34.8240,2,  34.8270,2,    205.0,2,     2.80,2,     0.01,2,     0.25,2
    49RY9301_1,  PR02,RY8335,  1,      9,      9,2,19930123,0547, 26.9863, 137.0025, 4524,    176.0,  17.9430,  34.8020,2,-999.0000,9,    204.0,2,     3.50,2,     0.01,2,     0.30,2
    49RY9301_1,  PR02,RY8335,  1,     10,     10,2,19930123,0547, 26.9863, 137.0025, 4524,    202.0,  17.6100,  34.7930,2,  34.7970,2,    205.0,2,     3.90,2,     0.01,2,     0.34,2
    49RY9301_1,  PR02,RY8335,  1,     11,     11,2,19930123,0547, 26.9863, 137.0025, 4524,    251.0,  17.0590,  34.7710,2,  34.7760,2,    203.0,2,     4.70,2,     0.01,2,     0.39,2
    49RY9301_1,  PR02,RY8335,  1,     12,     12,2,19930123,0547, 26.9863, 137.0025, 4524,    303.0,  16.3200,  34.7200,2,  34.7250,2,    202.0,2,     6.30,2,     0.00,2,     0.50,2
    49RY9301_1,  PR02,RY8335,  1,     13,     13,2,19930123,0547, 26.9863, 137.0025, 4524,    403.0,  14.0460,  34.5470,2,  34.5560,2,    185.0,2,    11.30,2,     0.00,2,     0.83,2
    49RY9301_1,  PR02,RY8335,  2,     14,     14,2,19930123,0729, 26.9672, 136.9955, 4586,    502.0,  10.9670,  34.3300,2,  34.3410,2,    177.0,2,    17.20,2,     0.00,2,     1.30,2
    49RY9301_1,  PR02,RY8335,  2,     15,     15,2,19930123,0729, 26.9672, 136.9955, 4586,    603.0,   8.5400,  34.2030,2,  34.2000,2,    158.0,2,    23.50,2,     0.00,2,     1.73,2
    49RY9301_1,  PR02,RY8335,  2,     16,     16,2,19930123,0729, 26.9672, 136.9955, 4586,    703.0,   6.5650,  34.1510,2,  34.1490,2,    129.0,2,    30.00,2,     0.00,2,     2.21,2
    49RY9301_1,  PR02,RY8335,  2,     17,     17,2,19930123,0729, 26.9672, 136.9955, 4586,    806.0,   5.2380,  34.1790,2,  34.1860,2,    101.0,2,    34.70,2,     0.00,2,     2.55,2
    49RY9301_1,  PR02,RY8335,  2,     18,     18,2,19930123,0729, 26.9672, 136.9955, 4586,    907.0,   4.3770,  34.2630,2,  34.2680,2,     79.0,2,    38.90,2,     0.00,2,     2.81,2
    49RY9301_1,  PR02,RY8335,  2,     19,     19,2,19930123,0729, 26.9672, 136.9955, 4586,   1008.0,   3.8270,  34.3380,2,  34.3390,2,     77.0,2,    40.40,2,     0.00,2,     2.91,2
    49RY9301_1,  PR02,RY8335,  2,     20,     20,2,19930123,0729, 26.9672, 136.9955, 4586,   1260.0,   3.0600,  34.4510,2,  34.4520,2,     71.0,2,    41.10,2,     0.00,2,     2.94,2
    49RY9301_1,  PR02,RY8335,  2,     21,     21,2,19930123,0729, 26.9672, 136.9955, 4586,   1514.0,   2.5270,  34.5280,2,  34.5260,2,     87.0,2,    39.50,2,     0.02,2,     2.88,2
    49RY9301_1,  PR02,RY8335,  2,     22,     22,2,19930123,0729, 26.9672, 136.9955, 4586,   2022.0,   1.9900,  34.6100,2,  34.6100,2,    123.0,2,    38.90,2,     0.00,2,     2.75,2
    49RY9301_1,  PR02,RY8335,  2,     23,     23,2,19930123,0729, 26.9672, 136.9955, 4586,   2531.0,   1.7210,  34.6500,2,  34.6600,2,    136.0,2,    37.20,2,     0.02,2,     2.64,2
    49RY9301_1,  PR02,RY8335,  2,     24,     24,2,19930123,0729, 26.9672, 136.9955, 4586,   3042.0,   1.5920,  34.6690,2,  34.6680,2,    152.0,2,    36.90,2,     0.00,2,     2.59,2
    49RY9301_1,  PR02,RY8335,  2,     25,     25,2,19930123,0729, 26.9672, 136.9955, 4586,   4170.0,   1.5320,  34.6870,2,  34.6850,2,    161.0,2,    36.40,2,     0.00,2,     2.52,2
    49RY9301_1,  PR02,RY8336,  1,      1,      1,2,19930123,1350, 25.9912, 136.9910, 5579,      3.0,  22.7050,  34.8510,2,-999.0000,9,    217.0,2,     0.00,2,     0.00,2,     0.06,2
    49RY9301_1,  PR02,RY8336,  1,      2,      2,2,19930123,1350, 25.9912, 136.9910, 5579,     10.0,  22.7030,  34.8490,2,-999.0000,9,    216.0,2,     0.00,2,     0.00,2,     0.05,2
    49RY9301_1,  PR02,RY8336,  1,      3,      3,2,19930123,1350, 25.9912, 136.9910, 5579,     25.0,  22.6890,  34.8460,2,-999.0000,9,    215.0,2,     0.00,2,     0.00,2,     0.04,2
    49RY9301_1,  PR02,RY8336,  1,      4,      4,2,19930123,1350, 25.9912, 136.9910, 5579,     50.0,  22.6180,  34.8420,2,-999.0000,9,    216.0,2,     0.00,2,     0.00,2,     0.06,2
    49RY9301_1,  PR02,RY8336,  1,      5,      5,2,19930123,1350, 25.9912, 136.9910, 5579,     75.0,  21.8490,  34.8170,2,-999.0000,9,    213.0,2,     0.00,2,     0.02,2,     0.05,2
    49RY9301_1,  PR02,RY8336,  1,      6,      6,2,19930123,1350, 25.9912, 136.9910, 5579,    100.0,  20.4500,  34.8860,2,-999.0000,9,    203.0,2,     0.70,2,     0.03,2,     0.10,2
    49RY9301_1,  PR02,RY8336,  1,      7,      7,2,19930123,1350, 25.9912, 136.9910, 5579,    126.0,  19.6410,  34.8520,2,-999.0000,9,    203.0,2,     1.20,2,     0.01,2,     0.18,2
    49RY9301_1,  PR02,RY8336,  1,      8,      8,2,19930123,1350, 25.9912, 136.9910, 5579,    151.0,  18.9990,  34.8460,2,-999.0000,9,    204.0,2,     1.90,2,     0.01,2,     0.19,2
    49RY9301_1,  PR02,RY8336,  1,      9,      9,2,19930123,1350, 25.9912, 136.9910, 5579,    176.0,  18.5290,  34.8410,2,-999.0000,9,    202.0,2,     2.40,2,     0.00,2,     0.22,2
    49RY9301_1,  PR02,RY8336,  1,     10,     10,2,19930123,1350, 25.9912, 136.9910, 5579,    201.0,  18.0530,  34.8200,2,-999.0000,9,    203.0,2,     2.80,2,     0.00,2,     0.27,2
    49RY9301_1,  PR02,RY8336,  1,     11,     11,2,19930123,1350, 25.9912, 136.9910, 5579,    302.0,  16.5690,  34.7380,2,-999.0000,9,    200.0,2,     5.00,2,     0.01,2,     0.42,2
    49RY9301_1,  PR02,RY8336,  1,     12,     12,2,19930123,1350, 25.9912, 136.9910, 5579,    402.0,  14.3610,  34.5730,2,-999.0000,9,    185.0,2,     9.50,2,     0.00,2,     0.73,2
    49RY9301_1,  PR02,RY8336,  1,     13,     13,2,19930123,1350, 25.9912, 136.9910, 5579,    503.0,  11.9930,  34.4030,2,-999.0000,9,    177.0,2,    14.50,2,     0.01,2,     1.06,2
    49RY9301_1,  PR02,RY8336,  2,     14,     14,2,19930123,1549, 26.0047, 136.9807, 5573,    604.0,   8.8860,  34.2210,2,-999.0000,9,    161.0,2,    21.80,2,     0.00,2,     1.60,2
    49RY9301_1,  PR02,RY8336,  2,     15,     15,2,19930123,1549, 26.0047, 136.9807, 5573,    705.0,   6.6220,  34.1590,2,-999.0000,9,    118.0,2,    29.50,2,     0.00,2,     2.14,2
    49RY9301_1,  PR02,RY8336,  2,     16,     16,2,19930123,1549, 26.0047, 136.9807, 5573,    806.0,   5.5300,  34.1960,2,-999.0000,9,     93.0,2,    34.00,2,     0.00,2,     2.46,2
    49RY9301_1,  PR02,RY8336,  2,     17,     17,2,19930123,1549, 26.0047, 136.9807, 5573,    906.0,   4.4360,  34.2760,2,-999.0000,9,     71.0,2,    38.30,2,     0.00,2,     2.73,2
    49RY9301_1,  PR02,RY8336,  2,     18,     18,2,19930123,1549, 26.0047, 136.9807, 5573,   1007.0,   3.8390,  34.3430,2,-999.0000,9,     63.0,2,    39.30,2,     0.00,2,     2.82,2
    49RY9301_1,  PR02,RY8336,  2,     19,     19,2,19930123,1549, 26.0047, 136.9807, 5573,   1261.0,   2.9690,  34.4630,2,-999.0000,9,     68.0,2,    40.90,2,     0.00,2,     2.87,2
    49RY9301_1,  PR02,RY8336,  2,     20,     20,2,19930123,1549, 26.0047, 136.9807, 5573,   1515.0,   2.4460,  34.5390,2,-999.0000,9,     86.0,2,    39.60,2,     0.00,2,     2.79,2
    49RY9301_1,  PR02,RY8336,  2,     21,     21,2,19930123,1549, 26.0047, 136.9807, 5573,   2022.0,   1.9490,  34.6190,2,-999.0000,9,    116.0,2,    38.30,2,     0.00,2,     2.63,2
    49RY9301_1,  PR02,RY8336,  2,     22,     22,2,19930123,1549, 26.0047, 136.9807, 5573,   2531.0,   1.7170,  34.6510,2,-999.0000,9,    133.0,2,    37.10,2,     0.00,2,     2.59,2
    49RY9301_1,  PR02,RY8336,  2,     23,     23,2,19930123,1549, 26.0047, 136.9807, 5573,   3041.0,   1.6010,  34.6690,2,-999.0000,9,    145.0,2,    37.00,2,     0.00,2,     2.50,2
    49RY9301_1,  PR02,RY8336,  2,     24,     24,2,19930123,1549, 26.0047, 136.9807, 5573,   4065.0,   1.5430,  34.6840,2,-999.0000,9,    156.0,2,    35.80,2,     0.00,2,     2.48,2
    49RY9301_1,  PR02,RY8336,  2,     25,     25,2,19930123,1549, 26.0047, 136.9807, 5573,   5097.0,   1.6350,  34.6860,2,-999.0000,9,    158.0,2,    35.70,2,     0.00,2,     2.43,2
    49RY9301_1,  PR02,RY8337,  1,      1,      1,2,19930123,2246, 24.9888, 136.9820, 5290,      2.0,  22.3270,  34.8320,2,-999.0000,9,    217.0,2,     0.20,2,     0.00,2,     0.10,2
    49RY9301_1,  PR02,RY8337,  1,      2,      2,2,19930123,2246, 24.9888, 136.9820, 5290,      9.0,  22.3320,  34.8320,2,-999.0000,9,    216.0,2,     0.00,2,     0.00,2,     0.05,2
    49RY9301_1,  PR02,RY8337,  1,      3,      3,2,19930123,2246, 24.9888, 136.9820, 5290,     26.0,  22.2440,  34.8220,2,-999.0000,9,    216.0,2,     0.00,2,     0.00,2,     0.05,2
    49RY9301_1,  PR02,RY8337,  1,      4,      4,2,19930123,2246, 24.9888, 136.9820, 5290,     49.0,  21.4540,  34.8010,2,-999.0000,9,    221.0,2,     0.00,2,     0.00,2,     0.04,2
    49RY9301_1,  PR02,RY8337,  1,      5,      5,2,19930123,2246, 24.9888, 136.9820, 5290,     75.0,  21.3200,  34.7930,2,-999.0000,9,   -999.0,5,     0.00,2,     0.00,2,     0.04,2
    49RY9301_1,  PR02,RY8337,  1,      6,      6,2,19930123,2246, 24.9888, 136.9820, 5290,    101.0,  21.0990,  34.7730,2,-999.0000,9,    221.0,2,     0.00,2,     0.01,2,     0.05,2
    49RY9301_1,  PR02,RY8337,  1,      7,      7,2,19930123,2246, 24.9888, 136.9820, 5290,    125.0,  20.9960,  34.7710,2,-999.0000,9,   -999.0,5,     0.10,2,     0.08,2,     0.06,2
    49RY9301_1,  PR02,RY8337,  1,      8,      8,2,19930123,2246, 24.9888, 136.9820, 5290,    151.0,  19.9620,  34.8140,2,-999.0000,9,    207.0,2,     1.30,2,     0.03,2,     0.14,2
    49RY9301_1,  PR02,RY8337,  1,      9,      9,2,19930123,2246, 24.9888, 136.9820, 5290,    176.0,  19.4410,  34.8410,2,-999.0000,9,    204.0,2,     1.80,2,     0.01,2,     0.21,2
    49RY9301_1,  PR02,RY8337,  1,     10,     10,2,19930123,2246, 24.9888, 136.9820, 5290,    201.0,  18.9840,  34.8360,2,-999.0000,9,    205.0,2,     2.30,2,     0.01,2,     0.22,2
    49RY9301_1,  PR02,RY8337,  1,     11,     11,2,19930123,2246, 24.9888, 136.9820, 5290,    303.0,  17.0350,  34.7680,2,-999.0000,9,    201.0,2,     4.70,2,     0.02,2,     0.40,2
    49RY9301_1,  PR02,RY8337,  1,     12,     12,2,19930123,2246, 24.9888, 136.9820, 5290,    403.0,  15.2750,  34.6410,2,-999.0000,9,    192.0,2,     8.00,2,     0.00,2,     0.66,2
    49RY9301_1,  PR02,RY8337,  1,     13,     13,2,19930123,2246, 24.9888, 136.9820, 5290,    503.0,  12.7380,  34.4480,2,-999.0000,9,    185.0,2,    12.30,2,     0.01,2,     0.95,2
    49RY9301_1,  PR02,RY8337,  2,     14,     14,2,19930124,0045, 24.9663, 136.9268, 5171,    605.0,  10.1140,  34.2800,2,-999.0000,9,    167.0,2,    18.80,2,     0.00,2,     1.46,2
    49RY9301_1,  PR02,RY8337,  2,     15,     15,2,19930124,0045, 24.9663, 136.9268, 5171,    705.0,   7.7250,  34.1700,2,-999.0000,9,    142.0,2,    25.70,2,     0.00,2,     1.95,2
    49RY9301_1,  PR02,RY8337,  2,     16,     16,2,19930124,0045, 24.9663, 136.9268, 5171,    807.0,   5.7790,  34.1630,2,-999.0000,9,    104.0,2,    32.30,2,     0.00,2,     2.46,2
    49RY9301_1,  PR02,RY8337,  2,     17,     17,2,19930124,0045, 24.9663, 136.9268, 5171,    907.0,   4.8350,  34.2220,2,-999.0000,9,     83.0,2,    36.20,2,     0.00,2,     2.67,2
    49RY9301_1,  PR02,RY8337,  2,     18,     18,2,19930124,0045, 24.9663, 136.9268, 5171,   1008.0,   4.1570,  34.2980,2,-999.0000,9,     64.0,2,    38.70,2,     0.01,2,     2.87,2
    49RY9301_1,  PR02,RY8337,  2,     19,     19,2,19930124,0045, 24.9663, 136.9268, 5171,   1261.0,   3.1600,  34.4330,2,-999.0000,9,     63.0,2,    40.40,2,     0.02,2,     2.96,2
    49RY9301_1,  PR02,RY8337,  2,     20,     20,2,19930124,0045, 24.9663, 136.9268, 5171,   1515.0,   2.6040,  34.5230,2,-999.0000,9,     80.0,2,    40.50,2,     0.00,2,     2.92,2
    49RY9301_1,  PR02,RY8337,  2,     21,     21,2,19930124,0045, 24.9663, 136.9268, 5171,   2022.0,   2.0630,  34.6090,2,-999.0000,9,    113.0,2,    38.50,2,     0.00,2,     2.74,2
    49RY9301_1,  PR02,RY8337,  2,     22,     22,2,19930124,0045, 24.9663, 136.9268, 5171,   2530.0,   1.7710,  34.6470,2,-999.0000,9,    132.0,2,    37.20,2,     0.01,2,     2.66,2
    49RY9301_1,  PR02,RY8337,  2,     23,     23,2,19930124,0045, 24.9663, 136.9268, 5171,   3040.0,   1.6270,  34.6670,2,-999.0000,9,    144.0,2,    37.00,2,     0.00,2,     2.58,2
    49RY9301_1,  PR02,RY8337,  2,     24,     24,2,19930124,0045, 24.9663, 136.9268, 5171,   4063.0,   1.5330,  34.6860,2,-999.0000,9,    159.0,2,    35.60,2,     0.01,2,     2.53,2
    49RY9301_1,  PR02,RY8337,  2,     25,     25,2,19930124,0045, 24.9663, 136.9268, 5171,   4682.0,   1.5850,  34.6870,2,-999.0000,9,    161.0,2,    36.00,2,     0.00,2,     2.51,2
    49RY9301_1,  PR02,RY8338,  1,      1,      1,2,19930124,0745, 24.0102, 136.9955, 3772,      2.0,  24.2800,  34.8270,2,-999.0000,9,    212.0,2,     0.20,2,     0.00,2,     0.02,2
    49RY9301_1,  PR02,RY8338,  1,      2,      2,2,19930124,0745, 24.0102, 136.9955, 3772,     10.0,  24.2780,  34.8270,2,-999.0000,9,    211.0,2,     0.10,2,     0.00,2,     0.02,2
    49RY9301_1,  PR02,RY8338,  1,      3,      3,2,19930124,0745, 24.0102, 136.9955, 3772,     24.0,  23.6020,  34.8320,2,-999.0000,9,    214.0,2,     0.20,2,     0.00,2,     0.01,2
    49RY9301_1,  PR02,RY8338,  1,      4,      4,2,19930124,0745, 24.0102, 136.9955, 3772,     51.0,  22.7470,  34.8320,2,-999.0000,9,    217.0,2,     0.20,2,     0.00,2,     0.02,2
    49RY9301_1,  PR02,RY8338,  1,      5,      5,2,19930124,0745, 24.0102, 136.9955, 3772,     75.0,  22.4820,  34.8160,2,-999.0000,9,    218.0,2,     0.20,2,     0.00,2,     0.01,2
    49RY9301_1,  PR02,RY8338,  1,      6,      6,2,19930124,0745, 24.0102, 136.9955, 3772,    100.0,  21.8390,  34.8140,2,-999.0000,9,    212.0,2,     0.40,2,     0.09,2,     0.03,2
    49RY9301_1,  PR02,RY8338,  1,      7,      7,2,19930124,0745, 24.0102, 136.9955, 3772,    124.0,  21.0250,  34.7770,2,-999.0000,9,    215.0,2,     0.40,2,     0.07,2,     0.02,2
    49RY9301_1,  PR02,RY8338,  1,      8,      8,2,19930124,0745, 24.0102, 136.9955, 3772,    150.0,  20.1380,  34.8470,2,-999.0000,9,    205.0,2,     1.40,2,     0.02,2,     0.11,2
    49RY9301_1,  PR02,RY8338,  1,      9,      9,2,19930124,0745, 24.0102, 136.9955, 3772,    176.0,  19.2730,  34.8460,2,-999.0000,9,    204.0,2,     2.30,2,     0.00,2,     0.19,2
    49RY9301_1,  PR02,RY8338,  1,     10,     10,2,19930124,0745, 24.0102, 136.9955, 3772,    200.0,  18.8400,  34.8350,2,-999.0000,9,    205.0,2,     2.50,2,     0.00,2,     0.22,2
    49RY9301_1,  PR02,RY8338,  1,     11,     11,2,19930124,0745, 24.0102, 136.9955, 3772,    252.0,  17.7070,  34.8060,2,-999.0000,9,    203.0,2,     4.00,2,     0.00,2,     0.30,2
    49RY9301_1,  PR02,RY8338,  1,     12,     12,2,19930124,0745, 24.0102, 136.9955, 3772,    301.0,  17.0660,  34.7730,2,-999.0000,9,    205.0,2,     4.80,2,     0.01,2,     0.36,2
    49RY9301_1,  PR02,RY8338,  1,     13,     13,2,19930124,0745, 24.0102, 136.9955, 3772,    403.0,  14.7660,  34.5930,2,-999.0000,9,    191.0,2,     9.60,2,     0.00,2,     0.71,2
    49RY9301_1,  PR02,RY8338,  2,     14,     14,2,19930124,0953, 24.0307, 136.9800, 4158,    505.0,  11.8030,  34.3760,2,-999.0000,9,    185.0,2,    15.10,2,     0.00,2,     1.13,2
    49RY9301_1,  PR02,RY8338,  2,     15,     15,2,19930124,0953, 24.0307, 136.9800, 4158,    604.0,   8.9760,  34.1920,2,-999.0000,9,    170.0,2,    21.20,2,     0.00,2,     1.61,2
    49RY9301_1,  PR02,RY8338,  2,     16,     16,2,19930124,0953, 24.0307, 136.9800, 4158,    705.0,   6.5620,  34.0900,2,-999.0000,9,    154.0,2,    29.70,2,     0.00,2,     2.19,2
    49RY9301_1,  PR02,RY8338,  2,     17,     17,2,19930124,0953, 24.0307, 136.9800, 4158,    807.0,   5.1330,  34.1780,2,-999.0000,9,     86.0,2,    37.00,2,     0.00,2,     2.69,2
    49RY9301_1,  PR02,RY8338,  2,     18,     18,2,19930124,0953, 24.0307, 136.9800, 4158,    907.0,   4.5320,  34.2820,2,-999.0000,9,     69.0,2,    40.20,2,     0.01,2,     2.91,2
    49RY9301_1,  PR02,RY8338,  2,     19,     19,2,19930124,0953, 24.0307, 136.9800, 4158,   1007.0,   4.2980,  34.3780,2,-999.0000,9,     68.0,2,    40.80,2,     0.00,2,     2.94,2
    49RY9301_1,  PR02,RY8338,  2,     20,     20,2,19930124,0953, 24.0307, 136.9800, 4158,   1262.0,   3.1190,  34.4620,2,-999.0000,9,     67.0,2,    42.10,2,     0.00,2,     2.99,2
    49RY9301_1,  PR02,RY8338,  2,     21,     21,2,19930124,0953, 24.0307, 136.9800, 4158,   1515.0,   2.5780,  34.5280,2,-999.0000,9,     83.0,2,    41.00,2,     0.00,2,     2.94,2
    49RY9301_1,  PR02,RY8338,  2,     22,     22,2,19930124,0953, 24.0307, 136.9800, 4158,   2023.0,   2.0170,  34.6130,2,-999.0000,9,    116.0,2,    39.60,2,     0.00,2,     2.78,2
    49RY9301_1,  PR02,RY8338,  2,     23,     23,2,19930124,0953, 24.0307, 136.9800, 4158,   2530.0,   1.7630,  34.6470,2,-999.0000,9,    132.0,2,    38.50,2,     0.00,2,     2.69,2
    49RY9301_1,  PR02,RY8338,  2,     24,     24,2,19930124,0953, 24.0307, 136.9800, 4158,   3040.0,   1.6170,  34.6670,2,-999.0000,9,    145.0,2,    37.80,2,     0.00,2,     2.61,2
    49RY9301_1,  PR02,RY8338,  2,     25,     25,2,19930124,0953, 24.0307, 136.9800, 4158,   3858.0,   1.5190,  34.6850,2,-999.0000,9,    158.0,2,    37.20,2,     0.00,2,     2.58,2