BOTTLE,20211129CCHSIORKP
EXPOCODE,SECT_ID,STNNBR,CASTNO,SAMPNO,BTLNBR,BTLNBR_FLAG_W,DATE,TIME,LATITUDE,LONGITUDE,DEPTH,CTDPRS,CTDSAL,CTDSAL_FLAG_W,SALNTY,SALNTY_FLAG_W,OXYGEN,OXYGEN_FLAG_W,NITRAT,NITRAT_FLAG_W,NITRIT,NITRIT_FLAG_W,PHSPHT,PHSPHT_FLAG_W,CTDTMP
,,,,,,,,,,,METERS,DBAR,PSS-78,,PSS-78,,UMOL/KG,,UMOL/KG,,UMOL/KG,,UMOL/KG,,DEG C
 49TU9210_1,       PR18,    PN-3,          2,     -999.0,     -999.0,9,19921010,       0431,    28.1045,   127.3505,     -999.0,     0.0,  34.3453,2,-999.0000,9,   202.0,3,    0.10,2,    0.10,2,    0.06,2,    26.9078
 49TU9210_1,       PR18,    PN-3,          2,     -999.0,          3,2,19921010,       0431,    28.1045,   127.3505,     -999.0,    10.2,  34.3451,2,-999.0000,9,   202.0,3,    0.10,2,    0.10,2,    0.06,2,    26.9068
 49TU9210_1,       PR18,    PN-3,          2,     -999.0,          2,2,19921010,       0431,    28.1045,   127.3505,     -999.0,    19.6,  34.3466,2,-999.0000,9,   202.0,3,    0.10,2,    0.10,2,    0.06,2,    26.8981
 49TU9210_1,       PR18,    PN-3,          2,     -999.0,          1,2,19921010,       0431,    28.1045,   127.3505,     -999.0,    30.2,  34.3542,2,-999.0000,9,   198.0,3,    0.10,2,    0.10,2,    0.06,2,    26.8960
 49TU9210_1,       PR18,    PN-3,          2,     -999.0,         12,2,19921010,       0431,    28.1045,   127.3505,     -999.0,    51.6,  34.4103,2,-999.0000,9,   201.0,3,    0.10,2,    0.10,2,    0.06,2,    26.8300
 49TU9210_1,       PR18,    PN-3,          2,     -999.0,         11,2,19921010,       0431,    28.1045,   127.3505,     -999.0,    76.4,  34.6620,2,-999.0000,9,   198.0,3,    0.20,2,    0.14,2,    0.07,2,    25.3438
 49TU9210_1,       PR18,    PN-3,          2,     -999.0,         10,2,19921010,       0431,    28.1045,   127.3505,     -999.0,   102.3,  34.8011,2,-999.0000,9,   192.0,3,    1.20,2,    0.14,2,    0.10,2,    23.5479
 49TU9210_1,       PR18,    PN-3,          2,     -999.0,          9,2,19921010,       0431,    28.1045,   127.3505,     -999.0,   126.8,  34.8378,2,-999.0000,9,   189.0,3,    2.70,2,    0.13,2,    0.17,2,    21.5292
 49TU9210_1,       PR18,    PN-3,          2,     -999.0,          8,2,19921010,       0431,    28.1045,   127.3505,     -999.0,   152.2,  34.8224,2,-999.0000,9,   189.0,3,    4.30,2,    0.11,2,    0.24,2,    19.6624
 49TU9210_1,       PR18,    PN-3,          2,     -999.0,          7,2,19921010,       0431,    28.1045,   127.3505,     -999.0,   202.5,  34.7860,2,-999.0000,9,   189.0,3,    5.80,2,    0.11,2,    0.35,2,    17.9652
 49TU9210_1,       PR18,    PN-3,          2,     -999.0,          6,2,19921010,       0431,    28.1045,   127.3505,     -999.0,   251.1,  34.7133,2,-999.0000,9,   187.0,3,    7.80,2,    0.11,2,    0.50,2,    16.5343
 49TU9210_1,       PR18,    PN-3,          2,     -999.0,          5,2,19921010,       0431,    28.1045,   127.3505,     -999.0,   299.6,  34.6460,2,-999.0000,9,   185.0,3,    9.80,2,    0.11,2,    0.64,2,    15.4787
 49TU9210_1,       PR18,   PN-b',          1,     -999.0,         10,2,19921010,       0616,    28.0353,   127.4643,       1099,   403.4,  34.4948,2,  34.4915,3,  -999.0,9, -999.00,9, -999.00,9, -999.00,9,    12.8585
 49TU9210_1,       PR18,   PN-b',          1,     -999.0,          9,2,19921010,       0616,    28.0353,   127.4643,       1099,   503.4,  34.3830,2,  34.3789,3,  -999.0,9, -999.00,9, -999.00,9, -999.00,9,    10.7144
 49TU9210_1,       PR18,   PN-b',          1,     -999.0,          8,2,19921010,       0616,    28.0353,   127.4643,       1099,   604.9,  34.2248,2,  34.2204,3,  -999.0,9, -999.00,9, -999.00,9, -999.00,9,     8.1281
 49TU9210_1,       PR18,   PN-b',          1,     -999.0,          7,2,19921010,       0616,    28.0353,   127.4643,       1099,   705.7,  34.2952,2,  34.2936,2,  -999.0,9, -999.00,9, -999.00,9, -999.00,9,     6.6208
 49TU9210_1,       PR18,   PN-b',          1,     -999.0,          6,2,19921010,       0616,    28.0353,   127.4643,       1099,   806.5,  34.3295,2,  34.3255,3,  -999.0,9, -999.00,9, -999.00,9, -999.00,9,     5.2816
 49TU9210_1,       PR18,   PN-b',          1,     -999.0,          5,2,19921010,       0616,    28.0353,   127.4643,       1099,   907.6,  34.3750,2,  34.3730,2,  -999.0,9, -999.00,9, -999.00,9, -999.00,9,     4.6373
 49TU9210_1,       PR18,   PN-b',          1,     -999.0,          4,2,19921010,       0616,    28.0353,   127.4643,       1099,  1017.2,  34.4087,2,  34.4080,2,  -999.0,9, -999.00,9, -999.00,9, -999.00,9,     4.2577
 49TU9210_1,       PR18,    PN-2,          1,     -999.0,          4,2,19921010,       1016,    27.7968,   127.7907,       1000,   402.9,  34.5913,2,-999.0000,9,   184.0,3,   10.50,2,    0.11,2,    0.68,2,    14.6425
 49TU9210_1,       PR18,    PN-2,          1,     -999.0,          3,2,19921010,       1016,    27.7968,   127.7907,       1000,   503.1,  34.3672,2,  34.3705,3,   162.0,3,   18.50,2,    0.11,2,    1.29,2,    11.1807
 49TU9210_1,       PR18,    PN-2,          1,     -999.0,          2,2,19921010,       1016,    27.7968,   127.7907,       1000,   604.1,  34.2803,2,-999.0000,9,   135.0,3,   24.10,2,    0.12,2,    1.74,2,     9.1224
 49TU9210_1,       PR18,    PN-2,          1,     -999.0,          1,2,19921010,       1016,    27.7968,   127.7907,       1000,   705.3,  34.2771,2,  34.2826,3,   103.0,3,   31.90,2,    0.11,2,    2.33,2,     6.7039
 49TU9210_1,       PR18,    PN-2,          1,     -999.0,         12,2,19921010,       1016,    27.7968,   127.7907,       1000,   805.1,  34.3170,2,-999.0000,9,    86.0,3,   35.10,2,    0.11,2,    2.62,2,     5.4838
 49TU9210_1,       PR18,    PN-2,          1,     -999.0,         11,2,19921010,       1016,    27.7968,   127.7907,       1000,   906.8,  34.3620,2,  34.3728,3,    78.0,3,   36.50,2,    0.12,2,    2.73,2,     4.7315
 49TU9210_1,       PR18,    PN-2,          2,     -999.0,     -999.0,9,19921010,       1100,    27.7917,   127.7712,     -999.0,     0.1,  34.5057,2,-999.0000,9,   203.0,3,    0.10,2,    0.10,2,    0.05,2,    26.0861
 49TU9210_1,       PR18,    PN-2,          2,     -999.0,          3,2,19921010,       1100,    27.7917,   127.7712,     -999.0,     9.8,  34.4987,2,-999.0000,9,   205.0,3,    0.10,2,    0.10,2,    0.05,2,    26.1007
 49TU9210_1,       PR18,    PN-2,          2,     -999.0,          2,2,19921010,       1100,    27.7917,   127.7712,     -999.0,    20.0,  34.5063,2,-999.0000,9,   204.0,3,    0.10,2,    0.10,2,    0.05,2,    26.1014
 49TU9210_1,       PR18,    PN-2,          2,     -999.0,          1,2,19921010,       1100,    27.7917,   127.7712,     -999.0,    29.9,  34.5087,2,-999.0000,9,   205.0,3,    0.10,2,    0.10,2,    0.05,2,    26.0982
 49TU9210_1,       PR18,    PN-2,          2,     -999.0,         12,2,19921010,       1100,    27.7917,   127.7712,     -999.0,    50.2,  34.5246,2,  34.5261,2,   204.0,3,    0.10,2,    0.10,2,    0.05,2,    26.0472
 49TU9210_1,       PR18,    PN-2,          2,     -999.0,         11,2,19921010,       1100,    27.7917,   127.7712,     -999.0,    76.5,  34.7840,2,-999.0000,9,   194.0,3,    1.70,2,    0.17,2,    0.14,2,    22.6915
 49TU9210_1,       PR18,    PN-2,          2,     -999.0,         10,2,19921010,       1100,    27.7917,   127.7712,     -999.0,   100.9,  34.8237,2,-999.0000,9,   205.0,3,    1.00,2,    0.18,2,    0.10,2,    21.1826
 49TU9210_1,       PR18,    PN-2,          2,     -999.0,          9,2,19921010,       1100,    27.7917,   127.7712,     -999.0,   127.1,  34.8629,2,-999.0000,9,   199.0,3,    1.80,2,    0.13,2,    0.14,2,    19.7432
 49TU9210_1,       PR18,    PN-2,          2,     -999.0,          8,2,19921010,       1100,    27.7917,   127.7712,     -999.0,   151.8,  34.8514,2,  34.8558,3,   198.0,3,    2.80,2,    0.12,2,    0.18,2,    19.0517
 49TU9210_1,       PR18,    PN-2,          2,     -999.0,          7,2,19921010,       1100,    27.7917,   127.7712,     -999.0,   201.5,  34.8161,2,-999.0000,9,   195.0,3,    4.30,2,    0.12,2,    0.24,2,    18.0751
 49TU9210_1,       PR18,    PN-2,          2,     -999.0,          6,2,19921010,       1100,    27.7917,   127.7712,     -999.0,   250.7,  34.7919,2,-999.0000,9,   197.0,3,    4.80,2,    0.12,2,    0.28,2,    17.4171
 49TU9210_1,       PR18,    PN-2,          2,     -999.0,          5,2,19921010,       1100,    27.7917,   127.7712,     -999.0,   300.6,  34.7319,2,  34.7217,3,   195.0,3, -999.00,4, -999.00,4, -999.00,4,    16.5321
 49TU9210_1,       PR18,    PN-1,          1,     -999.0,         10,2,19921010,       1533,    27.5047,   128.2408,       1000,   402.3,  34.5326,2,  34.5334,2,   181.0,3,   12.60,2,    0.11,2,    0.80,2,    13.7262
 49TU9210_1,       PR18,    PN-1,          1,     -999.0,          9,2,19921010,       1533,    27.5047,   128.2408,       1000,   506.2,  34.3836,2,  34.3856,2,   160.0,3,   19.00,2,    0.11,2,    1.31,2,    11.1167
 49TU9210_1,       PR18,    PN-1,          1,     -999.0,          8,2,19921010,       1533,    27.5047,   128.2408,       1000,   606.0,  34.3189,2,  34.3200,2,   133.0,3,   26.00,2,    0.10,2,    1.83,2,     8.7763
 49TU9210_1,       PR18,    PN-1,          1,     -999.0,          7,2,19921010,       1533,    27.5047,   128.2408,       1000,   706.1,  34.3115,2,  34.3139,2,   112.0,3,   29.80,2,    0.11,2,    2.18,2,     7.2952
 49TU9210_1,       PR18,    PN-1,          1,     -999.0,          6,2,19921010,       1533,    27.5047,   128.2408,       1000,   807.8,  34.3191,2,  34.3298,3,   103.0,3,   31.60,2,    0.11,2,    2.34,2,     6.5141
 49TU9210_1,       PR18,    PN-1,          1,     -999.0,          5,2,19921010,       1533,    27.5047,   128.2408,       1000,   901.5,  34.3204,2,  34.3235,3,    96.0,3,   33.20,2,    0.11,2,    2.46,2,     6.1833
 49TU9210_1,       PR18,    PN-1,          2,     -999.0,     -999.0,9,19921010,       1657,    27.5115,   128.2095,     -999.0,     0.0,  34.5601,2,-999.0000,9,   204.0,3,    0.10,2,    0.10,2,    0.05,2,    26.7800
 49TU9210_1,       PR18,    PN-1,          2,     -999.0,         10,2,19921010,       1657,    27.5115,   128.2095,     -999.0,    10.2,  34.5602,2,-999.0000,9,   204.0,3,    0.10,2,    0.10,2,    0.05,2,    26.7919
 49TU9210_1,       PR18,    PN-1,          2,     -999.0,          9,2,19921010,       1657,    27.5115,   128.2095,     -999.0,    20.3,  34.5602,2,-999.0000,9,   204.0,3,    0.10,2,    0.10,2,    0.05,2,    26.7925
 49TU9210_1,       PR18,    PN-1,          2,     -999.0,          8,2,19921010,       1657,    27.5115,   128.2095,     -999.0,    31.2,  34.5604,2,  34.5602,2,   204.0,3,    0.10,2,    0.10,2,    0.05,2,    26.7945
 49TU9210_1,       PR18,    PN-1,          2,     -999.0,          7,2,19921010,       1657,    27.5115,   128.2095,     -999.0,    51.2,  34.5616,2,-999.0000,9,   204.0,3,    0.10,2,    0.10,2,    0.05,2,    26.7868
 49TU9210_1,       PR18,    PN-1,          2,     -999.0,          6,2,19921010,       1657,    27.5115,   128.2095,     -999.0,    75.6,  34.6611,2,-999.0000,9,   215.0,3,    0.10,2,    0.10,2,    0.06,2,    24.7501
 49TU9210_1,       PR18,    PN-1,          2,     -999.0,          5,2,19921010,       1657,    27.5115,   128.2095,     -999.0,   101.9,  34.8582,2,-999.0000,9,   211.0,3,    0.40,2,    0.18,2,    0.09,2,    20.6815
 49TU9210_1,       PR18,    PN-1,          2,     -999.0,          4,2,19921010,       1657,    27.5115,   128.2095,     -999.0,   125.7,  34.8589,2,-999.0000,9,   204.0,3,    1.80,2,    0.14,2,    0.12,2,    19.8381
 49TU9210_1,       PR18,    PN-1,          2,     -999.0,          3,2,19921010,       1657,    27.5115,   128.2095,     -999.0,   151.3,  34.8323,2,-999.0000,9,   198.0,3,    3.20,2,    0.12,2,    0.18,2,    19.1009
 49TU9210_1,       PR18,    PN-1,          2,     -999.0,          2,2,19921010,       1657,    27.5115,   128.2095,     -999.0,   201.2,  34.7923,2,-999.0000,9,   198.0,3,    5.10,2,    0.11,2,    0.25,2,    17.7026
 49TU9210_1,       PR18,    PN-1,          2,     -999.0,          1,2,19921010,       1657,    27.5115,   128.2095,     -999.0,   252.4,  34.7252,2,-999.0000,9,   194.0,3,    6.80,2,    0.11,2,    0.34,2,    16.5181
 49TU9210_1,       PR18,    PN-1,          2,     -999.0,         12,2,19921010,       1657,    27.5115,   128.2095,     -999.0,   303.9,  34.6696,2,  34.6755,3,   186.0,3,    8.80,2,    0.11,2,    0.52,2,    15.7167