BOTTLE,20211129CCHSIORKP
# Original header:
#changed all fill flags to 9
#code : jjward hyd_to_exchange.pl 
#original files copied from HTML directory: 20010801
#original HYD file: pr18_ghy.txt   Thu Aug  2 16:05:54 2001
#original SUM file: pr18_gsu.txt.tmp   Thu Aug  2 16:07:41 2001
EXPOCODE,SECT_ID,STNNBR,CASTNO,SAMPNO,BTLNBR,BTLNBR_FLAG_W,DATE,TIME,LATITUDE,LONGITUDE,DEPTH,CTDPRS,CTDSAL,CTDSAL_FLAG_W,SALNTY,SALNTY_FLAG_W,OXYGEN,OXYGEN_FLAG_W,NITRAT,NITRAT_FLAG_W,NITRIT,NITRIT_FLAG_W,PHSPHT,PHSPHT_FLAG_W,CTDTMP
,,,,,,,,,,,METERS,DBAR,PSS-78,,PSS-78,,UMOL/KG,,UMOL/KG,,UMOL/KG,,UMOL/KG,,DEG C
 49TU9210_1,       PR18,    PN-9,          1,     -999.0,     -999.0,9,19921008,       1740,    30.0003,   124.4973,         65,     0.8,  33.8954,2,-999.0000,9,   207.0,3,    0.30,2,    0.17,2,    0.14,2,    24.5232
 49TU9210_1,       PR18,    PN-9,          1,     -999.0,          5,2,19921008,       1740,    30.0003,   124.4973,         65,    10.1,  33.8963,2,-999.0000,9,   207.0,3,    0.20,2,    0.16,2,    0.17,2,    24.5301
 49TU9210_1,       PR18,    PN-9,          1,     -999.0,          4,2,19921008,       1740,    30.0003,   124.4973,         65,    19.5,  33.8953,2,-999.0000,9,   207.0,3,    0.20,2,    0.16,2,    0.17,2,    24.5432
 49TU9210_1,       PR18,    PN-9,          1,     -999.0,          3,2,19921008,       1740,    30.0003,   124.4973,         65,    30.3,  33.8961,2,-999.0000,9,   206.0,3,    0.30,2,    0.17,2,    0.16,2,    24.5417
 49TU9210_1,       PR18,    PN-9,          1,     -999.0,          2,2,19921008,       1740,    30.0003,   124.4973,         65,    49.2,  33.9837,2,-999.0000,9,   196.0,3,    1.30,2,    0.24,2,    0.25,2,    24.1222
 49TU9210_1,       PR18,    PN-9,          1,     -999.0,          1,2,19921008,       1740,    30.0003,   124.4973,         65,    61.0,  34.2539,2,-999.0000,9,   193.0,3,    6.70,2,    0.38,2,    0.65,2,    22.9885
 49TU9210_1,       PR18,    PN-8,          1,     -999.0,     -999.0,9,19921008,       2313,    29.5998,   125.0775,         87,     0.8,  33.8679,2,-999.0000,9,   206.0,3,    0.60,2,    0.14,2,    0.14,2,    24.5972
 49TU9210_1,       PR18,    PN-8,          1,     -999.0,          5,2,19921008,       2313,    29.5998,   125.0775,         87,     7.0,  33.8675,2,  33.8662,2,   208.0,3,    0.20,2,    0.17,2,    0.14,2,    24.6088
 49TU9210_1,       PR18,    PN-8,          1,     -999.0,          4,2,19921008,       2313,    29.5998,   125.0775,         87,    20.0,  33.8677,2,  33.8678,2,   208.0,3,    0.20,2,    0.14,2,    0.13,2,    24.6168
 49TU9210_1,       PR18,    PN-8,          1,     -999.0,          3,2,19921008,       2313,    29.5998,   125.0775,         87,    29.3,  33.8674,2,  33.8694,2,   207.0,3,    0.20,2,    0.12,2,    0.08,2,    24.6077
 49TU9210_1,       PR18,    PN-8,          1,     -999.0,          2,2,19921008,       2313,    29.5998,   125.0775,         87,    51.4,  34.1535,2,  34.1248,3,   151.0,3,    4.90,2,    0.24,2,    0.51,2,    23.5697
 49TU9210_1,       PR18,    PN-8,          1,     -999.0,          1,2,19921008,       2313,    29.5998,   125.0775,         87,    82.8,  34.4269,2,  34.4247,2,   134.0,3,    8.20,2,    0.17,2,    0.67,2,    21.7724
 49TU9210_1,       PR18,    PN-7,          1,     -999.0,     -999.0,9,19921009,       0330,    29.2768,   125.5510,         89,     0.0,  34.0691,2,-999.0000,9,   206.0,3,    0.60,2,    0.14,2,    0.04,2,    25.9066
 49TU9210_1,       PR18,    PN-7,          1,     -999.0,          6,2,19921009,       0330,    29.2768,   125.5510,         89,     9.3,  34.0667,2,-999.0000,9,   206.0,3,    0.20,2,    0.11,2,    0.04,2,    25.9125
 49TU9210_1,       PR18,    PN-7,          1,     -999.0,          5,2,19921009,       0330,    29.2768,   125.5510,         89,    17.9,  34.0697,2,-999.0000,9,   206.0,3,    0.10,2,    0.11,2,    0.03,2,    25.9255
 49TU9210_1,       PR18,    PN-7,          1,     -999.0,          4,2,19921009,       0330,    29.2768,   125.5510,         89,    28.4,  34.0695,2,-999.0000,9,   201.0,3,    0.10,2,    0.11,2,    0.03,2,    25.9291
 49TU9210_1,       PR18,    PN-7,          1,     -999.0,          3,2,19921009,       0330,    29.2768,   125.5510,         89,    50.0,  34.0684,2,-999.0000,9,   205.0,3,    0.00,2,    0.10,2,    0.04,2,    25.9203
 49TU9210_1,       PR18,    PN-7,          1,     -999.0,          2,2,19921009,       0330,    29.2768,   125.5510,         89,    75.9,  34.4774,2,-999.0000,9,   143.0,3,    9.80,2,    0.14,2,    0.61,2,    19.6327
 49TU9210_1,       PR18,    PN-7,          1,     -999.0,          1,2,19921009,       0330,    29.2768,   125.5510,         89,    83.0,  34.4751,2,-999.0000,9,   143.0,3,   10.70,2,    0.14,2,    0.78,2,    19.1376
 49TU9210_1,       PR18,    PN-6,          1,     -999.0,     -999.0,9,19921009,       0930,    28.9968,   125.9912,        121,     0.0,  34.0074,2,-999.0000,9,   205.0,3,    0.10,2,    0.11,2,    0.05,2,    26.2451
 49TU9210_1,       PR18,    PN-6,          1,     -999.0,          7,2,19921009,       0930,    28.9968,   125.9912,        121,     7.6,  34.0080,2,-999.0000,9,   205.0,3,    0.10,2,    0.11,2,    0.06,2,    26.2456
 49TU9210_1,       PR18,    PN-6,          1,     -999.0,          6,2,19921009,       0930,    28.9968,   125.9912,        121,    18.3,  34.0079,2,-999.0000,9,   206.0,3,    0.00,2,    0.10,2,    0.07,2,    26.2633
 49TU9210_1,       PR18,    PN-6,          1,     -999.0,          5,2,19921009,       0930,    28.9968,   125.9912,        121,    27.2,  34.0084,2,-999.0000,9,   206.0,3,    0.00,2,    0.10,2,    0.06,2,    26.2612
 49TU9210_1,       PR18,    PN-6,          1,     -999.0,          4,2,19921009,       0930,    28.9968,   125.9912,        121,    49.7,  34.0074,2,-999.0000,9,   205.0,3,    0.00,2,    0.10,2,    0.06,2,    26.2497
 49TU9210_1,       PR18,    PN-6,          1,     -999.0,          3,2,19921009,       0930,    28.9968,   125.9912,        121,    73.8,  34.4867,2,-999.0000,9,   161.0,3,   10.30,2,    0.13,2,    0.79,2,    18.5304
 49TU9210_1,       PR18,    PN-6,          1,     -999.0,          2,2,19921009,       0930,    28.9968,   125.9912,        121,    97.8,  34.4886,2,-999.0000,9,   154.0,3,   11.00,2,    0.12,2,    0.83,2,    18.1023
 49TU9210_1,       PR18,    PN-6,          1,     -999.0,          1,2,19921009,       0930,    28.9968,   125.9912,        121,   108.1,  34.4879,2,-999.0000,9,   154.0,3,   11.20,2,    0.12,2,    0.74,2,    18.1028
 49TU9210_1,       PR18,    PN-5,          1,     -999.0,     -999.0,9,19921009,       1325,    28.6933,   126.4548,        128,     0.0,  34.2034,2,-999.0000,9,   209.0,3,    0.10,2,    0.10,2,    0.06,2,    25.4357
 49TU9210_1,       PR18,    PN-5,          1,     -999.0,          2,2,19921009,       1325,    28.6933,   126.4548,        128,     9.6,  34.2021,2,  34.2007,2,   210.0,3,    0.10,2,    0.10,2,    0.06,2,    25.4496
 49TU9210_1,       PR18,    PN-5,          1,     -999.0,          1,2,19921009,       1325,    28.6933,   126.4548,        128,    20.0,  34.2010,2,  34.2009,2,   210.0,3,    0.10,2,    0.10,2,    0.06,2,    25.4474
 49TU9210_1,       PR18,    PN-5,          1,     -999.0,         12,2,19921009,       1325,    28.6933,   126.4548,        128,    28.7,  34.2051,2,  34.2047,2,   209.0,3,    0.10,2,    0.10,2,    0.06,2,    25.4601
 49TU9210_1,       PR18,    PN-5,          1,     -999.0,         11,2,19921009,       1325,    28.6933,   126.4548,        128,    49.9,  34.7157,2,  34.7140,2,   192.0,3,    1.80,2,    0.34,2,    0.14,2,    23.1695
 49TU9210_1,       PR18,    PN-5,          1,     -999.0,         10,2,19921009,       1325,    28.6933,   126.4548,        128,    74.4,  34.7113,2,  34.7040,2,   181.0,3,    4.40,2,    0.34,2,    0.28,2,    21.1736
 49TU9210_1,       PR18,    PN-5,          1,     -999.0,          9,2,19921009,       1325,    28.6933,   126.4548,        128,    99.7,  34.7095,2,  34.7111,2,   169.0,3,    7.00,2,    0.13,2,    0.47,2,    19.7274
 49TU9210_1,       PR18,    PN-5,          1,     -999.0,          8,2,19921009,       1325,    28.6933,   126.4548,        128,   124.9,  34.5901,2,  34.5930,2,   164.0,3,   12.30,2,    0.17,2,    0.86,2,    15.3988
 49TU9210_1,       PR18,   PN-4',          1,     -999.0,     -999.0,9,19921009,       1552,    28.5510,   126.6865,        153,     0.0,  34.3557,2,-999.0000,9,   205.0,3,    0.10,2,    0.10,2,    0.06,2,    26.3324
 49TU9210_1,       PR18,   PN-4',          1,     -999.0,         10,2,19921009,       1552,    28.5510,   126.6865,        153,    10.0,  34.3550,2,-999.0000,9,   205.0,3,    0.10,2,    0.10,2,    0.07,2,    26.3564
 49TU9210_1,       PR18,   PN-4',          1,     -999.0,          9,2,19921009,       1552,    28.5510,   126.6865,        153,    18.7,  34.3550,2,-999.0000,9,   205.0,3,    0.10,2,    0.10,2,    0.05,2,    26.3538
 49TU9210_1,       PR18,   PN-4',          1,     -999.0,          8,2,19921009,       1552,    28.5510,   126.6865,        153,    29.3,  34.3555,2,-999.0000,9,   205.0,3,    0.10,2,    0.10,2,    0.05,2,    26.3518
 49TU9210_1,       PR18,   PN-4',          1,     -999.0,          7,2,19921009,       1552,    28.5510,   126.6865,        153,    49.5,  34.2055,2,-999.0000,9,   207.0,3,    0.10,2,    0.10,2,    0.04,2,    25.6996
 49TU9210_1,       PR18,   PN-4',          1,     -999.0,          6,2,19921009,       1552,    28.5510,   126.6865,        153,    74.9,  34.7332,2,-999.0000,9,   171.0,3,    5.30,2,    0.17,2,    0.40,2,    20.5927
 49TU9210_1,       PR18,   PN-4',          1,     -999.0,          5,2,19921009,       1552,    28.5510,   126.6865,        153,   100.6,  34.6866,2,-999.0000,9,   167.0,3,    7.80,2,    0.14,2,    0.56,2,    18.8359
 49TU9210_1,       PR18,   PN-4',          1,     -999.0,          4,2,19921009,       1552,    28.5510,   126.6865,        153,   124.8,  34.6792,2,-999.0000,9,   168.0,3,    8.00,2,    0.14,2,    0.57,2,    18.6553
 49TU9210_1,       PR18,   PN-4',          1,     -999.0,          3,2,19921009,       1552,    28.5510,   126.6865,        153,   145.4,  34.5257,2,-999.0000,9,   163.0,3,   14.70,2,    0.13,2,    1.00,2,    13.6109
 49TU9210_1,       PR18,    PN-4,          1,     -999.0,     -999.0,9,19921009,       1822,    28.4022,   126.9012,        279,     0.0,  34.2579,2,-999.0000,9,   202.0,3,    0.10,2,    0.11,2,    0.06,2,    26.3043
 49TU9210_1,       PR18,    PN-4,          1,     -999.0,          5,2,19921009,       1822,    28.4022,   126.9012,        279,     9.9,  34.2570,2,-999.0000,9,   206.0,3,    0.10,2,    0.10,2,    0.07,2,    26.3201
 49TU9210_1,       PR18,    PN-4,          1,     -999.0,          4,2,19921009,       1822,    28.4022,   126.9012,        279,    19.8,  34.2573,2,-999.0000,9,   207.0,3,    0.10,2,    0.10,2,    0.06,2,    26.3296
 49TU9210_1,       PR18,    PN-4,          1,     -999.0,          3,2,19921009,       1822,    28.4022,   126.9012,        279,    29.8,  34.2606,2,-999.0000,9,   207.0,3,    0.10,2,    0.10,2,    0.07,2,    26.3396
 49TU9210_1,       PR18,    PN-4,          1,     -999.0,          2,2,19921009,       1822,    28.4022,   126.9012,        279,    50.7,  34.2643,2,-999.0000,9,   207.0,3,    0.10,2,    0.11,2,    0.07,2,    26.3426
 49TU9210_1,       PR18,    PN-4,          1,     -999.0,          1,2,19921009,       1822,    28.4022,   126.9012,        279,    73.8,  34.5039,2,-999.0000,9,   193.0,3,    1.30,2,    0.35,2,    0.14,2,    24.8051
 49TU9210_1,       PR18,    PN-4,          1,     -999.0,         12,2,19921009,       1822,    28.4022,   126.9012,        279,   101.1,  34.6408,2,-999.0000,9,   190.0,3,    3.30,2,    0.14,2,    0.18,2,    22.5773
 49TU9210_1,       PR18,    PN-4,          1,     -999.0,         11,2,19921009,       1822,    28.4022,   126.9012,        279,   125.5,  34.6499,2,-999.0000,9,   183.0,3,    4.90,2,    0.13,2,    0.33,2,    20.7457
 49TU9210_1,       PR18,    PN-4,          1,     -999.0,         10,2,19921009,       1822,    28.4022,   126.9012,        279,   150.7,  34.6946,2,-999.0000,9,   183.0,3,    6.30,2,    0.13,2,    0.42,2,    19.2855
 49TU9210_1,       PR18,    PN-4,          1,     -999.0,          9,2,19921009,       1822,    28.4022,   126.9012,        279,   201.1,  34.6393,2,-999.0000,9,   176.0,3,   10.50,2,    0.13,2,    0.69,2,    16.0885
 49TU9210_1,       PR18,    PN-4,          1,     -999.0,          8,2,19921009,       1822,    28.4022,   126.9012,        279,   251.4,  34.4123,2,-999.0000,9,   157.0,3,   19.20,2,    0.12,2,    1.34,2,    11.3596
 49TU9210_1,       PR18,    PN-4,          1,     -999.0,          7,2,19921009,       1822,    28.4022,   126.9012,        279,   263.3,  34.4035,2,-999.0000,9,   157.0,3,   19.50,2,    0.12,2,    1.27,2,    11.2587
 49TU9210_1,       PR18,   PN-3',          1,     -999.0,         11,2,19921009,       2341,    28.2523,   127.1335,        960,   402.3,  34.4179,2,  34.4172,2,   150.0,3,   20.10,2,    0.11,2,    1.37,2,    11.0346
 49TU9210_1,       PR18,   PN-3',          1,     -999.0,         10,2,19921009,       2341,    28.2523,   127.1335,        960,   504.7,  34.2958,2,  34.2960,2,   121.0,3,   28.10,2,    0.10,2,    2.03,2,     7.9301
 49TU9210_1,       PR18,   PN-3',          1,     -999.0,          9,2,19921009,       2341,    28.2523,   127.1335,        960,   604.5,  34.2527,2,  34.2536,2,   100.0,3,   33.20,2,    0.10,2,    2.43,2,     6.3167
 49TU9210_1,       PR18,   PN-3',          1,     -999.0,          8,2,19921009,       2341,    28.2523,   127.1335,        960,   705.2,  34.3381,2,  34.3386,2,    91.0,3,   34.60,2,    0.10,2,    2.56,2,     5.6501
 49TU9210_1,       PR18,   PN-3',          1,     -999.0,          7,2,19921009,       2341,    28.2523,   127.1335,        960,   806.4,  34.3702,2,  34.3681,2,    81.0,3,   35.80,2,    0.10,2,    2.66,2,     5.1063
 49TU9210_1,       PR18,   PN-3',          1,     -999.0,          6,2,19921009,       2341,    28.2523,   127.1335,        960,   907.3,  34.3817,2,  34.3799,2,    82.0,3,   36.50,2,    0.10,2,    2.70,2,     4.8369
 49TU9210_1,       PR18,   PN-3',          2,     -999.0,     -999.0,9,19921010,       0032,    28.2633,   127.1395,     -999.0,     0.0,  34.3446,2,-999.0000,9,   202.0,3,    0.20,2,    0.11,2,    0.06,2,    26.8619
 49TU9210_1,       PR18,   PN-3',          2,     -999.0,         10,2,19921010,       0032,    28.2633,   127.1395,     -999.0,     9.0,  34.3443,2,  34.3418,2,   203.0,3,    0.20,2,    0.11,2,    0.07,2,    26.8737
 49TU9210_1,       PR18,   PN-3',          2,     -999.0,          9,2,19921010,       0032,    28.2633,   127.1395,     -999.0,    20.2,  34.3439,2,  34.3406,3,   205.0,3,    0.20,2,    0.11,2,    0.07,2,    26.8764
 49TU9210_1,       PR18,   PN-3',          2,     -999.0,          8,2,19921010,       0032,    28.2633,   127.1395,     -999.0,    29.4,  34.3443,2,  34.3406,3,   203.0,3,    0.20,2,    0.11,2,    0.07,2,    26.8762
 49TU9210_1,       PR18,   PN-3',          2,     -999.0,          7,2,19921010,       0032,    28.2633,   127.1395,     -999.0,    49.4,  34.3439,2,  34.3408,3,   203.0,3,    0.20,2,    0.11,2,    0.08,2,    26.8819
 49TU9210_1,       PR18,   PN-3',          2,     -999.0,          6,2,19921010,       0032,    28.2633,   127.1395,     -999.0,    74.5,  34.3469,2,  34.3457,2,   202.0,3,    0.20,2,    0.11,2,    0.08,2,    26.8764
 49TU9210_1,       PR18,   PN-3',          2,     -999.0,          5,2,19921010,       0032,    28.2633,   127.1395,     -999.0,   100.2,  34.6428,2,  34.6387,3,   191.0,3,    1.40,2,    0.31,2,    0.14,2,    24.6311
 49TU9210_1,       PR18,   PN-3',          2,     -999.0,          4,2,19921010,       0032,    28.2633,   127.1395,     -999.0,   126.5,  34.7599,2,  34.7536,3,   189.0,3,    2.40,2,    0.17,2,    0.22,2,    22.7625
 49TU9210_1,       PR18,   PN-3',          2,     -999.0,          3,2,19921010,       0032,    28.2633,   127.1395,     -999.0,   149.6,  34.8237,2,  34.8213,2,   187.0,3,    3.50,2,    0.12,2,    0.23,2,    20.8477
 49TU9210_1,       PR18,   PN-3',          2,     -999.0,          2,2,19921010,       0032,    28.2633,   127.1395,     -999.0,   199.4,  34.7222,2,  34.7223,2,   183.0,3,    7.30,2,    0.11,2,    0.45,2,    17.7644
 49TU9210_1,       PR18,   PN-3',          2,     -999.0,          1,3,19921010,       0032,    28.2633,   127.1395,     -999.0,   251.0,  34.6759,2,  34.6802,3,   184.0,3,    9.00,2,    0.11,2,    0.56,2,    15.9768
 49TU9210_1,       PR18,   PN-3',          2,     -999.0,         12,2,19921010,       0032,    28.2633,   127.1395,     -999.0,   302.5,  34.5644,2,-999.0000,9,   175.0,3,   12.70,2,    0.11,2,    0.84,2,    14.2115
 49TU9210_1,       PR18,    PN-3,          1,     -999.0,          4,2,19921010,       0349,    28.1032,   127.3542,       1000,   404.1,  34.5093,2,-999.0000,9,   168.0,3,   14.70,2,    0.11,2,    0.99,2,    13.1857
 49TU9210_1,       PR18,    PN-3,          1,     -999.0,          3,2,19921010,       0349,    28.1032,   127.3542,       1000,   503.3,  34.3770,2,-999.0000,9,   149.0,3,   21.60,2,    0.11,2,    1.53,2,    10.4859
 49TU9210_1,       PR18,    PN-3,          1,     -999.0,          2,2,19921010,       0349,    28.1032,   127.3542,       1000,   605.5,  34.3013,2,-999.0000,9,   117.0,3,   29.00,2,    0.10,2,    2.08,2,     7.8382
 49TU9210_1,       PR18,    PN-3,          1,     -999.0,          1,2,19921010,       0349,    28.1032,   127.3542,       1000,   706.1,  34.3017,2,-999.0000,9,    92.0,3,   34.60,2,    0.12,2,    2.52,2,     5.9420
 49TU9210_1,       PR18,    PN-3,          1,     -999.0,         12,2,19921010,       0349,    28.1032,   127.3542,       1000,   807.7,  34.3379,2,-999.0000,9,    82.0,3,   36.60,2,    0.11,2,    2.71,2,     5.1197
 49TU9210_1,       PR18,    PN-3,          1,     -999.0,         11,2,19921010,       0349,    28.1032,   127.3542,       1000,   908.1,  34.3633,2,-999.0000,9,    78.0,3,   37.60,2,    0.11,2,    2.78,2,     4.7210