BOTTLE,20211129CCHSIORKP
# Original header:
#changed all fill flags to 9
#code : jjward hyd_to_exchange.pl 
#original files copied from HTML directory: 20010625
#original HYD file: bottle   Tue Jun 26 12:33:59 2001
#original SUM file: sum.tmp   Tue Jun 26 12:34:41 2001
EXPOCODE,SECT_ID,STNNBR,CASTNO,SAMPNO,BTLNBR,BTLNBR_FLAG_W,DATE,TIME,LATITUDE,LONGITUDE,DEPTH,CTDPRS,CTDTMP,CTDSAL,CTDSAL_FLAG_W,SALNTY,SALNTY_FLAG_W,OXYGEN,OXYGEN_FLAG_W,NITRAT,NITRAT_FLAG_W,NITRIT,NITRIT_FLAG_W,PHSPHT,PHSPHT_FLAG_W
,,,,,,,,,,,METERS,DBAR,ITS-90,PSS-78,,PSS-78,,UMOL/KG,,UMOL/KG,,UMOL/KG,,UMOL/KG,
 49TU9110_3,       PR19,   IS-13,          1,     -999.0,     -999.0,9,19911023,       2150,    26.8328,   121.2477,         66,     1.9,  22.8463,  31.5933,2,-999.0000,9,   222.0,3,    2.80,2,    0.48,2,    0.20,2
 49TU9110_3,       PR19,   IS-13,          1,     -999.0,          4,2,19911023,       2150,    26.8328,   121.2477,         66,    10.7,  23.1002,  31.8671,2,  34.4232,3,   221.0,3,    2.80,2,    0.50,2,    0.22,2
 49TU9110_3,       PR19,   IS-13,          1,     -999.0,          3,2,19911023,       2150,    26.8328,   121.2477,         66,    20.5,  23.7417,  32.4546,2,  32.4683,2,   214.0,3,    3.10,2,    0.75,2,    0.29,2
 49TU9110_3,       PR19,   IS-13,          1,     -999.0,          2,2,19911023,       2150,    26.8328,   121.2477,         66,    30.9,  24.0398,  32.7857,2,  32.7706,2,   208.0,3,    3.30,2,    0.73,2,    0.27,2
 49TU9110_3,       PR19,   IS-13,          1,     -999.0,          1,2,19911023,       2150,    26.8328,   121.2477,         66,    61.5,  24.5051,  33.5476,2,  33.5538,2,   173.0,3,    3.30,2,    0.38,2,    0.33,2
 49TU9110_3,       PR19,   IS-11,          1,     -999.0,     -999.0,9,19911024,       0141,    26.5138,   121.7193,         82,     1.6,  24.4160,  33.9695,2,-999.0000,9,   206.0,3,    2.50,2,    0.49,2,    0.25,2
 49TU9110_3,       PR19,   IS-11,          1,     -999.0,          9,2,19911024,       0141,    26.5138,   121.7193,         82,    10.0,  24.3901,  33.9769,2,-999.0000,9,   206.0,3,    2.50,2,    0.44,2,    0.27,2
 49TU9110_3,       PR19,   IS-11,          1,     -999.0,          8,2,19911024,       0141,    26.5138,   121.7193,         82,    19.1,  24.2989,  34.0182,2,-999.0000,9,   206.0,3,    2.20,2,    0.55,2,    0.27,2
 49TU9110_3,       PR19,   IS-11,          1,     -999.0,          7,2,19911024,       0141,    26.5138,   121.7193,         82,    30.5,  24.0533,  34.0889,2,-999.0000,9,   208.0,3,    1.60,2,    0.64,2,    0.22,2
 49TU9110_3,       PR19,   IS-11,          1,     -999.0,          6,2,19911024,       0141,    26.5138,   121.7193,         82,    49.8,  23.9681,  34.1365,2,-999.0000,9,   209.0,3,    1.40,2,    0.55,2,    0.21,2
 49TU9110_3,       PR19,   IS-11,          1,     -999.0,          5,2,19911024,       0141,    26.5138,   121.7193,         82,    77.1,  19.3822,  34.4139,2,-999.0000,9,   177.0,3,    8.00,2,    0.21,2,    0.70,2
 49TU9110_3,       PR19,    IS-9,          1,     -999.0,     -999.0,9,19911024,       0521,    26.1675,   122.2413,        102,     0.8,  25.2053,  34.4049,2,-999.0000,9,   206.0,3,    0.80,2,    0.07,2,    0.09,2
 49TU9110_3,       PR19,    IS-9,          1,     -999.0,          3,2,19911024,       0521,    26.1675,   122.2413,        102,     9.9,  25.1242,  34.4043,2,-999.0000,9,   209.0,3,    0.90,2,    0.09,2,    0.10,2
 49TU9110_3,       PR19,    IS-9,          1,     -999.0,          2,2,19911024,       0521,    26.1675,   122.2413,        102,    19.7,  25.0538,  34.4040,2,-999.0000,9,   209.0,3,    1.00,2,    0.11,2,    0.11,2
 49TU9110_3,       PR19,    IS-9,          1,     -999.0,          1,2,19911024,       0521,    26.1675,   122.2413,        102,    30.7,  24.5673,  34.4014,2,-999.0000,9,   205.0,3,    1.30,2,    0.17,2,    0.14,2
 49TU9110_3,       PR19,    IS-9,          1,     -999.0,         12,2,19911024,       0521,    26.1675,   122.2413,        102,    50.9,  24.1433,  34.4019,2,-999.0000,9,   204.0,3,    1.60,2,    0.21,2,    0.15,2
 49TU9110_3,       PR19,    IS-9,          1,     -999.0,         11,2,19911024,       0521,    26.1675,   122.2413,        102,    76.0,  20.4639,  34.4133,2,-999.0000,9,   183.0,3,    6.30,2,    0.14,2,    0.51,2
 49TU9110_3,       PR19,    IS-9,          1,     -999.0,         10,2,19911024,       0521,    26.1675,   122.2413,        102,    98.2,  18.5638,  34.5583,2,-999.0000,9,   179.0,3,    7.60,2,    0.13,2,    0.64,2
 49TU9110_3,       PR19,   IS-7',          1,     -999.0,     -999.0,9,19911024,       0825,    25.8873,   122.6670,        108,     0.9,  25.9119,  34.5952,2,-999.0000,9,   204.0,3,    0.50,2,    0.01,2,    0.05,2
 49TU9110_3,       PR19,   IS-7',          1,     -999.0,          9,2,19911024,       0825,    25.8873,   122.6670,        108,    10.0,  25.9252,  34.5999,2,-999.0000,9,   206.0,3,    0.50,2,    0.01,2,    0.05,2
 49TU9110_3,       PR19,   IS-7',          1,     -999.0,          8,2,19911024,       0825,    25.8873,   122.6670,        108,    19.9,  25.9325,  34.6217,2,-999.0000,9,   206.0,3,    0.60,2,    0.01,2,    0.05,2
 49TU9110_3,       PR19,   IS-7',          1,     -999.0,          7,2,19911024,       0825,    25.8873,   122.6670,        108,    29.5,  25.9367,  34.6780,2,-999.0000,9,   204.0,3,    0.40,2,    0.01,2,    0.05,2
 49TU9110_3,       PR19,   IS-7',          1,     -999.0,          6,2,19911024,       0825,    25.8873,   122.6670,        108,    50.0,  25.8289,  34.6790,2,-999.0000,9,   204.0,3,    0.50,2,    0.03,2,    0.04,2
 49TU9110_3,       PR19,   IS-7',          1,     -999.0,          5,2,19911024,       0825,    25.8873,   122.6670,        108,    76.0,  20.4955,  34.5061,2,-999.0000,9,   188.0,3,    5.00,2,    0.21,2,    0.04,2
 49TU9110_3,       PR19,   IS-7',          1,     -999.0,          4,2,19911024,       0825,    25.8873,   122.6670,        108,   102.4,  19.9381,  34.7654,2,-999.0000,9,   189.0,3,    4.10,2,    0.07,2,    0.05,2
 49TU9110_3,       PR19,    IS-7,          1,     -999.0,     -999.0,9,19911024,       0919,    25.8398,   122.7375,         11,     2.0,  25.9286,  34.6707,2,-999.0000,9,   205.0,3,    0.50,2,    0.01,2,    0.04,2
 49TU9110_3,       PR19,    IS-7,          1,     -999.0,          3,2,19911024,       0919,    25.8398,   122.7375,         11,    10.7,  25.9365,  34.6701,2,  34.6728,2,   204.0,3,    0.60,2,    0.01,2,    0.04,2
 49TU9110_3,       PR19,    IS-7,          1,     -999.0,          2,2,19911024,       0919,    25.8398,   122.7375,         11,    20.9,  25.9361,  34.6717,2,  34.6756,2,   204.0,3,    0.50,2,    0.01,2,    0.03,2
 49TU9110_3,       PR19,    IS-7,          1,     -999.0,          1,2,19911024,       0919,    25.8398,   122.7375,         11,    30.8,  25.8926,  34.6792,2,  34.6807,2,   204.0,3,    0.50,2,    0.02,2,    0.03,2
 49TU9110_3,       PR19,    IS-7,          1,     -999.0,         12,2,19911024,       0919,    25.8398,   122.7375,         11,    50.5,  24.1964,  34.7544,2,  34.7405,2,   196.0,3,    1.40,2,    0.18,2,    0.03,2
 49TU9110_3,       PR19,    IS-7,          1,     -999.0,         11,2,19911024,       0919,    25.8398,   122.7375,         11,    75.8,  20.9545,  34.6435,2,  34.5918,3,   190.0,3,    4.60,2,    0.12,2,    0.22,2
 49TU9110_3,       PR19,    IS-7,          1,     -999.0,         10,2,19911024,       0919,    25.8398,   122.7375,         11,   106.0,  19.9410,  34.8094,2,  34.8145,2,   190.0,3,    4.20,2,    0.06,2,    0.03,2
 49TU9110_3,       PR19,   IS-6b,          1,     -999.0,     -999.0,9,19911024,       1026,    25.7702,   122.8303,        128,     0.5,  25.9846,  34.6499,2,-999.0000,9,   204.0,3,    0.50,2,    0.01,2,    0.03,2
 49TU9110_3,       PR19,   IS-6b,          1,     -999.0,         10,2,19911024,       1026,    25.7702,   122.8303,        128,    10.2,  25.9890,  34.6486,2,-999.0000,9,   205.0,3,    0.50,2,    0.01,2,    0.03,2
 49TU9110_3,       PR19,   IS-6b,          1,     -999.0,          9,2,19911024,       1026,    25.7702,   122.8303,        128,    19.7,  25.9454,  34.6624,2,-999.0000,9,   204.0,3,    0.50,2,    0.01,2,    0.03,2
 49TU9110_3,       PR19,   IS-6b,          1,     -999.0,          8,2,19911024,       1026,    25.7702,   122.8303,        128,    30.9,  25.7932,  34.6797,2,-999.0000,9,   204.0,3,    0.70,2,    0.03,2,    0.03,2
 49TU9110_3,       PR19,   IS-6b,          1,     -999.0,          7,2,19911024,       1026,    25.7702,   122.8303,        128,    50.1,  24.6009,  34.7608,2,-999.0000,9,   197.0,3,    1.10,2,    0.16,2,    0.03,2
 49TU9110_3,       PR19,   IS-6b,          1,     -999.0,          6,2,19911024,       1026,    25.7702,   122.8303,        128,    74.8,  24.4196,  34.7541,2,-999.0000,9,   196.0,3,    1.50,2,    0.17,2,    0.08,2
 49TU9110_3,       PR19,   IS-6b,          1,     -999.0,          5,2,19911024,       1026,    25.7702,   122.8303,        128,   101.8,  20.3668,  34.8080,2,-999.0000,9,   190.0,3,    3.80,2,    0.06,2,    0.04,2
 49TU9110_3,       PR19,   IS-6b,          1,     -999.0,          4,2,19911024,       1026,    25.7702,   122.8303,        128,   124.2,  18.5071,  34.7274,2,-999.0000,9,   190.0,3,    5.20,2,    0.04,2,    0.19,2
 49TU9110_3,       PR19,   IS-6a,          1,     -999.0,     -999.0,9,19911024,       1138,    25.7278,   122.9228,        252,     0.0,  26.0778,  34.5790,2,-999.0000,9,   205.0,3,    0.50,2,    0.00,2,    0.04,2
 49TU9110_3,       PR19,   IS-6a,          1,     -999.0,          8,2,19911024,       1138,    25.7278,   122.9228,        252,     9.8,  26.0777,  34.5787,2,-999.0000,9,   204.0,3,    0.50,2,    0.00,2,    0.04,2
 49TU9110_3,       PR19,   IS-6a,          1,     -999.0,          7,2,19911024,       1138,    25.7278,   122.9228,        252,    19.9,  26.0887,  34.5845,2,-999.0000,9,   204.0,3,    0.50,2,    0.00,2,    0.03,2
 49TU9110_3,       PR19,   IS-6a,          1,     -999.0,          6,2,19911024,       1138,    25.7278,   122.9228,        252,    30.4,  26.0676,  34.6354,2,-999.0000,9,   204.0,3,    0.50,2,    0.00,2,    0.03,2
 49TU9110_3,       PR19,   IS-6a,          1,     -999.0,          5,2,19911024,       1138,    25.7278,   122.9228,        252,    50.8,  23.4618,  34.8225,2,-999.0000,9,   195.0,3,    1.50,2,    0.14,2,    0.04,2
 49TU9110_3,       PR19,   IS-6a,          1,     -999.0,          4,2,19911024,       1138,    25.7278,   122.9228,        252,    74.1,  23.4316,  34.8251,2,-999.0000,9,   195.0,3,    1.50,2,    0.14,2,    0.03,2
 49TU9110_3,       PR19,   IS-6a,          1,     -999.0,          3,2,19911024,       1138,    25.7278,   122.9228,        252,   101.1,  21.9655,  34.9044,2,-999.0000,9,   196.0,3,    1.70,2,    0.09,2,    0.04,2
 49TU9110_3,       PR19,   IS-6a,          1,     -999.0,          2,2,19911024,       1138,    25.7278,   122.9228,        252,   125.3,  20.6589,  34.8394,2,-999.0000,9,   190.0,3,    3.50,2,    0.05,2,    0.14,2
 49TU9110_3,       PR19,   IS-6a,          1,     -999.0,          1,2,19911024,       1138,    25.7278,   122.9228,        252,   150.9,  18.5067,  34.8275,2,-999.0000,9,   192.0,3,    4.80,2,    0.02,2,    0.30,2
 49TU9110_3,       PR19,   IS-6a,          1,     -999.0,         12,2,19911024,       1138,    25.7278,   122.9228,        252,   202.0,  17.1820,  34.7444,2,-999.0000,9,   188.0,3,    7.20,2,    0.02,2,    0.04,2
 49TU9110_3,       PR19,   IS-6a,          1,     -999.0,         11,2,19911024,       1138,    25.7278,   122.9228,        252,   248.9,  14.7007,  34.6013,2,-999.0000,9,   174.0,3,   12.40,2,    0.02,2,    0.86,2
 49TU9110_3,       PR19,    NS-1,          1,     -999.0,     -999.0,9,19911106,       1535,    24.5045,   124.7497,        260,     1.5,  25.2556,  34.6465,2,-999.0000,9,   207.0,3,    0.60,2,    0.01,2,    0.05,2
 49TU9110_3,       PR19,    NS-1,          1,     -999.0,         10,2,19911106,       1535,    24.5045,   124.7497,        260,    10.0,  25.2581,  34.6469,2,  34.6503,2,   206.0,3,    0.60,2,    0.02,2,    0.05,2
 49TU9110_3,       PR19,    NS-1,          1,     -999.0,          9,2,19911106,       1535,    24.5045,   124.7497,        260,    19.8,  25.2542,  34.6474,2,  34.6491,2,   207.0,3,    0.60,2,    0.01,2,    0.05,2
 49TU9110_3,       PR19,    NS-1,          1,     -999.0,          8,2,19911106,       1535,    24.5045,   124.7497,        260,    30.4,  25.2686,  34.6452,2,  34.6503,2,   207.0,3,    0.60,2,    0.01,2,    0.05,2
 49TU9110_3,       PR19,    NS-1,          1,     -999.0,          7,2,19911106,       1535,    24.5045,   124.7497,        260,    50.5,  25.2686,  34.6469,2,  34.6503,2,   207.0,3,    0.60,2,    0.01,2,    0.05,2
 49TU9110_3,       PR19,    NS-1,          1,     -999.0,          6,2,19911106,       1535,    24.5045,   124.7497,        260,    76.1,  25.1236,  34.6593,2,  34.6601,2,   207.0,3,    0.60,2,    0.03,2,    0.05,2
 49TU9110_3,       PR19,    NS-1,          1,     -999.0,          5,2,19911106,       1535,    24.5045,   124.7497,        260,   100.7,  24.7225,  34.6990,2,  34.7030,2,   199.0,3,    0.90,2,    0.09,2,    0.07,2
 49TU9110_3,       PR19,    NS-1,          1,     -999.0,          4,2,19911106,       1535,    24.5045,   124.7497,        260,   125.5,  24.0720,  34.7651,2,  34.7727,2,   197.0,3,    1.20,2,    0.15,2,    0.10,2
 49TU9110_3,       PR19,    NS-1,          1,     -999.0,          3,2,19911106,       1535,    24.5045,   124.7497,        260,   150.4,  22.8182,  34.8429,2,  34.8290,3,   195.0,3,    1.80,2,    0.10,2,    0.13,2
 49TU9110_3,       PR19,    NS-1,          1,     -999.0,          2,2,19911106,       1535,    24.5045,   124.7497,        260,   200.6,  20.5492,  34.8623,2,  34.8672,2,   195.0,3,    3.30,2,    0.04,2,    0.22,2
 49TU9110_3,       PR19,    NS-1,          1,     -999.0,          1,2,19911106,       1535,    24.5045,   124.7497,        260,   244.8,  18.1871,  34.8007,2,  34.8180,3,   193.0,3,    5.50,2,    0.03,2,    0.36,2
 49TU9110_3,       PR19,    NS-2,          1,     -999.0,          6,2,19911106,       1751,    24.3452,   125.0050,        978,   402.6,  14.9279,  34.6141,2,-999.0000,9,   193.0,3,   10.10,2,    0.01,2,    0.64,2
 49TU9110_3,       PR19,    NS-2,          1,     -999.0,          5,2,19911106,       1751,    24.3452,   125.0050,        978,   504.9,  11.4845,  34.3590,2,-999.0000,9,   167.0,3,   18.20,2,    0.01,2,    1.35,2
 49TU9110_3,       PR19,    NS-2,          1,     -999.0,          4,2,19911106,       1751,    24.3452,   125.0050,        978,   604.9,   8.3366,  34.2164,2,-999.0000,9,   138.0,3,   26.30,2,    0.01,2,    1.97,2
 49TU9110_3,       PR19,    NS-2,          1,     -999.0,          3,2,19911106,       1751,    24.3452,   125.0050,        978,   703.4,   6.3148,  34.2281,2,-999.0000,9,   100.0,3,   33.30,2,    0.00,2,    2.49,2
 49TU9110_3,       PR19,    NS-2,          1,     -999.0,          2,2,19911106,       1751,    24.3452,   125.0050,        978,   807.3,   5.1391,  34.3025,2,-999.0000,9,    83.0,3,   36.60,2,    0.00,2,    2.75,2
 49TU9110_3,       PR19,    NS-2,          1,     -999.0,          1,2,19911106,       1751,    24.3452,   125.0050,        978,   907.6,   4.1129,  34.4005,2,-999.0000,9,    75.0,3,   38.80,2,    0.00,2,    2.78,2
 49TU9110_3,       PR19,    NS-2,          1,     -999.0,         12,2,19911106,       1751,    24.3452,   125.0050,        978,   946.9,   3.9760,  34.4124,2,-999.0000,9,    75.0,3,   39.30,2,    0.01,2,    2.82,2
 49TU9110_3,       PR19,    NS-2,          2,     -999.0,     -999.0,9,19911106,       1833,    24.3515,   125.0120,     -999.0,     1.6,  25.6341,  34.6897,2,-999.0000,9,   205.0,3,    0.70,2,    0.01,2,    0.05,2
 49TU9110_3,       PR19,    NS-2,          2,     -999.0,          5,2,19911106,       1833,    24.3515,   125.0120,     -999.0,    10.2,  25.6414,  34.6894,2,-999.0000,9,   205.0,3,    0.50,2,    0.01,2,    0.05,2
 49TU9110_3,       PR19,    NS-2,          2,     -999.0,          4,2,19911106,       1833,    24.3515,   125.0120,     -999.0,    21.6,  25.6400,  34.6898,2,-999.0000,9,   205.0,3,    0.50,2,    0.01,2,    0.04,2
 49TU9110_3,       PR19,    NS-2,          2,     -999.0,          3,2,19911106,       1833,    24.3515,   125.0120,     -999.0,    29.8,  25.6445,  34.6907,2,-999.0000,9,   205.0,3,    0.50,2,    0.01,2,    0.05,2
 49TU9110_3,       PR19,    NS-2,          2,     -999.0,          2,2,19911106,       1833,    24.3515,   125.0120,     -999.0,    50.7,  25.6480,  34.6920,2,-999.0000,9,   205.0,3,    0.50,2,    0.01,2,    0.05,2
 49TU9110_3,       PR19,    NS-2,          2,     -999.0,          1,2,19911106,       1833,    24.3515,   125.0120,     -999.0,    75.8,  25.6541,  34.6919,2,-999.0000,9,   205.0,3,    0.50,2,    0.01,2,    0.06,2
 49TU9110_3,       PR19,    NS-2,          2,     -999.0,         12,2,19911106,       1833,    24.3515,   125.0120,     -999.0,    99.9,  25.4725,  34.6952,2,-999.0000,9,   203.0,3,    0.50,2,    0.04,2,    0.07,2
 49TU9110_3,       PR19,    NS-2,          2,     -999.0,         11,2,19911106,       1833,    24.3515,   125.0120,     -999.0,   124.6,  23.1379,  34.9798,2,-999.0000,9,   192.0,3,    1.20,2,    0.06,2,    0.12,2
 49TU9110_3,       PR19,    NS-2,          2,     -999.0,         10,2,19911106,       1833,    24.3515,   125.0120,     -999.0,   151.6,  21.1241,  34.9732,2,-999.0000,9,   191.0,3,    2.20,2,    0.03,2,    0.16,2
 49TU9110_3,       PR19,    NS-2,          2,     -999.0,          9,2,19911106,       1833,    24.3515,   125.0120,     -999.0,   200.4,  18.9800,  34.8684,2,-999.0000,9,   206.0,3,    3.10,2,    0.01,2,    0.18,2
 49TU9110_3,       PR19,    NS-2,          2,     -999.0,          8,2,19911106,       1833,    24.3515,   125.0120,     -999.0,   250.3,  17.9291,  34.8227,2,-999.0000,9,   201.0,3,    4.70,2,    0.01,2,    0.25,2
 49TU9110_3,       PR19,    NS-2,          2,     -999.0,          7,2,19911106,       1833,    24.3515,   125.0120,     -999.0,   302.1,  16.8713,  34.7561,2,-999.0000,9,   198.0,3,    6.70,2,    0.01,2,    0.45,2
 49TU9110_3,       PR19,    NS-3,          1,     -999.0,          2,2,19911106,       2109,    24.1738,   125.2537,       1516,   405.5,  15.2113,  34.6321,2,-999.0000,9,   192.0,3,    9.80,2,    0.02,2,    0.28,2
 49TU9110_3,       PR19,    NS-3,          1,     -999.0,          1,2,19911106,       2109,    24.1738,   125.2537,       1516,   503.4,  12.1150,  34.3896,2,-999.0000,9,   188.0,3,   15.30,2,    0.01,2,    0.81,2
 49TU9110_3,       PR19,    NS-3,          1,     -999.0,         12,2,19911106,       2109,    24.1738,   125.2537,       1516,   604.4,   8.8935,  34.2063,2,-999.0000,9,   181.0,3,   24.40,2,    0.01,2,    1.70,2
 49TU9110_3,       PR19,    NS-3,          1,     -999.0,         11,2,19911106,       2109,    24.1738,   125.2537,       1516,   704.8,   6.9044,  34.1875,2,-999.0000,9,    99.0,3,   32.70,2,    0.01,2,    1.98,2
 49TU9110_3,       PR19,    NS-3,          1,     -999.0,         10,2,19911106,       2109,    24.1738,   125.2537,       1516,   804.7,   5.5148,  34.2022,2,-999.0000,9,    79.0,3,   36.80,2,    0.01,2,    2.52,2
 49TU9110_3,       PR19,    NS-3,          1,     -999.0,          9,2,19911106,       2109,    24.1738,   125.2537,       1516,   907.9,   4.5629,  34.2795,2,-999.0000,9,    65.0,3,   39.70,2,    0.01,2,    2.67,2
 49TU9110_3,       PR19,    NS-3,          1,     -999.0,          8,2,19911106,       2109,    24.1738,   125.2537,       1516,  1008.3,   3.9682,  34.3673,2,-999.0000,9,    60.0,3,   40.70,2,    0.01,2,    2.72,2
 49TU9110_3,       PR19,    NS-3,          1,     -999.0,          7,2,19911106,       2109,    24.1738,   125.2537,       1516,  1263.4,   2.9557,  34.5124,2,-999.0000,9,    85.0,3,   39.80,2,    0.01,2,    2.89,2
 49TU9110_3,       PR19,    NS-3,          1,     -999.0,          6,2,19911106,       2109,    24.1738,   125.2537,       1516,  1443.9,   2.6439,  34.5415,2,-999.0000,9,    92.0,3,   39.90,2,    0.01,2,    2.64,2