BOTTLE,20211129CCHSIORKP
EXPOCODE,SECT_ID,STNNBR,CASTNO,SAMPNO,BTLNBR,BTLNBR_FLAG_W,DATE,TIME,LATITUDE,LONGITUDE,DEPTH,CTDPRS,CTDTMP,CTDSAL,CTDSAL_FLAG_W,SALNTY,SALNTY_FLAG_W,OXYGEN,OXYGEN_FLAG_W,NITRAT,NITRAT_FLAG_W,NITRIT,NITRIT_FLAG_W,PHSPHT,PHSPHT_FLAG_W
,,,,,,,,,,,METERS,DBAR,ITS-90,PSS-78,,PSS-78,,UMOL/KG,,UMOL/KG,,UMOL/KG,,UMOL/KG,
 49TU9110_3,       PR19,    NS-3,          2,     -999.0,     -999.0,9,19911106,       2219,    24.1702,   125.2390,       1471,     1.9,  25.6923,  34.7294,2,-999.0000,9,   206.0,3,    0.60,2,    0.01,2,    0.02,2
 49TU9110_3,       PR19,    NS-3,          2,     -999.0,          1,2,19911106,       2219,    24.1702,   125.2390,       1471,    10.5,  25.7056,  34.7301,2,-999.0000,9,   205.0,3,    0.60,2,    0.01,2,    0.02,2
 49TU9110_3,       PR19,    NS-3,          2,     -999.0,         12,2,19911106,       2219,    24.1702,   125.2390,       1471,    19.7,  25.7116,  34.7298,2,-999.0000,9,   206.0,3,    0.60,2,    0.01,2,    0.03,2
 49TU9110_3,       PR19,    NS-3,          2,     -999.0,         11,2,19911106,       2219,    24.1702,   125.2390,       1471,    29.8,  25.7170,  34.7297,2,-999.0000,9,   205.0,3,    0.60,2,    0.01,2,    0.03,2
 49TU9110_3,       PR19,    NS-3,          2,     -999.0,         10,2,19911106,       2219,    24.1702,   125.2390,       1471,    50.7,  25.7294,  34.7297,2,-999.0000,9,   205.0,3,    0.60,2,    0.01,2,    0.03,2
 49TU9110_3,       PR19,    NS-3,          2,     -999.0,          9,2,19911106,       2219,    24.1702,   125.2390,       1471,    77.6,  25.7325,  34.7319,2,-999.0000,9,   206.0,3,    0.60,2,    0.01,2,    0.04,2
 49TU9110_3,       PR19,    NS-3,          2,     -999.0,          8,2,19911106,       2219,    24.1702,   125.2390,       1471,    98.6,  24.2289,  34.8618,2,-999.0000,9,   200.0,3,    0.80,2,    0.12,2,    0.06,2
 49TU9110_3,       PR19,    NS-3,          2,     -999.0,          7,2,19911106,       2219,    24.1702,   125.2390,       1471,   128.1,  22.5088,  34.9229,2,-999.0000,9,   195.0,3,    1.60,2,    0.06,2,    0.08,2
 49TU9110_3,       PR19,    NS-3,          2,     -999.0,          6,2,19911106,       2219,    24.1702,   125.2390,       1471,   152.3,  21.5160,  34.9339,2,-999.0000,9,   197.0,3,    2.00,2,    0.04,2,    0.08,2
 49TU9110_3,       PR19,    NS-3,          2,     -999.0,          5,2,19911106,       2219,    24.1702,   125.2390,       1471,   200.9,  19.6728,  34.8904,2,-999.0000,9,   201.0,3,    2.80,2,    0.02,2,    0.10,2
 49TU9110_3,       PR19,    NS-3,          2,     -999.0,          4,2,19911106,       2219,    24.1702,   125.2390,       1471,   252.7,  18.5186,  34.8461,2,-999.0000,9,   203.0,3,    4.00,2,    0.02,2,    0.16,2
 49TU9110_3,       PR19,    NS-3,          2,     -999.0,          3,2,19911106,       2219,    24.1702,   125.2390,       1471,   299.4,  17.4809,  34.7888,2,-999.0000,9,   198.0,3,    5.80,2,    0.01,2,    0.21,2
 49TU9110_3,       PR19,    NS-4,          1,     -999.0,         12,2,19911107,       0118,    24.0028,   125.4990,       1929,   402.2,  15.6688,  34.6706,2,  34.6774,2,   194.0,3,    8.80,2,    0.01,2,    0.61,2
 49TU9110_3,       PR19,    NS-4,          1,     -999.0,         11,2,19911107,       0118,    24.0028,   125.4990,       1929,   502.0,  12.4186,  34.4156,2,  34.4233,2,   189.0,3,   14.80,2,    0.01,2,    1.08,2
 49TU9110_3,       PR19,    NS-4,          1,     -999.0,         10,2,19911107,       0118,    24.0028,   125.4990,       1929,   604.6,   9.3026,  34.2076,2,  34.2115,2,   161.0,3,   22.70,2,    0.01,2,    1.70,2
 49TU9110_3,       PR19,    NS-4,          1,     -999.0,          9,2,19911107,       0118,    24.0028,   125.4990,       1929,   704.2,   7.1264,  34.1811,2,  34.1817,2,   106.0,3,   31.90,2,    0.00,2,    2.43,2
 49TU9110_3,       PR19,    NS-4,          1,     -999.0,          8,2,19911107,       0118,    24.0028,   125.4990,       1929,   804.3,   5.9906,  34.2039,2,  34.2045,2,    87.0,3,   35.60,2,    0.00,2,    2.72,2
 49TU9110_3,       PR19,    NS-4,          1,     -999.0,          7,2,19911107,       0118,    24.0028,   125.4990,       1929,   906.9,   4.9311,  34.2779,2,  34.2803,2,    66.0,3,   39.00,2,    0.00,2,    2.98,2
 49TU9110_3,       PR19,    NS-4,          1,     -999.0,          6,2,19911107,       0118,    24.0028,   125.4990,       1929,  1010.0,   4.2367,  34.3181,2,  34.3274,2,    65.0,3,   39.40,2,    0.01,2,    3.01,2
 49TU9110_3,       PR19,    NS-4,          1,     -999.0,          5,2,19911107,       0118,    24.0028,   125.4990,       1929,  1260.8,   3.1818,  34.4766,2,  34.4776,2,    73.0,3,   40.70,2,    0.00,2,    3.09,2
 49TU9110_3,       PR19,    NS-4,          1,     -999.0,          4,2,19911107,       0118,    24.0028,   125.4990,       1929,  1516.2,   2.5508,  34.5462,2,  34.5488,2,    95.0,3,   39.80,2,    0.00,2,    3.00,2
 49TU9110_3,       PR19,    NS-4,          1,     -999.0,          3,2,19911107,       0118,    24.0028,   125.4990,       1929,  1768.9,   2.3543,  34.5712,2,  34.5728,2,   106.0,3,   39.50,2,    0.00,2,    2.95,2
 49TU9110_3,       PR19,    NS-4,          1,     -999.0,          2,2,19911107,       0118,    24.0028,   125.4990,       1929,  1868.3,   2.2382,  34.5864,2,  34.5909,2,   107.0,3,   39.20,2,    0.00,2,    2.89,2
 49TU9110_3,       PR19,    NS-4,          2,     -999.0,     -999.0,9,19911107,       0230,    23.9938,   125.4833,       1962,     1.8,  25.9254,  34.7221,2,-999.0000,9,   208.0,3,    0.60,2,    0.01,2,    0.03,2
 49TU9110_3,       PR19,    NS-4,          2,     -999.0,         11,2,19911107,       0230,    23.9938,   125.4833,       1962,    10.5,  25.9173,  34.7222,2,  34.7247,2,   206.0,3,    0.50,2,    0.01,2,    0.03,2
 49TU9110_3,       PR19,    NS-4,          2,     -999.0,         10,2,19911107,       0230,    23.9938,   125.4833,       1962,    20.9,  25.9167,  34.7217,2,  34.7254,2,   206.0,3,    0.50,2,    0.01,2,    0.03,2
 49TU9110_3,       PR19,    NS-4,          2,     -999.0,          9,2,19911107,       0230,    23.9938,   125.4833,       1962,    31.3,  25.9135,  34.7215,2,  34.7231,2,   206.0,3,    0.50,2,    0.01,2,    0.03,2
 49TU9110_3,       PR19,    NS-4,          2,     -999.0,          8,2,19911107,       0230,    23.9938,   125.4833,       1962,    50.7,  25.9126,  34.7209,2,  34.7235,2,   207.0,3,    0.50,2,    0.01,2,    0.03,2
 49TU9110_3,       PR19,    NS-4,          2,     -999.0,          7,2,19911107,       0230,    23.9938,   125.4833,       1962,    77.2,  25.9342,  34.7445,2,  34.7459,2,   205.0,3,    0.50,2,    0.01,2,    0.04,2
 49TU9110_3,       PR19,    NS-4,          2,     -999.0,          6,2,19911107,       0230,    23.9938,   125.4833,       1962,   100.6,  24.3691,  34.8156,2,  34.8156,2,   202.0,3,    0.50,2,    0.06,2,    0.06,2
 49TU9110_3,       PR19,    NS-4,          2,     -999.0,          5,2,19911107,       0230,    23.9938,   125.4833,       1962,   127.0,  23.1539,  34.8659,2,  34.8676,2,   198.0,3,    1.30,2,    0.08,2,    0.11,2
 49TU9110_3,       PR19,    NS-4,          2,     -999.0,          4,2,19911107,       0230,    23.9938,   125.4833,       1962,   150.9,  21.7869,  34.9167,2,  34.9184,2,   200.0,3,    1.60,2,    0.06,2,    0.13,2
 49TU9110_3,       PR19,    NS-4,          2,     -999.0,          3,2,19911107,       0230,    23.9938,   125.4833,       1962,   203.7,  19.1728,  34.8666,2,  34.8711,2,   206.0,3,    3.00,2,    0.06,2,    0.21,2
 49TU9110_3,       PR19,    NS-4,          2,     -999.0,          2,2,19911107,       0230,    23.9938,   125.4833,       1962,   250.3,  18.4561,  34.8475,2,  34.8515,2,   206.0,3,    3.80,2,    0.02,2,    0.26,2
 49TU9110_3,       PR19,    NS-4,          2,     -999.0,          1,2,19911107,       0230,    23.9938,   125.4833,       1962,   302.8,  17.3492,  34.7858,2,  34.7951,2,   202.0,3,    5.50,2,    0.01,2,    0.31,2
 49TU9110_3,       PR19,    NS-5,          1,     -999.0,         10,2,19911107,       0534,    23.8338,   125.7513,       2158,   403.1,  15.5541,  34.6621,2,-999.0000,9,   192.0,3,    9.20,2,    0.01,2,    0.64,2
 49TU9110_3,       PR19,    NS-5,          1,     -999.0,          9,2,19911107,       0534,    23.8338,   125.7513,       2158,   503.5,  12.5388,  34.4253,2,-999.0000,9,   183.0,3,   14.90,2,    0.01,2,    1.08,2
 49TU9110_3,       PR19,    NS-5,          1,     -999.0,          8,2,19911107,       0534,    23.8338,   125.7513,       2158,   604.9,   9.5444,  34.2260,2,-999.0000,9,   159.0,3,   22.50,2,    0.00,2,    1.68,2
 49TU9110_3,       PR19,    NS-5,          1,     -999.0,          7,2,19911107,       0534,    23.8338,   125.7513,       2158,   706.4,   7.8705,  34.1619,2,-999.0000,9,   129.0,3,   28.10,2,    0.00,2,    2.13,2
 49TU9110_3,       PR19,    NS-5,          1,     -999.0,          6,2,19911107,       0534,    23.8338,   125.7513,       2158,   804.8,   5.7680,  34.1665,2,-999.0000,9,    87.0,3,   35.70,2,    0.00,2,    2.73,2
 49TU9110_3,       PR19,    NS-5,          1,     -999.0,          5,2,19911107,       0534,    23.8338,   125.7513,       2158,   907.8,   4.9166,  34.2579,2,-999.0000,9,    64.0,3,   38.90,2,    0.00,2,    2.98,2
 49TU9110_3,       PR19,    NS-5,          1,     -999.0,          4,2,19911107,       0534,    23.8338,   125.7513,       2158,  1009.5,   4.3145,  34.3473,2,-999.0000,9,    60.0,3,   40.30,2,    0.00,2,    3.07,2
 49TU9110_3,       PR19,    NS-5,          1,     -999.0,          3,2,19911107,       0534,    23.8338,   125.7513,       2158,  1262.9,   3.1876,  34.4624,2,-999.0000,9,    65.0,3,   41.10,2,    0.00,2,    3.12,2
 49TU9110_3,       PR19,    NS-5,          1,     -999.0,          2,2,19911107,       0534,    23.8338,   125.7513,       2158,  1514.3,   2.6703,  34.5287,2,-999.0000,9,    86.0,3,   40.00,2,    0.00,2,    3.01,2
 49TU9110_3,       PR19,    NS-5,          1,     -999.0,          1,2,19911107,       0534,    23.8338,   125.7513,       2158,  1768.9,   2.3878,  34.5690,2,-999.0000,9,    99.0,3,   39.40,2,    0.00,2,    2.95,2
 49TU9110_3,       PR19,    NS-5,          1,     -999.0,         12,2,19911107,       0534,    23.8338,   125.7513,       2158,  2071.7,   1.9863,  34.6212,2,-999.0000,9,   119.0,3,   38.60,2,    0.00,2,    2.84,2
 49TU9110_3,       PR19,    NS-5,          2,     -999.0,     -999.0,9,19911107,       0657,    23.4972,   126.2392,     -999.0,     0.6,  25.9944,  34.7444,2,-999.0000,9,   205.0,3,    0.50,2,    0.01,2,    0.03,2
 49TU9110_3,       PR19,    NS-5,          2,     -999.0,          9,2,19911107,       0657,    23.4972,   126.2392,     -999.0,    10.2,  25.9958,  34.7427,2,-999.0000,9,   205.0,3,    0.50,2,    0.01,2,    0.03,2
 49TU9110_3,       PR19,    NS-5,          2,     -999.0,          8,2,19911107,       0657,    23.4972,   126.2392,     -999.0,    18.5,  25.9651,  34.7410,2,-999.0000,9,   205.0,3,    0.50,2,    0.01,2,    0.03,2
 49TU9110_3,       PR19,    NS-5,          2,     -999.0,          7,2,19911107,       0657,    23.4972,   126.2392,     -999.0,    29.1,  25.9601,  34.7408,2,-999.0000,9,   204.0,3,    0.60,2,    0.01,2,    0.04,2
 49TU9110_3,       PR19,    NS-5,          2,     -999.0,          6,2,19911107,       0657,    23.4972,   126.2392,     -999.0,    49.8,  25.9408,  34.7410,2,-999.0000,9,   205.0,3,    0.50,2,    0.00,2,    0.04,2
 49TU9110_3,       PR19,    NS-5,          2,     -999.0,          5,2,19911107,       0657,    23.4972,   126.2392,     -999.0,    74.9,  25.9079,  34.7468,2,-999.0000,9,   204.0,3,    0.50,2,    0.01,2,    0.04,2
 49TU9110_3,       PR19,    NS-5,          2,     -999.0,          4,2,19911107,       0657,    23.4972,   126.2392,     -999.0,    99.1,  25.8461,  34.7594,2,-999.0000,9,   204.0,3,    0.50,2,    0.01,2,    0.05,2
 49TU9110_3,       PR19,    NS-5,          2,     -999.0,          3,2,19911107,       0657,    23.4972,   126.2392,     -999.0,   127.5,  23.0266,  34.8875,2,-999.0000,9,   196.0,3,    1.20,2,    0.08,2,    0.10,2
 49TU9110_3,       PR19,    NS-5,          2,     -999.0,          2,2,19911107,       0657,    23.4972,   126.2392,     -999.0,   152.1,  21.6747,  34.9144,2,-999.0000,9,   198.0,3,    1.60,2,    0.05,2,    0.14,2
 49TU9110_3,       PR19,    NS-5,          2,     -999.0,          1,2,19911107,       0657,    23.4972,   126.2392,     -999.0,   201.5,  19.7843,  34.9013,2,-999.0000,9,   204.0,3,    2.30,2,    0.02,2,    0.17,2
 49TU9110_3,       PR19,    NS-5,          2,     -999.0,         12,2,19911107,       0657,    23.4972,   126.2392,     -999.0,   251.7,  18.6749,  34.8573,2,-999.0000,9,   206.0,3,    3.50,2,    0.01,2,    0.23,2
 49TU9110_3,       PR19,    NS-5,          2,     -999.0,         11,2,19911107,       0657,    23.4972,   126.2392,     -999.0,   301.7,  17.7835,  34.8088,2,-999.0000,9,   202.0,3,    4.80,2,    0.01,2,    0.33,2
 49TU9110_3,       PR19,    NS-6,          1,     -999.0,          8,2,19911107,       1320,    23.4972,   126.2392,       5544,   908.4,   5.2671,  34.1925,2,  34.2013,2,    75.0,3,   37.40,2,    0.01,2,    2.91,2
 49TU9110_3,       PR19,    NS-6,          1,     -999.0,          7,2,19911107,       1320,    23.4972,   126.2392,       5544,  1009.4,   4.3548,  34.3327,2,  34.3561,3,    64.0,3,   39.80,2,    0.01,2,    3.11,2
 49TU9110_3,       PR19,    NS-6,          1,     -999.0,          6,2,19911107,       1320,    23.4972,   126.2392,       5544,  1262.2,   3.3672,  34.4588,2,  34.4603,2,    73.0,3,   40.30,2,    0.01,2,    3.10,2
 49TU9110_3,       PR19,    NS-6,          1,     -999.0,          5,2,19911107,       1320,    23.4972,   126.2392,       5544,  1515.5,   2.6245,  34.5340,2,  34.5350,2,    88.0,3,   40.00,2,    0.01,2,    3.07,2
 49TU9110_3,       PR19,    NS-6,          1,     -999.0,          4,2,19911107,       1320,    23.4972,   126.2392,       5544,  1765.6,   2.3015,  34.5837,2,  34.5850,2,   106.0,3,   39.20,2,    0.01,2,    2.96,2
 49TU9110_3,       PR19,    NS-6,          1,     -999.0,          3,2,19911107,       1320,    23.4972,   126.2392,       5544,  2022.7,   2.0907,  34.6095,2,  34.6109,2,   116.0,3,   38.70,2,    0.01,2,    2.90,2
 49TU9110_3,       PR19,    NS-6,          1,     -999.0,          2,2,19911107,       1320,    23.4972,   126.2392,       5544,  2531.8,   1.7542,  34.6482,2,  34.6495,2,   133.0,3,   37.90,2,    0.01,2,    2.83,2
 49TU9110_3,       PR19,    NS-6,          1,     -999.0,          1,2,19911107,       1320,    23.4972,   126.2392,       5544,  3042.1,   1.6065,  34.6652,2,  34.6640,2,   144.0,3,   37.20,2,    0.01,2,    2.72,2
 49TU9110_3,       PR19,    NS-6,          1,     -999.0,         12,2,19911107,       1320,    23.4972,   126.2392,       5544,  3549.8,   1.5635,  34.6738,2,  34.6739,2,   151.0,3,   37.00,2,    0.01,2,    2.70,2
 49TU9110_3,       PR19,    NS-6,          1,     -999.0,         11,2,19911107,       1320,    23.4972,   126.2392,       5544,  4054.6,   1.5723,  34.6778,2,  34.6774,2,   153.0,3,   36.80,2,    0.01,2,    2.67,2
 49TU9110_3,       PR19,    NS-6,          1,     -999.0,         10,2,19911107,       1320,    23.4972,   126.2392,       5544,  4283.0,   1.5819,  34.6796,2,  34.6794,2,   155.0,3,   36.70,2,    0.01,2,    2.59,2
 49TU9110_3,       PR19,    NS-6,          2,     -999.0,          1,2,19911107,       1637,    23.4470,   126.1917,     -999.0,   403.1,  16.0803,  34.7025,2,  34.7038,2,   198.0,3,    7.20,2,    0.01,2,    0.52,2
 49TU9110_3,       PR19,    NS-6,          2,     -999.0,         12,2,19911107,       1637,    23.4470,   126.1917,     -999.0,   504.4,  13.2830,  34.4813,2,  34.4831,2,   189.0,3,   12.50,2,    0.01,2,    0.94,2
 49TU9110_3,       PR19,    NS-6,          2,     -999.0,         11,2,19911107,       1637,    23.4470,   126.1917,     -999.0,   603.5,  10.2352,  34.2691,2,  34.2697,2,   169.0,3,   19.70,2,    0.01,2,    1.53,2
 49TU9110_3,       PR19,    NS-6,          2,     -999.0,         10,2,19911107,       1637,    23.4470,   126.1917,     -999.0,   703.0,   8.0825,  34.1643,2,  34.1691,2,   134.0,3,   27.00,2,    0.01,2,    2.10,2
 49TU9110_3,       PR19,    NS-6,          2,     -999.0,          9,2,19911107,       1637,    23.4470,   126.1917,     -999.0,   801.1,   6.3260,  34.1655,2,  34.1676,2,    96.0,3,   33.80,2,    0.01,2,    2.64,2
 49TU9110_3,       PR19,    NS-6,          3,     -999.0,     -999.0,9,19911107,       1719,    23.3970,   126.1517,     -999.0,     1.6,  25.6685,  34.7861,2,-999.0000,9,   206.0,3,    0.50,2,    0.01,2,    0.03,2
 49TU9110_3,       PR19,    NS-6,          3,     -999.0,         12,2,19911107,       1719,    23.3970,   126.1517,     -999.0,    10.2,  25.6772,  34.7861,2,  34.7892,2,   206.0,3,    0.50,2,    0.01,2,    0.04,2
 49TU9110_3,       PR19,    NS-6,          3,     -999.0,         11,2,19911107,       1719,    23.3970,   126.1517,     -999.0,    21.1,  25.6776,  34.7857,2,  34.7880,2,   206.0,3,    0.50,2,    0.01,2,    0.05,2
 49TU9110_3,       PR19,    NS-6,          3,     -999.0,         10,2,19911107,       1719,    23.3970,   126.1517,     -999.0,    30.6,  25.6797,  34.7854,2,  34.7880,2,   206.0,3,    0.50,2,    0.01,2,    0.05,2
 49TU9110_3,       PR19,    NS-6,          3,     -999.0,          9,2,19911107,       1719,    23.3970,   126.1517,     -999.0,    50.1,  25.6849,  34.7856,2,  34.7869,2,   205.0,3,    0.50,2,    0.01,2,    0.05,2
 49TU9110_3,       PR19,    NS-6,          3,     -999.0,          8,2,19911107,       1719,    23.3970,   126.1517,     -999.0,    75.5,  25.6867,  34.7903,2,  34.7900,2,   205.0,3,    0.50,2,    0.01,2,    0.05,2
 49TU9110_3,       PR19,    NS-6,          3,     -999.0,          7,2,19911107,       1719,    23.3970,   126.1517,     -999.0,   100.3,  25.5794,  34.7871,2,  34.7936,2,   204.0,3,    0.50,2,    0.01,2,    0.05,2
 49TU9110_3,       PR19,    NS-6,          3,     -999.0,          6,2,19911107,       1719,    23.3970,   126.1517,     -999.0,   125.9,  23.1122,  34.9842,2,  34.9870,2,   199.0,3,    0.50,2,    0.08,2,    0.07,2
 49TU9110_3,       PR19,    NS-6,          3,     -999.0,          5,2,19911107,       1719,    23.3970,   126.1517,     -999.0,   150.0,  21.5010,  34.9619,2,  34.9637,2,   201.0,3,    0.80,2,    0.03,2,    0.10,2
 49TU9110_3,       PR19,    NS-6,          3,     -999.0,          4,2,19911107,       1719,    23.3970,   126.1517,     -999.0,   200.8,  20.1292,  34.9121,2,  34.9135,2,   205.0,3,    1.10,2,    0.02,2,    0.11,2
 49TU9110_3,       PR19,    NS-6,          3,     -999.0,          3,2,19911107,       1719,    23.3970,   126.1517,     -999.0,   250.8,  19.3756,  34.8896,2,  34.8940,3,   207.0,3,    1.70,2,    0.01,2,    0.14,2
 49TU9110_3,       PR19,    NS-6,          3,     -999.0,          2,2,19911107,       1719,    23.3970,   126.1517,     -999.0,   302.2,  18.2140,  34.8334,2,  34.8388,2,   205.0,3,    3.10,2,    0.01,2,    0.24,2