BOTTLE,20211124CCHSIORKP
EXPOCODE,SECT_ID,STNNBR,CASTNO,SAMPNO,BTLNBR,BTLNBR_FLAG_W,DATE,TIME,LATITUDE,LONGITUDE,DEPTH,CTDPRS,CTDTMP,CTDSAL,CTDSAL_FLAG_W,SALNTY,SALNTY_FLAG_W,CTDOXY,CTDOXY_FLAG_W,OXYGEN,OXYGEN_FLAG_W,SILCAT,SILCAT_FLAG_W,NITRAT,NITRAT_FLAG_W,PHSPHT,PHSPHT_FLAG_W,CFC-11,CFC-11_FLAG_W,CFC-12,CFC-12_FLAG_W,CFC113,CFC113_FLAG_W,THETA
,,,,,,,,,,,METERS,DBAR,ITS-90,PSS-78,,PSS-78,,UMOL/KG,,UMOL/KG,,UMOL/KG,,UMOL/KG,,UMOL/KG,,PMOL/KG,,PMOL/KG,,PMOL/KG,,DEG C
     74AB59,      Dar91,   12v13,          1,     -999.0,     -999.0,9,19910531,       1738,    54.0005,   -24.5810,     -999.0,    34.0,   8.9280,  34.9750,2,  34.9720,2,-999.0000,5,   294.3,2,    1.40,2,    7.67,2,    0.58,2,   4.080,2,   1.582,2,-999.000,9,   8.9244
     74AB59,      Dar91,   12v13,          1,     -999.0,     -999.0,9,19910531,       1738,    54.0005,   -24.5810,     -999.0,    59.0,   7.9150,  34.9300,2,  34.9200,2,-999.0000,5,   287.3,2,    4.96,2,   11.89,2,    0.86,2,-999.000,9,-999.000,9,-999.000,9,   7.9091
     74AB59,      Dar91,   12v13,          1,     -999.0,     -999.0,9,19910531,       1738,    54.0005,   -24.5810,     -999.0,    83.8,   7.1300,  34.8930,2,  34.8940,2,-999.0000,5,   283.3,2,    6.54,2,   14.02,2,    0.88,2,-999.000,9,-999.000,9,-999.000,9,   7.1221
     74AB59,      Dar91,   12v13,          1,     -999.0,     -999.0,9,19910531,       1738,    54.0005,   -24.5810,     -999.0,   108.3,   6.9240,  34.8790,2,  34.8790,2,-999.0000,5,   282.9,2,    6.65,2,   14.50,2,    0.87,2,-999.000,9,-999.000,9,-999.000,9,   6.9140
     74AB59,      Dar91,   12v13,          1,     -999.0,     -999.0,9,19910531,       1738,    54.0005,   -24.5810,     -999.0,   158.4,   6.9370,  34.9210,2,  34.9030,2,-999.0000,5,   271.9,2,    7.06,2,   15.37,2,    0.91,2,   3.892,2,   1.652,2,-999.000,9,   6.9223
     74AB59,      Dar91,   12v13,          1,     -999.0,     -999.0,9,19910531,       1738,    54.0005,   -24.5810,     -999.0,   208.2,   6.5710,  34.8910,2,  34.8830,2,-999.0000,5,   274.5,2,    7.40,2,   15.76,2,    0.94,2,-999.000,9,-999.000,9,-999.000,9,   6.5522
     74AB59,      Dar91,   12v13,          1,     -999.0,     -999.0,9,19910531,       1738,    54.0005,   -24.5810,     -999.0,   308.5,   5.4550,  34.8360,2,  34.8260,2,-999.0000,5,   259.9,2,    8.46,2,   17.55,2,    1.07,2,   4.122,2,   1.638,2,-999.000,9,   5.4296
     74AB59,      Dar91,   12v13,          1,     -999.0,     -999.0,9,19910531,       1738,    54.0005,   -24.5810,     -999.0,   408.0,   5.4650,  34.9390,2,  34.9360,2,-999.0000,5,   248.5,2,    9.22,2,   18.26,2,    1.11,2,   3.081,2,   1.284,2,-999.000,9,   5.4310
     74AB59,      Dar91,   12v13,          1,     -999.0,     -999.0,9,19910531,       1738,    54.0005,   -24.5810,     -999.0,   509.0,   4.7860,  34.9120,2,  34.9170,2,-999.0000,5,   249.4,2,    9.69,2,   18.59,2,    1.11,2,   2.763,2,   1.164,2,-999.000,9,   4.7459
     74AB59,      Dar91,   12v13,          1,     -999.0,     -999.0,9,19910531,       1738,    54.0005,   -24.5810,     -999.0,   610.5,   4.6220,  34.9420,2,  34.9280,2,-999.0000,5,   254.5,2,    9.63,2,   18.39,2,    1.09,2,   2.624,2,   1.130,2,-999.000,9,   4.5742
     74AB59,      Dar91,   12v13,          1,     -999.0,     -999.0,9,19910531,       1738,    54.0005,   -24.5810,     -999.0,   813.2,   4.1070,  34.9290,2,  34.9400,2,-999.0000,5,   258.6,2,    9.92,2,   18.21,2,    1.09,2,   2.008,2,   0.870,2,-999.000,9,   4.0454
     74AB59,      Dar91,   12v13,          1,     -999.0,     -999.0,9,19910531,       1738,    54.0005,   -24.5810,     -999.0,  1015.7,   3.8180,  34.9050,2,  34.9030,2,-999.0000,5,   271.8,2,    9.58,2,   17.80,2,    1.05,2,   2.013,2,   0.900,2,-999.000,9,   3.7418
     74AB59,      Dar91,   12v13,          1,     -999.0,     -999.0,9,19910531,       1738,    54.0005,   -24.5810,     -999.0,  1219.8,   3.6280,  34.8990,2,  34.9020,2,-999.0000,5,   274.8,2,    9.72,2,   17.28,2,    1.04,2,   1.891,2,   0.719,2,-999.000,9,   3.5364
     74AB59,      Dar91,   12v13,          1,     -999.0,     -999.0,9,19910531,       1738,    54.0005,   -24.5810,     -999.0,  1424.1,   3.4980,  34.8920,2,  34.8950,2,-999.0000,5,   278.3,2,    9.77,2,   17.26,2,    1.03,2,-999.000,9,-999.000,9,-999.000,9,   3.3903
     74AB59,      Dar91,   12v13,          1,     -999.0,     -999.0,9,19910531,       1738,    54.0005,   -24.5810,     -999.0,  1626.2,   3.4570,  34.9030,2,  34.9070,2,-999.0000,5,   277.5,2,   10.22,2,   17.02,2,    1.05,2,   1.367,2,   0.544,2,-999.000,9,   3.3320
     74AB59,      Dar91,   12v13,          1,     -999.0,     -999.0,9,19910531,       1738,    54.0005,   -24.5810,     -999.0,  1827.2,   3.4060,  34.9180,2,-999.0000,9,-999.0000,5,  -999.0,9, -999.00,9, -999.00,9, -999.00,9,-999.000,9,-999.000,9,-999.000,9,   3.2635
     74AB59,      Dar91,   12v13,          1,     -999.0,     -999.0,9,19910531,       1738,    54.0005,   -24.5810,     -999.0,  2030.2,   3.3340,  34.9330,2,  34.9440,2,-999.0000,5,   271.3,2,   12.38,2,   17.00,2,    1.03,2,   0.941,2,   0.341,2,-999.000,9,   3.1736
     74AB59,      Dar91,   12v13,          1,     -999.0,     -999.0,9,19910531,       1738,    54.0005,   -24.5810,     -999.0,  2232.1,   3.2620,  34.9430,2,  34.9440,2,-999.0000,5,   271.3,2,   12.41,2,   17.10,2,    1.06,2,-999.000,9,-999.000,9,-999.000,9,   3.0835
     74AB59,      Dar91,   12v13,          1,     -999.0,     -999.0,9,19910531,       1738,    54.0005,   -24.5810,     -999.0,  2435.1,   3.1360,  34.9490,2,  34.9500,2,-999.0000,5,   270.1,2,   13.82,2,   17.21,2,    1.08,2,-999.000,9,-999.000,9,-999.000,9,   2.9399
     74AB59,      Dar91,   12v13,          1,     -999.0,     -999.0,9,19910531,       1738,    54.0005,   -24.5810,     -999.0,  2638.8,   3.0240,  34.9520,2,  34.9530,2,-999.0000,5,   268.1,2,   15.81,2,   17.33,2,    1.10,2,   0.866,2,   0.388,2,-999.000,9,   2.8098
     74AB59,      Dar91,   12v13,          1,     -999.0,     -999.0,9,19910531,       1738,    54.0005,   -24.5810,     -999.0,  2841.9,   2.8980,  34.9530,2,  34.9530,2,-999.0000,5,   265.6,2,   18.65,2,   17.69,2,    1.12,2,-999.000,9,-999.000,9,-999.000,9,   2.6657
     74AB59,      Dar91,   12v13,          1,     -999.0,     -999.0,9,19910531,       1738,    54.0005,   -24.5810,     -999.0,  3044.9,   2.8020,  34.9500,2,  34.9510,2,-999.0000,5,   263.3,2,   20.98,2,   17.80,2,    1.13,2,   0.771,2,   0.353,2,-999.000,9,   2.5508
     74AB59,      Dar91,   12v13,          1,     -999.0,     -999.0,9,19910531,       1738,    54.0005,   -24.5810,     -999.0,  3349.1,-999.0000,-999.0000,5,  34.9400,2,-999.0000,5,   255.5,2,   26.72,2,   19.00,2,    1.22,2,   0.542,2,   0.302,2,-999.000,9,-999.0000
     74AB59,      Dar91,   12v14,          1,     -999.0,     -999.0,9,19910601,       1514,    53.9980,   -20.3260,       2647,    17.0,  11.8000,  35.2990,2,  35.3340,2,-999.0000,5,   281.1,2,    1.58,2,    4.74,2,    0.52,2,   4.357,2,   2.089,2,   0.000,2,  11.7978
     74AB59,      Dar91,   12v14,          1,     -999.0,     -999.0,9,19910601,       1514,    53.9980,   -20.3260,       2647,    26.9,  10.8000,  35.3110,2,  35.3410,2,-999.0000,5,   276.6,2,    2.11,2,    5.46,2,    0.59,2,-999.000,9,-999.000,9,-999.000,9,  10.7967
     74AB59,      Dar91,   12v14,          1,     -999.0,     -999.0,9,19910601,       1514,    53.9980,   -20.3260,       2647,    36.5,  10.8060,  35.3390,2,  35.3080,2,-999.0000,5,   269.5,2,    3.83,2,    8.27,2,    0.76,2,-999.000,9,-999.000,9,-999.000,9,  10.8016
     74AB59,      Dar91,   12v14,          1,     -999.0,     -999.0,9,19910601,       1514,    53.9980,   -20.3260,       2647,    56.5,  10.0800,  35.3220,2,  35.2690,2,-999.0000,5,   263.4,2,    5.61,2,   11.35,2,    0.89,2,-999.000,9,-999.000,9,-999.000,9,  10.0734
     74AB59,      Dar91,   12v14,          1,     -999.0,     -999.0,9,19910601,       1514,    53.9980,   -20.3260,       2647,    80.9,   9.4750,  35.2630,2,  35.2900,2,-999.0000,5,   264.3,2,    5.32,2,   11.29,2,    0.88,2,   3.709,2,   1.735,2,   0.000,2,   9.4659
     74AB59,      Dar91,   12v14,          1,     -999.0,     -999.0,9,19910601,       1514,    53.9980,   -20.3260,       2647,   105.9,   9.3850,  35.2610,2,  35.3100,2,-999.0000,5,  -999.0,9,    5.32,2,   11.72,2,    0.87,2,-999.000,9,-999.000,9,-999.000,9,   9.3732
     74AB59,      Dar91,   12v14,          1,     -999.0,     -999.0,9,19910601,       1514,    53.9980,   -20.3260,       2647,   156.1,   9.4790,  35.3080,2,  35.3350,2,-999.0000,5,   264.4,2,    5.58,2,   11.72,2,    0.87,2,-999.000,9,-999.000,9,-999.000,9,   9.4615
     74AB59,      Dar91,   12v14,          1,     -999.0,     -999.0,9,19910601,       1514,    53.9980,   -20.3260,       2647,   206.1,   9.5390,  35.3340,2,  35.3200,2,-999.0000,5,   264.2,2,    5.88,2,   11.91,2,    0.90,2,   4.142,2,   1.697,2,   0.000,2,   9.5157
     74AB59,      Dar91,   12v14,          1,     -999.0,     -999.0,9,19910601,       1514,    53.9980,   -20.3260,       2647,   307.8,   9.2730,  35.3020,2,  35.3140,2,-999.0000,5,   265.4,2,    6.19,2,   12.26,2,    0.92,2,   3.703,2,   1.540,2,   0.000,2,   9.2386
     74AB59,      Dar91,   12v14,          1,     -999.0,     -999.0,9,19910601,       1514,    53.9980,   -20.3260,       2647,   408.6,   9.2390,  35.3150,2,  35.3060,2,-999.0000,5,   258.7,2,    6.62,2,   13.09,2,    1.01,2,   3.677,2,   1.497,2,   0.000,2,   9.1931
     74AB59,      Dar91,   12v14,          1,     -999.0,     -999.0,9,19910601,       1514,    53.9980,   -20.3260,       2647,   508.8,   8.9000,  35.2860,2,  35.2650,2,-999.0000,5,   244.5,2,    7.71,2,   14.50,2,    1.03,2,   3.074,2,   1.243,2,   0.000,2,   8.8439
     74AB59,      Dar91,   12v14,          1,     -999.0,     -999.0,9,19910601,       1514,    53.9980,   -20.3260,       2647,   609.8,   7.9390,  35.1780,2,  35.1650,2,-999.0000,5,   230.5,2,    9.35,2,   16.83,2,    1.18,2,   2.709,2,   1.146,2,   0.000,2,   7.8757
     74AB59,      Dar91,   12v14,          1,     -999.0,     -999.0,9,19910601,       1514,    53.9980,   -20.3260,       2647,   711.0,   6.9000,  35.0900,2,  35.0910,2,-999.0000,5,   225.6,2,   10.61,2,   18.20,2,    1.27,2,-999.000,9,-999.000,9,-999.000,9,   6.8314
     74AB59,      Dar91,   12v14,          1,     -999.0,     -999.0,9,19910601,       1514,    53.9980,   -20.3260,       2647,   812.5,   6.3920,  35.0970,2,  35.0800,2,-999.0000,5,   227.2,2,   11.06,2,   18.27,2,    1.27,2,   2.199,2,   0.948,2,   0.000,2,   6.3161
     74AB59,      Dar91,   12v14,          1,     -999.0,     -999.0,9,19910601,       1514,    53.9980,   -20.3260,       2647,   913.5,   5.6230,  35.0530,2,  35.0490,2,-999.0000,5,   233.8,2,   11.32,2,   18.40,2,    1.32,2,-999.000,9,-999.000,9,-999.000,9,   5.5423
     74AB59,      Dar91,   12v14,          1,     -999.0,     -999.0,9,19910601,       1514,    53.9980,   -20.3260,       2647,  1014.2,   5.1610,  35.0260,2,  35.0250,2,-999.0000,5,   240.5,2,   11.46,2,   18.26,2,    1.26,2,   1.908,2,   0.860,2,   0.163,2,   5.0743
     74AB59,      Dar91,   12v14,          1,     -999.0,     -999.0,9,19910601,       1514,    53.9980,   -20.3260,       2647,  1217.8,   4.2990,  34.9580,2,  34.9630,2,-999.0000,5,   257.0,2,   11.27,2,   17.34,2,    1.24,2,   2.013,2,   0.814,2,   0.163,2,   4.2012
     74AB59,      Dar91,   12v14,          1,     -999.0,     -999.0,9,19910601,       1514,    53.9980,   -20.3260,       2647,  1421.1,   3.8420,  34.9190,2,  34.9190,2,-999.0000,5,   270.5,2,   11.22,2,   17.40,2,    1.18,2,-999.000,9,-999.000,9,-999.000,9,   3.7308
     74AB59,      Dar91,   12v14,          1,     -999.0,     -999.0,9,19910601,       1514,    53.9980,   -20.3260,       2647,  1623.3,   3.6320,  34.9140,2,  34.9140,2,-999.0000,5,   274.1,2,   11.46,2,   17.12,2,    1.20,2,   1.711,2,   0.684,2,   0.134,2,   3.5051
     74AB59,      Dar91,   12v14,          1,     -999.0,     -999.0,9,19910601,       1514,    53.9980,   -20.3260,       2647,  1825.4,   3.5350,  34.9260,2,  34.9250,2,-999.0000,5,   272.6,2,   12.21,2,   17.00,2,    1.15,2,-999.000,9,-999.000,9,-999.000,9,   3.3909
     74AB59,      Dar91,   12v14,          1,     -999.0,     -999.0,9,19910601,       1514,    53.9980,   -20.3260,       2647,  2027.8,   3.3820,  34.9370,2,  34.9370,2,-999.0000,5,   271.9,2,   12.56,2,   16.69,2,    1.19,2,   1.025,2,   0.486,2,   0.070,2,   3.2211
     74AB59,      Dar91,   12v14,          1,     -999.0,     -999.0,9,19910601,       1514,    53.9980,   -20.3260,       2647,  2230.9,   3.2470,  34.9490,2,  34.9470,2,-999.0000,5,   267.6,2,   15.02,2,   17.15,2,    1.18,2,-999.000,9,-999.000,9,-999.000,9,   3.0689
     74AB59,      Dar91,   12v14,          1,     -999.0,     -999.0,9,19910601,       1514,    53.9980,   -20.3260,       2647,  2433.2,   3.0210,  34.9490,2,  34.9480,2,-999.0000,5,   257.9,2,   22.36,2,   18.46,2,    1.25,2,   0.657,2,   0.306,2,   0.048,2,   2.8272
     74AB59,      Dar91,   12v15,          1,     -999.0,     -999.0,9,19910602,       1700,    51.0070,   -20.6447,       4412,    31.0,  13.1980,  35.6730,2,  35.6620,2,-999.0000,5,   279.5,2,    0.44,2,    5.33,2,    0.37,2,   3.166,2,   1.337,2,-999.000,9,  13.1937
     74AB59,      Dar91,   12v15,          1,     -999.0,     -999.0,9,19910602,       1700,    51.0070,   -20.6447,       4412,    45.0,  12.4140,  35.6560,2,  35.6550,2,-999.0000,5,   261.5,2,    1.30,2,    8.31,2,    0.62,2,-999.000,9,-999.000,9,-999.000,9,  12.4080
     74AB59,      Dar91,   12v15,          1,     -999.0,     -999.0,9,19910602,       1700,    51.0070,   -20.6447,       4412,    69.9,  11.9440,  35.6400,2,  35.6060,2,-999.0000,5,   249.9,2,    3.43,2,    9.87,2,    0.64,2,-999.000,9,-999.000,9,-999.000,9,  11.9349
     74AB59,      Dar91,   12v15,          1,     -999.0,     -999.0,9,19910602,       1700,    51.0070,   -20.6447,       4412,    94.7,  11.6160,  35.5920,2,  35.5780,2,-999.0000,5,   249.1,2,    3.91,2,    9.99,2,    0.67,2,-999.000,9,-999.000,9,-999.000,9,  11.6039
     74AB59,      Dar91,   12v15,          1,     -999.0,     -999.0,9,19910602,       1700,    51.0070,   -20.6447,       4412,   119.3,  11.5710,  35.5980,2,  35.5890,2,-999.0000,5,   253.5,2,    4.22,2,   10.06,2,    0.63,2,-999.000,9,-999.000,9,-999.000,9,  11.5557
     74AB59,      Dar91,   12v15,          1,     -999.0,     -999.0,9,19910602,       1700,    51.0070,   -20.6447,       4412,   168.9,  11.1040,  35.5140,2,  35.4820,2,-999.0000,5,   247.7,2,    5.30,2,   11.43,2,    0.72,2,   3.258,2,   1.502,2,-999.000,9,  11.0829
     74AB59,      Dar91,   12v15,          1,     -999.0,     -999.0,9,19910602,       1700,    51.0070,   -20.6447,       4412,   219.2,  10.7370,  35.4540,2,  35.4560,2,-999.0000,5,   257.3,2,    5.42,2,   11.56,2,    0.72,2,-999.000,9,-999.000,9,-999.000,9,  10.7102
     74AB59,      Dar91,   12v15,          1,     -999.0,     -999.0,9,19910602,       1700,    51.0070,   -20.6447,       4412,   319.4,  10.3750,  35.4050,2,  35.3910,2,-999.0000,5,   246.6,2,    6.77,2,   13.18,2,    0.89,2,   3.264,2,   1.403,2,-999.000,9,  10.3367
     74AB59,      Dar91,   12v15,          1,     -999.0,     -999.0,9,19910602,       1700,    51.0070,   -20.6447,       4412,   418.4,   9.4320,  35.2540,2,  35.2340,2,-999.0000,5,   247.7,2,    7.71,2,   14.17,2,    0.90,2,   3.369,2,   1.452,2,-999.000,9,   9.3845
     74AB59,      Dar91,   12v15,          1,     -999.0,     -999.0,9,19910602,       1700,    51.0070,   -20.6447,       4412,   516.5,   8.5170,  35.1390,2,  35.1430,2,-999.0000,5,   237.4,2,    9.28,2,   16.29,2,    1.03,2,   3.053,2,   1.388,2,   0.150,2,   8.4616
     74AB59,      Dar91,   12v15,          1,     -999.0,     -999.0,9,19910602,       1700,    51.0070,   -20.6447,       4412,   616.0,   8.1060,  35.1830,2,  35.1780,2,-999.0000,5,   210.9,2,   11.05,2,   18.58,2,    1.16,2,-999.000,9,-999.000,9,-999.000,9,   8.0413
     74AB59,      Dar91,   12v15,          1,     -999.0,     -999.0,9,19910602,       1700,    51.0070,   -20.6447,       4412,   818.2,   6.4050,  35.0990,2,  35.0830,2,-999.0000,5,   221.3,2,   12.30,2,   19.23,2,    1.22,2,   2.009,2,   0.789,2,   0.109,2,   6.3284
     74AB59,      Dar91,   12v15,          1,     -999.0,     -999.0,9,19910602,       1700,    51.0070,   -20.6447,       4412,  1023.3,   5.1370,  35.0170,2,  35.0320,2,-999.0000,5,   235.6,2,   12.42,2,   19.08,2,    1.18,2,   2.221,2,   1.060,2,   0.106,2,   5.0497
     74AB59,      Dar91,   12v15,          1,     -999.0,     -999.0,9,19910602,       1700,    51.0070,   -20.6447,       4412,  1226.2,   4.4280,  34.9720,2,  34.9720,2,-999.0000,5,   254.2,2,   12.28,2,   18.74,2,    1.19,2,   1.674,2,   0.712,2,   0.115,2,   4.3282
     74AB59,      Dar91,   12v15,          1,     -999.0,     -999.0,9,19910602,       1700,    51.0070,   -20.6447,       4412,  1426.8,   3.9660,  34.9260,2,  34.9270,2,-999.0000,5,   269.7,2,   12.13,2,   18.55,2,    1.15,2,   1.644,2,   0.715,2,   0.109,2,   3.8529
     74AB59,      Dar91,   12v15,          1,     -999.0,     -999.0,9,19910602,       1700,    51.0070,   -20.6447,       4412,  1814.6,   3.5570,  34.9010,2,  34.9040,2,-999.0000,5,   275.7,2,   12.32,2,   18.17,2,    1.13,2,-999.000,9,-999.000,9,-999.000,9,   3.4136
     74AB59,      Dar91,   12v15,          1,     -999.0,     -999.0,9,19910602,       1700,    51.0070,   -20.6447,       4412,  2008.2,   3.5200,  34.9150,2,  34.9180,2,-999.0000,5,   274.4,2,   13.24,2,   18.27,2,    1.14,2,   1.596,2,   0.708,2,   0.094,2,   3.3590
     74AB59,      Dar91,   12v15,          1,     -999.0,     -999.0,9,19910602,       1700,    51.0070,   -20.6447,       4412,  2405.6,   3.3370,  34.9410,2,  34.9420,2,-999.0000,5,   270.9,2,   15.39,2,   18.25,2,    1.14,2,   0.790,2,   0.353,2,   0.051,2,   3.1403
     74AB59,      Dar91,   12v15,          1,     -999.0,     -999.0,9,19910602,       1700,    51.0070,   -20.6447,       4412,  2826.9,   3.0470,  34.9520,2,  34.9520,2,-999.0000,5,   264.1,2,   21.68,2,   18.80,2,    1.26,2,   0.929,2,   0.270,2,   0.041,2,   2.8132
     74AB59,      Dar91,   12v15,          1,     -999.0,     -999.0,9,19910602,       1700,    51.0070,   -20.6447,       4412,  3235.9,   2.8080,  34.9450,2,  34.9440,2,-999.0000,5,   253.1,2,   31.26,2,   20.35,2,    1.29,2,   0.263,2,   0.154,2,   0.018,2,   2.5365
     74AB59,      Dar91,   12v15,          1,     -999.0,     -999.0,9,19910602,       1700,    51.0070,   -20.6447,       4412,  3645.6,   2.6360,  34.9260,2,  34.9240,2,-999.0000,5,   246.3,2,   41.54,2,   22.32,2,    1.43,2,-999.000,9,-999.000,9,-999.000,9,   2.3241
     74AB59,      Dar91,   12v15,          1,     -999.0,     -999.0,9,19910602,       1700,    51.0070,   -20.6447,       4412,  4055.6,   2.5390,  34.9120,2,  34.9120,2,-999.0000,5,   242.9,2,   46.89,2,   23.33,2,    1.58,2,-999.000,9,-999.000,9,-999.000,9,   2.1832
     74AB59,      Dar91,   12v15,          1,     -999.0,     -999.0,9,19910602,       1700,    51.0070,   -20.6447,       4412,  4466.9,   2.5440,  34.9050,2,  34.9050,2,-999.0000,5,   244.1,2,   48.38,2,   23.35,2,    1.48,2,   0.494,2,   0.455,2,   0.057,2,   2.1393