BOTTLE,20211124CCHSIORKP
# Original header:
#code : jjward hyd_to_exchange.pl 
#original files copied from HTML directory: 20020315
#original HYD file: ar12_bhy.txt   Thu Apr  4 08:36:05 2002
#original SUM file: ar12_bsu.txt   Mon Apr 15 12:46:00 2002
EXPOCODE,SECT_ID,STNNBR,CASTNO,SAMPNO,BTLNBR,BTLNBR_FLAG_W,DATE,TIME,LATITUDE,LONGITUDE,DEPTH,CTDPRS,CTDTMP,CTDSAL,CTDSAL_FLAG_W,SALNTY,SALNTY_FLAG_W,CTDOXY,CTDOXY_FLAG_W,OXYGEN,OXYGEN_FLAG_W,SILCAT,SILCAT_FLAG_W,NITRAT,NITRAT_FLAG_W,PHSPHT,PHSPHT_FLAG_W,CFC-11,CFC-11_FLAG_W,CFC-12,CFC-12_FLAG_W,CFC113,CFC113_FLAG_W,THETA
,,,,,,,,,,,METERS,DBAR,ITS-90,PSS-78,,PSS-78,,UMOL/KG,,UMOL/KG,,UMOL/KG,,UMOL/KG,,UMOL/KG,,PMOL/KG,,PMOL/KG,,PMOL/KG,,DEG C
     74AB59,      Dar91,   12v01,          1,     -999.0,     -999.0,9,19910519,       0833,    39.0117,   -30.4310,     -999.0,    -1.0,-999.0000,-999.0000,5,  36.1620,2,-999.0000,5,  -999.0,9,    0.76,2, -999.00,9, -999.00,9,   3.281,2,   1.293,2,-999.000,9,-999.0000
     74AB59,      Dar91,   12v01,          1,     -999.0,     -999.0,9,19910519,       0833,    39.0117,   -30.4310,     -999.0,    17.4,  17.5620,  36.1570,2,  36.1440,2,-999.0000,5,  -999.0,9,    0.73,2, -999.00,9, -999.00,9,-999.000,9,-999.000,9,-999.000,9,  17.5591
     74AB59,      Dar91,   12v01,          1,     -999.0,     -999.0,9,19910519,       0833,    39.0117,   -30.4310,     -999.0,    27.5,  16.9170,  36.1350,2,  36.1400,2,-999.0000,5,  -999.0,9,    0.76,2, -999.00,9, -999.00,9,-999.000,9,-999.000,9,-999.000,9,  16.9125
     74AB59,      Dar91,   12v01,          1,     -999.0,     -999.0,9,19910519,       0833,    39.0117,   -30.4310,     -999.0,    48.2,  16.3130,  36.1140,2,  36.1300,2,-999.0000,5,  -999.0,9,    0.93,2,    0.36,2,    0.09,2,   3.053,2,   1.227,2,-999.000,9,  16.3052
     74AB59,      Dar91,   12v01,          1,     -999.0,     -999.0,9,19910519,       0833,    39.0117,   -30.4310,     -999.0,    79.1,  15.3900,  36.1180,2,  36.1170,2,-999.0000,5,  -999.0,9,    1.75,2,    4.06,2,    0.21,2,-999.000,9,-999.000,9,-999.000,9,  15.3777
     74AB59,      Dar91,   12v01,          1,     -999.0,     -999.0,9,19910519,       0833,    39.0117,   -30.4310,     -999.0,   108.2,  15.0900,  36.0800,2,  36.0750,2,-999.0000,5,   243.1,2,    2.13,2,    5.59,2,    0.24,2,   3.274,2,   1.317,2,-999.000,9,  15.0734
     74AB59,      Dar91,   12v01,          1,     -999.0,     -999.0,9,19910519,       0833,    39.0117,   -30.4310,     -999.0,   157.9,  14.5520,  36.0140,2,  35.9820,2,-999.0000,5,   247.4,2,    2.68,2,    6.77,2,    0.31,2,-999.000,9,-999.000,9,-999.000,9,  14.5284
     74AB59,      Dar91,   12v01,          1,     -999.0,     -999.0,9,19910519,       0833,    39.0117,   -30.4310,     -999.0,   207.6,  14.2750,  35.9660,2,  35.9440,2,-999.0000,5,   250.2,2,    2.96,2,    7.32,2,    0.34,2,-999.000,9,   1.273,2,-999.000,9,  14.2443
     74AB59,      Dar91,   12v01,          1,     -999.0,     -999.0,9,19910519,       0833,    39.0117,   -30.4310,     -999.0,   307.8,  13.2090,  35.7970,2,  35.7800,2,-999.0000,5,   249.6,2,    4.10,2,   10.36,2,    0.56,2,-999.000,9,   1.251,2,-999.000,9,  13.1657
     74AB59,      Dar91,   12v01,          1,     -999.0,     -999.0,9,19910519,       0833,    39.0117,   -30.4310,     -999.0,   407.5,  12.3590,  35.6730,2,  35.6570,2,-999.0000,5,   232.9,2,    5.02,2,   12.09,2,    0.61,2,-999.000,9,   1.163,2,-999.000,9,  12.3040
     74AB59,      Dar91,   12v01,          1,     -999.0,     -999.0,9,19910519,       0833,    39.0117,   -30.4310,     -999.0,   507.5,  11.7780,  35.5930,2,  35.5550,2,-999.0000,5,   228.7,2,    6.05,2,   13.83,2,    0.73,2,-999.000,9,   1.019,2,-999.000,9,  11.7113
     74AB59,      Dar91,   12v01,          1,     -999.0,     -999.0,9,19910519,       0833,    39.0117,   -30.4310,     -999.0,   607.0,  10.9670,  35.4820,2,  35.4640,2,-999.0000,5,   226.2,2,    6.91,2,   15.09,2,    0.81,2,-999.000,9,   1.012,2,-999.000,9,  10.8905
     74AB59,      Dar91,   12v01,          1,     -999.0,     -999.0,9,19910519,       0833,    39.0117,   -30.4310,     -999.0,   705.8,   9.8480,  35.3610,2,  35.3570,2,-999.0000,5,   224.2,2,    8.80,2,   17.50,2,    0.95,2,-999.000,9,   0.822,2,-999.000,9,   9.7644
     74AB59,      Dar91,   12v01,          1,     -999.0,     -999.0,9,19910519,       0833,    39.0117,   -30.4310,     -999.0,   802.2,   9.1530,  35.3310,2,  35.3250,2,-999.0000,5,   215.3,2,   10.07,2,   18.67,2,    1.00,2,-999.000,9,   0.629,2,-999.000,9,   9.0616
     74AB59,      Dar91,   12v01,          1,     -999.0,     -999.0,9,19910519,       0833,    39.0117,   -30.4310,     -999.0,   896.5,   8.1220,  35.2950,2,  35.3030,2,-999.0000,5,   211.7,2,   10.96,2,   19.20,2,    1.08,2,   1.994,2,   0.528,2,-999.000,9,   8.0260
     74AB59,      Dar91,   12v01,          1,     -999.0,     -999.0,9,19910519,       0833,    39.0117,   -30.4310,     -999.0,   978.0,   7.7240,  35.2840,2,  35.2830,2,-999.0000,5,   207.7,2,   11.45,2,   19.40,2,    1.11,2,   1.604,2,   0.535,2,-999.000,9,   7.6217
     74AB59,      Dar91,   12v01,          1,     -999.0,     -999.0,9,19910519,       0833,    39.0117,   -30.4310,     -999.0,  1085.3,   7.3060,  35.2860,2,  35.2650,2,-999.0000,5,   207.1,2,   11.83,2,   19.19,2,    1.06,2,-999.000,9,-999.000,9,-999.000,9,   7.1950
     74AB59,      Dar91,   12v01,          1,     -999.0,     -999.0,9,19910519,       0833,    39.0117,   -30.4310,     -999.0,  1183.2,   6.4400,  35.2180,2,  35.2280,2,-999.0000,5,   196.2,2,   12.14,2,   18.96,2,    1.08,2,-999.000,9,-999.000,9,-999.000,9,   6.3258
     74AB59,      Dar91,   12v01,          1,     -999.0,     -999.0,9,19910519,       0833,    39.0117,   -30.4310,     -999.0,  1277.3,   5.8950,  35.1660,2,  35.1580,2,-999.0000,5,   191.2,2,   12.71,2,   18.94,2,    1.08,2,-999.000,9,-999.000,9,-999.000,9,   5.7762
     74AB59,      Dar91,   12v01,          1,     -999.0,     -999.0,9,19910519,       0833,    39.0117,   -30.4310,     -999.0,  1374.3,   5.4790,  35.1220,2,  35.1180,2,-999.0000,5,   193.9,2,   12.80,2,   18.89,2,    1.08,2,-999.000,9,   0.468,2,-999.000,9,   5.3546
     74AB59,      Dar91,   12v01,          1,     -999.0,     -999.0,9,19910519,       0833,    39.0117,   -30.4310,     -999.0,  1471.2,   5.2790,  35.1040,2,  35.1020,2,-999.0000,5,   197.9,2,   12.84,2,   18.84,2,    1.08,2,-999.000,9,-999.000,9,-999.000,9,   5.1470
     74AB59,      Dar91,   12v01,          1,     -999.0,     -999.0,9,19910519,       0833,    39.0117,   -30.4310,     -999.0,  1571.8,   5.1220,  35.0880,2,  35.0880,2,-999.0000,5,   205.7,2,   12.99,2,   18.71,2,    1.20,2,-999.000,9,-999.000,9,-999.000,9,   4.9818
     74AB59,      Dar91,   12v01,          1,     -999.0,     -999.0,9,19910519,       0833,    39.0117,   -30.4310,     -999.0,  1677.6,   4.9630,  35.0700,2,  35.0700,2,-999.0000,5,   214.8,2,   13.16,2,   18.73,2,    1.09,2,-999.000,9,-999.000,9,-999.000,9,   4.8141
     74AB59,      Dar91,   12v01,          1,     -999.0,     -999.0,9,19910519,       0833,    39.0117,   -30.4310,     -999.0,  1787.4,   4.8870,  35.0600,2,  35.0610,2,-999.0000,5,   225.4,2,   13.35,2,   18.73,2,    1.08,2,-999.000,9,   0.414,2,-999.000,9,   4.7280
     74AB59,      Dar91,   12v02,          1,     -999.0,     -999.0,9,19910520,       0750,    41.9975,   -30.8728,     -999.0,    -0.5,-999.0000,-999.0000,5,  36.0370,2,-999.0000,5,   248.1,2,    1.62,2,    2.01,2,    0.12,2,   3.704,2,   1.282,2,-999.000,9,-999.0000
     74AB59,      Dar91,   12v02,          1,     -999.0,     -999.0,9,19910520,       0750,    41.9975,   -30.8728,     -999.0,    19.0,  16.3100,  36.0130,2,  36.0190,2,-999.0000,5,   256.1,2,    1.64,2,    2.13,2,    0.10,2,-999.000,9,-999.000,9,-999.000,9,  16.3069
     74AB59,      Dar91,   12v02,          1,     -999.0,     -999.0,9,19910520,       0750,    41.9975,   -30.8728,     -999.0,    28.4,  15.9230,  36.0220,2,  35.9590,2,-999.0000,5,   252.9,2,    2.00,2,    3.75,2,    0.20,2,-999.000,9,-999.000,9,-999.000,9,  15.9185
     74AB59,      Dar91,   12v02,          1,     -999.0,     -999.0,9,19910520,       0750,    41.9975,   -30.8728,     -999.0,    58.0,  14.5960,  35.9500,2,  35.9300,2,-999.0000,5,   236.9,2,    2.57,2,    6.88,2,    0.38,2,   2.898,2,   1.148,2,-999.000,9,  14.5874
     74AB59,      Dar91,   12v02,          1,     -999.0,     -999.0,9,19910520,       0750,    41.9975,   -30.8728,     -999.0,    82.6,  14.2860,  35.9440,2,  35.8970,2,-999.0000,5,   234.1,2,    2.57,2,    7.25,2,    0.38,2,-999.000,9,-999.000,9,-999.000,9,  14.2738
     74AB59,      Dar91,   12v02,          1,     -999.0,     -999.0,9,19910520,       0750,    41.9975,   -30.8728,     -999.0,   107.3,  13.8130,  35.9010,2,  35.8330,2,-999.0000,5,   230.0,2,    3.27,2,    8.39,2,    0.46,2,   2.727,2,   1.123,2,-999.000,9,  13.7975
     74AB59,      Dar91,   12v02,          1,     -999.0,     -999.0,9,19910520,       0750,    41.9975,   -30.8728,     -999.0,   156.8,  13.1450,  35.7940,2,  35.7740,2,-999.0000,5,   229.7,2,    3.61,2,    9.13,2,    0.45,2,-999.000,9,-999.000,9,-999.000,9,  13.1231
     74AB59,      Dar91,   12v02,          1,     -999.0,     -999.0,9,19910520,       0750,    41.9975,   -30.8728,     -999.0,   206.6,  12.9170,  35.7650,2,  35.7090,2,-999.0000,5,   228.2,2,    4.06,2,   10.05,2,    0.54,2,   3.065,2,   1.233,2,-999.000,9,  12.8885
     74AB59,      Dar91,   12v02,          1,     -999.0,     -999.0,9,19910520,       0750,    41.9975,   -30.8728,     -999.0,   306.5,  11.8680,  35.5880,2,  35.5650,2,-999.0000,5,   213.8,2,    5.42,2,   12.40,2,    0.90,2,   2.604,2,   1.135,2,-999.000,9,  11.8279
     74AB59,      Dar91,   12v02,          1,     -999.0,     -999.0,9,19910520,       0750,    41.9975,   -30.8728,     -999.0,   405.9,  10.9660,  35.4510,2,  35.4040,2,-999.0000,5,   201.6,2,    7.35,2,   15.24,2,    0.85,2,   2.296,2,   0.959,2,-999.000,9,  10.9153
     74AB59,      Dar91,   12v02,          1,     -999.0,     -999.0,9,19910520,       0750,    41.9975,   -30.8728,     -999.0,   506.2,   9.9750,  35.3300,2,  35.2940,2,-999.0000,5,   195.5,2,    8.86,2,   17.03,2,    0.93,2,-999.000,9,   0.865,2,-999.000,9,   9.9152
     74AB59,      Dar91,   12v02,          1,     -999.0,     -999.0,9,19910520,       0750,    41.9975,   -30.8728,     -999.0,   606.8,   8.9410,  35.2290,2,  35.2180,2,-999.0000,5,   189.3,2,   10.60,2,   18.71,2,    1.13,2,   1.580,2,   0.698,2,-999.000,9,   8.8736
     74AB59,      Dar91,   12v02,          1,     -999.0,     -999.0,9,19910520,       0750,    41.9975,   -30.8728,     -999.0,   708.0,   7.5440,  35.1620,2,  35.1540,2,-999.0000,5,   196.4,2,   11.76,2,   17.95,2,    1.10,2,-999.000,9,-999.000,9,-999.000,9,   7.4722
     74AB59,      Dar91,   12v02,          1,     -999.0,     -999.0,9,19910520,       0750,    41.9975,   -30.8728,     -999.0,   811.0,   6.6550,  35.1080,2,  35.1100,2,-999.0000,5,   204.6,2,   12.35,2,   17.80,2,    1.14,2,   1.374,2,   0.603,2,-999.000,9,   6.5776
     74AB59,      Dar91,   12v02,          1,     -999.0,     -999.0,9,19910520,       0750,    41.9975,   -30.8728,     -999.0,   909.5,   5.8960,  35.0910,2,  35.0920,2,-999.0000,5,   218.6,2,   11.97,2,   17.40,2,    1.08,2,   1.506,2,   0.653,2,-999.000,9,   5.8138
     74AB59,      Dar91,   12v02,          1,     -999.0,     -999.0,9,19910520,       0750,    41.9975,   -30.8728,     -999.0,  1008.8,   5.3650,  35.0560,2,  35.0480,2,-999.0000,5,   233.4,2,   11.85,2,   18.43,2,    1.13,2,   1.616,2,   0.778,2,-999.000,9,   5.2772
     74AB59,      Dar91,   12v02,          1,     -999.0,     -999.0,9,19910520,       0750,    41.9975,   -30.8728,     -999.0,  1213.3,   4.4290,  34.9750,2,  34.9740,2,-999.0000,5,   253.0,2,   11.02,2,   17.49,2,    0.93,2,-999.000,9,-999.000,9,-999.000,9,   4.3304
     74AB59,      Dar91,   12v02,          1,     -999.0,     -999.0,9,19910520,       0750,    41.9975,   -30.8728,     -999.0,  1415.1,   4.0920,  34.9620,2,  34.9640,2,-999.0000,5,   258.7,2,   11.54,2,   17.28,2,    0.93,2,   1.340,2,   0.733,2,-999.000,9,   3.9785
     74AB59,      Dar91,   12v02,          1,     -999.0,     -999.0,9,19910520,       0750,    41.9975,   -30.8728,     -999.0,  1516.2,   3.9290,  34.9480,2,  34.9520,2,-999.0000,5,   261.6,2,   11.80,2,   17.45,2,    0.99,2,-999.000,9,-999.000,9,-999.000,9,   3.8082
     74AB59,      Dar91,   12v02,          1,     -999.0,     -999.0,9,19910520,       0750,    41.9975,   -30.8728,     -999.0,  1615.6,   3.8770,  34.9480,2,  34.9480,2,-999.0000,5,   262.8,2,   12.01,2,   17.42,2,    1.01,2,-999.000,9,-999.000,9,-999.000,9,   3.7477
     74AB59,      Dar91,   12v02,          1,     -999.0,     -999.0,9,19910520,       0750,    41.9975,   -30.8728,     -999.0,  1715.2,   3.8390,  34.9480,2,  34.9490,2,-999.0000,5,   262.2,2,   12.37,2,   17.25,2,    1.02,2,-999.000,9,-999.000,9,-999.000,9,   3.7010
     74AB59,      Dar91,   12v02,          1,     -999.0,     -999.0,9,19910520,       0750,    41.9975,   -30.8728,     -999.0,  1814.1,   3.7630,  34.9450,2,  34.9470,2,-999.0000,5,   263.0,2,   12.78,2,   17.30,2,    1.02,2,   0.973,2,   0.587,2,-999.000,9,   3.6168
     74AB59,      Dar91,   12v02,          1,     -999.0,     -999.0,9,19910520,       0750,    41.9975,   -30.8728,     -999.0,  2013.8,   3.5880,  34.9390,2,  34.9400,2,-999.0000,5,   265.0,2,   13.51,2,   17.33,2,    0.98,2,-999.000,9,-999.000,9,-999.000,9,   3.4254
     74AB59,      Dar91,   12v02,          1,     -999.0,     -999.0,9,19910520,       0750,    41.9975,   -30.8728,     -999.0,  2218.1,   3.4610,  34.9360,2,  34.9380,2,-999.0000,5,   264.4,2,   14.23,2,   16.88,2,    1.04,2,-999.000,9,-999.000,9,-999.000,9,   3.2807