BOTTLE,20211124CCHSIORKP
EXPOCODE,SECT_ID,STNNBR,CASTNO,SAMPNO,BTLNBR,BTLNBR_FLAG_W,DATE,TIME,LATITUDE,LONGITUDE,DEPTH,CTDPRS,CTDTMP,CTDSAL,CTDSAL_FLAG_W,SALNTY,SALNTY_FLAG_W,CTDOXY,CTDOXY_FLAG_W,OXYGEN,OXYGEN_FLAG_W,SILCAT,SILCAT_FLAG_W,NITRAT,NITRAT_FLAG_W,PHSPHT,PHSPHT_FLAG_W,CFC-11,CFC-11_FLAG_W,CFC-12,CFC-12_FLAG_W,CFC113,CFC113_FLAG_W,THETA
,,,,,,,,,,,METERS,DBAR,ITS-90,PSS-78,,PSS-78,,UMOL/KG,,UMOL/KG,,UMOL/KG,,UMOL/KG,,UMOL/KG,,PMOL/KG,,PMOL/KG,,PMOL/KG,,DEG C
     74AB59,      Dar91,   12v03,          1,     -999.0,     -999.0,9,19910521,       1211,    45.0062,   -31.4575,     -999.0,    -2.2,-999.0000,-999.0000,5,  35.9610,2,-999.0000,5,   249.4,2,    2.60,2,    3.24,2,    0.27,2,   2.952,2,   1.396,2,-999.000,9,-999.0000
     74AB59,      Dar91,   12v03,          1,     -999.0,     -999.0,9,19910521,       1211,    45.0062,   -31.4575,     -999.0,    21.4,  15.5980,  35.9380,2,  35.8780,2,-999.0000,5,   260.2,2,    2.79,2,    4.98,2,    0.37,2,-999.000,9,-999.000,9,-999.000,9,  15.5947
     74AB59,      Dar91,   12v03,          1,     -999.0,     -999.0,9,19910521,       1211,    45.0062,   -31.4575,     -999.0,    31.0,  14.7280,  35.9080,2,  35.8430,2,-999.0000,5,   259.3,2,    2.72,2,    5.77,2,    0.35,2,-999.000,9,-999.000,9,-999.000,9,  14.7233
     74AB59,      Dar91,   12v03,          1,     -999.0,     -999.0,9,19910521,       1211,    45.0062,   -31.4575,     -999.0,    45.5,  14.0050,  35.8610,2,  35.8400,2,-999.0000,5,   252.7,2,    3.22,2,    6.99,2,    0.45,2,   3.165,2,   1.413,2,-999.000,9,  13.9984
     74AB59,      Dar91,   12v03,          1,     -999.0,     -999.0,9,19910521,       1211,    45.0062,   -31.4575,     -999.0,    74.8,  13.3160,  35.8390,2,  35.8300,2,-999.0000,5,   242.8,2,    3.66,2,    8.32,2,    0.47,2,-999.000,9,-999.000,9,-999.000,9,  13.3055
     74AB59,      Dar91,   12v03,          1,     -999.0,     -999.0,9,19910521,       1211,    45.0062,   -31.4575,     -999.0,   109.3,  13.1520,  35.8260,2,  35.8180,2,-999.0000,5,   240.6,2,    3.90,2,    8.66,2,    0.48,2,   3.058,2,   1.425,2,-999.000,9,  13.1368
     74AB59,      Dar91,   12v03,          1,     -999.0,     -999.0,9,19910521,       1211,    45.0062,   -31.4575,     -999.0,   159.4,  13.0010,  35.8090,2,  35.7930,2,-999.0000,5,   240.1,2,    4.02,2,    9.04,2,    0.50,2,-999.000,9,-999.000,9,-999.000,9,  12.9789
     74AB59,      Dar91,   12v03,          1,     -999.0,     -999.0,9,19910521,       1211,    45.0062,   -31.4575,     -999.0,   209.1,  12.7170,  35.7570,2,  35.7500,2,-999.0000,5,   237.7,2,    4.29,2,    9.58,2,    0.52,2,   3.659,2,   1.337,2,-999.000,9,  12.6884
     74AB59,      Dar91,   12v03,          1,     -999.0,     -999.0,9,19910521,       1211,    45.0062,   -31.4575,     -999.0,   309.0,  11.9290,  35.6270,2,  35.6120,2,-999.0000,5,   238.9,2,    5.15,2,   10.98,2,    0.62,2,   2.897,2,   1.347,2,-999.000,9,  11.8884
     74AB59,      Dar91,   12v03,          1,     -999.0,     -999.0,9,19910521,       1211,    45.0062,   -31.4575,     -999.0,   409.0,  11.4420,  35.5600,2,  35.5310,2,-999.0000,5,   239.4,2,    5.78,2,   12.11,2,    0.63,2,   3.042,2,   1.355,2,-999.000,9,  11.3895
     74AB59,      Dar91,   12v03,          1,     -999.0,     -999.0,9,19910521,       1211,    45.0062,   -31.4575,     -999.0,   613.0,   9.4340,  35.2510,2,  35.2090,2,-999.0000,5,   211.7,2,    9.48,2,   17.12,2,    0.94,2,   2.333,2,   1.023,2,-999.000,9,   9.3636
     74AB59,      Dar91,   12v03,          1,     -999.0,     -999.0,9,19910521,       1211,    45.0062,   -31.4575,     -999.0,   713.8,   8.2870,  35.1360,2,  35.1340,2,-999.0000,5,   197.0,2,   11.67,2,   19.36,2,    1.04,2,   1.862,2,   0.823,2,-999.000,9,   8.2107
     74AB59,      Dar91,   12v03,          1,     -999.0,     -999.0,9,19910521,       1211,    45.0062,   -31.4575,     -999.0,   813.5,   7.3240,  35.1090,2,  35.1190,2,-999.0000,5,   203.6,2,   12.22,2,   19.51,2,    1.06,2,-999.000,9,-999.000,9,-999.000,9,   7.2423
     74AB59,      Dar91,   12v03,          1,     -999.0,     -999.0,9,19910521,       1211,    45.0062,   -31.4575,     -999.0,  1012.2,   5.3880,  35.0150,2,  35.0160,2,-999.0000,5,   231.2,2,   12.53,2,   19.16,2,    1.06,2,   1.935,2,   0.817,2,-999.000,9,   5.2998
     74AB59,      Dar91,   12v03,          1,     -999.0,     -999.0,9,19910521,       1211,    45.0062,   -31.4575,     -999.0,  1217.2,   4.4860,  34.9670,2,  34.9630,2,-999.0000,5,   251.8,2,   11.91,2,   18.48,2,    0.98,2,   2.002,2,   0.875,2,-999.000,9,   4.3865
     74AB59,      Dar91,   12v03,          1,     -999.0,     -999.0,9,19910521,       1211,    45.0062,   -31.4575,     -999.0,  1423.3,   3.9770,  34.9250,2,  34.9330,2,-999.0000,5,   261.8,2,   11.97,2,   18.10,2,    0.95,2,   1.893,2,   0.776,2,-999.000,9,   3.8641
     74AB59,      Dar91,   12v03,          1,     -999.0,     -999.0,9,19910521,       1211,    45.0062,   -31.4575,     -999.0,  1626.2,   3.7280,  34.9120,2,  34.9140,2,-999.0000,5,   268.9,2,   12.41,2,   17.61,2,    0.93,2,-999.000,9,-999.000,9,-999.000,9,   3.5997
     74AB59,      Dar91,   12v03,          1,     -999.0,     -999.0,9,19910521,       1211,    45.0062,   -31.4575,     -999.0,  1827.1,   3.5850,  34.9040,2,  34.9120,2,-999.0000,5,   269.4,2,   12.36,2,   17.76,2,    0.97,2,-999.000,9,   0.557,2,-999.000,9,   3.4401
     74AB59,      Dar91,   12v03,          1,     -999.0,     -999.0,9,19910521,       1211,    45.0062,   -31.4575,     -999.0,  2028.8,   3.4850,  34.9060,2,  34.9090,2,-999.0000,5,   271.1,2,   12.66,2,   17.48,2,    0.91,2,-999.000,9,-999.000,9,-999.000,9,   3.3226
     74AB59,      Dar91,   12v03,          1,     -999.0,     -999.0,9,19910521,       1211,    45.0062,   -31.4575,     -999.0,  2231.4,   3.4270,  34.9230,2,  34.9250,2,-999.0000,5,   267.5,2,   14.16,2,   17.67,2,    1.01,2,-999.000,9,-999.000,9,-999.000,9,   3.2460
     74AB59,      Dar91,   12v03,          1,     -999.0,     -999.0,9,19910521,       1211,    45.0062,   -31.4575,     -999.0,  2434.1,   3.3130,  34.9300,2,  34.9330,2,-999.0000,5,   264.5,2,   15.91,2,   17.77,2,    0.94,2,   0.778,2,   0.421,2,-999.000,9,   3.1140
     74AB59,      Dar91,   12v03,          1,     -999.0,     -999.0,9,19910521,       1211,    45.0062,   -31.4575,     -999.0,  2635.1,   3.1430,  34.9330,2,  34.9340,2,-999.0000,5,   265.4,2,   16.68,2,   17.74,2,    0.93,2,-999.000,9,-999.000,9,-999.000,9,   2.9269
     74AB59,      Dar91,   12v03,          1,     -999.0,     -999.0,9,19910521,       1211,    45.0062,   -31.4575,     -999.0,  2835.1,   2.9980,  34.9310,2,  34.9330,2,-999.0000,5,   265.6,2,   17.65,2,   17.64,2,    0.91,2,-999.000,9,-999.000,9,-999.000,9,   2.7645
     74AB59,      Dar91,   12v03,          1,     -999.0,     -999.0,9,19910521,       1211,    45.0062,   -31.4575,     -999.0,  3183.2,-999.0000,-999.0000,5,  34.9260,2,-999.0000,5,   266.9,2,   18.67,2,   17.38,2,    0.97,2,   0.685,2,   0.390,2,-999.000,9,-999.0000
     74AB59,      Dar91,   12v04,          1,     -999.0,     -999.0,9,19910522,       1346,    48.0220,   -32.0978,     -999.0,    16.5,  15.3740,  35.7220,2,  35.7630,2,-999.0000,5,   252.7,2,    1.22,2,    2.97,2,    0.06,2,   3.122,2,   1.433,2,-999.000,9,  15.3714
     74AB59,      Dar91,   12v04,          1,     -999.0,     -999.0,9,19910522,       1346,    48.0220,   -32.0978,     -999.0,    47.2,  15.1840,  36.0130,2,  35.9780,2,-999.0000,5,   243.1,2,    1.70,2,    4.83,2,    0.07,2,-999.000,9,-999.000,9,-999.000,9,  15.1768
     74AB59,      Dar91,   12v04,          1,     -999.0,     -999.0,9,19910522,       1346,    48.0220,   -32.0978,     -999.0,    76.6,  14.4090,  35.9430,2,  35.9970,2,-999.0000,5,   231.6,2,    2.05,2,    6.99,2,    0.16,2,-999.000,9,-999.000,9,-999.000,9,  14.3977
     74AB59,      Dar91,   12v04,          1,     -999.0,     -999.0,9,19910522,       1346,    48.0220,   -32.0978,     -999.0,   110.9,  13.8930,  35.8800,2,  35.8930,2,-999.0000,5,   223.7,2,    2.67,2,    8.60,2,    0.28,2,-999.000,9,-999.000,9,-999.000,9,  13.8770
     74AB59,      Dar91,   12v04,          1,     -999.0,     -999.0,9,19910522,       1346,    48.0220,   -32.0978,     -999.0,   160.6,  13.2490,  35.7990,2,  35.8220,2,-999.0000,5,   228.4,2,    3.13,2,    9.34,2,    0.44,2,-999.000,9,-999.000,9,-999.000,9,  13.2265
     74AB59,      Dar91,   12v04,          1,     -999.0,     -999.0,9,19910522,       1346,    48.0220,   -32.0978,     -999.0,   210.1,  12.9850,  35.7640,2,  35.7800,2,-999.0000,5,   229.4,2,    3.40,2,    9.91,2,    0.43,2,-999.000,9,   1.365,2,-999.000,9,  12.9559
     74AB59,      Dar91,   12v04,          1,     -999.0,     -999.0,9,19910522,       1346,    48.0220,   -32.0978,     -999.0,   309.5,  12.5250,  35.7470,2,  35.5670,2,-999.0000,5,   214.2,2,    5.13,2,   13.49,2,    0.63,2,-999.000,9,-999.000,9,-999.000,9,  12.4830
     74AB59,      Dar91,   12v04,          1,     -999.0,     -999.0,9,19910522,       1346,    48.0220,   -32.0978,     -999.0,   408.8,  10.6510,  35.3890,2,  35.3730,2,-999.0000,5,   201.7,2,    7.07,2,   16.29,2,    0.92,2,-999.000,9,   1.070,2,-999.000,9,  10.6009
     74AB59,      Dar91,   12v04,          1,     -999.0,     -999.0,9,19910522,       1346,    48.0220,   -32.0978,     -999.0,   611.0,   7.4840,  35.0270,2,  35.0370,2,-999.0000,5,   197.4,2,   10.61,2,   16.37,2,    1.12,2,-999.000,9,   0.951,2,-999.000,9,   7.4228
     74AB59,      Dar91,   12v04,          1,     -999.0,     -999.0,9,19910522,       1346,    48.0220,   -32.0978,     -999.0,   712.7,   6.5490,  35.0200,2,  35.0190,2,-999.0000,5,   205.7,2,   11.17,2,   16.35,2,    1.11,2,-999.000,9,   0.903,2,-999.000,9,   6.4821
     74AB59,      Dar91,   12v04,          1,     -999.0,     -999.0,9,19910522,       1346,    48.0220,   -32.0978,     -999.0,   813.2,   6.1260,  35.0690,2,  35.0480,2,-999.0000,5,   216.7,2,   11.19,2,   17.51,2,    1.08,2,-999.000,9,   0.804,2,-999.000,9,   6.0517
     74AB59,      Dar91,   12v04,          1,     -999.0,     -999.0,9,19910522,       1346,    48.0220,   -32.0978,     -999.0,  1007.5,   5.0360,  35.0170,2,  35.0160,2,-999.0000,5,   238.2,2,   10.73,2,   16.92,2,    1.01,2,-999.000,9,-999.000,9,-999.000,9,   4.9509
     74AB59,      Dar91,   12v04,          1,     -999.0,     -999.0,9,19910522,       1346,    48.0220,   -32.0978,     -999.0,  1190.8,   4.3650,  34.9610,2,  34.9540,2,-999.0000,5,   256.0,2,   10.37,2,   17.05,2,    1.05,2,-999.000,9,   0.785,2,-999.000,9,   4.2690
     74AB59,      Dar91,   12v04,          1,     -999.0,     -999.0,9,19910522,       1346,    48.0220,   -32.0978,     -999.0,  1327.7,   4.0650,  34.9340,2,  34.9350,2,-999.0000,5,   261.6,2,   10.37,2,   18.02,2,    1.05,2,-999.000,9,   0.778,2,-999.000,9,   3.9597
     74AB59,      Dar91,   12v04,          1,     -999.0,     -999.0,9,19910522,       1346,    48.0220,   -32.0978,     -999.0,  1517.2,   3.7350,  34.9060,2,  34.9110,2,-999.0000,5,   269.0,2,   10.48,2,   17.78,2,    0.97,2,-999.000,9,-999.000,9,-999.000,9,   3.6164
     74AB59,      Dar91,   12v04,          1,     -999.0,     -999.0,9,19910522,       1346,    48.0220,   -32.0978,     -999.0,  1712.2,   3.6050,  34.9010,2,  34.9040,2,-999.0000,5,   272.0,2,   10.76,2,   18.10,2,    1.01,2,-999.000,9,   0.801,2,-999.000,9,   3.4704
     74AB59,      Dar91,   12v04,          1,     -999.0,     -999.0,9,19910522,       1346,    48.0220,   -32.0978,     -999.0,  2114.1,   3.5070,  34.9160,2,  34.9170,2,-999.0000,5,   269.9,2,   11.57,2,   17.73,2,    1.00,2,-999.000,9,-999.000,9,-999.000,9,   3.3361
     74AB59,      Dar91,   12v04,          1,     -999.0,     -999.0,9,19910522,       1346,    48.0220,   -32.0978,     -999.0,  2537.9,   3.3140,  34.9290,2,  34.9340,2,-999.0000,5,   266.9,2,   13.36,2,   17.98,2,    1.00,2,   0.815,2,   0.231,2,-999.000,9,   3.1046
     74AB59,      Dar91,   12v04,          1,     -999.0,     -999.0,9,19910522,       1346,    48.0220,   -32.0978,     -999.0,  2959.8,   3.0470,  34.9320,2,  34.9350,2,-999.0000,5,   269.8,2,   15.23,2,   17.70,2,    1.06,2,-999.000,9,-999.000,9,-999.000,9,   2.7995
     74AB59,      Dar91,   12v04,          1,     -999.0,     -999.0,9,19910522,       1346,    48.0220,   -32.0978,     -999.0,  3352.1,   2.7360,  34.9240,2,  34.9260,2,-999.0000,5,   268.1,2,   17.39,2,   17.62,2,    1.05,2,   0.650,2,   0.442,2,-999.000,9,   2.4538
     74AB59,      Dar91,   12v04,          1,     -999.0,     -999.0,9,19910522,       1346,    48.0220,   -32.0978,     -999.0,  3799.6,   2.5040,  34.9130,2,  34.9120,2,-999.0000,5,   268.7,2,   18.97,2,   17.54,2,    1.09,2,   1.888,2,   0.487,2,-999.000,9,   2.1784
     74AB59,      Dar91,   12v04,          1,     -999.0,     -999.0,9,19910522,       1346,    48.0220,   -32.0978,     -999.0,  4054.9,   2.4310,  34.9090,2,  34.9110,2,-999.0000,5,   270.1,2,   19.08,2,   17.40,2,    1.10,2,   1.094,2,   0.226,2,-999.000,9,   2.0783
     74AB59,      Dar91,   12v05,          1,     -999.0,     -999.0,9,19910523,       1641,    50.7382,   -32.8338,     -999.0,     7.2,  10.2940,  34.7680,2,  34.7200,2,-999.0000,5,   304.2,2,    1.25,2,    2.88,2,    0.18,2,-999.000,9,-999.000,9,-999.000,9,  10.2932
     74AB59,      Dar91,   12v05,          1,     -999.0,     -999.0,9,19910523,       1641,    50.7382,   -32.8338,     -999.0,    29.4,   9.4940,  34.6660,2,  34.8910,2,-999.0000,5,   281.3,2,    2.03,2,    4.41,2,    0.29,2,-999.000,9,-999.000,9,-999.000,9,   9.4907
     74AB59,      Dar91,   12v05,          1,     -999.0,     -999.0,9,19910523,       1641,    50.7382,   -32.8338,     -999.0,    58.3,   9.5200,  34.7960,2,  35.2030,2,-999.0000,5,   263.9,2,    3.27,2,    6.65,2,    0.46,2,-999.000,9,-999.000,9,-999.000,9,   9.5135
     74AB59,      Dar91,   12v05,          1,     -999.0,     -999.0,9,19910523,       1641,    50.7382,   -32.8338,     -999.0,    85.1,   7.6300,  34.7780,2,  35.2630,2,-999.0000,5,   241.4,2,    5.30,2,   11.77,2,    0.75,2,-999.000,9,-999.000,9,-999.000,9,   7.6217
     74AB59,      Dar91,   12v05,          1,     -999.0,     -999.0,9,19910523,       1641,    50.7382,   -32.8338,     -999.0,   110.2,   8.6380,  35.0180,2,  35.0630,2,-999.0000,5,   247.8,2,    5.56,2,   12.36,2,    0.75,2,-999.000,9,-999.000,9,-999.000,9,   8.6264
     74AB59,      Dar91,   12v05,          1,     -999.0,     -999.0,9,19910523,       1641,    50.7382,   -32.8338,     -999.0,   159.9,   7.6220,  34.9060,2,  34.8520,2,-999.0000,5,   253.7,2,    6.50,2,   13.52,2,    0.82,2,-999.000,9,   1.107,2,-999.000,9,   7.6063
     74AB59,      Dar91,   12v05,          1,     -999.0,     -999.0,9,19910523,       1641,    50.7382,   -32.8338,     -999.0,   210.1,   6.7080,  34.8270,2,  34.8650,2,-999.0000,5,   253.9,2,    7.05,2,   14.51,2,    0.82,2,-999.000,9,-999.000,9,-999.000,9,   6.6888
     74AB59,      Dar91,   12v05,          1,     -999.0,     -999.0,9,19910523,       1641,    50.7382,   -32.8338,     -999.0,   309.0,   6.2640,  34.8710,2,  34.8720,2,-999.0000,5,   229.3,2,    8.96,2,   17.68,2,    1.05,2,   2.686,2,   1.108,2,-999.000,9,   6.2366
     74AB59,      Dar91,   12v05,          1,     -999.0,     -999.0,9,19910523,       1641,    50.7382,   -32.8338,     -999.0,   408.0,   5.5890,  34.8970,2,  34.9130,2,-999.0000,5,   216.8,2,    9.93,2,   18.40,2,    1.10,2,   2.243,2,   0.797,2,-999.000,9,   5.5546
     74AB59,      Dar91,   12v05,          1,     -999.0,     -999.0,9,19910523,       1641,    50.7382,   -32.8338,     -999.0,   508.6,   4.6410,  34.8460,2,  34.8460,2,-999.0000,5,   253.5,2,    8.12,2,   18.03,2,    1.03,2,   3.000,2,   1.214,2,-999.000,9,   4.6016
     74AB59,      Dar91,   12v05,          1,     -999.0,     -999.0,9,19910523,       1641,    50.7382,   -32.8338,     -999.0,   608.8,   4.6290,  34.9260,2,  34.9250,2,-999.0000,5,   246.2,2,    8.63,2,   18.35,2,    1.12,2,-999.000,9,-999.000,9,-999.000,9,   4.5813
     74AB59,      Dar91,   12v05,          1,     -999.0,     -999.0,9,19910523,       1641,    50.7382,   -32.8338,     -999.0,   805.3,   4.0070,  34.9090,2,  34.9110,2,-999.0000,5,   260.5,2,    8.24,2,   18.18,2,    1.03,2,   2.528,2,   1.032,2,-999.000,9,   3.9467
     74AB59,      Dar91,   12v05,          1,     -999.0,     -999.0,9,19910523,       1641,    50.7382,   -32.8338,     -999.0,  1001.2,   3.7600,  34.9030,2,  34.9060,2,-999.0000,5,   266.3,2,    8.21,2,   18.01,2,    1.06,2,   2.241,2,   0.941,2,   0.143,2,   3.6854
     74AB59,      Dar91,   12v05,          1,     -999.0,     -999.0,9,19910523,       1641,    50.7382,   -32.8338,     -999.0,  1189.8,   3.5350,  34.8830,2,  34.8740,2,-999.0000,5,   276.3,2,    7.83,2,   17.73,2,    0.99,2,   1.110,2,   1.037,2,   0.150,2,   3.4468
     74AB59,      Dar91,   12v05,          1,     -999.0,     -999.0,9,19910523,       1641,    50.7382,   -32.8338,     -999.0,  1374.6,   3.3420,  34.8650,2,  34.8690,2,-999.0000,5,   279.4,2,    7.64,2,   17.47,2,    0.99,2,-999.000,9,-999.000,9,-999.000,9,   3.2402
     74AB59,      Dar91,   12v05,          1,     -999.0,     -999.0,9,19910523,       1641,    50.7382,   -32.8338,     -999.0,  1549.9,   3.3090,  34.8700,2,  34.8720,2,-999.0000,5,   280.0,2,    7.65,2,   17.41,2,    0.96,2,   0.633,2,   0.997,2,   0.150,2,   3.1926
     74AB59,      Dar91,   12v05,          1,     -999.0,     -999.0,9,19910523,       1641,    50.7382,   -32.8338,     -999.0,  1725.8,   3.2780,  34.8700,2,  34.8740,2,-999.0000,5,   280.7,2,    7.58,2,   17.22,2,    0.96,2,-999.000,9,-999.000,9,-999.000,9,   3.1465
     74AB59,      Dar91,   12v05,          1,     -999.0,     -999.0,9,19910523,       1641,    50.7382,   -32.8338,     -999.0,  2149.9,   3.3570,  34.9250,2,  34.9270,2,-999.0000,5,   268.3,2,    9.76,2,   17.65,2,    0.97,2,   0.999,2,   0.561,2,   0.093,2,   3.1850
     74AB59,      Dar91,   12v05,          1,     -999.0,     -999.0,9,19910523,       1641,    50.7382,   -32.8338,     -999.0,  2556.1,   3.1410,  34.9320,2,  34.9350,2,-999.0000,5,   268.9,2,   10.27,2,   17.01,2,    0.96,2,-999.000,9,-999.000,9,-999.000,9,   2.9329
     74AB59,      Dar91,   12v05,          1,     -999.0,     -999.0,9,19910523,       1641,    50.7382,   -32.8338,     -999.0,  2949.9,   2.9040,  34.9380,2,  34.9410,2,-999.0000,5,   268.3,2,   12.08,2,   16.96,2,    0.99,2,   0.869,2,   0.530,2,   0.081,2,   2.6605
     74AB59,      Dar91,   12v05,          1,     -999.0,     -999.0,9,19910523,       1641,    50.7382,   -32.8338,     -999.0,  3356.1,   2.6300,  34.9270,2,  34.9280,2,-999.0000,5,   268.9,2,   13.77,2,   17.03,2,    0.96,2,-999.000,9,-999.000,9,-999.000,9,   2.3499
     74AB59,      Dar91,   12v05,          1,     -999.0,     -999.0,9,19910523,       1641,    50.7382,   -32.8338,     -999.0,  3764.2,   2.4830,  34.9160,2,  34.9160,2,-999.0000,5,   270.2,2,   14.52,2,   16.84,2,    1.01,2,   0.843,2,   0.497,2,   0.080,2,   2.1619
     74AB59,      Dar91,   12v05,          1,     -999.0,     -999.0,9,19910523,       1641,    50.7382,   -32.8338,     -999.0,  4158.4,   2.4230,  34.9100,2,  34.9100,2,-999.0000,5,   272.1,2,   14.63,2,   17.06,2,    1.02,2,   0.915,2,   0.547,2,   0.102,2,   2.0585