BOTTLE,20211124CCHSIORKP
EXPOCODE,SECT_ID,STNNBR,CASTNO,SAMPNO,BTLNBR,BTLNBR_FLAG_W,DATE,TIME,LATITUDE,LONGITUDE,DEPTH,CTDPRS,CTDTMP,CTDSAL,CTDSAL_FLAG_W,SALNTY,SALNTY_FLAG_W,CTDOXY,CTDOXY_FLAG_W,OXYGEN,OXYGEN_FLAG_W,SILCAT,SILCAT_FLAG_W,NITRAT,NITRAT_FLAG_W,PHSPHT,PHSPHT_FLAG_W,CFC-11,CFC-11_FLAG_W,CFC-12,CFC-12_FLAG_W,CFC113,CFC113_FLAG_W,THETA
,,,,,,,,,,,METERS,DBAR,ITS-90,PSS-78,,PSS-78,,UMOL/KG,,UMOL/KG,,UMOL/KG,,UMOL/KG,,UMOL/KG,,PMOL/KG,,PMOL/KG,,PMOL/KG,,DEG C
     74AB59,      Dar91,   12v06,          1,     -999.0,     -999.0,9,19910524,       2256,    53.9877,   -33.7537,     -999.0,    -0.9,   6.9300,  34.7670,6,  34.7700,2,-999.0000,5,   305.1,2,    6.95,2,   11.96,2,    0.62,2,-999.000,9,   2.211,2,-999.000,9,   6.9301
     74AB59,      Dar91,   12v06,          1,     -999.0,     -999.0,9,19910524,       2256,    53.9877,   -33.7537,     -999.0,     9.6,   6.9270,  34.7680,2,  34.7730,2,-999.0000,5,   304.5,2,    6.92,2,   11.92,2,    0.64,2,-999.000,9,-999.000,9,-999.000,9,   6.9261
     74AB59,      Dar91,   12v06,          1,     -999.0,     -999.0,9,19910524,       2256,    53.9877,   -33.7537,     -999.0,    18.8,   6.9170,  34.7710,2,  34.7780,2,-999.0000,5,   304.6,2,    6.95,2,   12.10,2,    0.67,2,-999.000,9,-999.000,9,-999.000,9,   6.9153
     74AB59,      Dar91,   12v06,          1,     -999.0,     -999.0,9,19910524,       2256,    53.9877,   -33.7537,     -999.0,    45.8,   6.1320,  34.8510,2,  34.8300,2,-999.0000,5,   302.8,2,    7.40,2,   12.95,2,    0.73,2,-999.000,9,-999.000,9,-999.000,9,   6.1281
     74AB59,      Dar91,   12v06,          1,     -999.0,     -999.0,9,19910524,       2256,    53.9877,   -33.7537,     -999.0,    96.2,   5.8380,  34.8550,2,  34.8740,2,-999.0000,5,   294.8,2,    8.08,2,   14.52,2,    0.84,2,-999.000,9,-999.000,9,-999.000,9,   5.8299
     74AB59,      Dar91,   12v06,          1,     -999.0,     -999.0,9,19910524,       2256,    53.9877,   -33.7537,     -999.0,   116.6,   5.5040,  34.8700,2,  34.8970,2,-999.0000,5,   284.1,2,    8.36,2,   15.72,2,    0.90,2,-999.000,9,   1.954,2,-999.000,9,   5.4945
     74AB59,      Dar91,   12v06,          1,     -999.0,     -999.0,9,19910524,       2256,    53.9877,   -33.7537,     -999.0,   166.9,   5.4210,  34.9110,2,  34.9060,2,-999.0000,5,   277.0,2,    8.72,2,   16.33,2,    0.95,2,-999.000,9,-999.000,9,-999.000,9,   5.4075
     74AB59,      Dar91,   12v06,          1,     -999.0,     -999.0,9,19910524,       2256,    53.9877,   -33.7537,     -999.0,   215.2,   5.1930,  34.9030,2,  34.9140,2,-999.0000,5,   280.7,2,    8.68,2,   16.16,2,    0.96,2,   4.319,2,   1.957,2,-999.000,9,   5.1758
     74AB59,      Dar91,   12v06,          1,     -999.0,     -999.0,9,19910524,       2256,    53.9877,   -33.7537,     -999.0,   310.5,   4.9120,  34.9060,2,  34.9000,2,-999.0000,5,   277.1,2,    9.00,2,   16.54,2,    0.99,2,   4.198,2,   1.846,2,-999.000,9,   4.8877
     74AB59,      Dar91,   12v06,          1,     -999.0,     -999.0,9,19910524,       2256,    53.9877,   -33.7537,     -999.0,   406.6,   4.5880,  34.9000,2,  34.8980,2,-999.0000,5,   270.8,2,    9.54,2,   17.18,2,    1.02,2,   3.826,2,   1.696,2,-999.000,9,   4.5569
     74AB59,      Dar91,   12v06,          1,     -999.0,     -999.0,9,19910524,       2256,    53.9877,   -33.7537,     -999.0,   500.6,   4.4340,  34.9050,2,  34.8940,2,-999.0000,5,   265.3,2,   10.03,2,   17.43,2,    1.07,2,-999.000,9,-999.000,9,-999.000,9,   4.3960
     74AB59,      Dar91,   12v06,          1,     -999.0,     -999.0,9,19910524,       2256,    53.9877,   -33.7537,     -999.0,   595.2,   4.0420,  34.8730,2,  34.8740,2,-999.0000,5,   275.0,2,    9.80,2,   17.28,2,    1.07,2,   3.594,2,   1.560,2,-999.000,9,   3.9982
     74AB59,      Dar91,   12v06,          1,     -999.0,     -999.0,9,19910524,       2256,    53.9877,   -33.7537,     -999.0,   695.0,   4.0120,  34.9000,2,  34.8850,2,-999.0000,5,   270.9,2,   10.11,2,   17.43,2,    1.11,2,-999.000,9,-999.000,9,-999.000,9,   3.9605
     74AB59,      Dar91,   12v06,          1,     -999.0,     -999.0,9,19910524,       2256,    53.9877,   -33.7537,     -999.0,   798.5,   3.9100,  34.9090,2,  34.9000,2,-999.0000,5,   266.1,2,   10.36,2,   17.53,2,    1.12,2,   2.785,2,   1.275,2,   0.228,2,   3.8508
     74AB59,      Dar91,   12v06,          1,     -999.0,     -999.0,9,19910524,       2256,    53.9877,   -33.7537,     -999.0,   899.8,   3.7570,  34.9040,2,  34.9030,2,-999.0000,5,   265.7,2,   10.45,2,   17.39,2,    1.12,2,-999.000,9,-999.000,9,-999.000,9,   3.6907
     74AB59,      Dar91,   12v06,          1,     -999.0,     -999.0,9,19910524,       2256,    53.9877,   -33.7537,     -999.0,   999.7,   3.6480,  34.9010,2,  34.9040,2,-999.0000,5,   269.3,2,   10.44,2,   17.12,2,    1.14,2,   2.427,2,   1.085,2,   0.163,2,   3.5744
     74AB59,      Dar91,   12v06,          1,     -999.0,     -999.0,9,19910524,       2256,    53.9877,   -33.7537,     -999.0,  1202.8,   3.5570,  34.9150,2,  34.9150,2,-999.0000,5,   270.7,2,   10.67,2,   16.80,2,    1.14,2,   1.747,2,   0.833,2,   0.131,2,   3.4674
     74AB59,      Dar91,   12v06,          1,     -999.0,     -999.0,9,19910524,       2256,    53.9877,   -33.7537,     -999.0,  1415.1,   3.4920,  34.9300,2,  34.9360,2,-999.0000,5,   268.7,2,   11.09,2,   16.64,2,    1.14,2,   1.536,2,   0.741,2,   0.115,2,   3.3850
     74AB59,      Dar91,   12v06,          1,     -999.0,     -999.0,9,19910524,       2256,    53.9877,   -33.7537,     -999.0,  1620.7,   3.4090,  34.9550,2,  34.9560,2,-999.0000,5,   267.3,2,   11.56,2,   16.03,2,    1.09,2,-999.000,9,-999.000,9,-999.000,9,   3.2849
     74AB59,      Dar91,   12v06,          1,     -999.0,     -999.0,9,19910524,       2256,    53.9877,   -33.7537,     -999.0,  1821.1,   3.2600,  34.9660,2,  34.9680,2,-999.0000,5,   267.4,2,   11.88,2,   15.98,2,    1.11,2,   1.508,2,   0.710,2,   0.126,2,   3.1199
     74AB59,      Dar91,   12v06,          1,     -999.0,     -999.0,9,19910524,       2256,    53.9877,   -33.7537,     -999.0,  2019.7,   3.0700,  34.9700,2,  34.9720,2,-999.0000,5,   267.3,2,   12.70,2,   15.92,2,    1.12,2,   1.567,2,   0.795,2,   0.134,2,   2.9145
     74AB59,      Dar91,   12v06,          1,     -999.0,     -999.0,9,19910524,       2256,    53.9877,   -33.7537,     -999.0,  2219.4,   2.9080,  34.9710,2,  34.9720,2,-999.0000,5,   267.8,2,   13.30,2,   15.92,2,    1.16,2,   1.560,2,   0.681,2,   0.138,2,   2.7365
     74AB59,      Dar91,   12v06,          1,     -999.0,     -999.0,9,19910524,       2256,    53.9877,   -33.7537,     -999.0,  2553.9,   2.8450,  34.9690,2,  34.9710,2,-999.0000,5,   267.1,2,   14.23,2,   15.92,2,    1.08,2,   1.490,2,   0.690,2,   0.138,2,   2.6425
     74AB59,      Dar91,   12v07,          1,     -999.0,     -999.0,9,19910525,       2147,    53.9937,   -29.1847,     -999.0,     7.9,   9.0330,  34.8450,2,  34.8510,2,-999.0000,5,   322.3,2,    0.11,2,    5.66,2,    0.25,2,   4.807,2,   1.704,2,-999.000,9,   9.0322
     74AB59,      Dar91,   12v07,          1,     -999.0,     -999.0,9,19910525,       2147,    53.9937,   -29.1847,     -999.0,    18.0,   8.4100,  34.8480,2,  34.8620,2,-999.0000,5,   312.9,2,    0.23,2,    7.70,2,    0.51,2,-999.000,9,-999.000,9,-999.000,9,   8.4082
     74AB59,      Dar91,   12v07,          1,     -999.0,     -999.0,9,19910525,       2147,    53.9937,   -29.1847,     -999.0,    59.2,   7.6970,  34.8980,2,  34.9000,2,-999.0000,5,   288.8,2,    6.62,2,   11.72,2,    0.55,2,-999.000,9,-999.000,9,-999.000,9,   7.6912
     74AB59,      Dar91,   12v07,          1,     -999.0,     -999.0,9,19910525,       2147,    53.9937,   -29.1847,     -999.0,    84.2,   7.1450,  34.8860,2,  34.8920,2,-999.0000,5,   282.8,2,    7.36,2,   13.36,2,    0.61,2,-999.000,9,-999.000,9,-999.000,9,   7.1371
     74AB59,      Dar91,   12v07,          1,     -999.0,     -999.0,9,19910525,       2147,    53.9937,   -29.1847,     -999.0,   108.6,   6.9420,  34.9080,2,  34.8950,2,-999.0000,5,   278.7,2,    7.97,2,   14.36,2,    0.69,2,-999.000,9,   1.730,2,-999.000,9,   6.9320
     74AB59,      Dar91,   12v07,          1,     -999.0,     -999.0,9,19910525,       2147,    53.9937,   -29.1847,     -999.0,   158.8,   6.5310,  34.8710,2,  34.8820,2,-999.0000,5,   273.9,2,    8.49,2,   15.23,2,    0.73,2,-999.000,9,-999.000,9,-999.000,9,   6.5168
     74AB59,      Dar91,   12v07,          1,     -999.0,     -999.0,9,19910525,       2147,    53.9937,   -29.1847,     -999.0,   208.6,   6.4440,  34.8970,2,  34.8840,2,-999.0000,5,   266.3,2,    8.70,2,   15.69,2,    0.80,2,-999.000,9,-999.000,9,-999.000,9,   6.4254
     74AB59,      Dar91,   12v07,          1,     -999.0,     -999.0,9,19910525,       2147,    53.9937,   -29.1847,     -999.0,   308.0,   5.9440,  34.9020,2,  34.8690,2,-999.0000,5,   247.4,2,   11.62,2,   17.75,2,    0.90,2,   4.082,2,   1.218,2,-999.000,9,   5.9174
     74AB59,      Dar91,   12v07,          1,     -999.0,     -999.0,9,19910525,       2147,    53.9937,   -29.1847,     -999.0,   408.5,   5.5940,  34.9510,2,  34.9540,2,-999.0000,5,   237.8,2,   11.57,2,   18.66,2,    0.93,2,   3.435,2,   1.038,2,-999.000,9,   5.5596
     74AB59,      Dar91,   12v07,          1,     -999.0,     -999.0,9,19910525,       2147,    53.9937,   -29.1847,     -999.0,   508.9,   4.9220,  34.9350,2,  34.9340,2,-999.0000,5,   244.0,2,   11.88,2,   18.73,2,    0.96,2,-999.000,9,   1.139,2,-999.000,9,   4.8814
     74AB59,      Dar91,   12v07,          1,     -999.0,     -999.0,9,19910525,       2147,    53.9937,   -29.1847,     -999.0,   610.3,   4.5770,  34.9350,2,  34.9280,2,-999.0000,5,   247.5,2,   12.05,2,   18.74,2,    0.97,2,-999.000,9,-999.000,9,-999.000,9,   4.5294
     74AB59,      Dar91,   12v07,          1,     -999.0,     -999.0,9,19910525,       2147,    53.9937,   -29.1847,     -999.0,   812.5,   3.9950,  34.9060,2,  34.9080,2,-999.0000,5,   259.7,2,   11.86,2,   18.15,2,    0.95,2,   3.328,2,   1.096,2,-999.000,9,   3.9342
     74AB59,      Dar91,   12v07,          1,     -999.0,     -999.0,9,19910525,       2147,    53.9937,   -29.1847,     -999.0,  1012.8,   3.7460,  34.8970,2,  34.8960,2,-999.0000,5,   268.2,2,   11.83,2,   18.08,2,    0.91,2,   2.689,2,   0.817,2,-999.000,9,   3.6706
     74AB59,      Dar91,   12v07,          1,     -999.0,     -999.0,9,19910525,       2147,    53.9937,   -29.1847,     -999.0,  1218.2,   3.5370,  34.8820,2,  34.8840,2,-999.0000,5,   273.8,2,   11.35,2,   17.72,2,    0.90,2,   2.682,2,   0.772,2,-999.000,9,   3.4464
     74AB59,      Dar91,   12v07,          1,     -999.0,     -999.0,9,19910525,       2147,    53.9937,   -29.1847,     -999.0,  1420.8,   3.4710,  34.8870,2,  34.8910,2,-999.0000,5,   274.3,2,   11.69,2,   17.60,2,    0.91,2,   2.197,2,   0.765,2,-999.000,9,   3.3639
     74AB59,      Dar91,   12v07,          1,     -999.0,     -999.0,9,19910525,       2147,    53.9937,   -29.1847,     -999.0,  1622.8,   3.4570,  34.9040,2,  34.9070,2,-999.0000,5,   271.6,2,   12.13,2,   17.45,2,    0.89,2,-999.000,9,   0.660,2,-999.000,9,   3.3323
     74AB59,      Dar91,   12v07,          1,     -999.0,     -999.0,9,19910525,       2147,    53.9937,   -29.1847,     -999.0,  1823.2,   3.4300,  34.9220,2,  34.9260,2,-999.0000,5,   268.9,2,   12.75,2,   17.39,2,    0.90,2,   1.225,2,   0.494,2,-999.000,9,   3.2875
     74AB59,      Dar91,   12v07,          1,     -999.0,     -999.0,9,19910525,       2147,    53.9937,   -29.1847,     -999.0,  2024.4,   3.3310,  34.9370,2,  34.9400,2,-999.0000,5,   267.1,2,   13.42,2,   17.11,2,    0.90,2,   1.199,2,   0.610,2,-999.000,9,   3.1712
     74AB59,      Dar91,   12v07,          1,     -999.0,     -999.0,9,19910525,       2147,    53.9937,   -29.1847,     -999.0,  2228.1,   3.2250,  34.9470,2,  34.9500,2,-999.0000,5,   266.2,2,   14.28,2,   17.14,2,    0.93,2,-999.000,9,-999.000,9,-999.000,9,   3.0475
     74AB59,      Dar91,   12v07,          1,     -999.0,     -999.0,9,19910525,       2147,    53.9937,   -29.1847,     -999.0,  2429.6,   3.0960,  34.9550,2,  34.9590,2,-999.0000,5,   266.4,2,   15.43,2,   17.13,2,    0.89,2,   1.339,2,   0.642,2,-999.000,9,   2.9012
     74AB59,      Dar91,   12v07,          1,     -999.0,     -999.0,9,19910525,       2147,    53.9937,   -29.1847,     -999.0,  2632.9,   2.9440,  34.9610,2,  34.9640,2,-999.0000,5,   263.6,2,   17.90,2,   17.31,2,    0.95,2,-999.000,9,-999.000,9,-999.000,9,   2.7319
     74AB59,      Dar91,   12v07,          1,     -999.0,     -999.0,9,19910525,       2147,    53.9937,   -29.1847,     -999.0,  2835.2,   2.8210,  34.9590,2,  34.9590,2,-999.0000,5,   259.4,2,   21.88,2,   18.03,2,    1.01,2,-999.000,9,-999.000,9,-999.000,9,   2.5909
     74AB59,      Dar91,   12v07,          1,     -999.0,     -999.0,9,19910525,       2147,    53.9937,   -29.1847,     -999.0,  3040.2,   2.7340,  34.9520,2,  34.9540,2,-999.0000,5,   255.4,2,   25.93,2,   18.55,2,    1.06,2,   1.115,2,   0.544,2,-999.000,9,   2.4847
     74AB59,      Dar91,   12v08,          1,     -999.0,     -999.0,9,19910527,       0125,    51.0897,   -28.1143,     -999.0,    -0.9,  13.1930,  35.5080,6,  35.4970,2,-999.0000,5,   268.7,2,    0.36,2,    5.33,2,    0.30,2,-999.000,9,   1.648,2,   0.280,2,  13.1931
     74AB59,      Dar91,   12v08,          1,     -999.0,     -999.0,9,19910527,       0125,    51.0897,   -28.1143,     -999.0,    21.1,  12.9200,  35.5050,2,  35.4970,2,-999.0000,5,   270.0,2,    0.44,2,    4.96,2,    0.31,2,-999.000,9,-999.000,9,-999.000,9,  12.9171
     74AB59,      Dar91,   12v08,          1,     -999.0,     -999.0,9,19910527,       0125,    51.0897,   -28.1143,     -999.0,    30.5,  12.7540,  35.5060,2,  35.4950,2,-999.0000,5,   271.9,2,    0.56,2,    5.37,2,    0.33,2,-999.000,9,-999.000,9,-999.000,9,  12.7499
     74AB59,      Dar91,   12v08,          1,     -999.0,     -999.0,9,19910527,       0125,    51.0897,   -28.1143,     -999.0,    50.5,  12.3300,  35.5150,2,  35.5100,2,-999.0000,5,   271.3,2,    0.69,2,    6.10,2,    0.35,2,-999.000,9,-999.000,9,-999.000,9,  12.3233
     74AB59,      Dar91,   12v08,          1,     -999.0,     -999.0,9,19910527,       0125,    51.0897,   -28.1143,     -999.0,    74.8,  11.4850,  35.5200,2,  35.5240,2,-999.0000,5,   263.0,2,    1.63,2,    8.50,2,    0.51,2,-999.000,9,-999.000,9,-999.000,9,  11.4755
     74AB59,      Dar91,   12v08,          1,     -999.0,     -999.0,9,19910527,       0125,    51.0897,   -28.1143,     -999.0,   108.4,  10.9670,  35.4780,2,  35.4880,2,-999.0000,5,   251.3,2,    5.32,2,   12.00,2,    0.62,2,-999.000,9,   1.620,2,   0.269,2,  10.9536
     74AB59,      Dar91,   12v08,          1,     -999.0,     -999.0,9,19910527,       0125,    51.0897,   -28.1143,     -999.0,   158.2,  10.5550,  35.4180,2,  35.3850,2,-999.0000,5,   247.2,2,    6.12,2,   13.11,2,    0.70,2,-999.000,9,-999.000,9,-999.000,9,  10.5359
     74AB59,      Dar91,   12v08,          1,     -999.0,     -999.0,9,19910527,       0125,    51.0897,   -28.1143,     -999.0,   206.8,  10.2520,  35.3680,2,  35.3410,2,-999.0000,5,   254.0,2,    6.14,2,   13.04,2,    0.69,2,-999.000,9,-999.000,9,-999.000,9,  10.2275
     74AB59,      Dar91,   12v08,          1,     -999.0,     -999.0,9,19910527,       0125,    51.0897,   -28.1143,     -999.0,   306.8,   9.6700,  35.2840,2,  35.2520,2,-999.0000,5,   254.8,2,    6.74,2,   14.06,2,    0.76,2,-999.000,9,   1.552,2,   0.284,2,   9.6348
     74AB59,      Dar91,   12v08,          1,     -999.0,     -999.0,9,19910527,       0125,    51.0897,   -28.1143,     -999.0,   408.2,   8.9480,  35.1800,2,  35.1670,2,-999.0000,5,   242.6,2,    8.14,2,   16.02,2,    0.88,2,   3.868,2,   1.551,2,   0.291,2,   8.9031
     74AB59,      Dar91,   12v08,          1,     -999.0,     -999.0,9,19910527,       0125,    51.0897,   -28.1143,     -999.0,   507.2,   7.8750,  35.0460,2,  35.0390,2,-999.0000,5,   226.1,2,   10.17,2,   18.49,2,    1.07,2,-999.000,9,   1.408,2,   0.242,2,   7.8231
     74AB59,      Dar91,   12v08,          1,     -999.0,     -999.0,9,19910527,       0125,    51.0897,   -28.1143,     -999.0,   608.3,   6.7670,  34.9790,2,  35.0070,2,-999.0000,5,   219.8,2,   11.39,2,   19.52,2,    1.12,2,-999.000,9,-999.000,9,-999.000,9,   6.7094
     74AB59,      Dar91,   12v08,          1,     -999.0,     -999.0,9,19910527,       0125,    51.0897,   -28.1143,     -999.0,   808.3,   5.4160,  34.9690,2,  34.9590,2,-999.0000,5,   239.6,2,   11.70,2,   19.63,2,    1.12,2,-999.000,9,   1.042,2,   0.166,2,   5.3466
     74AB59,      Dar91,   12v08,          1,     -999.0,     -999.0,9,19910527,       0125,    51.0897,   -28.1143,     -999.0,  1005.7,   4.3730,  34.9230,2,  34.9220,2,-999.0000,5,   255.9,2,   11.43,2,   18.95,2,    1.08,2,-999.000,9,-999.000,9,-999.000,9,   4.2933
     74AB59,      Dar91,   12v08,          1,     -999.0,     -999.0,9,19910527,       0125,    51.0897,   -28.1143,     -999.0,  1198.4,   3.9990,  34.9180,2,  34.9150,2,-999.0000,5,   267.9,2,   11.23,2,   18.95,2,    1.04,2,   2.859,2,   1.128,2,   0.172,2,   3.9057
     74AB59,      Dar91,   12v08,          1,     -999.0,     -999.0,9,19910527,       0125,    51.0897,   -28.1143,     -999.0,  1398.3,   3.7430,  34.9010,2,  34.8980,2,-999.0000,5,   275.3,2,   11.10,2,   18.23,2,    1.03,2,-999.000,9,-999.000,9,-999.000,9,   3.6349
     74AB59,      Dar91,   12v08,          1,     -999.0,     -999.0,9,19910527,       0125,    51.0897,   -28.1143,     -999.0,  1599.3,   3.5470,  34.8910,2,  34.8890,2,-999.0000,5,   279.3,2,   11.15,2,   17.81,2,    1.01,2,   2.737,2,   0.939,2,   0.145,2,   3.4233
     74AB59,      Dar91,   12v08,          1,     -999.0,     -999.0,9,19910527,       0125,    51.0897,   -28.1143,     -999.0,  1799.4,   3.4710,  34.8910,2,  34.8930,2,-999.0000,5,   280.4,2,   11.49,2,   17.80,2,    1.01,2,-999.000,9,-999.000,9,-999.000,9,   3.3302
     74AB59,      Dar91,   12v08,          1,     -999.0,     -999.0,9,19910527,       0125,    51.0897,   -28.1143,     -999.0,  1998.8,   3.4480,  34.9030,2,  34.9060,2,-999.0000,5,   278.1,2,   12.06,2,   18.00,2,    1.07,2,-999.000,9,   0.862,2,   0.102,2,   3.2890
     74AB59,      Dar91,   12v08,          1,     -999.0,     -999.0,9,19910527,       0125,    51.0897,   -28.1143,     -999.0,  2198.6,   3.4190,  34.9180,2,  34.9210,2,-999.0000,5,   275.2,2,   12.91,2,   16.87,2,    1.00,2,-999.000,9,-999.000,9,-999.000,9,   3.2413
     74AB59,      Dar91,   12v08,          1,     -999.0,     -999.0,9,19910527,       0125,    51.0897,   -28.1143,     -999.0,  2606.9,   3.2210,  34.9370,2,  34.9380,2,-999.0000,5,   272.1,2,   15.33,2,   17.65,2,    1.07,2,   1.195,2,   0.601,2,   0.058,2,   3.0063
     74AB59,      Dar91,   12v08,          1,     -999.0,     -999.0,9,19910527,       0125,    51.0897,   -28.1143,     -999.0,  3024.9,   3.0350,  34.9470,2,  34.9500,2,-999.0000,5,  -999.0,9,   20.06,2,   18.62,2,    1.09,2,   0.713,2,   0.444,2,   0.030,2,   2.7808
     74AB59,      Dar91,   12v08,          1,     -999.0,     -999.0,9,19910527,       0125,    51.0897,   -28.1143,     -999.0,  3409.9,   2.8180,  34.9400,2,  34.9440,2,-999.0000,5,   266.6,2,   27.88,2,   20.09,2,    1.23,2,   0.892,2,   0.480,2,   0.055,2,   2.5275
     74AB59,      Dar91,   12v08,          1,     -999.0,     -999.0,9,19910527,       0125,    51.0897,   -28.1143,     -999.0,  3691.9,   2.7840,  34.9390,2,  34.9430,2,-999.0000,5,   258.3,2,   28.02,2,   19.90,2,    1.13,2,-999.000,9,-999.000,9,-999.000,9,   2.4630