BOTTLE,20211124CCHSIORKP
EXPOCODE,SECT_ID,STNNBR,CASTNO,SAMPNO,BTLNBR,BTLNBR_FLAG_W,DATE,TIME,LATITUDE,LONGITUDE,DEPTH,CTDPRS,CTDTMP,CTDSAL,CTDSAL_FLAG_W,SALNTY,SALNTY_FLAG_W,CTDOXY,CTDOXY_FLAG_W,OXYGEN,OXYGEN_FLAG_W,SILCAT,SILCAT_FLAG_W,NITRAT,NITRAT_FLAG_W,PHSPHT,PHSPHT_FLAG_W,CFC-11,CFC-11_FLAG_W,CFC-12,CFC-12_FLAG_W,CFC113,CFC113_FLAG_W,THETA
,,,,,,,,,,,METERS,DBAR,ITS-90,PSS-78,,PSS-78,,UMOL/KG,,UMOL/KG,,UMOL/KG,,UMOL/KG,,UMOL/KG,,PMOL/KG,,PMOL/KG,,PMOL/KG,,DEG C
     74AB59,      Dar91,   12v21,          1,     -999.0,     -999.0,9,19910608,       0255,    53.9968,   -14.9965,     -999.0,    18.6,  12.8390,  35.4390,2,  35.4420,2,-999.0000,5,   277.4,2, -999.00,9, -999.00,9, -999.00,9,   4.057,2,   1.772,2,   0.347,2,  12.8365
     74AB59,      Dar91,   12v21,          1,     -999.0,     -999.0,9,19910608,       0255,    53.9968,   -14.9965,     -999.0,    33.8,  11.0590,  35.4550,2,  35.4610,2,-999.0000,5,   269.5,2, -999.00,9, -999.00,9, -999.00,9,-999.000,9,-999.000,9,-999.000,9,  11.0548
     74AB59,      Dar91,   12v21,          1,     -999.0,     -999.0,9,19910608,       0255,    53.9968,   -14.9965,     -999.0,    58.2,  10.7690,  35.4680,2,  35.4550,2,-999.0000,5,   264.1,2, -999.00,9, -999.00,9, -999.00,9,-999.000,9,   1.689,2,   0.335,2,  10.7619
     74AB59,      Dar91,   12v21,          1,     -999.0,     -999.0,9,19910608,       0255,    53.9968,   -14.9965,     -999.0,    77.8,  10.5920,  35.4600,2,  35.4300,2,-999.0000,5,   261.7,2, -999.00,9, -999.00,9, -999.00,9,-999.000,9,-999.000,9,-999.000,9,  10.5826
     74AB59,      Dar91,   12v21,          1,     -999.0,     -999.0,9,19910608,       0255,    53.9968,   -14.9965,     -999.0,   107.6,  10.4870,  35.4520,2,  35.4220,2,-999.0000,5,   259.3,2, -999.00,9, -999.00,9, -999.00,9,-999.000,9,   1.758,2,   0.293,2,  10.4741
     74AB59,      Dar91,   12v21,          1,     -999.0,     -999.0,9,19910608,       0255,    53.9968,   -14.9965,     -999.0,   157.9,  10.5090,  35.4700,2,  35.4600,2,-999.0000,5,   260.3,2, -999.00,9, -999.00,9, -999.00,9,-999.000,9,-999.000,9,-999.000,9,  10.4900
     74AB59,      Dar91,   12v21,          1,     -999.0,     -999.0,9,19910608,       0255,    53.9968,   -14.9965,     -999.0,   204.9,  10.4960,  35.4750,2,  35.4760,2,-999.0000,5,   259.8,2, -999.00,9, -999.00,9, -999.00,9,   3.676,2,   1.751,2,   0.281,2,  10.4713
     74AB59,      Dar91,   12v21,          1,     -999.0,     -999.0,9,19910608,       0255,    53.9968,   -14.9965,     -999.0,   307.0,  10.3860,  35.4590,2,  35.4380,2,-999.0000,5,   258.5,2, -999.00,9, -999.00,9, -999.00,9,-999.000,9,   1.752,2,   0.263,2,  10.3491
     74AB59,      Dar91,   12v21,          1,     -999.0,     -999.0,9,19910608,       0255,    53.9968,   -14.9965,     -999.0,   408.0,  10.1660,  35.4310,2,  35.4340,2,-999.0000,5,   251.8,2, -999.00,9, -999.00,9, -999.00,9,   3.412,2,   1.607,2,   0.239,2,  10.1174
     74AB59,      Dar91,   12v21,          1,     -999.0,     -999.0,9,19910608,       0255,    53.9968,   -14.9965,     -999.0,   508.0,   9.8240,  35.3820,2,  35.3690,2,-999.0000,5,   249.2,2, -999.00,9, -999.00,9, -999.00,9,-999.000,9,   1.670,2,   0.246,2,   9.7645
     74AB59,      Dar91,   12v21,          1,     -999.0,     -999.0,9,19910608,       0255,    53.9968,   -14.9965,     -999.0,   609.7,   9.1960,  35.2820,2,  35.2800,2,-999.0000,5,   256.1,2, -999.00,9, -999.00,9, -999.00,9,   3.389,2,   1.649,2,   0.244,2,   9.1271
     74AB59,      Dar91,   12v21,          1,     -999.0,     -999.0,9,19910608,       0255,    53.9968,   -14.9965,     -999.0,   705.7,   9.2920,  35.3510,2,  35.2510,2,-999.0000,5,   227.0,2, -999.00,9, -999.00,9, -999.00,9,-999.000,9,-999.000,9,-999.000,9,   9.2112
     74AB59,      Dar91,   12v21,          1,     -999.0,     -999.0,9,19910608,       0255,    53.9968,   -14.9965,     -999.0,   808.2,   8.1880,  35.2050,2,  35.2280,2,-999.0000,5,   222.0,2, -999.00,9, -999.00,9, -999.00,9,   2.403,2,   1.150,2,   0.150,2,   8.1016
     74AB59,      Dar91,   12v21,          1,     -999.0,     -999.0,9,19910608,       0255,    53.9968,   -14.9965,     -999.0,   904.7,   7.1290,  35.1010,2,  35.1630,2,-999.0000,5,   215.8,2, -999.00,9, -999.00,9, -999.00,9,-999.000,9,-999.000,9,-999.000,9,   7.0390
     74AB59,      Dar91,   12v21,          1,     -999.0,     -999.0,9,19910608,       0255,    53.9968,   -14.9965,     -999.0,  1004.0,   6.7500,  35.1340,2,  35.1350,2,-999.0000,5,   221.7,2, -999.00,9, -999.00,9, -999.00,9,   1.926,2,   0.883,2,   0.114,2,   6.6522
     74AB59,      Dar91,   12v21,          1,     -999.0,     -999.0,9,19910608,       0255,    53.9968,   -14.9965,     -999.0,  1204.8,   5.2730,  35.0230,2,-999.0000,9,-999.0000,5,  -999.0,9, -999.00,9, -999.00,9, -999.00,9,-999.000,9,-999.000,9,-999.000,9,   5.1674
     74AB59,      Dar91,   12v21,          1,     -999.0,     -999.0,9,19910608,       0255,    53.9968,   -14.9965,     -999.0,  1416.3,   4.4360,  34.9620,2,  34.9610,2,-999.0000,5,   253.7,2, -999.00,9, -999.00,9, -999.00,9,   1.810,2,   0.849,2,   0.101,2,   4.3187
     74AB59,      Dar91,   12v21,          1,     -999.0,     -999.0,9,19910608,       0255,    53.9968,   -14.9965,     -999.0,  1618.4,   3.9530,  34.9280,2,  34.9230,2,-999.0000,5,   267.6,2, -999.00,9, -999.00,9, -999.00,9,   1.770,2,   0.974,2,   0.091,2,   3.8226
     74AB59,      Dar91,   12v21,          1,     -999.0,     -999.0,9,19910608,       0255,    53.9968,   -14.9965,     -999.0,  1816.2,   3.6760,  34.9050,2,  34.9060,2,-999.0000,5,   273.7,2, -999.00,9, -999.00,9, -999.00,9,-999.000,9,-999.000,9,-999.000,9,   3.5309
     74AB59,      Dar91,   12v21,          1,     -999.0,     -999.0,9,19910608,       0255,    53.9968,   -14.9965,     -999.0,  2016.8,   3.6430,  34.9280,2,  34.9320,2,-999.0000,5,   268.9,2, -999.00,9, -999.00,9, -999.00,9,-999.000,9,-999.000,9,-999.000,9,   3.4793
     74AB59,      Dar91,   12v21,          1,     -999.0,     -999.0,9,19910608,       0255,    53.9968,   -14.9965,     -999.0,  2221.6,   3.5030,  34.9410,2,  34.9420,2,-999.0000,5,   267.4,2, -999.00,9, -999.00,9, -999.00,9,   0.887,2,   0.446,2,   0.052,2,   3.3216
     74AB59,      Dar91,   12v21,          1,     -999.0,     -999.0,9,19910608,       0255,    53.9968,   -14.9965,     -999.0,  2422.6,   3.3220,  34.9480,2,  34.9480,2,-999.0000,5,   264.3,2, -999.00,9, -999.00,9, -999.00,9,-999.000,9,-999.000,9,-999.000,9,   3.1239
     74AB59,      Dar91,   12v21,          1,     -999.0,     -999.0,9,19910608,       0255,    53.9968,   -14.9965,     -999.0,  2625.1,   3.0610,  34.9490,2,  34.9490,2,-999.0000,5,   256.5,2, -999.00,9, -999.00,9, -999.00,9,-999.000,9,-999.000,9,-999.000,9,   2.8475
     74AB59,      Dar91,   12v21,          1,     -999.0,     -999.0,9,19910608,       0255,    53.9968,   -14.9965,     -999.0,  2862.4,   2.6630,  34.9290,2,  34.9290,2,-999.0000,5,   244.1,2, -999.00,9, -999.00,9, -999.00,9,   1.194,2,   0.089,2,   0.040,2,   2.4336