BOTTLE,20211124CCHSIORKP
EXPOCODE,SECT_ID,STNNBR,CASTNO,SAMPNO,BTLNBR,BTLNBR_FLAG_W,DATE,TIME,LATITUDE,LONGITUDE,DEPTH,CTDPRS,CTDTMP,CTDSAL,CTDSAL_FLAG_W,SALNTY,SALNTY_FLAG_W,CTDOXY,CTDOXY_FLAG_W,OXYGEN,OXYGEN_FLAG_W,SILCAT,SILCAT_FLAG_W,NITRAT,NITRAT_FLAG_W,PHSPHT,PHSPHT_FLAG_W,CFC-11,CFC-11_FLAG_W,CFC-12,CFC-12_FLAG_W,CFC113,CFC113_FLAG_W,THETA
,,,,,,,,,,,METERS,DBAR,ITS-90,PSS-78,,PSS-78,,UMOL/KG,,UMOL/KG,,UMOL/KG,,UMOL/KG,,UMOL/KG,,PMOL/KG,,PMOL/KG,,PMOL/KG,,DEG C
     74AB59,      Dar91,   12v09,          1,     -999.0,     -999.0,9,19910528,       0544,    48.0032,   -28.5180,     -999.0,    21.0,  15.6380,  35.7720,2,  35.7850,2,-999.0000,5,   268.6,2,    2.08,2,    4.77,2,    0.27,2,-999.000,9,-999.000,9,-999.000,9,  15.6347
     74AB59,      Dar91,   12v09,          1,     -999.0,     -999.0,9,19910528,       0544,    48.0032,   -28.5180,     -999.0,    28.6,  14.5190,  35.7960,2,  35.7870,2,-999.0000,5,   265.7,2,    2.25,2,    5.67,2,    0.34,2,-999.000,9,-999.000,9,-999.000,9,  14.5147
     74AB59,      Dar91,   12v09,          1,     -999.0,     -999.0,9,19910528,       0544,    48.0032,   -28.5180,     -999.0,    60.8,  13.1630,  35.7580,2,  35.7570,2,-999.0000,5,   252.0,2,    2.69,2,    8.22,2,    0.41,2,-999.000,9,-999.000,9,-999.000,9,  13.1545
     74AB59,      Dar91,   12v09,          1,     -999.0,     -999.0,9,19910528,       0544,    48.0032,   -28.5180,     -999.0,    85.2,  12.9600,  35.7740,2,  35.7670,2,-999.0000,5,   242.0,2,    3.72,2,    9.25,2,    0.49,2,-999.000,9,-999.000,9,-999.000,9,  12.9483
     74AB59,      Dar91,   12v09,          1,     -999.0,     -999.0,9,19910528,       0544,    48.0032,   -28.5180,     -999.0,   109.7,  12.8050,  35.7640,2,  35.7920,2,-999.0000,5,   243.8,2,    3.86,2,    9.41,2,    0.47,2,-999.000,9,-999.000,9,-999.000,9,  12.7900
     74AB59,      Dar91,   12v09,          1,     -999.0,     -999.0,9,19910528,       0544,    48.0032,   -28.5180,     -999.0,   160.1,  12.2400,  35.6620,2,  35.6990,2,-999.0000,5,   241.1,2,    4.17,2,    9.41,2,    0.52,2,-999.000,9,-999.000,9,-999.000,9,  12.2187
     74AB59,      Dar91,   12v09,          1,     -999.0,     -999.0,9,19910528,       0544,    48.0032,   -28.5180,     -999.0,   209.9,  11.8160,  35.6110,2,  35.6020,2,-999.0000,5,   241.5,2,    5.10,2, -999.00,9,    0.62,2,   3.006,2,   1.439,2,-999.000,9,  11.7887
     74AB59,      Dar91,   12v09,          1,     -999.0,     -999.0,9,19910528,       0544,    48.0032,   -28.5180,     -999.0,   309.0,  11.0040,  35.4810,2,  35.5170,2,-999.0000,5,   241.5,2,    5.61,2,   13.73,2,    0.68,2,   2.994,2,   1.248,2,-999.000,9,  10.9655
     74AB59,      Dar91,   12v09,          1,     -999.0,     -999.0,9,19910528,       0544,    48.0032,   -28.5180,     -999.0,   409.1,  10.0550,  35.3310,2,  35.3300,2,-999.0000,5,   243.7,2,    6.79,2,   13.43,2,    0.79,2,-999.000,9,   1.314,2,-999.000,9,  10.0066
     74AB59,      Dar91,   12v09,          1,     -999.0,     -999.0,9,19910528,       0544,    48.0032,   -28.5180,     -999.0,   510.2,   9.1960,  35.2060,2,  35.1760,2,-999.0000,5,   215.9,2,    9.31,2,   18.52,2,    1.02,2,-999.000,9,-999.000,9,-999.000,9,   9.1387
     74AB59,      Dar91,   12v09,          1,     -999.0,     -999.0,9,19910528,       0544,    48.0032,   -28.5180,     -999.0,   611.8,   7.9460,  35.1030,2,  35.0800,2,-999.0000,5,   205.0,2,   11.40,2, -999.00,9,    1.18,2,   1.936,2,   0.793,2,-999.000,9,   7.8826
     74AB59,      Dar91,   12v09,          1,     -999.0,     -999.0,9,19910528,       0544,    48.0032,   -28.5180,     -999.0,   713.0,   6.5380,  34.9710,2,  34.9640,2,-999.0000,5,   227.6,2,   11.48,2, -999.00,9,    1.16,2,-999.000,9,-999.000,9,-999.000,9,   6.4712
     74AB59,      Dar91,   12v09,          1,     -999.0,     -999.0,9,19910528,       0544,    48.0032,   -28.5180,     -999.0,   814.2,   5.9400,  35.0140,2,  35.0270,2,-999.0000,5,   226.0,2,   11.76,2,   20.19,2,    1.16,2,   1.932,2,   0.709,2,-999.000,9,   5.8668
     74AB59,      Dar91,   12v09,          1,     -999.0,     -999.0,9,19910528,       0544,    48.0032,   -28.5180,     -999.0,  1016.5,   5.4020,  35.0650,2,  35.0620,2,-999.0000,5,   237.5,2,   11.65,2,   18.96,2,    1.11,2,   1.595,2,   0.679,2,   0.127,2,   5.3132
     74AB59,      Dar91,   12v09,          1,     -999.0,     -999.0,9,19910528,       0544,    48.0032,   -28.5180,     -999.0,  1219.2,   4.2740,  34.9560,2,  34.9620,2,-999.0000,5,   259.2,2,   11.41,2, -999.00,9,    1.18,2,-999.000,9,-999.000,9,-999.000,9,   4.1763
     74AB59,      Dar91,   12v09,          1,     -999.0,     -999.0,9,19910528,       0544,    48.0032,   -28.5180,     -999.0,  1420.4,   3.8390,  34.9160,2,  34.9220,2,-999.0000,5,   269.7,2,   12.71,2,   18.20,2,    1.02,2,   1.745,2,   0.717,2,-999.000,9,   3.7279
     74AB59,      Dar91,   12v09,          1,     -999.0,     -999.0,9,19910528,       0544,    48.0032,   -28.5180,     -999.0,  1620.3,   3.6130,  34.9010,2,  34.9040,2,-999.0000,5,   275.5,2,   11.37,2,   18.64,2,    1.07,2,-999.000,9,-999.000,9,-999.000,9,   3.4866
     74AB59,      Dar91,   12v09,          1,     -999.0,     -999.0,9,19910528,       0544,    48.0032,   -28.5180,     -999.0,  1815.1,   3.5450,  34.9040,2,  34.9050,2,-999.0000,5,   276.3,2,   11.75,2,   18.80,2,    1.03,2,   1.505,2,   0.693,2,   0.130,2,   3.4017
     74AB59,      Dar91,   12v09,          1,     -999.0,     -999.0,9,19910528,       0544,    48.0032,   -28.5180,     -999.0,  2019.7,   3.4750,  34.9130,2,  34.9160,2,-999.0000,5,   274.9,2,   12.67,2, -999.00,9,    1.05,2,-999.000,9,-999.000,9,-999.000,9,   3.3136
     74AB59,      Dar91,   12v09,          1,     -999.0,     -999.0,9,19910528,       0544,    48.0032,   -28.5180,     -999.0,  2225.1,   3.3770,  34.9250,2,  34.9270,2,-999.0000,5,   272.9,2,   13.79,2,   17.90,2,    1.09,2,   1.003,2,   0.503,2,   0.081,2,   3.1974
     74AB59,      Dar91,   12v09,          1,     -999.0,     -999.0,9,19910528,       0544,    48.0032,   -28.5180,     -999.0,  2428.8,   3.3330,  34.9320,2,  34.9340,2,-999.0000,5,   271.2,2,   15.06,2,   18.51,2,    1.05,2,-999.000,9,-999.000,9,-999.000,9,   3.1341
     74AB59,      Dar91,   12v09,          1,     -999.0,     -999.0,9,19910528,       0544,    48.0032,   -28.5180,     -999.0,  2630.9,   3.2890,  34.9360,2,  34.9390,2,-999.0000,5,   270.3,2,   15.68,2,   18.51,2,    1.24,2,   0.802,2,   0.413,2,   0.074,2,   3.0706
     74AB59,      Dar91,   12v09,          1,     -999.0,     -999.0,9,19910528,       0544,    48.0032,   -28.5180,     -999.0,  2832.8,   3.2790,  34.9360,2,  34.9390,2,-999.0000,5,   269.7,2,   16.17,2,   18.19,2,    1.03,2,   0.880,2,   0.471,2,   0.055,2,   3.0399
     74AB59,      Dar91,   12v09,          1,     -999.0,     -999.0,9,19910528,       0544,    48.0032,   -28.5180,     -999.0,  3069.1,   3.2240,  34.9400,2,  34.9390,2,-999.0000,5,   269.3,2,   16.31,2,   18.80,2,    1.24,2,   0.718,2,   0.452,2,   0.054,2,   2.9610
     74AB59,      Dar91,   12v10,          1,     -999.0,     -999.0,9,19910529,       0725,    48.0005,   -24.0442,     -999.0,    35.2,  12.5970,  35.5540,2,  35.5770,2,-999.0000,5,   278.7,2,    0.03,2,    5.64,2,    0.40,2,-999.000,9,-999.000,9,-999.000,9,  12.5923
     74AB59,      Dar91,   12v10,          1,     -999.0,     -999.0,9,19910529,       0725,    48.0005,   -24.0442,     -999.0,    59.8,  11.6490,  35.5610,2,  35.5840,2,-999.0000,5,   266.0,2,    0.86,2,    8.02,2,    0.53,2,-999.000,9,   1.701,2,-999.000,9,  11.6413
     74AB59,      Dar91,   12v10,          1,     -999.0,     -999.0,9,19910529,       0725,    48.0005,   -24.0442,     -999.0,    84.3,  11.5560,  35.5760,2,  35.5840,2,-999.0000,5,   254.6,2,    3.22,2,    9.90,2,    0.62,2,-999.000,9,-999.000,9,-999.000,9,  11.5452
     74AB59,      Dar91,   12v10,          1,     -999.0,     -999.0,9,19910529,       0725,    48.0005,   -24.0442,     -999.0,   109.2,  11.4010,  35.5610,2,  35.5390,2,-999.0000,5,   255.2,2,    3.50,2,   10.36,2,    0.65,2,-999.000,9,   1.611,2,-999.000,9,  11.3872
     74AB59,      Dar91,   12v10,          1,     -999.0,     -999.0,9,19910529,       0725,    48.0005,   -24.0442,     -999.0,   158.8,  10.8680,  35.4640,2,  35.4590,2,-999.0000,5,   253.8,2,    4.48,2,   11.16,2,    0.71,2,-999.000,9,-999.000,9,-999.000,9,  10.8485
     74AB59,      Dar91,   12v10,          1,     -999.0,     -999.0,9,19910529,       0725,    48.0005,   -24.0442,     -999.0,   208.9,  10.6950,  35.4470,2,  35.4420,2,-999.0000,5,   249.7,2,    5.17,2,   11.76,2,    0.74,2,-999.000,9,   1.530,2,-999.000,9,  10.6695
     74AB59,      Dar91,   12v10,          1,     -999.0,     -999.0,9,19910529,       0725,    48.0005,   -24.0442,     -999.0,   309.4,  10.1990,  35.3650,2,  35.3640,2,-999.0000,5,   258.4,2,    5.28,2,   11.64,2,    0.77,2,-999.000,9,   1.654,2,-999.000,9,  10.1623
     74AB59,      Dar91,   12v10,          1,     -999.0,     -999.0,9,19910529,       0725,    48.0005,   -24.0442,     -999.0,   409.1,   9.5210,  35.2710,2,  35.2570,2,-999.0000,5,   233.7,2,    7.52,2,   14.85,2,    0.97,2,-999.000,9,   1.380,2,-999.000,9,   9.4743
     74AB59,      Dar91,   12v10,          1,     -999.0,     -999.0,9,19910529,       0725,    48.0005,   -24.0442,     -999.0,   508.5,   8.4740,  35.1270,2,  35.1290,2,-999.0000,5,   236.4,2,    8.46,2,   15.98,2,    1.04,2,-999.000,9,   1.337,2,-999.000,9,   8.4196
     74AB59,      Dar91,   12v10,          1,     -999.0,     -999.0,9,19910529,       0725,    48.0005,   -24.0442,     -999.0,   608.8,   7.6290,  35.0750,2,  35.0010,2,-999.0000,5,   229.7,2,   10.19,2,   17.99,2,    1.15,2,-999.000,9,   1.186,2,-999.000,9,   7.5674
     74AB59,      Dar91,   12v10,          1,     -999.0,     -999.0,9,19910529,       0725,    48.0005,   -24.0442,     -999.0,   811.2,   5.8750,  34.9990,2,  34.9990,2,-999.0000,5,   231.7,2,   11.46,2,   18.85,2,    1.23,2,-999.000,9,-999.000,9,-999.000,9,   5.8025
     74AB59,      Dar91,   12v10,          1,     -999.0,     -999.0,9,19910529,       0725,    48.0005,   -24.0442,     -999.0,  1011.0,   4.7610,  34.9580,2,  34.9620,2,-999.0000,5,   249.7,2,   11.29,2,   18.47,2,    1.20,2,-999.000,9,   1.222,2,-999.000,9,   4.6778
     74AB59,      Dar91,   12v10,          1,     -999.0,     -999.0,9,19910529,       0725,    48.0005,   -24.0442,     -999.0,  1216.2,   4.5070,  34.9880,2,  34.9970,2,-999.0000,5,   257.0,2,   11.31,2,   18.39,2,    1.17,2,-999.000,9,-999.000,9,-999.000,9,   4.4074
     74AB59,      Dar91,   12v10,          1,     -999.0,     -999.0,9,19910529,       0725,    48.0005,   -24.0442,     -999.0,  1418.2,   4.0070,  34.9380,2,  34.9360,2,-999.0000,5,   272.6,2,   13.48,2,   17.57,2,    1.15,2,-999.000,9,   0.421,2,   0.044,2,   3.8942
     74AB59,      Dar91,   12v10,          1,     -999.0,     -999.0,9,19910529,       0725,    48.0005,   -24.0442,     -999.0,  1617.8,   3.7580,  34.9170,2,  34.9200,2,-999.0000,5,   273.0,2,   11.26,2,   17.37,2,    1.17,2,-999.000,9,-999.000,9,-999.000,9,   3.6300
     74AB59,      Dar91,   12v10,          1,     -999.0,     -999.0,9,19910529,       0725,    48.0005,   -24.0442,     -999.0,  1818.2,   3.5810,  34.9100,2,  34.9140,2,-999.0000,5,   275.3,2,   11.61,2,   17.51,2,    1.13,2,-999.000,9,   0.638,2,   0.072,2,   3.4369
     74AB59,      Dar91,   12v10,          1,     -999.0,     -999.0,9,19910529,       0725,    48.0005,   -24.0442,     -999.0,  2018.2,   3.5080,  34.9210,2,  34.9230,2,-999.0000,5,   275.2,2,   12.35,2,   17.55,2,    1.15,2,-999.000,9,-999.000,9,-999.000,9,   3.3462
     74AB59,      Dar91,   12v10,          1,     -999.0,     -999.0,9,19910529,       0725,    48.0005,   -24.0442,     -999.0,  2223.1,   3.4380,  34.9320,2,  34.9370,2,-999.0000,5,   274.7,2,   13.39,2,   17.43,2,    1.14,2,-999.000,9,-999.000,9,-999.000,9,   3.2576
     74AB59,      Dar91,   12v10,          1,     -999.0,     -999.0,9,19910529,       0725,    48.0005,   -24.0442,     -999.0,  2429.6,   3.3040,  34.9410,2,  34.9440,2,-999.0000,5,   271.5,2,   14.94,2,   17.42,2,    1.16,2,-999.000,9,   0.269,2,   0.032,2,   3.1055
     74AB59,      Dar91,   12v10,          1,     -999.0,     -999.0,9,19910529,       0725,    48.0005,   -24.0442,     -999.0,  2837.6,   3.0320,  34.9500,2,  34.9510,2,-999.0000,5,   263.9,2,   21.06,2,   18.30,2,    1.23,2,-999.000,9,-999.000,9,-999.000,9,   2.7974
     74AB59,      Dar91,   12v10,          1,     -999.0,     -999.0,9,19910529,       0725,    48.0005,   -24.0442,     -999.0,  3247.1,   2.8000,  34.9410,2,  34.9420,2,-999.0000,5,   256.4,2,   28.64,2,   19.37,2,    1.32,2,-999.000,9,   0.152,2,   0.032,2,   2.5275
     74AB59,      Dar91,   12v10,          1,     -999.0,     -999.0,9,19910529,       0725,    48.0005,   -24.0442,     -999.0,  3655.9,   2.6650,  34.9250,2,  34.9260,2,-999.0000,5,   247.7,2,   37.51,2,   20.84,2,    1.42,2,-999.000,9,-999.000,9,-999.000,9,   2.3512
     74AB59,      Dar91,   12v10,          1,     -999.0,     -999.0,9,19910529,       0725,    48.0005,   -24.0442,     -999.0,  4063.9,   2.6000,  34.9140,2,  34.9170,2,-999.0000,5,   243.9,2,   42.97,2,   21.98,2,    1.45,2,-999.000,9,-999.000,9,-999.000,9,   2.2415
     74AB59,      Dar91,   12v11,          1,     -999.0,     -999.0,9,19910530,       1103,    50.9905,   -24.6210,     -999.0,    19.4,  11.0600,  35.1540,2,  35.1330,2,-999.0000,5,   287.1,2, -999.00,9, -999.00,9, -999.00,9,   4.019,2,-999.000,9,-999.000,9,  11.0576
     74AB59,      Dar91,   12v11,          1,     -999.0,     -999.0,9,19910530,       1103,    50.9905,   -24.6210,     -999.0,    33.5,  10.6110,  35.2380,2,  35.1010,2,-999.0000,5,   276.7,2, -999.00,9, -999.00,9, -999.00,9,-999.000,9,-999.000,9,-999.000,9,  10.6070
     74AB59,      Dar91,   12v11,          1,     -999.0,     -999.0,9,19910530,       1103,    50.9905,   -24.6210,     -999.0,    58.0,   9.1350,  35.1380,2,  35.1070,2,-999.0000,5,   270.8,2, -999.00,9, -999.00,9, -999.00,9,-999.000,9,-999.000,9,-999.000,9,   9.1287
     74AB59,      Dar91,   12v11,          1,     -999.0,     -999.0,9,19910530,       1103,    50.9905,   -24.6210,     -999.0,    82.2,   8.6750,  35.1030,2,  35.0920,2,-999.0000,5,   272.1,2, -999.00,9, -999.00,9, -999.00,9,-999.000,9,-999.000,9,-999.000,9,   8.6663
     74AB59,      Dar91,   12v11,          1,     -999.0,     -999.0,9,19910530,       1103,    50.9905,   -24.6210,     -999.0,   106.9,   8.4020,  35.0750,2,  35.0690,2,-999.0000,5,   273.7,2, -999.00,9, -999.00,9, -999.00,9,   4.156,2,   2.159,2,-999.000,9,   8.3909
     74AB59,      Dar91,   12v11,          1,     -999.0,     -999.0,9,19910530,       1103,    50.9905,   -24.6210,     -999.0,   156.2,   8.1910,  35.0480,2,  35.0370,2,-999.0000,5,   269.3,2, -999.00,9, -999.00,9, -999.00,9,-999.000,9,   1.644,2,-999.000,9,   8.1750
     74AB59,      Dar91,   12v11,          1,     -999.0,     -999.0,9,19910530,       1103,    50.9905,   -24.6210,     -999.0,   205.9,   7.8770,  35.0030,2,  35.0050,2,-999.0000,5,  -999.0,9, -999.00,9, -999.00,9, -999.00,9,-999.000,9,-999.000,9,-999.000,9,   7.8563
     74AB59,      Dar91,   12v11,          1,     -999.0,     -999.0,9,19910530,       1103,    50.9905,   -24.6210,     -999.0,   307.4,   7.2060,  34.9740,2,  34.9770,2,-999.0000,5,   235.5,2, -999.00,9, -999.00,9, -999.00,9,   2.891,2,   1.255,2,-999.000,9,   7.1765
     74AB59,      Dar91,   12v11,          1,     -999.0,     -999.0,9,19910530,       1103,    50.9905,   -24.6210,     -999.0,   409.0,   6.2330,  34.9200,2,  34.9110,2,-999.0000,5,   251.9,2, -999.00,9, -999.00,9, -999.00,9,   3.260,2,   1.391,2,-999.000,9,   6.1965
     74AB59,      Dar91,   12v11,          1,     -999.0,     -999.0,9,19910530,       1103,    50.9905,   -24.6210,     -999.0,   509.5,   5.2080,  34.8750,2,  35.9230,2,-999.0000,5,   245.3,2, -999.00,9, -999.00,9, -999.00,9,   2.576,2,   1.043,2,-999.000,9,   5.1662
     74AB59,      Dar91,   12v11,          1,     -999.0,     -999.0,9,19910530,       1103,    50.9905,   -24.6210,     -999.0,   610.2,   5.0550,  34.9380,2,  34.9430,2,-999.0000,5,   257.8,2, -999.00,9, -999.00,9, -999.00,9,   2.505,2,   1.032,2,-999.000,9,   5.0052
     74AB59,      Dar91,   12v11,          1,     -999.0,     -999.0,9,19910530,       1103,    50.9905,   -24.6210,     -999.0,   810.3,   4.3050,  34.9260,2,  34.9270,2,-999.0000,5,   268.6,2, -999.00,9, -999.00,9, -999.00,9,   2.384,2,   1.020,2,-999.000,9,   4.2424
     74AB59,      Dar91,   12v11,          1,     -999.0,     -999.0,9,19910530,       1103,    50.9905,   -24.6210,     -999.0,  1011.5,   3.8750,  34.9030,2,  34.9010,2,-999.0000,5,   276.8,2, -999.00,9, -999.00,9, -999.00,9,   2.443,2,   1.024,2,-999.000,9,   3.7987
     74AB59,      Dar91,   12v11,          1,     -999.0,     -999.0,9,19910530,       1103,    50.9905,   -24.6210,     -999.0,  1213.7,   3.6190,  34.8880,2,  34.8900,2,-999.0000,5,   282.2,2, -999.00,9, -999.00,9, -999.00,9,-999.000,9,-999.000,9,-999.000,9,   3.5280
     74AB59,      Dar91,   12v11,          1,     -999.0,     -999.0,9,19910530,       1103,    50.9905,   -24.6210,     -999.0,  1416.8,   3.5010,  34.8800,2,  34.8840,2,-999.0000,5,   281.3,2, -999.00,9, -999.00,9, -999.00,9,   2.030,2,   0.895,2,-999.000,9,   3.3939
     74AB59,      Dar91,   12v11,          1,     -999.0,     -999.0,9,19910530,       1103,    50.9905,   -24.6210,     -999.0,  1619.3,   3.4470,  34.8900,2,  34.8830,2,-999.0000,5,   281.2,2, -999.00,9, -999.00,9, -999.00,9,-999.000,9,-999.000,9,-999.000,9,   3.3228
     74AB59,      Dar91,   12v11,          1,     -999.0,     -999.0,9,19910530,       1103,    50.9905,   -24.6210,     -999.0,  1820.2,   3.3920,  34.8950,2,  34.8960,2,-999.0000,5,   278.4,2, -999.00,9, -999.00,9, -999.00,9,   1.363,2,   0.669,2,-999.000,9,   3.2504
     74AB59,      Dar91,   12v11,          1,     -999.0,     -999.0,9,19910530,       1103,    50.9905,   -24.6210,     -999.0,  2020.6,   3.4060,  34.9190,2,  34.9220,2,-999.0000,5,   275.0,2, -999.00,9, -999.00,9, -999.00,9,-999.000,9,-999.000,9,-999.000,9,   3.2455
     74AB59,      Dar91,   12v11,          1,     -999.0,     -999.0,9,19910530,       1103,    50.9905,   -24.6210,     -999.0,  2223.1,   3.3380,  34.9320,2,  34.9330,2,-999.0000,5,   273.8,2, -999.00,9, -999.00,9, -999.00,9,-999.000,9,-999.000,9,-999.000,9,   3.1592
     74AB59,      Dar91,   12v11,          1,     -999.0,     -999.0,9,19910530,       1103,    50.9905,   -24.6210,     -999.0,  2425.8,   3.2320,  34.9420,2,  34.9420,2,-999.0000,5,   268.7,2, -999.00,9, -999.00,9, -999.00,9,   0.808,2,   0.443,2,-999.000,9,   3.0352
     74AB59,      Dar91,   12v11,          1,     -999.0,     -999.0,9,19910530,       1103,    50.9905,   -24.6210,     -999.0,  2823.6,   2.9920,  34.9520,2,  34.9520,2,-999.0000,5,   260.4,2, -999.00,9, -999.00,9, -999.00,9,-999.000,9,-999.000,9,-999.000,9,   2.7597
     74AB59,      Dar91,   12v11,          1,     -999.0,     -999.0,9,19910530,       1103,    50.9905,   -24.6210,     -999.0,  3221.1,   2.7990,  34.9430,2,  34.9450,2,-999.0000,5,   252.9,2, -999.00,9, -999.00,9, -999.00,9,   0.409,2,   0.218,2,-999.000,9,   2.5293
     74AB59,      Dar91,   12v11,          1,     -999.0,     -999.0,9,19910530,       1103,    50.9905,   -24.6210,     -999.0,  3638.2,   2.7390,  34.9350,2,  34.9370,2,-999.0000,5,   245.5,2, -999.00,9, -999.00,9, -999.00,9,-999.000,9,-999.000,9,-999.000,9,   2.4252
     74AB59,      Dar91,   12v11,          1,     -999.0,     -999.0,9,19910530,       1103,    50.9905,   -24.6210,     -999.0,  4012.6,   2.6120,  34.9170,2,  34.9170,2,-999.0000,5,   245.3,2, -999.00,9, -999.00,9, -999.00,9,   0.182,2,   0.156,2,-999.000,9,   2.2591