BOTTLE,20211124CCHSIORKP
EXPOCODE,SECT_ID,STNNBR,CASTNO,SAMPNO,BTLNBR,BTLNBR_FLAG_W,DATE,TIME,LATITUDE,LONGITUDE,DEPTH,CTDPRS,CTDTMP,CTDSAL,CTDSAL_FLAG_W,SALNTY,SALNTY_FLAG_W,CTDOXY,CTDOXY_FLAG_W,OXYGEN,OXYGEN_FLAG_W,SILCAT,SILCAT_FLAG_W,NITRAT,NITRAT_FLAG_W,PHSPHT,PHSPHT_FLAG_W,CFC-11,CFC-11_FLAG_W,CFC-12,CFC-12_FLAG_W,CFC113,CFC113_FLAG_W,THETA
,,,,,,,,,,,METERS,DBAR,ITS-90,PSS-78,,PSS-78,,UMOL/KG,,UMOL/KG,,UMOL/KG,,UMOL/KG,,UMOL/KG,,PMOL/KG,,PMOL/KG,,PMOL/KG,,DEG C
     74AB59,      Dar91,   12v18,          1,     -999.0,     -999.0,9,19910604,       0551,    48.0317,   -19.9268,     -999.0,    16.0,  15.5710,  35.6090,2,  35.5830,2,-999.0000,5,   280.3,2, -999.00,9, -999.00,9, -999.00,9,   3.346,2,   1.499,2,   0.323,2,  15.5685
     74AB59,      Dar91,   12v18,          1,     -999.0,     -999.0,9,19910604,       0551,    48.0317,   -19.9268,     -999.0,    30.6,  13.8370,  35.5740,2,-999.0000,9,-999.0000,5,   282.2,2, -999.00,9, -999.00,9, -999.00,9,-999.000,9,-999.000,9,-999.000,9,  13.8326
     74AB59,      Dar91,   12v18,          1,     -999.0,     -999.0,9,19910604,       0551,    48.0317,   -19.9268,     -999.0,    55.5,  11.4110,  35.5560,2,-999.0000,9,-999.0000,5,   257.1,2, -999.00,9, -999.00,9, -999.00,9,   3.387,2,   1.500,2,   0.332,2,  11.4040
     74AB59,      Dar91,   12v18,          1,     -999.0,     -999.0,9,19910604,       0551,    48.0317,   -19.9268,     -999.0,    80.2,  11.1880,  35.5330,2,-999.0000,9,-999.0000,5,   256.2,2, -999.00,9, -999.00,9, -999.00,9,-999.000,9,-999.000,9,-999.000,9,  11.1780
     74AB59,      Dar91,   12v18,          1,     -999.0,     -999.0,9,19910604,       0551,    48.0317,   -19.9268,     -999.0,   105.1,  11.1810,  35.5480,2,  35.5340,2,-999.0000,5,   257.9,2, -999.00,9, -999.00,9, -999.00,9,   3.387,2,   1.500,2,   0.314,2,  11.1679
     74AB59,      Dar91,   12v18,          1,     -999.0,     -999.0,9,19910604,       0551,    48.0317,   -19.9268,     -999.0,   154.8,  10.8520,  35.4860,2,-999.0000,9,-999.0000,5,   253.5,2, -999.00,9, -999.00,9, -999.00,9,-999.000,9,-999.000,9,-999.000,9,  10.8330
     74AB59,      Dar91,   12v18,          1,     -999.0,     -999.0,9,19910604,       0551,    48.0317,   -19.9268,     -999.0,   204.9,  10.7290,  35.4680,2,-999.0000,9,-999.0000,5,   254.7,2, -999.00,9, -999.00,9, -999.00,9,   3.399,2,   1.435,2,   0.259,2,  10.7040
     74AB59,      Dar91,   12v18,          1,     -999.0,     -999.0,9,19910604,       0551,    48.0317,   -19.9268,     -999.0,   304.8,  10.3790,  35.4070,2,  35.3950,2,-999.0000,5,   251.5,2, -999.00,9, -999.00,9, -999.00,9,   3.277,2,   1.451,2,   0.308,2,  10.3424
     74AB59,      Dar91,   12v18,          1,     -999.0,     -999.0,9,19910604,       0551,    48.0317,   -19.9268,     -999.0,   405.5,  10.0060,  35.3650,2,-999.0000,9,-999.0000,5,  -999.0,9, -999.00,9, -999.00,9, -999.00,9,   3.310,2,   1.407,2,   0.249,2,   9.9582
     74AB59,      Dar91,   12v18,          1,     -999.0,     -999.0,9,19910604,       0551,    48.0317,   -19.9268,     -999.0,   505.1,   9.3790,  35.2990,2,-999.0000,9,-999.0000,5,   225.6,2, -999.00,9, -999.00,9, -999.00,9,-999.000,9,-999.000,9,-999.000,9,   9.3215
     74AB59,      Dar91,   12v18,          1,     -999.0,     -999.0,9,19910604,       0551,    48.0317,   -19.9268,     -999.0,   605.8,   8.5480,  35.2190,2,  35.2190,2,-999.0000,5,   210.3,2, -999.00,9, -999.00,9, -999.00,9,   2.938,2,   1.231,2,   0.153,2,   8.4824
     74AB59,      Dar91,   12v18,          1,     -999.0,     -999.0,9,19910604,       0551,    48.0317,   -19.9268,     -999.0,   808.0,   6.9560,  35.1820,2,-999.0000,9,-999.0000,5,   212.8,2, -999.00,9, -999.00,9, -999.00,9,   2.084,2,   0.849,2,   0.117,2,   6.8770
     74AB59,      Dar91,   12v18,          1,     -999.0,     -999.0,9,19910604,       0551,    48.0317,   -19.9268,     -999.0,  1008.2,   5.9290,  35.1480,2,-999.0000,9,-999.0000,5,   227.5,2, -999.00,9, -999.00,9, -999.00,9,   1.788,2,   0.667,2,   0.083,2,   5.8369
     74AB59,      Dar91,   12v18,          1,     -999.0,     -999.0,9,19910604,       0551,    48.0317,   -19.9268,     -999.0,  1209.2,   4.4790,  34.9680,2,  34.9830,2,-999.0000,5,   254.3,2, -999.00,9, -999.00,9, -999.00,9,-999.000,9,-999.000,9,-999.000,9,   4.3803
     74AB59,      Dar91,   12v18,          1,     -999.0,     -999.0,9,19910604,       0551,    48.0317,   -19.9268,     -999.0,  1411.2,   3.9880,  34.9220,2,-999.0000,9,-999.0000,5,   267.8,2, -999.00,9, -999.00,9, -999.00,9,   1.445,2,   0.853,2,   0.119,2,   3.8761
     74AB59,      Dar91,   12v18,          1,     -999.0,     -999.0,9,19910604,       0551,    48.0317,   -19.9268,     -999.0,  1613.8,   3.7300,  34.9070,2,-999.0000,9,-999.0000,5,   274.2,2, -999.00,9, -999.00,9, -999.00,9,-999.000,9,-999.000,9,-999.000,9,   3.6028
     74AB59,      Dar91,   12v18,          1,     -999.0,     -999.0,9,19910604,       0551,    48.0317,   -19.9268,     -999.0,  1816.2,   3.5330,  34.8940,2,  34.8990,2,-999.0000,5,   277.2,2, -999.00,9, -999.00,9, -999.00,9,   1.909,2,   0.858,2,   0.099,2,   3.3898
     74AB59,      Dar91,   12v18,          1,     -999.0,     -999.0,9,19910604,       0551,    48.0317,   -19.9268,     -999.0,  2013.3,   3.5120,  34.9100,2,-999.0000,9,-999.0000,5,   273.3,2, -999.00,9, -999.00,9, -999.00,9,-999.000,9,-999.000,9,-999.000,9,   3.3506
     74AB59,      Dar91,   12v18,          1,     -999.0,     -999.0,9,19910604,       0551,    48.0317,   -19.9268,     -999.0,  2410.1,   3.3320,  34.9430,2,  34.9460,2,-999.0000,5,   268.7,2, -999.00,9, -999.00,9, -999.00,9,   1.831,2,   0.835,2,   0.028,2,   3.1349
     74AB59,      Dar91,   12v18,          1,     -999.0,     -999.0,9,19910604,       0551,    48.0317,   -19.9268,     -999.0,  2810.4,   3.0360,  34.9550,2,  34.9530,2,-999.0000,5,   260.0,2, -999.00,9, -999.00,9, -999.00,9,-999.000,9,-999.000,9,-999.000,9,   2.8041
     74AB59,      Dar91,   12v18,          1,     -999.0,     -999.0,9,19910604,       0551,    48.0317,   -19.9268,     -999.0,  3220.1,   2.7900,  34.9390,2,  34.9400,2,-999.0000,5,   251.9,2, -999.00,9, -999.00,9, -999.00,9,-999.000,9,-999.000,9,-999.000,9,   2.5206
     74AB59,      Dar91,   12v18,          1,     -999.0,     -999.0,9,19910604,       0551,    48.0317,   -19.9268,     -999.0,  3623.8,   2.6090,  34.9210,2,  34.9210,2,-999.0000,5,   243.7,2, -999.00,9, -999.00,9, -999.00,9,   0.691,2,   0.338,2,   0.006,2,   2.3002
     74AB59,      Dar91,   12v18,          1,     -999.0,     -999.0,9,19910604,       0551,    48.0317,   -19.9268,     -999.0,  4039.4,   2.5530,  34.9100,2,  34.9110,2,-999.0000,5,   240.5,2, -999.00,9, -999.00,9, -999.00,9,-999.000,9,-999.000,9,-999.000,9,   2.1987
     74AB59,      Dar91,   12v19,          1,     -999.0,     -999.0,9,19910605,       0807,    47.9825,   -15.9457,     -999.0,    21.5,  13.8480,  35.6400,2,  35.6510,2,-999.0000,5,   280.4,2, -999.00,9, -999.00,9, -999.00,9,-999.000,9,   1.391,2,-999.000,9,  13.8449
     74AB59,      Dar91,   12v19,          1,     -999.0,     -999.0,9,19910605,       0807,    47.9825,   -15.9457,     -999.0,    36.2,  12.1630,  35.6480,2,  35.6500,2,-999.0000,5,   261.3,2, -999.00,9, -999.00,9, -999.00,9,-999.000,9,-999.000,9,-999.000,9,  12.1582
     74AB59,      Dar91,   12v19,          1,     -999.0,     -999.0,9,19910605,       0807,    47.9825,   -15.9457,     -999.0,    61.5,  11.8090,  35.6400,2,  35.6370,2,-999.0000,5,   254.1,2, -999.00,9, -999.00,9, -999.00,9,-999.000,9,   1.486,2,-999.000,9,  11.8011
     74AB59,      Dar91,   12v19,          1,     -999.0,     -999.0,9,19910605,       0807,    47.9825,   -15.9457,     -999.0,    86.2,  11.7270,  35.6340,2,  35.6250,2,-999.0000,5,   254.3,2, -999.00,9, -999.00,9, -999.00,9,-999.000,9,-999.000,9,-999.000,9,  11.7159
     74AB59,      Dar91,   12v19,          1,     -999.0,     -999.0,9,19910605,       0807,    47.9825,   -15.9457,     -999.0,   111.1,  11.7130,  35.6470,2,  35.6260,2,-999.0000,5,   254.4,2, -999.00,9, -999.00,9, -999.00,9,-999.000,9,   1.407,2,-999.000,9,  11.6987
     74AB59,      Dar91,   12v19,          1,     -999.0,     -999.0,9,19910605,       0807,    47.9825,   -15.9457,     -999.0,   160.8,  11.6250,  35.6380,2,  35.6060,2,-999.0000,5,   253.1,2, -999.00,9, -999.00,9, -999.00,9,-999.000,9,-999.000,9,-999.000,9,  11.6043
     74AB59,      Dar91,   12v19,          1,     -999.0,     -999.0,9,19910605,       0807,    47.9825,   -15.9457,     -999.0,   210.9,  11.5200,  35.6210,2,  35.5990,2,-999.0000,5,   253.0,2, -999.00,9, -999.00,9, -999.00,9,-999.000,9,   1.431,2,-999.000,9,  11.4930
     74AB59,      Dar91,   12v19,          1,     -999.0,     -999.0,9,19910605,       0807,    47.9825,   -15.9457,     -999.0,   311.0,  11.2680,  35.5820,2,  35.5610,2,-999.0000,5,   251.0,2, -999.00,9, -999.00,9, -999.00,9,-999.000,9,-999.000,9,-999.000,9,  11.2286
     74AB59,      Dar91,   12v19,          1,     -999.0,     -999.0,9,19910605,       0807,    47.9825,   -15.9457,     -999.0,   409.1,  10.9370,  35.5250,2,  35.5460,2,-999.0000,5,   253.0,2, -999.00,9, -999.00,9, -999.00,9,-999.000,9,   1.398,2,-999.000,9,  10.8859
     74AB59,      Dar91,   12v19,          1,     -999.0,     -999.0,9,19910605,       0807,    47.9825,   -15.9457,     -999.0,   503.5,  10.8390,  35.5250,2,  35.5320,2,-999.0000,5,   252.8,2, -999.00,9, -999.00,9, -999.00,9,-999.000,9,-999.000,9,-999.000,9,  10.7763
     74AB59,      Dar91,   12v19,          1,     -999.0,     -999.0,9,19910605,       0807,    47.9825,   -15.9457,     -999.0,   606.3,  10.5880,  35.4900,2,  35.5020,2,-999.0000,5,   251.5,2, -999.00,9, -999.00,9, -999.00,9,-999.000,9,   1.539,2,   0.291,2,  10.5132
     74AB59,      Dar91,   12v19,          1,     -999.0,     -999.0,9,19910605,       0807,    47.9825,   -15.9457,     -999.0,   813.2,   9.7540,  35.3640,2,  35.3510,2,-999.0000,5,   231.8,2, -999.00,9, -999.00,9, -999.00,9,-999.000,9,   1.239,2,   0.236,2,   9.6577
     74AB59,      Dar91,   12v19,          1,     -999.0,     -999.0,9,19910605,       0807,    47.9825,   -15.9457,     -999.0,  1017.3,   8.7140,  35.3950,2,  35.4090,2,-999.0000,5,   198.9,2, -999.00,9, -999.00,9, -999.00,9,   1.460,2,   0.728,2,   0.084,2,   8.5998
     74AB59,      Dar91,   12v19,          1,     -999.0,     -999.0,9,19910605,       0807,    47.9825,   -15.9457,     -999.0,  1220.2,   6.8920,  35.2540,2,  35.2730,2,-999.0000,5,   212.9,2, -999.00,9, -999.00,9, -999.00,9,-999.000,9,-999.000,9,-999.000,9,   6.7699
     74AB59,      Dar91,   12v19,          1,     -999.0,     -999.0,9,19910605,       0807,    47.9825,   -15.9457,     -999.0,  1423.9,   5.2880,  35.0780,2,  35.0920,2,-999.0000,5,   236.4,2, -999.00,9, -999.00,9, -999.00,9,   1.379,2,   0.641,2,   0.085,2,   5.1607
     74AB59,      Dar91,   12v19,          1,     -999.0,     -999.0,9,19910605,       0807,    47.9825,   -15.9457,     -999.0,  1624.3,   4.2640,  34.9540,2,  34.9570,2,-999.0000,5,   259.7,2, -999.00,9, -999.00,9, -999.00,9,-999.000,9,-999.000,9,-999.000,9,   4.1292
     74AB59,      Dar91,   12v19,          1,     -999.0,     -999.0,9,19910605,       0807,    47.9825,   -15.9457,     -999.0,  2021.9,   3.7010,  34.9180,2,  34.9230,2,-999.0000,5,   271.1,2, -999.00,9, -999.00,9, -999.00,9,   1.157,2,   0.529,2,   0.060,2,   3.5360
     74AB59,      Dar91,   12v19,          1,     -999.0,     -999.0,9,19910605,       0807,    47.9825,   -15.9457,     -999.0,  2421.8,   3.5010,  34.9570,2,  34.9580,2,-999.0000,5,   263.1,2, -999.00,9, -999.00,9, -999.00,9,   0.378,2,   0.215,2,   0.029,2,   3.2997
     74AB59,      Dar91,   12v19,          1,     -999.0,     -999.0,9,19910605,       0807,    47.9825,   -15.9457,     -999.0,  2818.9,   3.1370,  34.9560,2,  34.9590,2,-999.0000,5,   256.6,2, -999.00,9, -999.00,9, -999.00,9,-999.000,9,-999.000,9,-999.000,9,   2.9022
     74AB59,      Dar91,   12v19,          1,     -999.0,     -999.0,9,19910605,       0807,    47.9825,   -15.9457,     -999.0,  3217.2,   2.8450,  34.9420,2,  34.9440,2,-999.0000,5,   248.4,2, -999.00,9, -999.00,9, -999.00,9,-999.000,9,-999.000,9,-999.000,9,   2.5746
     74AB59,      Dar91,   12v19,          1,     -999.0,     -999.0,9,19910605,       0807,    47.9825,   -15.9457,     -999.0,  3635.6,   2.6590,  34.9240,2,  34.9260,2,-999.0000,5,   244.0,2, -999.00,9, -999.00,9, -999.00,9,   0.167,2,   0.747,2,   0.017,2,   2.3476
     74AB59,      Dar91,   12v19,          1,     -999.0,     -999.0,9,19910605,       0807,    47.9825,   -15.9457,     -999.0,  4060.6,   2.5830,  34.9120,2,  34.9140,2,-999.0000,5,   241.5,2, -999.00,9, -999.00,9, -999.00,9,-999.000,9,-999.000,9,-999.000,9,   2.2254
     74AB59,      Dar91,   12v19,          1,     -999.0,     -999.0,9,19910605,       0807,    47.9825,   -15.9457,     -999.0,  4464.4,   2.5620,  34.9060,2,  34.9080,2,-999.0000,5,   240.2,2, -999.00,9, -999.00,9, -999.00,9,   0.061,2,   0.006,2,   0.011,2,   2.1571
     74AB59,      Dar91,   12v20,          1,     -999.0,     -999.0,9,19910606,       1516,    51.0080,   -15.9955,     -999.0,    30.5,  13.5260,  35.5990,2,-999.0000,9,-999.0000,5,  -999.0,9, -999.00,9, -999.00,9, -999.00,9,-999.000,9,-999.000,9,-999.000,9,  13.5217
     74AB59,      Dar91,   12v20,          1,     -999.0,     -999.0,9,19910606,       1516,    51.0080,   -15.9955,     -999.0,    55.2,  11.7830,  35.6240,2,-999.0000,9,-999.0000,5,  -999.0,9, -999.00,9, -999.00,9, -999.00,9,-999.000,9,-999.000,9,-999.000,9,  11.7759
     74AB59,      Dar91,   12v20,          1,     -999.0,     -999.0,9,19910606,       1516,    51.0080,   -15.9955,     -999.0,    81.7,  11.5760,  35.6100,2,-999.0000,9,-999.0000,5,  -999.0,9, -999.00,9, -999.00,9, -999.00,9,-999.000,9,-999.000,9,-999.000,9,  11.5656
     74AB59,      Dar91,   12v20,          1,     -999.0,     -999.0,9,19910606,       1516,    51.0080,   -15.9955,     -999.0,   106.8,  11.3980,  35.5920,2,  35.5480,2,-999.0000,5,  -999.0,9, -999.00,9, -999.00,9, -999.00,9,-999.000,9,-999.000,9,-999.000,9,  11.3845
     74AB59,      Dar91,   12v20,          1,     -999.0,     -999.0,9,19910606,       1516,    51.0080,   -15.9955,     -999.0,   157.1,  11.0870,  35.5440,2,-999.0000,9,-999.0000,5,  -999.0,9, -999.00,9, -999.00,9, -999.00,9,-999.000,9,-999.000,9,-999.000,9,  11.0675
     74AB59,      Dar91,   12v20,          1,     -999.0,     -999.0,9,19910606,       1516,    51.0080,   -15.9955,     -999.0,   207.1,  10.8730,  35.5040,2,-999.0000,9,-999.0000,5,  -999.0,9, -999.00,9, -999.00,9, -999.00,9,-999.000,9,-999.000,9,-999.000,9,  10.8475
     74AB59,      Dar91,   12v20,          1,     -999.0,     -999.0,9,19910606,       1516,    51.0080,   -15.9955,     -999.0,   304.4,  10.6510,  35.4790,2,  35.5320,2,-999.0000,5,  -999.0,9, -999.00,9, -999.00,9, -999.00,9,-999.000,9,-999.000,9,-999.000,9,  10.6138
     74AB59,      Dar91,   12v20,          1,     -999.0,     -999.0,9,19910606,       1516,    51.0080,   -15.9955,     -999.0,   406.1,  10.3090,  35.4280,2,-999.0000,9,-999.0000,5,  -999.0,9, -999.00,9, -999.00,9, -999.00,9,-999.000,9,-999.000,9,-999.000,9,  10.2602
     74AB59,      Dar91,   12v20,          1,     -999.0,     -999.0,9,19910606,       1516,    51.0080,   -15.9955,     -999.0,   507.1,  10.0170,  35.4000,2,-999.0000,9,-999.0000,5,  -999.0,9, -999.00,9, -999.00,9, -999.00,9,-999.000,9,-999.000,9,-999.000,9,   9.9569
     74AB59,      Dar91,   12v20,          1,     -999.0,     -999.0,9,19910606,       1516,    51.0080,   -15.9955,     -999.0,   607.5,   9.3860,  35.3140,2,  35.3210,2,-999.0000,5,  -999.0,9, -999.00,9, -999.00,9, -999.00,9,-999.000,9,-999.000,9,-999.000,9,   9.3164
     74AB59,      Dar91,   12v20,          1,     -999.0,     -999.0,9,19910606,       1516,    51.0080,   -15.9955,     -999.0,   808.7,   8.5670,  35.3600,2,-999.0000,9,-999.0000,5,  -999.0,9, -999.00,9, -999.00,9, -999.00,9,-999.000,9,-999.000,9,-999.000,9,   8.4782
     74AB59,      Dar91,   12v20,          1,     -999.0,     -999.0,9,19910606,       1516,    51.0080,   -15.9955,     -999.0,  1010.8,   7.5580,  35.3570,2,-999.0000,9,-999.0000,5,  -999.0,9, -999.00,9, -999.00,9, -999.00,9,-999.000,9,-999.000,9,-999.000,9,   7.4531
     74AB59,      Dar91,   12v20,          1,     -999.0,     -999.0,9,19910606,       1516,    51.0080,   -15.9955,     -999.0,  1201.8,   5.4700,  35.0780,2,  35.0520,2,-999.0000,5,  -999.0,9, -999.00,9, -999.00,9, -999.00,9,-999.000,9,-999.000,9,-999.000,9,   5.3628
     74AB59,      Dar91,   12v20,          1,     -999.0,     -999.0,9,19910606,       1516,    51.0080,   -15.9955,     -999.0,  1388.6,   4.2780,  34.9430,2,-999.0000,9,-999.0000,5,  -999.0,9, -999.00,9, -999.00,9, -999.00,9,-999.000,9,-999.000,9,-999.000,9,   4.1650
     74AB59,      Dar91,   12v20,          1,     -999.0,     -999.0,9,19910606,       1516,    51.0080,   -15.9955,     -999.0,  1606.1,   3.8650,  34.9160,2,-999.0000,9,-999.0000,5,  -999.0,9, -999.00,9, -999.00,9, -999.00,9,-999.000,9,-999.000,9,-999.000,9,   3.7368
     74AB59,      Dar91,   12v20,          1,     -999.0,     -999.0,9,19910606,       1516,    51.0080,   -15.9955,     -999.0,  1814.1,   3.5820,  34.8980,2,  34.9040,2,-999.0000,5,  -999.0,9, -999.00,9, -999.00,9, -999.00,9,-999.000,9,-999.000,9,-999.000,9,   3.4384
     74AB59,      Dar91,   12v20,          1,     -999.0,     -999.0,9,19910606,       1516,    51.0080,   -15.9955,     -999.0,  2024.3,   3.5480,  34.9220,2,-999.0000,9,-999.0000,5,  -999.0,9, -999.00,9, -999.00,9, -999.00,9,-999.000,9,-999.000,9,-999.000,9,   3.3850
     74AB59,      Dar91,   12v20,          1,     -999.0,     -999.0,9,19910606,       1516,    51.0080,   -15.9955,     -999.0,  2425.9,   3.2580,  34.9460,2,  34.9510,2,-999.0000,5,  -999.0,9, -999.00,9, -999.00,9, -999.00,9,-999.000,9,-999.000,9,-999.000,9,   3.0607
     74AB59,      Dar91,   12v20,          1,     -999.0,     -999.0,9,19910606,       1516,    51.0080,   -15.9955,     -999.0,  2831.4,   2.9380,  34.9460,2,  34.9490,2,-999.0000,5,  -999.0,9, -999.00,9, -999.00,9, -999.00,9,-999.000,9,-999.000,9,-999.000,9,   2.7060
     74AB59,      Dar91,   12v20,          1,     -999.0,     -999.0,9,19910606,       1516,    51.0080,   -15.9955,     -999.0,  3245.9,   2.7080,  34.9320,2,  34.9320,2,-999.0000,5,  -999.0,9, -999.00,9, -999.00,9, -999.00,9,-999.000,9,-999.000,9,-999.000,9,   2.4378
     74AB59,      Dar91,   12v20,          1,     -999.0,     -999.0,9,19910606,       1516,    51.0080,   -15.9955,     -999.0,  3655.1,   2.5570,  34.9150,2,  34.9150,2,-999.0000,5,  -999.0,9, -999.00,9, -999.00,9, -999.00,9,-999.000,9,-999.000,9,-999.000,9,   2.2461
     74AB59,      Dar91,   12v20,          1,     -999.0,     -999.0,9,19910606,       1516,    51.0080,   -15.9955,     -999.0,  4063.6,   2.5150,  34.9050,2,  34.9060,2,-999.0000,5,  -999.0,9, -999.00,9, -999.00,9, -999.00,9,-999.000,9,-999.000,9,-999.000,9,   2.1590
     74AB59,      Dar91,   12v20,          1,     -999.0,     -999.0,9,19910606,       1516,    51.0080,   -15.9955,     -999.0,  4448.6,   2.5170,  34.9020,2,  34.9020,2,-999.0000,5,  -999.0,9, -999.00,9, -999.00,9, -999.00,9,-999.000,9,-999.000,9,-999.000,9,   2.1154