BOTTLE,20211124CCHSIORKP
# Original header:
# Chagned all fill flags to 9
#code : jjward hyd_to_exchange.pl 
#original files copied from HTML directory: 20020911
#original HYD file: pr18_fhy.txt   Wed Sep 11 14:56:36 2002
#original SUM file: pr18_fsu.txt   Wed Sep 11 14:51:07 2002
EXPOCODE,SECT_ID,STNNBR,CASTNO,SAMPNO,BTLNBR,BTLNBR_FLAG_W,DATE,TIME,LATITUDE,LONGITUDE,DEPTH,CTDPRS,CTDTMP,CTDSAL,CTDSAL_FLAG_W,SALNTY,SALNTY_FLAG_W,OXYGEN,OXYGEN_FLAG_W,NITRAT,NITRAT_FLAG_W,NITRIT,NITRIT_FLAG_W,PHSPHT,PHSPHT_FLAG_W,CTDRAW,THETA
,,,,,,,,,,,METERS,DBAR,ITS-90,PSS-78,,PSS-78,,UMOL/KG,,UMOL/KG,,UMOL/KG,,UMOL/KG,,DBAR,DEG C
 49TU9207_1,       PR18,    PN-9,          1,     -999.0,     -999.0,9,19920727,       0400,    29.9993,   124.5115,         64,     1.9,  28.3575,  31.4563,2,-999.0000,9,   205.0,3,    0.10,2,    0.01,2,    0.02,2,       2,  28.3570
 49TU9207_1,       PR18,    PN-9,          1,     -999.0,          7,2,19920727,       0400,    29.9993,   124.5115,         64,    10.0,  28.1759,  31.4846,2,-999.0000,9,   210.0,3,    0.00,2,    0.01,2,    0.03,2,      10,  28.1736
 49TU9207_1,       PR18,    PN-9,          1,     -999.0,          6,2,19920727,       0400,    29.9993,   124.5115,         64,    20.5,  27.6659,  32.0753,2,-999.0000,9,   212.0,3,    0.00,2,    0.01,2,    0.02,2,      21,  27.6612
 49TU9207_1,       PR18,    PN-9,          1,     -999.0,          5,2,19920727,       0400,    29.9993,   124.5115,         64,    30.5,  25.8632,  33.6294,2,-999.0000,9,   212.0,3,    0.00,2,    0.01,2,    0.02,2,      31,  25.8564
 49TU9207_1,       PR18,    PN-9,          1,     -999.0,          4,2,19920727,       0400,    29.9993,   124.5115,         64,    50.7,  22.2514,  34.3259,2,-999.0000,9,   148.0,3,    5.60,2,    0.12,2,    0.25,2,      51,  22.2413
 49TU9207_1,       PR18,    PN-9,          1,     -999.0,          3,2,19920727,       0400,    29.9993,   124.5115,         64,    59.3,  22.2375,  34.3243,2,-999.0000,9,   147.0,3,    5.60,2,    0.14,2,    0.33,2,      59,  22.2257
 49TU9207_1,       PR18,    PN-8,          1,     -999.0,     -999.0,9,19920727,       0820,    29.5983,   125.1030,         86,     2.3,  28.8762,  31.6603,2,-999.0000,9,   210.0,3,    0.00,2,    0.02,2,    0.00,2,       2,  28.8757
 49TU9207_1,       PR18,    PN-8,          1,     -999.0,          6,2,19920727,       0820,    29.5983,   125.1030,         86,    10.0,  28.7027,  31.7102,2,  31.6985,2,   209.0,3,    0.00,2,    0.02,2,    0.00,2,      10,  28.7004
 49TU9207_1,       PR18,    PN-8,          1,     -999.0,          5,2,19920727,       0820,    29.5983,   125.1030,         86,    20.0,  28.4540,  31.7489,2,  31.7443,2,   205.0,3,    0.00,2,    0.02,2,    0.00,2,      20,  28.4493
 49TU9207_1,       PR18,    PN-8,          1,     -999.0,          4,2,19920727,       0820,    29.5983,   125.1030,         86,    30.0,  26.5211,  32.1206,2,  32.0473,3,   220.0,3,    0.10,2,    0.02,2,    0.01,2,      30,  26.5144
 49TU9207_1,       PR18,    PN-8,          1,     -999.0,          3,2,19920727,       0820,    29.5983,   125.1030,         86,    50.1,  21.2152,  34.2484,2,  34.2475,2,   144.0,3,    7.20,2,    0.07,2,    0.49,2,      50,  21.2056
 49TU9207_1,       PR18,    PN-8,          1,     -999.0,          2,2,19920727,       0820,    29.5983,   125.1030,         86,    81.9,  19.8883,  34.2181,2,  34.2176,2,   132.0,3,    9.00,2,    0.14,2,    0.66,2,      82,  19.8733
 49TU9207_1,       PR18,    PN-7,          1,     -999.0,     -999.0,9,19920727,       1215,    29.3158,   125.5502,         99,     2.3,  29.2768,  31.5218,2,-999.0000,9,   208.0,3,    0.00,2,    0.02,2,    0.00,2,       2,  29.2762
 49TU9207_1,       PR18,    PN-7,          1,     -999.0,          5,2,19920727,       1215,    29.3158,   125.5502,         99,    10.2,  28.2224,  32.1620,2,-999.0000,9,   208.0,3,    0.00,2,    0.02,2,    0.00,2,      10,  28.2200
 49TU9207_1,       PR18,    PN-7,          1,     -999.0,          4,2,19920727,       1215,    29.3158,   125.5502,         99,    20.2,  27.0902,  32.6746,2,-999.0000,9,   210.0,3,    0.00,2,    0.02,2,    0.00,2,      20,  27.0856
 49TU9207_1,       PR18,    PN-7,          1,     -999.0,          3,2,19920727,       1215,    29.3158,   125.5502,         99,    30.3,  26.1682,  33.5002,2,-999.0000,9,   187.0,3,    0.90,2,    0.05,2,    0.05,2,      30,  26.1615
 49TU9207_1,       PR18,    PN-7,          1,     -999.0,          2,2,19920727,       1215,    29.3158,   125.5502,         99,    50.1,  23.0604,  34.2463,2,-999.0000,9,   211.0,3,    0.00,2,    0.02,2,    0.01,2,      50,  23.0502
 49TU9207_1,       PR18,    PN-7,          1,     -999.0,          1,2,19920727,       1215,    29.3158,   125.5502,         99,    75.4,  19.2476,  34.5277,2,-999.0000,9,   207.0,3,    0.00,2,    0.02,2,    0.02,2,      75,  19.2341
 49TU9207_1,       PR18,    PN-7,          1,     -999.0,         12,2,19920727,       1215,    29.3158,   125.5502,         99,    95.3,  18.8945,  34.6049,2,-999.0000,9,   153.0,3,    8.60,2,    0.04,2,    0.61,2,      95,  18.8776
 49TU9207_1,       PR18,    PN-6,          1,     -999.0,     -999.0,9,19920727,       1839,    29.0285,   126.0190,        107,     1.6,  28.8661,  33.2484,2,-999.0000,9,   200.0,3,    0.20,2,    0.03,2,    0.03,2,       2,  28.8658
 49TU9207_1,       PR18,    PN-6,          1,     -999.0,          7,2,19920727,       1839,    29.0285,   126.0190,        107,    10.8,  28.8127,  33.5640,2,-999.0000,9,   201.0,3,    0.00,2,    0.01,2,    0.02,2,      11,  28.8101
 49TU9207_1,       PR18,    PN-6,          1,     -999.0,          6,2,19920727,       1839,    29.0285,   126.0190,        107,    20.2,  28.0909,  34.5101,2,-999.0000,9,   201.0,3,    0.00,2,    0.02,2,    0.02,2,      20,  28.0861
 49TU9207_1,       PR18,    PN-6,          1,     -999.0,          5,2,19920727,       1839,    29.0285,   126.0190,        107,    30.7,  26.0178,  34.3745,2,-999.0000,9,   212.0,3,    0.00,2,    0.02,2,    0.01,2,      31,  26.0110
 49TU9207_1,       PR18,    PN-6,          1,     -999.0,          4,2,19920727,       1839,    29.0285,   126.0190,        107,    50.7,  23.9651,  34.4197,2,-999.0000,9,   202.0,3,    0.00,2,    0.02,2,    0.03,2,      51,  23.9544
 49TU9207_1,       PR18,    PN-6,          1,     -999.0,          3,2,19920727,       1839,    29.0285,   126.0190,        107,    75.7,  18.2891,  34.6048,2,-999.0000,9,   162.0,3,    9.00,2,    0.06,2,    0.46,2,      76,  18.2760
 49TU9207_1,       PR18,    PN-6,          1,     -999.0,          2,2,19920727,       1839,    29.0285,   126.0190,        107,   103.5,  18.0515,  34.6119,2,-999.0000,9,   160.0,3,    9.80,2,    0.04,2,    0.57,2,     103,  18.0338
 49TU9207_1,       PR18,    PN-5,          1,     -999.0,     -999.0,9,19920727,       2321,    28.7165,   126.4772,        128,     0.2,  28.7508,  33.7250,2,-999.0000,9,   200.0,3,    0.00,2,    0.02,2,    0.02,2,       0,  28.7508
 49TU9207_1,       PR18,    PN-5,          1,     -999.0,          9,2,19920727,       2321,    28.7165,   126.4772,        128,     9.9,  28.7033,  33.7217,2,  33.7161,2,   201.0,3,    0.10,2,    0.02,2,    0.02,2,      10,  28.7009
 49TU9207_1,       PR18,    PN-5,          1,     -999.0,          8,2,19920727,       2321,    28.7165,   126.4772,        128,    20.0,  27.7071,  33.6694,2,  33.6875,3,   204.0,3,    0.10,2,    0.02,2,    0.02,2,      20,  27.7025
 49TU9207_1,       PR18,    PN-5,          1,     -999.0,          7,2,19920727,       2321,    28.7165,   126.4772,        128,    30.1,  26.2498,  34.0404,2,  34.0127,3,   214.0,3,    0.10,2,    0.02,2,    0.01,2,      30,  26.2430
 49TU9207_1,       PR18,    PN-5,          1,     -999.0,          6,2,19920727,       2321,    28.7165,   126.4772,        128,    50.3,  24.5184,  34.6841,2,  34.6786,2,   211.0,3,    0.10,2,    0.02,2,    0.02,2,      50,  24.5076
 49TU9207_1,       PR18,    PN-5,          1,     -999.0,          5,2,19920727,       2321,    28.7165,   126.4772,        128,    75.3,  21.8460,  34.6845,2,  34.7032,3,   190.0,3,    2.30,2,    0.31,2,    0.10,2,      75,  21.8312
 49TU9207_1,       PR18,    PN-5,          1,     -999.0,          4,2,19920727,       2321,    28.7165,   126.4772,        128,   100.7,  20.1228,  34.7349,2,  34.7357,2,   184.0,3,    4.90,2,    0.11,2,    0.21,2,     101,  20.1042
 49TU9207_1,       PR18,    PN-5,          1,     -999.0,          3,2,19920727,       2321,    28.7165,   126.4772,        128,   124.7,  17.3336,  34.6091,2,  34.6088,2,   162.0,3,   10.30,2,    0.06,2,    0.61,2,     125,  17.3128
 49TU9207_1,       PR18,   PN-4',          1,     -999.0,     -999.0,9,19920728,       0212,    28.5468,   126.6827,        151,     2.4,  29.0995,  33.7356,2,-999.0000,9,   207.0,3,    0.10,2,    0.02,2,    0.04,2,       2,  29.0989
 49TU9207_1,       PR18,   PN-4',          1,     -999.0,         10,2,19920728,       0212,    28.5468,   126.6827,        151,     9.9,  28.8513,  33.7316,2,-999.0000,9,   207.0,3,    0.00,2,    0.02,2,    0.03,2,      10,  28.8489
 49TU9207_1,       PR18,   PN-4',          1,     -999.0,          9,2,19920728,       0212,    28.5468,   126.6827,        151,    19.9,  28.5992,  33.7129,2,-999.0000,9,   207.0,3,    0.00,2,    0.02,2,    0.04,2,      20,  28.5944
 49TU9207_1,       PR18,   PN-4',          1,     -999.0,          8,2,19920728,       0212,    28.5468,   126.6827,        151,    30.1,  26.5865,  33.8615,2,-999.0000,9,   203.0,3,    0.00,2,    0.01,2,    0.04,2,      30,  26.5797
 49TU9207_1,       PR18,   PN-4',          1,     -999.0,          7,2,19920728,       0212,    28.5468,   126.6827,        151,    50.9,  25.0701,  34.3649,2,-999.0000,9,   197.0,3,    0.00,2,    0.01,2,    0.03,2,      51,  25.0590
 49TU9207_1,       PR18,   PN-4',          1,     -999.0,          6,2,19920728,       0212,    28.5468,   126.6827,        151,    75.2,  23.4618,  34.5059,2,-999.0000,9,   211.0,3,    0.00,2,    0.03,2,    0.02,2,      75,  23.4463
 49TU9207_1,       PR18,   PN-4',          1,     -999.0,          5,2,19920728,       0212,    28.5468,   126.6827,        151,   100.8,  21.0951,  34.7628,2,-999.0000,9,   178.0,3,    3.40,2,    0.17,2,    0.10,2,     101,  21.0758
 49TU9207_1,       PR18,   PN-4',          1,     -999.0,          4,2,19920728,       0212,    28.5468,   126.6827,        151,   125.7,  19.2489,  34.7766,2,-999.0000,9,   186.0,3,    5.30,2,    0.06,2,    0.18,2,     126,  19.2264
 49TU9207_1,       PR18,   PN-4',          1,     -999.0,          3,2,19920728,       0212,    28.5468,   126.6827,        151,   142.6,  16.2259,  34.6493,2,-999.0000,9,   179.0,3,    9.40,2,    0.03,2,    0.28,2,     143,  16.2032
 49TU9207_1,       PR18,    PN-4,          1,     -999.0,     -999.0,9,19920728,       0918,    28.4148,   126.9395,        314,     0.2,  29.1256,  33.7692,2,-999.0000,9,   201.0,3,    0.10,2,    0.02,2,    0.01,2,       0,  29.1256
 49TU9207_1,       PR18,    PN-4,          1,     -999.0,         12,2,19920728,       0918,    28.4148,   126.9395,        314,     9.5,  28.7814,  33.9080,2,  33.9023,2,   203.0,3,    0.10,2,    0.02,2,    0.02,2,       9,  28.7791
 49TU9207_1,       PR18,    PN-4,          1,     -999.0,         11,2,19920728,       0918,    28.4148,   126.9395,        314,    19.7,  29.0067,  34.4385,2,  34.3860,3,   202.0,3,    0.10,2,    0.02,2,    0.02,2,      20,  29.0019
 49TU9207_1,       PR18,    PN-4,          1,     -999.0,         10,2,19920728,       0918,    28.4148,   126.9395,        314,    30.3,  27.7721,  34.2995,2,  34.2879,2,   207.0,3,    0.10,2,    0.02,2,    0.02,2,      30,  27.7650
 49TU9207_1,       PR18,    PN-4,          1,     -999.0,          9,2,19920728,       0918,    28.4148,   126.9395,        314,    50.2,  26.1194,  34.5670,2,  34.5256,3,   213.0,3,    0.10,2,    0.02,2,    0.02,2,      50,  26.1082
 49TU9207_1,       PR18,    PN-4,          1,     -999.0,          8,2,19920728,       0918,    28.4148,   126.9395,        314,    75.1,  23.9508,  34.6208,2,  34.6211,2,   211.0,3,    0.00,2,    0.07,2,    0.02,2,      75,  23.9351
 49TU9207_1,       PR18,    PN-4,          1,     -999.0,          7,4,19920728,       0918,    28.4148,   126.9395,        314,   100.4,  22.6236,  34.7069,2,  34.7034,2,   195.0,3,    1.10,2,    0.55,2,    0.09,2,     100,  22.6033
 49TU9207_1,       PR18,    PN-4,          2,     -999.0,          5,2,19920728,       1002,    28.4258,   126.9568,        355,   125.9,  21.0393,  34.7761,2,-999.0000,9,   188.0,3,    3.20,2,    0.19,2,    0.10,2,     126,  21.0152
 49TU9207_1,       PR18,    PN-4,          2,     -999.0,          4,2,19920728,       1002,    28.4258,   126.9568,        355,   150.4,  19.2602,  34.7187,2,-999.0000,9,   185.0,3,    5.60,2,    0.05,2,    0.19,2,     150,  19.2332
 49TU9207_1,       PR18,    PN-4,          2,     -999.0,          3,2,19920728,       1002,    28.4258,   126.9568,        355,   201.8,  15.6883,  34.6370,2,-999.0000,9,   175.0,3,   10.30,2,    0.05,2,    0.32,2,     202,  15.6569
 49TU9207_1,       PR18,    PN-4,          2,     -999.0,          2,2,19920728,       1002,    28.4258,   126.9568,        355,   251.5,  11.2007,  34.3883,2,-999.0000,9,   157.0,3,   18.80,2,    0.05,2,    0.84,2,     251,  11.1694
 49TU9207_1,       PR18,    PN-4,          2,     -999.0,          1,2,19920728,       1002,    28.4258,   126.9568,        355,   337.0,   8.8863,  34.2936,2,-999.0000,9,   135.0,3,   24.90,2,    0.03,2,    1.42,2,     337,   8.8500
 49TU9207_1,       PR18,   PN-3',          1,     -999.0,          6,2,19920728,       1257,    28.2440,   127.1360,       1000,    10.0,  28.9893,  34.5326,2,-999.0000,9,   202.0,3,    0.00,2,    0.02,2,    0.00,2,      10,  28.9869
 49TU9207_1,       PR18,   PN-3',          1,     -999.0,          5,2,19920728,       1257,    28.2440,   127.1360,       1000,    19.9,  28.3632,  34.5980,2,-999.0000,9,   203.0,3,    0.00,2,    0.02,2,    0.00,2,      20,  28.3585
 49TU9207_1,       PR18,   PN-3',          1,     -999.0,          4,2,19920728,       1257,    28.2440,   127.1360,       1000,    30.1,  27.8779,  34.6346,2,-999.0000,9,   206.0,3,    0.10,2,    0.02,2,    0.00,2,      30,  27.8708
 49TU9207_1,       PR18,   PN-3',          1,     -999.0,          3,2,19920728,       1257,    28.2440,   127.1360,       1000,    50.5,  26.0324,  34.6347,2,-999.0000,9,  -999.0,5,    0.10,2,    0.02,2,    0.01,2,      50,  26.0211
 49TU9207_1,       PR18,   PN-3',          1,     -999.0,          2,2,19920728,       1257,    28.2440,   127.1360,       1000,    75.4,  23.1914,  34.5367,2,-999.0000,9,   193.0,3,    2.00,2,    0.37,2,    0.08,2,      75,  23.1759
 49TU9207_1,       PR18,   PN-3',          1,     -999.0,          1,2,19920728,       1257,    28.2440,   127.1360,       1000,   103.7,  21.5837,  34.7096,2,-999.0000,9,   191.0,3,    2.60,2,    0.16,2,    0.01,2,     104,  21.5635
 49TU9207_1,       PR18,   PN-3',          2,     -999.0,          1,2,19920728,       1331,    28.2573,   127.1467,       1000,   125.9,  20.8561,  34.7949,2,  34.8008,3,   196.0,3,    2.30,2,    0.09,2,    0.06,2,     126,  20.8322
 49TU9207_1,       PR18,   PN-3',          2,     -999.0,         12,2,19920728,       1331,    28.2573,   127.1467,       1000,   151.2,  20.1819,  34.9112,2,  34.9090,2,   193.0,3,    2.10,2,    0.07,2,    0.08,2,     151,  20.1538
 49TU9207_1,       PR18,   PN-3',          2,     -999.0,         11,2,19920728,       1331,    28.2573,   127.1467,       1000,   201.5,  18.5651,  34.8663,2,  34.8633,2,   202.0,3,    2.80,2,    0.05,2,    0.05,2,     201,  18.5298
 49TU9207_1,       PR18,   PN-3',          2,     -999.0,         10,4,19920728,       1331,    28.2573,   127.1467,       1000,   251.9,  17.2865,  34.7855,2,  34.7890,2,   198.0,3,    5.10,2,    0.05,2,    0.13,2,     252,  17.2445
 49TU9207_1,       PR18,   PN-3',          2,     -999.0,          8,2,19920728,       1331,    28.2573,   127.1467,       1000,   301.6,  15.1592,  34.6384,2,  34.6402,2,   183.0,3,    9.80,2,    0.06,2,    0.33,2,     302,  15.1132
 49TU9207_1,       PR18,   PN-3',          2,     -999.0,          7,2,19920728,       1331,    28.2573,   127.1467,       1000,   406.9,  11.4499,  34.3974,2,  34.4023,2,   160.0,3,   17.80,2,    0.05,2,    1.01,2,     407,  11.3982
 49TU9207_1,       PR18,   PN-3',          3,     -999.0,          3,4,19920728,       1511,    28.3025,   127.1772,        975,   504.4,   8.2656,  34.2862,2,  34.2870,2,   125.0,3,   26.40,2,    0.05,2,    1.86,2,     504,   8.2131
 49TU9207_1,       PR18,   PN-3',          3,     -999.0,          1,4,19920728,       1511,    28.3025,   127.1772,        975,   604.7,   6.5664,  34.2892,2,  34.2913,2,   102.0,3,   31.40,2,    0.05,2,    2.54,2,     605,   6.5107
 49TU9207_1,       PR18,   PN-3',          3,     -999.0,         11,2,19920728,       1511,    28.3025,   127.1772,        975,   704.3,   5.7110,  34.3338,2,  34.3351,2,    93.0,3,   34.00,2,    0.04,2,    2.86,2,     704,   5.6501
 49TU9207_1,       PR18,   PN-3',          3,     -999.0,         10,2,19920728,       1511,    28.3025,   127.1772,        975,   805.2,   5.2787,  34.3587,2,  34.3636,2,    87.0,3,   34.50,2,    0.05,2,    2.95,2,     805,   5.2113
 49TU9207_1,       PR18,   PN-3',          3,     -999.0,          9,2,19920728,       1511,    28.3025,   127.1772,        975,   917.1,   4.9522,  34.3724,2,  34.3762,2,    82.0,3,   35.60,2,    0.05,2,    3.12,2,     917,   4.8769
 49TU9207_1,       PR18,    PN-3,          1,     -999.0,     -999.0,9,19920728,       1821,    28.1008,   127.3568,       1003,     1.2,  29.3439,  34.5084,2,-999.0000,9,   192.0,3,    0.00,2,    0.04,2,    0.02,2,       1,  29.3436
 49TU9207_1,       PR18,    PN-3,          1,     -999.0,          3,4,19920728,       1821,    28.1008,   127.3568,       1003,     9.9,  29.1340,  34.4988,2,  34.4935,2,   199.0,3,    0.00,2,    0.02,2,    0.02,2,      10,  29.1316
 49TU9207_1,       PR18,    PN-3,          1,     -999.0,          1,4,19920728,       1821,    28.1008,   127.3568,       1003,    20.2,  28.2248,  34.4523,2,  34.4512,2,   203.0,3,    0.00,2,    0.02,2,    0.03,2,      20,  28.2200
 49TU9207_1,       PR18,    PN-3,          1,     -999.0,         11,4,19920728,       1821,    28.1008,   127.3568,       1003,    30.0,  26.3236,  34.5245,2,  34.5189,2,   211.0,3,    0.00,2,    0.03,2,    0.02,2,      30,  26.3169
 49TU9207_1,       PR18,    PN-3,          1,     -999.0,          9,2,19920728,       1821,    28.1008,   127.3568,       1003,    50.3,  24.7206,  34.6374,2,  34.6304,2,   216.0,3,    0.10,2,    0.03,2,    0.01,2,      50,  24.7098
 49TU9207_1,       PR18,    PN-3,          1,     -999.0,          8,2,19920728,       1821,    28.1008,   127.3568,       1003,    75.4,  22.8492,  34.7430,2,  34.7325,2,   218.0,3,    0.10,2,    0.03,2,    0.01,2,      75,  22.8339
 49TU9207_1,       PR18,    PN-3,          1,     -999.0,          7,2,19920728,       1821,    28.1008,   127.3568,       1003,   101.3,  21.4548,  34.8124,2,  34.8101,2,   216.0,3,    0.00,2,    0.05,2,    0.02,2,     101,  21.4352