BOTTLE,20211124CCHSIORKP
EXPOCODE,SECT_ID,STNNBR,CASTNO,SAMPNO,BTLNBR,BTLNBR_FLAG_W,DATE,TIME,LATITUDE,LONGITUDE,DEPTH,CTDPRS,CTDTMP,CTDSAL,CTDSAL_FLAG_W,SALNTY,SALNTY_FLAG_W,OXYGEN,OXYGEN_FLAG_W,NITRAT,NITRAT_FLAG_W,NITRIT,NITRIT_FLAG_W,PHSPHT,PHSPHT_FLAG_W,CTDRAW,THETA
,,,,,,,,,,,METERS,DBAR,ITS-90,PSS-78,,PSS-78,,UMOL/KG,,UMOL/KG,,UMOL/KG,,UMOL/KG,,DBAR,DEG C
 49TU9207_1,       PR18,    PN-3,          2,     -999.0,         12,4,19920728,       1907,    28.1183,   127.3660,        982,   126.0,  20.5334,  34.8395,2,  34.8343,2,   213.0,3,    0.10,2,    0.04,2,    0.02,2,     126,  20.5097
 49TU9207_1,       PR18,    PN-3,          2,     -999.0,         10,2,19920728,       1907,    28.1183,   127.3660,        982,   150.7,  20.0056,  34.8446,2,  34.8408,2,   204.0,3,    0.10,2,    0.08,2,    0.05,2,     151,  19.9778
 49TU9207_1,       PR18,    PN-3,          2,     -999.0,          9,4,19920728,       1907,    28.1183,   127.3660,        982,   200.8,  18.9604,  34.8376,2,  34.8349,2,   199.0,3,    1.20,2,    0.08,2,    0.10,2,     201,  18.9246
 49TU9207_1,       PR18,    PN-3,          2,     -999.0,          7,2,19920728,       1907,    28.1183,   127.3660,        982,   251.5,  17.6865,  34.8032,2,  34.8032,2,   198.0,3,    2.30,2,    0.08,2,    0.13,2,     252,  17.6438
 49TU9207_1,       PR18,    PN-3,          2,     -999.0,          6,2,19920728,       1907,    28.1183,   127.3660,        982,   302.2,  16.8240,  34.7532,2,  34.7595,3,   200.0,3,    2.80,2,    0.08,2,    0.11,2,     302,  16.7745
 49TU9207_1,       PR18,    PN-3,          2,     -999.0,          5,4,19920728,       1907,    28.1183,   127.3660,        982,   403.9,  13.9081,  34.5390,2,  34.5413,2,   184.0,3,    6.10,2,    0.08,2,    0.23,2,     404,  13.8498
 49TU9207_1,       PR18,    PN-3,          3,     -999.0,          6,2,19920728,       2008,    28.1445,   127.3777,       1020,   504.3,  11.2264,  34.3663,2,-999.0000,9,   169.0,3,   14.70,2,    0.09,2,    0.62,2,     504,  11.1630
 49TU9207_1,       PR18,    PN-3,          3,     -999.0,          5,2,19920728,       2008,    28.1445,   127.3777,       1020,   604.4,   8.8499,  34.2777,2,-999.0000,9,   108.0,3,   27.50,2,    0.11,2,    1.58,2,     604,   8.7840
 49TU9207_1,       PR18,    PN-3,          3,     -999.0,          4,2,19920728,       2008,    28.1445,   127.3777,       1020,   705.5,   6.7568,  34.2791,2,-999.0000,9,    93.0,3,   29.90,2,    0.09,2,    2.00,2,     705,   6.6904
 49TU9207_1,       PR18,    PN-3,          3,     -999.0,          3,2,19920728,       2008,    28.1445,   127.3777,       1020,   807.5,   5.9086,  34.3182,2,-999.0000,9,    81.0,3,   32.90,2,    0.09,2,    2.41,2,     807,   5.8371
 49TU9207_1,       PR18,    PN-3,          3,     -999.0,          2,2,19920728,       2008,    28.1445,   127.3777,       1020,   906.6,   4.7385,  34.3629,2,-999.0000,9,    80.0,3,   31.20,2,    0.14,2,    2.04,2,     907,   4.6656
 49TU9207_1,       PR18,    PN-3,          3,     -999.0,          1,2,19920728,       2008,    28.1445,   127.3777,       1020,   972.2,   4.5959,  34.3849,2,-999.0000,9,    81.0,3,   33.10,2,    0.08,2,    2.49,2,     972,   4.5183
 49TU9207_1,       PR18,    PN-2,          1,     -999.0,     -999.0,9,19920729,       0159,    27.8033,   127.8035,        921,     0.6,  29.3544,  34.3090,2,-999.0000,9,   198.0,3,    0.10,2,    0.04,2,    0.01,2,       1,  29.3543
 49TU9207_1,       PR18,    PN-2,          1,     -999.0,          6,2,19920729,       0159,    27.8033,   127.8035,        921,     9.7,  28.7017,  34.2880,2,  34.2881,2,   202.0,3,    0.10,2,    0.03,2,    0.01,2,      10,  28.6994
 49TU9207_1,       PR18,    PN-2,          1,     -999.0,          5,2,19920729,       0159,    27.8033,   127.8035,        921,    20.2,  27.4268,  34.2706,2,  34.2620,2,   208.0,3,    0.10,2,    0.03,2,    0.01,2,      20,  27.4221
 49TU9207_1,       PR18,    PN-2,          1,     -999.0,          4,2,19920729,       0159,    27.8033,   127.8035,        921,    30.3,  26.6782,  34.3235,2,  34.3192,2,   210.0,3,    0.10,2,    0.04,2,    0.01,2,      30,  26.6714
 49TU9207_1,       PR18,    PN-2,          1,     -999.0,          3,2,19920729,       0159,    27.8033,   127.8035,        921,    50.4,  25.1479,  34.5157,2,  34.5033,2,   212.0,3,    0.10,2,    0.04,2,    0.01,2,      50,  25.1370
 49TU9207_1,       PR18,    PN-2,          1,     -999.0,          2,2,19920729,       0159,    27.8033,   127.8035,        921,    74.4,  23.8631,  34.6536,2,  34.6453,2,   213.0,3,    0.00,2,    0.05,2,    0.02,2,      74,  23.8475
 49TU9207_1,       PR18,    PN-2,          1,     -999.0,          1,2,19920729,       0159,    27.8033,   127.8035,        921,   104.5,  22.7621,  34.7411,2,  34.7382,2,   205.0,3,    0.00,2,    0.06,2,    0.03,2,     104,  22.7409
 49TU9207_1,       PR18,    PN-2,          2,     -999.0,         12,2,19920729,       0245,    27.8142,   127.8157,        983,   125.6,  20.9290,  34.8145,2,  34.8089,2,   199.0,3,    0.00,2,    0.07,2,    0.07,2,     126,  20.9050
 49TU9207_1,       PR18,    PN-2,          2,     -999.0,         11,2,19920729,       0245,    27.8142,   127.8157,        983,   151.3,  20.1523,  34.8511,2,  34.8485,2,   206.0,3,    0.00,2,    0.06,2,    0.03,2,     151,  20.1242
 49TU9207_1,       PR18,    PN-2,          2,     -999.0,         10,2,19920729,       0245,    27.8142,   127.8157,        983,   201.5,  19.3913,  34.8686,2,  34.8668,2,   204.0,3,    0.10,2,    0.09,2,    0.07,2,     202,  19.3549
 49TU9207_1,       PR18,    PN-2,          2,     -999.0,          9,2,19920729,       0245,    27.8142,   127.8157,        983,   251.8,  18.3980,  34.8445,2,  34.8446,2,   201.0,3,    0.50,2,    0.09,2,    0.10,2,     252,  18.3541
 49TU9207_1,       PR18,    PN-2,          2,     -999.0,          8,2,19920729,       0245,    27.8142,   127.8157,        983,   302.4,  17.4404,  34.7866,2,  34.7869,2,   199.0,3,    2.10,2,    0.08,2,    0.21,2,     302,  17.3896
 49TU9207_1,       PR18,    PN-2,          2,     -999.0,          7,2,19920729,       0245,    27.8142,   127.8157,        983,   400.4,  15.5956,  34.6640,2,  34.6735,3,   198.0,3,    5.40,2,    0.07,2,    0.35,2,     400,  15.5331
 49TU9207_1,       PR18,    PN-2,          3,     -999.0,          6,2,19920729,       0335,    27.8237,   127.8290,       1017,   504.0,  13.4800,  34.5134,2,  34.5102,2,   181.0,3,   10.20,2,    0.10,2,    0.66,2,     504,  13.4085
 49TU9207_1,       PR18,    PN-2,          3,     -999.0,          5,2,19920729,       0335,    27.8237,   127.8290,       1017,   604.5,  10.1182,  34.3329,2,  34.3319,2,   150.0,3,   18.70,2,    0.09,2,    1.34,2,     605,  10.0467
 49TU9207_1,       PR18,    PN-2,          3,     -999.0,          4,2,19920729,       0335,    27.8237,   127.8290,       1017,   705.4,   7.4760,  34.2851,2,  34.2858,2,   114.0,3,   26.50,2,    0.07,2,    2.00,2,     705,   7.4057
 49TU9207_1,       PR18,    PN-2,          3,     -999.0,          3,2,19920729,       0335,    27.8237,   127.8290,       1017,   807.0,   5.8966,  34.3196,2,  34.3237,2,    94.0,3,   30.70,2,    0.16,2,    2.31,2,     807,   5.8252
 49TU9207_1,       PR18,    PN-2,          3,     -999.0,          2,2,19920729,       0335,    27.8237,   127.8290,       1017,   907.6,   5.0263,  34.3600,2,  34.3650,2,    83.0,3,   33.20,2,    0.08,2,    2.61,2,     908,   4.9513
 49TU9207_1,       PR18,    PN-2,          3,     -999.0,          1,2,19920729,       0335,    27.8237,   127.8290,       1017,   978.7,   4.7046,  34.3761,2,  34.3809,2,    81.0,3,   34.00,2,    0.16,2,    2.66,2,     979,   4.6256
 49TU9207_1,       PR18,    PN-1,          1,     -999.0,     -999.0,9,19920729,       0715,    27.4983,   128.2453,       1015,     2.2,  29.0583,  34.2309,2,-999.0000,9,   201.0,3, -999.00,5, -999.00,5,    0.02,2,       2,  29.0578
 49TU9207_1,       PR18,    PN-1,          1,     -999.0,         12,2,19920729,       0715,    27.4983,   128.2453,       1015,     8.9,  28.4430,  34.2536,2,-999.0000,9,   201.0,3,    0.10,2,    0.04,2,    0.02,2,       9,  28.4409
 49TU9207_1,       PR18,    PN-1,          1,     -999.0,         11,2,19920729,       0715,    27.4983,   128.2453,       1015,    20.1,  27.2894,  34.3150,2,-999.0000,9,   207.0,3,    0.00,2,    0.03,2,    0.01,2,      20,  27.2848
 49TU9207_1,       PR18,    PN-1,          1,     -999.0,         10,2,19920729,       0715,    27.4983,   128.2453,       1015,    30.2,  26.6470,  34.3731,2,-999.0000,9,   209.0,3,    0.00,2,    0.04,2,    0.01,2,      30,  26.6401
 49TU9207_1,       PR18,    PN-1,          1,     -999.0,          9,2,19920729,       0715,    27.4983,   128.2453,       1015,    49.6,  25.4231,  34.5006,2,-999.0000,9,   210.0,3,    0.00,2,    0.03,2,    0.01,2,      50,  25.4122
 49TU9207_1,       PR18,    PN-1,          1,     -999.0,          8,2,19920729,       0715,    27.4983,   128.2453,       1015,    74.5,  24.3623,  34.6055,2,-999.0000,9,   213.0,3,    0.00,2,    0.03,2,    0.01,2,      74,  24.3465
 49TU9207_1,       PR18,    PN-1,          1,     -999.0,          7,2,19920729,       0715,    27.4983,   128.2453,       1015,   102.2,  22.5424,  34.7480,2,-999.0000,9,   204.0,3,    0.00,2,    0.08,2,    0.04,2,     102,  22.5219
 49TU9207_1,       PR18,    PN-1,          2,     -999.0,          7,2,19920729,       0757,    27.4950,   128.2512,       1032,   124.8,  21.6186,  34.8073,2,-999.0000,9,   199.0,3,    0.00,2,    0.07,2,    0.07,2,     125,  21.5943
 49TU9207_1,       PR18,    PN-1,          2,     -999.0,          6,2,19920729,       0757,    27.4950,   128.2512,       1032,   151.1,  20.6526,  34.8411,2,-999.0000,9,   196.0,3,    0.00,2,    0.08,2,    0.14,2,     151,  20.6241
 49TU9207_1,       PR18,    PN-1,          2,     -999.0,          5,2,19920729,       0757,    27.4950,   128.2512,       1032,   201.2,  19.3763,  34.8490,2,-999.0000,9,   197.0,3,    0.70,2,    0.08,2,    0.18,2,     201,  19.3399
 49TU9207_1,       PR18,    PN-1,          2,     -999.0,          4,2,19920729,       0757,    27.4950,   128.2512,       1032,   252.1,  18.0967,  34.8166,2,-999.0000,9,   195.0,3,    2.30,2,    0.08,2,    0.27,2,     252,  18.0532
 49TU9207_1,       PR18,    PN-1,          2,     -999.0,          3,2,19920729,       0757,    27.4950,   128.2512,       1032,   301.9,  16.8989,  34.7515,2,-999.0000,9,   186.0,3,    5.30,2,    0.10,2,    0.41,2,     302,  16.8492
 49TU9207_1,       PR18,    PN-1,          2,     -999.0,          2,2,19920729,       0757,    27.4950,   128.2512,       1032,   403.6,  15.4959,  34.6529,2,-999.0000,9,   187.0,3,    5.30,2,    0.08,2,    0.42,2,     404,  15.4332
 49TU9207_1,       PR18,    PN-1,          3,     -999.0,          2,2,19920729,       0854,    27.4902,   128.2573,       1044,   504.1,  13.2753,  34.5080,2,-999.0000,9,   174.0,3,   10.20,2,    0.08,2,    0.77,2,     504,  13.2045
 49TU9207_1,       PR18,    PN-1,          3,     -999.0,          1,2,19920729,       0854,    27.4902,   128.2573,       1044,   604.7,   9.9668,  34.3542,2,-999.0000,9,   147.0,3,   18.50,2,    0.08,2,    1.41,2,     605,   9.8959
 49TU9207_1,       PR18,    PN-1,          3,     -999.0,         12,2,19920729,       0854,    27.4902,   128.2573,       1044,   705.7,   8.0189,  34.3151,2,-999.0000,9,   120.0,3,   24.50,2,    0.08,2,    1.90,2,     706,   7.9457
 49TU9207_1,       PR18,    PN-1,          3,     -999.0,         11,2,19920729,       0854,    27.4902,   128.2573,       1044,   806.4,   7.1912,  34.3148,2,-999.0000,9,   110.0,3,   27.00,2,    0.07,2,    2.12,2,     806,   7.1120
 49TU9207_1,       PR18,    PN-1,          3,     -999.0,         10,2,19920729,       0854,    27.4902,   128.2573,       1044,   908.1,   6.5967,  34.3201,2,-999.0000,9,   103.0,3,   28.50,2,    0.07,2,    2.26,2,     908,   6.5109
 49TU9207_1,       PR18,    PN-1,          3,     -999.0,          9,2,19920729,       0854,    27.4902,   128.2573,       1044,   960.0,   6.3258,  34.3205,2,-999.0000,9,   102.0,3,   30.20,2,    0.06,2,    2.28,2,     960,   6.2368