BOTTLE,20211124CCHSIORKP
EXPOCODE,SECT_ID,STNNBR,CASTNO,SAMPNO,BTLNBR,BTLNBR_FLAG_W,DATE,TIME,LATITUDE,LONGITUDE,DEPTH,CTDPRS,CTDTMP,CTDSAL,CTDSAL_FLAG_W,SALNTY,SALNTY_FLAG_W,CTDOXY,CTDOXY_FLAG_W,OXYGEN,OXYGEN_FLAG_W,SILCAT,SILCAT_FLAG_W,PHSPHT,PHSPHT_FLAG_W,CFC-11,CFC-11_FLAG_W,CFC113,CFC113_FLAG_W,REVTMP,CCL4,CCL4_FLAG_W,CTDRAW,NO2+NO3,NO2+NO3_FLAG_W,THETA
,,,,,,,,,,,METERS,DBAR,ITS-90,PSS-78,,PSS-78,,UMOL/KG,,UMOL/KG,,UMOL/KG,,UMOL/KG,,PMOL/KG,,PMOL/KG,,ITS-90,PMOL/KG,,DBAR,UMOL/KG,,DEG C
18DA90012_1,      AR07W,      14,          1,      73451,     -999.0,9,19900706,       1922,    59.4888,   -49.4447,       3399,     4.0,   4.1730,  34.0637,2,  34.0660,2,   -999.0,9,   343.9,2,    0.00,6,    0.18,6,-999.000,9,-999.000,9,-999.000,-999.000,9,       4,    1.99,6,   4.1727
18DA90012_1,      AR07W,      14,          1,      73450,     -999.0,9,19900706,       1922,    59.4888,   -49.4447,       3399,    48.0,   3.5232,  34.1678,2,  34.1636,2,   -999.0,9,   321.9,2,    3.07,6,    0.49,6,-999.000,9,-999.000,9,-999.000,-999.000,9,      48,    4.32,6,   3.5201
18DA90012_1,      AR07W,      14,          1,      73449,     -999.0,9,19900706,       1922,    59.4888,   -49.4447,       3399,    98.0,   3.0933,  34.6348,2,  34.6276,2,   -999.0,9,   299.6,2,    6.80,6,    0.92,6,-999.000,9,-999.000,9,-999.000,-999.000,9,      98,   10.75,6,   3.0872
18DA90012_1,      AR07W,      14,          1,      73448,     -999.0,9,19900706,       1922,    59.4888,   -49.4447,       3399,   200.0,   3.8431,  34.8679,2,  34.8947,2,   -999.0,9,   290.0,2,    8.00,6,    1.05,6,-999.000,9,-999.000,9,-999.000,-999.000,9,     200,   15.70,6,   3.8293
18DA90012_1,      AR07W,      14,          1,      73447,     -999.0,9,19900706,       1922,    59.4888,   -49.4447,       3399,   300.0,   3.4832,  34.8570,2,  34.8574,2,   -999.0,9,   296.5,2,    7.96,6,    1.02,6,-999.000,9,-999.000,9,-999.000,-999.000,9,     300,   15.24,6,   3.4631
18DA90012_1,      AR07W,      14,          1,      73446,     -999.0,9,19900706,       1922,    59.4888,   -49.4447,       3399,   400.0,   3.4032,  34.8571,2,  34.8566,2,   -999.0,9,   296.6,2,    8.47,6,    1.06,6,-999.000,9,-999.000,9,-999.000,-999.000,9,     400,   15.70,6,   3.3764
18DA90012_1,      AR07W,      14,          1,      73445,     -999.0,9,19900706,       1922,    59.4888,   -49.4447,       3399,   604.0,   3.2332,  34.8482,2,  34.8475,2,   -999.0,9,   295.9,2,    8.44,6,    1.07,6,-999.000,9,-999.000,9,   3.239,-999.000,9,     604,   15.76,6,   3.1926
18DA90012_1,      AR07W,      14,          1,      73444,     -999.0,9,19900706,       1922,    59.4888,   -49.4447,       3399,   806.0,   3.1233,  34.8424,2,  34.8430,2,   -999.0,9,   296.3,2,    8.41,6,    1.05,6,-999.000,9,-999.000,9,-999.000,-999.000,9,     806,   15.50,6,   3.0685
18DA90012_1,      AR07W,      14,          1,      73443,     -999.0,9,19900706,       1922,    59.4888,   -49.4447,       3399,  1005.0,   3.0633,  34.8405,2,  34.8399,2,   -999.0,9,   296.8,6,    8.94,6,    1.08,6,-999.000,9,-999.000,9,-999.000,-999.000,9,    1005,   16.26,6,   2.9939
18DA90012_1,      AR07W,      14,          1,      73442,     -999.0,9,19900706,       1922,    59.4888,   -49.4447,       3399,  1158.0,   3.0633,  34.8427,2,  34.8407,6,   -999.0,9,   297.5,2,    8.99,6,    1.06,6,-999.000,9,-999.000,9,-999.000,-999.000,9,    1158,   16.28,6,   2.9820
18DA90012_1,      AR07W,      14,          1,      73441,     -999.0,9,19900706,       1922,    59.4888,   -49.4447,       3399,  1360.0,   3.0433,  34.8438,2,  34.8430,2,   -999.0,9,   296.1,2,    9.04,6,    1.05,6,-999.000,9,-999.000,9,   3.039,-999.000,9,    1360,   16.47,6,   2.9459
18DA90012_1,      AR07W,      14,          1,      73440,     -999.0,9,19900706,       1922,    59.4888,   -49.4447,       3399,  1570.0,   3.0133,  34.8410,2,  34.8424,2,   -999.0,9,   296.6,2,    9.21,6,    1.08,6,-999.000,9,-999.000,9,-999.000,-999.000,9,    1570,   16.06,6,   2.8987
18DA90012_1,      AR07W,      14,          1,      73439,     -999.0,9,19900706,       1922,    59.4888,   -49.4447,       3399,  1774.0,   3.0433,  34.8512,2,  34.8523,2,   -999.0,9,   294.4,2,    9.12,6,    1.07,6,-999.000,9,-999.000,9,-999.000,-999.000,9,    1774,   15.83,6,   2.9106
18DA90012_1,      AR07W,      14,          1,      73438,     -999.0,9,19900706,       1922,    59.4888,   -49.4447,       3399,  1980.0,   3.2632,  34.9093,2,  34.9115,2,   -999.0,9,   280.8,2,   10.02,6,    1.05,6,-999.000,9,-999.000,9,-999.000,-999.000,9,    1980,   15.57,6,   3.1087
18DA90012_1,      AR07W,      14,          1,      73437,     -999.0,9,19900706,       1922,    59.4888,   -49.4447,       3399,  2184.0,   3.1432,  34.9167,2,  34.9170,2,   -999.0,9,   279.5,2,   10.52,6,    1.06,6,-999.000,9,-999.000,9,   3.145,-999.000,9,    2184,   15.44,6,   2.9714
18DA90012_1,      AR07W,      14,          1,      73436,     -999.0,9,19900706,       1922,    59.4888,   -49.4447,       3399,  2337.0,   3.0333,  34.9213,2,  34.9211,2,   -999.0,9,   278.9,2,   10.57,6,    1.05,6,-999.000,9,-999.000,9,-999.000,-999.000,9,    2337,   14.87,6,   2.8487
18DA90012_1,      AR07W,      14,          1,      73435,     -999.0,9,19900706,       1922,    59.4888,   -49.4447,       3399,  2491.0,   2.9133,  34.9238,2,  34.9229,2,   -999.0,9,   279.1,2,   11.70,6,    1.08,6,-999.000,9,-999.000,9,-999.000,-999.000,9,    2491,   15.70,6,   2.7159
18DA90012_1,      AR07W,      14,          1,      73434,     -999.0,9,19900706,       1922,    59.4888,   -49.4447,       3399,  2745.0,   2.6834,  34.9218,2,  34.9227,2,   -999.0,9,   279.7,2,   12.65,6,    1.08,6,-999.000,9,-999.000,9,-999.000,-999.000,9,    2745,   15.68,6,   2.4653
18DA90012_1,      AR07W,      14,          1,      73433,     -999.0,9,19900706,       1922,    59.4888,   -49.4447,       3399,  3047.0,   2.2635,  34.9029,2,  34.9148,2,   -999.0,9,   284.9,6,   12.79,6,    1.00,6,-999.000,9,-999.000,9,-999.000,-999.000,9,    3047,   15.84,6,   2.0241
18DA90012_1,      AR07W,      14,          1,      73432,     -999.0,9,19900706,       1922,    59.4888,   -49.4447,       3399,  3422.0,   1.5236,  34.8813,2,  34.8811,6,   -999.0,9,   295.9,2,    8.82,6,    0.90,6,-999.000,9,-999.000,9,-999.000,-999.000,9,    3422,   12.99,6,   1.2637
18DA90012_1,      AR07W,      15,          1,      73471,     -999.0,9,19900707,       0208,    59.0130,   -49.9533,       3474,     4.0,   4.2330,  34.3057,2,  34.3048,2,    332.9,4,   330.9,2,    0.37,6,    0.27,6,   4.840,2,   5.080,4,-999.000,  12.270,3,       4,    2.98,6,   4.2327
18DA90012_1,      AR07W,      15,          1,      73470,     -999.0,9,19900707,       0208,    59.0130,   -49.9533,       3474,    51.0,   3.8831,  34.5978,2,  34.5987,2,    311.5,4,   320.4,2,    4.01,6,    0.74,6,-999.000,9,-999.000,9,-999.000,-999.000,9,      51,    9.11,6,   3.8796
18DA90012_1,      AR07W,      15,          1,      73469,     -999.0,9,19900707,       0208,    59.0130,   -49.9533,       3474,   102.0,   3.2732,  34.7898,2,  34.7905,2,    277.9,4,   300.7,2,    7.70,6,    1.00,6,-999.000,9,-999.000,9,-999.000,-999.000,9,     102,   14.35,6,   3.2667
18DA90012_1,      AR07W,      15,          1,      73468,     -999.0,9,19900707,       0208,    59.0130,   -49.9533,       3474,   199.0,   3.0533,  34.8129,2,  34.8135,2,    284.0,4,   299.9,2,    8.20,6,    1.07,6,-999.000,9,-999.000,9,-999.000,-999.000,9,     199,   15.34,6,   3.0408
18DA90012_1,      AR07W,      15,          1,      73467,     -999.0,9,19900707,       0208,    59.0130,   -49.9533,       3474,   292.0,   2.9733,  34.8180,2,  34.8180,2,    284.0,4,   299.1,2,    7.77,6,    1.04,6,-999.000,9,-999.000,9,-999.000,-999.000,9,     292,   14.56,6,   2.9550
18DA90012_1,      AR07W,      15,          1,      73466,     -999.0,9,19900707,       0208,    59.0130,   -49.9533,       3474,   383.0,   2.9433,  34.8190,2,  34.8198,2,    281.8,4,   300.0,2,    8.50,6,    1.06,6,-999.000,9,-999.000,9,-999.000,-999.000,9,     383,   15.36,6,   2.9191
18DA90012_1,      AR07W,      15,          1,      73465,     -999.0,9,19900707,       0208,    59.0130,   -49.9533,       3474,   595.0,   2.9233,  34.8242,2,  34.8243,2,    284.9,4,   302.2,2,    8.60,6,    1.08,6,-999.000,9,-999.000,9,   2.926,-999.000,9,     595,   15.62,6,   2.8848
18DA90012_1,      AR07W,      15,          1,      73464,     -999.0,9,19900707,       0208,    59.0130,   -49.9533,       3474,   799.0,   2.9333,  34.8284,2,  34.8281,2,    284.4,4,   301.2,2,    8.97,6,    1.06,6,-999.000,9,-999.000,9,-999.000,-999.000,9,     799,   15.99,6,   2.8803
18DA90012_1,      AR07W,      15,          1,      73463,     -999.0,9,19900707,       0208,    59.0130,   -49.9533,       3474,   998.0,   2.9233,  34.8285,2,  34.8279,2,    284.0,4,   300.5,6,    8.86,6,    1.09,6,   3.150,2,   1.020,3,-999.000,   7.990,2,     998,   16.02,6,   2.8556
18DA90012_1,      AR07W,      15,          1,      73462,     -999.0,9,19900707,       0208,    59.0130,   -49.9533,       3474,  1205.0,   2.9233,  34.8287,2,  34.8296,6,    282.3,4,   300.4,2,    8.86,6,    1.08,6,-999.000,9,-999.000,9,-999.000,-999.000,9,    1205,   16.58,6,   2.8396
18DA90012_1,      AR07W,      15,          1,      73461,     -999.0,9,19900707,       0208,    59.0130,   -49.9533,       3474,  1411.0,   2.9233,  34.8289,2,  34.8263,2,    282.7,4,   283.2,2,    8.70,6,    1.07,6,-999.000,9,-999.000,9,   2.919,-999.000,9,    1411,   15.95,6,   2.8231
18DA90012_1,      AR07W,      15,          1,      73460,     -999.0,9,19900707,       0208,    59.0130,   -49.9533,       3474,  1590.0,   2.9233,  34.8300,2,  34.8277,2,    284.0,4,   300.3,2,    8.63,6,    1.10,6,-999.000,9,-999.000,9,-999.000,-999.000,9,    1590,   15.79,6,   2.8082
18DA90012_1,      AR07W,      15,          1,      73459,     -999.0,9,19900707,       0208,    59.0130,   -49.9533,       3474,  1793.0,   2.9333,  34.8302,2,  34.8296,2,    284.9,4,   299.9,2,    8.75,6,    1.09,6,-999.000,9,-999.000,9,-999.000,-999.000,9,    1793,   15.68,6,   2.8005
18DA90012_1,      AR07W,      15,          1,      73458,     -999.0,9,19900707,       0208,    59.0130,   -49.9533,       3474,  1996.0,   2.9633,  34.8354,2,  34.8338,2,    289.2,4,   298.9,2,    8.85,6,    1.07,6,   3.340,2,   0.750,2,-999.000,   7.950,2,    1996,   15.98,6,   2.8120
18DA90012_1,      AR07W,      15,          1,      73457,     -999.0,9,19900707,       0208,    59.0130,   -49.9533,       3474,  2204.0,   3.2632,  34.8968,2,  34.8945,2,    274.0,4,   283.9,2,   10.13,6,    1.12,6,-999.000,9,-999.000,9,   3.255,-999.000,9,    2204,   16.27,6,   3.0876
18DA90012_1,      AR07W,      15,          1,      73456,     -999.0,9,19900707,       0208,    59.0130,   -49.9533,       3474,  2360.0,   3.2832,  34.9213,2,  34.9209,2,    269.2,4,   278.7,2,   10.87,6,    1.11,6,-999.000,9,-999.000,9,-999.000,-999.000,9,    2360,   16.16,6,   3.0920
18DA90012_1,      AR07W,      15,          1,      73455,     -999.0,9,19900707,       0208,    59.0130,   -49.9533,       3474,  2510.0,   3.1432,  34.9209,2,  34.9219,2,    268.8,4,   278.8,2,   10.89,6,    1.09,6,   1.320,2,   1.250,3,-999.000,   3.570,2,    2510,   15.71,6,   2.9398
18DA90012_1,      AR07W,      15,          1,      73454,     -999.0,9,19900707,       0208,    59.0130,   -49.9533,       3474,  2766.0,   2.8933,  34.9218,2,  34.9221,2,    270.9,4,   281.0,2,   11.54,6,    1.09,6,-999.000,9,-999.000,9,-999.000,-999.000,9,    2766,   15.88,6,   2.6690
18DA90012_1,      AR07W,      15,          1,      73453,     -999.0,9,19900707,       0208,    59.0130,   -49.9533,       3474,  3019.0,   2.6134,  34.9168,2,  34.9164,2,    273.6,4,   282.3,6,   11.73,6,    1.07,6,   1.280,2,   0.980,2,-999.000,   3.400,2,    3019,   15.29,6,   2.3691
18DA90012_1,      AR07W,      15,          1,      73452,     -999.0,9,19900707,       0208,    59.0130,   -49.9533,       3474,  3503.0,   1.5536,  34.8805,2,  34.8784,6,    293.6,4,   295.0,2,    9.11,6,    0.97,6,   2.650,2,   0.990,2,-999.000,   5.660,2,    3503,   13.02,6,   1.2847
18DA90012_1,      AR07W,      16,          1,      73491,     -999.0,9,19900707,       0857,    58.5773,   -50.4765,       3532,     4.0,   4.1430,  34.2717,2,  34.2723,2,    371.6,4,   329.8,2,    0.15,6,    0.43,6,   4.720,2,   4.220,4,-999.000,  11.040,3,       4,    3.36,6,   4.1427
18DA90012_1,      AR07W,      16,          1,      73490,     -999.0,9,19900707,       0857,    58.5773,   -50.4765,       3532,    52.0,   3.6431,  34.3788,2,  34.3768,2,    341.1,4,   320.5,2,    1.68,6,    0.46,6,-999.000,9,-999.000,9,-999.000,-999.000,9,      52,    4.28,6,   3.6397
18DA90012_1,      AR07W,      16,          1,      73489,     -999.0,9,19900707,       0857,    58.5773,   -50.4765,       3532,   102.8,   3.3932,  34.7848,2,  34.7834,2,    311.9,4,   295.6,2,    7.21,6,    0.98,6,-999.000,9,-999.000,9,-999.000,-999.000,9,     103,   13.27,6,   3.3866
18DA90012_1,      AR07W,      16,          1,      73488,     -999.0,9,19900707,       0857,    58.5773,   -50.4765,       3532,   305.5,   3.2732,  34.8420,2,  34.8426,2,    308.8,4,   298.1,2,    8.77,6,    1.07,6,-999.000,9,-999.000,9,-999.000,-999.000,9,     306,   16.54,6,   3.2533
18DA90012_1,      AR07W,      16,          1,      73487,     -999.0,9,19900707,       0857,    58.5773,   -50.4765,       3532,   506.0,   3.1432,  34.8441,2,  34.8446,2,    308.8,4,   285.6,2,    8.36,6,    1.05,6,   3.660,2,   2.460,4,-999.000,   8.270,2,     506,   15.05,6,   3.1100
18DA90012_1,      AR07W,      16,          1,      73486,     -999.0,9,19900707,       0857,    58.5773,   -50.4765,       3532,   758.0,   2.9133,  34.8213,2,  34.8210,2,    305.3,4,   300.9,2,    8.00,6,    0.99,6,-999.000,9,-999.000,9,-999.000,-999.000,9,     758,   14.22,6,   2.8634
18DA90012_1,      AR07W,      16,          1,      73485,     -999.0,9,19900707,       0857,    58.5773,   -50.4765,       3532,  1001.0,   2.8933,  34.8215,2,  34.8231,2,    307.5,4,   301.2,2,    8.69,6,    1.06,6,-999.000,9,-999.000,9,   2.893,-999.000,9,    1001,   15.82,6,   2.8256
18DA90012_1,      AR07W,      16,          1,      73484,     -999.0,9,19900707,       0857,    58.5773,   -50.4765,       3532,  1210.0,   2.9033,  34.8247,2,  34.8253,2,    308.8,4,   300.7,2,    8.87,6,    1.08,6,-999.000,9,-999.000,9,-999.000,-999.000,9,    1210,   15.93,6,   2.8194
18DA90012_1,      AR07W,      16,          1,      73483,     -999.0,9,19900707,       0857,    58.5773,   -50.4765,       3532,  1419.0,   2.9033,  34.8249,2,  34.8267,2,    303.2,4,   300.8,6,    8.34,6,    1.04,6,-999.000,9,-999.000,9,-999.000,-999.000,9,    1419,   15.05,6,   2.8026
18DA90012_1,      AR07W,      16,          1,      73482,     -999.0,9,19900707,       0857,    58.5773,   -50.4765,       3532,  1623.0,   2.9133,  34.8301,2,  34.8271,6,    300.5,4,   300.7,2,    8.61,6,    1.06,6,-999.000,9,-999.000,9,-999.000,-999.000,9,    1623,   15.30,6,   2.7955
18DA90012_1,      AR07W,      16,          1,      73481,     -999.0,9,19900707,       0857,    58.5773,   -50.4765,       3532,  1826.0,   2.9333,  34.8292,2,  34.8304,2,    304.0,4,   299.7,2,    8.51,6,    1.06,6,-999.000,9,-999.000,9,   2.931,-999.000,9,    1826,   15.40,6,   2.7976
18DA90012_1,      AR07W,      16,          1,      73480,     -999.0,9,19900707,       0857,    58.5773,   -50.4765,       3532,  2024.0,   2.9733,  34.8351,2,  34.8347,2,    302.7,4,   299.0,2,    8.52,6,    1.07,6,   3.340,2,   0.730,2,-999.000,   7.800,2,    2024,   15.50,6,   2.8193
18DA90012_1,      AR07W,      16,          1,      73479,     -999.0,9,19900707,       0857,    58.5773,   -50.4765,       3532,  2272.0,   3.2832,  34.9130,2,  34.9140,2,    285.7,4,   280.7,2,    9.29,6,    1.13,6,-999.000,9,-999.000,9,-999.000,-999.000,9,    2272,   14.27,6,   3.1007
18DA90012_1,      AR07W,      16,          1,      73478,     -999.0,9,19900707,       0857,    58.5773,   -50.4765,       3532,  2524.0,   3.0933,  34.9199,2,  34.9217,2,    284.0,4,   279.6,2,    9.56,6,    1.04,6,   1.340,2,   1.380,3,-999.000,   3.370,2,    2524,   13.55,6,   2.8893
18DA90012_1,      AR07W,      16,          1,      73477,     -999.0,9,19900707,       0857,    58.5773,   -50.4765,       3532,  2777.0,   2.8633,  34.9179,2,  34.9396,2,    291.8,4,   281.1,2,   11.63,6,    1.12,6,-999.000,9,-999.000,9,   2.859,-999.000,9,    2777,   15.61,6,   2.6385
18DA90012_1,      AR07W,      16,          1,      73476,     -999.0,9,19900707,       0857,    58.5773,   -50.4765,       3532,  3037.0,   2.6034,  34.9168,2,  34.9170,2,    294.4,4,   282.3,2,   12.22,6,    1.09,6,   1.460,2,   0.660,2,-999.000,   3.470,2,    3037,   15.39,6,   2.3575
18DA90012_1,      AR07W,      16,          1,      73475,     -999.0,9,19900707,       0857,    58.5773,   -50.4765,       3532,  3245.0,   2.2635,  34.9026,2,  34.9024,2,   -999.0,9,   282.4,2,   11.84,6,    1.09,6,-999.000,9,-999.000,9,-999.000,-999.000,9,    3245,   14.92,6,   2.0038
18DA90012_1,      AR07W,      16,          1,      73474,     -999.0,9,19900707,       0857,    58.5773,   -50.4765,       3532,  3345.0,   2.0135,  34.8900,2,  34.8922,2,   -999.0,9,   290.7,2,    9.21,6,    0.94,6,-999.000,9,-999.000,9,-999.000,-999.000,9,    3345,   12.61,6,   1.7495
18DA90012_1,      AR07W,      16,          1,      73473,     -999.0,9,19900707,       0857,    58.5773,   -50.4765,       3532,  3441.0,   1.7236,  34.8853,2,  34.8888,2,   -999.0,9,   294.8,6,    9.79,6,    1.01,6,-999.000,9,-999.000,9,-999.000,-999.000,9,    3441,   14.36,6,   1.4568
18DA90012_1,      AR07W,      16,          1,      73472,     -999.0,9,19900707,       0857,    58.5773,   -50.4765,       3532,  3550.0,   1.4736,  34.8837,2,  34.8828,6,   -999.0,9,   297.0,2,    8.10,6,    0.91,6,   6.800,2,   5.530,4,-999.000,   5.870,2,    3550,   12.24,6,   1.2019