BOTTLE,20211124CCHSIORKP
EXPOCODE,SECT_ID,STNNBR,CASTNO,SAMPNO,BTLNBR,BTLNBR_FLAG_W,DATE,TIME,LATITUDE,LONGITUDE,DEPTH,CTDPRS,CTDTMP,CTDSAL,CTDSAL_FLAG_W,SALNTY,SALNTY_FLAG_W,CTDOXY,CTDOXY_FLAG_W,OXYGEN,OXYGEN_FLAG_W,SILCAT,SILCAT_FLAG_W,PHSPHT,PHSPHT_FLAG_W,CFC-11,CFC-11_FLAG_W,CFC113,CFC113_FLAG_W,REVTMP,CCL4,CCL4_FLAG_W,CTDRAW,NO2+NO3,NO2+NO3_FLAG_W,THETA
,,,,,,,,,,,METERS,DBAR,ITS-90,PSS-78,,PSS-78,,UMOL/KG,,UMOL/KG,,UMOL/KG,,UMOL/KG,,PMOL/KG,,PMOL/KG,,ITS-90,PMOL/KG,,DBAR,UMOL/KG,,DEG C
18DA90012_1,      AR07W,      17,          1,      73511,     -999.0,9,19900707,       1552,    58.1233,   -50.9300,       3571,     4.0,   4.4029,  34.2997,2,  34.2993,2,    424.2,4,   326.9,2,    0.25,6,    0.34,6,   4.930,2,   0.920,2,-999.000,  12.740,3,       4,    2.74,6,   4.4027
18DA90012_1,      AR07W,      17,          1,      73510,     -999.0,9,19900707,       1552,    58.1233,   -50.9300,       3571,    40.0,   3.8031,  34.3518,2,  34.3333,2,    397.7,4,   324.5,2,    0.66,6,    0.35,6,-999.000,9,-999.000,9,-999.000,-999.000,9,      40,    2.95,6,   3.8004
18DA90012_1,      AR07W,      17,          1,      73509,     -999.0,9,19900707,       1552,    58.1233,   -50.9300,       3571,    90.0,   3.1832,  34.7318,2,  34.7335,2,    385.4,4,   302.5,2,    7.71,6,    1.03,6,-999.000,9,-999.000,9,-999.000,-999.000,9,      90,   13.39,6,   3.1776
18DA90012_1,      AR07W,      17,          1,      73508,     -999.0,9,19900707,       1552,    58.1233,   -50.9300,       3571,   292.0,   3.0733,  34.8200,2,  34.8216,2,    380.1,4,   299.7,2,    8.16,6,    1.08,6,-999.000,9,-999.000,9,-999.000,-999.000,9,     292,   14.96,6,   3.0547
18DA90012_1,      AR07W,      17,          1,      73507,     -999.0,9,19900707,       1552,    58.1233,   -50.9300,       3571,   493.0,   2.9833,  34.8221,2,  34.8202,2,    390.1,4,   298.8,2,    8.48,6,    1.09,6,   3.650,2,   0.760,2,-999.000,   8.810,2,     493,   15.62,6,   2.9516
18DA90012_1,      AR07W,      17,          1,      73506,     -999.0,9,19900707,       1552,    58.1233,   -50.9300,       3571,   743.0,   2.9433,  34.8243,2,  34.8247,2,    390.6,4,   299.7,2,    8.42,6,    1.07,6,-999.000,9,-999.000,9,-999.000,-999.000,9,     743,   15.20,6,   2.8943
18DA90012_1,      AR07W,      17,          1,      73505,     -999.0,9,19900707,       1552,    58.1233,   -50.9300,       3571,  1001.0,   2.9433,  34.8285,2,  34.8275,2,    394.9,4,   299.6,2,    8.90,6,    1.13,6,-999.000,9,-999.000,9,   2.945,-999.000,9,    1001,   15.71,6,   2.8752
18DA90012_1,      AR07W,      17,          1,      73504,     -999.0,9,19900707,       1552,    58.1233,   -50.9300,       3571,  1183.0,   2.9333,  34.8287,2,  34.8277,2,    398.0,4,   298.7,2,    8.96,6,    1.11,6,-999.000,9,-999.000,9,-999.000,-999.000,9,    1183,   15.94,6,   2.8512
18DA90012_1,      AR07W,      17,          1,      73503,     -999.0,9,19900707,       1552,    58.1233,   -50.9300,       3571,  1384.0,   2.9233,  34.8279,2,  34.8285,2,    399.3,4,   299.0,6,    8.60,6,    1.13,6,-999.000,9,-999.000,9,-999.000,-999.000,9,    1384,   15.68,6,   2.8253
18DA90012_1,      AR07W,      17,          1,      73502,     -999.0,9,19900707,       1552,    58.1233,   -50.9300,       3571,  1590.0,   2.9333,  34.8290,2,  34.8282,6,    403.2,4,   298.9,2,    8.02,6,    1.06,6,-999.000,9,-999.000,9,-999.000,-999.000,9,    1590,   14.49,6,   2.8180
18DA90012_1,      AR07W,      17,          1,      73501,     -999.0,9,19900707,       1552,    58.1233,   -50.9300,       3571,  1786.0,   2.9633,  34.8322,2,  34.8326,2,   -999.0,9,   298.8,2,    8.97,6,    1.11,6,-999.000,9,-999.000,9,   2.955,-999.000,9,    1786,   15.62,6,   2.8307
18DA90012_1,      AR07W,      17,          1,      73500,     -999.0,9,19900707,       1552,    58.1233,   -50.9300,       3571,  2010.0,   3.0033,  34.8421,2,  34.8399,2,   -999.0,9,   297.3,2,    8.95,6,    1.14,6,   3.080,2,   0.670,2,-999.000,   7.720,2,    2010,   15.44,6,   2.8501
18DA90012_1,      AR07W,      17,          1,      73499,     -999.0,9,19900707,       1552,    58.1233,   -50.9300,       3571,  2230.0,   3.2832,  34.8969,2,  34.8993,2,   -999.0,9,   282.3,2,   10.19,6,    1.13,6,-999.000,9,-999.000,9,-999.000,-999.000,9,    2230,   15.85,6,   3.1048
18DA90012_1,      AR07W,      17,          1,      73498,     -999.0,9,19900707,       1552,    58.1233,   -50.9300,       3571,  2484.0,   3.1532,  34.9168,2,  34.9176,2,   -999.0,9,   278.7,2,   10.61,6,    1.11,6,   1.270,2,   1.860,4,-999.000,   3.390,2,    2484,   15.62,6,   2.9522
18DA90012_1,      AR07W,      17,          1,      73497,     -999.0,9,19900707,       1552,    58.1233,   -50.9300,       3571,  2739.0,   2.9433,  34.9217,2,  34.9197,2,   -999.0,9,   280.2,2,   10.56,6,    1.11,6,-999.000,9,-999.000,9,   2.943,-999.000,9,    2739,   14.73,6,   2.7207
18DA90012_1,      AR07W,      17,          1,      73496,     -999.0,9,19900707,       1552,    58.1233,   -50.9300,       3571,  2986.0,   2.6834,  34.9186,2,  34.9179,2,   -999.0,9,   281.1,2,   11.95,6,    1.04,6,   2.820,2,   2.320,4,-999.000,   3.580,2,    2986,   14.95,6,   2.4410
18DA90012_1,      AR07W,      17,          1,      73495,     -999.0,9,19900707,       1552,    58.1233,   -50.9300,       3571,  3190.0,   2.4234,  34.9144,2,  34.9138,2,   -999.0,9,   281.7,2,   12.59,6,    1.00,6,-999.000,9,-999.000,9,-999.000,-999.000,9,    3190,   14.11,6,   2.1657
18DA90012_1,      AR07W,      17,          1,      73494,     -999.0,9,19900707,       1552,    58.1233,   -50.9300,       3571,  3300.0,   2.3034,  34.9078,2,  34.9081,2,   -999.0,9,   283.1,2,   13.81,6,    1.03,6,-999.000,9,-999.000,9,-999.000,-999.000,9,    3300,   15.60,6,   2.0371
18DA90012_1,      AR07W,      17,          1,      73493,     -999.0,9,19900707,       1552,    58.1233,   -50.9300,       3571,  3455.0,   1.9035,  34.8874,2,  34.8890,2,   -999.0,9,   291.0,6,   10.52,6,    0.99,6,-999.000,9,-999.000,9,-999.000,-999.000,9,    3455,   14.69,6,   1.6308
18DA90012_1,      AR07W,      17,          1,      73492,     -999.0,9,19900707,       1552,    58.1233,   -50.9300,       3571,  3599.0,   1.4936,  34.8819,2,  34.8804,6,   -999.0,9,   295.2,2,    9.46,6,    0.96,6,   2.690,2,   0.660,2,-999.000,   6.210,2,    3599,   13.97,6,   1.2163
18DA90012_1,      AR07W,      18,          1,      73531,     -999.0,9,19900707,       2200,    57.6892,   -51.4130,       3494,     5.0,   4.9128,  34.4987,2,  34.4981,2,    326.5,2,   330.9,2,    0.72,6,    0.37,6,-999.000,9,-999.000,9,-999.000,-999.000,9,       5,    4.32,6,   4.9124
18DA90012_1,      AR07W,      18,          1,      73530,     -999.0,9,19900707,       2200,    57.6892,   -51.4130,       3494,    44.0,   4.1230,  34.6028,2,  34.6195,2,    300.1,2,   321.7,2,    7.52,6,    0.84,6,   5.170,2,   5.120,4,-999.000,  11.910,3,      44,   10.35,6,   4.1200
18DA90012_1,      AR07W,      18,          1,      73529,     -999.0,9,19900707,       2200,    57.6892,   -51.4130,       3494,    94.0,   3.2032,  34.7508,2,  34.7494,2,    274.7,2,   314.1,2,    8.64,6,    1.07,6,-999.000,9,-999.000,9,-999.000,-999.000,9,      94,   13.60,6,   3.1973
18DA90012_1,      AR07W,      18,          1,      73528,     -999.0,9,19900707,       2200,    57.6892,   -51.4130,       3494,   296.0,   2.9933,  34.8110,2,  34.8108,2,    270.6,2,   302.2,2,    9.12,6,    1.12,6,-999.000,9,-999.000,9,-999.000,-999.000,9,     296,   15.79,6,   2.9747
18DA90012_1,      AR07W,      18,          1,      73527,     -999.0,9,19900707,       2200,    57.6892,   -51.4130,       3494,   500.0,   2.9933,  34.8261,2,  34.8261,2,    266.5,2,   298.7,2,    9.05,6,    1.10,6,-999.000,9,-999.000,9,-999.000,-999.000,9,     500,   15.54,6,   2.9611
18DA90012_1,      AR07W,      18,          1,      73526,     -999.0,9,19900707,       2200,    57.6892,   -51.4130,       3494,   749.0,   2.9433,  34.8283,2,  34.8259,2,    267.4,2,  -999.0,9,    9.23,6,    1.13,6,-999.000,9,-999.000,9,-999.000,-999.000,9,     749,   15.68,6,   2.8938
18DA90012_1,      AR07W,      18,          1,      73525,     -999.0,9,19900707,       2200,    57.6892,   -51.4130,       3494,  1003.0,   2.9233,  34.8255,2,  34.8237,2,    268.4,2,   300.5,2,    9.22,6,    1.13,6,   3.820,2,   2.820,4,   2.919,   9.330,2,    1003,   15.49,6,   2.8552
18DA90012_1,      AR07W,      18,          1,      73524,     -999.0,9,19900707,       2200,    57.6892,   -51.4130,       3494,  1182.0,   2.9033,  34.8247,2,  34.8241,2,    267.6,2,  -999.0,9,    8.79,6,    1.09,6,-999.000,9,-999.000,9,-999.000,-999.000,9,    1182,   14.88,6,   2.8216
18DA90012_1,      AR07W,      18,          1,      73523,     -999.0,9,19900707,       2200,    57.6892,   -51.4130,       3494,  1384.0,   2.9133,  34.8269,2,  34.8263,2,    267.4,2,   300.3,6,    9.34,6,    1.11,6,-999.000,9,-999.000,9,-999.000,-999.000,9,    1384,   15.67,6,   2.8154
18DA90012_1,      AR07W,      18,          1,      73522,     -999.0,9,19900707,       2200,    57.6892,   -51.4130,       3494,  1590.0,   2.9333,  34.8280,2,  34.8296,2,    267.3,2,  -999.0,9,    9.42,6,    1.08,6,-999.000,9,-999.000,9,-999.000,-999.000,9,    1590,   15.68,6,   2.8180
18DA90012_1,      AR07W,      18,          1,      73521,     -999.0,9,19900707,       2200,    57.6892,   -51.4130,       3494,  1794.0,   2.9233,  34.8282,2,  34.8275,2,    269.7,2,  -999.0,9,    9.00,6,    0.90,6,   3.730,2,   2.220,4,   2.927,   8.890,2,    1794,   14.91,6,   2.7906
18DA90012_1,      AR07W,      18,          1,      73520,     -999.0,9,19900707,       2200,    57.6892,   -51.4130,       3494,  1980.0,   2.9933,  34.8403,2,  34.8381,2,    269.0,2,   297.5,2,    9.19,6,    1.08,6,   3.970,2,   1.850,4,-999.000,   8.130,2,    1980,   15.22,6,   2.8430
18DA90012_1,      AR07W,      18,          1,      73519,     -999.0,9,19900707,       2200,    57.6892,   -51.4130,       3494,  2228.0,   3.2732,  34.9079,2,  34.9087,2,    253.4,2,   281.0,2,   10.41,6,    1.09,6,-999.000,9,-999.000,9,-999.000,-999.000,9,    2228,   15.44,6,   3.0951
18DA90012_1,      AR07W,      18,          1,      73518,     -999.0,9,19900707,       2200,    57.6892,   -51.4130,       3494,  2483.0,   3.1432,  34.9218,2,  34.9221,2,    253.5,2,   277.9,2,   11.58,6,    1.10,6,-999.000,9,-999.000,9,-999.000,-999.000,9,    2483,   15.98,6,   2.9424
18DA90012_1,      AR07W,      18,          1,      73517,     -999.0,9,19900707,       2200,    57.6892,   -51.4130,       3494,  2737.0,   2.9233,  34.9247,2,  34.9260,2,    256.2,2,  -999.0,9,   11.48,6,    1.07,6,-999.000,9,-999.000,9,   2.928,-999.000,9,    2737,   14.82,6,   2.7013
18DA90012_1,      AR07W,      18,          1,      73516,     -999.0,9,19900707,       2200,    57.6892,   -51.4130,       3494,  2993.0,   2.6634,  34.9187,2,  34.9174,2,    260.6,2,  -999.0,9,   12.38,6,    1.10,6,   1.350,2,   1.540,4,-999.000,   3.560,2,    2993,   15.29,6,   2.4207
18DA90012_1,      AR07W,      18,          1,      73515,     -999.0,9,19900707,       2200,    57.6892,   -51.4130,       3494,  3240.0,   2.2435,  34.9006,2,  34.9008,2,    267.6,2,   287.3,2,   11.61,6,    1.06,6,-999.000,9,-999.000,9,-999.000,-999.000,9,    3240,   14.43,6,   1.9848
18DA90012_1,      AR07W,      18,          1,      73514,     -999.0,9,19900707,       2200,    57.6892,   -51.4130,       3494,  3343.0,   1.9835,  34.8920,2,  34.8912,2,    273.8,2,  -999.0,9,    9.87,6,    0.98,6,-999.000,9,-999.000,9,-999.000,-999.000,9,    3343,   12.94,6,   1.7204
18DA90012_1,      AR07W,      18,          1,      73513,     -999.0,9,19900707,       2200,    57.6892,   -51.4130,       3494,  3445.0,   1.7236,  34.8833,2,  34.8825,2,    275.7,2,   293.6,6,   10.04,6,    1.05,6,-999.000,9,-999.000,9,-999.000,-999.000,9,    3445,   14.00,6,   1.4564
18DA90012_1,      AR07W,      18,          1,      73512,     -999.0,9,19900707,       2200,    57.6892,   -51.4130,       3494,  3520.0,   1.5636,  34.8806,2,  34.8782,6,    276.1,2,   295.1,2,   10.23,6,    1.04,6,   2.380,2,   2.000,4,-999.000,   5.890,2,    3520,   14.16,6,   1.2927
18DA90012_1,      AR07W,      19,          1,      73551,     -999.0,9,19900708,       0414,    57.2122,   -51.8198,       3545,     4.0,   4.9728,  34.4177,2,  34.4204,2,    337.6,2,   335.9,2,    0.75,6,    0.42,6,   7.010,2,   4.180,4,-999.000,  13.140,3,       4,    5.41,6,   4.9725
18DA90012_1,      AR07W,      19,          1,      73550,     -999.0,9,19900708,       0414,    57.2122,   -51.8198,       3545,    46.0,   3.5432,  34.6198,2,  34.6187,2,    292.5,2,   319.5,2,    5.97,6,    0.85,6,-999.000,9,-999.000,9,-999.000,-999.000,9,      46,   10.05,6,   3.5402
18DA90012_1,      AR07W,      19,          1,      73549,     -999.0,9,19900708,       0414,    57.2122,   -51.8198,       3545,    96.0,   3.5132,  34.8018,2,  34.8033,2,    273.2,2,   298.0,2,    7.92,6,    1.07,6,-999.000,9,-999.000,9,-999.000,-999.000,9,      96,   14.88,6,   3.5069
18DA90012_1,      AR07W,      19,          1,      73548,     -999.0,9,19900708,       0414,    57.2122,   -51.8198,       3545,   296.0,   3.0373,  34.8200,2,  34.8212,2,    269.5,2,   299.3,2,    8.54,6,    1.12,6,-999.000,9,-999.000,9,-999.000,-999.000,9,     296,   15.91,6,   3.0186
18DA90012_1,      AR07W,      19,          1,      73547,     -999.0,9,19900708,       0414,    57.2122,   -51.8198,       3545,   498.0,   2.9833,  34.8261,2,  34.8275,2,    266.7,2,   298.7,2,    8.27,6,    1.10,6,   3.530,2,   1.660,4,-999.000,   7.630,2,     498,   15.41,6,   2.9512
18DA90012_1,      AR07W,      19,          1,      73546,     -999.0,9,19900708,       0414,    57.2122,   -51.8198,       3545,   752.0,   2.9333,  34.8263,2,  34.8283,2,    267.2,2,  -999.0,9,    8.50,6,    1.09,6,-999.000,9,-999.000,9,-999.000,-999.000,9,     752,   15.61,6,   2.8837
18DA90012_1,      AR07W,      19,          1,      73545,     -999.0,9,19900708,       0414,    57.2122,   -51.8198,       3545,  1004.0,   2.9133,  34.8255,2,  34.8275,2,    272.1,2,   300.6,2,    8.61,6,    1.12,6,-999.000,9,-999.000,9,   2.911,-999.000,9,    1004,   15.56,6,   2.8452
18DA90012_1,      AR07W,      19,          1,      73544,     -999.0,9,19900708,       0414,    57.2122,   -51.8198,       3545,  1209.0,   2.9033,  34.8267,2,  34.8273,2,    271.9,2,  -999.0,9,    8.79,6,    1.07,6,-999.000,9,-999.000,9,-999.000,-999.000,9,    1209,   15.86,6,   2.8195
18DA90012_1,      AR07W,      19,          1,      73543,     -999.0,9,19900708,       0414,    57.2122,   -51.8198,       3545,  1412.0,   2.9333,  34.8299,2,  34.8334,2,    270.0,2,   300.2,2,    8.69,6,    1.06,6,-999.000,9,-999.000,9,-999.000,-999.000,9,    1412,   15.54,6,   2.8329
18DA90012_1,      AR07W,      19,          1,      73542,     -999.0,9,19900708,       0414,    57.2122,   -51.8198,       3545,  1616.0,   2.9433,  34.8311,2,  34.8334,6,    270.2,2,  -999.0,9,    8.75,6,    1.05,6,-999.000,9,-999.000,9,-999.000,-999.000,9,    1616,   15.66,6,   2.8257
18DA90012_1,      AR07W,      19,          1,      73541,     -999.0,9,19900708,       0414,    57.2122,   -51.8198,       3545,  1820.0,   2.9633,  34.8332,2,  34.8346,2,    269.2,2,  -999.0,9,    9.08,6,    1.07,6,-999.000,9,-999.000,9,   2.965,-999.000,9,    1820,   15.91,6,   2.8277
18DA90012_1,      AR07W,      19,          1,      73540,     -999.0,9,19900708,       0414,    57.2122,   -51.8198,       3545,  2022.0,   3.0133,  34.8451,2,  34.8456,2,    268.1,2,   297.8,2,    9.26,6,    1.10,6,   3.070,2,   0.800,2,-999.000,   6.540,2,    2022,   15.80,6,   2.8588
18DA90012_1,      AR07W,      19,          1,      73539,     -999.0,9,19900708,       0414,    57.2122,   -51.8198,       3545,  2268.0,   3.2932,  34.9160,2,  34.9166,2,    255.1,2,   280.0,2,   10.56,6,    1.12,6,-999.000,9,-999.000,9,-999.000,-999.000,9,    2268,   15.83,6,   3.1109
18DA90012_1,      AR07W,      19,          1,      73538,     -999.0,9,19900708,       0414,    57.2122,   -51.8198,       3545,  2519.0,   3.1332,  34.9219,2,  34.9244,2,    256.5,2,   279.5,2,   11.20,6,    1.10,6,   1.230,2,   0.840,2,-999.000,   3.080,2,    2519,   15.87,6,   2.9291
18DA90012_1,      AR07W,      19,          1,      73537,     -999.0,9,19900708,       0414,    57.2122,   -51.8198,       3545,  2776.0,   2.9133,  34.9209,2,  34.9225,2,    259.2,2,  -999.0,9,   11.59,6,    1.13,6,-999.000,9,-999.000,9,   2.918,-999.000,9,    2776,   15.99,6,   2.6876
18DA90012_1,      AR07W,      19,          1,      73536,     -999.0,9,19900708,       0414,    57.2122,   -51.8198,       3545,  3032.0,   2.6334,  34.9138,2,  34.9142,2,    265.0,2,  -999.0,9,   12.73,6,    1.08,6,-999.000,9,-999.000,9,-999.000,-999.000,9,    3032,   15.33,6,   2.3874
18DA90012_1,      AR07W,      19,          1,      73535,     -999.0,9,19900708,       0414,    57.2122,   -51.8198,       3545,  3235.0,   2.3134,  34.9046,2,  34.9050,2,    269.6,2,   285.3,2,   13.12,6,    1.08,6,   1.530,2,   1.210,3,-999.000,   3.540,2,    3235,   15.07,6,   2.0537
18DA90012_1,      AR07W,      19,          1,      73534,     -999.0,9,19900708,       0414,    57.2122,   -51.8198,       3545,  3340.0,   2.1135,  34.8949,2,  34.8945,2,    274.0,2,  -999.0,9,   11.89,6,    1.05,6,-999.000,9,-999.000,9,-999.000,-999.000,9,    3340,   14.65,6,   1.8476
18DA90012_1,      AR07W,      19,          1,      73533,     -999.0,9,19900708,       0414,    57.2122,   -51.8198,       3545,  3446.0,   1.7736,  34.8853,2,  34.8845,2,    277.2,2,   292.5,6,   10.59,6,    0.99,6,-999.000,9,-999.000,9,-999.000,-999.000,9,    3446,   14.05,6,   1.5050
18DA90012_1,      AR07W,      19,          1,      73532,     -999.0,9,19900708,       0414,    57.2122,   -51.8198,       3545,  3570.0,   1.6036,  34.8838,2,  34.8817,6,    280.5,2,   294.6,2,   10.81,6,    1.00,6,   2.410,2,   1.130,3,-999.000,   5.230,2,    3570,   14.09,6,   1.3265