BOTTLE,20211124CCHSIORKP
EXPOCODE,SECT_ID,STNNBR,CASTNO,SAMPNO,BTLNBR,BTLNBR_FLAG_W,DATE,TIME,LATITUDE,LONGITUDE,DEPTH,CTDPRS,CTDTMP,CTDSAL,CTDSAL_FLAG_W,SALNTY,SALNTY_FLAG_W,CTDOXY,CTDOXY_FLAG_W,OXYGEN,OXYGEN_FLAG_W,SILCAT,SILCAT_FLAG_W,PHSPHT,PHSPHT_FLAG_W,CFC-11,CFC-11_FLAG_W,CFC113,CFC113_FLAG_W,REVTMP,CCL4,CCL4_FLAG_W,CTDRAW,NO2+NO3,NO2+NO3_FLAG_W,THETA
,,,,,,,,,,,METERS,DBAR,ITS-90,PSS-78,,PSS-78,,UMOL/KG,,UMOL/KG,,UMOL/KG,,UMOL/KG,,PMOL/KG,,PMOL/KG,,ITS-90,PMOL/KG,,DBAR,UMOL/KG,,DEG C
18DA90012_1,      AR07W,       4,          1,      73280,     -999.0,9,19900703,       2003,    56.6960,   -51.0747,       3594,     5.0,   4.8228,  34.3657,2,  34.3668,2,    353.8,2,   345.0,3,    0.00,6,    0.31,6,-999.000,9,-999.000,9,-999.000,-999.000,9,       5,    3.10,6,   4.8225
18DA90012_1,      AR07W,       4,          1,      73279,     -999.0,9,19900703,       2003,    56.6960,   -51.0747,       3594,    50.0,   3.6731,  34.6028,2,  34.5816,2,    312.9,2,   335.1,3,    4.06,6,    0.70,6,-999.000,9,-999.000,9,-999.000,-999.000,9,      50,    7.60,6,   3.6698
18DA90012_1,      AR07W,       4,          1,      73278,     -999.0,9,19900703,       2003,    56.6960,   -51.0747,       3594,   100.0,   3.1632,  34.7658,2,  34.7718,2,    290.8,2,   315.7,3,    7.76,6,    1.04,6,-999.000,9,-999.000,9,-999.000,-999.000,9,     100,   14.71,6,   3.1570
18DA90012_1,      AR07W,       4,          1,      73277,     -999.0,9,19900703,       2003,    56.6960,   -51.0747,       3594,   200.0,   3.1532,  34.8219,2,  34.8184,2,    284.0,2,   312.4,3,    8.17,6,    1.06,6,-999.000,9,-999.000,9,-999.000,-999.000,9,     200,   15.60,6,   3.1406
18DA90012_1,      AR07W,       4,          1,      73276,     -999.0,9,19900703,       2003,    56.6960,   -51.0747,       3594,   400.0,   3.0333,  34.8281,2,  34.8255,2,    282.2,2,   311.9,3,    8.44,6,    1.08,6,-999.000,9,-999.000,9,-999.000,-999.000,9,     400,   15.74,6,   3.0077
18DA90012_1,      AR07W,       4,          1,      73275,     -999.0,9,19900703,       2003,    56.6960,   -51.0747,       3594,   600.0,   2.9833,  34.8262,2,  34.8267,2,    280.5,2,   313.8,3,    8.55,6,    1.10,6,-999.000,9,-999.000,9,-999.000,-999.000,9,     600,   15.98,6,   2.9442
18DA90012_1,      AR07W,       4,          1,      73274,     -999.0,9,19900703,       2003,    56.6960,   -51.0747,       3594,   774.0,   2.9733,  34.8304,2,  34.8281,2,    280.8,2,   312.7,3,    8.75,6,    1.22,6,-999.000,9,-999.000,9,   2.975,-999.000,9,     774,   15.97,6,   2.9218
18DA90012_1,      AR07W,       4,          1,      73273,     -999.0,9,19900703,       2003,    56.6960,   -51.0747,       3594,   980.0,   2.9633,  34.8305,2,  34.8373,2,    281.2,2,   313.1,3,    8.79,6,    1.11,6,-999.000,9,-999.000,9,-999.000,-999.000,9,     980,   15.80,6,   2.8966
18DA90012_1,      AR07W,       4,          1,      73272,     -999.0,9,19900703,       2003,    56.6960,   -51.0747,       3594,  1240.0,   2.9533,  34.8307,2,  34.8340,2,    282.6,2,   312.5,6,    8.88,6,    1.11,6,-999.000,9,-999.000,9,-999.000,-999.000,9,    1240,   15.89,6,   2.8665
18DA90012_1,      AR07W,       4,          1,      73271,     -999.0,9,19900703,       2003,    56.6960,   -51.0747,       3594,  1490.0,   2.9533,  34.8319,2,  34.8345,6,    282.2,2,   311.9,3,    8.94,6,    1.12,6,-999.000,9,-999.000,9,-999.000,-999.000,9,    1490,   15.92,6,   2.8462
18DA90012_1,      AR07W,       4,          1,      73270,     -999.0,9,19900703,       2003,    56.6960,   -51.0747,       3594,  1740.0,   2.9533,  34.8322,2,  34.8320,2,    281.4,2,   312.5,3,    8.90,6,    1.12,6,-999.000,9,-999.000,9,   2.958,-999.000,9,    1740,   15.99,6,   2.8249
18DA90012_1,      AR07W,       4,          1,      73269,     -999.0,9,19900703,       2003,    56.6960,   -51.0747,       3594,  1992.0,   3.0233,  34.8454,2,-999.0000,9,    281.9,2,  -999.0,9, -999.00,9, -999.00,9,-999.000,9,-999.000,9,-999.000,-999.000,9,    1992, -999.00,9,   2.8714
18DA90012_1,      AR07W,       4,          1,      73268,     -999.0,9,19900703,       2003,    56.6960,   -51.0747,       3594,  2217.0,   3.2832,  34.9078,2,  34.9093,2,    267.1,2,   293.7,3,   10.16,6,    1.12,6,-999.000,9,-999.000,9,-999.000,-999.000,9,    2217,   16.21,6,   3.1060
18DA90012_1,      AR07W,       4,          1,      73267,     -999.0,9,19900703,       2003,    56.6960,   -51.0747,       3594,  2480.0,   3.1233,  34.9168,2,  34.9174,2,    270.3,2,   292.0,3,   10.74,6,    1.53,6,-999.000,9,-999.000,9,-999.000,-999.000,9,    2480,   15.99,6,   2.9231
18DA90012_1,      AR07W,       4,          1,      73266,     -999.0,9,19900703,       2003,    56.6960,   -51.0747,       3594,  2730.0,   2.9533,  34.9227,2,  34.9242,2,    271.6,2,   291.6,3,   11.72,6,    1.12,6,-999.000,9,-999.000,9,   2.961,-999.000,9,    2730,   15.92,6,   2.7314
18DA90012_1,      AR07W,       4,          1,      73265,     -999.0,9,19900703,       2003,    56.6960,   -51.0747,       3594,  2983.0,   2.7034,  34.9206,2,  34.9207,2,    274.3,2,   293.1,3,   12.25,6,    1.12,6,-999.000,9,-999.000,9,-999.000,-999.000,9,    2983,   15.78,6,   2.4608
18DA90012_1,      AR07W,       4,          1,      73264,     -999.0,9,19900703,       2003,    56.6960,   -51.0747,       3594,  3190.0,   2.4134,  34.9064,2,  34.9087,2,    279.9,2,   296.6,3,   12.58,6,    1.09,6,-999.000,9,-999.000,9,-999.000,-999.000,9,    3190,   15.56,6,   2.1560
18DA90012_1,      AR07W,       4,          1,      73263,     -999.0,9,19900703,       2003,    56.6960,   -51.0747,       3594,  3395.0,   2.0035,  34.8882,2,  34.8926,2,    285.6,2,   306.5,3,   10.76,6,    1.04,6,-999.000,9,-999.000,9,-999.000,-999.000,9,    3395,   14.72,6,   1.7346
18DA90012_1,      AR07W,       4,          1,      73262,     -999.0,9,19900703,       2003,    56.6960,   -51.0747,       3594,  3600.0,   1.5336,  34.8809,2,  34.8810,2,    290.3,2,   308.4,6,    9.76,6,    1.00,6,-999.000,9,-999.000,9,-999.000,-999.000,9,    3600,   13.81,6,   1.2552
18DA90012_1,      AR07W,       4,          1,      73261,     -999.0,9,19900703,       2003,    56.6960,   -51.0747,       3594,  3637.0,   1.5436,  34.8810,2,  34.8809,6,    292.1,2,   307.9,3,    9.42,6,    1.01,6,-999.000,9,-999.000,9,-999.000,-999.000,9,    3637,   14.15,6,   1.2611
18DA90012_1,      AR07W,       5,          1,      73300,     -999.0,9,19900704,       0223,    57.2152,   -51.8288,       3545,     5.0,   4.9928,  34.5687,2,  34.5741,2,    376.3,2,   366.0,3,    0.00,6,    0.28,6,-999.000,9,-999.000,9,-999.000,-999.000,9,       5,    5.70,6,   4.9924
18DA90012_1,      AR07W,       5,          1,      73299,     -999.0,9,19900704,       0223,    57.2152,   -51.8288,       3545,    41.0,   4.0930,  34.5998,2,  34.6009,2,    328.5,2,   343.0,3,    5.01,6,    0.70,6,-999.000,9,-999.000,9,-999.000,-999.000,9,      41,    9.64,6,   4.0902
18DA90012_1,      AR07W,       5,          1,      73298,     -999.0,9,19900704,       0223,    57.2152,   -51.8288,       3545,    91.0,   3.1932,  34.7528,2,  34.7539,2,    292.4,2,   327.1,3,    8.28,6,    0.99,6,-999.000,9,-999.000,9,-999.000,-999.000,9,      91,   14.49,6,   3.1875
18DA90012_1,      AR07W,       5,          1,      73297,     -999.0,9,19900704,       0223,    57.2152,   -51.8288,       3545,   188.0,   2.8933,  34.7989,2,  34.7982,2,    280.4,2,   318.3,3,    8.51,6,    1.06,6,-999.000,9,-999.000,9,-999.000,-999.000,9,     188,   15.94,6,   2.8818
18DA90012_1,      AR07W,       5,          1,      73296,     -999.0,9,19900704,       0223,    57.2152,   -51.8288,       3545,   386.0,   2.8933,  34.8180,2,  34.8176,2,    281.3,2,   316.6,3,    8.65,6,    1.08,6,-999.000,9,-999.000,9,-999.000,-999.000,9,     386,   16.12,6,   2.8691
18DA90012_1,      AR07W,       5,          1,      73295,     -999.0,9,19900704,       0223,    57.2152,   -51.8288,       3545,   587.0,   2.8933,  34.8212,2,  34.8218,2,    276.0,2,   315.8,3,    8.85,6,    1.09,6,-999.000,9,-999.000,9,-999.000,-999.000,9,     587,   16.14,6,   2.8555
18DA90012_1,      AR07W,       5,          1,      73294,     -999.0,9,19900704,       0223,    57.2152,   -51.8288,       3545,   790.0,   2.8933,  34.8234,2,  34.8228,2,    280.7,2,   316.3,3,    8.86,6,    1.08,6,-999.000,9,-999.000,9,   2.899,-999.000,9,     790,   15.86,6,   2.8412
18DA90012_1,      AR07W,       5,          1,      73293,     -999.0,9,19900704,       0223,    57.2152,   -51.8288,       3545,   989.0,   2.8933,  34.8225,2,  34.8226,2,    280.7,2,   303.9,3,    8.75,6,    1.10,6,-999.000,9,-999.000,9,-999.000,-999.000,9,     989,   15.86,6,   2.8265
18DA90012_1,      AR07W,       5,          1,      73292,     -999.0,9,19900704,       0223,    57.2152,   -51.8288,       3545,  1230.0,   2.8933,  34.8217,2,  34.8226,2,    283.4,2,   317.6,6,    8.89,6,    1.11,6,-999.000,9,-999.000,9,-999.000,-999.000,9,    1230,   16.18,6,   2.8079
18DA90012_1,      AR07W,       5,          1,      73291,     -999.0,9,19900704,       0223,    57.2152,   -51.8288,       3545,  1487.0,   2.8933,  34.8239,2,  34.8244,6,    284.3,2,   318.6,3,    8.84,6,    1.09,6,-999.000,9,-999.000,9,-999.000,-999.000,9,    1487,   16.18,6,   2.7871
18DA90012_1,      AR07W,       5,          1,      73290,     -999.0,9,19900704,       0223,    57.2152,   -51.8288,       3545,  1746.0,   2.9133,  34.8252,2,  34.8249,2,    283.1,2,   313.7,3,    8.88,6,    1.11,6,-999.000,9,-999.000,9,   2.910,-999.000,9,    1746,   15.85,6,   2.7849
18DA90012_1,      AR07W,       5,          1,      73289,     -999.0,9,19900704,       0223,    57.2152,   -51.8288,       3545,  2001.0,   2.9533,  34.8310,2,  34.8308,2,    283.6,2,   315.5,3,    9.01,6,    1.09,6,-999.000,9,-999.000,9,-999.000,-999.000,9,    2001,   15.88,6,   2.8017
18DA90012_1,      AR07W,       5,          1,      73288,     -999.0,9,19900704,       0223,    57.2152,   -51.8288,       3545,  2250.0,   3.1332,  34.8699,2,-999.0000,9,    277.1,2,  -999.0,9, -999.00,9, -999.00,9,-999.000,9,-999.000,9,-999.000,-999.000,9,    2250, -999.00,9,   2.9555
18DA90012_1,      AR07W,       5,          1,      73287,     -999.0,9,19900704,       0223,    57.2152,   -51.8288,       3545,  2470.0,   3.2732,  34.9187,2,  34.9191,2,    269.3,2,   294.4,3,   11.00,6,    1.11,6,-999.000,9,-999.000,9,-999.000,-999.000,9,    2470,   16.22,6,   3.0714
18DA90012_1,      AR07W,       5,          1,      73286,     -999.0,9,19900704,       0223,    57.2152,   -51.8288,       3545,  2720.0,   3.0433,  34.9207,2,  34.9227,2,    271.1,2,   295.4,3,   11.39,6,    1.11,6,-999.000,9,-999.000,9,   3.041,-999.000,9,    2720,   16.04,6,   2.8206
18DA90012_1,      AR07W,       5,          1,      73285,     -999.0,9,19900704,       0223,    57.2152,   -51.8288,       3545,  2980.0,   2.7933,  34.9216,2,  34.9211,2,    273.8,2,   294.2,3,   12.02,6,    1.09,6,-999.000,9,-999.000,9,-999.000,-999.000,9,    2980,   15.86,6,   2.5492
18DA90012_1,      AR07W,       5,          1,      73284,     -999.0,9,19900704,       0223,    57.2152,   -51.8288,       3545,  3188.0,   2.5634,  34.9194,2,  34.9158,2,    276.4,2,   272.8,3,   12.63,6,    1.09,6,-999.000,9,-999.000,9,-999.000,-999.000,9,    3188,   15.90,6,   2.3027
18DA90012_1,      AR07W,       5,          1,      73283,     -999.0,9,19900704,       0223,    57.2152,   -51.8288,       3545,  3447.0,   2.0035,  34.8903,2,  34.8922,2,    288.6,2,   307.7,3,   10.70,6,    1.03,6,-999.000,9,-999.000,9,-999.000,-999.000,9,    3447,   14.56,6,   1.7291
18DA90012_1,      AR07W,       5,          1,      73282,     -999.0,9,19900704,       0223,    57.2152,   -51.8288,       3545,  3550.0,   1.6936,  34.8847,2,  34.8851,2,    295.8,2,   309.5,6,   10.12,6,    0.99,6,-999.000,9,-999.000,9,-999.000,-999.000,9,    3550,   14.26,6,   1.4162
18DA90012_1,      AR07W,       5,          1,      73281,     -999.0,9,19900704,       0223,    57.2152,   -51.8288,       3545,  3583.0,   1.6936,  34.8848,2,  34.8845,6,    290.6,2,   304.9,3,   10.22,6,    1.00,6,-999.000,9,-999.000,9,-999.000,-999.000,9,    3583,   14.20,6,   1.4128
18DA90012_1,      AR07W,       6,          1,      73320,     -999.0,9,19900704,       0901,    57.7987,   -52.4337,       3506,     4.0,   4.4829,  34.3857,2,  34.3870,2,    355.4,2,   350.0,3,    0.00,6,    0.37,6,-999.000,9,-999.000,9,-999.000,-999.000,9,       4,    3.70,6,   4.4826
18DA90012_1,      AR07W,       6,          1,      73319,     -999.0,9,19900704,       0901,    57.7987,   -52.4337,       3506,    56.0,   2.9933,  34.5598,2,  34.5602,2,    305.4,2,   328.0,3,    6.80,6,    0.86,6,-999.000,9,-999.000,9,-999.000,-999.000,9,      56,    8.79,6,   2.9899
18DA90012_1,      AR07W,       6,          1,      73318,     -999.0,9,19900704,       0901,    57.7987,   -52.4337,       3506,   106.0,   3.8231,  34.7738,2,  34.7736,2,    281.9,2,   314.8,3,    7.62,6,    1.12,6,-999.000,9,-999.000,9,-999.000,-999.000,9,     106,   14.39,6,   3.8159
18DA90012_1,      AR07W,       6,          1,      73317,     -999.0,9,19900704,       0901,    57.7987,   -52.4337,       3506,   203.0,   3.3032,  34.8319,2,  34.8340,2,    278.2,2,   314.1,3,    7.97,6,    1.13,6,   3.480,2,   2.170,4,-999.000,  10.970,3,     203,   14.97,6,   3.2901
18DA90012_1,      AR07W,       6,          1,      73316,     -999.0,9,19900704,       0901,    57.7987,   -52.4337,       3506,   405.0,   3.0533,  34.8261,2,  34.8267,2,    283.8,2,   427.7,3,    8.30,6,    1.19,6,-999.000,9,-999.000,9,-999.000,-999.000,9,     405,   15.87,6,   3.0273
18DA90012_1,      AR07W,       6,          1,      73315,     -999.0,9,19900704,       0901,    57.7987,   -52.4337,       3506,   606.0,   2.9533,  34.8232,2,  34.8239,2,    281.6,2,   315.0,3,    8.59,6,    1.20,6,-999.000,9,-999.000,9,-999.000,-999.000,9,     606,   16.11,6,   2.9139
18DA90012_1,      AR07W,       6,          1,      73314,     -999.0,9,19900704,       0901,    57.7987,   -52.4337,       3506,   813.0,   2.9533,  34.8264,2,  34.8265,2,    281.6,2,   317.1,3,    8.95,6,    1.22,6,-999.000,9,-999.000,9,   2.948,-999.000,9,     813,   16.26,6,   2.8991
18DA90012_1,      AR07W,       6,          1,      73313,     -999.0,9,19900704,       0901,    57.7987,   -52.4337,       3506,  1016.0,   2.9433,  34.8276,2,  34.8279,2,    279.4,2,   317.3,3,    8.96,6,    1.22,6,-999.000,9,-999.000,9,-999.000,-999.000,9,    1016,   15.96,6,   2.8741
18DA90012_1,      AR07W,       6,          1,      73312,     -999.0,9,19900704,       0901,    57.7987,   -52.4337,       3506,  1270.0,   2.9333,  34.8278,2,  34.8294,2,    280.8,2,   315.5,6,    8.98,6,    1.24,6,-999.000,9,-999.000,9,-999.000,-999.000,9,    1270,   16.01,6,   2.8444
18DA90012_1,      AR07W,       6,          1,      73311,     -999.0,9,19900704,       0901,    57.7987,   -52.4337,       3506,  1525.0,   2.9233,  34.8290,2,  34.8282,6,    286.5,2,   315.8,3,    9.07,6,    1.24,6,   2.790,2,   1.150,3,-999.000,   9.430,2,    1525,   16.08,6,   2.8136
18DA90012_1,      AR07W,       6,          1,      73310,     -999.0,9,19900704,       0901,    57.7987,   -52.4337,       3506,  1780.0,   2.9333,  34.8292,2,  34.8294,2,    286.6,2,   315.7,3,    8.92,6,    1.22,6,-999.000,9,-999.000,9,   2.930,-999.000,9,    1780,   15.90,6,   2.8017
18DA90012_1,      AR07W,       6,          1,      73309,     -999.0,9,19900704,       0901,    57.7987,   -52.4337,       3506,  2034.0,   2.9933,  34.8391,2,  34.8387,2,    287.1,2,   314.2,3,    9.18,6,    1.22,6,-999.000,9,-999.000,9,-999.000,-999.000,9,    2034,   16.35,6,   2.8381
18DA90012_1,      AR07W,       6,          1,      73308,     -999.0,9,19900704,       0901,    57.7987,   -52.4337,       3506,  2289.0,   3.2732,  34.9111,2,  34.9124,2,    272.3,2,   295.0,3,   11.05,6,    1.27,6,-999.000,9,-999.000,9,-999.000,-999.000,9,    2289,   16.38,6,   3.0892
18DA90012_1,      AR07W,       6,          1,      73307,     -999.0,9,19900704,       0901,    57.7987,   -52.4337,       3506,  2544.0,   3.0933,  34.9200,2,  34.9203,2,    271.1,2,   293.7,3,   11.35,6,    1.23,6,-999.000,9,-999.000,9,-999.000,-999.000,9,    2544,   16.08,6,   2.8873
18DA90012_1,      AR07W,       6,          1,      73306,     -999.0,9,19900704,       0901,    57.7987,   -52.4337,       3506,  2799.0,   2.8733,  34.9210,2,  34.9225,2,    275.1,2,   295.3,3,   11.88,6,    1.20,6,   1.010,2,   1.190,3,   2.870,   3.490,2,    2799,   15.90,6,   2.6460
18DA90012_1,      AR07W,       6,          1,      73305,     -999.0,9,19900704,       0901,    57.7987,   -52.4337,       3506,  3055.0,   2.5634,  34.9149,2,  34.9156,2,    278.6,2,   299.2,3,   12.45,6,    1.21,6,-999.000,9,-999.000,9,-999.000,-999.000,9,    3055,   15.84,6,   2.3165
18DA90012_1,      AR07W,       6,          1,      73304,     -999.0,9,19900704,       0901,    57.7987,   -52.4337,       3506,  3208.0,   2.3434,  34.9055,2,  34.9065,2,    282.9,2,   298.5,3,   12.55,6,    1.19,6,-999.000,9,-999.000,9,-999.000,-999.000,9,    3208,   15.44,6,   2.0858
18DA90012_1,      AR07W,       6,          1,      73303,     -999.0,9,19900704,       0901,    57.7987,   -52.4337,       3506,  3310.0,   2.0835,  34.8928,2,  34.8938,2,    287.9,2,   304.3,3,   11.04,6,    1.16,6,-999.000,9,-999.000,9,-999.000,-999.000,9,    3310,   14.79,6,   1.8214
18DA90012_1,      AR07W,       6,          1,      73302,     -999.0,9,19900704,       0901,    57.7987,   -52.4337,       3506,  3412.0,   1.8136,  34.8852,2,  34.8853,2,    292.4,2,   308.9,6,   10.02,6,    1.09,6,-999.000,9,-999.000,9,-999.000,-999.000,9,    3412,   13.96,6,   1.5475
18DA90012_1,      AR07W,       6,          1,      73301,     -999.0,9,19900704,       0901,    57.7987,   -52.4337,       3506,  3537.0,   1.5536,  34.8817,2,  34.8805,6,    294.0,2,   308.9,3,    9.82,6,    1.07,6,   2.030,2,   1.670,4,-999.000,   6.760,2,    3537,   14.02,6,   1.2812