BOTTLE,20211124CCHSIORKP
EXPOCODE,SECT_ID,STNNBR,CASTNO,SAMPNO,BTLNBR,BTLNBR_FLAG_W,DATE,TIME,LATITUDE,LONGITUDE,DEPTH,CTDPRS,CTDTMP,CTDSAL,CTDSAL_FLAG_W,SALNTY,SALNTY_FLAG_W,CTDOXY,CTDOXY_FLAG_W,OXYGEN,OXYGEN_FLAG_W,SILCAT,SILCAT_FLAG_W,PHSPHT,PHSPHT_FLAG_W,CFC-11,CFC-11_FLAG_W,CFC113,CFC113_FLAG_W,REVTMP,CCL4,CCL4_FLAG_W,CTDRAW,NO2+NO3,NO2+NO3_FLAG_W,THETA
,,,,,,,,,,,METERS,DBAR,ITS-90,PSS-78,,PSS-78,,UMOL/KG,,UMOL/KG,,UMOL/KG,,UMOL/KG,,PMOL/KG,,PMOL/KG,,ITS-90,PMOL/KG,,DBAR,UMOL/KG,,DEG C
18DA90012_1,      AR07W,      23,          1,      73631,     -999.0,9,19900709,       0200,    55.5587,   -53.6308,       2870,     3.0,   2.4234,  32.0217,2,  32.0272,2,    397.1,2,   390.8,2,    1.03,6,    0.34,6,   7.140,2,   3.630,4,-999.000,  16.740,4,       3,    0.53,6,   2.4233
18DA90012_1,      AR07W,      23,          1,      73630,     -999.0,9,19900709,       0200,    55.5587,   -53.6308,       2870,    32.0,   0.2040,  33.4598,2,  33.4598,2,    359.0,2,   390.8,2,    2.11,6,    0.31,6,-999.000,9,-999.000,9,-999.000,-999.000,9,      32,    1.42,6,   0.2028
18DA90012_1,      AR07W,      23,          1,      73629,     -999.0,9,19900709,       0200,    55.5587,   -53.6308,       2870,    82.0,   1.2637,  34.2248,2,  34.2213,2,    251.6,2,   329.6,2,    6.12,6,    0.75,6,-999.000,9,-999.000,9,-999.000,-999.000,9,      82,    9.66,6,   1.2599
18DA90012_1,      AR07W,      23,          1,      73628,     -999.0,9,19900709,       0200,    55.5587,   -53.6308,       2870,   283.0,   3.8731,  34.8520,2,  34.8534,2,    265.2,2,   290.7,3,    8.11,6,    1.05,6,-999.000,9,-999.000,9,-999.000,-999.000,9,     283,   15.63,6,   3.8533
18DA90012_1,      AR07W,      23,          1,      73627,     -999.0,9,19900709,       0200,    55.5587,   -53.6308,       2870,   478.0,   3.5731,  34.8631,2,  34.8635,2,    266.2,2,   289.7,2,    8.66,6,    1.09,6,   3.500,2,   5.920,4,-999.000,   7.590,2,     478,   15.90,6,   3.5402
18DA90012_1,      AR07W,      23,          1,      73626,     -999.0,9,19900709,       0200,    55.5587,   -53.6308,       2870,   732.0,   3.2932,  34.8533,2,  34.8540,2,    265.4,2,   292.2,2,    9.00,6,    1.10,6,-999.000,9,-999.000,9,-999.000,-999.000,9,     732,   15.99,6,   3.2429
18DA90012_1,      AR07W,      23,          1,      73625,     -999.0,9,19900709,       0200,    55.5587,   -53.6308,       2870,   986.0,   3.2132,  34.8565,2,  34.8574,2,    265.1,2,  -999.0,9,    9.39,6,    1.11,6,-999.000,9,-999.000,9,-999.000,-999.000,9,     986,   16.08,6,   3.1442
18DA90012_1,      AR07W,      23,          1,      73624,     -999.0,9,19900709,       0200,    55.5587,   -53.6308,       2870,  1191.0,   3.0533,  34.8427,2,  34.8454,2,    270.6,2,  -999.0,9,    8.97,6,    1.10,6,-999.000,9,-999.000,9,-999.000,-999.000,9,    1191,   16.17,6,   2.9695
18DA90012_1,      AR07W,      23,          1,      73623,     -999.0,9,19900709,       0200,    55.5587,   -53.6308,       2870,  1391.0,   2.9933,  34.8419,2,  34.8408,2,    273.4,2,   298.2,2,    8.95,6,    1.10,6,   2.830,2,   1.840,4,-999.000,   5.630,2,    1391,   15.80,6,   2.8939
18DA90012_1,      AR07W,      23,          1,      73622,     -999.0,9,19900709,       0200,    55.5587,   -53.6308,       2870,  1588.0,   3.0933,  34.8650,2,  34.8649,6,    266.7,2,   292.1,2,    9.48,6,    1.10,6,-999.000,9,-999.000,9,-999.000,-999.000,9,    1588,   15.84,6,   2.9761
18DA90012_1,      AR07W,      23,          1,      73621,     -999.0,9,19900709,       0200,    55.5587,   -53.6308,       2870,  1792.0,   3.1233,  34.9072,2,  34.9085,2,    256.9,2,   281.9,2,   10.52,6,    1.12,6,-999.000,9,-999.000,9,   3.130,-999.000,9,    1792,   15.93,6,   2.9878
18DA90012_1,      AR07W,      23,          1,      73620,     -999.0,9,19900709,       0200,    55.5587,   -53.6308,       2870,  2001.0,   3.0033,  34.9140,2,  34.9122,2,    258.9,2,   281.3,2,   10.84,6,    1.11,6,   1.620,2,   1.040,3,-999.000,   3.570,2,    2001,   15.92,6,   2.8507
18DA90012_1,      AR07W,      23,          1,      73619,     -999.0,9,19900709,       0200,    55.5587,   -53.6308,       2870,  2210.0,   2.7633,  34.9148,2,  34.9140,2,    259.7,2,   283.1,2,   11.28,6,    1.10,6,-999.000,9,-999.000,9,-999.000,-999.000,9,    2210,   15.77,6,   2.5953
18DA90012_1,      AR07W,      23,          1,      73618,     -999.0,9,19900709,       0200,    55.5587,   -53.6308,       2870,  2311.0,   2.6634,  34.9132,2,  34.9120,2,    260.2,2,  -999.0,9,   11.35,6,    1.09,6,-999.000,9,-999.000,9,-999.000,-999.000,9,    2311,   15.49,6,   2.4876
18DA90012_1,      AR07W,      23,          1,      73617,     -999.0,9,19900709,       0200,    55.5587,   -53.6308,       2870,  2411.0,   2.5334,  34.9095,2,  34.9075,2,    262.9,2,  -999.0,9,   11.47,6,    1.08,6,-999.000,9,-999.000,9,   2.534,-999.000,9,    2411,   15.15,6,   2.3506
18DA90012_1,      AR07W,      23,          1,      73616,     -999.0,9,19900709,       0200,    55.5587,   -53.6308,       2870,  2508.0,   2.3734,  34.9049,2,  34.9036,2,    263.9,2,  -999.0,9,   11.68,6,    0.99,6,   1.560,2,   2.290,4,-999.000,   3.850,2,    2508,   15.29,6,   2.1844
18DA90012_1,      AR07W,      23,          1,      73615,     -999.0,9,19900709,       0200,    55.5587,   -53.6308,       2870,  2603.0,   2.1935,  34.8972,2,  34.8955,2,    267.0,2,  -999.0,9,   11.34,6,    0.98,6,-999.000,9,-999.000,9,-999.000,-999.000,9,    2603,   15.17,6,   1.9989
18DA90012_1,      AR07W,      23,          1,      73614,     -999.0,9,19900709,       0200,    55.5587,   -53.6308,       2870,  2723.0,   1.7236,  34.8817,2,  34.8831,2,    272.9,2,  -999.0,9,   10.13,6,    0.93,6,-999.000,9,-999.000,9,-999.000,-999.000,9,    2723,   14.29,6,   1.5271
18DA90012_1,      AR07W,      23,          1,      73613,     -999.0,9,19900709,       0200,    55.5587,   -53.6308,       2870,  2821.0,   1.5736,  34.8800,2,  34.8766,2,    274.8,2,   296.1,6,   10.03,6,    0.93,6,-999.000,9,-999.000,9,-999.000,-999.000,9,    2821,   14.00,6,   1.3711
18DA90012_1,      AR07W,      23,          1,      73612,     -999.0,9,19900709,       0200,    55.5587,   -53.6308,       2870,  2877.0,   1.5736,  34.8792,2,  34.8759,6,    274.2,2,   295.5,2,   10.05,6,    0.93,6,   2.560,2,   1.980,4,-999.000,   5.760,2,    2877,   13.91,6,   1.3659
18DA90012_1,      AR07W,      24,          1,      73647,     -999.0,9,19900709,       0608,    55.2753,   -53.8783,       2193,     4.0,   3.1632,  32.9287,2,  32.9385,2,    351.2,2,   374.1,2,    0.00,6,    0.16,6,-999.000,9,-999.000,9,-999.000,-999.000,9,       4,    0.00,6,   3.1630
18DA90012_1,      AR07W,      24,          1,      73646,     -999.0,9,19900709,       0608,    55.2753,   -53.8783,       2193,    50.0,   0.5539,  34.0928,2,  34.0917,2,    291.9,2,   336.1,2,    6.06,6,    0.74,6,-999.000,9,-999.000,9,-999.000,-999.000,9,      50,    8.83,6,   0.5519
18DA90012_1,      AR07W,      24,          1,      73645,     -999.0,9,19900709,       0608,    55.2753,   -53.8783,       2193,    99.0,   2.4034,  34.4928,2,  34.4915,2,    269.5,2,   307.2,2,    7.11,6,    0.93,6,-999.000,9,-999.000,9,-999.000,-999.000,9,      99,   13.22,6,   2.3979
18DA90012_1,      AR07W,      24,          1,      73644,     -999.0,9,19900709,       0608,    55.2753,   -53.8783,       2193,   200.0,   3.9830,  34.8409,2,  34.8373,2,    263.0,2,  -999.0,9,    7.97,6,    1.04,6,-999.000,9,-999.000,9,-999.000,-999.000,9,     200,   15.22,6,   3.9690
18DA90012_1,      AR07W,      24,          1,      73643,     -999.0,9,19900709,       0608,    55.2753,   -53.8783,       2193,   300.0,   3.9131,  34.8690,2,  34.8674,2,    255.3,2,   285.1,2,    8.85,6,    1.09,6,-999.000,9,-999.000,9,-999.000,-999.000,9,     300,   15.99,6,   3.8920
18DA90012_1,      AR07W,      24,          1,      73642,     -999.0,9,19900709,       0608,    55.2753,   -53.8783,       2193,   402.0,   3.7531,  34.8701,2,  34.8694,2,    256.7,2,  -999.0,9,    8.64,6,    1.08,6,-999.000,9,-999.000,9,-999.000,-999.000,9,     402,   15.80,6,   3.7250
18DA90012_1,      AR07W,      24,          1,      73641,     -999.0,9,19900709,       0608,    55.2753,   -53.8783,       2193,   501.0,   3.5132,  34.8571,2,  34.8572,2,    256.9,2,   291.0,2,    8.63,6,    1.03,6,-999.000,9,-999.000,9,   3.517,-999.000,9,     501,   15.55,6,   3.4788
18DA90012_1,      AR07W,      24,          1,      73640,     -999.0,9,19900709,       0608,    55.2753,   -53.8783,       2193,   757.0,   3.1432,  34.8343,2,  34.8532,2,    261.8,2,   299.2,2,    8.64,6,    1.07,6,-999.000,9,-999.000,9,-999.000,-999.000,9,     757,   15.65,6,   3.0920
18DA90012_1,      AR07W,      24,          1,      73639,     -999.0,9,19900709,       0608,    55.2753,   -53.8783,       2193,  1011.0,   3.1432,  34.8476,2,  34.8477,2,    259.2,2,  -999.0,9,    8.82,6,    1.08,6,-999.000,9,-999.000,9,-999.000,-999.000,9,    1011,   15.39,6,   3.0728
18DA90012_1,      AR07W,      24,          1,      73638,     -999.0,9,19900709,       0608,    55.2753,   -53.8783,       2193,  1213.0,   2.9733,  34.8367,2,  34.8361,2,    266.0,2,  -999.0,9,    8.95,6,    1.08,6,-999.000,9,-999.000,9,-999.000,-999.000,9,    1213,   16.05,6,   2.8885
18DA90012_1,      AR07W,      24,          1,      73637,     -999.0,9,19900709,       0608,    55.2753,   -53.8783,       2193,  1416.0,   2.9733,  34.8459,2,  34.8440,2,    261.9,2,   296.6,2,    9.27,6,    1.08,6,-999.000,9,-999.000,9,   2.971,-999.000,9,    1416,   15.99,6,   2.8720
18DA90012_1,      AR07W,      24,          1,      73636,     -999.0,9,19900709,       0608,    55.2753,   -53.8783,       2193,  1620.0,   3.2032,  34.9111,2,  34.9103,2,    250.0,2,   281.3,2,   10.27,6,    1.09,6,-999.000,9,-999.000,9,-999.000,-999.000,9,    1620,   15.97,6,   3.0819
18DA90012_1,      AR07W,      24,          1,      73635,     -999.0,9,19900709,       0608,    55.2753,   -53.8783,       2193,  1823.0,   3.0433,  34.9122,2,  34.9124,2,    250.6,2,   280.7,2,   10.53,6,    1.08,6,-999.000,9,-999.000,9,-999.000,-999.000,9,    1823,   15.33,6,   2.9061
18DA90012_1,      AR07W,      24,          1,      73634,     -999.0,9,19900709,       0608,    55.2753,   -53.8783,       2193,  2026.0,   2.7933,  34.9161,2,  34.9142,2,    254.8,2,  -999.0,9,   11.27,6,    1.08,6,-999.000,9,-999.000,9,-999.000,-999.000,9,    2026,   15.46,6,   2.6416
18DA90012_1,      AR07W,      24,          1,      73633,     -999.0,9,19900709,       0608,    55.2753,   -53.8783,       2193,  2128.0,   2.6934,  34.9155,2,  34.9128,2,    256.7,2,   282.0,6,   11.54,6,    1.04,6,-999.000,9,-999.000,9,-999.000,-999.000,9,    2128,   15.56,6,   2.5340
18DA90012_1,      AR07W,      24,          1,      73632,     -999.0,9,19900709,       0608,    55.2753,   -53.8783,       2193,  2186.0,   2.7034,  34.9147,2,  34.9134,6,    256.1,2,   282.4,2,   10.86,6,    1.04,6,-999.000,9,-999.000,9,-999.000,-999.000,9,    2186,   14.82,6,   2.5385
18DA90012_1,      AR07W,      25,          1,      73656,     -999.0,9,19900709,       0936,    55.0798,   -54.0670,        908,     5.0,   1.4237,  31.6127,2,-999.0000,9,    357.0,2,   396.1,2,    0.75,6,    0.41,6,-999.000,9,-999.000,9,-999.000,-999.000,9,       5,    0.36,6,   1.4235
18DA90012_1,      AR07W,      25,          1,      73655,     -999.0,9,19900709,       0936,    55.0798,   -54.0670,        908,    53.0,  -1.0158,  33.4518,2,-999.0000,9,    263.6,2,   341.6,2,    7.58,6,    0.89,6,-999.000,9,-999.000,9,-999.000,-999.000,9,      53,    7.48,6,  -1.0171
18DA90012_1,      AR07W,      25,          1,      73654,     -999.0,9,19900709,       0936,    55.0798,   -54.0670,        908,   105.0,   0.1540,  33.8008,2,-999.0000,9,    255.1,2,   301.5,2,   11.45,6,    1.00,6,-999.000,9,-999.000,9,-999.000,-999.000,9,     105,   11.07,6,   0.1502
18DA90012_1,      AR07W,      25,          1,      73653,     -999.0,9,19900709,       0936,    55.0798,   -54.0670,        908,   202.0,   2.8433,  34.5009,2,-999.0000,9,    249.4,2,   287.0,2,    9.59,6,    1.01,6,-999.000,9,-999.000,9,-999.000,-999.000,9,     202,   13.98,6,   2.8311
18DA90012_1,      AR07W,      25,          1,      73652,     -999.0,9,19900709,       0936,    55.0798,   -54.0670,        908,   391.0,   4.0830,  34.8410,2,-999.0000,9,    249.1,2,   286.2,2,    8.74,6,    1.07,6,-999.000,9,-999.000,9,-999.000,-999.000,9,     391,   15.45,6,   4.0548
18DA90012_1,      AR07W,      25,          1,      73651,     -999.0,9,19900709,       0936,    55.0798,   -54.0670,        908,   496.0,   3.9630,  34.8551,2,-999.0000,9,    251.8,2,   286.5,2,    8.83,6,    1.07,6,-999.000,9,-999.000,9,-999.000,-999.000,9,     496,   15.54,6,   3.9273
18DA90012_1,      AR07W,      25,          1,      73650,     -999.0,9,19900709,       0936,    55.0798,   -54.0670,        908,   635.0,   3.7231,  34.8612,2,-999.0000,9,    251.7,2,   286.3,2,    9.43,6,    1.09,6,-999.000,9,-999.000,9,-999.000,-999.000,9,     635,   15.91,6,   3.6778
18DA90012_1,      AR07W,      25,          1,      73649,     -999.0,9,19900709,       0936,    55.0798,   -54.0670,        908,   824.0,   3.6031,  34.8624,2,-999.0000,9,    250.6,2,   287.0,6,    9.69,6,    1.07,6,-999.000,9,-999.000,9,-999.000,-999.000,9,     824,   16.17,6,   3.5439
18DA90012_1,      AR07W,      25,          1,      73648,     -999.0,9,19900709,       0936,    55.0798,   -54.0670,        908,   911.0,   3.5631,  34.8615,2,-999.0000,9,    255.0,2,   287.7,3,    9.67,6,    1.06,6,-999.000,9,-999.000,9,-999.000,-999.000,9,     911,   15.81,6,   3.4974
18DA90012_1,      AR07W,      26,          1,      73661,     -999.0,9,19900709,       1200,    54.8813,   -54.2970,        290,     6.0,   3.3932,  30.9177,2,-999.0000,9,    358.1,2,   364.7,2,    0.55,6,    0.33,6,-999.000,9,-999.000,9,-999.000,-999.000,9,       6,    0.00,6,   3.3928
18DA90012_1,      AR07W,      26,          1,      73659,     -999.0,9,19900709,       1200,    54.8813,   -54.2970,        290,   100.0,  -1.5356,  33.1478,2,-999.0000,9,    291.4,2,   324.7,2,   10.65,6,    1.01,6,-999.000,9,-999.000,9,-999.000,-999.000,9,     100,    8.21,6,  -1.5376
18DA90012_1,      AR07W,      26,          1,      73660,     -999.0,9,19900709,       1200,    54.8813,   -54.2970,        290,   100.0,  -1.5356,  33.1478,2,-999.0000,9,    291.4,2,   324.7,2,   11.33,6,    1.05,6,-999.000,9,-999.000,9,-999.000,-999.000,9,     100,    8.63,6,  -1.5376
18DA90012_1,      AR07W,      26,          1,      73658,     -999.0,9,19900709,       1200,    54.8813,   -54.2970,        290,   200.0,   1.9635,  33.5289,2,-999.0000,9,    289.3,2,   320.8,6,   10.91,6,    1.02,6,-999.000,9,-999.000,9,-999.000,-999.000,9,     200,    9.82,6,   1.9533
18DA90012_1,      AR07W,      26,          1,      73657,     -999.0,9,19900709,       1200,    54.8813,   -54.2970,        290,   276.0,   1.1337,  34.0570,2,-999.0000,9,    267.0,2,   292.9,2,   11.46,6,    1.01,6,-999.000,9,-999.000,9,-999.000,-999.000,9,     276,   12.69,6,   1.1210
18DA90012_1,      AR07W,      27,          1,      73665,     -999.0,9,19900709,       1419,    54.6007,   -54.5655,        216,     4.0,   3.3932,  31.5117,2,-999.0000,9,    383.2,2,   361.9,2,    0.75,6,    0.38,6,-999.000,9,-999.000,9,-999.000,-999.000,9,       4,    0.00,6,   3.3930
18DA90012_1,      AR07W,      27,          1,      73664,     -999.0,9,19900709,       1419,    54.6007,   -54.5655,        216,    49.0,  -1.5656,  32.9378,2,-999.0000,9,    306.8,2,   339.6,2,    7.26,6,    0.83,6,-999.000,9,-999.000,9,-999.000,-999.000,9,      49,    5.45,6,  -1.5665
18DA90012_1,      AR07W,      27,          1,      73663,     -999.0,9,19900709,       1419,    54.6007,   -54.5655,        216,    99.0,  -1.5956,  33.0998,2,-999.0000,9,    301.0,2,   332.7,6,   10.71,6,    1.01,6,-999.000,9,-999.000,9,-999.000,-999.000,9,      99,    8.30,6,  -1.5975
18DA90012_1,      AR07W,      27,          1,      73662,     -999.0,9,19900709,       1419,    54.6007,   -54.5655,        216,   202.0,  -0.2259,  33.7309,2,-999.0000,9,    277.4,2,   308.2,2,    9.91,6,    0.98,6,-999.000,9,-999.000,9,-999.000,-999.000,9,     202,    9.86,6,  -0.2327
18DA90012_1,      AR07W,      28,          1,      73669,     -999.0,9,19900709,       1627,    54.3157,   -54.8280,        191,     3.0,   3.6231,  32.0007,2,-999.0000,9,    368.2,2,   365.6,2,    1.08,6,    0.45,6,-999.000,9,-999.000,9,-999.000,-999.000,9,       3,    0.00,6,   3.6229
18DA90012_1,      AR07W,      28,          1,      73668,     -999.0,9,19900709,       1627,    54.3157,   -54.8280,        191,    50.0,  -1.4956,  32.8568,2,-999.0000,9,    255.6,2,   348.0,2,    8.17,6,    0.94,6,-999.000,9,-999.000,9,-999.000,-999.000,9,      50,    6.68,6,  -1.4966
18DA90012_1,      AR07W,      28,          1,      73667,     -999.0,9,19900709,       1627,    54.3157,   -54.8280,        191,   100.0,  -1.6656,  33.4258,2,-999.0000,9,    255.5,2,   335.6,2,    9.69,6,    0.96,6,-999.000,9,-999.000,9,-999.000,-999.000,9,     100,    8.17,6,  -1.6675
18DA90012_1,      AR07W,      28,          1,      73666,     -999.0,9,19900709,       1627,    54.3157,   -54.8280,        191,   174.0,  -1.1957,  33.4249,2,-999.0000,9,    257.2,2,   303.7,6,   14.19,6,    0.99,6,-999.000,9,-999.000,9,-999.000,-999.000,9,     174,   10.58,6,  -1.1999
18DA90012_1,      AR07W,      29,          1,      73673,     -999.0,9,19900709,       1823,    54.0505,   -55.0970,        161,     4.0,   4.1530,  31.5467,2,-999.0000,9,    347.1,2,   352.5,2,    2.15,6,    0.48,6,-999.000,9,-999.000,9,-999.000,-999.000,9,       4,    0.00,6,   4.1527
18DA90012_1,      AR07W,      29,          1,      73672,     -999.0,9,19900709,       1823,    54.0505,   -55.0970,        161,    50.0,  -1.5456,  32.9918,2,-999.0000,9,    297.5,2,   342.4,2,    8.70,6,    0.93,6,-999.000,9,-999.000,9,-999.000,-999.000,9,      50,    7.10,6,  -1.5466
18DA90012_1,      AR07W,      29,          1,      73671,     -999.0,9,19900709,       1823,    54.0505,   -55.0970,        161,   101.0,  -1.5956,  33.1728,2,-999.0000,9,    277.4,2,   333.1,2,    9.84,6,    0.98,6,-999.000,9,-999.000,9,-999.000,-999.000,9,     101,    8.43,6,  -1.5976
18DA90012_1,      AR07W,      29,          1,      73670,     -999.0,9,19900709,       1823,    54.0505,   -55.0970,        161,   148.0,  -1.1357,  33.4778,2,-999.0000,9,    255.6,2,   305.1,6,   12.83,6,    1.14,6,-999.000,9,-999.000,9,-999.000,-999.000,9,     148,   10.28,6,  -1.1394
18DA90012_1,      AR07W,      30,          1,      73677,     -999.0,9,19900709,       2033,    53.7680,   -55.3622,        266,     5.0,   4.4729,  30.9817,2,-999.0000,9,    387.8,1,  -999.0,9,    3.33,6,    0.49,6,-999.000,9,-999.000,9,-999.000,-999.000,9,       5,    0.23,6,   4.4726
18DA90012_1,      AR07W,      30,          1,      73676,     -999.0,9,19900709,       2033,    53.7680,   -55.3622,        266,    50.0,  -1.5656,  32.9578,2,-999.0000,9,    364.1,1,  -999.0,9,    9.37,6,    0.99,6,-999.000,9,-999.000,9,-999.000,-999.000,9,      50,    7.24,6,  -1.5666
18DA90012_1,      AR07W,      30,          1,      73675,     -999.0,9,19900709,       2033,    53.7680,   -55.3622,        266,   100.0,  -1.5656,  33.1098,2,-999.0000,9,    330.1,1,  -999.0,9,    9.60,6,    0.95,6,-999.000,9,-999.000,9,-999.000,-999.000,9,     100,    7.89,6,  -1.5676
18DA90012_1,      AR07W,      30,          1,      73674,     -999.0,9,19900709,       2033,    53.7680,   -55.3622,        266,   256.0,  -0.9058,  33.5489,2,-999.0000,9,    297.4,1,  -999.0,9,   11.79,6,    0.96,6,-999.000,9,-999.000,9,-999.000,-999.000,9,     256,   10.65,6,  -0.9129