BOTTLE,20211124CCHSIORKP
EXPOCODE,SECT_ID,STNNBR,CASTNO,SAMPNO,BTLNBR,BTLNBR_FLAG_W,DATE,TIME,LATITUDE,LONGITUDE,DEPTH,CTDPRS,CTDTMP,CTDSAL,CTDSAL_FLAG_W,SALNTY,SALNTY_FLAG_W,CTDOXY,CTDOXY_FLAG_W,OXYGEN,OXYGEN_FLAG_W,SILCAT,SILCAT_FLAG_W,PHSPHT,PHSPHT_FLAG_W,CFC-11,CFC-11_FLAG_W,CFC113,CFC113_FLAG_W,REVTMP,CCL4,CCL4_FLAG_W,CTDRAW,NO2+NO3,NO2+NO3_FLAG_W,THETA
,,,,,,,,,,,METERS,DBAR,ITS-90,PSS-78,,PSS-78,,UMOL/KG,,UMOL/KG,,UMOL/KG,,UMOL/KG,,PMOL/KG,,PMOL/KG,,ITS-90,PMOL/KG,,DBAR,UMOL/KG,,DEG C
18DA90012_1,      AR07W,      11,          1,      73391,     -999.0,9,19900706,       0300,    60.3917,   -48.5067,        590,     5.0,  -0.3859,  32.6267,2,-999.0000,9,    314.4,2,  -999.0,9, -999.00,9, -999.00,9,   5.670,2,   1.890,4,-999.000,  14.050,3,       5, -999.00,9,  -0.3860
18DA90012_1,      AR07W,      11,          1,      73390,     -999.0,9,19900706,       0300,    60.3917,   -48.5067,        590,    51.0,   0.0840,  33.5268,2,  33.5292,2,    289.4,2,  -999.0,9, -999.00,9, -999.00,9,-999.000,9,-999.000,9,-999.000,-999.000,9,      51, -999.00,9,   0.0822
18DA90012_1,      AR07W,      11,          1,      73389,     -999.0,9,19900706,       0300,    60.3917,   -48.5067,        590,   101.0,   3.9131,  33.9458,2,  33.9442,2,    278.6,2,   326.9,2,    4.92,6,    0.71,6,-999.000,9,-999.000,9,-999.000,-999.000,9,     101,    7.68,6,   3.9063
18DA90012_1,      AR07W,      11,          1,      73388,     -999.0,9,19900706,       0300,    60.3917,   -48.5067,        590,   201.0,   3.0833,  34.4089,2,  34.3914,2,    264.7,2,   314.3,2,    4.71,6,    0.72,6,-999.000,9,-999.000,9,-999.000,-999.000,9,     201,    8.11,6,   3.0708
18DA90012_1,      AR07W,      11,          1,      73387,     -999.0,9,19900706,       0300,    60.3917,   -48.5067,        590,   260.0,   3.8531,  34.6999,2,  34.8981,2,    256.5,2,   304.6,2,    5.58,6,    0.85,6,-999.000,9,-999.000,9,-999.000,-999.000,9,     260,   11.08,6,   3.8351
18DA90012_1,      AR07W,      11,          1,      73386,     -999.0,9,19900706,       0300,    60.3917,   -48.5067,        590,   344.0,   4.3630,  34.8880,2,  34.8855,2,    250.1,2,   293.6,2,    7.68,6,    0.98,6,-999.000,9,-999.000,9,-999.000,-999.000,9,     344,   14.08,6,   4.3374
18DA90012_1,      AR07W,      11,          1,      73385,     -999.0,9,19900706,       0300,    60.3917,   -48.5067,        590,   430.0,   4.3730,  34.9091,2,  34.9085,2,    256.8,2,   293.7,6,    7.85,6,    0.98,6,-999.000,9,-999.000,9,-999.000,-999.000,9,     430,   14.36,6,   4.3407
18DA90012_1,      AR07W,      11,          1,      73384,     -999.0,9,19900706,       0300,    60.3917,   -48.5067,        590,   520.0,   4.1430,  34.9192,2,  34.9189,6,    253.5,2,   293.1,3,    8.50,6,    1.04,6,   2.470,2,   5.600,4,-999.000,   6.620,2,     520,   15.26,6,   4.1046
18DA90012_1,      AR07W,      12,          1,      73411,     -999.0,9,19900706,       0818,    60.1258,   -48.7347,       2878,     5.0,   4.6529,  34.2737,2,-999.0000,5,    339.2,2,   342.3,2,    0.00,6,    0.29,6,   4.640,2,   4.140,4,-999.000,  14.650,3,       5,    3.65,6,   4.6525
18DA90012_1,      AR07W,      12,          1,      73410,     -999.0,9,19900706,       0818,    60.1258,   -48.7347,       2878,    51.0,   4.1630,  34.3648,2,-999.0000,5,    300.1,2,   320.1,2, -999.00,5, -999.00,5,-999.000,9,-999.000,9,-999.000,-999.000,9,      51, -999.00,5,   4.1595
18DA90012_1,      AR07W,      12,          1,      73409,     -999.0,9,19900706,       0818,    60.1258,   -48.7347,       2878,   101.0,   3.8531,  34.6148,2,-999.0000,5,    265.8,2,   299.4,2,    5.67,6,    0.83,6,-999.000,9,-999.000,9,-999.000,-999.000,9,     101,   10.22,6,   3.8462
18DA90012_1,      AR07W,      12,          1,      73408,     -999.0,9,19900706,       0818,    60.1258,   -48.7347,       2878,   200.0,   4.1930,  34.9069,2,  34.9052,2,    263.3,2,   289.5,2,    7.99,6,    1.02,6,-999.000,9,-999.000,9,-999.000,-999.000,9,     200,   15.27,6,   4.1786
18DA90012_1,      AR07W,      12,          1,      73407,     -999.0,9,19900706,       0818,    60.1258,   -48.7347,       2878,   296.0,   4.0130,  34.9170,2,  34.9148,2,    265.3,2,   291.7,2,    8.37,6,    1.05,6,-999.000,9,-999.000,9,-999.000,-999.000,9,     296,   15.70,6,   3.9920
18DA90012_1,      AR07W,      12,          1,      73406,     -999.0,9,19900706,       0818,    60.1258,   -48.7347,       2878,   393.0,   3.8831,  34.9090,2,  34.9083,2,    262.4,2,   292.1,2,    8.18,6,    1.06,6,   3.610,2,   2.020,4,-999.000,   9.210,2,     393,   15.52,6,   3.8552
18DA90012_1,      AR07W,      12,          1,      73405,     -999.0,9,19900706,       0818,    60.1258,   -48.7347,       2878,   598.0,   3.6731,  34.8942,2,  34.8926,2,    267.6,2,   293.9,2,    8.53,6,    1.06,6,-999.000,9,-999.000,9,   3.671,-999.000,9,     598,   16.06,6,   3.6308
18DA90012_1,      AR07W,      12,          1,      73404,     -999.0,9,19900706,       0818,    60.1258,   -48.7347,       2878,   794.0,   3.4832,  34.8784,2,  34.8780,2,    269.7,2,   295.9,2,    8.81,6,    1.12,6,-999.000,9,-999.000,9,-999.000,-999.000,9,     794,   15.90,6,   3.4270
18DA90012_1,      AR07W,      12,          1,      73403,     -999.0,9,19900706,       0818,    60.1258,   -48.7347,       2878,  1000.0,   3.3932,  34.8745,2,  34.8709,2,    266.2,2,   294.0,6,    8.92,6,    1.08,6,   3.020,2,   1.260,3,-999.000,   8.910,2,    1000,   15.80,6,   3.3216
18DA90012_1,      AR07W,      12,          1,      73402,     -999.0,9,19900706,       0818,    60.1258,   -48.7347,       2878,  1203.0,   3.3332,  34.8787,2,  34.8808,6,    261.4,2,   288.5,2,    9.04,6,    1.08,6,-999.000,9,-999.000,9,-999.000,-999.000,9,    1203,   15.66,6,   3.2458
18DA90012_1,      AR07W,      12,          1,      73401,     -999.0,9,19900706,       0818,    60.1258,   -48.7347,       2878,  1402.0,   3.2732,  34.8859,2,  34.8851,2,    257.0,2,   287.1,2,    9.54,6,    1.06,6,   2.440,2,   1.970,4,   3.275,   5.640,2,    1402,   15.82,6,   3.1698
18DA90012_1,      AR07W,      12,          1,      73400,     -999.0,9,19900706,       0818,    60.1258,   -48.7347,       2878,  1617.0,   3.1532,  34.8961,2,  34.8912,2,    261.8,2,   285.6,2,    9.14,6,    1.03,6,-999.000,9,-999.000,9,-999.000,-999.000,9,    1617,   15.63,6,   3.0328
18DA90012_1,      AR07W,      12,          1,      73399,     -999.0,9,19900706,       0818,    60.1258,   -48.7347,       2878,  1821.0,   3.0033,  34.9012,2,  34.9022,2,    260.9,2,   283.8,2,   10.49,6,    1.06,6,-999.000,9,-999.000,9,-999.000,-999.000,9,    1821,   15.30,6,   2.8669
18DA90012_1,      AR07W,      12,          1,      73398,     -999.0,9,19900706,       0818,    60.1258,   -48.7347,       2878,  2026.0,   2.8333,  34.9021,2,  34.9024,2,    263.1,2,   285.4,2,   10.77,6,    1.10,6,   1.900,2,   2.440,4,-999.000,   4.340,2,    2026,   15.30,6,   2.6810
18DA90012_1,      AR07W,      12,          1,      73397,     -999.0,9,19900706,       0818,    60.1258,   -48.7347,       2878,  2226.0,   2.7233,  34.9018,2,  34.9040,2,    264.8,2,   285.0,2,   11.25,6,    1.05,6,-999.000,9,-999.000,9,   2.719,-999.000,9,    2226,   15.54,6,   2.5545
18DA90012_1,      AR07W,      12,          1,      73396,     -999.0,9,19900706,       0818,    60.1258,   -48.7347,       2878,  2433.0,   2.4134,  34.9026,2,  34.9034,2,    267.3,2,   286.2,2,   11.84,6,    1.05,6,-999.000,9,-999.000,9,-999.000,-999.000,9,    2433,   15.31,6,   2.2307
18DA90012_1,      AR07W,      12,          1,      73395,     -999.0,9,19900706,       0818,    60.1258,   -48.7347,       2878,  2587.0,   2.1835,  34.8882,2,  34.8882,2,    273.3,2,   291.1,2,   10.38,6,    1.00,6,-999.000,9,-999.000,9,-999.000,-999.000,9,    2587,   14.52,6,   1.9907
18DA90012_1,      AR07W,      12,          1,      73394,     -999.0,9,19900706,       0818,    60.1258,   -48.7347,       2878,  2690.0,   1.9735,  34.8846,2,  34.8873,2,    275.7,2,   293.3,2,   10.06,6,    0.99,6,-999.000,9,-999.000,9,-999.000,-999.000,9,    2690,   14.08,6,   1.7752
18DA90012_1,      AR07W,      12,          1,      73393,     -999.0,9,19900706,       0818,    60.1258,   -48.7347,       2878,  2793.0,   1.7036,  34.8829,2,  34.8839,2,    278.5,2,   295.6,2,    9.92,6,    1.00,6,-999.000,9,-999.000,9,-999.000,-999.000,9,    2793,   14.10,6,   1.5010
18DA90012_1,      AR07W,      12,          1,      73392,     -999.0,9,19900706,       0818,    60.1258,   -48.7347,       2878,  2899.0,   1.6336,  34.8843,2,  34.8816,2,    277.8,2,   295.4,6,    9.80,6,    0.99,6,   2.510,2,   6.070,4,-999.000,   6.650,2,    2899,   13.99,6,   1.4225
18DA90012_1,      AR07W,      13,          1,      73431,     -999.0,9,19900706,       1336,    59.8503,   -49.0315,       3148,     4.0,   4.1930,  34.1187,2,  34.1185,2,    318.1,2,   344.7,2,    0.00,6,    0.21,6,   4.880,2,   5.980,4,-999.000,  14.500,3,       4,    2.16,6,   4.1927
18DA90012_1,      AR07W,      13,          1,      73430,     -999.0,9,19900706,       1336,    59.8503,   -49.0315,       3148,    50.0,   3.0133,  34.4398,2,  34.4483,2,    285.0,2,   311.0,2,    5.38,6,    0.70,6,-999.000,9,-999.000,9,-999.000,-999.000,9,      50,    7.50,6,   3.0103
18DA90012_1,      AR07W,      13,          1,      73429,     -999.0,9,19900706,       1336,    59.8503,   -49.0315,       3148,    95.0,   3.2232,  34.7298,2,  34.7219,2,    275.0,2,   303.5,2,    7.47,6,    0.94,6,-999.000,9,-999.000,9,-999.000,-999.000,9,      95,   13.42,6,   3.2173
18DA90012_1,      AR07W,      13,          1,      73428,     -999.0,9,19900706,       1336,    59.8503,   -49.0315,       3148,   200.0,   3.3532,  34.8239,2,  34.8222,2,    272.2,2,   297.5,2,    7.99,6,    1.01,6,-999.000,9,-999.000,9,-999.000,-999.000,9,     200,   15.35,6,   3.3402
18DA90012_1,      AR07W,      13,          1,      73427,     -999.0,9,19900706,       1336,    59.8503,   -49.0315,       3148,   294.0,   3.2032,  34.8280,2,  34.8263,2,    270.2,2,   298.4,2,    8.30,6,    1.04,6,-999.000,9,-999.000,9,-999.000,-999.000,9,     294,   15.63,6,   3.1843
18DA90012_1,      AR07W,      13,          1,      73426,     -999.0,9,19900706,       1336,    59.8503,   -49.0315,       3148,   389.0,   3.1532,  34.8330,2,  34.8332,2,    268.2,2,   296.9,2,    8.42,6,    1.04,6,   3.460,2,   2.860,4,-999.000,   9.650,2,     389,   15.59,6,   3.1280
18DA90012_1,      AR07W,      13,          1,      73425,     -999.0,9,19900706,       1336,    59.8503,   -49.0315,       3148,   600.0,   2.9333,  34.8192,2,  34.8176,2,    269.9,2,   299.1,2,    8.39,6,    1.02,6,-999.000,9,-999.000,9,   2.929,-999.000,9,     600,   15.35,6,   2.8944
18DA90012_1,      AR07W,      13,          1,      73424,     -999.0,9,19900706,       1336,    59.8503,   -49.0315,       3148,   810.0,   2.9133,  34.8244,2,  34.8229,2,    271.6,2,   299.0,2,    8.83,6,    1.05,6,-999.000,9,-999.000,9,-999.000,-999.000,9,     810,   15.98,6,   2.8596
18DA90012_1,      AR07W,      13,          1,      73423,     -999.0,9,19900706,       1336,    59.8503,   -49.0315,       3148,  1010.0,   2.9133,  34.8286,2,  34.8267,2,    270.3,2,   299.5,6,    8.82,6,    1.06,6,-999.000,9,-999.000,9,-999.000,-999.000,9,    1010,   15.75,6,   2.8448
18DA90012_1,      AR07W,      13,          1,      73422,     -999.0,9,19900706,       1336,    59.8503,   -49.0315,       3148,  1190.0,   2.9333,  34.8327,2,  34.8308,6,    272.0,2,   299.0,2,    8.63,6,    1.05,6,-999.000,9,-999.000,9,-999.000,-999.000,9,    1190,   15.13,6,   2.8507
18DA90012_1,      AR07W,      13,          1,      73421,     -999.0,9,19900706,       1336,    59.8503,   -49.0315,       3148,  1374.0,   2.9233,  34.8319,2,  34.8288,2,    269.7,2,   299.1,2,    8.76,6,    1.03,6,   3.170,2,   1.940,4,   2.924,   9.410,2,    1374,   15.22,6,   2.8261
18DA90012_1,      AR07W,      13,          1,      73420,     -999.0,9,19900706,       1336,    59.8503,   -49.0315,       3148,  1556.0,   2.9433,  34.8370,2,  34.8369,2,    270.1,2,   297.7,2,    9.19,6,    1.05,6,-999.000,9,-999.000,9,-999.000,-999.000,9,    1556,   15.84,6,   2.8308
18DA90012_1,      AR07W,      13,          1,      73419,     -999.0,9,19900706,       1336,    59.8503,   -49.0315,       3148,  1727.0,   3.1332,  34.8751,2,  34.8759,2,    260.8,2,   288.6,2,    9.87,6,    1.07,6,-999.000,9,-999.000,9,-999.000,-999.000,9,    1727,   16.26,6,   3.0035
18DA90012_1,      AR07W,      13,          1,      73418,     -999.0,9,19900706,       1336,    59.8503,   -49.0315,       3148,  1905.0,   3.1632,  34.9043,2,  34.9034,2,    258.1,2,   282.0,2,   10.07,6,    1.05,6,   1.960,2,   2.040,4,-999.000,   5.390,2,    1905,   15.67,6,   3.0171
18DA90012_1,      AR07W,      13,          1,      73417,     -999.0,9,19900706,       1336,    59.8503,   -49.0315,       3148,  2133.0,   3.0833,  34.9045,2,  34.9032,2,    258.2,2,   282.3,2,   10.14,6,    1.03,6,-999.000,9,-999.000,9,   3.081,-999.000,9,    2133,   15.17,6,   2.9172
18DA90012_1,      AR07W,      13,          1,      73416,     -999.0,9,19900706,       1336,    59.8503,   -49.0315,       3148,  2330.0,   2.9733,  34.9222,2,  34.9189,2,    258.6,2,   279.4,2,   11.38,6,    1.05,6,-999.000,9,-999.000,9,-999.000,-999.000,9,    2330,   15.86,6,   2.7904
18DA90012_1,      AR07W,      13,          1,      73415,     -999.0,9,19900706,       1336,    59.8503,   -49.0315,       3148,  2495.0,   2.7733,  34.9188,2,  34.9223,2,    260.2,2,   281.9,2,   11.95,6,    1.04,6,   1.420,2,   2.300,4,-999.000,   3.710,2,    2495,   15.42,6,   2.5781
18DA90012_1,      AR07W,      13,          1,      73414,     -999.0,9,19900706,       1336,    59.8503,   -49.0315,       3148,  2752.0,   2.3834,  34.9068,2,  34.9075,2,    265.5,2,   283.4,2,   11.85,6,    1.01,6,-999.000,9,-999.000,9,-999.000,-999.000,9,    2752,   14.40,6,   2.1708
18DA90012_1,      AR07W,      13,          1,      73413,     -999.0,9,19900706,       1336,    59.8503,   -49.0315,       3148,  3013.0,   1.7536,  34.8847,2,  34.8837,2,    277.8,2,   293.9,6,    9.41,6,    0.96,6,-999.000,9,-999.000,9,-999.000,-999.000,9,    3013,   13.92,6,   1.5289
18DA90012_1,      AR07W,      13,          1,      73412,     -999.0,9,19900706,       1336,    59.8503,   -49.0315,       3148,  3160.0,   1.4636,  34.8843,2,  34.8807,6,    278.9,2,   296.4,2,    9.00,6,    0.92,6,   2.750,2,   0.740,2,-999.000,   6.930,2,    3160,   13.60,6,   1.2312