BOTTLE,20211124CCHSIORKP
EXPOCODE,SECT_ID,STNNBR,CASTNO,SAMPNO,BTLNBR,BTLNBR_FLAG_W,DATE,TIME,LATITUDE,LONGITUDE,DEPTH,CTDPRS,CTDTMP,CTDSAL,CTDSAL_FLAG_W,SALNTY,SALNTY_FLAG_W,CTDOXY,CTDOXY_FLAG_W,OXYGEN,OXYGEN_FLAG_W,SILCAT,SILCAT_FLAG_W,PHSPHT,PHSPHT_FLAG_W,CFC-11,CFC-11_FLAG_W,CFC113,CFC113_FLAG_W,REVTMP,CCL4,CCL4_FLAG_W,CTDRAW,NO2+NO3,NO2+NO3_FLAG_W,THETA
,,,,,,,,,,,METERS,DBAR,ITS-90,PSS-78,,PSS-78,,UMOL/KG,,UMOL/KG,,UMOL/KG,,UMOL/KG,,PMOL/KG,,PMOL/KG,,ITS-90,PMOL/KG,,DBAR,UMOL/KG,,DEG C
18DA90012_1,      AR07W,      20,          1,      73571,     -999.0,9,19900708,       1018,    56.7972,   -52.3325,       3523,     4.0,   5.1528,  34.5107,2,  34.5111,2,    316.0,2,   326.1,2,    0.00,6,    0.42,6,-999.000,9,-999.000,9,-999.000,-999.000,9,       4,    5.02,6,   5.1525
18DA90012_1,      AR07W,      20,          1,      73570,     -999.0,9,19900708,       1018,    56.7972,   -52.3325,       3523,    53.0,   3.5631,  34.6368,2,  34.6403,2,    282.3,2,   321.2,2,    5.79,6,    0.82,6,-999.000,9,-999.000,9,-999.000,-999.000,9,      53,    9.78,6,   3.5597
18DA90012_1,      AR07W,      20,          1,      73569,     -999.0,9,19900708,       1018,    56.7972,   -52.3325,       3523,   103.0,   3.1632,  34.7948,2,  34.7944,2,    256.9,2,   300.0,2,    7.62,6,    1.09,6,-999.000,9,-999.000,9,-999.000,-999.000,9,     103,   15.10,6,   3.1568
18DA90012_1,      AR07W,      20,          1,      73568,     -999.0,9,19900708,       1018,    56.7972,   -52.3325,       3523,   305.0,   3.0133,  34.8190,2,  34.8224,2,    259.7,2,   288.1,3,    8.21,6,    1.10,6,-999.000,9,-999.000,9,-999.000,-999.000,9,     305,   15.70,6,   2.9941
18DA90012_1,      AR07W,      20,          1,      73567,     -999.0,9,19900708,       1018,    56.7972,   -52.3325,       3523,   508.0,   2.9233,  34.8201,2,  34.8202,2,    258.7,2,   300.4,2,    8.28,6,    1.09,6,-999.000,9,-999.000,9,-999.000,-999.000,9,     508,   15.54,6,   2.8908
18DA90012_1,      AR07W,      20,          1,      73566,     -999.0,9,19900708,       1018,    56.7972,   -52.3325,       3523,   760.0,   2.9333,  34.8273,2,  34.8271,2,    260.5,2,  -999.0,9,    8.06,6,    1.08,6,-999.000,9,-999.000,9,-999.000,-999.000,9,     760,   15.15,6,   2.8831
18DA90012_1,      AR07W,      20,          1,      73565,     -999.0,9,19900708,       1018,    56.7972,   -52.3325,       3523,  1012.0,   2.9333,  34.8296,2,  34.8292,2,    262.7,2,   299.9,2,    8.52,6,    1.11,6,-999.000,9,-999.000,9,   2.927,-999.000,9,    1012,   15.74,6,   2.8645
18DA90012_1,      AR07W,      20,          1,      73564,     -999.0,9,19900708,       1018,    56.7972,   -52.3325,       3523,  1210.0,   2.9233,  34.8287,2,  34.8294,2,    262.1,2,  -999.0,9,    8.34,6,    1.08,6,-999.000,9,-999.000,9,-999.000,-999.000,9,    1210,   15.28,6,   2.8392
18DA90012_1,      AR07W,      20,          1,      73563,     -999.0,9,19900708,       1018,    56.7972,   -52.3325,       3523,  1408.0,   2.9233,  34.8279,2,  34.8296,2,    266.2,2,   300.5,2,    8.65,6,    1.13,6,-999.000,9,-999.000,9,-999.000,-999.000,9,    1408,   15.95,6,   2.8233
18DA90012_1,      AR07W,      20,          1,      73562,     -999.0,9,19900708,       1018,    56.7972,   -52.3325,       3523,  1612.0,   2.9233,  34.8260,2,  34.8278,6,    267.3,2,  -999.0,9,    8.67,6,    1.12,6,-999.000,9,-999.000,9,-999.000,-999.000,9,    1612,   15.70,6,   2.8063
18DA90012_1,      AR07W,      20,          1,      73561,     -999.0,9,19900708,       1018,    56.7972,   -52.3325,       3523,  1818.0,   2.9433,  34.8292,2,  34.8296,2,    265.9,2,  -999.0,9,    8.50,6,    1.14,6,-999.000,9,-999.000,9,   2.943,-999.000,9,    1818,   15.67,6,   2.8082
18DA90012_1,      AR07W,      20,          1,      73560,     -999.0,9,19900708,       1018,    56.7972,   -52.3325,       3523,  2023.0,   2.2735,  34.8351,2,  34.8357,2,    267.9,2,   301.8,2,    8.69,6,    1.12,6,-999.000,9,-999.000,9,-999.000,-999.000,9,    2023,   15.47,6,   2.1302
18DA90012_1,      AR07W,      20,          1,      73559,     -999.0,9,19900708,       1018,    56.7972,   -52.3325,       3523,  2280.0,   3.2832,  34.9050,2,  34.9048,2,    253.6,2,   285.3,2,   11.01,6,    1.13,6,-999.000,9,-999.000,9,-999.000,-999.000,9,    2280,   15.88,6,   3.0999
18DA90012_1,      AR07W,      20,          1,      73558,     -999.0,9,19900708,       1018,    56.7972,   -52.3325,       3523,  2537.0,   3.1732,  34.9220,2,  34.9231,2,    252.8,2,   284.7,2,   10.79,6,    1.17,6,-999.000,9,-999.000,9,-999.000,-999.000,9,    2537,   15.60,6,   2.9665
18DA90012_1,      AR07W,      20,          1,      73557,     -999.0,9,19900708,       1018,    56.7972,   -52.3325,       3523,  2796.0,   2.9533,  34.9229,2,  34.9221,2,    256.0,2,  -999.0,9,   10.98,6,    1.13,6,-999.000,9,-999.000,9,   2.953,-999.000,9,    2796,   15.39,6,   2.7247
18DA90012_1,      AR07W,      20,          1,      73556,     -999.0,9,19900708,       1018,    56.7972,   -52.3325,       3523,  3050.0,   2.7133,  34.9199,2,  34.9205,2,    260.0,2,  -999.0,9,   12.06,6,    1.11,6,-999.000,9,-999.000,9,-999.000,-999.000,9,    3050,   15.65,6,   2.4637
18DA90012_1,      AR07W,      20,          1,      73555,     -999.0,9,19900708,       1018,    56.7972,   -52.3325,       3523,  3252.0,   2.3734,  34.9066,2,  34.9065,2,    264.6,2,   286.0,2,   10.96,6,    1.05,6,-999.000,9,-999.000,9,-999.000,-999.000,9,    3252,   13.80,6,   2.1105
18DA90012_1,      AR07W,      20,          1,      73554,     -999.0,9,19900708,       1018,    56.7972,   -52.3325,       3523,  3355.0,   2.1235,  34.8930,2,  34.8949,2,    270.8,2,  -999.0,9,   10.81,6,    1.08,6,-999.000,9,-999.000,9,-999.000,-999.000,9,    3355,   14.44,6,   1.8558
18DA90012_1,      AR07W,      20,          1,      73553,     -999.0,9,19900708,       1018,    56.7972,   -52.3325,       3523,  3457.0,   1.8336,  34.8864,2,  34.8869,2,    275.3,2,   296.3,6,    9.31,6,    1.03,6,-999.000,9,-999.000,9,-999.000,-999.000,9,    3457,   13.12,6,   1.5624
18DA90012_1,      AR07W,      20,          1,      73552,     -999.0,9,19900708,       1018,    56.7972,   -52.3325,       3523,  3564.0,   1.5636,  34.8828,2,  34.8795,6,    275.9,2,   297.6,2,   10.01,6,    1.02,6,-999.000,9,-999.000,9,-999.000,-999.000,9,    3564,   14.16,6,   1.2881
18DA90012_1,      AR07W,      21,          1,      73591,     -999.0,9,19900708,       1618,    56.3600,   -52.8102,       3528,     5.0,   4.6829,  34.0047,2,  34.0149,2,    382.9,2,   376.6,2,    0.00,6,    0.10,6,   5.750,2,  10.790,4,-999.000,  12.330,3,       5,    0.00,6,   4.6825
18DA90012_1,      AR07W,      21,          1,      73590,     -999.0,9,19900708,       1618,    56.3600,   -52.8102,       3528,    40.0,   4.3130,  34.5608,2,  34.5305,2,    310.7,2,   329.1,2,    6.47,6,    0.34,6,-999.000,9,-999.000,9,-999.000,-999.000,9,      40,    8.74,6,   4.3101
18DA90012_1,      AR07W,      21,          1,      73589,     -999.0,9,19900708,       1618,    56.3600,   -52.8102,       3528,    87.0,   3.3332,  34.7408,2,  34.7445,2,    288.3,2,   312.5,2,    8.21,6,    0.99,6,-999.000,9,-999.000,9,-999.000,-999.000,9,      87,   14.09,6,   3.3277
18DA90012_1,      AR07W,      21,          1,      73588,     -999.0,9,19900708,       1618,    56.3600,   -52.8102,       3528,   290.0,   3.0733,  34.8210,2,  34.8216,2,    275.1,2,   297.8,2,    8.79,6,    1.07,6,-999.000,9,-999.000,9,-999.000,-999.000,9,     290,   16.11,6,   3.0549
18DA90012_1,      AR07W,      21,          1,      73587,     -999.0,9,19900708,       1618,    56.3600,   -52.8102,       3528,   490.0,   3.0833,  34.8331,2,  34.8351,2,    271.8,2,   294.8,2,    8.89,6,    1.06,6,   3.570,2,   2.070,4,-999.000,   6.500,2,     490,   16.16,6,   3.0514
18DA90012_1,      AR07W,      21,          1,      73586,     -999.0,9,19900708,       1618,    56.3600,   -52.8102,       3528,   743.0,   2.9433,  34.8223,2,  34.8231,2,    271.9,2,  -999.0,9,    8.81,6,    1.06,6,-999.000,9,-999.000,9,-999.000,-999.000,9,     743,   15.90,6,   2.8943
18DA90012_1,      AR07W,      21,          1,      73585,     -999.0,9,19900708,       1618,    56.3600,   -52.8102,       3528,   995.0,   2.9533,  34.8275,2,  34.8393,2,    274.2,2,   300.2,2,    8.72,6,    1.06,6,-999.000,9,-999.000,9,   2.951,-999.000,9,     995,   15.63,6,   2.8856
18DA90012_1,      AR07W,      21,          1,      73584,     -999.0,9,19900708,       1618,    56.3600,   -52.8102,       3528,  1195.0,   2.9633,  34.8297,2,  34.8308,2,    276.1,2,  -999.0,9,    8.51,6,    1.09,6,-999.000,9,-999.000,9,-999.000,-999.000,9,    1195,   15.80,6,   2.8800
18DA90012_1,      AR07W,      21,          1,      73583,     -999.0,9,19900708,       1618,    56.3600,   -52.8102,       3528,  1399.0,   2.9733,  34.8319,2,  34.8334,2,    274.2,2,   300.4,2,    8.59,6,    1.09,6,-999.000,9,-999.000,9,-999.000,-999.000,9,    1399,   15.74,6,   2.8735
18DA90012_1,      AR07W,      21,          1,      73582,     -999.0,9,19900708,       1618,    56.3600,   -52.8102,       3528,  1602.0,   2.9833,  34.8350,2,  34.8359,6,    276.2,2,  -999.0,9,    8.66,6,    1.10,6,-999.000,9,-999.000,9,-999.000,-999.000,9,    1602,   15.83,6,   2.8664
18DA90012_1,      AR07W,      21,          1,      73581,     -999.0,9,19900708,       1618,    56.3600,   -52.8102,       3528,  1807.0,   3.0033,  34.8402,2,  34.8408,2,    273.8,2,   297.4,2,    8.76,6,    1.10,6,-999.000,9,-999.000,9,   3.007,-999.000,9,    1807,   16.02,6,   2.8683
18DA90012_1,      AR07W,      21,          1,      73580,     -999.0,9,19900708,       1618,    56.3600,   -52.8102,       3528,  2002.0,   3.0833,  34.8570,2,  34.8564,2,    271.0,2,  -999.0,9,    8.99,6,    1.11,6,   3.020,2,   1.720,4,-999.000,   6.400,2,    2002,   15.95,6,   2.9295
18DA90012_1,      AR07W,      21,          1,      73579,     -999.0,9,19900708,       1618,    56.3600,   -52.8102,       3528,  2223.0,   3.3132,  34.9198,2,  34.9197,2,    256.5,2,   277.7,2,   10.49,6,    1.08,6,-999.000,9,-999.000,9,-999.000,-999.000,9,    2223,   16.12,6,   3.1349
18DA90012_1,      AR07W,      21,          1,      73578,     -999.0,9,19900708,       1618,    56.3600,   -52.8102,       3528,  2474.0,   3.1432,  34.9238,2,  34.9256,2,    258.4,2,   278.3,2,   10.87,6,    1.07,6,   1.260,2,   1.530,4,-999.000,   3.390,2,    2474,   15.61,6,   2.9433
18DA90012_1,      AR07W,      21,          1,      73577,     -999.0,9,19900708,       1618,    56.3600,   -52.8102,       3528,  2733.0,   2.9533,  34.9297,2,  34.9296,2,    259.4,2,  -999.0,9,   11.32,6,    1.07,6,-999.000,9,-999.000,9,-999.000,-999.000,9,    2733,   15.00,6,   2.7311
18DA90012_1,      AR07W,      21,          1,      73576,     -999.0,9,19900708,       1618,    56.3600,   -52.8102,       3528,  2991.0,   2.6634,  34.9167,2,  34.9156,2,    263.8,2,  -999.0,9,   11.73,6,    1.08,6,   1.250,2,   2.250,4,-999.000,   3.250,2,    2991,   15.60,6,   2.4209
18DA90012_1,      AR07W,      21,          1,      73575,     -999.0,9,19900708,       1618,    56.3600,   -52.8102,       3528,  3197.0,   2.3434,  34.9054,2,  34.9038,2,    284.1,2,   285.5,2,   11.44,6,    1.04,6,-999.000,9,-999.000,9,-999.000,-999.000,9,    3197,   14.97,6,   2.0869
18DA90012_1,      AR07W,      21,          1,      73574,     -999.0,9,19900708,       1618,    56.3600,   -52.8102,       3528,  3346.0,   1.9735,  34.8890,2,  34.8920,2,    276.2,2,  -999.0,9,   10.08,6,    0.99,6,-999.000,9,-999.000,9,-999.000,-999.000,9,    3346,   14.14,6,   1.7104
18DA90012_1,      AR07W,      21,          1,      73573,     -999.0,9,19900708,       1618,    56.3600,   -52.8102,       3528,  3449.0,   1.6936,  34.8833,2,  34.8821,2,    278.1,2,   293.8,6,    9.73,6,    0.98,6,-999.000,9,-999.000,9,-999.000,-999.000,9,    3449,   14.18,6,   1.4267
18DA90012_1,      AR07W,      21,          1,      73572,     -999.0,9,19900708,       1618,    56.3600,   -52.8102,       3528,  3545.0,   1.5436,  34.8807,2,  34.8784,6,    276.9,2,   295.2,2,    9.98,6,    1.00,6,   2.630,2,   1.980,4,-999.000,   5.730,2,    3545,   13.97,6,   1.2706
18DA90012_1,      AR07W,      22,          1,      73611,     -999.0,9,19900708,       2134,    55.9113,   -53.2882,       3187,     4.0,   4.6529,  33.6567,2,  33.6750,2,    362.3,2,   364.5,2,    0.00,6,    0.05,6,   5.850,2,  12.850,4,-999.000,  12.710,3,       4,    0.00,6,   4.6526
18DA90012_1,      AR07W,      22,          1,      73610,     -999.0,9,19900708,       2134,    55.9113,   -53.2882,       3187,    65.0,   2.7333,  34.5628,2,  34.5594,2,    273.2,2,   302.5,2,    7.22,6,    0.91,6,-999.000,9,-999.000,9,-999.000,-999.000,9,      65,   13.98,6,   2.7296
18DA90012_1,      AR07W,      22,          1,      73609,     -999.0,9,19900708,       2134,    55.9113,   -53.2882,       3187,   117.0,   3.7031,  34.8048,2,  34.7997,2,    263.5,2,   292.9,2,    6.80,6,    0.93,6,-999.000,9,-999.000,9,-999.000,-999.000,9,     117,   13.18,6,   3.6953
18DA90012_1,      AR07W,      22,          1,      73608,     -999.0,9,19900708,       2134,    55.9113,   -53.2882,       3187,   320.0,   3.5332,  34.8570,2,  34.8456,2,    252.4,2,   290.8,2,    8.15,6,    1.00,6,-999.000,9,-999.000,9,-999.000,-999.000,9,     320,   14.75,6,   3.5116
18DA90012_1,      AR07W,      22,          1,      73607,     -999.0,9,19900708,       2134,    55.9113,   -53.2882,       3187,   519.0,   3.0733,  34.8212,2,  34.8163,2,    270.5,2,   297.2,2,    8.97,6,    1.02,6,   3.820,2,   2.960,4,-999.000,   8.070,2,     519,   15.97,6,   3.0394
18DA90012_1,      AR07W,      22,          1,      73606,     -999.0,9,19900708,       2134,    55.9113,   -53.2882,       3187,   752.0,   2.9933,  34.8263,2,  34.8237,2,    272.2,2,  -999.0,9,    8.39,6,    1.03,6,-999.000,9,-999.000,9,-999.000,-999.000,9,     752,   15.38,6,   2.9433
18DA90012_1,      AR07W,      22,          1,      73605,     -999.0,9,19900708,       2134,    55.9113,   -53.2882,       3187,   970.0,   2.9533,  34.8285,2,  34.8245,2,    272.1,2,   299.3,2,    8.67,6,    1.10,6,-999.000,9,-999.000,9,   2.954,-999.000,9,     970,   15.92,6,   2.8875
18DA90012_1,      AR07W,      22,          1,      73604,     -999.0,9,19900708,       2134,    55.9113,   -53.2882,       3187,  1180.0,   2.9533,  34.8307,2,  34.8306,2,    274.1,2,  -999.0,9,    7.87,6,    1.04,6,-999.000,9,-999.000,9,-999.000,-999.000,9,    1180,   14.25,6,   2.8713
18DA90012_1,      AR07W,      22,          1,      73603,     -999.0,9,19900708,       2134,    55.9113,   -53.2882,       3187,  1390.0,   2.9533,  34.8309,2,  34.8290,2,    272.7,2,   298.9,2,    8.88,6,    1.12,6,-999.000,9,-999.000,9,-999.000,-999.000,9,    1390,   15.69,6,   2.8544
18DA90012_1,      AR07W,      22,          1,      73602,     -999.0,9,19900708,       2134,    55.9113,   -53.2882,       3187,  1621.0,   2.9833,  34.8391,2,  34.8361,6,    268.7,2,  -999.0,9,    8.99,6,    1.11,6,   3.340,2,   2.680,4,-999.000,   7.120,2,    1621,   15.72,6,   2.8647
18DA90012_1,      AR07W,      22,          1,      73601,     -999.0,9,19900708,       2134,    55.9113,   -53.2882,       3187,  1829.0,   3.0133,  34.8472,2,  34.8446,2,    268.1,2,   295.9,2,    9.15,6,    1.13,6,-999.000,9,-999.000,9,   3.018,-999.000,9,    1829,   15.78,6,   2.8762
18DA90012_1,      AR07W,      22,          1,      73600,     -999.0,9,19900708,       2134,    55.9113,   -53.2882,       3187,  2014.0,   3.2932,  34.9031,2,  34.9020,2,    256.9,2,   282.5,2,   10.44,6,    1.05,6,   1.680,2,   2.050,4,-999.000,   3.850,2,    2014,   16.34,6,   3.1351
18DA90012_1,      AR07W,      22,          1,      73599,     -999.0,9,19900708,       2134,    55.9113,   -53.2882,       3187,  2240.0,   3.1732,  34.9189,2,  34.9162,2,    255.1,2,  -999.0,9,   10.88,6,    1.04,6,-999.000,9,-999.000,9,-999.000,-999.000,9,    2240,   15.83,6,   2.9956
18DA90012_1,      AR07W,      22,          1,      73598,     -999.0,9,19900708,       2134,    55.9113,   -53.2882,       3187,  2489.0,   2.9333,  34.9208,2,  34.9195,2,    258.2,2,   279.9,2,   11.09,6,    1.01,6,   1.280,2,   2.010,4,-999.000,   2.980,2,    2489,   14.97,6,   2.7357
18DA90012_1,      AR07W,      22,          1,      73597,     -999.0,9,19900708,       2134,    55.9113,   -53.2882,       3187,  2695.0,   2.7034,  34.9166,2,  34.9158,2,    262.4,2,  -999.0,9,   11.37,6,    1.00,6,-999.000,9,-999.000,9,   2.698,-999.000,9,    2695,   15.17,6,   2.4899
18DA90012_1,      AR07W,      22,          1,      73596,     -999.0,9,19900708,       2134,    55.9113,   -53.2882,       3187,  2800.0,   2.5534,  34.9090,2,  34.9083,2,    266.0,2,  -999.0,9,   11.63,6,    0.99,6,-999.000,9,-999.000,9,-999.000,-999.000,9,    2800,   15.39,6,   2.3326
18DA90012_1,      AR07W,      22,          1,      73595,     -999.0,9,19900708,       2134,    55.9113,   -53.2882,       3187,  2903.0,   2.3534,  34.9003,2,  34.9006,2,    267.9,2,  -999.0,9,   11.52,6,    0.97,6,-999.000,9,-999.000,9,-999.000,-999.000,9,    2903,   15.23,6,   2.1266
18DA90012_1,      AR07W,      22,          1,      73594,     -999.0,9,19900708,       2134,    55.9113,   -53.2882,       3187,  3009.0,   2.0635,  34.8907,2,  34.8908,2,    272.4,2,   290.6,2,   10.72,6,    0.96,6,-999.000,9,-999.000,9,-999.000,-999.000,9,    3009,   14.57,6,   1.8324
18DA90012_1,      AR07W,      22,          1,      73593,     -999.0,9,19900708,       2134,    55.9113,   -53.2882,       3187,  3113.0,   1.7136,  34.8811,2,  34.8806,2,    275.2,2,   295.9,6,    9.66,6,    0.95,6,-999.000,9,-999.000,9,-999.000,-999.000,9,    3113,   13.89,6,   1.4801
18DA90012_1,      AR07W,      22,          1,      73592,     -999.0,9,19900708,       2134,    55.9113,   -53.2882,       3187,  3208.0,   1.6036,  34.8805,2,  34.8776,6,    276.1,2,   295.0,2,    9.87,6,    0.96,6,   2.630,2,   2.070,4,-999.000,   5.440,2,    3208,   14.12,6,   1.3632