BOTTLE,20211124CCHSIORKP
EXPOCODE,SECT_ID,STNNBR,CASTNO,SAMPNO,BTLNBR,BTLNBR_FLAG_W,DATE,TIME,LATITUDE,LONGITUDE,DEPTH,CTDPRS,CTDTMP,CTDSAL,CTDSAL_FLAG_W,SALNTY,SALNTY_FLAG_W,CTDOXY,CTDOXY_FLAG_W,OXYGEN,OXYGEN_FLAG_W,SILCAT,SILCAT_FLAG_W,PHSPHT,PHSPHT_FLAG_W,CFC-11,CFC-11_FLAG_W,CFC113,CFC113_FLAG_W,REVTMP,CCL4,CCL4_FLAG_W,CTDRAW,NO2+NO3,NO2+NO3_FLAG_W,THETA
,,,,,,,,,,,METERS,DBAR,ITS-90,PSS-78,,PSS-78,,UMOL/KG,,UMOL/KG,,UMOL/KG,,UMOL/KG,,PMOL/KG,,PMOL/KG,,ITS-90,PMOL/KG,,DBAR,UMOL/KG,,DEG C
18DA90012_1,      AR07W,       7,          1,      73340,     -999.0,9,19900704,       1517,    58.3758,   -52.9948,       3457,    38.0,   3.9531,  34.6048,2,  34.6101,2,    315.9,2,   342.1,3,    5.39,6,    0.74,6,   4.140,2,   3.940,4,-999.000,  13.640,3,      38,    9.62,6,   3.9505
18DA90012_1,      AR07W,       7,          1,      73339,     -999.0,9,19900704,       1517,    58.3758,   -52.9948,       3457,    90.0,   3.1332,  34.7798,2,  34.7697,2,    290.7,2,   317.9,3,    7.73,6,    1.02,6,-999.000,9,-999.000,9,-999.000,-999.000,9,      90,   14.71,6,   3.1277
18DA90012_1,      AR07W,       7,          1,      73338,     -999.0,9,19900704,       1517,    58.3758,   -52.9948,       3457,   190.0,   3.0633,  34.8139,2,  34.8131,2,    286.1,2,   317.8,3,    6.85,6,    0.97,6,-999.000,9,-999.000,9,-999.000,-999.000,9,     190,   13.17,6,   3.0514
18DA90012_1,      AR07W,       7,          1,      73337,     -999.0,9,19900704,       1517,    58.3758,   -52.9948,       3457,   390.0,   2.9833,  34.8230,2,  34.8228,2,    287.4,2,   317.6,3,    8.58,6,    1.06,6,-999.000,9,-999.000,9,-999.000,-999.000,9,     390,   15.76,6,   2.9585
18DA90012_1,      AR07W,       7,          1,      73336,     -999.0,9,19900704,       1517,    58.3758,   -52.9948,       3457,   600.0,   2.9533,  34.8252,2,  34.8224,2,    288.7,2,   317.9,3,    8.72,6,    1.06,6,-999.000,9,-999.000,9,-999.000,-999.000,9,     600,   15.54,6,   2.9143
18DA90012_1,      AR07W,       7,          1,      73335,     -999.0,9,19900704,       1517,    58.3758,   -52.9948,       3457,   800.0,   2.9333,  34.8274,2,  34.8265,2,    289.1,2,   317.8,3,    8.71,6,    1.08,6,   2.990,2,-999.000,5,-999.000,   9.670,2,     800,   15.74,6,   2.8802
18DA90012_1,      AR07W,       7,          1,      73334,     -999.0,9,19900704,       1517,    58.3758,   -52.9948,       3457,  1000.0,   2.9333,  34.8295,2,  34.8312,2,    289.5,2,   317.8,3,    8.72,6,    1.08,6,-999.000,9,-999.000,9,   2.935,-999.000,9,    1000,   15.80,6,   2.8654
18DA90012_1,      AR07W,       7,          1,      73333,     -999.0,9,19900704,       1517,    58.3758,   -52.9948,       3457,  1250.0,   2.9233,  34.8278,2,  34.8288,2,    289.5,2,   316.7,3,    8.10,6,    1.04,6,-999.000,9,-999.000,9,-999.000,-999.000,9,    1250,   14.73,6,   2.8360
18DA90012_1,      AR07W,       7,          1,      73332,     -999.0,9,19900704,       1517,    58.3758,   -52.9948,       3457,  1502.0,   2.9233,  34.8280,2,  34.8288,2,    285.7,2,   316.3,6,    8.90,6,    1.07,6,-999.000,9,-999.000,9,-999.000,-999.000,9,    1502,   15.79,6,   2.8155
18DA90012_1,      AR07W,       7,          1,      73331,     -999.0,9,19900704,       1517,    58.3758,   -52.9948,       3457,  1754.0,   2.9733,  34.8362,2,  34.8361,6,    285.7,2,   315.2,3,    7.93,6,    1.03,6,   3.620,2,   1.530,4,-999.000,   9.030,2,    1754,   14.21,6,   2.8434
18DA90012_1,      AR07W,       7,          1,      73329,     -999.0,9,19900704,       1517,    58.3758,   -52.9948,       3457,  1962.0,   3.0033,  34.8423,2,  34.8418,2,    288.3,2,   314.0,3,    9.20,6,    1.07,6,-999.000,9,-999.000,9,-999.000,-999.000,9,    1962,   16.19,6,   2.8544
18DA90012_1,      AR07W,       7,          1,      73330,     -999.0,9,19900704,       1517,    58.3758,   -52.9948,       3457,  1962.0,   3.0033,  34.8423,2,  34.8406,2,    288.3,2,   314.9,3,    9.04,6,    1.09,6,-999.000,9,-999.000,9,   2.997,-999.000,9,    1962,   15.99,6,   2.8544
18DA90012_1,      AR07W,       7,          1,      73328,     -999.0,9,19900704,       1517,    58.3758,   -52.9948,       3457,  2222.0,   3.2832,  34.9118,2,  34.9138,2,    273.2,2,   296.2,3,   10.57,6,    1.10,6,-999.000,9,-999.000,9,-999.000,-999.000,9,    2222,   16.06,6,   3.1055
18DA90012_1,      AR07W,       7,          1,      73327,     -999.0,9,19900704,       1517,    58.3758,   -52.9948,       3457,  2479.0,   3.1033,  34.9188,2,  34.9199,2,    274.1,2,   295.1,3,   10.07,6,    1.03,6,-999.000,9,-999.000,9,-999.000,-999.000,9,    2479,   14.66,6,   2.9036
18DA90012_1,      AR07W,       7,          1,      73326,     -999.0,9,19900704,       1517,    58.3758,   -52.9948,       3457,  2730.0,   2.8733,  34.9177,2,  34.9213,2,    278.1,2,   297.7,3,   10.90,6,    1.04,6,-999.000,9,-999.000,9,   2.873,-999.000,9,    2730,   14.76,6,   2.6530
18DA90012_1,      AR07W,       7,          1,      73325,     -999.0,9,19900704,       1517,    58.3758,   -52.9948,       3457,  2984.0,   2.6034,  34.9166,2,  34.9181,2,    281.6,2,   296.0,3,   12.58,6,    1.05,6,   1.010,2,   1.550,4,-999.000,   3.610,2,    2984,   15.70,6,   2.3629
18DA90012_1,      AR07W,       7,          1,      73324,     -999.0,9,19900704,       1517,    58.3758,   -52.9948,       3457,  3190.0,   2.2635,  34.9024,2,  34.9030,2,    286.4,2,   302.0,3,   12.75,6,    1.13,6,-999.000,9,-999.000,9,-999.000,-999.000,9,    3190,   15.33,6,   2.0095
18DA90012_1,      AR07W,       7,          1,      73323,     -999.0,9,19900704,       1517,    58.3758,   -52.9948,       3457,  3360.0,   1.8436,  34.8850,2,  34.8875,2,    295.9,2,   306.2,3,   10.23,6,    1.07,6,-999.000,9,-999.000,9,-999.000,-999.000,9,    3360,   14.51,6,   1.5821
18DA90012_1,      AR07W,       7,          1,      73322,     -999.0,9,19900704,       1517,    58.3758,   -52.9948,       3457,  3458.0,   1.5536,  34.8814,2,  34.8800,2,    294.8,2,   311.6,6,    9.83,6,    1.07,6,-999.000,9,-999.000,9,-999.000,-999.000,9,    3458,   14.19,6,   1.2893
18DA90012_1,      AR07W,       7,          1,      73321,     -999.0,9,19900704,       1517,    58.3758,   -52.9948,       3457,  3491.0,   1.5136,  34.8805,2,  34.8794,6,    296.1,2,   311.9,3,   10.07,6,    1.08,6,   2.140,2,   1.980,4,-999.000,   6.810,2,    3491,   14.19,6,   1.2469
18DA90012_1,      AR07W,       8,          2,      73360,     -999.0,9,19900704,       2325,    58.9275,   -53.4995,       3387,     5.0,   4.4929,  34.4967,2,  34.4976,2,    352.5,2,   351.9,3,    0.00,6,    0.36,6,   4.530,2,   4.360,4,-999.000,  13.520,3,       5,    4.48,6,   4.4926
18DA90012_1,      AR07W,       8,          2,      73359,     -999.0,9,19900704,       2325,    58.9275,   -53.4995,       3387,    40.0,   3.6831,  34.5918,2,  34.5950,2,    298.6,2,   339.9,3,    3.63,6,    0.69,6,   4.450,2,   4.150,4,-999.000,  13.170,3,      40,    8.43,6,   3.6805
18DA90012_1,      AR07W,       8,          2,      73358,     -999.0,9,19900704,       2325,    58.9275,   -53.4995,       3387,    90.0,   3.1233,  34.7878,2,  34.7850,2,    287.3,2,   315.5,3,    8.34,6,    1.06,6,-999.000,9,-999.000,9,-999.000,-999.000,9,      90,   15.11,6,   3.1177
18DA90012_1,      AR07W,       8,          2,      73357,     -999.0,9,19900704,       2325,    58.9275,   -53.4995,       3387,   190.0,   3.0233,  34.8069,2,  34.8106,2,    283.2,2,   313.8,3,    8.72,6,    1.09,6,-999.000,9,-999.000,9,-999.000,-999.000,9,     190,   15.38,6,   3.0115
18DA90012_1,      AR07W,       8,          2,      73356,     -999.0,9,19900704,       2325,    58.9275,   -53.4995,       3387,   390.0,   2.9133,  34.8160,2,  34.8204,2,    283.6,2,   315.0,3,    9.22,6,    1.09,6,-999.000,9,-999.000,9,-999.000,-999.000,9,     390,   16.05,6,   2.8888
18DA90012_1,      AR07W,       8,          2,      73355,     -999.0,9,19900704,       2325,    58.9275,   -53.4995,       3387,   593.0,   2.9033,  34.8222,2,  34.8218,2,    282.7,2,   314.0,3,    9.15,6,    1.08,6,-999.000,9,-999.000,9,-999.000,-999.000,9,     593,   15.80,6,   2.8651
18DA90012_1,      AR07W,       8,          2,      73354,     -999.0,9,19900704,       2325,    58.9275,   -53.4995,       3387,   792.0,   2.9033,  34.8244,2,  34.8253,2,    283.5,2,   315.5,3,    9.13,6,    1.07,6,   3.470,2,-999.000,5,   2.904,   9.560,2,     792,   15.67,6,   2.8510
18DA90012_1,      AR07W,       8,          2,      73353,     -999.0,9,19900704,       2325,    58.9275,   -53.4995,       3387,   992.0,   2.8933,  34.8245,2,  34.8253,2,    282.6,2,   313.3,3,    9.14,6,    1.08,6,-999.000,9,-999.000,9,-999.000,-999.000,9,     992,   15.77,6,   2.8263
18DA90012_1,      AR07W,       8,          2,      73352,     -999.0,9,19900704,       2325,    58.9275,   -53.4995,       3387,  1244.0,   2.9033,  34.8267,2,  34.8269,2,    286.1,2,   314.1,6,    9.40,6,    1.09,6,-999.000,9,-999.000,9,-999.000,-999.000,9,    1244,   15.86,6,   2.8167
18DA90012_1,      AR07W,       8,          2,      73351,     -999.0,9,19900704,       2325,    58.9275,   -53.4995,       3387,  1460.0,   2.9133,  34.8259,2,  34.8283,6,    286.6,2,   314.2,3,    9.21,6,    1.05,6,-999.000,9,-999.000,9,-999.000,-999.000,9,    1460,   15.89,6,   2.8091
18DA90012_1,      AR07W,       8,          2,      73350,     -999.0,9,19900704,       2325,    58.9275,   -53.4995,       3387,  1712.0,   2.9233,  34.8281,2,  34.8302,2,    350.6,2,   314.2,3,    9.02,6,    1.07,6,   3.630,2,   1.090,3,   2.926,   9.230,2,    1712,   15.77,6,   2.7977
18DA90012_1,      AR07W,       8,          2,      73349,     -999.0,9,19900704,       2325,    58.9275,   -53.4995,       3387,  1971.0,   3.0433,  34.8523,2,  34.8462,2,    282.8,2,   310.6,3,    9.30,6,    1.11,6,-999.000,9,-999.000,9,-999.000,-999.000,9,    1971,   15.71,6,   2.8930
18DA90012_1,      AR07W,       8,          2,      73348,     -999.0,9,19900704,       2325,    58.9275,   -53.4995,       3387,  2071.0,   3.2532,  34.8973,2,  34.8967,2,    271.7,2,   295.9,3,   10.15,6,    1.07,6,   1.520,2,   0.950,2,-999.000,   4.870,2,    2071,   16.06,6,   3.0904
18DA90012_1,      AR07W,       8,          2,      73347,     -999.0,9,19900704,       2325,    58.9275,   -53.4995,       3387,  2280.0,   3.1832,  34.9170,2,  34.9174,2,    270.3,2,   293.4,3,   10.81,6,    1.07,6,-999.000,9,-999.000,9,-999.000,-999.000,9,    2280,   16.00,6,   3.0016
18DA90012_1,      AR07W,       8,          2,      73346,     -999.0,9,19900704,       2325,    58.9275,   -53.4995,       3387,  2540.0,   2.9733,  34.9220,2,  34.9205,2,    272.6,2,   292.7,3,   11.27,6,    1.09,6,   1.220,2,   1.460,3,-999.000,   3.080,2,    2540,   15.75,6,   2.7700
18DA90012_1,      AR07W,       8,          2,      73345,     -999.0,9,19900704,       2325,    58.9275,   -53.4995,       3387,  2684.0,   2.8533,  34.9215,2,  34.9229,2,    274.2,2,   292.9,3,   11.83,6,    1.08,6,-999.000,9,-999.000,9,-999.000,-999.000,9,    2684,   15.46,6,   2.6380
18DA90012_1,      AR07W,       8,          2,      73344,     -999.0,9,19900704,       2325,    58.9275,   -53.4995,       3387,  2890.0,   2.6034,  34.9163,2,  34.9172,2,    278.1,2,   295.0,3,   12.31,6,    1.04,6,   1.150,2,   1.610,4,-999.000,   3.090,2,    2890,   15.15,6,   2.3725
18DA90012_1,      AR07W,       8,          2,      73343,     -999.0,9,19900704,       2325,    58.9275,   -53.4995,       3387,  3160.0,   2.1035,  34.8933,2,  34.8959,2,    287.3,2,   148.4,6,   11.23,6,    1.01,6,-999.000,9,-999.000,9,-999.000,-999.000,9,    3160,   14.80,6,   1.8563
18DA90012_1,      AR07W,       8,          2,      73342,     -999.0,9,19900704,       2325,    58.9275,   -53.4995,       3387,  3361.0,   1.5436,  34.8800,2,  34.8794,2,    291.2,2,   310.6,6,   10.30,6,    0.97,6,-999.000,9,-999.000,9,-999.000,-999.000,9,    3361,   14.14,6,   1.2894
18DA90012_1,      AR07W,       8,          2,      73341,     -999.0,9,19900704,       2325,    58.9275,   -53.4995,       3387,  3417.0,   1.5036,  34.8792,2,  34.8780,6,    293.0,2,   300.1,3,   10.08,6,    0.96,6,   2.020,2,   2.240,4,-999.000,   6.920,2,    3417,   13.96,6,   1.2447
18DA90012_1,      AR07W,       9,          1,      73380,     -999.0,9,19900705,       0537,    59.4910,   -53.9887,       3276,  -999.0,  -9.0038,-999.0000,9,-999.0000,9,   -999.0,9,  -999.0,9, -999.00,9, -999.00,9,-999.000,9,-999.000,9,-999.000,-999.000,9, -999.00, -999.00,9,  -9.0052
18DA90012_1,      AR07W,       9,          1,      73379,     -999.0,9,19900705,       0537,    59.4910,   -53.9887,       3276,    56.0,   1.8036,  34.3508,2,  34.3478,2,    288.3,2,   323.8,3,    6.58,6,    0.86,6,-999.000,5,-999.000,5,-999.000,-999.000,5,      56,    9.87,6,   1.8008
18DA90012_1,      AR07W,       9,          1,      73378,     -999.0,9,19900705,       0537,    59.4910,   -53.9887,       3276,   107.0,   3.2732,  34.7068,2,  34.7046,2,    279.2,2,   310.0,3,    7.87,6,    1.06,6,   4.530,2,   1.350,3,-999.000,   9.380,2,     107,   14.72,6,   3.2664
18DA90012_1,      AR07W,       9,          1,      73377,     -999.0,9,19900705,       0537,    59.4910,   -53.9887,       3276,   206.0,   3.6831,  34.8279,2,  34.8283,2,    282.8,2,   308.4,3,    8.61,6,    1.02,6,   3.610,2,   2.190,4,-999.000,   9.410,2,     206,   14.09,6,   3.6692
18DA90012_1,      AR07W,       9,          1,      73376,     -999.0,9,19900705,       0537,    59.4910,   -53.9887,       3276,   409.0,   3.4232,  34.8411,2,  34.8416,2,    276.3,2,   310.8,3,    8.81,6,    1.06,6,-999.000,9,-999.000,9,-999.000,-999.000,9,     409,   15.63,6,   3.3957
18DA90012_1,      AR07W,       9,          1,      73375,     -999.0,9,19900705,       0537,    59.4910,   -53.9887,       3276,   603.0,   3.2132,  34.8372,2,  34.8385,2,    281.0,2,   312.9,3,    8.81,6,    1.06,6,   3.400,2,   1.420,3,-999.000,   8.540,2,     603,   15.47,6,   3.1728
18DA90012_1,      AR07W,       9,          1,      73374,     -999.0,9,19900705,       0537,    59.4910,   -53.9887,       3276,   797.0,   3.0433,  34.8264,2,  34.8290,2,    282.3,2,   311.8,3,    9.10,6,    1.09,6,-999.000,9,-999.000,9,   3.050,-999.000,9,     797,   15.87,6,   2.9897
18DA90012_1,      AR07W,       9,          1,      73373,     -999.0,9,19900705,       0537,    59.4910,   -53.9887,       3276,  1001.0,   3.0833,  34.8365,2,  34.8377,2,    277.9,2,   309.8,3,    8.59,6,    1.07,6,   3.250,2,   1.080,3,-999.000,   8.080,2,    1001,   15.04,6,   3.0141
18DA90012_1,      AR07W,       9,          1,      73372,     -999.0,9,19900705,       0537,    59.4910,   -53.9887,       3276,  1256.0,   3.0733,  34.8438,2,  34.8452,2,    279.7,2,   319.3,6,    9.57,6,    1.09,6,-999.000,9,-999.000,9,-999.000,-999.000,9,    1256,   15.68,6,   2.9840
18DA90012_1,      AR07W,       9,          1,      73371,     -999.0,9,19900705,       0537,    59.4910,   -53.9887,       3276,  1518.0,   3.0233,  34.8420,2,  34.8426,6,    282.8,2,   311.3,3,    9.19,6,    1.08,6,   3.120,2,   0.980,2,-999.000,   7.820,2,    1518,   15.56,6,   2.9130
18DA90012_1,      AR07W,       9,          1,      73370,     -999.0,9,19900705,       0537,    59.4910,   -53.9887,       3276,  1775.0,   3.0433,  34.8492,2,  34.8495,2,    282.0,2,   305.7,3,    9.63,6,    1.11,6,-999.000,9,-999.000,9,   3.040,-999.000,9,    1775,   15.99,6,   2.9106
18DA90012_1,      AR07W,       9,          1,      73369,     -999.0,9,19900705,       0537,    59.4910,   -53.9887,       3276,  2033.0,   3.2532,  34.9071,2,  34.9040,2,    270.4,2,   295.2,3,   10.30,6,    1.10,6,   1.740,2,   1.190,3,-999.000,   4.290,2,    2033,   15.94,6,   3.0939
18DA90012_1,      AR07W,       9,          1,      73368,     -999.0,9,19900705,       0537,    59.4910,   -53.9887,       3276,  2133.0,   3.2032,  34.9125,2,  34.9138,2,    270.1,2,   294.7,3,   10.29,6,    1.11,6,-999.000,9,-999.000,9,-999.000,-999.000,9,    2133,   15.63,6,   3.0353
18DA90012_1,      AR07W,       9,          1,      73367,     -999.0,9,19900705,       0537,    59.4910,   -53.9887,       3276,  2330.0,   3.0733,  34.9152,2,  34.9154,2,    272.7,2,   293.8,3,   10.44,6,    1.07,6,   1.720,2,   1.060,3,-999.000,   3.790,2,    2330,   15.12,6,   2.8887
18DA90012_1,      AR07W,       9,          1,      73366,     -999.0,9,19900705,       0537,    59.4910,   -53.9887,       3276,  2532.0,   2.8933,  34.9190,2,  34.9187,2,    273.5,2,   294.7,3,   11.42,6,    1.09,6,-999.000,9,-999.000,9,   2.899,-999.000,9,    2532,   15.42,6,   2.6923
18DA90012_1,      AR07W,       9,          1,      73365,     -999.0,9,19900705,       0537,    59.4910,   -53.9887,       3276,  2743.0,   2.7133,  34.9168,2,  34.9172,2,    276.1,2,   295.2,3,   11.96,6,    1.11,6,   1.420,2,   1.290,3,-999.000,   3.600,2,    2743,   15.44,6,   2.4950
18DA90012_1,      AR07W,       9,          1,      73364,     -999.0,9,19900705,       0537,    59.4910,   -53.9887,       3276,  2948.0,   2.3934,  34.9045,2,  34.9044,2,    280.4,2,   288.5,3,   11.75,6,    1.06,6,-999.000,9,-999.000,9,-999.000,-999.000,9,    2948,   14.98,6,   2.1612
18DA90012_1,      AR07W,       9,          1,      73363,     -999.0,9,19900705,       0537,    59.4910,   -53.9887,       3276,  3098.0,   2.0735,  34.8921,2,  34.8926,2,    285.5,2,   304.6,3,   10.98,6,    1.04,6,   2.170,2,   1.920,4,-999.000,   5.420,2,    3098,   14.50,6,   1.8333
18DA90012_1,      AR07W,       9,          1,      73362,     -999.0,9,19900705,       0537,    59.4910,   -53.9887,       3276,  3195.0,   1.7836,  34.8864,2,  34.8841,2,    289.6,2,   305.8,6,    8.65,6,    0.94,6,-999.000,9,-999.000,9,-999.000,-999.000,9,    3195,   12.11,6,   1.5403
18DA90012_1,      AR07W,       9,          1,      73361,     -999.0,9,19900705,       0537,    59.4910,   -53.9887,       3276,  3312.0,   1.5336,  34.8818,2,  34.8792,6,    291.2,2,   315.0,3,    8.55,6,    0.99,6,   2.550,2,   1.910,4,-999.000,   6.110,2,    3312,   13.70,6,   1.2846
18DA90012_1,      AR07W,      10,          1,      73383,     -999.0,9,19900706,       0111,    60.4698,   -48.1525,        136,     6.0,  -0.0360,  32.8207,2,  32.8186,2,    326.4,2,   354.5,2,    3.17,6,    0.58,6,   5.910,6,   0.750,6,-999.000,  13.715,6,       6,    4.20,6,  -0.0362
18DA90012_1,      AR07W,      10,          1,      73382,     -999.0,9,19900706,       0111,    60.4698,   -48.1525,        136,    61.0,   0.0040,  33.3748,2,  33.3494,2,    306.7,2,   356.7,6,    4.40,6,    0.70,6,   5.580,6,   1.425,6,-999.000,  12.235,6,      61,    6.20,6,   0.0020
18DA90012_1,      AR07W,      10,          1,      73381,     -999.0,9,19900706,       0111,    60.4698,   -48.1525,        136,   127.0,   2.7633,  34.2558,2,  34.2541,6,    278.2,2,   315.6,3,    5.31,6,    0.75,6,   4.950,6,   0.935,6,-999.000,  10.685,6,     127,    8.17,6,   2.7559