BOTTLE,20211124CCHSIORKP
# Original header:
# Original header:
# Original header:
# Changed all fill flags to 9
#code : jjward hyd_to_exchange.pl 
#original files copied from HTML directory: 20020917
#original HYD file: ar07wahy.txt   Tue Sep 17 10:28:04 2002
#original SUM file: ar07wasu.txt   Tue Sep 17 10:31:45 2002
EXPOCODE,SECT_ID,STNNBR,CASTNO,SAMPNO,BTLNBR,BTLNBR_FLAG_W,DATE,TIME,LATITUDE,LONGITUDE,DEPTH,CTDPRS,CTDTMP,CTDSAL,CTDSAL_FLAG_W,SALNTY,SALNTY_FLAG_W,CTDOXY,CTDOXY_FLAG_W,OXYGEN,OXYGEN_FLAG_W,SILCAT,SILCAT_FLAG_W,PHSPHT,PHSPHT_FLAG_W,CFC-11,CFC-11_FLAG_W,CFC113,CFC113_FLAG_W,REVTMP,CCL4,CCL4_FLAG_W,CTDRAW,NO2+NO3,NO2+NO3_FLAG_W,THETA
,,,,,,,,,,,METERS,DBAR,ITS-90,PSS-78,,PSS-78,,UMOL/KG,,UMOL/KG,,UMOL/KG,,UMOL/KG,,PMOL/KG,,PMOL/KG,,ITS-90,PMOL/KG,,DBAR,UMOL/KG,,DEG C
18DA90012_1,      AR07W,       1,          1,      73220,     -999.0,9,19900702,       2232,    55.2453,   -48.9107,       3723,     3.7,   5.2997,  34.4877,2,  34.4870,2,    575.1,4,    49.4,4,    4.28,6,    0.48,6,-999.000,9,-999.000,9,-999.000,-999.000,9,       4,    5.53,6,   5.2994
18DA90012_1,      AR07W,       1,          1,      73219,     -999.0,9,19900702,       2232,    55.2453,   -48.9107,       3723,    50.0,   3.7811,  34.6388,2,  34.6421,2,    519.0,4,   324.5,2,    7.78,6,    0.93,6,-999.000,9,-999.000,9,-999.000,-999.000,9,      50,   12.36,6,   3.7778
18DA90012_1,      AR07W,       1,          1,      73218,     -999.0,9,19900702,       2232,    55.2453,   -48.9107,       3723,   101.0,   3.3012,  34.7498,2,  34.7478,2,    505.4,4,   309.7,2,    8.16,6,    1.08,6,-999.000,9,-999.000,9,-999.000,-999.000,9,     101,   15.47,6,   3.2948
18DA90012_1,      AR07W,       1,          1,      73217,     -999.0,9,19900702,       2232,    55.2453,   -48.9107,       3723,   163.1,   3.2422,  34.7829,2,  34.7813,2,    496.7,4,   306.4,2,    8.50,6,    1.09,6,-999.000,9,-999.000,9,-999.000,-999.000,9,     163,   16.04,6,   3.2318
18DA90012_1,      AR07W,       1,          1,      73216,     -999.0,9,19900702,       2232,    55.2453,   -48.9107,       3723,   390.0,   3.1552,  34.8150,2,  34.8228,2,    501.5,4,   292.8,2,    8.72,6,    1.10,6,-999.000,9,-999.000,9,-999.000,-999.000,9,     390,   16.04,6,   3.1300
18DA90012_1,      AR07W,       1,          1,      73215,     -999.0,9,19900702,       2232,    55.2453,   -48.9107,       3723,   631.6,   3.1023,  34.8272,2,  34.8267,2,    473.2,4,   297.1,2,    8.92,6,    1.11,6,-999.000,9,-999.000,9,-999.000,-999.000,9,     632,   16.05,6,   3.0603
18DA90012_1,      AR07W,       1,          1,      73214,     -999.0,9,19900702,       2232,    55.2453,   -48.9107,       3723,   730.0,   3.1372,  34.8373,2,  34.8330,2,    489.7,4,   294.9,2,    8.82,6,    1.08,6,-999.000,9,-999.000,9,   3.134,-999.000,9,     730,   16.07,6,   3.0880
18DA90012_1,      AR07W,       1,          1,      73213,     -999.0,9,19900702,       2232,    55.2453,   -48.9107,       3723,   997.7,   3.0793,  34.8365,2,  34.8349,2,    498.9,4,   297.1,2,    9.03,6,    1.08,6,-999.000,9,-999.000,9,-999.000,-999.000,9,     998,   16.22,6,   3.0104
18DA90012_1,      AR07W,       1,          1,      73212,     -999.0,9,19900702,       2232,    55.2453,   -48.9107,       3723,  1200.8,   3.0423,  34.8367,2,  34.8371,2,    505.8,4,   299.8,6,    8.85,6,    1.09,6,-999.000,9,-999.000,9,-999.000,-999.000,9,    1201,   16.43,6,   2.9578
18DA90012_1,      AR07W,       1,          1,      73211,     -999.0,9,19900702,       2232,    55.2453,   -48.9107,       3723,  1540.0,   3.0133,  34.8340,2,  34.8405,6,    512.8,4,   296.5,2,    9.31,6,    1.09,6,-999.000,9,-999.000,9,-999.000,-999.000,9,    1540,   16.41,6,   2.9013
18DA90012_1,      AR07W,       1,          1,      73210,     -999.0,9,19900702,       2232,    55.2453,   -48.9107,       3723,  1758.8,   3.0513,  34.8422,2,  34.8397,2,    498.0,4,   273.4,2,    9.37,6,    1.13,6,-999.000,9,-999.000,9,   3.044,-999.000,9,    1759,   16.17,6,   2.9199
18DA90012_1,      AR07W,       1,          1,      73209,     -999.0,9,19900702,       2232,    55.2453,   -48.9107,       3723,  1960.0,   3.2012,  34.8743,2,  34.8648,2,    492.3,4,   293.1,2,    9.67,6,    1.11,6,-999.000,9,-999.000,9,-999.000,-999.000,9,    1960,   16.32,6,   3.0496
18DA90012_1,      AR07W,       1,          1,      73208,     -999.0,9,19900702,       2232,    55.2453,   -48.9107,       3723,  2210.0,   3.3172,  34.9248,2,  34.9242,2,    480.1,4,   276.9,2,   11.69,6,    1.15,6,-999.000,9,-999.000,9,-999.000,-999.000,9,    2210,   16.59,6,   3.1400
18DA90012_1,      AR07W,       1,          1,      73207,     -999.0,9,19900702,       2232,    55.2453,   -48.9107,       3723,  2480.0,   3.1392,  34.9298,2,  34.9280,2,    481.9,4,   276.9,2,   11.80,6,    1.12,6,-999.000,9,-999.000,9,-999.000,-999.000,9,    2480,   16.42,6,   2.9388
18DA90012_1,      AR07W,       1,          1,      73206,     -999.0,9,19900702,       2232,    55.2453,   -48.9107,       3723,  2696.0,   2.9983,  34.9336,2,  34.9341,2,    479.7,4,   277.0,2,   12.12,6,    1.10,6,-999.000,9,-999.000,9,   2.999,-999.000,9,    2696,   16.17,6,   2.7789
18DA90012_1,      AR07W,       1,          1,      73205,     -999.0,9,19900702,       2232,    55.2453,   -48.9107,       3723,  3000.0,   2.7893,  34.9337,2,  34.9339,2,    493.6,4,   278.3,2,   13.39,6,    1.10,6,-999.000,9,-999.000,9,-999.000,-999.000,9,    3000,   16.07,6,   2.5431
18DA90012_1,      AR07W,       1,          1,      73204,     -999.0,9,19900702,       2232,    55.2453,   -48.9107,       3723,  3142.4,   2.6324,  34.9222,2,-999.0000,9,    495.8,4,  -999.0,9, -999.00,9, -999.00,9,-999.000,9,-999.000,9,-999.000,-999.000,9,    3142, -999.00,9,   2.3749
18DA90012_1,      AR07W,       1,          1,      73203,     -999.0,9,19900702,       2232,    55.2453,   -48.9107,       3723,  3394.3,   2.3694,  34.9111,2,  34.9105,2,    511.5,4,   282.1,2,   13.82,6,    1.10,6,-999.000,9,-999.000,9,-999.000,-999.000,9,    3394,   15.75,6,   2.0916
18DA90012_1,      AR07W,       1,          1,      73202,     -999.0,9,19900702,       2232,    55.2453,   -48.9107,       3723,  3600.0,   2.1065,  34.8999,2,  34.8989,2,    524.5,4,   287.5,6,   12.25,6,    1.09,6,-999.000,9,-999.000,9,-999.000,-999.000,9,    3600,   15.29,6,   1.8132
18DA90012_1,      AR07W,       1,          1,      73201,     -999.0,9,19900702,       2232,    55.2453,   -48.9107,       3723,  3728.4,   1.7406,  34.8894,2,  34.8868,6,    532.3,4,   295.7,2,   10.38,6,    1.02,6,-999.000,9,-999.000,9,-999.000,-999.000,9,    3728,   14.51,6,   1.4431
18DA90012_1,      AR07W,       2,          1,      73240,     -999.0,9,19900703,       0631,    55.7490,   -49.6753,       3676,     4.0,   4.9948,  34.4867,2,  34.4875,2,    357.8,2,   364.5,3,    5.61,6,    0.52,6,-999.000,9,-999.000,9,-999.000,-999.000,9,       4,    5.38,6,   4.9945
18DA90012_1,      AR07W,       2,          1,      73239,     -999.0,9,19900703,       0631,    55.7490,   -49.6753,       3676,    52.1,   4.3819,  34.5908,2,  34.5755,2,    319.6,2,   342.6,3,    7.27,6,    0.78,6,-999.000,9,-999.000,9,-999.000,-999.000,9,      52,    9.35,6,   4.3782
18DA90012_1,      AR07W,       2,          1,      73238,     -999.0,9,19900703,       0631,    55.7490,   -49.6753,       3676,   109.2,   3.3032,  34.7268,2,  34.7256,2,    282.2,2,   325.6,3,    8.97,6,    1.08,6,-999.000,9,-999.000,9,-999.000,-999.000,9,     109,   14.82,6,   3.2963
18DA90012_1,      AR07W,       2,          1,      73237,     -999.0,9,19900703,       0631,    55.7490,   -49.6753,       3676,   197.0,   3.1253,  34.8019,2,  34.8003,2,    267.6,2,   317.3,3,    8.97,6,    1.07,6,-999.000,9,-999.000,9,-999.000,-999.000,9,     197,   15.65,6,   3.1128
18DA90012_1,      AR07W,       2,          1,      73236,     -999.0,9,19900703,       0631,    55.7490,   -49.6753,       3676,   392.1,   3.0613,  34.8180,2,  34.8182,2,    267.6,2,   307.6,3,    9.50,6,    1.09,6,-999.000,9,-999.000,9,-999.000,-999.000,9,     392,   16.34,6,   3.0361
18DA90012_1,      AR07W,       2,          1,      73235,     -999.0,9,19900703,       0631,    55.7490,   -49.6753,       3676,   595.3,   3.1402,  34.8382,2,  34.8377,2,    267.1,2,   307.7,3,    9.69,6,    1.13,6,-999.000,9,-999.000,9,-999.000,-999.000,9,     595,   16.09,6,   3.1007
18DA90012_1,      AR07W,       2,          1,      73234,     -999.0,9,19900703,       0631,    55.7490,   -49.6753,       3676,   793.5,   3.1053,  34.8404,2,  34.8397,2,    263.1,2,   308.9,3,   10.18,6,    1.14,6,-999.000,9,-999.000,9,-999.000,-999.000,9,     794,   16.39,6,   3.0516
18DA90012_1,      AR07W,       2,          1,      73233,     -999.0,9,19900703,       0631,    55.7490,   -49.6753,       3676,   999.7,   3.0863,  34.8415,2,  34.8426,2,    268.3,2,   308.9,3,   10.01,6,    1.14,6,-999.000,9,-999.000,9,-999.000,-999.000,9,    1000,   16.43,6,   3.0171
18DA90012_1,      AR07W,       2,          1,      73232,     -999.0,9,19900703,       0631,    55.7490,   -49.6753,       3676,  1241.9,   3.0233,  34.8377,2,  34.8369,2,    274.0,2,   311.7,6,    9.93,6,    1.10,6,-999.000,9,-999.000,9,-999.000,-999.000,9,    1242,   16.38,6,   2.9357
18DA90012_1,      AR07W,       2,          1,      73231,     -999.0,9,19900703,       0631,    55.7490,   -49.6753,       3676,  1498.1,   3.0583,  34.8450,2,-999.0000,5,    270.6,2,  -999.0,9, -999.00,5, -999.00,5,-999.000,9,-999.000,9,-999.000,-999.000,9,    1498, -999.00,5,   2.9492
18DA90012_1,      AR07W,       2,          1,      73230,     -999.0,9,19900703,       0631,    55.7490,   -49.6753,       3676,  1743.5,   3.1502,  34.8652,2,  34.8648,2,    264.6,2,   306.5,3,   10.53,6,    1.10,6,-999.000,9,-999.000,9,   3.149,-999.000,9,    1744,   16.18,6,   3.0188
18DA90012_1,      AR07W,       2,          1,      73229,     -999.0,9,19900703,       0631,    55.7490,   -49.6753,       3676,  1991.3,   3.3182,  34.9124,2,  34.9022,2,    256.8,2,   294.4,3,   11.65,6,    1.19,6,-999.000,9,-999.000,9,-999.000,-999.000,9,    1991,   16.31,6,   3.1618
18DA90012_1,      AR07W,       2,          1,      73228,     -999.0,9,19900703,       0631,    55.7490,   -49.6753,       3676,  2227.8,   3.2382,  34.9259,2,  34.9248,2,    253.8,2,   290.0,3,   12.62,6,    1.13,6,-999.000,9,-999.000,9,-999.000,-999.000,9,    2228,   16.31,6,   3.0606
18DA90012_1,      AR07W,       2,          1,      73227,     -999.0,9,19900703,       0631,    55.7490,   -49.6753,       3676,  2496.2,   3.0713,  34.9318,2,  34.9307,2,    258.2,2,   289.2,3,   13.00,6,    1.15,6,-999.000,9,-999.000,9,-999.000,-999.000,9,    2496,   16.25,6,   2.8704
18DA90012_1,      AR07W,       2,          1,      73226,     -999.0,9,19900703,       0631,    55.7490,   -49.6753,       3676,  2743.5,   2.8963,  34.9318,2,  34.9325,2,    258.7,2,   290.0,3,   12.79,6,    1.06,6,-999.000,9,-999.000,9,-999.000,-999.000,9,    2744,   15.34,6,   2.6741
18DA90012_1,      AR07W,       2,          1,      73225,     -999.0,9,19900703,       0631,    55.7490,   -49.6753,       3676,  2993.3,   2.6674,  34.9257,2,  34.9242,2,    261.4,2,   291.8,3,   13.95,6,    1.08,6,-999.000,9,-999.000,9,-999.000,-999.000,9,    2993,   15.48,6,   2.4245
18DA90012_1,      AR07W,       2,          1,      73224,     -999.0,9,19900703,       0631,    55.7490,   -49.6753,       3676,  3183.8,   2.4794,  34.9184,2,  34.9185,2,    263.9,2,   293.5,3,   14.66,6,    1.10,6,-999.000,9,-999.000,9,-999.000,-999.000,9,    3184,   15.84,6,   2.2211
18DA90012_1,      AR07W,       2,          1,      73223,     -999.0,9,19900703,       0631,    55.7490,   -49.6753,       3676,  3397.3,   2.2155,  34.9042,2,  34.9099,2,    287.0,2,   298.4,3,   13.07,6,    1.07,6,-999.000,9,-999.000,9,-999.000,-999.000,9,    3397,   15.56,6,   1.9411
18DA90012_1,      AR07W,       2,          1,      73222,     -999.0,9,19900703,       0631,    55.7490,   -49.6753,       3676,  3595.6,   1.8386,  34.8909,2,  34.8930,2,    292.2,2,   303.2,6,   11.09,6,    1.02,6,-999.000,9,-999.000,9,-999.000,-999.000,9,    3596,   14.84,6,   1.5527
18DA90012_1,      AR07W,       2,          1,      73221,     -999.0,9,19900703,       0631,    55.7490,   -49.6753,       3676,  3708.8,   1.6166,  34.8863,2,  34.8843,6,    298.5,2,   303.7,3,   10.25,6,    1.00,6,-999.000,9,-999.000,9,-999.000,-999.000,9,    3709,   14.45,6,   1.3246
18DA90012_1,      AR07W,       3,          1,      73260,     -999.0,9,19900703,       1402,    56.1982,   -50.4053,       3663,     3.8,   4.9478,  34.4757,2,  34.4730,2,    361.4,2,   346.4,3,    3.99,6,    0.59,6,-999.000,9,-999.000,9,-999.000,-999.000,9,       4,    7.26,6,   4.9475
18DA90012_1,      AR07W,       3,          1,      73259,     -999.0,9,19900703,       1402,    56.1982,   -50.4053,       3663,    52.6,   3.8401,  34.6318,2,  34.6376,2,    317.6,2,   336.0,3,    2.67,6,    0.75,6,-999.000,9,-999.000,9,-999.000,-999.000,9,      53,    8.88,6,   3.8365
18DA90012_1,      AR07W,       3,          1,      73258,     -999.0,9,19900703,       1402,    56.1982,   -50.4053,       3663,    82.5,   3.1502,  34.7688,2,  34.7602,2,    294.1,2,   320.8,3,    8.39,6,    1.06,6,-999.000,9,-999.000,9,-999.000,-999.000,9,      83,   15.11,6,   3.1451
18DA90012_1,      AR07W,       3,          1,      73257,     -999.0,9,19900703,       1402,    56.1982,   -50.4053,       3663,   183.1,   2.9663,  34.8049,2,  34.8035,2,    289.1,2,   315.4,3,    8.83,6,    1.10,6,-999.000,9,-999.000,9,-999.000,-999.000,9,     183,   15.94,6,   2.9550
18DA90012_1,      AR07W,       3,          1,      73256,     -999.0,9,19900703,       1402,    56.1982,   -50.4053,       3663,   385.0,   2.9823,  34.8220,2,  34.8229,2,    285.1,2,   312.7,3,    8.92,6,    1.09,6,-999.000,9,-999.000,9,-999.000,-999.000,9,     385,   16.11,6,   2.9579
18DA90012_1,      AR07W,       3,          1,      73255,     -999.0,9,19900703,       1402,    56.1982,   -50.4053,       3663,   585.8,   2.9063,  34.8192,2,  34.8285,2,    286.0,2,   314.8,3,    8.68,6,    1.09,6,-999.000,9,-999.000,9,-999.000,-999.000,9,     586,   16.01,6,   2.8686
18DA90012_1,      AR07W,       3,          1,      73254,     -999.0,9,19900703,       1402,    56.1982,   -50.4053,       3663,   790.0,   2.9573,  34.8294,2,  34.8298,2,    289.0,2,   314.0,3,    8.87,6,    1.11,6,-999.000,9,-999.000,9,   2.954,-999.000,9,     790,   16.22,6,   2.9048
18DA90012_1,      AR07W,       3,          1,      73253,     -999.0,9,19900703,       1402,    56.1982,   -50.4053,       3663,   990.0,   2.9303,  34.8275,2,  34.8281,2,    287.6,2,   311.3,3,    8.91,6,    1.12,6,-999.000,9,-999.000,9,-999.000,-999.000,9,     990,   16.33,6,   2.8631
18DA90012_1,      AR07W,       3,          1,      73252,     -999.0,9,19900703,       1402,    56.1982,   -50.4053,       3663,  1242.7,   2.9253,  34.8267,2,  34.8275,2,    286.0,2,   313.4,6,    8.73,6,    1.07,6,-999.000,9,-999.000,9,-999.000,-999.000,9,    1243,   15.98,6,   2.8386
18DA90012_1,      AR07W,       3,          1,      73251,     -999.0,9,19900703,       1402,    56.1982,   -50.4053,       3663,  1497.2,   2.9253,  34.8270,2,  34.8281,6,    286.0,2,   314.7,3,    8.79,6,    1.10,6,-999.000,9,-999.000,9,-999.000,-999.000,9,    1497,   15.69,6,   2.8179
18DA90012_1,      AR07W,       3,          1,      73250,     -999.0,9,19900703,       1402,    56.1982,   -50.4053,       3663,  1736.6,   2.9443,  34.8281,2,  34.8300,2,    277.8,2,   313.8,3,    8.84,6,    1.06,6,-999.000,9,-999.000,9,   2.937,-999.000,9,    1737,   15.61,6,   2.8163
18DA90012_1,      AR07W,       3,          1,      73249,     -999.0,9,19900703,       1402,    56.1982,   -50.4053,       3663,  1990.0,   2.9653,  34.8334,2,-999.0000,9,    286.1,2,  -999.0,9, -999.00,9, -999.00,9,-999.000,9,-999.000,9,-999.000,-999.000,9,    1990, -999.00,9,   2.8145
18DA90012_1,      AR07W,       3,          1,      73248,     -999.0,9,19900703,       1402,    56.1982,   -50.4053,       3663,  2243.6,   3.2742,  34.8999,2,  34.9008,2,    270.5,2,   295.1,3,   10.43,6,    1.13,6,-999.000,9,-999.000,9,-999.000,-999.000,9,    2244,   16.39,6,   3.0946
18DA90012_1,      AR07W,       3,          1,      73247,     -999.0,9,19900703,       1402,    56.1982,   -50.4053,       3663,  2494.5,   3.2142,  34.9258,2,  34.9162,2,    267.6,2,   290.6,3,   11.63,6,    1.12,6,-999.000,9,-999.000,9,-999.000,-999.000,9,    2495,   16.28,6,   3.0110
18DA90012_1,      AR07W,       3,          1,      73246,     -999.0,9,19900703,       1402,    56.1982,   -50.4053,       3663,  2745.7,   3.0203,  34.9288,2,  34.9319,2,    268.9,2,   290.7,3,   12.49,6,    1.11,6,-999.000,9,-999.000,9,   3.021,-999.000,9,    2746,   15.99,6,   2.7954
18DA90012_1,      AR07W,       3,          1,      73245,     -999.0,9,19900703,       1402,    56.1982,   -50.4053,       3663,  3042.6,   2.7463,  34.9219,2,  34.9227,2,    272.1,2,   292.8,3,   12.81,6,    1.12,6,-999.000,9,-999.000,9,-999.000,-999.000,9,    3043,   15.77,6,   2.4967
18DA90012_1,      AR07W,       3,          1,      73244,     -999.0,9,19900703,       1402,    56.1982,   -50.4053,       3663,  3250.8,   2.4864,  34.9116,2,  34.9146,2,    276.5,2,   295.7,3,   13.30,6,    1.09,6,-999.000,9,-999.000,9,-999.000,-999.000,9,    3251,   15.71,6,   2.2209
18DA90012_1,      AR07W,       3,          1,      73243,     -999.0,9,19900703,       1402,    56.1982,   -50.4053,       3663,  3458.1,   2.0955,  34.8934,2,  34.8959,2,    284.7,2,   302.6,3,   11.42,6,    1.04,6,-999.000,9,-999.000,9,-999.000,-999.000,9,    3458,   14.80,6,   1.8177
18DA90012_1,      AR07W,       3,          1,      73242,     -999.0,9,19900703,       1402,    56.1982,   -50.4053,       3663,  3611.0,   1.6746,  34.8839,2,  34.8845,2,    289.8,2,   308.1,6,   10.37,6,    1.03,6,-999.000,9,-999.000,9,-999.000,-999.000,9,    3611,   14.33,6,   1.3914
18DA90012_1,      AR07W,       3,          1,      73241,     -999.0,9,19900703,       1402,    56.1982,   -50.4053,       3663,  3703.9,   1.5846,  34.8833,2,  34.8815,6,    288.7,2,   314.0,3,   10.79,6,    0.98,6,-999.000,9,-999.000,9,-999.000,-999.000,9,    3704,   14.08,6,   1.2939