BOTTLE,20211124CCHSIORKP
EXPOCODE,SECT_ID,STNNBR,CASTNO,SAMPNO,BTLNBR,BTLNBR_FLAG_W,DATE,TIME,LATITUDE,LONGITUDE,DEPTH,CTDPRS,CTDTMP,CTDSAL,CTDSAL_FLAG_W,SALNTY,SALNTY_FLAG_W,CTDOXY,CTDOXY_FLAG_W,OXYGEN,OXYGEN_FLAG_W,SILCAT,SILCAT_FLAG_W,NITRAT,NITRAT_FLAG_W,NITRIT,NITRIT_FLAG_W,PHSPHT,PHSPHT_FLAG_W,CFC-11,CFC-11_FLAG_W,CFC-12,CFC-12_FLAG_W,TCARBN,TCARBN_FLAG_W,ALKALI,ALKALI_FLAG_W,TRITUM,TRITUM_FLAG_W,HELIUM,HELIUM_FLAG_W,DELHE3,DELHE3_FLAG_W,DELC13,DELC13_FLAG_W,DELC14,DELC14_FLAG_W,C14ERR,NEON,NEON_FLAG_W,NEONER,CCL4,CCL4_FLAG_W,TRITER,HELIER,THETA,DELHER
,,,,,,,,,,,METERS,DBAR,ITS-90,PSS-78,,PSS-78,,UMOL/KG,,UMOL/KG,,UMOL/KG,,UMOL/KG,,UMOL/KG,,UMOL/KG,,PMOL/KG,,PMOL/KG,,UMOL/KG,,UMOL/KG,,TU,,NMOL/KG,,PERCNT,,/MILLE,,/MILLE,,/MILLE,NMOL/KG,,NMOL/KG,PMOL/KG,,TU,NMOL/KG,DEG C,PERCNT
  316N145_7,       I08N,     336,          1,         36,         36,2,19950322,       1352,   -15.0002,    80.0005,       5081,     3.1,  28.4618,  34.7062,2,  34.7055,2,    195.4,2,   197.6,2,    2.78,2,    0.15,2,    0.00,2,    0.09,2,-999.000,9,-999.000,9,  1935.8,2,  2284.0,2,  -9.0000,9,-999.0000,9, -999.00,9,    1.25,2,    64.4,2,     3.6,-999.000,9,-999.000,-999.000,9,  -9.0000,-999.0000,  28.4611,   -9.00
  316N145_7,       I08N,     336,          1,         35,         35,2,19950322,       1352,   -15.0002,    80.0005,       5081,    33.0,  28.4118,  34.7275,2,  34.7256,2,    204.0,2,   197.8,2,    2.77,2,    0.15,2,    0.00,2,    0.09,2,-999.000,9,-999.000,9,  1933.9,2,  2274.4,2,  -9.0000,9,-999.0000,9, -999.00,9, -999.00,9,  -999.0,9,  -999.0,-999.000,9,-999.000,-999.000,9,  -9.0000,-999.0000,  28.4040,   -9.00
  316N145_7,       I08N,     336,          1,         34,         34,2,19950322,       1352,   -15.0002,    80.0005,       5081,    57.7,  27.3684,  34.9226,2,  34.8224,2,    211.4,2,   204.8,2,    2.76,2,    0.15,2,    0.00,2,    0.11,2,-999.000,9,-999.000,9,  1933.8,2,  2285.9,2,  -9.0000,9,-999.0000,9, -999.00,9,    1.34,2,    64.1,2,     4.1,-999.000,9,-999.000,-999.000,9,  -9.0000,-999.0000,  27.3551,   -9.00
  316N145_7,       I08N,     336,          1,         33,         33,2,19950322,       1352,   -15.0002,    80.0005,       5081,    98.4,  23.0866,  35.1108,2,  35.1065,2,    217.8,2,   209.1,2,    3.16,2,    0.15,2,    0.00,2,    0.15,2,-999.000,9,-999.000,9,  1980.0,2,  2295.7,2,  -9.0000,9,-999.0000,9, -999.00,9,    1.14,2,    69.0,2,     3.3,-999.000,9,-999.000,-999.000,9,  -9.0000,-999.0000,  23.0664,   -9.00
  316N145_7,       I08N,     336,          1,         32,         32,2,19950322,       1352,   -15.0002,    80.0005,       5081,   147.6,  21.0835,  35.3874,2,  35.3810,2,    191.4,2,   189.7,2,    4.99,2,    2.91,2,    0.08,2,    0.32,2,-999.000,9,-999.000,9,  2023.2,2,  2315.9,2,  -9.0000,9,-999.0000,9, -999.00,9,    0.88,2,    68.6,2,     4.5,-999.000,9,-999.000,-999.000,9,  -9.0000,-999.0000,  21.0551,   -9.00
  316N145_7,       I08N,     336,          1,         31,         31,2,19950322,       1352,   -15.0002,    80.0005,       5081,   198.8,  18.6921,  35.4672,2,  35.4801,2,    163.5,2,   168.0,2,    9.10,2,    6.96,2,    0.01,2,    0.58,2,-999.000,9,-999.000,9,  2076.7,2,  2328.8,2,  -9.0000,9,-999.0000,9, -999.00,9,    0.71,2,    62.0,2,     3.1,-999.000,9,-999.000,-999.000,9,  -9.0000,-999.0000,  18.6570,   -9.00
  316N145_7,       I08N,     336,          1,         30,         30,2,19950322,       1352,   -15.0002,    80.0005,       5081,   258.1,  15.8887,  35.4384,2,  35.4538,2,    169.5,2,   169.5,2,   11.14,2,    9.20,2,    0.00,2,    0.74,2,-999.000,9,-999.000,9,  2106.7,2,  2338.0,2,  -9.0000,9,-999.0000,9, -999.00,9,    0.73,2,    51.5,2,     3.6,-999.000,9,-999.000,-999.000,9,  -9.0000,-999.0000,  15.8478,   -9.00
  316N145_7,       I08N,     336,          1,         29,         29,2,19950322,       1352,   -15.0002,    80.0005,       5081,   317.3,  13.6546,  35.2501,2,  35.2533,2,    176.9,2,   179.5,2,   11.75,2,   11.62,2,    0.00,2,    0.89,2,-999.000,9,-999.000,9,  2121.0,2,  2325.7,2,  -9.0000,9,-999.0000,9, -999.00,9,    0.97,2,    58.3,2,     3.3,-999.000,9,-999.000,-999.000,9,  -9.0000,-999.0000,  13.6093,   -9.00
  316N145_7,       I08N,     336,          1,         28,         28,2,19950322,       1352,   -15.0002,    80.0005,       5081,   390.2,  11.4841,  35.0191,2,  35.0256,2,    220.7,2,   223.2,2,    5.36,2,   11.53,2,    0.00,2,    0.87,2,-999.000,9,-999.000,9,  2106.9,2,  2318.2,2,  -9.0000,9,-999.0000,9, -999.00,9,    1.19,2,    68.1,2,     3.4,-999.000,9,-999.000,-999.000,9,  -9.0000,-999.0000,  11.4342,   -9.00
  316N145_7,       I08N,     336,          1,         27,         27,2,19950322,       1352,   -15.0002,    80.0005,       5081,   468.9,   9.8201,  34.7786,2,  34.7770,2,    222.0,2,   223.7,2,    6.59,2,   15.72,2,    0.00,2,    1.11,2,-999.000,9,-999.000,9,  2118.2,2,  2272.0,3,  -9.0000,9,-999.0000,9, -999.00,9,    1.26,2,    53.0,2,     3.1,-999.000,9,-999.000,-999.000,9,  -9.0000,-999.0000,   9.7657,   -9.00
  316N145_7,       I08N,     336,          1,         26,         26,2,19950322,       1352,   -15.0002,    80.0005,       5081,   558.4,   8.5349,  34.6581,2,  34.6555,2,    177.0,2,   169.2,2,   22.24,2,   24.29,2,    0.00,2,    1.66,2,-999.000,9,-999.000,9,  2165.5,2,  2312.5,2,  -9.0000,9,-999.0000,9, -999.00,9,    0.93,2,   -33.2,2,     4.3,-999.000,9,-999.000,-999.000,9,  -9.0000,-999.0000,   8.4751,   -9.00
  316N145_7,       I08N,     336,          1,         25,         25,2,19950322,       1352,   -15.0002,    80.0005,       5081,   660.4,   7.4928,  34.6652,2,  34.6651,2,    118.0,2,   116.8,2,   45.94,2,   31.35,2,    0.00,2,    2.18,2,-999.000,9,-999.000,9,  2222.6,2,  2321.3,2,  -9.0000,9,-999.0000,9, -999.00,9,    0.46,2,  -101.8,2,     2.8,-999.000,9,-999.000,-999.000,9,  -9.0000,-999.0000,   7.4267,   -9.00
  316N145_7,       I08N,     336,          1,         24,         24,2,19950322,       1352,   -15.0002,    80.0005,       5081,   759.6,   6.7699,  34.6872,2,  34.6862,2,     96.0,2,    94.7,2,   63.27,2,   34.35,2,    0.00,2,    2.44,2,-999.000,9,-999.000,9,  2226.6,2,  2348.4,2,  -9.0000,9,-999.0000,9, -999.00,9,    0.19,2,  -137.8,2,     3.2,-999.000,9,-999.000,-999.000,9,  -9.0000,-999.0000,   6.6975,   -9.00
  316N145_7,       I08N,     336,          1,         23,         23,2,19950322,       1352,   -15.0002,    80.0005,       5081,   861.2,   6.1015,  34.6932,2,  34.6931,2,     87.4,2,    86.7,2,   77.55,2,   35.91,2,    0.00,2,    2.58,2,-999.000,9,-999.000,9,  2274.4,2,  2356.3,2,  -9.0000,9,-999.0000,9, -999.00,9,   -0.05,2,  -154.6,2,     3.7,-999.000,9,-999.000,-999.000,9,  -9.0000,-999.0000,   6.0231,   -9.00
  316N145_7,       I08N,     336,          1,         22,         22,2,19950322,       1352,   -15.0002,    80.0005,       5081,   987.6,   5.5457,  34.6911,2,  34.6913,2,     87.9,2,    87.3,2,   87.11,2,   36.50,2,    0.00,2,    2.62,2,-999.000,9,-999.000,9,  2284.5,2,  2371.8,2,  -9.0000,9,-999.0000,9, -999.00,9,   -0.15,2,  -170.0,2,     4.5,-999.000,9,-999.000,-999.000,9,  -9.0000,-999.0000,   5.4591,   -9.00
  316N145_7,       I08N,     336,          1,         21,         21,2,19950322,       1352,   -15.0002,    80.0005,       5081,  1113.7,   5.0192,  34.6891,2,  34.6883,2,     91.9,2,    92.0,2,   94.20,2,   36.66,2,    0.00,2,    2.64,2,-999.000,9,-999.000,9,  2292.9,2,  2371.9,2,  -9.0000,9,-999.0000,9, -999.00,9,    0.04,2,  -176.8,2,     3.7,-999.000,9,-999.000,-999.000,9,  -9.0000,-999.0000,   4.9251,   -9.00
  316N145_7,       I08N,     336,          1,         20,         20,2,19950322,       1352,   -15.0002,    80.0005,       5081,  1264.1,   4.5663,  34.7016,2,  34.7002,2,     99.5,2,   100.7,2,   96.51,2,   36.52,2,    0.00,2,    2.63,2,-999.000,9,-999.000,9,  2294.0,2,  2371.1,2,  -9.0000,9,-999.0000,9, -999.00,9,   -1.53,4,  -216.1,3,     2.6,-999.000,9,-999.000,-999.000,9,  -9.0000,-999.0000,   4.4623,   -9.00
  316N145_7,       I08N,     336,          1,         19,         19,2,19950322,       1352,   -15.0002,    80.0005,       5081,  1414.5,   3.9916,  34.6946,2,  34.6957,2,    107.0,2,   108.0,2,  103.42,2,   36.53,2,    0.00,2,    2.63,2,-999.000,9,-999.000,9,  2300.1,2,  2380.9,2,  -9.0000,9,-999.0000,9, -999.00,9, -999.00,9,  -999.0,9,  -999.0,-999.000,9,-999.000,-999.000,9,  -9.0000,-999.0000,   3.8799,   -9.00
  316N145_7,       I08N,     336,          1,         18,         18,3,19950322,       1352,   -15.0002,    80.0005,       5081,  1617.8,   3.3736,  34.7079,2,  34.7171,4,    123.1,2,   181.7,4,  132.91,4,   33.83,4,    0.00,4,    2.34,4,-999.000,9,-999.000,9,  2296.5,4,  2407.7,3,  -9.0000,9,-999.0000,9, -999.00,9, -999.00,9,  -999.0,9,  -999.0,-999.000,9,-999.000,-999.000,9,  -9.0000,-999.0000,   3.2509,   -9.00
  316N145_7,       I08N,     336,          1,         17,         17,2,19950322,       1352,   -15.0002,    80.0005,       5081,  1820.9,   2.8635,  34.7229,2,  34.7227,2,    134.0,2,   135.1,2,  111.44,2,   35.43,2,    0.00,2,    2.53,2,-999.000,9,-999.000,9,  2296.7,2,  2385.7,2,  -9.0000,9,-999.0000,9, -999.00,9, -999.00,9,  -999.0,9,  -999.0,-999.000,9,-999.000,-999.000,9,  -9.0000,-999.0000,   2.7296,   -9.00
  316N145_7,       I08N,     336,          1,         16,         16,2,19950322,       1352,   -15.0002,    80.0005,       5081,  2020.6,   2.5202,  34.7291,2,  34.7286,2,    144.6,2,   145.6,2,  113.78,2,   34.81,2,    0.00,2,    2.48,2,-999.000,9,-999.000,9,  2294.4,2,  2389.9,2,  -9.0000,9,-999.0000,9, -999.00,9, -999.00,9,  -999.0,9,  -999.0,-999.000,9,-999.000,-999.000,9,  -9.0000,-999.0000,   2.3737,   -9.00
  316N145_7,       I08N,     336,          1,         15,         15,2,19950322,       1352,   -15.0002,    80.0005,       5081,  2225.8,   2.2589,  34.7316,2,  34.7313,2,    152.7,2,   153.7,2,  116.12,2,   34.48,2,    0.00,2,    2.44,2,-999.000,9,-999.000,9,  2294.2,2,  2393.0,2,  -9.0000,9,-999.0000,9, -999.00,9, -999.00,9,  -999.0,9,  -999.0,-999.000,9,-999.000,-999.000,9,  -9.0000,-999.0000,   2.0985,   -9.00
  316N145_7,       I08N,     336,          1,         14,         14,2,19950322,       1352,   -15.0002,    80.0005,       5081,  2428.2,   2.0451,  34.7304,2,  34.7299,2,    161.6,2,   161.3,2,  117.63,2,   34.20,2,    0.00,2,    2.40,2,-999.000,9,-999.000,9,  2290.5,2,  2393.8,2,  -9.0000,9,-999.0000,9, -999.00,9, -999.00,9,  -999.0,9,  -999.0,-999.000,9,-999.000,-999.000,9,  -9.0000,-999.0000,   1.8702,   -9.00
  316N145_7,       I08N,     336,          1,         13,         13,2,19950322,       1352,   -15.0002,    80.0005,       5081,  2628.3,   1.8787,  34.7282,2,  34.7283,2,    168.6,2,   167.7,2,  118.49,2,   33.78,2,    0.00,2,    2.37,2,-999.000,9,-999.000,9,  2289.1,2,  2390.9,2,  -9.0000,9,-999.0000,9, -999.00,9, -999.00,9,  -999.0,9,  -999.0,-999.000,9,-999.000,-999.000,9,  -9.0000,-999.0000,   1.6886,   -9.00
  316N145_7,       I08N,     336,          1,         12,         12,2,19950322,       1352,   -15.0002,    80.0005,       5081,  2835.2,   1.7505,  34.7275,2,  34.7271,2,    172.4,3,   171.0,2,  121.28,2,   33.79,2,    0.00,2,    2.36,2,-999.000,9,-999.000,9,  2289.6,2,  2399.8,2,  -9.0000,9,-999.0000,9, -999.00,9, -999.00,9,  -999.0,9,  -999.0,-999.000,9,-999.000,-999.000,9,  -9.0000,-999.0000,   1.5437,   -9.00
  316N145_7,       I08N,     336,          1,         11,         11,2,19950322,       1352,   -15.0002,    80.0005,       5081,  3038.0,   1.6360,  34.7256,2,  34.7255,2,    174.7,3,   172.7,2,  124.49,2,   33.85,2,    0.00,2,    2.36,2,-999.000,9,-999.000,9,  2297.1,2,  2402.6,2,  -9.0000,9,-999.0000,9, -999.00,9, -999.00,9,  -999.0,9,  -999.0,-999.000,9,-999.000,-999.000,9,  -9.0000,-999.0000,   1.4123,   -9.00
  316N145_7,       I08N,     336,          1,         10,         10,2,19950322,       1352,   -15.0002,    80.0005,       5081,  3241.8,   1.5524,  34.7240,2,  34.7231,2,    176.5,3,   174.8,2,  126.22,2,   33.86,2,    0.00,2,    2.36,2,-999.000,9,-999.000,9,  2294.2,2,  2404.3,2,  -9.0000,9,-999.0000,9, -999.00,9, -999.00,9,  -999.0,9,  -999.0,-999.000,9,-999.000,-999.000,9,  -9.0000,-999.0000,   1.3107,   -9.00
  316N145_7,       I08N,     336,          1,          9,          9,2,19950322,       1352,   -15.0002,    80.0005,       5081,  3444.3,   1.4585,  34.7223,2,  34.7212,2,    179.0,3,   179.1,2,  127.10,2,   33.72,2,    0.00,2,    2.34,2,-999.000,9,-999.000,9,  2280.5,3,  2402.1,2,  -9.0000,9,-999.0000,9, -999.00,9, -999.00,9,  -999.0,9,  -999.0,-999.000,9,-999.000,-999.000,9,  -9.0000,-999.0000,   1.1988,   -9.00
  316N145_7,       I08N,     336,          1,          8,          8,2,19950322,       1352,   -15.0002,    80.0005,       5081,  3647.9,   1.4020,  34.7207,2,  34.7194,2,    178.7,3,   181.3,2,  128.19,2,   33.68,2,    0.00,2,    2.34,2,-999.000,9,-999.000,9,  2293.2,2,  2397.0,2,  -9.0000,9,-999.0000,9, -999.00,9, -999.00,9,  -999.0,9,  -999.0,-999.000,9,-999.000,-999.000,9,  -9.0000,-999.0000,   1.1230,   -9.00
  316N145_7,       I08N,     336,          1,          7,          7,2,19950322,       1352,   -15.0002,    80.0005,       5081,  3875.6,   1.3678,  34.7190,2,  34.7192,2,    179.1,3,   182.3,2,  129.72,2,   33.69,2,    0.00,2,    2.33,2,-999.000,9,-999.000,9,  2293.1,2,  2407.9,2,  -9.0000,9,-999.0000,9, -999.00,9, -999.00,9,  -999.0,9,  -999.0,-999.000,9,-999.000,-999.000,9,  -9.0000,-999.0000,   1.0657,   -9.00
  316N145_7,       I08N,     336,          1,          6,          6,2,19950322,       1352,   -15.0002,    80.0005,       5081,  4103.9,   1.3578,  34.7178,2,  34.7178,2,    181.5,3,   182.3,2,  132.32,2,   33.89,2,    0.00,2,    2.34,2,-999.000,9,-999.000,9,  2295.9,2,  2409.4,2,  -9.0000,9,-999.0000,9, -999.00,9, -999.00,9,  -999.0,9,  -999.0,-999.000,9,-999.000,-999.000,9,  -9.0000,-999.0000,   1.0314,   -9.00
  316N145_7,       I08N,     336,          1,          5,          5,2,19950322,       1352,   -15.0002,    80.0005,       5081,  4333.5,   1.3704,  34.7177,2,  34.7168,2,    182.0,3,   182.2,2,  134.07,2,   34.10,2,    0.00,2,    2.35,2,-999.000,9,-999.000,9,  2297.4,2,  2410.0,2,  -9.0000,9,-999.0000,9, -999.00,9, -999.00,9,  -999.0,9,  -999.0,-999.000,9,-999.000,-999.000,9,  -9.0000,-999.0000,   1.0181,   -9.00
  316N145_7,       I08N,     336,          1,          4,          4,2,19950322,       1352,   -15.0002,    80.0005,       5081,  4565.5,   1.3905,  34.7172,2,  34.7173,2,    181.6,7,   181.8,2,  134.53,2,   34.11,2,    0.00,2,    2.35,2,-999.000,9,-999.000,9,  2297.6,2,  2411.2,2,  -9.0000,9,-999.0000,9, -999.00,9, -999.00,9,  -999.0,9,  -999.0,-999.000,9,-999.000,-999.000,9,  -9.0000,-999.0000,   1.0112,   -9.00
  316N145_7,       I08N,     336,          1,          3,          3,2,19950322,       1352,   -15.0002,    80.0005,       5081,  4798.3,   1.4143,  34.7169,2,  34.7171,2,    182.1,7,   182.0,2,  134.55,2,   34.12,2,    0.00,2,    2.35,2,-999.000,9,-999.000,9,  2298.4,2,  2412.1,2,  -9.0000,9,-999.0000,9, -999.00,9, -999.00,9,  -999.0,9,  -999.0,-999.000,9,-999.000,-999.000,9,  -9.0000,-999.0000,   1.0070,   -9.00
  316N145_7,       I08N,     336,          1,          2,          2,2,19950322,       1352,   -15.0002,    80.0005,       5081,  5030.5,   1.4410,  34.7171,2,  34.7169,2,    182.3,7,   181.8,2,  134.57,2,   34.13,2,    0.00,2,    2.34,2,-999.000,9,-999.000,9,  2298.5,2,  2410.0,2,  -9.0000,9,-999.0000,9, -999.00,9, -999.00,9,  -999.0,9,  -999.0,-999.000,9,-999.000,-999.000,9,  -9.0000,-999.0000,   1.0049,   -9.00
  316N145_7,       I08N,     336,          1,          1,          1,2,19950322,       1352,   -15.0002,    80.0005,       5081,  5185.1,   1.4607,  34.7169,2,  34.7168,2,    181.4,7,   181.9,2,  134.38,2,   34.14,2,    0.00,2,    2.35,2,-999.000,9,-999.000,9,  2299.5,2,  2397.5,3,  -9.0000,9,-999.0000,9, -999.00,9, -999.00,9,  -999.0,9,  -999.0,-999.000,9,-999.000,-999.000,9,  -9.0000,-999.0000,   1.0049,   -9.00