BOTTLE,20211124CCHSIORKP
EXPOCODE,SECT_ID,STNNBR,CASTNO,SAMPNO,BTLNBR,BTLNBR_FLAG_W,DATE,TIME,LATITUDE,LONGITUDE,DEPTH,CTDPRS,CTDTMP,CTDSAL,CTDSAL_FLAG_W,SALNTY,SALNTY_FLAG_W,CTDOXY,CTDOXY_FLAG_W,OXYGEN,OXYGEN_FLAG_W,SILCAT,SILCAT_FLAG_W,NITRAT,NITRAT_FLAG_W,NITRIT,NITRIT_FLAG_W,PHSPHT,PHSPHT_FLAG_W,CFC-11,CFC-11_FLAG_W,CFC-12,CFC-12_FLAG_W,TCARBN,TCARBN_FLAG_W,ALKALI,ALKALI_FLAG_W,TRITUM,TRITUM_FLAG_W,HELIUM,HELIUM_FLAG_W,DELHE3,DELHE3_FLAG_W,DELC13,DELC13_FLAG_W,DELC14,DELC14_FLAG_W,C14ERR,NEON,NEON_FLAG_W,NEONER,CCL4,CCL4_FLAG_W,TRITER,HELIER,THETA,DELHER
,,,,,,,,,,,METERS,DBAR,ITS-90,PSS-78,,PSS-78,,UMOL/KG,,UMOL/KG,,UMOL/KG,,UMOL/KG,,UMOL/KG,,UMOL/KG,,PMOL/KG,,PMOL/KG,,UMOL/KG,,UMOL/KG,,TU,,NMOL/KG,,PERCNT,,/MILLE,,/MILLE,,/MILLE,NMOL/KG,,NMOL/KG,PMOL/KG,,TU,NMOL/KG,DEG C,PERCNT
  316N145_7,       I08N,     287,          1,         36,         36,2,19950311,       2003,     4.6655,    79.9983,       4260,     1.9,  28.5859,  33.8385,2,  33.8392,2,    198.1,2,   207.1,3,    2.56,2,    0.18,2,    0.00,2,    0.11,2,-999.000,9,-999.000,9,  1902.3,2,  2225.6,2,  -9.0000,9,-999.0000,9, -999.00,9, -999.00,9,  -999.0,9,  -999.0,-999.000,9,-999.000,-999.000,9,  -9.0000,-999.0000,  28.5854,   -9.00
  316N145_7,       I08N,     287,          1,         35,         35,2,19950311,       2003,     4.6655,    79.9983,       4260,    40.6,  27.9055,  33.8238,2,  33.9248,2,    208.3,2,   198.0,2,    2.54,2,    0.20,2,    0.02,2,    0.13,2,-999.000,9,-999.000,9,  1912.3,2,  2228.7,2,  -9.0000,9,-999.0000,9, -999.00,9, -999.00,9,  -999.0,9,  -999.0,-999.000,9,-999.000,-999.000,9,  -9.0000,-999.0000,  27.8960,   -9.00
  316N145_7,       I08N,     287,          1,         34,         34,2,19950311,       2003,     4.6655,    79.9983,       4260,    60.3,  24.6787,  34.1796,2,  34.4047,2,    129.0,2,    90.4,2,   11.18,2,   14.65,2,    0.32,2,    1.06,2,-999.000,9,-999.000,9,  2052.7,2,  2263.2,2,  -9.0000,9,-999.0000,9, -999.00,9, -999.00,9,  -999.0,9,  -999.0,-999.000,9,-999.000,-999.000,9,  -9.0000,-999.0000,  24.6658,   -9.00
  316N145_7,       I08N,     287,          1,         33,         33,2,19950311,       2003,     4.6655,    79.9983,       4260,    79.6,  21.2233,  34.8086,2,  34.7941,2,     46.1,2,    40.9,2,   18.38,2,   22.62,2,    0.04,2,    1.63,2,-999.000,9,-999.000,9,  2133.7,2,  2301.4,2,  -9.0000,9,-999.0000,9, -999.00,9, -999.00,9,  -999.0,9,  -999.0,-999.000,9,-999.000,-999.000,9,  -9.0000,-999.0000,  21.2080,   -9.00
  316N145_7,       I08N,     287,          1,         32,         32,2,19950311,       2003,     4.6655,    79.9983,       4260,   105.1,  18.5655,  34.8323,2,  34.8454,2,     37.6,2,    27.6,2,   23.73,2,   25.93,2,    0.05,2,    1.89,2,-999.000,9,-999.000,9,  2168.2,2,  2295.9,2,  -9.0000,9,-999.0000,9, -999.00,9, -999.00,9,  -999.0,9,  -999.0,-999.000,9,-999.000,-999.000,9,  -9.0000,-999.0000,  18.5471,   -9.00
  316N145_7,       I08N,     287,          1,         31,         31,2,19950311,       2003,     4.6655,    79.9983,       4260,   130.7,  15.7013,  35.0759,2,  35.0794,2,     28.0,2,    26.9,2,   25.16,2,   27.90,2,    0.01,2,    2.02,2,-999.000,9,-999.000,9,  2203.4,2,  2313.0,2,  -9.0000,9,-999.0000,9, -999.00,9, -999.00,9,  -999.0,9,  -999.0,-999.000,9,-999.000,-999.000,9,  -9.0000,-999.0000,  15.6809,   -9.00
  316N145_7,       I08N,     287,          1,         30,         30,2,19950311,       2003,     4.6655,    79.9983,       4260,   175.8,  13.9625,  35.1188,2,  35.1160,2,     42.7,2,    45.4,2,   25.14,2,   27.52,2,    0.00,2,    1.97,2,-999.000,9,-999.000,9,  2211.6,2,  2317.8,2,  -9.0000,9,-999.0000,9, -999.00,9, -999.00,9,  -999.0,9,  -999.0,-999.000,9,-999.000,-999.000,9,  -9.0000,-999.0000,  13.9372,   -9.00
  316N145_7,       I08N,     287,          1,         29,         29,2,19950311,       2003,     4.6655,    79.9983,       4260,   224.9,  12.8658,  35.1110,2,  35.1113,2,     52.0,2,    60.9,2,   24.50,2,   27.06,2,    0.00,2,    1.91,2,-999.000,9,-999.000,9,  2208.7,2,  2318.3,2,  -9.0000,9,-999.0000,9, -999.00,9, -999.00,9,  -999.0,9,  -999.0,-999.000,9,-999.000,-999.000,9,  -9.0000,-999.0000,  12.8350,   -9.00
  316N145_7,       I08N,     287,          1,         28,         28,2,19950311,       2003,     4.6655,    79.9983,       4260,   265.8,  12.2782,  35.0886,2,  35.0875,2,     61.3,2,    67.1,2,   25.10,2,   27.29,2,    0.00,2,    1.91,2,-999.000,9,-999.000,9,  2210.4,2,  2316.1,2,  -9.0000,9,-999.0000,9, -999.00,9, -999.00,9,  -999.0,9,  -999.0,-999.000,9,-999.000,-999.000,9,  -9.0000,-999.0000,  12.2429,   -9.00
  316N145_7,       I08N,     287,          1,         27,         27,2,19950311,       2003,     4.6655,    79.9983,       4260,   306.0,  11.7972,  35.0733,2,  35.0720,2,     62.4,2,    64.1,2,   26.94,2,   28.33,2,    0.00,2,    1.98,2,-999.000,9,-999.000,9,  2216.5,2,  2320.2,2,  -9.0000,9,-999.0000,9, -999.00,9, -999.00,9,  -999.0,9,  -999.0,-999.000,9,-999.000,-999.000,9,  -9.0000,-999.0000,  11.7575,   -9.00
  316N145_7,       I08N,     287,          1,         26,         26,2,19950311,       2003,     4.6655,    79.9983,       4260,   356.6,  11.3648,  35.0668,2,  35.0651,2,     65.1,2,    58.7,2,   29.20,2,   29.55,2,    0.00,2,    2.07,2,-999.000,9,-999.000,9,  2225.2,2,  2321.8,2,  -9.0000,9,-999.0000,9, -999.00,9, -999.00,9,  -999.0,9,  -999.0,-999.000,9,-999.000,-999.000,9,  -9.0000,-999.0000,  11.3196,   -9.00
  316N145_7,       I08N,     287,          1,         25,         25,2,19950311,       2003,     4.6655,    79.9983,       4260,   415.9,  10.8519,  35.0526,2,  35.0521,2,     48.3,2,    46.7,2,   34.34,2,   31.68,2,    0.00,2,    2.23,2,-999.000,9,-999.000,9,  2240.1,2,  2324.1,2,  -9.0000,9,-999.0000,9, -999.00,9, -999.00,9,  -999.0,9,  -999.0,-999.000,9,-999.000,-999.000,9,  -9.0000,-999.0000,  10.8005,   -9.00
  316N145_7,       I08N,     287,          1,         24,         24,2,19950311,       2003,     4.6655,    79.9983,       4260,   497.0,  10.2068,  35.0619,2,  35.0617,2,     35.2,7,    33.2,2,   42.37,2,   33.81,2,    0.00,2,    2.44,2,-999.000,9,-999.000,9,  2260.2,2,  2329.3,2,  -9.0000,9,-999.0000,9, -999.00,9, -999.00,9,  -999.0,9,  -999.0,-999.000,9,-999.000,-999.000,9,  -9.0000,-999.0000,  10.1474,   -9.00
  316N145_7,       I08N,     287,          1,         23,         23,2,19950311,       2003,     4.6655,    79.9983,       4260,   587.4,   9.6259,  35.0317,2,  35.0297,2,     19.8,7,    20.3,2,   53.08,2,   36.04,2,    0.00,2,    2.64,2,-999.000,9,-999.000,9,  2278.7,2,  2345.3,2,  -9.0000,9,-999.0000,9, -999.00,9, -999.00,9,  -999.0,9,  -999.0,-999.000,9,-999.000,-999.000,9,  -9.0000,-999.0000,   9.5579,   -9.00
  316N145_7,       I08N,     287,          1,         22,         22,2,19950311,       2003,     4.6655,    79.9983,       4260,   697.2,   9.0721,  35.0243,2,  35.0244,2,     22.3,7,    22.6,2,   59.05,2,   36.52,2,    0.00,2,    2.70,2,-999.000,9,-999.000,9,  2282.4,2,  2343.8,2,  -9.0000,9,-999.0000,9, -999.00,9, -999.00,9,  -999.0,9,  -999.0,-999.000,9,-999.000,-999.000,9,  -9.0000,-999.0000,   8.9938,   -9.00
  316N145_7,       I08N,     287,          1,         21,         21,2,19950311,       2003,     4.6655,    79.9983,       4260,   798.6,   8.1732,  34.9920,2,  34.9911,2,     28.1,7,    27.9,2,   69.37,2,   37.19,2,    0.00,2,    2.78,2,-999.000,9,-999.000,9,  2295.7,2,  2357.5,2,  -9.0000,9,-999.0000,9, -999.00,9, -999.00,9,  -999.0,9,  -999.0,-999.000,9,-999.000,-999.000,9,  -9.0000,-999.0000,   8.0882,   -9.00
  316N145_7,       I08N,     287,          1,         20,         20,2,19950311,       2003,     4.6655,    79.9983,       4260,   898.8,   7.3309,  34.9607,2,  34.9610,2,     36.4,7,    37.0,2,   79.09,2,   37.57,2,    0.00,2,    2.82,2,-999.000,9,-999.000,9,  2305.1,2,  2363.1,2,  -9.0000,9,-999.0000,9, -999.00,9, -999.00,9,  -999.0,9,  -999.0,-999.000,9,-999.000,-999.000,9,  -9.0000,-999.0000,   7.2403,   -9.00
  316N145_7,       I08N,     287,          1,         19,         19,2,19950311,       2003,     4.6655,    79.9983,       4260,  1000.2,   6.6504,  34.9353,2,  34.9337,2,     44.9,7,    46.8,2,   86.54,2,   37.62,2,    0.00,2,    2.83,2,-999.000,9,-999.000,9,  2309.7,2,  2377.1,2,  -9.0000,9,-999.0000,9, -999.00,9, -999.00,9,  -999.0,9,  -999.0,-999.000,9,-999.000,-999.000,9,  -9.0000,-999.0000,   6.5540,   -9.00
  316N145_7,       I08N,     287,          1,         18,         18,2,19950311,       2003,     4.6655,    79.9983,       4260,  1101.3,   6.0956,  34.9144,2,  34.9148,2,     53.2,7,    53.4,2,   93.18,2,   37.67,2,    0.00,2,    2.82,2,-999.000,9,-999.000,9,  2314.3,2,  2377.4,2,  -9.0000,9,-999.0000,9, -999.00,9, -999.00,9,  -999.0,9,  -999.0,-999.000,9,-999.000,-999.000,9,  -9.0000,-999.0000,   5.9933,   -9.00
  316N145_7,       I08N,     287,          1,         17,         17,2,19950311,       2003,     4.6655,    79.9983,       4260,  1211.8,   5.6046,  34.8954,2,  34.8951,2,     63.8,7,    64.4,2,   97.33,2,   37.38,2,    0.00,2,    2.79,2,-999.000,9,-999.000,9,  2314.0,2,  2390.8,2,  -9.0000,9,-999.0000,9, -999.00,9, -999.00,9,  -999.0,9,  -999.0,-999.000,9,-999.000,-999.000,9,  -9.0000,-999.0000,   5.4956,   -9.00
  316N145_7,       I08N,     287,          1,         16,         16,2,19950311,       2003,     4.6655,    79.9983,       4260,  1362.9,   4.9936,  34.8740,2,  34.8747,2,     75.1,7,    73.6,2,  103.17,2,   37.24,2,    0.00,2,    2.78,2,-999.000,9,-999.000,9,  2318.3,2,  2390.0,2,  -9.0000,9,-999.0000,9, -999.00,9, -999.00,9,  -999.0,9,  -999.0,-999.000,9,-999.000,-999.000,9,  -9.0000,-999.0000,   4.8757,   -9.00
  316N145_7,       I08N,     287,          1,         15,         15,2,19950311,       2003,     4.6655,    79.9983,       4260,  1565.1,   4.1077,  34.8384,2,  34.8395,2,     88.3,7,    88.5,2,  113.23,2,   37.05,2,    0.00,2,    2.75,2,-999.000,9,-999.000,9,  2322.0,2,  2398.9,2,  -9.0000,9,-999.0000,9, -999.00,9, -999.00,9,  -999.0,9,  -999.0,-999.000,9,-999.000,-999.000,9,  -9.0000,-999.0000,   3.9806,   -9.00
  316N145_7,       I08N,     287,          1,         14,         14,2,19950311,       2003,     4.6655,    79.9983,       4260,  1767.0,   3.3321,  34.8062,2,  34.8061,2,    106.1,7,   104.8,2,  122.10,2,   36.58,2,    0.00,2,    2.69,2,-999.000,9,-999.000,9,  2326.6,2,  2405.4,2,  -9.0000,9,-999.0000,9, -999.00,9, -999.00,9,  -999.0,9,  -999.0,-999.000,9,-999.000,-999.000,9,  -9.0000,-999.0000,   3.1964,   -9.00
  316N145_7,       I08N,     287,          1,         13,         13,2,19950311,       2003,     4.6655,    79.9983,       4260,  1968.6,   2.7653,  34.7797,2,  34.7794,2,    115.9,7,   117.5,2,  128.68,2,   36.24,2,    0.00,2,    2.64,2,-999.000,9,-999.000,9,  2326.8,2,  2407.7,2,  -9.0000,9,-999.0000,9, -999.00,9, -999.00,9,  -999.0,9,  -999.0,-999.000,9,-999.000,-999.000,9,  -9.0000,-999.0000,   2.6196,   -9.00
  316N145_7,       I08N,     287,          1,         12,         12,2,19950311,       2003,     4.6655,    79.9983,       4260,  2172.9,   2.4654,  34.7656,2,  34.7652,2,    127.4,7,   127.9,2,  131.23,2,   35.86,2,    0.00,2,    2.59,2,-999.000,9,-999.000,9,  2325.7,2,  2416.1,2,  -9.0000,9,-999.0000,9, -999.00,9, -999.00,9,  -999.0,9,  -999.0,-999.000,9,-999.000,-999.000,9,  -9.0000,-999.0000,   2.3062,   -9.00
  316N145_7,       I08N,     287,          1,         11,         11,2,19950311,       2003,     4.6655,    79.9983,       4260,  2373.3,   2.2083,  34.7538,2,  34.7534,2,    132.2,7,   131.6,2,  136.58,2,   35.82,2,    0.00,2,    2.58,2,-999.000,9,-999.000,9,  2328.3,2,  2418.4,2,  -9.0000,9,-999.0000,9, -999.00,9, -999.00,9,  -999.0,9,  -999.0,-999.000,9,-999.000,-999.000,9,  -9.0000,-999.0000,   2.0354,   -9.00
  316N145_7,       I08N,     287,          1,         10,         10,2,19950311,       2003,     4.6655,    79.9983,       4260,  2574.8,   1.9845,  34.7434,2,  34.7428,2,    140.3,7,   136.3,3,  139.58,2,   35.68,2,    0.00,2,    2.56,2,-999.000,9,-999.000,9,  2331.7,2,  2425.2,2,  -9.0000,9,-999.0000,9, -999.00,9, -999.00,9,  -999.0,9,  -999.0,-999.000,9,-999.000,-999.000,9,  -9.0000,-999.0000,   1.7972,   -9.00
  316N145_7,       I08N,     287,          1,          9,          9,2,19950311,       2003,     4.6655,    79.9983,       4260,  2778.4,   1.8145,  34.7361,2,  34.7350,2,    145.1,7,   146.8,3,  138.69,2,   35.20,2,    0.00,2,    2.50,2,-999.000,9,-999.000,9,  2323.6,2,  2432.8,2,  -9.0000,9,-999.0000,9, -999.00,9, -999.00,9,  -999.0,9,  -999.0,-999.000,9,-999.000,-999.000,9,  -9.0000,-999.0000,   1.6117,   -9.00
  316N145_7,       I08N,     287,          1,          8,          8,2,19950311,       2003,     4.6655,    79.9983,       4260,  2981.0,   1.6881,  34.7315,2,  34.7318,2,    147.1,7,   146.7,2,  143.44,2,   35.30,2,    0.00,2,    2.50,2,-999.000,9,-999.000,9,  2332.3,2,  2449.4,3,  -9.0000,9,-999.0000,9, -999.00,9, -999.00,9,  -999.0,9,  -999.0,-999.000,9,-999.000,-999.000,9,  -9.0000,-999.0000,   1.4687,   -9.00
  316N145_7,       I08N,     287,          1,          7,          7,2,19950311,       2003,     4.6655,    79.9983,       4260,  3185.4,   1.6230,  34.7286,2,  34.7277,2,    149.1,7,   149.2,2,  144.29,2,   35.25,2,    0.00,2,    2.49,2,-999.000,9,-999.000,9,  2331.0,2,  2445.1,3,  -9.0000,9,-999.0000,9, -999.00,9, -999.00,9,  -999.0,9,  -999.0,-999.000,9,-999.000,-999.000,9,  -9.0000,-999.0000,   1.3852,   -9.00
  316N145_7,       I08N,     287,          1,          6,          6,2,19950311,       2003,     4.6655,    79.9983,       4260,  3391.6,   1.5496,  34.7251,2,  34.7248,2,    151.4,7,   153.1,2,  144.92,2,   35.11,2,    0.00,2,    2.47,2,-999.000,9,-999.000,9,  2329.2,2,  2426.4,2,  -9.0000,9,-999.0000,9, -999.00,9, -999.00,9,  -999.0,9,  -999.0,-999.000,9,-999.000,-999.000,9,  -9.0000,-999.0000,   1.2930,   -9.00
  316N145_7,       I08N,     287,          1,          5,          5,2,19950311,       2003,     4.6655,    79.9983,       4260,  3596.8,   1.4537,  34.7219,2,  34.7215,2,    157.3,7,   157.8,2,  145.55,2,   34.92,2,    0.00,2,    2.44,2,-999.000,9,-999.000,9,  2327.5,2,  2458.0,3,  -9.0000,9,-999.0000,9, -999.00,9, -999.00,9,  -999.0,9,  -999.0,-999.000,9,-999.000,-999.000,9,  -9.0000,-999.0000,   1.1786,   -9.00
  316N145_7,       I08N,     287,          1,          4,          4,2,19950311,       2003,     4.6655,    79.9983,       4260,  3800.9,   1.4444,  34.7208,2,  34.7197,2,    159.9,7,   159.9,2,  144.87,2,   34.82,2,    0.00,2,    2.43,2,-999.000,9,-999.000,9,  2328.0,2,  2443.3,2,  -9.0000,9,-999.0000,9, -999.00,9, -999.00,9,  -999.0,9,  -999.0,-999.000,9,-999.000,-999.000,9,  -9.0000,-999.0000,   1.1482,   -9.00
  316N145_7,       I08N,     287,          1,          3,          3,2,19950311,       2003,     4.6655,    79.9983,       4260,  4004.7,   1.4495,  34.7203,2,  34.7185,2,    162.0,7,   161.2,2,  144.84,2,   34.78,2,    0.00,2,    2.42,2,-999.000,9,-999.000,9,  2326.7,2,  2426.0,2,  -9.0000,9,-999.0000,9, -999.00,9, -999.00,9,  -999.0,9,  -999.0,-999.000,9,-999.000,-999.000,9,  -9.0000,-999.0000,   1.1313,   -9.00
  316N145_7,       I08N,     287,          1,          2,          2,2,19950311,       2003,     4.6655,    79.9983,       4260,  4208.9,   1.4294,  34.7193,2,  34.7185,2,    165.4,7,   166.6,3,  143.94,2,   34.40,2,    0.00,2,    2.40,2,-999.000,9,-999.000,9,  2321.1,2,  2432.6,2,  -9.0000,9,-999.0000,9, -999.00,9, -999.00,9,  -999.0,9,  -999.0,-999.000,9,-999.000,-999.000,9,  -9.0000,-999.0000,   1.0894,   -9.00
  316N145_7,       I08N,     287,          1,          1,          1,2,19950311,       2003,     4.6655,    79.9983,       4260,  4327.1,   1.4175,  34.7187,2,  34.7178,2,    170.5,7,   170.1,2,  140.01,2,   34.35,2,    0.00,2,    2.39,2,-999.000,9,-999.000,9,  2316.8,2,  2427.1,2,  -9.0000,9,-999.0000,9, -999.00,9, -999.00,9,  -999.0,9,  -999.0,-999.000,9,-999.000,-999.000,9,  -9.0000,-999.0000,   1.0646,   -9.00