BOTTLE,20211124CCHSIORKP
EXPOCODE,SECT_ID,STNNBR,CASTNO,SAMPNO,BTLNBR,BTLNBR_FLAG_W,DATE,TIME,LATITUDE,LONGITUDE,DEPTH,CTDPRS,CTDTMP,CTDSAL,CTDSAL_FLAG_W,SALNTY,SALNTY_FLAG_W,CTDOXY,CTDOXY_FLAG_W,OXYGEN,OXYGEN_FLAG_W,SILCAT,SILCAT_FLAG_W,NITRAT,NITRAT_FLAG_W,NITRIT,NITRIT_FLAG_W,PHSPHT,PHSPHT_FLAG_W,CFC-11,CFC-11_FLAG_W,CFC-12,CFC-12_FLAG_W,TCARBN,TCARBN_FLAG_W,ALKALI,ALKALI_FLAG_W,TRITUM,TRITUM_FLAG_W,HELIUM,HELIUM_FLAG_W,DELHE3,DELHE3_FLAG_W,DELC13,DELC13_FLAG_W,DELC14,DELC14_FLAG_W,C14ERR,NEON,NEON_FLAG_W,NEONER,CCL4,CCL4_FLAG_W,TRITER,HELIER,THETA,DELHER
,,,,,,,,,,,METERS,DBAR,ITS-90,PSS-78,,PSS-78,,UMOL/KG,,UMOL/KG,,UMOL/KG,,UMOL/KG,,UMOL/KG,,UMOL/KG,,PMOL/KG,,PMOL/KG,,UMOL/KG,,UMOL/KG,,TU,,NMOL/KG,,PERCNT,,/MILLE,,/MILLE,,/MILLE,NMOL/KG,,NMOL/KG,PMOL/KG,,TU,NMOL/KG,DEG C,PERCNT
  316N145_7,      TRANS,     376,          1,         20,         20,2,19950331,       0542,   -29.7168,    87.3992,       1885,     1.9,  23.3115,  36.0899,2,  36.0888,2,    215.0,2,   215.6,2,    2.98,2,    0.18,2,    0.00,2,    0.11,2,-999.000,9,-999.000,9,  -999.0,9,  -999.0,9,  -9.0000,9,-999.0000,9, -999.00,9, -999.00,9,  -999.0,9,  -999.0,-999.000,9,-999.000,-999.000,9,  -9.0000,-999.0000,  23.3111,   -9.00
  316N145_7,      TRANS,     376,          1,         19,         19,2,19950331,       0542,   -29.7168,    87.3992,       1885,    39.5,  21.1746,  35.9063,2,  35.8690,2,    227.4,2,   242.3,2,    2.93,2,    0.13,2,    0.00,2,    0.13,2,-999.000,9,-999.000,9,  -999.0,9,  -999.0,9,  -9.0000,9,-999.0000,9, -999.00,9, -999.00,9,  -999.0,9,  -999.0,-999.000,9,-999.000,-999.000,9,  -9.0000,-999.0000,  21.1670,   -9.00
  316N145_7,      TRANS,     376,          1,         18,         18,2,19950331,       0542,   -29.7168,    87.3992,       1885,    74.0,  16.6623,  35.5552,2,  35.5671,2,    271.5,2,   261.1,2,    2.46,2,    0.13,2,    0.00,2,    0.19,2,-999.000,9,-999.000,9,  -999.0,9,  -999.0,9,  -9.0000,9,-999.0000,9, -999.00,9, -999.00,9,  -999.0,9,  -999.0,-999.000,9,-999.000,-999.000,9,  -9.0000,-999.0000,  16.6502,   -9.00
  316N145_7,      TRANS,     376,          1,         17,         17,2,19950331,       0542,   -29.7168,    87.3992,       1885,   114.6,  14.2341,  35.4105,2,  35.3983,2,    250.4,2,   235.0,2,    2.83,2,    4.05,2,    0.16,2,    0.46,2,-999.000,9,-999.000,9,  -999.0,9,  -999.0,9,  -9.0000,9,-999.0000,9, -999.00,9, -999.00,9,  -999.0,9,  -999.0,-999.000,9,-999.000,-999.000,9,  -9.0000,-999.0000,  14.2174,   -9.00
  316N145_7,      TRANS,     376,          1,         16,         16,2,19950331,       0542,   -29.7168,    87.3992,       1885,   164.7,  13.0909,  35.2623,2,  35.2515,2,    240.6,2,   235.2,2,    3.41,2,    6.93,2,    0.01,2,    0.61,2,-999.000,9,-999.000,9,  -999.0,9,  -999.0,9,  -9.0000,9,-999.0000,9, -999.00,9, -999.00,9,  -999.0,9,  -999.0,-999.000,9,-999.000,-999.000,9,  -9.0000,-999.0000,  13.0681,   -9.00
  316N145_7,      TRANS,     376,          1,         15,         15,2,19950331,       0542,   -29.7168,    87.3992,       1885,   204.6,  12.5553,  35.1827,2,  35.1819,2,    238.0,2,   236.2,2,    3.58,2,    8.15,2,    0.00,2,    0.68,2,-999.000,9,-999.000,9,  -999.0,9,  -999.0,9,  -9.0000,9,-999.0000,9, -999.00,9, -999.00,9,  -999.0,9,  -999.0,-999.000,9,-999.000,-999.000,9,  -9.0000,-999.0000,  12.5277,   -9.00
  316N145_7,      TRANS,     376,          1,         14,         14,2,19950331,       0542,   -29.7168,    87.3992,       1885,   245.0,  12.1439,  35.1150,2,  35.1114,2,    237.8,2,   238.1,2,    3.95,2,    9.22,2,    0.00,2,    0.73,2,-999.000,9,-999.000,9,  -999.0,9,  -999.0,9,  -9.0000,9,-999.0000,9, -999.00,9, -999.00,9,  -999.0,9,  -999.0,-999.000,9,-999.000,-999.000,9,  -9.0000,-999.0000,  12.1116,   -9.00
  316N145_7,      TRANS,     376,          1,         13,         13,2,19950331,       0542,   -29.7168,    87.3992,       1885,   325.9,  11.4648,  35.0083,2,  35.0045,2,    237.7,2,   240.9,2,    4.53,2,   10.78,2,    0.00,2,    0.83,2,-999.000,9,-999.000,9,  -999.0,9,  -999.0,9,  -9.0000,9,-999.0000,9, -999.00,9, -999.00,9,  -999.0,9,  -999.0,-999.000,9,-999.000,-999.000,9,  -9.0000,-999.0000,  11.4233,   -9.00
  316N145_7,      TRANS,     376,          1,         12,         12,2,19950331,       0542,   -29.7168,    87.3992,       1885,   406.7,  11.0001,  34.9395,2,  34.9384,2,    241.1,2,   242.0,2,    4.69,2,   11.75,2,    0.00,2,    0.88,2,-999.000,9,-999.000,9,  -999.0,9,  -999.0,9,  -9.0000,9,-999.0000,9, -999.00,9, -999.00,9,  -999.0,9,  -999.0,-999.000,9,-999.000,-999.000,9,  -9.0000,-999.0000,  10.9495,   -9.00
  316N145_7,      TRANS,     376,          1,         11,         11,2,19950331,       0542,   -29.7168,    87.3992,       1885,   507.6,  10.3142,  34.8383,2,  34.8391,2,    240.6,2,   242.3,2,    5.07,2,   13.36,2,    0.00,2,    0.98,2,-999.000,9,-999.000,9,  -999.0,9,  -999.0,9,  -9.0000,9,-999.0000,9, -999.00,9, -999.00,9,  -999.0,9,  -999.0,-999.000,9,-999.000,-999.000,9,  -9.0000,-999.0000,  10.2533,   -9.00
  316N145_7,      TRANS,     376,          1,         10,         10,2,19950331,       0542,   -29.7168,    87.3992,       1885,   607.0,   9.6947,  34.7423,2,  34.7414,2,    240.5,2,   238.2,2,    5.65,2,   15.50,2,    0.00,2,    1.11,2,-999.000,9,-999.000,9,  -999.0,9,  -999.0,9,  -9.0000,9,-999.0000,9, -999.00,9, -999.00,9,  -999.0,9,  -999.0,-999.000,9,-999.000,-999.000,9,  -9.0000,-999.0000,   9.6243,   -9.00
  316N145_7,      TRANS,     376,          1,          9,          9,2,19950331,       0542,   -29.7168,    87.3992,       1885,   707.9,   8.7706,  34.6257,2,  34.6246,2,    227.9,2,   223.1,2,    8.56,2,   19.30,2,    0.00,2,    1.35,2,-999.000,9,-999.000,9,  -999.0,9,  -999.0,9,  -9.0000,9,-999.0000,9, -999.00,9, -999.00,9,  -999.0,9,  -999.0,-999.000,9,-999.000,-999.000,9,  -9.0000,-999.0000,   8.6931,   -9.00
  316N145_7,      TRANS,     376,          1,          8,          8,2,19950331,       0542,   -29.7168,    87.3992,       1885,   807.6,   7.3529,  34.5056,2,  34.5052,2,    208.8,2,   204.2,2,   16.11,2,   24.33,2,    0.00,2,    1.67,2,-999.000,9,-999.000,9,  -999.0,9,  -999.0,9,  -9.0000,9,-999.0000,9, -999.00,9, -999.00,9,  -999.0,9,  -999.0,-999.000,9,-999.000,-999.000,9,  -9.0000,-999.0000,   7.2724,   -9.00
  316N145_7,      TRANS,     376,          1,          7,          7,2,19950331,       0542,   -29.7168,    87.3992,       1885,   908.2,   5.8689,  34.4195,2,  34.4210,2,    200.0,2,   197.7,2,   25.56,2,   28.21,2,    0.00,2,    1.93,2,-999.000,9,-999.000,9,  -999.0,9,  -999.0,9,  -9.0000,9,-999.0000,9, -999.00,9, -999.00,9,  -999.0,9,  -999.0,-999.000,9,-999.000,-999.000,9,  -9.0000,-999.0000,   5.7880,   -9.00
  316N145_7,      TRANS,     376,          1,          6,          6,2,19950331,       0542,   -29.7168,    87.3992,       1885,  1009.0,   4.8912,  34.4108,2,  34.4114,2,    186.5,2,   185.9,2,   38.60,2,   30.91,2,    0.00,2,    2.14,2,-999.000,9,-999.000,9,  -999.0,9,  -999.0,9,  -9.0000,9,-999.0000,9, -999.00,9, -999.00,9,  -999.0,9,  -999.0,-999.000,9,-999.000,-999.000,9,  -9.0000,-999.0000,   4.8081,   -9.00
  316N145_7,      TRANS,     376,          1,          5,          5,2,19950331,       0542,   -29.7168,    87.3992,       1885,  1211.6,   3.7147,  34.4846,2,  34.4824,2,    161.1,2,   161.7,2,   64.11,2,   34.06,2,    0.00,2,    2.39,2,-999.000,9,-999.000,9,  -999.0,9,  -999.0,9,  -9.0000,9,-999.0000,9, -999.00,9, -999.00,9,  -999.0,9,  -999.0,-999.000,9,-999.000,-999.000,9,  -9.0000,-999.0000,   3.6238,   -9.00
  316N145_7,      TRANS,     376,          1,          4,          4,2,19950331,       0542,   -29.7168,    87.3992,       1885,  1414.9,   3.2524,  34.5708,2,  34.5710,2,    152.1,2,   151.1,2,   79.30,2,   34.75,2,    0.00,2,    2.45,2,-999.000,9,-999.000,9,  -999.0,9,  -999.0,9,  -9.0000,9,-999.0000,9, -999.00,9, -999.00,9,  -999.0,9,  -999.0,-999.000,9,-999.000,-999.000,9,  -9.0000,-999.0000,   3.1488,   -9.00
  316N145_7,      TRANS,     376,          1,          3,          3,2,19950331,       0542,   -29.7168,    87.3992,       1885,  1616.3,   2.8131,  34.6415,2,  34.6421,2,    156.1,2,   156.8,2,   87.73,2,   34.15,2,    0.00,2,    2.40,2,-999.000,9,-999.000,9,  -999.0,9,  -999.0,9,  -9.0000,9,-999.0000,9, -999.00,9, -999.00,9,  -999.0,9,  -999.0,-999.000,9,-999.000,-999.000,9,  -9.0000,-999.0000,   2.6976,   -9.00
  316N145_7,      TRANS,     376,          1,          2,          2,2,19950331,       0542,   -29.7168,    87.3992,       1885,  1769.4,   2.5730,  34.6802,2,  34.6810,2,    159.9,2,   161.0,2,   94.06,2,   33.70,2,    0.00,2,    2.37,2,-999.000,9,-999.000,9,  -999.0,9,  -999.0,9,  -9.0000,9,-999.0000,9, -999.00,9, -999.00,9,  -999.0,9,  -999.0,-999.000,9,-999.000,-999.000,9,  -9.0000,-999.0000,   2.4476,   -9.00
  316N145_7,      TRANS,     376,          1,          1,          1,2,19950331,       0542,   -29.7168,    87.3992,       1885,  1996.1,   2.3238,  34.7074,2,  34.7083,2,    166.4,2,   166.0,2,  100.61,2,   33.30,2,    0.00,2,    2.33,2,-999.000,9,-999.000,9,  -999.0,9,  -999.0,9,  -9.0000,9,-999.0000,9, -999.00,9, -999.00,9,  -999.0,9,  -999.0,-999.000,9,-999.000,-999.000,9,  -9.0000,-999.0000,   2.1825,   -9.00