BOTTLE,20211124CCHSIORKP
EXPOCODE,SECT_ID,STNNBR,CASTNO,SAMPNO,BTLNBR,BTLNBR_FLAG_W,DATE,TIME,LATITUDE,LONGITUDE,DEPTH,CTDPRS,CTDTMP,CTDSAL,CTDSAL_FLAG_W,SALNTY,SALNTY_FLAG_W,CTDOXY,CTDOXY_FLAG_W,OXYGEN,OXYGEN_FLAG_W,SILCAT,SILCAT_FLAG_W,NITRAT,NITRAT_FLAG_W,NITRIT,NITRIT_FLAG_W,PHSPHT,PHSPHT_FLAG_W,CFC-11,CFC-11_FLAG_W,CFC-12,CFC-12_FLAG_W,TCARBN,TCARBN_FLAG_W,ALKALI,ALKALI_FLAG_W,TRITUM,TRITUM_FLAG_W,HELIUM,HELIUM_FLAG_W,DELHE3,DELHE3_FLAG_W,DELC13,DELC13_FLAG_W,DELC14,DELC14_FLAG_W,C14ERR,NEON,NEON_FLAG_W,NEONER,CCL4,CCL4_FLAG_W,TRITER,HELIER,THETA,DELHER
,,,,,,,,,,,METERS,DBAR,ITS-90,PSS-78,,PSS-78,,UMOL/KG,,UMOL/KG,,UMOL/KG,,UMOL/KG,,UMOL/KG,,UMOL/KG,,PMOL/KG,,PMOL/KG,,UMOL/KG,,UMOL/KG,,TU,,NMOL/KG,,PERCNT,,/MILLE,,/MILLE,,/MILLE,NMOL/KG,,NMOL/KG,PMOL/KG,,TU,NMOL/KG,DEG C,PERCNT
  316N145_7,       I08N,     308,          1,         36,         36,2,19950315,       2352,    -1.6667,    80.0000,       4872,     2.9,  29.4558,  34.2994,2,  34.5843,3,    194.5,2,   195.2,2,    2.93,2,    0.13,2,    0.00,2,    0.16,2,   1.632,2,   0.932,2,  1930.3,2,  2279.2,2,  -9.0000,9,-999.0000,9, -999.00,9, -999.00,9,  -999.0,9,  -999.0,-999.000,9,-999.000,-999.000,9,  -9.0000,-999.0000,  29.4551,   -9.00
  316N145_7,       I08N,     308,          1,         35,         35,2,19950315,       2352,    -1.6667,    80.0000,       4872,    30.1,  28.6171,  34.6679,2,  34.6087,2,    192.8,2,   195.0,2,    2.71,2,    0.08,2,    0.00,2,    0.15,2,   1.626,2,   0.939,2,  -999.0,9,  -999.0,9,  -9.0000,9,-999.0000,9, -999.00,9, -999.00,9,  -999.0,9,  -999.0,-999.000,9,-999.000,-999.000,9,  -9.0000,-999.0000,  28.6099,   -9.00
  316N145_7,       I08N,     308,          1,         34,         34,2,19950315,       2352,    -1.6667,    80.0000,       4872,    56.0,  24.2288,  35.3727,2,-999.0000,9,    149.3,2,   151.9,2,    6.55,2,    6.82,2,    0.25,2,    0.64,2,   1.611,2,   0.898,2,  -999.0,9,  -999.0,9,  -9.0000,9,-999.0000,9, -999.00,9, -999.00,9,  -999.0,9,  -999.0,-999.000,9,-999.000,-999.000,9,  -9.0000,-999.0000,  24.2169,   -9.00
  316N145_7,       I08N,     308,          1,         33,         33,2,19950315,       2352,    -1.6667,    80.0000,       4872,    80.8,  22.2878,  35.3823,2,  35.3673,2,    119.3,2,   119.2,2,    9.39,2,   12.40,2,    0.29,2,    0.96,2,-999.000,9,-999.000,9,  -999.0,9,  -999.0,9,  -9.0000,9,-999.0000,9, -999.00,9, -999.00,9,  -999.0,9,  -999.0,-999.000,9,-999.000,-999.000,9,  -9.0000,-999.0000,  22.2717,   -9.00
  316N145_7,       I08N,     308,          1,         32,         32,2,19950315,       2352,    -1.6667,    80.0000,       4872,   115.7,  19.6080,  35.2717,2,  35.2648,2,     84.2,2,    86.8,2,   13.86,2,   18.01,2,    0.04,2,    1.29,2,   1.325,2,   0.709,2,  -999.0,9,  -999.0,9,  -9.0000,9,-999.0000,9, -999.00,9, -999.00,9,  -999.0,9,  -999.0,-999.000,9,-999.000,-999.000,9,  -9.0000,-999.0000,  19.5869,   -9.00
  316N145_7,       I08N,     308,          1,         31,         31,2,19950315,       2352,    -1.6667,    80.0000,       4872,   150.6,  15.9398,  35.1566,2,  35.1365,2,     78.7,2,    82.0,2,   18.53,2,   21.57,2,    0.01,2,    1.50,2,-999.000,9,-999.000,9,  -999.0,9,  -999.0,9,  -9.0000,9,-999.0000,9, -999.00,9, -999.00,9,  -999.0,9,  -999.0,-999.000,9,-999.000,-999.000,9,  -9.0000,-999.0000,  15.9160,   -9.00
  316N145_7,       I08N,     308,          1,         30,         30,2,19950315,       2352,    -1.6667,    80.0000,       4872,   195.5,  15.1134,  35.1867,2,  35.1779,2,     72.1,2,    87.6,2,   18.31,2,   21.67,2,    0.01,2,    1.52,2,   1.123,2,   0.580,2,  -999.0,9,  -999.0,9,  -9.0000,9,-999.0000,9, -999.00,9, -999.00,9,  -999.0,9,  -999.0,-999.000,9,-999.000,-999.000,9,  -9.0000,-999.0000,  15.0835,   -9.00
  316N145_7,       I08N,     308,          1,         29,         29,2,19950315,       2352,    -1.6667,    80.0000,       4872,   246.2,  13.2887,  35.1010,2,  35.0979,2,     92.0,2,    98.3,2,   19.93,2,   22.55,2,    0.00,2,    1.57,2,   0.979,2,   0.505,2,  -999.0,9,  -999.0,9,  -9.0000,9,-999.0000,9, -999.00,9, -999.00,9,  -999.0,9,  -999.0,-999.000,9,-999.000,-999.000,9,  -9.0000,-999.0000,  13.2542,   -9.00
  316N145_7,       I08N,     308,          1,         28,         28,2,19950315,       2352,    -1.6667,    80.0000,       4872,   307.3,  11.6105,  35.0324,2,  35.0288,2,     98.7,2,    99.1,2,   22.16,2,   24.80,2,    0.00,2,    1.71,2,   0.700,6,   0.363,6,  -999.0,9,  -999.0,9,  -9.0000,9,-999.0000,9, -999.00,9, -999.00,9,  -999.0,9,  -999.0,-999.000,9,-999.000,-999.000,9,  -9.0000,-999.0000,  11.5710,   -9.00
  316N145_7,       I08N,     308,          1,         27,         27,2,19950315,       2352,    -1.6667,    80.0000,       4872,   397.4,  10.4002,  34.9536,2,  34.9554,2,    101.1,2,   109.1,2,   26.02,2,   26.14,2,    0.00,2,    1.81,2,-999.000,9,-999.000,9,  -999.0,9,  -999.0,9,  -9.0000,9,-999.0000,9, -999.00,9, -999.00,9,  -999.0,9,  -999.0,-999.000,9,-999.000,-999.000,9,  -9.0000,-999.0000,  10.3525,   -9.00
  316N145_7,       I08N,     308,          1,         26,         26,2,19950315,       2352,    -1.6667,    80.0000,       4872,   488.3,   9.6658,  34.9450,2,  34.9434,2,     85.4,2,    84.5,2,   35.58,2,   29.98,2,    0.00,2,    2.13,2,   0.043,3,   0.020,3,  -999.0,9,  -999.0,9,  -9.0000,9,-999.0000,9, -999.00,9, -999.00,9,  -999.0,9,  -999.0,-999.000,9,-999.000,-999.000,9,  -9.0000,-999.0000,   9.6095,   -9.00
  316N145_7,       I08N,     308,          1,         25,         25,2,19950315,       2352,    -1.6667,    80.0000,       4872,   558.2,   9.4008,  34.9749,2,  34.9738,2,     71.9,2,    68.5,2,   42.30,2,   31.93,2,    0.00,2,    2.30,2,   0.163,2,   0.081,2,  -999.0,9,  -999.0,9,  -9.0000,9,-999.0000,9, -999.00,9, -999.00,9,  -999.0,9,  -999.0,-999.000,9,-999.000,-999.000,9,  -9.0000,-999.0000,   9.3373,   -9.00
  316N145_7,       I08N,     308,          1,         24,         24,2,19950315,       2352,    -1.6667,    80.0000,       4872,   658.3,   8.7382,  35.0052,2,  35.0033,2,     52.4,2,    48.6,2,   55.95,2,   34.55,2,    0.00,2,    2.57,2,   0.277,3,   0.142,3,  -999.0,9,  -999.0,9,  -9.0000,9,-999.0000,9, -999.00,9, -999.00,9,  -999.0,9,  -999.0,-999.000,9,-999.000,-999.000,9,  -9.0000,-999.0000,   8.6660,   -9.00
  316N145_7,       I08N,     308,          1,         23,         23,2,19950315,       2352,    -1.6667,    80.0000,       4872,   758.8,   8.3418,  34.9911,2,  34.9835,2,     48.8,2,    50.0,2,   61.65,2,   35.25,2,    0.00,2,    2.62,2,   0.031,2,   0.014,2,  -999.0,9,  -999.0,9,  -9.0000,9,-999.0000,9, -999.00,9, -999.00,9,  -999.0,9,  -999.0,-999.000,9,-999.000,-999.000,9,  -9.0000,-999.0000,   8.2604,   -9.00
  316N145_7,       I08N,     308,          1,         22,         22,2,19950315,       2352,    -1.6667,    80.0000,       4872,   859.1,   7.9087,  34.9793,2,  34.9823,2,     46.8,2,    48.3,2,   67.36,2,   35.86,2,    0.00,2,    2.68,2,   0.021,2,   0.008,2,  -999.0,9,  -999.0,9,  -9.0000,9,-999.0000,9, -999.00,9, -999.00,9,  -999.0,9,  -999.0,-999.000,9,-999.000,-999.000,9,  -9.0000,-999.0000,   7.8187,   -9.00
  316N145_7,       I08N,     308,          1,         21,         21,2,19950315,       2352,    -1.6667,    80.0000,       4872,   985.1,   6.8502,  34.9111,2,  34.9108,2,     56.8,2,    57.9,2,   79.22,2,   36.52,2,    0.00,2,    2.73,2,-999.000,9,-999.000,9,  -999.0,9,  -999.0,9,  -9.0000,9,-999.0000,9, -999.00,9, -999.00,9,  -999.0,9,  -999.0,-999.000,9,-999.000,-999.000,9,  -9.0000,-999.0000,   6.7540,   -9.00
  316N145_7,       I08N,     308,          1,         20,         20,2,19950315,       2352,    -1.6667,    80.0000,       4872,  1111.1,   5.9124,  34.8617,2,  34.8544,2,     66.0,2,    67.1,2,   90.09,2,   36.94,2,    0.00,2,    2.74,2,-999.000,9,-999.000,9,  -999.0,9,  -999.0,9,  -9.0000,9,-999.0000,9, -999.00,9, -999.00,9,  -999.0,9,  -999.0,-999.000,9,-999.000,-999.000,9,  -9.0000,-999.0000,   5.8107,   -9.00
  316N145_7,       I08N,     308,          1,         19,         19,2,19950315,       2352,    -1.6667,    80.0000,       4872,  1313.1,   5.0554,  34.8448,2,  34.8451,2,     77.2,2,    78.2,2,   99.35,2,   37.03,2,    0.00,2,    2.76,2,   0.001,2,   0.002,2,  -999.0,9,  -999.0,9,  -9.0000,9,-999.0000,9, -999.00,9, -999.00,9,  -999.0,9,  -999.0,-999.000,9,-999.000,-999.000,9,  -9.0000,-999.0000,   4.9418,   -9.00
  316N145_7,       I08N,     308,          1,         18,         18,2,19950315,       2352,    -1.6667,    80.0000,       4872,  1515.4,   4.1695,  34.8230,2,  34.8231,2,     96.2,2,    95.9,2,  107.21,2,   36.61,2,    0.00,2,    2.71,2,   0.001,2,   0.001,2,  -999.0,9,  -999.0,9,  -9.0000,9,-999.0000,9, -999.00,9, -999.00,9,  -999.0,9,  -999.0,-999.000,9,-999.000,-999.000,9,  -9.0000,-999.0000,   4.0463,   -9.00
  316N145_7,       I08N,     308,          1,         17,         17,2,19950315,       2352,    -1.6667,    80.0000,       4872,  1716.4,   3.4798,  34.8028,2,  34.8024,2,    110.4,2,   110.5,2,  114.06,2,   36.15,2,    0.00,2,    2.67,2,-999.000,9,-999.000,9,  -999.0,9,  -999.0,9,  -9.0000,9,-999.0000,9, -999.00,9, -999.00,9,  -999.0,9,  -999.0,-999.000,9,-999.000,-999.000,9,  -9.0000,-999.0000,   3.3467,   -9.00
  316N145_7,       I08N,     308,          1,         16,         16,3,19950315,       2352,    -1.6667,    80.0000,       4872,  1920.1,   2.9713,  34.7796,2,  34.7933,4,    124.1,2,   115.1,4,  116.34,4,   36.01,4,    0.00,4,    2.63,4,   0.004,6,   0.001,6,  -999.0,9,  -999.0,9,  -9.0000,9,-999.0000,9, -999.00,9, -999.00,9,  -999.0,9,  -999.0,-999.000,9,-999.000,-999.000,9,  -9.0000,-999.0000,   2.8269,   -9.00
  316N145_7,       I08N,     308,          1,         15,         15,2,19950315,       2352,    -1.6667,    80.0000,       4872,  2122.0,   2.5654,  34.7663,2,  34.7650,2,    133.5,2,   132.6,2,  124.09,2,   35.40,2,    0.00,2,    2.56,2,-999.000,9,-999.000,9,  -999.0,9,  -999.0,9,  -9.0000,9,-999.0000,9, -999.00,9, -999.00,9,  -999.0,9,  -999.0,-999.000,9,-999.000,-999.000,9,  -9.0000,-999.0000,   2.4091,   -9.00
  316N145_7,       I08N,     308,          1,         14,         14,2,19950315,       2352,    -1.6667,    80.0000,       4872,  2324.6,   2.2653,  34.7543,2,  34.7538,2,    143.1,2,   143.2,2,  126.60,2,   34.98,2,    0.00,2,    2.52,2,   0.001,6,   0.000,6,  -999.0,9,  -999.0,9,  -9.0000,9,-999.0000,9, -999.00,9, -999.00,9,  -999.0,9,  -999.0,-999.000,9,-999.000,-999.000,9,  -9.0000,-999.0000,   2.0958,   -9.00
  316N145_7,       I08N,     308,          1,         13,         13,2,19950315,       2352,    -1.6667,    80.0000,       4872,  2527.6,   2.0975,  34.7472,2,  34.7461,2,    148.6,2,   147.8,2,  128.28,2,   34.79,2,    0.00,2,    2.48,2,-999.000,9,-999.000,9,  -999.0,9,  -999.0,9,  -9.0000,9,-999.0000,9, -999.00,9, -999.00,9,  -999.0,9,  -999.0,-999.000,9,-999.000,-999.000,9,  -9.0000,-999.0000,   1.9125,   -9.00
  316N145_7,       I08N,     308,          1,         12,         12,2,19950315,       2352,    -1.6667,    80.0000,       4872,  2731.9,   1.9521,  34.7408,2,  34.7404,2,    154.2,2,   154.7,2,  129.53,2,   34.65,2,    0.00,2,    2.46,2,   0.001,6,   0.001,6,  -999.0,9,  -999.0,9,  -9.0000,9,-999.0000,9, -999.00,9, -999.00,9,  -999.0,9,  -999.0,-999.000,9,-999.000,-999.000,9,  -9.0000,-999.0000,   1.7508,   -9.00
  316N145_7,       I08N,     308,          1,         11,         11,2,19950315,       2352,    -1.6667,    80.0000,       4872,  2933.9,   1.8087,  34.7348,2,  34.7343,2,    158.8,2,   158.1,2,  130.78,2,   34.51,2,    0.00,2,    2.44,2,-999.000,9,-999.000,9,  -999.0,9,  -999.0,9,  -9.0000,9,-999.0000,9, -999.00,9, -999.00,9,  -999.0,9,  -999.0,-999.000,9,-999.000,-999.000,9,  -9.0000,-999.0000,   1.5913,   -9.00
  316N145_7,       I08N,     308,          1,         10,         10,2,19950315,       2352,    -1.6667,    80.0000,       4872,  3137.8,   1.6532,  34.7292,2,  34.7282,2,    162.4,2,   162.9,2,  133.31,2,   34.33,2,    0.00,2,    2.43,2,-999.000,9,-999.000,9,  -999.0,9,  -999.0,9,  -9.0000,9,-999.0000,9, -999.00,9, -999.00,9,  -999.0,9,  -999.0,-999.000,9,-999.000,-999.000,9,  -9.0000,-999.0000,   1.4194,   -9.00
  316N145_7,       I08N,     308,          1,          9,          9,2,19950315,       2352,    -1.6667,    80.0000,       4872,  3341.7,   1.5350,  34.7252,2,  34.7246,2,    165.4,2,   165.4,2,  136.06,2,   34.37,2,    0.00,2,    2.42,2,   0.001,2,   0.000,2,  -999.0,9,  -999.0,9,  -9.0000,9,-999.0000,9, -999.00,9, -999.00,9,  -999.0,9,  -999.0,-999.000,9,-999.000,-999.000,9,  -9.0000,-999.0000,   1.2837,   -9.00
  316N145_7,       I08N,     308,          1,          8,          8,2,19950315,       2352,    -1.6667,    80.0000,       4872,  3545.9,   1.4718,  34.7230,2,  34.7218,2,    165.9,2,   166.7,2,  137.75,2,   34.33,2,    0.00,2,    2.40,2,   0.000,2,   0.000,2,  -999.0,9,  -999.0,9,  -9.0000,9,-999.0000,9, -999.00,9, -999.00,9,  -999.0,9,  -999.0,-999.000,9,-999.000,-999.000,9,  -9.0000,-999.0000,   1.2015,   -9.00
  316N145_7,       I08N,     308,          1,          7,          7,2,19950315,       2352,    -1.6667,    80.0000,       4872,  3749.6,   1.4190,  34.7209,2,  34.7195,2,    169.1,2,   170.3,2,  137.73,2,   34.05,2,    0.00,2,    2.39,2,   0.001,2,  -0.001,2,  -999.0,9,  -999.0,9,  -9.0000,9,-999.0000,9, -999.00,9, -999.00,9,  -999.0,9,  -999.0,-999.000,9,-999.000,-999.000,9,  -9.0000,-999.0000,   1.1289,   -9.00
  316N145_7,       I08N,     308,          1,          6,          6,2,19950315,       2352,    -1.6667,    80.0000,       4872,  3954.5,   1.3905,  34.7193,2,  34.7191,2,    173.2,2,   173.1,2,  137.07,2,   34.00,2,    0.00,2,    2.38,2,  -0.001,2,   0.000,2,  -999.0,9,  -999.0,9,  -9.0000,9,-999.0000,9, -999.00,9, -999.00,9,  -999.0,9,  -999.0,-999.000,9,-999.000,-999.000,9,  -9.0000,-999.0000,   1.0794,   -9.00
  316N145_7,       I08N,     308,          1,          5,          5,2,19950315,       2352,    -1.6667,    80.0000,       4872,  4159.1,   1.3884,  34.7191,2,  34.7177,2,    175.2,2,   175.3,2,  136.41,2,   33.86,2,    0.00,2,    2.36,2,-999.000,9,-999.000,9,  -999.0,9,  -999.0,9,  -9.0000,9,-999.0000,9, -999.00,9, -999.00,9,  -999.0,9,  -999.0,-999.000,9,-999.000,-999.000,9,  -9.0000,-999.0000,   1.0550,   -9.00
  316N145_7,       I08N,     308,          1,          4,          4,2,19950315,       2352,    -1.6667,    80.0000,       4872,  4362.4,   1.3962,  34.7185,2,  34.7176,2,    177.6,2,   176.7,2,  135.32,2,   33.72,2,    0.00,2,    2.36,2,   0.005,2,   0.000,2,  -999.0,9,  -999.0,9,  -9.0000,9,-999.0000,9, -999.00,9, -999.00,9,  -999.0,9,  -999.0,-999.000,9,-999.000,-999.000,9,  -9.0000,-999.0000,   1.0400,   -9.00
  316N145_7,       I08N,     308,          1,          3,          3,2,19950315,       2352,    -1.6667,    80.0000,       4872,  4567.8,   1.4054,  34.7184,2,  34.7172,2,    179.1,2,   179.0,2,  134.87,2,   33.68,2,    0.00,2,    2.34,2,-999.000,9,-999.000,9,  -999.0,9,  -999.0,9,  -9.0000,9,-999.0000,9, -999.00,9, -999.00,9,  -999.0,9,  -999.0,-999.000,9,-999.000,-999.000,9,  -9.0000,-999.0000,   1.0254,   -9.00
  316N145_7,       I08N,     308,          1,          2,          2,2,19950315,       2352,    -1.6667,    80.0000,       4872,  4772.7,   1.4149,  34.7176,2,  34.7164,2,    179.9,2,   179.7,2,  134.85,2,   33.68,2,    0.00,2,    2.33,2,   0.000,2,   0.000,2,  -999.0,9,  -999.0,9,  -9.0000,9,-999.0000,9, -999.00,9, -999.00,9,  -999.0,9,  -999.0,-999.000,9,-999.000,-999.000,9,  -9.0000,-999.0000,   1.0106,   -9.00
  316N145_7,       I08N,     308,          1,          1,          1,2,19950315,       2352,    -1.6667,    80.0000,       4872,  4973.0,   1.4369,  34.7180,2,  34.7160,2,    179.9,2,   179.4,2,  134.83,2,   33.68,2,    0.00,2,    2.34,2,  -0.001,2,   0.001,2,  -999.0,9,  -999.0,9,  -9.0000,9,-999.0000,9, -999.00,9, -999.00,9,  -999.0,9,  -999.0,-999.000,9,-999.000,-999.000,9,  -9.0000,-999.0000,   1.0079,   -9.00