BOTTLE,20211124CCHSIORKP
EXPOCODE,SECT_ID,STNNBR,CASTNO,SAMPNO,BTLNBR,BTLNBR_FLAG_W,DATE,TIME,LATITUDE,LONGITUDE,DEPTH,CTDPRS,CTDTMP,CTDSAL,CTDSAL_FLAG_W,SALNTY,SALNTY_FLAG_W,CTDOXY,CTDOXY_FLAG_W,OXYGEN,OXYGEN_FLAG_W,SILCAT,SILCAT_FLAG_W,NITRAT,NITRAT_FLAG_W,NITRIT,NITRIT_FLAG_W,PHSPHT,PHSPHT_FLAG_W,CFC-11,CFC-11_FLAG_W,CFC-12,CFC-12_FLAG_W,TCARBN,TCARBN_FLAG_W,ALKALI,ALKALI_FLAG_W,TRITUM,TRITUM_FLAG_W,HELIUM,HELIUM_FLAG_W,DELHE3,DELHE3_FLAG_W,DELC13,DELC13_FLAG_W,DELC14,DELC14_FLAG_W,C14ERR,NEON,NEON_FLAG_W,NEONER,CCL4,CCL4_FLAG_W,TRITER,HELIER,THETA,DELHER
,,,,,,,,,,,METERS,DBAR,ITS-90,PSS-78,,PSS-78,,UMOL/KG,,UMOL/KG,,UMOL/KG,,UMOL/KG,,UMOL/KG,,UMOL/KG,,PMOL/KG,,PMOL/KG,,UMOL/KG,,UMOL/KG,,TU,,NMOL/KG,,PERCNT,,/MILLE,,/MILLE,,/MILLE,NMOL/KG,,NMOL/KG,PMOL/KG,,TU,NMOL/KG,DEG C,PERCNT
  316N145_7,      TRANS,     362,          1,         36,         36,2,19950328,       2116,   -26.3500,    85.2837,       4553,     3.9,  25.2518,  35.7190,2,  35.7187,2,    206.4,2,   208.2,2,    3.31,2,    0.20,2,    0.00,2,    0.10,2,   1.924,2,   1.083,2,  2000.1,2,  2344.9,2,  -9.0000,9,-999.0000,9, -999.00,9, -999.00,9,  -999.0,9,  -999.0,-999.000,9,-999.000,-999.000,9,  -9.0000,-999.0000,  25.2510,   -9.00
  316N145_7,      TRANS,     362,          1,         35,         35,2,19950328,       2116,   -26.3500,    85.2837,       4553,    31.1,  25.1305,  35.7647,2,  35.7728,2,    204.2,2,   209.3,2,    3.08,2,    0.20,2,    0.00,2,    0.10,2,-999.000,9,-999.000,9,  2002.4,2,  2348.2,2,  -9.0000,9,-999.0000,9, -999.00,9, -999.00,9,  -999.0,9,  -999.0,-999.000,9,-999.000,-999.000,9,  -9.0000,-999.0000,  25.1237,   -9.00
  316N145_7,      TRANS,     362,          1,         34,         34,2,19950328,       2116,   -26.3500,    85.2837,       4553,    65.9,  22.4086,  35.6843,2,  35.7432,2,    229.4,2,   233.8,2,    3.28,2,    0.20,2,    0.00,2,    0.11,2,   2.335,2,   1.276,2,  2015.3,2,  2327.5,2,  -9.0000,9,-999.0000,9, -999.00,9, -999.00,9,  -999.0,9,  -999.0,-999.000,9,-999.000,-999.000,9,  -9.0000,-999.0000,  22.3954,   -9.00
  316N145_7,      TRANS,     362,          1,         33,         33,2,19950328,       2116,   -26.3500,    85.2837,       4553,    96.2,  20.7469,  35.8595,2,  35.8410,2,    236.9,2,   230.5,2,    3.06,2,    0.20,2,    0.00,2,    0.11,2,   2.329,2,   1.275,2,  2025.0,2,  2348.4,2,  -9.0000,9,-999.0000,9, -999.00,9, -999.00,9,  -999.0,9,  -999.0,-999.000,9,-999.000,-999.000,9,  -9.0000,-999.0000,  20.7286,   -9.00
  316N145_7,      TRANS,     362,          1,         32,         32,2,19950328,       2116,   -26.3500,    85.2837,       4553,   125.8,  19.6429,  35.8823,2,  35.8852,2,    229.1,2,   226.0,2,    3.04,2,    0.20,2,    0.00,2,    0.14,2,   2.420,2,   1.313,2,  2044.0,2,  2371.1,2,  -9.0000,9,-999.0000,9, -999.00,9, -999.00,9,  -999.0,9,  -999.0,-999.000,9,-999.000,-999.000,9,  -9.0000,-999.0000,  19.6199,   -9.00
  316N145_7,      TRANS,     362,          1,         31,         31,2,19950328,       2116,   -26.3500,    85.2837,       4553,   155.9,  18.9681,  35.8824,2,  35.8716,2,    225.7,2,   220.7,2,    2.82,2,    0.25,2,    0.05,2,    0.18,2,-999.000,9,-999.000,9,  2057.7,2,  2354.8,2,  -9.0000,9,-999.0000,9, -999.00,9, -999.00,9,  -999.0,9,  -999.0,-999.000,9,-999.000,-999.000,9,  -9.0000,-999.0000,  18.9402,   -9.00
  316N145_7,      TRANS,     362,          1,         30,         30,2,19950328,       2116,   -26.3500,    85.2837,       4553,   206.4,  17.4264,  35.8154,2,  35.8102,2,    223.1,2,   222.6,2,    2.59,2,    0.90,2,    0.10,2,    0.25,2,   2.613,2,   1.409,2,  2073.5,2,  2359.5,2,  -9.0000,9,-999.0000,9, -999.00,9, -999.00,9,  -999.0,9,  -999.0,-999.000,9,-999.000,-999.000,9,  -9.0000,-999.0000,  17.3916,   -9.00
  316N145_7,      TRANS,     362,          1,         29,         29,2,19950328,       2116,   -26.3500,    85.2837,       4553,   277.1,  15.0209,  35.5323,2,  35.5293,2,    219.4,2,   218.8,2,    3.00,2,    4.36,2,    0.01,2,    0.46,2,   2.737,2,   1.438,2,  2091.7,2,  2339.7,2,  -9.0000,9,-999.0000,9, -999.00,9, -999.00,9,  -999.0,9,  -999.0,-999.000,9,-999.000,-999.000,9,  -9.0000,-999.0000,  14.9786,   -9.00
  316N145_7,      TRANS,     362,          1,         28,         28,2,19950328,       2116,   -26.3500,    85.2837,       4553,   346.7,  13.4332,  35.3388,2,  35.3275,2,    227.6,2,   229.0,2,    3.20,2,    6.64,2,    0.01,2,    0.58,2,   2.968,2,   1.547,2,  2097.6,2,  2322.9,2,  -9.0000,9,-999.0000,9, -999.00,9, -999.00,9,  -999.0,9,  -999.0,-999.000,9,-999.000,-999.000,9,  -9.0000,-999.0000,  13.3840,   -9.00
  316N145_7,      TRANS,     362,          1,         27,         27,2,19950328,       2116,   -26.3500,    85.2837,       4553,   417.1,  12.2205,  35.1463,2,  35.1425,2,    232.0,2,   234.7,2,    3.62,2,    8.98,2,    0.01,2,    0.71,2,   3.016,2,   1.554,2,  2101.8,2,  2309.1,2,  -9.0000,9,-999.0000,9, -999.00,9, -999.00,9,  -999.0,9,  -999.0,-999.000,9,-999.000,-999.000,9,  -9.0000,-999.0000,  12.1649,   -9.00
  316N145_7,      TRANS,     362,          1,         26,         26,2,19950328,       2116,   -26.3500,    85.2837,       4553,   518.2,  11.0289,  34.9508,2,  34.9567,2,    237.6,2,   239.4,2,    4.24,2,   11.61,2,    0.00,2,    0.87,2,   2.981,6,   1.515,6,  2105.7,2,  2310.1,2,  -9.0000,9,-999.0000,9, -999.00,9, -999.00,9,  -999.0,9,  -999.0,-999.000,9,-999.000,-999.000,9,  -9.0000,-999.0000,  10.9640,   -9.00
  316N145_7,      TRANS,     362,          1,         25,         25,2,19950328,       2116,   -26.3500,    85.2837,       4553,   618.5,  10.0726,  34.8000,2,  34.8054,2,    236.7,2,   237.9,2,    5.08,2,   14.29,2,    0.00,2,    1.03,2,-999.000,9,-999.000,9,  2111.5,2,  2296.7,2,  -9.0000,9,-999.0000,9, -999.00,9, -999.00,9,  -999.0,9,  -999.0,-999.000,9,-999.000,-999.000,9,  -9.0000,-999.0000,   9.9991,   -9.00
  316N145_7,      TRANS,     362,          1,         24,         24,2,19950328,       2116,   -26.3500,    85.2837,       4553,   719.2,   9.0566,  34.6593,2,  34.6568,2,    228.5,2,   225.8,2,    7.41,2,   18.22,2,    0.00,2,    1.27,2,   2.148,2,   1.063,2,  2124.6,2,  2298.3,2,  -9.0000,9,-999.0000,9, -999.00,9, -999.00,9,  -999.0,9,  -999.0,-999.000,9,-999.000,-999.000,9,  -9.0000,-999.0000,   8.9762,   -9.00
  316N145_7,      TRANS,     362,          1,         23,         23,2,19950328,       2116,   -26.3500,    85.2837,       4553,   818.8,   7.6860,  34.5348,2,  34.5351,2,    209.7,2,   207.9,2,   14.43,2,   23.35,2,    0.00,2,    1.59,2,   1.218,2,   0.598,2,  2149.6,2,  2295.5,2,  -9.0000,9,-999.0000,9, -999.00,9, -999.00,9,  -999.0,9,  -999.0,-999.000,9,-999.000,-999.000,9,  -9.0000,-999.0000,   7.6023,   -9.00
  316N145_7,      TRANS,     362,          1,         22,         22,2,19950328,       2116,   -26.3500,    85.2837,       4553,   920.3,   6.0603,  34.4431,2,  34.4432,2,    198.4,2,   194.1,2,   26.34,2,   28.09,2,    0.00,2,    1.92,2,   0.586,2,   0.290,2,  2171.4,2,  2302.5,2,  -9.0000,9,-999.0000,9, -999.00,9, -999.00,9,  -999.0,9,  -999.0,-999.000,9,-999.000,-999.000,9,  -9.0000,-999.0000,   5.9769,   -9.00
  316N145_7,      TRANS,     362,          1,         21,         21,2,19950328,       2116,   -26.3500,    85.2837,       4553,  1021.1,   4.9252,  34.4444,2,  34.4447,2,    175.4,2,   171.0,2,   45.93,2,   32.00,2,    0.00,2,    2.22,2,   0.199,2,   0.096,2,  2214.5,2,  2323.6,2,  -9.0000,9,-999.0000,9, -999.00,9, -999.00,9,  -999.0,9,  -999.0,-999.000,9,-999.000,-999.000,9,  -9.0000,-999.0000,   4.8406,   -9.00
  316N145_7,      TRANS,     362,          1,         20,         20,2,19950328,       2116,   -26.3500,    85.2837,       4553,  1142.2,   4.2753,  34.4904,2,  34.4932,2,    155.0,2,   153.5,2,   63.17,2,   34.21,2,    0.00,2,    2.39,2,   0.067,2,   0.033,2,  2242.9,2,  2337.1,2,  -9.0000,9,-999.0000,9, -999.00,9, -999.00,9,  -999.0,9,  -999.0,-999.000,9,-999.000,-999.000,9,  -9.0000,-999.0000,   4.1853,   -9.00
  316N145_7,      TRANS,     362,          1,         19,         19,2,19950328,       2116,   -26.3500,    85.2837,       4553,  1293.0,   3.7235,  34.5571,2,  34.5574,2,    143.0,2,   142.6,2,   77.88,2,   35.26,2,    0.00,2,    2.48,2,   0.013,6,   0.005,6,  2261.8,2,  2370.0,3,  -9.0000,9,-999.0000,9, -999.00,9, -999.00,9,  -999.0,9,  -999.0,-999.000,9,-999.000,-999.000,9,  -9.0000,-999.0000,   3.6254,   -9.00
  316N145_7,      TRANS,     362,          1,         18,         18,2,19950328,       2116,   -26.3500,    85.2837,       4553,  1445.2,   3.2555,  34.5906,2,  34.5899,2,    147.9,2,   149.3,3,   82.35,2,   35.00,2,    0.00,2,    2.46,2,-999.000,9,-999.000,9,  2265.4,2,  2360.2,2,  -9.0000,9,-999.0000,9, -999.00,9, -999.00,9,  -999.0,9,  -999.0,-999.000,9,-999.000,-999.000,9,  -9.0000,-999.0000,   3.1493,   -9.00
  316N145_7,      TRANS,     362,          1,         17,         17,2,19950328,       2116,   -26.3500,    85.2837,       4553,  1596.5,   3.0540,  34.6366,2,  34.6366,2,    148.3,2,   148.9,2,   89.17,2,   34.80,2,    0.00,2,    2.44,2,   0.001,2,   0.002,2,  2272.7,2,  2394.2,3,  -9.0000,9,-999.0000,9, -999.00,9, -999.00,9,  -999.0,9,  -999.0,-999.000,9,-999.000,-999.000,9,  -9.0000,-999.0000,   2.9372,   -9.00
  316N145_7,      TRANS,     362,          1,         16,         16,2,19950328,       2116,   -26.3500,    85.2837,       4553,  1747.7,   2.7962,  34.6801,2,  34.6802,2,    151.8,2,   151.9,2,   96.66,2,   34.44,2,    0.00,2,    2.42,2,-999.000,9,-999.000,9,  2276.7,2,  2374.5,2,  -9.0000,9,-999.0000,9, -999.00,9, -999.00,9,  -999.0,9,  -999.0,-999.000,9,-999.000,-999.000,9,  -9.0000,-999.0000,   2.6696,   -9.00
  316N145_7,      TRANS,     362,          1,         15,         15,2,19950328,       2116,   -26.3500,    85.2837,       4553,  2001.8,   2.4784,  34.7114,2,  34.7125,2,    157.4,2,   157.8,2,  104.59,2,   34.08,2,    0.00,2,    2.39,2,  -0.003,2,  -0.001,2,  2282.2,2,  2399.0,3,  -9.0000,9,-999.0000,9, -999.00,9, -999.00,9,  -999.0,9,  -999.0,-999.000,9,-999.000,-999.000,9,  -9.0000,-999.0000,   2.3343,   -9.00
  316N145_7,      TRANS,     362,          1,         14,         14,2,19950328,       2116,   -26.3500,    85.2837,       4553,  2152.9,   2.2908,  34.7193,2,  34.7193,2,    163.3,2,   163.7,2,  106.72,2,   33.73,2,    0.00,2,    2.36,2,-999.000,9,-999.000,9,  2280.3,2,  2390.9,2,  -9.0000,9,-999.0000,9, -999.00,9, -999.00,9,  -999.0,9,  -999.0,-999.000,9,-999.000,-999.000,9,  -9.0000,-999.0000,   2.1363,   -9.00
  316N145_7,      TRANS,     362,          1,         13,         13,2,19950328,       2116,   -26.3500,    85.2837,       4553,  2306.1,   2.1406,  34.7226,2,  34.7229,2,    169.2,2,   168.9,2,  108.21,2,   33.47,2,    0.00,2,    2.34,2,   0.001,2,   0.001,2,  2280.0,2,  2389.7,2,  -9.0000,9,-999.0000,9, -999.00,9, -999.00,9,  -999.0,9,  -999.0,-999.000,9,-999.000,-999.000,9,  -9.0000,-999.0000,   1.9750,   -9.00
  316N145_7,      TRANS,     362,          1,         12,         12,2,19950328,       2116,   -26.3500,    85.2837,       4553,  2458.2,   2.0037,  34.7249,2,  34.7256,2,    175.3,2,   175.0,2,  108.18,2,   33.02,2,    0.00,2,    2.30,2,-999.000,9,-999.000,9,  2275.9,2,  2385.3,2,  -9.0000,9,-999.0000,9, -999.00,9, -999.00,9,  -999.0,9,  -999.0,-999.000,9,-999.000,-999.000,9,  -9.0000,-999.0000,   1.8269,   -9.00
  316N145_7,      TRANS,     362,          1,         11,         11,2,19950328,       2116,   -26.3500,    85.2837,       4553,  2630.5,   1.8755,  34.7289,2,  34.7290,2,    181.4,2,   182.3,2,  106.85,2,   32.51,2,    0.00,2,    2.26,2,-999.000,9,-999.000,9,  2271.2,2,  2381.8,2,  -9.0000,9,-999.0000,9, -999.00,9, -999.00,9,  -999.0,9,  -999.0,-999.000,9,-999.000,-999.000,9,  -9.0000,-999.0000,   1.6853,   -9.00
  316N145_7,      TRANS,     362,          1,         10,         10,2,19950328,       2116,   -26.3500,    85.2837,       4553,  2834.2,   1.7364,  34.7321,2,  34.7317,2,    188.8,2,   190.4,2,  106.39,2,   32.10,2,    0.00,2,    2.22,2,-999.000,9,-999.000,9,  2266.9,2,  2380.6,2,  -9.0000,9,-999.0000,9, -999.00,9, -999.00,9,  -999.0,9,  -999.0,-999.000,9,-999.000,-999.000,9,  -9.0000,-999.0000,   1.5299,   -9.00
  316N145_7,      TRANS,     362,          1,          9,          9,2,19950328,       2116,   -26.3500,    85.2837,       4553,  3038.0,   1.5904,  34.7333,2,  34.7339,2,    194.6,2,   194.2,2,  107.45,2,   31.80,2,    0.00,2,    2.19,2,-999.000,9,-999.000,9,  2263.3,2,  2380.5,2,  -9.0000,9,-999.0000,9, -999.00,9, -999.00,9,  -999.0,9,  -999.0,-999.000,9,-999.000,-999.000,9,  -9.0000,-999.0000,   1.3677,   -9.00
  316N145_7,      TRANS,     362,          1,          8,          8,2,19950328,       2116,   -26.3500,    85.2837,       4553,  3241.2,   1.4870,  34.7288,2,  34.7288,2,    194.2,2,   192.7,2,  113.69,2,   32.25,2,    0.00,2,    2.22,2,-999.000,9,-999.000,9,  2270.8,2,  2389.1,2,  -9.0000,9,-999.0000,9, -999.00,9, -999.00,9,  -999.0,9,  -999.0,-999.000,9,-999.000,-999.000,9,  -9.0000,-999.0000,   1.2469,   -9.00
  316N145_7,      TRANS,     362,          1,          7,          7,2,19950328,       2116,   -26.3500,    85.2837,       4553,  3445.7,   1.4249,  34.7263,2,  34.7268,2,    192.9,2,   192.8,2,  116.91,2,   32.45,2,    0.00,2,    2.23,2,-999.000,9,-999.000,9,  2273.8,2,  2404.1,3,  -9.0000,9,-999.0000,9, -999.00,9, -999.00,9,  -999.0,9,  -999.0,-999.000,9,-999.000,-999.000,9,  -9.0000,-999.0000,   1.1659,   -9.00
  316N145_7,      TRANS,     362,          1,          6,          6,2,19950328,       2116,   -26.3500,    85.2837,       4553,  3649.2,   1.3898,  34.7237,2,  34.7233,2,    191.5,2,   191.4,2,  120.58,2,   32.74,2,    0.00,2,    2.26,2,-999.000,9,-999.000,9,  2279.7,2,  2397.2,2,  -9.0000,9,-999.0000,9, -999.00,9, -999.00,9,  -999.0,9,  -999.0,-999.000,9,-999.000,-999.000,9,  -9.0000,-999.0000,   1.1109,   -9.00
  316N145_7,      TRANS,     362,          1,          5,          5,2,19950328,       2116,   -26.3500,    85.2837,       4553,  3853.3,   1.3810,  34.7221,2,  34.7270,4,    189.3,2,   190.3,2,  122.73,2,   32.94,2,    0.00,2,    2.27,2,  -0.002,2,   0.001,2,  2282.8,2,  2402.7,2,  -9.0000,9,-999.0000,9, -999.00,9, -999.00,9,  -999.0,9,  -999.0,-999.000,9,-999.000,-999.000,9,  -9.0000,-999.0000,   1.0809,   -9.00
  316N145_7,      TRANS,     362,          1,          4,          4,2,19950328,       2116,   -26.3500,    85.2837,       4553,  4058.4,   1.3912,  34.7209,2,  34.7213,2,    188.3,2,   189.0,2,  124.01,2,   32.99,2,    0.00,2,    2.28,2,-999.000,9,-999.000,9,  2285.8,2,  2399.2,2,  -9.0000,9,-999.0000,9, -999.00,9, -999.00,9,  -999.0,9,  -999.0,-999.000,9,-999.000,-999.000,9,  -9.0000,-999.0000,   1.0688,   -9.00
  316N145_7,      TRANS,     362,          1,          3,          3,2,19950328,       2116,   -26.3500,    85.2837,       4553,  4263.3,   1.4099,  34.7208,2,  34.7207,2,    188.5,2,   188.8,2,  124.63,2,   33.08,2,    0.00,2,    2.28,2,  -0.003,2,  -0.002,2,  2285.3,2,  2397.1,2,  -9.0000,9,-999.0000,9, -999.00,9, -999.00,9,  -999.0,9,  -999.0,-999.000,9,-999.000,-999.000,9,  -9.0000,-999.0000,   1.0644,   -9.00
  316N145_7,      TRANS,     362,          1,          2,          2,2,19950328,       2116,   -26.3500,    85.2837,       4553,  4517.8,   1.4368,  34.7206,2,  34.7199,2,    188.7,2,   189.0,2,  125.25,2,   33.13,2,    0.00,2,    2.29,2,  -0.003,2,  -0.001,2,  2288.4,2,  2405.7,2,  -9.0000,9,-999.0000,9, -999.00,9, -999.00,9,  -999.0,9,  -999.0,-999.000,9,-999.000,-999.000,9,  -9.0000,-999.0000,   1.0615,   -9.00
  316N145_7,      TRANS,     362,          1,          1,          1,2,19950328,       2116,   -26.3500,    85.2837,       4553,  4739.1,   1.4632,  34.7205,2,  34.7207,2,    190.0,2,   191.5,3,  125.44,2,   33.13,2,    0.00,2,    2.29,2,  -0.004,2,  -0.001,2,  2288.3,2,  2399.8,2,  -9.0000,9,-999.0000,9, -999.00,9, -999.00,9,  -999.0,9,  -999.0,-999.000,9,-999.000,-999.000,9,  -9.0000,-999.0000,   1.0612,   -9.00