BOTTLE,20211124CCHSIORKP
EXPOCODE,SECT_ID,STNNBR,CASTNO,SAMPNO,BTLNBR,BTLNBR_FLAG_W,DATE,TIME,LATITUDE,LONGITUDE,DEPTH,CTDPRS,CTDTMP,CTDSAL,CTDSAL_FLAG_W,SALNTY,SALNTY_FLAG_W,CTDOXY,CTDOXY_FLAG_W,OXYGEN,OXYGEN_FLAG_W,SILCAT,SILCAT_FLAG_W,NITRAT,NITRAT_FLAG_W,NITRIT,NITRIT_FLAG_W,PHSPHT,PHSPHT_FLAG_W,CFC-11,CFC-11_FLAG_W,CFC-12,CFC-12_FLAG_W,TCARBN,TCARBN_FLAG_W,ALKALI,ALKALI_FLAG_W,TRITUM,TRITUM_FLAG_W,HELIUM,HELIUM_FLAG_W,DELHE3,DELHE3_FLAG_W,DELC13,DELC13_FLAG_W,DELC14,DELC14_FLAG_W,C14ERR,NEON,NEON_FLAG_W,NEONER,CCL4,CCL4_FLAG_W,TRITER,HELIER,THETA,DELHER
,,,,,,,,,,,METERS,DBAR,ITS-90,PSS-78,,PSS-78,,UMOL/KG,,UMOL/KG,,UMOL/KG,,UMOL/KG,,UMOL/KG,,UMOL/KG,,PMOL/KG,,PMOL/KG,,UMOL/KG,,UMOL/KG,,TU,,NMOL/KG,,PERCNT,,/MILLE,,/MILLE,,/MILLE,NMOL/KG,,NMOL/KG,PMOL/KG,,TU,NMOL/KG,DEG C,PERCNT
  316N145_7,      TRANS,     370,          1,         23,         23,2,19950330,       0411,   -27.6283,    88.1708,       2418,     3.2,  24.1937,  36.0026,2,  36.0011,2,    210.7,2,   212.0,2,    3.02,2,    0.15,2,    0.00,2,    0.10,2,-999.000,9,-999.000,9,  -999.0,9,  -999.0,9,  -9.0000,9,-999.0000,9, -999.00,9, -999.00,9,  -999.0,9,  -999.0,-999.000,9,-999.000,-999.000,9,  -9.0000,-999.0000,  24.1930,   -9.00
  316N145_7,      TRANS,     370,          1,         22,         22,2,19950330,       0411,   -27.6283,    88.1708,       2418,    75.1,  19.0654,  35.8823,2,  35.8683,2,    251.6,2,   246.0,2,    2.55,2,    0.15,2,    0.00,2,    0.15,2,-999.000,9,-999.000,9,  -999.0,9,  -999.0,9,  -9.0000,9,-999.0000,9, -999.00,9, -999.00,9,  -999.0,9,  -999.0,-999.000,9,-999.000,-999.000,9,  -9.0000,-999.0000,  19.0519,   -9.00
  316N145_7,      TRANS,     370,          1,         21,         21,2,19950330,       0411,   -27.6283,    88.1708,       2418,   104.7,  17.3215,  35.7897,2,  35.7695,2,    250.9,2,   244.0,2,    2.29,2,    0.20,2,    0.00,2,    0.18,2,-999.000,9,-999.000,9,  -999.0,9,  -999.0,9,  -9.0000,9,-999.0000,9, -999.00,9, -999.00,9,  -999.0,9,  -999.0,-999.000,9,-999.000,-999.000,9,  -9.0000,-999.0000,  17.3040,   -9.00
  316N145_7,      TRANS,     370,          1,         20,         20,2,19950330,       0411,   -27.6283,    88.1708,       2418,   165.1,  14.7915,  35.4907,2,  35.4932,2,    231.7,2,   227.6,2,    2.46,2,    3.19,2,    0.14,2,    0.41,2,-999.000,9,-999.000,9,  -999.0,9,  -999.0,9,  -9.0000,9,-999.0000,9, -999.00,9, -999.00,9,  -999.0,9,  -999.0,-999.000,9,-999.000,-999.000,9,  -9.0000,-999.0000,  14.7667,   -9.00
  316N145_7,      TRANS,     370,          1,         19,         19,2,19950330,       0411,   -27.6283,    88.1708,       2418,   224.9,  13.3293,  35.2890,2,  35.2864,2,    228.7,2,   227.9,2,    3.26,2,    7.10,2,    0.01,2,    0.61,2,-999.000,9,-999.000,9,  -999.0,9,  -999.0,9,  -9.0000,9,-999.0000,9, -999.00,9, -999.00,9,  -999.0,9,  -999.0,-999.000,9,-999.000,-999.000,9,  -9.0000,-999.0000,  13.2977,   -9.00
  316N145_7,      TRANS,     370,          1,         18,         18,2,19950330,       0411,   -27.6283,    88.1708,       2418,   306.1,  12.3583,  35.1498,2,  35.1483,2,    231.5,2,   232.0,2,    3.85,2,    9.21,2,    0.00,2,    0.73,2,-999.000,9,-999.000,9,  -999.0,9,  -999.0,9,  -9.0000,9,-999.0000,9, -999.00,9, -999.00,9,  -999.0,9,  -999.0,-999.000,9,-999.000,-999.000,9,  -9.0000,-999.0000,  12.3174,   -9.00
  316N145_7,      TRANS,     370,          1,         17,         17,2,19950330,       0411,   -27.6283,    88.1708,       2418,   365.7,  11.7304,  35.0528,2,  35.0522,2,    234.5,2,   235.1,2,    4.23,2,   10.49,2,    0.00,2,    0.81,2,-999.000,9,-999.000,9,  -999.0,9,  -999.0,9,  -9.0000,9,-999.0000,9, -999.00,9, -999.00,9,  -999.0,9,  -999.0,-999.000,9,-999.000,-999.000,9,  -9.0000,-999.0000,  11.6830,   -9.00
  316N145_7,      TRANS,     370,          1,         16,         16,2,19950330,       0411,   -27.6283,    88.1708,       2418,   425.1,  11.2175,  34.9754,2,  34.9713,2,    234.7,2,   236.0,2,    4.39,2,   11.57,2,    0.00,2,    0.87,2,-999.000,9,-999.000,9,  -999.0,9,  -999.0,9,  -9.0000,9,-999.0000,9, -999.00,9, -999.00,9,  -999.0,9,  -999.0,-999.000,9,-999.000,-999.000,9,  -9.0000,-999.0000,  11.1639,   -9.00
  316N145_7,      TRANS,     370,          1,         15,         15,2,19950330,       0411,   -27.6283,    88.1708,       2418,   485.9,  10.7595,  34.9037,2,  34.8966,2,    236.3,2,   237.4,2,    4.77,2,   12.80,2,    0.00,2,    0.94,2,-999.000,9,-999.000,9,  -999.0,9,  -999.0,9,  -9.0000,9,-999.0000,9, -999.00,9, -999.00,9,  -999.0,9,  -999.0,-999.000,9,-999.000,-999.000,9,  -9.0000,-999.0000,  10.6997,   -9.00
  316N145_7,      TRANS,     370,          1,         14,         14,2,19950330,       0411,   -27.6283,    88.1708,       2418,   546.3,  10.1490,  34.8118,2,  34.8104,2,    237.6,2,   238.0,2,    5.14,2,   14.12,2,    0.00,2,    1.03,2,-999.000,9,-999.000,9,  -999.0,9,  -999.0,9,  -9.0000,9,-999.0000,9, -999.00,9, -999.00,9,  -999.0,9,  -999.0,-999.000,9,-999.000,-999.000,9,  -9.0000,-999.0000,  10.0840,   -9.00
  316N145_7,      TRANS,     370,          1,         13,         13,2,19950330,       0411,   -27.6283,    88.1708,       2418,   606.6,   9.6271,  34.7349,2,  34.7293,2,    234.2,2,   234.8,2,    5.73,2,   15.99,2,    0.00,2,    1.13,2,-999.000,9,-999.000,9,  -999.0,9,  -999.0,9,  -9.0000,9,-999.0000,9, -999.00,9, -999.00,9,  -999.0,9,  -999.0,-999.000,9,-999.000,-999.000,9,  -9.0000,-999.0000,   9.5571,   -9.00
  316N145_7,      TRANS,     370,          1,         12,         12,2,19950330,       0411,   -27.6283,    88.1708,       2418,   708.7,   8.6225,  34.6143,2,  34.6123,2,    224.1,2,   221.0,2,    9.07,2,   19.82,2,    0.00,2,    1.37,2,-999.000,9,-999.000,9,  -999.0,9,  -999.0,9,  -9.0000,9,-999.0000,9, -999.00,9, -999.00,9,  -999.0,9,  -999.0,-999.000,9,-999.000,-999.000,9,  -9.0000,-999.0000,   8.5456,   -9.00
  316N145_7,      TRANS,     370,          1,         11,         11,2,19950330,       0411,   -27.6283,    88.1708,       2418,   808.6,   7.4527,  34.5185,2,  34.5196,2,    207.9,2,   203.9,2,   15.99,2,   24.11,2,    0.00,2,    1.65,2,-999.000,9,-999.000,9,  -999.0,9,  -999.0,9,  -9.0000,9,-999.0000,9, -999.00,9, -999.00,9,  -999.0,9,  -999.0,-999.000,9,-999.000,-999.000,9,  -9.0000,-999.0000,   7.3715,   -9.00
  316N145_7,      TRANS,     370,          1,         10,         10,2,19950330,       0411,   -27.6283,    88.1708,       2418,   909.7,   5.9603,  34.4388,2,  34.4392,2,    195.7,2,   191.9,2,   27.56,2,   28.40,2,    0.00,2,    1.95,2,-999.000,9,-999.000,9,  -999.0,9,  -999.0,9,  -9.0000,9,-999.0000,9, -999.00,9, -999.00,9,  -999.0,9,  -999.0,-999.000,9,-999.000,-999.000,9,  -9.0000,-999.0000,   5.8786,   -9.00
  316N145_7,      TRANS,     370,          1,          9,          9,2,19950330,       0411,   -27.6283,    88.1708,       2418,  1010.2,   4.8355,  34.4248,2,  34.4266,2,    181.4,2,   178.9,2,   42.30,2,   31.52,2,    0.00,2,    2.18,2,-999.000,9,-999.000,9,  -999.0,9,  -999.0,9,  -9.0000,9,-999.0000,9, -999.00,9, -999.00,9,  -999.0,9,  -999.0,-999.000,9,-999.000,-999.000,9,  -9.0000,-999.0000,   4.7527,   -9.00
  316N145_7,      TRANS,     370,          1,          8,          8,2,19950330,       0411,   -27.6283,    88.1708,       2418,  1111.9,   4.0870,  34.4553,2,  34.4557,2,    167.4,2,   166.5,2,   56.82,2,   33.51,2,    0.00,2,    2.35,2,-999.000,9,-999.000,9,  -999.0,9,  -999.0,9,  -9.0000,9,-999.0000,9, -999.00,9, -999.00,9,  -999.0,9,  -999.0,-999.000,9,-999.000,-999.000,9,  -9.0000,-999.0000,   4.0013,   -9.00
  316N145_7,      TRANS,     370,          1,          7,          7,2,19950330,       0411,   -27.6283,    88.1708,       2418,  1313.2,   3.4675,  34.5441,2,  34.5444,2,    152.9,2,   150.9,2,   74.96,2,   34.80,2,    0.00,2,    2.45,2,-999.000,9,-999.000,9,  -999.0,9,  -999.0,9,  -9.0000,9,-999.0000,9, -999.00,9, -999.00,9,  -999.0,9,  -999.0,-999.000,9,-999.000,-999.000,9,  -9.0000,-999.0000,   3.3703,   -9.00
  316N145_7,      TRANS,     370,          1,          6,          6,2,19950330,       0411,   -27.6283,    88.1708,       2418,  1516.0,   3.0707,  34.6276,2,  34.6281,2,    149.1,2,   149.2,2,   87.19,2,   34.69,2,    0.00,2,    2.45,2,-999.000,9,-999.000,9,  -999.0,9,  -999.0,9,  -9.0000,9,-999.0000,9, -999.00,9, -999.00,9,  -999.0,9,  -999.0,-999.000,9,-999.000,-999.000,9,  -9.0000,-999.0000,   2.9606,   -9.00
  316N145_7,      TRANS,     370,          1,          5,          5,2,19950330,       0411,   -27.6283,    88.1708,       2418,  1716.3,   2.7737,  34.6829,2,  34.6835,2,    151.3,2,   151.6,2,   97.12,2,   34.34,2,    0.00,2,    2.43,2,-999.000,9,-999.000,9,  -999.0,9,  -999.0,9,  -9.0000,9,-999.0000,9, -999.00,9, -999.00,9,  -999.0,9,  -999.0,-999.000,9,-999.000,-999.000,9,  -9.0000,-999.0000,   2.6501,   -9.00
  316N145_7,      TRANS,     370,          1,          4,          4,2,19950330,       0411,   -27.6283,    88.1708,       2418,  1918.4,   2.4764,  34.7074,2,  34.7087,2,    158.5,2,   158.8,2,  102.38,2,   33.84,2,    0.00,2,    2.38,2,-999.000,9,-999.000,9,  -999.0,9,  -999.0,9,  -9.0000,9,-999.0000,9, -999.00,9, -999.00,9,  -999.0,9,  -999.0,-999.000,9,-999.000,-999.000,9,  -9.0000,-999.0000,   2.3396,   -9.00
  316N145_7,      TRANS,     370,          1,          3,          3,2,19950330,       0411,   -27.6283,    88.1708,       2418,  2120.2,   2.2601,  34.7171,2,  34.7174,2,    165.9,2,   166.1,2,  104.66,2,   33.39,2,    0.00,2,    2.35,2,-999.000,9,-999.000,9,  -999.0,9,  -999.0,9,  -9.0000,9,-999.0000,9, -999.00,9, -999.00,9,  -999.0,9,  -999.0,-999.000,9,-999.000,-999.000,9,  -9.0000,-999.0000,   2.1090,   -9.00
  316N145_7,      TRANS,     370,          1,          2,          2,2,19950330,       0411,   -27.6283,    88.1708,       2418,  2273.1,   2.1162,  34.7215,2,  34.7221,2,    171.1,2,   172.2,2,  105.44,2,   32.99,2,    0.00,2,    2.31,2,-999.000,9,-999.000,9,  -999.0,9,  -999.0,9,  -9.0000,9,-999.0000,9, -999.00,9, -999.00,9,  -999.0,9,  -999.0,-999.000,9,-999.000,-999.000,9,  -9.0000,-999.0000,   1.9540,   -9.00
  316N145_7,      TRANS,     370,          1,          1,          1,2,19950330,       0411,   -27.6283,    88.1708,       2418,  2449.5,   1.9408,  34.7261,2,  34.7274,2,    179.8,2,   178.9,2,  106.01,2,   32.64,2,    0.00,2,    2.27,2,-999.000,9,-999.000,9,  -999.0,9,  -999.0,9,  -9.0000,9,-999.0000,9, -999.00,9, -999.00,9,  -999.0,9,  -999.0,-999.000,9,-999.000,-999.000,9,  -9.0000,-999.0000,   1.7659,   -9.00