BOTTLE,20211124CCHSIORKP
EXPOCODE,SECT_ID,STNNBR,CASTNO,SAMPNO,BTLNBR,BTLNBR_FLAG_W,DATE,TIME,LATITUDE,LONGITUDE,DEPTH,CTDPRS,CTDTMP,CTDSAL,CTDSAL_FLAG_W,SALNTY,SALNTY_FLAG_W,CTDOXY,CTDOXY_FLAG_W,OXYGEN,OXYGEN_FLAG_W,SILCAT,SILCAT_FLAG_W,NITRAT,NITRAT_FLAG_W,NITRIT,NITRIT_FLAG_W,PHSPHT,PHSPHT_FLAG_W,CFC-11,CFC-11_FLAG_W,CFC-12,CFC-12_FLAG_W,TCARBN,TCARBN_FLAG_W,ALKALI,ALKALI_FLAG_W,TRITUM,TRITUM_FLAG_W,HELIUM,HELIUM_FLAG_W,DELHE3,DELHE3_FLAG_W,DELC13,DELC13_FLAG_W,DELC14,DELC14_FLAG_W,C14ERR,NEON,NEON_FLAG_W,NEONER,CCL4,CCL4_FLAG_W,TRITER,HELIER,THETA,DELHER
,,,,,,,,,,,METERS,DBAR,ITS-90,PSS-78,,PSS-78,,UMOL/KG,,UMOL/KG,,UMOL/KG,,UMOL/KG,,UMOL/KG,,UMOL/KG,,PMOL/KG,,PMOL/KG,,UMOL/KG,,UMOL/KG,,TU,,NMOL/KG,,PERCNT,,/MILLE,,/MILLE,,/MILLE,NMOL/KG,,NMOL/KG,PMOL/KG,,TU,NMOL/KG,DEG C,PERCNT
  316N145_7,       I05E,     413,          1,         36,         36,2,19950408,       1142,   -32.9667,   100.0335,       5510,     3.5,  19.4333,  35.7558,2,  35.7541,2,    227.1,2,   232.3,3,    2.00,2,    0.10,2,    0.00,2,    0.15,2,-999.000,9,-999.000,9,  2056.1,2,  2364.9,2,  -9.0000,9,-999.0000,9, -999.00,9, -999.00,9,  -999.0,9,  -999.0,-999.000,9,-999.000,-999.000,9,  -9.0000,-999.0000,  19.4326,   -9.00
  316N145_7,       I05E,     413,          1,         35,         35,2,19950408,       1142,   -32.9667,   100.0335,       5510,    38.3,  19.3900,  35.8100,2,  35.8062,2,    231.0,2,   231.2,2,    2.19,2,    0.10,2,    0.00,2,    0.15,2,-999.000,9,-999.000,9,  -999.0,9,  -999.0,9,  -9.0000,9,-999.0000,9, -999.00,9, -999.00,9,  -999.0,9,  -999.0,-999.000,9,-999.000,-999.000,9,  -9.0000,-999.0000,  19.3830,   -9.00
  316N145_7,       I05E,     413,          1,         34,         34,2,19950408,       1142,   -32.9667,   100.0335,       5510,    83.3,  15.5149,  35.6384,2,  35.6175,2,    247.7,2,   246.2,2,    2.39,2,    0.48,2,    0.11,2,    0.24,2,-999.000,9,-999.000,9,  -999.0,9,  -999.0,9,  -9.0000,9,-999.0000,9, -999.00,9, -999.00,9,  -999.0,9,  -999.0,-999.000,9,-999.000,-999.000,9,  -9.0000,-999.0000,  15.5019,   -9.00
  316N145_7,       I05E,     413,          1,         33,         33,2,19950408,       1142,   -32.9667,   100.0335,       5510,   126.5,  13.7041,  35.3843,2,  35.3819,2,    238.7,2,   241.7,2,    2.38,2,    3.98,2,    0.04,2,    0.43,2,-999.000,9,-999.000,9,  -999.0,9,  -999.0,9,  -9.0000,9,-999.0000,9, -999.00,9, -999.00,9,  -999.0,9,  -999.0,-999.000,9,-999.000,-999.000,9,  -9.0000,-999.0000,  13.6861,   -9.00
  316N145_7,       I05E,     413,          1,         32,         32,2,19950408,       1142,   -32.9667,   100.0335,       5510,   177.7,  12.9448,  35.2761,2,  35.2684,2,    240.0,2,   242.9,2,    2.58,2,    5.63,2,    0.01,2,    0.53,2,-999.000,9,-999.000,9,  -999.0,9,  -999.0,9,  -9.0000,9,-999.0000,9, -999.00,9, -999.00,9,  -999.0,9,  -999.0,-999.000,9,-999.000,-999.000,9,  -9.0000,-999.0000,  12.9204,   -9.00
  316N145_7,       I05E,     413,          1,         31,         31,2,19950408,       1142,   -32.9667,   100.0335,       5510,   236.9,  11.8502,  35.0885,2,  35.0882,2,    240.6,2,   243.1,2,    3.40,2,    8.63,2,    0.01,2,    0.71,2,-999.000,9,-999.000,9,  -999.0,9,  -999.0,9,  -9.0000,9,-999.0000,9, -999.00,9, -999.00,9,  -999.0,9,  -999.0,-999.000,9,-999.000,-999.000,9,  -9.0000,-999.0000,  11.8194,   -9.00
  316N145_7,       I05E,     413,          1,         30,         30,2,19950408,       1142,   -32.9667,   100.0335,       5510,   307.7,  11.2511,  34.9979,2,  34.9951,2,    239.7,2,   244.7,2,    3.60,2,    9.76,2,    0.01,2,    0.77,2,-999.000,9,-999.000,9,  -999.0,9,  -999.0,9,  -9.0000,9,-999.0000,9, -999.00,9, -999.00,9,  -999.0,9,  -999.0,-999.000,9,-999.000,-999.000,9,  -9.0000,-999.0000,  11.2124,   -9.00
  316N145_7,       I05E,     413,          1,         29,         29,2,19950408,       1142,   -32.9667,   100.0335,       5510,   405.8,  10.2084,  34.8200,2,  34.8194,2,    246.5,2,   248.0,2,    4.22,2,   12.37,2,    0.00,2,    0.93,2,-999.000,9,-999.000,9,  -999.0,9,  -999.0,9,  -9.0000,9,-999.0000,9, -999.00,9, -999.00,9,  -999.0,9,  -999.0,-999.000,9,-999.000,-999.000,9,  -9.0000,-999.0000,  10.1603,   -9.00
  316N145_7,       I05E,     413,          1,         28,         28,2,19950408,       1142,   -32.9667,   100.0335,       5510,   507.0,   9.6182,  34.7223,2,  34.7223,2,    249.7,2,   248.2,2,    5.04,2,   14.34,2,    0.00,2,    1.05,2,-999.000,9,-999.000,9,  -999.0,9,  -999.0,9,  -9.0000,9,-999.0000,9, -999.00,9, -999.00,9,  -999.0,9,  -999.0,-999.000,9,-999.000,-999.000,9,  -9.0000,-999.0000,   9.5600,   -9.00
  316N145_7,       I05E,     413,          1,         27,         27,2,19950408,       1142,   -32.9667,   100.0335,       5510,   607.5,   9.1955,  34.6646,2,  34.6651,2,    239.2,2,   237.9,2,    6.08,2,   16.75,2,    0.00,2,    1.19,2,-999.000,9,-999.000,9,  -999.0,9,  -999.0,9,  -9.0000,9,-999.0000,9, -999.00,9, -999.00,9,  -999.0,9,  -999.0,-999.000,9,-999.000,-999.000,9,  -9.0000,-999.0000,   9.1273,   -9.00
  316N145_7,       I05E,     413,          1,         26,         26,2,19950408,       1142,   -32.9667,   100.0335,       5510,   709.4,   8.2617,  34.5672,2,  34.5667,2,    222.5,2,   217.1,2,   10.05,2,   20.98,2,    0.00,2,    1.46,2,-999.000,9,-999.000,9,  -999.0,9,  -999.0,9,  -9.0000,9,-999.0000,9, -999.00,9, -999.00,9,  -999.0,9,  -999.0,-999.000,9,-999.000,-999.000,9,  -9.0000,-999.0000,   8.1866,   -9.00
  316N145_7,       I05E,     413,          1,         25,         25,2,19950408,       1142,   -32.9667,   100.0335,       5510,   811.4,   6.9274,  34.4780,2,  34.4752,2,    202.8,2,   199.4,2,   18.21,2,   25.58,2,    0.00,2,    1.76,2,-999.000,9,-999.000,9,  -999.0,9,  -999.0,9,  -9.0000,9,-999.0000,9, -999.00,9, -999.00,9,  -999.0,9,  -999.0,-999.000,9,-999.000,-999.000,9,  -9.0000,-999.0000,   6.8491,   -9.00
  316N145_7,       I05E,     413,          1,         24,         24,2,19950408,       1142,   -32.9667,   100.0335,       5510,   911.9,   5.5659,  34.4053,2,  34.4059,2,    196.0,2,   194.6,2,   27.84,2,   28.85,2,    0.00,2,    1.99,2,-999.000,9,-999.000,9,  -999.0,9,  -999.0,9,  -9.0000,9,-999.0000,9, -999.00,9, -999.00,9,  -999.0,9,  -999.0,-999.000,9,-999.000,-999.000,9,  -9.0000,-999.0000,   5.4867,   -9.00
  316N145_7,       I05E,     413,          1,         23,         23,2,19950408,       1142,   -32.9667,   100.0335,       5510,  1064.3,   4.1456,  34.4095,2,  34.4074,2,    180.1,2,   181.0,2,   47.33,2,   32.33,2,    0.00,2,    2.26,2,-999.000,9,-999.000,9,  -999.0,9,  -999.0,9,  -9.0000,9,-999.0000,9, -999.00,9, -999.00,9,  -999.0,9,  -999.0,-999.000,9,-999.000,-999.000,9,  -9.0000,-999.0000,   4.0635,   -9.00
  316N145_7,       I05E,     413,          1,         22,         22,2,19950408,       1142,   -32.9667,   100.0335,       5510,  1212.9,   3.6310,  34.4763,2,  34.4750,2,    163.5,2,   162.8,2,   64.10,2,   34.18,2,    0.00,2,    2.40,2,-999.000,9,-999.000,9,  -999.0,9,  -999.0,9,  -9.0000,9,-999.0000,9, -999.00,9, -999.00,9,  -999.0,9,  -999.0,-999.000,9,-999.000,-999.000,9,  -9.0000,-999.0000,   3.5408,   -9.00
  316N145_7,       I05E,     413,          1,         21,         21,2,19950408,       1142,   -32.9667,   100.0335,       5510,  1413.7,   3.2170,  34.5585,2,  34.5571,2,    153.7,2,   152.6,2,   77.74,2,   34.82,2,    0.00,2,    2.46,2,-999.000,9,-999.000,9,  -999.0,9,  -999.0,9,  -9.0000,9,-999.0000,9, -999.00,9, -999.00,9,  -999.0,9,  -999.0,-999.000,9,-999.000,-999.000,9,  -9.0000,-999.0000,   3.1140,   -9.00
  316N145_7,       I05E,     413,          1,         20,         20,2,19950408,       1142,   -32.9667,   100.0335,       5510,  1617.9,   2.9033,  34.6205,2,  34.6199,2,    153.4,2,   153.8,2,   85.51,2,   34.48,2,    0.00,2,    2.43,2,-999.000,9,-999.000,9,  -999.0,9,  -999.0,9,  -9.0000,9,-999.0000,9, -999.00,9, -999.00,9,  -999.0,9,  -999.0,-999.000,9,-999.000,-999.000,9,  -9.0000,-999.0000,   2.7866,   -9.00
  316N145_7,       I05E,     413,          1,         19,         19,2,19950408,       1142,   -32.9667,   100.0335,       5510,  1820.4,   2.6312,  34.6690,2,  34.6679,2,    159.2,2,   159.9,2,   91.18,2,   33.83,2,    0.00,2,    2.38,2,-999.000,9,-999.000,9,  -999.0,9,  -999.0,9,  -9.0000,9,-999.0000,9, -999.00,9, -999.00,9,  -999.0,9,  -999.0,-999.000,9,-999.000,-999.000,9,  -9.0000,-999.0000,   2.5007,   -9.00
  316N145_7,       I05E,     413,          1,         18,         18,2,19950408,       1142,   -32.9667,   100.0335,       5510,  2022.3,   2.4350,  34.6997,2,  34.6979,2,    163.4,2,   165.5,2,   95.17,2,   33.28,2,    0.00,2,    2.34,2,-999.000,9,-999.000,9,  -999.0,9,  -999.0,9,  -9.0000,9,-999.0000,9, -999.00,9, -999.00,9,  -999.0,9,  -999.0,-999.000,9,-999.000,-999.000,9,  -9.0000,-999.0000,   2.2898,   -9.00
  316N145_7,       I05E,     413,          1,         17,         17,2,19950408,       1142,   -32.9667,   100.0335,       5510,  2225.9,   2.2592,  34.7193,2,  34.7176,2,    173.8,2,   174.4,2,   95.35,2,   32.34,2,    0.00,2,    2.27,2,-999.000,9,-999.000,9,  -999.0,9,  -999.0,9,  -9.0000,9,-999.0000,9, -999.00,9, -999.00,9,  -999.0,9,  -999.0,-999.000,9,-999.000,-999.000,9,  -9.0000,-999.0000,   2.0988,   -9.00
  316N145_7,       I05E,     413,          1,         16,         16,2,19950408,       1142,   -32.9667,   100.0335,       5510,  2428.5,   2.0701,  34.7356,2,  34.7360,2,    187.7,2,   185.8,2,   93.42,2,   31.34,2,    0.00,2,    2.18,2,-999.000,9,-999.000,9,  -999.0,9,  -999.0,9,  -9.0000,9,-999.0000,9, -999.00,9, -999.00,9,  -999.0,9,  -999.0,-999.000,9,-999.000,-999.000,9,  -9.0000,-999.0000,   1.8947,   -9.00
  316N145_7,       I05E,     413,          1,         15,         15,2,19950408,       1142,   -32.9667,   100.0335,       5510,  2631.9,   1.8926,  34.7420,2,  34.7410,2,    192.9,2,   192.2,2,   95.51,2,   30.90,2,    0.00,2,    2.15,2,-999.000,9,-999.000,9,  -999.0,9,  -999.0,9,  -9.0000,9,-999.0000,9, -999.00,9, -999.00,9,  -999.0,9,  -999.0,-999.000,9,-999.000,-999.000,9,  -9.0000,-999.0000,   1.7019,   -9.00
  316N145_7,       I05E,     413,          1,         14,         14,2,19950408,       1142,   -32.9667,   100.0335,       5510,  2835.6,   1.7045,  34.7415,2,  34.7402,2,    197.5,2,   195.8,2,   99.93,2,   31.05,2,    0.00,2,    2.16,2,-999.000,9,-999.000,9,  -999.0,9,  -999.0,9,  -9.0000,9,-999.0000,9, -999.00,9, -999.00,9,  -999.0,9,  -999.0,-999.000,9,-999.000,-999.000,9,  -9.0000,-999.0000,   1.4985,   -9.00
  316N145_7,       I05E,     413,          1,         13,         13,2,19950408,       1142,   -32.9667,   100.0335,       5510,  3039.8,   1.5475,  34.7375,2,  34.7368,2,    198.1,2,   198.3,2,  104.15,2,   31.15,2,    0.00,2,    2.17,2,-999.000,9,-999.000,9,  -999.0,9,  -999.0,9,  -9.0000,9,-999.0000,9, -999.00,9, -999.00,9,  -999.0,9,  -999.0,-999.000,9,-999.000,-999.000,9,  -9.0000,-999.0000,   1.3255,   -9.00
  316N145_7,       I05E,     413,          1,         12,         12,2,19950408,       1142,   -32.9667,   100.0335,       5510,  3241.5,   1.4019,  34.7325,2,  34.7317,2,    200.9,2,   200.8,2,  108.38,2,   31.35,2,    0.00,2,    2.18,2,-999.000,9,-999.000,9,  -999.0,9,  -999.0,9,  -9.0000,9,-999.0000,9, -999.00,9, -999.00,9,  -999.0,9,  -999.0,-999.000,9,-999.000,-999.000,9,  -9.0000,-999.0000,   1.1638,   -9.00
  316N145_7,       I05E,     413,          1,         11,         11,2,19950408,       1142,   -32.9667,   100.0335,       5510,  3446.1,   1.2731,  34.7269,2,  34.7254,2,    202.0,2,   202.2,2,  112.40,2,   31.55,2,    0.00,2,    2.19,2,-999.000,9,-999.000,9,  -999.0,9,  -999.0,9,  -9.0000,9,-999.0000,9, -999.00,9, -999.00,9,  -999.0,9,  -999.0,-999.000,9,-999.000,-999.000,9,  -9.0000,-999.0000,   1.0178,   -9.00
  316N145_7,       I05E,     413,          1,         10,         10,2,19950408,       1142,   -32.9667,   100.0335,       5510,  3647.1,   1.1927,  34.7230,2,  34.7213,2,    202.2,2,   203.7,2,  114.73,2,   31.66,2,    0.00,2,    2.20,2,-999.000,9,-999.000,9,  -999.0,9,  -999.0,9,  -9.0000,9,-999.0000,9, -999.00,9, -999.00,9,  -999.0,9,  -999.0,-999.000,9,-999.000,-999.000,9,  -9.0000,-999.0000,   0.9191,   -9.00
  316N145_7,       I05E,     413,          1,          9,          9,2,19950408,       1142,   -32.9667,   100.0335,       5510,  3850.7,   1.1279,  34.7193,2,  34.7182,2,    203.9,2,   204.8,2,  116.62,2,   31.81,2,    0.00,2,    2.21,2,-999.000,9,-999.000,9,  -999.0,9,  -999.0,9,  -9.0000,9,-999.0000,9, -999.00,9, -999.00,9,  -999.0,9,  -999.0,-999.000,9,-999.000,-999.000,9,  -9.0000,-999.0000,   0.8351,   -9.00
  316N145_7,       I05E,     413,          1,          8,          8,2,19950408,       1142,   -32.9667,   100.0335,       5510,  4053.1,   1.0460,  34.7148,2,  34.7136,2,    205.5,2,   209.8,3,  119.17,2,   31.96,2,    0.00,2,    2.21,2,-999.000,9,-999.000,9,  -999.0,9,  -999.0,9,  -9.0000,9,-999.0000,9, -999.00,9, -999.00,9,  -999.0,9,  -999.0,-999.000,9,-999.000,-999.000,9,  -9.0000,-999.0000,   0.7341,   -9.00
  316N145_7,       I05E,     413,          1,          7,          7,2,19950408,       1142,   -32.9667,   100.0335,       5510,  4259.5,   1.0149,  34.7123,2,  34.7115,2,    206.1,2,   207.1,2,  120.00,2,   32.06,2,    0.00,2,    2.22,2,-999.000,9,-999.000,9,  -999.0,9,  -999.0,9,  -9.0000,9,-999.0000,9, -999.00,9, -999.00,9,  -999.0,9,  -999.0,-999.000,9,-999.000,-999.000,9,  -9.0000,-999.0000,   0.6816,   -9.00
  316N145_7,       I05E,     413,          1,          6,          6,2,19950408,       1142,   -32.9667,   100.0335,       5510,  4466.4,   1.0010,  34.7104,2,  34.7099,2,    207.5,2,   207.5,2,  121.04,2,   32.11,2,    0.00,2,    2.23,2,-999.000,9,-999.000,9,  -999.0,9,  -999.0,9,  -9.0000,9,-999.0000,9, -999.00,9, -999.00,9,  -999.0,9,  -999.0,-999.000,9,-999.000,-999.000,9,  -9.0000,-999.0000,   0.6451,   -9.00
  316N145_7,       I05E,     413,          1,          5,          5,2,19950408,       1142,   -32.9667,   100.0335,       5510,  4673.6,   1.0065,  34.7102,2,  34.7085,2,    206.8,2,   207.5,2,  121.44,2,   31.96,3,    0.00,2,    2.23,2,-999.000,9,-999.000,9,  -999.0,9,  -999.0,9,  -9.0000,9,-999.0000,9, -999.00,9, -999.00,9,  -999.0,9,  -999.0,-999.000,9,-999.000,-999.000,9,  -9.0000,-999.0000,   0.6271,   -9.00
  316N145_7,       I05E,     413,          1,          4,          4,2,19950408,       1142,   -32.9667,   100.0335,       5510,  4877.8,   1.0184,  34.7094,2,  34.7079,2,    208.3,2,   208.0,2,  121.63,2,   32.17,2,    0.00,2,    2.23,2,  -0.028,3,   0.004,2,  -999.0,9,  -999.0,9,  -9.0000,9,-999.0000,9, -999.00,9, -999.00,9,  -999.0,9,  -999.0,-999.000,9,-999.000,   0.068,2,  -9.0000,-999.0000,   0.6148,   -9.00
  316N145_7,       I05E,     413,          1,          3,          3,2,19950408,       1142,   -32.9667,   100.0335,       5510,  5134.5,   1.0244,  34.7082,2,  34.7075,2,    207.5,2,   208.5,2,  122.24,2,   32.22,2,    0.00,2,    2.23,2,   0.070,3,   0.010,2,  -999.0,9,  -999.0,9,  -9.0000,9,-999.0000,9, -999.00,9, -999.00,9,  -999.0,9,  -999.0,-999.000,9,-999.000,   0.115,2,  -9.0000,-999.0000,   0.5901,   -9.00
  316N145_7,       I05E,     413,          1,          2,          2,2,19950408,       1142,   -32.9667,   100.0335,       5510,  5392.4,   1.0433,  34.7076,2,  34.7066,2,    208.4,2,   208.7,2,  122.21,2,   32.22,2,    0.00,2,    2.23,2,   0.063,3,   0.005,2,  -999.0,9,  -999.0,9,  -9.0000,9,-999.0000,9, -999.00,9, -999.00,9,  -999.0,9,  -999.0,-999.000,9,-999.000,   0.106,2,  -9.0000,-999.0000,   0.5767,   -9.00
  316N145_7,       I05E,     413,          1,          1,          1,2,19950408,       1142,   -32.9667,   100.0335,       5510,  5650.4,   1.0717,  34.7073,2,  34.7064,2,    208.3,2,   207.9,2,  122.18,2,   32.22,2,    0.00,2,    2.23,2,   0.086,3,   0.006,2,  -999.0,9,  -999.0,9,  -9.0000,9,-999.0000,9, -999.00,9, -999.00,9,  -999.0,9,  -999.0,-999.000,9,-999.000,   0.093,2,  -9.0000,-999.0000,   0.5717,   -9.00