BOTTLE,20211124CCHSIORKP
EXPOCODE,SECT_ID,STNNBR,CASTNO,SAMPNO,BTLNBR,BTLNBR_FLAG_W,DATE,TIME,LATITUDE,LONGITUDE,DEPTH,CTDPRS,CTDTMP,CTDSAL,CTDSAL_FLAG_W,SALNTY,SALNTY_FLAG_W,CTDOXY,CTDOXY_FLAG_W,OXYGEN,OXYGEN_FLAG_W,SILCAT,SILCAT_FLAG_W,NITRAT,NITRAT_FLAG_W,NITRIT,NITRIT_FLAG_W,PHSPHT,PHSPHT_FLAG_W,CFC-11,CFC-11_FLAG_W,CFC-12,CFC-12_FLAG_W,TCARBN,TCARBN_FLAG_W,ALKALI,ALKALI_FLAG_W,TRITUM,TRITUM_FLAG_W,HELIUM,HELIUM_FLAG_W,DELHE3,DELHE3_FLAG_W,DELC13,DELC13_FLAG_W,DELC14,DELC14_FLAG_W,C14ERR,NEON,NEON_FLAG_W,NEONER,CCL4,CCL4_FLAG_W,TRITER,HELIER,THETA,DELHER
,,,,,,,,,,,METERS,DBAR,ITS-90,PSS-78,,PSS-78,,UMOL/KG,,UMOL/KG,,UMOL/KG,,UMOL/KG,,UMOL/KG,,UMOL/KG,,PMOL/KG,,PMOL/KG,,UMOL/KG,,UMOL/KG,,TU,,NMOL/KG,,PERCNT,,/MILLE,,/MILLE,,/MILLE,NMOL/KG,,NMOL/KG,PMOL/KG,,TU,NMOL/KG,DEG C,PERCNT
  316N145_7,       I08N,     305,          1,         36,         36,2,19950315,       0920,    -0.7490,    80.0002,       4713,     2.3,  30.0418,  34.2990,2,  34.3229,3,    198.0,2,   197.8,2,    2.95,2,    0.05,2,    0.00,2,    0.10,2,-999.000,9,-999.000,9,  1900.5,2,  2255.8,2,  -9.0000,9,-999.0000,9, -999.00,9, -999.00,9,  -999.0,9,  -999.0,-999.000,9,-999.000,-999.000,9,  -9.0000,-999.0000,  30.0412,   -9.00
  316N145_7,       I08N,     305,          1,         35,         35,2,19950315,       0920,    -0.7490,    80.0002,       4713,    24.5,  29.1721,  34.3392,2,  34.3248,3,    195.5,2,   197.6,2,    2.73,2,    0.05,2,    0.00,2,    0.11,2,-999.000,9,-999.000,9,  1900.7,2,  2247.9,2,  -9.0000,9,-999.0000,9, -999.00,9, -999.00,9,  -999.0,9,  -999.0,-999.000,9,-999.000,-999.000,9,  -9.0000,-999.0000,  29.1662,   -9.00
  316N145_7,       I08N,     305,          1,         34,         34,2,19950315,       0920,    -0.7490,    80.0002,       4713,    55.8,  23.5197,  35.3710,2,  35.3595,3,    148.8,2,   150.5,2,    7.21,2,    7.84,2,    0.43,2,    0.69,2,-999.000,9,-999.000,9,  2053.0,2,  2328.5,2,  -9.0000,9,-999.0000,9, -999.00,9, -999.00,9,  -999.0,9,  -999.0,-999.000,9,-999.000,-999.000,9,  -9.0000,-999.0000,  23.5081,   -9.00
  316N145_7,       I08N,     305,          1,         33,         33,2,19950315,       0920,    -0.7490,    80.0002,       4713,    95.5,  20.4184,  35.3278,2,  35.3311,3,     99.6,2,    96.8,2,   12.11,2,   16.18,2,    0.04,2,    1.17,2,-999.000,9,-999.000,9,  2117.7,2,  2313.5,2,  -9.0000,9,-999.0000,9, -999.00,9, -999.00,9,  -999.0,9,  -999.0,-999.000,9,-999.000,-999.000,9,  -9.0000,-999.0000,  20.4005,   -9.00
  316N145_7,       I08N,     305,          1,         32,         32,2,19950315,       0920,    -0.7490,    80.0002,       4713,   135.8,  17.9213,  35.2194,2,  35.2093,3,     70.8,2,    71.9,2,   16.61,2,   20.71,2,    0.03,2,    1.48,2,-999.000,9,-999.000,9,  2151.2,2,  2312.4,2,  -9.0000,9,-999.0000,9, -999.00,9, -999.00,9,  -999.0,9,  -999.0,-999.000,9,-999.000,-999.000,9,  -9.0000,-999.0000,  17.8980,   -9.00
  316N145_7,       I08N,     305,          1,         31,         31,2,19950315,       0920,    -0.7490,    80.0002,       4713,   185.2,  14.7677,  35.1712,2,  35.1654,3,     60.3,2,    75.9,2,   19.67,2,   23.08,2,    0.01,2,    1.63,2,-999.000,9,-999.000,9,  2178.5,2,  2315.7,2,  -9.0000,9,-999.0000,9, -999.00,9, -999.00,9,  -999.0,9,  -999.0,-999.000,9,-999.000,-999.000,9,  -9.0000,-999.0000,  14.7400,   -9.00
  316N145_7,       I08N,     305,          1,         30,         30,2,19950315,       0920,    -0.7490,    80.0002,       4713,   246.4,  12.4839,  35.0826,2,  35.0809,3,     83.4,2,   102.0,2,   20.48,2,   23.13,2,    0.00,2,    1.61,2,-999.000,9,-999.000,9,  2181.5,2,  2323.9,2,  -9.0000,9,-999.0000,9, -999.00,9, -999.00,9,  -999.0,9,  -999.0,-999.000,9,-999.000,-999.000,9,  -9.0000,-999.0000,  12.4508,   -9.00
  316N145_7,       I08N,     305,          1,         29,         29,2,19950315,       0920,    -0.7490,    80.0002,       4713,   306.1,  11.4148,  35.0369,2,  35.0345,3,     87.4,2,    88.3,2,   24.77,2,   26.33,2,    0.00,2,    1.82,2,-999.000,9,-999.000,9,  2200.1,2,  2315.1,2,  -9.0000,9,-999.0000,9, -999.00,9, -999.00,9,  -999.0,9,  -999.0,-999.000,9,-999.000,-999.000,9,  -9.0000,-999.0000,  11.3759,   -9.00
  316N145_7,       I08N,     305,          1,         28,         28,2,19950315,       0920,    -0.7490,    80.0002,       4713,   366.4,  11.0109,  35.0272,2,  35.0244,3,     76.7,2,    78.4,2,   27.82,2,   28.14,2,    0.01,2,    1.95,2,-999.000,9,-999.000,9,  2211.1,2,  2318.3,2,  -9.0000,9,-999.0000,9, -999.00,9, -999.00,9,  -999.0,9,  -999.0,-999.000,9,-999.000,-999.000,9,  -9.0000,-999.0000,  10.9653,   -9.00
  316N145_7,       I08N,     305,          1,         27,         27,2,19950315,       0920,    -0.7490,    80.0002,       4713,   436.4,  10.2840,  35.0070,2,  35.0036,3,     70.5,2,    73.7,2,   33.75,2,   29.86,2,    0.00,2,    2.11,2,-999.000,9,-999.000,9,  2227.8,2,  2319.3,2,  -9.0000,9,-999.0000,9, -999.00,9, -999.00,9,  -999.0,9,  -999.0,-999.000,9,-999.000,-999.000,9,  -9.0000,-999.0000,  10.2318,   -9.00
  316N145_7,       I08N,     305,          1,         26,         26,2,19950315,       0920,    -0.7490,    80.0002,       4713,   518.0,   9.5604,  35.0145,2,  35.0127,3,     59.5,2,    55.6,2,   44.61,2,   32.67,2,    0.00,2,    2.38,2,-999.000,9,-999.000,9,  2250.0,2,  2330.0,2,  -9.0000,9,-999.0000,9, -999.00,9, -999.00,9,  -999.0,9,  -999.0,-999.000,9,-999.000,-999.000,9,  -9.0000,-999.0000,   9.5009,   -9.00
  316N145_7,       I08N,     305,          1,         25,         25,2,19950315,       0920,    -0.7490,    80.0002,       4713,   607.9,   9.0002,  35.0027,2,  35.0008,3,     49.4,2,    50.4,2,   51.97,2,   34.02,2,    0.01,2,    2.51,2,-999.000,9,-999.000,9,  2261.1,2,  2337.6,2,  -9.0000,9,-999.0000,9, -999.00,9, -999.00,9,  -999.0,9,  -999.0,-999.000,9,-999.000,-999.000,9,  -9.0000,-999.0000,   8.9326,   -9.00
  316N145_7,       I08N,     305,          1,         24,         24,2,19950315,       0920,    -0.7490,    80.0002,       4713,   707.9,   8.2826,  34.9944,2,  34.9924,3,     44.5,2,    43.4,2,   63.45,2,   35.67,2,    0.01,2,    2.66,2,-999.000,9,-999.000,9,  2278.3,2,  2350.6,2,  -9.0000,9,-999.0000,9, -999.00,9, -999.00,9,  -999.0,9,  -999.0,-999.000,9,-999.000,-999.000,9,  -9.0000,-999.0000,   8.2071,   -9.00
  316N145_7,       I08N,     305,          1,         23,         23,2,19950315,       0920,    -0.7490,    80.0002,       4713,   808.0,   8.0020,  34.9910,2,  34.9912,3,     45.8,2,    45.4,2,   67.13,2,   35.86,2,    0.00,2,    2.69,2,-999.000,9,-999.000,9,  2282.3,2,  2352.3,2,  -9.0000,9,-999.0000,9, -999.00,9, -999.00,9,  -999.0,9,  -999.0,-999.000,9,-999.000,-999.000,9,  -9.0000,-999.0000,   7.9171,   -9.00
  316N145_7,       I08N,     305,          1,         22,         22,2,19950315,       0920,    -0.7490,    80.0002,       4713,   909.8,   7.0790,  34.9351,2,  34.9338,3,     51.3,2,    52.9,2,   78.02,2,   36.57,2,    0.00,2,    2.74,2,-999.000,9,-999.000,9,  2293.9,2,  2360.0,2,  -9.0000,9,-999.0000,9, -999.00,9, -999.00,9,  -999.0,9,  -999.0,-999.000,9,-999.000,-999.000,9,  -9.0000,-999.0000,   6.9890,   -9.00
  316N145_7,       I08N,     305,          1,         21,         21,2,19950315,       0920,    -0.7490,    80.0002,       4713,  1010.7,   6.6727,  34.9129,2,  34.9086,3,     53.0,2,    56.4,2,   83.15,2,   36.76,2,    0.00,2,    2.75,2,-999.000,9,-999.000,9,  2302.4,2,  2368.3,2,  -9.0000,9,-999.0000,9, -999.00,9, -999.00,9,  -999.0,9,  -999.0,-999.000,9,-999.000,-999.000,9,  -9.0000,-999.0000,   6.5751,   -9.00
  316N145_7,       I08N,     305,          1,         20,         20,2,19950315,       0920,    -0.7490,    80.0002,       4713,  1161.1,   5.7606,  34.8847,2,  34.8858,3,     67.1,2,    65.4,2,   92.85,2,   37.04,2,    0.00,2,    2.76,2,-999.000,9,-999.000,9,  2306.9,2,  2376.0,2,  -9.0000,9,-999.0000,9, -999.00,9, -999.00,9,  -999.0,9,  -999.0,-999.000,9,-999.000,-999.000,9,  -9.0000,-999.0000,   5.6552,   -9.00
  316N145_7,       I08N,     305,          1,         19,         19,2,19950315,       0920,    -0.7490,    80.0002,       4713,  1313.5,   5.3127,  34.8768,2,  34.8746,3,     70.3,2,    70.9,2,   98.63,2,   37.18,2,    0.00,2,    2.78,2,-999.000,9,-999.000,9,  2311.1,2,  2379.8,2,  -9.0000,9,-999.0000,9, -999.00,9, -999.00,9,  -999.0,9,  -999.0,-999.000,9,-999.000,-999.000,9,  -9.0000,-999.0000,   5.1965,   -9.00
  316N145_7,       I08N,     305,          1,         18,         18,2,19950315,       0920,    -0.7490,    80.0002,       4713,  1463.5,   4.4821,  34.8409,2,  34.8396,3,     87.5,2,    87.2,2,  105.68,2,   36.81,2,    0.00,2,    2.74,2,-999.000,9,-999.000,9,  2311.7,2,  2389.4,2,  -9.0000,9,-999.0000,9, -999.00,9, -999.00,9,  -999.0,9,  -999.0,-999.000,9,-999.000,-999.000,9,  -9.0000,-999.0000,   4.3602,   -9.00
  316N145_7,       I08N,     305,          1,         17,         17,2,19950315,       0920,    -0.7490,    80.0002,       4713,  1615.0,   3.8720,  34.8170,2,  34.8164,3,    100.4,2,   100.2,2,  111.72,2,   36.43,2,    0.00,2,    2.68,2,-999.000,9,-999.000,9,  -999.0,5,  2394.9,2,  -9.0000,9,-999.0000,9, -999.00,9, -999.00,9,  -999.0,9,  -999.0,-999.000,9,-999.000,-999.000,9,  -9.0000,-999.0000,   3.7432,   -9.00
  316N145_7,       I08N,     305,          1,         16,         16,2,19950315,       0920,    -0.7490,    80.0002,       4713,  1817.8,   3.2342,  34.7938,2,  34.7910,3,    116.1,2,   115.9,2,  117.57,2,   35.92,2,    0.00,2,    2.63,2,-999.000,9,-999.000,9,  2316.0,2,  2397.6,2,  -9.0000,9,-999.0000,9, -999.00,9, -999.00,9,  -999.0,9,  -999.0,-999.000,9,-999.000,-999.000,9,  -9.0000,-999.0000,   3.0952,   -9.00
  316N145_7,       I08N,     305,          1,         15,         15,2,19950315,       0920,    -0.7490,    80.0002,       4713,  2020.9,   2.8725,  34.7808,2,  34.8168,4,    122.8,2,   123.9,2,  121.97,2,   35.68,2,    0.00,2,    2.59,2,-999.000,9,-999.000,9,  2314.8,2,  2401.9,2,  -9.0000,9,-999.0000,9, -999.00,9, -999.00,9,  -999.0,9,  -999.0,-999.000,9,-999.000,-999.000,9,  -9.0000,-999.0000,   2.7205,   -9.00
  316N145_7,       I08N,     305,          1,         14,         14,2,19950315,       0920,    -0.7490,    80.0002,       4713,  2222.5,   2.4596,  34.7641,2,  34.7625,3,    134.3,2,   135.0,2,  126.60,2,   35.31,2,    0.00,2,    2.55,2,-999.000,9,-999.000,9,  2313.0,2,  2402.0,2,  -9.0000,9,-999.0000,9, -999.00,9, -999.00,9,  -999.0,9,  -999.0,-999.000,9,-999.000,-999.000,9,  -9.0000,-999.0000,   2.2960,   -9.00
  316N145_7,       I08N,     305,          1,         13,         13,2,19950315,       0920,    -0.7490,    80.0002,       4713,  2427.4,   2.1929,  34.7521,2,  34.7493,3,    143.8,2,   143.4,2,  128.91,2,   34.98,2,    0.00,2,    2.51,2,-999.000,9,-999.000,9,  2312.5,2,  -999.0,5,  -9.0000,9,-999.0000,9, -999.00,9, -999.00,9,  -999.0,9,  -999.0,-999.000,9,-999.000,-999.000,9,  -9.0000,-999.0000,   2.0153,   -9.00
  316N145_7,       I08N,     305,          1,         12,         12,2,19950315,       0920,    -0.7490,    80.0002,       4713,  2627.8,   2.0071,  34.7435,2,  34.7425,3,    150.2,2,   149.8,2,  130.37,2,   34.75,2,    0.00,2,    2.47,2,-999.000,9,-999.000,9,  2310.8,2,  2424.8,3,  -9.0000,9,-999.0000,9, -999.00,9, -999.00,9,  -999.0,9,  -999.0,-999.000,9,-999.000,-999.000,9,  -9.0000,-999.0000,   1.8146,   -9.00
  316N145_7,       I08N,     305,          1,         11,         11,2,19950315,       0920,    -0.7490,    80.0002,       4713,  2831.9,   1.8289,  34.7361,2,  34.7344,3,    156.7,2,   156.1,2,  131.63,2,   34.47,2,    0.00,2,    2.45,2,-999.000,9,-999.000,9,  2309.0,2,  2409.9,2,  -9.0000,9,-999.0000,9, -999.00,9, -999.00,9,  -999.0,9,  -999.0,-999.000,9,-999.000,-999.000,9,  -9.0000,-999.0000,   1.6208,   -9.00
  316N145_7,       I08N,     305,          1,         10,         10,2,19950315,       0920,    -0.7490,    80.0002,       4713,  3036.5,   1.7169,  34.7321,2,  34.7301,3,    159.2,2,   158.8,2,  134.16,2,   34.42,2,    0.00,2,    2.43,2,-999.000,9,-999.000,9,  2311.7,2,  2416.1,2,  -9.0000,9,-999.0000,9, -999.00,9, -999.00,9,  -999.0,9,  -999.0,-999.000,9,-999.000,-999.000,9,  -9.0000,-999.0000,   1.4915,   -9.00
  316N145_7,       I08N,     305,          1,          9,          9,2,19950315,       0920,    -0.7490,    80.0002,       4713,  3240.3,   1.6263,  34.7282,2,  34.7252,3,    161.1,2,   161.2,2,  135.85,2,   34.42,2,    0.00,2,    2.42,2,-999.000,9,-999.000,9,  2311.6,2,  2416.8,2,  -9.0000,9,-999.0000,9, -999.00,9, -999.00,9,  -999.0,9,  -999.0,-999.000,9,-999.000,-999.000,9,  -9.0000,-999.0000,   1.3830,   -9.00
  316N145_7,       I08N,     305,          1,          8,          8,2,19950315,       0920,    -0.7490,    80.0002,       4713,  3444.7,   1.5105,  34.7245,2,  34.7222,3,    163.6,2,   164.2,2,  138.18,2,   34.42,2,    0.00,2,    2.41,2,-999.000,9,-999.000,9,  2312.6,2,  2421.2,2,  -9.0000,9,-999.0000,9, -999.00,9, -999.00,9,  -999.0,9,  -999.0,-999.000,9,-999.000,-999.000,9,  -9.0000,-999.0000,   1.2495,   -9.00
  316N145_7,       I08N,     305,          1,          7,          7,2,19950315,       0920,    -0.7490,    80.0002,       4713,  3648.7,   1.4747,  34.7228,2,  34.7205,3,    164.8,2,   165.6,2,  139.01,2,   34.28,2,    0.00,2,    2.41,2,-999.000,9,-999.000,9,  2314.0,2,  2422.4,2,  -9.0000,9,-999.0000,9, -999.00,9, -999.00,9,  -999.0,9,  -999.0,-999.000,9,-999.000,-999.000,9,  -9.0000,-999.0000,   1.1937,   -9.00
  316N145_7,       I08N,     305,          1,          6,          6,2,19950315,       0920,    -0.7490,    80.0002,       4713,  3852.4,   1.3828,  34.7195,2,  34.7181,3,    172.0,2,   172.4,2,  138.12,2,   34.05,2,    0.00,2,    2.38,2,-999.000,9,-999.000,9,  2309.5,2,  2418.7,2,  -9.0000,9,-999.0000,9, -999.00,9, -999.00,9,  -999.0,9,  -999.0,-999.000,9,-999.000,-999.000,9,  -9.0000,-999.0000,   1.0828,   -9.00
  316N145_7,       I08N,     305,          1,          5,          5,2,19950315,       0920,    -0.7490,    80.0002,       4713,  4057.3,   1.3888,  34.7193,2,  34.7166,3,    173.6,2,   173.7,2,  137.67,2,   34.00,2,    0.00,2,    2.38,2,-999.000,9,-999.000,9,  2307.9,2,  2419.6,2,  -9.0000,9,-999.0000,9, -999.00,9, -999.00,9,  -999.0,9,  -999.0,-999.000,9,-999.000,-999.000,9,  -9.0000,-999.0000,   1.0665,   -9.00
  316N145_7,       I08N,     305,          1,          4,          4,2,19950315,       0920,    -0.7490,    80.0002,       4713,  4261.8,   1.3903,  34.7192,2,  34.7162,3,    175.2,2,   175.6,2,  136.56,2,   33.82,2,    0.00,2,    2.35,2,-999.000,9,-999.000,9,  2304.9,2,  2418.5,2,  -9.0000,9,-999.0000,9, -999.00,9, -999.00,9,  -999.0,9,  -999.0,-999.000,9,-999.000,-999.000,9,  -9.0000,-999.0000,   1.0454,   -9.00
  316N145_7,       I08N,     305,          1,          3,          3,2,19950315,       0920,    -0.7490,    80.0002,       4713,  4467.3,   1.4006,  34.7186,2,  34.7166,3,    176.3,2,   177.0,2,  136.32,2,   33.82,2,    0.00,2,    2.35,2,-999.000,9,-999.000,9,  2305.7,2,  2416.0,2,  -9.0000,9,-999.0000,9, -999.00,9, -999.00,9,  -999.0,9,  -999.0,-999.000,9,-999.000,-999.000,9,  -9.0000,-999.0000,   1.0323,   -9.00
  316N145_7,       I08N,     305,          1,          2,          2,2,19950315,       0920,    -0.7490,    80.0002,       4713,  4619.8,   1.4102,  34.7182,2,  34.7164,3,    177.3,2,   177.6,2,  135.86,2,   33.72,2,    0.00,2,    2.34,2,-999.000,9,-999.000,9,  2241.1,4,  2423.1,2,  -9.0000,9,-999.0000,9, -999.00,9, -999.00,9,  -999.0,9,  -999.0,-999.000,9,-999.000,-999.000,9,  -9.0000,-999.0000,   1.0240,   -9.00
  316N145_7,       I08N,     305,          1,          1,          1,2,19950315,       0920,    -0.7490,    80.0002,       4713,  4800.5,   1.4236,  34.7175,2,  34.7164,3,    178.6,2,   178.1,2,  135.62,2,   33.68,2,    0.00,2,    2.34,2,-999.000,9,-999.000,9,  2303.1,2,  2424.9,2,  -9.0000,9,-999.0000,9, -999.00,9, -999.00,9,  -999.0,9,  -999.0,-999.000,9,-999.000,-999.000,9,  -9.0000,-999.0000,   1.0157,   -9.00