BOTTLE,20211124CCHSIORKP
EXPOCODE,SECT_ID,STNNBR,CASTNO,SAMPNO,BTLNBR,BTLNBR_FLAG_W,DATE,TIME,LATITUDE,LONGITUDE,DEPTH,CTDPRS,CTDTMP,CTDSAL,CTDSAL_FLAG_W,SALNTY,SALNTY_FLAG_W,CTDOXY,CTDOXY_FLAG_W,OXYGEN,OXYGEN_FLAG_W,SILCAT,SILCAT_FLAG_W,NITRAT,NITRAT_FLAG_W,NITRIT,NITRIT_FLAG_W,PHSPHT,PHSPHT_FLAG_W,CFC-11,CFC-11_FLAG_W,CFC-12,CFC-12_FLAG_W,TCARBN,TCARBN_FLAG_W,ALKALI,ALKALI_FLAG_W,TRITUM,TRITUM_FLAG_W,HELIUM,HELIUM_FLAG_W,DELHE3,DELHE3_FLAG_W,DELC13,DELC13_FLAG_W,DELC14,DELC14_FLAG_W,C14ERR,NEON,NEON_FLAG_W,NEONER,CCL4,CCL4_FLAG_W,TRITER,HELIER,THETA,DELHER
,,,,,,,,,,,METERS,DBAR,ITS-90,PSS-78,,PSS-78,,UMOL/KG,,UMOL/KG,,UMOL/KG,,UMOL/KG,,UMOL/KG,,UMOL/KG,,PMOL/KG,,PMOL/KG,,UMOL/KG,,UMOL/KG,,TU,,NMOL/KG,,PERCNT,,/MILLE,,/MILLE,,/MILLE,NMOL/KG,,NMOL/KG,PMOL/KG,,TU,NMOL/KG,DEG C,PERCNT
  316N145_7,       I05E,     410,          1,         36,         36,2,19950407,       1632,   -34.0002,    98.2168,       4406,     4.4,  20.2300,  35.8102,2,  35.8090,2,    226.4,2,   227.4,2,    2.24,2,    0.10,2,    0.00,2,    0.16,2,   2.315,2,   1.300,2,  2055.3,2,  2353.7,2,  -9.0000,9,-999.0000,9, -999.00,9, -999.00,9,  -999.0,9,  -999.0,-999.000,9,-999.000,-999.000,9,  -9.0000,-999.0000,  20.2292,   -9.00
  316N145_7,       I05E,     410,          1,         35,         35,2,19950407,       1632,   -34.0002,    98.2168,       4406,    35.4,  20.2457,  35.8180,2,  35.8177,2,    227.6,2,   227.9,2,    2.23,2,    0.15,2,    0.00,2,    0.16,2,-999.000,9,-999.000,9,  2058.3,2,  2350.7,2,  -9.0000,9,-999.0000,9, -999.00,9, -999.00,9,  -999.0,9,  -999.0,-999.000,9,-999.000,-999.000,9,  -9.0000,-999.0000,  20.2391,   -9.00
  316N145_7,       I05E,     410,          1,         34,         34,2,19950407,       1632,   -34.0002,    98.2168,       4406,    65.3,  16.0364,  35.3195,2,  35.2865,2,    260.4,2,   267.9,2,    2.23,2,    1.39,2,    0.03,2,    0.31,2,   2.975,2,   1.641,2,  2059.5,2,  2323.1,2,  -9.0000,9,-999.0000,9, -999.00,9, -999.00,9,  -999.0,9,  -999.0,-999.000,9,-999.000,-999.000,9,  -9.0000,-999.0000,  16.0261,   -9.00
  316N145_7,       I05E,     410,          1,         33,         33,2,19950407,       1632,   -34.0002,    98.2168,       4406,   100.8,  14.3167,  35.4631,2,  35.4525,2,    246.0,2,   242.4,2,    2.64,2,    2.65,2,    0.49,2,    0.40,2,   3.000,2,   1.643,2,  2082.7,2,  2341.7,2,  -9.0000,9,-999.0000,9, -999.00,9, -999.00,9,  -999.0,9,  -999.0,-999.000,9,-999.000,-999.000,9,  -9.0000,-999.0000,  14.3019,   -9.00
  316N145_7,       I05E,     410,          1,         32,         32,2,19950407,       1632,   -34.0002,    98.2168,       4406,   140.6,  13.4007,  35.3383,2,  35.3360,2,    236.3,2,   239.2,2,    2.84,2,    5.29,2,    0.01,2,    0.52,2,   3.080,2,   1.670,2,  2090.6,2,  2323.2,2,  -9.0000,9,-999.0000,9, -999.00,9, -999.00,9,  -999.0,9,  -999.0,-999.000,9,-999.000,-999.000,9,  -9.0000,-999.0000,  13.3809,   -9.00
  316N145_7,       I05E,     410,          1,         31,         31,2,19950407,       1632,   -34.0002,    98.2168,       4406,   170.3,  13.0270,  35.2779,2,  35.2633,2,    237.1,2,   240.3,2,    2.83,2,    6.22,2,    0.01,2,    0.58,2,   3.157,2,   1.707,2,  2088.9,2,  2321.2,2,  -9.0000,9,-999.0000,9, -999.00,9, -999.00,9,  -999.0,9,  -999.0,-999.000,9,-999.000,-999.000,9,  -9.0000,-999.0000,  13.0035,   -9.00
  316N145_7,       I05E,     410,          1,         30,         30,2,19950407,       1632,   -34.0002,    98.2168,       4406,   210.8,  12.2843,  35.1668,2,  35.1648,2,    238.2,2,   243.3,2,    3.03,2,    7.36,2,    0.01,2,    0.64,2,   3.173,2,   1.706,2,  2095.9,2,  2314.7,2,  -9.0000,9,-999.0000,9, -999.00,9, -999.00,9,  -999.0,9,  -999.0,-999.000,9,-999.000,-999.000,9,  -9.0000,-999.0000,  12.2563,   -9.00
  316N145_7,       I05E,     410,          1,         29,         29,2,19950407,       1632,   -34.0002,    98.2168,       4406,   261.4,  11.7106,  35.0730,2,  35.0714,2,    240.2,2,   245.8,2,    3.23,2,    8.44,2,    0.00,2,    0.71,2,   3.251,2,   1.730,2,  2100.8,2,  2314.2,2,  -9.0000,9,-999.0000,9, -999.00,9, -999.00,9,  -999.0,9,  -999.0,-999.000,9,-999.000,-999.000,9,  -9.0000,-999.0000,  11.6769,   -9.00
  316N145_7,       I05E,     410,          1,         28,         28,2,19950407,       1632,   -34.0002,    98.2168,       4406,   311.2,  11.1565,  34.9773,2,  34.9738,2,    244.4,2,   246.9,2,    4.07,2,   10.41,2,    0.00,2,    0.82,2,   3.285,2,   1.741,2,  2104.5,2,  2304.2,2,  -9.0000,9,-999.0000,9, -999.00,9, -999.00,9,  -999.0,9,  -999.0,-999.000,9,-999.000,-999.000,9,  -9.0000,-999.0000,  11.1176,   -9.00
  316N145_7,       I05E,     410,          1,         27,         27,2,19950407,       1632,   -34.0002,    98.2168,       4406,   361.1,  10.8158,  34.9240,2,  34.9215,2,    245.9,2,   246.7,2,    4.06,2,   11.19,2,    0.00,2,    0.87,2,   3.294,2,   1.743,2,  2107.5,2,  2310.5,2,  -9.0000,9,-999.0000,9, -999.00,9, -999.00,9,  -999.0,9,  -999.0,-999.000,9,-999.000,-999.000,9,  -9.0000,-999.0000,  10.7714,   -9.00
  316N145_7,       I05E,     410,          1,         26,         26,2,19950407,       1632,   -34.0002,    98.2168,       4406,   454.7,  10.2078,  34.8222,2,  34.8243,2,    249.2,2,   248.5,2,    4.47,2,   12.67,2,    0.00,2,    0.96,2,   3.332,2,   1.728,2,  2105.8,2,  2297.1,2,  -9.0000,9,-999.0000,9, -999.00,9, -999.00,9,  -999.0,9,  -999.0,-999.000,9,-999.000,-999.000,9,  -9.0000,-999.0000,  10.1537,   -9.00
  316N145_7,       I05E,     410,          1,         25,         25,2,19950407,       1632,   -34.0002,    98.2168,       4406,   561.1,   9.5272,  34.7160,2,  34.7164,2,    241.2,2,   240.9,2,    5.51,2,   15.42,2,    0.00,2,    1.13,2,   3.089,2,   1.574,2,  2114.8,2,  2295.0,2,  -9.0000,9,-999.0000,9, -999.00,9, -999.00,9,  -999.0,9,  -999.0,-999.000,9,-999.000,-999.000,9,  -9.0000,-999.0000,   9.4630,   -9.00
  316N145_7,       I05E,     410,          1,         24,         24,2,19950407,       1632,   -34.0002,    98.2168,       4406,   662.2,   8.9788,  34.6404,2,  34.6392,2,    234.7,2,   231.2,2,    6.97,2,   18.09,2,    0.00,2,    1.29,2,   2.651,6,   1.333,6,  2123.8,2,  2289.7,2,  -9.0000,9,-999.0000,9, -999.00,9, -999.00,9,  -999.0,9,  -999.0,-999.000,9,-999.000,-999.000,9,  -9.0000,-999.0000,   8.9054,   -9.00
  316N145_7,       I05E,     410,          1,         23,         23,2,19950407,       1632,   -34.0002,    98.2168,       4406,   763.5,   7.9541,  34.5390,2,  34.5376,2,    214.0,2,   212.4,2,   11.79,2,   22.23,2,    0.00,2,    1.55,2,   1.780,2,   0.862,2,  2143.3,2,  2284.2,2,  -9.0000,9,-999.0000,9, -999.00,9, -999.00,9,  -999.0,9,  -999.0,-999.000,9,-999.000,-999.000,9,  -9.0000,-999.0000,   7.8749,   -9.00
  316N145_7,       I05E,     410,          1,         22,         22,2,19950407,       1632,   -34.0002,    98.2168,       4406,   863.6,   6.6727,  34.4598,2,  34.4587,2,    201.2,2,   199.4,2,   19.76,2,   26.19,2,    0.00,2,    1.81,2,   1.066,2,   0.523,2,  2165.1,2,  2291.8,2,  -9.0000,9,-999.0000,9, -999.00,9, -999.00,9,  -999.0,9,  -999.0,-999.000,9,-999.000,-999.000,9,  -9.0000,-999.0000,   6.5908,   -9.00
  316N145_7,       I05E,     410,          1,         21,         21,2,19950407,       1632,   -34.0002,    98.2168,       4406,   962.9,   5.2227,  34.3771,2,  34.3774,2,    205.0,2,   203.0,2,   27.93,2,   29.07,2,    0.00,2,    2.02,2,   1.007,2,   0.480,2,  2181.2,2,  2292.8,2,  -9.0000,9,-999.0000,9, -999.00,9, -999.00,9,  -999.0,9,  -999.0,-999.000,9,-999.000,-999.000,9,  -9.0000,-999.0000,   5.1413,   -9.00
  316N145_7,       I05E,     410,          1,         20,         20,2,19950407,       1632,   -34.0002,    98.2168,       4406,  1065.5,   4.3748,  34.3817,2,  34.3817,2,    193.6,2,   191.3,2,   40.10,2,   31.40,2,    0.00,2,    2.20,2,   0.496,6,   0.242,6,  2202.6,2,  2305.6,2,  -9.0000,9,-999.0000,9, -999.00,9, -999.00,9,  -999.0,9,  -999.0,-999.000,9,-999.000,-999.000,9,  -9.0000,-999.0000,   4.2908,   -9.00
  316N145_7,       I05E,     410,          1,         19,         19,2,19950407,       1632,   -34.0002,    98.2168,       4406,  1216.2,   3.7383,  34.4569,2,  34.4549,2,    171.4,2,   167.6,2,   59.61,2,   33.80,2,    0.00,2,    2.39,2,-999.000,9,-999.000,9,  2237.1,2,  2336.0,2,  -9.0000,9,-999.0000,9, -999.00,9, -999.00,9,  -999.0,9,  -999.0,-999.000,9,-999.000,-999.000,9,  -9.0000,-999.0000,   3.6468,   -9.00
  316N145_7,       I05E,     410,          1,         18,         18,2,19950407,       1632,   -34.0002,    98.2168,       4406,  1368.4,   3.3918,  34.5245,2,  34.5250,2,    157.4,2,   155.4,2,   72.63,2,   34.60,2,    0.00,2,    2.46,2,   0.041,2,   0.022,2,  2256.0,2,  2338.1,2,  -9.0000,9,-999.0000,9, -999.00,9, -999.00,9,  -999.0,9,  -999.0,-999.000,9,-999.000,-999.000,9,  -9.0000,-999.0000,   3.2908,   -9.00
  316N145_7,       I05E,     410,          1,         17,         17,2,19950407,       1632,   -34.0002,    98.2168,       4406,  1520.8,   3.0562,  34.5769,2,  34.5761,2,    155.3,2,   155.5,2,   79.14,2,   34.55,2,    0.00,2,    2.46,2,-999.000,9,-999.000,9,  2261.0,2,  2354.6,3,  -9.0000,9,-999.0000,9, -999.00,9, -999.00,9,  -999.0,9,  -999.0,-999.000,9,-999.000,-999.000,9,  -9.0000,-999.0000,   2.9460,   -9.00
  316N145_7,       I05E,     410,          1,         16,         16,2,19950407,       1632,   -34.0002,    98.2168,       4406,  1672.6,   2.8408,  34.6168,2,  34.6162,2,    158.0,2,   158.5,2,   82.92,2,   34.20,2,    0.00,2,    2.42,2,   0.015,2,   0.010,2,  2263.7,2,  2349.7,2,  -9.0000,9,-999.0000,9, -999.00,9, -999.00,9,  -999.0,9,  -999.0,-999.000,9,-999.000,-999.000,9,  -9.0000,-999.0000,   2.7203,   -9.00
  316N145_7,       I05E,     410,          1,         15,         15,2,19950407,       1632,   -34.0002,    98.2168,       4406,  1823.3,   2.6544,  34.6564,2,  34.6572,2,    162.5,2,   162.9,2,   86.48,2,   33.55,2,    0.00,2,    2.37,2,-999.000,9,-999.000,9,  2263.7,2,  2350.9,2,  -9.0000,9,-999.0000,9, -999.00,9, -999.00,9,  -999.0,9,  -999.0,-999.000,9,-999.000,-999.000,9,  -9.0000,-999.0000,   2.5234,   -9.00
  316N145_7,       I05E,     410,          1,         14,         14,2,19950407,       1632,   -34.0002,    98.2168,       4406,  1974.5,   2.4958,  34.6857,2,  34.6861,2,    168.4,2,   169.8,2,   87.52,2,   32.91,2,    0.00,2,    2.31,2,   0.005,2,   0.003,2,  2258.0,2,  2359.1,2,  -9.0000,9,-999.0000,9, -999.00,9, -999.00,9,  -999.0,9,  -999.0,-999.000,9,-999.000,-999.000,9,  -9.0000,-999.0000,   2.3539,   -9.00
  316N145_7,       I05E,     410,          1,         13,         13,2,19950407,       1632,   -34.0002,    98.2168,       4406,  2126.2,   2.3370,  34.7121,2,  34.7123,2,    176.3,2,   177.1,2,   88.55,2,   32.11,2,    0.00,2,    2.25,2,-999.000,9,-999.000,9,  2257.9,2,  2353.1,2,  -9.0000,9,-999.0000,9, -999.00,9, -999.00,9,  -999.0,9,  -999.0,-999.000,9,-999.000,-999.000,9,  -9.0000,-999.0000,   2.1842,   -9.00
  316N145_7,       I05E,     410,          1,         12,         12,2,19950407,       1632,   -34.0002,    98.2168,       4406,  2331.0,   2.1786,  34.7309,2,  34.7305,2,    183.7,2,   184.1,2,   90.01,2,   31.47,2,    0.00,2,    2.19,2,   0.001,2,   0.003,2,  2254.2,2,  2351.5,2,  -9.0000,9,-999.0000,9, -999.00,9, -999.00,9,  -999.0,9,  -999.0,-999.000,9,-999.000,-999.000,9,  -9.0000,-999.0000,   2.0101,   -9.00
  316N145_7,       I05E,     410,          1,         11,         11,2,19950407,       1632,   -34.0002,    98.2168,       4406,  2533.8,   1.9857,  34.7422,2,  34.7417,2,    190.5,2,   190.9,2,   92.53,2,   30.97,2,    0.00,2,    2.16,2,-999.000,9,-999.000,9,  2252.2,2,  2346.1,2,  -9.0000,9,-999.0000,9, -999.00,9, -999.00,9,  -999.0,9,  -999.0,-999.000,9,-999.000,-999.000,9,  -9.0000,-999.0000,   1.8022,   -9.00
  316N145_7,       I05E,     410,          1,         10,         10,2,19950407,       1632,   -34.0002,    98.2168,       4406,  2736.0,   1.7602,  34.7437,2,  34.7435,2,    195.6,2,   195.9,2,   97.59,2,   30.93,2,    0.00,2,    2.15,2,   0.001,2,   0.001,2,  2252.7,2,  2327.8,4,  -9.0000,9,-999.0000,9, -999.00,9, -999.00,9,  -999.0,9,  -999.0,-999.000,9,-999.000,-999.000,9,  -9.0000,-999.0000,   1.5624,   -9.00
  316N145_7,       I05E,     410,          1,          9,          9,2,19950407,       1632,   -34.0002,    98.2168,       4406,  2938.5,   1.5485,  34.7381,2,  34.7388,2,    198.6,2,   198.9,2,  103.51,2,   31.18,2,    0.00,2,    2.16,2,-999.000,9,-999.000,9,  2255.7,2,  2362.4,2,  -9.0000,9,-999.0000,9, -999.00,9, -999.00,9,  -999.0,9,  -999.0,-999.000,9,-999.000,-999.000,9,  -9.0000,-999.0000,   1.3361,   -9.00
  316N145_7,       I05E,     410,          1,          8,          8,2,19950407,       1632,   -34.0002,    98.2168,       4406,  3142.3,   1.3684,  34.7320,2,  34.7317,2,    200.4,2,   201.9,2,  108.38,2,   31.28,2,    0.00,2,    2.18,2,   0.002,2,   0.002,2,  2257.1,2,  2362.2,2,  -9.0000,9,-999.0000,9, -999.00,9, -999.00,9,  -999.0,9,  -999.0,-999.000,9,-999.000,-999.000,9,  -9.0000,-999.0000,   1.1406,   -9.00
  316N145_7,       I05E,     410,          1,          7,          7,2,19950407,       1632,   -34.0002,    98.2168,       4406,  3348.3,   1.2293,  34.7258,2,  34.7248,2,    204.0,2,   203.0,2,  112.63,2,   31.58,2,    0.00,2,    2.20,2,-999.000,9,-999.000,9,  2259.1,2,  2363.2,2,  -9.0000,9,-999.0000,9, -999.00,9, -999.00,9,  -999.0,9,  -999.0,-999.000,9,-999.000,-999.000,9,  -9.0000,-999.0000,   0.9849,   -9.00
  316N145_7,       I05E,     410,          1,          6,          6,2,19950407,       1632,   -34.0002,    98.2168,       4406,  3549.7,   1.1279,  34.7207,2,  34.7213,2,    204.0,2,   204.8,2,  115.60,2,   31.79,2,    0.00,2,    2.21,2,   0.003,2,   0.003,2,  2260.4,2,  2368.5,2,  -9.0000,9,-999.0000,9, -999.00,9, -999.00,9,  -999.0,9,  -999.0,-999.000,9,-999.000,-999.000,9,  -9.0000,-999.0000,   0.8659,   -9.00
  316N145_7,       I05E,     410,          1,          5,          5,2,19950407,       1632,   -34.0002,    98.2168,       4406,  3754.1,   1.0468,  34.7161,2,  34.7156,2,    204.7,2,   205.6,2,  118.37,2,   31.99,2,    0.00,2,    2.22,2,-999.000,9,-999.000,9,  2263.3,2,  2372.6,2,  -9.0000,9,-999.0000,9, -999.00,9, -999.00,9,  -999.0,9,  -999.0,-999.000,9,-999.000,-999.000,9,  -9.0000,-999.0000,   0.7662,   -9.00
  316N145_7,       I05E,     410,          1,          4,          4,2,19950407,       1632,   -34.0002,    98.2168,       4406,  3956.4,   1.0062,  34.7136,2,  34.7127,2,    206.4,2,   206.3,2,  119.85,2,   32.09,2,    0.00,2,    2.23,2,   0.003,2,   0.005,2,  2264.6,2,  2375.4,2,  -9.0000,9,-999.0000,9, -999.00,9, -999.00,9,  -999.0,9,  -999.0,-999.000,9,-999.000,-999.000,9,  -9.0000,-999.0000,   0.7056,   -9.00
  316N145_7,       I05E,     410,          1,          3,          3,2,19950407,       1632,   -34.0002,    98.2168,       4406,  4163.0,   0.9786,  34.7113,2,  34.7105,2,    206.6,2,   207.0,2,  120.90,2,   32.15,2,    0.00,2,    2.23,2,-999.000,9,-999.000,9,  2266.2,2,  2369.9,2,  -9.0000,9,-999.0000,9, -999.00,9, -999.00,9,  -999.0,9,  -999.0,-999.000,9,-999.000,-999.000,9,  -9.0000,-999.0000,   0.6568,   -9.00
  316N145_7,       I05E,     410,          1,          2,          2,2,19950407,       1632,   -34.0002,    98.2168,       4406,  4368.7,   0.9790,  34.7100,2,  34.7097,2,    207.9,2,   208.0,2,  121.30,2,   32.15,2,    0.00,2,    2.24,2,   0.005,2,   0.005,2,  2266.3,2,  2377.4,2,  -9.0000,9,-999.0000,9, -999.00,9, -999.00,9,  -999.0,9,  -999.0,-999.000,9,-999.000,-999.000,9,  -9.0000,-999.0000,   0.6347,   -9.00
  316N145_7,       I05E,     410,          1,          1,          1,2,19950407,       1632,   -34.0002,    98.2168,       4406,  4481.9,   0.9783,  34.7094,2,  34.7101,2,    208.5,2,   207.9,2,  121.49,2,   32.15,2,    0.00,2,    2.23,2,   0.006,2,   0.007,2,  2265.9,2,  2375.1,2,  -9.0000,9,-999.0000,9, -999.00,9, -999.00,9,  -999.0,9,  -999.0,-999.000,9,-999.000,-999.000,9,  -9.0000,-999.0000,   0.6214,   -9.00