BOTTLE,20211124CCHSIORKP
EXPOCODE,SECT_ID,STNNBR,CASTNO,SAMPNO,BTLNBR,BTLNBR_FLAG_W,DATE,TIME,LATITUDE,LONGITUDE,DEPTH,CTDPRS,CTDTMP,CTDSAL,CTDSAL_FLAG_W,SALNTY,SALNTY_FLAG_W,CTDOXY,CTDOXY_FLAG_W,OXYGEN,OXYGEN_FLAG_W,SILCAT,SILCAT_FLAG_W,NITRAT,NITRAT_FLAG_W,NITRIT,NITRIT_FLAG_W,PHSPHT,PHSPHT_FLAG_W,CFC-11,CFC-11_FLAG_W,CFC-12,CFC-12_FLAG_W,TCARBN,TCARBN_FLAG_W,ALKALI,ALKALI_FLAG_W,TRITUM,TRITUM_FLAG_W,HELIUM,HELIUM_FLAG_W,DELHE3,DELHE3_FLAG_W,DELC13,DELC13_FLAG_W,DELC14,DELC14_FLAG_W,C14ERR,NEON,NEON_FLAG_W,NEONER,CCL4,CCL4_FLAG_W,TRITER,HELIER,THETA,DELHER
,,,,,,,,,,,METERS,DBAR,ITS-90,PSS-78,,PSS-78,,UMOL/KG,,UMOL/KG,,UMOL/KG,,UMOL/KG,,UMOL/KG,,UMOL/KG,,PMOL/KG,,PMOL/KG,,UMOL/KG,,UMOL/KG,,TU,,NMOL/KG,,PERCNT,,/MILLE,,/MILLE,,/MILLE,NMOL/KG,,NMOL/KG,PMOL/KG,,TU,NMOL/KG,DEG C,PERCNT
  316N145_7,       I08N,     343,          1,         36,         36,2,19950324,       0707,   -18.4993,    80.0010,       5037,     3.4,  27.8588,  34.7985,2,  34.7983,2,    198.8,2,   200.6,2,    2.76,2,    0.13,2,    0.00,2,    0.11,2,-999.000,9,-999.000,9,  1930.6,2,  2271.3,2,  -9.0000,9,-999.0000,9, -999.00,9, -999.00,9,  -999.0,9,  -999.0,-999.000,9,-999.000,-999.000,9,  -9.0000,-999.0000,  27.8580,   -9.00
  316N145_7,       I08N,     343,          1,         35,         35,2,19950324,       0707,   -18.4993,    80.0010,       5037,    44.8,  27.2294,  35.2292,2,  35.2567,2,    213.6,2,   206.0,2,    2.74,2,    0.13,2,    0.00,2,    0.12,2,-999.000,9,-999.000,9,  -999.0,9,  -999.0,9,  -9.0000,9,-999.0000,9, -999.00,9, -999.00,9,  -999.0,9,  -999.0,-999.000,9,-999.000,-999.000,9,  -9.0000,-999.0000,  27.2190,   -9.00
  316N145_7,       I08N,     343,          1,         34,         34,2,19950324,       0707,   -18.4993,    80.0010,       5037,    85.4,  22.6918,  35.3887,2,  35.3868,2,    232.0,2,   225.1,2,    3.14,2,    0.13,2,    0.00,2,    0.12,2,-999.000,9,-999.000,9,  -999.0,9,  -999.0,9,  -9.0000,9,-999.0000,9, -999.00,9, -999.00,9,  -999.0,9,  -999.0,-999.000,9,-999.000,-999.000,9,  -9.0000,-999.0000,  22.6746,   -9.00
  316N145_7,       I08N,     343,          1,         33,         33,2,19950324,       0707,   -18.4993,    80.0010,       5037,   125.8,  21.0881,  35.5514,2,  35.5493,2,    222.3,2,   215.0,2,    3.12,2,    0.23,2,    0.00,2,    0.15,2,-999.000,9,-999.000,9,  -999.0,9,  -999.0,9,  -9.0000,9,-999.0000,9, -999.00,9, -999.00,9,  -999.0,9,  -999.0,-999.000,9,-999.000,-999.000,9,  -9.0000,-999.0000,  21.0639,   -9.00
  316N145_7,       I08N,     343,          1,         32,         32,2,19950324,       0707,   -18.4993,    80.0010,       5037,   165.2,  20.2722,  35.7042,2,  35.7018,2,    213.6,2,   207.3,2,    3.10,2,    0.56,2,    0.28,2,    0.20,2,-999.000,9,-999.000,9,  -999.0,9,  -999.0,9,  -9.0000,9,-999.0000,9, -999.00,9, -999.00,9,  -999.0,9,  -999.0,-999.000,9,-999.000,-999.000,9,  -9.0000,-999.0000,  20.2412,   -9.00
  316N145_7,       I08N,     343,          1,         31,         31,2,19950324,       0707,   -18.4993,    80.0010,       5037,   205.8,  18.7928,  35.7713,2,  35.7610,2,    206.1,2,   203.5,2,    3.28,2,    1.99,2,    0.02,2,    0.27,2,-999.000,9,-999.000,9,  -999.0,9,  -999.0,9,  -9.0000,9,-999.0000,9, -999.00,9, -999.00,9,  -999.0,9,  -999.0,-999.000,9,-999.000,-999.000,9,  -9.0000,-999.0000,  18.7562,   -9.00
  316N145_7,       I08N,     343,          1,         30,         30,2,19950324,       0707,   -18.4993,    80.0010,       5037,   256.5,  16.5597,  35.6928,2,  35.6988,2,    212.3,2,   209.7,2,    3.05,2,    2.96,2,    0.00,2,    0.37,2,-999.000,9,-999.000,9,  -999.0,9,  -999.0,9,  -9.0000,9,-999.0000,9, -999.00,9, -999.00,9,  -999.0,9,  -999.0,-999.000,9,-999.000,-999.000,9,  -9.0000,-999.0000,  16.5179,   -9.00
  316N145_7,       I08N,     343,          1,         29,         29,2,19950324,       0707,   -18.4993,    80.0010,       5037,   306.1,  14.7583,  35.4848,2,  35.4878,2,    203.8,2,   210.2,2,    3.87,2,    5.89,2,    0.00,2,    0.55,2,-999.000,9,-999.000,9,  -999.0,9,  -999.0,9,  -9.0000,9,-999.0000,9, -999.00,9, -999.00,9,  -999.0,9,  -999.0,-999.000,9,-999.000,-999.000,9,  -9.0000,-999.0000,  14.7122,   -9.00
  316N145_7,       I08N,     343,          1,         28,         28,2,19950324,       0707,   -18.4993,    80.0010,       5037,   376.9,  12.6489,  35.1976,2,  35.2059,2,    219.1,2,   222.3,2,    4.06,2,    8.86,2,    0.00,2,    0.71,2,-999.000,9,-999.000,9,  -999.0,9,  -999.0,9,  -9.0000,9,-999.0000,9, -999.00,9, -999.00,9,  -999.0,9,  -999.0,-999.000,9,-999.000,-999.000,9,  -9.0000,-999.0000,  12.5975,   -9.00
  316N145_7,       I08N,     343,          1,         27,         27,2,19950324,       0707,   -18.4993,    80.0010,       5037,   446.7,  11.1220,  34.9646,2,  34.9675,2,    226.0,2,   227.0,2,    4.87,2,   12.13,2,    0.00,2,    0.91,2,-999.000,9,-999.000,9,  -999.0,9,  -999.0,9,  -9.0000,9,-999.0000,9, -999.00,9, -999.00,9,  -999.0,9,  -999.0,-999.000,9,-999.000,-999.000,9,  -9.0000,-999.0000,  11.0660,   -9.00
  316N145_7,       I08N,     343,          1,         26,         26,2,19950324,       0707,   -18.4993,    80.0010,       5037,   527.6,   9.9534,  34.7922,2,  34.7941,2,    223.5,2,   222.9,2,    6.73,2,   15.58,2,    0.00,2,    1.11,2,-999.000,9,-999.000,9,  -999.0,9,  -999.0,9,  -9.0000,9,-999.0000,9, -999.00,9, -999.00,9,  -999.0,9,  -999.0,-999.000,9,-999.000,-999.000,9,  -9.0000,-999.0000,   9.8915,   -9.00
  316N145_7,       I08N,     343,          1,         25,         25,2,19950324,       0707,   -18.4993,    80.0010,       5037,   707.0,   7.0369,  34.5207,2,  34.5222,2,    189.7,2,   186.1,2,   23.43,2,   26.31,2,    0.00,2,    1.80,2,-999.000,9,-999.000,9,  -999.0,9,  -999.0,9,  -9.0000,9,-999.0000,9, -999.00,9, -999.00,9,  -999.0,9,  -999.0,-999.000,9,-999.000,-999.000,9,  -9.0000,-999.0000,   6.9686,   -9.00
  316N145_7,       I08N,     343,          1,         24,         24,2,19950324,       0707,   -18.4993,    80.0010,       5037,   707.9,   6.9881,  34.5177,2,  34.5237,2,    188.9,2,   185.6,2,   23.82,2,   26.40,2,    0.00,2,    1.81,2,-999.000,9,-999.000,9,  -999.0,9,  -999.0,9,  -9.0000,9,-999.0000,9, -999.00,9, -999.00,9,  -999.0,9,  -999.0,-999.000,9,-999.000,-999.000,9,  -9.0000,-999.0000,   6.9199,   -9.00
  316N145_7,       I08N,     343,          1,         23,         23,2,19950324,       0707,   -18.4993,    80.0010,       5037,   808.9,   5.6251,  34.5177,2,  34.5205,2,    148.1,2,   148.4,2,   49.50,2,   32.14,2,    0.00,2,    2.26,2,-999.000,9,-999.000,9,  -999.0,9,  -999.0,9,  -9.0000,9,-999.0000,9, -999.00,9, -999.00,9,  -999.0,9,  -999.0,-999.000,9,-999.000,-999.000,9,  -9.0000,-999.0000,   5.5550,   -9.00
  316N145_7,       I08N,     343,          1,         22,         22,2,19950324,       0707,   -18.4993,    80.0010,       5037,   910.0,   5.1616,  34.5980,2,  34.5936,2,    122.9,2,   122.0,2,   70.19,2,   34.59,2,    0.00,2,    2.48,2,-999.000,9,-999.000,9,  -999.0,9,  -999.0,9,  -9.0000,9,-999.0000,9, -999.00,9, -999.00,9,  -999.0,9,  -999.0,-999.000,9,-999.000,-999.000,9,  -9.0000,-999.0000,   5.0851,   -9.00
  316N145_7,       I08N,     343,          1,         21,         21,2,19950324,       0707,   -18.4993,    80.0010,       5037,  1010.5,   5.0157,  34.6729,2,  34.6729,2,    104.1,2,   103.6,2,   84.85,2,   35.80,2,    0.00,2,    2.59,2,-999.000,9,-999.000,9,  -999.0,9,  -999.0,9,  -9.0000,9,-999.0000,9, -999.00,9, -999.00,9,  -999.0,9,  -999.0,-999.000,9,-999.000,-999.000,9,  -9.0000,-999.0000,   4.9310,   -9.00
  316N145_7,       I08N,     343,          1,         20,         20,2,19950324,       0707,   -18.4993,    80.0010,       5037,  1111.3,   4.7052,  34.6842,2,  34.6845,2,    103.4,2,   101.8,2,   92.61,2,   36.33,2,    0.00,2,    2.62,2,-999.000,9,-999.000,9,  -999.0,9,  -999.0,9,  -9.0000,9,-999.0000,9, -999.00,9, -999.00,9,  -999.0,9,  -999.0,-999.000,9,-999.000,-999.000,9,  -9.0000,-999.0000,   4.6139,   -9.00
  316N145_7,       I08N,     343,          1,         19,         19,2,19950324,       0707,   -18.4993,    80.0010,       5037,  1212.8,   4.3895,  34.6958,2,  34.6971,2,    107.1,2,   108.0,2,   94.69,2,   36.13,2,    0.00,2,    2.60,2,-999.000,9,-999.000,9,  -999.0,9,  -999.0,9,  -9.0000,9,-999.0000,9, -999.00,9, -999.00,9,  -999.0,9,  -999.0,-999.000,9,-999.000,-999.000,9,  -9.0000,-999.0000,   4.2918,   -9.00
  316N145_7,       I08N,     343,          1,         18,         18,2,19950324,       0707,   -18.4993,    80.0010,       5037,  1312.8,   4.0670,  34.6971,2,  34.6962,2,    112.0,2,   112.7,2,   97.41,2,   36.03,2,    0.00,2,    2.60,2,-999.000,9,-999.000,9,  -999.0,9,  -999.0,9,  -9.0000,9,-999.0000,9, -999.00,9, -999.00,9,  -999.0,9,  -999.0,-999.000,9,-999.000,-999.000,9,  -9.0000,-999.0000,   3.9635,   -9.00
  316N145_7,       I08N,     343,          1,         17,         17,2,19950324,       0707,   -18.4993,    80.0010,       5037,  1413.9,   3.7730,  34.7042,2,  34.7043,2,    118.6,2,   119.4,2,   99.91,2,   35.84,2,    0.00,2,    2.57,2,-999.000,9,-999.000,9,  -999.0,9,  -999.0,9,  -9.0000,9,-999.0000,9, -999.00,9, -999.00,9,  -999.0,9,  -999.0,-999.000,9,-999.000,-999.000,9,  -9.0000,-999.0000,   3.6637,   -9.00
  316N145_7,       I08N,     343,          1,         16,         16,2,19950324,       0707,   -18.4993,    80.0010,       5037,  1615.5,   3.2867,  34.7177,2,  34.7154,2,    128.1,2,   129.4,2,  104.97,2,   35.45,2,    0.00,2,    2.53,2,-999.000,9,-999.000,9,  -999.0,9,  -999.0,9,  -9.0000,9,-999.0000,9, -999.00,9, -999.00,9,  -999.0,9,  -999.0,-999.000,9,-999.000,-999.000,9,  -9.0000,-999.0000,   3.1653,   -9.00
  316N145_7,       I08N,     343,          1,         15,         15,2,19950324,       0707,   -18.4993,    80.0010,       5037,  1817.7,   2.8787,  34.7229,2,  34.7231,2,    138.3,2,   139.7,2,  108.97,2,   35.02,2,    0.00,2,    2.49,2,-999.000,9,-999.000,9,  -999.0,9,  -999.0,9,  -9.0000,9,-999.0000,9, -999.00,9, -999.00,9,  -999.0,9,  -999.0,-999.000,9,-999.000,-999.000,9,  -9.0000,-999.0000,   2.7449,   -9.00
  316N145_7,       I08N,     343,          1,         14,         14,2,19950324,       0707,   -18.4993,    80.0010,       5037,  2019.3,   2.4954,  34.7266,2,  34.7270,2,    147.7,2,   150.7,2,  112.13,2,   34.49,2,    0.00,2,    2.45,2,-999.000,9,-999.000,9,  -999.0,9,  -999.0,9,  -9.0000,9,-999.0000,9, -999.00,9, -999.00,9,  -999.0,9,  -999.0,-999.000,9,-999.000,-999.000,9,  -9.0000,-999.0000,   2.3495,   -9.00
  316N145_7,       I08N,     343,          1,         13,         13,2,19950324,       0707,   -18.4993,    80.0010,       5037,  2272.1,   2.1795,  34.7281,2,  34.7268,2,    161.0,2,   160.2,2,  114.45,2,   33.96,2,    0.00,2,    2.41,2,-999.000,9,-999.000,9,  -999.0,9,  -999.0,9,  -9.0000,9,-999.0000,9, -999.00,9, -999.00,9,  -999.0,9,  -999.0,-999.000,9,-999.000,-999.000,9,  -9.0000,-999.0000,   2.0162,   -9.00
  316N145_7,       I08N,     343,          1,         12,         12,2,19950324,       0707,   -18.4993,    80.0010,       5037,  2527.7,   1.9399,  34.7270,2,  34.7275,2,    168.6,2,   169.3,2,  115.49,2,   33.48,2,    0.00,2,    2.36,2,-999.000,9,-999.000,9,  -999.0,9,  -999.0,9,  -9.0000,9,-999.0000,9, -999.00,9, -999.00,9,  -999.0,9,  -999.0,-999.000,9,-999.000,-999.000,9,  -9.0000,-999.0000,   1.7579,   -9.00
  316N145_7,       I08N,     343,          1,         11,         11,2,19950324,       0707,   -18.4993,    80.0010,       5037,  2782.2,   1.7657,  34.7269,2,  34.7279,2,    175.2,2,   174.5,2,  118.66,2,   33.43,2,    0.00,2,    2.34,2,-999.000,9,-999.000,9,  -999.0,9,  -999.0,9,  -9.0000,9,-999.0000,9, -999.00,9, -999.00,9,  -999.0,9,  -999.0,-999.000,9,-999.000,-999.000,9,  -9.0000,-999.0000,   1.5635,   -9.00
  316N145_7,       I08N,     343,          1,         10,         10,2,19950324,       0707,   -18.4993,    80.0010,       5037,  3038.0,   1.6356,  34.7258,2,  34.7259,2,    176.8,2,   175.7,2,  123.13,2,   33.57,2,    0.00,2,    2.34,2,-999.000,9,-999.000,9,  -999.0,9,  -999.0,9,  -9.0000,9,-999.0000,9, -999.00,9, -999.00,9,  -999.0,9,  -999.0,-999.000,9,-999.000,-999.000,9,  -9.0000,-999.0000,   1.4119,   -9.00
  316N145_7,       I08N,     343,          1,          9,          9,2,19950324,       0707,   -18.4993,    80.0010,       5037,  3292.0,   1.5329,  34.7241,2,  34.7247,2,    177.5,2,   177.5,2,  125.90,2,   33.57,2,    0.00,2,    2.34,2,-999.000,9,-999.000,9,  -999.0,9,  -999.0,9,  -9.0000,9,-999.0000,9, -999.00,9, -999.00,9,  -999.0,9,  -999.0,-999.000,9,-999.000,-999.000,9,  -9.0000,-999.0000,   1.2867,   -9.00
  316N145_7,       I08N,     343,          1,          8,          8,2,19950324,       0707,   -18.4993,    80.0010,       5037,  3547.4,   1.4550,  34.7219,2,  34.7217,2,    178.1,2,   178.7,2,  129.32,2,   33.48,2,    0.00,2,    2.34,2,-999.000,9,-999.000,9,  -999.0,9,  -999.0,9,  -9.0000,9,-999.0000,9, -999.00,9, -999.00,9,  -999.0,9,  -999.0,-999.000,9,-999.000,-999.000,9,  -9.0000,-999.0000,   1.1849,   -9.00
  316N145_7,       I08N,     343,          1,          7,          7,2,19950324,       0707,   -18.4993,    80.0010,       5037,  3801.7,   1.3993,  34.7203,2,  34.7201,2,    183.1,2,   182.6,2,  128.43,2,   33.38,2,    0.00,2,    2.33,2,-999.000,9,-999.000,9,  -999.0,9,  -999.0,9,  -9.0000,9,-999.0000,9, -999.00,9, -999.00,9,  -999.0,9,  -999.0,-999.000,9,-999.000,-999.000,9,  -9.0000,-999.0000,   1.1043,   -9.00
  316N145_7,       I08N,     343,          1,          6,          6,2,19950324,       0707,   -18.4993,    80.0010,       5037,  4057.0,   1.3744,  34.7187,2,  34.7183,2,    182.5,2,   182.8,2,  130.77,2,   33.57,2,    0.00,2,    2.33,2,-999.000,9,-999.000,9,  -999.0,9,  -999.0,9,  -9.0000,9,-999.0000,9, -999.00,9, -999.00,9,  -999.0,9,  -999.0,-999.000,9,-999.000,-999.000,9,  -9.0000,-999.0000,   1.0526,   -9.00
  316N145_7,       I08N,     343,          1,          5,          5,2,19950324,       0707,   -18.4993,    80.0010,       5037,  4313.1,   1.3719,  34.7176,2,  34.7179,2,    183.3,2,   183.5,2,  131.82,2,   33.67,2,    0.00,2,    2.33,2,-999.000,9,-999.000,9,  -999.0,9,  -999.0,9,  -9.0000,9,-999.0000,9, -999.00,9, -999.00,9,  -999.0,9,  -999.0,-999.000,9,-999.000,-999.000,9,  -9.0000,-999.0000,   1.0219,   -9.00
  316N145_7,       I08N,     343,          1,          4,          4,2,19950324,       0707,   -18.4993,    80.0010,       5037,  4570.0,   1.3829,  34.7178,2,  34.7171,2,    184.0,2,   183.9,2,  132.01,2,   33.62,2,    0.00,2,    2.33,2,-999.000,9,-999.000,9,  -999.0,9,  -999.0,9,  -9.0000,9,-999.0000,9, -999.00,9, -999.00,9,  -999.0,9,  -999.0,-999.000,9,-999.000,-999.000,9,  -9.0000,-999.0000,   1.0032,   -9.00
  316N145_7,       I08N,     343,          1,          3,          3,2,19950324,       0707,   -18.4993,    80.0010,       5037,  4826.3,   1.4027,  34.7169,2,  34.7167,2,    183.9,2,   184.2,2,  131.76,2,   33.57,2,    0.00,2,    2.33,2,-999.000,9,-999.000,9,  -999.0,9,  -999.0,9,  -9.0000,9,-999.0000,9, -999.00,9, -999.00,9,  -999.0,9,  -999.0,-999.000,9,-999.000,-999.000,9,  -9.0000,-999.0000,   0.9924,   -9.00
  316N145_7,       I08N,     343,          1,          2,          2,2,19950324,       0707,   -18.4993,    80.0010,       5037,  5082.3,   1.4304,  34.7171,2,  34.7164,2,    183.5,2,   184.1,2,  131.52,2,   33.52,2,    0.00,2,    2.33,2,-999.000,9,-999.000,9,  -999.0,9,  -999.0,9,  -9.0000,9,-999.0000,9, -999.00,9, -999.00,9,  -999.0,9,  -999.0,-999.000,9,-999.000,-999.000,9,  -9.0000,-999.0000,   0.9883,   -9.00
  316N145_7,       I08N,     343,          1,          1,          1,2,19950324,       0707,   -18.4993,    80.0010,       5037,  5145.0,   1.4385,  34.7168,2,  34.7168,2,    184.4,2,   184.4,2,  131.27,2,   33.47,2,    0.00,2,    2.33,2,-999.000,9,-999.000,9,  -999.0,9,  -999.0,9,  -9.0000,9,-999.0000,9, -999.00,9, -999.00,9,  -999.0,9,  -999.0,-999.000,9,-999.000,-999.000,9,  -9.0000,-999.0000,   0.9884,   -9.00