BOTTLE,20211124CCHSIORKP
EXPOCODE,SECT_ID,STNNBR,CASTNO,SAMPNO,BTLNBR,BTLNBR_FLAG_W,DATE,TIME,LATITUDE,LONGITUDE,DEPTH,CTDPRS,CTDTMP,CTDSAL,CTDSAL_FLAG_W,SALNTY,SALNTY_FLAG_W,CTDOXY,CTDOXY_FLAG_W,OXYGEN,OXYGEN_FLAG_W,SILCAT,SILCAT_FLAG_W,NITRAT,NITRAT_FLAG_W,NITRIT,NITRIT_FLAG_W,PHSPHT,PHSPHT_FLAG_W,CFC-11,CFC-11_FLAG_W,CFC-12,CFC-12_FLAG_W,TCARBN,TCARBN_FLAG_W,ALKALI,ALKALI_FLAG_W,TRITUM,TRITUM_FLAG_W,HELIUM,HELIUM_FLAG_W,DELHE3,DELHE3_FLAG_W,DELC13,DELC13_FLAG_W,DELC14,DELC14_FLAG_W,C14ERR,NEON,NEON_FLAG_W,NEONER,CCL4,CCL4_FLAG_W,TRITER,HELIER,THETA,DELHER
,,,,,,,,,,,METERS,DBAR,ITS-90,PSS-78,,PSS-78,,UMOL/KG,,UMOL/KG,,UMOL/KG,,UMOL/KG,,UMOL/KG,,UMOL/KG,,PMOL/KG,,PMOL/KG,,UMOL/KG,,UMOL/KG,,TU,,NMOL/KG,,PERCNT,,/MILLE,,/MILLE,,/MILLE,NMOL/KG,,NMOL/KG,PMOL/KG,,TU,NMOL/KG,DEG C,PERCNT
  316N145_7,       I08N,     325,          1,         36,         36,2,19950319,       2314,    -9.5000,    79.9997,       5325,     2.7,  29.0192,  34.2898,2,  34.2878,2,    196.3,2,   197.8,2,    3.69,2,    0.10,2,    0.00,2,    0.12,2,   1.739,2,   0.943,2,  1919.2,2,  2269.6,2,  -9.0000,9,-999.0000,9, -999.00,9, -999.00,9,  -999.0,9,  -999.0,-999.000,9,-999.000,   1.740,2,  -9.0000,-999.0000,  29.0185,   -9.00
  316N145_7,       I08N,     325,          1,         35,         35,2,19950319,       2314,    -9.5000,    79.9997,       5325,    31.3,  24.8366,  34.5867,2,  34.5752,2,    182.1,2,   180.7,2,    6.20,2,    3.76,2,    0.14,2,    0.41,2,   1.717,2,   0.957,2,  -999.0,9,  -999.0,9,  -9.0000,9,-999.0000,9, -999.00,9, -999.00,9,  -999.0,9,  -999.0,-999.000,9,-999.000,   0.928,2,  -9.0000,-999.0000,  24.8299,   -9.00
  316N145_7,       I08N,     325,          1,         34,         34,2,19950319,       2314,    -9.5000,    79.9997,       5325,    55.9,  21.0949,  34.7474,2,  34.7917,2,    105.9,2,   103.3,2,   16.26,2,   14.95,2,    0.22,2,    1.08,2,   1.417,2,   0.783,2,  -999.0,9,  -999.0,9,  -9.0000,9,-999.0000,9, -999.00,9, -999.00,9,  -999.0,9,  -999.0,-999.000,9,-999.000,   0.339,2,  -9.0000,-999.0000,  21.0842,   -9.00
  316N145_7,       I08N,     325,          1,         33,         33,2,19950319,       2314,    -9.5000,    79.9997,       5325,    86.4,  18.7564,  35.0206,2,  35.0187,2,     77.7,2,    76.8,2,   17.92,2,   19.74,2,    0.08,2,    1.37,2,-999.000,9,-999.000,9,  -999.0,9,  -999.0,9,  -9.0000,9,-999.0000,9, -999.00,9, -999.00,9,  -999.0,9,  -999.0,-999.000,9,-999.000,-999.000,9,  -9.0000,-999.0000,  18.7412,   -9.00
  316N145_7,       I08N,     325,          1,         32,         32,2,19950319,       2314,    -9.5000,    79.9997,       5325,   126.7,  15.3680,  34.8432,2,  34.8330,2,     70.3,2,    69.9,2,   27.36,2,   23.90,2,    0.02,2,    1.66,2,   0.911,2,   0.504,2,  -999.0,9,  -999.0,9,  -9.0000,9,-999.0000,9, -999.00,9, -999.00,9,  -999.0,9,  -999.0,-999.000,9,-999.000,   0.109,2,  -9.0000,-999.0000,  15.3485,   -9.00
  316N145_7,       I08N,     325,          1,         31,         31,2,19950319,       2314,    -9.5000,    79.9997,       5325,   176.7,  13.6277,  34.9162,2,  34.9160,2,     75.2,2,    77.0,2,   28.18,2,   24.76,2,    0.01,2,    1.73,2,   0.771,2,   0.424,2,  -999.0,9,  -999.0,9,  -9.0000,9,-999.0000,9, -999.00,9, -999.00,9,  -999.0,9,  -999.0,-999.000,9,-999.000,   0.101,2,  -9.0000,-999.0000,  13.6027,   -9.00
  316N145_7,       I08N,     325,          1,         30,         30,2,19950319,       2314,    -9.5000,    79.9997,       5325,   236.9,  12.2642,  34.9470,2,  34.9454,2,     80.1,2,    80.5,2,   27.96,2,   25.94,2,    0.01,2,    1.79,2,-999.000,9,-999.000,9,  -999.0,9,  -999.0,9,  -9.0000,9,-999.0000,9, -999.00,9, -999.00,9,  -999.0,9,  -999.0,-999.000,9,-999.000,-999.000,9,  -9.0000,-999.0000,  12.2328,   -9.00
  316N145_7,       I08N,     325,          1,         29,         29,2,19950319,       2314,    -9.5000,    79.9997,       5325,   286.6,  11.3639,  34.9381,2,  34.9355,2,    114.6,2,   117.2,2,   23.95,2,   23.54,2,    0.00,2,    1.62,2,-999.000,9,-999.000,9,  -999.0,9,  -999.0,9,  -9.0000,9,-999.0000,9, -999.00,9, -999.00,9,  -999.0,9,  -999.0,-999.000,9,-999.000,-999.000,9,  -9.0000,-999.0000,  11.3277,   -9.00
  316N145_7,       I08N,     325,          1,         28,         28,2,19950319,       2314,    -9.5000,    79.9997,       5325,   347.5,  10.3473,  34.8596,2,  34.8565,2,    120.7,2,   125.5,2,   24.77,2,   24.72,2,    0.00,2,    1.69,2,   0.760,2,   0.383,2,  -999.0,9,  -999.0,9,  -9.0000,9,-999.0000,9, -999.00,9, -999.00,9,  -999.0,9,  -999.0,-999.000,9,-999.000,   0.334,6,  -9.0000,-999.0000,  10.3059,   -9.00
  316N145_7,       I08N,     325,          1,         27,         27,2,19950319,       2314,    -9.5000,    79.9997,       5325,   448.1,   9.2213,  34.8025,2,  34.8024,2,    105.2,2,   106.2,2,   34.83,2,   28.89,2,    0.00,2,    1.99,2,-999.000,9,-999.000,9,  -999.0,9,  -999.0,9,  -9.0000,9,-999.0000,9, -999.00,9, -999.00,9,  -999.0,9,  -999.0,-999.000,9,-999.000,-999.000,9,  -9.0000,-999.0000,   9.1713,   -9.00
  316N145_7,       I08N,     325,          1,         26,         26,2,19950319,       2314,    -9.5000,    79.9997,       5325,   548.6,   8.2477,  34.7655,2,  34.7694,2,     89.2,2,    89.6,2,   49.29,2,   32.17,2,    0.00,2,    2.27,2,   0.107,3,   0.069,2,  -999.0,9,  -999.0,9,  -9.0000,9,-999.0000,9, -999.00,9, -999.00,9,  -999.0,9,  -999.0,-999.000,9,-999.000,   0.126,2,  -9.0000,-999.0000,   8.1901,   -9.00
  316N145_7,       I08N,     325,          1,         25,         25,2,19950319,       2314,    -9.5000,    79.9997,       5325,   649.2,   7.4199,  34.7602,2,  34.7574,2,     77.2,2,    76.1,2,   64.40,2,   34.56,2,    0.00,2,    2.48,2,-999.000,9,-999.000,9,  -999.0,9,  -999.0,9,  -9.0000,9,-999.0000,9, -999.00,9, -999.00,9,  -999.0,9,  -999.0,-999.000,9,-999.000,-999.000,9,  -9.0000,-999.0000,   7.3553,   -9.00
  316N145_7,       I08N,     325,          1,         24,         24,2,19950319,       2314,    -9.5000,    79.9997,       5325,   749.2,   6.6558,  34.7362,2,  34.7366,2,     73.3,2,    73.0,2,   77.21,2,   35.85,2,    0.00,2,    2.59,2,   0.003,3,   0.010,2,  -999.0,9,  -999.0,9,  -9.0000,9,-999.0000,9, -999.00,9, -999.00,9,  -999.0,9,  -999.0,-999.000,9,-999.000,   0.027,2,  -9.0000,-999.0000,   6.5851,   -9.00
  316N145_7,       I08N,     325,          1,         23,         23,2,19950319,       2314,    -9.5000,    79.9997,       5325,   850.1,   6.1077,  34.7220,2,  34.7211,2,     76.4,2,    75.6,2,   84.98,2,   36.24,2,    0.00,2,    2.63,2,-999.000,9,-999.000,9,  -999.0,9,  -999.0,9,  -9.0000,9,-999.0000,9, -999.00,9, -999.00,9,  -999.0,9,  -999.0,-999.000,9,-999.000,-999.000,9,  -9.0000,-999.0000,   6.0303,   -9.00
  316N145_7,       I08N,     325,          1,         22,         22,2,19950319,       2314,    -9.5000,    79.9997,       5325,   950.6,   5.7384,  34.7387,2,  34.7396,2,     78.4,2,    79.1,2,   90.23,2,   36.38,2,    0.00,2,    2.65,2,   0.074,3,   0.011,2,  -999.0,9,  -999.0,9,  -9.0000,9,-999.0000,9, -999.00,9, -999.00,9,  -999.0,9,  -999.0,-999.000,9,-999.000,   0.028,2,  -9.0000,-999.0000,   5.6539,   -9.00
  316N145_7,       I08N,     325,          1,         21,         21,2,19950319,       2314,    -9.5000,    79.9997,       5325,  1051.2,   5.2986,  34.7314,2,  34.7313,2,     82.3,2,    81.9,2,   96.12,2,   36.62,2,    0.00,2,    2.67,2,-999.000,9,-999.000,9,  -999.0,9,  -999.0,9,  -9.0000,9,-999.0000,9, -999.00,9, -999.00,9,  -999.0,9,  -999.0,-999.000,9,-999.000,-999.000,9,  -9.0000,-999.0000,   5.2079,   -9.00
  316N145_7,       I08N,     325,          1,         20,         20,2,19950319,       2314,    -9.5000,    79.9997,       5325,  1187.1,   4.8491,  34.7420,2,  34.7413,2,     87.0,2,    87.8,2,  100.33,2,   36.67,2,    0.00,2,    2.67,2,  -0.036,3,   0.005,2,  -999.0,9,  -999.0,9,  -9.0000,9,-999.0000,9, -999.00,9, -999.00,9,  -999.0,9,  -999.0,-999.000,9,-999.000,   0.005,2,  -9.0000,-999.0000,   4.7495,   -9.00
  316N145_7,       I08N,     325,          1,         19,         19,2,19950319,       2314,    -9.5000,    79.9997,       5325,  1338.1,   4.3858,  34.7554,2,  34.7563,2,     96.1,2,    97.3,2,  103.90,2,   36.53,2,    0.00,2,    2.66,2,-999.000,9,-999.000,9,  -999.0,9,  -999.0,9,  -9.0000,9,-999.0000,9, -999.00,9, -999.00,9,  -999.0,9,  -999.0,-999.000,9,-999.000,-999.000,9,  -9.0000,-999.0000,   4.2767,   -9.00
  316N145_7,       I08N,     325,          1,         18,         18,2,19950319,       2314,    -9.5000,    79.9997,       5325,  1515.7,   3.6940,  34.7428,2,  34.7420,2,    109.6,2,   111.7,2,  108.97,2,   36.10,2,    0.00,2,    2.61,2,   0.008,3,   0.009,3,  -999.0,9,  -999.0,9,  -9.0000,9,-999.0000,9, -999.00,9, -999.00,9,  -999.0,9,  -999.0,-999.000,9,-999.000,   0.001,2,  -9.0000,-999.0000,   3.5764,   -9.00
  316N145_7,       I08N,     325,          1,         17,         17,2,19950319,       2314,    -9.5000,    79.9997,       5325,  1717.0,   3.1455,  34.7518,2,  34.7506,2,    124.1,2,   125.0,2,  114.06,2,   35.52,2,    0.00,2,    2.56,2,-999.000,9,-999.000,9,  -999.0,9,  -999.0,9,  -9.0000,9,-999.0000,9, -999.00,9, -999.00,9,  -999.0,9,  -999.0,-999.000,9,-999.000,-999.000,9,  -9.0000,-999.0000,   3.0168,   -9.00
  316N145_7,       I08N,     325,          1,         16,         16,2,19950319,       2314,    -9.5000,    79.9997,       5325,  1918.9,   2.6810,  34.7492,2,  34.7481,2,    137.2,2,   137.0,2,  118.09,2,   35.14,2,    0.00,2,    2.51,2,  -0.007,3,   0.004,2,  -999.0,9,  -999.0,9,  -9.0000,9,-999.0000,9, -999.00,9, -999.00,9,  -999.0,9,  -999.0,-999.000,9,-999.000,   0.004,2,  -9.0000,-999.0000,   2.5410,   -9.00
  316N145_7,       I08N,     325,          1,         15,         15,2,19950319,       2314,    -9.5000,    79.9997,       5325,  2122.6,   2.3797,  34.7439,2,  34.7438,2,    146.1,2,   146.3,2,  120.63,2,   34.57,2,    0.00,2,    2.47,2,-999.000,9,-999.000,9,  -999.0,9,  -999.0,9,  -9.0000,9,-999.0000,9, -999.00,9, -999.00,9,  -999.0,9,  -999.0,-999.000,9,-999.000,-999.000,9,  -9.0000,-999.0000,   2.2264,   -9.00
  316N145_7,       I08N,     325,          1,         14,         14,2,19950319,       2314,    -9.5000,    79.9997,       5325,  2325.0,   2.1280,  34.7385,2,  34.7379,2,    155.8,2,   155.0,2,  122.52,2,   34.28,2,    0.00,2,    2.42,2,  -0.010,3,   0.003,2,  -999.0,9,  -999.0,9,  -9.0000,9,-999.0000,9, -999.00,9, -999.00,9,  -999.0,9,  -999.0,-999.000,9,-999.000,   0.007,2,  -9.0000,-999.0000,   1.9609,   -9.00
  316N145_7,       I08N,     325,          1,         13,         13,2,19950319,       2314,    -9.5000,    79.9997,       5325,  2527.9,   1.9525,  34.7345,2,  34.7339,2,    162.4,2,   161.9,2,  123.78,2,   33.99,2,    0.00,2,    2.39,2,-999.000,9,-999.000,9,  -999.0,9,  -999.0,9,  -9.0000,9,-999.0000,9, -999.00,9, -999.00,9,  -999.0,9,  -999.0,-999.000,9,-999.000,-999.000,9,  -9.0000,-999.0000,   1.7702,   -9.00
  316N145_7,       I08N,     325,          1,         12,         12,2,19950319,       2314,    -9.5000,    79.9997,       5325,  2731.0,   1.8128,  34.7313,2,  34.7310,2,    166.2,2,   165.7,2,  126.32,2,   33.90,2,    0.00,2,    2.38,2,-999.000,9,-999.000,9,  -999.0,9,  -999.0,9,  -9.0000,9,-999.0000,9, -999.00,9, -999.00,9,  -999.0,9,  -999.0,-999.000,9,-999.000,-999.000,9,  -9.0000,-999.0000,   1.6145,   -9.00
  316N145_7,       I08N,     325,          1,         11,         11,2,19950319,       2314,    -9.5000,    79.9997,       5325,  2935.4,   1.7111,  34.7281,2,  34.7279,2,    168.9,2,   168.6,2,  127.79,2,   33.76,2,    0.00,2,    2.37,2,-999.000,9,-999.000,9,  -999.0,9,  -999.0,9,  -9.0000,9,-999.0000,9, -999.00,9, -999.00,9,  -999.0,9,  -999.0,-999.000,9,-999.000,-999.000,9,  -9.0000,-999.0000,   1.4956,   -9.00
  316N145_7,       I08N,     325,          1,         10,         10,2,19950319,       2314,    -9.5000,    79.9997,       5325,  3139.1,   1.6002,  34.7257,2,  34.7253,2,    170.1,2,   170.3,2,  130.78,2,   33.85,2,    0.00,2,    2.37,2,   0.008,3,   0.001,2,  -999.0,9,  -999.0,9,  -9.0000,9,-999.0000,9, -999.00,9, -999.00,9,  -999.0,9,  -999.0,-999.000,9,-999.000,  -0.011,2,  -9.0000,-999.0000,   1.3675,   -9.00
  316N145_7,       I08N,     325,          1,          9,          9,2,19950319,       2314,    -9.5000,    79.9997,       5325,  3393.2,   1.4677,  34.7220,2,  34.7212,2,    173.3,2,   173.4,2,  133.56,2,   33.85,2,    0.00,2,    2.36,2,-999.000,9,-999.000,9,  -999.0,9,  -999.0,9,  -9.0000,9,-999.0000,9, -999.00,9, -999.00,9,  -999.0,9,  -999.0,-999.000,9,-999.000,-999.000,9,  -9.0000,-999.0000,   1.2130,   -9.00
  316N145_7,       I08N,     325,          1,          8,          8,2,19950319,       2314,    -9.5000,    79.9997,       5325,  3648.0,   1.3853,  34.7199,2,  34.7191,2,    176.8,2,   177.9,2,  134.61,2,   33.80,2,    0.00,2,    2.34,2,   0.012,3,   0.001,2,  -999.0,9,  -999.0,9,  -9.0000,9,-999.0000,9, -999.00,9, -999.00,9,  -999.0,9,  -999.0,-999.000,9,-999.000,  -0.002,2,  -9.0000,-999.0000,   1.1066,   -9.00
  316N145_7,       I08N,     325,          1,          7,          7,2,19950319,       2314,    -9.5000,    79.9997,       5325,  3903.3,   1.3523,  34.7182,2,  34.7175,2,    179.3,2,   179.4,2,  134.78,2,   33.71,2,    0.00,2,    2.34,2,-999.000,9,-999.000,9,  -999.0,9,  -999.0,9,  -9.0000,9,-999.0000,9, -999.00,9, -999.00,9,  -999.0,9,  -999.0,-999.000,9,-999.000,-999.000,9,  -9.0000,-999.0000,   1.0477,   -9.00
  316N145_7,       I08N,     325,          1,          6,          6,2,19950319,       2314,    -9.5000,    79.9997,       5325,  4158.6,   1.3508,  34.7176,2,  34.7175,2,    180.7,2,   180.8,2,  134.74,2,   33.47,2,    0.00,2,    2.33,2,   0.027,3,   0.002,2,  -999.0,9,  -999.0,9,  -9.0000,9,-999.0000,9, -999.00,9, -999.00,9,  -999.0,9,  -999.0,-999.000,9,-999.000,   0.013,2,  -9.0000,-999.0000,   1.0186,   -9.00
  316N145_7,       I08N,     325,          1,          5,          5,2,19950319,       2314,    -9.5000,    79.9997,       5325,  4414.2,   1.3574,  34.7173,2,  34.7167,2,    182.0,2,   181.9,2,  134.26,2,   33.57,2,    0.00,2,    2.33,2,-999.000,9,-999.000,9,  -999.0,9,  -999.0,9,  -9.0000,9,-999.0000,9, -999.00,9, -999.00,9,  -999.0,9,  -999.0,-999.000,9,-999.000,-999.000,9,  -9.0000,-999.0000,   0.9964,   -9.00
  316N145_7,       I08N,     325,          1,          4,          4,2,19950319,       2314,    -9.5000,    79.9997,       5325,  4671.1,   1.3718,  34.7168,2,  34.7165,2,    182.9,2,   182.9,2,  133.35,2,   33.47,2,    0.00,2,    2.32,2,-999.000,9,-999.000,9,  -999.0,9,  -999.0,9,  -9.0000,9,-999.0000,9, -999.00,9, -999.00,9,  -999.0,9,  -999.0,-999.000,9,-999.000,-999.000,9,  -9.0000,-999.0000,   0.9808,   -9.00
  316N145_7,       I08N,     325,          1,          3,          3,2,19950319,       2314,    -9.5000,    79.9997,       5325,  4927.5,   1.3967,  34.7170,2,  34.7158,2,    184.2,2,   184.0,2,  133.31,2,   33.47,2,    0.00,2,    2.32,2,-999.000,9,-999.000,9,  -999.0,9,  -999.0,9,  -9.0000,9,-999.0000,9, -999.00,9, -999.00,9,  -999.0,9,  -999.0,-999.000,9,-999.000,-999.000,9,  -9.0000,-999.0000,   0.9745,   -9.00
  316N145_7,       I08N,     325,          1,          2,          2,2,19950319,       2314,    -9.5000,    79.9997,       5325,  5184.0,   1.4236,  34.7166,2,  34.7160,2,    184.0,2,   184.3,2,  133.05,2,   33.43,2,    0.00,2,    2.32,2,   0.015,3,   0.004,2,  -999.0,9,  -999.0,9,  -9.0000,9,-999.0000,9, -999.00,9, -999.00,9,  -999.0,9,  -999.0,-999.000,9,-999.000,  -0.009,2,  -9.0000,-999.0000,   0.9693,   -9.00
  316N145_7,       I08N,     325,          1,          1,          1,2,19950319,       2314,    -9.5000,    79.9997,       5325,  5443.7,   1.4517,  34.7166,2,  34.7158,2,    185.1,2,   184.6,2,  132.14,2,   33.33,2,    0.00,2,    2.32,2,   0.074,3,   0.008,2,  -999.0,9,  -999.0,9,  -9.0000,9,-999.0000,9, -999.00,9, -999.00,9,  -999.0,9,  -999.0,-999.000,9,-999.000,  -0.023,2,  -9.0000,-999.0000,   0.9639,   -9.00