BOTTLE,20211124CCHSIORKP
EXPOCODE,SECT_ID,STNNBR,CASTNO,SAMPNO,BTLNBR,BTLNBR_FLAG_W,DATE,TIME,LATITUDE,LONGITUDE,DEPTH,CTDPRS,CTDTMP,CTDSAL,CTDSAL_FLAG_W,SALNTY,SALNTY_FLAG_W,CTDOXY,CTDOXY_FLAG_W,OXYGEN,OXYGEN_FLAG_W,SILCAT,SILCAT_FLAG_W,NITRAT,NITRAT_FLAG_W,NITRIT,NITRIT_FLAG_W,PHSPHT,PHSPHT_FLAG_W,CFC-11,CFC-11_FLAG_W,CFC-12,CFC-12_FLAG_W,TCARBN,TCARBN_FLAG_W,ALKALI,ALKALI_FLAG_W,TRITUM,TRITUM_FLAG_W,HELIUM,HELIUM_FLAG_W,DELHE3,DELHE3_FLAG_W,DELC13,DELC13_FLAG_W,DELC14,DELC14_FLAG_W,C14ERR,NEON,NEON_FLAG_W,NEONER,CCL4,CCL4_FLAG_W,TRITER,HELIER,THETA,DELHER
,,,,,,,,,,,METERS,DBAR,ITS-90,PSS-78,,PSS-78,,UMOL/KG,,UMOL/KG,,UMOL/KG,,UMOL/KG,,UMOL/KG,,UMOL/KG,,PMOL/KG,,PMOL/KG,,UMOL/KG,,UMOL/KG,,TU,,NMOL/KG,,PERCNT,,/MILLE,,/MILLE,,/MILLE,NMOL/KG,,NMOL/KG,PMOL/KG,,TU,NMOL/KG,DEG C,PERCNT
  316N145_7,       I05E,     397,          1,         26,         26,2,19950404,       0753,   -31.3677,    88.8623,       3024,     3.2,  22.4661,  36.2434,2,  36.2427,2,    215.5,7,   217.9,2,    2.94,2,    0.15,2,    0.00,2,    0.11,2,   2.075,2,   1.174,2,  2055.0,2,  2378.7,2,  -9.0000,9,-999.0000,9, -999.00,9, -999.00,9,  -999.0,9,  -999.0,-999.000,9,-999.000,   2.550,2,  -9.0000,-999.0000,  22.4654,   -9.00
  316N145_7,       I05E,     397,          1,         25,         25,2,19950404,       0753,   -31.3677,    88.8623,       3024,    40.5,  22.4102,  36.2420,2,  36.2413,2,    211.5,7,   218.2,2,    2.90,2,    0.14,2,    0.00,2,    0.11,2,   2.075,2,   1.181,2,  -999.0,9,  -999.0,9,  -9.0000,9,-999.0000,9, -999.00,9, -999.00,9,  -999.0,9,  -999.0,-999.000,9,-999.000,   2.435,2,  -9.0000,-999.0000,  22.4021,   -9.00
  316N145_7,       I05E,     397,          1,         24,         24,2,19950404,       0753,   -31.3677,    88.8623,       3024,    75.6,  22.0615,  36.2005,2,  36.1835,2,    223.1,7,   222.5,2,    2.87,2,    0.14,2,    0.00,2,    0.11,2,   2.162,2,   1.213,2,  -999.0,9,  -999.0,9,  -9.0000,9,-999.0000,9, -999.00,9, -999.00,9,  -999.0,9,  -999.0,-999.000,9,-999.000,   2.381,2,  -9.0000,-999.0000,  22.0465,   -9.00
  316N145_7,       I05E,     397,          1,         23,         23,2,19950404,       0753,   -31.3677,    88.8623,       3024,   105.8,  19.3767,  35.9936,2,  35.9931,2,    239.8,2,   237.7,2,    2.84,2,    0.14,2,    0.00,2,    0.12,2,   2.436,2,   1.367,2,  -999.0,9,  -999.0,9,  -9.0000,9,-999.0000,9, -999.00,9, -999.00,9,  -999.0,9,  -999.0,-999.000,9,-999.000,   2.328,2,  -9.0000,-999.0000,  19.3574,   -9.00
  316N145_7,       I05E,     397,          1,         22,         22,2,19950404,       0753,   -31.3677,    88.8623,       3024,   145.7,  18.8619,  35.9920,2,  35.9901,2,    235.1,2,   231.1,2,    2.81,2,    0.14,2,    0.01,2,    0.13,2,   2.419,2,   1.352,2,  -999.0,9,  -999.0,9,  -9.0000,9,-999.0000,9, -999.00,9, -999.00,9,  -999.0,9,  -999.0,-999.000,9,-999.000,   2.178,2,  -9.0000,-999.0000,  18.8359,   -9.00
  316N145_7,       I05E,     397,          1,         21,         21,2,19950404,       0753,   -31.3677,    88.8623,       3024,   195.6,  17.5564,  35.8377,2,  35.8381,2,    225.8,2,   223.2,2,    2.56,2,    0.25,2,    0.19,2,    0.21,2,   2.535,2,   1.411,2,  -999.0,9,  -999.0,9,  -9.0000,9,-999.0000,9, -999.00,9, -999.00,9,  -999.0,9,  -999.0,-999.000,9,-999.000,   1.631,2,  -9.0000,-999.0000,  17.5233,   -9.00
  316N145_7,       I05E,     397,          1,         20,         20,2,19950404,       0753,   -31.3677,    88.8623,       3024,   245.8,  16.1692,  35.6802,2,  35.6763,2,    226.9,2,   223.8,2,    2.53,2,    1.39,2,    0.04,2,    0.31,2,   2.735,2,   1.467,2,  -999.0,9,  -999.0,9,  -9.0000,9,-999.0000,9, -999.00,9, -999.00,9,  -999.0,9,  -999.0,-999.000,9,-999.000,   1.374,2,  -9.0000,-999.0000,  16.1298,   -9.00
  316N145_7,       I05E,     397,          1,         19,         19,2,19950404,       0753,   -31.3677,    88.8623,       3024,   306.2,  14.3628,  35.4643,2,  35.4626,2,    221.5,2,   219.6,2,    3.35,2,    5.52,2,    0.01,2,    0.52,2,   2.791,2,   1.489,2,  -999.0,9,  -999.0,9,  -9.0000,9,-999.0000,9, -999.00,9, -999.00,9,  -999.0,9,  -999.0,-999.000,9,-999.000,   0.746,2,  -9.0000,-999.0000,  14.3175,   -9.00
  316N145_7,       I05E,     397,          1,         18,         18,2,19950404,       0753,   -31.3677,    88.8623,       3024,   376.5,  11.4789,  35.0393,2,  35.0276,2,    227.7,2,   227.9,2,    4.81,2,   11.07,2,    0.00,2,    0.85,2,   2.883,2,   1.489,2,  -999.0,9,  -999.0,9,  -9.0000,9,-999.0000,9, -999.00,9, -999.00,9,  -999.0,9,  -999.0,-999.000,9,-999.000,   1.246,2,  -9.0000,-999.0000,  11.4308,   -9.00
  316N145_7,       I05E,     397,          1,         17,         17,2,19950404,       0753,   -31.3677,    88.8623,       3024,   456.6,   9.3441,  34.7169,2,  34.7154,2,    224.3,2,   227.6,2,    6.90,2,   16.82,2,    0.00,2,    1.20,2,   2.577,2,   1.316,2,  -999.0,9,  -999.0,9,  -9.0000,9,-999.0000,9, -999.00,9, -999.00,9,  -999.0,9,  -999.0,-999.000,9,-999.000,   1.610,2,  -9.0000,-999.0000,   9.2928,   -9.00
  316N145_7,       I05E,     397,          1,         16,         16,2,19950404,       0753,   -31.3677,    88.8623,       3024,   556.7,   8.1518,  34.5752,2,  34.5747,2,    209.3,2,   212.0,2,   11.98,2,   21.58,2,    0.00,2,    1.49,2,   1.728,2,   0.885,2,  -999.0,9,  -999.0,9,  -9.0000,9,-999.0000,9, -999.00,9, -999.00,9,  -999.0,9,  -999.0,-999.000,9,-999.000,   1.415,2,  -9.0000,-999.0000,   8.0939,   -9.00
  316N145_7,       I05E,     397,          1,         15,         15,2,19950404,       0753,   -31.3677,    88.8623,       3024,   656.4,   6.8686,  34.4860,2,  34.4865,2,    192.1,2,   193.9,2,   21.10,2,   26.11,2,    0.00,2,    1.80,2,-999.000,9,-999.000,9,  -999.0,9,  -999.0,9,  -9.0000,9,-999.0000,9, -999.00,9, -999.00,9,  -999.0,9,  -999.0,-999.000,9,-999.000,-999.000,9,  -9.0000,-999.0000,   6.8063,   -9.00
  316N145_7,       I05E,     397,          1,         14,         14,2,19950404,       0753,   -31.3677,    88.8623,       3024,   758.3,   5.6579,  34.4328,2,  34.4323,2,    185.0,2,   185.9,2,   31.70,2,   29.41,2,    0.00,2,    2.03,2,   0.557,6,   0.277,6,  -999.0,9,  -999.0,9,  -9.0000,9,-999.0000,9, -999.00,9, -999.00,9,  -999.0,9,  -999.0,-999.000,9,-999.000,   1.006,6,  -9.0000,-999.0000,   5.5923,   -9.00
  316N145_7,       I05E,     397,          1,         13,         13,2,19950404,       0753,   -31.3677,    88.8623,       3024,   858.6,   4.8757,  34.4340,2,  34.4354,2,    171.3,2,   172.5,2,   45.07,2,   31.87,2,    0.00,2,    2.22,2,-999.000,9,-999.000,9,  -999.0,9,  -999.0,9,  -9.0000,9,-999.0000,9, -999.00,9, -999.00,9,  -999.0,9,  -999.0,-999.000,9,-999.000,-999.000,9,  -9.0000,-999.0000,   4.8060,   -9.00
  316N145_7,       I05E,     397,          1,         12,         12,2,19950404,       0753,   -31.3677,    88.8623,       3024,  1010.8,   4.3235,  34.4877,2,  34.4896,2,    153.9,2,   151.2,2,   62.92,2,   34.08,2,    0.00,2,    2.41,2,   0.280,3,   0.063,2,  -999.0,9,  -999.0,9,  -9.0000,9,-999.0000,9, -999.00,9, -999.00,9,  -999.0,9,  -999.0,-999.000,9,-999.000,   0.409,2,  -9.0000,-999.0000,   4.2445,   -9.00
  316N145_7,       I05E,     397,          1,         11,         11,2,19950404,       0753,   -31.3677,    88.8623,       3024,  1161.7,   3.7912,  34.5435,2,  34.5416,2,    143.1,2,   142.5,2,   75.88,2,   34.98,2,    0.00,2,    2.49,2,-999.000,9,-999.000,9,  -999.0,9,  -999.0,9,  -9.0000,9,-999.0000,9, -999.00,9, -999.00,9,  -999.0,9,  -999.0,-999.000,9,-999.000,-999.000,9,  -9.0000,-999.0000,   3.7037,   -9.00
  316N145_7,       I05E,     397,          1,         10,         10,2,19950404,       0753,   -31.3677,    88.8623,       3024,  1314.0,   3.3150,  34.5774,2,  34.5773,2,    145.4,2,   146.2,2,   81.61,2,   35.04,2,    0.00,2,    2.48,2,   0.100,3,   0.008,6,  -999.0,9,  -999.0,9,  -9.0000,9,-999.0000,9, -999.00,9, -999.00,9,  -999.0,9,  -999.0,-999.000,9,-999.000,   0.115,6,  -9.0000,-999.0000,   3.2193,   -9.00
  316N145_7,       I05E,     397,          1,          9,          9,2,19950404,       0753,   -31.3677,    88.8623,       3024,  1465.6,   2.9750,  34.5898,2,  34.5897,2,    154.5,2,   156.6,2,   80.29,2,   34.54,2,    0.00,2,    2.43,2,-999.000,9,-999.000,9,  -999.0,9,  -999.0,9,  -9.0000,9,-999.0000,9, -999.00,9, -999.00,9,  -999.0,9,  -999.0,-999.000,9,-999.000,-999.000,9,  -9.0000,-999.0000,   2.8703,   -9.00
  316N145_7,       I05E,     397,          1,          8,          8,2,19950404,       0753,   -31.3677,    88.8623,       3024,  1617.9,   2.8068,  34.6450,2,  34.6446,2,    154.5,2,   154.8,2,   89.22,2,   34.29,2,    0.00,2,    2.42,2,  -0.012,3,   0.007,2,  -999.0,9,  -999.0,9,  -9.0000,9,-999.0000,9, -999.00,9, -999.00,9,  -999.0,9,  -999.0,-999.000,9,-999.000,   0.018,2,  -9.0000,-999.0000,   2.6912,   -9.00
  316N145_7,       I05E,     397,          1,          7,          7,2,19950404,       0753,   -31.3677,    88.8623,       3024,  1819.9,   2.5148,  34.6816,2,  34.6816,2,    167.5,2,   167.9,2,   87.68,2,   32.99,2,    0.00,2,    2.31,2,-999.000,9,-999.000,9,  -999.0,9,  -999.0,9,  -9.0000,9,-999.0000,9, -999.00,9, -999.00,9,  -999.0,9,  -999.0,-999.000,9,-999.000,-999.000,9,  -9.0000,-999.0000,   2.3859,   -9.00
  316N145_7,       I05E,     397,          1,          6,          6,2,19950404,       0753,   -31.3677,    88.8623,       3024,  2022.3,   2.2908,  34.7141,2,  34.7136,2,    176.6,2,   175.8,2,   91.71,2,   32.29,2,    0.00,2,    2.25,2,   0.039,3,   0.003,2,  -999.0,9,  -999.0,9,  -9.0000,9,-999.0000,9, -999.00,9, -999.00,9,  -999.0,9,  -999.0,-999.000,9,-999.000,   0.033,2,  -9.0000,-999.0000,   2.1478,   -9.00
  316N145_7,       I05E,     397,          1,          5,          5,2,19950404,       0753,   -31.3677,    88.8623,       3024,  2224.3,   2.1180,  34.7367,2,  34.7364,2,    188.1,2,   188.2,2,   88.24,2,   30.99,2,    0.00,2,    2.15,2,-999.000,9,-999.000,9,  -999.0,9,  -999.0,9,  -9.0000,9,-999.0000,9, -999.00,9, -999.00,9,  -999.0,9,  -999.0,-999.000,9,-999.000,-999.000,9,  -9.0000,-999.0000,   1.9600,   -9.00
  316N145_7,       I05E,     397,          1,          4,          4,2,19950404,       0753,   -31.3677,    88.8623,       3024,  2425.9,   1.9684,  34.7433,2,  34.7430,2,    192.2,2,   191.9,2,   91.84,2,   30.79,2,    0.00,2,    2.14,2,   0.128,3,   0.004,2,  -999.0,9,  -999.0,9,  -9.0000,9,-999.0000,9, -999.00,9, -999.00,9,  -999.0,9,  -999.0,-999.000,9,-999.000,   0.024,2,  -9.0000,-999.0000,   1.7950,   -9.00
  316N145_7,       I05E,     397,          1,          3,          3,2,19950404,       0753,   -31.3677,    88.8623,       3024,  2628.2,   1.7674,  34.7398,2,  34.7395,2,    194.3,2,   193.3,2,   99.52,2,   31.19,2,    0.00,2,    2.16,2,-999.000,9,-999.000,9,  -999.0,9,  -999.0,9,  -9.0000,9,-999.0000,9, -999.00,9, -999.00,9,  -999.0,9,  -999.0,-999.000,9,-999.000,-999.000,9,  -9.0000,-999.0000,   1.5794,   -9.00
  316N145_7,       I05E,     397,          1,          2,          2,2,19950404,       0753,   -31.3677,    88.8623,       3024,  2841.1,   1.6635,  34.7353,2,  34.7343,2,    192.8,2,   192.1,2,  105.07,2,   31.60,2,    0.00,2,    2.19,2,   0.028,3,   0.002,2,  -999.0,9,  -999.0,9,  -9.0000,9,-999.0000,9, -999.00,9, -999.00,9,  -999.0,9,  -999.0,-999.000,9,-999.000,   0.010,2,  -9.0000,-999.0000,   1.4579,   -9.00
  316N145_7,       I05E,     397,          1,          1,          1,2,19950404,       0753,   -31.3677,    88.8623,       3024,  3054.3,   1.4687,  34.7329,2,  34.7327,2,    197.1,2,   198.2,2,  107.83,2,   31.35,2,    0.00,2,    2.18,2,  -0.021,3,   0.004,2,  -999.0,9,  -999.0,9,  -9.0000,9,-999.0000,9, -999.00,9, -999.00,9,  -999.0,9,  -999.0,-999.000,9,-999.000,   0.000,2,  -9.0000,-999.0000,   1.2471,   -9.00