BOTTLE,20211124CCHSIORKP
EXPOCODE,SECT_ID,STNNBR,CASTNO,SAMPNO,BTLNBR,BTLNBR_FLAG_W,DATE,TIME,LATITUDE,LONGITUDE,DEPTH,CTDPRS,CTDTMP,CTDSAL,CTDSAL_FLAG_W,SALNTY,SALNTY_FLAG_W,CTDOXY,CTDOXY_FLAG_W,OXYGEN,OXYGEN_FLAG_W,SILCAT,SILCAT_FLAG_W,NITRAT,NITRAT_FLAG_W,NITRIT,NITRIT_FLAG_W,PHSPHT,PHSPHT_FLAG_W,CFC-11,CFC-11_FLAG_W,CFC-12,CFC-12_FLAG_W,TCARBN,TCARBN_FLAG_W,ALKALI,ALKALI_FLAG_W,TRITUM,TRITUM_FLAG_W,HELIUM,HELIUM_FLAG_W,DELHE3,DELHE3_FLAG_W,DELC13,DELC13_FLAG_W,DELC14,DELC14_FLAG_W,C14ERR,NEON,NEON_FLAG_W,NEONER,CCL4,CCL4_FLAG_W,TRITER,HELIER,THETA,DELHER
,,,,,,,,,,,METERS,DBAR,ITS-90,PSS-78,,PSS-78,,UMOL/KG,,UMOL/KG,,UMOL/KG,,UMOL/KG,,UMOL/KG,,UMOL/KG,,PMOL/KG,,PMOL/KG,,UMOL/KG,,UMOL/KG,,TU,,NMOL/KG,,PERCNT,,/MILLE,,/MILLE,,/MILLE,NMOL/KG,,NMOL/KG,PMOL/KG,,TU,NMOL/KG,DEG C,PERCNT
  316N145_7,       I05E,     404,          1,         36,         36,2,19950406,       0006,   -33.4178,    93.6138,       4262,     3.6,  20.1810,  35.6554,2,  35.6538,2,    227.5,2,   228.4,2,    2.03,2,    0.16,2,    0.00,2,    0.16,2,   2.319,2,   1.287,2,  2051.6,2,  2339.7,2,   0.9028,2,   1.7171,2,   -1.15,2, -999.00,9,  -999.0,9,  -999.0,   6.946,2,   0.035,-999.000,9,   0.0037,   0.0086,  20.1804,    0.14
  316N145_7,       I05E,     404,          1,         35,         35,2,19950406,       0006,   -33.4178,    93.6138,       4262,    32.3,  20.1779,  35.6539,2,  35.6526,2,    238.7,2,   228.0,2,    2.02,2,    0.16,2,    0.00,2,    0.16,2,-999.000,9,-999.000,9,  2047.3,2,  2336.3,2,   0.9085,2,   1.7249,2,   -1.02,2, -999.00,9,  -999.0,9,  -999.0,   6.964,2,   0.035,-999.000,9,   0.0037,   0.0086,  20.1719,    0.14
  316N145_7,       I05E,     404,          1,         34,         34,2,19950406,       0006,   -33.4178,    93.6138,       4262,    69.3,  16.6586,  35.6757,2,  35.7073,2,    254.7,2,   250.7,2,    2.43,2,    0.16,2,    0.00,2,    0.18,2,   2.725,2,   1.501,2,  2057.6,2,  2338.5,2,  -9.0000,9,-999.0000,9, -999.00,9, -999.00,9,  -999.0,9,  -999.0,-999.000,9,-999.000,-999.000,9,  -9.0000,-999.0000,  16.6474,   -9.00
  316N145_7,       I05E,     404,          1,         33,         33,2,19950406,       0006,   -33.4178,    93.6138,       4262,    97.6,  14.6902,  35.4889,2,  35.4983,2,    249.9,2,   245.5,2,    2.42,2,    1.17,2,    0.12,2,    0.31,2,-999.000,9,-999.000,9,  2074.9,2,  2330.2,2,   0.9014,2,   1.7441,2,   -0.88,2, -999.00,9,  -999.0,9,  -999.0,   7.232,2,   0.036,-999.000,9,   0.0038,   0.0087,  14.6757,    0.14
  316N145_7,       I05E,     404,          1,         32,         32,2,19950406,       0006,   -33.4178,    93.6138,       4262,   138.9,  13.8992,  35.4063,2,  35.4169,2,    236.2,2,   237.0,2,    2.62,2,    4.34,2,    0.05,2,    0.46,2,   2.999,2,   1.599,2,  2088.0,2,  2321.9,2,   0.8620,2,   1.7486,2,   -0.90,2, -999.00,9,  -999.0,9,  -999.0,   7.267,2,   0.036,-999.000,9,   0.0036,   0.0087,  13.8792,    0.14
  316N145_7,       I05E,     404,          1,         31,         31,2,19950406,       0006,   -33.4178,    93.6138,       4262,   188.7,  12.8764,  35.2575,2,  35.2626,2,    233.1,2,   236.0,2,    3.03,2,    6.70,2,    0.01,2,    0.59,2,   3.128,2,   1.642,2,  2092.8,2,  2315.7,2,   0.7593,2,   1.7510,2,   -0.81,2, -999.00,9,  -999.0,9,  -999.0,   7.312,2,   0.037,-999.000,9,   0.0034,   0.0088,  12.8505,    0.14
  316N145_7,       I05E,     404,          1,         30,         30,2,19950406,       0006,   -33.4178,    93.6138,       4262,   239.6,  12.2022,  35.1477,2,  35.1497,2,    235.2,2,   239.3,2,    3.45,2,    8.19,2,    0.01,2,    0.68,2,   3.166,2,   1.686,2,  2111.3,2,  2310.3,2,   0.7260,2,-999.0000,9, -999.00,9, -999.00,9,  -999.0,9,  -999.0,-999.000,9,-999.000,-999.000,9,   0.0033,-999.0000,  12.1705,   -9.00
  316N145_7,       I05E,     404,          1,         29,         29,2,19950406,       0006,   -33.4178,    93.6138,       4262,   288.6,  11.6622,  35.0595,2,  35.0601,2,    238.0,2,   241.7,2,    3.86,2,    9.37,2,    0.00,2,    0.76,2,   3.233,2,   1.695,2,  2099.9,2,  2307.9,2,   0.6811,2,   1.7618,2,   -0.66,2, -999.00,9,  -999.0,9,  -999.0,   7.391,2,   0.037,-999.000,9,   0.0032,   0.0088,  11.6251,    0.14
  316N145_7,       I05E,     404,          1,         28,         28,2,19950406,       0006,   -33.4178,    93.6138,       4262,   359.2,  11.0634,  34.9625,2,  34.9619,2,    244.2,2,   246.0,2,    4.06,2,   10.61,2,    0.00,2,    0.83,2,   3.334,2,   1.731,2,  2101.0,2,  2301.1,2,   0.6502,2,   1.7699,2,   -0.77,2, -999.00,9,  -999.0,9,  -999.0,   7.430,2,   0.037,-999.000,9,   0.0032,   0.0088,  11.0187,    0.14
  316N145_7,       I05E,     404,          1,         27,         27,2,19950406,       0006,   -33.4178,    93.6138,       4262,   438.5,  10.4570,  34.8646,2,  34.8651,2,    247.6,2,   244.5,2,    4.47,2,   12.24,2,    0.00,2,    0.93,2,   3.241,2,   1.671,2,  2105.4,2,  2293.0,2,   0.5847,2,   1.7740,2,   -0.54,2, -999.00,9,  -999.0,9,  -999.0,   7.461,2,   0.037,-999.000,9,   0.0030,   0.0089,  10.4042,    0.14
  316N145_7,       I05E,     404,          1,         26,         26,2,19950406,       0006,   -33.4178,    93.6138,       4262,   537.2,   9.6901,  34.7404,2,  34.7425,2,    245.9,2,   241.3,2,    5.31,2,   14.81,2,    0.00,2,    1.09,2,   3.050,2,   1.569,2,  2113.4,2,  2291.8,2,  -9.0000,9,-999.0000,9, -999.00,9, -999.00,9,  -999.0,9,  -999.0,-999.000,9,-999.000,-999.000,9,  -9.0000,-999.0000,   9.6280,   -9.00
  316N145_7,       I05E,     404,          1,         25,         25,9,19950406,       0006,   -33.4178,    93.6138,       4262,   638.0,   9.1260,  34.6604,2,-999.0000,9,    239.4,2,  -999.0,9, -999.00,9, -999.00,9, -999.00,9, -999.00,9,-999.000,9,-999.000,9,  -999.0,9,  -999.0,9,  -9.0000,9,-999.0000,9, -999.00,9, -999.00,9,  -999.0,9,  -999.0,-999.000,9,-999.000,-999.000,9,  -9.0000,-999.0000,   9.0546,   -9.00
  316N145_7,       I05E,     404,          1,         24,         24,2,19950406,       0006,   -33.4178,    93.6138,       4262,   739.0,   8.1449,  34.5570,2,  34.5584,2,    220.2,2,   214.8,2,   11.06,2,   21.34,2,    0.00,2,    1.49,2,   1.837,2,   0.917,2,  2142.6,2,  2286.8,2,   0.2957,2,   1.7887,2,    1.19,2, -999.00,9,  -999.0,9,  -999.0,   7.603,2,   0.038,   1.557,6,   0.0026,   0.0089,   8.0672,    0.14
  316N145_7,       I05E,     404,          1,         23,         23,2,19950406,       0006,   -33.4178,    93.6138,       4262,   838.8,   6.8977,  34.4741,2,  34.4771,2,    198.8,2,   198.7,2,   19.15,2,   25.56,2,    0.00,2,    1.77,2,-999.000,9,-999.000,9,  2164.7,2,  2289.9,2,   0.1639,2,   1.7923,2,    2.40,2, -999.00,9,  -999.0,9,  -999.0,   7.694,2,   0.038,-999.000,9,   0.0024,   0.0090,   6.8169,    0.14
  316N145_7,       I05E,     404,          1,         22,         22,2,19950406,       0006,   -33.4178,    93.6138,       4262,   938.0,   5.5865,  34.4169,2,  34.4202,2,    192.3,2,   190.3,2,   30.02,2,   29.00,2,    0.00,2,    2.01,2,   0.616,2,   0.313,2,  2184.8,2,  2293.8,2,  -9.0000,9,-999.0000,9, -999.00,9, -999.00,9,  -999.0,9,  -999.0,-999.000,9,-999.000,-999.000,9,  -9.0000,-999.0000,   5.5048,   -9.00
  316N145_7,       I05E,     404,          1,         21,         21,2,19950406,       0006,   -33.4178,    93.6138,       4262,  1039.3,   4.5561,  34.3997,2,  34.4003,2,    185.2,2,   185.3,2,   41.52,2,   31.35,2,    0.00,2,    2.19,2,   0.413,2,   0.206,2,  2205.1,2,  2305.2,2,   0.0556,2,-999.0000,9, -999.00,9, -999.00,9,  -999.0,9,  -999.0,-999.000,9,-999.000,-999.000,9,   0.0023,-999.0000,   4.4729,   -9.00
  316N145_7,       I05E,     404,          1,         20,         20,2,19950406,       0006,   -33.4178,    93.6138,       4262,  1160.6,   4.0091,  34.4345,2,  34.4351,2,    171.3,2,   173.2,2,   54.29,2,   33.05,2,    0.00,2,    2.33,2,-999.000,9,-999.000,9,  2225.7,2,  2359.4,3,  -9.0000,9,-999.0000,9, -999.00,9, -999.00,9,  -999.0,9,  -999.0,-999.000,9,-999.000,-999.000,9,  -9.0000,-999.0000,   3.9200,   -9.00
  316N145_7,       I05E,     404,          1,         19,         19,2,19950406,       0006,   -33.4178,    93.6138,       4262,  1311.4,   3.6169,  34.5024,2,  34.5032,2,    158.2,2,   157.4,2,   68.78,2,   34.31,2,    0.00,2,    2.43,2,-999.000,9,-999.000,9,  2246.3,2,  2331.7,2,   0.0103,2,   1.8439,2,    8.79,2, -999.00,9,  -999.0,9,  -999.0,   7.925,2,   0.040,-999.000,9,   0.0022,   0.0092,   3.5185,    0.14
  316N145_7,       I05E,     404,          1,         18,         18,2,19950406,       0006,   -33.4178,    93.6138,       4262,  1462.9,   3.3315,  34.5480,2,  34.5496,2,    154.4,2,   152.9,2,   76.45,2,   34.66,2,    0.00,2,    2.46,2,   0.029,6,   0.013,6,  -999.0,5,  2337.7,2,   0.0065,2,   1.8598,2,    9.75,2, -999.00,9,  -999.0,9,  -999.0,   7.953,2,   0.040,-999.000,9,   0.0022,   0.0093,   3.2231,    0.14
  316N145_7,       I05E,     404,          1,         17,         17,2,19950406,       0006,   -33.4178,    93.6138,       4262,  1714.7,   2.8730,  34.6169,2,  34.6162,2,    156.5,2,   157.2,2,   84.12,2,   34.21,2,    0.00,2,    2.42,2,-999.000,9,-999.000,9,  2262.2,2,  2347.5,2,   0.0024,2,   1.8755,2,   10.70,2, -999.00,9,  -999.0,9,  -999.0,   8.046,2,   0.040,-999.000,9,   0.0022,   0.0094,   2.7485,    0.14
  316N145_7,       I05E,     404,          1,         16,         16,2,19950406,       0006,   -33.4178,    93.6138,       4262,  1869.7,   2.6556,  34.6571,2,  34.6575,2,    162.6,2,   163.3,2,   86.87,2,   33.52,2,    0.00,2,    2.36,2,   0.011,2,   0.000,2,  2266.7,2,  2357.3,2,  -9.0000,9,-999.0000,9, -999.00,9, -999.00,9,  -999.0,9,  -999.0,-999.000,9,-999.000,-999.000,9,  -9.0000,-999.0000,   2.5206,   -9.00
  316N145_7,       I05E,     404,          1,         15,         15,2,19950406,       0006,   -33.4178,    93.6138,       4262,  2023.2,   2.5016,  34.6856,2,  34.6858,2,    169.2,2,   169.6,2,   88.55,2,   32.92,2,    0.00,2,    2.31,2,-999.000,9,-999.000,9,  2265.5,2,  2356.0,2,   0.0020,2,   1.8274,2,   11.58,2, -999.00,9,  -999.0,9,  -999.0,   7.859,2,   0.039,-999.000,9,   0.0022,   0.0091,   2.3554,    0.14
  316N145_7,       I05E,     404,          1,         14,         14,2,19950406,       0006,   -33.4178,    93.6138,       4262,  2173.4,   2.3342,  34.7137,2,  34.7147,2,    178.1,2,   179.0,2,   87.01,2,   31.82,2,    0.00,2,    2.22,2,   0.005,2,   0.000,2,  2258.8,2,  2353.5,2,  -9.0000,9,-999.0000,9, -999.00,9, -999.00,9,  -999.0,9,  -999.0,-999.000,9,-999.000,-999.000,9,  -9.0000,-999.0000,   2.1772,   -9.00
  316N145_7,       I05E,     404,          1,         13,         13,2,19950406,       0006,   -33.4178,    93.6138,       4262,  2325.4,   2.1969,  34.7325,2,  34.7330,2,    185.8,2,   185.9,2,   87.62,2,   31.13,2,    0.00,2,    2.17,2,-999.000,9,-999.000,9,  2257.5,2,  2352.9,2,  -9.0000,9,-999.0000,9, -999.00,9, -999.00,9,  -999.0,9,  -999.0,-999.000,9,-999.000,-999.000,9,  -9.0000,-999.0000,   2.0286,   -9.00
  316N145_7,       I05E,     404,          1,         12,         12,2,19950406,       0006,   -33.4178,    93.6138,       4262,  2478.2,   2.0764,  34.7406,2,  34.7420,2,    190.9,2,   189.9,2,   89.73,2,   30.73,2,    0.00,2,    2.14,2,   0.003,2,  -0.002,2,  2250.6,2,  2348.2,2,  -9.0000,9,-999.0000,9, -999.00,9, -999.00,9,  -999.0,9,  -999.0,-999.000,9,-999.000,-999.000,9,  -9.0000,-999.0000,   1.8963,   -9.00
  316N145_7,       I05E,     404,          1,         11,         11,2,19950406,       0006,   -33.4178,    93.6138,       4262,  2628.4,   1.9225,  34.7445,2,  34.7452,2,    192.0,2,   193.6,2,   92.91,2,   30.74,2,    0.00,2,    2.12,2,-999.000,9,-999.000,9,  2248.6,2,  2355.6,2,  -9.0000,9,-999.0000,9, -999.00,9, -999.00,9,  -999.0,9,  -999.0,-999.000,9,-999.000,-999.000,9,  -9.0000,-999.0000,   1.7315,   -9.00
  316N145_7,       I05E,     404,          1,         10,         10,2,19950406,       0006,   -33.4178,    93.6138,       4262,  2779.8,   1.7722,  34.7434,2,  34.7438,2,    194.8,2,   196.5,2,   96.96,2,   30.79,2,    0.00,2,    2.14,2,  -0.001,2,  -0.002,2,  2250.8,2,  2355.0,2,  -9.0000,9,-999.0000,9, -999.00,9, -999.00,9,  -999.0,9,  -999.0,-999.000,9,-999.000,-999.000,9,  -9.0000,-999.0000,   1.5701,   -9.00
  316N145_7,       I05E,     404,          1,          9,          9,2,19950406,       0006,   -33.4178,    93.6138,       4262,  2933.8,   1.6087,  34.7390,2,  34.7403,2,    196.8,2,   197.7,2,  102.30,2,   31.05,2,    0.00,2,    2.15,2,-999.000,9,-999.000,9,  2253.8,2,  2360.1,2,  -9.0000,9,-999.0000,9, -999.00,9, -999.00,9,  -999.0,9,  -999.0,-999.000,9,-999.000,-999.000,9,  -9.0000,-999.0000,   1.3956,   -9.00
  316N145_7,       I05E,     404,          1,          8,          8,2,19950406,       0006,   -33.4178,    93.6138,       4262,  3086.5,   1.4812,  34.7351,2,  34.7360,2,    199.7,2,   199.9,2,  105.71,2,   31.15,2,    0.00,2,    2.16,2,   0.000,2,   0.002,2,  2255.1,2,  2357.5,2,  -9.0000,9,-999.0000,9, -999.00,9, -999.00,9,  -999.0,9,  -999.0,-999.000,9,-999.000,-999.000,9,  -9.0000,-999.0000,   1.2563,   -9.00
  316N145_7,       I05E,     404,          1,          7,          7,2,19950406,       0006,   -33.4178,    93.6138,       4262,  3241.4,   1.3815,  34.7308,2,  34.7318,2,    201.0,2,   200.8,2,  108.91,2,   31.36,2,    0.00,2,    2.17,2,   0.001,2,  -0.001,2,  2259.6,2,  2364.7,2,  -9.0000,9,-999.0000,9, -999.00,9, -999.00,9,  -999.0,9,  -999.0,-999.000,9,-999.000,-999.000,9,  -9.0000,-999.0000,   1.1438,   -9.00
  316N145_7,       I05E,     404,          1,          6,          6,2,19950406,       0006,   -33.4178,    93.6138,       4262,  3392.6,   1.3016,  34.7276,2,  34.7283,2,    201.4,2,   201.6,2,  111.46,2,   31.51,2,    0.00,2,    2.18,2,-999.000,9,-999.000,9,  2261.4,2,  2372.7,3,  -9.0000,9,-999.0000,9, -999.00,9, -999.00,9,  -999.0,9,  -999.0,-999.000,9,-999.000,-999.000,9,  -9.0000,-999.0000,   1.0510,   -9.00
  316N145_7,       I05E,     404,          1,          5,          5,2,19950406,       0006,   -33.4178,    93.6138,       4262,  3547.8,   1.2251,  34.7239,2,  34.7242,2,    202.7,2,   203.0,2,  114.02,2,   31.72,2,    0.00,2,    2.19,2,  -0.001,2,   0.000,2,  2264.5,2,  2370.7,2,  -9.0000,9,-999.0000,9, -999.00,9, -999.00,9,  -999.0,9,  -999.0,-999.000,9,-999.000,-999.000,9,  -9.0000,-999.0000,   0.9609,   -9.00
  316N145_7,       I05E,     404,          1,          4,          4,2,19950406,       0006,   -33.4178,    93.6138,       4262,  3751.4,   1.1521,  34.7202,2,  34.7209,2,    202.4,2,   203.8,2,  116.15,2,   31.87,2,    0.00,2,    2.20,2,-999.000,9,-999.000,9,  2265.6,2,  2378.9,3,  -9.0000,9,-999.0000,9, -999.00,9, -999.00,9,  -999.0,9,  -999.0,-999.000,9,-999.000,-999.000,9,  -9.0000,-999.0000,   0.8689,   -9.00
  316N145_7,       I05E,     404,          1,          3,          3,2,19950406,       0006,   -33.4178,    93.6138,       4262,  3954.4,   1.1015,  34.7168,2,  34.7171,2,    205.1,2,   205.0,2,  118.06,2,   32.03,2,    0.00,2,    2.21,2,   0.002,2,   0.002,2,  2267.3,2,  2376.1,2,  -9.0000,9,-999.0000,9, -999.00,9, -999.00,9,  -999.0,9,  -999.0,-999.000,9,-999.000,-999.000,9,  -9.0000,-999.0000,   0.7985,   -9.00
  316N145_7,       I05E,     404,          1,          2,          2,2,19950406,       0006,   -33.4178,    93.6138,       4262,  4159.8,   1.0695,  34.7142,2,  34.7140,2,    205.7,2,   205.5,2,  119.32,2,   32.08,2,    0.00,2,    2.22,2,   0.002,2,  -0.001,2,  2269.6,2,  2381.8,3,  -9.0000,9,-999.0000,9, -999.00,9, -999.00,9,  -999.0,9,  -999.0,-999.000,9,-999.000,-999.000,9,  -9.0000,-999.0000,   0.7454,   -9.00
  316N145_7,       I05E,     404,          1,          1,          1,2,19950406,       0006,   -33.4178,    93.6138,       4262,  4332.4,   1.0617,  34.7128,2,  34.7134,2,    206.3,2,   206.0,2,  119.93,2,   32.14,2,    0.00,2,    2.22,2,   0.004,2,   0.003,2,  2267.6,2,  2375.6,2,  -0.0011,2,-999.0000,9, -999.00,9, -999.00,9,  -999.0,9,  -999.0,-999.000,9,-999.000,-999.000,9,   0.0022,-999.0000,   0.7190,   -9.00