BOTTLE,20211124CCHSIORKP
EXPOCODE,SECT_ID,STNNBR,CASTNO,SAMPNO,BTLNBR,BTLNBR_FLAG_W,DATE,TIME,LATITUDE,LONGITUDE,DEPTH,CTDPRS,CTDTMP,CTDSAL,CTDSAL_FLAG_W,SALNTY,SALNTY_FLAG_W,CTDOXY,CTDOXY_FLAG_W,OXYGEN,OXYGEN_FLAG_W,SILCAT,SILCAT_FLAG_W,NITRAT,NITRAT_FLAG_W,NITRIT,NITRIT_FLAG_W,PHSPHT,PHSPHT_FLAG_W,CFC-11,CFC-11_FLAG_W,CFC-12,CFC-12_FLAG_W,TCARBN,TCARBN_FLAG_W,ALKALI,ALKALI_FLAG_W,TRITUM,TRITUM_FLAG_W,HELIUM,HELIUM_FLAG_W,DELHE3,DELHE3_FLAG_W,DELC13,DELC13_FLAG_W,DELC14,DELC14_FLAG_W,C14ERR,NEON,NEON_FLAG_W,NEONER,CCL4,CCL4_FLAG_W,TRITER,HELIER,THETA,DELHER
,,,,,,,,,,,METERS,DBAR,ITS-90,PSS-78,,PSS-78,,UMOL/KG,,UMOL/KG,,UMOL/KG,,UMOL/KG,,UMOL/KG,,UMOL/KG,,PMOL/KG,,PMOL/KG,,UMOL/KG,,UMOL/KG,,TU,,NMOL/KG,,PERCNT,,/MILLE,,/MILLE,,/MILLE,NMOL/KG,,NMOL/KG,PMOL/KG,,TU,NMOL/KG,DEG C,PERCNT
  316N145_7,       I08N,     283,          1,         33,         33,2,19950311,       0119,     5.6658,    80.0060,       3220,     1.6,  28.2341,  33.2176,2,  33.2213,2,    195.7,2,   200.2,2,    2.78,2,    0.09,2,    0.00,2,    0.08,2,-999.000,9,-999.000,9,  1876.4,2,  2197.8,2,   1.1883,2,   1.7027,2,   -0.82,2, -999.00,9,  -999.0,9,  -999.0,   6.672,2,   0.033,-999.000,9,   0.0043,   0.0085,  28.2337,    0.14
  316N145_7,       I08N,     283,          1,         32,         32,2,19950311,       0119,     5.6658,    80.0060,       3220,    33.4,  28.1383,  33.2664,2,  33.2744,2,    201.8,2,   200.2,2,    2.76,2,    0.09,2,    0.00,2,    0.08,2,-999.000,9,-999.000,9,  1879.1,2,  2202.7,2,   1.1651,2,   1.7006,2,   -0.81,2, -999.00,9,  -999.0,9,  -999.0,   6.653,2,   0.033,-999.000,9,   0.0043,   0.0085,  28.1304,    0.14
  316N145_7,       I08N,     283,          1,         31,         31,2,19950311,       0119,     5.6658,    80.0060,       3220,    69.7,  27.4532,  34.3656,2,  34.3517,2,    183.5,2,   168.9,2,    4.17,2,    3.00,2,    0.19,2,    0.33,2,-999.000,9,-999.000,9,  1949.0,2,  2261.8,2,  -9.0000,9,-999.0000,9, -999.00,9, -999.00,9,  -999.0,9,  -999.0,-999.000,9,-999.000,-999.000,9,  -9.0000,-999.0000,  27.4370,   -9.00
  316N145_7,       I08N,     283,          1,         30,         30,2,19950311,       0119,     5.6658,    80.0060,       3220,    83.6,  24.3857,  34.4550,2,  34.4408,2,     88.0,2,    85.4,2,   10.74,2,   14.63,2,    0.22,2,    1.05,2,-999.000,9,-999.000,9,  2053.2,2,  2256.7,2,   0.8900,2,   1.7082,2,    0.98,2, -999.00,9,  -999.0,9,  -999.0,   6.799,2,   0.034,-999.000,9,   0.0038,   0.0085,  24.3679,    0.14
  316N145_7,       I08N,     283,          1,         29,         29,2,19950311,       0119,     5.6658,    80.0060,       3220,    99.5,  22.6939,  35.0891,2,  35.0975,2,     62.0,2,    46.3,2,   15.24,2,   21.04,2,    0.06,2,    1.53,2,-999.000,9,-999.000,9,  2129.9,2,  2303.3,2,  -9.0000,9,-999.0000,9, -999.00,9, -999.00,9,  -999.0,9,  -999.0,-999.000,9,-999.000,-999.000,9,  -9.0000,-999.0000,  22.6738,   -9.00
  316N145_7,       I08N,     283,          1,         28,         28,2,19950311,       0119,     5.6658,    80.0060,       3220,   114.4,  19.1663,  35.0528,2,  35.0444,2,     26.5,2,    27.0,2,   20.36,2,   25.08,2,    0.02,2,    1.82,2,-999.000,9,-999.000,9,  2167.6,2,  2304.4,2,   0.6320,2,   1.7212,2,    3.57,2, -999.00,9,  -999.0,9,  -999.0,   7.006,2,   0.035,-999.000,9,   0.0033,   0.0086,  19.1458,    0.14
  316N145_7,       I08N,     283,          1,         27,         27,2,19950311,       0119,     5.6658,    80.0060,       3220,   139.0,  16.3271,  34.9464,2,  34.9357,2,     17.0,2,    18.7,2,   27.94,2,   28.79,2,    0.01,2,    2.08,2,-999.000,9,-999.000,9,  2200.7,2,  2317.2,2,  -9.0000,9,-999.0000,9, -999.00,9, -999.00,9,  -999.0,9,  -999.0,-999.000,9,-999.000,-999.000,9,  -9.0000,-999.0000,  16.3049,   -9.00
  316N145_7,       I08N,     283,          1,         26,         26,2,19950311,       0119,     5.6658,    80.0060,       3220,   164.9,  15.3878,  35.0052,2,  34.9993,2,     23.5,2,    23.7,2,   27.72,2,   29.02,2,    0.01,2,    2.09,2,-999.000,9,-999.000,9,  2207.7,2,  2317.4,2,   0.4277,2,   1.7504,2,    4.76,2, -999.00,9,  -999.0,9,  -999.0,   7.233,2,   0.036,-999.000,9,   0.0030,   0.0088,  15.3624,    0.14
  316N145_7,       I08N,     283,          1,         25,         25,2,19950311,       0119,     5.6658,    80.0060,       3220,   189.5,  14.2928,  35.0345,2,  35.0182,2,     20.2,2,    18.6,2,   30.17,2,   30.29,2,    0.01,2,    2.19,2,-999.000,9,-999.000,9,  2225.1,2,  2316.4,2,  -9.0000,9,-999.0000,9, -999.00,9, -999.00,9,  -999.0,9,  -999.0,-999.000,9,-999.000,-999.000,9,  -9.0000,-999.0000,  14.2651,   -9.00
  316N145_7,       I08N,     283,          1,         24,         24,2,19950311,       0119,     5.6658,    80.0060,       3220,   215.6,  13.2164,  35.0741,2,  35.0727,2,     18.4,2,    16.9,2,   31.17,2,   31.33,2,    0.00,2,    2.28,2,-999.000,9,-999.000,9,  2240.8,2,  2315.2,2,   0.3135,2,   1.7489,2,    5.32,2, -999.00,9,  -999.0,9,  -999.0,   7.321,2,   0.037,-999.000,9,   0.0028,   0.0087,  13.1863,    0.14
  316N145_7,       I08N,     283,          1,         23,         23,2,19950311,       0119,     5.6658,    80.0060,       3220,   255.7,  12.4211,  35.0925,2,  35.0915,2,     24.4,2,    26.8,2,   31.57,2,   31.28,2,    0.00,2,    2.25,2,-999.000,9,-999.000,9,  2240.8,2,  2323.6,2,  -9.0000,9,-999.0000,9, -999.00,9, -999.00,9,  -999.0,9,  -999.0,-999.000,9,-999.000,-999.000,9,  -9.0000,-999.0000,  12.3869,   -9.00
  316N145_7,       I08N,     283,          1,         22,         22,2,19950311,       0119,     5.6658,    80.0060,       3220,   295.0,  11.6444,  35.1003,2,  35.1012,2,     29.0,2,    34.1,2,   32.37,2,   31.56,2,    0.00,2,    2.24,2,-999.000,9,-999.000,9,  2241.6,2,  2318.1,2,   0.2259,2,   1.7602,2,    5.03,2, -999.00,9,  -999.0,9,  -999.0,   7.408,2,   0.037,-999.000,9,   0.0026,   0.0088,  11.6064,    0.14
  316N145_7,       I08N,     283,          1,         21,         21,2,19950311,       0119,     5.6658,    80.0060,       3220,   335.0,  11.2612,  35.1038,2,  35.1037,2,     29.8,2,    32.1,2,   34.41,2,   32.32,2,    0.00,2,    2.30,2,-999.000,9,-999.000,9,  2247.1,2,  2325.8,2,  -9.0000,9,-999.0000,9, -999.00,9, -999.00,9,  -999.0,9,  -999.0,-999.000,9,-999.000,-999.000,9,  -9.0000,-999.0000,  11.2190,   -9.00
  316N145_7,       I08N,     283,          1,         20,         20,2,19950311,       0119,     5.6658,    80.0060,       3220,   375.9,  10.8951,  35.1133,2,  35.1098,2,     29.8,2,    28.3,2,   38.09,2,   33.21,2,    0.00,2,    2.40,2,-999.000,9,-999.000,9,  2255.2,2,  2321.9,2,  -9.0000,9,   1.7663,2,    5.15,2, -999.00,9,  -999.0,9,  -999.0,   7.454,2,   0.037,-999.000,9,  -9.0000,   0.0088,  10.8486,    0.14
  316N145_7,       I08N,     283,          1,         19,         19,2,19950311,       0119,     5.6658,    80.0060,       3220,   475.9,  10.1592,  35.0918,2,  35.0901,2,     26.9,2,    25.2,2,   45.66,2,   34.63,2,    0.00,2,    2.55,2,-999.000,9,-999.000,9,  2259.5,2,  2329.1,2,   0.0783,2,   1.7729,2,    5.67,2, -999.00,9,  -999.0,9,  -999.0,   7.448,2,   0.037,-999.000,9,   0.0023,   0.0089,  10.1026,    0.14
  316N145_7,       I08N,     283,          1,         18,         18,2,19950311,       0119,     5.6658,    80.0060,       3220,   575.8,   9.1794,  35.0174,2,  35.0164,2,     21.1,2,    20.6,2,   57.97,2,   36.67,2,    0.00,2,    2.71,2,-999.000,9,-999.000,9,  2284.3,2,  2335.9,2,  -9.0000,9,-999.0000,9, -999.00,9, -999.00,9,  -999.0,9,  -999.0,-999.000,9,-999.000,-999.000,9,  -9.0000,-999.0000,   9.1147,   -9.00
  316N145_7,       I08N,     283,          1,         17,         17,2,19950311,       0119,     5.6658,    80.0060,       3220,   677.0,   8.5980,  35.0060,2,  35.0044,2,     24.3,2,    25.7,2,   64.94,2,   37.10,2,    0.01,2,    2.76,2,-999.000,9,-999.000,9,  2291.8,2,  2351.8,2,   0.0231,2,   1.7901,2,    7.90,2, -999.00,9,  -999.0,9,  -999.0,   7.551,2,   0.038,-999.000,9,   0.0023,   0.0090,   8.5244,    0.14
  316N145_7,       I08N,     283,          1,         16,         16,2,19950311,       0119,     5.6658,    80.0060,       3220,   778.4,   7.9952,  34.9922,2,  34.9936,2,     31.1,2,    31.7,2,   70.88,2,   37.25,2,    0.00,2,    2.78,2,-999.000,9,-999.000,9,  2295.1,2,  2338.5,2,  -9.0000,9,-999.0000,9, -999.00,9, -999.00,9,  -999.0,9,  -999.0,-999.000,9,-999.000,-999.000,9,  -9.0000,-999.0000,   7.9135,   -9.00
  316N145_7,       I08N,     283,          1,         15,         15,2,19950311,       0119,     5.6658,    80.0060,       3220,   878.5,   7.5077,  34.9746,2,  34.9739,2,     35.6,2,    36.1,2,   76.83,2,   37.44,2,    0.00,2,    2.81,2,-999.000,9,-999.000,9,  2301.4,2,  2365.3,2,   0.0071,2,   1.8081,2,    9.66,2, -999.00,9,  -999.0,9,  -999.0,   7.633,2,   0.038,-999.000,9,   0.0022,   0.0090,   7.4181,    0.14
  316N145_7,       I08N,     283,          1,         14,         14,2,19950311,       0119,     5.6658,    80.0060,       3220,   979.4,   6.8330,  34.9435,2,  34.9434,2,     42.6,2,    43.6,2,   84.65,2,   37.68,2,    0.00,2,    2.82,2,-999.000,9,-999.000,9,  2306.6,2,  2348.8,2,   0.0021,2,   1.8173,2,   10.64,2, -999.00,9,  -999.0,9,  -999.0,   7.661,2,   0.038,-999.000,9,   0.0022,   0.0091,   6.7375,    0.14
  316N145_7,       I08N,     283,          1,         13,         13,2,19950311,       0119,     5.6658,    80.0060,       3220,  1109.7,   6.1506,  34.9150,2,  34.9150,2,     51.8,2,    53.0,2,   92.08,2,   37.68,2,    0.00,2,    2.83,2,-999.000,9,-999.000,9,  2312.9,2,  2380.6,2,  -9.0000,9,-999.0000,9, -999.00,9, -999.00,9,  -999.0,9,  -999.0,-999.000,9,-999.000,-999.000,9,  -9.0000,-999.0000,   6.0469,   -9.00
  316N145_7,       I08N,     283,          1,         12,         12,2,19950311,       0119,     5.6658,    80.0060,       3220,  1312.9,   5.2044,  34.8776,2,  34.8765,2,     65.4,2,    68.8,2,  102.64,2,   37.59,2,    0.00,2,    2.81,2,-999.000,9,-999.000,9,  2319.2,2,  2377.7,2,  -0.0019,2,   1.8387,2,   12.29,2, -999.00,9,  -999.0,9,  -999.0,   7.790,2,   0.039,-999.000,9,   0.0022,   0.0092,   5.0893,    0.14
  316N145_7,       I08N,     283,          1,         11,         11,2,19950311,       0119,     5.6658,    80.0060,       3220,  1513.6,   4.3934,  34.8462,2,  34.8483,2,     79.7,2,    81.6,2,  111.18,2,   37.41,2,    0.00,2,    2.78,2,-999.000,9,-999.000,9,  2321.6,2,  2400.0,2,   0.0005,2,-999.0000,9, -999.00,9, -999.00,9,  -999.0,9,  -999.0,-999.000,9,-999.000,-999.000,9,   0.0022,-999.0000,   4.2678,   -9.00
  316N145_7,       I08N,     283,          1,         10,         10,2,19950311,       0119,     5.6658,    80.0060,       3220,  1716.2,   3.5778,  34.8144,2,  34.8143,2,     98.3,3,    98.0,2,  120.19,2,   36.98,2,    0.00,2,    2.74,2,-999.000,9,-999.000,9,  2325.3,2,  2390.4,2,  -0.0011,2,   1.8345,2,   13.22,2, -999.00,9,  -999.0,9,  -999.0,   7.825,2,   0.039,-999.000,9,   0.0022,   0.0092,   3.4434,    0.14
  316N145_7,       I08N,     283,          1,          9,          9,2,19950311,       0119,     5.6658,    80.0060,       3220,  1867.3,   3.0117,  34.7906,2,  34.7911,2,    108.5,3,   111.7,2,  125.66,2,   36.46,2,    0.00,2,    2.67,2,-999.000,9,-999.000,9,  2326.0,2,  2413.1,2,  -9.0000,9,-999.0000,9, -999.00,9, -999.00,9,  -999.0,9,  -999.0,-999.000,9,-999.000,-999.000,9,  -9.0000,-999.0000,   2.8714,   -9.00
  316N145_7,       I08N,     283,          1,          8,          8,2,19950311,       0119,     5.6658,    80.0060,       3220,  2070.5,   2.6274,  34.7727,2,  34.7724,2,    120.5,3,   120.5,2,  130.74,2,   36.23,2,    0.00,2,    2.63,2,-999.000,9,-999.000,9,  2327.9,2,  2401.7,2,  -0.0009,2,   1.8394,2,   13.64,2, -999.00,9,  -999.0,9,  -999.0,   7.837,2,   0.039,-999.000,9,   0.0022,   0.0092,   2.4748,    0.14
  316N145_7,       I08N,     283,          1,          7,          7,2,19950311,       0119,     5.6658,    80.0060,       3220,  2273.3,   2.3595,  34.7609,2,  34.7594,2,    130.6,3,   127.8,2,  133.49,2,   35.95,2,    0.00,2,    2.60,2,-999.000,9,-999.000,9,  2325.9,2,  2422.5,2,  -9.0000,9,-999.0000,9, -999.00,9, -999.00,9,  -999.0,9,  -999.0,-999.000,9,-999.000,-999.000,9,  -9.0000,-999.0000,   2.1930,   -9.00
  316N145_7,       I08N,     283,          1,          6,          6,2,19950311,       0119,     5.6658,    80.0060,       3220,  2475.4,   2.1366,  34.7501,2,  34.7497,2,    135.6,3,   135.2,2,  136.25,2,   35.67,2,    0.00,2,    2.57,2,-999.000,9,-999.000,9,  2327.6,2,  2412.4,2,  -9.0000,9,-999.0000,9, -999.00,9, -999.00,9,  -999.0,9,  -999.0,-999.000,9,-999.000,-999.000,9,  -9.0000,-999.0000,   1.9556,   -9.00
  316N145_7,       I08N,     283,          1,          5,          5,2,19950311,       0119,     5.6658,    80.0060,       3220,  2627.6,   1.9754,  34.7429,2,  34.7426,2,    142.2,3,   140.8,2,  137.72,2,   35.48,2,    0.00,2,    2.54,2,-999.000,9,-999.000,9,  2325.6,2,  2429.5,2,  -9.0000,9,-999.0000,9, -999.00,9, -999.00,9,  -999.0,9,  -999.0,-999.000,9,-999.000,-999.000,9,  -9.0000,-999.0000,   1.7834,   -9.00
  316N145_7,       I08N,     283,          1,          4,          4,2,19950311,       0119,     5.6658,    80.0060,       3220,  2780.5,   1.8910,  34.7388,2,  34.7377,2,    144.4,3,   143.7,2,  138.55,2,   35.34,2,    0.00,2,    2.52,2,-999.000,9,-999.000,9,  2325.3,2,  2445.3,2,  -9.0000,9,-999.0000,9, -999.00,9, -999.00,9,  -999.0,9,  -999.0,-999.000,9,-999.000,-999.000,9,  -9.0000,-999.0000,   1.6864,   -9.00
  316N145_7,       I08N,     283,          1,          3,          3,2,19950311,       0119,     5.6658,    80.0060,       3220,  2934.4,   1.7822,  34.7343,2,  34.7341,2,    147.9,2,   146.6,2,  140.25,2,   35.30,2,    0.00,2,    2.50,2,-999.000,9,-999.000,9,  2325.8,2,  2436.1,2,  -9.0000,9,-999.0000,9, -999.00,9, -999.00,9,  -999.0,9,  -999.0,-999.000,9,-999.000,-999.000,9,  -9.0000,-999.0000,   1.5652,   -9.00
  316N145_7,       I08N,     283,          1,          2,          2,2,19950311,       0119,     5.6658,    80.0060,       3220,  3137.0,   1.6636,  34.7295,2,  34.7300,2,    150.3,2,   149.6,2,  142.81,2,   35.25,2,    0.00,2,    2.50,2,-999.000,9,-999.000,9,  2331.1,2,  2433.8,2,  -9.0000,9,-999.0000,9, -999.00,9, -999.00,9,  -999.0,9,  -999.0,-999.000,9,-999.000,-999.000,9,  -9.0000,-999.0000,   1.4296,   -9.00
  316N145_7,       I08N,     283,          1,          1,          1,2,19950311,       0119,     5.6658,    80.0060,       3220,  3269.9,   1.5715,  34.7266,2,  34.7270,2,    150.9,2,   154.5,3,  144.30,2,   35.21,2,    0.00,2,    2.49,2,-999.000,9,-999.000,9,  2330.8,2,  2442.6,2,  -9.0000,9,-999.0000,9, -999.00,9, -999.00,9,  -999.0,9,  -999.0,-999.000,9,-999.000,-999.000,9,  -9.0000,-999.0000,   1.3265,   -9.00