BOTTLE,20211124CCHSIORKP
EXPOCODE,SECT_ID,STNNBR,CASTNO,SAMPNO,BTLNBR,BTLNBR_FLAG_W,DATE,TIME,LATITUDE,LONGITUDE,DEPTH,CTDPRS,CTDTMP,CTDSAL,CTDSAL_FLAG_W,SALNTY,SALNTY_FLAG_W,CTDOXY,CTDOXY_FLAG_W,OXYGEN,OXYGEN_FLAG_W,SILCAT,SILCAT_FLAG_W,NITRAT,NITRAT_FLAG_W,NITRIT,NITRIT_FLAG_W,PHSPHT,PHSPHT_FLAG_W,CFC-11,CFC-11_FLAG_W,CFC-12,CFC-12_FLAG_W,TCARBN,TCARBN_FLAG_W,ALKALI,ALKALI_FLAG_W,TRITUM,TRITUM_FLAG_W,HELIUM,HELIUM_FLAG_W,DELHE3,DELHE3_FLAG_W,DELC13,DELC13_FLAG_W,DELC14,DELC14_FLAG_W,C14ERR,NEON,NEON_FLAG_W,NEONER,CCL4,CCL4_FLAG_W,TRITER,HELIER,THETA,DELHER
,,,,,,,,,,,METERS,DBAR,ITS-90,PSS-78,,PSS-78,,UMOL/KG,,UMOL/KG,,UMOL/KG,,UMOL/KG,,UMOL/KG,,UMOL/KG,,PMOL/KG,,PMOL/KG,,UMOL/KG,,UMOL/KG,,TU,,NMOL/KG,,PERCNT,,/MILLE,,/MILLE,,/MILLE,NMOL/KG,,NMOL/KG,PMOL/KG,,TU,NMOL/KG,DEG C,PERCNT
  316N145_7,      TRANS,     371,          1,         36,         36,2,19950330,       0835,   -27.9997,    88.4998,       3575,     4.2,  24.4655,  35.9081,2,  35.9078,2,    210.8,2,   211.0,2,    3.27,2,    0.19,2,    0.00,2,    0.10,2,-999.000,9,-999.000,9,  -999.0,9,  -999.0,9,  -9.0000,9,-999.0000,9, -999.00,9, -999.00,9,  -999.0,9,  -999.0,-999.000,9,-999.000,-999.000,9,  -9.0000,-999.0000,  24.4646,   -9.00
  316N145_7,      TRANS,     371,          1,         35,         35,2,19950330,       0835,   -27.9997,    88.4998,       3575,    34.4,  24.4314,  35.9077,2,  35.9058,2,    199.7,2,   211.5,2,    3.02,2,    0.19,2,    0.00,2,    0.10,2,-999.000,9,-999.000,9,  -999.0,9,  -999.0,9,  -9.0000,9,-999.0000,9, -999.00,9, -999.00,9,  -999.0,9,  -999.0,-999.000,9,-999.000,-999.000,9,  -9.0000,-999.0000,  24.4240,   -9.00
  316N145_7,      TRANS,     371,          1,         34,         34,2,19950330,       0835,   -27.9997,    88.4998,       3575,    64.7,  20.5199,  35.8588,2,  35.8570,2,    242.7,2,   238.2,2,    2.97,2,    0.14,2,    0.00,2,    0.12,2,-999.000,9,-999.000,9,  -999.0,9,  -999.0,9,  -9.0000,9,-999.0000,9, -999.00,9, -999.00,9,  -999.0,9,  -999.0,-999.000,9,-999.000,-999.000,9,  -9.0000,-999.0000,  20.5077,   -9.00
  316N145_7,      TRANS,     371,          1,         33,         33,2,19950330,       0835,   -27.9997,    88.4998,       3575,   104.7,  18.5600,  35.8922,2,  35.8890,2,    232.7,2,   227.9,2,    2.72,2,    0.19,2,    0.00,2,    0.16,2,-999.000,9,-999.000,9,  -999.0,9,  -999.0,9,  -9.0000,9,-999.0000,9, -999.00,9, -999.00,9,  -999.0,9,  -999.0,-999.000,9,-999.000,-999.000,9,  -9.0000,-999.0000,  18.5416,   -9.00
  316N145_7,      TRANS,     371,          1,         32,         32,2,19950330,       0835,   -27.9997,    88.4998,       3575,   155.2,  16.4132,  35.7299,2,  35.7235,2,    223.7,2,   221.0,2,    2.67,2,    1.68,2,    0.02,2,    0.30,2,-999.000,9,-999.000,9,  -999.0,9,  -999.0,9,  -9.0000,9,-999.0000,9, -999.00,9, -999.00,9,  -999.0,9,  -999.0,-999.000,9,-999.000,-999.000,9,  -9.0000,-999.0000,  16.3881,   -9.00
  316N145_7,      TRANS,     371,          1,         31,         31,2,19950330,       0835,   -27.9997,    88.4998,       3575,   215.2,  14.2079,  35.4263,2,  35.4340,2,    225.0,2,   224.0,2,    2.84,2,    5.16,2,    0.01,2,    0.51,2,-999.000,9,-999.000,9,  -999.0,9,  -999.0,9,  -9.0000,9,-999.0000,9, -999.00,9, -999.00,9,  -999.0,9,  -999.0,-999.000,9,-999.000,-999.000,9,  -9.0000,-999.0000,  14.1764,   -9.00
  316N145_7,      TRANS,     371,          1,         30,         30,2,19950330,       0835,   -27.9997,    88.4998,       3575,   286.4,  12.8802,  35.2351,2,  35.2377,2,    226.8,2,   229.8,2,    3.44,2,    7.85,2,    0.01,2,    0.65,2,-999.000,9,-999.000,9,  -999.0,9,  -999.0,9,  -9.0000,9,-999.0000,9, -999.00,9, -999.00,9,  -999.0,9,  -999.0,-999.000,9,-999.000,-999.000,9,  -9.0000,-999.0000,  12.8408,   -9.00
  316N145_7,      TRANS,     371,          1,         29,         29,2,19950330,       0835,   -27.9997,    88.4998,       3575,   357.0,  12.1128,  35.1150,2,  35.1172,2,    230.5,2,   233.9,2,    3.82,2,    9.51,2,    0.01,2,    0.75,2,-999.000,9,-999.000,9,  -999.0,9,  -999.0,9,  -9.0000,9,-999.0000,9, -999.00,9, -999.00,9,  -999.0,9,  -999.0,-999.000,9,-999.000,-999.000,9,  -9.0000,-999.0000,  12.0656,   -9.00
  316N145_7,      TRANS,     371,          1,         28,         28,2,19950330,       0835,   -27.9997,    88.4998,       3575,   426.3,  11.4391,  35.0069,2,  35.0002,2,    233.9,2,   236.4,2,    4.20,2,   11.22,2,    0.01,2,    0.85,2,-999.000,9,-999.000,9,  -999.0,9,  -999.0,9,  -9.0000,9,-999.0000,9, -999.00,9, -999.00,9,  -999.0,9,  -999.0,-999.000,9,-999.000,-999.000,9,  -9.0000,-999.0000,  11.3846,   -9.00
  316N145_7,      TRANS,     371,          1,         27,         27,2,19950330,       0835,   -27.9997,    88.4998,       3575,   487.3,  10.9503,  34.9339,2,  34.9328,2,    237.5,2,   237.5,2,    4.37,2,   12.15,2,    0.01,2,    0.91,2,-999.000,9,-999.000,9,  -999.0,9,  -999.0,9,  -9.0000,9,-999.0000,9, -999.00,9, -999.00,9,  -999.0,9,  -999.0,-999.000,9,-999.000,-999.000,9,  -9.0000,-999.0000,  10.8896,   -9.00
  316N145_7,      TRANS,     371,          1,         26,         26,2,19950330,       0835,   -27.9997,    88.4998,       3575,   557.1,  10.3644,  34.8433,2,  34.8460,2,    237.3,2,   237.9,2,    4.75,2,   13.52,2,    0.01,2,    0.99,2,-999.000,9,-999.000,9,  -999.0,9,  -999.0,9,  -9.0000,9,-999.0000,9, -999.00,9, -999.00,9,  -999.0,9,  -999.0,-999.000,9,-999.000,-999.000,9,  -9.0000,-999.0000,  10.2973,   -9.00
  316N145_7,      TRANS,     371,          1,         25,         25,2,19950330,       0835,   -27.9997,    88.4998,       3575,   657.7,   9.3669,  34.6967,2,  34.7007,2,    235.2,2,   232.6,2,    6.20,2,   16.79,2,    0.01,2,    1.18,2,-999.000,9,-999.000,9,  -999.0,9,  -999.0,9,  -9.0000,9,-999.0000,9, -999.00,9, -999.00,9,  -999.0,9,  -999.0,-999.000,9,-999.000,-999.000,9,  -9.0000,-999.0000,   9.2921,   -9.00
  316N145_7,      TRANS,     371,          1,         24,         24,2,19950330,       0835,   -27.9997,    88.4998,       3575,   758.6,   8.3117,  34.5857,2,  34.5885,2,    219.0,2,   216.3,2,   10.40,2,   20.86,2,    0.01,2,    1.44,2,-999.000,9,-999.000,9,  -999.0,9,  -999.0,9,  -9.0000,9,-999.0000,9, -999.00,9, -999.00,9,  -999.0,9,  -999.0,-999.000,9,-999.000,-999.000,9,  -9.0000,-999.0000,   8.2309,   -9.00
  316N145_7,      TRANS,     371,          1,         23,         23,2,19950330,       0835,   -27.9997,    88.4998,       3575,   859.2,   6.7487,  34.4790,2,  34.4800,2,    203.5,2,   199.0,2,   20.12,2,   25.97,2,    0.00,2,    1.77,2,-999.000,9,-999.000,9,  -999.0,9,  -999.0,9,  -9.0000,9,-999.0000,9, -999.00,9, -999.00,9,  -999.0,9,  -999.0,-999.000,9,-999.000,-999.000,9,  -9.0000,-999.0000,   6.6667,   -9.00
  316N145_7,      TRANS,     371,          1,         22,         22,2,19950330,       0835,   -27.9997,    88.4998,       3575,   959.6,   5.2573,  34.4157,2,  34.4158,2,    195.7,2,   189.2,2,   33.86,2,   30.01,2,    0.00,2,    2.06,2,-999.000,9,-999.000,9,  -999.0,9,  -999.0,9,  -9.0000,9,-999.0000,9, -999.00,9, -999.00,9,  -999.0,9,  -999.0,-999.000,9,-999.000,-999.000,9,  -9.0000,-999.0000,   5.1759,   -9.00
  316N145_7,      TRANS,     371,          1,         21,         21,2,19950330,       0835,   -27.9997,    88.4998,       3575,  1061.4,   4.4674,  34.4218,2,  34.4232,2,    179.9,2,   177.7,2,   46.76,2,   32.23,2,    0.00,2,    2.24,2,-999.000,9,-999.000,9,  -999.0,9,  -999.0,9,  -9.0000,9,-999.0000,9, -999.00,9, -999.00,9,  -999.0,9,  -999.0,-999.000,9,-999.000,-999.000,9,  -9.0000,-999.0000,   4.3829,   -9.00
  316N145_7,      TRANS,     371,          1,         20,         20,2,19950330,       0835,   -27.9997,    88.4998,       3575,  1161.9,   3.9921,  34.4761,2,  34.4739,2,    164.6,2,   160.5,2,   61.36,2,   33.96,2,    0.00,2,    2.38,2,-999.000,9,-999.000,9,  -999.0,9,  -999.0,9,  -9.0000,9,-999.0000,9, -999.00,9, -999.00,9,  -999.0,9,  -999.0,-999.000,9,-999.000,-999.000,9,  -9.0000,-999.0000,   3.9030,   -9.00
  316N145_7,      TRANS,     371,          1,         19,         19,2,19950330,       0835,   -27.9997,    88.4998,       3575,  1263.1,   3.6709,  34.5147,2,  34.5161,2,    154.3,2,   153.1,2,   70.66,2,   34.65,2,    0.00,2,    2.44,2,-999.000,9,-999.000,9,  -999.0,9,  -999.0,9,  -9.0000,9,-999.0000,9, -999.00,9, -999.00,9,  -999.0,9,  -999.0,-999.000,9,-999.000,-999.000,9,  -9.0000,-999.0000,   3.5760,   -9.00
  316N145_7,      TRANS,     371,          1,         18,         18,2,19950330,       0835,   -27.9997,    88.4998,       3575,  1363.4,   3.4035,  34.5551,2,  34.5546,2,    150.4,2,   150.5,2,   76.99,2,   34.79,2,    0.00,2,    2.46,2,-999.000,9,-999.000,9,  -999.0,9,  -999.0,9,  -9.0000,9,-999.0000,9, -999.00,9, -999.00,9,  -999.0,9,  -999.0,-999.000,9,-999.000,-999.000,9,  -9.0000,-999.0000,   3.3027,   -9.00
  316N145_7,      TRANS,     371,          1,         17,         17,2,19950330,       0835,   -27.9997,    88.4998,       3575,  1464.6,   3.1961,  34.5885,2,  34.5890,2,    149.7,2,   150.1,2,   82.05,2,   34.69,2,    0.00,2,    2.46,2,-999.000,9,-999.000,9,  -999.0,9,  -999.0,9,  -9.0000,9,-999.0000,9, -999.00,9, -999.00,9,  -999.0,9,  -999.0,-999.000,9,-999.000,-999.000,9,  -9.0000,-999.0000,   3.0890,   -9.00
  316N145_7,      TRANS,     371,          1,         16,         16,2,19950330,       0835,   -27.9997,    88.4998,       3575,  1566.3,   3.0294,  34.6152,2,  34.6157,2,    151.9,2,   151.7,2,   85.62,2,   34.64,2,    0.00,2,    2.44,2,-999.000,9,-999.000,9,  -999.0,9,  -999.0,9,  -9.0000,9,-999.0000,9, -999.00,9, -999.00,9,  -999.0,9,  -999.0,-999.000,9,-999.000,-999.000,9,  -9.0000,-999.0000,   2.9155,   -9.00
  316N145_7,      TRANS,     371,          1,         15,         15,2,19950330,       0835,   -27.9997,    88.4998,       3575,  1668.0,   2.8561,  34.6454,2,  34.6454,2,    154.3,2,   153.8,2,   89.62,2,   34.39,2,    0.00,2,    2.42,2,-999.000,9,-999.000,9,  -999.0,9,  -999.0,9,  -9.0000,9,-999.0000,9, -999.00,9, -999.00,9,  -999.0,9,  -999.0,-999.000,9,-999.000,-999.000,9,  -9.0000,-999.0000,   2.7357,   -9.00
  316N145_7,      TRANS,     371,          1,         14,         14,2,19950330,       0835,   -27.9997,    88.4998,       3575,  1768.2,   2.7561,  34.6749,2,  34.6752,2,    154.8,2,   154.7,2,   94.69,2,   34.18,2,    0.00,2,    2.41,2,-999.000,9,-999.000,9,  -999.0,9,  -999.0,9,  -9.0000,9,-999.0000,9, -999.00,9, -999.00,9,  -999.0,9,  -999.0,-999.000,9,-999.000,-999.000,9,  -9.0000,-999.0000,   2.6283,   -9.00
  316N145_7,      TRANS,     371,          1,         13,         13,2,19950330,       0835,   -27.9997,    88.4998,       3575,  1870.1,   2.6056,  34.6881,2,  34.6882,2,    158.3,2,   158.3,2,   96.77,2,   33.88,2,    0.00,2,    2.39,2,-999.000,9,-999.000,9,  -999.0,9,  -999.0,9,  -9.0000,9,-999.0000,9, -999.00,9, -999.00,9,  -999.0,9,  -999.0,-999.000,9,-999.000,-999.000,9,  -9.0000,-999.0000,   2.4711,   -9.00
  316N145_7,      TRANS,     371,          1,         12,         12,2,19950330,       0835,   -27.9997,    88.4998,       3575,  1970.9,   2.4654,  34.7067,2,  34.7071,2,    160.5,2,   160.8,2,  101.43,2,   33.68,2,    0.00,2,    2.37,2,-999.000,9,-999.000,9,  -999.0,9,  -999.0,9,  -9.0000,9,-999.0000,9, -999.00,9, -999.00,9,  -999.0,9,  -999.0,-999.000,9,-999.000,-999.000,9,  -9.0000,-999.0000,   2.3242,   -9.00
  316N145_7,      TRANS,     371,          1,         11,         11,2,19950330,       0835,   -27.9997,    88.4998,       3575,  2098.1,   2.2804,  34.7154,2,  34.7159,2,    163.7,2,   166.3,2,  103.52,2,   33.38,2,    0.00,2,    2.34,2,-999.000,9,-999.000,9,  -999.0,9,  -999.0,9,  -9.0000,9,-999.0000,9, -999.00,9, -999.00,9,  -999.0,9,  -999.0,-999.000,9,-999.000,-999.000,9,  -9.0000,-999.0000,   2.1309,   -9.00
  316N145_7,      TRANS,     371,          1,         10,         10,2,19950330,       0835,   -27.9997,    88.4998,       3575,  2225.2,   2.1478,  34.7198,2,  34.7213,2,    170.7,2,   170.8,2,  105.39,2,   33.08,2,    0.00,2,    2.32,2,-999.000,9,-999.000,9,  -999.0,9,  -999.0,9,  -9.0000,9,-999.0000,9, -999.00,9, -999.00,9,  -999.0,9,  -999.0,-999.000,9,-999.000,-999.000,9,  -9.0000,-999.0000,   1.9893,   -9.00
  316N145_7,      TRANS,     371,          1,          9,          9,2,19950330,       0835,   -27.9997,    88.4998,       3575,  2377.4,   1.9892,  34.7247,2,  34.7258,2,    177.7,2,   176.8,2,  105.76,2,   32.68,2,    0.00,2,    2.28,2,-999.000,9,-999.000,9,  -999.0,9,  -999.0,9,  -9.0000,9,-999.0000,9, -999.00,9, -999.00,9,  -999.0,9,  -999.0,-999.000,9,-999.000,-999.000,9,  -9.0000,-999.0000,   1.8199,   -9.00
  316N145_7,      TRANS,     371,          1,          8,          8,2,19950330,       0835,   -27.9997,    88.4998,       3575,  2529.7,   1.8808,  34.7270,2,  34.7279,2,    179.8,2,   179.9,2,  107.64,2,   32.58,2,    0.00,2,    2.27,2,-999.000,9,-999.000,9,  -999.0,9,  -999.0,9,  -9.0000,9,-999.0000,9, -999.00,9, -999.00,9,  -999.0,9,  -999.0,-999.000,9,-999.000,-999.000,9,  -9.0000,-999.0000,   1.6997,   -9.00
  316N145_7,      TRANS,     371,          1,          7,          7,2,19950330,       0835,   -27.9997,    88.4998,       3575,  2681.9,   1.7590,  34.7286,2,  34.7299,2,    184.1,2,   183.0,2,  109.73,2,   32.43,2,    0.00,2,    2.26,2,-999.000,9,-999.000,9,  -999.0,9,  -999.0,9,  -9.0000,9,-999.0000,9, -999.00,9, -999.00,9,  -999.0,9,  -999.0,-999.000,9,-999.000,-999.000,9,  -9.0000,-999.0000,   1.5663,   -9.00
  316N145_7,      TRANS,     371,          1,          6,          6,2,19950330,       0835,   -27.9997,    88.4998,       3575,  2833.4,   1.6629,  34.7286,2,  34.7291,2,    186.0,2,   186.7,2,  111.83,2,   32.33,2,    0.00,2,    2.26,2,-999.000,9,-999.000,9,  -999.0,9,  -999.0,9,  -9.0000,9,-999.0000,9, -999.00,9, -999.00,9,  -999.0,9,  -999.0,-999.000,9,-999.000,-999.000,9,  -9.0000,-999.0000,   1.4581,   -9.00
  316N145_7,      TRANS,     371,          1,          5,          5,2,19950330,       0835,   -27.9997,    88.4998,       3575,  2987.2,   1.5811,  34.7276,2,  34.7280,2,    187.2,2,   186.5,2,  113.93,2,   32.47,2,    0.00,2,    2.26,2,-999.000,9,-999.000,9,  -999.0,9,  -999.0,9,  -9.0000,9,-999.0000,9, -999.00,9, -999.00,9,  -999.0,9,  -999.0,-999.000,9,-999.000,-999.000,9,  -9.0000,-999.0000,   1.3634,   -9.00
  316N145_7,      TRANS,     371,          1,          4,          4,2,19950330,       0835,   -27.9997,    88.4998,       3575,  3140.4,   1.4753,  34.7249,2,  34.7260,2,    187.6,2,   188.6,2,  116.68,2,   32.57,2,    0.00,2,    2.26,2,-999.000,9,-999.000,9,  -999.0,9,  -999.0,9,  -9.0000,9,-999.0000,9, -999.00,9, -999.00,9,  -999.0,9,  -999.0,-999.000,9,-999.000,-999.000,9,  -9.0000,-999.0000,   1.2453,   -9.00
  316N145_7,      TRANS,     371,          1,          3,          3,2,19950330,       0835,   -27.9997,    88.4998,       3575,  3317.5,   1.3773,  34.7224,2,  34.7217,2,    189.6,2,   189.6,2,  119.43,2,   32.71,2,    0.00,2,    2.27,2,-999.000,9,-999.000,9,  -999.0,9,  -999.0,9,  -9.0000,9,-999.0000,9, -999.00,9, -999.00,9,  -999.0,9,  -999.0,-999.000,9,-999.000,-999.000,9,  -9.0000,-999.0000,   1.1323,   -9.00
  316N145_7,      TRANS,     371,          1,          2,          2,2,19950330,       0835,   -27.9997,    88.4998,       3575,  3496.7,   1.3322,  34.7211,2,  34.7209,2,    191.8,2,   191.3,2,  120.46,2,   32.66,2,    0.00,2,    2.27,2,-999.000,9,-999.000,9,  -999.0,9,  -999.0,9,  -9.0000,9,-999.0000,9, -999.00,9, -999.00,9,  -999.0,9,  -999.0,-999.000,9,-999.000,-999.000,9,  -9.0000,-999.0000,   1.0704,   -9.00
  316N145_7,      TRANS,     371,          1,          1,          1,2,19950330,       0835,   -27.9997,    88.4998,       3575,  3620.4,   1.2816,  34.7190,2,  34.7197,2,    193.2,2,   193.2,2,  121.05,2,   32.66,2,    0.00,2,    2.27,2,-999.000,9,-999.000,9,  -999.0,9,  -999.0,9,  -9.0000,9,-999.0000,9, -999.00,9, -999.00,9,  -999.0,9,  -999.0,-999.000,9,-999.000,-999.000,9,  -9.0000,-999.0000,   1.0085,   -9.00