BOTTLE,20211124CCHSIORKP
EXPOCODE,SECT_ID,STNNBR,CASTNO,SAMPNO,BTLNBR,BTLNBR_FLAG_W,DATE,TIME,LATITUDE,LONGITUDE,DEPTH,CTDPRS,CTDTMP,CTDSAL,CTDSAL_FLAG_W,SALNTY,SALNTY_FLAG_W,CTDOXY,CTDOXY_FLAG_W,OXYGEN,OXYGEN_FLAG_W,SILCAT,SILCAT_FLAG_W,NITRAT,NITRAT_FLAG_W,NITRIT,NITRIT_FLAG_W,PHSPHT,PHSPHT_FLAG_W,CFC-11,CFC-11_FLAG_W,CFC-12,CFC-12_FLAG_W,TCARBN,TCARBN_FLAG_W,ALKALI,ALKALI_FLAG_W,TRITUM,TRITUM_FLAG_W,HELIUM,HELIUM_FLAG_W,DELHE3,DELHE3_FLAG_W,DELC13,DELC13_FLAG_W,DELC14,DELC14_FLAG_W,C14ERR,NEON,NEON_FLAG_W,NEONER,CCL4,CCL4_FLAG_W,TRITER,HELIER,THETA,DELHER
,,,,,,,,,,,METERS,DBAR,ITS-90,PSS-78,,PSS-78,,UMOL/KG,,UMOL/KG,,UMOL/KG,,UMOL/KG,,UMOL/KG,,UMOL/KG,,PMOL/KG,,PMOL/KG,,UMOL/KG,,UMOL/KG,,TU,,NMOL/KG,,PERCNT,,/MILLE,,/MILLE,,/MILLE,NMOL/KG,,NMOL/KG,PMOL/KG,,TU,NMOL/KG,DEG C,PERCNT
  316N145_7,       I08N,     293,          1,         36,         36,2,19950313,       0036,     2.6668,    80.0007,       4339,     2.0,  29.4938,  34.5951,2,  34.5944,2,    192.4,2,   193.9,2,    2.73,2,    0.05,2,    0.00,2,    0.13,2,-999.000,9,-999.000,9,  -999.0,9,  -999.0,9,  -9.0000,9,-999.0000,9, -999.00,9,    1.43,2,    52.9,2,     3.9,-999.000,9,-999.000,-999.000,9,  -9.0000,-999.0000,  29.4933,   -9.00
  316N145_7,       I08N,     293,          1,         35,         35,2,19950313,       0036,     2.6668,    80.0007,       4339,    90.2,  20.9944,  35.3987,2,  35.3660,2,     93.0,2,    93.1,2,   12.08,2,   16.04,2,    0.13,2,    1.20,2,-999.000,9,-999.000,9,  -999.0,9,  -999.0,9,  -9.0000,9,-999.0000,9, -999.00,9,    0.49,2,    27.6,2,     3.5,-999.000,9,-999.000,-999.000,9,  -9.0000,-999.0000,  20.9772,   -9.00
  316N145_7,       I08N,     293,          1,         34,         34,2,19950313,       0036,     2.6668,    80.0007,       4339,   125.2,  18.0984,  35.2383,2,  35.2083,2,     67.2,2,    67.5,2,   17.17,2,   21.26,2,    0.03,2,    1.52,2,-999.000,9,-999.000,9,  -999.0,9,  -999.0,9,  -9.0000,9,-999.0000,9, -999.00,9, -999.00,9,  -999.0,9,  -999.0,-999.000,9,-999.000,-999.000,9,  -9.0000,-999.0000,  18.0768,   -9.00
  316N145_7,       I08N,     293,          1,         33,         33,2,19950313,       0036,     2.6668,    80.0007,       4339,   155.9,  16.2246,  35.2152,2,  35.3658,2,     62.5,2,    79.3,2,   17.56,2,   21.41,2,    0.01,2,    1.53,2,-999.000,9,-999.000,9,  -999.0,9,  -999.0,9,  -9.0000,9,-999.0000,9, -999.00,9,    0.35,2,    23.2,2,     3.3,-999.000,9,-999.000,-999.000,9,  -9.0000,-999.0000,  16.1997,   -9.00
  316N145_7,       I08N,     293,          1,         32,         32,2,19950313,       0036,     2.6668,    80.0007,       4339,   190.6,  14.1697,  35.1258,2,  35.1335,2,     77.4,2,    55.7,2,   23.66,2,   25.92,2,    0.01,2,    1.86,2,-999.000,9,-999.000,9,  -999.0,9,  -999.0,9,  -9.0000,9,-999.0000,9, -999.00,9,    0.22,2,    -7.9,2,     3.8,-999.000,9,-999.000,-999.000,9,  -9.0000,-999.0000,  14.1419,   -9.00
  316N145_7,       I08N,     293,          1,         31,         31,2,19950313,       0036,     2.6668,    80.0007,       4339,   235.7,  12.7692,  35.1075,2,  35.1010,2,     54.3,2,    71.0,2,   23.64,2,   26.20,2,    0.00,2,    1.85,2,-999.000,9,-999.000,9,  -999.0,9,  -999.0,9,  -9.0000,9,-999.0000,9, -999.00,9,    0.35,2,   -17.0,2,     6.6,-999.000,9,-999.000,-999.000,9,  -9.0000,-999.0000,  12.7371,   -9.00
  316N145_7,       I08N,     293,          1,         30,         30,2,19950313,       0036,     2.6668,    80.0007,       4339,   316.0,  11.5619,  35.0663,2,  35.0644,2,     50.3,2,    49.9,2,   30.36,2,   30.21,2,    0.00,2,    2.12,2,-999.000,9,-999.000,9,  -999.0,9,  -999.0,9,  -9.0000,9,-999.0000,9, -999.00,9, -999.00,9,  -999.0,9,  -999.0,-999.000,9,-999.000,-999.000,9,  -9.0000,-999.0000,  11.5214,   -9.00
  316N145_7,       I08N,     293,          1,         29,         29,2,19950313,       0036,     2.6668,    80.0007,       4339,   316.4,  11.5395,  35.0671,2,  35.0640,2,     50.3,2,    49.8,2,   30.54,2,   30.21,2,    0.00,2,    2.13,2,-999.000,9,-999.000,9,  -999.0,9,  -999.0,9,  -9.0000,9,-999.0000,9, -999.00,9,    0.21,2,   -53.7,2,     4.1,-999.000,9,-999.000,-999.000,9,  -9.0000,-999.0000,  11.4990,   -9.00
  316N145_7,       I08N,     293,          1,         28,         28,2,19950313,       0036,     2.6668,    80.0007,       4339,   416.9,  10.3190,  35.0467,2,  35.0463,2,     42.5,2,    38.7,2,   40.72,2,   33.25,2,    0.00,2,    2.40,2,-999.000,9,-999.000,9,  -999.0,9,  -999.0,9,  -9.0000,9,-999.0000,9, -999.00,9,   -0.44,3,  -100.6,2,     5.1,-999.000,9,-999.000,-999.000,9,  -9.0000,-999.0000,  10.2690,   -9.00
  316N145_7,       I08N,     293,          1,         27,         27,2,19950313,       0036,     2.6668,    80.0007,       4339,   517.1,   9.0594,  35.0203,2,  35.0191,2,     36.0,2,    46.4,2,   52.74,2,   34.42,2,    0.00,2,    2.55,2,-999.000,9,-999.000,9,  -999.0,9,  -999.0,9,  -9.0000,9,-999.0000,9, -999.00,9,    0.15,2,  -120.3,2,     3.7,-999.000,9,-999.000,-999.000,9,  -9.0000,-999.0000,   9.0019,   -9.00
  316N145_7,       I08N,     293,          1,         26,         26,2,19950313,       0036,     2.6668,    80.0007,       4339,   647.6,   8.5444,  35.0097,2,  35.0108,2,     46.7,2,    45.1,2,   59.87,2,   35.08,2,    0.00,2,    2.62,2,-999.000,9,-999.000,9,  -999.0,9,  -999.0,9,  -9.0000,9,-999.0000,9, -999.00,9,   -0.02,2,  -129.6,2,     4.3,-999.000,9,-999.000,-999.000,9,  -9.0000,-999.0000,   8.4744,   -9.00
  316N145_7,       I08N,     293,          1,         25,         25,2,19950313,       0036,     2.6668,    80.0007,       4339,   778.1,   7.9741,  34.9926,2,  34.9915,2,     45.4,2,    45.3,2,   67.81,2,   36.02,2,    0.00,2,    2.71,2,-999.000,9,-999.000,9,  -999.0,9,  -999.0,9,  -9.0000,9,-999.0000,9, -999.00,9,    0.06,2,  -139.9,2,     4.4,-999.000,9,-999.000,-999.000,9,  -9.0000,-999.0000,   7.8926,   -9.00
  316N145_7,       I08N,     293,          1,         24,         24,2,19950313,       0036,     2.6668,    80.0007,       4339,   879.0,   7.6311,  34.9840,2,  34.9837,2,     45.7,2,    43.9,2,   73.11,2,   36.64,2,    0.00,2,    2.75,2,-999.000,9,-999.000,9,  -999.0,9,  -999.0,9,  -9.0000,9,-999.0000,9, -999.00,9,    0.01,2,  -999.0,9,  -999.0,-999.000,9,-999.000,-999.000,9,  -9.0000,-999.0000,   7.5407,   -9.00
  316N145_7,       I08N,     293,          1,         23,         23,2,19950313,       0036,     2.6668,    80.0007,       4339,   879.3,   7.6311,  34.9837,2,  34.9835,2,     45.7,2,    42.9,3,   73.09,2,   36.54,2,    0.00,2,    2.75,2,-999.000,9,-999.000,9,  -999.0,9,  -999.0,9,  -9.0000,9,-999.0000,9, -999.00,9, -999.00,9,  -999.0,9,  -999.0,-999.000,9,-999.000,-999.000,9,  -9.0000,-999.0000,   7.5406,   -9.00
  316N145_7,       I08N,     293,          1,         22,         22,2,19950313,       0036,     2.6668,    80.0007,       4339,   879.3,   7.6218,  34.9843,2,  34.9839,2,     45.7,2,    43.6,2,   73.06,2,   36.54,2,    0.00,2,    2.75,2,-999.000,9,-999.000,9,  -999.0,9,  -999.0,9,  -9.0000,9,-999.0000,9, -999.00,9, -999.00,9,  -142.0,2,     3.3,-999.000,9,-999.000,-999.000,9,  -9.0000,-999.0000,   7.5314,   -9.00
  316N145_7,       I08N,     293,          1,         21,         21,2,19950313,       0036,     2.6668,    80.0007,       4339,   979.9,   7.0625,  34.9657,2,  34.9652,2,     47.5,2,    47.2,2,   80.00,2,   36.87,2,    0.00,2,    2.78,2,-999.000,9,-999.000,9,  -999.0,9,  -999.0,9,  -9.0000,9,-999.0000,9, -999.00,9,   -0.07,2,  -150.9,2,     3.0,-999.000,9,-999.000,-999.000,9,  -9.0000,-999.0000,   6.9651,   -9.00
  316N145_7,       I08N,     293,          1,         20,         20,2,19950313,       0036,     2.6668,    80.0007,       4339,  1080.4,   6.3668,  34.9286,2,  34.9311,2,     54.0,2,    52.3,2,   88.39,2,   37.30,2,    0.00,2,    2.81,2,-999.000,9,-999.000,9,  -999.0,9,  -999.0,9,  -9.0000,9,-999.0000,9, -999.00,9,   -0.01,2,  -157.8,2,     3.3,-999.000,9,-999.000,-999.000,9,  -9.0000,-999.0000,   6.2644,   -9.00
  316N145_7,       I08N,     293,          1,         19,         19,2,19950313,       0036,     2.6668,    80.0007,       4339,  1161.2,   5.9298,  34.9080,2,  34.9087,2,     58.1,2,    60.2,2,   93.31,2,   37.30,2,    0.00,2,    2.78,2,-999.000,9,-999.000,9,  -999.0,9,  -999.0,9,  -9.0000,9,-999.0000,9, -999.00,9,   -0.02,2,  -164.7,2,     4.7,-999.000,9,-999.000,-999.000,9,  -9.0000,-999.0000,   5.8229,   -9.00
  316N145_7,       I08N,     293,          1,         18,         18,2,19950313,       0036,     2.6668,    80.0007,       4339,  1312.5,   5.1698,  34.8803,2,  34.8800,2,     71.3,2,    73.5,2,  100.71,2,   37.21,2,    0.00,2,    2.78,2,-999.000,9,-999.000,9,  -999.0,9,  -999.0,9,  -9.0000,9,-999.0000,9, -999.00,9,   -0.13,2,  -177.1,2,     2.7,-999.000,9,-999.000,-999.000,9,  -9.0000,-999.0000,   5.0551,   -9.00
  316N145_7,       I08N,     293,          1,         17,         17,2,19950313,       0036,     2.6668,    80.0007,       4339,  1462.9,   4.5273,  34.8551,2,  34.8540,2,     83.7,2,    83.3,2,  107.11,2,   36.92,2,    0.00,2,    2.78,2,-999.000,9,-999.000,9,  -999.0,9,  -999.0,9,  -9.0000,9,-999.0000,9, -999.00,9,    0.00,2,  -186.1,2,     2.7,-999.000,9,-999.000,-999.000,9,  -9.0000,-999.0000,   4.4050,   -9.00
  316N145_7,       I08N,     293,          1,         16,         16,2,19950313,       0036,     2.6668,    80.0007,       4339,  1613.0,   3.9142,  34.8281,2,  34.8281,2,     97.4,2,    99.2,2,  112.07,2,   36.50,2,    0.00,2,    2.71,2,-999.000,9,-999.000,9,  -999.0,9,  -999.0,9,  -9.0000,9,-999.0000,9, -999.00,9,    0.03,2,  -191.9,2,     2.5,-999.000,9,-999.000,-999.000,9,  -9.0000,-999.0000,   3.7850,   -9.00
  316N145_7,       I08N,     293,          1,         15,         15,2,19950313,       0036,     2.6668,    80.0007,       4339,  1712.6,   3.6214,  34.8149,2,  34.8149,2,    104.7,2,   104.9,2,  114.75,2,   36.26,2,    0.00,2,    2.70,2,-999.000,9,-999.000,9,  -999.0,9,  -999.0,9,  -9.0000,9,-999.0000,9, -999.00,9,    0.08,2,  -193.1,2,     2.3,-999.000,9,-999.000,-999.000,9,  -9.0000,-999.0000,   3.4868,   -9.00
  316N145_7,       I08N,     293,          1,         14,         14,2,19950313,       0036,     2.6668,    80.0007,       4339,  1916.6,   3.0582,  34.7908,2,  34.7899,2,    117.5,2,   117.7,2,  120.79,2,   35.84,2,    0.00,2,    2.63,2,-999.000,9,-999.000,9,  -999.0,9,  -999.0,9,  -9.0000,9,-999.0000,9, -999.00,9,    0.07,2,  -197.1,2,     2.5,-999.000,9,-999.000,-999.000,9,  -9.0000,-999.0000,   2.9129,   -9.00
  316N145_7,       I08N,     293,          1,         13,         13,2,19950313,       0036,     2.6668,    80.0007,       4339,  2119.8,   2.6134,  34.7714,2,  34.7716,2,    126.0,2,   128.1,2,  126.87,2,   35.75,2,    0.00,2,    2.60,2,-999.000,9,-999.000,9,  -999.0,9,  -999.0,9,  -9.0000,9,-999.0000,9, -999.00,9,    0.07,2,  -198.3,2,     2.3,-999.000,9,-999.000,-999.000,9,  -9.0000,-999.0000,   2.4565,   -9.00
  316N145_7,       I08N,     293,          1,         12,         12,2,19950313,       0036,     2.6668,    80.0007,       4339,  2322.8,   2.3428,  34.7600,2,  34.7592,2,    134.2,2,   133.8,2,  131.07,2,   35.46,2,    0.00,2,    2.58,2,-999.000,9,-999.000,9,  -999.0,9,  -999.0,9,  -9.0000,9,-999.0000,9, -999.00,9,    0.12,2,  -204.1,2,     2.4,-999.000,9,-999.000,-999.000,9,  -9.0000,-999.0000,   2.1721,   -9.00
  316N145_7,       I08N,     293,          1,         11,         11,2,19950313,       0036,     2.6668,    80.0007,       4339,  2525.6,   2.0748,  34.7469,2,  34.7469,2,    142.5,2,   143.8,2,  132.10,2,   35.04,2,    0.00,2,    2.53,2,-999.000,9,-999.000,9,  -999.0,9,  -999.0,9,  -9.0000,9,-999.0000,9, -999.00,9,    0.12,2,  -206.1,2,     2.4,-999.000,9,-999.000,-999.000,9,  -9.0000,-999.0000,   1.8904,   -9.00
  316N145_7,       I08N,     293,          1,         10,         10,2,19950313,       0036,     2.6668,    80.0007,       4339,  2729.3,   1.9043,  34.7398,2,  34.7394,2,    150.5,2,   149.6,2,  134.20,2,   34.85,2,    0.00,2,    2.50,2,-999.000,9,-999.000,9,  -999.0,9,  -999.0,9,  -9.0000,9,-999.0000,9, -999.00,9,    0.12,2,  -201.1,2,     4.0,-999.000,9,-999.000,-999.000,9,  -9.0000,-999.0000,   1.7043,   -9.00
  316N145_7,       I08N,     293,          1,          9,          9,2,19950313,       0036,     2.6668,    80.0007,       4339,  2933.1,   1.7762,  34.7347,2,  34.7335,2,    153.3,2,   153.9,2,  135.45,2,   34.71,2,    0.00,2,    2.49,2,-999.000,9,-999.000,9,  -999.0,9,  -999.0,9,  -9.0000,9,-999.0000,9, -999.00,9,    0.17,2,  -196.0,2,     3.8,-999.000,9,-999.000,-999.000,9,  -9.0000,-999.0000,   1.5595,   -9.00
  316N145_7,       I08N,     293,          1,          8,          8,2,19950313,       0036,     2.6668,    80.0007,       4339,  3136.9,   1.6451,  34.7295,2,  34.7288,2,    154.7,2,   156.0,2,  139.48,2,   34.76,2,    0.00,2,    2.47,2,-999.000,9,-999.000,9,  -999.0,9,  -999.0,9,  -9.0000,9,-999.0000,9, -999.00,9,    0.17,2,  -203.4,2,     2.8,-999.000,9,-999.000,-999.000,9,  -9.0000,-999.0000,   1.4116,   -9.00
  316N145_7,       I08N,     293,          1,          7,          7,2,19950313,       0036,     2.6668,    80.0007,       4339,  3339.8,   1.5442,  34.7255,2,  34.7250,2,    156.4,2,   157.4,2,  141.81,2,   34.71,2,    0.00,2,    2.46,2,-999.000,9,-999.000,9,  -999.0,9,  -999.0,9,  -9.0000,9,-999.0000,9, -999.00,9,    0.16,2,  -198.2,2,     2.3,-999.000,9,-999.000,-999.000,9,  -9.0000,-999.0000,   1.2929,   -9.00
  316N145_7,       I08N,     293,          1,          6,          6,2,19950313,       0036,     2.6668,    80.0007,       4339,  3544.1,   1.4526,  34.7222,2,  34.7221,2,    160.8,2,   162.1,2,  142.42,2,   34.57,2,    0.00,2,    2.44,2,-999.000,9,-999.000,9,  -999.0,9,  -999.0,9,  -9.0000,9,-999.0000,9, -999.00,9,   -0.01,3,  -196.5,2,     2.5,-999.000,9,-999.000,-999.000,9,  -9.0000,-999.0000,   1.1829,   -9.00
  316N145_7,       I08N,     293,          1,          5,          5,2,19950313,       0036,     2.6668,    80.0007,       4339,  3748.8,   1.4135,  34.7209,2,  34.7207,2,    167.1,2,   167.3,2,  140.88,2,   34.24,2,    0.00,2,    2.43,2,-999.000,9,-999.000,9,  -999.0,9,  -999.0,9,  -9.0000,9,-999.0000,9, -999.00,9,    0.22,2,  -195.1,2,     2.9,-999.000,9,-999.000,-999.000,9,  -9.0000,-999.0000,   1.1236,   -9.00
  316N145_7,       I08N,     293,          1,          4,          4,2,19950313,       0036,     2.6668,    80.0007,       4339,  3952.7,   1.4033,  34.7198,2,  34.7191,2,    170.0,2,   170.0,2,  139.56,2,   34.24,2,    0.00,2,    2.42,2,-999.000,9,-999.000,9,  -999.0,9,  -999.0,9,  -9.0000,9,-999.0000,9, -999.00,9,    0.03,3,  -194.9,2,     4.9,-999.000,9,-999.000,-999.000,9,  -9.0000,-999.0000,   1.0921,   -9.00
  316N145_7,       I08N,     293,          1,          3,          3,2,19950313,       0036,     2.6668,    80.0007,       4339,  4105.9,   1.4085,  34.7196,2,  34.7188,2,    171.8,2,   171.5,2,  139.53,2,   34.15,2,    0.00,2,    2.40,2,-999.000,9,-999.000,9,  -999.0,9,  -999.0,9,  -9.0000,9,-999.0000,9, -999.00,9,    0.23,2,  -196.5,2,     3.2,-999.000,9,-999.000,-999.000,9,  -9.0000,-999.0000,   1.0804,   -9.00
  316N145_7,       I08N,     293,          1,          2,          2,2,19950313,       0036,     2.6668,    80.0007,       4339,  4259.4,   1.4000,  34.7182,2,  34.7180,2,    175.3,2,   174.6,2,  137.78,2,   33.96,2,    0.00,2,    2.37,2,-999.000,9,-999.000,9,  -999.0,9,  -999.0,9,  -9.0000,9,-999.0000,9, -999.00,9,    0.24,2,  -199.7,2,     4.4,-999.000,9,-999.000,-999.000,9,  -9.0000,-999.0000,   1.0552,   -9.00
  316N145_7,       I08N,     293,          1,          1,          1,2,19950313,       0036,     2.6668,    80.0007,       4339,  4407.4,   1.4161,  34.7183,2,  34.7176,2,    174.5,2,   174.5,2,  137.54,2,   33.96,2,    0.00,2,    2.38,2,-999.000,9,-999.000,9,  -999.0,9,  -999.0,9,  -9.0000,9,-999.0000,9, -999.00,9,    0.25,2,  -197.5,2,     2.6,-999.000,9,-999.000,-999.000,9,  -9.0000,-999.0000,   1.0541,   -9.00