BOTTLE,20211124CCHSIORKP
EXPOCODE,SECT_ID,STNNBR,CASTNO,SAMPNO,BTLNBR,BTLNBR_FLAG_W,DATE,TIME,LATITUDE,LONGITUDE,DEPTH,CTDPRS,CTDTMP,CTDSAL,CTDSAL_FLAG_W,SALNTY,SALNTY_FLAG_W,CTDOXY,CTDOXY_FLAG_W,OXYGEN,OXYGEN_FLAG_W,SILCAT,SILCAT_FLAG_W,NITRAT,NITRAT_FLAG_W,NITRIT,NITRIT_FLAG_W,PHSPHT,PHSPHT_FLAG_W,CFC-11,CFC-11_FLAG_W,CFC-12,CFC-12_FLAG_W,TCARBN,TCARBN_FLAG_W,ALKALI,ALKALI_FLAG_W,TRITUM,TRITUM_FLAG_W,HELIUM,HELIUM_FLAG_W,DELHE3,DELHE3_FLAG_W,DELC13,DELC13_FLAG_W,DELC14,DELC14_FLAG_W,C14ERR,NEON,NEON_FLAG_W,NEONER,CCL4,CCL4_FLAG_W,TRITER,HELIER,THETA,DELHER
,,,,,,,,,,,METERS,DBAR,ITS-90,PSS-78,,PSS-78,,UMOL/KG,,UMOL/KG,,UMOL/KG,,UMOL/KG,,UMOL/KG,,UMOL/KG,,PMOL/KG,,PMOL/KG,,UMOL/KG,,UMOL/KG,,TU,,NMOL/KG,,PERCNT,,/MILLE,,/MILLE,,/MILLE,NMOL/KG,,NMOL/KG,PMOL/KG,,TU,NMOL/KG,DEG C,PERCNT
  316N145_7,       I05E,     438,          1,         21,         21,2,19950414,       0529,   -32.5670,   114.3837,       1602,     2.3,  23.9069,  35.8089,2,  35.8031,2,    213.7,2,   215.9,2,    3.72,2,    0.10,2,    0.00,2,    0.07,2,-999.000,9,-999.000,9,  2004.0,2,  2334.8,2,  -9.0000,9,-999.0000,9, -999.00,9, -999.00,9,  -999.0,9,  -999.0,-999.000,9,-999.000,-999.000,9,  -9.0000,-999.0000,  23.9064,   -9.00
  316N145_7,       I05E,     438,          1,         20,         20,2,19950414,       0529,   -32.5670,   114.3837,       1602,    30.1,  23.8294,  35.8025,2,  35.8000,2,    211.1,2,   217.1,2,    3.71,2,    0.10,2,    0.00,2,    0.08,2,-999.000,9,-999.000,9,  2005.1,2,  2339.1,2,  -9.0000,9,-999.0000,9, -999.00,9, -999.00,9,  -999.0,9,  -999.0,-999.000,9,-999.000,-999.000,9,  -9.0000,-999.0000,  23.8231,   -9.00
  316N145_7,       I05E,     438,          1,         19,         19,2,19950414,       0529,   -32.5670,   114.3837,       1602,    54.3,  23.0896,  35.8178,2,  35.8016,2,    214.7,2,   214.0,2,    3.70,2,    0.16,2,    0.03,2,    0.11,2,-999.000,9,-999.000,9,  2017.0,2,  2339.1,2,  -9.0000,9,-999.0000,9, -999.00,9, -999.00,9,  -999.0,9,  -999.0,-999.000,9,-999.000,-999.000,9,  -9.0000,-999.0000,  23.0784,   -9.00
  316N145_7,       I05E,     438,          1,         18,         18,2,19950414,       0529,   -32.5670,   114.3837,       1602,    84.7,  22.1412,  35.8147,2,  35.8204,2,    211.2,2,   202.2,2,    4.32,2,    1.39,2,    0.11,2,    0.21,2,-999.000,9,-999.000,9,  2037.3,2,  2342.8,2,  -9.0000,9,-999.0000,9, -999.00,9, -999.00,9,  -999.0,9,  -999.0,-999.000,9,-999.000,-999.000,9,  -9.0000,-999.0000,  22.1243,   -9.00
  316N145_7,       I05E,     438,          1,         17,         17,2,19950414,       0529,   -32.5670,   114.3837,       1602,   135.8,  20.1305,  35.8700,2,  35.8318,3,    217.6,2,   209.6,2,    3.88,2,    1.22,2,    0.04,2,    0.20,2,-999.000,9,-999.000,9,  2046.0,2,  2343.0,2,  -9.0000,9,-999.0000,9, -999.00,9, -999.00,9,  -999.0,9,  -999.0,-999.000,9,-999.000,-999.000,9,  -9.0000,-999.0000,  20.1052,   -9.00
  316N145_7,       I05E,     438,          1,         16,         16,2,19950414,       0529,   -32.5670,   114.3837,       1602,   185.8,  16.6032,  35.7644,2,  35.7437,2,    239.9,2,   233.6,2,    2.60,2,    0.79,2,    0.04,2,    0.22,2,-999.000,9,-999.000,9,  2064.9,2,  2345.7,2,  -9.0000,9,-999.0000,9, -999.00,9, -999.00,9,  -999.0,9,  -999.0,-999.000,9,-999.000,-999.000,9,  -9.0000,-999.0000,  16.5729,   -9.00
  316N145_7,       I05E,     438,          1,         15,         15,2,19950414,       0529,   -32.5670,   114.3837,       1602,   226.8,  14.4442,  35.4837,2,  35.4992,2,    237.0,2,   233.9,2,    2.37,2,    3.00,2,    0.02,2,    0.38,2,-999.000,9,-999.000,9,  2079.9,2,  2327.4,2,  -9.0000,9,-999.0000,9, -999.00,9, -999.00,9,  -999.0,9,  -999.0,-999.000,9,-999.000,-999.000,9,  -9.0000,-999.0000,  14.4106,   -9.00
  316N145_7,       I05E,     438,          1,         14,         14,2,19950414,       0529,   -32.5670,   114.3837,       1602,   287.4,  12.4953,  35.1667,2,  35.1615,2,    242.1,2,   241.6,2,    2.36,2,    6.47,2,    0.01,2,    0.59,2,-999.000,9,-999.000,9,  2090.2,2,  2313.8,2,  -9.0000,9,-999.0000,9, -999.00,9, -999.00,9,  -999.0,9,  -999.0,-999.000,9,-999.000,-999.000,9,  -9.0000,-999.0000,  12.4566,   -9.00
  316N145_7,       I05E,     438,          1,         13,         13,2,19950414,       0529,   -32.5670,   114.3837,       1602,   347.4,  11.0768,  34.9417,2,  34.9387,2,    240.1,2,   243.3,2,    2.99,2,    9.94,2,    0.01,2,    0.80,2,-999.000,9,-999.000,9,  2100.2,2,  2300.1,2,  -9.0000,9,-999.0000,9, -999.00,9, -999.00,9,  -999.0,9,  -999.0,-999.000,9,-999.000,-999.000,9,  -9.0000,-999.0000,  11.0336,   -9.00
  316N145_7,       I05E,     438,          1,         12,         12,2,19950414,       0529,   -32.5670,   114.3837,       1602,   408.7,  10.0419,  34.7829,2,  34.7735,2,    240.2,2,   245.6,2,    4.03,2,   13.01,2,    0.01,2,    0.97,2,-999.000,9,-999.000,9,  2106.3,2,  2299.2,2,  -9.0000,9,-999.0000,9, -999.00,9, -999.00,9,  -999.0,9,  -999.0,-999.000,9,-999.000,-999.000,9,  -9.0000,-999.0000,   9.9940,   -9.00
  316N145_7,       I05E,     438,          1,         11,         11,2,19950414,       0529,   -32.5670,   114.3837,       1602,   478.7,   9.4790,  34.6983,2,  34.6791,2,    244.3,2,   247.9,2,    4.87,2,   14.78,2,    0.01,2,    1.08,2,-999.000,9,-999.000,9,  2109.6,2,  2289.7,2,  -9.0000,9,-999.0000,9, -999.00,9, -999.00,9,  -999.0,9,  -999.0,-999.000,9,-999.000,-999.000,9,  -9.0000,-999.0000,   9.4247,   -9.00
  316N145_7,       I05E,     438,          1,         10,         10,2,19950414,       0529,   -32.5670,   114.3837,       1602,   558.0,   9.1526,  34.6552,2,  34.6445,2,    242.3,2,   242.8,2,    5.70,2,   16.54,2,    0.01,2,    1.18,2,-999.000,9,-999.000,9,  2115.5,2,  2292.3,2,  -9.0000,9,-999.0000,9, -999.00,9, -999.00,9,  -999.0,9,  -999.0,-999.000,9,-999.000,-999.000,9,  -9.0000,-999.0000,   9.0903,   -9.00
  316N145_7,       I05E,     438,          1,          9,          9,2,19950414,       0529,   -32.5670,   114.3837,       1602,   657.0,   8.4264,  34.5692,2,  34.5578,2,    229.4,2,   228.0,2,    8.45,2,   20.02,2,    0.01,2,    1.39,2,-999.000,9,-999.000,9,  2128.7,2,  2283.6,2,  -9.0000,9,-999.0000,9, -999.00,9, -999.00,9,  -999.0,9,  -999.0,-999.000,9,-999.000,-999.000,9,  -9.0000,-999.0000,   8.3563,   -9.00
  316N145_7,       I05E,     438,          1,          8,          8,2,19950414,       0529,   -32.5670,   114.3837,       1602,   756.6,   7.1542,  34.4808,2,  34.4773,2,    202.0,2,   202.0,2,   16.49,2,   24.98,2,    0.00,2,    1.71,2,-999.000,9,-999.000,9,  2154.6,2,  2292.3,2,  -9.0000,9,-999.0000,9, -999.00,9, -999.00,9,  -999.0,9,  -999.0,-999.000,9,-999.000,-999.000,9,  -9.0000,-999.0000,   7.0802,   -9.00
  316N145_7,       I05E,     438,          1,          7,          7,2,19950414,       0529,   -32.5670,   114.3837,       1602,   854.2,   5.3597,  34.4052,2,  34.4004,2,    190.6,2,   192.3,2,   31.09,2,   29.62,2,    0.01,2,    2.03,2,-999.000,9,-999.000,9,  2184.7,2,  2305.6,2,  -9.0000,9,-999.0000,9, -999.00,9, -999.00,9,  -999.0,9,  -999.0,-999.000,9,-999.000,-999.000,9,  -9.0000,-999.0000,   5.2873,   -9.00
  316N145_7,       I05E,     438,          1,          6,          6,2,19950414,       0529,   -32.5670,   114.3837,       1602,   952.8,   4.5761,  34.4137,2,  34.4073,2,    178.2,2,   179.9,2,   44.85,2,   32.00,2,    0.00,2,    2.22,2,-999.000,9,-999.000,9,  2207.6,2,  2310.7,2,  -9.0000,9,-999.0000,9, -999.00,9, -999.00,9,  -999.0,9,  -999.0,-999.000,9,-999.000,-999.000,9,  -9.0000,-999.0000,   4.5003,   -9.00
  316N145_7,       I05E,     438,          1,          5,          5,2,19950414,       0529,   -32.5670,   114.3837,       1602,  1045.2,   4.3713,  34.4758,2,  34.4696,2,    155.0,2,   155.3,2,   61.15,2,   33.89,2,    0.00,2,    2.37,2,-999.000,9,-999.000,9,  2236.0,2,  2339.5,2,  -9.0000,9,-999.0000,9, -999.00,9, -999.00,9,  -999.0,9,  -999.0,-999.000,9,-999.000,-999.000,9,  -9.0000,-999.0000,   4.2889,   -9.00
  316N145_7,       I05E,     438,          1,          4,          4,2,19950414,       0529,   -32.5670,   114.3837,       1602,  1145.6,   4.1657,  34.5039,2,  34.4720,4,    147.6,2,   146.8,2,   68.77,2,   34.70,2,    0.00,2,    2.44,2,-999.000,9,-999.000,9,  2246.2,2,  2332.8,2,  -9.0000,9,-999.0000,9, -999.00,9, -999.00,9,  -999.0,9,  -999.0,-999.000,9,-999.000,-999.000,9,  -9.0000,-999.0000,   4.0763,   -9.00
  316N145_7,       I05E,     438,          1,          3,          3,2,19950414,       0529,   -32.5670,   114.3837,       1602,  1294.4,   3.7620,  34.5383,2,  34.4740,4,    143.2,2,   143.3,2,   76.82,2,   35.25,2,    0.00,2,    2.48,2,-999.000,9,-999.000,9,  2258.7,2,  2342.6,2,  -9.0000,9,-999.0000,9, -999.00,9, -999.00,9,  -999.0,9,  -999.0,-999.000,9,-999.000,-999.000,9,  -9.0000,-999.0000,   3.6635,   -9.00
  316N145_7,       I05E,     438,          1,          2,          2,2,19950414,       0529,   -32.5670,   114.3837,       1602,  1544.9,   3.1162,  34.5929,2,  34.5725,4,    149.4,2,   149.7,2,   84.23,2,   35.06,2,    0.00,2,    2.46,2,-999.000,9,-999.000,9,  2263.2,2,  2338.3,3,  -9.0000,9,-999.0000,9, -999.00,9, -999.00,9,  -999.0,9,  -999.0,-999.000,9,-999.000,-999.000,9,  -9.0000,-999.0000,   3.0032,   -9.00
  316N145_7,       I05E,     438,          1,          1,          1,2,19950414,       0529,   -32.5670,   114.3837,       1602,  1620.9,   2.8468,  34.6283,2,  34.6293,2,    153.8,2,   153.9,2,   88.25,2,   34.67,2,    0.00,2,    2.42,2,-999.000,9,-999.000,9,  2267.1,2,  2359.7,2,  -9.0000,9,-999.0000,9, -999.00,9, -999.00,9,  -999.0,9,  -999.0,-999.000,9,-999.000,-999.000,9,  -9.0000,-999.0000,   2.7306,   -9.00
  316N145_7,       I05E,     439,          1,         17,         17,2,19950414,       0716,   -32.5828,   114.4658,        996,     1.7,  23.8144,  35.8332,2,  35.8421,2,    217.0,2,   217.3,2,    3.71,2,    0.08,2,    0.00,2,    0.07,2,   1.946,2,   1.081,2,  -999.0,9,  -999.0,9,  -9.0000,9,-999.0000,9, -999.00,9, -999.00,9,  -999.0,9,  -999.0,-999.000,9,-999.000,-999.000,9,  -9.0000,-999.0000,  23.8141,   -9.00
  316N145_7,       I05E,     439,          1,         16,         16,2,19950414,       0716,   -32.5828,   114.4658,        996,    33.9,  23.4916,  35.8254,2,  35.8277,2,    213.0,2,   215.7,2,    3.70,2,    0.03,2,    0.00,2,    0.08,2,-999.000,9,-999.000,9,  -999.0,9,  -999.0,9,  -9.0000,9,-999.0000,9, -999.00,9, -999.00,9,  -999.0,9,  -999.0,-999.000,9,-999.000,-999.000,9,  -9.0000,-999.0000,  23.4846,   -9.00
  316N145_7,       I05E,     439,          1,         15,         15,2,19950414,       0716,   -32.5828,   114.4658,        996,    63.2,  23.0680,  35.8508,2,  35.8429,2,    219.8,2,   217.1,2,    3.47,2,    0.11,2,    0.07,2,    0.11,2,   1.995,2,   1.105,2,  -999.0,9,  -999.0,9,  -9.0000,9,-999.0000,9, -999.00,9, -999.00,9,  -999.0,9,  -999.0,-999.000,9,-999.000,-999.000,9,  -9.0000,-999.0000,  23.0550,   -9.00
  316N145_7,       I05E,     439,          1,         14,         14,2,19950414,       0716,   -32.5828,   114.4658,        996,   103.3,  21.3037,  35.8514,2,  35.8527,2,    210.7,2,   204.2,2,    4.09,2,    1.27,2,    0.03,2,    0.19,2,   2.118,2,   1.167,2,  -999.0,9,  -999.0,9,  -9.0000,9,-999.0000,9, -999.00,9, -999.00,9,  -999.0,9,  -999.0,-999.000,9,-999.000,-999.000,9,  -9.0000,-999.0000,  21.2837,   -9.00
  316N145_7,       I05E,     439,          1,         13,         13,2,19950414,       0716,   -32.5828,   114.4658,        996,   153.5,  19.6070,  35.9177,2,  35.9155,2,    220.6,2,   222.1,2,    3.23,2,    0.41,2,    0.06,2,    0.15,2,-999.000,9,-999.000,9,  -999.0,9,  -999.0,9,  -9.0000,9,-999.0000,9, -999.00,9, -999.00,9,  -999.0,9,  -999.0,-999.000,9,-999.000,-999.000,9,  -9.0000,-999.0000,  19.5789,   -9.00
  316N145_7,       I05E,     439,          1,         12,         12,2,19950414,       0716,   -32.5828,   114.4658,        996,   203.0,  15.9326,  35.7032,2,  35.6918,2,    234.2,2,   234.8,2,    2.36,2,    1.41,2,    0.03,2,    0.27,2,   2.720,2,   1.471,2,  -999.0,9,  -999.0,9,  -9.0000,9,-999.0000,9, -999.00,9, -999.00,9,  -999.0,9,  -999.0,-999.000,9,-999.000,-999.000,9,  -9.0000,-999.0000,  15.9004,   -9.00
  316N145_7,       I05E,     439,          1,         11,         11,2,19950414,       0716,   -32.5828,   114.4658,        996,   254.5,  13.7319,  35.3504,2,  35.3478,2,    239.6,2,   238.6,2,    2.14,2,    4.11,2,    0.01,2,    0.44,2,-999.000,9,-999.000,9,  -999.0,9,  -999.0,9,  -9.0000,9,-999.0000,9, -999.00,9, -999.00,9,  -999.0,9,  -999.0,-999.000,9,-999.000,-999.000,9,  -9.0000,-999.0000,  13.6954,   -9.00
  316N145_7,       I05E,     439,          1,         10,         10,2,19950414,       0716,   -32.5828,   114.4658,        996,   304.9,  12.2660,  35.1180,2,  35.1132,2,    244.0,2,   243.2,2,    2.33,2,    6.85,2,    0.01,2,    0.61,2,   3.231,2,   1.698,2,  -999.0,9,  -999.0,9,  -9.0000,9,-999.0000,9, -999.00,9, -999.00,9,  -999.0,9,  -999.0,-999.000,9,-999.000,-999.000,9,  -9.0000,-999.0000,  12.2254,   -9.00
  316N145_7,       I05E,     439,          1,          9,          9,2,19950414,       0716,   -32.5828,   114.4658,        996,   356.7,  10.7929,  34.8803,2,  34.8735,2,    243.9,2,   246.9,2,    3.17,2,   10.46,2,    0.01,2,    0.82,2,-999.000,9,-999.000,9,  -999.0,9,  -999.0,9,  -9.0000,9,-999.0000,9, -999.00,9, -999.00,9,  -999.0,9,  -999.0,-999.000,9,-999.000,-999.000,9,  -9.0000,-999.0000,  10.7492,   -9.00
  316N145_7,       I05E,     439,          1,          8,          8,2,19950414,       0716,   -32.5828,   114.4658,        996,   405.7,  10.1351,  34.7961,2,  34.7979,2,    244.2,2,   245.0,2,    3.79,2,   12.61,2,    0.00,2,    0.95,2,   3.412,2,   1.739,2,  -999.0,9,  -999.0,9,  -9.0000,9,-999.0000,9, -999.00,9, -999.00,9,  -999.0,9,  -999.0,-999.000,9,-999.000,-999.000,9,  -9.0000,-999.0000,  10.0872,   -9.00
  316N145_7,       I05E,     439,          1,          7,          7,2,19950414,       0716,   -32.5828,   114.4658,        996,   456.0,   9.5593,  34.7092,2,  34.7098,2,    246.1,2,   247.8,2,    4.62,2,   14.42,2,    0.00,2,    1.05,2,-999.000,9,-999.000,9,  -999.0,9,  -999.0,9,  -9.0000,9,-999.0000,9, -999.00,9, -999.00,9,  -999.0,9,  -999.0,-999.000,9,-999.000,-999.000,9,  -9.0000,-999.0000,   9.5073,   -9.00
  316N145_7,       I05E,     439,          1,          6,          6,2,19950414,       0716,   -32.5828,   114.4658,        996,   505.7,   9.3524,  34.6795,2,  34.6802,2,    246.4,2,   247.9,2,    5.03,2,   15.20,2,    0.00,2,    1.10,2,   3.372,2,   1.730,2,  -999.0,9,  -999.0,9,  -9.0000,9,-999.0000,9, -999.00,9, -999.00,9,  -999.0,9,  -999.0,-999.000,9,-999.000,-999.000,9,  -9.0000,-999.0000,   9.2954,   -9.00
  316N145_7,       I05E,     439,          1,          5,          5,2,19950414,       0716,   -32.5828,   114.4658,        996,   606.6,   8.9208,  34.6264,2,  34.6254,2,    235.6,2,   238.2,2,    6.29,2,   17.69,2,    0.00,2,    1.25,2,   2.934,2,   1.493,2,  -999.0,9,  -999.0,9,  -9.0000,9,-999.0000,9, -999.00,9, -999.00,9,  -999.0,9,  -999.0,-999.000,9,-999.000,-999.000,9,  -9.0000,-999.0000,   8.8540,   -9.00
  316N145_7,       I05E,     439,          1,          4,          4,2,19950414,       0716,   -32.5828,   114.4658,        996,   706.4,   7.8092,  34.5204,2,  34.5202,2,    217.2,2,   213.6,2,   12.00,2,   22.54,2,    0.00,2,    1.55,2,   1.910,6,   0.926,6,  -999.0,9,  -999.0,9,  -9.0000,9,-999.0000,9, -999.00,9, -999.00,9,  -999.0,9,  -999.0,-999.000,9,-999.000,-999.000,9,  -9.0000,-999.0000,   7.7369,   -9.00
  316N145_7,       I05E,     439,          1,          3,          3,2,19950414,       0716,   -32.5828,   114.4658,        996,   807.4,   6.0539,  34.4243,2,  34.4293,2,    198.0,2,   195.3,2,   23.85,2,   27.70,2,    0.00,2,    1.89,2,   0.870,2,   0.431,2,  -999.0,9,  -999.0,9,  -9.0000,9,-999.0000,9, -999.00,9, -999.00,9,  -999.0,9,  -999.0,-999.000,9,-999.000,-999.000,9,  -9.0000,-999.0000,   5.9814,   -9.00
  316N145_7,       I05E,     439,          1,          2,          2,2,19950414,       0716,   -32.5828,   114.4658,        996,   907.9,   4.8572,  34.3904,2,  34.3907,2,    190.7,2,   192.8,2,   35.06,2,   30.46,2,    0.00,2,    2.09,2,   0.585,2,   0.288,2,  -999.0,9,  -999.0,9,  -9.0000,9,-999.0000,9, -999.00,9, -999.00,9,  -999.0,9,  -999.0,-999.000,9,-999.000,-999.000,9,  -9.0000,-999.0000,   4.7833,   -9.00
  316N145_7,       I05E,     439,          1,          1,          1,2,19950414,       0716,   -32.5828,   114.4658,        996,  1008.7,   4.5746,  34.4227,2,  34.4237,2,    176.8,2,   177.4,2,   46.90,2,   32.24,2,    0.00,2,    2.23,2,   0.343,2,   0.177,2,  -999.0,9,  -999.0,9,  -9.0000,9,-999.0000,9, -999.00,9, -999.00,9,  -999.0,9,  -999.0,-999.000,9,-999.000,   0.860,6,  -9.0000,-999.0000,   4.4939,   -9.00