BOTTLE,20211124CCHSIORKP
EXPOCODE,SECT_ID,STNNBR,CASTNO,SAMPNO,BTLNBR,BTLNBR_FLAG_W,DATE,TIME,LATITUDE,LONGITUDE,DEPTH,CTDPRS,CTDTMP,CTDSAL,CTDSAL_FLAG_W,SALNTY,SALNTY_FLAG_W,CTDOXY,CTDOXY_FLAG_W,OXYGEN,OXYGEN_FLAG_W,SILCAT,SILCAT_FLAG_W,NITRAT,NITRAT_FLAG_W,NITRIT,NITRIT_FLAG_W,PHSPHT,PHSPHT_FLAG_W,CFC-11,CFC-11_FLAG_W,CFC-12,CFC-12_FLAG_W,TCARBN,TCARBN_FLAG_W,ALKALI,ALKALI_FLAG_W,TRITUM,TRITUM_FLAG_W,HELIUM,HELIUM_FLAG_W,DELHE3,DELHE3_FLAG_W,DELC13,DELC13_FLAG_W,DELC14,DELC14_FLAG_W,C14ERR,NEON,NEON_FLAG_W,NEONER,CCL4,CCL4_FLAG_W,TRITER,HELIER,THETA,DELHER
,,,,,,,,,,,METERS,DBAR,ITS-90,PSS-78,,PSS-78,,UMOL/KG,,UMOL/KG,,UMOL/KG,,UMOL/KG,,UMOL/KG,,UMOL/KG,,PMOL/KG,,PMOL/KG,,UMOL/KG,,UMOL/KG,,TU,,NMOL/KG,,PERCNT,,/MILLE,,/MILLE,,/MILLE,NMOL/KG,,NMOL/KG,PMOL/KG,,TU,NMOL/KG,DEG C,PERCNT
  316N145_7,      TRANS,     358,          1,         36,         36,2,19950327,       2007,   -25.1830,    82.6327,       4242,     3.3,  25.9267,  35.6277,2,  35.6277,2,    203.6,2,   205.2,2,    3.07,2,    0.21,2,    0.00,2,    0.11,2,   1.791,2,   1.008,2,  1993.2,2,  2335.6,2,  -9.0000,9,-999.0000,9, -999.00,9, -999.00,9,  -999.0,9,  -999.0,-999.000,9,-999.000,-999.000,9,  -9.0000,-999.0000,  25.9260,   -9.00
  316N145_7,      TRANS,     358,          1,         35,         35,2,19950327,       2007,   -25.1830,    82.6327,       4242,    30.7,  25.9308,  35.6324,2,  35.6351,2,    207.4,2,   205.1,2,    3.06,2,    0.21,2,    0.00,2,    0.11,2,-999.000,9,-999.000,9,  1992.2,2,  2336.2,2,  -9.0000,9,-999.0000,9, -999.00,9, -999.00,9,  -999.0,9,  -999.0,-999.000,9,-999.000,-999.000,9,  -9.0000,-999.0000,  25.9240,   -9.00
  316N145_7,      TRANS,     358,          1,         34,         34,2,19950327,       2007,   -25.1830,    82.6327,       4242,    50.3,  23.9620,  35.8305,2,  35.8333,2,    225.5,2,   224.5,2,    2.83,2,    0.22,2,    0.00,2,    0.10,2,   2.086,2,   1.149,2,  2017.1,2,  2373.9,3,  -9.0000,9,-999.0000,9, -999.00,9, -999.00,9,  -999.0,9,  -999.0,-999.000,9,-999.000,-999.000,9,  -9.0000,-999.0000,  23.9514,   -9.00
  316N145_7,      TRANS,     358,          1,         33,         33,2,19950327,       2007,   -25.1830,    82.6327,       4242,    80.4,  20.8500,  35.8632,2,  35.8677,2,    242.0,2,   237.3,2,    2.82,2,    0.22,2,    0.00,2,    0.12,2,   2.349,2,   1.272,2,  2029.0,2,  2352.1,2,  -9.0000,9,-999.0000,9, -999.00,9, -999.00,9,  -999.0,9,  -999.0,-999.000,9,-999.000,-999.000,9,  -9.0000,-999.0000,  20.8346,   -9.00
  316N145_7,      TRANS,     358,          1,         32,         32,2,19950327,       2007,   -25.1830,    82.6327,       4242,   105.2,  19.4505,  35.8703,2,  35.8705,2,    234.2,2,   230.9,2,    2.59,2,    0.22,2,    0.00,2,    0.14,2,   2.402,2,   1.287,2,  2043.8,2,  2337.3,2,  -9.0000,9,-999.0000,9, -999.00,9, -999.00,9,  -999.0,9,  -999.0,-999.000,9,-999.000,-999.000,9,  -9.0000,-999.0000,  19.4313,   -9.00
  316N145_7,      TRANS,     358,          1,         31,         31,2,19950327,       2007,   -25.1830,    82.6327,       4242,   146.0,  17.3751,  35.7796,2,  35.8022,2,    215.3,2,   216.8,2,    2.58,2,    1.05,2,    0.09,2,    0.26,2,   2.494,2,   1.329,2,  2073.7,2,  2348.4,2,  -9.0000,9,-999.0000,9, -999.00,9, -999.00,9,  -999.0,9,  -999.0,-999.000,9,-999.000,-999.000,9,  -9.0000,-999.0000,  17.3506,   -9.00
  316N145_7,      TRANS,     358,          1,         30,         30,2,19950327,       2007,   -25.1830,    82.6327,       4242,   186.5,  15.7773,  35.6053,2,  35.6395,2,    216.2,2,   213.9,2,    2.99,2,    3.29,2,    0.01,2,    0.40,2,   2.560,2,   1.348,2,  2088.6,2,  2331.3,2,  -9.0000,9,-999.0000,9, -999.00,9, -999.00,9,  -999.0,9,  -999.0,-999.000,9,-999.000,-999.000,9,  -9.0000,-999.0000,  15.7479,   -9.00
  316N145_7,      TRANS,     358,          1,         29,         29,2,19950327,       2007,   -25.1830,    82.6327,       4242,   226.8,  14.6277,  35.4749,2,  35.4854,2,    216.8,2,   217.9,2,    2.98,2,    5.06,2,    0.01,2,    0.50,2,   2.688,2,   1.388,2,  2094.0,2,  2330.4,2,  -9.0000,9,-999.0000,9, -999.00,9, -999.00,9,  -999.0,9,  -999.0,-999.000,9,-999.000,-999.000,9,  -9.0000,-999.0000,  14.5938,   -9.00
  316N145_7,      TRANS,     358,          1,         28,         28,2,19950327,       2007,   -25.1830,    82.6327,       4242,   287.0,  13.2941,  35.2858,2,  35.2863,2,    222.8,2,   226.2,2,    3.39,2,    7.41,2,    0.00,2,    0.63,2,   2.845,2,   1.468,2,  2098.1,2,  2338.8,2,  -9.0000,9,-999.0000,9, -999.00,9, -999.00,9,  -999.0,9,  -999.0,-999.000,9,-999.000,-999.000,9,  -9.0000,-999.0000,  13.2538,   -9.00
  316N145_7,      TRANS,     358,          1,         27,         27,2,19950327,       2007,   -25.1830,    82.6327,       4242,   347.4,  12.4905,  35.1735,2,  35.1805,2,    227.5,2,   230.0,2,    3.37,2,    8.64,2,    0.00,2,    0.70,2,   2.944,2,   1.505,2,  2100.4,2,  2317.0,2,  -9.0000,9,-999.0000,9, -999.00,9, -999.00,9,  -999.0,9,  -999.0,-999.000,9,-999.000,-999.000,9,  -9.0000,-999.0000,  12.4436,   -9.00
  316N145_7,      TRANS,     358,          1,         26,         26,2,19950327,       2007,   -25.1830,    82.6327,       4242,   407.3,  11.6730,  35.0498,2,  35.0628,2,    234.0,2,   238.8,2,    3.78,2,   10.10,2,    0.00,2,    0.78,2,   2.997,6,   1.526,6,  2103.0,2,  2315.1,2,  -9.0000,9,-999.0000,9, -999.00,9, -999.00,9,  -999.0,9,  -999.0,-999.000,9,-999.000,-999.000,9,  -9.0000,-999.0000,  11.6203,   -9.00
  316N145_7,      TRANS,     358,          1,         25,         25,2,19950327,       2007,   -25.1830,    82.6327,       4242,   487.8,  10.9118,  34.9295,2,  34.9353,2,    238.0,2,   238.2,2,    4.19,2,   11.97,2,    0.00,2,    0.89,2,-999.000,9,-999.000,9,  2105.9,2,  2314.5,2,  -9.0000,9,-999.0000,9, -999.00,9, -999.00,9,  -999.0,9,  -999.0,-999.000,9,-999.000,-999.000,9,  -9.0000,-999.0000,  10.8512,   -9.00
  316N145_7,      TRANS,     358,          1,         24,         24,2,19950327,       2007,   -25.1830,    82.6327,       4242,   568.0,  10.1894,  34.8188,2,  34.8190,2,    237.8,2,   238.3,2,    4.60,2,   13.93,2,    0.00,2,    1.01,2,   2.854,2,   1.436,2,  2111.3,2,  2302.9,2,  -9.0000,9,-999.0000,9, -999.00,9, -999.00,9,  -999.0,9,  -999.0,-999.000,9,-999.000,-999.000,9,  -9.0000,-999.0000,  10.1216,   -9.00
  316N145_7,      TRANS,     358,          1,         23,         23,2,19950327,       2007,   -25.1830,    82.6327,       4242,   648.9,   9.5096,  34.7173,2,  34.7164,2,    234.2,2,   233.6,2,    5.85,2,   16.38,2,    0.00,2,    1.15,2,   2.504,2,   1.241,2,  2118.7,2,  2294.1,2,  -9.0000,9,-999.0000,9, -999.00,9, -999.00,9,  -999.0,9,  -999.0,-999.000,9,-999.000,-999.000,9,  -9.0000,-999.0000,   9.4351,   -9.00
  316N145_7,      TRANS,     358,          1,         22,         22,2,19950327,       2007,   -25.1830,    82.6327,       4242,   729.3,   8.4957,  34.6006,2,  34.5993,2,    221.0,2,   218.7,2,    9.42,2,   20.40,2,    0.00,2,    1.40,2,   1.763,6,   0.866,6,  2134.8,2,  2301.0,2,  -9.0000,9,-999.0000,9, -999.00,9, -999.00,9,  -999.0,9,  -999.0,-999.000,9,-999.000,-999.000,9,  -9.0000,-999.0000,   8.4172,   -9.00
  316N145_7,      TRANS,     358,          1,         21,         21,2,19950327,       2007,   -25.1830,    82.6327,       4242,   829.9,   6.7707,  34.4789,2,  34.4811,2,    199.3,2,   196.6,2,   20.79,2,   26.30,2,    0.00,2,    1.79,2,-999.000,9,-999.000,9,  2167.1,2,  2304.4,2,  -9.0000,9,-999.0000,9, -999.00,9, -999.00,9,  -999.0,9,  -999.0,-999.000,9,-999.000,-999.000,9,  -9.0000,-999.0000,   6.6915,   -9.00
  316N145_7,      TRANS,     358,          1,         20,         20,2,19950327,       2007,   -25.1830,    82.6327,       4242,   930.5,   5.3425,  34.4328,2,  34.4340,2,    182.7,2,   182.8,2,   35.52,2,   30.24,2,    0.00,2,    2.07,2,   0.360,2,   0.177,2,  2194.4,2,  2311.7,2,  -9.0000,9,-999.0000,9, -999.00,9, -999.00,9,  -999.0,9,  -999.0,-999.000,9,-999.000,-999.000,9,  -9.0000,-999.0000,   5.2632,   -9.00
  316N145_7,      TRANS,     358,          1,         19,         19,2,19950327,       2007,   -25.1830,    82.6327,       4242,  1031.6,   4.4695,  34.4539,2,  34.4531,2,    168.0,2,   166.2,2,   52.99,2,   33.12,2,    0.00,2,    2.29,2,   0.147,2,   0.071,2,  2225.5,2,  2338.6,2,  -9.0000,9,-999.0000,9, -999.00,9, -999.00,9,  -999.0,9,  -999.0,-999.000,9,-999.000,-999.000,9,  -9.0000,-999.0000,   4.3875,   -9.00
  316N145_7,      TRANS,     358,          1,         18,         18,2,19950327,       2007,   -25.1830,    82.6327,       4242,  1151.6,   4.0341,  34.5232,2,  34.5226,2,    148.0,2,   146.7,2,   70.68,2,   34.90,2,    0.01,2,    2.44,2,   0.036,2,   0.016,2,  2252.3,2,  2345.3,2,  -9.0000,9,-999.0000,9, -999.00,9, -999.00,9,  -999.0,9,  -999.0,-999.000,9,-999.000,-999.000,9,  -9.0000,-999.0000,   3.9454,   -9.00
  316N145_7,      TRANS,     358,          1,         17,         17,2,19950327,       2007,   -25.1830,    82.6327,       4242,  1274.0,   3.6445,  34.5502,2,  34.5519,2,    145.1,2,   147.1,2,   76.77,2,   35.15,2,    0.00,2,    2.47,2,   0.017,2,   0.009,2,  2263.5,2,  2352.5,2,  -9.0000,9,-999.0000,9, -999.00,9, -999.00,9,  -999.0,9,  -999.0,-999.000,9,-999.000,-999.000,9,  -9.0000,-999.0000,   3.5489,   -9.00
  316N145_7,      TRANS,     358,          1,         16,         16,2,19950327,       2007,   -25.1830,    82.6327,       4242,  1414.6,   3.3373,  34.6038,2,  34.6039,2,    141.8,2,   143.4,2,   84.98,2,   35.10,2,    0.00,2,    2.47,2,-999.000,9,-999.000,9,  2269.7,2,  2362.5,2,  -9.0000,9,-999.0000,9, -999.00,9, -999.00,9,  -999.0,9,  -999.0,-999.000,9,-999.000,-999.000,9,  -9.0000,-999.0000,   3.2328,   -9.00
  316N145_7,      TRANS,     358,          1,         15,         15,2,19950327,       2007,   -25.1830,    82.6327,       4242,  1556.1,   3.0606,  34.6422,2,  34.6413,2,    148.1,2,   147.5,2,   90.23,2,   34.95,2,    0.00,2,    2.44,2,   0.002,2,  -0.001,2,  2275.0,2,  2372.5,2,  -9.0000,9,-999.0000,9, -999.00,9, -999.00,9,  -999.0,9,  -999.0,-999.000,9,-999.000,-999.000,9,  -9.0000,-999.0000,   2.9472,   -9.00
  316N145_7,      TRANS,     358,          1,         14,         14,2,19950327,       2007,   -25.1830,    82.6327,       4242,  1692.0,   2.8541,  34.6797,2,  34.6810,2,    148.4,2,   148.9,2,   96.98,2,   34.70,2,    0.00,2,    2.43,2,   0.000,2,   0.000,2,  2280.5,2,  2372.0,2,  -9.0000,9,-999.0000,9, -999.00,9, -999.00,9,  -999.0,9,  -999.0,-999.000,9,-999.000,-999.000,9,  -9.0000,-999.0000,   2.7316,   -9.00
  316N145_7,      TRANS,     358,          1,         13,         13,2,19950327,       2007,   -25.1830,    82.6327,       4242,  1894.5,   2.5795,  34.7077,2,  34.7089,2,    154.5,2,   154.9,2,  103.75,2,   34.35,2,    0.00,2,    2.40,2,-999.000,9,-999.000,9,  2284.3,2,  2380.5,2,  -9.0000,9,-999.0000,9, -999.00,9, -999.00,9,  -999.0,9,  -999.0,-999.000,9,-999.000,-999.000,9,  -9.0000,-999.0000,   2.4432,   -9.00
  316N145_7,      TRANS,     358,          1,         12,         12,2,19950327,       2007,   -25.1830,    82.6327,       4242,  2095.9,   2.3439,  34.7187,2,  34.7199,2,    160.3,2,   159.9,2,  107.54,2,   34.00,2,    0.00,2,    2.37,2,   0.000,2,  -0.001,2,  2285.5,2,  2390.0,2,  -9.0000,9,-999.0000,9, -999.00,9, -999.00,9,  -999.0,9,  -999.0,-999.000,9,-999.000,-999.000,9,  -9.0000,-999.0000,   2.1936,   -9.00
  316N145_7,      TRANS,     358,          1,         11,         11,2,19950327,       2007,   -25.1830,    82.6327,       4242,  2298.1,   2.1095,  34.7228,2,  34.7241,2,    168.1,2,   169.0,2,  108.56,2,   33.45,2,    0.00,2,    2.32,2,-999.000,9,-999.000,9,  2278.9,2,  2436.3,4,  -9.0000,9,-999.0000,9, -999.00,9, -999.00,9,  -999.0,9,  -999.0,-999.000,9,-999.000,-999.000,9,  -9.0000,-999.0000,   1.9452,   -9.00
  316N145_7,      TRANS,     358,          1,         10,         10,2,19950327,       2007,   -25.1830,    82.6327,       4242,  2502.1,   1.9250,  34.7256,2,  34.7274,2,    178.2,2,   178.4,2,  108.30,2,   32.95,2,    0.00,2,    2.28,2,  -0.001,2,  -0.001,2,  2275.1,2,  2382.5,2,  -9.0000,9,-999.0000,9, -999.00,9, -999.00,9,  -999.0,9,  -999.0,-999.000,9,-999.000,-999.000,9,  -9.0000,-999.0000,   1.7456,   -9.00
  316N145_7,      TRANS,     358,          1,          9,          9,2,19950327,       2007,   -25.1830,    82.6327,       4242,  2705.4,   1.7912,  34.7291,2,  34.7314,3,    184.5,2,   183.8,2,  107.40,2,   32.36,2,    0.00,2,    2.23,2,-999.000,9,-999.000,9,  2270.8,2,  2387.2,3,  -9.0000,9,-999.0000,9, -999.00,9, -999.00,9,  -999.0,9,  -999.0,-999.000,9,-999.000,-999.000,9,  -9.0000,-999.0000,   1.5958,   -9.00
  316N145_7,      TRANS,     358,          1,          8,          8,2,19950327,       2007,   -25.1830,    82.6327,       4242,  2910.2,   1.6622,  34.7328,2,  34.7334,2,    190.5,2,   191.8,2,  106.72,2,   32.01,2,    0.00,2,    2.20,2,  -0.001,2,   0.000,2,  2265.8,2,  2379.7,2,  -9.0000,9,-999.0000,9, -999.00,9, -999.00,9,  -999.0,9,  -999.0,-999.000,9,-999.000,-999.000,9,  -9.0000,-999.0000,   1.4502,   -9.00
  316N145_7,      TRANS,     358,          1,          7,          7,2,19950327,       2007,   -25.1830,    82.6327,       4242,  3113.4,   1.5488,  34.7318,2,  34.7346,3,    194.3,2,   193.7,2,  108.80,2,   31.96,2,    0.00,2,    2.19,2,-999.000,9,-999.000,9,  2266.8,2,  2378.7,2,  -9.0000,9,-999.0000,9, -999.00,9, -999.00,9,  -999.0,9,  -999.0,-999.000,9,-999.000,-999.000,9,  -9.0000,-999.0000,   1.3197,   -9.00
  316N145_7,      TRANS,     358,          1,          6,          6,2,19950327,       2007,   -25.1830,    82.6327,       4242,  3317.4,   1.4496,  34.7283,2,  34.7297,2,    194.5,2,   195.4,2,  112.39,2,   32.16,2,    0.00,2,    2.21,2,   0.002,2,   0.000,2,  2268.5,2,  2382.4,2,  -9.0000,9,-999.0000,9, -999.00,9, -999.00,9,  -999.0,9,  -999.0,-999.000,9,-999.000,-999.000,9,  -9.0000,-999.0000,   1.2029,   -9.00
  316N145_7,      TRANS,     358,          1,          5,          5,2,19950327,       2007,   -25.1830,    82.6327,       4242,  3521.1,   1.3975,  34.7254,2,  34.7263,2,    195.1,2,   193.3,2,  116.63,2,   32.45,2,    0.00,2,    2.24,2,-999.000,9,-999.000,9,  2274.3,2,  2454.9,4,  -9.0000,9,-999.0000,9, -999.00,9, -999.00,9,  -999.0,9,  -999.0,-999.000,9,-999.000,-999.000,9,  -9.0000,-999.0000,   1.1316,   -9.00
  316N145_7,      TRANS,     358,          1,          4,          4,2,19950327,       2007,   -25.1830,    82.6327,       4242,  3725.2,   1.3859,  34.7240,2,  34.7254,2,    192.7,2,   192.2,2,  119.37,2,   32.70,2,    0.00,2,    2.25,2,   0.001,2,   0.001,2,  2279.3,2,  2399.6,2,  -9.0000,9,-999.0000,9, -999.00,9, -999.00,9,  -999.0,9,  -999.0,-999.000,9,-999.000,-999.000,9,  -9.0000,-999.0000,   1.0992,   -9.00
  316N145_7,      TRANS,     358,          1,          3,          3,2,19950327,       2007,   -25.1830,    82.6327,       4242,  3927.9,   1.3927,  34.7222,2,  34.7224,2,    190.3,2,   190.4,2,  121.68,2,   32.94,2,    0.00,2,    2.28,2,-999.000,9,-999.000,9,  2283.6,2,  -999.0,5,  -9.0000,9,-999.0000,9, -999.00,9, -999.00,9,  -999.0,9,  -999.0,-999.000,9,-999.000,-999.000,9,  -9.0000,-999.0000,   1.0844,   -9.00
  316N145_7,      TRANS,     358,          1,          2,          2,2,19950327,       2007,   -25.1830,    82.6327,       4242,  4132.2,   1.4068,  34.7217,2,  34.7227,2,    190.2,2,   190.1,2,  122.71,2,   32.99,2,    0.00,2,    2.27,2,  -0.001,2,   0.000,2,  2285.4,2,  2401.6,2,  -9.0000,9,-999.0000,9, -999.00,9, -999.00,9,  -999.0,9,  -999.0,-999.000,9,-999.000,-999.000,9,  -9.0000,-999.0000,   1.0759,   -9.00
  316N145_7,      TRANS,     358,          1,          1,          1,2,19950327,       2007,   -25.1830,    82.6327,       4242,  4310.7,   1.4129,  34.7200,2,  34.7215,2,    187.7,2,   188.0,2,  125.46,2,   33.24,2,    0.00,2,    2.29,2,  -0.002,2,   0.000,2,  2288.6,2,  -999.0,5,  -9.0000,9,-999.0000,9, -999.00,9, -999.00,9,  -999.0,9,  -999.0,-999.000,9,-999.000,-999.000,9,  -9.0000,-999.0000,   1.0620,   -9.00