BOTTLE,20211124CCHSIORKP
EXPOCODE,SECT_ID,STNNBR,CASTNO,SAMPNO,BTLNBR,BTLNBR_FLAG_W,DATE,TIME,LATITUDE,LONGITUDE,DEPTH,CTDPRS,CTDTMP,CTDSAL,CTDSAL_FLAG_W,SALNTY,SALNTY_FLAG_W,CTDOXY,CTDOXY_FLAG_W,OXYGEN,OXYGEN_FLAG_W,SILCAT,SILCAT_FLAG_W,NITRAT,NITRAT_FLAG_W,NITRIT,NITRIT_FLAG_W,PHSPHT,PHSPHT_FLAG_W,CFC-11,CFC-11_FLAG_W,CFC-12,CFC-12_FLAG_W,TCARBN,TCARBN_FLAG_W,ALKALI,ALKALI_FLAG_W,TRITUM,TRITUM_FLAG_W,HELIUM,HELIUM_FLAG_W,DELHE3,DELHE3_FLAG_W,DELC13,DELC13_FLAG_W,DELC14,DELC14_FLAG_W,C14ERR,NEON,NEON_FLAG_W,NEONER,CCL4,CCL4_FLAG_W,TRITER,HELIER,THETA,DELHER
,,,,,,,,,,,METERS,DBAR,ITS-90,PSS-78,,PSS-78,,UMOL/KG,,UMOL/KG,,UMOL/KG,,UMOL/KG,,UMOL/KG,,UMOL/KG,,PMOL/KG,,PMOL/KG,,UMOL/KG,,UMOL/KG,,TU,,NMOL/KG,,PERCNT,,/MILLE,,/MILLE,,/MILLE,NMOL/KG,,NMOL/KG,PMOL/KG,,TU,NMOL/KG,DEG C,PERCNT
  316N145_7,       I05E,     420,          2,         36,         36,2,19950409,       2320,   -31.9835,   103.0002,       5223,     3.2,  21.4707,  36.1434,2,  36.1415,2,    220.2,2,   220.1,2,    3.08,2,    0.15,2,    0.00,2,    0.11,2,-999.000,9,-999.000,9,  2051.4,2,  2361.8,2,  -9.0000,9,-999.0000,9, -999.00,9, -999.00,9,  -999.0,9,  -999.0,-999.000,9,-999.000,-999.000,9,  -9.0000,-999.0000,  21.4700,   -9.00
  316N145_7,       I05E,     420,          2,         35,         35,2,19950409,       2320,   -31.9835,   103.0002,       5223,    36.9,  21.4665,  36.1444,2,  36.1395,2,    221.2,2,   220.2,2,    3.06,2,    0.15,2,    0.00,2,    0.11,2,-999.000,9,-999.000,9,  2051.7,2,  2368.0,2,  -9.0000,9,-999.0000,9, -999.00,9, -999.00,9,  -999.0,9,  -999.0,-999.000,9,-999.000,-999.000,9,  -9.0000,-999.0000,  21.4593,   -9.00
  316N145_7,       I05E,     420,          2,         34,         34,2,19950409,       2320,   -31.9835,   103.0002,       5223,    67.4,  17.9939,  35.6417,2,  35.5563,2,    250.2,2,   262.8,2,    2.20,2,    0.15,2,    0.00,2,    0.19,2,-999.000,9,-999.000,9,  2055.1,2,  2337.1,2,  -9.0000,9,-999.0000,9, -999.00,9, -999.00,9,  -999.0,9,  -999.0,-999.000,9,-999.000,-999.000,9,  -9.0000,-999.0000,  17.9823,   -9.00
  316N145_7,       I05E,     420,          2,         33,         33,2,19950409,       2320,   -31.9835,   103.0002,       5223,   107.5,  15.0788,  35.5910,2,  35.5824,2,    232.3,2,   230.5,2,    2.61,2,    2.48,2,    0.04,2,    0.36,2,-999.000,9,-999.000,9,  2084.5,2,  2386.9,4,  -9.0000,9,-999.0000,9, -999.00,9, -999.00,9,  -999.0,9,  -999.0,-999.000,9,-999.000,-999.000,9,  -9.0000,-999.0000,  15.0625,   -9.00
  316N145_7,       I05E,     420,          2,         32,         32,2,19950409,       2320,   -31.9835,   103.0002,       5223,   136.6,  14.0832,  35.4518,2,  35.4394,2,    230.1,2,   231.0,2,    2.81,2,    4.54,2,    0.02,2,    0.47,2,-999.000,9,-999.000,9,  2089.7,2,  2329.9,2,  -9.0000,9,-999.0000,9, -999.00,9, -999.00,9,  -999.0,9,  -999.0,-999.000,9,-999.000,-999.000,9,  -9.0000,-999.0000,  14.0634,   -9.00
  316N145_7,       I05E,     420,          2,         31,         31,2,19950409,       2320,   -31.9835,   103.0002,       5223,   207.2,  12.4173,  35.1876,2,  35.1838,2,    232.2,2,   236.5,2,    3.22,2,    7.63,2,    0.01,2,    0.65,2,-999.000,9,-999.000,9,  2097.5,2,  -999.0,5,  -9.0000,9,-999.0000,9, -999.00,9, -999.00,9,  -999.0,9,  -999.0,-999.000,9,-999.000,-999.000,9,  -9.0000,-999.0000,  12.3896,   -9.00
  316N145_7,       I05E,     420,          2,         30,         30,2,19950409,       2320,   -31.9835,   103.0002,       5223,   288.7,  11.4248,  35.0190,2,  35.0181,2,    238.3,2,   243.6,2,    3.85,2,    9.67,2,    0.01,2,    0.78,2,-999.000,9,-999.000,9,  2101.4,2,  2310.7,2,  -9.0000,9,-999.0000,9, -999.00,9, -999.00,9,  -999.0,9,  -999.0,-999.000,9,-999.000,-999.000,9,  -9.0000,-999.0000,  11.3882,   -9.00
  316N145_7,       I05E,     420,          2,         29,         29,2,19950409,       2320,   -31.9835,   103.0002,       5223,   358.4,  10.8448,  34.9287,2,  34.9244,2,    244.0,2,   245.3,2,    4.25,2,   11.07,2,    0.01,2,    0.86,2,-999.000,9,-999.000,9,  2104.5,2,  2321.1,3,  -9.0000,9,-999.0000,9, -999.00,9, -999.00,9,  -999.0,9,  -999.0,-999.000,9,-999.000,-999.000,9,  -9.0000,-999.0000,  10.8007,   -9.00
  316N145_7,       I05E,     420,          2,         28,         28,2,19950409,       2320,   -31.9835,   103.0002,       5223,   458.0,  10.0736,  34.8026,2,  34.8084,2,    244.4,2,   245.0,2,    4.66,2,   13.06,2,    0.01,2,    0.98,2,-999.000,9,-999.000,9,  2110.2,2,  2299.4,2,  -9.0000,9,-999.0000,9, -999.00,9, -999.00,9,  -999.0,9,  -999.0,-999.000,9,-999.000,-999.000,9,  -9.0000,-999.0000,  10.0196,   -9.00
  316N145_7,       I05E,     420,          2,         27,         27,2,19950409,       2320,   -31.9835,   103.0002,       5223,   559.7,   9.5064,  34.7142,2,  34.7139,2,    239.0,2,   238.9,2,    5.50,2,   15.53,2,    0.01,2,    1.13,2,-999.000,9,-999.000,9,  2116.0,2,  2324.5,3,  -9.0000,9,-999.0000,9, -999.00,9, -999.00,9,  -999.0,9,  -999.0,-999.000,9,-999.000,-999.000,9,  -9.0000,-999.0000,   9.4425,   -9.00
  316N145_7,       I05E,     420,          2,         26,         26,2,19950409,       2320,   -31.9835,   103.0002,       5223,   659.9,   8.7651,  34.6236,2,  34.6199,2,    229.8,2,   225.9,2,    7.81,2,   18.83,2,    0.01,2,    1.33,2,-999.000,9,-999.000,9,  2129.0,2,  2293.2,2,  -9.0000,9,-999.0000,9, -999.00,9, -999.00,9,  -999.0,9,  -999.0,-999.000,9,-999.000,-999.000,9,  -9.0000,-999.0000,   8.6930,   -9.00
  316N145_7,       I05E,     420,          2,         25,         25,2,19950409,       2320,   -31.9835,   103.0002,       5223,   760.3,   7.4830,  34.5046,2,  34.5074,2,    206.7,2,   203.9,2,   14.35,2,   23.78,2,    0.01,2,    1.65,2,-999.000,9,-999.000,9,  2153.3,2,  2324.3,3,  -9.0000,9,-999.0000,9, -999.00,9, -999.00,9,  -999.0,9,  -999.0,-999.000,9,-999.000,-999.000,9,  -9.0000,-999.0000,   7.4067,   -9.00
  316N145_7,       I05E,     420,          2,         24,         24,2,19950409,       2320,   -31.9835,   103.0002,       5223,   861.4,   5.7843,  34.4093,2,  34.4138,2,    196.4,2,   196.2,2,   25.11,2,   28.12,2,    0.01,2,    1.95,2,-999.000,9,-999.000,9,  2176.2,2,  2295.0,2,  -9.0000,9,-999.0000,9, -999.00,9, -999.00,9,  -999.0,9,  -999.0,-999.000,9,-999.000,-999.000,9,  -9.0000,-999.0000,   5.7084,   -9.00
  316N145_7,       I05E,     420,          2,         23,         23,2,19950409,       2320,   -31.9835,   103.0002,       5223,   961.7,   4.6619,  34.3776,2,  34.3761,2,    195.2,2,   194.9,2,   35.45,2,   30.62,2,    0.01,2,    2.13,2,-999.000,9,-999.000,9,  2193.4,2,  2327.7,3,  -9.0000,9,-999.0000,9, -999.00,9, -999.00,9,  -999.0,9,  -999.0,-999.000,9,-999.000,-999.000,9,  -9.0000,-999.0000,   4.5847,   -9.00
  316N145_7,       I05E,     420,          2,         22,         22,2,19950409,       2320,   -31.9835,   103.0002,       5223,  1062.9,   4.0163,  34.4052,2,  34.4025,2,    183.1,2,   182.6,2,   47.89,2,   32.48,2,    0.00,2,    2.27,2,-999.000,9,-999.000,9,  2213.9,2,  2316.0,2,  -9.0000,9,-999.0000,9, -999.00,9, -999.00,9,  -999.0,9,  -999.0,-999.000,9,-999.000,-999.000,9,  -9.0000,-999.0000,   3.9355,   -9.00
  316N145_7,       I05E,     420,          2,         21,         21,2,19950409,       2320,   -31.9835,   103.0002,       5223,  1213.2,   3.5799,  34.4805,2,  34.4786,2,    159.7,2,   162.0,2,   64.99,2,   34.25,2,    0.01,2,    2.42,2,-999.000,9,-999.000,9,  2241.8,2,  2351.6,3,  -9.0000,9,-999.0000,9, -999.00,9, -999.00,9,  -999.0,9,  -999.0,-999.000,9,-999.000,-999.000,9,  -9.0000,-999.0000,   3.4901,   -9.00
  316N145_7,       I05E,     420,          2,         20,         20,2,19950409,       2320,   -31.9835,   103.0002,       5223,  1415.5,   3.1619,  34.5559,2,  34.5541,2,    153.9,2,   153.3,2,   77.44,2,   34.69,2,    0.01,2,    2.46,2,-999.000,9,-999.000,9,  2258.4,2,  2348.8,2,  -9.0000,9,-999.0000,9, -999.00,9, -999.00,9,  -999.0,9,  -999.0,-999.000,9,-999.000,-999.000,9,  -9.0000,-999.0000,   3.0593,   -9.00
  316N145_7,       I05E,     420,          2,         19,         19,2,19950409,       2320,   -31.9835,   103.0002,       5223,  1617.0,   2.8825,  34.6256,2,  34.6232,2,    152.4,2,   153.6,2,   86.52,2,   34.40,2,    0.01,2,    2.44,2,-999.000,9,-999.000,9,  2267.9,2,  2353.1,2,  -9.0000,9,-999.0000,9, -999.00,9, -999.00,9,  -999.0,9,  -999.0,-999.000,9,-999.000,-999.000,9,  -9.0000,-999.0000,   2.7661,   -9.00
  316N145_7,       I05E,     420,          2,         18,         18,2,19950409,       2320,   -31.9835,   103.0002,       5223,  1819.1,   2.6216,  34.6725,2,  34.6720,2,    158.7,2,   160.2,2,   91.58,2,   33.61,2,    0.01,2,    2.38,2,-999.000,9,-999.000,9,  2268.7,2,  2365.4,2,  -9.0000,9,-999.0000,9, -999.00,9, -999.00,9,  -999.0,9,  -999.0,-999.000,9,-999.000,-999.000,9,  -9.0000,-999.0000,   2.4914,   -9.00
  316N145_7,       I05E,     420,          2,         17,         17,2,19950409,       2320,   -31.9835,   103.0002,       5223,  2021.8,   2.4010,  34.7045,2,  34.7031,2,    161.9,2,   163.1,2,   98.99,2,   33.37,2,    0.01,2,    2.36,2,-999.000,9,-999.000,9,  2274.1,2,  2435.6,4,  -9.0000,9,-999.0000,9, -999.00,9, -999.00,9,  -999.0,9,  -999.0,-999.000,9,-999.000,-999.000,9,  -9.0000,-999.0000,   2.2563,   -9.00
  316N145_7,       I05E,     420,          2,         16,         16,2,19950409,       2320,   -31.9835,   103.0002,       5223,  2224.4,   2.2229,  34.7195,2,  34.7184,2,    168.1,2,   167.8,2,  103.21,2,   33.08,2,    0.01,2,    2.34,2,-999.000,9,-999.000,9,  2276.0,2,  2378.7,2,  -9.0000,9,-999.0000,9, -999.00,9, -999.00,9,  -999.0,9,  -999.0,-999.000,9,-999.000,-999.000,9,  -9.0000,-999.0000,   2.0633,   -9.00
  316N145_7,       I05E,     420,          2,         15,         15,2,19950409,       2320,   -31.9835,   103.0002,       5223,  2427.4,   2.0564,  34.7283,2,  34.7279,2,    175.5,2,   174.1,2,  104.01,2,   32.54,2,    0.00,2,    2.29,2,-999.000,9,-999.000,9,  2271.4,2,  2389.5,3,  -9.0000,9,-999.0000,9, -999.00,9, -999.00,9,  -999.0,9,  -999.0,-999.000,9,-999.000,-999.000,9,  -9.0000,-999.0000,   1.8814,   -9.00
  316N145_7,       I05E,     420,          2,         14,         14,2,19950409,       2320,   -31.9835,   103.0002,       5223,  2630.1,   1.8843,  34.7337,2,  34.7330,2,    183.3,2,   182.3,2,  104.61,2,   32.00,2,    0.00,2,    2.25,2,-999.000,9,-999.000,9,  2269.0,2,  2378.2,2,  -9.0000,9,-999.0000,9, -999.00,9, -999.00,9,  -999.0,9,  -999.0,-999.000,9,-999.000,-999.000,9,  -9.0000,-999.0000,   1.6939,   -9.00
  316N145_7,       I05E,     420,          2,         13,         13,2,19950409,       2320,   -31.9835,   103.0002,       5223,  2833.8,   1.7390,  34.7363,2,  34.7356,2,    188.7,2,   188.6,2,  104.56,2,   31.66,2,    0.00,2,    2.21,2,-999.000,9,-999.000,9,  2265.6,2,  2382.3,2,  -9.0000,9,-999.0000,9, -999.00,9, -999.00,9,  -999.0,9,  -999.0,-999.000,9,-999.000,-999.000,9,  -9.0000,-999.0000,   1.5325,   -9.00
  316N145_7,       I05E,     420,          2,         12,         12,2,19950409,       2320,   -31.9835,   103.0002,       5223,  3037.8,   1.5896,  34.7344,2,  34.7350,2,    192.2,2,   192.0,2,  108.36,2,   31.66,2,    0.00,2,    2.22,2,-999.000,9,-999.000,9,  2263.9,2,  2378.8,2,  -9.0000,9,-999.0000,9, -999.00,9, -999.00,9,  -999.0,9,  -999.0,-999.000,9,-999.000,-999.000,9,  -9.0000,-999.0000,   1.3670,   -9.00
  316N145_7,       I05E,     420,          2,         11,         11,2,19950409,       2320,   -31.9835,   103.0002,       5223,  3240.9,   1.4484,  34.7327,2,  34.7315,2,    198.0,2,   196.5,2,  109.59,2,   31.57,2,    0.00,2,    2.20,2,-999.000,9,-999.000,9,  2260.2,2,  2372.3,2,  -9.0000,9,-999.0000,9, -999.00,9, -999.00,9,  -999.0,9,  -999.0,-999.000,9,-999.000,-999.000,9,  -9.0000,-999.0000,   1.2092,   -9.00
  316N145_7,       I05E,     420,          2,         10,         10,2,19950409,       2320,   -31.9835,   103.0002,       5223,  3443.8,   1.3153,  34.7278,2,  34.7264,2,    200.0,2,   200.1,2,  112.33,2,   31.57,2,    0.00,2,    2.20,2,-999.000,9,-999.000,9,  2260.8,2,  2373.1,2,  -9.0000,9,-999.0000,9, -999.00,9, -999.00,9,  -999.0,9,  -999.0,-999.000,9,-999.000,-999.000,9,  -9.0000,-999.0000,   1.0592,   -9.00
  316N145_7,       I05E,     420,          2,          9,          9,2,19950409,       2320,   -31.9835,   103.0002,       5223,  3648.4,   1.2106,  34.7234,2,  34.7221,2,    202.1,2,   204.5,3,  115.07,2,   31.77,2,    0.00,2,    2.21,2,-999.000,9,-999.000,9,  2261.3,2,  2380.5,2,  -9.0000,9,-999.0000,9, -999.00,9, -999.00,9,  -999.0,9,  -999.0,-999.000,9,-999.000,-999.000,9,  -9.0000,-999.0000,   0.9365,   -9.00
  316N145_7,       I05E,     420,          2,          8,          8,2,19950409,       2320,   -31.9835,   103.0002,       5223,  3852.8,   1.1166,  34.7185,2,  34.7176,2,    204.5,2,   204.0,2,  117.60,2,   31.92,2,    0.00,2,    2.22,2,-999.000,9,-999.000,9,  2261.7,2,  2375.1,2,  -9.0000,9,-999.0000,9, -999.00,9, -999.00,9,  -999.0,9,  -999.0,-999.000,9,-999.000,-999.000,9,  -9.0000,-999.0000,   0.8239,   -9.00
  316N145_7,       I05E,     420,          2,          7,          7,2,19950409,       2320,   -31.9835,   103.0002,       5223,  4100.0,   1.0469,  34.7145,2,  34.7133,2,    205.6,2,   205.9,2,  119.48,2,   31.92,2,    0.00,2,    2.22,2,-999.000,9,-999.000,9,  2262.6,2,  2387.7,3,  -9.0000,9,-999.0000,9, -999.00,9, -999.00,9,  -999.0,9,  -999.0,-999.000,9,-999.000,-999.000,9,  -9.0000,-999.0000,   0.7300,   -9.00
  316N145_7,       I05E,     420,          2,          6,          6,2,19950409,       2320,   -31.9835,   103.0002,       5223,  4261.5,   1.0209,  34.7124,2,  34.7112,2,    205.8,2,   205.8,2,  120.07,2,   32.02,2,    0.00,2,    2.23,2,-999.000,9,-999.000,9,  2263.1,2,  2379.8,2,  -9.0000,9,-999.0000,9, -999.00,9, -999.00,9,  -999.0,9,  -999.0,-999.000,9,-999.000,-999.000,9,  -9.0000,-999.0000,   0.6872,   -9.00
  316N145_7,       I05E,     420,          2,          5,          5,2,19950409,       2320,   -31.9835,   103.0002,       5223,  4466.2,   0.9981,  34.7104,2,  34.7092,2,    206.0,2,   206.7,2,  121.31,2,   32.17,2,    0.00,2,    2.23,2,-999.000,9,-999.000,9,  2264.3,2,  2380.1,2,  -9.0000,9,-999.0000,9, -999.00,9, -999.00,9,  -999.0,9,  -999.0,-999.000,9,-999.000,-999.000,9,  -9.0000,-999.0000,   0.6424,   -9.00
  316N145_7,       I05E,     420,          2,          4,          4,2,19950409,       2320,   -31.9835,   103.0002,       5223,  4671.1,   0.9884,  34.7091,2,  34.7083,2,    206.7,2,   207.4,2,  121.90,2,   32.08,2,    0.00,2,    2.23,2,-999.000,9,-999.000,9,  2264.4,2,  2377.8,2,  -9.0000,9,-999.0000,9, -999.00,9, -999.00,9,  -999.0,9,  -999.0,-999.000,9,-999.000,-999.000,9,  -9.0000,-999.0000,   0.6097,   -9.00
  316N145_7,       I05E,     420,          2,          3,          3,2,19950409,       2320,   -31.9835,   103.0002,       5223,  4875.7,   0.9870,  34.7079,2,  34.7069,2,    207.8,2,   207.5,2,  122.50,2,   32.13,2,    0.00,2,    2.24,2,-999.000,9,-999.000,9,  2264.4,2,  2384.5,2,  -9.0000,9,-999.0000,9, -999.00,9, -999.00,9,  -999.0,9,  -999.0,-999.000,9,-999.000,-999.000,9,  -9.0000,-999.0000,   0.5847,   -9.00
  316N145_7,       I05E,     420,          2,          2,          2,2,19950409,       2320,   -31.9835,   103.0002,       5223,  5080.1,   0.9904,  34.7068,2,  34.7063,2,    207.6,2,   207.7,2,  122.87,2,   32.28,2,    0.00,2,    2.24,2,-999.000,9,-999.000,9,  2264.8,2,  2380.7,2,  -9.0000,9,-999.0000,9, -999.00,9, -999.00,9,  -999.0,9,  -999.0,-999.000,9,-999.000,-999.000,9,  -9.0000,-999.0000,   0.5637,   -9.00
  316N145_7,       I05E,     420,          2,          1,          1,2,19950409,       2320,   -31.9835,   103.0002,       5223,  5343.7,   1.0050,  34.7060,2,  34.7058,2,    208.8,2,   208.0,2,  123.03,2,   32.23,2,    0.00,2,    2.24,2,-999.000,9,-999.000,9,  2265.6,2,  2388.3,2,  -9.0000,9,-999.0000,9, -999.00,9, -999.00,9,  -999.0,9,  -999.0,-999.000,9,-999.000,-999.000,9,  -9.0000,-999.0000,   0.5458,   -9.00