BOTTLE,20211124CCHSIORKP
EXPOCODE,SECT_ID,STNNBR,CASTNO,SAMPNO,BTLNBR,BTLNBR_FLAG_W,DATE,TIME,LATITUDE,LONGITUDE,DEPTH,CTDPRS,CTDTMP,CTDSAL,CTDSAL_FLAG_W,SALNTY,SALNTY_FLAG_W,CTDOXY,CTDOXY_FLAG_W,OXYGEN,OXYGEN_FLAG_W,SILCAT,SILCAT_FLAG_W,NITRAT,NITRAT_FLAG_W,NITRIT,NITRIT_FLAG_W,PHSPHT,PHSPHT_FLAG_W,CFC-11,CFC-11_FLAG_W,CFC-12,CFC-12_FLAG_W,TCARBN,TCARBN_FLAG_W,ALKALI,ALKALI_FLAG_W,TRITUM,TRITUM_FLAG_W,HELIUM,HELIUM_FLAG_W,DELHE3,DELHE3_FLAG_W,DELC13,DELC13_FLAG_W,DELC14,DELC14_FLAG_W,C14ERR,NEON,NEON_FLAG_W,NEONER,CCL4,CCL4_FLAG_W,TRITER,HELIER,THETA,DELHER
,,,,,,,,,,,METERS,DBAR,ITS-90,PSS-78,,PSS-78,,UMOL/KG,,UMOL/KG,,UMOL/KG,,UMOL/KG,,UMOL/KG,,UMOL/KG,,PMOL/KG,,PMOL/KG,,UMOL/KG,,UMOL/KG,,TU,,NMOL/KG,,PERCNT,,/MILLE,,/MILLE,,/MILLE,NMOL/KG,,NMOL/KG,PMOL/KG,,TU,NMOL/KG,DEG C,PERCNT
  316N145_7,       I08N,     291,          1,         36,         36,2,19950312,       1448,     3.3275,    80.0022,       4354,     2.4,  28.9157,  34.3873,2,  34.3871,2,    196.4,2,   197.3,2,    2.81,2,    0.09,2,    0.00,2,    0.13,2,-999.000,9,-999.000,9,  -999.0,9,  -999.0,9,  -9.0000,9,-999.0000,9, -999.00,9, -999.00,9,  -999.0,9,  -999.0,-999.000,9,-999.000,-999.000,9,  -9.0000,-999.0000,  28.9151,   -9.00
  316N145_7,       I08N,     291,          1,         35,         35,2,19950312,       1448,     3.3275,    80.0022,       4354,    26.4,  28.6953,  34.3756,2,  34.3735,2,    196.9,2,  -999.0,5,    2.80,2,    0.08,2,    0.00,2,    0.13,2,-999.000,9,-999.000,9,  -999.0,9,  -999.0,9,  -9.0000,9,-999.0000,9, -999.00,9, -999.00,9,  -999.0,9,  -999.0,-999.000,9,-999.000,-999.000,9,  -9.0000,-999.0000,  28.6889,   -9.00
  316N145_7,       I08N,     291,          1,         34,         34,2,19950312,       1448,     3.3275,    80.0022,       4354,    46.6,  28.5811,  34.4947,2,  34.5365,2,    194.5,2,   191.8,2,    2.99,2,    0.29,2,    0.02,2,    0.16,2,-999.000,9,-999.000,9,  -999.0,9,  -999.0,9,  -9.0000,9,-999.0000,9, -999.00,9, -999.00,9,  -999.0,9,  -999.0,-999.000,9,-999.000,-999.000,9,  -9.0000,-999.0000,  28.5700,   -9.00
  316N145_7,       I08N,     291,          1,         33,         33,2,19950312,       1448,     3.3275,    80.0022,       4354,    76.7,  21.9058,  35.3164,2,  35.2801,2,     92.1,2,    91.2,2,   11.68,2,   14.96,2,    0.39,2,    1.15,2,-999.000,9,-999.000,9,  -999.0,9,  -999.0,9,  -9.0000,9,-999.0000,9, -999.00,9, -999.00,9,  -999.0,9,  -999.0,-999.000,9,-999.000,-999.000,9,  -9.0000,-999.0000,  21.8907,   -9.00
  316N145_7,       I08N,     291,          1,         32,         32,2,19950312,       1448,     3.3275,    80.0022,       4354,   106.3,  19.1801,  35.2673,2,  35.2636,2,     79.2,2,    78.8,2,   14.77,2,   19.13,2,    0.06,2,    1.39,2,-999.000,9,-999.000,9,  -999.0,9,  -999.0,9,  -9.0000,9,-999.0000,9, -999.00,9, -999.00,9,  -999.0,9,  -999.0,-999.000,9,-999.000,-999.000,9,  -9.0000,-999.0000,  19.1610,   -9.00
  316N145_7,       I08N,     291,          1,         31,         31,2,19950312,       1448,     3.3275,    80.0022,       4354,   146.7,  16.4766,  35.1690,2,  35.1572,2,     57.2,2,    57.3,2,   20.35,2,   23.72,2,    0.01,2,    1.71,2,-999.000,9,-999.000,9,  -999.0,9,  -999.0,9,  -9.0000,9,-999.0000,9, -999.00,9, -999.00,9,  -999.0,9,  -999.0,-999.000,9,-999.000,-999.000,9,  -9.0000,-999.0000,  16.4529,   -9.00
  316N145_7,       I08N,     291,          1,         30,         30,2,19950312,       1448,     3.3275,    80.0022,       4354,   187.1,  14.3978,  35.0730,2,  35.0635,2,     37.0,2,    30.9,2,   27.80,2,   28.62,2,    0.00,2,    2.07,2,-999.000,9,-999.000,9,  -999.0,9,  -999.0,9,  -9.0000,9,-999.0000,9, -999.00,9, -999.00,9,  -999.0,9,  -999.0,-999.000,9,-999.000,-999.000,9,  -9.0000,-999.0000,  14.3703,   -9.00
  316N145_7,       I08N,     291,          1,         29,         29,2,19950312,       1448,     3.3275,    80.0022,       4354,   226.1,  13.1254,  35.0911,2,  35.0903,2,     48.1,2,    47.7,2,   26.33,2,   28.15,2,    0.00,2,    1.99,2,-999.000,9,-999.000,9,  -999.0,9,  -999.0,9,  -9.0000,9,-999.0000,9, -999.00,9, -999.00,9,  -999.0,9,  -999.0,-999.000,9,-999.000,-999.000,9,  -9.0000,-999.0000,  13.0940,   -9.00
  316N145_7,       I08N,     291,          1,         28,         28,2,19950312,       1448,     3.3275,    80.0022,       4354,   266.8,  12.4819,  35.0918,2,  35.0897,2,     54.5,2,    54.9,2,   26.51,2,   28.05,2,    0.00,2,    1.99,2,-999.000,9,-999.000,9,  -999.0,9,  -999.0,9,  -9.0000,9,-999.0000,9, -999.00,9, -999.00,9,  -999.0,9,  -999.0,-999.000,9,-999.000,-999.000,9,  -9.0000,-999.0000,  12.4461,   -9.00
  316N145_7,       I08N,     291,          1,         27,         27,2,19950312,       1448,     3.3275,    80.0022,       4354,   306.5,  12.0029,  35.0842,2,  35.0816,2,     54.1,2,    53.3,2,   27.73,2,   28.89,2,    0.00,2,    2.04,2,-999.000,9,-999.000,9,  -999.0,9,  -999.0,9,  -9.0000,9,-999.0000,9, -999.00,9, -999.00,9,  -999.0,9,  -999.0,-999.000,9,-999.000,-999.000,9,  -9.0000,-999.0000,  11.9627,   -9.00
  316N145_7,       I08N,     291,          1,         26,         26,2,19950312,       1448,     3.3275,    80.0022,       4354,   356.0,  11.4455,  35.0658,2,  35.0649,2,     52.3,2,    54.2,2,   29.78,2,   29.73,2,    0.00,2,    2.08,2,-999.000,9,-999.000,9,  -999.0,9,  -999.0,9,  -9.0000,9,-999.0000,9, -999.00,9, -999.00,9,  -999.0,9,  -999.0,-999.000,9,-999.000,-999.000,9,  -9.0000,-999.0000,  11.4001,   -9.00
  316N145_7,       I08N,     291,          1,         25,         25,2,19950312,       1448,     3.3275,    80.0022,       4354,   406.5,  10.9569,  35.0608,2,  35.0581,2,     38.0,2,    39.4,2,   35.14,2,   32.02,2,    0.00,2,    2.26,2,-999.000,9,-999.000,9,  -999.0,9,  -999.0,9,  -9.0000,9,-999.0000,9, -999.00,9, -999.00,9,  -999.0,9,  -999.0,-999.000,9,-999.000,-999.000,9,  -9.0000,-999.0000,  10.9064,   -9.00
  316N145_7,       I08N,     291,          1,         24,         24,2,19950312,       1448,     3.3275,    80.0022,       4354,   507.9,   9.8466,  35.0417,2,  35.0404,2,     32.4,2,    31.8,2,   45.88,2,   34.23,2,    0.00,2,    2.49,2,-999.000,9,-999.000,9,  -999.0,9,  -999.0,9,  -9.0000,9,-999.0000,9, -999.00,9, -999.00,9,  -999.0,9,  -999.0,-999.000,9,-999.000,-999.000,9,  -9.0000,-999.0000,   9.7873,   -9.00
  316N145_7,       I08N,     291,          1,         23,         23,2,19950312,       1448,     3.3275,    80.0022,       4354,   608.6,   9.0825,  35.0334,2,  35.0276,2,     32.2,2,    32.2,2,   55.37,2,   35.31,2,    0.00,2,    2.60,2,-999.000,9,-999.000,9,  -999.0,9,  -999.0,9,  -9.0000,9,-999.0000,9, -999.00,9, -999.00,9,  -999.0,9,  -999.0,-999.000,9,-999.000,-999.000,9,  -9.0000,-999.0000,   9.0144,   -9.00
  316N145_7,       I08N,     291,          1,         22,         22,2,19950312,       1448,     3.3275,    80.0022,       4354,   707.9,   8.6286,  35.0230,2,  35.0215,2,     33.2,2,    33.3,2,   61.34,2,   35.83,2,    0.00,2,    2.67,2,-999.000,9,-999.000,9,  -999.0,9,  -999.0,9,  -9.0000,9,-999.0000,9, -999.00,9, -999.00,9,  -999.0,9,  -999.0,-999.000,9,-999.000,-999.000,9,  -9.0000,-999.0000,   8.5513,   -9.00
  316N145_7,       I08N,     291,          1,         21,         21,2,19950312,       1448,     3.3275,    80.0022,       4354,   809.2,   8.1043,  35.0058,2,  35.0032,2,     34.7,2,    32.4,2,   68.77,2,   36.58,2,    0.00,2,    2.74,2,-999.000,9,-999.000,9,  -999.0,9,  -999.0,9,  -9.0000,9,-999.0000,9, -999.00,9, -999.00,9,  -999.0,9,  -999.0,-999.000,9,-999.000,-999.000,9,  -9.0000,-999.0000,   8.0186,   -9.00
  316N145_7,       I08N,     291,          1,         20,         20,2,19950312,       1448,     3.3275,    80.0022,       4354,   910.1,   7.5302,  34.9772,2,  34.9757,2,     37.3,2,    40.1,2,   74.74,2,   36.82,2,    0.00,2,    2.76,2,-999.000,9,-999.000,9,  -999.0,9,  -999.0,9,  -9.0000,9,-999.0000,9, -999.00,9, -999.00,9,  -999.0,9,  -999.0,-999.000,9,-999.000,-999.000,9,  -9.0000,-999.0000,   7.4371,   -9.00
  316N145_7,       I08N,     291,          1,         19,         19,2,19950312,       1448,     3.3275,    80.0022,       4354,  1011.0,   6.7687,  34.9431,2,  34.9430,2,     48.0,2,    47.9,2,   83.84,2,   37.10,2,    0.00,2,    2.77,2,-999.000,9,-999.000,9,  -999.0,9,  -999.0,9,  -9.0000,9,-999.0000,9, -999.00,9, -999.00,9,  -999.0,9,  -999.0,-999.000,9,-999.000,-999.000,9,  -9.0000,-999.0000,   6.6703,   -9.00
  316N145_7,       I08N,     291,          1,         18,         18,2,19950312,       1448,     3.3275,    80.0022,       4354,  1111.1,   6.2496,  34.9240,2,  34.9230,2,     52.3,2,    53.9,2,   90.04,2,   37.29,2,    0.00,2,    2.79,2,-999.000,9,-999.000,9,  -999.0,9,  -999.0,9,  -9.0000,9,-999.0000,9, -999.00,9, -999.00,9,  -999.0,9,  -999.0,-999.000,9,-999.000,-999.000,9,  -9.0000,-999.0000,   6.1450,   -9.00
  316N145_7,       I08N,     291,          1,         17,         17,2,19950312,       1448,     3.3275,    80.0022,       4354,  1211.0,   5.7837,  34.9027,2,  34.9017,2,     60.1,2,    61.0,2,   95.42,2,   37.28,2,    0.00,2,    2.78,2,-999.000,9,-999.000,9,  -999.0,9,  -999.0,9,  -9.0000,9,-999.0000,9, -999.00,9, -999.00,9,  -999.0,9,  -999.0,-999.000,9,-999.000,-999.000,9,  -9.0000,-999.0000,   5.6731,   -9.00
  316N145_7,       I08N,     291,          1,         16,         16,2,19950312,       1448,     3.3275,    80.0022,       4354,  1359.5,   5.1376,  34.8785,2,  34.8782,2,     68.5,2,    70.9,2,  102.49,2,   37.28,2,    0.00,2,    2.79,2,-999.000,9,-999.000,9,  -999.0,9,  -999.0,9,  -9.0000,9,-999.0000,9, -999.00,9, -999.00,9,  -999.0,9,  -999.0,-999.000,9,-999.000,-999.000,9,  -9.0000,-999.0000,   5.0186,   -9.00
  316N145_7,       I08N,     291,          1,         15,         15,2,19950312,       1448,     3.3275,    80.0022,       4354,  1509.5,   4.3660,  34.8487,2,  34.8485,2,     87.0,2,    86.5,2,  109.15,2,   36.90,2,    0.00,2,    2.75,2,-999.000,9,-999.000,9,  -999.0,9,  -999.0,9,  -9.0000,9,-999.0000,9, -999.00,9, -999.00,9,  -999.0,9,  -999.0,-999.000,9,-999.000,-999.000,9,  -9.0000,-999.0000,   4.2411,   -9.00
  316N145_7,       I08N,     291,          1,         14,         14,2,19950312,       1448,     3.3275,    80.0022,       4354,  1758.6,   3.5132,  34.8126,2,  34.8105,2,    104.7,2,   105.5,2,  117.33,2,   36.57,2,    0.00,2,    2.69,2,-999.000,9,-999.000,9,  -999.0,9,  -999.0,9,  -9.0000,9,-999.0000,9, -999.00,9, -999.00,9,  -999.0,9,  -999.0,-999.000,9,-999.000,-999.000,9,  -9.0000,-999.0000,   3.3759,   -9.00
  316N145_7,       I08N,     291,          1,         13,         13,2,19950312,       1448,     3.3275,    80.0022,       4354,  1960.3,   2.9634,  34.7877,2,  34.7868,2,    120.1,2,   118.9,2,  123.21,2,   36.00,2,    0.00,2,    2.63,2,-999.000,9,-999.000,9,  -999.0,9,  -999.0,9,  -9.0000,9,-999.0000,9, -999.00,9, -999.00,9,  -999.0,9,  -999.0,-999.000,9,-999.000,-999.000,9,  -9.0000,-999.0000,   2.8155,   -9.00
  316N145_7,       I08N,     291,          1,         12,         12,2,19950312,       1448,     3.3275,    80.0022,       4354,  2162.2,   2.6017,  34.7727,2,  34.7701,2,    125.9,2,   125.7,2,  128.91,2,   35.81,2,    0.00,2,    2.61,2,-999.000,9,-999.000,9,  -999.0,9,  -999.0,9,  -9.0000,9,-999.0000,9, -999.00,9, -999.00,9,  -999.0,9,  -999.0,-999.000,9,-999.000,-999.000,9,  -9.0000,-999.0000,   2.4411,   -9.00
  316N145_7,       I08N,     291,          1,         11,         11,2,19950312,       1448,     3.3275,    80.0022,       4354,  2364.1,   2.2854,  34.7575,2,  34.7561,2,    137.9,2,   137.2,2,  130.56,2,   35.34,2,    0.00,2,    2.56,2,-999.000,9,-999.000,9,  -999.0,9,  -999.0,9,  -9.0000,9,-999.0000,9, -999.00,9, -999.00,9,  -999.0,9,  -999.0,-999.000,9,-999.000,-999.000,9,  -9.0000,-999.0000,   2.1119,   -9.00
  316N145_7,       I08N,     291,          1,         10,         10,2,19950312,       1448,     3.3275,    80.0022,       4354,  2567.2,   2.1132,  34.7496,2,  34.7479,2,    143.4,2,   143.3,2,  131.58,2,   35.10,2,    0.00,2,    2.53,2,-999.000,9,-999.000,9,  -999.0,9,  -999.0,9,  -9.0000,9,-999.0000,9, -999.00,9, -999.00,9,  -999.0,9,  -999.0,-999.000,9,-999.000,-999.000,9,  -9.0000,-999.0000,   1.9242,   -9.00
  316N145_7,       I08N,     291,          1,          9,          9,2,19950312,       1448,     3.3275,    80.0022,       4354,  2773.4,   1.9102,  34.7401,2,  34.7394,2,    149.2,2,   148.4,2,  134.74,2,   34.91,2,    0.00,2,    2.51,2,-999.000,9,-999.000,9,  -999.0,9,  -999.0,9,  -9.0000,9,-999.0000,9, -999.00,9, -999.00,9,  -999.0,9,  -999.0,-999.000,9,-999.000,-999.000,9,  -9.0000,-999.0000,   1.7059,   -9.00
  316N145_7,       I08N,     291,          1,          8,          8,2,19950312,       1448,     3.3275,    80.0022,       4354,  2979.0,   1.7612,  34.7344,2,  34.7324,2,    155.6,2,   154.4,2,  135.54,2,   34.63,2,    0.00,2,    2.48,2,-999.000,9,-999.000,9,  -999.0,9,  -999.0,9,  -9.0000,9,-999.0000,9, -999.00,9, -999.00,9,  -999.0,9,  -999.0,-999.000,9,-999.000,-999.000,9,  -9.0000,-999.0000,   1.5404,   -9.00
  316N145_7,       I08N,     291,          1,          7,          7,2,19950312,       1448,     3.3275,    80.0022,       4354,  3184.6,   1.6705,  34.7307,2,  34.7296,2,    155.2,2,   154.4,2,  139.36,2,   34.72,2,    0.01,2,    2.48,2,-999.000,9,-999.000,9,  -999.0,9,  -999.0,9,  -9.0000,9,-999.0000,9, -999.00,9, -999.00,9,  -999.0,9,  -999.0,-999.000,9,-999.000,-999.000,9,  -9.0000,-999.0000,   1.4317,   -9.00
  316N145_7,       I08N,     291,          1,          6,          6,2,19950312,       1448,     3.3275,    80.0022,       4354,  3388.8,   1.5664,  34.7268,2,  34.7259,2,    155.9,2,   155.6,2,  142.98,2,   34.91,2,    0.00,2,    2.47,2,-999.000,9,-999.000,9,  -999.0,9,  -999.0,9,  -9.0000,9,-999.0000,9, -999.00,9, -999.00,9,  -999.0,9,  -999.0,-999.000,9,-999.000,-999.000,9,  -9.0000,-999.0000,   1.3096,   -9.00
  316N145_7,       I08N,     291,          1,          5,          5,2,19950312,       1448,     3.3275,    80.0022,       4354,  3594.4,   1.4713,  34.7235,2,  34.7220,2,    160.7,2,   160.6,2,  142.49,2,   34.57,2,    0.00,2,    2.45,2,-999.000,9,-999.000,9,  -999.0,9,  -999.0,9,  -9.0000,9,-999.0000,9, -999.00,9, -999.00,9,  -999.0,9,  -999.0,-999.000,9,-999.000,-999.000,9,  -9.0000,-999.0000,   1.1960,   -9.00
  316N145_7,       I08N,     291,          1,          4,          4,2,19950312,       1448,     3.3275,    80.0022,       4354,  3799.2,   1.4270,  34.7217,2,  34.7199,2,    160.9,2,   163.6,2,  142.86,2,   34.48,2,    0.00,2,    2.43,2,-999.000,9,-999.000,9,  -999.0,9,  -999.0,9,  -9.0000,9,-999.0000,9, -999.00,9, -999.00,9,  -999.0,9,  -999.0,-999.000,9,-999.000,-999.000,9,  -9.0000,-999.0000,   1.1315,   -9.00
  316N145_7,       I08N,     291,          1,          3,          3,2,19950312,       1448,     3.3275,    80.0022,       4354,  4003.0,   1.4200,  34.7205,2,  34.7160,4,    165.1,2,   166.7,2,  141.71,2,   34.29,2,    0.00,2,    2.41,2,-999.000,9,-999.000,9,  -999.0,9,  -999.0,9,  -9.0000,9,-999.0000,9, -999.00,9, -999.00,9,  -999.0,9,  -999.0,-999.000,9,-999.000,-999.000,9,  -9.0000,-999.0000,   1.1028,   -9.00
  316N145_7,       I08N,     291,          1,          2,          2,2,19950312,       1448,     3.3275,    80.0022,       4354,  4206.9,   1.4211,  34.7200,2,  34.7168,3,    169.8,2,   170.0,2,  139.71,2,   34.10,2,    0.00,2,    2.39,2,-999.000,9,-999.000,9,  -999.0,9,  -999.0,9,  -9.0000,9,-999.0000,9, -999.00,9, -999.00,9,  -999.0,9,  -999.0,-999.000,9,-999.000,-999.000,9,  -9.0000,-999.0000,   1.0815,   -9.00
  316N145_7,       I08N,     291,          1,          1,          1,2,19950312,       1448,     3.3275,    80.0022,       4354,  4427.3,   1.4153,  34.7187,2,  34.7181,2,    174.4,2,   174.3,2,  137.49,2,   33.86,2,    0.00,2,    2.38,2,-999.000,9,-999.000,9,  -999.0,9,  -999.0,9,  -9.0000,9,-999.0000,9, -999.00,9, -999.00,9,  -999.0,9,  -999.0,-999.000,9,-999.000,-999.000,9,  -9.0000,-999.0000,   1.0511,   -9.00