BOTTLE,20211124CCHSIORKP
EXPOCODE,SECT_ID,STNNBR,CASTNO,SAMPNO,BTLNBR,BTLNBR_FLAG_W,DATE,TIME,LATITUDE,LONGITUDE,DEPTH,CTDPRS,CTDTMP,CTDSAL,CTDSAL_FLAG_W,SALNTY,SALNTY_FLAG_W,CTDOXY,CTDOXY_FLAG_W,OXYGEN,OXYGEN_FLAG_W,SILCAT,SILCAT_FLAG_W,NITRAT,NITRAT_FLAG_W,NITRIT,NITRIT_FLAG_W,PHSPHT,PHSPHT_FLAG_W,CFC-11,CFC-11_FLAG_W,CFC-12,CFC-12_FLAG_W,TCARBN,TCARBN_FLAG_W,ALKALI,ALKALI_FLAG_W,TRITUM,TRITUM_FLAG_W,HELIUM,HELIUM_FLAG_W,DELHE3,DELHE3_FLAG_W,DELC13,DELC13_FLAG_W,DELC14,DELC14_FLAG_W,C14ERR,NEON,NEON_FLAG_W,NEONER,CCL4,CCL4_FLAG_W,TRITER,HELIER,THETA,DELHER
,,,,,,,,,,,METERS,DBAR,ITS-90,PSS-78,,PSS-78,,UMOL/KG,,UMOL/KG,,UMOL/KG,,UMOL/KG,,UMOL/KG,,UMOL/KG,,PMOL/KG,,PMOL/KG,,UMOL/KG,,UMOL/KG,,TU,,NMOL/KG,,PERCNT,,/MILLE,,/MILLE,,/MILLE,NMOL/KG,,NMOL/KG,PMOL/KG,,TU,NMOL/KG,DEG C,PERCNT
  316N145_7,       I08N,     352,          1,         36,         36,2,19950326,       0901,   -23.0025,    80.0005,       4380,     1.7,  27.2421,  34.9059,2,  34.9054,2,    201.4,2,   204.2,2,    3.01,2,    0.14,2,    0.00,2,    0.12,2,   1.714,6,   0.971,6,  1933.3,2,  2285.6,2,  -9.0000,9,-999.0000,9, -999.00,9, -999.00,9,  -999.0,9,  -999.0,-999.000,9,-999.000,-999.000,9,  -9.0000,-999.0000,  27.2417,   -9.00
  316N145_7,       I08N,     352,          1,         35,         35,2,19950326,       0901,   -23.0025,    80.0005,       4380,    31.6,  27.1313,  34.9036,2,  34.9024,2,    201.8,2,   201.9,2,    2.77,2,    0.09,2,    0.00,2,    0.12,2,-999.000,9,-999.000,9,  1934.0,2,  2303.6,2,  -9.0000,9,-999.0000,9, -999.00,9, -999.00,9,  -999.0,9,  -999.0,-999.000,9,-999.000,-999.000,9,  -9.0000,-999.0000,  27.1240,   -9.00
  316N145_7,       I08N,     352,          1,         34,         34,2,19950326,       0901,   -23.0025,    80.0005,       4380,    55.6,  24.4732,  35.3811,2,  35.3327,2,    233.2,2,   227.3,2,    2.94,2,    0.09,2,    0.00,2,    0.11,2,   2.076,2,   1.142,2,  1977.4,2,  2308.6,2,  -9.0000,9,-999.0000,9, -999.00,9, -999.00,9,  -999.0,9,  -999.0,-999.000,9,-999.000,-999.000,9,  -9.0000,-999.0000,  24.4613,   -9.00
  316N145_7,       I08N,     352,          1,         33,         33,2,19950326,       0901,   -23.0025,    80.0005,       4380,    81.2,  22.2183,  35.4639,2,  35.4573,2,    233.3,2,   224.2,2,    2.91,2,    0.14,2,    0.00,2,    0.12,2,-999.000,9,-999.000,9,  1994.8,2,  2321.5,2,  -9.0000,9,-999.0000,9, -999.00,9, -999.00,9,  -999.0,9,  -999.0,-999.000,9,-999.000,-999.000,9,  -9.0000,-999.0000,  22.2021,   -9.00
  316N145_7,       I08N,     352,          1,         32,         32,2,19950326,       0901,   -23.0025,    80.0005,       4380,   106.4,  21.4163,  35.5516,2,  35.5535,2,    225.8,2,   218.7,2,    2.88,2,    0.14,2,    0.00,2,    0.13,2,   2.187,2,   1.183,2,  1977.7,2,  2307.9,3,  -9.0000,9,-999.0000,9, -999.00,9, -999.00,9,  -999.0,9,  -999.0,-999.000,9,-999.000,-999.000,9,  -9.0000,-999.0000,  21.3957,   -9.00
  316N145_7,       I08N,     352,          1,         31,         31,2,19950326,       0901,   -23.0025,    80.0005,       4380,   136.4,  20.6952,  35.6723,2,  35.6787,2,    220.6,2,   220.5,2,    2.64,2,    0.14,2,    0.00,2,    0.13,2,-999.000,9,-999.000,9,  2021.8,2,  2337.6,2,  -9.0000,9,-999.0000,9, -999.00,9, -999.00,9,  -999.0,9,  -999.0,-999.000,9,-999.000,-999.000,9,  -9.0000,-999.0000,  20.6692,   -9.00
  316N145_7,       I08N,     352,          1,         30,         30,2,19950326,       0901,   -23.0025,    80.0005,       4380,   176.9,  19.5012,  35.7381,2,  35.7614,2,    219.3,2,   217.2,2,    2.40,2,    0.22,2,    0.06,2,    0.17,2,   2.356,2,   1.265,2,  2042.9,2,  2338.6,2,  -9.0000,9,-999.0000,9, -999.00,9, -999.00,9,  -999.0,9,  -999.0,-999.000,9,-999.000,-999.000,9,  -9.0000,-999.0000,  19.4689,   -9.00
  316N145_7,       I08N,     352,          1,         29,         29,2,19950326,       0901,   -23.0025,    80.0005,       4380,   227.2,  18.2493,  35.8245,2,  35.8163,2,    211.8,2,   209.6,2,    2.37,2,    1.38,2,    0.01,2,    0.27,2,   2.429,2,   1.279,2,  2070.9,2,  2353.6,2,  -9.0000,9,-999.0000,9, -999.00,9, -999.00,9,  -999.0,9,  -999.0,-999.000,9,-999.000,-999.000,9,  -9.0000,-999.0000,  18.2097,   -9.00
  316N145_7,       I08N,     352,          1,         28,         28,2,19950326,       0901,   -23.0025,    80.0005,       4380,   286.9,  16.0484,  35.6587,2,  35.6732,2,    217.5,2,   219.1,2,    2.13,2,    2.33,2,    0.00,2,    0.35,2,   2.634,2,   1.379,2,  2082.5,2,  2344.2,2,  -9.0000,9,-999.0000,9, -999.00,9, -999.00,9,  -999.0,9,  -999.0,-999.000,9,-999.000,-999.000,9,  -9.0000,-999.0000,  16.0026,   -9.00
  316N145_7,       I08N,     352,          1,         27,         27,2,19950326,       0901,   -23.0025,    80.0005,       4380,   358.5,  13.7956,  35.3519,2,  35.3711,2,    210.5,2,   212.9,2,    3.94,2,    7.27,2,    0.00,2,    0.62,2,   2.578,2,   1.310,2,  2100.4,2,  2327.7,2,  -9.0000,9,-999.0000,9, -999.00,9, -999.00,9,  -999.0,9,  -999.0,-999.000,9,-999.000,   0.652,6,  -9.0000,-999.0000,  13.7439,   -9.00
  316N145_7,       I08N,     352,          1,         26,         26,2,19950326,       0901,   -23.0025,    80.0005,       4380,   438.1,  11.9801,  35.0951,2,  35.0853,2,    219.9,2,   226.3,2,    3.90,2,   10.30,2,    0.00,2,    0.80,2,-999.000,9,-999.000,9,  2104.2,2,  2311.4,2,  -9.0000,9,-999.0000,9, -999.00,9, -999.00,9,  -999.0,9,  -999.0,-999.000,9,-999.000,-999.000,9,  -9.0000,-999.0000,  11.9224,   -9.00
  316N145_7,       I08N,     352,          1,         25,         25,2,19950326,       0901,   -23.0025,    80.0005,       4380,   528.8,  10.6756,  34.8942,2,  34.8942,2,    228.3,2,   231.2,2,    4.28,2,   12.96,2,    0.00,2,    0.96,2,   2.682,2,   1.332,2,  2109.1,2,  2319.6,3,  -9.0000,9,-999.0000,9, -999.00,9, -999.00,9,  -999.0,9,  -999.0,-999.000,9,-999.000,-999.000,9,  -9.0000,-999.0000,  10.6107,   -9.00
  316N145_7,       I08N,     352,          1,         24,         24,2,19950326,       0901,   -23.0025,    80.0005,       4380,   608.5,   9.6822,  34.7464,2,  34.7479,2,    230.2,2,   230.9,2,    5.27,2,   15.72,2,    0.00,2,    1.12,2,   2.496,2,   1.231,2,  2115.3,2,  2296.9,2,  -9.0000,9,-999.0000,9, -999.00,9, -999.00,9,  -999.0,9,  -999.0,-999.000,9,-999.000,-999.000,9,  -9.0000,-999.0000,   9.6117,   -9.00
  316N145_7,       I08N,     352,          1,         23,         23,2,19950326,       0901,   -23.0025,    80.0005,       4380,   710.1,   8.6553,  34.6230,2,  34.6212,2,    217.5,2,   217.4,2,    8.70,2,   19.84,2,    0.00,2,    1.38,2,   1.709,2,   0.838,2,  2132.0,2,  2287.7,2,  -9.0000,9,-999.0000,9, -999.00,9, -999.00,9,  -999.0,9,  -999.0,-999.000,9,-999.000,-999.000,9,  -9.0000,-999.0000,   8.5780,   -9.00
  316N145_7,       I08N,     352,          1,         22,         22,2,19950326,       0901,   -23.0025,    80.0005,       4380,   810.6,   7.1196,  34.5231,2,  34.5232,2,    189.4,2,   187.3,2,   21.93,2,   26.03,2,    0.00,2,    1.79,2,   0.620,2,   0.320,2,  2167.7,2,  2299.8,2,  -9.0000,9,-999.0000,9, -999.00,9, -999.00,9,  -999.0,9,  -999.0,-999.000,9,-999.000,-999.000,9,  -9.0000,-999.0000,   7.0402,   -9.00
  316N145_7,       I08N,     352,          1,         21,         21,2,19950326,       0901,   -23.0025,    80.0005,       4380,   936.3,   5.2096,  34.4425,2,  34.4450,2,    173.2,2,   174.7,2,   40.06,2,   31.08,2,    0.00,2,    2.16,2,   0.234,6,   0.126,6,  2204.6,2,  2309.2,2,  -9.0000,9,-999.0000,9, -999.00,9, -999.00,9,  -999.0,9,  -999.0,-999.000,9,-999.000,-999.000,9,  -9.0000,-999.0000,   5.1306,   -9.00
  316N145_7,       I08N,     352,          1,         20,         20,2,19950326,       0901,   -23.0025,    80.0005,       4380,  1062.5,   4.4427,  34.5159,2,  34.5179,2,    143.0,2,   142.7,2,   65.54,2,   34.40,2,    0.00,2,    2.44,2,   0.037,2,   0.019,2,    -0.2,4,  2337.9,2,  -9.0000,9,-999.0000,9, -999.00,9, -999.00,9,  -999.0,9,  -999.0,-999.000,9,-999.000,-999.000,9,  -9.0000,-999.0000,   4.3582,   -9.00
  316N145_7,       I08N,     352,          1,         19,         19,2,19950326,       0901,   -23.0025,    80.0005,       4380,  1212.8,   3.9531,  34.5773,2,  34.5778,2,    133.5,2,   134.0,2,   78.80,2,   35.35,2,    0.00,2,    2.52,2,-999.000,9,-999.000,9,  2266.6,2,  2348.7,2,  -9.0000,9,-999.0000,9, -999.00,9, -999.00,9,  -999.0,9,  -999.0,-999.000,9,-999.000,-999.000,9,  -9.0000,-999.0000,   3.8597,   -9.00
  316N145_7,       I08N,     352,          1,         18,         18,2,19950326,       0901,   -23.0025,    80.0005,       4380,  1365.1,   3.6068,  34.6253,2,  34.6259,2,    132.0,2,   134.0,2,   86.76,2,   35.39,2,    0.00,2,    2.54,2,   0.003,2,   0.002,2,  2274.3,2,  2360.4,2,  -9.0000,9,-999.0000,9, -999.00,9, -999.00,9,  -999.0,9,  -999.0,-999.000,9,-999.000,-999.000,9,  -9.0000,-999.0000,   3.5036,   -9.00
  316N145_7,       I08N,     352,          1,         17,         17,2,19950326,       0901,   -23.0025,    80.0005,       4380,  1515.8,   3.3406,  34.6693,2,  34.6678,2,    135.5,2,   135.8,2,   93.70,2,   35.25,2,    0.00,2,    2.52,2,-999.000,9,-999.000,9,  2279.9,2,  2381.5,3,  -9.0000,9,-999.0000,9, -999.00,9, -999.00,9,  -999.0,9,  -999.0,-999.000,9,-999.000,-999.000,9,  -9.0000,-999.0000,   3.2273,   -9.00
  316N145_7,       I08N,     352,          1,         16,         16,2,19950326,       0901,   -23.0025,    80.0005,       4380,  1668.1,   3.0978,  34.6998,2,  34.7006,2,    139.8,2,   139.0,2,  100.05,2,   35.01,2,    0.00,2,    2.51,2,   0.001,2,   0.001,2,  2285.5,2,  2375.3,2,  -9.0000,9,-999.0000,9, -999.00,9, -999.00,9,  -999.0,9,  -999.0,-999.000,9,-999.000,-999.000,9,  -9.0000,-999.0000,   2.9742,   -9.00
  316N145_7,       I08N,     352,          1,         15,         15,2,19950326,       0901,   -23.0025,    80.0005,       4380,  1819.5,   2.8257,  34.7126,2,  34.7126,2,    145.2,2,   144.7,2,  104.13,2,   34.73,2,    0.00,2,    2.49,2,-999.000,9,-999.000,9,  2287.8,2,  2453.3,4,  -9.0000,9,-999.0000,9, -999.00,9, -999.00,9,  -999.0,9,  -999.0,-999.000,9,-999.000,-999.000,9,  -9.0000,-999.0000,   2.6924,   -9.00
  316N145_7,       I08N,     352,          1,         14,         14,2,19950326,       0901,   -23.0025,    80.0005,       4380,  1971.5,   2.5590,  34.7185,2,  34.7189,2,    151.4,2,   152.1,2,  106.57,2,   34.29,2,    0.00,2,    2.45,2,  -0.001,2,   0.002,2,  2284.9,2,  2385.0,2,  -9.0000,9,-999.0000,9, -999.00,9, -999.00,9,  -999.0,9,  -999.0,-999.000,9,-999.000,-999.000,9,  -9.0000,-999.0000,   2.4163,   -9.00
  316N145_7,       I08N,     352,          1,         13,         13,2,19950326,       0901,   -23.0025,    80.0005,       4380,  2123.3,   2.3618,  34.7207,2,  34.7208,2,    158.8,2,   158.5,2,  108.38,2,   33.96,2,    0.00,2,    2.42,2,-999.000,9,-999.000,9,  2285.7,2,  2382.7,2,  -9.0000,9,-999.0000,9, -999.00,9, -999.00,9,  -999.0,9,  -999.0,-999.000,9,-999.000,-999.000,9,  -9.0000,-999.0000,   2.2088,   -9.00
  316N145_7,       I08N,     352,          1,         12,         12,2,19950326,       0901,   -23.0025,    80.0005,       4380,  2275.9,   2.1712,  34.7226,2,  34.7228,2,    164.6,2,   165.2,2,  108.95,2,   33.58,2,    0.00,2,    2.39,2,   0.001,2,   0.000,2,  2282.1,2,  2384.6,2,  -9.0000,9,-999.0000,9, -999.00,9, -999.00,9,  -999.0,9,  -999.0,-999.000,9,-999.000,-999.000,9,  -9.0000,-999.0000,   2.0078,   -9.00
  316N145_7,       I08N,     352,          1,         11,         11,2,19950326,       0901,   -23.0025,    80.0005,       4380,  2428.5,   1.9952,  34.7239,2,  34.7244,2,    172.5,2,   172.0,2,  109.73,2,   33.11,2,    0.00,2,    2.35,2,-999.000,9,-999.000,9,  2280.0,2,  2384.9,2,  -9.0000,9,-999.0000,9, -999.00,9, -999.00,9,  -999.0,9,  -999.0,-999.000,9,-999.000,-999.000,9,  -9.0000,-999.0000,   1.8212,   -9.00
  316N145_7,       I08N,     352,          1,         10,         10,2,19950326,       0901,   -23.0025,    80.0005,       4380,  2631.9,   1.8609,  34.7260,2,  34.7260,2,    178.4,2,   177.9,2,  109.88,2,   32.86,2,    0.01,2,    2.32,2,   0.000,2,   0.001,2,  2276.5,2,  2379.4,2,  -9.0000,9,-999.0000,9, -999.00,9, -999.00,9,  -999.0,9,  -999.0,-999.000,9,-999.000,-999.000,9,  -9.0000,-999.0000,   1.6709,   -9.00
  316N145_7,       I08N,     352,          1,          9,          9,2,19950326,       0901,   -23.0025,    80.0005,       4380,  2835.3,   1.7134,  34.7291,2,  34.7297,2,    185.2,2,   184.9,2,  109.62,2,   32.39,2,    0.00,2,    2.28,2,-999.000,9,-999.000,9,  2272.3,2,  2381.1,2,  -9.0000,9,-999.0000,9, -999.00,9, -999.00,9,  -999.0,9,  -999.0,-999.000,9,-999.000,-999.000,9,  -9.0000,-999.0000,   1.5073,   -9.00
  316N145_7,       I08N,     352,          1,          8,          8,2,19950326,       0901,   -23.0025,    80.0005,       4380,  3038.1,   1.5963,  34.7319,2,  34.7317,2,    191.3,2,   190.8,2,  108.53,2,   32.01,2,    0.01,2,    2.24,2,   0.000,2,   0.004,2,  2266.9,2,  2375.6,2,  -9.0000,9,-999.0000,9, -999.00,9, -999.00,9,  -999.0,9,  -999.0,-999.000,9,-999.000,-999.000,9,  -9.0000,-999.0000,   1.3735,   -9.00
  316N145_7,       I08N,     352,          1,          7,          7,2,19950326,       0901,   -23.0025,    80.0005,       4380,  3242.2,   1.4815,  34.7292,2,  34.7299,2,    192.2,2,   192.7,2,  112.01,2,   32.11,2,    0.00,2,    2.25,2,-999.000,9,-999.000,9,  -999.0,5,  2381.1,2,  -9.0000,9,-999.0000,9, -999.00,9, -999.00,9,  -999.0,9,  -999.0,-999.000,9,-999.000,-999.000,9,  -9.0000,-999.0000,   1.2414,   -9.00
  316N145_7,       I08N,     352,          1,          6,          6,2,19950326,       0901,   -23.0025,    80.0005,       4380,  3446.6,   1.4218,  34.7268,2,  34.7260,2,    190.4,2,   191.5,2,  116.12,2,   32.44,2,    0.00,2,    2.27,2,   0.000,2,  -0.001,2,  2275.5,2,  2385.5,2,  -9.0000,9,-999.0000,9, -999.00,9, -999.00,9,  -999.0,9,  -999.0,-999.000,9,-999.000,-999.000,9,  -9.0000,-999.0000,   1.1628,   -9.00
  316N145_7,       I08N,     352,          1,          5,          5,2,19950326,       0901,   -23.0025,    80.0005,       4380,  3649.8,   1.3961,  34.7242,2,  34.7236,2,    190.0,2,   189.9,2,  119.62,2,   32.68,2,    0.00,2,    2.29,2,-999.000,9,-999.000,9,  2280.5,2,  2393.8,2,  -9.0000,9,-999.0000,9, -999.00,9, -999.00,9,  -999.0,9,  -999.0,-999.000,9,-999.000,-999.000,9,  -9.0000,-999.0000,   1.1170,   -9.00
  316N145_7,       I08N,     352,          1,          4,          4,2,19950326,       0901,   -23.0025,    80.0005,       4380,  3854.3,   1.3941,  34.7224,2,  34.7223,2,    188.9,2,   189.1,2,  122.08,2,   32.87,2,    0.00,2,    2.30,2,   0.003,2,   0.004,2,  2285.1,2,  2392.6,2,  -9.0000,9,-999.0000,9, -999.00,9, -999.00,9,  -999.0,9,  -999.0,-999.000,9,-999.000,-999.000,9,  -9.0000,-999.0000,   1.0936,   -9.00
  316N145_7,       I08N,     352,          1,          3,          3,2,19950326,       0901,   -23.0025,    80.0005,       4380,  4058.9,   1.4046,  34.7212,2,  34.7211,2,    187.3,2,   187.2,2,  123.70,2,   33.05,2,    0.00,2,    2.31,2,-999.000,9,-999.000,9,  2287.2,2,  2393.7,2,  -9.0000,9,-999.0000,9, -999.00,9, -999.00,9,  -999.0,9,  -999.0,-999.000,9,-999.000,-999.000,9,  -9.0000,-999.0000,   1.0818,   -9.00
  316N145_7,       I08N,     352,          1,          2,          2,2,19950326,       0901,   -23.0025,    80.0005,       4380,  4314.0,   1.4182,  34.7204,2,  34.7199,2,    186.7,2,   186.5,2,  125.54,2,   33.15,2,    0.00,2,    2.32,2,   0.000,2,   0.000,2,  2290.5,2,  2401.5,2,  -9.0000,9,-999.0000,9, -999.00,9, -999.00,9,  -999.0,9,  -999.0,-999.000,9,-999.000,-999.000,9,  -9.0000,-999.0000,   1.0667,   -9.00
  316N145_7,       I08N,     352,          1,          1,          1,2,19950326,       0901,   -23.0025,    80.0005,       4380,  4565.0,   1.4382,  34.7200,2,  34.7205,2,    187.0,2,   187.0,2,  126.32,2,   33.24,2,    0.01,2,    2.33,2,   0.000,2,   0.005,2,  2292.4,2,  2407.1,2,  -9.0000,9,-999.0000,9, -999.00,9, -999.00,9,  -999.0,9,  -999.0,-999.000,9,-999.000,-999.000,9,  -9.0000,-999.0000,   1.0574,   -9.00