BOTTLE,20211124CCHSIORKP
EXPOCODE,SECT_ID,STNNBR,CASTNO,SAMPNO,BTLNBR,BTLNBR_FLAG_W,DATE,TIME,LATITUDE,LONGITUDE,DEPTH,CTDPRS,CTDTMP,CTDSAL,CTDSAL_FLAG_W,SALNTY,SALNTY_FLAG_W,CTDOXY,CTDOXY_FLAG_W,OXYGEN,OXYGEN_FLAG_W,SILCAT,SILCAT_FLAG_W,NITRAT,NITRAT_FLAG_W,NITRIT,NITRIT_FLAG_W,PHSPHT,PHSPHT_FLAG_W,CFC-11,CFC-11_FLAG_W,CFC-12,CFC-12_FLAG_W,TCARBN,TCARBN_FLAG_W,ALKALI,ALKALI_FLAG_W,TRITUM,TRITUM_FLAG_W,HELIUM,HELIUM_FLAG_W,DELHE3,DELHE3_FLAG_W,DELC13,DELC13_FLAG_W,DELC14,DELC14_FLAG_W,C14ERR,NEON,NEON_FLAG_W,NEONER,CCL4,CCL4_FLAG_W,TRITER,HELIER,THETA,DELHER
,,,,,,,,,,,METERS,DBAR,ITS-90,PSS-78,,PSS-78,,UMOL/KG,,UMOL/KG,,UMOL/KG,,UMOL/KG,,UMOL/KG,,UMOL/KG,,PMOL/KG,,PMOL/KG,,UMOL/KG,,UMOL/KG,,TU,,NMOL/KG,,PERCNT,,/MILLE,,/MILLE,,/MILLE,NMOL/KG,,NMOL/KG,PMOL/KG,,TU,NMOL/KG,DEG C,PERCNT
  316N145_7,       I05E,     401,          1,         36,         36,2,19950405,       0542,   -32.5170,    91.4833,       4170,     3.3,  21.3535,  35.9368,2,  35.9366,2,    222.3,2,   223.0,2,    2.61,2,    0.14,2,    0.00,2,    0.14,2,   2.137,2,   1.235,2,  2050.8,2,  2369.5,2,  -9.0000,9,-999.0000,9, -999.00,9, -999.00,9,  -999.0,9,  -999.0,-999.000,9,-999.000,   2.772,2,  -9.0000,-999.0000,  21.3529,   -9.00
  316N145_7,       I05E,     401,          1,         35,         35,2,19950405,       0542,   -32.5170,    91.4833,       4170,    32.0,  21.3574,  35.9446,2,  35.9427,2,    214.1,2,   222.9,2,    2.59,2,    0.14,2,    0.00,2,    0.14,2,-999.000,9,-999.000,9,  -999.0,9,  -999.0,9,  -9.0000,9,-999.0000,9, -999.00,9, -999.00,9,  -999.0,9,  -999.0,-999.000,9,-999.000,-999.000,9,  -9.0000,-999.0000,  21.3512,   -9.00
  316N145_7,       I05E,     401,          1,         34,         34,2,19950405,       0542,   -32.5170,    91.4833,       4170,    72.0,  17.0409,  35.6828,2,  35.6749,2,    254.8,2,   249.8,2,    2.37,2,    0.14,2,    0.00,2,    0.18,2,-999.000,9,-999.000,9,  -999.0,9,  -999.0,9,  -9.0000,9,-999.0000,9, -999.00,9, -999.00,9,  -999.0,9,  -999.0,-999.000,9,-999.000,-999.000,9,  -9.0000,-999.0000,  17.0290,   -9.00
  316N145_7,       I05E,     401,          1,         33,         33,2,19950405,       0542,   -32.5170,    91.4833,       4170,   106.1,  15.1080,  35.4913,2,  35.4879,2,    246.4,2,   244.3,2,    2.35,2,    0.74,2,    0.09,2,    0.30,2,-999.000,9,-999.000,9,  -999.0,9,  -999.0,9,  -9.0000,9,-999.0000,9, -999.00,9, -999.00,9,  -999.0,9,  -999.0,-999.000,9,-999.000,-999.000,9,  -9.0000,-999.0000,  15.0918,   -9.00
  316N145_7,       I05E,     401,          1,         32,         32,2,19950405,       0542,   -32.5170,    91.4833,       4170,   156.8,  13.3658,  35.2796,2,  35.2749,2,    237.7,2,   239.8,2,    2.97,2,    5.73,2,    0.01,2,    0.54,2,-999.000,9,-999.000,9,  -999.0,9,  -999.0,9,  -9.0000,9,-999.0000,9, -999.00,9, -999.00,9,  -999.0,9,  -999.0,-999.000,9,-999.000,-999.000,9,  -9.0000,-999.0000,  13.3438,   -9.00
  316N145_7,       I05E,     401,          1,         31,         31,2,19950405,       0542,   -32.5170,    91.4833,       4170,   206.9,  12.6313,  35.1767,2,  35.1745,2,    237.6,2,   241.4,2,    3.58,2,    7.60,2,    0.00,2,    0.65,2,-999.000,9,-999.000,9,  -999.0,9,  -999.0,9,  -9.0000,9,-999.0000,9, -999.00,9, -999.00,9,  -999.0,9,  -999.0,-999.000,9,-999.000,-999.000,9,  -9.0000,-999.0000,  12.6033,   -9.00
  316N145_7,       I05E,     401,          1,         30,         30,2,19950405,       0542,   -32.5170,    91.4833,       4170,   257.6,  12.1496,  35.1079,2,  35.1075,2,    236.9,2,   241.3,2,    3.99,2,    8.98,2,    0.00,2,    0.72,2,-999.000,9,-999.000,9,  -999.0,9,  -999.0,9,  -9.0000,9,-999.0000,9, -999.00,9, -999.00,9,  -999.0,9,  -999.0,-999.000,9,-999.000,-999.000,9,  -9.0000,-999.0000,  12.1156,   -9.00
  316N145_7,       I05E,     401,          1,         29,         29,2,19950405,       0542,   -32.5170,    91.4833,       4170,   308.2,  11.7585,  35.0490,2,  35.0504,2,    241.5,2,   243.8,2,    4.39,2,    9.91,2,    0.00,2,    0.78,2,-999.000,9,-999.000,9,  -999.0,9,  -999.0,9,  -9.0000,9,-999.0000,9, -999.00,9, -999.00,9,  -999.0,9,  -999.0,-999.000,9,-999.000,-999.000,9,  -9.0000,-999.0000,  11.7186,   -9.00
  316N145_7,       I05E,     401,          1,         28,         28,2,19950405,       0542,   -32.5170,    91.4833,       4170,   383.4,  11.2377,  34.9680,2,  34.9662,2,    241.6,2,   243.4,2,    4.80,2,   11.19,2,    0.00,2,    0.86,2,-999.000,9,-999.000,9,  -999.0,9,  -999.0,9,  -9.0000,9,-999.0000,9, -999.00,9, -999.00,9,  -999.0,9,  -999.0,-999.000,9,-999.000,-999.000,9,  -9.0000,-999.0000,  11.1894,   -9.00
  316N145_7,       I05E,     401,          1,         27,         27,2,19950405,       0542,   -32.5170,    91.4833,       4170,   457.6,  10.8336,  34.9125,2,  34.9111,2,    243.4,2,   242.5,2,    4.78,2,   12.12,2,    0.00,2,    0.91,2,-999.000,9,-999.000,9,  -999.0,9,  -999.0,9,  -9.0000,9,-999.0000,9, -999.00,9, -999.00,9,  -999.0,9,  -999.0,-999.000,9,-999.000,-999.000,9,  -9.0000,-999.0000,  10.7771,   -9.00
  316N145_7,       I05E,     401,          1,         26,         26,2,19950405,       0542,   -32.5170,    91.4833,       4170,   557.5,  10.2278,  34.8237,2,  34.8228,2,    244.5,2,   241.9,2,    5.19,2,   13.60,2,    0.00,2,    1.00,2,-999.000,9,-999.000,9,  -999.0,9,  -999.0,9,  -9.0000,9,-999.0000,9, -999.00,9, -999.00,9,  -999.0,9,  -999.0,-999.000,9,-999.000,-999.000,9,  -9.0000,-999.0000,  10.1611,   -9.00
  316N145_7,       I05E,     401,          1,         25,         25,2,19950405,       0542,   -32.5170,    91.4833,       4170,   657.9,   9.5177,  34.7172,2,  34.7163,2,    238.7,2,   235.0,2,    6.23,2,   16.26,2,    0.00,2,    1.17,2,-999.000,9,-999.000,9,  -999.0,9,  -999.0,9,  -9.0000,9,-999.0000,9, -999.00,9, -999.00,9,  -999.0,9,  -999.0,-999.000,9,-999.000,-999.000,9,  -9.0000,-999.0000,   9.4421,   -9.00
  316N145_7,       I05E,     401,          1,         24,         24,2,19950405,       0542,   -32.5170,    91.4833,       4170,   758.4,   8.3632,  34.5847,2,  34.5840,2,    219.1,2,   215.8,2,   10.65,2,   20.94,2,    0.00,2,    1.46,2,-999.000,9,-999.000,9,  -999.0,9,  -999.0,9,  -9.0000,9,-999.0000,9, -999.00,9, -999.00,9,  -999.0,9,  -999.0,-999.000,9,-999.000,-999.000,9,  -9.0000,-999.0000,   8.2822,   -9.00
  316N145_7,       I05E,     401,          1,         23,         23,2,19950405,       0542,   -32.5170,    91.4833,       4170,   859.6,   7.0298,  34.4840,2,  34.4792,2,    205.7,2,   201.8,2,   18.03,2,   25.39,2,    0.00,2,    1.75,2,-999.000,9,-999.000,9,  -999.0,9,  -999.0,9,  -9.0000,9,-999.0000,9, -999.00,9, -999.00,9,  -999.0,9,  -999.0,-999.000,9,-999.000,-999.000,9,  -9.0000,-999.0000,   6.9459,   -9.00
  316N145_7,       I05E,     401,          1,         22,         22,2,19950405,       0542,   -32.5170,    91.4833,       4170,   960.2,   5.6050,  34.4019,2,  34.3991,2,    201.4,2,   200.8,2,   26.46,2,   28.56,2,    0.00,2,    1.97,2,-999.000,9,-999.000,9,  -999.0,9,  -999.0,9,  -9.0000,9,-999.0000,9, -999.00,9, -999.00,9,  -999.0,9,  -999.0,-999.000,9,-999.000,-999.000,9,  -9.0000,-999.0000,   5.5211,   -9.00
  316N145_7,       I05E,     401,          1,         21,         21,2,19950405,       0542,   -32.5170,    91.4833,       4170,  1061.9,   4.5635,  34.3791,2,  34.3785,2,    196.6,2,   194.6,2,   37.22,2,   31.00,2,    0.00,2,    2.16,2,-999.000,9,-999.000,9,  -999.0,9,  -999.0,9,  -9.0000,9,-999.0000,9, -999.00,9, -999.00,9,  -999.0,9,  -999.0,-999.000,9,-999.000,-999.000,9,  -9.0000,-999.0000,   4.4783,   -9.00
  316N145_7,       I05E,     401,          1,         20,         20,2,19950405,       0542,   -32.5170,    91.4833,       4170,  1162.6,   4.0175,  34.4242,2,  34.4234,2,    179.3,2,   176.3,2,   51.78,2,   32.94,2,    0.00,2,    2.31,2,-999.000,9,-999.000,9,  -999.0,9,  -999.0,9,  -9.0000,9,-999.0000,9, -999.00,9, -999.00,9,  -999.0,9,  -999.0,-999.000,9,-999.000,-999.000,9,  -9.0000,-999.0000,   3.9282,   -9.00
  316N145_7,       I05E,     401,          1,         19,         19,2,19950405,       0542,   -32.5170,    91.4833,       4170,  1288.5,   3.6558,  34.4874,2,  34.4870,2,    162.0,2,   159.9,2,   65.93,2,   34.33,2,    0.00,2,    2.42,2,-999.000,9,-999.000,9,  -999.0,9,  -999.0,9,  -9.0000,9,-999.0000,9, -999.00,9, -999.00,9,  -999.0,9,  -999.0,-999.000,9,-999.000,-999.000,9,  -9.0000,-999.0000,   3.5589,   -9.00
  316N145_7,       I05E,     401,          1,         18,         18,2,19950405,       0542,   -32.5170,    91.4833,       4170,  1414.3,   3.3606,  34.5433,2,  34.5414,2,    153.6,2,   153.0,2,   75.23,2,   34.83,2,    0.00,2,    2.46,2,-999.000,9,-999.000,9,  -999.0,9,  -999.0,9,  -9.0000,9,-999.0000,9, -999.00,9, -999.00,9,  -999.0,9,  -999.0,-999.000,9,-999.000,-999.000,9,  -9.0000,-999.0000,   3.2560,   -9.00
  316N145_7,       I05E,     401,          1,         17,         17,2,19950405,       0542,   -32.5170,    91.4833,       4170,  1566.5,   3.1192,  34.5988,2,  34.5974,2,    149.4,2,   149.9,2,   83.91,2,   34.83,2,    0.00,2,    2.47,2,-999.000,9,-999.000,9,  -999.0,9,  -999.0,9,  -9.0000,9,-999.0000,9, -999.00,9, -999.00,9,  -999.0,9,  -999.0,-999.000,9,-999.000,-999.000,9,  -9.0000,-999.0000,   3.0043,   -9.00
  316N145_7,       I05E,     401,          1,         16,         16,2,19950405,       0542,   -32.5170,    91.4833,       4170,  1718.2,   2.8822,  34.6294,2,  34.6283,2,    154.1,2,   154.9,2,   86.23,2,   34.38,2,    0.00,2,    2.42,2,-999.000,9,-999.000,9,  -999.0,9,  -999.0,9,  -9.0000,9,-999.0000,9, -999.00,9, -999.00,9,  -999.0,9,  -999.0,-999.000,9,-999.000,-999.000,9,  -9.0000,-999.0000,   2.7572,   -9.00
  316N145_7,       I05E,     401,          1,         15,         15,2,19950405,       0542,   -32.5170,    91.4833,       4170,  1870.4,   2.6422,  34.6650,2,  34.6638,2,    161.5,2,   162.7,2,   88.33,2,   33.68,2,    0.00,2,    2.36,2,-999.000,9,-999.000,9,  -999.0,9,  -999.0,9,  -9.0000,9,-999.0000,9, -999.00,9, -999.00,9,  -999.0,9,  -999.0,-999.000,9,-999.000,-999.000,9,  -9.0000,-999.0000,   2.5073,   -9.00
  316N145_7,       I05E,     401,          1,         14,         14,2,19950405,       0542,   -32.5170,    91.4833,       4170,  2022.7,   2.4517,  34.6957,2,  34.6951,2,    170.4,2,   169.8,2,   89.80,2,   32.83,2,    0.00,2,    2.30,2,-999.000,9,-999.000,9,  -999.0,9,  -999.0,9,  -9.0000,9,-999.0000,9, -999.00,9, -999.00,9,  -999.0,9,  -999.0,-999.000,9,-999.000,-999.000,9,  -9.0000,-999.0000,   2.3062,   -9.00
  316N145_7,       I05E,     401,          1,         13,         13,2,19950405,       0542,   -32.5170,    91.4833,       4170,  2154.3,   2.3226,  34.7135,2,  34.7130,2,    175.0,2,   176.1,2,   90.84,2,   32.28,2,    0.00,2,    2.26,2,-999.000,9,-999.000,9,  -999.0,9,  -999.0,9,  -9.0000,9,-999.0000,9, -999.00,9, -999.00,9,  -999.0,9,  -999.0,-999.000,9,-999.000,-999.000,9,  -9.0000,-999.0000,   2.1675,   -9.00
  316N145_7,       I05E,     401,          1,         12,         12,2,19950405,       0542,   -32.5170,    91.4833,       4170,  2327.2,   2.1552,  34.7296,2,  34.7293,2,    183.0,2,   182.4,2,   92.31,2,   31.63,2,    0.00,2,    2.20,2,-999.000,9,-999.000,9,  -999.0,9,  -999.0,9,  -9.0000,9,-999.0000,9, -999.00,9, -999.00,9,  -999.0,9,  -999.0,-999.000,9,-999.000,-999.000,9,  -9.0000,-999.0000,   1.9874,   -9.00
  316N145_7,       I05E,     401,          1,         11,         11,2,19950405,       0542,   -32.5170,    91.4833,       4170,  2479.1,   2.0041,  34.7404,2,  34.7389,2,    189.6,2,   189.0,2,   93.14,2,   31.13,2,    0.00,2,    2.16,2,-999.000,9,-999.000,9,  -999.0,9,  -999.0,9,  -9.0000,9,-999.0000,9, -999.00,9, -999.00,9,  -999.0,9,  -999.0,-999.000,9,-999.000,-999.000,9,  -9.0000,-999.0000,   1.8253,   -9.00
  316N145_7,       I05E,     401,          1,         10,         10,2,19950405,       0542,   -32.5170,    91.4833,       4170,  2630.6,   1.8734,  34.7442,2,  34.7433,2,    193.9,2,   193.5,2,   94.61,2,   30.93,2,    0.00,2,    2.14,2,-999.000,9,-999.000,9,  -999.0,9,  -999.0,9,  -9.0000,9,-999.0000,9, -999.00,9, -999.00,9,  -999.0,9,  -999.0,-999.000,9,-999.000,-999.000,9,  -9.0000,-999.0000,   1.6832,   -9.00
  316N145_7,       I05E,     401,          1,          9,          9,2,19950405,       0542,   -32.5170,    91.4833,       4170,  2782.9,   1.7220,  34.7423,2,  34.7413,2,    196.4,2,   195.8,2,   99.07,2,   31.08,2,    0.00,2,    2.15,2,-999.000,9,-999.000,9,  -999.0,9,  -999.0,9,  -9.0000,9,-999.0000,9, -999.00,9, -999.00,9,  -999.0,9,  -999.0,-999.000,9,-999.000,-999.000,9,  -9.0000,-999.0000,   1.5206,   -9.00
  316N145_7,       I05E,     401,          1,          8,          8,2,19950405,       0542,   -32.5170,    91.4833,       4170,  2934.5,   1.5699,  34.7387,2,  34.7378,2,    197.7,2,   197.8,2,  103.53,2,   31.23,2,    0.00,2,    2.16,2,-999.000,9,-999.000,9,  -999.0,9,  -999.0,9,  -9.0000,9,-999.0000,9, -999.00,9, -999.00,9,  -999.0,9,  -999.0,-999.000,9,-999.000,-999.000,9,  -9.0000,-999.0000,   1.3574,   -9.00
  316N145_7,       I05E,     401,          1,          7,          7,2,19950405,       0542,   -32.5170,    91.4833,       4170,  3085.7,   1.4360,  34.7347,2,  34.7335,2,    199.3,2,   200.7,2,  107.16,2,   31.38,2,    0.00,2,    2.17,2,-999.000,9,-999.000,9,  -999.0,9,  -999.0,9,  -9.0000,9,-999.0000,9, -999.00,9, -999.00,9,  -999.0,9,  -999.0,-999.000,9,-999.000,-999.000,9,  -9.0000,-999.0000,   1.2122,   -9.00
  316N145_7,       I05E,     401,          1,          6,          6,2,19950405,       0542,   -32.5170,    91.4833,       4170,  3237.9,   1.3515,  34.7311,2,  34.7301,2,    200.0,2,   200.6,2,  109.92,2,   31.53,2,    0.00,2,    2.19,2,-999.000,9,-999.000,9,  -999.0,9,  -999.0,9,  -9.0000,9,-999.0000,9, -999.00,9, -999.00,9,  -999.0,9,  -999.0,-999.000,9,-999.000,-999.000,9,  -9.0000,-999.0000,   1.1149,   -9.00
  316N145_7,       I05E,     401,          1,          5,          5,2,19950405,       0542,   -32.5170,    91.4833,       4170,  3443.2,   1.2587,  34.7268,2,  34.7252,2,    201.6,2,   201.7,2,  112.70,2,   31.73,2,    0.00,2,    2.20,2,-999.000,9,-999.000,9,  -999.0,9,  -999.0,9,  -9.0000,9,-999.0000,9, -999.00,9, -999.00,9,  -999.0,9,  -999.0,-999.000,9,-999.000,-999.000,9,  -9.0000,-999.0000,   1.0041,   -9.00
  316N145_7,       I05E,     401,          1,          4,          4,2,19950405,       0542,   -32.5170,    91.4833,       4170,  3649.0,   1.1804,  34.7230,2,  34.7215,2,    202.2,2,   203.2,2,  114.83,2,   31.87,2,    0.00,2,    2.20,2,-999.000,9,-999.000,9,  -999.0,9,  -999.0,9,  -9.0000,9,-999.0000,9, -999.00,9, -999.00,9,  -999.0,9,  -999.0,-999.000,9,-999.000,-999.000,9,  -9.0000,-999.0000,   0.9070,   -9.00
  316N145_7,       I05E,     401,          1,          3,          3,2,19950405,       0542,   -32.5170,    91.4833,       4170,  3854.5,   1.1372,  34.7200,2,  34.7189,2,    203.3,2,   203.8,2,  116.96,2,   31.97,2,    0.00,2,    2.21,2,-999.000,9,-999.000,9,  -999.0,9,  -999.0,9,  -9.0000,9,-999.0000,9, -999.00,9, -999.00,9,  -999.0,9,  -999.0,-999.000,9,-999.000,-999.000,9,  -9.0000,-999.0000,   0.8437,   -9.00
  316N145_7,       I05E,     401,          1,          2,          2,2,19950405,       0542,   -32.5170,    91.4833,       4170,  4059.7,   1.1212,  34.7177,2,  34.7168,2,    203.9,2,   203.5,2,  118.02,2,   32.07,2,    0.00,2,    2.22,2,   0.004,3,   0.006,2,  -999.0,9,  -999.0,9,  -9.0000,9,-999.0000,9, -999.00,9, -999.00,9,  -999.0,9,  -999.0,-999.000,9,-999.000,   0.055,2,  -9.0000,-999.0000,   0.8064,   -9.00
  316N145_7,       I05E,     401,          1,          1,          1,2,19950405,       0542,   -32.5170,    91.4833,       4170,  4238.4,   1.1057,  34.7157,2,  34.7160,2,    204.6,2,   204.3,2,  118.65,2,   32.12,2,    0.00,2,    2.22,2,-999.000,9,   0.010,2,  -999.0,9,  -999.0,9,  -9.0000,9,-999.0000,9, -999.00,9, -999.00,9,  -999.0,9,  -999.0,-999.000,9,-999.000,   0.030,2,  -9.0000,-999.0000,   0.7720,   -9.00