BOTTLE,20211124CCHSIORKP
EXPOCODE,SECT_ID,STNNBR,CASTNO,SAMPNO,BTLNBR,BTLNBR_FLAG_W,DATE,TIME,LATITUDE,LONGITUDE,DEPTH,CTDPRS,CTDTMP,CTDSAL,CTDSAL_FLAG_W,SALNTY,SALNTY_FLAG_W,CTDOXY,CTDOXY_FLAG_W,OXYGEN,OXYGEN_FLAG_W,SILCAT,SILCAT_FLAG_W,NITRAT,NITRAT_FLAG_W,NITRIT,NITRIT_FLAG_W,PHSPHT,PHSPHT_FLAG_W,CFC-11,CFC-11_FLAG_W,CFC-12,CFC-12_FLAG_W,TCARBN,TCARBN_FLAG_W,ALKALI,ALKALI_FLAG_W,TRITUM,TRITUM_FLAG_W,HELIUM,HELIUM_FLAG_W,DELHE3,DELHE3_FLAG_W,DELC13,DELC13_FLAG_W,DELC14,DELC14_FLAG_W,C14ERR,NEON,NEON_FLAG_W,NEONER,CCL4,CCL4_FLAG_W,TRITER,HELIER,THETA,DELHER
,,,,,,,,,,,METERS,DBAR,ITS-90,PSS-78,,PSS-78,,UMOL/KG,,UMOL/KG,,UMOL/KG,,UMOL/KG,,UMOL/KG,,UMOL/KG,,PMOL/KG,,PMOL/KG,,UMOL/KG,,UMOL/KG,,TU,,NMOL/KG,,PERCNT,,/MILLE,,/MILLE,,/MILLE,NMOL/KG,,NMOL/KG,PMOL/KG,,TU,NMOL/KG,DEG C,PERCNT
  316N145_7,      TRANS,     386,          1,         36,         36,2,19950402,       0325,   -27.1828,    85.7002,       4228,     2.4,  25.1470,  35.6942,2,  35.6928,2,    207.9,2,   208.8,2,    3.21,2,    0.15,2,    0.00,2,    0.11,2,   1.793,2,   1.056,2,  -999.0,9,  -999.0,9,  -9.0000,9,-999.0000,9, -999.00,9, -999.00,9,  -999.0,9,  -999.0,-999.000,9,-999.000,   2.223,2,  -9.0000,-999.0000,  25.1465,   -9.00
  316N145_7,      TRANS,     386,          1,         35,         35,2,19950402,       0325,   -27.1828,    85.7002,       4228,    25.4,  25.1357,  35.6958,2,  35.6944,2,    205.0,2,   208.8,2,    2.99,2,    0.16,2,    0.00,2,    0.11,2,-999.000,9,-999.000,9,  -999.0,9,  -999.0,9,  -9.0000,9,-999.0000,9, -999.00,9, -999.00,9,  -999.0,9,  -999.0,-999.000,9,-999.000,-999.000,9,  -9.0000,-999.0000,  25.1301,   -9.00
  316N145_7,      TRANS,     386,          1,         34,         34,2,19950402,       0325,   -27.1828,    85.7002,       4228,    50.7,  22.8475,  35.7387,2,  35.7398,2,    229.6,2,   234.2,2,    3.18,2,    0.16,2,    0.00,2,    0.11,2,-999.000,9,-999.000,9,  -999.0,9,  -999.0,9,  -9.0000,9,-999.0000,9, -999.00,9, -999.00,9,  -999.0,9,  -999.0,-999.000,9,-999.000,-999.000,9,  -9.0000,-999.0000,  22.8372,   -9.00
  316N145_7,      TRANS,     386,          1,         33,         33,2,19950402,       0325,   -27.1828,    85.7002,       4228,    86.1,  20.3025,  35.8290,2,  35.8216,2,    231.8,2,   234.3,2,    2.95,2,    0.16,2,    0.00,2,    0.13,2,-999.000,9,-999.000,9,  -999.0,9,  -999.0,9,  -9.0000,9,-999.0000,9, -999.00,9, -999.00,9,  -999.0,9,  -999.0,-999.000,9,-999.000,-999.000,9,  -9.0000,-999.0000,  20.2863,   -9.00
  316N145_7,      TRANS,     386,          1,         32,         32,2,19950402,       0325,   -27.1828,    85.7002,       4228,   116.1,  19.1384,  35.8758,2,  35.8743,2,    231.6,2,   227.4,2,    2.73,2,    0.16,2,    0.00,2,    0.15,2,   2.360,2,   1.319,2,  -999.0,9,  -999.0,9,  -9.0000,9,-999.0000,9, -999.00,9, -999.00,9,  -999.0,9,  -999.0,-999.000,9,-999.000,   1.488,2,  -9.0000,-999.0000,  19.1175,   -9.00
  316N145_7,      TRANS,     386,          1,         31,         31,2,19950402,       0325,   -27.1828,    85.7002,       4228,   165.8,  17.5002,  35.8428,2,  35.8395,2,    221.2,2,   221.0,2,    2.71,2,    0.81,2,    0.13,2,    0.24,2,-999.000,9,-999.000,9,  -999.0,9,  -999.0,9,  -9.0000,9,-999.0000,9, -999.00,9, -999.00,9,  -999.0,9,  -999.0,-999.000,9,-999.000,-999.000,9,  -9.0000,-999.0000,  17.4722,   -9.00
  316N145_7,      TRANS,     386,          1,         30,         30,2,19950402,       0325,   -27.1828,    85.7002,       4228,   216.4,  16.4769,  35.7265,2,  35.7718,2,    228.8,2,   224.6,2,    2.48,2,    1.32,2,    0.01,2,    0.28,2,-999.000,9,-999.000,9,  -999.0,9,  -999.0,9,  -9.0000,9,-999.0000,9, -999.00,9, -999.00,9,  -999.0,9,  -999.0,-999.000,9,-999.000,-999.000,9,  -9.0000,-999.0000,  16.4418,   -9.00
  316N145_7,      TRANS,     386,          1,         29,         29,2,19950402,       0325,   -27.1828,    85.7002,       4228,   266.6,  14.5797,  35.4817,2,  35.4787,2,    224.1,2,   222.7,2,    2.88,2,    4.66,2,    0.01,2,    0.48,2,-999.000,9,-999.000,9,  -999.0,9,  -999.0,9,  -9.0000,9,-999.0000,9, -999.00,9, -999.00,9,  -999.0,9,  -999.0,-999.000,9,-999.000,-999.000,9,  -9.0000,-999.0000,  14.5399,   -9.00
  316N145_7,      TRANS,     386,          1,         28,         28,2,19950402,       0325,   -27.1828,    85.7002,       4228,   316.9,  13.2264,  35.2868,2,  35.2925,2,    225.8,2,   225.3,2,    3.49,2,    7.40,2,    0.01,2,    0.63,2,   2.848,2,   1.470,2,  -999.0,9,  -999.0,9,  -9.0000,9,-999.0000,9, -999.00,9, -999.00,9,  -999.0,9,  -999.0,-999.000,9,-999.000,   0.892,2,  -9.0000,-999.0000,  13.1820,   -9.00
  316N145_7,      TRANS,     386,          1,         27,         27,2,19950402,       0325,   -27.1828,    85.7002,       4228,   376.2,  12.3795,  35.1600,2,  35.1641,2,    231.6,2,   232.8,2,    3.69,2,    8.78,2,    0.00,2,    0.71,2,-999.000,9,-999.000,9,  -999.0,9,  -999.0,9,  -9.0000,9,-999.0000,9, -999.00,9, -999.00,9,  -999.0,9,  -999.0,-999.000,9,-999.000,-999.000,9,  -9.0000,-999.0000,  12.3290,   -9.00
  316N145_7,      TRANS,     386,          1,         26,         26,2,19950402,       0325,   -27.1828,    85.7002,       4228,   477.4,  11.1763,  34.9737,2,  34.9727,2,    236.9,2,   238.0,2,    4.30,2,   11.37,2,    0.00,2,    0.86,2,   3.032,2,   1.543,2,  -999.0,9,  -999.0,9,  -9.0000,9,-999.0000,9, -999.00,9, -999.00,9,  -999.0,9,  -999.0,-999.000,9,-999.000,   1.397,2,  -9.0000,-999.0000,  11.1161,   -9.00
  316N145_7,      TRANS,     386,          1,         25,         25,2,19950402,       0325,   -27.1828,    85.7002,       4228,   577.5,  10.3413,  34.8417,2,  34.8433,2,    238.0,2,   238.6,2,    4.70,2,   13.48,2,    0.00,2,    0.98,2,-999.000,9,-999.000,9,  -999.0,9,  -999.0,9,  -9.0000,9,-999.0000,9, -999.00,9, -999.00,9,  -999.0,9,  -999.0,-999.000,9,-999.000,-999.000,9,  -9.0000,-999.0000,  10.2718,   -9.00
  316N145_7,      TRANS,     386,          1,         24,         24,2,19950402,       0325,   -27.1828,    85.7002,       4228,   679.0,   9.4017,  34.7045,2,  34.7070,2,    232.7,2,   231.1,2,    6.14,2,   16.57,2,    0.00,2,    1.17,2,   2.501,2,   1.245,2,  -999.0,9,  -999.0,9,  -9.0000,9,-999.0000,9, -999.00,9, -999.00,9,  -999.0,9,  -999.0,-999.000,9,-999.000,   1.479,2,  -9.0000,-999.0000,   9.3242,   -9.00
  316N145_7,      TRANS,     386,          1,         23,         23,2,19950402,       0325,   -27.1828,    85.7002,       4228,   779.5,   8.2477,  34.5803,2,  34.5773,2,    218.5,2,   214.9,2,   10.93,2,   21.19,2,    0.00,2,    1.46,2,   1.628,2,   0.806,2,  -999.0,9,  -999.0,9,  -9.0000,9,-999.0000,9, -999.00,9, -999.00,9,  -999.0,9,  -999.0,-999.000,9,-999.000,   1.289,2,  -9.0000,-999.0000,   8.1649,   -9.00
  316N145_7,      TRANS,     386,          1,         22,         22,2,19950402,       0325,   -27.1828,    85.7002,       4228,   880.1,   6.4999,  34.4659,2,  34.4717,2,    195.5,2,   194.0,2,   23.02,2,   26.76,2,    0.00,2,    1.84,2,-999.000,9,-999.000,9,  -999.0,9,  -999.0,9,  -9.0000,9,-999.0000,9, -999.00,9, -999.00,9,  -999.0,9,  -999.0,-999.000,9,-999.000,-999.000,9,  -9.0000,-999.0000,   6.4175,   -9.00
  316N145_7,      TRANS,     386,          1,         21,         21,2,19950402,       0325,   -27.1828,    85.7002,       4228,   981.2,   5.1919,  34.4138,2,  34.4145,2,    188.7,2,   189.0,2,   34.07,2,   29.97,2,    0.00,2,    2.07,2,-999.000,9,-999.000,9,  -999.0,9,  -999.0,9,  -9.0000,9,-999.0000,9, -999.00,9, -999.00,9,  -999.0,9,  -999.0,-999.000,9,-999.000,-999.000,9,  -9.0000,-999.0000,   5.1090,   -9.00
  316N145_7,      TRANS,     386,          1,         20,         20,2,19950402,       0325,   -27.1828,    85.7002,       4228,  1081.1,   4.3338,  34.4279,2,  34.4312,2,    174.7,2,   175.3,2,   49.49,2,   32.50,2,    0.00,2,    2.27,2,   0.432,3,   0.114,2,  -999.0,9,  -999.0,9,  -9.0000,9,-999.0000,9, -999.00,9, -999.00,9,  -999.0,9,  -999.0,-999.000,9,-999.000,   0.620,2,  -9.0000,-999.0000,   4.2487,   -9.00
  316N145_7,      TRANS,     386,          1,         19,         19,2,19950402,       0325,   -27.1828,    85.7002,       4228,  1212.6,   3.8328,  34.4898,2,  34.4905,2,    157.0,2,   157.7,2,   64.93,2,   34.19,2,    0.00,2,    2.40,2,-999.000,9,-999.000,9,  -999.0,9,  -999.0,9,  -9.0000,9,-999.0000,9, -999.00,9, -999.00,9,  -999.0,9,  -999.0,-999.000,9,-999.000,-999.000,9,  -9.0000,-999.0000,   3.7407,   -9.00
  316N145_7,      TRANS,     386,          1,         18,         18,2,19950402,       0325,   -27.1828,    85.7002,       4228,  1338.2,   3.5650,  34.5517,2,  34.5510,2,    147.8,2,   147.4,2,   76.41,2,   34.83,2,    0.00,2,    2.46,2,   0.035,3,   0.013,2,  -999.0,9,  -999.0,9,  -9.0000,9,-999.0000,9, -999.00,9, -999.00,9,  -999.0,9,  -999.0,-999.000,9,-999.000,   0.160,2,  -9.0000,-999.0000,   3.4647,   -9.00
  316N145_7,      TRANS,     386,          1,         17,         17,2,19950402,       0325,   -27.1828,    85.7002,       4228,  1465.2,   3.2464,  34.5998,2,  34.5975,2,    146.8,2,   147.7,2,   83.08,2,   34.83,2,    0.00,2,    2.46,2,-999.000,9,-999.000,9,  -999.0,9,  -999.0,9,  -9.0000,9,-999.0000,9, -999.00,9, -999.00,9,  -999.0,9,  -999.0,-999.000,9,-999.000,-999.000,9,  -9.0000,-999.0000,   3.1386,   -9.00
  316N145_7,      TRANS,     386,          1,         16,         16,2,19950402,       0325,   -27.1828,    85.7002,       4228,  1590.9,   3.0381,  34.6378,2,  34.6395,2,    148.9,2,   148.6,2,   89.35,2,   34.58,2,    0.00,2,    2.44,2,   0.026,3,   0.000,2,  -999.0,9,  -999.0,9,  -9.0000,9,-999.0000,9, -999.00,9, -999.00,9,  -999.0,9,  -999.0,-999.000,9,-999.000,   0.041,2,  -9.0000,-999.0000,   2.9220,   -9.00
  316N145_7,      TRANS,     386,          1,         15,         15,2,19950402,       0325,   -27.1828,    85.7002,       4228,  1716.7,   2.8081,  34.6739,2,  34.6753,2,    151.7,2,   151.8,2,   95.41,2,   34.28,2,    0.00,2,    2.43,2,-999.000,9,-999.000,9,  -999.0,9,  -999.0,9,  -9.0000,9,-999.0000,9, -999.00,9, -999.00,9,  -999.0,9,  -999.0,-999.000,9,-999.000,-999.000,9,  -9.0000,-999.0000,   2.6840,   -9.00
  316N145_7,      TRANS,     386,          1,         14,         14,2,19950402,       0325,   -27.1828,    85.7002,       4228,  1843.7,   2.5982,  34.6946,2,  34.6959,2,    154.4,2,   156.5,2,   99.59,2,   33.93,2,    0.00,2,    2.39,2,-999.000,9,-999.000,9,  -999.0,9,  -999.0,9,  -9.0000,9,-999.0000,9, -999.00,9, -999.00,9,  -999.0,9,  -999.0,-999.000,9,-999.000,-999.000,9,  -9.0000,-999.0000,   2.4660,   -9.00
  316N145_7,      TRANS,     386,          1,         13,         13,2,19950402,       0325,   -27.1828,    85.7002,       4228,  1975.1,   2.4124,  34.7099,2,  34.7098,2,    160.4,2,   160.8,2,  102.93,2,   33.53,2,    0.00,2,    2.37,2,-999.000,9,-999.000,9,  -999.0,9,  -999.0,9,  -9.0000,9,-999.0000,9, -999.00,9, -999.00,9,  -999.0,9,  -999.0,-999.000,9,-999.000,-999.000,9,  -9.0000,-999.0000,   2.2716,   -9.00
  316N145_7,      TRANS,     386,          1,         12,         12,2,19950402,       0325,   -27.1828,    85.7002,       4228,  2173.6,   2.2662,  34.7167,2,  34.7171,2,    165.2,2,   166.3,2,  104.37,2,   33.28,2,    0.00,2,    2.34,2,-999.000,9,-999.000,9,  -999.0,9,  -999.0,9,  -9.0000,9,-999.0000,9, -999.00,9, -999.00,9,  -999.0,9,  -999.0,-999.000,9,-999.000,-999.000,9,  -9.0000,-999.0000,   2.1103,   -9.00
  316N145_7,      TRANS,     386,          1,         11,         11,2,19950402,       0325,   -27.1828,    85.7002,       4228,  2376.5,   2.1248,  34.7214,2,  34.7216,2,    170.7,2,   171.0,2,  105.82,2,   32.98,2,    0.00,2,    2.31,2,-999.000,9,-999.000,9,  -999.0,9,  -999.0,9,  -9.0000,9,-999.0000,9, -999.00,9, -999.00,9,  -999.0,9,  -999.0,-999.000,9,-999.000,-999.000,9,  -9.0000,-999.0000,   1.9532,   -9.00
  316N145_7,      TRANS,     386,          1,         10,         10,2,19950402,       0325,   -27.1828,    85.7002,       4228,  2578.6,   1.9359,  34.7266,2,  34.7269,2,    177.8,2,   178.1,2,  107.68,2,   32.64,2,    0.00,2,    2.28,2,-999.000,9,-999.000,9,  -999.0,9,  -999.0,9,  -9.0000,9,-999.0000,9, -999.00,9, -999.00,9,  -999.0,9,  -999.0,-999.000,9,-999.000,-999.000,9,  -9.0000,-999.0000,   1.7493,   -9.00
  316N145_7,      TRANS,     386,          1,          9,          9,2,19950402,       0325,   -27.1828,    85.7002,       4228,  2782.4,   1.7899,  34.7299,2,  34.7302,2,    183.4,2,   184.6,2,  107.64,2,   32.19,2,    0.00,2,    2.24,2,-999.000,9,-999.000,9,  -999.0,9,  -999.0,9,  -9.0000,9,-999.0000,9, -999.00,9, -999.00,9,  -999.0,9,  -999.0,-999.000,9,-999.000,-999.000,9,  -9.0000,-999.0000,   1.5873,   -9.00
  316N145_7,      TRANS,     386,          1,          8,          8,2,19950402,       0325,   -27.1828,    85.7002,       4228,  2985.5,   1.6608,  34.7318,2,  34.7320,2,    188.8,2,   189.3,2,  108.45,2,   31.84,2,    0.00,2,    2.22,2,   0.028,3,   0.002,2,  -999.0,9,  -999.0,9,  -9.0000,9,-999.0000,9, -999.00,9, -999.00,9,  -999.0,9,  -999.0,-999.000,9,-999.000,   0.000,2,  -9.0000,-999.0000,   1.4416,   -9.00
  316N145_7,      TRANS,     386,          1,          7,          7,2,19950402,       0325,   -27.1828,    85.7002,       4228,  3189.6,   1.5247,  34.7287,2,  34.7298,2,    190.2,2,   189.7,2,  113.93,2,   32.19,2,    0.00,2,    2.24,2,-999.000,9,-999.000,9,  -999.0,9,  -999.0,9,  -9.0000,9,-999.0000,9, -999.00,9, -999.00,9,  -999.0,9,  -999.0,-999.000,9,-999.000,-999.000,9,  -9.0000,-999.0000,   1.2887,   -9.00
  316N145_7,      TRANS,     386,          1,          6,          6,2,19950402,       0325,   -27.1828,    85.7002,       4228,  3393.0,   1.4392,  34.7257,2,  34.7255,2,    190.3,2,   189.6,2,  118.15,2,   32.48,2,    0.00,2,    2.26,2,   0.032,3,   0.006,2,  -999.0,9,  -999.0,9,  -9.0000,9,-999.0000,9, -999.00,9, -999.00,9,  -999.0,9,  -999.0,-999.000,9,-999.000,   0.001,2,  -9.0000,-999.0000,   1.1852,   -9.00
  316N145_7,      TRANS,     386,          1,          5,          5,2,19950402,       0325,   -27.1828,    85.7002,       4228,  3597.9,   1.3873,  34.7226,2,  34.7227,2,    188.9,2,   188.4,2,  122.17,2,   32.78,2,    0.00,2,    2.27,2,-999.000,9,-999.000,9,  -999.0,9,  -999.0,9,  -9.0000,9,-999.0000,9, -999.00,9, -999.00,9,  -999.0,9,  -999.0,-999.000,9,-999.000,-999.000,9,  -9.0000,-999.0000,   1.1137,   -9.00
  316N145_7,      TRANS,     386,          1,          4,          4,2,19950402,       0325,   -27.1828,    85.7002,       4228,  3802.4,   1.3812,  34.7218,2,  34.7221,2,    189.2,2,   190.2,3,  122.55,2,   32.78,2,    0.00,2,    2.27,2,-999.000,9,-999.000,9,  -999.0,9,  -999.0,9,  -9.0000,9,-999.0000,9, -999.00,9, -999.00,9,  -999.0,9,  -999.0,-999.000,9,-999.000,-999.000,9,  -9.0000,-999.0000,   1.0865,   -9.00
  316N145_7,      TRANS,     386,          1,          3,          3,2,19950402,       0325,   -27.1828,    85.7002,       4228,  4005.1,   1.3887,  34.7210,2,  34.7211,2,    189.0,2,   188.4,2,  123.15,2,   32.83,2,    0.00,2,    2.28,2,-999.000,9,-999.000,9,  -999.0,9,  -999.0,9,  -9.0000,9,-999.0000,9, -999.00,9, -999.00,9,  -999.0,9,  -999.0,-999.000,9,-999.000,-999.000,9,  -9.0000,-999.0000,   1.0721,   -9.00
  316N145_7,      TRANS,     386,          1,          2,          2,2,19950402,       0325,   -27.1828,    85.7002,       4228,  4210.4,   1.4028,  34.7214,2,  34.7207,2,    187.7,2,   188.3,2,  123.54,2,   32.98,2,    0.00,2,    2.29,2,   0.054,3,  -0.001,2,  -999.0,9,  -999.0,9,  -9.0000,9,-999.0000,9, -999.00,9, -999.00,9,  -999.0,9,  -999.0,-999.000,9,-999.000,   0.000,2,  -9.0000,-999.0000,   1.0634,   -9.00
  316N145_7,      TRANS,     386,          1,          1,          1,2,19950402,       0325,   -27.1828,    85.7002,       4228,  4301.0,   1.4133,  34.7206,2,  34.7209,2,    187.9,2,   188.6,2,  123.71,2,   32.83,2,    0.00,2,    2.28,2,   0.199,3,   0.002,2,  -999.0,9,  -999.0,9,  -9.0000,9,-999.0000,9, -999.00,9, -999.00,9,  -999.0,9,  -999.0,-999.000,9,-999.000,   0.006,2,  -9.0000,-999.0000,   1.0634,   -9.00