BOTTLE,20211124CCHSIORKP
EXPOCODE,SECT_ID,STNNBR,CASTNO,SAMPNO,BTLNBR,BTLNBR_FLAG_W,DATE,TIME,LATITUDE,LONGITUDE,DEPTH,CTDPRS,CTDTMP,CTDSAL,CTDSAL_FLAG_W,SALNTY,SALNTY_FLAG_W,CTDOXY,CTDOXY_FLAG_W,OXYGEN,OXYGEN_FLAG_W,SILCAT,SILCAT_FLAG_W,NITRAT,NITRAT_FLAG_W,NITRIT,NITRIT_FLAG_W,PHSPHT,PHSPHT_FLAG_W,CFC-11,CFC-11_FLAG_W,CFC-12,CFC-12_FLAG_W,TCARBN,TCARBN_FLAG_W,ALKALI,ALKALI_FLAG_W,TRITUM,TRITUM_FLAG_W,HELIUM,HELIUM_FLAG_W,DELHE3,DELHE3_FLAG_W,DELC13,DELC13_FLAG_W,DELC14,DELC14_FLAG_W,C14ERR,NEON,NEON_FLAG_W,NEONER,CCL4,CCL4_FLAG_W,TRITER,HELIER,THETA,DELHER
,,,,,,,,,,,METERS,DBAR,ITS-90,PSS-78,,PSS-78,,UMOL/KG,,UMOL/KG,,UMOL/KG,,UMOL/KG,,UMOL/KG,,UMOL/KG,,PMOL/KG,,PMOL/KG,,UMOL/KG,,UMOL/KG,,TU,,NMOL/KG,,PERCNT,,/MILLE,,/MILLE,,/MILLE,NMOL/KG,,NMOL/KG,PMOL/KG,,TU,NMOL/KG,DEG C,PERCNT
  316N145_7,       I08N,     321,          1,         36,         36,2,19950318,       2320,    -7.5002,    80.0002,       5361,     3.3,  29.3691,  34.0706,2,  34.0703,2,    196.1,2,   203.8,3,    2.83,2,    0.09,2,    0.00,2,    0.10,2,-999.000,9,-999.000,9,  1896.2,2,  2235.9,2,  -9.0000,9,-999.0000,9, -999.00,9,    1.26,2,    66.2,2,     3.8,-999.000,9,-999.000,-999.000,9,  -9.0000,-999.0000,  29.3683,   -9.00
  316N145_7,       I08N,     321,          1,         35,         35,2,19950318,       2320,    -7.5002,    80.0002,       5361,    30.3,  27.7281,  34.3885,2,  34.4112,2,    198.7,2,   206.7,3,    3.03,2,    0.09,2,    0.00,2,    0.13,2,-999.000,9,-999.000,9,  -999.0,9,  -999.0,9,  -9.0000,9,-999.0000,9, -999.00,9, -999.00,9,  -999.0,9,  -999.0,-999.000,9,-999.000,-999.000,9,  -9.0000,-999.0000,  27.7211,   -9.00
  316N145_7,       I08N,     321,          1,         34,         34,2,19950318,       2320,    -7.5002,    80.0002,       5361,    55.4,  21.3811,  35.1674,2,  35.1506,2,    130.4,2,   129.6,2,   10.73,2,   11.21,2,    0.23,2,    0.88,2,-999.000,9,-999.000,9,  -999.0,9,  -999.0,9,  -9.0000,9,-999.0000,9, -999.00,9, -999.00,9,  -999.0,9,  -999.0,-999.000,9,-999.000,-999.000,9,  -9.0000,-999.0000,  21.3704,   -9.00
  316N145_7,       I08N,     321,          1,         33,         33,2,19950318,       2320,    -7.5002,    80.0002,       5361,    90.8,  16.9100,  35.1021,2,  35.1008,2,    107.5,2,    93.9,2,   19.07,2,   18.82,2,    0.05,2,    1.33,2,-999.000,9,-999.000,9,  -999.0,9,  -999.0,9,  -9.0000,9,-999.0000,9, -999.00,9,    0.34,2,    41.0,2,     3.4,-999.000,9,-999.000,-999.000,9,  -9.0000,-999.0000,  16.8951,   -9.00
  316N145_7,       I08N,     321,          1,         32,         32,2,19950318,       2320,    -7.5002,    80.0002,       5361,   126.4,  14.0358,  34.9556,2,  34.9577,2,     74.5,2,    70.7,2,   26.15,2,   24.89,2,    0.01,2,    1.73,2,-999.000,9,-999.000,9,  -999.0,9,  -999.0,9,  -9.0000,9,-999.0000,9, -999.00,9,    0.18,2,    -3.4,2,     5.7,-999.000,9,-999.000,-999.000,9,  -9.0000,-999.0000,  14.0176,   -9.00
  316N145_7,       I08N,     321,          1,         31,         31,2,19950318,       2320,    -7.5002,    80.0002,       5361,   166.5,  12.4381,  34.9013,2,  34.9018,2,     67.4,2,    68.8,2,   29.90,2,   27.08,2,    0.01,2,    1.88,2,-999.000,9,-999.000,9,  -999.0,9,  -999.0,9,  -9.0000,9,-999.0000,9, -999.00,9, -999.00,9,  -999.0,9,  -999.0,-999.000,9,-999.000,-999.000,9,  -9.0000,-999.0000,  12.4159,   -9.00
  316N145_7,       I08N,     321,          1,         30,         30,2,19950318,       2320,    -7.5002,    80.0002,       5361,   216.8,  11.5890,  34.9398,2,  34.9388,2,     65.3,2,    68.7,2,   29.26,2,   28.27,2,    0.01,2,    1.93,2,-999.000,9,-999.000,9,  -999.0,9,  -999.0,9,  -9.0000,9,-999.0000,9, -999.00,9,    0.31,2,   -41.4,2,     6.7,-999.000,9,-999.000,-999.000,9,  -9.0000,-999.0000,  11.5613,   -9.00
  316N145_7,       I08N,     321,          1,         29,         29,2,19950318,       2320,    -7.5002,    80.0002,       5361,   287.2,  10.7446,  34.9045,2,  34.9019,2,     87.4,2,    99.7,2,   26.53,2,   26.79,2,    0.01,2,    1.82,2,-999.000,9,-999.000,9,  -999.0,9,  -999.0,9,  -9.0000,9,-999.0000,9, -999.00,9, -999.00,9,  -999.0,9,  -999.0,-999.000,9,-999.000,-999.000,9,  -9.0000,-999.0000,  10.7096,   -9.00
  316N145_7,       I08N,     321,          1,         28,         28,2,19950318,       2320,    -7.5002,    80.0002,       5361,   357.2,   9.9675,  34.8799,2,  34.8806,2,     86.7,2,    93.4,2,   30.27,2,   28.98,2,    0.01,2,    1.96,2,-999.000,9,-999.000,9,  -999.0,9,  -999.0,9,  -9.0000,9,-999.0000,9, -999.00,9,    0.52,2,   -63.5,2,     5.6,-999.000,9,-999.000,-999.000,9,  -9.0000,-999.0000,   9.9259,   -9.00
  316N145_7,       I08N,     321,          1,         27,         27,2,19950318,       2320,    -7.5002,    80.0002,       5361,   457.3,   9.1386,  34.8402,2,  34.8435,2,     85.9,2,    87.4,2,   39.23,2,   31.04,2,    0.01,2,    2.16,2,-999.000,9,-999.000,9,  -999.0,9,  -999.0,9,  -9.0000,9,-999.0000,9, -999.00,9,    0.43,2,   -86.1,2,     3.8,-999.000,9,-999.000,-999.000,9,  -9.0000,-999.0000,   9.0878,   -9.00
  316N145_7,       I08N,     321,          1,         26,         26,2,19950318,       2320,    -7.5002,    80.0002,       5361,   557.2,   8.5049,  34.8349,2,  34.8340,2,     78.9,2,    78.7,2,   48.61,2,   32.76,2,    0.01,2,    2.32,2,-999.000,9,-999.000,9,  -999.0,9,  -999.0,9,  -9.0000,9,-999.0000,9, -999.00,9,    0.34,2,  -109.3,2,     3.8,-999.000,9,-999.000,-999.000,9,  -9.0000,-999.0000,   8.4453,   -9.00
  316N145_7,       I08N,     321,          1,         25,         25,2,19950318,       2320,    -7.5002,    80.0002,       5361,   658.3,   7.7967,  34.8135,2,  34.8116,2,     71.9,2,    70.9,2,   60.91,2,   34.59,2,    0.00,2,    2.48,2,-999.000,9,-999.000,9,  -999.0,9,  -999.0,9,  -9.0000,9,-999.0000,9, -999.00,9,    0.24,2,  -133.4,2,     2.6,-999.000,9,-999.000,-999.000,9,  -9.0000,-999.0000,   7.7292,   -9.00
  316N145_7,       I08N,     321,          1,         24,         24,2,19950318,       2320,    -7.5002,    80.0002,       5361,   758.3,   6.9788,  34.7769,2,  34.7760,2,     69.6,2,    69.2,2,   73.24,2,   35.74,2,    0.00,2,    2.57,2,-999.000,9,-999.000,9,  -999.0,9,  -999.0,9,  -9.0000,9,-999.0000,9, -999.00,9,    0.12,2,  -152.6,2,     3.4,-999.000,9,-999.000,-999.000,9,  -9.0000,-999.0000,   6.9053,   -9.00
  316N145_7,       I08N,     321,          1,         23,         23,2,19950318,       2320,    -7.5002,    80.0002,       5361,   859.5,   6.3288,  34.7642,2,  34.7697,2,     71.2,2,    72.3,2,   83.07,2,   36.27,2,    0.00,2,    2.61,2,-999.000,9,-999.000,9,  -999.0,9,  -999.0,9,  -9.0000,9,-999.0000,9, -999.00,9,    0.09,2,  -168.0,2,     3.3,-999.000,9,-999.000,-999.000,9,  -9.0000,-999.0000,   6.2491,   -9.00
  316N145_7,       I08N,     321,          1,         22,         22,2,19950318,       2320,    -7.5002,    80.0002,       5361,   960.5,   5.8571,  34.7621,2,  34.7629,2,     77.0,2,    76.4,2,   88.92,2,   36.51,2,    0.00,2,    2.64,2,-999.000,9,-999.000,9,  -999.0,9,  -999.0,9,  -9.0000,9,-999.0000,9, -999.00,9,    0.07,2,  -172.0,2,     3.8,-999.000,9,-999.000,-999.000,9,  -9.0000,-999.0000,   5.7707,   -9.00
  316N145_7,       I08N,     321,          1,         21,         21,2,19950318,       2320,    -7.5002,    80.0002,       5361,  1060.8,   5.1855,  34.7326,2,  34.7334,2,     81.7,2,    82.1,2,   97.96,2,   36.70,2,    0.00,2,    2.66,2,-999.000,9,-999.000,9,  -999.0,9,  -999.0,9,  -9.0000,9,-999.0000,9, -999.00,9,    0.06,2,  -174.4,2,     3.3,-999.000,9,-999.000,-999.000,9,  -9.0000,-999.0000,   5.0948,   -9.00
  316N145_7,       I08N,     321,          1,         20,         20,2,19950318,       2320,    -7.5002,    80.0002,       5361,  1212.5,   4.8151,  34.7853,2,  34.7841,2,     88.1,2,    88.3,2,  100.46,2,   36.74,2,    0.00,2,    2.66,2,-999.000,9,-999.000,9,  -999.0,9,  -999.0,9,  -9.0000,9,-999.0000,9, -999.00,9,    0.04,2,  -184.7,2,     4.4,-999.000,9,-999.000,-999.000,9,  -9.0000,-999.0000,   4.7134,   -9.00
  316N145_7,       I08N,     321,          1,         19,         19,2,19950318,       2320,    -7.5002,    80.0002,       5361,  1414.4,   4.0579,  34.7727,2,  34.7733,2,    100.2,2,   101.5,2,  106.99,2,   36.50,2,    0.00,2,    2.62,2,-999.000,9,-999.000,9,  -999.0,9,  -999.0,9,  -9.0000,9,-999.0000,9, -999.00,9,    0.09,2,  -188.9,2,     3.3,-999.000,9,-999.000,-999.000,9,  -9.0000,-999.0000,   3.9453,   -9.00
  316N145_7,       I08N,     321,          1,         18,         18,2,19950318,       2320,    -7.5002,    80.0002,       5361,  1615.8,   3.4728,  34.7660,2,  34.7674,2,    114.4,2,   114.8,2,  112.06,2,   36.06,2,    0.00,2,    2.58,2,-999.000,9,-999.000,9,  -999.0,9,  -999.0,9,  -9.0000,9,-999.0000,9, -999.00,9,    0.12,2,  -189.1,2,     3.3,-999.000,9,-999.000,-999.000,9,  -9.0000,-999.0000,   3.3489,   -9.00
  316N145_7,       I08N,     321,          1,         17,         17,2,19950318,       2320,    -7.5002,    80.0002,       5361,  1817.9,   3.0330,  34.7641,2,  34.7639,2,    126.1,2,   125.5,2,  116.29,2,   35.67,2,    0.00,2,    2.54,2,-999.000,9,-999.000,9,  -999.0,9,  -999.0,9,  -9.0000,9,-999.0000,9, -999.00,9,    0.16,2,  -197.5,2,     4.2,-999.000,9,-999.000,-999.000,9,  -9.0000,-999.0000,   2.8969,   -9.00
  316N145_7,       I08N,     321,          1,         16,         16,2,19950318,       2320,    -7.5002,    80.0002,       5361,  2020.2,   2.5561,  34.7500,2,  34.7505,2,    138.4,2,   140.2,3,  120.11,2,   35.09,2,    0.00,2,    2.48,2,-999.000,9,-999.000,9,  -999.0,9,  -999.0,9,  -9.0000,9,-999.0000,9, -999.00,9,    0.19,2,  -202.9,2,     2.3,-999.000,9,-999.000,-999.000,9,  -9.0000,-999.0000,   2.4090,   -9.00
  316N145_7,       I08N,     321,          1,         15,         15,2,19950318,       2320,    -7.5002,    80.0002,       5361,  2222.3,   2.2748,  34.7464,2,  34.7462,2,    147.9,2,   147.2,2,  123.08,2,   34.80,2,    0.00,2,    2.44,2,-999.000,9,-999.000,9,  -999.0,9,  -999.0,9,  -9.0000,9,-999.0000,9, -999.00,9,    0.19,2,  -216.3,3,     2.8,-999.000,9,-999.000,-999.000,9,  -9.0000,-999.0000,   2.1144,   -9.00
  316N145_7,       I08N,     321,          1,         14,         14,2,19950318,       2320,    -7.5002,    80.0002,       5361,  2424.6,   2.0356,  34.7394,2,  34.7397,2,    156.1,2,   156.7,2,  124.77,2,   34.41,2,    0.00,2,    2.40,2,-999.000,9,-999.000,9,  -999.0,9,  -999.0,9,  -9.0000,9,-999.0000,9, -999.00,9,    0.20,2,  -199.9,2,     3.7,-999.000,9,-999.000,-999.000,9,  -9.0000,-999.0000,   1.8612,   -9.00
  316N145_7,       I08N,     321,          1,         13,         13,2,19950318,       2320,    -7.5002,    80.0002,       5361,  2629.0,   1.8870,  34.7350,2,  34.7348,2,    161.0,2,   161.5,2,  126.89,2,   34.21,2,    0.00,2,    2.39,2,-999.000,9,-999.000,9,  -999.0,9,  -999.0,9,  -9.0000,9,-999.0000,9, -999.00,9,    0.21,2,  -204.7,2,     5.5,-999.000,9,-999.000,-999.000,9,  -9.0000,-999.0000,   1.6967,   -9.00
  316N145_7,       I08N,     321,          1,         12,         12,2,19950318,       2320,    -7.5002,    80.0002,       5361,  2832.6,   1.7681,  34.7316,2,  34.7322,2,    165.4,2,   164.6,2,  128.37,2,   34.11,2,    0.00,2,    2.37,2,-999.000,9,-999.000,9,  -999.0,9,  -999.0,9,  -9.0000,9,-999.0000,9, -999.00,9,    0.21,2,  -203.7,2,     2.5,-999.000,9,-999.000,-999.000,9,  -9.0000,-999.0000,   1.5611,   -9.00
  316N145_7,       I08N,     321,          1,         11,         11,2,19950318,       2320,    -7.5002,    80.0002,       5361,  3036.5,   1.6714,  34.7290,2,  34.7283,2,    166.5,2,   165.6,2,  130.92,2,   34.11,2,    0.00,2,    2.37,2,-999.000,9,-999.000,9,  -999.0,9,  -999.0,9,  -9.0000,9,-999.0000,9, -999.00,9,    0.28,2,  -203.5,6,     2.0,-999.000,9,-999.000,-999.000,9,  -9.0000,-999.0000,   1.4471,   -9.00
  316N145_7,       I08N,     321,          1,         10,         10,2,19950318,       2320,    -7.5002,    80.0002,       5361,  3291.0,   1.5523,  34.7256,2,  34.7262,2,    168.1,2,   167.8,2,  134.36,2,   34.16,2,    0.00,2,    2.36,2,-999.000,9,-999.000,9,  -999.0,9,  -999.0,9,  -9.0000,9,-999.0000,9, -999.00,9,    0.17,2,  -204.7,6,     2.4,-999.000,9,-999.000,-999.000,9,  -9.0000,-999.0000,   1.3057,   -9.00
  316N145_7,       I08N,     321,          1,          9,          9,2,19950318,       2320,    -7.5002,    80.0002,       5361,  3545.5,   1.4745,  34.7229,2,  34.7222,2,    170.2,2,   170.4,2,  136.28,2,   34.15,2,    0.00,2,    2.36,2,-999.000,9,-999.000,9,  -999.0,9,  -999.0,9,  -9.0000,9,-999.0000,9, -999.00,9,    0.23,2,  -205.8,2,     2.5,-999.000,9,-999.000,-999.000,9,  -9.0000,-999.0000,   1.2041,   -9.00
  316N145_7,       I08N,     321,          1,          8,          8,2,19950318,       2320,    -7.5002,    80.0002,       5361,  3800.8,   1.4143,  34.7209,2,  34.7207,2,    173.5,2,   174.0,2,  136.25,2,   33.96,2,    0.00,2,    2.35,2,-999.000,9,-999.000,9,  -999.0,9,  -999.0,9,  -9.0000,9,-999.0000,9, -999.00,9,    0.23,2,  -204.2,2,     2.9,-999.000,9,-999.000,-999.000,9,  -9.0000,-999.0000,   1.1189,   -9.00
  316N145_7,       I08N,     321,          1,          7,          7,2,19950318,       2320,    -7.5002,    80.0002,       5361,  4056.4,   1.3886,  34.7188,2,  34.7187,2,    176.7,2,   177.1,2,  135.13,2,   33.81,2,    0.00,2,    2.33,2,-999.000,9,-999.000,9,  -999.0,9,  -999.0,9,  -9.0000,9,-999.0000,9, -999.00,9,    0.25,2,  -199.1,2,     2.5,-999.000,9,-999.000,-999.000,9,  -9.0000,-999.0000,   1.0665,   -9.00
  316N145_7,       I08N,     321,          1,          6,          6,2,19950318,       2320,    -7.5002,    80.0002,       5361,  4311.8,   1.3803,  34.7181,2,  34.7185,2,    178.9,2,   179.7,2,  134.88,2,   33.71,2,    0.00,2,    2.33,2,-999.000,9,-999.000,9,  -999.0,9,  -999.0,9,  -9.0000,9,-999.0000,9, -999.00,9,    0.26,2,  -193.9,2,     3.0,-999.000,9,-999.000,-999.000,9,  -9.0000,-999.0000,   1.0301,   -9.00
  316N145_7,       I08N,     321,          1,          5,          5,2,19950318,       2320,    -7.5002,    80.0002,       5361,  4567.9,   1.3818,  34.7174,2,  34.7174,2,    181.8,2,   181.7,2,  133.77,2,   33.52,2,    0.00,2,    2.32,2,-999.000,9,-999.000,9,  -999.0,9,  -999.0,9,  -9.0000,9,-999.0000,9, -999.00,9,    0.27,2,  -199.1,2,     3.9,-999.000,9,-999.000,-999.000,9,  -9.0000,-999.0000,   1.0024,   -9.00
  316N145_7,       I08N,     321,          1,          4,          4,2,19950318,       2320,    -7.5002,    80.0002,       5361,  4823.7,   1.3870,  34.7175,2,  34.7172,2,    184.1,2,   183.6,2,  132.87,2,   33.42,2,    0.00,2,    2.31,2,-999.000,9,-999.000,9,  -999.0,9,  -999.0,9,  -9.0000,9,-999.0000,9, -999.00,9,    0.32,2,  -197.6,2,     5.3,-999.000,9,-999.000,-999.000,9,  -9.0000,-999.0000,   0.9775,   -9.00
  316N145_7,       I08N,     321,          1,          3,          3,2,19950318,       2320,    -7.5002,    80.0002,       5361,  5080.0,   1.4071,  34.7166,2,  34.7172,2,    185.1,2,   184.8,2,  132.62,2,   33.37,2,    0.00,2,    2.31,2,-999.000,9,-999.000,9,  -999.0,9,  -999.0,9,  -9.0000,9,-999.0000,9, -999.00,9,    0.31,2,  -203.6,2,     3.1,-999.000,9,-999.000,-999.000,9,  -9.0000,-999.0000,   0.9661,   -9.00
  316N145_7,       I08N,     321,          1,          2,          2,2,19950318,       2320,    -7.5002,    80.0002,       5361,  5336.7,   1.4322,  34.7171,2,  34.7170,2,    185.3,2,   185.4,2,  131.94,2,   33.36,2,    0.00,2,    2.30,2,-999.000,9,-999.000,9,  -999.0,9,  -999.0,9,  -9.0000,9,-999.0000,9, -999.00,9,    0.29,2,  -191.4,2,     2.5,-999.000,9,-999.000,-999.000,9,  -9.0000,-999.0000,   0.9585,   -9.00
  316N145_7,       I08N,     321,          1,          1,          1,2,19950318,       2320,    -7.5002,    80.0002,       5361,  5485.1,   1.4481,  34.7170,2,  34.7168,2,    185.5,2,   185.7,2,  131.91,2,   33.36,2,    0.00,2,    2.30,2,-999.000,9,-999.000,9,  -999.0,9,  -999.0,9,  -9.0000,9,-999.0000,9, -999.00,9,    0.31,2,  -194.7,2,     4.3,-999.000,9,-999.000,-999.000,9,  -9.0000,-999.0000,   0.9551,   -9.00