BOTTLE,20211124CCHSIORKP
EXPOCODE,SECT_ID,STNNBR,CASTNO,SAMPNO,BTLNBR,BTLNBR_FLAG_W,DATE,TIME,LATITUDE,LONGITUDE,DEPTH,CTDPRS,CTDTMP,CTDSAL,CTDSAL_FLAG_W,SALNTY,SALNTY_FLAG_W,CTDOXY,CTDOXY_FLAG_W,OXYGEN,OXYGEN_FLAG_W,SILCAT,SILCAT_FLAG_W,NITRAT,NITRAT_FLAG_W,NITRIT,NITRIT_FLAG_W,PHSPHT,PHSPHT_FLAG_W,CFC-11,CFC-11_FLAG_W,CFC-12,CFC-12_FLAG_W,TCARBN,TCARBN_FLAG_W,ALKALI,ALKALI_FLAG_W,TRITUM,TRITUM_FLAG_W,HELIUM,HELIUM_FLAG_W,DELHE3,DELHE3_FLAG_W,DELC13,DELC13_FLAG_W,DELC14,DELC14_FLAG_W,C14ERR,NEON,NEON_FLAG_W,NEONER,CCL4,CCL4_FLAG_W,TRITER,HELIER,THETA,DELHER
,,,,,,,,,,,METERS,DBAR,ITS-90,PSS-78,,PSS-78,,UMOL/KG,,UMOL/KG,,UMOL/KG,,UMOL/KG,,UMOL/KG,,UMOL/KG,,PMOL/KG,,PMOL/KG,,UMOL/KG,,UMOL/KG,,TU,,NMOL/KG,,PERCNT,,/MILLE,,/MILLE,,/MILLE,NMOL/KG,,NMOL/KG,PMOL/KG,,TU,NMOL/KG,DEG C,PERCNT
  316N145_7,       I05E,     403,          1,         36,         36,2,19950405,       1745,   -33.1163,    92.8987,       4272,     4.5,  21.0783,  35.9296,2,  35.9279,2,    222.8,2,   223.1,2,    2.29,2,    0.11,2,    0.00,2,    0.15,2,   2.209,2,   1.228,2,  -999.0,9,  -999.0,9,  -9.0000,9,-999.0000,9, -999.00,9, -999.00,9,  -999.0,9,  -999.0,-999.000,9,-999.000,   2.631,2,  -9.0000,-999.0000,  21.0774,   -9.00
  316N145_7,       I05E,     403,          1,         35,         35,2,19950405,       1745,   -33.1163,    92.8987,       4272,    25.1,  21.0802,  35.9283,2,  35.9269,2,    220.1,2,   223.4,2,    2.28,2,    0.11,2,    0.00,2,    0.15,2,-999.000,9,-999.000,9,  -999.0,9,  -999.0,9,  -9.0000,9,-999.0000,9, -999.00,9, -999.00,9,  -999.0,9,  -999.0,-999.000,9,-999.000,-999.000,9,  -9.0000,-999.0000,  21.0753,   -9.00
  316N145_7,       I05E,     403,          1,         34,         34,2,19950405,       1745,   -33.1163,    92.8987,       4272,    57.3,  19.0181,  35.6996,2,  35.6812,2,    245.1,2,   251.9,2,    2.05,2,    0.11,2,    0.00,2,    0.17,2,-999.000,9,-999.000,9,  -999.0,9,  -999.0,9,  -9.0000,9,-999.0000,9, -999.00,9, -999.00,9,  -999.0,9,  -999.0,-999.000,9,-999.000,-999.000,9,  -9.0000,-999.0000,  19.0078,   -9.00
  316N145_7,       I05E,     403,          1,         33,         33,2,19950405,       1745,   -33.1163,    92.8987,       4272,    88.6,  15.5233,  35.4993,2,  35.5111,2,    261.7,2,   257.8,2,    2.26,2,    0.20,2,    0.01,2,    0.23,2,   2.957,2,   1.576,2,  -999.0,9,  -999.0,9,  -9.0000,9,-999.0000,9, -999.00,9, -999.00,9,  -999.0,9,  -999.0,-999.000,9,-999.000,   2.115,2,  -9.0000,-999.0000,  15.5095,   -9.00
  316N145_7,       I05E,     403,          1,         32,         32,2,19950405,       1745,   -33.1163,    92.8987,       4272,   127.0,  14.0887,  35.4019,2,  35.4048,2,    241.6,2,   239.0,2,    2.47,2,    3.52,2,    0.37,2,    0.44,2,-999.000,9,-999.000,9,  -999.0,9,  -999.0,9,  -9.0000,9,-999.0000,9, -999.00,9, -999.00,9,  -999.0,9,  -999.0,-999.000,9,-999.000,-999.000,9,  -9.0000,-999.0000,  14.0703,   -9.00
  316N145_7,       I05E,     403,          1,         31,         31,2,19950405,       1745,   -33.1163,    92.8987,       4272,   166.4,  13.4656,  35.3441,2,  35.3483,2,    239.9,2,   236.6,2,    2.67,2,    5.35,2,    0.02,2,    0.52,2,   3.113,2,   1.645,2,  -999.0,9,  -999.0,9,  -9.0000,9,-999.0000,9, -999.00,9, -999.00,9,  -999.0,9,  -999.0,-999.000,9,-999.000,   1.540,2,  -9.0000,-999.0000,  13.4421,   -9.00
  316N145_7,       I05E,     403,          1,         30,         30,2,19950405,       1745,   -33.1163,    92.8987,       4272,   213.4,  12.6403,  35.2066,2,  35.2062,2,    233.7,2,   239.9,2,    3.09,2,    7.08,2,    0.01,2,    0.62,2,-999.000,9,-999.000,9,  -999.0,9,  -999.0,9,  -9.0000,9,-999.0000,9, -999.00,9, -999.00,9,  -999.0,9,  -999.0,-999.000,9,-999.000,-999.000,9,  -9.0000,-999.0000,  12.6114,   -9.00
  316N145_7,       I05E,     403,          1,         29,         29,2,19950405,       1745,   -33.1163,    92.8987,       4272,   274.1,  11.9412,  35.1019,2,  35.1018,2,    237.5,2,   240.2,2,    3.51,2,    8.90,2,    0.01,2,    0.72,2,   3.212,2,   1.681,2,  -999.0,9,  -999.0,9,  -9.0000,9,-999.0000,9, -999.00,9, -999.00,9,  -999.0,9,  -999.0,-999.000,9,-999.000,   1.522,2,  -9.0000,-999.0000,  11.9055,   -9.00
  316N145_7,       I05E,     403,          1,         28,         28,2,19950405,       1745,   -33.1163,    92.8987,       4272,   337.5,  11.3660,  35.0106,2,  35.0109,2,    240.6,2,   241.5,2,    3.93,2,   10.23,2,    0.01,2,    0.81,2,-999.000,9,-999.000,9,  -999.0,9,  -999.0,9,  -9.0000,9,-999.0000,9, -999.00,9, -999.00,9,  -999.0,9,  -999.0,-999.000,9,-999.000,-999.000,9,  -9.0000,-999.0000,  11.3232,   -9.00
  316N145_7,       I05E,     403,          1,         27,         27,2,19950405,       1745,   -33.1163,    92.8987,       4272,   395.4,  10.9175,  34.9408,2,  34.9414,2,    241.8,2,   242.0,2,    4.13,2,   11.32,2,    0.00,2,    0.87,2,   3.210,2,   1.660,2,  -999.0,9,  -999.0,9,  -9.0000,9,-999.0000,9, -999.00,9, -999.00,9,  -999.0,9,  -999.0,-999.000,9,-999.000,   1.698,2,  -9.0000,-999.0000,  10.8685,   -9.00
  316N145_7,       I05E,     403,          1,         26,         26,2,19950405,       1745,   -33.1163,    92.8987,       4272,   473.2,  10.2776,  34.8368,2,  34.8405,2,    243.9,2,   242.5,2,    4.55,2,   12.94,2,    0.00,2,    0.97,2,-999.000,9,-999.000,9,  -999.0,9,  -999.0,9,  -9.0000,9,-999.0000,9, -999.00,9, -999.00,9,  -999.0,9,  -999.0,-999.000,9,-999.000,-999.000,9,  -9.0000,-999.0000,  10.2210,   -9.00
  316N145_7,       I05E,     403,          1,         25,         25,2,19950405,       1745,   -33.1163,    92.8987,       4272,   578.7,   9.5431,  34.7204,2,  34.7214,2,    240.1,2,   238.3,2,    5.40,2,   15.65,2,    0.00,2,    1.12,2,   2.936,6,   1.520,6,  -999.0,9,  -999.0,9,  -9.0000,9,-999.0000,9, -999.00,9, -999.00,9,  -999.0,9,  -999.0,-999.000,9,-999.000,   1.806,6,  -9.0000,-999.0000,   9.4768,   -9.00
  316N145_7,       I05E,     403,          1,         24,         24,2,19950405,       1745,   -33.1163,    92.8987,       4272,   680.5,   8.8829,  34.6320,2,  34.6329,2,    229.6,2,   227.5,2,    7.32,2,   18.56,2,    0.00,2,    1.30,2,-999.000,9,-999.000,9,  -999.0,9,  -999.0,9,  -9.0000,9,-999.0000,9, -999.00,9, -999.00,9,  -999.0,9,  -999.0,-999.000,9,-999.000,-999.000,9,  -9.0000,-999.0000,   8.8079,   -9.00
  316N145_7,       I05E,     403,          1,         23,         23,2,19950405,       1745,   -33.1163,    92.8987,       4272,   778.9,   7.6922,  34.5262,2,  34.5750,4,    210.3,2,   209.1,2,   13.08,2,   22.16,2,    0.00,2,    1.53,2,   1.512,2,   0.810,2,  -999.0,9,  -999.0,9,  -9.0000,9,-999.0000,9, -999.00,9, -999.00,9,  -999.0,9,  -999.0,-999.000,9,-999.000,   1.405,2,  -9.0000,-999.0000,   7.6128,   -9.00
  316N145_7,       I05E,     403,          1,         22,         22,2,19950405,       1745,   -33.1163,    92.8987,       4272,   880.0,   6.1163,  34.4328,2,  34.4348,2,    195.5,2,   196.4,2,   23.98,2,   27.61,2,    0.00,2,    1.89,2,-999.000,9,-999.000,9,  -999.0,9,  -999.0,9,  -9.0000,9,-999.0000,9, -999.00,9, -999.00,9,  -999.0,9,  -999.0,-999.000,9,-999.000,-999.000,9,  -9.0000,-999.0000,   6.0364,   -9.00
  316N145_7,       I05E,     403,          1,         21,         21,2,19950405,       1745,   -33.1163,    92.8987,       4272,   981.6,   4.8017,  34.3826,2,  34.3844,2,    190.6,2,   193.8,2,   34.88,2,   30.54,2,    0.00,2,    2.11,2,   0.589,2,   0.292,2,  -999.0,9,  -999.0,9,  -9.0000,9,-999.0000,9, -999.00,9, -999.00,9,  -999.0,9,  -999.0,-999.000,9,-999.000,   1.164,2,  -9.0000,-999.0000,   4.7218,   -9.00
  316N145_7,       I05E,     403,          1,         20,         20,2,19950405,       1745,   -33.1163,    92.8987,       4272,  1079.2,   4.1229,  34.4100,2,  34.4103,2,    179.4,2,   181.2,2,   48.35,2,   32.44,2,    0.00,2,    2.26,2,   0.379,3,   0.157,2,  -999.0,9,  -999.0,9,  -9.0000,9,-999.0000,9, -999.00,9, -999.00,9,  -999.0,9,  -999.0,-999.000,9,-999.000,   0.831,2,  -9.0000,-999.0000,   4.0398,   -9.00
  316N145_7,       I05E,     403,          1,         19,         19,2,19950405,       1745,   -33.1163,    92.8987,       4272,  1211.3,   3.7528,  34.4597,2,  34.4599,2,    165.6,2,   166.0,2,   60.75,2,   33.83,2,    0.00,2,    2.37,2,   0.284,3,   0.085,2,  -999.0,9,  -999.0,9,  -9.0000,9,-999.0000,9, -999.00,9, -999.00,9,  -999.0,9,  -999.0,-999.000,9,-999.000,   0.506,2,  -9.0000,-999.0000,   3.6617,   -9.00
  316N145_7,       I05E,     403,          1,         18,         18,2,19950405,       1745,   -33.1163,    92.8987,       4272,  1311.8,   3.4983,  34.4997,2,  34.5002,2,    158.9,2,   159.3,2,   68.44,2,   34.48,2,    0.00,2,    2.42,2,-999.000,9,-999.000,9,  -999.0,9,  -999.0,9,  -9.0000,9,-999.0000,9, -999.00,9, -999.00,9,  -999.0,9,  -999.0,-999.000,9,-999.000,-999.000,9,  -9.0000,-999.0000,   3.4010,   -9.00
  316N145_7,       I05E,     403,          1,         17,         17,2,19950405,       1745,   -33.1163,    92.8987,       4272,  1413.4,   3.2731,  34.5415,2,  34.5416,2,    154.1,2,   154.7,2,   75.07,2,   34.73,2,    0.00,2,    2.46,2,   0.096,3,   0.023,2,  -999.0,9,  -999.0,9,  -9.0000,9,-999.0000,9, -999.00,9, -999.00,9,  -999.0,9,  -999.0,-999.000,9,-999.000,   0.152,2,  -9.0000,-999.0000,   3.1695,   -9.00
  316N145_7,       I05E,     403,          1,         16,         16,2,19950405,       1745,   -33.1163,    92.8987,       4272,  1564.7,   3.0175,  34.5896,2,  34.5898,2,    152.8,2,   154.6,2,   81.05,2,   34.58,2,    0.00,2,    2.45,2,   0.143,3,   0.018,2,  -999.0,9,  -999.0,9,  -9.0000,9,-999.0000,9, -999.00,9, -999.00,9,  -999.0,9,  -999.0,-999.000,9,-999.000,   0.071,2,  -9.0000,-999.0000,   2.9040,   -9.00
  316N145_7,       I05E,     403,          1,         15,         15,2,19950405,       1745,   -33.1163,    92.8987,       4272,  1717.6,   2.8013,  34.6328,2,  34.6320,2,    159.7,2,   159.1,2,   85.11,2,   34.04,2,    0.00,2,    2.41,2,-999.000,9,-999.000,9,  -999.0,9,  -999.0,9,  -9.0000,9,-999.0000,9, -999.00,9, -999.00,9,  -999.0,9,  -999.0,-999.000,9,-999.000,-999.000,9,  -9.0000,-999.0000,   2.6774,   -9.00
  316N145_7,       I05E,     403,          1,         14,         14,2,19950405,       1745,   -33.1163,    92.8987,       4272,  1871.6,   2.6089,  34.6650,2,  34.6650,2,    164.9,2,   165.3,2,   86.60,2,   33.39,2,    0.00,2,    2.36,2,   0.021,3,   0.007,2,  -999.0,9,  -999.0,9,  -9.0000,9,-999.0000,9, -999.00,9, -999.00,9,  -999.0,9,  -999.0,-999.000,9,-999.000,   0.042,2,  -9.0000,-999.0000,   2.4743,   -9.00
  316N145_7,       I05E,     403,          1,         13,         13,2,19950405,       1745,   -33.1163,    92.8987,       4272,  2017.0,   2.4482,  34.6950,2,  34.6949,2,    171.2,2,   170.2,2,   89.80,2,   32.79,2,    0.00,2,    2.31,2,-999.000,9,-999.000,9,  -999.0,9,  -999.0,9,  -9.0000,9,-999.0000,9, -999.00,9, -999.00,9,  -999.0,9,  -999.0,-999.000,9,-999.000,-999.000,9,  -9.0000,-999.0000,   2.3033,   -9.00
  316N145_7,       I05E,     403,          1,         12,         12,2,19950405,       1745,   -33.1163,    92.8987,       4272,  2226.0,   2.2652,  34.7190,2,  34.7199,2,    179.6,2,   179.2,2,   90.21,2,   31.94,2,    0.00,2,    2.23,2,  -0.013,3,   0.007,2,  -999.0,9,  -999.0,9,  -9.0000,9,-999.0000,9, -999.00,9, -999.00,9,  -999.0,9,  -999.0,-999.000,9,-999.000,   0.036,2,  -9.0000,-999.0000,   2.1047,   -9.00
  316N145_7,       I05E,     403,          1,         11,         11,2,19950405,       1745,   -33.1163,    92.8987,       4272,  2424.8,   2.0749,  34.7363,2,  34.7366,2,    187.8,2,   187.8,2,   91.26,2,   31.10,2,    0.00,2,    2.17,2,-999.000,9,-999.000,9,  -999.0,9,  -999.0,9,  -9.0000,9,-999.0000,9, -999.00,9, -999.00,9,  -999.0,9,  -999.0,-999.000,9,-999.000,-999.000,9,  -9.0000,-999.0000,   1.8997,   -9.00
  316N145_7,       I05E,     403,          1,         10,         10,2,19950405,       1745,   -33.1163,    92.8987,       4272,  2626.8,   1.8894,  34.7423,2,  34.7419,2,    194.0,2,   193.1,2,   94.69,2,   30.95,2,    0.00,2,    2.15,2,-999.000,9,-999.000,9,  -999.0,9,  -999.0,9,  -9.0000,9,-999.0000,9, -999.00,9, -999.00,9,  -999.0,9,  -999.0,-999.000,9,-999.000,-999.000,9,  -9.0000,-999.0000,   1.6992,   -9.00
  316N145_7,       I05E,     403,          1,          9,          9,2,19950405,       1745,   -33.1163,    92.8987,       4272,  2829.4,   1.6991,  34.7402,2,  34.7407,2,    195.7,2,   194.9,2,   99.85,2,   31.00,2,    0.00,2,    2.15,2,-999.000,9,-999.000,9,  -999.0,9,  -999.0,9,  -9.0000,9,-999.0000,9, -999.00,9, -999.00,9,  -999.0,9,  -999.0,-999.000,9,-999.000,-999.000,9,  -9.0000,-999.0000,   1.4939,   -9.00
  316N145_7,       I05E,     403,          1,          8,          8,2,19950405,       1745,   -33.1163,    92.8987,       4272,  3036.3,   1.5224,  34.7358,2,  34.7362,2,    198.1,2,   198.6,2,  104.58,2,   31.15,2,    0.00,2,    2.17,2,-999.000,9,-999.000,9,  -999.0,9,  -999.0,9,  -9.0000,9,-999.0000,9, -999.00,9, -999.00,9,  -999.0,9,  -999.0,-999.000,9,-999.000,-999.000,9,  -9.0000,-999.0000,   1.3013,   -9.00
  316N145_7,       I05E,     403,          1,          7,          7,2,19950405,       1745,   -33.1163,    92.8987,       4272,  3239.0,   1.3810,  34.7304,2,  34.7325,2,    200.6,2,   200.8,2,  108.67,2,   31.40,2,    0.00,2,    2.18,2,-999.000,9,-999.000,9,  -999.0,9,  -999.0,9,  -9.0000,9,-999.0000,9, -999.00,9, -999.00,9,  -999.0,9,  -999.0,-999.000,9,-999.000,-999.000,9,  -9.0000,-999.0000,   1.1435,   -9.00
  316N145_7,       I05E,     403,          1,          6,          6,2,19950405,       1745,   -33.1163,    92.8987,       4272,  3445.0,   1.2680,  34.7259,2,  34.7262,2,    201.1,2,   201.5,2,  111.91,2,   31.60,2,    0.00,2,    2.19,2,  -0.032,3,   0.003,2,  -999.0,9,  -999.0,9,  -9.0000,9,-999.0000,9, -999.00,9, -999.00,9,  -999.0,9,  -999.0,-999.000,9,-999.000,   0.062,2,  -9.0000,-999.0000,   1.0130,   -9.00
  316N145_7,       I05E,     403,          1,          5,          5,2,19950405,       1745,   -33.1163,    92.8987,       4272,  3647.0,   1.1885,  34.7216,2,  34.7219,2,    202.4,2,   202.3,2,  114.71,2,   31.80,2,    0.00,2,    2.21,2,-999.000,9,-999.000,9,  -999.0,9,  -999.0,9,  -9.0000,9,-999.0000,9, -999.00,9, -999.00,9,  -999.0,9,  -999.0,-999.000,9,-999.000,-999.000,9,  -9.0000,-999.0000,   0.9151,   -9.00
  316N145_7,       I05E,     403,          1,          4,          4,2,19950405,       1745,   -33.1163,    92.8987,       4272,  3850.8,   1.1431,  34.7187,2,  34.7193,2,    203.6,2,   204.1,2,  116.43,2,   31.85,2,    0.00,2,    2.21,2,-999.000,9,-999.000,9,  -999.0,9,  -999.0,9,  -9.0000,9,-999.0000,9, -999.00,9, -999.00,9,  -999.0,9,  -999.0,-999.000,9,-999.000,-999.000,9,  -9.0000,-999.0000,   0.8498,   -9.00
  316N145_7,       I05E,     403,          1,          3,          3,2,19950405,       1745,   -33.1163,    92.8987,       4272,  4056.4,   1.1101,  34.7165,2,  34.7168,2,    204.7,2,   205.1,2,  117.49,2,   31.96,2,    0.00,2,    2.22,2,  -0.025,3,   0.003,2,  -999.0,9,  -999.0,9,  -9.0000,9,-999.0000,9, -999.00,9, -999.00,9,  -999.0,9,  -999.0,-999.000,9,-999.000,   0.031,2,  -9.0000,-999.0000,   0.7960,   -9.00
  316N145_7,       I05E,     403,          1,          2,          2,2,19950405,       1745,   -33.1163,    92.8987,       4272,  4208.4,   1.0832,  34.7148,2,  34.7148,2,    205.6,2,   205.3,2,  118.56,2,   32.11,2,    0.00,2,    2.22,2,  -0.024,3,   0.005,2,  -999.0,9,  -999.0,9,  -9.0000,9,-999.0000,9, -999.00,9, -999.00,9,  -999.0,9,  -999.0,-999.000,9,-999.000,   0.036,2,  -9.0000,-999.0000,   0.7534,   -9.00
  316N145_7,       I05E,     403,          1,          1,          1,2,19950405,       1745,   -33.1163,    92.8987,       4272,  4338.7,   1.0793,  34.7136,2,  34.7140,2,    205.4,2,   205.3,2,  119.19,2,   32.06,2,    0.00,2,    2.22,2,-999.000,9,-999.000,9,  -999.0,9,  -999.0,9,  -9.0000,9,-999.0000,9, -999.00,9, -999.00,9,  -999.0,9,  -999.0,-999.000,9,-999.000,-999.000,9,  -9.0000,-999.0000,   0.7353,   -9.00