BOTTLE,20211124CCHSIORKP
EXPOCODE,SECT_ID,STNNBR,CASTNO,SAMPNO,BTLNBR,BTLNBR_FLAG_W,DATE,TIME,LATITUDE,LONGITUDE,DEPTH,CTDPRS,CTDTMP,CTDSAL,CTDSAL_FLAG_W,SALNTY,SALNTY_FLAG_W,CTDOXY,CTDOXY_FLAG_W,OXYGEN,OXYGEN_FLAG_W,SILCAT,SILCAT_FLAG_W,NITRAT,NITRAT_FLAG_W,NITRIT,NITRIT_FLAG_W,PHSPHT,PHSPHT_FLAG_W,CFC-11,CFC-11_FLAG_W,CFC-12,CFC-12_FLAG_W,TCARBN,TCARBN_FLAG_W,ALKALI,ALKALI_FLAG_W,TRITUM,TRITUM_FLAG_W,HELIUM,HELIUM_FLAG_W,DELHE3,DELHE3_FLAG_W,DELC13,DELC13_FLAG_W,DELC14,DELC14_FLAG_W,C14ERR,NEON,NEON_FLAG_W,NEONER,CCL4,CCL4_FLAG_W,TRITER,HELIER,THETA,DELHER
,,,,,,,,,,,METERS,DBAR,ITS-90,PSS-78,,PSS-78,,UMOL/KG,,UMOL/KG,,UMOL/KG,,UMOL/KG,,UMOL/KG,,UMOL/KG,,PMOL/KG,,PMOL/KG,,UMOL/KG,,UMOL/KG,,TU,,NMOL/KG,,PERCNT,,/MILLE,,/MILLE,,/MILLE,NMOL/KG,,NMOL/KG,PMOL/KG,,TU,NMOL/KG,DEG C,PERCNT
  316N145_7,       I05E,     414,          1,         36,         36,2,19950408,       1620,   -32.7677,   100.2132,       3875,     2.1,  19.8103,  36.0519,2,  36.0499,2,    228.1,2,   228.5,2,    2.46,2,    0.14,2,    0.00,2,    0.13,2,   2.271,2,   1.272,2,  2063.8,2,  2386.5,2,  -9.0000,9,-999.0000,9, -999.00,9, -999.00,9,  -999.0,9,  -999.0,-999.000,9,-999.000,-999.000,9,  -9.0000,-999.0000,  19.8100,   -9.00
  316N145_7,       I05E,     414,          1,         35,         35,2,19950408,       1620,   -32.7677,   100.2132,       3875,    31.1,  19.8232,  36.0552,2,  36.0537,2,    228.4,2,   228.5,2,    2.45,2,    0.14,2,    0.00,2,    0.13,2,-999.000,9,-999.000,9,  2065.4,2,  2366.5,2,  -9.0000,9,-999.0000,9, -999.00,9, -999.00,9,  -999.0,9,  -999.0,-999.000,9,-999.000,-999.000,9,  -9.0000,-999.0000,  19.8175,   -9.00
  316N145_7,       I05E,     414,          1,         34,         34,2,19950408,       1620,   -32.7677,   100.2132,       3875,    56.1,  19.5346,  36.0119,2,  35.9129,2,    229.8,2,   238.1,2,    2.44,2,    0.14,2,    0.00,2,    0.14,2,   2.410,2,   1.329,2,  2059.5,2,  2355.3,2,  -9.0000,9,-999.0000,9, -999.00,9, -999.00,9,  -999.0,9,  -999.0,-999.000,9,-999.000,-999.000,9,  -9.0000,-999.0000,  19.5243,   -9.00
  316N145_7,       I05E,     414,          1,         33,         33,2,19950408,       1620,   -32.7677,   100.2132,       3875,    90.7,  15.2170,  35.5843,2,  35.5592,2,    240.9,2,   244.7,2,    2.43,2,    1.19,2,    0.17,2,    0.30,2,-999.000,9,-999.000,9,  2074.9,2,  2340.5,2,  -9.0000,9,-999.0000,9, -999.00,9, -999.00,9,  -999.0,9,  -999.0,-999.000,9,-999.000,-999.000,9,  -9.0000,-999.0000,  15.2031,   -9.00
  316N145_7,       I05E,     414,          1,         32,         32,2,19950408,       1620,   -32.7677,   100.2132,       3875,   122.0,  14.2331,  35.4561,2,  35.4285,2,    237.4,2,   241.8,2,    2.42,2,    3.23,2,    0.26,2,    0.41,2,   2.909,2,   1.596,2,  2084.6,2,  2330.8,2,  -9.0000,9,-999.0000,9, -999.00,9, -999.00,9,  -999.0,9,  -999.0,-999.000,9,-999.000,-999.000,9,  -9.0000,-999.0000,  14.2153,   -9.00
  316N145_7,       I05E,     414,          1,         31,         31,2,19950408,       1620,   -32.7677,   100.2132,       3875,   155.7,  13.3625,  35.3247,2,  35.3134,2,    240.2,2,   240.7,2,    2.62,2,    5.39,2,    0.02,2,    0.53,2,   3.006,2,   1.624,2,  2089.9,2,  2341.6,3,  -9.0000,9,-999.0000,9, -999.00,9, -999.00,9,  -999.0,9,  -999.0,-999.000,9,-999.000,-999.000,9,  -9.0000,-999.0000,  13.3406,   -9.00
  316N145_7,       I05E,     414,          1,         30,         30,2,19950408,       1620,   -32.7677,   100.2132,       3875,   205.0,  12.3693,  35.1650,2,  35.1654,2,    239.9,2,   243.5,2,    3.03,2,    7.32,2,    0.01,2,    0.64,2,   3.114,2,   1.656,2,  2095.0,2,  2295.1,3,  -9.0000,9,-999.0000,9, -999.00,9, -999.00,9,  -999.0,9,  -999.0,-999.000,9,-999.000,-999.000,9,  -9.0000,-999.0000,  12.3420,   -9.00
  316N145_7,       I05E,     414,          1,         29,         29,2,19950408,       1620,   -32.7677,   100.2132,       3875,   254.3,  11.6388,  35.0623,2,  35.0628,2,    243.3,2,   243.1,2,    3.24,2,    8.90,2,    0.01,2,    0.74,2,   3.267,2,   1.680,2,  2100.6,2,  2322.5,3,  -9.0000,9,-999.0000,9, -999.00,9, -999.00,9,  -999.0,9,  -999.0,-999.000,9,-999.000,-999.000,9,  -9.0000,-999.0000,  11.6062,   -9.00
  316N145_7,       I05E,     414,          1,         28,         28,2,19950408,       1620,   -32.7677,   100.2132,       3875,   304.9,  11.1061,  34.9692,2,  34.9693,2,    243.4,2,   246.7,2,    3.86,2,   10.43,2,    0.01,2,    0.83,2,   3.283,2,   1.729,2,  2103.1,2,  2307.7,2,  -9.0000,9,-999.0000,9, -999.00,9, -999.00,9,  -999.0,9,  -999.0,-999.000,9,-999.000,-999.000,9,  -9.0000,-999.0000,  11.0681,   -9.00
  316N145_7,       I05E,     414,          1,         27,         27,2,19950408,       1620,   -32.7677,   100.2132,       3875,   354.6,  10.7118,  34.9061,2,  34.9042,2,    249.4,2,   250.5,2,    4.27,2,   11.37,2,    0.00,2,    0.88,2,   3.340,2,   1.756,2,  2103.4,2,  2315.5,2,  -9.0000,9,-999.0000,9, -999.00,9, -999.00,9,  -999.0,9,  -999.0,-999.000,9,-999.000,-999.000,9,  -9.0000,-999.0000,  10.6685,   -9.00
  316N145_7,       I05E,     414,          1,         26,         26,2,19950408,       1620,   -32.7677,   100.2132,       3875,   453.5,   9.9672,  34.7849,2,  34.7847,2,    248.4,2,   246.1,2,    4.68,2,   13.59,2,    0.00,2,    1.02,2,   3.280,2,   1.689,2,  2108.9,2,  2299.9,2,  -9.0000,9,-999.0000,9, -999.00,9, -999.00,9,  -999.0,9,  -999.0,-999.000,9,-999.000,-999.000,9,  -9.0000,-999.0000,   9.9141,   -9.00
  316N145_7,       I05E,     414,          1,         25,         25,2,19950408,       1620,   -32.7677,   100.2132,       3875,   552.4,   9.3889,  34.6944,2,  34.6931,2,    241.6,2,   238.7,2,    5.72,2,   16.11,2,    0.00,2,    1.17,2,   2.972,2,   1.522,2,  2117.6,2,  2303.0,2,  -9.0000,9,-999.0000,9, -999.00,9, -999.00,9,  -999.0,9,  -999.0,-999.000,9,-999.000,-999.000,9,  -9.0000,-999.0000,   9.3263,   -9.00
  316N145_7,       I05E,     414,          1,         24,         24,2,19950408,       1620,   -32.7677,   100.2132,       3875,   651.0,   8.7046,  34.6098,2,  34.6092,2,    228.8,2,   225.8,2,    8.02,2,   19.18,2,    0.00,2,    1.36,2,   2.348,2,   1.191,2,  2129.3,2,  2294.3,2,  -9.0000,9,-999.0000,9, -999.00,9, -999.00,9,  -999.0,9,  -999.0,-999.000,9,-999.000,-999.000,9,  -9.0000,-999.0000,   8.6338,   -9.00
  316N145_7,       I05E,     414,          1,         23,         23,2,19950408,       1620,   -32.7677,   100.2132,       3875,   750.2,   7.3462,  34.4975,2,  34.4974,2,    207.4,2,   203.4,2,   15.57,2,   24.33,2,    0.00,2,    1.69,2,   1.350,2,   0.660,2,  2154.7,2,  2295.0,2,  -9.0000,9,-999.0000,9, -999.00,9, -999.00,9,  -999.0,9,  -999.0,-999.000,9,-999.000,-999.000,9,  -9.0000,-999.0000,   7.2718,   -9.00
  316N145_7,       I05E,     414,          1,         22,         22,2,19950408,       1620,   -32.7677,   100.2132,       3875,   850.3,   5.8034,  34.4108,2,  34.4126,2,    199.4,2,   197.5,2,   25.00,2,   28.16,2,    0.00,2,    1.96,2,   0.864,2,   0.426,2,  2176.9,2,  2297.7,2,  -9.0000,9,-999.0000,9, -999.00,9, -999.00,9,  -999.0,9,  -999.0,-999.000,9,-999.000,-999.000,9,  -9.0000,-999.0000,   5.7284,   -9.00
  316N145_7,       I05E,     414,          1,         21,         21,2,19950408,       1620,   -32.7677,   100.2132,       3875,   951.1,   4.6509,  34.3851,2,  34.3850,2,    190.1,2,   191.7,2,   37.16,2,   30.91,2,    0.00,2,    2.16,2,   0.538,2,   0.259,2,  2197.3,2,  2314.5,2,  -9.0000,9,-999.0000,9, -999.00,9, -999.00,9,  -999.0,9,  -999.0,-999.000,9,-999.000,-999.000,9,  -9.0000,-999.0000,   4.5747,   -9.00
  316N145_7,       I05E,     414,          1,         20,         20,2,19950408,       1620,   -32.7677,   100.2132,       3875,  1053.4,   4.1089,  34.4042,2,  34.4036,2,    183.0,2,   182.7,2,   47.01,2,   32.46,2,    0.00,2,    2.28,2,   0.321,2,   0.158,2,  2213.3,2,  2318.2,2,  -9.0000,9,-999.0000,9, -999.00,9, -999.00,9,  -999.0,9,  -999.0,-999.000,9,-999.000,-999.000,9,  -9.0000,-999.0000,   4.0281,   -9.00
  316N145_7,       I05E,     414,          1,         19,         19,2,19950408,       1620,   -32.7677,   100.2132,       3875,  1154.4,   3.7656,  34.4553,2,  34.4548,2,    168.5,2,   168.0,2,   59.59,2,   33.81,2,    0.00,2,    2.39,2,   0.146,6,   0.073,6,  2234.4,2,  2349.8,3,  -9.0000,9,-999.0000,9, -999.00,9, -999.00,9,  -999.0,9,  -999.0,-999.000,9,-999.000,-999.000,9,  -9.0000,-999.0000,   3.6791,   -9.00
  316N145_7,       I05E,     414,          1,         18,         18,2,19950408,       1620,   -32.7677,   100.2132,       3875,  1253.6,   3.5118,  34.4949,2,  34.4922,2,    161.1,2,   160.2,2,   67.13,2,   34.41,2,    0.00,2,    2.44,2,   0.076,2,   0.035,2,  2246.4,2,  2337.8,2,  -9.0000,9,-999.0000,9, -999.00,9, -999.00,9,  -999.0,9,  -999.0,-999.000,9,-999.000,-999.000,9,  -9.0000,-999.0000,   3.4192,   -9.00
  316N145_7,       I05E,     414,          1,         17,         17,2,19950408,       1620,   -32.7677,   100.2132,       3875,  1403.9,   3.2051,  34.5552,2,  34.5550,2,    152.8,2,   153.3,2,   77.20,2,   34.76,2,    0.00,2,    2.48,2,-999.000,9,-999.000,9,  2258.3,2,  2346.5,2,  -9.0000,9,-999.0000,9, -999.00,9, -999.00,9,  -999.0,9,  -999.0,-999.000,9,-999.000,-999.000,9,  -9.0000,-999.0000,   3.1030,   -9.00
  316N145_7,       I05E,     414,          1,         16,         16,2,19950408,       1620,   -32.7677,   100.2132,       3875,  1556.0,   2.9520,  34.6104,2,  34.6114,2,    153.2,2,   153.0,2,   84.76,2,   34.56,2,    0.00,2,    2.46,2,   0.007,2,   0.004,2,  2266.2,2,  2356.9,2,  -9.0000,9,-999.0000,9, -999.00,9, -999.00,9,  -999.0,9,  -999.0,-999.000,9,-999.000,-999.000,9,  -9.0000,-999.0000,   2.8399,   -9.00
  316N145_7,       I05E,     414,          1,         15,         15,2,19950408,       1620,   -32.7677,   100.2132,       3875,  1706.9,   2.7526,  34.6475,2,  34.6475,2,    156.0,2,   156.4,2,   89.17,2,   34.16,2,    0.00,2,    2.45,3,-999.000,9,-999.000,9,  2269.1,2,  2361.5,2,  -9.0000,9,-999.0000,9, -999.00,9, -999.00,9,  -999.0,9,  -999.0,-999.000,9,-999.000,-999.000,9,  -9.0000,-999.0000,   2.6302,   -9.00
  316N145_7,       I05E,     414,          1,         14,         14,2,19950408,       1620,   -32.7677,   100.2132,       3875,  1860.0,   2.5715,  34.6789,2,  34.6796,2,    162.1,3,   161.3,2,   92.31,2,   33.61,2,    0.00,2,    2.38,2,   0.000,2,   0.001,2,  2269.0,2,  2364.8,2,  -9.0000,9,-999.0000,9, -999.00,9, -999.00,9,  -999.0,9,  -999.0,-999.000,9,-999.000,-999.000,9,  -9.0000,-999.0000,   2.4384,   -9.00
  316N145_7,       I05E,     414,          1,         13,         13,2,19950408,       1620,   -32.7677,   100.2132,       3875,  2011.4,   2.3909,  34.7041,2,  34.7037,2,    168.7,3,   168.8,2,   93.55,2,   32.86,2,    0.00,2,    2.32,2,   0.003,2,   0.003,2,  2266.2,2,  2411.1,4,  -9.0000,9,-999.0000,9, -999.00,9, -999.00,9,  -999.0,9,  -999.0,-999.000,9,-999.000,-999.000,9,  -9.0000,-999.0000,   2.2473,   -9.00
  316N145_7,       I05E,     414,          1,         12,         12,2,19950408,       1620,   -32.7677,   100.2132,       3875,  2164.1,   2.2636,  34.7198,2,  34.7201,2,    175.5,3,   177.3,2,   91.62,2,   32.06,2,    0.00,2,    2.25,2,-999.000,9,-999.000,9,  2260.5,2,  2362.1,2,  -9.0000,9,-999.0000,9, -999.00,9, -999.00,9,  -999.0,9,  -999.0,-999.000,9,-999.000,-999.000,9,  -9.0000,-999.0000,   2.1086,   -9.00
  316N145_7,       I05E,     414,          1,         11,         11,2,19950408,       1620,   -32.7677,   100.2132,       3875,  2316.5,   2.0986,  34.7360,2,  34.7364,2,    185.6,3,   186.7,2,   90.53,2,   31.16,2,    0.00,2,    2.18,2,   0.001,6,   0.002,6,  2253.8,2,  2350.2,2,  -9.0000,9,-999.0000,9, -999.00,9, -999.00,9,  -999.0,9,  -999.0,-999.000,9,-999.000,-999.000,9,  -9.0000,-999.0000,   1.9328,   -9.00
  316N145_7,       I05E,     414,          1,         10,         10,2,19950408,       1620,   -32.7677,   100.2132,       3875,  2469.7,   1.9645,  34.7426,2,  34.7427,2,    191.7,3,   190.7,2,   92.83,2,   30.91,2,    0.00,2,    2.16,2,-999.000,9,-999.000,9,  2252.9,2,  2359.5,2,  -9.0000,9,-999.0000,9, -999.00,9, -999.00,9,  -999.0,9,  -999.0,-999.000,9,-999.000,-999.000,9,  -9.0000,-999.0000,   1.7872,   -9.00
  316N145_7,       I05E,     414,          1,          9,          9,2,19950408,       1620,   -32.7677,   100.2132,       3875,  2621.5,   1.8097,  34.7442,2,  34.7435,2,    194.3,2,   194.7,2,   96.19,2,   30.87,2,    0.00,2,    2.15,2,-999.000,9,-999.000,9,  2252.7,2,  2362.2,2,  -9.0000,9,-999.0000,9, -999.00,9, -999.00,9,  -999.0,9,  -999.0,-999.000,9,-999.000,-999.000,9,  -9.0000,-999.0000,   1.6216,   -9.00
  316N145_7,       I05E,     414,          1,          8,          8,2,19950408,       1620,   -32.7677,   100.2132,       3875,  2798.1,   1.6441,  34.7406,2,  34.7407,2,    197.6,2,   197.0,2,  101.03,2,   31.02,2,    0.00,2,    2.17,2,  -0.001,2,   0.000,2,  2254.8,2,  2367.2,2,  -9.0000,9,-999.0000,9, -999.00,9, -999.00,9,  -999.0,9,  -999.0,-999.000,9,-999.000,-999.000,9,  -9.0000,-999.0000,   1.4430,   -9.00
  316N145_7,       I05E,     414,          1,          7,          7,2,19950408,       1620,   -32.7677,   100.2132,       3875,  2978.3,   1.4579,  34.7345,2,  34.7346,2,    198.3,2,   199.2,2,  106.52,2,   31.22,2,    0.00,2,    2.18,2,-999.000,9,-999.000,9,  2257.8,2,  2370.0,2,  -9.0000,9,-999.0000,9, -999.00,9, -999.00,9,  -999.0,9,  -999.0,-999.000,9,-999.000,-999.000,9,  -9.0000,-999.0000,   1.2438,   -9.00
  316N145_7,       I05E,     414,          1,          6,          6,2,19950408,       1620,   -32.7677,   100.2132,       3875,  3157.5,   1.3137,  34.7289,2,  34.7287,2,    201.1,2,   200.9,2,  110.75,2,   31.52,2,    0.00,2,    2.20,2,-999.000,9,-999.000,9,  2259.8,2,  2369.2,2,  -9.0000,9,-999.0000,9, -999.00,9, -999.00,9,  -999.0,9,  -999.0,-999.000,9,-999.000,-999.000,9,  -9.0000,-999.0000,   1.0858,   -9.00
  316N145_7,       I05E,     414,          1,          5,          5,2,19950408,       1620,   -32.7677,   100.2132,       3875,  3335.2,   1.2458,  34.7261,2,  34.7256,2,    201.9,2,   202.3,2,  112.85,2,   31.67,2,    0.00,2,    2.21,2,   0.000,2,   0.000,2,  2261.5,2,  2362.9,2,  -9.0000,9,-999.0000,9, -999.00,9, -999.00,9,  -999.0,9,  -999.0,-999.000,9,-999.000,-999.000,9,  -9.0000,-999.0000,   1.0022,   -9.00
  316N145_7,       I05E,     414,          1,          4,          4,2,19950408,       1620,   -32.7677,   100.2132,       3875,  3513.1,   1.2278,  34.7243,2,  34.7242,2,    202.6,2,   202.4,2,  113.67,2,   31.72,2,    0.00,2,    2.21,2,-999.000,9,-999.000,9,  2261.9,2,  2376.2,2,  -9.0000,9,-999.0000,9, -999.00,9, -999.00,9,  -999.0,9,  -999.0,-999.000,9,-999.000,-999.000,9,  -9.0000,-999.0000,   0.9670,   -9.00
  316N145_7,       I05E,     414,          1,          3,          3,2,19950408,       1620,   -32.7677,   100.2132,       3875,  3689.5,   1.2267,  34.7237,2,  34.7233,2,    202.7,2,   203.0,2,  114.28,2,   31.72,2,    0.00,2,    2.21,2,   0.002,2,   0.002,2,  2262.1,2,  2375.4,2,  -9.0000,9,-999.0000,9, -999.00,9, -999.00,9,  -999.0,9,  -999.0,-999.000,9,-999.000,-999.000,9,  -9.0000,-999.0000,   0.9480,   -9.00
  316N145_7,       I05E,     414,          1,          2,          2,2,19950408,       1620,   -32.7677,   100.2132,       3875,  3866.3,   1.2283,  34.7229,2,  34.7227,2,    203.0,2,   203.2,2,  114.46,2,   31.77,2,    0.00,2,    2.21,2,   0.001,2,   0.000,2,  2262.6,2,  2374.6,2,  -9.0000,9,-999.0000,9, -999.00,9, -999.00,9,  -999.0,9,  -999.0,-999.000,9,-999.000,-999.000,9,  -9.0000,-999.0000,   0.9311,   -9.00
  316N145_7,       I05E,     414,          1,          1,          1,2,19950408,       1620,   -32.7677,   100.2132,       3875,  4132.7,   1.0847,  34.7160,2,  34.7156,2,    205.6,2,   204.9,2,  118.50,2,   31.97,2,    0.00,2,    2.22,2,   0.002,2,   0.001,2,  2265.4,2,  2375.7,2,  -9.0000,9,-999.0000,9, -999.00,9, -999.00,9,  -999.0,9,  -999.0,-999.000,9,-999.000,-999.000,9,  -9.0000,-999.0000,   0.7631,   -9.00