BOTTLE,20211124CCHSIORKP
EXPOCODE,SECT_ID,STNNBR,CASTNO,SAMPNO,BTLNBR,BTLNBR_FLAG_W,DATE,TIME,LATITUDE,LONGITUDE,DEPTH,CTDPRS,CTDTMP,CTDSAL,CTDSAL_FLAG_W,SALNTY,SALNTY_FLAG_W,CTDOXY,CTDOXY_FLAG_W,OXYGEN,OXYGEN_FLAG_W,SILCAT,SILCAT_FLAG_W,NITRAT,NITRAT_FLAG_W,NITRIT,NITRIT_FLAG_W,PHSPHT,PHSPHT_FLAG_W,CFC-11,CFC-11_FLAG_W,CFC-12,CFC-12_FLAG_W,TCARBN,TCARBN_FLAG_W,ALKALI,ALKALI_FLAG_W,TRITUM,TRITUM_FLAG_W,HELIUM,HELIUM_FLAG_W,DELHE3,DELHE3_FLAG_W,DELC13,DELC13_FLAG_W,DELC14,DELC14_FLAG_W,C14ERR,NEON,NEON_FLAG_W,NEONER,CCL4,CCL4_FLAG_W,TRITER,HELIER,THETA,DELHER
,,,,,,,,,,,METERS,DBAR,ITS-90,PSS-78,,PSS-78,,UMOL/KG,,UMOL/KG,,UMOL/KG,,UMOL/KG,,UMOL/KG,,UMOL/KG,,PMOL/KG,,PMOL/KG,,UMOL/KG,,UMOL/KG,,TU,,NMOL/KG,,PERCNT,,/MILLE,,/MILLE,,/MILLE,NMOL/KG,,NMOL/KG,PMOL/KG,,TU,NMOL/KG,DEG C,PERCNT
  316N145_7,       I05E,     423,          1,         36,         36,2,19950410,       1627,   -31.2823,   104.6668,       5447,     3.0,  21.0205,  36.1480,2,  36.1480,2,    223.6,3,   223.6,2,    2.93,2,    0.14,2,    0.00,2,    0.12,2,   2.235,2,   1.286,2,  2057.6,2,  2368.4,2,  -9.0000,9,-999.0000,9, -999.00,9, -999.00,9,  -999.0,9,  -999.0,-999.000,9,-999.000,-999.000,9,  -9.0000,-999.0000,  21.0200,   -9.00
  316N145_7,       I05E,     423,          1,         35,         35,2,19950410,       1627,   -31.2823,   104.6668,       5447,    33.2,  20.7985,  36.1414,2,  36.1412,2,    210.9,3,   224.8,2,    2.92,2,    0.14,2,    0.00,2,    0.12,2,-999.000,9,-999.000,9,  -999.0,9,  -999.0,9,  -9.0000,9,-999.0000,9, -999.00,9, -999.00,9,  -999.0,9,  -999.0,-999.000,9,-999.000,-999.000,9,  -9.0000,-999.0000,  20.7921,   -9.00
  316N145_7,       I05E,     423,          1,         34,         34,2,19950410,       1627,   -31.2823,   104.6668,       5447,    63.5,  20.7323,  36.1683,2,  36.1644,2,    231.0,2,   224.6,2,    2.91,2,    0.14,2,    0.00,2,    0.11,2,   2.250,2,   1.273,2,  -999.0,9,  -999.0,9,  -9.0000,9,-999.0000,9, -999.00,9, -999.00,9,  -999.0,9,  -999.0,-999.000,9,-999.000,-999.000,9,  -9.0000,-999.0000,  20.7202,   -9.00
  316N145_7,       I05E,     423,          1,         33,         33,2,19950410,       1627,   -31.2823,   104.6668,       5447,   104.2,  15.8524,  35.6229,2,  35.6050,2,    244.1,2,   250.2,2,    2.48,2,    0.26,2,    0.03,2,    0.23,2,   2.893,2,   1.594,2,  -999.0,9,  -999.0,9,  -9.0000,9,-999.0000,9, -999.00,9, -999.00,9,  -999.0,9,  -999.0,-999.000,9,-999.000,-999.000,9,  -9.0000,-999.0000,  15.8360,   -9.00
  316N145_7,       I05E,     423,          1,         32,         32,2,19950410,       1627,   -31.2823,   104.6668,       5447,   148.9,  13.8359,  35.4099,2,  35.4041,2,    234.9,2,   237.8,2,    2.68,2,    4.21,2,    0.02,2,    0.45,2,   3.072,2,   1.661,2,  -999.0,9,  -999.0,9,  -9.0000,9,-999.0000,9, -999.00,9, -999.00,9,  -999.0,9,  -999.0,-999.000,9,-999.000,-999.000,9,  -9.0000,-999.0000,  13.8145,   -9.00
  316N145_7,       I05E,     423,          1,         31,         31,2,19950410,       1627,   -31.2823,   104.6668,       5447,   199.3,  13.0034,  35.2841,2,  35.2819,2,    237.2,2,   240.4,2,    2.67,2,    5.56,2,    0.01,2,    0.53,2,   3.171,2,   1.712,2,  -999.0,9,  -999.0,9,  -9.0000,9,-999.0000,9, -999.00,9, -999.00,9,  -999.0,9,  -999.0,-999.000,9,-999.000,-999.000,9,  -9.0000,-999.0000,  12.9759,   -9.00
  316N145_7,       I05E,     423,          1,         30,         30,2,19950410,       1627,   -31.2823,   104.6668,       5447,   258.8,  12.0491,  35.1289,2,  35.1290,2,    238.4,2,   239.8,2,    3.09,2,    7.78,2,    0.01,2,    0.67,2,   3.249,2,   1.743,2,  -999.0,9,  -999.0,9,  -9.0000,9,-999.0000,9, -999.00,9, -999.00,9,  -999.0,9,  -999.0,-999.000,9,-999.000,-999.000,9,  -9.0000,-999.0000,  12.0152,   -9.00
  316N145_7,       I05E,     423,          1,         29,         29,2,19950410,       1627,   -31.2823,   104.6668,       5447,   327.7,  11.0488,  34.9579,2,  34.9574,2,    243.0,2,   244.2,2,    3.51,2,   10.09,2,    0.01,2,    0.81,2,   3.360,2,   1.755,2,  -999.0,9,  -999.0,9,  -9.0000,9,-999.0000,9, -999.00,9, -999.00,9,  -999.0,9,  -999.0,-999.000,9,-999.000,-999.000,9,  -9.0000,-999.0000,  11.0081,   -9.00
  316N145_7,       I05E,     423,          1,         28,         28,2,19950410,       1627,   -31.2823,   104.6668,       5447,   408.8,  10.0694,  34.7962,2,  34.7937,2,    245.4,2,   246.3,2,    4.36,2,   12.89,2,    0.01,2,    0.97,2,   3.399,2,   1.760,2,  -999.0,9,  -999.0,9,  -9.0000,9,-999.0000,9, -999.00,9, -999.00,9,  -999.0,9,  -999.0,-999.000,9,-999.000,-999.000,9,  -9.0000,-999.0000,  10.0214,   -9.00
  316N145_7,       I05E,     423,          1,         27,         27,2,19950410,       1627,   -31.2823,   104.6668,       5447,   509.8,   9.3869,  34.6878,2,  34.6889,2,    246.6,2,   243.8,2,    5.42,2,   15.45,2,    0.01,2,    1.13,2,   3.268,2,   1.672,2,  -999.0,9,  -999.0,9,  -9.0000,9,-999.0000,9, -999.00,9, -999.00,9,  -999.0,9,  -999.0,-999.000,9,-999.000,-999.000,9,  -9.0000,-999.0000,   9.3293,   -9.00
  316N145_7,       I05E,     423,          1,         26,         26,2,19950410,       1627,   -31.2823,   104.6668,       5447,   610.7,   8.8846,  34.6217,2,  34.6199,2,    238.5,2,   234.0,2,    6.90,2,   18.21,2,    0.00,2,    1.30,2,   2.823,2,   1.421,2,  -999.0,9,  -999.0,9,  -9.0000,9,-999.0000,9, -999.00,9, -999.00,9,  -999.0,9,  -999.0,-999.000,9,-999.000,-999.000,9,  -9.0000,-999.0000,   8.8175,   -9.00
  316N145_7,       I05E,     423,          1,         25,         25,2,19950410,       1627,   -31.2823,   104.6668,       5447,   711.3,   7.6691,  34.5152,2,  34.5150,2,    214.8,2,   207.6,2,   13.52,2,   23.39,2,    0.00,2,    1.62,2,   1.571,2,   0.779,2,  -999.0,9,  -999.0,9,  -9.0000,9,-999.0000,9, -999.00,9, -999.00,9,  -999.0,9,  -999.0,-999.000,9,-999.000,-999.000,9,  -9.0000,-999.0000,   7.5970,   -9.00
  316N145_7,       I05E,     423,          1,         24,         24,2,19950410,       1627,   -31.2823,   104.6668,       5447,   810.7,   6.3606,  34.4393,2,  34.4392,2,    198.1,2,   195.4,2,   22.06,2,   27.27,2,    0.00,2,    1.88,2,   0.938,2,   0.459,2,  -999.0,9,  -999.0,9,  -9.0000,9,-999.0000,9, -999.00,9, -999.00,9,  -999.0,9,  -999.0,-999.000,9,-999.000,-999.000,9,  -9.0000,-999.0000,   6.2859,   -9.00
  316N145_7,       I05E,     423,          1,         23,         23,2,19950410,       1627,   -31.2823,   104.6668,       5447,   910.8,   4.9846,  34.3871,2,  34.3841,2,    197.2,2,   195.6,2,   32.51,2,   30.06,2,    0.00,2,    2.09,2,   0.669,2,   0.330,2,  -999.0,9,  -999.0,9,  -9.0000,9,-999.0000,9, -999.00,9, -999.00,9,  -999.0,9,  -999.0,-999.000,9,-999.000,-999.000,9,  -9.0000,-999.0000,   4.9095,   -9.00
  316N145_7,       I05E,     423,          1,         22,         22,2,19950410,       1627,   -31.2823,   104.6668,       5447,  1012.2,   4.1934,  34.4090,2,  34.4111,2,    180.5,2,   179.4,2,   48.52,2,   32.55,2,    0.00,2,    2.28,2,   0.317,6,   0.157,6,  -999.0,9,  -999.0,9,  -9.0000,9,-999.0000,9, -999.00,9, -999.00,9,  -999.0,9,  -999.0,-999.000,9,-999.000,-999.000,9,  -9.0000,-999.0000,   4.1153,   -9.00
  316N145_7,       I05E,     423,          1,         21,         21,2,19950410,       1627,   -31.2823,   104.6668,       5447,  1163.2,   3.7388,  34.4850,2,  34.4820,2,    158.6,2,   158.7,2,   66.03,2,   34.42,2,    0.00,2,    2.44,2,-999.000,9,-999.000,9,  -999.0,9,  -999.0,9,  -9.0000,9,-999.0000,9, -999.00,9, -999.00,9,  -999.0,9,  -999.0,-999.000,9,-999.000,-999.000,9,  -9.0000,-999.0000,   3.6517,   -9.00
  316N145_7,       I05E,     423,          1,         20,         20,2,19950410,       1627,   -31.2823,   104.6668,       5447,  1315.0,   3.3883,  34.5431,2,  34.5401,2,    151.0,2,   150.5,2,   76.71,2,   34.87,2,    0.00,2,    2.49,2,   0.033,2,   0.016,2,  -999.0,9,  -999.0,9,  -9.0000,9,-999.0000,9, -999.00,9, -999.00,9,  -999.0,9,  -999.0,-999.000,9,-999.000,-999.000,9,  -9.0000,-999.0000,   3.2918,   -9.00
  316N145_7,       I05E,     423,          1,         19,         19,2,19950410,       1627,   -31.2823,   104.6668,       5447,  1517.8,   2.9886,  34.6015,2,  34.6014,2,    152.6,2,   152.4,2,   84.83,2,   34.87,2,    0.00,2,    2.47,2,-999.000,9,-999.000,9,  -999.0,9,  -999.0,9,  -9.0000,9,-999.0000,9, -999.00,9, -999.00,9,  -999.0,9,  -999.0,-999.000,9,-999.000,-999.000,9,  -9.0000,-999.0000,   2.8793,   -9.00
  316N145_7,       I05E,     423,          1,         18,         18,2,19950410,       1627,   -31.2823,   104.6668,       5447,  1718.1,   2.7428,  34.6570,2,  34.6567,2,    152.8,2,   154.2,2,   93.18,2,   34.43,2,    0.00,2,    2.44,2,   0.003,2,   0.005,2,  -999.0,9,  -999.0,9,  -9.0000,9,-999.0000,9, -999.00,9, -999.00,9,  -999.0,9,  -999.0,-999.000,9,-999.000,-999.000,9,  -9.0000,-999.0000,   2.6195,   -9.00
  316N145_7,       I05E,     423,          1,         17,         17,2,19950410,       1627,   -31.2823,   104.6668,       5447,  1916.5,   2.5264,  34.6911,2,  34.6907,2,    158.0,2,   157.6,2,   99.40,2,   34.00,2,    0.00,2,    2.41,2,-999.000,9,-999.000,9,  -999.0,9,  -999.0,9,  -9.0000,9,-999.0000,9, -999.00,9, -999.00,9,  -999.0,9,  -999.0,-999.000,9,-999.000,-999.000,9,  -9.0000,-999.0000,   2.3890,   -9.00
  316N145_7,       I05E,     423,          1,         16,         16,2,19950410,       1627,   -31.2823,   104.6668,       5447,  2116.3,   2.3090,  34.7138,2,  34.7133,2,    161.0,2,   161.3,2,  106.49,2,   33.76,2,    0.00,2,    2.39,2,  -0.001,2,   0.001,2,  -999.0,9,  -999.0,9,  -9.0000,9,-999.0000,9, -999.00,9, -999.00,9,  -999.0,9,  -999.0,-999.000,9,-999.000,-999.000,9,  -9.0000,-999.0000,   2.1575,   -9.00
  316N145_7,       I05E,     423,          1,         15,         15,2,19950410,       1627,   -31.2823,   104.6668,       5447,  2319.0,   2.1215,  34.7237,2,  34.7229,2,    164.6,2,   165.7,2,  111.01,2,   33.52,2,    0.00,2,    2.38,2,-999.000,9,-999.000,9,  -999.0,9,  -999.0,9,  -9.0000,9,-999.0000,9, -999.00,9, -999.00,9,  -999.0,9,  -999.0,-999.000,9,-999.000,-999.000,9,  -9.0000,-999.0000,   1.9551,   -9.00
  316N145_7,       I05E,     423,          1,         14,         14,2,19950410,       1627,   -31.2823,   104.6668,       5447,  2525.8,   1.9725,  34.7277,2,  34.7270,2,    170.6,2,   170.3,2,  113.15,2,   33.33,2,    0.00,2,    2.35,2,   0.000,2,   0.003,2,  -999.0,9,  -999.0,9,  -9.0000,9,-999.0000,9, -999.00,9, -999.00,9,  -999.0,9,  -999.0,-999.000,9,-999.000,-999.000,9,  -9.0000,-999.0000,   1.7900,   -9.00
  316N145_7,       I05E,     423,          1,         13,         13,2,19950410,       1627,   -31.2823,   104.6668,       5447,  2731.6,   1.8270,  34.7287,2,  34.7284,2,    173.5,2,   173.7,2,  116.38,2,   33.24,2,    0.00,2,    2.35,2,-999.000,9,-999.000,9,  -999.0,9,  -999.0,9,  -9.0000,9,-999.0000,9, -999.00,9, -999.00,9,  -999.0,9,  -999.0,-999.000,9,-999.000,-999.000,9,  -9.0000,-999.0000,   1.6284,   -9.00
  316N145_7,       I05E,     423,          1,         12,         12,2,19950410,       1627,   -31.2823,   104.6668,       5447,  2935.1,   1.7090,  34.7295,2,  34.7292,2,    179.0,2,   180.1,2,  115.69,2,   32.85,2,    0.00,2,    2.31,2,   0.002,2,   0.004,2,  -999.0,9,  -999.0,9,  -9.0000,9,-999.0000,9, -999.00,9, -999.00,9,  -999.0,9,  -999.0,-999.000,9,-999.000,-999.000,9,  -9.0000,-999.0000,   1.4936,   -9.00
  316N145_7,       I05E,     423,          1,         11,         11,2,19950410,       1627,   -31.2823,   104.6668,       5447,  3140.0,   1.5894,  34.7280,2,  34.7278,2,    182.1,2,   182.4,2,  118.49,2,   32.86,2,    0.00,2,    2.31,2,-999.000,9,-999.000,9,  -999.0,9,  -999.0,9,  -9.0000,9,-999.0000,9, -999.00,9, -999.00,9,  -999.0,9,  -999.0,-999.000,9,-999.000,-999.000,9,  -9.0000,-999.0000,   1.3569,   -9.00
  316N145_7,       I05E,     423,          1,         10,         10,2,19950410,       1627,   -31.2823,   104.6668,       5447,  3343.3,   1.4822,  34.7271,2,  34.7262,2,    185.9,2,   187.6,2,  119.11,2,   32.72,2,    0.00,2,    2.29,2,  -0.001,2,   0.000,2,  -999.0,9,  -999.0,9,  -9.0000,9,-999.0000,9, -999.00,9, -999.00,9,  -999.0,9,  -999.0,-999.000,9,-999.000,-999.000,9,  -9.0000,-999.0000,   1.2321,   -9.00
  316N145_7,       I05E,     423,          1,          9,          9,2,19950410,       1627,   -31.2823,   104.6668,       5447,  3546.8,   1.3986,  34.7292,2,  34.7279,2,    194.5,2,   196.6,2,  114.29,2,   31.89,2,    0.00,2,    2.23,2,-999.000,9,-999.000,9,  -999.0,9,  -999.0,9,  -9.0000,9,-999.0000,9, -999.00,9, -999.00,9,  -999.0,9,  -999.0,-999.000,9,-999.000,-999.000,9,  -9.0000,-999.0000,   1.1300,   -9.00
  316N145_7,       I05E,     423,          1,          8,          8,2,19950410,       1627,   -31.2823,   104.6668,       5447,  3750.6,   1.2979,  34.7242,2,  34.7230,2,    199.7,2,   196.8,3,  118.83,2,   32.24,2,    0.00,2,    2.26,2,  -0.001,2,   0.003,2,  -999.0,9,  -999.0,9,  -9.0000,9,-999.0000,9, -999.00,9, -999.00,9,  -999.0,9,  -999.0,-999.000,9,-999.000,-999.000,9,  -9.0000,-999.0000,   1.0109,   -9.00
  316N145_7,       I05E,     423,          1,          7,          7,2,19950410,       1627,   -31.2823,   104.6668,       5447,  4005.1,   1.1876,  34.7204,2,  34.7198,2,    201.6,2,   201.8,2,  119.01,2,   32.00,2,    0.00,2,    2.24,2,-999.000,9,-999.000,9,  -999.0,9,  -999.0,9,  -9.0000,9,-999.0000,9, -999.00,9, -999.00,9,  -999.0,9,  -999.0,-999.000,9,-999.000,-999.000,9,  -9.0000,-999.0000,   0.8767,   -9.00
  316N145_7,       I05E,     423,          1,          6,          6,2,19950410,       1627,   -31.2823,   104.6668,       5447,  4258.4,   1.1026,  34.7164,2,  34.7157,2,    205.9,2,   205.0,2,  119.85,2,   32.05,2,    0.00,2,    2.24,2,   0.002,2,   0.002,2,  -999.0,9,  -999.0,9,  -9.0000,9,-999.0000,9, -999.00,9, -999.00,9,  -999.0,9,  -999.0,-999.000,9,-999.000,-999.000,9,  -9.0000,-999.0000,   0.7668,   -9.00
  316N145_7,       I05E,     423,          1,          5,          5,2,19950410,       1627,   -31.2823,   104.6668,       5447,  4514.2,   1.0317,  34.7120,2,  34.7112,2,    206.9,2,   206.8,2,  121.78,2,   32.16,2,    0.00,2,    2.24,2,-999.000,9,-999.000,9,  -999.0,9,  -999.0,9,  -9.0000,9,-999.0000,9, -999.00,9, -999.00,9,  -999.0,9,  -999.0,-999.000,9,-999.000,-999.000,9,  -9.0000,-999.0000,   0.6696,   -9.00
  316N145_7,       I05E,     423,          1,          4,          4,2,19950410,       1627,   -31.2823,   104.6668,       5447,  4770.2,   0.9994,  34.7091,2,  34.7086,2,    207.4,2,   207.7,2,  123.05,2,   32.21,2,    0.00,2,    2.25,2,   0.003,2,   0.006,2,  -999.0,9,  -999.0,9,  -9.0000,9,-999.0000,9, -999.00,9, -999.00,9,  -999.0,9,  -999.0,-999.000,9,-999.000,-999.000,9,  -9.0000,-999.0000,   0.6090,   -9.00
  316N145_7,       I05E,     423,          1,          3,          3,2,19950410,       1627,   -31.2823,   104.6668,       5447,  5025.1,   0.9839,  34.7072,2,  34.7062,2,    207.9,2,   208.2,2,  123.89,2,   32.27,2,    0.00,2,    2.25,2,   0.008,2,   0.006,2,  -999.0,9,  -999.0,9,  -9.0000,9,-999.0000,9, -999.00,9, -999.00,9,  -999.0,9,  -999.0,-999.000,9,-999.000,-999.000,9,  -9.0000,-999.0000,   0.5640,   -9.00
  316N145_7,       I05E,     423,          1,          2,          2,2,19950410,       1627,   -31.2823,   104.6668,       5447,  5283.7,   1.0025,  34.7064,2,  34.7060,2,    207.8,2,   208.3,2,  124.29,2,   32.32,2,    0.00,2,    2.26,2,   0.007,2,   0.006,2,  -999.0,9,  -999.0,9,  -9.0000,9,-999.0000,9, -999.00,9, -999.00,9,  -999.0,9,  -999.0,-999.000,9,-999.000,-999.000,9,  -9.0000,-999.0000,   0.5507,   -9.00
  316N145_7,       I05E,     423,          1,          1,          1,2,19950410,       1627,   -31.2823,   104.6668,       5447,  5576.8,   1.0354,  34.7064,2,  34.7068,2,    208.4,2,   208.0,2,  124.26,2,   32.33,2,    0.00,2,    2.26,2,   0.009,2,   0.009,2,  -999.0,9,  -999.0,9,  -9.0000,9,-999.0000,9, -999.00,9, -999.00,9,  -999.0,9,  -999.0,-999.000,9,-999.000,   0.101,6,  -9.0000,-999.0000,   0.5461,   -9.00