BOTTLE,20211124CCHSIORKP
EXPOCODE,SECT_ID,STNNBR,CASTNO,SAMPNO,BTLNBR,BTLNBR_FLAG_W,DATE,TIME,LATITUDE,LONGITUDE,DEPTH,CTDPRS,CTDTMP,CTDSAL,CTDSAL_FLAG_W,SALNTY,SALNTY_FLAG_W,CTDOXY,CTDOXY_FLAG_W,OXYGEN,OXYGEN_FLAG_W,SILCAT,SILCAT_FLAG_W,NITRAT,NITRAT_FLAG_W,NITRIT,NITRIT_FLAG_W,PHSPHT,PHSPHT_FLAG_W,CFC-11,CFC-11_FLAG_W,CFC-12,CFC-12_FLAG_W,TCARBN,TCARBN_FLAG_W,ALKALI,ALKALI_FLAG_W,TRITUM,TRITUM_FLAG_W,HELIUM,HELIUM_FLAG_W,DELHE3,DELHE3_FLAG_W,DELC13,DELC13_FLAG_W,DELC14,DELC14_FLAG_W,C14ERR,NEON,NEON_FLAG_W,NEONER,CCL4,CCL4_FLAG_W,TRITER,HELIER,THETA,DELHER
,,,,,,,,,,,METERS,DBAR,ITS-90,PSS-78,,PSS-78,,UMOL/KG,,UMOL/KG,,UMOL/KG,,UMOL/KG,,UMOL/KG,,UMOL/KG,,PMOL/KG,,PMOL/KG,,UMOL/KG,,UMOL/KG,,TU,,NMOL/KG,,PERCNT,,/MILLE,,/MILLE,,/MILLE,NMOL/KG,,NMOL/KG,PMOL/KG,,TU,NMOL/KG,DEG C,PERCNT
  316N145_7,      TRANS,     394,          1,         24,         24,2,19950403,       2022,   -30.4163,    87.8270,       2426,     3.1,  22.5665,  36.0673,2,  36.0661,2,    216.5,2,   217.3,2,    2.70,2,    0.15,2,    0.00,2,    0.13,2,-999.000,9,-999.000,9,  2050.0,2,  2365.4,2,  -9.0000,9,-999.0000,9, -999.00,9, -999.00,9,  -999.0,9,  -999.0,-999.000,9,-999.000,-999.000,9,  -9.0000,-999.0000,  22.5659,   -9.00
  316N145_7,      TRANS,     394,          1,         23,         23,2,19950403,       2022,   -30.4163,    87.8270,       2426,    29.5,  22.2414,  36.0720,2,  36.0729,2,    211.4,2,   220.7,2,    2.69,2,    0.15,2,    0.00,2,    0.13,2,-999.000,9,-999.000,9,  2050.9,2,  2370.0,2,  -9.0000,9,-999.0000,9, -999.00,9, -999.00,9,  -999.0,9,  -999.0,-999.000,9,-999.000,-999.000,9,  -9.0000,-999.0000,  22.2355,   -9.00
  316N145_7,      TRANS,     394,          1,         22,         22,2,19950403,       2022,   -30.4163,    87.8270,       2426,    54.3,  21.1658,  35.9643,2,  35.9436,2,    224.5,2,   228.7,2,    2.46,2,    0.15,2,    0.00,2,    0.14,2,-999.000,9,-999.000,9,  2051.2,2,  2395.1,2,  -9.0000,9,-999.0000,9, -999.00,9, -999.00,9,  -999.0,9,  -999.0,-999.000,9,-999.000,-999.000,9,  -9.0000,-999.0000,  21.1553,   -9.00
  316N145_7,      TRANS,     394,          1,         21,         21,2,19950403,       2022,   -30.4163,    87.8270,       2426,    84.2,  16.9777,  35.6419,2,  35.6436,2,    254.2,2,   253.2,2,    2.24,2,    0.15,2,    0.00,2,    0.19,2,-999.000,9,-999.000,9,  2058.0,2,  2356.5,2,  -9.0000,9,-999.0000,9, -999.00,9, -999.00,9,  -999.0,9,  -999.0,-999.000,9,-999.000,-999.000,9,  -9.0000,-999.0000,  16.9638,   -9.00
  316N145_7,      TRANS,     394,          1,         20,         20,2,19950403,       2022,   -30.4163,    87.8270,       2426,   114.6,  14.5348,  35.4569,2,  35.4751,2,    240.1,2,   233.4,2,    2.44,2,    2.78,2,    0.14,2,    0.40,2,-999.000,9,-999.000,9,  2085.7,2,  2349.9,2,  -9.0000,9,-999.0000,9, -999.00,9, -999.00,9,  -999.0,9,  -999.0,-999.000,9,-999.000,-999.000,9,  -9.0000,-999.0000,  14.5178,   -9.00
  316N145_7,      TRANS,     394,          1,         19,         19,2,19950403,       2022,   -30.4163,    87.8270,       2426,   155.0,  13.2701,  35.2698,2,  35.2782,2,    239.2,2,   236.8,2,    3.07,2,    6.07,2,    0.02,2,    0.57,2,-999.000,9,-999.000,9,  2093.4,2,  2325.5,2,  -9.0000,9,-999.0000,9, -999.00,9, -999.00,9,  -999.0,9,  -999.0,-999.000,9,-999.000,-999.000,9,  -9.0000,-999.0000,  13.2484,   -9.00
  316N145_7,      TRANS,     394,          1,         18,         18,2,19950403,       2022,   -30.4163,    87.8270,       2426,   194.8,  12.5862,  35.1714,2,  35.1736,2,    239.0,2,   240.4,2,    3.92,2,    8.01,2,    0.01,2,    0.68,2,-999.000,9,-999.000,9,  2097.3,2,  2335.8,3,  -9.0000,9,-999.0000,9, -999.00,9, -999.00,9,  -999.0,9,  -999.0,-999.000,9,-999.000,-999.000,9,  -9.0000,-999.0000,  12.5599,   -9.00
  316N145_7,      TRANS,     394,          1,         17,         17,2,19950403,       2022,   -30.4163,    87.8270,       2426,   265.1,  11.9119,  35.0713,2,  35.0738,2,    244.9,2,   243.0,2,    4.33,2,    9.49,2,    0.01,2,    0.76,2,-999.000,9,-999.000,9,  2099.8,2,  2316.6,2,  -9.0000,9,-999.0000,9, -999.00,9, -999.00,9,  -999.0,9,  -999.0,-999.000,9,-999.000,-999.000,9,  -9.0000,-999.0000,  11.8773,   -9.00
  316N145_7,      TRANS,     394,          1,         16,         16,2,19950403,       2022,   -30.4163,    87.8270,       2426,   336.1,  11.4646,  35.0080,2,  35.0028,2,    244.8,2,   247.3,2,    4.75,2,   10.54,2,    0.00,2,    0.82,2,-999.000,9,-999.000,9,  2101.1,2,  2315.7,2,  -9.0000,9,-999.0000,9, -999.00,9, -999.00,9,  -999.0,9,  -999.0,-999.000,9,-999.000,-999.000,9,  -9.0000,-999.0000,  11.4218,   -9.00
  316N145_7,      TRANS,     394,          1,         15,         15,2,19950403,       2022,   -30.4163,    87.8270,       2426,   405.9,  11.0634,  34.9482,2,  34.9489,2,    246.1,2,   248.4,2,    4.74,2,   11.28,2,    0.00,2,    0.87,2,-999.000,9,-999.000,9,  2103.4,2,  2305.2,2,  -9.0000,9,-999.0000,9, -999.00,9, -999.00,9,  -999.0,9,  -999.0,-999.000,9,-999.000,-999.000,9,  -9.0000,-999.0000,  11.0128,   -9.00
  316N145_7,      TRANS,     394,          1,         14,         14,2,19950403,       2022,   -30.4163,    87.8270,       2426,   507.2,  10.5202,  34.8648,2,  34.8641,2,    245.0,2,   244.6,2,    5.37,2,   12.92,2,    0.00,2,    0.97,2,-999.000,9,-999.000,9,  2108.5,2,  2331.4,3,  -9.0000,9,-999.0000,9, -999.00,9, -999.00,9,  -999.0,9,  -999.0,-999.000,9,-999.000,-999.000,9,  -9.0000,-999.0000,  10.4586,   -9.00
  316N145_7,      TRANS,     394,          1,         13,         13,2,19950403,       2022,   -30.4163,    87.8270,       2426,   607.2,   9.7529,  34.7502,2,  34.7509,2,    238.4,2,   237.9,2,    5.79,2,   15.30,2,    0.00,2,    1.11,2,-999.000,9,-999.000,9,  2116.7,2,  2299.9,2,  -9.0000,9,-999.0000,9, -999.00,9, -999.00,9,  -999.0,9,  -999.0,-999.000,9,-999.000,-999.000,9,  -9.0000,-999.0000,   9.6823,   -9.00
  316N145_7,      TRANS,     394,          1,         12,         12,2,19950403,       2022,   -30.4163,    87.8270,       2426,   677.5,   9.1313,  34.6648,2,  34.6627,2,    231.9,2,   228.4,2,    7.49,2,   17.93,2,    0.00,2,    1.27,2,-999.000,9,-999.000,9,  2125.6,2,  2314.8,3,  -9.0000,9,-999.0000,9, -999.00,9, -999.00,9,  -999.0,9,  -999.0,-999.000,9,-999.000,-999.000,9,  -9.0000,-999.0000,   9.0553,   -9.00
  316N145_7,      TRANS,     394,          1,         11,         11,2,19950403,       2022,   -30.4163,    87.8270,       2426,   808.1,   7.5478,  34.5214,2,  34.5165,2,    208.0,2,   204.9,2,   14.98,2,   23.80,2,    0.00,2,    1.64,2,-999.000,9,-999.000,9,  2151.4,2,  2305.1,2,  -9.0000,9,-999.0000,9, -999.00,9, -999.00,9,  -999.0,9,  -999.0,-999.000,9,-999.000,-999.000,9,  -9.0000,-999.0000,   7.4661,   -9.00
  316N145_7,      TRANS,     394,          1,         10,         10,2,19950403,       2022,   -30.4163,    87.8270,       2426,   909.6,   6.0197,  34.4284,2,  34.4278,2,    197.7,2,   195.8,2,   25.05,2,   27.95,2,    0.00,2,    1.93,2,-999.000,9,-999.000,9,  2175.9,2,  2304.5,2,  -9.0000,9,-999.0000,9, -999.00,9, -999.00,9,  -999.0,9,  -999.0,-999.000,9,-999.000,-999.000,9,  -9.0000,-999.0000,   5.9376,   -9.00
  316N145_7,      TRANS,     394,          1,          9,          9,2,19950403,       2022,   -30.4163,    87.8270,       2426,  1010.6,   4.6797,  34.3839,2,  34.3845,2,    192.9,2,   193.2,2,   36.61,2,   30.80,2,    0.00,2,    2.14,2,-999.000,9,-999.000,9,  2196.9,2,  2301.8,2,  -9.0000,9,-999.0000,9, -999.00,9, -999.00,9,  -999.0,9,  -999.0,-999.000,9,-999.000,-999.000,9,  -9.0000,-999.0000,   4.5981,   -9.00
  316N145_7,      TRANS,     394,          1,          8,          8,2,19950403,       2022,   -30.4163,    87.8270,       2426,  1111.1,   3.9818,  34.4088,2,  34.4078,2,    182.9,2,   182.1,2,   48.81,2,   32.66,2,    0.00,2,    2.29,2,-999.000,9,-999.000,9,  2217.1,2,  2325.6,2,  -9.0000,9,-999.0000,9, -999.00,9, -999.00,9,  -999.0,9,  -999.0,-999.000,9,-999.000,-999.000,9,  -9.0000,-999.0000,   3.8971,   -9.00
  316N145_7,      TRANS,     394,          1,          7,          7,2,19950403,       2022,   -30.4163,    87.8270,       2426,  1312.9,   3.4780,  34.5218,2,  34.5217,2,    158.8,2,   155.4,2,   71.10,2,   34.53,2,    0.00,2,    2.44,2,-999.000,9,-999.000,9,  2251.8,2,  2357.5,2,  -9.0000,9,-999.0000,9, -999.00,9, -999.00,9,  -999.0,9,  -999.0,-999.000,9,-999.000,-999.000,9,  -9.0000,-999.0000,   3.3808,   -9.00
  316N145_7,      TRANS,     394,          1,          6,          6,2,19950403,       2022,   -30.4163,    87.8270,       2426,  1515.2,   3.0106,  34.5984,2,  34.5988,2,    155.1,2,   154.9,2,   81.83,2,   34.53,2,    0.00,2,    2.44,2,-999.000,9,-999.000,9,  2262.6,2,  2365.5,2,  -9.0000,9,-999.0000,9, -999.00,9, -999.00,9,  -999.0,9,  -999.0,-999.000,9,-999.000,-999.000,9,  -9.0000,-999.0000,   2.9013,   -9.00
  316N145_7,      TRANS,     394,          1,          5,          5,2,19950403,       2022,   -30.4163,    87.8270,       2426,  1716.8,   2.7553,  34.6439,2,  34.6449,2,    158.5,2,   159.7,2,   86.33,2,   33.98,2,    0.00,2,    2.39,2,-999.000,9,-999.000,9,  2265.1,2,  2379.0,2,  -9.0000,9,-999.0000,9, -999.00,9, -999.00,9,  -999.0,9,  -999.0,-999.000,9,-999.000,-999.000,9,  -9.0000,-999.0000,   2.6320,   -9.00
  316N145_7,      TRANS,     394,          1,          4,          4,2,19950403,       2022,   -30.4163,    87.8270,       2426,  1920.2,   2.4642,  34.6939,2,  34.6937,2,    167.5,2,   167.2,2,   92.13,2,   33.07,2,    0.00,2,    2.33,2,-999.000,9,-999.000,9,  2267.4,2,  2373.3,2,  -9.0000,9,-999.0000,9, -999.00,9, -999.00,9,  -999.0,9,  -999.0,-999.000,9,-999.000,-999.000,9,  -9.0000,-999.0000,   2.3274,   -9.00
  316N145_7,      TRANS,     394,          1,          3,          3,2,19950403,       2022,   -30.4163,    87.8270,       2426,  2122.1,   2.2578,  34.7168,2,  34.7165,2,    171.1,2,   175.4,2,   94.05,2,   32.27,2,    0.00,2,    2.27,2,-999.000,9,-999.000,9,  2263.0,2,  2374.4,2,  -9.0000,9,-999.0000,9, -999.00,9, -999.00,9,  -999.0,9,  -999.0,-999.000,9,-999.000,-999.000,9,  -9.0000,-999.0000,   2.1066,   -9.00
  316N145_7,      TRANS,     394,          1,          2,          2,2,19950403,       2022,   -30.4163,    87.8270,       2426,  2324.0,   2.0559,  34.7247,2,  34.7250,2,    179.0,2,   177.5,2,  101.37,2,   32.48,2,    0.00,2,    2.27,2,-999.000,9,-999.000,9,  2269.3,2,  2403.3,3,  -9.0000,9,-999.0000,9, -999.00,9, -999.00,9,  -999.0,9,  -999.0,-999.000,9,-999.000,-999.000,9,  -9.0000,-999.0000,   1.8902,   -9.00
  316N145_7,      TRANS,     394,          1,          1,          1,2,19950403,       2022,   -30.4163,    87.8270,       2426,  2442.3,   1.8029,  34.7284,2,  34.7288,2,    182.1,2,   182.4,2,  107.21,2,   32.38,2,    0.00,2,    2.26,2,-999.000,9,-999.000,9,  2271.9,2,  2392.1,3,  -9.0000,9,-999.0000,9, -999.00,9, -999.00,9,  -999.0,9,  -999.0,-999.000,9,-999.000,-999.000,9,  -9.0000,-999.0000,   1.6312,   -9.00
  316N145_7,       I05E,     395,          1,         19,         19,2,19950404,       0046,   -30.9995,    88.0027,       1197,     3.0,  21.1648,  35.7447,2,  35.7404,2,    225.1,2,   225.0,2,    2.09,2,    0.11,2,    0.00,2,    0.15,2,   2.248,2,   1.224,2,  -999.0,9,  -999.0,9,  -9.0000,9,-999.0000,9, -999.00,9, -999.00,9,  -999.0,9,  -999.0,-999.000,9,-999.000,-999.000,9,  -9.0000,-999.0000,  21.1642,   -9.00
  316N145_7,       I05E,     395,          1,         18,         18,2,19950404,       0046,   -30.9995,    88.0027,       1197,    23.6,  21.1670,  35.7710,2,  35.6218,2,    217.0,2,   228.7,2,    1.84,2,    0.06,2,    0.00,2,    0.15,2,-999.000,9,-999.000,9,  -999.0,9,  -999.0,9,  -9.0000,9,-999.0000,9, -999.00,9, -999.00,9,  -999.0,9,  -999.0,-999.000,9,-999.000,-999.000,9,  -9.0000,-999.0000,  21.1624,   -9.00
  316N145_7,       I05E,     395,          1,         17,         17,2,19950404,       0046,   -30.9995,    88.0027,       1197,    49.1,  19.7734,  35.4188,2,  35.4533,2,    230.0,2,   238.7,2,    1.60,2,    0.11,2,    0.00,2,    0.17,2,-999.000,9,-999.000,9,  -999.0,9,  -999.0,9,  -9.0000,9,-999.0000,9, -999.00,9, -999.00,9,  -999.0,9,  -999.0,-999.000,9,-999.000,-999.000,9,  -9.0000,-999.0000,  19.7644,   -9.00
  316N145_7,       I05E,     395,          1,         16,         16,2,19950404,       0046,   -30.9995,    88.0027,       1197,    79.1,  15.8561,  35.5061,2,  35.5008,2,    260.1,2,   257.8,2,    1.99,2,    0.11,2,    0.00,2,    0.22,2,   2.873,2,   1.517,2,  -999.0,9,  -999.0,9,  -9.0000,9,-999.0000,9, -999.00,9, -999.00,9,  -999.0,9,  -999.0,-999.000,9,-999.000,-999.000,9,  -9.0000,-999.0000,  15.8436,   -9.00
  316N145_7,       I05E,     395,          1,         15,         15,2,19950404,       0046,   -30.9995,    88.0027,       1197,    98.7,  14.9818,  35.4788,2,  35.4770,2,    249.7,2,   243.8,2,    2.17,2,    1.11,2,    0.14,2,    0.32,2,-999.000,9,-999.000,9,  -999.0,9,  -999.0,9,  -9.0000,9,-999.0000,9, -999.00,9, -999.00,9,  -999.0,9,  -999.0,-999.000,9,-999.000,-999.000,9,  -9.0000,-999.0000,  14.9669,   -9.00
  316N145_7,       I05E,     395,          1,         14,         14,2,19950404,       0046,   -30.9995,    88.0027,       1197,   133.6,  13.7490,  35.3454,2,  35.3297,2,    237.2,2,   236.8,2,    2.56,2,    4.87,2,    0.18,2,    0.51,2,-999.000,9,-999.000,9,  -999.0,9,  -999.0,9,  -9.0000,9,-999.0000,9, -999.00,9, -999.00,9,  -999.0,9,  -999.0,-999.000,9,-999.000,-999.000,9,  -9.0000,-999.0000,  13.7299,   -9.00
  316N145_7,       I05E,     395,          1,         13,         13,2,19950404,       0046,   -30.9995,    88.0027,       1197,   182.7,  12.8104,  35.2196,2,  35.2103,2,    231.2,2,   235.5,2,    3.17,2,    7.42,2,    0.01,2,    0.64,2,   3.077,2,   1.607,2,  -999.0,9,  -999.0,9,  -9.0000,9,-999.0000,9, -999.00,9, -999.00,9,  -999.0,9,  -999.0,-999.000,9,-999.000,-999.000,9,  -9.0000,-999.0000,  12.7855,   -9.00
  316N145_7,       I05E,     395,          1,         12,         12,2,19950404,       0046,   -30.9995,    88.0027,       1197,   242.3,  12.0608,  35.0907,2,  35.0898,2,    239.5,2,   241.9,2,    3.77,2,    9.05,2,    0.00,2,    0.73,2,-999.000,9,-999.000,9,  -999.0,9,  -999.0,9,  -9.0000,9,-999.0000,9, -999.00,9, -999.00,9,  -999.0,9,  -999.0,-999.000,9,-999.000,-999.000,9,  -9.0000,-999.0000,  12.0290,   -9.00
  316N145_7,       I05E,     395,          1,         11,         11,2,19950404,       0046,   -30.9995,    88.0027,       1197,   301.8,  11.5559,  35.0184,2,  35.0161,2,    242.9,2,   244.5,2,    4.17,2,   10.29,2,    0.00,2,    0.80,2,   3.169,2,   1.646,2,  -999.0,9,  -999.0,9,  -9.0000,9,-999.0000,9, -999.00,9, -999.00,9,  -999.0,9,  -999.0,-999.000,9,-999.000,-999.000,9,  -9.0000,-999.0000,  11.5173,   -9.00
  316N145_7,       I05E,     395,          1,         10,         10,2,19950404,       0046,   -30.9995,    88.0027,       1197,   382.8,  11.0466,  34.9478,2,  34.9416,2,    242.6,2,   242.9,2,    4.35,2,   11.58,2,    0.00,2,    0.88,2,-999.000,9,-999.000,9,  -999.0,9,  -999.0,9,  -9.0000,9,-999.0000,9, -999.00,9, -999.00,9,  -999.0,9,  -999.0,-999.000,9,-999.000,-999.000,9,  -9.0000,-999.0000,  10.9989,   -9.00
  316N145_7,       I05E,     395,          1,          9,          9,2,19950404,       0046,   -30.9995,    88.0027,       1197,   464.3,  10.6279,  34.8846,2,  34.8814,2,    240.5,2,   241.7,2,    4.52,2,   12.61,2,    0.00,2,    0.94,2,-999.000,9,-999.000,9,  -999.0,9,  -999.0,9,  -9.0000,9,-999.0000,9, -999.00,9, -999.00,9,  -999.0,9,  -999.0,-999.000,9,-999.000,-999.000,9,  -9.0000,-999.0000,  10.5713,   -9.00
  316N145_7,       I05E,     395,          1,          8,          8,2,19950404,       0046,   -30.9995,    88.0027,       1197,   555.3,   9.9829,  34.7904,2,  34.7885,2,    240.3,2,   241.5,2,    4.70,2,   14.20,2,    0.00,2,    1.04,2,-999.000,9,-999.000,9,  -999.0,9,  -999.0,9,  -9.0000,9,-999.0000,9, -999.00,9, -999.00,9,  -999.0,9,  -999.0,-999.000,9,-999.000,-999.000,9,  -9.0000,-999.0000,   9.9175,   -9.00
  316N145_7,       I05E,     395,          1,          7,          7,2,19950404,       0046,   -30.9995,    88.0027,       1197,   645.9,   9.2629,  34.6889,2,  34.6830,2,    231.2,2,   230.6,2,    6.37,2,   17.27,2,    0.00,2,    1.23,2,-999.000,9,-999.000,9,  -999.0,9,  -999.0,9,  -9.0000,9,-999.0000,9, -999.00,9, -999.00,9,  -999.0,9,  -999.0,-999.000,9,-999.000,-999.000,9,  -9.0000,-999.0000,   9.1900,   -9.00
  316N145_7,       I05E,     395,          1,          6,          6,2,19950404,       0046,   -30.9995,    88.0027,       1197,   736.2,   8.2636,  34.5715,2,  34.5773,2,    214.4,2,   213.6,2,   10.80,2,   21.23,2,    0.00,2,    1.48,2,   1.838,2,   0.897,2,  -999.0,9,  -999.0,9,  -9.0000,9,-999.0000,9, -999.00,9, -999.00,9,  -999.0,9,  -999.0,-999.000,9,-999.000,   1.563,6,  -9.0000,-999.0000,   8.1855,   -9.00
  316N145_7,       I05E,     395,          1,          5,          5,2,19950404,       0046,   -30.9995,    88.0027,       1197,   827.3,   6.9488,  34.4794,2,  34.4795,2,    201.3,2,   201.1,2,   17.78,2,   25.45,2,    0.00,2,    1.75,2,-999.000,9,-999.000,9,  -999.0,9,  -999.0,9,  -9.0000,9,-999.0000,9, -999.00,9, -999.00,9,  -999.0,9,  -999.0,-999.000,9,-999.000,-999.000,9,  -9.0000,-999.0000,   6.8688,   -9.00
  316N145_7,       I05E,     395,          1,          4,          4,2,19950404,       0046,   -30.9995,    88.0027,       1197,   918.5,   5.5533,  34.3894,3,  34.4029,2,   -999.0,5,   200.6,2,   25.39,2,   28.39,2,    0.00,2,    1.95,2,   0.903,2,   0.444,2,  -999.0,9,  -999.0,9,  -9.0000,9,-999.0000,9, -999.00,9, -999.00,9,  -999.0,9,  -999.0,-999.000,9,-999.000,-999.000,9,  -9.0000,-999.0000,   5.4736,   -9.00
  316N145_7,       I05E,     395,          1,          3,          3,2,19950404,       0046,   -30.9995,    88.0027,       1197,  1008.5,   4.6553,  34.3736,2,  34.3751,2,    197.4,2,   196.5,2,   34.69,2,   30.68,2,    0.00,2,    2.12,2,-999.000,9,-999.000,9,  -999.0,9,  -999.0,9,  -9.0000,9,-999.0000,9, -999.00,9, -999.00,9,  -999.0,9,  -999.0,-999.000,9,-999.000,-999.000,9,  -9.0000,-999.0000,   4.5741,   -9.00
  316N145_7,       I05E,     395,          1,          2,          2,2,19950404,       0046,   -30.9995,    88.0027,       1197,  1109.0,   4.1166,  34.3998,2,  34.3992,2,    188.0,2,   185.1,2,   45.48,2,   32.33,2,    0.00,2,    2.25,2,-999.000,9,-999.000,9,  -999.0,9,  -999.0,9,  -9.0000,9,-999.0000,9, -999.00,9, -999.00,9,  -999.0,9,  -999.0,-999.000,9,-999.000,-999.000,9,  -9.0000,-999.0000,   4.0310,   -9.00
  316N145_7,       I05E,     395,          1,          1,          1,2,19950404,       0046,   -30.9995,    88.0027,       1197,  1202.0,   3.6930,  34.4551,2,  34.4536,2,    170.3,2,   171.3,2,   57.75,2,   33.58,2,    0.00,2,    2.35,2,   0.205,2,   0.096,2,  -999.0,9,  -999.0,9,  -9.0000,9,-999.0000,9, -999.00,9, -999.00,9,  -999.0,9,  -999.0,-999.000,9,-999.000,-999.000,9,  -9.0000,-999.0000,   3.6031,   -9.00