BOTTLE,20211124CCHSIORKP
EXPOCODE,SECT_ID,STNNBR,CASTNO,SAMPNO,BTLNBR,BTLNBR_FLAG_W,DATE,TIME,LATITUDE,LONGITUDE,DEPTH,CTDPRS,CTDTMP,CTDSAL,CTDSAL_FLAG_W,SALNTY,SALNTY_FLAG_W,CTDOXY,CTDOXY_FLAG_W,OXYGEN,OXYGEN_FLAG_W,SILCAT,SILCAT_FLAG_W,NITRAT,NITRAT_FLAG_W,NITRIT,NITRIT_FLAG_W,PHSPHT,PHSPHT_FLAG_W,CFC-11,CFC-11_FLAG_W,CFC-12,CFC-12_FLAG_W,TCARBN,TCARBN_FLAG_W,ALKALI,ALKALI_FLAG_W,TRITUM,TRITUM_FLAG_W,HELIUM,HELIUM_FLAG_W,DELHE3,DELHE3_FLAG_W,DELC13,DELC13_FLAG_W,DELC14,DELC14_FLAG_W,C14ERR,NEON,NEON_FLAG_W,NEONER,CCL4,CCL4_FLAG_W,TRITER,HELIER,THETA,DELHER
,,,,,,,,,,,METERS,DBAR,ITS-90,PSS-78,,PSS-78,,UMOL/KG,,UMOL/KG,,UMOL/KG,,UMOL/KG,,UMOL/KG,,UMOL/KG,,PMOL/KG,,PMOL/KG,,UMOL/KG,,UMOL/KG,,TU,,NMOL/KG,,PERCNT,,/MILLE,,/MILLE,,/MILLE,NMOL/KG,,NMOL/KG,PMOL/KG,,TU,NMOL/KG,DEG C,PERCNT
  316N145_7,      TRANS,     393,          1,         23,         23,2,19950403,       1301,   -29.2998,    87.4717,       1762,     2.0,  23.1838,  36.0529,2,  36.0517,2,    216.0,2,   215.8,2,    2.71,2,    0.19,2,    0.00,2,    0.14,2,   2.024,2,   1.143,2,  -999.0,9,  -999.0,9,  -9.0000,9,-999.0000,9, -999.00,9, -999.00,9,  -999.0,9,  -999.0,-999.000,9,-999.000,-999.000,9,  -9.0000,-999.0000,  23.1834,   -9.00
  316N145_7,      TRANS,     393,          1,         22,         22,2,19950403,       1301,   -29.2998,    87.4717,       1762,    24.2,  23.1161,  36.0528,2,  36.0503,2,    212.1,2,   216.0,2,    2.48,2,    0.18,2,    0.00,2,    0.14,2,-999.000,9,-999.000,9,  -999.0,9,  -999.0,9,  -9.0000,9,-999.0000,9, -999.00,9, -999.00,9,  -999.0,9,  -999.0,-999.000,9,-999.000,-999.000,9,  -9.0000,-999.0000,  23.1111,   -9.00
  316N145_7,      TRANS,     393,          1,         21,         21,2,19950403,       1301,   -29.2998,    87.4717,       1762,    44.5,  18.4653,  35.6637,2,  35.6911,2,    250.5,2,   256.5,2,    2.26,2,    0.18,2,    0.00,2,    0.16,2,   2.689,2,   1.462,2,  -999.0,9,  -999.0,9,  -9.0000,9,-999.0000,9, -999.00,9, -999.00,9,  -999.0,9,  -999.0,-999.000,9,-999.000,-999.000,9,  -9.0000,-999.0000,  18.4575,   -9.00
  316N145_7,      TRANS,     393,          1,         20,         20,2,19950403,       1301,   -29.2998,    87.4717,       1762,    74.7,  16.5051,  35.5566,2,  35.5634,2,    259.7,2,   261.0,2,    2.24,2,    0.18,2,    0.00,2,    0.20,2,-999.000,9,-999.000,9,  -999.0,9,  -999.0,9,  -9.0000,9,-999.0000,9, -999.00,9, -999.00,9,  -999.0,9,  -999.0,-999.000,9,-999.000,-999.000,9,  -9.0000,-999.0000,  16.4930,   -9.00
  316N145_7,      TRANS,     393,          1,         19,         19,2,19950403,       1301,   -29.2998,    87.4717,       1762,   114.4,  14.7376,  35.4500,2,  35.4531,2,    250.4,2,   244.9,2,    2.23,2,    0.90,2,    0.06,2,    0.33,2,   2.904,2,   1.558,2,  -999.0,9,  -999.0,9,  -9.0000,9,-999.0000,9, -999.00,9, -999.00,9,  -999.0,9,  -999.0,-999.000,9,-999.000,-999.000,9,  -9.0000,-999.0000,  14.7205,   -9.00
  316N145_7,      TRANS,     393,          1,         18,         18,2,19950403,       1301,   -29.2998,    87.4717,       1762,   153.9,  13.6763,  35.3339,2,  35.3340,2,    234.7,2,   234.1,2,    2.87,2,    5.35,2,    0.04,2,    0.54,2,-999.000,9,-999.000,9,  -999.0,9,  -999.0,9,  -9.0000,9,-999.0000,9, -999.00,9, -999.00,9,  -999.0,9,  -999.0,-999.000,9,-999.000,-999.000,9,  -9.0000,-999.0000,  13.6544,   -9.00
  316N145_7,      TRANS,     393,          1,         17,         17,2,19950403,       1301,   -29.2998,    87.4717,       1762,   203.2,  12.7795,  35.2145,2,  35.2136,2,    234.8,2,   233.7,2,    3.50,2,    7.75,2,    0.01,2,    0.66,2,   3.083,2,   1.635,2,  -999.0,9,  -999.0,9,  -9.0000,9,-999.0000,9, -999.00,9, -999.00,9,  -999.0,9,  -999.0,-999.000,9,-999.000,-999.000,9,  -9.0000,-999.0000,  12.7518,   -9.00
  316N145_7,      TRANS,     393,          1,         16,         16,2,19950403,       1301,   -29.2998,    87.4717,       1762,   253.4,  12.1728,  35.1202,2,  35.1173,2,    235.3,2,   236.1,2,    3.92,2,    9.28,2,    0.00,2,    0.75,2,-999.000,9,-999.000,9,  -999.0,9,  -999.0,9,  -9.0000,9,-999.0000,9, -999.00,9, -999.00,9,  -999.0,9,  -999.0,-999.000,9,-999.000,-999.000,9,  -9.0000,-999.0000,  12.1393,   -9.00
  316N145_7,      TRANS,     393,          1,         15,         15,2,19950403,       1301,   -29.2998,    87.4717,       1762,   304.5,  11.7376,  35.0536,2,  35.0478,2,    237.9,2,   238.2,2,    4.12,2,   10.22,2,    0.00,2,    0.81,2,   3.122,2,   1.636,2,  -999.0,9,  -999.0,9,  -9.0000,9,-999.0000,9, -999.00,9, -999.00,9,  -999.0,9,  -999.0,-999.000,9,-999.000,-999.000,9,  -9.0000,-999.0000,  11.6982,   -9.00
  316N145_7,      TRANS,     393,          1,         14,         14,2,19950403,       1301,   -29.2998,    87.4717,       1762,   353.9,  11.2364,  34.9744,2,  34.9740,2,    238.4,2,   240.4,2,    4.54,2,   11.25,2,    0.00,2,    0.87,2,-999.000,9,-999.000,9,  -999.0,9,  -999.0,9,  -9.0000,9,-999.0000,9, -999.00,9, -999.00,9,  -999.0,9,  -999.0,-999.000,9,-999.000,-999.000,9,  -9.0000,-999.0000,  11.1919,   -9.00
  316N145_7,      TRANS,     393,          1,         13,         13,2,19950403,       1301,   -29.2998,    87.4717,       1762,   403.4,  10.9117,  34.9276,2,  34.9309,2,    241.4,2,   241.5,2,    4.53,2,   11.89,2,    0.00,2,    0.91,2,-999.000,9,-999.000,9,  -999.0,9,  -999.0,9,  -9.0000,9,-999.0000,9, -999.00,9, -999.00,9,  -999.0,9,  -999.0,-999.000,9,-999.000,-999.000,9,  -9.0000,-999.0000,  10.8618,   -9.00
  316N145_7,      TRANS,     393,          1,         12,         12,2,19950403,       1301,   -29.2998,    87.4717,       1762,   473.6,  10.3849,  34.8498,2,  34.8471,2,    238.8,2,   240.5,2,    4.95,2,   13.32,2,    0.00,2,    1.00,2,   3.035,2,   1.576,2,  -999.0,9,  -999.0,9,  -9.0000,9,-999.0000,9, -999.00,9, -999.00,9,  -999.0,9,  -999.0,-999.000,9,-999.000,-999.000,9,  -9.0000,-999.0000,  10.3280,   -9.00
  316N145_7,      TRANS,     393,          1,         11,         11,2,19950403,       1301,   -29.2998,    87.4717,       1762,   553.5,   9.7586,  34.7527,2,  34.7514,2,    236.4,2,   237.5,2,    5.58,2,   15.34,2,    0.00,2,    1.12,2,-999.000,9,-999.000,9,  -999.0,9,  -999.0,9,  -9.0000,9,-999.0000,9, -999.00,9, -999.00,9,  -999.0,9,  -999.0,-999.000,9,-999.000,-999.000,9,  -9.0000,-999.0000,   9.6944,   -9.00
  316N145_7,      TRANS,     393,          1,         10,         10,2,19950403,       1301,   -29.2998,    87.4717,       1762,   654.3,   8.7355,  34.6213,2,  34.6203,2,    223.6,2,   222.2,2,    8.58,2,   19.44,2,    0.00,2,    1.37,2,-999.000,9,-999.000,9,  -999.0,9,  -999.0,9,  -9.0000,9,-999.0000,9, -999.00,9, -999.00,9,  -999.0,9,  -999.0,-999.000,9,-999.000,-999.000,9,  -9.0000,-999.0000,   8.6641,   -9.00
  316N145_7,      TRANS,     393,          1,          9,          9,2,19950403,       1301,   -29.2998,    87.4717,       1762,   754.0,   7.2711,  34.4995,2,  34.5017,2,    206.0,2,   202.7,2,   16.54,2,   24.59,2,    0.00,2,    1.70,2,-999.000,9,-999.000,9,  -999.0,9,  -999.0,9,  -9.0000,9,-999.0000,9, -999.00,9, -999.00,9,  -999.0,9,  -999.0,-999.000,9,-999.000,-999.000,9,  -9.0000,-999.0000,   7.1967,   -9.00
  316N145_7,      TRANS,     393,          1,          8,          8,2,19950403,       1301,   -29.2998,    87.4717,       1762,   856.3,   5.7053,  34.4143,2,  34.4171,2,    196.8,2,   196.0,2,   26.64,2,   28.51,2,    0.00,2,    1.97,2,-999.000,9,-999.000,9,  -999.0,9,  -999.0,9,  -9.0000,9,-999.0000,9, -999.00,9, -999.00,9,  -999.0,9,  -999.0,-999.000,9,-999.000,-999.000,9,  -9.0000,-999.0000,   5.6304,   -9.00
  316N145_7,      TRANS,     393,          1,          7,          7,2,19950403,       1301,   -29.2998,    87.4717,       1762,   956.7,   4.5256,  34.3992,2,  34.4017,2,    186.1,2,   185.3,2,   41.68,2,   31.55,2,    0.00,2,    2.20,2,-999.000,9,-999.000,9,  -999.0,9,  -999.0,9,  -9.0000,9,-999.0000,9, -999.00,9, -999.00,9,  -999.0,9,  -999.0,-999.000,9,-999.000,-999.000,9,  -9.0000,-999.0000,   4.4499,   -9.00
  316N145_7,      TRANS,     393,          1,          6,          6,2,19950403,       1301,   -29.2998,    87.4717,       1762,  1056.9,   4.0648,  34.4380,2,  34.4390,2,    173.7,2,   171.0,2,   54.15,2,   33.20,2,    0.00,2,    2.33,2,-999.000,9,-999.000,9,  -999.0,9,  -999.0,9,  -9.0000,9,-999.0000,9, -999.00,9, -999.00,9,  -999.0,9,  -999.0,-999.000,9,-999.000,-999.000,9,  -9.0000,-999.0000,   3.9840,   -9.00
  316N145_7,      TRANS,     393,          1,          5,          5,2,19950403,       1301,   -29.2998,    87.4717,       1762,  1208.4,   3.6105,  34.5128,2,  34.5125,2,    154.6,2,   154.0,2,   70.49,2,   34.65,2,    0.00,2,    2.46,2,-999.000,9,-999.000,9,  -999.0,9,  -999.0,9,  -9.0000,9,-999.0000,9, -999.00,9, -999.00,9,  -999.0,9,  -999.0,-999.000,9,-999.000,-999.000,9,  -9.0000,-999.0000,   3.5208,   -9.00
  316N145_7,      TRANS,     393,          1,          4,          4,2,19950403,       1301,   -29.2998,    87.4717,       1762,  1360.8,   3.2341,  34.5723,2,  34.5712,2,    150.8,2,   150.7,2,   79.52,2,   34.85,2,    0.00,2,    2.47,2,-999.000,9,-999.000,9,  -999.0,9,  -999.0,9,  -9.0000,9,-999.0000,9, -999.00,9, -999.00,9,  -999.0,9,  -999.0,-999.000,9,-999.000,-999.000,9,  -9.0000,-999.0000,   3.1353,   -9.00
  316N145_7,      TRANS,     393,          1,          3,          3,2,19950403,       1301,   -29.2998,    87.4717,       1762,  1512.7,   3.0152,  34.6200,2,  34.6185,2,    149.4,2,   150.4,2,   86.19,2,   34.70,2,    0.00,2,    2.46,2,-999.000,9,-999.000,9,  -999.0,9,  -999.0,9,  -9.0000,9,-999.0000,9, -999.00,9, -999.00,9,  -999.0,9,  -999.0,-999.000,9,-999.000,-999.000,9,  -9.0000,-999.0000,   2.9060,   -9.00
  316N145_7,      TRANS,     393,          1,          2,          2,2,19950403,       1301,   -29.2998,    87.4717,       1762,  1664.5,   2.7939,  34.6517,2,  34.6527,2,    153.8,2,   154.5,2,   90.48,2,   34.25,2,    0.00,2,    2.42,2,   0.005,2,   0.004,2,  -999.0,9,  -999.0,9,  -9.0000,9,-999.0000,9, -999.00,9, -999.00,9,  -999.0,9,  -999.0,-999.000,9,-999.000,-999.000,9,  -9.0000,-999.0000,   2.6745,   -9.00
  316N145_7,      TRANS,     393,          1,          1,          1,2,19950403,       1301,   -29.2998,    87.4717,       1762,  1831.4,   2.6737,  34.6708,2,  34.6716,2,    157.2,2,   157.4,2,   93.04,2,   33.90,2,    0.00,2,    2.40,2,   0.003,2,   0.003,2,  -999.0,9,  -999.0,9,  -9.0000,9,-999.0000,9, -999.00,9, -999.00,9,  -999.0,9,  -999.0,-999.000,9,-999.000,-999.000,9,  -9.0000,-999.0000,   2.5417,   -9.00