BOTTLE,20211124CCHSIORKP
EXPOCODE,SECT_ID,STNNBR,CASTNO,SAMPNO,BTLNBR,BTLNBR_FLAG_W,DATE,TIME,LATITUDE,LONGITUDE,DEPTH,CTDPRS,CTDTMP,CTDSAL,CTDSAL_FLAG_W,SALNTY,SALNTY_FLAG_W,CTDOXY,CTDOXY_FLAG_W,OXYGEN,OXYGEN_FLAG_W,SILCAT,SILCAT_FLAG_W,NITRAT,NITRAT_FLAG_W,NITRIT,NITRIT_FLAG_W,PHSPHT,PHSPHT_FLAG_W,CFC-11,CFC-11_FLAG_W,CFC-12,CFC-12_FLAG_W,TCARBN,TCARBN_FLAG_W,ALKALI,ALKALI_FLAG_W,TRITUM,TRITUM_FLAG_W,HELIUM,HELIUM_FLAG_W,DELHE3,DELHE3_FLAG_W,DELC13,DELC13_FLAG_W,DELC14,DELC14_FLAG_W,C14ERR,NEON,NEON_FLAG_W,NEONER,CCL4,CCL4_FLAG_W,TRITER,HELIER,THETA,DELHER
,,,,,,,,,,,METERS,DBAR,ITS-90,PSS-78,,PSS-78,,UMOL/KG,,UMOL/KG,,UMOL/KG,,UMOL/KG,,UMOL/KG,,UMOL/KG,,PMOL/KG,,PMOL/KG,,UMOL/KG,,UMOL/KG,,TU,,NMOL/KG,,PERCNT,,/MILLE,,/MILLE,,/MILLE,NMOL/KG,,NMOL/KG,PMOL/KG,,TU,NMOL/KG,DEG C,PERCNT
  316N145_7,       I08N,     331,          1,         36,         36,2,19950321,       0938,   -12.4998,    80.0002,       5020,     1.9,  28.9230,  34.5983,2,  34.5977,2,    196.8,2,   199.0,2,    3.00,2,    0.14,2,    0.00,2,    0.10,2,-999.000,9,-999.000,9,  1927.6,2,  2269.3,2,  -9.0000,9,-999.0000,9, -999.00,9,    0.97,2,    75.8,2,     4.6,-999.000,9,-999.000,-999.000,9,  -9.0000,-999.0000,  28.9225,   -9.00
  316N145_7,       I08N,     331,          1,         35,         35,2,19950321,       0938,   -12.4998,    80.0002,       5020,    31.5,  28.7910,  34.6334,2,  34.6158,2,    199.8,2,   198.2,2,    2.77,2,    0.14,2,    0.00,2,    0.10,2,-999.000,9,-999.000,9,  -999.0,9,  -999.0,9,  -9.0000,9,-999.0000,9, -999.00,9, -999.00,9,  -999.0,9,  -999.0,-999.000,9,-999.000,-999.000,9,  -9.0000,-999.0000,  28.7835,   -9.00
  316N145_7,       I08N,     331,          1,         34,         34,2,19950321,       0938,   -12.4998,    80.0002,       5020,    56.4,  26.2992,  34.5877,2,  34.5932,2,    211.2,2,   206.8,2,    3.38,2,    0.14,2,    0.00,2,    0.14,2,-999.000,9,-999.000,9,  -999.0,9,  -999.0,9,  -9.0000,9,-999.0000,9, -999.00,9,    0.84,2,    68.0,2,     4.1,-999.000,9,-999.000,-999.000,9,  -9.0000,-999.0000,  26.2865,   -9.00
  316N145_7,       I08N,     331,          1,         33,         33,2,19950321,       0938,   -12.4998,    80.0002,       5020,    84.3,  23.6073,  34.6016,2,  34.5891,2,    159.3,2,   157.6,2,    7.31,2,    6.90,2,    0.14,2,    0.58,2,-999.000,9,-999.000,9,  -999.0,9,  -999.0,9,  -9.0000,9,-999.0000,9, -999.00,9, -999.00,9,  -999.0,9,  -999.0,-999.000,9,-999.000,-999.000,9,  -9.0000,-999.0000,  23.5898,   -9.00
  316N145_7,       I08N,     331,          1,         32,         32,2,19950321,       0938,   -12.4998,    80.0002,       5020,   126.1,  19.5701,  34.7647,2,  34.5926,2,    102.3,2,    97.0,2,   18.73,2,   16.97,2,    0.10,2,    1.18,2,-999.000,9,-999.000,9,  -999.0,9,  -999.0,9,  -9.0000,9,-999.0000,9, -999.00,9,    0.29,2,    42.2,2,     3.1,-999.000,9,-999.000,-999.000,9,  -9.0000,-999.0000,  19.5472,   -9.00
  316N145_7,       I08N,     331,          1,         31,         31,2,19950321,       0938,   -12.4998,    80.0002,       5020,   166.3,  17.5411,  35.0118,2,  35.0108,2,     83.6,2,    80.8,2,   19.75,2,   20.41,2,    0.02,2,    1.41,2,-999.000,9,-999.000,9,  -999.0,9,  -999.0,9,  -9.0000,9,-999.0000,9, -999.00,9,    0.29,2,    39.1,2,     3.0,-999.000,9,-999.000,-999.000,9,  -9.0000,-999.0000,  17.5131,   -9.00
  316N145_7,       I08N,     331,          1,         30,         30,2,19950321,       0938,   -12.4998,    80.0002,       5020,   217.1,  14.7069,  34.9618,2,  34.9636,2,     98.9,2,   110.3,2,   25.36,2,   19.47,2,    0.01,2,    1.38,2,-999.000,9,-999.000,9,  -999.0,9,  -999.0,9,  -9.0000,9,-999.0000,9, -999.00,9,    0.47,2,    28.1,2,     3.8,-999.000,9,-999.000,-999.000,9,  -9.0000,-999.0000,  14.6745,   -9.00
  316N145_7,       I08N,     331,          1,         29,         29,2,19950321,       0938,   -12.4998,    80.0002,       5020,   276.5,  12.8907,  35.0678,2,  35.0586,2,    151.8,2,   138.3,2,   21.17,2,   18.19,2,    0.01,2,    1.31,2,-999.000,9,-999.000,9,  -999.0,9,  -999.0,9,  -9.0000,9,-999.0000,9, -999.00,9, -999.00,9,  -999.0,9,  -999.0,-999.000,9,-999.000,-999.000,9,  -9.0000,-999.0000,  12.8527,   -9.00
  316N145_7,       I08N,     331,          1,         28,         28,2,19950321,       0938,   -12.4998,    80.0002,       5020,   306.5,  11.9821,  34.9862,2,  35.0215,2,    123.5,2,   162.5,2,   17.61,2,   16.96,2,    0.00,2,    1.23,2,-999.000,9,-999.000,9,  -999.0,9,  -999.0,9,  -9.0000,9,-999.0000,9, -999.00,9,    0.89,2,    37.0,2,     5.0,-999.000,9,-999.000,-999.000,9,  -9.0000,-999.0000,  11.9420,   -9.00
  316N145_7,       I08N,     331,          1,         27,         27,2,19950321,       0938,   -12.4998,    80.0002,       5020,   357.1,  10.6499,  34.8624,2,  34.8473,2,    136.7,2,   145.1,2,   23.43,2,   21.75,2,    0.00,2,    1.52,2,-999.000,9,-999.000,9,  -999.0,9,  -999.0,9,  -9.0000,9,-999.0000,9, -999.00,9,    0.79,2,    -2.4,2,     3.0,-999.000,9,-999.000,-999.000,9,  -9.0000,-999.0000,  10.6065,   -9.00
  316N145_7,       I08N,     331,          1,         26,         26,2,19950321,       0938,   -12.4998,    80.0002,       5020,   407.0,   9.6453,  34.7559,2,  34.7616,2,    124.9,2,   130.5,2,   28.61,2,   25.42,2,    0.00,2,    1.75,2,-999.000,9,-999.000,9,  -999.0,9,  -999.0,9,  -9.0000,9,-999.0000,9, -999.00,9, -999.00,9,  -999.0,9,  -999.0,-999.000,9,-999.000,-999.000,9,  -9.0000,-999.0000,   9.5987,   -9.00
  316N145_7,       I08N,     331,          1,         25,         25,2,19950321,       0938,   -12.4998,    80.0002,       5020,   482.4,   8.7354,  34.6983,2,  34.6975,2,    135.6,2,   137.1,2,   30.68,2,   27.09,2,    0.00,2,    1.86,2,-999.000,9,-999.000,9,  -999.0,9,  -999.0,9,  -9.0000,9,-999.0000,9, -999.00,9,    0.58,2,   -47.9,2,     3.2,-999.000,9,-999.000,-999.000,9,  -9.0000,-999.0000,   8.6832,   -9.00
  316N145_7,       I08N,     331,          1,         24,         24,2,19950321,       0938,   -12.4998,    80.0002,       5020,   556.7,   8.0786,  34.7257,2,  34.7264,2,     91.2,2,    92.3,2,   49.40,2,   32.30,2,    0.00,2,    2.26,2,-999.000,9,-999.000,9,  -999.0,9,  -999.0,9,  -9.0000,9,-999.0000,9, -999.00,9,    0.44,2,  -100.9,2,     2.6,-999.000,9,-999.000,-999.000,9,  -9.0000,-999.0000,   8.0209,   -9.00
  316N145_7,       I08N,     331,          1,         23,         23,2,19950321,       0938,   -12.4998,    80.0002,       5020,   658.2,   7.2171,  34.7004,2,  34.6985,2,     80.3,2,    82.1,2,   64.59,2,   34.61,2,    0.00,2,    2.46,2,-999.000,9,-999.000,9,  -999.0,9,  -999.0,9,  -9.0000,9,-999.0000,9, -999.00,9,    0.28,2,  -134.9,2,     3.7,-999.000,9,-999.000,-999.000,9,  -9.0000,-999.0000,   7.1527,   -9.00
  316N145_7,       I08N,     331,          1,         22,         22,2,19950321,       0938,   -12.4998,    80.0002,       5020,   783.9,   6.3763,  34.6846,2,  34.6865,2,     82.0,2,    83.3,2,   76.47,2,   35.67,2,    0.00,2,    2.56,2,-999.000,9,-999.000,9,  -999.0,9,  -999.0,9,  -9.0000,9,-999.0000,9, -999.00,9,    0.06,2,  -149.8,2,     3.8,-999.000,9,-999.000,-999.000,9,  -9.0000,-999.0000,   6.3038,   -9.00
  316N145_7,       I08N,     331,          1,         21,         21,2,19950321,       0938,   -12.4998,    80.0002,       5020,   936.4,   5.5685,  34.6714,2,  34.6728,2,     85.3,2,    85.2,2,   89.21,2,   36.44,2,    0.00,2,    2.63,2,-999.000,9,-999.000,9,  -999.0,9,  -999.0,9,  -9.0000,9,-999.0000,9, -999.00,9,   -0.12,2,  -173.4,2,     3.3,-999.000,9,-999.000,-999.000,9,  -9.0000,-999.0000,   5.4866,   -9.00
  316N145_7,       I08N,     331,          1,         20,         20,2,19950321,       0938,   -12.4998,    80.0002,       5020,  1111.6,   4.9003,  34.6737,2,  34.6739,2,     90.6,2,    90.6,2,   98.64,2,   36.78,2,    0.00,2,    2.65,2,-999.000,9,-999.000,9,  -999.0,9,  -999.0,9,  -9.0000,9,-999.0000,9, -999.00,9,   -0.20,2,  -189.5,2,     3.9,-999.000,9,-999.000,-999.000,9,  -9.0000,-999.0000,   4.8073,   -9.00
  316N145_7,       I08N,     331,          1,         19,         19,2,19950321,       0938,   -12.4998,    80.0002,       5020,  1313.8,   4.2093,  34.6897,2,  34.6910,2,     99.0,2,   100.2,2,  104.94,2,   36.78,2,    0.00,2,    2.65,2,-999.000,9,-999.000,9,  -999.0,9,  -999.0,9,  -9.0000,9,-999.0000,9, -999.00,9,    0.12,2,  -192.4,2,     3.9,-999.000,9,-999.000,-999.000,9,  -9.0000,-999.0000,   4.1043,   -9.00
  316N145_7,       I08N,     331,          1,         18,         18,2,19950321,       0938,   -12.4998,    80.0002,       5020,  1515.8,   3.5723,  34.7174,2,  34.7180,2,    114.5,2,   113.3,2,  108.51,2,   36.29,2,    0.00,2,    2.61,2,-999.000,9,-999.000,9,  -999.0,9,  -999.0,9,  -9.0000,9,-999.0000,9, -999.00,9,    0.15,2,  -226.9,3,     6.7,-999.000,9,-999.000,-999.000,9,  -9.0000,-999.0000,   3.4562,   -9.00
  316N145_7,       I08N,     331,          1,         17,         17,2,19950321,       0938,   -12.4998,    80.0002,       5020,  1719.4,   3.0757,  34.7342,2,  34.7353,2,    127.4,2,   126.7,2,  112.29,2,   35.76,2,    0.00,2,    2.55,2,-999.000,9,-999.000,9,  -999.0,9,  -999.0,9,  -9.0000,9,-999.0000,9, -999.00,9,    0.16,2,  -197.8,2,     4.0,-999.000,9,-999.000,-999.000,9,  -9.0000,-999.0000,   2.9478,   -9.00
  316N145_7,       I08N,     331,          1,         16,         16,2,19950321,       0938,   -12.4998,    80.0002,       5020,  1920.3,   2.6648,  34.7407,2,  34.7412,2,    140.1,2,   139.3,2,  115.24,2,   35.19,2,    0.00,2,    2.50,2,-999.000,9,-999.000,9,  -999.0,9,  -999.0,9,  -9.0000,9,-999.0000,9, -999.00,9,    0.08,2,  -189.7,2,     4.1,-999.000,9,-999.000,-999.000,9,  -9.0000,-999.0000,   2.5250,   -9.00
  316N145_7,       I08N,     331,          1,         15,         15,2,19950321,       0938,   -12.4998,    80.0002,       5020,  2122.1,   2.2940,  34.7365,2,  34.7362,2,    152.1,2,   152.2,2,  117.55,2,   34.56,2,    0.00,2,    2.44,2,-999.000,9,-999.000,9,  -999.0,9,  -999.0,9,  -9.0000,9,-999.0000,9, -999.00,9,    0.23,2,  -180.2,2,     3.1,-999.000,9,-999.000,-999.000,9,  -9.0000,-999.0000,   2.1421,   -9.00
  316N145_7,       I08N,     331,          1,         14,         14,2,19950321,       0938,   -12.4998,    80.0002,       5020,  2325.3,   2.0659,  34.7330,2,  34.7331,2,    160.9,2,   159.9,2,  119.01,2,   34.22,2,    0.00,2,    2.40,2,-999.000,9,-999.000,9,  -999.0,9,  -999.0,9,  -9.0000,9,-999.0000,9, -999.00,9,    0.28,2,  -176.7,2,     3.0,-999.000,9,-999.000,-999.000,9,  -9.0000,-999.0000,   1.8999,   -9.00
  316N145_7,       I08N,     331,          1,         13,         13,2,19950321,       0938,   -12.4998,    80.0002,       5020,  2529.7,   1.8960,  34.7303,2,  34.7302,2,    166.4,2,   165.9,2,  120.26,2,   33.93,2,    0.00,2,    2.37,2,-999.000,9,-999.000,9,  -999.0,9,  -999.0,9,  -9.0000,9,-999.0000,9, -999.00,9,    0.27,2,  -188.7,2,     3.2,-999.000,9,-999.000,-999.000,9,  -9.0000,-999.0000,   1.7146,   -9.00
  316N145_7,       I08N,     331,          1,         12,         12,2,19950321,       0938,   -12.4998,    80.0002,       5020,  2732.7,   1.7857,  34.7288,2,  34.7286,2,    169.9,2,   169.5,2,  122.37,2,   33.84,2,    0.00,2,    2.36,2,-999.000,9,-999.000,9,  -999.0,9,  -999.0,9,  -9.0000,9,-999.0000,9, -999.00,9,    0.00,3,  -183.8,2,     4.1,-999.000,9,-999.000,-999.000,9,  -9.0000,-999.0000,   1.5877,   -9.00
  316N145_7,       I08N,     331,          1,         11,         11,2,19950321,       0938,   -12.4998,    80.0002,       5020,  2935.1,   1.6876,  34.7269,2,  34.7270,2,    171.9,2,   170.6,2,  125.12,2,   33.93,2,    0.00,2,    2.36,2,-999.000,9,-999.000,9,  -999.0,9,  -999.0,9,  -9.0000,9,-999.0000,9, -999.00,9,    0.15,2,  -190.4,2,     5.8,-999.000,9,-999.000,-999.000,9,  -9.0000,-999.0000,   1.4727,   -9.00
  316N145_7,       I08N,     331,          1,         10,         10,2,19950321,       0938,   -12.4998,    80.0002,       5020,  3138.6,   1.6041,  34.7251,2,  34.7245,2,    171.9,2,   171.0,2,  128.10,2,   34.03,2,    0.00,2,    2.36,2,-999.000,9,-999.000,9,  -999.0,9,  -999.0,9,  -9.0000,9,-999.0000,9, -999.00,9,    0.14,2,  -201.4,2,     3.0,-999.000,9,-999.000,-999.000,9,  -9.0000,-999.0000,   1.3714,   -9.00
  316N145_7,       I08N,     331,          1,          9,          9,2,19950321,       0938,   -12.4998,    80.0002,       5020,  3368.1,   1.4939,  34.7225,2,  34.7217,2,    174.4,2,   175.3,2,  128.93,2,   33.84,2,    0.00,2,    2.35,2,-999.000,9,-999.000,9,  -999.0,9,  -999.0,9,  -9.0000,9,-999.0000,9, -999.00,9,    0.14,2,  -191.8,2,     4.2,-999.000,9,-999.000,-999.000,9,  -9.0000,-999.0000,   1.2410,   -9.00
  316N145_7,       I08N,     331,          1,          8,          8,2,19950321,       0938,   -12.4998,    80.0002,       5020,  3595.5,   1.4183,  34.7206,2,  34.7205,2,    177.3,2,   178.7,2,  129.76,2,   33.74,2,    0.00,2,    2.34,2,-999.000,9,-999.000,9,  -999.0,9,  -999.0,9,  -9.0000,9,-999.0000,9, -999.00,9,    0.12,2,  -193.4,2,     3.0,-999.000,9,-999.000,-999.000,9,  -9.0000,-999.0000,   1.1443,   -9.00
  316N145_7,       I08N,     331,          1,          7,          7,2,19950321,       0938,   -12.4998,    80.0002,       5020,  3827.7,   1.3592,  34.7188,2,  34.7186,2,    178.7,7,   181.5,2,  130.80,2,   33.60,3,    0.00,2,    2.33,2,-999.000,9,-999.000,9,  -999.0,9,  -999.0,9,  -9.0000,9,-999.0000,9, -999.00,9,    0.12,2,  -190.1,2,     3.2,-999.000,9,-999.000,-999.000,9,  -9.0000,-999.0000,   1.0624,   -9.00
  316N145_7,       I08N,     331,          1,          6,          6,2,19950321,       0938,   -12.4998,    80.0002,       5020,  4058.0,   1.3477,  34.7175,2,  34.7174,2,    180.9,7,   181.8,2,  132.28,2,   33.79,2,    0.00,2,    2.33,2,-999.000,9,-999.000,9,  -999.0,9,  -999.0,9,  -9.0000,9,-999.0000,9, -999.00,9,    0.16,2,  -195.1,2,     3.7,-999.000,9,-999.000,-999.000,9,  -9.0000,-999.0000,   1.0266,   -9.00
  316N145_7,       I08N,     331,          1,          5,          5,2,19950321,       0938,   -12.4998,    80.0002,       5020,  4288.6,   1.3609,  34.7171,2,  34.7166,2,    182.8,2,   182.0,2,  132.68,2,   33.79,2,    0.00,2,    2.33,2,-999.000,9,-999.000,9,  -999.0,9,  -999.0,9,  -9.0000,9,-999.0000,9, -999.00,9,   -0.67,4,  -211.0,2,     3.9,-999.000,9,-999.000,-999.000,9,  -9.0000,-999.0000,   1.0139,   -9.00
  316N145_7,       I08N,     331,          1,          4,          4,2,19950321,       0938,   -12.4998,    80.0002,       5020,  4519.8,   1.3823,  34.7165,2,  34.7166,2,    182.9,2,   182.1,2,  133.08,2,   33.79,2,    0.00,2,    2.33,2,-999.000,9,-999.000,9,  -999.0,9,  -999.0,9,  -9.0000,9,-999.0000,9, -999.00,9,    0.14,2,  -205.0,2,     3.8,-999.000,9,-999.000,-999.000,9,  -9.0000,-999.0000,   1.0085,   -9.00
  316N145_7,       I08N,     331,          1,          3,          3,2,19950321,       0938,   -12.4998,    80.0002,       5020,  4749.3,   1.4025,  34.7167,2,  34.7160,2,    182.4,2,   182.3,2,  133.26,2,   33.84,2,    0.00,2,    2.33,2,-999.000,9,-999.000,9,  -999.0,9,  -999.0,9,  -9.0000,9,-999.0000,9, -999.00,9, -999.00,5,  -999.0,5,  -999.0,-999.000,9,-999.000,-999.000,9,  -9.0000,-999.0000,   1.0014,   -9.00
  316N145_7,       I08N,     331,          1,          2,          2,2,19950321,       0938,   -12.4998,    80.0002,       5020,  4928.6,   1.4147,  34.7167,2,  34.7156,2,    183.1,2,   182.4,2,  133.02,2,   33.79,2,    0.00,2,    2.33,2,-999.000,9,-999.000,9,  -999.0,9,  -999.0,9,  -9.0000,9,-999.0000,9, -999.00,9,    0.09,2,  -202.3,2,     3.1,-999.000,9,-999.000,-999.000,9,  -9.0000,-999.0000,   0.9918,   -9.00
  316N145_7,       I08N,     331,          1,          1,          1,2,19950321,       0938,   -12.4998,    80.0002,       5020,  5123.7,   1.4314,  34.7166,2,  34.7160,2,    182.7,2,   182.9,2,  132.99,2,   33.84,2,    0.00,2,    2.33,2,-999.000,9,-999.000,9,  -999.0,9,  -999.0,9,  -9.0000,9,-999.0000,9, -999.00,9,    0.17,2,  -197.0,2,     3.5,-999.000,9,-999.000,-999.000,9,  -9.0000,-999.0000,   0.9842,   -9.00