BOTTLE,20211124CCHSIORKP
EXPOCODE,SECT_ID,STNNBR,CASTNO,SAMPNO,BTLNBR,BTLNBR_FLAG_W,DATE,TIME,LATITUDE,LONGITUDE,DEPTH,CTDPRS,CTDTMP,CTDSAL,CTDSAL_FLAG_W,SALNTY,SALNTY_FLAG_W,CTDOXY,CTDOXY_FLAG_W,OXYGEN,OXYGEN_FLAG_W,SILCAT,SILCAT_FLAG_W,NITRAT,NITRAT_FLAG_W,NITRIT,NITRIT_FLAG_W,PHSPHT,PHSPHT_FLAG_W,CFC-11,CFC-11_FLAG_W,CFC-12,CFC-12_FLAG_W,TCARBN,TCARBN_FLAG_W,ALKALI,ALKALI_FLAG_W,TRITUM,TRITUM_FLAG_W,HELIUM,HELIUM_FLAG_W,DELHE3,DELHE3_FLAG_W,DELC13,DELC13_FLAG_W,DELC14,DELC14_FLAG_W,C14ERR,NEON,NEON_FLAG_W,NEONER,CCL4,CCL4_FLAG_W,TRITER,HELIER,THETA,DELHER
,,,,,,,,,,,METERS,DBAR,ITS-90,PSS-78,,PSS-78,,UMOL/KG,,UMOL/KG,,UMOL/KG,,UMOL/KG,,UMOL/KG,,UMOL/KG,,PMOL/KG,,PMOL/KG,,UMOL/KG,,UMOL/KG,,TU,,NMOL/KG,,PERCNT,,/MILLE,,/MILLE,,/MILLE,NMOL/KG,,NMOL/KG,PMOL/KG,,TU,NMOL/KG,DEG C,PERCNT
  316N145_7,      TRANS,     385,          1,         36,         36,2,19950401,       2216,   -27.6498,    85.4832,       3992,     2.6,  25.2777,  35.6647,2,  35.6646,2,    207.3,2,   207.2,2,    2.82,2,    0.15,2,    0.00,2,    0.11,2,   1.894,2,   1.053,2,  1992.3,2,  2334.1,2,  -9.0000,9,-999.0000,9, -999.00,9, -999.00,9,  -999.0,9,  -999.0,-999.000,9,-999.000,-999.000,9,  -9.0000,-999.0000,  25.2772,   -9.00
  316N145_7,      TRANS,     385,          1,         35,         35,2,19950401,       2216,   -27.6498,    85.4832,       3992,    35.1,  24.9264,  35.8883,2,  35.8882,2,    206.6,2,   209.2,2,    2.81,2,    0.16,2,    0.00,2,    0.10,2,-999.000,9,-999.000,9,  2012.0,2,  2344.3,2,  -9.0000,9,-999.0000,9, -999.00,9, -999.00,9,  -999.0,9,  -999.0,-999.000,9,-999.000,-999.000,9,  -9.0000,-999.0000,  24.9188,   -9.00
  316N145_7,      TRANS,     385,          1,         34,         34,2,19950401,       2216,   -27.6498,    85.4832,       3992,    65.5,  21.1009,  35.8339,2,  35.8364,2,    237.5,2,   236.4,2,    2.80,2,    0.16,2,    0.00,2,    0.11,2,   2.390,2,   1.291,2,  2024.6,2,  2343.5,2,  -9.0000,9,-999.0000,9, -999.00,9, -999.00,9,  -999.0,9,  -999.0,-999.000,9,-999.000,-999.000,9,  -9.0000,-999.0000,  21.0883,   -9.00
  316N145_7,      TRANS,     385,          1,         33,         33,2,19950401,       2216,   -27.6498,    85.4832,       3992,    95.9,  19.5037,  35.8465,2,  35.8372,2,    239.3,2,   240.2,2,    2.58,2,    0.16,2,    0.00,2,    0.14,2,-999.000,9,-999.000,9,  2041.7,2,  2348.0,2,  -9.0000,9,-999.0000,9, -999.00,9, -999.00,9,  -999.0,9,  -999.0,-999.000,9,-999.000,-999.000,9,  -9.0000,-999.0000,  19.4862,   -9.00
  316N145_7,      TRANS,     385,          1,         32,         32,2,19950401,       2216,   -27.6498,    85.4832,       3992,   135.8,  17.8009,  35.8573,2,  35.8554,2,    236.5,2,   238.9,2,    2.15,2,    0.18,2,    0.02,2,    0.17,2,   2.687,2,   1.426,2,  2052.3,2,  2363.5,2,  -9.0000,9,-999.0000,9, -999.00,9, -999.00,9,  -999.0,9,  -999.0,-999.000,9,-999.000,-999.000,9,  -9.0000,-999.0000,  17.7776,   -9.00
  316N145_7,      TRANS,     385,          1,         31,         31,2,19950401,       2216,   -27.6498,    85.4832,       3992,   185.3,  15.9984,  35.6640,2,  35.6441,2,    230.1,2,   233.4,2,    2.13,2,    0.50,2,    0.19,2,    0.27,2,   2.880,2,   1.488,2,  2078.4,2,  2345.6,2,  -9.0000,9,-999.0000,9, -999.00,9, -999.00,9,  -999.0,9,  -999.0,-999.000,9,-999.000,-999.000,9,  -9.0000,-999.0000,  15.9689,   -9.00
  316N145_7,      TRANS,     385,          1,         30,         30,2,19950401,       2216,   -27.6498,    85.4832,       3992,   235.9,  14.3541,  35.4285,2,  35.4119,2,    226.8,2,   231.2,2,    2.54,2,    4.41,2,    0.01,2,    0.47,2,   3.047,2,   1.577,2,  2088.9,2,  2336.6,2,  -9.0000,9,-999.0000,9, -999.00,9, -999.00,9,  -999.0,9,  -999.0,-999.000,9,-999.000,-999.000,9,  -9.0000,-999.0000,  14.3193,   -9.00
  316N145_7,      TRANS,     385,          1,         29,         29,2,19950401,       2216,   -27.6498,    85.4832,       3992,   286.4,  13.3427,  35.3101,2,  35.3035,2,    224.9,2,   225.3,2,    3.15,2,    7.12,2,    0.00,2,    0.61,2,   2.925,2,   1.483,2,  2098.9,2,  2323.9,2,  -9.0000,9,-999.0000,9, -999.00,9, -999.00,9,  -999.0,9,  -999.0,-999.000,9,-999.000,-999.000,9,  -9.0000,-999.0000,  13.3023,   -9.00
  316N145_7,      TRANS,     385,          1,         28,         28,2,19950401,       2216,   -27.6498,    85.4832,       3992,   337.1,  12.5320,  35.1828,2,  35.1855,2,    227.9,2,   230.1,2,    3.35,2,    8.59,2,    0.00,2,    0.70,2,   3.029,2,   1.498,2,  2100.6,2,  2309.0,2,  -9.0000,9,-999.0000,9, -999.00,9, -999.00,9,  -999.0,9,  -999.0,-999.000,9,-999.000,-999.000,9,  -9.0000,-999.0000,  12.4864,   -9.00
  316N145_7,      TRANS,     385,          1,         27,         27,2,19950401,       2216,   -27.6498,    85.4832,       3992,   437.4,  11.4468,  35.0127,2,  35.0170,2,    233.6,2,   235.2,2,    3.96,2,   10.85,2,    0.00,2,    0.83,2,   3.025,2,   1.506,2,  2104.6,2,  2310.8,2,  -9.0000,9,-999.0000,9, -999.00,9, -999.00,9,  -999.0,9,  -999.0,-999.000,9,-999.000,-999.000,9,  -9.0000,-999.0000,  11.3909,   -9.00
  316N145_7,      TRANS,     385,          1,         26,         26,2,19950401,       2216,   -27.6498,    85.4832,       3992,   538.1,  10.4046,  34.8527,2,  34.8515,2,    236.6,2,   236.9,2,    4.57,2,   13.30,2,    0.00,2,    0.98,2,   2.930,2,   1.439,2,  2109.3,2,  2291.1,2,  -9.0000,9,-999.0000,9, -999.00,9, -999.00,9,  -999.0,9,  -999.0,-999.000,9,-999.000,-999.000,9,  -9.0000,-999.0000,  10.3397,   -9.00
  316N145_7,      TRANS,     385,          1,         25,         25,2,19950401,       2216,   -27.6498,    85.4832,       3992,   638.4,   9.5959,  34.7302,2,  34.7336,2,    236.0,2,   233.9,2,    5.61,2,   15.86,2,    0.00,2,    1.13,2,   2.677,2,   1.318,2,  2117.2,2,  2308.4,2,  -9.0000,9,-999.0000,9, -999.00,9, -999.00,9,  -999.0,9,  -999.0,-999.000,9,-999.000,-999.000,9,  -9.0000,-999.0000,   9.5222,   -9.00
  316N145_7,      TRANS,     385,          1,         24,         24,2,19950401,       2216,   -27.6498,    85.4832,       3992,   738.4,   8.4748,  34.6025,2,  34.6033,2,    222.7,2,   218.3,2,    9.35,2,   20.23,2,    0.00,2,    1.41,2,   1.820,2,   0.880,2,  2134.8,2,  2300.3,2,  -9.0000,9,-999.0000,9, -999.00,9, -999.00,9,  -999.0,9,  -999.0,-999.000,9,-999.000,-999.000,9,  -9.0000,-999.0000,   8.3954,   -9.00
  316N145_7,      TRANS,     385,          1,         23,         23,2,19950401,       2216,   -27.6498,    85.4832,       3992,   839.2,   7.0331,  34.4969,2,  34.4957,2,    203.4,2,   201.9,2,   17.68,2,   25.06,2,    0.00,2,    1.72,2,   0.934,2,   0.468,2,  2153.5,2,  -999.0,5,  -9.0000,9,-999.0000,9, -999.00,9, -999.00,9,  -999.0,9,  -999.0,-999.000,9,-999.000,-999.000,9,  -9.0000,-999.0000,   6.9513,   -9.00
  316N145_7,      TRANS,     385,          1,         22,         22,2,19950401,       2216,   -27.6498,    85.4832,       3992,   940.3,   5.5267,  34.4214,2,  34.4222,2,    194.3,2,   193.2,2,   29.35,2,   28.96,2,    0.00,2,    2.00,2,   0.511,2,   0.257,2,  2184.8,2,  2302.6,2,  -9.0000,9,-999.0000,9, -999.00,9, -999.00,9,  -999.0,9,  -999.0,-999.000,9,-999.000,   1.071,6,  -9.0000,-999.0000,   5.4451,   -9.00
  316N145_7,      TRANS,     385,          1,         21,         21,2,19950401,       2216,   -27.6498,    85.4832,       3992,  1041.5,   4.4937,  34.4221,2,  34.4207,2,    179.4,2,   180.4,2,   44.98,2,   31.83,2,    0.00,2,    2.23,2,-999.000,9,-999.000,9,  2213.3,2,  2325.0,2,  -9.0000,9,-999.0000,9, -999.00,9, -999.00,9,  -999.0,9,  -999.0,-999.000,9,-999.000,-999.000,9,  -9.0000,-999.0000,   4.4108,   -9.00
  316N145_7,      TRANS,     385,          1,         20,         20,2,19950401,       2216,   -27.6498,    85.4832,       3992,  1162.4,   3.8966,  34.4694,2,  34.4700,2,    163.6,2,   163.7,2,   60.62,2,   33.82,2,    0.00,2,    2.38,2,   0.099,6,   0.052,6,  2239.3,2,  2332.7,2,  -9.0000,9,-999.0000,9, -999.00,9, -999.00,9,  -999.0,9,  -999.0,-999.000,9,-999.000,-999.000,9,  -9.0000,-999.0000,   3.8082,   -9.00
  316N145_7,      TRANS,     385,          1,         19,         19,2,19950401,       2216,   -27.6498,    85.4832,       3992,  1286.6,   3.6529,  34.5370,2,  34.5359,2,    149.7,2,   149.7,2,   73.56,2,   34.76,2,    0.00,2,    2.47,2,-999.000,9,-999.000,9,  2257.5,2,  2347.1,2,  -9.0000,9,-999.0000,9, -999.00,9, -999.00,9,  -999.0,9,  -999.0,-999.000,9,-999.000,-999.000,9,  -9.0000,-999.0000,   3.5561,   -9.00
  316N145_7,      TRANS,     385,          1,         18,         18,2,19950401,       2216,   -27.6498,    85.4832,       3992,  1413.9,   3.3796,  34.5892,2,  34.5896,2,    145.6,2,   145.1,2,   82.12,2,   34.91,2,    0.00,2,    2.48,2,   0.010,2,   0.006,2,  2267.9,2,  2358.5,2,  -9.0000,9,-999.0000,9, -999.00,9, -999.00,9,  -999.0,9,  -999.0,-999.000,9,-999.000,-999.000,9,  -9.0000,-999.0000,   3.2748,   -9.00
  316N145_7,      TRANS,     385,          1,         17,         17,2,19950401,       2216,   -27.6498,    85.4832,       3992,  1541.7,   3.1605,  34.6306,2,  34.6300,2,    146.1,2,   147.3,2,   87.76,2,   34.76,2,    0.00,2,    2.47,2,-999.000,9,-999.000,9,  2272.6,2,  2372.1,2,  -9.0000,9,-999.0000,9, -999.00,9, -999.00,9,  -999.0,9,  -999.0,-999.000,9,-999.000,-999.000,9,  -9.0000,-999.0000,   3.0471,   -9.00
  316N145_7,      TRANS,     385,          1,         16,         16,2,19950401,       2216,   -27.6498,    85.4832,       3992,  1668.3,   2.9660,  34.6677,2,  34.6674,2,    147.2,2,   147.6,2,   94.04,2,   34.50,2,    0.00,2,    2.46,2,  -0.001,2,   0.000,2,  2279.1,2,  2373.9,2,  -9.0000,9,-999.0000,9, -999.00,9, -999.00,9,  -999.0,9,  -999.0,-999.000,9,-999.000,-999.000,9,  -9.0000,-999.0000,   2.8441,   -9.00
  316N145_7,      TRANS,     385,          1,         15,         15,2,19950401,       2216,   -27.6498,    85.4832,       3992,  1793.2,   2.7799,  34.6886,2,  34.6868,2,    150.5,2,   150.8,2,   97.80,2,   34.25,2,    0.00,2,    2.44,2,-999.000,9,-999.000,9,  2279.2,2,  2378.6,2,  -9.0000,9,-999.0000,9, -999.00,9, -999.00,9,  -999.0,9,  -999.0,-999.000,9,-999.000,-999.000,9,  -9.0000,-999.0000,   2.6496,   -9.00
  316N145_7,      TRANS,     385,          1,         14,         14,2,19950401,       2216,   -27.6498,    85.4832,       3992,  1920.1,   2.6201,  34.7026,2,  34.7026,2,    153.6,2,   154.5,2,  101.36,2,   34.05,2,    0.00,2,    2.42,2,  -0.001,2,   0.001,2,  2281.6,2,  2379.3,2,  -9.0000,9,-999.0000,9, -999.00,9, -999.00,9,  -999.0,9,  -999.0,-999.000,9,-999.000,-999.000,9,  -9.0000,-999.0000,   2.4811,   -9.00
  316N145_7,      TRANS,     385,          1,         13,         13,2,19950401,       2216,   -27.6498,    85.4832,       3992,  2072.8,   2.4404,  34.7148,2,  34.7148,2,    159.0,2,   158.6,2,  104.92,2,   33.75,2,    0.00,2,    2.40,2,-999.000,9,-999.000,9,  2283.3,2,  2383.7,2,  -9.0000,9,-999.0000,9, -999.00,9, -999.00,9,  -999.0,9,  -999.0,-999.000,9,-999.000,-999.000,9,  -9.0000,-999.0000,   2.2907,   -9.00
  316N145_7,      TRANS,     385,          1,         12,         12,2,19950401,       2216,   -27.6498,    85.4832,       3992,  2224.2,   2.2689,  34.7195,2,  34.7195,2,    165.6,2,   166.0,2,  105.53,2,   33.40,2,    0.00,2,    2.36,2,   0.001,2,   0.001,2,  2281.4,2,  2382.6,2,  -9.0000,9,-999.0000,9, -999.00,9, -999.00,9,  -999.0,9,  -999.0,-999.000,9,-999.000,-999.000,9,  -9.0000,-999.0000,   2.1085,   -9.00
  316N145_7,      TRANS,     385,          1,         11,         11,2,19950401,       2216,   -27.6498,    85.4832,       3992,  2377.5,   2.1165,  34.7215,2,  34.7230,2,    173.8,2,   173.8,2,  103.60,2,   32.80,2,    0.00,2,    2.31,2,-999.000,9,-999.000,9,  2274.3,2,  2373.6,2,  -9.0000,9,-999.0000,9, -999.00,9, -999.00,9,  -999.0,9,  -999.0,-999.000,9,-999.000,-999.000,9,  -9.0000,-999.0000,   1.9449,   -9.00
  316N145_7,      TRANS,     385,          1,         10,         10,2,19950401,       2216,   -27.6498,    85.4832,       3992,  2528.3,   1.9661,  34.7280,2,  34.7277,2,    181.9,2,   182.1,2,  101.67,2,   32.16,2,    0.00,2,    2.25,2,   0.002,2,   0.001,2,  2265.4,2,  2373.0,2,  -9.0000,9,-999.0000,9, -999.00,9, -999.00,9,  -999.0,9,  -999.0,-999.000,9,-999.000,-999.000,9,  -9.0000,-999.0000,   1.7835,   -9.00
  316N145_7,      TRANS,     385,          1,          9,          9,2,19950401,       2216,   -27.6498,    85.4832,       3992,  2681.0,   1.8418,  34.7328,2,  34.7315,2,    187.9,2,   187.8,2,  101.85,2,   31.76,2,    0.00,2,    2.22,2,   0.000,2,  -0.001,2,  2262.2,2,  2376.3,2,  -9.0000,9,-999.0000,9, -999.00,9, -999.00,9,  -999.0,9,  -999.0,-999.000,9,-999.000,-999.000,9,  -9.0000,-999.0000,   1.6476,   -9.00
  316N145_7,      TRANS,     385,          1,          8,          8,2,19950401,       2216,   -27.6498,    85.4832,       3992,  2833.5,   1.7315,  34.7340,2,  34.7340,2,    191.0,2,   191.2,2,  103.51,2,   31.61,2,    0.00,2,    2.20,2,   0.001,2,   0.000,2,  2262.4,2,  2375.0,2,  -9.0000,9,-999.0000,9, -999.00,9, -999.00,9,  -999.0,9,  -999.0,-999.000,9,-999.000,-999.000,9,  -9.0000,-999.0000,   1.5252,   -9.00
  316N145_7,      TRANS,     385,          1,          7,          7,2,19950401,       2216,   -27.6498,    85.4832,       3992,  2986.2,   1.6407,  34.7335,2,  34.7344,2,    192.2,2,   192.8,2,  106.23,2,   31.61,2,    0.00,2,    2.20,2,-999.000,9,-999.000,9,  2262.9,2,  2395.2,2,  -9.0000,9,-999.0000,9, -999.00,9, -999.00,9,  -999.0,9,  -999.0,-999.000,9,-999.000,-999.000,9,  -9.0000,-999.0000,   1.4219,   -9.00
  316N145_7,      TRANS,     385,          1,          6,          6,2,19950401,       2216,   -27.6498,    85.4832,       3992,  3139.7,   1.5288,  34.7296,2,  34.7301,2,    190.9,2,   191.4,2,  112.14,2,   32.05,2,    0.00,2,    2.23,2,  -0.002,2,   0.000,2,  2270.6,2,  2384.3,2,  -9.0000,9,-999.0000,9, -999.00,9, -999.00,9,  -999.0,9,  -999.0,-999.000,9,-999.000,-999.000,9,  -9.0000,-999.0000,   1.2976,   -9.00
  316N145_7,      TRANS,     385,          1,          5,          5,2,19950401,       2216,   -27.6498,    85.4832,       3992,  3292.3,   1.4556,  34.7267,2,  34.7266,2,    191.3,2,   191.0,2,  115.72,2,   32.15,2,    0.00,2,    2.26,2,-999.000,9,-999.000,9,  2272.8,2,  2399.4,2,  -9.0000,9,-999.0000,9, -999.00,9, -999.00,9,  -999.0,9,  -999.0,-999.000,9,-999.000,-999.000,9,  -9.0000,-999.0000,   1.2112,   -9.00
  316N145_7,      TRANS,     385,          1,          4,          4,2,19950401,       2216,   -27.6498,    85.4832,       3992,  3496.8,   1.3983,  34.7247,2,  34.7242,2,    191.0,2,   191.3,2,  119.10,2,   32.49,2,    0.00,2,    2.27,2,  -0.001,2,   0.000,2,  2278.7,2,  2397.7,2,  -9.0000,9,-999.0000,9, -999.00,9, -999.00,9,  -999.0,9,  -999.0,-999.000,9,-999.000,-999.000,9,  -9.0000,-999.0000,   1.1348,   -9.00
  316N145_7,      TRANS,     385,          1,          3,          3,2,19950401,       2216,   -27.6498,    85.4832,       3992,  3700.3,   1.3737,  34.7217,2,  34.7217,2,    189.6,2,   189.4,2,  122.49,2,   32.79,2,    0.00,2,    2.29,2,   0.002,2,  -0.001,2,  2283.6,2,  2389.7,2,  -9.0000,9,-999.0000,9, -999.00,9, -999.00,9,  -999.0,9,  -999.0,-999.000,9,-999.000,-999.000,9,  -9.0000,-999.0000,   1.0899,   -9.00
  316N145_7,      TRANS,     385,          1,          2,          2,2,19950401,       2216,   -27.6498,    85.4832,       3992,  3904.7,   1.3783,  34.7210,2,  34.7213,2,    189.2,2,   188.9,2,  123.75,2,   32.84,2,    0.00,2,    2.29,2,   0.000,2,   0.001,2,  2285.8,2,  2414.2,2,  -9.0000,9,-999.0000,9, -999.00,9, -999.00,9,  -999.0,9,  -999.0,-999.000,9,-999.000,-999.000,9,  -9.0000,-999.0000,   1.0728,   -9.00
  316N145_7,      TRANS,     385,          1,          1,          1,2,19950401,       2216,   -27.6498,    85.4832,       3992,  4108.6,   1.3969,  34.7211,2,  34.7213,2,    189.8,2,   189.4,2,  123.93,2,   32.89,2,    0.00,2,    2.29,2,  -0.001,2,   0.001,2,  2286.8,2,  2403.2,2,  -9.0000,9,-999.0000,9, -999.00,9, -999.00,9,  -999.0,9,  -999.0,-999.000,9,-999.000,-999.000,9,  -9.0000,-999.0000,   1.0689,   -9.00