BOTTLE,20211124CCHSIORKP
EXPOCODE,SECT_ID,STNNBR,CASTNO,SAMPNO,BTLNBR,BTLNBR_FLAG_W,DATE,TIME,LATITUDE,LONGITUDE,DEPTH,CTDPRS,CTDTMP,CTDSAL,CTDSAL_FLAG_W,SALNTY,SALNTY_FLAG_W,CTDOXY,CTDOXY_FLAG_W,OXYGEN,OXYGEN_FLAG_W,SILCAT,SILCAT_FLAG_W,NITRAT,NITRAT_FLAG_W,NITRIT,NITRIT_FLAG_W,PHSPHT,PHSPHT_FLAG_W,CFC-11,CFC-11_FLAG_W,CFC-12,CFC-12_FLAG_W,TCARBN,TCARBN_FLAG_W,ALKALI,ALKALI_FLAG_W,TRITUM,TRITUM_FLAG_W,HELIUM,HELIUM_FLAG_W,DELHE3,DELHE3_FLAG_W,DELC13,DELC13_FLAG_W,DELC14,DELC14_FLAG_W,C14ERR,NEON,NEON_FLAG_W,NEONER,CCL4,CCL4_FLAG_W,TRITER,HELIER,THETA,DELHER
,,,,,,,,,,,METERS,DBAR,ITS-90,PSS-78,,PSS-78,,UMOL/KG,,UMOL/KG,,UMOL/KG,,UMOL/KG,,UMOL/KG,,UMOL/KG,,PMOL/KG,,PMOL/KG,,UMOL/KG,,UMOL/KG,,TU,,NMOL/KG,,PERCNT,,/MILLE,,/MILLE,,/MILLE,NMOL/KG,,NMOL/KG,PMOL/KG,,TU,NMOL/KG,DEG C,PERCNT
  316N145_7,       I05E,     419,          1,         36,         36,2,19950409,       1258,   -31.9840,   102.3762,       5145,     2.8,  20.8716,  36.0477,2,  36.0475,2,    220.7,2,   224.4,2,    2.67,2,    0.15,2,    0.00,2,    0.13,2,   2.215,6,   1.244,6,  2057.4,2,  2390.3,2,  -9.0000,9,-999.0000,9, -999.00,9,    1.47,2,    82.7,2,     3.4,-999.000,9,-999.000,-999.000,9,  -9.0000,-999.0000,  20.8711,   -9.00
  316N145_7,       I05E,     419,          1,         35,         35,2,19950409,       1258,   -31.9840,   102.3762,       5145,    41.6,  20.3536,  35.9587,2,  35.8789,2,    229.0,2,   237.8,2,    2.44,2,    0.15,2,    0.00,2,    0.15,2,   2.439,2,   1.359,2,  -999.0,9,  -999.0,9,  -9.0000,9,-999.0000,9, -999.00,9, -999.00,9,  -999.0,9,  -999.0,-999.000,9,-999.000,-999.000,9,  -9.0000,-999.0000,  20.3458,   -9.00
  316N145_7,       I05E,     419,          1,         34,         34,2,19950409,       1258,   -31.9840,   102.3762,       5145,    76.1,  15.2272,  35.5013,2,  35.5022,2,    263.4,2,   261.9,2,    2.43,2,    0.20,2,    0.01,2,    0.23,2,   2.944,2,   1.626,2,  -999.0,9,  -999.0,9,  -9.0000,9,-999.0000,9, -999.00,9,    1.59,2,    85.3,2,     3.9,-999.000,9,-999.000,-999.000,9,  -9.0000,-999.0000,  15.2155,   -9.00
  316N145_7,       I05E,     419,          1,         33,         33,2,19950409,       1258,   -31.9840,   102.3762,       5145,   116.5,  13.7496,  35.3883,2,  35.3961,2,    239.0,2,   239.5,2,    2.63,4,    4.12,4,    0.10,4,    0.46,4,   3.065,2,   1.661,2,  -999.0,9,  -999.0,9,  -9.0000,9,-999.0000,9, -999.00,9,    1.36,2,    86.0,2,     3.3,-999.000,9,-999.000,-999.000,9,  -9.0000,-999.0000,  13.7330,   -9.00
  316N145_7,       I05E,     419,          1,         32,         32,2,19950409,       1258,   -31.9840,   102.3762,       5145,   157.8,  12.9584,  35.2542,2,  35.3963,4,    242.6,2,   239.4,2,    2.62,2,    4.16,2,    0.11,2,    0.47,2,   3.023,2,   1.649,2,  -999.0,9,  -999.0,9,  -9.0000,9,-999.0000,9, -999.00,9, -999.00,9,  -999.0,9,  -999.0,-999.000,9,-999.000,-999.000,9,  -9.0000,-999.0000,  12.9367,   -9.00
  316N145_7,       I05E,     419,          1,         31,         31,2,19950409,       1258,   -31.9840,   102.3762,       5145,   207.2,  12.1450,  35.1358,2,  35.1422,2,    239.8,2,   241.8,2,    3.24,2,    7.70,2,    0.01,2,    0.67,2,   3.211,2,   1.730,2,  -999.0,9,  -999.0,9,  -9.0000,9,-999.0000,9, -999.00,9,    1.34,2,    74.0,2,     3.4,-999.000,9,-999.000,-999.000,9,  -9.0000,-999.0000,  12.1177,   -9.00
  316N145_7,       I05E,     419,          1,         30,         30,2,19950409,       1258,   -31.9840,   102.3762,       5145,   257.5,  11.6055,  35.0551,2,  35.0660,2,    238.8,2,   239.9,2,    3.66,2,    9.21,2,    0.01,2,    0.76,2,   3.202,2,   1.696,2,  -999.0,9,  -999.0,9,  -9.0000,9,-999.0000,9, -999.00,9, -999.00,9,  -999.0,9,  -999.0,-999.000,9,-999.000,-999.000,9,  -9.0000,-999.0000,  11.5725,   -9.00
  316N145_7,       I05E,     419,          1,         29,         29,2,19950409,       1258,   -31.9840,   102.3762,       5145,   328.2,  11.0048,  34.9568,2,  34.9613,2,    240.5,2,   243.7,2,    4.07,2,   10.67,2,    0.01,2,    0.85,2,   3.278,2,   1.724,2,  -999.0,9,  -999.0,9,  -9.0000,9,-999.0000,9, -999.00,9,    1.28,2,    72.0,2,     3.3,-999.000,9,-999.000,-999.000,9,  -9.0000,-999.0000,  10.9641,   -9.00
  316N145_7,       I05E,     419,          1,         28,         28,2,19950409,       1258,   -31.9840,   102.3762,       5145,   407.6,  10.4643,  34.8676,2,  34.8704,2,    242.8,2,   243.7,2,    4.48,2,   12.08,2,    0.00,2,    0.93,2,-999.000,9,-999.000,9,  -999.0,9,  -999.0,9,  -9.0000,9,-999.0000,9, -999.00,9,    1.31,2,    69.0,2,     3.8,-999.000,9,-999.000,-999.000,9,  -9.0000,-999.0000,  10.4152,   -9.00
  316N145_7,       I05E,     419,          1,         27,         27,2,19950409,       1258,   -31.9840,   102.3762,       5145,   508.1,   9.6792,  34.7393,2,  34.7400,2,    240.9,2,   241.3,2,    5.11,2,   14.70,2,    0.00,2,    1.09,2,-999.000,9,-999.000,9,  -999.0,9,  -999.0,9,  -9.0000,9,-999.0000,9, -999.00,9,    1.28,2,    61.9,2,     4.6,-999.000,9,-999.000,-999.000,9,  -9.0000,-999.0000,   9.6206,   -9.00
  316N145_7,       I05E,     419,          1,         26,         26,2,19950409,       1258,   -31.9840,   102.3762,       5145,   609.4,   9.0660,  34.6518,2,  34.6559,2,    237.2,2,   232.2,2,    6.58,2,   17.47,2,    0.00,2,    1.26,2,-999.000,9,-999.000,9,  -999.0,9,  -999.0,9,  -9.0000,9,-999.0000,9, -999.00,9,    1.26,2,    38.0,2,     3.5,-999.000,9,-999.000,-999.000,9,  -9.0000,-999.0000,   8.9982,   -9.00
  316N145_7,       I05E,     419,          1,         25,         25,2,19950409,       1258,   -31.9840,   102.3762,       5145,   708.5,   8.0168,  34.5470,2,  34.5506,2,    214.3,2,   212.6,2,   11.25,2,   21.75,2,    0.00,2,    1.53,2,-999.000,9,-999.000,9,  -999.0,9,  -999.0,9,  -9.0000,9,-999.0000,9, -999.00,9,    1.23,2,    -3.4,2,     3.3,-999.000,9,-999.000,-999.000,9,  -9.0000,-999.0000,   7.9432,   -9.00
  316N145_7,       I05E,     419,          1,         24,         24,2,19950409,       1258,   -31.9840,   102.3762,       5145,   810.6,   6.4739,  34.4456,2,  34.4492,2,    198.1,2,   196.0,2,   21.03,2,   26.67,2,    0.00,2,    1.86,2,   0.979,2,   0.483,2,  -999.0,9,  -999.0,9,  -9.0000,9,-999.0000,9, -999.00,9,    1.07,2,   -57.5,2,     3.2,-999.000,9,-999.000,-999.000,9,  -9.0000,-999.0000,   6.3985,   -9.00
  316N145_7,       I05E,     419,          1,         23,         23,2,19950409,       1258,   -31.9840,   102.3762,       5145,   910.7,   5.0286,  34.3820,2,  34.3872,2,    196.0,2,   195.7,2,   31.66,2,   29.71,2,    0.00,2,    2.07,2,   0.688,2,   0.339,2,  -999.0,9,  -999.0,9,  -9.0000,9,-999.0000,9, -999.00,9,    0.97,2,   -91.7,2,     3.7,-999.000,9,-999.000,-999.000,9,  -9.0000,-999.0000,   4.9533,   -9.00
  316N145_7,       I05E,     419,          1,         22,         22,2,19950409,       1258,   -31.9840,   102.3762,       5145,  1010.9,   4.2201,  34.4016,2,  34.4031,2,    181.5,2,   182.4,2,   45.68,2,   32.12,2,    0.00,2,    2.26,2,   0.354,2,   0.171,2,  -999.0,9,  -999.0,9,  -9.0000,9,-999.0000,9, -999.00,9,    0.74,2,  -118.0,2,     3.2,-999.000,9,-999.000,-999.000,9,  -9.0000,-999.0000,   4.1419,   -9.00
  316N145_7,       I05E,     419,          1,         21,         21,2,19950409,       1258,   -31.9840,   102.3762,       5145,  1161.9,   3.6257,  34.4679,2,  34.4675,2,    165.9,2,   164.9,2,   62.69,2,   33.98,2,    0.00,2,    2.41,2,   0.131,6,   0.063,6,  -999.0,9,  -999.0,9,  -9.0000,9,-999.0000,9, -999.00,9,    0.52,2,  -147.8,2,     3.0,-999.000,9,-999.000,-999.000,9,  -9.0000,-999.0000,   3.5398,   -9.00
  316N145_7,       I05E,     419,          1,         20,         20,2,19950409,       1258,   -31.9840,   102.3762,       5145,  1314.2,   3.2981,  34.5298,2,  34.5277,2,    155.2,2,   155.5,2,   73.53,2,   34.63,2,    0.00,2,    2.47,2,   0.044,2,   0.020,2,  -999.0,9,  -999.0,9,  -9.0000,9,-999.0000,9, -999.00,9,    0.45,2,  -161.4,2,     3.0,-999.000,9,-999.000,-999.000,9,  -9.0000,-999.0000,   3.2026,   -9.00
  316N145_7,       I05E,     419,          1,         19,         19,2,19950409,       1258,   -31.9840,   102.3762,       5145,  1515.7,   2.9774,  34.5998,2,  34.6000,2,    151.7,2,   153.4,2,   83.53,2,   34.52,2,    0.00,2,    2.46,2,-999.000,9,-999.000,9,  -999.0,9,  -999.0,9,  -9.0000,9,-999.0000,9, -999.00,9,    0.27,2,  -184.8,2,     3.0,-999.000,9,-999.000,-999.000,9,  -9.0000,-999.0000,   2.8684,   -9.00
  316N145_7,       I05E,     419,          1,         18,         18,2,19950409,       1258,   -31.9840,   102.3762,       5145,  1718.9,   2.7234,  34.6536,2,  34.6528,2,    155.0,2,   156.1,2,   90.34,2,   34.08,2,    0.00,2,    2.42,2,   0.005,2,   0.004,2,  -999.0,9,  -999.0,9,  -9.0000,9,-999.0000,9, -999.00,9,   -0.18,3,  -194.4,2,     3.6,-999.000,9,-999.000,-999.000,9,  -9.0000,-999.0000,   2.6004,   -9.00
  316N145_7,       I05E,     419,          1,         17,         17,2,19950409,       1258,   -31.9840,   102.3762,       5145,  1920.0,   2.5072,  34.6913,2,  34.6905,2,    161.0,2,   160.1,2,   96.52,2,   33.59,2,    0.00,2,    2.39,2,-999.000,9,-999.000,9,  -999.0,9,  -999.0,9,  -9.0000,9,-999.0000,9, -999.00,9,   -0.50,3,  -208.0,2,     3.0,-999.000,9,-999.000,-999.000,9,  -9.0000,-999.0000,   2.3698,   -9.00
  316N145_7,       I05E,     419,          1,         16,         16,2,19950409,       1258,   -31.9840,   102.3762,       5145,  2122.2,   2.3138,  34.7136,2,  34.7133,2,    165.3,2,   164.6,2,  102.07,2,   33.24,2,    0.00,2,    2.35,2,   0.001,2,   0.000,2,  -999.0,9,  -999.0,9,  -9.0000,9,-999.0000,9, -999.00,9,    0.34,2,  -195.5,2,     3.0,-999.000,9,-999.000,-999.000,9,  -9.0000,-999.0000,   2.1617,   -9.00
  316N145_7,       I05E,     419,          1,         15,         15,2,19950409,       1258,   -31.9840,   102.3762,       5145,  2325.5,   2.1077,  34.7253,2,  34.7251,2,    172.5,2,   170.9,2,  105.26,2,   32.75,2,    0.00,2,    2.32,2,-999.000,9,-999.000,9,  -999.0,9,  -999.0,9,  -9.0000,9,-999.0000,9, -999.00,9,    0.16,2,  -200.3,2,     3.1,-999.000,9,-999.000,-999.000,9,  -9.0000,-999.0000,   1.9409,   -9.00
  316N145_7,       I05E,     419,          1,         14,         14,2,19950409,       1258,   -31.9840,   102.3762,       5145,  2528.7,   1.9549,  34.7327,2,  34.7321,2,    178.5,2,   179.8,2,  104.15,2,   32.11,2,    0.00,2,    2.26,2,  -0.001,2,   0.000,2,  -999.0,9,  -999.0,9,  -9.0000,9,-999.0000,9, -999.00,9,   -0.06,3,  -192.6,2,     3.0,-999.000,9,-999.000,-999.000,9,  -9.0000,-999.0000,   1.7725,   -9.00
  316N145_7,       I05E,     419,          1,         13,         13,2,19950409,       1258,   -31.9840,   102.3762,       5145,  2733.0,   1.7796,  34.7345,2,  34.7343,2,    183.4,2,   184.7,2,  106.69,2,   31.97,2,    0.00,2,    2.25,2,-999.000,9,-999.000,9,  -999.0,9,  -999.0,9,  -9.0000,9,-999.0000,9, -999.00,9,    0.10,2,  -192.7,2,     3.0,-999.000,9,-999.000,-999.000,9,  -9.0000,-999.0000,   1.5817,   -9.00
  316N145_7,       I05E,     419,          1,         12,         12,2,19950409,       1258,   -31.9840,   102.3762,       5145,  2936.8,   1.6434,  34.7361,2,  34.7360,2,    190.6,2,   191.6,2,  106.01,2,   31.58,2,    0.00,2,    2.21,2,-999.000,9,-999.000,9,  -999.0,9,  -999.0,9,  -9.0000,9,-999.0000,9, -999.00,9,    0.17,2,  -187.4,2,     3.5,-999.000,9,-999.000,-999.000,9,  -9.0000,-999.0000,   1.4292,   -9.00
  316N145_7,       I05E,     419,          1,         11,         11,2,19950409,       1258,   -31.9840,   102.3762,       5145,  3141.3,   1.5201,  34.7347,2,  34.7345,2,    195.7,2,   195.9,2,  107.26,2,   31.43,2,    0.00,2,    2.19,2,   0.000,2,   0.000,2,  -999.0,9,  -999.0,9,  -9.0000,9,-999.0000,9, -999.00,9,    0.25,2,  -180.9,2,     3.0,-999.000,9,-999.000,-999.000,9,  -9.0000,-999.0000,   1.2889,   -9.00
  316N145_7,       I05E,     419,          1,         10,         10,2,19950409,       1258,   -31.9840,   102.3762,       5145,  3343.5,   1.3838,  34.7309,2,  34.7303,2,    200.0,2,   199.4,2,  109.81,2,   31.48,2,    0.00,2,    2.19,2,   0.001,2,   0.000,2,  -999.0,9,  -999.0,9,  -9.0000,9,-999.0000,9, -999.00,9,   -0.21,3,  -177.2,2,     3.0,-999.000,9,-999.000,-999.000,9,  -9.0000,-999.0000,   1.1360,   -9.00
  316N145_7,       I05E,     419,          1,          9,          9,2,19950409,       1258,   -31.9840,   102.3762,       5145,  3548.0,   1.2585,  34.7254,2,  34.7248,2,    200.5,2,   200.9,2,  114.09,2,   31.68,2,    0.00,2,    2.21,2,-999.000,9,-999.000,9,  -999.0,9,  -999.0,9,  -9.0000,9,-999.0000,9, -999.00,9,    0.13,2,  -180.1,2,     4.4,-999.000,9,-999.000,-999.000,9,  -9.0000,-999.0000,   0.9934,   -9.00
  316N145_7,       I05E,     419,          1,          8,          8,2,19950409,       1258,   -31.9840,   102.3762,       5145,  3752.6,   1.1723,  34.7218,2,  34.7208,2,    204.1,2,   203.4,2,  115.78,2,   31.73,2,    0.00,2,    2.21,2,   0.006,2,   0.001,2,  -999.0,9,  -999.0,9,  -9.0000,9,-999.0000,9, -999.00,9,    0.09,2,  -175.9,2,     3.1,-999.000,9,-999.000,-999.000,9,  -9.0000,-999.0000,   0.8884,   -9.00
  316N145_7,       I05E,     419,          1,          7,          7,2,19950409,       1258,   -31.9840,   102.3762,       5145,  3956.8,   1.0942,  34.7174,2,  34.7171,2,    205.1,2,   204.5,2,  118.34,2,   31.88,2,    0.00,2,    2.22,2,-999.000,9,-999.000,9,  -999.0,9,  -999.0,9,  -9.0000,9,-999.0000,9, -999.00,9,    0.17,2,  -186.0,2,     2.7,-999.000,9,-999.000,-999.000,9,  -9.0000,-999.0000,   0.7912,   -9.00
  316N145_7,       I05E,     419,          1,          6,          6,2,19950409,       1258,   -31.9840,   102.3762,       5145,  4161.3,   1.0470,  34.7143,2,  34.7167,4,    204.6,2,   205.7,2,  119.81,2,   31.97,2,    0.00,2,    2.23,2,   0.004,2,   0.003,2,  -999.0,9,  -999.0,9,  -9.0000,9,-999.0000,9, -999.00,9,    0.34,2,  -174.5,2,     3.0,-999.000,9,-999.000,-999.000,9,  -9.0000,-999.0000,   0.7234,   -9.00
  316N145_7,       I05E,     419,          1,          5,          5,2,19950409,       1258,   -31.9840,   102.3762,       5145,  4365.9,   1.0159,  34.7117,2,  34.7110,2,    206.5,2,   206.3,2,  120.86,2,   31.93,2,    0.00,2,    2.23,2,-999.000,9,-999.000,9,  -999.0,9,  -999.0,9,  -9.0000,9,-999.0000,9, -999.00,9,    0.43,2,  -178.9,2,     2.7,-999.000,9,-999.000,-999.000,9,  -9.0000,-999.0000,   0.6709,   -9.00
  316N145_7,       I05E,     419,          1,          4,          4,2,19950409,       1258,   -31.9840,   102.3762,       5145,  4570.9,   0.9987,  34.7102,2,  34.7096,2,    206.8,2,   206.8,2,  121.90,2,   32.12,2,    0.00,2,    2.24,2,   0.009,2,   0.007,2,  -999.0,9,  -999.0,9,  -9.0000,9,-999.0000,9, -999.00,9,    0.42,2,  -179.9,2,     3.7,-999.000,9,-999.000,-999.000,9,  -9.0000,-999.0000,   0.6311,   -9.00
  316N145_7,       I05E,     419,          1,          3,          3,2,19950409,       1258,   -31.9840,   102.3762,       5145,  4776.0,   0.9930,  34.7090,2,  34.7066,3,    207.3,2,   207.7,2,  122.29,2,   32.22,2,    0.00,2,    2.24,2,   0.010,2,   0.006,2,  -999.0,9,  -999.0,9,  -9.0000,9,-999.0000,9, -999.00,9,    0.35,2,  -179.2,2,     2.8,-999.000,9,-999.000,   0.080,6,  -9.0000,-999.0000,   0.6021,   -9.00
  316N145_7,       I05E,     419,          1,          2,          2,2,19950409,       1258,   -31.9840,   102.3762,       5145,  5007.2,   0.9901,  34.7072,2,  34.7060,2,    207.6,2,   207.9,2,  122.90,2,   32.22,2,    0.00,2,    2.24,2,   0.009,2,   0.006,2,  -999.0,9,  -999.0,9,  -9.0000,9,-999.0000,9, -999.00,9, -999.00,9,  -999.0,9,  -999.0,-999.000,9,-999.000,-999.000,9,  -9.0000,-999.0000,   0.5721,   -9.00
  316N145_7,       I05E,     419,          1,          1,          1,2,19950409,       1258,   -31.9840,   102.3762,       5145,  5197.1,   0.9907,  34.7064,2,  34.7060,2,    208.0,2,   207.4,2,  123.51,2,   32.28,2,    0.00,2,    2.25,2,   0.010,2,   0.006,2,  -999.0,9,  -999.0,9,  -9.0000,9,-999.0000,9, -999.00,9,    0.41,2,  -178.4,2,     2.8,-999.000,9,-999.000,   0.088,6,  -9.0000,-999.0000,   0.5499,   -9.00
  316N145_7,       I05E,     420,          1,          7,          7,2,19950409,       1837,   -31.9838,   103.0005,       5222,  4058.8,   1.0548,  34.7156,2,  34.7149,2,    204.9,2,   205.8,2,  120.01,2,   32.04,2,    0.00,2,    2.23,2,-999.000,9,-999.000,9,  -999.0,9,  -999.0,9,  -9.0000,9,-999.0000,9, -999.00,9, -999.00,9,  -999.0,9,  -999.0,-999.000,9,-999.000,-999.000,9,  -9.0000,-999.0000,   0.7420,   -9.00
  316N145_7,       I05E,     420,          1,          6,          6,2,19950409,       1837,   -31.9838,   103.0005,       5222,  4264.0,   1.0159,  34.7125,2,  34.7116,2,    205.8,2,   206.8,2,  121.48,2,   32.15,2,    0.00,2,    2.25,2,   0.005,2,   0.004,2,  -999.0,9,  -999.0,9,  -9.0000,9,-999.0000,9, -999.00,9, -999.00,9,  -999.0,9,  -999.0,-999.000,9,-999.000,-999.000,9,  -9.0000,-999.0000,   0.6821,   -9.00
  316N145_7,       I05E,     420,          1,          5,          5,2,19950409,       1837,   -31.9838,   103.0005,       5222,  4467.6,   0.9985,  34.7108,2,  34.7101,2,    207.6,2,   206.8,2,  122.29,2,   32.21,2,    0.00,2,    2.25,2,-999.000,9,-999.000,9,  -999.0,9,  -999.0,9,  -9.0000,9,-999.0000,9, -999.00,9, -999.00,9,  -999.0,9,  -999.0,-999.000,9,-999.000,-999.000,9,  -9.0000,-999.0000,   0.6426,   -9.00
  316N145_7,       I05E,     420,          1,          4,          4,2,19950409,       1837,   -31.9838,   103.0005,       5222,  4673.1,   0.9892,  34.7096,2,  34.7093,2,    207.4,2,   207.3,2,  122.67,2,   32.22,2,    0.00,2,    2.25,2,   0.008,2,   0.001,2,  -999.0,9,  -999.0,9,  -9.0000,9,-999.0000,9, -999.00,9, -999.00,9,  -999.0,9,  -999.0,-999.000,9,-999.000,-999.000,9,  -9.0000,-999.0000,   0.6103,   -9.00
  316N145_7,       I05E,     420,          1,          3,          3,2,19950409,       1837,   -31.9838,   103.0005,       5222,  4878.5,   0.9880,  34.7081,2,  34.7082,2,    207.8,2,   207.7,2,  122.83,2,   32.28,2,    0.00,2,    2.26,2,   0.006,2,   0.003,2,  -999.0,9,  -999.0,9,  -9.0000,9,-999.0000,9, -999.00,9, -999.00,9,  -999.0,9,  -999.0,-999.000,9,-999.000,-999.000,9,  -9.0000,-999.0000,   0.5853,   -9.00
  316N145_7,       I05E,     420,          1,          2,          2,2,19950409,       1837,   -31.9838,   103.0005,       5222,  5083.1,   0.9912,  34.7073,2,  34.7071,2,    209.4,2,   207.9,2,  123.65,2,   32.34,2,    0.00,2,    2.26,2,   0.009,2,   0.004,2,  -999.0,9,  -999.0,9,  -9.0000,9,-999.0000,9, -999.00,9, -999.00,9,  -999.0,9,  -999.0,-999.000,9,-999.000,-999.000,9,  -9.0000,-999.0000,   0.5641,   -9.00
  316N145_7,       I05E,     420,          1,          1,          1,2,19950409,       1837,   -31.9838,   103.0005,       5222,  5343.8,   1.0050,  34.7066,2,  34.7061,2,    208.0,2,   208.5,2,  124.25,2,   32.41,2,    0.00,2,    2.26,2,   0.010,2,   0.003,2,  -999.0,9,  -999.0,9,  -9.0000,9,-999.0000,9, -999.00,9, -999.00,9,  -999.0,9,  -999.0,-999.000,9,-999.000,   0.094,6,  -9.0000,-999.0000,   0.5457,   -9.00