BOTTLE,20211124CCHSIORKP
EXPOCODE,SECT_ID,STNNBR,CASTNO,SAMPNO,BTLNBR,BTLNBR_FLAG_W,DATE,TIME,LATITUDE,LONGITUDE,DEPTH,CTDPRS,CTDTMP,CTDSAL,CTDSAL_FLAG_W,SALNTY,SALNTY_FLAG_W,CTDOXY,CTDOXY_FLAG_W,OXYGEN,OXYGEN_FLAG_W,SILCAT,SILCAT_FLAG_W,NITRAT,NITRAT_FLAG_W,NITRIT,NITRIT_FLAG_W,PHSPHT,PHSPHT_FLAG_W,CFC-11,CFC-11_FLAG_W,CFC-12,CFC-12_FLAG_W,TCARBN,TCARBN_FLAG_W,ALKALI,ALKALI_FLAG_W,TRITUM,TRITUM_FLAG_W,HELIUM,HELIUM_FLAG_W,DELHE3,DELHE3_FLAG_W,DELC13,DELC13_FLAG_W,DELC14,DELC14_FLAG_W,C14ERR,NEON,NEON_FLAG_W,NEONER,CCL4,CCL4_FLAG_W,TRITER,HELIER,THETA,DELHER
,,,,,,,,,,,METERS,DBAR,ITS-90,PSS-78,,PSS-78,,UMOL/KG,,UMOL/KG,,UMOL/KG,,UMOL/KG,,UMOL/KG,,UMOL/KG,,PMOL/KG,,PMOL/KG,,UMOL/KG,,UMOL/KG,,TU,,NMOL/KG,,PERCNT,,/MILLE,,/MILLE,,/MILLE,NMOL/KG,,NMOL/KG,PMOL/KG,,TU,NMOL/KG,DEG C,PERCNT
  316N145_7,       I05E,     429,          1,         36,         36,2,19950412,       0514,   -31.4815,   109.0508,       5202,     2.8,  21.8115,  36.1642,2,  36.1604,2,    218.8,3,   222.1,2,    3.30,2,    0.09,2,    0.00,2,    0.07,2,   2.084,6,   1.295,6,  2058.5,2,  2358.2,2,  -9.0000,9,-999.0000,9, -999.00,9, -999.00,9,  -999.0,9,  -999.0,-999.000,9,-999.000,   2.947,6,  -9.0000,-999.0000,  21.8109,   -9.00
  316N145_7,       I05E,     429,          1,         35,         35,2,19950412,       0514,   -31.4815,   109.0508,       5202,    48.5,  20.8521,  36.1422,2,  36.1405,2,    221.0,2,   225.0,2,    3.08,2,    0.09,2,    0.00,2,    0.07,2,-999.000,9,-999.000,9,  -999.0,9,  -999.0,9,  -9.0000,9,-999.0000,9, -999.00,9, -999.00,9,  -999.0,9,  -999.0,-999.000,9,-999.000,-999.000,9,  -9.0000,-999.0000,  20.8428,   -9.00
  316N145_7,       I05E,     429,          1,         34,         34,2,19950412,       0514,   -31.4815,   109.0508,       5202,    83.4,  20.5719,  36.1493,2,  36.1205,2,    231.4,2,   225.1,2,    3.06,2,    0.09,2,    0.00,2,    0.08,2,   2.296,2,   1.266,2,  -999.0,9,  -999.0,9,  -9.0000,9,-999.0000,9, -999.00,9, -999.00,9,  -999.0,9,  -999.0,-999.000,9,-999.000,   2.578,2,  -9.0000,-999.0000,  20.5561,   -9.00
  316N145_7,       I05E,     429,          1,         33,         33,2,19950412,       0514,   -31.4815,   109.0508,       5202,   123.5,  17.1478,  35.8392,2,  35.8329,2,    241.6,2,   232.2,2,    2.84,2,    0.32,2,    0.05,2,    0.19,2,-999.000,9,-999.000,9,  -999.0,9,  -999.0,9,  -9.0000,9,-999.0000,9, -999.00,9, -999.00,9,  -999.0,9,  -999.0,-999.000,9,-999.000,-999.000,9,  -9.0000,-999.0000,  17.1272,   -9.00
  316N145_7,       I05E,     429,          1,         32,         32,2,19950412,       0514,   -31.4815,   109.0508,       5202,   172.7,  15.6384,  35.6762,2,  35.6650,2,    231.9,2,   227.4,2,    2.61,2,    2.24,2,    0.02,2,    0.32,2,   2.680,2,   1.515,2,  -999.0,9,  -999.0,9,  -9.0000,9,-999.0000,9, -999.00,9, -999.00,9,  -999.0,9,  -999.0,-999.000,9,-999.000,   1.023,2,  -9.0000,-999.0000,  15.6113,   -9.00
  316N145_7,       I05E,     429,          1,         31,         31,2,19950412,       0514,   -31.4815,   109.0508,       5202,   220.4,  14.2743,  35.4603,2,  35.4507,2,    233.6,2,   231.6,2,    2.60,2,    3.94,2,    0.01,2,    0.44,2,-999.000,9,-999.000,9,  -999.0,9,  -999.0,9,  -9.0000,9,-999.0000,9, -999.00,9, -999.00,9,  -999.0,9,  -999.0,-999.000,9,-999.000,-999.000,9,  -9.0000,-999.0000,  14.2419,   -9.00
  316N145_7,       I05E,     429,          1,         30,         30,2,19950412,       0514,   -31.4815,   109.0508,       5202,   279.4,  12.5581,  35.1916,2,  35.1768,2,    237.2,2,   236.3,2,    2.80,2,    6.94,2,    0.01,2,    0.62,2,   3.164,2,   1.685,2,  -999.0,9,  -999.0,9,  -9.0000,9,-999.0000,9, -999.00,9, -999.00,9,  -999.0,9,  -999.0,-999.000,9,-999.000,   1.275,2,  -9.0000,-999.0000,  12.5203,   -9.00
  316N145_7,       I05E,     429,          1,         29,         29,2,19950412,       0514,   -31.4815,   109.0508,       5202,   338.8,  11.0546,  34.9503,2,  34.9449,2,    238.5,2,   240.2,2,    3.42,2,   10.38,2,    0.00,2,    0.83,2,   3.288,2,   1.742,2,  -999.0,9,  -999.0,9,  -9.0000,9,-999.0000,9, -999.00,9, -999.00,9,  -999.0,9,  -999.0,-999.000,9,-999.000,   1.622,2,  -9.0000,-999.0000,  11.0125,   -9.00
  316N145_7,       I05E,     429,          1,         28,         28,2,19950412,       0514,   -31.4815,   109.0508,       5202,   407.4,   9.8590,  34.7648,2,  34.7600,2,    238.7,2,   242.8,2,    4.68,2,   13.87,2,    0.00,2,    1.03,2,   3.171,2,   1.726,2,  -999.0,9,  -999.0,9,  -9.0000,9,-999.0000,9, -999.00,9, -999.00,9,  -999.0,9,  -999.0,-999.000,9,-999.000,   1.940,2,  -9.0000,-999.0000,   9.8118,   -9.00
  316N145_7,       I05E,     429,          1,         27,         27,2,19950412,       0514,   -31.4815,   109.0508,       5202,   508.0,   8.6111,  34.6040,2,  34.5989,2,    229.2,2,   227.2,2,    8.50,2,   19.21,2,    0.00,2,    1.36,2,   2.528,2,   1.306,2,  -999.0,9,  -999.0,9,  -9.0000,9,-999.0000,9, -999.00,9, -999.00,9,  -999.0,9,  -999.0,-999.000,9,-999.000,   1.937,2,  -9.0000,-999.0000,   8.5566,   -9.00
  316N145_7,       I05E,     429,          1,         26,         26,2,19950412,       0514,   -31.4815,   109.0508,       5202,   609.6,   6.7443,  34.4658,2,  34.4638,2,    197.4,2,   197.7,2,   19.95,2,   26.18,2,    0.00,2,    1.81,2,   1.010,2,   0.551,2,  -999.0,9,  -999.0,9,  -9.0000,9,-999.0000,9, -999.00,9, -999.00,9,  -999.0,9,  -999.0,-999.000,9,-999.000,   1.307,2,  -9.0000,-999.0000,   6.6871,   -9.00
  316N145_7,       I05E,     429,          1,         25,         25,2,19950412,       0514,   -31.4815,   109.0508,       5202,   712.0,   5.3669,  34.4103,2,  34.4092,2,    190.7,2,   191.9,2,   31.41,2,   29.50,2,    0.00,2,    2.04,2,-999.000,9,-999.000,9,  -999.0,9,  -999.0,9,  -9.0000,9,-999.0000,9, -999.00,9, -999.00,9,  -999.0,9,  -999.0,-999.000,9,-999.000,-999.000,9,  -9.0000,-999.0000,   5.3072,   -9.00
  316N145_7,       I05E,     429,          1,         24,         24,2,19950412,       0514,   -31.4815,   109.0508,       5202,   812.7,   4.5445,  34.4143,2,  34.4118,2,    181.7,2,   181.0,2,   44.34,2,   31.91,2,    0.00,2,    2.23,2,   0.355,3,   0.201,2,  -999.0,9,  -999.0,9,  -9.0000,9,-999.0000,9, -999.00,9, -999.00,9,  -999.0,9,  -999.0,-999.000,9,-999.000,   0.875,2,  -9.0000,-999.0000,   4.4809,   -9.00
  316N145_7,       I05E,     429,          1,         23,         23,2,19950412,       0514,   -31.4815,   109.0508,       5202,   913.3,   3.9707,  34.4196,2,  34.4210,2,    176.0,2,   177.1,2,   52.60,2,   33.14,2,    0.00,2,    2.32,2,-999.000,9,-999.000,9,  -999.0,9,  -999.0,9,  -9.0000,9,-999.0000,9, -999.00,9, -999.00,9,  -999.0,9,  -999.0,-999.000,9,-999.000,-999.000,9,  -9.0000,-999.0000,   3.9025,   -9.00
  316N145_7,       I05E,     429,          1,         22,         22,2,19950412,       0514,   -31.4815,   109.0508,       5202,  1014.8,   3.6778,  34.4661,2,  34.4630,2,    167.2,2,   165.9,2,   62.77,2,   34.18,2,    0.00,2,    2.41,2,   0.131,3,   0.077,2,  -999.0,9,  -999.0,9,  -9.0000,9,-999.0000,9, -999.00,9, -999.00,9,  -999.0,9,  -999.0,-999.000,9,-999.000,   0.501,2,  -9.0000,-999.0000,   3.6035,   -9.00
  316N145_7,       I05E,     429,          1,         21,         21,2,19950412,       0514,   -31.4815,   109.0508,       5202,  1165.2,   3.2896,  34.5250,2,  34.5237,2,    155.5,2,   157.2,2,   73.79,2,   34.88,2,    0.00,2,    2.46,2,   0.067,3,   0.032,2,  -999.0,9,  -999.0,9,  -9.0000,9,-999.0000,9, -999.00,9, -999.00,9,  -999.0,9,  -999.0,-999.000,9,-999.000,   0.253,2,  -9.0000,-999.0000,   3.2064,   -9.00
  316N145_7,       I05E,     429,          1,         20,         20,2,19950412,       0514,   -31.4815,   109.0508,       5202,  1317.6,   3.0048,  34.5729,2,  34.5718,2,    155.0,2,   155.7,2,   79.93,2,   34.93,2,    0.00,2,    2.46,2,-999.000,9,-999.000,9,  -999.0,9,  -999.0,9,  -9.0000,9,-999.0000,9, -999.00,9, -999.00,9,  -999.0,9,  -999.0,-999.000,9,-999.000,-999.000,9,  -9.0000,-999.0000,   2.9119,   -9.00
  316N145_7,       I05E,     429,          1,         19,         19,2,19950412,       0514,   -31.4815,   109.0508,       5202,  1466.4,   2.8157,  34.6146,2,  34.6128,2,    156.7,2,   157.0,2,   84.80,2,   34.64,2,    0.00,2,    2.43,2,  -0.009,3,   0.008,2,  -999.0,9,  -999.0,9,  -9.0000,9,-999.0000,9, -999.00,9, -999.00,9,  -999.0,9,  -999.0,-999.000,9,-999.000,   0.087,2,  -9.0000,-999.0000,   2.7126,   -9.00
  316N145_7,       I05E,     429,          1,         18,         18,2,19950412,       0514,   -31.4815,   109.0508,       5202,  1620.5,   2.6397,  34.6591,2,  34.6582,2,    159.3,2,   158.8,2,   91.16,2,   34.20,2,    0.00,2,    2.41,2,-999.000,9,-999.000,9,  -999.0,9,  -999.0,9,  -9.0000,9,-999.0000,9, -999.00,9, -999.00,9,  -999.0,9,  -999.0,-999.000,9,-999.000,-999.000,9,  -9.0000,-999.0000,   2.5260,   -9.00
  316N145_7,       I05E,     429,          1,         17,         17,2,19950412,       0514,   -31.4815,   109.0508,       5202,  1770.8,   2.5111,  34.6872,2,  34.6863,2,    159.4,2,   160.3,2,   96.68,2,   33.96,2,    0.00,2,    2.39,2,-999.000,9,-999.000,9,  -999.0,9,  -999.0,9,  -9.0000,9,-999.0000,9, -999.00,9, -999.00,9,  -999.0,9,  -999.0,-999.000,9,-999.000,-999.000,9,  -9.0000,-999.0000,   2.3864,   -9.00
  316N145_7,       I05E,     429,          1,         16,         16,2,19950412,       0514,   -31.4815,   109.0508,       5202,  1921.0,   2.3617,  34.7080,2,  34.7070,2,    162.6,2,   162.6,2,  102.63,2,   33.76,2,    0.00,2,    2.38,2,  -0.017,3,   0.000,2,  -999.0,9,  -999.0,9,  -9.0000,9,-999.0000,9, -999.00,9, -999.00,9,  -999.0,9,  -999.0,-999.000,9,-999.000,   0.005,2,  -9.0000,-999.0000,   2.2263,   -9.00
  316N145_7,       I05E,     429,          1,         15,         15,2,19950412,       0514,   -31.4815,   109.0508,       5202,  2124.7,   2.1743,  34.7210,2,  34.7193,2,    166.7,2,   165.9,2,  108.18,2,   33.52,2,    0.00,2,    2.37,2,-999.000,9,-999.000,9,  -999.0,9,  -999.0,9,  -9.0000,9,-999.0000,9, -999.00,9, -999.00,9,  -999.0,9,  -999.0,-999.000,9,-999.000,-999.000,9,  -9.0000,-999.0000,   2.0241,   -9.00
  316N145_7,       I05E,     429,          1,         14,         14,2,19950412,       0514,   -31.4815,   109.0508,       5202,  2328.0,   2.0258,  34.7262,2,  34.7248,2,    167.8,2,   169.6,2,  111.36,2,   33.43,2,    0.00,2,    2.35,2,  -0.036,3,   0.001,2,  -999.0,9,  -999.0,9,  -9.0000,9,-999.0000,9, -999.00,9, -999.00,9,  -999.0,9,  -999.0,-999.000,9,-999.000,   0.002,2,  -9.0000,-999.0000,   1.8603,   -9.00
  316N145_7,       I05E,     429,          1,         13,         13,2,19950412,       0514,   -31.4815,   109.0508,       5202,  2530.3,   1.8974,  34.7284,2,  34.7274,2,    172.8,2,   172.2,2,  114.55,2,   33.34,2,    0.00,2,    2.34,2,-999.000,9,-999.000,9,  -999.0,9,  -999.0,9,  -9.0000,9,-999.0000,9, -999.00,9, -999.00,9,  -999.0,9,  -999.0,-999.000,9,-999.000,-999.000,9,  -9.0000,-999.0000,   1.7160,   -9.00
  316N145_7,       I05E,     429,          1,         12,         12,2,19950412,       0514,   -31.4815,   109.0508,       5202,  2737.2,   1.7639,  34.7290,2,  34.7278,2,    176.6,2,   176.4,2,  116.23,2,   33.20,2,    0.00,2,    2.33,2,-999.000,9,-999.000,9,  -999.0,9,  -999.0,9,  -9.0000,9,-999.0000,9, -999.00,9, -999.00,9,  -999.0,9,  -999.0,-999.000,9,-999.000,-999.000,9,  -9.0000,-999.0000,   1.5660,   -9.00
  316N145_7,       I05E,     429,          1,         11,         11,2,19950412,       0514,   -31.4815,   109.0508,       5202,  2938.9,   1.6621,  34.7292,2,  34.7278,2,    181.2,2,   181.3,2,  116.62,2,   32.95,2,    0.00,2,    2.30,2,-999.000,9,-999.000,9,  -999.0,9,  -999.0,9,  -9.0000,9,-999.0000,9, -999.00,9, -999.00,9,  -999.0,9,  -999.0,-999.000,9,-999.000,-999.000,9,  -9.0000,-999.0000,   1.4473,   -9.00
  316N145_7,       I05E,     429,          1,         10,         10,2,19950412,       0514,   -31.4815,   109.0508,       5202,  3143.9,   1.5469,  34.7279,2,  34.7254,3,    185.1,2,   184.7,2,  118.73,2,   32.91,2,    0.00,2,    2.29,2,  -0.005,3,   0.000,2,  -999.0,9,  -999.0,9,  -9.0000,9,-999.0000,9, -999.00,9, -999.00,9,  -999.0,9,  -999.0,-999.000,9,-999.000,  -0.003,2,  -9.0000,-999.0000,   1.3149,   -9.00
  316N145_7,       I05E,     429,          1,          9,          9,2,19950412,       0514,   -31.4815,   109.0508,       5202,  3346.9,   1.4420,  34.7258,2,  34.7237,3,    188.7,2,   188.2,2,  120.42,2,   32.77,2,    0.00,2,    2.29,2,-999.000,9,-999.000,9,  -999.0,9,  -999.0,9,  -9.0000,9,-999.0000,9, -999.00,9, -999.00,9,  -999.0,9,  -999.0,-999.000,9,-999.000,-999.000,9,  -9.0000,-999.0000,   1.1925,   -9.00
  316N145_7,       I05E,     429,          1,          8,          8,2,19950412,       0514,   -31.4815,   109.0508,       5202,  3551.6,   1.3534,  34.7227,2,  34.7217,2,    191.0,2,   190.5,2,  122.32,2,   32.82,2,    0.00,2,    2.28,2,-999.000,9,-999.000,9,  -999.0,9,  -999.0,9,  -9.0000,9,-999.0000,9, -999.00,9, -999.00,9,  -999.0,9,  -999.0,-999.000,9,-999.000,-999.000,9,  -9.0000,-999.0000,   1.0855,   -9.00
  316N145_7,       I05E,     429,          1,          7,          7,2,19950412,       0514,   -31.4815,   109.0508,       5202,  3806.2,   1.2539,  34.7191,2,  34.7182,2,    193.0,2,   193.4,2,  124.44,2,   32.78,2,    0.00,2,    2.29,2,  -0.024,3,   0.000,6,  -999.0,9,  -999.0,9,  -9.0000,9,-999.0000,9, -999.00,9, -999.00,9,  -999.0,9,  -999.0,-999.000,9,-999.000,   0.000,6,  -9.0000,-999.0000,   0.9623,   -9.00
  316N145_7,       I05E,     429,          1,          6,          6,2,19950412,       0514,   -31.4815,   109.0508,       5202,  4095.8,   1.1904,  34.7164,2,  34.7152,2,    196.3,2,   195.8,2,  125.48,2,   32.83,2,    0.00,2,    2.29,2,-999.000,9,-999.000,9,  -999.0,9,  -999.0,9,  -9.0000,9,-999.0000,9, -999.00,9, -999.00,9,  -999.0,9,  -999.0,-999.000,9,-999.000,-999.000,9,  -9.0000,-999.0000,   0.8697,   -9.00
  316N145_7,       I05E,     429,          1,          5,          5,2,19950412,       0514,   -31.4815,   109.0508,       5202,  4316.0,   1.1540,  34.7144,2,  34.7136,2,    197.9,2,   197.6,2,  125.65,2,   32.74,2,    0.00,2,    2.27,2,  -0.059,3,   0.000,2,  -999.0,9,  -999.0,9,  -9.0000,9,-999.0000,9, -999.00,9, -999.00,9,  -999.0,9,  -999.0,-999.000,9,-999.000,   0.014,2,  -9.0000,-999.0000,   0.8102,   -9.00
  316N145_7,       I05E,     429,          1,          4,          4,2,19950412,       0514,   -31.4815,   109.0508,       5202,  4572.0,   1.0926,  34.7130,2,  34.7121,2,    202.2,2,   203.0,2,  123.86,2,   32.45,2,    0.00,2,    2.25,2,-999.000,9,-999.000,9,  -999.0,9,  -999.0,9,  -9.0000,9,-999.0000,9, -999.00,9, -999.00,9,  -999.0,9,  -999.0,-999.000,9,-999.000,-999.000,9,  -9.0000,-999.0000,   0.7220,   -9.00
  316N145_7,       I05E,     429,          1,          3,          3,2,19950412,       0514,   -31.4815,   109.0508,       5202,  4828.2,   1.0331,  34.7097,2,  34.7087,2,    205.5,2,   205.9,2,  124.03,2,   32.45,2,    0.00,2,    2.25,2,  -0.051,3,   0.004,2,  -999.0,9,  -999.0,9,  -9.0000,9,-999.0000,9, -999.00,9, -999.00,9,  -999.0,9,  -999.0,-999.000,9,-999.000,   0.063,2,  -9.0000,-999.0000,   0.6349,   -9.00
  316N145_7,       I05E,     429,          1,          2,          2,2,19950412,       0514,   -31.4815,   109.0508,       5202,  5084.1,   0.9977,  34.7071,2,  34.7060,2,    208.5,2,   208.3,2,  124.41,2,   32.46,2,    0.00,2,    2.24,2,  -0.019,3,   0.008,2,  -999.0,9,  -999.0,9,  -9.0000,9,-999.0000,9, -999.00,9, -999.00,9,  -999.0,9,  -999.0,-999.000,9,-999.000,   0.109,2,  -9.0000,-999.0000,   0.5703,   -9.00
  316N145_7,       I05E,     429,          1,          1,          1,2,19950412,       0514,   -31.4815,   109.0508,       5202,  5319.0,   0.9988,  34.7059,2,  34.7058,2,    209.5,2,   209.5,2,  124.58,2,   32.46,2,    0.00,2,    2.25,2,  -0.009,3,   0.014,2,  -999.0,9,  -999.0,9,  -9.0000,9,-999.0000,9, -999.00,9, -999.00,9,  -999.0,9,  -999.0,-999.000,9,-999.000,   0.131,2,  -9.0000,-999.0000,   0.5428,   -9.00