BOTTLE,20211124CCHSIORKP
EXPOCODE,SECT_ID,STNNBR,CASTNO,SAMPNO,BTLNBR,BTLNBR_FLAG_W,DATE,TIME,LATITUDE,LONGITUDE,DEPTH,CTDPRS,CTDTMP,CTDSAL,CTDSAL_FLAG_W,SALNTY,SALNTY_FLAG_W,CTDOXY,CTDOXY_FLAG_W,OXYGEN,OXYGEN_FLAG_W,SILCAT,SILCAT_FLAG_W,NITRAT,NITRAT_FLAG_W,NITRIT,NITRIT_FLAG_W,PHSPHT,PHSPHT_FLAG_W,CFC-11,CFC-11_FLAG_W,CFC-12,CFC-12_FLAG_W,TCARBN,TCARBN_FLAG_W,ALKALI,ALKALI_FLAG_W,TRITUM,TRITUM_FLAG_W,HELIUM,HELIUM_FLAG_W,DELHE3,DELHE3_FLAG_W,DELC13,DELC13_FLAG_W,DELC14,DELC14_FLAG_W,C14ERR,NEON,NEON_FLAG_W,NEONER,CCL4,CCL4_FLAG_W,TRITER,HELIER,THETA,DELHER
,,,,,,,,,,,METERS,DBAR,ITS-90,PSS-78,,PSS-78,,UMOL/KG,,UMOL/KG,,UMOL/KG,,UMOL/KG,,UMOL/KG,,UMOL/KG,,PMOL/KG,,PMOL/KG,,UMOL/KG,,UMOL/KG,,TU,,NMOL/KG,,PERCNT,,/MILLE,,/MILLE,,/MILLE,NMOL/KG,,NMOL/KG,PMOL/KG,,TU,NMOL/KG,DEG C,PERCNT
  316N145_7,      TRANS,     378,          1,         36,         36,2,19950331,       1349,   -29.4668,    86.4832,       3760,     2.8,  22.8560,  36.1107,2,  36.1090,2,    217.3,2,   217.7,2,    2.67,2,    0.16,2,    0.00,2,    0.11,2,   2.084,2,   1.168,2,  2045.8,2,  2369.0,2,  -9.0000,9,-999.0000,9, -999.00,9, -999.00,9,  -999.0,9,  -999.0,-999.000,9,-999.000,   2.763,2,  -9.0000,-999.0000,  22.8554,   -9.00
  316N145_7,      TRANS,     378,          1,         35,         35,2,19950331,       1349,   -29.4668,    86.4832,       3760,    40.0,  21.5962,  36.0138,2,  36.0131,2,    213.1,2,   228.3,2,    2.65,2,    0.16,2,    0.00,2,    0.12,2,-999.000,9,-999.000,9,  2045.2,2,  2363.7,2,  -9.0000,9,-999.0000,9, -999.00,9, -999.00,9,  -999.0,9,  -999.0,-999.000,9,-999.000,-999.000,9,  -9.0000,-999.0000,  21.5884,   -9.00
  316N145_7,      TRANS,     378,          1,         34,         34,2,19950331,       1349,   -29.4668,    86.4832,       3760,    76.3,  18.2386,  35.8324,2,  35.8281,2,    245.5,2,   245.8,2,    2.43,2,    0.16,2,    0.00,2,    0.15,2,   2.594,2,   1.409,2,  2053.5,2,  2352.4,2,  -9.0000,9,-999.0000,9, -999.00,9, -999.00,9,  -999.0,9,  -999.0,-999.000,9,-999.000,   2.210,2,  -9.0000,-999.0000,  18.2254,   -9.00
  316N145_7,      TRANS,     378,          1,         33,         33,2,19950331,       1349,   -29.4668,    86.4832,       3760,   116.0,  15.9617,  35.6392,2,  35.6479,2,    241.7,2,   238.4,2,    2.20,2,    0.19,2,    0.03,2,    0.24,2,-999.000,9,-999.000,9,  2072.8,2,  2353.7,3,  -9.0000,9,-999.0000,9, -999.00,9, -999.00,9,  -999.0,9,  -999.0,-999.000,9,-999.000,-999.000,9,  -9.0000,-999.0000,  15.9433,   -9.00
  316N145_7,      TRANS,     378,          1,         32,         32,2,19950331,       1349,   -29.4668,    86.4832,       3760,   156.4,  14.7057,  35.4765,2,  35.4801,2,    234.9,2,   232.7,2,    2.40,2,    2.85,2,    0.13,2,    0.40,2,   2.868,2,   1.535,2,  2083.3,2,  2334.5,2,  -9.0000,9,-999.0000,9, -999.00,9, -999.00,9,  -999.0,9,  -999.0,-999.000,9,-999.000,   1.890,2,  -9.0000,-999.0000,  14.6823,   -9.00
  316N145_7,      TRANS,     378,          1,         31,         31,2,19950331,       1349,   -29.4668,    86.4832,       3760,   206.4,  13.4200,  35.3017,2,  35.3179,2,    227.8,2,   227.7,2,    3.03,2,    6.56,2,    0.01,2,    0.59,2,   3.029,2,   1.580,2,  2096.0,2,  2341.6,3,  -9.0000,9,-999.0000,9, -999.00,9, -999.00,9,  -999.0,9,  -999.0,-999.000,9,-999.000,   1.242,2,  -9.0000,-999.0000,  13.3909,   -9.00
  316N145_7,      TRANS,     378,          1,         30,         30,2,19950331,       1349,   -29.4668,    86.4832,       3760,   281.6,  12.3112,  35.1416,2,  35.1465,2,    228.7,2,   233.9,2,    3.65,2,    8.99,2,    0.00,2,    0.72,2,   3.025,2,   1.586,2,  2100.4,2,  2318.7,2,  -9.0000,9,-999.0000,9, -999.00,9, -999.00,9,  -999.0,9,  -999.0,-999.000,9,-999.000,   1.535,2,  -9.0000,-999.0000,  12.2737,   -9.00
  316N145_7,      TRANS,     378,          1,         29,         29,2,19950331,       1349,   -29.4668,    86.4832,       3760,   356.2,  11.7256,  35.0539,2,  35.0531,2,    234.0,2,   237.0,2,    4.07,2,   10.30,2,    0.00,2,    0.80,2,   2.997,2,   1.559,2,  2103.3,2,  2340.4,3,  -9.0000,9,-999.0000,9, -999.00,9, -999.00,9,  -999.0,9,  -999.0,-999.000,9,-999.000,   1.647,2,  -9.0000,-999.0000,  11.6795,   -9.00
  316N145_7,      TRANS,     378,          1,         28,         28,2,19950331,       1349,   -29.4668,    86.4832,       3760,   431.3,  11.2103,  34.9744,2,  34.9756,2,    235.8,2,   237.2,2,    4.27,2,   11.47,2,    0.00,2,    0.87,2,   2.961,2,   1.512,2,  2105.0,2,  2308.3,2,  -9.0000,9,-999.0000,9, -999.00,9, -999.00,9,  -999.0,9,  -999.0,-999.000,9,-999.000,   1.653,2,  -9.0000,-999.0000,  11.1559,   -9.00
  316N145_7,      TRANS,     378,          1,         27,         27,2,19950331,       1349,   -29.4668,    86.4832,       3760,   507.9,  10.6009,  34.8809,2,  34.8823,2,    238.3,2,   238.3,2,    4.46,2,   12.83,2,    0.00,2,    0.96,2,   2.866,6,   1.498,6,  2108.3,2,  2307.5,2,  -9.0000,9,-999.0000,9, -999.00,9, -999.00,9,  -999.0,9,  -999.0,-999.000,9,-999.000,   1.626,6,  -9.0000,-999.0000,  10.5389,   -9.00
  316N145_7,      TRANS,     378,          1,         26,         26,2,19950331,       1349,   -29.4668,    86.4832,       3760,   607.3,   9.5914,  34.7305,2,  34.7372,2,    234.1,2,   235.2,2,    5.51,2,   15.74,2,    0.00,2,    1.13,2,-999.000,9,-999.000,9,  2115.1,2,  2300.8,2,  -9.0000,9,-999.0000,9, -999.00,9, -999.00,9,  -999.0,9,  -999.0,-999.000,9,-999.000,-999.000,9,  -9.0000,-999.0000,   9.5215,   -9.00
  316N145_7,      TRANS,     378,          1,         25,         25,2,19950331,       1349,   -29.4668,    86.4832,       3760,   708.0,   8.6950,  34.6197,2,  34.6177,2,    225.2,2,   222.4,2,    8.48,2,   19.49,2,    0.00,2,    1.36,2,-999.000,9,-999.000,9,  2129.5,2,  2296.3,2,  -9.0000,9,-999.0000,9, -999.00,9, -999.00,9,  -999.0,9,  -999.0,-999.000,9,-999.000,-999.000,9,  -9.0000,-999.0000,   8.6178,   -9.00
  316N145_7,      TRANS,     378,          1,         24,         24,2,19950331,       1349,   -29.4668,    86.4832,       3760,   808.5,   7.1609,  34.5028,2,  34.5005,2,    203.0,2,   201.6,2,   17.40,2,   24.85,2,    0.00,2,    1.71,2,   0.984,2,   0.496,2,  2157.1,2,  2311.7,2,  -9.0000,9,-999.0000,9, -999.00,9, -999.00,9,  -999.0,9,  -999.0,-999.000,9,-999.000,   1.313,2,  -9.0000,-999.0000,   7.0815,   -9.00
  316N145_7,      TRANS,     378,          1,         23,         23,2,19950331,       1349,   -29.4668,    86.4832,       3760,   908.9,   5.6904,  34.4288,2,  34.4286,2,    188.7,2,   191.5,2,   29.51,2,   28.91,2,    0.00,2,    2.00,2,   0.528,2,   0.256,2,  2183.3,2,  2308.4,2,  -9.0000,9,-999.0000,9, -999.00,9, -999.00,9,  -999.0,9,  -999.0,-999.000,9,-999.000,   1.150,2,  -9.0000,-999.0000,   5.6106,   -9.00
  316N145_7,      TRANS,     378,          1,         22,         22,2,19950331,       1349,   -29.4668,    86.4832,       3760,  1010.1,   4.6801,  34.4145,2,  34.4188,2,    181.9,2,   181.5,2,   42.46,2,   31.51,2,    0.00,2,    2.20,2,-999.000,9,-999.000,9,  2207.2,2,  2313.5,2,  -9.0000,9,-999.0000,9, -999.00,9, -999.00,9,  -999.0,9,  -999.0,-999.000,9,-999.000,-999.000,9,  -9.0000,-999.0000,   4.5985,   -9.00
  316N145_7,      TRANS,     378,          1,         21,         21,2,19950331,       1349,   -29.4668,    86.4832,       3760,  1111.1,   4.1205,  34.4516,2,  34.4500,2,    174.7,2,   167.7,2,   55.83,2,   33.27,2,    0.00,2,    2.34,2,-999.000,9,-999.000,9,  2228.7,2,  2327.8,2,  -9.0000,9,-999.0000,9, -999.00,9, -999.00,9,  -999.0,9,  -999.0,-999.000,9,-999.000,-999.000,9,  -9.0000,-999.0000,   4.0346,   -9.00
  316N145_7,      TRANS,     378,          1,         20,         20,2,19950331,       1349,   -29.4668,    86.4832,       3760,  1211.4,   3.7335,  34.4913,2,  34.4879,2,    158.3,2,   159.6,2,   65.39,2,   34.21,2,    0.00,2,    2.42,2,-999.000,9,-999.000,9,  2244.6,2,  2337.3,2,  -9.0000,9,-999.0000,9, -999.00,9, -999.00,9,  -999.0,9,  -999.0,-999.000,9,-999.000,-999.000,9,  -9.0000,-999.0000,   3.6424,   -9.00
  316N145_7,      TRANS,     378,          1,         19,         19,2,19950331,       1349,   -29.4668,    86.4832,       3760,  1313.9,   3.4238,  34.5296,2,  34.5280,2,    156.2,2,   155.7,2,   72.60,2,   34.40,2,    0.00,2,    2.45,2,-999.000,9,-999.000,9,  2251.4,2,  2351.2,2,  -9.0000,9,-999.0000,9, -999.00,9, -999.00,9,  -999.0,9,  -999.0,-999.000,9,-999.000,-999.000,9,  -9.0000,-999.0000,   3.3270,   -9.00
  316N145_7,      TRANS,     378,          1,         18,         18,2,19950331,       1349,   -29.4668,    86.4832,       3760,  1414.4,   3.2596,  34.5748,2,  34.5728,2,    150.4,2,   150.8,2,   80.03,2,   34.80,2,    0.00,2,    2.47,2,  -0.003,3,   0.010,2,  2262.2,2,  2354.1,2,  -9.0000,9,-999.0000,9, -999.00,9, -999.00,9,  -999.0,9,  -999.0,-999.000,9,-999.000,   0.112,2,  -9.0000,-999.0000,   3.1560,   -9.00
  316N145_7,      TRANS,     378,          1,         17,         17,2,19950331,       1349,   -29.4668,    86.4832,       3760,  1515.1,   3.0127,  34.6061,2,  34.6052,2,    152.3,2,   153.8,2,   83.41,2,   34.55,2,    0.00,2,    2.45,2,-999.000,9,-999.000,9,  2264.5,2,  2361.3,2,  -9.0000,9,-999.0000,9, -999.00,9, -999.00,9,  -999.0,9,  -999.0,-999.000,9,-999.000,-999.000,9,  -9.0000,-999.0000,   2.9033,   -9.00
  316N145_7,      TRANS,     378,          1,         16,         16,2,19950331,       1349,   -29.4668,    86.4832,       3760,  1615.6,   2.9779,  34.6541,2,  34.6757,3,    149.7,2,   149.2,2,   91.50,2,   34.50,2,    0.00,2,    2.46,2,-999.000,9,-999.000,9,  2273.0,2,  2364.2,2,  -9.0000,9,-999.0000,9, -999.00,9, -999.00,9,  -999.0,9,  -999.0,-999.000,9,-999.000,-999.000,9,  -9.0000,-999.0000,   2.8604,   -9.00
  316N145_7,      TRANS,     378,          1,         15,         15,2,19950331,       1349,   -29.4668,    86.4832,       3760,  1716.3,   2.7880,  34.6676,2,  34.6680,2,    153.8,2,   153.7,2,   93.17,2,   34.00,2,    0.00,2,    2.43,2,  -0.007,3,  -0.002,2,  2272.3,2,  2383.2,3,  -9.0000,9,-999.0000,9, -999.00,9, -999.00,9,  -999.0,9,  -999.0,-999.000,9,-999.000,   0.024,2,  -9.0000,-999.0000,   2.6643,   -9.00
  316N145_7,      TRANS,     378,          1,         14,         14,2,19950331,       1349,   -29.4668,    86.4832,       3760,  1817.9,   2.6282,  34.6801,2,  34.6802,2,    157.6,2,   159.1,2,   94.42,2,   33.85,2,    0.00,2,    2.40,2,-999.000,9,-999.000,9,  2271.0,2,  2377.6,2,  -9.0000,9,-999.0000,9, -999.00,9, -999.00,9,  -999.0,9,  -999.0,-999.000,9,-999.000,-999.000,9,  -9.0000,-999.0000,   2.4980,   -9.00
  316N145_7,      TRANS,     378,          1,         13,         13,2,19950331,       1349,   -29.4668,    86.4832,       3760,  1970.8,   2.4653,  34.7027,2,  34.7030,2,    163.2,2,   162.0,2,   99.10,2,   33.46,2,    0.00,2,    2.37,2,-999.000,9,-999.000,9,  2272.6,2,  2379.7,2,  -9.0000,9,-999.0000,9, -999.00,9, -999.00,9,  -999.0,9,  -999.0,-999.000,9,-999.000,-999.000,9,  -9.0000,-999.0000,   2.3241,   -9.00
  316N145_7,      TRANS,     378,          1,         12,         12,2,19950331,       1349,   -29.4668,    86.4832,       3760,  2122.8,   2.2580,  34.7157,2,  34.7152,2,    167.7,2,   168.3,2,  102.28,2,   33.11,2,    0.00,2,    2.34,2,-999.000,9,-999.000,9,  2274.2,2,  -999.0,5,  -9.0000,9,-999.0000,9, -999.00,9, -999.00,9,  -999.0,9,  -999.0,-999.000,9,-999.000,-999.000,9,  -9.0000,-999.0000,   2.1067,   -9.00
  316N145_7,      TRANS,     378,          1,         11,         11,2,19950331,       1349,   -29.4668,    86.4832,       3760,  2274.0,   2.0676,  34.7236,2,  34.7231,2,    176.1,2,   177.1,2,  102.46,2,   32.43,2,    0.00,2,    2.29,2,   0.207,3,   0.000,2,  2269.3,2,  2392.2,2,  -9.0000,9,-999.0000,9, -999.00,9, -999.00,9,  -999.0,9,  -999.0,-999.000,9,-999.000,   0.008,2,  -9.0000,-999.0000,   1.9061,   -9.00
  316N145_7,      TRANS,     378,          1,         10,         10,2,19950331,       1349,   -29.4668,    86.4832,       3760,  2427.3,   1.9572,  34.7270,2,  34.7270,2,    178.5,2,   179.1,2,  104.79,2,   32.42,2,    0.00,2,    2.28,2,-999.000,9,-999.000,9,  2269.9,2,  2378.9,2,  -9.0000,9,-999.0000,9, -999.00,9, -999.00,9,  -999.0,9,  -999.0,-999.000,9,-999.000,-999.000,9,  -9.0000,-999.0000,   1.7840,   -9.00
  316N145_7,      TRANS,     378,          1,          9,          9,2,19950331,       1349,   -29.4668,    86.4832,       3760,  2579.1,   1.8508,  34.7307,2,  34.7307,2,    184.7,2,   184.6,2,  104.32,2,   32.13,2,    0.00,2,    2.24,2,   0.001,3,  -0.004,2,  2267.1,2,  2375.5,2,  -9.0000,9,-999.0000,9, -999.00,9, -999.00,9,  -999.0,9,  -999.0,-999.000,9,-999.000,   0.010,2,  -9.0000,-999.0000,   1.6658,   -9.00
  316N145_7,      TRANS,     378,          1,          8,          8,2,19950331,       1349,   -29.4668,    86.4832,       3760,  2732.4,   1.7478,  34.7321,2,  34.7333,2,    186.8,2,   187.4,2,  106.22,2,   32.03,2,    0.00,2,    2.24,2,  -0.032,3,  -0.003,2,  2265.8,2,  2376.2,2,  -9.0000,9,-999.0000,9, -999.00,9, -999.00,9,  -999.0,9,  -999.0,-999.000,9,-999.000,   0.010,2,  -9.0000,-999.0000,   1.5506,   -9.00
  316N145_7,      TRANS,     378,          1,          7,          7,2,19950331,       1349,   -29.4668,    86.4832,       3760,  2884.7,   1.6540,  34.7325,2,  34.7321,2,    189.6,2,   190.0,2,  107.90,2,   31.93,2,    0.00,2,    2.23,2,   0.026,3,   0.000,2,  2266.6,2,  2378.0,2,  -9.0000,9,-999.0000,9, -999.00,9, -999.00,9,  -999.0,9,  -999.0,-999.000,9,-999.000,   0.009,2,  -9.0000,-999.0000,   1.4445,   -9.00
  316N145_7,      TRANS,     378,          1,          6,          6,2,19950331,       1349,   -29.4668,    86.4832,       3760,  3037.7,   1.5543,  34.7296,2,  34.7296,2,    190.8,2,   195.1,4,  111.52,2,   32.13,2,    0.00,2,    2.23,2,   0.015,3,   0.000,2,  2270.0,2,  2392.2,2,  -9.0000,9,-999.0000,9, -999.00,9, -999.00,9,  -999.0,9,  -999.0,-999.000,9,-999.000,   0.009,2,  -9.0000,-999.0000,   1.3324,   -9.00
  316N145_7,      TRANS,     378,          1,          5,          5,2,19950331,       1349,   -29.4668,    86.4832,       3760,  3190.6,   1.4790,  34.7274,2,  34.7266,2,    191.2,2,   191.8,2,  113.86,2,   32.23,2,    0.00,2,    2.25,2,   0.009,3,  -0.001,2,  2272.6,2,  2383.0,2,  -9.0000,9,-999.0000,9, -999.00,9, -999.00,9,  -999.0,9,  -999.0,-999.000,9,-999.000,   0.003,2,  -9.0000,-999.0000,   1.2440,   -9.00
  316N145_7,      TRANS,     378,          1,          4,          4,2,19950331,       1349,   -29.4668,    86.4832,       3760,  3342.7,   1.4198,  34.7260,2,  34.7256,2,    192.2,2,   192.2,2,  116.19,2,   32.32,2,    0.00,2,    2.26,2,-999.000,9,-999.000,9,  2273.3,2,  2384.4,2,  -9.0000,9,-999.0000,9, -999.00,9, -999.00,9,  -999.0,9,  -999.0,-999.000,9,-999.000,-999.000,9,  -9.0000,-999.0000,   1.1713,   -9.00
  316N145_7,      TRANS,     378,          1,          3,          3,2,19950331,       1349,   -29.4668,    86.4832,       3760,  3496.5,   1.3842,  34.7243,2,  34.7233,2,    192.0,2,   192.1,2,  118.10,2,   32.42,2,    0.00,2,    2.26,2,-999.000,9,-999.000,9,  2276.4,2,  2404.5,3,  -9.0000,9,-999.0000,9, -999.00,9, -999.00,9,  -999.0,9,  -999.0,-999.000,9,-999.000,-999.000,9,  -9.0000,-999.0000,   1.1210,   -9.00
  316N145_7,      TRANS,     378,          1,          2,          2,2,19950331,       1349,   -29.4668,    86.4832,       3760,  3673.6,   1.3749,  34.7233,2,  34.7225,2,    193.3,2,   192.5,2,  118.71,2,   32.42,2,    0.00,2,    2.26,2,  -0.012,3,   0.004,2,  2276.4,2,  2391.6,2,  -9.0000,9,-999.0000,9, -999.00,9, -999.00,9,  -999.0,9,  -999.0,-999.000,9,-999.000,   0.006,2,  -9.0000,-999.0000,   1.0938,   -9.00
  316N145_7,      TRANS,     378,          1,          1,          1,2,19950331,       1349,   -29.4668,    86.4832,       3760,  3811.7,   1.3657,  34.7221,2,  34.7219,2,    192.8,2,   193.1,2,  119.32,2,   32.47,2,    0.00,2,    2.27,2,  -0.050,3,  -0.002,2,  2276.9,2,  2396.0,2,  -9.0000,9,-999.0000,9, -999.00,9, -999.00,9,  -999.0,9,  -999.0,-999.000,9,-999.000,   0.007,2,  -9.0000,-999.0000,   1.0704,   -9.00