BOTTLE,20211124CCHSIORKP
EXPOCODE,SECT_ID,STNNBR,CASTNO,SAMPNO,BTLNBR,BTLNBR_FLAG_W,DATE,TIME,LATITUDE,LONGITUDE,DEPTH,CTDPRS,CTDTMP,CTDSAL,CTDSAL_FLAG_W,SALNTY,SALNTY_FLAG_W,CTDOXY,CTDOXY_FLAG_W,OXYGEN,OXYGEN_FLAG_W,SILCAT,SILCAT_FLAG_W,NITRAT,NITRAT_FLAG_W,NITRIT,NITRIT_FLAG_W,PHSPHT,PHSPHT_FLAG_W,CFC-11,CFC-11_FLAG_W,CFC-12,CFC-12_FLAG_W,TCARBN,TCARBN_FLAG_W,ALKALI,ALKALI_FLAG_W,TRITUM,TRITUM_FLAG_W,HELIUM,HELIUM_FLAG_W,DELHE3,DELHE3_FLAG_W,DELC13,DELC13_FLAG_W,DELC14,DELC14_FLAG_W,C14ERR,NEON,NEON_FLAG_W,NEONER,CCL4,CCL4_FLAG_W,TRITER,HELIER,THETA,DELHER
,,,,,,,,,,,METERS,DBAR,ITS-90,PSS-78,,PSS-78,,UMOL/KG,,UMOL/KG,,UMOL/KG,,UMOL/KG,,UMOL/KG,,UMOL/KG,,PMOL/KG,,PMOL/KG,,UMOL/KG,,UMOL/KG,,TU,,NMOL/KG,,PERCNT,,/MILLE,,/MILLE,,/MILLE,NMOL/KG,,NMOL/KG,PMOL/KG,,TU,NMOL/KG,DEG C,PERCNT
  316N145_7,       I08N,     316,          1,         17,         17,2,19950317,       1822,    -5.0002,    79.9993,       5109,     3.1,  29.1189,  34.1100,2,  34.1408,3,    197.3,2,   197.9,2,    2.22,2,    0.10,2,    0.00,2,    0.07,2,   1.667,2,   0.952,2,  1899.7,2,  2245.5,2,   1.1185,2,   1.6910,2,   -0.88,2,    1.15,2,    67.1,2,     5.3,   6.619,2,   0.033,-999.000,9,   0.0042,   0.0085,  29.1182,    0.14
  316N145_7,       I08N,     316,          1,         16,         16,2,19950317,       1822,    -5.0002,    79.9993,       5109,    25.4,  28.7361,  34.2179,2,  34.2437,3,    195.5,2,   199.6,2,    2.21,2,    0.10,2,    0.00,2,    0.08,2,-999.000,9,-999.000,9,  1906.6,2,  2244.9,2,  -9.0000,9,-999.0000,9, -999.00,9, -999.00,9,  -999.0,9,  -999.0,-999.000,9,-999.000,-999.000,9,  -9.0000,-999.0000,  28.7300,   -9.00
  316N145_7,       I08N,     316,          1,         15,         15,2,19950317,       1822,    -5.0002,    79.9993,       5109,    66.0,  20.8090,  34.8760,2,  34.8768,3,    101.3,2,    91.9,2,   15.47,2,   16.11,2,    0.65,2,    1.16,2,   1.354,2,   0.733,2,  2102.2,2,  2301.6,2,   0.9850,2,   1.7153,2,    4.78,2,    0.37,2,    49.7,2,     6.0,   6.959,2,   0.035,-999.000,9,   0.0039,   0.0086,  20.7965,    0.14
  316N145_7,       I08N,     316,          1,         14,         14,2,19950317,       1822,    -5.0002,    79.9993,       5109,    96.1,  17.4901,  34.8536,2,  34.8565,3,     67.5,2,    65.9,2,   22.93,2,   22.93,2,    0.07,2,    1.58,2,   1.060,2,   0.561,2,  2150.6,2,  2300.2,2,  -9.0000,9,-999.0000,9, -999.00,9, -999.00,9,  -999.0,9,  -999.0,-999.000,9,-999.000,-999.000,9,  -9.0000,-999.0000,  17.4740,   -9.00
  316N145_7,       I08N,     316,          1,         13,         13,2,19950317,       1822,    -5.0002,    79.9993,       5109,   116.2,  15.5340,  34.8776,2,  34.8953,3,     62.0,2,    64.1,2,   25.41,2,   24.64,2,    0.03,2,    1.71,2,   0.893,2,   0.470,2,  2171.5,2,  2305.2,2,   0.7918,2,   1.7516,2,    7.53,2,    0.16,2,     3.0,2,     5.8,   7.230,2,   0.036,-999.000,9,   0.0035,   0.0088,  15.5160,    0.14
  316N145_7,       I08N,     316,          1,         12,         12,2,19950317,       1822,    -5.0002,    79.9993,       5109,   166.2,  13.6553,  35.0927,2,  35.0905,3,     87.2,2,    96.9,2,   20.21,2,   22.45,2,    0.01,2,    1.56,2,   1.011,2,   0.524,2,  2170.9,2,  2316.1,2,   0.6002,2,   1.7594,2,    5.57,2,    0.45,2,    11.7,2,     5.9,   7.335,2,   0.037,-999.000,9,   0.0032,   0.0088,  13.6317,    0.14
  316N145_7,       I08N,     316,          1,         11,         11,2,19950317,       1822,    -5.0002,    79.9993,       5109,   226.3,  12.1403,  35.0349,2,  35.0316,3,     87.6,2,    95.6,2,   21.86,2,   24.57,2,    0.00,2,    1.69,2,-999.000,9,-999.000,9,  2181.8,2,  2312.4,2,   0.4454,2,   1.7603,2,    5.65,2,    0.46,2,     3.9,2,     5.8,   7.376,2,   0.037,-999.000,9,   0.0030,   0.0088,  12.1105,    0.14
  316N145_7,       I08N,     316,          1,         10,         10,2,19950317,       1822,    -5.0002,    79.9993,       5109,   287.1,  11.3464,  34.9947,2,  34.9948,3,     91.6,2,    93.5,2,   23.51,2,   26.06,2,    0.00,2,    1.78,2,   0.561,2,   0.289,2,  2194.9,2,  2296.0,3,   0.3305,2,   1.7678,2,    5.09,2,   -0.54,4,   -46.8,3,     4.5,   7.429,2,   0.037,-999.000,9,   0.0028,   0.0088,  11.3102,    0.14
  316N145_7,       I08N,     316,          1,          9,          9,2,19950317,       1822,    -5.0002,    79.9993,       5109,   347.9,  10.8324,  34.9649,2,  34.9631,3,    101.1,2,    99.5,2,   24.54,2,   26.59,2,    0.00,2,    1.80,2,   0.523,2,   0.261,2,  2196.2,2,  2316.4,2,   0.2807,2,   1.7654,2,    4.51,2,    0.50,2,   -28.3,2,     5.8,   7.409,2,   0.037,-999.000,9,   0.0026,   0.0088,  10.7896,    0.14
  316N145_7,       I08N,     316,          1,          8,          8,2,19950317,       1822,    -5.0002,    79.9993,       5109,   417.2,  10.2846,  34.9462,2,  34.9535,3,     87.7,2,    89.5,2,   29.10,2,   28.67,2,    0.00,2,    1.97,2,   0.369,2,   0.188,2,  2211.1,2,  2306.2,3,   0.2066,2,   1.7709,2,    4.88,2,    0.35,2,   -48.9,2,     5.7,   7.457,2,   0.037,-999.000,9,   0.0025,   0.0089,  10.2348,    0.14
  316N145_7,       I08N,     316,          1,          7,          7,2,19950317,       1822,    -5.0002,    79.9993,       5109,   507.5,   9.4056,  34.8842,2,  34.8825,3,     83.3,2,    84.0,2,   36.98,2,   30.84,2,    0.00,2,    2.14,2,   0.185,2,   0.093,2,  2223.8,2,  2323.7,2,  -9.0000,9,-999.0000,9, -999.00,9,    0.17,2,   -86.9,2,     5.6,-999.000,9,-999.000,-999.000,9,  -9.0000,-999.0000,   9.3481,   -9.00
  316N145_7,       I08N,     316,          1,          6,          6,2,19950317,       1822,    -5.0002,    79.9993,       5109,   597.8,   8.5340,  34.8608,2,  34.8607,3,     76.0,2,    73.2,2,   49.63,2,   33.36,2,    0.00,2,    2.39,2,   0.068,2,   0.033,2,  2248.5,2,  2330.3,2,  -9.0000,9,-999.0000,9, -999.00,9,    0.06,2,  -106.7,2,     3.5,-999.000,9,-999.000,-999.000,9,  -9.0000,-999.0000,   8.4697,   -9.00
  316N145_7,       I08N,     316,          1,          5,          5,2,19950317,       1822,    -5.0002,    79.9993,       5109,   698.7,   7.8376,  34.8530,2,  34.8516,3,     62.3,2,    62.8,2,   62.08,2,   35.36,2,    0.00,2,    2.56,2,-999.000,9,-999.000,9,  2298.0,4,  2341.6,2,   0.0192,2,   1.8000,2,    8.28,2,    0.18,2,  -125.9,2,     4.5,   7.594,2,   0.038,-999.000,9,   0.0022,   0.0090,   7.7656,    0.14
  316N145_7,       I08N,     316,          1,          4,          4,2,19950317,       1822,    -5.0002,    79.9993,       5109,   799.7,   7.3008,  34.8454,2,  34.8436,3,     65.2,2,    65.6,2,   69.77,2,   35.65,2,    0.00,2,    2.60,2,   0.028,6,   0.013,6,  2276.1,2,  2350.8,2,  -9.0000,9,   1.8155,2,    9.41,2,    0.13,2,  -138.4,2,     4.0,   7.656,2,   0.038,-999.000,9,  -9.0000,   0.0091,   7.2211,    0.14
  316N145_7,       I08N,     316,          1,          3,          3,2,19950317,       1822,    -5.0002,    79.9993,       5109,   900.2,   6.6148,  34.8187,2,  34.8162,3,     67.0,2,    68.0,2,   79.55,2,   36.34,2,    0.00,2,    2.66,2,   0.010,2,   0.003,2,  2284.5,2,  2360.2,2,  -9.0000,9,-999.0000,9, -999.00,9,   -0.01,2,  -147.9,2,     4.7,-999.000,9,-999.000,-999.000,9,  -9.0000,-999.0000,   6.5291,   -9.00
  316N145_7,       I08N,     316,          1,          2,          2,2,19950317,       1822,    -5.0002,    79.9993,       5109,  1000.8,   6.0515,  34.7957,2,  34.7940,3,     72.6,2,    72.1,2,   86.64,2,   36.63,2,    0.00,2,    2.68,2,   0.006,2,   0.004,2,  2288.6,2,  2366.9,2,   0.0182,2,   1.8258,2,   11.88,2,    0.11,2,  -166.3,2,     3.3,   7.704,2,   0.039,-999.000,9,   0.0022,   0.0091,   5.9597,    0.14
  316N145_7,       I08N,     316,          1,          1,          1,2,19950317,       1822,    -5.0002,    79.9993,       5109,  1111.3,   5.4466,  34.7912,2,  34.7897,3,     78.9,2,    78.4,2,   93.75,2,   36.83,2,    0.00,2,    2.70,2,   0.004,2,   0.002,2,  2293.9,2,  2373.9,2,  -9.0000,9,-999.0000,9, -999.00,9,    0.01,2,  -173.8,2,     3.3,-999.000,9,-999.000,-999.000,9,  -9.0000,-999.0000,   5.3489,   -9.00
  316N145_7,       I08N,     316,          1,         36,         36,2,19950317,       1822,    -5.0002,    79.9993,       5109,  1262.3,   5.0512,  34.8208,2,  34.8210,3,     81.5,2,    80.2,2,   98.56,2,   37.02,2,    0.00,2,    2.72,2,   0.000,6,   0.001,6,  2299.8,2,  2383.3,2,   0.0014,2,   1.8424,2,   12.44,2,    0.08,2,  -177.2,2,     3.6,   7.506,2,   0.038,-999.000,9,   0.0022,   0.0092,   4.9426,    0.14
  316N145_7,       I08N,     316,          1,         35,         35,2,19950317,       1822,    -5.0002,    79.9993,       5109,  1414.0,   4.4449,  34.7952,2,  34.7986,3,     90.8,2,    91.9,2,  103.60,2,   36.78,2,    0.00,2,    2.69,2,-999.000,9,-999.000,9,  2300.7,2,  2385.8,2,  -9.0000,9,-999.0000,9, -999.00,9, -999.00,9,  -999.0,9,  -999.0,-999.000,9,-999.000,-999.000,9,  -9.0000,-999.0000,   4.3281,   -9.00
  316N145_7,       I08N,     316,          1,         34,         34,2,19950317,       1822,    -5.0002,    79.9993,       5109,  1565.3,   3.7862,  34.7748,2,  34.7728,3,    106.0,2,   106.5,2,  109.08,2,   36.44,2,    0.00,2,    2.64,2,  -0.001,2,   0.001,2,  2301.8,2,  2391.1,2,  -0.0010,2,   1.8616,2,   13.20,2, -999.00,9,  -999.0,9,  -999.0,   7.937,2,   0.040,-999.000,9,   0.0022,   0.0093,   3.6631,    0.14
  316N145_7,       I08N,     316,          1,         33,         33,2,19950317,       1822,    -5.0002,    79.9993,       5109,  1767.5,   3.1625,  34.7692,2,  34.7667,3,    120.8,2,   123.1,2,  114.79,2,   35.86,2,    0.00,2,    2.58,2,   0.003,2,   0.002,2,  2300.6,2,  2395.4,2,   0.0015,2,   1.8447,2,   13.46,2, -999.00,9,  -999.0,9,  -999.0,   7.883,2,   0.039,-999.000,9,   0.0022,   0.0092,   3.0291,    0.14
  316N145_7,       I08N,     316,          1,         32,         32,2,19950317,       1822,    -5.0002,    79.9993,       5109,  1969.8,   2.6602,  34.7599,2,  34.7597,3,    133.6,2,   134.3,2,  120.10,2,   35.47,2,    0.00,2,    2.54,2,-999.000,9,-999.000,9,  2301.3,2,  2403.6,2,   0.0088,2,   1.8388,2,   14.69,2, -999.00,9,  -999.0,9,  -999.0,   7.827,2,   0.039,-999.000,9,   0.0022,   0.0092,   2.5160,    0.14
  316N145_7,       I08N,     316,          1,         31,         31,2,19950317,       1822,    -5.0002,    79.9993,       5109,  2173.3,   2.3470,  34.7502,2,  34.7483,3,    143.5,2,   143.8,2,  122.87,2,   35.08,2,    0.00,2,    2.49,2,-999.000,9,-999.000,9,  2299.6,2,  2403.9,2,  -9.0000,9,-999.0000,9, -999.00,9, -999.00,9,  -999.0,9,  -999.0,-999.000,9,-999.000,-999.000,9,  -9.0000,-999.0000,   2.1897,   -9.00
  316N145_7,       I08N,     316,          1,         30,         30,2,19950317,       1822,    -5.0002,    79.9993,       5109,  2375.9,   2.1103,  34.7444,2,  34.7449,3,    149.7,2,   149.0,2,  126.28,2,   34.94,2,    0.00,2,    2.46,2,  -0.002,2,   0.000,2,  2299.1,2,  2407.1,2,  -9.0000,9,-999.0000,9, -999.00,9, -999.00,9,  -999.0,9,  -999.0,-999.000,9,-999.000,-999.000,9,  -9.0000,-999.0000,   1.9389,   -9.00
  316N145_7,       I08N,     316,          1,         29,         29,2,19950317,       1822,    -5.0002,    79.9993,       5109,  2578.8,   1.9137,  34.7376,2,  34.7359,3,    156.6,2,   157.1,2,  127.35,2,   34.55,2,    0.00,2,    2.43,2,-999.000,9,-999.000,9,  2299.2,2,  2408.5,2,  -9.0000,9,-999.0000,9, -999.00,9, -999.00,9,  -999.0,9,  -999.0,-999.000,9,-999.000,-999.000,9,  -9.0000,-999.0000,   1.7275,   -9.00
  316N145_7,       I08N,     316,          1,         28,         28,2,19950317,       1822,    -5.0002,    79.9993,       5109,  2807.2,   1.7757,  34.7324,2,  34.7316,3,    160.8,2,   160.3,2,  129.92,2,   34.45,2,    0.00,2,    2.41,2,   0.004,2,   0.001,2,  2296.5,2,  2413.8,2,  -9.0000,9,-999.0000,9, -999.00,9, -999.00,9,  -999.0,9,  -999.0,-999.000,9,-999.000,-999.000,9,  -9.0000,-999.0000,   1.5710,   -9.00
  316N145_7,       I08N,     316,          1,         27,         27,2,19950317,       1822,    -5.0002,    79.9993,       5109,  3036.4,   1.6324,  34.7287,2,  34.7265,3,    164.8,2,   164.2,2,  132.49,2,   34.31,2,    0.00,2,    2.41,2,-999.000,9,-999.000,9,  2300.3,2,  2414.6,2,  -9.0000,9,-999.0000,9, -999.00,9, -999.00,9,  -999.0,9,  -999.0,-999.000,9,-999.000,-999.000,9,  -9.0000,-999.0000,   1.4090,   -9.00
  316N145_7,       I08N,     316,          1,         26,         26,2,19950317,       1822,    -5.0002,    79.9993,       5109,  3265.1,   1.5264,  34.7250,2,  34.7223,3,    167.3,2,   166.6,2,  134.86,2,   34.41,2,    0.00,2,    2.39,2,   0.001,2,   0.002,2,  2302.3,2,  -999.0,5,  -9.0000,9,-999.0000,9, -999.00,9, -999.00,9,  -999.0,9,  -999.0,-999.000,9,-999.000,-999.000,9,  -9.0000,-999.0000,   1.2830,   -9.00
  316N145_7,       I08N,     316,          1,         25,         25,2,19950317,       1822,    -5.0002,    79.9993,       5109,  3596.7,   1.4207,  34.7215,2,  34.7194,3,    171.0,2,   171.0,2,  136.37,2,   34.12,2,    0.00,2,    2.38,2,  -0.001,2,   0.001,2,  2302.3,2,  -999.0,5,  -9.0000,9,-999.0000,9, -999.00,9, -999.00,9,  -999.0,9,  -999.0,-999.000,9,-999.000,-999.000,9,  -9.0000,-999.0000,   1.1465,   -9.00
  316N145_7,       I08N,     316,          1,         24,         24,2,19950317,       1822,    -5.0002,    79.9993,       5109,  3826.4,   1.4023,  34.7209,2,  34.7188,3,    172.8,2,   172.7,2,  136.79,2,   34.21,2,    0.00,2,    2.37,2,   0.001,2,   0.001,2,  2302.5,2,  2421.2,2,  -9.0000,9,-999.0000,9, -999.00,9, -999.00,9,  -999.0,9,  -999.0,-999.000,9,-999.000,-999.000,9,  -9.0000,-999.0000,   1.1046,   -9.00
  316N145_7,       I08N,     316,          1,         23,         23,2,19950317,       1822,    -5.0002,    79.9993,       5109,  4056.6,   1.3994,  34.7193,2,  34.7190,3,    174.6,2,   176.0,3,  136.35,2,   34.07,2,    0.00,2,    2.38,2,-999.000,9,-999.000,9,  2303.3,2,  2416.0,2,  -9.0000,9,-999.0000,9, -999.00,9, -999.00,9,  -999.0,9,  -999.0,-999.000,9,-999.000,-999.000,9,  -9.0000,-999.0000,   1.0770,   -9.00
  316N145_7,       I08N,     316,          1,         22,         22,2,19950317,       1822,    -5.0002,    79.9993,       5109,  4312.2,   1.4038,  34.7191,2,  34.7175,3,    175.9,2,   176.3,2,  135.69,2,   33.97,2,    0.00,2,    2.35,2,  -0.001,2,   0.001,2,  2300.6,2,  2412.4,2,  -9.0000,9,-999.0000,9, -999.00,9, -999.00,9,  -999.0,9,  -999.0,-999.000,9,-999.000,-999.000,9,  -9.0000,-999.0000,   1.0530,   -9.00
  316N145_7,       I08N,     316,          1,         21,         21,2,19950317,       1822,    -5.0002,    79.9993,       5109,  4568.3,   1.4061,  34.7188,2,  34.7163,3,    178.8,2,   179.1,2,  134.60,2,   33.88,2,    0.00,2,    2.34,2,-999.000,9,-999.000,9,  2297.9,2,  2417.4,2,  -9.0000,9,-999.0000,9, -999.00,9, -999.00,9,  -999.0,9,  -999.0,-999.000,9,-999.000,-999.000,9,  -9.0000,-999.0000,   1.0260,   -9.00
  316N145_7,       I08N,     316,          1,         20,         20,2,19950317,       1822,    -5.0002,    79.9993,       5109,  4824.4,   1.4069,  34.7180,2,  34.7169,3,    181.4,2,   181.9,2,  133.52,2,   33.69,2,    0.00,2,    2.33,2,-999.000,9,-999.000,9,  2295.3,2,  2439.9,3,  -9.0000,9,-999.0000,9, -999.00,9, -999.00,9,  -999.0,9,  -999.0,-999.000,9,-999.000,-999.000,9,  -9.0000,-999.0000,   0.9967,   -9.00
  316N145_7,       I08N,     316,          1,         19,         19,2,19950317,       1822,    -5.0002,    79.9993,       5109,  5080.9,   1.4080,  34.7174,2,  34.7155,3,    183.9,2,   184.1,2,  132.00,2,   33.49,2,    0.00,2,    2.32,2,   0.009,2,   0.002,2,  2290.4,2,  2408.9,3,  -9.0000,9,-999.0000,9, -999.00,9, -999.00,9,  -999.0,9,  -999.0,-999.000,9,-999.000,-999.000,9,  -9.0000,-999.0000,   0.9669,   -9.00
  316N145_7,       I08N,     316,          1,         18,         18,2,19950317,       1822,    -5.0002,    79.9993,       5109,  5219.2,   1.4135,  34.7169,2,  34.7143,3,    185.0,2,   184.5,2,  131.56,2,   33.49,2,    0.00,2,    2.31,2,   0.005,2,   0.003,2,  2291.4,2,  2411.4,2,  -9.0000,9,-999.0000,9, -999.00,9, -999.00,9,  -999.0,9,  -999.0,-999.000,9,-999.000,-999.000,9,  -9.0000,-999.0000,   0.9552,   -9.00