BOTTLE,20211124CCHSIORKP
EXPOCODE,SECT_ID,STNNBR,CASTNO,SAMPNO,BTLNBR,BTLNBR_FLAG_W,DATE,TIME,LATITUDE,LONGITUDE,DEPTH,CTDPRS,CTDTMP,CTDSAL,CTDSAL_FLAG_W,SALNTY,SALNTY_FLAG_W,CTDOXY,CTDOXY_FLAG_W,OXYGEN,OXYGEN_FLAG_W,SILCAT,SILCAT_FLAG_W,NITRAT,NITRAT_FLAG_W,NITRIT,NITRIT_FLAG_W,PHSPHT,PHSPHT_FLAG_W,CFC-11,CFC-11_FLAG_W,CFC-12,CFC-12_FLAG_W,TCARBN,TCARBN_FLAG_W,ALKALI,ALKALI_FLAG_W,TRITUM,TRITUM_FLAG_W,HELIUM,HELIUM_FLAG_W,DELHE3,DELHE3_FLAG_W,DELC13,DELC13_FLAG_W,DELC14,DELC14_FLAG_W,C14ERR,NEON,NEON_FLAG_W,NEONER,CCL4,CCL4_FLAG_W,TRITER,HELIER,THETA,DELHER
,,,,,,,,,,,METERS,DBAR,ITS-90,PSS-78,,PSS-78,,UMOL/KG,,UMOL/KG,,UMOL/KG,,UMOL/KG,,UMOL/KG,,UMOL/KG,,PMOL/KG,,PMOL/KG,,UMOL/KG,,UMOL/KG,,TU,,NMOL/KG,,PERCNT,,/MILLE,,/MILLE,,/MILLE,NMOL/KG,,NMOL/KG,PMOL/KG,,TU,NMOL/KG,DEG C,PERCNT
  316N145_7,       I08N,     282,          1,         30,         30,2,19950310,       2043,     5.7583,    79.9893,       2199,     2.5,  28.2779,  33.2071,2,  33.2098,2,    198.8,2,   200.0,2,    2.78,2,    0.13,2,    0.00,2,    0.08,2,   1.731,6,   0.987,6,  -999.0,9,  -999.0,9,  -9.0000,9,-999.0000,9, -999.00,9, -999.00,9,  -999.0,9,  -999.0,-999.000,9,-999.000,-999.000,9,  -9.0000,-999.0000,  28.2773,   -9.00
  316N145_7,       I08N,     282,          1,         29,         29,2,19950310,       2043,     5.7583,    79.9893,       2199,    29.1,  28.1874,  33.2176,2,  33.2317,2,    203.1,2,   200.3,2,    2.76,2,    0.13,2,    0.00,2,    0.08,2,   1.751,2,   0.998,2,  -999.0,9,  -999.0,9,  -9.0000,9,-999.0000,9, -999.00,9, -999.00,9,  -999.0,9,  -999.0,-999.000,9,-999.000,-999.000,9,  -9.0000,-999.0000,  28.1805,   -9.00
  316N145_7,       I08N,     282,          1,         28,         28,2,19950310,       2043,     5.7583,    79.9893,       2199,    59.1,  28.1442,  33.3361,2,  33.3349,2,    196.3,2,   199.2,2,    2.75,2,    0.17,2,    0.00,2,    0.09,2,   1.730,2,   0.986,2,  -999.0,9,  -999.0,9,  -9.0000,9,-999.0000,9, -999.00,9, -999.00,9,  -999.0,9,  -999.0,-999.000,9,-999.000,-999.000,9,  -9.0000,-999.0000,  28.1302,   -9.00
  316N145_7,       I08N,     282,          1,         27,         27,2,19950310,       2043,     5.7583,    79.9893,       2199,    79.2,  27.2619,  33.7911,2,  33.8870,2,    174.7,2,   151.5,2,    5.62,2,    5.25,2,    0.24,2,    0.45,2,-999.000,9,-999.000,9,  -999.0,9,  -999.0,9,  -9.0000,9,-999.0000,9, -999.00,9, -999.00,9,  -999.0,9,  -999.0,-999.000,9,-999.000,-999.000,9,  -9.0000,-999.0000,  27.2437,   -9.00
  316N145_7,       I08N,     282,          1,         26,         26,2,19950310,       2043,     5.7583,    79.9893,       2199,    94.3,  24.6318,  34.6334,2,  34.6877,2,     97.1,2,    83.6,2,   10.52,2,   14.69,2,    0.24,2,    1.10,2,-999.000,9,-999.000,9,  -999.0,9,  -999.0,9,  -9.0000,9,-999.0000,9, -999.00,9, -999.00,9,  -999.0,9,  -999.0,-999.000,9,-999.000,-999.000,9,  -9.0000,-999.0000,  24.6116,   -9.00
  316N145_7,       I08N,     282,          1,         25,         25,2,19950310,       2043,     5.7583,    79.9893,       2199,   109.6,  19.9416,  35.0176,2,  35.0140,2,     34.0,2,    33.3,2,   18.32,2,   23.41,2,    0.05,2,    1.70,2,   0.999,2,   0.535,2,  -999.0,9,  -999.0,9,  -9.0000,9,-999.0000,9, -999.00,9, -999.00,9,  -999.0,9,  -999.0,-999.000,9,-999.000,-999.000,9,  -9.0000,-999.0000,  19.9214,   -9.00
  316N145_7,       I08N,     282,          1,         24,         24,2,19950310,       2043,     5.7583,    79.9893,       2199,   119.9,  18.0377,  34.9376,2,  34.9343,2,     22.6,2,    18.0,2,   25.71,2,   27.78,2,    0.01,2,    2.02,2,   0.659,2,   0.336,2,  -999.0,9,  -999.0,9,  -9.0000,9,-999.0000,9, -999.00,9, -999.00,9,  -999.0,9,  -999.0,-999.000,9,-999.000,-999.000,9,  -9.0000,-999.0000,  18.0171,   -9.00
  316N145_7,       I08N,     282,          1,         23,         23,2,19950310,       2043,     5.7583,    79.9893,       2199,   134.5,  16.4511,  34.9370,2,  34.9378,2,     15.7,2,    15.6,2,   27.95,2,   28.95,2,    0.01,2,    2.11,2,   0.557,2,   0.277,2,  -999.0,9,  -999.0,9,  -9.0000,9,-999.0000,9, -999.00,9, -999.00,9,  -999.0,9,  -999.0,-999.000,9,-999.000,-999.000,9,  -9.0000,-999.0000,  16.4295,   -9.00
  316N145_7,       I08N,     282,          1,         22,         22,2,19950310,       2043,     5.7583,    79.9893,       2199,   159.8,  15.6530,  34.9488,2,  34.9654,2,     18.6,2,    23.1,2,   28.75,2,   29.28,2,    0.01,2,    2.11,2,   0.526,2,   0.266,2,  -999.0,9,  -999.0,9,  -9.0000,9,-999.0000,9, -999.00,9, -999.00,9,  -999.0,9,  -999.0,-999.000,9,-999.000,-999.000,9,  -9.0000,-999.0000,  15.6281,   -9.00
  316N145_7,       I08N,     282,          1,         21,         21,2,19950310,       2043,     5.7583,    79.9893,       2199,   184.8,  14.6548,  34.9995,2,  34.9986,2,     20.5,2,    20.9,2,   30.17,2,   30.03,2,    0.01,2,    2.17,2,   0.461,2,   0.227,2,  -999.0,9,  -999.0,9,  -9.0000,9,-999.0000,9, -999.00,9, -999.00,9,  -999.0,9,  -999.0,-999.000,9,-999.000,-999.000,9,  -9.0000,-999.0000,  14.6273,   -9.00
  316N145_7,       I08N,     282,          1,         20,         20,2,19950310,       2043,     5.7583,    79.9893,       2199,   204.6,  13.9349,  35.0590,2,  35.0600,2,     18.2,2,    17.5,2,   30.15,2,   30.55,2,    0.01,2,    2.22,2,   0.428,2,   0.213,2,  -999.0,9,  -999.0,9,  -9.0000,9,-999.0000,9, -999.00,9, -999.00,9,  -999.0,9,  -999.0,-999.000,9,-999.000,-999.000,9,  -9.0000,-999.0000,  13.9054,   -9.00
  316N145_7,       I08N,     282,          1,         19,         19,2,19950310,       2043,     5.7583,    79.9893,       2199,   244.7,  12.4366,  35.1084,2,  35.1047,2,     26.7,2,    28.9,2,   30.55,2,   30.87,2,    0.01,2,    2.22,2,   0.366,2,   0.180,2,  -999.0,9,  -999.0,9,  -9.0000,9,-999.0000,9, -999.00,9, -999.00,9,  -999.0,9,  -999.0,-999.000,9,-999.000,-999.000,9,  -9.0000,-999.0000,  12.4038,   -9.00
  316N145_7,       I08N,     282,          1,         18,         18,2,19950310,       2043,     5.7583,    79.9893,       2199,   284.9,  11.7158,  35.1051,2,  35.1035,2,     29.8,2,    30.8,2,   32.38,2,   31.67,2,    0.00,2,    2.25,2,   0.295,6,   0.146,6,  -999.0,9,  -999.0,9,  -9.0000,9,-999.0000,9, -999.00,9, -999.00,9,  -999.0,9,  -999.0,-999.000,9,-999.000,-999.000,9,  -9.0000,-999.0000,  11.6790,   -9.00
  316N145_7,       I08N,     282,          1,         17,         17,2,19950310,       2043,     5.7583,    79.9893,       2199,   325.6,  11.3803,  35.1056,2,  35.1031,2,     31.6,2,    39.0,2,   32.36,2,   31.44,2,    0.00,2,    2.23,2,   0.286,2,   0.142,2,  -999.0,9,  -999.0,9,  -9.0000,9,-999.0000,9, -999.00,9, -999.00,9,  -999.0,9,  -999.0,-999.000,9,-999.000,-999.000,9,  -9.0000,-999.0000,  11.3390,   -9.00
  316N145_7,       I08N,     282,          1,         16,         16,2,19950310,       2043,     5.7583,    79.9893,       2199,   365.9,  11.0709,  35.1049,2,  35.1002,2,     34.7,2,    28.8,2,   36.45,2,   32.89,2,    0.00,2,    2.36,2,   0.195,2,   0.091,2,  -999.0,9,  -999.0,9,  -9.0000,9,-999.0000,9, -999.00,9, -999.00,9,  -999.0,9,  -999.0,-999.000,9,-999.000,-999.000,9,  -9.0000,-999.0000,  11.0252,   -9.00
  316N145_7,       I08N,     282,          1,         15,         15,2,19950310,       2043,     5.7583,    79.9893,       2199,   435.7,  10.5429,  35.1173,2,  35.1175,2,     27.6,2,    27.8,2,   40.94,2,   33.78,2,    0.00,2,    2.46,2,   0.110,2,   0.051,2,  -999.0,9,  -999.0,9,  -9.0000,9,-999.0000,9, -999.00,9, -999.00,9,  -999.0,9,  -999.0,-999.000,9,-999.000,-999.000,9,  -9.0000,-999.0000,  10.4900,   -9.00
  316N145_7,       I08N,     282,          1,         14,         14,2,19950310,       2043,     5.7583,    79.9893,       2199,   536.1,   9.6326,  35.0713,2,  35.0762,2,     26.6,2,    27.1,2,   50.79,2,   35.15,2,    0.00,2,    2.61,2,-999.000,9,-999.000,9,  -999.0,9,  -999.0,9,  -9.0000,9,-999.0000,9, -999.00,9, -999.00,9,  -999.0,9,  -999.0,-999.000,9,-999.000,-999.000,9,  -9.0000,-999.0000,   9.5707,   -9.00
  316N145_7,       I08N,     282,          1,         13,         13,2,19950310,       2043,     5.7583,    79.9893,       2199,   636.7,   8.9690,  35.0355,2,  35.0297,2,     23.5,2,    24.1,2,   60.63,2,   36.57,2,    0.00,2,    2.71,2,-999.000,9,-999.000,9,  -999.0,9,  -999.0,9,  -9.0000,9,-999.0000,9, -999.00,9, -999.00,9,  -999.0,9,  -999.0,-999.000,9,-999.000,-999.000,9,  -9.0000,-999.0000,   8.8982,   -9.00
  316N145_7,       I08N,     282,          1,         12,         12,2,19950310,       2043,     5.7583,    79.9893,       2199,   736.8,   8.2071,  34.9954,2,  34.9943,2,     27.4,2,    27.5,2,   69.05,2,   37.24,2,    0.00,2,    2.76,2,-999.000,9,-999.000,9,  -999.0,9,  -999.0,9,  -9.0000,9,-999.0000,9, -999.00,9, -999.00,9,  -999.0,9,  -999.0,-999.000,9,-999.000,-999.000,9,  -9.0000,-999.0000,   8.1288,   -9.00
  316N145_7,       I08N,     282,          1,         11,         11,2,19950310,       2043,     5.7583,    79.9893,       2199,   837.2,   7.6775,  34.9735,2,  34.9732,2,     32.7,2,    33.5,2,   75.20,2,   37.52,2,    0.00,2,    2.78,2,   0.002,2,  -0.003,2,  -999.0,9,  -999.0,9,  -9.0000,9,-999.0000,9, -999.00,9, -999.00,9,  -999.0,9,  -999.0,-999.000,9,-999.000,-999.000,9,  -9.0000,-999.0000,   7.5913,   -9.00
  316N145_7,       I08N,     282,          1,         10,         10,2,19950310,       2043,     5.7583,    79.9893,       2199,   939.0,   7.1246,  34.9542,2,  34.9555,2,     39.2,2,    39.4,2,   81.37,2,   37.66,2,    0.01,2,    2.80,2,   0.000,2,  -0.003,2,  -999.0,9,  -999.0,9,  -9.0000,9,-999.0000,9, -999.00,9, -999.00,9,  -999.0,9,  -999.0,-999.000,9,-999.000,-999.000,9,  -9.0000,-999.0000,   7.0311,   -9.00
  316N145_7,       I08N,     282,          1,          9,          9,2,19950310,       2043,     5.7583,    79.9893,       2199,  1039.7,   6.5476,  34.9301,2,  34.9305,2,     46.3,2,    46.6,2,   87.95,2,   37.71,2,    0.01,2,    2.82,2,-999.000,9,-999.000,9,  -999.0,9,  -999.0,9,  -9.0000,9,-999.0000,9, -999.00,9, -999.00,9,  -999.0,9,  -999.0,-999.000,9,-999.000,-999.000,9,  -9.0000,-999.0000,   6.4480,   -9.00
  316N145_7,       I08N,     282,          1,          8,          8,2,19950310,       2043,     5.7583,    79.9893,       2199,  1240.9,   5.7135,  34.8966,2,  34.8967,2,     59.3,2,    60.1,2,   97.05,2,   37.62,2,    0.00,2,    2.81,2,   0.000,2,  -0.003,2,  -999.0,9,  -999.0,9,  -9.0000,9,-999.0000,9, -999.00,9, -999.00,9,  -999.0,9,  -999.0,-999.000,9,-999.000,-999.000,9,  -9.0000,-999.0000,   5.6006,   -9.00
  316N145_7,       I08N,     282,          1,          7,          7,2,19950310,       2043,     5.7583,    79.9893,       2199,  1442.3,   4.8482,  34.8638,2,  34.8646,2,     74.0,2,    73.7,2,  106.18,2,   37.47,2,    0.00,2,    2.78,2,  -0.005,2,  -0.004,2,  -999.0,9,  -999.0,9,  -9.0000,9,-999.0000,9, -999.00,9, -999.00,9,  -999.0,9,  -999.0,-999.000,9,-999.000,-999.000,9,  -9.0000,-999.0000,   4.7243,   -9.00
  316N145_7,       I08N,     282,          1,          6,          6,2,19950310,       2043,     5.7583,    79.9893,       2199,  1645.0,   3.8272,  34.8256,2,  34.8271,2,     93.5,2,    94.1,2,  116.41,2,   36.90,2,    0.00,2,    2.72,2,-999.000,9,-999.000,9,  -999.0,9,  -999.0,9,  -9.0000,9,-999.0000,9, -999.00,9, -999.00,9,  -999.0,9,  -999.0,-999.000,9,-999.000,-999.000,9,  -9.0000,-999.0000,   3.6962,   -9.00
  316N145_7,       I08N,     282,          1,          5,          5,2,19950310,       2043,     5.7583,    79.9893,       2199,  1817.3,   3.1893,  34.7989,2,  34.7990,2,    108.4,2,   107.0,2,  123.98,2,   36.62,2,    0.00,2,    2.68,2,-999.000,9,-999.000,9,  -999.0,9,  -999.0,9,  -9.0000,9,-999.0000,9, -999.00,9, -999.00,9,  -999.0,9,  -999.0,-999.000,9,-999.000,-999.000,9,  -9.0000,-999.0000,   3.0510,   -9.00
  316N145_7,       I08N,     282,          1,          4,          4,2,19950310,       2043,     5.7583,    79.9893,       2199,  2018.2,   2.6608,  34.7749,2,  34.7732,2,    -13.6,4,   119.8,2,  130.10,2,   36.15,2,    0.00,2,    2.63,2,   0.004,2,  -0.001,2,  -999.0,9,  -999.0,9,  -9.0000,9,-999.0000,9, -999.00,9, -999.00,9,  -999.0,9,  -999.0,-999.000,9,-999.000,-999.000,9,  -9.0000,-999.0000,   2.5123,   -9.00
  316N145_7,       I08N,     282,          1,          3,          3,3,19950310,       2043,     5.7583,    79.9893,       2199,  2220.9,   2.2912,  34.7577,2,  34.7830,4,    -19.9,4,   115.3,4,  127.94,4,   36.33,4,    0.00,4,    2.64,4,-999.000,9,-999.000,9,  -999.0,9,  -999.0,9,  -9.0000,9,-999.0000,9, -999.00,9, -999.00,9,  -999.0,9,  -999.0,-999.000,9,-999.000,-999.000,9,  -9.0000,-999.0000,   2.1306,   -9.00
  316N145_7,       I08N,     282,          1,          2,          2,2,19950310,       2043,     5.7583,    79.9893,       2199,  2424.0,   2.0903,  34.7490,2,  34.7482,2,    -20.8,4,   136.8,2,  135.81,2,   35.53,2,    0.00,2,    2.56,2,-999.000,9,-999.000,9,  -999.0,9,  -999.0,9,  -9.0000,9,-999.0000,9, -999.00,9, -999.00,9,  -999.0,9,  -999.0,-999.000,9,-999.000,-999.000,9,  -9.0000,-999.0000,   1.9149,   -9.00
  316N145_7,       I08N,     282,          1,          1,          1,2,19950310,       2043,     5.7583,    79.9893,       2199,  2595.1,   2.0276,  34.7451,2,  34.7449,2,    -21.1,4,   139.0,2,  136.63,2,   35.53,2,    0.00,2,    2.54,2,-999.000,9,-999.000,9,  -999.0,9,  -999.0,9,  -9.0000,9,-999.0000,9, -999.00,9, -999.00,9,  -999.0,9,  -999.0,-999.000,9,-999.000,-999.000,9,  -9.0000,-999.0000,   1.8377,   -9.00