BOTTLE,20211124CCHSIORKP
EXPOCODE,SECT_ID,STNNBR,CASTNO,SAMPNO,BTLNBR,BTLNBR_FLAG_W,DATE,TIME,LATITUDE,LONGITUDE,DEPTH,CTDPRS,CTDTMP,CTDSAL,CTDSAL_FLAG_W,SALNTY,SALNTY_FLAG_W,CTDOXY,CTDOXY_FLAG_W,OXYGEN,OXYGEN_FLAG_W,SILCAT,SILCAT_FLAG_W,NITRAT,NITRAT_FLAG_W,NITRIT,NITRIT_FLAG_W,PHSPHT,PHSPHT_FLAG_W,CFC-11,CFC-11_FLAG_W,CFC-12,CFC-12_FLAG_W,TCARBN,TCARBN_FLAG_W,ALKALI,ALKALI_FLAG_W,TRITUM,TRITUM_FLAG_W,HELIUM,HELIUM_FLAG_W,DELHE3,DELHE3_FLAG_W,DELC13,DELC13_FLAG_W,DELC14,DELC14_FLAG_W,C14ERR,NEON,NEON_FLAG_W,NEONER,CCL4,CCL4_FLAG_W,TRITER,HELIER,THETA,DELHER
,,,,,,,,,,,METERS,DBAR,ITS-90,PSS-78,,PSS-78,,UMOL/KG,,UMOL/KG,,UMOL/KG,,UMOL/KG,,UMOL/KG,,UMOL/KG,,PMOL/KG,,PMOL/KG,,UMOL/KG,,UMOL/KG,,TU,,NMOL/KG,,PERCNT,,/MILLE,,/MILLE,,/MILLE,NMOL/KG,,NMOL/KG,PMOL/KG,,TU,NMOL/KG,DEG C,PERCNT
  316N145_7,      TRANS,     363,          1,         36,         36,2,19950329,       0348,   -26.6502,    85.9500,       4374,     2.8,  24.8914,  35.8667,2,  35.8661,2,    208.4,2,   209.6,2,    3.27,2,    0.25,2,    0.00,2,    0.10,2,   1.848,2,   1.066,2,  2010.6,2,  2390.7,2,  -9.0000,9,-999.0000,9, -999.00,9, -999.00,9,  -999.0,9,  -999.0,-999.000,9,-999.000,   2.512,2,  -9.0000,-999.0000,  24.8908,   -9.00
  316N145_7,      TRANS,     363,          1,         35,         35,2,19950329,       0348,   -26.6502,    85.9500,       4374,    35.8,  24.8880,  35.8668,2,  35.8658,2,    205.3,2,  -999.0,5,    3.04,2,    0.25,2,    0.00,2,    0.10,2,-999.000,9,-999.000,9,  -999.0,9,  -999.0,9,  -9.0000,9,-999.0000,9, -999.00,9, -999.00,9,  -999.0,9,  -999.0,-999.000,9,-999.000,-999.000,9,  -9.0000,-999.0000,  24.8802,   -9.00
  316N145_7,      TRANS,     363,          1,         34,         34,2,19950329,       0348,   -26.6502,    85.9500,       4374,    76.6,  21.1104,  35.8507,2,  35.8447,2,    232.8,2,   232.5,2,    3.02,2,    0.20,2,    0.00,2,    0.12,2,   2.284,2,   1.281,2,  -999.0,9,  -999.0,9,  -9.0000,9,-999.0000,9, -999.00,9, -999.00,9,  -999.0,9,  -999.0,-999.000,9,-999.000,   2.093,2,  -9.0000,-999.0000,  21.0956,   -9.00
  316N145_7,      TRANS,     363,          1,         33,         33,2,19950329,       0348,   -26.6502,    85.9500,       4374,   106.7,  19.8589,  35.8771,2,  35.8751,2,    230.4,2,   226.1,2,    3.00,2,    0.25,2,    0.00,2,    0.13,2,-999.000,9,-999.000,9,  -999.0,9,  -999.0,9,  -9.0000,9,-999.0000,9, -999.00,9, -999.00,9,  -999.0,9,  -999.0,-999.000,9,-999.000,-999.000,9,  -9.0000,-999.0000,  19.8392,   -9.00
  316N145_7,      TRANS,     363,          1,         32,         32,2,19950329,       0348,   -26.6502,    85.9500,       4374,   147.2,  19.1131,  35.9179,2,  35.9202,2,    227.2,2,   226.3,2,    2.77,2,    0.24,2,    0.01,2,    0.14,2,-999.000,9,-999.000,9,  -999.0,9,  -999.0,9,  -9.0000,9,-999.0000,9, -999.00,9, -999.00,9,  -999.0,9,  -999.0,-999.000,9,-999.000,-999.000,9,  -9.0000,-999.0000,  19.0866,   -9.00
  316N145_7,      TRANS,     363,          1,         31,         31,2,19950329,       0348,   -26.6502,    85.9500,       4374,   196.7,  17.8911,  35.8637,2,  35.8552,2,    219.4,2,   217.6,2,    2.54,2,    0.92,2,    0.02,2,    0.23,2,   2.479,2,   1.356,2,  -999.0,9,  -999.0,9,  -9.0000,9,-999.0000,9, -999.00,9, -999.00,9,  -999.0,9,  -999.0,-999.000,9,-999.000,   1.659,2,  -9.0000,-999.0000,  17.8573,   -9.00
  316N145_7,      TRANS,     363,          1,         30,         30,2,19950329,       0348,   -26.6502,    85.9500,       4374,   246.0,  16.2361,  35.6891,2,  35.6778,2,    219.6,2,   220.1,2,    2.53,2,    2.28,2,    0.01,2,    0.34,2,   2.630,2,   1.414,2,  -999.0,9,  -999.0,9,  -9.0000,9,-999.0000,9, -999.00,9, -999.00,9,  -999.0,9,  -999.0,-999.000,9,-999.000,   1.280,2,  -9.0000,-999.0000,  16.1965,   -9.00
  316N145_7,      TRANS,     363,          1,         29,         29,2,19950329,       0348,   -26.6502,    85.9500,       4374,   294.2,  14.5760,  35.4832,2,  35.4884,2,    222.3,2,   222.0,2,    2.72,2,    4.82,2,    0.00,2,    0.48,2,-999.000,9,-999.000,9,  -999.0,9,  -999.0,9,  -9.0000,9,-999.0000,9, -999.00,9, -999.00,9,  -999.0,9,  -999.0,-999.000,9,-999.000,-999.000,9,  -9.0000,-999.0000,  14.5320,   -9.00
  316N145_7,      TRANS,     363,          1,         28,         28,2,19950329,       0348,   -26.6502,    85.9500,       4374,   365.1,  12.9857,  35.2580,2,  35.2589,2,    227.6,2,   229.5,2,    3.13,2,    7.56,2,    0.00,2,    0.63,2,   2.944,2,   1.548,2,  -999.0,9,  -999.0,9,  -9.0000,9,-999.0000,9, -999.00,9, -999.00,9,  -999.0,9,  -999.0,-999.000,9,-999.000,   1.122,2,  -9.0000,-999.0000,  12.9351,   -9.00
  316N145_7,      TRANS,     363,          1,         27,         27,2,19950329,       0348,   -26.6502,    85.9500,       4374,   434.1,  12.0416,  35.1076,2,  35.1066,2,    231.9,2,   234.3,2,    3.75,2,    9.65,2,    0.00,2,    0.75,2,   3.051,2,   1.576,2,  -999.0,9,  -999.0,9,  -9.0000,9,-999.0000,9, -999.00,9, -999.00,9,  -999.0,9,  -999.0,-999.000,9,-999.000,   1.316,2,  -9.0000,-999.0000,  11.9843,   -9.00
  316N145_7,      TRANS,     363,          1,         26,         26,2,19950329,       0348,   -26.6502,    85.9500,       4374,   484.6,  11.4862,  35.0195,2,  35.0178,2,    235.2,2,   236.6,2,    3.95,2,   10.84,2,    0.00,2,    0.82,2,-999.000,9,-999.000,9,  -999.0,9,  -999.0,9,  -9.0000,9,-999.0000,9, -999.00,9, -999.00,9,  -999.0,9,  -999.0,-999.000,9,-999.000,-999.000,9,  -9.0000,-999.0000,  11.4240,   -9.00
  316N145_7,      TRANS,     363,          1,         25,         25,2,19950329,       0348,   -26.6502,    85.9500,       4374,   585.2,  10.5625,  34.8764,2,  34.8746,2,    237.7,2,   238.4,2,    4.57,2,   12.98,2,    0.00,2,    0.95,2,   2.895,2,   1.466,2,  -999.0,9,  -999.0,9,  -9.0000,9,-999.0000,9, -999.00,9, -999.00,9,  -999.0,9,  -999.0,-999.000,9,-999.000,   1.711,2,  -9.0000,-999.0000,  10.4910,   -9.00
  316N145_7,      TRANS,     363,          1,         24,         24,2,19950329,       0348,   -26.6502,    85.9500,       4374,   685.7,   9.4977,  34.7161,2,  34.7163,2,    234.4,2,   233.6,2,    5.82,2,   16.36,2,    0.00,2,    1.15,2,   2.550,2,   1.283,2,  -999.0,9,  -999.0,9,  -9.0000,9,-999.0000,9, -999.00,9, -999.00,9,  -999.0,9,  -999.0,-999.000,9,-999.000,   1.717,2,  -9.0000,-999.0000,   9.4189,   -9.00
  316N145_7,      TRANS,     363,          1,         23,         23,2,19950329,       0348,   -26.6502,    85.9500,       4374,   786.7,   8.3699,  34.5905,2,  34.5864,2,    222.1,2,   216.1,2,   10.27,2,   20.99,2,    0.00,2,    1.43,2,-999.000,9,-999.000,9,  -999.0,9,  -999.0,9,  -9.0000,9,-999.0000,9, -999.00,9, -999.00,9,  -999.0,9,  -999.0,-999.000,9,-999.000,-999.000,9,  -9.0000,-999.0000,   8.2857,   -9.00
  316N145_7,      TRANS,     363,          1,         22,         22,2,19950329,       0348,   -26.6502,    85.9500,       4374,   887.4,   6.8340,  34.4838,2,  34.4822,2,    200.6,2,   197.1,2,   20.66,2,   26.24,2,    0.00,2,    1.78,2,   0.766,2,   0.403,2,  -999.0,9,  -999.0,9,  -9.0000,9,-999.0000,9, -999.00,9, -999.00,9,  -999.0,9,  -999.0,-999.000,9,-999.000,   1.203,2,  -9.0000,-999.0000,   6.7486,   -9.00
  316N145_7,      TRANS,     363,          1,         21,         21,2,19950329,       0348,   -26.6502,    85.9500,       4374,   987.3,   5.2632,  34.4307,2,  34.4329,2,    185.9,2,   179.9,2,   38.28,2,   30.85,2,    0.00,2,    2.11,2,-999.000,9,-999.000,9,  -999.0,9,  -999.0,9,  -9.0000,9,   1.8070,2,    4.12,2, -999.00,9,  -999.0,9,  -999.0,-999.000,9,-999.000,-999.000,9,  -9.0000,-999.0000,   5.1791,   -9.00
  316N145_7,      TRANS,     363,          1,         20,         20,2,19950329,       0348,   -26.6502,    85.9500,       4374,  1107.5,   4.4792,  34.4771,2,  34.4778,2,    161.1,2,   155.4,2,   58.86,2,   33.81,2,    0.00,2,    2.36,2,   0.125,3,   0.061,2,  -999.0,9,  -999.0,9,  -9.0000,9,-999.0000,9, -999.00,9, -999.00,9,  -999.0,9,  -999.0,-999.000,9,-999.000,   0.496,2,  -9.0000,-999.0000,   4.3905,   -9.00
  316N145_7,      TRANS,     363,          1,         19,         19,2,19950329,       0348,   -26.6502,    85.9500,       4374,  1257.8,   3.8199,  34.5263,2,  34.5257,2,    147.2,2,   148.2,2,   72.03,2,   34.91,2,    0.00,2,    2.44,2,   0.054,3,   0.025,2,  -999.0,9,  -999.0,9,  -9.0000,9,   1.8490,2,    9.16,2, -999.00,9,  -999.0,9,  -999.0,-999.000,9,-999.000,   0.246,2,  -9.0000,-999.0000,   3.7240,   -9.00
  316N145_7,      TRANS,     363,          1,         18,         18,2,19950329,       0348,   -26.6502,    85.9500,       4374,  1410.3,   3.5209,  34.5845,2,  34.5848,2,    142.2,2,   141.8,2,   82.65,2,   35.46,2,    0.00,2,    2.48,2,   0.058,3,   0.025,2,  -999.0,9,  -999.0,9,  -9.0000,9,   1.8580,2,   10.28,2, -999.00,9,  -999.0,9,  -999.0,-999.000,9,-999.000,   0.246,2,  -9.0000,-999.0000,   3.4149,   -9.00
  316N145_7,      TRANS,     363,          1,         17,         17,2,19950329,       0348,   -26.6502,    85.9500,       4374,  1564.6,   3.1561,  34.6264,2,  34.6267,2,    145.0,2,   146.1,2,   88.38,2,   35.05,2,    0.00,2,    2.46,2,-999.000,9,-999.000,9,  -999.0,9,  -999.0,9,  -9.0000,9,   1.8590,2,   11.21,2, -999.00,9,  -999.0,9,  -999.0,-999.000,9,-999.000,-999.000,9,  -9.0000,-999.0000,   3.0409,   -9.00
  316N145_7,      TRANS,     363,          1,         16,         16,2,19950329,       0348,   -26.6502,    85.9500,       4374,  1716.0,   2.8979,  34.6628,2,  34.6652,3,    150.5,2,   150.9,2,   93.26,2,   34.64,2,    0.00,2,    2.42,2,  -0.004,3,   0.005,2,  -999.0,9,  -999.0,9,  -9.0000,9,-999.0000,9, -999.00,9, -999.00,9,  -999.0,9,  -999.0,-999.000,9,-999.000,   0.021,2,  -9.0000,-999.0000,   2.7728,   -9.00
  316N145_7,      TRANS,     363,          1,         15,         15,2,19950329,       0348,   -26.6502,    85.9500,       4374,  1869.0,   2.6652,  34.6915,2,  34.6923,2,    153.3,2,   154.6,2,   99.43,2,   34.33,2,    0.00,2,    2.40,2,-999.000,9,-999.000,9,  -999.0,9,  -999.0,9,  -9.0000,9,   1.8820,2,   13.01,2, -999.00,9,  -999.0,9,  -999.0,-999.000,9,-999.000,-999.000,9,  -9.0000,-999.0000,   2.5300,   -9.00
  316N145_7,      TRANS,     363,          1,         14,         14,2,19950329,       0348,   -26.6502,    85.9500,       4374,  2021.8,   2.5040,  34.7112,2,  34.7110,2,    157.8,2,   157.2,2,  104.33,2,   34.07,2,    0.00,2,    2.38,2,-999.000,9,-999.000,9,  -999.0,9,  -999.0,9,  -9.0000,9,-999.0000,9, -999.00,9, -999.00,9,  -999.0,9,  -999.0,-999.000,9,-999.000,-999.000,9,  -9.0000,-999.0000,   2.3578,   -9.00
  316N145_7,      TRANS,     363,          1,         13,         13,2,19950329,       0348,   -26.6502,    85.9500,       4374,  2174.2,   2.2893,  34.7183,2,  34.7186,2,    163.5,2,   163.9,2,  106.87,2,   33.77,2,    0.00,2,    2.35,2,-999.000,9,-999.000,9,  -999.0,9,  -999.0,9,  -9.0000,9,   1.8740,2,   14.80,2, -999.00,9,  -999.0,9,  -999.0,-999.000,9,-999.000,-999.000,9,  -9.0000,-999.0000,   2.1330,   -9.00
  316N145_7,      TRANS,     363,          1,         12,         12,2,19950329,       0348,   -26.6502,    85.9500,       4374,  2326.3,   2.1382,  34.7220,2,  34.7225,2,    169.9,2,   169.5,2,  107.90,2,   33.41,2,    0.00,2,    2.32,2,  -0.001,3,   0.000,2,  -999.0,9,  -999.0,9,  -9.0000,9,   1.8850,2,   14.99,2, -999.00,9,  -999.0,9,  -999.0,-999.000,9,-999.000,   0.003,2,  -9.0000,-999.0000,   1.9708,   -9.00
  316N145_7,      TRANS,     363,          1,         11,         11,2,19950329,       0348,   -26.6502,    85.9500,       4374,  2527.8,   1.9521,  34.7276,2,  34.7275,2,    181.3,2,   181.1,2,  104.64,2,   32.50,2,    0.00,2,    2.25,2,-999.000,9,-999.000,9,  -999.0,9,  -999.0,9,  -9.0000,9,   1.8850,2,   15.52,2, -999.00,9,  -999.0,9,  -999.0,-999.000,9,-999.000,-999.000,9,  -9.0000,-999.0000,   1.7698,   -9.00
  316N145_7,      TRANS,     363,          1,         10,         10,2,19950329,       0348,   -26.6502,    85.9500,       4374,  2732.1,   1.7974,  34.7328,2,  34.7326,2,    188.5,2,   188.0,2,  104.38,2,   32.04,2,    0.00,2,    2.21,2,-999.000,9,-999.000,9,  -999.0,9,  -999.0,9,  -9.0000,9,   1.8890,2,   14.88,2, -999.00,9,  -999.0,9,  -999.0,-999.000,9,-999.000,-999.000,9,  -9.0000,-999.0000,   1.5993,   -9.00
  316N145_7,      TRANS,     363,          1,          9,          9,2,19950329,       0348,   -26.6502,    85.9500,       4374,  2935.3,   1.6476,  34.7323,2,  34.7316,2,    190.0,2,   190.2,2,  109.29,2,   32.13,2,    0.00,2,    2.21,2,   0.017,3,   0.001,2,  -999.0,9,  -999.0,9,  -9.0000,9,   1.8780,2,   13.37,2, -999.00,9,  -999.0,9,  -999.0,-999.000,9,-999.000,   0.004,2,  -9.0000,-999.0000,   1.4335,   -9.00
  316N145_7,      TRANS,     363,          1,          8,          8,2,19950329,       0348,   -26.6502,    85.9500,       4374,  3139.9,   1.5334,  34.7298,2,  34.7300,2,    190.6,2,   191.0,2,  113.34,2,   32.33,2,    0.00,2,    2.22,2,-999.000,9,-999.000,9,  -999.0,9,  -999.0,9,  -9.0000,9,-999.0000,9, -999.00,9, -999.00,9,  -999.0,9,  -999.0,-999.000,9,-999.000,-999.000,9,  -9.0000,-999.0000,   1.3021,   -9.00
  316N145_7,      TRANS,     363,          1,          7,          7,2,19950329,       0348,   -26.6502,    85.9500,       4374,  3343.6,   1.4416,  34.7263,2,  34.7265,2,    191.6,2,   190.8,2,  117.62,2,   32.58,2,    0.00,2,    2.25,2,   0.032,3,   0.004,2,  -999.0,9,  -999.0,9,  -9.0000,9,   1.8960,2,   12.32,2, -999.00,9,  -999.0,9,  -999.0,-999.000,9,-999.000,   0.003,2,  -9.0000,-999.0000,   1.1925,   -9.00
  316N145_7,      TRANS,     363,          1,          6,          6,2,19950329,       0348,   -26.6502,    85.9500,       4374,  3547.5,   1.3812,  34.7233,2,  34.7231,2,    189.9,2,   189.5,2,  122.13,2,   32.92,2,    0.00,2,    2.27,2,-999.000,9,-999.000,9,  -999.0,9,  -999.0,9,  -9.0000,9,-999.0000,9, -999.00,9, -999.00,9,  -999.0,9,  -999.0,-999.000,9,-999.000,-999.000,9,  -9.0000,-999.0000,   1.1129,   -9.00
  316N145_7,      TRANS,     363,          1,          5,          5,2,19950329,       0348,   -26.6502,    85.9500,       4374,  3752.0,   1.3682,  34.7215,2,  34.7211,2,    187.2,2,   188.3,2,  124.70,2,   33.12,2,    0.00,2,    2.29,2,-999.000,9,-999.000,9,  -999.0,9,  -999.0,9,  -9.0000,9,   1.8830,2,   11.68,2, -999.00,9,  -999.0,9,  -999.0,-999.000,9,-999.000,-999.000,9,  -9.0000,-999.0000,   1.0791,   -9.00
  316N145_7,      TRANS,     363,          1,          4,          4,2,19950329,       0348,   -26.6502,    85.9500,       4374,  3955.5,   1.3763,  34.7204,2,  34.7201,2,    187.9,2,   187.6,2,  125.74,2,   33.21,2,    0.00,2,    2.29,2,   0.005,3,   0.003,2,  -999.0,9,  -999.0,9,  -9.0000,9,-999.0000,9, -999.00,9, -999.00,9,  -999.0,9,  -999.0,-999.000,9,-999.000,   0.000,2,  -9.0000,-999.0000,   1.0654,   -9.00
  316N145_7,      TRANS,     363,          1,          3,          3,2,19950329,       0348,   -26.6502,    85.9500,       4374,  4160.8,   1.3947,  34.7206,2,  34.7196,2,    186.9,2,   186.6,2,  126.78,2,   33.31,2,    0.00,2,    2.29,2,   0.001,3,   0.001,2,  -999.0,9,  -999.0,9,  -9.0000,9,   1.8870,2,   11.81,2, -999.00,9,  -999.0,9,  -999.0,-999.000,9,-999.000,   0.003,2,  -9.0000,-999.0000,   1.0610,   -9.00
  316N145_7,      TRANS,     363,          1,          2,          2,2,19950329,       0348,   -26.6502,    85.9500,       4374,  4364.7,   1.4159,  34.7202,2,  34.7196,2,    186.4,2,   186.4,2,  127.17,2,   33.35,2,    0.00,2,    2.30,2,-999.000,9,-999.000,9,  -999.0,9,  -999.0,9,  -9.0000,9,-999.0000,9, -999.00,9, -999.00,9,  -999.0,9,  -999.0,-999.000,9,-999.000,-999.000,9,  -9.0000,-999.0000,   1.0588,   -9.00
  316N145_7,      TRANS,     363,          1,          1,          1,2,19950329,       0348,   -26.6502,    85.9500,       4374,  4460.1,   1.4262,  34.7197,2,  34.7197,2,    186.2,2,   186.5,2,  127.35,2,   33.35,2,    0.00,2,    2.29,2,   0.000,3,   0.002,2,  -999.0,9,  -999.0,9,  -9.0000,9,   1.8790,2,   11.83,2, -999.00,9,  -999.0,9,  -999.0,-999.000,9,-999.000,   0.000,2,  -9.0000,-999.0000,   1.0579,   -9.00