BOTTLE,20211124CCHSIORKP
EXPOCODE,SECT_ID,STNNBR,CASTNO,SAMPNO,BTLNBR,BTLNBR_FLAG_W,DATE,TIME,LATITUDE,LONGITUDE,DEPTH,CTDPRS,CTDTMP,CTDSAL,CTDSAL_FLAG_W,SALNTY,SALNTY_FLAG_W,CTDOXY,CTDOXY_FLAG_W,OXYGEN,OXYGEN_FLAG_W,SILCAT,SILCAT_FLAG_W,NITRAT,NITRAT_FLAG_W,NITRIT,NITRIT_FLAG_W,PHSPHT,PHSPHT_FLAG_W,CFC-11,CFC-11_FLAG_W,CFC-12,CFC-12_FLAG_W,TCARBN,TCARBN_FLAG_W,ALKALI,ALKALI_FLAG_W,TRITUM,TRITUM_FLAG_W,HELIUM,HELIUM_FLAG_W,DELHE3,DELHE3_FLAG_W,DELC13,DELC13_FLAG_W,DELC14,DELC14_FLAG_W,C14ERR,NEON,NEON_FLAG_W,NEONER,CCL4,CCL4_FLAG_W,TRITER,HELIER,THETA,DELHER
,,,,,,,,,,,METERS,DBAR,ITS-90,PSS-78,,PSS-78,,UMOL/KG,,UMOL/KG,,UMOL/KG,,UMOL/KG,,UMOL/KG,,UMOL/KG,,PMOL/KG,,PMOL/KG,,UMOL/KG,,UMOL/KG,,TU,,NMOL/KG,,PERCNT,,/MILLE,,/MILLE,,/MILLE,NMOL/KG,,NMOL/KG,PMOL/KG,,TU,NMOL/KG,DEG C,PERCNT
  316N145_7,      TRANS,     374,          1,         23,         23,2,19950330,       2133,   -29.4997,    88.4998,       2275,     4.1,  24.3566,  35.9432,2,  35.9425,2,    210.0,2,   211.3,2,    3.48,2,    0.15,2,    0.00,2,    0.11,2,   1.876,2,   1.067,2,  -999.0,9,  -999.0,9,  -9.0000,9,-999.0000,9, -999.00,9, -999.00,9,  -999.0,9,  -999.0,-999.000,9,-999.000,-999.000,9,  -9.0000,-999.0000,  24.3557,   -9.00
  316N145_7,      TRANS,     374,          1,         22,         22,2,19950330,       2133,   -29.4997,    88.4998,       2275,    33.8,  24.3635,  35.9440,2,  35.9427,2,    215.4,2,   211.6,2,    3.44,2,    0.15,2,    0.00,2,    0.11,2,   1.861,2,   1.063,2,  -999.0,9,  -999.0,9,  -9.0000,9,-999.0000,9, -999.00,9, -999.00,9,  -999.0,9,  -999.0,-999.000,9,-999.000,-999.000,9,  -9.0000,-999.0000,  24.3562,   -9.00
  316N145_7,      TRANS,     374,          1,         21,         21,2,19950330,       2133,   -29.4997,    88.4998,       2275,    63.1,  19.6369,  35.8715,2,  35.8690,2,    251.8,2,   247.8,2,    2.98,2,    0.15,2,    0.00,2,    0.14,2,   2.491,2,   1.367,2,  -999.0,9,  -999.0,9,  -9.0000,9,-999.0000,9, -999.00,9, -999.00,9,  -999.0,9,  -999.0,-999.000,9,-999.000,-999.000,9,  -9.0000,-999.0000,  19.6254,   -9.00
  316N145_7,      TRANS,     374,          1,         20,         20,2,19950330,       2133,   -29.4997,    88.4998,       2275,    93.6,  17.4050,  35.7943,2,  35.8135,2,    248.1,2,   245.2,2,    2.93,2,    0.15,2,    0.00,2,    0.17,2,   2.617,2,   1.405,2,  -999.0,9,  -999.0,9,  -9.0000,9,-999.0000,9, -999.00,9, -999.00,9,  -999.0,9,  -999.0,-999.000,9,-999.000,-999.000,9,  -9.0000,-999.0000,  17.3893,   -9.00
  316N145_7,      TRANS,     374,          1,         19,         19,2,19950330,       2133,   -29.4997,    88.4998,       2275,   123.9,  16.0436,  35.6540,2,  35.6561,2,    240.7,2,   236.0,2,    2.68,2,    0.33,2,    0.07,2,    0.26,2,   2.684,2,   1.446,2,  -999.0,9,  -999.0,9,  -9.0000,9,-999.0000,9, -999.00,9, -999.00,9,  -999.0,9,  -999.0,-999.000,9,-999.000,-999.000,9,  -9.0000,-999.0000,  16.0239,   -9.00
  316N145_7,      TRANS,     374,          1,         18,         18,2,19950330,       2133,   -29.4997,    88.4998,       2275,   174.0,  14.6323,  35.4690,2,  35.4748,2,    228.6,2,   227.1,2,    3.07,2,    3.99,2,    0.02,2,    0.45,2,   2.764,2,   1.471,2,  -999.0,9,  -999.0,9,  -9.0000,9,-999.0000,9, -999.00,9, -999.00,9,  -999.0,9,  -999.0,-999.000,9,-999.000,-999.000,9,  -9.0000,-999.0000,  14.6063,   -9.00
  316N145_7,      TRANS,     374,          1,         17,         17,2,19950330,       2133,   -29.4997,    88.4998,       2275,   225.1,  13.5287,  35.3375,2,  35.3281,2,    222.5,2,   225.0,2,    3.66,2,    6.93,2,    0.00,2,    0.60,2,   2.782,2,   1.434,2,  -999.0,9,  -999.0,9,  -9.0000,9,-999.0000,9, -999.00,9, -999.00,9,  -999.0,9,  -999.0,-999.000,9,-999.000,-999.000,9,  -9.0000,-999.0000,  13.4967,   -9.00
  316N145_7,      TRANS,     374,          1,         16,         16,2,19950330,       2133,   -29.4997,    88.4998,       2275,   275.0,  12.6434,  35.2038,2,  35.2079,2,    226.7,2,   230.7,2,    3.83,2,    8.35,2,    0.00,2,    0.68,2,   2.898,2,   1.500,2,  -999.0,9,  -999.0,9,  -9.0000,9,-999.0000,9, -999.00,9, -999.00,9,  -999.0,9,  -999.0,-999.000,9,-999.000,-999.000,9,  -9.0000,-999.0000,  12.6061,   -9.00
  316N145_7,      TRANS,     374,          1,         15,         15,2,19950330,       2133,   -29.4997,    88.4998,       2275,   365.4,  11.6169,  35.0379,2,  35.0333,2,    235.5,2,   236.8,2,    4.63,2,   10.70,2,    0.00,2,    0.82,2,   2.959,2,   1.514,2,  -999.0,9,  -999.0,9,  -9.0000,9,-999.0000,9, -999.00,9, -999.00,9,  -999.0,9,  -999.0,-999.000,9,-999.000,-999.000,9,  -9.0000,-999.0000,  11.5699,   -9.00
  316N145_7,      TRANS,     374,          1,         14,         14,2,19950330,       2133,   -29.4997,    88.4998,       2275,   456.3,  10.8281,  34.9128,2,  34.9183,2,    238.7,2,   238.7,2,    5.01,2,   12.37,2,    0.00,2,    0.92,2,   2.930,2,   1.485,2,  -999.0,9,  -999.0,9,  -9.0000,9,-999.0000,9, -999.00,9, -999.00,9,  -999.0,9,  -999.0,-999.000,9,-999.000,-999.000,9,  -9.0000,-999.0000,  10.7718,   -9.00
  316N145_7,      TRANS,     374,          1,         13,         13,2,19950330,       2133,   -29.4997,    88.4998,       2275,   557.0,  10.0507,  34.7967,2,  34.7976,2,    235.5,2,   238.1,2,    5.61,2,   14.42,2,    0.00,2,    1.05,2,   2.748,2,   1.394,2,  -999.0,9,  -999.0,9,  -9.0000,9,-999.0000,9, -999.00,9, -999.00,9,  -999.0,9,  -999.0,-999.000,9,-999.000,   1.701,6,  -9.0000,-999.0000,   9.9848,   -9.00
  316N145_7,      TRANS,     374,          1,         12,         12,2,19950330,       2133,   -29.4997,    88.4998,       2275,   656.5,   9.1961,  34.6753,2,  34.6767,2,    233.4,2,   230.7,2,    7.04,2,   17.46,2,    0.00,2,    1.23,2,   2.348,2,   1.181,2,  -999.0,9,  -999.0,9,  -9.0000,9,-999.0000,9, -999.00,9, -999.00,9,  -999.0,9,  -999.0,-999.000,9,-999.000,-999.000,9,  -9.0000,-999.0000,   9.1222,   -9.00
  316N145_7,      TRANS,     374,          1,         11,         11,2,19950330,       2133,   -29.4997,    88.4998,       2275,   758.4,   8.1662,  34.5704,2,  34.5726,2,    217.4,2,   215.0,2,   11.43,2,   21.48,2,    0.00,2,    1.48,2,   1.539,2,   0.779,2,  -999.0,9,  -999.0,9,  -9.0000,9,-999.0000,9, -999.00,9, -999.00,9,  -999.0,9,  -999.0,-999.000,9,-999.000,-999.000,9,  -9.0000,-999.0000,   8.0862,   -9.00
  316N145_7,      TRANS,     374,          1,         10,         10,2,19950330,       2133,   -29.4997,    88.4998,       2275,   859.6,   6.7066,  34.4640,2,  34.4648,2,    204.9,2,   201.7,2,   19.81,2,   26.05,2,    0.00,2,    1.78,2,   1.014,2,   0.514,2,  -999.0,9,  -999.0,9,  -9.0000,9,-999.0000,9, -999.00,9, -999.00,9,  -999.0,9,  -999.0,-999.000,9,-999.000,   1.449,6,  -9.0000,-999.0000,   6.6248,   -9.00
  316N145_7,      TRANS,     374,          1,          9,          9,2,19950330,       2133,   -29.4997,    88.4998,       2275,   959.4,   5.2847,  34.3967,2,  34.3998,2,    197.6,2,   196.4,2,   30.94,2,   29.55,2,    0.00,2,    2.03,2,   0.633,2,   0.318,2,  -999.0,9,  -999.0,9,  -9.0000,9,-999.0000,9, -999.00,9, -999.00,9,  -999.0,9,  -999.0,-999.000,9,-999.000,-999.000,9,  -9.0000,-999.0000,   5.2031,   -9.00
  316N145_7,      TRANS,     374,          1,          8,          8,2,19950330,       2133,   -29.4997,    88.4998,       2275,  1061.1,   4.4581,  34.4029,2,  34.4055,2,    185.7,2,   185.4,2,   43.11,2,   31.77,2,    0.00,2,    2.20,2,   0.356,2,   0.178,2,  -999.0,9,  -999.0,9,  -9.0000,9,-999.0000,9, -999.00,9, -999.00,9,  -999.0,9,  -999.0,-999.000,9,-999.000,-999.000,9,  -9.0000,-999.0000,   4.3737,   -9.00
  316N145_7,      TRANS,     374,          1,          7,          7,2,19950330,       2133,   -29.4997,    88.4998,       2275,  1160.8,   3.9910,  34.4574,2,  34.4581,2,    165.4,2,   166.6,2,   58.24,2,   33.60,2,    0.00,2,    2.35,2,   0.128,2,   0.067,2,  -999.0,9,  -999.0,9,  -9.0000,9,-999.0000,9, -999.00,9, -999.00,9,  -999.0,9,  -999.0,-999.000,9,-999.000,-999.000,9,  -9.0000,-999.0000,   3.9020,   -9.00
  316N145_7,      TRANS,     374,          1,          6,          6,2,19950330,       2133,   -29.4997,    88.4998,       2275,  1313.7,   3.4847,  34.5227,2,  34.5246,2,    155.3,2,   154.9,2,   72.33,2,   34.69,2,    0.00,2,    2.44,2,   0.036,2,   0.022,2,  -999.0,9,  -999.0,9,  -9.0000,9,-999.0000,9, -999.00,9, -999.00,9,  -999.0,9,  -999.0,-999.000,9,-999.000,-999.000,9,  -9.0000,-999.0000,   3.3873,   -9.00
  316N145_7,      TRANS,     374,          1,          5,          5,2,19950330,       2133,   -29.4997,    88.4998,       2275,  1514.8,   3.0548,  34.6016,2,  34.6042,2,    152.9,2,   152.5,2,   83.69,2,   34.69,2,    0.00,2,    2.44,2,-999.000,9,-999.000,9,  -999.0,9,  -999.0,9,  -9.0000,9,-999.0000,9, -999.00,9, -999.00,9,  -999.0,9,  -999.0,-999.000,9,-999.000,-999.000,9,  -9.0000,-999.0000,   2.9450,   -9.00
  316N145_7,      TRANS,     374,          1,          4,          4,2,19950330,       2133,   -29.4997,    88.4998,       2275,  1717.3,   2.7693,  34.6614,2,  34.6625,2,    154.0,2,   155.2,2,   92.33,2,   34.24,2,    0.00,2,    2.41,2,   0.001,2,   0.002,2,  -999.0,9,  -999.0,9,  -9.0000,9,-999.0000,9, -999.00,9, -999.00,9,  -999.0,9,  -999.0,-999.000,9,-999.000,-999.000,9,  -9.0000,-999.0000,   2.6457,   -9.00
  316N145_7,      TRANS,     374,          1,          3,          3,2,19950330,       2133,   -29.4997,    88.4998,       2275,  1919.6,   2.5101,  34.6955,2,  34.6964,2,    160.5,2,   160.4,2,   98.65,2,   33.79,2,    0.00,2,    2.37,2,-999.000,9,-999.000,9,  -999.0,9,  -999.0,9,  -9.0000,9,-999.0000,9, -999.00,9, -999.00,9,  -999.0,9,  -999.0,-999.000,9,-999.000,-999.000,9,  -9.0000,-999.0000,   2.3727,   -9.00
  316N145_7,      TRANS,     374,          1,          2,          2,2,19950330,       2133,   -29.4997,    88.4998,       2275,  2122.3,   2.2215,  34.7161,2,  34.7172,2,    167.0,2,   168.1,2,  104.13,2,   33.29,2,    0.00,2,    2.33,2,  -0.002,2,   0.001,2,  -999.0,9,  -999.0,9,  -9.0000,9,-999.0000,9, -999.00,9, -999.00,9,  -999.0,9,  -999.0,-999.000,9,-999.000,-999.000,9,  -9.0000,-999.0000,   2.0709,   -9.00
  316N145_7,      TRANS,     374,          1,          1,          1,2,19950330,       2133,   -29.4997,    88.4998,       2275,  2289.8,   2.0478,  34.7226,2,  34.7239,2,    173.0,2,   172.5,2,  107.28,2,   33.04,2,    0.00,2,    2.31,2,   0.000,2,   0.001,2,  -999.0,9,  -999.0,9,  -9.0000,9,-999.0000,9, -999.00,9, -999.00,9,  -999.0,9,  -999.0,-999.000,9,-999.000,   0.006,6,  -9.0000,-999.0000,   1.8853,   -9.00
  316N145_7,      TRANS,     375,          1,         20,         20,2,19950331,       0157,   -29.8498,    87.9497,       1595,     2.6,  23.9494,  36.0261,2,  36.0250,2,    212.2,2,   212.1,2,    3.24,2,    0.18,2,    0.00,2,    0.11,2,-999.000,9,-999.000,9,  -999.0,9,  -999.0,9,  -9.0000,9,-999.0000,9, -999.00,9, -999.00,9,  -999.0,9,  -999.0,-999.000,9,-999.000,-999.000,9,  -9.0000,-999.0000,  23.9488,   -9.00
  316N145_7,      TRANS,     375,          1,         19,         19,2,19950331,       0157,   -29.8498,    87.9497,       1595,    33.7,  23.9338,  36.0358,2,  36.0366,2,    207.3,2,   212.6,2,    3.18,2,    0.18,2,    0.00,2,    0.11,2,-999.000,9,-999.000,9,  -999.0,9,  -999.0,9,  -9.0000,9,-999.0000,9, -999.00,9, -999.00,9,  -999.0,9,  -999.0,-999.000,9,-999.000,-999.000,9,  -9.0000,-999.0000,  23.9267,   -9.00
  316N145_7,      TRANS,     375,          1,         18,         18,2,19950331,       0157,   -29.8498,    87.9497,       1595,    73.6,  18.5602,  35.6644,2,  35.7175,2,    254.2,2,   255.7,2,    2.69,2,    0.18,2,    0.00,2,    0.16,2,-999.000,9,-999.000,9,  -999.0,9,  -999.0,9,  -9.0000,9,-999.0000,9, -999.00,9, -999.00,9,  -999.0,9,  -999.0,-999.000,9,-999.000,-999.000,9,  -9.0000,-999.0000,  18.5473,   -9.00
  316N145_7,      TRANS,     375,          1,         17,         17,2,19950331,       0157,   -29.8498,    87.9497,       1595,   103.8,  15.9103,  35.5851,2,  35.5872,2,    259.0,2,   248.0,2,    2.41,2,    0.18,2,    0.00,2,    0.23,2,-999.000,9,-999.000,9,  -999.0,9,  -999.0,9,  -9.0000,9,-999.0000,9, -999.00,9, -999.00,9,  -999.0,9,  -999.0,-999.000,9,-999.000,-999.000,9,  -9.0000,-999.0000,  15.8939,   -9.00
  316N145_7,      TRANS,     375,          1,         16,         16,2,19950331,       0157,   -29.8498,    87.9497,       1595,   154.5,  14.2645,  35.4179,2,  35.4332,2,    234.7,2,   231.8,2,    2.97,2,    4.05,2,    0.07,2,    0.45,2,-999.000,9,-999.000,9,  -999.0,9,  -999.0,9,  -9.0000,9,-999.0000,9, -999.00,9, -999.00,9,  -999.0,9,  -999.0,-999.000,9,-999.000,-999.000,9,  -9.0000,-999.0000,  14.2419,   -9.00
  316N145_7,      TRANS,     375,          1,         15,         15,2,19950331,       0157,   -29.8498,    87.9497,       1595,   205.4,  13.2928,  35.2851,2,  35.2826,2,    234.4,2,   234.5,2,    3.32,2,    6.49,2,    0.01,2,    0.58,2,-999.000,9,-999.000,9,  -999.0,9,  -999.0,9,  -9.0000,9,-999.0000,9, -999.00,9, -999.00,9,  -999.0,9,  -999.0,-999.000,9,-999.000,-999.000,9,  -9.0000,-999.0000,  13.2640,   -9.00
  316N145_7,      TRANS,     375,          1,         14,         14,2,19950331,       0157,   -29.8498,    87.9497,       1595,   255.3,  12.6838,  35.2012,2,  35.1928,2,    235.4,2,   234.3,2,    3.68,2,    8.15,2,    0.01,2,    0.67,2,-999.000,9,-999.000,9,  -999.0,9,  -999.0,9,  -9.0000,9,-999.0000,9, -999.00,9, -999.00,9,  -999.0,9,  -999.0,-999.000,9,-999.000,-999.000,9,  -9.0000,-999.0000,  12.6491,   -9.00
  316N145_7,      TRANS,     375,          1,         13,         13,2,19950331,       0157,   -29.8498,    87.9497,       1595,   305.5,  12.0266,  35.0962,2,  35.0927,2,    237.9,2,   238.2,2,    4.03,2,    9.56,2,    0.00,2,    0.76,2,-999.000,9,-999.000,9,  -999.0,9,  -999.0,9,  -9.0000,9,-999.0000,9, -999.00,9, -999.00,9,  -999.0,9,  -999.0,-999.000,9,-999.000,-999.000,9,  -9.0000,-999.0000,  11.9865,   -9.00
  316N145_7,      TRANS,     375,          1,         12,         12,2,19950331,       0157,   -29.8498,    87.9497,       1595,   355.4,  11.6936,  35.0516,2,  35.0504,2,    239.5,2,   238.6,2,    4.17,2,   10.25,2,    0.00,2,    0.79,2,-999.000,9,-999.000,9,  -999.0,9,  -999.0,9,  -9.0000,9,-999.0000,9, -999.00,9, -999.00,9,  -999.0,9,  -999.0,-999.000,9,-999.000,-999.000,9,  -9.0000,-999.0000,  11.6476,   -9.00
  316N145_7,      TRANS,     375,          1,         11,         11,2,19950331,       0157,   -29.8498,    87.9497,       1595,   406.0,  11.2208,  34.9709,2,  34.9764,2,    241.5,2,   241.4,2,    4.53,2,   11.17,2,    0.00,2,    0.85,2,-999.000,9,-999.000,9,  -999.0,9,  -999.0,9,  -9.0000,9,-999.0000,9, -999.00,9, -999.00,9,  -999.0,9,  -999.0,-999.000,9,-999.000,-999.000,9,  -9.0000,-999.0000,  11.1697,   -9.00
  316N145_7,      TRANS,     375,          1,         10,         10,2,19950331,       0157,   -29.8498,    87.9497,       1595,   506.0,  10.4713,  34.8604,2,  34.8609,2,    240.5,2,   241.9,2,    4.88,2,   13.02,2,    0.00,2,    0.96,2,-999.000,9,-999.000,9,  -999.0,9,  -999.0,9,  -9.0000,9,-999.0000,9, -999.00,9, -999.00,9,  -999.0,9,  -999.0,-999.000,9,-999.000,-999.000,9,  -9.0000,-999.0000,  10.4101,   -9.00
  316N145_7,      TRANS,     375,          1,          9,          9,2,19950331,       0157,   -29.8498,    87.9497,       1595,   606.5,   9.6056,  34.7266,2,  34.7294,2,    235.9,2,   236.9,2,    5.86,2,   15.85,2,    0.00,2,    1.13,2,-999.000,9,-999.000,9,  -999.0,9,  -999.0,9,  -9.0000,9,-999.0000,9, -999.00,9, -999.00,9,  -999.0,9,  -999.0,-999.000,9,-999.000,-999.000,9,  -9.0000,-999.0000,   9.5357,   -9.00
  316N145_7,      TRANS,     375,          1,          8,          8,2,19950331,       0157,   -29.8498,    87.9497,       1595,   706.2,   8.7533,  34.6260,2,  34.6215,2,    222.5,2,   222.6,2,    8.74,2,   19.51,2,    0.00,2,    1.35,2,-999.000,9,-999.000,9,  -999.0,9,  -999.0,9,  -9.0000,9,-999.0000,9, -999.00,9, -999.00,9,  -999.0,9,  -999.0,-999.000,9,-999.000,-999.000,9,  -9.0000,-999.0000,   8.6760,   -9.00
  316N145_7,      TRANS,     375,          1,          7,          7,2,19950331,       0157,   -29.8498,    87.9497,       1595,   808.1,   7.4919,  34.5160,2,  34.5158,2,    209.1,2,   205.8,2,   15.41,2,   24.01,2,    0.00,2,    1.63,2,-999.000,9,-999.000,9,  -999.0,9,  -999.0,9,  -9.0000,9,-999.0000,9, -999.00,9, -999.00,9,  -999.0,9,  -999.0,-999.000,9,-999.000,-999.000,9,  -9.0000,-999.0000,   7.4105,   -9.00
  316N145_7,      TRANS,     375,          1,          6,          6,2,19950331,       0157,   -29.8498,    87.9497,       1595,   909.0,   6.0453,  34.4286,2,  34.4296,2,    196.4,2,   196.1,2,   25.45,2,   28.08,2,    0.00,2,    1.92,2,-999.000,9,-999.000,9,  -999.0,9,  -999.0,9,  -9.0000,9,-999.0000,9, -999.00,9, -999.00,9,  -999.0,9,  -999.0,-999.000,9,-999.000,-999.000,9,  -9.0000,-999.0000,   5.9631,   -9.00
  316N145_7,      TRANS,     375,          1,          5,          5,2,19950331,       0157,   -29.8498,    87.9497,       1595,  1010.3,   4.8605,  34.3948,2,  34.3967,2,    189.8,2,   191.0,2,   36.32,2,   30.74,2,    0.00,2,    2.11,2,-999.000,9,-999.000,9,  -999.0,9,  -999.0,9,  -9.0000,9,-999.0000,9, -999.00,9, -999.00,9,  -999.0,9,  -999.0,-999.000,9,-999.000,-999.000,9,  -9.0000,-999.0000,   4.7775,   -9.00
  316N145_7,      TRANS,     375,          1,          4,          4,2,19950331,       0157,   -29.8498,    87.9497,       1595,  1111.2,   4.1598,  34.4275,2,  34.4294,2,    176.0,2,   174.8,2,   51.41,2,   32.91,2,    0.00,2,    2.28,2,-999.000,9,-999.000,9,  -999.0,9,  -999.0,9,  -9.0000,9,-999.0000,9, -999.00,9, -999.00,9,  -999.0,9,  -999.0,-999.000,9,-999.000,-999.000,9,  -9.0000,-999.0000,   4.0736,   -9.00
  316N145_7,      TRANS,     375,          1,          3,          3,2,19950331,       0157,   -29.8498,    87.9497,       1595,  1311.0,   3.5058,  34.5274,2,  34.5280,2,    153.9,2,   154.1,2,   72.84,2,   34.74,2,    0.00,2,    2.44,2,-999.000,9,-999.000,9,  -999.0,9,  -999.0,9,  -9.0000,9,-999.0000,9, -999.00,9, -999.00,9,  -999.0,9,  -999.0,-999.000,9,-999.000,-999.000,9,  -9.0000,-999.0000,   3.4084,   -9.00
  316N145_7,      TRANS,     375,          1,          2,          2,2,19950331,       0157,   -29.8498,    87.9497,       1595,  1514.6,   3.0491,  34.5911,2,  34.5897,2,    154.2,2,   155.7,2,   80.79,2,   34.58,2,    0.00,2,    2.42,2,-999.000,9,-999.000,9,  -999.0,9,  -999.0,9,  -9.0000,9,-999.0000,9, -999.00,9, -999.00,9,  -999.0,9,  -999.0,-999.000,9,-999.000,-999.000,9,  -9.0000,-999.0000,   2.9394,   -9.00
  316N145_7,      TRANS,     375,          1,          1,          1,2,19950331,       0157,   -29.8498,    87.9497,       1595,  1605.1,   2.8819,  34.6294,2,  34.6291,2,    155.7,2,   155.8,2,   86.01,2,   34.38,2,    0.00,2,    2.41,2,-999.000,9,-999.000,9,  -999.0,9,  -999.0,9,  -9.0000,9,-999.0000,9, -999.00,9, -999.00,9,  -999.0,9,  -999.0,-999.000,9,-999.000,-999.000,9,  -9.0000,-999.0000,   2.7665,   -9.00