BOTTLE,20211124CCHSIORKP
EXPOCODE,SECT_ID,STNNBR,CASTNO,SAMPNO,BTLNBR,BTLNBR_FLAG_W,DATE,TIME,LATITUDE,LONGITUDE,DEPTH,CTDPRS,CTDTMP,CTDSAL,CTDSAL_FLAG_W,SALNTY,SALNTY_FLAG_W,CTDOXY,CTDOXY_FLAG_W,OXYGEN,OXYGEN_FLAG_W,SILCAT,SILCAT_FLAG_W,NITRAT,NITRAT_FLAG_W,NITRIT,NITRIT_FLAG_W,PHSPHT,PHSPHT_FLAG_W,CFC-11,CFC-11_FLAG_W,CFC-12,CFC-12_FLAG_W,TCARBN,TCARBN_FLAG_W,ALKALI,ALKALI_FLAG_W,TRITUM,TRITUM_FLAG_W,HELIUM,HELIUM_FLAG_W,DELHE3,DELHE3_FLAG_W,DELC13,DELC13_FLAG_W,DELC14,DELC14_FLAG_W,C14ERR,NEON,NEON_FLAG_W,NEONER,CCL4,CCL4_FLAG_W,TRITER,HELIER,THETA,DELHER
,,,,,,,,,,,METERS,DBAR,ITS-90,PSS-78,,PSS-78,,UMOL/KG,,UMOL/KG,,UMOL/KG,,UMOL/KG,,UMOL/KG,,UMOL/KG,,PMOL/KG,,PMOL/KG,,UMOL/KG,,UMOL/KG,,TU,,NMOL/KG,,PERCNT,,/MILLE,,/MILLE,,/MILLE,NMOL/KG,,NMOL/KG,PMOL/KG,,TU,NMOL/KG,DEG C,PERCNT
  316N145_7,       I08N,     338,          1,         36,         36,2,19950323,       0136,   -15.9992,    80.0020,       5018,     3.2,  28.1701,  34.7766,2,  34.7763,2,    198.9,2,   198.7,2,    3.29,2,    0.09,2,    0.00,2,    0.10,2,   1.632,2,   0.963,2,  1928.2,2,  2276.8,2,  -9.0000,9,   1.6940,2,   -1.02,2, -999.00,9,  -999.0,9,  -999.0,   6.587,2,   0.033,   1.806,2,  -9.0000,   0.0085,  28.1693,    0.14
  316N145_7,       I08N,     338,          1,         35,         35,2,19950323,       0136,   -15.9992,    80.0020,       5018,    37.5,  28.1756,  34.7746,2,  34.7752,2,    199.8,2,   201.7,2,    3.26,2,    0.04,2,    0.00,2,    0.10,2,-999.000,9,-999.000,9,  1928.2,2,  2272.0,2,  -9.0000,9,-999.0000,9, -999.00,9, -999.00,9,  -999.0,9,  -999.0,-999.000,9,-999.000,-999.000,9,  -9.0000,-999.0000,  28.1667,   -9.00
  316N145_7,       I08N,     338,          1,         34,         34,2,19950323,       0136,   -15.9992,    80.0020,       5018,    82.8,  23.5737,  35.0526,2,  34.9738,2,    209.3,2,   209.1,2,    3.86,2,    0.04,2,    0.00,2,    0.16,2,-999.000,9,-999.000,9,  1970.4,2,  2289.8,2,   1.1285,2,   1.7103,2,   -0.77,2, -999.00,9,  -999.0,9,  -999.0,   6.804,2,   0.034,-999.000,9,   0.0040,   0.0086,  23.5565,    0.14
  316N145_7,       I08N,     338,          1,         33,         33,2,19950323,       0136,   -15.9992,    80.0020,       5018,   132.1,  22.2776,  35.2549,2,  35.2251,2,    203.0,2,   199.9,2,    3.83,2,    0.45,2,    0.35,2,    0.21,2,   1.982,2,   1.153,2,  1995.6,2,  2302.3,2,   1.1501,2,   1.7350,2,   -0.76,2, -999.00,9,  -999.0,9,  -999.0,   6.942,2,   0.035,   1.548,2,   0.0040,   0.0087,  22.2512,    0.14
  316N145_7,       I08N,     338,          1,         32,         32,2,19950323,       0136,   -15.9992,    80.0020,       5018,   182.2,  20.9516,  35.5736,2,  35.5756,2,    208.3,2,   204.8,2,    3.80,2,    0.73,2,    0.22,2,    0.21,2,-999.000,9,-999.000,9,  2019.2,2,  2329.7,2,  -9.0000,9,-999.0000,9, -999.00,9, -999.00,9,  -999.0,9,  -999.0,-999.000,9,-999.000,-999.000,9,  -9.0000,-999.0000,  20.9167,   -9.00
  316N145_7,       I08N,     338,          1,         31,         31,2,19950323,       0136,   -15.9992,    80.0020,       5018,   233.1,  17.2260,  35.3084,2,  35.2771,2,    140.5,2,   144.2,2,   15.57,2,   11.72,2,    0.00,2,    0.88,2,   1.645,2,   0.940,2,  2102.0,2,  2320.6,2,   1.0588,2,   1.7444,2,    4.10,2, -999.00,9,  -999.0,9,  -999.0,   7.102,2,   0.036,   0.281,2,   0.0039,   0.0087,  17.1871,    0.14
  316N145_7,       I08N,     338,          1,         30,         30,2,19950323,       0136,   -15.9992,    80.0020,       5018,   268.3,  16.0682,  35.2606,2,  35.2771,2,    146.3,2,   148.1,2,   16.78,2,   12.44,2,    0.00,2,    0.94,2,-999.000,9,-999.000,9,  2129.4,2,  2324.1,2,   0.9934,2,   1.7407,2,    5.14,2, -999.00,9,  -999.0,9,  -999.0,   7.131,2,   0.036,-999.000,9,   0.0038,   0.0087,  16.0254,    0.14
  316N145_7,       I08N,     338,          1,         29,         29,2,19950323,       0136,   -15.9992,    80.0020,       5018,   307.5,  15.0176,  35.4281,2,  35.4472,2,    174.2,2,   182.9,2,    9.51,2,    8.70,2,    0.00,2,    0.72,2,-999.000,9,-999.000,9,  2117.6,2,  2331.1,2,   0.9140,2,   1.7443,2,    2.41,2, -999.00,9,  -999.0,9,  -999.0,   7.167,2,   0.036,-999.000,9,   0.0037,   0.0087,  14.9707,    0.14
  316N145_7,       I08N,     338,          1,         28,         28,2,19950323,       0136,   -15.9992,    80.0020,       5018,   377.8,  12.4034,  35.1352,2,  35.1423,2,    190.9,2,   207.4,2,    7.83,2,   11.05,2,    0.00,2,    0.86,2,   2.352,2,   1.256,2,  2122.8,2,  2312.9,2,   0.7209,2,   1.7503,2,    2.01,2, -999.00,9,  -999.0,9,  -999.0,   7.297,2,   0.036,   0.842,2,   0.0034,   0.0088,  12.3526,    0.14
  316N145_7,       I08N,     338,          1,         27,         27,2,19950323,       0136,   -15.9992,    80.0020,       5018,   449.1,  10.5478,  34.8786,2,  34.8782,2,    217.7,2,   226.0,2,    5.94,2,   13.64,2,    0.00,2,    1.00,2,-999.000,9,-999.000,9,  2121.7,2,  2302.4,2,   0.5659,2,-999.0000,9, -999.00,9, -999.00,9,  -999.0,9,  -999.0,-999.000,9,-999.000,-999.000,9,   0.0030,-999.0000,  10.4933,   -9.00
  316N145_7,       I08N,     338,          1,         26,         26,2,19950323,       0136,   -15.9992,    80.0020,       5018,   539.3,   9.2389,  34.6970,2,  34.6993,2,    217.1,2,   218.8,2,    8.39,2,   17.82,2,    0.00,2,    1.25,2,-999.000,9,-999.000,9,  2133.7,2,  2293.0,2,   0.4219,2,   1.7700,2,    1.79,2, -999.00,9,  -999.0,9,  -999.0,   7.479,2,   0.037,-999.000,9,   0.0028,   0.0089,   9.1785,    0.14
  316N145_7,       I08N,     338,          1,         25,         25,2,19950323,       0136,   -15.9992,    80.0020,       5018,   629.5,   7.7734,  34.6033,2,  34.5991,2,    175.0,2,   170.4,2,   25.77,2,   26.09,2,    0.00,2,    1.79,2,-999.000,9,-999.000,9,  2188.9,2,  2302.0,2,   0.1613,2,   1.7790,2,    4.32,2, -999.00,9,  -999.0,9,  -999.0,   7.527,2,   0.038,-999.000,9,   0.0024,   0.0089,   7.7093,    0.14
  316N145_7,       I08N,     338,          1,         24,         24,2,19950323,       0136,   -15.9992,    80.0020,       5018,   710.0,   6.9314,  34.6415,2,  34.6403,2,    130.8,2,   128.2,2,   48.95,2,   31.47,2,    0.00,2,    2.19,2,   0.142,3,   0.092,2,  -999.0,5,  2320.1,2,   0.0701,2,   1.8072,2,    7.15,2, -999.00,9,  -999.0,9,  -999.0,   7.640,2,   0.038,   0.269,2,   0.0023,   0.0090,   6.8632,    0.14
  316N145_7,       I08N,     338,          1,         23,         23,2,19950323,       0136,   -15.9992,    80.0020,       5018,   810.2,   6.1582,  34.6638,2,  34.6651,2,    107.9,2,   105.5,2,   68.64,2,   34.72,2,    0.00,2,    2.44,2,-999.000,9,-999.000,9,  2260.5,2,  2340.8,2,   0.0232,2,   1.8291,2,    9.53,2, -999.00,9,  -999.0,9,  -999.0,   7.734,2,   0.039,-999.000,9,   0.0022,   0.0091,   6.0844,    0.14
  316N145_7,       I08N,     338,          1,         22,         22,2,19950323,       0136,   -15.9992,    80.0020,       5018,   911.1,   5.6641,  34.6922,2,  34.6926,2,     96.1,2,    95.3,2,   81.30,2,   36.04,2,    0.00,2,    2.56,2,  -0.021,3,   0.008,2,  2276.6,2,  2354.2,2,  -9.0000,9,-999.0000,9, -999.00,9, -999.00,9,  -999.0,9,  -999.0,-999.000,9,-999.000,   0.082,2,  -9.0000,-999.0000,   5.5839,   -9.00
  316N145_7,       I08N,     338,          1,         21,         21,2,19950323,       0136,   -15.9992,    80.0020,       5018,  1011.1,   5.2779,  34.6992,2,  34.7005,2,     94.3,2,    94.3,2,   87.96,2,   36.47,2,    0.00,2,    2.61,2,  -0.020,3,   0.004,2,  2287.0,2,  2360.8,2,   0.0053,2,   1.8540,2,   12.65,2, -999.00,9,  -999.0,9,  -999.0,   7.783,2,   0.039,   0.015,2,   0.0022,   0.0092,   5.1911,    0.14
  316N145_7,       I08N,     338,          1,         20,         20,2,19950323,       0136,   -15.9992,    80.0020,       5018,  1260.6,   4.4362,  34.6975,2,  34.7001,2,    102.4,2,   104.5,2,   97.77,2,   36.57,2,    0.00,2,    2.61,2,-999.000,9,-999.000,9,  2295.8,2,  2365.4,2,   0.0014,2,   1.8670,2,   13.30,2, -999.00,9,  -999.0,9,  -999.0,   7.851,2,   0.039,-999.000,9,   0.0022,   0.0093,   4.3338,    0.14
  316N145_7,       I08N,     338,          1,         19,         19,2,19950323,       0136,   -15.9992,    80.0020,       5018,  1465.1,   3.6929,  34.6954,2,  34.6950,2,    116.1,2,   116.6,2,  104.26,2,   36.27,2,    0.00,2,    2.63,2,  -0.003,3,   0.010,3,  2297.9,2,  2377.6,2,  -9.0000,9,   1.8720,2,   13.58,2, -999.00,9,  -999.0,9,  -999.0,-999.000,9,-999.000,   0.017,2,  -9.0000,-999.0000,   3.5799,   -9.00
  316N145_7,       I08N,     338,          1,         18,         18,2,19950323,       0136,   -15.9992,    80.0020,       5018,  1667.9,   3.1690,  34.7150,2,  34.7160,2,    128.9,2,   128.8,2,  108.87,2,   35.78,2,    0.00,2,    2.54,2,-999.000,9,-999.000,9,  2298.8,2,  2380.9,2,   0.0013,2,   1.8740,2,   13.45,2, -999.00,9,  -999.0,9,  -999.0,   7.625,2,   0.038,-999.000,9,   0.0022,   0.0090,   3.0444,    0.14
  316N145_7,       I08N,     338,          1,         17,         17,2,19950323,       0136,   -15.9992,    80.0020,       5018,  1867.6,   2.7873,  34.7236,2,  34.7243,2,    139.0,2,   138.9,2,  112.02,2,   35.19,2,    0.00,2,    2.50,2,-999.000,9,-999.000,9,  2297.3,2,  2386.3,2,  -9.0000,9,   1.8790,2,   14.20,2, -999.00,9,  -999.0,9,  -999.0,-999.000,9,-999.000,-999.000,9,  -9.0000,-999.0000,   2.6503,   -9.00
  316N145_7,       I08N,     338,          1,         16,         16,2,19950323,       0136,   -15.9992,    80.0020,       5018,  2068.0,   2.4594,  34.7289,2,  34.7303,2,    148.2,2,   148.9,2,  115.17,2,   34.70,2,    0.00,2,    2.45,2,  -0.036,3,  -0.003,2,  2287.5,2,  2385.2,2,  -9.0000,9,   1.8810,2,   14.50,2, -999.00,9,  -999.0,9,  -999.0,-999.000,9,-999.000,  -0.002,2,  -9.0000,-999.0000,   2.3097,   -9.00
  316N145_7,       I08N,     338,          1,         15,         15,2,19950323,       0136,   -15.9992,    80.0020,       5018,  2272.5,   2.1796,  34.7301,2,  34.7305,2,    157.0,2,   157.9,2,  117.70,2,   34.35,2,    0.00,2,    2.41,2,-999.000,9,-999.000,9,  2291.9,2,  2394.2,2,  -9.0000,9,   1.8910,2,   15.30,2, -999.00,9,  -999.0,9,  -999.0,-999.000,9,-999.000,-999.000,9,  -9.0000,-999.0000,   2.0163,   -9.00
  316N145_7,       I08N,     338,          1,         14,         14,2,19950323,       0136,   -15.9992,    80.0020,       5018,  2470.6,   1.9917,  34.7288,2,  34.7296,2,    164.3,2,   165.2,2,  119.80,2,   34.20,2,    0.00,2,    2.38,2,-999.000,9,-999.000,9,  2290.2,2,  2398.1,2,  -9.0000,9,   1.8830,2,   15.12,2, -999.00,9,  -999.0,9,  -999.0,-999.000,9,-999.000,-999.000,9,  -9.0000,-999.0000,   1.8140,   -9.00
  316N145_7,       I08N,     338,          1,         13,         13,2,19950323,       0136,   -15.9992,    80.0020,       5018,  2674.9,   1.8251,  34.7276,2,  34.7284,2,    170.0,2,   170.3,2,  122.13,2,   34.00,2,    0.00,2,    2.35,2,-999.000,9,-999.000,9,  2288.6,2,  2392.5,2,  -9.0000,9,   1.8960,2,   14.64,2, -999.00,9,  -999.0,9,  -999.0,-999.000,9,-999.000,-999.000,9,  -9.0000,-999.0000,   1.6318,   -9.00
  316N145_7,       I08N,     338,          1,         12,         12,2,19950323,       0136,   -15.9992,    80.0020,       5018,  2878.7,   1.7237,  34.7267,2,  34.7272,2,    173.1,2,   172.9,2,  124.03,2,   33.85,2,    0.00,2,    2.34,2,  -0.011,3,  -0.002,2,  2289.9,2,  2396.9,2,  -9.0000,9,   1.8800,2,   14.22,2, -999.00,9,  -999.0,9,  -999.0,-999.000,9,-999.000,   0.006,2,  -9.0000,-999.0000,   1.5133,   -9.00
  316N145_7,       I08N,     338,          1,         11,         11,2,19950323,       0136,   -15.9992,    80.0020,       5018,  3086.1,   1.6115,  34.7250,2,  34.7252,2,    175.4,2,   174.5,2,  126.15,2,   33.75,2,    0.00,2,    2.34,2,-999.000,9,-999.000,9,  2292.2,2,  2401.1,2,  -9.0000,9,   1.8900,2,   13.83,2, -999.00,9,  -999.0,9,  -999.0,-999.000,9,-999.000,-999.000,9,  -9.0000,-999.0000,   1.3837,   -9.00
  316N145_7,       I08N,     338,          1,         10,         10,2,19950323,       0136,   -15.9992,    80.0020,       5018,  3289.6,   1.5218,  34.7234,2,  34.7239,2,    178.3,2,   179.1,2,  127.63,2,   33.70,2,    0.00,2,    2.33,2,-999.000,9,-999.000,9,  2292.4,2,  2413.6,3,  -9.0000,9,   1.8900,2,   12.83,2, -999.00,9,  -999.0,9,  -999.0,-999.000,9,-999.000,-999.000,9,  -9.0000,-999.0000,   1.2761,   -9.00
  316N145_7,       I08N,     338,          1,          9,          9,2,19950323,       0136,   -15.9992,    80.0020,       5018,  3492.8,   1.4432,  34.7221,2,  34.7225,2,    181.8,2,   181.8,2,  127.61,2,   33.41,2,    0.00,2,    2.31,2,-999.000,9,-999.000,9,  2289.5,2,  2401.4,2,  -9.0000,9,   1.8900,2,   12.17,2, -999.00,9,  -999.0,9,  -999.0,-999.000,9,-999.000,-999.000,9,  -9.0000,-999.0000,   1.1790,   -9.00
  316N145_7,       I08N,     338,          1,          8,          8,2,19950323,       0136,   -15.9992,    80.0020,       5018,  3697.5,   1.3840,  34.7200,2,  34.7203,2,    183.6,2,   183.3,2,  128.66,2,   33.35,2,    0.00,2,    2.31,2,-999.000,9,-999.000,9,  2292.0,2,  2405.4,2,  -9.0000,9,-999.0000,9, -999.00,9, -999.00,9,  -999.0,9,  -999.0,-999.000,9,-999.000,-999.000,9,  -9.0000,-999.0000,   1.1002,   -9.00
  316N145_7,       I08N,     338,          1,          7,          7,2,19950323,       0136,   -15.9992,    80.0020,       5018,  3900.6,   1.3641,  34.7184,2,  34.7190,2,    182.6,2,   182.8,2,  130.57,2,   33.40,2,    0.00,2,    2.32,2,  -0.007,3,  -0.004,2,  2294.0,2,  2408.7,2,  -9.0000,9,   1.8850,2,   11.89,2, -999.00,9,  -999.0,9,  -999.0,-999.000,9,-999.000,   0.002,2,  -9.0000,-999.0000,   1.0595,   -9.00
  316N145_7,       I08N,     338,          1,          6,          6,2,19950323,       0136,   -15.9992,    80.0020,       5018,  4106.6,   1.3588,  34.7174,2,  34.7176,2,    183.4,2,   183.1,2,  132.27,2,   33.54,2,    0.00,2,    2.33,2,   0.000,3,  -0.004,2,  2295.9,2,  2423.0,3,  -9.0000,9,-999.0000,9, -999.00,9, -999.00,9,  -999.0,9,  -999.0,-999.000,9,-999.000,   0.012,2,  -9.0000,-999.0000,   1.0320,   -9.00
  316N145_7,       I08N,     338,          1,          5,          5,2,19950323,       0136,   -15.9992,    80.0020,       5018,  4309.7,   1.3688,  34.7178,2,  34.7184,2,    183.0,2,   183.0,2,  133.76,2,   33.83,2,    0.00,2,    2.33,2,-999.000,9,-999.000,9,  2297.2,2,  2409.0,2,  -9.0000,9,   1.8880,2,   11.79,2, -999.00,9,  -999.0,9,  -999.0,-999.000,9,-999.000,-999.000,9,  -9.0000,-999.0000,   1.0192,   -9.00
  316N145_7,       I08N,     338,          1,          4,          4,2,19950323,       0136,   -15.9992,    80.0020,       5018,  4515.3,   1.3837,  34.7171,2,  34.7174,2,    182.8,2,   182.4,2,  134.17,2,   33.87,2,    0.00,2,    2.33,2,  -0.001,3,  -0.005,2,  2297.4,2,  2432.0,3,  -9.0000,9,-999.0000,9, -999.00,9, -999.00,9,  -999.0,9,  -999.0,-999.000,9,-999.000,   0.014,2,  -9.0000,-999.0000,   1.0103,   -9.00
  316N145_7,       I08N,     338,          1,          3,          3,2,19950323,       0136,   -15.9992,    80.0020,       5018,  4719.5,   1.4037,  34.7167,2,  34.7168,2,    182.2,2,   182.6,2,  134.80,2,   33.87,2,    0.00,2,    2.33,2,   0.003,3,  -0.003,2,  2298.6,2,  2413.6,2,  -9.0000,9,   1.8880,2,   11.50,2, -999.00,9,  -999.0,9,  -999.0,-999.000,9,-999.000,   0.002,2,  -9.0000,-999.0000,   1.0060,   -9.00
  316N145_7,       I08N,     338,          1,          2,          2,2,19950323,       0136,   -15.9992,    80.0020,       5018,  4975.3,   1.4262,  34.7166,2,  34.7162,2,    183.2,2,   183.4,2,  133.70,2,   33.87,2,    0.00,2,    2.33,2,-999.000,9,-999.000,9,  2296.7,2,  2430.2,3,  -9.0000,9,-999.0000,9, -999.00,9, -999.00,9,  -999.0,9,  -999.0,-999.000,9,-999.000,-999.000,9,  -9.0000,-999.0000,   0.9973,   -9.00
  316N145_7,       I08N,     338,          1,          1,          1,2,19950323,       0136,   -15.9992,    80.0020,       5018,  5118.9,   1.4412,  34.7169,2,  34.7166,2,    184.1,2,   183.5,2,  132.82,2,   33.77,2,    0.00,2,    2.32,2,   0.025,3,  -0.005,2,  2296.1,2,  2411.7,2,  -9.0000,9,   1.8870,2,   11.69,2, -999.00,9,  -999.0,9,  -999.0,-999.000,9,-999.000,   0.006,2,  -9.0000,-999.0000,   0.9943,   -9.00