BOTTLE,20211124CCHSIORKP
EXPOCODE,SECT_ID,STNNBR,CASTNO,SAMPNO,BTLNBR,BTLNBR_FLAG_W,DATE,TIME,LATITUDE,LONGITUDE,DEPTH,CTDPRS,CTDTMP,CTDSAL,CTDSAL_FLAG_W,SALNTY,SALNTY_FLAG_W,CTDOXY,CTDOXY_FLAG_W,OXYGEN,OXYGEN_FLAG_W,SILCAT,SILCAT_FLAG_W,NITRAT,NITRAT_FLAG_W,NITRIT,NITRIT_FLAG_W,PHSPHT,PHSPHT_FLAG_W,CFC-11,CFC-11_FLAG_W,CFC-12,CFC-12_FLAG_W,TCARBN,TCARBN_FLAG_W,ALKALI,ALKALI_FLAG_W,TRITUM,TRITUM_FLAG_W,HELIUM,HELIUM_FLAG_W,DELHE3,DELHE3_FLAG_W,DELC13,DELC13_FLAG_W,DELC14,DELC14_FLAG_W,C14ERR,NEON,NEON_FLAG_W,NEONER,CCL4,CCL4_FLAG_W,TRITER,HELIER,THETA,DELHER
,,,,,,,,,,,METERS,DBAR,ITS-90,PSS-78,,PSS-78,,UMOL/KG,,UMOL/KG,,UMOL/KG,,UMOL/KG,,UMOL/KG,,UMOL/KG,,PMOL/KG,,PMOL/KG,,UMOL/KG,,UMOL/KG,,TU,,NMOL/KG,,PERCNT,,/MILLE,,/MILLE,,/MILLE,NMOL/KG,,NMOL/KG,PMOL/KG,,TU,NMOL/KG,DEG C,PERCNT
  316N145_7,       I08N,     327,          1,         36,         36,2,19950320,       1046,   -10.5000,    80.0000,       5315,     2.7,  29.3582,  34.6324,2,  34.6311,2,    193.2,2,   195.7,2,    3.23,2,    0.14,2,    0.00,2,    0.10,2,-999.000,9,-999.000,9,  -999.0,5,  2297.1,2,  -9.0000,9,-999.0000,9, -999.00,9, -999.00,9,  -999.0,9,  -999.0,-999.000,9,-999.000,-999.000,9,  -9.0000,-999.0000,  29.3575,   -9.00
  316N145_7,       I08N,     327,          1,         35,         35,2,19950320,       1046,   -10.5000,    80.0000,       5315,    28.1,  28.4685,  34.6379,2,  34.6410,2,    192.3,2,   201.0,2,    3.23,2,    0.14,2,    0.00,2,    0.10,2,-999.000,9,-999.000,9,  -999.0,9,  -999.0,9,  -9.0000,9,-999.0000,9, -999.00,9, -999.00,9,  -999.0,9,  -999.0,-999.000,9,-999.000,-999.000,9,  -9.0000,-999.0000,  28.4618,   -9.00
  316N145_7,       I08N,     327,          1,         34,         34,2,19950320,       1046,   -10.5000,    80.0000,       5315,    52.5,  24.4001,  34.6834,2,  34.6991,2,    194.1,2,   191.7,2,    5.15,2,    1.31,2,    0.05,2,    0.28,2,-999.000,9,-999.000,9,  -999.0,9,  -999.0,9,  -9.0000,9,-999.0000,9, -999.00,9, -999.00,9,  -999.0,9,  -999.0,-999.000,9,-999.000,-999.000,9,  -9.0000,-999.0000,  24.3889,   -9.00
  316N145_7,       I08N,     327,          1,         33,         33,2,19950320,       1046,   -10.5000,    80.0000,       5315,   107.6,  17.7763,  34.6876,2,  34.6807,2,    101.7,2,   100.1,2,   23.90,2,   18.30,2,    0.04,2,    1.27,2,-999.000,9,-999.000,9,  -999.0,9,  -999.0,9,  -9.0000,9,-999.0000,9, -999.00,9, -999.00,9,  -999.0,9,  -999.0,-999.000,9,-999.000,-999.000,9,  -9.0000,-999.0000,  17.7580,   -9.00
  316N145_7,       I08N,     327,          1,         32,         32,2,19950320,       1046,   -10.5000,    80.0000,       5315,   157.9,  15.1556,  34.9264,2,  34.9314,2,     81.2,2,    82.7,2,   26.00,2,   22.29,2,    0.01,2,    1.54,2,-999.000,9,-999.000,9,  -999.0,9,  -999.0,9,  -9.0000,9,-999.0000,9, -999.00,9, -999.00,9,  -999.0,9,  -999.0,-999.000,9,-999.000,-999.000,9,  -9.0000,-999.0000,  15.1315,   -9.00
  316N145_7,       I08N,     327,          1,         31,         31,2,19950320,       1046,   -10.5000,    80.0000,       5315,   192.1,  13.5469,  34.8390,2,  34.8303,2,     81.5,2,    69.6,2,   31.27,2,   25.94,2,    0.01,2,    1.79,2,-999.000,9,-999.000,9,  -999.0,9,  -999.0,9,  -9.0000,9,-999.0000,9, -999.00,9, -999.00,9,  -999.0,9,  -999.0,-999.000,9,-999.000,-999.000,9,  -9.0000,-999.0000,  13.5198,   -9.00
  316N145_7,       I08N,     327,          1,         30,         30,2,19950320,       1046,   -10.5000,    80.0000,       5315,   238.2,  12.5493,  34.8947,2,  34.8954,2,     80.0,2,    81.0,2,   30.22,2,   25.60,2,    0.01,2,    1.77,2,-999.000,9,-999.000,9,  -999.0,9,  -999.0,9,  -9.0000,9,-999.0000,9, -999.00,9, -999.00,9,  -999.0,9,  -999.0,-999.000,9,-999.000,-999.000,9,  -9.0000,-999.0000,  12.5173,   -9.00
  316N145_7,       I08N,     327,          1,         29,         29,2,19950320,       1046,   -10.5000,    80.0000,       5315,   308.8,  11.2061,  34.8787,2,  34.8791,2,     98.6,2,    98.1,2,   29.80,2,   25.56,2,    0.01,2,    1.76,2,-999.000,9,-999.000,9,  -999.0,9,  -999.0,9,  -9.0000,9,-999.0000,9, -999.00,9, -999.00,9,  -999.0,9,  -999.0,-999.000,9,-999.000,-999.000,9,  -9.0000,-999.0000,  11.1675,   -9.00
  316N145_7,       I08N,     327,          1,         28,         28,2,19950320,       1046,   -10.5000,    80.0000,       5315,   378.7,  10.2579,  34.8350,2,  34.8371,2,    121.5,2,   123.4,2,   26.86,2,   24.99,2,    0.00,2,    1.70,2,-999.000,9,-999.000,9,  -999.0,9,  -999.0,9,  -9.0000,9,-999.0000,9, -999.00,9, -999.00,9,  -999.0,9,  -999.0,-999.000,9,-999.000,-999.000,9,  -9.0000,-999.0000,  10.2129,   -9.00
  316N145_7,       I08N,     327,          1,         27,         27,2,19950320,       1046,   -10.5000,    80.0000,       5315,   459.2,   9.0960,  34.7654,2,  34.7702,2,    106.9,2,   106.2,2,   36.54,2,   29.02,2,    0.00,2,    1.98,2,-999.000,9,-999.000,9,  -999.0,9,  -999.0,9,  -9.0000,9,-999.0000,9, -999.00,9, -999.00,9,  -999.0,9,  -999.0,-999.000,9,-999.000,-999.000,9,  -9.0000,-999.0000,   9.0452,   -9.00
  316N145_7,       I08N,     327,          1,         26,         26,2,19950320,       1046,   -10.5000,    80.0000,       5315,   559.6,   8.2641,  34.7605,2,  34.7602,2,     90.6,2,    89.7,2,   49.17,2,   32.16,2,    0.00,2,    2.25,2,-999.000,9,-999.000,9,  -999.0,9,  -999.0,9,  -9.0000,9,-999.0000,9, -999.00,9, -999.00,9,  -999.0,9,  -999.0,-999.000,9,-999.000,-999.000,9,  -9.0000,-999.0000,   8.2052,   -9.00
  316N145_7,       I08N,     327,          1,         25,         25,2,19950320,       1046,   -10.5000,    80.0000,       5315,   660.7,   7.5133,  34.7506,2,  34.7516,2,     79.5,3,    82.0,2,   62.23,2,   34.27,2,    0.00,2,    2.44,2,-999.000,9,-999.000,9,  -999.0,9,  -999.0,9,  -9.0000,9,-999.0000,9, -999.00,9, -999.00,9,  -999.0,9,  -999.0,-999.000,9,-999.000,-999.000,9,  -9.0000,-999.0000,   7.4470,   -9.00
  316N145_7,       I08N,     327,          1,         24,         24,2,19950320,       1046,   -10.5000,    80.0000,       5315,   761.7,   6.7338,  34.7288,2,  34.7325,2,     72.8,3,    74.9,2,   75.51,2,   35.65,2,    0.00,2,    2.56,2,-999.000,9,-999.000,9,  -999.0,9,  -999.0,9,  -9.0000,9,-999.0000,9, -999.00,9, -999.00,9,  -999.0,9,  -999.0,-999.000,9,-999.000,-999.000,9,  -9.0000,-999.0000,   6.6614,   -9.00
  316N145_7,       I08N,     327,          1,         23,         23,2,19950320,       1046,   -10.5000,    80.0000,       5315,   862.3,   6.0975,  34.7127,2,  34.7149,2,     72.6,2,    77.3,2,   85.02,2,   36.18,2,    0.00,2,    2.61,2,-999.000,9,-999.000,9,  -999.0,9,  -999.0,9,  -9.0000,9,-999.0000,9, -999.00,9, -999.00,9,  -999.0,9,  -999.0,-999.000,9,-999.000,-999.000,9,  -9.0000,-999.0000,   6.0190,   -9.00
  316N145_7,       I08N,     327,          1,         22,         22,2,19950320,       1046,   -10.5000,    80.0000,       5315,   962.5,   5.5758,  34.7011,2,  34.7021,2,     74.3,2,    80.9,2,   92.85,2,   36.56,2,    0.00,2,    2.64,2,-999.000,9,-999.000,9,  -999.0,9,  -999.0,9,  -9.0000,9,-999.0000,9, -999.00,9, -999.00,9,  -999.0,9,  -999.0,-999.000,9,-999.000,-999.000,9,  -9.0000,-999.0000,   5.4914,   -9.00
  316N145_7,       I08N,     327,          1,         21,         21,2,19950320,       1046,   -10.5000,    80.0000,       5315,  1062.9,   5.1513,  34.6899,2,  34.6885,2,     80.6,2,    85.6,2,   97.94,2,   36.66,2,    0.00,2,    2.65,2,-999.000,9,-999.000,9,  -999.0,9,  -999.0,9,  -9.0000,9,-999.0000,9, -999.00,9, -999.00,9,  -999.0,9,  -999.0,-999.000,9,-999.000,-999.000,9,  -9.0000,-999.0000,   5.0607,   -9.00
  316N145_7,       I08N,     327,          1,         20,         20,2,19950320,       1046,   -10.5000,    80.0000,       5315,  1189.3,   4.6457,  34.6920,2,  34.6917,2,     90.6,3,    91.1,2,  103.89,2,   36.75,2,    0.00,2,    2.66,2,-999.000,9,-999.000,9,  -999.0,9,  -999.0,9,  -9.0000,9,-999.0000,9, -999.00,9, -999.00,9,  -999.0,9,  -999.0,-999.000,9,-999.000,-999.000,9,  -9.0000,-999.0000,   4.5478,   -9.00
  316N145_7,       I08N,     327,          1,         19,         19,2,19950320,       1046,   -10.5000,    80.0000,       5315,  1340.3,   4.1638,  34.7203,2,  34.7206,2,     99.7,2,    99.3,2,  106.86,2,   36.55,2,    0.00,2,    2.64,2,-999.000,9,-999.000,9,  -999.0,9,  -999.0,9,  -9.0000,9,-999.0000,9, -999.00,9, -999.00,9,  -999.0,9,  -999.0,-999.000,9,-999.000,-999.000,9,  -9.0000,-999.0000,   4.0568,   -9.00
  316N145_7,       I08N,     327,          1,         18,         18,2,19950320,       1046,   -10.5000,    80.0000,       5315,  1517.8,   3.5907,  34.7352,2,  34.7340,2,    112.8,2,   112.8,2,  110.27,2,   36.12,2,    0.00,2,    2.60,2,-999.000,9,-999.000,9,  -999.0,9,  -999.0,9,  -9.0000,9,-999.0000,9, -999.00,9, -999.00,9,  -999.0,9,  -999.0,-999.000,9,-999.000,-999.000,9,  -9.0000,-999.0000,   3.4742,   -9.00
  316N145_7,       I08N,     327,          1,         17,         17,2,19950320,       1046,   -10.5000,    80.0000,       5315,  1719.1,   3.0202,  34.7475,2,  34.7458,2,    128.7,2,   127.9,2,  114.54,2,   35.54,2,    0.00,2,    2.54,2,-999.000,9,-999.000,9,  -999.0,9,  -999.0,9,  -9.0000,9,-999.0000,9, -999.00,9, -999.00,9,  -999.0,9,  -999.0,-999.000,9,-999.000,-999.000,9,  -9.0000,-999.0000,   2.8930,   -9.00
  316N145_7,       I08N,     327,          1,         16,         16,2,19950320,       1046,   -10.5000,    80.0000,       5315,  1922.2,   2.6050,  34.7460,2,  34.7441,2,    140.4,2,   139.9,2,  118.40,2,   34.96,2,    0.00,2,    2.48,2,-999.000,9,-999.000,9,  -999.0,9,  -999.0,9,  -9.0000,9,-999.0000,9, -999.00,9, -999.00,9,  -999.0,9,  -999.0,-999.000,9,-999.000,-999.000,9,  -9.0000,-999.0000,   2.4658,   -9.00
  316N145_7,       I08N,     327,          1,         15,         15,2,19950320,       1046,   -10.5000,    80.0000,       5315,  2124.5,   2.2760,  34.7416,2,  34.7405,2,    149.2,2,   149.8,2,  121.40,2,   34.63,2,    0.00,2,    2.44,2,-999.000,9,-999.000,9,  -999.0,9,  -999.0,9,  -9.0000,9,-999.0000,9, -999.00,9, -999.00,9,  -999.0,9,  -999.0,-999.000,9,-999.000,-999.000,9,  -9.0000,-999.0000,   2.1242,   -9.00
  316N145_7,       I08N,     327,          1,         14,         14,2,19950320,       1046,   -10.5000,    80.0000,       5315,  2327.6,   2.0505,  34.7368,2,  34.7354,2,    157.6,2,   157.9,2,  123.12,2,   34.24,2,    0.00,2,    2.40,2,-999.000,9,-999.000,9,  -999.0,9,  -999.0,9,  -9.0000,9,-999.0000,9, -999.00,9, -999.00,9,  -999.0,9,  -999.0,-999.000,9,-999.000,-999.000,9,  -9.0000,-999.0000,   1.8845,   -9.00
  316N145_7,       I08N,     327,          1,         13,         13,2,19950320,       1046,   -10.5000,    80.0000,       5315,  2530.3,   1.9077,  34.7336,2,  34.7317,2,    163.2,2,   162.9,2,  124.40,2,   34.00,2,    0.00,2,    2.37,2,-999.000,9,-999.000,9,  -999.0,9,  -999.0,9,  -9.0000,9,-999.0000,9, -999.00,9, -999.00,9,  -999.0,9,  -999.0,-999.000,9,-999.000,-999.000,9,  -9.0000,-999.0000,   1.7260,   -9.00
  316N145_7,       I08N,     327,          1,         12,         12,2,19950320,       1046,   -10.5000,    80.0000,       5315,  2734.3,   1.7975,  34.7310,2,  34.7298,2,    166.8,2,   165.2,2,  126.98,2,   34.00,2,    0.00,2,    2.37,2,-999.000,9,-999.000,9,  -999.0,9,  -999.0,9,  -9.0000,9,-999.0000,9, -999.00,9, -999.00,9,  -999.0,9,  -999.0,-999.000,9,-999.000,-999.000,9,  -9.0000,-999.0000,   1.5992,   -9.00
  316N145_7,       I08N,     327,          1,         11,         11,2,19950320,       1046,   -10.5000,    80.0000,       5315,  2936.7,   1.6798,  34.7276,2,  34.7258,2,    170.2,2,   169.6,2,  128.27,2,   33.71,2,    0.00,2,    2.35,2,-999.000,9,-999.000,9,  -999.0,9,  -999.0,9,  -9.0000,9,-999.0000,9, -999.00,9, -999.00,9,  -999.0,9,  -999.0,-999.000,9,-999.000,-999.000,9,  -9.0000,-999.0000,   1.4649,   -9.00
  316N145_7,       I08N,     327,          1,         10,         10,2,19950320,       1046,   -10.5000,    80.0000,       5315,  3140.9,   1.5726,  34.7248,2,  34.7237,2,    170.5,2,   170.2,2,  132.17,2,   33.99,2,    0.00,2,    2.37,2,-999.000,9,-999.000,9,  -999.0,9,  -999.0,9,  -9.0000,9,-999.0000,9, -999.00,9, -999.00,9,  -999.0,9,  -999.0,-999.000,9,-999.000,-999.000,9,  -9.0000,-999.0000,   1.3403,   -9.00
  316N145_7,       I08N,     327,          1,          9,          9,2,19950320,       1046,   -10.5000,    80.0000,       5315,  3395.9,   1.4708,  34.7222,2,  34.7204,2,    171.3,2,   172.7,2,  134.55,2,   33.99,2,    0.00,2,    2.36,2,-999.000,9,-999.000,9,  -999.0,9,  -999.0,9,  -9.0000,9,-999.0000,9, -999.00,9, -999.00,9,  -999.0,9,  -999.0,-999.000,9,-999.000,-999.000,9,  -9.0000,-999.0000,   1.2157,   -9.00
  316N145_7,       I08N,     327,          1,          8,          8,2,19950320,       1046,   -10.5000,    80.0000,       5315,  3650.5,   1.3856,  34.7196,2,  34.7176,2,    176.8,2,   178.1,2,  133.89,2,   33.80,2,    0.00,2,    2.34,2,-999.000,9,-999.000,9,  -999.0,9,  -999.0,9,  -9.0000,9,-999.0000,9, -999.00,9, -999.00,9,  -999.0,9,  -999.0,-999.000,9,-999.000,-999.000,9,  -9.0000,-999.0000,   1.1067,   -9.00
  316N145_7,       I08N,     327,          1,          7,          7,2,19950320,       1046,   -10.5000,    80.0000,       5315,  3906.1,   1.3489,  34.7182,2,  34.7173,2,    180.1,2,   180.2,2,  134.53,2,   33.70,2,    0.00,2,    2.32,2,-999.000,9,-999.000,9,  -999.0,9,  -999.0,9,  -9.0000,9,-999.0000,9, -999.00,9, -999.00,9,  -999.0,9,  -999.0,-999.000,9,-999.000,-999.000,9,  -9.0000,-999.0000,   1.0441,   -9.00
  316N145_7,       I08N,     327,          1,          6,          6,2,19950320,       1046,   -10.5000,    80.0000,       5315,  4161.6,   1.3466,  34.7173,2,  34.7167,2,    181.8,2,   181.6,2,  134.73,2,   33.65,2,    0.00,2,    2.32,2,-999.000,9,-999.000,9,  -999.0,9,  -999.0,9,  -9.0000,9,-999.0000,9, -999.00,9, -999.00,9,  -999.0,9,  -999.0,-999.000,9,-999.000,-999.000,9,  -9.0000,-999.0000,   1.0142,   -9.00
  316N145_7,       I08N,     327,          1,          5,          5,2,19950320,       1046,   -10.5000,    80.0000,       5315,  4417.0,   1.3555,  34.7174,2,  34.7163,2,    182.0,2,   181.9,2,  133.84,2,   33.55,2,    0.00,2,    2.32,2,-999.000,9,-999.000,9,  -999.0,9,  -999.0,9,  -9.0000,9,-999.0000,9, -999.00,9, -999.00,9,  -999.0,9,  -999.0,-999.000,9,-999.000,-999.000,9,  -9.0000,-999.0000,   0.9942,   -9.00
  316N145_7,       I08N,     327,          1,          4,          4,2,19950320,       1046,   -10.5000,    80.0000,       5315,  4672.4,   1.3743,  34.7170,2,  34.7155,2,    182.7,2,   182.5,2,  134.27,2,   33.60,2,    0.00,2,    2.31,2,-999.000,9,-999.000,9,  -999.0,9,  -999.0,9,  -9.0000,9,-999.0000,9, -999.00,9, -999.00,9,  -999.0,9,  -999.0,-999.000,9,-999.000,-999.000,9,  -9.0000,-999.0000,   0.9830,   -9.00
  316N145_7,       I08N,     327,          1,          3,          3,2,19950320,       1046,   -10.5000,    80.0000,       5315,  4926.9,   1.3985,  34.7168,2,  34.7158,2,    182.8,2,   183.0,2,  134.03,2,   33.60,2,    0.00,2,    2.31,2,-999.000,9,-999.000,9,  -999.0,9,  -999.0,9,  -9.0000,9,-999.0000,9, -999.00,9, -999.00,9,  -999.0,9,  -999.0,-999.000,9,-999.000,-999.000,9,  -9.0000,-999.0000,   0.9764,   -9.00
  316N145_7,       I08N,     327,          1,          2,          2,2,19950320,       1046,   -10.5000,    80.0000,       5315,  5186.0,   1.4282,  34.7167,2,  34.7146,3,    183.4,2,   183.3,2,  133.80,2,   33.55,2,    0.00,2,    2.32,2,-999.000,9,-999.000,9,  -999.0,9,  -999.0,9,  -9.0000,9,-999.0000,9, -999.00,9, -999.00,9,  -999.0,9,  -999.0,-999.000,9,-999.000,-999.000,9,  -9.0000,-999.0000,   0.9734,   -9.00
  316N145_7,       I08N,     327,          1,          1,          1,2,19950320,       1046,   -10.5000,    80.0000,       5315,  5446.9,   1.4573,  34.7168,2,  34.7160,2,    183.4,2,   183.5,2,  133.79,2,   33.50,2,    0.00,2,    2.31,2,-999.000,9,-999.000,9,  -999.0,9,  -999.0,9,  -9.0000,9,-999.0000,9, -999.00,9, -999.00,9,  -999.0,9,  -999.0,-999.000,9,-999.000,-999.000,9,  -9.0000,-999.0000,   0.9688,   -9.00