BOTTLE,20211124CCHSIORKP
EXPOCODE,SECT_ID,STNNBR,CASTNO,SAMPNO,BTLNBR,BTLNBR_FLAG_W,DATE,TIME,LATITUDE,LONGITUDE,DEPTH,CTDPRS,CTDTMP,CTDSAL,CTDSAL_FLAG_W,SALNTY,SALNTY_FLAG_W,CTDOXY,CTDOXY_FLAG_W,OXYGEN,OXYGEN_FLAG_W,SILCAT,SILCAT_FLAG_W,NITRAT,NITRAT_FLAG_W,NITRIT,NITRIT_FLAG_W,PHSPHT,PHSPHT_FLAG_W,CFC-11,CFC-11_FLAG_W,CFC-12,CFC-12_FLAG_W,TCARBN,TCARBN_FLAG_W,ALKALI,ALKALI_FLAG_W,TRITUM,TRITUM_FLAG_W,HELIUM,HELIUM_FLAG_W,DELHE3,DELHE3_FLAG_W,DELC13,DELC13_FLAG_W,DELC14,DELC14_FLAG_W,C14ERR,NEON,NEON_FLAG_W,NEONER,CCL4,CCL4_FLAG_W,TRITER,HELIER,THETA,DELHER
,,,,,,,,,,,METERS,DBAR,ITS-90,PSS-78,,PSS-78,,UMOL/KG,,UMOL/KG,,UMOL/KG,,UMOL/KG,,UMOL/KG,,UMOL/KG,,PMOL/KG,,PMOL/KG,,UMOL/KG,,UMOL/KG,,TU,,NMOL/KG,,PERCNT,,/MILLE,,/MILLE,,/MILLE,NMOL/KG,,NMOL/KG,PMOL/KG,,TU,NMOL/KG,DEG C,PERCNT
  316N145_7,      TRANS,     357,          1,         36,         36,2,19950327,       1400,   -24.8838,    81.9668,       4417,     2.9,  25.8476,  35.6145,2,  35.6086,3,    203.1,2,   204.8,2,    2.86,2,    0.19,2,    0.00,2,    0.10,2,-999.000,9,-999.000,9,  1990.3,2,  2350.5,2,  -9.0000,9,-999.0000,9, -999.00,9, -999.00,9,  -999.0,9,  -999.0,-999.000,9,-999.000,-999.000,9,  -9.0000,-999.0000,  25.8469,   -9.00
  316N145_7,      TRANS,     357,          1,         35,         35,2,19950327,       1400,   -24.8838,    81.9668,       4417,    40.7,  25.7816,  35.6905,2,  35.6840,3,    207.2,2,   205.8,2,    2.85,2,    0.19,2,    0.00,2,    0.10,2,-999.000,9,-999.000,9,  -999.0,9,  -999.0,9,  -9.0000,9,-999.0000,9, -999.00,9, -999.00,9,  -999.0,9,  -999.0,-999.000,9,-999.000,-999.000,9,  -9.0000,-999.0000,  25.7725,   -9.00
  316N145_7,      TRANS,     357,          1,         34,         34,2,19950327,       1400,   -24.8838,    81.9668,       4417,    76.0,  20.6419,  35.8930,2,  35.8912,3,    238.2,2,   240.0,2,    2.63,2,    0.19,2,    0.00,2,    0.11,2,-999.000,9,-999.000,9,  -999.0,9,  -999.0,9,  -9.0000,9,-999.0000,9, -999.00,9, -999.00,9,  -999.0,9,  -999.0,-999.000,9,-999.000,-999.000,9,  -9.0000,-999.0000,  20.6275,   -9.00
  316N145_7,      TRANS,     357,          1,         33,         33,2,19950327,       1400,   -24.8838,    81.9668,       4417,   116.2,  18.5696,  35.8624,2,  35.8584,3,    227.7,2,   228.0,2,    2.61,2,    0.18,2,    0.00,2,    0.16,2,-999.000,9,-999.000,9,  -999.0,9,  -999.0,9,  -9.0000,9,-999.0000,9, -999.00,9, -999.00,9,  -999.0,9,  -999.0,-999.000,9,-999.000,-999.000,9,  -9.0000,-999.0000,  18.5491,   -9.00
  316N145_7,      TRANS,     357,          1,         32,         32,2,19950327,       1400,   -24.8838,    81.9668,       4417,   156.8,  17.0321,  35.7676,2,  35.7593,3,    219.6,2,   218.6,2,    2.39,2,    0.77,2,    0.15,2,    0.27,2,-999.000,9,-999.000,9,  -999.0,9,  -999.0,9,  -9.0000,9,-999.0000,9, -999.00,9, -999.00,9,  -999.0,9,  -999.0,-999.000,9,-999.000,-999.000,9,  -9.0000,-999.0000,  17.0061,   -9.00
  316N145_7,      TRANS,     357,          1,         31,         31,2,19950327,       1400,   -24.8838,    81.9668,       4417,   207.2,  15.0056,  35.5207,2,  35.5199,3,    223.9,2,   216.7,2,    3.01,2,    4.56,2,    0.00,2,    0.47,2,-999.000,9,-999.000,9,  -999.0,9,  -999.0,9,  -9.0000,9,-999.0000,9, -999.00,9, -999.00,9,  -999.0,9,  -999.0,-999.000,9,-999.000,-999.000,9,  -9.0000,-999.0000,  14.9741,   -9.00
  316N145_7,      TRANS,     357,          1,         30,         30,2,19950327,       1400,   -24.8838,    81.9668,       4417,   257.1,  13.6474,  35.3489,2,  35.3442,3,    220.5,2,   224.1,2,    3.00,2,    6.56,2,    0.00,2,    0.58,2,-999.000,9,-999.000,9,  -999.0,9,  -999.0,9,  -9.0000,9,-999.0000,9, -999.00,9, -999.00,9,  -999.0,9,  -999.0,-999.000,9,-999.000,-999.000,9,  -9.0000,-999.0000,  13.6107,   -9.00
  316N145_7,      TRANS,     357,          1,         29,         29,2,19950327,       1400,   -24.8838,    81.9668,       4417,   307.1,  12.6694,  35.1970,2,  35.1890,3,    228.0,2,   231.0,2,    3.62,2,    8.66,2,    0.00,2,    0.69,2,-999.000,9,-999.000,9,  -999.0,9,  -999.0,9,  -9.0000,9,-999.0000,9, -999.00,9, -999.00,9,  -999.0,9,  -999.0,-999.000,9,-999.000,-999.000,9,  -9.0000,-999.0000,  12.6276,   -9.00
  316N145_7,      TRANS,     357,          1,         28,         28,2,19950327,       1400,   -24.8838,    81.9668,       4417,   381.0,  11.8489,  35.0701,2,  35.0673,3,    231.5,2,   233.8,2,    4.03,2,   10.36,2,    0.00,2,    0.79,2,-999.000,9,-999.000,9,  -999.0,9,  -999.0,9,  -9.0000,9,-999.0000,9, -999.00,9, -999.00,9,  -999.0,9,  -999.0,-999.000,9,-999.000,-999.000,9,  -9.0000,-999.0000,  11.7991,   -9.00
  316N145_7,      TRANS,     357,          1,         27,         27,2,19950327,       1400,   -24.8838,    81.9668,       4417,   457.4,  11.1577,  34.9639,2,  34.9599,3,    231.5,2,   235.6,2,    4.44,2,   11.82,2,    0.00,2,    0.88,2,-999.000,9,-999.000,9,  -999.0,9,  -999.0,9,  -9.0000,9,-999.0000,9, -999.00,9, -999.00,9,  -999.0,9,  -999.0,-999.000,9,-999.000,-999.000,9,  -9.0000,-999.0000,  11.1002,   -9.00
  316N145_7,      TRANS,     357,          1,         26,         26,2,19950327,       1400,   -24.8838,    81.9668,       4417,   533.1,  10.4495,  34.8553,2,  34.8517,3,    236.4,2,   237.0,2,    4.64,2,   13.43,2,    0.00,2,    0.98,2,-999.000,9,-999.000,9,  -999.0,9,  -999.0,9,  -9.0000,9,-999.0000,9, -999.00,9, -999.00,9,  -999.0,9,  -999.0,-999.000,9,-999.000,-999.000,9,  -9.0000,-999.0000,  10.3850,   -9.00
  316N145_7,      TRANS,     357,          1,         25,         25,2,19950327,       1400,   -24.8838,    81.9668,       4417,   608.4,   9.6957,  34.7430,2,  34.7438,3,    235.9,2,   234.7,2,    5.48,2,   15.63,2,    0.00,2,    1.11,2,-999.000,9,-999.000,9,  -999.0,9,  -999.0,9,  -9.0000,9,-999.0000,9, -999.00,9, -999.00,9,  -999.0,9,  -999.0,-999.000,9,-999.000,-999.000,9,  -9.0000,-999.0000,   9.6251,   -9.00
  316N145_7,      TRANS,     357,          1,         24,         24,2,19950327,       1400,   -24.8838,    81.9668,       4417,   708.9,   8.6844,  34.6224,2,  34.6196,3,    223.9,2,   220.3,2,    8.64,2,   19.63,2,    0.00,2,    1.35,2,-999.000,9,-999.000,9,  -999.0,9,  -999.0,9,  -9.0000,9,-999.0000,9, -999.00,9, -999.00,9,  -999.0,9,  -999.0,-999.000,9,-999.000,-999.000,9,  -9.0000,-999.0000,   8.6071,   -9.00
  316N145_7,      TRANS,     357,          1,         23,         23,2,19950327,       1400,   -24.8838,    81.9668,       4417,   809.5,   7.1045,  34.5028,2,  34.5049,3,    202.6,2,   200.5,2,   17.95,2,   24.96,2,    0.00,2,    1.70,2,-999.000,9,-999.000,9,  -999.0,9,  -999.0,9,  -9.0000,9,-999.0000,9, -999.00,9, -999.00,9,  -999.0,9,  -999.0,-999.000,9,-999.000,-999.000,9,  -9.0000,-999.0000,   7.0253,   -9.00
  316N145_7,      TRANS,     357,          1,         22,         22,2,19950327,       1400,   -24.8838,    81.9668,       4417,   910.3,   5.4278,  34.4181,2,  34.4190,3,    193.3,2,   189.7,2,   32.13,2,   29.68,2,    0.00,2,    2.02,2,-999.000,9,-999.000,9,  -999.0,9,  -999.0,9,  -9.0000,9,-999.0000,9, -999.00,9, -999.00,9,  -999.0,9,  -999.0,-999.000,9,-999.000,-999.000,9,  -9.0000,-999.0000,   5.3497,   -9.00
  316N145_7,      TRANS,     357,          1,         21,         21,2,19950327,       1400,   -24.8838,    81.9668,       4417,  1011.8,   4.6152,  34.4691,2,  34.4641,3,    166.8,2,   160.3,2,   54.79,2,   33.18,2,    0.00,2,    2.31,2,-999.000,9,-999.000,9,  -999.0,9,  -999.0,9,  -9.0000,9,-999.0000,9, -999.00,9, -999.00,9,  -999.0,9,  -999.0,-999.000,9,-999.000,-999.000,9,  -9.0000,-999.0000,   4.5338,   -9.00
  316N145_7,      TRANS,     357,          1,         20,         20,2,19950327,       1400,   -24.8838,    81.9668,       4417,  1137.8,   4.0805,  34.5177,2,  34.5177,3,    148.4,2,   145.5,2,   70.05,2,   34.76,2,    0.00,2,    2.44,2,-999.000,9,-999.000,9,  -999.0,9,  -999.0,9,  -9.0000,9,-999.0000,9, -999.00,9, -999.00,9,  -999.0,9,  -999.0,-999.000,9,-999.000,-999.000,9,  -9.0000,-999.0000,   3.9925,   -9.00
  316N145_7,      TRANS,     357,          1,         19,         19,2,19950327,       1400,   -24.8838,    81.9668,       4417,  1263.6,   3.6529,  34.5583,2,  34.5590,3,    144.8,2,   143.0,2,   78.74,2,   35.21,2,    0.00,2,    2.47,2,-999.000,9,-999.000,9,  -999.0,9,  -999.0,9,  -9.0000,9,-999.0000,9, -999.00,9, -999.00,9,  -999.0,9,  -999.0,-999.000,9,-999.000,-999.000,9,  -9.0000,-999.0000,   3.5580,   -9.00
  316N145_7,      TRANS,     357,          1,         18,         18,2,19950327,       1400,   -24.8838,    81.9668,       4417,  1414.2,   3.2446,  34.6091,2,  34.6072,3,    144.0,2,   145.4,2,   85.74,2,   35.05,2,    0.00,2,    2.46,2,-999.000,9,-999.000,9,  -999.0,9,  -999.0,9,  -9.0000,9,-999.0000,9, -999.00,9, -999.00,9,  -999.0,9,  -999.0,-999.000,9,-999.000,-999.000,9,  -9.0000,-999.0000,   3.1411,   -9.00
  316N145_7,      TRANS,     357,          1,         17,         17,2,19950327,       1400,   -24.8838,    81.9668,       4417,  1565.7,   3.0055,  34.6585,2,  34.6561,3,    145.9,2,   145.7,2,   93.83,2,   34.85,2,    0.00,2,    2.45,2,-999.000,9,-999.000,9,  -999.0,9,  -999.0,9,  -9.0000,9,-999.0000,9, -999.00,9, -999.00,9,  -999.0,9,  -999.0,-999.000,9,-999.000,-999.000,9,  -9.0000,-999.0000,   2.8918,   -9.00
  316N145_7,      TRANS,     357,          1,         16,         16,2,19950327,       1400,   -24.8838,    81.9668,       4417,  1718.8,   2.7932,  34.6885,2,  34.6864,3,    148.6,2,   149.3,2,   99.37,2,   34.55,2,    0.00,2,    2.43,2,-999.000,9,-999.000,9,  -999.0,9,  -999.0,9,  -9.0000,9,-999.0000,9, -999.00,9, -999.00,9,  -999.0,9,  -999.0,-999.000,9,-999.000,-999.000,9,  -9.0000,-999.0000,   2.6691,   -9.00
  316N145_7,      TRANS,     357,          1,         15,         15,2,19950327,       1400,   -24.8838,    81.9668,       4417,  1869.3,   2.5820,  34.7100,2,  34.7076,3,    152.7,2,   152.8,2,  104.92,2,   34.30,2,    0.00,2,    2.41,2,-999.000,9,-999.000,9,  -999.0,9,  -999.0,9,  -9.0000,9,-999.0000,9, -999.00,9, -999.00,9,  -999.0,9,  -999.0,-999.000,9,-999.000,-999.000,9,  -9.0000,-999.0000,   2.4478,   -9.00
  316N145_7,      TRANS,     357,          1,         14,         14,2,19950327,       1400,   -24.8838,    81.9668,       4417,  2023.0,   2.3931,  34.7177,2,  34.7157,3,    157.6,2,   158.1,2,  107.47,2,   34.05,2,    0.00,2,    2.39,2,-999.000,9,-999.000,9,  -999.0,9,  -999.0,9,  -9.0000,9,-999.0000,9, -999.00,9, -999.00,9,  -999.0,9,  -999.0,-999.000,9,-999.000,-999.000,9,  -9.0000,-999.0000,   2.2484,   -9.00
  316N145_7,      TRANS,     357,          1,         13,         13,2,19950327,       1400,   -24.8838,    81.9668,       4417,  2175.2,   2.2247,  34.7214,2,  34.7200,3,    163.9,2,   164.0,2,  108.96,2,   33.75,2,    0.00,2,    2.35,2,-999.000,9,-999.000,9,  -999.0,9,  -999.0,9,  -9.0000,9,-999.0000,9, -999.00,9, -999.00,9,  -999.0,9,  -999.0,-999.000,9,-999.000,-999.000,9,  -9.0000,-999.0000,   2.0694,   -9.00
  316N145_7,      TRANS,     357,          1,         12,         12,2,19950327,       1400,   -24.8838,    81.9668,       4417,  2325.6,   2.0611,  34.7234,2,  34.7214,3,    169.8,2,   170.2,2,  109.58,2,   33.40,2,    0.00,2,    2.33,2,-999.000,9,-999.000,9,  -999.0,9,  -999.0,9,  -9.0000,9,-999.0000,9, -999.00,9, -999.00,9,  -999.0,9,  -999.0,-999.000,9,-999.000,-999.000,9,  -9.0000,-999.0000,   1.8952,   -9.00
  316N145_7,      TRANS,     357,          1,         11,         11,2,19950327,       1400,   -24.8838,    81.9668,       4417,  2528.7,   1.9122,  34.7252,2,  34.7232,3,    176.8,2,   176.9,2,  109.56,2,   32.95,2,    0.00,2,    2.28,2,-999.000,9,-999.000,9,  -999.0,9,  -999.0,9,  -9.0000,9,-999.0000,9, -999.00,9, -999.00,9,  -999.0,9,  -999.0,-999.000,9,-999.000,-999.000,9,  -9.0000,-999.0000,   1.7306,   -9.00
  316N145_7,      TRANS,     357,          1,         10,         10,2,19950327,       1400,   -24.8838,    81.9668,       4417,  2732.6,   1.7801,  34.7298,2,  34.7276,3,    185.6,2,   185.4,2,  107.60,2,   32.31,2,    0.00,2,    2.23,2,-999.000,9,-999.000,9,  -999.0,9,  -999.0,9,  -9.0000,9,-999.0000,9, -999.00,9, -999.00,9,  -999.0,9,  -999.0,-999.000,9,-999.000,-999.000,9,  -9.0000,-999.0000,   1.5823,   -9.00
  316N145_7,      TRANS,     357,          1,          9,          9,2,19950327,       1400,   -24.8838,    81.9668,       4417,  2936.3,   1.6373,  34.7323,2,  34.7306,3,    190.6,2,   190.9,2,  108.01,2,   32.01,2,    0.01,2,    2.20,2,-999.000,9,-999.000,9,  -999.0,9,  -999.0,9,  -9.0000,9,-999.0000,9, -999.00,9, -999.00,9,  -999.0,9,  -999.0,-999.000,9,-999.000,-999.000,9,  -9.0000,-999.0000,   1.4233,   -9.00
  316N145_7,      TRANS,     357,          1,          8,          8,2,19950327,       1400,   -24.8838,    81.9668,       4417,  3139.2,   1.5224,  34.7311,2,  34.7292,3,    193.9,2,   194.0,2,  110.14,2,   31.96,2,    0.00,2,    2.20,2,-999.000,9,-999.000,9,  -999.0,9,  -999.0,9,  -9.0000,9,-999.0000,9, -999.00,9, -999.00,9,  -999.0,9,  -999.0,-999.000,9,-999.000,-999.000,9,  -9.0000,-999.0000,   1.2914,   -9.00
  316N145_7,      TRANS,     357,          1,          7,          7,2,19950327,       1400,   -24.8838,    81.9668,       4417,  3342.8,   1.4371,  34.7282,2,  34.7267,3,    194.2,2,   194.8,2,  113.78,2,   32.16,2,    0.00,2,    2.21,2,-999.000,9,-999.000,9,  -999.0,9,  -999.0,9,  -9.0000,9,-999.0000,9, -999.00,9, -999.00,9,  -999.0,9,  -999.0,-999.000,9,-999.000,-999.000,9,  -9.0000,-999.0000,   1.1881,   -9.00
  316N145_7,      TRANS,     357,          1,          6,          6,2,19950327,       1400,   -24.8838,    81.9668,       4417,  3546.8,   1.4035,  34.7259,2,  34.7239,3,    193.8,2,   193.6,2,  116.78,2,   32.40,2,    0.00,2,    2.23,2,-999.000,9,-999.000,9,  -999.0,9,  -999.0,9,  -9.0000,9,-999.0000,9, -999.00,9, -999.00,9,  -999.0,9,  -999.0,-999.000,9,-999.000,-999.000,9,  -9.0000,-999.0000,   1.1348,   -9.00
  316N145_7,      TRANS,     357,          1,          5,          5,2,19950327,       1400,   -24.8838,    81.9668,       4417,  3751.0,   1.3921,  34.7236,2,  34.7216,3,    192.5,2,   191.5,2,  120.00,2,   32.64,2,    0.00,2,    2.25,2,-999.000,9,-999.000,9,  -999.0,9,  -999.0,9,  -9.0000,9,-999.0000,9, -999.00,9, -999.00,9,  -999.0,9,  -999.0,-999.000,9,-999.000,-999.000,9,  -9.0000,-999.0000,   1.1026,   -9.00
  316N145_7,      TRANS,     357,          1,          4,          4,2,19950327,       1400,   -24.8838,    81.9668,       4417,  3956.1,   1.3994,  34.7224,2,  34.7210,3,    190.7,2,   190.3,2,  121.71,2,   32.84,2,    0.00,2,    2.26,2,-999.000,9,-999.000,9,  -999.0,9,  -999.0,9,  -9.0000,9,-999.0000,9, -999.00,9, -999.00,9,  -999.0,9,  -999.0,-999.000,9,-999.000,-999.000,9,  -9.0000,-999.0000,   1.0879,   -9.00
  316N145_7,      TRANS,     357,          1,          3,          3,2,19950327,       1400,   -24.8838,    81.9668,       4417,  4158.9,   1.4121,  34.7217,2,  34.7199,3,    190.0,2,   190.5,2,  122.99,2,   32.89,2,    0.00,2,    2.27,2,-999.000,9,-999.000,9,  -999.0,9,  -999.0,9,  -9.0000,9,-999.0000,9, -999.00,9, -999.00,9,  -999.0,9,  -999.0,-999.000,9,-999.000,-999.000,9,  -9.0000,-999.0000,   1.0781,   -9.00
  316N145_7,      TRANS,     357,          1,          2,          2,2,19950327,       1400,   -24.8838,    81.9668,       4417,  4339.4,   1.4218,  34.7208,2,  34.7183,3,    188.4,2,   188.1,2,  124.71,2,   33.08,2,    0.00,2,    2.28,2,-999.000,9,-999.000,9,  -999.0,9,  -999.0,9,  -9.0000,9,-999.0000,9, -999.00,9, -999.00,9,  -999.0,9,  -999.0,-999.000,9,-999.000,-999.000,9,  -9.0000,-999.0000,   1.0673,   -9.00
  316N145_7,      TRANS,     357,          1,          1,          1,2,19950327,       1400,   -24.8838,    81.9668,       4417,  4487.6,   1.4280,  34.7196,2,  34.7197,2,    187.3,2,   187.5,2,  125.99,2,   33.18,2,    0.00,2,    2.29,2,-999.000,9,-999.000,9,  -999.0,9,  -999.0,9,  -9.0000,9,-999.0000,9, -999.00,9, -999.00,9,  -999.0,9,  -999.0,-999.000,9,-999.000,-999.000,9,  -9.0000,-999.0000,   1.0565,   -9.00