BOTTLE,20211124CCHSIORKP
EXPOCODE,SECT_ID,STNNBR,CASTNO,SAMPNO,BTLNBR,BTLNBR_FLAG_W,DATE,TIME,LATITUDE,LONGITUDE,DEPTH,CTDPRS,CTDTMP,CTDSAL,CTDSAL_FLAG_W,SALNTY,SALNTY_FLAG_W,CTDOXY,CTDOXY_FLAG_W,OXYGEN,OXYGEN_FLAG_W,SILCAT,SILCAT_FLAG_W,NITRAT,NITRAT_FLAG_W,NITRIT,NITRIT_FLAG_W,PHSPHT,PHSPHT_FLAG_W,CFC-11,CFC-11_FLAG_W,CFC-12,CFC-12_FLAG_W,TCARBN,TCARBN_FLAG_W,ALKALI,ALKALI_FLAG_W,TRITUM,TRITUM_FLAG_W,HELIUM,HELIUM_FLAG_W,DELHE3,DELHE3_FLAG_W,DELC13,DELC13_FLAG_W,DELC14,DELC14_FLAG_W,C14ERR,NEON,NEON_FLAG_W,NEONER,CCL4,CCL4_FLAG_W,TRITER,HELIER,THETA,DELHER
,,,,,,,,,,,METERS,DBAR,ITS-90,PSS-78,,PSS-78,,UMOL/KG,,UMOL/KG,,UMOL/KG,,UMOL/KG,,UMOL/KG,,UMOL/KG,,PMOL/KG,,PMOL/KG,,UMOL/KG,,UMOL/KG,,TU,,NMOL/KG,,PERCNT,,/MILLE,,/MILLE,,/MILLE,NMOL/KG,,NMOL/KG,PMOL/KG,,TU,NMOL/KG,DEG C,PERCNT
  316N145_7,       I08N,     285,          1,         36,         36,2,19950311,       1026,     5.3338,    79.9988,       4137,     2.1,  28.6542,  33.3414,2,  33.3391,3,    198.2,2,   200.5,2,    2.59,2,    0.09,2,    0.00,2,    0.08,2,-999.000,9,-999.000,9,  1879.5,2,  2204.1,2,  -9.0000,9,-999.0000,9, -999.00,9, -999.00,9,  -999.0,9,  -999.0,-999.000,9,-999.000,-999.000,9,  -9.0000,-999.0000,  28.6537,   -9.00
  316N145_7,       I08N,     285,          1,         35,         35,2,19950311,       1026,     5.3338,    79.9988,       4137,    30.1,  28.1590,  33.3146,2,  33.3156,3,    201.2,2,   201.2,2,    2.57,2,    0.08,2,    0.00,2,    0.08,2,-999.000,9,-999.000,9,  1878.9,2,  2199.4,2,  -9.0000,9,-999.0000,9, -999.00,9, -999.00,9,  -999.0,9,  -999.0,-999.000,9,-999.000,-999.000,9,  -9.0000,-999.0000,  28.1519,   -9.00
  316N145_7,       I08N,     285,          1,         34,         34,2,19950311,       1026,     5.3338,    79.9988,       4137,    45.5,  27.9124,  33.5871,2,  33.6363,3,    198.4,2,   195.4,2,    2.35,2,    0.10,2,    0.03,2,    0.12,2,-999.000,9,-999.000,9,  1896.0,2,  2265.1,2,  -9.0000,9,-999.0000,9, -999.00,9, -999.00,9,  -999.0,9,  -999.0,-999.000,9,-999.000,-999.000,9,  -9.0000,-999.0000,  27.9018,   -9.00
  316N145_7,       I08N,     285,          1,         33,         33,2,19950311,       1026,     5.3338,    79.9988,       4137,    70.6,  25.0135,  34.5286,2,  34.4650,3,    116.2,2,    95.3,2,   10.37,2,   13.25,2,    0.29,2,    0.99,2,-999.000,9,-999.000,9,  2043.8,2,  2264.0,2,  -9.0000,9,-999.0000,9, -999.00,9, -999.00,9,  -999.0,9,  -999.0,-999.000,9,-999.000,-999.000,9,  -9.0000,-999.0000,  24.9982,   -9.00
  316N145_7,       I08N,     285,          1,         32,         32,2,19950311,       1026,     5.3338,    79.9988,       4137,    94.8,  21.4074,  35.0234,2,  34.9695,3,     54.4,2,    45.6,2,   16.12,2,   21.24,2,    0.04,2,    1.54,2,-999.000,9,-999.000,9,  2128.9,2,  2328.4,3,  -9.0000,9,-999.0000,9, -999.00,9, -999.00,9,  -999.0,9,  -999.0,-999.000,9,-999.000,-999.000,9,  -9.0000,-999.0000,  21.3891,   -9.00
  316N145_7,       I08N,     285,          1,         31,         31,2,19950311,       1026,     5.3338,    79.9988,       4137,   110.3,  19.3544,  35.0913,2,  35.1246,3,     30.6,2,    27.2,2,   19.19,2,   24.61,2,    0.02,2,    1.79,2,-999.000,9,-999.000,9,  2167.0,2,  2302.8,2,  -9.0000,9,-999.0000,9, -999.00,9, -999.00,9,  -999.0,9,  -999.0,-999.000,9,-999.000,-999.000,9,  -9.0000,-999.0000,  19.3345,   -9.00
  316N145_7,       I08N,     285,          1,         30,         30,2,19950311,       1026,     5.3338,    79.9988,       4137,   141.8,  16.7547,  34.9206,2,  34.9205,3,     16.7,2,    12.8,2,   27.62,2,   28.92,2,    0.01,2,    2.11,2,-999.000,9,-999.000,9,  2201.1,2,  2342.0,3,  -9.0000,9,-999.0000,9, -999.00,9, -999.00,9,  -999.0,9,  -999.0,-999.000,9,-999.000,-999.000,9,  -9.0000,-999.0000,  16.7315,   -9.00
  316N145_7,       I08N,     285,          1,         29,         29,2,19950311,       1026,     5.3338,    79.9988,       4137,   165.9,  15.0524,  35.0246,2,  35.0191,3,     22.7,2,    24.5,2,   27.81,2,   29.06,2,    0.01,2,    2.10,2,-999.000,9,-999.000,9,  2211.6,2,  2307.9,2,  -9.0000,9,-999.0000,9, -999.00,9, -999.00,9,  -999.0,9,  -999.0,-999.000,9,-999.000,-999.000,9,  -9.0000,-999.0000,  15.0272,   -9.00
  316N145_7,       I08N,     285,          1,         28,         28,2,19950311,       1026,     5.3338,    79.9988,       4137,   195.8,  14.2123,  35.1019,2,  35.0938,3,     28.7,2,    39.1,2,   25.94,2,   27.89,2,    0.01,2,    2.00,2,-999.000,9,-999.000,9,  2210.8,2,  -999.0,5,  -9.0000,9,-999.0000,9, -999.00,9, -999.00,9,  -999.0,9,  -999.0,-999.000,9,-999.000,-999.000,9,  -9.0000,-999.0000,  14.1837,   -9.00
  316N145_7,       I08N,     285,          1,         27,         27,2,19950311,       1026,     5.3338,    79.9988,       4137,   225.6,  13.1589,  35.0841,2,  35.0821,3,     26.8,2,    26.8,2,   29.63,2,   30.28,2,    0.01,2,    2.18,2,-999.000,9,-999.000,9,  2229.3,2,  2315.8,2,  -9.0000,9,-999.0000,9, -999.00,9, -999.00,9,  -999.0,9,  -999.0,-999.000,9,-999.000,-999.000,9,  -9.0000,-999.0000,  13.1275,   -9.00
  316N145_7,       I08N,     285,          1,         26,         26,2,19950311,       1026,     5.3338,    79.9988,       4137,   276.4,  12.2133,  35.1002,2,  35.0967,3,     35.2,2,    39.9,2,   29.20,2,   30.00,2,    0.01,2,    2.14,2,-999.000,9,-999.000,9,  2230.8,2,  2318.8,2,  -9.0000,9,-999.0000,9, -999.00,9, -999.00,9,  -999.0,9,  -999.0,-999.000,9,-999.000,-999.000,9,  -9.0000,-999.0000,  12.1767,   -9.00
  316N145_7,       I08N,     285,          1,         25,         25,2,19950311,       1026,     5.3338,    79.9988,       4137,   326.7,  11.6484,  35.1113,2,  35.1093,3,     43.0,2,    43.1,2,   30.42,2,   30.42,2,    0.00,2,    2.17,2,-999.000,9,-999.000,9,  2234.8,2,  2319.9,2,  -9.0000,9,-999.0000,9, -999.00,9, -999.00,9,  -999.0,9,  -999.0,-999.000,9,-999.000,-999.000,9,  -9.0000,-999.0000,  11.6063,   -9.00
  316N145_7,       I08N,     285,          1,         24,         24,2,19950311,       1026,     5.3338,    79.9988,       4137,   376.6,  11.0765,  35.1007,2,  35.0997,3,     43.9,2,    40.0,2,   34.11,2,   31.78,2,    0.00,2,    2.27,2,-999.000,9,-999.000,9,  2244.0,2,  2323.6,2,  -9.0000,9,-999.0000,9, -999.00,9, -999.00,9,  -999.0,9,  -999.0,-999.000,9,-999.000,-999.000,9,  -9.0000,-999.0000,  11.0295,   -9.00
  316N145_7,       I08N,     285,          1,         23,         23,2,19950311,       1026,     5.3338,    79.9988,       4137,   436.9,  10.6502,  35.1186,2,  35.1139,3,     28.7,2,    31.0,2,   39.64,2,   33.24,2,    0.00,2,    2.43,2,-999.000,9,-999.000,9,  2258.7,2,  2327.2,2,  -9.0000,9,-999.0000,9, -999.00,9, -999.00,9,  -999.0,9,  -999.0,-999.000,9,-999.000,-999.000,9,  -9.0000,-999.0000,  10.5968,   -9.00
  316N145_7,       I08N,     285,          1,         22,         22,2,19950311,       1026,     5.3338,    79.9988,       4137,   508.2,  10.1255,  35.0874,2,  35.0851,3,     30.8,2,    29.5,2,   44.77,2,   34.18,2,    0.00,2,    2.51,2,-999.000,9,-999.000,9,  2263.0,2,  2329.9,2,  -9.0000,9,-999.0000,9, -999.00,9, -999.00,9,  -999.0,9,  -999.0,-999.000,9,-999.000,-999.000,9,  -9.0000,-999.0000,  10.0651,   -9.00
  316N145_7,       I08N,     285,          1,         21,         21,2,19950311,       1026,     5.3338,    79.9988,       4137,   607.7,   9.2271,  35.0368,2,  35.0337,3,     23.9,2,    31.1,2,   54.43,2,   35.56,2,    0.00,2,    2.63,2,-999.000,9,-999.000,9,  2273.5,2,  2338.7,2,  -9.0000,9,-999.0000,9, -999.00,9, -999.00,9,  -999.0,9,  -999.0,-999.000,9,-999.000,-999.000,9,  -9.0000,-999.0000,   9.1585,   -9.00
  316N145_7,       I08N,     285,          1,         20,         20,2,19950311,       1026,     5.3338,    79.9988,       4137,   708.6,   8.6037,  35.0131,2,  35.0097,3,     25.1,2,    25.2,2,   64.51,2,   36.98,2,    0.00,2,    2.75,2,-999.000,9,-999.000,9,  2290.9,2,  2348.1,2,  -9.0000,9,-999.0000,9, -999.00,9, -999.00,9,  -999.0,9,  -999.0,-999.000,9,-999.000,-999.000,9,  -9.0000,-999.0000,   8.5265,   -9.00
  316N145_7,       I08N,     285,          1,         19,         19,2,19950311,       1026,     5.3338,    79.9988,       4137,   808.5,   8.0056,  34.9885,2,  34.9840,3,     29.3,2,    29.2,2,   71.91,2,   37.41,2,    0.00,2,    2.78,2,-999.000,9,-999.000,9,  2297.6,2,  2356.2,2,  -9.0000,9,-999.0000,9, -999.00,9, -999.00,9,  -999.0,9,  -999.0,-999.000,9,-999.000,-999.000,9,  -9.0000,-999.0000,   7.9206,   -9.00
  316N145_7,       I08N,     285,          1,         18,         18,2,19950311,       1026,     5.3338,    79.9988,       4137,   909.4,   7.3600,  34.9620,2,  34.9586,3,     36.8,2,    35.6,2,   78.91,2,   37.60,2,    0.00,2,    2.82,2,-999.000,9,-999.000,9,  2303.5,2,  2362.4,2,  -9.0000,9,-999.0000,9, -999.00,9, -999.00,9,  -999.0,9,  -999.0,-999.000,9,-999.000,-999.000,9,  -9.0000,-999.0000,   7.2681,   -9.00
  316N145_7,       I08N,     285,          1,         17,         17,2,19950311,       1026,     5.3338,    79.9988,       4137,  1010.3,   6.6437,  34.9332,2,  34.9316,3,     44.2,2,    43.8,2,   87.17,2,   37.83,2,    0.00,2,    2.83,2,-999.000,9,-999.000,9,  2311.2,2,  2373.2,2,  -9.0000,9,-999.0000,9, -999.00,9, -999.00,9,  -999.0,9,  -999.0,-999.000,9,-999.000,-999.000,9,  -9.0000,-999.0000,   6.5463,   -9.00
  316N145_7,       I08N,     285,          1,         16,         16,2,19950311,       1026,     5.3338,    79.9988,       4137,  1211.8,   5.6568,  34.8936,2,  34.8917,3,     60.1,2,    59.3,2,   97.94,2,   37.69,2,    0.00,2,    2.82,2,-999.000,9,-999.000,9,  2317.3,2,  2380.3,2,  -9.0000,9,-999.0000,9, -999.00,9, -999.00,9,  -999.0,9,  -999.0,-999.000,9,-999.000,-999.000,9,  -9.0000,-999.0000,   5.5473,   -9.00
  316N145_7,       I08N,     285,          1,         15,         15,2,19950311,       1026,     5.3338,    79.9988,       4137,  1413.9,   4.8730,  34.8690,2,  34.8669,3,     74.2,2,    73.0,2,  105.64,2,   37.46,2,    0.00,2,    2.79,2,-999.000,9,-999.000,9,  2319.2,2,  2386.4,2,  -9.0000,9,-999.0000,9, -999.00,9, -999.00,9,  -999.0,9,  -999.0,-999.000,9,-999.000,-999.000,9,  -9.0000,-999.0000,   4.7515,   -9.00
  316N145_7,       I08N,     285,          1,         14,         14,2,19950311,       1026,     5.3338,    79.9988,       4137,  1615.9,   3.9348,  34.8277,2,  34.8280,3,     89.1,2,    90.2,2,  116.10,2,   37.17,2,    0.00,2,    2.75,2,-999.000,9,-999.000,9,  2326.3,2,  2401.3,2,  -9.0000,9,-999.0000,9, -999.00,9, -999.00,9,  -999.0,9,  -999.0,-999.000,9,-999.000,-999.000,9,  -9.0000,-999.0000,   3.8051,   -9.00
  316N145_7,       I08N,     285,          1,         13,         13,2,19950311,       1026,     5.3338,    79.9988,       4137,  1818.1,   3.2698,  34.8029,2,  34.8005,3,    106.2,7,   106.0,2,  122.41,2,   36.56,2,    0.00,2,    2.70,2,-999.000,9,-999.000,9,  2325.8,2,  2404.6,2,  -9.0000,9,-999.0000,9, -999.00,9, -999.00,9,  -999.0,9,  -999.0,-999.000,9,-999.000,-999.000,9,  -9.0000,-999.0000,   3.1303,   -9.00
  316N145_7,       I08N,     285,          1,         12,         12,2,19950311,       1026,     5.3338,    79.9988,       4137,  2021.7,   2.7650,  34.7794,2,  34.7773,3,    115.6,7,   116.4,2,  129.40,2,   36.22,2,    0.00,2,    2.66,2,-999.000,9,-999.000,9,  2328.8,2,  2413.4,2,  -9.0000,9,-999.0000,9, -999.00,9, -999.00,9,  -999.0,9,  -999.0,-999.000,9,-999.000,-999.000,9,  -9.0000,-999.0000,   2.6145,   -9.00
  316N145_7,       I08N,     285,          1,         11,         11,2,19950311,       1026,     5.3338,    79.9988,       4137,  2224.7,   2.3303,  34.7592,2,  34.7570,3,    125.0,7,   127.3,2,  134.72,2,   35.89,2,    0.00,2,    2.61,2,-999.000,9,-999.000,9,  2330.7,2,  2424.9,2,  -9.0000,9,-999.0000,9, -999.00,9, -999.00,9,  -999.0,9,  -999.0,-999.000,9,-999.000,-999.000,9,  -9.0000,-999.0000,   2.1686,   -9.00
  316N145_7,       I08N,     285,          1,         10,         10,2,19950311,       1026,     5.3338,    79.9988,       4137,  2427.2,   2.0715,  34.7471,2,  34.7452,3,    134.3,7,   136.3,2,  136.62,2,   35.61,2,    0.00,2,    2.56,2,-999.000,9,-999.000,9,  2326.7,2,  2423.8,2,  -9.0000,9,-999.0000,9, -999.00,9, -999.00,9,  -999.0,9,  -999.0,-999.000,9,-999.000,-999.000,9,  -9.0000,-999.0000,   1.8962,   -9.00
  316N145_7,       I08N,     285,          1,          9,          9,2,19950311,       1026,     5.3338,    79.9988,       4137,  2631.4,   1.8992,  34.7400,2,  34.7374,3,    140.4,7,   140.4,2,  139.61,2,   35.52,2,    0.00,2,    2.54,2,-999.000,9,-999.000,9,  2328.5,2,  2426.0,2,  -9.0000,9,-999.0000,9, -999.00,9, -999.00,9,  -999.0,9,  -999.0,-999.000,9,-999.000,-999.000,9,  -9.0000,-999.0000,   1.7084,   -9.00
  316N145_7,       I08N,     285,          1,          8,          8,2,19950311,       1026,     5.3338,    79.9988,       4137,  2833.6,   1.8040,  34.7359,2,  34.7331,3,    145.1,7,   143.7,2,  140.87,2,   35.42,2,    0.00,2,    2.52,2,-999.000,9,-999.000,9,  2328.0,2,  2436.0,2,  -9.0000,9,-999.0000,9, -999.00,9, -999.00,9,  -999.0,9,  -999.0,-999.000,9,-999.000,-999.000,9,  -9.0000,-999.0000,   1.5962,   -9.00
  316N145_7,       I08N,     285,          1,          7,          7,2,19950311,       1026,     5.3338,    79.9988,       4137,  3035.7,   1.6817,  34.7305,2,  34.7287,3,    148.0,7,   147.4,2,  142.57,2,   35.28,2,    0.00,2,    2.51,2,-999.000,9,-999.000,9,  2330.5,2,  2431.9,2,  -9.0000,9,-999.0000,9, -999.00,9, -999.00,9,  -999.0,9,  -999.0,-999.000,9,-999.000,-999.000,9,  -9.0000,-999.0000,   1.4572,   -9.00
  316N145_7,       I08N,     285,          1,          6,          6,2,19950311,       1026,     5.3338,    79.9988,       4137,  3289.9,   1.5531,  34.7257,2,  34.7238,3,    151.7,7,   152.2,2,  144.71,2,   35.18,2,    0.00,2,    2.49,2,-999.000,9,-999.000,9,  2331.4,2,  2432.3,2,  -9.0000,9,-999.0000,9, -999.00,9, -999.00,9,  -999.0,9,  -999.0,-999.000,9,-999.000,-999.000,9,  -9.0000,-999.0000,   1.3066,   -9.00
  316N145_7,       I08N,     285,          1,          5,          5,2,19950311,       1026,     5.3338,    79.9988,       4137,  3441.4,   1.4795,  34.7228,2,  34.7213,3,    155.3,7,   155.6,2,  145.33,2,   35.04,2,    0.00,2,    2.48,2,-999.000,9,-999.000,9,  2330.5,2,  -999.0,5,  -9.0000,9,-999.0000,9, -999.00,9, -999.00,9,  -999.0,9,  -999.0,-999.000,9,-999.000,-999.000,9,  -9.0000,-999.0000,   1.2196,   -9.00
  316N145_7,       I08N,     285,          1,          4,          4,2,19950311,       1026,     5.3338,    79.9988,       4137,  3645.2,   1.4263,  34.7205,2,  34.7174,3,    158.9,7,   160.3,2,  144.43,4,   34.81,4,    0.00,4,    2.45,4,-999.000,9,-999.000,9,  2328.5,2,  2438.9,2,  -9.0000,9,-999.0000,9, -999.00,9, -999.00,9,  -999.0,9,  -999.0,-999.000,9,-999.000,-999.000,9,  -9.0000,-999.0000,   1.1469,   -9.00
  316N145_7,       I08N,     285,          1,          3,          3,2,19950311,       1026,     5.3338,    79.9988,       4137,  3849.2,   1.4130,  34.7197,2,  34.7164,3,    162.0,7,   162.4,2,  144.40,2,   34.76,2,    0.00,2,    2.42,2,-999.000,9,-999.000,9,  2327.8,2,  2450.2,2,  -9.0000,9,-999.0000,9, -999.00,9, -999.00,9,  -999.0,9,  -999.0,-999.000,9,-999.000,-999.000,9,  -9.0000,-999.0000,   1.1126,   -9.00
  316N145_7,       I08N,     285,          1,          2,          2,2,19950311,       1026,     5.3338,    79.9988,       4137,  4055.2,   1.4007,  34.7189,2,  34.7160,3,    166.2,7,   166.2,2,  142.63,2,   34.52,2,    0.00,2,    2.40,2,-999.000,9,-999.000,9,  2323.3,2,  2435.0,2,  -9.0000,9,-999.0000,9, -999.00,9, -999.00,9,  -999.0,9,  -999.0,-999.000,9,-999.000,-999.000,9,  -9.0000,-999.0000,   1.0784,   -9.00
  316N145_7,       I08N,     285,          1,          1,          1,2,19950311,       1026,     5.3338,    79.9988,       4137,  4201.8,   1.4047,  34.7191,2,  34.7148,3,    169.6,7,   169.1,2,  140.65,2,   34.33,2,    0.00,2,    2.40,2,-999.000,9,-999.000,9,  2319.5,2,  2436.0,2,  -9.0000,9,-999.0000,9, -999.00,9, -999.00,9,  -999.0,9,  -999.0,-999.000,9,-999.000,-999.000,9,  -9.0000,-999.0000,   1.0662,   -9.00