BOTTLE,20211124CCHSIORKP
EXPOCODE,SECT_ID,STNNBR,CASTNO,SAMPNO,BTLNBR,BTLNBR_FLAG_W,DATE,TIME,LATITUDE,LONGITUDE,DEPTH,CTDPRS,CTDTMP,CTDSAL,CTDSAL_FLAG_W,SALNTY,SALNTY_FLAG_W,CTDOXY,CTDOXY_FLAG_W,OXYGEN,OXYGEN_FLAG_W,SILCAT,SILCAT_FLAG_W,NITRAT,NITRAT_FLAG_W,NITRIT,NITRIT_FLAG_W,PHSPHT,PHSPHT_FLAG_W,CFC-11,CFC-11_FLAG_W,CFC-12,CFC-12_FLAG_W,TCARBN,TCARBN_FLAG_W,ALKALI,ALKALI_FLAG_W,TRITUM,TRITUM_FLAG_W,HELIUM,HELIUM_FLAG_W,DELHE3,DELHE3_FLAG_W,DELC13,DELC13_FLAG_W,DELC14,DELC14_FLAG_W,C14ERR,NEON,NEON_FLAG_W,NEONER,CCL4,CCL4_FLAG_W,TRITER,HELIER,THETA,DELHER
,,,,,,,,,,,METERS,DBAR,ITS-90,PSS-78,,PSS-78,,UMOL/KG,,UMOL/KG,,UMOL/KG,,UMOL/KG,,UMOL/KG,,UMOL/KG,,PMOL/KG,,PMOL/KG,,UMOL/KG,,UMOL/KG,,TU,,NMOL/KG,,PERCNT,,/MILLE,,/MILLE,,/MILLE,NMOL/KG,,NMOL/KG,PMOL/KG,,TU,NMOL/KG,DEG C,PERCNT
  316N145_7,       I05E,     418,          1,         29,         29,2,19950409,       0837,   -31.9863,   101.9398,       3450,     2.6,  20.4476,  36.0264,2,  36.0261,2,    224.8,2,   225.4,2,    2.39,2,    0.11,2,    0.00,2,    0.14,2,-999.000,9,-999.000,9,  2065.2,2,  2385.7,2,  -9.0000,9,-999.0000,9, -999.00,9, -999.00,9,  -999.0,9,  -999.0,-999.000,9,-999.000,-999.000,9,  -9.0000,-999.0000,  20.4471,   -9.00
  316N145_7,       I05E,     418,          1,         28,         28,2,19950409,       0837,   -31.9863,   101.9398,       3450,    24.2,  20.3193,  36.0340,2,  36.0338,2,    216.1,2,   225.8,2,    2.58,2,    0.11,2,    0.00,2,    0.14,2,-999.000,9,-999.000,9,  2065.5,2,  2367.0,2,  -9.0000,9,-999.0000,9, -999.00,9, -999.00,9,  -999.0,9,  -999.0,-999.000,9,-999.000,-999.000,9,  -9.0000,-999.0000,  20.3147,   -9.00
  316N145_7,       I05E,     418,          1,         27,         27,2,19950409,       0837,   -31.9863,   101.9398,       3450,    48.8,  20.1650,  36.0353,2,  36.0415,2,    219.7,2,   226.2,2,    2.57,2,    0.11,2,    0.00,2,    0.14,2,-999.000,9,-999.000,9,  2064.9,2,  2371.6,2,  -9.0000,9,-999.0000,9, -999.00,9, -999.00,9,  -999.0,9,  -999.0,-999.000,9,-999.000,-999.000,9,  -9.0000,-999.0000,  20.1559,   -9.00
  316N145_7,       I05E,     418,          1,         26,         26,2,19950409,       0837,   -31.9863,   101.9398,       3450,    84.5,  15.9349,  35.6897,2,  35.7064,2,    247.4,2,   244.8,2,    2.55,2,    0.10,2,    0.01,2,    0.20,2,-999.000,9,-999.000,9,  2065.9,2,  2343.5,2,  -9.0000,9,-999.0000,9, -999.00,9, -999.00,9,  -999.0,9,  -999.0,-999.000,9,-999.000,-999.000,9,  -9.0000,-999.0000,  15.9215,   -9.00
  316N145_7,       I05E,     418,          1,         25,         25,2,19950409,       0837,   -31.9863,   101.9398,       3450,   134.6,  14.0682,  35.4521,2,  35.4505,2,    237.5,2,   237.4,2,    2.54,2,    3.47,2,    0.04,2,    0.41,2,-999.000,9,-999.000,9,  2085.5,2,  2339.9,2,  -9.0000,9,-999.0000,9, -999.00,9, -999.00,9,  -999.0,9,  -999.0,-999.000,9,-999.000,-999.000,9,  -9.0000,-999.0000,  14.0487,   -9.00
  316N145_7,       I05E,     418,          1,         24,         24,2,19950409,       0837,   -31.9863,   101.9398,       3450,   185.0,  12.8210,  35.2581,2,  35.2675,2,    234.8,2,   239.0,2,    2.94,2,    5.93,2,    0.01,2,    0.56,2,-999.000,9,-999.000,9,  2093.9,2,  2322.2,2,  -9.0000,9,-999.0000,9, -999.00,9, -999.00,9,  -999.0,9,  -999.0,-999.000,9,-999.000,-999.000,9,  -9.0000,-999.0000,  12.7957,   -9.00
  316N145_7,       I05E,     418,          1,         23,         23,2,19950409,       0837,   -31.9863,   101.9398,       3450,   245.5,  11.9428,  35.1155,2,  35.1153,2,    240.5,2,   244.5,2,    3.14,2,    7.73,2,    0.01,2,    0.67,2,-999.000,9,-999.000,9,  2095.0,2,  2305.7,2,  -9.0000,9,-999.0000,9, -999.00,9, -999.00,9,  -999.0,9,  -999.0,-999.000,9,-999.000,-999.000,9,  -9.0000,-999.0000,  11.9108,   -9.00
  316N145_7,       I05E,     418,          1,         22,         22,2,19950409,       0837,   -31.9863,   101.9398,       3450,   306.4,  11.2889,  35.0046,2,  35.0050,2,    244.8,2,   244.8,2,    3.75,2,    9.54,2,    0.01,2,    0.77,2,-999.000,9,-999.000,9,  2099.4,2,  2308.3,2,  -9.0000,9,-999.0000,9, -999.00,9, -999.00,9,  -999.0,9,  -999.0,-999.000,9,-999.000,-999.000,9,  -9.0000,-999.0000,  11.2503,   -9.00
  316N145_7,       I05E,     418,          1,         21,         21,2,19950409,       0837,   -31.9863,   101.9398,       3450,   375.6,  10.6650,  34.9000,2,  34.8983,2,    245.1,2,   245.6,2,    4.15,2,   11.34,2,    0.01,2,    0.88,2,-999.000,9,-999.000,9,  2103.3,2,  2309.0,2,  -9.0000,9,-999.0000,9, -999.00,9, -999.00,9,  -999.0,9,  -999.0,-999.000,9,-999.000,-999.000,9,  -9.0000,-999.0000,  10.6193,   -9.00
  316N145_7,       I05E,     418,          1,         20,         20,2,19950409,       0837,   -31.9863,   101.9398,       3450,   456.0,   9.8896,  34.7708,2,  34.7744,2,    246.1,2,   245.7,2,    4.97,2,   13.54,2,    0.00,2,    1.01,2,-999.000,9,-999.000,9,  2108.7,2,  2299.6,2,  -9.0000,9,-999.0000,9, -999.00,9, -999.00,9,  -999.0,9,  -999.0,-999.000,9,-999.000,-999.000,9,  -9.0000,-999.0000,   9.8365,   -9.00
  316N145_7,       I05E,     418,          1,         19,         19,3,19950409,       0837,   -31.9863,   101.9398,       3450,   557.7,   9.2177,  34.6683,2,  34.5828,4,    241.5,2,   172.4,4,   31.66,4,   24.32,4,    0.00,4,    1.72,4,-999.000,9,-999.000,9,  2200.8,4,  2326.0,4,  -9.0000,9,-999.0000,9, -999.00,9, -999.00,9,  -999.0,9,  -999.0,-999.000,9,-999.000,-999.000,9,  -9.0000,-999.0000,   9.1552,   -9.00
  316N145_7,       I05E,     418,          1,         18,         18,2,19950409,       0837,   -31.9863,   101.9398,       3450,   657.3,   8.4456,  34.5792,2,  34.5816,2,    227.7,2,   222.5,2,    9.11,2,   20.12,2,    0.01,2,    1.40,2,-999.000,9,-999.000,9,  2131.3,2,  2290.1,2,  -9.0000,9,-999.0000,9, -999.00,9, -999.00,9,  -999.0,9,  -999.0,-999.000,9,-999.000,-999.000,9,  -9.0000,-999.0000,   8.3754,   -9.00
  316N145_7,       I05E,     418,          1,         17,         17,2,19950409,       0837,   -31.9863,   101.9398,       3450,   758.5,   7.2495,  34.4913,2,  34.4925,2,    204.6,2,   200.7,2,   16.18,2,   24.67,2,    0.01,2,    1.70,2,-999.000,9,-999.000,9,  2154.9,2,  2295.4,2,  -9.0000,9,-999.0000,9, -999.00,9, -999.00,9,  -999.0,9,  -999.0,-999.000,9,-999.000,-999.000,9,  -9.0000,-999.0000,   7.1748,   -9.00
  316N145_7,       I05E,     418,          1,         16,         16,2,19950409,       0837,   -31.9863,   101.9398,       3450,   858.3,   5.6235,  34.4121,2,  34.4114,2,    196.0,2,   193.8,2,   27.43,2,   28.70,2,    0.00,2,    1.98,2,-999.000,9,-999.000,9,  2179.9,2,  2299.4,2,  -9.0000,9,-999.0000,9, -999.00,9, -999.00,9,  -999.0,9,  -999.0,-999.000,9,-999.000,-999.000,9,  -9.0000,-999.0000,   5.5490,   -9.00
  316N145_7,       I05E,     418,          1,         15,         15,2,19950409,       0837,   -31.9863,   101.9398,       3450,   959.8,   4.5868,  34.3899,2,  34.3910,2,    187.8,2,   188.6,2,   39.08,2,   31.21,2,    0.00,2,    2.17,2,-999.000,9,-999.000,9,  2198.8,2,  2352.2,3,  -9.0000,9,-999.0000,9, -999.00,9, -999.00,9,  -999.0,9,  -999.0,-999.000,9,-999.000,-999.000,9,  -9.0000,-999.0000,   4.5103,   -9.00
  316N145_7,       I05E,     418,          1,         14,         14,2,19950409,       0837,   -31.9863,   101.9398,       3450,  1111.4,   3.8479,  34.4474,2,  34.4473,2,    169.0,2,   168.6,2,   57.62,2,   33.58,2,    0.00,2,    2.37,2,-999.000,9,-999.000,9,  2230.6,2,  2327.8,2,  -9.0000,9,-999.0000,9, -999.00,9, -999.00,9,  -999.0,9,  -999.0,-999.000,9,-999.000,-999.000,9,  -9.0000,-999.0000,   3.7643,   -9.00
  316N145_7,       I05E,     418,          1,         13,         13,2,19950409,       0837,   -31.9863,   101.9398,       3450,  1261.8,   3.4588,  34.5165,2,  34.5160,2,    156.9,2,   156.6,2,   71.58,2,   34.77,2,    0.00,2,    2.46,2,-999.000,9,-999.000,9,  2249.9,2,  2344.3,2,  -9.0000,9,-999.0000,9, -999.00,9, -999.00,9,  -999.0,9,  -999.0,-999.000,9,-999.000,-999.000,9,  -9.0000,-999.0000,   3.3660,   -9.00
  316N145_7,       I05E,     418,          1,         12,         12,2,19950409,       0837,   -31.9863,   101.9398,       3450,  1413.7,   3.2042,  34.5699,2,  34.5692,2,    150.2,2,   150.9,2,   79.71,2,   34.83,2,    0.00,2,    2.47,2,-999.000,9,-999.000,9,  2260.3,2,  2349.3,2,  -9.0000,9,-999.0000,9, -999.00,9, -999.00,9,  -999.0,9,  -999.0,-999.000,9,-999.000,-999.000,9,  -9.0000,-999.0000,   3.1013,   -9.00
  316N145_7,       I05E,     418,          1,         11,         11,2,19950409,       0837,   -31.9863,   101.9398,       3450,  1564.3,   2.9385,  34.6131,2,  34.6132,2,    153.5,2,   153.3,2,   84.49,2,   34.53,2,    0.00,2,    2.44,2,-999.000,9,-999.000,9,  2264.9,2,  2358.9,2,  -9.0000,9,-999.0000,9, -999.00,9, -999.00,9,  -999.0,9,  -999.0,-999.000,9,-999.000,-999.000,9,  -9.0000,-999.0000,   2.8259,   -9.00
  316N145_7,       I05E,     418,          1,         10,         10,2,19950409,       0837,   -31.9863,   101.9398,       3450,  1717.6,   2.7281,  34.6542,2,  34.6536,2,    157.5,2,   157.2,2,   89.49,2,   34.09,2,    0.00,2,    2.41,2,-999.000,9,-999.000,9,  2267.6,2,  2363.0,2,  -9.0000,9,-999.0000,9, -999.00,9, -999.00,9,  -999.0,9,  -999.0,-999.000,9,-999.000,-999.000,9,  -9.0000,-999.0000,   2.6051,   -9.00
  316N145_7,       I05E,     418,          1,          9,          9,2,19950409,       0837,   -31.9863,   101.9398,       3450,  1868.3,   2.5398,  34.6817,2,  34.6803,2,    164.3,2,   163.6,2,   91.13,2,   33.40,2,    0.00,2,    2.35,2,-999.000,9,-999.000,9,  2265.4,2,  2364.4,2,  -9.0000,9,-999.0000,9, -999.00,9, -999.00,9,  -999.0,9,  -999.0,-999.000,9,-999.000,-999.000,9,  -9.0000,-999.0000,   2.4064,   -9.00
  316N145_7,       I05E,     418,          1,          8,          8,2,19950409,       0837,   -31.9863,   101.9398,       3450,  2021.7,   2.3900,  34.7035,2,  34.7025,2,    169.1,2,   171.9,2,   92.78,2,   32.81,2,    0.00,2,    2.31,2,-999.000,9,-999.000,9,  2264.4,2,  2364.5,2,  -9.0000,9,-999.0000,9, -999.00,9, -999.00,9,  -999.0,9,  -999.0,-999.000,9,-999.000,-999.000,9,  -9.0000,-999.0000,   2.2455,   -9.00
  316N145_7,       I05E,     418,          1,          7,          7,2,19950409,       0837,   -31.9863,   101.9398,       3450,  2223.7,   2.2179,  34.7227,2,  34.7224,2,    177.6,2,   184.0,2,   92.74,2,   32.03,2,    0.00,2,    2.24,2,-999.000,9,-999.000,9,  2259.0,2,  2361.2,2,  -9.0000,9,-999.0000,9, -999.00,9, -999.00,9,  -999.0,9,  -999.0,-999.000,9,-999.000,-999.000,9,  -9.0000,-999.0000,   2.0584,   -9.00
  316N145_7,       I05E,     418,          1,          6,          6,2,19950409,       0837,   -31.9863,   101.9398,       3450,  2427.3,   2.0013,  34.7291,2,  34.7296,2,    174.7,2,   174.4,2,  105.55,2,   32.67,2,    0.00,2,    2.29,2,-999.000,9,-999.000,9,  2272.8,3,  2378.3,3,  -9.0000,9,-999.0000,9, -999.00,9, -999.00,9,  -999.0,9,  -999.0,-999.000,9,-999.000,-999.000,9,  -9.0000,-999.0000,   1.8273,   -9.00
  316N145_7,       I05E,     418,          1,          5,          5,2,19950409,       0837,   -31.9863,   101.9398,       3450,  2629.5,   1.8735,  34.7408,2,  34.7400,2,    191.0,2,   191.0,2,   96.45,2,   31.19,2,    0.00,2,    2.16,2,-999.000,9,-999.000,9,  -999.0,5,  2363.0,2,  -9.0000,9,-999.0000,9, -999.00,9, -999.00,9,  -999.0,9,  -999.0,-999.000,9,-999.000,-999.000,9,  -9.0000,-999.0000,   1.6834,   -9.00
  316N145_7,       I05E,     418,          1,          4,          4,2,19950409,       0837,   -31.9863,   101.9398,       3450,  2832.9,   1.6830,  34.7375,2,  34.7365,2,    191.8,2,   192.1,2,  103.37,2,   31.49,2,    0.00,2,    2.19,2,-999.000,9,-999.000,9,  2260.0,2,  2370.3,2,  -9.0000,9,-999.0000,9, -999.00,9, -999.00,9,  -999.0,9,  -999.0,-999.000,9,-999.000,-999.000,9,  -9.0000,-999.0000,   1.4778,   -9.00
  316N145_7,       I05E,     418,          1,          3,          3,2,19950409,       0837,   -31.9863,   101.9398,       3450,  3037.8,   1.5218,  34.7349,2,  34.7341,2,    195.8,2,   196.3,2,  106.07,2,   31.45,2,    0.00,2,    2.18,2,-999.000,9,-999.000,9,  2259.1,2,  2365.0,2,  -9.0000,9,-999.0000,9, -999.00,9, -999.00,9,  -999.0,9,  -999.0,-999.000,9,-999.000,-999.000,9,  -9.0000,-999.0000,   1.3006,   -9.00
  316N145_7,       I05E,     418,          1,          2,          2,2,19950409,       0837,   -31.9863,   101.9398,       3450,  3266.8,   1.3929,  34.7315,2,  34.7314,2,    199.0,2,   199.7,2,  109.00,2,   31.55,2,    0.00,2,    2.19,2,-999.000,9,-999.000,9,  2259.2,2,  2372.2,2,  -9.0000,9,-999.0000,9, -999.00,9, -999.00,9,  -999.0,9,  -999.0,-999.000,9,-999.000,-999.000,9,  -9.0000,-999.0000,   1.1525,   -9.00
  316N145_7,       I05E,     418,          1,          1,          1,2,19950409,       0837,   -31.9863,   101.9398,       3450,  3521.1,   1.2836,  34.7266,2,  34.7270,2,    201.9,2,   201.5,2,  112.14,2,   31.60,2,    0.00,2,    2.20,2,-999.000,9,-999.000,9,  2260.5,2,  2370.3,2,  -9.0000,9,-999.0000,9, -999.00,9, -999.00,9,  -999.0,9,  -999.0,-999.000,9,-999.000,-999.000,9,  -9.0000,-999.0000,   1.0205,   -9.00