BOTTLE,20211124CCHSIORKP
EXPOCODE,SECT_ID,STNNBR,CASTNO,SAMPNO,BTLNBR,BTLNBR_FLAG_W,DATE,TIME,LATITUDE,LONGITUDE,DEPTH,CTDPRS,CTDTMP,CTDSAL,CTDSAL_FLAG_W,SALNTY,SALNTY_FLAG_W,CTDOXY,CTDOXY_FLAG_W,OXYGEN,OXYGEN_FLAG_W,SILCAT,SILCAT_FLAG_W,NITRAT,NITRAT_FLAG_W,NITRIT,NITRIT_FLAG_W,PHSPHT,PHSPHT_FLAG_W,CFC-11,CFC-11_FLAG_W,CFC-12,CFC-12_FLAG_W,TCARBN,TCARBN_FLAG_W,ALKALI,ALKALI_FLAG_W,TRITUM,TRITUM_FLAG_W,HELIUM,HELIUM_FLAG_W,DELHE3,DELHE3_FLAG_W,DELC13,DELC13_FLAG_W,DELC14,DELC14_FLAG_W,C14ERR,NEON,NEON_FLAG_W,NEONER,CCL4,CCL4_FLAG_W,TRITER,HELIER,THETA,DELHER
,,,,,,,,,,,METERS,DBAR,ITS-90,PSS-78,,PSS-78,,UMOL/KG,,UMOL/KG,,UMOL/KG,,UMOL/KG,,UMOL/KG,,UMOL/KG,,PMOL/KG,,PMOL/KG,,UMOL/KG,,UMOL/KG,,TU,,NMOL/KG,,PERCNT,,/MILLE,,/MILLE,,/MILLE,NMOL/KG,,NMOL/KG,PMOL/KG,,TU,NMOL/KG,DEG C,PERCNT
  316N145_7,       I08N,     350,          1,         36,         36,2,19950325,       2219,   -22.0002,    79.9998,       4580,     3.2,  27.0310,  34.9618,2,  34.9616,2,    200.3,2,   201.4,2,    2.30,2,    0.14,2,    0.00,2,    0.10,2,   1.743,2,   0.983,2,  -999.0,5,  2283.8,2,   1.0982,2,   1.7069,2,   -0.88,2,    1.27,2,    69.5,2,     5.2,   6.671,2,   0.033,-999.000,9,   0.0039,   0.0085,  27.0302,    0.14
  316N145_7,       I08N,     350,          1,         35,         35,2,19950325,       2219,   -22.0002,    79.9998,       4580,    35.9,  27.0346,  34.9626,2,  34.9626,2,    206.7,2,   201.3,2,    2.29,2,    0.14,2,    0.00,2,    0.10,2,-999.000,9,-999.000,9,  -999.0,5,  2281.6,2,  -9.0000,9,-999.0000,9, -999.00,9, -999.00,9,  -999.0,9,  -999.0,-999.000,9,-999.000,-999.000,9,  -9.0000,-999.0000,  27.0263,   -9.00
  316N145_7,       I08N,     350,          1,         34,         34,2,19950325,       2219,   -22.0002,    79.9998,       4580,    65.5,  23.2530,  35.2714,2,  35.3019,2,    227.6,2,   224.5,2,    2.47,2,    0.14,2,    0.00,2,    0.11,2,   2.077,2,   1.152,2,  -999.0,5,  2306.0,2,   1.1389,2,   1.7246,2,   -0.80,2,    1.21,2,    71.3,2,     3.4,   6.890,2,   0.034,-999.000,9,   0.0040,   0.0086,  23.2396,    0.14
  316N145_7,       I08N,     350,          1,         33,         33,2,19950325,       2219,   -22.0002,    79.9998,       4580,    95.4,  22.0057,  35.3857,2,  35.3884,2,    229.5,2,   215.5,2,    2.86,2,    0.27,2,    0.01,2,    0.14,2,   1.958,2,   1.047,2,  -999.0,5,  2313.9,2,   1.1141,2,   1.7250,2,   -0.48,2,    1.08,2,    79.7,2,     5.1,   6.936,2,   0.035,-999.000,9,   0.0040,   0.0086,  21.9868,    0.14
  316N145_7,       I08N,     350,          1,         32,         32,2,19950325,       2219,   -22.0002,    79.9998,       4580,   135.6,  20.3763,  35.4411,2,  35.4421,2,    200.7,2,   184.0,2,    5.47,2,    3.79,2,    0.13,2,    0.38,2,   2.013,2,   1.104,2,  -999.0,5,  2318.2,2,  -9.0000,9,-999.0000,9, -999.00,9,    0.90,2,    78.1,2,     3.3,-999.000,9,-999.000,-999.000,9,  -9.0000,-999.0000,  20.3508,   -9.00
  316N145_7,       I08N,     350,          1,         31,         31,2,19950325,       2219,   -22.0002,    79.9998,       4580,   195.4,  18.7224,  35.4786,2,  35.4515,2,    167.8,2,   165.6,2,    9.10,2,    7.36,2,    0.01,2,    0.59,2,   1.893,2,   1.075,2,  -999.0,5,  2324.4,2,   1.0914,2,   1.7383,2,    2.08,2,    0.78,2,    81.4,2,     3.7,   7.049,2,   0.035,   1.267,2,   0.0039,   0.0087,  18.6878,    0.14
  316N145_7,       I08N,     350,          1,         30,         30,2,19950325,       2219,   -22.0002,    79.9998,       4580,   256.0,  17.3023,  35.7051,2,  35.6984,2,    184.8,2,   192.5,2,    4.83,2,    4.38,2,    0.01,2,    0.44,2,   2.243,2,   1.201,2,  -999.0,5,  2343.6,2,   1.0057,2,   1.7233,2,    0.89,2,    1.02,2,    91.1,2,     4.7,   7.058,2,   0.035,-999.000,9,   0.0039,   0.0086,  17.2593,    0.14
  316N145_7,       I08N,     350,          1,         29,         29,2,19950325,       2219,   -22.0002,    79.9998,       4580,   316.1,  15.2558,  35.5516,2,  35.5752,2,    209.1,2,   210.2,2,    2.99,2,    4.75,2,    0.00,2,    0.47,2,   2.542,2,   1.323,2,  -999.0,5,  2335.4,2,   0.8863,2,   1.7369,2,    0.41,2, -999.00,9,  -999.0,9,  -999.0,   7.158,2,   0.036,-999.000,9,   0.0036,   0.0087,  15.2069,    0.14
  316N145_7,       I08N,     350,          1,         28,         28,2,19950325,       2219,   -22.0002,    79.9998,       4580,   396.8,  13.0492,  35.2632,2,  35.2635,2,    218.4,2,   222.8,2,    2.98,2,    7.92,2,    0.00,2,    0.66,2,   2.767,2,   1.421,2,  -999.0,5,  2319.2,2,   0.7590,2,   1.7504,2,    0.48,2,    1.25,2,    90.7,2,     4.7,   7.268,2,   0.036,-999.000,9,   0.0034,   0.0088,  12.9939,    0.14
  316N145_7,       I08N,     350,          1,         27,         27,2,19950325,       2219,   -22.0002,    79.9998,       4580,   487.2,  11.2844,  34.9858,2,  35.0045,2,    227.0,2,   229.0,2,    3.97,2,   11.33,2,    0.00,2,    0.85,2,   2.732,2,   1.389,2,  -999.0,5,  2307.4,2,   0.6486,2,   1.7477,2,    0.71,2,    1.34,2,    69.2,2,     4.0,   7.323,2,   0.037,-999.000,9,   0.0032,   0.0087,  11.2226,    0.14
  316N145_7,       I08N,     350,          1,         26,         26,2,19950325,       2219,   -22.0002,    79.9998,       4580,   587.6,   9.9293,  34.7854,2,  34.7870,2,    221.2,2,   230.5,2,    4.97,2,   15.02,2,    0.00,2,    1.08,2,   2.579,2,   1.288,2,  -999.0,5,  2296.3,2,   0.5170,2,   1.7568,2,    0.90,2,    1.29,2,    57.7,2,     3.4,   7.432,2,   0.037,-999.000,9,   0.0030,   0.0088,   9.8603,    0.14
  316N145_7,       I08N,     350,          1,         25,         25,2,19950325,       2219,   -22.0002,    79.9998,       4580,   688.6,   8.8359,  34.6527,2,  34.6565,2,    211.6,2,   210.0,2,   10.21,2,   19.79,2,    0.00,2,    1.36,2,   1.685,2,   0.833,2,  -999.0,5,  2299.5,2,   0.3613,2,   1.7656,2,    2.23,2,    1.16,2,    22.9,2,     3.1,   7.482,2,   0.037,-999.000,9,   0.0027,   0.0088,   8.7602,    0.14
  316N145_7,       I08N,     350,          1,         24,         24,2,19950325,       2219,   -22.0002,    79.9998,       4580,   788.5,   7.1791,  34.5340,2,  34.5362,2,    187.9,2,   185.4,2,   22.13,2,   25.84,2,    0.00,2,    1.76,2,   0.612,6,   0.318,6,  -999.0,5,  2298.1,2,  -9.0000,9,-999.0000,9, -999.00,9,    1.00,2,   -55.7,2,     4.3,-999.000,9,-999.000,-999.000,9,  -9.0000,-999.0000,   7.1017,   -9.00
  316N145_7,       I08N,     350,          1,         23,         23,2,19950325,       2219,   -22.0002,    79.9998,       4580,   889.6,   5.7846,  34.4845,2,  34.4850,2,    164.5,2,   165.0,2,   39.72,2,   30.60,2,    0.00,2,    2.12,2,-999.000,9,-999.000,9,  -999.0,5,  2328.8,2,   0.0567,2,-999.0000,9, -999.00,9,    0.80,2,  -104.9,2,     2.9,-999.000,9,-999.000,-999.000,9,   0.0023,-999.0000,   5.7059,   -9.00
  316N145_7,       I08N,     350,          1,         22,         22,2,19950325,       2219,   -22.0002,    79.9998,       4580,   989.6,   5.2271,  34.5646,2,  34.5647,2,    126.2,2,   124.7,2,   66.23,2,   34.59,2,    0.00,2,    2.45,2,   0.030,3,   0.016,2,  -999.0,5,  2340.0,2,   0.0107,2,   1.8357,2,    9.38,2,    0.39,2,  -149.1,2,     3.0,   7.805,2,   0.039,-999.000,9,   0.0022,   0.0092,   5.1429,    0.14
  316N145_7,       I08N,     350,          1,         21,         21,2,19950325,       2219,   -22.0002,    79.9998,       4580,  1090.4,   4.7316,  34.5774,2,  34.5820,2,    120.3,2,   122.2,2,   74.72,2,   35.30,2,    0.00,2,    2.51,2,   0.013,3,   0.004,2,  -999.0,5,  2362.7,3,  -9.0000,9,-999.0000,9, -999.00,9,    0.36,2,  -162.3,2,     2.7,-999.000,9,-999.000,-999.000,9,  -9.0000,-999.0000,   4.6421,   -9.00
  316N145_7,       I08N,     350,          1,         20,         20,2,19950325,       2219,   -22.0002,    79.9998,       4580,  1211.9,   4.2838,  34.6046,2,  34.6050,2,    121.7,2,   121.7,2,   82.63,2,   35.77,2,    0.00,2,    2.55,2,   0.004,3,   0.000,2,  -999.0,5,  2355.5,2,   0.0024,2,-999.0000,9, -999.00,9,    0.31,2,  -163.1,2,     4.2,-999.000,9,-999.000,-999.000,9,   0.0022,-999.0000,   4.1874,   -9.00
  316N145_7,       I08N,     350,          1,         19,         19,2,19950325,       2219,   -22.0002,    79.9998,       4580,  1312.7,   3.8932,  34.6187,2,  34.6197,2,    126.5,2,   127.2,2,   86.06,2,   35.72,2,    0.00,2,    2.54,2,-999.000,9,-999.000,9,  -999.0,5,  2359.5,2,  -9.0000,9,-999.0000,9, -999.00,9,    0.31,2,  -175.0,2,     4.9,-999.000,9,-999.000,-999.000,9,  -9.0000,-999.0000,   3.7916,   -9.00
  316N145_7,       I08N,     350,          1,         18,         18,2,19950325,       2219,   -22.0002,    79.9998,       4580,  1412.9,   3.6670,  34.6439,2,  34.6441,2,    129.1,2,   129.8,2,   90.11,2,   35.62,2,    0.00,2,    2.54,2,   0.000,3,   0.000,2,  -999.0,5,  2363.5,2,  -0.0005,2,   1.8572,2,   11.70,2, -999.00,9,  -999.0,9,  -999.0,   7.916,2,   0.040,-999.000,9,   0.0022,   0.0093,   3.5590,    0.14
  316N145_7,       I08N,     350,          1,         17,         17,2,19950325,       2219,   -22.0002,    79.9998,       4580,  1565.7,   3.2810,  34.6805,2,  34.6808,2,    134.3,2,   135.2,2,   96.62,2,   35.29,2,    0.00,2,    2.51,2,-999.000,9,-999.000,9,  -999.0,5,  2380.3,3,  -9.0000,9,-999.0000,9, -999.00,9, -999.00,9,  -999.0,9,  -999.0,-999.000,9,-999.000,-999.000,9,  -9.0000,-999.0000,   3.1641,   -9.00
  316N145_7,       I08N,     350,          1,         16,         16,2,19950325,       2219,   -22.0002,    79.9998,       4580,  1717.0,   3.0400,  34.7018,2,  34.6964,4,    138.7,2,   139.4,2,  101.51,2,   35.00,2,    0.00,2,    2.49,2,   0.000,3,  -0.001,2,  -999.0,5,  2377.1,2,  -0.0009,2,   1.8338,2,   13.32,2, -999.00,9,  -999.0,9,  -999.0,   7.788,2,   0.039,-999.000,9,   0.0022,   0.0092,   2.9128,    0.14
  316N145_7,       I08N,     350,          1,         15,         15,2,19950325,       2219,   -22.0002,    79.9998,       4580,  1868.8,   2.7977,  34.7192,2,  34.7209,2,    142.9,2,   143.6,2,  106.41,2,   34.81,2,    0.00,2,    2.47,2,   0.000,3,   0.000,2,  -999.0,5,  2397.7,3,  -9.0000,9,-999.0000,9, -999.00,9, -999.00,9,  -999.0,9,  -999.0,-999.000,9,-999.000,-999.000,9,  -9.0000,-999.0000,   2.6605,   -9.00
  316N145_7,       I08N,     350,          1,         14,         14,2,19950325,       2219,   -22.0002,    79.9998,       4580,  2020.5,   2.5202,  34.7227,2,  34.7243,2,    150.2,2,   151.9,2,  108.85,2,   34.42,2,    0.00,2,    2.43,2,   0.001,3,  -0.001,2,  -999.0,5,  2383.4,2,  -9.0000,9,-999.0000,9, -999.00,9, -999.00,9,  -999.0,9,  -999.0,-999.000,9,-999.000,-999.000,9,  -9.0000,-999.0000,   2.3738,   -9.00
  316N145_7,       I08N,     350,          1,         13,         13,2,19950325,       2219,   -22.0002,    79.9998,       4580,  2223.2,   2.2723,  34.7241,2,  34.7262,3,    160.4,2,   160.4,2,  110.06,2,   33.90,2,    0.00,2,    2.39,2,-999.000,9,-999.000,9,  -999.0,5,  2403.7,3,  -9.0000,9,-999.0000,9, -999.00,9, -999.00,9,  -999.0,9,  -999.0,-999.000,9,-999.000,-999.000,9,  -9.0000,-999.0000,   2.1119,   -9.00
  316N145_7,       I08N,     350,          1,         12,         12,2,19950325,       2219,   -22.0002,    79.9998,       4580,  2426.8,   2.0331,  34.7236,2,  34.7254,2,    170.7,2,   171.1,2,  109.41,2,   33.28,2,    0.00,2,    2.33,2,   0.004,3,  -0.001,2,  -999.0,5,  2382.4,2,  -9.0000,9,-999.0000,9, -999.00,9, -999.00,9,  -999.0,9,  -999.0,-999.000,9,-999.000,-999.000,9,  -9.0000,-999.0000,   1.8586,   -9.00
  316N145_7,       I08N,     350,          1,         11,         11,2,19950325,       2219,   -22.0002,    79.9998,       4580,  2630.6,   1.8597,  34.7249,2,  34.7270,3,    178.9,2,   178.0,2,  109.99,2,   32.85,2,    0.00,2,    2.29,2,-999.000,9,-999.000,9,  -999.0,5,  2395.4,2,  -9.0000,9,-999.0000,9, -999.00,9, -999.00,9,  -999.0,9,  -999.0,-999.000,9,-999.000,-999.000,9,  -9.0000,-999.0000,   1.6698,   -9.00
  316N145_7,       I08N,     350,          1,         10,         10,2,19950325,       2219,   -22.0002,    79.9998,       4580,  2832.7,   1.7310,  34.7275,2,  34.7296,3,    183.5,2,   182.6,2,  111.20,2,   32.61,2,    0.00,2,    2.27,2,   0.002,3,   0.001,2,  -999.0,5,  2382.8,2,  -9.0000,9,-999.0000,9, -999.00,9, -999.00,9,  -999.0,9,  -999.0,-999.000,9,-999.000,-999.000,9,  -9.0000,-999.0000,   1.5248,   -9.00
  316N145_7,       I08N,     350,          1,          9,          9,2,19950325,       2219,   -22.0002,    79.9998,       4580,  3035.7,   1.6203,  34.7287,2,  34.7305,2,    185.8,2,   186.6,2,  112.41,2,   32.42,2,    0.00,2,    2.25,2,-999.000,9,-999.000,9,  -999.0,5,  2379.6,2,  -9.0000,9,-999.0000,9, -999.00,9, -999.00,9,  -999.0,9,  -999.0,-999.000,9,-999.000,-999.000,9,  -9.0000,-999.0000,   1.3972,   -9.00
  316N145_7,       I08N,     350,          1,          8,          8,2,19950325,       2219,   -22.0002,    79.9998,       4580,  3239.9,   1.5058,  34.7282,2,  34.7286,2,    190.5,2,   190.2,2,  114.03,2,   32.33,2,    0.00,2,    2.24,2,   0.000,3,   0.001,2,  -999.0,5,  2383.6,2,  -9.0000,9,-999.0000,9, -999.00,9, -999.00,9,  -999.0,9,  -999.0,-999.000,9,-999.000,-999.000,9,  -9.0000,-999.0000,   1.2654,   -9.00
  316N145_7,       I08N,     350,          1,          7,          7,2,19950325,       2219,   -22.0002,    79.9998,       4580,  3443.4,   1.4254,  34.7261,2,  34.7264,2,    191.3,2,   190.9,2,  117.10,2,   32.47,2,    0.00,2,    2.25,2,-999.000,9,-999.000,9,  -999.0,5,  2405.6,2,  -9.0000,9,-999.0000,9, -999.00,9, -999.00,9,  -999.0,9,  -999.0,-999.000,9,-999.000,-999.000,9,  -9.0000,-999.0000,   1.1667,   -9.00
  316N145_7,       I08N,     350,          1,          6,          6,2,19950325,       2219,   -22.0002,    79.9998,       4580,  3648.6,   1.3981,  34.7238,2,  34.7252,2,    190.1,2,   190.0,2,  119.77,2,   32.70,2,    0.00,2,    2.26,2,   0.004,3,   0.003,2,  -999.0,5,  2391.5,2,  -9.0000,9,-999.0000,9, -999.00,9, -999.00,9,  -999.0,9,  -999.0,-999.000,9,-999.000,-999.000,9,  -9.0000,-999.0000,   1.1191,   -9.00
  316N145_7,       I08N,     350,          1,          5,          5,2,19950325,       2219,   -22.0002,    79.9998,       4580,  3852.3,   1.3906,  34.7220,2,  34.7225,2,    188.9,2,   188.3,2,  122.24,2,   32.89,2,    0.00,2,    2.28,2,-999.000,9,-999.000,9,  -999.0,5,  2408.5,2,  -9.0000,9,-999.0000,9, -999.00,9, -999.00,9,  -999.0,9,  -999.0,-999.000,9,-999.000,-999.000,9,  -9.0000,-999.0000,   1.0904,   -9.00
  316N145_7,       I08N,     350,          1,          4,          4,2,19950325,       2219,   -22.0002,    79.9998,       4580,  4057.1,   1.3922,  34.7201,2,  34.7209,2,    186.1,2,   186.8,2,  125.13,2,   33.08,2,    0.00,2,    2.29,2,-999.000,9,-999.000,9,  -999.0,5,  2402.0,2,  -9.0000,9,-999.0000,9, -999.00,9, -999.00,9,  -999.0,9,  -999.0,-999.000,9,-999.000,-999.000,9,  -9.0000,-999.0000,   1.0700,   -9.00
  316N145_7,       I08N,     350,          1,          3,          3,2,19950325,       2219,   -22.0002,    79.9998,       4580,  4261.4,   1.3997,  34.7195,2,  34.7195,2,    185.8,2,   185.7,2,  127.18,2,   33.31,2,    0.00,2,    2.30,2,   0.001,3,   0.001,2,  -999.0,5,  2408.9,2,  -9.0000,9,-999.0000,9, -999.00,9, -999.00,9,  -999.0,9,  -999.0,-999.000,9,-999.000,-999.000,9,  -9.0000,-999.0000,   1.0547,   -9.00
  316N145_7,       I08N,     350,          1,          2,          2,2,19950325,       2219,   -22.0002,    79.9998,       4580,  4466.4,   1.4128,  34.7186,2,  34.7193,2,    184.4,2,   185.0,2,  127.99,2,   33.36,2,    0.00,2,    2.31,2,  -0.002,3,  -0.001,2,  -999.0,5,  2405.1,2,  -9.0000,9,-999.0000,9, -999.00,9, -999.00,9,  -999.0,9,  -999.0,-999.000,9,-999.000,-999.000,9,  -9.0000,-999.0000,   1.0442,   -9.00
  316N145_7,       I08N,     350,          1,          1,          1,2,19950325,       2219,   -22.0002,    79.9998,       4580,  4716.3,   1.4373,  34.7184,2,  34.7221,4,    184.2,2,   184.3,2,  128.37,2,   33.45,2,    0.00,2,    2.32,2,  -0.007,3,  -0.001,2,  -999.0,5,  2419.3,3,  -9.0000,9,-999.0000,9, -999.00,9, -999.00,9,  -999.0,9,  -999.0,-999.000,9,-999.000,-999.000,9,  -9.0000,-999.0000,   1.0389,   -9.00