BOTTLE,20211124CCHSIORKP
EXPOCODE,SECT_ID,STNNBR,CASTNO,SAMPNO,BTLNBR,BTLNBR_FLAG_W,DATE,TIME,LATITUDE,LONGITUDE,DEPTH,CTDPRS,CTDTMP,CTDSAL,CTDSAL_FLAG_W,SALNTY,SALNTY_FLAG_W,CTDOXY,CTDOXY_FLAG_W,OXYGEN,OXYGEN_FLAG_W,SILCAT,SILCAT_FLAG_W,NITRAT,NITRAT_FLAG_W,NITRIT,NITRIT_FLAG_W,PHSPHT,PHSPHT_FLAG_W,CFC-11,CFC-11_FLAG_W,CFC-12,CFC-12_FLAG_W,TCARBN,TCARBN_FLAG_W,ALKALI,ALKALI_FLAG_W,TRITUM,TRITUM_FLAG_W,HELIUM,HELIUM_FLAG_W,DELHE3,DELHE3_FLAG_W,DELC13,DELC13_FLAG_W,DELC14,DELC14_FLAG_W,C14ERR,NEON,NEON_FLAG_W,NEONER,CCL4,CCL4_FLAG_W,TRITER,HELIER,THETA,DELHER
,,,,,,,,,,,METERS,DBAR,ITS-90,PSS-78,,PSS-78,,UMOL/KG,,UMOL/KG,,UMOL/KG,,UMOL/KG,,UMOL/KG,,UMOL/KG,,PMOL/KG,,PMOL/KG,,UMOL/KG,,UMOL/KG,,TU,,NMOL/KG,,PERCNT,,/MILLE,,/MILLE,,/MILLE,NMOL/KG,,NMOL/KG,PMOL/KG,,TU,NMOL/KG,DEG C,PERCNT
  316N145_7,       I05E,     431,          1,         36,         36,2,19950412,       1750,   -31.8002,   110.5818,       5069,     2.7,  22.2672,  36.1027,2,  36.1045,2,    216.0,2,   217.8,2,    3.39,2,    0.05,2,    0.00,2,    0.06,2,-999.000,9,-999.000,9,  2044.3,2,  2364.1,2,  -9.0000,9,-999.0000,9, -999.00,9, -999.00,9,  -999.0,9,  -999.0,-999.000,9,-999.000,-999.000,9,  -9.0000,-999.0000,  22.2667,   -9.00
  316N145_7,       I05E,     431,          1,         35,         35,2,19950412,       1750,   -31.8002,   110.5818,       5069,    33.0,  21.9252,  36.1261,2,  36.1317,2,    214.2,2,   220.0,2,    3.37,2,    0.05,2,    0.00,2,    0.06,2,-999.000,9,-999.000,9,  -999.0,9,  -999.0,9,  -9.0000,9,-999.0000,9, -999.00,9, -999.00,9,  -999.0,9,  -999.0,-999.000,9,-999.000,-999.000,9,  -9.0000,-999.0000,  21.9187,   -9.00
  316N145_7,       I05E,     431,          1,         34,         34,2,19950412,       1750,   -31.8002,   110.5818,       5069,    57.7,  20.2543,  36.0586,2,  36.0538,2,    234.6,2,   229.8,2,    2.92,2,    0.05,2,    0.00,2,    0.08,2,-999.000,9,-999.000,9,  -999.0,9,  -999.0,9,  -9.0000,9,-999.0000,9, -999.00,9, -999.00,9,  -999.0,9,  -999.0,-999.000,9,-999.000,-999.000,9,  -9.0000,-999.0000,  20.2435,   -9.00
  316N145_7,       I05E,     431,          1,         33,         33,2,19950412,       1750,   -31.8002,   110.5818,       5069,    82.6,  18.5722,  35.9032,2,  35.8911,2,    238.2,2,   238.9,2,    2.69,2,    0.05,2,    0.00,2,    0.13,2,-999.000,9,-999.000,9,  -999.0,9,  -999.0,9,  -9.0000,9,-999.0000,9, -999.00,9, -999.00,9,  -999.0,9,  -999.0,-999.000,9,-999.000,-999.000,9,  -9.0000,-999.0000,  18.5577,   -9.00
  316N145_7,       I05E,     431,          1,         32,         32,2,19950412,       1750,   -31.8002,   110.5818,       5069,   117.7,  15.6316,  35.6549,2,  35.6482,2,    241.1,2,   240.3,2,    2.24,2,    0.30,2,    0.13,2,    0.24,2,-999.000,9,-999.000,9,  -999.0,9,  -999.0,9,  -9.0000,9,-999.0000,9, -999.00,9, -999.00,9,  -999.0,9,  -999.0,-999.000,9,-999.000,-999.000,9,  -9.0000,-999.0000,  15.6132,   -9.00
  316N145_7,       I05E,     431,          1,         31,         31,2,19950412,       1750,   -31.8002,   110.5818,       5069,   167.5,  13.7239,  35.3797,2,  35.3730,2,    239.4,2,   238.7,2,    2.23,2,    4.13,2,    0.02,2,    0.45,2,-999.000,9,-999.000,9,  -999.0,9,  -999.0,9,  -9.0000,9,-999.0000,9, -999.00,9, -999.00,9,  -999.0,9,  -999.0,-999.000,9,-999.000,-999.000,9,  -9.0000,-999.0000,  13.7000,   -9.00
  316N145_7,       I05E,     431,          1,         30,         30,2,19950412,       1750,   -31.8002,   110.5818,       5069,   227.2,  12.3209,  35.1560,2,  35.1535,2,    239.1,2,   240.9,2,    2.65,2,    6.93,2,    0.01,2,    0.62,2,-999.000,9,-999.000,9,  -999.0,9,  -999.0,9,  -9.0000,9,-999.0000,9, -999.00,9, -999.00,9,  -999.0,9,  -999.0,-999.000,9,-999.000,-999.000,9,  -9.0000,-999.0000,  12.2907,   -9.00
  316N145_7,       I05E,     431,          1,         29,         29,2,19950412,       1750,   -31.8002,   110.5818,       5069,   306.9,  10.8924,  34.9207,2,  34.9173,2,    241.8,2,   243.2,2,    3.29,2,   10.46,2,    0.01,2,    0.83,2,-999.000,9,-999.000,9,  -999.0,9,  -999.0,9,  -9.0000,9,-999.0000,9, -999.00,9, -999.00,9,  -999.0,9,  -999.0,-999.000,9,-999.000,-999.000,9,  -9.0000,-999.0000,  10.8546,   -9.00
  316N145_7,       I05E,     431,          1,         28,         28,2,19950412,       1750,   -31.8002,   110.5818,       5069,   409.0,   9.6505,  34.7258,2,  34.7268,2,    244.6,2,   245.8,2,    4.81,2,   14.27,2,    0.01,2,    1.05,2,-999.000,9,-999.000,9,  -999.0,9,  -999.0,9,  -9.0000,9,-999.0000,9, -999.00,9, -999.00,9,  -999.0,9,  -999.0,-999.000,9,-999.000,-999.000,9,  -9.0000,-999.0000,   9.6037,   -9.00
  316N145_7,       I05E,     431,          1,         27,         27,2,19950412,       1750,   -31.8002,   110.5818,       5069,   509.2,   9.1858,  34.6614,2,  34.6621,2,    238.9,2,   239.6,2,    5.88,2,   16.60,2,    0.01,2,    1.19,2,-999.000,9,-999.000,9,  -999.0,9,  -999.0,9,  -9.0000,9,-999.0000,9, -999.00,9, -999.00,9,  -999.0,9,  -999.0,-999.000,9,-999.000,-999.000,9,  -9.0000,-999.0000,   9.1290,   -9.00
  316N145_7,       I05E,     431,          1,         26,         26,2,19950412,       1750,   -31.8002,   110.5818,       5069,   610.6,   8.4248,  34.5705,2,  34.5733,2,    225.3,2,   226.3,2,    8.71,2,   19.99,2,    0.01,2,    1.40,2,-999.000,9,-999.000,9,  -999.0,9,  -999.0,9,  -9.0000,9,-999.0000,9, -999.00,9, -999.00,9,  -999.0,9,  -999.0,-999.000,9,-999.000,-999.000,9,  -9.0000,-999.0000,   8.3599,   -9.00
  316N145_7,       I05E,     431,          1,         25,         25,2,19950412,       1750,   -31.8002,   110.5818,       5069,   710.8,   7.0992,  34.4768,2,  34.4794,2,    202.7,2,   200.4,2,   16.98,2,   25.19,2,    0.01,2,    1.73,2,-999.000,9,-999.000,9,  -999.0,9,  -999.0,9,  -9.0000,9,-999.0000,9, -999.00,9, -999.00,9,  -999.0,9,  -999.0,-999.000,9,-999.000,-999.000,9,  -9.0000,-999.0000,   7.0302,   -9.00
  316N145_7,       I05E,     431,          1,         24,         24,2,19950412,       1750,   -31.8002,   110.5818,       5069,   811.5,   5.6742,  34.4081,2,  34.4101,2,    193.6,2,   194.8,2,   27.43,2,   28.80,2,    0.01,2,    1.98,2,-999.000,9,-999.000,9,  -999.0,9,  -999.0,9,  -9.0000,9,-999.0000,9, -999.00,9, -999.00,9,  -999.0,9,  -999.0,-999.000,9,-999.000,-999.000,9,  -9.0000,-999.0000,   5.6037,   -9.00
  316N145_7,       I05E,     431,          1,         23,         23,2,19950412,       1750,   -31.8002,   110.5818,       5069,   912.0,   4.5334,  34.3985,2,  34.3999,2,    186.5,2,   185.9,2,   42.46,2,   31.69,2,    0.00,2,    2.21,2,-999.000,9,-999.000,9,  -999.0,9,  -999.0,9,  -9.0000,9,-999.0000,9, -999.00,9, -999.00,9,  -999.0,9,  -999.0,-999.000,9,-999.000,-999.000,9,  -9.0000,-999.0000,   4.4614,   -9.00
  316N145_7,       I05E,     431,          1,         22,         22,2,19950412,       1750,   -31.8002,   110.5818,       5069,  1013.6,   3.9997,  34.4372,2,  34.4370,2,    170.8,2,   171.6,2,   55.75,2,   33.41,2,    0.00,2,    2.34,2,-999.000,9,-999.000,9,  -999.0,9,  -999.0,9,  -9.0000,9,-999.0000,9, -999.00,9, -999.00,9,  -999.0,9,  -999.0,-999.000,9,-999.000,-999.000,9,  -9.0000,-999.0000,   3.9231,   -9.00
  316N145_7,       I05E,     431,          1,         21,         21,2,19950412,       1750,   -31.8002,   110.5818,       5069,  1112.7,   3.6424,  34.4703,2,  34.4717,2,    162.7,2,   164.0,2,   64.46,2,   34.20,2,    0.00,2,    2.41,2,-999.000,9,-999.000,9,  -999.0,9,  -999.0,9,  -9.0000,9,-999.0000,9, -999.00,9, -999.00,9,  -999.0,9,  -999.0,-999.000,9,-999.000,-999.000,9,  -9.0000,-999.0000,   3.5604,   -9.00
  316N145_7,       I05E,     431,          1,         20,         20,2,19950412,       1750,   -31.8002,   110.5818,       5069,  1312.8,   3.1872,  34.5438,2,  34.5438,2,    155.2,2,   156.0,2,   76.23,2,   34.85,2,    0.00,2,    2.46,2,-999.000,9,-999.000,9,  -999.0,9,  -999.0,9,  -9.0000,9,-999.0000,9, -999.00,9, -999.00,9,  -999.0,9,  -999.0,-999.000,9,-999.000,-999.000,9,  -9.0000,-999.0000,   3.0929,   -9.00
  316N145_7,       I05E,     431,          1,         19,         19,2,19950412,       1750,   -31.8002,   110.5818,       5069,  1514.2,   2.8802,  34.6111,2,  34.6125,2,    154.7,2,   155.3,2,   85.40,2,   34.65,2,    0.00,2,    2.44,2,-999.000,9,-999.000,9,  -999.0,9,  -999.0,9,  -9.0000,9,-999.0000,9, -999.00,9, -999.00,9,  -999.0,9,  -999.0,-999.000,9,-999.000,-999.000,9,  -9.0000,-999.0000,   2.7725,   -9.00
  316N145_7,       I05E,     431,          1,         18,         18,2,19950412,       1750,   -31.8002,   110.5818,       5069,  1717.4,   2.6483,  34.6646,2,  34.6666,2,    157.5,2,   157.4,2,   94.36,2,   34.17,2,    0.00,2,    2.41,2,-999.000,9,-999.000,9,  -999.0,9,  -999.0,9,  -9.0000,9,-999.0000,9, -999.00,9, -999.00,9,  -999.0,9,  -999.0,-999.000,9,-999.000,-999.000,9,  -9.0000,-999.0000,   2.5264,   -9.00
  316N145_7,       I05E,     431,          1,         17,         17,2,19950412,       1750,   -31.8002,   110.5818,       5069,  1920.7,   2.3993,  34.7023,2,  34.7027,2,    161.7,2,   161.9,2,  101.37,2,   33.68,2,    0.00,2,    2.37,2,-999.000,9,-999.000,9,  -999.0,9,  -999.0,9,  -9.0000,9,-999.0000,9, -999.00,9, -999.00,9,  -999.0,9,  -999.0,-999.000,9,-999.000,-999.000,9,  -9.0000,-999.0000,   2.2634,   -9.00
  316N145_7,       I05E,     431,          1,         16,         16,2,19950412,       1750,   -31.8002,   110.5818,       5069,  2123.5,   2.2368,  34.7162,2,  34.7171,2,    164.6,2,   164.3,2,  107.08,2,   33.54,2,    0.00,2,    2.37,2,-999.000,9,-999.000,9,  -999.0,9,  -999.0,9,  -9.0000,9,-999.0000,9, -999.00,9, -999.00,9,  -999.0,9,  -999.0,-999.000,9,-999.000,-999.000,9,  -9.0000,-999.0000,   2.0858,   -9.00
  316N145_7,       I05E,     431,          1,         15,         15,2,19950412,       1750,   -31.8002,   110.5818,       5069,  2324.4,   2.0757,  34.7238,2,  34.7243,2,    167.8,2,   167.6,2,  111.69,2,   33.50,2,    0.00,2,    2.36,2,-999.000,9,-999.000,9,  -999.0,9,  -999.0,9,  -9.0000,9,-999.0000,9, -999.00,9, -999.00,9,  -999.0,9,  -999.0,-999.000,9,-999.000,-999.000,9,  -9.0000,-999.0000,   1.9096,   -9.00
  316N145_7,       I05E,     431,          1,         14,         14,2,19950412,       1750,   -31.8002,   110.5818,       5069,  2525.9,   1.9345,  34.7272,2,  34.7275,2,    172.3,2,   171.8,2,  114.32,2,   33.26,2,    0.00,2,    2.34,2,-999.000,9,-999.000,9,  -999.0,9,  -999.0,9,  -9.0000,9,-999.0000,9, -999.00,9, -999.00,9,  -999.0,9,  -999.0,-999.000,9,-999.000,-999.000,9,  -9.0000,-999.0000,   1.7527,   -9.00
  316N145_7,       I05E,     431,          1,         13,         13,2,19950412,       1750,   -31.8002,   110.5818,       5069,  2727.0,   1.8028,  34.7280,2,  34.7283,2,    175.9,2,   175.9,2,  115.84,2,   33.12,2,    0.00,2,    2.32,2,-999.000,9,-999.000,9,  -999.0,9,  -999.0,9,  -9.0000,9,-999.0000,9, -999.00,9, -999.00,9,  -999.0,9,  -999.0,-999.000,9,-999.000,-999.000,9,  -9.0000,-999.0000,   1.6051,   -9.00
  316N145_7,       I05E,     431,          1,         12,         12,2,19950412,       1750,   -31.8002,   110.5818,       5069,  2929.2,   1.6948,  34.7282,2,  34.7279,2,    179.8,2,   180.0,2,  117.15,2,   33.03,2,    0.00,2,    2.31,2,-999.000,9,-999.000,9,  -999.0,9,  -999.0,9,  -9.0000,9,-999.0000,9, -999.00,9, -999.00,9,  -999.0,9,  -999.0,-999.000,9,-999.000,-999.000,9,  -9.0000,-999.0000,   1.4802,   -9.00
  316N145_7,       I05E,     431,          1,         11,         11,2,19950412,       1750,   -31.8002,   110.5818,       5069,  3132.4,   1.5780,  34.7267,2,  34.7275,2,    183.3,2,   183.7,2,  118.89,2,   32.89,2,    0.00,2,    2.29,2,-999.000,9,-999.000,9,  -999.0,9,  -999.0,9,  -9.0000,9,-999.0000,9, -999.00,9, -999.00,9,  -999.0,9,  -999.0,-999.000,9,-999.000,-999.000,9,  -9.0000,-999.0000,   1.3464,   -9.00
  316N145_7,       I05E,     431,          1,         10,         10,2,19950412,       1750,   -31.8002,   110.5818,       5069,  3334.2,   1.4700,  34.7248,2,  34.7247,2,    184.9,2,   186.3,2,  121.09,2,   32.94,2,    0.00,2,    2.29,2,-999.000,9,-999.000,9,  -999.0,9,  -999.0,9,  -9.0000,9,-999.0000,9, -999.00,9, -999.00,9,  -999.0,9,  -999.0,-999.000,9,-999.000,-999.000,9,  -9.0000,-999.0000,   1.2211,   -9.00
  316N145_7,       I05E,     431,          1,          9,          9,2,19950412,       1750,   -31.8002,   110.5818,       5069,  3539.3,   1.3708,  34.7222,2,  34.7216,2,    188.8,2,   189.0,2,  122.84,2,   32.85,2,    0.00,2,    2.28,2,-999.000,9,-999.000,9,  -999.0,9,  -999.0,9,  -9.0000,9,-999.0000,9, -999.00,9, -999.00,9,  -999.0,9,  -999.0,-999.000,9,-999.000,-999.000,9,  -9.0000,-999.0000,   1.1037,   -9.00
  316N145_7,       I05E,     431,          1,          8,          8,2,19950412,       1750,   -31.8002,   110.5818,       5069,  3743.1,   1.3015,  34.7199,2,  34.7194,2,    191.1,2,   191.8,2,  124.37,2,   32.76,2,    0.00,2,    2.28,2,-999.000,9,-999.000,9,  -999.0,9,  -999.0,9,  -9.0000,9,-999.0000,9, -999.00,9, -999.00,9,  -999.0,9,  -999.0,-999.000,9,-999.000,-999.000,9,  -9.0000,-999.0000,   1.0152,   -9.00
  316N145_7,       I05E,     431,          1,          7,          7,2,19950412,       1750,   -31.8002,   110.5818,       5069,  3950.1,   1.2405,  34.7179,2,  34.7176,2,    193.8,2,   194.1,2,  125.24,2,   32.82,2,    0.00,2,    2.28,2,-999.000,9,-999.000,9,  -999.0,9,  -999.0,9,  -9.0000,9,-999.0000,9, -999.00,9, -999.00,9,  -999.0,9,  -999.0,-999.000,9,-999.000,-999.000,9,  -9.0000,-999.0000,   0.9341,   -9.00
  316N145_7,       I05E,     431,          1,          6,          6,2,19950412,       1750,   -31.8002,   110.5818,       5069,  4157.5,   1.2008,  34.7159,2,  34.7158,2,    196.6,2,   196.2,2,  125.21,2,   32.78,2,    0.00,2,    2.27,2,-999.000,9,-999.000,9,  -999.0,9,  -999.0,9,  -9.0000,9,-999.0000,9, -999.00,9, -999.00,9,  -999.0,9,  -999.0,-999.000,9,-999.000,-999.000,9,  -9.0000,-999.0000,   0.8732,   -9.00
  316N145_7,       I05E,     431,          1,          5,          5,2,19950412,       1750,   -31.8002,   110.5818,       5069,  4363.2,   1.1673,  34.7143,2,  34.7137,2,    197.9,2,   199.1,2,  125.62,2,   32.73,2,    0.00,2,    2.27,2,-999.000,9,-999.000,9,  -999.0,9,  -999.0,9,  -9.0000,9,-999.0000,9, -999.00,9, -999.00,9,  -999.0,9,  -999.0,-999.000,9,-999.000,-999.000,9,  -9.0000,-999.0000,   0.8179,   -9.00
  316N145_7,       I05E,     431,          1,          4,          4,2,19950412,       1750,   -31.8002,   110.5818,       5069,  4568.5,   1.1307,  34.7129,2,  34.7131,2,    201.4,2,   201.6,2,  124.93,2,   32.54,2,    0.00,2,    2.25,2,-999.000,9,-999.000,9,  -999.0,9,  -999.0,9,  -9.0000,9,-999.0000,9, -999.00,9, -999.00,9,  -999.0,9,  -999.0,-999.000,9,-999.000,-999.000,9,  -9.0000,-999.0000,   0.7592,   -9.00
  316N145_7,       I05E,     431,          1,          3,          3,2,19950412,       1750,   -31.8002,   110.5818,       5069,  4773.2,   1.0698,  34.7107,2,  34.7101,2,    204.2,2,   204.6,2,  124.67,2,   32.45,2,    0.00,2,    2.25,2,-999.000,9,-999.000,9,  -999.0,9,  -999.0,9,  -9.0000,9,-999.0000,9, -999.00,9, -999.00,9,  -999.0,9,  -999.0,-999.000,9,-999.000,-999.000,9,  -9.0000,-999.0000,   0.6767,   -9.00
  316N145_7,       I05E,     431,          1,          2,          2,2,19950412,       1750,   -31.8002,   110.5818,       5069,  4977.7,   1.0383,  34.7086,2,  34.7085,2,    206.6,2,   206.6,2,  124.42,2,   32.46,2,    0.00,2,    2.24,2,-999.000,9,-999.000,9,  -999.0,9,  -999.0,9,  -9.0000,9,-999.0000,9, -999.00,9, -999.00,9,  -999.0,9,  -999.0,-999.000,9,-999.000,-999.000,9,  -9.0000,-999.0000,   0.6223,   -9.00
  316N145_7,       I05E,     431,          1,          1,          1,2,19950412,       1750,   -31.8002,   110.5818,       5069,  5173.9,   1.0164,  34.7064,2,  34.7070,2,    208.1,2,   207.8,2,  124.84,2,   32.46,2,    0.00,2,    2.24,2,-999.000,9,-999.000,9,  -999.0,9,  -999.0,9,  -9.0000,9,-999.0000,9, -999.00,9, -999.00,9,  -999.0,9,  -999.0,-999.000,9,-999.000,-999.000,9,  -9.0000,-999.0000,   0.5776,   -9.00