BOTTLE,20211124CCHSIORKP
EXPOCODE,SECT_ID,STNNBR,CASTNO,SAMPNO,BTLNBR,BTLNBR_FLAG_W,DATE,TIME,LATITUDE,LONGITUDE,DEPTH,CTDPRS,CTDTMP,CTDSAL,CTDSAL_FLAG_W,SALNTY,SALNTY_FLAG_W,CTDOXY,CTDOXY_FLAG_W,OXYGEN,OXYGEN_FLAG_W,SILCAT,SILCAT_FLAG_W,NITRAT,NITRAT_FLAG_W,NITRIT,NITRIT_FLAG_W,PHSPHT,PHSPHT_FLAG_W,CFC-11,CFC-11_FLAG_W,CFC-12,CFC-12_FLAG_W,TCARBN,TCARBN_FLAG_W,ALKALI,ALKALI_FLAG_W,TRITUM,TRITUM_FLAG_W,HELIUM,HELIUM_FLAG_W,DELHE3,DELHE3_FLAG_W,DELC13,DELC13_FLAG_W,DELC14,DELC14_FLAG_W,C14ERR,NEON,NEON_FLAG_W,NEONER,CCL4,CCL4_FLAG_W,TRITER,HELIER,THETA,DELHER
,,,,,,,,,,,METERS,DBAR,ITS-90,PSS-78,,PSS-78,,UMOL/KG,,UMOL/KG,,UMOL/KG,,UMOL/KG,,UMOL/KG,,UMOL/KG,,PMOL/KG,,PMOL/KG,,UMOL/KG,,UMOL/KG,,TU,,NMOL/KG,,PERCNT,,/MILLE,,/MILLE,,/MILLE,NMOL/KG,,NMOL/KG,PMOL/KG,,TU,NMOL/KG,DEG C,PERCNT
  316N145_7,      TRANS,     380,          1,         36,         36,2,19950331,       2224,   -29.3008,    85.8103,       4357,     3.4,  23.3906,  36.0540,2,  36.0532,2,    215.1,2,   215.8,2,    2.62,2,    0.21,2,    0.00,2,    0.11,2,-999.000,9,-999.000,9,  -999.0,9,  -999.0,9,  -9.0000,9,-999.0000,9, -999.00,9, -999.00,9,  -999.0,9,  -999.0,-999.000,9,-999.000,-999.000,9,  -9.0000,-999.0000,  23.3899,   -9.00
  316N145_7,      TRANS,     380,          1,         35,         35,2,19950331,       2224,   -29.3008,    85.8103,       4357,    36.2,  22.7431,  36.0983,2,  36.0851,2,    220.6,2,   218.4,2,    2.61,2,    0.21,2,    0.00,2,    0.11,2,-999.000,9,-999.000,9,  -999.0,9,  -999.0,9,  -9.0000,9,-999.0000,9, -999.00,9, -999.00,9,  -999.0,9,  -999.0,-999.000,9,-999.000,-999.000,9,  -9.0000,-999.0000,  22.7357,   -9.00
  316N145_7,      TRANS,     380,          1,         34,         34,2,19950331,       2224,   -29.3008,    85.8103,       4357,    65.7,  18.7283,  35.8673,2,  35.8696,2,    244.0,2,   245.6,2,    2.39,2,    0.22,2,    0.00,2,    0.14,2,-999.000,9,-999.000,9,  -999.0,9,  -999.0,9,  -9.0000,9,-999.0000,9, -999.00,9, -999.00,9,  -999.0,9,  -999.0,-999.000,9,-999.000,-999.000,9,  -9.0000,-999.0000,  18.7167,   -9.00
  316N145_7,      TRANS,     380,          1,         33,         33,2,19950331,       2224,   -29.3008,    85.8103,       4357,    85.7,  17.3804,  35.7839,2,  35.7878,2,    243.3,2,   241.4,2,    2.17,2,    0.22,2,    0.00,2,    0.18,2,-999.000,9,-999.000,9,  -999.0,9,  -999.0,9,  -9.0000,9,-999.0000,9, -999.00,9, -999.00,9,  -999.0,9,  -999.0,-999.000,9,-999.000,-999.000,9,  -9.0000,-999.0000,  17.3660,   -9.00
  316N145_7,      TRANS,     380,          1,         32,         32,2,19950331,       2224,   -29.3008,    85.8103,       4357,   107.0,  16.7019,  35.7311,2,  35.7286,2,    240.8,2,   238.6,2,    2.15,2,    0.22,2,    0.00,2,    0.21,2,-999.000,9,-999.000,9,  -999.0,9,  -999.0,9,  -9.0000,9,-999.0000,9, -999.00,9, -999.00,9,  -999.0,9,  -999.0,-999.000,9,-999.000,-999.000,9,  -9.0000,-999.0000,  16.6844,   -9.00
  316N145_7,      TRANS,     380,          1,         31,         31,2,19950331,       2224,   -29.3008,    85.8103,       4357,   126.2,  15.7607,  35.6432,2,  35.6101,2,    238.7,2,   232.8,2,    2.14,2,    0.89,2,    0.16,2,    0.30,2,-999.000,9,-999.000,9,  -999.0,9,  -999.0,9,  -9.0000,9,-999.0000,9, -999.00,9, -999.00,9,  -999.0,9,  -999.0,-999.000,9,-999.000,-999.000,9,  -9.0000,-999.0000,  15.7409,   -9.00
  316N145_7,      TRANS,     380,          1,         30,         30,2,19950331,       2224,   -29.3008,    85.8103,       4357,   156.5,  14.8744,  35.5005,2,  35.4953,2,    233.1,2,   233.0,2,    2.13,2,    2.61,2,    0.16,2,    0.39,2,-999.000,9,-999.000,9,  -999.0,9,  -999.0,9,  -9.0000,9,-999.0000,9, -999.00,9, -999.00,9,  -999.0,9,  -999.0,-999.000,9,-999.000,-999.000,9,  -9.0000,-999.0000,  14.8508,   -9.00
  316N145_7,      TRANS,     380,          1,         29,         29,2,19950331,       2224,   -29.3008,    85.8103,       4357,   196.6,  14.0341,  35.3866,2,  35.3943,2,    232.1,2,   232.0,2,    2.32,2,    4.83,2,    0.01,2,    0.49,2,-999.000,9,-999.000,9,  -999.0,9,  -999.0,9,  -9.0000,9,-999.0000,9, -999.00,9, -999.00,9,  -999.0,9,  -999.0,-999.000,9,-999.000,-999.000,9,  -9.0000,-999.0000,  14.0056,   -9.00
  316N145_7,      TRANS,     380,          1,         28,         28,2,19950331,       2224,   -29.3008,    85.8103,       4357,   236.5,  13.2711,  35.2877,2,  35.2912,2,    231.9,2,   233.7,2,    2.73,2,    6.51,2,    0.00,2,    0.58,2,-999.000,9,-999.000,9,  -999.0,9,  -999.0,9,  -9.0000,9,-999.0000,9, -999.00,9, -999.00,9,  -999.0,9,  -999.0,-999.000,9,-999.000,-999.000,9,  -9.0000,-999.0000,  13.2379,   -9.00
  316N145_7,      TRANS,     380,          1,         27,         27,2,19950331,       2224,   -29.3008,    85.8103,       4357,   286.7,  12.3760,  35.1562,2,  35.1527,2,    234.0,2,   235.9,2,    3.34,2,    8.72,2,    0.00,2,    0.70,2,-999.000,9,-999.000,9,  -999.0,9,  -999.0,9,  -9.0000,9,-999.0000,9, -999.00,9, -999.00,9,  -999.0,9,  -999.0,-999.000,9,-999.000,-999.000,9,  -9.0000,-999.0000,  12.3376,   -9.00
  316N145_7,      TRANS,     380,          1,         26,         26,2,19950331,       2224,   -29.3008,    85.8103,       4357,   336.7,  11.8978,  35.0834,2,  35.0848,2,    238.8,2,   238.2,2,    3.54,2,    9.66,2,    0.00,2,    0.76,2,-999.000,9,-999.000,9,  -999.0,9,  -999.0,9,  -9.0000,9,-999.0000,9, -999.00,9, -999.00,9,  -999.0,9,  -999.0,-999.000,9,-999.000,-999.000,9,  -9.0000,-999.0000,  11.8538,   -9.00
  316N145_7,      TRANS,     380,          1,         25,         25,2,19950331,       2224,   -29.3008,    85.8103,       4357,   386.9,  11.4113,  35.0079,2,  35.0070,2,    237.9,2,   240.6,2,    3.95,2,   10.79,2,    0.00,2,    0.82,2,-999.000,9,-999.000,9,  -999.0,9,  -999.0,9,  -9.0000,9,-999.0000,9, -999.00,9, -999.00,9,  -999.0,9,  -999.0,-999.000,9,-999.000,-999.000,9,  -9.0000,-999.0000,  11.3620,   -9.00
  316N145_7,      TRANS,     380,          1,         24,         24,2,19950331,       2224,   -29.3008,    85.8103,       4357,   487.9,  10.6272,  34.8864,2,  34.8878,2,    241.5,2,   241.2,2,    4.35,2,   12.61,2,    0.00,2,    0.94,2,-999.000,9,-999.000,9,  -999.0,9,  -999.0,9,  -9.0000,9,-999.0000,9, -999.00,9, -999.00,9,  -999.0,9,  -999.0,-999.000,9,-999.000,-999.000,9,  -9.0000,-999.0000,  10.5676,   -9.00
  316N145_7,      TRANS,     380,          1,         23,         23,2,19950331,       2224,   -29.3008,    85.8103,       4357,   588.9,   9.7406,  34.7494,2,  34.7535,2,    243.4,2,   236.8,2,    5.17,2,   15.31,2,    0.00,2,    1.09,2,-999.000,9,-999.000,9,  -999.0,9,  -999.0,9,  -9.0000,9,-999.0000,9, -999.00,9, -999.00,9,  -999.0,9,  -999.0,-999.000,9,-999.000,-999.000,9,  -9.0000,-999.0000,   9.6722,   -9.00
  316N145_7,      TRANS,     380,          1,         22,         22,2,19950331,       2224,   -29.3008,    85.8103,       4357,   689.7,   8.9930,  34.6503,2,  34.6552,2,    234.4,2,   228.0,2,    7.04,2,   18.07,2,    0.00,2,    1.28,2,-999.000,9,-999.000,9,  -999.0,9,  -999.0,9,  -9.0000,9,-999.0000,9, -999.00,9, -999.00,9,  -999.0,9,  -999.0,-999.000,9,-999.000,-999.000,9,  -9.0000,-999.0000,   8.9163,   -9.00
  316N145_7,      TRANS,     380,          1,         21,         21,2,19950331,       2224,   -29.3008,    85.8103,       4357,   790.1,   7.7821,  34.5435,2,  34.5399,2,    216.6,2,   208.4,2,   13.30,2,   23.00,2,    0.00,2,    1.57,2,-999.000,9,-999.000,9,  -999.0,9,  -999.0,9,  -9.0000,9,-999.0000,9, -999.00,9, -999.00,9,  -999.0,9,  -999.0,-999.000,9,-999.000,-999.000,9,  -9.0000,-999.0000,   7.7009,   -9.00
  316N145_7,      TRANS,     380,          1,         20,         20,2,19950331,       2224,   -29.3008,    85.8103,       4357,   889.7,   6.2199,  34.4481,2,  34.4509,2,    201.6,2,   196.9,2,   23.74,2,   27.35,2,    0.00,2,    1.88,2,-999.000,9,-999.000,9,  -999.0,9,  -999.0,9,  -9.0000,9,-999.0000,9, -999.00,9, -999.00,9,  -999.0,9,  -999.0,-999.000,9,-999.000,-999.000,9,  -9.0000,-999.0000,   6.1384,   -9.00
  316N145_7,      TRANS,     380,          1,         19,         19,2,19950331,       2224,   -29.3008,    85.8103,       4357,   990.9,   4.8218,  34.4191,2,  34.4205,2,    181.1,2,   182.7,2,   40.66,2,   31.26,2,    0.00,2,    2.16,2,-999.000,9,-999.000,9,  -999.0,9,  -999.0,9,  -9.0000,9,-999.0000,9, -999.00,9, -999.00,9,  -999.0,9,  -999.0,-999.000,9,-999.000,-999.000,9,  -9.0000,-999.0000,   4.7408,   -9.00
  316N145_7,      TRANS,     380,          1,         18,         18,2,19950331,       2224,   -29.3008,    85.8103,       4357,  1112.3,   4.1005,  34.4465,2,  34.4480,2,    169.1,2,   170.0,2,   54.85,2,   33.25,2,    0.00,2,    2.33,2,-999.000,9,-999.000,9,  -999.0,9,  -999.0,9,  -9.0000,9,-999.0000,9, -999.00,9, -999.00,9,  -999.0,9,  -999.0,-999.000,9,-999.000,-999.000,9,  -9.0000,-999.0000,   4.0147,   -9.00
  316N145_7,      TRANS,     380,          1,         17,         17,2,19950331,       2224,   -29.3008,    85.8103,       4357,  1313.2,   3.4307,  34.5393,2,  34.5393,2,    154.8,2,   154.1,2,   73.88,2,   34.75,2,    0.00,2,    2.44,2,-999.000,9,-999.000,9,  -999.0,9,  -999.0,9,  -9.0000,9,-999.0000,9, -999.00,9, -999.00,9,  -999.0,9,  -999.0,-999.000,9,-999.000,-999.000,9,  -9.0000,-999.0000,   3.3339,   -9.00
  316N145_7,      TRANS,     380,          1,         16,         16,2,19950331,       2224,   -29.3008,    85.8103,       4357,  1515.8,   3.0967,  34.6078,2,  34.6076,2,    150.8,2,   152.4,2,   83.50,2,   34.59,2,    0.00,2,    2.44,2,-999.000,9,-999.000,9,  -999.0,9,  -999.0,9,  -9.0000,9,-999.0000,9, -999.00,9, -999.00,9,  -999.0,9,  -999.0,-999.000,9,-999.000,-999.000,9,  -9.0000,-999.0000,   2.9864,   -9.00
  316N145_7,      TRANS,     380,          1,         15,         15,2,19950331,       2224,   -29.3008,    85.8103,       4357,  1717.8,   2.8593,  34.6742,2,  34.6750,2,    151.7,2,   151.3,2,   94.20,2,   34.29,2,    0.00,2,    2.42,2,-999.000,9,-999.000,9,  -999.0,9,  -999.0,9,  -9.0000,9,-999.0000,9, -999.00,9, -999.00,9,  -999.0,9,  -999.0,-999.000,9,-999.000,-999.000,9,  -9.0000,-999.0000,   2.7345,   -9.00
  316N145_7,      TRANS,     380,          1,         14,         14,2,19950331,       2224,   -29.3008,    85.8103,       4357,  1921.2,   2.5832,  34.6995,2,  34.7000,2,    158.1,2,   159.3,2,   98.81,2,   33.84,2,    0.00,2,    2.38,2,-999.000,9,-999.000,9,  -999.0,9,  -999.0,9,  -9.0000,9,-999.0000,9, -999.00,9, -999.00,9,  -999.0,9,  -999.0,-999.000,9,-999.000,-999.000,9,  -9.0000,-999.0000,   2.4446,   -9.00
  316N145_7,      TRANS,     380,          1,         13,         13,2,19950331,       2224,   -29.3008,    85.8103,       4357,  2123.9,   2.3491,  34.7163,2,  34.7157,2,    165.0,2,   164.0,2,  103.85,2,   33.54,2,    0.00,2,    2.36,2,-999.000,9,-999.000,9,  -999.0,9,  -999.0,9,  -9.0000,9,-999.0000,9, -999.00,9, -999.00,9,  -999.0,9,  -999.0,-999.000,9,-999.000,-999.000,9,  -9.0000,-999.0000,   2.1962,   -9.00
  316N145_7,      TRANS,     380,          1,         12,         12,2,19950331,       2224,   -29.3008,    85.8103,       4357,  2327.4,   2.1249,  34.7220,2,  34.7220,2,    174.8,2,   175.1,2,  102.55,2,   32.74,2,    0.00,2,    2.29,2,-999.000,9,-999.000,9,  -999.0,9,  -999.0,9,  -9.0000,9,-999.0000,9, -999.00,9, -999.00,9,  -999.0,9,  -999.0,-999.000,9,-999.000,-999.000,9,  -9.0000,-999.0000,   1.9577,   -9.00
  316N145_7,      TRANS,     380,          1,         11,         11,2,19950331,       2224,   -29.3008,    85.8103,       4357,  2530.1,   1.9391,  34.7281,2,  34.7280,2,    182.5,2,   182.1,2,  103.14,2,   32.30,2,    0.00,2,    2.24,2,-999.000,9,-999.000,9,  -999.0,9,  -999.0,9,  -9.0000,9,-999.0000,9, -999.00,9, -999.00,9,  -999.0,9,  -999.0,-999.000,9,-999.000,-999.000,9,  -9.0000,-999.0000,   1.7569,   -9.00
  316N145_7,      TRANS,     380,          1,         10,         10,2,19950331,       2224,   -29.3008,    85.8103,       4357,  2733.2,   1.7998,  34.7308,2,  34.7306,2,    186.0,2,   185.5,2,  106.29,2,   32.20,2,    0.00,2,    2.24,2,-999.000,9,-999.000,9,  -999.0,9,  -999.0,9,  -9.0000,9,-999.0000,9, -999.00,9, -999.00,9,  -999.0,9,  -999.0,-999.000,9,-999.000,-999.000,9,  -9.0000,-999.0000,   1.6016,   -9.00
  316N145_7,      TRANS,     380,          1,          9,          9,2,19950331,       2224,   -29.3008,    85.8103,       4357,  2936.7,   1.6776,  34.7295,2,  34.7296,2,    187.3,2,   186.4,2,  110.49,2,   32.39,2,    0.00,2,    2.25,2,-999.000,9,-999.000,9,  -999.0,9,  -999.0,9,  -9.0000,9,-999.0000,9, -999.00,9, -999.00,9,  -999.0,9,  -999.0,-999.000,9,-999.000,-999.000,9,  -9.0000,-999.0000,   1.4627,   -9.00
  316N145_7,      TRANS,     380,          1,          8,          8,2,19950331,       2224,   -29.3008,    85.8103,       4357,  3139.0,   1.5637,  34.7283,2,  34.7282,2,    188.4,2,   188.4,2,  113.43,2,   32.39,2,    0.00,2,    2.25,2,-999.000,9,-999.000,9,  -999.0,9,  -999.0,9,  -9.0000,9,-999.0000,9, -999.00,9, -999.00,9,  -999.0,9,  -999.0,-999.000,9,-999.000,-999.000,9,  -9.0000,-999.0000,   1.3318,   -9.00
  316N145_7,      TRANS,     380,          1,          7,          7,2,19950331,       2224,   -29.3008,    85.8103,       4357,  3343.5,   1.4903,  34.7288,2,  34.7288,2,    194.0,2,   193.6,2,  113.18,2,   32.14,2,    0.00,2,    2.23,2,-999.000,9,-999.000,9,  -999.0,9,  -999.0,9,  -9.0000,9,-999.0000,9, -999.00,9, -999.00,9,  -999.0,9,  -999.0,-999.000,9,-999.000,-999.000,9,  -9.0000,-999.0000,   1.2399,   -9.00
  316N145_7,      TRANS,     380,          1,          6,          6,2,19950331,       2224,   -29.3008,    85.8103,       4357,  3547.5,   1.3807,  34.7232,2,  34.7231,2,    192.1,2,   192.6,2,  118.05,2,   32.49,2,    0.00,2,    2.26,2,-999.000,9,-999.000,9,  -999.0,9,  -999.0,9,  -9.0000,9,-999.0000,9, -999.00,9, -999.00,9,  -999.0,9,  -999.0,-999.000,9,-999.000,-999.000,9,  -9.0000,-999.0000,   1.1125,   -9.00
  316N145_7,      TRANS,     380,          1,          5,          5,2,19950331,       2224,   -29.3008,    85.8103,       4357,  3752.0,   1.3049,  34.7207,2,  34.7198,2,    194.6,2,   194.7,2,  119.94,2,   32.54,2,    0.00,2,    2.26,2,-999.000,9,-999.000,9,  -999.0,9,  -999.0,9,  -9.0000,9,-999.0000,9, -999.00,9, -999.00,9,  -999.0,9,  -999.0,-999.000,9,-999.000,-999.000,9,  -9.0000,-999.0000,   1.0176,   -9.00
  316N145_7,      TRANS,     380,          1,          4,          4,2,19950331,       2224,   -29.3008,    85.8103,       4357,  3956.2,   1.2833,  34.7190,2,  34.7188,2,    195.5,2,   195.3,2,  120.54,2,   32.49,2,    0.00,2,    2.26,2,-999.000,9,-999.000,9,  -999.0,9,  -999.0,9,  -9.0000,9,-999.0000,9, -999.00,9, -999.00,9,  -999.0,9,  -999.0,-999.000,9,-999.000,-999.000,9,  -9.0000,-999.0000,   0.9750,   -9.00
  316N145_7,      TRANS,     380,          1,          3,          3,2,19950331,       2224,   -29.3008,    85.8103,       4357,  4160.3,   1.2848,  34.7179,2,  34.7184,2,    197.2,2,   195.9,2,  120.71,2,   32.49,2,    0.00,2,    2.26,2,-999.000,9,-999.000,9,  -999.0,9,  -999.0,9,  -9.0000,9,-999.0000,9, -999.00,9, -999.00,9,  -999.0,9,  -999.0,-999.000,9,-999.000,-999.000,9,  -9.0000,-999.0000,   0.9543,   -9.00
  316N145_7,      TRANS,     380,          1,          2,          2,2,19950331,       2224,   -29.3008,    85.8103,       4357,  4364.9,   1.2923,  34.7182,2,  34.7174,2,    196.8,2,   197.0,2,  120.89,2,   32.44,2,    0.00,2,    2.26,2,-999.000,9,-999.000,9,  -999.0,9,  -999.0,9,  -9.0000,9,-999.0000,9, -999.00,9, -999.00,9,  -999.0,9,  -999.0,-999.000,9,-999.000,-999.000,9,  -9.0000,-999.0000,   0.9389,   -9.00
  316N145_7,      TRANS,     380,          1,          1,          1,2,19950331,       2224,   -29.3008,    85.8103,       4357,  4466.5,   1.3012,  34.7181,2,  34.7180,2,    195.7,2,   196.1,2,  121.06,2,   32.54,2,    0.00,2,    2.26,2,-999.000,9,-999.000,9,  -999.0,9,  -999.0,9,  -9.0000,9,-999.0000,9, -999.00,9, -999.00,9,  -999.0,9,  -999.0,-999.000,9,-999.000,-999.000,9,  -9.0000,-999.0000,   0.9360,   -9.00