BOTTLE,20211124CCHSIORKP
EXPOCODE,SECT_ID,STNNBR,CASTNO,SAMPNO,BTLNBR,BTLNBR_FLAG_W,DATE,TIME,LATITUDE,LONGITUDE,DEPTH,CTDPRS,CTDTMP,CTDSAL,CTDSAL_FLAG_W,SALNTY,SALNTY_FLAG_W,CTDOXY,CTDOXY_FLAG_W,OXYGEN,OXYGEN_FLAG_W,SILCAT,SILCAT_FLAG_W,NITRAT,NITRAT_FLAG_W,NITRIT,NITRIT_FLAG_W,PHSPHT,PHSPHT_FLAG_W,CFC-11,CFC-11_FLAG_W,CFC-12,CFC-12_FLAG_W,TCARBN,TCARBN_FLAG_W,ALKALI,ALKALI_FLAG_W,TRITUM,TRITUM_FLAG_W,HELIUM,HELIUM_FLAG_W,DELHE3,DELHE3_FLAG_W,DELC13,DELC13_FLAG_W,DELC14,DELC14_FLAG_W,C14ERR,NEON,NEON_FLAG_W,NEONER,CCL4,CCL4_FLAG_W,TRITER,HELIER,THETA,DELHER
,,,,,,,,,,,METERS,DBAR,ITS-90,PSS-78,,PSS-78,,UMOL/KG,,UMOL/KG,,UMOL/KG,,UMOL/KG,,UMOL/KG,,UMOL/KG,,PMOL/KG,,PMOL/KG,,UMOL/KG,,UMOL/KG,,TU,,NMOL/KG,,PERCNT,,/MILLE,,/MILLE,,/MILLE,NMOL/KG,,NMOL/KG,PMOL/KG,,TU,NMOL/KG,DEG C,PERCNT
  316N145_7,       I08N,     290,          1,         36,         36,2,19950312,       1002,     3.6678,    80.0005,       4345,     2.3,  28.9767,  34.3086,2,  34.3084,3,    200.0,3,   199.0,2,    3.41,2,    0.00,2,    0.00,2,    0.13,2,-999.000,9,-999.000,9,  1915.5,2,  2254.6,2,  -9.0000,9,-999.0000,9, -999.00,9, -999.00,9,  -999.0,9,  -999.0,-999.000,9,-999.000,-999.000,9,  -9.0000,-999.0000,  28.9762,   -9.00
  316N145_7,       I08N,     290,          1,         35,         35,2,19950312,       1002,     3.6678,    80.0005,       4345,    30.9,  28.6864,  34.2997,2,  34.2917,3,    195.4,3,   203.3,2,    3.40,2,    0.00,2,    0.00,2,    0.13,2,-999.000,9,-999.000,9,  1914.6,2,  2251.7,2,  -9.0000,9,-999.0000,9, -999.00,9, -999.00,9,  -999.0,9,  -999.0,-999.000,9,-999.000,-999.000,9,  -9.0000,-999.0000,  28.6790,   -9.00
  316N145_7,       I08N,     290,          1,         34,         34,2,19950312,       1002,     3.6678,    80.0005,       4345,    56.3,  25.8346,  34.8738,2,  34.5466,3,    127.1,2,   128.1,2,    7.91,2,    8.55,2,    0.46,2,    0.72,2,   1.382,2,   0.779,2,  2017.2,2,  2255.0,2,  -9.0000,9,-999.0000,9, -999.00,9, -999.00,9,  -999.0,9,  -999.0,-999.000,9,-999.000,-999.000,9,  -9.0000,-999.0000,  25.8221,   -9.00
  316N145_7,       I08N,     290,          1,         33,         33,2,19950312,       1002,     3.6678,    80.0005,       4345,    81.6,  21.6936,  35.0631,2,  35.0838,3,     83.3,2,    58.6,2,   15.93,2,   19.69,2,    0.10,2,    1.43,2,   1.120,2,   0.609,2,  2122.7,2,  2299.7,2,  -9.0000,9,-999.0000,9, -999.00,9, -999.00,9,  -999.0,9,  -999.0,-999.000,9,-999.000,-999.000,9,  -9.0000,-999.0000,  21.6777,   -9.00
  316N145_7,       I08N,     290,          1,         32,         32,2,19950312,       1002,     3.6678,    80.0005,       4345,   106.8,  17.9725,  35.0228,2,  35.0342,3,     34.4,2,    33.3,2,   22.10,2,   24.96,2,    0.08,2,    1.81,2,   0.859,2,   0.451,2,  2172.8,2,  2303.6,2,  -9.0000,9,-999.0000,9, -999.00,9, -999.00,9,  -999.0,9,  -999.0,-999.000,9,-999.000,-999.000,9,  -9.0000,-999.0000,  17.9542,   -9.00
  316N145_7,       I08N,     290,          1,         31,         31,2,19950312,       1002,     3.6678,    80.0005,       4345,   136.9,  15.9854,  35.0760,2,  35.0776,3,     23.5,2,    22.4,2,   26.21,2,   28.15,2,    0.01,2,    2.05,2,-999.000,9,-999.000,9,  2206.5,2,  2310.2,2,  -9.0000,9,-999.0000,9, -999.00,9, -999.00,9,  -999.0,9,  -999.0,-999.000,9,-999.000,-999.000,9,  -9.0000,-999.0000,  15.9638,   -9.00
  316N145_7,       I08N,     290,          1,         30,         30,2,19950312,       1002,     3.6678,    80.0005,       4345,   167.1,  14.4990,  35.1400,2,  35.1264,3,     43.8,2,    51.0,2,   24.55,2,   26.34,2,    0.01,2,    1.90,2,   0.726,2,   0.371,2,  2201.3,2,  2315.7,2,  -9.0000,9,-999.0000,9, -999.00,9, -999.00,9,  -999.0,9,  -999.0,-999.000,9,-999.000,-999.000,9,  -9.0000,-999.0000,  14.4743,   -9.00
  316N145_7,       I08N,     290,          1,         29,         29,2,19950312,       1002,     3.6678,    80.0005,       4345,   196.9,  13.2337,  35.0934,2,  35.0898,3,     44.7,2,    46.0,2,   26.80,2,   28.25,2,    0.01,2,    2.01,2,   0.517,6,   0.258,6,  2215.9,2,  2315.2,2,  -9.0000,9,-999.0000,9, -999.00,9, -999.00,9,  -999.0,9,  -999.0,-999.000,9,-999.000,-999.000,9,  -9.0000,-999.0000,  13.2062,   -9.00
  316N145_7,       I08N,     290,          1,         28,         28,2,19950312,       1002,     3.6678,    80.0005,       4345,   247.1,  12.4806,  35.0927,2,  35.0907,3,     57.0,2,    58.1,2,   26.37,2,   27.79,2,    0.01,2,    1.97,2,   0.522,2,   0.258,2,  2214.7,2,  2321.0,2,  -9.0000,9,-999.0000,9, -999.00,9, -999.00,9,  -999.0,9,  -999.0,-999.000,9,-999.000,-999.000,9,  -9.0000,-999.0000,  12.4474,   -9.00
  316N145_7,       I08N,     290,          1,         27,         27,2,19950312,       1002,     3.6678,    80.0005,       4345,   297.1,  11.8254,  35.0778,2,  35.0754,3,     69.5,2,    68.0,2,   26.77,2,   27.79,2,    0.01,2,    1.95,2,   0.519,2,   0.255,2,  2213.7,2,  2320.3,2,  -9.0000,9,-999.0000,9, -999.00,9, -999.00,9,  -999.0,9,  -999.0,-999.000,9,-999.000,-999.000,9,  -9.0000,-999.0000,  11.7868,   -9.00
  316N145_7,       I08N,     290,          1,         26,         26,2,19950312,       1002,     3.6678,    80.0005,       4345,   357.6,  11.2972,  35.0614,2,  35.0608,3,     52.6,2,    49.6,2,   31.91,2,   30.55,2,    0.01,2,    2.15,2,   0.315,2,   0.153,2,  2233.3,2,  2320.1,2,  -9.0000,9,-999.0000,9, -999.00,9, -999.00,9,  -999.0,9,  -999.0,-999.000,9,-999.000,-999.000,9,  -9.0000,-999.0000,  11.2520,   -9.00
  316N145_7,       I08N,     290,          1,         25,         25,2,19950312,       1002,     3.6678,    80.0005,       4345,   407.8,  10.8517,  35.0567,2,  35.0529,3,     47.4,2,    48.8,2,   35.19,2,   31.45,2,    0.01,2,    2.24,2,-999.000,9,-999.000,9,  2240.9,2,  2320.8,2,  -9.0000,9,-999.0000,9, -999.00,9, -999.00,9,  -999.0,9,  -999.0,-999.000,9,-999.000,-999.000,9,  -9.0000,-999.0000,  10.8013,   -9.00
  316N145_7,       I08N,     290,          1,         24,         24,2,19950312,       1002,     3.6678,    80.0005,       4345,   458.0,  10.3798,  35.0426,2,  35.0407,3,     37.5,2,    36.2,2,   40.95,2,   33.33,2,    0.01,2,    2.39,2,   0.128,2,   0.060,2,  2255.7,2,  2326.2,2,  -9.0000,9,-999.0000,9, -999.00,9, -999.00,9,  -999.0,9,  -999.0,-999.000,9,-999.000,-999.000,9,  -9.0000,-999.0000,  10.3247,   -9.00
  316N145_7,       I08N,     290,          1,         23,         23,2,19950312,       1002,     3.6678,    80.0005,       4345,   559.5,   9.6618,  35.0549,2,  35.0526,3,     42.7,2,    40.9,2,   47.94,2,   33.80,2,    0.01,2,    2.50,2,   0.091,2,   0.036,2,  2263.6,2,  2330.5,2,  -9.0000,9,-999.0000,9, -999.00,9, -999.00,9,  -999.0,9,  -999.0,-999.000,9,-999.000,-999.000,9,  -9.0000,-999.0000,   9.5970,   -9.00
  316N145_7,       I08N,     290,          1,         22,         22,2,19950312,       1002,     3.6678,    80.0005,       4345,   659.9,   8.9243,  35.0214,2,  35.0191,3,     33.7,2,    34.2,2,   58.04,2,   35.65,2,    0.01,2,    2.65,2,   0.027,6,   0.012,6,  2279.8,2,  2342.6,2,  -9.0000,9,-999.0000,9, -999.00,9, -999.00,9,  -999.0,9,  -999.0,-999.000,9,-999.000,-999.000,9,  -9.0000,-999.0000,   8.8510,   -9.00
  316N145_7,       I08N,     290,          1,         21,         21,2,19950312,       1002,     3.6678,    80.0005,       4345,   759.7,   8.3041,  34.9977,2,  34.9968,3,     35.2,2,    35.0,2,   66.07,2,   36.40,2,    0.01,2,    2.71,2,   0.012,2,   0.006,2,  2288.9,2,  2347.3,2,  -9.0000,9,-999.0000,9, -999.00,9, -999.00,9,  -999.0,9,  -999.0,-999.000,9,-999.000,-999.000,9,  -9.0000,-999.0000,   8.2227,   -9.00
  316N145_7,       I08N,     290,          1,         20,         20,2,19950312,       1002,     3.6678,    80.0005,       4345,   860.3,   7.5580,  34.9824,2,  34.9807,3,     36.4,2,    37.8,2,   75.98,2,   37.07,2,    0.01,2,    2.77,2,   0.015,2,   0.006,2,  2299.8,2,  2359.1,2,  -9.0000,9,-999.0000,9, -999.00,9, -999.00,9,  -999.0,9,  -999.0,-999.000,9,-999.000,-999.000,9,  -9.0000,-999.0000,   7.4701,   -9.00
  316N145_7,       I08N,     290,          1,         19,         19,2,19950312,       1002,     3.6678,    80.0005,       4345,   961.9,   7.0262,  34.9600,2,  34.9583,3,     44.3,2,    45.6,2,   81.76,2,   37.17,2,    0.00,2,    2.79,2,-999.000,9,-999.000,9,  2303.5,2,  2364.0,2,  -9.0000,9,-999.0000,9, -999.00,9, -999.00,9,  -999.0,9,  -999.0,-999.000,9,-999.000,-999.000,9,  -9.0000,-999.0000,   6.9310,   -9.00
  316N145_7,       I08N,     290,          1,         18,         18,2,19950312,       1002,     3.6678,    80.0005,       4345,  1063.0,   6.3798,  34.9254,2,  34.9235,3,     53.2,2,    55.2,2,   89.22,2,   37.17,2,    0.00,2,    2.79,2,-999.000,9,-999.000,9,  2308.8,2,  2372.8,2,  -9.0000,9,-999.0000,9, -999.00,9, -999.00,9,  -999.0,9,  -999.0,-999.000,9,-999.000,-999.000,9,  -9.0000,-999.0000,   6.2790,   -9.00
  316N145_7,       I08N,     290,          1,         17,         17,2,19950312,       1002,     3.6678,    80.0005,       4345,  1213.5,   5.6654,  34.8960,2,  34.8971,3,     58.2,2,    59.6,2,   97.74,2,   37.51,2,    0.00,2,    2.81,2,-999.000,9,-999.000,9,  2316.2,2,  2379.4,2,  -9.0000,9,-999.0000,9, -999.00,9, -999.00,9,  -999.0,9,  -999.0,-999.000,9,-999.000,-999.000,9,  -9.0000,-999.0000,   5.5557,   -9.00
  316N145_7,       I08N,     290,          1,         16,         16,2,19950312,       1002,     3.6678,    80.0005,       4345,  1415.2,   4.6420,  34.8585,2,  34.8570,3,     75.3,2,    77.1,2,  109.02,2,   37.27,2,    0.00,2,    2.79,2,   0.002,2,   0.000,2,  2322.4,2,  2393.7,2,  -9.0000,9,-999.0000,9, -999.00,9, -999.00,9,  -999.0,9,  -999.0,-999.000,9,-999.000,-999.000,9,  -9.0000,-999.0000,   4.5229,   -9.00
  316N145_7,       I08N,     290,          1,         15,         15,2,19950312,       1002,     3.6678,    80.0005,       4345,  1618.6,   3.7641,  34.8227,2,  34.8216,3,     99.0,2,   100.1,2,  114.47,2,   36.52,2,    0.00,2,    2.70,2,-999.000,9,-999.000,9,  2318.9,2,  2395.1,2,  -9.0000,9,-999.0000,9, -999.00,9, -999.00,9,  -999.0,9,  -999.0,-999.000,9,-999.000,-999.000,9,  -9.0000,-999.0000,   3.6363,   -9.00
  316N145_7,       I08N,     290,          1,         14,         14,2,19950312,       1002,     3.6678,    80.0005,       4345,  1820.6,   3.1259,  34.7956,2,  34.7938,3,    114.1,2,   114.2,2,  121.43,2,   36.14,2,    0.00,2,    2.64,2,  -0.002,2,   0.002,2,  2319.9,2,  2404.9,2,  -9.0000,9,-999.0000,9, -999.00,9, -999.00,9,  -999.0,9,  -999.0,-999.000,9,-999.000,-999.000,9,  -9.0000,-999.0000,   2.9882,   -9.00
  316N145_7,       I08N,     290,          1,         13,         13,2,19950312,       1002,     3.6678,    80.0005,       4345,  2023.0,   2.7035,  34.7777,2,  34.7762,3,    121.4,2,   122.0,2,  128.43,2,   35.86,2,    0.00,2,    2.62,2,-999.000,9,-999.000,9,  2324.8,2,  2406.7,2,  -9.0000,9,-999.0000,9, -999.00,9, -999.00,9,  -999.0,9,  -999.0,-999.000,9,-999.000,-999.000,9,  -9.0000,-999.0000,   2.5539,   -9.00
  316N145_7,       I08N,     290,          1,         12,         12,2,19950312,       1002,     3.6678,    80.0005,       4345,  2225.7,   2.3878,  34.7620,2,  34.7610,3,    135.1,2,   133.9,2,  129.70,2,   35.48,2,    0.00,2,    2.56,2,   0.005,2,   0.003,2,  2320.0,2,  2413.4,2,  -9.0000,9,-999.0000,9, -999.00,9, -999.00,9,  -999.0,9,  -999.0,-999.000,9,-999.000,-999.000,9,  -9.0000,-999.0000,   2.2251,   -9.00
  316N145_7,       I08N,     290,          1,         11,         11,2,19950312,       1002,     3.6678,    80.0005,       4345,  2428.2,   2.1838,  34.7529,2,  34.7504,3,    141.5,2,   140.4,2,  131.17,2,   35.20,2,    0.00,2,    2.53,2,-999.000,9,-999.000,9,  2318.8,2,  2412.0,2,  -9.0000,9,-999.0000,9, -999.00,9, -999.00,9,  -999.0,9,  -999.0,-999.000,9,-999.000,-999.000,9,  -9.0000,-999.0000,   2.0063,   -9.00
  316N145_7,       I08N,     290,          1,         10,         10,2,19950312,       1002,     3.6678,    80.0005,       4345,  2629.8,   1.9993,  34.7438,2,  34.7429,3,    147.6,2,   147.0,2,  132.66,2,   34.97,2,    0.00,2,    2.50,2,   0.001,2,   0.001,2,  2317.0,2,  2415.9,2,  -9.0000,9,-999.0000,9, -999.00,9, -999.00,9,  -999.0,9,  -999.0,-999.000,9,-999.000,-999.000,9,  -9.0000,-999.0000,   1.8067,   -9.00
  316N145_7,       I08N,     290,          1,          9,          9,2,19950312,       1002,     3.6678,    80.0005,       4345,  2830.7,   1.8080,  34.7360,2,  34.7331,3,    150.4,2,   150.9,2,  136.72,2,   34.87,2,    0.00,2,    2.48,2,-999.000,9,-999.000,9,  2320.0,2,  2417.0,2,  -9.0000,9,-999.0000,9, -999.00,9, -999.00,9,  -999.0,9,  -999.0,-999.000,9,-999.000,-999.000,9,  -9.0000,-999.0000,   1.6004,   -9.00
  316N145_7,       I08N,     290,          1,          8,          8,2,19950312,       1002,     3.6678,    80.0005,       4345,  3032.8,   1.6617,  34.7304,2,  34.7300,3,    152.6,2,   151.7,2,  141.46,2,   35.02,2,    0.00,2,    2.48,2,   0.002,2,   0.002,2,  2327.6,2,  2430.2,2,  -9.0000,9,-999.0000,9, -999.00,9, -999.00,9,  -999.0,9,  -999.0,-999.000,9,-999.000,-999.000,9,  -9.0000,-999.0000,   1.4379,   -9.00
  316N145_7,       I08N,     290,          1,          7,          7,2,19950312,       1002,     3.6678,    80.0005,       4345,  3237.3,   1.5715,  34.7274,2,  34.7248,3,    155.6,2,   155.5,2,  142.52,2,   34.83,2,    0.00,2,    2.46,2,-999.000,9,-999.000,9,  2325.0,2,  2426.5,2,  -9.0000,9,-999.0000,9, -999.00,9, -999.00,9,  -999.0,9,  -999.0,-999.000,9,-999.000,-999.000,9,  -9.0000,-999.0000,   1.3297,   -9.00
  316N145_7,       I08N,     290,          1,          6,          6,2,19950312,       1002,     3.6678,    80.0005,       4345,  3441.0,   1.4912,  34.7240,2,  34.7250,3,    155.4,2,   155.6,2,  145.55,2,   34.93,2,    0.00,2,    2.47,2,   0.000,2,   0.001,2,  2330.7,2,  2437.5,2,  -9.0000,9,-999.0000,9, -999.00,9, -999.00,9,  -999.0,9,  -999.0,-999.000,9,-999.000,-999.000,9,  -9.0000,-999.0000,   1.2310,   -9.00
  316N145_7,       I08N,     290,          1,          5,          5,2,19950312,       1002,     3.6678,    80.0005,       4345,  3645.5,   1.4313,  34.7215,2,  34.7195,3,    161.1,2,   160.0,2,  145.09,2,   34.74,2,    0.00,2,    2.45,2,-999.000,9,-999.000,9,  2327.2,2,  2432.3,2,  -9.0000,9,-999.0000,9, -999.00,9, -999.00,9,  -999.0,9,  -999.0,-999.000,9,-999.000,-999.000,9,  -9.0000,-999.0000,   1.1517,   -9.00
  316N145_7,       I08N,     290,          1,          4,          4,2,19950312,       1002,     3.6678,    80.0005,       4345,  3849.2,   1.4178,  34.7209,2,  34.7178,3,    166.0,2,   166.0,2,  141.81,2,   34.46,2,    0.00,2,    2.42,2,  -0.001,2,   0.002,2,  2321.4,2,  2407.3,3,  -9.0000,9,-999.0000,9, -999.00,9, -999.00,9,  -999.0,9,  -999.0,-999.000,9,-999.000,-999.000,9,  -9.0000,-999.0000,   1.1172,   -9.00
  316N145_7,       I08N,     290,          1,          3,          3,2,19950312,       1002,     3.6678,    80.0005,       4345,  4054.5,   1.4213,  34.7202,2,  34.7172,3,    168.9,2,   168.8,2,  140.49,2,   34.32,2,    0.00,2,    2.42,2,-999.000,9,-999.000,9,  2316.6,2,  2427.5,2,  -9.0000,9,-999.0000,9, -999.00,9, -999.00,9,  -999.0,9,  -999.0,-999.000,9,-999.000,-999.000,9,  -9.0000,-999.0000,   1.0985,   -9.00
  316N145_7,       I08N,     290,          1,          2,          2,2,19950312,       1002,     3.6678,    80.0005,       4345,  4259.2,   1.4171,  34.7196,2,  34.7176,3,    170.9,2,   171.4,2,  140.04,2,   34.23,2,    0.00,2,    2.38,2,  -0.006,2,   0.000,2,  2317.8,2,  2432.8,2,  -9.0000,9,-999.0000,9, -999.00,9, -999.00,9,  -999.0,9,  -999.0,-999.000,9,-999.000,-999.000,9,  -9.0000,-999.0000,   1.0718,   -9.00
  316N145_7,       I08N,     290,          1,          1,          1,2,19950312,       1002,     3.6678,    80.0005,       4345,  4413.1,   1.4113,  34.7188,2,  34.7160,3,    173.9,2,   174.6,2,  138.08,2,   33.94,2,    0.00,2,    2.37,2,   0.001,2,   0.003,2,  2312.3,2,  2408.6,3,  -9.0000,9,-999.0000,9, -999.00,9, -999.00,9,  -999.0,9,  -999.0,-999.000,9,-999.000,-999.000,9,  -9.0000,-999.0000,   1.0488,   -9.00