BOTTLE,20211124CCHSIORKP
EXPOCODE,SECT_ID,STNNBR,CASTNO,SAMPNO,BTLNBR,BTLNBR_FLAG_W,DATE,TIME,LATITUDE,LONGITUDE,DEPTH,CTDPRS,CTDTMP,CTDSAL,CTDSAL_FLAG_W,SALNTY,SALNTY_FLAG_W,CTDOXY,CTDOXY_FLAG_W,OXYGEN,OXYGEN_FLAG_W,SILCAT,SILCAT_FLAG_W,NITRAT,NITRAT_FLAG_W,NITRIT,NITRIT_FLAG_W,PHSPHT,PHSPHT_FLAG_W,CFC-11,CFC-11_FLAG_W,CFC-12,CFC-12_FLAG_W,TCARBN,TCARBN_FLAG_W,ALKALI,ALKALI_FLAG_W,TRITUM,TRITUM_FLAG_W,HELIUM,HELIUM_FLAG_W,DELHE3,DELHE3_FLAG_W,DELC13,DELC13_FLAG_W,DELC14,DELC14_FLAG_W,C14ERR,NEON,NEON_FLAG_W,NEONER,CCL4,CCL4_FLAG_W,TRITER,HELIER,THETA,DELHER
,,,,,,,,,,,METERS,DBAR,ITS-90,PSS-78,,PSS-78,,UMOL/KG,,UMOL/KG,,UMOL/KG,,UMOL/KG,,UMOL/KG,,UMOL/KG,,PMOL/KG,,PMOL/KG,,UMOL/KG,,UMOL/KG,,TU,,NMOL/KG,,PERCNT,,/MILLE,,/MILLE,,/MILLE,NMOL/KG,,NMOL/KG,PMOL/KG,,TU,NMOL/KG,DEG C,PERCNT
  316N145_7,      TRANS,     365,          1,         36,         36,2,19950329,       1300,   -27.0167,    86.7835,       3525,     3.1,  24.8968,  35.7910,2,  35.7904,2,    207.9,2,   208.9,2,    2.87,2,    0.25,2,    0.00,2,    0.10,2,-999.000,9,-999.000,9,  2000.4,2,  2344.5,2,  -9.0000,9,-999.0000,9, -999.00,9, -999.00,9,  -999.0,9,  -999.0,-999.000,9,-999.000,-999.000,9,  -9.0000,-999.0000,  24.8961,   -9.00
  316N145_7,      TRANS,     365,          1,         35,         35,2,19950329,       1300,   -27.0167,    86.7835,       3525,    39.7,  24.2813,  35.9508,2,  35.9536,2,    209.5,2,   213.6,2,    2.86,2,    0.25,2,    0.00,2,    0.10,2,-999.000,9,-999.000,9,  -999.0,9,  -999.0,9,  -9.0000,9,-999.0000,9, -999.00,9, -999.00,9,  -999.0,9,  -999.0,-999.000,9,-999.000,-999.000,9,  -9.0000,-999.0000,  24.2729,   -9.00
  316N145_7,      TRANS,     365,          1,         34,         34,2,19950329,       1300,   -27.0167,    86.7835,       3525,    76.1,  20.1788,  35.8475,2,  35.8443,2,    241.2,2,   236.0,2,    2.85,2,    0.25,2,    0.00,2,    0.12,2,-999.000,9,-999.000,9,  -999.0,9,  -999.0,9,  -9.0000,9,-999.0000,9, -999.00,9, -999.00,9,  -999.0,9,  -999.0,-999.000,9,-999.000,-999.000,9,  -9.0000,-999.0000,  20.1646,   -9.00
  316N145_7,      TRANS,     365,          1,         33,         33,2,19950329,       1300,   -27.0167,    86.7835,       3525,   115.4,  18.7170,  35.8437,2,  35.8522,2,    233.1,2,   224.0,2,    2.62,2,    0.24,2,    0.01,2,    0.18,2,-999.000,9,-999.000,9,  -999.0,9,  -999.0,9,  -9.0000,9,-999.0000,9, -999.00,9, -999.00,9,  -999.0,9,  -999.0,-999.000,9,-999.000,-999.000,9,  -9.0000,-999.0000,  18.6966,   -9.00
  316N145_7,      TRANS,     365,          1,         32,         32,2,19950329,       1300,   -27.0167,    86.7835,       3525,   156.0,  17.1318,  35.7826,2,  35.7685,2,    219.8,2,   216.9,2,    2.40,2,    1.69,2,    0.03,2,    0.29,2,-999.000,9,-999.000,9,  -999.0,9,  -999.0,9,  -9.0000,9,-999.0000,9, -999.00,9, -999.00,9,  -999.0,9,  -999.0,-999.000,9,-999.000,-999.000,9,  -9.0000,-999.0000,  17.1058,   -9.00
  316N145_7,      TRANS,     365,          1,         31,         31,2,19950329,       1300,   -27.0167,    86.7835,       3525,   205.8,  15.6310,  35.6103,2,  35.5989,2,    218.6,2,   217.7,2,    2.60,2,    3.47,2,    0.01,2,    0.40,2,-999.000,9,-999.000,9,  -999.0,9,  -999.0,9,  -9.0000,9,-999.0000,9, -999.00,9, -999.00,9,  -999.0,9,  -999.0,-999.000,9,-999.000,-999.000,9,  -9.0000,-999.0000,  15.5988,   -9.00
  316N145_7,      TRANS,     365,          1,         30,         30,2,19950329,       1300,   -27.0167,    86.7835,       3525,   256.5,  14.3221,  35.4427,2,  35.4234,2,    222.6,2,   222.7,2,    2.79,2,    5.54,2,    0.00,2,    0.52,2,-999.000,9,-999.000,9,  -999.0,9,  -999.0,9,  -9.0000,9,-999.0000,9, -999.00,9, -999.00,9,  -999.0,9,  -999.0,-999.000,9,-999.000,-999.000,9,  -9.0000,-999.0000,  14.2843,   -9.00
  316N145_7,      TRANS,     365,          1,         29,         29,2,19950329,       1300,   -27.0167,    86.7835,       3525,   307.2,  13.1471,  35.2569,2,  35.2562,2,    227.5,2,   228.4,2,    3.42,2,    7.75,2,    0.00,2,    0.64,2,-999.000,9,-999.000,9,  -999.0,9,  -999.0,9,  -9.0000,9,-999.0000,9, -999.00,9, -999.00,9,  -999.0,9,  -999.0,-999.000,9,-999.000,-999.000,9,  -9.0000,-999.0000,  13.1042,   -9.00
  316N145_7,      TRANS,     365,          1,         28,         28,2,19950329,       1300,   -27.0167,    86.7835,       3525,   356.8,  12.5979,  35.1896,2,  35.0837,4,    228.6,2,   230.4,2,    3.41,2,    8.63,2,    0.00,2,    0.69,2,-999.000,9,-999.000,9,  -999.0,9,  -999.0,9,  -9.0000,9,-999.0000,9, -999.00,9, -999.00,9,  -999.0,9,  -999.0,-999.000,9,-999.000,-999.000,9,  -9.0000,-999.0000,  12.5494,   -9.00
  316N145_7,      TRANS,     365,          1,         27,         27,2,19950329,       1300,   -27.0167,    86.7835,       3525,   406.9,  11.8693,  35.0799,2,  35.0829,2,    231.6,2,   234.7,2,    3.61,2,   10.00,2,    0.00,2,    0.77,2,-999.000,9,-999.000,9,  -999.0,9,  -999.0,9,  -9.0000,9,-999.0000,9, -999.00,9, -999.00,9,  -999.0,9,  -999.0,-999.000,9,-999.000,-999.000,9,  -9.0000,-999.0000,  11.8160,   -9.00
  316N145_7,      TRANS,     365,          1,         26,         26,2,19950329,       1300,   -27.0167,    86.7835,       3525,   456.7,  11.4265,  35.0095,2,  35.0142,2,    234.8,2,   237.1,2,    3.81,2,   10.84,2,    0.00,2,    0.82,2,-999.000,9,-999.000,9,  -999.0,9,  -999.0,9,  -9.0000,9,-999.0000,9, -999.00,9, -999.00,9,  -999.0,9,  -999.0,-999.000,9,-999.000,-999.000,9,  -9.0000,-999.0000,  11.3681,   -9.00
  316N145_7,      TRANS,     365,          1,         25,         25,2,19950329,       1300,   -27.0167,    86.7835,       3525,   506.7,  10.8711,  34.9249,2,  34.9292,2,    236.6,2,   238.2,2,    4.01,2,   12.11,2,    0.00,2,    0.89,2,-999.000,9,-999.000,9,  -999.0,9,  -999.0,9,  -9.0000,9,-999.0000,9, -999.00,9, -999.00,9,  -999.0,9,  -999.0,-999.000,9,-999.000,-999.000,9,  -9.0000,-999.0000,  10.8082,   -9.00
  316N145_7,      TRANS,     365,          1,         24,         24,2,19950329,       1300,   -27.0167,    86.7835,       3525,   582.4,  10.1088,  34.8043,2,  34.8085,2,    238.2,2,   237.6,2,    4.63,2,   14.22,2,    0.00,2,    1.02,2,-999.000,9,-999.000,9,  -999.0,9,  -999.0,9,  -9.0000,9,-999.0000,9, -999.00,9, -999.00,9,  -999.0,9,  -999.0,-999.000,9,-999.000,-999.000,9,  -9.0000,-999.0000,  10.0396,   -9.00
  316N145_7,      TRANS,     365,          1,         23,         23,2,19950329,       1300,   -27.0167,    86.7835,       3525,   656.4,   9.4440,  34.7092,2,  34.7094,2,    231.1,2,   232.1,2,    5.68,2,   16.63,2,    0.00,2,    1.16,2,-999.000,9,-999.000,9,  -999.0,9,  -999.0,9,  -9.0000,9,-999.0000,9, -999.00,9, -999.00,9,  -999.0,9,  -999.0,-999.000,9,-999.000,-999.000,9,  -9.0000,-999.0000,   9.3690,   -9.00
  316N145_7,      TRANS,     365,          1,         22,         22,2,19950329,       1300,   -27.0167,    86.7835,       3525,   757.6,   8.2501,  34.5804,2,  34.5748,2,    218.4,2,   213.4,2,   10.97,2,   21.60,2,    0.00,2,    1.47,2,-999.000,9,-999.000,9,  -999.0,9,  -999.0,9,  -9.0000,9,-999.0000,9, -999.00,9, -999.00,9,  -999.0,9,  -999.0,-999.000,9,-999.000,-999.000,9,  -9.0000,-999.0000,   8.1697,   -9.00
  316N145_7,      TRANS,     365,          1,         21,         21,2,19950329,       1300,   -27.0167,    86.7835,       3525,   858.3,   6.8193,  34.4931,2,  34.4837,2,    198.8,2,   198.3,2,   20.09,2,   26.09,2,    0.00,2,    1.77,2,-999.000,9,-999.000,9,  -999.0,9,  -999.0,9,  -9.0000,9,-999.0000,9, -999.00,9, -999.00,9,  -999.0,9,  -999.0,-999.000,9,-999.000,-999.000,9,  -9.0000,-999.0000,   6.7370,   -9.00
  316N145_7,      TRANS,     365,          1,         20,         20,2,19950329,       1300,   -27.0167,    86.7835,       3525,   959.7,   5.3571,  34.4253,2,  34.4262,2,    189.5,2,   185.2,2,   34.94,2,   30.24,2,    0.00,2,    2.07,2,-999.000,9,-999.000,9,  -999.0,9,  -999.0,9,  -9.0000,9,-999.0000,9, -999.00,9, -999.00,9,  -999.0,9,  -999.0,-999.000,9,-999.000,-999.000,9,  -9.0000,-999.0000,   5.2750,   -9.00
  316N145_7,      TRANS,     365,          1,         19,         19,2,19950329,       1300,   -27.0167,    86.7835,       3525,  1061.4,   4.3383,  34.4246,2,  34.4268,2,    174.2,2,   176.0,2,   48.31,2,   32.63,2,    0.00,2,    2.25,2,-999.000,9,-999.000,9,  -999.0,9,  -999.0,9,  -9.0000,9,-999.0000,9, -999.00,9, -999.00,9,  -999.0,9,  -999.0,-999.000,9,-999.000,-999.000,9,  -9.0000,-999.0000,   4.2549,   -9.00
  316N145_7,      TRANS,     365,          1,         18,         18,2,19950329,       1300,   -27.0167,    86.7835,       3525,  1161.3,   3.8530,  34.4816,2,  34.4806,2,    165.0,2,   160.8,2,   62.95,2,   34.22,2,    0.00,2,    2.38,2,-999.000,9,-999.000,9,  -999.0,9,  -999.0,9,  -9.0000,9,-999.0000,9, -999.00,9, -999.00,9,  -999.0,9,  -999.0,-999.000,9,-999.000,-999.000,9,  -9.0000,-999.0000,   3.7651,   -9.00
  316N145_7,      TRANS,     365,          1,         17,         17,2,19950329,       1300,   -27.0167,    86.7835,       3525,  1262.4,   3.7099,  34.5393,2,  34.5383,2,    147.9,2,   146.9,2,   74.00,2,   35.01,2,    0.00,2,    2.46,2,-999.000,9,-999.000,9,  -999.0,9,  -999.0,9,  -9.0000,9,-999.0000,9, -999.00,9, -999.00,9,  -999.0,9,  -999.0,-999.000,9,-999.000,-999.000,9,  -9.0000,-999.0000,   3.6146,   -9.00
  316N145_7,      TRANS,     365,          1,         16,         16,2,19950329,       1300,   -27.0167,    86.7835,       3525,  1363.7,   3.4333,  34.5711,2,  34.5697,2,    144.5,2,   147.4,2,   79.09,2,   35.01,2,    0.00,2,    2.46,2,-999.000,9,-999.000,9,  -999.0,9,  -999.0,9,  -9.0000,9,-999.0000,9, -999.00,9, -999.00,9,  -999.0,9,  -999.0,-999.000,9,-999.000,-999.000,9,  -9.0000,-999.0000,   3.3322,   -9.00
  316N145_7,      TRANS,     365,          1,         15,         15,2,19950329,       1300,   -27.0167,    86.7835,       3525,  1463.4,   3.3031,  34.6142,2,  34.6169,2,    142.1,2,   142.9,2,   86.75,2,   35.16,2,    0.00,2,    2.48,2,-999.000,9,-999.000,9,  -999.0,9,  -999.0,9,  -9.0000,9,-999.0000,9, -999.00,9, -999.00,9,  -999.0,9,  -999.0,-999.000,9,-999.000,-999.000,9,  -9.0000,-999.0000,   3.1949,   -9.00
  316N145_7,      TRANS,     365,          1,         14,         14,2,19950329,       1300,   -27.0167,    86.7835,       3525,  1565.0,   3.1035,  34.6408,2,  34.6407,2,    144.3,2,   144.7,2,   90.36,2,   35.00,2,    0.00,2,    2.46,2,-999.000,9,-999.000,9,  -999.0,9,  -999.0,9,  -9.0000,9,-999.0000,9, -999.00,9, -999.00,9,  -999.0,9,  -999.0,-999.000,9,-999.000,-999.000,9,  -9.0000,-999.0000,   2.9888,   -9.00
  316N145_7,      TRANS,     365,          1,         13,         13,2,19950329,       1300,   -27.0167,    86.7835,       3525,  1692.0,   2.9023,  34.6661,2,  34.6666,2,    148.5,2,   149.3,2,   93.98,2,   34.50,2,    0.00,2,    2.43,2,-999.000,9,-999.000,9,  -999.0,9,  -999.0,9,  -9.0000,9,-999.0000,9, -999.00,9, -999.00,9,  -999.0,9,  -999.0,-999.000,9,-999.000,-999.000,9,  -9.0000,-999.0000,   2.7792,   -9.00
  316N145_7,      TRANS,     365,          1,         12,         12,2,19950329,       1300,   -27.0167,    86.7835,       3525,  1818.6,   2.6870,  34.6933,2,  34.6937,2,    153.1,2,   153.0,2,   99.52,2,   34.35,2,    0.00,2,    2.41,2,-999.000,9,-999.000,9,  -999.0,9,  -999.0,9,  -9.0000,9,-999.0000,9, -999.00,9, -999.00,9,  -999.0,9,  -999.0,-999.000,9,-999.000,-999.000,9,  -9.0000,-999.0000,   2.5558,   -9.00
  316N145_7,      TRANS,     365,          1,         11,         11,2,19950329,       1300,   -27.0167,    86.7835,       3525,  1970.6,   2.4888,  34.7098,2,  34.7106,2,    157.7,2,   157.4,2,  103.37,2,   34.05,2,    0.00,2,    2.38,2,-999.000,9,-999.000,9,  -999.0,9,  -999.0,9,  -9.0000,9,-999.0000,9, -999.00,9, -999.00,9,  -999.0,9,  -999.0,-999.000,9,-999.000,-999.000,9,  -9.0000,-999.0000,   2.3473,   -9.00
  316N145_7,      TRANS,     365,          1,         10,         10,2,19950329,       1300,   -27.0167,    86.7835,       3525,  2122.5,   2.3044,  34.7177,2,  34.7179,2,    162.9,2,   164.1,2,  106.35,2,   33.75,2,    0.00,2,    2.36,2,-999.000,9,-999.000,9,  -999.0,9,  -999.0,9,  -9.0000,9,-999.0000,9, -999.00,9, -999.00,9,  -999.0,9,  -999.0,-999.000,9,-999.000,-999.000,9,  -9.0000,-999.0000,   2.1524,   -9.00
  316N145_7,      TRANS,     365,          1,          9,          9,2,19950329,       1300,   -27.0167,    86.7835,       3525,  2274.7,   2.1669,  34.7217,2,  34.7220,2,    167.5,2,   166.8,2,  107.84,2,   33.55,2,    0.00,2,    2.34,2,-999.000,9,-999.000,9,  -999.0,9,  -999.0,9,  -9.0000,9,-999.0000,9, -999.00,9, -999.00,9,  -999.0,9,  -999.0,-999.000,9,-999.000,-999.000,9,  -9.0000,-999.0000,   2.0036,   -9.00
  316N145_7,      TRANS,     365,          1,          8,          8,2,19950329,       1300,   -27.0167,    86.7835,       3525,  2426.8,   2.0215,  34.7243,2,  34.7250,2,    173.3,2,   173.4,2,  108.03,2,   33.10,2,    0.00,2,    2.30,2,-999.000,9,-999.000,9,  -999.0,9,  -999.0,9,  -9.0000,9,-999.0000,9, -999.00,9, -999.00,9,  -999.0,9,  -999.0,-999.000,9,-999.000,-999.000,9,  -9.0000,-999.0000,   1.8472,   -9.00
  316N145_7,      TRANS,     365,          1,          7,          7,2,19950329,       1300,   -27.0167,    86.7835,       3525,  2579.0,   1.9096,  34.7267,2,  34.7287,2,    179.1,2,   178.6,2,  107.58,2,   32.75,2,    0.00,2,    2.27,2,-999.000,9,-999.000,9,  -999.0,9,  -999.0,9,  -9.0000,9,-999.0000,9, -999.00,9, -999.00,9,  -999.0,9,  -999.0,-999.000,9,-999.000,-999.000,9,  -9.0000,-999.0000,   1.7235,   -9.00
  316N145_7,      TRANS,     365,          1,          6,          6,2,19950329,       1300,   -27.0167,    86.7835,       3525,  2731.3,   1.8164,  34.7301,2,  34.7307,2,    184.6,2,   184.2,2,  106.91,2,   32.40,2,    0.00,2,    2.24,2,-999.000,9,-999.000,9,  -999.0,9,  -999.0,9,  -9.0000,9,-999.0000,9, -999.00,9, -999.00,9,  -999.0,9,  -999.0,-999.000,9,-999.000,-999.000,9,  -9.0000,-999.0000,   1.6180,   -9.00
  316N145_7,      TRANS,     365,          1,          5,          5,2,19950329,       1300,   -27.0167,    86.7835,       3525,  2883.7,   1.7198,  34.7313,2,  34.7317,2,    188.0,2,   188.3,2,  107.96,2,   32.20,2,    0.00,2,    2.22,2,-999.000,9,-999.000,9,  -999.0,9,  -999.0,9,  -9.0000,9,-999.0000,9, -999.00,9, -999.00,9,  -999.0,9,  -999.0,-999.000,9,-999.000,-999.000,9,  -9.0000,-999.0000,   1.5090,   -9.00
  316N145_7,      TRANS,     365,          1,          4,          4,2,19950329,       1300,   -27.0167,    86.7835,       3525,  3035.9,   1.6078,  34.7299,2,  34.7307,2,    187.7,2,   187.6,2,  112.25,2,   32.35,2,    0.00,2,    2.24,2,-999.000,9,-999.000,9,  -999.0,9,  -999.0,9,  -9.0000,9,-999.0000,9, -999.00,9, -999.00,9,  -999.0,9,  -999.0,-999.000,9,-999.000,-999.000,9,  -9.0000,-999.0000,   1.3850,   -9.00
  316N145_7,      TRANS,     365,          1,          3,          3,2,19950329,       1300,   -27.0167,    86.7835,       3525,  3240.5,   1.5073,  34.7276,2,  34.7278,2,    188.2,2,   188.5,2,  115.90,2,   32.55,2,    0.00,2,    2.24,2,-999.000,9,-999.000,9,  -999.0,9,  -999.0,9,  -9.0000,9,-999.0000,9, -999.00,9, -999.00,9,  -999.0,9,  -999.0,-999.000,9,-999.000,-999.000,9,  -9.0000,-999.0000,   1.2668,   -9.00
  316N145_7,      TRANS,     365,          1,          2,          2,2,19950329,       1300,   -27.0167,    86.7835,       3525,  3443.6,   1.3912,  34.7229,2,  34.7233,2,    187.8,2,   188.0,2,  121.95,2,   32.99,2,    0.00,2,    2.27,2,-999.000,9,-999.000,9,  -999.0,9,  -999.0,9,  -9.0000,9,-999.0000,9, -999.00,9, -999.00,9,  -999.0,9,  -999.0,-999.000,9,-999.000,-999.000,9,  -9.0000,-999.0000,   1.1333,   -9.00
  316N145_7,      TRANS,     365,          1,          1,          1,2,19950329,       1300,   -27.0167,    86.7835,       3525,  3581.3,   1.3598,  34.7212,2,  34.7219,2,    187.7,2,   187.2,2,  124.76,2,   33.14,2,    0.00,2,    2.28,2,-999.000,9,-999.000,9,  -999.0,9,  -999.0,9,  -9.0000,9,-999.0000,9, -999.00,9, -999.00,9,  -999.0,9,  -999.0,-999.000,9,-999.000,-999.000,9,  -9.0000,-999.0000,   1.0887,   -9.00