BOTTLE,20211124CCHSIORKP
EXPOCODE,SECT_ID,STNNBR,CASTNO,SAMPNO,BTLNBR,BTLNBR_FLAG_W,DATE,TIME,LATITUDE,LONGITUDE,DEPTH,CTDPRS,CTDTMP,CTDSAL,CTDSAL_FLAG_W,SALNTY,SALNTY_FLAG_W,CTDOXY,CTDOXY_FLAG_W,OXYGEN,OXYGEN_FLAG_W,SILCAT,SILCAT_FLAG_W,NITRAT,NITRAT_FLAG_W,NITRIT,NITRIT_FLAG_W,PHSPHT,PHSPHT_FLAG_W,CFC-11,CFC-11_FLAG_W,CFC-12,CFC-12_FLAG_W,TCARBN,TCARBN_FLAG_W,ALKALI,ALKALI_FLAG_W,TRITUM,TRITUM_FLAG_W,HELIUM,HELIUM_FLAG_W,DELHE3,DELHE3_FLAG_W,DELC13,DELC13_FLAG_W,DELC14,DELC14_FLAG_W,C14ERR,NEON,NEON_FLAG_W,NEONER,CCL4,CCL4_FLAG_W,TRITER,HELIER,THETA,DELHER
,,,,,,,,,,,METERS,DBAR,ITS-90,PSS-78,,PSS-78,,UMOL/KG,,UMOL/KG,,UMOL/KG,,UMOL/KG,,UMOL/KG,,UMOL/KG,,PMOL/KG,,PMOL/KG,,UMOL/KG,,UMOL/KG,,TU,,NMOL/KG,,PERCNT,,/MILLE,,/MILLE,,/MILLE,NMOL/KG,,NMOL/KG,PMOL/KG,,TU,NMOL/KG,DEG C,PERCNT
  316N145_7,       I08N,     297,          1,         36,         36,2,19950313,       2048,     1.3335,    79.9998,       4546,     2.4,  29.5151,  34.4957,2,  34.4958,2,    193.2,2,   195.8,2,    2.89,2,    0.05,2,    0.00,2,    0.11,2,-999.000,9,-999.000,9,  1921.3,2,  2263.0,2,  -9.0000,9,-999.0000,9, -999.00,9, -999.00,9,  -999.0,9,  -999.0,-999.000,9,-999.000,-999.000,9,  -9.0000,-999.0000,  29.5146,   -9.00
  316N145_7,       I08N,     297,          1,         35,         35,2,19950313,       2048,     1.3335,    79.9998,       4546,    30.5,  29.3779,  34.4660,2,  34.4648,2,    194.9,2,   196.7,2,    2.66,2,    0.05,2,    0.00,2,    0.11,2,-999.000,9,-999.000,9,  1901.6,2,  2252.9,2,  -9.0000,9,-999.0000,9, -999.00,9, -999.00,9,  -999.0,9,  -999.0,-999.000,9,-999.000,-999.000,9,  -9.0000,-999.0000,  29.3704,   -9.00
  316N145_7,       I08N,     297,          1,         34,         34,2,19950313,       2048,     1.3335,    79.9998,       4546,    55.5,  27.0838,  35.3712,2,  35.3634,2,    197.6,2,   191.6,2,    3.86,2,    0.22,2,    0.01,2,    0.28,2,-999.000,9,-999.000,9,  1984.7,2,  2313.6,2,  -9.0000,9,-999.0000,9, -999.00,9, -999.00,9,  -999.0,9,  -999.0,-999.000,9,-999.000,-999.000,9,  -9.0000,-999.0000,  27.0710,   -9.00
  316N145_7,       I08N,     297,          1,         33,         33,2,19950313,       2048,     1.3335,    79.9998,       4546,    80.6,  23.4933,  35.4018,2,  35.3934,2,    137.0,2,   137.2,2,    7.71,2,    9.49,2,    0.51,2,    0.80,2,-999.000,9,-999.000,9,  2062.7,2,  2313.1,2,  -9.0000,9,-999.0000,9, -999.00,9, -999.00,9,  -999.0,9,  -999.0,-999.000,9,-999.000,-999.000,9,  -9.0000,-999.0000,  23.4766,   -9.00
  316N145_7,       I08N,     297,          1,         32,         32,2,19950313,       2048,     1.3335,    79.9998,       4546,   105.5,  20.6551,  35.3671,2,  35.3642,2,    100.1,2,   100.3,2,   11.79,2,   15.82,2,    0.07,2,    1.16,2,-999.000,9,-999.000,9,  2111.3,2,  2314.0,2,  -9.0000,9,-999.0000,9, -999.00,9, -999.00,9,  -999.0,9,  -999.0,-999.000,9,-999.000,-999.000,9,  -9.0000,-999.0000,  20.6352,   -9.00
  316N145_7,       I08N,     297,          1,         31,         31,2,19950313,       2048,     1.3335,    79.9998,       4546,   135.1,  17.5286,  35.2031,2,  35.1999,2,     67.7,2,    67.4,2,   17.92,2,   21.79,2,    0.02,2,    1.57,2,-999.000,9,-999.000,9,  2156.1,2,  2309.4,2,  -9.0000,9,-999.0000,9, -999.00,9, -999.00,9,  -999.0,9,  -999.0,-999.000,9,-999.000,-999.000,9,  -9.0000,-999.0000,  17.5059,   -9.00
  316N145_7,       I08N,     297,          1,         30,         30,2,19950313,       2048,     1.3335,    79.9998,       4546,   165.5,  15.8489,  35.1799,2,  35.1883,2,     61.6,2,    69.4,2,   19.33,2,   22.96,2,    0.01,2,    1.63,2,-999.000,9,-999.000,9,  2171.7,2,  2314.7,2,  -9.0000,9,-999.0000,9, -999.00,9, -999.00,9,  -999.0,9,  -999.0,-999.000,9,-999.000,-999.000,9,  -9.0000,-999.0000,  15.8228,   -9.00
  316N145_7,       I08N,     297,          1,         29,         29,2,19950313,       2048,     1.3335,    79.9998,       4546,   195.3,  14.8349,  35.1800,2,  35.1867,2,     78.4,2,    79.1,2,   19.10,2,   22.64,2,    0.00,2,    1.61,2,-999.000,9,-999.000,9,  2172.2,2,  2314.5,2,  -9.0000,9,-999.0000,9, -999.00,9, -999.00,9,  -999.0,9,  -999.0,-999.000,9,-999.000,-999.000,9,  -9.0000,-999.0000,  14.8055,   -9.00
  316N145_7,       I08N,     297,          1,         28,         28,2,19950313,       2048,     1.3335,    79.9998,       4546,   241.4,  13.3276,  35.1268,2,  35.1282,2,     79.4,2,    80.9,2,   21.54,2,   24.45,2,    0.00,2,    1.71,2,-999.000,9,-999.000,9,  2192.2,2,  2316.0,2,  -9.0000,9,-999.0000,9, -999.00,9, -999.00,9,  -999.0,9,  -999.0,-999.000,9,-999.000,-999.000,9,  -9.0000,-999.0000,  13.2937,   -9.00
  316N145_7,       I08N,     297,          1,         27,         27,2,19950313,       2048,     1.3335,    79.9998,       4546,   296.4,  12.1660,  35.0849,2,  35.0853,2,     60.2,2,    61.1,2,   26.84,2,   28.17,2,    0.00,2,    1.98,2,-999.000,9,-999.000,9,  2211.9,2,  2317.6,2,  -9.0000,9,-999.0000,9, -999.00,9, -999.00,9,  -999.0,9,  -999.0,-999.000,9,-999.000,-999.000,9,  -9.0000,-999.0000,  12.1268,   -9.00
  316N145_7,       I08N,     297,          1,         26,         26,2,19950313,       2048,     1.3335,    79.9998,       4546,   356.9,  11.1644,  35.0490,2,  35.0479,2,     64.1,2,    75.7,2,   28.25,2,   28.22,2,    0.00,2,    1.98,2,-999.000,9,-999.000,9,  2209.7,2,  2317.8,2,  -9.0000,9,-999.0000,9, -999.00,9, -999.00,9,  -999.0,9,  -999.0,-999.000,9,-999.000,-999.000,9,  -9.0000,-999.0000,  11.1197,   -9.00
  316N145_7,       I08N,     297,          1,         25,         25,2,19950313,       2048,     1.3335,    79.9998,       4546,   396.6,  10.5845,  35.0349,2,  35.0325,2,     75.0,2,    73.6,2,   31.92,2,   29.43,2,    0.00,2,    2.07,2,-999.000,9,-999.000,9,  2216.2,2,  2323.8,2,  -9.0000,9,-999.0000,9, -999.00,9, -999.00,9,  -999.0,9,  -999.0,-999.000,9,-999.000,-999.000,9,  -9.0000,-999.0000,  10.5363,   -9.00
  316N145_7,       I08N,     297,          1,         24,         24,2,19950313,       2048,     1.3335,    79.9998,       4546,   472.2,  10.0223,  35.0701,2,  35.0627,2,     38.7,2,    33.8,2,   45.84,2,   34.11,2,    0.00,2,    2.49,2,-999.000,9,-999.000,9,  2256.6,2,  2328.6,2,  -9.0000,9,-999.0000,9, -999.00,9, -999.00,9,  -999.0,9,  -999.0,-999.000,9,-999.000,-999.000,9,  -9.0000,-999.0000,   9.9666,   -9.00
  316N145_7,       I08N,     297,          1,         23,         23,2,19950313,       2048,     1.3335,    79.9998,       4546,   542.7,   8.9607,  35.0051,2,  35.0046,2,     44.4,2,    48.0,2,   53.20,2,   34.49,2,    0.00,2,    2.53,2,-999.000,9,-999.000,9,  2262.0,2,  2337.6,2,  -9.0000,9,-999.0000,9, -999.00,9, -999.00,9,  -999.0,9,  -999.0,-999.000,9,-999.000,-999.000,9,  -9.0000,-999.0000,   8.9007,   -9.00
  316N145_7,       I08N,     297,          1,         22,         22,2,19950313,       2048,     1.3335,    79.9998,       4546,   647.3,   8.7080,  35.0020,2,  35.0011,2,     46.8,2,    46.1,2,   57.07,2,   34.96,2,    0.00,2,    2.58,2,-999.000,9,-999.000,9,  2267.9,2,  2335.5,2,  -9.0000,9,-999.0000,9, -999.00,9, -999.00,9,  -999.0,9,  -999.0,-999.000,9,-999.000,-999.000,9,  -9.0000,-999.0000,   8.6372,   -9.00
  316N145_7,       I08N,     297,          1,         21,         21,2,19950313,       2048,     1.3335,    79.9998,       4546,   748.1,   8.2869,  35.0023,2,  34.9991,2,     44.9,2,    44.0,2,   63.81,2,   35.76,2,    0.00,2,    2.66,2,-999.000,9,-999.000,9,  2278.6,2,  2348.9,2,  -9.0000,9,-999.0000,9, -999.00,9, -999.00,9,  -999.0,9,  -999.0,-999.000,9,-999.000,-999.000,9,  -9.0000,-999.0000,   8.2069,   -9.00
  316N145_7,       I08N,     297,          1,         20,         20,2,19950313,       2048,     1.3335,    79.9998,       4546,   859.0,   7.6121,  34.9846,2,  34.9834,2,     42.9,2,    43.0,2,   73.65,2,   36.70,2,    0.00,2,    2.75,2,-999.000,9,-999.000,9,  2291.0,2,  2358.0,2,  -9.0000,9,-999.0000,9, -999.00,9, -999.00,9,  -999.0,9,  -999.0,-999.000,9,-999.000,-999.000,9,  -9.0000,-999.0000,   7.5240,   -9.00
  316N145_7,       I08N,     297,          1,         19,         19,2,19950313,       2048,     1.3335,    79.9998,       4546,   990.4,   7.0237,  34.9577,2,  34.9576,2,     49.1,2,    48.9,2,   80.42,2,   37.03,2,    0.00,2,    2.77,2,-999.000,9,-999.000,9,  2298.0,2,  2363.5,2,  -9.0000,9,-999.0000,9, -999.00,9, -999.00,9,  -999.0,9,  -999.0,-999.000,9,-999.000,-999.000,9,  -9.0000,-999.0000,   6.9255,   -9.00
  316N145_7,       I08N,     297,          1,         18,         18,2,19950313,       2048,     1.3335,    79.9998,       4546,  1191.7,   5.8257,  34.9012,2,  34.9007,2,     62.6,2,    63.8,2,   93.41,2,   37.22,2,    0.00,2,    2.78,2,-999.000,9,-999.000,9,  2315.4,2,  2381.3,2,  -9.0000,9,-999.0000,9, -999.00,9, -999.00,9,  -999.0,9,  -999.0,-999.000,9,-999.000,-999.000,9,  -9.0000,-999.0000,   5.7166,   -9.00
  316N145_7,       I08N,     297,          1,         17,         17,2,19950313,       2048,     1.3335,    79.9998,       4546,  1394.2,   5.0576,  34.8750,2,  34.8740,2,     73.7,2,    75.5,2,  102.09,2,   37.13,2,    0.00,2,    2.76,2,-999.000,9,-999.000,9,  2309.3,2,  -999.0,5,  -9.0000,9,-999.0000,9, -999.00,9, -999.00,9,  -999.0,9,  -999.0,-999.000,9,-999.000,-999.000,9,  -9.0000,-999.0000,   4.9361,   -9.00
  316N145_7,       I08N,     297,          1,         16,         16,2,19950313,       2048,     1.3335,    79.9998,       4546,  1594.8,   4.1054,  34.8312,2,  34.8315,2,     94.2,2,    94.7,2,  109.77,2,   36.61,2,    0.00,2,    2.70,2,-999.000,9,-999.000,9,  2311.9,2,  2392.4,2,  -9.0000,9,-999.0000,9, -999.00,9, -999.00,9,  -999.0,9,  -999.0,-999.000,9,-999.000,-999.000,9,  -9.0000,-999.0000,   3.9756,   -9.00
  316N145_7,       I08N,     297,          1,         15,         15,2,19950313,       2048,     1.3335,    79.9998,       4546,  1797.0,   3.5789,  34.8130,2,  34.8128,2,    106.7,2,   107.2,2,  115.61,2,   36.28,2,    0.00,2,    2.66,2,-999.000,9,-999.000,9,  2310.2,2,  2418.1,3,  -9.0000,9,-999.0000,9, -999.00,9, -999.00,9,  -999.0,9,  -999.0,-999.000,9,-999.000,-999.000,9,  -9.0000,-999.0000,   3.4371,   -9.00
  316N145_7,       I08N,     297,          1,         14,         14,2,19950313,       2048,     1.3335,    79.9998,       4546,  2018.7,   2.7032,  34.7757,2,  34.7751,2,    128.0,2,   128.6,2,  124.21,2,   35.57,2,    0.00,2,    2.58,2,-999.000,9,-999.000,9,  2311.3,2,  2417.6,2,  -9.0000,9,-999.0000,9, -999.00,9, -999.00,9,  -999.0,9,  -999.0,-999.000,9,-999.000,-999.000,9,  -9.0000,-999.0000,   2.5540,   -9.00
  316N145_7,       I08N,     297,          1,         13,         13,2,19950313,       2048,     1.3335,    79.9998,       4546,  2247.9,   2.3177,  34.7582,2,  34.7578,2,    139.0,2,   139.7,2,  127.99,2,   35.14,2,    0.00,2,    2.52,2,-999.000,9,-999.000,9,  2310.5,2,  2421.8,2,  -9.0000,9,-999.0000,9, -999.00,9, -999.00,9,  -999.0,9,  -999.0,-999.000,9,-999.000,-999.000,9,  -9.0000,-999.0000,   2.1542,   -9.00
  316N145_7,       I08N,     297,          1,         12,         12,2,19950313,       2048,     1.3335,    79.9998,       4546,  2578.8,   1.9765,  34.7425,2,  34.7431,2,    150.9,2,   150.3,2,  130.93,2,   34.77,2,    0.00,2,    2.47,2,-999.000,9,-999.000,9,  2307.4,2,  2416.3,2,  -9.0000,9,-999.0000,9, -999.00,9, -999.00,9,  -999.0,9,  -999.0,-999.000,9,-999.000,-999.000,9,  -9.0000,-999.0000,   1.7890,   -9.00
  316N145_7,       I08N,     297,          1,         11,         11,2,19950313,       2048,     1.3335,    79.9998,       4546,  2781.6,   1.8339,  34.7360,2,  34.7364,2,    155.7,2,   155.3,2,  132.18,2,   34.58,2,    0.00,2,    2.45,2,-999.000,9,-999.000,9,  2311.3,2,  2424.9,2,  -9.0000,9,-999.0000,9, -999.00,9, -999.00,9,  -999.0,9,  -999.0,-999.000,9,-999.000,-999.000,9,  -9.0000,-999.0000,   1.6304,   -9.00
  316N145_7,       I08N,     297,          1,         10,         10,2,19950313,       2048,     1.3335,    79.9998,       4546,  2883.5,   1.7599,  34.7332,2,  34.7342,2,    157.7,2,   156.8,2,  133.42,2,   34.53,2,    0.00,2,    2.43,2,-999.000,9,-999.000,9,  2310.0,2,  2415.7,2,  -9.0000,9,-999.0000,9, -999.00,9, -999.00,9,  -999.0,9,  -999.0,-999.000,9,-999.000,-999.000,9,  -9.0000,-999.0000,   1.5483,   -9.00
  316N145_7,       I08N,     297,          1,          9,          9,2,19950313,       2048,     1.3335,    79.9998,       4546,  3087.1,   1.6941,  34.7309,2,  34.7319,2,    157.8,2,   156.4,2,  136.81,2,   34.62,2,    0.00,2,    2.43,2,-999.000,9,-999.000,9,  2315.3,2,  2424.4,2,  -9.0000,9,-999.0000,9, -999.00,9, -999.00,9,  -999.0,9,  -999.0,-999.000,9,-999.000,-999.000,9,  -9.0000,-999.0000,   1.4643,   -9.00
  316N145_7,       I08N,     297,          1,          8,          8,2,19950313,       2048,     1.3335,    79.9998,       4546,  3291.5,   1.5739,  34.7267,2,  34.7270,2,    159.3,2,   158.8,2,  139.35,2,   34.67,2,    0.00,2,    2.43,2,-999.000,9,-999.000,9,  2328.2,3,  2428.5,2,  -9.0000,9,-999.0000,9, -999.00,9, -999.00,9,  -999.0,9,  -999.0,-999.000,9,-999.000,-999.000,9,  -9.0000,-999.0000,   1.3267,   -9.00
  316N145_7,       I08N,     297,          1,          7,          7,2,19950313,       2048,     1.3335,    79.9998,       4546,  3494.2,   1.4736,  34.7223,2,  34.7234,2,    161.6,2,   162.8,2,  140.82,2,   34.48,2,    0.00,2,    2.41,2,-999.000,9,-999.000,9,  2316.9,2,  2428.5,2,  -9.0000,9,-999.0000,9, -999.00,9, -999.00,9,  -999.0,9,  -999.0,-999.000,9,-999.000,-999.000,9,  -9.0000,-999.0000,   1.2085,   -9.00
  316N145_7,       I08N,     297,          1,          6,          6,2,19950313,       2048,     1.3335,    79.9998,       4546,  3698.7,   1.4121,  34.7204,2,  34.7209,2,    165.8,2,   167.3,2,  140.34,2,   34.34,2,    0.00,2,    2.39,2,-999.000,9,-999.000,9,  2313.2,2,  2430.2,2,  -9.0000,9,-999.0000,9, -999.00,9, -999.00,9,  -999.0,9,  -999.0,-999.000,9,-999.000,-999.000,9,  -9.0000,-999.0000,   1.1275,   -9.00
  316N145_7,       I08N,     297,          1,          5,          5,2,19950313,       2048,     1.3335,    79.9998,       4546,  3902.0,   1.3892,  34.7190,2,  34.7197,2,    171.0,2,   171.3,2,  138.80,2,   34.11,2,    0.00,2,    2.38,2,-999.000,9,-999.000,9,  2310.3,2,  2427.7,2,  -9.0000,9,-999.0000,9, -999.00,9, -999.00,9,  -999.0,9,  -999.0,-999.000,9,-999.000,-999.000,9,  -9.0000,-999.0000,   1.0837,   -9.00
  316N145_7,       I08N,     297,          1,          4,          4,2,19950313,       2048,     1.3335,    79.9998,       4546,  4055.8,   1.3794,  34.7179,2,  34.7189,2,    174.1,2,   174.6,2,  137.68,2,   33.96,2,    0.00,2,    2.35,2,-999.000,9,-999.000,9,  2306.6,2,  2426.0,2,  -9.0000,9,-999.0000,9, -999.00,9, -999.00,9,  -999.0,9,  -999.0,-999.000,9,-999.000,-999.000,9,  -9.0000,-999.0000,   1.0576,   -9.00
  316N145_7,       I08N,     297,          1,          3,          3,2,19950313,       2048,     1.3335,    79.9998,       4546,  4209.0,   1.3887,  34.7180,2,  34.7189,2,    175.9,2,   175.3,2,  137.00,2,   33.92,2,    0.00,2,    2.35,2,-999.000,9,-999.000,9,  2305.5,2,  2421.3,2,  -9.0000,9,-999.0000,9, -999.00,9, -999.00,9,  -999.0,9,  -999.0,-999.000,9,-999.000,-999.000,9,  -9.0000,-999.0000,   1.0498,   -9.00
  316N145_7,       I08N,     297,          1,          2,          2,2,19950313,       2048,     1.3335,    79.9998,       4546,  4413.1,   1.4027,  34.7180,2,  34.7180,2,    177.1,2,   176.5,2,  135.89,2,   33.77,2,    0.00,2,    2.34,2,-999.000,9,-999.000,9,  2304.3,2,  2420.9,2,  -9.0000,9,-999.0000,9, -999.00,9, -999.00,9,  -999.0,9,  -999.0,-999.000,9,-999.000,-999.000,9,  -9.0000,-999.0000,   1.0405,   -9.00
  316N145_7,       I08N,     297,          1,          1,          1,2,19950313,       2048,     1.3335,    79.9998,       4546,  4625.1,   1.4142,  34.7178,2,  34.7180,2,    177.8,2,   178.2,2,  135.63,2,   33.68,2,    0.00,2,    2.33,2,-999.000,9,-999.000,9,  2303.8,2,  2424.3,2,  -9.0000,9,-999.0000,9, -999.00,9, -999.00,9,  -999.0,9,  -999.0,-999.000,9,-999.000,-999.000,9,  -9.0000,-999.0000,   1.0272,   -9.00