BOTTLE,20211124CCHSIORKP
EXPOCODE,SECT_ID,STNNBR,CASTNO,SAMPNO,BTLNBR,BTLNBR_FLAG_W,DATE,TIME,LATITUDE,LONGITUDE,DEPTH,CTDPRS,CTDTMP,CTDSAL,CTDSAL_FLAG_W,SALNTY,SALNTY_FLAG_W,CTDOXY,CTDOXY_FLAG_W,OXYGEN,OXYGEN_FLAG_W,SILCAT,SILCAT_FLAG_W,NITRAT,NITRAT_FLAG_W,NITRIT,NITRIT_FLAG_W,PHSPHT,PHSPHT_FLAG_W,CFC-11,CFC-11_FLAG_W,CFC-12,CFC-12_FLAG_W,TCARBN,TCARBN_FLAG_W,ALKALI,ALKALI_FLAG_W,TRITUM,TRITUM_FLAG_W,HELIUM,HELIUM_FLAG_W,DELHE3,DELHE3_FLAG_W,DELC13,DELC13_FLAG_W,DELC14,DELC14_FLAG_W,C14ERR,NEON,NEON_FLAG_W,NEONER,CCL4,CCL4_FLAG_W,TRITER,HELIER,THETA,DELHER
,,,,,,,,,,,METERS,DBAR,ITS-90,PSS-78,,PSS-78,,UMOL/KG,,UMOL/KG,,UMOL/KG,,UMOL/KG,,UMOL/KG,,UMOL/KG,,PMOL/KG,,PMOL/KG,,UMOL/KG,,UMOL/KG,,TU,,NMOL/KG,,PERCNT,,/MILLE,,/MILLE,,/MILLE,NMOL/KG,,NMOL/KG,PMOL/KG,,TU,NMOL/KG,DEG C,PERCNT
  316N145_7,       I08N,     304,          1,         36,         36,2,19950315,       0503,    -0.5018,    80.0002,       4689,     2.8,  29.6217,  34.3689,2,  34.3672,3,    193.2,2,   195.3,2,    2.78,2,    0.08,2,    0.00,2,    0.10,2,   1.625,2,   0.923,2,  1902.5,2,  2250.3,2,  -9.0000,9,-999.0000,9, -999.00,9, -999.00,9,  -999.0,9,  -999.0,-999.000,9,-999.000,-999.000,9,  -9.0000,-999.0000,  29.6210,   -9.00
  316N145_7,       I08N,     304,          1,         35,         35,2,19950315,       0503,    -0.5018,    80.0002,       4689,    25.1,  29.1838,  34.3575,2,  34.3729,3,    199.2,2,   196.8,2,    2.76,2,    0.08,2,    0.00,2,    0.11,2,-999.000,9,-999.000,9,  -999.0,9,  -999.0,9,  -9.0000,9,-999.0000,9, -999.00,9, -999.00,9,  -999.0,9,  -999.0,-999.000,9,-999.000,-999.000,9,  -9.0000,-999.0000,  29.1778,   -9.00
  316N145_7,       I08N,     304,          1,         34,         34,2,19950315,       0503,    -0.5018,    80.0002,       4689,    49.5,  23.6503,  35.3638,2,  35.3575,3,    146.8,2,   153.3,2,    7.04,2,    7.51,2,    0.41,2,    0.66,2,   1.670,2,   0.929,2,  -999.0,9,  -999.0,9,  -9.0000,9,-999.0000,9, -999.00,9, -999.00,9,  -999.0,9,  -999.0,-999.000,9,-999.000,-999.000,9,  -9.0000,-999.0000,  23.6400,   -9.00
  316N145_7,       I08N,     304,          1,         33,         33,2,19950315,       0503,    -0.5018,    80.0002,       4689,    89.8,  21.1267,  35.3319,2,  35.3368,3,    112.0,2,   112.5,2,   10.31,2,   14.07,2,    0.09,2,    1.03,2,-999.000,9,-999.000,9,  -999.0,9,  -999.0,9,  -9.0000,9,-999.0000,9, -999.00,9, -999.00,9,  -999.0,9,  -999.0,-999.000,9,-999.000,-999.000,9,  -9.0000,-999.0000,  21.1094,   -9.00
  316N145_7,       I08N,     304,          1,         32,         32,2,19950315,       0503,    -0.5018,    80.0002,       4689,   125.5,  18.9895,  35.2545,2,  35.2487,3,     81.3,2,    79.5,2,   14.81,2,   19.10,2,    0.02,2,    1.36,2,-999.000,9,-999.000,9,  -999.0,9,  -999.0,9,  -9.0000,9,-999.0000,9, -999.00,9, -999.00,9,  -999.0,9,  -999.0,-999.000,9,-999.000,-999.000,9,  -9.0000,-999.0000,  18.9671,   -9.00
  316N145_7,       I08N,     304,          1,         31,         31,2,19950315,       0503,    -0.5018,    80.0002,       4689,   175.5,  15.0504,  35.1881,2,  35.1855,3,     75.1,2,    79.2,2,   18.90,2,   22.43,2,    0.00,2,    1.58,2,-999.000,9,-999.000,9,  -999.0,9,  -999.0,9,  -9.0000,9,-999.0000,9, -999.00,9, -999.00,9,  -999.0,9,  -999.0,-999.000,9,-999.000,-999.000,9,  -9.0000,-999.0000,  15.0237,   -9.00
  316N145_7,       I08N,     304,          1,         30,         30,2,19950315,       0503,    -0.5018,    80.0002,       4689,   236.3,  13.2802,  35.0910,2,  35.0955,3,     69.3,2,    83.9,2,   21.14,2,   24.01,2,    0.00,2,    1.67,2,   0.825,2,   0.419,2,  -999.0,9,  -999.0,9,  -9.0000,9,-999.0000,9, -999.00,9, -999.00,9,  -999.0,9,  -999.0,-999.000,9,-999.000,-999.000,9,  -9.0000,-999.0000,  13.2471,   -9.00
  316N145_7,       I08N,     304,          1,         29,         29,2,19950315,       0503,    -0.5018,    80.0002,       4689,   276.1,  11.9745,  35.0616,2,  35.0598,3,     90.6,2,    89.2,2,   22.77,2,   25.26,2,    0.00,2,    1.75,2,-999.000,9,-999.000,9,  -999.0,9,  -999.0,9,  -9.0000,9,-999.0000,9, -999.00,9, -999.00,9,  -999.0,9,  -999.0,-999.000,9,-999.000,-999.000,9,  -9.0000,-999.0000,  11.9384,   -9.00
  316N145_7,       I08N,     304,          1,         28,         28,2,19950315,       0503,    -0.5018,    80.0002,       4689,   356.9,  11.1385,  35.0270,2,  35.0238,3,     83.3,2,    83.3,2,   26.44,2,   27.39,2,    0.00,2,    1.91,2,   0.492,6,   0.248,6,  -999.0,9,  -999.0,9,  -9.0000,9,-999.0000,9, -999.00,9, -999.00,9,  -999.0,9,  -999.0,-999.000,9,-999.000,-999.000,9,  -9.0000,-999.0000,  11.0938,   -9.00
  316N145_7,       I08N,     304,          1,         27,         27,2,19950315,       0503,    -0.5018,    80.0002,       4689,   436.4,  10.3400,  35.0045,2,  35.0016,3,     74.1,2,    74.7,2,   32.58,2,   29.62,2,    0.00,2,    2.08,2,-999.000,9,-999.000,9,  -999.0,9,  -999.0,9,  -9.0000,9,-999.0000,9, -999.00,9, -999.00,9,  -999.0,9,  -999.0,-999.000,9,-999.000,-999.000,9,  -9.0000,-999.0000,  10.2877,   -9.00
  316N145_7,       I08N,     304,          1,         26,         26,2,19950315,       0503,    -0.5018,    80.0002,       4689,   516.5,   9.6517,  34.9983,2,  34.9961,3,     62.2,2,    64.2,2,   41.38,2,   31.76,2,    0.00,2,    2.30,2,   0.190,2,   0.108,2,  -999.0,9,  -999.0,9,  -9.0000,9,-999.0000,9, -999.00,9, -999.00,9,  -999.0,9,  -999.0,-999.000,9,-999.000,-999.000,9,  -9.0000,-999.0000,   9.5921,   -9.00
  316N145_7,       I08N,     304,          1,         25,         25,2,19950315,       0503,    -0.5018,    80.0002,       4689,   597.1,   9.2418,  35.0054,2,  35.0020,3,     53.9,2,    53.2,2,   48.13,2,   33.44,2,    0.00,2,    2.45,2,-999.000,9,-999.000,9,  -999.0,9,  -999.0,9,  -9.0000,9,-999.0000,9, -999.00,9, -999.00,9,  -999.0,9,  -999.0,-999.000,9,-999.000,-999.000,9,  -9.0000,-999.0000,   9.1744,   -9.00
  316N145_7,       I08N,     304,          1,         24,         24,2,19950315,       0503,    -0.5018,    80.0002,       4689,   687.3,   8.7917,  35.0028,2,  34.9994,3,     47.6,2,    46.1,2,   55.70,2,   34.71,2,    0.00,2,    2.57,2,-999.000,9,-999.000,9,  -999.0,9,  -999.0,9,  -9.0000,9,-999.0000,9, -999.00,9, -999.00,9,  -999.0,9,  -999.0,-999.000,9,-999.000,-999.000,9,  -9.0000,-999.0000,   8.7160,   -9.00
  316N145_7,       I08N,     304,          1,         23,         23,2,19950315,       0503,    -0.5018,    80.0002,       4689,   777.9,   8.2184,  34.9912,2,  34.9884,3,     44.5,2,    43.8,2,   64.31,2,   35.74,2,    0.00,2,    2.67,2,-999.000,9,-999.000,9,  -999.0,9,  -999.0,9,  -9.0000,9,-999.0000,9, -999.00,9, -999.00,9,  -999.0,9,  -999.0,-999.000,9,-999.000,-999.000,9,  -9.0000,-999.0000,   8.1355,   -9.00
  316N145_7,       I08N,     304,          1,         22,         22,2,19950315,       0503,    -0.5018,    80.0002,       4689,   888.5,   7.6751,  34.9756,2,  34.9740,3,     46.8,2,    47.7,2,   71.07,2,   36.17,2,    0.00,2,    2.71,2,   0.015,6,   0.007,6,  -999.0,9,  -999.0,9,  -9.0000,9,-999.0000,9, -999.00,9, -999.00,9,  -999.0,9,  -999.0,-999.000,9,-999.000,-999.000,9,  -9.0000,-999.0000,   7.5834,   -9.00
  316N145_7,       I08N,     304,          1,         21,         21,2,19950315,       0503,    -0.5018,    80.0002,       4689,   980.0,   6.9902,  34.9342,2,  34.9317,3,     53.1,2,    52.4,2,   79.29,2,   36.59,2,    0.00,2,    2.74,2,-999.000,9,-999.000,9,  -999.0,9,  -999.0,9,  -9.0000,9,-999.0000,9, -999.00,9, -999.00,9,  -999.0,9,  -999.0,-999.000,9,-999.000,-999.000,9,  -9.0000,-999.0000,   6.8934,   -9.00
  316N145_7,       I08N,     304,          1,         20,         20,2,19950315,       0503,    -0.5018,    80.0002,       4689,  1070.4,   6.0915,  34.8664,2,  34.8680,3,     62.8,2,    63.7,2,   88.97,2,   36.88,2,    0.00,2,    2.74,2,   0.009,2,   0.005,2,  -999.0,9,  -999.0,9,  -9.0000,9,-999.0000,9, -999.00,9, -999.00,9,  -999.0,9,  -999.0,-999.000,9,-999.000,-999.000,9,  -9.0000,-999.0000,   5.9924,   -9.00
  316N145_7,       I08N,     304,          1,         19,         19,2,19950315,       0503,    -0.5018,    80.0002,       4689,  1139.9,   6.1042,  34.8999,2,  34.8963,3,     58.8,2,    62.4,2,   89.98,2,   37.02,2,    0.00,2,    2.76,2,-999.000,9,-999.000,9,  -999.0,9,  -999.0,9,  -9.0000,9,-999.0000,9, -999.00,9, -999.00,9,  -999.0,9,  -999.0,-999.000,9,-999.000,-999.000,9,  -9.0000,-999.0000,   5.9979,   -9.00
  316N145_7,       I08N,     304,          1,         18,         18,2,19950315,       0503,    -0.5018,    80.0002,       4689,  1309.8,   5.3603,  34.8795,2,  34.8782,3,     70.1,2,    70.6,2,   97.83,2,   37.07,2,    0.00,2,    2.77,2,   0.006,2,   0.003,2,  -999.0,9,  -999.0,9,  -9.0000,9,-999.0000,9, -999.00,9, -999.00,9,  -999.0,9,  -999.0,-999.000,9,-999.000,-999.000,9,  -9.0000,-999.0000,   5.2440,   -9.00
  316N145_7,       I08N,     304,          1,         17,         17,2,19950315,       0503,    -0.5018,    80.0002,       4689,  1509.8,   4.2950,  34.8384,2,  34.8363,3,     89.7,2,    90.0,2,  108.01,2,   36.74,2,    0.00,2,    2.73,2,-999.000,9,-999.000,9,  -999.0,9,  -999.0,9,  -9.0000,9,-999.0000,9, -999.00,9, -999.00,9,  -999.0,9,  -999.0,-999.000,9,-999.000,-999.000,9,  -9.0000,-999.0000,   4.1709,   -9.00
  316N145_7,       I08N,     304,          1,         16,         16,2,19950315,       0503,    -0.5018,    80.0002,       4689,  1711.9,   3.5230,  34.8072,2,  34.8039,3,    107.9,2,   108.1,2,  115.11,2,   36.18,2,    0.00,2,    2.67,2,   0.007,2,   0.001,2,  -999.0,9,  -999.0,9,  -9.0000,9,-999.0000,9, -999.00,9, -999.00,9,  -999.0,9,  -999.0,-999.000,9,-999.000,-999.000,9,  -9.0000,-999.0000,   3.3898,   -9.00
  316N145_7,       I08N,     304,          1,         15,         15,2,19950315,       0503,    -0.5018,    80.0002,       4689,  1916.7,   3.0507,  34.7886,2,  34.7854,3,    118.7,2,   119.5,2,  120.56,2,   35.85,2,    0.00,2,    2.62,2,-999.000,9,-999.000,9,  -999.0,9,  -999.0,9,  -9.0000,9,-999.0000,9, -999.00,9, -999.00,9,  -999.0,9,  -999.0,-999.000,9,-999.000,-999.000,9,  -9.0000,-999.0000,   2.9054,   -9.00
  316N145_7,       I08N,     304,          1,         14,         14,2,19950315,       0503,    -0.5018,    80.0002,       4689,  2119.4,   2.6520,  34.7721,2,  34.7691,3,    129.8,2,   129.2,2,  124.76,2,   35.52,2,    0.00,2,    2.57,2,  -0.001,2,   0.001,2,  -999.0,9,  -999.0,9,  -9.0000,9,-999.0000,9, -999.00,9, -999.00,9,  -999.0,9,  -999.0,-999.000,9,-999.000,-999.000,9,  -9.0000,-999.0000,   2.4946,   -9.00
  316N145_7,       I08N,     304,          1,         13,         13,2,19950315,       0503,    -0.5018,    80.0002,       4689,  2322.1,   2.2812,  34.7555,2,  34.7535,3,    140.9,2,   140.5,2,  128.13,2,   35.15,2,    0.00,2,    2.52,2,-999.000,9,-999.000,9,  -999.0,9,  -999.0,9,  -9.0000,9,-999.0000,9, -999.00,9, -999.00,9,  -999.0,9,  -999.0,-999.000,9,-999.000,-999.000,9,  -9.0000,-999.0000,   2.1116,   -9.00
  316N145_7,       I08N,     304,          1,         12,         12,2,19950315,       0503,    -0.5018,    80.0002,       4689,  2527.0,   2.0845,  34.7466,2,  34.7437,3,    147.9,2,   147.6,2,  129.38,2,   34.82,2,    0.00,2,    2.50,2,   0.001,2,   0.002,2,  -999.0,9,  -999.0,9,  -9.0000,9,-999.0000,9, -999.00,9, -999.00,9,  -999.0,9,  -999.0,-999.000,9,-999.000,-999.000,9,  -9.0000,-999.0000,   1.8998,   -9.00
  316N145_7,       I08N,     304,          1,         11,         11,2,19950315,       0503,    -0.5018,    80.0002,       4689,  2729.8,   1.8812,  34.7386,2,  34.7360,3,    152.8,2,   153.5,2,  131.92,2,   34.64,2,    0.00,2,    2.46,2,-999.000,9,-999.000,9,  -999.0,9,  -999.0,9,  -9.0000,9,-999.0000,9, -999.00,9, -999.00,9,  -999.0,9,  -999.0,-999.000,9,-999.000,-999.000,9,  -9.0000,-999.0000,   1.6816,   -9.00
  316N145_7,       I08N,     304,          1,         10,         10,2,19950315,       0503,    -0.5018,    80.0002,       4689,  2932.6,   1.7596,  34.7337,2,  34.7303,3,    158.1,2,   157.4,2,  132.96,2,   34.45,2,    0.00,2,    2.45,2,   0.002,2,  -0.002,2,  -999.0,9,  -999.0,9,  -9.0000,9,-999.0000,9, -999.00,9, -999.00,9,  -999.0,9,  -999.0,-999.000,9,-999.000,-999.000,9,  -9.0000,-999.0000,   1.5433,   -9.00
  316N145_7,       I08N,     304,          1,          9,          9,2,19950315,       0503,    -0.5018,    80.0002,       4689,  3136.0,   1.6382,  34.7291,2,  34.7270,3,    160.7,2,   160.3,2,  135.50,2,   34.45,2,    0.00,2,    2.43,2,-999.000,9,-999.000,9,  -999.0,9,  -999.0,9,  -9.0000,9,-999.0000,9, -999.00,9, -999.00,9,  -999.0,9,  -999.0,-999.000,9,-999.000,-999.000,9,  -9.0000,-999.0000,   1.4049,   -9.00
  316N145_7,       I08N,     304,          1,          8,          8,2,19950315,       0503,    -0.5018,    80.0002,       4689,  3340.7,   1.5694,  34.7267,2,  34.7237,3,    162.6,2,   162.4,2,  136.98,2,   34.45,2,    0.00,2,    2.43,2,  -0.001,2,   0.001,2,  -999.0,9,  -999.0,9,  -9.0000,9,-999.0000,9, -999.00,9, -999.00,9,  -999.0,9,  -999.0,-999.000,9,-999.000,-999.000,9,  -9.0000,-999.0000,   1.3174,   -9.00
  316N145_7,       I08N,     304,          1,          7,          7,2,19950315,       0503,    -0.5018,    80.0002,       4689,  3546.0,   1.4717,  34.7228,2,  34.7205,3,    165.1,2,   165.6,2,  138.89,2,   34.31,2,    0.00,2,    2.43,2,-999.000,9,-999.000,9,  -999.0,9,  -999.0,9,  -9.0000,9,-999.0000,9, -999.00,9, -999.00,9,  -999.0,9,  -999.0,-999.000,9,-999.000,-999.000,9,  -9.0000,-999.0000,   1.2013,   -9.00
  316N145_7,       I08N,     304,          1,          6,          6,2,19950315,       0503,    -0.5018,    80.0002,       4689,  3748.9,   1.3987,  34.7205,2,  34.7176,3,    169.0,2,   169.6,2,  139.08,2,   34.17,2,    0.00,2,    2.41,2,   0.009,2,   0.002,2,  -999.0,9,  -999.0,9,  -9.0000,9,-999.0000,9, -999.00,9, -999.00,9,  -999.0,9,  -999.0,-999.000,9,-999.000,-999.000,9,  -9.0000,-999.0000,   1.1092,   -9.00
  316N145_7,       I08N,     304,          1,          5,          5,2,19950315,       0503,    -0.5018,    80.0002,       4689,  3952.7,   1.3901,  34.7196,2,  34.7178,3,    172.2,2,   172.3,2,  138.41,2,   34.08,2,    0.00,2,    2.39,2,-999.000,9,-999.000,9,  -999.0,9,  -999.0,9,  -9.0000,9,-999.0000,9, -999.00,9, -999.00,9,  -999.0,9,  -999.0,-999.000,9,-999.000,-999.000,9,  -9.0000,-999.0000,   1.0791,   -9.00
  316N145_7,       I08N,     304,          1,          4,          4,2,19950315,       0503,    -0.5018,    80.0002,       4689,  4157.3,   1.3847,  34.7189,2,  34.7170,3,    174.9,2,   175.3,2,  137.10,2,   33.89,2,    0.00,2,    2.37,2,   0.000,2,   0.000,2,  -999.0,9,  -999.0,9,  -9.0000,9,-999.0000,9, -999.00,9, -999.00,9,  -999.0,9,  -999.0,-999.000,9,-999.000,-999.000,9,  -9.0000,-999.0000,   1.0516,   -9.00
  316N145_7,       I08N,     304,          1,          3,          3,2,19950315,       0503,    -0.5018,    80.0002,       4689,  4362.6,   1.3988,  34.7186,2,  34.7154,3,    175.9,2,   176.9,2,  136.86,2,   33.85,2,    0.00,2,    2.37,2,-999.000,9,-999.000,9,  -999.0,9,  -999.0,9,  -9.0000,9,-999.0000,9, -999.00,9, -999.00,9,  -999.0,9,  -999.0,-999.000,9,-999.000,-999.000,9,  -9.0000,-999.0000,   1.0425,   -9.00
  316N145_7,       I08N,     304,          1,          2,          2,2,19950315,       0503,    -0.5018,    80.0002,       4689,  4567.4,   1.4078,  34.7185,2,  34.7136,3,    177.9,2,   177.7,2,  135.77,2,   33.80,2,    0.00,2,    2.35,2,   0.000,2,   0.000,2,  -999.0,9,  -999.0,9,  -9.0000,9,-999.0000,9, -999.00,9, -999.00,9,  -999.0,9,  -999.0,-999.000,9,-999.000,-999.000,9,  -9.0000,-999.0000,   1.0277,   -9.00
  316N145_7,       I08N,     304,          1,          1,          1,2,19950315,       0503,    -0.5018,    80.0002,       4689,  4777.3,   1.4217,  34.7183,2,  34.7140,3,    178.2,2,   178.1,2,  135.75,2,   33.66,2,    0.00,2,    2.35,2,   0.003,2,   0.002,2,  -999.0,9,  -999.0,9,  -9.0000,9,-999.0000,9, -999.00,9, -999.00,9,  -999.0,9,  -999.0,-999.000,9,-999.000,-999.000,9,  -9.0000,-999.0000,   1.0166,   -9.00