BOTTLE,20211124CCHSIORKP
EXPOCODE,SECT_ID,STNNBR,CASTNO,SAMPNO,BTLNBR,BTLNBR_FLAG_W,DATE,TIME,LATITUDE,LONGITUDE,DEPTH,CTDPRS,CTDTMP,CTDSAL,CTDSAL_FLAG_W,SALNTY,SALNTY_FLAG_W,CTDOXY,CTDOXY_FLAG_W,OXYGEN,OXYGEN_FLAG_W,SILCAT,SILCAT_FLAG_W,NITRAT,NITRAT_FLAG_W,NITRIT,NITRIT_FLAG_W,PHSPHT,PHSPHT_FLAG_W,CFC-11,CFC-11_FLAG_W,CFC-12,CFC-12_FLAG_W,TCARBN,TCARBN_FLAG_W,ALKALI,ALKALI_FLAG_W,TRITUM,TRITUM_FLAG_W,HELIUM,HELIUM_FLAG_W,DELHE3,DELHE3_FLAG_W,DELC13,DELC13_FLAG_W,DELC14,DELC14_FLAG_W,C14ERR,NEON,NEON_FLAG_W,NEONER,CCL4,CCL4_FLAG_W,TRITER,HELIER,THETA,DELHER
,,,,,,,,,,,METERS,DBAR,ITS-90,PSS-78,,PSS-78,,UMOL/KG,,UMOL/KG,,UMOL/KG,,UMOL/KG,,UMOL/KG,,UMOL/KG,,PMOL/KG,,PMOL/KG,,UMOL/KG,,UMOL/KG,,TU,,NMOL/KG,,PERCNT,,/MILLE,,/MILLE,,/MILLE,NMOL/KG,,NMOL/KG,PMOL/KG,,TU,NMOL/KG,DEG C,PERCNT
  316N145_7,      TRANS,     372,          1,         24,         24,2,19950330,       1301,   -28.5015,    88.4992,       2697,     2.5,  24.5535,  35.8740,2,  35.8721,2,    208.7,2,   209.2,2,    3.18,2,    0.20,2,    0.01,2,    0.10,2,   1.900,2,   1.091,2,  2013.9,2,  2371.8,2,  -9.0000,9,-999.0000,9, -999.00,9, -999.00,9,  -999.0,9,  -999.0,-999.000,9,-999.000,   2.426,2,  -9.0000,-999.0000,  24.5530,   -9.00
  316N145_7,      TRANS,     372,          1,         23,         23,2,19950330,       1301,   -28.5015,    88.4992,       2697,    40.5,  21.3783,  35.8855,2,  35.8642,2,    225.9,2,   239.6,2,    2.94,2,    0.15,2,    0.00,2,    0.12,2,   2.390,2,   1.309,2,  2037.1,2,  2347.3,2,  -9.0000,9,-999.0000,9, -999.00,9, -999.00,9,  -999.0,9,  -999.0,-999.000,9,-999.000,   2.149,2,  -9.0000,-999.0000,  21.3705,   -9.00
  316N145_7,      TRANS,     372,          1,         22,         22,2,19950330,       1301,   -28.5015,    88.4992,       2697,    76.2,  18.5870,  35.8704,2,  35.8612,2,    246.9,2,   246.5,2,    2.48,2,    0.16,2,    0.00,2,    0.15,2,   2.553,2,   1.411,2,  2053.4,2,  2351.4,2,  -9.0000,9,-999.0000,9, -999.00,9, -999.00,9,  -999.0,9,  -999.0,-999.000,9,-999.000,   2.116,2,  -9.0000,-999.0000,  18.5736,   -9.00
  316N145_7,      TRANS,     372,          1,         21,         21,2,19950330,       1301,   -28.5015,    88.4992,       2697,   115.5,  16.6418,  35.7278,2,  35.7314,2,    241.9,2,   239.4,2,    2.24,2,    0.21,2,    0.00,2,    0.20,2,   2.670,2,   1.490,2,  2068.9,2,  2346.6,2,  -9.0000,9,-999.0000,9, -999.00,9, -999.00,9,  -999.0,9,  -999.0,-999.000,9,-999.000,   1.925,2,  -9.0000,-999.0000,  16.6230,   -9.00
  316N145_7,      TRANS,     372,          1,         20,         20,2,19950330,       1301,   -28.5015,    88.4992,       2697,   166.8,  14.7699,  35.4925,2,  35.4912,2,    225.2,2,   226.2,2,    2.64,2,    3.61,2,    0.07,2,    0.43,2,   2.772,2,   1.520,2,  2087.4,2,  2331.9,2,  -9.0000,9,-999.0000,9, -999.00,9, -999.00,9,  -999.0,9,  -999.0,-999.000,9,-999.000,   1.465,2,  -9.0000,-999.0000,  14.7449,   -9.00
  316N145_7,      TRANS,     372,          1,         19,         19,2,19950330,       1301,   -28.5015,    88.4992,       2697,   216.2,  13.6108,  35.3478,2,  35.3379,2,    224.6,2,   223.9,2,    3.25,2,    6.80,2,    0.00,2,    0.59,2,   2.912,2,   1.505,2,  2098.1,2,  2319.3,2,  -9.0000,9,-999.0000,9, -999.00,9, -999.00,9,  -999.0,9,  -999.0,-999.000,9,-999.000,   0.915,2,  -9.0000,-999.0000,  13.5801,   -9.00
  316N145_7,      TRANS,     372,          1,         18,         18,2,19950330,       1301,   -28.5015,    88.4992,       2697,   266.4,  12.8050,  35.2096,2,  35.2134,2,    227.0,2,   230.5,2,    3.65,2,    8.31,2,    0.00,2,    0.68,2,   2.919,2,   1.578,2,  2100.2,2,  2317.6,2,  -9.0000,9,-999.0000,9, -999.00,9, -999.00,9,  -999.0,9,  -999.0,-999.000,9,-999.000,   1.053,2,  -9.0000,-999.0000,  12.7685,   -9.00
  316N145_7,      TRANS,     372,          1,         17,         17,2,19950330,       1301,   -28.5015,    88.4992,       2697,   326.1,  12.1234,  35.1123,2,  35.1019,2,    234.4,2,   235.4,2,    3.83,2,    9.73,2,    0.00,2,    0.76,2,   3.000,2,   1.601,2,  2103.2,2,  2308.6,2,  -9.0000,9,-999.0000,9, -999.00,9, -999.00,9,  -999.0,9,  -999.0,-999.000,9,-999.000,   1.372,2,  -9.0000,-999.0000,  12.0803,   -9.00
  316N145_7,      TRANS,     372,          1,         16,         16,2,19950330,       1301,   -28.5015,    88.4992,       2697,   386.8,  11.6295,  35.0374,2,  35.0319,2,    235.7,2,   236.8,2,    4.23,2,   10.71,2,    0.00,2,    0.82,2,   2.932,2,   1.562,2,  2104.1,2,  2309.1,2,  -9.0000,9,-999.0000,9, -999.00,9, -999.00,9,  -999.0,9,  -999.0,-999.000,9,-999.000,   1.345,2,  -9.0000,-999.0000,  11.5796,   -9.00
  316N145_7,      TRANS,     372,          1,         15,         15,2,19950330,       1301,   -28.5015,    88.4992,       2697,   457.8,  11.0087,  34.9402,2,  34.9417,2,    237.0,2,   237.4,2,    4.41,2,   12.08,2,    0.00,2,    0.90,2,   2.823,2,   1.486,2,  2106.2,2,  2302.7,2,  -9.0000,9,-999.0000,9, -999.00,9, -999.00,9,  -999.0,9,  -999.0,-999.000,9,-999.000,   1.471,2,  -9.0000,-999.0000,  10.9515,   -9.00
  316N145_7,      TRANS,     372,          1,         14,         14,2,19950330,       1301,   -28.5015,    88.4992,       2697,   558.7,  10.1604,  34.8131,2,  34.8211,2,    236.5,2,   237.7,2,    5.02,2,   14.03,2,    0.00,2,    1.03,2,   2.714,2,   1.435,2,  2111.4,2,  2300.2,2,  -9.0000,9,-999.0000,9, -999.00,9, -999.00,9,  -999.0,9,  -999.0,-999.000,9,-999.000,   1.616,2,  -9.0000,-999.0000,  10.0939,   -9.00
  316N145_7,      TRANS,     372,          1,         13,         13,2,19950330,       1301,   -28.5015,    88.4992,       2697,   658.6,   9.3814,  34.7006,2,  34.6998,2,    232.2,2,   231.7,2,    6.27,2,   16.92,2,    0.00,2,    1.20,2,   2.419,2,   1.230,2,  -999.0,5,  2302.3,2,  -9.0000,9,-999.0000,9, -999.00,9, -999.00,9,  -999.0,9,  -999.0,-999.000,9,-999.000,   1.553,2,  -9.0000,-999.0000,   9.3064,   -9.00
  316N145_7,      TRANS,     372,          1,         12,         12,2,19950330,       1301,   -28.5015,    88.4992,       2697,   759.1,   8.1060,  34.5684,2,  34.5673,2,    212.5,2,   212.4,2,   11.77,2,   21.86,2,    0.00,2,    1.51,2,-999.000,9,-999.000,9,  2142.0,2,  2291.4,2,  -9.0000,9,-999.0000,9, -999.00,9, -999.00,9,  -999.0,9,  -999.0,-999.000,9,-999.000,-999.000,9,  -9.0000,-999.0000,   8.0263,   -9.00
  316N145_7,      TRANS,     372,          1,         11,         11,2,19950330,       1301,   -28.5015,    88.4992,       2697,   860.3,   6.5749,  34.4679,2,  34.4693,2,    197.6,2,   196.9,2,   21.94,2,   26.63,2,    0.00,2,    1.83,2,   0.634,2,   0.362,2,  2168.2,2,  2294.4,2,  -9.0000,9,-999.0000,9, -999.00,9, -999.00,9,  -999.0,9,  -999.0,-999.000,9,-999.000,   1.141,2,  -9.0000,-999.0000,   6.4939,   -9.00
  316N145_7,      TRANS,     372,          1,         10,         10,2,19950330,       1301,   -28.5015,    88.4992,       2697,   961.0,   5.2507,  34.4168,2,  34.4143,2,    191.7,2,   190.3,2,   32.96,2,   29.83,2,    0.00,2,    2.07,2,   0.367,3,   0.226,2,  2189.7,2,  2303.7,2,  -9.0000,9,   1.8160,2,    3.85,2, -999.00,9,  -999.0,9,  -999.0,-999.000,9,-999.000,   1.112,2,  -9.0000,-999.0000,   5.1692,   -9.00
  316N145_7,      TRANS,     372,          1,          9,          9,2,19950330,       1301,   -28.5015,    88.4992,       2697,  1111.8,   4.1494,  34.4430,2,  34.4437,2,    170.4,2,   171.1,2,   53.96,2,   33.14,2,    0.00,2,    2.32,2,   0.115,3,   0.085,2,  2225.4,2,  2322.5,2,  -9.0000,9,   1.8530,2,    6.22,2, -999.00,9,  -999.0,9,  -999.0,-999.000,9,-999.000,   0.633,2,  -9.0000,-999.0000,   4.0632,   -9.00
  316N145_7,      TRANS,     372,          1,          8,          8,2,19950330,       1301,   -28.5015,    88.4992,       2697,  1312.7,   3.5104,  34.5329,2,  34.5324,2,    152.8,2,   152.8,2,   73.29,2,   34.67,2,    0.00,2,    2.46,2,   0.000,3,   0.021,2,  2253.7,2,  2344.0,2,  -9.0000,9,-999.0000,9, -999.00,9, -999.00,9,  -999.0,9,  -999.0,-999.000,9,-999.000,   0.199,2,  -9.0000,-999.0000,   3.4128,   -9.00
  316N145_7,      TRANS,     372,          1,          7,          7,2,19950330,       1301,   -28.5015,    88.4992,       2697,  1515.6,   3.1016,  34.6160,2,  34.6184,2,    151.4,2,   150.3,2,   85.62,2,   34.67,2,    0.00,2,    2.45,2,  -0.031,3,   0.007,2,  2267.2,2,  2365.1,2,  -9.0000,9,   1.8590,2,   10.80,2, -999.00,9,  -999.0,9,  -999.0,-999.000,9,-999.000,   0.080,2,  -9.0000,-999.0000,   2.9912,   -9.00
  316N145_7,      TRANS,     372,          1,          6,          6,2,19950330,       1301,   -28.5015,    88.4992,       2697,  1716.8,   2.8349,  34.6704,2,  34.6706,2,    152.7,2,   152.6,2,   93.92,2,   34.32,2,    0.00,2,    2.43,2,  -0.031,3,   0.004,2,  2273.4,2,  2369.4,2,  -9.0000,9,   1.8590,2,   12.05,2, -999.00,9,  -999.0,9,  -999.0,-999.000,9,-999.000,   0.026,2,  -9.0000,-999.0000,   2.7105,   -9.00
  316N145_7,      TRANS,     372,          1,          5,          5,2,19950330,       1301,   -28.5015,    88.4992,       2697,  1919.3,   2.5264,  34.6944,2,  34.6948,2,    159.2,2,   159.8,2,   98.16,2,   33.77,2,    0.00,2,    2.38,2,  -0.027,3,   0.005,2,  2273.7,2,  2378.2,2,  -9.0000,9,   1.8810,2,   13.26,2, -999.00,9,  -999.0,9,  -999.0,-999.000,9,-999.000,   0.009,2,  -9.0000,-999.0000,   2.3888,   -9.00
  316N145_7,      TRANS,     372,          1,          4,          4,2,19950330,       1301,   -28.5015,    88.4992,       2697,  2122.0,   2.2598,  34.7143,2,  34.7146,2,    165.8,2,   166.5,2,  103.92,2,   33.37,2,    0.00,2,    2.34,2,  -0.019,3,   0.001,2,  2275.1,2,  2378.4,2,  -9.0000,9,-999.0000,9, -999.00,9, -999.00,9,  -999.0,9,  -999.0,-999.000,9,-999.000,   0.005,2,  -9.0000,-999.0000,   2.1086,   -9.00
  316N145_7,      TRANS,     372,          1,          3,          3,2,19950330,       1301,   -28.5015,    88.4992,       2697,  2324.6,   2.0557,  34.7225,2,  34.7242,2,    172.0,2,   172.3,2,  107.10,2,   33.07,2,    0.00,2,    2.32,2,  -0.035,3,   0.002,2,  2274.6,2,  2378.8,2,  -9.0000,9,   1.8820,2,   14.07,2, -999.00,9,  -999.0,9,  -999.0,-999.000,9,-999.000,   0.002,2,  -9.0000,-999.0000,   1.8900,   -9.00
  316N145_7,      TRANS,     372,          1,          2,          2,2,19950330,       1301,   -28.5015,    88.4992,       2697,  2527.6,   1.8495,  34.7283,2,  34.7293,2,    179.6,2,   182.3,3,  107.27,2,   32.48,2,    0.00,2,    2.27,2,  -0.069,3,   0.002,6,  2269.2,2,  2406.8,3,  -9.0000,9,-999.0000,9, -999.00,9, -999.00,9,  -999.0,9,  -999.0,-999.000,9,-999.000,  -0.001,6,  -9.0000,-999.0000,   1.6692,   -9.00
  316N145_7,      TRANS,     372,          1,          1,          1,2,19950330,       1301,   -28.5015,    88.4992,       2697,  2718.5,   1.7363,  34.7291,2,  34.7302,2,    184.8,2,   184.5,2,  109.59,2,   32.43,2,    0.00,2,    2.26,2,  -0.034,3,   0.001,6,  2269.9,2,  2410.4,3,  -9.0000,9,   1.8820,2,   14.21,2, -999.00,9,  -999.0,9,  -999.0,-999.000,9,-999.000,   0.012,6,  -9.0000,-999.0000,   1.5407,   -9.00