BOTTLE,20211124CCHSIORKP
EXPOCODE,SECT_ID,STNNBR,CASTNO,SAMPNO,BTLNBR,BTLNBR_FLAG_W,DATE,TIME,LATITUDE,LONGITUDE,DEPTH,CTDPRS,CTDTMP,CTDSAL,CTDSAL_FLAG_W,SALNTY,SALNTY_FLAG_W,CTDOXY,CTDOXY_FLAG_W,OXYGEN,OXYGEN_FLAG_W,SILCAT,SILCAT_FLAG_W,NITRAT,NITRAT_FLAG_W,NITRIT,NITRIT_FLAG_W,PHSPHT,PHSPHT_FLAG_W,CFC-11,CFC-11_FLAG_W,CFC-12,CFC-12_FLAG_W,TCARBN,TCARBN_FLAG_W,ALKALI,ALKALI_FLAG_W,TRITUM,TRITUM_FLAG_W,HELIUM,HELIUM_FLAG_W,DELHE3,DELHE3_FLAG_W,DELC13,DELC13_FLAG_W,DELC14,DELC14_FLAG_W,C14ERR,NEON,NEON_FLAG_W,NEONER,CCL4,CCL4_FLAG_W,TRITER,HELIER,THETA,DELHER
,,,,,,,,,,,METERS,DBAR,ITS-90,PSS-78,,PSS-78,,UMOL/KG,,UMOL/KG,,UMOL/KG,,UMOL/KG,,UMOL/KG,,UMOL/KG,,PMOL/KG,,PMOL/KG,,UMOL/KG,,UMOL/KG,,TU,,NMOL/KG,,PERCNT,,/MILLE,,/MILLE,,/MILLE,NMOL/KG,,NMOL/KG,PMOL/KG,,TU,NMOL/KG,DEG C,PERCNT
  316N145_7,       I08N,     307,          1,         36,         36,2,19950315,       1844,    -1.3340,    80.0005,       4786,     2.1,  29.4200,  34.2292,2,  34.3417,2,    195.5,2,   197.6,2,    2.57,2,    0.05,2,    0.00,2,    0.11,2,-999.000,9,-999.000,9,  1909.2,2,  2238.1,2,  -9.0000,9,-999.0000,9, -999.00,9, -999.00,9,  -999.0,9,  -999.0,-999.000,9,-999.000,-999.000,9,  -9.0000,-999.0000,  29.4195,   -9.00
  316N145_7,       I08N,     307,          1,         35,         35,2,19950315,       1844,    -1.3340,    80.0005,       4786,    21.0,  29.0270,  34.4579,2,  34.3509,2,    197.0,2,   198.1,2,    2.36,2,    0.05,2,    0.00,2,    0.11,2,-999.000,9,-999.000,9,  -999.0,9,  -999.0,9,  -9.0000,9,-999.0000,9, -999.00,9, -999.00,9,  -999.0,9,  -999.0,-999.000,9,-999.000,-999.000,9,  -9.0000,-999.0000,  29.0219,   -9.00
  316N145_7,       I08N,     307,          1,         34,         34,2,19950315,       1844,    -1.3340,    80.0005,       4786,    41.2,  24.2961,  35.3665,2,  35.3650,2,    155.1,2,   154.7,2,    6.43,2,    6.78,2,    0.25,2,    0.63,2,-999.000,9,-999.000,9,  -999.0,9,  -999.0,9,  -9.0000,9,-999.0000,9, -999.00,9, -999.00,9,  -999.0,9,  -999.0,-999.000,9,-999.000,-999.000,9,  -9.0000,-999.0000,  24.2874,   -9.00
  316N145_7,       I08N,     307,          1,         33,         33,2,19950315,       1844,    -1.3340,    80.0005,       4786,    70.8,  22.7076,  35.3437,2,  35.3542,2,    136.6,2,   129.8,2,    8.27,2,   10.73,2,    0.51,2,    0.86,2,-999.000,9,-999.000,9,  -999.0,9,  -999.0,9,  -9.0000,9,-999.0000,9, -999.00,9, -999.00,9,  -999.0,9,  -999.0,-999.000,9,-999.000,-999.000,9,  -9.0000,-999.0000,  22.6933,   -9.00
  316N145_7,       I08N,     307,          1,         32,         32,2,19950315,       1844,    -1.3340,    80.0005,       4786,   105.9,  19.7312,  35.2742,2,  35.2738,2,     90.8,2,    86.0,2,   13.59,2,   17.83,2,    0.04,2,    1.29,2,-999.000,9,-999.000,9,  -999.0,9,  -999.0,9,  -9.0000,9,-999.0000,9, -999.00,9, -999.00,9,  -999.0,9,  -999.0,-999.000,9,-999.000,-999.000,9,  -9.0000,-999.0000,  19.7118,   -9.00
  316N145_7,       I08N,     307,          1,         31,         31,2,19950315,       1844,    -1.3340,    80.0005,       4786,   141.0,  17.2435,  35.2021,2,  35.1930,2,     70.8,2,    71.0,2,   17.47,2,   21.76,2,    0.02,2,    1.55,2,-999.000,9,-999.000,9,  -999.0,9,  -999.0,9,  -9.0000,9,-999.0000,9, -999.00,9, -999.00,9,  -999.0,9,  -999.0,-999.000,9,-999.000,-999.000,9,  -9.0000,-999.0000,  17.2200,   -9.00
  316N145_7,       I08N,     307,          1,         30,         30,2,19950315,       1844,    -1.3340,    80.0005,       4786,   160.8,  15.3542,  35.1772,2,  35.1723,2,     83.5,2,    90.7,2,   17.66,2,   21.08,2,    0.01,2,    1.48,2,-999.000,9,-999.000,9,  -999.0,9,  -999.0,9,  -9.0000,9,-999.0000,9, -999.00,9, -999.00,9,  -999.0,9,  -999.0,-999.000,9,-999.000,-999.000,9,  -9.0000,-999.0000,  15.3294,   -9.00
  316N145_7,       I08N,     307,          1,         29,         29,2,19950315,       1844,    -1.3340,    80.0005,       4786,   215.7,  13.9997,  35.1273,2,  35.1185,2,     89.7,2,    80.2,2,   20.52,2,   23.67,2,    0.01,2,    1.65,2,-999.000,9,-999.000,9,  -999.0,9,  -999.0,9,  -9.0000,9,-999.0000,9, -999.00,9, -999.00,9,  -999.0,9,  -999.0,-999.000,9,-999.000,-999.000,9,  -9.0000,-999.0000,  13.9685,   -9.00
  316N145_7,       I08N,     307,          1,         28,         28,2,19950315,       1844,    -1.3340,    80.0005,       4786,   265.6,  12.4275,  35.0649,2,  35.0630,2,     85.9,2,    92.9,2,   21.33,2,   24.37,2,    0.01,2,    1.68,2,-999.000,9,-999.000,9,  -999.0,9,  -999.0,9,  -9.0000,9,-999.0000,9, -999.00,9, -999.00,9,  -999.0,9,  -999.0,-999.000,9,-999.000,-999.000,9,  -9.0000,-999.0000,  12.3919,   -9.00
  316N145_7,       I08N,     307,          1,         27,         27,2,19950315,       1844,    -1.3340,    80.0005,       4786,   331.4,  11.3766,  35.0218,2,  35.0184,2,    100.0,2,   104.6,2,   22.96,2,   24.88,2,    0.01,2,    1.73,2,-999.000,9,-999.000,9,  -999.0,9,  -999.0,9,  -9.0000,9,-999.0000,9, -999.00,9, -999.00,9,  -999.0,9,  -999.0,-999.000,9,-999.000,-999.000,9,  -9.0000,-999.0000,  11.3346,   -9.00
  316N145_7,       I08N,     307,          1,         26,         26,2,19950315,       1844,    -1.3340,    80.0005,       4786,   407.1,  10.3522,  34.9952,2,  34.9939,2,     80.1,2,    80.6,2,   31.56,2,   29.19,2,    0.01,2,    2.06,2,-999.000,9,-999.000,9,  -999.0,9,  -999.0,9,  -9.0000,9,-999.0000,9, -999.00,9, -999.00,9,  -999.0,9,  -999.0,-999.000,9,-999.000,-999.000,9,  -9.0000,-999.0000,  10.3035,   -9.00
  316N145_7,       I08N,     307,          1,         25,         25,2,19950315,       1844,    -1.3340,    80.0005,       4786,   482.4,   9.8040,  34.9884,2,  34.9865,2,     71.5,2,    72.1,2,   38.32,2,   31.06,2,    0.01,2,    2.23,2,-999.000,9,-999.000,9,  -999.0,9,  -999.0,9,  -9.0000,9,-999.0000,9, -999.00,9, -999.00,9,  -999.0,9,  -999.0,-999.000,9,-999.000,-999.000,9,  -9.0000,-999.0000,   9.7479,   -9.00
  316N145_7,       I08N,     307,          1,         24,         24,2,19950315,       1844,    -1.3340,    80.0005,       4786,   581.8,   9.2594,  35.0101,2,  35.0079,2,     52.1,2,    51.1,2,   48.77,2,   33.72,2,    0.01,2,    2.48,2,-999.000,9,-999.000,9,  -999.0,9,  -999.0,9,  -9.0000,9,-999.0000,9, -999.00,9, -999.00,9,  -999.0,9,  -999.0,-999.000,9,-999.000,-999.000,9,  -9.0000,-999.0000,   9.1937,   -9.00
  316N145_7,       I08N,     307,          1,         23,         23,2,19950315,       1844,    -1.3340,    80.0005,       4786,   682.7,   8.6619,  35.0000,2,  34.9975,2,     48.6,2,    49.4,2,   57.17,2,   34.85,2,    0.01,2,    2.59,2,-999.000,9,-999.000,9,  -999.0,9,  -999.0,9,  -9.0000,9,-999.0000,9, -999.00,9, -999.00,9,  -999.0,9,  -999.0,-999.000,9,-999.000,-999.000,9,  -9.0000,-999.0000,   8.5873,   -9.00
  316N145_7,       I08N,     307,          1,         22,         22,2,19950315,       1844,    -1.3340,    80.0005,       4786,   783.5,   8.2462,  35.0032,2,  35.0005,2,     44.9,2,    45.2,2,   64.76,2,   35.75,2,    0.01,2,    2.68,2,-999.000,9,-999.000,9,  -999.0,9,  -999.0,9,  -9.0000,9,-999.0000,9, -999.00,9, -999.00,9,  -999.0,9,  -999.0,-999.000,9,-999.000,-999.000,9,  -9.0000,-999.0000,   8.1625,   -9.00
  316N145_7,       I08N,     307,          1,         21,         21,2,19950315,       1844,    -1.3340,    80.0005,       4786,   884.6,   7.6758,  34.9789,2,  34.9800,2,     46.5,2,    45.5,2,   71.94,2,   36.36,2,    0.01,2,    2.73,2,-999.000,9,-999.000,9,  -999.0,9,  -999.0,9,  -9.0000,9,-999.0000,9, -999.00,9, -999.00,9,  -999.0,9,  -999.0,-999.000,9,-999.000,-999.000,9,  -9.0000,-999.0000,   7.5845,   -9.00
  316N145_7,       I08N,     307,          1,         20,         20,2,19950315,       1844,    -1.3340,    80.0005,       4786,   985.8,   6.7644,  34.9215,2,  34.9234,2,     55.6,2,    56.4,2,   80.79,2,   36.74,2,    0.01,2,    2.75,2,-999.000,9,-999.000,9,  -999.0,9,  -999.0,9,  -9.0000,9,-999.0000,9, -999.00,9, -999.00,9,  -999.0,9,  -999.0,-999.000,9,-999.000,-999.000,9,  -9.0000,-999.0000,   6.6686,   -9.00
  316N145_7,       I08N,     307,          1,         19,         19,2,19950315,       1844,    -1.3340,    80.0005,       4786,  1086.3,   6.3372,  34.9187,2,  34.9108,2,     58.4,2,    59.1,2,   87.38,2,   37.12,2,    0.01,2,    2.78,2,-999.000,9,-999.000,9,  -999.0,9,  -999.0,9,  -9.0000,9,-999.0000,9, -999.00,9, -999.00,9,  -999.0,9,  -999.0,-999.000,9,-999.000,-999.000,9,  -9.0000,-999.0000,   6.2344,   -9.00
  316N145_7,       I08N,     307,          1,         18,         18,2,19950315,       1844,    -1.3340,    80.0005,       4786,  1211.9,   5.5732,  34.8927,2,  34.8921,2,     68.7,2,    69.0,2,   94.61,2,   37.03,2,    0.01,2,    2.79,2,-999.000,9,-999.000,9,  -999.0,9,  -999.0,9,  -9.0000,9,-999.0000,9, -999.00,9, -999.00,9,  -999.0,9,  -999.0,-999.000,9,-999.000,-999.000,9,  -9.0000,-999.0000,   5.4644,   -9.00
  316N145_7,       I08N,     307,          1,         17,         17,2,19950315,       1844,    -1.3340,    80.0005,       4786,  1413.2,   4.5162,  34.8335,2,  34.8341,2,     87.1,2,    89.2,2,  104.36,2,   36.80,2,    0.00,2,    2.75,2,-999.000,9,-999.000,9,  -999.0,9,  -999.0,9,  -9.0000,9,-999.0000,9, -999.00,9, -999.00,9,  -999.0,9,  -999.0,-999.000,9,-999.000,-999.000,9,  -9.0000,-999.0000,   4.3987,   -9.00
  316N145_7,       I08N,     307,          1,         16,         16,2,19950315,       1844,    -1.3340,    80.0005,       4786,  1614.0,   3.8282,  34.8172,2,  34.8170,2,    103.1,2,   103.3,2,  111.24,2,   36.38,2,    0.00,2,    2.68,2,-999.000,9,-999.000,9,  -999.0,9,  -999.0,9,  -9.0000,9,-999.0000,9, -999.00,9, -999.00,9,  -999.0,9,  -999.0,-999.000,9,-999.000,-999.000,9,  -9.0000,-999.0000,   3.7000,   -9.00
  316N145_7,       I08N,     307,          1,         15,         15,2,19950315,       1844,    -1.3340,    80.0005,       4786,  1812.3,   3.3333,  34.7963,2,  34.7951,2,    115.5,2,   115.0,2,  116.26,2,   36.11,2,    0.00,2,    2.65,2,-999.000,9,-999.000,9,  -999.0,9,  -999.0,9,  -9.0000,9,-999.0000,9, -999.00,9, -999.00,9,  -999.0,9,  -999.0,-999.000,9,-999.000,-999.000,9,  -9.0000,-999.0000,   3.1935,   -9.00
  316N145_7,       I08N,     307,          1,         14,         14,2,19950315,       1844,    -1.3340,    80.0005,       4786,  2014.4,   2.7469,  34.7729,2,  34.7706,2,    129.2,2,   131.4,3,  122.57,2,   35.59,2,    0.00,2,    2.58,2,-999.000,9,-999.000,9,  -999.0,9,  -999.0,9,  -9.0000,9,-999.0000,9, -999.00,9, -999.00,9,  -999.0,9,  -999.0,-999.000,9,-999.000,-999.000,9,  -9.0000,-999.0000,   2.5974,   -9.00
  316N145_7,       I08N,     307,          1,         13,         13,2,19950315,       1844,    -1.3340,    80.0005,       4786,  2219.4,   2.3886,  34.7600,2,  34.7580,2,    139.4,2,   139.3,2,  126.15,2,   35.22,2,    0.00,2,    2.55,2,-999.000,9,-999.000,9,  -999.0,9,  -999.0,9,  -9.0000,9,-999.0000,9, -999.00,9, -999.00,9,  -999.0,9,  -999.0,-999.000,9,-999.000,-999.000,9,  -9.0000,-999.0000,   2.2264,   -9.00
  316N145_7,       I08N,     307,          1,         12,         12,2,19950315,       1844,    -1.3340,    80.0005,       4786,  2424.5,   2.1827,  34.7513,2,  34.7505,2,    145.9,2,   145.2,2,  128.47,2,   34.94,2,    0.00,2,    2.52,2,-999.000,9,-999.000,9,  -999.0,9,  -999.0,9,  -9.0000,9,-999.0000,9, -999.00,9, -999.00,9,  -999.0,9,  -999.0,-999.000,9,-999.000,-999.000,9,  -9.0000,-999.0000,   2.0055,   -9.00
  316N145_7,       I08N,     307,          1,         11,         11,2,19950315,       1844,    -1.3340,    80.0005,       4786,  2630.7,   2.0005,  34.7427,2,  34.7417,2,    152.9,2,   151.6,2,  129.94,2,   34.71,2,    0.00,2,    2.50,2,-999.000,9,-999.000,9,  -999.0,9,  -999.0,9,  -9.0000,9,-999.0000,9, -999.00,9, -999.00,9,  -999.0,9,  -999.0,-999.000,9,-999.000,-999.000,9,  -9.0000,-999.0000,   1.8078,   -9.00
  316N145_7,       I08N,     307,          1,         10,         10,2,19950315,       1844,    -1.3340,    80.0005,       4786,  2832.4,   1.8595,  34.7370,2,  34.7364,2,    158.6,2,   158.3,2,  130.98,2,   34.52,2,    0.00,2,    2.46,2,-999.000,9,-999.000,9,  -999.0,9,  -999.0,9,  -9.0000,9,-999.0000,9, -999.00,9, -999.00,9,  -999.0,9,  -999.0,-999.000,9,-999.000,-999.000,9,  -9.0000,-999.0000,   1.6507,   -9.00
  316N145_7,       I08N,     307,          1,          9,          9,2,19950315,       1844,    -1.3340,    80.0005,       4786,  3036.1,   1.7052,  34.7313,2,  34.7303,2,    161.0,2,   162.2,2,  133.31,2,   34.43,2,    0.00,2,    2.45,2,-999.000,9,-999.000,9,  -999.0,9,  -999.0,9,  -9.0000,9,-999.0000,9, -999.00,9, -999.00,9,  -999.0,9,  -999.0,-999.000,9,-999.000,-999.000,9,  -9.0000,-999.0000,   1.4801,   -9.00
  316N145_7,       I08N,     307,          1,          8,          8,2,19950315,       1844,    -1.3340,    80.0005,       4786,  3240.2,   1.5938,  34.7274,2,  34.7260,2,    164.3,2,   164.1,2,  135.44,2,   34.39,2,    0.00,2,    2.44,2,-999.000,9,-999.000,9,  -999.0,9,  -999.0,9,  -9.0000,9,-999.0000,9, -999.00,9, -999.00,9,  -999.0,9,  -999.0,-999.000,9,-999.000,-999.000,9,  -9.0000,-999.0000,   1.3513,   -9.00
  316N145_7,       I08N,     307,          1,          7,          7,2,19950315,       1844,    -1.3340,    80.0005,       4786,  3443.0,   1.4905,  34.7239,2,  34.7228,2,    167.6,2,   167.8,2,  136.27,2,   34.20,2,    0.00,2,    2.41,2,-999.000,9,-999.000,9,  -999.0,9,  -999.0,9,  -9.0000,9,-999.0000,9, -999.00,9, -999.00,9,  -999.0,9,  -999.0,-999.000,9,-999.000,-999.000,9,  -9.0000,-999.0000,   1.2302,   -9.00
  316N145_7,       I08N,     307,          1,          6,          6,2,19950315,       1844,    -1.3340,    80.0005,       4786,  3647.3,   1.4363,  34.7219,2,  34.7211,2,    169.2,2,   169.2,2,  138.19,2,   34.25,2,    0.00,2,    2.41,2,-999.000,9,-999.000,9,  -999.0,9,  -999.0,9,  -9.0000,9,-999.0000,9, -999.00,9, -999.00,9,  -999.0,9,  -999.0,-999.000,9,-999.000,-999.000,9,  -9.0000,-999.0000,   1.1564,   -9.00
  316N145_7,       I08N,     307,          1,          5,          5,2,19950315,       1844,    -1.3340,    80.0005,       4786,  3902.1,   1.3983,  34.7199,2,  34.7187,2,    173.3,2,   172.8,2,  137.74,2,   34.07,2,    0.00,2,    2.40,2,-999.000,9,-999.000,9,  -999.0,9,  -999.0,9,  -9.0000,9,-999.0000,9, -999.00,9, -999.00,9,  -999.0,9,  -999.0,-999.000,9,-999.000,-999.000,9,  -9.0000,-999.0000,   1.0926,   -9.00
  316N145_7,       I08N,     307,          1,          4,          4,2,19950315,       1844,    -1.3340,    80.0005,       4786,  4157.0,   1.3854,  34.7190,2,  34.7179,2,    175.6,2,   175.4,2,  136.86,2,   33.89,2,    0.00,2,    2.39,2,-999.000,9,-999.000,9,  -999.0,9,  -999.0,9,  -9.0000,9,-999.0000,9, -999.00,9, -999.00,9,  -999.0,9,  -999.0,-999.000,9,-999.000,-999.000,9,  -9.0000,-999.0000,   1.0523,   -9.00
  316N145_7,       I08N,     307,          1,          3,          3,2,19950315,       1844,    -1.3340,    80.0005,       4786,  4413.5,   1.3957,  34.7183,2,  34.7174,2,    178.7,2,   178.5,2,  136.19,2,   33.84,2,    0.00,2,    2.37,2,-999.000,9,-999.000,9,  -999.0,9,  -999.0,9,  -9.0000,9,-999.0000,9, -999.00,9, -999.00,9,  -999.0,9,  -999.0,-999.000,9,-999.000,-999.000,9,  -9.0000,-999.0000,   1.0337,   -9.00
  316N145_7,       I08N,     307,          1,          2,          2,2,19950315,       1844,    -1.3340,    80.0005,       4786,  4670.1,   1.4112,  34.7181,2,  34.7154,3,    179.2,2,   179.7,2,  135.75,2,   33.75,2,    0.00,2,    2.37,2,-999.000,9,-999.000,9,  -999.0,9,  -999.0,9,  -9.0000,9,-999.0000,9, -999.00,9, -999.00,9,  -999.0,9,  -999.0,-999.000,9,-999.000,-999.000,9,  -9.0000,-999.0000,   1.0191,   -9.00
  316N145_7,       I08N,     307,          1,          1,          1,2,19950315,       1844,    -1.3340,    80.0005,       4786,  4891.7,   1.4327,  34.7184,2,  34.7172,2,    179.1,2,   179.3,2,  135.51,2,   33.75,2,    0.00,2,    2.36,2,-999.000,9,-999.000,9,  -999.0,9,  -999.0,9,  -9.0000,9,-999.0000,9, -999.00,9, -999.00,9,  -999.0,9,  -999.0,-999.000,9,-999.000,-999.000,9,  -9.0000,-999.0000,   1.0136,   -9.00