BOTTLE,20211124CCHSIORKP
EXPOCODE,SECT_ID,STNNBR,CASTNO,SAMPNO,BTLNBR,BTLNBR_FLAG_W,DATE,TIME,LATITUDE,LONGITUDE,DEPTH,CTDPRS,CTDTMP,CTDSAL,CTDSAL_FLAG_W,SALNTY,SALNTY_FLAG_W,CTDOXY,CTDOXY_FLAG_W,OXYGEN,OXYGEN_FLAG_W,SILCAT,SILCAT_FLAG_W,NITRAT,NITRAT_FLAG_W,NITRIT,NITRIT_FLAG_W,PHSPHT,PHSPHT_FLAG_W,CFC-11,CFC-11_FLAG_W,CFC-12,CFC-12_FLAG_W,TCARBN,TCARBN_FLAG_W,ALKALI,ALKALI_FLAG_W,TRITUM,TRITUM_FLAG_W,HELIUM,HELIUM_FLAG_W,DELHE3,DELHE3_FLAG_W,DELC13,DELC13_FLAG_W,DELC14,DELC14_FLAG_W,C14ERR,NEON,NEON_FLAG_W,NEONER,CCL4,CCL4_FLAG_W,TRITER,HELIER,THETA,DELHER
,,,,,,,,,,,METERS,DBAR,ITS-90,PSS-78,,PSS-78,,UMOL/KG,,UMOL/KG,,UMOL/KG,,UMOL/KG,,UMOL/KG,,UMOL/KG,,PMOL/KG,,PMOL/KG,,UMOL/KG,,UMOL/KG,,TU,,NMOL/KG,,PERCNT,,/MILLE,,/MILLE,,/MILLE,NMOL/KG,,NMOL/KG,PMOL/KG,,TU,NMOL/KG,DEG C,PERCNT
  316N145_7,       I08N,     301,          1,         36,         36,2,19950314,       1516,     0.2492,    79.9997,       4632,     2.7,  29.5540,  34.3002,2,  34.2980,3,    197.4,2,   202.9,3,    2.54,2,    0.05,2,    0.00,2,    0.09,2,-999.000,9,-999.000,9,  1904.3,2,  2235.6,2,  -9.0000,9,-999.0000,9, -999.00,9, -999.00,9,  -999.0,9,  -999.0,-999.000,9,-999.000,-999.000,9,  -9.0000,-999.0000,  29.5533,   -9.00
  316N145_7,       I08N,     301,          1,         35,         35,2,19950314,       1516,     0.2492,    79.9997,       4632,    21.2,  29.2321,  34.3382,2,  34.3464,3,    195.7,2,   204.7,3,    2.52,2,    0.05,2,    0.00,2,    0.10,2,-999.000,9,-999.000,9,  -999.0,9,  -999.0,9,  -9.0000,9,-999.0000,9, -999.00,9, -999.00,9,  -999.0,9,  -999.0,-999.000,9,-999.000,-999.000,9,  -9.0000,-999.0000,  29.2269,   -9.00
  316N145_7,       I08N,     301,          1,         34,         34,2,19950314,       1516,     0.2492,    79.9997,       4632,    41.1,  25.7628,  35.3291,2,  35.3435,3,    174.5,2,   176.0,2,    5.15,2,    3.28,2,    0.13,2,    0.46,2,-999.000,9,-999.000,9,  -999.0,9,  -999.0,9,  -9.0000,9,-999.0000,9, -999.00,9, -999.00,9,  -999.0,9,  -999.0,-999.000,9,-999.000,-999.000,9,  -9.0000,-999.0000,  25.7536,   -9.00
  316N145_7,       I08N,     301,          1,         33,         33,2,19950314,       1516,     0.2492,    79.9997,       4632,    71.0,  23.1779,  35.3637,2,  35.3605,3,    143.8,2,   147.8,2,    7.39,2,    8.87,2,    0.59,2,    0.75,2,-999.000,9,-999.000,9,  -999.0,9,  -999.0,9,  -9.0000,9,-999.0000,9, -999.00,9, -999.00,9,  -999.0,9,  -999.0,-999.000,9,-999.000,-999.000,9,  -9.0000,-999.0000,  23.1633,   -9.00
  316N145_7,       I08N,     301,          1,         32,         32,2,19950314,       1516,     0.2492,    79.9997,       4632,   126.2,  19.3584,  35.2582,2,  35.2686,3,     80.9,2,    83.0,2,   14.14,2,   18.48,2,    0.04,2,    1.32,2,-999.000,9,-999.000,9,  -999.0,9,  -999.0,9,  -9.0000,9,-999.0000,9, -999.00,9, -999.00,9,  -999.0,9,  -999.0,-999.000,9,-999.000,-999.000,9,  -9.0000,-999.0000,  19.3355,   -9.00
  316N145_7,       I08N,     301,          1,         31,         31,2,19950314,       1516,     0.2492,    79.9997,       4632,   182.1,  15.1745,  35.1746,2,  35.1599,3,     72.6,2,    70.1,2,   20.68,2,   23.61,2,    0.01,2,    1.67,2,-999.000,9,-999.000,9,  -999.0,9,  -999.0,9,  -9.0000,9,-999.0000,9, -999.00,9, -999.00,9,  -999.0,9,  -999.0,-999.000,9,-999.000,-999.000,9,  -9.0000,-999.0000,  15.1466,   -9.00
  316N145_7,       I08N,     301,          1,         30,         30,2,19950314,       1516,     0.2492,    79.9997,       4632,   237.3,  13.3611,  35.1129,2,  35.1113,3,     70.3,2,    71.9,2,   21.88,2,   25.23,2,    0.00,2,    1.76,2,-999.000,9,-999.000,9,  -999.0,9,  -999.0,9,  -9.0000,9,-999.0000,9, -999.00,9, -999.00,9,  -999.0,9,  -999.0,-999.000,9,-999.000,-999.000,9,  -9.0000,-999.0000,  13.3277,   -9.00
  316N145_7,       I08N,     301,          1,         29,         29,2,19950314,       1516,     0.2492,    79.9997,       4632,   288.3,  12.4536,  35.0875,2,  35.0811,3,     75.5,2,    78.5,2,   22.89,2,   25.84,2,    0.00,2,    1.80,2,-999.000,9,-999.000,9,  -999.0,9,  -999.0,9,  -9.0000,9,-999.0000,9, -999.00,9, -999.00,9,  -999.0,9,  -999.0,-999.000,9,-999.000,-999.000,9,  -9.0000,-999.0000,  12.4149,   -9.00
  316N145_7,       I08N,     301,          1,         28,         28,2,19950314,       1516,     0.2492,    79.9997,       4632,   346.8,  11.2986,  35.0451,2,  35.0402,3,     80.6,2,    80.3,2,   26.34,2,   27.56,2,    0.00,2,    1.91,2,-999.000,9,-999.000,9,  -999.0,9,  -999.0,9,  -9.0000,9,-999.0000,9, -999.00,9, -999.00,9,  -999.0,9,  -999.0,-999.000,9,-999.000,-999.000,9,  -9.0000,-999.0000,  11.2548,   -9.00
  316N145_7,       I08N,     301,          1,         27,         27,2,19950314,       1516,     0.2492,    79.9997,       4632,   407.3,  10.5040,  35.0247,2,  35.0217,3,     72.9,2,    74.8,2,   32.46,2,   29.71,2,    0.00,2,    2.09,2,-999.000,9,-999.000,9,  -999.0,9,  -999.0,9,  -9.0000,9,-999.0000,9, -999.00,9, -999.00,9,  -999.0,9,  -999.0,-999.000,9,-999.000,-999.000,9,  -9.0000,-999.0000,  10.4548,   -9.00
  316N145_7,       I08N,     301,          1,         26,         26,2,19950314,       1516,     0.2492,    79.9997,       4632,   478.0,   9.9569,  35.0321,2,  35.0270,3,     56.6,2,    55.2,2,   41.03,2,   32.37,2,    0.00,2,    2.33,2,-999.000,9,-999.000,9,  -999.0,9,  -999.0,9,  -9.0000,9,-999.0000,9, -999.00,9, -999.00,9,  -999.0,9,  -999.0,-999.000,9,-999.000,-999.000,9,  -9.0000,-999.0000,   9.9008,   -9.00
  316N145_7,       I08N,     301,          1,         25,         25,2,19950314,       1516,     0.2492,    79.9997,       4632,   557.8,   9.3509,  35.0173,2,  35.0140,3,     50.0,2,    48.7,2,   48.38,2,   33.87,2,    0.00,2,    2.48,2,-999.000,9,-999.000,9,  -999.0,9,  -999.0,9,  -9.0000,9,-999.0000,9, -999.00,9, -999.00,9,  -999.0,9,  -999.0,-999.000,9,-999.000,-999.000,9,  -9.0000,-999.0000,   9.2876,   -9.00
  316N145_7,       I08N,     301,          1,         24,         24,2,19950314,       1516,     0.2492,    79.9997,       4632,   659.1,   8.9343,  35.0054,2,  35.0014,3,     47.5,2,    46.3,2,   53.67,2,   34.63,2,    0.00,2,    2.55,2,-999.000,9,-999.000,9,  -999.0,9,  -999.0,9,  -9.0000,9,-999.0000,9, -999.00,9, -999.00,9,  -999.0,9,  -999.0,-999.000,9,-999.000,-999.000,9,  -9.0000,-999.0000,   8.8611,   -9.00
  316N145_7,       I08N,     301,          1,         23,         23,2,19950314,       1516,     0.2492,    79.9997,       4632,   759.2,   8.2532,  35.0003,2,  35.0001,3,     44.1,2,    43.4,2,   63.88,2,   35.85,2,    0.00,2,    2.67,2,-999.000,9,-999.000,9,  -999.0,9,  -999.0,9,  -9.0000,9,-999.0000,9, -999.00,9, -999.00,9,  -999.0,9,  -999.0,-999.000,9,-999.000,-999.000,9,  -9.0000,-999.0000,   8.1721,   -9.00
  316N145_7,       I08N,     301,          1,         22,         22,2,19950314,       1516,     0.2492,    79.9997,       4632,   858.6,   7.8217,  34.9900,2,  34.9835,3,     43.3,2,    42.8,2,   70.40,2,   36.50,2,    0.00,2,    2.72,2,-999.000,9,-999.000,9,  -999.0,9,  -999.0,9,  -9.0000,9,-999.0000,9, -999.00,9, -999.00,9,  -999.0,9,  -999.0,-999.000,9,-999.000,-999.000,9,  -9.0000,-999.0000,   7.7322,   -9.00
  316N145_7,       I08N,     301,          1,         21,         21,2,19950314,       1516,     0.2492,    79.9997,       4632,  1010.4,   6.5614,  34.9328,2,  34.9259,3,     51.8,2,    53.4,2,   84.95,2,   37.21,2,    0.00,2,    2.78,2,-999.000,9,-999.000,9,  -999.0,9,  -999.0,9,  -9.0000,9,-999.0000,9, -999.00,9, -999.00,9,  -999.0,9,  -999.0,-999.000,9,-999.000,-999.000,9,  -9.0000,-999.0000,   6.4646,   -9.00
  316N145_7,       I08N,     301,          1,         20,         20,2,19950314,       1516,     0.2492,    79.9997,       4632,  1161.6,   5.9225,  34.8999,2,  34.8997,3,     61.3,2,    62.1,2,   92.13,2,   37.26,2,    0.00,2,    2.77,2,-999.000,9,-999.000,9,  -999.0,9,  -999.0,9,  -9.0000,9,-999.0000,9, -999.00,9, -999.00,9,  -999.0,9,  -999.0,-999.000,9,-999.000,-999.000,9,  -9.0000,-999.0000,   5.8157,   -9.00
  316N145_7,       I08N,     301,          1,         19,         19,2,19950314,       1516,     0.2492,    79.9997,       4632,  1313.8,   5.2899,  34.8763,2,  34.8728,3,     71.3,2,    74.2,2,   98.29,2,   37.21,2,    0.00,2,    2.76,2,-999.000,9,-999.000,9,  -999.0,9,  -999.0,9,  -9.0000,9,-999.0000,9, -999.00,9, -999.00,9,  -999.0,9,  -999.0,-999.000,9,-999.000,-999.000,9,  -9.0000,-999.0000,   5.1738,   -9.00
  316N145_7,       I08N,     301,          1,         18,         18,2,19950314,       1516,     0.2492,    79.9997,       4632,  1464.9,   4.5747,  34.8517,2,  34.8478,3,     79.9,2,    84.4,2,  105.29,2,   37.02,2,    0.00,2,    2.74,2,-999.000,9,-999.000,9,  -999.0,9,  -999.0,9,  -9.0000,9,-999.0000,9, -999.00,9, -999.00,9,  -999.0,9,  -999.0,-999.000,9,-999.000,-999.000,9,  -9.0000,-999.0000,   4.4517,   -9.00
  316N145_7,       I08N,     301,          1,         17,         17,2,19950314,       1516,     0.2492,    79.9997,       4632,  1617.3,   3.8015,  34.8214,2,  34.8183,3,     97.5,2,   101.5,2,  111.91,2,   36.49,2,    0.00,2,    2.69,2,-999.000,9,-999.000,9,  -999.0,9,  -999.0,9,  -9.0000,9,-999.0000,9, -999.00,9, -999.00,9,  -999.0,9,  -999.0,-999.000,9,-999.000,-999.000,9,  -9.0000,-999.0000,   3.6733,   -9.00
  316N145_7,       I08N,     301,          1,         16,         16,2,19950314,       1516,     0.2492,    79.9997,       4632,  1768.2,   3.3635,  34.8006,2,  34.7955,3,    111.9,2,   111.8,2,  116.04,2,   36.16,2,    0.00,2,    2.64,2,-999.000,9,-999.000,9,  -999.0,9,  -999.0,9,  -9.0000,9,-999.0000,9, -999.00,9, -999.00,9,  -999.0,9,  -999.0,-999.000,9,-999.000,-999.000,9,  -9.0000,-999.0000,   3.2273,   -9.00
  316N145_7,       I08N,     301,          1,         15,         15,2,19950314,       1516,     0.2492,    79.9997,       4632,  1918.1,   2.8782,  34.7833,2,  34.7784,3,    123.2,2,   123.7,2,  121.66,2,   35.78,2,    0.00,2,    2.61,2,-999.000,9,-999.000,9,  -999.0,9,  -999.0,9,  -9.0000,9,-999.0000,9, -999.00,9, -999.00,9,  -999.0,9,  -999.0,-999.000,9,-999.000,-999.000,9,  -9.0000,-999.0000,   2.7354,   -9.00
  316N145_7,       I08N,     301,          1,         14,         14,2,19950314,       1516,     0.2492,    79.9997,       4632,  2120.8,   2.5785,  34.7697,2,  34.7649,3,    131.8,2,   131.4,2,  124.76,2,   35.54,2,    0.00,2,    2.57,2,-999.000,9,-999.000,9,  -999.0,9,  -999.0,9,  -9.0000,9,-999.0000,9, -999.00,9, -999.00,9,  -999.0,9,  -999.0,-999.000,9,-999.000,-999.000,9,  -9.0000,-999.0000,   2.4221,   -9.00
  316N145_7,       I08N,     301,          1,         13,         13,2,19950314,       1516,     0.2492,    79.9997,       4632,  2325.2,   2.2308,  34.7542,2,  34.7515,3,    142.7,2,   141.7,2,  128.09,2,   35.16,2,    0.00,2,    2.52,2,-999.000,9,-999.000,9,  -999.0,9,  -999.0,9,  -9.0000,9,-999.0000,9, -999.00,9, -999.00,9,  -999.0,9,  -999.0,-999.000,9,-999.000,-999.000,9,  -9.0000,-999.0000,   2.0619,   -9.00
  316N145_7,       I08N,     301,          1,         12,         12,2,19950314,       1516,     0.2492,    79.9997,       4632,  2528.0,   2.0671,  34.7465,2,  34.7427,3,    146.5,2,   146.9,2,  130.16,2,   34.97,2,    0.00,2,    2.49,2,-999.000,9,-999.000,9,  -999.0,9,  -999.0,9,  -9.0000,9,-999.0000,9, -999.00,9, -999.00,9,  -999.0,9,  -999.0,-999.000,9,-999.000,-999.000,9,  -9.0000,-999.0000,   1.8826,   -9.00
  316N145_7,       I08N,     301,          1,         11,         11,2,19950314,       1516,     0.2492,    79.9997,       4632,  2729.2,   1.8695,  34.7384,2,  34.7344,3,    153.9,2,   154.0,2,  131.59,2,   34.73,2,    0.00,2,    2.47,2,-999.000,9,-999.000,9,  -999.0,9,  -999.0,9,  -9.0000,9,-999.0000,9, -999.00,9, -999.00,9,  -999.0,9,  -999.0,-999.000,9,-999.000,-999.000,9,  -9.0000,-999.0000,   1.6702,   -9.00
  316N145_7,       I08N,     301,          1,         10,         10,2,19950314,       1516,     0.2492,    79.9997,       4632,  2932.0,   1.7601,  34.7340,2,  34.7299,3,    158.2,2,   156.9,2,  133.23,2,   34.64,2,    0.00,2,    2.45,2,-999.000,9,-999.000,9,  -999.0,9,  -999.0,9,  -9.0000,9,-999.0000,9, -999.00,9, -999.00,9,  -999.0,9,  -999.0,-999.000,9,-999.000,-999.000,9,  -9.0000,-999.0000,   1.5438,   -9.00
  316N145_7,       I08N,     301,          1,          9,          9,2,19950314,       1516,     0.2492,    79.9997,       4632,  3136.1,   1.6762,  34.7310,2,  34.7254,3,    159.9,2,   159.9,2,  134.46,2,   34.54,2,    0.00,2,    2.44,2,-999.000,9,-999.000,9,  -999.0,9,  -999.0,9,  -9.0000,9,-999.0000,9, -999.00,9, -999.00,9,  -999.0,9,  -999.0,-999.000,9,-999.000,-999.000,9,  -9.0000,-999.0000,   1.4420,   -9.00
  316N145_7,       I08N,     301,          1,          8,          8,2,19950314,       1516,     0.2492,    79.9997,       4632,  3339.1,   1.5831,  34.7271,2,  34.7226,3,    161.9,2,   161.6,2,  136.53,2,   34.49,2,    0.00,2,    2.43,2,-999.000,9,-999.000,9,  -999.0,9,  -999.0,9,  -9.0000,9,-999.0000,9, -999.00,9, -999.00,9,  -999.0,9,  -999.0,-999.000,9,-999.000,-999.000,9,  -9.0000,-999.0000,   1.3309,   -9.00
  316N145_7,       I08N,     301,          1,          7,          7,2,19950314,       1516,     0.2492,    79.9997,       4632,  3539.8,   1.5031,  34.7241,2,  34.7201,3,    164.3,2,   164.2,2,  137.97,2,   34.44,2,    0.00,2,    2.42,2,-999.000,9,-999.000,9,  -999.0,9,  -999.0,9,  -9.0000,9,-999.0000,9, -999.00,9, -999.00,9,  -999.0,9,  -999.0,-999.000,9,-999.000,-999.000,9,  -9.0000,-999.0000,   1.2326,   -9.00
  316N145_7,       I08N,     301,          1,          6,          6,2,19950314,       1516,     0.2492,    79.9997,       4632,  3741.5,   1.4409,  34.7221,2,  34.7181,3,    166.5,2,   166.1,2,  139.63,2,   34.43,2,    0.00,2,    2.41,2,-999.000,9,-999.000,9,  -999.0,9,  -999.0,9,  -9.0000,9,-999.0000,9, -999.00,9, -999.00,9,  -999.0,9,  -999.0,-999.000,9,-999.000,-999.000,9,  -9.0000,-999.0000,   1.1511,   -9.00
  316N145_7,       I08N,     301,          1,          5,          5,2,19950314,       1516,     0.2492,    79.9997,       4632,  3946.2,   1.4197,  34.7205,2,  34.7172,3,    168.6,2,   169.8,2,  138.50,2,   34.24,2,    0.00,2,    2.39,2,-999.000,9,-999.000,9,  -999.0,9,  -999.0,9,  -9.0000,9,-999.0000,9, -999.00,9, -999.00,9,  -999.0,9,  -999.0,-999.000,9,-999.000,-999.000,9,  -9.0000,-999.0000,   1.1087,   -9.00
  316N145_7,       I08N,     301,          1,          4,          4,2,19950314,       1516,     0.2492,    79.9997,       4632,  4149.4,   1.3937,  34.7195,2,  34.7166,3,    173.2,2,   173.5,2,  137.16,2,   34.05,2,    0.00,2,    2.36,2,-999.000,9,-999.000,9,  -999.0,9,  -999.0,9,  -9.0000,9,-999.0000,9, -999.00,9, -999.00,9,  -999.0,9,  -999.0,-999.000,9,-999.000,-999.000,9,  -9.0000,-999.0000,   1.0613,   -9.00
  316N145_7,       I08N,     301,          1,          3,          3,2,19950314,       1516,     0.2492,    79.9997,       4632,  4354.8,   1.3979,  34.7190,2,  34.7134,3,    175.3,2,   176.0,2,  136.25,2,   33.91,2,    0.00,2,    2.36,2,-999.000,9,-999.000,9,  -999.0,9,  -999.0,9,  -9.0000,9,-999.0000,9, -999.00,9, -999.00,9,  -999.0,9,  -999.0,-999.000,9,-999.000,-999.000,9,  -9.0000,-999.0000,   1.0425,   -9.00
  316N145_7,       I08N,     301,          1,          2,          2,2,19950314,       1516,     0.2492,    79.9997,       4632,  4558.8,   1.4063,  34.7187,2,  34.7132,3,    177.0,2,   177.6,2,  135.56,2,   33.81,2,    0.00,2,    2.35,2,-999.000,9,-999.000,9,  -999.0,9,  -999.0,9,  -9.0000,9,-999.0000,9, -999.00,9, -999.00,9,  -999.0,9,  -999.0,-999.000,9,-999.000,-999.000,9,  -9.0000,-999.0000,   1.0273,   -9.00
  316N145_7,       I08N,     301,          1,          1,          1,2,19950314,       1516,     0.2492,    79.9997,       4632,  4717.6,   1.4169,  34.7178,2,  34.7160,3,    178.3,2,   177.4,2,  135.29,2,   33.81,2,    0.00,2,    2.35,2,-999.000,9,-999.000,9,  -999.0,9,  -999.0,9,  -9.0000,9,-999.0000,9, -999.00,9, -999.00,9,  -999.0,9,  -999.0,-999.000,9,-999.000,-999.000,9,  -9.0000,-999.0000,   1.0190,   -9.00