BOTTLE,20211124CCHSIORKP
EXPOCODE,SECT_ID,STNNBR,CASTNO,SAMPNO,BTLNBR,BTLNBR_FLAG_W,DATE,TIME,LATITUDE,LONGITUDE,DEPTH,CTDPRS,CTDTMP,CTDSAL,CTDSAL_FLAG_W,SALNTY,SALNTY_FLAG_W,CTDOXY,CTDOXY_FLAG_W,OXYGEN,OXYGEN_FLAG_W,SILCAT,SILCAT_FLAG_W,NITRAT,NITRAT_FLAG_W,NITRIT,NITRIT_FLAG_W,PHSPHT,PHSPHT_FLAG_W,CFC-11,CFC-11_FLAG_W,CFC-12,CFC-12_FLAG_W,TCARBN,TCARBN_FLAG_W,ALKALI,ALKALI_FLAG_W,TRITUM,TRITUM_FLAG_W,HELIUM,HELIUM_FLAG_W,DELHE3,DELHE3_FLAG_W,DELC13,DELC13_FLAG_W,DELC14,DELC14_FLAG_W,C14ERR,NEON,NEON_FLAG_W,NEONER,CCL4,CCL4_FLAG_W,TRITER,HELIER,THETA,DELHER
,,,,,,,,,,,METERS,DBAR,ITS-90,PSS-78,,PSS-78,,UMOL/KG,,UMOL/KG,,UMOL/KG,,UMOL/KG,,UMOL/KG,,UMOL/KG,,PMOL/KG,,PMOL/KG,,UMOL/KG,,UMOL/KG,,TU,,NMOL/KG,,PERCNT,,/MILLE,,/MILLE,,/MILLE,NMOL/KG,,NMOL/KG,PMOL/KG,,TU,NMOL/KG,DEG C,PERCNT
  316N145_7,      TRANS,     389,          1,         36,         36,2,19950402,       2209,   -28.0923,    87.1320,       4156,     3.1,  22.8800,  36.0872,2,-999.0000,5,    215.0,2,   215.2,2,    2.66,2,    0.11,2,    0.00,2,    0.11,2,   2.048,2,   1.154,2,  -999.0,9,  -999.0,9,  -9.0000,9,-999.0000,9, -999.00,9,    1.40,2,    73.7,2,     5.6,-999.000,9,-999.000,-999.000,9,  -9.0000,-999.0000,  22.8794,   -9.00
  316N145_7,      TRANS,     389,          1,         35,         35,2,19950402,       2209,   -28.0923,    87.1320,       4156,    36.2,  22.7217,  36.0752,2,  36.0714,2,    217.2,2,   217.6,2,    2.65,2,    0.11,2,    0.00,2,    0.11,2,-999.000,9,-999.000,9,  -999.0,9,  -999.0,9,  -9.0000,9,-999.0000,9, -999.00,9, -999.00,9,  -999.0,9,  -999.0,-999.000,9,-999.000,-999.000,9,  -9.0000,-999.0000,  22.7143,   -9.00
  316N145_7,      TRANS,     389,          1,         34,         34,2,19950402,       2209,   -28.0923,    87.1320,       4156,    65.7,  18.2760,  35.7522,2,  35.7505,2,    252.2,2,   252.7,2,    2.42,2,    0.11,2,    0.00,2,    0.15,2,   2.663,3,   1.461,3,  -999.0,9,  -999.0,9,  -9.0000,9,-999.0000,9, -999.00,9,    1.58,2,    69.2,2,     4.6,-999.000,9,-999.000,-999.000,9,  -9.0000,-999.0000,  18.2645,   -9.00
  316N145_7,      TRANS,     389,          1,         33,         33,2,19950402,       2209,   -28.0923,    87.1320,       4156,    96.9,  16.2266,  35.6401,2,  35.6467,2,    244.4,2,   247.7,2,    2.20,2,    0.11,2,    0.00,2,    0.20,2,-999.000,9,-999.000,9,  -999.0,9,  -999.0,9,  -9.0000,9,-999.0000,9, -999.00,9,    1.53,2,    78.9,2,     5.6,-999.000,9,-999.000,-999.000,9,  -9.0000,-999.0000,  16.2111,   -9.00
  316N145_7,      TRANS,     389,          1,         32,         32,2,19950402,       2209,   -28.0923,    87.1320,       4156,   135.5,  15.0288,  35.4980,2,  35.5024,2,    238.6,2,   240.1,2,    2.19,2,    1.01,2,    0.12,2,    0.32,2,   2.855,2,   1.557,2,  -999.0,9,  -999.0,9,  -9.0000,9,-999.0000,9, -999.00,9, -999.00,9,  -999.0,9,  -999.0,-999.000,9,-999.000,-999.000,9,  -9.0000,-999.0000,  15.0083,   -9.00
  316N145_7,      TRANS,     389,          1,         31,         31,2,19950402,       2209,   -28.0923,    87.1320,       4156,   187.0,  13.7314,  35.3445,2,  35.3431,2,    223.6,2,   229.2,2,    2.81,2,    5.76,2,    0.02,2,    0.55,2,   2.972,2,   1.585,2,  -999.0,9,  -999.0,9,  -9.0000,9,-999.0000,9, -999.00,9,    1.15,2,    61.3,2,     3.7,-999.000,9,-999.000,-999.000,9,  -9.0000,-999.0000,  13.7047,   -9.00
  316N145_7,      TRANS,     389,          1,         30,         30,2,19950402,       2209,   -28.0923,    87.1320,       4156,   236.9,  12.8420,  35.2143,2,  35.2158,2,    230.3,2,   232.6,2,    3.43,2,    7.73,2,    0.01,2,    0.66,2,   3.064,2,   1.631,2,  -999.0,9,  -999.0,9,  -9.0000,9,-999.0000,9, -999.00,9,    1.27,2,    65.7,2,     3.7,-999.000,9,-999.000,-999.000,9,  -9.0000,-999.0000,  12.8095,   -9.00
  316N145_7,      TRANS,     389,          1,         29,         29,2,19950402,       2209,   -28.0923,    87.1320,       4156,   307.5,  12.0618,  35.1043,2,  35.1071,2,    235.9,2,   236.5,2,    3.85,2,    9.35,2,    0.00,2,    0.75,2,   3.101,2,   1.631,2,  -999.0,9,  -999.0,9,  -9.0000,9,-999.0000,9, -999.00,9,    1.24,2,    56.7,2,     5.9,-999.000,9,-999.000,-999.000,9,  -9.0000,-999.0000,  12.0214,   -9.00
  316N145_7,      TRANS,     389,          1,         28,         28,2,19950402,       2209,   -28.0923,    87.1320,       4156,   377.3,  11.4749,  35.0112,2,  35.0163,2,    235.3,2,   238.0,2,    4.26,2,   10.63,2,    0.00,2,    0.83,2,   3.097,2,   1.597,2,  -999.0,9,  -999.0,9,  -9.0000,9,-999.0000,9, -999.00,9,    1.29,2,    58.7,2,     3.9,-999.000,9,-999.000,-999.000,9,  -9.0000,-999.0000,  11.4267,   -9.00
  316N145_7,      TRANS,     389,          1,         27,         27,2,19950402,       2209,   -28.0923,    87.1320,       4156,   457.8,  10.8938,  34.9274,2,  34.9300,2,    239.3,2,   239.6,2,    4.46,2,   11.85,2,    0.00,2,    0.89,2,   3.090,2,   1.593,2,  -999.0,9,  -999.0,9,  -9.0000,9,-999.0000,9, -999.00,9,    1.30,2,    53.7,2,     3.9,-999.000,9,-999.000,-999.000,9,  -9.0000,-999.0000,  10.8370,   -9.00
  316N145_7,      TRANS,     389,          1,         26,         26,2,19950402,       2209,   -28.0923,    87.1320,       4156,   557.0,  10.0058,  34.7902,2,  34.7915,2,    241.7,2,   238.3,2,    5.08,2,   14.35,2,    0.00,2,    1.05,2,-999.000,9,-999.000,9,  -999.0,9,  -999.0,9,  -9.0000,9,-999.0000,9, -999.00,9,    1.34,2,    58.3,6,     2.6,-999.000,9,-999.000,-999.000,9,  -9.0000,-999.0000,   9.9401,   -9.00
  316N145_7,      TRANS,     389,          1,         25,         25,2,19950402,       2209,   -28.0923,    87.1320,       4156,   657.2,   9.0328,  34.6543,2,  34.6592,2,    231.3,2,   227.1,2,    7.41,2,   18.03,2,    0.00,2,    1.28,2,   2.366,2,   1.178,2,  -999.0,9,  -999.0,9,  -9.0000,9,-999.0000,9, -999.00,9,    1.29,2,    35.8,6,     3.0,-999.000,9,-999.000,-999.000,9,  -9.0000,-999.0000,   8.9597,   -9.00
  316N145_7,      TRANS,     389,          1,         24,         24,2,19950402,       2209,   -28.0923,    87.1320,       4156,   758.9,   7.7587,  34.5406,2,  34.5421,2,    213.5,2,   207.1,2,   13.55,2,   22.79,2,    0.00,2,    1.58,2,   1.384,2,   0.685,2,  -999.0,9,  -999.0,9,  -9.0000,9,-999.0000,9, -999.00,9,    1.18,2,   -17.0,6,     2.6,-999.000,9,-999.000,   1.336,6,  -9.0000,-999.0000,   7.6810,   -9.00
  316N145_7,      TRANS,     389,          1,         23,         23,2,19950402,       2209,   -28.0923,    87.1320,       4156,   859.6,   6.2749,  34.4459,2,  34.4493,2,    200.7,2,   197.5,2,   22.88,2,   26.98,2,    0.00,2,    1.86,2,-999.000,9,-999.000,9,  -999.0,9,  -999.0,9,  -9.0000,9,-999.0000,9, -999.00,9,    1.02,2,   -52.2,6,     2.8,-999.000,9,-999.000,-999.000,9,  -9.0000,-999.0000,   6.1960,   -9.00
  316N145_7,      TRANS,     389,          1,         22,         22,2,19950402,       2209,   -28.0923,    87.1320,       4156,   959.9,   4.9090,  34.4009,2,  34.4033,2,    189.1,2,   189.2,2,   36.46,2,   30.49,2,    0.00,2,    2.12,2,   0.465,2,   0.231,2,  -999.0,9,  -999.0,9,  -9.0000,9,   1.8060,2,    4.33,2,    0.85,2,   -79.4,2,     3.9,-999.000,9,-999.000,-999.000,9,  -9.0000,-999.0000,   4.8301,   -9.00
  316N145_7,      TRANS,     389,          1,         21,         21,2,19950402,       2209,   -28.0923,    87.1320,       4156,  1051.3,   4.2197,  34.4283,2,  34.4294,2,    177.7,2,   174.5,2,   50.46,2,   32.62,2,    0.00,2,    2.29,2,   0.222,2,   0.109,2,  -999.0,9,  -999.0,9,  -9.0000,9,-999.0000,9, -999.00,9,    0.50,2,  -120.3,2,     3.3,-999.000,9,-999.000,-999.000,9,  -9.0000,-999.0000,   4.1381,   -9.00
  316N145_7,      TRANS,     389,          1,         20,         20,2,19950402,       2209,   -28.0923,    87.1320,       4156,  1213.4,   3.7023,  34.5093,2,  34.5105,2,    156.1,2,   153.6,2,   69.35,2,   34.46,2,    0.00,2,    2.44,2,   0.054,6,   0.027,6,  -999.0,9,  -999.0,9,  -9.0000,9,   1.8390,2,    8.64,2,    0.52,2,  -147.2,2,     3.0,-999.000,9,-999.000,-999.000,9,  -9.0000,-999.0000,   3.6113,   -9.00
  316N145_7,      TRANS,     389,          1,         19,         19,2,19950402,       2209,   -28.0923,    87.1320,       4156,  1365.0,   3.3528,  34.5630,2,  34.5639,2,    150.6,2,   149.6,2,   78.69,2,   34.70,2,    0.00,2,    2.47,2,   0.020,2,   0.008,2,  -999.0,9,  -999.0,9,  -9.0000,9,-999.0000,9, -999.00,9,    0.00,2,  -159.3,2,     4.5,-999.000,9,-999.000,-999.000,9,  -9.0000,-999.0000,   3.2524,   -9.00
  316N145_7,      TRANS,     389,          1,         18,         18,2,19950402,       2209,   -28.0923,    87.1320,       4156,  1515.9,   3.0464,  34.6089,2,  34.6099,2,    151.3,2,   151.4,2,   84.42,2,   34.51,2,    0.00,2,    2.45,2,   0.013,2,   0.006,2,  -999.0,9,  -999.0,9,  -9.0000,9,   1.8570,2,   11.12,2, -999.00,9,  -999.0,9,  -999.0,-999.000,9,-999.000,-999.000,9,  -9.0000,-999.0000,   2.9366,   -9.00
  316N145_7,      TRANS,     389,          1,         17,         17,2,19950402,       2209,   -28.0923,    87.1320,       4156,  1666.7,   2.8446,  34.6497,2,  34.6506,2,    153.0,2,   153.3,2,   90.37,2,   34.21,2,    0.00,2,    2.43,2,-999.000,9,-999.000,9,  -999.0,9,  -999.0,9,  -9.0000,9,-999.0000,9, -999.00,9, -999.00,9,  -999.0,9,  -999.0,-999.000,9,-999.000,-999.000,9,  -9.0000,-999.0000,   2.7245,   -9.00
  316N145_7,      TRANS,     389,          1,         16,         16,2,19950402,       2209,   -28.0923,    87.1320,       4156,  1819.7,   2.6262,  34.6788,2,  34.6798,2,    159.4,2,   159.0,2,   93.55,2,   33.66,2,    0.00,2,    2.38,2,   0.006,2,   0.002,2,  -999.0,9,  -999.0,9,  -9.0000,9,   1.8870,3,   12.17,3, -999.00,9,  -999.0,9,  -999.0,-999.000,9,-999.000,-999.000,9,  -9.0000,-999.0000,   2.4958,   -9.00
  316N145_7,      TRANS,     389,          1,         15,         15,2,19950402,       2209,   -28.0923,    87.1320,       4156,  1971.7,   2.4466,  34.7028,2,  34.7042,2,    161.2,2,   162.9,2,   99.30,2,   33.41,2,    0.00,2,    2.36,2,-999.000,9,-999.000,9,  -999.0,9,  -999.0,9,  -9.0000,9,-999.0000,9, -999.00,9, -999.00,9,  -999.0,9,  -999.0,-999.000,9,-999.000,-999.000,9,  -9.0000,-999.0000,   2.3056,   -9.00
  316N145_7,      TRANS,     389,          1,         14,         14,2,19950402,       2209,   -28.0923,    87.1320,       4156,  2123.4,   2.2103,  34.7190,2,  34.7199,2,    167.9,2,   169.1,2,  102.91,2,   32.97,2,    0.00,2,    2.32,2,   0.002,2,   0.001,2,  -999.0,9,  -999.0,9,  -9.0000,9,   1.8770,2,   14.18,2, -999.00,9,  -999.0,9,  -999.0,-999.000,9,-999.000,-999.000,9,  -9.0000,-999.0000,   2.0598,   -9.00
  316N145_7,      TRANS,     389,          1,         13,         13,2,19950402,       2209,   -28.0923,    87.1320,       4156,  2275.9,   2.0747,  34.7233,2,  34.7245,2,    174.3,2,   174.4,2,  103.31,2,   32.47,3,    0.00,2,    2.30,2,-999.000,9,-999.000,9,  -999.0,9,  -999.0,9,  -9.0000,9,   1.8800,2,   14.63,2, -999.00,9,  -999.0,9,  -999.0,-999.000,9,-999.000,-999.000,9,  -9.0000,-999.0000,   1.9130,   -9.00
  316N145_7,      TRANS,     389,          1,         12,         12,2,19950402,       2209,   -28.0923,    87.1320,       4156,  2428.2,   1.9325,  34.7275,2,  34.7286,2,    179.1,2,   178.4,2,  105.64,2,   32.42,2,    0.00,2,    2.27,2,   0.000,2,   0.001,2,  -999.0,9,  -999.0,9,  -9.0000,9,   1.8970,2,   14.69,2, -999.00,9,  -999.0,9,  -999.0,-999.000,9,-999.000,-999.000,9,  -9.0000,-999.0000,   1.7596,   -9.00
  316N145_7,      TRANS,     389,          1,         11,         11,2,19950402,       2209,   -28.0923,    87.1320,       4156,  2603.4,   1.7760,  34.7280,2,  34.7292,2,    181.3,2,   180.2,2,  110.34,2,   32.42,2,    0.00,2,    2.28,2,-999.000,9,-999.000,9,  -999.0,9,  -999.0,9,  -9.0000,9,   1.8870,2,   14.03,2, -999.00,9,  -999.0,9,  -999.0,-999.000,9,-999.000,-999.000,9,  -9.0000,-999.0000,   1.5902,   -9.00
  316N145_7,      TRANS,     389,          1,         10,         10,2,19950402,       2209,   -28.0923,    87.1320,       4156,  2781.7,   1.6714,  34.7309,2,  34.7317,2,    186.7,2,   187.3,2,  108.80,2,   31.93,2,    0.00,2,    2.24,2,  -0.001,2,   0.000,2,  -999.0,9,  -999.0,9,  -9.0000,9,   1.8790,2,   13.73,2, -999.00,9,  -999.0,9,  -999.0,-999.000,9,-999.000,-999.000,9,  -9.0000,-999.0000,   1.4713,   -9.00
  316N145_7,      TRANS,     389,          1,          9,          9,2,19950402,       2209,   -28.0923,    87.1320,       4156,  2960.6,   1.5725,  34.7300,2,  34.7315,2,    190.0,2,   189.8,2,  111.57,2,   31.93,2,    0.00,2,    2.24,2,-999.000,9,-999.000,9,  -999.0,9,  -999.0,9,  -9.0000,9,-999.0000,9, -999.00,9, -999.00,9,  -999.0,9,  -999.0,-999.000,9,-999.000,-999.000,9,  -9.0000,-999.0000,   1.3576,   -9.00
  316N145_7,      TRANS,     389,          1,          8,          8,2,19950402,       2209,   -28.0923,    87.1320,       4156,  3138.5,   1.4742,  34.7271,2,  34.7280,2,    189.3,2,   189.5,2,  115.20,2,   32.18,2,    0.00,2,    2.25,2,   0.000,2,   0.001,2,  -999.0,9,  -999.0,9,  -9.0000,9,-999.0000,9, -999.00,9, -999.00,9,  -999.0,9,  -999.0,-999.000,9,-999.000,-999.000,9,  -9.0000,-999.0000,   1.2444,   -9.00
  316N145_7,      TRANS,     389,          1,          7,          7,2,19950402,       2209,   -28.0923,    87.1320,       4156,  3317.6,   1.4204,  34.7252,2,  34.7262,2,    189.1,2,   189.7,2,  117.55,2,   32.23,2,    0.00,2,    2.26,2,-999.000,9,-999.000,9,  -999.0,9,  -999.0,9,  -9.0000,9,   1.8830,2,   12.45,2, -999.00,9,  -999.0,9,  -999.0,-999.000,9,-999.000,-999.000,9,  -9.0000,-999.0000,   1.1744,   -9.00
  316N145_7,      TRANS,     389,          1,          6,          6,2,19950402,       2209,   -28.0923,    87.1320,       4156,  3496.1,   1.3649,  34.7230,2,  34.7241,2,    190.4,2,   191.1,2,  119.24,2,   32.38,2,    0.00,2,    2.27,2,   0.003,2,   0.001,2,  -999.0,9,  -999.0,9,  -9.0000,9,-999.0000,9, -999.00,9, -999.00,9,  -999.0,9,  -999.0,-999.000,9,-999.000,-999.000,9,  -9.0000,-999.0000,   1.1023,   -9.00
  316N145_7,      TRANS,     389,          1,          5,          5,2,19950402,       2209,   -28.0923,    87.1320,       4156,  3673.9,   1.2872,  34.7199,2,  34.7211,2,    192.9,2,   193.7,2,  120.51,2,   32.43,2,    0.00,2,    2.27,2,-999.000,9,-999.000,9,  -999.0,9,  -999.0,9,  -9.0000,9,-999.0000,9, -999.00,9, -999.00,9,  -999.0,9,  -999.0,-999.000,9,-999.000,-999.000,9,  -9.0000,-999.0000,   1.0085,   -9.00
  316N145_7,      TRANS,     389,          1,          4,          4,2,19950402,       2209,   -28.0923,    87.1320,       4156,  3853.9,   1.2304,  34.7177,2,  34.7190,2,    195.8,2,   195.1,2,  121.12,2,   32.43,2,    0.00,2,    2.27,2,  -0.002,2,   0.000,2,  -999.0,9,  -999.0,9,  -9.0000,9,   1.8880,2,   11.48,2, -999.00,9,  -999.0,9,  -999.0,-999.000,9,-999.000,-999.000,9,  -9.0000,-999.0000,   0.9345,   -9.00
  316N145_7,      TRANS,     389,          1,          3,          3,2,19950402,       2209,   -28.0923,    87.1320,       4156,  4032.6,   1.2323,  34.7172,2,  34.7170,2,    195.9,2,   195.7,2,  121.30,2,   32.48,2,    0.00,2,    2.27,2,   0.000,2,   0.000,2,  -999.0,9,  -999.0,9,  -9.0000,9,-999.0000,9, -999.00,9, -999.00,9,  -999.0,9,  -999.0,-999.000,9,-999.000,-999.000,9,  -9.0000,-999.0000,   0.9173,   -9.00
  316N145_7,      TRANS,     389,          1,          2,          2,2,19950402,       2209,   -28.0923,    87.1320,       4156,  4159.3,   1.2184,  34.7166,2,  34.7176,2,    196.9,2,   196.9,2,  121.70,2,   32.43,2,    0.00,2,    2.27,2,  -0.001,2,   0.000,2,  -999.0,9,  -999.0,9,  -9.0000,9,-999.0000,9, -999.00,9, -999.00,9,  -999.0,9,  -999.0,-999.000,9,-999.000,-999.000,9,  -9.0000,-999.0000,   0.8900,   -9.00
  316N145_7,      TRANS,     389,          1,          1,          1,2,19950402,       2209,   -28.0923,    87.1320,       4156,  4226.6,   1.2143,  34.7160,2,  34.7172,2,    197.2,2,   197.0,2,  121.67,2,   32.18,3,    0.00,2,    2.26,2,   0.000,2,   0.001,2,  -999.0,9,  -999.0,9,  -9.0000,9,   1.8870,2,   10.77,2, -999.00,9,  -999.0,9,  -999.0,-999.000,9,-999.000,-999.000,9,  -9.0000,-999.0000,   0.8787,   -9.00