BOTTLE,20211124CCHSIORKP
EXPOCODE,SECT_ID,STNNBR,CASTNO,SAMPNO,BTLNBR,BTLNBR_FLAG_W,DATE,TIME,LATITUDE,LONGITUDE,DEPTH,CTDPRS,CTDTMP,CTDSAL,CTDSAL_FLAG_W,SALNTY,SALNTY_FLAG_W,CTDOXY,CTDOXY_FLAG_W,OXYGEN,OXYGEN_FLAG_W,SILCAT,SILCAT_FLAG_W,NITRAT,NITRAT_FLAG_W,NITRIT,NITRIT_FLAG_W,PHSPHT,PHSPHT_FLAG_W,CFC-11,CFC-11_FLAG_W,CFC-12,CFC-12_FLAG_W,TCARBN,TCARBN_FLAG_W,ALKALI,ALKALI_FLAG_W,TRITUM,TRITUM_FLAG_W,HELIUM,HELIUM_FLAG_W,DELHE3,DELHE3_FLAG_W,DELC13,DELC13_FLAG_W,DELC14,DELC14_FLAG_W,C14ERR,NEON,NEON_FLAG_W,NEONER,CCL4,CCL4_FLAG_W,TRITER,HELIER,THETA,DELHER
,,,,,,,,,,,METERS,DBAR,ITS-90,PSS-78,,PSS-78,,UMOL/KG,,UMOL/KG,,UMOL/KG,,UMOL/KG,,UMOL/KG,,UMOL/KG,,PMOL/KG,,PMOL/KG,,UMOL/KG,,UMOL/KG,,TU,,NMOL/KG,,PERCNT,,/MILLE,,/MILLE,,/MILLE,NMOL/KG,,NMOL/KG,PMOL/KG,,TU,NMOL/KG,DEG C,PERCNT
  316N145_7,      TRANS,     364,          1,         36,         36,2,19950329,       0859,   -26.8668,    86.4505,       3875,     2.1,  25.0282,  35.7982,2,  35.7973,2,    213.6,2,   212.8,2,    3.41,2,    0.17,2,    0.00,2,    0.10,2,   1.834,2,   1.033,2,  2004.7,2,  2341.7,2,  -9.0000,9,-999.0000,9, -999.00,9, -999.00,9,  -999.0,9,  -999.0,-999.000,9,-999.000,-999.000,9,  -9.0000,-999.0000,  25.0278,   -9.00
  316N145_7,      TRANS,     364,          1,         35,         35,2,19950329,       0859,   -26.8668,    86.4505,       3875,    34.2,  24.9047,  35.8088,2,  35.8091,2,    209.7,2,   209.7,2,    3.38,2,    0.17,2,    0.00,2,    0.10,2,-999.000,9,-999.000,9,  2005.3,2,  2337.4,2,  -9.0000,9,-999.0000,9, -999.00,9, -999.00,9,  -999.0,9,  -999.0,-999.000,9,-999.000,-999.000,9,  -9.0000,-999.0000,  24.8973,   -9.00
  316N145_7,      TRANS,     364,          1,         34,         34,2,19950329,       0859,   -26.8668,    86.4505,       3875,    64.7,  21.7837,  35.7449,2,  35.7446,2,    237.4,2,   234.0,2,    3.36,2,    0.17,2,    0.00,2,    0.12,2,   2.189,2,   1.201,2,  2015.1,2,  2338.6,2,  -9.0000,9,-999.0000,9, -999.00,9, -999.00,9,  -999.0,9,  -999.0,-999.000,9,-999.000,-999.000,9,  -9.0000,-999.0000,  21.7709,   -9.00
  316N145_7,      TRANS,     364,          1,         33,         33,2,19950329,       0859,   -26.8668,    86.4505,       3875,    94.4,  20.1062,  35.8401,2,  35.8396,2,    234.8,2,   228.7,2,    3.33,2,    0.16,2,    0.00,2,    0.13,2,-999.000,9,-999.000,9,  2033.6,2,  2342.9,2,  -9.0000,9,-999.0000,9, -999.00,9, -999.00,9,  -999.0,9,  -999.0,-999.000,9,-999.000,-999.000,9,  -9.0000,-999.0000,  20.0886,   -9.00
  316N145_7,      TRANS,     364,          1,         32,         32,2,19950329,       0859,   -26.8668,    86.4505,       3875,   134.4,  18.8018,  35.8841,2,  35.8822,2,    232.2,2,   226.2,2,    3.09,2,    0.16,2,    0.00,2,    0.17,2,   2.346,2,   1.272,2,  2054.4,2,  2342.0,2,  -9.0000,9,-999.0000,9, -999.00,9, -999.00,9,  -999.0,9,  -999.0,-999.000,9,-999.000,-999.000,9,  -9.0000,-999.0000,  18.7779,   -9.00
  316N145_7,      TRANS,     364,          1,         31,         31,2,19950329,       0859,   -26.8668,    86.4505,       3875,   175.3,  17.7473,  35.8444,2,  35.8368,2,    224.3,2,   221.2,2,    2.85,2,    0.33,2,    0.17,2,    0.22,2,-999.000,9,-999.000,9,  2068.9,2,  2348.1,2,  -9.0000,9,-999.0000,9, -999.00,9, -999.00,9,  -999.0,9,  -999.0,-999.000,9,-999.000,-999.000,9,  -9.0000,-999.0000,  17.7173,   -9.00
  316N145_7,      TRANS,     364,          1,         30,         30,2,19950329,       0859,   -26.8668,    86.4505,       3875,   225.3,  15.8596,  35.6474,2,  35.6553,2,    219.1,2,   218.3,2,    2.83,2,    2.80,2,    0.00,2,    0.37,2,   2.508,2,   1.325,2,  2081.5,2,  2341.1,2,  -9.0000,9,-999.0000,9, -999.00,9, -999.00,9,  -999.0,9,  -999.0,-999.000,9,-999.000,-999.000,9,  -9.0000,-999.0000,  15.8239,   -9.00
  316N145_7,      TRANS,     364,          1,         29,         29,2,19950329,       0859,   -26.8668,    86.4505,       3875,   276.0,  14.3516,  35.4459,2,  35.4635,2,    220.6,2,   221.2,2,    3.23,2,    5.14,2,    0.00,2,    0.50,2,   2.593,2,   1.344,2,  2093.7,2,  2331.7,2,  -9.0000,9,-999.0000,9, -999.00,9, -999.00,9,  -999.0,9,  -999.0,-999.000,9,-999.000,-999.000,9,  -9.0000,-999.0000,  14.3108,   -9.00
  316N145_7,      TRANS,     364,          1,         28,         28,2,19950329,       0859,   -26.8668,    86.4505,       3875,   325.6,  13.6212,  35.3449,2,  35.3478,2,    225.8,2,   225.4,2,    3.20,2,    6.56,2,    0.00,2,    0.58,2,   2.903,2,   1.485,2,  2096.2,2,  2326.3,2,  -9.0000,9,-999.0000,9, -999.00,9, -999.00,9,  -999.0,9,  -999.0,-999.000,9,-999.000,-999.000,9,  -9.0000,-999.0000,  13.5747,   -9.00
  316N145_7,      TRANS,     364,          1,         27,         27,2,19950329,       0859,   -26.8668,    86.4505,       3875,   376.2,  12.5595,  35.1869,2,  35.1901,2,    227.3,2,   229.5,2,    3.60,2,    8.72,2,    0.00,2,    0.70,2,   2.907,2,   1.482,2,  2099.2,2,  2316.9,2,  -9.0000,9,-999.0000,9, -999.00,9, -999.00,9,  -999.0,9,  -999.0,-999.000,9,-999.000,-999.000,9,  -9.0000,-999.0000,  12.5085,   -9.00
  316N145_7,      TRANS,     364,          1,         26,         26,2,19950329,       0859,   -26.8668,    86.4505,       3875,   436.6,  11.8930,  35.0842,2,  35.0865,2,    231.6,2,   233.0,2,    4.00,2,   10.04,2,    0.00,2,    0.78,2,   2.909,2,   1.473,2,  2101.6,2,  2313.7,2,  -9.0000,9,-999.0000,9, -999.00,9, -999.00,9,  -999.0,9,  -999.0,-999.000,9,-999.000,-999.000,9,  -9.0000,-999.0000,  11.8357,   -9.00
  316N145_7,      TRANS,     364,          1,         25,         25,2,19950329,       0859,   -26.8668,    86.4505,       3875,   506.1,  11.0548,  34.9543,2,  34.9545,2,    233.3,2,   236.2,2,    4.40,2,   11.80,2,    0.00,2,    0.88,2,   2.856,2,   1.447,2,  2104.7,2,  2307.4,2,  -9.0000,9,-999.0000,9, -999.00,9, -999.00,9,  -999.0,9,  -999.0,-999.000,9,-999.000,-999.000,9,  -9.0000,-999.0000,  10.9914,   -9.00
  316N145_7,      TRANS,     364,          1,         24,         24,2,19950329,       0859,   -26.8668,    86.4505,       3875,   606.4,  10.0199,  34.7924,2,  34.7912,2,    236.3,2,   236.0,2,    5.23,2,   14.70,2,    0.00,2,    1.05,2,   2.694,2,   1.337,2,  2112.2,2,  2299.6,2,  -9.0000,9,-999.0000,9, -999.00,9, -999.00,9,  -999.0,9,  -999.0,-999.000,9,-999.000,   1.634,6,  -9.0000,-999.0000,   9.9482,   -9.00
  316N145_7,      TRANS,     364,          1,         23,         23,2,19950329,       0859,   -26.8668,    86.4505,       3875,   708.4,   9.0407,  34.6566,2,  34.6607,2,    226.7,2,   228.2,2,    7.11,2,   18.13,2,    0.00,2,    1.26,2,-999.000,9,-999.000,9,  -999.0,5,  2294.4,2,  -9.0000,9,-999.0000,9, -999.00,9, -999.00,9,  -999.0,9,  -999.0,-999.000,9,-999.000,-999.000,9,  -9.0000,-999.0000,   8.9616,   -9.00
  316N145_7,      TRANS,     364,          1,         22,         22,2,19950329,       0859,   -26.8668,    86.4505,       3875,   808.8,   7.6938,  34.5446,2,  34.5456,2,    208.2,2,   206.5,2,   14.31,2,   23.25,2,    0.00,2,    1.58,2,   1.199,6,   0.599,6,  2146.9,2,  2293.7,2,  -9.0000,9,-999.0000,9, -999.00,9, -999.00,9,  -999.0,9,  -999.0,-999.000,9,-999.000,-999.000,9,  -9.0000,-999.0000,   7.6111,   -9.00
  316N145_7,      TRANS,     364,          1,         21,         21,2,19950329,       0859,   -26.8668,    86.4505,       3875,   909.8,   6.1575,  34.4533,2,  34.4549,2,    193.0,2,   189.5,2,   27.68,2,   28.38,2,    0.00,2,    1.93,2,-999.000,9,-999.000,9,  2177.1,2,  2298.8,2,  -9.0000,9,-999.0000,9, -999.00,9, -999.00,9,  -999.0,9,  -999.0,-999.000,9,-999.000,-999.000,9,  -9.0000,-999.0000,   6.0744,   -9.00
  316N145_7,      TRANS,     364,          1,         20,         20,2,19950329,       0859,   -26.8668,    86.4505,       3875,  1010.0,   5.0447,  34.4336,2,  34.4352,2,    180.8,2,   175.7,2,   42.32,2,   31.55,2,    0.00,2,    2.17,2,   0.261,2,   0.133,2,  -999.0,5,  2314.7,2,  -9.0000,9,-999.0000,9, -999.00,9, -999.00,9,  -999.0,9,  -999.0,-999.000,9,-999.000,-999.000,9,  -9.0000,-999.0000,   4.9603,   -9.00
  316N145_7,      TRANS,     364,          1,         19,         19,2,19950329,       0859,   -26.8668,    86.4505,       3875,  1110.5,   4.3995,  34.4682,2,  34.4698,2,    160.8,2,   159.6,2,   57.81,2,   33.69,2,    0.00,2,    2.34,2,-999.000,9,-999.000,9,  2231.3,2,  2326.1,2,  -9.0000,9,-999.0000,9, -999.00,9, -999.00,9,  -999.0,9,  -999.0,-999.000,9,-999.000,-999.000,9,  -9.0000,-999.0000,   4.3112,   -9.00
  316N145_7,      TRANS,     364,          1,         18,         18,2,19950329,       0859,   -26.8668,    86.4505,       3875,  1211.2,   4.0213,  34.5165,2,  34.5188,2,    148.6,2,   147.0,2,   70.34,2,   34.93,2,    0.00,2,    2.45,2,   0.043,2,   0.023,2,  2251.2,2,  2343.1,2,  -9.0000,9,-999.0000,9, -999.00,9, -999.00,9,  -999.0,9,  -999.0,-999.000,9,-999.000,-999.000,9,  -9.0000,-999.0000,   3.9276,   -9.00
  316N145_7,      TRANS,     364,          1,         17,         17,2,19950329,       0859,   -26.8668,    86.4505,       3875,  1312.7,   3.6436,  34.5443,2,  34.5467,2,    147.1,2,   146.3,2,   76.29,2,   35.18,2,    0.00,2,    2.47,2,-999.000,9,-999.000,9,  2258.1,2,  2344.8,2,  -9.0000,9,-999.0000,9, -999.00,9, -999.00,9,  -999.0,9,  -999.0,-999.000,9,-999.000,-999.000,9,  -9.0000,-999.0000,   3.5447,   -9.00
  316N145_7,      TRANS,     364,          1,         16,         16,2,19950329,       0859,   -26.8668,    86.4505,       3875,  1413.2,   3.5067,  34.5895,2,  34.5897,2,    141.8,2,   140.7,2,   83.94,2,   35.47,2,    0.00,2,    2.50,2,   0.007,2,   0.006,2,  2269.8,2,  2357.2,2,  -9.0000,9,-999.0000,9, -999.00,9, -999.00,9,  -999.0,9,  -999.0,-999.000,9,-999.000,-999.000,9,  -9.0000,-999.0000,   3.4005,   -9.00
  316N145_7,      TRANS,     364,          1,         15,         15,2,19950329,       0859,   -26.8668,    86.4505,       3875,  1540.3,   3.1953,  34.6281,2,  34.6278,2,    143.9,2,   143.5,2,   89.47,2,   35.22,2,    0.00,2,    2.49,2,-999.000,9,-999.000,9,  2273.4,2,  2358.6,2,  -9.0000,9,-999.0000,9, -999.00,9, -999.00,9,  -999.0,9,  -999.0,-999.000,9,-999.000,-999.000,9,  -9.0000,-999.0000,   3.0817,   -9.00
  316N145_7,      TRANS,     364,          1,         14,         14,2,19950329,       0859,   -26.8668,    86.4505,       3875,  1666.2,   2.9781,  34.6567,2,  34.6565,2,    148.0,2,   147.8,2,   92.87,2,   34.92,2,    0.00,2,    2.46,2,   0.004,2,   0.005,2,  2275.1,2,  2368.1,2,  -9.0000,9,-999.0000,9, -999.00,9, -999.00,9,  -999.0,9,  -999.0,-999.000,9,-999.000,-999.000,9,  -9.0000,-999.0000,   2.8562,   -9.00
  316N145_7,      TRANS,     364,          1,         13,         13,2,19950329,       0859,   -26.8668,    86.4505,       3875,  1792.7,   2.7899,  34.6827,2,  34.6831,2,    151.0,2,   151.1,2,   97.77,2,   34.56,2,    0.00,2,    2.43,2,-999.000,9,-999.000,9,  2277.6,2,  2370.9,2,  -9.0000,9,-999.0000,9, -999.00,9, -999.00,9,  -999.0,9,  -999.0,-999.000,9,-999.000,-999.000,9,  -9.0000,-999.0000,   2.6595,   -9.00
  316N145_7,      TRANS,     364,          1,         12,         12,2,19950329,       0859,   -26.8668,    86.4505,       3875,  1920.0,   2.6299,  34.7020,2,  34.7021,2,    153.6,2,   154.6,2,  101.83,2,   34.36,2,    0.00,2,    2.41,2,   0.004,2,   0.006,2,  2277.6,2,  2378.9,2,  -9.0000,9,-999.0000,9, -999.00,9, -999.00,9,  -999.0,9,  -999.0,-999.000,9,-999.000,-999.000,9,  -9.0000,-999.0000,   2.4908,   -9.00
  316N145_7,      TRANS,     364,          1,         11,         11,2,19950329,       0859,   -26.8668,    86.4505,       3875,  2071.4,   2.4178,  34.7126,2,  34.7131,2,    159.6,2,   159.8,2,  105.03,2,   34.01,2,    0.00,2,    2.38,2,-999.000,9,-999.000,9,  2278.8,2,  2370.9,2,  -9.0000,9,-999.0000,9, -999.00,9, -999.00,9,  -999.0,9,  -999.0,-999.000,9,-999.000,-999.000,9,  -9.0000,-999.0000,   2.2686,   -9.00
  316N145_7,      TRANS,     364,          1,         10,         10,2,19950329,       0859,   -26.8668,    86.4505,       3875,  2224.5,   2.2887,  34.7185,2,  34.7186,2,    162.6,2,   163.6,2,  106.72,2,   33.81,2,    0.00,2,    2.37,2,   0.000,2,   0.001,2,  2278.6,2,  2380.7,2,  -9.0000,9,-999.0000,9, -999.00,9, -999.00,9,  -999.0,9,  -999.0,-999.000,9,-999.000,-999.000,9,  -9.0000,-999.0000,   2.1279,   -9.00
  316N145_7,      TRANS,     364,          1,          9,          9,2,19950329,       0859,   -26.8668,    86.4505,       3875,  2377.0,   2.1438,  34.7222,2,  34.7225,2,    168.2,2,   168.4,2,  108.42,2,   33.56,2,    0.00,2,    2.34,2,-999.000,9,-999.000,9,  2276.9,2,  2379.9,2,  -9.0000,9,-999.0000,9, -999.00,9, -999.00,9,  -999.0,9,  -999.0,-999.000,9,-999.000,-999.000,9,  -9.0000,-999.0000,   1.9718,   -9.00
  316N145_7,      TRANS,     364,          1,          8,          8,2,19950329,       0859,   -26.8668,    86.4505,       3875,  2528.5,   1.9186,  34.7257,2,  34.7259,2,    175.5,2,   174.8,2,  111.20,2,   33.21,2,    0.00,2,    2.31,2,-999.000,9,-999.000,9,  2278.0,2,  2380.8,2,  -9.0000,9,-999.0000,9, -999.00,9, -999.00,9,  -999.0,9,  -999.0,-999.000,9,-999.000,-999.000,9,  -9.0000,-999.0000,   1.7369,   -9.00
  316N145_7,      TRANS,     364,          1,          7,          7,2,19950329,       0859,   -26.8668,    86.4505,       3875,  2732.0,   1.7347,  34.7289,2,  34.7292,2,    183.8,2,   183.6,2,  110.96,2,   32.66,2,    0.00,2,    2.26,2,   0.002,2,   0.002,2,  2271.8,2,  2384.8,2,  -9.0000,9,-999.0000,9, -999.00,9, -999.00,9,  -999.0,9,  -999.0,-999.000,9,-999.000,-999.000,9,  -9.0000,-999.0000,   1.5379,   -9.00
  316N145_7,      TRANS,     364,          1,          6,          6,2,19950329,       0859,   -26.8668,    86.4505,       3875,  2935.0,   1.6308,  34.7299,2,  34.7300,2,    186.7,2,   190.4,3,  112.66,2,   32.56,2,    0.00,2,    2.25,2,-999.000,9,-999.000,9,  2271.6,2,  2383.3,2,  -9.0000,9,-999.0000,9, -999.00,9, -999.00,9,  -999.0,9,  -999.0,-999.000,9,-999.000,-999.000,9,  -9.0000,-999.0000,   1.4171,   -9.00
  316N145_7,      TRANS,     364,          1,          5,          5,2,19950329,       0859,   -26.8668,    86.4505,       3875,  3139.1,   1.5355,  34.7287,2,  34.7288,2,    187.9,2,   189.3,2,  114.79,2,   32.56,2,    0.00,2,    2.25,2,   0.000,2,   0.001,2,  2273.5,2,  2381.4,2,  -9.0000,9,-999.0000,9, -999.00,9, -999.00,9,  -999.0,9,  -999.0,-999.000,9,-999.000,-999.000,9,  -9.0000,-999.0000,   1.3042,   -9.00
  316N145_7,      TRANS,     364,          1,          4,          4,2,19950329,       0859,   -26.8668,    86.4505,       3875,  3343.3,   1.4208,  34.7248,2,  34.7247,2,    189.3,2,   188.6,2,  120.19,2,   32.86,2,    0.00,2,    2.27,2,-999.000,9,-999.000,9,  2280.0,2,  2406.5,3,  -9.0000,9,-999.0000,9, -999.00,9, -999.00,9,  -999.0,9,  -999.0,-999.000,9,-999.000,-999.000,9,  -9.0000,-999.0000,   1.1722,   -9.00
  316N145_7,      TRANS,     364,          1,          3,          3,2,19950329,       0859,   -26.8668,    86.4505,       3875,  3547.8,   1.3711,  34.7219,2,  34.7221,2,    189.0,2,   188.2,2,  123.65,2,   33.11,2,    0.00,2,    2.29,2,   0.002,2,   0.005,2,  2283.7,2,  2399.0,2,  -9.0000,9,-999.0000,9, -999.00,9, -999.00,9,  -999.0,9,  -999.0,-999.000,9,-999.000,-999.000,9,  -9.0000,-999.0000,   1.1031,   -9.00
  316N145_7,      TRANS,     364,          1,          2,          2,2,19950329,       0859,   -26.8668,    86.4505,       3875,  3751.4,   1.3622,  34.7210,2,  34.7201,2,    187.9,2,   188.4,2,  125.81,2,   33.25,2,    0.00,2,    2.30,2,   0.006,2,   0.009,2,  2288.0,2,  2414.9,3,  -9.0000,9,-999.0000,9, -999.00,9, -999.00,9,  -999.0,9,  -999.0,-999.000,9,-999.000,-999.000,9,  -9.0000,-999.0000,   1.0734,   -9.00
  316N145_7,      TRANS,     364,          1,          1,          1,2,19950329,       0859,   -26.8668,    86.4505,       3875,  3935.0,   1.3740,  34.7206,2,  34.7219,2,    188.2,2,   188.3,2,  126.21,2,   33.30,2,    0.00,2,    2.31,2,   0.005,2,  -0.001,2,  2289.5,2,  2407.4,2,  -9.0000,9,-999.0000,9, -999.00,9, -999.00,9,  -999.0,9,  -999.0,-999.000,9,-999.000,-999.000,9,  -9.0000,-999.0000,   1.0654,   -9.00