BOTTLE,20211124CCHSIORKP
EXPOCODE,SECT_ID,STNNBR,CASTNO,SAMPNO,BTLNBR,BTLNBR_FLAG_W,DATE,TIME,LATITUDE,LONGITUDE,DEPTH,CTDPRS,CTDTMP,CTDSAL,CTDSAL_FLAG_W,SALNTY,SALNTY_FLAG_W,CTDOXY,CTDOXY_FLAG_W,OXYGEN,OXYGEN_FLAG_W,SILCAT,SILCAT_FLAG_W,NITRAT,NITRAT_FLAG_W,NITRIT,NITRIT_FLAG_W,PHSPHT,PHSPHT_FLAG_W,CFC-11,CFC-11_FLAG_W,CFC-12,CFC-12_FLAG_W,TCARBN,TCARBN_FLAG_W,ALKALI,ALKALI_FLAG_W,TRITUM,TRITUM_FLAG_W,HELIUM,HELIUM_FLAG_W,DELHE3,DELHE3_FLAG_W,DELC13,DELC13_FLAG_W,DELC14,DELC14_FLAG_W,C14ERR,NEON,NEON_FLAG_W,NEONER,CCL4,CCL4_FLAG_W,TRITER,HELIER,THETA,DELHER
,,,,,,,,,,,METERS,DBAR,ITS-90,PSS-78,,PSS-78,,UMOL/KG,,UMOL/KG,,UMOL/KG,,UMOL/KG,,UMOL/KG,,UMOL/KG,,PMOL/KG,,PMOL/KG,,UMOL/KG,,UMOL/KG,,TU,,NMOL/KG,,PERCNT,,/MILLE,,/MILLE,,/MILLE,NMOL/KG,,NMOL/KG,PMOL/KG,,TU,NMOL/KG,DEG C,PERCNT
  316N145_7,       I05E,     440,          1,         12,         12,2,19950414,       0849,   -32.6302,   114.6668,        537,     3.0,  23.8991,  35.8363,2,  35.8353,2,    216.6,2,   215.8,2,    3.63,2,    0.08,2,    0.00,2,    0.06,2,-999.000,9,-999.000,9,  2006.6,2,  2342.7,2,   1.2232,2,   1.6916,2,   -1.16,2, -999.00,9,  -999.0,9,  -999.0,   6.743,2,   0.034,-999.000,9,   0.0042,   0.0085,  23.8984,    0.14
  316N145_7,       I05E,     440,          1,         11,         11,2,19950414,       0849,   -32.6302,   114.6668,        537,    29.8,  23.9013,  35.8336,2,  35.8272,2,    211.8,2,   216.0,2,    3.63,2,    0.08,2,    0.00,2,    0.06,2,-999.000,9,-999.000,9,  2006.7,2,  2337.6,2,  -9.0000,9,-999.0000,9, -999.00,9, -999.00,9,  -999.0,9,  -999.0,-999.000,9,-999.000,-999.000,9,  -9.0000,-999.0000,  23.8950,   -9.00
  316N145_7,       I05E,     440,          1,         10,         10,2,19950414,       0849,   -32.6302,   114.6668,        537,    63.8,  22.5041,  35.7016,2,  35.6890,2,    220.8,2,   214.7,2,    4.69,2,    0.69,2,    0.12,2,    0.16,2,-999.000,9,-999.000,9,  2022.7,2,  2334.1,2,   1.1807,2,   1.7033,2,   -0.81,2, -999.00,9,  -999.0,9,  -999.0,   6.863,2,   0.034,-999.000,9,   0.0041,   0.0085,  22.4912,    0.14
  316N145_7,       I05E,     440,          1,          9,          9,2,19950414,       0849,   -32.6302,   114.6668,        537,   102.7,  22.0160,  35.9368,2,  35.9492,2,    202.5,2,   209.1,2,    3.41,2,    0.69,2,    0.07,2,    0.15,2,-999.000,9,-999.000,9,  2039.7,2,  -999.0,5,   1.1964,2,   1.7088,2,   -1.53,2, -999.00,9,  -999.0,9,  -999.0,   6.858,2,   0.034,-999.000,9,   0.0041,   0.0085,  21.9956,    0.14
  316N145_7,       I05E,     440,          1,          8,          8,2,19950414,       0849,   -32.6302,   114.6668,        537,   152.8,  19.4714,  35.9504,2,  35.9449,2,    233.7,2,   231.6,2,    2.77,2,    0.07,2,    0.00,2,    0.11,2,-999.000,9,-999.000,9,  2049.2,2,  2353.3,2,  -9.0000,9,-999.0000,9, -999.00,9, -999.00,9,  -999.0,9,  -999.0,-999.000,9,-999.000,-999.000,9,  -9.0000,-999.0000,  19.4435,   -9.00
  316N145_7,       I05E,     440,          1,          7,          7,2,19950414,       0849,   -32.6302,   114.6668,        537,   203.9,  16.0885,  35.6802,2,  35.6882,2,    239.7,2,   238.7,2,    2.13,2,    0.42,2,    0.14,2,    0.21,2,-999.000,9,-999.000,9,  2067.6,2,  2364.6,3,   0.9651,2,   1.7405,2,   -1.00,2, -999.00,9,  -999.0,9,  -999.0,   7.192,2,   0.036,-999.000,9,   0.0037,   0.0087,  16.0559,    0.14
  316N145_7,       I05E,     440,          1,          6,          6,2,19950414,       0849,   -32.6302,   114.6668,        537,   255.1,  14.3020,  35.4326,2,  35.4240,2,    240.9,2,   236.7,2,    2.13,2,    3.37,2,    0.01,2,    0.39,2,-999.000,9,-999.000,9,  2081.1,2,  2328.2,2,  -9.0000,9,-999.0000,9, -999.00,9, -999.00,9,  -999.0,9,  -999.0,-999.000,9,-999.000,-999.000,9,  -9.0000,-999.0000,  14.2644,   -9.00
  316N145_7,       I05E,     440,          1,          5,          5,2,19950414,       0849,   -32.6302,   114.6668,        537,   294.1,  12.8967,  35.1958,2,  35.2029,2,    237.1,2,   242.5,2,    2.13,2,    5.36,2,    0.01,2,    0.52,2,-999.000,9,-999.000,9,  2087.8,2,  -999.0,5,  -9.0000,9,   1.7531,2,   -1.19,2, -999.00,9,  -999.0,9,  -999.0,   7.334,2,   0.037,-999.000,9,  -9.0000,   0.0088,  12.8562,    0.14
  316N145_7,       I05E,     440,          1,          4,          4,2,19950414,       0849,   -32.6302,   114.6668,        537,   365.3,  10.8245,  34.8990,2,  34.8973,2,    244.7,2,   244.7,2,    3.20,2,   10.43,2,    0.00,2,    0.82,2,-999.000,9,-999.000,9,  2102.7,2,  2301.7,2,   0.5864,2,   1.7666,2,   -1.14,2, -999.00,9,  -999.0,9,  -999.0,   7.445,2,   0.037,-999.000,9,   0.0030,   0.0088,  10.7796,    0.14
  316N145_7,       I05E,     440,          1,          3,          3,2,19950414,       0849,   -32.6302,   114.6668,        537,   433.8,   9.6974,  34.7284,2,  34.7284,2,    248.9,2,   248.8,2,    4.48,2,   13.84,2,    0.00,2,    1.02,2,-999.000,9,-999.000,9,  2107.3,2,  2290.8,2,   0.5228,2,   1.7720,2,   -0.90,2, -999.00,9,  -999.0,9,  -999.0,   7.528,2,   0.038,-999.000,9,   0.0030,   0.0089,   9.6475,    0.14
  316N145_7,       I05E,     440,          1,          2,          2,2,19950414,       0849,   -32.6302,   114.6668,        537,   502.5,   9.2866,  34.6731,2,  34.6724,2,    239.3,2,   245.3,2,    5.12,2,   15.59,2,    0.00,2,    1.13,2,-999.000,9,-999.000,9,  2114.2,2,  2294.1,2,  -9.0000,9,-999.0000,9, -999.00,9, -999.00,9,  -999.0,9,  -999.0,-999.000,9,-999.000,-999.000,9,  -9.0000,-999.0000,   9.2303,   -9.00
  316N145_7,       I05E,     440,          1,          1,          1,2,19950414,       0849,   -32.6302,   114.6668,        537,   644.4,   7.6035,  34.5054,2,  34.5092,2,    211.9,2,   211.4,2,   13.01,2,   23.15,2,    0.00,2,    1.59,2,-999.000,9,-999.000,9,  2148.0,2,  2292.0,2,   0.2437,2,   1.7662,2,    1.21,2, -999.00,9,  -999.0,9,  -999.0,   7.540,2,   0.038,-999.000,9,   0.0025,   0.0088,   7.5388,    0.14
  316N145_7,       I05E,     441,          1,         10,         10,2,19950414,       1054,   -32.6542,   114.7602,        440,     4.0,  24.2260,  35.7657,2,  35.7616,2,    211.4,2,   212.4,2,    3.57,2,    0.05,2,    0.00,2,    0.07,2,   1.896,9,   1.051,9,  -999.0,9,  -999.0,9,  -9.0000,9,-999.0000,9, -999.00,9, -999.00,9,  -999.0,9,  -999.0,-999.000,9,-999.000,-999.000,9,  -9.0000,-999.0000,  24.2252,   -9.00
  316N145_7,       I05E,     441,          1,          9,          9,2,19950414,       1054,   -32.6542,   114.7602,        440,    32.7,  23.7182,  35.8082,2,  35.8039,2,    216.6,2,   213.4,2,    3.56,2,    0.05,2,    0.00,2,    0.08,2,-999.000,9,-999.000,9,  -999.0,9,  -999.0,9,  -9.0000,9,-999.0000,9, -999.00,9, -999.00,9,  -999.0,9,  -999.0,-999.000,9,-999.000,-999.000,9,  -9.0000,-999.0000,  23.7114,   -9.00
  316N145_7,       I05E,     441,          1,          8,          8,2,19950414,       1054,   -32.6542,   114.7602,        440,    62.8,  23.2592,  35.8495,2,  35.8486,2,    214.1,2,   213.1,2,    3.55,2,    0.05,2,    0.00,2,    0.09,2,   2.006,2,   1.102,2,  -999.0,9,  -999.0,9,  -9.0000,9,-999.0000,9, -999.00,9, -999.00,9,  -999.0,9,  -999.0,-999.000,9,-999.000,-999.000,9,  -9.0000,-999.0000,  23.2463,   -9.00
  316N145_7,       I05E,     441,          1,          7,          7,2,19950414,       1054,   -32.6542,   114.7602,        440,   102.0,  22.2580,  35.9139,2,  35.9061,2,    210.2,2,   207.8,2,    3.54,2,    0.66,2,    0.12,2,    0.14,2,   2.126,2,   1.149,2,  -999.0,9,  -999.0,9,  -9.0000,9,-999.0000,9, -999.00,9, -999.00,9,  -999.0,9,  -999.0,-999.000,9,-999.000,-999.000,9,  -9.0000,-999.0000,  22.2376,   -9.00
  316N145_7,       I05E,     441,          1,          6,          6,2,19950414,       1054,   -32.6542,   114.7602,        440,   154.1,  19.8027,  35.9774,2,  35.9587,2,    227.7,2,   230.2,2,    2.90,2,    0.12,2,    0.03,2,    0.11,2,   2.410,2,   1.301,2,  -999.0,9,  -999.0,9,  -9.0000,9,-999.0000,9, -999.00,9, -999.00,9,  -999.0,9,  -999.0,-999.000,9,-999.000,-999.000,9,  -9.0000,-999.0000,  19.7743,   -9.00
  316N145_7,       I05E,     441,          1,          5,          5,2,19950414,       1054,   -32.6542,   114.7602,        440,   203.8,  16.8921,  35.7810,2,  35.7717,2,    230.3,2,   231.3,2,    2.46,2,    0.84,2,    0.04,2,    0.22,2,-999.000,9,-999.000,9,  -999.0,9,  -999.0,9,  -9.0000,9,-999.0000,9, -999.00,9, -999.00,9,  -999.0,9,  -999.0,-999.000,9,-999.000,-999.000,9,  -9.0000,-999.0000,  16.8584,   -9.00
  316N145_7,       I05E,     441,          1,          4,          4,2,19950414,       1054,   -32.6542,   114.7602,        440,   253.5,  15.2758,  35.5861,2,  35.5796,2,    231.1,2,   232.6,2,    2.24,2,    2.32,2,    0.02,2,    0.32,2,   2.825,2,   1.504,2,  -999.0,9,  -999.0,9,  -9.0000,9,-999.0000,9, -999.00,9, -999.00,9,  -999.0,9,  -999.0,-999.000,9,-999.000,-999.000,9,  -9.0000,-999.0000,  15.2366,   -9.00
  316N145_7,       I05E,     441,          1,          3,          3,2,19950414,       1054,   -32.6542,   114.7602,        440,   303.5,  13.7198,  35.3453,2,  35.3371,2,    240.7,2,   238.0,2,    2.23,2,    4.27,2,    0.02,2,    0.45,2,-999.000,9,-999.000,9,  -999.0,9,  -999.0,9,  -9.0000,9,-999.0000,9, -999.00,9, -999.00,9,  -999.0,9,  -999.0,-999.000,9,-999.000,-999.000,9,  -9.0000,-999.0000,  13.6763,   -9.00
  316N145_7,       I05E,     441,          1,          2,          2,2,19950414,       1054,   -32.6542,   114.7602,        440,   402.4,  11.3612,  34.9810,2,  34.9769,2,    239.9,2,   242.5,2,    2.87,2,    9.24,2,    0.02,2,    0.75,2,   3.330,2,   1.719,2,  -999.0,9,  -999.0,9,  -9.0000,9,-999.0000,9, -999.00,9, -999.00,9,  -999.0,9,  -999.0,-999.000,9,-999.000,-999.000,9,  -9.0000,-999.0000,  11.3101,   -9.00
  316N145_7,       I05E,     441,          1,          1,          1,2,19950414,       1054,   -32.6542,   114.7602,        440,   439.0,   9.6864,  34.7348,2,  34.7515,2,    240.2,2,   241.3,2,    4.56,2,   14.03,2,    0.02,2,    1.03,2,   3.277,2,   1.666,2,  -999.0,9,  -999.0,9,  -9.0000,9,-999.0000,9, -999.00,9, -999.00,9,  -999.0,9,  -999.0,-999.000,9,-999.000,-999.000,9,  -9.0000,-999.0000,   9.6360,   -9.00
  316N145_7,       I05E,     442,          1,          6,          6,2,19950414,       1216,   -32.6725,   114.8727,        152,     3.7,  24.1022,  35.7449,2,  35.7405,2,    210.2,2,   212.3,2,    3.27,2,    0.05,2,    0.00,2,    0.08,2,-999.000,9,-999.000,9,  -999.0,9,  -999.0,9,  -9.0000,9,-999.0000,9, -999.00,9, -999.00,9,  -999.0,9,  -999.0,-999.000,9,-999.000,-999.000,9,  -9.0000,-999.0000,  24.1014,   -9.00
  316N145_7,       I05E,     442,          1,          5,          5,2,19950414,       1216,   -32.6725,   114.8727,        152,    31.8,  23.8499,  35.7650,2,  35.7549,2,    212.2,2,   212.0,2,    3.27,2,    0.05,2,    0.00,2,    0.08,2,-999.000,9,-999.000,9,  -999.0,9,  -999.0,9,  -9.0000,9,-999.0000,9, -999.00,9, -999.00,9,  -999.0,9,  -999.0,-999.000,9,-999.000,-999.000,9,  -9.0000,-999.0000,  23.8432,   -9.00
  316N145_7,       I05E,     442,          1,          4,          4,2,19950414,       1216,   -32.6725,   114.8727,        152,    62.5,  23.4763,  35.8049,2,  35.7901,2,    214.0,2,   213.3,2,    3.26,2,    0.05,2,    0.00,2,    0.09,2,-999.000,9,-999.000,9,  -999.0,9,  -999.0,9,  -9.0000,9,-999.0000,9, -999.00,9, -999.00,9,  -999.0,9,  -999.0,-999.000,9,-999.000,-999.000,9,  -9.0000,-999.0000,  23.4633,   -9.00
  316N145_7,       I05E,     442,          1,          3,          3,2,19950414,       1216,   -32.6725,   114.8727,        152,    93.0,  22.6450,  35.9452,2,  35.9399,2,    216.4,2,   217.1,2,    3.04,2,    0.08,2,    0.02,2,    0.07,2,-999.000,9,-999.000,9,  -999.0,9,  -999.0,9,  -9.0000,9,-999.0000,9, -999.00,9, -999.00,9,  -999.0,9,  -999.0,-999.000,9,-999.000,-999.000,9,  -9.0000,-999.0000,  22.6262,   -9.00
  316N145_7,       I05E,     442,          1,          2,          2,2,19950414,       1216,   -32.6725,   114.8727,        152,   119.0,  21.2060,  35.9313,2,  35.9194,2,    214.3,2,   216.3,2,    3.24,2,    0.39,2,    0.10,2,    0.12,2,-999.000,9,-999.000,9,  -999.0,9,  -999.0,9,  -9.0000,9,-999.0000,9, -999.00,9, -999.00,9,  -999.0,9,  -999.0,-999.000,9,-999.000,-999.000,9,  -9.0000,-999.0000,  21.1830,   -9.00
  316N145_7,       I05E,     442,          1,          1,          1,2,19950414,       1216,   -32.6725,   114.8727,        152,   156.9,  19.6999,  35.8977,2,  35.8933,2,    214.4,2,   214.2,2,    3.23,2,    0.98,2,    0.09,2,    0.18,2,-999.000,9,-999.000,9,  -999.0,9,  -999.0,9,  -9.0000,9,-999.0000,9, -999.00,9, -999.00,9,  -999.0,9,  -999.0,-999.000,9,-999.000,-999.000,9,  -9.0000,-999.0000,  19.6711,   -9.00