BOTTLE,20211124CCHSIORKP
EXPOCODE,SECT_ID,STNNBR,CASTNO,SAMPNO,BTLNBR,BTLNBR_FLAG_W,DATE,TIME,LATITUDE,LONGITUDE,DEPTH,CTDPRS,CTDTMP,CTDSAL,CTDSAL_FLAG_W,SALNTY,SALNTY_FLAG_W,CTDOXY,CTDOXY_FLAG_W,OXYGEN,OXYGEN_FLAG_W,SILCAT,SILCAT_FLAG_W,NITRAT,NITRAT_FLAG_W,NITRIT,NITRIT_FLAG_W,PHSPHT,PHSPHT_FLAG_W,CFC-11,CFC-11_FLAG_W,CFC-12,CFC-12_FLAG_W,TCARBN,TCARBN_FLAG_W,ALKALI,ALKALI_FLAG_W,TRITUM,TRITUM_FLAG_W,HELIUM,HELIUM_FLAG_W,DELHE3,DELHE3_FLAG_W,DELC13,DELC13_FLAG_W,DELC14,DELC14_FLAG_W,C14ERR,NEON,NEON_FLAG_W,NEONER,CCL4,CCL4_FLAG_W,TRITER,HELIER,THETA,DELHER
,,,,,,,,,,,METERS,DBAR,ITS-90,PSS-78,,PSS-78,,UMOL/KG,,UMOL/KG,,UMOL/KG,,UMOL/KG,,UMOL/KG,,UMOL/KG,,PMOL/KG,,PMOL/KG,,UMOL/KG,,UMOL/KG,,TU,,NMOL/KG,,PERCNT,,/MILLE,,/MILLE,,/MILLE,NMOL/KG,,NMOL/KG,PMOL/KG,,TU,NMOL/KG,DEG C,PERCNT
  316N145_7,       I08N,     347,          1,         36,         36,2,19950325,       0547,   -20.5007,    80.0007,       4795,     3.8,  27.4304,  34.8283,2,  34.8285,2,    198.8,2,   201.1,2,    3.11,2,    0.09,2,    0.00,2,    0.10,2,-999.000,9,-999.000,9,  1935.1,2,  2274.4,2,  -9.0000,9,-999.0000,9, -999.00,9, -999.00,9,  -999.0,9,  -999.0,-999.000,9,-999.000,-999.000,9,  -9.0000,-999.0000,  27.4295,   -9.00
  316N145_7,       I08N,     347,          1,         35,         35,2,19950325,       0547,   -20.5007,    80.0007,       4795,    46.5,  27.3745,  34.8262,2,  34.8249,2,    200.7,2,   201.0,2,    3.07,2,    0.04,2,    0.00,2,    0.10,2,-999.000,9,-999.000,9,  -999.0,9,  -999.0,9,  -9.0000,9,-999.0000,9, -999.00,9, -999.00,9,  -999.0,9,  -999.0,-999.000,9,-999.000,-999.000,9,  -9.0000,-999.0000,  27.3638,   -9.00
  316N145_7,       I08N,     347,          1,         34,         34,2,19950325,       0547,   -20.5007,    80.0007,       4795,    85.8,  22.5750,  35.3778,2,  35.3739,2,    232.8,2,   225.5,2,    3.02,2,    0.08,2,    0.00,2,    0.11,2,-999.000,9,-999.000,9,  -999.0,9,  -999.0,9,  -9.0000,9,-999.0000,9, -999.00,9, -999.00,9,  -999.0,9,  -999.0,-999.000,9,-999.000,-999.000,9,  -9.0000,-999.0000,  22.5577,   -9.00
  316N145_7,       I08N,     347,          1,         33,         33,2,19950325,       0547,   -20.5007,    80.0007,       4795,   126.3,  21.3577,  35.5205,2,  35.5210,2,    221.0,2,   212.7,2,    3.39,2,    0.08,2,    0.00,2,    0.15,2,-999.000,9,-999.000,9,  -999.0,9,  -999.0,9,  -9.0000,9,-999.0000,9, -999.00,9, -999.00,9,  -999.0,9,  -999.0,-999.000,9,-999.000,-999.000,9,  -9.0000,-999.0000,  21.3332,   -9.00
  316N145_7,       I08N,     347,          1,         32,         32,2,19950325,       0547,   -20.5007,    80.0007,       4795,   166.4,  20.4060,  35.6916,2,  35.6878,2,    212.7,2,   208.7,2,    3.14,2,    0.47,2,    0.13,2,    0.19,2,-999.000,9,-999.000,9,  -999.0,9,  -999.0,9,  -9.0000,9,-999.0000,9, -999.00,9, -999.00,9,  -999.0,9,  -999.0,-999.000,9,-999.000,-999.000,9,  -9.0000,-999.0000,  20.3747,   -9.00
  316N145_7,       I08N,     347,          1,         31,         31,2,19950325,       0547,   -20.5007,    80.0007,       4795,   216.5,  18.6688,  35.7854,2,  35.7798,2,    199.8,2,   200.9,2,    3.50,2,    2.06,2,    0.01,2,    0.29,2,-999.000,9,-999.000,9,  -999.0,9,  -999.0,9,  -9.0000,9,-999.0000,9, -999.00,9, -999.00,9,  -999.0,9,  -999.0,-999.000,9,-999.000,-999.000,9,  -9.0000,-999.0000,  18.6305,   -9.00
  316N145_7,       I08N,     347,          1,         30,         30,2,19950325,       0547,   -20.5007,    80.0007,       4795,   266.9,  16.6845,  35.6694,2,  35.6718,2,    200.2,2,   194.1,2,    4.68,2,    4.76,2,    0.00,2,    0.46,2,-999.000,9,-999.000,9,  -999.0,9,  -999.0,9,  -9.0000,9,-999.0000,9, -999.00,9, -999.00,9,  -999.0,9,  -999.0,-999.000,9,-999.000,-999.000,9,  -9.0000,-999.0000,  16.6407,   -9.00
  316N145_7,       I08N,     347,          1,         29,         29,2,19950325,       0547,   -20.5007,    80.0007,       4795,   326.0,  14.6084,  35.4599,2,  35.4594,2,    205.0,2,   207.0,2,    4.23,2,    6.46,2,    0.00,2,    0.57,2,-999.000,9,-999.000,9,  -999.0,9,  -999.0,9,  -9.0000,9,-999.0000,9, -999.00,9, -999.00,9,  -999.0,9,  -999.0,-999.000,9,-999.000,-999.000,9,  -9.0000,-999.0000,  14.5596,   -9.00
  316N145_7,       I08N,     347,          1,         28,         28,2,19950325,       0547,   -20.5007,    80.0007,       4795,   403.1,  12.6040,  35.1878,2,  35.1876,2,    216.0,2,   221.5,2,    3.98,2,    9.06,2,    0.00,2,    0.72,2,-999.000,9,-999.000,9,  -999.0,9,  -999.0,9,  -9.0000,9,-999.0000,9, -999.00,9, -999.00,9,  -999.0,9,  -999.0,-999.000,9,-999.000,-999.000,9,  -9.0000,-999.0000,  12.5491,   -9.00
  316N145_7,       I08N,     347,          1,         27,         27,2,19950325,       0547,   -20.5007,    80.0007,       4795,   504.2,  10.5307,  34.8746,2,  34.8744,2,    224.5,2,   226.9,2,    5.16,2,   13.61,2,    0.00,2,    0.99,2,-999.000,9,-999.000,9,  -999.0,9,  -999.0,9,  -9.0000,9,-999.0000,9, -999.00,9, -999.00,9,  -999.0,9,  -999.0,-999.000,9,-999.000,-999.000,9,  -9.0000,-999.0000,  10.4695,   -9.00
  316N145_7,       I08N,     347,          1,         26,         26,2,19950325,       0547,   -20.5007,    80.0007,       4795,   605.8,   9.2294,  34.6928,2,  34.6930,2,    221.5,2,   220.5,2,    7.37,2,   17.73,2,    0.00,2,    1.24,2,-999.000,9,-999.000,9,  -999.0,9,  -999.0,9,  -9.0000,9,-999.0000,9, -999.00,9, -999.00,9,  -999.0,9,  -999.0,-999.000,9,-999.000,-999.000,9,  -9.0000,-999.0000,   9.1613,   -9.00
  316N145_7,       I08N,     347,          1,         25,         25,2,19950325,       0547,   -20.5007,    80.0007,       4795,   707.1,   7.6939,  34.5586,2,  34.5596,2,    203.6,2,   195.7,2,   16.73,2,   23.85,2,    0.00,2,    1.64,2,-999.000,9,-999.000,9,  -999.0,9,  -999.0,9,  -9.0000,9,-999.0000,9, -999.00,9, -999.00,9,  -999.0,9,  -999.0,-999.000,9,-999.000,-999.000,9,  -9.0000,-999.0000,   7.6221,   -9.00
  316N145_7,       I08N,     347,          1,         24,         24,2,19950325,       0547,   -20.5007,    80.0007,       4795,   808.6,   6.1199,  34.5001,2,  34.5001,2,    173.6,2,   164.0,2,   37.75,2,   30.01,2,    0.00,2,    2.08,2,-999.000,9,-999.000,9,  -999.0,9,  -999.0,9,  -9.0000,9,-999.0000,9, -999.00,9, -999.00,9,  -999.0,9,  -999.0,-999.000,9,-999.000,-999.000,9,  -9.0000,-999.0000,   6.0467,   -9.00
  316N145_7,       I08N,     347,          1,         23,         23,2,19950325,       0547,   -20.5007,    80.0007,       4795,   910.2,   5.2299,  34.5312,2,  34.5327,2,    145.5,2,   136.5,2,   59.60,2,   33.75,2,    0.00,2,    2.38,2,-999.000,9,-999.000,9,  -999.0,9,  -999.0,9,  -9.0000,9,-999.0000,9, -999.00,9, -999.00,9,  -999.0,9,  -999.0,-999.000,9,-999.000,-999.000,9,  -9.0000,-999.0000,   5.1530,   -9.00
  316N145_7,       I08N,     347,          1,         22,         22,2,19950325,       0547,   -20.5007,    80.0007,       4795,  1010.9,   4.8435,  34.5831,2,  34.5846,2,    125.0,2,   120.0,2,   74.32,2,   35.19,2,    0.00,2,    2.52,2,-999.000,9,-999.000,9,  -999.0,9,  -999.0,9,  -9.0000,9,-999.0000,9, -999.00,9, -999.00,9,  -999.0,9,  -999.0,-999.000,9,-999.000,-999.000,9,  -9.0000,-999.0000,   4.7603,   -9.00
  316N145_7,       I08N,     347,          1,         21,         21,2,19950325,       0547,   -20.5007,    80.0007,       4795,  1111.9,   4.4678,  34.6133,2,  34.6151,2,    117.8,2,   117.7,2,   82.70,2,   35.72,2,    0.00,2,    2.56,2,-999.000,9,-999.000,9,  -999.0,9,  -999.0,9,  -9.0000,9,-999.0000,9, -999.00,9, -999.00,9,  -999.0,9,  -999.0,-999.000,9,-999.000,-999.000,9,  -9.0000,-999.0000,   4.3785,   -9.00
  316N145_7,       I08N,     347,          1,         20,         20,2,19950325,       0547,   -20.5007,    80.0007,       4795,  1238.6,   4.1251,  34.6445,2,  34.6461,2,    117.4,2,   118.6,2,   89.05,2,   35.71,2,    0.00,2,    2.56,2,-999.000,9,-999.000,9,  -999.0,9,  -999.0,9,  -9.0000,9,-999.0000,9, -999.00,9, -999.00,9,  -999.0,9,  -999.0,-999.000,9,-999.000,-999.000,9,  -9.0000,-999.0000,   4.0277,   -9.00
  316N145_7,       I08N,     347,          1,         19,         19,2,19950325,       0547,   -20.5007,    80.0007,       4795,  1363.7,   3.6789,  34.6558,2,  34.6562,2,    124.8,2,   126.5,2,   92.30,2,   35.66,2,    0.00,2,    2.55,2,-999.000,9,-999.000,9,  -999.0,9,  -999.0,9,  -9.0000,9,-999.0000,9, -999.00,9, -999.00,9,  -999.0,9,  -999.0,-999.000,9,-999.000,-999.000,9,  -9.0000,-999.0000,   3.5750,   -9.00
  316N145_7,       I08N,     347,          1,         18,         18,2,19950325,       0547,   -20.5007,    80.0007,       4795,  1515.9,   3.3953,  34.6982,2,  34.6978,2,    129.9,2,   129.7,2,   99.09,2,   35.27,2,    0.00,2,    2.53,2,-999.000,9,-999.000,9,  -999.0,9,  -999.0,9,  -9.0000,9,-999.0000,9, -999.00,9, -999.00,9,  -999.0,9,  -999.0,-999.000,9,-999.000,-999.000,9,  -9.0000,-999.0000,   3.2813,   -9.00
  316N145_7,       I08N,     347,          1,         17,         17,2,19950325,       0547,   -20.5007,    80.0007,       4795,  1667.2,   3.1235,  34.7128,2,  34.7130,2,    134.1,2,   135.7,2,  103.61,2,   34.98,2,    0.00,2,    2.51,2,-999.000,9,-999.000,9,  -999.0,9,  -999.0,9,  -9.0000,9,-999.0000,9, -999.00,9, -999.00,9,  -999.0,9,  -999.0,-999.000,9,-999.000,-999.000,9,  -9.0000,-999.0000,   2.9996,   -9.00
  316N145_7,       I08N,     347,          1,         16,         16,2,19950325,       0547,   -20.5007,    80.0007,       4795,  1818.6,   2.8293,  34.7214,2,  34.7211,2,    141.4,2,   141.5,2,  107.10,2,   34.78,2,    0.00,2,    2.48,2,-999.000,9,-999.000,9,  -999.0,9,  -999.0,9,  -9.0000,9,-999.0000,9, -999.00,9, -999.00,9,  -999.0,9,  -999.0,-999.000,9,-999.000,-999.000,9,  -9.0000,-999.0000,   2.6960,   -9.00
  316N145_7,       I08N,     347,          1,         15,         15,2,19950325,       0547,   -20.5007,    80.0007,       4795,  1995.9,   2.5524,  34.7251,2,  34.7258,2,    149.5,2,   150.4,2,  109.77,2,   34.34,2,    0.00,2,    2.45,2,-999.000,9,-999.000,9,  -999.0,9,  -999.0,9,  -9.0000,9,-999.0000,9, -999.00,9, -999.00,9,  -999.0,9,  -999.0,-999.000,9,-999.000,-999.000,9,  -9.0000,-999.0000,   2.4076,   -9.00
  316N145_7,       I08N,     347,          1,         14,         14,2,19950325,       0547,   -20.5007,    80.0007,       4795,  2172.8,   2.2873,  34.7250,2,  34.7260,2,    158.3,2,   158.9,2,  111.19,2,   33.86,2,    0.00,2,    2.40,2,-999.000,9,-999.000,9,  -999.0,9,  -999.0,9,  -9.0000,9,-999.0000,9, -999.00,9, -999.00,9,  -999.0,9,  -999.0,-999.000,9,-999.000,-999.000,9,  -9.0000,-999.0000,   2.1311,   -9.00
  316N145_7,       I08N,     347,          1,         13,         13,2,19950325,       0547,   -20.5007,    80.0007,       4795,  2348.9,   2.1091,  34.7254,2,  34.7256,2,    165.0,2,   166.2,2,  111.35,2,   33.52,2,    0.00,2,    2.35,2,-999.000,9,-999.000,9,  -999.0,9,  -999.0,9,  -9.0000,9,-999.0000,9, -999.00,9, -999.00,9,  -999.0,9,  -999.0,-999.000,9,-999.000,-999.000,9,  -9.0000,-999.0000,   1.9402,   -9.00
  316N145_7,       I08N,     347,          1,         12,         12,2,19950325,       0547,   -20.5007,    80.0007,       4795,  2528.1,   1.9304,  34.7249,2,  34.7258,2,    174.3,2,   173.7,2,  111.31,2,   33.23,2,    0.00,2,    2.31,2,-999.000,9,-999.000,9,  -999.0,9,  -999.0,9,  -9.0000,9,-999.0000,9, -999.00,9, -999.00,9,  -999.0,9,  -999.0,-999.000,9,-999.000,-999.000,9,  -9.0000,-999.0000,   1.7485,   -9.00
  316N145_7,       I08N,     347,          1,         11,         11,2,19950325,       0547,   -20.5007,    80.0007,       4795,  2731.1,   1.7824,  34.7260,2,  34.7266,2,    180.1,2,   179.7,2,  111.89,2,   32.70,2,    0.00,2,    2.29,2,-999.000,9,-999.000,9,  -999.0,9,  -999.0,9,  -9.0000,9,-999.0000,9, -999.00,9, -999.00,9,  -999.0,9,  -999.0,-999.000,9,-999.000,-999.000,9,  -9.0000,-999.0000,   1.5847,   -9.00
  316N145_7,       I08N,     347,          1,         10,         10,2,19950325,       0547,   -20.5007,    80.0007,       4795,  2933.5,   1.6648,  34.7270,2,  34.7268,2,    182.8,2,   182.8,2,  114.36,2,   32.64,2,    0.00,2,    2.28,2,-999.000,9,-999.000,9,  -999.0,9,  -999.0,9,  -9.0000,9,-999.0000,9, -999.00,9, -999.00,9,  -999.0,9,  -999.0,-999.000,9,-999.000,-999.000,9,  -9.0000,-999.0000,   1.4505,   -9.00
  316N145_7,       I08N,     347,          1,          9,          9,2,19950325,       0547,   -20.5007,    80.0007,       4795,  3138.4,   1.5654,  34.7264,2,  34.7273,2,    184.6,2,   183.9,2,  117.25,2,   32.64,2,    0.00,2,    2.28,2,-999.000,9,-999.000,9,  -999.0,9,  -999.0,9,  -9.0000,9,-999.0000,9, -999.00,9, -999.00,9,  -999.0,9,  -999.0,-999.000,9,-999.000,-999.000,9,  -9.0000,-999.0000,   1.3335,   -9.00
  316N145_7,       I08N,     347,          1,          8,          8,2,19950325,       0547,   -20.5007,    80.0007,       4795,  3341.9,   1.4850,  34.7249,2,  34.7255,2,    184.7,2,   186.2,2,  120.36,2,   32.78,2,    0.00,2,    2.29,2,-999.000,9,-999.000,9,  -999.0,9,  -999.0,9,  -9.0000,9,-999.0000,9, -999.00,9, -999.00,9,  -999.0,9,  -999.0,-999.000,9,-999.000,-999.000,9,  -9.0000,-999.0000,   1.2350,   -9.00
  316N145_7,       I08N,     347,          1,          7,          7,2,19950325,       0547,   -20.5007,    80.0007,       4795,  3546.4,   1.4286,  34.7230,2,  34.7228,2,    184.8,2,   184.5,2,  123.06,2,   33.02,2,    0.00,2,    2.30,2,-999.000,9,-999.000,9,  -999.0,9,  -999.0,9,  -9.0000,9,-999.0000,9, -999.00,9, -999.00,9,  -999.0,9,  -999.0,-999.000,9,-999.000,-999.000,9,  -9.0000,-999.0000,   1.1593,   -9.00
  316N145_7,       I08N,     347,          1,          6,          6,2,19950325,       0547,   -20.5007,    80.0007,       4795,  3750.8,   1.3952,  34.7217,2,  34.7216,2,    186.5,2,   186.4,2,  123.65,2,   32.97,2,    0.00,2,    2.30,2,-999.000,9,-999.000,9,  -999.0,9,  -999.0,9,  -9.0000,9,-999.0000,9, -999.00,9, -999.00,9,  -999.0,9,  -999.0,-999.000,9,-999.000,-999.000,9,  -9.0000,-999.0000,   1.1056,   -9.00
  316N145_7,       I08N,     347,          1,          5,          5,2,19950325,       0547,   -20.5007,    80.0007,       4795,  3955.7,   1.3817,  34.7196,2,  34.7204,2,    186.4,2,   186.0,2,  125.93,2,   33.06,2,    0.00,2,    2.30,2,-999.000,9,-999.000,9,  -999.0,9,  -999.0,9,  -9.0000,9,-999.0000,9, -999.00,9, -999.00,9,  -999.0,9,  -999.0,-999.000,9,-999.000,-999.000,9,  -9.0000,-999.0000,   1.0706,   -9.00
  316N145_7,       I08N,     347,          1,          4,          4,2,19950325,       0547,   -20.5007,    80.0007,       4795,  4159.6,   1.3816,  34.7188,2,  34.7195,2,    185.1,2,   185.1,2,  127.59,2,   33.15,2,    0.00,2,    2.32,2,-999.000,9,-999.000,9,  -999.0,9,  -999.0,9,  -9.0000,9,-999.0000,9, -999.00,9, -999.00,9,  -999.0,9,  -999.0,-999.000,9,-999.000,-999.000,9,  -9.0000,-999.0000,   1.0483,   -9.00
  316N145_7,       I08N,     347,          1,          3,          3,2,19950325,       0547,   -20.5007,    80.0007,       4795,  4415.9,   1.3852,  34.7180,2,  34.7179,2,    183.8,2,   183.9,2,  130.09,2,   33.39,2,    0.00,2,    2.33,2,-999.000,9,-999.000,9,  -999.0,9,  -999.0,9,  -9.0000,9,-999.0000,9, -999.00,9, -999.00,9,  -999.0,9,  -999.0,-999.000,9,-999.000,-999.000,9,  -9.0000,-999.0000,   1.0231,   -9.00
  316N145_7,       I08N,     347,          1,          2,          2,2,19950325,       0547,   -20.5007,    80.0007,       4795,  4671.5,   1.4017,  34.7172,2,  34.7173,2,    182.6,2,   183.8,2,  130.69,2,   33.43,2,    0.00,2,    2.33,2,-999.000,9,-999.000,9,  -999.0,9,  -999.0,9,  -9.0000,9,-999.0000,9, -999.00,9, -999.00,9,  -999.0,9,  -999.0,-999.000,9,-999.000,-999.000,9,  -9.0000,-999.0000,   1.0097,   -9.00
  316N145_7,       I08N,     347,          1,          1,          1,2,19950325,       0547,   -20.5007,    80.0007,       4795,  4902.8,   1.4281,  34.7173,2,  34.7174,2,    183.0,2,   182.5,2,  130.85,2,   33.43,2,    0.00,2,    2.33,2,-999.000,9,-999.000,9,  -999.0,9,  -999.0,9,  -9.0000,9,-999.0000,9, -999.00,9, -999.00,9,  -999.0,9,  -999.0,-999.000,9,-999.000,-999.000,9,  -9.0000,-999.0000,   1.0078,   -9.00