BOTTLE,20211124CCHSIORKP
EXPOCODE,SECT_ID,STNNBR,CASTNO,SAMPNO,BTLNBR,BTLNBR_FLAG_W,DATE,TIME,LATITUDE,LONGITUDE,DEPTH,CTDPRS,CTDTMP,CTDSAL,CTDSAL_FLAG_W,SALNTY,SALNTY_FLAG_W,CTDOXY,CTDOXY_FLAG_W,OXYGEN,OXYGEN_FLAG_W,SILCAT,SILCAT_FLAG_W,NITRAT,NITRAT_FLAG_W,NITRIT,NITRIT_FLAG_W,PHSPHT,PHSPHT_FLAG_W,CFC-11,CFC-11_FLAG_W,CFC-12,CFC-12_FLAG_W,TCARBN,TCARBN_FLAG_W,ALKALI,ALKALI_FLAG_W,TRITUM,TRITUM_FLAG_W,HELIUM,HELIUM_FLAG_W,DELHE3,DELHE3_FLAG_W,DELC13,DELC13_FLAG_W,DELC14,DELC14_FLAG_W,C14ERR,NEON,NEON_FLAG_W,NEONER,CCL4,CCL4_FLAG_W,TRITER,HELIER,THETA,DELHER
,,,,,,,,,,,METERS,DBAR,ITS-90,PSS-78,,PSS-78,,UMOL/KG,,UMOL/KG,,UMOL/KG,,UMOL/KG,,UMOL/KG,,UMOL/KG,,PMOL/KG,,PMOL/KG,,UMOL/KG,,UMOL/KG,,TU,,NMOL/KG,,PERCNT,,/MILLE,,/MILLE,,/MILLE,NMOL/KG,,NMOL/KG,PMOL/KG,,TU,NMOL/KG,DEG C,PERCNT
  316N145_7,       I05E,     417,          1,         23,         23,2,19950409,       0554,   -31.9832,   101.7038,       2295,     1.9,  20.1034,  36.0734,2,  36.0716,2,    227.2,2,   227.2,2,    2.79,2,    0.10,2,    0.00,2,    0.13,2,   2.258,2,   1.287,2,  2062.6,2,  2376.7,2,  -9.0000,9,-999.0000,9, -999.00,9, -999.00,9,  -999.0,9,  -999.0,-999.000,9,-999.000,   2.939,2,  -9.0000,-999.0000,  20.1031,   -9.00
  316N145_7,       I05E,     417,          1,         22,         22,2,19950409,       0554,   -31.9832,   101.7038,       2295,    38.7,  19.9343,  36.0723,2,  36.0702,2,    228.2,2,   228.1,2,    2.77,2,    0.10,2,    0.00,2,    0.13,2,   2.250,2,   1.304,2,  -999.0,9,  -999.0,9,  -9.0000,9,-999.0000,9, -999.00,9, -999.00,9,  -999.0,9,  -999.0,-999.000,9,-999.000,   2.894,2,  -9.0000,-999.0000,  19.9271,   -9.00
  316N145_7,       I05E,     417,          1,         21,         21,2,19950409,       0554,   -31.9832,   101.7038,       2295,    85.0,  15.7476,  35.5214,2,  35.5175,2,    264.9,2,   263.5,2,    2.34,2,    0.14,2,    0.00,2,    0.21,2,   2.890,2,   1.580,2,  -999.0,9,  -999.0,9,  -9.0000,9,-999.0000,9, -999.00,9, -999.00,9,  -999.0,9,  -999.0,-999.000,9,-999.000,   2.276,2,  -9.0000,-999.0000,  15.7343,   -9.00
  316N145_7,       I05E,     417,          1,         20,         20,2,19950409,       0554,   -31.9832,   101.7038,       2295,   124.1,  14.6742,  35.5398,2,  35.5412,2,    238.8,2,   239.8,2,    2.74,2,    1.74,2,    0.25,2,    0.34,2,   2.988,2,   1.586,2,  -999.0,9,  -999.0,9,  -9.0000,9,-999.0000,9, -999.00,9, -999.00,9,  -999.0,9,  -999.0,-999.000,9,-999.000,   1.925,2,  -9.0000,-999.0000,  14.6557,   -9.00
  316N145_7,       I05E,     417,          1,         19,         19,2,19950409,       0554,   -31.9832,   101.7038,       2295,   164.8,  13.5591,  35.3703,2,  35.3785,2,    238.2,2,   239.3,2,    2.72,2,    4.24,2,    0.01,2,    0.46,2,   3.045,2,   1.646,2,  -999.0,9,  -999.0,9,  -9.0000,9,-999.0000,9, -999.00,9, -999.00,9,  -999.0,9,  -999.0,-999.000,9,-999.000,   1.500,2,  -9.0000,-999.0000,  13.5358,   -9.00
  316N145_7,       I05E,     417,          1,         18,         18,2,19950409,       0554,   -31.9832,   101.7038,       2295,   205.3,  12.7979,  35.2476,2,  35.2592,2,    243.0,2,   240.7,2,    2.91,2,    5.70,2,    0.01,2,    0.55,2,-999.000,9,-999.000,9,  -999.0,9,  -999.0,9,  -9.0000,9,-999.0000,9, -999.00,9, -999.00,9,  -999.0,9,  -999.0,-999.000,9,-999.000,-999.000,9,  -9.0000,-999.0000,  12.7699,   -9.00
  316N145_7,       I05E,     417,          1,         17,         17,2,19950409,       0554,   -31.9832,   101.7038,       2295,   255.6,  12.0104,  35.1195,2,  35.1372,2,    242.3,2,   241.8,2,    3.10,2,    7.49,2,    0.01,2,    0.66,2,   3.226,2,   1.714,2,  -999.0,9,  -999.0,9,  -9.0000,9,-999.0000,9, -999.00,9, -999.00,9,  -999.0,9,  -999.0,-999.000,9,-999.000,   1.685,2,  -9.0000,-999.0000,  11.9770,   -9.00
  316N145_7,       I05E,     417,          1,         16,         16,2,19950409,       0554,   -31.9832,   101.7038,       2295,   325.7,  11.3023,  35.0056,2,  34.9996,2,    243.1,2,   242.7,2,    3.92,2,    9.87,2,    0.00,2,    0.80,2,   3.235,2,   1.710,2,  -999.0,9,  -999.0,9,  -9.0000,9,-999.0000,9, -999.00,9, -999.00,9,  -999.0,9,  -999.0,-999.000,9,-999.000,   1.661,2,  -9.0000,-999.0000,  11.2612,   -9.00
  316N145_7,       I05E,     417,          1,         15,         15,2,19950409,       0554,   -31.9832,   101.7038,       2295,   404.9,  10.4837,  34.8711,2,  34.8668,2,    242.0,2,   244.6,2,    4.53,2,   12.06,2,    0.00,2,    0.92,2,   3.267,2,   1.702,2,  -999.0,9,  -999.0,9,  -9.0000,9,-999.0000,9, -999.00,9, -999.00,9,  -999.0,9,  -999.0,-999.000,9,-999.000,   1.844,2,  -9.0000,-999.0000,  10.4349,   -9.00
  316N145_7,       I05E,     417,          1,         14,         14,2,19950409,       0554,   -31.9832,   101.7038,       2295,   505.1,   9.6466,  34.7353,2,  34.7327,2,    237.5,2,   239.9,2,    5.55,2,   15.07,2,    0.00,2,    1.10,2,   2.993,2,   1.560,2,  -999.0,9,  -999.0,9,  -9.0000,9,-999.0000,9, -999.00,9, -999.00,9,  -999.0,9,  -999.0,-999.000,9,-999.000,   1.869,2,  -9.0000,-999.0000,   9.5885,   -9.00
  316N145_7,       I05E,     417,          1,         13,         13,2,19950409,       0554,   -31.9832,   101.7038,       2295,   605.7,   9.0158,  34.6462,2,  34.6434,2,    230.1,2,   231.7,2,    6.79,2,   17.79,2,    0.00,2,    1.27,2,-999.000,9,-999.000,9,  -999.0,9,  -999.0,9,  -9.0000,9,-999.0000,9, -999.00,9, -999.00,9,  -999.0,9,  -999.0,-999.000,9,-999.000,-999.000,9,  -9.0000,-999.0000,   8.9487,   -9.00
  316N145_7,       I05E,     417,          1,         12,         12,2,19950409,       0554,   -31.9832,   101.7038,       2295,   708.2,   8.0307,  34.5414,2,  34.5418,2,    215.7,2,   214.8,2,   11.15,2,   21.88,2,    0.00,2,    1.53,2,   1.860,6,   0.952,6,  -999.0,9,  -999.0,9,  -9.0000,9,-999.0000,9, -999.00,9, -999.00,9,  -999.0,9,  -999.0,-999.000,9,-999.000,   1.631,6,  -9.0000,-999.0000,   7.9570,   -9.00
  316N145_7,       I05E,     417,          1,         11,         11,2,19950409,       0554,   -31.9832,   101.7038,       2295,   808.7,   6.5552,  34.4536,2,  34.4499,2,    196.3,2,   195.9,2,   20.94,2,   26.67,2,    0.00,2,    1.85,2,-999.000,9,-999.000,9,  -999.0,9,  -999.0,9,  -9.0000,9,-999.0000,9, -999.00,9, -999.00,9,  -999.0,9,  -999.0,-999.000,9,-999.000,-999.000,9,  -9.0000,-999.0000,   6.4795,   -9.00
  316N145_7,       I05E,     417,          1,         10,         10,2,19950409,       0554,   -31.9832,   101.7038,       2295,   909.8,   4.9833,  34.3868,2,  34.3869,2,    191.5,2,   193.1,2,   33.43,2,   30.15,2,    0.00,2,    2.10,2,   0.599,2,   0.308,2,  -999.0,9,  -999.0,9,  -9.0000,9,-999.0000,9, -999.00,9, -999.00,9,  -999.0,9,  -999.0,-999.000,9,-999.000,   1.226,2,  -9.0000,-999.0000,   4.9083,   -9.00
  316N145_7,       I05E,     417,          1,          9,          9,2,19950409,       0554,   -31.9832,   101.7038,       2295,  1011.1,   4.0916,  34.4105,2,  34.4112,2,    182.0,2,   179.4,2,   49.05,2,   32.62,2,    0.00,2,    2.29,2,-999.000,9,-999.000,9,  -999.0,9,  -999.0,9,  -9.0000,9,-999.0000,9, -999.00,9, -999.00,9,  -999.0,9,  -999.0,-999.000,9,-999.000,-999.000,9,  -9.0000,-999.0000,   4.0145,   -9.00
  316N145_7,       I05E,     417,          1,          8,          8,2,19950409,       0554,   -31.9832,   101.7038,       2295,  1162.4,   3.6957,  34.4785,2,  34.4785,2,    163.2,2,   160.7,2,   64.67,2,   34.25,2,    0.00,2,    2.43,2,   0.139,3,   0.055,6,  -999.0,9,  -999.0,9,  -9.0000,9,-999.0000,9, -999.00,9, -999.00,9,  -999.0,9,  -999.0,-999.000,9,-999.000,   0.424,6,  -9.0000,-999.0000,   3.6091,   -9.00
  316N145_7,       I05E,     417,          1,          7,          7,2,19950409,       0554,   -31.9832,   101.7038,       2295,  1312.8,   3.4147,  34.5458,2,  34.5458,2,    150.8,2,   149.5,2,   76.55,2,   34.90,2,    0.00,2,    2.48,2,-999.000,9,-999.000,9,  -999.0,9,  -999.0,9,  -9.0000,9,-999.0000,9, -999.00,9, -999.00,9,  -999.0,9,  -999.0,-999.000,9,-999.000,-999.000,9,  -9.0000,-999.0000,   3.3181,   -9.00
  316N145_7,       I05E,     417,          1,          6,          6,2,19950409,       0554,   -31.9832,   101.7038,       2295,  1464.8,   3.1192,  34.6054,2,  34.6053,2,    148.4,2,   147.5,2,   85.73,2,   34.91,2,    0.00,2,    2.49,2,   0.049,3,   0.000,2,  -999.0,9,  -999.0,9,  -9.0000,9,-999.0000,9, -999.00,9, -999.00,9,  -999.0,9,  -999.0,-999.000,9,-999.000,   0.042,2,  -9.0000,-999.0000,   3.0129,   -9.00
  316N145_7,       I05E,     417,          1,          5,          5,2,19950409,       0554,   -31.9832,   101.7038,       2295,  1615.8,   2.8478,  34.6383,2,  34.6379,2,    152.6,2,   153.2,2,   88.64,2,   34.42,2,    0.00,2,    2.44,2,-999.000,9,-999.000,9,  -999.0,9,  -999.0,9,  -9.0000,9,-999.0000,9, -999.00,9, -999.00,9,  -999.0,9,  -999.0,-999.000,9,-999.000,-999.000,9,  -9.0000,-999.0000,   2.7320,   -9.00
  316N145_7,       I05E,     417,          1,          4,          4,2,19950409,       0554,   -31.9832,   101.7038,       2295,  1768.5,   2.6846,  34.6757,2,  34.6742,2,    154.1,2,   153.8,2,   95.95,2,   34.18,2,    0.00,2,    2.43,2,   0.008,3,   0.007,2,  -999.0,9,  -999.0,9,  -9.0000,9,-999.0000,9, -999.00,9, -999.00,9,  -999.0,9,  -999.0,-999.000,9,-999.000,   0.005,2,  -9.0000,-999.0000,   2.5578,   -9.00
  316N145_7,       I05E,     417,          1,          3,          3,2,19950409,       0554,   -31.9832,   101.7038,       2295,  1919.2,   2.4728,  34.6974,2,  34.6966,2,    159.7,2,   161.0,2,   97.81,2,   33.50,2,    0.00,2,    2.38,2,   0.014,3,   0.002,2,  -999.0,9,  -999.0,9,  -9.0000,9,-999.0000,9, -999.00,9, -999.00,9,  -999.0,9,  -999.0,-999.000,9,-999.000,   0.010,2,  -9.0000,-999.0000,   2.3360,   -9.00
  316N145_7,       I05E,     417,          1,          2,          2,2,19950409,       0554,   -31.9832,   101.7038,       2295,  2121.8,   2.2436,  34.7177,2,  34.7166,2,    167.7,2,   168.0,2,  101.99,2,   33.06,2,    0.00,2,    2.34,2,   0.013,3,   0.001,2,  -999.0,9,  -999.0,9,  -9.0000,9,-999.0000,9, -999.00,9, -999.00,9,  -999.0,9,  -999.0,-999.000,9,-999.000,   0.001,2,  -9.0000,-999.0000,   2.0927,   -9.00
  316N145_7,       I05E,     417,          1,          1,          1,2,19950409,       0554,   -31.9832,   101.7038,       2295,  2304.1,   2.0410,  34.7333,2,  34.7325,2,    183.1,2,   183.2,2,   95.84,2,   31.74,2,    0.00,2,    2.22,2,-999.000,9,-999.000,9,  -999.0,9,  -999.0,9,  -9.0000,9,-999.0000,9, -999.00,9, -999.00,9,  -999.0,9,  -999.0,-999.000,9,-999.000,-999.000,9,  -9.0000,-999.0000,   1.8773,   -9.00