BOTTLE,20211124CCHSIORKP
EXPOCODE,SECT_ID,STNNBR,CASTNO,SAMPNO,BTLNBR,BTLNBR_FLAG_W,DATE,TIME,LATITUDE,LONGITUDE,DEPTH,CTDPRS,CTDTMP,CTDSAL,CTDSAL_FLAG_W,SALNTY,SALNTY_FLAG_W,CTDOXY,CTDOXY_FLAG_W,OXYGEN,OXYGEN_FLAG_W,SILCAT,SILCAT_FLAG_W,NITRAT,NITRAT_FLAG_W,NITRIT,NITRIT_FLAG_W,PHSPHT,PHSPHT_FLAG_W,CFC-11,CFC-11_FLAG_W,CFC-12,CFC-12_FLAG_W,TCARBN,TCARBN_FLAG_W,ALKALI,ALKALI_FLAG_W,TRITUM,TRITUM_FLAG_W,HELIUM,HELIUM_FLAG_W,DELHE3,DELHE3_FLAG_W,DELC13,DELC13_FLAG_W,DELC14,DELC14_FLAG_W,C14ERR,NEON,NEON_FLAG_W,NEONER,CCL4,CCL4_FLAG_W,TRITER,HELIER,THETA,DELHER
,,,,,,,,,,,METERS,DBAR,ITS-90,PSS-78,,PSS-78,,UMOL/KG,,UMOL/KG,,UMOL/KG,,UMOL/KG,,UMOL/KG,,UMOL/KG,,PMOL/KG,,PMOL/KG,,UMOL/KG,,UMOL/KG,,TU,,NMOL/KG,,PERCNT,,/MILLE,,/MILLE,,/MILLE,NMOL/KG,,NMOL/KG,PMOL/KG,,TU,NMOL/KG,DEG C,PERCNT
  316N145_7,       I08N,     306,          1,         36,         36,2,19950315,       1356,    -1.0002,    79.9997,       4673,     2.6,  29.7136,  34.2570,2,  34.4025,2,    196.5,2,   204.4,3,    2.73,2,    0.13,2,    0.00,2,    0.12,2,-999.000,9,-999.000,9,  1917.5,2,  2262.0,2,   1.0616,2,   1.6945,2,   -0.54,2, -999.00,9,  -999.0,9,  -999.0,   6.630,2,   0.033,-999.000,9,   0.0039,   0.0085,  29.7129,    0.14
  316N145_7,       I08N,     306,          1,         35,         35,2,19950315,       1356,    -1.0002,    79.9997,       4673,    31.5,  28.9058,  34.4732,2,  34.4650,2,    200.5,2,   195.8,2,    2.72,2,    0.18,2,    0.01,2,    0.13,2,-999.000,9,-999.000,9,  -999.0,9,  -999.0,9,   1.0514,2,   1.6889,2,   -0.24,2,    1.35,2,    80.3,2,     5.8,   6.605,2,   0.033,-999.000,9,   0.0039,   0.0084,  28.8982,    0.14
  316N145_7,       I08N,     306,          1,         34,         34,2,19950315,       1356,    -1.0002,    79.9997,       4673,    66.8,  23.3742,  35.3638,2,  35.3596,2,    148.3,2,   146.8,2,    7.17,2,    8.47,2,    0.49,2,    0.72,2,   1.661,2,   0.937,2,  -999.0,9,  -999.0,9,  -9.0000,9,-999.0000,9, -999.00,9,    0.77,2,    73.8,2,     4.9,-999.000,9,-999.000,-999.000,9,  -9.0000,-999.0000,  23.3604,   -9.00
  316N145_7,       I08N,     306,          1,         33,         33,2,19950315,       1356,    -1.0002,    79.9997,       4673,    96.3,  20.2750,  35.3271,2,  35.3247,2,    102.4,2,    96.3,2,   12.06,2,   16.38,2,    0.04,2,    1.19,2,-999.000,9,-999.000,9,  -999.0,9,  -999.0,9,   0.8554,2,   1.7189,2,    2.59,2, -999.00,9,  -999.0,9,  -999.0,   6.975,2,   0.035,-999.000,9,   0.0035,   0.0086,  20.2570,    0.14
  316N145_7,       I08N,     306,          1,         32,         32,2,19950315,       1356,    -1.0002,    79.9997,       4673,   126.1,  19.4701,  35.2754,2,  35.2877,2,     89.5,2,    88.8,2,   13.27,2,   17.54,2,    0.03,2,    1.27,2,   1.349,2,   0.721,2,  -999.0,9,  -999.0,9,   0.8322,2,   1.7159,2,    3.22,2,    0.36,2,    59.2,2,     3.8,   6.999,2,   0.035,-999.000,9,   0.0034,   0.0086,  19.4472,    0.14
  316N145_7,       I08N,     306,          1,         31,         31,2,19950315,       1356,    -1.0002,    79.9997,       4673,   157.2,  16.3877,  35.1953,2,  35.1925,2,     70.3,2,    73.9,2,   17.95,2,   21.87,2,    0.01,2,    1.56,2,-999.000,9,-999.000,9,  -999.0,9,  -999.0,9,  -9.0000,9,-999.0000,9, -999.00,9, -999.00,9,  -999.0,9,  -999.0,-999.000,9,-999.000,-999.000,9,  -9.0000,-999.0000,  16.3624,   -9.00
  316N145_7,       I08N,     306,          1,         30,         30,2,19950315,       1356,    -1.0002,    79.9997,       4673,   206.2,  14.3513,  35.1581,2,  35.1580,2,     88.8,2,    92.4,2,   18.54,2,   21.75,2,    0.01,2,    1.52,2,   1.087,2,   0.561,2,  -999.0,9,  -999.0,9,   0.6433,2,   1.7482,2,    4.86,2,    0.45,2,    30.6,2,     3.9,   7.260,2,   0.036,-999.000,9,   0.0031,   0.0087,  14.3210,    0.14
  316N145_7,       I08N,     306,          1,         29,         29,2,19950315,       1356,    -1.0002,    79.9997,       4673,   257.7,  12.1252,  35.0512,2,  35.0458,2,     82.8,2,    83.8,2,   22.61,2,   25.71,2,    0.00,2,    1.77,2,-999.000,9,-999.000,9,  -999.0,9,  -999.0,9,   0.3943,2,   1.7651,2,    5.20,2,    0.42,2,    -6.4,2,     3.8,   7.393,2,   0.037,-999.000,9,   0.0028,   0.0088,  12.0913,    0.14
  316N145_7,       I08N,     306,          1,         28,         28,2,19950315,       1356,    -1.0002,    79.9997,       4673,   307.4,  11.2939,  35.0337,2,  35.0285,2,     86.9,2,    85.6,2,   25.45,2,   26.92,2,    0.00,2,    1.87,2,   0.533,2,   0.278,2,  -999.0,9,  -999.0,9,  -9.0000,9,-999.0000,9, -999.00,9,    0.45,2,   -20.7,2,     4.2,-999.000,9,-999.000,-999.000,9,  -9.0000,-999.0000,  11.2552,   -9.00
  316N145_7,       I08N,     306,          1,         27,         27,2,19950315,       1356,    -1.0002,    79.9997,       4673,   381.7,  10.7704,  35.0157,2,  35.0147,2,     77.6,2,    76.7,2,   29.51,2,   28.72,2,    0.01,2,    2.01,2,-999.000,9,-999.000,9,  -999.0,9,  -999.0,9,   0.2369,2,   1.7619,2,    5.09,2,    0.12,3,   -47.8,2,     3.4,   7.415,2,   0.037,-999.000,9,   0.0025,   0.0088,  10.7235,    0.14
  316N145_7,       I08N,     306,          1,         26,         26,2,19950315,       1356,    -1.0002,    79.9997,       4673,   458.7,  10.1801,  34.9956,2,  34.9946,2,     76.6,2,    76.6,2,   33.78,2,   29.75,2,    0.00,2,    2.12,2,   0.321,2,   0.161,2,  -999.0,9,  -999.0,9,   0.1910,2,   1.7673,2,    5.47,2,    0.38,2,   -63.2,2,     3.3,   7.465,2,   0.037,-999.000,9,   0.0024,   0.0088,  10.1255,    0.14
  316N145_7,       I08N,     306,          1,         25,         25,2,19950315,       1356,    -1.0002,    79.9997,       4673,   557.7,   9.1710,  34.9813,2,  34.9830,2,     57.9,2,    56.3,2,   47.65,2,   33.28,2,    0.00,2,    2.43,2,-999.000,9,-999.000,9,  -999.0,9,  -999.0,9,  -9.0000,9,-999.0000,9, -999.00,9,    0.26,2,  -103.4,2,     5.5,-999.000,9,-999.000,-999.000,9,  -9.0000,-999.0000,   9.1084,   -9.00
  316N145_7,       I08N,     306,          1,         24,         24,2,19950315,       1356,    -1.0002,    79.9997,       4673,   658.5,   8.8535,  34.9993,2,  34.9989,2,     51.7,2,    49.1,2,   53.75,2,   34.36,2,    0.00,2,    2.54,2,   0.052,2,   0.025,2,  -999.0,9,  -999.0,9,   0.0476,2,   1.7928,2,    7.17,2,    0.19,2,  -108.4,2,     4.5,   7.577,2,   0.038,-999.000,9,   0.0022,   0.0090,   8.7808,    0.14
  316N145_7,       I08N,     306,          1,         23,         23,2,19950315,       1356,    -1.0002,    79.9997,       4673,   758.6,   8.2622,  35.0032,2,  35.0021,2,     44.5,2,    44.3,2,   63.95,2,   35.58,2,    0.00,2,    2.66,2,-999.000,9,-999.000,9,  -999.0,9,  -999.0,9,  -9.0000,9,-999.0000,9, -999.00,9,    0.13,2,  -130.7,2,     3.1,-999.000,9,-999.000,-999.000,9,  -9.0000,-999.0000,   8.1812,   -9.00
  316N145_7,       I08N,     306,          1,         22,         22,2,19950315,       1356,    -1.0002,    79.9997,       4673,   860.1,   7.8095,  34.9874,2,  34.9848,2,     45.5,2,    45.2,2,   69.86,2,   35.72,2,    0.00,2,    2.71,2,   0.016,6,   0.005,6,  -999.0,9,  -999.0,9,   0.0194,2,   1.8037,2,    8.77,2,    0.08,2,  -136.9,2,     4.3,   7.578,2,   0.038,-999.000,9,   0.0022,   0.0090,   7.7200,    0.14
  316N145_7,       I08N,     306,          1,         21,         21,2,19950315,       1356,    -1.0002,    79.9997,       4673,   960.5,   6.9461,  34.9388,2,  34.9401,2,     52.0,2,    51.4,2,   79.89,2,   36.71,2,    0.00,2,    2.76,2,-999.000,9,-999.000,9,  -999.0,9,  -999.0,9,   0.0111,2,   1.8096,2,   10.09,2,    0.07,2,  -153.1,2,     2.6,   7.634,2,   0.038,-999.000,9,   0.0022,   0.0090,   6.8517,    0.14
  316N145_7,       I08N,     306,          1,         20,         20,2,19950315,       1356,    -1.0002,    79.9997,       4673,  1112.1,   6.1508,  34.9108,2,  34.9118,2,     57.5,2,    59.2,2,   88.90,2,   37.04,2,    0.00,2,    2.78,2,   0.006,2,   0.004,2,  -999.0,9,  -999.0,9,  -9.0000,9,-999.0000,9, -999.00,9,    0.05,2,  -166.0,2,     2.6,-999.000,9,-999.000,-999.000,9,  -9.0000,-999.0000,   6.0469,   -9.00
  316N145_7,       I08N,     306,          1,         19,         19,2,19950315,       1356,    -1.0002,    79.9997,       4673,  1262.9,   5.4248,  34.8818,2,  34.8887,2,     69.1,2,    70.6,2,   96.09,2,   37.05,2,    0.00,2,    2.76,2,-999.000,9,-999.000,9,  -999.0,9,  -999.0,9,   0.0054,2,   1.8390,2,   11.94,2,    0.02,2,  -171.6,2,     2.5,   7.784,2,   0.039,-999.000,9,   0.0022,   0.0092,   5.3124,    0.14
  316N145_7,       I08N,     306,          1,         18,         18,2,19950315,       1356,    -1.0002,    79.9997,       4673,  1413.8,   4.8092,  34.8499,2,  34.8462,2,     78.4,2,    84.0,2,  102.69,2,   36.86,2,    0.00,2,    2.74,2,   0.003,2,   0.005,2,  -999.0,9,  -999.0,9,  -9.0000,9,-999.0000,9, -999.00,9,    0.04,2,  -175.9,2,     2.8,-999.000,9,-999.000,-999.000,9,  -9.0000,-999.0000,   4.6885,   -9.00
  316N145_7,       I08N,     306,          1,         17,         17,2,19950315,       1356,    -1.0002,    79.9997,       4673,  1564.1,   4.0246,  34.8235,2,  34.8232,2,     94.7,2,    97.0,2,  109.52,2,   36.53,2,    0.00,2,    2.70,2,-999.000,9,-999.000,9,  -999.0,9,  -999.0,9,   0.0012,2,   1.8544,2,   12.38,2, -999.00,9,  -999.0,9,  -999.0,   7.897,2,   0.039,-999.000,9,   0.0022,   0.0093,   3.8986,    0.14
  316N145_7,       I08N,     306,          1,         16,         16,2,19950315,       1356,    -1.0002,    79.9997,       4673,  1716.8,   3.5216,  34.8047,2,  34.8041,2,    108.3,2,   109.0,2,  114.28,2,   36.07,2,    0.00,2,    2.66,2,   0.000,2,   0.015,3,  -999.0,9,  -999.0,9,   0.0010,2,   1.8341,2,   13.02,2, -999.00,9,  -999.0,9,  -999.0,   7.827,2,   0.039,-999.000,9,   0.0022,   0.0092,   3.3880,    0.14
  316N145_7,       I08N,     306,          1,         15,         15,2,19950315,       1356,    -1.0002,    79.9997,       4673,  1919.6,   2.9293,  34.7817,2,  34.7805,2,    121.5,2,   123.5,2,  120.33,2,   35.65,2,    0.00,2,    2.60,2,  -0.005,2,   0.003,2,  -999.0,9,  -999.0,9,   0.0008,2,   1.8257,2,   13.96,2, -999.00,9,  -999.0,9,  -999.0,   7.798,2,   0.039,-999.000,9,   0.0022,   0.0091,   2.7856,    0.14
  316N145_7,       I08N,     306,          1,         14,         14,2,19950315,       1356,    -1.0002,    79.9997,       4673,  2123.5,   2.5661,  34.7669,2,  34.7662,2,    133.2,2,   132.8,2,  124.30,2,   35.37,2,    0.00,2,    2.56,2,-999.000,9,-999.000,9,  -999.0,9,  -999.0,9,  -9.0000,9,-999.0000,9, -999.00,9, -999.00,9,  -999.0,9,  -999.0,-999.000,9,-999.000,-999.000,9,  -9.0000,-999.0000,   2.4096,   -9.00
  316N145_7,       I08N,     306,          1,         13,         13,2,19950315,       1356,    -1.0002,    79.9997,       4673,  2325.7,   2.2572,  34.7552,2,  34.7544,2,    140.8,2,   141.2,2,  127.64,2,   35.00,2,    0.00,2,    2.52,2,  -0.002,2,   0.002,2,  -999.0,9,  -999.0,9,  -9.0000,9,-999.0000,9, -999.00,9, -999.00,9,  -999.0,9,  -999.0,-999.000,9,-999.000,-999.000,9,  -9.0000,-999.0000,   2.0877,   -9.00
  316N145_7,       I08N,     306,          1,         12,         12,2,19950315,       1356,    -1.0002,    79.9997,       4673,  2528.8,   2.1487,  34.7495,2,  34.7487,2,    145.0,2,   145.4,2,  128.46,2,   34.86,2,    0.00,2,    2.50,2,-999.000,9,-999.000,9,  -999.0,9,  -999.0,9,  -9.0000,9,-999.0000,9, -999.00,9, -999.00,9,  -999.0,9,  -999.0,-999.000,9,-999.000,-999.000,9,  -9.0000,-999.0000,   1.9626,   -9.00
  316N145_7,       I08N,     306,          1,         11,         11,2,19950315,       1356,    -1.0002,    79.9997,       4673,  2731.8,   1.9311,  34.7404,2,  34.7396,2,    153.3,2,   152.4,2,  130.34,2,   34.58,2,    0.00,2,    2.46,2,  -0.001,2,   0.001,2,  -999.0,9,  -999.0,9,  -9.0000,9,-999.0000,9, -999.00,9, -999.00,9,  -999.0,9,  -999.0,-999.000,9,-999.000,-999.000,9,  -9.0000,-999.0000,   1.7303,   -9.00
  316N145_7,       I08N,     306,          1,         10,         10,2,19950315,       1356,    -1.0002,    79.9997,       4673,  2935.5,   1.7637,  34.7334,2,  34.7324,2,    158.8,2,   157.7,2,  132.22,2,   34.44,2,    0.00,2,    2.44,2,-999.000,9,-999.000,9,  -999.0,9,  -999.0,9,  -9.0000,9,-999.0000,9, -999.00,9, -999.00,9,  -999.0,9,  -999.0,-999.000,9,-999.000,-999.000,9,  -9.0000,-999.0000,   1.5470,   -9.00
  316N145_7,       I08N,     306,          1,          9,          9,2,19950315,       1356,    -1.0002,    79.9997,       4673,  3139.6,   1.6661,  34.7302,2,  34.7284,2,    160.9,2,   159.8,2,  134.53,2,   34.44,2,    0.00,2,    2.44,2,   0.000,2,   0.000,2,  -999.0,9,  -999.0,9,  -9.0000,9,-999.0000,9, -999.00,9, -999.00,9,  -999.0,9,  -999.0,-999.000,9,-999.000,-999.000,9,  -9.0000,-999.0000,   1.4318,   -9.00
  316N145_7,       I08N,     306,          1,          8,          8,2,19950315,       1356,    -1.0002,    79.9997,       4673,  3342.9,   1.5946,  34.7279,2,  34.7261,2,    162.4,2,   161.6,2,  136.20,2,   34.44,2,    0.00,2,    2.42,2,  -0.002,2,   0.000,2,  -999.0,9,  -999.0,9,  -9.0000,9,-999.0000,9, -999.00,9, -999.00,9,  -999.0,9,  -999.0,-999.000,9,-999.000,-999.000,9,  -9.0000,-999.0000,   1.3418,   -9.00
  316N145_7,       I08N,     306,          1,          7,          7,2,19950315,       1356,    -1.0002,    79.9997,       4673,  3546.6,   1.4798,  34.7233,2,  34.7221,2,    165.5,2,   165.1,2,  138.31,2,   34.35,2,    0.00,2,    2.42,2,-999.000,9,   0.000,2,  -999.0,9,  -999.0,9,  -9.0000,9,-999.0000,9, -999.00,9, -999.00,9,  -999.0,9,  -999.0,-999.000,9,-999.000,-999.000,9,  -9.0000,-999.0000,   1.2092,   -9.00
  316N145_7,       I08N,     306,          1,          6,          6,2,19950315,       1356,    -1.0002,    79.9997,       4673,  3751.4,   1.4057,  34.7203,2,  34.7192,2,    170.4,2,   170.7,2,  137.63,2,   34.07,2,    0.00,2,    2.39,2,-999.000,9,-999.000,9,  -999.0,9,  -999.0,9,  -9.0000,9,-999.0000,9, -999.00,9, -999.00,9,  -999.0,9,  -999.0,-999.000,9,-999.000,-999.000,9,  -9.0000,-999.0000,   1.1158,   -9.00
  316N145_7,       I08N,     306,          1,          5,          5,2,19950315,       1356,    -1.0002,    79.9997,       4673,  3955.4,   1.3926,  34.7197,2,  34.7186,2,    172.3,2,   173.6,2,  137.17,2,   33.98,2,    0.00,2,    2.38,2,  -0.002,2,   0.000,2,  -999.0,9,  -999.0,9,  -9.0000,9,-999.0000,9, -999.00,9, -999.00,9,  -999.0,9,  -999.0,-999.000,9,-999.000,-999.000,9,  -9.0000,-999.0000,   1.0814,   -9.00
  316N145_7,       I08N,     306,          1,          4,          4,2,19950315,       1356,    -1.0002,    79.9997,       4673,  4159.6,   1.3905,  34.7192,2,  34.7178,2,    174.6,2,   174.9,2,  136.28,2,   33.80,2,    0.00,2,    2.36,2,-999.000,9,-999.000,9,  -999.0,9,  -999.0,9,  -9.0000,9,-999.0000,9, -999.00,9, -999.00,9,  -999.0,9,  -999.0,-999.000,9,-999.000,-999.000,9,  -9.0000,-999.0000,   1.0571,   -9.00
  316N145_7,       I08N,     306,          1,          3,          3,2,19950315,       1356,    -1.0002,    79.9997,       4673,  4363.8,   1.3942,  34.7193,2,  34.7170,3,    176.8,2,   176.9,2,  135.82,2,   33.80,2,    0.00,2,    2.35,2,  -0.002,2,  -0.001,2,  -999.0,9,  -999.0,9,  -9.0000,9,-999.0000,9, -999.00,9, -999.00,9,  -999.0,9,  -999.0,-999.000,9,-999.000,-999.000,9,  -9.0000,-999.0000,   1.0379,   -9.00
  316N145_7,       I08N,     306,          1,          2,          2,2,19950315,       1356,    -1.0002,    79.9997,       4673,  4568.9,   1.4129,  34.7188,2,  34.7168,2,    176.8,2,   176.9,2,  135.58,2,   33.75,2,    0.00,2,    2.35,2,-999.000,9,-999.000,9,  -999.0,9,  -999.0,9,  -9.0000,9,-999.0000,9, -999.00,9, -999.00,9,  -999.0,9,  -999.0,-999.000,9,-999.000,-999.000,9,  -9.0000,-999.0000,   1.0325,   -9.00
  316N145_7,       I08N,     306,          1,          1,          1,2,19950315,       1356,    -1.0002,    79.9997,       4673,  4763.6,   1.4221,  34.7179,2,  34.7168,2,    177.4,2,   178.0,2,  135.12,2,   33.71,2,    0.00,2,    2.34,2,  -0.002,2,  -0.001,2,  -999.0,9,  -999.0,9,  -9.0000,9,-999.0000,9, -999.00,9, -999.00,9,  -999.0,9,  -999.0,-999.000,9,-999.000,-999.000,9,  -9.0000,-999.0000,   1.0186,   -9.00