BOTTLE,20211124CCHSIORKP
EXPOCODE,SECT_ID,STNNBR,CASTNO,SAMPNO,BTLNBR,BTLNBR_FLAG_W,DATE,TIME,LATITUDE,LONGITUDE,DEPTH,CTDPRS,CTDTMP,CTDSAL,CTDSAL_FLAG_W,SALNTY,SALNTY_FLAG_W,CTDOXY,CTDOXY_FLAG_W,OXYGEN,OXYGEN_FLAG_W,SILCAT,SILCAT_FLAG_W,NITRAT,NITRAT_FLAG_W,NITRIT,NITRIT_FLAG_W,PHSPHT,PHSPHT_FLAG_W,CFC-11,CFC-11_FLAG_W,CFC-12,CFC-12_FLAG_W,TCARBN,TCARBN_FLAG_W,ALKALI,ALKALI_FLAG_W,TRITUM,TRITUM_FLAG_W,HELIUM,HELIUM_FLAG_W,DELHE3,DELHE3_FLAG_W,DELC13,DELC13_FLAG_W,DELC14,DELC14_FLAG_W,C14ERR,NEON,NEON_FLAG_W,NEONER,CCL4,CCL4_FLAG_W,TRITER,HELIER,THETA,DELHER
,,,,,,,,,,,METERS,DBAR,ITS-90,PSS-78,,PSS-78,,UMOL/KG,,UMOL/KG,,UMOL/KG,,UMOL/KG,,UMOL/KG,,UMOL/KG,,PMOL/KG,,PMOL/KG,,UMOL/KG,,UMOL/KG,,TU,,NMOL/KG,,PERCNT,,/MILLE,,/MILLE,,/MILLE,NMOL/KG,,NMOL/KG,PMOL/KG,,TU,NMOL/KG,DEG C,PERCNT
  316N145_7,       I08N,     310,          1,         36,         36,2,19950316,       0949,    -2.3332,    80.0000,       4885,     2.1,  29.5970,  34.3140,2,  34.3631,2,    198.1,2,   199.3,2,    2.19,2,    0.09,2,    0.00,2,    0.11,2,   1.638,2,   0.944,2,  1899.6,2,  2287.5,2,  -9.0000,9,-999.0000,9, -999.00,9,    1.40,2,    68.0,2,     3.9,-999.000,9,-999.000,-999.000,9,  -9.0000,-999.0000,  29.5965,   -9.00
  316N145_7,       I08N,     310,          1,         35,         35,2,19950316,       0949,    -2.3332,    80.0000,       4885,    25.7,  29.2127,  34.3761,2,  34.3707,2,    194.8,2,   198.5,2,    2.18,2,    0.09,2,    0.00,2,    0.10,2,   1.623,2,   0.937,2,  1899.6,2,  2256.3,2,  -9.0000,9,-999.0000,9, -999.00,9, -999.00,9,  -999.0,9,  -999.0,-999.000,9,-999.000,-999.000,9,  -9.0000,-999.0000,  29.2064,   -9.00
  316N145_7,       I08N,     310,          1,         34,         34,2,19950316,       0949,    -2.3332,    80.0000,       4885,    46.5,  27.3273,  35.2212,2,  35.1452,2,    187.1,2,   188.4,2,    2.98,2,    0.09,2,    0.00,2,    0.24,2,   1.618,2,   0.913,2,  1977.8,2,  2301.6,2,  -9.0000,9,-999.0000,9, -999.00,9, -999.00,9,  -999.0,9,  -999.0,-999.000,9,-999.000,-999.000,9,  -9.0000,-999.0000,  27.3166,   -9.00
  316N145_7,       I08N,     310,          1,         33,         33,2,19950316,       0949,    -2.3332,    80.0000,       4885,    71.2,  24.2562,  35.3513,2,  35.3462,2,    149.6,2,   140.0,2,    6.87,2,    7.94,2,    0.32,2,    0.72,2,   1.525,2,   0.841,2,  2055.7,2,  2327.7,2,  -9.0000,9,-999.0000,9, -999.00,9,    0.81,2,    46.9,2,     7.4,-999.000,9,-999.000,-999.000,9,  -9.0000,-999.0000,  24.2411,   -9.00
  316N145_7,       I08N,     310,          1,         32,         32,2,19950316,       0949,    -2.3332,    80.0000,       4885,   101.2,  20.0599,  35.2777,2,  35.2809,2,     91.3,2,    90.4,2,   12.80,2,   17.33,2,    0.04,2,    1.25,2,-999.000,9,-999.000,9,  2123.9,2,  2292.4,2,  -9.0000,9,-999.0000,9, -999.00,9,    0.39,2,    40.8,2,     4.8,-999.000,9,-999.000,-999.000,9,  -9.0000,-999.0000,  20.0411,   -9.00
  316N145_7,       I08N,     310,          1,         31,         31,2,19950316,       0949,    -2.3332,    80.0000,       4885,   135.8,  16.7632,  35.2297,2,  35.2295,2,     84.1,2,    81.5,2,   16.27,2,   20.67,2,    0.02,2,    1.46,2,   1.183,2,   0.621,2,  2155.1,2,  2321.9,2,  -9.0000,9,-999.0000,9, -999.00,9,    0.35,2,    43.8,2,     3.5,-999.000,9,-999.000,-999.000,9,  -9.0000,-999.0000,  16.7410,   -9.00
  316N145_7,       I08N,     310,          1,         30,         30,2,19950316,       0949,    -2.3332,    80.0000,       4885,   176.1,  15.3157,  35.1974,2,  35.1987,2,     87.9,2,    90.3,2,   17.09,2,   20.96,2,    0.00,2,    1.47,2,-999.000,9,-999.000,9,  2162.0,2,  2317.4,2,  -9.0000,9,-999.0000,9, -999.00,9,    0.45,2,    35.3,2,     3.7,-999.000,9,-999.000,-999.000,9,  -9.0000,-999.0000,  15.2886,   -9.00
  316N145_7,       I08N,     310,          1,         29,         29,2,19950316,       0949,    -2.3332,    80.0000,       4885,   226.6,  13.5205,  35.1276,2,  35.1259,2,     83.9,2,    89.9,2,   19.74,2,   23.09,2,    0.00,2,    1.61,2,   0.927,2,   0.471,2,  2177.6,2,  2318.0,2,  -9.0000,9,-999.0000,9, -999.00,9,    0.47,2,    24.2,2,     5.2,-999.000,9,-999.000,-999.000,9,  -9.0000,-999.0000,  13.4884,   -9.00
  316N145_7,       I08N,     310,          1,         28,         28,2,19950316,       0949,    -2.3332,    80.0000,       4885,   277.6,  12.4448,  35.0757,2,  35.0778,2,     92.3,2,    96.1,2,   20.76,2,   23.92,2,    0.00,2,    1.66,2,   0.816,2,   0.417,2,  2182.9,2,  2316.5,2,  -9.0000,9,-999.0000,9, -999.00,9,    0.53,2,    10.9,2,     4.6,-999.000,9,-999.000,-999.000,9,  -9.0000,-999.0000,  12.4076,   -9.00
  316N145_7,       I08N,     310,          1,         27,         27,2,19950316,       0949,    -2.3332,    80.0000,       4885,   337.4,  11.2939,  35.0205,2,  35.0231,2,    105.6,2,    90.6,2,   23.82,2,   26.38,2,    0.00,2,    1.81,2,   0.568,2,   0.310,2,  2197.0,2,  2313.7,2,  -9.0000,9,-999.0000,9, -999.00,9,    0.30,2,   -18.3,2,     5.7,-999.000,9,-999.000,-999.000,9,  -9.0000,-999.0000,  11.2513,   -9.00
  316N145_7,       I08N,     310,          1,         26,         26,2,19950316,       0949,    -2.3332,    80.0000,       4885,   397.3,  10.6449,  34.9692,2,  34.9601,2,     99.9,2,   100.3,2,   25.66,2,   26.75,2,    0.00,2,    1.85,2,   0.536,6,   0.274,6,  2197.3,2,  2315.3,2,  -9.0000,9,-999.0000,9, -999.00,9,    0.57,2,   -24.2,2,     4.5,-999.000,9,-999.000,-999.000,9,  -9.0000,-999.0000,  10.5965,   -9.00
  316N145_7,       I08N,     310,          1,         25,         25,2,19950316,       0949,    -2.3332,    80.0000,       4885,   457.6,   9.9313,  34.9259,2,  34.9256,2,    104.5,2,    98.7,2,   30.15,2,   28.24,2,    0.00,2,    1.96,2,   0.420,2,   0.214,2,  2207.0,2,  2319.2,2,  -9.0000,9,-999.0000,9, -999.00,9,    0.54,2,   -46.2,2,     5.3,-999.000,9,-999.000,-999.000,9,  -9.0000,-999.0000,   9.8778,   -9.00
  316N145_7,       I08N,     310,          1,         24,         24,2,19950316,       0949,    -2.3332,    80.0000,       4885,   557.8,   9.3820,  34.9471,2,  34.9447,2,     70.1,2,    71.4,2,   41.20,2,   32.20,2,    0.00,2,    2.30,2,   0.115,6,   0.055,6,  2239.1,2,  2326.2,2,  -9.0000,9,-999.0000,9, -999.00,9,    0.34,2,   -89.9,2,     2.7,-999.000,9,-999.000,-999.000,9,  -9.0000,-999.0000,   9.3186,   -9.00
  316N145_7,       I08N,     310,          1,         23,         23,2,19950316,       0949,    -2.3332,    80.0000,       4885,   658.1,   8.5859,  34.9376,2,  34.9406,2,     59.6,2,    58.9,2,   53.28,2,   34.16,2,    0.00,2,    2.49,2,   0.046,2,   0.020,2,  2258.2,2,  2340.3,2,  -9.0000,9,-999.0000,9, -999.00,9,    0.23,2,  -119.2,2,     4.3,-999.000,9,-999.000,-999.000,9,  -9.0000,-999.0000,   8.5145,   -9.00
  316N145_7,       I08N,     310,          1,         22,         22,2,19950316,       0949,    -2.3332,    80.0000,       4885,   757.9,   8.0235,  34.9244,2,  34.9258,2,     55.5,2,    54.0,2,   62.09,2,   35.43,2,    0.00,2,    2.62,2,-999.000,9,-999.000,9,  2274.2,2,  2341.7,2,  -9.0000,9,-999.0000,9, -999.00,9,    0.16,2,  -132.6,2,     4.0,-999.000,9,-999.000,-999.000,9,  -9.0000,-999.0000,   7.9440,   -9.00
  316N145_7,       I08N,     310,          1,         21,         21,2,19950316,       0949,    -2.3332,    80.0000,       4885,   909.5,   7.2252,  34.9219,2,  34.9189,2,     54.0,2,    54.0,2,   73.99,2,   36.32,2,    0.00,2,    2.72,2,   0.011,2,   0.005,2,  2287.5,2,  2360.0,2,  -9.0000,9,-999.0000,9, -999.00,9,    0.11,2,  -147.6,2,     4.1,-999.000,9,-999.000,-999.000,9,  -9.0000,-999.0000,   7.1343,   -9.00
  316N145_7,       I08N,     310,          1,         20,         20,2,19950316,       0949,    -2.3332,    80.0000,       4885,  1111.3,   5.7945,  34.8406,2,  34.8410,2,     67.7,2,    68.8,2,   90.68,2,   36.98,2,    0.00,2,    2.76,2,   0.005,2,   0.003,2,  2299.4,2,  2371.6,2,  -9.0000,9,-999.0000,9, -999.00,9,    0.00,2,  -166.6,2,     2.8,-999.000,9,-999.000,-999.000,9,  -9.0000,-999.0000,   5.6938,   -9.00
  316N145_7,       I08N,     310,          1,         19,         19,2,19950316,       0949,    -2.3332,    80.0000,       4885,  1313.2,   4.8906,  34.8304,2,  34.8341,2,     79.1,2,    82.1,2,  100.61,2,   37.07,2,    0.00,2,    2.77,2,   0.006,2,   0.003,2,  2311.5,2,  2383.2,2,  -9.0000,9,-999.0000,9, -999.00,9,    0.08,2,  -175.2,2,     3.7,-999.000,9,-999.000,-999.000,9,  -9.0000,-999.0000,   4.7786,   -9.00
  316N145_7,       I08N,     310,          1,         18,         18,2,19950316,       0949,    -2.3332,    80.0000,       4885,  1515.3,   3.9691,  34.8096,2,  34.8116,2,     97.6,2,  -999.0,9,  108.51,2,   36.51,2,    0.00,2,    2.70,2,   0.011,3,   0.002,2,  -999.0,5,  2399.4,2,  -9.0000,9,-999.0000,9, -999.00,9, -999.00,9,  -999.0,9,  -999.0,-999.000,9,-999.000,-999.000,9,  -9.0000,-999.0000,   3.8482,   -9.00
  316N145_7,       I08N,     310,          1,         17,         17,2,19950316,       0949,    -2.3332,    80.0000,       4885,  1718.1,   3.3295,  34.7916,2,  34.7924,2,    113.1,2,   114.0,2,  115.20,2,   36.08,2,    0.00,2,    2.65,2,-999.000,9,-999.000,9,  2310.3,2,  2395.6,2,  -9.0000,9,-999.0000,9, -999.00,9, -999.00,9,  -999.0,9,  -999.0,-999.000,9,-999.000,-999.000,9,  -9.0000,-999.0000,   3.1983,   -9.00
  316N145_7,       I08N,     310,          1,         16,         16,2,19950316,       0949,    -2.3332,    80.0000,       4885,  1919.8,   2.8118,  34.7752,2,  34.7758,2,    124.6,2,   125.9,2,  121.07,2,   35.71,2,    0.00,2,    2.60,2,-999.000,9,-999.000,9,  2312.2,2,  2417.1,3,  -9.0000,9,-999.0000,9, -999.00,9, -999.00,9,  -999.0,9,  -999.0,-999.000,9,-999.000,-999.000,9,  -9.0000,-999.0000,   2.6697,   -9.00
  316N145_7,       I08N,     310,          1,         15,         15,2,19950316,       0949,    -2.3332,    80.0000,       4885,  2107.6,   2.5014,  34.7634,2,  34.7636,2,    133.8,2,   134.1,2,  124.86,2,   35.47,2,    0.00,2,    2.57,2,-999.000,9,-999.000,9,  2312.7,2,  2406.1,2,  -9.0000,9,-999.0000,9, -999.00,9, -999.00,9,  -999.0,9,  -999.0,-999.000,9,-999.000,-999.000,9,  -9.0000,-999.0000,   2.3474,   -9.00
  316N145_7,       I08N,     310,          1,         14,         14,2,19950316,       0949,    -2.3332,    80.0000,       4885,  2325.3,   2.2065,  34.7519,2,  34.7522,2,    143.2,2,   143.1,2,  127.39,2,   35.09,2,    0.00,2,    2.52,2,-999.000,9,-999.000,9,  2311.3,2,  2408.4,2,  -9.0000,9,-999.0000,9, -999.00,9, -999.00,9,  -999.0,9,  -999.0,-999.000,9,-999.000,-999.000,9,  -9.0000,-999.0000,   2.0380,   -9.00
  316N145_7,       I08N,     310,          1,         13,         13,2,19950316,       0949,    -2.3332,    80.0000,       4885,  2528.0,   2.0524,  34.7446,2,  34.7459,2,    148.7,2,   148.7,2,  129.07,2,   34.90,2,    0.00,2,    2.50,2,-999.000,9,-999.000,9,  2310.1,2,  2410.6,2,  -9.0000,9,-999.0000,9, -999.00,9, -999.00,9,  -999.0,9,  -999.0,-999.000,9,-999.000,-999.000,9,  -9.0000,-999.0000,   1.8682,   -9.00
  316N145_7,       I08N,     310,          1,         12,         12,2,19950316,       0949,    -2.3332,    80.0000,       4885,  2729.5,   1.9211,  34.7398,2,  34.7406,2,    153.7,2,   153.9,2,  130.12,2,   34.72,2,    0.00,2,    2.48,2,-999.000,9,-999.000,9,  2309.1,2,  2410.5,2,  -9.0000,9,-999.0000,9, -999.00,9, -999.00,9,  -999.0,9,  -999.0,-999.000,9,-999.000,-999.000,9,  -9.0000,-999.0000,   1.7207,   -9.00
  316N145_7,       I08N,     310,          1,         11,         11,2,19950316,       0949,    -2.3332,    80.0000,       4885,  2933.8,   1.7897,  34.7339,2,  34.7343,2,    159.5,2,   160.1,2,  130.74,2,   34.48,2,    0.00,2,    2.45,2,-999.000,9,-999.000,9,  2308.1,2,  2414.3,2,  -9.0000,9,-999.0000,9, -999.00,9, -999.00,9,  -999.0,9,  -999.0,-999.000,9,-999.000,-999.000,9,  -9.0000,-999.0000,   1.5727,   -9.00
  316N145_7,       I08N,     310,          1,         10,         10,2,19950316,       0949,    -2.3332,    80.0000,       4885,  3138.5,   1.6670,  34.7296,2,  34.7303,2,    162.9,2,   161.6,2,  133.28,2,   34.39,2,    0.00,2,    2.44,2,  -0.003,2,   0.000,2,  2308.6,2,  2414.9,2,  -9.0000,9,-999.0000,9, -999.00,9, -999.00,9,  -999.0,9,  -999.0,-999.000,9,-999.000,-999.000,9,  -9.0000,-999.0000,   1.4328,   -9.00
  316N145_7,       I08N,     310,          1,          9,          9,2,19950316,       0949,    -2.3332,    80.0000,       4885,  3342.4,   1.5417,  34.7251,2,  34.7252,2,    165.6,2,  -999.0,9,  135.83,2,   34.38,2,    0.00,2,    2.43,2,  -0.002,2,   0.000,2,  2309.8,2,  2417.7,2,  -9.0000,9,-999.0000,9, -999.00,9, -999.00,9,  -999.0,9,  -999.0,-999.000,9,-999.000,-999.000,9,  -9.0000,-999.0000,   1.2902,   -9.00
  316N145_7,       I08N,     310,          1,          8,          8,2,19950316,       0949,    -2.3332,    80.0000,       4885,  3545.9,   1.4694,  34.7227,2,  34.7230,2,    168.2,2,   168.1,2,  136.89,2,   34.29,2,    0.00,2,    2.41,2,   0.007,2,   0.001,2,  2310.6,2,  2421.9,2,  -9.0000,9,-999.0000,9, -999.00,9, -999.00,9,  -999.0,9,  -999.0,-999.000,9,-999.000,-999.000,9,  -9.0000,-999.0000,   1.1991,   -9.00
  316N145_7,       I08N,     310,          1,          7,          7,2,19950316,       0949,    -2.3332,    80.0000,       4885,  3750.4,   1.4299,  34.7213,2,  34.7208,2,    171.7,2,   171.1,2,  136.66,2,   34.10,2,    0.00,2,    2.40,2,  -0.001,2,   0.001,2,  2308.0,2,  2420.0,2,  -9.0000,9,-999.0000,9, -999.00,9, -999.00,9,  -999.0,9,  -999.0,-999.000,9,-999.000,-999.000,9,  -9.0000,-999.0000,   1.1394,   -9.00
  316N145_7,       I08N,     310,          1,          6,          6,2,19950316,       0949,    -2.3332,    80.0000,       4885,  3955.0,   1.4032,  34.7201,2,  34.7202,2,    173.3,2,   172.8,2,  137.07,2,   34.10,2,    0.00,2,    2.40,2,-999.000,9,-999.000,9,  2308.1,2,  2420.9,2,  -9.0000,9,-999.0000,9, -999.00,9, -999.00,9,  -999.0,9,  -999.0,-999.000,9,-999.000,-999.000,9,  -9.0000,-999.0000,   1.0917,   -9.00
  316N145_7,       I08N,     310,          1,          5,          5,2,19950316,       0949,    -2.3332,    80.0000,       4885,  4159.6,   1.3978,  34.7194,2,  34.7188,2,    175.1,2,   174.8,2,  136.20,2,   33.96,2,    0.00,2,    2.37,2,-999.000,9,-999.000,9,  2305.9,2,  2422.9,2,  -9.0000,9,-999.0000,9, -999.00,9, -999.00,9,  -999.0,9,  -999.0,-999.000,9,-999.000,-999.000,9,  -9.0000,-999.0000,   1.0642,   -9.00
  316N145_7,       I08N,     310,          1,          4,          4,2,19950316,       0949,    -2.3332,    80.0000,       4885,  4364.0,   1.4013,  34.7185,2,  34.7186,2,    176.6,2,   176.6,2,  135.75,2,   33.86,2,    0.00,2,    2.38,2,  -0.003,2,   0.000,2,  2304.6,2,  2419.6,2,  -9.0000,9,-999.0000,9, -999.00,9, -999.00,9,  -999.0,9,  -999.0,-999.000,9,-999.000,-999.000,9,  -9.0000,-999.0000,   1.0447,   -9.00
  316N145_7,       I08N,     310,          1,          3,          3,2,19950316,       0949,    -2.3332,    80.0000,       4885,  4569.1,   1.4078,  34.7183,2,  34.7184,2,    178.6,2,   178.6,2,  135.09,2,   33.77,2,    0.00,2,    2.36,2,-999.000,9,-999.000,9,  2302.0,2,  2416.9,2,  -9.0000,9,-999.0000,9, -999.00,9, -999.00,9,  -999.0,9,  -999.0,-999.000,9,-999.000,-999.000,9,  -9.0000,-999.0000,   1.0275,   -9.00
  316N145_7,       I08N,     310,          1,          2,          2,2,19950316,       0949,    -2.3332,    80.0000,       4885,  4774.6,   1.4194,  34.7177,2,  34.7184,2,    178.7,2,   178.5,2,  135.08,2,   33.77,2,    0.00,2,    2.35,2,  -0.001,2,   0.000,2,  2302.6,2,  2420.9,2,  -9.0000,9,-999.0000,9, -999.00,9, -999.00,9,  -999.0,9,  -999.0,-999.000,9,-999.000,-999.000,9,  -9.0000,-999.0000,   1.0147,   -9.00
  316N145_7,       I08N,     310,          1,          1,          1,2,19950316,       0949,    -2.3332,    80.0000,       4885,  4979.7,   1.4302,  34.7173,2,  34.7176,2,    179.2,2,   179.8,2,  135.06,2,   33.72,2,    0.00,2,    2.35,2,  -0.002,2,  -0.001,2,  2301.6,2,  2433.2,3,  -9.0000,9,-999.0000,9, -999.00,9, -999.00,9,  -999.0,9,  -999.0,-999.000,9,-999.000,-999.000,9,  -9.0000,-999.0000,   1.0006,   -9.00