BOTTLE,20211124CCHSIORKP
EXPOCODE,SECT_ID,STNNBR,CASTNO,SAMPNO,BTLNBR,BTLNBR_FLAG_W,DATE,TIME,LATITUDE,LONGITUDE,DEPTH,CTDPRS,CTDTMP,CTDSAL,CTDSAL_FLAG_W,SALNTY,SALNTY_FLAG_W,CTDOXY,CTDOXY_FLAG_W,OXYGEN,OXYGEN_FLAG_W,SILCAT,SILCAT_FLAG_W,NITRAT,NITRAT_FLAG_W,NITRIT,NITRIT_FLAG_W,PHSPHT,PHSPHT_FLAG_W,CFC-11,CFC-11_FLAG_W,CFC-12,CFC-12_FLAG_W,TCARBN,TCARBN_FLAG_W,ALKALI,ALKALI_FLAG_W,TRITUM,TRITUM_FLAG_W,HELIUM,HELIUM_FLAG_W,DELHE3,DELHE3_FLAG_W,DELC13,DELC13_FLAG_W,DELC14,DELC14_FLAG_W,C14ERR,NEON,NEON_FLAG_W,NEONER,CCL4,CCL4_FLAG_W,TRITER,HELIER,THETA,DELHER
,,,,,,,,,,,METERS,DBAR,ITS-90,PSS-78,,PSS-78,,UMOL/KG,,UMOL/KG,,UMOL/KG,,UMOL/KG,,UMOL/KG,,UMOL/KG,,PMOL/KG,,PMOL/KG,,UMOL/KG,,UMOL/KG,,TU,,NMOL/KG,,PERCNT,,/MILLE,,/MILLE,,/MILLE,NMOL/KG,,NMOL/KG,PMOL/KG,,TU,NMOL/KG,DEG C,PERCNT
  316N145_7,       I08N,     313,          1,         36,         36,2,19950317,       0139,    -3.4997,    79.9997,       4985,     2.4,  29.4314,  34.2336,2,  34.2811,3,    196.2,2,   197.9,2,    2.32,2,    0.10,2,    0.00,2,    0.10,2,-999.000,9,-999.000,9,  1902.8,2,  2245.7,2,  -9.0000,9,-999.0000,9, -999.00,9, -999.00,9,  -999.0,9,  -999.0,-999.000,9,-999.000,-999.000,9,  -9.0000,-999.0000,  29.4308,   -9.00
  316N145_7,       I08N,     313,          1,         35,         35,2,19950317,       0139,    -3.4997,    79.9997,       4985,    34.9,  29.1541,  34.3326,2,  34.2821,3,    198.2,2,   198.0,2,    2.10,2,    0.10,2,    0.00,2,    0.10,2,-999.000,9,-999.000,9,  -999.0,9,  -999.0,9,  -9.0000,9,-999.0000,9, -999.00,9, -999.00,9,  -999.0,9,  -999.0,-999.000,9,-999.000,-999.000,9,  -9.0000,-999.0000,  29.1457,   -9.00
  316N145_7,       I08N,     313,          1,         34,         34,2,19950317,       0139,    -3.4997,    79.9997,       4985,    69.6,  25.4415,  35.3405,2,  35.3293,3,    186.4,2,   170.7,2,    4.94,2,    3.07,2,    0.11,2,    0.45,2,-999.000,9,-999.000,9,  -999.0,9,  -999.0,9,  -9.0000,9,-999.0000,9, -999.00,9, -999.00,9,  -999.0,9,  -999.0,-999.000,9,-999.000,-999.000,9,  -9.0000,-999.0000,  25.4262,   -9.00
  316N145_7,       I08N,     313,          1,         33,         33,2,19950317,       0139,    -3.4997,    79.9997,       4985,    90.0,  21.4704,  35.3215,2,  35.3167,3,    108.6,2,   106.8,2,   10.62,2,   14.25,2,    0.29,2,    1.07,2,-999.000,9,-999.000,9,  -999.0,9,  -999.0,9,  -9.0000,9,-999.0000,9, -999.00,9, -999.00,9,  -999.0,9,  -999.0,-999.000,9,-999.000,-999.000,9,  -9.0000,-999.0000,  21.4529,   -9.00
  316N145_7,       I08N,     313,          1,         32,         32,2,19950317,       0139,    -3.4997,    79.9997,       4985,   115.8,  17.9958,  35.0971,2,  35.0905,3,     69.8,2,    69.3,2,   16.93,2,   21.12,2,    0.06,2,    1.45,2,-999.000,9,-999.000,9,  -999.0,9,  -999.0,9,  -9.0000,9,-999.0000,9, -999.00,9, -999.00,9,  -999.0,9,  -999.0,-999.000,9,-999.000,-999.000,9,  -9.0000,-999.0000,  17.9760,   -9.00
  316N145_7,       I08N,     313,          1,         31,         31,2,19950317,       0139,    -3.4997,    79.9997,       4985,   140.0,  16.2161,  35.1991,2,  35.1797,3,     83.0,2,    86.6,2,   17.11,2,   20.80,2,    0.01,2,    1.45,2,-999.000,9,-999.000,9,  -999.0,9,  -999.0,9,  -9.0000,9,-999.0000,9, -999.00,9, -999.00,9,  -999.0,9,  -999.0,-999.000,9,-999.000,-999.000,9,  -9.0000,-999.0000,  16.1938,   -9.00
  316N145_7,       I08N,     313,          1,         30,         30,2,19950317,       0139,    -3.4997,    79.9997,       4985,   180.3,  14.2798,  35.1563,2,  35.1543,3,     93.6,2,    99.0,2,   17.91,2,   21.32,2,    0.00,2,    1.49,2,-999.000,9,-999.000,9,  -999.0,9,  -999.0,9,  -9.0000,9,-999.0000,9, -999.00,9, -999.00,9,  -999.0,9,  -999.0,-999.000,9,-999.000,-999.000,9,  -9.0000,-999.0000,  14.2534,   -9.00
  316N145_7,       I08N,     313,          1,         29,         29,2,19950317,       0139,    -3.4997,    79.9997,       4985,   230.3,  13.2654,  35.1203,2,  35.1187,3,     85.8,2,    86.3,2,   20.54,2,   23.91,2,    0.00,2,    1.67,2,-999.000,9,-999.000,9,  -999.0,9,  -999.0,9,  -9.0000,9,-999.0000,9, -999.00,9, -999.00,9,  -999.0,9,  -999.0,-999.000,9,-999.000,-999.000,9,  -9.0000,-999.0000,  13.2332,   -9.00
  316N145_7,       I08N,     313,          1,         28,         28,2,19950317,       0139,    -3.4997,    79.9997,       4985,   281.2,  12.2983,  35.0496,2,  35.0533,3,     81.0,2,    82.6,2,   22.36,2,   25.68,2,    0.00,2,    1.76,2,-999.000,9,-999.000,9,  -999.0,9,  -999.0,9,  -9.0000,9,-999.0000,9, -999.00,9, -999.00,9,  -999.0,9,  -999.0,-999.000,9,-999.000,-999.000,9,  -9.0000,-999.0000,  12.2609,   -9.00
  316N145_7,       I08N,     313,          1,         27,         27,2,19950317,       0139,    -3.4997,    79.9997,       4985,   346.6,  11.3395,  34.9980,2,  34.9931,3,    110.7,2,   114.5,2,   21.74,2,   23.97,2,    0.00,2,    1.65,2,-999.000,9,-999.000,9,  -999.0,9,  -999.0,9,  -9.0000,9,-999.0000,9, -999.00,9, -999.00,9,  -999.0,9,  -999.0,-999.000,9,-999.000,-999.000,9,  -9.0000,-999.0000,  11.2956,   -9.00
  316N145_7,       I08N,     313,          1,         26,         26,2,19950317,       0139,    -3.4997,    79.9997,       4985,   381.4,  10.7887,  34.9621,2,  34.9639,3,    112.7,2,   113.4,2,   23.15,2,   24.85,2,    0.00,2,    1.71,2,-999.000,9,-999.000,9,  -999.0,9,  -999.0,9,  -9.0000,9,-999.0000,9, -999.00,9, -999.00,9,  -999.0,9,  -999.0,-999.000,9,-999.000,-999.000,9,  -9.0000,-999.0000,  10.7419,   -9.00
  316N145_7,       I08N,     313,          1,         25,         25,2,19950317,       0139,    -3.4997,    79.9997,       4985,   481.7,   9.8252,  34.9153,2,  34.9128,3,     83.9,2,    82.4,2,   32.92,2,   30.29,2,    0.00,2,    2.08,2,-999.000,9,-999.000,9,  -999.0,9,  -999.0,9,  -9.0000,9,-999.0000,9, -999.00,9, -999.00,9,  -999.0,9,  -999.0,-999.000,9,-999.000,-999.000,9,  -9.0000,-999.0000,   9.7692,   -9.00
  316N145_7,       I08N,     313,          1,         24,         24,2,19950317,       0139,    -3.4997,    79.9997,       4985,   582.2,   8.9209,  34.8748,2,  34.8720,3,     78.5,2,    76.1,2,   43.91,2,   32.35,2,    0.00,2,    2.31,2,-999.000,9,-999.000,9,  -999.0,9,  -999.0,9,  -9.0000,9,-999.0000,9, -999.00,9, -999.00,9,  -999.0,9,  -999.0,-999.000,9,-999.000,-999.000,9,  -9.0000,-999.0000,   8.8567,   -9.00
  316N145_7,       I08N,     313,          1,         23,         23,2,19950317,       0139,    -3.4997,    79.9997,       4985,   682.7,   8.0895,  34.8667,2,  34.8626,3,     70.2,2,    68.6,2,   56.75,2,   34.37,2,    0.00,2,    2.49,2,-999.000,9,-999.000,9,  -999.0,9,  -999.0,9,  -9.0000,9,-999.0000,9, -999.00,9, -999.00,9,  -999.0,9,  -999.0,-999.000,9,-999.000,-999.000,9,  -9.0000,-999.0000,   8.0179,   -9.00
  316N145_7,       I08N,     313,          1,         22,         22,2,19950317,       0139,    -3.4997,    79.9997,       4985,   783.1,   7.4384,  34.8724,2,  34.8691,3,     62.2,2,    59.1,2,   69.20,2,   35.97,2,    0.00,2,    2.67,2,-999.000,9,-999.000,9,  -999.0,9,  -999.0,9,  -9.0000,9,-999.0000,9, -999.00,9, -999.00,9,  -999.0,9,  -999.0,-999.000,9,-999.000,-999.000,9,  -9.0000,-999.0000,   7.3595,   -9.00
  316N145_7,       I08N,     313,          1,         21,         21,2,19950317,       0139,    -3.4997,    79.9997,       4985,   884.0,   7.0173,  34.9031,2,  34.9007,3,     54.2,2,    55.4,2,   77.16,2,   36.63,2,    0.00,2,    2.73,2,-999.000,9,-999.000,9,  -999.0,9,  -999.0,9,  -9.0000,9,-999.0000,9, -999.00,9, -999.00,9,  -999.0,9,  -999.0,-999.000,9,-999.000,-999.000,9,  -9.0000,-999.0000,   6.9304,   -9.00
  316N145_7,       I08N,     313,          1,         20,         20,2,19950317,       0139,    -3.4997,    79.9997,       4985,   984.6,   6.4484,  34.8757,2,  34.8720,3,     61.0,2,    62.1,2,   83.50,2,   36.83,2,    0.00,2,    2.73,2,-999.000,9,-999.000,9,  -999.0,9,  -999.0,9,  -9.0000,9,-999.0000,9, -999.00,9, -999.00,9,  -999.0,9,  -999.0,-999.000,9,-999.000,-999.000,9,  -9.0000,-999.0000,   6.3551,   -9.00
  316N145_7,       I08N,     313,          1,         19,         19,2,19950317,       0139,    -3.4997,    79.9997,       4985,  1135.9,   5.4176,  34.8070,2,  34.8044,3,     69.9,2,    72.5,2,   95.83,2,   37.21,2,    0.00,2,    2.76,2,-999.000,9,-999.000,9,  -999.0,9,  -999.0,9,  -9.0000,9,-999.0000,9, -999.00,9, -999.00,9,  -999.0,9,  -999.0,-999.000,9,-999.000,-999.000,9,  -9.0000,-999.0000,   5.3177,   -9.00
  316N145_7,       I08N,     313,          1,         18,         18,2,19950317,       0139,    -3.4997,    79.9997,       4985,  1312.8,   4.6796,  34.8096,2,  34.8081,3,     83.6,2,    85.9,2,  101.80,2,   36.98,2,    0.00,2,    2.74,2,-999.000,9,-999.000,9,  -999.0,9,  -999.0,9,  -9.0000,9,-999.0000,9, -999.00,9, -999.00,9,  -999.0,9,  -999.0,-999.000,9,-999.000,-999.000,9,  -9.0000,-999.0000,   4.5698,   -9.00
  316N145_7,       I08N,     313,          1,         17,         17,2,19950317,       0139,    -3.4997,    79.9997,       4985,  1514.7,   3.9306,  34.8002,2,  34.7971,3,    100.9,2,   101.6,2,  108.62,2,   36.60,2,    0.00,2,    2.69,2,-999.000,9,-999.000,9,  -999.0,9,  -999.0,9,  -9.0000,9,-999.0000,9, -999.00,9, -999.00,9,  -999.0,9,  -999.0,-999.000,9,-999.000,-999.000,9,  -9.0000,-999.0000,   3.8102,   -9.00
  316N145_7,       I08N,     313,          1,         16,         16,2,19950317,       0139,    -3.4997,    79.9997,       4985,  1717.1,   3.2867,  34.7828,2,  34.7780,3,    117.6,2,   116.9,2,  114.22,2,   35.99,2,    0.00,2,    2.63,2,-999.000,9,-999.000,9,  -999.0,9,  -999.0,9,  -9.0000,9,-999.0000,9, -999.00,9, -999.00,9,  -999.0,9,  -999.0,-999.000,9,-999.000,-999.000,9,  -9.0000,-999.0000,   3.1561,   -9.00
  316N145_7,       I08N,     313,          1,         15,         15,2,19950317,       0139,    -3.4997,    79.9997,       4985,  1919.0,   2.8373,  34.7726,2,  34.7688,3,    128.7,2,   127.9,2,  120.06,2,   35.67,2,    0.00,2,    2.59,2,-999.000,9,-999.000,9,  -999.0,9,  -999.0,9,  -9.0000,9,-999.0000,9, -999.00,9, -999.00,9,  -999.0,9,  -999.0,-999.000,9,-999.000,-999.000,9,  -9.0000,-999.0000,   2.6950,   -9.00
  316N145_7,       I08N,     313,          1,         14,         14,2,19950317,       0139,    -3.4997,    79.9997,       4985,  2121.7,   2.4990,  34.7610,2,  34.7581,3,    136.5,2,   136.6,2,  123.82,2,   35.39,2,    0.00,2,    2.55,2,-999.000,9,-999.000,9,  -999.0,9,  -999.0,9,  -9.0000,9,-999.0000,9, -999.00,9, -999.00,9,  -999.0,9,  -999.0,-999.000,9,-999.000,-999.000,9,  -9.0000,-999.0000,   2.3438,   -9.00
  316N145_7,       I08N,     313,          1,         13,         13,2,19950317,       0139,    -3.4997,    79.9997,       4985,  2323.7,   2.2176,  34.7511,2,  34.7473,3,    144.8,2,   145.1,2,  126.54,2,   35.06,2,    0.00,2,    2.51,2,-999.000,9,-999.000,9,  -999.0,9,  -999.0,9,  -9.0000,9,-999.0000,9, -999.00,9, -999.00,9,  -999.0,9,  -999.0,-999.000,9,-999.000,-999.000,9,  -9.0000,-999.0000,   2.0490,   -9.00
  316N145_7,       I08N,     313,          1,         12,         12,2,19950317,       0139,    -3.4997,    79.9997,       4985,  2525.8,   2.0435,  34.7438,2,  34.7408,3,    149.8,2,   150.0,2,  128.63,2,   34.88,2,    0.00,2,    2.48,2,-999.000,9,-999.000,9,  -999.0,9,  -999.0,9,  -9.0000,9,-999.0000,9, -999.00,9, -999.00,9,  -999.0,9,  -999.0,-999.000,9,-999.000,-999.000,9,  -9.0000,-999.0000,   1.8597,   -9.00
  316N145_7,       I08N,     313,          1,         11,         11,2,19950317,       0139,    -3.4997,    79.9997,       4985,  2804.8,   1.8520,  34.7363,2,  34.7326,3,    156.9,2,   157.4,2,  129.66,2,   34.60,2,    0.00,2,    2.45,2,-999.000,9,-999.000,9,  -999.0,9,  -999.0,9,  -9.0000,9,-999.0000,9, -999.00,9, -999.00,9,  -999.0,9,  -999.0,-999.000,9,-999.000,-999.000,9,  -9.0000,-999.0000,   1.6459,   -9.00
  316N145_7,       I08N,     313,          1,         10,         10,2,19950317,       0139,    -3.4997,    79.9997,       4985,  3034.5,   1.6937,  34.7306,2,  34.7257,3,    161.7,2,   161.5,2,  132.61,2,   34.46,2,    0.00,2,    2.44,2,-999.000,9,-999.000,9,  -999.0,9,  -999.0,9,  -9.0000,9,-999.0000,9, -999.00,9, -999.00,9,  -999.0,9,  -999.0,-999.000,9,-999.000,-999.000,9,  -9.0000,-999.0000,   1.4690,   -9.00
  316N145_7,       I08N,     313,          1,          9,          9,2,19950317,       0139,    -3.4997,    79.9997,       4985,  3264.5,   1.5713,  34.7264,2,  34.7212,3,    164.6,2,   165.2,2,  135.14,2,   34.42,2,    0.00,2,    2.43,2,-999.000,9,-999.000,9,  -999.0,9,  -999.0,9,  -9.0000,9,-999.0000,9, -999.00,9, -999.00,9,  -999.0,9,  -999.0,-999.000,9,-999.000,-999.000,9,  -9.0000,-999.0000,   1.3269,   -9.00
  316N145_7,       I08N,     313,          1,          8,          8,2,19950317,       0139,    -3.4997,    79.9997,       4985,  3493.9,   1.4726,  34.7228,2,  34.7184,3,    168.3,2,   168.6,2,  136.19,2,   34.32,2,    0.00,2,    2.41,2,-999.000,9,-999.000,9,  -999.0,9,  -999.0,9,  -9.0000,9,-999.0000,9, -999.00,9, -999.00,9,  -999.0,9,  -999.0,-999.000,9,-999.000,-999.000,9,  -9.0000,-999.0000,   1.2075,   -9.00
  316N145_7,       I08N,     313,          1,          7,          7,2,19950317,       0139,    -3.4997,    79.9997,       4985,  3722.6,   1.4158,  34.7208,2,  34.7160,3,    170.8,2,   171.1,2,  137.23,2,   34.19,2,    0.00,2,    2.40,2,-999.000,9,-999.000,9,  -999.0,9,  -999.0,9,  -9.0000,9,-999.0000,9, -999.00,9, -999.00,9,  -999.0,9,  -999.0,-999.000,9,-999.000,-999.000,9,  -9.0000,-999.0000,   1.1286,   -9.00
  316N145_7,       I08N,     313,          1,          6,          6,2,19950317,       0139,    -3.4997,    79.9997,       4985,  3952.0,   1.3985,  34.7195,2,  34.7152,3,    173.0,2,   173.2,2,  136.99,2,   34.14,2,    0.00,2,    2.39,2,-999.000,9,-999.000,9,  -999.0,9,  -999.0,9,  -9.0000,9,-999.0000,9, -999.00,9, -999.00,9,  -999.0,9,  -999.0,-999.000,9,-999.000,-999.000,9,  -9.0000,-999.0000,   1.0875,   -9.00
  316N145_7,       I08N,     313,          1,          5,          5,2,19950317,       0139,    -3.4997,    79.9997,       4985,  4182.2,   1.3966,  34.7190,2,  34.7145,3,    175.4,2,   176.5,3,  136.32,2,   33.96,2,    0.00,2,    2.37,2,-999.000,9,-999.000,9,  -999.0,9,  -999.0,9,  -9.0000,9,-999.0000,9, -999.00,9, -999.00,9,  -999.0,9,  -999.0,-999.000,9,-999.000,-999.000,9,  -9.0000,-999.0000,   1.0605,   -9.00
  316N145_7,       I08N,     313,          1,          4,          4,2,19950317,       0139,    -3.4997,    79.9997,       4985,  4412.2,   1.3969,  34.7185,2,  34.7133,3,    177.5,2,   177.9,2,  135.23,2,   33.77,2,    0.00,2,    2.35,2,-999.000,9,-999.000,9,  -999.0,9,  -999.0,9,  -9.0000,9,-999.0000,9, -999.00,9, -999.00,9,  -999.0,9,  -999.0,-999.000,9,-999.000,-999.000,9,  -9.0000,-999.0000,   1.0350,   -9.00
  316N145_7,       I08N,     313,          1,          3,          3,2,19950317,       0139,    -3.4997,    79.9997,       4985,  4667.5,   1.3958,  34.7181,2,  34.7131,3,    179.7,2,   180.3,2,  134.35,2,   33.68,2,    0.00,2,    2.36,2,-999.000,9,-999.000,9,  -999.0,9,  -999.0,9,  -9.0000,9,-999.0000,9, -999.00,9, -999.00,9,  -999.0,9,  -999.0,-999.000,9,-999.000,-999.000,9,  -9.0000,-999.0000,   1.0045,   -9.00
  316N145_7,       I08N,     313,          1,          2,          2,2,19950317,       0139,    -3.4997,    79.9997,       4985,  4923.9,   1.4047,  34.7172,2,  34.7131,3,    182.3,2,   182.2,2,  133.27,2,   33.50,2,    0.00,2,    2.34,2,-999.000,9,-999.000,9,  -999.0,9,  -999.0,9,  -9.0000,9,-999.0000,9, -999.00,9, -999.00,9,  -999.0,9,  -999.0,-999.000,9,-999.000,-999.000,9,  -9.0000,-999.0000,   0.9827,   -9.00
  316N145_7,       I08N,     313,          1,          1,          1,2,19950317,       0139,    -3.4997,    79.9997,       4985,  5088.4,   1.4247,  34.7175,2,  34.7133,3,    182.9,2,   182.7,2,  133.24,2,   33.50,2,    0.00,2,    2.34,2,-999.000,9,-999.000,9,  -999.0,9,  -999.0,9,  -9.0000,9,-999.0000,9, -999.00,9, -999.00,9,  -999.0,9,  -999.0,-999.000,9,-999.000,-999.000,9,  -9.0000,-999.0000,   0.9821,   -9.00