BOTTLE,20211124CCHSIORKP
EXPOCODE,SECT_ID,STNNBR,CASTNO,SAMPNO,BTLNBR,BTLNBR_FLAG_W,DATE,TIME,LATITUDE,LONGITUDE,DEPTH,CTDPRS,CTDTMP,CTDSAL,CTDSAL_FLAG_W,SALNTY,SALNTY_FLAG_W,CTDOXY,CTDOXY_FLAG_W,OXYGEN,OXYGEN_FLAG_W,SILCAT,SILCAT_FLAG_W,NITRAT,NITRAT_FLAG_W,NITRIT,NITRIT_FLAG_W,PHSPHT,PHSPHT_FLAG_W,CFC-11,CFC-11_FLAG_W,CFC-12,CFC-12_FLAG_W,TCARBN,TCARBN_FLAG_W,ALKALI,ALKALI_FLAG_W,TRITUM,TRITUM_FLAG_W,HELIUM,HELIUM_FLAG_W,DELHE3,DELHE3_FLAG_W,DELC13,DELC13_FLAG_W,DELC14,DELC14_FLAG_W,C14ERR,NEON,NEON_FLAG_W,NEONER,CCL4,CCL4_FLAG_W,TRITER,HELIER,THETA,DELHER
,,,,,,,,,,,METERS,DBAR,ITS-90,PSS-78,,PSS-78,,UMOL/KG,,UMOL/KG,,UMOL/KG,,UMOL/KG,,UMOL/KG,,UMOL/KG,,PMOL/KG,,PMOL/KG,,UMOL/KG,,UMOL/KG,,TU,,NMOL/KG,,PERCNT,,/MILLE,,/MILLE,,/MILLE,NMOL/KG,,NMOL/KG,PMOL/KG,,TU,NMOL/KG,DEG C,PERCNT
  316N145_7,       I05E,     416,          1,         25,         25,2,19950409,       0121,   -31.9832,   100.9832,       2222,     3.3,  19.9534,  36.0914,2,  36.0906,2,    227.8,2,   227.1,2,    2.26,2,    0.11,2,    0.00,2,    0.12,2,   2.297,2,   1.221,2,  2065.7,2,  2370.5,2,  -9.0000,9,-999.0000,9, -999.00,9, -999.00,9,  -999.0,9,  -999.0,-999.000,9,-999.000,-999.000,9,  -9.0000,-999.0000,  19.9528,   -9.00
  316N145_7,       I05E,     416,          1,         24,         24,2,19950409,       0121,   -31.9832,   100.9832,       2222,    29.1,  19.9320,  36.0899,2,  36.0894,2,    227.8,2,   227.3,2,    2.04,2,    0.11,2,    0.00,2,    0.12,2,-999.000,9,-999.000,9,  2064.2,2,  2366.5,2,  -9.0000,9,-999.0000,9, -999.00,9, -999.00,9,  -999.0,9,  -999.0,-999.000,9,-999.000,-999.000,9,  -9.0000,-999.0000,  19.9266,   -9.00
  316N145_7,       I05E,     416,          1,         23,         23,2,19950409,       0121,   -31.9832,   100.9832,       2222,    54.2,  19.9083,  36.0975,2,  36.0959,2,    227.6,2,   227.9,2,    2.04,2,    0.11,2,    0.00,2,    0.12,2,   2.305,2,   1.212,2,  2064.0,2,  2367.0,2,  -9.0000,9,-999.0000,9, -999.00,9, -999.00,9,  -999.0,9,  -999.0,-999.000,9,-999.000,-999.000,9,  -9.0000,-999.0000,  19.8982,   -9.00
  316N145_7,       I05E,     416,          1,         22,         22,2,19950409,       0121,   -31.9832,   100.9832,       2222,    78.6,  18.0656,  35.8941,2,  35.8633,2,    241.9,2,   244.4,2,    2.03,2,    0.11,2,    0.00,2,    0.15,2,   2.569,2,   1.362,2,  2059.6,2,  2351.9,2,  -9.0000,9,-999.0000,9, -999.00,9, -999.00,9,  -999.0,9,  -999.0,-999.000,9,-999.000,-999.000,9,  -9.0000,-999.0000,  18.0520,   -9.00
  316N145_7,       I05E,     416,          1,         21,         21,2,19950409,       0121,   -31.9832,   100.9832,       2222,    99.3,  16.0380,  35.7069,2,  35.7282,2,    246.6,2,   245.6,2,    1.82,2,    0.11,2,    0.01,2,    0.18,2,   2.710,2,   1.405,2,  2066.8,2,  2343.9,2,  -9.0000,9,-999.0000,9, -999.00,9, -999.00,9,  -999.0,9,  -999.0,-999.000,9,-999.000,-999.000,9,  -9.0000,-999.0000,  16.0222,   -9.00
  316N145_7,       I05E,     416,          1,         20,         20,2,19950409,       0121,   -31.9832,   100.9832,       2222,   154.9,  13.8620,  35.4117,2,  35.4223,2,    240.2,2,   238.6,2,    2.02,2,    3.95,2,    0.03,2,    0.43,2,-999.000,9,-999.000,9,  2086.8,2,  2328.8,2,  -9.0000,9,-999.0000,9, -999.00,9, -999.00,9,  -999.0,9,  -999.0,-999.000,9,-999.000,-999.000,9,  -9.0000,-999.0000,  13.8398,   -9.00
  316N145_7,       I05E,     416,          1,         19,         19,2,19950409,       0121,   -31.9832,   100.9832,       2222,   194.8,  13.0381,  35.2849,2,  35.2831,2,    239.1,2,   237.8,2,    2.23,2,    5.66,2,    0.01,2,    0.54,2,   3.062,2,   1.532,2,  2093.4,2,  2322.9,2,  -9.0000,9,-999.0000,9, -999.00,9, -999.00,9,  -999.0,9,  -999.0,-999.000,9,-999.000,-999.000,9,  -9.0000,-999.0000,  13.0112,   -9.00
  316N145_7,       I05E,     416,          1,         18,         18,2,19950409,       0121,   -31.9832,   100.9832,       2222,   234.7,  12.4051,  35.1846,2,  35.1848,2,    236.9,2,   240.0,2,    2.43,2,    6.92,2,    0.01,2,    0.62,2,-999.000,9,-999.000,9,  2096.7,2,  2316.7,2,  -9.0000,9,-999.0000,9, -999.00,9, -999.00,9,  -999.0,9,  -999.0,-999.000,9,-999.000,-999.000,9,  -9.0000,-999.0000,  12.3737,   -9.00
  316N145_7,       I05E,     416,          1,         17,         17,2,19950409,       0121,   -31.9832,   100.9832,       2222,   284.8,  11.4733,  35.0316,2,  35.0391,2,    239.6,2,   243.3,2,    2.84,2,    8.91,2,    0.01,2,    0.73,2,   3.236,3,   1.574,3,  2102.0,2,  2311.4,2,  -9.0000,9,-999.0000,9, -999.00,9, -999.00,9,  -999.0,9,  -999.0,-999.000,9,-999.000,-999.000,9,  -9.0000,-999.0000,  11.4371,   -9.00
  316N145_7,       I05E,     416,          1,         16,         16,2,19950409,       0121,   -31.9832,   100.9832,       2222,   355.6,  10.7191,  34.9073,2,  34.9082,2,    244.3,2,   244.6,2,    3.46,2,   11.14,2,    0.00,2,    0.87,2,-999.000,9,-999.000,9,  2113.3,2,  2305.0,2,  -9.0000,9,-999.0000,9, -999.00,9, -999.00,9,  -999.0,9,  -999.0,-999.000,9,-999.000,-999.000,9,  -9.0000,-999.0000,  10.6757,   -9.00
  316N145_7,       I05E,     416,          1,         15,         15,2,19950409,       0121,   -31.9832,   100.9832,       2222,   455.8,   9.8190,  34.7602,2,  34.7596,2,    244.0,2,   244.9,2,    4.51,2,   14.00,2,    0.00,2,    1.03,2,   3.248,6,   1.653,6,  2112.5,2,  2293.2,2,  -9.0000,9,-999.0000,9, -999.00,9, -999.00,9,  -999.0,9,  -999.0,-999.000,9,-999.000,-999.000,9,  -9.0000,-999.0000,   9.7662,   -9.00
  316N145_7,       I05E,     416,          1,         14,         14,2,19950409,       0121,   -31.9832,   100.9832,       2222,   556.8,   9.2763,  34.6783,2,  34.6774,2,    237.1,2,   236.4,2,    5.76,2,   16.67,2,    0.00,2,    1.20,2,-999.000,9,-999.000,9,  2121.5,2,  2294.9,2,  -9.0000,9,-999.0000,9, -999.00,9, -999.00,9,  -999.0,9,  -999.0,-999.000,9,-999.000,-999.000,9,  -9.0000,-999.0000,   9.2137,   -9.00
  316N145_7,       I05E,     416,          1,         13,         13,2,19950409,       0121,   -31.9832,   100.9832,       2222,   656.8,   8.5998,  34.5921,2,  34.5976,2,    225.1,2,   226.4,2,    7.84,2,   19.49,2,    0.00,2,    1.36,2,   2.450,2,   1.237,2,  2129.0,2,  2298.2,2,  -9.0000,9,-999.0000,9, -999.00,9, -999.00,9,  -999.0,9,  -999.0,-999.000,9,-999.000,-999.000,9,  -9.0000,-999.0000,   8.5289,   -9.00
  316N145_7,       I05E,     416,          1,         12,         12,2,19950409,       0121,   -31.9832,   100.9832,       2222,   756.1,   7.2197,  34.4861,2,  34.4851,2,    204.0,2,   200.4,2,   16.00,2,   24.95,2,    0.00,2,    1.72,2,   1.259,2,   0.620,2,  -999.0,5,  2291.5,2,  -9.0000,9,-999.0000,9, -999.00,9, -999.00,9,  -999.0,9,  -999.0,-999.000,9,-999.000,-999.000,9,  -9.0000,-999.0000,   7.1454,   -9.00
  316N145_7,       I05E,     416,          1,         11,         11,2,19950409,       0121,   -31.9832,   100.9832,       2222,   857.1,   5.8769,  34.4170,2,  34.4175,2,    195.9,2,   195.5,2,   24.99,2,   28.18,2,    0.00,2,    1.95,2,   0.810,2,   0.403,2,  2174.1,2,  2308.3,2,  -9.0000,9,-999.0000,9, -999.00,9, -999.00,9,  -999.0,9,  -999.0,-999.000,9,-999.000,-999.000,9,  -9.0000,-999.0000,   5.8008,   -9.00
  316N145_7,       I05E,     416,          1,         10,         10,2,19950409,       0121,   -31.9832,   100.9832,       2222,   957.8,   4.5051,  34.3809,2,  34.3830,2,    192.8,2,   191.3,2,   38.58,2,   31.22,2,    0.00,2,    2.17,2,-999.000,9,-999.000,9,  2199.5,2,  2307.2,2,  -9.0000,9,-999.0000,9, -999.00,9, -999.00,9,  -999.0,9,  -999.0,-999.000,9,-999.000,-999.000,9,  -9.0000,-999.0000,   4.4295,   -9.00
  316N145_7,       I05E,     416,          1,          9,          9,2,19950409,       0121,   -31.9832,   100.9832,       2222,  1110.6,   3.8412,  34.4580,2,  34.4609,2,    164.6,2,   164.6,2,   60.12,2,   33.88,2,    0.00,2,    2.39,2,   0.135,2,   0.068,2,  2235.5,2,  2330.2,2,  -9.0000,9,-999.0000,9, -999.00,9, -999.00,9,  -999.0,9,  -999.0,-999.000,9,-999.000,-999.000,9,  -9.0000,-999.0000,   3.7577,   -9.00
  316N145_7,       I05E,     416,          1,          8,          8,2,19950409,       0121,   -31.9832,   100.9832,       2222,  1263.0,   3.4547,  34.5198,2,  34.5210,2,    154.5,2,   154.0,2,   71.84,2,   34.73,2,    0.00,2,    2.46,2,   0.049,2,   0.022,2,  2252.0,2,  2345.5,2,  -9.0000,9,-999.0000,9, -999.00,9, -999.00,9,  -999.0,9,  -999.0,-999.000,9,-999.000,-999.000,9,  -9.0000,-999.0000,   3.3619,   -9.00
  316N145_7,       I05E,     416,          1,          7,          7,2,19950409,       0121,   -31.9832,   100.9832,       2222,  1414.2,   3.1178,  34.5691,2,  34.5695,2,    153.9,2,   153.4,2,   78.54,2,   34.73,2,    0.00,2,    2.46,2,-999.000,9,-999.000,9,  2258.9,2,  2350.9,2,  -9.0000,9,-999.0000,9, -999.00,9, -999.00,9,  -999.0,9,  -999.0,-999.000,9,-999.000,-999.000,9,  -9.0000,-999.0000,   3.0158,   -9.00
  316N145_7,       I05E,     416,          1,          6,          6,2,19950409,       0121,   -31.9832,   100.9832,       2222,  1566.1,   2.8760,  34.6186,2,  34.6194,2,    154.1,2,   154.3,2,   85.25,2,   34.54,2,    0.00,2,    2.44,2,   0.006,2,   0.004,2,  2267.2,2,  2358.0,2,  -9.0000,9,-999.0000,9, -999.00,9, -999.00,9,  -999.0,9,  -999.0,-999.000,9,-999.000,-999.000,9,  -9.0000,-999.0000,   2.7640,   -9.00
  316N145_7,       I05E,     416,          1,          5,          5,2,19950409,       0121,   -31.9832,   100.9832,       2222,  1717.9,   2.6754,  34.6607,2,  34.6636,2,    157.4,2,   158.2,2,   90.28,2,   33.96,2,    0.00,2,    2.40,2,-999.000,9,-999.000,9,  2267.6,2,  2364.2,2,  -9.0000,9,-999.0000,9, -999.00,9, -999.00,9,  -999.0,9,  -999.0,-999.000,9,-999.000,-999.000,9,  -9.0000,-999.0000,   2.5531,   -9.00
  316N145_7,       I05E,     416,          1,          4,          4,2,19950409,       0121,   -31.9832,   100.9832,       2222,  1868.2,   2.4313,  34.6961,2,  34.6968,2,    167.4,2,   168.5,2,   91.31,2,   32.98,2,    0.00,2,    2.31,2,   0.001,2,   0.002,2,  2265.7,2,  2361.9,2,  -9.0000,9,-999.0000,9, -999.00,9, -999.00,9,  -999.0,9,  -999.0,-999.000,9,-999.000,-999.000,9,  -9.0000,-999.0000,   2.2995,   -9.00
  316N145_7,       I05E,     416,          1,          3,          3,2,19950409,       0121,   -31.9832,   100.9832,       2222,  2019.1,   2.2473,  34.7175,2,  34.7178,2,    176.1,2,   176.8,2,   92.13,2,   32.25,2,    0.00,2,    2.25,2,-999.000,9,-999.000,9,  2259.9,2,  2364.7,2,  -9.0000,9,-999.0000,9, -999.00,9, -999.00,9,  -999.0,9,  -999.0,-999.000,9,-999.000,-999.000,9,  -9.0000,-999.0000,   2.1052,   -9.00
  316N145_7,       I05E,     416,          1,          2,          2,2,19950409,       0121,   -31.9832,   100.9832,       2222,  2169.3,   2.1200,  34.7277,2,  34.7278,2,    179.0,2,   179.0,2,   95.91,2,   32.06,2,    0.00,2,    2.24,2,   0.001,2,   0.000,2,  2262.4,2,  2366.7,2,  -9.0000,9,-999.0000,9, -999.00,9, -999.00,9,  -999.0,9,  -999.0,-999.000,9,-999.000,-999.000,9,  -9.0000,-999.0000,   1.9668,   -9.00
  316N145_7,       I05E,     416,          1,          1,          1,2,19950409,       0121,   -31.9832,   100.9832,       2222,  2231.6,   2.0075,  34.7268,2,  34.7280,2,    174.7,2,   174.7,2,  104.56,2,   32.70,2,    0.00,2,    2.29,2,  -0.001,2,   0.001,2,  2273.2,2,  2378.9,2,  -9.0000,9,-999.0000,9, -999.00,9, -999.00,9,  -999.0,9,  -999.0,-999.000,9,-999.000,   0.012,6,  -9.0000,-999.0000,   1.8508,   -9.00