BOTTLE,20211124CCHSIORKP
EXPOCODE,SECT_ID,STNNBR,CASTNO,SAMPNO,BTLNBR,BTLNBR_FLAG_W,DATE,TIME,LATITUDE,LONGITUDE,DEPTH,CTDPRS,CTDTMP,CTDSAL,CTDSAL_FLAG_W,SALNTY,SALNTY_FLAG_W,CTDOXY,CTDOXY_FLAG_W,OXYGEN,OXYGEN_FLAG_W,SILCAT,SILCAT_FLAG_W,NITRAT,NITRAT_FLAG_W,NITRIT,NITRIT_FLAG_W,PHSPHT,PHSPHT_FLAG_W,CFC-11,CFC-11_FLAG_W,CFC-12,CFC-12_FLAG_W,TCARBN,TCARBN_FLAG_W,ALKALI,ALKALI_FLAG_W,TRITUM,TRITUM_FLAG_W,HELIUM,HELIUM_FLAG_W,DELHE3,DELHE3_FLAG_W,DELC13,DELC13_FLAG_W,DELC14,DELC14_FLAG_W,C14ERR,NEON,NEON_FLAG_W,NEONER,CCL4,CCL4_FLAG_W,TRITER,HELIER,THETA,DELHER
,,,,,,,,,,,METERS,DBAR,ITS-90,PSS-78,,PSS-78,,UMOL/KG,,UMOL/KG,,UMOL/KG,,UMOL/KG,,UMOL/KG,,UMOL/KG,,PMOL/KG,,PMOL/KG,,UMOL/KG,,UMOL/KG,,TU,,NMOL/KG,,PERCNT,,/MILLE,,/MILLE,,/MILLE,NMOL/KG,,NMOL/KG,PMOL/KG,,TU,NMOL/KG,DEG C,PERCNT
  316N145_7,      TRANS,     368,          1,         14,         14,2,19950329,       2113,   -27.2758,    87.3800,        862,     2.7,  24.4341,  36.0135,2,  36.0129,2,    208.9,2,   210.1,2,    2.99,2,    0.21,2,    0.00,2,    0.10,2,-999.000,9,-999.000,9,  -999.0,9,  -999.0,9,  -9.0000,9,-999.0000,9, -999.00,9, -999.00,9,  -999.0,9,  -999.0,-999.000,9,-999.000,-999.000,9,  -9.0000,-999.0000,  24.4335,   -9.00
  316N145_7,      TRANS,     368,          1,         13,         13,2,19950329,       2113,   -27.2758,    87.3800,        862,    22.6,  24.4068,  36.0189,2,  36.0188,2,    211.0,2,   210.5,2,    2.76,2,    0.16,2,    0.00,2,    0.10,2,-999.000,9,-999.000,9,  -999.0,9,  -999.0,9,  -9.0000,9,-999.0000,9, -999.00,9, -999.00,9,  -999.0,9,  -999.0,-999.000,9,-999.000,-999.000,9,  -9.0000,-999.0000,  24.4019,   -9.00
  316N145_7,      TRANS,     368,          1,         12,         12,2,19950329,       2113,   -27.2758,    87.3800,        862,    62.7,  19.9065,  35.8967,2,  35.8827,2,    246.6,2,   245.9,2,    2.52,2,    0.16,2,    0.00,2,    0.13,2,-999.000,9,-999.000,9,  -999.0,9,  -999.0,9,  -9.0000,9,-999.0000,9, -999.00,9, -999.00,9,  -999.0,9,  -999.0,-999.000,9,-999.000,-999.000,9,  -9.0000,-999.0000,  19.8949,   -9.00
  316N145_7,      TRANS,     368,          1,         11,         11,2,19950329,       2113,   -27.2758,    87.3800,        862,   103.6,  17.2410,  35.7782,2,  35.7821,2,    241.9,2,   241.7,2,    2.29,2,    0.17,2,    0.00,2,    0.18,2,-999.000,9,-999.000,9,  -999.0,9,  -999.0,9,  -9.0000,9,-999.0000,9, -999.00,9, -999.00,9,  -999.0,9,  -999.0,-999.000,9,-999.000,-999.000,9,  -9.0000,-999.0000,  17.2237,   -9.00
  316N145_7,      TRANS,     368,          1,         10,         10,2,19950329,       2113,   -27.2758,    87.3800,        862,   154.1,  15.1785,  35.5431,2,  35.5545,2,    230.7,2,   232.0,2,    2.27,2,    1.37,2,    0.27,2,    0.33,2,-999.000,9,-999.000,9,  -999.0,9,  -999.0,9,  -9.0000,9,-999.0000,9, -999.00,9, -999.00,9,  -999.0,9,  -999.0,-999.000,9,-999.000,-999.000,9,  -9.0000,-999.0000,  15.1549,   -9.00
  316N145_7,      TRANS,     368,          1,          9,          9,2,19950329,       2113,   -27.2758,    87.3800,        862,   204.4,  13.8141,  35.3619,2,  35.3583,2,    225.3,2,   227.9,2,    2.67,2,    5.90,2,    0.01,2,    0.54,2,-999.000,9,-999.000,9,  -999.0,9,  -999.0,9,  -9.0000,9,-999.0000,9, -999.00,9, -999.00,9,  -999.0,9,  -999.0,-999.000,9,-999.000,-999.000,9,  -9.0000,-999.0000,  13.7848,   -9.00
  316N145_7,      TRANS,     368,          1,          8,          8,2,19950329,       2113,   -27.2758,    87.3800,        862,   254.0,  12.8802,  35.2282,2,  35.2290,2,    231.7,2,   229.8,2,    3.28,2,    7.92,2,    0.01,2,    0.65,2,-999.000,9,-999.000,9,  -999.0,9,  -999.0,9,  -9.0000,9,-999.0000,9, -999.00,9, -999.00,9,  -999.0,9,  -999.0,-999.000,9,-999.000,-999.000,9,  -9.0000,-999.0000,  12.8453,   -9.00
  316N145_7,      TRANS,     368,          1,          7,          7,2,19950329,       2113,   -27.2758,    87.3800,        862,   305.0,  12.2641,  35.1340,2,  35.1390,2,    233.9,2,   233.9,2,    3.68,2,    9.20,2,    0.00,2,    0.73,2,-999.000,9,-999.000,9,  -999.0,9,  -999.0,9,  -9.0000,9,-999.0000,9, -999.00,9, -999.00,9,  -999.0,9,  -999.0,-999.000,9,-999.000,-999.000,9,  -9.0000,-999.0000,  12.2235,   -9.00
  316N145_7,      TRANS,     368,          1,          6,          6,2,19950329,       2113,   -27.2758,    87.3800,        862,   404.7,  11.4023,  35.0025,2,  34.9992,2,    235.6,2,   237.1,2,    4.29,2,   11.26,2,    0.00,2,    0.85,2,-999.000,9,-999.000,9,  -999.0,9,  -999.0,9,  -9.0000,9,-999.0000,9, -999.00,9, -999.00,9,  -999.0,9,  -999.0,-999.000,9,-999.000,-999.000,9,  -9.0000,-999.0000,  11.3508,   -9.00
  316N145_7,      TRANS,     368,          1,          5,          5,2,19950329,       2113,   -27.2758,    87.3800,        862,   504.6,  10.5189,  34.8663,2,  34.8662,2,    235.5,2,   236.7,2,    4.69,2,   13.32,2,    0.00,2,    0.97,2,-999.000,9,-999.000,9,  -999.0,9,  -999.0,9,  -9.0000,9,-999.0000,9, -999.00,9, -999.00,9,  -999.0,9,  -999.0,-999.000,9,-999.000,-999.000,9,  -9.0000,-999.0000,  10.4577,   -9.00
  316N145_7,      TRANS,     368,          1,          4,          4,2,19950329,       2113,   -27.2758,    87.3800,        862,   606.2,   9.4930,  34.7164,2,  34.7172,2,    230.7,2,   231.8,2,    5.93,2,   16.47,2,    0.00,2,    1.16,2,-999.000,9,-999.000,9,  -999.0,9,  -999.0,9,  -9.0000,9,-999.0000,9, -999.00,9, -999.00,9,  -999.0,9,  -999.0,-999.000,9,-999.000,-999.000,9,  -9.0000,-999.0000,   9.4237,   -9.00
  316N145_7,      TRANS,     368,          1,          3,          3,2,19950329,       2113,   -27.2758,    87.3800,        862,   707.2,   8.5365,  34.6053,2,  34.6087,2,    218.0,2,   219.7,2,    9.08,2,   20.11,2,    0.00,2,    1.38,2,-999.000,9,-999.000,9,  -999.0,9,  -999.0,9,  -9.0000,9,-999.0000,9, -999.00,9, -999.00,9,  -999.0,9,  -999.0,-999.000,9,-999.000,-999.000,9,  -9.0000,-999.0000,   8.4602,   -9.00
  316N145_7,      TRANS,     368,          1,          2,          2,2,19950329,       2113,   -27.2758,    87.3800,        862,   832.6,   7.3635,  34.5199,2,  34.5229,2,    205.2,2,   205.6,2,   16.03,2,   24.05,2,    0.00,2,    1.64,2,-999.000,9,-999.000,9,  -999.0,9,  -999.0,9,  -9.0000,9,-999.0000,9, -999.00,9, -999.00,9,  -999.0,9,  -999.0,-999.000,9,-999.000,-999.000,9,  -9.0000,-999.0000,   7.2803,   -9.00
  316N145_7,      TRANS,     368,          1,          1,          1,2,19950329,       2113,   -27.2758,    87.3800,        862,   979.0,   5.7929,  34.4422,2,  34.4457,2,    189.8,2,   190.3,2,   30.17,2,   28.79,2,    0.00,2,    1.98,2,-999.000,9,-999.000,9,  -999.0,9,  -999.0,9,  -9.0000,9,-999.0000,9, -999.00,9, -999.00,9,  -999.0,9,  -999.0,-999.000,9,-999.000,-999.000,9,  -9.0000,-999.0000,   5.7057,   -9.00
  316N145_7,      TRANS,     369,          1,         20,         20,2,19950329,       2351,   -27.3908,    87.6523,       1975,     2.8,  24.1017,  36.0062,2,  36.0058,2,    214.9,2,   213.8,2,    2.81,2,    0.01,2,    0.00,2,    0.10,2,-999.000,9,-999.000,9,  -999.0,9,  -999.0,9,  -9.0000,9,-999.0000,9, -999.00,9, -999.00,9,  -999.0,9,  -999.0,-999.000,9,-999.000,-999.000,9,  -9.0000,-999.0000,  24.1011,   -9.00
  316N145_7,      TRANS,     369,          1,         19,         19,2,19950329,       2351,   -27.3908,    87.6523,       1975,    29.6,  24.1058,  36.0082,2,  36.0057,2,    199.4,2,   214.1,2,    2.79,2,    0.02,2,    0.00,2,    0.10,2,-999.000,9,-999.000,9,  -999.0,9,  -999.0,9,  -9.0000,9,-999.0000,9, -999.00,9, -999.00,9,  -999.0,9,  -999.0,-999.000,9,-999.000,-999.000,9,  -9.0000,-999.0000,  24.0995,   -9.00
  316N145_7,      TRANS,     369,          1,         18,         18,2,19950329,       2351,   -27.3908,    87.6523,       1975,    54.1,  20.0949,  35.8817,2,  35.8798,2,    250.4,2,   245.9,2,    2.56,2,    0.02,2,    0.00,2,    0.13,2,-999.000,9,-999.000,9,  -999.0,9,  -999.0,9,  -9.0000,9,-999.0000,9, -999.00,9, -999.00,9,  -999.0,9,  -999.0,-999.000,9,-999.000,-999.000,9,  -9.0000,-999.0000,  20.0848,   -9.00
  316N145_7,      TRANS,     369,          1,         17,         17,2,19950329,       2351,   -27.3908,    87.6523,       1975,    94.3,  17.5917,  35.8015,2,  35.7891,2,    248.9,2,   244.0,2,    2.33,2,    0.03,2,    0.00,2,    0.17,2,-999.000,9,-999.000,9,  -999.0,9,  -999.0,9,  -9.0000,9,-999.0000,9, -999.00,9, -999.00,9,  -999.0,9,  -999.0,-999.000,9,-999.000,-999.000,9,  -9.0000,-999.0000,  17.5757,   -9.00
  316N145_7,      TRANS,     369,          1,         16,         16,2,19950329,       2351,   -27.3908,    87.6523,       1975,   145.2,  15.2414,  35.5580,2,  35.5640,2,    236.4,2,   230.9,2,    2.31,2,    1.32,2,    0.23,2,    0.33,2,-999.000,9,-999.000,9,  -999.0,9,  -999.0,9,  -9.0000,9,-999.0000,9, -999.00,9, -999.00,9,  -999.0,9,  -999.0,-999.000,9,-999.000,-999.000,9,  -9.0000,-999.0000,  15.2191,   -9.00
  316N145_7,      TRANS,     369,          1,         15,         15,2,19950329,       2351,   -27.3908,    87.6523,       1975,   215.2,  13.8710,  35.3709,2,  35.3680,2,    227.4,2,   228.1,2,    2.71,2,    5.57,2,    0.01,2,    0.53,2,-999.000,9,-999.000,9,  -999.0,9,  -999.0,9,  -9.0000,9,-999.0000,9, -999.00,9, -999.00,9,  -999.0,9,  -999.0,-999.000,9,-999.000,-999.000,9,  -9.0000,-999.0000,  13.8400,   -9.00
  316N145_7,      TRANS,     369,          1,         14,         14,2,19950329,       2351,   -27.3908,    87.6523,       1975,   286.1,  12.6504,  35.1908,2,  35.2026,2,    228.3,2,   231.2,2,    3.54,2,    8.37,2,    0.01,2,    0.69,2,-999.000,9,-999.000,9,  -999.0,9,  -999.0,9,  -9.0000,9,-999.0000,9, -999.00,9, -999.00,9,  -999.0,9,  -999.0,-999.000,9,-999.000,-999.000,9,  -9.0000,-999.0000,  12.6115,   -9.00
  316N145_7,      TRANS,     369,          1,         13,         13,2,19950329,       2351,   -27.3908,    87.6523,       1975,   356.5,  11.8739,  35.0702,2,  35.0728,2,    233.9,2,   235.4,2,    4.15,2,   10.14,2,    0.00,2,    0.79,2,-999.000,9,-999.000,9,  -999.0,9,  -999.0,9,  -9.0000,9,-999.0000,9, -999.00,9, -999.00,9,  -999.0,9,  -999.0,-999.000,9,-999.000,-999.000,9,  -9.0000,-999.0000,  11.8273,   -9.00
  316N145_7,      TRANS,     369,          1,         12,         12,2,19950329,       2351,   -27.3908,    87.6523,       1975,   456.5,  11.0417,  34.9422,2,  34.9488,2,    237.5,2,   236.8,2,    4.34,2,   11.86,2,    0.00,2,    0.89,2,-999.000,9,-999.000,9,  -999.0,9,  -999.0,9,  -9.0000,9,-999.0000,9, -999.00,9, -999.00,9,  -999.0,9,  -999.0,-999.000,9,-999.000,-999.000,9,  -9.0000,-999.0000,  10.9847,   -9.00
  316N145_7,      TRANS,     369,          1,         11,         11,2,19950329,       2351,   -27.3908,    87.6523,       1975,   556.9,  10.1179,  34.8063,2,  34.8071,2,    234.7,2,   236.4,2,    5.16,2,   14.32,2,    0.00,2,    1.04,2,-999.000,9,-999.000,9,  -999.0,9,  -999.0,9,  -9.0000,9,-999.0000,9, -999.00,9, -999.00,9,  -999.0,9,  -999.0,-999.000,9,-999.000,-999.000,9,  -9.0000,-999.0000,  10.0518,   -9.00
  316N145_7,      TRANS,     369,          1,         10,         10,2,19950329,       2351,   -27.3908,    87.6523,       1975,   658.0,   9.3271,  34.6889,2,  34.6939,2,    228.6,2,   230.2,2,    6.41,2,   17.07,2,    0.00,2,    1.21,2,-999.000,9,-999.000,9,  -999.0,9,  -999.0,9,  -9.0000,9,-999.0000,9, -999.00,9, -999.00,9,  -999.0,9,  -999.0,-999.000,9,-999.000,-999.000,9,  -9.0000,-999.0000,   9.2525,   -9.00
  316N145_7,      TRANS,     369,          1,          9,          9,2,19950329,       2351,   -27.3908,    87.6523,       1975,   758.2,   8.1217,  34.5678,2,  34.5703,2,    215.8,2,   213.1,2,   11.66,2,   21.64,2,    0.00,2,    1.50,2,-999.000,9,-999.000,9,  -999.0,9,  -999.0,9,  -9.0000,9,-999.0000,9, -999.00,9, -999.00,9,  -999.0,9,  -999.0,-999.000,9,-999.000,-999.000,9,  -9.0000,-999.0000,   8.0420,   -9.00
  316N145_7,      TRANS,     369,          1,          8,          8,2,19950329,       2351,   -27.3908,    87.6523,       1975,   859.2,   6.7093,  34.4771,2,  34.4776,2,    199.7,2,   198.7,2,   20.27,2,   25.98,2,    0.00,2,    1.78,2,-999.000,9,-999.000,9,  -999.0,9,  -999.0,9,  -9.0000,9,-999.0000,9, -999.00,9, -999.00,9,  -999.0,9,  -999.0,-999.000,9,-999.000,-999.000,9,  -9.0000,-999.0000,   6.6275,   -9.00
  316N145_7,      TRANS,     369,          1,          7,          7,2,19950329,       2351,   -27.3908,    87.6523,       1975,   960.2,   5.2633,  34.4165,2,  34.4212,2,    189.2,2,   187.5,2,   34.57,2,   30.08,2,    0.00,2,    2.08,2,-999.000,9,-999.000,9,  -999.0,9,  -999.0,9,  -9.0000,9,-999.0000,9, -999.00,9, -999.00,9,  -999.0,9,  -999.0,-999.000,9,-999.000,-999.000,9,  -9.0000,-999.0000,   5.1818,   -9.00
  316N145_7,      TRANS,     369,          1,          6,          6,2,19950329,       2351,   -27.3908,    87.6523,       1975,  1062.5,   4.4132,  34.4439,2,  34.4449,2,    170.7,2,   170.1,2,   51.39,2,   32.75,2,    0.00,2,    2.29,2,-999.000,9,-999.000,9,  -999.0,9,  -999.0,9,  -9.0000,9,-999.0000,9, -999.00,9, -999.00,9,  -999.0,9,  -999.0,-999.000,9,-999.000,-999.000,9,  -9.0000,-999.0000,   4.3290,   -9.00
  316N145_7,      TRANS,     369,          1,          5,          5,2,19950329,       2351,   -27.3908,    87.6523,       1975,  1211.3,   3.7219,  34.4961,2,  34.4953,2,    159.2,2,   158.3,2,   66.11,2,   34.29,2,    0.00,2,    2.41,2,-999.000,9,-999.000,9,  -999.0,9,  -999.0,9,  -9.0000,9,-999.0000,9, -999.00,9, -999.00,9,  -999.0,9,  -999.0,-999.000,9,-999.000,-999.000,9,  -9.0000,-999.0000,   3.6309,   -9.00
  316N145_7,      TRANS,     369,          1,          4,          4,2,19950329,       2351,   -27.3908,    87.6523,       1975,  1414.0,   3.2712,  34.5854,2,  34.5884,2,    149.1,2,   148.9,2,   81.70,2,   34.84,2,    0.00,2,    2.46,2,-999.000,9,-999.000,9,  -999.0,9,  -999.0,9,  -9.0000,9,-999.0000,9, -999.00,9, -999.00,9,  -999.0,9,  -999.0,-999.000,9,-999.000,-999.000,9,  -9.0000,-999.0000,   3.1675,   -9.00
  316N145_7,      TRANS,     369,          1,          3,          3,2,19950329,       2351,   -27.3908,    87.6523,       1975,  1616.4,   2.8936,  34.6571,2,  34.6579,2,    150.6,2,   151.7,2,   92.25,2,   34.34,2,    0.00,2,    2.44,2,-999.000,9,-999.000,9,  -999.0,9,  -999.0,9,  -9.0000,9,-999.0000,9, -999.00,9, -999.00,9,  -999.0,9,  -999.0,-999.000,9,-999.000,-999.000,9,  -9.0000,-999.0000,   2.7771,   -9.00
  316N145_7,      TRANS,     369,          1,          2,          2,2,19950329,       2351,   -27.3908,    87.6523,       1975,  1817.3,   2.6448,  34.6919,2,  34.6946,2,    154.8,2,   155.5,2,   99.21,2,   34.09,2,    0.00,2,    2.42,2,-999.000,9,-999.000,9,  -999.0,9,  -999.0,9,  -9.0000,9,-999.0000,9, -999.00,9, -999.00,9,  -999.0,9,  -999.0,-999.000,9,-999.000,-999.000,9,  -9.0000,-999.0000,   2.5143,   -9.00
  316N145_7,      TRANS,     369,          1,          1,          1,2,19950329,       2351,   -27.3908,    87.6523,       1975,  2030.1,   2.4274,  34.7098,2,  34.7109,2,    160.5,2,   160.5,2,  103.00,2,   33.74,2,    0.00,2,    2.38,2,-999.000,9,-999.000,9,  -999.0,9,  -999.0,9,  -9.0000,9,-999.0000,9, -999.00,9, -999.00,9,  -999.0,9,  -999.0,-999.000,9,-999.000,-999.000,9,  -9.0000,-999.0000,   2.2816,   -9.00