BOTTLE,20211124CCHSIORKP
EXPOCODE,SECT_ID,STNNBR,CASTNO,SAMPNO,BTLNBR,BTLNBR_FLAG_W,DATE,TIME,LATITUDE,LONGITUDE,DEPTH,CTDPRS,CTDTMP,CTDSAL,CTDSAL_FLAG_W,SALNTY,SALNTY_FLAG_W,CTDOXY,CTDOXY_FLAG_W,OXYGEN,OXYGEN_FLAG_W,SILCAT,SILCAT_FLAG_W,NITRAT,NITRAT_FLAG_W,NITRIT,NITRIT_FLAG_W,PHSPHT,PHSPHT_FLAG_W,CFC-11,CFC-11_FLAG_W,CFC-12,CFC-12_FLAG_W,TCARBN,TCARBN_FLAG_W,ALKALI,ALKALI_FLAG_W,TRITUM,TRITUM_FLAG_W,HELIUM,HELIUM_FLAG_W,DELHE3,DELHE3_FLAG_W,DELC13,DELC13_FLAG_W,DELC14,DELC14_FLAG_W,C14ERR,NEON,NEON_FLAG_W,NEONER,CCL4,CCL4_FLAG_W,TRITER,HELIER,THETA,DELHER
,,,,,,,,,,,METERS,DBAR,ITS-90,PSS-78,,PSS-78,,UMOL/KG,,UMOL/KG,,UMOL/KG,,UMOL/KG,,UMOL/KG,,UMOL/KG,,PMOL/KG,,PMOL/KG,,UMOL/KG,,UMOL/KG,,TU,,NMOL/KG,,PERCNT,,/MILLE,,/MILLE,,/MILLE,NMOL/KG,,NMOL/KG,PMOL/KG,,TU,NMOL/KG,DEG C,PERCNT
  316N145_7,       I08N,     324,          1,         36,         36,2,19950319,       1719,    -9.0010,    79.9998,       5174,     2.4,  29.1797,  34.2278,2,  34.2264,2,    196.3,2,   205.6,3,    3.27,2,    0.09,2,    0.00,2,    0.10,2,   1.613,2,   0.947,2,  1909.9,2,  2248.4,2,  -9.0000,9,-999.0000,9, -999.00,9, -999.00,9,  -999.0,9,  -999.0,-999.000,9,-999.000,-999.000,9,  -9.0000,-999.0000,  29.1792,   -9.00
  316N145_7,       I08N,     324,          1,         35,         35,2,19950319,       1719,    -9.0010,    79.9998,       5174,    21.3,  29.0131,  34.2191,2,  34.2261,2,    196.2,2,   204.7,2,    3.26,2,    0.09,2,    0.00,2,    0.10,2,   1.629,2,   0.947,2,  1909.3,2,  2249.4,2,  -9.0000,9,-999.0000,9, -999.00,9, -999.00,9,  -999.0,9,  -999.0,-999.000,9,-999.000,   1.842,6,  -9.0000,-999.0000,  29.0080,   -9.00
  316N145_7,       I08N,     324,          1,         34,         34,2,19950319,       1719,    -9.0010,    79.9998,       5174,    46.6,  23.3844,  34.6600,2,  34.6365,2,    154.9,2,   156.6,2,    9.96,2,    6.22,2,    0.16,2,    0.61,2,   1.525,2,   0.842,2,  2025.2,2,  2282.3,2,  -9.0000,9,-999.0000,9, -999.00,9, -999.00,9,  -999.0,9,  -999.0,-999.000,9,-999.000,-999.000,9,  -9.0000,-999.0000,  23.3748,   -9.00
  316N145_7,       I08N,     324,          1,         33,         33,2,19950319,       1719,    -9.0010,    79.9998,       5174,    71.7,  19.9844,  34.9635,2,  34.9492,2,     90.1,2,    87.6,2,   16.46,2,   17.49,2,    0.35,2,    1.24,2,-999.000,9,-999.000,9,  2115.1,2,  2297.7,2,  -9.0000,9,-999.0000,9, -999.00,9, -999.00,9,  -999.0,9,  -999.0,-999.000,9,-999.000,-999.000,9,  -9.0000,-999.0000,  19.9712,   -9.00
  316N145_7,       I08N,     324,          1,         32,         32,2,19950319,       1719,    -9.0010,    79.9998,       5174,   106.6,  17.7164,  35.0900,2,  35.0830,2,     78.7,2,    77.5,2,   18.55,2,   20.45,2,    0.07,2,    1.42,2,   1.250,2,   0.662,2,  2144.0,2,  2304.0,2,  -9.0000,9,-999.0000,9, -999.00,9, -999.00,9,  -999.0,9,  -999.0,-999.000,9,-999.000,-999.000,9,  -9.0000,-999.0000,  17.6983,   -9.00
  316N145_7,       I08N,     324,          1,         31,         31,2,19950319,       1719,    -9.0010,    79.9998,       5174,   157.1,  14.4849,  34.9642,2,  34.9622,2,     76.6,2,    75.9,2,   25.68,2,   23.81,2,    0.01,2,    1.65,2,-999.000,9,-999.000,9,  2174.5,2,  2316.6,2,  -9.0000,9,-999.0000,9, -999.00,9, -999.00,9,  -999.0,9,  -999.0,-999.000,9,-999.000,-999.000,9,  -9.0000,-999.0000,  14.4617,   -9.00
  316N145_7,       I08N,     324,          1,         30,         30,2,19950319,       1719,    -9.0010,    79.9998,       5174,   197.0,  13.4224,  34.9654,2,  34.9539,2,     71.3,2,    74.3,2,   27.13,2,   25.23,2,    0.01,2,    1.75,2,   0.740,2,   0.382,2,  2186.2,2,  2317.8,2,  -9.0000,9,-999.0000,9, -999.00,9, -999.00,9,  -999.0,9,  -999.0,-999.000,9,-999.000,-999.000,9,  -9.0000,-999.0000,  13.3947,   -9.00
  316N145_7,       I08N,     324,          1,         29,         29,2,19950319,       1719,    -9.0010,    79.9998,       5174,   257.4,  11.9241,  34.9511,2,  34.9471,2,     97.1,2,    98.0,2,   26.07,2,   24.53,2,    0.01,2,    1.70,2,   0.766,2,   0.388,2,  2186.1,2,  2332.3,2,  -9.0000,9,-999.0000,9, -999.00,9, -999.00,9,  -999.0,9,  -999.0,-999.000,9,-999.000,-999.000,9,  -9.0000,-999.0000,  11.8906,   -9.00
  316N145_7,       I08N,     324,          1,         28,         28,2,19950319,       1719,    -9.0010,    79.9998,       5174,   307.6,  10.8850,  34.8983,2,  34.8948,2,    121.2,2,   122.7,2,   23.95,2,   23.77,2,    0.00,2,    1.64,2,   0.870,2,   0.436,2,  2178.9,2,  2317.2,2,  -9.0000,9,-999.0000,9, -999.00,9, -999.00,9,  -999.0,9,  -999.0,-999.000,9,-999.000,-999.000,9,  -9.0000,-999.0000,  10.8471,   -9.00
  316N145_7,       I08N,     324,          1,         27,         27,2,19950319,       1719,    -9.0010,    79.9998,       5174,   378.0,   9.7619,  34.8197,2,  34.8216,2,    116.2,2,   118.9,2,   28.14,2,   26.47,2,    0.00,2,    1.81,2,   0.574,2,   0.288,2,  2190.4,2,  2312.8,2,  -9.0000,9,-999.0000,9, -999.00,9, -999.00,9,  -999.0,9,  -999.0,-999.000,9,-999.000,-999.000,9,  -9.0000,-999.0000,   9.7184,   -9.00
  316N145_7,       I08N,     324,          1,         26,         26,2,19950319,       1719,    -9.0010,    79.9998,       5174,   478.3,   8.7753,  34.8036,2,  34.8014,2,     83.6,2,    87.9,2,   43.25,2,   31.36,2,    0.00,2,    2.20,2,   0.145,2,   0.069,2,  2229.2,2,  2328.2,2,  -9.0000,9,-999.0000,9, -999.00,9, -999.00,9,  -999.0,9,  -999.0,-999.000,9,-999.000,-999.000,9,  -9.0000,-999.0000,   8.7235,   -9.00
  316N145_7,       I08N,     324,          1,         25,         25,2,19950319,       1719,    -9.0010,    79.9998,       5174,   578.2,   8.0040,  34.7872,2,  34.7851,2,     69.7,2,    70.6,2,   57.52,2,   34.23,2,    0.00,2,    2.44,2,   0.031,2,   0.013,2,  2256.9,2,  2336.7,2,  -9.0000,9,-999.0000,9, -999.00,9, -999.00,9,  -999.0,9,  -999.0,-999.000,9,-999.000,-999.000,9,  -9.0000,-999.0000,   7.9442,   -9.00
  316N145_7,       I08N,     324,          1,         24,         24,2,19950319,       1719,    -9.0010,    79.9998,       5174,   679.2,   7.3786,  34.7822,2,  34.7800,2,     71.4,2,    69.5,2,   66.55,2,   35.09,2,    0.00,2,    2.53,2,   0.022,2,   0.008,2,  2270.2,2,  2347.7,2,  -9.0000,9,-999.0000,9, -999.00,9, -999.00,9,  -999.0,9,  -999.0,-999.000,9,-999.000,-999.000,9,  -9.0000,-999.0000,   7.3111,   -9.00
  316N145_7,       I08N,     324,          1,         23,         23,2,19950319,       1719,    -9.0010,    79.9998,       5174,   779.1,   6.6582,  34.7455,2,  34.7442,2,     70.6,2,    70.0,2,   78.53,2,   36.05,2,    0.00,2,    2.61,2,-999.000,9,-999.000,9,  2281.8,2,  2356.9,2,  -9.0000,9,-999.0000,9, -999.00,9, -999.00,9,  -999.0,9,  -999.0,-999.000,9,-999.000,-999.000,9,  -9.0000,-999.0000,   6.5845,   -9.00
  316N145_7,       I08N,     324,          1,         22,         22,2,19950319,       1719,    -9.0010,    79.9998,       5174,   880.8,   6.0218,  34.7166,2,  34.7138,2,     75.2,2,    75.5,2,   88.23,2,   36.39,2,    0.00,2,    2.65,2,   0.005,6,   0.001,6,  2290.7,2,  2365.9,2,  -9.0000,9,-999.0000,9, -999.00,9, -999.00,9,  -999.0,9,  -999.0,-999.000,9,-999.000,-999.000,9,  -9.0000,-999.0000,   5.9421,   -9.00
  316N145_7,       I08N,     324,          1,         21,         21,2,19950319,       1719,    -9.0010,    79.9998,       5174,   980.6,   5.6166,  34.7233,2,  34.7256,2,     80.7,2,    78.1,2,   93.28,2,   36.58,2,    0.00,2,    2.67,2,-999.000,9,-999.000,9,  -999.0,5,  2372.8,2,  -9.0000,9,-999.0000,9, -999.00,9, -999.00,9,  -999.0,9,  -999.0,-999.000,9,-999.000,-999.000,9,  -9.0000,-999.0000,   5.5302,   -9.00
  316N145_7,       I08N,     324,          1,         20,         20,2,19950319,       1719,    -9.0010,    79.9998,       5174,  1111.7,   4.8946,  34.6923,2,  34.6987,3,     85.4,2,    86.6,2,  101.96,2,   36.68,2,    0.00,2,    2.67,2,   0.009,2,   0.003,2,  2305.2,2,  2381.6,2,  -9.0000,9,-999.0000,9, -999.00,9, -999.00,9,  -999.0,9,  -999.0,-999.000,9,-999.000,-999.000,9,  -9.0000,-999.0000,   4.8016,   -9.00
  316N145_7,       I08N,     324,          1,         19,         19,2,19950319,       1719,    -9.0010,    79.9998,       5174,  1262.8,   4.6022,  34.7366,2,  34.7394,2,     91.1,2,    92.1,2,  103.42,2,   36.68,2,    0.00,2,    2.68,2,-999.000,9,-999.000,9,  2306.0,2,  2382.1,2,  -9.0000,9,-999.0000,9, -999.00,9, -999.00,9,  -999.0,9,  -999.0,-999.000,9,-999.000,-999.000,9,  -9.0000,-999.0000,   4.4979,   -9.00
  316N145_7,       I08N,     324,          1,         18,         18,2,19950319,       1719,    -9.0010,    79.9998,       5174,  1413.7,   4.1050,  34.7465,2,  34.7467,2,    100.5,2,    99.6,2,  107.22,2,   36.49,2,    0.00,2,    2.65,2,   0.000,2,   0.002,2,  2306.7,2,  2388.4,2,  -9.0000,9,-999.0000,9, -999.00,9, -999.00,9,  -999.0,9,  -999.0,-999.000,9,-999.000,-999.000,9,  -9.0000,-999.0000,   3.9920,   -9.00
  316N145_7,       I08N,     324,          1,         17,         17,2,19950319,       1719,    -9.0010,    79.9998,       5174,  1616.2,   3.5391,  34.7524,2,  34.7514,2,    113.4,2,   114.4,2,  110.82,2,   35.91,2,    0.00,2,    2.59,2,-999.000,9,-999.000,9,  2305.8,2,  2391.6,2,  -9.0000,9,-999.0000,9, -999.00,9, -999.00,9,  -999.0,9,  -999.0,-999.000,9,-999.000,-999.000,9,  -9.0000,-999.0000,   3.4144,   -9.00
  316N145_7,       I08N,     324,          1,         16,         16,2,19950319,       1719,    -9.0010,    79.9998,       5174,  1818.7,   2.9235,  34.7495,2,  34.7489,2,    128.7,2,   128.3,2,  116.57,2,   35.44,2,    0.00,2,    2.55,2,  -0.001,2,   0.000,2,  2306.3,2,  2396.2,2,  -9.0000,9,-999.0000,9, -999.00,9, -999.00,9,  -999.0,9,  -999.0,-999.000,9,-999.000,-999.000,9,  -9.0000,-999.0000,   2.7889,   -9.00
  316N145_7,       I08N,     324,          1,         15,         15,2,19950319,       1719,    -9.0010,    79.9998,       5174,  2020.7,   2.5529,  34.7462,2,  34.7450,2,    138.1,2,   138.5,2,  119.98,2,   35.01,2,    0.00,2,    2.50,2,-999.000,9,-999.000,9,  2305.5,2,  2418.1,3,  -9.0000,9,-999.0000,9, -999.00,9, -999.00,9,  -999.0,9,  -999.0,-999.000,9,-999.000,-999.000,9,  -9.0000,-999.0000,   2.4059,   -9.00
  316N145_7,       I08N,     324,          1,         14,         14,2,19950319,       1719,    -9.0010,    79.9998,       5174,  2223.5,   2.2566,  34.7417,2,  34.7403,2,    149.2,2,   148.7,2,  122.32,2,   34.63,2,    0.00,2,    2.45,2,  -0.003,2,   0.001,2,  2301.6,2,  2403.1,2,  -9.0000,9,-999.0000,9, -999.00,9, -999.00,9,  -999.0,9,  -999.0,-999.000,9,-999.000,-999.000,9,  -9.0000,-999.0000,   2.0964,   -9.00
  316N145_7,       I08N,     324,          1,         13,         13,2,19950319,       1719,    -9.0010,    79.9998,       5174,  2426.6,   2.0499,  34.7367,2,  34.7358,2,    155.7,2,   156.4,2,  123.79,2,   34.24,2,    0.00,2,    2.43,2,-999.000,9,-999.000,9,  2300.5,2,  2400.6,2,  -9.0000,9,-999.0000,9, -999.00,9, -999.00,9,  -999.0,9,  -999.0,-999.000,9,-999.000,-999.000,9,  -9.0000,-999.0000,   1.8750,   -9.00
  316N145_7,       I08N,     324,          1,         12,         12,2,19950319,       1719,    -9.0010,    79.9998,       5174,  2629.2,   1.9022,  34.7339,2,  34.7354,2,    161.7,2,   161.4,2,  125.49,2,   34.10,2,    0.00,2,    2.40,2,   0.004,2,   0.000,2,  2301.0,2,  2402.2,2,  -9.0000,9,-999.0000,9, -999.00,9, -999.00,9,  -999.0,9,  -999.0,-999.000,9,-999.000,-999.000,9,  -9.0000,-999.0000,   1.7116,   -9.00
  316N145_7,       I08N,     324,          1,         11,         11,2,19950319,       1719,    -9.0010,    79.9998,       5174,  2832.4,   1.7858,  34.7311,2,  34.7303,2,    165.6,2,   164.6,2,  125.46,2,   34.10,2,    0.00,2,    2.39,2,-999.000,9,-999.000,9,  2301.6,2,  2407.7,2,  -9.0000,9,-999.0000,9, -999.00,9, -999.00,9,  -999.0,9,  -999.0,-999.000,9,-999.000,-999.000,9,  -9.0000,-999.0000,   1.5786,   -9.00
  316N145_7,       I08N,     324,          1,         10,         10,2,19950319,       1719,    -9.0010,    79.9998,       5174,  3037.0,   1.6726,  34.7278,2,  34.7280,2,    169.0,2,   167.9,2,  128.89,2,   33.91,2,    0.00,2,    2.37,2,  -0.003,2,   0.000,2,  2301.0,2,  2408.6,2,  -9.0000,9,-999.0000,9, -999.00,9, -999.00,9,  -999.0,9,  -999.0,-999.000,9,-999.000,-999.000,9,  -9.0000,-999.0000,   1.4482,   -9.00
  316N145_7,       I08N,     324,          1,          9,          9,2,19950319,       1719,    -9.0010,    79.9998,       5174,  3289.2,   1.5451,  34.7244,2,  34.7233,2,    170.2,2,   170.6,2,  132.55,2,   33.91,2,    0.00,2,    2.37,2,   0.004,2,   0.002,2,  2303.8,2,  2414.8,2,  -9.0000,9,-999.0000,9, -999.00,9, -999.00,9,  -999.0,9,  -999.0,-999.000,9,-999.000,-999.000,9,  -9.0000,-999.0000,   1.2988,   -9.00
  316N145_7,       I08N,     324,          1,          8,          8,2,19950319,       1719,    -9.0010,    79.9998,       5174,  3541.2,   1.4288,  34.7211,2,  34.7215,2,    173.9,2,   174.9,2,  134.04,2,   33.87,2,    0.00,2,    2.36,2,  -0.002,2,   0.000,2,  2303.4,2,  2409.6,2,  -9.0000,9,-999.0000,9, -999.00,9, -999.00,9,  -999.0,9,  -999.0,-999.000,9,-999.000,-999.000,9,  -9.0000,-999.0000,   1.1601,   -9.00
  316N145_7,       I08N,     324,          1,          7,          7,2,19950319,       1719,    -9.0010,    79.9998,       5174,  3797.9,   1.3647,  34.7189,2,  34.7166,3,    178.6,2,   178.3,2,  134.00,2,   33.63,2,    0.00,2,    2.34,2,   0.000,2,   0.000,2,  2299.2,2,  2415.6,2,  -9.0000,9,-999.0000,9, -999.00,9, -999.00,9,  -999.0,9,  -999.0,-999.000,9,-999.000,-999.000,9,  -9.0000,-999.0000,   1.0709,   -9.00
  316N145_7,       I08N,     324,          1,          6,          6,2,19950319,       1719,    -9.0010,    79.9998,       5174,  4055.7,   1.3446,  34.7182,2,  34.7165,2,    179.9,2,   179.9,2,  134.41,2,   33.58,2,    0.00,2,    2.33,2,  -0.002,2,   0.000,2,  2296.7,2,  2411.5,2,  -9.0000,9,-999.0000,9, -999.00,9, -999.00,9,  -999.0,9,  -999.0,-999.000,9,-999.000,-999.000,9,  -9.0000,-999.0000,   1.0238,   -9.00
  316N145_7,       I08N,     324,          1,          5,          5,2,19950319,       1719,    -9.0010,    79.9998,       5174,  4310.2,   1.3443,  34.7176,2,  34.7161,2,    181.7,2,   181.7,2,  133.72,2,   33.49,2,    0.00,2,    2.32,2,-999.000,9,-999.000,9,  -999.0,9,  -999.0,9,  -9.0000,9,-999.0000,9, -999.00,9, -999.00,9,  -999.0,9,  -999.0,-999.000,9,-999.000,-999.000,9,  -9.0000,-999.0000,   0.9954,   -9.00
  316N145_7,       I08N,     324,          1,          4,          4,2,19950319,       1719,    -9.0010,    79.9998,       5174,  4566.6,   1.3598,  34.7175,2,  34.7155,2,    182.6,2,   183.2,2,  133.47,2,   33.44,2,    0.00,2,    2.32,2,   0.000,2,  -0.001,2,  2297.4,2,  2408.5,2,  -9.0000,9,-999.0000,9, -999.00,9, -999.00,9,  -999.0,9,  -999.0,-999.000,9,-999.000,-999.000,9,  -9.0000,-999.0000,   0.9813,   -9.00
  316N145_7,       I08N,     324,          1,          3,          3,2,19950319,       1719,    -9.0010,    79.9998,       5174,  4821.9,   1.3830,  34.7170,2,  34.7154,2,    183.5,2,   184.0,2,  132.78,2,   33.44,2,    0.00,2,    2.31,2,  -0.002,2,   0.000,2,  2295.9,2,  2401.1,3,  -9.0000,9,-999.0000,9, -999.00,9, -999.00,9,  -999.0,9,  -999.0,-999.000,9,-999.000,-999.000,9,  -9.0000,-999.0000,   0.9738,   -9.00
  316N145_7,       I08N,     324,          1,          2,          2,2,19950319,       1719,    -9.0010,    79.9998,       5174,  5078.4,   1.4104,  34.7173,2,  34.7158,2,    184.2,2,   183.9,2,  133.18,2,   33.49,2,    0.00,2,    2.31,2,  -0.001,2,   0.000,2,  2295.9,2,  2412.3,2,  -9.0000,9,-999.0000,9, -999.00,9, -999.00,9,  -999.0,9,  -999.0,-999.000,9,-999.000,-999.000,9,  -9.0000,-999.0000,   0.9695,   -9.00
  316N145_7,       I08N,     324,          1,          1,          1,2,19950319,       1719,    -9.0010,    79.9998,       5174,  5290.5,   1.4315,  34.7167,2,  34.7154,2,    184.3,2,   184.5,2,  132.72,2,   33.40,2,    0.00,2,    2.31,2,  -0.001,2,   0.001,2,  2292.3,2,  2413.7,2,  -9.0000,9,-999.0000,9, -999.00,9, -999.00,9,  -999.0,9,  -999.0,-999.000,9,-999.000,-999.000,9,  -9.0000,-999.0000,   0.9637,   -9.00