BOTTLE,20211124CCHSIORKP
EXPOCODE,SECT_ID,STNNBR,CASTNO,SAMPNO,BTLNBR,BTLNBR_FLAG_W,DATE,TIME,LATITUDE,LONGITUDE,DEPTH,CTDPRS,CTDTMP,CTDSAL,CTDSAL_FLAG_W,SALNTY,SALNTY_FLAG_W,CTDOXY,CTDOXY_FLAG_W,OXYGEN,OXYGEN_FLAG_W,SILCAT,SILCAT_FLAG_W,NITRAT,NITRAT_FLAG_W,NITRIT,NITRIT_FLAG_W,PHSPHT,PHSPHT_FLAG_W,CFC-11,CFC-11_FLAG_W,CFC-12,CFC-12_FLAG_W,TCARBN,TCARBN_FLAG_W,ALKALI,ALKALI_FLAG_W,TRITUM,TRITUM_FLAG_W,HELIUM,HELIUM_FLAG_W,DELHE3,DELHE3_FLAG_W,DELC13,DELC13_FLAG_W,DELC14,DELC14_FLAG_W,C14ERR,NEON,NEON_FLAG_W,NEONER,CCL4,CCL4_FLAG_W,TRITER,HELIER,THETA,DELHER
,,,,,,,,,,,METERS,DBAR,ITS-90,PSS-78,,PSS-78,,UMOL/KG,,UMOL/KG,,UMOL/KG,,UMOL/KG,,UMOL/KG,,UMOL/KG,,PMOL/KG,,PMOL/KG,,UMOL/KG,,UMOL/KG,,TU,,NMOL/KG,,PERCNT,,/MILLE,,/MILLE,,/MILLE,NMOL/KG,,NMOL/KG,PMOL/KG,,TU,NMOL/KG,DEG C,PERCNT
  316N145_7,      TRANS,     383,          1,         36,         36,2,19950401,       1211,   -28.5667,    85.0505,       3818,     2.5,  23.6426,  35.9940,2,  35.9931,2,    213.0,7,   214.0,2,    3.06,2,    0.15,2,    0.00,2,    0.11,2,   1.979,2,   1.111,2,  -999.0,9,  -999.0,9,  -9.0000,9,-999.0000,9, -999.00,9, -999.00,9,  -999.0,9,  -999.0,-999.000,9,-999.000,   2.321,2,  -9.0000,-999.0000,  23.6421,   -9.00
  316N145_7,      TRANS,     383,          1,         35,         35,2,19950401,       1211,   -28.5667,    85.0505,       3818,    25.1,  23.0722,  36.0307,2,  36.0295,2,    225.4,7,   217.6,2,    2.83,2,    0.15,2,    0.00,2,    0.12,2,-999.000,9,-999.000,9,  -999.0,9,  -999.0,9,  -9.0000,9,-999.0000,9, -999.00,9, -999.00,9,  -999.0,9,  -999.0,-999.000,9,-999.000,-999.000,9,  -9.0000,-999.0000,  23.0670,   -9.00
  316N145_7,      TRANS,     383,          1,         34,         34,2,19950401,       1211,   -28.5667,    85.0505,       3818,    50.4,  21.0405,  35.9453,2,  35.9130,2,    235.3,2,   238.8,2,    2.61,2,    0.15,2,    0.00,2,    0.14,2,-999.000,9,-999.000,9,  -999.0,9,  -999.0,9,  -9.0000,9,-999.0000,9, -999.00,9, -999.00,9,  -999.0,9,  -999.0,-999.000,9,-999.000,-999.000,9,  -9.0000,-999.0000,  21.0309,   -9.00
  316N145_7,      TRANS,     383,          1,         33,         33,2,19950401,       1211,   -28.5667,    85.0505,       3818,    85.9,  17.8542,  35.7922,2,  35.7899,2,    253.5,2,   247.8,2,    2.39,2,    0.15,2,    0.00,2,    0.16,2,   2.622,2,   1.438,2,  -999.0,9,  -999.0,9,  -9.0000,9,-999.0000,9, -999.00,9, -999.00,9,  -999.0,9,  -999.0,-999.000,9,-999.000,   1.970,2,  -9.0000,-999.0000,  17.8395,   -9.00
  316N145_7,      TRANS,     383,          1,         32,         32,2,19950401,       1211,   -28.5667,    85.0505,       3818,   125.5,  15.4764,  35.5733,2,  35.5710,2,    240.3,2,   235.4,2,    2.37,2,    0.70,2,    0.08,2,    0.29,2,-999.000,9,-999.000,9,  -999.0,9,  -999.0,9,  -9.0000,9,-999.0000,9, -999.00,9, -999.00,9,  -999.0,9,  -999.0,-999.000,9,-999.000,-999.000,9,  -9.0000,-999.0000,  15.4569,   -9.00
  316N145_7,      TRANS,     383,          1,         31,         31,2,19950401,       1211,   -28.5667,    85.0505,       3818,   176.1,  14.0191,  35.3861,2,  35.3897,2,    229.2,2,   229.4,2,    2.78,2,    5.03,2,    0.01,2,    0.50,2,   2.974,2,   1.553,2,  -999.0,9,  -999.0,9,  -9.0000,9,-999.0000,9, -999.00,9, -999.00,9,  -999.0,9,  -999.0,-999.000,9,-999.000,   1.393,2,  -9.0000,-999.0000,  13.9936,   -9.00
  316N145_7,      TRANS,     383,          1,         30,         30,2,19950401,       1211,   -28.5667,    85.0505,       3818,   226.1,  13.2153,  35.2781,2,  35.2864,2,    228.4,2,   229.0,2,    3.19,2,    7.05,2,    0.01,2,    0.61,2,-999.000,9,-999.000,9,  -999.0,9,  -999.0,9,  -9.0000,9,-999.0000,9, -999.00,9, -999.00,9,  -999.0,9,  -999.0,-999.000,9,-999.000,-999.000,9,  -9.0000,-999.0000,  13.1837,   -9.00
  316N145_7,      TRANS,     383,          1,         29,         29,2,19950401,       1211,   -28.5667,    85.0505,       3818,   277.2,  12.4188,  35.1620,2,  35.1546,2,    230.8,2,   233.8,2,    3.81,2,    8.91,2,    0.00,2,    0.72,2,   3.013,2,   1.580,2,  -999.0,9,  -999.0,9,  -9.0000,9,-999.0000,9, -999.00,9, -999.00,9,  -999.0,9,  -999.0,-999.000,9,-999.000,   1.238,2,  -9.0000,-999.0000,  12.3816,   -9.00
  316N145_7,      TRANS,     383,          1,         28,         28,2,19950401,       1211,   -28.5667,    85.0505,       3818,   327.6,  11.8803,  35.0733,2,  35.0768,2,    233.0,2,   235.8,2,    4.22,2,   10.09,2,    0.00,2,    0.79,2,-999.000,9,-999.000,9,  -999.0,9,  -999.0,9,  -9.0000,9,-999.0000,9, -999.00,9, -999.00,9,  -999.0,9,  -999.0,-999.000,9,-999.000,-999.000,9,  -9.0000,-999.0000,  11.8375,   -9.00
  316N145_7,      TRANS,     383,          1,         27,         27,2,19950401,       1211,   -28.5667,    85.0505,       3818,   387.2,  11.4138,  35.0040,2,  35.0018,2,    234.4,2,   237.3,2,    4.41,2,   11.16,2,    0.00,2,    0.85,2,   2.921,2,   1.499,2,  -999.0,9,  -999.0,9,  -9.0000,9,-999.0000,9, -999.00,9, -999.00,9,  -999.0,9,  -999.0,-999.000,9,-999.000,   1.421,2,  -9.0000,-999.0000,  11.3645,   -9.00
  316N145_7,      TRANS,     383,          1,         26,         26,2,19950401,       1211,   -28.5667,    85.0505,       3818,   447.6,  10.9898,  34.9377,2,  34.9394,2,    235.4,2,   237.7,2,    4.61,2,   12.05,2,    0.00,2,    0.90,2,   2.900,2,   1.509,2,  -999.0,9,  -999.0,9,  -9.0000,9,-999.0000,9, -999.00,9, -999.00,9,  -999.0,9,  -999.0,-999.000,9,-999.000,   1.483,2,  -9.0000,-999.0000,  10.9340,   -9.00
  316N145_7,      TRANS,     383,          1,         25,         25,2,19950401,       1211,   -28.5667,    85.0505,       3818,   507.9,  10.5120,  34.8668,2,  34.8711,2,    238.7,2,   238.5,2,    4.60,2,   13.03,2,    0.00,2,    0.96,2,   2.937,2,   1.523,2,  -999.0,9,  -999.0,9,  -9.0000,9,-999.0000,9, -999.00,9, -999.00,9,  -999.0,9,  -999.0,-999.000,9,-999.000,   1.612,2,  -9.0000,-999.0000,  10.4504,   -9.00
  316N145_7,      TRANS,     383,          1,         24,         24,2,19950401,       1211,   -28.5667,    85.0505,       3818,   578.6,   9.9871,  34.7866,2,  34.7883,2,    237.4,2,   237.6,2,    5.22,2,   14.60,2,    0.00,2,    1.06,2,   2.829,2,   1.450,2,  -999.0,9,  -999.0,9,  -9.0000,9,-999.0000,9, -999.00,9, -999.00,9,  -999.0,9,  -999.0,-999.000,9,-999.000,   1.705,2,  -9.0000,-999.0000,   9.9189,   -9.00
  316N145_7,      TRANS,     383,          1,         23,         23,2,19950401,       1211,   -28.5667,    85.0505,       3818,   659.1,   9.2078,  34.6778,2,  34.6794,2,    231.5,2,   229.8,2,    6.67,2,   17.44,2,    0.01,2,    1.23,2,   2.479,2,   1.224,2,  -999.0,9,  -999.0,9,  -9.0000,9,-999.0000,9, -999.00,9, -999.00,9,  -999.0,9,  -999.0,-999.000,9,-999.000,   1.660,2,  -9.0000,-999.0000,   9.1336,   -9.00
  316N145_7,      TRANS,     383,          1,         22,         22,2,19950401,       1211,   -28.5667,    85.0505,       3818,   759.5,   7.9343,  34.5512,2,  34.5530,2,    215.8,2,   211.4,2,   12.34,2,   22.21,2,    0.01,2,    1.53,2,   1.471,2,   0.735,2,  -999.0,9,  -999.0,9,  -9.0000,9,-999.0000,9, -999.00,9, -999.00,9,  -999.0,9,  -999.0,-999.000,9,-999.000,   1.431,2,  -9.0000,-999.0000,   7.8556,   -9.00
  316N145_7,      TRANS,     383,          1,         21,         21,2,19950401,       1211,   -28.5667,    85.0505,       3818,   859.8,   6.3350,  34.4464,2,  34.4485,2,    200.0,2,   198.5,2,   22.21,2,   26.89,2,    0.00,2,    1.85,2,   0.849,2,   0.417,2,  -999.0,9,  -999.0,9,  -9.0000,9,-999.0000,9, -999.00,9, -999.00,9,  -999.0,9,  -999.0,-999.000,9,-999.000,   1.288,2,  -9.0000,-999.0000,   6.2556,   -9.00
  316N145_7,      TRANS,     383,          1,         20,         20,2,19950401,       1211,   -28.5667,    85.0505,       3818,   961.4,   5.0528,  34.3998,2,  34.4041,2,    192.9,2,   191.1,2,   34.17,2,   30.01,2,    0.00,2,    2.09,2,   0.472,3,   0.231,2,  -999.0,9,  -999.0,9,  -9.0000,9,-999.0000,9, -999.00,9, -999.00,9,  -999.0,9,  -999.0,-999.000,9,-999.000,   1.003,2,  -9.0000,-999.0000,   4.9728,   -9.00
  316N145_7,      TRANS,     383,          1,         19,         19,2,19950401,       1211,   -28.5667,    85.0505,       3818,  1062.4,   4.2405,  34.4221,2,  34.4220,2,    177.9,2,   177.7,2,   48.66,2,   32.44,2,    0.00,2,    2.27,2,-999.000,9,-999.000,9,  -999.0,9,  -999.0,9,  -9.0000,9,-999.0000,9, -999.00,9, -999.00,9,  -999.0,9,  -999.0,-999.000,9,-999.000,-999.000,9,  -9.0000,-999.0000,   4.1579,   -9.00
  316N145_7,      TRANS,     383,          1,         18,         18,2,19950401,       1211,   -28.5667,    85.0505,       3818,  1162.8,   3.8543,  34.4713,2,  34.4687,2,    166.7,2,   164.4,2,   60.84,2,   33.68,2,    0.00,2,    2.37,2,   0.138,3,   0.058,2,  -999.0,9,  -999.0,9,  -9.0000,9,-999.0000,9, -999.00,9, -999.00,9,  -999.0,9,  -999.0,-999.000,9,-999.000,   0.492,2,  -9.0000,-999.0000,   3.7663,   -9.00
  316N145_7,      TRANS,     383,          1,         17,         17,2,19950401,       1211,   -28.5667,    85.0505,       3818,  1263.4,   3.6130,  34.5246,2,  34.5232,2,    155.0,2,   153.1,2,   71.56,2,   34.52,2,    0.00,2,    2.44,2,-999.000,9,-999.000,9,  -999.0,9,  -999.0,9,  -9.0000,9,-999.0000,9, -999.00,9, -999.00,9,  -999.0,9,  -999.0,-999.000,9,-999.000,-999.000,9,  -9.0000,-999.0000,   3.5186,   -9.00
  316N145_7,      TRANS,     383,          1,         16,         16,2,19950401,       1211,   -28.5667,    85.0505,       3818,  1364.5,   3.4101,  34.5703,2,  34.5702,2,    148.9,2,   148.4,2,   79.13,2,   34.77,2,    0.00,2,    2.46,2,   0.038,3,   0.010,2,  -999.0,9,  -999.0,9,  -9.0000,9,-999.0000,9, -999.00,9, -999.00,9,  -999.0,9,  -999.0,-999.000,9,-999.000,   0.144,2,  -9.0000,-999.0000,   3.3091,   -9.00
  316N145_7,      TRANS,     383,          1,         15,         15,2,19950401,       1211,   -28.5667,    85.0505,       3818,  1465.3,   3.2528,  34.6030,2,  34.6020,2,    147.6,2,   147.8,2,   83.32,2,   34.71,2,    0.00,2,    2.46,2,-999.000,9,-999.000,9,  -999.0,9,  -999.0,9,  -9.0000,9,-999.0000,9, -999.00,9, -999.00,9,  -999.0,9,  -999.0,-999.000,9,-999.000,-999.000,9,  -9.0000,-999.0000,   3.1449,   -9.00
  316N145_7,      TRANS,     383,          1,         14,         14,2,19950401,       1211,   -28.5667,    85.0505,       3818,  1566.7,   3.1002,  34.6393,2,  34.6377,2,    146.4,2,   147.4,2,   88.79,2,   34.56,2,    0.00,2,    2.46,2,   0.029,3,   0.004,2,  -999.0,9,  -999.0,9,  -9.0000,9,-999.0000,9, -999.00,9, -999.00,9,  -999.0,9,  -999.0,-999.000,9,-999.000,   0.059,2,  -9.0000,-999.0000,   2.9854,   -9.00
  316N145_7,      TRANS,     383,          1,         13,         13,2,19950401,       1211,   -28.5667,    85.0505,       3818,  1717.7,   2.9059,  34.6756,2,  34.6744,2,    149.0,2,   149.8,2,   94.90,2,   34.31,2,    0.00,2,    2.44,2,   0.050,3,   0.003,2,  -999.0,9,  -999.0,9,  -9.0000,9,-999.0000,9, -999.00,9, -999.00,9,  -999.0,9,  -999.0,-999.000,9,-999.000,   0.029,2,  -9.0000,-999.0000,   2.7805,   -9.00
  316N145_7,      TRANS,     383,          1,         12,         12,2,19950401,       1211,   -28.5667,    85.0505,       3818,  1869.5,   2.7069,  34.6957,2,  34.7003,4,    153.4,2,   154.1,2,   98.06,2,   33.96,2,    0.00,2,    2.41,2,-999.000,9,-999.000,9,  -999.0,9,  -999.0,9,  -9.0000,9,-999.0000,9, -999.00,9, -999.00,9,  -999.0,9,  -999.0,-999.000,9,-999.000,-999.000,9,  -9.0000,-999.0000,   2.5710,   -9.00
  316N145_7,      TRANS,     383,          1,         11,         11,2,19950401,       1211,   -28.5667,    85.0505,       3818,  2020.7,   2.4681,  34.7080,2,  34.7080,2,    161.3,2,   162.6,2,   99.73,2,   33.41,2,    0.00,2,    2.36,2,-999.000,9,-999.000,9,  -999.0,9,  -999.0,9,  -9.0000,9,-999.0000,9, -999.00,9, -999.00,9,  -999.0,9,  -999.0,-999.000,9,-999.000,-999.000,9,  -9.0000,-999.0000,   2.3225,   -9.00
  316N145_7,      TRANS,     383,          1,         10,         10,2,19950401,       1211,   -28.5667,    85.0505,       3818,  2174.6,   2.2492,  34.7166,2,  34.7160,2,    170.7,2,   171.2,2,   99.91,2,   32.77,2,    0.00,2,    2.30,2,   0.015,3,  -0.002,2,  -999.0,9,  -999.0,9,  -9.0000,9,-999.0000,9, -999.00,9, -999.00,9,  -999.0,9,  -999.0,-999.000,9,-999.000,   0.016,2,  -9.0000,-999.0000,   2.0935,   -9.00
  316N145_7,      TRANS,     383,          1,          9,          9,2,19950401,       1211,   -28.5667,    85.0505,       3818,  2325.5,   2.0670,  34.7239,2,  34.7239,2,    178.5,2,   178.2,2,  100.94,2,   32.22,2,    0.00,2,    2.26,2,-999.000,9,-999.000,9,  -999.0,9,  -999.0,9,  -9.0000,9,-999.0000,9, -999.00,9, -999.00,9,  -999.0,9,  -999.0,-999.000,9,-999.000,-999.000,9,  -9.0000,-999.0000,   1.9010,   -9.00
  316N145_7,      TRANS,     383,          1,          8,          8,2,19950401,       1211,   -28.5667,    85.0505,       3818,  2478.9,   1.9399,  34.7294,2,  34.7290,2,    183.7,2,   183.8,2,  101.34,2,   31.97,2,    0.00,2,    2.23,2,-999.000,9,-999.000,9,  -999.0,9,  -999.0,9,  -9.0000,9,-999.0000,9, -999.00,9, -999.00,9,  -999.0,9,  -999.0,-999.000,9,-999.000,-999.000,9,  -9.0000,-999.0000,   1.7623,   -9.00
  316N145_7,      TRANS,     383,          1,          7,          7,2,19950401,       1211,   -28.5667,    85.0505,       3818,  2630.7,   1.8220,  34.7330,2,  34.7327,2,    187.3,2,   187.4,2,  102.80,2,   31.77,2,    0.00,2,    2.22,2,   0.090,3,   0.003,2,  -999.0,9,  -999.0,9,  -9.0000,9,-999.0000,9, -999.00,9, -999.00,9,  -999.0,9,  -999.0,-999.000,9,-999.000,  -0.006,2,  -9.0000,-999.0000,   1.6328,   -9.00
  316N145_7,      TRANS,     383,          1,          6,          6,2,19950401,       1211,   -28.5667,    85.0505,       3818,  2834.1,   1.6918,  34.7337,2,  34.7330,2,    190.7,2,   190.5,2,  105.53,2,   31.77,2,    0.00,2,    2.21,2,-999.000,9,-999.000,9,  -999.0,9,  -999.0,9,  -9.0000,9,-999.0000,9, -999.00,9, -999.00,9,  -999.0,9,  -999.0,-999.000,9,-999.000,-999.000,9,  -9.0000,-999.0000,   1.4863,   -9.00
  316N145_7,      TRANS,     383,          1,          5,          5,2,19950401,       1211,   -28.5667,    85.0505,       3818,  3037.6,   1.5523,  34.7315,2,  34.7330,2,    192.8,2,   193.0,2,  109.34,2,   31.77,2,    0.00,2,    2.21,2,  -0.030,3,   0.003,2,  -999.0,9,  -999.0,9,  -9.0000,9,-999.0000,9, -999.00,9, -999.00,9,  -999.0,9,  -999.0,-999.000,9,-999.000,   0.001,2,  -9.0000,-999.0000,   1.3304,   -9.00
  316N145_7,      TRANS,     383,          1,          4,          4,2,19950401,       1211,   -28.5667,    85.0505,       3818,  3241.4,   1.4533,  34.7292,2,  34.7291,2,    194.3,2,   194.5,2,  111.87,2,   31.91,2,    0.00,2,    2.22,2,-999.000,9,-999.000,9,  -999.0,9,  -999.0,9,  -9.0000,9,-999.0000,9, -999.00,9, -999.00,9,  -999.0,9,  -999.0,-999.000,9,-999.000,-999.000,9,  -9.0000,-999.0000,   1.2140,   -9.00
  316N145_7,      TRANS,     383,          1,          3,          3,2,19950401,       1211,   -28.5667,    85.0505,       3818,  3444.8,   1.3905,  34.7261,2,  34.7257,2,    195.3,2,   194.7,2,  115.26,2,   32.11,2,    0.00,2,    2.23,2,-999.000,9,-999.000,9,  -999.0,9,  -999.0,9,  -9.0000,9,-999.0000,9, -999.00,9, -999.00,9,  -999.0,9,  -999.0,-999.000,9,-999.000,-999.000,9,  -9.0000,-999.0000,   1.1324,   -9.00
  316N145_7,      TRANS,     383,          1,          2,          2,2,19950401,       1211,   -28.5667,    85.0505,       3818,  3673.9,   1.3727,  34.7244,2,  34.7243,2,    194.2,2,   194.4,2,  117.16,2,   32.26,2,    0.00,2,    2.25,2,  -0.056,3,  -0.005,2,  -999.0,9,  -999.0,9,  -9.0000,9,-999.0000,9, -999.00,9, -999.00,9,  -999.0,9,  -999.0,-999.000,9,-999.000,   0.005,2,  -9.0000,-999.0000,   1.0917,   -9.00
  316N145_7,      TRANS,     383,          1,          1,          1,2,19950401,       1211,   -28.5667,    85.0505,       3818,  3916.3,   1.3618,  34.7221,2,  34.7217,2,    193.7,2,   193.8,2,  119.28,2,   32.41,2,    0.00,2,    2.26,2,  -0.027,3,  -0.003,2,  -999.0,9,  -999.0,9,  -9.0000,9,-999.0000,9, -999.00,9, -999.00,9,  -999.0,9,  -999.0,-999.000,9,-999.000,   0.004,2,  -9.0000,-999.0000,   1.0555,   -9.00