BOTTLE,20211124CCHSIORKP
EXPOCODE,SECT_ID,STNNBR,CASTNO,SAMPNO,BTLNBR,BTLNBR_FLAG_W,DATE,TIME,LATITUDE,LONGITUDE,DEPTH,CTDPRS,CTDTMP,CTDSAL,CTDSAL_FLAG_W,SALNTY,SALNTY_FLAG_W,CTDOXY,CTDOXY_FLAG_W,OXYGEN,OXYGEN_FLAG_W,SILCAT,SILCAT_FLAG_W,NITRAT,NITRAT_FLAG_W,NITRIT,NITRIT_FLAG_W,PHSPHT,PHSPHT_FLAG_W,CFC-11,CFC-11_FLAG_W,CFC-12,CFC-12_FLAG_W,TCARBN,TCARBN_FLAG_W,ALKALI,ALKALI_FLAG_W,TRITUM,TRITUM_FLAG_W,HELIUM,HELIUM_FLAG_W,DELHE3,DELHE3_FLAG_W,DELC13,DELC13_FLAG_W,DELC14,DELC14_FLAG_W,C14ERR,NEON,NEON_FLAG_W,NEONER,CCL4,CCL4_FLAG_W,TRITER,HELIER,THETA,DELHER
,,,,,,,,,,,METERS,DBAR,ITS-90,PSS-78,,PSS-78,,UMOL/KG,,UMOL/KG,,UMOL/KG,,UMOL/KG,,UMOL/KG,,UMOL/KG,,PMOL/KG,,PMOL/KG,,UMOL/KG,,UMOL/KG,,TU,,NMOL/KG,,PERCNT,,/MILLE,,/MILLE,,/MILLE,NMOL/KG,,NMOL/KG,PMOL/KG,,TU,NMOL/KG,DEG C,PERCNT
  316N145_7,       I08N,     342,          1,         36,         36,2,19950324,       0110,   -17.9988,    80.0007,       5057,     3.2,  27.7957,  34.8085,2,  34.8107,2,    193.6,2,   198.0,2,    3.44,2,    0.14,2,    0.00,2,    0.12,2,   1.596,2,   0.970,2,  1928.1,2,  2286.7,2,   1.0938,2,   1.6980,2,   -0.54,2, -999.00,9,  -999.0,9,  -999.0,   6.599,2,   0.033,   2.121,2,   0.0039,   0.0085,  27.7949,    0.14
  316N145_7,       I08N,     342,          1,         35,         35,2,19950324,       0110,   -17.9988,    80.0007,       5057,    30.7,  27.8001,  34.8086,2,  34.8078,2,    197.5,2,   199.5,2,    3.46,2,    0.14,2,    0.00,2,    0.11,2,-999.000,9,-999.000,9,  1929.1,2,  2272.7,2,  -9.0000,9,-999.0000,9, -999.00,9, -999.00,9,  -999.0,9,  -999.0,-999.000,9,-999.000,-999.000,9,  -9.0000,-999.0000,  27.7929,   -9.00
  316N145_7,       I08N,     342,          1,         34,         34,2,19950324,       0110,   -17.9988,    80.0007,       5057,    55.1,  27.2289,  35.2562,2,  35.2447,2,    201.5,2,   203.6,2,    3.68,2,    0.09,2,    0.00,2,    0.12,2,-999.000,9,-999.000,9,  1963.3,2,  2303.4,2,   1.1243,2,-999.0000,9, -999.00,9, -999.00,9,  -999.0,9,  -999.0,-999.000,9,-999.000,-999.000,9,   0.0040,-999.0000,  27.2161,   -9.00
  316N145_7,       I08N,     342,          1,         33,         33,2,19950324,       0110,   -17.9988,    80.0007,       5057,    70.4,  26.7641,  35.3372,2,  35.2837,2,    210.3,2,   209.3,2,    3.69,2,    0.14,2,    0.00,2,    0.12,2,-999.000,9,-999.000,9,  1959.7,2,  2306.0,2,   1.1377,2,   1.7093,2,   -0.58,2, -999.00,9,  -999.0,9,  -999.0,   6.715,2,   0.034,-999.000,9,   0.0040,   0.0085,  26.7481,    0.14
  316N145_7,       I08N,     342,          1,         32,         32,2,19950324,       0110,   -17.9988,    80.0007,       5057,    85.6,  23.9470,  35.1636,2,  35.2122,2,    226.1,2,   221.4,2,    3.91,2,    0.14,2,    0.00,2,    0.12,2,   1.967,2,   1.135,2,  1988.0,2,  2317.1,2,   1.1332,2,   1.7305,2,   -0.92,2, -999.00,9,  -999.0,9,  -999.0,   6.879,2,   0.034,   1.673,2,   0.0040,   0.0087,  23.9290,    0.14
  316N145_7,       I08N,     342,          1,         31,         31,2,19950324,       0110,   -17.9988,    80.0007,       5057,   125.3,  21.8995,  35.4965,2,  35.4909,2,    225.9,2,   221.7,2,    3.93,2,    0.14,2,    0.00,2,    0.12,2,   2.057,2,   1.196,2,  2002.9,2,  2312.2,2,   1.1221,2,   1.7284,2,   -0.81,2, -999.00,9,  -999.0,9,  -999.0,   6.917,2,   0.035,   1.780,2,   0.0040,   0.0086,  21.8747,    0.14
  316N145_7,       I08N,     342,          1,         30,         30,2,19950324,       0110,   -17.9988,    80.0007,       5057,   225.9,  18.7235,  35.7844,2,  35.7791,2,    210.0,2,   206.9,2,    3.73,2,    1.65,2,    0.00,2,    0.26,2,   2.285,2,   1.270,2,  2039.9,2,  2330.9,2,   1.0442,2,   1.7232,2,    0.55,2, -999.00,9,  -999.0,9,  -999.0,   6.965,2,   0.035,   1.162,2,   0.0039,   0.0086,  18.6834,    0.14
  316N145_7,       I08N,     342,          1,         29,         29,2,19950324,       0110,   -17.9988,    80.0007,       5057,   290.9,  16.1317,  35.6546,2,  35.6517,2,    216.1,2,   213.9,2,    3.54,2,    3.02,2,    0.00,2,    0.38,2,   2.504,2,   1.362,2,  2082.2,2,  2338.5,2,   0.9256,2,   1.7379,2,    0.16,2, -999.00,9,  -999.0,9,  -999.0,   7.095,2,   0.035,   0.910,2,   0.0037,   0.0087,  16.0851,    0.14
  316N145_7,       I08N,     342,          1,         28,         28,2,19950324,       0110,   -17.9988,    80.0007,       5057,   391.8,  12.8149,  35.2190,2,  35.2163,2,    223.7,2,   226.0,2,    4.38,2,    8.40,2,    0.00,2,    0.69,2,   2.746,2,   1.453,2,  2106.0,2,  2319.4,2,   0.7532,2,   1.7519,2,    0.33,2, -999.00,9,  -999.0,9,  -999.0,   7.280,2,   0.036,   0.895,2,   0.0034,   0.0088,  12.7610,    0.14
  316N145_7,       I08N,     342,          1,         27,         27,2,19950324,       0110,   -17.9988,    80.0007,       5057,   492.2,  10.8797,  34.9262,2,  34.9179,2,    228.2,2,   230.3,2,    5.85,2,   12.69,2,    0.00,2,    0.93,2,   2.605,2,   1.351,2,  2099.1,2,  2302.0,2,  -9.0000,9,   1.7545,2,    0.69,2, -999.00,9,  -999.0,9,  -999.0,   7.373,2,   0.037,   1.337,2,  -9.0000,   0.0088,  10.8186,    0.14
  316N145_7,       I08N,     342,          1,         26,         26,2,19950324,       0110,   -17.9988,    80.0007,       5057,   583.2,   9.2885,  34.7027,2,  34.7128,2,    213.6,2,   218.2,2,    9.39,2,   17.61,2,    0.00,2,    1.24,2,   1.999,2,   1.039,2,  2133.5,2,  2297.4,2,   0.4323,2,   1.7624,2,    1.77,2, -999.00,9,  -999.0,9,  -999.0,   7.465,2,   0.037,   1.414,2,   0.0028,   0.0088,   9.2228,    0.14
  316N145_7,       I08N,     342,          1,         25,         25,2,19950324,       0110,   -17.9988,    80.0007,       5057,   672.7,   7.7353,  34.5682,2,  34.5684,2,    191.0,2,   191.6,2,   19.76,2,   24.20,2,    0.00,2,    1.66,2,   0.789,2,   0.412,2,  2151.2,2,  2296.3,2,   0.1943,2,   1.7721,2,    3.30,2, -999.00,9,  -999.0,9,  -999.0,   7.553,2,   0.038,   0.992,2,   0.0024,   0.0089,   7.6669,    0.14
  316N145_7,       I08N,     342,          1,         24,         24,2,19950324,       0110,   -17.9988,    80.0007,       5057,   763.5,   6.3229,  34.5190,2,  34.5197,2,    169.2,2,   161.7,2,   39.25,2,   29.91,2,    0.00,2,    2.08,2,-999.000,9,-999.000,9,  2145.3,4,  2310.8,2,   0.0630,2,   1.8100,2,    5.07,2, -999.00,9,  -999.0,9,  -999.0,   7.695,2,   0.038,-999.000,9,   0.0023,   0.0091,   6.2529,    0.14
  316N145_7,       I08N,     342,          1,         23,         23,2,19950324,       0110,   -17.9988,    80.0007,       5057,   859.0,   5.6030,  34.5889,2,  34.5967,2,    128.4,2,   117.0,2,   67.04,2,   34.26,2,    0.00,2,    2.45,2,   0.077,3,   0.034,2,  2257.6,2,  2339.6,2,   0.0126,2,   1.8279,2,   10.57,2, -999.00,9,  -999.0,9,  -999.0,   7.750,2,   0.039,   0.199,2,   0.0022,   0.0091,   5.5283,    0.14
  316N145_7,       I08N,     342,          1,         22,         22,2,19950324,       0110,   -17.9988,    80.0007,       5057,   954.7,   5.2619,  34.6452,2,  34.6464,2,    105.1,2,   107.5,2,   78.26,2,   35.12,2,    0.00,2,    2.55,2,-999.000,9,-999.000,9,  2264.2,2,  2350.2,2,  -9.0000,9,-999.0000,9, -999.00,9, -999.00,9,  -999.0,9,  -999.0,-999.000,9,-999.000,-999.000,9,  -9.0000,-999.0000,   5.1805,   -9.00
  316N145_7,       I08N,     342,          1,         21,         21,2,19950324,       0110,   -17.9988,    80.0007,       5057,  1034.7,   4.9423,  34.6601,2,  34.6619,2,    105.8,2,   105.8,2,   85.96,2,   35.84,2,    0.00,2,    2.59,2,-999.000,9,-999.000,9,  2277.8,2,  2362.1,2,   0.0041,2,   1.8558,2,   12.74,2, -999.00,9,  -999.0,9,  -999.0,   7.830,2,   0.039,-999.000,9,   0.0023,   0.0093,   4.8560,    0.14
  316N145_7,       I08N,     342,          1,         20,         20,2,19950324,       0110,   -17.9988,    80.0007,       5057,  1156.4,   4.5476,  34.6776,2,  34.6794,2,    107.3,2,   108.9,2,   91.37,2,   35.83,2,    0.00,2,    2.59,2,-999.000,9,-999.000,9,  2289.2,2,  2363.2,2,  -9.0000,9,-999.0000,9, -999.00,9, -999.00,9,  -999.0,9,  -999.0,-999.000,9,-999.000,-999.000,9,  -9.0000,-999.0000,   4.4536,   -9.00
  316N145_7,       I08N,     342,          1,         19,         19,2,19950324,       0110,   -17.9988,    80.0007,       5057,  1317.6,   4.1668,  34.6996,2,  34.7018,2,    113.9,2,   113.2,2,   96.59,2,   35.78,2,    0.00,2,    2.59,2,-999.000,9,-999.000,9,  2284.5,2,  2371.3,2,   0.0038,2,   1.8609,2,   12.71,2, -999.00,9,  -999.0,9,  -999.0,   7.892,2,   0.039,-999.000,9,   0.0022,   0.0093,   4.0619,    0.14
  316N145_7,       I08N,     342,          1,         18,         18,2,19950324,       0110,   -17.9988,    80.0007,       5057,  1468.6,   3.7582,  34.7057,2,  34.7074,2,    119.0,2,   119.9,2,  100.98,2,   35.68,2,    0.00,2,    2.58,2,   0.002,3,   0.000,2,  2288.4,2,  2374.6,2,  -9.0000,9,-999.0000,9, -999.00,9, -999.00,9,  -999.0,9,  -999.0,-999.000,9,-999.000,   0.003,2,  -9.0000,-999.0000,   3.6442,   -9.00
  316N145_7,       I08N,     342,          1,         17,         17,2,19950324,       0110,   -17.9988,    80.0007,       5057,  1620.3,   3.3145,  34.7116,2,  34.7131,2,    128.8,2,   129.4,2,  104.53,2,   35.29,2,    0.00,2,    2.54,2,-999.000,9,-999.000,9,  2289.3,2,  2377.2,2,   0.0027,2,   1.8302,2,   13.49,2, -999.00,9,  -999.0,9,  -999.0,   7.774,2,   0.039,-999.000,9,   0.0022,   0.0092,   3.1923,    0.14
  316N145_7,       I08N,     342,          1,         16,         16,2,19950324,       0110,   -17.9988,    80.0007,       5057,  1771.3,   2.9816,  34.7195,2,  34.7200,2,    136.5,2,   136.6,2,  108.09,2,   35.00,2,    0.00,2,    2.51,2,-999.000,9,-999.000,9,  2292.1,2,  2382.9,2,  -9.0000,9,-999.0000,9, -999.00,9, -999.00,9,  -999.0,9,  -999.0,-999.000,9,-999.000,-999.000,9,  -9.0000,-999.0000,   2.8504,   -9.00
  316N145_7,       I08N,     342,          1,         15,         15,2,19950324,       0110,   -17.9988,    80.0007,       5057,  1924.6,   2.6887,  34.7249,2,  34.7249,2,    144.2,2,   144.2,2,  111.87,2,   34.85,2,    0.00,2,    2.48,2,-999.000,9,-999.000,9,  2289.3,2,  2387.2,2,  -9.0000,9,-999.0000,9, -999.00,9, -999.00,9,  -999.0,9,  -999.0,-999.000,9,-999.000,-999.000,9,  -9.0000,-999.0000,   2.5482,   -9.00
  316N145_7,       I08N,     342,          1,         14,         14,2,19950324,       0110,   -17.9988,    80.0007,       5057,  2076.3,   2.4406,  34.7266,2,  34.7277,2,    150.9,2,   151.7,2,  113.97,2,   34.46,2,    0.00,2,    2.44,2,-999.000,9,-999.000,9,  2293.1,2,  2387.0,2,  -9.0000,9,-999.0000,9, -999.00,9, -999.00,9,  -999.0,9,  -999.0,-999.000,9,-999.000,-999.000,9,  -9.0000,-999.0000,   2.2905,   -9.00
  316N145_7,       I08N,     342,          1,         13,         13,2,19950324,       0110,   -17.9988,    80.0007,       5057,  2227.6,   2.2537,  34.7270,2,  34.7281,2,    158.3,2,   158.3,2,  114.80,2,   34.02,2,    0.00,2,    2.41,2,-999.000,9,-999.000,9,  2285.4,2,  2385.9,2,  -9.0000,9,-999.0000,9, -999.00,9, -999.00,9,  -999.0,9,  -999.0,-999.000,9,-999.000,-999.000,9,  -9.0000,-999.0000,   2.0932,   -9.00
  316N145_7,       I08N,     342,          1,         12,         12,2,19950324,       0110,   -17.9988,    80.0007,       5057,  2431.1,   2.0347,  34.7266,2,  34.7292,3,    164.5,2,   165.8,2,  116.05,2,   33.58,2,    0.00,2,    2.37,2,-999.000,9,-999.000,9,  2284.2,2,  2387.9,2,  -9.0000,9,-999.0000,9, -999.00,9, -999.00,9,  -999.0,9,  -999.0,-999.000,9,-999.000,-999.000,9,  -9.0000,-999.0000,   1.8598,   -9.00
  316N145_7,       I08N,     342,          1,         11,         11,2,19950324,       0110,   -17.9988,    80.0007,       5057,  2685.0,   1.8562,  34.7271,2,  34.7277,2,    171.8,2,   171.7,2,  117.30,2,   33.24,2,    0.00,2,    2.34,2,-999.000,9,-999.000,9,  2286.3,2,  2395.0,2,  -9.0000,9,-999.0000,9, -999.00,9, -999.00,9,  -999.0,9,  -999.0,-999.000,9,-999.000,-999.000,9,  -9.0000,-999.0000,   1.6613,   -9.00
  316N145_7,       I08N,     342,          1,         10,         10,2,19950324,       0110,   -17.9988,    80.0007,       5057,  2938.4,   1.7122,  34.7264,2,  34.7275,2,    174.8,2,   174.2,2,  121.53,2,   33.24,2,    0.00,2,    2.34,2,-999.000,9,-999.000,9,  2284.8,2,  2396.5,2,  -9.0000,9,-999.0000,9, -999.00,9, -999.00,9,  -999.0,9,  -999.0,-999.000,9,-999.000,-999.000,9,  -9.0000,-999.0000,   1.4964,   -9.00
  316N145_7,       I08N,     342,          1,          9,          9,2,19950324,       0110,   -17.9988,    80.0007,       5057,  3192.8,   1.5941,  34.7251,2,  34.7261,2,    176.6,2,   177.0,2,  125.12,2,   33.43,2,    0.00,2,    2.34,2,-999.000,9,-999.000,9,  2290.6,2,  2397.2,2,  -9.0000,9,-999.0000,9, -999.00,9, -999.00,9,  -999.0,9,  -999.0,-999.000,9,-999.000,-999.000,9,  -9.0000,-999.0000,   1.3563,   -9.00
  316N145_7,       I08N,     342,          1,          8,          8,2,19950324,       0110,   -17.9988,    80.0007,       5057,  3447.7,   1.4888,  34.7224,2,  34.7237,2,    178.9,2,   178.4,2,  126.59,2,   33.57,2,    0.00,2,    2.34,2,-999.000,9,-999.000,9,  2292.5,2,  -999.0,5,  -9.0000,9,-999.0000,9, -999.00,9, -999.00,9,  -999.0,9,  -999.0,-999.000,9,-999.000,-999.000,9,  -9.0000,-999.0000,   1.2280,   -9.00
  316N145_7,       I08N,     342,          1,          7,          7,2,19950324,       0110,   -17.9988,    80.0007,       5057,  3702.6,   1.4145,  34.7205,2,  34.7227,3,    181.6,2,   181.5,2,  127.42,2,   33.32,2,    0.00,2,    2.33,2,-999.000,9,-999.000,9,  2294.5,2,  2402.2,2,  -9.0000,9,-999.0000,9, -999.00,9, -999.00,9,  -999.0,9,  -999.0,-999.000,9,-999.000,-999.000,9,  -9.0000,-999.0000,   1.1295,   -9.00
  316N145_7,       I08N,     342,          1,          6,          6,2,19950324,       0110,   -17.9988,    80.0007,       5057,  3957.9,   1.3828,  34.7193,2,  34.7200,2,    183.3,2,   183.5,2,  127.84,2,   33.37,2,    0.00,2,    2.33,2,-999.000,9,-999.000,9,  2294.2,2,  2407.1,2,  -9.0000,9,-999.0000,9, -999.00,9, -999.00,9,  -999.0,9,  -999.0,-999.000,9,-999.000,-999.000,9,  -9.0000,-999.0000,   1.0715,   -9.00
  316N145_7,       I08N,     342,          1,          5,          5,2,19950324,       0110,   -17.9988,    80.0007,       5057,  4210.7,   1.3688,  34.7177,2,  34.7186,2,    183.5,2,   183.4,2,  129.96,2,   33.50,2,    0.00,2,    2.33,2,-999.000,9,-999.000,9,  2291.0,2,  2406.8,2,  -9.0000,9,-999.0000,9, -999.00,9, -999.00,9,  -999.0,9,  -999.0,-999.000,9,-999.000,-999.000,9,  -9.0000,-999.0000,   1.0303,   -9.00
  316N145_7,       I08N,     342,          1,          4,          4,2,19950324,       0110,   -17.9988,    80.0007,       5057,  4466.8,   1.3753,  34.7168,2,  34.7180,2,    183.5,2,   183.8,2,  130.80,2,   33.55,2,    0.00,2,    2.34,2,-999.000,9,-999.000,9,  2294.9,2,  2406.0,2,  -9.0000,9,-999.0000,9, -999.00,9, -999.00,9,  -999.0,9,  -999.0,-999.000,9,-999.000,-999.000,9,  -9.0000,-999.0000,   1.0078,   -9.00
  316N145_7,       I08N,     342,          1,          3,          3,2,19950324,       0110,   -17.9988,    80.0007,       5057,  4724.5,   1.3938,  34.7165,2,  34.7162,2,    184.0,2,   183.5,2,  130.56,2,   33.45,2,    0.00,2,    2.33,2,-999.000,9,-999.000,9,  2301.7,2,  2409.2,2,  -9.0000,9,-999.0000,9, -999.00,9, -999.00,9,  -999.0,9,  -999.0,-999.000,9,-999.000,-999.000,9,  -9.0000,-999.0000,   0.9959,   -9.00
  316N145_7,       I08N,     342,          1,          2,          2,2,19950324,       0110,   -17.9988,    80.0007,       5057,  4981.8,   1.4167,  34.7170,2,  34.7162,2,    184.0,2,   184.3,2,  130.12,2,   33.40,2,    0.00,2,    2.33,2,  -0.010,3,  -0.003,2,  2289.8,2,  2420.5,3,  -9.0000,9,-999.0000,9, -999.00,9, -999.00,9,  -999.0,9,  -999.0,-999.000,9,-999.000,   0.033,2,  -9.0000,-999.0000,   0.9873,   -9.00
  316N145_7,       I08N,     342,          1,          1,          1,2,19950324,       0110,   -17.9988,    80.0007,       5057,  5167.4,   1.4387,  34.7170,2,  34.7166,2,    183.8,2,   184.4,2,  130.31,2,   33.44,2,    0.00,2,    2.33,2,   0.003,3,  -0.001,2,  2289.9,2,  2408.6,2,  -9.0000,9,-999.0000,9, -999.00,9, -999.00,9,  -999.0,9,  -999.0,-999.000,9,-999.000,  -0.001,2,  -9.0000,-999.0000,   0.9859,   -9.00