BOTTLE,20211124CCHSIORKP
EXPOCODE,SECT_ID,STNNBR,CASTNO,SAMPNO,BTLNBR,BTLNBR_FLAG_W,DATE,TIME,LATITUDE,LONGITUDE,DEPTH,CTDPRS,CTDTMP,CTDSAL,CTDSAL_FLAG_W,SALNTY,SALNTY_FLAG_W,CTDOXY,CTDOXY_FLAG_W,OXYGEN,OXYGEN_FLAG_W,SILCAT,SILCAT_FLAG_W,NITRAT,NITRAT_FLAG_W,NITRIT,NITRIT_FLAG_W,PHSPHT,PHSPHT_FLAG_W,CFC-11,CFC-11_FLAG_W,CFC-12,CFC-12_FLAG_W,TCARBN,TCARBN_FLAG_W,ALKALI,ALKALI_FLAG_W,TRITUM,TRITUM_FLAG_W,HELIUM,HELIUM_FLAG_W,DELHE3,DELHE3_FLAG_W,DELC13,DELC13_FLAG_W,DELC14,DELC14_FLAG_W,C14ERR,NEON,NEON_FLAG_W,NEONER,CCL4,CCL4_FLAG_W,TRITER,HELIER,THETA,DELHER
,,,,,,,,,,,METERS,DBAR,ITS-90,PSS-78,,PSS-78,,UMOL/KG,,UMOL/KG,,UMOL/KG,,UMOL/KG,,UMOL/KG,,UMOL/KG,,PMOL/KG,,PMOL/KG,,UMOL/KG,,UMOL/KG,,TU,,NMOL/KG,,PERCNT,,/MILLE,,/MILLE,,/MILLE,NMOL/KG,,NMOL/KG,PMOL/KG,,TU,NMOL/KG,DEG C,PERCNT
  316N145_7,       I08N,     345,          1,         36,         36,2,19950324,       1832,   -19.5005,    79.9997,       4840,     3.7,  27.5194,  34.9747,2,  34.9731,2,    201.4,2,   213.4,4,    2.85,2,    0.06,2,    0.00,2,    0.11,2,-999.000,9,-999.000,9,  1950.6,2,  2286.2,2,  -9.0000,9,-999.0000,9, -999.00,9, -999.00,9,  -999.0,9,  -999.0,-999.000,9,-999.000,-999.000,9,  -9.0000,-999.0000,  27.5186,   -9.00
  316N145_7,       I08N,     345,          1,         35,         35,2,19950324,       1832,   -19.5005,    79.9997,       4840,    36.2,  27.5046,  34.9869,2,  34.9813,2,    211.2,2,   211.1,2,    2.82,2,    0.11,2,    0.00,2,    0.11,2,-999.000,9,-999.000,9,  -999.0,9,  -999.0,9,  -9.0000,9,-999.0000,9, -999.00,9, -999.00,9,  -999.0,9,  -999.0,-999.000,9,-999.000,-999.000,9,  -9.0000,-999.0000,  27.4962,   -9.00
  316N145_7,       I08N,     345,          1,         34,         34,2,19950324,       1832,   -19.5005,    79.9997,       4840,    67.0,  24.4166,  35.2996,2,  35.3015,2,    230.9,2,   236.2,2,    2.99,2,    0.11,2,    0.00,2,    0.10,2,-999.000,9,-999.000,9,  -999.0,9,  -999.0,9,  -9.0000,9,-999.0000,9, -999.00,9, -999.00,9,  -999.0,9,  -999.0,-999.000,9,-999.000,-999.000,9,  -9.0000,-999.0000,  24.4023,   -9.00
  316N145_7,       I08N,     345,          1,         33,         33,2,19950324,       1832,   -19.5005,    79.9997,       4840,   101.4,  21.8191,  35.4703,2,  35.4557,2,    231.5,2,   223.8,2,    3.17,2,    0.11,2,    0.00,2,    0.12,2,-999.000,9,-999.000,9,  -999.0,9,  -999.0,9,  -9.0000,9,-999.0000,9, -999.00,9, -999.00,9,  -999.0,9,  -999.0,-999.000,9,-999.000,-999.000,9,  -9.0000,-999.0000,  21.7991,   -9.00
  316N145_7,       I08N,     345,          1,         32,         32,2,19950324,       1832,   -19.5005,    79.9997,       4840,   161.6,  20.1077,  35.7271,2,  35.7160,2,    213.6,2,   205.2,2,    3.14,2,    0.92,2,    0.14,2,    0.21,2,-999.000,9,-999.000,9,  -999.0,9,  -999.0,9,  -9.0000,9,-999.0000,9, -999.00,9, -999.00,9,  -999.0,9,  -999.0,-999.000,9,-999.000,-999.000,9,  -9.0000,-999.0000,  20.0776,   -9.00
  316N145_7,       I08N,     345,          1,         31,         31,2,19950324,       1832,   -19.5005,    79.9997,       4840,   222.0,  18.3258,  35.7827,2,  35.7839,2,    209.5,2,   202.1,2,    3.31,2,    2.33,2,    0.01,2,    0.29,2,-999.000,9,-999.000,9,  -999.0,9,  -999.0,9,  -9.0000,9,-999.0000,9, -999.00,9, -999.00,9,  -999.0,9,  -999.0,-999.000,9,-999.000,-999.000,9,  -9.0000,-999.0000,  18.2869,   -9.00
  316N145_7,       I08N,     345,          1,         30,         30,2,19950324,       1832,   -19.5005,    79.9997,       4840,   247.2,  17.2174,  35.7367,2,  35.7326,2,    201.3,2,   202.5,2,    3.69,2,    3.09,2,    0.00,2,    0.36,2,-999.000,9,-999.000,9,  -999.0,9,  -999.0,9,  -9.0000,9,-999.0000,9, -999.00,9, -999.00,9,  -999.0,9,  -999.0,-999.000,9,-999.000,-999.000,9,  -9.0000,-999.0000,  17.1760,   -9.00
  316N145_7,       I08N,     345,          1,         29,         29,2,19950324,       1832,   -19.5005,    79.9997,       4840,   307.4,  15.1755,  35.5519,2,  35.5356,2,    216.3,2,   214.7,2,    2.84,2,    4.69,2,    0.00,2,    0.46,2,-999.000,9,-999.000,9,  -999.0,9,  -999.0,9,  -9.0000,9,-999.0000,9, -999.00,9, -999.00,9,  -999.0,9,  -999.0,-999.000,9,-999.000,-999.000,9,  -9.0000,-999.0000,  15.1282,   -9.00
  316N145_7,       I08N,     345,          1,         28,         28,2,19950324,       1832,   -19.5005,    79.9997,       4840,   368.0,  13.0909,  35.2685,2,  35.2695,2,    222.0,2,   223.6,2,    3.22,2,    7.80,2,    0.00,2,    0.64,2,-999.000,9,-999.000,9,  -999.0,9,  -999.0,9,  -9.0000,9,-999.0000,9, -999.00,9, -999.00,9,  -999.0,9,  -999.0,-999.000,9,-999.000,-999.000,9,  -9.0000,-999.0000,  13.0396,   -9.00
  316N145_7,       I08N,     345,          1,         27,         27,2,19950324,       1832,   -19.5005,    79.9997,       4840,   437.9,  11.5975,  35.0401,2,  35.0320,2,    223.4,2,   223.8,2,    4.83,2,   11.39,2,    0.00,2,    0.85,2,-999.000,9,-999.000,9,  -999.0,9,  -999.0,9,  -9.0000,9,-999.0000,9, -999.00,9, -999.00,9,  -999.0,9,  -999.0,-999.000,9,-999.000,-999.000,9,  -9.0000,-999.0000,  11.5410,   -9.00
  316N145_7,       I08N,     345,          1,         26,         26,2,19950324,       1832,   -19.5005,    79.9997,       4840,   518.7,  10.3572,  34.8498,2,  34.8526,2,    229.5,2,  -999.0,5,    4.80,2,   13.66,2,    0.00,2,    0.98,2,-999.000,9,-999.000,9,  -999.0,9,  -999.0,9,  -9.0000,9,-999.0000,9, -999.00,9, -999.00,9,  -999.0,9,  -999.0,-999.000,9,-999.000,-999.000,9,  -9.0000,-999.0000,  10.2949,   -9.00
  316N145_7,       I08N,     345,          1,         25,         25,2,19950324,       1832,   -19.5005,    79.9997,       4840,   599.0,   9.3249,  34.6992,2,  34.7010,2,    218.2,2,   224.2,2,    6.82,2,   17.39,2,    0.00,2,    1.20,2,-999.000,9,-999.000,9,  -999.0,9,  -999.0,9,  -9.0000,9,-999.0000,9, -999.00,9, -999.00,9,  -999.0,9,  -999.0,-999.000,9,-999.000,-999.000,9,  -9.0000,-999.0000,   9.2572,   -9.00
  316N145_7,       I08N,     345,          1,         24,         24,2,19950324,       1832,   -19.5005,    79.9997,       4840,   688.3,   8.0721,  34.5874,2,  34.5863,2,    198.5,2,   198.6,2,   15.37,2,   22.92,2,    0.00,2,    1.56,2,-999.000,9,-999.000,9,  -999.0,9,  -999.0,9,  -9.0000,9,-999.0000,9, -999.00,9, -999.00,9,  -999.0,9,  -999.0,-999.000,9,-999.000,-999.000,9,  -9.0000,-999.0000,   8.0003,   -9.00
  316N145_7,       I08N,     345,          1,         23,         23,2,19950324,       1832,   -19.5005,    79.9997,       4840,   789.1,   6.1076,  34.4888,2,  34.4895,2,    170.4,2,   170.0,2,   35.98,2,   29.77,2,    0.00,2,    2.05,2,-999.000,9,-999.000,9,  -999.0,9,  -999.0,9,  -9.0000,9,-999.0000,9, -999.00,9, -999.00,9,  -999.0,9,  -999.0,-999.000,9,-999.000,-999.000,9,  -9.0000,-999.0000,   6.0364,   -9.00
  316N145_7,       I08N,     345,          1,         22,         22,2,19950324,       1832,   -19.5005,    79.9997,       4840,   888.2,   5.1399,  34.5267,2,  34.5303,2,    137.2,2,   137.9,2,   60.89,2,   33.88,2,    0.00,2,    2.38,2,-999.000,9,-999.000,9,  -999.0,9,  -999.0,9,  -9.0000,9,-999.0000,9, -999.00,9, -999.00,9,  -999.0,9,  -999.0,-999.000,9,-999.000,-999.000,9,  -9.0000,-999.0000,   5.0656,   -9.00
  316N145_7,       I08N,     345,          1,         21,         21,2,19950324,       1832,   -19.5005,    79.9997,       4840,   990.6,   4.7465,  34.5892,2,  34.5894,2,    120.2,2,   120.1,2,   77.03,2,   35.56,2,    0.00,2,    2.52,2,-999.000,9,-999.000,9,  -999.0,9,  -999.0,9,  -9.0000,9,-999.0000,9, -999.00,9, -999.00,9,  -999.0,9,  -999.0,-999.000,9,-999.000,-999.000,9,  -9.0000,-999.0000,   4.6658,   -9.00
  316N145_7,       I08N,     345,          1,         20,         20,2,19950324,       1832,   -19.5005,    79.9997,       4840,  1111.7,   4.2416,  34.6116,2,  34.6109,2,    122.6,2,   122.6,2,   84.37,2,   35.75,2,    0.00,2,    2.55,2,-999.000,9,-999.000,9,  -999.0,9,  -999.0,9,  -9.0000,9,-999.0000,9, -999.00,9, -999.00,9,  -999.0,9,  -999.0,-999.000,9,-999.000,-999.000,9,  -9.0000,-999.0000,   4.1544,   -9.00
  316N145_7,       I08N,     345,          1,         19,         19,2,19950324,       1832,   -19.5005,    79.9997,       4840,  1264.1,   3.8327,  34.6607,2,  34.6618,2,    123.3,2,   123.7,2,   92.96,2,   35.84,2,    0.00,2,    2.55,2,-999.000,9,-999.000,9,  -999.0,9,  -999.0,9,  -9.0000,9,-999.0000,9, -999.00,9, -999.00,9,  -999.0,9,  -999.0,-999.000,9,-999.000,-999.000,9,  -9.0000,-999.0000,   3.7359,   -9.00
  316N145_7,       I08N,     345,          1,         18,         18,2,19950324,       1832,   -19.5005,    79.9997,       4840,  1513.9,   3.4053,  34.7141,2,  34.7135,2,    127.2,2,   127.8,2,  103.23,2,   35.55,2,    0.00,2,    2.54,2,-999.000,9,-999.000,9,  -999.0,9,  -999.0,9,  -9.0000,9,-999.0000,9, -999.00,9, -999.00,9,  -999.0,9,  -999.0,-999.000,9,-999.000,-999.000,9,  -9.0000,-999.0000,   3.2913,   -9.00
  316N145_7,       I08N,     345,          1,         17,         17,2,19950324,       1832,   -19.5005,    79.9997,       4840,  1664.9,   3.0709,  34.7203,2,  34.7196,2,    134.3,2,   135.4,2,  106.70,2,   35.31,2,    0.00,2,    2.51,2,-999.000,9,-999.000,9,  -999.0,9,  -999.0,9,  -9.0000,9,-999.0000,9, -999.00,9, -999.00,9,  -999.0,9,  -999.0,-999.000,9,-999.000,-999.000,9,  -9.0000,-999.0000,   2.9479,   -9.00
  316N145_7,       I08N,     345,          1,         16,         16,2,19950324,       1832,   -19.5005,    79.9997,       4840,  1868.4,   2.6838,  34.7263,2,  34.7262,2,    145.3,2,   144.8,2,  110.38,2,   34.83,2,    0.00,2,    2.47,2,-999.000,9,-999.000,9,  -999.0,9,  -999.0,9,  -9.0000,9,-999.0000,9, -999.00,9, -999.00,9,  -999.0,9,  -999.0,-999.000,9,-999.000,-999.000,9,  -9.0000,-999.0000,   2.5483,   -9.00
  316N145_7,       I08N,     345,          1,         15,         15,2,19950324,       1832,   -19.5005,    79.9997,       4840,  2071.9,   2.3739,  34.7280,2,  34.7263,2,    153.9,2,   154.3,2,  112.82,2,   34.44,2,    0.00,2,    2.42,2,-999.000,9,-999.000,9,  -999.0,9,  -999.0,9,  -9.0000,9,-999.0000,9, -999.00,9, -999.00,9,  -999.0,9,  -999.0,-999.000,9,-999.000,-999.000,9,  -9.0000,-999.0000,   2.2252,   -9.00
  316N145_7,       I08N,     345,          1,         14,         14,2,19950324,       1832,   -19.5005,    79.9997,       4840,  2223.9,   2.1935,  34.7275,2,  34.7276,2,    160.5,2,   161.1,2,  114.00,2,   34.10,2,    0.00,2,    2.39,2,-999.000,9,-999.000,9,  -999.0,9,  -999.0,9,  -9.0000,9,-999.0000,9, -999.00,9, -999.00,9,  -999.0,9,  -999.0,-999.000,9,-999.000,-999.000,9,  -9.0000,-999.0000,   2.0343,   -9.00
  316N145_7,       I08N,     345,          1,         13,         13,2,19950324,       1832,   -19.5005,    79.9997,       4840,  2427.4,   2.0198,  34.7275,2,  34.7267,2,    167.9,2,   167.3,2,  114.57,2,   33.72,2,    0.00,2,    2.36,2,-999.000,9,-999.000,9,  -999.0,9,  -999.0,9,  -9.0000,9,-999.0000,9, -999.00,9, -999.00,9,  -999.0,9,  -999.0,-999.000,9,-999.000,-999.000,9,  -9.0000,-999.0000,   1.8455,   -9.00
  316N145_7,       I08N,     345,          1,         12,         12,2,19950324,       1832,   -19.5005,    79.9997,       4840,  2631.2,   1.8662,  34.7269,2,  34.7271,2,    174.3,2,   173.6,2,  115.13,2,   33.38,2,    0.00,2,    2.32,2,-999.000,9,-999.000,9,  -999.0,9,  -999.0,9,  -9.0000,9,-999.0000,9, -999.00,9, -999.00,9,  -999.0,9,  -999.0,-999.000,9,-999.000,-999.000,9,  -9.0000,-999.0000,   1.6761,   -9.00
  316N145_7,       I08N,     345,          1,         11,         11,2,19950324,       1832,   -19.5005,    79.9997,       4840,  2833.7,   1.7473,  34.7274,2,  34.7273,2,    177.5,2,   176.7,2,  116.94,2,   33.24,2,    0.00,2,    2.31,2,-999.000,9,-999.000,9,  -999.0,9,  -999.0,9,  -9.0000,9,-999.0000,9, -999.00,9, -999.00,9,  -999.0,9,  -999.0,-999.000,9,-999.000,-999.000,9,  -9.0000,-999.0000,   1.5407,   -9.00
  316N145_7,       I08N,     345,          1,         10,         10,2,19950324,       1832,   -19.5005,    79.9997,       4840,  3036.7,   1.6358,  34.7266,2,  34.7259,2,    179.2,2,   179.0,2,  120.22,2,   33.28,2,    0.00,2,    2.32,2,-999.000,9,-999.000,9,  -999.0,9,  -999.0,9,  -9.0000,9,-999.0000,9, -999.00,9, -999.00,9,  -999.0,9,  -999.0,-999.000,9,-999.000,-999.000,9,  -9.0000,-999.0000,   1.4123,   -9.00
  316N145_7,       I08N,     345,          1,          9,          9,2,19950324,       1832,   -19.5005,    79.9997,       4840,  3241.8,   1.5421,  34.7264,2,  34.7257,2,    183.2,2,   183.9,2,  120.37,2,   32.90,2,    0.00,2,    2.29,2,-999.000,9,-999.000,9,  -999.0,9,  -999.0,9,  -9.0000,9,-999.0000,9, -999.00,9, -999.00,9,  -999.0,9,  -999.0,-999.000,9,-999.000,-999.000,9,  -9.0000,-999.0000,   1.3006,   -9.00
  316N145_7,       I08N,     345,          1,          8,          8,2,19950324,       1832,   -19.5005,    79.9997,       4840,  3446.1,   1.4660,  34.7250,2,  34.7240,2,    183.3,2,   184.4,2,  123.03,2,   33.09,2,    0.00,2,    2.30,2,-999.000,9,-999.000,9,  -999.0,9,  -999.0,9,  -9.0000,9,-999.0000,9, -999.00,9, -999.00,9,  -999.0,9,  -999.0,-999.000,9,-999.000,-999.000,9,  -9.0000,-999.0000,   1.2060,   -9.00
  316N145_7,       I08N,     345,          1,          7,          7,2,19950324,       1832,   -19.5005,    79.9997,       4840,  3649.2,   1.4142,  34.7231,2,  34.7220,2,    184.5,2,   185.1,2,  125.06,2,   33.23,2,    0.00,2,    2.31,2,-999.000,9,-999.000,9,  -999.0,9,  -999.0,9,  -9.0000,9,-999.0000,9, -999.00,9, -999.00,9,  -999.0,9,  -999.0,-999.000,9,-999.000,-999.000,9,  -9.0000,-999.0000,   1.1347,   -9.00
  316N145_7,       I08N,     345,          1,          6,          6,2,19950324,       1832,   -19.5005,    79.9997,       4840,  3854.5,   1.3871,  34.7213,2,  34.7203,2,    185.0,2,   185.2,2,  126.89,2,   33.28,2,    0.00,2,    2.31,2,-999.000,9,-999.000,9,  -999.0,9,  -999.0,9,  -9.0000,9,-999.0000,9, -999.00,9, -999.00,9,  -999.0,9,  -999.0,-999.000,9,-999.000,-999.000,9,  -9.0000,-999.0000,   1.0867,   -9.00
  316N145_7,       I08N,     345,          1,          5,          5,2,19950324,       1832,   -19.5005,    79.9997,       4840,  4058.6,   1.3773,  34.7199,2,  34.7185,2,    184.0,2,   184.7,2,  128.72,2,   33.47,2,    0.00,2,    2.32,2,-999.000,9,-999.000,9,  -999.0,9,  -999.0,9,  -9.0000,9,-999.0000,9, -999.00,9, -999.00,9,  -999.0,9,  -999.0,-999.000,9,-999.000,-999.000,9,  -9.0000,-999.0000,   1.0552,   -9.00
  316N145_7,       I08N,     345,          1,          4,          4,2,19950324,       1832,   -19.5005,    79.9997,       4840,  4262.5,   1.3763,  34.7195,2,  34.7177,2,    184.3,2,   184.8,2,  129.50,2,   33.47,2,    0.00,2,    2.32,2,-999.000,9,-999.000,9,  -999.0,9,  -999.0,9,  -9.0000,9,-999.0000,9, -999.00,9, -999.00,9,  -999.0,9,  -999.0,-999.000,9,-999.000,-999.000,9,  -9.0000,-999.0000,   1.0318,   -9.00
  316N145_7,       I08N,     345,          1,          3,          3,2,19950324,       1832,   -19.5005,    79.9997,       4840,  4466.6,   1.3839,  34.7185,2,  34.7170,2,    183.8,2,   184.4,2,  130.70,2,   33.56,2,    0.00,2,    2.33,2,-999.000,9,-999.000,9,  -999.0,9,  -999.0,9,  -9.0000,9,-999.0000,9, -999.00,9, -999.00,9,  -999.0,9,  -999.0,-999.000,9,-999.000,-999.000,9,  -9.0000,-999.0000,   1.0161,   -9.00
  316N145_7,       I08N,     345,          1,          2,          2,2,19950324,       1832,   -19.5005,    79.9997,       4840,  4671.1,   1.3992,  34.7185,2,  34.7177,2,    183.7,2,   184.0,2,  131.26,2,   33.61,2,    0.00,2,    2.33,2,-999.000,9,-999.000,9,  -999.0,9,  -999.0,9,  -9.0000,9,-999.0000,9, -999.00,9, -999.00,9,  -999.0,9,  -999.0,-999.000,9,-999.000,-999.000,9,  -9.0000,-999.0000,   1.0074,   -9.00
  316N145_7,       I08N,     345,          1,          1,          1,2,19950324,       1832,   -19.5005,    79.9997,       4840,  4943.4,   1.4225,  34.7183,2,  34.7172,2,    184.7,2,   182.9,3,  131.40,2,   33.61,2,    0.00,2,    2.34,2,-999.000,9,-999.000,9,  -999.0,9,  -999.0,9,  -9.0000,9,-999.0000,9, -999.00,9, -999.00,9,  -999.0,9,  -999.0,-999.000,9,-999.000,-999.000,9,  -9.0000,-999.0000,   0.9975,   -9.00