BOTTLE,20211124CCHSIORKP
EXPOCODE,SECT_ID,STNNBR,CASTNO,SAMPNO,BTLNBR,BTLNBR_FLAG_W,DATE,TIME,LATITUDE,LONGITUDE,DEPTH,CTDPRS,CTDTMP,CTDSAL,CTDSAL_FLAG_W,SALNTY,SALNTY_FLAG_W,CTDOXY,CTDOXY_FLAG_W,OXYGEN,OXYGEN_FLAG_W,SILCAT,SILCAT_FLAG_W,NITRAT,NITRAT_FLAG_W,NITRIT,NITRIT_FLAG_W,PHSPHT,PHSPHT_FLAG_W,CFC-11,CFC-11_FLAG_W,CFC-12,CFC-12_FLAG_W,TCARBN,TCARBN_FLAG_W,ALKALI,ALKALI_FLAG_W,TRITUM,TRITUM_FLAG_W,HELIUM,HELIUM_FLAG_W,DELHE3,DELHE3_FLAG_W,DELC13,DELC13_FLAG_W,DELC14,DELC14_FLAG_W,C14ERR,NEON,NEON_FLAG_W,NEONER,CCL4,CCL4_FLAG_W,TRITER,HELIER,THETA,DELHER
,,,,,,,,,,,METERS,DBAR,ITS-90,PSS-78,,PSS-78,,UMOL/KG,,UMOL/KG,,UMOL/KG,,UMOL/KG,,UMOL/KG,,UMOL/KG,,PMOL/KG,,PMOL/KG,,UMOL/KG,,UMOL/KG,,TU,,NMOL/KG,,PERCNT,,/MILLE,,/MILLE,,/MILLE,NMOL/KG,,NMOL/KG,PMOL/KG,,TU,NMOL/KG,DEG C,PERCNT
  316N145_7,       I05E,     405,          1,         36,         36,9,19950406,       0702,   -33.7152,    94.3148,       4246,     0.5,  19.5971,  18.3059,4,-999.0000,9,   -999.0,5,  -999.0,9, -999.00,9, -999.00,9, -999.00,9, -999.00,9,-999.000,9,-999.000,9,  2107.8,4,  -999.0,5,  -9.0000,9,-999.0000,9, -999.00,9, -999.00,9,  -999.0,9,  -999.0,-999.000,9,-999.000,-999.000,9,  -9.0000,-999.0000,  19.5970,   -9.00
  316N145_7,       I05E,     405,          1,         35,         35,2,19950406,       0702,   -33.7152,    94.3148,       4246,    36.1,  19.6569,  35.4490,2,  35.4405,2,    236.1,2,   230.8,2,    1.96,2,    0.16,2,    0.00,2,    0.17,2,-999.000,9,-999.000,9,  -999.0,5,  2328.5,2,  -9.0000,9,-999.0000,9, -999.00,9, -999.00,9,  -999.0,9,  -999.0,-999.000,9,-999.000,-999.000,9,  -9.0000,-999.0000,  19.6503,   -9.00
  316N145_7,       I05E,     405,          1,         34,         34,2,19950406,       0702,   -33.7152,    94.3148,       4246,    66.1,  14.0689,  35.2231,2,  35.2024,2,    253.9,2,   256.9,2,    3.00,2,    3.07,2,    0.20,2,    0.45,2,-999.000,9,-999.000,9,  -999.0,9,  -999.0,9,  -9.0000,9,-999.0000,9, -999.00,9, -999.00,9,  -999.0,9,  -999.0,-999.000,9,-999.000,-999.000,9,  -9.0000,-999.0000,  14.0594,   -9.00
  316N145_7,       I05E,     405,          1,         33,         33,2,19950406,       0702,   -33.7152,    94.3148,       4246,   107.9,  13.1014,  35.2391,2,  35.2419,2,    237.2,2,   240.3,2,    3.19,2,    6.40,2,    0.02,2,    0.59,2,-999.000,9,-999.000,9,  -999.0,9,  -999.0,9,  -9.0000,9,-999.0000,9, -999.00,9, -999.00,9,  -999.0,9,  -999.0,-999.000,9,-999.000,-999.000,9,  -9.0000,-999.0000,  13.0865,   -9.00
  316N145_7,       I05E,     405,          1,         32,         32,2,19950406,       0702,   -33.7152,    94.3148,       4246,   157.9,  12.5632,  35.1702,2,  35.1714,2,    240.5,2,   242.4,2,    3.60,2,    7.59,2,    0.01,2,    0.65,2,-999.000,9,-999.000,9,  -999.0,9,  -999.0,9,  -9.0000,9,-999.0000,9, -999.00,9, -999.00,9,  -999.0,9,  -999.0,-999.000,9,-999.000,-999.000,9,  -9.0000,-999.0000,  12.5420,   -9.00
  316N145_7,       I05E,     405,          1,         31,         31,2,19950406,       0702,   -33.7152,    94.3148,       4246,   208.0,  12.0470,  35.0975,2,  35.1070,2,    242.6,2,   244.8,2,    4.00,2,    8.73,2,    0.01,2,    0.72,2,-999.000,9,-999.000,9,  -999.0,9,  -999.0,9,  -9.0000,9,-999.0000,9, -999.00,9, -999.00,9,  -999.0,9,  -999.0,-999.000,9,-999.000,-999.000,9,  -9.0000,-999.0000,  12.0198,   -9.00
  316N145_7,       I05E,     405,          1,         30,         30,2,19950406,       0702,   -33.7152,    94.3148,       4246,   256.0,  11.6917,  35.0409,2,  35.0463,2,    244.4,2,   246.3,2,    4.19,2,    9.67,2,    0.00,2,    0.78,2,-999.000,9,-999.000,9,  -999.0,9,  -999.0,9,  -9.0000,9,-999.0000,9, -999.00,9, -999.00,9,  -999.0,9,  -999.0,-999.000,9,-999.000,-999.000,9,  -9.0000,-999.0000,  11.6587,   -9.00
  316N145_7,       I05E,     405,          1,         29,         29,2,19950406,       0702,   -33.7152,    94.3148,       4246,   306.8,  11.3308,  34.9855,2,  34.9928,2,    248.8,2,   249.0,2,    4.59,2,   10.52,2,    0.00,2,    0.83,2,-999.000,9,-999.000,9,  -999.0,9,  -999.0,9,  -9.0000,9,-999.0000,9, -999.00,9, -999.00,9,  -999.0,9,  -999.0,-999.000,9,-999.000,-999.000,9,  -9.0000,-999.0000,  11.2921,   -9.00
  316N145_7,       I05E,     405,          1,         28,         28,2,19950406,       0702,   -33.7152,    94.3148,       4246,   381.7,  10.9515,  34.9347,2,  34.9369,2,    250.6,2,   249.9,2,    4.78,2,   11.36,2,    0.00,2,    0.87,2,-999.000,9,-999.000,9,  -999.0,9,  -999.0,9,  -9.0000,9,-999.0000,9, -999.00,9, -999.00,9,  -999.0,9,  -999.0,-999.000,9,-999.000,-999.000,9,  -9.0000,-999.0000,  10.9042,   -9.00
  316N145_7,       I05E,     405,          1,         27,         27,2,19950406,       0702,   -33.7152,    94.3148,       4246,   457.5,  10.6285,  34.8863,2,  34.8884,2,    251.1,2,   248.8,2,    4.76,2,   12.10,2,    0.00,2,    0.92,2,-999.000,9,-999.000,9,  -999.0,9,  -999.0,9,  -9.0000,9,-999.0000,9, -999.00,9, -999.00,9,  -999.0,9,  -999.0,-999.000,9,-999.000,-999.000,9,  -9.0000,-999.0000,  10.5727,   -9.00
  316N145_7,       I05E,     405,          1,         26,         26,2,19950406,       0702,   -33.7152,    94.3148,       4246,   534.1,  10.1673,  34.8148,2,  34.8178,2,    246.5,2,   243.5,2,    5.16,2,   13.54,2,    0.00,2,    1.01,2,-999.000,9,-999.000,9,  -999.0,9,  -999.0,9,  -9.0000,9,-999.0000,9, -999.00,9, -999.00,9,  -999.0,9,  -999.0,-999.000,9,-999.000,-999.000,9,  -9.0000,-999.0000,  10.1037,   -9.00
  316N145_7,       I05E,     405,          1,         25,         25,2,19950406,       0702,   -33.7152,    94.3148,       4246,   609.0,   9.6749,  34.7383,2,  34.7431,2,    242.4,2,   238.8,2,    5.57,2,   15.27,2,    0.00,2,    1.11,2,-999.000,9,-999.000,9,  -999.0,9,  -999.0,9,  -9.0000,9,-999.0000,9, -999.00,9, -999.00,9,  -999.0,9,  -999.0,-999.000,9,-999.000,-999.000,9,  -9.0000,-999.0000,   9.6044,   -9.00
  316N145_7,       I05E,     405,          1,         24,         24,2,19950406,       0702,   -33.7152,    94.3148,       4246,   711.4,   8.9017,  34.6359,2,  34.6395,2,    229.1,2,   226.4,2,    7.67,2,   18.58,2,    0.00,2,    1.31,2,-999.000,9,-999.000,9,  -999.0,9,  -999.0,9,  -9.0000,9,-999.0000,9, -999.00,9, -999.00,9,  -999.0,9,  -999.0,-999.000,9,-999.000,-999.000,9,  -9.0000,-999.0000,   8.8230,   -9.00
  316N145_7,       I05E,     405,          1,         23,         23,2,19950406,       0702,   -33.7152,    94.3148,       4246,   811.9,   7.7801,  34.5339,2,  34.5340,2,    211.7,2,   208.1,2,   13.60,2,   22.94,2,    0.00,2,    1.59,2,-999.000,9,-999.000,9,  -999.0,9,  -999.0,9,  -9.0000,9,-999.0000,9, -999.00,9, -999.00,9,  -999.0,9,  -999.0,-999.000,9,-999.000,-999.000,9,  -9.0000,-999.0000,   7.6966,   -9.00
  316N145_7,       I05E,     405,          1,         22,         22,2,19950406,       0702,   -33.7152,    94.3148,       4246,   908.9,   6.2980,  34.4372,2,  34.4376,2,    201.1,2,   199.7,2,   21.66,2,   27.02,2,    0.00,2,    1.87,2,-999.000,9,-999.000,9,  -999.0,9,  -999.0,9,  -9.0000,9,-999.0000,9, -999.00,9, -999.00,9,  -999.0,9,  -999.0,-999.000,9,-999.000,-999.000,9,  -9.0000,-999.0000,   6.2141,   -9.00
  316N145_7,       I05E,     405,          1,         21,         21,2,19950406,       0702,   -33.7152,    94.3148,       4246,  1010.6,   4.8672,  34.3830,2,  34.3834,2,    196.7,2,   195.0,2,   33.76,2,   30.31,2,    0.00,2,    2.10,2,-999.000,9,-999.000,9,  -999.0,9,  -999.0,9,  -9.0000,9,-999.0000,9, -999.00,9, -999.00,9,  -999.0,9,  -999.0,-999.000,9,-999.000,-999.000,9,  -9.0000,-999.0000,   4.7842,   -9.00
  316N145_7,       I05E,     405,          1,         20,         20,2,19950406,       0702,   -33.7152,    94.3148,       4246,  1110.8,   4.1942,  34.4040,2,  34.4038,2,    185.2,2,   182.3,2,   46.49,2,   32.31,2,    0.00,2,    2.26,2,-999.000,9,-999.000,9,  -999.0,9,  -999.0,9,  -9.0000,9,-999.0000,9, -999.00,9, -999.00,9,  -999.0,9,  -999.0,-999.000,9,-999.000,-999.000,9,  -9.0000,-999.0000,   4.1077,   -9.00
  316N145_7,       I05E,     405,          1,         19,         19,2,19950406,       0702,   -33.7152,    94.3148,       4246,  1214.0,   3.7487,  34.4403,2,  34.4399,2,    174.9,2,   172.4,2,   56.66,2,   33.52,2,    0.00,2,    2.36,2,-999.000,9,-999.000,9,  -999.0,9,  -999.0,9,  -9.0000,9,-999.0000,9, -999.00,9, -999.00,9,  -999.0,9,  -999.0,-999.000,9,-999.000,-999.000,9,  -9.0000,-999.0000,   3.6574,   -9.00
  316N145_7,       I05E,     405,          1,         18,         18,2,19950406,       0702,   -33.7152,    94.3148,       4246,  1363.4,   3.4433,  34.5072,2,  34.5070,2,    160.8,2,   159.4,2,   69.19,2,   34.47,2,    0.00,2,    2.44,2,-999.000,9,-999.000,9,  -999.0,9,  -999.0,9,  -9.0000,9,-999.0000,9, -999.00,9, -999.00,9,  -999.0,9,  -999.0,-999.000,9,-999.000,-999.000,9,  -9.0000,-999.0000,   3.3422,   -9.00
  316N145_7,       I05E,     405,          1,         17,         17,2,19950406,       0702,   -33.7152,    94.3148,       4246,  1515.3,   3.1423,  34.5607,2,  34.5594,2,    155.4,2,   155.0,2,   77.03,2,   34.62,2,    0.00,2,    2.46,2,-999.000,9,-999.000,9,  -999.0,9,  -999.0,9,  -9.0000,9,-999.0000,9, -999.00,9, -999.00,9,  -999.0,9,  -999.0,-999.000,9,-999.000,-999.000,9,  -9.0000,-999.0000,   3.0316,   -9.00
  316N145_7,       I05E,     405,          1,         16,         16,2,19950406,       0702,   -33.7152,    94.3148,       4246,  1666.6,   2.8858,  34.6122,2,  34.6110,2,    158.0,2,   157.7,2,   82.32,2,   34.27,2,    0.00,2,    2.42,2,-999.000,9,-999.000,9,  -999.0,9,  -999.0,9,  -9.0000,9,-999.0000,9, -999.00,9, -999.00,9,  -999.0,9,  -999.0,-999.000,9,-999.000,-999.000,9,  -9.0000,-999.0000,   2.7652,   -9.00
  316N145_7,       I05E,     405,          1,         15,         15,2,19950406,       0702,   -33.7152,    94.3148,       4246,  1823.2,   2.7091,  34.6518,2,  34.6523,2,    161.5,2,   160.6,2,   87.19,2,   33.82,2,    0.00,2,    2.38,2,-999.000,9,-999.000,9,  -999.0,9,  -999.0,9,  -9.0000,9,-999.0000,9, -999.00,9, -999.00,9,  -999.0,9,  -999.0,-999.000,9,-999.000,-999.000,9,  -9.0000,-999.0000,   2.5773,   -9.00
  316N145_7,       I05E,     405,          1,         14,         14,2,19950406,       0702,   -33.7152,    94.3148,       4246,  1971.0,   2.5489,  34.6802,2,  34.6797,2,    165.7,2,   165.8,2,   89.07,2,   33.22,2,    0.00,2,    2.34,2,-999.000,9,-999.000,9,  -999.0,9,  -999.0,9,  -9.0000,9,-999.0000,9, -999.00,9, -999.00,9,  -999.0,9,  -999.0,-999.000,9,-999.000,-999.000,9,  -9.0000,-999.0000,   2.4065,   -9.00
  316N145_7,       I05E,     405,          1,         13,         13,2,19950406,       0702,   -33.7152,    94.3148,       4246,  2123.5,   2.3846,  34.7051,2,  34.7043,2,    172.6,2,   173.3,2,   89.67,2,   32.47,2,    0.00,2,    2.27,2,-999.000,9,-999.000,9,  -999.0,9,  -999.0,9,  -9.0000,9,-999.0000,9, -999.00,9, -999.00,9,  -999.0,9,  -999.0,-999.000,9,-999.000,-999.000,9,  -9.0000,-999.0000,   2.2312,   -9.00
  316N145_7,       I05E,     405,          1,         12,         12,2,19950406,       0702,   -33.7152,    94.3148,       4246,  2275.3,   2.2627,  34.7238,2,  34.7245,2,    180.2,2,   181.9,2,   87.49,2,   31.53,2,    0.00,2,    2.20,2,-999.000,9,-999.000,9,  -999.0,9,  -999.0,9,  -9.0000,9,-999.0000,9, -999.00,9, -999.00,9,  -999.0,9,  -999.0,-999.000,9,-999.000,-999.000,9,  -9.0000,-999.0000,   2.0978,   -9.00
  316N145_7,       I05E,     405,          1,         11,         11,2,19950406,       0702,   -33.7152,    94.3148,       4246,  2428.5,   2.1236,  34.7397,2,  34.7390,2,    188.4,2,   189.0,2,   87.87,2,   30.88,2,    0.00,2,    2.15,2,-999.000,9,-999.000,9,  -999.0,9,  -999.0,9,  -9.0000,9,-999.0000,9, -999.00,9, -999.00,9,  -999.0,9,  -999.0,-999.000,9,-999.000,-999.000,9,  -9.0000,-999.0000,   1.9472,   -9.00
  316N145_7,       I05E,     405,          1,         10,         10,2,19950406,       0702,   -33.7152,    94.3148,       4246,  2580.9,   1.9810,  34.7451,2,  34.7447,2,    192.4,2,   192.7,2,   90.61,2,   30.73,2,    0.00,2,    2.13,2,-999.000,9,-999.000,9,  -999.0,9,  -999.0,9,  -9.0000,9,-999.0000,9, -999.00,9, -999.00,9,  -999.0,9,  -999.0,-999.000,9,-999.000,-999.000,9,  -9.0000,-999.0000,   1.7932,   -9.00
  316N145_7,       I05E,     405,          1,          9,          9,2,19950406,       0702,   -33.7152,    94.3148,       4246,  2733.4,   1.7957,  34.7425,2,  34.7417,2,    195.0,2,   194.8,2,   97.20,2,   30.98,2,    0.00,2,    2.15,2,-999.000,9,-999.000,9,  -999.0,9,  -999.0,9,  -9.0000,9,-999.0000,9, -999.00,9, -999.00,9,  -999.0,9,  -999.0,-999.000,9,-999.000,-999.000,9,  -9.0000,-999.0000,   1.5975,   -9.00
  316N145_7,       I05E,     405,          1,          8,          8,2,19950406,       0702,   -33.7152,    94.3148,       4246,  2886.1,   1.6489,  34.7402,2,  34.7396,2,    197.3,2,   197.1,2,  101.01,2,   31.04,2,    0.00,2,    2.15,2,-999.000,9,-999.000,9,  -999.0,9,  -999.0,9,  -9.0000,9,-999.0000,9, -999.00,9, -999.00,9,  -999.0,9,  -999.0,-999.000,9,-999.000,-999.000,9,  -9.0000,-999.0000,   1.4394,   -9.00
  316N145_7,       I05E,     405,          1,          7,          7,2,19950406,       0702,   -33.7152,    94.3148,       4246,  3088.1,   1.4706,  34.7349,2,  34.7346,2,    199.4,2,   199.8,2,  105.91,2,   31.24,2,    0.00,2,    2.17,2,-999.000,9,-999.000,9,  -999.0,9,  -999.0,9,  -9.0000,9,-999.0000,9, -999.00,9, -999.00,9,  -999.0,9,  -999.0,-999.000,9,-999.000,-999.000,9,  -9.0000,-999.0000,   1.2457,   -9.00
  316N145_7,       I05E,     405,          1,          6,          6,2,19950406,       0702,   -33.7152,    94.3148,       4246,  3294.2,   1.3185,  34.7284,2,  34.7287,2,    202.0,2,   201.8,2,  110.17,2,   31.44,2,    0.00,2,    2.18,2,-999.000,9,-999.000,9,  -999.0,9,  -999.0,9,  -9.0000,9,-999.0000,9, -999.00,9, -999.00,9,  -999.0,9,  -999.0,-999.000,9,-999.000,-999.000,9,  -9.0000,-999.0000,   1.0772,   -9.00
  316N145_7,       I05E,     405,          1,          5,          5,2,19950406,       0702,   -33.7152,    94.3148,       4246,  3496.9,   1.2022,  34.7236,2,  34.7230,2,    203.0,2,   203.4,2,  114.01,2,   31.70,2,    0.00,2,    2.21,2,-999.000,9,-999.000,9,  -999.0,9,  -999.0,9,  -9.0000,9,-999.0000,9, -999.00,9, -999.00,9,  -999.0,9,  -999.0,-999.000,9,-999.000,-999.000,9,  -9.0000,-999.0000,   0.9437,   -9.00
  316N145_7,       I05E,     405,          1,          4,          4,2,19950406,       0702,   -33.7152,    94.3148,       4246,  3699.4,   1.1190,  34.7187,2,  34.7184,2,    205.0,2,   204.8,2,  116.55,2,   31.80,2,    0.00,2,    2.21,2,-999.000,9,-999.000,9,  -999.0,9,  -999.0,9,  -9.0000,9,-999.0000,9, -999.00,9, -999.00,9,  -999.0,9,  -999.0,-999.000,9,-999.000,-999.000,9,  -9.0000,-999.0000,   0.8421,   -9.00
  316N145_7,       I05E,     405,          1,          3,          3,2,19950406,       0702,   -33.7152,    94.3148,       4246,  3907.0,   1.0613,  34.7148,2,  34.7147,2,    205.3,2,   205.4,2,  118.45,2,   32.05,2,    0.00,2,    2.22,2,-999.000,9,-999.000,9,  -999.0,9,  -999.0,9,  -9.0000,9,-999.0000,9, -999.00,9, -999.00,9,  -999.0,9,  -999.0,-999.000,9,-999.000,-999.000,9,  -9.0000,-999.0000,   0.7645,   -9.00
  316N145_7,       I05E,     405,          1,          2,          2,2,19950406,       0702,   -33.7152,    94.3148,       4246,  4156.0,   1.0577,  34.7136,2,  34.7145,2,    205.9,2,   206.1,2,  118.84,2,   32.10,2,    0.00,2,    2.22,2,-999.000,9,-999.000,9,  -999.0,9,  -999.0,9,  -9.0000,9,-999.0000,9, -999.00,9, -999.00,9,  -999.0,9,  -999.0,-999.000,9,-999.000,-999.000,9,  -9.0000,-999.0000,   0.7344,   -9.00
  316N145_7,       I05E,     405,          1,          1,          1,2,19950406,       0702,   -33.7152,    94.3148,       4246,  4385.2,   1.0608,  34.7131,2,  34.7145,2,    206.4,2,   205.8,2,  119.65,2,   32.16,2,    0.00,2,    2.23,2,-999.000,9,-999.000,9,  -999.0,9,  -999.0,9,  -9.0000,9,-999.0000,9, -999.00,9, -999.00,9,  -999.0,9,  -999.0,-999.000,9,-999.000,-999.000,9,  -9.0000,-999.0000,   0.7122,   -9.00