BOTTLE,20211124CCHSIORKP
EXPOCODE,SECT_ID,STNNBR,CASTNO,SAMPNO,BTLNBR,BTLNBR_FLAG_W,DATE,TIME,LATITUDE,LONGITUDE,DEPTH,CTDPRS,CTDTMP,CTDSAL,CTDSAL_FLAG_W,SALNTY,SALNTY_FLAG_W,CTDOXY,CTDOXY_FLAG_W,OXYGEN,OXYGEN_FLAG_W,SILCAT,SILCAT_FLAG_W,NITRAT,NITRAT_FLAG_W,NITRIT,NITRIT_FLAG_W,PHSPHT,PHSPHT_FLAG_W,CFC-11,CFC-11_FLAG_W,CFC-12,CFC-12_FLAG_W,TCARBN,TCARBN_FLAG_W,ALKALI,ALKALI_FLAG_W,TRITUM,TRITUM_FLAG_W,HELIUM,HELIUM_FLAG_W,DELHE3,DELHE3_FLAG_W,DELC13,DELC13_FLAG_W,DELC14,DELC14_FLAG_W,C14ERR,NEON,NEON_FLAG_W,NEONER,CCL4,CCL4_FLAG_W,TRITER,HELIER,THETA,DELHER
,,,,,,,,,,,METERS,DBAR,ITS-90,PSS-78,,PSS-78,,UMOL/KG,,UMOL/KG,,UMOL/KG,,UMOL/KG,,UMOL/KG,,UMOL/KG,,PMOL/KG,,PMOL/KG,,UMOL/KG,,UMOL/KG,,TU,,NMOL/KG,,PERCNT,,/MILLE,,/MILLE,,/MILLE,NMOL/KG,,NMOL/KG,PMOL/KG,,TU,NMOL/KG,DEG C,PERCNT
  316N145_7,       I08N,     292,          1,         36,         36,2,19950312,       1938,     3.0007,    80.0012,       4320,     2.4,  29.5978,  34.7047,2,  34.7009,2,    195.1,2,   195.8,2,    2.77,2,    0.05,2,    0.00,2,    0.13,2,   1.654,2,   0.937,2,  1919.3,2,  2274.4,2,   1.0599,2,   1.6840,2,   -0.58,2, -999.00,9,  -999.0,9,  -999.0,   6.573,2,   0.033,-999.000,9,   0.0039,   0.0084,  29.5972,    0.14
  316N145_7,       I08N,     292,          1,         35,         35,2,19950312,       1938,     3.0007,    80.0012,       4320,    24.8,  29.2089,  34.6887,2,  34.6867,2,    193.5,2,   196.3,2,    2.76,2,    0.04,2,    0.00,2,    0.13,2,-999.000,9,-999.000,9,  1917.8,2,  2271.5,2,  -9.0000,9,-999.0000,9, -999.00,9, -999.00,9,  -999.0,9,  -999.0,-999.000,9,-999.000,-999.000,9,  -9.0000,-999.0000,  29.2028,   -9.00
  316N145_7,       I08N,     292,          1,         34,         34,2,19950312,       1938,     3.0007,    80.0012,       4320,    44.5,  29.0523,  34.6645,2,  34.6569,2,    194.4,2,   196.2,2,    2.95,2,    0.04,2,    0.00,2,    0.13,2,   1.643,2,   0.936,2,  1919.5,2,  2282.7,2,   1.0653,2,   1.6768,2,   -0.89,2, -999.00,9,  -999.0,9,  -999.0,   6.558,2,   0.033,-999.000,9,   0.0039,   0.0084,  29.0415,    0.14
  316N145_7,       I08N,     292,          1,         33,         33,2,19950312,       1938,     3.0007,    80.0012,       4320,    85.1,  23.6437,  35.3723,2,  35.3743,2,    117.3,2,   117.2,2,    9.28,2,   11.51,2,    0.43,2,    0.93,2,   1.488,2,   0.799,2,  2079.6,2,  2315.4,2,   0.8735,2,   1.7078,2,    1.28,2, -999.00,9,  -999.0,9,  -999.0,   6.850,2,   0.034,-999.000,9,   0.0035,   0.0085,  23.6259,    0.14
  316N145_7,       I08N,     292,          1,         32,         32,2,19950312,       1938,     3.0007,    80.0012,       4320,   115.2,  19.7398,  35.2679,2,  35.2507,2,     79.2,2,    77.8,2,   14.80,2,   18.96,2,    0.04,2,    1.37,2,   1.265,2,   0.666,2,  2136.0,2,  2313.0,2,   0.7940,2,   1.7291,2,    3.20,2, -999.00,9,  -999.0,9,  -999.0,   7.044,2,   0.035,-999.000,9,   0.0034,   0.0086,  19.7187,    0.14
  316N145_7,       I08N,     292,          1,         31,         31,2,19950312,       1938,     3.0007,    80.0012,       4320,   145.0,  16.9254,  35.1968,2,  35.1633,2,     61.0,2,    59.6,2,   19.91,2,   23.29,2,    0.03,2,    1.67,2,-999.000,9,-999.000,9,  2172.8,2,  2313.5,2,  -9.0000,9,-999.0000,9, -999.00,9, -999.00,9,  -999.0,9,  -999.0,-999.000,9,-999.000,-999.000,9,  -9.0000,-999.0000,  16.9015,   -9.00
  316N145_7,       I08N,     292,          1,         30,         30,2,19950312,       1938,     3.0007,    80.0012,       4320,   185.2,  14.5659,  35.1538,2,  35.1840,2,     69.6,2,    75.5,2,   19.89,2,   23.03,2,    0.01,2,    1.65,2,   1.044,2,   0.520,2,  2180.0,2,  2317.0,2,   0.6227,2,   1.7445,2,    4.68,2, -999.00,9,  -999.0,9,  -999.0,   7.246,2,   0.036,-999.000,9,   0.0031,   0.0087,  14.5384,    0.14
  316N145_7,       I08N,     292,          1,         29,         29,2,19950312,       1938,     3.0007,    80.0012,       4320,   225.3,  12.9842,  35.1040,2,  35.1052,2,     60.0,2,    57.1,2,   25.21,2,   27.36,2,    0.01,2,    1.93,2,   0.604,2,   0.302,2,  2211.3,2,  2316.2,2,   0.4155,2,   1.7505,2,    5.24,2, -999.00,9,  -999.0,9,  -999.0,   7.313,2,   0.037,-999.000,9,   0.0028,   0.0088,  12.9531,    0.14
  316N145_7,       I08N,     292,          1,         28,         28,2,19950312,       1938,     3.0007,    80.0012,       4320,   276.4,  12.1405,  35.0800,2,  35.0794,2,     61.2,2,    67.6,2,   25.19,2,   27.41,2,    0.01,2,    1.92,2,   0.531,6,   0.265,6,  2211.6,2,  2319.1,2,   0.3598,2,   1.7530,2,    4.80,2, -999.00,9,  -999.0,9,  -999.0,   7.331,2,   0.037,-999.000,9,   0.0027,   0.0088,  12.1040,    0.14
  316N145_7,       I08N,     292,          1,         27,         27,2,19950312,       1938,     3.0007,    80.0012,       4320,   325.9,  11.4991,  35.0626,2,  35.0619,2,     49.5,2,    52.4,2,   30.50,2,   30.12,2,    0.00,2,    2.11,2,-999.000,9,-999.000,9,  2230.3,2,  2319.6,2,  -9.0000,9,-999.0000,9, -999.00,9, -999.00,9,  -999.0,9,  -999.0,-999.000,9,-999.000,-999.000,9,  -9.0000,-999.0000,  11.4575,   -9.00
  316N145_7,       I08N,     292,          1,         26,         26,2,19950312,       1938,     3.0007,    80.0012,       4320,   376.0,  10.8833,  35.0567,2,  35.0542,2,     43.7,2,    42.2,2,   35.20,2,   31.94,2,    0.00,2,    2.25,2,   0.238,2,   0.134,2,  2243.7,2,  2320.5,2,   0.1773,2,   1.7693,2,    5.28,2, -999.00,9,  -999.0,9,  -999.0,   7.432,2,   0.037,-999.000,9,   0.0024,   0.0088,  10.8368,    0.14
  316N145_7,       I08N,     292,          1,         25,         25,2,19950312,       1938,     3.0007,    80.0012,       4320,   426.5,  10.3462,  35.0455,2,  35.0434,2,     32.2,2,    36.5,2,   41.12,2,   33.45,2,    0.00,2,    2.40,2,-999.000,9,-999.000,9,  2255.2,2,  2325.7,2,   0.1159,2,   1.7730,2,    5.61,2, -999.00,9,  -999.0,9,  -999.0,   7.463,2,   0.037,-999.000,9,   0.0023,   0.0089,  10.2951,    0.14
  316N145_7,       I08N,     292,          1,         24,         24,2,19950312,       1938,     3.0007,    80.0012,       4320,   526.7,   9.5904,  35.0410,2,  35.0393,2,     34.0,2,    35.5,2,   49.71,2,   34.63,2,    0.00,2,    2.54,2,   0.063,6,   0.026,6,  2268.0,2,  2335.5,2,  -9.0000,9,-999.0000,9, -999.00,9, -999.00,9,  -999.0,9,  -999.0,-999.000,9,-999.000,-999.000,9,  -9.0000,-999.0000,   9.5298,   -9.00
  316N145_7,       I08N,     292,          1,         23,         23,2,19950312,       1938,     3.0007,    80.0012,       4320,   627.2,   8.7629,  35.0169,2,  35.0157,2,     46.3,2,    48.1,2,   56.86,2,   34.86,2,    0.00,2,    2.59,2,-999.000,9,-999.000,9,  2272.4,2,  2343.5,2,   0.0456,2,   1.8013,2,    7.20,2, -999.00,9,  -999.0,9,  -999.0,   7.576,2,   0.038,-999.000,9,   0.0022,   0.0090,   8.6942,    0.14
  316N145_7,       I08N,     292,          1,         22,         22,2,19950312,       1938,     3.0007,    80.0012,       4320,   728.0,   8.4141,  35.0120,2,  35.0116,2,     44.9,2,    45.2,2,   61.76,2,   35.43,2,    0.00,2,    2.64,2,   0.063,2,   0.027,2,  2279.6,2,  2345.6,2,  -9.0000,9,-999.0000,9, -999.00,9, -999.00,9,  -999.0,9,  -999.0,-999.000,9,-999.000,-999.000,9,  -9.0000,-999.0000,   8.3357,   -9.00
  316N145_7,       I08N,     292,          1,         21,         21,2,19950312,       1938,     3.0007,    80.0012,       4320,   828.3,   7.9776,  35.0030,2,  35.0021,2,     42.8,2,    41.3,2,   68.93,2,   36.24,2,    0.00,2,    2.71,2,   0.014,2,   0.005,2,  2290.7,2,  2354.6,2,   0.0203,2,   1.8047,2,    9.06,2, -999.00,9,  -999.0,9,  -999.0,   7.611,2,   0.038,-999.000,9,   0.0022,   0.0090,   7.8905,    0.14
  316N145_7,       I08N,     292,          1,         20,         20,2,19950312,       1938,     3.0007,    80.0012,       4320,   929.1,   7.2765,  34.9690,2,  34.9691,2,     44.0,2,    43.5,2,   78.36,2,   37.04,2,    0.00,2,    2.77,2,   0.014,2,   0.006,2,  2301.6,2,  2371.0,2,  -9.0000,9,-999.0000,9, -999.00,9, -999.00,9,  -999.0,9,  -999.0,-999.000,9,-999.000,-999.000,9,  -9.0000,-999.0000,   7.1831,   -9.00
  316N145_7,       I08N,     292,          1,         19,         19,2,19950312,       1938,     3.0007,    80.0012,       4320,  1009.5,   6.7723,  34.9504,2,  34.9492,2,     48.8,2,    48.3,2,   83.69,2,   37.19,2,    0.00,2,    2.79,2,-999.000,9,-999.000,9,  2304.7,2,  2371.1,2,   0.0073,2,   1.8213,2,   10.79,2, -999.00,9,  -999.0,9,  -999.0,   7.680,2,   0.038,-999.000,9,   0.0022,   0.0091,   6.6740,    0.14
  316N145_7,       I08N,     292,          1,         18,         18,2,19950312,       1938,     3.0007,    80.0012,       4320,  1109.8,   6.1691,  34.9194,2,  34.9199,2,     59.0,2,    55.9,2,   91.10,2,   37.38,2,    0.00,2,    2.80,2,   0.003,2,   0.002,2,  2310.6,2,  2377.6,2,  -9.0000,9,-999.0000,9, -999.00,9, -999.00,9,  -999.0,9,  -999.0,-999.000,9,-999.000,-999.000,9,  -9.0000,-999.0000,   6.0653,   -9.00
  316N145_7,       I08N,     292,          1,         17,         17,2,19950312,       1938,     3.0007,    80.0012,       4320,  1261.4,   5.3153,  34.8847,2,  34.8855,2,     69.4,2,    68.4,2,   99.77,2,   37.33,2,    0.00,2,    2.80,2,-999.000,9,-999.000,9,  2315.2,2,  2386.7,2,  -9.0000,9,-999.0000,9, -999.00,9, -999.00,9,  -999.0,9,  -999.0,-999.000,9,-999.000,-999.000,9,  -9.0000,-999.0000,   5.2041,   -9.00
  316N145_7,       I08N,     292,          1,         16,         16,2,19950312,       1938,     3.0007,    80.0012,       4320,  1412.9,   4.6667,  34.8611,2,  34.8598,2,     81.6,2,    81.6,2,  105.77,2,   37.05,2,    0.00,2,    2.77,2,   0.001,2,   0.003,2,  2316.1,2,  2396.2,2,   0.0001,2,   1.8560,2,   12.60,2, -999.00,9,  -999.0,9,  -999.0,   7.865,2,   0.039,-999.000,9,   0.0022,   0.0093,   4.5475,    0.14
  316N145_7,       I08N,     292,          1,         15,         15,2,19950312,       1938,     3.0007,    80.0012,       4320,  1565.1,   3.9820,  34.8294,2,  34.8320,2,     95.1,2,    95.4,2,  111.80,2,   36.72,2,    0.00,2,    2.73,2,  -0.005,2,   0.001,2,  2317.4,2,  2337.6,4,  -9.0000,9,-999.0000,9, -999.00,9, -999.00,9,  -999.0,9,  -999.0,-999.000,9,-999.000,-999.000,9,  -9.0000,-999.0000,   3.8564,   -9.00
  316N145_7,       I08N,     292,          1,         14,         14,2,19950312,       1938,     3.0007,    80.0012,       4320,  1767.0,   3.3070,  34.8036,2,  34.8024,2,    110.4,2,   111.1,2,  118.27,2,   36.25,2,    0.00,2,    2.66,2,  -0.002,2,   0.001,2,  2317.9,2,  -999.0,5,  -0.0012,2,-999.0000,9, -999.00,9, -999.00,9,  -999.0,9,  -999.0,-999.000,9,-999.000,-999.000,9,   0.0022,-999.0000,   3.1717,   -9.00
  316N145_7,       I08N,     292,          1,         13,         13,2,19950312,       1938,     3.0007,    80.0012,       4320,  1969.5,   2.8129,  34.7809,2,  34.7803,2,    121.7,2,   123.4,2,  124.15,2,   35.88,2,    0.00,2,    2.61,2,-999.000,9,-999.000,9,  2318.7,2,  2409.4,2,   0.0000,2,   1.8345,2,   13.94,2, -999.00,9,  -999.0,9,  -999.0,   7.849,2,   0.039,-999.000,9,   0.0022,   0.0092,   2.6664,    0.14
  316N145_7,       I08N,     292,          1,         12,         12,2,19950312,       1938,     3.0007,    80.0012,       4320,  2172.0,   2.4418,  34.7652,2,  34.7642,2,    129.8,2,   132.5,2,  128.57,2,   35.55,2,    0.00,2,    2.58,2,-999.000,9,-999.000,9,  2318.8,2,  2411.4,2,  -9.0000,9,-999.0000,9, -999.00,9, -999.00,9,  -999.0,9,  -999.0,-999.000,9,-999.000,-999.000,9,  -9.0000,-999.0000,   2.2831,   -9.00
  316N145_7,       I08N,     292,          1,         11,         11,2,19950312,       1938,     3.0007,    80.0012,       4320,  2375.0,   2.2108,  34.7539,2,  34.7532,2,    139.3,2,   140.1,2,  130.67,2,   35.31,2,    0.00,2,    2.54,2,   0.000,2,   0.002,2,  2318.5,2,  2413.7,2,  -9.0000,9,-999.0000,9, -999.00,9, -999.00,9,  -999.0,9,  -999.0,-999.000,9,-999.000,-999.000,9,  -9.0000,-999.0000,   2.0377,   -9.00
  316N145_7,       I08N,     292,          1,         10,         10,2,19950312,       1938,     3.0007,    80.0012,       4320,  2577.5,   2.0115,  34.7447,2,  34.7440,2,    147.2,2,   146.9,2,  131.70,2,   35.03,2,    0.00,2,    2.52,2,   0.000,2,   0.000,2,  2315.6,2,  2422.0,2,  -9.0000,9,-999.0000,9, -999.00,9, -999.00,9,  -999.0,9,  -999.0,-999.000,9,-999.000,-999.000,9,  -9.0000,-999.0000,   1.8235,   -9.00
  316N145_7,       I08N,     292,          1,          9,          9,2,19950312,       1938,     3.0007,    80.0012,       4320,  2781.0,   1.8448,  34.7378,2,  34.7365,2,    150.7,2,   150.9,2,  134.66,2,   34.89,2,    0.00,2,    2.49,2,-999.000,9,-999.000,9,  2317.2,2,  1996.0,4,  -9.0000,9,-999.0000,9, -999.00,9, -999.00,9,  -999.0,9,  -999.0,-999.000,9,-999.000,-999.000,9,  -9.0000,-999.0000,   1.6411,   -9.00
  316N145_7,       I08N,     292,          1,          8,          8,2,19950312,       1938,     3.0007,    80.0012,       4320,  2984.6,   1.7213,  34.7327,2,  34.7318,2,    153.8,2,   154.5,2,  136.77,2,   34.80,2,    0.00,2,    2.48,2,  -0.002,2,   0.001,2,  2318.4,2,  2423.0,2,  -9.0000,9,-999.0000,9, -999.00,9, -999.00,9,  -999.0,9,  -999.0,-999.000,9,-999.000,-999.000,9,  -9.0000,-999.0000,   1.5008,   -9.00
  316N145_7,       I08N,     292,          1,          7,          7,2,19950312,       1938,     3.0007,    80.0012,       4320,  3188.7,   1.6112,  34.7281,2,  34.7279,2,    157.1,2,   157.3,2,  138.68,2,   34.70,2,    0.00,2,    2.47,2,   0.001,2,   0.004,2,  2319.0,2,  2426.0,2,  -9.0000,9,-999.0000,9, -999.00,9, -999.00,9,  -999.0,9,  -999.0,-999.000,9,-999.000,-999.000,9,  -9.0000,-999.0000,   1.3734,   -9.00
  316N145_7,       I08N,     292,          1,          6,          6,2,19950312,       1938,     3.0007,    80.0012,       4320,  3392.3,   1.5156,  34.7247,2,  34.7240,2,    158.0,2,   157.7,2,  142.31,2,   34.80,2,    0.00,2,    2.47,2,   0.021,3,   0.001,2,  2324.5,2,  2433.8,2,  -9.0000,9,-999.0000,9, -999.00,9, -999.00,9,  -999.0,9,  -999.0,-999.000,9,-999.000,-999.000,9,  -9.0000,-999.0000,   1.2597,   -9.00
  316N145_7,       I08N,     292,          1,          5,          5,2,19950312,       1938,     3.0007,    80.0012,       4320,  3596.0,   1.4452,  34.7220,2,  34.7211,2,    161.4,2,   160.8,2,  143.36,2,   34.71,2,    0.00,2,    2.46,2,-999.000,9,-999.000,9,  2324.4,2,  -999.0,5,  -9.0000,9,-999.0000,9, -999.00,9, -999.00,9,  -999.0,9,  -999.0,-999.000,9,-999.000,-999.000,9,  -9.0000,-999.0000,   1.1704,   -9.00
  316N145_7,       I08N,     292,          1,          4,          4,2,19950312,       1938,     3.0007,    80.0012,       4320,  3799.9,   1.4271,  34.7213,2,  34.7203,2,    164.0,2,   163.7,2,  142.68,2,   34.61,2,    0.00,2,    2.43,2,  -0.001,2,   0.001,2,  2321.8,2,  2437.0,2,  -9.0000,9,-999.0000,9, -999.00,9, -999.00,9,  -999.0,9,  -999.0,-999.000,9,-999.000,-999.000,9,  -9.0000,-999.0000,   1.1315,   -9.00
  316N145_7,       I08N,     292,          1,          3,          3,2,19950312,       1938,     3.0007,    80.0012,       4320,  4003.9,   1.4128,  34.7198,2,  34.7187,2,    167.9,2,   167.9,2,  140.93,2,   34.43,2,    0.00,2,    2.43,2,  -0.001,2,   0.000,2,  2317.3,2,  2433.0,2,  -9.0000,9,-999.0000,9, -999.00,9, -999.00,9,  -999.0,9,  -999.0,-999.000,9,-999.000,-999.000,9,  -9.0000,-999.0000,   1.0957,   -9.00
  316N145_7,       I08N,     292,          1,          2,          2,2,19950312,       1938,     3.0007,    80.0012,       4320,  4206.4,   1.4227,  34.7200,2,  34.7189,2,    169.9,2,   170.1,2,  139.61,2,   34.29,2,    0.00,2,    2.41,2,   0.008,3,  -0.001,2,  2314.5,2,  2431.6,2,  -9.0000,9,-999.0000,9, -999.00,9, -999.00,9,  -999.0,9,  -999.0,-999.000,9,-999.000,-999.000,9,  -9.0000,-999.0000,   1.0831,   -9.00
  316N145_7,       I08N,     292,          1,          1,          1,2,19950312,       1938,     3.0007,    80.0012,       4320,  4388.6,   1.4087,  34.7190,2,  34.7178,2,    174.4,2,   174.3,2,  137.43,2,   33.96,2,    0.00,2,    2.39,2,   0.001,2,   0.000,2,  2310.5,2,  2425.2,2,  -9.0000,9,-999.0000,9, -999.00,9, -999.00,9,  -999.0,9,  -999.0,-999.000,9,-999.000,-999.000,9,  -9.0000,-999.0000,   1.0491,   -9.00