BOTTLE,20211124CCHSIORKP
EXPOCODE,SECT_ID,STNNBR,CASTNO,SAMPNO,BTLNBR,BTLNBR_FLAG_W,DATE,TIME,LATITUDE,LONGITUDE,DEPTH,CTDPRS,CTDTMP,CTDSAL,CTDSAL_FLAG_W,SALNTY,SALNTY_FLAG_W,CTDOXY,CTDOXY_FLAG_W,OXYGEN,OXYGEN_FLAG_W,SILCAT,SILCAT_FLAG_W,NITRAT,NITRAT_FLAG_W,NITRIT,NITRIT_FLAG_W,PHSPHT,PHSPHT_FLAG_W,CFC-11,CFC-11_FLAG_W,CFC-12,CFC-12_FLAG_W,TCARBN,TCARBN_FLAG_W,ALKALI,ALKALI_FLAG_W,TRITUM,TRITUM_FLAG_W,HELIUM,HELIUM_FLAG_W,DELHE3,DELHE3_FLAG_W,DELC13,DELC13_FLAG_W,DELC14,DELC14_FLAG_W,C14ERR,NEON,NEON_FLAG_W,NEONER,CCL4,CCL4_FLAG_W,TRITER,HELIER,THETA,DELHER
,,,,,,,,,,,METERS,DBAR,ITS-90,PSS-78,,PSS-78,,UMOL/KG,,UMOL/KG,,UMOL/KG,,UMOL/KG,,UMOL/KG,,UMOL/KG,,PMOL/KG,,PMOL/KG,,UMOL/KG,,UMOL/KG,,TU,,NMOL/KG,,PERCNT,,/MILLE,,/MILLE,,/MILLE,NMOL/KG,,NMOL/KG,PMOL/KG,,TU,NMOL/KG,DEG C,PERCNT
  316N145_7,       I05E,     428,          1,         36,         36,2,19950411,       2253,   -31.3328,   108.3002,       5198,     2.6,  21.3380,  36.1656,2,  36.1640,2,    221.5,2,   222.4,2,    3.34,2,    0.10,2,    0.00,2,    0.06,2,   2.200,2,   1.192,2,  2056.5,2,  2372.2,2,  -9.0000,9,-999.0000,9, -999.00,9, -999.00,9,  -999.0,9,  -999.0,-999.000,9,-999.000,-999.000,9,  -9.0000,-999.0000,  21.3375,   -9.00
  316N145_7,       I05E,     428,          1,         35,         35,2,19950411,       2253,   -31.3328,   108.3002,       5198,    38.3,  20.7434,  36.1355,2,  36.1316,2,    230.4,2,   226.0,2,    3.33,2,    0.10,2,    0.00,2,    0.06,2,-999.000,9,-999.000,9,  2049.7,2,  2373.7,2,  -9.0000,9,-999.0000,9, -999.00,9, -999.00,9,  -999.0,9,  -999.0,-999.000,9,-999.000,-999.000,9,  -9.0000,-999.0000,  20.7361,   -9.00
  316N145_7,       I05E,     428,          1,         34,         34,2,19950411,       2253,   -31.3328,   108.3002,       5198,    68.3,  20.1375,  36.0989,2,  36.1095,2,    244.0,2,   227.6,2,    3.10,2,    0.06,2,    0.00,2,    0.07,2,   2.329,2,   1.234,2,  2053.6,2,  2363.6,2,  -9.0000,9,-999.0000,9, -999.00,9, -999.00,9,  -999.0,9,  -999.0,-999.000,9,-999.000,-999.000,9,  -9.0000,-999.0000,  20.1248,   -9.00
  316N145_7,       I05E,     428,          1,         33,         33,2,19950411,       2253,   -31.3328,   108.3002,       5198,   107.9,  15.6766,  35.6038,2,  35.6057,2,    248.6,2,   247.1,2,    2.44,2,    0.17,2,    0.03,2,    0.21,2,   2.852,2,   1.479,2,  2066.2,2,  2339.6,2,  -9.0000,9,-999.0000,9, -999.00,9, -999.00,9,  -999.0,9,  -999.0,-999.000,9,-999.000,-999.000,9,  -9.0000,-999.0000,  15.6597,   -9.00
  316N145_7,       I05E,     428,          1,         32,         32,2,19950411,       2253,   -31.3328,   108.3002,       5198,   158.8,  13.3876,  35.3341,2,  35.3621,2,    239.7,2,   239.5,2,    2.64,2,    4.67,2,    0.02,2,    0.46,2,   3.131,2,   1.564,2,  2088.1,2,  2328.5,2,  -9.0000,9,-999.0000,9, -999.00,9, -999.00,9,  -999.0,9,  -999.0,-999.000,9,-999.000,-999.000,9,  -9.0000,-999.0000,  13.3652,   -9.00
  316N145_7,       I05E,     428,          1,         31,         31,2,19950411,       2253,   -31.3328,   108.3002,       5198,   208.3,  12.6661,  35.2300,2,  35.2328,2,    240.4,2,   241.2,2,    2.63,2,    6.13,2,    0.01,2,    0.56,2,   3.180,2,   1.599,2,  2093.8,2,  2313.0,2,  -9.0000,9,-999.0000,9, -999.00,9, -999.00,9,  -999.0,9,  -999.0,-999.000,9,-999.000,-999.000,9,  -9.0000,-999.0000,  12.6379,   -9.00
  316N145_7,       I05E,     428,          1,         30,         30,2,19950411,       2253,   -31.3328,   108.3002,       5198,   258.7,  11.7544,  35.0793,2,  35.0930,2,    238.7,2,   242.2,2,    3.04,2,    8.21,2,    0.01,2,    0.68,2,-999.000,9,-999.000,9,  2098.5,2,  2312.6,2,  -9.0000,9,-999.0000,9, -999.00,9, -999.00,9,  -999.0,9,  -999.0,-999.000,9,-999.000,-999.000,9,  -9.0000,-999.0000,  11.7210,   -9.00
  316N145_7,       I05E,     428,          1,         29,         29,2,19950411,       2253,   -31.3328,   108.3002,       5198,   329.0,  10.9042,  34.9307,2,  34.9311,2,    243.2,2,   247.4,2,    3.67,2,   10.44,2,    0.01,2,    0.81,2,   3.416,2,   1.734,2,  2104.5,2,  2294.2,2,  -9.0000,9,-999.0000,9, -999.00,9, -999.00,9,  -999.0,9,  -999.0,-999.000,9,-999.000,-999.000,9,  -9.0000,-999.0000,  10.8636,   -9.00
  316N145_7,       I05E,     428,          1,         28,         28,2,19950411,       2253,   -31.3328,   108.3002,       5198,   389.0,  10.1691,  34.8107,2,  34.8060,2,    247.0,2,   247.7,2,    4.09,2,   12.52,2,    0.01,2,    0.94,2,   3.418,2,   1.722,2,  2106.4,2,  2298.1,2,  -9.0000,9,-999.0000,9, -999.00,9, -999.00,9,  -999.0,9,  -999.0,-999.000,9,-999.000,-999.000,9,  -9.0000,-999.0000,  10.1231,   -9.00
  316N145_7,       I05E,     428,          1,         27,         27,2,19950411,       2253,   -31.3328,   108.3002,       5198,   459.0,   9.6091,  34.7185,2,  34.7223,2,    245.0,2,   246.2,2,    4.93,2,   14.55,2,    0.00,2,    1.07,2,   3.348,2,   1.688,2,  2111.2,2,  2289.0,2,  -9.0000,9,-999.0000,9, -999.00,9, -999.00,9,  -999.0,9,  -999.0,-999.000,9,-999.000,-999.000,9,  -9.0000,-999.0000,   9.5566,   -9.00
  316N145_7,       I05E,     428,          1,         26,         26,2,19950411,       2253,   -31.3328,   108.3002,       5198,   560.3,   9.1767,  34.6638,2,  34.6604,2,    235.2,2,   237.1,2,    6.21,2,   17.08,2,    0.00,2,    1.21,2,   2.846,2,   1.429,2,  2119.6,2,  2292.1,2,  -9.0000,9,-999.0000,9, -999.00,9, -999.00,9,  -999.0,9,  -999.0,-999.000,9,-999.000,-999.000,9,  -9.0000,-999.0000,   9.1141,   -9.00
  316N145_7,       I05E,     428,          1,         25,         25,2,19950411,       2253,   -31.3328,   108.3002,       5198,   660.5,   8.1797,  34.5482,2,  34.5455,2,    225.1,2,   220.0,2,   10.06,2,   21.20,2,    0.00,2,    1.47,2,   2.159,2,   1.056,2,  2137.4,2,  2293.6,2,  -9.0000,9,-999.0000,9, -999.00,9, -999.00,9,  -999.0,9,  -999.0,-999.000,9,-999.000,-999.000,9,  -9.0000,-999.0000,   8.1104,   -9.00
  316N145_7,       I05E,     428,          1,         24,         24,2,19950411,       2253,   -31.3328,   108.3002,       5198,   759.2,   6.8088,  34.4661,2,  34.4583,2,    200.0,2,   198.2,2,   19.27,2,   26.22,2,    0.00,2,    1.80,2,   1.098,2,   0.528,2,  2165.2,2,  2286.4,2,  -9.0000,9,-999.0000,9, -999.00,9, -999.00,9,  -999.0,9,  -999.0,-999.000,9,-999.000,-999.000,9,  -9.0000,-999.0000,   6.7365,   -9.00
  316N145_7,       I05E,     428,          1,         23,         23,2,19950411,       2253,   -31.3328,   108.3002,       5198,   860.5,   5.3480,  34.3996,2,  34.3975,2,    191.8,2,   194.4,2,   30.40,2,   29.50,2,    0.00,2,    2.04,2,   0.690,2,   0.325,2,  2185.6,2,  2297.6,2,  -9.0000,9,-999.0000,9, -999.00,9, -999.00,9,  -999.0,9,  -999.0,-999.000,9,-999.000,-999.000,9,  -9.0000,-999.0000,   5.2751,   -9.00
  316N145_7,       I05E,     428,          1,         22,         22,2,19950411,       2253,   -31.3328,   108.3002,       5198,   961.9,   4.2578,  34.3967,2,  34.3973,2,    185.9,2,   185.5,2,   44.97,2,   32.10,2,    0.00,2,    2.24,2,   0.384,6,   0.162,6,  2209.9,2,  2317.8,2,  -9.0000,9,-999.0000,9, -999.00,9, -999.00,9,  -999.0,9,  -999.0,-999.000,9,-999.000,-999.000,9,  -9.0000,-999.0000,   4.1836,   -9.00
  316N145_7,       I05E,     428,          1,         21,         21,2,19950411,       2253,   -31.3328,   108.3002,       5198,  1063.4,   3.8182,  34.4467,2,  34.4464,2,    168.9,2,   169.6,2,   59.10,2,   33.68,2,    0.00,2,    2.37,2,   0.176,2,   0.080,2,  2231.5,2,  2321.4,2,  -9.0000,9,-999.0000,9, -999.00,9, -999.00,9,  -999.0,9,  -999.0,-999.000,9,-999.000,-999.000,9,  -9.0000,-999.0000,   3.7388,   -9.00
  316N145_7,       I05E,     428,          1,         20,         20,2,19950411,       2253,   -31.3328,   108.3002,       5198,  1213.9,   3.3127,  34.5051,2,  34.5014,2,    162.0,2,   162.2,2,   70.01,2,   34.57,2,    0.00,2,    2.44,2,   0.070,2,   0.034,2,  2249.2,2,  2340.2,2,  -9.0000,9,-999.0000,9, -999.00,9, -999.00,9,  -999.0,9,  -999.0,-999.000,9,-999.000,-999.000,9,  -9.0000,-999.0000,   3.2254,   -9.00
  316N145_7,       I05E,     428,          1,         19,         19,2,19950411,       2253,   -31.3328,   108.3002,       5198,  1364.9,   3.1455,  34.5717,2,  34.5701,2,    151.9,2,   152.1,2,   81.37,2,   35.02,2,    0.00,2,    2.47,2,   0.013,2,   0.008,2,  2262.9,2,  2372.3,3,  -9.0000,9,-999.0000,9, -999.00,9, -999.00,9,  -999.0,9,  -999.0,-999.000,9,-999.000,-999.000,9,  -9.0000,-999.0000,   3.0473,   -9.00
  316N145_7,       I05E,     428,          1,         18,         18,2,19950411,       2253,   -31.3328,   108.3002,       5198,  1566.2,   2.8034,  34.6258,2,  34.6259,2,    156.3,2,   156.4,2,   87.35,2,   34.53,2,    0.00,2,    2.43,2,   0.005,2,   0.001,2,  2267.5,2,  2358.3,2,  -9.0000,9,-999.0000,9, -999.00,9, -999.00,9,  -999.0,9,  -999.0,-999.000,9,-999.000,-999.000,9,  -9.0000,-999.0000,   2.6922,   -9.00
  316N145_7,       I05E,     428,          1,         17,         17,2,19950411,       2253,   -31.3328,   108.3002,       5198,  1667.3,   2.6845,  34.6519,2,  34.6517,2,    157.7,2,   158.0,2,   90.76,2,   34.20,2,    0.00,2,    2.41,2,-999.000,9,-999.000,9,  2269.2,2,  2358.9,2,  -9.0000,9,-999.0000,9, -999.00,9, -999.00,9,  -999.0,9,  -999.0,-999.000,9,-999.000,-999.000,9,  -9.0000,-999.0000,   2.5663,   -9.00
  316N145_7,       I05E,     428,          1,         16,         16,2,19950411,       2253,   -31.3328,   108.3002,       5198,  1817.5,   2.5325,  34.6853,2,  34.6853,2,    160.2,2,   160.6,2,   97.19,2,   33.86,2,    0.00,2,    2.39,2,-999.000,9,-999.000,9,  2274.3,2,  2372.2,2,  -9.0000,9,-999.0000,9, -999.00,9, -999.00,9,  -999.0,9,  -999.0,-999.000,9,-999.000,-999.000,9,  -9.0000,-999.0000,   2.4035,   -9.00
  316N145_7,       I05E,     428,          1,         15,         15,2,19950411,       2253,   -31.3328,   108.3002,       5198,  2020.8,   2.3346,  34.7112,2,  34.7105,2,    160.9,2,   162.9,2,  105.15,2,   33.72,2,    0.00,2,    2.38,2,-999.000,9,-999.000,9,  2280.4,2,  2392.6,3,  -9.0000,9,-999.0000,9, -999.00,9, -999.00,9,  -999.0,9,  -999.0,-999.000,9,-999.000,-999.000,9,  -9.0000,-999.0000,   2.1910,   -9.00
  316N145_7,       I05E,     428,          1,         14,         14,2,19950411,       2253,   -31.3328,   108.3002,       5198,  2223.4,   2.1433,  34.7224,2,  34.7217,2,    168.1,2,   168.2,2,  107.70,2,   33.29,2,    0.00,2,    2.35,2,   0.000,2,  -0.001,2,  2279.1,2,  2383.4,2,  -9.0000,9,-999.0000,9, -999.00,9, -999.00,9,  -999.0,9,  -999.0,-999.000,9,-999.000,-999.000,9,  -9.0000,-999.0000,   1.9850,   -9.00
  316N145_7,       I05E,     428,          1,         13,         13,2,19950411,       2253,   -31.3328,   108.3002,       5198,  2427.0,   1.9953,  34.7277,2,  34.7270,2,    172.9,2,   172.7,2,  110.48,2,   32.95,2,    0.00,2,    2.34,2,-999.000,9,-999.000,9,  2277.2,2,  2398.5,2,  -9.0000,9,-999.0000,9, -999.00,9, -999.00,9,  -999.0,9,  -999.0,-999.000,9,-999.000,-999.000,9,  -9.0000,-999.0000,   1.8215,   -9.00
  316N145_7,       I05E,     428,          1,         12,         12,2,19950411,       2253,   -31.3328,   108.3002,       5198,  2629.7,   1.8361,  34.7287,2,  34.7282,2,    176.3,2,   175.2,2,  114.78,2,   33.11,2,    0.00,2,    2.32,2,  -0.001,2,  -0.001,2,  2280.4,2,  2393.5,2,  -9.0000,9,-999.0000,9, -999.00,9, -999.00,9,  -999.0,9,  -999.0,-999.000,9,-999.000,-999.000,9,  -9.0000,-999.0000,   1.6468,   -9.00
  316N145_7,       I05E,     428,          1,         11,         11,2,19950411,       2253,   -31.3328,   108.3002,       5198,  2833.1,   1.7274,  34.7294,2,  34.7284,2,    180.1,2,   180.1,2,  115.38,2,   32.77,2,    0.00,2,    2.30,2,-999.000,9,-999.000,9,  2278.1,2,  2388.7,2,  -9.0000,9,-999.0000,9, -999.00,9, -999.00,9,  -999.0,9,  -999.0,-999.000,9,-999.000,-999.000,9,  -9.0000,-999.0000,   1.5213,   -9.00
  316N145_7,       I05E,     428,          1,         10,         10,2,19950411,       2253,   -31.3328,   108.3002,       5198,  3037.5,   1.5951,  34.7285,2,  34.7286,2,    184.2,2,   183.7,2,  116.64,2,   32.73,2,    0.00,2,    2.28,2,-999.000,9,-999.000,9,  2284.2,2,  2382.2,2,  -9.0000,9,-999.0000,9, -999.00,9, -999.00,9,  -999.0,9,  -999.0,-999.000,9,-999.000,-999.000,9,  -9.0000,-999.0000,   1.3724,   -9.00
  316N145_7,       I05E,     428,          1,          9,          9,2,19950411,       2253,   -31.3328,   108.3002,       5198,  3289.0,   1.4434,  34.7257,2,  34.7251,2,    189.3,2,   189.4,2,  119.42,2,   32.64,2,    0.00,2,    2.28,2,-999.000,9,-999.000,9,  2275.3,2,  2388.1,2,  -9.0000,9,-999.0000,9, -999.00,9, -999.00,9,  -999.0,9,  -999.0,-999.000,9,-999.000,-999.000,9,  -9.0000,-999.0000,   1.1996,   -9.00
  316N145_7,       I05E,     428,          1,          8,          8,2,19950411,       2253,   -31.3328,   108.3002,       5198,  3544.3,   1.3146,  34.7211,2,  34.7202,2,    191.4,2,   190.9,2,  123.52,2,   32.74,2,    0.00,2,    2.29,2,  -0.001,2,  -0.001,2,  2278.5,2,  2404.0,3,  -9.0000,9,-999.0000,9, -999.00,9, -999.00,9,  -999.0,9,  -999.0,-999.000,9,-999.000,-999.000,9,  -9.0000,-999.0000,   1.0484,   -9.00
  316N145_7,       I05E,     428,          1,          7,          7,2,19950411,       2253,   -31.3328,   108.3002,       5198,  3800.7,   1.2425,  34.7198,2,  34.7196,2,    197.9,2,   196.7,2,  121.72,2,   32.46,2,    0.00,2,    2.26,2,-999.000,9,-999.000,9,  2272.0,2,  2387.7,2,  -9.0000,9,-999.0000,9, -999.00,9, -999.00,9,  -999.0,9,  -999.0,-999.000,9,-999.000,-999.000,9,  -9.0000,-999.0000,   0.9518,   -9.00
  316N145_7,       I05E,     428,          1,          6,          6,2,19950411,       2253,   -31.3328,   108.3002,       5198,  4056.5,   1.1776,  34.7163,2,  34.7159,2,    196.6,2,   197.4,2,  124.29,2,   32.61,2,    0.00,2,    2.27,2,  -0.001,2,  -0.001,2,  2274.6,2,  2386.4,2,  -9.0000,9,-999.0000,9, -999.00,9, -999.00,9,  -999.0,9,  -999.0,-999.000,9,-999.000,-999.000,9,  -9.0000,-999.0000,   0.8615,   -9.00
  316N145_7,       I05E,     428,          1,          5,          5,2,19950411,       2253,   -31.3328,   108.3002,       5198,  4312.8,   1.1231,  34.7148,2,  34.7136,2,    201.2,2,   201.5,2,  123.80,2,   32.47,2,    0.00,2,    2.26,2,-999.000,9,-999.000,9,  2270.7,2,  2385.6,2,  -9.0000,9,-999.0000,9, -999.00,9, -999.00,9,  -999.0,9,  -999.0,-999.000,9,-999.000,-999.000,9,  -9.0000,-999.0000,   0.7806,   -9.00
  316N145_7,       I05E,     428,          1,          4,          4,2,19950411,       2253,   -31.3328,   108.3002,       5198,  4568.9,   1.0542,  34.7109,2,  34.7122,2,    204.3,2,   204.7,2,  124.19,2,   32.38,2,    0.00,2,    2.25,2,   0.002,2,   0.002,2,  2268.2,2,  2388.9,2,  -9.0000,9,-999.0000,9, -999.00,9, -999.00,9,  -999.0,9,  -999.0,-999.000,9,-999.000,-999.000,9,  -9.0000,-999.0000,   0.6852,   -9.00
  316N145_7,       I05E,     428,          1,          3,          3,2,19950411,       2253,   -31.3328,   108.3002,       5198,  4823.8,   0.9984,  34.7080,2,  34.7075,2,    207.2,2,   207.4,2,  124.57,2,   32.34,2,    0.00,2,    2.25,2,   0.004,2,   0.003,2,  2266.1,2,  2381.0,2,  -9.0000,9,-999.0000,9, -999.00,9, -999.00,9,  -999.0,9,  -999.0,-999.000,9,-999.000,-999.000,9,  -9.0000,-999.0000,   0.6018,   -9.00
  316N145_7,       I05E,     428,          1,          2,          2,2,19950411,       2253,   -31.3328,   108.3002,       5198,  5079.6,   0.9803,  34.7059,2,  34.7054,2,    209.6,2,   209.8,2,  124.73,2,   32.40,2,    0.00,2,    2.24,2,   0.007,2,   0.006,2,  2265.1,2,  2379.7,2,  -9.0000,9,-999.0000,9, -999.00,9, -999.00,9,  -999.0,9,  -999.0,-999.000,9,-999.000,-999.000,9,  -9.0000,-999.0000,   0.5540,   -9.00
  316N145_7,       I05E,     428,          1,          1,          1,2,19950411,       2253,   -31.3328,   108.3002,       5198,  5317.2,   0.9900,  34.7047,2,  34.7052,2,    210.1,2,   209.9,2,  125.12,2,   32.31,2,    0.00,2,    2.24,2,   0.009,2,   0.006,2,  2265.3,2,  2386.9,2,  -9.0000,9,-999.0000,9, -999.00,9, -999.00,9,  -999.0,9,  -999.0,-999.000,9,-999.000,-999.000,9,  -9.0000,-999.0000,   0.5346,   -9.00