BOTTLE,20211124CCHSIORKP
EXPOCODE,SECT_ID,STNNBR,CASTNO,SAMPNO,BTLNBR,BTLNBR_FLAG_W,DATE,TIME,LATITUDE,LONGITUDE,DEPTH,CTDPRS,CTDTMP,CTDSAL,CTDSAL_FLAG_W,SALNTY,SALNTY_FLAG_W,CTDOXY,CTDOXY_FLAG_W,OXYGEN,OXYGEN_FLAG_W,SILCAT,SILCAT_FLAG_W,NITRAT,NITRAT_FLAG_W,NITRIT,NITRIT_FLAG_W,PHSPHT,PHSPHT_FLAG_W,CFC-11,CFC-11_FLAG_W,CFC-12,CFC-12_FLAG_W,TCARBN,TCARBN_FLAG_W,ALKALI,ALKALI_FLAG_W,TRITUM,TRITUM_FLAG_W,HELIUM,HELIUM_FLAG_W,DELHE3,DELHE3_FLAG_W,DELC13,DELC13_FLAG_W,DELC14,DELC14_FLAG_W,C14ERR,NEON,NEON_FLAG_W,NEONER,CCL4,CCL4_FLAG_W,TRITER,HELIER,THETA,DELHER
,,,,,,,,,,,METERS,DBAR,ITS-90,PSS-78,,PSS-78,,UMOL/KG,,UMOL/KG,,UMOL/KG,,UMOL/KG,,UMOL/KG,,UMOL/KG,,PMOL/KG,,PMOL/KG,,UMOL/KG,,UMOL/KG,,TU,,NMOL/KG,,PERCNT,,/MILLE,,/MILLE,,/MILLE,NMOL/KG,,NMOL/KG,PMOL/KG,,TU,NMOL/KG,DEG C,PERCNT
  316N145_7,       I05E,     407,          1,         36,         36,2,19950406,       2002,   -34.0005,    95.8017,       4432,     5.3,  19.2838,  35.3718,2,  35.3756,2,    231.9,2,   233.2,2,    3.02,2,    0.06,2,    0.00,2,    0.17,2,   2.341,2,   1.356,2,  2043.7,2,  2326.3,2,  -9.0000,9,-999.0000,9, -999.00,9, -999.00,9,  -999.0,9,  -999.0,-999.000,9,-999.000,   2.959,2,  -9.0000,-999.0000,  19.2829,   -9.00
  316N145_7,       I05E,     407,          1,         35,         35,2,19950406,       2002,   -34.0005,    95.8017,       4432,    27.1,  19.2729,  35.3713,2,  35.3717,2,    229.6,2,   233.1,2,    2.76,2,    0.06,2,    0.00,2,    0.17,2,-999.000,9,-999.000,9,  -999.0,9,  -999.0,9,  -9.0000,9,-999.0000,9, -999.00,9, -999.00,9,  -999.0,9,  -999.0,-999.000,9,-999.000,-999.000,9,  -9.0000,-999.0000,  19.2681,   -9.00
  316N145_7,       I05E,     407,          1,         34,         34,2,19950406,       2002,   -34.0005,    95.8017,       4432,    56.0,  15.1160,  35.2101,2,  35.2642,2,    261.1,2,   261.9,2,    3.13,2,    1.06,2,    0.03,2,    0.30,2,   2.864,2,   1.604,2,  -999.0,9,  -999.0,9,  -9.0000,9,-999.0000,9, -999.00,9, -999.00,9,  -999.0,9,  -999.0,-999.000,9,-999.000,   2.465,2,  -9.0000,-999.0000,  15.1074,   -9.00
  316N145_7,       I05E,     407,          1,         33,         33,2,19950406,       2002,   -34.0005,    95.8017,       4432,    88.9,  13.4917,  35.2585,2,  35.2593,2,    241.4,2,   245.5,2,    3.72,2,    4.10,2,    1.14,2,    0.53,2,-999.000,9,-999.000,9,  -999.0,9,  -999.0,9,  -9.0000,9,-999.0000,9, -999.00,9, -999.00,9,  -999.0,9,  -999.0,-999.000,9,-999.000,-999.000,9,  -9.0000,-999.0000,  13.4791,   -9.00
  316N145_7,       I05E,     407,          1,         32,         32,2,19950406,       2002,   -34.0005,    95.8017,       4432,   119.6,  12.8236,  35.2161,2,  35.2185,2,    236.8,2,   240.5,2,    3.89,2,    6.80,2,    0.02,2,    0.62,2,   3.088,2,   1.710,2,  -999.0,9,  -999.0,9,  -9.0000,9,-999.0000,9, -999.00,9, -999.00,9,  -999.0,9,  -999.0,-999.000,9,-999.000,   1.791,2,  -9.0000,-999.0000,  12.8073,   -9.00
  316N145_7,       I05E,     407,          1,         31,         31,2,19950406,       2002,   -34.0005,    95.8017,       4432,   167.2,  12.2489,  35.1361,2,  35.1324,2,    239.8,2,   239.7,2,    4.69,2,    8.44,2,    0.01,2,    0.71,2,-999.000,9,-999.000,9,  -999.0,9,  -999.0,9,  -9.0000,9,-999.0000,9, -999.00,9, -999.00,9,  -999.0,9,  -999.0,-999.000,9,-999.000,-999.000,9,  -9.0000,-999.0000,  12.2268,   -9.00
  316N145_7,       I05E,     407,          1,         30,         30,2,19950406,       2002,   -34.0005,    95.8017,       4432,   216.8,  11.6949,  35.0495,2,  35.0475,2,    240.8,2,   242.1,2,    5.07,2,    9.83,2,    0.01,2,    0.79,2,   3.220,2,   1.711,2,  -999.0,9,  -999.0,9,  -9.0000,9,-999.0000,9, -999.00,9, -999.00,9,  -999.0,9,  -999.0,-999.000,9,-999.000,   1.782,2,  -9.0000,-999.0000,  11.6670,   -9.00
  316N145_7,       I05E,     407,          1,         29,         29,2,19950406,       2002,   -34.0005,    95.8017,       4432,   267.7,  11.2199,  34.9817,2,  34.9834,2,    244.0,2,   244.3,2,    5.23,2,   10.67,2,    0.00,2,    0.84,2,-999.000,9,-999.000,9,  -999.0,9,  -999.0,9,  -9.0000,9,-999.0000,9, -999.00,9, -999.00,9,  -999.0,9,  -999.0,-999.000,9,-999.000,-999.000,9,  -9.0000,-999.0000,  11.1864,   -9.00
  316N145_7,       I05E,     407,          1,         28,         28,2,19950406,       2002,   -34.0005,    95.8017,       4432,   339.8,  10.9007,  34.9297,2,  34.9299,2,    250.7,2,   251.1,2,    5.39,2,   11.21,2,    0.00,2,    0.88,2,   3.335,2,   1.743,2,  -999.0,9,  -999.0,9,  -9.0000,9,-999.0000,9, -999.00,9, -999.00,9,  -999.0,9,  -999.0,-999.000,9,-999.000,   2.278,2,  -9.0000,-999.0000,  10.8588,   -9.00
  316N145_7,       I05E,     407,          1,         27,         27,2,19950406,       2002,   -34.0005,    95.8017,       4432,   419.7,  10.5073,  34.8713,2,  34.8710,2,    248.1,2,   245.1,2,    5.34,2,   12.40,2,    0.00,2,    0.94,2,-999.000,9,-999.000,9,  -999.0,9,  -999.0,9,  -9.0000,9,-999.0000,9, -999.00,9, -999.00,9,  -999.0,9,  -999.0,-999.000,9,-999.000,-999.000,9,  -9.0000,-999.0000,  10.4566,   -9.00
  316N145_7,       I05E,     407,          1,         26,         26,2,19950406,       2002,   -34.0005,    95.8017,       4432,   508.3,   9.9208,  34.7766,2,  34.7727,2,    246.1,2,   243.4,2,    5.71,2,   14.13,2,    0.00,2,    1.06,2,   3.120,2,   1.634,2,  -999.0,9,  -999.0,9,  -9.0000,9,-999.0000,9, -999.00,9, -999.00,9,  -999.0,9,  -999.0,-999.000,9,-999.000,   1.943,2,  -9.0000,-999.0000,   9.8614,   -9.00
  316N145_7,       I05E,     407,          1,         25,         25,2,19950406,       2002,   -34.0005,    95.8017,       4432,   611.1,   9.3150,  34.6856,2,  34.6850,2,    243.8,2,   237.1,2,    7.16,2,   16.60,2,    0.00,2,    1.21,2,-999.000,9,-999.000,9,  -999.0,9,  -999.0,9,  -9.0000,9,-999.0000,9, -999.00,9, -999.00,9,  -999.0,9,  -999.0,-999.000,9,-999.000,-999.000,9,  -9.0000,-999.0000,   9.2459,   -9.00
  316N145_7,       I05E,     407,          1,         24,         24,2,19950406,       2002,   -34.0005,    95.8017,       4432,   711.7,   8.4849,  34.5896,2,  34.5895,2,    226.0,2,   219.9,2,   10.31,2,   20.31,2,    0.00,2,    1.43,2,   2.055,6,   1.059,6,  -999.0,9,  -999.0,9,  -9.0000,9,-999.0000,9, -999.00,9, -999.00,9,  -999.0,9,  -999.0,-999.000,9,-999.000,   1.637,6,  -9.0000,-999.0000,   8.4084,   -9.00
  316N145_7,       I05E,     407,          1,         23,         23,2,19950406,       2002,   -34.0005,    95.8017,       4432,   811.5,   7.3793,  34.5007,2,  34.5007,2,    208.5,2,   204.1,2,   16.23,2,   24.33,2,    0.00,2,    1.69,2,-999.000,9,-999.000,9,  -999.0,9,  -999.0,9,  -9.0000,9,-999.0000,9, -999.00,9, -999.00,9,  -999.0,9,  -999.0,-999.000,9,-999.000,-999.000,9,  -9.0000,-999.0000,   7.2983,   -9.00
  316N145_7,       I05E,     407,          1,         22,         22,2,19950406,       2002,   -34.0005,    95.8017,       4432,   913.0,   5.7765,  34.4054,2,  34.4032,2,    200.7,2,   200.0,2,   26.00,2,   28.26,2,    0.00,2,    1.97,2,   0.916,2,   0.471,2,  -999.0,9,  -999.0,9,  -9.0000,9,-999.0000,9, -999.00,9, -999.00,9,  -999.0,9,  -999.0,-999.000,9,-999.000,   1.438,2,  -9.0000,-999.0000,   5.6958,   -9.00
  316N145_7,       I05E,     407,          1,         21,         21,2,19950406,       2002,   -34.0005,    95.8017,       4432,  1011.4,   4.5476,  34.3626,2,  34.3625,2,    199.4,2,   200.3,2,   34.91,2,   30.55,2,    0.00,2,    2.13,2,   0.797,2,   0.388,2,  -999.0,9,  -999.0,9,  -9.0000,9,-999.0000,9, -999.00,9, -999.00,9,  -999.0,9,  -999.0,-999.000,9,-999.000,   1.468,2,  -9.0000,-999.0000,   4.4670,   -9.00
  316N145_7,       I05E,     407,          1,         20,         20,2,19950406,       2002,   -34.0005,    95.8017,       4432,  1111.2,   4.0682,  34.3989,2,  34.3986,2,    184.2,2,   184.8,2,   47.22,2,   32.35,2,    0.00,2,    2.29,2,   0.400,3,   0.178,2,  -999.0,9,  -999.0,9,  -9.0000,9,-999.0000,9, -999.00,9, -999.00,9,  -999.0,9,  -999.0,-999.000,9,-999.000,   0.921,2,  -9.0000,-999.0000,   3.9828,   -9.00
  316N145_7,       I05E,     407,          1,         19,         19,2,19950406,       2002,   -34.0005,    95.8017,       4432,  1213.6,   3.6815,  34.4308,2,  34.4308,2,    176.7,2,   177.0,2,   55.91,2,   33.40,2,    0.00,2,    2.38,2,-999.000,9,-999.000,9,  -999.0,9,  -999.0,9,  -9.0000,9,-999.0000,9, -999.00,9, -999.00,9,  -999.0,9,  -999.0,-999.000,9,-999.000,-999.000,9,  -9.0000,-999.0000,   3.5908,   -9.00
  316N145_7,       I05E,     407,          1,         18,         18,2,19950406,       2002,   -34.0005,    95.8017,       4432,  1366.0,   3.4215,  34.5161,2,  34.5146,2,    158.0,2,   157.0,2,   71.00,2,   34.50,2,    0.00,2,    2.48,2,   0.082,3,   0.029,2,  -999.0,9,  -999.0,9,  -9.0000,9,-999.0000,9, -999.00,9, -999.00,9,  -999.0,9,  -999.0,-999.000,9,-999.000,   0.264,2,  -9.0000,-999.0000,   3.3204,   -9.00
  316N145_7,       I05E,     407,          1,         17,         17,2,19950406,       2002,   -34.0005,    95.8017,       4432,  1517.0,   3.0647,  34.5666,2,  34.5667,2,    156.1,2,   158.3,2,   77.35,2,   34.50,2,    0.00,2,    2.46,2,-999.000,9,-999.000,9,  -999.0,9,  -999.0,9,  -9.0000,9,-999.0000,9, -999.00,9, -999.00,9,  -999.0,9,  -999.0,-999.000,9,-999.000,-999.000,9,  -9.0000,-999.0000,   2.9548,   -9.00
  316N145_7,       I05E,     407,          1,         16,         16,2,19950406,       2002,   -34.0005,    95.8017,       4432,  1667.3,   2.8259,  34.6133,2,  34.6136,2,    161.4,2,   159.9,2,   81.98,2,   34.10,2,    0.00,2,    2.43,2,   0.049,3,   0.012,2,  -999.0,9,  -999.0,9,  -9.0000,9,-999.0000,9, -999.00,9, -999.00,9,  -999.0,9,  -999.0,-999.000,9,-999.000,   0.103,2,  -9.0000,-999.0000,   2.7060,   -9.00
  316N145_7,       I05E,     407,          1,         15,         15,2,19950406,       2002,   -34.0005,    95.8017,       4432,  1820.4,   2.6313,  34.6564,2,  34.6560,2,    164.8,2,   165.0,2,   85.33,2,   33.35,2,    0.00,2,    2.38,2,-999.000,9,-999.000,9,  -999.0,9,  -999.0,9,  -9.0000,9,-999.0000,9, -999.00,9, -999.00,9,  -999.0,9,  -999.0,-999.000,9,-999.000,-999.000,9,  -9.0000,-999.0000,   2.5009,   -9.00
  316N145_7,       I05E,     407,          1,         14,         14,2,19950406,       2002,   -34.0005,    95.8017,       4432,  2023.3,   2.4136,  34.6994,2,  34.6991,2,    173.3,2,   174.7,2,   86.96,2,   32.35,2,    0.00,2,    2.29,2,   0.056,3,   0.004,2,  -999.0,9,  -999.0,9,  -9.0000,9,-999.0000,9, -999.00,9, -999.00,9,  -999.0,9,  -999.0,-999.000,9,-999.000,   0.035,2,  -9.0000,-999.0000,   2.2687,   -9.00
  316N145_7,       I05E,     407,          1,         13,         13,2,19950406,       2002,   -34.0005,    95.8017,       4432,  2227.4,   2.2408,  34.7258,2,  34.7260,2,    183.5,2,   182.8,2,   87.53,2,   31.50,2,    0.00,2,    2.21,2,-999.000,9,-999.000,9,  -999.0,9,  -999.0,9,  -9.0000,9,-999.0000,9, -999.00,9, -999.00,9,  -999.0,9,  -999.0,-999.000,9,-999.000,-999.000,9,  -9.0000,-999.0000,   2.0806,   -9.00
  316N145_7,       I05E,     407,          1,         12,         12,2,19950406,       2002,   -34.0005,    95.8017,       4432,  2428.2,   2.0547,  34.7426,2,  34.7440,2,    191.2,2,   191.0,2,   89.16,2,   30.90,2,    0.00,2,    2.16,2,   0.003,3,   0.009,2,  -999.0,9,  -999.0,9,  -9.0000,9,-999.0000,9, -999.00,9, -999.00,9,  -999.0,9,  -999.0,-999.000,9,-999.000,   0.007,2,  -9.0000,-999.0000,   1.8796,   -9.00
  316N145_7,       I05E,     407,          1,         11,         11,2,19950406,       2002,   -34.0005,    95.8017,       4432,  2624.8,   1.8485,  34.7449,2,  34.7450,2,    196.3,2,   195.0,2, -999.00,5,   30.65,2,    0.00,2, -999.00,5,-999.000,9,-999.000,9,  -999.0,9,  -999.0,9,  -9.0000,9,-999.0000,9, -999.00,9, -999.00,9,  -999.0,9,  -999.0,-999.000,9,-999.000,-999.000,9,  -9.0000,-999.0000,   1.6593,   -9.00
  316N145_7,       I05E,     407,          1,         10,         10,2,19950406,       2002,   -34.0005,    95.8017,       4432,  2833.5,   1.6245,  34.7400,2,  34.7405,2,    198.2,2,   198.0,2, -999.00,5,   30.95,2,    0.00,2, -999.00,5,  -0.008,3,   0.002,2,  -999.0,9,  -999.0,9,  -9.0000,9,-999.0000,9, -999.00,9, -999.00,9,  -999.0,9,  -999.0,-999.000,9,-999.000,   0.032,2,  -9.0000,-999.0000,   1.4205,   -9.00
  316N145_7,       I05E,     407,          1,          9,          9,2,19950406,       2002,   -34.0005,    95.8017,       4432,  3038.9,   1.4238,  34.7340,2,  34.7340,2,    200.8,2,   200.8,2, -999.00,5,   31.24,2,    0.00,2, -999.00,5,-999.000,9,-999.000,9,  -999.0,9,  -999.0,9,  -9.0000,9,-999.0000,9, -999.00,9, -999.00,9,  -999.0,9,  -999.0,-999.000,9,-999.000,-999.000,9,  -9.0000,-999.0000,   1.2047,   -9.00
  316N145_7,       I05E,     407,          1,          8,          8,2,19950406,       2002,   -34.0005,    95.8017,       4432,  3240.3,   1.2969,  34.7279,2,  34.7281,2,    200.8,2,   202.2,2, -999.00,5,   31.44,2,    0.00,2, -999.00,5,  -0.040,3,   0.002,2,  -999.0,9,  -999.0,9,  -9.0000,9,-999.0000,9, -999.00,9, -999.00,9,  -999.0,9,  -999.0,-999.000,9,-999.000,   0.037,2,  -9.0000,-999.0000,   1.0614,   -9.00
  316N145_7,       I05E,     407,          1,          7,          7,2,19950406,       2002,   -34.0005,    95.8017,       4432,  3444.5,   1.1965,  34.7230,2,  34.7237,2,    202.8,2,   203.2,2, -999.00,5,   31.59,2,    0.00,2, -999.00,5,-999.000,9,-999.000,9,  -999.0,9,  -999.0,9,  -9.0000,9,-999.0000,9, -999.00,9, -999.00,9,  -999.0,9,  -999.0,-999.000,9,-999.000,-999.000,9,  -9.0000,-999.0000,   0.9433,   -9.00
  316N145_7,       I05E,     407,          1,          6,          6,2,19950406,       2002,   -34.0005,    95.8017,       4432,  3647.2,   1.1199,  34.7192,2,  34.7194,2,    204.2,2,   204.9,2, -999.00,5,   31.79,2,    0.00,2, -999.00,5,  -0.081,3,  -0.001,2,  -999.0,9,  -999.0,9,  -9.0000,9,-999.0000,9, -999.00,9, -999.00,9,  -999.0,9,  -999.0,-999.000,9,-999.000,   0.030,2,  -9.0000,-999.0000,   0.8483,   -9.00
  316N145_7,       I05E,     407,          1,          5,          5,2,19950406,       2002,   -34.0005,    95.8017,       4432,  3853.3,   1.0793,  34.7168,2,  34.7162,2,    205.3,2,   205.5,2, -999.00,5,   31.90,2,    0.00,2, -999.00,5,-999.000,9,-999.000,9,  -999.0,9,  -999.0,9,  -9.0000,9,-999.0000,9, -999.00,9, -999.00,9,  -999.0,9,  -999.0,-999.000,9,-999.000,-999.000,9,  -9.0000,-999.0000,   0.7876,   -9.00
  316N145_7,       I05E,     407,          1,          4,          4,2,19950406,       2002,   -34.0005,    95.8017,       4432,  4056.7,   1.0525,  34.7143,2,  34.7147,2,    205.8,2,   206.6,2, -999.00,5,   32.00,2,    0.00,2, -999.00,5,-999.000,9,-999.000,9,  -999.0,9,  -999.0,9,  -9.0000,9,-999.0000,9, -999.00,9, -999.00,9,  -999.0,9,  -999.0,-999.000,9,-999.000,-999.000,9,  -9.0000,-999.0000,   0.7400,   -9.00
  316N145_7,       I05E,     407,          1,          3,          3,2,19950406,       2002,   -34.0005,    95.8017,       4432,  4262.2,   1.0341,  34.7127,2,  34.7125,2,    206.4,2,   206.7,2, -999.00,5,   32.00,2,    0.00,2, -999.00,5,-999.000,9,-999.000,9,  -999.0,9,  -999.0,9,  -9.0000,9,-999.0000,9, -999.00,9, -999.00,9,  -999.0,9,  -999.0,-999.000,9,-999.000,-999.000,9,  -9.0000,-999.0000,   0.6999,   -9.00
  316N145_7,       I05E,     407,          1,          2,          2,2,19950406,       2002,   -34.0005,    95.8017,       4432,  4414.1,   1.0251,  34.7108,2,  34.7111,2,    206.3,2,   206.7,2, -999.00,5,   32.15,2,    0.00,2, -999.00,5,  -0.050,3,   0.009,2,  -999.0,9,  -999.0,9,  -9.0000,9,-999.0000,9, -999.00,9, -999.00,9,  -999.0,9,  -999.0,-999.000,9,-999.000,   0.087,2,  -9.0000,-999.0000,   0.6744,   -9.00
  316N145_7,       I05E,     407,          1,          1,          1,2,19950406,       2002,   -34.0005,    95.8017,       4432,  4509.3,   1.0298,  34.7112,2,  34.7109,2,    207.7,2,   207.4,2, -999.00,5,   32.15,2,    0.00,2, -999.00,5,   0.378,3,   0.016,2,  -999.0,9,  -999.0,9,  -9.0000,9,-999.0000,9, -999.00,9, -999.00,9,  -999.0,9,  -999.0,-999.000,9,-999.000,   0.066,2,  -9.0000,-999.0000,   0.6683,   -9.00