BOTTLE,20211124CCHSIORKP
EXPOCODE,SECT_ID,STNNBR,CASTNO,SAMPNO,BTLNBR,BTLNBR_FLAG_W,DATE,TIME,LATITUDE,LONGITUDE,DEPTH,CTDPRS,CTDTMP,CTDSAL,CTDSAL_FLAG_W,SALNTY,SALNTY_FLAG_W,CTDOXY,CTDOXY_FLAG_W,OXYGEN,OXYGEN_FLAG_W,SILCAT,SILCAT_FLAG_W,NITRAT,NITRAT_FLAG_W,NITRIT,NITRIT_FLAG_W,PHSPHT,PHSPHT_FLAG_W,CFC-11,CFC-11_FLAG_W,CFC-12,CFC-12_FLAG_W,TCARBN,TCARBN_FLAG_W,ALKALI,ALKALI_FLAG_W,TRITUM,TRITUM_FLAG_W,HELIUM,HELIUM_FLAG_W,DELHE3,DELHE3_FLAG_W,DELC13,DELC13_FLAG_W,DELC14,DELC14_FLAG_W,C14ERR,NEON,NEON_FLAG_W,NEONER,CCL4,CCL4_FLAG_W,TRITER,HELIER,THETA,DELHER
,,,,,,,,,,,METERS,DBAR,ITS-90,PSS-78,,PSS-78,,UMOL/KG,,UMOL/KG,,UMOL/KG,,UMOL/KG,,UMOL/KG,,UMOL/KG,,PMOL/KG,,PMOL/KG,,UMOL/KG,,UMOL/KG,,TU,,NMOL/KG,,PERCNT,,/MILLE,,/MILLE,,/MILLE,NMOL/KG,,NMOL/KG,PMOL/KG,,TU,NMOL/KG,DEG C,PERCNT
  316N145_7,       I08N,     288,          1,         35,         35,4,19950312,       0046,     4.3335,    80.0002,       4307,     2.0,  28.6776,  34.1843,2,  34.1813,2,    195.3,2,   196.7,2,    2.98,2,    0.04,2,    0.00,2,    0.13,2,   1.650,2,   0.941,2,  -999.0,9,  -999.0,9,  -9.0000,9,-999.0000,9, -999.00,9, -999.00,9,  -999.0,9,  -999.0,-999.000,9,-999.000,-999.000,9,  -9.0000,-999.0000,  28.6771,   -9.00
  316N145_7,       I08N,     288,          1,         34,         34,4,19950312,       0046,     4.3335,    80.0002,       4307,    25.0,  28.6399,  34.1847,2,  34.1829,2,    197.3,2,   196.7,2,    2.97,2,    0.04,2,    0.00,2,    0.13,2,   1.654,2,   0.947,2,  -999.0,9,  -999.0,9,  -9.0000,9,-999.0000,9, -999.00,9, -999.00,9,  -999.0,9,  -999.0,-999.000,9,-999.000,-999.000,9,  -9.0000,-999.0000,  28.6340,   -9.00
  316N145_7,       I08N,     288,          1,         33,         33,4,19950312,       0046,     4.3335,    80.0002,       4307,    54.5,  28.1969,  34.2148,2,  34.1895,2,    191.8,2,   191.6,2,    3.36,2,    0.53,2,    0.07,2,    0.17,2,   1.680,2,   0.933,2,  -999.0,9,  -999.0,9,  -9.0000,9,-999.0000,9, -999.00,9, -999.00,9,  -999.0,9,  -999.0,-999.000,9,-999.000,-999.000,9,  -9.0000,-999.0000,  28.1840,   -9.00
  316N145_7,       I08N,     288,          1,         32,         32,4,19950312,       0046,     4.3335,    80.0002,       4307,    85.5,  19.9811,  34.7542,2,  34.7536,2,     54.8,2,    44.0,2,   20.18,2,   22.57,2,    0.07,2,    1.62,2,   0.930,2,   0.493,2,  -999.0,9,  -999.0,9,  -9.0000,9,-999.0000,9, -999.00,9, -999.00,9,  -999.0,9,  -999.0,-999.000,9,-999.000,-999.000,9,  -9.0000,-999.0000,  19.9653,   -9.00
  316N145_7,       I08N,     288,          1,         31,         31,4,19950312,       0046,     4.3335,    80.0002,       4307,   120.7,  15.6610,  35.1136,2,  35.0941,2,     26.1,2,    24.9,2,   25.49,2,   28.03,2,    0.01,2,    2.04,2,-999.000,9,-999.000,9,  -999.0,9,  -999.0,9,  -9.0000,9,-999.0000,9, -999.00,9, -999.00,9,  -999.0,9,  -999.0,-999.000,9,-999.000,-999.000,9,  -9.0000,-999.0000,  15.6422,   -9.00
  316N145_7,       I08N,     288,          1,         30,         30,4,19950312,       0046,     4.3335,    80.0002,       4307,   154.9,  14.3312,  35.1158,2,  35.1134,2,     31.2,2,    32.9,2,   26.30,2,   28.32,2,    0.01,2,    2.05,2,   0.626,2,   0.290,2,  -999.0,9,  -999.0,9,  -9.0000,9,-999.0000,9, -999.00,9, -999.00,9,  -999.0,9,  -999.0,-999.000,9,-999.000,-999.000,9,  -9.0000,-999.0000,  14.3085,   -9.00
  316N145_7,       I08N,     288,          1,         29,         29,4,19950312,       0046,     4.3335,    80.0002,       4307,   215.7,  13.0201,  35.1151,2,  35.1111,2,     47.7,2,    50.5,2,   26.28,2,   27.90,2,    0.00,2,    2.00,2,-999.000,9,-999.000,9,  -999.0,9,  -999.0,9,  -9.0000,9,-999.0000,9, -999.00,9, -999.00,9,  -999.0,9,  -999.0,-999.000,9,-999.000,-999.000,9,  -9.0000,-999.0000,  12.9903,   -9.00
  316N145_7,       I08N,     288,          1,         28,         28,4,19950312,       0046,     4.3335,    80.0002,       4307,   255.7,  12.3681,  35.0947,2,  35.0912,2,     65.7,2,    66.4,2,   25.24,2,   27.20,2,    0.00,2,    1.91,2,   0.562,2,   0.284,2,  -999.0,9,  -999.0,9,  -9.0000,9,-999.0000,9, -999.00,9, -999.00,9,  -999.0,9,  -999.0,-999.000,9,-999.000,-999.000,9,  -9.0000,-999.0000,  12.3340,   -9.00
  316N145_7,       I08N,     288,          1,         27,         27,4,19950312,       0046,     4.3335,    80.0002,       4307,   296.4,  11.9240,  35.0775,2,  35.0788,2,     62.1,2,    60.3,2,   27.48,2,   28.37,2,    0.00,2,    2.00,2,   0.471,2,   0.233,2,  -999.0,9,  -999.0,9,  -9.0000,9,-999.0000,9, -999.00,9, -999.00,9,  -999.0,9,  -999.0,-999.000,9,-999.000,-999.000,9,  -9.0000,-999.0000,  11.8853,   -9.00
  316N145_7,       I08N,     288,          1,         26,         26,4,19950312,       0046,     4.3335,    80.0002,       4307,   346.3,  11.3909,  35.0682,2,  35.0668,2,     55.8,2,    54.1,2,   30.75,2,   30.01,2,    0.00,2,    2.11,2,   0.390,2,   0.188,2,  -999.0,9,  -999.0,9,  -9.0000,9,-999.0000,9, -999.00,9, -999.00,9,  -999.0,9,  -999.0,-999.000,9,-999.000,-999.000,9,  -9.0000,-999.0000,  11.3469,   -9.00
  316N145_7,       I08N,     288,          1,         25,         25,4,19950312,       0046,     4.3335,    80.0002,       4307,   396.2,  11.0101,  35.0592,2,  35.0582,2,     48.9,2,    48.2,2,   33.81,2,   31.28,2,    0.00,2,    2.21,2,   0.286,2,   0.139,2,  -999.0,9,  -999.0,9,  -9.0000,9,-999.0000,9, -999.00,9, -999.00,9,  -999.0,9,  -999.0,-999.000,9,-999.000,-999.000,9,  -9.0000,-999.0000,  10.9607,   -9.00
  316N145_7,       I08N,     288,          1,         24,         24,4,19950312,       0046,     4.3335,    80.0002,       4307,   456.3,  10.6615,  35.0707,2,  35.0676,2,     39.4,2,    39.9,2,   37.69,2,   32.50,2,    0.00,2,    2.33,2,   0.197,6,   0.089,6,  -999.0,9,  -999.0,9,  -9.0000,9,-999.0000,9, -999.00,9, -999.00,9,  -999.0,9,  -999.0,-999.000,9,-999.000,-999.000,9,  -9.0000,-999.0000,  10.6056,   -9.00
  316N145_7,       I08N,     288,          1,         23,         23,4,19950312,       0046,     4.3335,    80.0002,       4307,   557.2,   9.8123,  35.0448,2,  35.0427,2,     23.6,2,    22.9,2,   50.80,2,   35.48,2,    0.00,2,    2.60,2,   0.054,2,   0.024,2,  -999.0,9,  -999.0,9,  -9.0000,9,-999.0000,9, -999.00,9, -999.00,9,  -999.0,9,  -999.0,-999.000,9,-999.000,-999.000,9,  -9.0000,-999.0000,   9.7472,   -9.00
  316N145_7,       I08N,     288,          1,         22,         22,4,19950312,       0046,     4.3335,    80.0002,       4307,   658.4,   9.0767,  35.0235,2,  35.0240,2,     31.0,2,    30.1,2,   57.14,2,   35.86,2,    0.00,2,    2.65,2,   0.030,2,   0.012,2,  -999.0,9,  -999.0,9,  -9.0000,9,-999.0000,9, -999.00,9, -999.00,9,  -999.0,9,  -999.0,-999.000,9,-999.000,-999.000,9,  -9.0000,-999.0000,   9.0029,   -9.00
  316N145_7,       I08N,     288,          1,         21,         21,4,19950312,       0046,     4.3335,    80.0002,       4307,   758.0,   8.5077,  35.0141,2,  35.0132,2,     28.5,2,    29.9,2,   65.13,2,   36.47,2,    0.00,2,    2.73,2,-999.000,9,-999.000,9,  -999.0,9,  -999.0,9,  -9.0000,9,-999.0000,9, -999.00,9, -999.00,9,  -999.0,9,  -999.0,-999.000,9,-999.000,-999.000,9,  -9.0000,-999.0000,   8.4254,   -9.00
  316N145_7,       I08N,     288,          1,         20,         20,4,19950312,       0046,     4.3335,    80.0002,       4307,   858.6,   7.8103,  35.0022,2,  35.0017,2,     34.2,2,    35.0,2,   73.13,2,   37.04,2,    0.00,2,    2.78,2,   0.016,2,   0.009,2,  -999.0,9,  -999.0,9,  -9.0000,9,-999.0000,9, -999.00,9, -999.00,9,  -999.0,9,  -999.0,-999.000,9,-999.000,-999.000,9,  -9.0000,-999.0000,   7.7209,   -9.00
  316N145_7,       I08N,     288,          1,         19,         19,4,19950312,       0046,     4.3335,    80.0002,       4307,   959.9,   6.9614,  34.9564,2,  34.9569,2,     45.3,2,    46.4,2,   81.76,2,   37.14,2,    0.00,2,    2.79,2,-999.000,9,-999.000,9,  -999.0,9,  -999.0,9,  -9.0000,9,-999.0000,9, -999.00,9, -999.00,9,  -999.0,9,  -999.0,-999.000,9,-999.000,-999.000,9,  -9.0000,-999.0000,   6.8669,   -9.00
  316N145_7,       I08N,     288,          1,         18,         18,4,19950312,       0046,     4.3335,    80.0002,       4307,  1060.5,   6.4257,  34.9305,2,  34.9305,2,     53.6,2,    53.0,2,   88.35,2,   37.33,2,    0.00,2,    2.80,2,   0.006,6,   0.002,6,  -999.0,9,  -999.0,9,  -9.0000,9,-999.0000,9, -999.00,9, -999.00,9,  -999.0,9,  -999.0,-999.000,9,-999.000,-999.000,9,  -9.0000,-999.0000,   6.3248,   -9.00
  316N145_7,       I08N,     288,          1,         17,         17,4,19950312,       0046,     4.3335,    80.0002,       4307,  1160.3,   5.8837,  34.9051,2,  34.9054,2,     59.1,2,    57.9,2,   95.15,2,   37.53,2,    0.00,2,    2.80,2,-999.000,9,-999.000,9,  -999.0,9,  -999.0,9,  -9.0000,9,-999.0000,9, -999.00,9, -999.00,9,  -999.0,9,  -999.0,-999.000,9,-999.000,-999.000,9,  -9.0000,-999.0000,   5.7773,   -9.00
  316N145_7,       I08N,     288,          1,         16,         16,4,19950312,       0046,     4.3335,    80.0002,       4307,  1262.1,   5.4642,  34.8900,2,  34.8912,2,     64.3,2,    65.3,2,   99.48,2,   37.43,2,    0.00,2,    2.80,2,   0.003,2,   0.002,2,  -999.0,9,  -999.0,9,  -9.0000,9,-999.0000,9, -999.00,9, -999.00,9,  -999.0,9,  -999.0,-999.000,9,-999.000,-999.000,9,  -9.0000,-999.0000,   5.3515,   -9.00
  316N145_7,       I08N,     288,          1,         15,         15,4,19950312,       0046,     4.3335,    80.0002,       4307,  1462.1,   4.4713,  34.8546,2,  34.8568,2,     80.7,2,    81.4,2,  109.46,2,   37.20,2,    0.00,2,    2.77,2,  -0.004,2,   0.000,2,  -999.0,9,  -999.0,9,  -9.0000,9,-999.0000,9, -999.00,9, -999.00,9,  -999.0,9,  -999.0,-999.000,9,-999.000,-999.000,9,  -9.0000,-999.0000,   4.3496,   -9.00
  316N145_7,       I08N,     288,          1,         14,         14,4,19950312,       0046,     4.3335,    80.0002,       4307,  1663.5,   3.7440,  34.8230,2,  34.8238,2,     98.3,2,    97.1,2,  116.56,2,   36.77,2,    0.00,2,    2.72,2,   0.000,2,   0.001,2,  -999.0,9,  -999.0,9,  -9.0000,9,-999.0000,9, -999.00,9, -999.00,9,  -999.0,9,  -999.0,-999.000,9,-999.000,-999.000,9,  -9.0000,-999.0000,   3.6123,   -9.00
  316N145_7,       I08N,     288,          1,         13,         13,4,19950312,       0046,     4.3335,    80.0002,       4307,  1866.5,   3.0909,  34.7954,2,  34.7949,2,    112.0,2,   115.4,2,  122.01,2,   35.97,2,    0.00,2,    2.64,2,-999.000,9,-999.000,9,  -999.0,9,  -999.0,9,  -9.0000,9,-999.0000,9, -999.00,9, -999.00,9,  -999.0,9,  -999.0,-999.000,9,-999.000,-999.000,9,  -9.0000,-999.0000,   2.9496,   -9.00
  316N145_7,       I08N,     288,          1,         12,         12,4,19950312,       0046,     4.3335,    80.0002,       4307,  2017.2,   2.7326,  34.7800,2,  34.7803,2,    121.0,7,   120.7,2,  127.48,2,   35.97,2,    0.00,2,    2.63,2,-999.000,9,-999.000,9,  -999.0,9,  -999.0,9,  -9.0000,9,-999.0000,9, -999.00,9, -999.00,9,  -999.0,9,  -999.0,-999.000,9,-999.000,-999.000,9,  -9.0000,-999.0000,   2.5830,   -9.00
  316N145_7,       I08N,     288,          1,         11,         11,4,19950312,       0046,     4.3335,    80.0002,       4307,  2219.9,   2.4187,  34.7635,2,  34.7633,2,    129.1,7,   128.9,2,  131.92,2,   35.74,2,    0.00,2,    2.59,2,-999.000,9,-999.000,9,  -999.0,9,  -999.0,9,  -9.0000,9,-999.0000,9, -999.00,9, -999.00,9,  -999.0,9,  -999.0,-999.000,9,-999.000,-999.000,9,  -9.0000,-999.0000,   2.2560,   -9.00
  316N145_7,       I08N,     288,          1,         10,         10,4,19950312,       0046,     4.3335,    80.0002,       4307,  2422.4,   2.1849,  34.7528,2,  34.7523,2,    137.0,7,   135.1,2,  134.67,2,   35.55,2,    0.00,2,    2.55,2,-999.000,9,-999.000,9,  -999.0,9,  -999.0,9,  -9.0000,9,-999.0000,9, -999.00,9, -999.00,9,  -999.0,9,  -999.0,-999.000,9,-999.000,-999.000,9,  -9.0000,-999.0000,   2.0079,   -9.00
  316N145_7,       I08N,     288,          1,          9,          9,4,19950312,       0046,     4.3335,    80.0002,       4307,  2625.4,   1.9555,  34.7422,2,  34.7420,2,    142.2,7,   142.9,2,  137.00,2,   35.22,2,    0.00,2,    2.53,2,-999.000,9,-999.000,9,  -999.0,9,  -999.0,9,  -9.0000,9,-999.0000,9, -999.00,9, -999.00,9,  -999.0,9,  -999.0,-999.000,9,-999.000,-999.000,9,  -9.0000,-999.0000,   1.7641,   -9.00
  316N145_7,       I08N,     288,          1,          8,          8,4,19950312,       0046,     4.3335,    80.0002,       4307,  2827.5,   1.8061,  34.7365,2,  34.7360,2,    146.5,7,   145.8,2,  139.77,2,   35.17,2,    0.00,2,    2.51,2,-999.000,9,-999.000,9,  -999.0,9,  -999.0,9,  -9.0000,9,-999.0000,9, -999.00,9, -999.00,9,  -999.0,9,  -999.0,-999.000,9,-999.000,-999.000,9,  -9.0000,-999.0000,   1.5989,   -9.00
  316N145_7,       I08N,     288,          1,          7,          7,4,19950312,       0046,     4.3335,    80.0002,       4307,  3032.3,   1.6848,  34.7311,2,  34.7301,2,    152.2,7,   153.0,2,  139.74,2,   34.89,2,    0.00,2,    2.48,2,   0.000,2,   0.003,2,  -999.0,9,  -999.0,9,  -9.0000,9,-999.0000,9, -999.00,9, -999.00,9,  -999.0,9,  -999.0,-999.000,9,-999.000,-999.000,9,  -9.0000,-999.0000,   1.4605,   -9.00
  316N145_7,       I08N,     288,          1,          6,          6,4,19950312,       0046,     4.3335,    80.0002,       4307,  3236.0,   1.6032,  34.7282,2,  34.7281,2,    152.6,7,   152.9,2,  142.73,2,   34.99,2,    0.00,2,    2.47,2,-999.000,9,-999.000,9,  -999.0,9,  -999.0,9,  -9.0000,9,-999.0000,9, -999.00,9, -999.00,9,  -999.0,9,  -999.0,-999.000,9,-999.000,-999.000,9,  -9.0000,-999.0000,   1.3609,   -9.00
  316N145_7,       I08N,     288,          1,          5,          5,2,19950312,       0046,     4.3335,    80.0002,       4307,  3694.7,   1.4259,  34.7213,2,  34.7211,2,    163.1,7,   164.5,2,  142.05,2,   34.47,2,    0.00,2,    2.42,2,-999.000,9,-999.000,9,  -999.0,9,  -999.0,9,  -9.0000,9,-999.0000,9, -999.00,9, -999.00,9,  -999.0,9,  -999.0,-999.000,9,-999.000,-999.000,9,  -9.0000,-999.0000,   1.1414,   -9.00
  316N145_7,       I08N,     288,          1,          4,          4,2,19950312,       0046,     4.3335,    80.0002,       4307,  3900.6,   1.4146,  34.7203,2,  34.7197,2,    166.7,7,   166.8,2,  141.59,2,   34.42,2,    0.00,2,    2.40,2,-999.000,9,-999.000,9,  -999.0,9,  -999.0,9,  -9.0000,9,-999.0000,9, -999.00,9, -999.00,9,  -999.0,9,  -999.0,-999.000,9,-999.000,-999.000,9,  -9.0000,-999.0000,   1.1086,   -9.00
  316N145_7,       I08N,     288,          1,          3,          3,2,19950312,       0046,     4.3335,    80.0002,       4307,  4104.6,   1.4098,  34.7193,2,  34.7187,2,    169.7,7,   170.3,2,  139.83,2,   34.19,2,    0.00,2,    2.39,2,   0.002,2,   0.003,2,  -999.0,9,  -999.0,9,  -9.0000,9,-999.0000,9, -999.00,9, -999.00,9,  -999.0,9,  -999.0,-999.000,9,-999.000,-999.000,9,  -9.0000,-999.0000,   1.0819,   -9.00
  316N145_7,       I08N,     288,          1,          2,          2,2,19950312,       0046,     4.3335,    80.0002,       4307,  4257.2,   1.4011,  34.7188,2,  34.7179,2,    173.7,7,   173.3,2,  138.51,2,   34.00,2,    0.00,2,    2.37,2,-999.000,9,-999.000,9,  -999.0,9,  -999.0,9,  -9.0000,9,-999.0000,9, -999.00,9, -999.00,9,  -999.0,9,  -999.0,-999.000,9,-999.000,-999.000,9,  -9.0000,-999.0000,   1.0565,   -9.00
  316N145_7,       I08N,     288,          1,          1,          1,2,19950312,       0046,     4.3335,    80.0002,       4307,  4375.2,   1.4062,  34.7191,2,  34.7182,2,    175.2,7,   175.1,2,  137.62,2,   33.91,2,    0.00,2,    2.37,2,  -0.002,2,   0.000,2,  -999.0,9,  -999.0,9,  -9.0000,9,-999.0000,9, -999.00,9, -999.00,9,  -999.0,9,  -999.0,-999.000,9,-999.000,-999.000,9,  -9.0000,-999.0000,   1.0482,   -9.00