BOTTLE,20211124CCHSIORKP
EXPOCODE,SECT_ID,STNNBR,CASTNO,SAMPNO,BTLNBR,BTLNBR_FLAG_W,DATE,TIME,LATITUDE,LONGITUDE,DEPTH,CTDPRS,CTDTMP,CTDSAL,CTDSAL_FLAG_W,SALNTY,SALNTY_FLAG_W,CTDOXY,CTDOXY_FLAG_W,OXYGEN,OXYGEN_FLAG_W,SILCAT,SILCAT_FLAG_W,NITRAT,NITRAT_FLAG_W,NITRIT,NITRIT_FLAG_W,PHSPHT,PHSPHT_FLAG_W,CFC-11,CFC-11_FLAG_W,CFC-12,CFC-12_FLAG_W,TCARBN,TCARBN_FLAG_W,ALKALI,ALKALI_FLAG_W,TRITUM,TRITUM_FLAG_W,HELIUM,HELIUM_FLAG_W,DELHE3,DELHE3_FLAG_W,DELC13,DELC13_FLAG_W,DELC14,DELC14_FLAG_W,C14ERR,NEON,NEON_FLAG_W,NEONER,CCL4,CCL4_FLAG_W,TRITER,HELIER,THETA,DELHER
,,,,,,,,,,,METERS,DBAR,ITS-90,PSS-78,,PSS-78,,UMOL/KG,,UMOL/KG,,UMOL/KG,,UMOL/KG,,UMOL/KG,,UMOL/KG,,PMOL/KG,,PMOL/KG,,UMOL/KG,,UMOL/KG,,TU,,NMOL/KG,,PERCNT,,/MILLE,,/MILLE,,/MILLE,NMOL/KG,,NMOL/KG,PMOL/KG,,TU,NMOL/KG,DEG C,PERCNT
  316N145_7,       I08N,     339,          1,         36,         36,2,19950323,       0731,   -16.4998,    80.0015,       4944,     4.5,  27.9566,  34.7780,2,  34.7773,2,    197.5,2,   199.6,2,    2.78,2,    0.14,2,    0.00,2,    0.11,2,-999.000,9,-999.000,9,  -999.0,5,  2274.0,2,  -9.0000,9,-999.0000,9, -999.00,9, -999.00,9,  -999.0,9,  -999.0,-999.000,9,-999.000,-999.000,9,  -9.0000,-999.0000,  27.9555,   -9.00
  316N145_7,       I08N,     339,          1,         35,         35,2,19950323,       0731,   -16.4998,    80.0015,       4944,    41.2,  27.8952,  34.7780,2,  34.7769,2,    207.4,2,   200.1,2,    2.76,2,    0.14,2,    0.00,2,    0.11,2,-999.000,9,-999.000,9,  -999.0,9,  -999.0,9,  -9.0000,9,-999.0000,9, -999.00,9, -999.00,9,  -999.0,9,  -999.0,-999.000,9,-999.000,-999.000,9,  -9.0000,-999.0000,  27.8855,   -9.00
  316N145_7,       I08N,     339,          1,         34,         34,2,19950323,       0731,   -16.4998,    80.0015,       4944,    86.5,  23.5374,  35.1433,2,  35.1415,2,    220.1,2,   219.0,2,    2.95,2,    0.14,2,    0.00,2,    0.13,2,-999.000,9,-999.000,9,  -999.0,9,  -999.0,9,  -9.0000,9,-999.0000,9, -999.00,9, -999.00,9,  -999.0,9,  -999.0,-999.000,9,-999.000,-999.000,9,  -9.0000,-999.0000,  23.5195,   -9.00
  316N145_7,       I08N,     339,          1,         33,         33,2,19950323,       0731,   -16.4998,    80.0015,       4944,   137.1,  21.7330,  35.3768,2,  35.3800,2,    206.0,2,   204.3,2,    3.35,2,    0.50,2,    0.31,2,    0.20,2,-999.000,9,-999.000,9,  -999.0,9,  -999.0,9,  -9.0000,9,-999.0000,9, -999.00,9, -999.00,9,  -999.0,9,  -999.0,-999.000,9,-999.000,-999.000,9,  -9.0000,-999.0000,  21.7061,   -9.00
  316N145_7,       I08N,     339,          1,         32,         32,2,19950323,       0731,   -16.4998,    80.0015,       4944,   187.3,  20.4581,  35.6127,2,  35.6173,2,    196.4,2,   193.7,2,    3.96,2,    2.31,2,    0.02,2,    0.29,2,-999.000,9,-999.000,9,  -999.0,9,  -999.0,9,  -9.0000,9,-999.0000,9, -999.00,9, -999.00,9,  -999.0,9,  -999.0,-999.000,9,-999.000,-999.000,9,  -9.0000,-999.0000,  20.4228,   -9.00
  316N145_7,       I08N,     339,          1,         31,         31,2,19950323,       0731,   -16.4998,    80.0015,       4944,   247.2,  18.3260,  35.7711,2,  35.7787,2,    195.0,2,   200.7,2,    3.32,2,    2.32,2,    0.01,2,    0.31,2,-999.000,9,-999.000,9,  -999.0,9,  -999.0,9,  -9.0000,9,-999.0000,9, -999.00,9, -999.00,9,  -999.0,9,  -999.0,-999.000,9,-999.000,-999.000,9,  -9.0000,-999.0000,  18.2827,   -9.00
  316N145_7,       I08N,     339,          1,         30,         30,2,19950323,       0731,   -16.4998,    80.0015,       4944,   317.2,  14.7658,  35.4208,2,  35.4393,2,    190.1,2,   188.7,2,    8.08,2,    8.36,2,    0.00,2,    0.69,2,-999.000,9,-999.000,9,  -999.0,9,  -999.0,9,  -9.0000,9,-999.0000,9, -999.00,9, -999.00,9,  -999.0,9,  -999.0,-999.000,9,-999.000,-999.000,9,  -9.0000,-999.0000,  14.7180,   -9.00
  316N145_7,       I08N,     339,          1,         29,         29,2,19950323,       0731,   -16.4998,    80.0015,       4944,   378.0,  13.0060,  35.2188,2,  35.2483,2,    201.0,2,   206.0,2,    6.82,2,    9.65,2,    0.00,2,    0.77,2,-999.000,9,-999.000,9,  -999.0,9,  -999.0,9,  -9.0000,9,-999.0000,9, -999.00,9, -999.00,9,  -999.0,9,  -999.0,-999.000,9,-999.000,-999.000,9,  -9.0000,-999.0000,  12.9535,   -9.00
  316N145_7,       I08N,     339,          1,         28,         28,2,19950323,       0731,   -16.4998,    80.0015,       4944,   407.3,  12.1537,  35.0849,2,  35.0862,2,    191.3,2,   188.2,2,   12.00,2,   13.60,2,    0.00,2,    1.02,2,-999.000,9,-999.000,9,  -999.0,9,  -999.0,9,  -9.0000,9,-999.0000,9, -999.00,9, -999.00,9,  -999.0,9,  -999.0,-999.000,9,-999.000,-999.000,9,  -9.0000,-999.0000,  12.0996,   -9.00
  316N145_7,       I08N,     339,          1,         27,         27,2,19950323,       0731,   -16.4998,    80.0015,       4944,   484.0,  10.6657,  34.8955,2,  34.8957,2,    221.4,2,   227.5,2,    5.54,2,   13.31,2,    0.00,2,    0.98,2,-999.000,9,-999.000,9,  -999.0,9,  -999.0,9,  -9.0000,9,-999.0000,9, -999.00,9, -999.00,9,  -999.0,9,  -999.0,-999.000,9,-999.000,-999.000,9,  -9.0000,-999.0000,  10.6065,   -9.00
  316N145_7,       I08N,     339,          1,         26,         26,2,19950323,       0731,   -16.4998,    80.0015,       4944,   558.6,   9.1922,  34.6943,2,  34.6930,2,    217.1,2,   218.9,2,    8.23,2,   17.99,2,    0.00,2,    1.27,2,-999.000,9,-999.000,9,  -999.0,9,  -999.0,9,  -9.0000,9,-999.0000,9, -999.00,9, -999.00,9,  -999.0,9,  -999.0,-999.000,9,-999.000,-999.000,9,  -9.0000,-999.0000,   9.1297,   -9.00
  316N145_7,       I08N,     339,          1,         25,         25,2,19950323,       0731,   -16.4998,    80.0015,       4944,   659.6,   7.2720,  34.5575,2,  34.5586,2,    185.9,2,   175.0,2,   26.30,2,   26.64,2,    0.00,2,    1.84,2,-999.000,9,-999.000,9,  -999.0,9,  -999.0,9,  -9.0000,9,-999.0000,9, -999.00,9, -999.00,9,  -999.0,9,  -999.0,-999.000,9,-999.000,-999.000,9,  -9.0000,-999.0000,   7.2073,   -9.00
  316N145_7,       I08N,     339,          1,         24,         24,2,19950323,       0731,   -16.4998,    80.0015,       4944,   759.1,   6.2497,  34.5978,2,  34.5969,2,    128.9,2,   124.6,2,   54.78,2,   32.76,2,    0.01,2,    2.31,2,-999.000,9,-999.000,9,  -999.0,9,  -999.0,9,  -9.0000,9,-999.0000,9, -999.00,9, -999.00,9,  -999.0,9,  -999.0,-999.000,9,-999.000,-999.000,9,  -9.0000,-999.0000,   6.1805,   -9.00
  316N145_7,       I08N,     339,          1,         23,         23,2,19950323,       0731,   -16.4998,    80.0015,       4944,   859.9,   5.8040,  34.6620,2,  34.6629,2,     99.5,2,    96.9,2,   75.40,2,   35.47,2,    0.01,2,    2.55,2,-999.000,9,-999.000,9,  -999.0,9,  -999.0,9,  -9.0000,9,-999.0000,9, -999.00,9, -999.00,9,  -999.0,9,  -999.0,-999.000,9,-999.000,-999.000,9,  -9.0000,-999.0000,   5.7277,   -9.00
  316N145_7,       I08N,     339,          1,         22,         22,2,19950323,       0731,   -16.4998,    80.0015,       4944,   962.1,   5.3972,  34.6778,2,  34.6796,2,     94.7,2,    93.8,2,   84.16,2,   36.10,2,    0.01,2,    2.61,2,-999.000,9,-999.000,9,  -999.0,9,  -999.0,9,  -9.0000,9,-999.0000,9, -999.00,9, -999.00,9,  -999.0,9,  -999.0,-999.000,9,-999.000,-999.000,9,  -9.0000,-999.0000,   5.3142,   -9.00
  316N145_7,       I08N,     339,          1,         21,         21,2,19950323,       0731,   -16.4998,    80.0015,       4944,  1061.9,   5.0082,  34.6838,2,  34.6855,2,     97.3,2,    96.3,2,   90.43,2,   36.39,2,    0.01,2,    2.63,2,-999.000,9,-999.000,9,  -999.0,9,  -999.0,9,  -9.0000,9,-999.0000,9, -999.00,9, -999.00,9,  -999.0,9,  -999.0,-999.000,9,-999.000,-999.000,9,  -9.0000,-999.0000,   4.9188,   -9.00
  316N145_7,       I08N,     339,          1,         20,         20,2,19950323,       0731,   -16.4998,    80.0015,       4944,  1188.3,   4.5877,  34.6840,2,  34.6857,2,     97.9,2,   100.9,2,   96.08,2,   36.53,2,    0.01,2,    2.64,2,-999.000,9,-999.000,9,  -999.0,9,  -999.0,9,  -9.0000,9,-999.0000,9, -999.00,9, -999.00,9,  -999.0,9,  -999.0,-999.000,9,-999.000,-999.000,9,  -9.0000,-999.0000,   4.4905,   -9.00
  316N145_7,       I08N,     339,          1,         19,         19,2,19950323,       0731,   -16.4998,    80.0015,       4944,  1339.4,   4.0459,  34.6840,2,  34.6857,2,    107.9,2,   108.9,2,  100.70,2,   36.44,2,    0.01,2,    2.62,2,-999.000,9,-999.000,9,  -999.0,9,  -999.0,9,  -9.0000,9,-999.0000,9, -999.00,9, -999.00,9,  -999.0,9,  -999.0,-999.000,9,-999.000,-999.000,9,  -9.0000,-999.0000,   3.9403,   -9.00
  316N145_7,       I08N,     339,          1,         18,         18,2,19950323,       0731,   -16.4998,    80.0015,       4944,  1516.6,   3.5144,  34.7010,2,  34.7011,2,    119.9,2,   121.7,2,  103.21,2,   35.95,2,    0.01,2,    2.58,2,-999.000,9,-999.000,9,  -999.0,9,  -999.0,9,  -9.0000,9,-999.0000,9, -999.00,9, -999.00,9,  -999.0,9,  -999.0,-999.000,9,-999.000,-999.000,9,  -9.0000,-999.0000,   3.3990,   -9.00
  316N145_7,       I08N,     339,          1,         17,         17,2,19950323,       0731,   -16.4998,    80.0015,       4944,  1716.6,   3.0510,  34.7173,2,  34.7172,2,    133.4,2,   134.0,2,  106.78,2,   35.32,2,    0.01,2,    2.52,2,-999.000,9,-999.000,9,  -999.0,9,  -999.0,9,  -9.0000,9,-999.0000,9, -999.00,9, -999.00,9,  -999.0,9,  -999.0,-999.000,9,-999.000,-999.000,9,  -9.0000,-999.0000,   2.9236,   -9.00
  316N145_7,       I08N,     339,          1,         16,         16,2,19950323,       0731,   -16.4998,    80.0015,       4944,  1919.9,   2.6455,  34.7254,2,  34.7256,2,    142.0,2,   142.8,2,  112.06,2,   34.99,2,    0.00,2,    2.49,2,-999.000,9,-999.000,9,  -999.0,9,  -999.0,9,  -9.0000,9,-999.0000,9, -999.00,9, -999.00,9,  -999.0,9,  -999.0,-999.000,9,-999.000,-999.000,9,  -9.0000,-999.0000,   2.5061,   -9.00
  316N145_7,       I08N,     339,          1,         15,         15,2,19950323,       0731,   -16.4998,    80.0015,       4944,  2122.5,   2.3089,  34.7288,2,  34.7302,2,    154.1,2,   154.5,2,  115.02,2,   34.41,2,    0.00,2,    2.43,2,-999.000,9,-999.000,9,  -999.0,9,  -999.0,9,  -9.0000,9,-999.0000,9, -999.00,9, -999.00,9,  -999.0,9,  -999.0,-999.000,9,-999.000,-999.000,9,  -9.0000,-999.0000,   2.1568,   -9.00
  316N145_7,       I08N,     339,          1,         14,         14,2,19950323,       0731,   -16.4998,    80.0015,       4944,  2327.0,   2.0815,  34.7292,2,  34.7313,3,    161.2,2,   161.0,2,  116.92,2,   34.12,2,    0.00,2,    2.41,2,-999.000,9,-999.000,9,  -999.0,9,  -999.0,9,  -9.0000,9,-999.0000,9, -999.00,9, -999.00,9,  -999.0,9,  -999.0,-999.000,9,-999.000,-999.000,9,  -9.0000,-999.0000,   1.9151,   -9.00
  316N145_7,       I08N,     339,          1,         13,         13,2,19950323,       0731,   -16.4998,    80.0015,       4944,  2529.7,   1.9231,  34.7289,2,  34.7298,2,    166.0,2,   166.3,2,  119.03,2,   33.93,2,    0.00,2,    2.37,2,-999.000,9,-999.000,9,  -999.0,9,  -999.0,9,  -9.0000,9,-999.0000,9, -999.00,9, -999.00,9,  -999.0,9,  -999.0,-999.000,9,-999.000,-999.000,9,  -9.0000,-999.0000,   1.7412,   -9.00
  316N145_7,       I08N,     339,          1,         12,         12,2,19950323,       0731,   -16.4998,    80.0015,       4944,  2732.8,   1.7936,  34.7271,2,  34.7278,2,    171.9,2,   171.9,2,  119.44,2,   33.59,2,    0.00,2,    2.34,2,-999.000,9,-999.000,9,  -999.0,9,  -999.0,9,  -9.0000,9,-999.0000,9, -999.00,9, -999.00,9,  -999.0,9,  -999.0,-999.000,9,-999.000,-999.000,9,  -9.0000,-999.0000,   1.5956,   -9.00
  316N145_7,       I08N,     339,          1,         11,         11,2,19950323,       0731,   -16.4998,    80.0015,       4944,  2935.1,   1.6964,  34.7263,2,  34.7272,2,    173.9,2,   173.4,2,  122.20,2,   33.64,2,    0.00,2,    2.34,2,-999.000,9,-999.000,9,  -999.0,9,  -999.0,9,  -9.0000,9,-999.0000,9, -999.00,9, -999.00,9,  -999.0,9,  -999.0,-999.000,9,-999.000,-999.000,9,  -9.0000,-999.0000,   1.4813,   -9.00
  316N145_7,       I08N,     339,          1,         10,         10,2,19950323,       0731,   -16.4998,    80.0015,       4944,  3140.7,   1.5925,  34.7250,2,  34.7248,2,    176.2,2,   176.0,2,  123.90,2,   33.59,2,    0.00,2,    2.33,2,-999.000,9,-999.000,9,  -999.0,9,  -999.0,9,  -9.0000,9,-999.0000,9, -999.00,9, -999.00,9,  -999.0,9,  -999.0,-999.000,9,-999.000,-999.000,9,  -9.0000,-999.0000,   1.3599,   -9.00
  316N145_7,       I08N,     339,          1,          9,          9,2,19950323,       0731,   -16.4998,    80.0015,       4944,  3342.5,   1.5024,  34.7238,2,  34.7241,2,    180.6,2,   180.4,2,  124.31,2,   33.35,2,    0.00,2,    2.32,2,-999.000,9,-999.000,9,  -999.0,9,  -999.0,9,  -9.0000,9,-999.0000,9, -999.00,9, -999.00,9,  -999.0,9,  -999.0,-999.000,9,-999.000,-999.000,9,  -9.0000,-999.0000,   1.2519,   -9.00
  316N145_7,       I08N,     339,          1,          8,          8,2,19950323,       0731,   -16.4998,    80.0015,       4944,  3547.1,   1.4240,  34.7221,2,  34.7227,2,    183.9,2,   183.4,2,  125.16,2,   33.20,2,    0.00,2,    2.30,2,-999.000,9,-999.000,9,  -999.0,9,  -999.0,9,  -9.0000,9,-999.0000,9, -999.00,9, -999.00,9,  -999.0,9,  -999.0,-999.000,9,-999.000,-999.000,9,  -9.0000,-999.0000,   1.1548,   -9.00
  316N145_7,       I08N,     339,          1,          7,          7,2,19950323,       0731,   -16.4998,    80.0015,       4944,  3751.2,   1.3811,  34.7198,2,  34.7207,2,    184.3,2,   182.9,2,  128.36,2,   33.40,2,    0.00,2,    2.31,2,-999.000,9,-999.000,9,  -999.0,9,  -999.0,9,  -9.0000,9,-999.0000,9, -999.00,9, -999.00,9,  -999.0,9,  -999.0,-999.000,9,-999.000,-999.000,9,  -9.0000,-999.0000,   1.0918,   -9.00
  316N145_7,       I08N,     339,          1,          6,          6,2,19950323,       0731,   -16.4998,    80.0015,       4944,  3954.2,   1.3637,  34.7187,2,  34.7188,2,    182.8,2,   183.0,2,  130.29,2,   33.55,2,    0.00,2,    2.32,2,-999.000,9,-999.000,9,  -999.0,9,  -999.0,9,  -9.0000,9,-999.0000,9, -999.00,9, -999.00,9,  -999.0,9,  -999.0,-999.000,9,-999.000,-999.000,9,  -9.0000,-999.0000,   1.0533,   -9.00
  316N145_7,       I08N,     339,          1,          5,          5,2,19950323,       0731,   -16.4998,    80.0015,       4944,  4159.7,   1.3638,  34.7176,2,  34.7176,2,    182.6,2,   182.7,2,  131.56,2,   33.50,2,    0.00,2,    2.33,2,-999.000,9,-999.000,9,  -999.0,9,  -999.0,9,  -9.0000,9,-999.0000,9, -999.00,9, -999.00,9,  -999.0,9,  -999.0,-999.000,9,-999.000,-999.000,9,  -9.0000,-999.0000,   1.0311,   -9.00
  316N145_7,       I08N,     339,          1,          4,          4,2,19950323,       0731,   -16.4998,    80.0015,       4944,  4348.5,   1.3728,  34.7174,2,  34.7180,2,    183.1,2,   182.8,2,  132.20,2,   33.69,2,    0.00,2,    2.33,2,-999.000,9,-999.000,9,  -999.0,9,  -999.0,9,  -9.0000,9,-999.0000,9, -999.00,9, -999.00,9,  -999.0,9,  -999.0,-999.000,9,-999.000,-999.000,9,  -9.0000,-999.0000,   1.0188,   -9.00
  316N145_7,       I08N,     339,          1,          3,          3,2,19950323,       0731,   -16.4998,    80.0015,       4944,  4620.9,   1.3944,  34.7173,2,  34.7168,2,    181.7,2,   182.6,2,  133.26,2,   33.84,2,    0.00,2,    2.33,2,-999.000,9,-999.000,9,  -999.0,9,  -999.0,9,  -9.0000,9,-999.0000,9, -999.00,9, -999.00,9,  -999.0,9,  -999.0,-999.000,9,-999.000,-999.000,9,  -9.0000,-999.0000,   1.0086,   -9.00
  316N145_7,       I08N,     339,          1,          2,          2,2,19950323,       0731,   -16.4998,    80.0015,       4944,  4851.9,   1.4174,  34.7168,2,  34.7172,2,    182.7,2,   182.9,2,  133.46,2,   33.84,2,    0.00,2,    2.33,2,-999.000,9,-999.000,9,  -999.0,9,  -999.0,9,  -9.0000,9,-999.0000,9, -999.00,9, -999.00,9,  -999.0,9,  -999.0,-999.000,9,-999.000,-999.000,9,  -9.0000,-999.0000,   1.0036,   -9.00
  316N145_7,       I08N,     339,          1,          1,          1,2,19950323,       0731,   -16.4998,    80.0015,       4944,  5102.9,   1.4400,  34.7168,2,  34.7170,2,    184.2,2,   183.9,2,  132.15,2,   33.70,2,    0.00,2,    2.33,2,-999.000,9,-999.000,9,  -999.0,9,  -999.0,9,  -9.0000,9,-999.0000,9, -999.00,9, -999.00,9,  -999.0,9,  -999.0,-999.000,9,-999.000,-999.000,9,  -9.0000,-999.0000,   0.9951,   -9.00