BOTTLE,20211124CCHSIORKP
EXPOCODE,SECT_ID,STNNBR,CASTNO,SAMPNO,BTLNBR,BTLNBR_FLAG_W,DATE,TIME,LATITUDE,LONGITUDE,DEPTH,CTDPRS,CTDTMP,CTDSAL,CTDSAL_FLAG_W,SALNTY,SALNTY_FLAG_W,CTDOXY,CTDOXY_FLAG_W,OXYGEN,OXYGEN_FLAG_W,SILCAT,SILCAT_FLAG_W,NITRAT,NITRAT_FLAG_W,NITRIT,NITRIT_FLAG_W,PHSPHT,PHSPHT_FLAG_W,CFC-11,CFC-11_FLAG_W,CFC-12,CFC-12_FLAG_W,TCARBN,TCARBN_FLAG_W,ALKALI,ALKALI_FLAG_W,TRITUM,TRITUM_FLAG_W,HELIUM,HELIUM_FLAG_W,DELHE3,DELHE3_FLAG_W,DELC13,DELC13_FLAG_W,DELC14,DELC14_FLAG_W,C14ERR,NEON,NEON_FLAG_W,NEONER,CCL4,CCL4_FLAG_W,TRITER,HELIER,THETA,DELHER
,,,,,,,,,,,METERS,DBAR,ITS-90,PSS-78,,PSS-78,,UMOL/KG,,UMOL/KG,,UMOL/KG,,UMOL/KG,,UMOL/KG,,UMOL/KG,,PMOL/KG,,PMOL/KG,,UMOL/KG,,UMOL/KG,,TU,,NMOL/KG,,PERCNT,,/MILLE,,/MILLE,,/MILLE,NMOL/KG,,NMOL/KG,PMOL/KG,,TU,NMOL/KG,DEG C,PERCNT
  316N145_7,      TRANS,     391,          1,         36,         36,2,19950403,       0525,   -28.5838,    87.1533,       3535,     3.1,  23.2782,  36.0812,2,  36.0802,2,    214.7,2,   215.3,2,    2.45,2,    0.11,2,    0.00,2,    0.11,2,   1.953,2,   1.131,2,  -999.0,9,  -999.0,9,  -9.0000,9,-999.0000,9, -999.00,9, -999.00,9,  -999.0,9,  -999.0,-999.000,9,-999.000,   2.528,2,  -9.0000,-999.0000,  23.2776,   -9.00
  316N145_7,      TRANS,     391,          1,         35,         35,2,19950403,       0525,   -28.5838,    87.1533,       3535,    30.4,  23.2176,  36.0802,2,  36.0770,2,    208.4,2,   215.6,2,    2.44,2,    0.16,2,    0.00,2,    0.11,2,-999.000,9,-999.000,9,  -999.0,9,  -999.0,9,  -9.0000,9,-999.0000,9, -999.00,9, -999.00,9,  -999.0,9,  -999.0,-999.000,9,-999.000,-999.000,9,  -9.0000,-999.0000,  23.2114,   -9.00
  316N145_7,      TRANS,     391,          1,         34,         34,2,19950403,       0525,   -28.5838,    87.1533,       3535,    80.7,  17.2693,  35.6030,2,  35.6179,2,    257.8,2,   257.9,2,    2.00,2,    0.11,2,    0.00,2,    0.17,2,-999.000,9,-999.000,9,  -999.0,9,  -999.0,9,  -9.0000,9,-999.0000,9, -999.00,9, -999.00,9,  -999.0,9,  -999.0,-999.000,9,-999.000,-999.000,9,  -9.0000,-999.0000,  17.2558,   -9.00
  316N145_7,      TRANS,     391,          1,         33,         33,2,19950403,       0525,   -28.5838,    87.1533,       3535,   115.3,  15.2873,  35.5207,2,  35.5155,2,    243.2,2,   238.8,2,    1.99,2,    0.86,2,    0.13,2,    0.30,2,-999.000,9,-999.000,9,  -999.0,9,  -999.0,9,  -9.0000,9,-999.0000,9, -999.00,9, -999.00,9,  -999.0,9,  -999.0,-999.000,9,-999.000,-999.000,9,  -9.0000,-999.0000,  15.2695,   -9.00
  316N145_7,      TRANS,     391,          1,         32,         32,2,19950403,       0525,   -28.5838,    87.1533,       3535,   155.2,  14.2742,  35.4141,2,  35.4066,2,    232.8,2,   232.8,2,    2.40,2,    4.05,2,    0.13,2,    0.45,2,   2.982,2,   1.568,2,  -999.0,9,  -999.0,9,  -9.0000,9,-999.0000,9, -999.00,9, -999.00,9,  -999.0,9,  -999.0,-999.000,9,-999.000,   1.661,2,  -9.0000,-999.0000,  14.2515,   -9.00
  316N145_7,      TRANS,     391,          1,         31,         31,2,19950403,       0525,   -28.5838,    87.1533,       3535,   205.6,  13.2158,  35.2850,2,  35.2785,2,    229.0,2,   229.7,2,    3.02,2,    6.92,2,    0.01,2,    0.60,2,-999.000,9,-999.000,9,  -999.0,9,  -999.0,9,  -9.0000,9,-999.0000,9, -999.00,9, -999.00,9,  -999.0,9,  -999.0,-999.000,9,-999.000,-999.000,9,  -9.0000,-999.0000,  13.1871,   -9.00
  316N145_7,      TRANS,     391,          1,         30,         30,2,19950403,       0525,   -28.5838,    87.1533,       3535,   255.9,  12.3919,  35.1627,2,  35.1586,2,    230.1,2,   233.2,2,    3.44,2,    8.69,2,    0.01,2,    0.71,2,   3.095,2,   1.643,2,  -999.0,9,  -999.0,9,  -9.0000,9,-999.0000,9, -999.00,9, -999.00,9,  -999.0,9,  -999.0,-999.000,9,-999.000,   1.267,2,  -9.0000,-999.0000,  12.3577,   -9.00
  316N145_7,      TRANS,     391,          1,         29,         29,2,19950403,       0525,   -28.5838,    87.1533,       3535,   306.1,  11.8344,  35.0758,2,  35.0753,2,    235.1,2,   236.8,2,    3.85,2,    9.72,2,    0.01,2,    0.77,2,-999.000,9,-999.000,9,  -999.0,9,  -999.0,9,  -9.0000,9,-999.0000,9, -999.00,9, -999.00,9,  -999.0,9,  -999.0,-999.000,9,-999.000,-999.000,9,  -9.0000,-999.0000,  11.7946,   -9.00
  316N145_7,      TRANS,     391,          1,         28,         28,2,19950403,       0525,   -28.5838,    87.1533,       3535,   355.7,  11.3087,  34.9947,2,  34.9932,2,    236.8,2,   239.0,2,    4.05,2,   10.85,2,    0.00,2,    0.83,2,   3.140,2,   1.609,2,  -999.0,9,  -999.0,9,  -9.0000,9,-999.0000,9, -999.00,9, -999.00,9,  -999.0,9,  -999.0,-999.000,9,-999.000,   1.508,2,  -9.0000,-999.0000,  11.2638,   -9.00
  316N145_7,      TRANS,     391,          1,         27,         27,2,19950403,       0525,   -28.5838,    87.1533,       3535,   405.5,  10.8423,  34.9221,2,  34.9194,2,    239.4,2,   240.2,2,    4.46,2,   11.98,2,    0.00,2,    0.90,2,-999.000,9,-999.000,9,  -999.0,9,  -999.0,9,  -9.0000,9,-999.0000,9, -999.00,9, -999.00,9,  -999.0,9,  -999.0,-999.000,9,-999.000,-999.000,9,  -9.0000,-999.0000,  10.7923,   -9.00
  316N145_7,      TRANS,     391,          1,         26,         26,2,19950403,       0525,   -28.5838,    87.1533,       3535,   465.0,  10.3337,  34.8433,2,  34.8423,2,    240.2,2,   240.1,2,    4.65,2,   13.25,2,    0.00,2,    0.98,2,   3.064,2,   1.580,2,  -999.0,9,  -999.0,9,  -9.0000,9,-999.0000,9, -999.00,9, -999.00,9,  -999.0,9,  -999.0,-999.000,9,-999.000,   1.822,2,  -9.0000,-999.0000,  10.2780,   -9.00
  316N145_7,      TRANS,     391,          1,         25,         25,2,19950403,       0525,   -28.5838,    87.1533,       3535,   534.8,   9.6520,  34.7396,2,  34.7399,2,    238.2,2,   236.6,2,    5.49,2,   15.46,2,    0.00,2,    1.12,2,   2.830,2,   1.447,2,  -999.0,9,  -999.0,9,  -9.0000,9,-999.0000,9, -999.00,9, -999.00,9,  -999.0,9,  -999.0,-999.000,9,-999.000,   1.740,2,  -9.0000,-999.0000,   9.5904,   -9.00
  316N145_7,      TRANS,     391,          1,         24,         24,2,19950403,       0525,   -28.5838,    87.1533,       3535,   606.9,   8.9493,  34.6467,2,  34.6454,2,    226.2,2,   226.0,2,    7.39,2,   18.41,2,    0.00,2,    1.30,2,   2.388,2,   1.186,2,  -999.0,9,  -999.0,9,  -9.0000,9,-999.0000,9, -999.00,9, -999.00,9,  -999.0,9,  -999.0,-999.000,9,-999.000,   1.536,2,  -9.0000,-999.0000,   8.8823,   -9.00
  316N145_7,      TRANS,     391,          1,         23,         23,2,19950403,       0525,   -28.5838,    87.1533,       3535,   677.3,   8.1700,  34.5678,2,  34.5692,2,    212.6,2,   212.7,2,   11.40,2,   21.51,2,    0.00,2,    1.49,2,-999.000,9,-999.000,9,  -999.0,9,  -999.0,9,  -9.0000,9,-999.0000,9, -999.00,9, -999.00,9,  -999.0,9,  -999.0,-999.000,9,-999.000,-999.000,9,  -9.0000,-999.0000,   8.0989,   -9.00
  316N145_7,      TRANS,     391,          1,         22,         22,2,19950403,       0525,   -28.5838,    87.1533,       3535,   758.3,   6.9095,  34.4887,2,  34.4832,2,    199.8,2,   198.2,2,   19.66,2,   25.65,2,    0.00,2,    1.77,2,   0.978,2,   0.510,2,  -999.0,9,  -999.0,9,  -9.0000,9,-999.0000,9, -999.00,9, -999.00,9,  -999.0,9,  -999.0,-999.000,9,-999.000,   1.218,2,  -9.0000,-999.0000,   6.8367,   -9.00
  316N145_7,      TRANS,     391,          1,         21,         21,2,19950403,       0525,   -28.5838,    87.1533,       3535,   859.6,   5.5774,  34.4267,2,  34.4223,2,    191.6,2,   189.0,2,   31.30,2,   29.22,2,    0.00,2,    2.03,2,   0.558,2,   0.293,2,  -999.0,9,  -999.0,9,  -9.0000,9,-999.0000,9, -999.00,9, -999.00,9,  -999.0,9,  -999.0,-999.000,9,-999.000,   1.059,2,  -9.0000,-999.0000,   5.5030,   -9.00
  316N145_7,      TRANS,     391,          1,         20,         20,2,19950403,       0525,   -28.5838,    87.1533,       3535,   960.1,   4.5667,  34.3993,2,  34.4023,2,    187.8,2,   184.5,2,   42.09,2,   31.55,2,    0.00,2,    2.20,2,   0.332,3,   0.181,6,  -999.0,9,  -999.0,9,  -9.0000,9,-999.0000,9, -999.00,9, -999.00,9,  -999.0,9,  -999.0,-999.000,9,-999.000,   0.921,6,  -9.0000,-999.0000,   4.4903,   -9.00
  316N145_7,      TRANS,     391,          1,         19,         19,2,19950403,       0525,   -28.5838,    87.1533,       3535,  1061.2,   4.0138,  34.4576,2,  34.4577,2,    164.5,2,   164.9,2,   58.18,2,   33.53,2,    0.00,2,    2.36,2,   0.118,3,   0.074,2,  -999.0,9,  -999.0,9,  -9.0000,9,-999.0000,9, -999.00,9, -999.00,9,  -999.0,9,  -999.0,-999.000,9,-999.000,   0.486,2,  -9.0000,-999.0000,   3.9330,   -9.00
  316N145_7,      TRANS,     391,          1,         18,         18,2,19950403,       0525,   -28.5838,    87.1533,       3535,  1161.2,   3.7152,  34.5025,2,  34.5031,2,    157.7,2,   154.8,2,   68.55,2,   34.43,2,    0.00,2,    2.43,2,   0.077,3,   0.038,2,  -999.0,9,  -999.0,9,  -9.0000,9,-999.0000,9, -999.00,9, -999.00,9,  -999.0,9,  -999.0,-999.000,9,-999.000,   0.270,2,  -9.0000,-999.0000,   3.6284,   -9.00
  316N145_7,      TRANS,     391,          1,         17,         17,2,19950403,       0525,   -28.5838,    87.1533,       3535,  1263.9,   3.4880,  34.5329,2,  34.5319,2,    152.3,2,   152.4,2,   73.82,2,   34.63,2,    0.00,2,    2.45,2,   0.101,3,   0.024,2,  -999.0,9,  -999.0,9,  -9.0000,9,-999.0000,9, -999.00,9, -999.00,9,  -999.0,9,  -999.0,-999.000,9,-999.000,   0.177,2,  -9.0000,-999.0000,   3.3947,   -9.00
  316N145_7,      TRANS,     391,          1,         16,         16,2,19950403,       0525,   -28.5838,    87.1533,       3535,  1364.3,   3.2555,  34.5730,2,  34.5716,2,    151.6,2,   150.6,2,   79.52,2,   34.72,2,    0.00,2,    2.46,2,-999.000,9,-999.000,9,  -999.0,9,  -999.0,9,  -9.0000,9,-999.0000,9, -999.00,9, -999.00,9,  -999.0,9,  -999.0,-999.000,9,-999.000,-999.000,9,  -9.0000,-999.0000,   3.1561,   -9.00
  316N145_7,      TRANS,     391,          1,         15,         15,2,19950403,       0525,   -28.5838,    87.1533,       3535,  1464.8,   3.0672,  34.6046,2,  34.6038,2,    151.2,2,   150.8,2,   83.95,2,   34.57,2,    0.00,2,    2.45,2,-999.000,9,-999.000,9,  -999.0,9,  -999.0,9,  -9.0000,9,-999.0000,9, -999.00,9, -999.00,9,  -999.0,9,  -999.0,-999.000,9,-999.000,-999.000,9,  -9.0000,-999.0000,   2.9615,   -9.00
  316N145_7,      TRANS,     391,          1,         14,         14,2,19950403,       0525,   -28.5838,    87.1533,       3535,  1616.6,   2.7714,  34.6572,2,  34.6573,2,    154.7,2,   154.7,2,   91.36,2,   34.07,2,    0.00,2,    2.41,2,   0.157,3,   0.007,2,  -999.0,9,  -999.0,9,  -9.0000,9,-999.0000,9, -999.00,9, -999.00,9,  -999.0,9,  -999.0,-999.000,9,-999.000,   0.018,2,  -9.0000,-999.0000,   2.6563,   -9.00
  316N145_7,      TRANS,     391,          1,         13,         13,2,19950403,       0525,   -28.5838,    87.1533,       3535,  1766.5,   2.6029,  34.6837,2,  34.6844,2,    157.5,2,   157.2,2,   95.79,2,   33.77,2,    0.00,2,    2.39,2,-999.000,9,-999.000,9,  -999.0,9,  -999.0,9,  -9.0000,9,-999.0000,9, -999.00,9, -999.00,9,  -999.0,9,  -999.0,-999.000,9,-999.000,-999.000,9,  -9.0000,-999.0000,   2.4773,   -9.00
  316N145_7,      TRANS,     391,          1,         12,         12,2,19950403,       0525,   -28.5838,    87.1533,       3535,  1918.7,   2.4103,  34.7054,2,  34.7057,2,    161.4,2,   161.8,2,  100.45,2,   33.47,2,    0.00,2,    2.36,2,   0.121,3,   0.003,2,  -999.0,9,  -999.0,9,  -9.0000,9,-999.0000,9, -999.00,9, -999.00,9,  -999.0,9,  -999.0,-999.000,9,-999.000,   0.008,2,  -9.0000,-999.0000,   2.2744,   -9.00
  316N145_7,      TRANS,     391,          1,         11,         11,2,19950403,       0525,   -28.5838,    87.1533,       3535,  2072.5,   2.2079,  34.7180,2,  34.7178,2,    165.9,2,   167.5,2,  103.82,2,   33.12,2,    0.00,2,    2.33,2,-999.000,9,-999.000,9,  -999.0,9,  -999.0,9,  -9.0000,9,-999.0000,9, -999.00,9, -999.00,9,  -999.0,9,  -999.0,-999.000,9,-999.000,-999.000,9,  -9.0000,-999.0000,   2.0618,   -9.00
  316N145_7,      TRANS,     391,          1,         10,         10,2,19950403,       0525,   -28.5838,    87.1533,       3535,  2223.9,   2.0650,  34.7228,2,  34.7232,2,    172.7,2,   173.1,2,  105.06,2,   32.77,2,    0.00,2,    2.30,2,  -0.015,3,   0.001,2,  -999.0,9,  -999.0,9,  -9.0000,9,-999.0000,9, -999.00,9, -999.00,9,  -999.0,9,  -999.0,-999.000,9,-999.000,   0.009,2,  -9.0000,-999.0000,   1.9080,   -9.00
  316N145_7,      TRANS,     391,          1,          9,          9,2,19950403,       0525,   -28.5838,    87.1533,       3535,  2375.5,   1.9126,  34.7276,2,  34.7279,2,    177.8,2,   178.3,2,  106.08,2,   32.42,2,    0.00,2,    2.28,2,-999.000,9,-999.000,9,  -999.0,9,  -999.0,9,  -9.0000,9,-999.0000,9, -999.00,9, -999.00,9,  -999.0,9,  -999.0,-999.000,9,-999.000,-999.000,9,  -9.0000,-999.0000,   1.7448,   -9.00
  316N145_7,      TRANS,     391,          1,          8,          8,2,19950403,       0525,   -28.5838,    87.1533,       3535,  2525.3,   1.7876,  34.7295,2,  34.7303,2,    182.5,2,   183.0,2,  107.32,2,   32.17,2,    0.00,2,    2.25,2,  -0.074,3,  -0.001,2,  -999.0,9,  -999.0,9,  -9.0000,9,-999.0000,9, -999.00,9, -999.00,9,  -999.0,9,  -999.0,-999.000,9,-999.000,  -0.005,2,  -9.0000,-999.0000,   1.6087,   -9.00
  316N145_7,      TRANS,     391,          1,          7,          7,2,19950403,       0525,   -28.5838,    87.1533,       3535,  2673.1,   1.7083,  34.7282,2,  34.7291,2,    183.4,2,   181.9,2,  111.14,2,   32.37,2,    0.00,2,    2.27,2,-999.000,9,-999.000,9,  -999.0,9,  -999.0,9,  -9.0000,9,-999.0000,9, -999.00,9, -999.00,9,  -999.0,9,  -999.0,-999.000,9,-999.000,-999.000,9,  -9.0000,-999.0000,   1.5174,   -9.00
  316N145_7,      TRANS,     391,          1,          6,          6,2,19950403,       0525,   -28.5838,    87.1533,       3535,  2828.5,   1.6267,  34.7288,2,  34.7291,2,    185.9,2,   185.7,2,  112.16,2,   32.32,2,    0.00,2,    2.26,2,-999.000,9,-999.000,9,  -999.0,9,  -999.0,9,  -9.0000,9,-999.0000,9, -999.00,9, -999.00,9,  -999.0,9,  -999.0,-999.000,9,-999.000,-999.000,9,  -9.0000,-999.0000,   1.4231,   -9.00
  316N145_7,      TRANS,     391,          1,          5,          5,2,19950403,       0525,   -28.5838,    87.1533,       3535,  2985.3,   1.5430,  34.7278,2,  34.7273,2,    187.8,2,   187.1,2,  114.26,2,   32.32,2,    0.00,2,    2.25,2,  -0.043,3,   0.000,2,  -999.0,9,  -999.0,9,  -9.0000,9,-999.0000,9, -999.00,9, -999.00,9,  -999.0,9,  -999.0,-999.000,9,-999.000,   0.000,2,  -9.0000,-999.0000,   1.3264,   -9.00
  316N145_7,      TRANS,     391,          1,          4,          4,2,19950403,       0525,   -28.5838,    87.1533,       3535,  3138.5,   1.4829,  34.7259,2,  34.7262,2,    188.2,2,   187.9,2,  116.36,2,   32.42,2,    0.00,2,    2.27,2,-999.000,9,-999.000,9,  -999.0,9,  -999.0,9,  -9.0000,9,-999.0000,9, -999.00,9, -999.00,9,  -999.0,9,  -999.0,-999.000,9,-999.000,-999.000,9,  -9.0000,-999.0000,   1.2529,   -9.00
  316N145_7,      TRANS,     391,          1,          3,          3,2,19950403,       0525,   -28.5838,    87.1533,       3535,  3291.3,   1.4586,  34.7248,2,  34.7250,2,    187.8,2,   188.2,2,  117.60,2,   32.52,2,    0.00,2,    2.27,2,  -0.041,3,   0.000,2,  -999.0,9,  -999.0,9,  -9.0000,9,-999.0000,9, -999.00,9, -999.00,9,  -999.0,9,  -999.0,-999.000,9,-999.000,   0.002,2,  -9.0000,-999.0000,   1.2142,   -9.00
  316N145_7,      TRANS,     391,          1,          2,          2,2,19950403,       0525,   -28.5838,    87.1533,       3535,  3444.7,   1.4394,  34.7240,2,  34.7248,2,    189.2,2,   188.7,2,  118.20,2,   32.52,2,    0.00,2,    2.27,2,-999.000,9,-999.000,9,  -999.0,9,  -999.0,9,  -9.0000,9,-999.0000,9, -999.00,9, -999.00,9,  -999.0,9,  -999.0,-999.000,9,-999.000,-999.000,9,  -9.0000,-999.0000,   1.1802,   -9.00
  316N145_7,      TRANS,     391,          1,          1,          1,2,19950403,       0525,   -28.5838,    87.1533,       3535,  3576.2,   1.3471,  34.7214,2,  34.7223,2,    191.2,2,   191.4,2,  119.44,2,   32.51,2,    0.00,2,    2.27,2,  -0.049,3,   0.003,2,  -999.0,9,  -999.0,9,  -9.0000,9,-999.0000,9, -999.00,9, -999.00,9,  -999.0,9,  -999.0,-999.000,9,-999.000,  -0.002,2,  -9.0000,-999.0000,   1.0768,   -9.00