BOTTLE,20211124CCHSIORKP
EXPOCODE,SECT_ID,STNNBR,CASTNO,SAMPNO,BTLNBR,BTLNBR_FLAG_W,DATE,TIME,LATITUDE,LONGITUDE,DEPTH,CTDPRS,CTDTMP,CTDSAL,CTDSAL_FLAG_W,SALNTY,SALNTY_FLAG_W,CTDOXY,CTDOXY_FLAG_W,OXYGEN,OXYGEN_FLAG_W,SILCAT,SILCAT_FLAG_W,NITRAT,NITRAT_FLAG_W,NITRIT,NITRIT_FLAG_W,PHSPHT,PHSPHT_FLAG_W,CFC-11,CFC-11_FLAG_W,CFC-12,CFC-12_FLAG_W,TCARBN,TCARBN_FLAG_W,ALKALI,ALKALI_FLAG_W,TRITUM,TRITUM_FLAG_W,HELIUM,HELIUM_FLAG_W,DELHE3,DELHE3_FLAG_W,DELC13,DELC13_FLAG_W,DELC14,DELC14_FLAG_W,C14ERR,NEON,NEON_FLAG_W,NEONER,CCL4,CCL4_FLAG_W,TRITER,HELIER,THETA,DELHER
,,,,,,,,,,,METERS,DBAR,ITS-90,PSS-78,,PSS-78,,UMOL/KG,,UMOL/KG,,UMOL/KG,,UMOL/KG,,UMOL/KG,,UMOL/KG,,PMOL/KG,,PMOL/KG,,UMOL/KG,,UMOL/KG,,TU,,NMOL/KG,,PERCNT,,/MILLE,,/MILLE,,/MILLE,NMOL/KG,,NMOL/KG,PMOL/KG,,TU,NMOL/KG,DEG C,PERCNT
  316N145_7,      TRANS,     379,          1,         36,         36,2,19950331,       1744,   -29.3837,    86.1163,       4355,     2.4,  22.8793,  36.0910,2,  36.0910,2,    217.4,2,   217.6,2,    3.22,2,    0.20,2,    0.00,2,    0.11,2,   2.101,2,   1.162,2,  -999.0,9,  -999.0,9,  -9.0000,9,-999.0000,9, -999.00,9, -999.00,9,  -999.0,9,  -999.0,-999.000,9,-999.000,-999.000,9,  -9.0000,-999.0000,  22.8788,   -9.00
  316N145_7,      TRANS,     379,          1,         35,         35,2,19950331,       1744,   -29.3837,    86.1163,       4355,    30.9,  22.6530,  36.0878,2,  36.0835,2,    222.7,2,   219.7,2,    2.99,2,    0.20,2,    0.00,2,    0.11,2,-999.000,9,-999.000,9,  -999.0,9,  -999.0,9,  -9.0000,9,-999.0000,9, -999.00,9, -999.00,9,  -999.0,9,  -999.0,-999.000,9,-999.000,-999.000,9,  -9.0000,-999.0000,  22.6468,   -9.00
  316N145_7,      TRANS,     379,          1,         34,         34,2,19950331,       1744,   -29.3837,    86.1163,       4355,    55.7,  19.4869,  35.8827,2,  35.8775,2,    250.3,2,   246.3,2,    2.97,2,    0.20,2,    0.00,2,    0.14,2,   2.568,2,   1.375,2,  -999.0,9,  -999.0,9,  -9.0000,9,-999.0000,9, -999.00,9, -999.00,9,  -999.0,9,  -999.0,-999.000,9,-999.000,-999.000,9,  -9.0000,-999.0000,  19.4767,   -9.00
  316N145_7,      TRANS,     379,          1,         33,         33,2,19950331,       1744,   -29.3837,    86.1163,       4355,    96.8,  17.3032,  35.7901,2,  35.7915,2,    247.7,2,   241.4,2,    2.54,2,    0.20,2,    0.00,2,    0.18,2,   2.660,2,   1.413,2,  -999.0,9,  -999.0,9,  -9.0000,9,-999.0000,9, -999.00,9, -999.00,9,  -999.0,9,  -999.0,-999.000,9,-999.000,-999.000,9,  -9.0000,-999.0000,  17.2870,   -9.00
  316N145_7,      TRANS,     379,          1,         32,         32,2,19950331,       1744,   -29.3837,    86.1163,       4355,   117.3,  16.7963,  35.7345,2,  35.7424,2,    239.6,2,   238.7,2,    2.52,2,    0.19,2,    0.00,2,    0.21,2,   2.711,2,   1.434,2,  -999.0,9,  -999.0,9,  -9.0000,9,-999.0000,9, -999.00,9, -999.00,9,  -999.0,9,  -999.0,-999.000,9,-999.000,-999.000,9,  -9.0000,-999.0000,  16.7770,   -9.00
  316N145_7,      TRANS,     379,          1,         31,         31,2,19950331,       1744,   -29.3837,    86.1163,       4355,   167.0,  14.9488,  35.5051,2,  35.4982,2,    235.3,2,   233.1,2,    2.50,2,    2.43,2,    0.17,2,    0.38,2,-999.000,9,-999.000,9,  -999.0,9,  -999.0,9,  -9.0000,9,-999.0000,9, -999.00,9, -999.00,9,  -999.0,9,  -999.0,-999.000,9,-999.000,-999.000,9,  -9.0000,-999.0000,  14.9235,   -9.00
  316N145_7,      TRANS,     379,          1,         30,         30,2,19950331,       1744,   -29.3837,    86.1163,       4355,   206.6,  13.9922,  35.3829,2,  35.3825,2,    226.1,2,   229.5,2,    3.12,2,    5.24,2,    0.01,2,    0.51,2,   2.983,2,   1.541,2,  -999.0,9,  -999.0,9,  -9.0000,9,-999.0000,9, -999.00,9, -999.00,9,  -999.0,9,  -999.0,-999.000,9,-999.000,-999.000,9,  -9.0000,-999.0000,  13.9623,   -9.00
  316N145_7,      TRANS,     379,          1,         29,         29,2,19950331,       1744,   -29.3837,    86.1163,       4355,   255.5,  13.0282,  35.2473,2,  35.2467,2,    226.5,2,   231.1,2,    3.52,2,    7.46,2,    0.01,2,    0.64,2,   3.038,2,   1.551,2,  -999.0,9,  -999.0,9,  -9.0000,9,-999.0000,9, -999.00,9, -999.00,9,  -999.0,9,  -999.0,-999.000,9,-999.000,-999.000,9,  -9.0000,-999.0000,  12.9928,   -9.00
  316N145_7,      TRANS,     379,          1,         28,         28,2,19950331,       1744,   -29.3837,    86.1163,       4355,   306.3,  12.2431,  35.1303,2,  35.1305,2,    233.7,2,   235.9,2,    3.92,2,    9.08,2,    0.00,2,    0.73,2,   3.131,2,   1.587,2,  -999.0,9,  -999.0,9,  -9.0000,9,-999.0000,9, -999.00,9, -999.00,9,  -999.0,9,  -999.0,-999.000,9,-999.000,   1.364,6,  -9.0000,-999.0000,  12.2024,   -9.00
  316N145_7,      TRANS,     379,          1,         27,         27,2,19950331,       1744,   -29.3837,    86.1163,       4355,   355.8,  11.7968,  35.0611,2,  35.0600,2,    237.2,2,   237.2,2,    4.32,2,   10.16,2,    0.00,2,    0.79,2,   3.103,2,   1.578,2,  -999.0,9,  -999.0,9,  -9.0000,9,-999.0000,9, -999.00,9, -999.00,9,  -999.0,9,  -999.0,-999.000,9,-999.000,-999.000,9,  -9.0000,-999.0000,  11.7505,   -9.00
  316N145_7,      TRANS,     379,          1,         26,         26,2,19950331,       1744,   -29.3837,    86.1163,       4355,   406.6,  11.2821,  34.9853,2,  34.9856,2,    236.2,2,   237.5,2,    4.51,2,   11.34,2,    0.00,2,    0.87,2,-999.000,9,-999.000,9,  -999.0,9,  -999.0,9,  -9.0000,9,-999.0000,9, -999.00,9, -999.00,9,  -999.0,9,  -999.0,-999.000,9,-999.000,-999.000,9,  -9.0000,-999.0000,  11.2307,   -9.00
  316N145_7,      TRANS,     379,          1,         25,         25,2,19950331,       1744,   -29.3837,    86.1163,       4355,   457.1,  10.8681,  34.9226,2,  34.9232,2,    239.0,2,   238.1,2,    4.71,2,   12.23,2,    0.00,2,    0.92,2,-999.000,9,-999.000,9,  -999.0,9,  -999.0,9,  -9.0000,9,-999.0000,9, -999.00,9, -999.00,9,  -999.0,9,  -999.0,-999.000,9,-999.000,-999.000,9,  -9.0000,-999.0000,  10.8115,   -9.00
  316N145_7,      TRANS,     379,          1,         24,         24,2,19950331,       1744,   -29.3837,    86.1163,       4355,   557.4,  10.1356,  34.8110,2,  34.8083,2,    237.7,2,   238.2,2,    5.32,2,   14.19,2,    0.00,2,    1.04,2,   2.869,2,   1.422,2,  -999.0,9,  -999.0,9,  -9.0000,9,-999.0000,9, -999.00,9, -999.00,9,  -999.0,9,  -999.0,-999.000,9,-999.000,-999.000,9,  -9.0000,-999.0000,  10.0693,   -9.00
  316N145_7,      TRANS,     379,          1,         23,         23,2,19950331,       1744,   -29.3837,    86.1163,       4355,   658.8,   9.2129,  34.6787,2,  34.6859,2,    233.1,2,   231.6,2,    6.76,2,   17.19,2,    0.00,2,    1.22,2,-999.000,9,-999.000,9,  -999.0,9,  -999.0,9,  -9.0000,9,-999.0000,9, -999.00,9, -999.00,9,  -999.0,9,  -999.0,-999.000,9,-999.000,-999.000,9,  -9.0000,-999.0000,   9.1387,   -9.00
  316N145_7,      TRANS,     379,          1,         22,         22,2,19950331,       1744,   -29.3837,    86.1163,       4355,   759.6,   8.1577,  34.5714,2,  34.5688,2,    219.2,2,   213.9,2,   11.56,2,   21.63,2,    0.00,2,    1.50,2,   1.568,6,   0.780,6,  -999.0,9,  -999.0,9,  -9.0000,9,-999.0000,9, -999.00,9, -999.00,9,  -999.0,9,  -999.0,-999.000,9,-999.000,-999.000,9,  -9.0000,-999.0000,   8.0777,   -9.00
  316N145_7,      TRANS,     379,          1,         21,         21,2,19950331,       1744,   -29.3837,    86.1163,       4355,   859.3,   6.6029,  34.4667,2,  34.4666,2,    201.5,2,   198.0,2,   21.80,2,   26.57,2,    0.00,2,    1.83,2,-999.000,9,-999.000,9,  -999.0,9,  -999.0,9,  -9.0000,9,-999.0000,9, -999.00,9, -999.00,9,  -999.0,9,  -999.0,-999.000,9,-999.000,-999.000,9,  -9.0000,-999.0000,   6.5218,   -9.00
  316N145_7,      TRANS,     379,          1,         20,         20,2,19950331,       1744,   -29.3837,    86.1163,       4355,   932.2,   5.5809,  34.4227,2,  34.4240,2,    192.7,2,   191.8,2,   30.57,2,   29.19,2,    0.00,2,    2.01,2,   0.535,2,   0.265,2,  -999.0,9,  -999.0,9,  -9.0000,9,-999.0000,9, -999.00,9, -999.00,9,  -999.0,9,  -999.0,-999.000,9,-999.000,-999.000,9,  -9.0000,-999.0000,   5.4998,   -9.00
  316N145_7,      TRANS,     379,          1,         19,         19,2,19950331,       1744,   -29.3837,    86.1163,       4355,  1009.6,   4.8392,  34.4170,2,  34.4183,2,    181.3,2,   183.0,2,   41.02,2,   31.23,2,    0.00,2,    2.18,2,   0.317,2,   0.155,2,  -999.0,9,  -999.0,9,  -9.0000,9,-999.0000,9, -999.00,9, -999.00,9,  -999.0,9,  -999.0,-999.000,9,-999.000,-999.000,9,  -9.0000,-999.0000,   4.7564,   -9.00
  316N145_7,      TRANS,     379,          1,         18,         18,2,19950331,       1744,   -29.3837,    86.1163,       4355,  1161.8,   3.9301,  34.4648,2,  34.4649,2,    165.1,2,   165.9,2,   59.84,2,   33.76,2,    0.00,2,    2.37,2,   0.115,2,   0.056,2,  -999.0,9,  -999.0,9,  -9.0000,9,-999.0000,9, -999.00,9, -999.00,9,  -999.0,9,  -999.0,-999.000,9,-999.000,-999.000,9,  -9.0000,-999.0000,   3.8415,   -9.00
  316N145_7,      TRANS,     379,          1,         17,         17,2,19950331,       1744,   -29.3837,    86.1163,       4355,  1313.3,   3.4675,  34.5339,2,  34.5338,2,    154.2,2,   154.4,2,   73.65,2,   34.71,2,    0.00,2,    2.45,2,   0.036,2,   0.018,2,  -999.0,9,  -999.0,9,  -9.0000,9,-999.0000,9, -999.00,9, -999.00,9,  -999.0,9,  -999.0,-999.000,9,-999.000,-999.000,9,  -9.0000,-999.0000,   3.3703,   -9.00
  316N145_7,      TRANS,     379,          1,         16,         16,2,19950331,       1744,   -29.3837,    86.1163,       4355,  1490.7,   3.1291,  34.5914,2,  34.5917,2,    152.7,2,   152.9,2,   81.82,2,   34.65,2,    0.00,2,    2.45,2,   0.014,2,   0.006,2,  -999.0,9,  -999.0,9,  -9.0000,9,-999.0000,9, -999.00,9, -999.00,9,  -999.0,9,  -999.0,-999.000,9,-999.000,-999.000,9,  -9.0000,-999.0000,   3.0205,   -9.00
  316N145_7,      TRANS,     379,          1,         15,         15,2,19950331,       1744,   -29.3837,    86.1163,       4355,  1666.0,   2.8189,  34.6500,2,  34.6512,2,    154.6,2,   155.8,2,   89.58,2,   34.20,2,    0.00,2,    2.42,2,-999.000,9,-999.000,9,  -999.0,9,  -999.0,9,  -9.0000,9,-999.0000,9, -999.00,9, -999.00,9,  -999.0,9,  -999.0,-999.000,9,-999.000,-999.000,9,  -9.0000,-999.0000,   2.6991,   -9.00
  316N145_7,      TRANS,     379,          1,         14,         14,2,19950331,       1744,   -29.3837,    86.1163,       4355,  1843.8,   2.6616,  34.6938,2,  34.6949,2,    155.8,2,   155.7,2,   98.20,2,   34.00,2,    0.00,2,    2.40,2,   0.003,2,   0.000,2,  -999.0,9,  -999.0,9,  -9.0000,9,-999.0000,9, -999.00,9, -999.00,9,  -999.0,9,  -999.0,-999.000,9,-999.000,-999.000,9,  -9.0000,-999.0000,   2.5286,   -9.00
  316N145_7,      TRANS,     379,          1,         13,         13,2,19950331,       1744,   -29.3837,    86.1163,       4355,  2022.3,   2.4315,  34.7131,2,  34.7135,2,    161.4,2,   161.3,2,  103.26,2,   33.65,2,    0.00,2,    2.38,2,-999.000,9,-999.000,9,  -999.0,9,  -999.0,9,  -9.0000,9,-999.0000,9, -999.00,9, -999.00,9,  -999.0,9,  -999.0,-999.000,9,-999.000,-999.000,9,  -9.0000,-999.0000,   2.2863,   -9.00
  316N145_7,      TRANS,     379,          1,         12,         12,2,19950331,       1744,   -29.3837,    86.1163,       4355,  2224.8,   2.1649,  34.7208,2,  34.7202,2,    172.0,2,   172.3,2,  103.86,2,   33.00,2,    0.00,2,    2.31,2,   0.001,2,   0.001,2,  -999.0,9,  -999.0,9,  -9.0000,9,-999.0000,9, -999.00,9, -999.00,9,  -999.0,9,  -999.0,-999.000,9,-999.000,-999.000,9,  -9.0000,-999.0000,   2.0061,   -9.00
  316N145_7,      TRANS,     379,          1,         11,         11,2,19950331,       1744,   -29.3837,    86.1163,       4355,  2428.4,   1.9991,  34.7264,2,  34.7267,2,    180.8,2,   179.7,2,  103.20,2,   32.40,2,    0.00,2,    2.26,2,-999.000,9,-999.000,9,  -999.0,9,  -999.0,9,  -9.0000,9,-999.0000,9, -999.00,9, -999.00,9,  -999.0,9,  -999.0,-999.000,9,-999.000,-999.000,9,  -9.0000,-999.0000,   1.8251,   -9.00
  316N145_7,      TRANS,     379,          1,         10,         10,2,19950331,       1744,   -29.3837,    86.1163,       4355,  2630.9,   1.8016,  34.7285,2,  34.7284,2,    181.6,2,   181.6,2,  109.54,2,   32.55,2,    0.00,2,    2.27,2,   0.002,2,   0.000,2,  -999.0,9,  -999.0,9,  -9.0000,9,-999.0000,9, -999.00,9, -999.00,9,  -999.0,9,  -999.0,-999.000,9,-999.000,-999.000,9,  -9.0000,-999.0000,   1.6128,   -9.00
  316N145_7,      TRANS,     379,          1,          9,          9,2,19950331,       1744,   -29.3837,    86.1163,       4355,  2834.6,   1.6707,  34.7295,2,  34.7292,2,    186.3,2,   186.8,2,  111.21,2,   32.40,2,    0.00,2,    2.26,2,-999.000,9,-999.000,9,  -999.0,9,  -999.0,9,  -9.0000,9,-999.0000,9, -999.00,9, -999.00,9,  -999.0,9,  -999.0,-999.000,9,-999.000,-999.000,9,  -9.0000,-999.0000,   1.4656,   -9.00
  316N145_7,      TRANS,     379,          1,          8,          8,2,19950331,       1744,   -29.3837,    86.1163,       4355,  3038.9,   1.5761,  34.7265,2,  34.7259,2,    186.0,2,   186.2,2,  115.45,2,   32.70,2,    0.00,2,    2.28,2,   0.001,2,   0.000,2,  -999.0,9,  -999.0,9,  -9.0000,9,-999.0000,9, -999.00,9, -999.00,9,  -999.0,9,  -999.0,-999.000,9,-999.000,-999.000,9,  -9.0000,-999.0000,   1.3536,   -9.00
  316N145_7,      TRANS,     379,          1,          7,          7,2,19950331,       1744,   -29.3837,    86.1163,       4355,  3242.0,   1.5136,  34.7264,2,  34.7261,2,    189.3,2,   189.0,2,  115.84,2,   32.35,2,    0.00,2,    2.26,2,-999.000,9,-999.000,9,  -999.0,9,  -999.0,9,  -9.0000,9,-999.0000,9, -999.00,9, -999.00,9,  -999.0,9,  -999.0,-999.000,9,-999.000,-999.000,9,  -9.0000,-999.0000,   1.2728,   -9.00
  316N145_7,      TRANS,     379,          1,          6,          6,2,19950331,       1744,   -29.3837,    86.1163,       4355,  3445.3,   1.4653,  34.7253,2,  34.7261,2,    190.7,2,   190.6,2,  116.88,2,   32.49,2,    0.00,2,    2.26,2,   0.001,2,   0.000,2,  -999.0,9,  -999.0,9,  -9.0000,9,-999.0000,9, -999.00,9, -999.00,9,  -999.0,9,  -999.0,-999.000,9,-999.000,-999.000,9,  -9.0000,-999.0000,   1.2054,   -9.00
  316N145_7,      TRANS,     379,          1,          5,          5,2,19950331,       1744,   -29.3837,    86.1163,       4355,  3649.9,   1.4368,  34.7243,2,  34.7239,2,    191.3,2,   191.2,2,  117.92,2,   32.54,2,    0.00,2,    2.26,2,-999.000,9,-999.000,9,  -999.0,9,  -999.0,9,  -9.0000,9,-999.0000,9, -999.00,9, -999.00,9,  -999.0,9,  -999.0,-999.000,9,-999.000,-999.000,9,  -9.0000,-999.0000,   1.1566,   -9.00
  316N145_7,      TRANS,     379,          1,          4,          4,2,19950331,       1744,   -29.3837,    86.1163,       4355,  3853.6,   1.3466,  34.7211,2,  34.7219,2,    193.6,2,   193.5,2,  119.81,2,   32.54,2,    0.00,2,    2.27,2,   0.000,2,   0.000,2,  -999.0,9,  -999.0,9,  -9.0000,9,-999.0000,9, -999.00,9, -999.00,9,  -999.0,9,  -999.0,-999.000,9,-999.000,-999.000,9,  -9.0000,-999.0000,   1.0474,   -9.00
  316N145_7,      TRANS,     379,          1,          3,          3,2,19950331,       1744,   -29.3837,    86.1163,       4355,  4057.4,   1.3133,  34.7197,2,  34.7194,2,    194.3,2,   194.9,2,  120.64,2,   32.54,2,    0.00,2,    2.27,2,   0.001,2,  -0.001,2,  -999.0,9,  -999.0,9,  -9.0000,9,-999.0000,9, -999.00,9, -999.00,9,  -999.0,9,  -999.0,-999.000,9,-999.000,-999.000,9,  -9.0000,-999.0000,   0.9932,   -9.00
  316N145_7,      TRANS,     379,          1,          2,          2,2,19950331,       1744,   -29.3837,    86.1163,       4355,  4263.3,   1.3186,  34.7189,2,  34.7188,2,    195.9,2,   195.8,2,  120.61,2,   32.54,2,    0.00,2,    2.27,2,  -0.001,2,   0.000,2,  -999.0,9,  -999.0,9,  -9.0000,9,-999.0000,9, -999.00,9, -999.00,9,  -999.0,9,  -999.0,-999.000,9,-999.000,-999.000,9,  -9.0000,-999.0000,   0.9757,   -9.00
  316N145_7,      TRANS,     379,          1,          1,          1,2,19950331,       1744,   -29.3837,    86.1163,       4355,  4427.0,   1.3308,  34.7192,2,  34.7188,2,    196.2,2,   194.7,3,  120.79,2,   32.44,2,    0.00,2,    2.27,2,  -0.002,2,   0.000,2,  -999.0,9,  -999.0,9,  -9.0000,9,-999.0000,9, -999.00,9, -999.00,9,  -999.0,9,  -999.0,-999.000,9,-999.000,-999.000,9,  -9.0000,-999.0000,   0.9692,   -9.00