BOTTLE,20211124CCHSIORKP
EXPOCODE,SECT_ID,STNNBR,CASTNO,SAMPNO,BTLNBR,BTLNBR_FLAG_W,DATE,TIME,LATITUDE,LONGITUDE,DEPTH,CTDPRS,CTDTMP,CTDSAL,CTDSAL_FLAG_W,SALNTY,SALNTY_FLAG_W,CTDOXY,CTDOXY_FLAG_W,OXYGEN,OXYGEN_FLAG_W,SILCAT,SILCAT_FLAG_W,NITRAT,NITRAT_FLAG_W,NITRIT,NITRIT_FLAG_W,PHSPHT,PHSPHT_FLAG_W,CFC-11,CFC-11_FLAG_W,CFC-12,CFC-12_FLAG_W,TCARBN,TCARBN_FLAG_W,ALKALI,ALKALI_FLAG_W,TRITUM,TRITUM_FLAG_W,HELIUM,HELIUM_FLAG_W,DELHE3,DELHE3_FLAG_W,DELC13,DELC13_FLAG_W,DELC14,DELC14_FLAG_W,C14ERR,NEON,NEON_FLAG_W,NEONER,CCL4,CCL4_FLAG_W,TRITER,HELIER,THETA,DELHER
,,,,,,,,,,,METERS,DBAR,ITS-90,PSS-78,,PSS-78,,UMOL/KG,,UMOL/KG,,UMOL/KG,,UMOL/KG,,UMOL/KG,,UMOL/KG,,PMOL/KG,,PMOL/KG,,UMOL/KG,,UMOL/KG,,TU,,NMOL/KG,,PERCNT,,/MILLE,,/MILLE,,/MILLE,NMOL/KG,,NMOL/KG,PMOL/KG,,TU,NMOL/KG,DEG C,PERCNT
  316N145_7,       I05E,     399,          1,         36,         36,2,19950404,       1737,   -31.8670,    89.9995,       3664,     2.5,  22.7448,  36.0460,2,  36.0459,2,    221.3,7,   217.3,2,    2.89,2,    0.10,2,    0.00,2,    0.11,2,-999.000,9,-999.000,9,  2034.7,2,  -999.0,5,  -9.0000,9,-999.0000,9, -999.00,9, -999.00,9,  -999.0,9,  -999.0,-999.000,9,-999.000,-999.000,9,  -9.0000,-999.0000,  22.7443,   -9.00
  316N145_7,       I05E,     399,          1,         35,         35,2,19950404,       1737,   -31.8670,    89.9995,       3664,    25.4,  22.7432,  36.0469,2,  36.0455,2,    212.9,7,   217.3,2,    2.85,2,    0.10,2,    0.00,2,    0.11,2,-999.000,9,-999.000,9,  -999.0,9,  -999.0,9,  -9.0000,9,-999.0000,9, -999.00,9, -999.00,9,  -999.0,9,  -999.0,-999.000,9,-999.000,-999.000,9,  -9.0000,-999.0000,  22.7380,   -9.00
  316N145_7,       I05E,     399,          1,         34,         34,2,19950404,       1737,   -31.8670,    89.9995,       3664,    50.4,  20.0743,  35.8606,3,  35.8103,2,   -999.0,5,   245.5,2,    2.60,2,    0.10,2,    0.00,2,    0.14,2,-999.000,9,-999.000,9,  -999.0,9,  -999.0,9,  -9.0000,9,-999.0000,9, -999.00,9, -999.00,9,  -999.0,9,  -999.0,-999.000,9,-999.000,-999.000,9,  -9.0000,-999.0000,  20.0649,   -9.00
  316N145_7,       I05E,     399,          1,         33,         33,2,19950404,       1737,   -31.8670,    89.9995,       3664,    70.8,  18.2981,  35.7638,2,  35.7518,2,    247.5,2,   250.9,2,    2.35,2,    0.10,2,    0.00,2,    0.16,2,-999.000,9,-999.000,9,  -999.0,9,  -999.0,9,  -9.0000,9,-999.0000,9, -999.00,9, -999.00,9,  -999.0,9,  -999.0,-999.000,9,-999.000,-999.000,9,  -9.0000,-999.0000,  18.2857,   -9.00
  316N145_7,       I05E,     399,          1,         32,         32,2,19950404,       1737,   -31.8670,    89.9995,       3664,    90.6,  17.1687,  35.6935,2,  35.6877,2,    250.2,2,   250.6,2,    2.31,2,    0.10,2,    0.00,2,    0.19,2,-999.000,9,-999.000,9,  -999.0,9,  -999.0,9,  -9.0000,9,-999.0000,9, -999.00,9, -999.00,9,  -999.0,9,  -999.0,-999.000,9,-999.000,-999.000,9,  -9.0000,-999.0000,  17.1536,   -9.00
  316N145_7,       I05E,     399,          1,         31,         31,2,19950404,       1737,   -31.8670,    89.9995,       3664,   126.1,  15.5106,  35.5618,2,  35.5550,2,    237.6,2,   238.2,2,    2.06,2,    0.56,2,    0.08,2,    0.30,2,-999.000,9,-999.000,9,  -999.0,9,  -999.0,9,  -9.0000,9,-999.0000,9, -999.00,9, -999.00,9,  -999.0,9,  -999.0,-999.000,9,-999.000,-999.000,9,  -9.0000,-999.0000,  15.4910,   -9.00
  316N145_7,       I05E,     399,          1,         30,         30,2,19950404,       1737,   -31.8670,    89.9995,       3664,   166.3,  14.2384,  35.4182,2,  35.4187,2,    230.4,2,   230.5,2,    2.44,2,    4.39,2,    0.03,2,    0.48,2,-999.000,9,-999.000,9,  -999.0,9,  -999.0,9,  -9.0000,9,-999.0000,9, -999.00,9, -999.00,9,  -999.0,9,  -999.0,-999.000,9,-999.000,-999.000,9,  -9.0000,-999.0000,  14.2141,   -9.00
  316N145_7,       I05E,     399,          1,         29,         29,2,19950404,       1737,   -31.8670,    89.9995,       3664,   206.1,  13.3622,  35.3039,2,  35.3060,2,    229.5,2,   231.2,2,    2.83,2,    6.32,2,    0.01,2,    0.58,2,-999.000,9,-999.000,9,  -999.0,9,  -999.0,9,  -9.0000,9,-999.0000,9, -999.00,9, -999.00,9,  -999.0,9,  -999.0,-999.000,9,-999.000,-999.000,9,  -9.0000,-999.0000,  13.3332,   -9.00
  316N145_7,       I05E,     399,          1,         28,         28,2,19950404,       1737,   -31.8670,    89.9995,       3664,   246.5,  12.5974,  35.1886,2,  35.1887,2,    229.8,2,   233.4,2,    3.43,2,    8.14,2,    0.01,2,    0.68,2,-999.000,9,-999.000,9,  -999.0,9,  -999.0,9,  -9.0000,9,-999.0000,9, -999.00,9, -999.00,9,  -999.0,9,  -999.0,-999.000,9,-999.000,-999.000,9,  -9.0000,-999.0000,  12.5641,   -9.00
  316N145_7,       I05E,     399,          1,         27,         27,2,19950404,       1737,   -31.8670,    89.9995,       3664,   306.8,  12.0093,  35.0939,2,  35.0954,2,    234.4,2,   236.6,2,    3.82,2,    9.52,2,    0.01,2,    0.76,2,-999.000,9,-999.000,9,  -999.0,9,  -999.0,9,  -9.0000,9,-999.0000,9, -999.00,9, -999.00,9,  -999.0,9,  -999.0,-999.000,9,-999.000,-999.000,9,  -9.0000,-999.0000,  11.9691,   -9.00
  316N145_7,       I05E,     399,          1,         26,         26,2,19950404,       1737,   -31.8670,    89.9995,       3664,   377.4,  11.4269,  35.0032,2,  35.0052,2,    237.9,2,   239.5,2,    4.21,2,   10.75,2,    0.00,2,    0.83,2,-999.000,9,-999.000,9,  -999.0,9,  -999.0,9,  -9.0000,9,-999.0000,9, -999.00,9, -999.00,9,  -999.0,9,  -999.0,-999.000,9,-999.000,-999.000,9,  -9.0000,-999.0000,  11.3788,   -9.00
  316N145_7,       I05E,     399,          1,         25,         25,2,19950404,       1737,   -31.8670,    89.9995,       3664,   457.7,  10.8405,  34.9133,2,  34.9214,2,    239.2,2,   240.3,2,    4.38,2,   11.98,2,    0.00,2,    0.91,2,-999.000,9,-999.000,9,  -999.0,9,  -999.0,9,  -9.0000,9,-999.0000,9, -999.00,9, -999.00,9,  -999.0,9,  -999.0,-999.000,9,-999.000,-999.000,9,  -9.0000,-999.0000,  10.7839,   -9.00
  316N145_7,       I05E,     399,          1,         24,         24,2,19950404,       1737,   -31.8670,    89.9995,       3664,   557.9,  10.2579,  34.8265,2,  34.8293,2,    238.9,2,   238.6,2,    4.98,2,   13.75,2,    0.00,2,    1.01,2,-999.000,9,-999.000,9,  -999.0,9,  -999.0,9,  -9.0000,9,-999.0000,9, -999.00,9, -999.00,9,  -999.0,9,  -999.0,-999.000,9,-999.000,-999.000,9,  -9.0000,-999.0000,  10.1910,   -9.00
  316N145_7,       I05E,     399,          1,         23,         23,2,19950404,       1737,   -31.8670,    89.9995,       3664,   658.6,   9.4384,  34.7081,2,  34.7109,2,    232.4,2,   233.1,2,    6.00,2,   16.46,2,    0.00,2,    1.18,2,-999.000,9,-999.000,9,  -999.0,9,  -999.0,9,  -9.0000,9,-999.0000,9, -999.00,9, -999.00,9,  -999.0,9,  -999.0,-999.000,9,-999.000,-999.000,9,  -9.0000,-999.0000,   9.3631,   -9.00
  316N145_7,       I05E,     399,          1,         22,         22,2,19950404,       1737,   -31.8670,    89.9995,       3664,   759.3,   8.4236,  34.5931,2,  34.5958,2,    220.9,2,   217.9,2,    9.58,2,   20.40,2,    0.00,2,    1.42,2,-999.000,9,-999.000,9,  -999.0,9,  -999.0,9,  -9.0000,9,-999.0000,9, -999.00,9, -999.00,9,  -999.0,9,  -999.0,-999.000,9,-999.000,-999.000,9,  -9.0000,-999.0000,   8.3421,   -9.00
  316N145_7,       I05E,     399,          1,         21,         21,2,19950404,       1737,   -31.8670,    89.9995,       3664,   860.3,   7.0704,  34.4854,2,  34.4899,2,    203.8,2,   202.0,2,   17.20,2,   24.99,2,    0.00,2,    1.72,2,-999.000,9,-999.000,9,  -999.0,9,  -999.0,9,  -9.0000,9,-999.0000,9, -999.00,9, -999.00,9,  -999.0,9,  -999.0,-999.000,9,-999.000,-999.000,9,  -9.0000,-999.0000,   6.9862,   -9.00
  316N145_7,       I05E,     399,          1,         20,         20,2,19950404,       1737,   -31.8670,    89.9995,       3664,   935.9,   5.9532,  34.4281,2,  34.4294,2,    195.3,2,   192.8,2,   26.95,2,   28.40,2,    0.00,2,    1.96,2,-999.000,9,-999.000,9,  -999.0,9,  -999.0,9,  -9.0000,9,-999.0000,9, -999.00,9, -999.00,9,  -999.0,9,  -999.0,-999.000,9,-999.000,-999.000,9,  -9.0000,-999.0000,   5.8690,   -9.00
  316N145_7,       I05E,     399,          1,         19,         19,2,19950404,       1737,   -31.8670,    89.9995,       3664,  1011.6,   4.9509,  34.3907,2,  34.3939,2,    193.4,2,   193.5,2,   33.50,2,   30.19,2,    0.00,2,    2.09,2,-999.000,9,-999.000,9,  -999.0,9,  -999.0,9,  -9.0000,9,-999.0000,9, -999.00,9, -999.00,9,  -999.0,9,  -999.0,-999.000,9,-999.000,-999.000,9,  -9.0000,-999.0000,   4.8671,   -9.00
  316N145_7,       I05E,     399,          1,         18,         18,2,19950404,       1737,   -31.8670,    89.9995,       3664,  1111.9,   4.2122,  34.3973,2,  34.3968,2,    185.7,2,   186.1,2,   44.09,2,   32.03,2,    0.00,2,    2.24,2,-999.000,9,-999.000,9,  -999.0,9,  -999.0,9,  -9.0000,9,-999.0000,9, -999.00,9, -999.00,9,  -999.0,9,  -999.0,-999.000,9,-999.000,-999.000,9,  -9.0000,-999.0000,   4.1255,   -9.00
  316N145_7,       I05E,     399,          1,         17,         17,2,19950404,       1737,   -31.8670,    89.9995,       3664,  1263.0,   3.7392,  34.4740,2,  34.4744,2,    165.9,2,   163.0,2,   62.57,2,   33.96,2,    0.00,2,    2.40,2,-999.000,9,-999.000,9,  -999.0,9,  -999.0,9,  -9.0000,9,-999.0000,9, -999.00,9, -999.00,9,  -999.0,9,  -999.0,-999.000,9,-999.000,-999.000,9,  -9.0000,-999.0000,   3.6437,   -9.00
  316N145_7,       I05E,     399,          1,         16,         16,2,19950404,       1737,   -31.8670,    89.9995,       3664,  1413.6,   3.3338,  34.5302,2,  34.5339,2,    157.5,2,   156.3,2,   72.96,2,   34.56,2,    0.00,2,    2.44,2,-999.000,9,-999.000,9,  -999.0,9,  -999.0,9,  -9.0000,9,-999.0000,9, -999.00,9, -999.00,9,  -999.0,9,  -999.0,-999.000,9,-999.000,-999.000,9,  -9.0000,-999.0000,   3.2296,   -9.00
  316N145_7,       I05E,     399,          1,         15,         15,2,19950404,       1737,   -31.8670,    89.9995,       3664,  1564.3,   3.0785,  34.5857,2,  34.5890,2,    154.4,2,   153.7,2,   80.59,2,   34.51,2,    0.00,2,    2.44,2,-999.000,9,-999.000,9,  -999.0,9,  -999.0,9,  -9.0000,9,-999.0000,9, -999.00,9, -999.00,9,  -999.0,9,  -999.0,-999.000,9,-999.000,-999.000,9,  -9.0000,-999.0000,   2.9643,   -9.00
  316N145_7,       I05E,     399,          1,         14,         14,2,19950404,       1737,   -31.8670,    89.9995,       3664,  1716.3,   2.9057,  34.6397,2,  34.6401,2,    153.3,2,   152.4,2,   88.88,2,   34.41,2,    0.00,2,    2.44,2,-999.000,9,-999.000,9,  -999.0,9,  -999.0,9,  -9.0000,9,-999.0000,9, -999.00,9, -999.00,9,  -999.0,9,  -999.0,-999.000,9,-999.000,-999.000,9,  -9.0000,-999.0000,   2.7805,   -9.00
  316N145_7,       I05E,     399,          1,         13,         13,2,19950404,       1737,   -31.8670,    89.9995,       3664,  1868.7,   2.6185,  34.6677,2,  34.6676,2,    163.1,2,   164.2,2,   87.54,2,   33.41,2,    0.00,2,    2.36,2,-999.000,9,-999.000,9,  -999.0,9,  -999.0,9,  -9.0000,9,-999.0000,9, -999.00,9, -999.00,9,  -999.0,9,  -999.0,-999.000,9,-999.000,-999.000,9,  -9.0000,-999.0000,   2.4841,   -9.00
  316N145_7,       I05E,     399,          1,         12,         12,2,19950404,       1737,   -31.8670,    89.9995,       3664,  2020.8,   2.4420,  34.6956,2,  34.6951,2,    172.2,2,   172.9,2,   86.85,2,   32.46,2,    0.00,2,    2.27,2,-999.000,9,-999.000,9,  -999.0,9,  -999.0,9,  -9.0000,9,-999.0000,9, -999.00,9, -999.00,9,  -999.0,9,  -999.0,-999.000,9,-999.000,-999.000,9,  -9.0000,-999.0000,   2.2969,   -9.00
  316N145_7,       I05E,     399,          1,         11,         11,2,19950404,       1737,   -31.8670,    89.9995,       3664,  2173.7,   2.3089,  34.7159,2,  34.7159,2,    178.8,2,   178.9,2,   88.29,2,   31.81,2,    0.00,2,    2.23,2,-999.000,9,-999.000,9,  -999.0,9,  -999.0,9,  -9.0000,9,-999.0000,9, -999.00,9, -999.00,9,  -999.0,9,  -999.0,-999.000,9,-999.000,-999.000,9,  -9.0000,-999.0000,   2.1523,   -9.00
  316N145_7,       I05E,     399,          1,         10,         10,2,19950404,       1737,   -31.8670,    89.9995,       3664,  2324.2,   2.1582,  34.7280,2,  34.7283,2,    182.9,2,   181.7,2,   92.95,2,   31.71,2,    0.00,2,    2.22,2,-999.000,9,-999.000,9,  -999.0,9,  -999.0,9,  -9.0000,9,-999.0000,9, -999.00,9, -999.00,9,  -999.0,9,  -999.0,-999.000,9,-999.000,-999.000,9,  -9.0000,-999.0000,   1.9906,   -9.00
  316N145_7,       I05E,     399,          1,          9,          9,2,19950404,       1737,   -31.8670,    89.9995,       3664,  2474.1,   2.0204,  34.7384,2,  34.7383,2,    185.9,2,   188.4,2,   92.47,2,   31.07,2,    0.00,2,    2.16,2,-999.000,9,-999.000,9,  -999.0,9,  -999.0,9,  -9.0000,9,-999.0000,9, -999.00,9, -999.00,9,  -999.0,9,  -999.0,-999.000,9,-999.000,-999.000,9,  -9.0000,-999.0000,   1.8418,   -9.00
  316N145_7,       I05E,     399,          1,          8,          8,2,19950404,       1737,   -31.8670,    89.9995,       3664,  2625.6,   1.9036,  34.7425,2,  34.7432,2,    192.6,2,   192.9,2,   94.35,2,   30.87,2,    0.00,2,    2.14,2,-999.000,9,-999.000,9,  -999.0,9,  -999.0,9,  -9.0000,9,-999.0000,9, -999.00,9, -999.00,9,  -999.0,9,  -999.0,-999.000,9,-999.000,-999.000,9,  -9.0000,-999.0000,   1.7132,   -9.00
  316N145_7,       I05E,     399,          1,          7,          7,2,19950404,       1737,   -31.8670,    89.9995,       3664,  2779.4,   1.7576,  34.7420,2,  34.7432,2,    195.2,2,   195.5,2,   97.94,2,   30.82,2,    0.00,2,    2.14,2,-999.000,9,-999.000,9,  -999.0,9,  -999.0,9,  -9.0000,9,-999.0000,9, -999.00,9, -999.00,9,  -999.0,9,  -999.0,-999.000,9,-999.000,-999.000,9,  -9.0000,-999.0000,   1.5558,   -9.00
  316N145_7,       I05E,     399,          1,          6,          6,2,19950404,       1737,   -31.8670,    89.9995,       3664,  2933.4,   1.6195,  34.7388,2,  34.7387,2,    196.6,2,   196.8,2,  102.18,2,   31.11,2,    0.00,2,    2.16,2,-999.000,9,-999.000,9,  -999.0,9,  -999.0,9,  -9.0000,9,-999.0000,9, -999.00,9, -999.00,9,  -999.0,9,  -999.0,-999.000,9,-999.000,-999.000,9,  -9.0000,-999.0000,   1.4062,   -9.00
  316N145_7,       I05E,     399,          1,          5,          5,2,19950404,       1737,   -31.8670,    89.9995,       3664,  3085.8,   1.4783,  34.7345,2,  34.7347,2,    198.9,2,   199.2,2,  105.79,2,   31.21,2,    0.00,2,    2.17,2,-999.000,9,-999.000,9,  -999.0,9,  -999.0,9,  -9.0000,9,-999.0000,9, -999.00,9, -999.00,9,  -999.0,9,  -999.0,-999.000,9,-999.000,-999.000,9,  -9.0000,-999.0000,   1.2535,   -9.00
  316N145_7,       I05E,     399,          1,          4,          4,2,19950404,       1737,   -31.8670,    89.9995,       3664,  3238.8,   1.3835,  34.7311,2,  34.7310,2,    200.1,2,   200.0,2,  108.32,2,   31.41,2,    0.00,2,    2.18,2,-999.000,9,-999.000,9,  -999.0,9,  -999.0,9,  -9.0000,9,-999.0000,9, -999.00,9, -999.00,9,  -999.0,9,  -999.0,-999.000,9,-999.000,-999.000,9,  -9.0000,-999.0000,   1.1460,   -9.00
  316N145_7,       I05E,     399,          1,          3,          3,2,19950404,       1737,   -31.8670,    89.9995,       3664,  3392.5,   1.3028,  34.7279,2,  34.7274,2,    200.9,2,   201.3,2,  111.07,2,   31.61,2,    0.00,2,    2.18,2,-999.000,9,-999.000,9,  -999.0,9,  -999.0,9,  -9.0000,9,-999.0000,9, -999.00,9, -999.00,9,  -999.0,9,  -999.0,-999.000,9,-999.000,-999.000,9,  -9.0000,-999.0000,   1.0521,   -9.00
  316N145_7,       I05E,     399,          1,          2,          2,2,19950404,       1737,   -31.8670,    89.9995,       3664,  3546.0,   1.2175,  34.7233,2,  34.7233,2,    202.2,2,   202.6,2,  113.61,2,   31.81,2,    0.00,2,    2.20,2,-999.000,9,-999.000,9,  -999.0,9,  -999.0,9,  -9.0000,9,-999.0000,9, -999.00,9, -999.00,9,  -999.0,9,  -999.0,-999.000,9,-999.000,-999.000,9,  -9.0000,-999.0000,   0.9537,   -9.00
  316N145_7,       I05E,     399,          1,          1,          1,2,19950404,       1737,   -31.8670,    89.9995,       3664,  3718.0,   1.1363,  34.7194,2,  34.7196,2,    203.3,2,   203.0,2,  116.16,2,   31.90,2,    0.00,2,    2.21,2,-999.000,9,-999.000,9,  -999.0,9,  -999.0,9,  -9.0000,9,-999.0000,9, -999.00,9, -999.00,9,  -999.0,9,  -999.0,-999.000,9,-999.000,-999.000,9,  -9.0000,-999.0000,   0.8570,   -9.00