BOTTLE,20211124CCHSIORKP
EXPOCODE,SECT_ID,STNNBR,CASTNO,SAMPNO,BTLNBR,BTLNBR_FLAG_W,DATE,TIME,LATITUDE,LONGITUDE,DEPTH,CTDPRS,CTDTMP,CTDSAL,CTDSAL_FLAG_W,SALNTY,SALNTY_FLAG_W,CTDOXY,CTDOXY_FLAG_W,OXYGEN,OXYGEN_FLAG_W,SILCAT,SILCAT_FLAG_W,NITRAT,NITRAT_FLAG_W,NITRIT,NITRIT_FLAG_W,PHSPHT,PHSPHT_FLAG_W,CFC-11,CFC-11_FLAG_W,CFC-12,CFC-12_FLAG_W,TCARBN,TCARBN_FLAG_W,ALKALI,ALKALI_FLAG_W,TRITUM,TRITUM_FLAG_W,HELIUM,HELIUM_FLAG_W,DELHE3,DELHE3_FLAG_W,DELC13,DELC13_FLAG_W,DELC14,DELC14_FLAG_W,C14ERR,NEON,NEON_FLAG_W,NEONER,CCL4,CCL4_FLAG_W,TRITER,HELIER,THETA,DELHER
,,,,,,,,,,,METERS,DBAR,ITS-90,PSS-78,,PSS-78,,UMOL/KG,,UMOL/KG,,UMOL/KG,,UMOL/KG,,UMOL/KG,,UMOL/KG,,PMOL/KG,,PMOL/KG,,UMOL/KG,,UMOL/KG,,TU,,NMOL/KG,,PERCNT,,/MILLE,,/MILLE,,/MILLE,NMOL/KG,,NMOL/KG,PMOL/KG,,TU,NMOL/KG,DEG C,PERCNT
  316N145_7,       I08N,     332,          1,         36,         36,2,19950321,       1510,   -13.0997,    79.9992,       4870,     3.8,  28.9079,  34.6234,2,  34.6229,2,    193.0,3,   197.7,2,    2.81,2,    0.15,2,    0.00,2,    0.10,2,-999.000,9,-999.000,9,  1927.3,2,  2270.2,2,  -9.0000,9,-999.0000,9, -999.00,9, -999.00,9,  -999.0,9,  -999.0,-999.000,9,-999.000,-999.000,9,  -9.0000,-999.0000,  28.9070,   -9.00
  316N145_7,       I08N,     332,          1,         35,         35,2,19950321,       1510,   -13.0997,    79.9992,       4870,    37.0,  28.8859,  34.6193,2,  34.6193,2,    203.0,3,   198.1,2,    2.80,2,    0.15,2,    0.00,2,    0.10,2,   1.644,2,   0.948,2,  1928.2,2,  2269.4,2,  -9.0000,9,-999.0000,9, -999.00,9, -999.00,9,  -999.0,9,  -999.0,-999.000,9,-999.000,-999.000,9,  -9.0000,-999.0000,  28.8770,   -9.00
  316N145_7,       I08N,     332,          1,         34,         34,2,19950321,       1510,   -13.0997,    79.9992,       4870,    71.5,  26.1834,  34.5855,2,-999.0000,5,    200.0,2,   204.8,2,    3.82,2,    0.15,2,    0.00,2,    0.16,2,   1.794,2,   1.007,2,  1951.1,2,  2268.8,2,  -9.0000,9,-999.0000,9, -999.00,9, -999.00,9,  -999.0,9,  -999.0,-999.000,9,-999.000,-999.000,9,  -9.0000,-999.0000,  26.1673,   -9.00
  316N145_7,       I08N,     332,          1,         33,         33,2,19950321,       1510,   -13.0997,    79.9992,       4870,   105.6,  21.7424,  34.6935,2,  34.6775,2,    117.1,2,   116.5,2,   13.33,2,   12.70,2,    0.40,2,    0.93,2,   1.514,2,   0.829,2,  2060.9,2,  2275.2,2,  -9.0000,9,-999.0000,9, -999.00,9, -999.00,9,  -999.0,9,  -999.0,-999.000,9,-999.000,-999.000,9,  -9.0000,-999.0000,  21.7218,   -9.00
  316N145_7,       I08N,     332,          1,         32,         32,2,19950321,       1510,   -13.0997,    79.9992,       4870,   136.0,  19.5828,  35.0049,2,  34.9876,2,     91.6,2,    92.8,2,   16.40,2,   17.22,2,    0.03,2,    1.20,2,   1.377,2,   0.737,2,  2112.7,2,  2299.0,2,  -9.0000,9,-999.0000,9, -999.00,9, -999.00,9,  -999.0,9,  -999.0,-999.000,9,-999.000,-999.000,9,  -9.0000,-999.0000,  19.5580,   -9.00
  316N145_7,       I08N,     332,          1,         31,         31,2,19950321,       1510,   -13.0997,    79.9992,       4870,   176.3,  17.7709,  35.1805,2,  35.1719,2,    132.6,2,   132.3,2,   16.59,2,   13.27,2,    0.01,2,    0.98,2,   1.557,2,   0.835,2,  2105.7,2,  2318.1,2,  -9.0000,9,-999.0000,9, -999.00,9, -999.00,9,  -999.0,9,  -999.0,-999.000,9,-999.000,-999.000,9,  -9.0000,-999.0000,  17.7409,   -9.00
  316N145_7,       I08N,     332,          1,         30,         30,2,19950321,       1510,   -13.0997,    79.9992,       4870,   211.8,  15.1875,  34.9053,2,  34.9032,2,    104.5,2,   103.5,2,   25.49,2,   19.69,2,    0.01,2,    1.39,2,   1.154,2,   0.598,2,  2144.9,2,  2308.9,2,  -9.0000,9,-999.0000,9, -999.00,9, -999.00,9,  -999.0,9,  -999.0,-999.000,9,-999.000,-999.000,9,  -9.0000,-999.0000,  15.1551,   -9.00
  316N145_7,       I08N,     332,          1,         29,         29,2,19950321,       1510,   -13.0997,    79.9992,       4870,   235.6,  14.9991,  35.0601,2,  35.0661,2,    124.2,2,   127.0,2,   22.78,2,   16.96,2,    0.00,2,    1.23,2,   1.349,2,   0.702,2,  2137.6,2,  2320.8,2,  -9.0000,9,-999.0000,9, -999.00,9, -999.00,9,  -999.0,9,  -999.0,-999.000,9,-999.000,-999.000,9,  -9.0000,-999.0000,  14.9634,   -9.00
  316N145_7,       I08N,     332,          1,         28,         28,2,19950321,       1510,   -13.0997,    79.9992,       4870,   285.9,  13.1787,  35.0820,2,  35.0831,2,    145.4,2,   146.3,2,   20.69,2,   16.67,2,    0.00,2,    1.22,2,   1.531,6,   0.780,6,  2144.3,2,  2319.8,2,  -9.0000,9,-999.0000,9, -999.00,9, -999.00,9,  -999.0,9,  -999.0,-999.000,9,-999.000,-999.000,9,  -9.0000,-999.0000,  13.1388,   -9.00
  316N145_7,       I08N,     332,          1,         27,         27,2,19950321,       1510,   -13.0997,    79.9992,       4870,   355.8,  11.1287,  34.9185,2,  34.9158,2,    166.0,2,   163.4,2,   19.64,2,   18.52,2,    0.00,2,    1.32,2,   1.608,2,   0.806,2,  2149.8,2,  2318.2,2,  -9.0000,9,-999.0000,9, -999.00,9, -999.00,9,  -999.0,9,  -999.0,-999.000,9,-999.000,-999.000,9,  -9.0000,-999.0000,  11.0843,   -9.00
  316N145_7,       I08N,     332,          1,         26,         26,2,19950321,       1510,   -13.0997,    79.9992,       4870,   427.4,   9.7750,  34.7721,2,  34.7728,2,    198.7,2,   209.7,2,   10.11,2,   17.20,2,    0.00,2,    1.22,2,   2.033,2,   1.013,2,  2127.3,2,  2299.6,2,  -9.0000,9,-999.0000,9, -999.00,9, -999.00,9,  -999.0,9,  -999.0,-999.000,9,-999.000,-999.000,9,  -9.0000,-999.0000,   9.7257,   -9.00
  316N145_7,       I08N,     332,          1,         25,         25,2,19950321,       1510,   -13.0997,    79.9992,       4870,   517.7,   8.1742,  34.6442,2,  34.6488,2,    151.6,2,   151.9,2,   28.73,2,   26.61,2,    0.00,2,    1.84,2,   0.460,2,   0.234,2,  2184.0,2,  2311.5,2,  -9.0000,9,-999.0000,9, -999.00,9, -999.00,9,  -999.0,9,  -999.0,-999.000,9,-999.000,-999.000,9,  -9.0000,-999.0000,   8.1203,   -9.00
  316N145_7,       I08N,     332,          1,         24,         24,2,19950321,       1510,   -13.0997,    79.9992,       4870,   603.8,   7.5572,  34.6753,2,  34.6749,2,    110.0,2,   110.6,2,   48.17,2,   31.61,2,    0.00,2,    2.22,2,   0.106,6,   0.056,6,  2226.8,2,  2323.0,2,  -9.0000,9,-999.0000,9, -999.00,9, -999.00,9,  -999.0,9,  -999.0,-999.000,9,-999.000,-999.000,9,  -9.0000,-999.0000,   7.4968,   -9.00
  316N145_7,       I08N,     332,          1,         23,         23,2,19950321,       1510,   -13.0997,    79.9992,       4870,   695.8,   6.8245,  34.6909,2,  34.6914,2,     92.9,2,    92.6,2,   65.56,2,   34.43,2,    0.00,2,    2.46,2,   0.032,2,   0.017,2,  2256.3,2,  2338.5,2,  -9.0000,9,-999.0000,9, -999.00,9, -999.00,9,  -999.0,9,  -999.0,-999.000,9,-999.000,-999.000,9,  -9.0000,-999.0000,   6.7583,   -9.00
  316N145_7,       I08N,     332,          1,         22,         22,2,19950321,       1510,   -13.0997,    79.9992,       4870,   797.3,   6.1673,  34.6772,2,  34.6751,2,     83.4,2,    85.0,2,   80.07,2,   35.82,2,    0.00,2,    2.57,2,   0.007,2,   0.005,2,  2276.7,2,  2361.9,2,  -9.0000,9,-999.0000,9, -999.00,9, -999.00,9,  -999.0,9,  -999.0,-999.000,9,-999.000,-999.000,9,  -9.0000,-999.0000,   6.0947,   -9.00
  316N145_7,       I08N,     332,          1,         21,         21,2,19950321,       1510,   -13.0997,    79.9992,       4870,   949.9,   5.4484,  34.6701,2,  34.6716,2,     86.2,2,    86.6,2,   90.88,2,   36.34,2,    0.00,2,    2.63,2,   0.000,2,  -0.001,2,  2290.4,2,  2362.4,2,  -9.0000,9,-999.0000,9, -999.00,9, -999.00,9,  -999.0,9,  -999.0,-999.000,9,-999.000,-999.000,9,  -9.0000,-999.0000,   5.3661,   -9.00
  316N145_7,       I08N,     332,          1,         20,         20,2,19950321,       1510,   -13.0997,    79.9992,       4870,  1105.9,   4.9637,  34.6903,2,  34.6906,2,     91.3,2,    92.1,2,   95.45,2,   36.54,2,    0.00,2,    2.64,2,  -0.003,2,  -0.002,2,  2295.2,2,  2371.6,2,  -9.0000,9,-999.0000,9, -999.00,9, -999.00,9,  -999.0,9,  -999.0,-999.000,9,-999.000,-999.000,9,  -9.0000,-999.0000,   4.8707,   -9.00
  316N145_7,       I08N,     332,          1,         19,         19,2,19950321,       1510,   -13.0997,    79.9992,       4870,  1261.6,   4.3603,  34.6860,2,  34.6867,2,     97.9,2,    98.3,2,  103.39,2,   36.73,2,    0.00,2,    2.66,2,-999.000,9,-999.000,9,  2302.3,2,  2399.7,3,  -9.0000,9,-999.0000,9, -999.00,9, -999.00,9,  -999.0,9,  -999.0,-999.000,9,-999.000,-999.000,9,  -9.0000,-999.0000,   4.2586,   -9.00
  316N145_7,       I08N,     332,          1,         18,         18,2,19950321,       1510,   -13.0997,    79.9992,       4870,  1415.5,   3.9114,  34.7038,2,  34.7048,2,    106.4,2,   106.2,2,  106.93,2,   36.53,2,    0.00,2,    2.64,2,  -0.001,2,   0.000,2,  2305.1,2,  2383.0,2,  -9.0000,9,-999.0000,9, -999.00,9, -999.00,9,  -999.0,9,  -999.0,-999.000,9,-999.000,-999.000,9,  -9.0000,-999.0000,   3.8004,   -9.00
  316N145_7,       I08N,     332,          1,         17,         17,2,19950321,       1510,   -13.0997,    79.9992,       4870,  1616.8,   3.3083,  34.7248,2,  34.7246,2,    122.1,2,   121.2,2,  109.85,2,   35.95,2,    0.00,2,    2.58,2,-999.000,9,-999.000,9,  2301.0,2,  2385.7,2,  -9.0000,9,-999.0000,9, -999.00,9, -999.00,9,  -999.0,9,  -999.0,-999.000,9,-999.000,-999.000,9,  -9.0000,-999.0000,   3.1865,   -9.00
  316N145_7,       I08N,     332,          1,         16,         16,2,19950321,       1510,   -13.0997,    79.9992,       4870,  1819.4,   2.8338,  34.7321,2,  34.7323,2,    135.9,2,   135.7,2,  112.56,2,   35.28,2,    0.00,2,    2.52,2,   0.002,2,   0.000,2,  2298.0,2,  2389.8,2,  -9.0000,9,-999.0000,9, -999.00,9, -999.00,9,  -999.0,9,  -999.0,-999.000,9,-999.000,-999.000,9,  -9.0000,-999.0000,   2.7003,   -9.00
  316N145_7,       I08N,     332,          1,         15,         15,2,19950321,       1510,   -13.0997,    79.9992,       4870,  2010.6,   2.5218,  34.7354,2,  34.7347,2,    146.6,2,   145.0,2,  115.28,2,   34.84,2,    0.00,2,    2.47,2,-999.000,9,-999.000,9,  2296.0,2,  2389.2,2,  -9.0000,9,-999.0000,9, -999.00,9, -999.00,9,  -999.0,9,  -999.0,-999.000,9,-999.000,-999.000,9,  -9.0000,-999.0000,   2.3762,   -9.00
  316N145_7,       I08N,     332,          1,         14,         14,2,19950321,       1510,   -13.0997,    79.9992,       4870,  2224.0,   2.1856,  34.7328,2,  34.7329,2,    156.9,3,   157.2,2,  117.16,2,   34.12,2,    0.00,2,    2.41,2,  -0.001,2,   0.001,2,  2294.1,2,  2389.6,2,  -9.0000,9,-999.0000,9, -999.00,9, -999.00,9,  -999.0,9,  -999.0,-999.000,9,-999.000,-999.000,9,  -9.0000,-999.0000,   2.0265,   -9.00
  316N145_7,       I08N,     332,          1,         13,         13,2,19950321,       1510,   -13.0997,    79.9992,       4870,  2428.0,   1.9798,  34.7307,2,  34.7313,2,    162.4,3,   163.9,2,  119.03,2,   33.88,2,    0.00,2,    2.38,2,-999.000,9,-999.000,9,  2291.6,2,  2393.4,2,  -9.0000,9,-999.0000,9, -999.00,9, -999.00,9,  -999.0,9,  -999.0,-999.000,9,-999.000,-999.000,9,  -9.0000,-999.0000,   1.8061,   -9.00
  316N145_7,       I08N,     332,          1,         12,         12,2,19950321,       1510,   -13.0997,    79.9992,       4870,  2628.2,   1.8407,  34.7291,2,  34.7298,2,    164.2,3,   169.0,2,  120.70,2,   33.69,2,    0.00,2,    2.37,2,   0.000,2,   0.000,2,  2290.4,2,  2381.2,2,  -9.0000,9,-999.0000,9, -999.00,9, -999.00,9,  -999.0,9,  -999.0,-999.000,9,-999.000,-999.000,9,  -9.0000,-999.0000,   1.6514,   -9.00
  316N145_7,       I08N,     332,          1,         11,         11,2,19950321,       1510,   -13.0997,    79.9992,       4870,  2833.4,   1.7364,  34.7277,2,  34.7278,2,    165.8,3,   170.8,2,  123.22,2,   33.69,2,    0.00,2,    2.36,2,-999.000,9,-999.000,9,  2293.8,2,  2398.4,2,  -9.0000,9,-999.0000,9, -999.00,9, -999.00,9,  -999.0,9,  -999.0,-999.000,9,-999.000,-999.000,9,  -9.0000,-999.0000,   1.5300,   -9.00
  316N145_7,       I08N,     332,          1,         10,         10,2,19950321,       1510,   -13.0997,    79.9992,       4870,  3036.8,   1.6345,  34.7254,2,  34.7252,2,    169.9,3,   173.1,2,  125.54,2,   33.73,2,    0.00,2,    2.35,2,  -0.003,2,  -0.002,2,  2294.8,2,  2403.8,2,  -9.0000,9,-999.0000,9, -999.00,9, -999.00,9,  -999.0,9,  -999.0,-999.000,9,-999.000,   0.016,6,  -9.0000,-999.0000,   1.4110,   -9.00
  316N145_7,       I08N,     332,          1,          9,          9,2,19950321,       1510,   -13.0997,    79.9992,       4870,  3240.0,   1.5264,  34.7232,2,  34.7235,2,    171.2,3,   173.6,2,  129.57,2,   33.92,2,    0.00,2,    2.36,2,-999.000,9,-999.000,9,  2300.3,2,  2408.3,2,  -9.0000,9,-999.0000,9, -999.00,9, -999.00,9,  -999.0,9,  -999.0,-999.000,9,-999.000,-999.000,9,  -9.0000,-999.0000,   1.2855,   -9.00
  316N145_7,       I08N,     332,          1,          8,          8,2,19950321,       1510,   -13.0997,    79.9992,       4870,  3444.7,   1.4424,  34.7216,2,  34.7211,2,    176.8,3,   178.8,2,  128.25,2,   33.63,2,    0.00,2,    2.34,2,  -0.004,2,  -0.002,2,  2295.0,2,  2405.1,2,  -9.0000,9,-999.0000,9, -999.00,9, -999.00,9,  -999.0,9,  -999.0,-999.000,9,-999.000,-999.000,9,  -9.0000,-999.0000,   1.1831,   -9.00
  316N145_7,       I08N,     332,          1,          7,          7,2,19950321,       1510,   -13.0997,    79.9992,       4870,  3648.6,   1.3791,  34.7195,2,  34.7201,2,    180.7,7,   181.4,2,  128.86,2,   33.44,2,    0.00,2,    2.32,2,-999.000,9,-999.000,9,  2294.2,2,  2406.5,2,  -9.0000,9,-999.0000,9, -999.00,9, -999.00,9,  -999.0,9,  -999.0,-999.000,9,-999.000,-999.000,9,  -9.0000,-999.0000,   1.1005,   -9.00
  316N145_7,       I08N,     332,          1,          6,          6,2,19950321,       1510,   -13.0997,    79.9992,       4870,  3877.4,   1.3478,  34.7183,2,  34.7180,2,    182.5,7,   182.4,2,  131.40,2,   33.63,2,    0.00,2,    2.33,2,  -0.003,2,  -0.002,2,  2297.1,2,  2409.6,2,  -9.0000,9,-999.0000,9, -999.00,9, -999.00,9,  -999.0,9,  -999.0,-999.000,9,-999.000,-999.000,9,  -9.0000,-999.0000,   1.0461,   -9.00
  316N145_7,       I08N,     332,          1,          5,          5,2,19950321,       1510,   -13.0997,    79.9992,       4870,  4108.1,   1.3484,  34.7172,2,  34.7170,2,    183.0,7,   182.7,2,  132.23,2,   33.72,2,    0.00,2,    2.33,2,-999.000,9,-999.000,9,  2298.4,2,  2409.6,2,  -9.0000,9,-999.0000,9, -999.00,9, -999.00,9,  -999.0,9,  -999.0,-999.000,9,-999.000,-999.000,9,  -9.0000,-999.0000,   1.0218,   -9.00
  316N145_7,       I08N,     332,          1,          4,          4,2,19950321,       1510,   -13.0997,    79.9992,       4870,  4338.5,   1.3637,  34.7168,2,  34.7172,2,    182.9,7,   181.8,2,  133.06,2,   33.72,2,    0.00,2,    2.33,2,   0.001,2,   0.000,2,  2298.6,2,  2409.1,2,  -9.0000,9,-999.0000,9, -999.00,9, -999.00,9,  -999.0,9,  -999.0,-999.000,9,-999.000,-999.000,9,  -9.0000,-999.0000,   1.0111,   -9.00
  316N145_7,       I08N,     332,          1,          3,          3,2,19950321,       1510,   -13.0997,    79.9992,       4870,  4570.6,   1.3863,  34.7171,2,  34.7162,2,    182.3,7,   181.8,2,  133.24,2,   33.72,2,    0.00,2,    2.33,2,  -0.004,2,   0.001,2,  2294.0,2,  2410.7,2,  -9.0000,9,-999.0000,9, -999.00,9, -999.00,9,  -999.0,9,  -999.0,-999.000,9,-999.000,-999.000,9,  -9.0000,-999.0000,   1.0065,   -9.00
  316N145_7,       I08N,     332,          1,          2,          2,2,19950321,       1510,   -13.0997,    79.9992,       4870,  4799.3,   1.4097,  34.7166,2,  34.7180,2,    182.5,7,   182.4,2,  133.42,2,   33.72,2,    0.00,2,    2.33,2,-999.000,9,-999.000,9,  2291.4,2,  2411.8,2,  -9.0000,9,-999.0000,9, -999.00,9, -999.00,9,  -999.0,9,  -999.0,-999.000,9,-999.000,-999.000,9,  -9.0000,-999.0000,   1.0024,   -9.00
  316N145_7,       I08N,     332,          1,          1,          1,2,19950321,       1510,   -13.0997,    79.9992,       4870,  5010.9,   1.4316,  34.7163,2,  34.7168,2,    182.4,7,   182.4,2,  133.61,2,   33.77,2,    0.00,2,    2.33,2,   0.001,2,   0.004,2,  2292.3,2,  2413.2,2,  -9.0000,9,-999.0000,9, -999.00,9, -999.00,9,  -999.0,9,  -999.0,-999.000,9,-999.000,-999.000,9,  -9.0000,-999.0000,   0.9982,   -9.00