BOTTLE,20211124CCHSIORKP
EXPOCODE,SECT_ID,STNNBR,CASTNO,SAMPNO,BTLNBR,BTLNBR_FLAG_W,DATE,TIME,LATITUDE,LONGITUDE,DEPTH,CTDPRS,CTDTMP,CTDSAL,CTDSAL_FLAG_W,SALNTY,SALNTY_FLAG_W,CTDOXY,CTDOXY_FLAG_W,OXYGEN,OXYGEN_FLAG_W,SILCAT,SILCAT_FLAG_W,NITRAT,NITRAT_FLAG_W,NITRIT,NITRIT_FLAG_W,PHSPHT,PHSPHT_FLAG_W,CFC-11,CFC-11_FLAG_W,CFC-12,CFC-12_FLAG_W,TCARBN,TCARBN_FLAG_W,ALKALI,ALKALI_FLAG_W,TRITUM,TRITUM_FLAG_W,HELIUM,HELIUM_FLAG_W,DELHE3,DELHE3_FLAG_W,DELC13,DELC13_FLAG_W,DELC14,DELC14_FLAG_W,C14ERR,NEON,NEON_FLAG_W,NEONER,CCL4,CCL4_FLAG_W,TRITER,HELIER,THETA,DELHER
,,,,,,,,,,,METERS,DBAR,ITS-90,PSS-78,,PSS-78,,UMOL/KG,,UMOL/KG,,UMOL/KG,,UMOL/KG,,UMOL/KG,,UMOL/KG,,PMOL/KG,,PMOL/KG,,UMOL/KG,,UMOL/KG,,TU,,NMOL/KG,,PERCNT,,/MILLE,,/MILLE,,/MILLE,NMOL/KG,,NMOL/KG,PMOL/KG,,TU,NMOL/KG,DEG C,PERCNT
  316N145_7,       I05E,     432,          1,         36,         36,2,19950413,       0012,   -31.9498,   111.3498,       5022,     3.1,  22.5537,  36.0686,2,  36.0691,2,    215.6,2,   216.3,2,    3.52,2,    0.05,2,    0.00,2,    0.05,2,   2.291,2,   1.200,2,  2031.3,2,  2357.3,2,  -9.0000,9,-999.0000,9, -999.00,9, -999.00,9,  -999.0,9,  -999.0,-999.000,9,-999.000,-999.000,9,  -9.0000,-999.0000,  22.5531,   -9.00
  316N145_7,       I05E,     432,          1,         35,         35,2,19950413,       0012,   -31.9498,   111.3498,       5022,    36.3,  21.5921,  36.1178,2,  36.0942,2,    217.8,2,   225.1,2,    3.29,2,    0.05,2,    0.00,2,    0.06,2,-999.000,9,-999.000,9,  2043.5,2,  2367.2,2,  -9.0000,9,-999.0000,9, -999.00,9, -999.00,9,  -999.0,9,  -999.0,-999.000,9,-999.000,-999.000,9,  -9.0000,-999.0000,  21.5850,   -9.00
  316N145_7,       I05E,     432,          1,         34,         34,2,19950413,       0012,   -31.9498,   111.3498,       5022,    65.9,  19.8841,  36.0673,2,  36.0483,2,    229.4,2,   228.1,2,    2.84,2,    0.05,2,    0.00,2,    0.08,2,   2.372,2,   1.294,2,  2052.7,2,  2363.2,2,  -9.0000,9,-999.0000,9, -999.00,9, -999.00,9,  -999.0,9,  -999.0,-999.000,9,-999.000,-999.000,9,  -9.0000,-999.0000,  19.8719,   -9.00
  316N145_7,       I05E,     432,          1,         33,         33,2,19950413,       0012,   -31.9498,   111.3498,       5022,    96.7,  16.3346,  35.6828,2,  35.6605,2,    239.6,2,   237.8,2,    2.40,2,    0.36,2,    0.12,2,    0.21,2,-999.000,9,-999.000,9,  2066.5,2,  2342.7,2,  -9.0000,9,-999.0000,9, -999.00,9, -999.00,9,  -999.0,9,  -999.0,-999.000,9,-999.000,-999.000,9,  -9.0000,-999.0000,  16.3191,   -9.00
  316N145_7,       I05E,     432,          1,         32,         32,2,19950413,       0012,   -31.9498,   111.3498,       5022,   126.0,  14.7953,  35.4882,2,  35.4839,2,    236.8,2,   238.5,2,    2.16,2,    1.98,2,    0.04,2,    0.33,2,   2.940,2,   1.579,2,  2076.3,2,  2331.6,2,  -9.0000,9,-999.0000,9, -999.00,9, -999.00,9,  -999.0,9,  -999.0,-999.000,9,-999.000,-999.000,9,  -9.0000,-999.0000,  14.7764,   -9.00
  316N145_7,       I05E,     432,          1,         31,         31,2,19950413,       0012,   -31.9498,   111.3498,       5022,   176.4,  12.7952,  35.1812,2,  35.1883,2,    239.4,2,   241.2,2,    2.36,2,    5.61,2,    0.01,2,    0.54,2,   3.182,2,   1.695,2,  2090.8,2,  2324.3,2,  -9.0000,9,-999.0000,9, -999.00,9, -999.00,9,  -999.0,9,  -999.0,-999.000,9,-999.000,-999.000,9,  -9.0000,-999.0000,  12.7712,   -9.00
  316N145_7,       I05E,     432,          1,         30,         30,2,19950413,       0012,   -31.9498,   111.3498,       5022,   237.2,  11.6999,  35.0307,2,  35.0465,2,    243.1,2,   243.9,2,    2.78,2,    8.07,2,    0.01,2,    0.69,2,   3.343,2,   1.744,2,  2098.3,2,  2311.7,2,  -9.0000,9,-999.0000,9, -999.00,9, -999.00,9,  -999.0,9,  -999.0,-999.000,9,-999.000,-999.000,9,  -9.0000,-999.0000,  11.6694,   -9.00
  316N145_7,       I05E,     432,          1,         29,         29,2,19950413,       0012,   -31.9498,   111.3498,       5022,   297.9,  10.5869,  34.8699,2,  34.8580,2,    240.5,2,   245.1,2,    3.62,2,   11.45,2,    0.01,2,    0.89,2,   3.433,2,   1.769,2,  2107.4,2,  2306.4,2,  -9.0000,9,-999.0000,9, -999.00,9, -999.00,9,  -999.0,9,  -999.0,-999.000,9,-999.000,-999.000,9,  -9.0000,-999.0000,  10.5510,   -9.00
  316N145_7,       I05E,     432,          1,         28,         28,3,19950413,       0012,   -31.9498,   111.3498,       5022,   357.8,   9.8256,  34.7550,2,  34.6543,4,    245.7,2,   231.7,4,   10.07,4,   17.43,4,    0.01,4,    1.25,4,   2.767,2,   1.383,2,  2129.5,4,  2309.6,4,  -9.0000,9,-999.0000,9, -999.00,9, -999.00,9,  -999.0,9,  -999.0,-999.000,9,-999.000,-999.000,9,  -9.0000,-999.0000,   9.7844,   -9.00
  316N145_7,       I05E,     432,          1,         27,         27,2,19950413,       0012,   -31.9498,   111.3498,       5022,   456.8,   9.2759,  34.6730,2,  34.6730,2,    243.5,2,   243.1,2,    5.53,2,   15.94,2,    0.01,2,    1.15,2,   3.274,2,   1.646,2,  2116.5,2,  2298.2,2,  -9.0000,9,-999.0000,9, -999.00,9, -999.00,9,  -999.0,9,  -999.0,-999.000,9,-999.000,-999.000,9,  -9.0000,-999.0000,   9.2249,   -9.00
  316N145_7,       I05E,     432,          1,         26,         26,2,19950413,       0012,   -31.9498,   111.3498,       5022,   557.2,   8.7583,  34.6054,2,  34.6033,2,    236.4,2,   232.5,2,    7.45,2,   18.74,2,    0.01,2,    1.32,2,   2.762,2,   1.363,2,  2126.9,2,  2298.1,2,  -9.0000,9,-999.0000,9, -999.00,9, -999.00,9,  -999.0,9,  -999.0,-999.000,9,-999.000,-999.000,9,  -9.0000,-999.0000,   8.6979,   -9.00
  316N145_7,       I05E,     432,          1,         25,         25,2,19950413,       0012,   -31.9498,   111.3498,       5022,   658.8,   7.4702,  34.4999,2,  34.4978,2,    210.5,2,   205.0,2,   14.55,2,   24.07,2,    0.00,2,    1.65,2,   1.533,2,   0.738,2,  2153.1,2,  2297.9,2,  -9.0000,9,-999.0000,9, -999.00,9, -999.00,9,  -999.0,9,  -999.0,-999.000,9,-999.000,-999.000,9,  -9.0000,-999.0000,   7.4046,   -9.00
  316N145_7,       I05E,     432,          1,         24,         24,2,19950413,       0012,   -31.9498,   111.3498,       5022,   758.3,   6.1533,  34.4306,2,  34.4315,2,    194.9,2,   195.3,2,   23.80,2,   27.81,2,    0.00,2,    1.90,2,   0.861,6,   0.417,6,  2173.2,2,  2289.9,2,  -9.0000,9,-999.0000,9, -999.00,9, -999.00,9,  -999.0,9,  -999.0,-999.000,9,-999.000,-999.000,9,  -9.0000,-999.0000,   6.0848,   -9.00
  316N145_7,       I05E,     432,          1,         23,         23,2,19950413,       0012,   -31.9498,   111.3498,       5022,   857.1,   4.8561,  34.3910,2,  34.3908,2,    193.1,2,   191.2,2,   35.85,2,   30.64,2,    0.00,2,    2.12,2,-999.000,9,-999.000,9,  2193.3,2,  2314.4,2,  -9.0000,9,-999.0000,9, -999.00,9, -999.00,9,  -999.0,9,  -999.0,-999.000,9,-999.000,-999.000,9,  -9.0000,-999.0000,   4.7867,   -9.00
  316N145_7,       I05E,     432,          1,         22,         22,2,19950413,       0012,   -31.9498,   111.3498,       5022,   956.4,   4.0770,  34.4078,2,  34.4077,2,    185.2,2,   182.4,2,   48.56,2,   32.60,2,    0.00,2,    2.26,2,   0.324,2,   0.160,2,  2215.5,2,  2334.9,3,  -9.0000,9,-999.0000,9, -999.00,9, -999.00,9,  -999.0,9,  -999.0,-999.000,9,-999.000,-999.000,9,  -9.0000,-999.0000,   4.0046,   -9.00
  316N145_7,       I05E,     432,          1,         21,         21,2,19950413,       0012,   -31.9498,   111.3498,       5022,  1057.6,   3.6999,  34.4473,2,  34.4456,2,    176.3,2,   170.6,2,   59.11,2,   33.78,2,    0.00,2,    2.36,2,   0.173,6,   0.091,6,  2231.4,2,  2335.4,2,  -9.0000,9,-999.0000,9, -999.00,9, -999.00,9,  -999.0,9,  -999.0,-999.000,9,-999.000,-999.000,9,  -9.0000,-999.0000,   3.6219,   -9.00
  316N145_7,       I05E,     432,          1,         20,         20,2,19950413,       0012,   -31.9498,   111.3498,       5022,  1211.2,   3.4821,  34.5399,2,  34.5404,2,    151.0,2,   149.5,2,   77.01,2,   35.06,2,    0.00,2,    2.48,2,   0.038,3,   0.022,3,  2259.3,2,  2364.4,3,  -9.0000,9,-999.0000,9, -999.00,9, -999.00,9,  -999.0,9,  -999.0,-999.000,9,-999.000,-999.000,9,  -9.0000,-999.0000,   3.3932,   -9.00
  316N145_7,       I05E,     432,          1,         19,         19,2,19950413,       0012,   -31.9498,   111.3498,       5022,  1414.2,   3.0018,  34.5964,2,  34.5962,2,    152.3,2,   152.8,2,   83.91,2,   34.82,2,    0.00,2,    2.45,2,   0.012,3,   0.011,3,  2265.8,2,  2359.7,2,  -9.0000,9,-999.0000,9, -999.00,9, -999.00,9,  -999.0,9,  -999.0,-999.000,9,-999.000,-999.000,9,  -9.0000,-999.0000,   2.9010,   -9.00
  316N145_7,       I05E,     432,          1,         18,         18,2,19950413,       0012,   -31.9498,   111.3498,       5022,  1616.9,   2.7482,  34.6483,2,  34.6495,2,    155.3,2,   155.6,2,   91.26,2,   34.48,2,    0.00,2,    2.42,2,   0.005,3,   0.006,3,  2271.6,2,  2410.2,3,  -9.0000,9,-999.0000,9, -999.00,9, -999.00,9,  -999.0,9,  -999.0,-999.000,9,-999.000,-999.000,9,  -9.0000,-999.0000,   2.6334,   -9.00
  316N145_7,       I05E,     432,          1,         17,         17,2,19950413,       0012,   -31.9498,   111.3498,       5022,  1818.9,   2.5053,  34.6906,2,  34.6902,2,    159.2,2,   158.5,2,   99.72,2,   33.99,2,    0.00,2,    2.39,2,-999.000,9,-999.000,9,  2276.3,2,  2380.7,2,  -9.0000,9,-999.0000,9, -999.00,9, -999.00,9,  -999.0,9,  -999.0,-999.000,9,-999.000,-999.000,9,  -9.0000,-999.0000,   2.3766,   -9.00
  316N145_7,       I05E,     432,          1,         16,         16,2,19950413,       0012,   -31.9498,   111.3498,       5022,  2022.0,   2.3070,  34.7126,2,  34.7130,2,    161.8,2,   162.5,2,  106.24,2,   33.80,2,    0.00,2,    2.37,2,   0.000,3,   0.002,3,  -999.0,5,  2394.1,3,  -9.0000,9,-999.0000,9, -999.00,9, -999.00,9,  -999.0,9,  -999.0,-999.000,9,-999.000,-999.000,9,  -9.0000,-999.0000,   2.1637,   -9.00
  316N145_7,       I05E,     432,          1,         15,         15,2,19950413,       0012,   -31.9498,   111.3498,       5022,  2224.7,   2.1189,  34.7228,2,  34.7238,2,    166.2,2,   165.6,2,  111.02,2,   33.51,2,    0.00,2,    2.35,2,-999.000,9,-999.000,9,  2282.1,2,  2391.7,2,  -9.0000,9,-999.0000,9, -999.00,9, -999.00,9,  -999.0,9,  -999.0,-999.000,9,-999.000,-999.000,9,  -9.0000,-999.0000,   1.9609,   -9.00
  316N145_7,       I05E,     432,          1,         14,         14,2,19950413,       0012,   -31.9498,   111.3498,       5022,  2427.4,   1.9832,  34.7266,2,  34.7273,2,    170.1,2,   169.4,2,  112.97,2,   33.37,2,    0.00,2,    2.34,2,  -0.002,3,   0.005,3,  2283.8,2,  2418.5,3,  -9.0000,9,-999.0000,9, -999.00,9, -999.00,9,  -999.0,9,  -999.0,-999.000,9,-999.000,-999.000,9,  -9.0000,-999.0000,   1.8095,   -9.00
  316N145_7,       I05E,     432,          1,         13,         13,2,19950413,       0012,   -31.9498,   111.3498,       5022,  2629.9,   1.8354,  34.7286,2,  34.7283,2,    174.4,2,   174.2,2,  115.58,2,   33.22,2,    0.00,2,    2.32,2,-999.000,9,-999.000,9,  2280.4,2,  2391.6,2,  -9.0000,9,-999.0000,9, -999.00,9, -999.00,9,  -999.0,9,  -999.0,-999.000,9,-999.000,-999.000,9,  -9.0000,-999.0000,   1.6461,   -9.00
  316N145_7,       I05E,     432,          1,         12,         12,2,19950413,       0012,   -31.9498,   111.3498,       5022,  2832.9,   1.7052,  34.7281,2,  34.7287,2,    178.9,2,   179.3,2,  116.88,2,   32.88,2,    0.00,2,    2.30,2,   0.000,3,   0.003,3,  2280.6,2,  2391.4,2,  -9.0000,9,-999.0000,9, -999.00,9, -999.00,9,  -999.0,9,  -999.0,-999.000,9,-999.000,-999.000,9,  -9.0000,-999.0000,   1.4996,   -9.00
  316N145_7,       I05E,     432,          1,         11,         11,2,19950413,       0012,   -31.9498,   111.3498,       5022,  3036.2,   1.5854,  34.7276,2,  34.7289,2,    182.3,2,   182.7,2,  118.61,2,   32.89,2,    0.00,2,    2.29,2,-999.000,9,-999.000,9,  2280.1,2,  2391.9,2,  -9.0000,9,-999.0000,9, -999.00,9, -999.00,9,  -999.0,9,  -999.0,-999.000,9,-999.000,-999.000,9,  -9.0000,-999.0000,   1.3629,   -9.00
  316N145_7,       I05E,     432,          1,         10,         10,2,19950413,       0012,   -31.9498,   111.3498,       5022,  3239.4,   1.4823,  34.7251,2,  34.7254,2,    185.0,2,   185.3,2,  120.35,2,   32.89,2,    0.00,2,    2.29,2,   0.000,3,   0.006,3,  2279.0,2,  2416.5,3,  -9.0000,9,-999.0000,9, -999.00,9, -999.00,9,  -999.0,9,  -999.0,-999.000,9,-999.000,-999.000,9,  -9.0000,-999.0000,   1.2425,   -9.00
  316N145_7,       I05E,     432,          1,          9,          9,2,19950413,       0012,   -31.9498,   111.3498,       5022,  3443.7,   1.3766,  34.7228,2,  34.7230,2,    187.2,2,   188.6,2,  122.31,2,   32.80,2,    0.00,2,    2.28,2,-999.000,9,-999.000,9,  2279.7,2,  2395.3,2,  -9.0000,9,-999.0000,9, -999.00,9, -999.00,9,  -999.0,9,  -999.0,-999.000,9,-999.000,-999.000,9,  -9.0000,-999.0000,   1.1190,   -9.00
  316N145_7,       I05E,     432,          1,          8,          8,2,19950413,       0012,   -31.9498,   111.3498,       5022,  3648.6,   1.2962,  34.7202,2,  34.7201,2,    190.9,2,   193.7,3,  123.39,2,   32.80,2,    0.00,2,    2.27,2,   0.000,3,   0.004,3,  2278.6,2,  2403.9,3,  -9.0000,9,-999.0000,9, -999.00,9, -999.00,9,  -999.0,9,  -999.0,-999.000,9,-999.000,-999.000,9,  -9.0000,-999.0000,   1.0198,   -9.00
  316N145_7,       I05E,     432,          1,          7,          7,2,19950413,       0012,   -31.9498,   111.3498,       5022,  3852.4,   1.2428,  34.7185,2,  34.7187,2,    193.8,2,   194.1,2,  123.81,2,   32.61,2,    0.00,2,    2.27,2,-999.000,9,-999.000,9,  2277.3,2,  2392.7,2,  -9.0000,9,-999.0000,9, -999.00,9, -999.00,9,  -999.0,9,  -999.0,-999.000,9,-999.000,-999.000,9,  -9.0000,-999.0000,   0.9467,   -9.00
  316N145_7,       I05E,     432,          1,          6,          6,2,19950413,       0012,   -31.9498,   111.3498,       5022,  4057.0,   1.2056,  34.7167,2,  34.7168,2,    195.2,2,   195.4,2,  125.77,2,   32.72,2,    0.00,2,    2.27,2,  -0.002,3,   0.004,3,  2279.8,2,  2410.2,3,  -9.0000,9,-999.0000,9, -999.00,9, -999.00,9,  -999.0,9,  -999.0,-999.000,9,-999.000,-999.000,9,  -9.0000,-999.0000,   0.8887,   -9.00
  316N145_7,       I05E,     432,          1,          5,          5,2,19950413,       0012,   -31.9498,   111.3498,       5022,  4260.9,   1.1692,  34.7154,2,  34.7156,2,    197.3,2,   197.4,2,  125.75,2,   32.67,2,    0.00,2,    2.26,2,  -0.002,3,   0.005,3,  2277.1,2,  2395.4,2,  -9.0000,9,-999.0000,9, -999.00,9, -999.00,9,  -999.0,9,  -999.0,-999.000,9,-999.000,-999.000,9,  -9.0000,-999.0000,   0.8311,   -9.00
  316N145_7,       I05E,     432,          1,          4,          4,2,19950413,       0012,   -31.9498,   111.3498,       5022,  4465.3,   1.1410,  34.7140,2,  34.7136,2,    199.7,2,   200.0,2,  125.28,2,   32.48,2,    0.00,2,    2.25,2,-999.000,9,-999.000,9,  2276.3,2,  2398.3,2,  -9.0000,9,-999.0000,9, -999.00,9, -999.00,9,  -999.0,9,  -999.0,-999.000,9,-999.000,-999.000,9,  -9.0000,-999.0000,   0.7809,   -9.00
  316N145_7,       I05E,     432,          1,          3,          3,2,19950413,       0012,   -31.9498,   111.3498,       5022,  4670.3,   1.0987,  34.7125,2,  34.7121,2,    202.7,2,   203.1,2,  124.60,2,   32.29,2,    0.00,2,    2.24,2,   0.000,3,   0.005,3,  2277.7,2,  2388.0,2,  -9.0000,9,-999.0000,9, -999.00,9, -999.00,9,  -999.0,9,  -999.0,-999.000,9,-999.000,-999.000,9,  -9.0000,-999.0000,   0.7166,   -9.00
  316N145_7,       I05E,     432,          1,          2,          2,2,19950413,       0012,   -31.9498,   111.3498,       5022,  4875.7,   1.0509,  34.7101,2,  34.7099,2,    206.1,2,   205.8,2,  124.35,2,   32.39,2,    0.00,2,    2.23,2,   0.001,3,   0.005,3,  2275.6,2,  2386.5,2,  -9.0000,9,-999.0000,9, -999.00,9, -999.00,9,  -999.0,9,  -999.0,-999.000,9,-999.000,-999.000,9,  -9.0000,-999.0000,   0.6465,   -9.00
  316N145_7,       I05E,     432,          1,          1,          1,2,19950413,       0012,   -31.9498,   111.3498,       5022,  5127.0,   1.0209,  34.7074,2,  34.7075,2,    207.9,2,   207.8,2,  124.77,2,   32.35,2,    0.00,2,    2.23,2,   0.004,3,   0.009,3,  2268.8,2,  2387.1,2,  -9.0000,9,-999.0000,9, -999.00,9, -999.00,9,  -999.0,9,  -999.0,-999.000,9,-999.000,-999.000,9,  -9.0000,-999.0000,   0.5876,   -9.00