BOTTLE,20211124CCHSIORKP
EXPOCODE,SECT_ID,STNNBR,CASTNO,SAMPNO,BTLNBR,BTLNBR_FLAG_W,DATE,TIME,LATITUDE,LONGITUDE,DEPTH,CTDPRS,CTDTMP,CTDSAL,CTDSAL_FLAG_W,SALNTY,SALNTY_FLAG_W,CTDOXY,CTDOXY_FLAG_W,OXYGEN,OXYGEN_FLAG_W,SILCAT,SILCAT_FLAG_W,NITRAT,NITRAT_FLAG_W,NITRIT,NITRIT_FLAG_W,PHSPHT,PHSPHT_FLAG_W,CFC-11,CFC-11_FLAG_W,CFC-12,CFC-12_FLAG_W,TCARBN,TCARBN_FLAG_W,ALKALI,ALKALI_FLAG_W,TRITUM,TRITUM_FLAG_W,HELIUM,HELIUM_FLAG_W,DELHE3,DELHE3_FLAG_W,DELC13,DELC13_FLAG_W,DELC14,DELC14_FLAG_W,C14ERR,NEON,NEON_FLAG_W,NEONER,CCL4,CCL4_FLAG_W,TRITER,HELIER,THETA,DELHER
,,,,,,,,,,,METERS,DBAR,ITS-90,PSS-78,,PSS-78,,UMOL/KG,,UMOL/KG,,UMOL/KG,,UMOL/KG,,UMOL/KG,,UMOL/KG,,PMOL/KG,,PMOL/KG,,UMOL/KG,,UMOL/KG,,TU,,NMOL/KG,,PERCNT,,/MILLE,,/MILLE,,/MILLE,NMOL/KG,,NMOL/KG,PMOL/KG,,TU,NMOL/KG,DEG C,PERCNT
  316N145_7,       I08N,     299,          1,         36,         36,2,19950314,       0632,     0.7500,    79.9993,       4628,     1.6,  29.5907,  34.4151,2,  34.4119,3,    194.4,2,   195.6,2,    2.74,2,    0.08,2,    0.00,2,    0.09,2,-999.000,9,-999.000,9,  1906.8,2,  2258.0,2,  -9.0000,9,-999.0000,9, -999.00,9, -999.00,9,  -999.0,9,  -999.0,-999.000,9,-999.000,-999.000,9,  -9.0000,-999.0000,  29.5903,   -9.00
  316N145_7,       I08N,     299,          1,         35,         35,2,19950314,       0632,     0.7500,    79.9993,       4628,    29.1,  29.3158,  34.4201,2,  34.4023,3,    195.4,2,   196.6,2,    2.52,2,    0.08,2,    0.00,2,    0.09,2,-999.000,9,-999.000,9,  -999.0,9,  -999.0,9,  -9.0000,9,-999.0000,9, -999.00,9, -999.00,9,  -999.0,9,  -999.0,-999.000,9,-999.000,-999.000,9,  -9.0000,-999.0000,  29.3087,   -9.00
  316N145_7,       I08N,     299,          1,         34,         34,2,19950314,       0632,     0.7500,    79.9993,       4628,    44.5,  25.9105,  35.3907,2,  35.3764,3,    181.5,2,   179.2,2,    4.74,2,    1.79,2,    0.09,2,    0.39,2,-999.000,9,-999.000,9,  -999.0,9,  -999.0,9,  -9.0000,9,-999.0000,9, -999.00,9, -999.00,9,  -999.0,9,  -999.0,-999.000,9,-999.000,-999.000,9,  -9.0000,-999.0000,  25.9006,   -9.00
  316N145_7,       I08N,     299,          1,         33,         33,2,19950314,       0632,     0.7500,    79.9993,       4628,    78.7,  21.7374,  35.3733,2,  35.3692,3,    123.5,2,   120.3,2,    9.44,2,   13.01,2,    0.11,2,    0.96,2,-999.000,9,-999.000,9,  -999.0,9,  -999.0,9,  -9.0000,9,-999.0000,9, -999.00,9, -999.00,9,  -999.0,9,  -999.0,-999.000,9,-999.000,-999.000,9,  -9.0000,-999.0000,  21.7220,   -9.00
  316N145_7,       I08N,     299,          1,         32,         32,2,19950314,       0632,     0.7500,    79.9993,       4628,   103.8,  20.7554,  35.3602,2,  35.3450,3,    102.1,2,    95.1,2,   12.08,2,   16.15,2,    0.07,2,    1.18,2,-999.000,9,-999.000,9,  -999.0,9,  -999.0,9,  -9.0000,9,-999.0000,9, -999.00,9, -999.00,9,  -999.0,9,  -999.0,-999.000,9,-999.000,-999.000,9,  -9.0000,-999.0000,  20.7357,   -9.00
  316N145_7,       I08N,     299,          1,         31,         31,2,19950314,       0632,     0.7500,    79.9993,       4628,   143.6,  15.6512,  35.1706,2,  35.1753,3,     60.9,2,    66.9,2,   19.44,2,   23.33,2,    0.01,2,    1.64,2,-999.000,9,-999.000,9,  -999.0,9,  -999.0,9,  -9.0000,9,-999.0000,9, -999.00,9, -999.00,9,  -999.0,9,  -999.0,-999.000,9,-999.000,-999.000,9,  -9.0000,-999.0000,  15.6288,   -9.00
  316N145_7,       I08N,     299,          1,         30,         30,2,19950314,       0632,     0.7500,    79.9993,       4628,   189.1,  14.0569,  35.1531,2,  35.1497,3,     74.3,2,    75.9,2,   20.86,2,   23.89,2,    0.00,2,    1.68,2,-999.000,9,-999.000,9,  -999.0,9,  -999.0,9,  -9.0000,9,-999.0000,9, -999.00,9, -999.00,9,  -999.0,9,  -999.0,-999.000,9,-999.000,-999.000,9,  -9.0000,-999.0000,  14.0295,   -9.00
  316N145_7,       I08N,     299,          1,         29,         29,2,19950314,       0632,     0.7500,    79.9993,       4628,   233.9,  13.3493,  35.1191,2,  35.1162,3,     67.6,2,    66.3,2,   23.09,2,   25.94,2,    0.00,2,    1.82,2,-999.000,9,-999.000,9,  -999.0,9,  -999.0,9,  -9.0000,9,-999.0000,9, -999.00,9, -999.00,9,  -999.0,9,  -999.0,-999.000,9,-999.000,-999.000,9,  -9.0000,-999.0000,  13.3164,   -9.00
  316N145_7,       I08N,     299,          1,         28,         28,2,19950314,       0632,     0.7500,    79.9993,       4628,   283.6,  12.3095,  35.0934,2,  35.0900,3,     76.3,2,    83.1,2,   22.87,2,   25.52,2,    0.00,2,    1.77,2,-999.000,9,-999.000,9,  -999.0,9,  -999.0,9,  -9.0000,9,-999.0000,9, -999.00,9, -999.00,9,  -999.0,9,  -999.0,-999.000,9,-999.000,-999.000,9,  -9.0000,-999.0000,  12.2717,   -9.00
  316N145_7,       I08N,     299,          1,         27,         27,2,19950314,       0632,     0.7500,    79.9993,       4628,   323.5,  11.6354,  35.0620,2,  35.0547,3,     77.3,2,    79.5,2,   25.31,2,   27.01,2,    0.00,2,    1.87,2,-999.000,9,-999.000,9,  -999.0,9,  -999.0,9,  -9.0000,9,-999.0000,9, -999.00,9, -999.00,9,  -999.0,9,  -999.0,-999.000,9,-999.000,-999.000,9,  -9.0000,-999.0000,  11.5938,   -9.00
  316N145_7,       I08N,     299,          1,         26,         26,2,19950314,       0632,     0.7500,    79.9993,       4628,   403.3,  10.6350,  35.0209,2,  35.0194,3,     76.0,2,    75.3,2,   30.82,2,   29.06,2,    0.00,2,    2.02,2,-999.000,9,-999.000,9,  -999.0,9,  -999.0,9,  -9.0000,9,-999.0000,9, -999.00,9, -999.00,9,  -999.0,9,  -999.0,-999.000,9,-999.000,-999.000,9,  -9.0000,-999.0000,  10.5859,   -9.00
  316N145_7,       I08N,     299,          1,         25,         25,2,19950314,       0632,     0.7500,    79.9993,       4628,   480.1,  10.1439,  35.0310,2,  35.0267,3,     62.7,2,    63.4,2,   37.15,2,   31.16,2,    0.00,2,    2.21,2,-999.000,9,-999.000,9,  -999.0,9,  -999.0,9,  -9.0000,9,-999.0000,9, -999.00,9, -999.00,9,  -999.0,9,  -999.0,-999.000,9,-999.000,-999.000,9,  -9.0000,-999.0000,  10.0868,   -9.00
  316N145_7,       I08N,     299,          1,         24,         24,2,19950314,       0632,     0.7500,    79.9993,       4628,   555.8,   9.4223,  35.0296,2,  35.0281,3,     45.2,2,    44.9,2,   48.60,2,   33.88,2,    0.00,2,    2.47,2,-999.000,9,-999.000,9,  -999.0,9,  -999.0,9,  -9.0000,9,-999.0000,9, -999.00,9, -999.00,9,  -999.0,9,  -999.0,-999.000,9,-999.000,-999.000,9,  -9.0000,-999.0000,   9.3589,   -9.00
  316N145_7,       I08N,     299,          1,         23,         23,2,19950314,       0632,     0.7500,    79.9993,       4628,   707.3,   8.5641,  35.0050,2,  35.0015,3,     44.7,2,    44.3,2,   59.65,2,   35.29,2,    0.00,2,    2.60,2,-999.000,9,-999.000,9,  -999.0,9,  -999.0,9,  -9.0000,9,-999.0000,9, -999.00,9, -999.00,9,  -999.0,9,  -999.0,-999.000,9,-999.000,-999.000,9,  -9.0000,-999.0000,   8.4872,   -9.00
  316N145_7,       I08N,     299,          1,         22,         22,2,19950314,       0632,     0.7500,    79.9993,       4628,   858.6,   7.7104,  34.9887,2,  34.9831,3,     41.8,2,    41.6,2,   72.76,2,   36.66,2,    0.00,2,    2.72,2,-999.000,9,-999.000,9,  -999.0,9,  -999.0,9,  -9.0000,9,-999.0000,9, -999.00,9, -999.00,9,  -999.0,9,  -999.0,-999.000,9,-999.000,-999.000,9,  -9.0000,-999.0000,   7.6217,   -9.00
  316N145_7,       I08N,     299,          1,         21,         21,2,19950314,       0632,     0.7500,    79.9993,       4628,  1009.5,   6.4345,  34.9295,2,  34.9263,3,     52.5,2,    52.6,2,   87.36,2,   37.32,2,    0.00,2,    2.76,2,-999.000,9,-999.000,9,  -999.0,9,  -999.0,9,  -9.0000,9,-999.0000,9, -999.00,9, -999.00,9,  -999.0,9,  -999.0,-999.000,9,-999.000,-999.000,9,  -9.0000,-999.0000,   6.3387,   -9.00
  316N145_7,       I08N,     299,          1,         20,         20,2,19950314,       0632,     0.7500,    79.9993,       4628,  1161.2,   5.7057,  34.8954,2,  34.8924,3,     63.0,2,    64.8,2,   94.15,2,   37.22,2,    0.00,2,    2.76,2,-999.000,9,-999.000,9,  -999.0,9,  -999.0,9,  -9.0000,9,-999.0000,9, -999.00,9, -999.00,9,  -999.0,9,  -999.0,-999.000,9,-999.000,-999.000,9,  -9.0000,-999.0000,   5.6007,   -9.00
  316N145_7,       I08N,     299,          1,         19,         19,2,19950314,       0632,     0.7500,    79.9993,       4628,  1311.6,   5.3159,  34.8801,2,  34.8772,3,     70.0,2,    70.2,2,   98.68,2,   37.17,2,    0.00,2,    2.76,2,-999.000,9,-999.000,9,  -999.0,9,  -999.0,9,  -9.0000,9,-999.0000,9, -999.00,9, -999.00,9,  -999.0,9,  -999.0,-999.000,9,-999.000,-999.000,9,  -9.0000,-999.0000,   5.1999,   -9.00
  316N145_7,       I08N,     299,          1,         18,         18,2,19950314,       0632,     0.7500,    79.9993,       4628,  1463.8,   4.5396,  34.8469,2,  34.8442,3,     82.1,2,    85.5,2,  105.72,2,   36.89,2,    0.00,2,    2.72,2,-999.000,9,-999.000,9,  -999.0,9,  -999.0,9,  -9.0000,9,-999.0000,9, -999.00,9, -999.00,9,  -999.0,9,  -999.0,-999.000,9,-999.000,-999.000,9,  -9.0000,-999.0000,   4.4171,   -9.00
  316N145_7,       I08N,     299,          1,         17,         17,2,19950314,       0632,     0.7500,    79.9993,       4628,  1615.5,   3.9068,  34.8247,2,  34.8211,3,     96.6,2,    98.5,2,  112.17,2,   36.60,2,    0.00,2,    2.69,2,-999.000,9,-999.000,9,  -999.0,9,  -999.0,9,  -9.0000,9,-999.0000,9, -999.00,9, -999.00,9,  -999.0,9,  -999.0,-999.000,9,-999.000,-999.000,9,  -9.0000,-999.0000,   3.7775,   -9.00
  316N145_7,       I08N,     299,          1,         16,         16,2,19950314,       0632,     0.7500,    79.9993,       4628,  1766.7,   3.3934,  34.8054,2,  34.8026,3,    109.8,2,   111.0,2,  116.75,2,   36.18,2,    0.00,2,    2.64,2,-999.000,9,-999.000,9,  -999.0,9,  -999.0,9,  -9.0000,9,-999.0000,9, -999.00,9, -999.00,9,  -999.0,9,  -999.0,-999.000,9,-999.000,-999.000,9,  -9.0000,-999.0000,   3.2569,   -9.00
  316N145_7,       I08N,     299,          1,         15,         15,2,19950314,       0632,     0.7500,    79.9993,       4628,  1918.8,   2.8780,  34.7839,2,  34.7796,3,    120.4,2,   121.5,2,  123.25,2,   35.89,2,    0.00,2,    2.60,2,-999.000,9,-999.000,9,  -999.0,9,  -999.0,9,  -9.0000,9,-999.0000,9, -999.00,9, -999.00,9,  -999.0,9,  -999.0,-999.000,9,-999.000,-999.000,9,  -9.0000,-999.0000,   2.7351,   -9.00
  316N145_7,       I08N,     299,          1,         14,         14,2,19950314,       0632,     0.7500,    79.9993,       4628,  2121.4,   2.5339,  34.7669,2,  34.7643,3,    133.9,2,   133.0,2,  125.33,2,   35.42,2,    0.00,2,    2.55,2,-999.000,9,-999.000,9,  -999.0,9,  -999.0,9,  -9.0000,9,-999.0000,9, -999.00,9, -999.00,9,  -999.0,9,  -999.0,-999.000,9,-999.000,-999.000,9,  -9.0000,-999.0000,   2.3782,   -9.00
  316N145_7,       I08N,     299,          1,         13,         13,2,19950314,       0632,     0.7500,    79.9993,       4628,  2324.5,   2.2144,  34.7528,2,  34.7505,3,    142.0,2,   142.3,2,  128.69,2,   35.14,2,    0.00,2,    2.51,2,-999.000,9,-999.000,9,  -999.0,9,  -999.0,9,  -9.0000,9,-999.0000,9, -999.00,9, -999.00,9,  -999.0,9,  -999.0,-999.000,9,-999.000,-999.000,9,  -9.0000,-999.0000,   2.0458,   -9.00
  316N145_7,       I08N,     299,          1,         12,         12,2,19950314,       0632,     0.7500,    79.9993,       4628,  2528.2,   2.0442,  34.7455,2,  34.7436,3,    147.3,2,   147.6,2,  130.36,2,   34.90,2,    0.00,2,    2.49,2,-999.000,9,-999.000,9,  -999.0,9,  -999.0,9,  -9.0000,9,-999.0000,9, -999.00,9, -999.00,9,  -999.0,9,  -999.0,-999.000,9,-999.000,-999.000,9,  -9.0000,-999.0000,   1.8601,   -9.00
  316N145_7,       I08N,     299,          1,         11,         11,2,19950314,       0632,     0.7500,    79.9993,       4628,  2731.0,   1.8718,  34.7377,2,  34.7337,3,    154.4,2,   153.4,2,  131.82,2,   34.71,2,    0.00,2,    2.46,2,-999.000,9,-999.000,9,  -999.0,9,  -999.0,9,  -9.0000,9,-999.0000,9, -999.00,9, -999.00,9,  -999.0,9,  -999.0,-999.000,9,-999.000,-999.000,9,  -9.0000,-999.0000,   1.6723,   -9.00
  316N145_7,       I08N,     299,          1,         10,         10,2,19950314,       0632,     0.7500,    79.9993,       4628,  2934.3,   1.7417,  34.7325,2,  34.7302,3,    158.0,2,   157.0,2,  133.71,2,   34.62,2,    0.00,2,    2.44,2,-999.000,9,-999.000,9,  -999.0,9,  -999.0,9,  -9.0000,9,-999.0000,9, -999.00,9, -999.00,9,  -999.0,9,  -999.0,-999.000,9,-999.000,-999.000,9,  -9.0000,-999.0000,   1.5256,   -9.00
  316N145_7,       I08N,     299,          1,          9,          9,2,19950314,       0632,     0.7500,    79.9993,       4628,  3138.8,   1.6686,  34.7292,2,  34.7252,3,    158.8,2,   157.8,2,  136.46,2,   34.61,2,    0.00,2,    2.44,2,-999.000,9,-999.000,9,  -999.0,9,  -999.0,9,  -9.0000,9,-999.0000,9, -999.00,9, -999.00,9,  -999.0,9,  -999.0,-999.000,9,-999.000,-999.000,9,  -9.0000,-999.0000,   1.4343,   -9.00
  316N145_7,       I08N,     299,          1,          8,          8,2,19950314,       0632,     0.7500,    79.9993,       4628,  3341.5,   1.6133,  34.7280,2,  34.7238,3,    157.9,2,   156.3,2,  139.86,2,   34.75,2,    0.00,2,    2.45,2,-999.000,9,-999.000,9,  -999.0,9,  -999.0,9,  -9.0000,9,-999.0000,9, -999.00,9, -999.00,9,  -999.0,9,  -999.0,-999.000,9,-999.000,-999.000,9,  -9.0000,-999.0000,   1.3602,   -9.00
  316N145_7,       I08N,     299,          1,          7,          7,2,19950314,       0632,     0.7500,    79.9993,       4628,  3545.8,   1.5141,  34.7237,2,  34.7211,3,    159.2,2,   161.7,2,  140.26,2,   34.47,2,    0.00,2,    2.43,2,-999.000,9,-999.000,9,  -999.0,9,  -999.0,9,  -9.0000,9,-999.0000,9, -999.00,9, -999.00,9,  -999.0,9,  -999.0,-999.000,9,-999.000,-999.000,9,  -9.0000,-999.0000,   1.2427,   -9.00
  316N145_7,       I08N,     299,          1,          6,          6,2,19950314,       0632,     0.7500,    79.9993,       4628,  3750.6,   1.4365,  34.7213,2,  34.7181,3,    164.9,2,   165.7,2,  140.66,2,   34.42,2,    0.00,2,    2.40,2,-999.000,9,-999.000,9,  -999.0,9,  -999.0,9,  -9.0000,9,-999.0000,9, -999.00,9, -999.00,9,  -999.0,9,  -999.0,-999.000,9,-999.000,-999.000,9,  -9.0000,-999.0000,   1.1458,   -9.00
  316N145_7,       I08N,     299,          1,          5,          5,2,19950314,       0632,     0.7500,    79.9993,       4628,  3954.2,   1.4021,  34.7196,2,  34.7149,3,    170.3,2,   170.9,2,  139.12,2,   34.09,2,    0.00,2,    2.38,2,-999.000,9,-999.000,9,  -999.0,9,  -999.0,9,  -9.0000,9,-999.0000,9, -999.00,9, -999.00,9,  -999.0,9,  -999.0,-999.000,9,-999.000,-999.000,9,  -9.0000,-999.0000,   1.0907,   -9.00
  316N145_7,       I08N,     299,          1,          4,          4,2,19950314,       0632,     0.7500,    79.9993,       4628,  4158.7,   1.3989,  34.7184,2,  34.7145,3,    172.6,2,   173.2,2,  138.45,2,   34.04,2,    0.00,2,    2.37,2,-999.000,9,-999.000,9,  -999.0,9,  -999.0,9,  -9.0000,9,-999.0000,9, -999.00,9, -999.00,9,  -999.0,9,  -999.0,-999.000,9,-999.000,-999.000,9,  -9.0000,-999.0000,   1.0653,   -9.00
  316N145_7,       I08N,     299,          1,          3,          3,2,19950314,       0632,     0.7500,    79.9993,       4628,  4363.6,   1.4003,  34.7177,2,  34.7149,3,    175.7,2,   175.5,2,  137.13,2,   33.90,2,    0.00,2,    2.35,2,-999.000,9,-999.000,9,  -999.0,9,  -999.0,9,  -9.0000,9,-999.0000,9, -999.00,9, -999.00,9,  -999.0,9,  -999.0,-999.000,9,-999.000,-999.000,9,  -9.0000,-999.0000,   1.0438,   -9.00
  316N145_7,       I08N,     299,          1,          2,          2,3,19950314,       0632,     0.7500,    79.9993,       4628,  4568.5,   1.4077,  34.7174,2,  35.0939,4,    177.4,2,    75.9,4,   24.23,4,   25.85,4,    0.00,4,    1.81,4,-999.000,9,-999.000,9,  -999.0,9,  -999.0,9,  -9.0000,9,-999.0000,9, -999.00,9, -999.00,9,  -999.0,9,  -999.0,-999.000,9,-999.000,-999.000,9,  -9.0000,-999.0000,   1.0275,   -9.00
  316N145_7,       I08N,     299,          1,          1,          1,2,19950314,       0632,     0.7500,    79.9993,       4628,  4712.5,   1.4227,  34.7172,2,  34.7150,3,    178.6,2,   178.0,2,  135.14,2,   33.66,2,    0.00,2,    2.34,2,-999.000,9,-999.000,9,  -999.0,9,  -999.0,9,  -9.0000,9,-999.0000,9, -999.00,9, -999.00,9,  -999.0,9,  -999.0,-999.000,9,-999.000,-999.000,9,  -9.0000,-999.0000,   1.0252,   -9.00