BOTTLE,20211124CCHSIORKP
EXPOCODE,SECT_ID,STNNBR,CASTNO,SAMPNO,BTLNBR,BTLNBR_FLAG_W,DATE,TIME,LATITUDE,LONGITUDE,DEPTH,CTDPRS,CTDTMP,CTDSAL,CTDSAL_FLAG_W,SALNTY,SALNTY_FLAG_W,CTDOXY,CTDOXY_FLAG_W,OXYGEN,OXYGEN_FLAG_W,SILCAT,SILCAT_FLAG_W,NITRAT,NITRAT_FLAG_W,NITRIT,NITRIT_FLAG_W,PHSPHT,PHSPHT_FLAG_W,CFC-11,CFC-11_FLAG_W,CFC-12,CFC-12_FLAG_W,TCARBN,TCARBN_FLAG_W,ALKALI,ALKALI_FLAG_W,TRITUM,TRITUM_FLAG_W,HELIUM,HELIUM_FLAG_W,DELHE3,DELHE3_FLAG_W,DELC13,DELC13_FLAG_W,DELC14,DELC14_FLAG_W,C14ERR,NEON,NEON_FLAG_W,NEONER,CCL4,CCL4_FLAG_W,TRITER,HELIER,THETA,DELHER
,,,,,,,,,,,METERS,DBAR,ITS-90,PSS-78,,PSS-78,,UMOL/KG,,UMOL/KG,,UMOL/KG,,UMOL/KG,,UMOL/KG,,UMOL/KG,,PMOL/KG,,PMOL/KG,,UMOL/KG,,UMOL/KG,,TU,,NMOL/KG,,PERCNT,,/MILLE,,/MILLE,,/MILLE,NMOL/KG,,NMOL/KG,PMOL/KG,,TU,NMOL/KG,DEG C,PERCNT
  316N145_7,       I08N,     334,          1,         36,         36,2,19950322,       0233,   -13.9987,    80.0018,       4972,     3.8,  28.6653,  34.6128,2,  34.6126,2,    196.0,2,   197.7,2,    2.78,2,    0.14,2,    0.00,2,    0.10,2,   1.603,2,   0.959,2,  1934.4,2,  2265.9,2,   1.2255,2,   1.6917,2,   -1.03,2, -999.00,9,  -999.0,9,  -999.0,   6.429,2,   0.032,   1.630,2,   0.0042,   0.0085,  28.6644,    0.14
  316N145_7,       I08N,     334,          1,         35,         35,2,19950322,       0233,   -13.9987,    80.0018,       4972,    30.8,  28.6326,  34.6150,2,  34.6123,2,    198.0,2,   197.7,2,    2.57,2,    0.14,2,    0.00,2,    0.10,2,-999.000,9,-999.000,9,  1934.7,2,  2268.2,2,  -9.0000,9,-999.0000,9, -999.00,9, -999.00,9,  -999.0,9,  -999.0,-999.000,9,-999.000,-999.000,9,  -9.0000,-999.0000,  28.6253,   -9.00
  316N145_7,       I08N,     334,          1,         34,         34,2,19950322,       0233,   -13.9987,    80.0018,       4972,    60.5,  26.6456,  34.7681,2,  34.7581,2,    216.6,2,   211.4,2,    2.56,2,    0.14,2,    0.00,2,    0.12,2,   1.746,2,   1.045,2,  1941.5,2,  2268.3,2,   1.1172,2,   1.7039,2,   -0.95,2, -999.00,9,  -999.0,9,  -999.0,   6.657,2,   0.033,   1.346,2,   0.0040,   0.0085,  26.6318,    0.14
  316N145_7,       I08N,     334,          1,         33,         33,2,19950322,       0233,   -13.9987,    80.0018,       4972,   111.7,  22.7715,  35.1704,2,  35.1611,2,    212.2,2,   207.8,2,    3.35,2,    0.22,2,    0.02,2,    0.16,2,   1.952,2,   1.141,2,  1989.1,2,  2293.2,2,   1.1410,2,   1.7169,2,   -0.75,2, -999.00,9,  -999.0,9,  -999.0,   6.615,2,   0.033,   1.207,2,   0.0040,   0.0086,  22.7488,    0.14
  316N145_7,       I08N,     334,          1,         32,         32,2,19950322,       0233,   -13.9987,    80.0018,       4972,   141.2,  21.3695,  35.3652,2,  35.3516,2,    183.5,2,   191.2,2,    4.97,2,    2.63,2,    0.34,2,    0.32,2,   1.963,2,   1.145,2,  2023.8,2,  2312.5,2,   1.1276,2,   1.7233,2,   -0.03,2, -999.00,9,  -999.0,9,  -999.0,   6.944,2,   0.035,   1.174,2,   0.0039,   0.0086,  21.3421,    0.14
  316N145_7,       I08N,     334,          1,         31,         31,2,19950322,       0233,   -13.9987,    80.0018,       4972,   170.2,  19.6149,  35.2989,2,  35.3175,2,    160.3,2,   158.3,2,    9.88,2,    7.89,2,    0.03,2,    0.62,2,   1.801,2,   1.032,2,  2068.7,2,  2320.2,2,   1.1090,2,-999.0000,9, -999.00,9, -999.00,9,  -999.0,9,  -999.0,-999.000,9,-999.000,   0.526,2,   0.0039,-999.0000,  19.5838,   -9.00
  316N145_7,       I08N,     334,          1,         30,         30,2,19950322,       0233,   -13.9987,    80.0018,       4972,   211.1,  17.4509,  35.4395,2,  35.3749,2,    152.8,2,   154.4,2,   12.75,2,   10.03,2,    0.01,2,    0.77,2,   1.762,2,   0.993,2,  2101.7,2,  2325.0,2,   1.0365,2,   1.7329,2,    3.36,2, -999.00,9,  -999.0,9,  -999.0,   7.038,2,   0.035,   0.323,2,   0.0039,   0.0087,  17.4153,    0.14
  316N145_7,       I08N,     334,          1,         29,         29,2,19950322,       0233,   -13.9987,    80.0018,       4972,   256.1,  15.6166,  35.5019,2,  35.4944,2,    172.2,2,   181.3,2,    8.83,2,    8.19,2,    0.01,2,    0.68,2,   2.154,2,   1.140,2,  2107.5,2,  2331.2,2,  -9.0000,9,   1.7305,2,    2.41,2, -999.00,9,  -999.0,9,  -999.0,   7.144,2,   0.036,   0.361,2,  -9.0000,   0.0087,  15.5765,    0.14
  316N145_7,       I08N,     334,          1,         28,         28,2,19950322,       0233,   -13.9987,    80.0018,       4972,   312.1,  12.8566,  35.1812,2,  35.2026,2,    191.9,2,   192.3,2,    9.44,2,   11.46,2,    0.00,2,    0.88,2,   2.219,2,   1.149,2,  2121.3,2,  2320.2,2,  -9.0000,9,   1.7501,2,    2.55,2, -999.00,9,  -999.0,9,  -999.0,   7.321,2,   0.037,   0.556,2,  -9.0000,   0.0088,  12.8137,    0.14
  316N145_7,       I08N,     334,          1,         27,         27,2,19950322,       0233,   -13.9987,    80.0018,       4972,   392.8,  10.4599,  34.8592,2,  34.8545,2,    195.6,2,   200.5,2,   11.28,2,   16.37,2,    0.00,2,    1.17,2,-999.000,9,-999.000,9,  2131.2,2,  2302.7,2,  -9.0000,9,   1.7557,2,    2.72,2, -999.00,9,  -999.0,9,  -999.0,   7.127,2,   0.036,-999.000,9,  -9.0000,   0.0088,  10.4127,    0.14
  316N145_7,       I08N,     334,          1,         26,         26,2,19950322,       0233,   -13.9987,    80.0018,       4972,   491.7,   8.7770,  34.6644,2,  34.6695,2,    189.7,2,   188.2,2,   44.98,4,   30.96,4,    0.00,4,    2.16,4,   1.210,2,   0.612,2,  2150.4,2,  2317.8,2,   0.3160,2,-999.0000,9, -999.00,9, -999.00,9,  -999.0,9,  -999.0,-999.000,9,-999.000,   0.823,2,   0.0026,-999.0000,   8.7238,   -9.00
  316N145_7,       I08N,     334,          1,         25,         25,2,19950322,       0233,   -13.9987,    80.0018,       4972,   592.0,   7.7725,  34.6795,2,  34.6777,2,    110.8,2,   112.5,2,   45.18,2,   31.06,2,    0.00,2,    2.17,2,-999.000,9,-999.000,9,  2222.5,2,  2351.7,2,   0.0447,2,   1.7964,2,    6.81,2, -999.00,9,  -999.0,9,  -999.0,   7.491,2,   0.037,-999.000,9,   0.0026,   0.0090,   7.7123,    0.14
  316N145_7,       I08N,     334,          1,         24,         24,2,19950322,       0233,   -13.9987,    80.0018,       4972,   793.8,   6.3753,  34.6906,2,  34.6915,2,     96.2,2,    95.3,2,   69.46,2,   34.85,2,    0.00,2,    2.49,2,   0.072,3,   0.018,2,  2263.1,2,  -999.0,5,   0.0233,2,-999.0000,9, -999.00,9, -999.00,9,  -999.0,9,  -999.0,-999.000,9,-999.000,   0.092,2,   0.0022,-999.0000,   6.3018,   -9.00
  316N145_7,       I08N,     334,          1,         23,         23,2,19950322,       0233,   -13.9987,    80.0018,       4972,   895.1,   5.8355,  34.7012,2,  34.7043,2,     89.4,2,    91.1,2,   79.57,2,   35.76,2,    0.00,2,    2.57,2,-999.000,9,-999.000,9,  2277.0,2,  2364.2,2,   0.0142,2,-999.0000,9, -999.00,9, -999.00,9,  -999.0,9,  -999.0,-999.000,9,-999.000,-999.000,9,   0.0022,-999.0000,   5.7556,   -9.00
  316N145_7,       I08N,     334,          1,         22,         22,2,19950322,       0233,   -13.9987,    80.0018,       4972,   995.2,   5.3959,  34.6958,2,  34.6968,2,     89.7,2,    90.1,2,   88.87,2,   36.44,2,    0.00,2,    2.63,2,-999.000,9,-999.000,9,  2286.6,2,  2365.3,2,  -9.0000,9,   1.8570,2,   12.66,2, -999.00,9,  -999.0,9,  -999.0,-999.000,9,-999.000,-999.000,9,  -9.0000,-999.0000,   5.3097,   -9.00
  316N145_7,       I08N,     334,          1,         21,         21,2,19950322,       0233,   -13.9987,    80.0018,       4972,  1094.8,   4.9520,  34.6939,2,  34.6951,2,     93.5,2,    93.8,2,   94.46,2,   36.73,2,    0.00,2,    2.64,2,-999.000,9,-999.000,9,  2291.3,2,  2375.9,2,   0.0048,2,   1.8770,2,   13.30,2, -999.00,9,  -999.0,9,  -999.0,-999.000,9,-999.000,-999.000,9,   0.0022,-999.0000,   4.8601,   -9.00
  316N145_7,       I08N,     334,          1,         20,         20,2,19950322,       0233,   -13.9987,    80.0018,       4972,  1206.8,   4.5407,  34.6908,2,  34.6919,2,     98.0,2,    98.2,2,   99.45,2,   36.79,2,    0.00,2,    2.65,2,-999.000,9,-999.000,9,  2296.9,2,  2380.4,2,  -9.0000,9,   1.8750,2,   13.82,2, -999.00,9,  -999.0,9,  -999.0,-999.000,9,-999.000,-999.000,9,  -9.0000,-999.0000,   4.4422,   -9.00
  316N145_7,       I08N,     334,          1,         19,         19,2,19950322,       0233,   -13.9987,    80.0018,       4972,  1317.5,   4.1223,  34.6887,2,  34.6911,2,    103.4,2,   103.0,2,  104.24,2,   36.74,2,    0.00,2,    2.64,2,-999.000,9,-999.000,9,  2301.1,2,  2386.0,2,   0.0011,2,   1.8790,2,   13.79,2, -999.00,9,  -999.0,9,  -999.0,   7.819,2,   0.039,-999.000,9,   0.0022,   0.0094,   4.0179,    0.14
  316N145_7,       I08N,     334,          1,         18,         18,2,19950322,       0233,   -13.9987,    80.0018,       4972,  1469.6,   3.7196,  34.7092,2,  34.7112,2,    111.9,2,   111.8,2,  106.52,2,   36.45,2,    0.00,2,    2.62,2,-999.000,9,-999.000,9,  2301.4,2,  2385.4,2,  -9.0000,9,   1.8780,2,   13.74,2, -999.00,9,  -999.0,9,  -999.0,-999.000,9,-999.000,-999.000,9,  -9.0000,-999.0000,   3.6059,   -9.00
  316N145_7,       I08N,     334,          1,         17,         17,2,19950322,       0233,   -13.9987,    80.0018,       4972,  1620.5,   3.2693,  34.7220,2,  34.7232,2,    122.4,2,   122.7,2,  109.86,2,   35.97,2,    0.00,2,    2.57,2,-999.000,9,-999.000,9,  2301.2,2,  2385.3,2,   0.0013,2,   1.8710,2,   13.67,2, -999.00,9,  -999.0,9,  -999.0,   7.629,2,   0.038,-999.000,9,   0.0022,   0.0092,   3.1476,    0.14
  316N145_7,       I08N,     334,          1,         16,         16,2,19950322,       0233,   -13.9987,    80.0018,       4972,  1772.9,   2.9552,  34.7287,2,  34.7295,2,    131.4,2,   132.0,2,  111.95,2,   35.49,2,    0.00,2,    2.53,2,-999.000,9,-999.000,9,  2298.8,2,  2388.4,2,  -9.0000,9,   1.8790,2,   13.84,2, -999.00,9,  -999.0,9,  -999.0,-999.000,9,-999.000,-999.000,9,  -9.0000,-999.0000,   2.8242,   -9.00
  316N145_7,       I08N,     334,          1,         15,         15,2,19950322,       0233,   -13.9987,    80.0018,       4972,  1923.5,   2.6348,  34.7325,2,  34.7330,2,    140.6,2,   141.1,2,  114.67,2,   35.06,2,    0.00,2,    2.49,2,-999.000,9,-999.000,9,  2297.6,2,  2407.7,3,  -9.0000,9,   1.8820,2,   14.47,2, -999.00,9,  -999.0,9,  -999.0,-999.000,9,-999.000,-999.000,9,  -9.0000,-999.0000,   2.4952,   -9.00
  316N145_7,       I08N,     334,          1,         14,         14,2,19950322,       0233,   -13.9987,    80.0018,       4972,  2077.6,   2.3962,  34.7335,2,  34.7344,2,    148.2,2,   148.1,2,  116.34,2,   34.72,2,    0.00,2,    2.46,2,-999.000,9,-999.000,9,  2295.7,2,  2391.4,2,  -9.0000,9,   1.8850,2,   14.55,2, -999.00,9,  -999.0,9,  -999.0,-999.000,9,-999.000,-999.000,9,  -9.0000,-999.0000,   2.2466,   -9.00
  316N145_7,       I08N,     334,          1,         13,         13,2,19950322,       0233,   -13.9987,    80.0018,       4972,  2228.4,   2.1872,  34.7331,2,  34.7336,2,    155.7,2,   155.7,2,  117.81,2,   34.34,2,    0.00,2,    2.43,2,-999.000,9,-999.000,9,  2294.2,2,  2390.9,2,  -9.0000,9,   1.8810,2,   14.98,2, -999.00,9,  -999.0,9,  -999.0,-999.000,9,-999.000,-999.000,9,  -9.0000,-999.0000,   2.0277,   -9.00
  316N145_7,       I08N,     334,          1,         12,         12,2,19950322,       0233,   -13.9987,    80.0018,       4972,  2456.6,   1.9814,  34.7306,2,  34.7322,2,    164.1,2,   163.8,2,  119.06,2,   33.96,2,    0.00,2,    2.38,2,-999.000,9,-999.000,9,  2291.6,2,  2394.5,2,  -9.0000,9,   1.8950,2,   15.38,2, -999.00,9,  -999.0,9,  -999.0,-999.000,9,-999.000,-999.000,9,  -9.0000,-999.0000,   1.8050,   -9.00
  316N145_7,       I08N,     334,          1,         11,         11,2,19950322,       0233,   -13.9987,    80.0018,       4972,  2684.5,   1.8395,  34.7286,2,  34.7297,2,    169.8,2,   168.7,2,  120.53,2,   33.82,2,    0.00,2,    2.37,2,-999.000,9,-999.000,9,  2290.0,2,  2399.3,2,  -9.0000,9,   1.8890,2,   15.33,2, -999.00,9,  -999.0,9,  -999.0,-999.000,9,-999.000,-999.000,9,  -9.0000,-999.0000,   1.6450,   -9.00
  316N145_7,       I08N,     334,          1,         10,         10,2,19950322,       0233,   -13.9987,    80.0018,       4972,  2912.5,   1.7022,  34.7270,2,  34.7271,2,    172.5,2,   171.6,2,  123.49,2,   33.82,2,    0.00,2,    2.36,2,-999.000,9,-999.000,9,  2291.9,2,  2400.1,2,  -9.0000,9,   1.8940,2,   14.43,2, -999.00,9,  -999.0,9,  -999.0,-999.000,9,-999.000,-999.000,9,  -9.0000,-999.0000,   1.4891,   -9.00
  316N145_7,       I08N,     334,          1,          9,          9,2,19950322,       0233,   -13.9987,    80.0018,       4972,  3142.2,   1.5912,  34.7248,2,  34.7252,2,    171.0,3,   172.2,2,  128.15,2,   34.02,2,    0.00,2,    2.36,2,-999.000,9,-999.000,9,  2296.0,2,  2405.7,2,  -9.0000,9,   1.8870,2,   13.60,2, -999.00,9,  -999.0,9,  -999.0,-999.000,9,-999.000,-999.000,9,  -9.0000,-999.0000,   1.3584,   -9.00
  316N145_7,       I08N,     334,          1,          8,          8,2,19950322,       0233,   -13.9987,    80.0018,       4972,  3370.4,   1.4938,  34.7222,2,  34.7228,2,    171.7,3,   173.9,2,  131.56,2,   34.31,2,    0.00,2,    2.37,2,-999.000,9,-999.000,9,  2298.4,2,  2410.1,2,  -9.0000,9,   1.8900,2,   12.79,2, -999.00,9,  -999.0,9,  -999.0,-999.000,9,-999.000,-999.000,9,  -9.0000,-999.0000,   1.2407,   -9.00
  316N145_7,       I08N,     334,          1,          7,          7,2,19950322,       0233,   -13.9987,    80.0018,       4972,  3598.9,   1.4107,  34.7205,2,  34.7217,2,    178.9,3,   179.8,2,  130.05,2,   33.88,2,    0.00,2,    2.33,2,-999.000,9,-999.000,9,  2294.7,2,  2433.2,3,  -9.0000,9,   1.8920,2,   12.15,2, -999.00,9,  -999.0,9,  -999.0,-999.000,9,-999.000,-999.000,9,  -9.0000,-999.0000,   1.1365,   -9.00
  316N145_7,       I08N,     334,          1,          6,          6,2,19950322,       0233,   -13.9987,    80.0018,       4972,  3827.6,   1.3648,  34.7189,2,  34.7197,2,    181.4,2,   182.0,2,  131.11,2,   33.83,2,    0.00,2,    2.33,2,-999.000,9,-999.000,9,  2294.7,2,  2408.7,2,  -9.0000,9,   1.8920,2,   12.34,2, -999.00,9,  -999.0,9,  -999.0,-999.000,9,-999.000,-999.000,9,  -9.0000,-999.0000,   1.0679,   -9.00
  316N145_7,       I08N,     334,          1,          5,          5,2,19950322,       0233,   -13.9987,    80.0018,       4972,  4054.2,   1.3555,  34.7175,2,  34.7183,2,    181.8,7,   182.5,2,  131.95,2,   33.78,2,    0.00,2,    2.33,2,-999.000,9,-999.000,9,  2295.9,2,  2415.8,2,  -9.0000,9,   1.8900,2,   11.89,2, -999.00,9,  -999.0,9,  -999.0,-999.000,9,-999.000,-999.000,9,  -9.0000,-999.0000,   1.0346,   -9.00
  316N145_7,       I08N,     334,          1,          4,          4,2,19950322,       0233,   -13.9987,    80.0018,       4972,  4286.5,   1.3647,  34.7169,2,  34.7185,2,    183.0,7,   182.2,2,  133.23,2,   33.83,2,    0.00,2,    2.33,2,-999.000,9,-999.000,9,  2296.2,2,  2411.4,2,  -9.0000,9,   1.8850,2,   11.73,2, -999.00,9,  -999.0,9,  -999.0,-999.000,9,-999.000,-999.000,9,  -9.0000,-999.0000,   1.0179,   -9.00
  316N145_7,       I08N,     334,          1,          3,          3,2,19950322,       0233,   -13.9987,    80.0018,       4972,  4719.8,   1.4023,  34.7165,2,  34.7170,2,    182.5,7,   181.8,2,  134.07,2,   33.79,2,    0.00,2,    2.34,2,-999.000,9,-999.000,9,  2298.3,2,  2415.5,2,  -9.0000,9,   1.8910,2,   11.47,2, -999.00,9,  -999.0,9,  -999.0,-999.000,9,-999.000,-999.000,9,  -9.0000,-999.0000,   1.0047,   -9.00
  316N145_7,       I08N,     334,          1,          2,          2,2,19950322,       0233,   -13.9987,    80.0018,       4972,  4921.0,   1.4261,  34.7170,2,  34.7174,2,    182.2,7,   181.8,2,  133.85,2,   33.60,2,    0.00,2,    2.33,2,-999.000,9,-999.000,9,  2298.7,2,  2414.2,2,  -9.0000,9,   1.8930,2,   11.45,2, -999.00,9,  -999.0,9,  -999.0,-999.000,9,-999.000,-999.000,9,  -9.0000,-999.0000,   1.0037,   -9.00
  316N145_7,       I08N,     334,          1,          1,          1,2,19950322,       0233,   -13.9987,    80.0018,       4972,  5083.7,   1.4457,  34.7169,2,  34.7182,2,    181.6,2,   182.0,2,  134.05,2,   33.89,2,    0.00,2,    2.33,2,  -0.004,3,   0.001,2,  2299.2,2,  -999.0,5,  -9.0000,9,   1.8790,2,   11.59,2, -999.00,9,  -999.0,9,  -999.0,-999.000,9,-999.000,-999.000,9,  -9.0000,-999.0000,   1.0029,   -9.00