BOTTLE,20211124CCHSIORKP
EXPOCODE,SECT_ID,STNNBR,CASTNO,SAMPNO,BTLNBR,BTLNBR_FLAG_W,DATE,TIME,LATITUDE,LONGITUDE,DEPTH,CTDPRS,CTDTMP,CTDSAL,CTDSAL_FLAG_W,SALNTY,SALNTY_FLAG_W,CTDOXY,CTDOXY_FLAG_W,OXYGEN,OXYGEN_FLAG_W,SILCAT,SILCAT_FLAG_W,NITRAT,NITRAT_FLAG_W,NITRIT,NITRIT_FLAG_W,PHSPHT,PHSPHT_FLAG_W,CFC-11,CFC-11_FLAG_W,CFC-12,CFC-12_FLAG_W,TCARBN,TCARBN_FLAG_W,ALKALI,ALKALI_FLAG_W,TRITUM,TRITUM_FLAG_W,HELIUM,HELIUM_FLAG_W,DELHE3,DELHE3_FLAG_W,DELC13,DELC13_FLAG_W,DELC14,DELC14_FLAG_W,C14ERR,NEON,NEON_FLAG_W,NEONER,CCL4,CCL4_FLAG_W,TRITER,HELIER,THETA,DELHER
,,,,,,,,,,,METERS,DBAR,ITS-90,PSS-78,,PSS-78,,UMOL/KG,,UMOL/KG,,UMOL/KG,,UMOL/KG,,UMOL/KG,,UMOL/KG,,PMOL/KG,,PMOL/KG,,UMOL/KG,,UMOL/KG,,TU,,NMOL/KG,,PERCNT,,/MILLE,,/MILLE,,/MILLE,NMOL/KG,,NMOL/KG,PMOL/KG,,TU,NMOL/KG,DEG C,PERCNT
  316N145_7,      TRANS,     390,          1,         36,         36,2,19950403,       0156,   -28.3388,    87.0582,       3899,     3.1,  23.0130,  36.0624,2,  36.0623,2,    213.9,2,   215.0,2,    2.66,2,    0.11,2,    0.00,2,    0.11,2,-999.000,9,-999.000,9,  2045.7,2,  2357.2,2,  -9.0000,9,-999.0000,9, -999.00,9, -999.00,9,  -999.0,9,  -999.0,-999.000,9,-999.000,-999.000,9,  -9.0000,-999.0000,  23.0123,   -9.00
  316N145_7,      TRANS,     390,          1,         35,         35,2,19950403,       0156,   -28.3388,    87.0582,       3899,    25.9,  23.0042,  36.0624,2,  36.0615,2,    215.1,2,   215.3,2,    2.64,2,    0.11,2,    0.00,2,    0.11,2,-999.000,9,-999.000,9,  2044.7,2,  2363.9,2,  -9.0000,9,-999.0000,9, -999.00,9, -999.00,9,  -999.0,9,  -999.0,-999.000,9,-999.000,-999.000,9,  -9.0000,-999.0000,  22.9989,   -9.00
  316N145_7,      TRANS,     390,          1,         34,         34,2,19950403,       0156,   -28.3388,    87.0582,       3899,    56.3,  19.0891,  35.7285,2,  35.7688,2,    249.4,2,   250.0,2,    2.42,2,    0.11,2,    0.00,2,    0.14,2,-999.000,9,-999.000,9,  2048.3,2,  2346.0,2,  -9.0000,9,-999.0000,9, -999.00,9, -999.00,9,  -999.0,9,  -999.0,-999.000,9,-999.000,-999.000,9,  -9.0000,-999.0000,  19.0790,   -9.00
  316N145_7,      TRANS,     390,          1,         33,         33,2,19950403,       0156,   -28.3388,    87.0582,       3899,    86.5,  16.2800,  35.6036,2,  35.6121,2,    250.8,2,   252.5,2,    2.19,2,    0.11,2,    0.00,2,    0.19,2,-999.000,9,-999.000,9,  2060.0,2,  2340.3,2,  -9.0000,9,-999.0000,9, -999.00,9, -999.00,9,  -999.0,9,  -999.0,-999.000,9,-999.000,-999.000,9,  -9.0000,-999.0000,  16.2661,   -9.00
  316N145_7,      TRANS,     390,          1,         32,         32,2,19950403,       0156,   -28.3388,    87.0582,       3899,   127.0,  14.4351,  35.4100,2,  35.4176,2,    232.3,2,   242.0,2,    2.39,2,    1.92,2,    0.19,2,    0.37,2,-999.000,9,-999.000,9,  2080.7,2,  2331.0,2,  -9.0000,9,-999.0000,9, -999.00,9, -999.00,9,  -999.0,9,  -999.0,-999.000,9,-999.000,-999.000,9,  -9.0000,-999.0000,  14.4164,   -9.00
  316N145_7,      TRANS,     390,          1,         31,         31,2,19950403,       0156,   -28.3388,    87.0582,       3899,   165.9,  13.7020,  35.3339,2,  35.3344,2,    229.4,2,   232.5,2,    2.80,2,    5.41,2,    0.04,2,    0.52,2,-999.000,9,-999.000,9,  2090.9,2,  2319.7,2,  -9.0000,9,-999.0000,9, -999.00,9, -999.00,9,  -999.0,9,  -999.0,-999.000,9,-999.000,-999.000,9,  -9.0000,-999.0000,  13.6784,   -9.00
  316N145_7,      TRANS,     390,          1,         30,         30,2,19950403,       0156,   -28.3388,    87.0582,       3899,   216.3,  12.8319,  35.2097,2,  35.2132,2,    229.4,2,   233.6,2,    3.64,2,    7.69,2,    0.01,2,    0.65,2,-999.000,9,-999.000,9,  2096.2,2,  2318.5,2,  -9.0000,9,-999.0000,9, -999.00,9, -999.00,9,  -999.0,9,  -999.0,-999.000,9,-999.000,-999.000,9,  -9.0000,-999.0000,  12.8023,   -9.00
  316N145_7,      TRANS,     390,          1,         29,         29,2,19950403,       0156,   -28.3388,    87.0582,       3899,   287.2,  12.0724,  35.0987,2,  35.1003,2,    234.2,2,   235.5,2,    4.05,2,    9.51,2,    0.00,2,    0.75,2,-999.000,9,-999.000,9,  2102.0,2,  2308.7,2,  -9.0000,9,-999.0000,9, -999.00,9, -999.00,9,  -999.0,9,  -999.0,-999.000,9,-999.000,-999.000,9,  -9.0000,-999.0000,  12.0346,   -9.00
  316N145_7,      TRANS,     390,          1,         28,         28,2,19950403,       0156,   -28.3388,    87.0582,       3899,   357.0,  11.4175,  34.9990,2,  35.0011,2,    233.9,2,   238.2,2,    4.46,2,   10.93,2,    0.00,2,    0.83,2,-999.000,9,-999.000,9,  2104.7,2,  2309.2,2,  -9.0000,9,-999.0000,9, -999.00,9, -999.00,9,  -999.0,9,  -999.0,-999.000,9,-999.000,-999.000,9,  -9.0000,-999.0000,  11.3721,   -9.00
  316N145_7,      TRANS,     390,          1,         27,         27,2,19950403,       0156,   -28.3388,    87.0582,       3899,   407.5,  11.0711,  34.9487,2,  34.9486,2,    238.6,2,   238.3,2,    4.66,2,   11.76,2,    0.00,2,    0.89,2,-999.000,9,-999.000,9,  2106.1,2,  2298.7,2,  -9.0000,9,-999.0000,9, -999.00,9, -999.00,9,  -999.0,9,  -999.0,-999.000,9,-999.000,-999.000,9,  -9.0000,-999.0000,  11.0202,   -9.00
  316N145_7,      TRANS,     390,          1,         26,         26,2,19950403,       0156,   -28.3388,    87.0582,       3899,   457.7,  10.7027,  34.8949,2,  34.8990,2,    240.3,2,   238.0,2,    4.86,2,   12.55,2,    0.00,2,    0.94,2,-999.000,9,-999.000,9,  2107.8,2,  2302.6,2,  -9.0000,9,-999.0000,9, -999.00,9, -999.00,9,  -999.0,9,  -999.0,-999.000,9,-999.000,-999.000,9,  -9.0000,-999.0000,  10.6466,   -9.00
  316N145_7,      TRANS,     390,          1,         25,         25,2,19950403,       0156,   -28.3388,    87.0582,       3899,   508.8,  10.2705,  34.8289,2,  34.8394,2,    237.8,2,   238.0,2,    5.06,2,   13.52,2,    0.00,2,    1.00,2,-999.000,9,-999.000,9,  2111.0,2,  2319.0,2,  -9.0000,9,-999.0000,9, -999.00,9, -999.00,9,  -999.0,9,  -999.0,-999.000,9,-999.000,-999.000,9,  -9.0000,-999.0000,  10.2096,   -9.00
  316N145_7,      TRANS,     390,          1,         24,         24,2,19950403,       0156,   -28.3388,    87.0582,       3899,   558.0,   9.8778,  34.7710,2,  34.7712,2,    237.1,2,   238.0,2,    5.26,2,   14.75,2,    0.00,2,    1.07,2,-999.000,9,-999.000,9,  2114.2,2,  2303.6,2,  -9.0000,9,-999.0000,9, -999.00,9, -999.00,9,  -999.0,9,  -999.0,-999.000,9,-999.000,-999.000,9,  -9.0000,-999.0000,   9.8126,   -9.00
  316N145_7,      TRANS,     390,          1,         23,         23,2,19950403,       0156,   -28.3388,    87.0582,       3899,   608.2,   9.4807,  34.7149,2,  34.7090,2,    235.4,2,   233.5,2,    6.09,2,   16.41,2,    0.00,2,    1.17,2,-999.000,9,-999.000,9,  2119.1,2,  2292.8,2,  -9.0000,9,-999.0000,9, -999.00,9, -999.00,9,  -999.0,9,  -999.0,-999.000,9,-999.000,-999.000,9,  -9.0000,-999.0000,   9.4112,   -9.00
  316N145_7,      TRANS,     390,          1,         22,         22,2,19950403,       0156,   -28.3388,    87.0582,       3899,   658.9,   8.8982,  34.6386,2,  34.6414,2,    229.1,2,   224.7,2,    7.99,2,   18.62,2,    0.00,2,    1.31,2,-999.000,9,-999.000,9,  2127.1,2,  2303.0,2,  -9.0000,9,-999.0000,9, -999.00,9, -999.00,9,  -999.0,9,  -999.0,-999.000,9,-999.000,-999.000,9,  -9.0000,-999.0000,   8.8256,   -9.00
  316N145_7,      TRANS,     390,          1,         21,         21,2,19950403,       0156,   -28.3388,    87.0582,       3899,   709.3,   8.2719,  34.5771,2,  34.5758,2,    218.6,2,   213.9,2,   10.94,2,   21.22,2,    0.00,2,    1.47,2,-999.000,9,-999.000,9,  2139.2,2,  -999.0,5,  -9.0000,9,-999.0000,9, -999.00,9, -999.00,9,  -999.0,9,  -999.0,-999.000,9,-999.000,-999.000,9,  -9.0000,-999.0000,   8.1967,   -9.00
  316N145_7,      TRANS,     390,          1,         20,         20,2,19950403,       0156,   -28.3388,    87.0582,       3899,   810.7,   6.7001,  34.4668,2,  34.4662,2,    200.7,2,   199.4,2,   19.83,2,   25.93,2,    0.00,2,    1.78,2,-999.000,9,-999.000,9,  2164.5,2,  2284.2,2,  -9.0000,9,-999.0000,9, -999.00,9, -999.00,9,  -999.0,9,  -999.0,-999.000,9,-999.000,-999.000,9,  -9.0000,-999.0000,   6.6233,   -9.00
  316N145_7,      TRANS,     390,          1,         19,         19,2,19950403,       0156,   -28.3388,    87.0582,       3899,   911.4,   5.3002,  34.4020,2,  34.4058,2,    190.6,2,   192.2,2,   31.47,2,   29.48,2,    0.00,2,    2.04,2,-999.000,9,-999.000,9,  2187.9,2,  2302.3,2,  -9.0000,9,-999.0000,9, -999.00,9, -999.00,9,  -999.0,9,  -999.0,-999.000,9,-999.000,-999.000,9,  -9.0000,-999.0000,   5.2230,   -9.00
  316N145_7,      TRANS,     390,          1,         18,         18,2,19950403,       0156,   -28.3388,    87.0582,       3899,  1011.6,   4.4261,  34.4066,2,  34.4066,2,    182.8,2,   182.8,2,   43.75,2,   31.71,2,    0.00,2,    2.22,2,-999.000,9,-999.000,9,  2208.5,2,  2307.2,2,  -9.0000,9,-999.0000,9, -999.00,9, -999.00,9,  -999.0,9,  -999.0,-999.000,9,-999.000,-999.000,9,  -9.0000,-999.0000,   4.3463,   -9.00
  316N145_7,      TRANS,     390,          1,         17,         17,2,19950403,       0156,   -28.3388,    87.0582,       3899,  1112.0,   3.9927,  34.4568,2,  34.4562,2,    165.1,2,   165.9,2,   57.94,2,   33.39,2,    0.00,2,    2.36,2,-999.000,9,-999.000,9,  2232.3,2,  2325.2,2,  -9.0000,9,-999.0000,9, -999.00,9, -999.00,9,  -999.0,9,  -999.0,-999.000,9,-999.000,-999.000,9,  -9.0000,-999.0000,   3.9078,   -9.00
  316N145_7,      TRANS,     390,          1,         16,         16,2,19950403,       0156,   -28.3388,    87.0582,       3899,  1288.1,   3.4671,  34.5343,2,  34.5334,2,    153.3,2,   151.8,2,   74.27,2,   34.62,2,    0.00,2,    2.46,2,-999.000,9,-999.000,9,  2256.8,2,  2348.1,2,  -9.0000,9,-999.0000,9, -999.00,9, -999.00,9,  -999.0,9,  -999.0,-999.000,9,-999.000,-999.000,9,  -9.0000,-999.0000,   3.3720,   -9.00
  316N145_7,      TRANS,     390,          1,         15,         15,2,19950403,       0156,   -28.3388,    87.0582,       3899,  1466.1,   3.0810,  34.6039,2,  34.6039,2,    150.3,2,   151.1,2,   84.25,2,   34.56,2,    0.00,2,    2.46,2,-999.000,9,-999.000,9,  2266.7,2,  2361.5,2,  -9.0000,9,-999.0000,9, -999.00,9, -999.00,9,  -999.0,9,  -999.0,-999.000,9,-999.000,-999.000,9,  -9.0000,-999.0000,   2.9750,   -9.00
  316N145_7,      TRANS,     390,          1,         14,         14,2,19950403,       0156,   -28.3388,    87.0582,       3899,  1642.9,   2.7910,  34.6564,2,  34.6563,2,    154.1,2,   154.1,2,   91.91,2,   34.11,2,    0.00,2,    2.42,2,-999.000,9,-999.000,9,  2272.4,2,  2380.8,2,  -9.0000,9,-999.0000,9, -999.00,9, -999.00,9,  -999.0,9,  -999.0,-999.000,9,-999.000,-999.000,9,  -9.0000,-999.0000,   2.6735,   -9.00
  316N145_7,      TRANS,     390,          1,         13,         13,2,19950403,       0156,   -28.3388,    87.0582,       3899,  1819.6,   2.5655,  34.6883,2,  34.6878,2,    159.6,2,   158.6,2,   96.80,2,   33.61,2,    0.00,2,    2.39,2,-999.000,9,-999.000,9,  2273.8,2,  2370.1,2,  -9.0000,9,-999.0000,9, -999.00,9, -999.00,9,  -999.0,9,  -999.0,-999.000,9,-999.000,-999.000,9,  -9.0000,-999.0000,   2.4359,   -9.00
  316N145_7,      TRANS,     390,          1,         12,         12,2,19950403,       0156,   -28.3388,    87.0582,       3899,  1995.0,   2.3519,  34.7098,2,  34.7100,2,    162.8,2,   163.6,2,  102.13,2,   33.26,2,    0.00,2,    2.35,2,-999.000,9,-999.000,9,  2274.4,2,  2367.6,2,  -9.0000,9,-999.0000,9, -999.00,9, -999.00,9,  -999.0,9,  -999.0,-999.000,9,-999.000,-999.000,9,  -9.0000,-999.0000,   2.2103,   -9.00
  316N145_7,      TRANS,     390,          1,         11,         11,2,19950403,       0156,   -28.3388,    87.0582,       3899,  2172.5,   2.1455,  34.7204,2,  34.7204,2,    170.3,2,   169.0,2,  105.32,2,   32.91,2,    0.00,2,    2.32,2,-999.000,9,-999.000,9,  2274.4,2,  2383.7,2,  -9.0000,9,-999.0000,9, -999.00,9, -999.00,9,  -999.0,9,  -999.0,-999.000,9,-999.000,-999.000,9,  -9.0000,-999.0000,   1.9916,   -9.00
  316N145_7,      TRANS,     390,          1,         10,         10,2,19950403,       0156,   -28.3388,    87.0582,       3899,  2349.0,   1.9757,  34.7251,2,  34.7255,2,    176.1,2,   175.8,2,  107.02,2,   32.61,2,    0.00,2,    2.29,2,-999.000,9,-999.000,9,  2272.7,2,  2368.6,2,  -9.0000,9,-999.0000,9, -999.00,9, -999.00,9,  -999.0,9,  -999.0,-999.000,9,-999.000,-999.000,9,  -9.0000,-999.0000,   1.8091,   -9.00
  316N145_7,      TRANS,     390,          1,          9,          9,2,19950403,       0156,   -28.3388,    87.0582,       3899,  2528.7,   1.8322,  34.7289,2,  34.7284,2,    179.0,2,   181.0,2,  108.07,2,   32.40,2,    0.00,2,    2.26,2,-999.000,9,-999.000,9,  2270.7,2,  2387.1,2,  -9.0000,9,-999.0000,9, -999.00,9, -999.00,9,  -999.0,9,  -999.0,-999.000,9,-999.000,-999.000,9,  -9.0000,-999.0000,   1.6522,   -9.00
  316N145_7,      TRANS,     390,          1,          8,          8,2,19950403,       0156,   -28.3388,    87.0582,       3899,  2707.8,   1.7041,  34.7314,2,  34.7320,2,    187.2,2,   186.5,2,  108.26,2,   32.00,2,    0.00,2,    2.23,2,-999.000,9,-999.000,9,  2267.3,2,  2379.4,2,  -9.0000,9,-999.0000,9, -999.00,9, -999.00,9,  -999.0,9,  -999.0,-999.000,9,-999.000,-999.000,9,  -9.0000,-999.0000,   1.5101,   -9.00
  316N145_7,      TRANS,     390,          1,          7,          7,2,19950403,       0156,   -28.3388,    87.0582,       3899,  2885.0,   1.6026,  34.7304,2,  34.7312,2,    188.3,2,   188.3,2,  111.46,2,   32.05,2,    0.00,2,    2.25,2,-999.000,9,-999.000,9,  2269.8,2,  2372.3,2,  -9.0000,9,-999.0000,9, -999.00,9, -999.00,9,  -999.0,9,  -999.0,-999.000,9,-999.000,-999.000,9,  -9.0000,-999.0000,   1.3942,   -9.00
  316N145_7,      TRANS,     390,          1,          6,          6,2,19950403,       0156,   -28.3388,    87.0582,       3899,  3062.3,   1.5015,  34.7268,2,  34.7282,2,    188.1,2,   188.5,2,  115.32,2,   32.34,2,    0.00,2,    2.25,2,-999.000,9,-999.000,9,  2273.8,2,  2387.3,2,  -9.0000,9,-999.0000,9, -999.00,9, -999.00,9,  -999.0,9,  -999.0,-999.000,9,-999.000,-999.000,9,  -9.0000,-999.0000,   1.2785,   -9.00
  316N145_7,      TRANS,     390,          1,          5,          5,2,19950403,       0156,   -28.3388,    87.0582,       3899,  3241.1,   1.4380,  34.7251,2,  34.7253,2,    189.1,2,   189.3,2,  117.46,2,   32.39,2,    0.00,2,    2.26,2,-999.000,9,-999.000,9,  2275.9,2,  2378.0,2,  -9.0000,9,-999.0000,9, -999.00,9, -999.00,9,  -999.0,9,  -999.0,-999.000,9,-999.000,-999.000,9,  -9.0000,-999.0000,   1.1991,   -9.00
  316N145_7,      TRANS,     390,          1,          4,          4,2,19950403,       0156,   -28.3388,    87.0582,       3899,  3418.7,   1.3840,  34.7242,2,  34.7249,2,    191.4,2,   191.2,2,  118.73,2,   32.43,2,    0.00,2,    2.25,2,-999.000,9,-999.000,9,  2276.4,2,  2391.8,2,  -9.0000,9,-999.0000,9, -999.00,9, -999.00,9,  -999.0,9,  -999.0,-999.000,9,-999.000,-999.000,9,  -9.0000,-999.0000,   1.1287,   -9.00
  316N145_7,      TRANS,     390,          1,          3,          3,2,19950403,       0156,   -28.3388,    87.0582,       3899,  3596.4,   1.2835,  34.7202,2,  34.7197,2,    192.8,2,   193.7,2,  120.66,2,   32.47,2,    0.00,2,    2.26,2,-999.000,9,-999.000,9,  2276.4,2,  2397.9,2,  -9.0000,9,-999.0000,9, -999.00,9, -999.00,9,  -999.0,9,  -999.0,-999.000,9,-999.000,-999.000,9,  -9.0000,-999.0000,   1.0128,   -9.00
  316N145_7,      TRANS,     390,          1,          2,          2,2,19950403,       0156,   -28.3388,    87.0582,       3899,  3801.3,   1.2248,  34.7178,2,  34.7178,2,    195.2,2,   195.3,2,  121.50,2,   32.47,2,    0.00,2,    2.26,2,-999.000,9,-999.000,9,  2276.5,2,  2392.8,2,  -9.0000,9,-999.0000,9, -999.00,9, -999.00,9,  -999.0,9,  -999.0,-999.000,9,-999.000,-999.000,9,  -9.0000,-999.0000,   0.9345,   -9.00
  316N145_7,      TRANS,     390,          1,          1,          1,2,19950403,       0156,   -28.3388,    87.0582,       3899,  4006.9,   1.2318,  34.7174,2,  34.7172,2,    196.1,2,   195.4,2,  121.69,2,   32.47,2,    0.00,2,    2.26,2,-999.000,9,-999.000,9,  2276.0,2,  2418.6,2,  -9.0000,9,-999.0000,9, -999.00,9, -999.00,9,  -999.0,9,  -999.0,-999.000,9,-999.000,-999.000,9,  -9.0000,-999.0000,   0.9196,   -9.00