BOTTLE,20211124CCHSIORKP
EXPOCODE,SECT_ID,STNNBR,CASTNO,SAMPNO,BTLNBR,BTLNBR_FLAG_W,DATE,TIME,LATITUDE,LONGITUDE,DEPTH,CTDPRS,CTDTMP,CTDSAL,CTDSAL_FLAG_W,SALNTY,SALNTY_FLAG_W,CTDOXY,CTDOXY_FLAG_W,OXYGEN,OXYGEN_FLAG_W,SILCAT,SILCAT_FLAG_W,NITRAT,NITRAT_FLAG_W,NITRIT,NITRIT_FLAG_W,PHSPHT,PHSPHT_FLAG_W,CFC-11,CFC-11_FLAG_W,CFC-12,CFC-12_FLAG_W,TCARBN,TCARBN_FLAG_W,ALKALI,ALKALI_FLAG_W,TRITUM,TRITUM_FLAG_W,HELIUM,HELIUM_FLAG_W,DELHE3,DELHE3_FLAG_W,DELC13,DELC13_FLAG_W,DELC14,DELC14_FLAG_W,C14ERR,NEON,NEON_FLAG_W,NEONER,CCL4,CCL4_FLAG_W,TRITER,HELIER,THETA,DELHER
,,,,,,,,,,,METERS,DBAR,ITS-90,PSS-78,,PSS-78,,UMOL/KG,,UMOL/KG,,UMOL/KG,,UMOL/KG,,UMOL/KG,,UMOL/KG,,PMOL/KG,,PMOL/KG,,UMOL/KG,,UMOL/KG,,TU,,NMOL/KG,,PERCNT,,/MILLE,,/MILLE,,/MILLE,NMOL/KG,,NMOL/KG,PMOL/KG,,TU,NMOL/KG,DEG C,PERCNT
  316N145_7,       I05E,     424,          1,         28,         28,2,19950410,       2143,   -31.0510,   105.1992,       2925,     2.2,  21.4794,  36.1972,2,  36.1963,2,    219.5,2,   220.6,2,    3.12,2,    0.10,2,    0.00,2,    0.08,2,-999.000,9,-999.000,9,  2054.2,2,  2416.4,3,  -9.0000,9,-999.0000,9, -999.00,9, -999.00,9,  -999.0,9,  -999.0,-999.000,9,-999.000,-999.000,9,  -9.0000,-999.0000,  21.4789,   -9.00
  316N145_7,       I05E,     424,          1,         27,         27,2,19950410,       2143,   -31.0510,   105.1992,       2925,    35.0,  21.1670,  36.1704,2,  36.1697,2,    219.6,2,   222.4,2,    3.11,2,    0.10,2,    0.00,2,    0.07,2,-999.000,9,-999.000,9,  2051.1,2,  2370.2,2,  -9.0000,9,-999.0000,9, -999.00,9, -999.00,9,  -999.0,9,  -999.0,-999.000,9,-999.000,-999.000,9,  -9.0000,-999.0000,  21.1602,   -9.00
  316N145_7,       I05E,     424,          1,         26,         26,2,19950410,       2143,   -31.0510,   105.1992,       2925,    64.8,  21.0441,  36.1626,2,  36.1600,2,    228.9,2,   222.6,2,    3.10,2,    0.10,2,    0.00,2,    0.07,2,-999.000,9,-999.000,9,  2051.9,2,  2376.0,2,  -9.0000,9,-999.0000,9, -999.00,9, -999.00,9,  -999.0,9,  -999.0,-999.000,9,-999.000,-999.000,9,  -9.0000,-999.0000,  21.0317,   -9.00
  316N145_7,       I05E,     424,          1,         25,         25,2,19950410,       2143,   -31.0510,   105.1992,       2925,    95.6,  18.4681,  35.9178,2,  35.9016,2,    236.2,2,   232.4,2,    2.88,2,    0.10,2,    0.00,2,    0.14,2,-999.000,9,-999.000,9,  2059.0,2,  2356.8,2,  -9.0000,9,-999.0000,9, -999.00,9, -999.00,9,  -999.0,9,  -999.0,-999.000,9,-999.000,-999.000,9,  -9.0000,-999.0000,  18.4513,   -9.00
  316N145_7,       I05E,     424,          1,         24,         24,2,19950410,       2143,   -31.0510,   105.1992,       2925,   125.3,  17.1651,  35.8573,2,  35.8538,2,    223.5,2,   221.8,2,    2.87,2,    1.19,2,    0.06,2,    0.24,2,-999.000,9,-999.000,9,  2072.8,2,  2344.5,2,  -9.0000,9,-999.0000,9, -999.00,9, -999.00,9,  -999.0,9,  -999.0,-999.000,9,-999.000,-999.000,9,  -9.0000,-999.0000,  17.1442,   -9.00
  316N145_7,       I05E,     424,          1,         23,         23,2,19950410,       2143,   -31.0510,   105.1992,       2925,   164.4,  15.7092,  35.6989,2,  35.7031,2,    229.8,2,   228.8,2,    2.43,2,    1.71,2,    0.02,2,    0.29,2,-999.000,9,-999.000,9,  2079.9,2,  2343.5,2,  -9.0000,9,-999.0000,9, -999.00,9, -999.00,9,  -999.0,9,  -999.0,-999.000,9,-999.000,-999.000,9,  -9.0000,-999.0000,  15.6834,   -9.00
  316N145_7,       I05E,     424,          1,         22,         22,2,19950410,       2143,   -31.0510,   105.1992,       2925,   205.7,  14.3097,  35.4935,2,  35.4974,2,    232.4,2,   231.3,2,    2.63,2,    3.69,2,    0.03,2,    0.42,2,-999.000,9,-999.000,9,  2087.9,2,  2325.2,2,  -9.0000,9,-999.0000,9, -999.00,9, -999.00,9,  -999.0,9,  -999.0,-999.000,9,-999.000,-999.000,9,  -9.0000,-999.0000,  14.2794,   -9.00
  316N145_7,       I05E,     424,          1,         21,         21,2,19950410,       2143,   -31.0510,   105.1992,       2925,   245.6,  13.1277,  35.3094,2,  35.3054,2,    232.7,2,   231.5,2,    2.84,2,    6.11,2,    0.01,2,    0.56,2,-999.000,9,-999.000,9,  2096.6,2,  2322.8,2,  -9.0000,9,-999.0000,9, -999.00,9, -999.00,9,  -999.0,9,  -999.0,-999.000,9,-999.000,-999.000,9,  -9.0000,-999.0000,  13.0935,   -9.00
  316N145_7,       I05E,     424,          1,         20,         20,2,19950410,       2143,   -31.0510,   105.1992,       2925,   295.7,  12.2162,  35.1613,2,  35.1608,2,    233.5,2,   235.2,2,    3.04,2,    7.71,2,    0.01,2,    0.65,2,-999.000,9,-999.000,9,  2100.2,2,  2330.5,3,  -9.0000,9,-999.0000,9, -999.00,9, -999.00,9,  -999.0,9,  -999.0,-999.000,9,-999.000,-999.000,9,  -9.0000,-999.0000,  12.1770,   -9.00
  316N145_7,       I05E,     424,          1,         19,         19,2,19950410,       2143,   -31.0510,   105.1992,       2925,   355.0,  11.1869,  34.9909,2,  34.9883,2,    238.2,2,   239.5,2,    3.46,2,   10.08,2,    0.01,2,    0.79,2,-999.000,9,-999.000,9,  2105.3,2,  2312.2,2,  -9.0000,9,-999.0000,9, -999.00,9, -999.00,9,  -999.0,9,  -999.0,-999.000,9,-999.000,-999.000,9,  -9.0000,-999.0000,  11.1424,   -9.00
  316N145_7,       I05E,     424,          1,         18,         18,2,19950410,       2143,   -31.0510,   105.1992,       2925,   415.6,  10.3498,  34.8521,2,  34.8528,2,    239.4,2,   240.7,2,    4.09,2,   12.40,2,    0.01,2,    0.93,2,-999.000,9,-999.000,9,  2111.0,2,  2321.0,3,  -9.0000,9,-999.0000,9, -999.00,9, -999.00,9,  -999.0,9,  -999.0,-999.000,9,-999.000,-999.000,9,  -9.0000,-999.0000,  10.3001,   -9.00
  316N145_7,       I05E,     424,          1,         17,         17,2,19950410,       2143,   -31.0510,   105.1992,       2925,   487.6,   9.6036,  34.7301,2,  34.7301,2,    237.7,2,   240.0,2,    5.14,2,   14.96,2,    0.00,2,    1.09,2,-999.000,9,-999.000,9,  2116.1,2,  2302.5,2,  -9.0000,9,-999.0000,9, -999.00,9, -999.00,9,  -999.0,9,  -999.0,-999.000,9,-999.000,-999.000,9,  -9.0000,-999.0000,   9.5477,   -9.00
  316N145_7,       I05E,     424,          1,         16,         16,2,19950410,       2143,   -31.0510,   105.1992,       2925,   557.5,   9.0801,  34.6522,2,  34.6568,2,    232.2,2,   233.5,2,    6.41,2,   17.39,2,    0.00,2,    1.23,2,-999.000,9,-999.000,9,  2123.5,2,  2327.2,3,  -9.0000,9,-999.0000,9, -999.00,9, -999.00,9,  -999.0,9,  -999.0,-999.000,9,-999.000,-999.000,9,  -9.0000,-999.0000,   9.0182,   -9.00
  316N145_7,       I05E,     424,          1,         15,         15,2,19950410,       2143,   -31.0510,   105.1992,       2925,   657.9,   8.0898,  34.5536,2,  34.5530,2,    214.8,2,   214.4,2,   10.89,2,   21.61,2,    0.00,2,    1.50,2,-999.000,9,-999.000,9,  2139.4,2,  2293.1,2,  -9.0000,9,-999.0000,9, -999.00,9, -999.00,9,  -999.0,9,  -999.0,-999.000,9,-999.000,-999.000,9,  -9.0000,-999.0000,   8.0213,   -9.00
  316N145_7,       I05E,     424,          1,         14,         14,2,19950410,       2143,   -31.0510,   105.1992,       2925,   757.9,   6.5883,  34.4594,2,  34.4603,2,    196.0,2,   195.3,2,   21.33,2,   26.66,2,    0.00,2,    1.83,2,-999.000,9,-999.000,9,  2167.3,2,  2327.3,3,  -9.0000,9,-999.0000,9, -999.00,9, -999.00,9,  -999.0,9,  -999.0,-999.000,9,-999.000,-999.000,9,  -9.0000,-999.0000,   6.5174,   -9.00
  316N145_7,       I05E,     424,          1,         13,         13,2,19950410,       2143,   -31.0510,   105.1992,       2925,   858.8,   5.2563,  34.4114,2,  34.4117,2,    187.5,2,   187.3,2,   33.70,2,   30.04,2,    0.00,2,    2.07,2,-999.000,9,-999.000,9,  2190.4,2,  2304.6,2,  -9.0000,9,-999.0000,9, -999.00,9, -999.00,9,  -999.0,9,  -999.0,-999.000,9,-999.000,-999.000,9,  -9.0000,-999.0000,   5.1840,   -9.00
  316N145_7,       I05E,     424,          1,         12,         12,2,19950410,       2143,   -31.0510,   105.1992,       2925,   960.6,   4.2183,  34.4033,2,  34.4007,2,    179.9,2,   183.7,2,   45.84,2,   32.29,2,    0.00,2,    2.25,2,-999.000,9,-999.000,9,  2211.7,2,  2320.5,2,  -9.0000,9,-999.0000,9, -999.00,9, -999.00,9,  -999.0,9,  -999.0,-999.000,9,-999.000,-999.000,9,  -9.0000,-999.0000,   4.1444,   -9.00
  316N145_7,       I05E,     424,          1,         11,         11,2,19950410,       2143,   -31.0510,   105.1992,       2925,  1060.3,   3.8368,  34.4492,2,  34.4483,2,    168.9,2,   168.1,2,   58.63,2,   33.77,2,    0.00,2,    2.36,2,-999.000,9,-999.000,9,  2231.9,2,  2333.1,2,  -9.0000,9,-999.0000,9, -999.00,9, -999.00,9,  -999.0,9,  -999.0,-999.000,9,-999.000,-999.000,9,  -9.0000,-999.0000,   3.7575,   -9.00
  316N145_7,       I05E,     424,          1,         10,         10,2,19950410,       2143,   -31.0510,   105.1992,       2925,  1211.9,   3.5170,  34.5230,2,  34.5216,2,    151.7,2,   151.7,2,   73.57,2,   34.90,2,    0.00,2,    2.46,2,-999.000,9,-999.000,9,  2255.5,2,  2349.2,2,  -9.0000,9,-999.0000,9, -999.00,9, -999.00,9,  -999.0,9,  -999.0,-999.000,9,-999.000,-999.000,9,  -9.0000,-999.0000,   3.4279,   -9.00
  316N145_7,       I05E,     424,          1,          9,          9,2,19950410,       2143,   -31.0510,   105.1992,       2925,  1413.6,   3.0717,  34.5848,2,  34.5844,2,    150.9,2,   151.3,2,   82.32,2,   34.91,2,    0.00,2,    2.46,2,-999.000,9,-999.000,9,  2264.3,2,  2351.1,2,  -9.0000,9,-999.0000,9, -999.00,9, -999.00,9,  -999.0,9,  -999.0,-999.000,9,-999.000,-999.000,9,  -9.0000,-999.0000,   2.9703,   -9.00
  316N145_7,       I05E,     424,          1,          8,          8,2,19950410,       2143,   -31.0510,   105.1992,       2925,  1616.1,   2.7966,  34.6476,2,  34.6477,2,    152.8,2,   153.4,2,   91.73,2,   34.56,2,    0.00,2,    2.44,2,-999.000,9,-999.000,9,  2272.4,2,  2376.6,3,  -9.0000,9,-999.0000,9, -999.00,9, -999.00,9,  -999.0,9,  -999.0,-999.000,9,-999.000,-999.000,9,  -9.0000,-999.0000,   2.6813,   -9.00
  316N145_7,       I05E,     424,          1,          7,          7,2,19950410,       2143,   -31.0510,   105.1992,       2925,  1818.8,   2.5388,  34.6874,2,  34.6870,2,    157.8,2,   157.2,2,   98.15,2,   33.98,2,    0.00,2,    2.40,2,-999.000,9,-999.000,9,  2276.2,2,  2379.3,2,  -9.0000,9,-999.0000,9, -999.00,9, -999.00,9,  -999.0,9,  -999.0,-999.000,9,-999.000,-999.000,9,  -9.0000,-999.0000,   2.4096,   -9.00
  316N145_7,       I05E,     424,          1,          6,          6,2,19950410,       2143,   -31.0510,   105.1992,       2925,  2020.9,   2.3422,  34.7099,2,  34.7100,2,    161.0,2,   161.0,2,  104.58,2,   33.74,2,    0.00,2,    2.37,2,-999.000,9,-999.000,9,  2279.4,2,  2381.9,2,  -9.0000,9,-999.0000,9, -999.00,9, -999.00,9,  -999.0,9,  -999.0,-999.000,9,-999.000,-999.000,9,  -9.0000,-999.0000,   2.1985,   -9.00
  316N145_7,       I05E,     424,          1,          5,          5,2,19950410,       2143,   -31.0510,   105.1992,       2925,  2223.6,   2.1822,  34.7207,2,  34.7202,2,    163.6,2,   163.2,2,  109.96,2,   33.69,2,    0.00,2,    2.37,2,-999.000,9,-999.000,9,  2286.2,2,  2386.4,2,  -9.0000,9,-999.0000,9, -999.00,9, -999.00,9,  -999.0,9,  -999.0,-999.000,9,-999.000,-999.000,9,  -9.0000,-999.0000,   2.0232,   -9.00
  316N145_7,       I05E,     424,          1,          4,          4,2,19950410,       2143,   -31.0510,   105.1992,       2925,  2426.9,   2.0168,  34.7258,2,  34.7253,2,    166.9,2,   166.6,2,  113.39,2,   33.40,2,    0.00,2,    2.36,2,-999.000,9,-999.000,9,  2285.0,2,  2450.9,4,  -9.0000,9,-999.0000,9, -999.00,9, -999.00,9,  -999.0,9,  -999.0,-999.000,9,-999.000,-999.000,9,  -9.0000,-999.0000,   1.8426,   -9.00
  316N145_7,       I05E,     424,          1,          3,          3,2,19950410,       2143,   -31.0510,   105.1992,       2925,  2628.5,   1.8964,  34.7280,2,  34.7272,2,    172.4,2,   171.7,2,  114.45,2,   33.26,2,    0.00,2,    2.34,2,-999.000,9,-999.000,9,  2282.4,2,  2398.7,2,  -9.0000,9,-999.0000,9, -999.00,9, -999.00,9,  -999.0,9,  -999.0,-999.000,9,-999.000,-999.000,9,  -9.0000,-999.0000,   1.7060,   -9.00
  316N145_7,       I05E,     424,          1,          2,          2,2,19950410,       2143,   -31.0510,   105.1992,       2925,  2829.9,   1.7470,  34.7282,2,  34.7274,2,    174.9,2,   175.6,2,  117.67,2,   33.27,2,    0.00,2,    2.33,2,-999.000,9,-999.000,9,  2284.2,2,  2389.7,2,  -9.0000,9,-999.0000,9, -999.00,9, -999.00,9,  -999.0,9,  -999.0,-999.000,9,-999.000,-999.000,9,  -9.0000,-999.0000,   1.5407,   -9.00
  316N145_7,       I05E,     424,          1,          1,          1,2,19950410,       2143,   -31.0510,   105.1992,       2925,  2978.1,   1.6706,  34.7282,2,  34.7286,2,    179.4,2,   179.5,2,  117.86,2,   32.98,2,    0.00,2,    2.31,2,-999.000,9,-999.000,9,  2283.0,2,  2396.1,2,  -9.0000,9,-999.0000,9, -999.00,9, -999.00,9,  -999.0,9,  -999.0,-999.000,9,-999.000,-999.000,9,  -9.0000,-999.0000,   1.4519,   -9.00