BOTTLE,20211124CCHSIORKP
EXPOCODE,SECT_ID,STNNBR,CASTNO,SAMPNO,BTLNBR,BTLNBR_FLAG_W,DATE,TIME,LATITUDE,LONGITUDE,DEPTH,CTDPRS,CTDTMP,CTDSAL,CTDSAL_FLAG_W,SALNTY,SALNTY_FLAG_W,CTDOXY,CTDOXY_FLAG_W,OXYGEN,OXYGEN_FLAG_W,SILCAT,SILCAT_FLAG_W,NITRAT,NITRAT_FLAG_W,NITRIT,NITRIT_FLAG_W,PHSPHT,PHSPHT_FLAG_W,CFC-11,CFC-11_FLAG_W,CFC-12,CFC-12_FLAG_W,TCARBN,TCARBN_FLAG_W,ALKALI,ALKALI_FLAG_W,TRITUM,TRITUM_FLAG_W,HELIUM,HELIUM_FLAG_W,DELHE3,DELHE3_FLAG_W,DELC13,DELC13_FLAG_W,DELC14,DELC14_FLAG_W,C14ERR,NEON,NEON_FLAG_W,NEONER,CCL4,CCL4_FLAG_W,TRITER,HELIER,THETA,DELHER
,,,,,,,,,,,METERS,DBAR,ITS-90,PSS-78,,PSS-78,,UMOL/KG,,UMOL/KG,,UMOL/KG,,UMOL/KG,,UMOL/KG,,UMOL/KG,,PMOL/KG,,PMOL/KG,,UMOL/KG,,UMOL/KG,,TU,,NMOL/KG,,PERCNT,,/MILLE,,/MILLE,,/MILLE,NMOL/KG,,NMOL/KG,PMOL/KG,,TU,NMOL/KG,DEG C,PERCNT
  316N145_7,       I08N,     315,          1,         36,         36,4,19950317,       1242,    -4.5000,    80.0002,       4722,     2.3,  29.5629,  34.2158,2,  34.1938,2,    198.1,2,   198.9,2,    2.37,2,    0.10,2,    0.00,2,    0.09,2,-999.000,9,-999.000,9,  1904.4,2,  2251.6,2,  -9.0000,9,-999.0000,9, -999.00,9, -999.00,9,  -999.0,9,  -999.0,-999.000,9,-999.000,-999.000,9,  -9.0000,-999.0000,  29.5623,   -9.00
  316N145_7,       I08N,     315,          1,         35,         35,4,19950317,       1242,    -4.5000,    80.0002,       4722,    32.0,  28.9196,  34.1872,2,  34.1916,2,    198.3,2,   199.0,2,    2.16,2,    0.10,2,    0.00,2,    0.10,2,-999.000,9,-999.000,9,  -999.0,9,  -999.0,9,  -9.0000,9,-999.0000,9, -999.00,9, -999.00,9,  -999.0,9,  -999.0,-999.000,9,-999.000,-999.000,9,  -9.0000,-999.0000,  28.9119,   -9.00
  316N145_7,       I08N,     315,          1,         34,         34,2,19950317,       1242,    -4.5000,    80.0002,       4722,    57.3,  27.5183,  34.6235,2,  34.6482,2,    193.8,2,   186.1,2,    3.17,2,    0.19,2,    0.00,2,    0.21,2,-999.000,9,-999.000,9,  -999.0,9,  -999.0,9,  -9.0000,9,-999.0000,9, -999.00,9, -999.00,9,  -999.0,9,  -999.0,-999.000,9,-999.000,-999.000,9,  -9.0000,-999.0000,  27.5050,   -9.00
  316N145_7,       I08N,     315,          1,         33,         33,2,19950317,       1242,    -4.5000,    80.0002,       4722,    87.1,  19.7337,  35.0209,2,  35.0125,2,     77.1,2,    70.7,2,   16.73,2,   19.48,2,    0.53,2,    1.37,2,-999.000,9,-999.000,9,  -999.0,9,  -999.0,9,  -9.0000,9,-999.0000,9, -999.00,9, -999.00,9,  -999.0,9,  -999.0,-999.000,9,-999.000,-999.000,9,  -9.0000,-999.0000,  19.7178,   -9.00
  316N145_7,       I08N,     315,          1,         32,         32,2,19950317,       1242,    -4.5000,    80.0002,       4722,   127.3,  14.7623,  35.0243,2,  35.0092,2,     64.4,2,    67.4,2,   23.51,2,   24.46,2,    0.01,2,    1.68,2,-999.000,9,-999.000,9,  -999.0,9,  -999.0,9,  -9.0000,9,-999.0000,9, -999.00,9, -999.00,9,  -999.0,9,  -999.0,-999.000,9,-999.000,-999.000,9,  -9.0000,-999.0000,  14.7433,   -9.00
  316N145_7,       I08N,     315,          1,         31,         31,2,19950317,       1242,    -4.5000,    80.0002,       4722,   167.5,  13.6023,  35.0696,2,  35.0662,2,     87.9,2,    88.2,2,   21.44,2,   23.26,2,    0.00,2,    1.60,2,-999.000,9,-999.000,9,  -999.0,9,  -999.0,9,  -9.0000,9,-999.0000,9, -999.00,9, -999.00,9,  -999.0,9,  -999.0,-999.000,9,-999.000,-999.000,9,  -9.0000,-999.0000,  13.5786,   -9.00
  316N145_7,       I08N,     315,          1,         30,         30,2,19950317,       1242,    -4.5000,    80.0002,       4722,   227.6,  12.6735,  35.0733,2,  35.0700,2,    110.7,2,   110.8,2,   19.57,2,   22.06,2,    0.00,2,    1.53,2,-999.000,9,-999.000,9,  -999.0,9,  -999.0,9,  -9.0000,9,-999.0000,9, -999.00,9, -999.00,9,  -999.0,9,  -999.0,-999.000,9,-999.000,-999.000,9,  -9.0000,-999.0000,  12.6427,   -9.00
  316N145_7,       I08N,     315,          1,         29,         29,2,19950317,       1242,    -4.5000,    80.0002,       4722,   308.6,  11.1809,  34.9872,2,  34.9837,2,    103.4,2,   103.0,2,   22.86,2,   25.23,2,    0.00,2,    1.72,2,-999.000,9,-999.000,9,  -999.0,9,  -999.0,9,  -9.0000,9,-999.0000,9, -999.00,9, -999.00,9,  -999.0,9,  -999.0,-999.000,9,-999.000,-999.000,9,  -9.0000,-999.0000,  11.1423,   -9.00
  316N145_7,       I08N,     315,          1,         28,         28,2,19950317,       1242,    -4.5000,    80.0002,       4722,   368.6,  10.5564,  34.9422,2,  34.9428,2,    107.6,2,   107.2,2,   24.90,2,   26.15,2,    0.00,2,    1.78,2,-999.000,9,-999.000,9,  -999.0,9,  -999.0,9,  -9.0000,9,-999.0000,9, -999.00,9, -999.00,9,  -999.0,9,  -999.0,-999.000,9,-999.000,-999.000,9,  -9.0000,-999.0000,  10.5118,   -9.00
  316N145_7,       I08N,     315,          1,         27,         27,2,19950317,       1242,    -4.5000,    80.0002,       4722,   448.8,  10.1353,  34.9594,2,  34.9566,2,     88.0,2,    84.5,2,   31.47,2,   29.28,2,    0.00,2,    2.02,2,-999.000,9,-999.000,9,  -999.0,9,  -999.0,9,  -9.0000,9,-999.0000,9, -999.00,9, -999.00,9,  -999.0,9,  -999.0,-999.000,9,-999.000,-999.000,9,  -9.0000,-999.0000,  10.0821,   -9.00
  316N145_7,       I08N,     315,          1,         26,         26,2,19950317,       1242,    -4.5000,    80.0002,       4722,   529.0,   9.6433,  34.9347,2,  34.9319,2,     74.5,2,    72.3,2,   37.23,2,   31.50,2,    0.00,2,    2.20,2,-999.000,9,-999.000,9,  -999.0,9,  -999.0,9,  -9.0000,9,-999.0000,9, -999.00,9, -999.00,9,  -999.0,9,  -999.0,-999.000,9,-999.000,-999.000,9,  -9.0000,-999.0000,   9.5823,   -9.00
  316N145_7,       I08N,     315,          1,         25,         25,2,19950317,       1242,    -4.5000,    80.0002,       4722,   630.3,   8.9269,  34.8886,2,  34.8867,2,     77.1,2,    75.6,2,   45.04,2,   32.37,2,    0.00,2,    2.30,2,-999.000,9,-999.000,9,  -999.0,9,  -999.0,9,  -9.0000,9,-999.0000,9, -999.00,9, -999.00,9,  -999.0,9,  -999.0,-999.000,9,-999.000,-999.000,9,  -9.0000,-999.0000,   8.8572,   -9.00
  316N145_7,       I08N,     315,          1,         24,         24,2,19950317,       1242,    -4.5000,    80.0002,       4722,   731.0,   7.9732,  34.8656,2,  34.8627,2,     60.6,2,    59.3,2,   60.48,2,   35.23,2,    0.00,2,    2.56,2,-999.000,9,-999.000,9,  -999.0,9,  -999.0,9,  -9.0000,9,-999.0000,9, -999.00,9, -999.00,9,  -999.0,9,  -999.0,-999.000,9,-999.000,-999.000,9,  -9.0000,-999.0000,   7.8970,   -9.00
  316N145_7,       I08N,     315,          1,         23,         23,2,19950317,       1242,    -4.5000,    80.0002,       4722,   831.5,   7.3238,  34.8618,2,  34.8593,2,     58.9,2,    58.3,2,   70.78,2,   36.11,2,    0.00,2,    2.64,2,-999.000,9,-999.000,9,  -999.0,9,  -999.0,9,  -9.0000,9,-999.0000,9, -999.00,9, -999.00,9,  -999.0,9,  -999.0,-999.000,9,-999.000,-999.000,9,  -9.0000,-999.0000,   7.2405,   -9.00
  316N145_7,       I08N,     315,          1,         22,         22,2,19950317,       1242,    -4.5000,    80.0002,       4722,   911.8,   6.7949,  34.8382,2,  34.8363,2,     61.9,2,    62.1,2,   78.20,2,   36.50,2,    0.00,2,    2.67,2,-999.000,9,-999.000,9,  -999.0,9,  -999.0,9,  -9.0000,9,-999.0000,9, -999.00,9, -999.00,9,  -999.0,9,  -999.0,-999.000,9,-999.000,-999.000,9,  -9.0000,-999.0000,   6.7067,   -9.00
  316N145_7,       I08N,     315,          1,         21,         21,2,19950317,       1242,    -4.5000,    80.0002,       4722,  1012.4,   6.1096,  34.8108,2,  34.8119,2,     68.7,2,    67.9,2,   86.68,2,   36.74,2,    0.00,2,    2.68,2,-999.000,9,-999.000,9,  -999.0,9,  -999.0,9,  -9.0000,9,-999.0000,9, -999.00,9, -999.00,9,  -999.0,9,  -999.0,-999.000,9,-999.000,-999.000,9,  -9.0000,-999.0000,   6.0162,   -9.00
  316N145_7,       I08N,     315,          1,         20,         20,2,19950317,       1242,    -4.5000,    80.0002,       4722,  1163.2,   5.4207,  34.8020,2,  34.8012,2,     74.7,2,    75.3,2,   94.35,2,   36.94,2,    0.00,2,    2.70,2,-999.000,9,-999.000,9,  -999.0,9,  -999.0,9,  -9.0000,9,-999.0000,9, -999.00,9, -999.00,9,  -999.0,9,  -999.0,-999.000,9,-999.000,-999.000,9,  -9.0000,-999.0000,   5.3182,   -9.00
  316N145_7,       I08N,     315,          1,         19,         19,2,19950317,       1242,    -4.5000,    80.0002,       4722,  1315.3,   4.8354,  34.8053,2,  34.8040,2,     83.4,2,    84.1,2,   99.96,2,   36.89,2,    0.00,2,    2.68,2,-999.000,9,-999.000,9,  -999.0,9,  -999.0,9,  -9.0000,9,-999.0000,9, -999.00,9, -999.00,9,  -999.0,9,  -999.0,-999.000,9,-999.000,-999.000,9,  -9.0000,-999.0000,   4.7239,   -9.00
  316N145_7,       I08N,     315,          1,         18,         18,2,19950317,       1242,    -4.5000,    80.0002,       4722,  1466.2,   4.1410,  34.7953,2,  34.7939,2,     95.4,2,    97.5,2,  106.01,2,   36.59,2,    0.00,2,    2.65,2,-999.000,9,-999.000,9,  -999.0,9,  -999.0,9,  -9.0000,9,-999.0000,9, -999.00,9, -999.00,9,  -999.0,9,  -999.0,-999.000,9,-999.000,-999.000,9,  -9.0000,-999.0000,   4.0227,   -9.00
  316N145_7,       I08N,     315,          1,         17,         17,2,19950317,       1242,    -4.5000,    80.0002,       4722,  1618.4,   3.5395,  34.7823,2,  34.7802,2,    109.9,2,   111.6,2,  111.24,2,   36.20,2,    0.00,2,    2.61,2,-999.000,9,-999.000,9,  -999.0,9,  -999.0,9,  -9.0000,9,-999.0000,9, -999.00,9, -999.00,9,  -999.0,9,  -999.0,-999.000,9,-999.000,-999.000,9,  -9.0000,-999.0000,   3.4145,   -9.00
  316N145_7,       I08N,     315,          1,         16,         16,2,19950317,       1242,    -4.5000,    80.0002,       4722,  1769.9,   3.1297,  34.7711,2,  34.7678,2,    119.2,2,   121.4,2,  115.01,2,   35.76,2,    0.00,2,    2.57,2,-999.000,9,-999.000,9,  -999.0,9,  -999.0,9,  -9.0000,9,-999.0000,9, -999.00,9, -999.00,9,  -999.0,9,  -999.0,-999.000,9,-999.000,-999.000,9,  -9.0000,-999.0000,   2.9965,   -9.00
  316N145_7,       I08N,     315,          1,         15,         15,2,19950317,       1242,    -4.5000,    80.0002,       4722,  1921.4,   2.7696,  34.7609,2,  34.7583,2,    129.6,2,   131.1,2,  118.58,2,   35.42,2,    0.00,2,    2.53,2,-999.000,9,-999.000,9,  -999.0,9,  -999.0,9,  -9.0000,9,-999.0000,9, -999.00,9, -999.00,9,  -999.0,9,  -999.0,-999.000,9,-999.000,-999.000,9,  -9.0000,-999.0000,   2.6281,   -9.00
  316N145_7,       I08N,     315,          1,         14,         14,2,19950317,       1242,    -4.5000,    80.0002,       4722,  2124.7,   2.4021,  34.7534,2,  34.7512,2,    138.9,2,   140.6,2,  122.80,2,   35.13,2,    0.00,2,    2.49,2,-999.000,9,-999.000,9,  -999.0,9,  -999.0,9,  -9.0000,9,-999.0000,9, -999.00,9, -999.00,9,  -999.0,9,  -999.0,-999.000,9,-999.000,-999.000,9,  -9.0000,-999.0000,   2.2482,   -9.00
  316N145_7,       I08N,     315,          1,         13,         13,2,19950317,       1242,    -4.5000,    80.0002,       4722,  2327.6,   2.1352,  34.7454,2,  34.7439,2,    147.4,2,   148.0,2,  126.18,2,   34.88,2,    0.00,2,    2.46,2,-999.000,9,-999.000,9,  -999.0,9,  -999.0,9,  -9.0000,9,-999.0000,9, -999.00,9, -999.00,9,  -999.0,9,  -999.0,-999.000,9,-999.000,-999.000,9,  -9.0000,-999.0000,   1.9677,   -9.00
  316N145_7,       I08N,     315,          1,         12,         12,2,19950317,       1242,    -4.5000,    80.0002,       4722,  2529.7,   1.9626,  34.7395,2,  34.7372,2,    153.6,2,   153.6,2,  127.87,2,   34.64,2,    0.00,2,    2.43,2,-999.000,9,-999.000,9,  -999.0,9,  -999.0,9,  -9.0000,9,-999.0000,9, -999.00,9, -999.00,9,  -999.0,9,  -999.0,-999.000,9,-999.000,-999.000,9,  -9.0000,-999.0000,   1.7799,   -9.00
  316N145_7,       I08N,     315,          1,         11,         11,2,19950317,       1242,    -4.5000,    80.0002,       4722,  2732.6,   1.8093,  34.7338,2,  34.7315,3,    160.0,2,   159.2,2,  129.13,2,   34.45,2,    0.00,2,    2.41,2,-999.000,9,-999.000,9,  -999.0,9,  -999.0,9,  -9.0000,9,-999.0000,9, -999.00,9, -999.00,9,  -999.0,9,  -999.0,-999.000,9,-999.000,-999.000,9,  -9.0000,-999.0000,   1.6109,   -9.00
  316N145_7,       I08N,     315,          1,         10,         10,2,19950317,       1242,    -4.5000,    80.0002,       4722,  2936.2,   1.6866,  34.7303,2,  34.7287,2,    163.0,2,   162.5,2,  131.26,2,   34.35,2,    0.00,2,    2.40,2,-999.000,9,-999.000,9,  -999.0,9,  -999.0,9,  -9.0000,9,-999.0000,9, -999.00,9, -999.00,9,  -999.0,9,  -999.0,-999.000,9,-999.000,-999.000,9,  -9.0000,-999.0000,   1.4716,   -9.00
  316N145_7,       I08N,     315,          1,          9,          9,2,19950317,       1242,    -4.5000,    80.0002,       4722,  3140.0,   1.5787,  34.7268,2,  34.7248,2,    165.8,2,   165.4,2,  133.17,2,   34.25,2,    0.00,2,    2.39,2,-999.000,9,-999.000,9,  -999.0,9,  -999.0,9,  -9.0000,9,-999.0000,9, -999.00,9, -999.00,9,  -999.0,9,  -999.0,-999.000,9,-999.000,-999.000,9,  -9.0000,-999.0000,   1.3463,   -9.00
  316N145_7,       I08N,     315,          1,          8,          8,2,19950317,       1242,    -4.5000,    80.0002,       4722,  3343.4,   1.4966,  34.7242,2,  34.7214,3,    167.7,2,   167.6,2,  135.30,2,   34.25,2,    0.00,2,    2.38,2,-999.000,9,-999.000,9,  -999.0,9,  -999.0,9,  -9.0000,9,-999.0000,9, -999.00,9, -999.00,9,  -999.0,9,  -999.0,-999.000,9,-999.000,-999.000,9,  -9.0000,-999.0000,   1.2461,   -9.00
  316N145_7,       I08N,     315,          1,          7,          7,2,19950317,       1242,    -4.5000,    80.0002,       4722,  3546.7,   1.4347,  34.7219,2,  34.7200,2,    169.9,2,   170.4,2,  136.14,2,   34.15,2,    0.00,2,    2.37,2,-999.000,9,-999.000,9,  -999.0,9,  -999.0,9,  -9.0000,9,-999.0000,9, -999.00,9, -999.00,9,  -999.0,9,  -999.0,-999.000,9,-999.000,-999.000,9,  -9.0000,-999.0000,   1.1652,   -9.00
  316N145_7,       I08N,     315,          1,          6,          6,2,19950317,       1242,    -4.5000,    80.0002,       4722,  3751.6,   1.4027,  34.7207,2,  34.7187,2,    172.0,2,   172.3,2,  136.77,2,   34.10,2,    0.00,2,    2.37,2,-999.000,9,-999.000,9,  -999.0,9,  -999.0,9,  -9.0000,9,-999.0000,9, -999.00,9, -999.00,9,  -999.0,9,  -999.0,-999.000,9,-999.000,-999.000,9,  -9.0000,-999.0000,   1.1128,   -9.00
  316N145_7,       I08N,     315,          1,          5,          5,2,19950317,       1242,    -4.5000,    80.0002,       4722,  3955.5,   1.3953,  34.7198,2,  34.7182,2,    173.1,2,   173.3,2,  136.76,2,   34.10,2,    0.00,2,    2.36,2,-999.000,9,-999.000,9,  -999.0,9,  -999.0,9,  -9.0000,9,-999.0000,9, -999.00,9, -999.00,9,  -999.0,9,  -999.0,-999.000,9,-999.000,-999.000,9,  -9.0000,-999.0000,   1.0840,   -9.00
  316N145_7,       I08N,     315,          1,          4,          4,2,19950317,       1242,    -4.5000,    80.0002,       4722,  4160.3,   1.4007,  34.7193,2,  34.7176,2,    174.7,2,   174.5,2,  136.31,2,   34.00,2,    0.00,2,    2.34,2,-999.000,9,-999.000,9,  -999.0,9,  -999.0,9,  -9.0000,9,-999.0000,9, -999.00,9, -999.00,9,  -999.0,9,  -999.0,-999.000,9,-999.000,-999.000,9,  -9.0000,-999.0000,   1.0669,   -9.00
  316N145_7,       I08N,     315,          1,          3,          3,2,19950317,       1242,    -4.5000,    80.0002,       4722,  4364.8,   1.3978,  34.7187,2,  34.7153,3,    176.9,2,   177.5,2,  135.22,2,   33.86,2,    0.00,2,    2.35,2,-999.000,9,-999.000,9,  -999.0,9,  -999.0,9,  -9.0000,9,-999.0000,9, -999.00,9, -999.00,9,  -999.0,9,  -999.0,-999.000,9,-999.000,-999.000,9,  -9.0000,-999.0000,   1.0412,   -9.00
  316N145_7,       I08N,     315,          1,          2,          2,2,19950317,       1242,    -4.5000,    80.0002,       4722,  4569.7,   1.3992,  34.7184,2,  34.7174,2,    179.3,2,   179.2,2,  134.34,2,   33.71,2,    0.00,2,    2.32,2,  -0.001,2,   0.001,2,  -999.0,9,  -999.0,9,  -9.0000,9,-999.0000,9, -999.00,9, -999.00,9,  -999.0,9,  -999.0,-999.000,9,-999.000,-999.000,9,  -9.0000,-999.0000,   1.0192,   -9.00
  316N145_7,       I08N,     315,          1,          1,          1,2,19950317,       1242,    -4.5000,    80.0002,       4722,  4810.1,   1.3976,  34.7171,2,  34.7164,2,    181.2,2,   181.5,2,  133.25,2,   33.56,2,    0.00,2,    2.32,2,  -0.003,2,   0.000,2,  -999.0,9,  -999.0,9,  -9.0000,9,-999.0000,9, -999.00,9, -999.00,9,  -999.0,9,  -999.0,-999.000,9,-999.000,-999.000,9,  -9.0000,-999.0000,   0.9894,   -9.00