BOTTLE,20211124CCHSIORKP
EXPOCODE,SECT_ID,STNNBR,CASTNO,SAMPNO,BTLNBR,BTLNBR_FLAG_W,DATE,TIME,LATITUDE,LONGITUDE,DEPTH,CTDPRS,CTDTMP,CTDSAL,CTDSAL_FLAG_W,SALNTY,SALNTY_FLAG_W,CTDOXY,CTDOXY_FLAG_W,OXYGEN,OXYGEN_FLAG_W,SILCAT,SILCAT_FLAG_W,NITRAT,NITRAT_FLAG_W,NITRIT,NITRIT_FLAG_W,PHSPHT,PHSPHT_FLAG_W,CFC-11,CFC-11_FLAG_W,CFC-12,CFC-12_FLAG_W,TCARBN,TCARBN_FLAG_W,ALKALI,ALKALI_FLAG_W,TRITUM,TRITUM_FLAG_W,HELIUM,HELIUM_FLAG_W,DELHE3,DELHE3_FLAG_W,DELC13,DELC13_FLAG_W,DELC14,DELC14_FLAG_W,C14ERR,NEON,NEON_FLAG_W,NEONER,CCL4,CCL4_FLAG_W,TRITER,HELIER,THETA,DELHER
,,,,,,,,,,,METERS,DBAR,ITS-90,PSS-78,,PSS-78,,UMOL/KG,,UMOL/KG,,UMOL/KG,,UMOL/KG,,UMOL/KG,,UMOL/KG,,PMOL/KG,,PMOL/KG,,UMOL/KG,,UMOL/KG,,TU,,NMOL/KG,,PERCNT,,/MILLE,,/MILLE,,/MILLE,NMOL/KG,,NMOL/KG,PMOL/KG,,TU,NMOL/KG,DEG C,PERCNT
  316N145_7,       I08N,     284,          1,         36,         36,2,19950311,       0549,     5.5847,    80.0000,       3973,     1.8,  28.6356,  33.2342,2,  33.2332,2,    198.5,2,   200.3,2,    2.95,2,    0.13,2,    0.00,2,    0.08,2,   1.712,2,   0.978,2,  -999.0,5,  2254.7,3,  -9.0000,9,-999.0000,9, -999.00,9, -999.00,9,  -999.0,9,  -999.0,-999.000,9,-999.000,-999.000,9,  -9.0000,-999.0000,  28.6352,   -9.00
  316N145_7,       I08N,     284,          1,         35,         35,2,19950311,       0549,     5.5847,    80.0000,       3973,    23.3,  28.2267,  33.2304,2,  33.2303,2,    201.7,2,   200.8,2,    2.94,2,    0.13,2,    0.00,2,    0.08,2,   1.714,2,   0.985,2,  -999.0,9,  -999.0,9,  -9.0000,9,-999.0000,9, -999.00,9, -999.00,9,  -999.0,9,  -999.0,-999.000,9,-999.000,-999.000,9,  -9.0000,-999.0000,  28.2212,   -9.00
  316N145_7,       I08N,     284,          1,         34,         34,2,19950311,       0549,     5.5847,    80.0000,       3973,    47.9,  27.9139,  33.5283,2,  33.5522,2,    209.0,2,   198.9,2,    2.92,2,    0.13,2,    0.00,2,    0.11,2,   1.715,2,   0.973,2,  -999.0,9,  -999.0,9,  -9.0000,9,-999.0000,9, -999.00,9, -999.00,9,  -999.0,9,  -999.0,-999.000,9,-999.000,-999.000,9,  -9.0000,-999.0000,  27.9027,   -9.00
  316N145_7,       I08N,     284,          1,         33,         33,2,19950311,       0549,     5.5847,    80.0000,       3973,    72.8,  26.1133,  34.3390,2,  34.3935,2,    141.1,2,   143.0,2,    6.17,2,    6.24,2,    0.34,2,    0.55,2,-999.000,9,-999.000,9,  -999.0,9,  -999.0,9,  -9.0000,9,-999.0000,9, -999.00,9, -999.00,9,  -999.0,9,  -999.0,-999.000,9,-999.000,-999.000,9,  -9.0000,-999.0000,  26.0971,   -9.00
  316N145_7,       I08N,     284,          1,         32,         32,2,19950311,       0549,     5.5847,    80.0000,       3973,    88.3,  23.7533,  34.5606,2,  34.6596,2,     78.1,2,    75.4,2,   12.31,2,   16.42,2,    0.09,2,    1.19,2,-999.000,9,-999.000,9,  -999.0,9,  -999.0,9,  -9.0000,9,-999.0000,9, -999.00,9, -999.00,9,  -999.0,9,  -999.0,-999.000,9,-999.000,-999.000,9,  -9.0000,-999.0000,  23.7349,   -9.00
  316N145_7,       I08N,     284,          1,         31,         31,2,19950311,       0549,     5.5847,    80.0000,       3973,   103.5,  21.0939,  35.0960,2,  35.0915,2,     39.1,2,    36.1,2,   17.21,2,   22.83,2,    0.04,2,    1.66,2,-999.000,9,-999.000,9,  -999.0,9,  -999.0,9,  -9.0000,9,-999.0000,9, -999.00,9, -999.00,9,  -999.0,9,  -999.0,-999.000,9,-999.000,-999.000,9,  -9.0000,-999.0000,  21.0740,   -9.00
  316N145_7,       I08N,     284,          1,         30,         30,2,19950311,       0549,     5.5847,    80.0000,       3973,   119.0,  18.7429,  35.0744,2,  35.0764,2,     21.5,2,    20.5,2,   21.71,2,   26.22,2,    0.01,2,    1.90,2,   0.857,2,   0.443,2,  -999.0,9,  -999.0,9,  -9.0000,9,-999.0000,9, -999.00,9, -999.00,9,  -999.0,9,  -999.0,-999.000,9,-999.000,-999.000,9,  -9.0000,-999.0000,  18.7219,   -9.00
  316N145_7,       I08N,     284,          1,         29,         29,2,19950311,       0549,     5.5847,    80.0000,       3973,   128.6,  17.8198,  35.0110,2,  34.9744,2,     16.9,2,    17.0,2,   25.19,2,   27.67,2,    0.02,2,    2.02,2,   0.699,2,   0.354,2,  -999.0,9,  -999.0,9,  -9.0000,9,-999.0000,9, -999.00,9, -999.00,9,  -999.0,9,  -999.0,-999.000,9,-999.000,-999.000,9,  -9.0000,-999.0000,  17.7979,   -9.00
  316N145_7,       I08N,     284,          1,         28,         28,2,19950311,       0549,     5.5847,    80.0000,       3973,   152.9,  15.8967,  34.9475,2,  34.9482,2,     22.7,2,    23.6,2,   28.04,2,   28.66,2,    0.01,2,    2.07,2,   0.558,2,   0.287,2,  -999.0,9,  -999.0,9,  -9.0000,9,-999.0000,9, -999.00,9, -999.00,9,  -999.0,9,  -999.0,-999.000,9,-999.000,-999.000,9,  -9.0000,-999.0000,  15.8726,   -9.00
  316N145_7,       I08N,     284,          1,         27,         27,2,19950311,       0549,     5.5847,    80.0000,       3973,   183.4,  14.9664,  35.0417,2,  35.0356,2,     22.7,2,    23.8,2,   28.02,2,   29.27,2,    0.00,2,    2.12,2,   0.529,2,   0.266,2,  -999.0,9,  -999.0,9,  -9.0000,9,-999.0000,9, -999.00,9, -999.00,9,  -999.0,9,  -999.0,-999.000,9,-999.000,-999.000,9,  -9.0000,-999.0000,  14.9387,   -9.00
  316N145_7,       I08N,     284,          1,         26,         26,2,19950311,       0549,     5.5847,    80.0000,       3973,   222.2,  13.3895,  35.0682,2,  35.0695,2,     14.9,2,  -999.0,9,   31.29,2,   31.20,2,    0.00,2,    2.28,2,-999.000,9,-999.000,9,  -999.0,9,  -999.0,9,  -9.0000,9,-999.0000,9, -999.00,9, -999.00,9,  -999.0,9,  -999.0,-999.000,9,-999.000,-999.000,9,  -9.0000,-999.0000,  13.3582,   -9.00
  316N145_7,       I08N,     284,          1,         25,         25,2,19950311,       0549,     5.5847,    80.0000,       3973,   261.9,  12.4858,  35.0997,2,  35.0982,2,     24.1,2,    22.5,2,   31.27,2,   31.33,2,    0.00,2,    2.26,2,-999.000,9,-999.000,9,  -999.0,9,  -999.0,9,  -9.0000,9,-999.0000,9, -999.00,9, -999.00,9,  -999.0,9,  -999.0,-999.000,9,-999.000,-999.000,9,  -9.0000,-999.0000,  12.4506,   -9.00
  316N145_7,       I08N,     284,          1,         24,         24,2,19950311,       0549,     5.5847,    80.0000,       3973,   302.9,  11.8160,  35.1068,2,  35.1061,2,     30.6,2,    32.9,2,   31.67,2,   31.33,2,    0.00,2,    2.24,2,   0.353,2,   0.153,2,  -999.0,9,  -999.0,9,  -9.0000,9,-999.0000,9, -999.00,9, -999.00,9,  -999.0,9,  -999.0,-999.000,9,-999.000,-999.000,9,  -9.0000,-999.0000,  11.7766,   -9.00
  316N145_7,       I08N,     284,          1,         23,         23,2,19950311,       0549,     5.5847,    80.0000,       3973,   343.4,  11.3838,  35.1084,2,  35.1083,2,     31.3,2,    36.8,2,   32.88,2,   31.56,2,    0.00,2,    2.25,2,-999.000,9,-999.000,9,  -999.0,9,  -999.0,9,  -9.0000,9,-999.0000,9, -999.00,9, -999.00,9,  -999.0,9,  -999.0,-999.000,9,-999.000,-999.000,9,  -9.0000,-999.0000,  11.3402,   -9.00
  316N145_7,       I08N,     284,          1,         22,         22,2,19950311,       0549,     5.5847,    80.0000,       3973,   443.9,  10.3455,  35.0888,2,  35.0874,2,     32.4,2,    34.8,2,   41.69,2,   33.49,2,    0.00,2,    2.44,2,   0.130,6,   0.060,6,  -999.0,9,  -999.0,9,  -9.0000,9,-999.0000,9, -999.00,9, -999.00,9,  -999.0,9,  -999.0,-999.000,9,-999.000,-999.000,9,  -9.0000,-999.0000,  10.2922,   -9.00
  316N145_7,       I08N,     284,          1,         21,         21,2,19950311,       0549,     5.5847,    80.0000,       3973,   545.2,   9.6282,  35.0594,2,  35.0594,2,     25.7,2,    25.1,2,   51.32,2,   35.38,2,    0.00,2,    2.62,2,   0.053,2,   0.026,2,  -999.0,9,  -999.0,9,  -9.0000,9,-999.0000,9, -999.00,9, -999.00,9,  -999.0,9,  -999.0,-999.000,9,-999.000,-999.000,9,  -9.0000,-999.0000,   9.5652,   -9.00
  316N145_7,       I08N,     284,          1,         20,         20,2,19950311,       0549,     5.5847,    80.0000,       3973,   645.3,   8.7784,  35.0125,2,  35.0100,2,     23.5,2,    22.7,2,   63.02,2,   36.99,2,    0.00,2,    2.75,2,   0.018,2,   0.010,2,  -999.0,9,  -999.0,9,  -9.0000,9,-999.0000,9, -999.00,9, -999.00,9,  -999.0,9,  -999.0,-999.000,9,-999.000,-999.000,9,  -9.0000,-999.0000,   8.7076,   -9.00
  316N145_7,       I08N,     284,          1,         19,         19,2,19950311,       0549,     5.5847,    80.0000,       3973,   746.4,   8.2613,  35.0057,2,  35.0051,2,     30.0,2,    29.7,2,   67.94,2,   36.99,2,    0.00,2,    2.76,2,   0.015,2,   0.008,2,  -999.0,9,  -999.0,9,  -9.0000,9,-999.0000,9, -999.00,9, -999.00,9,  -999.0,9,  -999.0,-999.000,9,-999.000,-999.000,9,  -9.0000,-999.0000,   8.1816,   -9.00
  316N145_7,       I08N,     284,          1,         18,         18,2,19950311,       0549,     5.5847,    80.0000,       3973,   847.2,   7.7241,  34.9886,2,  34.9886,2,     32.1,2,    33.4,2,   74.92,2,   37.36,2,    0.00,2,    2.80,2,   0.008,2,   0.005,2,  -999.0,9,  -999.0,9,  -9.0000,9,-999.0000,9, -999.00,9, -999.00,9,  -999.0,9,  -999.0,-999.000,9,-999.000,-999.000,9,  -9.0000,-999.0000,   7.6365,   -9.00
  316N145_7,       I08N,     284,          1,         17,         17,2,19950311,       0549,     5.5847,    80.0000,       3973,   947.0,   7.0585,  34.9522,2,  34.9516,2,     39.6,2,    40.1,2,   82.54,2,   37.69,2,    0.00,2,    2.82,2,   0.005,2,   0.003,2,  -999.0,9,  -999.0,9,  -9.0000,9,   1.8370,2,    9.99,2, -999.00,9,  -999.0,9,  -999.0,-999.000,9,-999.000,-999.000,9,  -9.0000,-999.0000,   6.9647,   -9.00
  316N145_7,       I08N,     284,          1,         16,         16,2,19950311,       0549,     5.5847,    80.0000,       3973,  1048.0,   6.4627,  34.9314,2,  34.9309,2,     46.5,2,    47.5,2,   89.14,2,   37.69,2,    0.00,2,    2.83,2,   0.003,2,   0.002,2,  -999.0,9,  -999.0,9,  -9.0000,9,   1.8350,2,   10.89,2, -999.00,9,  -999.0,9,  -999.0,-999.000,9,-999.000,-999.000,9,  -9.0000,-999.0000,   6.3628,   -9.00
  316N145_7,       I08N,     284,          1,         15,         15,2,19950311,       0549,     5.5847,    80.0000,       3973,  1159.6,   5.8206,  34.8990,2,  34.9012,2,     53.1,2,    56.1,2,   96.17,2,   37.73,2,    0.00,2,    2.83,2,   0.002,2,   0.001,2,  -999.0,9,  -999.0,9,  -9.0000,9,-999.0000,9, -999.00,9, -999.00,9,  -999.0,9,  -999.0,-999.000,9,-999.000,-999.000,9,  -9.0000,-999.0000,   5.7148,   -9.00
  316N145_7,       I08N,     284,          1,         14,         14,2,19950311,       0549,     5.5847,    80.0000,       3973,  1360.9,   5.1250,  34.8741,2,  34.8739,2,     68.8,2,    68.3,2,  103.65,2,   37.54,2,    0.00,2,    2.80,2,   0.000,2,  -0.001,2,  -999.0,9,  -999.0,9,  -9.0000,9,   1.8520,2,   12.35,2, -999.00,9,  -999.0,9,  -999.0,-999.000,9,-999.000,-999.000,9,  -9.0000,-999.0000,   5.0060,   -9.00
  316N145_7,       I08N,     284,          1,         13,         13,2,19950311,       0549,     5.5847,    80.0000,       3973,  1563.3,   4.1288,  34.8359,2,  34.8389,2,     85.9,2,    87.9,2,  113.67,2,   37.11,2,    0.00,2,    2.75,2,   0.006,6,   0.003,6,  -999.0,9,  -999.0,9,  -9.0000,9,-999.0000,9, -999.00,9, -999.00,9,  -999.0,9,  -999.0,-999.000,9,-999.000,-999.000,9,  -9.0000,-999.0000,   4.0016,   -9.00
  316N145_7,       I08N,     284,          1,         12,         12,2,19950311,       0549,     5.5847,    80.0000,       3973,  1765.1,   3.4595,  34.8099,2,  34.8106,2,    100.3,7,    99.5,2,  121.45,2,   36.87,2,    0.00,2,    2.72,2,-999.000,9,-999.000,9,  -999.0,9,  -999.0,9,  -9.0000,9,   1.8710,2,   12.90,2, -999.00,9,  -999.0,9,  -999.0,-999.000,9,-999.000,-999.000,9,  -9.0000,-999.0000,   3.3222,   -9.00
  316N145_7,       I08N,     284,          1,         11,         11,2,19950311,       0549,     5.5847,    80.0000,       3973,  1917.1,   2.9581,  34.7882,2,  34.7889,2,    112.0,7,   113.2,2,  126.09,2,   36.30,2,    0.00,2,    2.66,2,   0.005,2,  -0.001,2,  -999.0,9,  -999.0,9,  -9.0000,9,   1.8740,2,   13.51,2, -999.00,9,  -999.0,9,  -999.0,-999.000,9,-999.000,-999.000,9,  -9.0000,-999.0000,   2.8141,   -9.00
  316N145_7,       I08N,     284,          1,         10,         10,2,19950311,       0549,     5.5847,    80.0000,       3973,  2120.2,   2.6565,  34.7736,2,  34.7734,2,    121.4,7,   120.3,2,  129.90,2,   36.15,2,    0.00,2,    2.64,2,-999.000,9,-999.000,9,  -999.0,9,  -999.0,9,  -9.0000,9,   1.8840,2,   13.45,2, -999.00,9,  -999.0,9,  -999.0,-999.000,9,-999.000,-999.000,9,  -9.0000,-999.0000,   2.4989,   -9.00
  316N145_7,       I08N,     284,          1,          9,          9,2,19950311,       0549,     5.5847,    80.0000,       3973,  2322.5,   2.3114,  34.7574,2,  34.7587,2,    130.0,7,   129.3,2,  134.16,2,   35.81,2,    0.00,2,    2.59,2,  -0.003,2,   0.001,2,  -999.0,9,  -999.0,9,  -9.0000,9,   1.8740,2,   13.45,2, -999.00,9,  -999.0,9,  -999.0,-999.000,9,-999.000,-999.000,9,  -9.0000,-999.0000,   2.1413,   -9.00
  316N145_7,       I08N,     284,          1,          8,          8,2,19950311,       0549,     5.5847,    80.0000,       3973,  2526.3,   2.0903,  34.7479,2,  34.7476,2,    136.8,7,   135.9,2,  136.93,2,   35.57,2,    0.00,2,    2.55,2,-999.000,9,-999.000,9,  -999.0,9,  -999.0,9,  -9.0000,9,   1.8830,2,   13.91,2, -999.00,9,  -999.0,9,  -999.0,-999.000,9,-999.000,-999.000,9,  -9.0000,-999.0000,   1.9055,   -9.00
  316N145_7,       I08N,     284,          1,          7,          7,2,19950311,       0549,     5.5847,    80.0000,       3973,  2676.6,   1.9129,  34.7399,2,  34.7396,2,    142.1,7,   142.1,2,  138.21,2,   35.38,2,    0.00,2,    2.53,2,   0.000,2,   0.002,2,  -999.0,9,  -999.0,9,  -9.0000,9,-999.0000,9, -999.00,9, -999.00,9,  -999.0,9,  -999.0,-999.000,9,-999.000,-999.000,9,  -9.0000,-999.0000,   1.7176,   -9.00
  316N145_7,       I08N,     284,          1,          6,          6,2,19950311,       0549,     5.5847,    80.0000,       3973,  2829.0,   1.8439,  34.7366,2,  34.7370,2,    145.0,7,   144.6,2,  139.05,2,   35.28,2,    0.00,2,    2.52,2,-999.000,9,-999.000,9,  -999.0,9,  -999.0,9,  -9.0000,9,   1.8880,2,   13.02,2, -999.00,9,  -999.0,9,  -999.0,-999.000,9,-999.000,-999.000,9,  -9.0000,-999.0000,   1.6357,   -9.00
  316N145_7,       I08N,     284,          1,          5,          5,2,19950311,       0549,     5.5847,    80.0000,       3973,  3031.3,   1.7372,  34.7326,2,  34.7325,2,    148.7,7,   147.1,2,  141.41,2,   35.23,2,    0.00,2,    2.51,2,  -0.007,2,  -0.001,2,  -999.0,9,  -999.0,9,  -9.0000,9,   1.8960,2,   12.92,2, -999.00,9,  -999.0,9,  -999.0,-999.000,9,-999.000,-999.000,9,  -9.0000,-999.0000,   1.5118,   -9.00
  316N145_7,       I08N,     284,          1,          4,          4,2,19950311,       0549,     5.5847,    80.0000,       3973,  3283.3,   1.5562,  34.7256,2,  34.7246,2,    152.7,7,   151.9,2,  144.86,2,   35.13,2,    0.00,2,    2.50,2,-999.000,9,-999.000,9,  -999.0,9,  -999.0,9,  -9.0000,9,-999.0000,9, -999.00,9, -999.00,9,  -999.0,9,  -999.0,-999.000,9,-999.000,-999.000,9,  -9.0000,-999.0000,   1.3103,   -9.00
  316N145_7,       I08N,     284,          1,          3,          3,2,19950311,       0549,     5.5847,    80.0000,       3973,  3535.8,   1.4685,  34.7219,2,  34.7221,2,    156.5,7,   156.7,2,  145.27,2,   34.99,2,    0.00,2,    2.47,2,  -0.005,2,  -0.002,2,  -999.0,9,  -999.0,9,  -9.0000,9,   1.8870,2,   12.20,2, -999.00,9,  -999.0,9,  -999.0,-999.000,9,-999.000,-999.000,9,  -9.0000,-999.0000,   1.1993,   -9.00
  316N145_7,       I08N,     284,          1,          2,          2,2,19950311,       0549,     5.5847,    80.0000,       3973,  3789.5,   1.4294,  34.7202,2,  34.7188,2,    161.1,7,   161.1,2,  144.39,2,   34.80,2,    0.00,2,    2.46,2,   0.002,2,   0.006,2,  -999.0,9,  -999.0,9,  -9.0000,9,-999.0000,9, -999.00,9, -999.00,9,  -999.0,9,  -999.0,-999.000,9,-999.000,-999.000,9,  -9.0000,-999.0000,   1.1348,   -9.00
  316N145_7,       I08N,     284,          1,          1,          1,2,19950311,       0549,     5.5847,    80.0000,       3973,  4043.6,   1.4062,  34.7189,2,-999.0000,5,    164.0,7,   164.6,2,  143.72,2,   34.60,2,    0.00,2,    2.43,2,   0.005,2,   0.007,2,  -999.0,9,  -999.0,9,  -9.0000,9,   1.8970,2,   11.62,2, -999.00,9,  -999.0,9,  -999.0,-999.000,9,-999.000,-999.000,9,  -9.0000,-999.0000,   1.0850,   -9.00