BOTTLE,20211124CCHSIORKP
EXPOCODE,SECT_ID,STNNBR,CASTNO,SAMPNO,BTLNBR,BTLNBR_FLAG_W,DATE,TIME,LATITUDE,LONGITUDE,DEPTH,CTDPRS,CTDTMP,CTDSAL,CTDSAL_FLAG_W,SALNTY,SALNTY_FLAG_W,CTDOXY,CTDOXY_FLAG_W,OXYGEN,OXYGEN_FLAG_W,SILCAT,SILCAT_FLAG_W,NITRAT,NITRAT_FLAG_W,NITRIT,NITRIT_FLAG_W,PHSPHT,PHSPHT_FLAG_W,CFC-11,CFC-11_FLAG_W,CFC-12,CFC-12_FLAG_W,TCARBN,TCARBN_FLAG_W,ALKALI,ALKALI_FLAG_W,TRITUM,TRITUM_FLAG_W,HELIUM,HELIUM_FLAG_W,DELHE3,DELHE3_FLAG_W,DELC13,DELC13_FLAG_W,DELC14,DELC14_FLAG_W,C14ERR,NEON,NEON_FLAG_W,NEONER,CCL4,CCL4_FLAG_W,TRITER,HELIER,THETA,DELHER
,,,,,,,,,,,METERS,DBAR,ITS-90,PSS-78,,PSS-78,,UMOL/KG,,UMOL/KG,,UMOL/KG,,UMOL/KG,,UMOL/KG,,UMOL/KG,,PMOL/KG,,PMOL/KG,,UMOL/KG,,UMOL/KG,,TU,,NMOL/KG,,PERCNT,,/MILLE,,/MILLE,,/MILLE,NMOL/KG,,NMOL/KG,PMOL/KG,,TU,NMOL/KG,DEG C,PERCNT
  316N145_7,      TRANS,     381,          1,         36,         36,2,19950401,       0259,   -29.1830,    85.3943,       4348,     3.6,  23.6194,  36.0112,2,  36.0105,2,    212.3,2,   212.6,2,    3.02,2,    0.15,2,    0.00,2,    0.11,2,-999.000,9,-999.000,9,  -999.0,9,  -999.0,9,   1.0898,2,   1.7189,2,   -1.38,2, -999.00,9,  -999.0,9,  -999.0,   6.839,2,   0.034,-999.000,9,   0.0039,   0.0086,  23.6186,    0.14
  316N145_7,      TRANS,     381,          1,         35,         35,2,19950401,       0259,   -29.1830,    85.3943,       4348,    30.8,  23.5793,  36.0117,2,  36.0073,2,    206.2,2,   214.3,2,    3.01,2,    0.15,2,    0.00,2,    0.11,2,-999.000,9,-999.000,9,  -999.0,9,  -999.0,9,  -9.0000,9,-999.0000,9, -999.00,9, -999.00,9,  -999.0,9,  -999.0,-999.000,9,-999.000,-999.000,9,  -9.0000,-999.0000,  23.5728,   -9.00
  316N145_7,      TRANS,     381,          1,         34,         34,2,19950401,       0259,   -29.1830,    85.3943,       4348,    51.0,  22.1995,  35.9387,2,  35.8575,2,    226.1,2,   237.7,2,    2.58,2,    0.16,2,    0.00,2,    0.14,2,-999.000,9,-999.000,9,  -999.0,9,  -999.0,9,   0.9900,2,   1.7244,2,   -1.19,2, -999.00,9,  -999.0,9,  -999.0,   6.972,2,   0.035,-999.000,9,   0.0038,   0.0086,  22.1893,    0.14
  316N145_7,      TRANS,     381,          1,         33,         33,2,19950401,       0259,   -29.1830,    85.3943,       4348,    96.2,  16.2496,  35.5802,2,  35.5558,2,    259.5,2,   259.4,2,    2.36,2,    0.16,2,    0.00,2,    0.20,2,-999.000,9,-999.000,9,  -999.0,9,  -999.0,9,   0.8615,2,   1.8061,2,   -1.31,2, -999.00,9,  -999.0,9,  -999.0,   7.430,2,   0.037,-999.000,9,   0.0035,   0.0090,  16.2342,    0.14
  316N145_7,      TRANS,     381,          1,         32,         32,2,19950401,       0259,   -29.1830,    85.3943,       4348,   141.3,  14.0993,  35.3757,2,  35.3629,2,    242.5,2,   239.9,2,    2.97,2,    3.77,2,    0.44,2,    0.46,2,-999.000,9,-999.000,9,  -999.0,9,  -999.0,9,   0.8222,2,   1.7601,2,   -1.22,2, -999.00,9,  -999.0,9,  -999.0,   7.305,2,   0.037,-999.000,9,   0.0035,   0.0088,  14.0788,    0.14
  316N145_7,      TRANS,     381,          1,         31,         31,2,19950401,       0259,   -29.1830,    85.3943,       4348,   181.4,  13.3742,  35.2940,2,  35.2916,2,    230.5,2,   233.0,2,    3.17,2,    6.40,2,    0.01,2,    0.58,2,-999.000,9,-999.000,9,  -999.0,9,  -999.0,9,   0.8029,2,   1.7665,2,   -0.99,2, -999.00,9,  -999.0,9,  -999.0,   7.350,2,   0.037,-999.000,9,   0.0034,   0.0088,  13.3487,    0.14
  316N145_7,      TRANS,     381,          1,         30,         30,2,19950401,       0259,   -29.1830,    85.3943,       4348,   217.0,  12.7785,  35.2095,2,  35.2189,2,    229.7,2,   232.4,2,    3.57,2,    7.82,2,    0.01,2,    0.66,2,-999.000,9,-999.000,9,  -999.0,9,  -999.0,9,   0.7741,2,   1.7570,2,   -0.70,2, -999.00,9,  -999.0,9,  -999.0,   7.335,2,   0.037,-999.000,9,   0.0034,   0.0088,  12.7489,    0.14
  316N145_7,      TRANS,     381,          1,         29,         29,2,19950401,       0259,   -29.1830,    85.3943,       4348,   257.1,  12.2569,  35.1282,2,  35.1326,2,    231.6,2,   235.3,2,    3.97,2,    9.14,2,    0.00,2,    0.73,2,-999.000,9,-999.000,9,  -999.0,9,  -999.0,9,  -9.0000,9,-999.0000,9, -999.00,9, -999.00,9,  -999.0,9,  -999.0,-999.000,9,-999.000,-999.000,9,  -9.0000,-999.0000,  12.2228,   -9.00
  316N145_7,      TRANS,     381,          1,         28,         28,2,19950401,       0259,   -29.1830,    85.3943,       4348,   277.5,  12.1222,  35.1087,2,  35.1107,2,    234.1,2,   236.3,2,    3.96,2,    9.49,2,    0.00,2,    0.75,2,-999.000,9,-999.000,9,  -999.0,9,  -999.0,9,   0.7319,2,   1.7464,2,   -0.63,2, -999.00,9,  -999.0,9,  -999.0,   7.298,2,   0.036,-999.000,9,   0.0033,   0.0087,  12.0856,    0.14
  316N145_7,      TRANS,     381,          1,         27,         27,2,19950401,       0259,   -29.1830,    85.3943,       4348,   337.0,  11.6076,  35.0291,2,  35.0324,2,    237.0,2,   238.4,2,    4.36,2,   10.61,2,    0.00,2,    0.82,2,-999.000,9,-999.000,9,  -999.0,9,  -999.0,9,   0.6875,2,   1.7713,2,   -0.58,2, -999.00,9,  -999.0,9,  -999.0,   7.421,2,   0.037,-999.000,9,   0.0032,   0.0089,  11.5643,    0.14
  316N145_7,      TRANS,     381,          1,         26,         26,2,19950401,       0259,   -29.1830,    85.3943,       4348,   377.8,  11.4491,  35.0117,2,  35.0129,2,    236.6,2,   237.6,2,    4.35,2,   10.86,2,    0.00,2,    0.83,2,-999.000,9,-999.000,9,  -999.0,9,  -999.0,9,  -9.0000,9,-999.0000,9, -999.00,9, -999.00,9,  -999.0,9,  -999.0,-999.000,9,-999.000,-999.000,9,  -9.0000,-999.0000,  11.4009,   -9.00
  316N145_7,      TRANS,     381,          1,         25,         25,2,19950401,       0259,   -29.1830,    85.3943,       4348,   437.6,  10.9533,  34.9283,2,  34.9298,2,    239.4,2,   240.6,2,    4.75,2,   12.03,2,    0.00,2,    0.90,2,-999.000,9,-999.000,9,  -999.0,9,  -999.0,9,   0.6355,2,   1.7576,2,   -0.43,2, -999.00,9,  -999.0,9,  -999.0,   7.409,2,   0.037,-999.000,9,   0.0031,   0.0088,  10.8989,    0.14
  316N145_7,      TRANS,     381,          1,         24,         24,2,19950401,       0259,   -29.1830,    85.3943,       4348,   537.9,  10.1592,  34.8103,2,  34.8116,2,    238.1,2,   237.4,2,    5.36,2,   14.28,2,    0.00,2,    1.04,2,-999.000,9,-999.000,9,  -999.0,9,  -999.0,9,   0.5470,2,   1.7652,2,   -0.21,2, -999.00,9,  -999.0,9,  -999.0,   7.468,2,   0.037,-999.000,9,   0.0030,   0.0088,  10.0952,    0.14
  316N145_7,      TRANS,     381,          1,         23,         23,2,19950401,       0259,   -29.1830,    85.3943,       4348,   638.8,   9.2721,  34.6836,2,  34.6844,2,    234.8,2,   229.3,2,    6.81,2,   17.41,2,    0.00,2,    1.23,2,-999.000,9,-999.000,9,  -999.0,9,  -999.0,9,   0.4342,2,   1.7607,2,    0.44,2, -999.00,9,  -999.0,9,  -999.0,   7.479,2,   0.037,-999.000,9,   0.0028,   0.0088,   9.2000,    0.14
  316N145_7,      TRANS,     381,          1,         22,         22,2,19950401,       0259,   -29.1830,    85.3943,       4348,   739.4,   8.1333,  34.5684,2,  34.5673,2,    220.7,2,   213.2,2,   11.57,2,   21.67,2,    0.00,2,    1.49,2,-999.000,9,-999.000,9,  -999.0,9,  -999.0,9,  -9.0000,9,-999.0000,9, -999.00,9, -999.00,9,  -999.0,9,  -999.0,-999.000,9,-999.000,-999.000,9,  -9.0000,-999.0000,   8.0556,   -9.00
  316N145_7,      TRANS,     381,          1,         21,         21,2,19950401,       0259,   -29.1830,    85.3943,       4348,   839.7,   6.5757,  34.4655,2,  34.4666,2,    203.0,2,   198.3,2,   21.54,2,   26.44,2,    0.00,2,    1.82,2,-999.000,9,-999.000,9,  -999.0,9,  -999.0,9,   0.1357,2,   1.8171,2,    2.02,2, -999.00,9,  -999.0,9,  -999.0,   7.782,2,   0.039,-999.000,9,   0.0024,   0.0091,   6.4968,    0.14
  316N145_7,      TRANS,     381,          1,         20,         20,2,19950401,       0259,   -29.1830,    85.3943,       4348,   940.8,   5.3798,  34.4135,2,  34.4147,2,    194.6,2,   191.0,2,   32.54,2,   29.64,2,    0.00,2,    2.04,2,-999.000,9,-999.000,9,  -999.0,9,  -999.0,9,  -9.0000,9,-999.0000,9, -999.00,9, -999.00,9,  -999.0,9,  -999.0,-999.000,9,-999.000,-999.000,9,  -9.0000,-999.0000,   5.2993,   -9.00
  316N145_7,      TRANS,     381,          1,         19,         19,2,19950401,       0259,   -29.1830,    85.3943,       4348,  1011.6,   4.6334,  34.4109,2,  34.4143,2,    186.4,2,   182.7,2,   42.70,2,   31.52,2,    0.00,2,    2.19,2,-999.000,9,-999.000,9,  -999.0,9,  -999.0,9,   0.0441,2,   1.8090,2,    4.43,2, -999.00,9,  -999.0,9,  -999.0,   7.851,2,   0.039,-999.000,9,   0.0022,   0.0091,   4.5520,    0.14
  316N145_7,      TRANS,     381,          1,         18,         18,2,19950401,       0259,   -29.1830,    85.3943,       4348,  1111.8,   4.0582,  34.4573,2,  34.4579,2,    169.4,2,   165.8,2,   57.65,2,   33.40,2,    0.00,2,    2.34,2,-999.000,9,-999.000,9,  -999.0,9,  -999.0,9,  -9.0000,9,-999.0000,9, -999.00,9, -999.00,9,  -999.0,9,  -999.0,-999.000,9,-999.000,-999.000,9,  -9.0000,-999.0000,   3.9728,   -9.00
  316N145_7,      TRANS,     381,          1,         17,         17,2,19950401,       0259,   -29.1830,    85.3943,       4348,  1260.2,   3.5378,  34.5180,2,  34.5180,2,    157.4,2,   156.1,2,   70.53,2,   34.44,2,    0.00,2,    2.42,2,-999.000,9,-999.000,9,  -999.0,9,  -999.0,9,   0.0069,2,   1.8410,2,    8.96,2, -999.00,9,  -999.0,9,  -999.0,   7.956,2,   0.040,-999.000,9,   0.0022,   0.0093,   3.4445,    0.14
  316N145_7,      TRANS,     381,          1,         16,         16,2,19950401,       0259,   -29.1830,    85.3943,       4348,  1415.1,   3.2729,  34.5872,2,  34.5886,2,    150.6,2,   149.0,2,   81.34,2,   34.63,2,    0.00,2,    2.45,2,-999.000,9,-999.000,9,  -999.0,9,  -999.0,9,   0.0020,2,   1.8510,2,   10.36,2, -999.00,9,  -999.0,9,  -999.0,   7.971,2,   0.040,-999.000,9,   0.0022,   0.0093,   3.1691,    0.14
  316N145_7,      TRANS,     381,          1,         15,         15,2,19950401,       0259,   -29.1830,    85.3943,       4348,  1617.4,   3.0317,  34.6558,2,  34.6566,2,    148.0,2,   147.6,2,   91.77,2,   34.43,2,    0.00,2,    2.44,2,-999.000,9,-999.000,9,  -999.0,9,  -999.0,9,   0.0023,2,   1.8670,2,   11.86,2, -999.00,9,  -999.0,9,  -999.0,   7.798,2,   0.039,-999.000,9,   0.0022,   0.0091,   2.9133,    0.14
  316N145_7,      TRANS,     381,          1,         14,         14,2,19950401,       0259,   -29.1830,    85.3943,       4348,  1817.8,   2.7588,  34.6940,2,  34.6945,2,    151.8,2,   151.3,2,   98.45,2,   34.13,2,    0.00,2,    2.42,2,-999.000,9,-999.000,9,  -999.0,9,  -999.0,9,  -9.0000,9,   1.8700,2,   12.51,2, -999.00,9,  -999.0,9,  -999.0,-999.000,9,-999.000,-999.000,9,  -9.0000,-999.0000,   2.6267,   -9.00
  316N145_7,      TRANS,     381,          1,         13,         13,2,19950401,       0259,   -29.1830,    85.3943,       4348,  2021.2,   2.5026,  34.7107,2,  34.7118,2,    157.5,2,   159.4,2,  102.62,2,   33.63,2,    0.00,2,    2.38,2,-999.000,9,-999.000,9,  -999.0,9,  -999.0,9,  -9.0000,9,   1.8750,2,   13.98,2, -999.00,9,  -999.0,9,  -999.0,-999.000,9,-999.000,-999.000,9,  -9.0000,-999.0000,   2.3564,   -9.00
  316N145_7,      TRANS,     381,          1,         12,         12,2,19950401,       0259,   -29.1830,    85.3943,       4348,  2226.0,   2.2473,  34.7184,2,  34.7181,2,    165.7,2,   169.3,2,  103.22,2,   32.98,2,    0.00,2,    2.32,2,-999.000,9,-999.000,9,  -999.0,9,  -999.0,9,  -9.0000,9,   1.8790,2,   14.64,2, -999.00,9,  -999.0,9,  -999.0,-999.000,9,-999.000,-999.000,9,  -9.0000,-999.0000,   2.0871,   -9.00
  316N145_7,      TRANS,     381,          1,         11,         11,2,19950401,       0259,   -29.1830,    85.3943,       4348,  2428.1,   2.0183,  34.7264,2,  34.7269,2,    179.7,2,   180.0,2,  101.51,2,   32.19,2,    0.00,2,    2.24,2,-999.000,9,-999.000,9,  -999.0,9,  -999.0,9,  -9.0000,9,   1.8870,2,   15.20,2, -999.00,9,  -999.0,9,  -999.0,-999.000,9,-999.000,-999.000,9,  -9.0000,-999.0000,   1.8439,   -9.00
  316N145_7,      TRANS,     381,          1,         10,         10,2,19950401,       0259,   -29.1830,    85.3943,       4348,  2631.3,   1.8565,  34.7328,2,  34.7328,2,    186.7,2,   187.4,2,  101.69,2,   31.60,2,    0.00,2,    2.20,2,-999.000,9,-999.000,9,  -999.0,9,  -999.0,9,  -9.0000,9,   1.9000,2,   14.79,2, -999.00,9,  -999.0,9,  -999.0,-999.000,9,-999.000,-999.000,9,  -9.0000,-999.0000,   1.6666,   -9.00
  316N145_7,      TRANS,     381,          1,          9,          9,2,19950401,       0259,   -29.1830,    85.3943,       4348,  2834.9,   1.7122,  34.7345,2,  34.7346,2,    191.9,2,   191.0,2,  104.81,2,   31.55,2,    0.00,2,    2.19,2,-999.000,9,-999.000,9,  -999.0,9,  -999.0,9,  -9.0000,9,   1.8760,2,   13.99,2, -999.00,9,  -999.0,9,  -999.0,-999.000,9,-999.000,-999.000,9,  -9.0000,-999.0000,   1.5062,   -9.00
  316N145_7,      TRANS,     381,          1,          8,          8,2,19950401,       0259,   -29.1830,    85.3943,       4348,  3038.7,   1.6035,  34.7334,2,  34.7342,2,    194.0,2,   193.6,2,  111.96,2,   31.84,2,    0.00,2,    2.21,2,-999.000,9,-999.000,9,  -999.0,9,  -999.0,9,  -9.0000,9,   1.8750,2,   12.62,2, -999.00,9,  -999.0,9,  -999.0,-999.000,9,-999.000,-999.000,9,  -9.0000,-999.0000,   1.3805,   -9.00
  316N145_7,      TRANS,     381,          1,          7,          7,2,19950401,       0259,   -29.1830,    85.3943,       4348,  3240.3,   1.4869,  34.7300,2,  34.7302,2,    194.1,2,   193.9,2,  112.13,2,   31.84,2,    0.00,2,    2.21,2,-999.000,9,-999.000,9,  -999.0,9,  -999.0,9,  -9.0000,9,   1.8820,2,   11.73,2, -999.00,9,  -999.0,9,  -999.0,-999.000,9,-999.000,-999.000,9,  -9.0000,-999.0000,   1.2469,   -9.00
  316N145_7,      TRANS,     381,          1,          6,          6,2,19950401,       0259,   -29.1830,    85.3943,       4348,  3444.9,   1.4114,  34.7253,2,  34.7257,2,    191.3,2,   191.7,2,  118.04,2,   32.28,2,    0.00,2,    2.24,2,-999.000,9,-999.000,9,  -999.0,9,  -999.0,9,  -9.0000,9,   1.8780,2,   11.27,2, -999.00,9,  -999.0,9,  -999.0,-999.000,9,-999.000,-999.000,9,  -9.0000,-999.0000,   1.1529,   -9.00
  316N145_7,      TRANS,     381,          1,          5,          5,2,19950401,       0259,   -29.1830,    85.3943,       4348,  3650.5,   1.3643,  34.7231,2,  34.7231,2,    193.2,2,   193.1,2,  118.85,2,   32.33,2,    0.00,2,    2.25,2,-999.000,9,-999.000,9,  -999.0,9,  -999.0,9,  -9.0000,9,   1.8770,2,   11.44,2, -999.00,9,  -999.0,9,  -999.0,-999.000,9,-999.000,-999.000,9,  -9.0000,-999.0000,   1.0859,   -9.00
  316N145_7,      TRANS,     381,          1,          4,          4,2,19950401,       0259,   -29.1830,    85.3943,       4348,  3854.2,   1.3337,  34.7214,2,  34.7214,2,    193.8,2,   194.1,2,  120.09,2,   32.38,2,    0.00,2,    2.25,2,-999.000,9,-999.000,9,  -999.0,9,  -999.0,9,  -9.0000,9,   1.8930,2,   11.24,2, -999.00,9,  -999.0,9,  -999.0,-999.000,9,-999.000,-999.000,9,  -9.0000,-999.0000,   1.0348,   -9.00
  316N145_7,      TRANS,     381,          1,          3,          3,2,19950401,       0259,   -29.1830,    85.3943,       4348,  4058.4,   1.3212,  34.7200,2,  34.7198,2,    194.0,2,   194.8,2,  120.49,2,   32.43,2,    0.00,2,    2.25,2,-999.000,9,-999.000,9,  -999.0,9,  -999.0,9,  -9.0000,9,   1.8820,2,   11.60,2, -999.00,9,  -999.0,9,  -999.0,-999.000,9,-999.000,-999.000,9,  -9.0000,-999.0000,   1.0008,   -9.00
  316N145_7,      TRANS,     381,          1,          2,          2,2,19950401,       0259,   -29.1830,    85.3943,       4348,  4263.3,   1.3238,  34.7194,2,  34.7190,2,    194.3,2,   195.0,2,  120.66,2,   32.37,2,    0.00,2,    2.25,2,-999.000,9,-999.000,9,  -999.0,9,  -999.0,9,  -9.0000,9,-999.0000,9, -999.00,9, -999.00,9,  -999.0,9,  -999.0,-999.000,9,-999.000,-999.000,9,  -9.0000,-999.0000,   0.9808,   -9.00
  316N145_7,      TRANS,     381,          1,          1,          1,2,19950401,       0259,   -29.1830,    85.3943,       4348,  4434.8,   1.3348,  34.7189,2,  34.7192,2,    195.6,2,   194.8,2,  120.84,2,   32.42,2,    0.00,2,    2.26,2,-999.000,9,-999.000,9,  -999.0,9,  -999.0,9,  -9.0000,9,   1.9000,2,   10.68,2, -999.00,9,  -999.0,9,  -999.0,-999.000,9,-999.000,-999.000,9,  -9.0000,-999.0000,   0.9722,   -9.00