BOTTLE,20211124CCHSIORKP
EXPOCODE,SECT_ID,STNNBR,CASTNO,SAMPNO,BTLNBR,BTLNBR_FLAG_W,DATE,TIME,LATITUDE,LONGITUDE,DEPTH,CTDPRS,CTDTMP,CTDSAL,CTDSAL_FLAG_W,SALNTY,SALNTY_FLAG_W,CTDOXY,CTDOXY_FLAG_W,OXYGEN,OXYGEN_FLAG_W,SILCAT,SILCAT_FLAG_W,NITRAT,NITRAT_FLAG_W,NITRIT,NITRIT_FLAG_W,PHSPHT,PHSPHT_FLAG_W,CFC-11,CFC-11_FLAG_W,CFC-12,CFC-12_FLAG_W,TCARBN,TCARBN_FLAG_W,ALKALI,ALKALI_FLAG_W,TRITUM,TRITUM_FLAG_W,HELIUM,HELIUM_FLAG_W,DELHE3,DELHE3_FLAG_W,DELC13,DELC13_FLAG_W,DELC14,DELC14_FLAG_W,C14ERR,NEON,NEON_FLAG_W,NEONER,CCL4,CCL4_FLAG_W,TRITER,HELIER,THETA,DELHER
,,,,,,,,,,,METERS,DBAR,ITS-90,PSS-78,,PSS-78,,UMOL/KG,,UMOL/KG,,UMOL/KG,,UMOL/KG,,UMOL/KG,,UMOL/KG,,PMOL/KG,,PMOL/KG,,UMOL/KG,,UMOL/KG,,TU,,NMOL/KG,,PERCNT,,/MILLE,,/MILLE,,/MILLE,NMOL/KG,,NMOL/KG,PMOL/KG,,TU,NMOL/KG,DEG C,PERCNT
  316N145_7,       I08N,     294,          1,         36,         36,2,19950313,       0709,     2.3333,    79.9973,       4321,     2.4,  30.1703,  34.5616,2,  34.5541,2,    197.1,2,   201.3,3,    2.96,2,    0.01,2,    0.00,2,    0.12,2,   1.626,2,   0.924,2,  1913.2,2,  2262.7,2,  -9.0000,9,-999.0000,9, -999.00,9, -999.00,9,  -999.0,9,  -999.0,-999.000,9,-999.000,-999.000,9,  -9.0000,-999.0000,  30.1697,   -9.00
  316N145_7,       I08N,     294,          1,         35,         35,2,19950313,       0709,     2.3333,    79.9973,       4321,    34.2,  29.3703,  34.5683,2,  34.5696,2,    196.3,2,   208.8,3,    2.95,2,    0.01,2,    0.00,2,    0.12,2,-999.000,9,-999.000,9,  -999.0,9,  -999.0,9,  -9.0000,9,-999.0000,9, -999.00,9, -999.00,9,  -999.0,9,  -999.0,-999.000,9,-999.000,-999.000,9,  -9.0000,-999.0000,  29.3619,   -9.00
  316N145_7,       I08N,     294,          1,         34,         34,2,19950313,       0709,     2.3333,    79.9973,       4321,    59.1,  28.5369,  34.7920,2,  34.9717,2,    200.9,2,   186.9,2,    3.55,2,    0.27,2,    0.02,2,    0.24,2,   1.585,2,   0.888,2,  -999.0,9,  -999.0,9,  -9.0000,9,-999.0000,9, -999.00,9, -999.00,9,  -999.0,9,  -999.0,-999.000,9,-999.000,-999.000,9,  -9.0000,-999.0000,  28.5228,   -9.00
  316N145_7,       I08N,     294,          1,         33,         33,2,19950313,       0709,     2.3333,    79.9973,       4321,    84.1,  22.2922,  35.4017,2,  35.3524,2,     96.8,2,    90.7,2,   12.37,2,   15.98,2,    0.23,2,    1.22,2,-999.000,9,-999.000,9,  -999.0,9,  -999.0,9,  -9.0000,9,-999.0000,9, -999.00,9, -999.00,9,  -999.0,9,  -999.0,-999.000,9,-999.000,-999.000,9,  -9.0000,-999.0000,  22.2754,   -9.00
  316N145_7,       I08N,     294,          1,         32,         32,2,19950313,       0709,     2.3333,    79.9973,       4321,   104.4,  20.2213,  35.3518,2,  35.3462,2,     94.4,2,    92.4,2,   12.76,2,   16.82,2,    0.08,2,    1.24,2,   1.396,2,   0.738,2,  -999.0,9,  -999.0,9,  -9.0000,9,-999.0000,9, -999.00,9, -999.00,9,  -999.0,9,  -999.0,-999.000,9,-999.000,-999.000,9,  -9.0000,-999.0000,  20.2019,   -9.00
  316N145_7,       I08N,     294,          1,         31,         31,2,19950313,       0709,     2.3333,    79.9973,       4321,   124.5,  18.8490,  35.2708,2,  35.2290,2,     73.1,2,    72.1,2,   16.04,2,   20.10,2,    0.04,2,    1.45,2,   1.197,2,   0.625,2,  -999.0,9,  -999.0,9,  -9.0000,9,-999.0000,9, -999.00,9, -999.00,9,  -999.0,9,  -999.0,-999.000,9,-999.000,-999.000,9,  -9.0000,-999.0000,  18.8269,   -9.00
  316N145_7,       I08N,     294,          1,         30,         30,2,19950313,       0709,     2.3333,    79.9973,       4321,   154.4,  16.8217,  35.1830,2,  35.1805,2,     64.5,2,    65.4,2,   18.90,2,   22.57,2,    0.02,2,    1.61,2,   1.018,2,   0.551,2,  -999.0,9,  -999.0,9,  -9.0000,9,-999.0000,9, -999.00,9, -999.00,9,  -999.0,9,  -999.0,-999.000,9,-999.000,-999.000,9,  -9.0000,-999.0000,  16.7964,   -9.00
  316N145_7,       I08N,     294,          1,         29,         29,2,19950313,       0709,     2.3333,    79.9973,       4321,   214.9,  14.5416,  35.1838,2,  35.1865,2,     84.4,2,    83.7,2,   19.50,2,   22.50,2,    0.01,2,    1.60,2,   1.055,2,   0.532,2,  -999.0,9,  -999.0,9,  -9.0000,9,-999.0000,9, -999.00,9, -999.00,9,  -999.0,9,  -999.0,-999.000,9,-999.000,-999.000,9,  -9.0000,-999.0000,  14.5097,   -9.00
  316N145_7,       I08N,     294,          1,         28,         28,2,19950313,       0709,     2.3333,    79.9973,       4321,   250.5,  13.1496,  35.1111,2,  35.1110,2,     59.5,2,    64.2,2,   24.42,2,   26.36,2,    0.00,2,    1.88,2,   0.661,2,   0.330,2,  -999.0,9,  -999.0,9,  -9.0000,9,-999.0000,9, -999.00,9, -999.00,9,  -999.0,9,  -999.0,-999.000,9,-999.000,-999.000,9,  -9.0000,-999.0000,  13.1147,   -9.00
  316N145_7,       I08N,     294,          1,         27,         27,2,19950313,       0709,     2.3333,    79.9973,       4321,   305.3,  11.9499,  35.0734,2,  35.0707,2,     71.9,2,    73.1,2,   25.44,2,   27.06,2,    0.00,2,    1.90,2,   0.534,2,   0.268,2,  -999.0,9,  -999.0,9,  -9.0000,9,-999.0000,9, -999.00,9, -999.00,9,  -999.0,9,  -999.0,-999.000,9,-999.000,-999.000,9,  -9.0000,-999.0000,  11.9100,   -9.00
  316N145_7,       I08N,     294,          1,         26,         26,2,19950313,       0709,     2.3333,    79.9973,       4321,   405.4,  10.9640,  35.0692,2,  35.0697,2,     43.1,2,    42.0,2,   34.88,2,   31.73,2,    0.00,2,    2.26,2,   0.237,6,   0.112,6,  -999.0,9,  -999.0,9,  -9.0000,9,-999.0000,9, -999.00,9, -999.00,9,  -999.0,9,  -999.0,-999.000,9,-999.000,-999.000,9,  -9.0000,-999.0000,  10.9136,   -9.00
  316N145_7,       I08N,     294,          1,         25,         25,2,19950313,       0709,     2.3333,    79.9973,       4321,   506.1,   9.7352,  35.0427,2,  35.0437,2,     32.5,2,    31.7,2,   49.07,2,   34.64,2,    0.00,2,    2.56,2,   0.057,2,   0.026,2,  -999.0,9,  -999.0,9,  -9.0000,9,-999.0000,9, -999.00,9, -999.00,9,  -999.0,9,  -999.0,-999.000,9,-999.000,-999.000,9,  -9.0000,-999.0000,   9.6764,   -9.00
  316N145_7,       I08N,     294,          1,         24,         24,2,19950313,       0709,     2.3333,    79.9973,       4321,   606.5,   8.8590,  35.0124,2,  35.0120,2,     46.9,2,    46.6,2,   55.02,2,   34.55,2,    0.00,2,    2.57,2,   0.050,2,   0.019,2,  -999.0,9,  -999.0,9,  -9.0000,9,-999.0000,9, -999.00,9, -999.00,9,  -999.0,9,  -999.0,-999.000,9,-999.000,-999.000,9,  -9.0000,-999.0000,   8.7922,   -9.00
  316N145_7,       I08N,     294,          1,         23,         23,2,19950313,       0709,     2.3333,    79.9973,       4321,   707.5,   8.5006,  35.0119,2,  35.0094,2,     44.7,2,    43.7,2,   60.98,2,   35.26,2,    0.00,2,    2.64,2,   0.037,2,   0.013,2,  -999.0,9,  -999.0,9,  -9.0000,9,-999.0000,9, -999.00,9, -999.00,9,  -999.0,9,  -999.0,-999.000,9,-999.000,-999.000,9,  -9.0000,-999.0000,   8.4240,   -9.00
  316N145_7,       I08N,     294,          1,         22,         22,2,19950313,       0709,     2.3333,    79.9973,       4321,   808.0,   7.9573,  34.9893,2,  34.9888,2,     44.1,2,    44.8,2,   68.17,2,   36.06,2,    0.00,2,    2.70,2,   0.011,2,   0.003,2,  -999.0,9,  -999.0,9,  -9.0000,9,-999.0000,9, -999.00,9, -999.00,9,  -999.0,9,  -999.0,-999.000,9,-999.000,-999.000,9,  -9.0000,-999.0000,   7.8726,   -9.00
  316N145_7,       I08N,     294,          1,         21,         21,2,19950313,       0709,     2.3333,    79.9973,       4321,   908.0,   7.6722,  34.9816,2,  34.9811,2,     45.3,2,    45.3,2,   72.07,2,   36.30,2,    0.00,2,    2.74,2,   0.014,2,   0.006,2,  -999.0,9,  -999.0,9,  -9.0000,9,-999.0000,9, -999.00,9, -999.00,9,  -999.0,9,  -999.0,-999.000,9,-999.000,-999.000,9,  -9.0000,-999.0000,   7.5783,   -9.00
  316N145_7,       I08N,     294,          1,         20,         20,2,19950313,       0709,     2.3333,    79.9973,       4321,  1010.0,   7.0830,  34.9616,2,  34.9628,2,     46.1,2,    45.9,2,   80.31,2,   36.86,2,    0.00,2,    2.78,2,   0.009,2,   0.004,2,  -999.0,9,  -999.0,9,  -9.0000,9,-999.0000,9, -999.00,9, -999.00,9,  -999.0,9,  -999.0,-999.000,9,-999.000,-999.000,9,  -9.0000,-999.0000,   6.9823,   -9.00
  316N145_7,       I08N,     294,          1,         19,         19,2,19950313,       0709,     2.3333,    79.9973,       4321,  1110.1,   6.4989,  34.9377,2,  34.9370,2,     51.1,2,    51.8,2,   87.54,2,   37.19,2,    0.00,2,    2.80,2,   0.004,2,   0.004,2,  -999.0,9,  -999.0,9,  -9.0000,9,-999.0000,9, -999.00,9, -999.00,9,  -999.0,9,  -999.0,-999.000,9,-999.000,-999.000,9,  -9.0000,-999.0000,   6.3924,   -9.00
  316N145_7,       I08N,     294,          1,         18,         18,2,19950313,       0709,     2.3333,    79.9973,       4321,  1210.6,   5.7205,  34.9012,2,  34.9006,2,     60.2,2,    62.3,2,   96.65,2,   37.29,2,    0.00,2,    2.80,2,   0.007,2,   0.004,2,  -999.0,9,  -999.0,9,  -9.0000,9,-999.0000,9, -999.00,9, -999.00,9,  -999.0,9,  -999.0,-999.000,9,-999.000,-999.000,9,  -9.0000,-999.0000,   5.6105,   -9.00
  316N145_7,       I08N,     294,          1,         17,         17,2,19950313,       0709,     2.3333,    79.9973,       4321,  1311.0,   5.2821,  34.8843,2,  34.8831,2,     67.9,2,    69.7,2,  100.79,2,   37.19,2,    0.00,2,    2.79,2,-999.000,9,-999.000,9,  -999.0,9,  -999.0,9,  -9.0000,9,-999.0000,9, -999.00,9, -999.00,9,  -999.0,9,  -999.0,-999.000,9,-999.000,-999.000,9,  -9.0000,-999.0000,   5.1664,   -9.00
  316N145_7,       I08N,     294,          1,         16,         16,2,19950313,       0709,     2.3333,    79.9973,       4321,  1411.5,   4.8005,  34.8658,2,  34.8654,2,     77.8,2,    78.6,2,  104.94,2,   36.96,2,    0.00,2,    2.76,2,   0.015,3,   0.002,2,  -999.0,9,  -999.0,9,  -9.0000,9,-999.0000,9, -999.00,9, -999.00,9,  -999.0,9,  -999.0,-999.000,9,-999.000,-999.000,9,  -9.0000,-999.0000,   4.6801,   -9.00
  316N145_7,       I08N,     294,          1,         15,         15,2,19950313,       0709,     2.3333,    79.9973,       4321,  1610.4,   3.9401,  34.8227,2,  34.8231,2,     98.2,2,    98.1,2,  111.20,2,   36.39,2,    0.00,2,    2.69,2,-999.000,9,-999.000,9,  -999.0,9,  -999.0,9,  -9.0000,9,-999.0000,9, -999.00,9, -999.00,9,  -999.0,9,  -999.0,-999.000,9,-999.000,-999.000,9,  -9.0000,-999.0000,   3.8108,   -9.00
  316N145_7,       I08N,     294,          1,         14,         14,2,19950313,       0709,     2.3333,    79.9973,       4321,  1808.5,   3.4510,  34.8073,2,  34.8070,2,    109.5,2,   109.7,2,  116.01,2,   36.06,2,    0.00,2,    2.65,2,  -0.005,2,  -0.001,2,  -999.0,9,  -999.0,9,  -9.0000,9,-999.0000,9, -999.00,9, -999.00,9,  -999.0,9,  -999.0,-999.000,9,-999.000,-999.000,9,  -9.0000,-999.0000,   3.3099,   -9.00
  316N145_7,       I08N,     294,          1,         13,         13,2,19950313,       0709,     2.3333,    79.9973,       4321,  2009.3,   2.8665,  34.7826,2,  34.7813,2,    123.4,2,   122.7,2,  123.59,2,   35.78,2,    0.00,2,    2.61,2,-999.000,9,-999.000,9,  -999.0,9,  -999.0,9,  -9.0000,9,-999.0000,9, -999.00,9, -999.00,9,  -999.0,9,  -999.0,-999.000,9,-999.000,-999.000,9,  -9.0000,-999.0000,   2.7157,   -9.00
  316N145_7,       I08N,     294,          1,         12,         12,2,19950313,       0709,     2.3333,    79.9973,       4321,  2212.0,   2.4976,  34.7660,2,  34.7649,2,    131.2,2,   131.6,2,  128.24,2,   35.49,2,    0.00,2,    2.58,2,-999.000,9,-999.000,9,  -999.0,9,  -999.0,9,  -9.0000,9,-999.0000,9, -999.00,9, -999.00,9,  -999.0,9,  -999.0,-999.000,9,-999.000,-999.000,9,  -9.0000,-999.0000,   2.3343,   -9.00
  316N145_7,       I08N,     294,          1,         11,         11,2,19950313,       0709,     2.3333,    79.9973,       4321,  2420.6,   2.2198,  34.7537,2,  34.7518,2,    138.9,2,   138.7,2,  131.63,2,   35.21,2,    0.00,2,    2.54,2,-999.000,9,-999.000,9,  -999.0,9,  -999.0,9,  -9.0000,9,-999.0000,9, -999.00,9, -999.00,9,  -999.0,9,  -999.0,-999.000,9,-999.000,-999.000,9,  -9.0000,-999.0000,   2.0424,   -9.00
  316N145_7,       I08N,     294,          1,         10,         10,2,19950313,       0709,     2.3333,    79.9973,       4321,  2630.3,   1.9866,  34.7430,2,  34.7425,2,    149.0,2,   147.7,2,  132.24,2,   34.88,2,    0.00,2,    2.50,2,-999.000,9,-999.000,9,  -999.0,9,  -999.0,9,  -9.0000,9,-999.0000,9, -999.00,9, -999.00,9,  -999.0,9,  -999.0,-999.000,9,-999.000,-999.000,9,  -9.0000,-999.0000,   1.7941,   -9.00
  316N145_7,       I08N,     294,          1,          9,          9,2,19950313,       0709,     2.3333,    79.9973,       4321,  2833.5,   1.8433,  34.7364,2,  34.7366,2,    151.4,2,   151.4,2,  135.43,2,   34.83,2,    0.00,2,    2.48,2,-999.000,9,-999.000,9,  -999.0,9,  -999.0,9,  -9.0000,9,-999.0000,9, -999.00,9, -999.00,9,  -999.0,9,  -999.0,-999.000,9,-999.000,-999.000,9,  -9.0000,-999.0000,   1.6347,   -9.00
  316N145_7,       I08N,     294,          1,          8,          8,2,19950313,       0709,     2.3333,    79.9973,       4321,  3035.8,   1.7140,  34.7317,2,  34.7309,2,    155.5,2,   155.8,2,  136.68,2,   34.64,2,    0.00,2,    2.46,2,-999.000,9,-999.000,9,  -999.0,9,  -999.0,9,  -9.0000,9,-999.0000,9, -999.00,9, -999.00,9,  -999.0,9,  -999.0,-999.000,9,-999.000,-999.000,9,  -9.0000,-999.0000,   1.4887,   -9.00
  316N145_7,       I08N,     294,          1,          7,          7,2,19950313,       0709,     2.3333,    79.9973,       4321,  3239.9,   1.6186,  34.7282,2,  34.7284,2,    154.5,2,   154.7,2,  140.97,2,   34.74,2,    0.00,2,    2.48,2,-999.000,9,-999.000,9,  -999.0,9,  -999.0,9,  -9.0000,9,-999.0000,9, -999.00,9, -999.00,9,  -999.0,9,  -999.0,-999.000,9,-999.000,-999.000,9,  -9.0000,-999.0000,   1.3755,   -9.00
  316N145_7,       I08N,     294,          1,          6,          6,2,19950313,       0709,     2.3333,    79.9973,       4321,  3443.0,   1.5052,  34.7238,2,  34.7229,2,    157.9,2,   159.0,2,  142.67,2,   34.74,2,    0.00,2,    2.45,2,  -0.001,2,   0.003,2,  -999.0,9,  -999.0,9,  -9.0000,9,-999.0000,9, -999.00,9, -999.00,9,  -999.0,9,  -999.0,-999.000,9,-999.000,-999.000,9,  -9.0000,-999.0000,   1.2445,   -9.00
  316N145_7,       I08N,     294,          1,          5,          5,2,19950313,       0709,     2.3333,    79.9973,       4321,  3647.4,   1.4526,  34.7216,2,  34.7213,2,    163.3,2,   163.2,2,  142.20,2,   34.55,2,    0.00,2,    2.43,2,-999.000,9,-999.000,9,  -999.0,9,  -999.0,9,  -9.0000,9,-999.0000,9, -999.00,9, -999.00,9,  -999.0,9,  -999.0,-999.000,9,-999.000,-999.000,9,  -9.0000,-999.0000,   1.1723,   -9.00
  316N145_7,       I08N,     294,          1,          4,          4,2,19950313,       0709,     2.3333,    79.9973,       4321,  3851.2,   1.4075,  34.7192,2,  34.7184,2,    168.0,2,   168.0,2,  141.09,2,   34.31,2,    0.00,2,    2.41,2,  -0.001,2,   0.004,2,  -999.0,9,  -999.0,9,  -9.0000,9,-999.0000,9, -999.00,9, -999.00,9,  -999.0,9,  -999.0,-999.000,9,-999.000,-999.000,9,  -9.0000,-999.0000,   1.1070,   -9.00
  316N145_7,       I08N,     294,          1,          3,          3,2,19950313,       0709,     2.3333,    79.9973,       4321,  4003.8,   1.3925,  34.7188,2,  34.7178,2,    171.6,2,   170.9,2,  139.11,2,   34.12,2,    0.00,2,    2.39,2,-999.000,9,-999.000,9,  -999.0,9,  -999.0,9,  -9.0000,9,-999.0000,9, -999.00,9, -999.00,9,  -999.0,9,  -999.0,-999.000,9,-999.000,-999.000,9,  -9.0000,-999.0000,   1.0761,   -9.00
  316N145_7,       I08N,     294,          1,          2,          2,2,19950313,       0709,     2.3333,    79.9973,       4321,  4208.2,   1.4060,  34.7184,2,  34.7176,2,    173.2,2,   172.7,2,  138.44,2,   34.03,2,    0.00,2,    2.38,2,   0.001,2,   0.008,2,  -999.0,9,  -999.0,9,  -9.0000,9,-999.0000,9, -999.00,9, -999.00,9,  -999.0,9,  -999.0,-999.000,9,-999.000,-999.000,9,  -9.0000,-999.0000,   1.0667,   -9.00
  316N145_7,       I08N,     294,          1,          1,          1,2,19950313,       0709,     2.3333,    79.9973,       4321,  4394.2,   1.4211,  34.7185,2,  34.7174,2,    173.8,2,   173.8,2,  137.76,2,   33.93,2,    0.00,2,    2.38,2,  -0.002,2,   0.006,2,  -999.0,9,  -999.0,9,  -9.0000,9,-999.0000,9, -999.00,9, -999.00,9,  -999.0,9,  -999.0,-999.000,9,-999.000,-999.000,9,  -9.0000,-999.0000,   1.0605,   -9.00