BOTTLE,20211124CCHSIORKP
EXPOCODE,SECT_ID,STNNBR,CASTNO,SAMPNO,BTLNBR,BTLNBR_FLAG_W,DATE,TIME,LATITUDE,LONGITUDE,DEPTH,CTDPRS,CTDTMP,CTDSAL,CTDSAL_FLAG_W,SALNTY,SALNTY_FLAG_W,CTDOXY,CTDOXY_FLAG_W,OXYGEN,OXYGEN_FLAG_W,SILCAT,SILCAT_FLAG_W,NITRAT,NITRAT_FLAG_W,NITRIT,NITRIT_FLAG_W,PHSPHT,PHSPHT_FLAG_W,CFC-11,CFC-11_FLAG_W,CFC-12,CFC-12_FLAG_W,TCARBN,TCARBN_FLAG_W,ALKALI,ALKALI_FLAG_W,TRITUM,TRITUM_FLAG_W,HELIUM,HELIUM_FLAG_W,DELHE3,DELHE3_FLAG_W,DELC13,DELC13_FLAG_W,DELC14,DELC14_FLAG_W,C14ERR,NEON,NEON_FLAG_W,NEONER,CCL4,CCL4_FLAG_W,TRITER,HELIER,THETA,DELHER
,,,,,,,,,,,METERS,DBAR,ITS-90,PSS-78,,PSS-78,,UMOL/KG,,UMOL/KG,,UMOL/KG,,UMOL/KG,,UMOL/KG,,UMOL/KG,,PMOL/KG,,PMOL/KG,,UMOL/KG,,UMOL/KG,,TU,,NMOL/KG,,PERCNT,,/MILLE,,/MILLE,,/MILLE,NMOL/KG,,NMOL/KG,PMOL/KG,,TU,NMOL/KG,DEG C,PERCNT
  316N145_7,       I05E,     402,          1,         36,         36,2,19950405,       1144,   -32.8167,    92.2000,       4193,     3.0,  20.3224,  35.4585,2,  35.4630,2,    228.0,2,   228.6,2,    1.64,2,    0.14,2,    0.00,2,    0.16,2,   2.289,2,   1.294,2,  2048.7,2,  2328.6,2,  -9.0000,9,-999.0000,9, -999.00,9, -999.00,9,  -999.0,9,  -999.0,-999.000,9,-999.000,-999.000,9,  -9.0000,-999.0000,  20.3218,   -9.00
  316N145_7,       I05E,     402,          1,         35,         35,2,19950405,       1144,   -32.8167,    92.2000,       4193,    36.3,  18.8930,  35.3259,2,  35.3169,2,    224.4,2,   237.5,2,    1.63,2,    0.14,2,    0.00,2,    0.17,2,-999.000,9,-999.000,9,  2045.3,2,  2327.1,2,  -9.0000,9,-999.0000,9, -999.00,9, -999.00,9,  -999.0,9,  -999.0,-999.000,9,-999.000,-999.000,9,  -9.0000,-999.0000,  18.8865,   -9.00
  316N145_7,       I05E,     402,          1,         34,         34,2,19950405,       1144,   -32.8167,    92.2000,       4193,    66.8,  14.4987,  35.3181,2,  35.3058,2,    260.7,2,   258.1,2,    2.47,2,    1.90,2,    0.11,2,    0.36,2,   3.028,2,   1.660,2,  2079.6,2,  2320.4,2,  -9.0000,9,-999.0000,9, -999.00,9, -999.00,9,  -999.0,9,  -999.0,-999.000,9,-999.000,-999.000,9,  -9.0000,-999.0000,  14.4889,   -9.00
  316N145_7,       I05E,     402,          1,         33,         33,2,19950405,       1144,   -32.8167,    92.2000,       4193,   106.5,  13.8215,  35.3820,2,  35.3823,2,    243.0,2,   239.5,2,    2.67,2,    4.47,2,    0.14,2,    0.47,2,   3.038,2,   1.659,2,  2094.5,2,  2330.7,2,  -9.0000,9,-999.0000,9, -999.00,9, -999.00,9,  -999.0,9,  -999.0,-999.000,9,-999.000,-999.000,9,  -9.0000,-999.0000,  13.8063,   -9.00
  316N145_7,       I05E,     402,          1,         32,         32,2,19950405,       1144,   -32.8167,    92.2000,       4193,   147.5,  12.8195,  35.2312,2,  35.2378,2,    238.9,2,   241.1,2,    2.88,2,    6.57,2,    0.01,2,    0.59,2,   3.150,2,   1.708,2,  -999.0,5,  2318.2,2,  -9.0000,9,-999.0000,9, -999.00,9, -999.00,9,  -999.0,9,  -999.0,-999.000,9,-999.000,-999.000,9,  -9.0000,-999.0000,  12.7994,   -9.00
  316N145_7,       I05E,     402,          1,         31,         31,2,19950405,       1144,   -32.8167,    92.2000,       4193,   196.8,  12.0489,  35.0979,2,  35.1013,2,    240.1,2,   244.2,2,    3.72,2,    8.83,2,    0.01,2,    0.72,2,   3.338,2,   1.752,2,  2102.4,2,  2312.3,2,  -9.0000,9,-999.0000,9, -999.00,9, -999.00,9,  -999.0,9,  -999.0,-999.000,9,-999.000,-999.000,9,  -9.0000,-999.0000,  12.0232,   -9.00
  316N145_7,       I05E,     402,          1,         30,         30,2,19950405,       1144,   -32.8167,    92.2000,       4193,   247.7,  11.6270,  35.0342,2,  35.0344,2,    240.8,2,   246.3,2,    4.35,2,    9.92,2,    0.00,2,    0.78,2,   3.210,2,   1.694,2,  2105.2,2,  2303.2,2,  -9.0000,9,-999.0000,9, -999.00,9, -999.00,9,  -999.0,9,  -999.0,-999.000,9,-999.000,-999.000,9,  -9.0000,-999.0000,  11.5952,   -9.00
  316N145_7,       I05E,     402,          1,         29,         29,2,19950405,       1144,   -32.8167,    92.2000,       4193,   298.4,  11.3171,  34.9867,2,  34.9885,2,    240.0,2,   248.1,2,    4.56,2,   10.66,2,    0.00,2,    0.82,2,   3.248,2,   1.729,2,  2108.0,2,  2304.3,2,  -9.0000,9,-999.0000,9, -999.00,9, -999.00,9,  -999.0,9,  -999.0,-999.000,9,-999.000,-999.000,9,  -9.0000,-999.0000,  11.2795,   -9.00
  316N145_7,       I05E,     402,          1,         28,         28,2,19950405,       1144,   -32.8167,    92.2000,       4193,   358.2,  11.0438,  34.9457,2,  34.9493,2,    237.4,2,   248.5,2,    4.55,2,   11.24,2,    0.00,2,    0.86,2,   3.291,2,   1.710,2,  2105.8,2,  2307.5,2,  -9.0000,9,-999.0000,9, -999.00,9, -999.00,9,  -999.0,9,  -999.0,-999.000,9,-999.000,-999.000,9,  -9.0000,-999.0000,  10.9993,   -9.00
  316N145_7,       I05E,     402,          1,         27,         27,2,19950405,       1144,   -32.8167,    92.2000,       4193,   407.8,  10.8391,  34.9201,2,  34.9196,2,    241.5,2,   249.8,2,    4.75,2,   11.64,2,    0.00,2,    0.88,2,   3.268,6,   1.693,6,  2107.3,2,  2299.5,2,  -9.0000,9,-999.0000,9, -999.00,9, -999.00,9,  -999.0,9,  -999.0,-999.000,9,-999.000,-999.000,9,  -9.0000,-999.0000,  10.7888,   -9.00
  316N145_7,       I05E,     402,          1,         26,         26,2,19950405,       1144,   -32.8167,    92.2000,       4193,   508.3,  10.2841,  34.8330,2,  34.8358,2,    240.6,2,   247.6,2,    5.17,2,   13.16,2,    0.00,2,    0.98,2,-999.000,9,-999.000,9,  2110.2,2,  2294.1,2,  -9.0000,9,-999.0000,9, -999.00,9, -999.00,9,  -999.0,9,  -999.0,-999.000,9,-999.000,-999.000,9,  -9.0000,-999.0000,  10.2232,   -9.00
  316N145_7,       I05E,     402,          1,         25,         25,2,19950405,       1144,   -32.8167,    92.2000,       4193,   609.4,   9.5440,  34.7196,2,  34.7224,2,    236.6,2,   239.3,2,    6.23,2,   15.82,2,    0.00,2,    1.13,2,   2.903,2,   1.482,2,  2117.5,2,  2293.5,2,  -9.0000,9,-999.0000,9, -999.00,9, -999.00,9,  -999.0,9,  -999.0,-999.000,9,-999.000,-999.000,9,  -9.0000,-999.0000,   9.4740,   -9.00
  316N145_7,       I05E,     402,          1,         24,         24,2,19950405,       1144,   -32.8167,    92.2000,       4193,   710.0,   8.7028,  34.6152,2,  34.6156,2,    221.8,2,   223.5,2,    8.56,2,   19.42,2,    0.00,2,    1.36,2,   2.257,2,   1.122,2,  2132.2,2,  2291.1,2,  -9.0000,9,-999.0000,9, -999.00,9, -999.00,9,  -999.0,9,  -999.0,-999.000,9,-999.000,-999.000,9,  -9.0000,-999.0000,   8.6253,   -9.00
  316N145_7,       I05E,     402,          1,         23,         23,2,19950405,       1144,   -32.8167,    92.2000,       4193,   809.8,   7.3917,  34.5014,2,  34.5029,2,    205.0,2,   203.3,2,   15.16,2,   24.26,2,    0.00,2,    1.66,2,   1.323,2,   0.645,2,  2155.7,2,  2289.3,2,  -9.0000,9,-999.0000,9, -999.00,9, -999.00,9,  -999.0,9,  -999.0,-999.000,9,-999.000,-999.000,9,  -9.0000,-999.0000,   7.3108,   -9.00
  316N145_7,       I05E,     402,          1,         22,         22,2,19950405,       1144,   -32.8167,    92.2000,       4193,   911.5,   6.1334,  34.4277,2,  34.4330,2,    201.1,2,   201.4,2,   22.18,2,   27.19,2,    0.00,2,    1.87,2,   1.014,2,   0.501,2,  2172.0,2,  2288.9,2,  -9.0000,9,-999.0000,9, -999.00,9, -999.00,9,  -999.0,9,  -999.0,-999.000,9,-999.000,-999.000,9,  -9.0000,-999.0000,   6.0503,   -9.00
  316N145_7,       I05E,     402,          1,         21,         21,2,19950405,       1144,   -32.8167,    92.2000,       4193,  1011.4,   4.9906,  34.3759,2,  34.3776,2,    203.2,2,   201.2,2,   30.69,2,   29.72,2,    0.00,2,    2.05,2,   0.829,2,   0.405,2,  2188.2,2,  2297.4,2,  -9.0000,9,-999.0000,9, -999.00,9, -999.00,9,  -999.0,9,  -999.0,-999.000,9,-999.000,-999.000,9,  -9.0000,-999.0000,   4.9065,   -9.00
  316N145_7,       I05E,     402,          1,         20,         20,2,19950405,       1144,   -32.8167,    92.2000,       4193,  1112.6,   4.1982,  34.3877,2,  34.3884,2,    193.0,2,   189.5,2,   43.04,2,   31.91,2,    0.00,2,    2.21,2,   0.458,6,   0.226,6,  2211.3,2,  2309.7,2,  -9.0000,9,-999.0000,9, -999.00,9, -999.00,9,  -999.0,9,  -999.0,-999.000,9,-999.000,-999.000,9,  -9.0000,-999.0000,   4.1116,   -9.00
  316N145_7,       I05E,     402,          1,         19,         19,2,19950405,       1144,   -32.8167,    92.2000,       4193,  1238.6,   3.7041,  34.4390,2,  34.4398,2,    173.8,2,   174.0,2,   56.89,2,   33.55,2,    0.00,2,    2.35,2,-999.000,9,-999.000,9,  2231.3,2,  2323.5,2,  -9.0000,9,-999.0000,9, -999.00,9, -999.00,9,  -999.0,9,  -999.0,-999.000,9,-999.000,-999.000,9,  -9.0000,-999.0000,   3.6111,   -9.00
  316N145_7,       I05E,     402,          1,         18,         18,2,19950405,       1144,   -32.8167,    92.2000,       4193,  1363.6,   3.5086,  34.5212,2,  34.5217,2,    154.6,2,   154.0,2,   71.82,2,   34.65,2,    0.00,2,    2.45,2,   0.044,2,   0.022,2,  2254.1,2,  2339.8,2,  -9.0000,9,-999.0000,9, -999.00,9, -999.00,9,  -999.0,9,  -999.0,-999.000,9,-999.000,-999.000,9,  -9.0000,-999.0000,   3.4068,   -9.00
  316N145_7,       I05E,     402,          1,         17,         17,2,19950405,       1144,   -32.8167,    92.2000,       4193,  1515.8,   3.1127,  34.5611,2,  34.5606,2,    156.3,2,   156.7,2,   76.72,2,   34.59,2,    0.00,2,    2.43,2,-999.000,9,-999.000,9,  2258.9,2,  2347.1,2,  -9.0000,9,-999.0000,9, -999.00,9, -999.00,9,  -999.0,9,  -999.0,-999.000,9,-999.000,-999.000,9,  -9.0000,-999.0000,   3.0023,   -9.00
  316N145_7,       I05E,     402,          1,         16,         16,2,19950405,       1144,   -32.8167,    92.2000,       4193,  1666.7,   2.8525,  34.6078,2,  34.6075,2,    158.9,2,   160.4,2,   80.77,2,   34.14,2,    0.00,2,    2.40,2,   0.025,2,   0.013,2,  2260.1,2,  2346.9,2,  -9.0000,9,-999.0000,9, -999.00,9, -999.00,9,  -999.0,9,  -999.0,-999.000,9,-999.000,-999.000,9,  -9.0000,-999.0000,   2.7324,   -9.00
  316N145_7,       I05E,     402,          1,         15,         15,2,19950405,       1144,   -32.8167,    92.2000,       4193,  1816.4,   2.6371,  34.6504,2,  34.6503,2,    166.3,2,   166.3,2,   83.11,2,   33.39,2,    0.00,2,    2.33,2,-999.000,9,-999.000,9,  2261.8,2,  2349.0,2,  -9.0000,9,-999.0000,9, -999.00,9, -999.00,9,  -999.0,9,  -999.0,-999.000,9,-999.000,-999.000,9,  -9.0000,-999.0000,   2.5070,   -9.00
  316N145_7,       I05E,     402,          1,         14,         14,2,19950405,       1144,   -32.8167,    92.2000,       4193,  1970.4,   2.4802,  34.6892,2,  34.6900,2,    169.1,2,   169.2,2,   88.46,2,   32.93,2,    0.00,2,    2.30,2,   0.008,2,   0.002,2,  2262.0,2,  2352.6,2,  -9.0000,9,-999.0000,9, -999.00,9, -999.00,9,  -999.0,9,  -999.0,-999.000,9,-999.000,-999.000,9,  -9.0000,-999.0000,   2.3389,   -9.00
  316N145_7,       I05E,     402,          1,         13,         13,2,19950405,       1144,   -32.8167,    92.2000,       4193,  2123.1,   2.3267,  34.7124,2,  34.7126,2,    176.8,2,   176.4,2,   88.87,2,   32.08,2,    0.00,2,    2.24,2,-999.000,9,-999.000,9,  2259.7,2,  2360.8,2,  -9.0000,9,-999.0000,9, -999.00,9, -999.00,9,  -999.0,9,  -999.0,-999.000,9,-999.000,-999.000,9,  -9.0000,-999.0000,   2.1743,   -9.00
  316N145_7,       I05E,     402,          1,         12,         12,2,19950405,       1144,   -32.8167,    92.2000,       4193,  2275.2,   2.1710,  34.7284,2,  34.7281,2,    181.3,2,   182.1,2,   91.00,2,   31.58,2,    0.00,2,    2.20,2,   0.005,2,   0.001,2,  2258.2,2,  2359.6,2,  -9.0000,9,-999.0000,9, -999.00,9, -999.00,9,  -999.0,9,  -999.0,-999.000,9,-999.000,-999.000,9,  -9.0000,-999.0000,   2.0076,   -9.00
  316N145_7,       I05E,     402,          1,         11,         11,2,19950405,       1144,   -32.8167,    92.2000,       4193,  2426.5,   2.0444,  34.7396,2,  34.7399,2,    189.2,2,   189.3,2,   90.35,2,   30.98,2,    0.00,2,    2.15,2,-999.000,9,-999.000,9,  2254.0,2,  2352.1,2,  -9.0000,9,-999.0000,9, -999.00,9, -999.00,9,  -999.0,9,  -999.0,-999.000,9,-999.000,-999.000,9,  -9.0000,-999.0000,   1.8696,   -9.00
  316N145_7,       I05E,     402,          1,         10,         10,2,19950405,       1144,   -32.8167,    92.2000,       4193,  2580.2,   1.9013,  34.7451,2,  34.7456,2,    194.5,2,   194.0,2,   92.91,2,   30.73,2,    0.00,2,    2.12,2,   0.001,2,   0.003,2,  2252.8,2,  2357.8,2,  -9.0000,9,-999.0000,9, -999.00,9, -999.00,9,  -999.0,9,  -999.0,-999.000,9,-999.000,-999.000,9,  -9.0000,-999.0000,   1.7151,   -9.00
  316N145_7,       I05E,     402,          1,          9,          9,2,19950405,       1144,   -32.8167,    92.2000,       4193,  2731.4,   1.7043,  34.7431,2,  34.7436,2,    197.6,2,   196.9,2,   98.06,2,   30.83,2,    0.00,2,    2.14,2,-999.000,9,-999.000,9,  2253.8,2,  2360.3,2,  -9.0000,9,-999.0000,9, -999.00,9, -999.00,9,  -999.0,9,  -999.0,-999.000,9,-999.000,-999.000,9,  -9.0000,-999.0000,   1.5081,   -9.00
  316N145_7,       I05E,     402,          1,          8,          8,2,19950405,       1144,   -32.8167,    92.2000,       4193,  2935.2,   1.4831,  34.7359,2,  34.7367,2,    199.8,2,   200.1,2,  104.52,2,   31.13,2,    0.00,2,    2.15,2,   0.003,2,   0.004,2,  2262.9,2,  2368.6,2,  -9.0000,9,-999.0000,9, -999.00,9, -999.00,9,  -999.0,9,  -999.0,-999.000,9,-999.000,-999.000,9,  -9.0000,-999.0000,   1.2725,   -9.00
  316N145_7,       I05E,     402,          1,          7,          7,2,19950405,       1144,   -32.8167,    92.2000,       4193,  3140.2,   1.3299,  34.7296,2,  34.7298,2,    200.9,2,   201.2,2,  109.69,2,   31.43,2,    0.00,2,    2.17,2,-999.000,9,-999.000,9,  2259.4,2,  2364.7,2,  -9.0000,9,-999.0000,9, -999.00,9, -999.00,9,  -999.0,9,  -999.0,-999.000,9,-999.000,-999.000,9,  -9.0000,-999.0000,   1.1032,   -9.00
  316N145_7,       I05E,     402,          1,          6,          6,2,19950405,       1144,   -32.8167,    92.2000,       4193,  3343.8,   1.2141,  34.7242,2,  34.7243,2,    203.3,2,   203.1,2,  113.58,2,   31.67,2,    0.00,2,    2.20,2,   0.004,2,   0.000,2,  2263.4,2,  2366.5,2,  -9.0000,9,-999.0000,9, -999.00,9, -999.00,9,  -999.0,9,  -999.0,-999.000,9,-999.000,-999.000,9,  -9.0000,-999.0000,   0.9705,   -9.00
  316N145_7,       I05E,     402,          1,          5,          5,2,19950405,       1144,   -32.8167,    92.2000,       4193,  3546.1,   1.1376,  34.7201,2,  34.7202,2,    203.4,2,   203.8,2,  115.96,2,   31.82,2,    0.00,2,    2.21,2,-999.000,9,-999.000,9,  2264.8,2,  2372.3,2,  -9.0000,9,-999.0000,9, -999.00,9, -999.00,9,  -999.0,9,  -999.0,-999.000,9,-999.000,-999.000,9,  -9.0000,-999.0000,   0.8758,   -9.00
  316N145_7,       I05E,     402,          1,          4,          4,2,19950405,       1144,   -32.8167,    92.2000,       4193,  3751.9,   1.0953,  34.7176,2,  34.7176,2,    203.8,2,   204.6,2,  117.47,2,   31.92,2,    0.00,2,    2.21,2,   0.004,2,   0.002,2,  2268.5,2,  2374.0,2,  -9.0000,9,-999.0000,9, -999.00,9, -999.00,9,  -999.0,9,  -999.0,-999.000,9,-999.000,-999.000,9,  -9.0000,-999.0000,   0.8136,   -9.00
  316N145_7,       I05E,     402,          1,          3,          3,2,19950405,       1144,   -32.8167,    92.2000,       4193,  3955.7,   1.0767,  34.7156,2,  34.7152,2,    204.2,2,   204.7,2,  118.55,2,   32.01,2,    0.00,2,    2.22,2,-999.000,9,-999.000,9,  2267.1,2,  2372.6,2,  -9.0000,9,-999.0000,9, -999.00,9, -999.00,9,  -999.0,9,  -999.0,-999.000,9,-999.000,-999.000,9,  -9.0000,-999.0000,   0.7743,   -9.00
  316N145_7,       I05E,     402,          1,          2,          2,2,19950405,       1144,   -32.8167,    92.2000,       4193,  4134.8,   1.0706,  34.7149,2,  34.7141,2,    204.6,2,   204.8,2,  119.19,2,   32.06,2,    0.00,2,    2.22,2,   0.004,2,   0.002,2,  2268.6,2,  2376.9,2,  -9.0000,9,-999.0000,9, -999.00,9, -999.00,9,  -999.0,9,  -999.0,-999.000,9,-999.000,-999.000,9,  -9.0000,-999.0000,   0.7492,   -9.00
  316N145_7,       I05E,     402,          1,          1,          1,2,19950405,       1144,   -32.8167,    92.2000,       4193,  4258.3,   1.0715,  34.7138,2,  34.7139,2,    205.3,2,   205.7,2,  118.74,2,   32.01,2,    0.00,2,    2.22,2,   0.004,2,   0.001,2,  2268.2,2,  2375.0,2,  -9.0000,9,-999.0000,9, -999.00,9, -999.00,9,  -999.0,9,  -999.0,-999.000,9,-999.000,-999.000,9,  -9.0000,-999.0000,   0.7366,   -9.00