BOTTLE,20211124CCHSIORKP
EXPOCODE,SECT_ID,STNNBR,CASTNO,SAMPNO,BTLNBR,BTLNBR_FLAG_W,DATE,TIME,LATITUDE,LONGITUDE,DEPTH,CTDPRS,CTDTMP,CTDSAL,CTDSAL_FLAG_W,SALNTY,SALNTY_FLAG_W,CTDOXY,CTDOXY_FLAG_W,OXYGEN,OXYGEN_FLAG_W,SILCAT,SILCAT_FLAG_W,NITRAT,NITRAT_FLAG_W,NITRIT,NITRIT_FLAG_W,PHSPHT,PHSPHT_FLAG_W,CFC-11,CFC-11_FLAG_W,CFC-12,CFC-12_FLAG_W,TCARBN,TCARBN_FLAG_W,ALKALI,ALKALI_FLAG_W,TRITUM,TRITUM_FLAG_W,HELIUM,HELIUM_FLAG_W,DELHE3,DELHE3_FLAG_W,DELC13,DELC13_FLAG_W,DELC14,DELC14_FLAG_W,C14ERR,NEON,NEON_FLAG_W,NEONER,CCL4,CCL4_FLAG_W,TRITER,HELIER,THETA,DELHER
,,,,,,,,,,,METERS,DBAR,ITS-90,PSS-78,,PSS-78,,UMOL/KG,,UMOL/KG,,UMOL/KG,,UMOL/KG,,UMOL/KG,,UMOL/KG,,PMOL/KG,,PMOL/KG,,UMOL/KG,,UMOL/KG,,TU,,NMOL/KG,,PERCNT,,/MILLE,,/MILLE,,/MILLE,NMOL/KG,,NMOL/KG,PMOL/KG,,TU,NMOL/KG,DEG C,PERCNT
  316N145_7,       I05E,     422,          1,         36,         36,2,19950410,       1051,   -31.5163,   104.1668,       5050,     2.9,  21.3632,  36.1397,2,  36.1423,2,    223.6,2,   223.0,2,    3.06,2,    0.10,2,    0.00,2,    0.13,2,   2.181,2,   1.244,2,  2059.0,2,  2374.8,2,   1.0413,2,   1.7055,2,   -1.14,2, -999.00,9,  -999.0,9,  -999.0,   6.887,2,   0.034,   2.852,2,   0.0039,   0.0085,  21.3627,    0.14
  316N145_7,       I05E,     422,          1,         35,         35,2,19950410,       1051,   -31.5163,   104.1668,       5050,    38.0,  21.0237,  36.1813,2,  36.1773,2,    221.4,2,   223.8,2,    3.25,2,    0.10,2,    0.00,2,    0.09,2,-999.000,9,-999.000,9,  2054.5,2,  2369.4,2,  -9.0000,9,-999.0000,9, -999.00,9, -999.00,9,  -999.0,9,  -999.0,-999.000,9,-999.000,-999.000,9,  -9.0000,-999.0000,  21.0164,   -9.00
  316N145_7,       I05E,     422,          1,         34,         34,2,19950410,       1051,   -31.5163,   104.1668,       5050,    58.3,  20.6809,  36.1378,2,  36.1276,2,    224.5,2,   225.7,2,    3.03,2,    0.10,2,    0.00,2,    0.11,2,-999.000,9,-999.000,9,  2056.5,2,  2370.9,2,   1.0590,2,   1.7156,2,   -0.76,2, -999.00,9,  -999.0,9,  -999.0,   6.931,2,   0.035,-999.000,9,   0.0039,   0.0086,  20.6698,    0.14
  316N145_7,       I05E,     422,          1,         33,         33,2,19950410,       1051,   -31.5163,   104.1668,       5050,    97.9,  16.6808,  35.7316,2,  35.7543,2,    245.3,2,   243.6,2,    2.60,2,    0.10,2,    0.00,2,    0.18,2,-999.000,9,-999.000,9,  2063.2,2,  2418.9,4,   0.9612,2,   1.7211,2,   -0.66,2, -999.00,9,  -999.0,9,  -999.0,   6.988,2,   0.035,-999.000,9,   0.0037,   0.0086,  16.6648,    0.14
  316N145_7,       I05E,     422,          1,         32,         32,2,19950410,       1051,   -31.5163,   104.1668,       5050,   138.4,  15.1157,  35.5927,2,  35.5867,2,    230.3,2,   233.6,2,    2.58,2,    1.90,2,    0.16,2,    0.34,2,-999.000,9,-999.000,9,  2081.4,2,  2339.3,2,   0.8756,2,   1.7546,2,   -1.23,2, -999.00,9,  -999.0,9,  -999.0,   7.266,2,   0.036,-999.000,9,   0.0035,   0.0088,  15.0945,    0.14
  316N145_7,       I05E,     422,          1,         31,         31,2,19950410,       1051,   -31.5163,   104.1668,       5050,   188.8,  13.6406,  35.3760,2,  35.3682,2,    233.9,2,   234.9,2,    2.99,2,    5.12,2,    0.01,2,    0.51,2,-999.000,9,-999.000,9,  2090.6,2,  2326.6,2,   0.8095,2,   1.7465,2,   -0.78,2, -999.00,9,  -999.0,9,  -999.0,   7.287,2,   0.036,-999.000,9,   0.0034,   0.0087,  13.6137,    0.14
  316N145_7,       I05E,     422,          1,         30,         30,2,19950410,       1051,   -31.5163,   104.1668,       5050,   239.4,  12.6455,  35.2258,2,  35.2157,2,    232.7,2,   234.8,2,    3.19,2,    7.33,2,    0.01,2,    0.64,2,-999.000,9,-999.000,9,  2097.9,2,  2320.7,2,   0.7401,2,   1.7623,2,   -0.61,2, -999.00,9,  -999.0,9,  -999.0,   7.393,2,   0.037,-999.000,9,   0.0033,   0.0088,  12.6130,    0.14
  316N145_7,       I05E,     422,          1,         29,         29,2,19950410,       1051,   -31.5163,   104.1668,       5050,   299.5,  11.6947,  35.0714,2,  35.0723,2,    237.8,2,   238.8,2,    3.60,2,    9.12,2,    0.01,2,    0.75,2,-999.000,9,-999.000,9,  2103.7,2,  2315.9,2,   0.6798,2,   1.7762,2,   -0.52,2, -999.00,9,  -999.0,9,  -999.0,   7.448,2,   0.037,-999.000,9,   0.0032,   0.0089,  11.6561,    0.14
  316N145_7,       I05E,     422,          1,         28,         28,2,19950410,       1051,   -31.5163,   104.1668,       5050,   359.6,  11.0344,  34.9619,2,  34.9629,2,    240.7,2,   243.2,2,    4.01,2,   10.56,2,    0.01,2,    0.83,2,-999.000,9,-999.000,9,  2105.6,2,  2304.7,2,   0.6284,2,   1.7731,2,   -0.41,2, -999.00,9,  -999.0,9,  -999.0,   7.470,2,   0.037,-999.000,9,   0.0031,   0.0089,  10.9897,    0.14
  316N145_7,       I05E,     422,          1,         27,         27,2,19950410,       1051,   -31.5163,   104.1668,       5050,   459.5,  10.2646,  34.8344,2,  34.8313,2,    242.6,2,   243.0,2,    4.63,2,   12.87,2,    0.01,2,    0.97,2,-999.000,9,-999.000,9,  2108.8,2,  2303.2,2,   0.5578,2,   1.7651,2,   -0.26,2, -999.00,9,  -999.0,9,  -999.0,   7.486,2,   0.037,-999.000,9,   0.0030,   0.0088,  10.2098,    0.14
  316N145_7,       I05E,     422,          1,         26,         26,2,19950410,       1051,   -31.5163,   104.1668,       5050,   559.8,   9.4931,  34.7114,2,  34.7118,2,    239.2,2,   238.9,2,    5.67,2,   15.62,2,    0.01,2,    1.14,2,-999.000,9,-999.000,9,  2115.7,2,  2294.7,2,   0.4823,2,   1.7694,2,    0.01,2, -999.00,9,  -999.0,9,  -999.0,   7.487,2,   0.037,-999.000,9,   0.0029,   0.0088,   9.4292,    0.14
  316N145_7,       I05E,     422,          1,         25,         25,2,19950410,       1051,   -31.5163,   104.1668,       5050,   661.0,   8.8087,  34.6218,2,  34.6179,2,    231.8,2,   226.9,2,    7.97,2,   18.91,2,    0.01,2,    1.34,2,-999.000,9,-999.000,9,  2177.2,3,  2293.1,2,   0.3827,2,   1.7706,2,    0.49,2, -999.00,9,  -999.0,9,  -999.0,   7.537,2,   0.038,-999.000,9,   0.0028,   0.0089,   8.7363,    0.14
  316N145_7,       I05E,     422,          1,         24,         24,2,19950410,       1051,   -31.5163,   104.1668,       5050,   761.9,   7.4721,  34.5082,2,  34.5110,2,    210.6,2,   203.7,2,   14.69,2,   23.84,2,    0.01,2,    1.65,2,-999.000,9,-999.000,9,  2151.4,2,  2293.3,2,  -9.0000,9,-999.0000,9, -999.00,9, -999.00,9,  -999.0,9,  -999.0,-999.000,9,-999.000,-999.000,9,  -9.0000,-999.0000,   7.3957,   -9.00
  316N145_7,       I05E,     422,          1,         23,         23,2,19950410,       1051,   -31.5163,   104.1668,       5050,   862.8,   5.8979,  34.4247,2,  34.4219,2,    196.9,2,   194.2,2,   26.05,2,   28.26,2,    0.01,2,    1.96,2,-999.000,9,-999.000,9,  2129.6,3,  2304.8,2,   0.1067,2,   1.8049,2,    3.02,2, -999.00,9,  -999.0,9,  -999.0,   7.761,2,   0.039,-999.000,9,   0.0024,   0.0090,   5.8211,    0.14
  316N145_7,       I05E,     422,          1,         22,         22,2,19950410,       1051,   -31.5163,   104.1668,       5050,   937.8,   4.9453,  34.3985,2,  34.3994,2,    192.3,2,   188.7,2,   35.93,2,   30.55,2,    0.01,2,    2.12,2,-999.000,9,-999.000,9,  2195.4,2,  2303.8,2,  -9.0000,9,-999.0000,9, -999.00,9, -999.00,9,  -999.0,9,  -999.0,-999.000,9,-999.000,-999.000,9,  -9.0000,-999.0000,   4.8681,   -9.00
  316N145_7,       I05E,     422,          1,         21,         21,2,19950410,       1051,   -31.5163,   104.1668,       5050,  1013.6,   4.3862,  34.4171,2,  34.4186,2,    178.1,2,   177.2,2,   47.28,2,   32.31,2,    0.01,2,    2.27,2,-999.000,9,-999.000,9,  2213.9,2,  2318.0,2,   0.0431,2,   1.8260,2,    6.14,2, -999.00,9,  -999.0,9,  -999.0,   7.860,2,   0.039,-999.000,9,   0.0023,   0.0091,   4.3065,    0.14
  316N145_7,       I05E,     422,          1,         20,         20,2,19950410,       1051,   -31.5163,   104.1668,       5050,  1214.3,   3.7889,  34.5191,2,  34.5176,2,    148.3,2,   147.9,2,   71.71,2,   34.71,2,    0.01,2,    2.47,2,-999.000,9,-999.000,9,  2253.3,2,  2340.8,2,   0.0105,2,   1.8764,2,    8.84,2, -999.00,9,  -999.0,9,  -999.0,   8.033,2,   0.040,-999.000,9,   0.0022,   0.0094,   3.6970,    0.14
  316N145_7,       I05E,     422,          1,         19,         19,2,19950410,       1051,   -31.5163,   104.1668,       5050,  1416.7,   3.3216,  34.5719,2,  34.5710,2,    146.3,2,   146.6,2,   80.99,2,   35.01,2,    0.01,2,    2.49,2,-999.000,9,-999.000,9,  2263.2,2,  2354.7,2,  -9.0000,9,-999.0000,9, -999.00,9, -999.00,9,  -999.0,9,  -999.0,-999.000,9,-999.000,-999.000,9,  -9.0000,-999.0000,   3.2172,   -9.00
  316N145_7,       I05E,     422,          1,         18,         18,2,19950410,       1051,   -31.5163,   104.1668,       5050,  1618.6,   2.9856,  34.6288,2,  34.6286,2,    146.6,2,   148.4,2,   89.22,2,   34.77,2,    0.01,2,    2.48,2,-999.000,9,-999.000,9,  2270.7,2,  2360.5,2,   0.0013,2,-999.0000,9, -999.00,9, -999.00,9,  -999.0,9,  -999.0,-999.000,9,-999.000,-999.000,9,   0.0022,-999.0000,   2.8678,   -9.00
  316N145_7,       I05E,     422,          1,         17,         17,2,19950410,       1051,   -31.5163,   104.1668,       5050,  1820.0,   2.6848,  34.6784,2,  34.6769,2,    152.2,2,   153.0,2,   96.84,2,   34.24,2,    0.01,2,    2.43,2,-999.000,9,-999.000,9,  2275.1,2,  2369.5,2,  -9.0000,9,-999.0000,9, -999.00,9, -999.00,9,  -999.0,9,  -999.0,-999.000,9,-999.000,-999.000,9,  -9.0000,-999.0000,   2.5536,   -9.00
  316N145_7,       I05E,     422,          1,         16,         16,2,19950410,       1051,   -31.5163,   104.1668,       5050,  2022.3,   2.4573,  34.7036,2,  34.7029,2,    159.3,2,   158.5,2,  102.14,2,   33.80,2,    0.01,2,    2.40,2,-999.000,9,-999.000,9,  2277.9,2,  2375.5,2,   0.0037,2,   1.8517,2,   13.24,2, -999.00,9,  -999.0,9,  -999.0,   7.930,2,   0.040,-999.000,9,   0.0023,   0.0093,   2.3118,    0.14
  316N145_7,       I05E,     422,          1,         15,         15,2,19950410,       1051,   -31.5163,   104.1668,       5050,  2224.7,   2.2585,  34.7179,2,  34.7172,2,    163.3,2,   163.1,2,  106.60,2,   33.47,2,    0.01,2,    2.37,2,-999.000,9,-999.000,9,  2280.4,2,  2376.5,2,  -9.0000,9,-999.0000,9, -999.00,9, -999.00,9,  -999.0,9,  -999.0,-999.000,9,-999.000,-999.000,9,  -9.0000,-999.0000,   2.0982,   -9.00
  316N145_7,       I05E,     422,          1,         14,         14,2,19950410,       1051,   -31.5163,   104.1668,       5050,  2428.1,   2.0757,  34.7262,2,  34.7255,2,    171.2,2,   171.1,2,  107.00,2,   32.98,2,    0.01,2,    2.32,2,-999.000,9,-999.000,9,  2275.9,2,  2379.6,2,  -9.0000,9,-999.0000,9, -999.00,9, -999.00,9,  -999.0,9,  -999.0,-999.000,9,-999.000,-999.000,9,  -9.0000,-999.0000,   1.9003,   -9.00
  316N145_7,       I05E,     422,          1,         13,         13,2,19950410,       1051,   -31.5163,   104.1668,       5050,  2631.1,   1.9049,  34.7298,2,  34.7294,2,    176.6,2,   176.8,2,  109.33,2,   32.74,2,    0.01,2,    2.30,2,-999.000,9,-999.000,9,  2273.7,2,  2381.4,2,  -9.0000,9,-999.0000,9, -999.00,9, -999.00,9,  -999.0,9,  -999.0,-999.000,9,-999.000,-999.000,9,  -9.0000,-999.0000,   1.7140,   -9.00
  316N145_7,       I05E,     422,          1,         12,         12,2,19950410,       1051,   -31.5163,   104.1668,       5050,  2834.8,   1.7480,  34.7337,2,  34.7332,2,    184.4,2,   185.3,2,  108.46,2,   32.16,2,    0.01,2,    2.25,2,-999.000,9,-999.000,9,  2269.5,2,  2377.7,2,  -9.0000,9,-999.0000,9, -999.00,9, -999.00,9,  -999.0,9,  -999.0,-999.000,9,-999.000,-999.000,9,  -9.0000,-999.0000,   1.5412,   -9.00
  316N145_7,       I05E,     422,          1,         11,         11,2,19950410,       1051,   -31.5163,   104.1668,       5050,  3037.7,   1.6022,  34.7328,2,  34.7332,2,    189.7,2,   189.4,2,  110.36,2,   31.97,2,    0.01,2,    2.24,2,-999.000,9,-999.000,9,  2267.7,2,  2373.8,2,  -9.0000,9,-999.0000,9, -999.00,9, -999.00,9,  -999.0,9,  -999.0,-999.000,9,-999.000,-999.000,9,  -9.0000,-999.0000,   1.3793,   -9.00
  316N145_7,       I05E,     422,          1,         10,         10,2,19950410,       1051,   -31.5163,   104.1668,       5050,  3241.9,   1.4739,  34.7317,2,  34.7304,2,    193.0,2,   194.8,2,  111.20,2,   31.79,2,    0.00,2,    2.22,2,-999.000,9,-999.000,9,  2264.3,2,  2375.0,2,  -9.0000,9,-999.0000,9, -999.00,9, -999.00,9,  -999.0,9,  -999.0,-999.000,9,-999.000,-999.000,9,  -9.0000,-999.0000,   1.2340,   -9.00
  316N145_7,       I05E,     422,          1,          9,          9,2,19950410,       1051,   -31.5163,   104.1668,       5050,  3446.6,   1.3361,  34.7259,2,  34.7251,2,    195.5,2,   195.5,2,  115.89,2,   32.09,2,    0.00,2,    2.24,2,-999.000,9,-999.000,9,  2266.0,2,  2379.2,2,  -9.0000,9,-999.0000,9, -999.00,9, -999.00,9,  -999.0,9,  -999.0,-999.000,9,-999.000,-999.000,9,  -9.0000,-999.0000,   1.0792,   -9.00
  316N145_7,       I05E,     422,          1,          8,          8,2,19950410,       1051,   -31.5163,   104.1668,       5050,  3650.2,   1.2355,  34.7229,2,  34.7222,2,    199.0,2,   199.1,2,  116.95,2,   31.99,2,    0.00,2,    2.24,2,-999.000,9,-999.000,9,  2265.2,2,  2375.8,2,  -9.0000,9,-999.0000,9, -999.00,9, -999.00,9,  -999.0,9,  -999.0,-999.000,9,-999.000,-999.000,9,  -9.0000,-999.0000,   0.9606,   -9.00
  316N145_7,       I05E,     422,          1,          7,          7,2,19950410,       1051,   -31.5163,   104.1668,       5050,  3854.5,   1.1597,  34.7198,2,  34.7191,2,    201.7,2,   201.5,2,  118.00,2,   32.00,2,    0.00,2,    2.23,2,-999.000,9,-999.000,9,  2264.0,2,  2377.8,2,  -9.0000,9,-999.0000,9, -999.00,9, -999.00,9,  -999.0,9,  -999.0,-999.000,9,-999.000,-999.000,9,  -9.0000,-999.0000,   0.8656,   -9.00
  316N145_7,       I05E,     422,          1,          6,          6,2,19950410,       1051,   -31.5163,   104.1668,       5050,  4058.6,   1.0871,  34.7164,2,  34.7159,2,    203.8,2,   204.5,2,  120.35,2,   32.10,2,    0.00,2,    2.24,2,   0.003,2,   0.003,2,  2262.0,2,  2374.6,2,  -9.0000,9,-999.0000,9, -999.00,9, -999.00,9,  -999.0,9,  -999.0,-999.000,9,-999.000,-999.000,9,  -9.0000,-999.0000,   0.7734,   -9.00
  316N145_7,       I05E,     422,          1,          5,          5,2,19950410,       1051,   -31.5163,   104.1668,       5050,  4263.5,   1.0394,  34.7134,2,  34.7122,2,    205.9,2,   205.4,2,  120.54,2,   32.11,2,    0.00,2,    2.23,2,   0.006,2,   0.003,2,  2263.1,2,  2373.8,2,  -9.0000,9,-999.0000,9, -999.00,9, -999.00,9,  -999.0,9,  -999.0,-999.000,9,-999.000,-999.000,9,  -9.0000,-999.0000,   0.7049,   -9.00
  316N145_7,       I05E,     422,          1,          4,          4,2,19950410,       1051,   -31.5163,   104.1668,       5050,  4467.4,   1.0030,  34.7103,2,  34.7105,2,    205.9,2,   206.3,2,  121.38,2,   32.17,2,    0.00,2,    2.24,2,   0.005,2,   0.002,2,  2263.8,2,  2376.2,2,  -9.0000,9,-999.0000,9, -999.00,9, -999.00,9,  -999.0,9,  -999.0,-999.000,9,-999.000,-999.000,9,  -9.0000,-999.0000,   0.6470,   -9.00
  316N145_7,       I05E,     422,          1,          3,          3,2,19950410,       1051,   -31.5163,   104.1668,       5050,  4673.0,   0.9827,  34.7090,2,  34.7079,2,    207.2,2,   208.1,2,  122.22,2,   32.17,2,    0.00,2,    2.24,2,   0.006,2,   0.005,2,  2263.2,2,  2371.9,2,  -9.0000,9,-999.0000,9, -999.00,9, -999.00,9,  -999.0,9,  -999.0,-999.000,9,-999.000,-999.000,9,  -9.0000,-999.0000,   0.6040,   -9.00
  316N145_7,       I05E,     422,          1,          2,          2,2,19950410,       1051,   -31.5163,   104.1668,       5050,  4877.2,   0.9757,  34.7077,2,  34.7063,2,    208.1,2,   207.4,2,  122.85,2,   32.23,2,    0.00,2,    2.24,2,   0.009,2,   0.005,2,  2264.6,2,  2378.4,2,  -9.0000,9,-999.0000,9, -999.00,9, -999.00,9,  -999.0,9,  -999.0,-999.000,9,-999.000,-999.000,9,  -9.0000,-999.0000,   0.5736,   -9.00
  316N145_7,       I05E,     422,          1,          1,          1,2,19950410,       1051,   -31.5163,   104.1668,       5050,  5161.2,   0.9801,  34.7061,2,  34.7060,2,    208.4,2,   208.1,2,  123.47,2,   32.33,2,    0.00,2,    2.25,2,   0.009,2,   0.007,2,  2264.8,2,  2377.1,2,  -9.0000,9,-999.0000,9, -999.00,9, -999.00,9,  -999.0,9,  -999.0,-999.000,9,-999.000,   0.122,6,  -9.0000,-999.0000,   0.5440,   -9.00