BOTTLE,20211124CCHSIORKP
EXPOCODE,SECT_ID,STNNBR,CASTNO,SAMPNO,BTLNBR,BTLNBR_FLAG_W,DATE,TIME,LATITUDE,LONGITUDE,DEPTH,CTDPRS,CTDTMP,CTDSAL,CTDSAL_FLAG_W,SALNTY,SALNTY_FLAG_W,CTDOXY,CTDOXY_FLAG_W,OXYGEN,OXYGEN_FLAG_W,SILCAT,SILCAT_FLAG_W,NITRAT,NITRAT_FLAG_W,NITRIT,NITRIT_FLAG_W,PHSPHT,PHSPHT_FLAG_W,CFC-11,CFC-11_FLAG_W,CFC-12,CFC-12_FLAG_W,TCARBN,TCARBN_FLAG_W,ALKALI,ALKALI_FLAG_W,TRITUM,TRITUM_FLAG_W,HELIUM,HELIUM_FLAG_W,DELHE3,DELHE3_FLAG_W,DELC13,DELC13_FLAG_W,DELC14,DELC14_FLAG_W,C14ERR,NEON,NEON_FLAG_W,NEONER,CCL4,CCL4_FLAG_W,TRITER,HELIER,THETA,DELHER
,,,,,,,,,,,METERS,DBAR,ITS-90,PSS-78,,PSS-78,,UMOL/KG,,UMOL/KG,,UMOL/KG,,UMOL/KG,,UMOL/KG,,UMOL/KG,,PMOL/KG,,PMOL/KG,,UMOL/KG,,UMOL/KG,,TU,,NMOL/KG,,PERCNT,,/MILLE,,/MILLE,,/MILLE,NMOL/KG,,NMOL/KG,PMOL/KG,,TU,NMOL/KG,DEG C,PERCNT
  316N145_7,       I05E,     412,          1,         36,         36,2,19950408,       0515,   -33.4817,    99.5350,       4641,     4.5,  20.3691,  35.9083,2,  35.9095,2,    227.6,2,   227.0,2,    2.40,2,    0.10,2,    0.00,2,    0.15,2,   2.311,2,   1.284,2,  2058.6,2,  2361.3,2,  -9.0000,9,-999.0000,9, -999.00,9, -999.00,9,  -999.0,9,  -999.0,-999.000,9,-999.000,   2.790,6,  -9.0000,-999.0000,  20.3682,   -9.00
  316N145_7,       I05E,     412,          1,         35,         35,2,19950408,       0515,   -33.4817,    99.5350,       4641,    42.3,  20.1913,  35.9024,2,  35.8998,2,    224.5,2,   227.5,2,    2.39,2,    0.10,2,    0.00,2,    0.15,2,-999.000,9,-999.000,9,  2058.6,2,  2354.8,2,  -9.0000,9,-999.0000,9, -999.00,9, -999.00,9,  -999.0,9,  -999.0,-999.000,9,-999.000,-999.000,9,  -9.0000,-999.0000,  20.1834,   -9.00
  316N145_7,       I05E,     412,          1,         34,         34,2,19950408,       0515,   -33.4817,    99.5350,       4641,    78.4,  15.1680,  35.4202,2,  35.4162,2,    267.0,2,   260.5,2,    2.58,2,    0.89,2,    0.04,2,    0.29,2,   3.015,2,   1.622,2,  2065.7,2,  2328.3,2,  -9.0000,9,-999.0000,9, -999.00,9, -999.00,9,  -999.0,9,  -999.0,-999.000,9,-999.000,-999.000,9,  -9.0000,-999.0000,  15.1560,   -9.00
  316N145_7,       I05E,     412,          1,         33,         33,2,19950408,       0515,   -33.4817,    99.5350,       4641,   118.3,  14.1029,  35.4367,2,  35.4294,2,    233.8,2,   235.6,2,    2.78,2,    4.07,2,    0.10,2,    0.46,2,-999.000,9,-999.000,9,  2086.9,2,  2330.9,2,  -9.0000,9,-999.0000,9, -999.00,9, -999.00,9,  -999.0,9,  -999.0,-999.000,9,-999.000,-999.000,9,  -9.0000,-999.0000,  14.0857,   -9.00
  316N145_7,       I05E,     412,          1,         32,         32,2,19950408,       0515,   -33.4817,    99.5350,       4641,   157.5,  13.0778,  35.2739,2,  35.2707,2,    236.2,2,   240.5,2,    2.98,2,    5.96,2,    0.01,2,    0.56,2,   3.132,2,   1.684,2,  2092.1,2,  2321.7,2,  -9.0000,9,-999.0000,9, -999.00,9, -999.00,9,  -999.0,9,  -999.0,-999.000,9,-999.000,-999.000,9,  -9.0000,-999.0000,  13.0560,   -9.00
  316N145_7,       I05E,     412,          1,         31,         31,2,19950408,       0515,   -33.4817,    99.5350,       4641,   208.3,  12.3093,  35.1616,2,  35.1521,2,    238.9,2,   244.6,2,    3.38,2,    7.39,2,    0.01,2,    0.65,2,-999.000,9,-999.000,9,  2094.9,2,  2310.3,2,  -9.0000,9,-999.0000,9, -999.00,9, -999.00,9,  -999.0,9,  -999.0,-999.000,9,-999.000,-999.000,9,  -9.0000,-999.0000,  12.2816,   -9.00
  316N145_7,       I05E,     412,          1,         30,         30,2,19950408,       0515,   -33.4817,    99.5350,       4641,   258.7,  11.7116,  35.0613,2,  35.0582,2,    237.3,2,   243.3,2,    3.78,2,    9.21,2,    0.01,2,    0.75,2,   3.274,2,   1.718,2,  2099.6,2,  2310.0,2,  -9.0000,9,-999.0000,9, -999.00,9, -999.00,9,  -999.0,9,  -999.0,-999.000,9,-999.000,-999.000,9,  -9.0000,-999.0000,  11.6782,   -9.00
  316N145_7,       I05E,     412,          1,         29,         29,2,19950408,       0515,   -33.4817,    99.5350,       4641,   308.0,  11.3274,  35.0024,2,  35.0044,2,    242.4,2,   244.3,2,    4.19,2,   10.14,2,    0.01,2,    0.81,2,   3.312,2,   1.718,2,  2102.1,2,  2305.3,2,  -9.0000,9,-999.0000,9, -999.00,9, -999.00,9,  -999.0,9,  -999.0,-999.000,9,-999.000,-999.000,9,  -9.0000,-999.0000,  11.2885,   -9.00
  316N145_7,       I05E,     412,          1,         28,         28,2,19950408,       0515,   -33.4817,    99.5350,       4641,   358.6,  10.9887,  34.9515,2,  34.9519,2,    244.8,2,   245.1,2,    4.38,2,   10.88,2,    0.00,2,    0.85,2,   3.312,2,   1.717,2,  2103.3,2,  2304.5,2,  -9.0000,9,-999.0000,9, -999.00,9, -999.00,9,  -999.0,9,  -999.0,-999.000,9,-999.000,-999.000,9,  -9.0000,-999.0000,  10.9442,   -9.00
  316N145_7,       I05E,     412,          1,         27,         27,2,19950408,       0515,   -33.4817,    99.5350,       4641,   409.0,  10.6948,  34.9040,2,  34.9045,2,    243.1,2,   245.4,2,    4.37,2,   11.61,2,    0.00,2,    0.90,2,   3.298,2,   1.701,2,  2105.6,2,  2302.5,2,  -9.0000,9,-999.0000,9, -999.00,9, -999.00,9,  -999.0,9,  -999.0,-999.000,9,-999.000,-999.000,9,  -9.0000,-999.0000,  10.6448,   -9.00
  316N145_7,       I05E,     412,          1,         26,         26,2,19950408,       0515,   -33.4817,    99.5350,       4641,   484.3,  10.2428,  34.8304,2,  34.8305,2,    246.0,2,   243.9,2,    4.77,2,   12.94,2,    0.00,2,    0.98,2,   3.212,2,   1.653,2,  2109.8,2,  2300.1,2,  -9.0000,9,-999.0000,9, -999.00,9, -999.00,9,  -999.0,9,  -999.0,-999.000,9,-999.000,-999.000,9,  -9.0000,-999.0000,  10.1850,   -9.00
  316N145_7,       I05E,     412,          1,         25,         25,2,19950408,       0515,   -33.4817,    99.5350,       4641,   560.0,   9.7852,  34.7557,2,  34.7573,2,    244.7,2,   243.5,2,    5.39,2,   14.37,2,    0.00,2,    1.07,2,   3.111,6,   1.589,6,  2111.1,2,  2294.0,2,  -9.0000,9,-999.0000,9, -999.00,9, -999.00,9,  -999.0,9,  -999.0,-999.000,9,-999.000,-999.000,9,  -9.0000,-999.0000,   9.7201,   -9.00
  316N145_7,       I05E,     412,          1,         24,         24,9,19950408,       0515,   -33.4817,    99.5350,       4641,   660.1,   9.2554,  34.6762,2,-999.0000,9,    234.2,2,  -999.0,9, -999.00,9, -999.00,9, -999.00,9, -999.00,9,-999.000,9,-999.000,9,  -999.0,9,  -999.0,9,  -9.0000,9,-999.0000,9, -999.00,9, -999.00,9,  -999.0,9,  -999.0,-999.000,9,-999.000,-999.000,9,  -9.0000,-999.0000,   9.1809,   -9.00
  316N145_7,       I05E,     412,          1,         23,         23,2,19950408,       0515,   -33.4817,    99.5350,       4641,   761.1,   8.4752,  34.5876,2,  34.5876,2,    221.5,2,   220.7,2,    9.54,2,   20.17,2,    0.00,2,    1.42,2,   2.144,2,   1.056,2,  2134.1,2,  2290.4,2,  -9.0000,9,-999.0000,9, -999.00,9, -999.00,9,  -999.0,9,  -999.0,-999.000,9,-999.000,-999.000,9,  -9.0000,-999.0000,   8.3932,   -9.00
  316N145_7,       I05E,     412,          1,         22,         22,2,19950408,       0515,   -33.4817,    99.5350,       4641,   861.9,   6.9190,  34.4706,2,  34.4744,2,    199.6,2,   200.8,2,   18.07,2,   25.50,2,    0.00,2,    1.77,2,   1.117,2,   0.551,2,  2161.8,2,  2294.8,2,  -9.0000,9,-999.0000,9, -999.00,9, -999.00,9,  -999.0,9,  -999.0,-999.000,9,-999.000,-999.000,9,  -9.0000,-999.0000,   6.8357,   -9.00
  316N145_7,       I05E,     412,          1,         21,         21,2,19950408,       0515,   -33.4817,    99.5350,       4641,   961.8,   5.4622,  34.4030,2,  34.4035,2,    196.4,2,   194.3,2,   29.31,2,   29.11,2,    0.00,2,    2.03,2,   0.681,2,   0.332,2,  2184.4,2,  2297.7,2,  -9.0000,9,-999.0000,9, -999.00,9, -999.00,9,  -999.0,9,  -999.0,-999.000,9,-999.000,-999.000,9,  -9.0000,-999.0000,   5.3791,   -9.00
  316N145_7,       I05E,     412,          1,         20,         20,2,19950408,       0515,   -33.4817,    99.5350,       4641,  1114.1,   4.1646,  34.4153,2,  34.4139,2,    180.3,2,   178.6,2,   48.68,2,   32.49,2,    0.00,2,    2.29,2,   0.282,2,   0.143,2,  2217.2,2,  2319.0,2,  -9.0000,9,-999.0000,9, -999.00,9, -999.00,9,  -999.0,9,  -999.0,-999.000,9,-999.000,-999.000,9,  -9.0000,-999.0000,   4.0781,   -9.00
  316N145_7,       I05E,     412,          1,         19,         19,2,19950408,       0515,   -33.4817,    99.5350,       4641,  1263.8,   3.6934,  34.4798,2,  34.4777,2,    163.0,2,   162.1,2,   64.10,2,   33.94,2,    0.00,2,    2.42,2,   0.100,2,   0.053,2,  2242.2,2,  2333.6,2,  -9.0000,9,-999.0000,9, -999.00,9, -999.00,9,  -999.0,9,  -999.0,-999.000,9,-999.000,-999.000,9,  -9.0000,-999.0000,   3.5983,   -9.00
  316N145_7,       I05E,     412,          1,         18,         18,2,19950408,       0515,   -33.4817,    99.5350,       4641,  1416.6,   3.4185,  34.5340,2,  34.5331,2,    152.1,2,   153.1,2,   74.10,2,   34.63,2,    0.00,2,    2.48,2,-999.000,9,-999.000,9,  2256.8,2,  2340.2,2,  -9.0000,9,-999.0000,9, -999.00,9, -999.00,9,  -999.0,9,  -999.0,-999.000,9,-999.000,-999.000,9,  -9.0000,-999.0000,   3.3131,   -9.00
  316N145_7,       I05E,     412,          1,         17,         17,2,19950408,       0515,   -33.4817,    99.5350,       4641,  1567.1,   3.1076,  34.5809,2,  34.5783,2,    152.2,2,   152.6,2,   80.35,2,   34.69,2,    0.00,2,    2.47,2,   0.015,2,   0.010,2,  2263.3,2,  2350.5,2,  -9.0000,9,-999.0000,9, -999.00,9, -999.00,9,  -999.0,9,  -999.0,-999.000,9,-999.000,-999.000,9,  -9.0000,-999.0000,   2.9929,   -9.00
  316N145_7,       I05E,     412,          1,         16,         16,2,19950408,       0515,   -33.4817,    99.5350,       4641,  1718.9,   2.8299,  34.6193,2,  34.6187,2,    157.9,2,   158.7,2,   83.26,2,   34.09,2,    0.01,2,    2.42,2,   0.012,2,   0.009,2,  2263.1,2,  2347.0,2,  -9.0000,9,-999.0000,9, -999.00,9, -999.00,9,  -999.0,9,  -999.0,-999.000,9,-999.000,-999.000,9,  -9.0000,-999.0000,   2.7055,   -9.00
  316N145_7,       I05E,     412,          1,         15,         15,2,19950408,       0515,   -33.4817,    99.5350,       4641,  1921.2,   2.5697,  34.6750,2,  34.6739,2,    164.9,2,   164.7,2,   88.68,2,   33.29,2,    0.00,2,    2.35,2,-999.000,9,-999.000,9,  2265.1,2,  2357.0,2,  -9.0000,9,-999.0000,9, -999.00,9, -999.00,9,  -999.0,9,  -999.0,-999.000,9,-999.000,-999.000,9,  -9.0000,-999.0000,   2.4313,   -9.00
  316N145_7,       I05E,     412,          1,         14,         14,2,19950408,       0515,   -33.4817,    99.5350,       4641,  2124.7,   2.3845,  34.7054,2,  34.7042,2,    171.1,2,   170.9,2,   92.01,2,   32.60,2,    0.01,2,    2.31,2,   0.002,2,   0.002,2,  2266.0,2,  2363.4,2,  -9.0000,9,-999.0000,9, -999.00,9, -999.00,9,  -999.0,9,  -999.0,-999.000,9,-999.000,-999.000,9,  -9.0000,-999.0000,   2.2310,   -9.00
  316N145_7,       I05E,     412,          1,         13,         13,2,19950408,       0515,   -33.4817,    99.5350,       4641,  2328.9,   2.2004,  34.7271,2,  34.7260,2,    182.9,2,   182.0,2,   90.31,2,   31.56,2,    0.00,2,    2.21,2,-999.000,9,-999.000,9,  2254.1,2,  2357.8,2,  -9.0000,9,-999.0000,9, -999.00,9, -999.00,9,  -999.0,9,  -999.0,-999.000,9,-999.000,-999.000,9,  -9.0000,-999.0000,   2.0318,   -9.00
  316N145_7,       I05E,     412,          1,         12,         12,2,19950408,       0515,   -33.4817,    99.5350,       4641,  2531.4,   2.0393,  34.7381,2,  34.7383,2,    188.3,2,   188.3,2,   92.17,2,   31.01,2,    0.00,2,    2.17,2,   0.001,2,   0.000,2,  2251.4,2,  2358.8,2,  -9.0000,9,-999.0000,9, -999.00,9, -999.00,9,  -999.0,9,  -999.0,-999.000,9,-999.000,-999.000,9,  -9.0000,-999.0000,   1.8551,   -9.00
  316N145_7,       I05E,     412,          1,         11,         11,2,19950408,       0515,   -33.4817,    99.5350,       4641,  2735.1,   1.8568,  34.7436,2,  34.7429,2,    192.5,2,   193.3,2,   95.51,2,   30.77,2,    0.00,2,    2.16,2,-999.000,9,-999.000,9,  2250.8,2,  2358.2,2,  -9.0000,9,-999.0000,9, -999.00,9, -999.00,9,  -999.0,9,  -999.0,-999.000,9,-999.000,-999.000,9,  -9.0000,-999.0000,   1.6572,   -9.00
  316N145_7,       I05E,     412,          1,         10,         10,2,19950408,       0515,   -33.4817,    99.5350,       4641,  2936.8,   1.6753,  34.7417,2,  34.7413,2,    198.1,2,   196.8,2,  100.11,2,   30.87,2,    0.00,2,    2.16,2,   0.001,2,   0.000,2,  2253.5,2,  2364.5,2,  -9.0000,9,-999.0000,9, -999.00,9, -999.00,9,  -999.0,9,  -999.0,-999.000,9,-999.000,-999.000,9,  -9.0000,-999.0000,   1.4604,   -9.00
  316N145_7,       I05E,     412,          1,          9,          9,2,19950408,       0515,   -33.4817,    99.5350,       4641,  3142.3,   1.4833,  34.7361,2,  34.7352,2,    199.0,2,   199.6,2,  105.36,2,   31.07,2,    0.00,2,    2.18,2,-999.000,9,-999.000,9,  2253.6,2,  2362.2,2,  -9.0000,9,-999.0000,9, -999.00,9, -999.00,9,  -999.0,9,  -999.0,-999.000,9,-999.000,-999.000,9,  -9.0000,-999.0000,   1.2529,   -9.00
  316N145_7,       I05E,     412,          1,          8,          8,2,19950408,       0515,   -33.4817,    99.5350,       4641,  3344.6,   1.3329,  34.7294,2,  34.7295,2,    201.5,2,   201.4,2,  110.42,2,   31.42,2,    0.00,2,    2.20,2,   0.003,2,   0.001,2,  2256.6,2,  2375.6,2,  -9.0000,9,-999.0000,9, -999.00,9, -999.00,9,  -999.0,9,  -999.0,-999.000,9,-999.000,-999.000,9,  -9.0000,-999.0000,   1.0862,   -9.00
  316N145_7,       I05E,     412,          1,          7,          7,2,19950408,       0515,   -33.4817,    99.5350,       4641,  3548.1,   1.2304,  34.7246,2,  34.7247,2,    202.1,2,   202.7,2,  113.36,2,   31.57,2,    0.00,2,    2.21,2,-999.000,9,-999.000,9,  2258.5,2,  2367.5,2,  -9.0000,9,-999.0000,9, -999.00,9, -999.00,9,  -999.0,9,  -999.0,-999.000,9,-999.000,-999.000,9,  -9.0000,-999.0000,   0.9660,   -9.00
  316N145_7,       I05E,     412,          1,          6,          6,2,19950408,       0515,   -33.4817,    99.5350,       4641,  3754.2,   1.1504,  34.7203,2,  34.7196,2,    204.1,2,   204.3,2,  115.88,2,   31.72,2,    0.00,2,    2.22,2,   0.002,2,   0.003,2,  2260.2,2,  2375.8,2,  -9.0000,9,-999.0000,9, -999.00,9, -999.00,9,  -999.0,9,  -999.0,-999.000,9,-999.000,-999.000,9,  -9.0000,-999.0000,   0.8670,   -9.00
  316N145_7,       I05E,     412,          1,          5,          5,2,19950408,       0515,   -33.4817,    99.5350,       4641,  3957.3,   1.0778,  34.7166,2,  34.7151,2,    204.9,2,   205.2,2,  118.20,2,   31.88,2,    0.00,2,    2.23,2,-999.000,9,-999.000,9,  2261.9,2,  2372.9,2,  -9.0000,9,-999.0000,9, -999.00,9, -999.00,9,  -999.0,9,  -999.0,-999.000,9,-999.000,-999.000,9,  -9.0000,-999.0000,   0.7752,   -9.00
  316N145_7,       I05E,     412,          1,          4,          4,2,19950408,       0515,   -33.4817,    99.5350,       4641,  4162.3,   1.0249,  34.7129,2,  34.7121,2,    205.7,2,   206.0,2,  119.87,2,   31.93,2,    0.00,2,    2.24,2,   0.003,2,   0.000,2,  2263.4,2,  2389.1,3,  -9.0000,9,-999.0000,9, -999.00,9, -999.00,9,  -999.0,9,  -999.0,-999.000,9,-999.000,-999.000,9,  -9.0000,-999.0000,   0.7019,   -9.00
  316N145_7,       I05E,     412,          1,          3,          3,2,19950408,       0515,   -33.4817,    99.5350,       4641,  4365.4,   1.0092,  34.7111,2,  34.7103,2,    206.5,2,   206.7,2,  120.70,2,   31.98,2,    0.00,2,    2.24,2,   0.003,2,   0.005,2,  2263.8,2,  2372.6,2,  -9.0000,9,-999.0000,9, -999.00,9, -999.00,9,  -999.0,9,  -999.0,-999.000,9,-999.000,-999.000,9,  -9.0000,-999.0000,   0.6644,   -9.00
  316N145_7,       I05E,     412,          1,          2,          2,2,19950408,       0515,   -33.4817,    99.5350,       4641,  4571.7,   1.0065,  34.7108,2,  34.7091,2,    207.2,2,   207.1,2,  121.31,2,   32.09,2,    0.00,2,    2.24,2,   0.008,2,   0.004,2,  2264.9,2,  2391.8,3,  -9.0000,9,-999.0000,9, -999.00,9, -999.00,9,  -999.0,9,  -999.0,-999.000,9,-999.000,-999.000,9,  -9.0000,-999.0000,   0.6386,   -9.00
  316N145_7,       I05E,     412,          1,          1,          1,2,19950408,       0515,   -33.4817,    99.5350,       4641,  4737.4,   1.0189,  34.7095,2,  34.7113,2,    207.3,2,   205.9,3,  121.71,2,   32.14,2,    0.00,2,    2.24,2,   0.006,2,   0.006,2,  2266.7,2,  2374.3,2,  -9.0000,9,-999.0000,9, -999.00,9, -999.00,9,  -999.0,9,  -999.0,-999.000,9,-999.000,   0.071,6,  -9.0000,-999.0000,   0.6317,   -9.00