BOTTLE,20211124CCHSIORKP
EXPOCODE,SECT_ID,STNNBR,CASTNO,SAMPNO,BTLNBR,BTLNBR_FLAG_W,DATE,TIME,LATITUDE,LONGITUDE,DEPTH,CTDPRS,CTDTMP,CTDSAL,CTDSAL_FLAG_W,SALNTY,SALNTY_FLAG_W,CTDOXY,CTDOXY_FLAG_W,OXYGEN,OXYGEN_FLAG_W,SILCAT,SILCAT_FLAG_W,NITRAT,NITRAT_FLAG_W,NITRIT,NITRIT_FLAG_W,PHSPHT,PHSPHT_FLAG_W,CFC-11,CFC-11_FLAG_W,CFC-12,CFC-12_FLAG_W,TCARBN,TCARBN_FLAG_W,ALKALI,ALKALI_FLAG_W,TRITUM,TRITUM_FLAG_W,HELIUM,HELIUM_FLAG_W,DELHE3,DELHE3_FLAG_W,DELC13,DELC13_FLAG_W,DELC14,DELC14_FLAG_W,C14ERR,NEON,NEON_FLAG_W,NEONER,CCL4,CCL4_FLAG_W,TRITER,HELIER,THETA,DELHER
,,,,,,,,,,,METERS,DBAR,ITS-90,PSS-78,,PSS-78,,UMOL/KG,,UMOL/KG,,UMOL/KG,,UMOL/KG,,UMOL/KG,,UMOL/KG,,PMOL/KG,,PMOL/KG,,UMOL/KG,,UMOL/KG,,TU,,NMOL/KG,,PERCNT,,/MILLE,,/MILLE,,/MILLE,NMOL/KG,,NMOL/KG,PMOL/KG,,TU,NMOL/KG,DEG C,PERCNT
  316N145_7,       I08N,     333,          1,         35,         35,2,19950321,       2045,   -13.5000,    79.9998,       4899,     3.3,  28.8215,  34.5976,2,  34.5971,2,    182.5,3,   197.8,2,    2.70,2,    0.15,2,    0.00,2,    0.11,2,-999.000,9,-999.000,9,  1927.8,2,  2268.1,2,  -9.0000,9,-999.0000,9, -999.00,9, -999.00,9,  -999.0,9,  -999.0,-999.000,9,-999.000,-999.000,9,  -9.0000,-999.0000,  28.8207,   -9.00
  316N145_7,       I08N,     333,          1,         34,         34,2,19950321,       2045,   -13.5000,    79.9998,       4899,    36.5,  28.8341,  34.5970,2,  34.5956,2,    192.2,2,   197.4,2,    2.68,2,    0.15,2,    0.00,2,    0.11,2,-999.000,9,-999.000,9,  -999.0,9,  -999.0,9,  -9.0000,9,-999.0000,9, -999.00,9, -999.00,9,  -999.0,9,  -999.0,-999.000,9,-999.000,-999.000,9,  -9.0000,-999.0000,  28.8254,   -9.00
  316N145_7,       I08N,     333,          1,         33,         33,2,19950321,       2045,   -13.5000,    79.9998,       4899,    66.6,  25.7188,  34.6350,2,  34.6396,2,    193.8,2,   192.4,2,    4.31,2,    1.52,2,    0.05,2,    0.33,2,-999.000,9,-999.000,9,  -999.0,9,  -999.0,9,  -9.0000,9,-999.0000,9, -999.00,9, -999.00,9,  -999.0,9,  -999.0,-999.000,9,-999.000,-999.000,9,  -9.0000,-999.0000,  25.7041,   -9.00
  316N145_7,       I08N,     333,          1,         32,         32,2,19950321,       2045,   -13.5000,    79.9998,       4899,    91.3,  23.2068,  34.7244,2,  34.7225,2,    140.3,2,   136.7,2,    9.42,2,    8.75,2,    0.68,2,    0.73,2,-999.000,9,-999.000,9,  -999.0,9,  -999.0,9,  -9.0000,9,-999.0000,9, -999.00,9, -999.00,9,  -999.0,9,  -999.0,-999.000,9,-999.000,-999.000,9,  -9.0000,-999.0000,  23.1881,   -9.00
  316N145_7,       I08N,     333,          1,         31,         31,2,19950321,       2045,   -13.5000,    79.9998,       4899,   117.7,  22.1418,  35.1034,2,  35.0902,2,    174.2,2,   174.4,2,    5.86,2,    4.35,2,    0.11,2,    0.41,2,-999.000,9,-999.000,9,  -999.0,9,  -999.0,9,  -9.0000,9,-999.0000,9, -999.00,9, -999.00,9,  -999.0,9,  -999.0,-999.000,9,-999.000,-999.000,9,  -9.0000,-999.0000,  22.1184,   -9.00
  316N145_7,       I08N,     333,          1,         30,         30,2,19950321,       2045,   -13.5000,    79.9998,       4899,   156.5,  19.6101,  35.1277,2,  35.1274,2,    137.7,2,   138.8,2,   12.65,2,   10.74,2,    0.01,2,    0.81,2,-999.000,9,-999.000,9,  -999.0,9,  -999.0,9,  -9.0000,9,-999.0000,9, -999.00,9, -999.00,9,  -999.0,9,  -999.0,-999.000,9,-999.000,-999.000,9,  -9.0000,-999.0000,  19.5816,   -9.00
  316N145_7,       I08N,     333,          1,         29,         29,2,19950321,       2045,   -13.5000,    79.9998,       4899,   266.7,  13.6365,  35.0878,2,  35.0880,2,    140.2,2,   143.5,2,   21.51,2,   16.44,2,    0.00,2,    1.21,2,-999.000,9,-999.000,9,  -999.0,9,  -999.0,9,  -9.0000,9,-999.0000,9, -999.00,9, -999.00,9,  -999.0,9,  -999.0,-999.000,9,-999.000,-999.000,9,  -9.0000,-999.0000,  13.5986,   -9.00
  316N145_7,       I08N,     333,          1,         28,         28,2,19950321,       2045,   -13.5000,    79.9998,       4899,   327.2,  12.4563,  35.1349,2,  35.1477,2,    189.6,2,   201.4,2,    8.47,2,   11.61,2,    0.00,2,    0.89,2,-999.000,9,-999.000,9,  -999.0,9,  -999.0,9,  -9.0000,9,-999.0000,9, -999.00,9, -999.00,9,  -999.0,9,  -999.0,-999.000,9,-999.000,-999.000,9,  -9.0000,-999.0000,  12.4123,   -9.00
  316N145_7,       I08N,     333,          1,         27,         27,2,19950321,       2045,   -13.5000,    79.9998,       4899,   429.0,   9.7889,  34.7728,2,  34.7829,2,    192.0,2,   201.8,2,   11.54,2,   17.73,2,    0.00,2,    1.25,2,-999.000,9,-999.000,9,  -999.0,9,  -999.0,9,  -9.0000,9,-999.0000,9, -999.00,9, -999.00,9,  -999.0,9,  -999.0,-999.000,9,-999.000,-999.000,9,  -9.0000,-999.0000,   9.7394,   -9.00
  316N145_7,       I08N,     333,          1,         26,         26,2,19950321,       2045,   -13.5000,    79.9998,       4899,   527.2,   8.1350,  34.6276,2,  34.6288,2,    172.4,2,   170.5,2,   23.29,2,   25.05,2,    0.00,2,    1.73,2,-999.000,9,-999.000,9,  -999.0,9,  -999.0,9,  -9.0000,9,-999.0000,9, -999.00,9, -999.00,9,  -999.0,9,  -999.0,-999.000,9,-999.000,-999.000,9,  -9.0000,-999.0000,   8.0803,   -9.00
  316N145_7,       I08N,     333,          1,         25,         25,2,19950321,       2045,   -13.5000,    79.9998,       4899,   627.8,   7.2408,  34.6648,2,  34.6640,2,    115.6,2,   114.6,2,   49.08,2,   31.79,2,    0.00,2,    2.24,2,-999.000,9,-999.000,9,  -999.0,9,  -999.0,9,  -9.0000,9,-999.0000,9, -999.00,9, -999.00,9,  -999.0,9,  -999.0,-999.000,9,-999.000,-999.000,9,  -9.0000,-999.0000,   7.1794,   -9.00
  316N145_7,       I08N,     333,          1,         24,         24,2,19950321,       2045,   -13.5000,    79.9998,       4899,   730.5,   6.5519,  34.6951,2,  34.6960,2,     91.3,2,    90.5,2,   69.12,2,   34.87,2,    0.00,2,    2.50,2,-999.000,9,-999.000,9,  -999.0,9,  -999.0,9,  -9.0000,9,-999.0000,9, -999.00,9, -999.00,9,  -999.0,9,  -999.0,-999.000,9,-999.000,-999.000,9,  -9.0000,-999.0000,   6.4837,   -9.00
  316N145_7,       I08N,     333,          1,         23,         23,2,19950321,       2045,   -13.5000,    79.9998,       4899,   830.9,   6.0077,  34.6940,2,  34.6947,2,     87.4,2,    88.6,2,   78.82,2,   35.64,2,    0.00,2,    2.58,2,-999.000,9,-999.000,9,  -999.0,9,  -999.0,9,  -9.0000,9,-999.0000,9, -999.00,9, -999.00,9,  -999.0,9,  -999.0,-999.000,9,-999.000,-999.000,9,  -9.0000,-999.0000,   5.9329,   -9.00
  316N145_7,       I08N,     333,          1,         22,         22,2,19950321,       2045,   -13.5000,    79.9998,       4899,   929.7,   5.5740,  34.7050,2,  34.7045,2,     90.8,2,    91.9,2,   84.40,2,   35.97,2,    0.00,2,    2.61,2,-999.000,9,-999.000,9,  -999.0,9,  -999.0,9,  -9.0000,9,-999.0000,9, -999.00,9, -999.00,9,  -999.0,9,  -999.0,-999.000,9,-999.000,-999.000,9,  -9.0000,-999.0000,   5.4927,   -9.00
  316N145_7,       I08N,     333,          1,         21,         21,2,19950321,       2045,   -13.5000,    79.9998,       4899,  1030.7,   5.1538,  34.6901,2,  34.6913,2,     91.9,2,    91.4,2,   91.85,2,   36.50,2,    0.00,2,    2.64,2,-999.000,9,-999.000,9,  -999.0,9,  -999.0,9,  -9.0000,9,-999.0000,9, -999.00,9, -999.00,9,  -999.0,9,  -999.0,-999.000,9,-999.000,-999.000,9,  -9.0000,-999.0000,   5.0662,   -9.00
  316N145_7,       I08N,     333,          1,         20,         20,2,19950321,       2045,   -13.5000,    79.9998,       4899,  1162.4,   4.6274,  34.6789,2,  34.6805,2,     96.4,2,    96.6,2,   99.54,2,   36.64,2,    0.00,2,    2.66,2,   0.034,3,   0.002,2,  -999.0,9,  -999.0,9,  -9.0000,9,-999.0000,9, -999.00,9, -999.00,9,  -999.0,9,  -999.0,-999.000,9,-999.000,   0.026,2,  -9.0000,-999.0000,   4.5321,   -9.00
  316N145_7,       I08N,     333,          1,         19,         19,2,19950321,       2045,   -13.5000,    79.9998,       4899,  1339.2,   4.0032,  34.6945,2,  34.6951,2,    107.2,2,   107.4,2,  102.85,2,   36.40,2,    0.00,2,    2.64,2,-999.000,9,-999.000,9,  -999.0,9,  -999.0,9,  -9.0000,9,-999.0000,9, -999.00,9, -999.00,9,  -999.0,9,  -999.0,-999.000,9,-999.000,-999.000,9,  -9.0000,-999.0000,   3.8981,   -9.00
  316N145_7,       I08N,     333,          1,         18,         18,2,19950321,       2045,   -13.5000,    79.9998,       4899,  1516.6,   3.4918,  34.7179,2,  34.7179,2,    116.3,2,   116.7,2,  108.05,2,   36.15,2,    0.00,2,    2.61,2,-999.000,9,-999.000,9,  -999.0,9,  -999.0,9,  -9.0000,9,-999.0000,9, -999.00,9, -999.00,9,  -999.0,9,  -999.0,-999.000,9,-999.000,-999.000,9,  -9.0000,-999.0000,   3.3765,   -9.00
  316N145_7,       I08N,     333,          1,         17,         17,2,19950321,       2045,   -13.5000,    79.9998,       4899,  1694.2,   3.0155,  34.7255,2,  34.7257,2,    130.0,2,   130.1,2,  110.74,2,   35.57,2,    0.00,2,    2.55,2,-999.000,9,-999.000,9,  -999.0,9,  -999.0,9,  -9.0000,9,-999.0000,9, -999.00,9, -999.00,9,  -999.0,9,  -999.0,-999.000,9,-999.000,-999.000,9,  -9.0000,-999.0000,   2.8905,   -9.00
  316N145_7,       I08N,     333,          1,         16,         16,2,19950321,       2045,   -13.5000,    79.9998,       4899,  1868.8,   2.6949,  34.7349,2,  34.7352,2,    138.6,2,   138.9,2,  113.65,2,   35.18,2,    0.00,2,    2.51,2,-999.000,9,-999.000,9,  -999.0,9,  -999.0,9,  -9.0000,9,-999.0000,9, -999.00,9, -999.00,9,  -999.0,9,  -999.0,-999.000,9,-999.000,-999.000,9,  -9.0000,-999.0000,   2.5591,   -9.00
  316N145_7,       I08N,     333,          1,         15,         15,2,19950321,       2045,   -13.5000,    79.9998,       4899,  1996.7,   2.4764,  34.7344,2,  34.7344,2,    146.1,2,   146.3,2,  115.08,2,   34.84,2,    0.00,2,    2.48,2,-999.000,9,-999.000,9,  -999.0,9,  -999.0,9,  -9.0000,9,-999.0000,9, -999.00,9, -999.00,9,  -999.0,9,  -999.0,-999.000,9,-999.000,-999.000,9,  -9.0000,-999.0000,   2.3327,   -9.00
  316N145_7,       I08N,     333,          1,         14,         14,2,19950321,       2045,   -13.5000,    79.9998,       4899,  2200.4,   2.1741,  34.7330,2,  34.7332,2,    155.9,2,   156.7,2,  117.16,2,   34.30,2,    0.00,2,    2.43,2,-999.000,9,-999.000,9,  -999.0,9,  -999.0,9,  -9.0000,9,-999.0000,9, -999.00,9, -999.00,9,  -999.0,9,  -999.0,-999.000,9,-999.000,-999.000,9,  -9.0000,-999.0000,   2.0173,   -9.00
  316N145_7,       I08N,     333,          1,         13,         13,2,19950321,       2045,   -13.5000,    79.9998,       4899,  2401.9,   1.9870,  34.7309,2,  34.7315,2,    162.8,2,   163.9,2,  118.38,2,   34.06,2,    0.00,2,    2.40,2,-999.000,9,-999.000,9,  -999.0,9,  -999.0,9,  -9.0000,9,-999.0000,9, -999.00,9, -999.00,9,  -999.0,9,  -999.0,-999.000,9,-999.000,-999.000,9,  -9.0000,-999.0000,   1.8155,   -9.00
  316N145_7,       I08N,     333,          1,         12,         12,2,19950321,       2045,   -13.5000,    79.9998,       4899,  2605.9,   1.8329,  34.7292,2,  34.7303,2,    167.3,2,   167.6,2,  120.88,2,   33.91,2,    0.00,2,    2.38,2,  -0.038,3,   0.006,2,  -999.0,9,  -999.0,9,  -9.0000,9,-999.0000,9, -999.00,9, -999.00,9,  -999.0,9,  -999.0,-999.000,9,-999.000,   0.005,2,  -9.0000,-999.0000,   1.6458,   -9.00
  316N145_7,       I08N,     333,          1,         11,         11,2,19950321,       2045,   -13.5000,    79.9998,       4899,  2807.7,   1.7241,  34.7276,2,  34.7279,2,    170.9,2,   169.8,2,  123.60,2,   33.86,2,    0.00,2,    2.37,2,-999.000,9,-999.000,9,  -999.0,9,  -999.0,9,  -9.0000,9,-999.0000,9, -999.00,9, -999.00,9,  -999.0,9,  -999.0,-999.000,9,-999.000,-999.000,9,  -9.0000,-999.0000,   1.5204,   -9.00
  316N145_7,       I08N,     333,          1,         10,         10,2,19950321,       2045,   -13.5000,    79.9998,       4899,  3037.7,   1.6252,  34.7254,2,  34.7256,2,    171.8,2,   170.6,2,  127.60,2,   34.05,2,    0.00,2,    2.38,2,  -0.055,3,  -0.002,2,  -999.0,9,  -999.0,9,  -9.0000,9,-999.0000,9, -999.00,9, -999.00,9,  -999.0,9,  -999.0,-999.000,9,-999.000,   0.016,2,  -9.0000,-999.0000,   1.4018,   -9.00
  316N145_7,       I08N,     333,          1,          9,          9,2,19950321,       2045,   -13.5000,    79.9998,       4899,  3266.2,   1.5262,  34.7232,2,  34.7240,2,    175.3,2,   175.0,2,  127.99,2,   33.85,2,    0.00,2,    2.37,2,-999.000,9,-999.000,9,  -999.0,9,  -999.0,9,  -9.0000,9,-999.0000,9, -999.00,9, -999.00,9,  -999.0,9,  -999.0,-999.000,9,-999.000,-999.000,9,  -9.0000,-999.0000,   1.2827,   -9.00
  316N145_7,       I08N,     333,          1,          8,          8,2,19950321,       2045,   -13.5000,    79.9998,       4899,  3495.2,   1.4195,  34.7212,2,  34.7213,2,    181.2,2,   180.2,2,  128.37,2,   33.61,2,    0.00,2,    2.34,2,  -0.041,3,   0.006,2,  -999.0,9,  -999.0,9,  -9.0000,9,-999.0000,9, -999.00,9, -999.00,9,  -999.0,9,  -999.0,-999.000,9,-999.000,   0.020,2,  -9.0000,-999.0000,   1.1557,   -9.00
  316N145_7,       I08N,     333,          1,          7,          7,2,19950321,       2045,   -13.5000,    79.9998,       4899,  3724.6,   1.3577,  34.7185,2,  34.7195,2,    181.9,2,   181.8,2,  130.25,2,   33.51,2,    0.00,2,    2.34,2,-999.000,9,-999.000,9,  -999.0,9,  -999.0,9,  -9.0000,9,-999.0000,9, -999.00,9, -999.00,9,  -999.0,9,  -999.0,-999.000,9,-999.000,-999.000,9,  -9.0000,-999.0000,   1.0718,   -9.00
  316N145_7,       I08N,     333,          1,          6,          6,2,19950321,       2045,   -13.5000,    79.9998,       4899,  3953.9,   1.3423,  34.7175,2,  34.7187,2,    181.3,2,   182.8,2,  131.71,2,   33.70,2,    0.00,2,    2.34,2,  -0.015,3,  -0.002,2,  -999.0,9,  -999.0,9,  -9.0000,9,-999.0000,9, -999.00,9, -999.00,9,  -999.0,9,  -999.0,-999.000,9,-999.000,   0.012,2,  -9.0000,-999.0000,   1.0326,   -9.00
  316N145_7,       I08N,     333,          1,          5,          5,2,19950321,       2045,   -13.5000,    79.9998,       4899,  4184.6,   1.3524,  34.7173,2,  34.7183,2,    179.7,3,   182.2,2,  132.52,2,   33.74,2,    0.00,2,    2.35,2,-999.000,9,-999.000,9,  -999.0,9,  -999.0,9,  -9.0000,9,-999.0000,9, -999.00,9, -999.00,9,  -999.0,9,  -999.0,-999.000,9,-999.000,-999.000,9,  -9.0000,-999.0000,   1.0173,   -9.00
  316N145_7,       I08N,     333,          1,          4,          4,2,19950321,       2045,   -13.5000,    79.9998,       4899,  4415.8,   1.3722,  34.7172,2,  34.7170,2,    179.8,3,   182.0,2,  132.91,2,   33.79,2,    0.00,2,    2.34,2,  -0.011,3,   0.001,2,  -999.0,9,  -999.0,9,  -9.0000,9,-999.0000,9, -999.00,9, -999.00,9,  -999.0,9,  -999.0,-999.000,9,-999.000,   0.015,2,  -9.0000,-999.0000,   1.0106,   -9.00
  316N145_7,       I08N,     333,          1,          3,          3,2,19950321,       2045,   -13.5000,    79.9998,       4899,  4645.4,   1.3954,  34.7169,2,  34.7168,2,    180.9,3,   182.1,2,  132.43,2,   33.79,2,    0.00,2,    2.34,2,   0.009,3,  -0.001,2,  -999.0,9,  -999.0,9,  -9.0000,9,-999.0000,9, -999.00,9, -999.00,9,  -999.0,9,  -999.0,-999.000,9,-999.000,   0.011,2,  -9.0000,-999.0000,   1.0067,   -9.00
  316N145_7,       I08N,     333,          1,          2,          2,2,19950321,       2045,   -13.5000,    79.9998,       4899,  4876.6,   1.4198,  34.7169,2,  34.7170,2,    182.0,3,   182.1,2,  133.25,2,   33.78,2,    0.00,2,    2.35,2,-999.000,9,-999.000,9,  -999.0,9,  -999.0,9,  -9.0000,9,-999.0000,9, -999.00,9, -999.00,9,  -999.0,9,  -999.0,-999.000,9,-999.000,-999.000,9,  -9.0000,-999.0000,   1.0030,   -9.00
  316N145_7,       I08N,     333,          1,          1,          1,2,19950321,       2045,   -13.5000,    79.9998,       4899,  4997.7,   1.4300,  34.7168,2,  34.7168,2,    182.2,3,   182.1,2,  133.20,2,   33.78,2,    0.00,2,    2.35,2,   0.011,3,   0.003,2,  -999.0,9,  -999.0,9,  -9.0000,9,-999.0000,9, -999.00,9, -999.00,9,  -999.0,9,  -999.0,-999.000,9,-999.000,   0.021,2,  -9.0000,-999.0000,   0.9982,   -9.00