BOTTLE,20211124CCHSIORKP
EXPOCODE,SECT_ID,STNNBR,CASTNO,SAMPNO,BTLNBR,BTLNBR_FLAG_W,DATE,TIME,LATITUDE,LONGITUDE,DEPTH,CTDPRS,CTDTMP,CTDSAL,CTDSAL_FLAG_W,SALNTY,SALNTY_FLAG_W,CTDOXY,CTDOXY_FLAG_W,OXYGEN,OXYGEN_FLAG_W,SILCAT,SILCAT_FLAG_W,NITRAT,NITRAT_FLAG_W,NITRIT,NITRIT_FLAG_W,PHSPHT,PHSPHT_FLAG_W,CFC-11,CFC-11_FLAG_W,CFC-12,CFC-12_FLAG_W,TCARBN,TCARBN_FLAG_W,ALKALI,ALKALI_FLAG_W,TRITUM,TRITUM_FLAG_W,HELIUM,HELIUM_FLAG_W,DELHE3,DELHE3_FLAG_W,DELC13,DELC13_FLAG_W,DELC14,DELC14_FLAG_W,C14ERR,NEON,NEON_FLAG_W,NEONER,CCL4,CCL4_FLAG_W,TRITER,HELIER,THETA,DELHER
,,,,,,,,,,,METERS,DBAR,ITS-90,PSS-78,,PSS-78,,UMOL/KG,,UMOL/KG,,UMOL/KG,,UMOL/KG,,UMOL/KG,,UMOL/KG,,PMOL/KG,,PMOL/KG,,UMOL/KG,,UMOL/KG,,TU,,NMOL/KG,,PERCNT,,/MILLE,,/MILLE,,/MILLE,NMOL/KG,,NMOL/KG,PMOL/KG,,TU,NMOL/KG,DEG C,PERCNT
  316N145_7,       I08N,     302,          1,         36,         36,2,19950314,       1942,     0.0003,    80.0022,       4652,     2.3,  29.4904,  34.3266,2,  34.3260,2,    194.9,2,   196.1,2,    2.53,2,    0.05,2,    0.00,2,    0.09,2,   1.627,2,   0.935,2,  1900.2,2,  2253.8,2,   1.0314,2,   1.6890,2,   -0.78,2,    1.35,2,    61.4,2,     2.9,   6.576,2,   0.033,-999.000,9,   0.0040,   0.0084,  29.4899,    0.14
  316N145_7,       I08N,     302,          1,         35,         35,2,19950314,       1942,     0.0003,    80.0022,       4652,    25.0,  29.3846,  34.3678,2,  34.3660,2,    199.4,2,   196.4,2,    2.51,2,    0.05,2,    0.00,2,    0.09,2,-999.000,9,-999.000,9,  -999.0,9,  -999.0,9,  -9.0000,9,-999.0000,9, -999.00,9, -999.00,9,  -999.0,9,  -999.0,-999.000,9,-999.000,-999.000,9,  -9.0000,-999.0000,  29.3785,   -9.00
  316N145_7,       I08N,     302,          1,         34,         34,2,19950314,       1942,     0.0003,    80.0022,       4652,    45.5,  25.4188,  35.3710,2,  35.3555,2,    171.5,2,   169.9,2,    5.13,2,    3.17,2,    0.13,2,    0.45,2,   1.613,2,   0.904,2,  -999.0,9,  -999.0,9,   0.9202,2,   1.6973,2,    0.61,2, -999.00,9,  -999.0,9,  -999.0,   6.730,2,   0.034,-999.000,9,   0.0039,   0.0085,  25.4088,    0.14
  316N145_7,       I08N,     302,          1,         33,         33,2,19950314,       1942,     0.0003,    80.0022,       4652,    74.1,  23.0113,  35.3623,2,  35.3589,2,    145.1,2,   144.8,2,    7.57,2,    9.00,2,    0.45,2,    0.74,2,-999.000,9,-999.000,9,  -999.0,9,  -999.0,9,   0.9026,2,   1.7164,2,    1.00,2,    0.78,2,    56.6,2,     3.0,   6.873,2,   0.034,-999.000,9,   0.0039,   0.0086,  22.9961,    0.14
  316N145_7,       I08N,     302,          1,         32,         32,2,19950314,       1942,     0.0003,    80.0022,       4652,   120.5,  20.7263,  35.3565,2,  35.3561,2,    103.0,2,   102.3,2,   11.23,2,   15.45,2,    0.05,2,    1.13,2,   1.461,2,   0.781,2,  -999.0,9,  -999.0,9,   0.8329,2,   1.7182,2,    2.47,2,    0.50,2,    45.6,2,     3.0,   6.961,2,   0.035,-999.000,9,   0.0037,   0.0086,  20.7034,    0.14
  316N145_7,       I08N,     302,          1,         31,         31,2,19950314,       1942,     0.0003,    80.0022,       4652,   144.8,  19.2378,  35.2635,2,  35.2601,2,     82.8,2,    82.9,2,   14.48,2,   18.70,2,    0.03,2,    1.34,2,-999.000,9,-999.000,9,  -999.0,9,  -999.0,9,   0.7708,2,   1.7219,2,    3.45,2, -999.00,9,  -999.0,9,  -999.0,   7.022,2,   0.035,-999.000,9,   0.0036,   0.0086,  19.2118,    0.14
  316N145_7,       I08N,     302,          1,         30,         30,2,19950314,       1942,     0.0003,    80.0022,       4652,   185.5,  15.4566,  35.1599,2,  35.1283,2,     61.5,2,    55.1,2,   22.63,2,   24.99,2,    0.01,2,    1.79,2,   0.855,6,   0.437,6,  -999.0,9,  -999.0,9,   0.5509,2,   1.7504,2,    5.01,2,    0.21,2,     6.2,2,     3.2,   7.247,2,   0.036,-999.000,9,   0.0032,   0.0088,  15.4279,    0.14
  316N145_7,       I08N,     302,          1,         29,         29,2,19950314,       1942,     0.0003,    80.0022,       4652,   230.1,  13.9870,  35.1506,2,  35.1469,2,     81.9,2,    85.4,2,   19.75,2,   22.96,2,    0.01,2,    1.62,2,-999.000,9,-999.000,9,  -999.0,9,  -999.0,9,   0.5653,2,-999.0000,9, -999.00,9,    0.41,2,    16.5,2,     4.4,-999.000,9,-999.000,-999.000,9,   0.0032,-999.0000,  13.9537,   -9.00
  316N145_7,       I08N,     302,          1,         28,         28,2,19950314,       1942,     0.0003,    80.0022,       4652,   260.5,  13.0322,  35.1095,2,  35.0957,2,     67.7,2,    67.9,2,   23.00,2,   26.10,2,    0.01,2,    1.83,2,   0.645,2,   0.328,2,  -999.0,9,  -999.0,9,  -9.0000,9,-999.0000,9, -999.00,9,    0.34,2,    -5.0,2,     2.9,-999.000,9,-999.000,-999.000,9,  -9.0000,-999.0000,  12.9962,   -9.00
  316N145_7,       I08N,     302,          1,         27,         27,2,19950314,       1942,     0.0003,    80.0022,       4652,   330.7,  11.6566,  35.0472,2,  35.0449,2,     89.1,2,    90.7,2,   23.80,2,   25.78,2,    0.00,2,    1.78,2,-999.000,9,-999.000,9,  -999.0,9,  -999.0,9,   0.3503,2,   1.7563,2,    4.88,2,    0.48,2,   -17.8,2,     4.8,   7.391,2,   0.037,-999.000,9,   0.0028,   0.0088,  11.6140,    0.14
  316N145_7,       I08N,     302,          1,         26,         26,2,19950314,       1942,     0.0003,    80.0022,       4652,   431.0,  10.4493,  35.0247,2,  35.0209,2,     72.2,2,    73.7,2,   32.56,2,   29.59,2,    0.00,2,    2.09,2,   0.354,2,   0.194,2,  -999.0,9,  -999.0,9,   0.1944,2,   1.7532,2,    5.38,2,    0.40,2,   -56.6,2,     3.0,   7.384,2,   0.037,-999.000,9,   0.0025,   0.0088,  10.3973,    0.14
  316N145_7,       I08N,     302,          1,         25,         25,2,19950314,       1942,     0.0003,    80.0022,       4652,   530.9,   9.6327,  35.0244,2,  35.0199,2,     55.4,2,    54.5,2,   43.97,2,   32.71,2,    0.00,2,    2.38,2,-999.000,9,-999.000,9,  -999.0,9,  -999.0,9,   0.0946,2,   1.7876,2,    5.72,2,    0.24,2,   -95.3,2,     2.7,   7.521,2,   0.038,-999.000,9,   0.0024,   0.0089,   9.5714,    0.14
  316N145_7,       I08N,     302,          1,         24,         24,2,19950314,       1942,     0.0003,    80.0022,       4652,   632.8,   8.9920,  35.0042,2,  35.0022,2,     50.0,2,    49.5,2,   52.53,2,   34.22,2,    0.00,2,    2.53,2,   0.056,2,   0.025,2,  -999.0,9,  -999.0,9,   0.0453,2,   1.7894,2,    6.51,2,    0.17,2,  -114.3,2,     3.2,   7.530,2,   0.038,-999.000,9,   0.0023,   0.0089,   8.9216,    0.14
  316N145_7,       I08N,     302,          1,         23,         23,2,19950314,       1942,     0.0003,    80.0022,       4652,   732.8,   8.6567,  35.0079,2,  35.0059,2,     46.0,2,    45.1,2,   59.24,2,   35.20,2,    0.00,2,    2.61,2,-999.000,9,-999.000,9,  -999.0,9,  -999.0,9,  -9.0000,9,-999.0000,9, -999.00,9,    0.13,2,  -126.8,2,     3.3,-999.000,9,-999.000,-999.000,9,  -9.0000,-999.0000,   8.5764,   -9.00
  316N145_7,       I08N,     302,          1,         22,         22,2,19950314,       1942,     0.0003,    80.0022,       4652,   832.3,   7.8970,  34.9877,2,  34.9872,2,     45.9,2,    46.0,2,   68.63,2,   36.10,2,    0.00,2,    2.70,2,   0.015,2,   0.007,2,  -999.0,9,  -999.0,9,   0.0510,2,   1.8056,2,    8.46,2,    0.11,2,  -136.1,2,     2.7,   7.604,2,   0.038,-999.000,9,   0.0023,   0.0090,   7.8099,    0.14
  316N145_7,       I08N,     302,          1,         21,         21,2,19950314,       1942,     0.0003,    80.0022,       4652,   908.8,   7.4657,  34.9694,2,  34.9660,2,     47.8,2,    46.9,2,   74.34,2,   36.52,2,    0.00,2,    2.74,2,-999.000,9,-999.000,9,  -999.0,9,  -999.0,9,  -9.0000,9,-999.0000,9, -999.00,9,    0.05,2,  -133.4,2,     3.8,-999.000,9,-999.000,-999.000,9,  -9.0000,-999.0000,   7.3731,   -9.00
  316N145_7,       I08N,     302,          1,         20,         20,2,19950314,       1942,     0.0003,    80.0022,       4652,  1034.5,   6.5719,  34.9286,2,  34.9264,2,     55.0,2,    55.9,2,   84.98,2,   37.00,2,    0.00,2,    2.77,2,   0.008,2,   0.005,2,  -999.0,9,  -999.0,9,  -0.0028,2,   1.8350,2,   11.07,2,    0.04,2,  -152.3,2,     2.8,   7.699,2,   0.038,-999.000,9,   0.0022,   0.0091,   6.4726,    0.14
  316N145_7,       I08N,     302,          1,         19,         19,2,19950314,       1942,     0.0003,    80.0022,       4652,  1210.0,   5.6243,  34.8895,2,  34.8890,2,     66.3,2,    67.5,2,   95.05,2,   37.14,2,    0.00,2,    2.77,2,-999.000,9,-999.000,9,  -999.0,9,  -999.0,9,  -9.0000,9,   1.8420,2,   12.21,2,    0.02,2,  -158.2,2,     2.7,-999.000,9,-999.000,-999.000,9,  -9.0000,-999.0000,   5.5153,   -9.00
  316N145_7,       I08N,     302,          1,         18,         18,2,19950314,       1942,     0.0003,    80.0022,       4652,  1360.5,   4.9832,  34.8619,2,  34.8617,2,     77.7,2,    79.8,2,  101.01,2,   37.00,2,    0.00,2,    2.76,2,   0.003,2,   0.002,2,  -999.0,9,  -999.0,9,   0.0017,2,   1.8564,2,   11.88,2,    0.07,2,  -177.6,2,     4.4,   7.878,2,   0.039,-999.000,9,   0.0022,   0.0093,   4.8657,    0.14
  316N145_7,       I08N,     302,          1,         17,         17,2,19950314,       1942,     0.0003,    80.0022,       4652,  1511.5,   4.3138,  34.8402,2,  34.8389,2,     89.5,2,    90.6,2,  107.62,2,   36.77,2,    0.00,2,    2.73,2,-999.000,9,-999.000,9,  -999.0,9,  -999.0,9,   0.0309,2,   1.8560,2,   12.78,2, -999.00,9,  -999.0,9,  -999.0,-999.000,9,-999.000,-999.000,9,   0.0022,-999.0000,   4.1893,   -9.00
  316N145_7,       I08N,     302,          1,         16,         16,2,19950314,       1942,     0.0003,    80.0022,       4652,  1663.5,   3.4836,  34.8075,2,  34.8064,2,    107.8,2,   110.0,2,  114.88,2,   36.16,2,    0.00,2,    2.66,2,  -0.001,2,   0.000,2,  -999.0,9,  -999.0,9,   0.0225,2,   1.8250,2,   13.28,2, -999.00,9,  -999.0,9,  -999.0,   7.780,2,   0.039,-999.000,9,   0.0022,   0.0091,   3.3552,    0.14
  316N145_7,       I08N,     302,          1,         15,         15,2,19950314,       1942,     0.0003,    80.0022,       4652,  1866.5,   2.9519,  34.7814,2,  34.7832,2,    121.3,2,   122.1,2,  120.93,2,   35.74,2,    0.00,2,    2.60,2,-999.000,9,-999.000,9,  -999.0,9,  -999.0,9,  -9.0000,9,   1.8730,2,   14.00,2, -999.00,9,  -999.0,9,  -999.0,-999.000,9,-999.000,-999.000,9,  -9.0000,-999.0000,   2.8126,   -9.00
  316N145_7,       I08N,     302,          1,         14,         14,2,19950314,       1942,     0.0003,    80.0022,       4652,  2070.5,   2.5882,  34.7695,2,  34.7687,2,    131.6,2,   132.2,2,  124.90,2,   35.46,2,    0.00,2,    2.56,2,   0.005,2,   0.010,3,  -999.0,9,  -999.0,9,  -9.0000,9,   1.8760,2,   14.01,2, -999.00,9,  -999.0,9,  -999.0,-999.000,9,-999.000,-999.000,9,  -9.0000,-999.0000,   2.4361,   -9.00
  316N145_7,       I08N,     302,          1,         13,         13,2,19950314,       1942,     0.0003,    80.0022,       4652,  2274.0,   2.2398,  34.7541,2,  34.7533,2,    141.7,2,   141.2,2,  128.46,2,   35.13,2,    0.00,2,    2.53,2,-999.000,9,-999.000,9,  -999.0,9,  -999.0,9,  -9.0000,9,   1.8870,2,   13.85,2, -999.00,9,  -999.0,9,  -999.0,-999.000,9,-999.000,-999.000,9,  -9.0000,-999.0000,   2.0753,   -9.00
  316N145_7,       I08N,     302,          1,         12,         12,2,19950314,       1942,     0.0003,    80.0022,       4652,  2475.9,   2.0902,  34.7474,2,  34.7473,2,    147.9,2,   146.6,2,  129.70,2,   34.95,2,    0.00,2,    2.49,2,  -0.002,2,   0.000,2,  -999.0,9,  -999.0,9,  -9.0000,9,   1.8810,2,   14.11,2, -999.00,9,  -999.0,9,  -999.0,-999.000,9,-999.000,-999.000,9,  -9.0000,-999.0000,   1.9101,   -9.00
  316N145_7,       I08N,     302,          1,         11,         11,2,19950314,       1942,     0.0003,    80.0022,       4652,  2678.6,   1.9175,  34.7401,2,  34.7392,2,    152.7,2,   152.2,2,  131.36,2,   34.71,2,    0.00,2,    2.48,2,-999.000,9,-999.000,9,  -999.0,9,  -999.0,9,  -9.0000,9,   1.8800,2,   13.79,2, -999.00,9,  -999.0,9,  -999.0,-999.000,9,-999.000,-999.000,9,  -9.0000,-999.0000,   1.7219,   -9.00
  316N145_7,       I08N,     302,          1,         10,         10,2,19950314,       1942,     0.0003,    80.0022,       4652,  2882.3,   1.7501,  34.7333,2,  34.7323,2,    158.2,2,   157.1,2,  133.45,2,   34.48,2,    0.00,2,    2.46,2,   0.002,2,   0.000,2,  -999.0,9,  -999.0,9,  -9.0000,9,   1.8810,2,   13.55,2, -999.00,9,  -999.0,9,  -999.0,-999.000,9,-999.000,-999.000,9,  -9.0000,-999.0000,   1.5388,   -9.00
  316N145_7,       I08N,     302,          1,          9,          9,2,19950314,       1942,     0.0003,    80.0022,       4652,  3086.2,   1.6576,  34.7297,2,  34.7298,2,    160.6,2,   160.4,2,  135.12,2,   34.48,2,    0.00,2,    2.44,2,-999.000,9,-999.000,9,  -999.0,9,  -999.0,9,  -9.0000,9,   1.8830,2,   13.22,2, -999.00,9,  -999.0,9,  -999.0,-999.000,9,-999.000,-999.000,9,  -9.0000,-999.0000,   1.4287,   -9.00
  316N145_7,       I08N,     302,          1,          8,          8,2,19950314,       1942,     0.0003,    80.0022,       4652,  3289.1,   1.5848,  34.7271,2,  34.7250,3,    162.3,2,   162.3,2,  136.58,2,   34.43,2,    0.00,2,    2.43,2,  -0.003,2,   0.001,2,  -999.0,9,  -999.0,9,  -9.0000,9,-999.0000,9, -999.00,9, -999.00,9,  -999.0,9,  -999.0,-999.000,9,-999.000,-999.000,9,  -9.0000,-999.0000,   1.3376,   -9.00
  316N145_7,       I08N,     302,          1,          7,          7,2,19950314,       1942,     0.0003,    80.0022,       4652,  3494.4,   1.5092,  34.7237,2,  34.7231,2,    164.5,2,   163.8,2,  138.48,2,   34.30,2,    0.00,2,    2.42,2,-999.000,9,-999.000,9,  -999.0,9,  -999.0,9,  -9.0000,9,   1.8880,2,   12.75,2, -999.00,9,  -999.0,9,  -999.0,-999.000,9,-999.000,-999.000,9,  -9.0000,-999.0000,   1.2432,   -9.00
  316N145_7,       I08N,     302,          1,          6,          6,2,19950314,       1942,     0.0003,    80.0022,       4652,  3696.5,   1.4287,  34.7210,2,  34.7199,2,    167.2,2,   167.6,2,  139.51,2,   34.30,2,    0.00,2,    2.41,2,  -0.002,2,   0.000,2,  -999.0,9,  -999.0,9,  -9.0000,9,-999.0000,9, -999.00,9, -999.00,9,  -999.0,9,  -999.0,-999.000,9,-999.000,-999.000,9,  -9.0000,-999.0000,   1.1439,   -9.00
  316N145_7,       I08N,     302,          1,          5,          5,2,19950314,       1942,     0.0003,    80.0022,       4652,  3901.4,   1.4112,  34.7201,2,  34.7186,2,    168.3,2,   169.1,2,  139.26,2,   34.11,2,    0.00,2,    2.40,2,-999.000,9,-999.000,9,  -999.0,9,  -999.0,9,  -9.0000,9,   1.8820,2,   11.81,2, -999.00,9,  -999.0,9,  -999.0,-999.000,9,-999.000,-999.000,9,  -9.0000,-999.0000,   1.1052,   -9.00
  316N145_7,       I08N,     302,          1,          4,          4,2,19950314,       1942,     0.0003,    80.0022,       4652,  4106.0,   1.3912,  34.7192,2,  34.7146,3,    172.6,2,   173.3,2,  137.52,2,   34.02,2,    0.00,2,    2.38,2,  -0.002,2,   0.002,2,  -999.0,9,  -999.0,9,  -9.0000,9,-999.0000,9, -999.00,9, -999.00,9,  -999.0,9,  -999.0,-999.000,9,-999.000,-999.000,9,  -9.0000,-999.0000,   1.0636,   -9.00
  316N145_7,       I08N,     302,          1,          3,          3,2,19950314,       1942,     0.0003,    80.0022,       4652,  4311.5,   1.3985,  34.7186,2,  34.7166,2,    174.4,2,   175.1,2,  136.84,2,   33.93,2,    0.00,2,    2.36,2,-999.000,9,-999.000,9,  -999.0,9,  -999.0,9,  -9.0000,9,   1.8830,2,   11.25,2, -999.00,9,  -999.0,9,  -999.0,-999.000,9,-999.000,-999.000,9,  -9.0000,-999.0000,   1.0479,   -9.00
  316N145_7,       I08N,     302,          1,          2,          2,2,19950314,       1942,     0.0003,    80.0022,       4652,  4516.0,   1.4040,  34.7185,2,  34.7172,2,    177.2,2,   177.8,2,  135.74,2,   33.69,2,    0.00,2,    2.36,2,  -0.002,2,   0.004,2,  -999.0,9,  -999.0,9,  -9.0000,9,-999.0000,9, -999.00,9, -999.00,9,  -999.0,9,  -999.0,-999.000,9,-999.000,-999.000,9,  -9.0000,-999.0000,   1.0300,   -9.00
  316N145_7,       I08N,     302,          1,          1,          1,2,19950314,       1942,     0.0003,    80.0022,       4652,  4737.7,   1.4204,  34.7177,2,  34.7160,2,    178.1,2,   178.1,2,  135.49,2,   33.65,2,    0.00,2,    2.36,2,  -0.005,2,   0.002,2,  -999.0,9,  -999.0,9,  -9.0000,9,   1.8870,2,   11.68,2, -999.00,9,  -999.0,9,  -999.0,-999.000,9,-999.000,-999.000,9,  -9.0000,-999.0000,   1.0200,   -9.00