BOTTLE,20211124CCHSIORKP
EXPOCODE,SECT_ID,STNNBR,CASTNO,SAMPNO,BTLNBR,BTLNBR_FLAG_W,DATE,TIME,LATITUDE,LONGITUDE,DEPTH,CTDPRS,CTDTMP,CTDSAL,CTDSAL_FLAG_W,SALNTY,SALNTY_FLAG_W,CTDOXY,CTDOXY_FLAG_W,OXYGEN,OXYGEN_FLAG_W,SILCAT,SILCAT_FLAG_W,NITRAT,NITRAT_FLAG_W,NITRIT,NITRIT_FLAG_W,PHSPHT,PHSPHT_FLAG_W,CFC-11,CFC-11_FLAG_W,CFC-12,CFC-12_FLAG_W,TCARBN,TCARBN_FLAG_W,ALKALI,ALKALI_FLAG_W,TRITUM,TRITUM_FLAG_W,HELIUM,HELIUM_FLAG_W,DELHE3,DELHE3_FLAG_W,DELC13,DELC13_FLAG_W,DELC14,DELC14_FLAG_W,C14ERR,NEON,NEON_FLAG_W,NEONER,CCL4,CCL4_FLAG_W,TRITER,HELIER,THETA,DELHER
,,,,,,,,,,,METERS,DBAR,ITS-90,PSS-78,,PSS-78,,UMOL/KG,,UMOL/KG,,UMOL/KG,,UMOL/KG,,UMOL/KG,,UMOL/KG,,PMOL/KG,,PMOL/KG,,UMOL/KG,,UMOL/KG,,TU,,NMOL/KG,,PERCNT,,/MILLE,,/MILLE,,/MILLE,NMOL/KG,,NMOL/KG,PMOL/KG,,TU,NMOL/KG,DEG C,PERCNT
  316N145_7,      TRANS,     360,          1,         36,         36,2,19950328,       0838,   -25.7667,    83.9502,       4605,     2.1,  25.5856,  35.7319,2,  35.7327,2,    206.1,2,   206.0,2,    3.08,2,    0.19,2,    0.00,2,    0.11,2,   1.823,2,   1.026,2,  1997.2,2,  2336.6,2,  -9.0000,9,-999.0000,9, -999.00,9, -999.00,9,  -999.0,9,  -999.0,-999.000,9,-999.000,-999.000,9,  -9.0000,-999.0000,  25.5851,   -9.00
  316N145_7,      TRANS,     360,          1,         35,         35,2,19950328,       0838,   -25.7667,    83.9502,       4605,    36.0,  25.2026,  35.8895,2,  35.8751,2,    209.4,2,   210.5,2,    3.07,2,    0.19,2,    0.00,2,    0.11,2,-999.000,9,-999.000,9,  2012.6,2,  2344.5,2,  -9.0000,9,-999.0000,9, -999.00,9, -999.00,9,  -999.0,9,  -999.0,-999.000,9,-999.000,-999.000,9,  -9.0000,-999.0000,  25.1947,   -9.00
  316N145_7,      TRANS,     360,          1,         34,         34,2,19950328,       0838,   -25.7667,    83.9502,       4605,    71.3,  21.0533,  35.8419,2,  35.8279,2,    241.2,2,   238.0,2,    3.05,2,    0.19,2,    0.00,2,    0.12,2,   2.327,2,   1.265,2,  2026.8,2,  2344.3,2,  -9.0000,9,-999.0000,9, -999.00,9, -999.00,9,  -999.0,9,  -999.0,-999.000,9,-999.000,-999.000,9,  -9.0000,-999.0000,  21.0396,   -9.00
  316N145_7,      TRANS,     360,          1,         33,         33,2,19950328,       0838,   -25.7667,    83.9502,       4605,   116.0,  19.2773,  35.8420,2,  35.8372,2,    233.3,2,   238.8,2,    2.83,2,    0.19,2,    0.00,2,    0.14,2,   2.466,2,   1.324,2,  2047.2,2,  2343.3,2,  -9.0000,9,-999.0000,9, -999.00,9, -999.00,9,  -999.0,9,  -999.0,-999.000,9,-999.000,-999.000,9,  -9.0000,-999.0000,  19.2564,   -9.00
  316N145_7,      TRANS,     360,          1,         32,         32,2,19950328,       0838,   -25.7667,    83.9502,       4605,   166.1,  17.6150,  35.8311,2,  35.8336,2,    221.7,2,   223.1,2,    2.60,2,    0.27,2,    0.11,2,    0.21,2,-999.000,9,-999.000,9,  2071.0,2,  2351.5,2,  -9.0000,9,-999.0000,9, -999.00,9, -999.00,9,  -999.0,9,  -999.0,-999.000,9,-999.000,-999.000,9,  -9.0000,-999.0000,  17.5867,   -9.00
  316N145_7,      TRANS,     360,          1,         31,         31,2,19950328,       0838,   -25.7667,    83.9502,       4605,   216.2,  15.9400,  35.6533,2,  35.6545,2,    220.6,2,   219.1,2,    2.80,2,    2.44,2,    0.02,2,    0.35,2,   2.644,2,   1.383,2,  2086.9,2,  2342.4,2,  -9.0000,9,-999.0000,9, -999.00,9, -999.00,9,  -999.0,9,  -999.0,-999.000,9,-999.000,-999.000,9,  -9.0000,-999.0000,  15.9057,   -9.00
  316N145_7,      TRANS,     360,          1,         30,         30,2,19950328,       0838,   -25.7667,    83.9502,       4605,   267.6,  14.4240,  35.4645,2,  35.4629,2,    223.6,2,   222.8,2,    2.79,2,    4.91,2,    0.01,2,    0.49,2,-999.000,9,-999.000,9,  2093.1,2,  2330.4,2,  -9.0000,9,-999.0000,9, -999.00,9, -999.00,9,  -999.0,9,  -999.0,-999.000,9,-999.000,-999.000,9,  -9.0000,-999.0000,  14.3843,   -9.00
  316N145_7,      TRANS,     360,          1,         29,         29,2,19950328,       0838,   -25.7667,    83.9502,       4605,   337.3,  12.9553,  35.2532,2,  35.2518,2,    229.1,2,   229.5,2,    3.42,2,    7.63,2,    0.00,2,    0.64,2,   2.942,2,   1.495,2,  2100.7,2,  2321.2,2,  -9.0000,9,-999.0000,9, -999.00,9, -999.00,9,  -999.0,9,  -999.0,-999.000,9,-999.000,-999.000,9,  -9.0000,-999.0000,  12.9086,   -9.00
  316N145_7,      TRANS,     360,          1,         28,         28,2,19950328,       0838,   -25.7667,    83.9502,       4605,   408.2,  11.7936,  35.0711,2,  35.0783,2,    233.0,2,   235.5,2,    4.04,2,    9.90,2,    0.00,2,    0.77,2,   3.028,2,   1.526,2,  2100.9,2,  2310.3,2,  -9.0000,9,-999.0000,9, -999.00,9, -999.00,9,  -999.0,9,  -999.0,-999.000,9,-999.000,-999.000,9,  -9.0000,-999.0000,  11.7404,   -9.00
  316N145_7,      TRANS,     360,          1,         27,         27,2,19950328,       0838,   -25.7667,    83.9502,       4605,   508.0,  10.8688,  34.9244,2,  34.9258,2,    237.4,2,   238.6,2,    4.45,2,   12.07,2,    0.00,2,    0.90,2,   2.936,2,   1.472,2,  2105.5,2,  2301.2,2,  -9.0000,9,-999.0000,9, -999.00,9, -999.00,9,  -999.0,9,  -999.0,-999.000,9,-999.000,-999.000,9,  -9.0000,-999.0000,  10.8058,   -9.00
  316N145_7,      TRANS,     360,          1,         26,         26,2,19950328,       0838,   -25.7667,    83.9502,       4605,   608.5,   9.8826,  34.7720,2,  34.7810,2,    236.9,2,   237.1,2,    5.29,2,   14.74,2,    0.00,2,    1.06,2,   2.823,2,   1.398,2,  2113.6,2,  2295.8,2,  -9.0000,9,-999.0000,9, -999.00,9, -999.00,9,  -999.0,9,  -999.0,-999.000,9,-999.000,   1.669,6,  -9.0000,-999.0000,   9.8113,   -9.00
  316N145_7,      TRANS,     360,          1,         25,         25,3,19950328,       0838,   -25.7667,    83.9502,       4605,   708.7,   9.0187,  34.6537,2,  34.7216,4,    230.6,2,   189.6,4,  122.86,4,   32.87,4,    0.00,4,    2.25,4,-999.000,9,-999.000,9,  2283.7,4,  2392.3,4,  -9.0000,9,-999.0000,9, -999.00,9, -999.00,9,  -999.0,9,  -999.0,-999.000,9,-999.000,-999.000,9,  -9.0000,-999.0000,   8.9397,   -9.00
  316N145_7,      TRANS,     360,          1,         24,         24,2,19950328,       0838,   -25.7667,    83.9502,       4605,   808.7,   7.5863,  34.5315,2,  34.5299,2,    208.2,2,   204.8,2,   16.09,2,   23.80,2,    0.00,2,    1.63,2,   1.108,2,   0.549,2,  2151.8,2,  2292.8,2,  -9.0000,9,-999.0000,9, -999.00,9, -999.00,9,  -999.0,9,  -999.0,-999.000,9,-999.000,-999.000,9,  -9.0000,-999.0000,   7.5043,   -9.00
  316N145_7,      TRANS,     360,          1,         23,         23,2,19950328,       0838,   -25.7667,    83.9502,       4605,   909.0,   5.8616,  34.4406,2,  34.4411,2,    191.2,2,   190.0,2,   29.45,2,   28.83,2,    0.00,2,    1.97,2,   0.500,2,   0.257,2,  2183.1,2,  2299.8,2,  -9.0000,9,-999.0000,9, -999.00,9, -999.00,9,  -999.0,9,  -999.0,-999.000,9,-999.000,-999.000,9,  -9.0000,-999.0000,   5.7806,   -9.00
  316N145_7,      TRANS,     360,          1,         22,         22,2,19950328,       0838,   -25.7667,    83.9502,       4605,  1010.7,   4.8005,  34.4362,2,  34.4403,2,    174.7,2,   173.3,2,   46.63,2,   32.17,2,    0.00,2,    2.22,2,   0.211,6,   0.109,6,  2215.4,2,  2316.7,2,  -9.0000,9,-999.0000,9, -999.00,9, -999.00,9,  -999.0,9,  -999.0,-999.000,9,-999.000,-999.000,9,  -9.0000,-999.0000,   4.7179,   -9.00
  316N145_7,      TRANS,     360,          1,         21,         21,2,19950328,       0838,   -25.7667,    83.9502,       4605,  1135.5,   4.1634,  34.4775,2,  34.4806,2,    158.9,2,   157.9,2,   61.92,2,   34.07,2,    0.00,2,    2.38,2,   0.082,2,   0.041,2,  2238.4,2,  2330.0,2,  -9.0000,9,-999.0000,9, -999.00,9, -999.00,9,  -999.0,9,  -999.0,-999.000,9,-999.000,-999.000,9,  -9.0000,-999.0000,   4.0749,   -9.00
  316N145_7,      TRANS,     360,          1,         20,         20,2,19950328,       0838,   -25.7667,    83.9502,       4605,  1262.4,   3.7761,  34.5415,2,-999.0000,9,    144.8,2,   144.3,2,   75.52,2,   35.02,2,    0.00,2,    2.46,2,   0.021,2,   0.011,2,  2259.8,2,  2345.5,2,  -9.0000,9,-999.0000,9, -999.00,9, -999.00,9,  -999.0,9,  -999.0,-999.000,9,-999.000,-999.000,9,  -9.0000,-999.0000,   3.6802,   -9.00
  316N145_7,      TRANS,     360,          1,         19,         19,2,19950328,       0838,   -25.7667,    83.9502,       4605,  1413.7,   3.4508,  34.5955,2,  34.5974,2,    142.2,2,   142.0,2,   84.88,2,   35.32,2,    0.00,2,    2.49,2,   0.003,2,   0.002,2,  2270.3,2,  2354.0,2,  -9.0000,9,-999.0000,9, -999.00,9, -999.00,9,  -999.0,9,  -999.0,-999.000,9,-999.000,-999.000,9,  -9.0000,-999.0000,   3.3452,   -9.00
  316N145_7,      TRANS,     360,          1,         18,         18,2,19950328,       0838,   -25.7667,    83.9502,       4605,  1564.2,   3.1104,  34.6319,2,  34.6338,2,    147.3,2,   147.5,2,   89.35,2,   34.97,2,    0.00,2,    2.46,2,   0.004,2,   0.002,2,  2273.1,2,  2361.2,2,  -9.0000,9,-999.0000,9, -999.00,9, -999.00,9,  -999.0,9,  -999.0,-999.000,9,-999.000,-999.000,9,  -9.0000,-999.0000,   2.9957,   -9.00
  316N145_7,      TRANS,     360,          1,         17,         17,2,19950328,       0838,   -25.7667,    83.9502,       4605,  1716.1,   2.8613,  34.6742,2,  34.6756,2,    150.9,2,   149.8,2,   96.40,2,   34.62,2,    0.00,2,    2.43,2,-999.000,9,-999.000,9,  2277.5,2,  2365.9,2,  -9.0000,9,-999.0000,9, -999.00,9, -999.00,9,  -999.0,9,  -999.0,-999.000,9,-999.000,-999.000,9,  -9.0000,-999.0000,   2.7367,   -9.00
  316N145_7,      TRANS,     360,          1,         16,         16,2,19950328,       0838,   -25.7667,    83.9502,       4605,  1866.1,   2.6285,  34.6999,2,  34.7011,2,    154.1,2,   154.3,2,  102.18,2,   34.26,2,    0.00,2,    2.41,2,   0.002,2,   0.002,2,  2281.5,2,  2374.8,2,  -9.0000,9,-999.0000,9, -999.00,9, -999.00,9,  -999.0,9,  -999.0,-999.000,9,-999.000,-999.000,9,  -9.0000,-999.0000,   2.4941,   -9.00
  316N145_7,      TRANS,     360,          1,         15,         15,2,19950328,       0838,   -25.7667,    83.9502,       4605,  2016.7,   2.4443,  34.7124,2,  34.7127,2,    158.1,2,   158.9,2,  105.39,2,   34.06,2,    0.00,2,    2.38,2,-999.000,9,-999.000,9,  2282.2,2,  2378.3,2,  -9.0000,9,-999.0000,9, -999.00,9, -999.00,9,  -999.0,9,  -999.0,-999.000,9,-999.000,-999.000,9,  -9.0000,-999.0000,   2.2994,   -9.00
  316N145_7,      TRANS,     360,          1,         14,         14,2,19950328,       0838,   -25.7667,    83.9502,       4605,  2168.5,   2.2748,  34.7197,2,  34.7206,2,    162.8,2,   164.0,2,  108.39,2,   33.76,2,    0.00,2,    2.36,2,   0.004,2,   0.005,2,  2280.8,2,  2381.4,2,  -9.0000,9,-999.0000,9, -999.00,9, -999.00,9,  -999.0,9,  -999.0,-999.000,9,-999.000,-999.000,9,  -9.0000,-999.0000,   2.1192,   -9.00
  316N145_7,      TRANS,     360,          1,         13,         13,2,19950328,       0838,   -25.7667,    83.9502,       4605,  2319.6,   2.1246,  34.7222,2,  34.7229,2,    169.2,2,   168.8,2,  109.24,2,   33.46,2,    0.00,2,    2.33,2,-999.000,9,-999.000,9,  2280.0,2,  2379.6,2,  -9.0000,9,-999.0000,9, -999.00,9, -999.00,9,  -999.0,9,  -999.0,-999.000,9,-999.000,-999.000,9,  -9.0000,-999.0000,   1.9581,   -9.00
  316N145_7,      TRANS,     360,          1,         12,         12,2,19950328,       0838,   -25.7667,    83.9502,       4605,  2477.0,   1.9971,  34.7240,2,  34.7245,2,    175.1,2,   174.9,2,  108.58,2,   33.06,2,    0.00,2,    2.29,2,-999.000,9,-999.000,9,  2276.7,2,  2376.2,2,  -9.0000,9,-999.0000,9, -999.00,9, -999.00,9,  -999.0,9,  -999.0,-999.000,9,-999.000,-999.000,9,  -9.0000,-999.0000,   1.8187,   -9.00
  316N145_7,      TRANS,     360,          1,         11,         11,2,19950328,       0838,   -25.7667,    83.9502,       4605,  2631.2,   1.8680,  34.7286,2,  34.7294,2,    182.9,2,   183.0,2,  106.19,2,   32.41,2,    0.00,2,    2.24,2,  -0.002,2,   0.001,2,  2267.4,2,  2376.0,2,  -9.0000,9,-999.0000,9, -999.00,9, -999.00,9,  -999.0,9,  -999.0,-999.000,9,-999.000,-999.000,9,  -9.0000,-999.0000,   1.6779,   -9.00
  316N145_7,      TRANS,     360,          1,         10,         10,2,19950328,       0838,   -25.7667,    83.9502,       4605,  2834.0,   1.7246,  34.7323,2,  34.7328,2,    189.4,2,   189.3,2,  106.39,2,   32.01,2,    0.00,2,    2.20,2,-999.000,9,-999.000,9,  2263.9,2,  2374.1,2,  -9.0000,9,-999.0000,9, -999.00,9, -999.00,9,  -999.0,9,  -999.0,-999.000,9,-999.000,-999.000,9,  -9.0000,-999.0000,   1.5184,   -9.00
  316N145_7,      TRANS,     360,          1,          9,          9,2,19950328,       0838,   -25.7667,    83.9502,       4605,  3038.8,   1.6079,  34.7323,2,  34.7333,2,    192.8,2,   193.5,2,  107.67,2,   31.86,2,    0.00,2,    2.19,2,   0.002,2,  -0.001,2,  2263.8,2,  2370.7,2,  -9.0000,9,-999.0000,9, -999.00,9, -999.00,9,  -999.0,9,  -999.0,-999.000,9,-999.000,-999.000,9,  -9.0000,-999.0000,   1.3848,   -9.00
  316N145_7,      TRANS,     360,          1,          8,          8,2,19950328,       0838,   -25.7667,    83.9502,       4605,  3242.3,   1.5095,  34.7306,2,  34.7312,2,    193.6,2,   194.4,2,  110.89,2,   32.01,2,    0.00,2,    2.20,2,-999.000,9,-999.000,9,  2265.3,2,  2371.9,2,  -9.0000,9,-999.0000,9, -999.00,9, -999.00,9,  -999.0,9,  -999.0,-999.000,9,-999.000,-999.000,9,  -9.0000,-999.0000,   1.2687,   -9.00
  316N145_7,      TRANS,     360,          1,          7,          7,2,19950328,       0838,   -25.7667,    83.9502,       4605,  3446.5,   1.4314,  34.7271,2,  34.7278,2,    194.2,2,   194.0,2,  115.20,2,   32.26,2,    0.00,2,    2.22,2,-999.000,9,-999.000,9,  2270.3,2,  2382.2,2,  -9.0000,9,-999.0000,9, -999.00,9, -999.00,9,  -999.0,9,  -999.0,-999.000,9,-999.000,-999.000,9,  -9.0000,-999.0000,   1.1722,   -9.00
  316N145_7,      TRANS,     360,          1,          6,          6,2,19950328,       0838,   -25.7667,    83.9502,       4605,  3650.2,   1.3999,  34.7243,2,  34.7251,2,    193.0,2,   192.6,2,  118.44,2,   32.56,2,    0.00,2,    2.23,2,  -0.001,2,  -0.003,2,  2277.3,2,  2379.4,2,  -9.0000,9,-999.0000,9, -999.00,9, -999.00,9,  -999.0,9,  -999.0,-999.000,9,-999.000,-999.000,9,  -9.0000,-999.0000,   1.1207,   -9.00
  316N145_7,      TRANS,     360,          1,          5,          5,2,19950328,       0838,   -25.7667,    83.9502,       4605,  3855.2,   1.3942,  34.7232,2,  34.7227,2,    191.4,2,   191.1,2,  121.03,2,   32.76,2,    0.00,2,    2.25,2,-999.000,9,-999.000,9,  2279.9,2,  2410.8,3,  -9.0000,9,-999.0000,9, -999.00,9, -999.00,9,  -999.0,9,  -999.0,-999.000,9,-999.000,-999.000,9,  -9.0000,-999.0000,   1.0936,   -9.00
  316N145_7,      TRANS,     360,          1,          4,          4,2,19950328,       0838,   -25.7667,    83.9502,       4605,  4059.2,   1.4022,  34.7218,2,  34.7223,2,    190.0,2,   189.9,2,  122.75,2,   32.96,2,    0.00,2,    2.27,2,-999.000,9,-999.000,9,  2282.9,2,  2420.7,3,  -9.0000,9,-999.0000,9, -999.00,9, -999.00,9,  -999.0,9,  -999.0,-999.000,9,-999.000,-999.000,9,  -9.0000,-999.0000,   1.0794,   -9.00
  316N145_7,      TRANS,     360,          1,          3,          3,2,19950328,       0838,   -25.7667,    83.9502,       4605,  4264.4,   1.4173,  34.7213,2,  34.7213,2,    189.9,2,   189.2,2,  124.05,2,   33.01,2,    0.00,2,    2.27,2,  -0.001,2,  -0.003,2,  2284.2,2,  2401.4,2,  -9.0000,9,-999.0000,9, -999.00,9, -999.00,9,  -999.0,9,  -999.0,-999.000,9,-999.000,-999.000,9,  -9.0000,-999.0000,   1.0714,   -9.00
  316N145_7,      TRANS,     360,          1,          2,          2,2,19950328,       0838,   -25.7667,    83.9502,       4605,  4468.8,   1.4392,  34.7208,2,  34.7221,2,    189.6,2,   190.4,2,  124.25,2,   33.06,2,    0.00,2,    2.27,2,   0.005,2,   0.001,2,  2285.7,2,  2379.8,3,  -9.0000,9,-999.0000,9, -999.00,9, -999.00,9,  -999.0,9,  -999.0,-999.000,9,-999.000,-999.000,9,  -9.0000,-999.0000,   1.0695,   -9.00
  316N145_7,      TRANS,     360,          1,          1,          1,2,19950328,       0838,   -25.7667,    83.9502,       4605,  4683.6,   1.4647,  34.7211,2,  34.7215,2,    190.2,2,   190.7,2,  124.23,2,   33.06,2,    0.00,2,    2.28,2,   0.002,2,   0.001,2,  2285.7,2,  2402.6,2,  -9.0000,9,-999.0000,9, -999.00,9, -999.00,9,  -999.0,9,  -999.0,-999.000,9,-999.000,-999.000,9,  -9.0000,-999.0000,   1.0692,   -9.00