BOTTLE,20211124CCHSIORKP
EXPOCODE,SECT_ID,STNNBR,CASTNO,SAMPNO,BTLNBR,BTLNBR_FLAG_W,DATE,TIME,LATITUDE,LONGITUDE,DEPTH,CTDPRS,CTDTMP,CTDSAL,CTDSAL_FLAG_W,SALNTY,SALNTY_FLAG_W,CTDOXY,CTDOXY_FLAG_W,OXYGEN,OXYGEN_FLAG_W,SILCAT,SILCAT_FLAG_W,NITRAT,NITRAT_FLAG_W,NITRIT,NITRIT_FLAG_W,PHSPHT,PHSPHT_FLAG_W,CFC-11,CFC-11_FLAG_W,CFC-12,CFC-12_FLAG_W,TCARBN,TCARBN_FLAG_W,ALKALI,ALKALI_FLAG_W,TRITUM,TRITUM_FLAG_W,HELIUM,HELIUM_FLAG_W,DELHE3,DELHE3_FLAG_W,DELC13,DELC13_FLAG_W,DELC14,DELC14_FLAG_W,C14ERR,NEON,NEON_FLAG_W,NEONER,CCL4,CCL4_FLAG_W,TRITER,HELIER,THETA,DELHER
,,,,,,,,,,,METERS,DBAR,ITS-90,PSS-78,,PSS-78,,UMOL/KG,,UMOL/KG,,UMOL/KG,,UMOL/KG,,UMOL/KG,,UMOL/KG,,PMOL/KG,,PMOL/KG,,UMOL/KG,,UMOL/KG,,TU,,NMOL/KG,,PERCNT,,/MILLE,,/MILLE,,/MILLE,NMOL/KG,,NMOL/KG,PMOL/KG,,TU,NMOL/KG,DEG C,PERCNT
  316N145_7,       I08N,     323,          1,         36,         36,2,19950319,       1125,    -8.5000,    80.0000,       5161,     3.3,  29.2405,  34.1867,2,  34.1871,2,    197.5,2,   197.6,2,    3.24,2,    0.09,2,    0.00,2,    0.10,2,-999.000,9,-999.000,9,  1902.2,2,  2247.6,2,  -9.0000,9,-999.0000,9, -999.00,9, -999.00,9,  -999.0,9,  -999.0,-999.000,9,-999.000,-999.000,9,  -9.0000,-999.0000,  29.2397,   -9.00
  316N145_7,       I08N,     323,          1,         35,         35,2,19950319,       1125,    -8.5000,    80.0000,       5161,    27.3,  28.2206,  34.3687,2,  34.4129,2,    201.5,2,   202.6,2,    3.43,2,    0.09,2,    0.00,2,    0.12,2,-999.000,9,-999.000,9,  -999.0,9,  -999.0,9,  -9.0000,9,-999.0000,9, -999.00,9, -999.00,9,  -999.0,9,  -999.0,-999.000,9,-999.000,-999.000,9,  -9.0000,-999.0000,  28.2141,   -9.00
  316N145_7,       I08N,     323,          1,         34,         34,2,19950319,       1125,    -8.5000,    80.0000,       5161,    57.2,  22.4452,  34.9760,2,  35.0327,2,    153.0,2,   143.9,2,    9.71,2,    7.80,2,    0.20,2,    0.71,2,-999.000,9,-999.000,9,  -999.0,9,  -999.0,9,  -9.0000,9,-999.0000,9, -999.00,9, -999.00,9,  -999.0,9,  -999.0,-999.000,9,-999.000,-999.000,9,  -9.0000,-999.0000,  22.4337,   -9.00
  316N145_7,       I08N,     323,          1,         33,         33,2,19950319,       1125,    -8.5000,    80.0000,       5161,    87.9,  18.5025,  35.2270,2,  35.2199,2,    117.3,2,   119.1,2,   15.14,2,   14.23,2,    0.12,2,    1.04,2,-999.000,9,-999.000,9,  -999.0,9,  -999.0,9,  -9.0000,9,-999.0000,9, -999.00,9, -999.00,9,  -999.0,9,  -999.0,-999.000,9,-999.000,-999.000,9,  -9.0000,-999.0000,  18.4871,   -9.00
  316N145_7,       I08N,     323,          1,         32,         32,2,19950319,       1125,    -8.5000,    80.0000,       5161,   117.6,  15.8199,  34.9975,2,  34.9978,2,     78.1,2,    81.2,2,   23.33,2,   21.83,2,    0.03,2,    1.52,2,-999.000,9,-999.000,9,  -999.0,9,  -999.0,9,  -9.0000,9,-999.0000,9, -999.00,9, -999.00,9,  -999.0,9,  -999.0,-999.000,9,-999.000,-999.000,9,  -9.0000,-999.0000,  15.8015,   -9.00
  316N145_7,       I08N,     323,          1,         31,         31,2,19950319,       1125,    -8.5000,    80.0000,       5161,   168.1,  12.9915,  34.9514,2,  34.9229,2,     82.4,2,    84.0,2,   28.36,2,   24.41,2,    0.01,2,    1.71,2,-999.000,9,-999.000,9,  -999.0,9,  -999.0,9,  -9.0000,9,-999.0000,9, -999.00,9, -999.00,9,  -999.0,9,  -999.0,-999.000,9,-999.000,-999.000,9,  -9.0000,-999.0000,  12.9684,   -9.00
  316N145_7,       I08N,     323,          1,         30,         30,2,19950319,       1125,    -8.5000,    80.0000,       5161,   217.3,  12.0016,  34.9792,2,  34.9738,2,    105.1,2,   103.4,2,   24.97,2,   23.46,2,    0.01,2,    1.64,2,-999.000,9,-999.000,9,  -999.0,9,  -999.0,9,  -9.0000,9,-999.0000,9, -999.00,9, -999.00,9,  -999.0,9,  -999.0,-999.000,9,-999.000,-999.000,9,  -9.0000,-999.0000,  11.9733,   -9.00
  316N145_7,       I08N,     323,          1,         29,         29,2,19950319,       1125,    -8.5000,    80.0000,       5161,   277.0,  11.0585,  34.9213,2,  34.9199,2,    100.4,2,    99.1,2,   26.00,2,   25.92,2,    0.00,2,    1.77,2,-999.000,9,-999.000,9,  -999.0,9,  -999.0,9,  -9.0000,9,-999.0000,9, -999.00,9, -999.00,9,  -999.0,9,  -999.0,-999.000,9,-999.000,-999.000,9,  -9.0000,-999.0000,  11.0242,   -9.00
  316N145_7,       I08N,     323,          1,         28,         28,2,19950319,       1125,    -8.5000,    80.0000,       5161,   346.7,   9.9751,  34.8429,2,  34.8448,2,    115.0,2,   116.0,2,   27.03,2,   26.35,2,    0.00,2,    1.80,2,-999.000,9,-999.000,9,  -999.0,9,  -999.0,9,  -9.0000,9,-999.0000,9, -999.00,9, -999.00,9,  -999.0,9,  -999.0,-999.000,9,-999.000,-999.000,9,  -9.0000,-999.0000,   9.9347,   -9.00
  316N145_7,       I08N,     323,          1,         27,         27,2,19950319,       1125,    -8.5000,    80.0000,       5161,   417.2,   9.3747,  34.8319,2,  34.8298,2,     93.7,2,    94.0,2,   35.21,2,   29.81,2,    0.00,2,    2.05,2,-999.000,9,-999.000,9,  -999.0,9,  -999.0,9,  -9.0000,9,-999.0000,9, -999.00,9, -999.00,9,  -999.0,9,  -999.0,-999.000,9,-999.000,-999.000,9,  -9.0000,-999.0000,   9.3278,   -9.00
  316N145_7,       I08N,     323,          1,         26,         26,2,19950319,       1125,    -8.5000,    80.0000,       5161,   508.7,   8.5247,  34.8054,2,  34.7984,2,     77.3,2,    78.7,2,   47.79,2,   32.63,2,    0.00,2,    2.30,2,-999.000,9,-999.000,9,  -999.0,9,  -999.0,9,  -9.0000,9,-999.0000,9, -999.00,9, -999.00,9,  -999.0,9,  -999.0,-999.000,9,-999.000,-999.000,9,  -9.0000,-999.0000,   8.4704,   -9.00
  316N145_7,       I08N,     323,          1,         25,         25,2,19950319,       1125,    -8.5000,    80.0000,       5161,   609.7,   7.7786,  34.7941,2,  34.7911,2,     69.9,2,    71.5,2,   60.60,2,   34.49,2,    0.00,2,    2.48,2,-999.000,9,-999.000,9,  -999.0,9,  -999.0,9,  -9.0000,9,-999.0000,9, -999.00,9, -999.00,9,  -999.0,9,  -999.0,-999.000,9,-999.000,-999.000,9,  -9.0000,-999.0000,   7.7164,   -9.00
  316N145_7,       I08N,     323,          1,         24,         24,2,19950319,       1125,    -8.5000,    80.0000,       5161,   710.4,   7.1780,  34.7910,2,  34.7903,2,     68.2,2,    68.6,2,   70.46,2,   35.45,2,    0.00,2,    2.57,2,-999.000,9,-999.000,9,  -999.0,9,  -999.0,9,  -9.0000,9,-999.0000,9, -999.00,9, -999.00,9,  -999.0,9,  -999.0,-999.000,9,-999.000,-999.000,9,  -9.0000,-999.0000,   7.1083,   -9.00
  316N145_7,       I08N,     323,          1,         23,         23,2,19950319,       1125,    -8.5000,    80.0000,       5161,   860.6,   6.1786,  34.7510,2,  34.7526,2,     73.4,2,    71.7,2,   85.20,2,   36.31,2,    0.00,2,    2.65,2,-999.000,9,-999.000,9,  -999.0,9,  -999.0,9,  -9.0000,9,-999.0000,9, -999.00,9, -999.00,9,  -999.0,9,  -999.0,-999.000,9,-999.000,-999.000,9,  -9.0000,-999.0000,   6.0998,   -9.00
  316N145_7,       I08N,     323,          1,         22,         22,2,19950319,       1125,    -8.5000,    80.0000,       5161,  1012.1,   5.4470,  34.7394,2,  34.7378,2,     78.8,2,    78.8,2,   94.48,2,   36.60,2,    0.00,2,    2.67,2,-999.000,9,-999.000,9,  -999.0,9,  -999.0,9,  -9.0000,9,-999.0000,9, -999.00,9, -999.00,9,  -999.0,9,  -999.0,-999.000,9,-999.000,-999.000,9,  -9.0000,-999.0000,   5.3588,   -9.00
  316N145_7,       I08N,     323,          1,         21,         21,2,19950319,       1125,    -8.5000,    80.0000,       5161,  1163.3,   4.8241,  34.7369,2,  34.7382,2,     85.5,2,    85.4,2,  101.66,2,   36.69,2,    0.00,2,    2.68,2,-999.000,9,-999.000,9,  -999.0,9,  -999.0,9,  -9.0000,9,-999.0000,9, -999.00,9, -999.00,9,  -999.0,9,  -999.0,-999.000,9,-999.000,-999.000,9,  -9.0000,-999.0000,   4.7270,   -9.00
  316N145_7,       I08N,     323,          1,         20,         20,2,19950319,       1125,    -8.5000,    80.0000,       5161,  1314.1,   4.6512,  34.7885,2,  34.7901,2,     88.2,2,    88.9,2,  102.48,2,   36.64,2,    0.00,2,    2.69,2,-999.000,9,-999.000,9,  -999.0,9,  -999.0,9,  -9.0000,9,-999.0000,9, -999.00,9, -999.00,9,  -999.0,9,  -999.0,-999.000,9,-999.000,-999.000,9,  -9.0000,-999.0000,   4.5416,   -9.00
  316N145_7,       I08N,     323,          1,         19,         19,2,19950319,       1125,    -8.5000,    80.0000,       5161,  1465.3,   4.0342,  34.7648,2,  34.7649,2,    100.0,2,   101.6,2,  107.34,2,   36.44,2,    0.00,2,    2.65,2,-999.000,9,-999.000,9,  -999.0,9,  -999.0,9,  -9.0000,9,-999.0000,9, -999.00,9, -999.00,9,  -999.0,9,  -999.0,-999.000,9,-999.000,-999.000,9,  -9.0000,-999.0000,   3.9173,   -9.00
  316N145_7,       I08N,     323,          1,         18,         18,2,19950319,       1125,    -8.5000,    80.0000,       5161,  1616.3,   3.5083,  34.7523,2,  34.7520,2,    112.3,2,   113.3,2,  111.79,2,   36.05,2,    0.00,2,    2.61,2,-999.000,9,-999.000,9,  -999.0,9,  -999.0,9,  -9.0000,9,-999.0000,9, -999.00,9, -999.00,9,  -999.0,9,  -999.0,-999.000,9,-999.000,-999.000,9,  -9.0000,-999.0000,   3.3839,   -9.00
  316N145_7,       I08N,     323,          1,         17,         17,2,19950319,       1125,    -8.5000,    80.0000,       5161,  1768.2,   3.0826,  34.7498,2,  34.7496,2,    123.8,2,   123.1,2,  115.39,2,   35.67,2,    0.00,2,    2.56,2,-999.000,9,-999.000,9,  -999.0,9,  -999.0,9,  -9.0000,9,-999.0000,9, -999.00,9, -999.00,9,  -999.0,9,  -999.0,-999.000,9,-999.000,-999.000,9,  -9.0000,-999.0000,   2.9503,   -9.00
  316N145_7,       I08N,     323,          1,         16,         16,2,19950319,       1125,    -8.5000,    80.0000,       5161,  1920.8,   2.7422,  34.7480,2,  34.7475,2,    132.8,2,   133.0,2,  118.57,2,   35.23,2,    0.00,2,    2.53,2,-999.000,9,-999.000,9,  -999.0,9,  -999.0,9,  -9.0000,9,-999.0000,9, -999.00,9, -999.00,9,  -999.0,9,  -999.0,-999.000,9,-999.000,-999.000,9,  -9.0000,-999.0000,   2.6012,   -9.00
  316N145_7,       I08N,     323,          1,         15,         15,2,19950319,       1125,    -8.5000,    80.0000,       5161,  2073.0,   2.4827,  34.7466,2,  34.7465,2,    140.9,2,   139.8,2,  120.68,2,   34.99,2,    0.00,2,    2.50,2,-999.000,9,-999.000,9,  -999.0,9,  -999.0,9,  -9.0000,9,-999.0000,9, -999.00,9, -999.00,9,  -999.0,9,  -999.0,-999.000,9,-999.000,-999.000,9,  -9.0000,-999.0000,   2.3322,   -9.00
  316N145_7,       I08N,     323,          1,         14,         14,2,19950319,       1125,    -8.5000,    80.0000,       5161,  2225.1,   2.2816,  34.7427,2,  34.7423,2,    146.9,2,   146.6,2,  122.36,2,   34.70,2,    0.00,2,    2.47,2,-999.000,9,-999.000,9,  -999.0,9,  -999.0,9,  -9.0000,9,-999.0000,9, -999.00,9, -999.00,9,  -999.0,9,  -999.0,-999.000,9,-999.000,-999.000,9,  -9.0000,-999.0000,   2.1208,   -9.00
  316N145_7,       I08N,     323,          1,         13,         13,2,19950319,       1125,    -8.5000,    80.0000,       5161,  2428.0,   2.0786,  34.7375,2,  34.7372,2,    154.3,2,   154.9,2,  123.40,2,   34.17,2,    0.00,2,    2.43,2,-999.000,9,-999.000,9,  -999.0,9,  -999.0,9,  -9.0000,9,-999.0000,9, -999.00,9, -999.00,9,  -999.0,9,  -999.0,-999.000,9,-999.000,-999.000,9,  -9.0000,-999.0000,   1.9031,   -9.00
  316N145_7,       I08N,     323,          1,         12,         12,2,19950319,       1125,    -8.5000,    80.0000,       5161,  2631.8,   1.9059,  34.7334,2,  34.7339,2,    160.2,2,   160.8,2,  125.30,2,   34.07,2,    0.00,2,    2.40,2,-999.000,9,-999.000,9,  -999.0,9,  -999.0,9,  -9.0000,9,-999.0000,9, -999.00,9, -999.00,9,  -999.0,9,  -999.0,-999.000,9,-999.000,-999.000,9,  -9.0000,-999.0000,   1.7149,   -9.00
  316N145_7,       I08N,     323,          1,         11,         11,2,19950319,       1125,    -8.5000,    80.0000,       5161,  2834.8,   1.7875,  34.7311,2,  34.7298,2,    164.2,2,   164.5,2,  126.77,2,   33.92,2,    0.00,2,    2.38,2,-999.000,9,-999.000,9,  -999.0,9,  -999.0,9,  -9.0000,9,-999.0000,9, -999.00,9, -999.00,9,  -999.0,9,  -999.0,-999.000,9,-999.000,-999.000,9,  -9.0000,-999.0000,   1.5800,   -9.00
  316N145_7,       I08N,     323,          1,         10,         10,2,19950319,       1125,    -8.5000,    80.0000,       5161,  3038.3,   1.6700,  34.7277,2,  34.7274,2,    169.3,2,   169.0,2,  128.03,2,   33.73,2,    0.00,2,    2.36,2,-999.000,9,-999.000,9,  -999.0,9,  -999.0,9,  -9.0000,9,-999.0000,9, -999.00,9, -999.00,9,  -999.0,9,  -999.0,-999.000,9,-999.000,-999.000,9,  -9.0000,-999.0000,   1.4455,   -9.00
  316N145_7,       I08N,     323,          1,          9,          9,2,19950319,       1125,    -8.5000,    80.0000,       5161,  3242.0,   1.5782,  34.7260,2,  34.7250,2,    169.9,2,   169.5,2,  131.23,2,   33.87,2,    0.00,2,    2.37,2,-999.000,9,-999.000,9,  -999.0,9,  -999.0,9,  -9.0000,9,-999.0000,9, -999.00,9, -999.00,9,  -999.0,9,  -999.0,-999.000,9,-999.000,-999.000,9,  -9.0000,-999.0000,   1.3358,   -9.00
  316N145_7,       I08N,     323,          1,          8,          8,2,19950319,       1125,    -8.5000,    80.0000,       5161,  3496.3,   1.4588,  34.7220,2,  34.7215,2,    172.2,2,   172.9,2,  133.80,2,   33.82,2,    0.00,2,    2.36,2,-999.000,9,-999.000,9,  -999.0,9,  -999.0,9,  -9.0000,9,-999.0000,9, -999.00,9, -999.00,9,  -999.0,9,  -999.0,-999.000,9,-999.000,-999.000,9,  -9.0000,-999.0000,   1.1939,   -9.00
  316N145_7,       I08N,     323,          1,          7,          7,2,19950319,       1125,    -8.5000,    80.0000,       5161,  3751.6,   1.3768,  34.7196,2,  34.7191,2,    176.3,2,   176.6,2,  134.41,2,   33.63,2,    0.00,2,    2.35,2,-999.000,9,-999.000,9,  -999.0,9,  -999.0,9,  -9.0000,9,-999.0000,9, -999.00,9, -999.00,9,  -999.0,9,  -999.0,-999.000,9,-999.000,-999.000,9,  -9.0000,-999.0000,   1.0876,   -9.00
  316N145_7,       I08N,     323,          1,          6,          6,2,19950319,       1125,    -8.5000,    80.0000,       5161,  4006.9,   1.3553,  34.7188,2,  34.7262,4,    178.6,2,   179.4,2,  134.37,2,   33.62,2,    0.00,2,    2.34,2,-999.000,9,-999.000,9,  -999.0,9,  -999.0,9,  -9.0000,9,-999.0000,9, -999.00,9, -999.00,9,  -999.0,9,  -999.0,-999.000,9,-999.000,-999.000,9,  -9.0000,-999.0000,   1.0395,   -9.00
  316N145_7,       I08N,     323,          1,          5,          5,2,19950319,       1125,    -8.5000,    80.0000,       5161,  4263.2,   1.3519,  34.7177,2,  34.7166,2,    180.6,2,   181.2,2,  133.89,2,   33.52,2,    0.00,2,    2.32,2,   0.006,3,   0.001,2,  -999.0,9,  -999.0,9,  -9.0000,9,-999.0000,9, -999.00,9, -999.00,9,  -999.0,9,  -999.0,-999.000,9,-999.000,  -0.009,2,  -9.0000,-999.0000,   1.0081,   -9.00
  316N145_7,       I08N,     323,          1,          4,          4,2,19950319,       1125,    -8.5000,    80.0000,       5161,  4518.6,   1.3578,  34.7172,2,  34.7164,2,    182.4,2,   182.3,2,  133.19,2,   33.38,2,    0.00,2,    2.31,2,  -0.013,3,   0.006,2,  -999.0,9,  -999.0,9,  -9.0000,9,-999.0000,9, -999.00,9, -999.00,9,  -999.0,9,  -999.0,-999.000,9,-999.000,  -0.010,2,  -9.0000,-999.0000,   0.9849,   -9.00
  316N145_7,       I08N,     323,          1,          3,          3,2,19950319,       1125,    -8.5000,    80.0000,       5161,  4774.8,   1.3793,  34.7176,2,  34.7164,2,    183.0,2,   183.1,2,  133.15,2,   33.42,2,    0.00,2,    2.31,2,-999.000,9,-999.000,9,  -999.0,9,  -999.0,9,  -9.0000,9,-999.0000,9, -999.00,9, -999.00,9,  -999.0,9,  -999.0,-999.000,9,-999.000,-999.000,9,  -9.0000,-999.0000,   0.9758,   -9.00
  316N145_7,       I08N,     323,          1,          2,          2,2,19950319,       1125,    -8.5000,    80.0000,       5161,  5031.6,   1.4060,  34.7171,2,  34.7164,2,    183.9,2,   182.6,3,  132.67,2,   33.37,2,    0.00,2,    2.31,2,-999.000,9,-999.000,9,  -999.0,9,  -999.0,9,  -9.0000,9,-999.0000,9, -999.00,9, -999.00,9,  -999.0,9,  -999.0,-999.000,9,-999.000,-999.000,9,  -9.0000,-999.0000,   0.9709,   -9.00
  316N145_7,       I08N,     323,          1,          1,          1,2,19950319,       1125,    -8.5000,    80.0000,       5161,  5265.6,   1.4300,  34.7172,2,  34.7162,2,    184.1,2,   184.0,2,  132.41,2,   33.27,2,    0.00,2,    2.30,2,   0.009,3,   0.004,2,  -999.0,9,  -999.0,9,  -9.0000,9,-999.0000,9, -999.00,9, -999.00,9,  -999.0,9,  -999.0,-999.000,9,-999.000,  -0.009,2,  -9.0000,-999.0000,   0.9653,   -9.00