BOTTLE,20211124CCHSIORKP
EXPOCODE,SECT_ID,STNNBR,CASTNO,SAMPNO,BTLNBR,BTLNBR_FLAG_W,DATE,TIME,LATITUDE,LONGITUDE,DEPTH,CTDPRS,CTDTMP,CTDSAL,CTDSAL_FLAG_W,SALNTY,SALNTY_FLAG_W,CTDOXY,CTDOXY_FLAG_W,OXYGEN,OXYGEN_FLAG_W,SILCAT,SILCAT_FLAG_W,NITRAT,NITRAT_FLAG_W,NITRIT,NITRIT_FLAG_W,PHSPHT,PHSPHT_FLAG_W,CFC-11,CFC-11_FLAG_W,CFC-12,CFC-12_FLAG_W,TCARBN,TCARBN_FLAG_W,ALKALI,ALKALI_FLAG_W,TRITUM,TRITUM_FLAG_W,HELIUM,HELIUM_FLAG_W,DELHE3,DELHE3_FLAG_W,DELC13,DELC13_FLAG_W,DELC14,DELC14_FLAG_W,C14ERR,NEON,NEON_FLAG_W,NEONER,CCL4,CCL4_FLAG_W,TRITER,HELIER,THETA,DELHER
,,,,,,,,,,,METERS,DBAR,ITS-90,PSS-78,,PSS-78,,UMOL/KG,,UMOL/KG,,UMOL/KG,,UMOL/KG,,UMOL/KG,,UMOL/KG,,PMOL/KG,,PMOL/KG,,UMOL/KG,,UMOL/KG,,TU,,NMOL/KG,,PERCNT,,/MILLE,,/MILLE,,/MILLE,NMOL/KG,,NMOL/KG,PMOL/KG,,TU,NMOL/KG,DEG C,PERCNT
  316N145_7,       I08N,     303,          1,         36,         36,2,19950315,       0035,    -0.2500,    79.9998,       4659,     2.2,  29.5180,  34.3518,2,  34.3502,3,    194.0,2,   195.4,2,    2.55,2,    0.01,2,    0.00,2,    0.09,2,-999.000,9,-999.000,9,  1899.0,2,  2252.1,2,  -9.0000,9,-999.0000,9, -999.00,9, -999.00,9,  -999.0,9,  -999.0,-999.000,9,-999.000,-999.000,9,  -9.0000,-999.0000,  29.5175,   -9.00
  316N145_7,       I08N,     303,          1,         35,         35,2,19950315,       0035,    -0.2500,    79.9998,       4659,    30.0,  29.1828,  34.3756,2,  34.4086,3,    202.1,2,   195.7,2,    2.33,2,    0.05,2,    0.00,2,    0.11,2,-999.000,9,-999.000,9,  1906.9,2,  2249.1,2,  -9.0000,9,-999.0000,9, -999.00,9, -999.00,9,  -999.0,9,  -999.0,-999.000,9,-999.000,-999.000,9,  -9.0000,-999.0000,  29.1756,   -9.00
  316N145_7,       I08N,     303,          1,         34,         34,2,19950315,       0035,    -0.2500,    79.9998,       4659,    45.7,  24.6580,  35.3667,2,  35.3597,3,    160.9,2,   158.8,2,    6.17,2,    5.95,2,    0.20,2,    0.59,2,-999.000,9,-999.000,9,  2042.3,2,  2311.0,2,  -9.0000,9,-999.0000,9, -999.00,9, -999.00,9,  -999.0,9,  -999.0,-999.000,9,-999.000,-999.000,9,  -9.0000,-999.0000,  24.6482,   -9.00
  316N145_7,       I08N,     303,          1,         33,         33,2,19950315,       0035,    -0.2500,    79.9998,       4659,    65.4,  23.2867,  35.3681,2,  35.3534,3,    144.5,2,   148.8,2,    6.97,2,    8.15,2,    0.62,2,    0.71,2,-999.000,9,-999.000,9,  1842.9,4,  2308.9,2,  -9.0000,9,-999.0000,9, -999.00,9, -999.00,9,  -999.0,9,  -999.0,-999.000,9,-999.000,-999.000,9,  -9.0000,-999.0000,  23.2733,   -9.00
  316N145_7,       I08N,     303,          1,         32,         32,2,19950315,       0035,    -0.2500,    79.9998,       4659,   106.1,  20.6976,  35.3458,2,  35.3424,3,    105.9,2,   105.8,2,   10.82,2,   15.05,2,    0.05,2,    1.10,2,-999.000,9,-999.000,9,  1966.9,4,  2326.7,2,  -9.0000,9,-999.0000,9, -999.00,9, -999.00,9,  -999.0,9,  -999.0,-999.000,9,-999.000,-999.000,9,  -9.0000,-999.0000,  20.6774,   -9.00
  316N145_7,       I08N,     303,          1,         31,         31,2,19950315,       0035,    -0.2500,    79.9998,       4659,   131.2,  19.0378,  35.2481,2,  35.2464,3,     84.8,2,    79.4,2,   14.87,2,   19.32,2,    0.02,2,    1.38,2,-999.000,9,-999.000,9,  2038.6,4,  2311.0,2,  -9.0000,9,-999.0000,9, -999.00,9, -999.00,9,  -999.0,9,  -999.0,-999.000,9,-999.000,-999.000,9,  -9.0000,-999.0000,  19.0143,   -9.00
  316N145_7,       I08N,     303,          1,         30,         30,2,19950315,       0035,    -0.2500,    79.9998,       4659,   155.8,  15.5493,  35.1637,2,  35.1694,3,     66.6,2,    64.9,2,   19.53,2,   23.58,2,    0.01,2,    1.67,2,-999.000,9,-999.000,9,  2099.0,4,  2324.1,2,  -9.0000,9,-999.0000,9, -999.00,9, -999.00,9,  -999.0,9,  -999.0,-999.000,9,-999.000,-999.000,9,  -9.0000,-999.0000,  15.5251,   -9.00
  316N145_7,       I08N,     303,          1,         29,         29,2,19950315,       0035,    -0.2500,    79.9998,       4659,   180.6,  14.8515,  35.1822,2,  35.1808,3,     69.1,2,    79.8,2,   19.11,2,   22.66,2,    0.01,2,    1.62,2,-999.000,9,-999.000,9,  2177.4,2,  2311.4,2,  -9.0000,9,-999.0000,9, -999.00,9, -999.00,9,  -999.0,9,  -999.0,-999.000,9,-999.000,-999.000,9,  -9.0000,-999.0000,  14.8244,   -9.00
  316N145_7,       I08N,     303,          1,         28,         28,2,19950315,       0035,    -0.2500,    79.9998,       4659,   246.6,  12.9608,  35.1027,2,  35.0981,3,     80.1,2,    76.1,2,   22.14,2,   25.29,2,    0.00,2,    1.77,2,-999.000,9,-999.000,9,  2196.5,2,  2312.5,2,  -9.0000,9,-999.0000,9, -999.00,9, -999.00,9,  -999.0,9,  -999.0,-999.000,9,-999.000,-999.000,9,  -9.0000,-999.0000,  12.9268,   -9.00
  316N145_7,       I08N,     303,          1,         27,         27,2,19950315,       0035,    -0.2500,    79.9998,       4659,   326.2,  11.2799,  35.0368,2,  35.0336,3,     77.3,2,    81.4,2,   25.78,2,   27.29,2,    0.00,2,    1.90,2,-999.000,9,-999.000,9,  2205.9,2,  2329.4,2,  -9.0000,9,-999.0000,9, -999.00,9, -999.00,9,  -999.0,9,  -999.0,-999.000,9,-999.000,-999.000,9,  -9.0000,-999.0000,  11.2388,   -9.00
  316N145_7,       I08N,     303,          1,         26,         26,2,19950315,       0035,    -0.2500,    79.9998,       4659,   416.7,  10.1792,  34.9981,2,  34.9991,3,     66.2,2,    73.8,2,   34.30,2,   30.04,2,    0.00,2,    2.14,2,-999.000,9,-999.000,9,  2226.9,2,  2318.4,2,  -9.0000,9,-999.0000,9, -999.00,9, -999.00,9,  -999.0,9,  -999.0,-999.000,9,-999.000,-999.000,9,  -9.0000,-999.0000,  10.1297,   -9.00
  316N145_7,       I08N,     303,          1,         25,         25,2,19950315,       0035,    -0.2500,    79.9998,       4659,   507.2,   9.6971,  35.0291,2,  35.0261,3,     60.8,2,    51.6,2,   44.23,2,   32.83,2,    0.00,2,    2.41,2,-999.000,9,-999.000,9,  2251.1,2,  2336.5,2,  -9.0000,9,-999.0000,9, -999.00,9, -999.00,9,  -999.0,9,  -999.0,-999.000,9,-999.000,-999.000,9,  -9.0000,-999.0000,   9.6384,   -9.00
  316N145_7,       I08N,     303,          1,         24,         24,2,19950315,       0035,    -0.2500,    79.9998,       4659,   607.3,   9.0700,  35.0052,2,  35.0043,3,     50.3,2,    49.5,2,   51.32,2,   34.19,2,    0.00,2,    2.53,2,-999.000,9,-999.000,9,  2261.6,2,  2335.0,2,  -9.0000,9,-999.0000,9, -999.00,9, -999.00,9,  -999.0,9,  -999.0,-999.000,9,-999.000,-999.000,9,  -9.0000,-999.0000,   9.0021,   -9.00
  316N145_7,       I08N,     303,          1,         23,         23,2,19950315,       0035,    -0.2500,    79.9998,       4659,   708.3,   8.5618,  35.0201,2,  35.0049,3,     43.9,2,    44.1,2,   59.02,2,   35.18,2,    0.00,2,    2.62,2,-999.000,9,-999.000,9,  2273.8,2,  2346.3,2,  -9.0000,9,-999.0000,9, -999.00,9, -999.00,9,  -999.0,9,  -999.0,-999.000,9,-999.000,-999.000,9,  -9.0000,-999.0000,   8.4848,   -9.00
  316N145_7,       I08N,     303,          1,         22,         22,2,19950315,       0035,    -0.2500,    79.9998,       4659,   808.3,   7.9899,  34.9850,2,  34.9842,3,     46.0,2,    46.2,2,   66.73,2,   35.89,2,    0.00,2,    2.69,2,-999.000,9,-999.000,9,  2281.7,2,  2351.6,2,  -9.0000,9,-999.0000,9, -999.00,9, -999.00,9,  -999.0,9,  -999.0,-999.000,9,-999.000,-999.000,9,  -9.0000,-999.0000,   7.9050,   -9.00
  316N145_7,       I08N,     303,          1,         21,         21,2,19950315,       0035,    -0.2500,    79.9998,       4659,   909.3,   7.4822,  34.9704,2,  34.9683,3,     47.8,2,    47.8,2,   73.63,2,   36.41,2,    0.00,2,    2.74,2,-999.000,9,-999.000,9,  2289.7,2,  2361.4,2,  -9.0000,9,-999.0000,9, -999.00,9, -999.00,9,  -999.0,9,  -999.0,-999.000,9,-999.000,-999.000,9,  -9.0000,-999.0000,   7.3894,   -9.00
  316N145_7,       I08N,     303,          1,         20,         20,2,19950315,       0035,    -0.2500,    79.9998,       4659,  1070.1,   6.0257,  34.8779,2,  34.8715,3,     62.4,2,    65.2,2,   89.13,2,   36.83,2,    0.00,2,    2.76,2,-999.000,9,-999.000,9,  2300.3,2,  2374.8,2,  -9.0000,9,-999.0000,9, -999.00,9, -999.00,9,  -999.0,9,  -999.0,-999.000,9,-999.000,-999.000,9,  -9.0000,-999.0000,   5.9271,   -9.00
  316N145_7,       I08N,     303,          1,         19,         19,2,19950315,       0035,    -0.2500,    79.9998,       4659,  1161.2,   5.8504,  34.8984,2,  34.9048,4,     64.5,2,    65.1,2,   91.77,2,   36.98,2,    0.00,2,    2.79,2,-999.000,9,-999.000,9,  2305.3,2,  2375.2,2,  -9.0000,9,-999.0000,9, -999.00,9, -999.00,9,  -999.0,9,  -999.0,-999.000,9,-999.000,-999.000,9,  -9.0000,-999.0000,   5.7441,   -9.00
  316N145_7,       I08N,     303,          1,         18,         18,2,19950315,       0035,    -0.2500,    79.9998,       4659,  1363.1,   5.1910,  34.8703,2,  34.8680,3,     74.4,2,    77.8,2,   99.13,2,   36.98,2,    0.00,2,    2.77,2,-999.000,9,-999.000,9,  2311.4,2,  2384.1,2,  -9.0000,9,-999.0000,9, -999.00,9, -999.00,9,  -999.0,9,  -999.0,-999.000,9,-999.000,-999.000,9,  -9.0000,-999.0000,   5.0711,   -9.00
  316N145_7,       I08N,     303,          1,         17,         17,2,19950315,       0035,    -0.2500,    79.9998,       4659,  1564.8,   3.9846,  34.8227,2,  34.8218,3,     97.8,2,    99.1,2,  110.25,2,   36.51,2,    0.00,2,    2.70,2,-999.000,9,-999.000,9,  2311.7,2,  2393.2,2,  -9.0000,9,-999.0000,9, -999.00,9, -999.00,9,  -999.0,9,  -999.0,-999.000,9,-999.000,-999.000,9,  -9.0000,-999.0000,   3.8590,   -9.00
  316N145_7,       I08N,     303,          1,         16,         16,2,19950315,       0035,    -0.2500,    79.9998,       4659,  1766.2,   3.3381,  34.8006,2,  34.7984,3,    113.1,2,   113.5,2,  116.66,2,   36.04,2,    0.00,2,    2.65,2,-999.000,9,-999.000,9,  2311.5,2,  2405.2,2,  -9.0000,9,-999.0000,9, -999.00,9, -999.00,9,  -999.0,9,  -999.0,-999.000,9,-999.000,-999.000,9,  -9.0000,-999.0000,   3.2024,   -9.00
  316N145_7,       I08N,     303,          1,         15,         15,2,19950315,       0035,    -0.2500,    79.9998,       4659,  1969.5,   2.8174,  34.7788,2,  34.7768,3,    126.2,2,   126.6,2,  122.27,2,   35.62,2,    0.00,2,    2.59,2,-999.000,9,-999.000,9,  2311.8,2,  2400.7,2,  -9.0000,9,-999.0000,9, -999.00,9, -999.00,9,  -999.0,9,  -999.0,-999.000,9,-999.000,-999.000,9,  -9.0000,-999.0000,   2.6708,   -9.00
  316N145_7,       I08N,     303,          1,         14,         14,2,19950315,       0035,    -0.2500,    79.9998,       4659,  2173.1,   2.4648,  34.7638,2,  34.7597,4,    134.8,2,   135.1,2,  126.22,2,   35.34,2,    0.00,2,    2.57,2,-999.000,9,-999.000,9,  2312.2,2,  2407.6,2,  -9.0000,9,-999.0000,9, -999.00,9, -999.00,9,  -999.0,9,  -999.0,-999.000,9,-999.000,-999.000,9,  -9.0000,-999.0000,   2.3056,   -9.00
  316N145_7,       I08N,     303,          1,         13,         13,2,19950315,       0035,    -0.2500,    79.9998,       4659,  2375.3,   2.1680,  34.7514,2,  34.7491,3,    144.6,2,   144.5,2,  128.92,2,   35.02,2,    0.00,2,    2.51,2,-999.000,9,-999.000,9,  2310.7,2,  2407.9,2,  -9.0000,9,-999.0000,9, -999.00,9, -999.00,9,  -999.0,9,  -999.0,-999.000,9,-999.000,-999.000,9,  -9.0000,-999.0000,   1.9956,   -9.00
  316N145_7,       I08N,     303,          1,         12,         12,2,19950315,       0035,    -0.2500,    79.9998,       4659,  2577.8,   2.0375,  34.7452,2,  34.7442,3,    149.6,2,   148.1,2,  130.36,2,   34.88,2,    0.00,2,    2.50,2,-999.000,9,-999.000,9,  2310.6,2,  2415.2,2,  -9.0000,9,-999.0000,9, -999.00,9, -999.00,9,  -999.0,9,  -999.0,-999.000,9,-999.000,-999.000,9,  -9.0000,-999.0000,   1.8490,   -9.00
  316N145_7,       I08N,     303,          1,         11,         11,2,19950315,       0035,    -0.2500,    79.9998,       4659,  2781.9,   1.8444,  34.7373,2,  34.7347,3,    156.9,2,   154.9,2,  132.02,2,   34.46,2,    0.00,2,    2.47,2,-999.000,9,-999.000,9,  2310.8,2,  2410.6,2,  -9.0000,9,-999.0000,9, -999.00,9, -999.00,9,  -999.0,9,  -999.0,-999.000,9,-999.000,-999.000,9,  -9.0000,-999.0000,   1.6407,   -9.00
  316N145_7,       I08N,     303,          1,         10,         10,2,19950315,       0035,    -0.2500,    79.9998,       4659,  2984.5,   1.7452,  34.7331,2,  34.7304,3,    158.8,2,   159.1,2,  133.47,2,   34.46,2,    0.00,2,    2.46,2,-999.000,9,-999.000,9,  2311.1,2,  2415.9,2,  -9.0000,9,-999.0000,9, -999.00,9, -999.00,9,  -999.0,9,  -999.0,-999.000,9,-999.000,-999.000,9,  -9.0000,-999.0000,   1.5242,   -9.00
  316N145_7,       I08N,     303,          1,          9,          9,2,19950315,       0035,    -0.2500,    79.9998,       4659,  3187.5,   1.6235,  34.7289,2,  34.7259,3,    162.7,2,   162.6,2,  135.34,2,   34.41,2,    0.00,2,    2.43,2,-999.000,9,-999.000,9,  2309.7,2,  2415.4,2,  -9.0000,9,-999.0000,9, -999.00,9, -999.00,9,  -999.0,9,  -999.0,-999.000,9,-999.000,-999.000,9,  -9.0000,-999.0000,   1.3855,   -9.00
  316N145_7,       I08N,     303,          1,          8,          8,2,19950315,       0035,    -0.2500,    79.9998,       4659,  3392.3,   1.5512,  34.7259,2,  34.7222,3,    163.4,2,   162.8,2,  137.86,2,   34.46,2,    0.00,2,    2.44,2,-999.000,9,-999.000,9,  2314.0,2,  2426.0,2,  -9.0000,9,-999.0000,9, -999.00,9, -999.00,9,  -999.0,9,  -999.0,-999.000,9,-999.000,-999.000,9,  -9.0000,-999.0000,   1.2944,   -9.00
  316N145_7,       I08N,     303,          1,          7,          7,3,19950315,       0035,    -0.2500,    79.9998,       4659,  3597.1,   1.4639,  34.7229,2,  34.7423,4,    166.8,2,   156.9,4,  127.24,4,   33.85,4,    0.00,4,    2.42,4,-999.000,9,-999.000,9,  2308.9,2,  2414.6,2,  -9.0000,9,-999.0000,9, -999.00,9, -999.00,9,  -999.0,9,  -999.0,-999.000,9,-999.000,-999.000,9,  -9.0000,-999.0000,   1.1885,   -9.00
  316N145_7,       I08N,     303,          1,          6,          6,2,19950315,       0035,    -0.2500,    79.9998,       4659,  3800.2,   1.4034,  34.7208,2,  34.7195,3,    170.3,2,   170.7,2,  138.64,2,   34.19,2,    0.00,2,    2.41,2,-999.000,9,-999.000,9,  2310.0,2,  2425.9,2,  -9.0000,9,-999.0000,9, -999.00,9, -999.00,9,  -999.0,9,  -999.0,-999.000,9,-999.000,-999.000,9,  -9.0000,-999.0000,   1.1084,   -9.00
  316N145_7,       I08N,     303,          1,          5,          5,2,19950315,       0035,    -0.2500,    79.9998,       4659,  4004.8,   1.3985,  34.7199,2,  34.7169,3,    171.9,2,   172.1,2,  138.60,2,   34.14,2,    0.00,2,    2.40,2,-999.000,9,-999.000,9,  2308.3,2,  2422.8,2,  -9.0000,9,-999.0000,9, -999.00,9, -999.00,9,  -999.0,9,  -999.0,-999.000,9,-999.000,-999.000,9,  -9.0000,-999.0000,   1.0818,   -9.00
  316N145_7,       I08N,     303,          1,          4,          4,2,19950315,       0035,    -0.2500,    79.9998,       4659,  4208.8,   1.3937,  34.7193,2,  34.7167,3,    175.0,2,   175.2,2,  136.65,2,   33.95,2,    0.00,2,    2.38,2,-999.000,9,-999.000,9,  2306.9,2,  2429.1,2,  -9.0000,9,-999.0000,9, -999.00,9, -999.00,9,  -999.0,9,  -999.0,-999.000,9,-999.000,-999.000,9,  -9.0000,-999.0000,   1.0547,   -9.00
  316N145_7,       I08N,     303,          1,          3,          3,2,19950315,       0035,    -0.2500,    79.9998,       4659,  4414.1,   1.4003,  34.7191,2,  34.7140,3,    176.6,2,   176.3,2,  137.04,2,   33.86,2,    0.00,2,    2.38,2,-999.000,9,-999.000,9,  2305.7,2,  2416.7,2,  -9.0000,9,-999.0000,9, -999.00,9, -999.00,9,  -999.0,9,  -999.0,-999.000,9,-999.000,-999.000,9,  -9.0000,-999.0000,   1.0381,   -9.00
  316N145_7,       I08N,     303,          1,          2,          2,2,19950315,       0035,    -0.2500,    79.9998,       4659,  4618.9,   1.4076,  34.7184,2,  34.7158,3,    178.1,2,   178.5,2,  135.51,2,   33.72,2,    0.00,2,    2.37,2,-999.000,9,-999.000,9,  2302.9,2,  2425.5,2,  -9.0000,9,-999.0000,9, -999.00,9, -999.00,9,  -999.0,9,  -999.0,-999.000,9,-999.000,-999.000,9,  -9.0000,-999.0000,   1.0216,   -9.00
  316N145_7,       I08N,     303,          1,          1,          1,2,19950315,       0035,    -0.2500,    79.9998,       4659,  4749.2,   1.4217,  34.7185,2,  34.7152,3,    178.0,2,   178.0,2,  135.69,2,   33.73,2,    0.00,2,    2.37,2,-999.000,9,-999.000,9,  2302.4,2,  2426.9,2,  -9.0000,9,-999.0000,9, -999.00,9, -999.00,9,  -999.0,9,  -999.0,-999.000,9,-999.000,-999.000,9,  -9.0000,-999.0000,   1.0199,   -9.00