BOTTLE,20211124CCHSIORKP
EXPOCODE,SECT_ID,STNNBR,CASTNO,SAMPNO,BTLNBR,BTLNBR_FLAG_W,DATE,TIME,LATITUDE,LONGITUDE,DEPTH,CTDPRS,CTDTMP,CTDSAL,CTDSAL_FLAG_W,SALNTY,SALNTY_FLAG_W,CTDOXY,CTDOXY_FLAG_W,OXYGEN,OXYGEN_FLAG_W,SILCAT,SILCAT_FLAG_W,NITRAT,NITRAT_FLAG_W,NITRIT,NITRIT_FLAG_W,PHSPHT,PHSPHT_FLAG_W,CFC-11,CFC-11_FLAG_W,CFC-12,CFC-12_FLAG_W,TCARBN,TCARBN_FLAG_W,ALKALI,ALKALI_FLAG_W,TRITUM,TRITUM_FLAG_W,HELIUM,HELIUM_FLAG_W,DELHE3,DELHE3_FLAG_W,DELC13,DELC13_FLAG_W,DELC14,DELC14_FLAG_W,C14ERR,NEON,NEON_FLAG_W,NEONER,CCL4,CCL4_FLAG_W,TRITER,HELIER,THETA,DELHER
,,,,,,,,,,,METERS,DBAR,ITS-90,PSS-78,,PSS-78,,UMOL/KG,,UMOL/KG,,UMOL/KG,,UMOL/KG,,UMOL/KG,,UMOL/KG,,PMOL/KG,,PMOL/KG,,UMOL/KG,,UMOL/KG,,TU,,NMOL/KG,,PERCNT,,/MILLE,,/MILLE,,/MILLE,NMOL/KG,,NMOL/KG,PMOL/KG,,TU,NMOL/KG,DEG C,PERCNT
  316N145_7,       I08N,     351,          1,         36,         36,2,19950326,       0346,   -22.5000,    79.9998,       4695,     2.9,  27.0793,  35.0283,2,  35.0285,2,    200.8,2,   202.2,2,    2.70,2,    0.14,2,    0.00,2,    0.10,2,-999.000,9,-999.000,9,  -999.0,9,  -999.0,9,  -9.0000,9,-999.0000,9, -999.00,9, -999.00,9,  -999.0,9,  -999.0,-999.000,9,-999.000,-999.000,9,  -9.0000,-999.0000,  27.0786,   -9.00
  316N145_7,       I08N,     351,          1,         35,         35,2,19950326,       0346,   -22.5000,    79.9998,       4695,    25.6,  27.0235,  35.0413,2,  35.0394,2,    203.8,2,   202.7,2,    2.49,2,    0.14,2,    0.00,2,    0.10,2,-999.000,9,-999.000,9,  -999.0,9,  -999.0,9,  -9.0000,9,-999.0000,9, -999.00,9, -999.00,9,  -999.0,9,  -999.0,-999.000,9,-999.000,-999.000,9,  -9.0000,-999.0000,  27.0176,   -9.00
  316N145_7,       I08N,     351,          1,         34,         34,2,19950326,       0346,   -22.5000,    79.9998,       4695,    45.9,  26.9922,  35.0481,2,  35.0470,2,    214.7,2,   202.9,2,    2.47,2,    0.09,2,    0.00,2,    0.10,2,-999.000,9,-999.000,9,  -999.0,9,  -999.0,9,  -9.0000,9,-999.0000,9, -999.00,9, -999.00,9,  -999.0,9,  -999.0,-999.000,9,-999.000,-999.000,9,  -9.0000,-999.0000,  26.9817,   -9.00
  316N145_7,       I08N,     351,          1,         33,         33,2,19950326,       0346,   -22.5000,    79.9998,       4695,    91.0,  22.3278,  35.4260,2,  35.4249,2,    235.3,2,   222.7,2,    3.06,2,    0.09,2,    0.00,2,    0.12,2,-999.000,9,-999.000,9,  -999.0,9,  -999.0,9,  -9.0000,9,-999.0000,9, -999.00,9, -999.00,9,  -999.0,9,  -999.0,-999.000,9,-999.000,-999.000,9,  -9.0000,-999.0000,  22.3096,   -9.00
  316N145_7,       I08N,     351,          1,         32,         32,2,19950326,       0346,   -22.5000,    79.9998,       4695,   125.8,  21.0315,  35.5501,2,  35.5494,2,    216.1,2,   203.4,2,    3.65,2,    0.96,2,    0.11,2,    0.21,2,-999.000,9,-999.000,9,  -999.0,9,  -999.0,9,  -9.0000,9,-999.0000,9, -999.00,9, -999.00,9,  -999.0,9,  -999.0,-999.000,9,-999.000,-999.000,9,  -9.0000,-999.0000,  21.0074,   -9.00
  316N145_7,       I08N,     351,          1,         31,         31,2,19950326,       0346,   -22.5000,    79.9998,       4695,   186.2,  19.4245,  35.7692,2,  35.7651,2,    201.6,2,   198.4,2,    3.23,2,    1.90,2,    0.02,2,    0.26,2,-999.000,9,-999.000,9,  -999.0,9,  -999.0,9,  -9.0000,9,-999.0000,9, -999.00,9, -999.00,9,  -999.0,9,  -999.0,-999.000,9,-999.000,-999.000,9,  -9.0000,-999.0000,  19.3906,   -9.00
  316N145_7,       I08N,     351,          1,         30,         30,2,19950326,       0346,   -22.5000,    79.9998,       4695,   245.9,  17.4391,  35.7632,2,  35.7748,2,    212.3,2,   209.6,2,    2.60,2,    2.00,2,    0.01,2,    0.31,2,-999.000,9,-999.000,9,  -999.0,9,  -999.0,9,  -9.0000,9,-999.0000,9, -999.00,9, -999.00,9,  -999.0,9,  -999.0,-999.000,9,-999.000,-999.000,9,  -9.0000,-999.0000,  17.3976,   -9.00
  316N145_7,       I08N,     351,          1,         29,         29,2,19950326,       0346,   -22.5000,    79.9998,       4695,   306.6,  15.4987,  35.5924,2,  35.5991,2,    219.2,2,   218.3,2,    2.18,2,    3.21,2,    0.01,2,    0.38,2,-999.000,9,-999.000,9,  -999.0,9,  -999.0,9,  -9.0000,9,-999.0000,9, -999.00,9, -999.00,9,  -999.0,9,  -999.0,-999.000,9,-999.000,-999.000,9,  -9.0000,-999.0000,  15.4508,   -9.00
  316N145_7,       I08N,     351,          1,         28,         28,2,19950326,       0346,   -22.5000,    79.9998,       4695,   376.9,  13.0824,  35.2619,2,  35.2595,2,    225.4,2,   225.7,2,    2.98,2,    7.73,2,    0.01,2,    0.64,2,-999.000,9,-999.000,9,  -999.0,9,  -999.0,9,  -9.0000,9,-999.0000,9, -999.00,9, -999.00,9,  -999.0,9,  -999.0,-999.000,9,-999.000,-999.000,9,  -9.0000,-999.0000,  13.0298,   -9.00
  316N145_7,       I08N,     351,          1,         27,         27,2,19950326,       0346,   -22.5000,    79.9998,       4695,   456.6,  11.6201,  35.0438,2,  35.0423,2,    230.1,2,   232.2,2,    3.57,2,   10.58,2,    0.00,2,    0.81,2,-999.000,9,-999.000,9,  -999.0,9,  -999.0,9,  -9.0000,9,-999.0000,9, -999.00,9, -999.00,9,  -999.0,9,  -999.0,-999.000,9,-999.000,-999.000,9,  -9.0000,-999.0000,  11.5611,   -9.00
  316N145_7,       I08N,     351,          1,         26,         26,2,19950326,       0346,   -22.5000,    79.9998,       4695,   557.7,  10.3683,  34.8463,2,  34.8526,2,    231.9,2,   233.5,2,    4.36,2,   13.52,2,    0.00,2,    0.99,2,-999.000,9,-999.000,9,  -999.0,9,  -999.0,9,  -9.0000,9,-999.0000,9, -999.00,9, -999.00,9,  -999.0,9,  -999.0,-999.000,9,-999.000,-999.000,9,  -9.0000,-999.0000,  10.3011,   -9.00
  316N145_7,       I08N,     351,          1,         25,         25,2,19950326,       0346,   -22.5000,    79.9998,       4695,   657.6,   9.0448,  34.6619,2,  34.6694,2,    223.5,2,   224.6,2,    6.77,2,   17.97,2,    0.00,2,    1.26,2,-999.000,9,-999.000,9,  -999.0,9,  -999.0,9,  -9.0000,9,-999.0000,9, -999.00,9, -999.00,9,  -999.0,9,  -999.0,-999.000,9,-999.000,-999.000,9,  -9.0000,-999.0000,   8.9716,   -9.00
  316N145_7,       I08N,     351,          1,         24,         24,2,19950326,       0346,   -22.5000,    79.9998,       4695,   759.0,   7.5786,  34.5511,2,  34.5531,2,    196.0,2,   191.7,2,   18.69,2,   24.53,2,    0.00,2,    1.69,2,-999.000,9,-999.000,9,  -999.0,9,  -999.0,9,  -9.0000,9,-999.0000,9, -999.00,9, -999.00,9,  -999.0,9,  -999.0,-999.000,9,-999.000,-999.000,9,  -9.0000,-999.0000,   7.5019,   -9.00
  316N145_7,       I08N,     351,          1,         23,         23,2,19950326,       0346,   -22.5000,    79.9998,       4695,   859.7,   5.8977,  34.4717,2,  34.4714,2,    169.3,2,   173.5,2,   35.25,2,   29.81,2,    0.00,2,    2.07,2,-999.000,9,-999.000,9,  -999.0,9,  -999.0,9,  -9.0000,9,-999.0000,9, -999.00,9, -999.00,9,  -999.0,9,  -999.0,-999.000,9,-999.000,-999.000,9,  -9.0000,-999.0000,   5.8212,   -9.00
  316N145_7,       I08N,     351,          1,         22,         22,2,19950326,       0346,   -22.5000,    79.9998,       4695,   959.6,   4.8856,  34.4893,2,  34.4879,2,    154.9,2,   152.4,2,   54.45,2,   33.13,2,    0.00,2,    2.34,2,-999.000,9,-999.000,9,  -999.0,9,  -999.0,9,  -9.0000,9,-999.0000,9, -999.00,9, -999.00,9,  -999.0,9,  -999.0,-999.000,9,-999.000,-999.000,9,  -9.0000,-999.0000,   4.8068,   -9.00
  316N145_7,       I08N,     351,          1,         21,         21,2,19950326,       0346,   -22.5000,    79.9998,       4695,  1060.7,   4.4815,  34.5393,2,  34.5421,2,    136.7,2,   134.5,2,   70.03,2,   34.84,2,    0.00,2,    2.49,2,-999.000,9,-999.000,9,  -999.0,9,  -999.0,9,  -9.0000,9,-999.0000,9, -999.00,9, -999.00,9,  -999.0,9,  -999.0,-999.000,9,-999.000,-999.000,9,  -9.0000,-999.0000,   4.3967,   -9.00
  316N145_7,       I08N,     351,          1,         20,         20,2,19950326,       0346,   -22.5000,    79.9998,       4695,  1161.2,   4.1954,  34.5775,2,  34.5794,2,    128.4,2,   128.8,2,   78.93,2,   35.41,2,    0.00,2,    2.54,2,-999.000,9,-999.000,9,  -999.0,9,  -999.0,9,  -9.0000,9,-999.0000,9, -999.00,9, -999.00,9,  -999.0,9,  -999.0,-999.000,9,-999.000,-999.000,9,  -9.0000,-999.0000,   4.1042,   -9.00
  316N145_7,       I08N,     351,          1,         19,         19,2,19950326,       0346,   -22.5000,    79.9998,       4695,  1312.2,   3.7959,  34.6246,2,  34.6250,2,    128.5,2,   129.0,2,   87.05,2,   35.55,2,    0.00,2,    2.56,2,-999.000,9,-999.000,9,  -999.0,9,  -999.0,9,  -9.0000,9,-999.0000,9, -999.00,9, -999.00,9,  -999.0,9,  -999.0,-999.000,9,-999.000,-999.000,9,  -9.0000,-999.0000,   3.6954,   -9.00
  316N145_7,       I08N,     351,          1,         18,         18,2,19950326,       0346,   -22.5000,    79.9998,       4695,  1464.6,   3.5070,  34.6736,2,  34.6732,2,    129.7,2,   130.1,2,   94.77,2,   35.31,2,    0.00,2,    2.55,2,-999.000,9,-999.000,9,  -999.0,9,  -999.0,9,  -9.0000,9,-999.0000,9, -999.00,9, -999.00,9,  -999.0,9,  -999.0,-999.000,9,-999.000,-999.000,9,  -9.0000,-999.0000,   3.3961,   -9.00
  316N145_7,       I08N,     351,          1,         17,         17,2,19950326,       0346,   -22.5000,    79.9998,       4695,  1616.5,   3.2031,  34.7006,2,  34.6989,2,    135.2,2,   135.1,2,   99.86,2,   35.11,2,    0.00,2,    2.52,2,-999.000,9,-999.000,9,  -999.0,9,  -999.0,9,  -9.0000,9,-999.0000,9, -999.00,9, -999.00,9,  -999.0,9,  -999.0,-999.000,9,-999.000,-999.000,9,  -9.0000,-999.0000,   3.0826,   -9.00
  316N145_7,       I08N,     351,          1,         16,         16,2,19950326,       0346,   -22.5000,    79.9998,       4695,  1767.6,   2.9112,  34.7130,2,  34.7131,2,    140.9,2,   141.9,2,  103.94,2,   34.78,2,    0.00,2,    2.49,2,-999.000,9,-999.000,9,  -999.0,9,  -999.0,9,  -9.0000,9,-999.0000,9, -999.00,9, -999.00,9,  -999.0,9,  -999.0,-999.000,9,-999.000,-999.000,9,  -9.0000,-999.0000,   2.7813,   -9.00
  316N145_7,       I08N,     351,          1,         15,         15,2,19950326,       0346,   -22.5000,    79.9998,       4695,  1920.0,   2.6435,  34.7179,2,  34.7172,2,    148.2,2,   149.5,2,  106.17,2,   34.49,2,    0.00,2,    2.46,2,-999.000,9,-999.000,9,  -999.0,9,  -999.0,9,  -9.0000,9,-999.0000,9, -999.00,9, -999.00,9,  -999.0,9,  -999.0,-999.000,9,-999.000,-999.000,9,  -9.0000,-999.0000,   2.5041,   -9.00
  316N145_7,       I08N,     351,          1,         14,         14,2,19950326,       0346,   -22.5000,    79.9998,       4695,  2122.9,   2.3266,  34.7208,2,  34.7205,2,    159.0,2,   159.9,2,  108.00,2,   33.78,2,    0.00,2,    2.41,2,-999.000,9,-999.000,9,  -999.0,9,  -999.0,9,  -9.0000,9,-999.0000,9, -999.00,9, -999.00,9,  -999.0,9,  -999.0,-999.000,9,-999.000,-999.000,9,  -9.0000,-999.0000,   2.1742,   -9.00
  316N145_7,       I08N,     351,          1,         13,         13,2,19950326,       0346,   -22.5000,    79.9998,       4695,  2325.2,   2.0859,  34.7226,2,  34.7229,2,    167.8,2,   169.1,2,  109.00,2,   33.30,2,    0.00,2,    2.36,2,-999.000,9,-999.000,9,  -999.0,9,  -999.0,9,  -9.0000,9,-999.0000,9, -999.00,9, -999.00,9,  -999.0,9,  -999.0,-999.000,9,-999.000,-999.000,9,  -9.0000,-999.0000,   1.9196,   -9.00
  316N145_7,       I08N,     351,          1,         12,         12,2,19950326,       0346,   -22.5000,    79.9998,       4695,  2528.4,   1.8866,  34.7253,2,  34.7252,2,    176.7,2,   177.4,2,  109.38,2,   32.73,2,    0.00,2,    2.31,2,-999.000,9,-999.000,9,  -999.0,9,  -999.0,9,  -9.0000,9,-999.0000,9, -999.00,9, -999.00,9,  -999.0,9,  -999.0,-999.000,9,-999.000,-999.000,9,  -9.0000,-999.0000,   1.7056,   -9.00
  316N145_7,       I08N,     351,          1,         11,         11,2,19950326,       0346,   -22.5000,    79.9998,       4695,  2730.5,   1.7579,  34.7290,2,  34.7294,2,    183.8,2,  -999.0,5,  108.32,2,   32.25,2,    0.00,2,    2.26,2,-999.000,9,-999.000,9,  -999.0,9,  -999.0,9,  -9.0000,9,-999.0000,9, -999.00,9, -999.00,9,  -999.0,9,  -999.0,-999.000,9,-999.000,-999.000,9,  -9.0000,-999.0000,   1.5607,   -9.00
  316N145_7,       I08N,     351,          1,         10,         10,2,19950326,       0346,   -22.5000,    79.9998,       4695,  2934.8,   1.6337,  34.7302,2,  34.7292,2,    187.4,2,   191.2,3,  110.76,2,   32.20,2,    0.00,2,    2.26,2,-999.000,9,-999.000,9,  -999.0,9,  -999.0,9,  -9.0000,9,-999.0000,9, -999.00,9, -999.00,9,  -999.0,9,  -999.0,-999.000,9,-999.000,-999.000,9,  -9.0000,-999.0000,   1.4200,   -9.00
  316N145_7,       I08N,     351,          1,          9,          9,2,19950326,       0346,   -22.5000,    79.9998,       4695,  3138.8,   1.5151,  34.7283,2,  34.7278,2,    190.1,2,   189.6,2,  114.04,2,   32.30,2,    0.00,2,    2.27,2,-999.000,9,-999.000,9,  -999.0,9,  -999.0,9,  -9.0000,9,-999.0000,9, -999.00,9, -999.00,9,  -999.0,9,  -999.0,-999.000,9,-999.000,-999.000,9,  -9.0000,-999.0000,   1.2843,   -9.00
  316N145_7,       I08N,     351,          1,          8,          8,2,19950326,       0346,   -22.5000,    79.9998,       4695,  3342.7,   1.4521,  34.7270,2,  34.7262,2,    189.3,2,   189.7,2,  116.91,2,   32.58,2,    0.00,2,    2.27,2,-999.000,9,-999.000,9,  -999.0,9,  -999.0,9,  -9.0000,9,-999.0000,9, -999.00,9, -999.00,9,  -999.0,9,  -999.0,-999.000,9,-999.000,-999.000,9,  -9.0000,-999.0000,   1.2028,   -9.00
  316N145_7,       I08N,     351,          1,          7,          7,2,19950326,       0346,   -22.5000,    79.9998,       4695,  3545.8,   1.4043,  34.7246,2,  34.7246,2,    190.5,2,   190.1,2,  119.37,2,   32.58,2,    0.00,2,    2.28,2,-999.000,9,-999.000,9,  -999.0,9,  -999.0,9,  -9.0000,9,-999.0000,9, -999.00,9, -999.00,9,  -999.0,9,  -999.0,-999.000,9,-999.000,-999.000,9,  -9.0000,-999.0000,   1.1357,   -9.00
  316N145_7,       I08N,     351,          1,          6,          6,2,19950326,       0346,   -22.5000,    79.9998,       4695,  3750.1,   1.3997,  34.7233,2,  34.7227,2,    189.3,2,   189.1,2,  121.42,2,   32.72,2,    0.00,2,    2.30,2,-999.000,9,-999.000,9,  -999.0,9,  -999.0,9,  -9.0000,9,-999.0000,9, -999.00,9, -999.00,9,  -999.0,9,  -999.0,-999.000,9,-999.000,-999.000,9,  -9.0000,-999.0000,   1.1101,   -9.00
  316N145_7,       I08N,     351,          1,          5,          5,2,19950326,       0346,   -22.5000,    79.9998,       4695,  3954.4,   1.3981,  34.7219,2,  34.7217,2,    188.2,2,   187.6,2,  123.68,2,   32.96,2,    0.00,2,    2.31,2,-999.000,9,-999.000,9,  -999.0,9,  -999.0,9,  -9.0000,9,-999.0000,9, -999.00,9, -999.00,9,  -999.0,9,  -999.0,-999.000,9,-999.000,-999.000,9,  -9.0000,-999.0000,   1.0868,   -9.00
  316N145_7,       I08N,     351,          1,          4,          4,2,19950326,       0346,   -22.5000,    79.9998,       4695,  4160.6,   1.4067,  34.7207,2,  34.7201,2,    187.1,2,   186.4,2,  125.32,2,   33.05,2,    0.00,2,    2.31,2,-999.000,9,-999.000,9,  -999.0,9,  -999.0,9,  -9.0000,9,-999.0000,9, -999.00,9, -999.00,9,  -999.0,9,  -999.0,-999.000,9,-999.000,-999.000,9,  -9.0000,-999.0000,   1.0727,   -9.00
  316N145_7,       I08N,     351,          1,          3,          3,2,19950326,       0346,   -22.5000,    79.9998,       4695,  4363.3,   1.4119,  34.7197,2,  34.7188,2,    185.8,2,   185.1,2,  127.38,2,   33.29,2,    0.00,2,    2.32,2,-999.000,9,-999.000,9,  -999.0,9,  -999.0,9,  -9.0000,9,-999.0000,9, -999.00,9, -999.00,9,  -999.0,9,  -999.0,-999.000,9,-999.000,-999.000,9,  -9.0000,-999.0000,   1.0551,   -9.00
  316N145_7,       I08N,     351,          1,          2,          2,2,19950326,       0346,   -22.5000,    79.9998,       4695,  4569.1,   1.4307,  34.7191,2,  34.7186,2,    185.2,2,   185.1,2,  127.98,2,   33.29,2,    0.00,2,    2.33,2,-999.000,9,-999.000,9,  -999.0,9,  -999.0,9,  -9.0000,9,-999.0000,9, -999.00,9, -999.00,9,  -999.0,9,  -999.0,-999.000,9,-999.000,-999.000,9,  -9.0000,-999.0000,   1.0497,   -9.00
  316N145_7,       I08N,     351,          1,          1,          1,2,19950326,       0346,   -22.5000,    79.9998,       4695,  4788.5,   1.4562,  34.7188,2,  34.7190,2,    184.6,2,   185.1,2,  128.16,2,   33.33,2,    0.00,2,    2.33,2,-999.000,9,-999.000,9,  -999.0,9,  -999.0,9,  -9.0000,9,-999.0000,9, -999.00,9, -999.00,9,  -999.0,9,  -999.0,-999.000,9,-999.000,-999.000,9,  -9.0000,-999.0000,   1.0486,   -9.00