BOTTLE,20211124CCHSIORKP
EXPOCODE,SECT_ID,STNNBR,CASTNO,SAMPNO,BTLNBR,BTLNBR_FLAG_W,DATE,TIME,LATITUDE,LONGITUDE,DEPTH,CTDPRS,CTDTMP,CTDSAL,CTDSAL_FLAG_W,SALNTY,SALNTY_FLAG_W,CTDOXY,CTDOXY_FLAG_W,OXYGEN,OXYGEN_FLAG_W,SILCAT,SILCAT_FLAG_W,NITRAT,NITRAT_FLAG_W,NITRIT,NITRIT_FLAG_W,PHSPHT,PHSPHT_FLAG_W,CFC-11,CFC-11_FLAG_W,CFC-12,CFC-12_FLAG_W,TCARBN,TCARBN_FLAG_W,ALKALI,ALKALI_FLAG_W,TRITUM,TRITUM_FLAG_W,HELIUM,HELIUM_FLAG_W,DELHE3,DELHE3_FLAG_W,DELC13,DELC13_FLAG_W,DELC14,DELC14_FLAG_W,C14ERR,NEON,NEON_FLAG_W,NEONER,CCL4,CCL4_FLAG_W,TRITER,HELIER,THETA,DELHER
,,,,,,,,,,,METERS,DBAR,ITS-90,PSS-78,,PSS-78,,UMOL/KG,,UMOL/KG,,UMOL/KG,,UMOL/KG,,UMOL/KG,,UMOL/KG,,PMOL/KG,,PMOL/KG,,UMOL/KG,,UMOL/KG,,TU,,NMOL/KG,,PERCNT,,/MILLE,,/MILLE,,/MILLE,NMOL/KG,,NMOL/KG,PMOL/KG,,TU,NMOL/KG,DEG C,PERCNT
  316N145_7,      TRANS,     356,          1,         36,         36,2,19950327,       0748,   -24.5847,    81.3167,       4233,     2.8,  26.0895,  35.6093,2,  35.6090,2,    203.1,2,   204.2,2,    3.04,2,    0.24,2,    0.00,2,    0.11,2,   1.786,2,   1.005,2,  1989.5,2,  2328.2,2,  -9.0000,9,-999.0000,9, -999.00,9, -999.00,9,  -999.0,9,  -999.0,-999.000,9,-999.000,-999.000,9,  -9.0000,-999.0000,  26.0889,   -9.00
  316N145_7,      TRANS,     356,          1,         35,         35,2,19950327,       0748,   -24.5847,    81.3167,       4233,    35.3,  25.9540,  35.6057,2,  35.6038,2,    195.9,2,   205.1,2,    3.02,2,    0.24,2,    0.00,2,    0.10,2,-999.000,9,-999.000,9,  1989.5,2,  2329.1,2,  -9.0000,9,-999.0000,9, -999.00,9, -999.00,9,  -999.0,9,  -999.0,-999.000,9,-999.000,-999.000,9,  -9.0000,-999.0000,  25.9462,   -9.00
  316N145_7,      TRANS,     356,          1,         34,         34,2,19950327,       0748,   -24.5847,    81.3167,       4233,    65.7,  22.0106,  35.7563,2,  35.7493,2,    239.9,2,   235.9,2,    2.79,2,    0.24,2,    0.00,2,    0.11,2,   2.304,2,   1.250,2,  2016.1,2,  2337.6,2,  -9.0000,9,-999.0000,9, -999.00,9, -999.00,9,  -999.0,9,  -999.0,-999.000,9,-999.000,-999.000,9,  -9.0000,-999.0000,  21.9976,   -9.00
  316N145_7,      TRANS,     356,          1,         33,         33,2,19950327,       0748,   -24.5847,    81.3167,       4233,    95.2,  20.0073,  35.8214,2,  35.8193,2,    236.2,2,   235.5,2,    2.77,2,    0.19,2,    0.00,2,    0.12,2,-999.000,9,-999.000,9,  2030.7,2,  2349.7,2,  -9.0000,9,-999.0000,9, -999.00,9, -999.00,9,  -999.0,9,  -999.0,-999.000,9,-999.000,-999.000,9,  -9.0000,-999.0000,  19.9896,   -9.00
  316N145_7,      TRANS,     356,          1,         32,         32,2,19950327,       0748,   -24.5847,    81.3167,       4233,   125.5,  18.6806,  35.8226,2,  35.8274,2,    236.2,2,   234.1,2,    2.54,2,    0.19,2,    0.00,2,    0.15,2,   2.478,2,   1.328,2,  2052.4,2,  2345.1,2,  -9.0000,9,-999.0000,9, -999.00,9, -999.00,9,  -999.0,9,  -999.0,-999.000,9,-999.000,-999.000,9,  -9.0000,-999.0000,  18.6584,   -9.00
  316N145_7,      TRANS,     356,          1,         31,         31,2,19950327,       0748,   -24.5847,    81.3167,       4233,   166.2,  17.0327,  35.7360,2,  35.7298,2,    217.7,2,   225.7,2,    2.53,2,    0.91,2,    0.11,2,    0.26,2,-999.000,9,-999.000,9,  2073.1,2,  2339.2,2,  -9.0000,9,-999.0000,9, -999.00,9, -999.00,9,  -999.0,9,  -999.0,-999.000,9,-999.000,-999.000,9,  -9.0000,-999.0000,  17.0051,   -9.00
  316N145_7,      TRANS,     356,          1,         30,         30,2,19950327,       0748,   -24.5847,    81.3167,       4233,   205.6,  15.7154,  35.6077,2,  35.6064,2,    226.0,2,   228.8,2,    2.30,2,    1.75,2,    0.09,2,    0.32,2,   2.731,2,   1.444,2,  2078.8,2,  2339.2,2,  -9.0000,9,-999.0000,9, -999.00,9, -999.00,9,  -999.0,9,  -999.0,-999.000,9,-999.000,-999.000,9,  -9.0000,-999.0000,  15.6831,   -9.00
  316N145_7,      TRANS,     356,          1,         29,         29,2,19950327,       0748,   -24.5847,    81.3167,       4233,   281.1,  13.5478,  35.3318,2,  35.3244,2,    222.7,2,   224.9,2,    3.13,2,    6.86,2,    0.00,2,    0.59,2,   2.860,2,   1.464,2,  2096.6,2,  2352.7,2,  -9.0000,9,-999.0000,9, -999.00,9, -999.00,9,  -999.0,9,  -999.0,-999.000,9,-999.000,-999.000,9,  -9.0000,-999.0000,  13.5078,   -9.00
  316N145_7,      TRANS,     356,          1,         28,         28,2,19950327,       0748,   -24.5847,    81.3167,       4233,   356.5,  12.2814,  35.1376,2,  35.1317,2,    227.8,2,   231.9,2,    3.96,2,    9.54,2,    0.00,2,    0.75,2,   2.927,2,   1.498,2,  2100.5,2,  2313.1,2,  -9.0000,9,-999.0000,9, -999.00,9, -999.00,9,  -999.0,9,  -999.0,-999.000,9,-999.000,-999.000,9,  -9.0000,-999.0000,  12.2338,   -9.00
  316N145_7,      TRANS,     356,          1,         27,         27,2,19950327,       0748,   -24.5847,    81.3167,       4233,   431.5,  11.6248,  35.0357,2,  35.0304,2,    232.5,2,   234.6,2,    4.15,2,   10.95,2,    0.00,2,    0.82,2,   2.903,2,   1.461,2,  2103.6,2,  2304.4,2,  -9.0000,9,-999.0000,9, -999.00,9, -999.00,9,  -999.0,9,  -999.0,-999.000,9,-999.000,-999.000,9,  -9.0000,-999.0000,  11.5691,   -9.00
  316N145_7,      TRANS,     356,          1,         26,         26,2,19950327,       0748,   -24.5847,    81.3167,       4233,   506.8,  10.9606,  34.9332,2,  34.9286,2,    235.2,2,   236.1,2,    4.56,2,   12.36,2,    0.00,2,    0.91,2,   2.842,2,   1.420,2,  2107.3,2,  2303.6,2,  -9.0000,9,-999.0000,9, -999.00,9, -999.00,9,  -999.0,9,  -999.0,-999.000,9,-999.000,-999.000,9,  -9.0000,-999.0000,  10.8974,   -9.00
  316N145_7,      TRANS,     356,          1,         25,         25,2,19950327,       0748,   -24.5847,    81.3167,       4233,   582.0,  10.1918,  34.8174,2,  34.8151,2,    238.2,2,   236.2,2,    4.96,2,   14.26,2,    0.00,2,    1.03,2,   2.718,2,   1.353,2,  2110.9,2,  2295.4,2,  -9.0000,9,-999.0000,9, -999.00,9, -999.00,9,  -999.0,9,  -999.0,-999.000,9,-999.000,-999.000,9,  -9.0000,-999.0000,  10.1223,   -9.00
  316N145_7,      TRANS,     356,          1,         24,         24,2,19950327,       0748,   -24.5847,    81.3167,       4233,   657.3,   9.4924,  34.7161,2,  34.7145,2,    234.1,2,   231.4,2,    6.21,2,   16.60,2,    0.00,2,    1.17,2,   2.403,2,   1.186,2,  2118.3,2,  2276.6,3,  -9.0000,9,-999.0000,9, -999.00,9, -999.00,9,  -999.0,9,  -999.0,-999.000,9,-999.000,   1.820,6,  -9.0000,-999.0000,   9.4170,   -9.00
  316N145_7,      TRANS,     356,          1,         23,         23,2,19950327,       0748,   -24.5847,    81.3167,       4233,   758.4,   8.0344,  34.5639,2,  34.5640,2,    213.2,2,   210.1,2,   12.32,2,   22.22,2,    0.00,2,    1.52,2,   1.298,2,   0.637,2,  2144.5,2,  2299.0,2,  -9.0000,9,-999.0000,9, -999.00,9, -999.00,9,  -999.0,9,  -999.0,-999.000,9,-999.000,-999.000,9,  -9.0000,-999.0000,   7.9552,   -9.00
  316N145_7,      TRANS,     356,          1,         22,         22,2,19950327,       0748,   -24.5847,    81.3167,       4233,   859.4,   6.3331,  34.4581,2,  34.4637,2,    197.0,2,   195.0,2,   23.50,2,   27.12,2,    0.00,2,    1.85,2,   0.619,2,   0.319,2,  2171.8,2,  2299.5,2,  -9.0000,9,-999.0000,9, -999.00,9, -999.00,9,  -999.0,9,  -999.0,-999.000,9,-999.000,-999.000,9,  -9.0000,-999.0000,   6.2538,   -9.00
  316N145_7,      TRANS,     356,          1,         21,         21,2,19950327,       0748,   -24.5847,    81.3167,       4233,   960.6,   5.0562,  34.4320,2,  34.4305,2,    182.8,2,   179.8,2,   40.38,2,   31.21,2,    0.00,2,    2.14,2,   0.267,2,   0.142,2,  2205.2,2,  2308.6,2,  -9.0000,9,-999.0000,9, -999.00,9, -999.00,9,  -999.0,9,  -999.0,-999.000,9,-999.000,-999.000,9,  -9.0000,-999.0000,   4.9762,   -9.00
  316N145_7,      TRANS,     356,          1,         20,         20,2,19950327,       0748,   -24.5847,    81.3167,       4233,  1061.1,   4.3347,  34.4745,2,  34.4739,2,    161.1,2,   158.2,2,   58.33,2,   33.72,2,    0.00,2,    2.34,2,   0.082,2,   0.040,2,  2235.9,2,  2327.2,2,  -9.0000,9,-999.0000,9, -999.00,9, -999.00,9,  -999.0,9,  -999.0,-999.000,9,-999.000,-999.000,9,  -9.0000,-999.0000,   4.2513,   -9.00
  316N145_7,      TRANS,     356,          1,         19,         19,2,19950327,       0748,   -24.5847,    81.3167,       4233,  1161.5,   3.8697,  34.5128,2,  34.5141,2,    153.4,2,   150.7,2,   68.88,2,   34.71,2,    0.00,2,    2.42,2,   0.044,2,   0.023,2,  2249.7,2,  2341.9,2,  -9.0000,9,-999.0000,9, -999.00,9, -999.00,9,  -999.0,9,  -999.0,-999.000,9,-999.000,-999.000,9,  -9.0000,-999.0000,   3.7816,   -9.00
  316N145_7,      TRANS,     356,          1,         18,         18,2,19950327,       0748,   -24.5847,    81.3167,       4233,  1262.5,   3.6101,  34.5652,2,  34.5656,2,    145.7,2,   142.8,2,   78.81,2,   35.25,2,    0.00,2,    2.47,2,   0.021,6,   0.010,6,  2266.0,2,  2349.1,2,  -9.0000,9,-999.0000,9, -999.00,9, -999.00,9,  -999.0,9,  -999.0,-999.000,9,-999.000,-999.000,9,  -9.0000,-999.0000,   3.5157,   -9.00
  316N145_7,      TRANS,     356,          1,         17,         17,2,19950327,       0748,   -24.5847,    81.3167,       4233,  1364.0,   3.3750,  34.6026,2,  34.6023,2,    142.6,2,   141.8,2,   84.72,2,   35.30,2,    0.00,2,    2.48,2,-999.000,9,-999.000,9,  2271.7,2,  2354.6,2,  -9.0000,9,-999.0000,9, -999.00,9, -999.00,9,  -999.0,9,  -999.0,-999.000,9,-999.000,-999.000,9,  -9.0000,-999.0000,   3.2744,   -9.00
  316N145_7,      TRANS,     356,          1,         16,         16,2,19950327,       0748,   -24.5847,    81.3167,       4233,  1515.7,   3.0662,  34.6471,2,  34.6464,2,    145.1,2,   145.7,2,   90.85,2,   34.95,2,    0.00,2,    2.45,2,-999.000,9,-999.000,9,  2276.4,2,  2364.7,2,  -9.0000,9,-999.0000,9, -999.00,9, -999.00,9,  -999.0,9,  -999.0,-999.000,9,-999.000,-999.000,9,  -9.0000,-999.0000,   2.9562,   -9.00
  316N145_7,      TRANS,     356,          1,         15,         15,2,19950327,       0748,   -24.5847,    81.3167,       4233,  1667.1,   2.8356,  34.6863,2,  34.6855,2,    146.9,2,   148.4,2,   97.85,2,   34.65,2,    0.00,2,    2.43,2,  -0.002,2,  -0.002,2,  2281.9,2,  2369.9,2,  -9.0000,9,-999.0000,9, -999.00,9, -999.00,9,  -999.0,9,  -999.0,-999.000,9,-999.000,-999.000,9,  -9.0000,-999.0000,   2.7155,   -9.00
  316N145_7,      TRANS,     356,          1,         14,         14,2,19950327,       0748,   -24.5847,    81.3167,       4233,  1819.3,   2.6148,  34.7064,2,  34.7071,2,    151.7,2,   152.1,2,  103.16,2,   34.45,2,    0.00,2,    2.41,2,-999.000,9,-999.000,9,  2285.9,2,  2380.0,2,  -9.0000,9,-999.0000,9, -999.00,9, -999.00,9,  -999.0,9,  -999.0,-999.000,9,-999.000,-999.000,9,  -9.0000,-999.0000,   2.4845,   -9.00
  316N145_7,      TRANS,     356,          1,         13,         13,2,19950327,       0748,   -24.5847,    81.3167,       4233,  2020.8,   2.3527,  34.7196,2,  34.7206,2,    158.3,2,   159.2,2,  107.41,2,   34.01,2,    0.00,2,    2.38,2,   0.002,2,   0.001,2,  2285.1,2,  2382.7,2,  -9.0000,9,-999.0000,9, -999.00,9, -999.00,9,  -999.0,9,  -999.0,-999.000,9,-999.000,-999.000,9,  -9.0000,-999.0000,   2.2088,   -9.00
  316N145_7,      TRANS,     356,          1,         12,         12,2,19950327,       0748,   -24.5847,    81.3167,       4233,  2223.2,   2.1397,  34.7231,2,  34.7234,2,    166.2,2,   166.5,2,  109.09,2,   33.61,2,    0.00,2,    2.34,2,-999.000,9,-999.000,9,  2283.9,2,  2383.4,2,  -9.0000,9,-999.0000,9, -999.00,9, -999.00,9,  -999.0,9,  -999.0,-999.000,9,-999.000,-999.000,9,  -9.0000,-999.0000,   1.9815,   -9.00
  316N145_7,      TRANS,     356,          1,         11,         11,2,19950327,       0748,   -24.5847,    81.3167,       4233,  2426.5,   1.9564,  34.7251,2,  34.7260,2,    173.9,2,   174.9,2,  109.06,2,   33.11,2,    0.00,2,    2.30,2,-999.000,9,-999.000,9,  2276.3,2,  2381.1,2,  -9.0000,9,-999.0000,9, -999.00,9, -999.00,9,  -999.0,9,  -999.0,-999.000,9,-999.000,-999.000,9,  -9.0000,-999.0000,   1.7832,   -9.00
  316N145_7,      TRANS,     356,          1,         10,         10,2,19950327,       0748,   -24.5847,    81.3167,       4233,  2631.0,   1.8271,  34.7283,2,  34.7279,2,    181.2,2,   182.5,2,  108.17,2,   32.57,2,    0.00,2,    2.24,2,  -0.001,2,   0.001,2,  2271.7,2,  2379.3,2,  -9.0000,9,-999.0000,9, -999.00,9, -999.00,9,  -999.0,9,  -999.0,-999.000,9,-999.000,-999.000,9,  -9.0000,-999.0000,   1.6378,   -9.00
  316N145_7,      TRANS,     356,          1,          9,          9,2,19950327,       0748,   -24.5847,    81.3167,       4233,  2835.3,   1.7000,  34.7332,2,  34.7327,2,    190.1,2,   189.6,2,  106.00,2,   31.98,2,    0.00,2,    2.20,2,-999.000,9,-999.000,9,  2264.9,2,  2375.3,2,  -9.0000,9,-999.0000,9, -999.00,9, -999.00,9,  -999.0,9,  -999.0,-999.000,9,-999.000,-999.000,9,  -9.0000,-999.0000,   1.4942,   -9.00
  316N145_7,      TRANS,     356,          1,          8,          8,2,19950327,       0748,   -24.5847,    81.3167,       4233,  3038.4,   1.5706,  34.7328,2,  34.7321,2,    194.3,2,   192.6,2,  108.53,2,   31.88,2,    0.00,2,    2.19,2,   0.000,2,  -0.001,2,  2266.1,2,  2374.7,2,  -9.0000,9,-999.0000,9, -999.00,9, -999.00,9,  -999.0,9,  -999.0,-999.000,9,-999.000,-999.000,9,  -9.0000,-999.0000,   1.3482,   -9.00
  316N145_7,      TRANS,     356,          1,          7,          7,2,19950327,       0748,   -24.5847,    81.3167,       4233,  3240.7,   1.4627,  34.7297,2,  34.7299,2,    194.1,2,   194.6,2,  111.93,2,   32.07,2,    0.00,2,    2.20,2,-999.000,9,-999.000,9,  2266.8,2,  2381.6,2,  -9.0000,9,-999.0000,9, -999.00,9, -999.00,9,  -999.0,9,  -999.0,-999.000,9,-999.000,-999.000,9,  -9.0000,-999.0000,   1.2232,   -9.00
  316N145_7,      TRANS,     356,          1,          6,          6,2,19950327,       0748,   -24.5847,    81.3167,       4233,  3445.5,   1.4056,  34.7268,2,  34.7262,2,    192.4,2,   193.7,2,  115.56,2,   32.37,2,    0.00,2,    2.22,2,  -0.001,2,  -0.001,2,  2272.0,2,  2383.6,2,  -9.0000,9,-999.0000,9, -999.00,9, -999.00,9,  -999.0,9,  -999.0,-999.000,9,-999.000,-999.000,9,  -9.0000,-999.0000,   1.1471,   -9.00
  316N145_7,      TRANS,     356,          1,          5,          5,2,19950327,       0748,   -24.5847,    81.3167,       4233,  3649.7,   1.3858,  34.7241,2,  34.7236,2,    192.4,2,   192.1,2,  118.97,2,   32.66,2,    0.00,2,    2.25,2,-999.000,9,-999.000,9,  2276.8,2,  2389.8,2,  -9.0000,9,-999.0000,9, -999.00,9, -999.00,9,  -999.0,9,  -999.0,-999.000,9,-999.000,-999.000,9,  -9.0000,-999.0000,   1.1069,   -9.00
  316N145_7,      TRANS,     356,          1,          4,          4,2,19950327,       0748,   -24.5847,    81.3167,       4233,  3854.1,   1.3898,  34.7233,2,  34.7225,2,    190.5,2,   190.7,2,  121.10,2,   32.86,2,    0.00,2,    2.26,2,-999.000,9,-999.000,9,  2280.6,2,  2395.8,2,  -9.0000,9,-999.0000,9, -999.00,9, -999.00,9,  -999.0,9,  -999.0,-999.000,9,-999.000,-999.000,9,  -9.0000,-999.0000,   1.0894,   -9.00
  316N145_7,      TRANS,     356,          1,          3,          3,2,19950327,       0748,   -24.5847,    81.3167,       4233,  4058.8,   1.4027,  34.7223,2,  34.7215,2,    189.0,2,   189.6,2,  122.36,2,   32.96,2,    0.00,2,    2.26,2,   0.000,2,   0.000,2,  2282.4,2,  2394.3,2,  -9.0000,9,-999.0000,9, -999.00,9, -999.00,9,  -999.0,9,  -999.0,-999.000,9,-999.000,-999.000,9,  -9.0000,-999.0000,   1.0800,   -9.00
  316N145_7,      TRANS,     356,          1,          2,          2,2,19950327,       0748,   -24.5847,    81.3167,       4233,  4211.9,   1.4127,  34.7219,2,  34.7213,2,    188.5,2,   188.5,2,  123.63,2,   33.06,2,    0.00,2,    2.27,2,-999.000,9,-999.000,9,  2285.5,2,  2395.8,2,  -9.0000,9,-999.0000,9, -999.00,9, -999.00,9,  -999.0,9,  -999.0,-999.000,9,-999.000,-999.000,9,  -9.0000,-999.0000,   1.0728,   -9.00
  316N145_7,      TRANS,     356,          1,          1,          1,2,19950327,       0748,   -24.5847,    81.3167,       4233,  4304.7,   1.4168,  34.7213,2,  34.7219,2,    188.2,2,   187.6,2,  124.46,2,   33.15,2,    0.00,2,    2.28,2,  -0.004,2,  -0.002,2,  2286.9,2,  2400.2,2,  -9.0000,9,-999.0000,9, -999.00,9, -999.00,9,  -999.0,9,  -999.0,-999.000,9,-999.000,-999.000,9,  -9.0000,-999.0000,   1.0664,   -9.00