BOTTLE,20211124CCHSIORKP
EXPOCODE,SECT_ID,STNNBR,CASTNO,SAMPNO,BTLNBR,BTLNBR_FLAG_W,DATE,TIME,LATITUDE,LONGITUDE,DEPTH,CTDPRS,CTDTMP,CTDSAL,CTDSAL_FLAG_W,SALNTY,SALNTY_FLAG_W,CTDOXY,CTDOXY_FLAG_W,OXYGEN,OXYGEN_FLAG_W,SILCAT,SILCAT_FLAG_W,NITRAT,NITRAT_FLAG_W,NITRIT,NITRIT_FLAG_W,PHSPHT,PHSPHT_FLAG_W,CFC-11,CFC-11_FLAG_W,CFC-12,CFC-12_FLAG_W,TCARBN,TCARBN_FLAG_W,ALKALI,ALKALI_FLAG_W,TRITUM,TRITUM_FLAG_W,HELIUM,HELIUM_FLAG_W,DELHE3,DELHE3_FLAG_W,DELC13,DELC13_FLAG_W,DELC14,DELC14_FLAG_W,C14ERR,NEON,NEON_FLAG_W,NEONER,CCL4,CCL4_FLAG_W,TRITER,HELIER,THETA,DELHER
,,,,,,,,,,,METERS,DBAR,ITS-90,PSS-78,,PSS-78,,UMOL/KG,,UMOL/KG,,UMOL/KG,,UMOL/KG,,UMOL/KG,,UMOL/KG,,PMOL/KG,,PMOL/KG,,UMOL/KG,,UMOL/KG,,TU,,NMOL/KG,,PERCNT,,/MILLE,,/MILLE,,/MILLE,NMOL/KG,,NMOL/KG,PMOL/KG,,TU,NMOL/KG,DEG C,PERCNT
  316N145_7,       I08N,     319,          1,         36,         36,2,19950318,       1148,    -6.5000,    80.0002,       5115,     3.5,  29.7751,  34.2247,2,  34.2207,3,    196.3,2,   197.4,2,    2.88,2,    0.09,2,    0.00,2,    0.09,2,   1.972,3,   0.947,2,  1903.8,2,  2242.8,2,  -9.0000,9,-999.0000,9, -999.00,9, -999.00,9,  -999.0,9,  -999.0,-999.000,9,-999.000,   1.865,2,  -9.0000,-999.0000,  29.7742,   -9.00
  316N145_7,       I08N,     319,          1,         35,         35,2,19950318,       1148,    -6.5000,    80.0002,       5115,    32.6,  28.3785,  34.2208,2,  34.2291,3,    199.1,2,   201.3,2,    2.87,2,    0.09,2,    0.00,2,    0.10,2,   1.944,3,   0.995,2,  -999.0,9,  -999.0,9,  -9.0000,9,-999.0000,9, -999.00,9, -999.00,9,  -999.0,9,  -999.0,-999.000,9,-999.000,   1.669,2,  -9.0000,-999.0000,  28.3707,   -9.00
  316N145_7,       I08N,     319,          1,         34,         34,2,19950318,       1148,    -6.5000,    80.0002,       5115,    78.5,  20.0116,  35.2279,2,  35.2083,3,    104.5,2,   105.6,2,   12.31,2,   14.88,2,    0.19,2,    1.11,2,   1.775,3,   0.806,2,  -999.0,9,  -999.0,9,  -9.0000,9,-999.0000,9, -999.00,9, -999.00,9,  -999.0,9,  -999.0,-999.000,9,-999.000,   0.380,2,  -9.0000,-999.0000,  19.9971,   -9.00
  316N145_7,       I08N,     319,          1,         33,         33,2,19950318,       1148,    -6.5000,    80.0002,       5115,   128.1,  14.3168,  34.8391,2,  34.8375,3,     61.3,2,    67.8,2,   29.13,2,   25.82,2,    0.01,2,    1.80,2,-999.000,9,-999.000,9,  -999.0,9,  -999.0,9,  -9.0000,9,-999.0000,9, -999.00,9, -999.00,9,  -999.0,9,  -999.0,-999.000,9,-999.000,-999.000,9,  -9.0000,-999.0000,  14.2981,   -9.00
  316N145_7,       I08N,     319,          1,         32,         32,2,19950318,       1148,    -6.5000,    80.0002,       5115,   152.5,  12.8287,  34.8494,2,  34.8488,3,     60.7,2,    61.4,2,   31.64,2,   27.59,2,    0.01,2,    1.92,2,-999.000,9,-999.000,9,  -999.0,9,  -999.0,9,  -9.0000,9,-999.0000,9, -999.00,9, -999.00,9,  -999.0,9,  -999.0,-999.000,9,-999.000,-999.000,9,  -9.0000,-999.0000,  12.8080,   -9.00
  316N145_7,       I08N,     319,          1,         31,         31,2,19950318,       1148,    -6.5000,    80.0002,       5115,   188.1,  12.0470,  34.9190,2,  34.9177,3,     65.3,2,    70.6,2,   29.73,2,   27.44,2,    0.01,2,    1.90,2,-999.000,9,-999.000,9,  -999.0,9,  -999.0,9,  -9.0000,9,-999.0000,9, -999.00,9, -999.00,9,  -999.0,9,  -999.0,-999.000,9,-999.000,-999.000,9,  -9.0000,-999.0000,  12.0225,   -9.00
  316N145_7,       I08N,     319,          1,         30,         30,2,19950318,       1148,    -6.5000,    80.0002,       5115,   228.3,  11.2775,  34.9268,2,  34.9217,3,     66.9,2,    66.3,2,   29.72,2,   29.02,2,    0.00,2,    1.98,2,-999.000,9,-999.000,9,  -999.0,9,  -999.0,9,  -9.0000,9,-999.0000,9, -999.00,9, -999.00,9,  -999.0,9,  -999.0,-999.000,9,-999.000,-999.000,9,  -9.0000,-999.0000,  11.2489,   -9.00
  316N145_7,       I08N,     319,          1,         29,         29,2,19950318,       1148,    -6.5000,    80.0002,       5115,   279.1,  10.6419,  34.9203,2,  34.9170,3,     80.8,2,    86.0,2,   27.60,2,   28.30,2,    0.00,2,    1.92,2,-999.000,9,-999.000,9,  -999.0,9,  -999.0,9,  -9.0000,9,-999.0000,9, -999.00,9, -999.00,9,  -999.0,9,  -999.0,-999.000,9,-999.000,-999.000,9,  -9.0000,-999.0000,  10.6081,   -9.00
  316N145_7,       I08N,     319,          1,         28,         28,2,19950318,       1148,    -6.5000,    80.0002,       5115,   369.3,   9.8510,  34.8780,2,  34.8750,3,     90.1,2,    92.8,2,   31.58,2,   29.16,2,    0.00,2,    2.00,2,-999.000,9,-999.000,9,  -999.0,9,  -999.0,9,  -9.0000,9,-999.0000,9, -999.00,9, -999.00,9,  -999.0,9,  -999.0,-999.000,9,-999.000,-999.000,9,  -9.0000,-999.0000,   9.8083,   -9.00
  316N145_7,       I08N,     319,          1,         27,         27,2,19950318,       1148,    -6.5000,    80.0002,       5115,   459.5,   9.0672,  34.8355,2,  34.8278,3,     87.2,2,    86.8,2,   39.77,2,   31.17,2,    0.00,2,    2.18,2,-999.000,9,-999.000,9,  -999.0,9,  -999.0,9,  -9.0000,9,-999.0000,9, -999.00,9, -999.00,9,  -999.0,9,  -999.0,-999.000,9,-999.000,-999.000,9,  -9.0000,-999.0000,   9.0164,   -9.00
  316N145_7,       I08N,     319,          1,         26,         26,2,19950318,       1148,    -6.5000,    80.0002,       5115,   560.0,   8.3949,  34.8254,2,  34.8195,3,     79.2,2,    79.7,2,   50.05,2,   32.85,2,    0.00,2,    2.35,2,-999.000,9,-999.000,9,  -999.0,9,  -999.0,9,  -9.0000,9,-999.0000,9, -999.00,9, -999.00,9,  -999.0,9,  -999.0,-999.000,9,-999.000,-999.000,9,  -9.0000,-999.0000,   8.3354,   -9.00
  316N145_7,       I08N,     319,          1,         25,         25,2,19950318,       1148,    -6.5000,    80.0002,       5115,   660.9,   7.7172,  34.8482,2,  34.8483,3,     70.3,2,    69.2,2,   62.65,2,   34.63,2,    0.00,2,    2.52,2,-999.000,9,-999.000,9,  -999.0,9,  -999.0,9,  -9.0000,9,-999.0000,9, -999.00,9, -999.00,9,  -999.0,9,  -999.0,-999.000,9,-999.000,-999.000,9,  -9.0000,-999.0000,   7.6498,   -9.00
  316N145_7,       I08N,     319,          1,         24,         24,2,19950318,       1148,    -6.5000,    80.0002,       5115,   761.3,   6.9177,  34.7973,2,  34.7926,3,     67.3,2,    67.7,2,   74.43,2,   35.88,2,    0.00,2,    2.62,2,-999.000,9,-999.000,9,  -999.0,9,  -999.0,9,  -9.0000,9,-999.0000,9, -999.00,9, -999.00,9,  -999.0,9,  -999.0,-999.000,9,-999.000,-999.000,9,  -9.0000,-999.0000,   6.8442,   -9.00
  316N145_7,       I08N,     319,          1,         23,         23,2,19950318,       1148,    -6.5000,    80.0002,       5115,   862.5,   6.4137,  34.7805,2,  34.7816,3,     71.0,2,    69.3,2,   81.79,2,   36.36,2,    0.00,2,    2.66,2,-999.000,9,-999.000,9,  -999.0,9,  -999.0,9,  -9.0000,9,-999.0000,9, -999.00,9, -999.00,9,  -999.0,9,  -999.0,-999.000,9,-999.000,-999.000,9,  -9.0000,-999.0000,   6.3331,   -9.00
  316N145_7,       I08N,     319,          1,         22,         22,2,19950318,       1148,    -6.5000,    80.0002,       5115,   962.9,   5.9339,  34.7883,2,  34.7859,3,     72.1,2,    73.6,2,   88.11,2,   36.55,2,    0.00,2,    2.67,2,-999.000,9,-999.000,9,  -999.0,9,  -999.0,9,  -9.0000,9,-999.0000,9, -999.00,9, -999.00,9,  -999.0,9,  -999.0,-999.000,9,-999.000,-999.000,9,  -9.0000,-999.0000,   5.8467,   -9.00
  316N145_7,       I08N,     319,          1,         21,         21,2,19950318,       1148,    -6.5000,    80.0002,       5115,  1088.3,   5.4571,  34.7786,2,  34.7763,3,     74.5,2,    77.9,2,   94.23,2,   36.74,2,    0.00,2,    2.70,2,-999.000,9,-999.000,9,  -999.0,9,  -999.0,9,  -9.0000,9,-999.0000,9, -999.00,9, -999.00,9,  -999.0,9,  -999.0,-999.000,9,-999.000,-999.000,9,  -9.0000,-999.0000,   5.3615,   -9.00
  316N145_7,       I08N,     319,          1,         20,         20,2,19950318,       1148,    -6.5000,    80.0002,       5115,  1213.5,   4.9079,  34.7648,2,  34.7622,3,     80.7,2,    85.3,2,  100.36,2,   36.84,2,    0.00,2,    2.70,2,-999.000,9,-999.000,9,  -999.0,9,  -999.0,9,  -9.0000,9,-999.0000,9, -999.00,9, -999.00,9,  -999.0,9,  -999.0,-999.000,9,-999.000,-999.000,9,  -9.0000,-999.0000,   4.8053,   -9.00
  316N145_7,       I08N,     319,          1,         19,         19,2,19950318,       1148,    -6.5000,    80.0002,       5115,  1364.9,   4.4720,  34.7949,2,  34.7889,3,     91.8,2,    92.6,2,  104.16,2,   36.74,2,    0.00,2,    2.69,2,-999.000,9,-999.000,9,  -999.0,9,  -999.0,9,  -9.0000,9,-999.0000,9, -999.00,9, -999.00,9,  -999.0,9,  -999.0,-999.000,9,-999.000,-999.000,9,  -9.0000,-999.0000,   4.3595,   -9.00
  316N145_7,       I08N,     319,          1,         18,         18,2,19950318,       1148,    -6.5000,    80.0002,       5115,  1516.8,   3.9276,  34.7758,2,  34.7757,3,    102.9,2,   103.7,2,  108.19,2,   36.39,2,    0.00,2,    2.66,2,-999.000,9,-999.000,9,  -999.0,9,  -999.0,9,  -9.0000,9,-999.0000,9, -999.00,9, -999.00,9,  -999.0,9,  -999.0,-999.000,9,-999.000,-999.000,9,  -9.0000,-999.0000,   3.8071,   -9.00
  316N145_7,       I08N,     319,          1,         17,         17,2,19950318,       1148,    -6.5000,    80.0002,       5115,  1668.7,   3.5325,  34.7754,2,  34.7720,3,    114.2,2,   112.9,2,  111.80,2,   36.10,2,    0.00,2,    2.63,2,-999.000,9,-999.000,9,  -999.0,9,  -999.0,9,  -9.0000,9,-999.0000,9, -999.00,9, -999.00,9,  -999.0,9,  -999.0,-999.000,9,-999.000,-999.000,9,  -9.0000,-999.0000,   3.4032,   -9.00
  316N145_7,       I08N,     319,          1,         16,         16,2,19950318,       1148,    -6.5000,    80.0002,       5115,  1820.3,   3.1405,  34.7708,2,  34.7681,3,    122.5,2,   122.0,2,  115.63,2,   35.81,2,    0.00,2,    2.58,2,-999.000,9,-999.000,9,  -999.0,9,  -999.0,9,  -9.0000,9,-999.0000,9, -999.00,9, -999.00,9,  -999.0,9,  -999.0,-999.000,9,-999.000,-999.000,9,  -9.0000,-999.0000,   3.0027,   -9.00
  316N145_7,       I08N,     319,          1,         15,         15,2,19950318,       1148,    -6.5000,    80.0002,       5115,  2022.9,   2.6743,  34.7580,2,  34.7563,3,    135.5,2,   134.6,2,  119.90,2,   35.32,2,    0.00,2,    2.54,2,-999.000,9,-999.000,9,  -999.0,9,  -999.0,9,  -9.0000,9,-999.0000,9, -999.00,9, -999.00,9,  -999.0,9,  -999.0,-999.000,9,-999.000,-999.000,9,  -9.0000,-999.0000,   2.5252,   -9.00
  316N145_7,       I08N,     319,          1,         14,         14,2,19950318,       1148,    -6.5000,    80.0002,       5115,  2225.8,   2.3514,  34.7492,2,  34.7475,3,    145.6,2,   144.5,2,  122.46,2,   35.03,2,    0.00,2,    2.49,2,-999.000,9,-999.000,9,  -999.0,9,  -999.0,9,  -9.0000,9,-999.0000,9, -999.00,9, -999.00,9,  -999.0,9,  -999.0,-999.000,9,-999.000,-999.000,9,  -9.0000,-999.0000,   2.1893,   -9.00
  316N145_7,       I08N,     319,          1,         13,         13,2,19950318,       1148,    -6.5000,    80.0002,       5115,  2429.1,   2.0789,  34.7399,2,  34.7388,3,    154.6,2,   154.1,2,  124.37,2,   34.44,2,    0.00,2,    2.44,2,-999.000,9,-999.000,9,  -999.0,9,  -999.0,9,  -9.0000,9,-999.0000,9, -999.00,9, -999.00,9,  -999.0,9,  -999.0,-999.000,9,-999.000,-999.000,9,  -9.0000,-999.0000,   1.9033,   -9.00
  316N145_7,       I08N,     319,          1,         12,         12,2,19950318,       1148,    -6.5000,    80.0002,       5115,  2657.4,   1.8752,  34.7345,2,  34.7341,3,    161.6,2,   161.4,2,  125.86,2,   34.15,2,    0.00,2,    2.41,2,-999.000,9,-999.000,9,  -999.0,9,  -999.0,9,  -9.0000,9,-999.0000,9, -999.00,9, -999.00,9,  -999.0,9,  -999.0,-999.000,9,-999.000,-999.000,9,  -9.0000,-999.0000,   1.6825,   -9.00
  316N145_7,       I08N,     319,          1,         11,         11,2,19950318,       1148,    -6.5000,    80.0002,       5115,  2885.6,   1.7298,  34.7309,2,  34.7290,3,    163.9,2,   164.6,2,  128.86,2,   34.10,2,    0.00,2,    2.40,2,-999.000,9,-999.000,9,  -999.0,9,  -999.0,9,  -9.0000,9,-999.0000,9, -999.00,9, -999.00,9,  -999.0,9,  -999.0,-999.000,9,-999.000,-999.000,9,  -9.0000,-999.0000,   1.5186,   -9.00
  316N145_7,       I08N,     319,          1,         10,         10,2,19950318,       1148,    -6.5000,    80.0002,       5115,  3114.1,   1.6444,  34.7286,2,  34.7245,3,    164.2,2,   164.2,2,  132.53,2,   34.29,2,    0.00,2,    2.41,2,-999.000,9,-999.000,9,  -999.0,9,  -999.0,9,  -9.0000,9,-999.0000,9, -999.00,9, -999.00,9,  -999.0,9,  -999.0,-999.000,9,-999.000,-999.000,9,  -9.0000,-999.0000,   1.4131,   -9.00
  316N145_7,       I08N,     319,          1,          9,          9,2,19950318,       1148,    -6.5000,    80.0002,       5115,  3343.5,   1.5480,  34.7248,2,  34.7208,3,    166.9,2,   167.4,2,  134.24,2,   34.19,2,    0.00,2,    2.40,2,-999.000,9,-999.000,9,  -999.0,9,  -999.0,9,  -9.0000,9,-999.0000,9, -999.00,9, -999.00,9,  -999.0,9,  -999.0,-999.000,9,-999.000,-999.000,9,  -9.0000,-999.0000,   1.2962,   -9.00
  316N145_7,       I08N,     319,          1,          8,          8,2,19950318,       1148,    -6.5000,    80.0002,       5115,  3573.2,   1.4667,  34.7227,2,  34.7186,3,    169.4,2,   170.4,2,  135.96,2,   34.14,2,    0.00,2,    2.39,2,-999.000,9,-999.000,9,  -999.0,9,  -999.0,9,  -9.0000,9,-999.0000,9, -999.00,9, -999.00,9,  -999.0,9,  -999.0,-999.000,9,-999.000,-999.000,9,  -9.0000,-999.0000,   1.1937,   -9.00
  316N145_7,       I08N,     319,          1,          7,          7,2,19950318,       1148,    -6.5000,    80.0002,       5115,  3802.7,   1.4234,  34.7209,2,  34.7196,3,    173.1,2,   173.2,2,  135.71,2,   33.94,2,    0.00,2,    2.38,2,-999.000,9,-999.000,9,  -999.0,9,  -999.0,9,  -9.0000,9,-999.0000,9, -999.00,9, -999.00,9,  -999.0,9,  -999.0,-999.000,9,-999.000,-999.000,9,  -9.0000,-999.0000,   1.1276,   -9.00
  316N145_7,       I08N,     319,          1,          6,          6,2,19950318,       1148,    -6.5000,    80.0002,       5115,  4032.8,   1.3921,  34.7196,2,  34.7179,3,    175.3,2,   176.3,2,  135.68,2,   33.84,2,    0.00,2,    2.37,2,-999.000,9,-999.000,9,  -999.0,9,  -999.0,9,  -9.0000,9,-999.0000,9, -999.00,9, -999.00,9,  -999.0,9,  -999.0,-999.000,9,-999.000,-999.000,9,  -9.0000,-999.0000,   1.0725,   -9.00
  316N145_7,       I08N,     319,          1,          5,          5,2,19950318,       1148,    -6.5000,    80.0002,       5115,  4263.1,   1.3818,  34.7171,2,  34.7161,3,    177.5,2,   178.3,2,  135.22,2,   33.79,2,    0.00,2,    2.35,2,-999.000,9,-999.000,9,  -999.0,9,  -999.0,9,  -9.0000,9,-999.0000,9, -999.00,9, -999.00,9,  -999.0,9,  -999.0,-999.000,9,-999.000,-999.000,9,  -9.0000,-999.0000,   1.0371,   -9.00
  316N145_7,       I08N,     319,          1,          4,          4,2,19950318,       1148,    -6.5000,    80.0002,       5115,  4494.2,   1.3788,  34.7176,2,  34.7157,3,    180.0,2,   180.8,2,  133.67,2,   33.59,2,    0.00,2,    2.34,2,-999.000,9,-999.000,9,  -999.0,9,  -999.0,9,  -9.0000,9,-999.0000,9, -999.00,9, -999.00,9,  -999.0,9,  -999.0,-999.000,9,-999.000,-999.000,9,  -9.0000,-999.0000,   1.0080,   -9.00
  316N145_7,       I08N,     319,          1,          3,          3,2,19950318,       1148,    -6.5000,    80.0002,       5115,  4724.7,   1.3749,  34.7173,2,  34.7155,3,    183.0,2,   183.1,2,  132.55,2,   33.44,2,    0.00,2,    2.33,2,   0.135,3,   0.007,3,  -999.0,9,  -999.0,9,  -9.0000,9,-999.0000,9, -999.00,9, -999.00,9,  -999.0,9,  -999.0,-999.000,9,-999.000,   0.001,2,  -9.0000,-999.0000,   0.9775,   -9.00
  316N145_7,       I08N,     319,          1,          2,          2,2,19950318,       1148,    -6.5000,    80.0002,       5115,  4981.8,   1.3888,  34.7165,2,  34.7124,3,    184.2,2,   184.6,2,  131.65,2,   33.39,2,    0.00,2,    2.32,2,   0.620,4,   0.010,3,  -999.0,9,  -999.0,9,  -9.0000,9,-999.0000,9, -999.00,9, -999.00,9,  -999.0,9,  -999.0,-999.000,9,-999.000,   0.005,2,  -9.0000,-999.0000,   0.9603,   -9.00
  316N145_7,       I08N,     319,          1,          1,          1,2,19950318,       1148,    -6.5000,    80.0002,       5115,  5227.7,   1.4097,  34.7161,2,  34.7130,3,    186.0,2,   185.7,2,  131.41,2,   33.34,2,    0.00,2,    2.32,2,-999.000,9,-999.000,9,  -999.0,9,  -999.0,9,  -9.0000,9,-999.0000,9, -999.00,9, -999.00,9,  -999.0,9,  -999.0,-999.000,9,-999.000,-999.000,9,  -9.0000,-999.0000,   0.9504,   -9.00