BOTTLE,20211124CCHSIORKP
EXPOCODE,SECT_ID,STNNBR,CASTNO,SAMPNO,BTLNBR,BTLNBR_FLAG_W,DATE,TIME,LATITUDE,LONGITUDE,DEPTH,CTDPRS,CTDTMP,CTDSAL,CTDSAL_FLAG_W,SALNTY,SALNTY_FLAG_W,CTDOXY,CTDOXY_FLAG_W,OXYGEN,OXYGEN_FLAG_W,SILCAT,SILCAT_FLAG_W,NITRAT,NITRAT_FLAG_W,NITRIT,NITRIT_FLAG_W,PHSPHT,PHSPHT_FLAG_W,CFC-11,CFC-11_FLAG_W,CFC-12,CFC-12_FLAG_W,TCARBN,TCARBN_FLAG_W,ALKALI,ALKALI_FLAG_W,TRITUM,TRITUM_FLAG_W,HELIUM,HELIUM_FLAG_W,DELHE3,DELHE3_FLAG_W,DELC13,DELC13_FLAG_W,DELC14,DELC14_FLAG_W,C14ERR,NEON,NEON_FLAG_W,NEONER,CCL4,CCL4_FLAG_W,TRITER,HELIER,THETA,DELHER
,,,,,,,,,,,METERS,DBAR,ITS-90,PSS-78,,PSS-78,,UMOL/KG,,UMOL/KG,,UMOL/KG,,UMOL/KG,,UMOL/KG,,UMOL/KG,,PMOL/KG,,PMOL/KG,,UMOL/KG,,UMOL/KG,,TU,,NMOL/KG,,PERCNT,,/MILLE,,/MILLE,,/MILLE,NMOL/KG,,NMOL/KG,PMOL/KG,,TU,NMOL/KG,DEG C,PERCNT
  316N145_7,       I08N,     320,          1,         36,         36,2,19950318,       1727,    -7.0003,    79.9990,       4888,     2.5,  29.1575,  34.0600,2,  34.0552,3,    196.4,2,   196.8,2,    2.63,2,    0.10,2,    0.00,2,    0.10,2,   1.638,2,   0.948,2,  1891.5,2,  2231.2,2,  -9.0000,9,-999.0000,9, -999.00,9, -999.00,9,  -999.0,9,  -999.0,-999.000,9,-999.000,-999.000,9,  -9.0000,-999.0000,  29.1569,   -9.00
  316N145_7,       I08N,     320,          1,         35,         35,2,19950318,       1727,    -7.0003,    79.9990,       4888,    20.9,  28.6734,  34.1030,2,  34.1270,3,    198.0,2,   199.0,2,    2.62,2,    0.10,2,    0.00,2,    0.10,2,   1.641,2,   0.960,2,  1896.1,2,  2233.9,2,  -9.0000,9,-999.0000,9, -999.00,9, -999.00,9,  -999.0,9,  -999.0,-999.000,9,-999.000,-999.000,9,  -9.0000,-999.0000,  28.6684,   -9.00
  316N145_7,       I08N,     320,          1,         34,         34,2,19950318,       1727,    -7.0003,    79.9990,       4888,    50.9,  24.7083,  35.0574,2,  35.0532,3,    176.6,2,   172.2,2,    5.53,2,    1.30,2,    0.08,2,    0.44,2,   1.585,2,   0.880,2,  2016.0,2,  2304.7,2,  -9.0000,9,-999.0000,9, -999.00,9, -999.00,9,  -999.0,9,  -999.0,-999.000,9,-999.000,-999.000,9,  -9.0000,-999.0000,  24.6974,   -9.00
  316N145_7,       I08N,     320,          1,         33,         33,2,19950318,       1727,    -7.0003,    79.9990,       4888,    81.2,  18.2470,  35.1407,2,  35.1552,3,     78.1,2,    78.9,2,   16.23,2,   19.97,2,    0.09,2,    1.40,2,   1.283,2,   0.677,2,  2140.0,2,  2311.8,2,  -9.0000,9,-999.0000,9, -999.00,9, -999.00,9,  -999.0,9,  -999.0,-999.000,9,-999.000,-999.000,9,  -9.0000,-999.0000,  18.2330,   -9.00
  316N145_7,       I08N,     320,          1,         32,         32,2,19950318,       1727,    -7.0003,    79.9990,       4888,   116.2,  15.0889,  34.9318,2,  34.9416,3,     75.2,2,    77.2,2,   25.03,2,   22.90,2,    0.02,2,    1.61,2,   0.997,2,   0.520,2,  2161.6,2,  2306.5,2,  -9.0000,9,-999.0000,9, -999.00,9, -999.00,9,  -999.0,9,  -999.0,-999.000,9,-999.000,-999.000,9,  -9.0000,-999.0000,  15.0712,   -9.00
  316N145_7,       I08N,     320,          1,         31,         31,2,19950318,       1727,    -7.0003,    79.9990,       4888,   176.9,  12.8830,  34.9772,2,  34.9817,3,     74.2,2,    76.8,2,   25.86,2,   25.58,2,    0.01,2,    1.78,2,-999.000,9,-999.000,9,  2189.8,2,  2305.2,2,  -9.0000,9,-999.0000,9, -999.00,9, -999.00,9,  -999.0,9,  -999.0,-999.000,9,-999.000,-999.000,9,  -9.0000,-999.0000,  12.8588,   -9.00
  316N145_7,       I08N,     320,          1,         30,         30,2,19950318,       1727,    -7.0003,    79.9990,       4888,   247.3,  11.3155,  34.9253,2,  34.9268,3,     71.8,2,    71.1,2,   29.62,2,   28.45,2,    0.01,2,    1.95,2,   0.358,2,   0.183,2,  2207.4,2,  2314.8,2,  -9.0000,9,-999.0000,9, -999.00,9, -999.00,9,  -999.0,9,  -999.0,-999.000,9,-999.000,-999.000,9,  -9.0000,-999.0000,  11.2844,   -9.00
  316N145_7,       I08N,     320,          1,         29,         29,2,19950318,       1727,    -7.0003,    79.9990,       4888,   307.3,  10.3286,  34.8751,2,  34.8761,3,    102.1,2,   102.7,2,   27.30,2,   27.16,2,    0.01,2,    1.85,2,-999.000,9,-999.000,9,  2194.1,2,  2310.5,2,  -9.0000,9,-999.0000,9, -999.00,9, -999.00,9,  -999.0,9,  -999.0,-999.000,9,-999.000,-999.000,9,  -9.0000,-999.0000,  10.2920,   -9.00
  316N145_7,       I08N,     320,          1,         28,         28,2,19950318,       1727,    -7.0003,    79.9990,       4888,   387.3,   9.5150,  34.8437,2,  34.8444,3,     82.2,2,    82.6,2,   35.48,2,   30.85,2,    0.01,2,    2.11,2,   0.161,6,   0.084,6,  2217.4,2,  2317.4,2,  -9.0000,9,-999.0000,9, -999.00,9, -999.00,9,  -999.0,9,  -999.0,-999.000,9,-999.000,-999.000,9,  -9.0000,-999.0000,   9.4711,   -9.00
  316N145_7,       I08N,     320,          1,         27,         27,2,19950318,       1727,    -7.0003,    79.9990,       4888,   488.1,   8.7943,  34.8370,2,  34.8364,3,     82.4,2,    81.6,2,   44.28,2,   32.15,2,    0.00,2,    2.27,2,-999.000,9,-999.000,9,  2231.2,2,  2327.5,2,  -9.0000,9,-999.0000,9, -999.00,9, -999.00,9,  -999.0,9,  -999.0,-999.000,9,-999.000,-999.000,9,  -9.0000,-999.0000,   8.7413,   -9.00
  316N145_7,       I08N,     320,          1,         26,         26,2,19950318,       1727,    -7.0003,    79.9990,       4888,   588.1,   8.2526,  34.8501,2,  34.8494,3,     76.7,2,    76.2,2,   52.87,2,   33.25,2,    0.00,2,    2.40,2,   0.084,2,   0.040,2,  2243.9,2,  2332.3,2,  -9.0000,9,-999.0000,9, -999.00,9, -999.00,9,  -999.0,9,  -999.0,-999.000,9,-999.000,-999.000,9,  -9.0000,-999.0000,   8.1906,   -9.00
  316N145_7,       I08N,     320,          1,         25,         25,2,19950318,       1727,    -7.0003,    79.9990,       4888,   688.8,   7.8230,  34.8713,2,  34.8712,3,     68.6,2,    68.6,2,   61.89,2,   34.55,2,    0.00,2,    2.52,2,-999.000,9,-999.000,9,  2260.5,2,  2339.4,2,  -9.0000,9,-999.0000,9, -999.00,9, -999.00,9,  -999.0,9,  -999.0,-999.000,9,-999.000,-999.000,9,  -9.0000,-999.0000,   7.7521,   -9.00
  316N145_7,       I08N,     320,          1,         24,         24,2,19950318,       1727,    -7.0003,    79.9990,       4888,   789.3,   6.8800,  34.8123,2,  34.8124,3,     70.5,2,    70.2,2,   73.87,2,   35.66,2,    0.00,2,    2.62,2,   0.018,2,   0.008,2,  2273.7,2,  2354.4,2,  -9.0000,9,-999.0000,9, -999.00,9, -999.00,9,  -999.0,9,  -999.0,-999.000,9,-999.000,-999.000,9,  -9.0000,-999.0000,   6.8039,   -9.00
  316N145_7,       I08N,     320,          1,         23,         23,2,19950318,       1727,    -7.0003,    79.9990,       4888,   890.2,   6.4329,  34.8159,2,  34.8124,3,     69.5,2,    69.6,2,   81.86,2,   36.34,2,    0.01,2,    2.68,2,   0.008,2,   0.003,2,  2289.2,2,  2358.3,2,  -9.0000,9,-999.0000,9, -999.00,9, -999.00,9,  -999.0,9,  -999.0,-999.000,9,-999.000,-999.000,9,  -9.0000,-999.0000,   6.3493,   -9.00
  316N145_7,       I08N,     320,          1,         22,         22,2,19950318,       1727,    -7.0003,    79.9990,       4888,   991.0,   5.8378,  34.7686,2,  34.7633,3,     76.3,2,    75.9,2,   89.66,2,   36.53,2,    0.00,2,    2.69,2,   0.002,2,   0.001,2,  2292.9,2,  2372.1,2,  -9.0000,9,-999.0000,9, -999.00,9, -999.00,9,  -999.0,9,  -999.0,-999.000,9,-999.000,-999.000,9,  -9.0000,-999.0000,   5.7486,   -9.00
  316N145_7,       I08N,     320,          1,         21,         21,2,19950318,       1727,    -7.0003,    79.9990,       4888,  1111.9,   5.2809,  34.7618,2,  34.7576,3,     82.1,2,    83.1,2,   96.21,2,   36.72,2,    0.01,2,    2.70,2,-999.000,9,-999.000,9,  -999.0,5,  2374.1,2,  -9.0000,9,-999.0000,9, -999.00,9, -999.00,9,  -999.0,9,  -999.0,-999.000,9,-999.000,-999.000,9,  -9.0000,-999.0000,   5.1845,   -9.00
  316N145_7,       I08N,     320,          1,         20,         20,2,19950318,       1727,    -7.0003,    79.9990,       4888,  1262.3,   4.5914,  34.7637,2,  34.7656,3,     89.3,2,    90.8,2,  102.77,2,   36.77,2,    0.00,2,    2.69,2,   0.010,2,   0.005,2,  -999.0,5,  2383.1,2,  -9.0000,9,-999.0000,9, -999.00,9, -999.00,9,  -999.0,9,  -999.0,-999.000,9,-999.000,-999.000,9,  -9.0000,-999.0000,   4.4872,   -9.00
  316N145_7,       I08N,     320,          1,         19,         19,2,19950318,       1727,    -7.0003,    79.9990,       4888,  1411.2,   4.0232,  34.7516,2,  34.7532,3,    100.1,2,   102.2,2,  108.07,2,   36.58,2,    0.00,2,    2.67,2,-999.000,9,-999.000,9,  2304.5,2,  2385.4,2,  -9.0000,9,-999.0000,9, -999.00,9, -999.00,9,  -999.0,9,  -999.0,-999.000,9,-999.000,-999.000,9,  -9.0000,-999.0000,   3.9113,   -9.00
  316N145_7,       I08N,     320,          1,         18,         18,2,19950318,       1727,    -7.0003,    79.9990,       4888,  1584.6,   3.7617,  34.7872,2,  34.7855,3,    106.7,2,   107.9,2,  109.76,2,   36.24,2,    0.00,2,    2.65,2,   0.003,2,  -0.001,2,  2304.4,2,  2396.6,2,  -9.0000,9,-999.0000,9, -999.00,9, -999.00,9,  -999.0,9,  -999.0,-999.000,9,-999.000,-999.000,9,  -9.0000,-999.0000,   3.6371,   -9.00
  316N145_7,       I08N,     320,          1,         17,         17,2,19950318,       1727,    -7.0003,    79.9990,       4888,  1761.1,   3.2786,  34.7665,2,  34.7656,3,    119.6,2,   119.2,2,  113.80,2,   35.85,2,    0.00,2,    2.61,2,  -0.005,2,  -0.002,2,  2304.2,2,  2393.8,2,  -9.0000,9,-999.0000,9, -999.00,9, -999.00,9,  -999.0,9,  -999.0,-999.000,9,-999.000,-999.000,9,  -9.0000,-999.0000,   3.1442,   -9.00
  316N145_7,       I08N,     320,          1,         16,         16,2,19950318,       1727,    -7.0003,    79.9990,       4888,  1969.9,   2.7345,  34.7537,2,  34.7497,3,    133.7,2,   133.6,2,  118.49,2,   35.32,2,    0.00,2,    2.54,2,   0.000,2,   0.000,2,  2302.3,2,  2395.6,2,  -9.0000,9,-999.0000,9, -999.00,9, -999.00,9,  -999.0,9,  -999.0,-999.000,9,-999.000,-999.000,9,  -9.0000,-999.0000,   2.5892,   -9.00
  316N145_7,       I08N,     320,          1,         15,         15,2,19950318,       1727,    -7.0003,    79.9990,       4888,  2173.2,   2.4341,  34.7504,2,  34.7480,3,    142.7,2,   143.6,2,  121.70,2,   34.93,2,    0.00,2,    2.50,2,-999.000,9,-999.000,9,  2299.8,2,  2400.3,2,  -9.0000,9,-999.0000,9, -999.00,9, -999.00,9,  -999.0,9,  -999.0,-999.000,9,-999.000,-999.000,9,  -9.0000,-999.0000,   2.2754,   -9.00
  316N145_7,       I08N,     320,          1,         14,         14,2,19950318,       1727,    -7.0003,    79.9990,       4888,  2375.8,   2.1650,  34.7434,2,  34.7405,3,    152.0,2,   151.5,2,  123.83,2,   34.59,2,    0.00,2,    2.46,2,  -0.002,2,   0.000,2,  2290.9,2,  2386.8,3,  -9.0000,9,-999.0000,9, -999.00,9, -999.00,9,  -999.0,9,  -999.0,-999.000,9,-999.000,-999.000,9,  -9.0000,-999.0000,   1.9926,   -9.00
  316N145_7,       I08N,     320,          1,         13,         13,2,19950318,       1727,    -7.0003,    79.9990,       4888,  2579.4,   1.9834,  34.7372,2,  34.7350,3,    158.9,2,   158.6,2,  125.11,2,   34.30,2,    0.00,2,    2.43,2,-999.000,9,-999.000,9,  2296.0,2,  2400.5,2,  -9.0000,9,-999.0000,9, -999.00,9, -999.00,9,  -999.0,9,  -999.0,-999.000,9,-999.000,-999.000,9,  -9.0000,-999.0000,   1.7957,   -9.00
  316N145_7,       I08N,     320,          1,         12,         12,2,19950318,       1727,    -7.0003,    79.9990,       4888,  2782.8,   1.8467,  34.7334,2,  34.7303,3,    162.6,2,   162.0,2,  127.03,2,   34.20,2,    0.00,2,    2.42,2,  -0.003,2,  -0.002,2,  2296.5,2,  2407.7,2,  -9.0000,9,-999.0000,9, -999.00,9, -999.00,9,  -999.0,9,  -999.0,-999.000,9,-999.000,-999.000,9,  -9.0000,-999.0000,   1.6428,   -9.00
  316N145_7,       I08N,     320,          1,         11,         11,2,19950318,       1727,    -7.0003,    79.9990,       4888,  2985.1,   1.7629,  34.7315,2,  34.7273,3,    164.6,2,   164.0,2,  128.95,2,   34.20,2,    0.00,2,    2.41,2,   0.000,2,  -0.001,2,  2295.8,2,  2407.5,2,  -9.0000,9,-999.0000,9, -999.00,9, -999.00,9,  -999.0,9,  -999.0,-999.000,9,-999.000,-999.000,9,  -9.0000,-999.0000,   1.5415,   -9.00
  316N145_7,       I08N,     320,          1,         10,         10,2,19950318,       1727,    -7.0003,    79.9990,       4888,  3189.4,   1.6439,  34.7280,2,  34.7246,3,    166.9,2,   166.2,2,  131.32,2,   34.10,2,    0.00,2,    2.40,2,  -0.003,2,  -0.003,2,  2298.6,2,  2411.5,2,  -9.0000,9,-999.0000,9, -999.00,9, -999.00,9,  -999.0,9,  -999.0,-999.000,9,-999.000,-999.000,9,  -9.0000,-999.0000,   1.4052,   -9.00
  316N145_7,       I08N,     320,          1,          9,          9,2,19950318,       1727,    -7.0003,    79.9990,       4888,  3393.1,   1.5439,  34.7250,2,  34.7232,3,    168.0,2,   167.9,2,  134.34,2,   34.20,2,    0.00,2,    2.40,2,-999.000,9,-999.000,9,  2302.2,2,  2422.2,2,  -9.0000,9,-999.0000,9, -999.00,9, -999.00,9,  -999.0,9,  -999.0,-999.000,9,-999.000,-999.000,9,  -9.0000,-999.0000,   1.2873,   -9.00
  316N145_7,       I08N,     320,          1,          8,          8,2,19950318,       1727,    -7.0003,    79.9990,       4888,  3596.9,   1.4598,  34.7223,2,  34.7183,3,    171.1,2,   171.7,2,  135.19,2,   34.05,2,    0.00,2,    2.38,2,  -0.002,2,  -0.003,2,  2301.3,2,  2416.7,2,  -9.0000,9,-999.0000,9, -999.00,9, -999.00,9,  -999.0,9,  -999.0,-999.000,9,-999.000,-999.000,9,  -9.0000,-999.0000,   1.1845,   -9.00
  316N145_7,       I08N,     320,          1,          7,          7,2,19950318,       1727,    -7.0003,    79.9990,       4888,  3801.1,   1.4016,  34.7202,2,  34.7187,3,    174.3,2,   175.2,2,  135.38,2,   33.91,2,    0.00,2,    2.37,2,  -0.001,2,  -0.001,2,  2299.8,2,  2413.1,2,  -9.0000,9,-999.0000,9, -999.00,9, -999.00,9,  -999.0,9,  -999.0,-999.000,9,-999.000,-999.000,9,  -9.0000,-999.0000,   1.1066,   -9.00
  316N145_7,       I08N,     320,          1,          6,          6,2,19950318,       1727,    -7.0003,    79.9990,       4888,  4005.8,   1.3737,  34.7191,2,  34.7177,3,    177.2,2,   178.2,2,  134.92,2,   33.81,2,    0.00,2,    2.36,2,   0.006,2,  -0.001,2,  2298.6,2,  2413.8,2,  -9.0000,9,-999.0000,9, -999.00,9, -999.00,9,  -999.0,9,  -999.0,-999.000,9,-999.000,-999.000,9,  -9.0000,-999.0000,   1.0575,   -9.00
  316N145_7,       I08N,     320,          1,          5,          5,2,19950318,       1727,    -7.0003,    79.9990,       4888,  4210.0,   1.3632,  34.7184,2,  34.7154,3,    179.6,2,   179.3,2,  134.25,2,   33.66,2,    0.00,2,    2.35,2,-999.000,9,-999.000,9,  2296.6,2,  2411.0,2,  -9.0000,9,-999.0000,9, -999.00,9, -999.00,9,  -999.0,9,  -999.0,-999.000,9,-999.000,-999.000,9,  -9.0000,-999.0000,   1.0249,   -9.00
  316N145_7,       I08N,     320,          1,          4,          4,2,19950318,       1727,    -7.0003,    79.9990,       4888,  4415.0,   1.3583,  34.7182,2,  34.7156,3,    181.0,2,   181.8,2,  133.35,2,   33.52,2,    0.00,2,    2.33,2,  -0.003,2,  -0.001,2,  2294.5,2,  2424.0,2,  -9.0000,9,-999.0000,9, -999.00,9, -999.00,9,  -999.0,9,  -999.0,-999.000,9,-999.000,-999.000,9,  -9.0000,-999.0000,   0.9972,   -9.00
  316N145_7,       I08N,     320,          1,          3,          3,2,19950318,       1727,    -7.0003,    79.9990,       4888,  4619.8,   1.3583,  34.7175,2,  34.7150,3,    183.5,2,   183.1,2,  132.68,2,   33.52,2,    0.00,2,    2.33,2,  -0.003,2,  -0.002,2,  2291.7,2,  2414.6,2,  -9.0000,9,-999.0000,9, -999.00,9, -999.00,9,  -999.0,9,  -999.0,-999.000,9,-999.000,-999.000,9,  -9.0000,-999.0000,   0.9737,   -9.00
  316N145_7,       I08N,     320,          1,          2,          2,2,19950318,       1727,    -7.0003,    79.9990,       4888,  4824.4,   1.3631,  34.7174,2,  34.7150,3,    185.0,2,   185.1,2,  131.78,2,   33.37,2,    0.00,2,    2.32,2,   0.000,2,  -0.002,2,  2292.9,2,  2408.5,2,  -9.0000,9,-999.0000,9, -999.00,9, -999.00,9,  -999.0,9,  -999.0,-999.000,9,-999.000,-999.000,9,  -9.0000,-999.0000,   0.9543,   -9.00
  316N145_7,       I08N,     320,          1,          1,          1,2,19950318,       1727,    -7.0003,    79.9990,       4888,  4983.4,   1.3819,  34.7171,2,  34.7158,3,    185.2,2,   184.6,2,  131.54,2,   33.32,2,    0.00,2,    2.32,2,   0.004,2,   0.010,2,  2293.0,2,  2397.6,2,  -9.0000,9,-999.0000,9, -999.00,9, -999.00,9,  -999.0,9,  -999.0,-999.000,9,-999.000,-999.000,9,  -9.0000,-999.0000,   0.9534,   -9.00