BOTTLE,20211124CCHSIORKP
EXPOCODE,SECT_ID,STNNBR,CASTNO,SAMPNO,BTLNBR,BTLNBR_FLAG_W,DATE,TIME,LATITUDE,LONGITUDE,DEPTH,CTDPRS,CTDTMP,CTDSAL,CTDSAL_FLAG_W,SALNTY,SALNTY_FLAG_W,CTDOXY,CTDOXY_FLAG_W,OXYGEN,OXYGEN_FLAG_W,SILCAT,SILCAT_FLAG_W,NITRAT,NITRAT_FLAG_W,NITRIT,NITRIT_FLAG_W,PHSPHT,PHSPHT_FLAG_W,CFC-11,CFC-11_FLAG_W,CFC-12,CFC-12_FLAG_W,TCARBN,TCARBN_FLAG_W,ALKALI,ALKALI_FLAG_W,TRITUM,TRITUM_FLAG_W,HELIUM,HELIUM_FLAG_W,DELHE3,DELHE3_FLAG_W,DELC13,DELC13_FLAG_W,DELC14,DELC14_FLAG_W,C14ERR,NEON,NEON_FLAG_W,NEONER,CCL4,CCL4_FLAG_W,TRITER,HELIER,THETA,DELHER
,,,,,,,,,,,METERS,DBAR,ITS-90,PSS-78,,PSS-78,,UMOL/KG,,UMOL/KG,,UMOL/KG,,UMOL/KG,,UMOL/KG,,UMOL/KG,,PMOL/KG,,PMOL/KG,,UMOL/KG,,UMOL/KG,,TU,,NMOL/KG,,PERCNT,,/MILLE,,/MILLE,,/MILLE,NMOL/KG,,NMOL/KG,PMOL/KG,,TU,NMOL/KG,DEG C,PERCNT
  316N145_7,       I08N,     289,          1,         36,         36,2,19950312,       0527,     4.0003,    80.0035,       4325,     2.7,  28.6735,  34.1555,2,  34.1599,2,    196.1,2,   197.4,2,    3.00,2,    0.00,2,    0.00,2,    0.12,2,-999.000,9,-999.000,9,  1913.0,2,  -999.0,5,   1.0399,2,   1.6794,2,   -0.67,2, -999.00,9,  -999.0,9,  -999.0,   6.562,2,   0.033,-999.000,9,   0.0040,   0.0084,  28.6728,    0.14
  316N145_7,       I08N,     289,          1,         35,         35,2,19950312,       0527,     4.0003,    80.0035,       4325,    33.9,  28.5298,  34.1591,2,  34.1579,2,    191.1,2,   198.3,2,    2.99,2,    0.00,2,    0.00,2,    0.11,2,-999.000,9,-999.000,9,  -999.0,9,  -999.0,9,   1.0395,2,   1.6912,2,   -0.55,2, -999.00,9,  -999.0,9,  -999.0,   6.613,2,   0.033,-999.000,9,   0.0040,   0.0085,  28.5217,    0.14
  316N145_7,       I08N,     289,          1,         34,         34,2,19950312,       0527,     4.0003,    80.0035,       4325,    63.7,  25.3172,  34.4855,2,  34.5195,2,    127.1,2,   104.3,2,    9.37,2,   11.41,2,    0.55,2,    0.88,2,-999.000,9,-999.000,9,  -999.0,9,  -999.0,9,   0.9188,2,   1.6922,2,    1.09,2, -999.00,9,  -999.0,9,  -999.0,   6.735,2,   0.034,-999.000,9,   0.0038,   0.0085,  25.3033,    0.14
  316N145_7,       I08N,     289,          1,         33,         33,2,19950312,       0527,     4.0003,    80.0035,       4325,    93.8,  19.8278,  34.9603,2,  34.9724,2,     38.4,2,    36.7,2,   20.09,2,   23.72,2,    0.09,2,    1.71,2,-999.000,9,-999.000,9,  -999.0,9,  -999.0,9,  -9.0000,9,-999.0000,9, -999.00,9, -999.00,9,  -999.0,9,  -999.0,-999.000,9,-999.000,-999.000,9,  -9.0000,-999.0000,  19.8106,   -9.00
  316N145_7,       I08N,     289,          1,         32,         32,2,19950312,       0527,     4.0003,    80.0035,       4325,   123.9,  16.6016,  35.1283,2,  35.1153,2,     43.6,2,    43.6,2,   22.34,2,   25.28,2,    0.01,2,    1.82,2,-999.000,9,-999.000,9,  -999.0,9,  -999.0,9,   0.5684,2,   1.7438,2,    4.27,2, -999.00,9,  -999.0,9,  -999.0,   7.177,2,   0.036,-999.000,9,   0.0032,   0.0087,  16.5815,    0.14
  316N145_7,       I08N,     289,          1,         31,         31,2,19950312,       0527,     4.0003,    80.0035,       4325,   164.1,  14.5396,  35.1500,2,  35.1421,2,     56.1,2,    58.1,2,   22.95,2,   25.39,2,    0.00,2,    1.81,2,-999.000,9,-999.000,9,  -999.0,9,  -999.0,9,   0.5084,2,   1.7387,2,    5.10,2, -999.00,9,  -999.0,9,  -999.0,   7.231,2,   0.036,-999.000,9,   0.0031,   0.0087,  14.5153,    0.14
  316N145_7,       I08N,     289,          1,         30,         30,2,19950312,       0527,     4.0003,    80.0035,       4325,   204.1,  13.0561,  35.0921,2,  35.0917,2,     47.3,2,    48.9,2,   26.23,2,   28.06,2,    0.00,2,    1.97,2,-999.000,9,-999.000,9,  -999.0,9,  -999.0,9,   0.3807,2,   1.7552,2,    5.28,2, -999.00,9,  -999.0,9,  -999.0,   7.277,2,   0.036,-999.000,9,   0.0028,   0.0088,  13.0279,    0.14
  316N145_7,       I08N,     289,          1,         29,         29,2,19950312,       0527,     4.0003,    80.0035,       4325,   254.1,  12.4512,  35.0924,2,  35.0911,2,     56.3,2,    57.8,2,   25.80,2,   27.87,2,    0.00,2,    1.95,2,-999.000,9,-999.000,9,  -999.0,9,  -999.0,9,  -9.0000,9,   1.8638,2,    3.34,2, -999.00,9,  -999.0,9,  -999.0,   7.700,2,   0.038,-999.000,9,  -9.0000,   0.0093,  12.4171,    0.14
  316N145_7,       I08N,     289,          1,         28,         28,2,19950312,       0527,     4.0003,    80.0035,       4325,   305.0,  12.0132,  35.0815,2,  35.0797,2,     62.6,2,    66.7,2,   25.79,2,   27.59,2,    0.00,2,    1.93,2,-999.000,9,-999.000,9,  -999.0,9,  -999.0,9,  -9.0000,9,-999.0000,9, -999.00,9, -999.00,9,  -999.0,9,  -999.0,-999.000,9,-999.000,-999.000,9,  -9.0000,-999.0000,  11.9732,   -9.00
  316N145_7,       I08N,     289,          1,         27,         27,2,19950312,       0527,     4.0003,    80.0035,       4325,   354.6,  11.4782,  35.0687,2,  35.0596,2,     62.0,2,    62.4,2,   29.07,2,   29.00,2,    0.00,2,    2.02,2,-999.000,9,-999.000,9,  -999.0,9,  -999.0,9,   0.2633,2,   1.7625,2,    3.98,2, -999.00,9,  -999.0,9,  -999.0,   7.342,2,   0.037,-999.000,9,   0.0026,   0.0088,  11.4329,    0.14
  316N145_7,       I08N,     289,          1,         26,         26,2,19950312,       0527,     4.0003,    80.0035,       4325,   404.9,  11.0098,  35.0540,2,  35.0527,2,     44.6,2,    43.9,2,   34.01,2,   31.58,2,    0.00,2,    2.21,2,-999.000,9,-999.000,9,  -999.0,9,  -999.0,9,  -9.0000,9,-999.0000,9, -999.00,9, -999.00,9,  -999.0,9,  -999.0,-999.000,9,-999.000,-999.000,9,  -9.0000,-999.0000,  10.9593,   -9.00
  316N145_7,       I08N,     289,          1,         25,         25,2,19950312,       0527,     4.0003,    80.0035,       4325,   475.6,  10.4424,  35.0500,2,  35.0513,2,     36.1,2,    35.1,2,   40.59,2,   33.33,2,    0.00,2,    2.38,2,-999.000,9,-999.000,9,  -999.0,9,  -999.0,9,   0.1103,2,   1.7800,2,    5.53,2, -999.00,9,  -999.0,9,  -999.0,   7.440,2,   0.037,-999.000,9,   0.0024,   0.0089,  10.3849,    0.14
  316N145_7,       I08N,     289,          1,         24,         24,2,19950312,       0527,     4.0003,    80.0035,       4325,   546.3,   9.8312,  35.0358,2,  35.0336,2,     34.2,2,    26.3,2,   48.82,2,   35.03,2,    0.00,2,    2.55,2,-999.000,9,-999.000,9,  -999.0,9,  -999.0,9,  -9.0000,9,-999.0000,9, -999.00,9, -999.00,9,  -999.0,9,  -999.0,-999.000,9,-999.000,-999.000,9,  -9.0000,-999.0000,   9.7674,   -9.00
  316N145_7,       I08N,     289,          1,         23,         23,2,19950312,       0527,     4.0003,    80.0035,       4325,   606.4,   9.4270,  35.0281,2,  35.0281,2,     34.8,2,    32.9,2,   51.69,2,   35.03,2,    0.00,2,    2.57,2,-999.000,9,-999.000,9,  -999.0,9,  -999.0,9,   0.0442,2,   1.7616,2,    6.60,2, -999.00,9,  -999.0,9,  -999.0,   7.424,2,   0.037,-999.000,9,   0.0023,   0.0088,   9.3577,    0.14
  316N145_7,       I08N,     289,          1,         22,         22,2,19950312,       0527,     4.0003,    80.0035,       4325,   706.7,   8.6821,  35.0115,2,  35.0099,2,     34.0,2,    32.4,2,   61.37,2,   36.08,2,    0.00,2,    2.67,2,-999.000,9,-999.000,9,  -999.0,9,  -999.0,9,  -9.0000,9,-999.0000,9, -999.00,9, -999.00,9,  -999.0,9,  -999.0,-999.000,9,-999.000,-999.000,9,  -9.0000,-999.0000,   8.6047,   -9.00
  316N145_7,       I08N,     289,          1,         21,         21,2,19950312,       0527,     4.0003,    80.0035,       4325,   807.1,   8.0270,  35.0198,2,  35.0184,2,     31.6,2,    32.1,2,   71.27,2,   36.79,2,    0.00,2,    2.75,2,-999.000,9,-999.000,9,  -999.0,9,  -999.0,9,   0.0131,2,   1.8056,2,    9.13,2, -999.00,9,  -999.0,9,  -999.0,   7.562,2,   0.038,-999.000,9,   0.0022,   0.0090,   7.9420,    0.14
  316N145_7,       I08N,     289,          1,         20,         20,2,19950312,       0527,     4.0003,    80.0035,       4325,   907.7,   7.2608,  34.9689,2,  34.9680,2,     41.4,2,    43.5,2,   78.70,2,   37.03,2,    0.00,2,    2.76,2,-999.000,9,-999.000,9,  -999.0,9,  -999.0,9,  -9.0000,9,-999.0000,9, -999.00,9, -999.00,9,  -999.0,9,  -999.0,-999.000,9,-999.000,-999.000,9,  -9.0000,-999.0000,   7.1698,   -9.00
  316N145_7,       I08N,     289,          1,         19,         19,2,19950312,       0527,     4.0003,    80.0035,       4325,  1008.6,   6.7407,  34.9462,2,  34.9448,2,     46.6,2,    47.4,2,   84.68,2,   37.22,2,    0.00,2,    2.76,2,-999.000,9,-999.000,9,  -999.0,9,  -999.0,9,   0.0043,2,   1.8360,2,   10.72,2, -999.00,9,  -999.0,9,  -999.0,   7.726,2,   0.039,-999.000,9,   0.0022,   0.0091,   6.6427,    0.14
  316N145_7,       I08N,     289,          1,         18,         18,2,19950312,       0527,     4.0003,    80.0035,       4325,  1108.5,   6.1315,  34.9158,2,  34.9155,2,     56.8,2,    53.7,2,   92.14,2,   37.46,2,    0.00,2,    2.78,2,-999.000,9,-999.000,9,  -999.0,9,  -999.0,9,  -9.0000,9,-999.0000,9, -999.00,9, -999.00,9,  -999.0,9,  -999.0,-999.000,9,-999.000,-999.000,9,  -9.0000,-999.0000,   6.0281,   -9.00
  316N145_7,       I08N,     289,          1,         17,         17,2,19950312,       0527,     4.0003,    80.0035,       4325,  1259.4,   5.4135,  34.8884,2,  34.8881,2,     61.5,2,    64.7,2,  100.03,2,   37.37,2,    0.00,2,    2.77,2,-999.000,9,-999.000,9,  -999.0,9,  -999.0,9,   0.0017,2,   1.8490,2,   11.58,2, -999.00,9,  -999.0,9,  -999.0,   7.766,2,   0.039,-999.000,9,   0.0022,   0.0092,   5.3016,    0.14
  316N145_7,       I08N,     289,          1,         16,         16,2,19950312,       0527,     4.0003,    80.0035,       4325,  1410.6,   4.7829,  34.8681,2,  34.8689,2,     75.1,2,    76.9,2,  105.23,2,   37.13,2,    0.00,2,    2.74,2,-999.000,9,-999.000,9,  -999.0,9,  -999.0,9,  -9.0000,9,   1.8530,2,   12.63,2, -999.00,9,  -999.0,9,  -999.0,-999.000,9,-999.000,-999.000,9,  -9.0000,-999.0000,   4.6628,   -9.00
  316N145_7,       I08N,     289,          1,         15,         15,2,19950312,       0527,     4.0003,    80.0035,       4325,  1562.0,   4.1130,  34.8396,2,  34.8405,2,     84.3,2,    88.6,2,  112.76,2,   36.90,2,    0.00,2,    2.71,2,-999.000,9,-999.000,9,  -999.0,9,  -999.0,9,   0.0026,2,   1.8589,2,   12.97,2, -999.00,9,  -999.0,9,  -999.0,   7.878,2,   0.039,-999.000,9,   0.0022,   0.0093,   3.9861,    0.14
  316N145_7,       I08N,     289,          1,         14,         14,2,19950312,       0527,     4.0003,    80.0035,       4325,  1713.3,   3.5438,  34.8150,2,  34.8157,2,     99.5,2,   100.9,2,  118.63,2,   36.61,2,    0.00,2,    2.67,2,-999.000,9,-999.000,9,  -999.0,9,  -999.0,9,  -0.0020,2,   1.8820,3,   12.80,3, -999.00,9,  -999.0,9,  -999.0,   7.812,2,   0.039,-999.000,9,   0.0022,   0.0091,   3.4102,    0.14
  316N145_7,       I08N,     289,          1,         13,         13,2,19950312,       0527,     4.0003,    80.0035,       4325,  1916.3,   2.9437,  34.7921,2,  34.7906,2,    114.6,2,   116.4,2,  124.96,2,   36.09,2,    0.00,2,    2.62,2,-999.000,9,-999.000,9,  -999.0,9,  -999.0,9,  -0.0005,2,   1.8770,2,   13.61,2, -999.00,9,  -999.0,9,  -999.0,   7.793,2,   0.039,-999.000,9,   0.0022,   0.0092,   2.8000,    0.14
  316N145_7,       I08N,     289,          1,         12,         12,2,19950312,       0527,     4.0003,    80.0035,       4325,  2118.9,   2.5622,  34.7697,2,  34.7684,2,    129.4,2,   129.0,2,  127.06,2,   35.57,2,    0.00,2,    2.54,2,-999.000,9,-999.000,9,  -999.0,9,  -999.0,9,  -9.0000,9,   1.8810,2,   13.97,2, -999.00,9,  -999.0,9,  -999.0,-999.000,9,-999.000,-999.000,9,  -9.0000,-999.0000,   2.4062,   -9.00
  316N145_7,       I08N,     289,          1,         11,         11,2,19950312,       0527,     4.0003,    80.0035,       4325,  2321.2,   2.3503,  34.7603,2,  34.7589,2,    133.2,2,   131.9,2,  132.16,2,   35.62,2,    0.00,2,    2.56,2,-999.000,9,-999.000,9,  -999.0,9,  -999.0,9,  -9.0000,9,   1.8800,2,   14.19,2, -999.00,9,  -999.0,9,  -999.0,-999.000,9,-999.000,-999.000,9,  -9.0000,-999.0000,   2.1796,   -9.00
  316N145_7,       I08N,     289,          1,         10,         10,2,19950312,       0527,     4.0003,    80.0035,       4325,  2522.8,   2.1366,  34.7506,2,  34.7501,2,    137.4,2,   136.0,2,  135.34,2,   35.48,2,    0.00,2,    2.55,2,-999.000,9,-999.000,9,  -999.0,9,  -999.0,9,  -9.0000,9,   1.8880,2,   13.64,2, -999.00,9,  -999.0,9,  -999.0,-999.000,9,-999.000,-999.000,9,  -9.0000,-999.0000,   1.9512,   -9.00
  316N145_7,       I08N,     289,          1,          9,          9,2,19950312,       0527,     4.0003,    80.0035,       4325,  2726.2,   1.8733,  34.7392,2,  34.7383,2,    147.5,2,   148.4,2,  135.52,2,   34.91,2,    0.00,2,    2.48,2,-999.000,9,-999.000,9,  -999.0,9,  -999.0,9,  -9.0000,9,   1.8880,2,   13.51,2, -999.00,9,  -999.0,9,  -999.0,-999.000,9,-999.000,-999.000,9,  -9.0000,-999.0000,   1.6742,   -9.00
  316N145_7,       I08N,     289,          1,          8,          8,2,19950312,       0527,     4.0003,    80.0035,       4325,  2931.1,   1.7316,  34.7331,2,  34.7325,2,    155.6,2,   151.5,2,  138.07,2,   34.91,2,    0.00,2,    2.45,2,-999.000,9,-999.000,9,  -999.0,9,  -999.0,9,  -9.0000,9,   1.8940,2,   13.15,2, -999.00,9,  -999.0,9,  -999.0,-999.000,9,-999.000,-999.000,9,  -9.0000,-999.0000,   1.5160,   -9.00
  316N145_7,       I08N,     289,          1,          7,          7,2,19950312,       0527,     4.0003,    80.0035,       4325,  3135.6,   1.6246,  34.7291,2,  34.7280,2,    156.4,2,   152.7,2,  141.50,2,   34.91,2,    0.01,2,    2.45,2,-999.000,9,-999.000,9,  -999.0,9,  -999.0,9,  -9.0000,9,   1.9010,2,   12.42,2, -999.00,9,  -999.0,9,  -999.0,-999.000,9,-999.000,-999.000,9,  -9.0000,-999.0000,   1.3917,   -9.00
  316N145_7,       I08N,     289,          1,          6,          6,2,19950312,       0527,     4.0003,    80.0035,       4325,  3339.8,   1.5170,  34.7247,2,  34.7245,2,    153.0,2,   153.3,2,  145.37,2,   35.06,2,    0.00,2,    2.44,2,-999.000,9,-999.000,9,  -999.0,9,  -999.0,9,  -9.0000,9,-999.0000,9, -999.00,9, -999.00,9,  -999.0,9,  -999.0,-999.000,9,-999.000,-999.000,9,  -9.0000,-999.0000,   1.2664,   -9.00
  316N145_7,       I08N,     289,          1,          5,          5,2,19950312,       0527,     4.0003,    80.0035,       4325,  3544.4,   1.4479,  34.7222,2,  34.7207,2,    159.2,2,   159.4,2,  144.46,2,   34.73,2,    0.00,2,    2.43,2,-999.000,9,-999.000,9,  -999.0,9,  -999.0,9,  -9.0000,9,   1.8910,2,   12.44,2, -999.00,9,  -999.0,9,  -999.0,-999.000,9,-999.000,-999.000,9,  -9.0000,-999.0000,   1.1783,   -9.00
  316N145_7,       I08N,     289,          1,          4,          4,2,19950312,       0527,     4.0003,    80.0035,       4325,  3748.9,   1.4222,  34.7205,2,  34.7188,2,    163.2,2,   164.0,2,  142.69,2,   34.49,2,    0.00,2,    2.41,2,-999.000,9,-999.000,9,  -999.0,9,  -999.0,9,  -9.0000,9,-999.0000,9, -999.00,9, -999.00,9,  -999.0,9,  -999.0,-999.000,9,-999.000,-999.000,9,  -9.0000,-999.0000,   1.1321,   -9.00
  316N145_7,       I08N,     289,          1,          3,          3,2,19950312,       0527,     4.0003,    80.0035,       4325,  3952.5,   1.4118,  34.7202,2,  34.7186,2,    167.3,2,   167.3,2,  141.36,2,   34.45,2,    0.00,2,    2.38,2,-999.000,9,-999.000,9,  -999.0,9,  -999.0,9,  -9.0000,9,   1.8940,2,   11.82,2, -999.00,9,  -999.0,9,  -999.0,-999.000,9,-999.000,-999.000,9,  -9.0000,-999.0000,   1.1003,   -9.00
  316N145_7,       I08N,     289,          1,          2,          2,2,19950312,       0527,     4.0003,    80.0035,       4325,  4156.2,   1.4072,  34.7191,2,  34.7170,3,    169.5,2,   170.0,2,  140.02,2,   34.31,2,    0.00,2,    2.37,2,-999.000,9,-999.000,9,  -999.0,9,  -999.0,9,  -9.0000,9,-999.0000,9, -999.00,9, -999.00,9,  -999.0,9,  -999.0,-999.000,9,-999.000,-999.000,9,  -9.0000,-999.0000,   1.0737,   -9.00
  316N145_7,       I08N,     289,          1,          1,          1,2,19950312,       0527,     4.0003,    80.0035,       4325,  4397.1,   1.4085,  34.7188,2,  34.7168,2,    173.9,2,   174.5,2,  137.61,2,   33.98,2,    0.00,2,    2.35,2,-999.000,9,-999.000,9,  -999.0,9,  -999.0,9,  -9.0000,9,   1.8870,2,   11.91,2, -999.00,9,  -999.0,9,  -999.0,-999.000,9,-999.000,-999.000,9,  -9.0000,-999.0000,   1.0479,   -9.00