BOTTLE,20211124CCHSIORKP
EXPOCODE,SECT_ID,STNNBR,CASTNO,SAMPNO,BTLNBR,BTLNBR_FLAG_W,DATE,TIME,LATITUDE,LONGITUDE,DEPTH,CTDPRS,CTDTMP,CTDSAL,CTDSAL_FLAG_W,SALNTY,SALNTY_FLAG_W,CTDOXY,CTDOXY_FLAG_W,OXYGEN,OXYGEN_FLAG_W,SILCAT,SILCAT_FLAG_W,NITRAT,NITRAT_FLAG_W,NITRIT,NITRIT_FLAG_W,PHSPHT,PHSPHT_FLAG_W,CFC-11,CFC-11_FLAG_W,CFC-12,CFC-12_FLAG_W,TCARBN,TCARBN_FLAG_W,ALKALI,ALKALI_FLAG_W,TRITUM,TRITUM_FLAG_W,HELIUM,HELIUM_FLAG_W,DELHE3,DELHE3_FLAG_W,DELC13,DELC13_FLAG_W,DELC14,DELC14_FLAG_W,C14ERR,NEON,NEON_FLAG_W,NEONER,CCL4,CCL4_FLAG_W,TRITER,HELIER,THETA,DELHER
,,,,,,,,,,,METERS,DBAR,ITS-90,PSS-78,,PSS-78,,UMOL/KG,,UMOL/KG,,UMOL/KG,,UMOL/KG,,UMOL/KG,,UMOL/KG,,PMOL/KG,,PMOL/KG,,UMOL/KG,,UMOL/KG,,TU,,NMOL/KG,,PERCNT,,/MILLE,,/MILLE,,/MILLE,NMOL/KG,,NMOL/KG,PMOL/KG,,TU,NMOL/KG,DEG C,PERCNT
  316N145_7,       I05E,     433,          1,         36,         36,2,19950413,       0626,   -32.1177,   112.1198,       4988,     1.9,  22.6416,  36.0776,2,  36.0797,2,    217.4,2,  -999.0,9,    3.56,2,    0.10,2,    0.00,2,    0.06,2,-999.000,9,-999.000,9,  2032.7,2,  2362.9,2,  -9.0000,9,-999.0000,9, -999.00,9, -999.00,9,  -999.0,9,  -999.0,-999.000,9,-999.000,-999.000,9,  -9.0000,-999.0000,  22.6412,   -9.00
  316N145_7,       I05E,     433,          1,         35,         35,2,19950413,       0626,   -32.1177,   112.1198,       4988,    32.4,  22.4927,  36.0622,2,  36.0613,2,    215.2,2,   219.4,2,    3.54,2,    0.05,2,    0.00,2,    0.06,2,-999.000,9,-999.000,9,  -999.0,9,  -999.0,9,   1.1245,2,   1.7454,2,   -0.77,2, -999.00,9,  -999.0,9,  -999.0,   6.967,2,   0.035,-999.000,9,   0.0043,   0.0087,  22.4861,    0.14
  316N145_7,       I05E,     433,          1,         34,         34,2,19950413,       0626,   -32.1177,   112.1198,       4988,    57.9,  19.8293,  35.9686,2,  35.9739,2,    226.5,2,   231.2,2,    3.09,2,    0.05,2,    0.00,2,    0.10,2,-999.000,9,-999.000,9,  -999.0,9,  -999.0,9,   1.0530,2,   1.7313,2,   -0.90,2, -999.00,9,  -999.0,9,  -999.0,   6.998,2,   0.035,-999.000,9,   0.0042,   0.0087,  19.8187,    0.14
  316N145_7,       I05E,     433,          1,         33,         33,2,19950413,       0626,   -32.1177,   112.1198,       4988,    97.8,  16.3607,  35.7250,2,  35.7185,2,    244.2,2,   239.5,2,    2.42,2,    0.12,2,    0.08,2,    0.20,2,-999.000,9,-999.000,9,  -999.0,9,  -999.0,9,  -9.0000,9,-999.0000,9, -999.00,9, -999.00,9,  -999.0,9,  -999.0,-999.000,9,-999.000,-999.000,9,  -9.0000,-999.0000,  16.3450,   -9.00
  316N145_7,       I05E,     433,          1,         32,         32,2,19950413,       0626,   -32.1177,   112.1198,       4988,   148.3,  14.1896,  35.4387,2,  35.4233,2,    237.5,2,   235.9,2,    2.40,2,    3.52,2,    0.02,2,    0.41,2,-999.000,9,-999.000,9,  -999.0,9,  -999.0,9,   0.7814,2,   1.7826,2,   -0.99,2, -999.00,9,  -999.0,9,  -999.0,   7.372,2,   0.037,-999.000,9,   0.0037,   0.0089,  14.1680,    0.14
  316N145_7,       I05E,     433,          1,         31,         31,2,19950413,       0626,   -32.1177,   112.1198,       4988,   198.3,  12.4442,  35.1583,2,  35.1545,2,    239.0,2,   240.8,2,    2.60,2,    6.56,2,    0.01,2,    0.60,2,-999.000,9,-999.000,9,  -999.0,9,  -999.0,9,   0.7151,2,   1.7601,2,   -1.19,2, -999.00,9,  -999.0,9,  -999.0,   7.352,2,   0.037,-999.000,9,   0.0033,   0.0088,  12.4177,    0.14
  316N145_7,       I05E,     433,          1,         30,         30,2,19950413,       0626,   -32.1177,   112.1198,       4988,   267.2,  11.1043,  34.9564,2,  34.9525,2,    240.4,2,   242.1,2,    3.24,2,    9.97,2,    0.01,2,    0.79,2,-999.000,9,-999.000,9,  -999.0,9,  -999.0,9,   0.6094,2,   1.7629,2,   -0.54,2, -999.00,9,  -999.0,9,  -999.0,   7.430,2,   0.037,-999.000,9,   0.0031,   0.0088,  11.0711,    0.14
  316N145_7,       I05E,     433,          1,         29,         29,2,19950413,       0626,   -32.1177,   112.1198,       4988,   338.3,  10.0358,  34.7876,2,  34.7849,2,    242.9,2,   244.7,2,    4.30,2,   12.95,2,    0.00,2,    0.97,2,-999.000,9,-999.000,9,  -999.0,9,  -999.0,9,   0.5380,2,   1.7560,2,   -0.49,2, -999.00,9,  -999.0,9,  -999.0,   7.429,2,   0.037,-999.000,9,   0.0030,   0.0088,   9.9963,    0.14
  316N145_7,       I05E,     433,          1,         28,         28,2,19950413,       0626,   -32.1177,   112.1198,       4988,   408.1,   9.5505,  34.7146,2,  34.7131,2,    243.2,2,   244.7,2,    4.94,2,   14.74,2,    0.00,2,    1.08,2,-999.000,9,-999.000,9,  -999.0,9,  -999.0,9,   0.5005,2,   1.7715,2,   -0.72,2, -999.00,9,  -999.0,9,  -999.0,   7.477,2,   0.037,-999.000,9,   0.0029,   0.0089,   9.5041,    0.14
  316N145_7,       I05E,     433,          1,         27,         27,2,19950413,       0626,   -32.1177,   112.1198,       4988,   508.5,   9.0519,  34.6457,2,  34.6447,2,    238.2,2,   223.3,4,    6.23,2,   17.19,2,    0.00,2,    1.23,2,-999.000,9,-999.000,9,  -999.0,9,  -999.0,9,   0.4382,2,   1.7894,2,    0.00,2, -999.00,9,  -999.0,9,  -999.0,   7.572,2,   0.038,-999.000,9,   0.0028,   0.0089,   8.9957,    0.14
  316N145_7,       I05E,     433,          1,         26,         26,2,19950413,       0626,   -32.1177,   112.1198,       4988,   608.5,   8.2037,  34.5524,2,  34.5508,2,    224.7,2,   220.4,2,    9.69,2,   20.96,2,    0.00,2,    1.46,2,-999.000,9,-999.000,9,  -999.0,9,  -999.0,9,  -9.0000,9,-999.0000,9, -999.00,9, -999.00,9,  -999.0,9,  -999.0,-999.000,9,-999.000,-999.000,9,  -9.0000,-999.0000,   8.1400,   -9.00
  316N145_7,       I05E,     433,          1,         25,         25,2,19950413,       0626,   -32.1177,   112.1198,       4988,   710.1,   6.8174,  34.4655,2,  34.4634,2,    199.9,2,   196.9,2,   19.23,2,   26.09,2,    0.00,2,    1.79,2,-999.000,9,-999.000,9,  -999.0,9,  -999.0,9,   0.1546,2,   1.7990,2,    2.34,2, -999.00,9,  -999.0,9,  -999.0,   7.696,2,   0.038,-999.000,9,   0.0024,   0.0090,   6.7500,    0.14
  316N145_7,       I05E,     433,          1,         24,         24,2,19950413,       0626,   -32.1177,   112.1198,       4988,   811.1,   5.2844,  34.3937,2,  34.3951,2,    196.0,2,   194.9,2,   30.30,2,   29.49,2,    0.00,2,    2.03,2,-999.000,9,-999.000,9,  -999.0,9,  -999.0,9,   0.0844,2,   1.8133,2,    3.76,2, -999.00,9,  -999.0,9,  -999.0,   7.807,2,   0.039,-999.000,9,   0.0023,   0.0091,   5.2163,    0.14
  316N145_7,       I05E,     433,          1,         23,         23,2,19950413,       0626,   -32.1177,   112.1198,       4988,   911.6,   4.3490,  34.3945,2,  34.3949,2,    189.3,2,   186.4,2,   43.10,2,   31.79,2,    0.00,2,    2.21,2,-999.000,9,-999.000,9,  -999.0,9,  -999.0,9,  -9.0000,9,-999.0000,9, -999.00,9, -999.00,9,  -999.0,9,  -999.0,-999.000,9,-999.000,-999.000,9,  -9.0000,-999.0000,   4.2784,   -9.00
  316N145_7,       I05E,     433,          1,         22,         22,2,19950413,       0626,   -32.1177,   112.1198,       4988,  1013.1,   3.9685,  34.4505,2,  34.4480,2,    169.9,2,   167.3,2,   58.30,2,   33.60,2,    0.00,2,    2.35,2,-999.000,9,-999.000,9,  -999.0,9,  -999.0,9,   0.0245,2,   1.8814,2,    7.30,2, -999.00,9,  -999.0,9,  -999.0,   8.072,2,   0.040,-999.000,9,   0.0022,   0.0094,   3.8920,    0.14
  316N145_7,       I05E,     433,          1,         21,         21,2,19950413,       0626,   -32.1177,   112.1198,       4988,  1163.9,   3.5837,  34.5202,2,  34.5181,2,    150.4,2,   151.7,2,   73.29,2,   34.84,2,    0.00,2,    2.46,2,-999.000,9,-999.000,9,  -999.0,9,  -999.0,9,   0.0093,2,   1.8802,2,    9.30,2, -999.00,9,  -999.0,9,  -999.0,   8.037,2,   0.040,-999.000,9,   0.0022,   0.0094,   3.4979,    0.14
  316N145_7,       I05E,     433,          1,         20,         20,2,19950413,       0626,   -32.1177,   112.1198,       4988,  1315.1,   3.2784,  34.5628,2,  34.5621,2,    149.9,2,   149.7,2,   80.45,2,   34.99,2,    0.00,2,    2.47,2,-999.000,9,-999.000,9,  -999.0,9,  -999.0,9,  -9.0000,9,-999.0000,9, -999.00,9, -999.00,9,  -999.0,9,  -999.0,-999.000,9,-999.000,-999.000,9,  -9.0000,-999.0000,   3.1829,   -9.00
  316N145_7,       I05E,     433,          1,         19,         19,2,19950413,       0626,   -32.1177,   112.1198,       4988,  1466.2,   2.9989,  34.6017,2,  34.6014,2,    151.3,2,   152.0,2,   85.22,2,   34.80,2,    0.00,2,    2.45,2,-999.000,9,-999.000,9,  -999.0,9,  -999.0,9,   0.0012,2,   1.8996,2,   10.76,2, -999.00,9,  -999.0,9,  -999.0,   8.118,2,   0.041,-999.000,9,   0.0022,   0.0095,   2.8938,    0.14
  316N145_7,       I05E,     433,          1,         18,         18,2,19950413,       0626,   -32.1177,   112.1198,       4988,  1616.1,   2.7658,  34.6454,2,  34.6455,2,    154.5,2,   154.8,2,   91.09,2,   34.32,2,    0.00,2,    2.42,2,-999.000,9,-999.000,9,  -999.0,9,  -999.0,9,  -9.0000,9,-999.0000,9, -999.00,9, -999.00,9,  -999.0,9,  -999.0,-999.000,9,-999.000,-999.000,9,  -9.0000,-999.0000,   2.6509,   -9.00
  316N145_7,       I05E,     433,          1,         17,         17,2,19950413,       0626,   -32.1177,   112.1198,       4988,  1766.4,   2.5972,  34.6782,2,  34.6770,2,    155.9,2,   156.5,2,   96.97,2,   34.09,2,    0.00,2,    2.40,2,-999.000,9,-999.000,9,  -999.0,9,  -999.0,9,  -0.0017,2,   1.8894,2,   12.23,2, -999.00,9,  -999.0,9,  -999.0,   8.086,2,   0.040,-999.000,9,   0.0022,   0.0094,   2.4717,    0.14
  316N145_7,       I05E,     433,          1,         16,         16,2,19950413,       0626,   -32.1177,   112.1198,       4988,  1916.4,   2.4235,  34.7014,2,  34.7005,2,    159.5,2,   159.5,2,  103.30,2,   33.85,2,    0.00,2,    2.38,2,-999.000,9,-999.000,9,  -999.0,9,  -999.0,9,  -0.0012,2,   1.8381,2,   12.87,2, -999.00,9,  -999.0,9,  -999.0,   7.861,2,   0.039,-999.000,9,   0.0022,   0.0092,   2.2877,    0.14
  316N145_7,       I05E,     433,          1,         15,         15,2,19950413,       0626,   -32.1177,   112.1198,       4988,  2112.2,   2.2404,  34.7172,2,  34.7164,2,    162.6,2,   163.9,2,  107.23,2,   33.52,2,    0.00,2,    2.36,2,-999.000,9,-999.000,9,  -999.0,9,  -999.0,9,  -9.0000,9,-999.0000,9, -999.00,9, -999.00,9,  -999.0,9,  -999.0,-999.000,9,-999.000,-999.000,9,  -9.0000,-999.0000,   2.0904,   -9.00
  316N145_7,       I05E,     433,          1,         14,         14,2,19950413,       0626,   -32.1177,   112.1198,       4988,  2313.1,   2.0836,  34.7244,2,  34.7239,2,    167.2,2,   166.9,2,  111.38,2,   33.43,2,    0.00,2,    2.35,2,-999.000,9,-999.000,9,  -999.0,9,  -999.0,9,  -9.0000,9,-999.0000,9, -999.00,9, -999.00,9,  -999.0,9,  -999.0,-999.000,9,-999.000,-999.000,9,  -9.0000,-999.0000,   1.9184,   -9.00
  316N145_7,       I05E,     433,          1,         13,         13,2,19950413,       0626,   -32.1177,   112.1198,       4988,  2514.5,   1.9528,  34.7278,2,  34.7272,2,    172.2,2,   171.1,2,  113.33,2,   33.24,2,    0.00,2,    2.33,2,-999.000,9,-999.000,9,  -999.0,9,  -999.0,9,  -9.0000,9,-999.0000,9, -999.00,9, -999.00,9,  -999.0,9,  -999.0,-999.000,9,-999.000,-999.000,9,  -9.0000,-999.0000,   1.7717,   -9.00
  316N145_7,       I05E,     433,          1,         12,         12,2,19950413,       0626,   -32.1177,   112.1198,       4988,  2716.4,   1.8463,  34.7287,2,  34.7294,2,    175.4,2,   174.6,2,  115.51,2,   33.05,2,    0.00,2,    2.32,2,-999.000,9,-999.000,9,  -999.0,9,  -999.0,9,  -9.0000,9,-999.0000,9, -999.00,9, -999.00,9,  -999.0,9,  -999.0,-999.000,9,-999.000,-999.000,9,  -9.0000,-999.0000,   1.6487,   -9.00
  316N145_7,       I05E,     433,          1,         11,         11,2,19950413,       0626,   -32.1177,   112.1198,       4988,  2918.2,   1.7170,  34.7288,2,  34.7288,2,    179.2,2,   179.0,2,  117.47,2,   32.91,2,    0.00,2,    2.30,2,-999.000,9,-999.000,9,  -999.0,9,  -999.0,9,  -9.0000,9,-999.0000,9, -999.00,9, -999.00,9,  -999.0,9,  -999.0,-999.000,9,-999.000,-999.000,9,  -9.0000,-999.0000,   1.5030,   -9.00
  316N145_7,       I05E,     433,          1,         10,         10,2,19950413,       0626,   -32.1177,   112.1198,       4988,  3128.8,   1.6065,  34.7275,2,  34.7270,2,    182.6,2,   183.0,2,  118.54,2,   32.83,2,    0.00,2,    2.29,2,-999.000,9,-999.000,9,  -999.0,9,  -999.0,9,  -9.0000,9,-999.0000,9, -999.00,9, -999.00,9,  -999.0,9,  -999.0,-999.000,9,-999.000,-999.000,9,  -9.0000,-999.0000,   1.3747,   -9.00
  316N145_7,       I05E,     433,          1,          9,          9,2,19950413,       0626,   -32.1177,   112.1198,       4988,  3336.3,   1.4943,  34.7262,2,  34.7248,2,    186.1,2,   186.5,2,  120.72,2,   32.74,2,    0.00,2,    2.28,2,-999.000,9,-999.000,9,  -999.0,9,  -999.0,9,  -9.0000,9,-999.0000,9, -999.00,9, -999.00,9,  -999.0,9,  -999.0,-999.000,9,-999.000,-999.000,9,  -9.0000,-999.0000,   1.2446,   -9.00
  316N145_7,       I05E,     433,          1,          8,          8,2,19950413,       0626,   -32.1177,   112.1198,       4988,  3542.3,   1.4023,  34.7255,2,  34.7244,2,    191.6,2,   191.5,2,  120.02,2,   32.40,2,    0.00,2,    2.26,2,-999.000,9,-999.000,9,  -999.0,9,  -999.0,9,  -9.0000,9,-999.0000,9, -999.00,9, -999.00,9,  -999.0,9,  -999.0,-999.000,9,-999.000,-999.000,9,  -9.0000,-999.0000,   1.1341,   -9.00
  316N145_7,       I05E,     433,          1,          7,          7,2,19950413,       0626,   -32.1177,   112.1198,       4988,  3747.1,   1.3143,  34.7208,2,  34.7200,2,    191.9,2,   191.2,2,  123.98,2,   32.66,2,    0.00,2,    2.28,2,-999.000,9,-999.000,9,  -999.0,9,  -999.0,9,  -9.0000,9,-999.0000,9, -999.00,9, -999.00,9,  -999.0,9,  -999.0,-999.000,9,-999.000,-999.000,9,  -9.0000,-999.0000,   1.0272,   -9.00
  316N145_7,       I05E,     433,          1,          6,          6,2,19950413,       0626,   -32.1177,   112.1198,       4988,  3950.8,   1.2610,  34.7187,2,  34.7177,2,    192.9,2,   192.9,2,  125.06,2,   32.76,2,    0.00,2,    2.28,2,-999.000,9,-999.000,9,  -999.0,9,  -999.0,9,  -9.0000,9,-999.0000,9, -999.00,9, -999.00,9,  -999.0,9,  -999.0,-999.000,9,-999.000,-999.000,9,  -9.0000,-999.0000,   0.9539,   -9.00
  316N145_7,       I05E,     433,          1,          5,          5,2,19950413,       0626,   -32.1177,   112.1198,       4988,  4155.0,   1.2208,  34.7176,2,  34.7165,2,    194.7,2,   195.3,2,  125.03,2,   32.67,2,    0.00,2,    2.27,2,-999.000,9,-999.000,9,  -999.0,9,  -999.0,9,  -9.0000,9,-999.0000,9, -999.00,9, -999.00,9,  -999.0,9,  -999.0,-999.000,9,-999.000,-999.000,9,  -9.0000,-999.0000,   0.8928,   -9.00
  316N145_7,       I05E,     433,          1,          4,          4,2,19950413,       0626,   -32.1177,   112.1198,       4988,  4359.8,   1.1911,  34.7156,2,  34.7149,2,    196.2,2,   196.6,2,  125.88,2,   32.68,2,    0.00,2,    2.27,2,-999.000,9,   0.001,2,  -999.0,9,  -999.0,9,  -9.0000,9,-999.0000,9, -999.00,9, -999.00,9,  -999.0,9,  -999.0,-999.000,9,-999.000,   0.014,2,  -9.0000,-999.0000,   0.8413,   -9.00
  316N145_7,       I05E,     433,          1,          3,          3,2,19950413,       0626,   -32.1177,   112.1198,       4988,  4615.8,   1.1456,  34.7142,2,  34.7127,2,    200.3,2,   200.7,2,  124.96,2,   32.49,2,    0.00,2,    2.25,2,-999.000,9,  -0.001,2,  -999.0,9,  -999.0,9,  -9.0000,9,-999.0000,9, -999.00,9, -999.00,9,  -999.0,9,  -999.0,-999.000,9,-999.000,   0.030,2,  -9.0000,-999.0000,   0.7682,   -9.00
  316N145_7,       I05E,     433,          1,          2,          2,2,19950413,       0626,   -32.1177,   112.1198,       4988,  4873.0,   1.0565,  34.7099,2,  34.7090,2,    204.4,2,   205.3,2,  125.15,2,   32.41,2,    0.00,2,    2.24,2,-999.000,9,-999.000,9,  -999.0,9,  -999.0,9,  -9.0000,9,-999.0000,9, -999.00,9, -999.00,9,  -999.0,9,  -999.0,-999.000,9,-999.000,-999.000,9,  -9.0000,-999.0000,   0.6522,   -9.00
  316N145_7,       I05E,     433,          1,          1,          1,2,19950413,       0626,   -32.1177,   112.1198,       4988,  5090.2,   0.9880,  34.7062,2,  34.7056,2,    207.9,2,   208.0,2,  124.89,2,   32.37,2,    0.00,2,    2.23,2,   0.062,3,   0.010,6,  -999.0,9,  -999.0,9,  -9.0000,9,-999.0000,9, -999.00,9, -999.00,9,  -999.0,9,  -999.0,-999.000,9,-999.000,   0.130,6,  -9.0000,-999.0000,   0.5602,   -9.00