BOTTLE,20211124CCHSIORKP
EXPOCODE,SECT_ID,STNNBR,CASTNO,SAMPNO,BTLNBR,BTLNBR_FLAG_W,DATE,TIME,LATITUDE,LONGITUDE,DEPTH,CTDPRS,CTDTMP,CTDSAL,CTDSAL_FLAG_W,SALNTY,SALNTY_FLAG_W,CTDOXY,CTDOXY_FLAG_W,OXYGEN,OXYGEN_FLAG_W,SILCAT,SILCAT_FLAG_W,NITRAT,NITRAT_FLAG_W,NITRIT,NITRIT_FLAG_W,PHSPHT,PHSPHT_FLAG_W,CFC-11,CFC-11_FLAG_W,CFC-12,CFC-12_FLAG_W,TCARBN,TCARBN_FLAG_W,ALKALI,ALKALI_FLAG_W,TRITUM,TRITUM_FLAG_W,HELIUM,HELIUM_FLAG_W,DELHE3,DELHE3_FLAG_W,DELC13,DELC13_FLAG_W,DELC14,DELC14_FLAG_W,C14ERR,NEON,NEON_FLAG_W,NEONER,CCL4,CCL4_FLAG_W,TRITER,HELIER,THETA,DELHER
,,,,,,,,,,,METERS,DBAR,ITS-90,PSS-78,,PSS-78,,UMOL/KG,,UMOL/KG,,UMOL/KG,,UMOL/KG,,UMOL/KG,,UMOL/KG,,PMOL/KG,,PMOL/KG,,UMOL/KG,,UMOL/KG,,TU,,NMOL/KG,,PERCNT,,/MILLE,,/MILLE,,/MILLE,NMOL/KG,,NMOL/KG,PMOL/KG,,TU,NMOL/KG,DEG C,PERCNT
  316N145_7,      TRANS,     373,          1,         30,         30,2,19950330,       1714,   -28.9998,    88.5002,       3157,     2.6,  24.4123,  35.9245,2,  35.9245,2,    212.3,2,   213.3,2,    2.95,2,    0.20,2,    0.00,2,    0.10,2,-999.000,9,-999.000,9,  -999.0,9,  -999.0,9,  -9.0000,9,-999.0000,9, -999.00,9, -999.00,9,  -999.0,9,  -999.0,-999.000,9,-999.000,-999.000,9,  -9.0000,-999.0000,  24.4117,   -9.00
  316N145_7,      TRANS,     373,          1,         29,         29,2,19950330,       1714,   -28.9998,    88.5002,       3157,    30.0,  24.4124,  35.9331,2,  35.9334,2,    213.7,2,   213.6,2,    2.93,2,    0.19,2,    0.00,2,    0.10,2,-999.000,9,-999.000,9,  -999.0,9,  -999.0,9,  -9.0000,9,-999.0000,9, -999.00,9, -999.00,9,  -999.0,9,  -999.0,-999.000,9,-999.000,-999.000,9,  -9.0000,-999.0000,  24.4060,   -9.00
  316N145_7,      TRANS,     373,          1,         28,         28,2,19950330,       1714,   -28.9998,    88.5002,       3157,    55.2,  21.3389,  35.9276,2,  35.9229,2,    230.6,2,   236.9,2,    2.68,2,    0.19,2,    0.00,2,    0.12,2,-999.000,9,-999.000,9,  -999.0,9,  -999.0,9,  -9.0000,9,-999.0000,9, -999.00,9, -999.00,9,  -999.0,9,  -999.0,-999.000,9,-999.000,-999.000,9,  -9.0000,-999.0000,  21.3282,   -9.00
  316N145_7,      TRANS,     373,          1,         27,         27,2,19950330,       1714,   -28.9998,    88.5002,       3157,    79.5,  19.1316,  35.8742,2,  35.8691,2,    249.5,2,   247.2,2,    2.44,2,    0.19,2,    0.00,2,    0.14,2,-999.000,9,-999.000,9,  -999.0,9,  -999.0,9,  -9.0000,9,-999.0000,9, -999.00,9, -999.00,9,  -999.0,9,  -999.0,-999.000,9,-999.000,-999.000,9,  -9.0000,-999.0000,  19.1173,   -9.00
  316N145_7,      TRANS,     373,          1,         26,         26,2,19950330,       1714,   -28.9998,    88.5002,       3157,   104.4,  17.7755,  35.8261,2,  35.8265,2,    243.9,2,   243.8,2,    2.20,2,    0.19,2,    0.00,2,    0.16,2,-999.000,9,-999.000,9,  -999.0,9,  -999.0,9,  -9.0000,9,-999.0000,9, -999.00,9, -999.00,9,  -999.0,9,  -999.0,-999.000,9,-999.000,-999.000,9,  -9.0000,-999.0000,  17.7576,   -9.00
  316N145_7,      TRANS,     373,          1,         25,         25,2,19950330,       1714,   -28.9998,    88.5002,       3157,   144.8,  16.0748,  35.6647,2,  35.6631,2,    227.0,2,   231.2,2,    2.17,2,    0.78,2,    0.05,2,    0.27,2,-999.000,9,-999.000,9,  -999.0,9,  -999.0,9,  -9.0000,9,-999.0000,9, -999.00,9, -999.00,9,  -999.0,9,  -999.0,-999.000,9,-999.000,-999.000,9,  -9.0000,-999.0000,  16.0517,   -9.00
  316N145_7,      TRANS,     373,          1,         24,         24,2,19950330,       1714,   -28.9998,    88.5002,       3157,   196.5,  14.5392,  35.4720,2,  35.4721,2,    220.1,2,   220.2,2,    2.99,2,    4.96,2,    0.01,2,    0.49,2,-999.000,9,-999.000,9,  -999.0,9,  -999.0,9,  -9.0000,9,-999.0000,9, -999.00,9, -999.00,9,  -999.0,9,  -999.0,-999.000,9,-999.000,-999.000,9,  -9.0000,-999.0000,  14.5100,   -9.00
  316N145_7,      TRANS,     373,          1,         23,         23,2,19950330,       1714,   -28.9998,    88.5002,       3157,   245.3,  13.4748,  35.3169,2,  35.3158,2,    225.3,2,   227.2,2,    2.96,2,    6.82,2,    0.01,2,    0.59,2,-999.000,9,-999.000,9,  -999.0,9,  -999.0,9,  -9.0000,9,-999.0000,9, -999.00,9, -999.00,9,  -999.0,9,  -999.0,-999.000,9,-999.000,-999.000,9,  -9.0000,-999.0000,  13.4400,   -9.00
  316N145_7,      TRANS,     373,          1,         22,         22,2,19950330,       1714,   -28.9998,    88.5002,       3157,   295.5,  12.6339,  35.1992,2,  35.1944,2,    228.5,2,   230.3,2,    3.36,2,    8.63,2,    0.01,2,    0.69,2,-999.000,9,-999.000,9,  -999.0,9,  -999.0,9,  -9.0000,9,-999.0000,9, -999.00,9, -999.00,9,  -999.0,9,  -999.0,-999.000,9,-999.000,-999.000,9,  -9.0000,-999.0000,  12.5938,   -9.00
  316N145_7,      TRANS,     373,          1,         21,         21,2,19950330,       1714,   -28.9998,    88.5002,       3157,   347.2,  12.0714,  35.1154,2,  35.1130,2,    231.5,2,   233.2,2,    3.54,2,    9.60,2,    0.01,2,    0.75,2,-999.000,9,-999.000,9,  -999.0,9,  -999.0,9,  -9.0000,9,-999.0000,9, -999.00,9, -999.00,9,  -999.0,9,  -999.0,-999.000,9,-999.000,-999.000,9,  -9.0000,-999.0000,  12.0256,   -9.00
  316N145_7,      TRANS,     373,          1,         20,         20,2,19950330,       1714,   -28.9998,    88.5002,       3157,   406.8,  11.4764,  35.0217,2,  35.0144,2,    235.7,2,   235.6,2,    3.93,2,   10.87,2,    0.01,2,    0.83,2,-999.000,9,-999.000,9,  -999.0,9,  -999.0,9,  -9.0000,9,-999.0000,9, -999.00,9, -999.00,9,  -999.0,9,  -999.0,-999.000,9,-999.000,-999.000,9,  -9.0000,-999.0000,  11.4244,   -9.00
  316N145_7,      TRANS,     373,          1,         19,         19,2,19950330,       1714,   -28.9998,    88.5002,       3157,   507.1,  10.4736,  34.8608,2,  34.8581,2,    236.9,2,   237.3,2,    4.75,2,   13.36,2,    0.01,2,    0.97,2,-999.000,9,-999.000,9,  -999.0,9,  -999.0,9,  -9.0000,9,-999.0000,9, -999.00,9, -999.00,9,  -999.0,9,  -999.0,-999.000,9,-999.000,-999.000,9,  -9.0000,-999.0000,  10.4122,   -9.00
  316N145_7,      TRANS,     373,          1,         18,         18,2,19950330,       1714,   -28.9998,    88.5002,       3157,   608.0,   9.6894,  34.7434,2,  34.7433,2,    234.5,2,   234.6,2,    5.57,2,   15.65,2,    0.01,2,    1.11,2,-999.000,9,-999.000,9,  -999.0,9,  -999.0,9,  -9.0000,9,-999.0000,9, -999.00,9, -999.00,9,  -999.0,9,  -999.0,-999.000,9,-999.000,-999.000,9,  -9.0000,-999.0000,   9.6189,   -9.00
  316N145_7,      TRANS,     373,          1,         17,         17,2,19950330,       1714,   -28.9998,    88.5002,       3157,   708.5,   8.7569,  34.6268,2,  34.6244,2,    224.6,2,   222.5,2,    8.30,2,   19.37,2,    0.01,2,    1.35,2,-999.000,9,-999.000,9,  -999.0,9,  -999.0,9,  -9.0000,9,-999.0000,9, -999.00,9, -999.00,9,  -999.0,9,  -999.0,-999.000,9,-999.000,-999.000,9,  -9.0000,-999.0000,   8.6794,   -9.00
  316N145_7,      TRANS,     373,          1,         16,         16,2,19950330,       1714,   -28.9998,    88.5002,       3157,   809.4,   7.4522,  34.5192,2,  34.5179,2,    206.9,2,   205.0,2,   15.48,2,   23.98,2,    0.01,2,    1.65,2,-999.000,9,-999.000,9,  -999.0,9,  -999.0,9,  -9.0000,9,-999.0000,9, -999.00,9, -999.00,9,  -999.0,9,  -999.0,-999.000,9,-999.000,-999.000,9,  -9.0000,-999.0000,   7.3709,   -9.00
  316N145_7,      TRANS,     373,          1,         15,         15,2,19950330,       1714,   -28.9998,    88.5002,       3157,   910.2,   5.8727,  34.4338,2,  34.4358,2,    195.4,2,   193.0,2,   27.53,2,   28.40,2,    0.01,2,    1.95,2,-999.000,9,-999.000,9,  -999.0,9,  -999.0,9,  -9.0000,9,-999.0000,9, -999.00,9, -999.00,9,  -999.0,9,  -999.0,-999.000,9,-999.000,-999.000,9,  -9.0000,-999.0000,   5.7916,   -9.00
  316N145_7,      TRANS,     373,          1,         14,         14,2,19950330,       1714,   -28.9998,    88.5002,       3157,  1011.3,   4.7715,  34.4111,2,  34.4126,2,    185.0,2,   184.6,2,   40.64,2,   31.21,2,    0.01,2,    2.16,2,-999.000,9,-999.000,9,  -999.0,9,  -999.0,9,  -9.0000,9,-999.0000,9, -999.00,9, -999.00,9,  -999.0,9,  -999.0,-999.000,9,-999.000,-999.000,9,  -9.0000,-999.0000,   4.6891,   -9.00
  316N145_7,      TRANS,     373,          1,         13,         13,2,19950330,       1714,   -28.9998,    88.5002,       3157,  1111.5,   4.1713,  34.4506,2,  34.4530,2,    171.0,2,   167.6,2,   55.87,2,   33.23,2,    0.00,2,    2.33,2,-999.000,9,-999.000,9,  -999.0,9,  -999.0,9,  -9.0000,9,-999.0000,9, -999.00,9, -999.00,9,  -999.0,9,  -999.0,-999.000,9,-999.000,-999.000,9,  -9.0000,-999.0000,   4.0849,   -9.00
  316N145_7,      TRANS,     373,          1,         12,         12,2,19950330,       1714,   -28.9998,    88.5002,       3157,  1212.8,   3.8328,  34.4925,2,  34.4938,2,    158.4,2,   157.5,2,   66.02,2,   34.27,2,    0.00,2,    2.41,2,-999.000,9,-999.000,9,  -999.0,9,  -999.0,9,  -9.0000,9,-999.0000,9, -999.00,9, -999.00,9,  -999.0,9,  -999.0,-999.000,9,-999.000,-999.000,9,  -9.0000,-999.0000,   3.7407,   -9.00
  316N145_7,      TRANS,     373,          1,         11,         11,2,19950330,       1714,   -28.9998,    88.5002,       3157,  1414.7,   3.3635,  34.5638,2,  34.5671,2,    151.2,2,   150.0,2,   78.72,2,   34.76,2,    0.00,2,    2.46,2,-999.000,9,-999.000,9,  -999.0,9,  -999.0,9,  -9.0000,9,-999.0000,9, -999.00,9, -999.00,9,  -999.0,9,  -999.0,-999.000,9,-999.000,-999.000,9,  -9.0000,-999.0000,   3.2588,   -9.00
  316N145_7,      TRANS,     373,          1,         10,         10,2,19950330,       1714,   -28.9998,    88.5002,       3157,  1616.7,   2.9470,  34.6358,2,  34.6356,2,    153.3,2,   152.1,2,   88.04,2,   34.46,2,    0.00,2,    2.44,2,-999.000,9,-999.000,9,  -999.0,9,  -999.0,9,  -9.0000,9,-999.0000,9, -999.00,9, -999.00,9,  -999.0,9,  -999.0,-999.000,9,-999.000,-999.000,9,  -9.0000,-999.0000,   2.8298,   -9.00
  316N145_7,      TRANS,     373,          1,          9,          9,2,19950330,       1714,   -28.9998,    88.5002,       3157,  1818.7,   2.6467,  34.6772,2,  34.6788,2,    159.1,2,   158.3,2,   93.97,2,   33.91,2,    0.00,2,    2.39,2,-999.000,9,-999.000,9,  -999.0,9,  -999.0,9,  -9.0000,9,-999.0000,9, -999.00,9, -999.00,9,  -999.0,9,  -999.0,-999.000,9,-999.000,-999.000,9,  -9.0000,-999.0000,   2.5161,   -9.00
  316N145_7,      TRANS,     373,          1,          8,          8,2,19950330,       1714,   -28.9998,    88.5002,       3157,  2021.3,   2.3900,  34.7073,2,  34.7085,2,    163.1,2,   163.6,2,  101.19,2,   33.51,2,    0.00,2,    2.36,2,-999.000,9,-999.000,9,  -999.0,9,  -999.0,9,  -9.0000,9,-999.0000,9, -999.00,9, -999.00,9,  -999.0,9,  -999.0,-999.000,9,-999.000,-999.000,9,  -9.0000,-999.0000,   2.2455,   -9.00
  316N145_7,      TRANS,     373,          1,          7,          7,2,19950330,       1714,   -28.9998,    88.5002,       3157,  2199.9,   2.1741,  34.7193,2,  34.7207,2,    168.7,2,   169.3,2,  104.57,2,   33.11,2,    0.00,2,    2.33,2,-999.000,9,-999.000,9,  -999.0,9,  -999.0,9,  -9.0000,9,-999.0000,9, -999.00,9, -999.00,9,  -999.0,9,  -999.0,-999.000,9,-999.000,-999.000,9,  -9.0000,-999.0000,   2.0174,   -9.00
  316N145_7,      TRANS,     373,          1,          6,          6,2,19950330,       1714,   -28.9998,    88.5002,       3157,  2377.3,   2.0121,  34.7241,2,  34.7253,2,    174.2,2,   175.1,2,  106.45,2,   32.76,2,    0.00,2,    2.30,2,-999.000,9,-999.000,9,  -999.0,9,  -999.0,9,  -9.0000,9,-999.0000,9, -999.00,9, -999.00,9,  -999.0,9,  -999.0,-999.000,9,-999.000,-999.000,9,  -9.0000,-999.0000,   1.8424,   -9.00
  316N145_7,      TRANS,     373,          1,          5,          5,2,19950330,       1714,   -28.9998,    88.5002,       3157,  2554.9,   1.8474,  34.7277,2,  34.7291,2,    179.7,2,   180.3,2,  107.91,2,   32.41,2,    0.00,2,    2.27,2,-999.000,9,-999.000,9,  -999.0,9,  -999.0,9,  -9.0000,9,-999.0000,9, -999.00,9, -999.00,9,  -999.0,9,  -999.0,-999.000,9,-999.000,-999.000,9,  -9.0000,-999.0000,   1.6647,   -9.00
  316N145_7,      TRANS,     373,          1,          4,          4,2,19950330,       1714,   -28.9998,    88.5002,       3157,  2731.5,   1.7256,  34.7284,2,  34.7296,2,    183.8,2,   183.7,2,  110.22,2,   32.41,2,    0.00,2,    2.27,2,-999.000,9,-999.000,9,  -999.0,9,  -999.0,9,  -9.0000,9,-999.0000,9, -999.00,9, -999.00,9,  -999.0,9,  -999.0,-999.000,9,-999.000,-999.000,9,  -9.0000,-999.0000,   1.5290,   -9.00
  316N145_7,      TRANS,     373,          1,          3,          3,2,19950330,       1714,   -28.9998,    88.5002,       3157,  2910.3,   1.5902,  34.7269,2,  34.7278,2,    186.0,2,   185.9,2,  114.05,2,   32.51,2,    0.00,2,    2.28,2,-999.000,9,-999.000,9,  -999.0,9,  -999.0,9,  -9.0000,9,-999.0000,9, -999.00,9, -999.00,9,  -999.0,9,  -999.0,-999.000,9,-999.000,-999.000,9,  -9.0000,-999.0000,   1.3797,   -9.00
  316N145_7,      TRANS,     373,          1,          2,          2,2,19950330,       1714,   -28.9998,    88.5002,       3157,  3086.6,   1.5003,  34.7252,2,  34.7261,2,    187.1,2,   187.4,2,  116.37,2,   32.55,2,    0.00,2,    2.28,2,-999.000,9,-999.000,9,  -999.0,9,  -999.0,9,  -9.0000,9,-999.0000,9, -999.00,9, -999.00,9,  -999.0,9,  -999.0,-999.000,9,-999.000,-999.000,9,  -9.0000,-999.0000,   1.2750,   -9.00
  316N145_7,      TRANS,     373,          1,          1,          1,2,19950330,       1714,   -28.9998,    88.5002,       3157,  3197.5,   1.4642,  34.7241,2,  34.7259,2,    189.0,2,   188.3,2,  116.96,2,   32.60,2,    0.00,2,    2.28,2,-999.000,9,-999.000,9,  -999.0,9,  -999.0,9,  -9.0000,9,-999.0000,9, -999.00,9, -999.00,9,  -999.0,9,  -999.0,-999.000,9,-999.000,-999.000,9,  -9.0000,-999.0000,   1.2289,   -9.00