BOTTLE,20211124CCHSIORKP
EXPOCODE,SECT_ID,STNNBR,CASTNO,SAMPNO,BTLNBR,BTLNBR_FLAG_W,DATE,TIME,LATITUDE,LONGITUDE,DEPTH,CTDPRS,CTDTMP,CTDSAL,CTDSAL_FLAG_W,SALNTY,SALNTY_FLAG_W,CTDOXY,CTDOXY_FLAG_W,OXYGEN,OXYGEN_FLAG_W,SILCAT,SILCAT_FLAG_W,NITRAT,NITRAT_FLAG_W,NITRIT,NITRIT_FLAG_W,PHSPHT,PHSPHT_FLAG_W,CFC-11,CFC-11_FLAG_W,CFC-12,CFC-12_FLAG_W,TCARBN,TCARBN_FLAG_W,ALKALI,ALKALI_FLAG_W,TRITUM,TRITUM_FLAG_W,HELIUM,HELIUM_FLAG_W,DELHE3,DELHE3_FLAG_W,DELC13,DELC13_FLAG_W,DELC14,DELC14_FLAG_W,C14ERR,NEON,NEON_FLAG_W,NEONER,CCL4,CCL4_FLAG_W,TRITER,HELIER,THETA,DELHER
,,,,,,,,,,,METERS,DBAR,ITS-90,PSS-78,,PSS-78,,UMOL/KG,,UMOL/KG,,UMOL/KG,,UMOL/KG,,UMOL/KG,,UMOL/KG,,PMOL/KG,,PMOL/KG,,UMOL/KG,,UMOL/KG,,TU,,NMOL/KG,,PERCNT,,/MILLE,,/MILLE,,/MILLE,NMOL/KG,,NMOL/KG,PMOL/KG,,TU,NMOL/KG,DEG C,PERCNT
  316N145_7,       I08N,     335,          1,         36,         36,2,19950322,       0806,   -14.4990,    80.0002,       4995,     2.2,  28.5463,  34.5450,2,  34.5445,2,    196.0,2,   198.3,2,    2.77,2,    0.19,2,    0.00,2,    0.10,2,-999.000,9,-999.000,9,  1925.4,2,  2267.1,2,  -9.0000,9,-999.0000,9, -999.00,9, -999.00,9,  -999.0,9,  -999.0,-999.000,9,-999.000,-999.000,9,  -9.0000,-999.0000,  28.5458,   -9.00
  316N145_7,       I08N,     335,          1,         35,         35,2,19950322,       0806,   -14.4990,    80.0002,       4995,    41.0,  28.4401,  34.6977,2,  34.6959,2,    199.7,2,   200.7,2,    2.76,2,    0.19,2,    0.00,2,    0.10,2,-999.000,9,-999.000,9,  -999.0,9,  -999.0,9,  -9.0000,9,-999.0000,9, -999.00,9, -999.00,9,  -999.0,9,  -999.0,-999.000,9,-999.000,-999.000,9,  -9.0000,-999.0000,  28.4304,   -9.00
  316N145_7,       I08N,     335,          1,         34,         34,2,19950322,       0806,   -14.4990,    80.0002,       4995,    77.4,  24.9055,  35.0950,2,  35.0897,2,    229.7,2,   217.8,2,    2.95,2,    0.19,2,    0.00,2,    0.12,2,-999.000,9,-999.000,9,  -999.0,9,  -999.0,9,  -9.0000,9,-999.0000,9, -999.00,9, -999.00,9,  -999.0,9,  -999.0,-999.000,9,-999.000,-999.000,9,  -9.0000,-999.0000,  24.8887,   -9.00
  316N145_7,       I08N,     335,          1,         33,         33,2,19950322,       0806,   -14.4990,    80.0002,       4995,   117.3,  22.1771,  35.2438,2,  35.2319,2,    204.7,2,   198.3,2,    3.76,2,    0.52,2,    0.10,2,    0.21,2,-999.000,9,-999.000,9,  -999.0,9,  -999.0,9,  -9.0000,9,-999.0000,9, -999.00,9, -999.00,9,  -999.0,9,  -999.0,-999.000,9,-999.000,-999.000,9,  -9.0000,-999.0000,  22.1537,   -9.00
  316N145_7,       I08N,     335,          1,         32,         32,2,19950322,       0806,   -14.4990,    80.0002,       4995,   163.3,  20.9057,  35.5280,2,  35.5261,2,    208.1,2,   198.6,2,    3.95,2,    1.61,2,    0.24,2,    0.26,2,-999.000,9,-999.000,9,  -999.0,9,  -999.0,9,  -9.0000,9,-999.0000,9, -999.00,9, -999.00,9,  -999.0,9,  -999.0,-999.000,9,-999.000,-999.000,9,  -9.0000,-999.0000,  20.8745,   -9.00
  316N145_7,       I08N,     335,          1,         31,         31,2,19950322,       0806,   -14.4990,    80.0002,       4995,   207.9,  19.3425,  35.7814,2,  35.7777,2,    212.4,2,   202.4,2,    3.73,2,    2.12,2,    0.01,2,    0.28,2,-999.000,9,-999.000,9,  -999.0,9,  -999.0,9,  -9.0000,9,-999.0000,9, -999.00,9, -999.00,9,  -999.0,9,  -999.0,-999.000,9,-999.000,-999.000,9,  -9.0000,-999.0000,  19.3048,   -9.00
  316N145_7,       I08N,     335,          1,         30,         30,2,19950322,       0806,   -14.4990,    80.0002,       4995,   258.5,  16.9687,  35.6762,2,  35.6756,2,    192.7,2,   193.6,2,    5.16,2,    4.63,2,    0.01,2,    0.46,2,-999.000,9,-999.000,9,  -999.0,9,  -999.0,9,  -9.0000,9,-999.0000,9, -999.00,9, -999.00,9,  -999.0,9,  -999.0,-999.000,9,-999.000,-999.000,9,  -9.0000,-999.0000,  16.9258,   -9.00
  316N145_7,       I08N,     335,          1,         29,         29,2,19950322,       0806,   -14.4990,    80.0002,       4995,   309.2,  14.0998,  35.3464,2,  35.3622,2,    197.6,2,   191.7,2,    8.22,2,    9.17,2,    0.01,2,    0.74,2,-999.000,9,-999.000,9,  -999.0,9,  -999.0,9,  -9.0000,9,-999.0000,9, -999.00,9, -999.00,9,  -999.0,9,  -999.0,-999.000,9,-999.000,-999.000,9,  -9.0000,-999.0000,  14.0546,   -9.00
  316N145_7,       I08N,     335,          1,         28,         28,2,19950322,       0806,   -14.4990,    80.0002,       4995,   367.1,  11.7135,  35.0259,2,  35.0401,2,    203.0,2,   203.4,2,    9.23,2,   13.01,2,    0.01,2,    0.97,2,-999.000,9,-999.000,9,  -999.0,9,  -999.0,9,  -9.0000,9,-999.0000,9, -999.00,9, -999.00,9,  -999.0,9,  -999.0,-999.000,9,-999.000,-999.000,9,  -9.0000,-999.0000,  11.6660,   -9.00
  316N145_7,       I08N,     335,          1,         27,         27,2,19950322,       0806,   -14.4990,    80.0002,       4995,   437.9,  10.2276,  34.8299,2,  34.8276,2,    203.5,2,   206.9,2,   10.25,2,   16.43,2,    0.01,2,    1.17,2,-999.000,9,-999.000,9,  -999.0,9,  -999.0,9,  -9.0000,9,-999.0000,9, -999.00,9, -999.00,9,  -999.0,9,  -999.0,-999.000,9,-999.000,-999.000,9,  -9.0000,-999.0000,  10.1755,   -9.00
  316N145_7,       I08N,     335,          1,         26,         26,2,19950322,       0806,   -14.4990,    80.0002,       4995,   518.0,   8.7914,  34.6679,2,  34.6668,2,    182.1,2,   187.2,2,   16.60,2,   22.00,2,    0.01,2,    1.51,2,-999.000,9,-999.000,9,  -999.0,9,  -999.0,9,  -9.0000,9,-999.0000,9, -999.00,9, -999.00,9,  -999.0,9,  -999.0,-999.000,9,-999.000,-999.000,9,  -9.0000,-999.0000,   8.7352,   -9.00
  316N145_7,       I08N,     335,          1,         25,         25,2,19950322,       0806,   -14.4990,    80.0002,       4995,   608.6,   7.7459,  34.6565,2,  34.6550,2,    130.9,2,   131.5,2,   38.33,2,   29.50,2,    0.01,2,    2.04,2,-999.000,9,-999.000,9,  -999.0,9,  -999.0,9,  -9.0000,9,-999.0000,9, -999.00,9, -999.00,9,  -999.0,9,  -999.0,-999.000,9,-999.000,-999.000,9,  -9.0000,-999.0000,   7.6841,   -9.00
  316N145_7,       I08N,     335,          1,         24,         24,2,19950322,       0806,   -14.4990,    80.0002,       4995,   710.1,   6.9744,  34.6815,2,  34.6821,2,    100.6,2,    99.8,2,   59.06,2,   33.59,2,    0.01,2,    2.38,2,-999.000,9,-999.000,9,  -999.0,9,  -999.0,9,  -9.0000,9,-999.0000,9, -999.00,9, -999.00,9,  -999.0,9,  -999.0,-999.000,9,-999.000,-999.000,9,  -9.0000,-999.0000,   6.9059,   -9.00
  316N145_7,       I08N,     335,          1,         23,         23,2,19950322,       0806,   -14.4990,    80.0002,       4995,   810.5,   6.3461,  34.6925,2,  34.6921,2,     88.5,2,    90.7,2,   71.81,2,   35.19,2,    0.01,2,    2.52,2,-999.000,9,-999.000,9,  -999.0,9,  -999.0,9,  -9.0000,9,-999.0000,9, -999.00,9, -999.00,9,  -999.0,9,  -999.0,-999.000,9,-999.000,-999.000,9,  -9.0000,-999.0000,   6.2712,   -9.00
  316N145_7,       I08N,     335,          1,         22,         22,2,19950322,       0806,   -14.4990,    80.0002,       4995,   936.5,   5.7415,  34.6926,2,  34.6912,2,     86.2,2,    86.4,2,   84.17,2,   36.16,2,    0.01,2,    2.61,2,-999.000,9,-999.000,9,  -999.0,9,  -999.0,9,  -9.0000,9,-999.0000,9, -999.00,9, -999.00,9,  -999.0,9,  -999.0,-999.000,9,-999.000,-999.000,9,  -9.0000,-999.0000,   5.6584,   -9.00
  316N145_7,       I08N,     335,          1,         21,         21,2,19950322,       0806,   -14.4990,    80.0002,       4995,  1061.6,   5.1928,  34.6857,2,  34.6839,2,     89.8,2,    90.1,2,   92.03,2,   36.51,2,    0.00,2,    2.64,2,-999.000,9,-999.000,9,  -999.0,9,  -999.0,9,  -9.0000,9,-999.0000,9, -999.00,9, -999.00,9,  -999.0,9,  -999.0,-999.000,9,-999.000,-999.000,9,  -9.0000,-999.0000,   5.1020,   -9.00
  316N145_7,       I08N,     335,          1,         20,         20,2,19950322,       0806,   -14.4990,    80.0002,       4995,  1211.5,   4.6488,  34.6857,2,  34.6870,2,     95.5,2,    95.8,2,   98.25,2,   36.81,2,    0.00,2,    2.65,2,-999.000,9,-999.000,9,  -999.0,9,  -999.0,9,  -9.0000,9,-999.0000,9, -999.00,9, -999.00,9,  -999.0,9,  -999.0,-999.000,9,-999.000,-999.000,9,  -9.0000,-999.0000,   4.5489,   -9.00
  316N145_7,       I08N,     335,          1,         19,         19,2,19950322,       0806,   -14.4990,    80.0002,       4995,  1365.9,   4.1849,  34.6933,2,  34.6937,2,    103.5,2,   103.2,2,  102.41,2,   36.52,2,    0.00,2,    2.64,2,-999.000,9,-999.000,9,  -999.0,9,  -999.0,9,  -9.0000,9,-999.0000,9, -999.00,9, -999.00,9,  -999.0,9,  -999.0,-999.000,9,-999.000,-999.000,9,  -9.0000,-999.0000,   4.0755,   -9.00
  316N145_7,       I08N,     335,          1,         18,         18,2,19950322,       0806,   -14.4990,    80.0002,       4995,  1515.8,   3.6704,  34.7071,2,  34.7078,2,    116.4,2,   115.8,2,  104.49,2,   36.09,2,    0.00,2,    2.60,2,-999.000,9,-999.000,9,  -999.0,9,  -999.0,9,  -9.0000,9,-999.0000,9, -999.00,9, -999.00,9,  -999.0,9,  -999.0,-999.000,9,-999.000,-999.000,9,  -9.0000,-999.0000,   3.5532,   -9.00
  316N145_7,       I08N,     335,          1,         17,         17,2,19950322,       0806,   -14.4990,    80.0002,       4995,  1717.4,   3.0799,  34.7187,2,  34.7190,2,    128.6,2,   129.4,2,  109.91,2,   35.71,2,    0.00,2,    2.55,2,-999.000,9,-999.000,9,  -999.0,9,  -999.0,9,  -9.0000,9,-999.0000,9, -999.00,9, -999.00,9,  -999.0,9,  -999.0,-999.000,9,-999.000,-999.000,9,  -9.0000,-999.0000,   2.9522,   -9.00
  316N145_7,       I08N,     335,          1,         16,         16,2,19950322,       0806,   -14.4990,    80.0002,       4995,  1920.0,   2.7110,  34.7316,2,  34.7316,2,    139.5,2,   139.2,2,  113.89,2,   35.37,2,    0.00,2,    2.50,2,-999.000,9,-999.000,9,  -999.0,9,  -999.0,9,  -9.0000,9,-999.0000,9, -999.00,9, -999.00,9,  -999.0,9,  -999.0,-999.000,9,-999.000,-999.000,9,  -9.0000,-999.0000,   2.5705,   -9.00
  316N145_7,       I08N,     335,          1,         15,         15,2,19950322,       0806,   -14.4990,    80.0002,       4995,  2124.1,   2.3881,  34.7337,2,  34.7340,2,    149.1,2,   151.0,2,  116.62,2,   34.90,2,    0.00,2,    2.46,2,-999.000,9,-999.000,9,  -999.0,9,  -999.0,9,  -9.0000,9,-999.0000,9, -999.00,9, -999.00,9,  -999.0,9,  -999.0,-999.000,9,-999.000,-999.000,9,  -9.0000,-999.0000,   2.2345,   -9.00
  316N145_7,       I08N,     335,          1,         14,         14,2,19950322,       0806,   -14.4990,    80.0002,       4995,  2327.1,   2.1176,  34.7320,2,  34.7326,2,    158.3,2,   158.4,2,  118.51,2,   34.51,2,    0.00,2,    2.41,2,-999.000,9,-999.000,9,  -999.0,9,  -999.0,9,  -9.0000,9,-999.0000,9, -999.00,9, -999.00,9,  -999.0,9,  -999.0,-999.000,9,-999.000,-999.000,9,  -9.0000,-999.0000,   1.9505,   -9.00
  316N145_7,       I08N,     335,          1,         13,         13,2,19950322,       0806,   -14.4990,    80.0002,       4995,  2530.1,   1.9517,  34.7305,2,  34.7306,2,    164.7,2,   164.6,2,  119.99,2,   34.13,2,    0.00,2,    2.38,2,-999.000,9,-999.000,9,  -999.0,9,  -999.0,9,  -9.0000,9,-999.0000,9, -999.00,9, -999.00,9,  -999.0,9,  -999.0,-999.000,9,-999.000,-999.000,9,  -9.0000,-999.0000,   1.7692,   -9.00
  316N145_7,       I08N,     335,          1,         12,         12,2,19950322,       0806,   -14.4990,    80.0002,       4995,  2732.1,   1.8240,  34.7287,2,  34.7292,2,    169.8,2,   168.8,2,  121.25,2,   33.95,2,    0.00,2,    2.36,2,-999.000,9,-999.000,9,  -999.0,9,  -999.0,9,  -9.0000,9,-999.0000,9, -999.00,9, -999.00,9,  -999.0,9,  -999.0,-999.000,9,-999.000,-999.000,9,  -9.0000,-999.0000,   1.6254,   -9.00
  316N145_7,       I08N,     335,          1,         11,         11,2,19950322,       0806,   -14.4990,    80.0002,       4995,  2937.0,   1.7123,  34.7265,2,  34.7275,2,    174.0,2,   171.4,2,  123.57,2,   33.90,2,    0.00,2,    2.35,2,-999.000,9,-999.000,9,  -999.0,9,  -999.0,9,  -9.0000,9,-999.0000,9, -999.00,9, -999.00,9,  -999.0,9,  -999.0,-999.000,9,-999.000,-999.000,9,  -9.0000,-999.0000,   1.4966,   -9.00
  316N145_7,       I08N,     335,          1,         10,         10,2,19950322,       0806,   -14.4990,    80.0002,       4995,  3140.8,   1.6225,  34.7253,2,  34.7253,2,    172.8,2,   171.4,2,  127.60,2,   34.01,2,    0.00,2,    2.37,2,-999.000,9,-999.000,9,  -999.0,9,  -999.0,9,  -9.0000,9,-999.0000,9, -999.00,9, -999.00,9,  -999.0,9,  -999.0,-999.000,9,-999.000,-999.000,9,  -9.0000,-999.0000,   1.3891,   -9.00
  316N145_7,       I08N,     335,          1,          9,          9,2,19950322,       0806,   -14.4990,    80.0002,       4995,  3342.4,   1.5181,  34.7228,2,  34.7237,2,    175.2,3,   175.5,2,  128.24,2,   33.92,2,    0.00,2,    2.36,2,-999.000,9,-999.000,9,  -999.0,9,  -999.0,9,  -9.0000,9,-999.0000,9, -999.00,9, -999.00,9,  -999.0,9,  -999.0,-999.000,9,-999.000,-999.000,9,  -9.0000,-999.0000,   1.2672,   -9.00
  316N145_7,       I08N,     335,          1,          8,          8,2,19950322,       0806,   -14.4990,    80.0002,       4995,  3547.6,   1.4342,  34.7215,2,  34.7214,2,    177.3,3,   179.1,2,  128.66,2,   33.68,2,    0.00,2,    2.34,2,-999.000,9,-999.000,9,  -999.0,9,  -999.0,9,  -9.0000,9,-999.0000,9, -999.00,9, -999.00,9,  -999.0,9,  -999.0,-999.000,9,-999.000,-999.000,9,  -9.0000,-999.0000,   1.1647,   -9.00
  316N145_7,       I08N,     335,          1,          7,          7,2,19950322,       0806,   -14.4990,    80.0002,       4995,  3777.5,   1.3776,  34.7192,2,  34.7194,2,    178.9,3,   182.0,2,  129.51,2,   33.54,2,    0.00,2,    2.32,2,-999.000,9,-999.000,9,  -999.0,9,  -999.0,9,  -9.0000,9,-999.0000,9, -999.00,9, -999.00,9,  -999.0,9,  -999.0,-999.000,9,-999.000,-999.000,9,  -9.0000,-999.0000,   1.0856,   -9.00
  316N145_7,       I08N,     335,          1,          6,          6,2,19950322,       0806,   -14.4990,    80.0002,       4995,  4008.0,   1.3599,  34.7183,2,  34.7182,2,    181.4,2,   182.3,2,  131.43,2,   33.65,2,    0.00,2,    2.33,2,-999.000,9,-999.000,9,  -999.0,9,  -999.0,9,  -9.0000,9,-999.0000,9, -999.00,9, -999.00,9,  -999.0,9,  -999.0,-999.000,9,-999.000,-999.000,9,  -9.0000,-999.0000,   1.0438,   -9.00
  316N145_7,       I08N,     335,          1,          5,          5,2,19950322,       0806,   -14.4990,    80.0002,       4995,  4238.0,   1.3658,  34.7174,2,  34.7172,2,    182.3,7,   182.1,2,  132.49,2,   33.70,2,    0.00,2,    2.33,2,-999.000,9,-999.000,9,  -999.0,9,  -999.0,9,  -9.0000,9,-999.0000,9, -999.00,9, -999.00,9,  -999.0,9,  -999.0,-999.000,9,-999.000,-999.000,9,  -9.0000,-999.0000,   1.0243,   -9.00
  316N145_7,       I08N,     335,          1,          4,          4,2,19950322,       0806,   -14.4990,    80.0002,       4995,  4467.1,   1.3810,  34.7173,2,  34.7164,2,    182.7,7,   181.8,2,  133.56,2,   33.80,2,    0.00,2,    2.34,2,-999.000,9,-999.000,9,  -999.0,9,  -999.0,9,  -9.0000,9,-999.0000,9, -999.00,9, -999.00,9,  -999.0,9,  -999.0,-999.000,9,-999.000,-999.000,9,  -9.0000,-999.0000,   1.0132,   -9.00
  316N145_7,       I08N,     335,          1,          3,          3,2,19950322,       0806,   -14.4990,    80.0002,       4995,  4696.0,   1.4020,  34.7166,2,  34.7166,2,    182.5,7,   182.0,2,  134.41,2,   34.05,2,    0.00,2,    2.34,2,-999.000,9,-999.000,9,  -999.0,9,  -999.0,9,  -9.0000,9,-999.0000,9, -999.00,9, -999.00,9,  -999.0,9,  -999.0,-999.000,9,-999.000,-999.000,9,  -9.0000,-999.0000,   1.0072,   -9.00
  316N145_7,       I08N,     335,          1,          2,          2,2,19950322,       0806,   -14.4990,    80.0002,       4995,  4929.1,   1.4273,  34.7172,2,  34.7168,2,    181.9,7,   181.9,2,  134.62,2,   34.10,2,    0.00,2,    2.34,2,-999.000,9,-999.000,9,  -999.0,9,  -999.0,9,  -9.0000,9,-999.0000,9, -999.00,9, -999.00,9,  -999.0,9,  -999.0,-999.000,9,-999.000,-999.000,9,  -9.0000,-999.0000,   1.0039,   -9.00
  316N145_7,       I08N,     335,          1,          1,          1,2,19950322,       0806,   -14.4990,    80.0002,       4995,  5095.7,   1.4484,  34.7171,2,  34.7172,2,    181.6,2,   181.6,2,  134.62,2,   34.06,2,    0.00,2,    2.34,2,-999.000,9,-999.000,9,  -999.0,9,  -999.0,9,  -9.0000,9,-999.0000,9, -999.00,9, -999.00,9,  -999.0,9,  -999.0,-999.000,9,-999.000,-999.000,9,  -9.0000,-999.0000,   1.0040,   -9.00