BOTTLE,20211124CCHSIORKP
EXPOCODE,SECT_ID,STNNBR,CASTNO,SAMPNO,BTLNBR,BTLNBR_FLAG_W,DATE,TIME,LATITUDE,LONGITUDE,DEPTH,CTDPRS,CTDTMP,CTDSAL,CTDSAL_FLAG_W,SALNTY,SALNTY_FLAG_W,CTDOXY,CTDOXY_FLAG_W,OXYGEN,OXYGEN_FLAG_W,SILCAT,SILCAT_FLAG_W,NITRAT,NITRAT_FLAG_W,NITRIT,NITRIT_FLAG_W,PHSPHT,PHSPHT_FLAG_W,CFC-11,CFC-11_FLAG_W,CFC-12,CFC-12_FLAG_W,TCARBN,TCARBN_FLAG_W,ALKALI,ALKALI_FLAG_W,TRITUM,TRITUM_FLAG_W,HELIUM,HELIUM_FLAG_W,DELHE3,DELHE3_FLAG_W,DELC13,DELC13_FLAG_W,DELC14,DELC14_FLAG_W,C14ERR,NEON,NEON_FLAG_W,NEONER,CCL4,CCL4_FLAG_W,TRITER,HELIER,THETA,DELHER
,,,,,,,,,,,METERS,DBAR,ITS-90,PSS-78,,PSS-78,,UMOL/KG,,UMOL/KG,,UMOL/KG,,UMOL/KG,,UMOL/KG,,UMOL/KG,,PMOL/KG,,PMOL/KG,,UMOL/KG,,UMOL/KG,,TU,,NMOL/KG,,PERCNT,,/MILLE,,/MILLE,,/MILLE,NMOL/KG,,NMOL/KG,PMOL/KG,,TU,NMOL/KG,DEG C,PERCNT
  316N145_7,       I08N,     312,          1,         36,         36,2,19950316,       1940,    -3.0000,    79.9995,       4932,     2.2,  29.4390,  34.1057,2,  34.2378,3,    196.5,3,   197.2,2,    2.54,2,    0.09,2,    0.00,2,    0.09,2,   1.567,2,   0.865,2,  1900.6,2,  2243.4,2,   1.0038,2,   1.6966,2,   -0.38,2, -999.00,9,  -999.0,9,  -999.0,   6.610,2,   0.033,-999.000,9,   0.0040,   0.0085,  29.4385,    0.14
  316N145_7,       I08N,     312,          1,         35,         35,2,19950316,       1940,    -3.0000,    79.9995,       4932,    31.1,  29.2339,  34.2795,2,  34.2465,3,    202.5,3,   197.4,2,    2.53,2,    0.09,2,    0.00,2,    0.09,2,-999.000,9,-999.000,9,  1901.6,2,  2241.7,2,  -9.0000,9,-999.0000,9, -999.00,9, -999.00,9,  -999.0,9,  -999.0,-999.000,9,-999.000,-999.000,9,  -9.0000,-999.0000,  29.2263,   -9.00
  316N145_7,       I08N,     312,          1,         34,         34,2,19950316,       1940,    -3.0000,    79.9995,       4932,    55.3,  27.4922,  35.2739,2,  35.3025,3,    207.6,3,   189.8,2,    3.52,2,    0.14,2,    0.00,2,    0.26,2,   1.583,2,   0.869,2,  1997.6,2,  2325.6,2,   0.9335,2,   1.6958,2,    0.10,2, -999.00,9,  -999.0,9,  -999.0,   6.690,2,   0.033,-999.000,9,   0.0039,   0.0085,  27.4793,    0.14
  316N145_7,       I08N,     312,          1,         33,         33,2,19950316,       1940,    -3.0000,    79.9995,       4932,    81.0,  23.9772,  35.3240,2,  35.3339,3,    145.6,2,   130.3,2,    7.79,2,    9.00,2,    0.39,2,    0.79,2,-999.000,9,-999.000,9,  2072.0,2,  2316.5,2,  -9.0000,9,-999.0000,9, -999.00,9, -999.00,9,  -999.0,9,  -999.0,-999.000,9,-999.000,-999.000,9,  -9.0000,-999.0000,  23.9602,   -9.00
  316N145_7,       I08N,     312,          1,         32,         32,2,19950316,       1940,    -3.0000,    79.9995,       4932,   100.5,  20.1828,  35.2948,2,  35.2844,3,     97.5,2,    98.8,2,   12.08,2,   16.13,2,    0.08,2,    1.17,2,   1.372,2,   0.704,2,  2121.2,2,  2317.8,2,  -9.0000,9,   1.6999,2,    2.81,2, -999.00,9,  -999.0,9,  -999.0,   6.908,2,   0.035,-999.000,9,  -9.0000,   0.0085,  20.1641,    0.14
  316N145_7,       I08N,     312,          1,         31,         31,2,19950316,       1940,    -3.0000,    79.9995,       4932,   130.3,  17.2701,  35.2329,2,  35.2228,3,     80.9,2,    84.0,2,   15.96,2,   20.10,2,    0.03,2,    1.42,2,-999.000,9,-999.000,9,  2155.1,2,  2315.7,2,   0.7357,2,   1.7305,2,    4.50,2, -999.00,9,  -999.0,9,  -999.0,   7.096,2,   0.035,-999.000,9,   0.0035,   0.0087,  17.2484,    0.14
  316N145_7,       I08N,     312,          1,         30,         30,2,19950316,       1940,    -3.0000,    79.9995,       4932,   166.0,  15.6661,  35.1821,2,  35.1746,3,     70.0,2,    69.9,2,   19.02,2,   23.08,2,    0.01,2,    1.63,2,   0.976,2,   0.494,2,  2179.4,2,  2318.7,2,   0.6260,2,   1.7457,2,    4.55,2, -999.00,9,  -999.0,9,  -999.0,   7.198,2,   0.036,-999.000,9,   0.0032,   0.0087,  15.6402,    0.14
  316N145_7,       I08N,     312,          1,         29,         29,2,19950316,       1940,    -3.0000,    79.9995,       4932,   216.3,  13.9981,  35.1528,2,  35.1475,3,     91.9,2,    90.9,2,   19.00,2,   22.49,2,    0.00,2,    1.58,2,   0.978,2,   0.485,2,  2180.6,2,  2318.8,2,   0.5676,2,   1.7513,2,    7.04,2, -999.00,9,  -999.0,9,  -999.0,   7.267,2,   0.036,-999.000,9,   0.0032,   0.0088,  13.9668,    0.14
  316N145_7,       I08N,     312,          1,         28,         28,2,19950316,       1940,    -3.0000,    79.9995,       4932,   256.0,  13.2537,  35.1107,2,  35.1032,3,     75.2,2,    75.5,2,   21.86,2,   25.13,2,    0.00,2,    1.76,2,   0.726,6,   0.365,6,  2197.0,2,  2321.1,2,  -9.0000,9,   1.7468,2,    5.15,2, -999.00,9,  -999.0,9,  -999.0,   7.285,2,   0.036,-999.000,9,  -9.0000,   0.0087,  13.2179,    0.14
  316N145_7,       I08N,     312,          1,         27,         27,2,19950316,       1940,    -3.0000,    79.9995,       4932,   326.3,  12.0218,  35.0422,2,  35.0332,3,    106.9,2,   106.1,2,   20.82,2,   23.74,2,    0.00,2,    1.64,2,-999.000,9,-999.000,9,  2185.1,2,  2314.4,2,  -9.0000,9,-999.0000,9, -999.00,9, -999.00,9,  -999.0,9,  -999.0,-999.000,9,-999.000,-999.000,9,  -9.0000,-999.0000,  11.9790,   -9.00
  316N145_7,       I08N,     312,          1,         26,         26,2,19950316,       1940,    -3.0000,    79.9995,       4932,   376.7,  11.3638,  35.0242,2,  35.0159,3,     87.8,2,    88.4,2,   24.49,2,   26.71,2,    0.00,2,    1.84,2,   0.517,2,   0.259,2,  2206.1,2,  2320.9,2,   0.2953,2,   1.7628,2,    4.88,2, -999.00,9,  -999.0,9,  -999.0,   7.403,2,   0.037,-999.000,9,   0.0028,   0.0088,  11.3160,    0.14
  316N145_7,       I08N,     312,          1,         25,         25,2,19950316,       1940,    -3.0000,    79.9995,       4932,   446.9,  10.3567,  34.9360,2,  34.9267,3,     98.4,2,   103.7,2,   26.93,2,   27.04,2,    0.00,2,    1.87,2,   0.489,2,   0.244,2,  2204.5,2,  2329.0,2,   0.2456,2,   1.7610,2,    4.89,2, -999.00,9,  -999.0,9,  -999.0,   7.431,2,   0.037,-999.000,9,   0.0026,   0.0088,  10.3031,    0.14
  316N145_7,       I08N,     312,          1,         24,         24,2,19950316,       1940,    -3.0000,    79.9995,       4932,   532.1,   9.5384,  34.9243,2,  34.9194,3,     75.1,2,    70.5,2,   38.19,2,   31.85,2,    0.00,2,    2.25,2,   0.107,2,   0.048,2,  2238.9,2,  2323.5,2,  -9.0000,9,-999.0000,9, -999.00,9, -999.00,9,  -999.0,9,  -999.0,-999.000,9,-999.000,-999.000,9,  -9.0000,-999.0000,   9.4774,   -9.00
  316N145_7,       I08N,     312,          1,         23,         23,2,19950316,       1940,    -3.0000,    79.9995,       4932,   632.6,   8.5832,  34.8734,2,  34.8713,3,     75.3,2,    72.7,2,   49.86,2,   33.21,2,    0.00,2,    2.40,2,-999.000,9,-999.000,9,  2248.7,2,  2333.1,2,   0.0560,2,   1.7716,2,    6.95,2, -999.00,9,  -999.0,9,  -999.0,   7.522,2,   0.038,-999.000,9,   0.0023,   0.0089,   8.5148,    0.14
  316N145_7,       I08N,     312,          1,         22,         22,2,19950316,       1940,    -3.0000,    79.9995,       4932,   733.2,   8.1463,  34.9369,2,  34.9333,3,     62.2,2,    52.6,2,   61.74,2,   35.47,2,    0.00,2,    2.63,2,-999.000,9,-999.000,9,  2275.0,2,  2341.3,2,  -9.0000,9,-999.0000,9, -999.00,9, -999.00,9,  -999.0,9,  -999.0,-999.000,9,-999.000,-999.000,9,  -9.0000,-999.0000,   8.0688,   -9.00
  316N145_7,       I08N,     312,          1,         21,         21,2,19950316,       1940,    -3.0000,    79.9995,       4932,   833.3,   7.5694,  34.9266,2,  34.9202,3,     56.2,2,    53.4,2,   69.73,2,   36.13,2,    0.00,2,    2.69,2,   0.014,6,   0.006,6,  2285.0,2,  2354.5,2,   0.0116,2,   1.8069,2,    9.36,2, -999.00,9,  -999.0,9,  -999.0,   7.624,2,   0.038,-999.000,9,   0.0022,   0.0090,   7.4844,    0.14
  316N145_7,       I08N,     312,          1,         20,         20,2,19950316,       1940,    -3.0000,    79.9995,       4932,   927.1,   7.0115,  34.9022,2,  34.8958,3,     59.3,2,    58.1,2,   77.12,2,   36.51,2,    0.00,2,    2.72,2,   0.007,2,   0.000,2,  2290.0,2,  2367.1,2,  -9.0000,9,-999.0000,9, -999.00,9, -999.00,9,  -999.0,9,  -999.0,-999.000,9,-999.000,-999.000,9,  -9.0000,-999.0000,   6.9202,   -9.00
  316N145_7,       I08N,     312,          1,         19,         19,2,19950316,       1940,    -3.0000,    79.9995,       4932,  1035.1,   6.2150,  34.8592,2,  34.8530,3,     63.2,2,    63.7,2,   86.58,2,   37.12,2,    0.00,2,    2.77,2,-999.000,9,-999.000,9,  2300.8,2,  2368.7,2,   0.0055,2,   1.8322,2,   10.95,2, -999.00,9,  -999.0,9,  -999.0,   7.734,2,   0.039,-999.000,9,   0.0022,   0.0092,   6.1185,    0.14
  316N145_7,       I08N,     312,          1,         18,         18,2,19950316,       1940,    -3.0000,    79.9995,       4932,  1158.1,   5.3647,  34.8142,2,  34.8098,3,     71.6,2,    72.4,2,   96.08,2,   37.32,2,    0.00,2,    2.78,2,   0.000,2,   0.000,2,  2308.7,2,  2371.2,2,   0.0309,2,   1.8551,2,   12.29,2, -999.00,9,  -999.0,9,  -999.0,   7.818,2,   0.039,-999.000,9,   0.0023,   0.0093,   5.2632,    0.14
  316N145_7,       I08N,     312,          1,         17,         17,2,19950316,       1940,    -3.0000,    79.9995,       4932,  1373.6,   4.3386,  34.8048,2,  34.8004,3,     89.9,2,    92.7,2,  104.78,2,   36.80,2,    0.00,2,    2.73,2,-999.000,9,-999.000,9,  2311.6,2,  2387.7,2,  -9.0000,9,-999.0000,9, -999.00,9, -999.00,9,  -999.0,9,  -999.0,-999.000,9,-999.000,-999.000,9,  -9.0000,-999.0000,   4.2267,   -9.00
  316N145_7,       I08N,     312,          1,         16,         16,2,19950316,       1940,    -3.0000,    79.9995,       4932,  1580.1,   3.6239,  34.7965,2,  34.7912,3,    106.7,2,   109.8,2,  111.65,2,   36.23,2,    0.00,2,    2.67,2,   0.003,2,   0.002,2,  -999.0,5,  2393.6,2,  -0.0019,2,   1.8666,2,   12.41,2, -999.00,9,  -999.0,9,  -999.0,   7.971,2,   0.040,-999.000,9,   0.0022,   0.0093,   3.5013,    0.14
  316N145_7,       I08N,     312,          1,         15,         15,2,19950316,       1940,    -3.0000,    79.9995,       4932,  1817.8,   3.0039,  34.7806,2,  34.7752,3,    121.4,2,   123.1,2,  118.97,2,   35.90,2,    0.00,2,    2.62,2,  -0.005,2,  -0.002,2,  2314.1,2,  2404.1,2,   0.0008,2,   1.8256,2,   13.34,2, -999.00,9,  -999.0,9,  -999.0,   7.804,2,   0.039,-999.000,9,   0.0022,   0.0091,   2.8681,    0.14
  316N145_7,       I08N,     312,          1,         14,         14,2,19950316,       1940,    -3.0000,    79.9995,       4932,  2046.0,   2.6338,  34.7686,2,  34.7628,3,    131.9,2,   132.0,2,  123.37,2,   35.57,2,    0.00,2,    2.58,2,  -0.002,2,  -0.001,2,  2314.8,2,  2402.4,2,  -0.0006,2,   1.8262,2,   14.31,2, -999.00,9,  -999.0,9,  -999.0,   7.821,2,   0.039,-999.000,9,   0.0022,   0.0091,   2.4833,    0.14
  316N145_7,       I08N,     312,          1,         13,         13,2,19950316,       1940,    -3.0000,    79.9995,       4932,  2274.2,   2.3126,  34.7547,2,  34.7525,3,    141.1,2,   141.1,2,  126.31,2,   35.20,2,    0.00,2,    2.53,2,-999.000,9,-999.000,9,  2314.0,2,  2409.3,2,  -9.0000,9,-999.0000,9, -999.00,9, -999.00,9,  -999.0,9,  -999.0,-999.000,9,-999.000,-999.000,9,  -9.0000,-999.0000,   2.1468,   -9.00
  316N145_7,       I08N,     312,          1,         12,         12,2,19950316,       1940,    -3.0000,    79.9995,       4932,  2477.2,   2.1069,  34.7476,2,  34.7425,3,    148.4,2,   148.2,2,  128.61,2,   35.01,2,    0.00,2,    2.51,2,   0.001,2,   0.000,2,  2313.9,2,  2405.9,2,  -9.0000,9,-999.0000,9, -999.00,9, -999.00,9,  -999.0,9,  -999.0,-999.000,9,-999.000,-999.000,9,  -9.0000,-999.0000,   1.9263,   -9.00
  316N145_7,       I08N,     312,          1,         11,         11,2,19950316,       1940,    -3.0000,    79.9995,       4932,  2704.6,   1.9556,  34.7404,2,  34.7357,3,    153.9,2,   153.1,2,  129.65,2,   34.73,2,    0.00,2,    2.48,2,-999.000,9,-999.000,9,  2311.0,2,  2414.1,2,  -9.0000,9,-999.0000,9, -999.00,9, -999.00,9,  -999.0,9,  -999.0,-999.000,9,-999.000,-999.000,9,  -9.0000,-999.0000,   1.7568,   -9.00
  316N145_7,       I08N,     312,          1,         10,         10,2,19950316,       1940,    -3.0000,    79.9995,       4932,  2934.1,   1.7822,  34.7339,2,  34.7288,3,    159.2,2,   158.4,2,  131.96,2,   34.59,2,    0.00,2,    2.46,2,   0.002,2,  -0.001,2,  2310.5,2,  2412.6,2,  -9.0000,9,-999.0000,9, -999.00,9, -999.00,9,  -999.0,9,  -999.0,-999.000,9,-999.000,-999.000,9,  -9.0000,-999.0000,   1.5652,   -9.00
  316N145_7,       I08N,     312,          1,          9,          9,2,19950316,       1940,    -3.0000,    79.9995,       4932,  3163.0,   1.5998,  34.7276,2,  34.7230,3,    163.8,2,   163.6,2,  134.50,2,   34.45,2,    0.00,2,    2.43,2,  -0.002,2,  -0.001,2,  2312.2,2,  2421.4,2,  -9.0000,9,-999.0000,9, -999.00,9, -999.00,9,  -999.0,9,  -999.0,-999.000,9,-999.000,-999.000,9,  -9.0000,-999.0000,   1.3648,   -9.00
  316N145_7,       I08N,     312,          1,          8,          8,2,19950316,       1940,    -3.0000,    79.9995,       4932,  3391.2,   1.5096,  34.7242,2,  34.7195,3,    166.3,2,   166.0,2,  136.18,2,   34.36,2,    0.00,2,    2.44,2,  -0.003,2,   0.001,2,  2312.1,2,  2421.4,2,  -9.0000,9,-999.0000,9, -999.00,9, -999.00,9,  -999.0,9,  -999.0,-999.000,9,-999.000,-999.000,9,  -9.0000,-999.0000,   1.2540,   -9.00
  316N145_7,       I08N,     312,          1,          7,          7,2,19950316,       1940,    -3.0000,    79.9995,       4932,  3621.2,   1.4332,  34.7219,2,  34.7164,3,    170.0,2,   169.9,2,  137.23,2,   34.22,2,    0.00,2,    2.41,2,  -0.001,2,   0.000,2,  2311.7,2,  2423.3,2,  -9.0000,9,-999.0000,9, -999.00,9, -999.00,9,  -999.0,9,  -999.0,-999.000,9,-999.000,-999.000,9,  -9.0000,-999.0000,   1.1561,   -9.00
  316N145_7,       I08N,     312,          1,          6,          6,2,19950316,       1940,    -3.0000,    79.9995,       4932,  3850.3,   1.4007,  34.7199,2,  34.7153,3,    172.2,2,   172.1,2,  136.98,2,   34.08,2,    0.00,2,    2.40,2,  -0.002,2,  -0.003,2,  2310.5,2,  2426.5,3,  -9.0000,9,-999.0000,9, -999.00,9, -999.00,9,  -999.0,9,  -999.0,-999.000,9,-999.000,-999.000,9,  -9.0000,-999.0000,   1.1005,   -9.00
  316N145_7,       I08N,     312,          1,          5,          5,2,19950316,       1940,    -3.0000,    79.9995,       4932,  4079.2,   1.3929,  34.7192,2,  34.7144,3,    174.4,2,   174.3,2,  136.95,2,   34.03,2,    0.00,2,    2.39,2,-999.000,9,-999.000,9,  2308.4,2,  2421.6,2,  -9.0000,9,-999.0000,9, -999.00,9, -999.00,9,  -999.0,9,  -999.0,-999.000,9,-999.000,-999.000,9,  -9.0000,-999.0000,   1.0682,   -9.00
  316N145_7,       I08N,     312,          1,          4,          4,2,19950316,       1940,    -3.0000,    79.9995,       4932,  4310.9,   1.4044,  34.7191,2,  34.7144,3,    175.7,2,   175.6,2,  136.28,2,   33.94,2,    0.00,2,    2.38,2,  -0.003,2,   0.001,2,  2306.4,2,  2419.9,2,  -9.0000,9,-999.0000,9, -999.00,9, -999.00,9,  -999.0,9,  -999.0,-999.000,9,-999.000,-999.000,9,  -9.0000,-999.0000,   1.0537,   -9.00
  316N145_7,       I08N,     312,          1,          3,          3,2,19950316,       1940,    -3.0000,    79.9995,       4932,  4540.6,   1.4112,  34.7186,2,  34.7137,3,    178.3,2,   178.0,2,  135.40,2,   33.85,2,    0.00,2,    2.37,2,-999.000,9,-999.000,9,  2305.2,2,  2418.4,2,  -0.0026,2,-999.0000,9, -999.00,9, -999.00,9,  -999.0,9,  -999.0,-999.000,9,-999.000,-999.000,9,   0.0022,-999.0000,   1.0341,   -9.00
  316N145_7,       I08N,     312,          1,          2,          2,2,19950316,       1940,    -3.0000,    79.9995,       4932,  4770.9,   1.4139,  34.7177,2,  34.7127,3,    180.2,2,   179.9,2,  134.51,2,   33.71,2,    0.00,2,    2.35,2,  -0.005,2,  -0.002,2,  2303.1,2,  2416.2,2,  -9.0000,9,-999.0000,9, -999.00,9, -999.00,9,  -999.0,9,  -999.0,-999.000,9,-999.000,-999.000,9,  -9.0000,-999.0000,   1.0098,   -9.00
  316N145_7,       I08N,     312,          1,          1,          1,2,19950316,       1940,    -3.0000,    79.9995,       4932,  5037.4,   1.4197,  34.7174,2,  34.7122,3,    181.0,2,   182.1,2,  133.63,2,   33.61,2,    0.00,2,    2.34,2,  -0.002,2,   0.001,2,  2300.0,2,  2419.1,2,  -9.0000,9,-999.0000,9, -999.00,9, -999.00,9,  -999.0,9,  -999.0,-999.000,9,-999.000,-999.000,9,  -9.0000,-999.0000,   0.9835,   -9.00