BOTTLE,20211124CCHSIORKP
EXPOCODE,SECT_ID,STNNBR,CASTNO,SAMPNO,BTLNBR,BTLNBR_FLAG_W,DATE,TIME,LATITUDE,LONGITUDE,DEPTH,CTDPRS,CTDTMP,CTDSAL,CTDSAL_FLAG_W,SALNTY,SALNTY_FLAG_W,CTDOXY,CTDOXY_FLAG_W,OXYGEN,OXYGEN_FLAG_W,SILCAT,SILCAT_FLAG_W,NITRAT,NITRAT_FLAG_W,NITRIT,NITRIT_FLAG_W,PHSPHT,PHSPHT_FLAG_W,CFC-11,CFC-11_FLAG_W,CFC-12,CFC-12_FLAG_W,TCARBN,TCARBN_FLAG_W,ALKALI,ALKALI_FLAG_W,TRITUM,TRITUM_FLAG_W,HELIUM,HELIUM_FLAG_W,DELHE3,DELHE3_FLAG_W,DELC13,DELC13_FLAG_W,DELC14,DELC14_FLAG_W,C14ERR,NEON,NEON_FLAG_W,NEONER,CCL4,CCL4_FLAG_W,TRITER,HELIER,THETA,DELHER
,,,,,,,,,,,METERS,DBAR,ITS-90,PSS-78,,PSS-78,,UMOL/KG,,UMOL/KG,,UMOL/KG,,UMOL/KG,,UMOL/KG,,UMOL/KG,,PMOL/KG,,PMOL/KG,,UMOL/KG,,UMOL/KG,,TU,,NMOL/KG,,PERCNT,,/MILLE,,/MILLE,,/MILLE,NMOL/KG,,NMOL/KG,PMOL/KG,,TU,NMOL/KG,DEG C,PERCNT
  316N145_7,       I08N,     286,          1,         36,         36,2,19950311,       1510,     5.0017,    80.0010,       4205,     2.3,  28.4294,  33.4598,2,  33.4590,2,    200.2,2,   200.3,2,    2.79,2,    0.13,2,    0.00,2,    0.08,2,   1.701,6,   0.967,6,  -999.0,9,  -999.0,9,   1.1902,2,   1.6999,2,   -0.78,2,    1.13,2,    44.4,2,     4.8,   6.652,2,   0.033,-999.000,9,   0.0042,   0.0085,  28.4289,    0.14
  316N145_7,       I08N,     286,          1,         35,         35,2,19950311,       1510,     5.0017,    80.0010,       4205,    30.6,  28.1876,  33.4439,2,  33.4539,2,    196.5,2,   200.2,2,    2.78,2,    0.13,2,    0.00,2,    0.08,2,   1.719,2,   0.979,2,  -999.0,9,  -999.0,9,   1.1979,2,   1.6988,2,    3.80,2, -999.00,9,  -999.0,9,  -999.0,   6.610,2,   0.033,-999.000,9,   0.0042,   0.0085,  28.1804,    0.14
  316N145_7,       I08N,     286,          1,         34,         34,2,19950311,       1510,     5.0017,    80.0010,       4205,    65.0,  24.7075,  34.4831,2,  34.5571,2,    112.9,2,   101.9,2,    8.94,2,   11.97,2,    0.37,2,    0.92,2,   1.341,2,   0.743,2,  -999.0,9,  -999.0,9,  -9.0000,9,-999.0000,9, -999.00,9,    0.53,2,    23.7,2,     5.1,-999.000,9,-999.000,-999.000,9,  -9.0000,-999.0000,  24.6936,   -9.00
  316N145_7,       I08N,     286,          1,         33,         33,2,19950311,       1510,     5.0017,    80.0010,       4205,    94.6,  20.5378,  34.7800,2,  34.7775,2,     57.4,2,    56.6,2,   18.20,2,   21.01,2,    0.04,2,    1.53,2,   1.021,2,   0.550,2,  -999.0,9,  -999.0,9,   0.7037,2,   1.7240,2,    2.75,2, -999.00,9,  -999.0,9,  -999.0,   6.988,2,   0.035,-999.000,9,   0.0033,   0.0086,  20.5200,    0.14
  316N145_7,       I08N,     286,          1,         32,         32,2,19950311,       1510,     5.0017,    80.0010,       4205,   125.6,  17.1127,  34.9039,2,  34.9213,2,     16.4,2,    15.0,2,   27.25,2,   28.53,2,    0.01,2,    2.10,2,-999.000,9,-999.000,9,  -999.0,9,  -999.0,9,  -9.0000,9,-999.0000,9, -999.00,9,   -0.03,2,   -25.1,2,     3.6,-999.000,9,-999.000,-999.000,9,  -9.0000,-999.0000,  17.0919,   -9.00
  316N145_7,       I08N,     286,          1,         31,         31,2,19950311,       1510,     5.0017,    80.0010,       4205,   166.0,  14.6159,  35.0526,2,  35.0776,2,     23.8,2,    36.0,2,   26.61,2,   28.16,2,    0.01,2,    2.05,2,   0.612,2,   0.303,2,  -999.0,9,  -999.0,9,   0.4432,2,   1.7618,2,   10.81,2,    0.13,2,   -20.3,2,     2.6,   7.233,2,   0.036,-999.000,9,   0.0029,   0.0088,  14.5913,    0.14
  316N145_7,       I08N,     286,          1,         30,         30,2,19950311,       1510,     5.0017,    80.0010,       4205,   205.2,  13.4606,  35.0915,2,  35.0900,2,     30.4,2,    30.6,2,   28.65,2,   29.71,2,    0.01,2,    2.15,2,   0.452,2,   0.219,2,  -999.0,9,  -999.0,9,   0.3639,2,   1.7523,2,    5.30,2,    0.08,2,   -32.8,2,     3.6,   7.292,2,   0.036,-999.000,9,   0.0028,   0.0088,  13.4316,    0.14
  316N145_7,       I08N,     286,          1,         29,         29,2,19950311,       1510,     5.0017,    80.0010,       4205,   245.4,  12.7395,  35.1076,2,  35.1043,2,     38.1,2,    40.4,2,   28.02,2,   29.28,2,    0.01,2,    2.10,2,   0.450,2,   0.220,2,  -999.0,9,  -999.0,9,  -9.0000,9,-999.0000,9, -999.00,9,    0.16,2,   -27.7,2,     3.2,-999.000,9,-999.000,-999.000,9,  -9.0000,-999.0000,  12.7061,   -9.00
  316N145_7,       I08N,     286,          1,         28,         28,2,19950311,       1510,     5.0017,    80.0010,       4205,   286.4,  12.0569,  35.0884,2,  35.0842,2,     55.4,2,    54.7,2,   27.59,2,   28.72,2,    0.00,2,    2.04,2,   0.457,2,   0.225,2,  -999.0,9,  -999.0,9,   0.3184,2,   1.7550,2,    5.04,2, -999.00,9,  -999.0,9,  -999.0,   7.360,2,   0.037,-999.000,9,   0.0027,   0.0088,  12.0193,    0.14
  316N145_7,       I08N,     286,          1,         27,         27,2,19950311,       1510,     5.0017,    80.0010,       4205,   326.3,  11.6504,  35.0784,2,  35.0746,2,     52.3,2,    50.0,2,   29.84,2,   29.94,2,    0.00,2,    2.12,2,-999.000,9,-999.000,9,  -999.0,9,  -999.0,9,   0.2618,2,   1.7532,2,    5.14,2,    0.23,2,   -44.4,2,     3.8,   7.317,2,   0.037,-999.000,9,   0.0026,   0.0088,  11.6084,    0.14
  316N145_7,       I08N,     286,          1,         26,         26,2,19950311,       1510,     5.0017,    80.0010,       4205,   365.8,  11.2156,  35.0699,2,  35.0665,2,     45.4,2,    47.9,2,   31.88,2,   30.78,2,    0.00,2,    2.18,2,-999.000,9,-999.000,9,  -999.0,9,  -999.0,9,   0.2269,2,   1.7716,2,    8.73,2, -999.00,9,  -999.0,9,  -999.0,   7.402,2,   0.037,-999.000,9,   0.0026,   0.0089,  11.1696,    0.14
  316N145_7,       I08N,     286,          1,         25,         25,2,19950311,       1510,     5.0017,    80.0010,       4205,   406.3,  10.8377,  35.0649,2,  35.0614,2,     37.7,2,    37.5,2,   36.19,2,   32.43,2,    0.00,2,    2.32,2,   0.185,2,   0.083,2,  -999.0,9,  -999.0,9,  -9.0000,9,-999.0000,9, -999.00,9,    0.17,2,   -69.8,2,     3.7,-999.000,9,-999.000,-999.000,9,  -9.0000,-999.0000,  10.7875,   -9.00
  316N145_7,       I08N,     286,          1,         24,         24,2,19950311,       1510,     5.0017,    80.0010,       4205,   446.9,  10.5751,  35.0623,2,  35.0596,2,     36.8,2,    37.4,2,   38.44,2,   32.85,2,    0.00,2,    2.36,2,   0.211,2,   0.099,2,  -999.0,9,  -999.0,9,   0.1386,2,   1.7668,2,    5.09,2, -999.00,9,  -999.0,9,  -999.0,   7.403,2,   0.037,-999.000,9,   0.0024,   0.0088,  10.5207,    0.14
  316N145_7,       I08N,     286,          1,         23,         23,2,19950311,       1510,     5.0017,    80.0010,       4205,   487.2,  10.4263,  35.0766,2,  35.0754,2,     34.2,2,    34.4,2,   40.69,2,   33.32,2,    0.00,2,    2.42,2,   0.142,6,   0.065,6,  -999.0,9,  -999.0,9,  -9.0000,9,-999.0000,9, -999.00,9,   -0.31,3,  -100.9,2,     3.6,-999.000,9,-999.000,-999.000,9,  -9.0000,-999.0000,  10.3674,   -9.00
  316N145_7,       I08N,     286,          1,         22,         22,2,19950311,       1510,     5.0017,    80.0010,       4205,   526.5,  10.2169,  35.0836,2,  35.0823,2,     28.6,2,    28.4,2,   43.96,2,   34.12,2,    0.00,2,    2.51,2,-999.000,9,-999.000,9,  -999.0,9,  -999.0,9,  -9.0000,9,-999.0000,9, -999.00,9, -999.00,9,  -999.0,9,  -999.0,-999.000,9,-999.000,-999.000,9,  -9.0000,-999.0000,  10.1539,   -9.00
  316N145_7,       I08N,     286,          1,         21,         21,2,19950311,       1510,     5.0017,    80.0010,       4205,   597.2,   9.6209,  35.0538,2,  35.0482,2,     25.3,2,    23.0,2,   51.97,2,   35.59,2,    0.00,2,    2.64,2,   0.048,2,   0.021,2,  -999.0,9,  -999.0,9,   0.0474,2,   1.7815,2,    6.58,2,    0.04,2,  -117.0,2,     3.8,   7.485,2,   0.037,-999.000,9,   0.0023,   0.0089,   9.5518,    0.14
  316N145_7,       I08N,     286,          1,         20,         20,2,19950311,       1510,     5.0017,    80.0010,       4205,   678.2,   8.8461,  35.0107,2,  35.0094,2,     21.8,2,    23.0,2,   61.85,2,   36.82,2,    0.00,2,    2.75,2,   0.020,2,   0.009,2,  -999.0,9,  -999.0,9,   0.0212,2,   1.7948,2,    7.69,2,   -0.03,2,  -140.6,2,     4.9,   7.526,2,   0.038,-999.000,9,   0.0022,   0.0090,   8.7712,    0.14
  316N145_7,       I08N,     286,          1,         19,         19,2,19950311,       1510,     5.0017,    80.0010,       4205,   879.3,   7.5917,  34.9694,2,  34.9693,2,     31.7,2,    32.5,2,   76.07,2,   37.54,2,    0.00,2,    2.82,2,   0.008,6,   0.003,6,  -999.0,9,  -999.0,9,  -9.0000,9,-999.0000,9, -999.00,9,    0.25,3,  -145.1,2,     3.2,-999.000,9,-999.000,-999.000,9,  -9.0000,-999.0000,   7.5015,   -9.00
  316N145_7,       I08N,     286,          1,         18,         18,2,19950311,       1510,     5.0017,    80.0010,       4205,   980.0,   6.9608,  34.9442,2,  34.9445,2,     39.4,2,    40.1,2,   83.70,2,   37.68,2,    0.00,2,    2.84,2,-999.000,9,-999.000,9,  -999.0,9,  -999.0,9,   0.0030,2,   1.8181,2,   10.51,2,   -0.09,2,  -151.5,2,     3.6,   7.657,2,   0.038,-999.000,9,   0.0022,   0.0091,   6.8642,    0.14
  316N145_7,       I08N,     286,          1,         17,         17,2,19950311,       1510,     5.0017,    80.0010,       4205,  1110.9,   6.0328,  34.9076,2,  34.9079,2,     52.5,2,    53.6,2,   93.84,2,   37.68,2,    0.00,2,    2.83,2,-999.000,9,-999.000,9,  -999.0,9,  -999.0,9,  -9.0000,9,-999.0000,9, -999.00,9,   -0.06,2,  -163.1,2,     3.0,-999.000,9,-999.000,-999.000,9,  -9.0000,-999.0000,   5.9300,   -9.00
  316N145_7,       I08N,     286,          1,         16,         16,2,19950311,       1510,     5.0017,    80.0010,       4205,  1311.6,   5.0757,  34.8754,2,  34.8751,2,     69.0,2,    70.1,2,  103.61,2,   37.45,2,    0.00,2,    2.81,2,-999.000,9,-999.000,9,  -999.0,9,  -999.0,9,  -0.0014,2,   1.8382,2,   12.58,2,   -0.03,2,  -174.2,2,     2.8,   7.792,2,   0.039,-999.000,9,   0.0022,   0.0092,   4.9620,    0.14
  316N145_7,       I08N,     286,          1,         15,         15,2,19950311,       1510,     5.0017,    80.0010,       4205,  1513.9,   4.2988,  34.8458,2,  34.8463,2,     84.6,2,    83.7,2,  111.33,2,   37.12,2,    0.00,2,    2.78,2,  -0.002,2,  -0.001,2,  -999.0,9,  -999.0,9,  -0.0018,2,   1.8590,2,   12.90,2,    0.00,2,  -181.3,2,     2.5,   7.872,2,   0.039,-999.000,9,   0.0022,   0.0093,   4.1743,    0.14
  316N145_7,       I08N,     286,          1,         14,         14,2,19950311,       1510,     5.0017,    80.0010,       4205,  1716.7,   3.4899,  34.8121,2,  34.8123,2,    101.0,2,   100.9,2,  119.73,2,   36.69,2,    0.00,2,    2.72,2,-999.000,9,-999.000,9,  -999.0,9,  -999.0,9,  -0.0028,2,-999.0000,9, -999.00,9, -999.00,9,  -999.0,9,  -999.0,-999.000,9,-999.000,-999.000,9,   0.0022,-999.0000,   3.3566,   -9.00
  316N145_7,       I08N,     286,          1,         13,         13,2,19950311,       1510,     5.0017,    80.0010,       4205,  1918.6,   2.9507,  34.7891,2,  34.7883,2,    112.7,2,   112.5,2,  126.28,2,   36.26,2,    0.00,2,    2.68,2,   0.000,2,   0.002,2,  -999.0,9,  -999.0,9,  -0.0018,2,   1.8332,2,   13.84,2, -999.00,9,  -999.0,9,  -999.0,   7.795,2,   0.039,-999.000,9,   0.0022,   0.0092,   2.8067,    0.14
  316N145_7,       I08N,     286,          1,         12,         12,2,19950311,       1510,     5.0017,    80.0010,       4205,  2122.6,   2.5408,  34.7695,2,  34.7695,2,    121.8,7,   122.1,2,  131.80,2,   36.03,2,    0.00,2,    2.65,2,-999.000,9,-999.000,9,  -999.0,9,  -999.0,9,  -9.0000,9,-999.0000,9, -999.00,9, -999.00,9,  -999.0,9,  -999.0,-999.000,9,-999.000,-999.000,9,  -9.0000,-999.0000,   2.3848,   -9.00
  316N145_7,       I08N,     286,          1,         11,         11,2,19950311,       1510,     5.0017,    80.0010,       4205,  2325.0,   2.2773,  34.7565,2,  34.7563,2,    129.6,7,   129.1,2,  126.44,4,   36.26,4,    0.00,4,    2.67,4,  -0.001,2,   0.002,2,  -999.0,9,  -999.0,9,  -9.0000,9,-999.0000,9, -999.00,9, -999.00,9,  -999.0,9,  -999.0,-999.000,9,-999.000,-999.000,9,  -9.0000,-999.0000,   2.1075,   -9.00
  316N145_7,       I08N,     286,          1,         10,         10,2,19950311,       1510,     5.0017,    80.0010,       4205,  2527.9,   2.0230,  34.7449,2,  34.7449,2,    137.5,7,   137.9,2,  137.32,2,   35.51,2,    0.00,2,    2.57,2,-999.000,9,-999.000,9,  -999.0,9,  -999.0,9,  -9.0000,9,-999.0000,9, -999.00,9, -999.00,9,  -999.0,9,  -999.0,-999.000,9,-999.000,-999.000,9,  -9.0000,-999.0000,   1.8394,   -9.00
  316N145_7,       I08N,     286,          1,          9,          9,2,19950311,       1510,     5.0017,    80.0010,       4205,  2731.0,   1.8416,  34.7377,2,  34.7376,2,    142.9,7,   142.9,2,  139.88,2,   35.32,2,    0.00,2,    2.53,2,  -0.003,2,   0.000,2,  -999.0,9,  -999.0,9,  -9.0000,9,-999.0000,9, -999.00,9, -999.00,9,  -999.0,9,  -999.0,-999.000,9,-999.000,-999.000,9,  -9.0000,-999.0000,   1.6427,   -9.00
  316N145_7,       I08N,     286,          1,          8,          8,2,19950311,       1510,     5.0017,    80.0010,       4205,  2934.9,   1.7587,  34.7339,2,  34.7331,2,    145.5,7,   144.7,2,  141.80,2,   35.32,2,    0.00,2,    2.53,2,-999.000,9,-999.000,9,  -999.0,9,  -999.0,9,  -9.0000,9,-999.0000,9, -999.00,9, -999.00,9,  -999.0,9,  -999.0,-999.000,9,-999.000,-999.000,9,  -9.0000,-999.0000,   1.5422,   -9.00
  316N145_7,       I08N,     286,          1,          7,          7,2,19950311,       1510,     5.0017,    80.0010,       4205,  3136.9,   1.6711,  34.7302,2,  34.7300,2,    146.6,7,  -999.0,9,  143.72,2,   35.27,2,    0.00,2,    2.53,2,-999.000,9,-999.000,9,  -999.0,9,  -999.0,9,  -9.0000,9,-999.0000,9, -999.00,9, -999.00,9,  -999.0,9,  -999.0,-999.000,9,-999.000,-999.000,9,  -9.0000,-999.0000,   1.4370,   -9.00
  316N145_7,       I08N,     286,          1,          6,          6,2,19950311,       1510,     5.0017,    80.0010,       4205,  3341.6,   1.5678,  34.7263,2,  34.7258,2,    148.9,7,   150.2,2,  145.43,2,   35.18,2,    0.00,2,    2.51,2,-999.000,9,-999.000,9,  -999.0,9,  -999.0,9,  -9.0000,9,-999.0000,9, -999.00,9, -999.00,9,  -999.0,9,  -999.0,-999.000,9,-999.000,-999.000,9,  -9.0000,-999.0000,   1.3157,   -9.00
  316N145_7,       I08N,     286,          1,          5,          5,2,19950311,       1510,     5.0017,    80.0010,       4205,  3546.4,   1.4932,  34.7229,2,  34.7229,2,    153.8,7,   154.3,2,  145.61,2,   35.04,2,    0.00,2,    2.48,2,  -0.003,2,   0.000,2,  -999.0,9,  -999.0,9,  -9.0000,9,-999.0000,9, -999.00,9, -999.00,9,  -999.0,9,  -999.0,-999.000,9,-999.000,-999.000,9,  -9.0000,-999.0000,   1.2222,   -9.00
  316N145_7,       I08N,     286,          1,          4,          4,2,19950311,       1510,     5.0017,    80.0010,       4205,  3748.7,   1.4567,  34.7217,2,  34.7199,2,    158.1,7,   158.6,2,  144.71,2,   34.85,2,    0.00,2,    2.45,2,-999.000,9,-999.000,9,  -999.0,9,  -999.0,9,  -9.0000,9,-999.0000,9, -999.00,9, -999.00,9,  -999.0,9,  -999.0,-999.000,9,-999.000,-999.000,9,  -9.0000,-999.0000,   1.1657,   -9.00
  316N145_7,       I08N,     286,          1,          3,          3,2,19950311,       1510,     5.0017,    80.0010,       4205,  3954.6,   1.4131,  34.7194,2,  34.7188,2,    162.2,7,   164.0,2,  143.16,2,   34.56,2,    0.00,2,    2.43,2,  -0.002,2,   0.003,2,  -999.0,9,  -999.0,9,  -9.0000,9,-999.0000,9, -999.00,9, -999.00,9,  -999.0,9,  -999.0,-999.000,9,-999.000,-999.000,9,  -9.0000,-999.0000,   1.1014,   -9.00
  316N145_7,       I08N,     286,          1,          2,          2,2,19950311,       1510,     5.0017,    80.0010,       4205,  4159.3,   1.4148,  34.7190,2,  34.7168,3,    165.9,7,   165.6,2,  142.48,2,   34.37,2,    0.00,2,    2.43,2,   0.000,2,   0.004,2,  -999.0,9,  -999.0,9,  -9.0000,9,-999.0000,9, -999.00,9, -999.00,9,  -999.0,9,  -999.0,-999.000,9,-999.000,-999.000,9,  -9.0000,-999.0000,   1.0807,   -9.00
  316N145_7,       I08N,     286,          1,          1,          1,2,19950311,       1510,     5.0017,    80.0010,       4205,  4270.1,   1.4152,  34.7189,2,  34.7172,2,    168.6,7,   168.5,2,  140.72,2,   34.23,2,    0.00,2,    2.41,2,  -0.003,2,   0.004,2,  -999.0,9,  -999.0,9,  -9.0000,9,-999.0000,9, -999.00,9, -999.00,9,  -999.0,9,  -999.0,-999.000,9,-999.000,-999.000,9,  -9.0000,-999.0000,   1.0688,   -9.00