BOTTLE,20211124CCHSIORKP
EXPOCODE,SECT_ID,STNNBR,CASTNO,SAMPNO,BTLNBR,BTLNBR_FLAG_W,DATE,TIME,LATITUDE,LONGITUDE,DEPTH,CTDPRS,CTDTMP,CTDSAL,CTDSAL_FLAG_W,SALNTY,SALNTY_FLAG_W,CTDOXY,CTDOXY_FLAG_W,OXYGEN,OXYGEN_FLAG_W,SILCAT,SILCAT_FLAG_W,NITRAT,NITRAT_FLAG_W,NITRIT,NITRIT_FLAG_W,PHSPHT,PHSPHT_FLAG_W,CFC-11,CFC-11_FLAG_W,CFC-12,CFC-12_FLAG_W,TCARBN,TCARBN_FLAG_W,ALKALI,ALKALI_FLAG_W,TRITUM,TRITUM_FLAG_W,HELIUM,HELIUM_FLAG_W,DELHE3,DELHE3_FLAG_W,DELC13,DELC13_FLAG_W,DELC14,DELC14_FLAG_W,C14ERR,NEON,NEON_FLAG_W,NEONER,CCL4,CCL4_FLAG_W,TRITER,HELIER,THETA,DELHER
,,,,,,,,,,,METERS,DBAR,ITS-90,PSS-78,,PSS-78,,UMOL/KG,,UMOL/KG,,UMOL/KG,,UMOL/KG,,UMOL/KG,,UMOL/KG,,PMOL/KG,,PMOL/KG,,UMOL/KG,,UMOL/KG,,TU,,NMOL/KG,,PERCNT,,/MILLE,,/MILLE,,/MILLE,NMOL/KG,,NMOL/KG,PMOL/KG,,TU,NMOL/KG,DEG C,PERCNT
  316N145_7,       I08N,     296,          1,         36,         36,2,19950313,       1557,     1.6668,    79.9997,       3655,     2.4,  29.6065,  34.4978,2,  34.4972,2,    195.1,2,   196.5,2,    2.72,2,    0.05,2,    0.00,2,    0.11,2,   1.621,2,   0.920,2,  1910.2,2,  2260.6,2,  -9.0000,9,-999.0000,9, -999.00,9, -999.00,9,  -999.0,9,  -999.0,-999.000,9,-999.000,-999.000,9,  -9.0000,-999.0000,  29.6059,   -9.00
  316N145_7,       I08N,     296,          1,         35,         35,2,19950313,       1557,     1.6668,    79.9997,       3655,    19.3,  29.4573,  34.4919,2,  34.4913,2,    196.8,2,   196.8,2,    2.70,2,    0.05,2,    0.00,2,    0.11,2,-999.000,9,-999.000,9,  -999.0,9,  -999.0,9,  -9.0000,9,-999.0000,9, -999.00,9, -999.00,9,  -999.0,9,  -999.0,-999.000,9,-999.000,-999.000,9,  -9.0000,-999.0000,  29.4526,   -9.00
  316N145_7,       I08N,     296,          1,         34,         34,2,19950313,       1557,     1.6668,    79.9997,       3655,    44.5,  28.6439,  35.0028,2,  34.9271,2,    200.7,2,   199.3,2,    2.88,2,    0.05,2,    0.00,2,    0.16,2,   1.655,2,   0.937,2,  -999.0,9,  -999.0,9,  -9.0000,9,-999.0000,9, -999.00,9, -999.00,9,  -999.0,9,  -999.0,-999.000,9,-999.000,-999.000,9,  -9.0000,-999.0000,  28.6333,   -9.00
  316N145_7,       I08N,     296,          1,         33,         33,2,19950313,       1557,     1.6668,    79.9997,       3655,    74.6,  23.8134,  35.4093,2,  35.4030,2,    125.5,2,   125.7,2,    7.97,2,   10.37,2,    0.52,2,    0.87,2,-999.000,9,-999.000,9,  -999.0,9,  -999.0,9,  -9.0000,9,-999.0000,9, -999.00,9, -999.00,9,  -999.0,9,  -999.0,-999.000,9,-999.000,-999.000,9,  -9.0000,-999.0000,  23.7978,   -9.00
  316N145_7,       I08N,     296,          1,         32,         32,2,19950313,       1557,     1.6668,    79.9997,       3655,   104.8,  20.4486,  35.3678,2,  35.3504,2,     97.9,2,    97.7,2,   12.27,2,   16.43,2,    0.08,2,    1.21,2,   1.400,2,   0.746,2,  -999.0,9,  -999.0,9,  -9.0000,9,-999.0000,9, -999.00,9, -999.00,9,  -999.0,9,  -999.0,-999.000,9,-999.000,-999.000,9,  -9.0000,-999.0000,  20.4289,   -9.00
  316N145_7,       I08N,     296,          1,         31,         31,2,19950313,       1557,     1.6668,    79.9997,       3655,   149.6,  16.3501,  35.1954,2,  35.1766,2,     62.6,2,    63.7,2,   19.23,2,   23.28,2,    0.02,2,    1.65,2,-999.000,9,-999.000,9,  -999.0,9,  -999.0,9,  -9.0000,9,-999.0000,9, -999.00,9, -999.00,9,  -999.0,9,  -999.0,-999.000,9,-999.000,-999.000,9,  -9.0000,-999.0000,  16.3261,   -9.00
  316N145_7,       I08N,     296,          1,         30,         30,2,19950313,       1557,     1.6668,    79.9997,       3655,   205.4,  14.0464,  35.1499,2,  35.1494,2,     69.5,2,    71.1,2,   21.68,2,   24.45,2,    0.01,2,    1.74,2,   0.871,2,   0.437,2,  -999.0,9,  -999.0,9,  -9.0000,9,-999.0000,9, -999.00,9, -999.00,9,  -999.0,9,  -999.0,-999.000,9,-999.000,-999.000,9,  -9.0000,-999.0000,  14.0166,   -9.00
  316N145_7,       I08N,     296,          1,         29,         29,2,19950313,       1557,     1.6668,    79.9997,       3655,   266.0,  12.9530,  35.0995,2,  35.0969,2,     66.5,2,    68.2,2,   23.30,2,   26.21,2,    0.00,2,    1.83,2,-999.000,9,-999.000,9,  -999.0,9,  -999.0,9,  -9.0000,9,-999.0000,9, -999.00,9, -999.00,9,  -999.0,9,  -999.0,-999.000,9,-999.000,-999.000,9,  -9.0000,-999.0000,  12.9163,   -9.00
  316N145_7,       I08N,     296,          1,         28,         28,2,19950313,       1557,     1.6668,    79.9997,       3655,   325.5,  11.8989,  35.0814,2,  35.0812,2,     66.2,2,    65.7,2,   26.97,2,   28.03,2,    0.00,2,    1.97,2,   0.503,2,   0.252,2,  -999.0,9,  -999.0,9,  -9.0000,9,-999.0000,9, -999.00,9, -999.00,9,  -999.0,9,  -999.0,-999.000,9,-999.000,-999.000,9,  -9.0000,-999.0000,  11.8564,   -9.00
  316N145_7,       I08N,     296,          1,         27,         27,2,19950313,       1557,     1.6668,    79.9997,       3655,   405.9,  10.8078,  35.0616,2,  35.0607,2,     47.2,2,    44.2,2,   36.20,2,   31.95,2,    0.00,2,    2.27,2,-999.000,9,-999.000,9,  -999.0,9,  -999.0,9,  -9.0000,9,-999.0000,9, -999.00,9, -999.00,9,  -999.0,9,  -999.0,-999.000,9,-999.000,-999.000,9,  -9.0000,-999.0000,  10.7578,   -9.00
  316N145_7,       I08N,     296,          1,         26,         26,2,19950313,       1557,     1.6668,    79.9997,       3655,   506.2,   9.4529,  35.0335,2,  35.0322,2,     46.7,2,    46.9,2,   47.89,2,   33.68,2,    0.00,2,    2.48,2,   0.090,2,   0.043,2,  -999.0,9,  -999.0,9,  -9.0000,9,-999.0000,9, -999.00,9, -999.00,9,  -999.0,9,  -999.0,-999.000,9,-999.000,-999.000,9,  -9.0000,-999.0000,   9.3952,   -9.00
  316N145_7,       I08N,     296,          1,         25,         25,2,19950313,       1557,     1.6668,    79.9997,       3655,   607.0,   8.8550,  35.0078,2,  35.0112,2,     47.1,2,    44.6,2,   55.27,2,   34.76,2,    0.00,2,    2.57,2,-999.000,9,-999.000,9,  -999.0,9,  -999.0,9,  -9.0000,9,-999.0000,9, -999.00,9, -999.00,9,  -999.0,9,  -999.0,-999.000,9,-999.000,-999.000,9,  -9.0000,-999.0000,   8.7882,   -9.00
  316N145_7,       I08N,     296,          1,         24,         24,2,19950313,       1557,     1.6668,    79.9997,       3655,   707.6,   8.6204,  35.0029,2,  35.0024,2,     46.0,2,    44.6,2,   58.53,2,   34.95,2,    0.00,2,    2.61,2,   0.026,2,   0.009,2,  -999.0,9,  -999.0,9,  -9.0000,9,-999.0000,9, -999.00,9, -999.00,9,  -999.0,9,  -999.0,-999.000,9,-999.000,-999.000,9,  -9.0000,-999.0000,   8.5432,   -9.00
  316N145_7,       I08N,     296,          1,         23,         23,2,19950313,       1557,     1.6668,    79.9997,       3655,   808.3,   8.0228,  34.9872,2,  34.9873,2,     45.1,2,    44.2,2,   66.54,2,   35.71,2,    0.00,2,    2.65,2,-999.000,9,-999.000,9,  -999.0,9,  -999.0,9,  -9.0000,9,-999.0000,9, -999.00,9, -999.00,9,  -999.0,9,  -999.0,-999.000,9,-999.000,-999.000,9,  -9.0000,-999.0000,   7.9377,   -9.00
  316N145_7,       I08N,     296,          1,         22,         22,2,19950313,       1557,     1.6668,    79.9997,       3655,   908.7,   7.4409,  34.9743,2,  34.9757,2,     44.2,2,    45.3,2,   75.17,2,   36.56,2,    0.00,2,    2.73,2,   0.004,2,   0.000,2,  -999.0,9,  -999.0,9,  -9.0000,9,-999.0000,9, -999.00,9, -999.00,9,  -999.0,9,  -999.0,-999.000,9,-999.000,-999.000,9,  -9.0000,-999.0000,   7.3485,   -9.00
  316N145_7,       I08N,     296,          1,         21,         21,2,19950313,       1557,     1.6668,    79.9997,       3655,  1009.7,   6.8165,  34.9466,2,  34.9431,2,     50.0,2,    49.9,2,   83.20,2,   37.04,2,    0.00,2,    2.78,2,-999.000,9,-999.000,9,  -999.0,9,  -999.0,9,  -9.0000,9,-999.0000,9, -999.00,9, -999.00,9,  -999.0,9,  -999.0,-999.000,9,-999.000,-999.000,9,  -9.0000,-999.0000,   6.7178,   -9.00
  316N145_7,       I08N,     296,          1,         20,         20,2,19950313,       1557,     1.6668,    79.9997,       3655,  1110.4,   6.2722,  34.9278,2,  34.9264,2,     56.0,2,    57.3,2,   89.59,2,   37.18,2,    0.00,2,    2.79,2,   0.002,2,   0.002,2,  -999.0,9,  -999.0,9,  -9.0000,9,-999.0000,9, -999.00,9, -999.00,9,  -999.0,9,  -999.0,-999.000,9,-999.000,-999.000,9,  -9.0000,-999.0000,   6.1675,   -9.00
  316N145_7,       I08N,     296,          1,         19,         19,2,19950313,       1557,     1.6668,    79.9997,       3655,  1211.5,   5.8250,  34.9055,2,  34.9045,2,     60.3,2,    61.8,2,   95.17,2,   37.32,2,    0.00,2,    2.79,2,-999.000,9,-999.000,9,  -999.0,9,  -999.0,9,  -9.0000,9,-999.0000,9, -999.00,9, -999.00,9,  -999.0,9,  -999.0,-999.000,9,-999.000,-999.000,9,  -9.0000,-999.0000,   5.7139,   -9.00
  316N145_7,       I08N,     296,          1,         18,         18,2,19950313,       1557,     1.6668,    79.9997,       3655,  1312.4,   5.3626,  34.8866,2,  34.8875,2,     67.4,2,    68.0,2,   99.72,2,   37.32,2,    0.00,2,    2.80,2,   0.004,6,   0.001,6,  -999.0,9,  -999.0,9,  -9.0000,9,-999.0000,9, -999.00,9, -999.00,9,  -999.0,9,  -999.0,-999.000,9,-999.000,-999.000,9,  -9.0000,-999.0000,   5.2460,   -9.00
  316N145_7,       I08N,     296,          1,         17,         17,2,19950313,       1557,     1.6668,    79.9997,       3655,  1413.1,   4.8039,  34.8662,2,  34.8676,2,     77.1,2,    77.5,2,  104.49,2,   37.09,2,    0.00,2,    2.76,2,-999.000,9,-999.000,9,  -999.0,9,  -999.0,9,  -9.0000,9,-999.0000,9, -999.00,9, -999.00,9,  -999.0,9,  -999.0,-999.000,9,-999.000,-999.000,9,  -9.0000,-999.0000,   4.6833,   -9.00
  316N145_7,       I08N,     296,          1,         16,         16,2,19950313,       1557,     1.6668,    79.9997,       3655,  1514.1,   4.2376,  34.8347,2,  34.8364,2,     89.7,2,    91.6,2,  108.23,2,   36.67,2,    0.00,2,    2.72,2,   0.014,3,   0.001,2,  -999.0,9,  -999.0,9,  -9.0000,9,-999.0000,9, -999.00,9, -999.00,9,  -999.0,9,  -999.0,-999.000,9,-999.000,-999.000,9,  -9.0000,-999.0000,   4.1138,   -9.00
  316N145_7,       I08N,     296,          1,         15,         15,2,19950313,       1557,     1.6668,    79.9997,       3655,  1666.1,   3.8029,  34.8201,2,  34.8211,2,    102.4,2,   101.3,2,  112.40,2,   36.38,2,    0.00,2,    2.68,2,-999.000,9,-999.000,9,  -999.0,9,  -999.0,9,  -9.0000,9,-999.0000,9, -999.00,9, -999.00,9,  -999.0,9,  -999.0,-999.000,9,-999.000,-999.000,9,  -9.0000,-999.0000,   3.6703,   -9.00
  316N145_7,       I08N,     296,          1,         14,         14,2,19950313,       1557,     1.6668,    79.9997,       3655,  1817.3,   3.2559,  34.8008,2,  34.7991,2,    110.8,2,   113.0,2,  118.68,2,   36.01,2,    0.00,2,    2.64,2,  -0.003,2,  -0.001,2,  -999.0,9,  -999.0,9,  -9.0000,9,-999.0000,9, -999.00,9, -999.00,9,  -999.0,9,  -999.0,-999.000,9,-999.000,-999.000,9,  -9.0000,-999.0000,   3.1166,   -9.00
  316N145_7,       I08N,     296,          1,         13,         13,2,19950313,       1557,     1.6668,    79.9997,       3655,  1969.9,   2.7989,  34.7797,2,  34.7795,2,    121.5,2,   123.7,2,  123.73,2,   35.73,2,    0.00,2,    2.61,2,-999.000,9,-999.000,9,  -999.0,9,  -999.0,9,  -9.0000,9,-999.0000,9, -999.00,9, -999.00,9,  -999.0,9,  -999.0,-999.000,9,-999.000,-999.000,9,  -9.0000,-999.0000,   2.6525,   -9.00
  316N145_7,       I08N,     296,          1,         12,         12,2,19950313,       1557,     1.6668,    79.9997,       3655,  2121.7,   2.5039,  34.7666,2,  34.7677,2,    131.1,2,   133.3,2,  126.68,2,   35.45,2,    0.00,2,    2.56,2,   0.001,2,   0.000,2,  -999.0,9,  -999.0,9,  -9.0000,9,-999.0000,9, -999.00,9, -999.00,9,  -999.0,9,  -999.0,-999.000,9,-999.000,-999.000,9,  -9.0000,-999.0000,   2.3486,   -9.00
  316N145_7,       I08N,     296,          1,         11,         11,2,19950313,       1557,     1.6668,    79.9997,       3655,  2274.1,   2.3069,  34.7573,2,  34.7579,2,    135.5,2,   134.4,2,  131.13,2,   35.50,2,    0.00,2,    2.57,2,-999.000,9,-999.000,9,  -999.0,9,  -999.0,9,  -9.0000,9,-999.0000,9, -999.00,9, -999.00,9,  -999.0,9,  -999.0,-999.000,9,-999.000,-999.000,9,  -9.0000,-999.0000,   2.1412,   -9.00
  316N145_7,       I08N,     296,          1,         10,         10,2,19950313,       1557,     1.6668,    79.9997,       3655,  2426.0,   2.1446,  34.7502,2,  34.7503,2,    142.9,2,   142.6,2,  130.46,2,   35.07,2,    0.00,2,    2.52,2,  -0.003,2,  -0.001,2,  -999.0,9,  -999.0,9,  -9.0000,9,-999.0000,9, -999.00,9, -999.00,9,  -999.0,9,  -999.0,-999.000,9,-999.000,-999.000,9,  -9.0000,-999.0000,   1.9680,   -9.00
  316N145_7,       I08N,     296,          1,          9,          9,2,19950313,       1557,     1.6668,    79.9997,       3655,  2578.3,   2.0227,  34.7445,2,  34.7452,2,    148.4,2,   147.6,2,  131.29,2,   34.93,2,    0.00,2,    2.50,2,-999.000,9,-999.000,9,  -999.0,9,  -999.0,9,  -9.0000,9,-999.0000,9, -999.00,9, -999.00,9,  -999.0,9,  -999.0,-999.000,9,-999.000,-999.000,9,  -9.0000,-999.0000,   1.8344,   -9.00
  316N145_7,       I08N,     296,          1,          8,          8,2,19950313,       1557,     1.6668,    79.9997,       3655,  2731.1,   1.8955,  34.7382,2,  34.7397,2,    152.4,2,   151.4,2,  132.76,2,   34.80,2,    0.00,2,    2.47,2,  -0.001,2,   0.000,2,  -999.0,9,  -999.0,9,  -9.0000,9,-999.0000,9, -999.00,9, -999.00,9,  -999.0,9,  -999.0,-999.000,9,-999.000,-999.000,9,  -9.0000,-999.0000,   1.6955,   -9.00
  316N145_7,       I08N,     296,          1,          7,          7,2,19950313,       1557,     1.6668,    79.9997,       3655,  2883.0,   1.7949,  34.7346,2,  34.7356,2,    155.8,2,   155.8,2,  133.59,2,   34.61,2,    0.00,2,    2.46,2,-999.000,9,-999.000,9,  -999.0,9,  -999.0,9,  -9.0000,9,-999.0000,9, -999.00,9, -999.00,9,  -999.0,9,  -999.0,-999.000,9,-999.000,-999.000,9,  -9.0000,-999.0000,   1.5826,   -9.00
  316N145_7,       I08N,     296,          1,          6,          6,2,19950313,       1557,     1.6668,    79.9997,       3655,  3035.6,   1.7291,  34.7317,2,  34.7329,2,    157.5,2,   153.9,2,  137.43,2,   34.75,2,    0.00,2,    2.47,2,  -0.004,2,   0.000,2,  -999.0,9,  -999.0,9,  -9.0000,9,-999.0000,9, -999.00,9, -999.00,9,  -999.0,9,  -999.0,-999.000,9,-999.000,-999.000,9,  -9.0000,-999.0000,   1.5035,   -9.00
  316N145_7,       I08N,     296,          1,          5,          5,2,19950313,       1557,     1.6668,    79.9997,       3655,  3188.8,   1.6227,  34.7277,2,  34.7282,2,    155.6,2,   153.9,2,  141.28,2,   34.89,2,    0.00,2,    2.47,2,-999.000,9,-999.000,9,  -999.0,9,  -999.0,9,  -9.0000,9,-999.0000,9, -999.00,9, -999.00,9,  -999.0,9,  -999.0,-999.000,9,-999.000,-999.000,9,  -9.0000,-999.0000,   1.3846,   -9.00
  316N145_7,       I08N,     296,          1,          4,          4,2,19950313,       1557,     1.6668,    79.9997,       3655,  3341.3,   1.5638,  34.7256,2,  34.7261,2,    156.7,2,   157.2,2,  141.69,2,   34.80,2,    0.00,2,    2.46,2,  -0.001,2,   0.002,2,  -999.0,9,  -999.0,9,  -9.0000,9,-999.0000,9, -999.00,9, -999.00,9,  -999.0,9,  -999.0,-999.000,9,-999.000,-999.000,9,  -9.0000,-999.0000,   1.3119,   -9.00
  316N145_7,       I08N,     296,          1,          3,          3,2,19950313,       1557,     1.6668,    79.9997,       3655,  3444.3,   1.5095,  34.7228,2,  34.7238,2,    158.9,2,   160.1,2,  141.44,2,   34.71,2,    0.00,2,    2.44,2,  -0.003,2,   0.000,2,  -999.0,9,  -999.0,9,  -9.0000,9,-999.0000,9, -999.00,9, -999.00,9,  -999.0,9,  -999.0,-999.000,9,-999.000,-999.000,9,  -9.0000,-999.0000,   1.2486,   -9.00
  316N145_7,       I08N,     296,          1,          2,          2,2,19950313,       1557,     1.6668,    79.9997,       3655,  3545.1,   1.5012,  34.7232,2,  34.7236,2,    161.0,2,   160.3,2,  141.42,2,   34.62,2,    0.00,2,    2.44,2,  -0.002,2,   0.001,2,  -999.0,9,  -999.0,9,  -9.0000,9,-999.0000,9, -999.00,9, -999.00,9,  -999.0,9,  -999.0,-999.000,9,-999.000,-999.000,9,  -9.0000,-999.0000,   1.2302,   -9.00
  316N145_7,       I08N,     296,          1,          1,          1,2,19950313,       1557,     1.6668,    79.9997,       3655,  3647.6,   1.4581,  34.7218,2,  34.7219,2,    163.6,2,   164.6,2,  141.17,2,   34.57,2,    0.00,2,    2.42,2,  -0.002,2,   0.003,2,  -999.0,9,  -999.0,9,  -9.0000,9,-999.0000,9, -999.00,9, -999.00,9,  -999.0,9,  -999.0,-999.000,9,-999.000,-999.000,9,  -9.0000,-999.0000,   1.1776,   -9.00