BOTTLE,20211124CCHSIORKP
EXPOCODE,SECT_ID,STNNBR,CASTNO,SAMPNO,BTLNBR,BTLNBR_FLAG_W,DATE,TIME,LATITUDE,LONGITUDE,DEPTH,CTDPRS,CTDTMP,CTDSAL,CTDSAL_FLAG_W,SALNTY,SALNTY_FLAG_W,CTDOXY,CTDOXY_FLAG_W,OXYGEN,OXYGEN_FLAG_W,SILCAT,SILCAT_FLAG_W,NITRAT,NITRAT_FLAG_W,NITRIT,NITRIT_FLAG_W,PHSPHT,PHSPHT_FLAG_W,CFC-11,CFC-11_FLAG_W,CFC-12,CFC-12_FLAG_W,TCARBN,TCARBN_FLAG_W,ALKALI,ALKALI_FLAG_W,TRITUM,TRITUM_FLAG_W,HELIUM,HELIUM_FLAG_W,DELHE3,DELHE3_FLAG_W,DELC13,DELC13_FLAG_W,DELC14,DELC14_FLAG_W,C14ERR,NEON,NEON_FLAG_W,NEONER,CCL4,CCL4_FLAG_W,TRITER,HELIER,THETA,DELHER
,,,,,,,,,,,METERS,DBAR,ITS-90,PSS-78,,PSS-78,,UMOL/KG,,UMOL/KG,,UMOL/KG,,UMOL/KG,,UMOL/KG,,UMOL/KG,,PMOL/KG,,PMOL/KG,,UMOL/KG,,UMOL/KG,,TU,,NMOL/KG,,PERCNT,,/MILLE,,/MILLE,,/MILLE,NMOL/KG,,NMOL/KG,PMOL/KG,,TU,NMOL/KG,DEG C,PERCNT
  316N145_7,       I05E,     425,          1,         36,         36,2,19950411,       0339,   -31.1167,   105.9663,       5051,     3.3,  21.5508,  36.2160,2,  36.2163,2,    220.3,2,   220.9,2,    3.48,2,    0.10,2,    0.00,2,    0.09,2,   2.106,2,   1.205,2,  2053.2,2,  2376.1,2,  -9.0000,9,-999.0000,9, -999.00,9, -999.00,9,  -999.0,9,  -999.0,-999.000,9,-999.000,   2.619,2,  -9.0000,-999.0000,  21.5501,   -9.00
  316N145_7,       I05E,     425,          1,         35,         35,2,19950411,       0339,   -31.1167,   105.9663,       5051,    32.5,  21.4727,  36.2128,2,  36.2119,2,    215.0,2,   221.2,2,    3.47,2,    0.10,2,    0.00,2,    0.09,2,-999.000,9,-999.000,9,  -999.0,9,  -999.0,9,  -9.0000,9,-999.0000,9, -999.00,9, -999.00,9,  -999.0,9,  -999.0,-999.000,9,-999.000,-999.000,9,  -9.0000,-999.0000,  21.4663,   -9.00
  316N145_7,       I05E,     425,          1,         34,         34,2,19950411,       0339,   -31.1167,   105.9663,       5051,    57.2,  21.3959,  36.2071,2,  36.2062,2,    223.2,2,   221.3,2,    3.25,2,    0.10,2,    0.00,2,    0.09,2,   2.110,2,   1.207,2,  -999.0,9,  -999.0,9,  -9.0000,9,-999.0000,9, -999.00,9, -999.00,9,  -999.0,9,  -999.0,-999.000,9,-999.000,   2.572,2,  -9.0000,-999.0000,  21.3848,   -9.00
  316N145_7,       I05E,     425,          1,         33,         33,2,19950411,       0339,   -31.1167,   105.9663,       5051,    87.7,  19.2402,  35.9356,2,  35.8740,2,    240.4,2,   243.9,2,    2.81,2,    0.10,2,    0.00,2,    0.15,2,-999.000,9,-999.000,9,  -999.0,9,  -999.0,9,  -9.0000,9,-999.0000,9, -999.00,9, -999.00,9,  -999.0,9,  -999.0,-999.000,9,-999.000,-999.000,9,  -9.0000,-999.0000,  19.2244,   -9.00
  316N145_7,       I05E,     425,          1,         32,         32,2,19950411,       0339,   -31.1167,   105.9663,       5051,   117.7,  16.0188,  35.6844,2,  35.6937,2,    247.2,2,   247.8,2,    2.59,2,    0.10,2,    0.00,2,    0.20,2,   2.760,2,   1.502,2,  -999.0,9,  -999.0,9,  -9.0000,9,-999.0000,9, -999.00,9, -999.00,9,  -999.0,9,  -999.0,-999.000,9,-999.000,   1.955,2,  -9.0000,-999.0000,  16.0001,   -9.00
  316N145_7,       I05E,     425,          1,         31,         31,2,19950411,       0339,   -31.1167,   105.9663,       5051,   157.1,  14.4416,  35.5099,2,  35.5165,2,    231.2,2,   233.7,2,    2.79,2,    3.19,2,    0.08,2,    0.39,2,-999.000,9,-999.000,9,  -999.0,9,  -999.0,9,  -9.0000,9,-999.0000,9, -999.00,9, -999.00,9,  -999.0,9,  -999.0,-999.000,9,-999.000,-999.000,9,  -9.0000,-999.0000,  14.4184,   -9.00
  316N145_7,       I05E,     425,          1,         30,         30,2,19950411,       0339,   -31.1167,   105.9663,       5051,   217.5,  13.2417,  35.3259,2,  35.3311,2,    233.7,2,   235.4,2,    2.99,2,    5.47,2,    0.02,2,    0.53,2,   3.067,2,   1.619,2,  -999.0,9,  -999.0,9,  -9.0000,9,-999.0000,9, -999.00,9, -999.00,9,  -999.0,9,  -999.0,-999.000,9,-999.000,   1.323,2,  -9.0000,-999.0000,  13.2113,   -9.00
  316N145_7,       I05E,     425,          1,         29,         29,2,19950411,       0339,   -31.1167,   105.9663,       5051,   278.8,  12.1600,  35.1493,2,  35.1422,2,    238.8,2,   238.2,2,    3.39,2,    8.07,2,    0.01,2,    0.68,2,-999.000,9,-999.000,9,  -999.0,9,  -999.0,9,  -9.0000,9,-999.0000,9, -999.00,9, -999.00,9,  -999.0,9,  -999.0,-999.000,9,-999.000,-999.000,9,  -9.0000,-999.0000,  12.1232,   -9.00
  316N145_7,       I05E,     425,          1,         28,         28,2,19950411,       0339,   -31.1167,   105.9663,       5051,   339.3,  11.1974,  34.9842,2,  34.9851,2,    237.2,2,   243.4,2,    3.59,2,    9.76,2,    0.01,2,    0.78,2,   3.338,2,   1.723,2,  -999.0,9,  -999.0,9,  -9.0000,9,-999.0000,9, -999.00,9, -999.00,9,  -999.0,9,  -999.0,-999.000,9,-999.000,   1.772,2,  -9.0000,-999.0000,  11.1548,   -9.00
  316N145_7,       I05E,     425,          1,         27,         27,2,19950411,       0339,   -31.1167,   105.9663,       5051,   408.5,  10.4976,  34.8711,2,  34.8706,2,    241.6,2,   243.4,2,    4.42,2,   11.98,2,    0.01,2,    0.91,2,-999.000,9,-999.000,9,  -999.0,9,  -999.0,9,  -9.0000,9,-999.0000,9, -999.00,9, -999.00,9,  -999.0,9,  -999.0,-999.000,9,-999.000,-999.000,9,  -9.0000,-999.0000,  10.4483,   -9.00
  316N145_7,       I05E,     425,          1,         26,         26,2,19950411,       0339,   -31.1167,   105.9663,       5051,   508.7,   9.6460,  34.7287,2,  34.7318,2,    243.2,2,   242.4,2,    5.25,2,   14.79,2,    0.01,2,    1.08,2,   3.351,3,   1.640,3,  -999.0,9,  -999.0,9,  -9.0000,9,-999.0000,9, -999.00,9, -999.00,9,  -999.0,9,  -999.0,-999.000,9,-999.000,   1.935,2,  -9.0000,-999.0000,   9.5875,   -9.00
  316N145_7,       I05E,     425,          1,         25,         25,2,19950411,       0339,   -31.1167,   105.9663,       5051,   608.0,   9.0143,  34.6427,2,  34.6426,2,    235.4,2,   233.4,2,    6.93,2,   17.74,2,    0.01,2,    1.26,2,-999.000,9,-999.000,9,  -999.0,9,  -999.0,9,  -9.0000,9,-999.0000,9, -999.00,9, -999.00,9,  -999.0,9,  -999.0,-999.000,9,-999.000,-999.000,9,  -9.0000,-999.0000,   8.9469,   -9.00
  316N145_7,       I05E,     425,          1,         24,         24,2,19950411,       0339,   -31.1167,   105.9663,       5051,   707.9,   7.9143,  34.5284,2,  34.5286,2,    220.0,2,   213.2,2,   11.55,2,   22.29,2,    0.01,2,    1.53,2,   1.849,2,   0.955,2,  -999.0,9,  -999.0,9,  -9.0000,9,-999.0000,9, -999.00,9, -999.00,9,  -999.0,9,  -999.0,-999.000,9,-999.000,   1.743,2,  -9.0000,-999.0000,   7.8413,   -9.00
  316N145_7,       I05E,     425,          1,         23,         23,2,19950411,       0339,   -31.1167,   105.9663,       5051,   807.6,   6.2432,  34.4369,2,  34.4366,2,    196.1,2,   194.3,2,   23.34,2,   27.54,2,    0.00,2,    1.89,2,-999.000,9,-999.000,9,  -999.0,9,  -999.0,9,  -9.0000,9,-999.0000,9, -999.00,9, -999.00,9,  -999.0,9,  -999.0,-999.000,9,-999.000,-999.000,9,  -9.0000,-999.0000,   6.1695,   -9.00
  316N145_7,       I05E,     425,          1,         22,         22,2,19950411,       0339,   -31.1167,   105.9663,       5051,   907.3,   4.9324,  34.3929,2,  34.3928,2,    191.9,2,   190.7,2,   35.33,2,   30.53,2,    0.00,2,    2.11,2,   0.603,2,   0.280,2,  -999.0,9,  -999.0,9,  -9.0000,9,-999.0000,9, -999.00,9, -999.00,9,  -999.0,9,  -999.0,-999.000,9,-999.000,   1.083,2,  -9.0000,-999.0000,   4.8580,   -9.00
  316N145_7,       I05E,     425,          1,         21,         21,2,19950411,       0339,   -31.1167,   105.9663,       5051,  1008.8,   4.0558,  34.3974,2,  34.3959,2,    185.1,2,   184.6,2,   47.33,2,   32.39,2,    0.01,2,    2.27,2,-999.000,9,-999.000,9,  -999.0,9,  -999.0,9,  -9.0000,9,-999.0000,9, -999.00,9, -999.00,9,  -999.0,9,  -999.0,-999.000,9,-999.000,-999.000,9,  -9.0000,-999.0000,   3.9792,   -9.00
  316N145_7,       I05E,     425,          1,         20,         20,2,19950411,       0339,   -31.1167,   105.9663,       5051,  1160.4,   3.7115,  34.4952,2,  34.4939,2,    159.3,2,   155.8,2,   68.40,2,   34.56,2,    0.00,2,    2.44,2,   0.101,3,   0.045,2,  -999.0,9,  -999.0,9,  -9.0000,9,-999.0000,9, -999.00,9, -999.00,9,  -999.0,9,  -999.0,-999.000,9,-999.000,   0.339,2,  -9.0000,-999.0000,   3.6249,   -9.00
  316N145_7,       I05E,     425,          1,         19,         19,2,19950411,       0339,   -31.1167,   105.9663,       5051,  1313.5,   3.3863,  34.5631,2,  34.5632,2,    147.7,2,   146.2,2,   81.48,2,   35.25,2,    0.01,2,    2.50,2,-999.000,9,-999.000,9,  -999.0,9,  -999.0,9,  -9.0000,9,-999.0000,9, -999.00,9, -999.00,9,  -999.0,9,  -999.0,-999.000,9,-999.000,-999.000,9,  -9.0000,-999.0000,   3.2899,   -9.00
  316N145_7,       I05E,     425,          1,         18,         18,2,19950411,       0339,   -31.1167,   105.9663,       5051,  1515.8,   3.0782,  34.6169,2,  34.6171,2,    146.8,2,   145.8,2,   89.50,2,   35.16,2,    0.00,2,    2.49,2,  -0.010,3,   0.003,2,  -999.0,9,  -999.0,9,  -9.0000,9,-999.0000,9, -999.00,9, -999.00,9,  -999.0,9,  -999.0,-999.000,9,-999.000,   0.048,2,  -9.0000,-999.0000,   2.9681,   -9.00
  316N145_7,       I05E,     425,          1,         17,         17,2,19950411,       0339,   -31.1167,   105.9663,       5051,  1719.3,   2.7147,  34.6613,2,  34.6599,2,    154.8,2,   156.4,2,   94.14,2,   34.43,2,    0.00,2,    2.43,2,-999.000,9,-999.000,9,  -999.0,9,  -999.0,9,  -9.0000,9,-999.0000,9, -999.00,9, -999.00,9,  -999.0,9,  -999.0,-999.000,9,-999.000,-999.000,9,  -9.0000,-999.0000,   2.5917,   -9.00
  316N145_7,       I05E,     425,          1,         16,         16,2,19950411,       0339,   -31.1167,   105.9663,       5051,  1920.7,   2.4796,  34.6973,2,  34.6969,2,    159.4,2,   159.3,2,   99.86,2,   33.85,2,    0.00,2,    2.38,2,  -0.010,3,   0.005,2,  -999.0,9,  -999.0,9,  -9.0000,9,-999.0000,9, -999.00,9, -999.00,9,  -999.0,9,  -999.0,-999.000,9,-999.000,   0.015,2,  -9.0000,-999.0000,   2.3426,   -9.00
  316N145_7,       I05E,     425,          1,         15,         15,2,19950411,       0339,   -31.1167,   105.9663,       5051,  2123.5,   2.2675,  34.7166,2,  34.7155,2,    163.3,2,   164.3,2,  104.73,2,   33.46,2,    0.00,2,    2.36,2,-999.000,9,-999.000,9,  -999.0,9,  -999.0,9,  -9.0000,9,-999.0000,9, -999.00,9, -999.00,9,  -999.0,9,  -999.0,-999.000,9,-999.000,-999.000,9,  -9.0000,-999.0000,   2.1160,   -9.00
  316N145_7,       I05E,     425,          1,         14,         14,2,19950411,       0339,   -31.1167,   105.9663,       5051,  2325.9,   2.1109,  34.7238,2,  34.7234,2,    166.5,2,   165.3,2,  111.12,2,   33.57,2,    0.00,2,    2.36,2,   0.002,3,   0.004,2,  -999.0,9,  -999.0,9,  -9.0000,9,-999.0000,9, -999.00,9, -999.00,9,  -999.0,9,  -999.0,-999.000,9,-999.000,   0.005,2,  -9.0000,-999.0000,   1.9441,   -9.00
  316N145_7,       I05E,     425,          1,         13,         13,2,19950411,       0339,   -31.1167,   105.9663,       5051,  2528.8,   1.9638,  34.7277,2,  34.7275,2,    171.3,2,   170.7,2,  113.02,2,   33.29,2,    0.00,2,    2.34,2,-999.000,9,-999.000,9,  -999.0,9,  -999.0,9,  -9.0000,9,-999.0000,9, -999.00,9, -999.00,9,  -999.0,9,  -999.0,-999.000,9,-999.000,-999.000,9,  -9.0000,-999.0000,   1.7812,   -9.00
  316N145_7,       I05E,     425,          1,         12,         12,2,19950411,       0339,   -31.1167,   105.9663,       5051,  2732.8,   1.8302,  34.7293,2,  34.7295,2,    175.4,2,   176.2,2,  114.49,2,   33.05,2,    0.00,2,    2.31,2,   0.065,3,   0.017,3,  -999.0,9,  -999.0,9,  -9.0000,9,-999.0000,9, -999.00,9, -999.00,9,  -999.0,9,  -999.0,-999.000,9,-999.000,   0.001,2,  -9.0000,-999.0000,   1.6314,   -9.00
  316N145_7,       I05E,     425,          1,         11,         11,2,19950411,       0339,   -31.1167,   105.9663,       5051,  2935.7,   1.7118,  34.7291,2,  34.7283,2,    178.6,2,   178.8,2,  116.61,2,   33.01,2,    0.00,2,    2.30,2,-999.000,9,-999.000,9,  -999.0,9,  -999.0,9,  -9.0000,9,-999.0000,9, -999.00,9, -999.00,9,  -999.0,9,  -999.0,-999.000,9,-999.000,-999.000,9,  -9.0000,-999.0000,   1.4962,   -9.00
  316N145_7,       I05E,     425,          1,         10,         10,2,19950411,       0339,   -31.1167,   105.9663,       5051,  3138.8,   1.5956,  34.7285,2,  34.7275,2,    181.3,2,   182.6,2,  118.30,2,   32.87,2,    0.00,2,    2.29,2,   0.004,3,   0.000,2,  -999.0,9,  -999.0,9,  -9.0000,9,-999.0000,9, -999.00,9, -999.00,9,  -999.0,9,  -999.0,-999.000,9,-999.000,   0.005,2,  -9.0000,-999.0000,   1.3631,   -9.00
  316N145_7,       I05E,     425,          1,          9,          9,2,19950411,       0339,   -31.1167,   105.9663,       5051,  3341.8,   1.4754,  34.7270,2,  34.7301,3,    186.8,2,   187.4,2,  119.35,2,   32.73,2,    0.00,2,    2.28,2,-999.000,9,-999.000,9,  -999.0,9,  -999.0,9,  -9.0000,9,-999.0000,9, -999.00,9, -999.00,9,  -999.0,9,  -999.0,-999.000,9,-999.000,-999.000,9,  -9.0000,-999.0000,   1.2256,   -9.00
  316N145_7,       I05E,     425,          1,          8,          8,2,19950411,       0339,   -31.1167,   105.9663,       5051,  3546.7,   1.3717,  34.7247,2,  34.7240,2,    190.0,2,   190.7,2,  120.61,2,   32.64,2,    0.00,2,    2.27,2,   0.018,3,  -0.001,2,  -999.0,9,  -999.0,9,  -9.0000,9,-999.0000,9, -999.00,9, -999.00,9,  -999.0,9,  -999.0,-999.000,9,-999.000,   0.006,2,  -9.0000,-999.0000,   1.1038,   -9.00
  316N145_7,       I05E,     425,          1,          7,          7,2,19950411,       0339,   -31.1167,   105.9663,       5051,  3750.6,   1.2833,  34.7214,2,  34.7224,2,    193.0,2,   193.4,2,  122.09,2,   32.60,2,    0.00,2,    2.26,2,-999.000,9,-999.000,9,  -999.0,9,  -999.0,9,  -9.0000,9,-999.0000,9, -999.00,9, -999.00,9,  -999.0,9,  -999.0,-999.000,9,-999.000,-999.000,9,  -9.0000,-999.0000,   0.9967,   -9.00
  316N145_7,       I05E,     425,          1,          6,          6,2,19950411,       0339,   -31.1167,   105.9663,       5051,  3955.6,   1.2176,  34.7187,2,  34.7179,2,    193.8,2,   194.6,2,  123.78,2,   32.76,2,    0.00,2,    2.27,2,   0.027,3,   0.000,2,  -999.0,9,  -999.0,9,  -9.0000,9,-999.0000,9, -999.00,9, -999.00,9,  -999.0,9,  -999.0,-999.000,9,-999.000,   0.006,2,  -9.0000,-999.0000,   0.9112,   -9.00
  316N145_7,       I05E,     425,          1,          5,          5,2,19950411,       0339,   -31.1167,   105.9663,       5051,  4159.5,   1.1707,  34.7164,2,  34.7150,2,    195.7,2,   196.3,2,  125.27,2,   32.76,2,    0.00,2,    2.27,2,-999.000,9,-999.000,9,  -999.0,9,  -999.0,9,  -9.0000,9,-999.0000,9, -999.00,9, -999.00,9,  -999.0,9,  -999.0,-999.000,9,-999.000,-999.000,9,  -9.0000,-999.0000,   0.8436,   -9.00
  316N145_7,       I05E,     425,          1,          4,          4,2,19950411,       0339,   -31.1167,   105.9663,       5051,  4414.9,   1.1107,  34.7142,2,  34.7140,2,    199.9,2,   200.6,2,  124.37,2,   32.58,2,    0.00,2,    2.25,2,   0.028,3,   0.002,2,  -999.0,9,  -999.0,9,  -9.0000,9,-999.0000,9, -999.00,9, -999.00,9,  -999.0,9,  -999.0,-999.000,9,-999.000,   0.021,2,  -9.0000,-999.0000,   0.7572,   -9.00
  316N145_7,       I05E,     425,          1,          3,          3,2,19950411,       0339,   -31.1167,   105.9663,       5051,  4669.4,   1.0421,  34.7108,2,  34.7105,2,    204.1,2,   204.6,2,  124.12,2,   32.44,2,    0.00,2,    2.24,2,   0.126,3,   0.003,2,  -999.0,9,  -999.0,9,  -9.0000,9,-999.0000,9, -999.00,9, -999.00,9,  -999.0,9,  -999.0,-999.000,9,-999.000,   0.062,2,  -9.0000,-999.0000,   0.6620,   -9.00
  316N145_7,       I05E,     425,          1,          2,          2,2,19950411,       0339,   -31.1167,   105.9663,       5051,  4927.4,   0.9964,  34.7080,2,  34.7075,2,    206.9,2,   206.8,2,  124.52,2,   32.49,2,    0.00,2,    2.24,2,   0.144,3,   0.020,3,  -999.0,9,  -999.0,9,  -9.0000,9,-999.0000,9, -999.00,9, -999.00,9,  -999.0,9,  -999.0,-999.000,9,-999.000,   0.090,2,  -9.0000,-999.0000,   0.5877,   -9.00
  316N145_7,       I05E,     425,          1,          1,          1,2,19950411,       0339,   -31.1167,   105.9663,       5051,  5155.8,   0.9900,  34.7062,2,  34.7062,2,    208.6,2,   207.7,2,  124.71,2,   32.45,2,    0.00,2,    2.24,2,   0.020,3,   0.007,2,  -999.0,9,  -999.0,9,  -9.0000,9,-999.0000,9, -999.00,9, -999.00,9,  -999.0,9,  -999.0,-999.000,9,-999.000,   0.100,2,  -9.0000,-999.0000,   0.5542,   -9.00