BOTTLE,20211124CCHSIORKP
EXPOCODE,SECT_ID,STNNBR,CASTNO,SAMPNO,BTLNBR,BTLNBR_FLAG_W,DATE,TIME,LATITUDE,LONGITUDE,DEPTH,CTDPRS,CTDTMP,CTDSAL,CTDSAL_FLAG_W,SALNTY,SALNTY_FLAG_W,CTDOXY,CTDOXY_FLAG_W,OXYGEN,OXYGEN_FLAG_W,SILCAT,SILCAT_FLAG_W,NITRAT,NITRAT_FLAG_W,NITRIT,NITRIT_FLAG_W,PHSPHT,PHSPHT_FLAG_W,CFC-11,CFC-11_FLAG_W,CFC-12,CFC-12_FLAG_W,TCARBN,TCARBN_FLAG_W,ALKALI,ALKALI_FLAG_W,TRITUM,TRITUM_FLAG_W,HELIUM,HELIUM_FLAG_W,DELHE3,DELHE3_FLAG_W,DELC13,DELC13_FLAG_W,DELC14,DELC14_FLAG_W,C14ERR,NEON,NEON_FLAG_W,NEONER,CCL4,CCL4_FLAG_W,TRITER,HELIER,THETA,DELHER
,,,,,,,,,,,METERS,DBAR,ITS-90,PSS-78,,PSS-78,,UMOL/KG,,UMOL/KG,,UMOL/KG,,UMOL/KG,,UMOL/KG,,UMOL/KG,,PMOL/KG,,PMOL/KG,,UMOL/KG,,UMOL/KG,,TU,,NMOL/KG,,PERCNT,,/MILLE,,/MILLE,,/MILLE,NMOL/KG,,NMOL/KG,PMOL/KG,,TU,NMOL/KG,DEG C,PERCNT
  316N145_7,      TRANS,     388,          1,         29,         29,2,19950402,       1754,   -27.7162,    87.2498,       3288,     3.5,  23.3540,  36.0832,2,  36.0829,2,    213.7,2,   213.9,2,    2.68,2,    0.20,2,    0.00,2,    0.11,2,-999.000,9,-999.000,9,  2038.3,2,  2376.9,2,  -9.0000,9,-999.0000,9, -999.00,9, -999.00,9,  -999.0,9,  -999.0,-999.000,9,-999.000,-999.000,9,  -9.0000,-999.0000,  23.3532,   -9.00
  316N145_7,      TRANS,     388,          1,         28,         28,2,19950402,       1754,   -27.7162,    87.2498,       3288,    29.7,  23.3533,  36.0832,2,  36.0831,2,    214.7,2,   214.0,2,    2.67,2,    0.20,2,    0.00,2,    0.11,2,-999.000,9,-999.000,9,  2038.9,2,  2367.9,2,  -9.0000,9,-999.0000,9, -999.00,9, -999.00,9,  -999.0,9,  -999.0,-999.000,9,-999.000,-999.000,9,  -9.0000,-999.0000,  23.3471,   -9.00
  316N145_7,      TRANS,     388,          1,         27,         27,2,19950402,       1754,   -27.7162,    87.2498,       3288,    54.8,  21.0633,  35.9462,2,  35.9271,2,    233.8,2,   237.5,2,    2.45,2,    0.20,2,    0.00,2,    0.13,2,-999.000,9,-999.000,9,  2041.5,2,  2361.1,2,  -9.0000,9,-999.0000,9, -999.00,9, -999.00,9,  -999.0,9,  -999.0,-999.000,9,-999.000,-999.000,9,  -9.0000,-999.0000,  21.0527,   -9.00
  316N145_7,      TRANS,     388,          1,         26,         26,2,19950402,       1754,   -27.7162,    87.2498,       3288,    79.3,  18.7492,  35.8619,2,  35.8583,2,    251.4,2,   245.7,2,    2.44,2,    0.20,2,    0.00,2,    0.15,2,-999.000,9,-999.000,9,  2048.1,2,  2355.2,2,  -9.0000,9,-999.0000,9, -999.00,9, -999.00,9,  -999.0,9,  -999.0,-999.000,9,-999.000,-999.000,9,  -9.0000,-999.0000,  18.7352,   -9.00
  316N145_7,      TRANS,     388,          1,         25,         25,2,19950402,       1754,   -27.7162,    87.2498,       3288,   105.0,  17.6935,  35.8191,2,  35.8164,2,    241.9,2,   240.7,2,    2.21,2,    0.20,2,    0.00,2,    0.17,2,-999.000,9,-999.000,9,  2057.5,2,  2363.7,2,  -9.0000,9,-999.0000,9, -999.00,9, -999.00,9,  -999.0,9,  -999.0,-999.000,9,-999.000,-999.000,9,  -9.0000,-999.0000,  17.6756,   -9.00
  316N145_7,      TRANS,     388,          1,         24,         24,2,19950402,       1754,   -27.7162,    87.2498,       3288,   125.4,  16.7847,  35.7323,2,  35.7366,2,    235.6,2,   237.4,2,    2.20,2,    0.19,2,    0.00,2,    0.21,2,-999.000,9,-999.000,9,  2066.4,2,  2349.2,2,  -9.0000,9,-999.0000,9, -999.00,9, -999.00,9,  -999.0,9,  -999.0,-999.000,9,-999.000,-999.000,9,  -9.0000,-999.0000,  16.7641,   -9.00
  316N145_7,      TRANS,     388,          1,         23,         23,2,19950402,       1754,   -27.7162,    87.2498,       3288,   175.1,  14.5474,  35.4591,2,  35.4588,2,    226.2,2,   228.5,2,    2.41,2,    3.81,2,    0.05,2,    0.44,2,-999.000,9,-999.000,9,  2087.1,2,  2348.6,2,  -9.0000,9,-999.0000,9, -999.00,9, -999.00,9,  -999.0,9,  -999.0,-999.000,9,-999.000,-999.000,9,  -9.0000,-999.0000,  14.5214,   -9.00
  316N145_7,      TRANS,     388,          1,         22,         22,2,19950402,       1754,   -27.7162,    87.2498,       3288,   225.4,  13.3655,  35.2960,2,  35.2914,2,    229.1,2,   232.6,2,    2.82,2,    6.44,2,    0.01,2,    0.58,2,-999.000,9,-999.000,9,  2091.2,2,  2324.5,2,  -9.0000,9,-999.0000,9, -999.00,9, -999.00,9,  -999.0,9,  -999.0,-999.000,9,-999.000,-999.000,9,  -9.0000,-999.0000,  13.3338,   -9.00
  316N145_7,      TRANS,     388,          1,         21,         21,2,19950402,       1754,   -27.7162,    87.2498,       3288,   286.3,  12.4091,  35.1574,2,  35.1503,2,    235.1,2,   235.2,2,    3.45,2,    8.69,2,    0.01,2,    0.71,2,-999.000,9,-999.000,9,  2101.3,2,  2334.0,2,  -9.0000,9,-999.0000,9, -999.00,9, -999.00,9,  -999.0,9,  -999.0,-999.000,9,-999.000,-999.000,9,  -9.0000,-999.0000,  12.3707,   -9.00
  316N145_7,      TRANS,     388,          1,         20,         20,2,19950402,       1754,   -27.7162,    87.2498,       3288,   346.9,  11.8624,  35.0799,2,  35.0751,2,    234.9,2,   237.0,2,    3.86,2,    9.77,2,    0.00,2,    0.77,2,-999.000,9,-999.000,9,  2101.7,2,  2317.7,2,  -9.0000,9,-999.0000,9, -999.00,9, -999.00,9,  -999.0,9,  -999.0,-999.000,9,-999.000,-999.000,9,  -9.0000,-999.0000,  11.8171,   -9.00
  316N145_7,      TRANS,     388,          1,         19,         19,2,19950402,       1754,   -27.7162,    87.2498,       3288,   406.7,  11.2901,  34.9922,2,  35.0015,2,    238.4,2,   238.8,2,    4.06,2,   10.75,2,    0.00,2,    0.83,2,-999.000,9,-999.000,9,  2103.7,2,  2320.3,2,  -9.0000,9,-999.0000,9, -999.00,9, -999.00,9,  -999.0,9,  -999.0,-999.000,9,-999.000,-999.000,9,  -9.0000,-999.0000,  11.2387,   -9.00
  316N145_7,      TRANS,     388,          1,         18,         18,2,19950402,       1754,   -27.7162,    87.2498,       3288,   506.2,  10.5327,  34.8711,2,  34.8705,2,    240.7,2,   239.2,2,    4.69,2,   12.95,2,    0.00,2,    0.96,2,-999.000,9,-999.000,9,  2107.3,2,  2308.8,2,  -9.0000,9,-999.0000,9, -999.00,9, -999.00,9,  -999.0,9,  -999.0,-999.000,9,-999.000,-999.000,9,  -9.0000,-999.0000,  10.4712,   -9.00
  316N145_7,      TRANS,     388,          1,         17,         17,2,19950402,       1754,   -27.7162,    87.2498,       3288,   606.2,   9.6953,  34.7427,2,  34.7426,2,    237.8,2,   236.1,2,    5.52,2,   15.49,2,    0.00,2,    1.12,2,-999.000,9,-999.000,9,  2113.6,2,  2302.3,2,  -9.0000,9,-999.0000,9, -999.00,9, -999.00,9,  -999.0,9,  -999.0,-999.000,9,-999.000,-999.000,9,  -9.0000,-999.0000,   9.6250,   -9.00
  316N145_7,      TRANS,     388,          1,         16,         16,2,19950402,       1754,   -27.7162,    87.2498,       3288,   707.2,   8.5321,  34.6028,2,  34.6019,2,    224.3,2,   218.5,2,    9.33,2,   20.15,2,    0.00,2,    1.40,2,-999.000,9,-999.000,9,  2134.8,2,  2293.4,2,  -9.0000,9,-999.0000,9, -999.00,9, -999.00,9,  -999.0,9,  -999.0,-999.000,9,-999.000,-999.000,9,  -9.0000,-999.0000,   8.4558,   -9.00
  316N145_7,      TRANS,     388,          1,         15,         15,2,19950402,       1754,   -27.7162,    87.2498,       3288,   809.2,   7.2217,  34.5039,2,  34.5022,2,    206.8,2,   202.3,2,   16.94,2,   24.67,2,    0.00,2,    1.69,2,-999.000,9,-999.000,9,  2156.7,2,  2295.4,2,  -9.0000,9,-999.0000,9, -999.00,9, -999.00,9,  -999.0,9,  -999.0,-999.000,9,-999.000,-999.000,9,  -9.0000,-999.0000,   7.1419,   -9.00
  316N145_7,      TRANS,     388,          1,         14,         14,2,19950402,       1754,   -27.7162,    87.2498,       3288,   909.7,   5.6268,  34.4253,2,  34.4276,2,    192.5,2,   190.8,2,   29.86,2,   28.91,2,    0.00,2,    2.00,2,-999.000,9,-999.000,9,  2185.0,2,  2300.9,2,  -9.0000,9,-999.0000,9, -999.00,9, -999.00,9,  -999.0,9,  -999.0,-999.000,9,-999.000,-999.000,9,  -9.0000,-999.0000,   5.5474,   -9.00
  316N145_7,      TRANS,     388,          1,         13,         13,2,19950402,       1754,   -27.7162,    87.2498,       3288,  1010.8,   4.6002,  34.4169,2,  34.4183,2,    182.1,2,   180.4,2,   43.19,2,   31.64,2,    0.00,2,    2.20,2,-999.000,9,-999.000,9,  2207.8,2,  2307.6,2,  -9.0000,9,-999.0000,9, -999.00,9, -999.00,9,  -999.0,9,  -999.0,-999.000,9,-999.000,-999.000,9,  -9.0000,-999.0000,   4.5191,   -9.00
  316N145_7,      TRANS,     388,          1,         12,         12,2,19950402,       1754,   -27.7162,    87.2498,       3288,  1111.8,   4.0356,  34.4601,2,  34.4588,2,    167.8,2,   165.4,2,   57.58,2,   33.52,2,    0.00,2,    2.35,2,-999.000,9,-999.000,9,  -999.0,5,  2329.3,2,  -9.0000,9,-999.0000,9, -999.00,9, -999.00,9,  -999.0,9,  -999.0,-999.000,9,-999.000,-999.000,9,  -9.0000,-999.0000,   3.9504,   -9.00
  316N145_7,      TRANS,     388,          1,         11,         11,2,19950402,       1754,   -27.7162,    87.2498,       3288,  1313.0,   3.4231,  34.5406,2,  34.5420,2,    153.3,2,   153.1,2,   74.11,2,   34.61,2,    0.00,2,    2.45,2,-999.000,9,-999.000,9,  2254.2,2,  2347.2,2,  -9.0000,9,-999.0000,9, -999.00,9, -999.00,9,  -999.0,9,  -999.0,-999.000,9,-999.000,-999.000,9,  -9.0000,-999.0000,   3.3264,   -9.00
  316N145_7,      TRANS,     388,          1,         10,         10,2,19950402,       1754,   -27.7162,    87.2498,       3288,  1514.7,   3.1145,  34.6196,2,  34.6196,2,    150.3,2,   148.3,2,   85.57,2,   34.56,2,    0.00,2,    2.45,2,-999.000,9,-999.000,9,  2266.2,2,  2364.3,2,  -9.0000,9,-999.0000,9, -999.00,9, -999.00,9,  -999.0,9,  -999.0,-999.000,9,-999.000,-999.000,9,  -9.0000,-999.0000,   3.0040,   -9.00
  316N145_7,      TRANS,     388,          1,          9,          9,2,19950402,       1754,   -27.7162,    87.2498,       3288,  1717.2,   2.8507,  34.6822,2,  34.6825,2,    149.7,2,   149.4,2,   96.21,2,   34.31,2,    0.00,2,    2.43,2,-999.000,9,-999.000,9,  2277.9,2,  2372.5,2,  -9.0000,9,-999.0000,9, -999.00,9, -999.00,9,  -999.0,9,  -999.0,-999.000,9,-999.000,-999.000,9,  -9.0000,-999.0000,   2.7261,   -9.00
  316N145_7,      TRANS,     388,          1,          8,          8,2,19950402,       1754,   -27.7162,    87.2498,       3288,  1920.2,   2.5492,  34.7074,2,  34.7076,2,    156.8,2,   156.8,2,  102.18,2,   33.87,2,    0.00,2,    2.40,2,-999.000,9,-999.000,9,  2277.7,2,  2378.8,2,  -9.0000,9,-999.0000,9, -999.00,9, -999.00,9,  -999.0,9,  -999.0,-999.000,9,-999.000,-999.000,9,  -9.0000,-999.0000,   2.4111,   -9.00
  316N145_7,      TRANS,     388,          1,          7,          7,2,19950402,       1754,   -27.7162,    87.2498,       3288,  2122.2,   2.3021,  34.7170,2,  34.7178,2,    164.0,2,   163.9,2,  104.73,2,   33.42,2,    0.00,2,    2.36,2,-999.000,9,-999.000,9,  2278.2,2,  2377.9,2,  -9.0000,9,-999.0000,9, -999.00,9, -999.00,9,  -999.0,9,  -999.0,-999.000,9,-999.000,-999.000,9,  -9.0000,-999.0000,   2.1502,   -9.00
  316N145_7,      TRANS,     388,          1,          6,          6,2,19950402,       1754,   -27.7162,    87.2498,       3288,  2325.0,   2.0577,  34.7235,2,  34.7245,2,    173.9,2,   173.7,2,  105.77,2,   32.83,2,    0.00,2,    2.30,2,-999.000,9,-999.000,9,  2274.9,2,  2378.4,2,  -9.0000,9,-999.0000,9, -999.00,9, -999.00,9,  -999.0,9,  -999.0,-999.000,9,-999.000,-999.000,9,  -9.0000,-999.0000,   1.8919,   -9.00
  316N145_7,      TRANS,     388,          1,          5,          5,2,19950402,       1754,   -27.7162,    87.2498,       3288,  2528.9,   1.8911,  34.7280,2,  34.7298,2,    180.1,2,   179.4,2,  106.39,2,   32.43,2,    0.00,2,    2.26,2,-999.000,9,-999.000,9,  2272.0,2,  2380.5,2,  -9.0000,9,-999.0000,9, -999.00,9, -999.00,9,  -999.0,9,  -999.0,-999.000,9,-999.000,-999.000,9,  -9.0000,-999.0000,   1.7099,   -9.00
  316N145_7,      TRANS,     388,          1,          4,          4,2,19950402,       1754,   -27.7162,    87.2498,       3288,  2731.6,   1.7725,  34.7302,2,  34.7304,2,    184.3,2,   184.6,2,  107.43,2,   32.18,2,    0.00,2,    2.25,2,-999.000,9,-999.000,9,  2270.1,2,  2379.6,2,  -9.0000,9,-999.0000,9, -999.00,9, -999.00,9,  -999.0,9,  -999.0,-999.000,9,-999.000,-999.000,9,  -9.0000,-999.0000,   1.5749,   -9.00
  316N145_7,      TRANS,     388,          1,          3,          3,2,19950402,       1754,   -27.7162,    87.2498,       3288,  2934.6,   1.6752,  34.7305,2,  34.7304,2,    186.1,2,   186.8,2,  109.99,2,   32.18,2,    0.00,2,    2.24,2,-999.000,9,-999.000,9,  2271.0,2,  2374.4,2,  -9.0000,9,-999.0000,9, -999.00,9, -999.00,9,  -999.0,9,  -999.0,-999.000,9,-999.000,-999.000,9,  -9.0000,-999.0000,   1.4606,   -9.00
  316N145_7,      TRANS,     388,          1,          2,          2,2,19950402,       1754,   -27.7162,    87.2498,       3288,  3138.6,   1.6066,  34.7297,2,  34.7296,2,    188.1,2,   188.1,2,  111.68,2,   32.14,2,    0.00,2,    2.24,2,-999.000,9,-999.000,9,  2271.4,2,  2389.7,2,  -9.0000,9,-999.0000,9, -999.00,9, -999.00,9,  -999.0,9,  -999.0,-999.000,9,-999.000,-999.000,9,  -9.0000,-999.0000,   1.3738,   -9.00
  316N145_7,      TRANS,     388,          1,          1,          1,2,19950402,       1754,   -27.7162,    87.2498,       3288,  3372.9,   1.4686,  34.7257,2,  34.7258,2,    188.8,2,   189.0,2,  116.61,2,   32.43,2,    0.00,2,    2.26,2,-999.000,9,-999.000,9,  2279.3,2,  2381.2,2,  -9.0000,9,-999.0000,9, -999.00,9, -999.00,9,  -999.0,9,  -999.0,-999.000,9,-999.000,-999.000,9,  -9.0000,-999.0000,   1.2159,   -9.00