BOTTLE,20211124CCHSIORKP
EXPOCODE,SECT_ID,STNNBR,CASTNO,SAMPNO,BTLNBR,BTLNBR_FLAG_W,DATE,TIME,LATITUDE,LONGITUDE,DEPTH,CTDPRS,CTDTMP,CTDSAL,CTDSAL_FLAG_W,SALNTY,SALNTY_FLAG_W,CTDOXY,CTDOXY_FLAG_W,OXYGEN,OXYGEN_FLAG_W,SILCAT,SILCAT_FLAG_W,NITRAT,NITRAT_FLAG_W,NITRIT,NITRIT_FLAG_W,PHSPHT,PHSPHT_FLAG_W,CFC-11,CFC-11_FLAG_W,CFC-12,CFC-12_FLAG_W,TCARBN,TCARBN_FLAG_W,ALKALI,ALKALI_FLAG_W,TRITUM,TRITUM_FLAG_W,HELIUM,HELIUM_FLAG_W,DELHE3,DELHE3_FLAG_W,DELC13,DELC13_FLAG_W,DELC14,DELC14_FLAG_W,C14ERR,NEON,NEON_FLAG_W,NEONER,CCL4,CCL4_FLAG_W,TRITER,HELIER,THETA,DELHER
,,,,,,,,,,,METERS,DBAR,ITS-90,PSS-78,,PSS-78,,UMOL/KG,,UMOL/KG,,UMOL/KG,,UMOL/KG,,UMOL/KG,,UMOL/KG,,PMOL/KG,,PMOL/KG,,UMOL/KG,,UMOL/KG,,TU,,NMOL/KG,,PERCNT,,/MILLE,,/MILLE,,/MILLE,NMOL/KG,,NMOL/KG,PMOL/KG,,TU,NMOL/KG,DEG C,PERCNT
  316N145_7,      TRANS,     366,          1,         24,         24,2,19950329,       1614,   -27.1242,    87.0393,       2510,     3.0,  24.8589,  35.8034,2,  35.8015,2,    207.7,2,   209.3,2,    2.88,2,    0.20,2,    0.00,2,    0.10,2,-999.000,9,-999.000,9,  -999.0,9,  -999.0,9,  -9.0000,9,-999.0000,9, -999.00,9, -999.00,9,  -999.0,9,  -999.0,-999.000,9,-999.000,-999.000,9,  -9.0000,-999.0000,  24.8582,   -9.00
  316N145_7,      TRANS,     366,          1,         23,         23,2,19950329,       1614,   -27.1242,    87.0393,       2510,    44.6,  24.4493,  35.9561,2,  35.9392,2,    214.9,2,   211.7,2,    2.66,2,    0.20,2,    0.00,2,    0.10,2,-999.000,9,-999.000,9,  -999.0,9,  -999.0,9,  -9.0000,9,-999.0000,9, -999.00,9, -999.00,9,  -999.0,9,  -999.0,-999.000,9,-999.000,-999.000,9,  -9.0000,-999.0000,  24.4397,   -9.00
  316N145_7,      TRANS,     366,          1,         22,         22,2,19950329,       1614,   -27.1242,    87.0393,       2510,    95.1,  19.0620,  35.8388,2,  35.8384,2,    241.8,2,   234.8,2,    2.65,2,    0.20,2,    0.00,2,    0.14,2,-999.000,9,-999.000,9,  -999.0,9,  -999.0,9,  -9.0000,9,-999.0000,9, -999.00,9, -999.00,9,  -999.0,9,  -999.0,-999.000,9,-999.000,-999.000,9,  -9.0000,-999.0000,  19.0449,   -9.00
  316N145_7,      TRANS,     366,          1,         21,         21,2,19950329,       1614,   -27.1242,    87.0393,       2510,   145.0,  16.9516,  35.7649,2,  35.7594,2,    220.6,2,   216.7,2,    2.42,2,    1.42,2,    0.05,2,    0.29,2,-999.000,9,-999.000,9,  -999.0,9,  -999.0,9,  -9.0000,9,-999.0000,9, -999.00,9, -999.00,9,  -999.0,9,  -999.0,-999.000,9,-999.000,-999.000,9,  -9.0000,-999.0000,  16.9276,   -9.00
  316N145_7,      TRANS,     366,          1,         20,         20,2,19950329,       1614,   -27.1242,    87.0393,       2510,   195.3,  15.0531,  35.5377,2,  35.5260,2,    222.6,2,   221.2,2,    2.62,2,    4.02,2,    0.01,2,    0.44,2,-999.000,9,-999.000,9,  -999.0,9,  -999.0,9,  -9.0000,9,-999.0000,9, -999.00,9, -999.00,9,  -999.0,9,  -999.0,-999.000,9,-999.000,-999.000,9,  -9.0000,-999.0000,  15.0233,   -9.00
  316N145_7,      TRANS,     366,          1,         19,         19,2,19950329,       1614,   -27.1242,    87.0393,       2510,   246.0,  13.6502,  35.3356,2,  35.3249,2,    223.8,2,   226.4,2,    3.04,2,    6.63,2,    0.00,2,    0.58,2,-999.000,9,-999.000,9,  -999.0,9,  -999.0,9,  -9.0000,9,-999.0000,9, -999.00,9, -999.00,9,  -999.0,9,  -999.0,-999.000,9,-999.000,-999.000,9,  -9.0000,-999.0000,  13.6151,   -9.00
  316N145_7,      TRANS,     366,          1,         18,         18,2,19950329,       1614,   -27.1242,    87.0393,       2510,   296.2,  12.7395,  35.2023,2,  35.2033,2,    231.7,2,   232.5,2,    3.45,2,    8.21,2,    0.00,2,    0.67,2,-999.000,9,-999.000,9,  -999.0,9,  -999.0,9,  -9.0000,9,-999.0000,9, -999.00,9, -999.00,9,  -999.0,9,  -999.0,-999.000,9,-999.000,-999.000,9,  -9.0000,-999.0000,  12.6991,   -9.00
  316N145_7,      TRANS,     366,          1,         17,         17,2,19950329,       1614,   -27.1242,    87.0393,       2510,   346.2,  12.1167,  35.1096,2,  35.1116,2,    233.4,2,   235.2,2,    3.86,2,    9.63,2,    0.00,2,    0.75,2,-999.000,9,-999.000,9,  -999.0,9,  -999.0,9,  -9.0000,9,-999.0000,9, -999.00,9, -999.00,9,  -999.0,9,  -999.0,-999.000,9,-999.000,-999.000,9,  -9.0000,-999.0000,  12.0710,   -9.00
  316N145_7,      TRANS,     366,          1,         16,         16,2,19950329,       1614,   -27.1242,    87.0393,       2510,   396.7,  11.6706,  35.0422,2,  35.0413,2,    234.2,2,   237.1,2,    4.06,2,   10.57,2,    0.00,2,    0.80,2,-999.000,9,-999.000,9,  -999.0,9,  -999.0,9,  -9.0000,9,-999.0000,9, -999.00,9, -999.00,9,  -999.0,9,  -999.0,-999.000,9,-999.000,-999.000,9,  -9.0000,-999.0000,  11.6193,   -9.00
  316N145_7,      TRANS,     366,          1,         15,         15,2,19950329,       1614,   -27.1242,    87.0393,       2510,   445.0,  11.1970,  34.9686,2,  34.9688,2,    235.9,2,   238.0,2,    4.26,2,   11.65,2,    0.00,2,    0.87,2,-999.000,9,-999.000,9,  -999.0,9,  -999.0,9,  -9.0000,9,-999.0000,9, -999.00,9, -999.00,9,  -999.0,9,  -999.0,-999.000,9,-999.000,-999.000,9,  -9.0000,-999.0000,  11.1409,   -9.00
  316N145_7,      TRANS,     366,          1,         14,         14,2,19950329,       1614,   -27.1242,    87.0393,       2510,   503.8,  10.7430,  34.9008,2,  34.9013,2,    237.7,2,   238.1,2,    4.46,2,   12.64,2,    0.00,2,    0.93,2,-999.000,9,-999.000,9,  -999.0,9,  -999.0,9,  -9.0000,9,-999.0000,9, -999.00,9, -999.00,9,  -999.0,9,  -999.0,-999.000,9,-999.000,-999.000,9,  -9.0000,-999.0000,  10.6810,   -9.00
  316N145_7,      TRANS,     366,          1,         13,         13,2,19950329,       1614,   -27.1242,    87.0393,       2510,   606.4,   9.7767,  34.7557,2,  34.7560,2,    232.1,2,   234.3,2,    5.30,2,   15.54,2,    0.00,2,    1.10,2,-999.000,9,-999.000,9,  -999.0,9,  -999.0,9,  -9.0000,9,-999.0000,9, -999.00,9, -999.00,9,  -999.0,9,  -999.0,-999.000,9,-999.000,-999.000,9,  -9.0000,-999.0000,   9.7061,   -9.00
  316N145_7,      TRANS,     366,          1,         12,         12,2,19950329,       1614,   -27.1242,    87.0393,       2510,   708.0,   8.7579,  34.6273,2,  34.6273,2,    220.6,2,   221.9,2,    8.26,2,   19.44,2,    0.00,2,    1.34,2,-999.000,9,-999.000,9,  -999.0,9,  -999.0,9,  -9.0000,9,-999.0000,9, -999.00,9, -999.00,9,  -999.0,9,  -999.0,-999.000,9,-999.000,-999.000,9,  -9.0000,-999.0000,   8.6804,   -9.00
  316N145_7,      TRANS,     366,          1,         11,         11,2,19950329,       1614,   -27.1242,    87.0393,       2510,   808.5,   7.4462,  34.5219,2,  34.5190,2,    204.9,2,   204.1,2,   15.88,2,   24.28,2,    0.00,2,    1.65,2,-999.000,9,-999.000,9,  -999.0,9,  -999.0,9,  -9.0000,9,-999.0000,9, -999.00,9, -999.00,9,  -999.0,9,  -999.0,-999.000,9,-999.000,-999.000,9,  -9.0000,-999.0000,   7.3650,   -9.00
  316N145_7,      TRANS,     366,          1,         10,         10,2,19950329,       1614,   -27.1242,    87.0393,       2510,   909.3,   5.9905,  34.4372,2,  34.4376,2,    194.9,2,   195.4,2,   26.04,2,   28.24,2,    0.00,2,    1.92,2,-999.000,9,-999.000,9,  -999.0,9,  -999.0,9,  -9.0000,9,-999.0000,9, -999.00,9, -999.00,9,  -999.0,9,  -999.0,-999.000,9,-999.000,-999.000,9,  -9.0000,-999.0000,   5.9086,   -9.00
  316N145_7,      TRANS,     366,          1,          9,          9,2,19950329,       1614,   -27.1242,    87.0393,       2510,  1009.3,   4.7074,  34.4215,2,  34.4232,2,    179.1,2,   179.5,2,   43.41,2,   31.87,2,    0.00,2,    2.20,2,-999.000,9,-999.000,9,  -999.0,9,  -999.0,9,  -9.0000,9,-999.0000,9, -999.00,9, -999.00,9,  -999.0,9,  -999.0,-999.000,9,-999.000,-999.000,9,  -9.0000,-999.0000,   4.6256,   -9.00
  316N145_7,      TRANS,     366,          1,          8,          8,2,19950329,       1614,   -27.1242,    87.0393,       2510,  1109.5,   4.2776,  34.4831,2,  34.4829,2,    158.3,2,   156.5,2,   61.21,2,   34.06,2,    0.00,2,    2.37,2,-999.000,9,-999.000,9,  -999.0,9,  -999.0,9,  -9.0000,9,-999.0000,9, -999.00,9, -999.00,9,  -999.0,9,  -999.0,-999.000,9,-999.000,-999.000,9,  -9.0000,-999.0000,   4.1905,   -9.00
  316N145_7,      TRANS,     366,          1,          7,          7,2,19950329,       1614,   -27.1242,    87.0393,       2510,  1311.4,   3.6797,  34.5516,2,  34.5526,2,    144.7,2,   144.0,2,   76.91,2,   35.16,2,    0.00,2,    2.47,2,-999.000,9,-999.000,9,  -999.0,9,  -999.0,9,  -9.0000,9,-999.0000,9, -999.00,9, -999.00,9,  -999.0,9,  -999.0,-999.000,9,-999.000,-999.000,9,  -9.0000,-999.0000,   3.5805,   -9.00
  316N145_7,      TRANS,     366,          1,          6,          6,2,19950329,       1614,   -27.1242,    87.0393,       2510,  1515.1,   3.1445,  34.6324,2,  34.6333,2,    145.7,2,   147.6,2,   88.17,2,   34.96,2,    0.00,2,    2.45,2,-999.000,9,-999.000,9,  -999.0,9,  -999.0,9,  -9.0000,9,-999.0000,9, -999.00,9, -999.00,9,  -999.0,9,  -999.0,-999.000,9,-999.000,-999.000,9,  -9.0000,-999.0000,   3.0336,   -9.00
  316N145_7,      TRANS,     366,          1,          5,          5,2,19950329,       1614,   -27.1242,    87.0393,       2510,  1718.0,   2.8375,  34.6780,2,  34.6789,2,    150.7,2,   150.2,2,   96.04,2,   34.56,2,    0.00,2,    2.42,2,-999.000,9,-999.000,9,  -999.0,9,  -999.0,9,  -9.0000,9,-999.0000,9, -999.00,9, -999.00,9,  -999.0,9,  -999.0,-999.000,9,-999.000,-999.000,9,  -9.0000,-999.0000,   2.7130,   -9.00
  316N145_7,      TRANS,     366,          1,          4,          4,2,19950329,       1614,   -27.1242,    87.0393,       2510,  1919.7,   2.5701,  34.7030,2,  34.7040,2,    155.2,2,   155.8,2,  101.36,2,   34.16,2,    0.00,2,    2.39,2,-999.000,9,-999.000,9,  -999.0,9,  -999.0,9,  -9.0000,9,-999.0000,9, -999.00,9, -999.00,9,  -999.0,9,  -999.0,-999.000,9,-999.000,-999.000,9,  -9.0000,-999.0000,   2.4318,   -9.00
  316N145_7,      TRANS,     366,          1,          3,          3,2,19950329,       1614,   -27.1242,    87.0393,       2510,  2123.4,   2.2707,  34.7177,2,  34.7180,2,    163.3,2,   164.8,2,  105.84,2,   33.66,2,    0.00,2,    2.35,2,-999.000,9,-999.000,9,  -999.0,9,  -999.0,9,  -9.0000,9,-999.0000,9, -999.00,9, -999.00,9,  -999.0,9,  -999.0,-999.000,9,-999.000,-999.000,9,  -9.0000,-999.0000,   2.1192,   -9.00
  316N145_7,      TRANS,     366,          1,          2,          2,2,19950329,       1614,   -27.1242,    87.0393,       2510,  2376.4,   1.9923,  34.7244,2,  34.7254,2,    174.3,2,   175.1,2,  107.10,2,   33.06,2,    0.00,2,    2.29,2,-999.000,9,-999.000,9,  -999.0,9,  -999.0,9,  -9.0000,9,-999.0000,9, -999.00,9, -999.00,9,  -999.0,9,  -999.0,-999.000,9,-999.000,-999.000,9,  -9.0000,-999.0000,   1.8231,   -9.00
  316N145_7,      TRANS,     366,          1,          1,          1,2,19950329,       1614,   -27.1242,    87.0393,       2510,  2526.3,   1.8534,  34.7278,2,  34.7288,2,    180.9,2,   180.4,2,  107.72,2,   32.71,2,    0.00,2,    2.26,2,-999.000,9,-999.000,9,  -999.0,9,  -999.0,9,  -9.0000,9,-999.0000,9, -999.00,9, -999.00,9,  -999.0,9,  -999.0,-999.000,9,-999.000,-999.000,9,  -9.0000,-999.0000,   1.6732,   -9.00
  316N145_7,      TRANS,     367,          1,         20,         20,2,19950329,       1928,   -27.2538,    87.3240,       1562,     3.3,  24.4166,  36.0100,2,  36.0099,2,    214.4,2,   214.6,2,    2.60,2,    0.21,2,    0.00,2,    0.10,2,   1.976,2,   1.143,2,  -999.0,9,  -999.0,9,  -9.0000,9,-999.0000,9, -999.00,9, -999.00,9,  -999.0,9,  -999.0,-999.000,9,-999.000,-999.000,9,  -9.0000,-999.0000,  24.4159,   -9.00
  316N145_7,      TRANS,     367,          1,         19,         19,2,19950329,       1928,   -27.2538,    87.3240,       1562,    33.9,  24.3335,  36.0173,2,  36.0149,2,    213.2,2,   215.8,2,    2.58,2,    0.21,2,    0.00,2,    0.10,2,-999.000,9,-999.000,9,  -999.0,9,  -999.0,9,  -9.0000,9,-999.0000,9, -999.00,9, -999.00,9,  -999.0,9,  -999.0,-999.000,9,-999.000,-999.000,9,  -9.0000,-999.0000,  24.3263,   -9.00
  316N145_7,      TRANS,     367,          1,         18,         18,2,19950329,       1928,   -27.2538,    87.3240,       1562,    74.3,  19.6766,  35.8725,2,  35.8766,2,    246.4,2,   246.7,2,    2.14,2,    0.21,2,    0.00,2,    0.13,2,   2.665,2,   1.482,2,  -999.0,9,  -999.0,9,  -9.0000,9,-999.0000,9, -999.00,9, -999.00,9,  -999.0,9,  -999.0,-999.000,9,-999.000,-999.000,9,  -9.0000,-999.0000,  19.6630,   -9.00
  316N145_7,      TRANS,     367,          1,         17,         17,2,19950329,       1928,   -27.2538,    87.3240,       1562,   124.4,  16.7215,  35.7129,2,  35.7037,2,    248.1,2,   239.1,2,    1.91,2,    0.21,2,    0.00,2,    0.21,2,   2.865,6,   1.529,6,  -999.0,9,  -999.0,9,  -9.0000,9,-999.0000,9, -999.00,9, -999.00,9,  -999.0,9,  -999.0,-999.000,9,-999.000,-999.000,9,  -9.0000,-999.0000,  16.7011,   -9.00
  316N145_7,      TRANS,     367,          1,         16,         16,2,19950329,       1928,   -27.2538,    87.3240,       1562,   175.2,  14.8958,  35.5055,2,  35.4997,2,    233.8,2,   229.9,2,    2.10,2,    2.90,2,    0.16,2,    0.39,2,-999.000,9,-999.000,9,  -999.0,9,  -999.0,9,  -9.0000,9,-999.0000,9, -999.00,9, -999.00,9,  -999.0,9,  -999.0,-999.000,9,-999.000,-999.000,9,  -9.0000,-999.0000,  14.8693,   -9.00
  316N145_7,      TRANS,     367,          1,         15,         15,2,19950329,       1928,   -27.2538,    87.3240,       1562,   225.8,  13.8993,  35.3710,2,  35.3792,2,    228.8,2,   227.9,2,    2.51,2,    5.55,2,    0.01,2,    0.52,2,   3.162,2,   1.687,2,  -999.0,9,  -999.0,9,  -9.0000,9,-999.0000,9, -999.00,9, -999.00,9,  -999.0,9,  -999.0,-999.000,9,-999.000,-999.000,9,  -9.0000,-999.0000,  13.8667,   -9.00
  316N145_7,      TRANS,     367,          1,         14,         14,2,19950329,       1928,   -27.2538,    87.3240,       1562,   275.8,  13.0701,  35.2561,2,  35.2531,2,    232.5,2,   230.2,2,    2.91,2,    7.61,2,    0.01,2,    0.63,2,   2.807,2,   1.466,2,  -999.0,9,  -999.0,9,  -9.0000,9,-999.0000,9, -999.00,9, -999.00,9,  -999.0,9,  -999.0,-999.000,9,-999.000,-999.000,9,  -9.0000,-999.0000,  13.0318,   -9.00
  316N145_7,      TRANS,     367,          1,         13,         13,2,19950329,       1928,   -27.2538,    87.3240,       1562,   325.7,  12.3002,  35.1391,2,  35.1399,2,    234.3,2,   233.2,2,    3.53,2,    9.19,2,    0.01,2,    0.72,2,-999.000,9,-999.000,9,  -999.0,9,  -999.0,9,  -9.0000,9,-999.0000,9, -999.00,9, -999.00,9,  -999.0,9,  -999.0,-999.000,9,-999.000,-999.000,9,  -9.0000,-999.0000,  12.2567,   -9.00
  316N145_7,      TRANS,     367,          1,         12,         12,2,19950329,       1928,   -27.2538,    87.3240,       1562,   375.3,  11.6785,  35.0445,2,  35.0479,2,    234.1,2,   236.4,2,    3.93,2,   10.47,2,    0.00,2,    0.80,2,   3.255,6,   1.699,6,  -999.0,9,  -999.0,9,  -9.0000,9,-999.0000,9, -999.00,9, -999.00,9,  -999.0,9,  -999.0,-999.000,9,-999.000,-999.000,9,  -9.0000,-999.0000,  11.6300,   -9.00
  316N145_7,      TRANS,     367,          1,         11,         11,2,19950329,       1928,   -27.2538,    87.3240,       1562,   456.1,  10.9379,  34.9338,2,  34.9299,2,    234.8,2,   236.4,2,    4.33,2,   12.33,2,    0.00,2,    0.91,2,-999.000,9,-999.000,9,  -999.0,9,  -999.0,9,  -9.0000,9,-999.0000,9, -999.00,9, -999.00,9,  -999.0,9,  -999.0,-999.000,9,-999.000,-999.000,9,  -9.0000,-999.0000,  10.8812,   -9.00
  316N145_7,      TRANS,     367,          1,         10,         10,2,19950329,       1928,   -27.2538,    87.3240,       1562,   557.4,  10.1396,  34.8080,2,  34.8055,2,    234.5,2,   235.7,2,    4.95,2,   14.49,2,    0.00,2,    1.03,2,   2.885,2,   1.466,2,  -999.0,9,  -999.0,9,  -9.0000,9,-999.0000,9, -999.00,9, -999.00,9,  -999.0,9,  -999.0,-999.000,9,-999.000,-999.000,9,  -9.0000,-999.0000,  10.0733,   -9.00
  316N145_7,      TRANS,     367,          1,          9,          9,2,19950329,       1928,   -27.2538,    87.3240,       1562,   657.8,   9.0730,  34.6625,2,  34.6658,2,    229.7,2,   226.7,2,    6.83,2,   18.04,2,    0.00,2,    1.25,2,   2.276,2,   1.144,2,  -999.0,9,  -999.0,9,  -9.0000,9,-999.0000,9, -999.00,9, -999.00,9,  -999.0,9,  -999.0,-999.000,9,-999.000,-999.000,9,  -9.0000,-999.0000,   8.9996,   -9.00
  316N145_7,      TRANS,     367,          1,          8,          8,2,19950329,       1928,   -27.2538,    87.3240,       1562,   759.3,   7.5620,  34.5292,2,  34.5322,2,    206.7,2,   206.4,2,   14.63,2,   23.60,2,    0.00,2,    1.61,2,   1.248,2,   0.615,2,  -999.0,9,  -999.0,9,  -9.0000,9,-999.0000,9, -999.00,9, -999.00,9,  -999.0,9,  -999.0,-999.000,9,-999.000,-999.000,9,  -9.0000,-999.0000,   7.4854,   -9.00
  316N145_7,      TRANS,     367,          1,          7,          7,2,19950329,       1928,   -27.2538,    87.3240,       1562,   859.6,   5.9722,  34.4325,2,  34.4398,2,    195.2,2,   193.6,2,   26.24,2,   28.20,2,    0.00,2,    1.92,2,   0.648,2,   0.318,2,  -999.0,9,  -999.0,9,  -9.0000,9,-999.0000,9, -999.00,9, -999.00,9,  -999.0,9,  -999.0,-999.000,9,-999.000,   1.181,6,  -9.0000,-999.0000,   5.8952,   -9.00
  316N145_7,      TRANS,     367,          1,          6,          6,2,19950329,       1928,   -27.2538,    87.3240,       1562,   960.8,   4.9517,  34.4153,2,  34.4178,2,    183.7,2,   184.0,2,   38.68,2,   31.03,2,    0.00,2,    2.13,2,-999.000,9,-999.000,9,  -999.0,9,  -999.0,9,  -9.0000,9,-999.0000,9, -999.00,9, -999.00,9,  -999.0,9,  -999.0,-999.000,9,-999.000,-999.000,9,  -9.0000,-999.0000,   4.8724,   -9.00
  316N145_7,      TRANS,     367,          1,          5,          5,2,19950329,       1928,   -27.2538,    87.3240,       1562,  1060.9,   4.2962,  34.4521,2,  34.4555,2,    167.4,2,   167.0,2,   54.72,2,   33.31,2,    0.00,2,    2.31,2,   0.138,2,   0.065,2,  -999.0,9,  -999.0,9,  -9.0000,9,-999.0000,9, -999.00,9, -999.00,9,  -999.0,9,  -999.0,-999.000,9,-999.000,-999.000,9,  -9.0000,-999.0000,   4.2132,   -9.00
  316N145_7,      TRANS,     367,          1,          4,          4,2,19950329,       1928,   -27.2538,    87.3240,       1562,  1212.5,   3.7271,  34.5058,2,  34.5083,2,    155.5,2,   155.0,2,   68.23,2,   34.61,2,    0.00,2,    2.42,2,   0.056,2,   0.025,2,  -999.0,9,  -999.0,9,  -9.0000,9,-999.0000,9, -999.00,9, -999.00,9,  -999.0,9,  -999.0,-999.000,9,-999.000,-999.000,9,  -9.0000,-999.0000,   3.6359,   -9.00
  316N145_7,      TRANS,     367,          1,          3,          3,2,19950329,       1928,   -27.2538,    87.3240,       1562,  1363.4,   3.3765,  34.5591,2,  34.5596,2,    149.7,2,   151.2,2,   77.09,2,   34.91,2,    0.00,2,    2.44,2,   0.017,2,   0.011,2,  -999.0,9,  -999.0,9,  -9.0000,9,-999.0000,9, -999.00,9, -999.00,9,  -999.0,9,  -999.0,-999.000,9,-999.000,-999.000,9,  -9.0000,-999.0000,   3.2760,   -9.00
  316N145_7,      TRANS,     367,          1,          2,          2,2,19950329,       1928,   -27.2538,    87.3240,       1562,  1514.7,   3.1066,  34.6174,2,  34.6189,2,    149.9,2,   149.8,2,   86.39,2,   34.81,2,    0.00,2,    2.44,2,   0.008,2,   0.003,2,  -999.0,9,  -999.0,9,  -9.0000,9,-999.0000,9, -999.00,9, -999.00,9,  -999.0,9,  -999.0,-999.000,9,-999.000,-999.000,9,  -9.0000,-999.0000,   2.9962,   -9.00
  316N145_7,      TRANS,     367,          1,          1,          1,2,19950329,       1928,   -27.2538,    87.3240,       1562,  1621.7,   2.9290,  34.6511,2,  34.6529,2,    150.6,2,   150.9,2,   91.66,2,   34.61,2,    0.00,2,    2.45,2,   0.005,2,   0.002,2,  -999.0,9,  -999.0,9,  -9.0000,9,-999.0000,9, -999.00,9, -999.00,9,  -999.0,9,  -999.0,-999.000,9,-999.000,-999.000,9,  -9.0000,-999.0000,   2.8116,   -9.00