BOTTLE,20211124CCHSIORKP
EXPOCODE,SECT_ID,STNNBR,CASTNO,SAMPNO,BTLNBR,BTLNBR_FLAG_W,DATE,TIME,LATITUDE,LONGITUDE,DEPTH,CTDPRS,CTDTMP,CTDSAL,CTDSAL_FLAG_W,SALNTY,SALNTY_FLAG_W,CTDOXY,CTDOXY_FLAG_W,OXYGEN,OXYGEN_FLAG_W,SILCAT,SILCAT_FLAG_W,NITRAT,NITRAT_FLAG_W,NITRIT,NITRIT_FLAG_W,PHSPHT,PHSPHT_FLAG_W,CFC-11,CFC-11_FLAG_W,CFC-12,CFC-12_FLAG_W,TCARBN,TCARBN_FLAG_W,ALKALI,ALKALI_FLAG_W,TRITUM,TRITUM_FLAG_W,HELIUM,HELIUM_FLAG_W,DELHE3,DELHE3_FLAG_W,DELC13,DELC13_FLAG_W,DELC14,DELC14_FLAG_W,C14ERR,NEON,NEON_FLAG_W,NEONER,CCL4,CCL4_FLAG_W,TRITER,HELIER,THETA,DELHER
,,,,,,,,,,,METERS,DBAR,ITS-90,PSS-78,,PSS-78,,UMOL/KG,,UMOL/KG,,UMOL/KG,,UMOL/KG,,UMOL/KG,,UMOL/KG,,PMOL/KG,,PMOL/KG,,UMOL/KG,,UMOL/KG,,TU,,NMOL/KG,,PERCNT,,/MILLE,,/MILLE,,/MILLE,NMOL/KG,,NMOL/KG,PMOL/KG,,TU,NMOL/KG,DEG C,PERCNT
  316N145_7,       I08N,     300,          1,         36,         36,2,19950314,       1051,     0.5000,    79.9998,       4628,     2.1,  29.8406,  34.3492,2,  34.3337,3,    195.1,2,   197.2,2,    2.68,2,    0.05,2,    0.00,2,    0.09,2,   1.648,2,   0.921,2,  1899.9,2,  2245.5,2,  -9.0000,9,-999.0000,9, -999.00,9, -999.00,9,  -999.0,9,  -999.0,-999.000,9,-999.000,-999.000,9,  -9.0000,-999.0000,  29.8401,   -9.00
  316N145_7,       I08N,     300,          1,         35,         35,2,19950314,       1051,     0.5000,    79.9998,       4628,    26.4,  29.3275,  34.3509,2,  34.3590,3,    197.2,2,   197.4,2,    2.65,2,    0.05,2,    0.00,2,    0.09,2,-999.000,9,-999.000,9,  1901.6,2,  2254.1,2,  -9.0000,9,-999.0000,9, -999.00,9, -999.00,9,  -999.0,9,  -999.0,-999.000,9,-999.000,-999.000,9,  -9.0000,-999.0000,  29.3211,   -9.00
  316N145_7,       I08N,     300,          1,         34,         34,2,19950314,       1051,     0.5000,    79.9998,       4628,    46.5,  25.2982,  35.3929,2,  35.3874,3,    179.6,2,   169.3,2,    5.67,2,    3.71,2,    0.15,2,    0.49,2,   1.631,2,   0.879,2,  2030.3,2,  2315.1,2,  -9.0000,9,-999.0000,9, -999.00,9, -999.00,9,  -999.0,9,  -999.0,-999.000,9,-999.000,-999.000,9,  -9.0000,-999.0000,  25.2881,   -9.00
  316N145_7,       I08N,     300,          1,         33,         33,2,19950314,       1051,     0.5000,    79.9998,       4628,    65.7,  23.2128,  35.3589,2,  35.3506,3,    148.9,2,   146.5,2,    7.49,2,    8.55,2,    0.64,2,    0.73,2,-999.000,9,-999.000,9,  2059.2,2,  2313.7,2,  -9.0000,9,-999.0000,9, -999.00,9, -999.00,9,  -999.0,9,  -999.0,-999.000,9,-999.000,-999.000,9,  -9.0000,-999.0000,  23.1993,   -9.00
  316N145_7,       I08N,     300,          1,         32,         32,2,19950314,       1051,     0.5000,    79.9998,       4628,   126.1,  19.1075,  35.2218,2,  35.2461,3,     81.4,2,    78.0,2,   15.04,2,   19.07,2,    0.02,2,    1.36,2,   1.276,2,   0.656,2,  2137.1,2,  2312.3,2,  -9.0000,9,-999.0000,9, -999.00,9, -999.00,9,  -999.0,9,  -999.0,-999.000,9,-999.000,-999.000,9,  -9.0000,-999.0000,  19.0849,   -9.00
  316N145_7,       I08N,     300,          1,         31,         31,2,19950314,       1051,     0.5000,    79.9998,       4628,   165.5,  15.1267,  35.1581,2,  35.1553,3,     65.0,2,    64.5,2,   20.75,2,   24.13,2,    0.00,2,    1.69,2,-999.000,9,-999.000,9,  2183.2,2,  2314.2,2,  -9.0000,9,-999.0000,9, -999.00,9, -999.00,9,  -999.0,9,  -999.0,-999.000,9,-999.000,-999.000,9,  -9.0000,-999.0000,  15.1014,   -9.00
  316N145_7,       I08N,     300,          1,         30,         30,2,19950314,       1051,     0.5000,    79.9998,       4628,   206.7,  13.8249,  35.1384,2,  35.1332,3,     71.0,2,    70.5,2,   21.96,2,   24.83,2,    0.00,2,    1.74,2,   0.816,2,   0.402,2,  2190.6,2,  2317.4,2,  -9.0000,9,-999.0000,9, -999.00,9, -999.00,9,  -999.0,9,  -999.0,-999.000,9,-999.000,-999.000,9,  -9.0000,-999.0000,  13.7953,   -9.00
  316N145_7,       I08N,     300,          1,         29,         29,2,19950314,       1051,     0.5000,    79.9998,       4628,   247.0,  13.0223,  35.1017,2,  35.0990,3,     69.4,2,    72.1,2,   22.96,2,   25.71,2,    0.00,2,    1.80,2,-999.000,9,-999.000,9,  2196.1,2,  2309.3,2,  -9.0000,9,-999.0000,9, -999.00,9, -999.00,9,  -999.0,9,  -999.0,-999.000,9,-999.000,-999.000,9,  -9.0000,-999.0000,  12.9882,   -9.00
  316N145_7,       I08N,     300,          1,         28,         28,2,19950314,       1051,     0.5000,    79.9998,       4628,   306.9,  11.9481,  35.0705,2,  35.0645,3,     76.0,2,    78.3,2,   24.57,2,   26.60,2,    0.00,2,    1.84,2,   0.578,2,   0.289,2,  2203.4,2,  2315.2,2,  -9.0000,9,-999.0000,9, -999.00,9, -999.00,9,  -999.0,9,  -999.0,-999.000,9,-999.000,-999.000,9,  -9.0000,-999.0000,  11.9080,   -9.00
  316N145_7,       I08N,     300,          1,         27,         27,2,19950314,       1051,     0.5000,    79.9998,       4628,   377.0,  10.8414,  35.0331,2,  35.0261,3,     78.7,2,    77.9,2,   29.87,2,   28.55,2,    0.00,2,    1.99,2,-999.000,9,-999.000,9,  2215.5,2,  2316.3,2,  -9.0000,9,-999.0000,9, -999.00,9, -999.00,9,  -999.0,9,  -999.0,-999.000,9,-999.000,-999.000,9,  -9.0000,-999.0000,  10.7949,   -9.00
  316N145_7,       I08N,     300,          1,         26,         26,2,19950314,       1051,     0.5000,    79.9998,       4628,   457.7,  10.2112,  35.0312,2,  35.0285,3,     63.0,2,    63.8,2,   36.40,2,   30.83,2,    0.00,2,    2.18,2,   0.256,2,   0.125,2,  2233.3,2,  2325.6,2,  -9.0000,9,-999.0000,9, -999.00,9, -999.00,9,  -999.0,9,  -999.0,-999.000,9,-999.000,-999.000,9,  -9.0000,-999.0000,  10.1566,   -9.00
  316N145_7,       I08N,     300,          1,         25,         25,2,19950314,       1051,     0.5000,    79.9998,       4628,   507.4,   9.6810,  35.0216,2,  35.0230,3,     50.0,2,    52.3,2,   43.95,2,   32.75,2,    0.00,2,    2.36,2,-999.000,9,-999.000,9,  2248.8,2,  2338.3,2,  -9.0000,9,-999.0000,9, -999.00,9, -999.00,9,  -999.0,9,  -999.0,-999.000,9,-999.000,-999.000,9,  -9.0000,-999.0000,   9.6223,   -9.00
  316N145_7,       I08N,     300,          1,         24,         24,2,19950314,       1051,     0.5000,    79.9998,       4628,   587.2,   9.2014,  35.0172,2,  35.0135,3,     47.0,2,    46.4,2,   50.69,2,   34.06,2,    0.00,2,    2.49,2,   0.060,6,   0.029,6,  2260.9,2,  2335.5,2,  -9.0000,9,-999.0000,9, -999.00,9, -999.00,9,  -999.0,9,  -999.0,-999.000,9,-999.000,-999.000,9,  -9.0000,-999.0000,   9.1352,   -9.00
  316N145_7,       I08N,     300,          1,         23,         23,2,19950314,       1051,     0.5000,    79.9998,       4628,   697.2,   8.9368,  35.0078,2,  35.0044,3,     44.1,2,    45.7,2,   54.35,2,   34.58,2,    0.00,2,    2.54,2,-999.000,9,-999.000,9,  2266.8,2,  2339.9,2,  -9.0000,9,-999.0000,9, -999.00,9, -999.00,9,  -999.0,9,  -999.0,-999.000,9,-999.000,-999.000,9,  -9.0000,-999.0000,   8.8592,   -9.00
  316N145_7,       I08N,     300,          1,         22,         22,2,19950314,       1051,     0.5000,    79.9998,       4628,   808.8,   8.1854,  35.0067,2,  35.0025,3,     41.6,2,    41.7,2,   66.43,2,   35.94,2,    0.00,2,    2.68,2,   0.026,2,   0.011,2,  2283.2,2,  2353.5,2,  -9.0000,9,-999.0000,9, -999.00,9, -999.00,9,  -999.0,9,  -999.0,-999.000,9,-999.000,-999.000,9,  -9.0000,-999.0000,   8.0992,   -9.00
  316N145_7,       I08N,     300,          1,         21,         21,2,19950314,       1051,     0.5000,    79.9998,       4628,   960.7,   6.9547,  34.9460,2,  34.9454,3,     49.2,2,    49.1,2,   80.80,2,   36.84,2,    0.00,2,    2.74,2,-999.000,9,-999.000,9,  2298.3,2,  2367.0,2,  -9.0000,9,-999.0000,9, -999.00,9, -999.00,9,  -999.0,9,  -999.0,-999.000,9,-999.000,-999.000,9,  -9.0000,-999.0000,   6.8602,   -9.00
  316N145_7,       I08N,     300,          1,         20,         20,2,19950314,       1051,     0.5000,    79.9998,       4628,  1112.9,   6.1459,  34.9139,2,  34.9129,3,     59.5,2,    57.8,2,   90.06,2,   37.12,2,    0.00,2,    2.75,2,   0.014,2,   0.006,2,  2305.5,2,  2377.7,2,  -9.0000,9,-999.0000,9, -999.00,9, -999.00,9,  -999.0,9,  -999.0,-999.000,9,-999.000,-999.000,9,  -9.0000,-999.0000,   6.0420,   -9.00
  316N145_7,       I08N,     300,          1,         19,         19,2,19950314,       1051,     0.5000,    79.9998,       4628,  1263.8,   5.5463,  34.8841,2,  34.8832,3,     67.8,2,    67.2,2,   96.25,2,   37.12,2,    0.00,2,    2.75,2,-999.000,9,-999.000,9,  2309.4,2,  2359.2,3,  -9.0000,9,-999.0000,9, -999.00,9, -999.00,9,  -999.0,9,  -999.0,-999.000,9,-999.000,-999.000,9,  -9.0000,-999.0000,   5.4327,   -9.00
  316N145_7,       I08N,     300,          1,         18,         18,2,19950314,       1051,     0.5000,    79.9998,       4628,  1415.2,   5.0210,  34.8684,2,  34.8624,3,     76.4,2,    77.6,2,  102.24,2,   36.98,2,    0.00,2,    2.74,2,   0.005,2,   0.001,2,  2311.5,2,  2386.8,2,  -9.0000,9,-999.0000,9, -999.00,9, -999.00,9,  -999.0,9,  -999.0,-999.000,9,-999.000,-999.000,9,  -9.0000,-999.0000,   4.8979,   -9.00
  316N145_7,       I08N,     300,          1,         17,         17,2,19950314,       1051,     0.5000,    79.9998,       4628,  1566.1,   4.1309,  34.8295,2,  34.8287,3,     94.4,2,    94.3,2,  109.30,2,   36.61,2,    0.00,2,    2.68,2,-999.000,9,-999.000,9,  2311.9,2,  2386.3,2,  -9.0000,9,-999.0000,9, -999.00,9, -999.00,9,  -999.0,9,  -999.0,-999.000,9,-999.000,-999.000,9,  -9.0000,-999.0000,   4.0035,   -9.00
  316N145_7,       I08N,     300,          1,         16,         16,2,19950314,       1051,     0.5000,    79.9998,       4628,  1718.9,   3.4953,  34.8085,2,  34.8053,3,    107.6,2,   108.5,2,  115.76,2,   36.09,2,    0.00,2,    2.63,2,   0.001,2,   0.000,2,  2313.9,2,  2401.9,2,  -9.0000,9,-999.0000,9, -999.00,9, -999.00,9,  -999.0,9,  -999.0,-999.000,9,-999.000,-999.000,9,  -9.0000,-999.0000,   3.3617,   -9.00
  316N145_7,       I08N,     300,          1,         15,         15,2,19950314,       1051,     0.5000,    79.9998,       4628,  1870.3,   3.1226,  34.7915,2,  34.7890,3,    116.9,2,   117.2,2,  119.52,2,   35.85,2,    0.00,2,    2.60,2,-999.000,9,-999.000,9,  2314.5,2,  2407.2,2,  -9.0000,9,-999.0000,9, -999.00,9, -999.00,9,  -999.0,9,  -999.0,-999.000,9,-999.000,-999.000,9,  -9.0000,-999.0000,   2.9805,   -9.00
  316N145_7,       I08N,     300,          1,         14,         14,2,19950314,       1051,     0.5000,    79.9998,       4628,  2022.5,   2.7554,  34.7776,2,  34.7752,3,    126.2,2,   125.2,2,  123.51,2,   35.62,2,    0.00,2,    2.56,2,   0.001,2,   0.001,2,  2314.4,2,  2409.6,2,  -9.0000,9,-999.0000,9, -999.00,9, -999.00,9,  -999.0,9,  -999.0,-999.000,9,-999.000,-999.000,9,  -9.0000,-999.0000,   2.6050,   -9.00
  316N145_7,       I08N,     300,          1,         13,         13,2,19950314,       1051,     0.5000,    79.9998,       4628,  2225.7,   2.3502,  34.7590,2,  34.7577,3,    138.8,2,  -999.0,5,  127.72,2,   35.15,2,    0.00,2,    2.52,2,-999.000,9,-999.000,9,  2313.3,2,  2408.3,2,  -9.0000,9,-999.0000,9, -999.00,9, -999.00,9,  -999.0,9,  -999.0,-999.000,9,-999.000,-999.000,9,  -9.0000,-999.0000,   2.1881,   -9.00
  316N145_7,       I08N,     300,          1,         12,         12,2,19950314,       1051,     0.5000,    79.9998,       4628,  2428.4,   2.1665,  34.7503,2,  34.7479,3,    144.6,2,   143.8,2,  129.39,2,   35.00,2,    0.00,2,    2.49,2,   0.000,2,   0.000,2,  2313.1,2,  2408.0,2,  -9.0000,9,-999.0000,9, -999.00,9, -999.00,9,  -999.0,9,  -999.0,-999.000,9,-999.000,-999.000,9,  -9.0000,-999.0000,   1.9893,   -9.00
  316N145_7,       I08N,     300,          1,         11,         11,2,19950314,       1051,     0.5000,    79.9998,       4628,  2631.8,   1.9700,  34.7419,2,  34.7400,3,    151.1,2,   150.5,2,  131.28,2,   34.63,2,    0.00,2,    2.46,2,-999.000,9,-999.000,9,  2310.9,2,  2411.6,2,  -9.0000,9,-999.0000,9, -999.00,9, -999.00,9,  -999.0,9,  -999.0,-999.000,9,-999.000,-999.000,9,  -9.0000,-999.0000,   1.7777,   -9.00
  316N145_7,       I08N,     300,          1,         10,         10,2,19950314,       1051,     0.5000,    79.9998,       4628,  2835.1,   1.8329,  34.7363,2,  34.7333,3,    155.6,2,   154.8,2,  132.53,2,   34.53,2,    0.00,2,    2.43,3,-999.000,9,-999.000,9,  2311.2,2,  2412.3,2,  -9.0000,9,-999.0000,9, -999.00,9, -999.00,9,  -999.0,9,  -999.0,-999.000,9,-999.000,-999.000,9,  -9.0000,-999.0000,   1.6244,   -9.00
  316N145_7,       I08N,     300,          1,          9,          9,2,19950314,       1051,     0.5000,    79.9998,       4628,  3039.0,   1.7230,  34.7323,2,  34.7292,3,    158.8,2,   158.6,2,  134.21,2,   34.44,2,    0.00,2,    2.42,3,-999.000,9,-999.000,9,  2311.0,2,  2415.2,2,  -9.0000,9,-999.0000,9, -999.00,9, -999.00,9,  -999.0,9,  -999.0,-999.000,9,-999.000,-999.000,9,  -9.0000,-999.0000,   1.4972,   -9.00
  316N145_7,       I08N,     300,          1,          8,          8,2,19950314,       1051,     0.5000,    79.9998,       4628,  3241.7,   1.6246,  34.7283,2,  34.7259,3,    161.0,2,   161.3,2,  135.90,2,   34.39,2,    0.00,2,    2.40,3,   0.002,2,   0.001,2,  2312.4,2,  2416.8,2,  -9.0000,9,-999.0000,9, -999.00,9, -999.00,9,  -999.0,9,  -999.0,-999.000,9,-999.000,-999.000,9,  -9.0000,-999.0000,   1.3812,   -9.00
  316N145_7,       I08N,     300,          1,          7,          7,2,19950314,       1051,     0.5000,    79.9998,       4628,  3445.5,   1.5256,  34.7245,2,  34.7231,3,    160.5,2,   161.0,2,  140.39,2,   34.53,2,    0.00,2,    2.42,2,-999.000,9,-999.000,9,  2318.0,2,  2426.2,2,  -9.0000,9,-999.0000,9, -999.00,9, -999.00,9,  -999.0,9,  -999.0,-999.000,9,-999.000,-999.000,9,  -9.0000,-999.0000,   1.2641,   -9.00
  316N145_7,       I08N,     300,          1,          6,          6,2,19950314,       1051,     0.5000,    79.9998,       4628,  3649.8,   1.4543,  34.7217,2,  34.7213,3,    163.0,2,   164.2,2,  141.44,2,   34.44,2,    0.00,2,    2.41,2,-999.000,9,   0.001,2,  2318.4,2,  2426.1,2,  -9.0000,9,-999.0000,9, -999.00,9, -999.00,9,  -999.0,9,  -999.0,-999.000,9,-999.000,-999.000,9,  -9.0000,-999.0000,   1.1737,   -9.00
  316N145_7,       I08N,     300,          1,          5,          5,2,19950314,       1051,     0.5000,    79.9998,       4628,  3854.4,   1.4215,  34.7200,2,  34.7180,3,    167.4,2,   168.1,2,  140.12,2,   34.25,2,    0.00,2,    2.38,2,-999.000,9,-999.000,9,  2314.9,2,  2425.0,2,  -9.0000,9,-999.0000,9, -999.00,9, -999.00,9,  -999.0,9,  -999.0,-999.000,9,-999.000,-999.000,9,  -9.0000,-999.0000,   1.1203,   -9.00
  316N145_7,       I08N,     300,          1,          4,          4,2,19950314,       1051,     0.5000,    79.9998,       4628,  4059.1,   1.3966,  34.7190,2,  34.7178,3,    171.5,2,   172.4,2,  138.15,2,   33.92,2,    0.00,2,    2.35,2,-999.000,9,-999.000,9,  2310.7,2,  2422.9,2,  -9.0000,9,-999.0000,9, -999.00,9, -999.00,9,  -999.0,9,  -999.0,-999.000,9,-999.000,-999.000,9,  -9.0000,-999.0000,   1.0740,   -9.00
  316N145_7,       I08N,     300,          1,          3,          3,2,19950314,       1051,     0.5000,    79.9998,       4628,  4263.0,   1.3982,  34.7185,2,  34.7156,3,    174.1,2,   174.5,2,  137.48,2,   33.88,2,    0.00,2,    2.34,2,-999.000,9,-999.000,9,  2308.3,2,  2418.5,2,  -9.0000,9,-999.0000,9, -999.00,9, -999.00,9,  -999.0,9,  -999.0,-999.000,9,-999.000,-999.000,9,  -9.0000,-999.0000,   1.0531,   -9.00
  316N145_7,       I08N,     300,          1,          2,          2,2,19950314,       1051,     0.5000,    79.9998,       4628,  4467.7,   1.4077,  34.7178,2,  34.7158,3,    175.3,2,   174.4,3,  136.81,2,   33.78,2,    0.00,2,    2.34,2,  -0.004,2,   0.000,2,  2306.7,2,  2432.5,2,  -9.0000,9,-999.0000,9, -999.00,9, -999.00,9,  -999.0,9,  -999.0,-999.000,9,-999.000,-999.000,9,  -9.0000,-999.0000,   1.0391,   -9.00
  316N145_7,       I08N,     300,          1,          1,          1,2,19950314,       1051,     0.5000,    79.9998,       4628,  4714.3,   1.4198,  34.7177,2,  34.7158,3,    177.3,2,   177.0,2,  135.71,2,   33.69,2,    0.00,2,    2.32,2,  -0.001,2,   0.000,2,  2304.3,2,  2415.4,2,  -9.0000,9,-999.0000,9, -999.00,9, -999.00,9,  -999.0,9,  -999.0,-999.000,9,-999.000,-999.000,9,  -9.0000,-999.0000,   1.0222,   -9.00