BOTTLE,20211124CCHSIORKP
EXPOCODE,SECT_ID,STNNBR,CASTNO,SAMPNO,BTLNBR,BTLNBR_FLAG_W,DATE,TIME,LATITUDE,LONGITUDE,DEPTH,CTDPRS,CTDTMP,CTDSAL,CTDSAL_FLAG_W,SALNTY,SALNTY_FLAG_W,CTDOXY,CTDOXY_FLAG_W,OXYGEN,OXYGEN_FLAG_W,SILCAT,SILCAT_FLAG_W,NITRAT,NITRAT_FLAG_W,NITRIT,NITRIT_FLAG_W,PHSPHT,PHSPHT_FLAG_W,CFC-11,CFC-11_FLAG_W,CFC-12,CFC-12_FLAG_W,TCARBN,TCARBN_FLAG_W,ALKALI,ALKALI_FLAG_W,TRITUM,TRITUM_FLAG_W,HELIUM,HELIUM_FLAG_W,DELHE3,DELHE3_FLAG_W,DELC13,DELC13_FLAG_W,DELC14,DELC14_FLAG_W,C14ERR,NEON,NEON_FLAG_W,NEONER,CCL4,CCL4_FLAG_W,TRITER,HELIER,THETA,DELHER
,,,,,,,,,,,METERS,DBAR,ITS-90,PSS-78,,PSS-78,,UMOL/KG,,UMOL/KG,,UMOL/KG,,UMOL/KG,,UMOL/KG,,UMOL/KG,,PMOL/KG,,PMOL/KG,,UMOL/KG,,UMOL/KG,,TU,,NMOL/KG,,PERCNT,,/MILLE,,/MILLE,,/MILLE,NMOL/KG,,NMOL/KG,PMOL/KG,,TU,NMOL/KG,DEG C,PERCNT
  316N145_7,       I05E,     430,          1,         36,         36,2,19950412,       1135,   -31.6335,   109.8173,       5165,     3.7,  21.5980,  36.1568,2,  36.1614,2,    221.7,2,   225.4,3,    3.16,2,    0.05,2,    0.00,2,    0.07,2,   2.175,2,   1.183,2,  2051.5,2,  2382.2,2,   1.1431,2,   1.7330,2,   -0.85,2, -999.00,9,  -999.0,9,  -999.0,   6.921,2,   0.035,-999.000,9,   0.0040,   0.0087,  21.5973,    0.14
  316N145_7,       I05E,     430,          1,         35,         35,2,19950412,       1135,   -31.6335,   109.8173,       5165,    38.6,  20.9924,  36.1465,2,  36.1440,2,    221.7,2,   223.7,2,    3.15,2,    0.05,2,    0.00,2,    0.07,2,-999.000,9,-999.000,9,  2050.5,2,  2371.3,2,  -9.0000,9,-999.0000,9, -999.00,9, -999.00,9,  -999.0,9,  -999.0,-999.000,9,-999.000,-999.000,9,  -9.0000,-999.0000,  20.9850,   -9.00
  316N145_7,       I05E,     430,          1,         34,         34,2,19950412,       1135,   -31.6335,   109.8173,       5165,    69.3,  19.3396,  35.9644,2,  36.0152,2,    234.1,2,   229.1,2,    2.91,2,    0.05,2,    0.00,2,    0.10,2,   2.329,2,   1.260,2,  2052.8,2,  2375.9,3,   1.1010,2,   1.7800,2,   -0.92,2, -999.00,9,  -999.0,9,  -999.0,   7.189,2,   0.036,-999.000,9,   0.0040,   0.0089,  19.3271,    0.14
  316N145_7,       I05E,     430,          1,         33,         33,2,19950412,       1135,   -31.6335,   109.8173,       5165,   108.8,  16.2009,  35.7110,2,  35.7123,2,    246.4,2,   245.4,2,    2.25,2,    0.13,2,    0.02,2,    0.20,2,-999.000,9,-999.000,9,  2067.0,2,  2353.0,2,  -9.0000,9,-999.0000,9, -999.00,9, -999.00,9,  -999.0,9,  -999.0,-999.000,9,-999.000,-999.000,9,  -9.0000,-999.0000,  16.1835,   -9.00
  316N145_7,       I05E,     430,          1,         32,         32,2,19950412,       1135,   -31.6335,   109.8173,       5165,   158.4,  14.4888,  35.4803,2,  35.4826,2,    239.0,2,   235.4,2,    2.23,2,    2.87,2,    0.02,2,    0.37,2,   2.886,2,   1.519,2,  2082.1,2,  2354.1,3,   0.8351,2,   1.7730,2,   -1.14,2, -999.00,9,  -999.0,9,  -999.0,   7.284,2,   0.036,-999.000,9,   0.0036,   0.0089,  14.4653,    0.14
  316N145_7,       I05E,     430,          1,         31,         31,2,19950412,       1135,   -31.6335,   109.8173,       5165,   210.1,  12.9583,  35.2438,2,  35.2385,2,    239.4,2,   239.9,2,    2.44,2,    5.53,2,    0.01,2,    0.54,2,   3.109,2,   1.610,2,  2091.9,2,  2318.9,2,   0.7404,2,   1.7895,2,   -1.03,2, -999.00,9,  -999.0,9,  -999.0,   7.403,2,   0.037,-999.000,9,   0.0034,   0.0089,  12.9294,    0.14
  316N145_7,       I05E,     430,          1,         30,         30,2,19950412,       1135,   -31.6335,   109.8173,       5165,   259.4,  11.8672,  35.0722,2,  35.0632,2,    240.5,2,   243.1,2,    2.64,2,    7.85,2,    0.01,2,    0.68,2,   3.260,2,   1.656,2,  2098.5,2,  2308.3,2,   0.6489,2,-999.0000,9, -999.00,9, -999.00,9,  -999.0,9,  -999.0,-999.000,9,-999.000,-999.000,9,   0.0032,-999.0000,  11.8334,   -9.00
  316N145_7,       I05E,     430,          1,         29,         29,2,19950412,       1135,   -31.6335,   109.8173,       5165,   329.3,  10.3450,  34.8302,2,  34.8263,2,    243.9,2,   246.6,2,    3.72,2,   11.81,2,    0.01,2,    0.91,2,   3.365,2,   1.677,2,  2107.2,2,  2302.2,2,   0.5518,2,   1.7397,2,   -0.70,2, -999.00,9,  -999.0,9,  -999.0,   7.302,2,   0.037,-999.000,9,   0.0030,   0.0087,  10.3058,    0.14
  316N145_7,       I05E,     430,          1,         28,         28,2,19950412,       1135,   -31.6335,   109.8173,       5165,   390.0,   9.6220,  34.7180,2,  34.7192,2,    244.6,2,   248.5,2,    4.58,2,   14.04,2,    0.01,2,    1.04,2,   3.428,2,   1.786,2,  2116.7,2,  2285.2,2,   0.5072,2,   1.8011,2,   -0.72,2, -999.00,9,  -999.0,9,  -999.0,   7.590,2,   0.038,-999.000,9,   0.0030,   0.0090,   9.5775,    0.14
  316N145_7,       I05E,     430,          1,         27,         27,2,19950412,       1135,   -31.6335,   109.8173,       5165,   459.5,   9.3254,  34.6766,2,  34.6765,2,    245.3,2,   246.9,2,    5.21,2,   15.35,2,    0.01,2,    1.12,2,   3.284,2,   1.728,2,  2114.6,2,  2288.2,2,   0.4787,2,   1.7962,2,   -0.58,2, -999.00,9,  -999.0,9,  -999.0,   7.585,2,   0.038,-999.000,9,   0.0029,   0.0090,   9.2739,    0.14
  316N145_7,       I05E,     430,          1,         26,         26,2,19950412,       1135,   -31.6335,   109.8173,       5165,   559.7,   8.8210,  34.6163,2,  34.6153,2,    235.5,2,   234.8,2,    6.94,2,   18.17,2,    0.01,2,    1.29,2,   2.782,2,   1.427,2,  2124.8,2,  2297.6,2,   0.4025,2,   1.7747,2,    0.11,2, -999.00,9,  -999.0,9,  -999.0,   7.526,2,   0.038,-999.000,9,   0.0028,   0.0089,   8.7600,    0.14
  316N145_7,       I05E,     430,          1,         25,         25,2,19950412,       1135,   -31.6335,   109.8173,       5165,   659.5,   7.7113,  34.5086,2,  34.5163,2,    215.8,2,   212.0,2,   12.15,2,   22.68,2,    0.01,2,    1.57,2,   1.841,2,   0.914,2,  2146.7,2,  2286.1,2,   0.2538,2,   1.8073,2,    1.15,2, -999.00,9,  -999.0,9,  -999.0,   7.690,2,   0.038,-999.000,9,   0.0026,   0.0090,   7.6445,    0.14
  316N145_7,       I05E,     430,          1,         24,         24,2,19950412,       1135,   -31.6335,   109.8173,       5165,   761.6,   6.2501,  34.4331,2,  34.4360,2,    197.3,2,   195.7,2,   22.36,2,   27.31,2,    0.01,2,    1.87,2,   0.920,2,   0.455,2,  2172.8,2,  2311.7,3,  -9.0000,9,-999.0000,9, -999.00,9, -999.00,9,  -999.0,9,  -999.0,-999.000,9,-999.000,-999.000,9,  -9.0000,-999.0000,   6.1808,   -9.00
  316N145_7,       I05E,     430,          1,         23,         23,2,19950412,       1135,   -31.6335,   109.8173,       5165,   862.7,   4.8371,  34.3890,2,  34.3903,2,    194.5,2,   191.8,2,   34.96,2,   30.45,2,    0.01,2,    2.10,2,   0.550,6,   0.270,6,  2195.6,2,  2305.5,2,   0.0682,2,   1.8293,2,    4.21,2, -999.00,9,  -999.0,9,  -999.0,   7.837,2,   0.039,-999.000,9,   0.0023,   0.0091,   4.7673,    0.14
  316N145_7,       I05E,     430,          1,         22,         22,2,19950412,       1135,   -31.6335,   109.8173,       5165,   962.9,   4.1416,  34.4122,2,  34.4118,2,    183.7,2,   180.8,2,   48.64,2,   32.57,2,    0.00,2,    2.27,2,-999.000,9,-999.000,9,  2216.3,2,  2316.7,2,  -9.0000,9,-999.0000,9, -999.00,9, -999.00,9,  -999.0,9,  -999.0,-999.000,9,-999.000,-999.000,9,  -9.0000,-999.0000,   4.0681,   -9.00
  316N145_7,       I05E,     430,          1,         21,         21,2,19950412,       1135,   -31.6335,   109.8173,       5165,  1063.5,   3.7772,  34.4629,2,-999.0000,9,    166.4,2,   164.8,2, -999.00,9, -999.00,9, -999.00,9, -999.00,9,   0.137,2,   0.069,2,  2237.9,2,  2357.0,2,   0.0191,2,   1.8588,2,    7.67,2, -999.00,9,  -999.0,9,  -999.0,   7.975,2,   0.040,-999.000,9,   0.0022,   0.0093,   3.6982,    0.14
  316N145_7,       I05E,     430,          1,         20,         20,2,19950412,       1135,   -31.6335,   109.8173,       5165,  1213.4,   3.4564,  34.5179,2,  34.5174,2,    154.9,2,   154.9,2,   72.57,2,   34.73,2,    0.01,2,    2.45,2,   0.052,2,   0.024,2,  2252.7,2,  2341.8,2,  -9.0000,9,-999.0000,9, -999.00,9, -999.00,9,  -999.0,9,  -999.0,-999.000,9,-999.000,-999.000,9,  -9.0000,-999.0000,   3.3677,   -9.00
  316N145_7,       I05E,     430,          1,         19,         19,2,19950412,       1135,   -31.6335,   109.8173,       5165,  1364.4,   3.0995,  34.5656,2,  34.5659,2,    154.3,2,   154.5,2,   79.08,2,   34.79,2,    0.01,2,    2.45,2,   0.025,2,   0.010,2,  2259.6,2,  -999.0,5,   0.0058,2,   1.8599,2,    9.96,2, -999.00,9,  -999.0,9,  -999.0,   7.994,2,   0.040,-999.000,9,   0.0022,   0.0093,   3.0018,    0.14
  316N145_7,       I05E,     430,          1,         18,         18,2,19950412,       1135,   -31.6335,   109.8173,       5165,  1516.0,   2.8575,  34.6184,2,  34.6183,2,    155.7,2,   154.5,2,   86.26,2,   34.55,2,    0.00,2,    2.43,2,   0.009,6,   0.005,6,  2268.0,2,  2356.1,2,  -9.0000,9,-999.0000,9, -999.00,9, -999.00,9,  -999.0,9,  -999.0,-999.000,9,-999.000,-999.000,9,  -9.0000,-999.0000,   2.7499,   -9.00
  316N145_7,       I05E,     430,          1,         17,         17,2,19950412,       1135,   -31.6335,   109.8173,       5165,  1668.5,   2.6738,  34.6631,2,  34.6623,2,    156.6,2,   156.1,2,   93.22,2,   34.27,2,    0.00,2,    2.41,2,-999.000,9,-999.000,9,  -999.0,5,  2364.0,2,   0.0010,2,   1.8783,2,   11.45,2, -999.00,9,  -999.0,9,  -999.0,   8.037,2,   0.040,-999.000,9,   0.0022,   0.0094,   2.5556,    0.14
  316N145_7,       I05E,     430,          1,         16,         16,2,19950412,       1135,   -31.6335,   109.8173,       5165,  1820.4,   2.5115,  34.6887,2,  34.6888,2,    158.3,2,   158.7,2,   98.01,2,   33.93,2,    0.00,2,    2.39,2,  -0.001,6,   0.002,6,  2275.6,2,  2370.9,2,  -9.0000,9,-999.0000,9, -999.00,9, -999.00,9,  -999.0,9,  -999.0,-999.000,9,-999.000,-999.000,9,  -9.0000,-999.0000,   2.3826,   -9.00
  316N145_7,       I05E,     430,          1,         15,         15,2,19950412,       1135,   -31.6335,   109.8173,       5165,  2023.8,   2.3047,  34.7120,2,  34.7116,2,    161.9,2,   163.0,2,  104.79,2,   33.45,2,    0.00,2,    2.36,2,-999.000,9,-999.000,9,  2278.1,2,  2364.3,3,   0.0010,2,   1.8361,2,   13.25,2, -999.00,9,  -999.0,9,  -999.0,   7.861,2,   0.039,-999.000,9,   0.0022,   0.0092,   2.1613,    0.14
  316N145_7,       I05E,     430,          1,         14,         14,2,19950412,       1135,   -31.6335,   109.8173,       5165,  2226.9,   2.1125,  34.7234,2,  34.7222,2,    165.3,2,   166.0,2,  111.14,2,   33.51,2,    0.00,2,    2.36,2,-999.000,9,-999.000,9,  2282.2,2,  2378.5,2,  -9.0000,9,-999.0000,9, -999.00,9, -999.00,9,  -999.0,9,  -999.0,-999.000,9,-999.000,-999.000,9,  -9.0000,-999.0000,   1.9544,   -9.00
  316N145_7,       I05E,     430,          1,         13,         13,2,19950412,       1135,   -31.6335,   109.8173,       5165,  2429.0,   1.9845,  34.7269,2,  34.7273,2,    168.6,2,   171.5,2,  112.21,2,   33.17,2,    0.00,2,    2.33,2,   0.000,2,   0.002,2,  2279.4,2,  2377.6,2,  -9.0000,9,-999.0000,9, -999.00,9, -999.00,9,  -999.0,9,  -999.0,-999.000,9,-999.000,-999.000,9,  -9.0000,-999.0000,   1.8106,   -9.00
  316N145_7,       I05E,     430,          1,         12,         12,2,19950412,       1135,   -31.6335,   109.8173,       5165,  2630.8,   1.8447,  34.7283,2,  34.7275,2,    174.0,2,   174.6,2,  114.82,2,   33.08,2,    0.00,2,    2.32,2,-999.000,9,-999.000,9,  2279.8,2,  2383.0,2,  -9.0000,9,-999.0000,9, -999.00,9, -999.00,9,  -999.0,9,  -999.0,-999.000,9,-999.000,-999.000,9,  -9.0000,-999.0000,   1.6551,   -9.00
  316N145_7,       I05E,     430,          1,         11,         11,2,19950412,       1135,   -31.6335,   109.8173,       5165,  2834.5,   1.7313,  34.7280,2,  34.7278,2,    178.0,2,   178.8,2,  116.78,2,   33.00,2,    0.00,2,    2.31,2,   0.000,2,   0.001,2,  2279.6,2,  2384.6,2,  -9.0000,9,-999.0000,9, -999.00,9, -999.00,9,  -999.0,9,  -999.0,-999.000,9,-999.000,-999.000,9,  -9.0000,-999.0000,   1.5249,   -9.00
  316N145_7,       I05E,     430,          1,         10,         10,2,19950412,       1135,   -31.6335,   109.8173,       5165,  3038.1,   1.6049,  34.7284,2,  34.7276,2,    183.4,2,   184.2,2,  116.74,2,   32.71,2,    0.00,2,    2.28,2,-999.000,9,-999.000,9,  2276.3,2,  2388.1,2,  -9.0000,9,-999.0000,9, -999.00,9, -999.00,9,  -999.0,9,  -999.0,-999.000,9,-999.000,-999.000,9,  -9.0000,-999.0000,   1.3819,   -9.00
  316N145_7,       I05E,     430,          1,          9,          9,2,19950412,       1135,   -31.6335,   109.8173,       5165,  3242.1,   1.5065,  34.7264,2,  34.7276,2,    186.7,2,   186.1,2,  118.92,2,   32.72,2,    0.00,2,    2.28,2,   0.002,2,   0.003,2,  2277.7,2,  2382.7,2,  -9.0000,9,-999.0000,9, -999.00,9, -999.00,9,  -999.0,9,  -999.0,-999.000,9,-999.000,-999.000,9,  -9.0000,-999.0000,   1.2658,   -9.00
  316N145_7,       I05E,     430,          1,          8,          8,2,19950412,       1135,   -31.6335,   109.8173,       5165,  3497.1,   1.3723,  34.7222,2,  34.7211,2,    189.1,2,   190.2,2,  121.77,2,   32.73,2,    0.00,2,    2.28,2,  -0.001,2,  -0.002,2,  2280.4,2,  2389.9,2,  -9.0000,9,-999.0000,9, -999.00,9, -999.00,9,  -999.0,9,  -999.0,-999.000,9,-999.000,-999.000,9,  -9.0000,-999.0000,   1.1094,   -9.00
  316N145_7,       I05E,     430,          1,          7,          7,3,19950412,       1135,   -31.6335,   109.8173,       5165,  3752.6,   1.2840,  34.7193,2,  34.8432,4,    192.4,2,   192.0,4,   90.28,4,   27.04,4,    0.00,4,    1.89,4,-999.000,9,-999.000,9,  2251.5,4,  2370.5,4,  -9.0000,9,-999.0000,9, -999.00,9, -999.00,9,  -999.0,9,  -999.0,-999.000,9,-999.000,-999.000,9,  -9.0000,-999.0000,   0.9972,   -9.00
  316N145_7,       I05E,     430,          1,          6,          6,2,19950412,       1135,   -31.6335,   109.8173,       5165,  4008.0,   1.2137,  34.7165,2,  34.7153,2,    194.1,2,   194.1,2,  125.91,2,   32.74,2,    0.00,2,    2.28,2,-999.000,9,-999.000,9,  2279.1,2,  2393.9,2,  -9.0000,9,-999.0000,9, -999.00,9, -999.00,9,  -999.0,9,  -999.0,-999.000,9,-999.000,-999.000,9,  -9.0000,-999.0000,   0.9019,   -9.00
  316N145_7,       I05E,     430,          1,          5,          5,2,19950412,       1135,   -31.6335,   109.8173,       5165,  4263.0,   1.1778,  34.7146,2,  34.7140,2,    196.5,2,   196.4,2,  126.10,2,   32.70,2,    0.00,2,    2.27,2,  -0.001,2,  -0.002,2,  2277.6,2,  2388.7,2,  -9.0000,9,-999.0000,9, -999.00,9, -999.00,9,  -999.0,9,  -999.0,-999.000,9,-999.000,-999.000,9,  -9.0000,-999.0000,   0.8392,   -9.00
  316N145_7,       I05E,     430,          1,          4,          4,2,19950412,       1135,   -31.6335,   109.8173,       5165,  4517.8,   1.1376,  34.7133,2,  34.7135,2,    200.2,2,   199.6,2,  125.84,2,   32.61,2,    0.00,2,    2.26,2,-999.000,9,-999.000,9,  2274.2,2,  2390.0,2,  -9.0000,9,-999.0000,9, -999.00,9, -999.00,9,  -999.0,9,  -999.0,-999.000,9,-999.000,-999.000,9,  -9.0000,-999.0000,   0.7717,   -9.00
  316N145_7,       I05E,     430,          1,          3,          3,2,19950412,       1135,   -31.6335,   109.8173,       5165,  4773.1,   1.0793,  34.7106,2,  34.7096,2,    205.2,2,   204.4,2,  124.91,2,   32.43,2,    0.00,2,    2.25,2,   0.001,2,   0.001,2,  2268.4,2,  2377.7,2,  -9.0000,9,-999.0000,9, -999.00,9, -999.00,9,  -999.0,9,  -999.0,-999.000,9,-999.000,-999.000,9,  -9.0000,-999.0000,   0.6859,   -9.00
  316N145_7,       I05E,     430,          1,          2,          2,2,19950412,       1135,   -31.6335,   109.8173,       5165,  5030.1,   1.0404,  34.7083,2,  34.7072,2,    208.1,2,   207.8,2,  124.65,2,   32.43,2,    0.00,2,    2.24,2,   0.003,2,   0.001,2,  2267.5,2,  2382.4,2,  -9.0000,9,-999.0000,9, -999.00,9, -999.00,9,  -999.0,9,  -999.0,-999.000,9,-999.000,-999.000,9,  -9.0000,-999.0000,   0.6180,   -9.00
  316N145_7,       I05E,     430,          1,          1,          1,2,19950412,       1135,   -31.6335,   109.8173,       5165,  5275.8,   1.0132,  34.7058,2,  34.7058,2,    210.1,2,   211.4,3,  125.06,2,   32.39,2,    0.00,2,    2.24,2,   0.008,2,   0.006,2,  2267.0,2,  2373.9,2,  -9.0000,9,-999.0000,9, -999.00,9, -999.00,9,  -999.0,9,  -999.0,-999.000,9,-999.000,-999.000,9,  -9.0000,-999.0000,   0.5621,   -9.00