BOTTLE,20211124CCHSIORKP
EXPOCODE,SECT_ID,STNNBR,CASTNO,SAMPNO,BTLNBR,BTLNBR_FLAG_W,DATE,TIME,LATITUDE,LONGITUDE,DEPTH,CTDPRS,CTDTMP,CTDSAL,CTDSAL_FLAG_W,SALNTY,SALNTY_FLAG_W,CTDOXY,CTDOXY_FLAG_W,OXYGEN,OXYGEN_FLAG_W,SILCAT,SILCAT_FLAG_W,NITRAT,NITRAT_FLAG_W,NITRIT,NITRIT_FLAG_W,PHSPHT,PHSPHT_FLAG_W,CFC-11,CFC-11_FLAG_W,CFC-12,CFC-12_FLAG_W,TCARBN,TCARBN_FLAG_W,ALKALI,ALKALI_FLAG_W,TRITUM,TRITUM_FLAG_W,HELIUM,HELIUM_FLAG_W,DELHE3,DELHE3_FLAG_W,DELC13,DELC13_FLAG_W,DELC14,DELC14_FLAG_W,C14ERR,NEON,NEON_FLAG_W,NEONER,CCL4,CCL4_FLAG_W,TRITER,HELIER,THETA,DELHER
,,,,,,,,,,,METERS,DBAR,ITS-90,PSS-78,,PSS-78,,UMOL/KG,,UMOL/KG,,UMOL/KG,,UMOL/KG,,UMOL/KG,,UMOL/KG,,PMOL/KG,,PMOL/KG,,UMOL/KG,,UMOL/KG,,TU,,NMOL/KG,,PERCNT,,/MILLE,,/MILLE,,/MILLE,NMOL/KG,,NMOL/KG,PMOL/KG,,TU,NMOL/KG,DEG C,PERCNT
  316N145_7,       I08N,     354,          1,         36,         36,2,19950326,       1924,   -23.9990,    80.0018,       4341,     3.5,  26.5226,  35.4176,2,  35.4180,2,    205.2,2,   204.0,2,    2.55,2,    0.14,2,    0.00,2,    0.11,2,   1.807,2,   0.997,2,  1975.3,2,  2351.2,2,  -9.0000,9,   1.6966,2,   -1.01,2,    1.21,2,    61.5,2,     3.8,   6.662,2,   0.033,-999.000,9,  -9.0000,   0.0085,  26.5218,    0.14
  316N145_7,       I08N,     354,          1,         35,         35,2,19950326,       1924,   -23.9990,    80.0018,       4341,    25.9,  26.4826,  35.4091,2,  35.4109,2,    201.8,2,   204.0,2,    2.54,2,    0.14,2,    0.00,2,    0.11,2,-999.000,9,-999.000,9,  1975.9,2,  2334.2,2,   1.1538,2,   1.7043,2,   -0.94,2, -999.00,9,  -999.0,9,  -999.0,   6.698,2,   0.033,-999.000,9,   0.0040,   0.0085,  26.4767,    0.14
  316N145_7,       I08N,     354,          1,         34,         34,2,19950326,       1924,   -23.9990,    80.0018,       4341,    51.6,  23.4003,  35.6264,2,  35.6143,2,    229.2,2,   231.6,2,    2.73,2,    0.14,2,    0.00,2,    0.10,2,-999.000,9,-999.000,9,  1998.7,2,  2332.1,2,  -9.0000,9,-999.0000,9, -999.00,9,    1.31,2,    79.3,2,     4.7,-999.000,9,-999.000,-999.000,9,  -9.0000,-999.0000,  23.3896,   -9.00
  316N145_7,       I08N,     354,          1,         33,         33,2,19950326,       1924,   -23.9990,    80.0018,       4341,    91.2,  20.5815,  35.7576,2,  35.7499,2,    224.0,2,   227.4,2,    2.72,2,    0.14,2,    0.00,2,    0.12,2,   1.805,2,   0.997,2,  2022.7,2,  2368.3,3,  -9.0000,9,   1.7183,2,   -0.99,2,    1.21,2,    66.6,2,     5.6,   6.953,2,   0.035,-999.000,9,  -9.0000,   0.0086,  20.5643,    0.14
  316N145_7,       I08N,     354,          1,         32,         32,2,19950326,       1924,   -23.9990,    80.0018,       4341,   126.6,  19.6910,  35.8094,2,  35.8104,2,    220.2,2,   218.0,2,    2.50,2,    0.14,2,    0.00,2,    0.15,2,-999.000,9,-999.000,9,  2041.5,2,  2344.5,2,  -9.0000,9,   1.7254,2,   -0.62,2, -999.00,9,  -999.0,9,  -999.0,   6.997,2,   0.035,-999.000,9,  -9.0000,   0.0086,  19.6678,    0.14
  316N145_7,       I08N,     354,          1,         31,         31,2,19950326,       1924,   -23.9990,    80.0018,       4341,   166.4,  18.3681,  35.8051,2,  35.8007,2,    208.0,2,   205.8,2,    2.90,2,    1.90,2,    0.01,2,    0.28,2,   2.403,2,   1.251,2,  2068.7,2,  2352.3,2,   1.0603,2,   1.7340,2,   -0.59,2,    1.12,2,    86.7,2,     4.4,   7.082,2,   0.035,-999.000,9,   0.0039,   0.0087,  18.3390,    0.14
  316N145_7,       I08N,     354,          1,         30,         30,2,19950326,       1924,   -23.9990,    80.0018,       4341,   206.7,  17.0378,  35.7559,2,  35.7467,2,    205.0,2,   214.4,2,    2.48,2,    2.04,2,    0.01,2,    0.32,2,   2.546,2,   1.332,2,  2078.5,2,  2346.4,2,   0.9790,2,   1.7323,2,   -0.56,2, -999.00,9,  -999.0,9,  -999.0,   7.103,2,   0.036,-999.000,9,   0.0037,   0.0087,  17.0034,    0.14
  316N145_7,       I08N,     354,          1,         29,         29,2,19950326,       1924,   -23.9990,    80.0018,       4341,   277.1,  14.8589,  35.5015,2,  35.5032,2,    218.3,2,   221.2,2,    2.47,2,    4.28,2,    0.01,2,    0.46,2,-999.000,9,-999.000,9,  2090.2,2,  2344.9,2,   0.8617,2,   1.7386,2,   -0.18,2,    1.26,2,    80.0,2,     7.0,   7.182,2,   0.036,-999.000,9,   0.0035,   0.0087,  14.8170,    0.14
  316N145_7,       I08N,     354,          1,         28,         28,2,19950326,       1924,   -23.9990,    80.0018,       4341,   347.4,  12.9756,  35.2367,2,  35.2394,2,    226.1,2,   228.7,2,    3.27,2,    7.96,2,    0.00,2,    0.66,2,   2.919,2,   1.493,2,  2096.2,2,  2322.8,2,   0.7736,2,   1.7498,2,   -0.45,2, -999.00,9,  -999.0,9,  -999.0,   7.286,2,   0.036,-999.000,9,   0.0034,   0.0087,  12.9275,    0.14
  316N145_7,       I08N,     354,          1,         27,         27,2,19950326,       1924,   -23.9990,    80.0018,       4341,   407.1,  12.0430,  35.0978,2,  35.1010,2,    231.5,2,   233.3,2,    3.87,2,    9.93,2,    0.00,2,    0.78,2,   2.960,2,   1.509,2,  2100.5,2,  2321.9,2,   0.7034,2,   1.7571,2,   -0.19,2,    1.25,2,    69.5,2,     6.2,   7.351,2,   0.037,-999.000,9,   0.0033,   0.0088,  11.9893,    0.14
  316N145_7,       I08N,     354,          1,         26,         26,2,19950326,       1924,   -23.9990,    80.0018,       4341,   508.2,  11.0046,  34.9375,2,  34.9410,2,    235.9,2,   236.9,2,    4.26,2,   12.17,2,    0.00,2,    0.90,2,   2.951,2,   1.482,2,  2104.6,2,  2305.2,2,   0.6232,2,   1.7599,2,    0.07,2,    1.27,2,    72.3,2,     4.4,   7.400,2,   0.037,-999.000,9,   0.0031,   0.0088,  10.9410,    0.14
  316N145_7,       I08N,     354,          1,         25,         25,2,19950326,       1924,   -23.9990,    80.0018,       4341,   608.4,   9.9454,  34.7833,2,  34.7866,2,    236.3,2,   236.5,2,    4.86,2,   14.64,2,    0.00,2,    1.05,2,   2.957,2,   1.484,2,  2111.3,2,  2310.4,3,   0.5269,2,-999.0000,9, -999.00,9,    1.32,2,    63.9,2,     3.1,-999.000,9,-999.000,-999.000,9,   0.0030,-999.0000,   9.8738,   -9.00
  316N145_7,       I08N,     354,          1,         24,         24,2,19950326,       1924,   -23.9990,    80.0018,       4341,   709.4,   8.9454,  34.6508,2,  34.6421,2,    228.9,2,   222.9,2,    7.71,2,   18.86,2,    0.00,2,    1.31,2,   1.987,2,   0.964,2,  2126.2,2,  2295.0,2,   0.3706,2,   1.7861,2,    1.38,2,    1.25,2,    48.0,2,     4.0,   7.602,2,   0.038,-999.000,9,   0.0027,   0.0089,   8.8667,    0.14
  316N145_7,       I08N,     354,          1,         23,         23,2,19950326,       1924,   -23.9990,    80.0018,       4341,   810.0,   7.2854,  34.5146,2,  34.5150,2,    207.3,2,   202.5,2,   16.46,2,   24.48,2,    0.00,2,    1.68,2,   0.966,2,   0.477,2,  2155.0,2,  2301.6,2,  -9.0000,9,-999.0000,9, -999.00,9,    1.14,2,   -15.4,2,     4.0,-999.000,9,-999.000,-999.000,9,  -9.0000,-999.0000,   7.2051,   -9.00
  316N145_7,       I08N,     354,          1,         22,         22,2,19950326,       1924,   -23.9990,    80.0018,       4341,   910.3,   5.4402,  34.4286,2,  34.4306,2,    190.2,2,   186.4,2,   33.16,2,   29.81,2,    0.00,2,    2.05,2,   0.371,2,   0.182,2,  2190.1,2,  2306.8,2,   0.0680,2,   1.8046,2,    4.11,2,    0.92,2,   -77.1,2,     3.4,   7.757,2,   0.039,-999.000,9,   0.0023,   0.0090,   5.3620,    0.14
  316N145_7,       I08N,     354,          1,         21,         21,2,19950326,       1924,   -23.9990,    80.0018,       4341,  1011.8,   4.6055,  34.4671,2,  34.4705,2,    169.5,2,   159.3,2,   54.76,2,   33.27,2,    0.00,2,    2.33,2,   0.103,6,   0.050,6,  2228.0,2,  2327.1,2,  -9.0000,9,   1.8260,2,    6.61,2,    0.67,2,  -121.1,2,     3.4,-999.000,9,-999.000,-999.000,9,  -9.0000,-999.0000,   4.5242,   -9.00
  316N145_7,       I08N,     354,          1,         20,         20,2,19950326,       1924,   -23.9990,    80.0018,       4341,  1137.2,   4.0460,  34.5127,2,  34.5121,2,    146.3,2,   148.9,2,   68.02,2,   34.65,2,    0.00,2,    2.45,2,-999.000,9,-999.000,9,  2248.9,2,  2339.3,2,   0.0078,2,   1.8410,2,    8.35,2,    0.48,2,  -136.0,2,     5.8,   7.886,2,   0.039,-999.000,9,   0.0022,   0.0092,   3.9584,    0.14
  316N145_7,       I08N,     354,          1,         19,         19,2,19950326,       1924,   -23.9990,    80.0018,       4341,  1263.6,   3.6801,  34.5622,2,  34.5612,2,    142.9,2,   141.8,2,   78.02,2,   35.27,2,    0.00,2,    2.50,2,   0.010,2,   0.006,2,  2262.4,2,  2328.7,3,  -9.0000,9,   1.8480,2,   10.54,2,    0.40,2,  -153.6,2,     6.0,-999.000,9,-999.000,-999.000,9,  -9.0000,-999.0000,   3.5850,   -9.00
  316N145_7,       I08N,     354,          1,         18,         18,2,19950326,       1924,   -23.9990,    80.0018,       4341,  1414.0,   3.2703,  34.6205,2,  34.6197,2,    142.3,2,   142.7,2,   86.81,2,   35.18,2,    0.00,2,    2.49,2,   0.003,2,   0.002,2,  2271.6,2,  2359.1,2,   0.0002,2,   1.8658,2,   11.12,2,    0.35,2,  -172.4,2,     5.6,   7.968,2,   0.040,-999.000,9,   0.0022,   0.0093,   3.1665,    0.14
  316N145_7,       I08N,     354,          1,         17,         17,2,19950326,       1924,   -23.9990,    80.0018,       4341,  1564.8,   3.0073,  34.6559,2,  34.6553,2,    146.2,2,   154.2,4,   91.93,2,   34.85,2,    0.00,2,    2.47,2,-999.000,9,-999.000,9,  2275.6,2,  2366.1,2,  -9.0000,9,   1.8660,2,   12.00,2,    0.33,2,  -177.9,2,     4.6,-999.000,9,-999.000,-999.000,9,  -9.0000,-999.0000,   2.8937,   -9.00
  316N145_7,       I08N,     354,          1,         16,         16,2,19950326,       1924,   -23.9990,    80.0018,       4341,  1715.1,   2.8107,  34.7010,2,  34.7015,2,    147.5,2,   146.6,2,  101.81,2,   34.66,2,    0.00,2,    2.47,2,   0.000,2,   0.000,2,  2283.6,2,  2377.0,2,  -0.0003,2,   1.7964,2,   13.50,2,    0.19,2,  -172.6,2,     2.9,   7.666,2,   0.038,-999.000,9,   0.0022,   0.0090,   2.6867,    0.14
  316N145_7,       I08N,     354,          1,         15,         15,2,19950326,       1924,   -23.9990,    80.0018,       4341,  1865.4,   2.5929,  34.7148,2,  34.7150,2,    152.3,2,   152.2,2,  105.51,2,   34.43,2,    0.00,2,    2.44,2,   0.003,2,   0.001,2,  2283.3,2,  2373.8,2,  -9.0000,9,   1.8750,2,   13.91,2,    0.27,2,  -177.0,2,     4.0,-999.000,9,-999.000,-999.000,9,  -9.0000,-999.0000,   2.4589,   -9.00
  316N145_7,       I08N,     354,          1,         14,         14,2,19950326,       1924,   -23.9990,    80.0018,       4341,  2015.9,   2.3728,  34.7205,2,  34.7213,2,    157.6,2,   158.6,2,  107.77,2,   34.10,2,    0.00,2,    2.41,2,   0.001,2,   0.000,2,  2282.6,2,  2382.6,2,  -9.0000,9,-999.0000,9, -999.00,9,    0.32,2,  -179.8,2,     2.8,-999.000,9,-999.000,-999.000,9,  -9.0000,-999.0000,   2.2290,   -9.00
  316N145_7,       I08N,     354,          1,         13,         13,2,19950326,       1924,   -23.9990,    80.0018,       4341,  2166.9,   2.2019,  34.7226,2,  34.7229,2,    163.5,2,   165.4,2,  108.78,2,   33.72,2,    0.00,2,    2.38,2,-999.000,9,-999.000,9,  2281.4,2,  2392.6,3,  -9.0000,9,   1.8810,2,   15.03,2,    0.31,2,  -181.3,2,     3.0,-999.000,9,-999.000,-999.000,9,  -9.0000,-999.0000,   2.0477,   -9.00
  316N145_7,       I08N,     354,          1,         12,         12,2,19950326,       1924,   -23.9990,    80.0018,       4341,  2321.2,   2.0626,  34.7239,2,  34.7235,2,    169.8,2,   170.4,2,  109.18,2,   33.44,2,    0.00,2,    2.34,2,   0.001,2,   0.001,2,  2278.5,2,  2386.4,2,  -9.0000,9,   1.8880,2,   15.82,2,    0.35,2,  -182.9,2,     2.8,-999.000,9,-999.000,-999.000,9,  -9.0000,-999.0000,   1.8970,   -9.00
  316N145_7,       I08N,     354,          1,         11,         11,2,19950326,       1924,   -23.9990,    80.0018,       4341,  2474.8,   1.9171,  34.7254,2,  34.7272,2,    176.7,2,   177.5,2,  108.74,2,   32.96,2,    0.00,2,    2.30,2,  -0.001,2,   0.000,2,  2274.5,2,  2391.6,3,  -9.0000,9,   1.8920,2,   16.28,2,    0.33,2,  -189.6,2,     3.6,-999.000,9,-999.000,-999.000,9,  -9.0000,-999.0000,   1.7403,   -9.00
  316N145_7,       I08N,     354,          1,         10,         10,2,19950326,       1924,   -23.9990,    80.0018,       4341,  2677.6,   1.7852,  34.7296,2,  34.7296,2,    185.4,2,   185.2,2,  106.64,2,   32.25,2,    0.00,2,    2.25,2,  -0.001,2,   0.000,2,  2268.0,2,  2379.7,2,  -9.0000,9,   1.8900,2,   15.60,2,    0.38,2,  -178.4,2,     2.8,-999.000,9,-999.000,-999.000,9,  -9.0000,-999.0000,   1.5924,   -9.00
  316N145_7,       I08N,     354,          1,          9,          9,2,19950326,       1924,   -23.9990,    80.0018,       4341,  2881.4,   1.6707,  34.7334,2,  34.7331,2,    192.1,2,   191.2,2,  106.20,2,   31.93,2,    0.00,2,    2.22,2,-999.000,9,-999.000,9,  2264.3,2,  2377.8,2,  -9.0000,9,   1.8900,2,   13.78,2,    0.43,2,  -174.3,2,     3.8,-999.000,9,-999.000,-999.000,9,  -9.0000,-999.0000,   1.4612,   -9.00
  316N145_7,       I08N,     354,          1,          8,          8,2,19950326,       1924,   -23.9990,    80.0018,       4341,  3087.2,   1.5234,  34.7310,2,  34.7317,2,    193.6,2,   193.6,2,  110.12,2,   32.02,2,    0.01,2,    2.22,2,  -0.002,2,  -0.002,2,  2268.2,2,  2379.8,2,  -9.0000,9,   1.8840,2,   12.16,2, -999.00,5,  -999.0,5,  -999.0,-999.000,9,-999.000,-999.000,9,  -9.0000,-999.0000,   1.2974,   -9.00
  316N145_7,       I08N,     354,          1,          7,          7,2,19950326,       1924,   -23.9990,    80.0018,       4341,  3290.9,   1.4417,  34.7279,2,  34.7288,2,    192.8,2,   193.7,2,  114.26,2,   32.31,2,    0.01,2,    2.24,2,-999.000,9,-999.000,9,  2270.0,2,  2397.1,3,  -9.0000,9,   1.8760,2,   12.13,2,    0.43,2,  -184.8,2,     2.9,-999.000,9,-999.000,-999.000,9,  -9.0000,-999.0000,   1.1978,   -9.00
  316N145_7,       I08N,     354,          1,          6,          6,2,19950326,       1924,   -23.9990,    80.0018,       4341,  3494.8,   1.4070,  34.7255,2,  34.7268,2,    192.2,2,   192.6,2,  117.16,2,   32.55,2,    0.00,2,    2.26,2,  -0.001,2,  -0.001,2,  2275.5,2,  2390.5,2,  -9.0000,9,-999.0000,9, -999.00,9,    0.39,2,  -197.9,3,     5.1,-999.000,9,-999.000,-999.000,9,  -9.0000,-999.0000,   1.1435,   -9.00
  316N145_7,       I08N,     354,          1,          5,          5,2,19950326,       1924,   -23.9990,    80.0018,       4341,  3698.2,   1.3878,  34.7234,2,  34.7237,2,    190.5,2,   189.8,2,  121.32,2,   32.84,2,    0.00,2,    2.28,2,-999.000,9,-999.000,9,  2281.4,2,  2401.5,3,  -9.0000,9,   1.8940,2,   12.08,2,    0.39,2,  -178.1,2,     2.8,-999.000,9,-999.000,-999.000,9,  -9.0000,-999.0000,   1.1038,   -9.00
  316N145_7,       I08N,     354,          1,          4,          4,2,19950326,       1924,   -23.9990,    80.0018,       4341,  3902.2,   1.3945,  34.7223,2,  34.7231,2,    189.2,2,   188.8,2,  122.76,2,   32.93,2,    0.00,2,    2.29,2,  -0.002,2,  -0.003,2,  2284.0,2,  2399.1,2,  -9.0000,9,-999.0000,9, -999.00,9,    0.37,2,  -175.7,2,     2.9,-999.000,9,-999.000,-999.000,9,  -9.0000,-999.0000,   1.0889,   -9.00
  316N145_7,       I08N,     354,          1,          3,          3,2,19950326,       1924,   -23.9990,    80.0018,       4341,  4106.4,   1.4091,  34.7220,2,  34.7219,2,    188.2,2,   188.6,2,  123.58,2,   33.08,2,    0.00,2,    2.30,2,-999.000,9,-999.000,9,  2286.2,2,  2396.5,2,  -9.0000,9,   1.8910,2,   11.96,2,    0.32,2,  -190.5,2,     2.4,-999.000,9,-999.000,-999.000,9,  -9.0000,-999.0000,   1.0810,   -9.00
  316N145_7,       I08N,     354,          1,          2,          2,2,19950326,       1924,   -23.9990,    80.0018,       4341,  4260.6,   1.4182,  34.7215,2,  34.7221,2,    188.2,2,   187.9,2,  124.40,2,   33.13,2,    0.00,2,    2.30,2,  -0.002,2,  -0.002,2,  2288.2,2,  2404.8,2,  -9.0000,9,-999.0000,9, -999.00,9,    0.36,2,  -198.0,2,     2.4,-999.000,9,-999.000,-999.000,9,  -9.0000,-999.0000,   1.0727,   -9.00
  316N145_7,       I08N,     354,          1,          1,          1,2,19950326,       1924,   -23.9990,    80.0018,       4341,  4480.7,   1.4309,  34.7204,2,  34.7213,2,    186.5,2,   186.4,2,  126.26,2,   33.28,2,    0.00,2,    2.32,2,  -0.002,2,  -0.003,2,  2291.0,2,  2407.1,2,  -9.0000,9,   1.8880,2,   11.79,2,    0.08,3,  -196.1,2,     3.2,-999.000,9,-999.000,-999.000,9,  -9.0000,-999.0000,   1.0601,   -9.00