BOTTLE,20211124CCHSIORKP
EXPOCODE,SECT_ID,STNNBR,CASTNO,SAMPNO,BTLNBR,BTLNBR_FLAG_W,DATE,TIME,LATITUDE,LONGITUDE,DEPTH,CTDPRS,CTDTMP,CTDSAL,CTDSAL_FLAG_W,SALNTY,SALNTY_FLAG_W,CTDOXY,CTDOXY_FLAG_W,OXYGEN,OXYGEN_FLAG_W,SILCAT,SILCAT_FLAG_W,NITRAT,NITRAT_FLAG_W,NITRIT,NITRIT_FLAG_W,PHSPHT,PHSPHT_FLAG_W,CFC-11,CFC-11_FLAG_W,CFC-12,CFC-12_FLAG_W,TCARBN,TCARBN_FLAG_W,ALKALI,ALKALI_FLAG_W,TRITUM,TRITUM_FLAG_W,HELIUM,HELIUM_FLAG_W,DELHE3,DELHE3_FLAG_W,DELC13,DELC13_FLAG_W,DELC14,DELC14_FLAG_W,C14ERR,NEON,NEON_FLAG_W,NEONER,CCL4,CCL4_FLAG_W,TRITER,HELIER,THETA,DELHER
,,,,,,,,,,,METERS,DBAR,ITS-90,PSS-78,,PSS-78,,UMOL/KG,,UMOL/KG,,UMOL/KG,,UMOL/KG,,UMOL/KG,,UMOL/KG,,PMOL/KG,,PMOL/KG,,UMOL/KG,,UMOL/KG,,TU,,NMOL/KG,,PERCNT,,/MILLE,,/MILLE,,/MILLE,NMOL/KG,,NMOL/KG,PMOL/KG,,TU,NMOL/KG,DEG C,PERCNT
  316N145_7,       I05E,     398,          1,         36,         36,2,19950404,       1232,   -31.5968,    89.3725,       3585,     2.5,  22.5110,  36.1353,2,  36.1353,2,    218.1,2,   218.1,2,    2.85,2,    0.11,2,    0.00,2,    0.11,2,   2.068,2,   1.152,2,  2047.8,2,  2367.1,2,   1.0427,2,   1.7089,2,   -1.27,2, -999.00,9,  -999.0,9,  -999.0,   6.836,2,   0.034,-999.000,9,   0.0039,   0.0085,  22.5105,    0.14
  316N145_7,       I05E,     398,          1,         35,         35,2,19950404,       1232,   -31.5968,    89.3725,       3585,    33.8,  22.4479,  36.1581,2,  36.1539,2,    215.4,2,   218.6,2,    2.80,2,    0.11,2,    0.00,2,    0.11,2,-999.000,9,-999.000,9,  2049.0,2,  2368.4,2,  -9.0000,9,-999.0000,9, -999.00,9, -999.00,9,  -999.0,9,  -999.0,-999.000,9,-999.000,-999.000,9,  -9.0000,-999.0000,  22.4411,   -9.00
  316N145_7,       I05E,     398,          1,         34,         34,2,19950404,       1232,   -31.5968,    89.3725,       3585,    69.2,  22.2654,  36.1818,2,  36.1844,2,    218.6,2,   218.9,2,    2.76,2,    0.11,2,    0.00,2,    0.11,2,   2.082,2,   1.162,2,  2051.5,2,  2368.4,2,   1.0475,2,   1.7249,2,   -0.97,2, -999.00,9,  -999.0,9,  -999.0,   6.884,2,   0.034,-999.000,9,   0.0039,   0.0086,  22.2515,    0.14
  316N145_7,       I05E,     398,          1,         33,         33,2,19950404,       1232,   -31.5968,    89.3725,       3585,   103.6,  17.6335,  35.7307,2,  35.7400,2,    246.7,2,   247.5,2,    2.29,2,    0.11,2,    0.00,2,    0.17,2,-999.000,9,-999.000,9,  2055.1,2,  2341.4,2,  -9.0000,9,-999.0000,9, -999.00,9, -999.00,9,  -999.0,9,  -999.0,-999.000,9,-999.000,-999.000,9,  -9.0000,-999.0000,  17.6159,   -9.00
  316N145_7,       I05E,     398,          1,         32,         32,2,19950404,       1232,   -31.5968,    89.3725,       3585,   138.4,  16.0983,  35.6267,2,  35.6007,2,    243.1,2,   241.9,2,    2.25,2,    0.19,2,    0.02,2,    0.25,2,   2.753,2,   1.492,2,  2070.2,2,  2337.3,2,   0.8658,2,   1.7546,2,   -0.55,2, -999.00,9,  -999.0,9,  -999.0,   7.204,2,   0.036,-999.000,9,   0.0036,   0.0088,  16.0762,    0.14
  316N145_7,       I05E,     398,          1,         31,         31,2,19950404,       1232,   -31.5968,    89.3725,       3585,   178.1,  14.5556,  35.4952,2,  35.4933,2,    226.7,2,   224.3,2,    2.85,2,    4.32,2,    0.01,2,    0.46,2,-999.000,9,-999.000,9,  2088.9,2,  2332.6,2,   0.8565,2,   1.7574,2,   -0.61,2, -999.00,9,  -999.0,9,  -999.0,   7.248,2,   0.036,-999.000,9,   0.0036,   0.0088,  14.5291,    0.14
  316N145_7,       I05E,     398,          1,         30,         30,2,19950404,       1232,   -31.5968,    89.3725,       3585,   228.0,  13.2660,  35.3146,2,  35.3110,2,    227.3,2,   229.0,2,    3.02,2,    6.63,2,    0.01,2,    0.59,2,   2.946,2,   1.556,2,  2095.7,2,  2326.4,2,   0.7809,2,   1.7575,2,   -0.43,2, -999.00,9,  -999.0,9,  -999.0,   7.305,2,   0.037,-999.000,9,   0.0034,   0.0088,  13.2340,    0.14
  316N145_7,       I05E,     398,          1,         29,         29,2,19950404,       1232,   -31.5968,    89.3725,       3585,   287.7,  12.4011,  35.1807,2,  35.1817,2,    232.8,2,   233.1,2,    3.40,2,    8.25,2,    0.00,2,    0.68,2,   3.026,2,   1.579,2,  2100.1,2,  2314.6,2,   0.7237,2,   1.7626,2,   -0.32,2, -999.00,9,  -999.0,9,  -999.0,   7.357,2,   0.037,-999.000,9,   0.0034,   0.0088,  12.3625,    0.14
  316N145_7,       I05E,     398,          1,         28,         28,2,19950404,       1232,   -31.5968,    89.3725,       3585,   348.4,  11.6163,  35.0498,2,  35.0529,2,    238.5,2,   237.2,2,    3.99,2,    9.97,2,    0.00,2,    0.79,2,   3.085,2,   1.585,2,  2101.6,2,  2302.2,2,   0.6711,2,   1.7732,2,   -0.22,2, -999.00,9,  -999.0,9,  -999.0,   7.435,2,   0.037,-999.000,9,   0.0032,   0.0089,  11.5715,    0.14
  316N145_7,       I05E,     398,          1,         27,         27,2,19950404,       1232,   -31.5968,    89.3725,       3585,   408.9,  10.8323,  34.9244,2,  34.9272,2,    238.3,2,   239.5,2,    4.59,2,   11.83,2,    0.00,2,    0.90,2,   3.063,2,   1.562,2,  2104.4,2,  2310.2,2,   0.6106,2,-999.0000,9, -999.00,9, -999.00,9,  -999.0,9,  -999.0,-999.000,9,-999.000,-999.000,9,   0.0031,-999.0000,  10.7819,   -9.00
  316N145_7,       I05E,     398,          1,         26,         26,2,19950404,       1232,   -31.5968,    89.3725,       3585,   508.8,  10.0539,  34.8023,2,  34.8011,2,    238.5,2,   239.0,2,    5.18,2,   14.09,2,    0.00,2,    1.04,2,   2.929,2,   1.495,2,  2111.5,2,  2292.1,2,  -9.0000,9,-999.0000,9, -999.00,9, -999.00,9,  -999.0,9,  -999.0,-999.000,9,-999.000,-999.000,9,  -9.0000,-999.0000,   9.9939,   -9.00
  316N145_7,       I05E,     398,          1,         25,         25,2,19950404,       1232,   -31.5968,    89.3725,       3585,   608.4,   9.2028,  34.6759,2,  34.6785,2,    233.7,2,   231.2,2,    6.63,2,   17.24,2,    0.00,2,    1.22,2,   2.543,2,   1.273,2,  2119.7,2,  2294.1,2,   0.4352,2,   1.7597,2,    0.76,2, -999.00,9,  -999.0,9,  -999.0,   7.468,2,   0.037,-999.000,9,   0.0028,   0.0088,   9.1345,    0.14
  316N145_7,       I05E,     398,          1,         24,         24,2,19950404,       1232,   -31.5968,    89.3725,       3585,   709.8,   8.0139,  34.5501,2,  34.5561,2,    212.6,2,   211.2,2,   11.89,2,   22.06,2,    0.00,2,    1.53,2,   1.592,2,   0.787,2,  2141.1,2,  2285.1,2,  -9.0000,9,-999.0000,9, -999.00,9, -999.00,9,  -999.0,9,  -999.0,-999.000,9,-999.000,-999.000,9,  -9.0000,-999.0000,   7.9401,   -9.00
  316N145_7,       I05E,     398,          1,         23,         23,2,19950404,       1232,   -31.5968,    89.3725,       3585,   810.8,   6.4207,  34.4557,2,  34.4561,2,    198.0,2,   196.8,2,   22.04,2,   26.89,2,    0.00,2,    1.85,2,   0.857,2,   0.432,2,  2168.3,2,  2293.1,2,   0.1355,2,   1.7600,2,    2.75,2, -999.00,9,  -999.0,9,  -999.0,   7.385,2,   0.037,-999.000,9,   0.0024,   0.0088,   6.3456,    0.14
  316N145_7,       I05E,     398,          1,         22,         22,2,19950404,       1232,   -31.5968,    89.3725,       3585,   911.4,   5.1997,  34.4110,2,  34.4137,2,    189.9,2,   188.5,2,   33.88,2,   30.06,2,    0.00,2,    2.08,2,   0.514,2,   0.261,2,  2190.7,2,  2302.7,2,  -9.0000,9,-999.0000,9, -999.00,9, -999.00,9,  -999.0,9,  -999.0,-999.000,9,-999.000,-999.000,9,  -9.0000,-999.0000,   5.1231,   -9.00
  316N145_7,       I05E,     398,          1,         21,         21,2,19950404,       1232,   -31.5968,    89.3725,       3585,  1011.3,   4.4619,  34.4207,2,  34.4204,2,    170.9,2,   177.6,2,   46.79,2,   32.24,2,    0.00,2,    2.25,2,   0.293,2,   0.147,2,  2212.3,2,  2313.1,2,  -9.0000,9,-999.0000,9, -999.00,9, -999.00,9,  -999.0,9,  -999.0,-999.000,9,-999.000,-999.000,9,  -9.0000,-999.0000,   4.3818,   -9.00
  316N145_7,       I05E,     398,          1,         20,         20,2,19950404,       1232,   -31.5968,    89.3725,       3585,  1112.0,   3.9607,  34.4734,2,  34.4730,2,    163.4,2,   160.3,2,   61.82,2,   33.98,2,    0.00,2,    2.39,2,   0.110,6,   0.057,6,  2238.4,2,  2329.1,2,  -9.0000,9,-999.0000,9, -999.00,9, -999.00,9,  -999.0,9,  -999.0,-999.000,9,-999.000,-999.000,9,  -9.0000,-999.0000,   3.8760,   -9.00
  316N145_7,       I05E,     398,          1,         19,         19,2,19950404,       1232,   -31.5968,    89.3725,       3585,  1212.8,   3.7248,  34.5114,2,  34.5119,2,    152.2,2,   152.8,2,   69.85,2,   34.62,2,    0.00,2,    2.45,2,   0.057,2,   0.029,2,  2248.1,2,  2450.4,4,  -9.0000,9,-999.0000,9, -999.00,9, -999.00,9,  -999.0,9,  -999.0,-999.000,9,-999.000,-999.000,9,  -9.0000,-999.0000,   3.6336,   -9.00
  316N145_7,       I05E,     398,          1,         18,         18,2,19950404,       1232,   -31.5968,    89.3725,       3585,  1313.4,   3.5079,  34.5492,2,  34.5494,2,    147.3,2,   147.5,2,   76.82,2,   34.87,2,    0.00,2,    2.48,2,   0.025,2,   0.013,2,  2258.1,2,  2347.1,2,   0.0055,2,-999.0000,9, -999.00,9, -999.00,9,  -999.0,9,  -999.0,-999.000,9,-999.000,-999.000,9,   0.0022,-999.0000,   3.4102,   -9.00
  316N145_7,       I05E,     398,          1,         17,         17,2,19950404,       1232,   -31.5968,    89.3725,       3585,  1413.0,   3.3164,  34.5768,2,  34.5771,2,    146.9,2,   146.7,2,   81.24,2,   34.87,2,    0.00,2,    2.48,2,-999.000,9,-999.000,9,  2264.5,2,  2449.8,4,  -9.0000,9,-999.0000,9, -999.00,9, -999.00,9,  -999.0,9,  -999.0,-999.000,9,-999.000,-999.000,9,  -9.0000,-999.0000,   3.2124,   -9.00
  316N145_7,       I05E,     398,          1,         16,         16,2,19950404,       1232,   -31.5968,    89.3725,       3585,  1512.4,   3.0593,  34.5945,2,  34.5948,2,    151.6,2,   152.1,2,   82.04,2,   34.66,2,    0.00,2,    2.45,2,   0.016,2,   0.010,2,  2263.4,2,  2353.7,2,   0.0036,2,   1.8497,2,   10.53,2, -999.00,9,  -999.0,9,  -999.0,   7.904,2,   0.040,-999.000,9,   0.0022,   0.0092,   2.9497,    0.14
  316N145_7,       I05E,     398,          1,         15,         15,2,19950404,       1232,   -31.5968,    89.3725,       3585,  1663.7,   2.7846,  34.6297,2,  34.6303,2,    159.6,2,   159.6,2,   83.90,2,   34.01,2,    0.00,2,    2.40,2,-999.000,9,-999.000,9,  2258.2,2,  2414.1,3,  -9.0000,9,-999.0000,9, -999.00,9, -999.00,9,  -999.0,9,  -999.0,-999.000,9,-999.000,-999.000,9,  -9.0000,-999.0000,   2.6655,   -9.00
  316N145_7,       I05E,     398,          1,         14,         14,2,19950404,       1232,   -31.5968,    89.3725,       3585,  1816.5,   2.5901,  34.6594,2,  34.6598,2,    166.8,2,   168.0,2,   83.20,2,   33.21,2,    0.00,2,    2.32,2,   0.020,2,   0.010,2,  2253.2,2,  2352.8,2,  -9.0000,9,-999.0000,9, -999.00,9, -999.00,9,  -999.0,9,  -999.0,-999.000,9,-999.000,-999.000,9,  -9.0000,-999.0000,   2.4605,   -9.00
  316N145_7,       I05E,     398,          1,         13,         13,2,19950404,       1232,   -31.5968,    89.3725,       3585,  1969.6,   2.4264,  34.6974,2,  34.6983,2,    171.8,2,   171.8,2,   88.48,2,   32.61,2,    0.00,2,    2.28,2,-999.000,9,-999.000,9,  2254.6,2,  2394.3,3,  -9.0000,9,-999.0000,9, -999.00,9, -999.00,9,  -999.0,9,  -999.0,-999.000,9,-999.000,-999.000,9,  -9.0000,-999.0000,   2.2859,   -9.00
  316N145_7,       I05E,     398,          1,         12,         12,2,19950404,       1232,   -31.5968,    89.3725,       3585,  2121.6,   2.3004,  34.7178,2,  34.7191,2,    180.1,2,   180.0,2,   86.71,2,   31.67,2,    0.00,2,    2.21,2,-999.000,9,-999.000,9,  2250.6,2,  2358.3,2,  -9.0000,9,-999.0000,9, -999.00,9, -999.00,9,  -999.0,9,  -999.0,-999.000,9,-999.000,-999.000,9,  -9.0000,-999.0000,   2.1485,   -9.00
  316N145_7,       I05E,     398,          1,         11,         11,2,19950404,       1232,   -31.5968,    89.3725,       3585,  2272.7,   2.0772,  34.7351,2,  34.7355,2,    185.3,2,   186.0,2,   91.35,2,   31.27,2,    0.00,2,    2.18,2,-999.000,9,-999.000,9,  2253.1,2,  2355.2,2,  -9.0000,9,-999.0000,9, -999.00,9, -999.00,9,  -999.0,9,  -999.0,-999.000,9,-999.000,-999.000,9,  -9.0000,-999.0000,   1.9156,   -9.00
  316N145_7,       I05E,     398,          1,         10,         10,2,19950404,       1232,   -31.5968,    89.3725,       3585,  2423.7,   1.9556,  34.7441,2,  34.7451,2,    192.6,2,   192.6,2,   91.51,2,   30.72,2,    0.00,2,    2.13,2,  -0.004,2,  -0.001,2,  2248.8,2,  2356.5,2,  -9.0000,9,-999.0000,9, -999.00,9, -999.00,9,  -999.0,9,  -999.0,-999.000,9,-999.000,-999.000,9,  -9.0000,-999.0000,   1.7826,   -9.00
  316N145_7,       I05E,     398,          1,          9,          9,2,19950404,       1232,   -31.5968,    89.3725,       3585,  2571.5,   1.7917,  34.7440,2,  34.7445,2,    193.6,2,   194.9,2,   96.16,2,   30.72,2,    0.00,2,    2.13,2,-999.000,9,-999.000,9,  2250.5,2,  2357.8,2,  -9.0000,9,-999.0000,9, -999.00,9, -999.00,9,  -999.0,9,  -999.0,-999.000,9,-999.000,-999.000,9,  -9.0000,-999.0000,   1.6085,   -9.00
  316N145_7,       I05E,     398,          1,          8,          8,2,19950404,       1232,   -31.5968,    89.3725,       3585,  2718.2,   1.6775,  34.7382,2,  34.7392,2,    194.4,2,   193.9,2,  101.67,2,   31.21,2,    0.00,2,    2.17,2,   0.002,2,   0.003,2,  2255.6,2,  2365.4,2,  -9.0000,9,-999.0000,9, -999.00,9, -999.00,9,  -999.0,9,  -999.0,-999.000,9,-999.000,-999.000,9,  -9.0000,-999.0000,   1.4831,   -9.00
  316N145_7,       I05E,     398,          1,          7,          7,2,19950404,       1232,   -31.5968,    89.3725,       3585,  2866.5,   1.5849,  34.7368,2,  34.7384,2,    196.1,2,   196.2,2,  103.54,2,   31.21,2,    0.00,2,    2.17,2,-999.000,9,-999.000,9,  2255.3,2,  2374.7,2,  -9.0000,9,-999.0000,9, -999.00,9, -999.00,9,  -999.0,9,  -999.0,-999.000,9,-999.000,-999.000,9,  -9.0000,-999.0000,   1.3785,   -9.00
  316N145_7,       I05E,     398,          1,          6,          6,2,19950404,       1232,   -31.5968,    89.3725,       3585,  3019.0,   1.4502,  34.7331,2,  34.7347,2,    198.5,2,   198.8,2,  107.13,2,   31.35,2,    0.00,2,    2.18,2,   0.005,2,   0.003,2,  2256.9,2,  2370.3,2,  -9.0000,9,-999.0000,9, -999.00,9, -999.00,9,  -999.0,9,  -999.0,-999.000,9,-999.000,-999.000,9,  -9.0000,-999.0000,   1.2324,   -9.00
  316N145_7,       I05E,     398,          1,          5,          5,2,19950404,       1232,   -31.5968,    89.3725,       3585,  3144.3,   1.3668,  34.7303,2,  34.7309,2,    199.9,2,   200.0,2,  109.23,2,   31.45,2,    0.00,2,    2.18,2,-999.000,9,-999.000,9,  2257.7,2,  2373.2,2,  -9.0000,9,-999.0000,9, -999.00,9, -999.00,9,  -999.0,9,  -999.0,-999.000,9,-999.000,-999.000,9,  -9.0000,-999.0000,   1.1389,   -9.00
  316N145_7,       I05E,     398,          1,          4,          4,2,19950404,       1232,   -31.5968,    89.3725,       3585,  3270.1,   1.3142,  34.7285,2,  34.7288,2,    200.8,2,   201.0,2,  110.89,2,   31.55,2,    0.00,2,    2.19,2,   0.002,2,   0.003,2,  2259.2,2,  2368.5,2,  -9.0000,9,-999.0000,9, -999.00,9, -999.00,9,  -999.0,9,  -999.0,-999.000,9,-999.000,-999.000,9,  -9.0000,-999.0000,   1.0753,   -9.00
  316N145_7,       I05E,     398,          1,          3,          3,2,19950404,       1232,   -31.5968,    89.3725,       3585,  3392.1,   1.2548,  34.7253,2,  34.7252,2,    201.5,2,   201.8,2,  112.77,2,   31.60,2,    0.00,2,    2.19,2,   0.005,2,   0.003,2,  2260.2,2,  2397.4,3,  -9.0000,9,-999.0000,9, -999.00,9, -999.00,9,  -999.0,9,  -999.0,-999.000,9,-999.000,-999.000,9,  -9.0000,-999.0000,   1.0054,   -9.00
  316N145_7,       I05E,     398,          1,          2,          2,2,19950404,       1232,   -31.5968,    89.3725,       3585,  3513.1,   1.1889,  34.7225,2,  34.7229,2,    202.1,2,   202.3,2,  114.87,2,   31.79,2,    0.00,2,    2.20,2,   0.004,2,   0.005,2,  -999.0,5,  2371.0,2,  -9.0000,9,-999.0000,9, -999.00,9, -999.00,9,  -999.0,9,  -999.0,-999.000,9,-999.000,-999.000,9,  -9.0000,-999.0000,   0.9290,   -9.00
  316N145_7,       I05E,     398,          1,          1,          1,2,19950404,       1232,   -31.5968,    89.3725,       3585,  3634.5,   1.1602,  34.7205,2,  34.7217,2,    202.8,2,   202.8,2,  115.89,2,   31.89,2,    0.00,2,    2.21,2,   0.006,2,   0.004,2,  2264.1,2,  2378.2,2,  -9.0000,9,-999.0000,9, -999.00,9, -999.00,9,  -999.0,9,  -999.0,-999.000,9,-999.000,   0.033,6,  -9.0000,-999.0000,   0.8888,   -9.00