BOTTLE,20211124CCHSIORKP
EXPOCODE,SECT_ID,STNNBR,CASTNO,SAMPNO,BTLNBR,BTLNBR_FLAG_W,DATE,TIME,LATITUDE,LONGITUDE,DEPTH,CTDPRS,CTDTMP,CTDSAL,CTDSAL_FLAG_W,SALNTY,SALNTY_FLAG_W,CTDOXY,CTDOXY_FLAG_W,OXYGEN,OXYGEN_FLAG_W,SILCAT,SILCAT_FLAG_W,NITRAT,NITRAT_FLAG_W,NITRIT,NITRIT_FLAG_W,PHSPHT,PHSPHT_FLAG_W,CFC-11,CFC-11_FLAG_W,CFC-12,CFC-12_FLAG_W,TCARBN,TCARBN_FLAG_W,ALKALI,ALKALI_FLAG_W,TRITUM,TRITUM_FLAG_W,HELIUM,HELIUM_FLAG_W,DELHE3,DELHE3_FLAG_W,DELC13,DELC13_FLAG_W,DELC14,DELC14_FLAG_W,C14ERR,NEON,NEON_FLAG_W,NEONER,CCL4,CCL4_FLAG_W,TRITER,HELIER,THETA,DELHER
,,,,,,,,,,,METERS,DBAR,ITS-90,PSS-78,,PSS-78,,UMOL/KG,,UMOL/KG,,UMOL/KG,,UMOL/KG,,UMOL/KG,,UMOL/KG,,PMOL/KG,,PMOL/KG,,UMOL/KG,,UMOL/KG,,TU,,NMOL/KG,,PERCNT,,/MILLE,,/MILLE,,/MILLE,NMOL/KG,,NMOL/KG,PMOL/KG,,TU,NMOL/KG,DEG C,PERCNT
  316N145_7,      TRANS,     377,          1,         36,         36,2,19950331,       0931,   -29.5997,    86.9333,       3518,     2.1,  23.1205,  36.0829,2,  36.0813,2,    215.4,2,   216.6,2,    2.78,2,    0.19,2,    0.00,2,    0.11,2,   2.069,2,   1.148,2,  2048.5,2,  2359.8,2,  -9.0000,9,-999.0000,9, -999.00,9, -999.00,9,  -999.0,9,  -999.0,-999.000,9,-999.000,-999.000,9,  -9.0000,-999.0000,  23.1201,   -9.00
  316N145_7,      TRANS,     377,          1,         35,         35,2,19950331,       0931,   -29.5997,    86.9333,       3518,    35.4,  22.6148,  36.0507,2,  36.0517,2,    209.5,2,   219.2,2,    2.73,2,    0.19,2,    0.00,2,    0.11,2,-999.000,9,-999.000,9,  2047.3,2,  2363.0,2,  -9.0000,9,-999.0000,9, -999.00,9, -999.00,9,  -999.0,9,  -999.0,-999.000,9,-999.000,-999.000,9,  -9.0000,-999.0000,  22.6077,   -9.00
  316N145_7,      TRANS,     377,          1,         34,         34,2,19950331,       0931,   -29.5997,    86.9333,       3518,    75.8,  17.2625,  35.6022,2,  35.5930,2,    258.8,2,   262.4,2,    2.25,2,    0.19,2,    0.00,2,    0.17,2,   2.848,2,   1.519,2,  2053.3,2,  2340.8,2,  -9.0000,9,-999.0000,9, -999.00,9, -999.00,9,  -999.0,9,  -999.0,-999.000,9,-999.000,-999.000,9,  -9.0000,-999.0000,  17.2499,   -9.00
  316N145_7,      TRANS,     377,          1,         33,         33,2,19950331,       0931,   -29.5997,    86.9333,       3518,   115.8,  15.2524,  35.5302,2,  35.4945,2,    246.7,2,   244.5,2,    2.20,2,    0.89,2,    0.08,2,    0.30,2,-999.000,9,-999.000,9,  2076.5,2,  2330.5,2,  -9.0000,9,-999.0000,9, -999.00,9, -999.00,9,  -999.0,9,  -999.0,-999.000,9,-999.000,-999.000,9,  -9.0000,-999.0000,  15.2346,   -9.00
  316N145_7,      TRANS,     377,          1,         32,         32,2,19950331,       0931,   -29.5997,    86.9333,       3518,   156.0,  13.9806,  35.3684,2,  35.3524,2,    238.4,2,   237.3,2,    2.79,2,    4.45,2,    0.26,2,    0.48,2,   3.068,2,   1.606,2,  2090.1,2,  2326.4,2,  -9.0000,9,-999.0000,9, -999.00,9, -999.00,9,  -999.0,9,  -999.0,-999.000,9,-999.000,-999.000,9,  -9.0000,-999.0000,  13.9581,   -9.00
  316N145_7,      TRANS,     377,          1,         31,         31,2,19950331,       0931,   -29.5997,    86.9333,       3518,   206.3,  13.0402,  35.2462,2,  35.2373,2,    233.2,2,   233.2,2,    3.38,2,    7.47,2,    0.01,2,    0.63,2,   3.075,2,   1.591,2,  2097.8,2,  2313.8,2,  -9.0000,9,-999.0000,9, -999.00,9, -999.00,9,  -999.0,9,  -999.0,-999.000,9,-999.000,-999.000,9,  -9.0000,-999.0000,  13.0117,   -9.00
  316N145_7,      TRANS,     377,          1,         30,         30,2,19950331,       0931,   -29.5997,    86.9333,       3518,   257.3,  12.3442,  35.1415,2,  35.1394,2,    235.0,2,   235.5,2,    3.75,2,    9.07,2,    0.00,2,    0.72,2,   3.118,2,   1.606,2,  2100.8,2,  2318.2,2,  -9.0000,9,-999.0000,9, -999.00,9, -999.00,9,  -999.0,9,  -999.0,-999.000,9,-999.000,-999.000,9,  -9.0000,-999.0000,  12.3099,   -9.00
  316N145_7,      TRANS,     377,          1,         29,         29,2,19950331,       0931,   -29.5997,    86.9333,       3518,   332.6,  11.6638,  35.0379,2,  35.0321,2,    236.1,2,   238.2,2,    4.34,2,   10.63,2,    0.00,2,    0.81,2,   3.130,2,   1.579,2,  2104.0,2,  2296.7,2,  -9.0000,9,-999.0000,9, -999.00,9, -999.00,9,  -999.0,9,  -999.0,-999.000,9,-999.000,-999.000,9,  -9.0000,-999.0000,  11.6209,   -9.00
  316N145_7,      TRANS,     377,          1,         28,         28,2,19950331,       0931,   -29.5997,    86.9333,       3518,   407.6,  11.2095,  34.9692,2,  34.9683,2,    235.3,2,   239.0,2,    4.50,2,   11.60,2,    0.00,2,    0.87,2,   3.034,2,   1.551,2,  2104.4,2,  2308.9,2,  -9.0000,9,-999.0000,9, -999.00,9, -999.00,9,  -999.0,9,  -999.0,-999.000,9,-999.000,-999.000,9,  -9.0000,-999.0000,  11.1582,   -9.00
  316N145_7,      TRANS,     377,          1,         27,         27,2,19950331,       0931,   -29.5997,    86.9333,       3518,   482.7,  10.6065,  34.8796,2,  34.8800,2,    238.4,2,   239.3,2,    4.87,2,   13.01,2,    0.00,2,    0.95,2,   2.953,2,   1.491,2,  2108.3,2,  2297.2,2,  -9.0000,9,-999.0000,9, -999.00,9, -999.00,9,  -999.0,9,  -999.0,-999.000,9,-999.000,-999.000,9,  -9.0000,-999.0000,  10.5477,   -9.00
  316N145_7,      TRANS,     377,          1,         26,         26,2,19950331,       0931,   -29.5997,    86.9333,       3518,   558.7,  10.0126,  34.7912,2,  34.7899,2,    236.8,2,   237.9,2,    5.46,2,   14.66,2,    0.00,2,    1.05,2,   2.827,2,   1.414,2,  2113.4,2,  2296.7,2,  -9.0000,9,-999.0000,9, -999.00,9, -999.00,9,  -999.0,9,  -999.0,-999.000,9,-999.000,-999.000,9,  -9.0000,-999.0000,   9.9467,   -9.00
  316N145_7,      TRANS,     377,          1,         25,         25,2,19950331,       0931,   -29.5997,    86.9333,       3518,   659.1,   9.1326,  34.6682,2,  34.6694,2,    228.6,2,   229.0,2,    7.32,2,   17.92,2,    0.00,2,    1.25,2,   2.406,2,   1.189,2,  2122.3,2,  2290.2,2,  -9.0000,9,-999.0000,9, -999.00,9, -999.00,9,  -999.0,9,  -999.0,-999.000,9,-999.000,-999.000,9,  -9.0000,-999.0000,   9.0587,   -9.00
  316N145_7,      TRANS,     377,          1,         24,         24,2,19950331,       0931,   -29.5997,    86.9333,       3518,   758.9,   7.8343,  34.5434,2,  34.5468,2,    213.0,2,   210.2,2,   13.23,2,   22.64,2,    0.00,2,    1.55,2,   1.505,6,   0.745,6,  2144.6,2,  2293.5,2,  -9.0000,9,-999.0000,9, -999.00,9, -999.00,9,  -999.0,9,  -999.0,-999.000,9,-999.000,-999.000,9,  -9.0000,-999.0000,   7.7561,   -9.00
  316N145_7,      TRANS,     377,          1,         23,         23,2,19950331,       0931,   -29.5997,    86.9333,       3518,   859.4,   6.3119,  34.4440,2,  34.4459,2,    199.9,2,   199.6,2,   22.53,2,   27.09,2,    0.00,2,    1.85,2,   0.882,2,   0.438,2,  2168.9,2,  2291.3,2,  -9.0000,9,-999.0000,9, -999.00,9, -999.00,9,  -999.0,9,  -999.0,-999.000,9,-999.000,-999.000,9,  -9.0000,-999.0000,   6.2327,   -9.00
  316N145_7,      TRANS,     377,          1,         22,         22,2,19950331,       0931,   -29.5997,    86.9333,       3518,   960.8,   4.9944,  34.3885,2,  34.3886,2,    198.8,2,   196.7,2,   33.11,2,   30.12,2,    0.00,2,    2.06,2,   0.669,2,   0.328,2,  2189.1,2,  2304.7,2,  -9.0000,9,-999.0000,9, -999.00,9, -999.00,9,  -999.0,9,  -999.0,-999.000,9,-999.000,-999.000,9,  -9.0000,-999.0000,   4.9148,   -9.00
  316N145_7,      TRANS,     377,          1,         21,         21,2,19950331,       0931,   -29.5997,    86.9333,       3518,  1063.3,   4.2103,  34.4156,2,  34.4133,2,    182.1,2,   181.8,2,   47.73,2,   32.43,2,    0.00,2,    2.25,2,   0.336,6,   0.167,6,  2215.0,2,  2312.0,2,  -9.0000,9,-999.0000,9, -999.00,9, -999.00,9,  -999.0,9,  -999.0,-999.000,9,-999.000,-999.000,9,  -9.0000,-999.0000,   4.1277,   -9.00
  316N145_7,      TRANS,     377,          1,         20,         20,2,19950331,       0931,   -29.5997,    86.9333,       3518,  1163.5,   3.8744,  34.4658,2,  34.4665,2,    166.6,2,   164.9,2,   60.66,2,   33.85,2,    0.00,2,    2.36,2,   0.131,2,   0.062,2,  2235.5,2,  2328.7,2,  -9.0000,9,-999.0000,9, -999.00,9, -999.00,9,  -999.0,9,  -999.0,-999.000,9,-999.000,-999.000,9,  -9.0000,-999.0000,   3.7861,   -9.00
  316N145_7,      TRANS,     377,          1,         19,         19,2,19950331,       0931,   -29.5997,    86.9333,       3518,  1263.6,   3.5867,  34.5181,2,  34.5168,2,    155.7,2,   155.1,2,   71.03,2,   34.64,2,    0.00,2,    2.43,2,-999.000,9,-999.000,9,  2251.3,2,  2334.2,2,  -9.0000,9,-999.0000,9, -999.00,9, -999.00,9,  -999.0,9,  -999.0,-999.000,9,-999.000,-999.000,9,  -9.0000,-999.0000,   3.4926,   -9.00
  316N145_7,      TRANS,     377,          1,         18,         18,2,19950331,       0931,   -29.5997,    86.9333,       3518,  1365.1,   3.4016,  34.5580,2,  34.5608,2,    150.6,2,   149.8,2,   78.65,2,   34.93,2,    0.00,2,    2.46,2,   0.021,2,   0.010,2,  2259.8,2,  2349.7,2,  -9.0000,9,-999.0000,9, -999.00,9, -999.00,9,  -999.0,9,  -999.0,-999.000,9,-999.000,-999.000,9,  -9.0000,-999.0000,   3.3007,   -9.00
  316N145_7,      TRANS,     377,          1,         17,         17,2,19950331,       0931,   -29.5997,    86.9333,       3518,  1466.3,   3.1730,  34.5924,2,  34.5926,2,    151.9,2,   151.3,2,   82.22,2,   34.77,2,    0.00,2,    2.44,2,-999.000,9,-999.000,9,  -999.0,5,  2353.7,2,  -9.0000,9,-999.0000,9, -999.00,9, -999.00,9,  -999.0,9,  -999.0,-999.000,9,-999.000,-999.000,9,  -9.0000,-999.0000,   3.0660,   -9.00
  316N145_7,      TRANS,     377,          1,         16,         16,2,19950331,       0931,   -29.5997,    86.9333,       3518,  1566.3,   2.9565,  34.6180,2,  34.6172,2,    154.6,2,   154.7,2,   85.37,2,   34.52,2,    0.00,2,    2.43,2,-999.000,9,-999.000,9,  2264.3,2,  2357.2,2,  -9.0000,9,-999.0000,9, -999.00,9, -999.00,9,  -999.0,9,  -999.0,-999.000,9,-999.000,-999.000,9,  -9.0000,-999.0000,   2.8435,   -9.00
  316N145_7,      TRANS,     377,          1,         15,         15,2,19950331,       0931,   -29.5997,    86.9333,       3518,  1667.8,   2.8101,  34.6472,2,  34.6478,2,    155.9,2,   156.9,2,   89.15,2,   34.22,2,    0.00,2,    2.40,2,-999.000,9,-999.000,9,  2267.7,2,  2360.4,2,  -9.0000,9,-999.0000,9, -999.00,9, -999.00,9,  -999.0,9,  -999.0,-999.000,9,-999.000,-999.000,9,  -9.0000,-999.0000,   2.6902,   -9.00
  316N145_7,      TRANS,     377,          1,         14,         14,2,19950331,       0931,   -29.5997,    86.9333,       3518,  1769.8,   2.6759,  34.6754,2,  34.6753,2,    156.5,2,   157.5,2,   94.23,2,   34.02,2,    0.00,2,    2.39,2,   0.004,2,   0.001,2,  2271.9,2,  2368.0,2,  -9.0000,9,-999.0000,9, -999.00,9, -999.00,9,  -999.0,9,  -999.0,-999.000,9,-999.000,-999.000,9,  -9.0000,-999.0000,   2.5491,   -9.00
  316N145_7,      TRANS,     377,          1,         13,         13,2,19950331,       0931,   -29.5997,    86.9333,       3518,  1870.4,   2.5284,  34.6961,2,  34.6958,2,    160.3,2,   160.0,2,   98.67,2,   33.72,2,    0.00,2,    2.36,2,   0.000,2,  -0.001,2,  2275.0,2,  2371.6,2,  -9.0000,9,-999.0000,9, -999.00,9, -999.00,9,  -999.0,9,  -999.0,-999.000,9,-999.000,-999.000,9,  -9.0000,-999.0000,   2.3950,   -9.00
  316N145_7,      TRANS,     377,          1,         12,         12,2,19950331,       0931,   -29.5997,    86.9333,       3518,  1972.4,   2.4104,  34.7040,2,  34.7040,2,    164.4,2,   164.7,2,   99.25,2,   33.32,2,    0.00,2,    2.34,2,-999.000,9,-999.000,9,  2273.3,2,  2372.1,2,  -9.0000,9,-999.0000,9, -999.00,9, -999.00,9,  -999.0,9,  -999.0,-999.000,9,-999.000,-999.000,9,  -9.0000,-999.0000,   2.2699,   -9.00
  316N145_7,      TRANS,     377,          1,         11,         11,2,19950331,       0931,   -29.5997,    86.9333,       3518,  2072.3,   2.2780,  34.7137,2,  34.7136,2,    167.8,2,   168.3,2,  101.77,2,   33.12,2,    0.00,2,    2.32,2,-999.000,9,-999.000,9,  2273.3,2,  2370.4,2,  -9.0000,9,-999.0000,9, -999.00,9, -999.00,9,  -999.0,9,  -999.0,-999.000,9,-999.000,-999.000,9,  -9.0000,-999.0000,   2.1308,   -9.00
  316N145_7,      TRANS,     377,          1,         10,         10,2,19950331,       0931,   -29.5997,    86.9333,       3518,  2201.2,   2.1099,  34.7212,2,  34.7211,2,    172.3,2,   172.8,2,  104.50,2,   32.87,2,    0.00,2,    2.29,2,   0.000,2,  -0.001,2,  2272.4,2,  2373.1,2,  -9.0000,9,-999.0000,9, -999.00,9, -999.00,9,  -999.0,9,  -999.0,-999.000,9,-999.000,-999.000,9,  -9.0000,-999.0000,   1.9541,   -9.00
  316N145_7,      TRANS,     377,          1,          9,          9,2,19950331,       0931,   -29.5997,    86.9333,       3518,  2327.8,   1.9715,  34.7248,2,  34.7248,2,    175.4,2,   174.8,2,  108.10,2,   32.87,2,    0.00,2,    2.29,2,-999.000,9,-999.000,9,  2273.8,2,  2378.5,2,  -9.0000,9,-999.0000,9, -999.00,9, -999.00,9,  -999.0,9,  -999.0,-999.000,9,-999.000,-999.000,9,  -9.0000,-999.0000,   1.8069,   -9.00
  316N145_7,      TRANS,     377,          1,          8,          8,2,19950331,       0931,   -29.5997,    86.9333,       3518,  2479.4,   1.8847,  34.7264,2,  34.7254,2,    177.1,2,   177.5,2,  109.77,2,   32.76,2,    0.00,2,    2.28,2,-999.000,9,-999.000,9,  2273.6,2,  2382.0,2,  -9.0000,9,-999.0000,9, -999.00,9, -999.00,9,  -999.0,9,  -999.0,-999.000,9,-999.000,-999.000,9,  -9.0000,-999.0000,   1.7081,   -9.00
  316N145_7,      TRANS,     377,          1,          7,          7,2,19950331,       0931,   -29.5997,    86.9333,       3518,  2632.3,   1.8181,  34.7271,2,  34.7270,2,    179.6,2,   179.5,2,  110.78,2,   32.71,2,    0.00,2,    2.28,2,   0.001,2,   0.000,2,  2275.2,2,  2383.1,2,  -9.0000,9,-999.0000,9, -999.00,9, -999.00,9,  -999.0,9,  -999.0,-999.000,9,-999.000,-999.000,9,  -9.0000,-999.0000,   1.6289,   -9.00
  316N145_7,      TRANS,     377,          1,          6,          6,2,19950331,       0931,   -29.5997,    86.9333,       3518,  2784.3,   1.7605,  34.7278,2,  34.7276,2,    181.6,2,   181.2,2,  112.02,2,   32.61,2,    0.00,2,    2.27,2,-999.000,9,-999.000,9,  -999.0,5,  2379.7,2,  -9.0000,9,-999.0000,9, -999.00,9, -999.00,9,  -999.0,9,  -999.0,-999.000,9,-999.000,-999.000,9,  -9.0000,-999.0000,   1.5582,   -9.00
  316N145_7,      TRANS,     377,          1,          5,          5,2,19950331,       0931,   -29.5997,    86.9333,       3518,  2936.6,   1.6645,  34.7276,2,  34.7270,2,    183.1,2,   183.1,2,  113.90,2,   32.60,2,    0.00,2,    2.27,2,-999.000,9,-999.000,9,  2275.9,2,  2386.0,2,  -9.0000,9,-999.0000,9, -999.00,9, -999.00,9,  -999.0,9,  -999.0,-999.000,9,-999.000,-999.000,9,  -9.0000,-999.0000,   1.4499,   -9.00
  316N145_7,      TRANS,     377,          1,          4,          4,2,19950331,       0931,   -29.5997,    86.9333,       3518,  3090.6,   1.5916,  34.7287,2,  34.7286,2,    187.7,2,   188.6,2,  112.54,2,   32.26,2,    0.00,2,    2.24,2,   0.001,2,   0.000,2,  2271.3,2,  2393.4,2,  -9.0000,9,-999.0000,9, -999.00,9, -999.00,9,  -999.0,9,  -999.0,-999.000,9,-999.000,-999.000,9,  -9.0000,-999.0000,   1.3638,   -9.00
  316N145_7,      TRANS,     377,          1,          3,          3,2,19950331,       0931,   -29.5997,    86.9333,       3518,  3243.3,   1.5077,  34.7252,2,  34.7248,2,    187.1,2,   187.5,2,  117.02,2,   32.60,2,    0.00,2,    2.26,2,   0.001,2,  -0.001,2,  2277.0,2,  2406.4,3,  -9.0000,9,-999.0000,9, -999.00,9, -999.00,9,  -999.0,9,  -999.0,-999.000,9,-999.000,-999.000,9,  -9.0000,-999.0000,   1.2669,   -9.00
  316N145_7,      TRANS,     377,          1,          2,          2,2,19950331,       0931,   -29.5997,    86.9333,       3518,  3396.0,   1.4858,  34.7251,2,  34.7248,2,    187.9,2,   188.7,2,  117.17,2,   32.59,2,    0.00,2,    2.26,2,   0.000,2,  -0.001,2,  2276.7,2,  2404.2,3,  -9.0000,9,-999.0000,9, -999.00,9, -999.00,9,  -999.0,9,  -999.0,-999.000,9,-999.000,-999.000,9,  -9.0000,-999.0000,   1.2303,   -9.00
  316N145_7,      TRANS,     377,          1,          1,          1,2,19950331,       0931,   -29.5997,    86.9333,       3518,  3560.7,   1.4397,  34.7253,2,  34.7248,2,    191.2,2,   191.1,2,  117.54,2,   32.44,2,    0.00,2,    2.25,2,   0.001,2,   0.001,2,  2275.8,2,  2390.9,2,  -9.0000,9,-999.0000,9, -999.00,9, -999.00,9,  -999.0,9,  -999.0,-999.000,9,-999.000,-999.000,9,  -9.0000,-999.0000,   1.1687,   -9.00