BOTTLE,20211124CCHSIORKP
EXPOCODE,SECT_ID,STNNBR,CASTNO,SAMPNO,BTLNBR,BTLNBR_FLAG_W,DATE,TIME,LATITUDE,LONGITUDE,DEPTH,CTDPRS,CTDTMP,CTDSAL,CTDSAL_FLAG_W,SALNTY,SALNTY_FLAG_W,CTDOXY,CTDOXY_FLAG_W,OXYGEN,OXYGEN_FLAG_W,SILCAT,SILCAT_FLAG_W,NITRAT,NITRAT_FLAG_W,NITRIT,NITRIT_FLAG_W,PHSPHT,PHSPHT_FLAG_W,CFC-11,CFC-11_FLAG_W,CFC-12,CFC-12_FLAG_W,TCARBN,TCARBN_FLAG_W,ALKALI,ALKALI_FLAG_W,TRITUM,TRITUM_FLAG_W,HELIUM,HELIUM_FLAG_W,DELHE3,DELHE3_FLAG_W,DELC13,DELC13_FLAG_W,DELC14,DELC14_FLAG_W,C14ERR,NEON,NEON_FLAG_W,NEONER,CCL4,CCL4_FLAG_W,TRITER,HELIER,THETA,DELHER
,,,,,,,,,,,METERS,DBAR,ITS-90,PSS-78,,PSS-78,,UMOL/KG,,UMOL/KG,,UMOL/KG,,UMOL/KG,,UMOL/KG,,UMOL/KG,,PMOL/KG,,PMOL/KG,,UMOL/KG,,UMOL/KG,,TU,,NMOL/KG,,PERCNT,,/MILLE,,/MILLE,,/MILLE,NMOL/KG,,NMOL/KG,PMOL/KG,,TU,NMOL/KG,DEG C,PERCNT
  316N145_7,       I08N,     344,          1,         36,         36,2,19950324,       1251,   -18.9995,    80.0002,       4920,     2.3,  27.6478,  34.8717,2,  34.8709,2,    198.0,2,   201.0,2,    3.55,2,    0.06,2,    0.00,2,    0.10,2,   1.609,2,   0.956,2,  1932.3,2,  2307.0,2,  -9.0000,9,-999.0000,9, -999.00,9, -999.00,9,  -999.0,9,  -999.0,-999.000,9,-999.000,   2.027,2,  -9.0000,-999.0000,  27.6472,   -9.00
  316N145_7,       I08N,     344,          1,         35,         35,2,19950324,       1251,   -18.9995,    80.0002,       4920,    42.6,  27.4553,  35.0422,2,  35.0299,2,    203.8,2,   203.4,2,    3.60,2,    0.06,2,    0.00,2,    0.10,2,-999.000,9,-999.000,9,  1945.1,2,  2296.7,2,  -9.0000,9,-999.0000,9, -999.00,9, -999.00,9,  -999.0,9,  -999.0,-999.000,9,-999.000,-999.000,9,  -9.0000,-999.0000,  27.4454,   -9.00
  316N145_7,       I08N,     344,          1,         34,         34,2,19950324,       1251,   -18.9995,    80.0002,       4920,    77.9,  23.2295,  35.3416,2,  35.3423,2,    236.4,2,   226.4,2,    3.85,2,    0.07,2,    0.00,2,    0.10,2,   2.015,2,   1.163,2,  1981.3,2,  2315.5,2,  -9.0000,9,-999.0000,9, -999.00,9, -999.00,9,  -999.0,9,  -999.0,-999.000,9,-999.000,   1.635,2,  -9.0000,-999.0000,  23.2135,   -9.00
  316N145_7,       I08N,     344,          1,         33,         33,2,19950324,       1251,   -18.9995,    80.0002,       4920,   117.9,  21.4963,  35.5377,2,  35.5354,2,    222.2,2,   219.4,2,    3.70,2,    0.07,2,    0.00,2,    0.11,2,   2.097,2,   1.212,2,  2003.1,2,  2326.8,2,  -9.0000,9,-999.0000,9, -999.00,9, -999.00,9,  -999.0,9,  -999.0,-999.000,9,-999.000,   1.692,2,  -9.0000,-999.0000,  21.4733,   -9.00
  316N145_7,       I08N,     344,          1,         32,         32,2,19950324,       1251,   -18.9995,    80.0002,       4920,   168.8,  20.1983,  35.7100,2,  35.7201,2,    211.1,2,   206.7,2,    3.95,2,    0.76,2,    0.20,2,    0.20,2,   2.191,2,   1.243,2,  2037.6,2,  2349.4,2,  -9.0000,9,-999.0000,9, -999.00,9, -999.00,9,  -999.0,9,  -999.0,-999.000,9,-999.000,   1.339,2,  -9.0000,-999.0000,  20.1668,   -9.00
  316N145_7,       I08N,     344,          1,         31,         31,2,19950324,       1251,   -18.9995,    80.0002,       4920,   218.1,  18.6209,  35.8072,2,  35.8106,2,    207.6,2,   204.4,2,    4.00,2,    1.70,2,    0.02,2,    0.26,2,   2.301,2,   1.293,2,  2065.1,2,  2346.6,2,  -9.0000,9,-999.0000,9, -999.00,9, -999.00,9,  -999.0,9,  -999.0,-999.000,9,-999.000,   0.936,2,  -9.0000,-999.0000,  18.5823,   -9.00
  316N145_7,       I08N,     344,          1,         30,         30,2,19950324,       1251,   -18.9995,    80.0002,       4920,   268.9,  16.7068,  35.6942,2,  35.7095,2,    208.6,2,   209.0,2,    4.05,2,    2.80,2,    0.00,2,    0.35,2,   2.529,2,   1.347,2,  2079.6,2,  2351.9,2,  -9.0000,9,-999.0000,9, -999.00,9, -999.00,9,  -999.0,9,  -999.0,-999.000,9,-999.000,   0.711,2,  -9.0000,-999.0000,  16.6626,   -9.00
  316N145_7,       I08N,     344,          1,         29,         29,2,19950324,       1251,   -18.9995,    80.0002,       4920,   328.7,  14.1748,  35.4258,2,  35.4228,2,    215.2,2,   215.8,2,    4.51,2,    6.15,2,    0.00,2,    0.55,2,   2.620,2,   1.390,2,  2094.9,2,  2330.2,2,  -9.0000,9,-999.0000,9, -999.00,9, -999.00,9,  -999.0,9,  -999.0,-999.000,9,-999.000,   0.691,2,  -9.0000,-999.0000,  14.1265,   -9.00
  316N145_7,       I08N,     344,          1,         28,         28,2,19950324,       1251,   -18.9995,    80.0002,       4920,   388.0,  12.6563,  35.1990,2,  35.1952,2,    222.7,2,   228.0,2,    4.56,2,    8.56,2,    0.00,2,    0.69,2,   2.804,2,   1.456,2,  2097.9,2,  2326.7,2,  -9.0000,9,-999.0000,9, -999.00,9, -999.00,9,  -999.0,9,  -999.0,-999.000,9,-999.000,   0.970,2,  -9.0000,-999.0000,  12.6034,   -9.00
  316N145_7,       I08N,     344,          1,         27,         27,2,19950324,       1251,   -18.9995,    80.0002,       4920,   457.7,  11.3910,  35.0067,2,  34.9949,2,    232.5,2,   234.6,2,    5.02,2,   11.20,2,    0.00,2,    0.84,2,   2.806,2,   1.452,2,  2103.1,2,  2307.2,2,  -9.0000,9,-999.0000,9, -999.00,9, -999.00,9,  -999.0,9,  -999.0,-999.000,9,-999.000,   1.372,2,  -9.0000,-999.0000,  11.3326,   -9.00
  316N145_7,       I08N,     344,          1,         26,         26,2,19950324,       1251,   -18.9995,    80.0002,       4920,   559.8,   9.9813,  34.7881,2,  34.7862,2,    232.5,2,   232.8,2,    6.51,2,   14.83,2,    0.00,2,    1.06,2,   2.537,2,   1.283,2,  2112.5,2,  2303.2,2,  -9.0000,9,-999.0000,9, -999.00,9, -999.00,9,  -999.0,9,  -999.0,-999.000,9,-999.000,   1.442,2,  -9.0000,-999.0000,   9.9154,   -9.00
  316N145_7,       I08N,     344,          1,         25,         25,2,19950324,       1251,   -18.9995,    80.0002,       4920,   660.1,   8.5003,  34.6123,2,  34.6119,2,    214.4,2,   215.6,2,   11.07,2,   20.31,2,    0.00,2,    1.39,2,   1.538,2,   0.803,2,  2133.3,2,  2294.4,2,  -9.0000,9,-999.0000,9, -999.00,9, -999.00,9,  -999.0,9,  -999.0,-999.000,9,-999.000,   1.229,2,  -9.0000,-999.0000,   8.4295,   -9.00
  316N145_7,       I08N,     344,          1,         24,         24,2,19950324,       1251,   -18.9995,    80.0002,       4920,   761.8,   6.4612,  34.4853,2,  34.4829,2,    186.0,2,   188.1,2,   26.50,2,   27.29,2,    0.00,2,    1.87,2,   0.502,3,   0.263,2,  2173.4,2,  2302.4,2,  -9.0000,9,-999.0000,9, -999.00,9, -999.00,9,  -999.0,9,  -999.0,-999.000,9,-999.000,   0.899,2,  -9.0000,-999.0000,   6.3906,   -9.00
  316N145_7,       I08N,     344,          1,         23,         23,2,19950324,       1251,   -18.9995,    80.0002,       4920,   862.0,   5.3713,  34.5121,2,  34.5049,2,    150.2,2,   149.7,2,   52.96,2,   32.59,2,    0.00,2,    2.29,2,   0.169,3,   0.060,2,  2225.1,2,  2322.6,2,  -9.0000,9,-999.0000,9, -999.00,9, -999.00,9,  -999.0,9,  -999.0,-999.000,9,-999.000,   0.399,2,  -9.0000,-999.0000,   5.2979,   -9.00
  316N145_7,       I08N,     344,          1,         22,         22,2,19950324,       1251,   -18.9995,    80.0002,       4920,   963.0,   4.7507,  34.5714,2,  34.5730,2,    125.1,2,   125.5,2,   73.46,2,   34.94,2,    0.00,2,    2.49,2,  -0.003,3,   0.011,2,  2258.1,2,  2353.6,2,  -9.0000,9,-999.0000,9, -999.00,9, -999.00,9,  -999.0,9,  -999.0,-999.000,9,-999.000,   0.125,2,  -9.0000,-999.0000,   4.6725,   -9.00
  316N145_7,       I08N,     344,          1,         21,         21,2,19950324,       1251,   -18.9995,    80.0002,       4920,  1063.7,   4.4235,  34.6156,2,  34.6161,2,    119.6,2,   120.1,2,   82.67,2,   35.56,2,    0.00,2,    2.55,2,-999.000,9,-999.000,9,  2270.9,2,  2358.0,2,  -9.0000,9,-999.0000,9, -999.00,9, -999.00,9,  -999.0,9,  -999.0,-999.000,9,-999.000,-999.000,9,  -9.0000,-999.0000,   4.3388,   -9.00
  316N145_7,       I08N,     344,          1,         20,         20,2,19950324,       1251,   -18.9995,    80.0002,       4920,  1189.1,   4.2148,  34.6667,2,  34.6677,2,    116.4,2,   116.9,2,   90.66,2,   35.71,2,    0.00,2,    2.57,2,  -0.041,3,   0.002,2,  2280.6,2,  2369.5,2,  -9.0000,9,-999.0000,9, -999.00,9, -999.00,9,  -999.0,9,  -999.0,-999.000,9,-999.000,   0.030,2,  -9.0000,-999.0000,   4.1208,   -9.00
  316N145_7,       I08N,     344,          1,         19,         19,2,19950324,       1251,   -18.9995,    80.0002,       4920,  1339.8,   3.8659,  34.6945,2,  34.6949,2,    119.3,2,   119.3,2,   96.59,2,   35.66,2,    0.00,2,    2.57,2,-999.000,9,-999.000,9,  2287.6,2,  2375.8,2,  -9.0000,9,-999.0000,9, -999.00,9, -999.00,9,  -999.0,9,  -999.0,-999.000,9,-999.000,-999.000,9,  -9.0000,-999.0000,   3.7621,   -9.00
  316N145_7,       I08N,     344,          1,         18,         18,2,19950324,       1251,   -18.9995,    80.0002,       4920,  1491.2,   3.5410,  34.7128,2,  34.7120,2,    123.9,2,   123.9,2,  101.49,2,   35.52,2,    0.00,2,    2.55,2,   0.003,3,  -0.002,2,  2290.1,2,  2392.1,3,  -9.0000,9,-999.0000,9, -999.00,9, -999.00,9,  -999.0,9,  -999.0,-999.000,9,-999.000,   0.004,2,  -9.0000,-999.0000,   3.4274,   -9.00
  316N145_7,       I08N,     344,          1,         17,         17,2,19950324,       1251,   -18.9995,    80.0002,       4920,  1541.6,   3.4122,  34.7136,2,  34.7132,2,    126.1,2,   126.5,2,  102.46,2,   35.23,2,    0.00,2,    2.55,2,-999.000,9,-999.000,9,  2290.9,2,  2379.1,2,  -9.0000,9,-999.0000,9, -999.00,9, -999.00,9,  -999.0,9,  -999.0,-999.000,9,-999.000,-999.000,9,  -9.0000,-999.0000,   3.2957,   -9.00
  316N145_7,       I08N,     344,          1,         16,         16,2,19950324,       1251,   -18.9995,    80.0002,       4920,  1718.9,   3.0036,  34.7190,2,  34.7198,2,    135.0,2,   135.4,2,  106.95,2,   35.13,2,    0.00,2,    2.52,2,  -0.067,3,  -0.004,2,  2292.4,2,  2377.2,2,  -9.0000,9,-999.0000,9, -999.00,9, -999.00,9,  -999.0,9,  -999.0,-999.000,9,-999.000,   0.001,2,  -9.0000,-999.0000,   2.8767,   -9.00
  316N145_7,       I08N,     344,          1,         15,         15,2,19950324,       1251,   -18.9995,    80.0002,       4920,  1920.6,   2.6562,  34.7258,2,  34.7263,2,    144.5,2,   145.0,2,  110.61,2,   34.80,2,    0.00,2,    2.47,2,-999.000,9,-999.000,9,  2291.0,2,  2387.1,2,  -9.0000,9,-999.0000,9, -999.00,9, -999.00,9,  -999.0,9,  -999.0,-999.000,9,-999.000,-999.000,9,  -9.0000,-999.0000,   2.5165,   -9.00
  316N145_7,       I08N,     344,          1,         14,         14,2,19950324,       1251,   -18.9995,    80.0002,       4920,  2123.3,   2.3404,  34.7274,2,  34.7275,2,    153.9,2,   155.0,2,  113.03,2,   34.27,2,    0.00,2,    2.43,2,-999.000,9,-999.000,9,  2289.1,2,  2384.4,2,  -9.0000,9,-999.0000,9, -999.00,9, -999.00,9,  -999.0,9,  -999.0,-999.000,9,-999.000,-999.000,9,  -9.0000,-999.0000,   2.1877,   -9.00
  316N145_7,       I08N,     344,          1,         13,         13,2,19950324,       1251,   -18.9995,    80.0002,       4920,  2326.2,   2.1020,  34.7273,2,  34.7275,2,    163.7,2,   163.2,2,  114.20,2,   33.79,2,    0.00,2,    2.38,2,-999.000,9,-999.000,9,  2286.6,2,  2388.8,2,  -9.0000,9,-999.0000,9, -999.00,9, -999.00,9,  -999.0,9,  -999.0,-999.000,9,-999.000,-999.000,9,  -9.0000,-999.0000,   1.9353,   -9.00
  316N145_7,       I08N,     344,          1,         12,         12,2,19950324,       1251,   -18.9995,    80.0002,       4920,  2529.6,   1.9307,  34.7278,2,  34.7275,2,    169.8,2,   169.3,2,  114.95,2,   33.50,2,    0.00,2,    2.35,2,  -0.054,3,  -0.001,2,  2284.7,2,  2387.3,2,  -9.0000,9,-999.0000,9, -999.00,9, -999.00,9,  -999.0,9,  -999.0,-999.000,9,-999.000,  -0.009,2,  -9.0000,-999.0000,   1.7487,   -9.00
  316N145_7,       I08N,     344,          1,         11,         11,2,19950324,       1251,   -18.9995,    80.0002,       4920,  2733.9,   1.7988,  34.7281,2,  34.7275,2,    174.1,2,   173.2,2,  116.74,2,   33.26,2,    0.00,2,    2.33,2,-999.000,9,-999.000,9,  2284.9,2,  2391.8,2,  -9.0000,9,-999.0000,9, -999.00,9, -999.00,9,  -999.0,9,  -999.0,-999.000,9,-999.000,-999.000,9,  -9.0000,-999.0000,   1.6006,   -9.00
  316N145_7,       I08N,     344,          1,         10,         10,2,19950324,       1251,   -18.9995,    80.0002,       4920,  2938.2,   1.6826,  34.7270,2,  34.7268,2,    175.8,2,   176.3,2,  119.57,2,   33.22,2,    0.00,2,    2.34,2,-999.000,9,-999.000,9,  2287.4,2,  2391.7,2,  -9.0000,9,-999.0000,9, -999.00,9, -999.00,9,  -999.0,9,  -999.0,-999.000,9,-999.000,-999.000,9,  -9.0000,-999.0000,   1.4675,   -9.00
  316N145_7,       I08N,     344,          1,          9,          9,2,19950324,       1251,   -18.9995,    80.0002,       4920,  3141.0,   1.5998,  34.7256,2,  34.7254,2,    176.2,2,   176.1,2,  123.03,2,   33.51,2,    0.00,2,    2.34,2,-999.000,9,-999.000,9,  2290.3,2,  2400.7,2,  -9.0000,9,-999.0000,9, -999.00,9, -999.00,9,  -999.0,9,  -999.0,-999.000,9,-999.000,-999.000,9,  -9.0000,-999.0000,   1.3670,   -9.00
  316N145_7,       I08N,     344,          1,          8,          8,2,19950324,       1251,   -18.9995,    80.0002,       4920,  3370.4,   1.5191,  34.7243,2,  34.7234,2,    176.8,2,   176.6,2,  126.28,2,   33.65,2,    0.00,2,    2.34,2,  -0.059,3,  -0.003,2,  2294.1,2,  2407.1,2,  -9.0000,9,-999.0000,9, -999.00,9, -999.00,9,  -999.0,9,  -999.0,-999.000,9,-999.000,  -0.004,2,  -9.0000,-999.0000,   1.2654,   -9.00
  316N145_7,       I08N,     344,          1,          7,          7,2,19950324,       1251,   -18.9995,    80.0002,       4920,  3600.1,   1.4476,  34.7222,2,  34.7217,2,    178.7,2,   178.9,2,  127.87,2,   33.60,2,    0.00,2,    2.34,2,-999.000,9,-999.000,9,  2293.6,2,  2404.7,2,  -9.0000,9,-999.0000,9, -999.00,9, -999.00,9,  -999.0,9,  -999.0,-999.000,9,-999.000,-999.000,9,  -9.0000,-999.0000,   1.1723,   -9.00
  316N145_7,       I08N,     344,          1,          6,          6,2,19950324,       1251,   -18.9995,    80.0002,       4920,  3854.5,   1.3992,  34.7215,2,  34.7205,2,    183.1,2,   183.7,2,  125.90,2,   33.22,2,    0.00,2,    2.31,2,-999.000,9,-999.000,9,  2289.7,2,  2423.9,3,  -9.0000,9,-999.0000,9, -999.00,9, -999.00,9,  -999.0,9,  -999.0,-999.000,9,-999.000,-999.000,9,  -9.0000,-999.0000,   1.0986,   -9.00
  316N145_7,       I08N,     344,          1,          5,          5,2,19950324,       1251,   -18.9995,    80.0002,       4920,  4109.2,   1.3756,  34.7194,2,  34.7189,2,    183.8,2,   184.0,2,  127.90,2,   33.37,2,    0.00,2,    2.32,2,   0.001,3,  -0.002,2,  2292.3,2,  2403.7,2,  -9.0000,9,-999.0000,9, -999.00,9, -999.00,9,  -999.0,9,  -999.0,-999.000,9,-999.000,   0.003,2,  -9.0000,-999.0000,   1.0481,   -9.00
  316N145_7,       I08N,     344,          1,          4,          4,2,19950324,       1251,   -18.9995,    80.0002,       4920,  4364.4,   1.3761,  34.7183,2,  34.7175,2,    183.4,2,   183.5,2,  129.27,2,   33.41,2,    0.00,2,    2.33,2,-999.000,9,-999.000,9,  2295.2,2,  2414.2,2,  -9.0000,9,-999.0000,9, -999.00,9, -999.00,9,  -999.0,9,  -999.0,-999.000,9,-999.000,-999.000,9,  -9.0000,-999.0000,   1.0202,   -9.00
  316N145_7,       I08N,     344,          1,          3,          3,2,19950324,       1251,   -18.9995,    80.0002,       4920,  4620.0,   1.3878,  34.7177,2,  34.7164,2,    183.5,2,   183.9,2,  130.01,2,   33.66,2,    0.00,2,    2.33,2,-999.000,9,-999.000,9,  2295.7,2,  2409.8,2,  -9.0000,9,-999.0000,9, -999.00,9, -999.00,9,  -999.0,9,  -999.0,-999.000,9,-999.000,-999.000,9,  -9.0000,-999.0000,   1.0022,   -9.00
  316N145_7,       I08N,     344,          1,          2,          2,2,19950324,       1251,   -18.9995,    80.0002,       4920,  4876.2,   1.4101,  34.7175,2,  34.7168,2,    184.5,2,   184.3,2,  130.33,2,   33.66,2,    0.00,2,    2.33,2,  -0.037,3,  -0.001,2,  2295.0,2,  2413.9,2,  -9.0000,9,-999.0000,9, -999.00,9, -999.00,9,  -999.0,9,  -999.0,-999.000,9,-999.000,   0.004,2,  -9.0000,-999.0000,   0.9936,   -9.00
  316N145_7,       I08N,     344,          1,          1,          1,2,19950324,       1251,   -18.9995,    80.0002,       4920,  5031.5,   1.4273,  34.7180,2,  34.7166,2,    184.5,2,   184.3,2,  130.45,2,   33.56,2,    0.00,2,    2.32,2,  -0.015,3,  -0.003,2,  2295.3,2,  2407.5,2,  -9.0000,9,-999.0000,9, -999.00,9, -999.00,9,  -999.0,9,  -999.0,-999.000,9,-999.000,  -0.001,2,  -9.0000,-999.0000,   0.9915,   -9.00