BOTTLE,20211124CCHSIORKP
EXPOCODE,SECT_ID,STNNBR,CASTNO,SAMPNO,BTLNBR,BTLNBR_FLAG_W,DATE,TIME,LATITUDE,LONGITUDE,DEPTH,CTDPRS,CTDTMP,CTDSAL,CTDSAL_FLAG_W,SALNTY,SALNTY_FLAG_W,CTDOXY,CTDOXY_FLAG_W,OXYGEN,OXYGEN_FLAG_W,SILCAT,SILCAT_FLAG_W,NITRAT,NITRAT_FLAG_W,NITRIT,NITRIT_FLAG_W,PHSPHT,PHSPHT_FLAG_W,CFC-11,CFC-11_FLAG_W,CFC-12,CFC-12_FLAG_W,TCARBN,TCARBN_FLAG_W,ALKALI,ALKALI_FLAG_W,TRITUM,TRITUM_FLAG_W,HELIUM,HELIUM_FLAG_W,DELHE3,DELHE3_FLAG_W,DELC13,DELC13_FLAG_W,DELC14,DELC14_FLAG_W,C14ERR,NEON,NEON_FLAG_W,NEONER,CCL4,CCL4_FLAG_W,TRITER,HELIER,THETA,DELHER
,,,,,,,,,,,METERS,DBAR,ITS-90,PSS-78,,PSS-78,,UMOL/KG,,UMOL/KG,,UMOL/KG,,UMOL/KG,,UMOL/KG,,UMOL/KG,,PMOL/KG,,PMOL/KG,,UMOL/KG,,UMOL/KG,,TU,,NMOL/KG,,PERCNT,,/MILLE,,/MILLE,,/MILLE,NMOL/KG,,NMOL/KG,PMOL/KG,,TU,NMOL/KG,DEG C,PERCNT
  316N145_7,       I08N,     330,          1,         36,         36,2,19950321,       0404,   -12.0003,    80.0002,       5098,     3.5,  28.9747,  34.5895,2,  34.5871,2,    196.4,2,   197.0,2,    3.00,2,    0.19,2,    0.00,2,    0.10,2,   1.687,2,   0.947,2,  1933.4,2,  2267.5,2,   1.2477,2,   1.6852,2,   -0.77,2, -999.00,9,  -999.0,9,  -999.0,   6.549,2,   0.033,-999.000,9,   0.0042,   0.0084,  28.9739,    0.14
  316N145_7,       I08N,     330,          1,         35,         35,2,19950321,       0404,   -12.0003,    80.0002,       5098,    25.8,  28.8945,  34.6257,2,  34.6221,2,    197.1,2,   197.8,2,    2.98,2,    0.14,2,    0.00,2,    0.10,2,-999.000,9,-999.000,9,  1935.6,2,  2268.5,2,  -9.0000,9,-999.0000,9, -999.00,9, -999.00,9,  -999.0,9,  -999.0,-999.000,9,-999.000,-999.000,9,  -9.0000,-999.0000,  28.8883,   -9.00
  316N145_7,       I08N,     330,          1,         34,         34,2,19950321,       0404,   -12.0003,    80.0002,       5098,    50.6,  27.2821,  34.6727,2,  34.6705,2,    209.8,2,   210.5,2,    3.18,2,    0.19,2,    0.00,2,    0.10,2,   1.764,2,   1.008,2,  1944.2,2,  2273.4,2,   1.2463,2,   1.6908,2,   -0.65,2, -999.00,9,  -999.0,9,  -999.0,   6.640,2,   0.033,-999.000,9,   0.0042,   0.0085,  27.2704,    0.14
  316N145_7,       I08N,     330,          1,         33,         33,2,19950321,       0404,   -12.0003,    80.0002,       5098,    80.8,  22.1698,  34.5761,2,  34.5703,2,    139.8,2,   131.9,2,   12.74,2,   11.09,2,    0.14,2,    0.82,2,   1.558,2,   0.858,2,  2047.7,2,  2273.2,2,   1.1993,2,   1.7264,2,    2.44,2, -999.00,9,  -999.0,9,  -999.0,   6.881,2,   0.034,   0.433,6,   0.0041,   0.0086,  22.1538,    0.14
  316N145_7,       I08N,     330,          1,         32,         32,2,19950321,       0404,   -12.0003,    80.0002,       5098,   120.9,  18.6717,  34.8294,2,  34.8156,2,    105.8,2,   107.1,2,   19.79,2,   16.29,2,    0.05,2,    1.15,2,   1.400,2,   0.748,2,  2105.2,2,  2293.0,2,   1.1016,2,   1.7063,2,    5.53,2, -999.00,9,  -999.0,9,  -999.0,   6.941,2,   0.035,-999.000,9,   0.0039,   0.0085,  18.6505,    0.14
  316N145_7,       I08N,     330,          1,         31,         31,2,19950321,       0404,   -12.0003,    80.0002,       5098,   155.8,  16.8772,  34.9593,2,  34.9622,2,     68.3,2,    66.9,2,   21.64,2,   22.88,2,    0.02,2,    1.56,2,   0.991,2,   0.520,2,  2161.0,2,  2299.8,2,   0.9168,2,   1.7508,2,    6.30,2, -999.00,9,  -999.0,9,  -999.0,   7.138,2,   0.036,-999.000,9,   0.0036,   0.0088,  16.8516,    0.14
  316N145_7,       I08N,     330,          1,         30,         30,2,19950321,       0404,   -12.0003,    80.0002,       5098,   202.4,  14.4104,  34.8959,2,  34.9093,2,    100.9,2,    93.5,2,   26.84,2,   21.84,2,    0.01,2,    1.53,2,   1.029,2,   0.533,2,  2163.7,2,  2309.7,2,   0.8768,2,   1.7536,2,    7.90,2, -999.00,9,  -999.0,9,  -999.0,   7.191,2,   0.036,-999.000,9,   0.0035,   0.0088,  14.3806,    0.14
  316N145_7,       I08N,     330,          1,         29,         29,2,19950321,       0404,   -12.0003,    80.0002,       5098,   266.3,  12.2357,  34.8390,2,  34.8346,2,     78.9,2,    79.7,2,   32.24,2,   26.37,2,    0.01,2,    1.83,2,   0.638,2,   0.328,2,  2198.2,2,  2310.6,2,   0.6252,2,   1.7608,2,    8.99,2, -999.00,9,  -999.0,9,  -999.0,   7.271,2,   0.036,-999.000,9,   0.0031,   0.0088,  12.2005,    0.14
  316N145_7,       I08N,     330,          1,         28,         28,2,19950321,       0404,   -12.0003,    80.0002,       5098,   347.0,  10.9629,  34.8782,2,  34.8797,2,    100.9,2,   110.4,2,   27.22,2,   25.03,2,    0.01,2,    1.72,2,   0.772,2,   0.383,2,  2189.2,2,  2313.6,2,   0.4460,2,   1.7727,2,    6.35,2, -999.00,9,  -999.0,9,  -999.0,   7.380,2,   0.037,-999.000,9,   0.0028,   0.0089,  10.9199,    0.14
  316N145_7,       I08N,     330,          1,         27,         27,2,19950321,       0404,   -12.0003,    80.0002,       5098,   426.4,   9.6218,  34.7858,2,  34.7763,2,    109.0,2,   109.2,2,   32.62,2,   27.85,2,    0.01,2,    1.89,2,   0.478,2,   0.252,2,  2204.8,2,  2313.4,2,   0.2787,2,   1.7776,2,    6.51,2, -999.00,9,  -999.0,9,  -999.0,   7.421,2,   0.037,-999.000,9,   0.0026,   0.0089,   9.5730,    0.14
  316N145_7,       I08N,     330,          1,         26,         26,2,19950321,       0404,   -12.0003,    80.0002,       5098,   517.0,   8.5649,  34.7214,2,  34.7195,2,     86.0,2,    86.5,2,   47.40,2,   32.02,2,    0.01,2,    2.22,2,   0.143,2,   0.070,2,  2235.7,2,  2323.0,2,   0.1608,2,   1.7983,2,    8.24,2, -999.00,9,  -999.0,9,  -999.0,   7.528,2,   0.038,-999.000,9,   0.0024,   0.0090,   8.5095,    0.14
  316N145_7,       I08N,     330,          1,         25,         25,2,19950321,       0404,   -12.0003,    80.0002,       5098,   597.3,   7.7570,  34.6885,2,  34.6883,2,     79.9,2,    78.9,2,   59.68,2,   34.00,2,    0.01,2,    2.40,2,   0.057,2,   0.031,2,  2252.7,2,  2331.8,2,  -9.0000,9,-999.0000,9, -999.00,9, -999.00,9,  -999.0,9,  -999.0,-999.000,9,-999.000,-999.000,9,  -9.0000,-999.0000,   7.6963,   -9.00
  316N145_7,       I08N,     330,          1,         24,         24,2,19950321,       0404,   -12.0003,    80.0002,       5098,   687.3,   7.0998,  34.6737,2,  34.6716,2,     79.7,2,    80.4,2,   68.84,2,   35.01,2,    0.01,2,    2.49,2,   0.095,2,   0.022,2,  2264.9,2,  2343.5,2,   0.0802,2,   1.8251,2,   10.99,2, -999.00,9,  -999.0,9,  -999.0,   7.662,2,   0.038,-999.000,9,   0.0023,   0.0091,   7.0329,    0.14
  316N145_7,       I08N,     330,          1,         23,         23,2,19950321,       0404,   -12.0003,    80.0002,       5098,   779.9,   6.4414,  34.6645,2,  34.6634,2,     77.5,7,    78.3,2,   79.48,2,   35.98,2,    0.00,2,    2.57,2,   0.029,2,   0.010,2,  2278.1,2,  2353.3,2,  -9.0000,9,-999.0000,9, -999.00,9, -999.00,9,  -999.0,9,  -999.0,-999.000,9,-999.000,-999.000,9,  -9.0000,-999.0000,   6.3689,   -9.00
  316N145_7,       I08N,     330,          1,         22,         22,2,19950321,       0404,   -12.0003,    80.0002,       5098,   869.5,   5.9728,  34.6593,2,  34.6607,2,     79.8,7,    80.2,2,   86.79,2,   36.32,2,    0.00,2,    2.61,2,   0.009,6,   0.001,6,  2286.0,2,  2358.9,2,   0.0445,2,   1.8466,2,   13.51,2, -999.00,9,  -999.0,9,  -999.0,   7.739,2,   0.039,-999.000,9,   0.0023,   0.0092,   5.8946,    0.14
  316N145_7,       I08N,     330,          1,         21,         21,2,19950321,       0404,   -12.0003,    80.0002,       5098,   970.5,   5.4201,  34.6471,2,  34.6479,2,     84.7,7,    85.0,2,   94.33,2,   36.56,2,    0.00,2,    2.64,2,   0.005,2,   0.002,2,  2292.7,2,  2372.5,2,  -9.0000,9,   1.8820,2,   14.95,2, -999.00,9,  -999.0,9,  -999.0,-999.000,9,-999.000,-999.000,9,  -9.0000,-999.0000,   5.3361,   -9.00
  316N145_7,       I08N,     330,          1,         20,         20,2,19950321,       0404,   -12.0003,    80.0002,       5098,  1081.5,   4.8882,  34.6494,2,  34.6487,2,     89.2,7,    89.9,2,  100.41,2,   36.75,2,    0.00,2,    2.65,2,   0.004,2,   0.005,2,  2298.6,2,  2380.5,2,   0.0245,2,   1.8700,2,   15.32,2, -999.00,9,  -999.0,9,  -999.0,-999.000,9,-999.000,-999.000,9,   0.0022,-999.0000,   4.7981,   -9.00
  316N145_7,       I08N,     330,          1,         19,         19,2,19950321,       0404,   -12.0003,    80.0002,       5098,  1232.8,   4.4018,  34.6744,2,  34.6743,2,     95.3,7,    95.9,2,  104.82,2,   36.85,2,    0.00,2,    2.66,2,-999.000,9,-999.000,9,  2303.7,2,  2383.5,2,   0.0106,2,   1.8740,2,   14.34,2, -999.00,9,  -999.0,9,  -999.0,   7.835,2,   0.039,-999.000,9,   0.0022,   0.0093,   4.3023,    0.14
  316N145_7,       I08N,     330,          1,         18,         18,2,19950321,       0404,   -12.0003,    80.0002,       5098,  1413.3,   3.8766,  34.7024,2,  34.7028,2,    105.2,7,   105.4,2,  107.96,2,   36.65,2,    0.00,2,    2.64,2,   0.007,2,   0.002,2,  2305.4,2,  2384.0,2,  -9.0000,9,   1.8810,2,   14.41,2, -999.00,9,  -999.0,9,  -999.0,-999.000,9,-999.000,-999.000,9,  -9.0000,-999.0000,   3.7662,   -9.00
  316N145_7,       I08N,     330,          1,         17,         17,2,19950321,       0404,   -12.0003,    80.0002,       5098,  1614.6,   3.3597,  34.7327,2,  34.7316,2,    119.0,7,   118.4,2,  110.26,2,   36.12,2,    0.00,2,    2.59,2,-999.000,9,-999.000,9,  2303.3,2,  2390.3,2,  -9.0000,9,   1.8710,2,   13.91,2, -999.00,9,  -999.0,9,  -999.0,   7.719,2,   0.039,-999.000,9,  -9.0000,   0.0091,   3.2374,    0.14
  316N145_7,       I08N,     330,          1,         16,         16,2,19950321,       0404,   -12.0003,    80.0002,       5098,  1814.8,   2.8708,  34.7383,2,  34.7383,2,    133.8,7,   134.0,2,  113.20,2,   35.44,2,    0.00,2,    2.52,2,  -0.001,2,   0.000,2,  2301.3,2,  2388.6,2,  -9.0000,9,   1.8780,2,   13.89,2, -999.00,9,  -999.0,9,  -999.0,-999.000,9,-999.000,-999.000,9,  -9.0000,-999.0000,   2.7373,   -9.00
  316N145_7,       I08N,     330,          1,         15,         15,2,19950321,       0404,   -12.0003,    80.0002,       5098,  2017.7,   2.5253,  34.7419,2,  34.7407,2,    144.0,7,   143.7,2,  116.36,2,   34.96,2,    0.00,2,    2.48,2,-999.000,9,-999.000,9,  2299.5,2,  2395.1,2,  -9.0000,9,   1.8800,2,   14.83,2, -999.00,9,  -999.0,9,  -999.0,-999.000,9,-999.000,-999.000,9,  -9.0000,-999.0000,   2.3790,   -9.00
  316N145_7,       I08N,     330,          1,         14,         14,2,19950321,       0404,   -12.0003,    80.0002,       5098,  2223.5,   2.2157,  34.7356,2,  34.7356,2,    154.3,7,   154.2,2,  118.04,2,   34.38,2,    0.00,2,    2.42,2,  -0.001,2,   0.000,2,  2296.9,2,  2408.7,3,  -9.0000,9,   1.8800,2,   15.04,2, -999.00,9,  -999.0,9,  -999.0,-999.000,9,-999.000,-999.000,9,  -9.0000,-999.0000,   2.0562,   -9.00
  316N145_7,       I08N,     330,          1,         13,         13,2,19950321,       0404,   -12.0003,    80.0002,       5098,  2427.9,   2.0324,  34.7332,2,  34.7333,2,    161.4,7,   160.7,2,  119.72,2,   34.14,2,    0.00,2,    2.40,2,-999.000,9,-999.000,9,  2294.2,2,  2396.4,2,  -9.0000,9,   1.8820,2,   15.26,2, -999.00,9,  -999.0,9,  -999.0,-999.000,9,-999.000,-999.000,9,  -9.0000,-999.0000,   1.8578,   -9.00
  316N145_7,       I08N,     330,          1,         12,         12,2,19950321,       0404,   -12.0003,    80.0002,       5098,  2628.7,   1.8782,  34.7300,2,  34.7311,2,    166.8,7,   165.7,2,  121.39,2,   33.99,2,    0.00,2,    2.37,2,  -0.002,2,  -0.001,2,  2294.6,2,  2316.7,4,  -9.0000,9,   1.8890,2,   15.01,2, -999.00,9,  -999.0,9,  -999.0,-999.000,9,-999.000,-999.000,9,  -9.0000,-999.0000,   1.6881,   -9.00
  316N145_7,       I08N,     330,          1,         11,         11,2,19950321,       0404,   -12.0003,    80.0002,       5098,  2857.3,   1.7541,  34.7283,2,  34.7272,2,    169.5,7,   169.3,2,  123.50,2,   33.84,2,    0.00,2,    2.36,2,-999.000,9,-999.000,9,  2294.0,2,  2401.5,2,  -9.0000,9,-999.0000,9, -999.00,9, -999.00,9,  -999.0,9,  -999.0,-999.000,9,-999.000,-999.000,9,  -9.0000,-999.0000,   1.5451,   -9.00
  316N145_7,       I08N,     330,          1,         10,         10,2,19950321,       0404,   -12.0003,    80.0002,       5098,  3085.4,   1.6434,  34.7260,2,  34.7257,2,    169.7,7,   170.3,2,  128.20,2,   34.18,2,    0.00,2,    2.38,2,  -0.004,2,  -0.001,2,  2299.7,2,  2403.8,2,  -9.0000,9,   1.8800,2,   13.94,2, -999.00,9,  -999.0,9,  -999.0,-999.000,9,-999.000,-999.000,9,  -9.0000,-999.0000,   1.4150,   -9.00
  316N145_7,       I08N,     330,          1,          9,          9,2,19950321,       0404,   -12.0003,    80.0002,       5098,  3315.9,   1.5421,  34.7234,2,  34.7224,2,    171.8,7,   171.2,2,  130.53,2,   34.23,2,    0.00,2,    2.37,2,-999.000,9,-999.000,9,  2300.9,2,  2409.4,2,  -9.0000,9,-999.0000,9, -999.00,9, -999.00,9,  -999.0,9,  -999.0,-999.000,9,-999.000,-999.000,9,  -9.0000,-999.0000,   1.2933,   -9.00
  316N145_7,       I08N,     330,          1,          8,          8,2,19950321,       0404,   -12.0003,    80.0002,       5098,  3493.6,   1.4547,  34.7216,2,  34.7211,2,    176.1,7,   175.8,2,  130.72,2,   33.94,2,    0.00,2,    2.35,2,  -0.002,2,  -0.001,2,  2298.8,2,  2428.6,3,  -9.0000,9,   1.8780,2,   12.27,2, -999.00,9,  -999.0,9,  -999.0,-999.000,9,-999.000,-999.000,9,  -9.0000,-999.0000,   1.1901,   -9.00
  316N145_7,       I08N,     330,          1,          7,          7,2,19950321,       0404,   -12.0003,    80.0002,       5098,  3749.1,   1.3767,  34.7188,2,  34.7179,2,    179.5,7,   179.3,2,  131.55,2,   33.79,2,    0.00,2,    2.34,2,-999.000,9,-999.000,9,  2297.1,2,  2411.3,2,  -9.0000,9,-999.0000,9, -999.00,9, -999.00,9,  -999.0,9,  -999.0,-999.000,9,-999.000,-999.000,9,  -9.0000,-999.0000,   1.0877,   -9.00
  316N145_7,       I08N,     330,          1,          6,          6,2,19950321,       0404,   -12.0003,    80.0002,       5098,  4002.5,   1.3504,  34.7174,2,  34.7178,2,    180.7,7,   181.3,2,  132.17,2,   33.74,2,    0.00,2,    2.33,2,  -0.003,2,   0.000,2,  2297.3,2,  2414.0,2,  -9.0000,9,   1.8940,2,   12.31,2, -999.00,9,  -999.0,9,  -999.0,-999.000,9,-999.000,-999.000,9,  -9.0000,-999.0000,   1.0352,   -9.00
  316N145_7,       I08N,     330,          1,          5,          5,2,19950321,       0404,   -12.0003,    80.0002,       5098,  4260.8,   1.3598,  34.7170,2,  34.7164,2,    181.0,7,   181.5,2,  133.00,2,   33.79,2,    0.00,2,    2.33,2,-999.000,9,-999.000,9,  2297.2,2,  2411.9,2,  -9.0000,9,-999.0000,9, -999.00,9, -999.00,9,  -999.0,9,  -999.0,-999.000,9,-999.000,-999.000,9,  -9.0000,-999.0000,   1.0160,   -9.00
  316N145_7,       I08N,     330,          1,          4,          4,2,19950321,       0404,   -12.0003,    80.0002,       5098,  4515.8,   1.3728,  34.7168,2,  34.7167,2,    181.5,7,   182.0,2,  133.40,2,   33.79,2,    0.00,2,    2.33,2,  -0.003,2,   0.001,2,  2297.8,2,  2419.5,2,  -9.0000,9,   1.9040,2,   12.07,2, -999.00,9,  -999.0,9,  -999.0,-999.000,9,-999.000,-999.000,9,  -9.0000,-999.0000,   0.9997,   -9.00
  316N145_7,       I08N,     330,          1,          3,          3,2,19950321,       0404,   -12.0003,    80.0002,       5098,  4772.1,   1.3914,  34.7163,2,  34.7155,2,    182.1,7,   182.1,2,  133.37,2,   33.79,2,    0.00,2,    2.33,2,-999.000,9,-999.000,9,  2297.0,2,  2415.6,2,  -9.0000,9,-999.0000,9, -999.00,9, -999.00,9,  -999.0,9,  -999.0,-999.000,9,-999.000,-999.000,9,  -9.0000,-999.0000,   0.9879,   -9.00
  316N145_7,       I08N,     330,          1,          2,          2,2,19950321,       0404,   -12.0003,    80.0002,       5098,  5027.0,   1.4179,  34.7162,2,  34.7163,2,    182.8,7,   181.7,2,  133.33,2,   33.79,2,    0.00,2,    2.33,2,  -0.001,2,  -0.001,2,  2298.0,2,  2414.7,2,  -9.0000,9,-999.0000,9, -999.00,9, -999.00,9,  -999.0,9,  -999.0,-999.000,9,-999.000,-999.000,9,  -9.0000,-999.0000,   0.9830,   -9.00
  316N145_7,       I08N,     330,          1,          1,          1,2,19950321,       0404,   -12.0003,    80.0002,       5098,  5216.2,   1.4398,  34.7164,2,  34.7164,2,    182.6,7,   182.6,2,  133.09,2,   33.79,2,    0.00,2,    2.33,2,  -0.004,2,   0.001,2,  2299.1,2,  2411.0,2,  -9.0000,9,   1.8890,2,   11.95,2, -999.00,9,  -999.0,9,  -999.0,-999.000,9,-999.000,-999.000,9,  -9.0000,-999.0000,   0.9809,   -9.00