BOTTLE,20211124CCHSIORKP
EXPOCODE,SECT_ID,STNNBR,CASTNO,SAMPNO,BTLNBR,BTLNBR_FLAG_W,DATE,TIME,LATITUDE,LONGITUDE,DEPTH,CTDPRS,CTDTMP,CTDSAL,CTDSAL_FLAG_W,SALNTY,SALNTY_FLAG_W,CTDOXY,CTDOXY_FLAG_W,OXYGEN,OXYGEN_FLAG_W,SILCAT,SILCAT_FLAG_W,NITRAT,NITRAT_FLAG_W,NITRIT,NITRIT_FLAG_W,PHSPHT,PHSPHT_FLAG_W,CFC-11,CFC-11_FLAG_W,CFC-12,CFC-12_FLAG_W,TCARBN,TCARBN_FLAG_W,ALKALI,ALKALI_FLAG_W,TRITUM,TRITUM_FLAG_W,HELIUM,HELIUM_FLAG_W,DELHE3,DELHE3_FLAG_W,DELC13,DELC13_FLAG_W,DELC14,DELC14_FLAG_W,C14ERR,NEON,NEON_FLAG_W,NEONER,CCL4,CCL4_FLAG_W,TRITER,HELIER,THETA,DELHER
,,,,,,,,,,,METERS,DBAR,ITS-90,PSS-78,,PSS-78,,UMOL/KG,,UMOL/KG,,UMOL/KG,,UMOL/KG,,UMOL/KG,,UMOL/KG,,PMOL/KG,,PMOL/KG,,UMOL/KG,,UMOL/KG,,TU,,NMOL/KG,,PERCNT,,/MILLE,,/MILLE,,/MILLE,NMOL/KG,,NMOL/KG,PMOL/KG,,TU,NMOL/KG,DEG C,PERCNT
  316N145_7,       I08N,     314,          1,         36,         36,2,19950317,       0707,    -4.0015,    79.9982,       4611,     1.7,  29.9845,  34.2295,2,  34.2148,2,    197.0,2,   197.3,2,    2.55,2,    0.10,2,    0.00,2,    0.10,2,   1.622,2,   0.937,2,  1896.5,2,  2242.2,2,   1.0629,2,   1.6946,2,   -0.74,2, -999.00,9,  -999.0,9,  -999.0,   6.589,2,   0.033,-999.000,9,   0.0039,   0.0085,  29.9841,    0.14
  316N145_7,       I08N,     314,          1,         35,         35,2,19950317,       0707,    -4.0015,    79.9982,       4611,    28.9,  29.2596,  34.2128,2,  34.2117,2,    194.7,2,   197.0,2,    2.53,2,    0.10,2,    0.00,2,    0.10,2,-999.000,9,-999.000,9,  1896.6,2,  2240.3,2,   1.0612,2,   1.6938,2,   -1.12,2, -999.00,9,  -999.0,9,  -999.0,   6.589,2,   0.033,-999.000,9,   0.0039,   0.0085,  29.2526,    0.14
  316N145_7,       I08N,     314,          1,         34,         34,2,19950317,       0707,    -4.0015,    79.9982,       4611,    53.9,  28.5906,  34.3863,2,  34.4128,2,    195.6,2,   196.5,2,    2.52,2,    0.10,2,    0.00,2,    0.12,2,   1.620,2,   0.922,2,  1913.0,2,  2254.7,2,  -9.0000,9,   1.6926,2,   -0.51,2, -999.00,9,  -999.0,9,  -999.0,   6.610,2,   0.033,-999.000,9,  -9.0000,   0.0085,  28.5777,    0.14
  316N145_7,       I08N,     314,          1,         33,         33,2,19950317,       0707,    -4.0015,    79.9982,       4611,    83.8,  21.7437,  35.2335,2,  35.2149,2,    102.7,2,    94.1,2,   11.13,2,   14.87,2,    0.52,2,    1.11,2,   1.403,2,   0.757,2,  2104.0,2,  2305.0,2,   0.8971,2,   1.7058,2,    3.16,2, -999.00,9,  -999.0,9,  -999.0,   6.881,2,   0.034,-999.000,9,   0.0037,   0.0085,  21.7273,    0.14
  316N145_7,       I08N,     314,          1,         32,         32,2,19950317,       0707,    -4.0015,    79.9982,       4611,   118.4,  17.9870,  35.1026,2,  35.0912,2,     68.1,2,    66.0,2,   18.11,2,   21.67,2,    0.05,2,    1.50,2,   1.152,2,   0.602,2,  2150.5,2,  2301.9,2,   0.8166,2,   1.6992,2,    4.93,2, -999.00,9,  -999.0,9,  -999.0,   6.983,2,   0.035,-999.000,9,   0.0037,   0.0085,  17.9667,    0.14
  316N145_7,       I08N,     314,          1,         31,         31,2,19950317,       0707,    -4.0015,    79.9982,       4611,   154.3,  14.9362,  35.1489,2,  35.1371,2,     90.0,2,    90.9,2,   18.91,2,   21.48,2,    0.01,2,    1.50,2,   1.112,2,   0.574,2,  2163.8,2,  2311.9,2,  -9.0000,9,-999.0000,9, -999.00,9, -999.00,9,  -999.0,9,  -999.0,-999.000,9,-999.000,-999.000,9,  -9.0000,-999.0000,  14.9129,   -9.00
  316N145_7,       I08N,     314,          1,         30,         30,2,19950317,       0707,    -4.0015,    79.9982,       4611,   193.7,  13.4524,  35.1152,2,  35.1217,2,     98.9,2,   101.8,2,   19.09,2,   21.90,2,    0.00,2,    1.54,2,   1.073,2,   0.545,2,  2171.8,2,  2321.2,2,   0.5710,2,   1.7427,2,    5.03,2, -999.00,9,  -999.0,9,  -999.0,   7.262,2,   0.036,-999.000,9,   0.0033,   0.0087,  13.4251,    0.14
  316N145_7,       I08N,     314,          1,         29,         29,2,19950317,       0707,    -4.0015,    79.9982,       4611,   244.6,  12.8039,  35.0958,2,  35.0922,2,    104.1,2,   104.5,2,   19.90,2,   22.55,2,    0.00,2,    1.57,2,   0.998,3,   0.435,3,  2176.7,2,  2315.4,2,   0.5418,2,   1.7598,2,    4.79,2, -999.00,9,  -999.0,9,  -999.0,   7.330,2,   0.037,-999.000,9,   0.0032,   0.0088,  12.7705,    0.14
  316N145_7,       I08N,     314,          1,         28,         28,2,19950317,       0707,    -4.0015,    79.9982,       4611,   315.0,  11.4673,  34.9933,2,  34.9946,2,    112.0,2,   113.5,2,   21.52,2,   23.71,2,    0.00,2,    1.64,2,   0.854,6,   0.434,6,  2180.3,2,  2313.8,2,   0.4100,2,   1.7840,2,    4.38,2, -999.00,9,  -999.0,9,  -999.0,   7.452,2,   0.037,-999.000,9,   0.0030,   0.0089,  11.4272,    0.14
  316N145_7,       I08N,     314,          1,         27,         27,2,19950317,       0707,    -4.0015,    79.9982,       4611,   395.4,  10.4542,  34.9379,2,  34.9342,2,    102.0,2,   103.8,2,   26.23,2,   26.78,2,    0.00,2,    1.84,2,   0.528,2,   0.266,2,  2198.7,2,  2312.2,2,   0.2820,2,   1.7739,2,    4.73,2, -999.00,9,  -999.0,9,  -999.0,   7.468,2,   0.037,-999.000,9,   0.0028,   0.0089,  10.4066,    0.14
  316N145_7,       I08N,     314,          1,         26,         26,2,19950317,       0707,    -4.0015,    79.9982,       4611,   475.7,   9.9570,  34.9355,2,  34.9354,2,     80.6,2,    77.8,2,   32.79,2,   30.41,2,    0.00,2,    2.11,2,   0.203,2,   0.104,2,  2221.8,2,  2316.0,2,   0.1359,2,   1.7852,2,    4.61,2, -999.00,9,  -999.0,9,  -999.0,   7.516,2,   0.038,-999.000,9,   0.0024,   0.0089,   9.9012,    0.14
  316N145_7,       I08N,     314,          1,         25,         25,2,19950317,       0707,    -4.0015,    79.9982,       4611,   566.3,   9.2253,  34.8843,2,  34.8866,2,     81.2,2,    80.4,2,   40.17,2,   31.44,2,    0.00,2,    2.23,2,   0.159,2,   0.078,2,  2230.2,2,  2322.6,2,  -9.0000,9,-999.0000,9, -999.00,9, -999.00,9,  -999.0,9,  -999.0,-999.000,9,-999.000,-999.000,9,  -9.0000,-999.0000,   9.1617,   -9.00
  316N145_7,       I08N,     314,          1,         24,         24,2,19950317,       0707,    -4.0015,    79.9982,       4611,   656.6,   8.5424,  34.8663,2,  34.8638,2,     74.4,2,    73.5,2,   50.22,2,   33.12,2,    0.00,2,    2.41,2,   0.085,2,   0.038,2,  2230.6,2,  2325.0,2,   0.0723,2,   1.7931,2,    6.79,2, -999.00,9,  -999.0,9,  -999.0,   7.545,2,   0.038,-999.000,9,   0.0023,   0.0090,   8.4715,    0.14
  316N145_7,       I08N,     314,          1,         23,         23,2,19950317,       0707,    -4.0015,    79.9982,       4611,   757.7,   7.7512,  34.8692,2,  34.8656,2,     60.3,2,    58.1,2,   64.80,2,   35.71,2,    0.00,2,    2.64,2,   0.015,2,   0.009,2,  2273.2,2,  2343.9,2,  -9.0000,9,-999.0000,9, -999.00,9, -999.00,9,  -999.0,9,  -999.0,-999.000,9,-999.000,-999.000,9,  -9.0000,-999.0000,   7.6733,   -9.00
  316N145_7,       I08N,     314,          1,         22,         22,2,19950317,       0707,    -4.0015,    79.9982,       4611,   858.4,   7.1305,  34.8539,2,  34.8508,2,     61.3,2,    59.8,2,   74.04,2,   36.32,2,    0.00,2,    2.70,2,   0.008,2,   0.000,2,  2285.5,2,  2355.4,2,   0.0136,2,-999.0000,9, -999.00,9, -999.00,9,  -999.0,9,  -999.0,-999.000,9,-999.000,-999.000,9,   0.0023,-999.0000,   7.0456,   -9.00
  316N145_7,       I08N,     314,          1,         21,         21,2,19950317,       0707,    -4.0015,    79.9982,       4611,   959.2,   6.3740,  34.8297,2,  34.8288,2,     66.4,2,    65.4,2,   83.72,2,   36.74,2,    0.00,2,    2.74,2,   0.002,2,   0.000,2,  2295.3,2,  2362.4,2,  -9.0000,9,   1.8290,2,   11.39,2, -999.00,9,  -999.0,9,  -999.0,-999.000,9,-999.000,-999.000,9,  -9.0000,-999.0000,   6.2839,   -9.00
  316N145_7,       I08N,     314,          1,         20,         20,2,19950317,       0707,    -4.0015,    79.9982,       4611,  1059.9,   5.7168,  34.8109,2,  34.8102,2,     68.9,2,    70.1,2,   91.55,2,   37.07,2,    0.00,2,    2.77,2,   0.004,2,   0.004,2,  2301.5,2,  2372.6,2,   0.0039,2,   1.8600,2,   12.29,2, -999.00,9,  -999.0,9,  -999.0,   7.834,2,   0.039,-999.000,9,   0.0022,   0.0093,   5.6218,    0.14
  316N145_7,       I08N,     314,          1,         19,         19,2,19950317,       0707,    -4.0015,    79.9982,       4611,  1211.1,   5.0682,  34.8066,2,  34.8072,2,     75.9,2,    77.3,2,   98.99,2,   37.26,2,    0.00,2,    2.78,2,   0.003,2,  -0.001,2,  2308.8,2,  2380.0,2,   0.0000,2,   1.8620,2,   13.00,2, -999.00,9,  -999.0,9,  -999.0,   7.808,2,   0.039,-999.000,9,   0.0022,   0.0093,   4.9643,    0.14
  316N145_7,       I08N,     314,          1,         18,         18,2,19950317,       0707,    -4.0015,    79.9982,       4611,  1362.0,   4.5909,  34.8077,2,  34.8074,2,     84.1,2,    86.3,2,  103.33,2,   37.07,2,    0.00,2,    2.77,2,-999.000,9,-999.000,9,  2310.3,2,  2386.5,2,  -9.0000,9,-999.0000,9, -999.00,9, -999.00,9,  -999.0,9,  -999.0,-999.000,9,-999.000,-999.000,9,  -9.0000,-999.0000,   4.4774,   -9.00
  316N145_7,       I08N,     314,          1,         17,         17,2,19950317,       0707,    -4.0015,    79.9982,       4611,  1513.2,   4.0009,  34.7979,2,  34.7978,2,     97.5,2,    99.0,2,  108.51,2,   36.69,2,    0.00,2,    2.71,2,   0.000,2,   0.001,2,  2310.5,2,  2390.3,2,   0.0023,2,   1.8630,2,   13.45,2, -999.00,9,  -999.0,9,  -999.0,-999.000,9,-999.000,-999.000,9,   0.0022,-999.0000,   3.8800,   -9.00
  316N145_7,       I08N,     314,          1,         16,         16,2,19950317,       0707,    -4.0015,    79.9982,       4611,  1663.4,   3.4684,  34.7881,2,  34.7878,2,    110.3,2,   112.0,2,  113.08,2,   36.22,2,    0.00,2,    2.66,2,-999.000,9,-999.000,9,  2310.4,2,  2395.1,2,  -9.0000,9,-999.0000,9, -999.00,9, -999.00,9,  -999.0,9,  -999.0,-999.000,9,-999.000,-999.000,9,  -9.0000,-999.0000,   3.3402,   -9.00
  316N145_7,       I08N,     314,          1,         15,         15,2,19950317,       0707,    -4.0015,    79.9982,       4611,  1814.5,   3.0249,  34.7734,2,  34.7727,2,    121.6,2,   123.0,2,  117.24,2,   35.84,2,    0.00,2,    2.62,2,-999.000,9,-999.000,9,  2308.7,2,  2398.3,2,   0.0286,2,   1.8700,2,   13.81,2, -999.00,9,  -999.0,9,  -999.0,   7.786,2,   0.039,-999.000,9,   0.0023,   0.0091,   2.8891,    0.14
  316N145_7,       I08N,     314,          1,         14,         14,2,19950317,       0707,    -4.0015,    79.9982,       4611,  2018.0,   2.5860,  34.7639,2,  34.7626,2,    134.1,2,   133.2,2,  122.68,2,   35.51,2,    0.00,2,    2.58,2,-999.000,9,-999.000,9,  2311.0,2,  2403.2,2,  -9.0000,9,   1.8690,2,   14.01,2, -999.00,9,  -999.0,9,  -999.0,-999.000,9,-999.000,-999.000,9,  -9.0000,-999.0000,   2.4386,   -9.00
  316N145_7,       I08N,     314,          1,         13,         13,2,19950317,       0707,    -4.0015,    79.9982,       4611,  2221.5,   2.2841,  34.7503,2,  34.7505,2,    145.0,2,   144.3,2,  124.33,2,   34.99,2,    0.00,2,    2.53,2,   0.001,2,  -0.001,2,  2309.2,2,  2408.2,2,  -9.0000,9,   1.8790,2,   14.50,2, -999.00,9,  -999.0,9,  -999.0,-999.000,9,-999.000,-999.000,9,  -9.0000,-999.0000,   2.1236,   -9.00
  316N145_7,       I08N,     314,          1,         12,         12,2,19950317,       0707,    -4.0015,    79.9982,       4611,  2424.6,   2.0399,  34.7430,2,  34.7428,2,    152.8,2,   152.2,2,  126.62,2,   34.66,2,    0.00,2,    2.49,2,-999.000,9,-999.000,9,  2306.4,2,  2406.2,2,  -9.0000,9,   1.8890,2,   14.75,2, -999.00,9,  -999.0,9,  -999.0,-999.000,9,-999.000,-999.000,9,  -9.0000,-999.0000,   1.8654,   -9.00
  316N145_7,       I08N,     314,          1,         11,         11,2,19950317,       0707,    -4.0015,    79.9982,       4611,  2627.8,   1.8829,  34.7365,2,  34.7365,2,    157.4,2,   156.9,2,  128.06,2,   34.47,2,    0.00,2,    2.47,2,  -0.003,2,  -0.001,2,  2307.0,2,  2406.8,2,  -9.0000,9,   1.8870,2,   14.49,2, -999.00,9,  -999.0,9,  -999.0,-999.000,9,-999.000,-999.000,9,  -9.0000,-999.0000,   1.6928,   -9.00
  316N145_7,       I08N,     314,          1,         10,         10,2,19950317,       0707,    -4.0015,    79.9982,       4611,  2830.6,   1.7831,  34.7334,2,  34.7330,2,    160.5,2,   159.2,2,  129.72,2,   34.38,2,    0.00,2,    2.45,2,-999.000,9,-999.000,9,  2305.9,2,  2408.6,2,  -9.0000,9,   1.8810,2,   13.88,2, -999.00,9,  -999.0,9,  -999.0,-999.000,9,-999.000,-999.000,9,  -9.0000,-999.0000,   1.5760,   -9.00
  316N145_7,       I08N,     314,          1,          9,          9,2,19950317,       0707,    -4.0015,    79.9982,       4611,  3033.1,   1.6720,  34.7297,2,  34.7301,2,    163.2,2,   161.6,2,  132.45,2,   34.38,2,    0.00,2,    2.44,2,   0.000,2,  -0.001,2,  2306.7,2,  2418.6,2,  -9.0000,9,   1.8890,2,   13.48,2, -999.00,9,  -999.0,9,  -999.0,-999.000,9,-999.000,-999.000,9,  -9.0000,-999.0000,   1.4480,   -9.00
  316N145_7,       I08N,     314,          1,          8,          8,2,19950317,       0707,    -4.0015,    79.9982,       4611,  3236.0,   1.5623,  34.7260,2,  34.7261,2,    165.1,2,   164.6,2,  134.33,2,   34.33,2,    0.00,2,    2.41,2,  -0.004,2,   0.000,2,  2310.3,2,  2418.6,2,  -9.0000,9,-999.0000,9, -999.00,9, -999.00,9,  -999.0,9,  -999.0,-999.000,9,-999.000,-999.000,9,  -9.0000,-999.0000,   1.3209,   -9.00
  316N145_7,       I08N,     314,          1,          7,          7,2,19950317,       0707,    -4.0015,    79.9982,       4611,  3441.0,   1.4870,  34.7232,2,  34.7232,2,    167.4,2,   168.4,2,  135.35,2,   34.19,2,    0.00,2,    2.40,2,  -0.002,2,  -0.001,2,  2308.5,2,  2421.5,2,  -9.0000,9,   1.8930,2,   12.56,2, -999.00,9,  -999.0,9,  -999.0,-999.000,9,-999.000,-999.000,9,  -9.0000,-999.0000,   1.2270,   -9.00
  316N145_7,       I08N,     314,          1,          6,          6,2,19950317,       0707,    -4.0015,    79.9982,       4611,  3646.9,   1.4347,  34.7214,2,  34.7212,2,    169.8,2,   170.2,2,  136.59,2,   34.18,2,    0.00,2,    2.39,2,  -0.003,2,   0.000,2,  2311.1,2,  2428.9,3,  -9.0000,9,-999.0000,9, -999.00,9, -999.00,9,  -999.0,9,  -999.0,-999.000,9,-999.000,-999.000,9,  -9.0000,-999.0000,   1.1549,   -9.00
  316N145_7,       I08N,     314,          1,          5,          5,2,19950317,       0707,    -4.0015,    79.9982,       4611,  3852.1,   1.4025,  34.7196,2,  34.7199,2,    172.3,2,   172.3,2,  136.33,2,   34.14,2,    0.00,2,    2.39,2,  -0.001,2,   0.001,2,  2308.6,2,  2432.7,3,  -9.0000,9,   1.9000,2,   11.85,2, -999.00,9,  -999.0,9,  -999.0,-999.000,9,-999.000,-999.000,9,  -9.0000,-999.0000,   1.1020,   -9.00
  316N145_7,       I08N,     314,          1,          4,          4,2,19950317,       0707,    -4.0015,    79.9982,       4611,  4055.6,   1.3969,  34.7192,2,  34.7193,2,    173.7,2,   174.2,2,  135.43,2,   33.99,2,    0.00,2,    2.37,2,-999.000,9,-999.000,9,  2307.7,2,  2423.8,2,  -9.0000,9,-999.0000,9, -999.00,9, -999.00,9,  -999.0,9,  -999.0,-999.000,9,-999.000,-999.000,9,  -9.0000,-999.0000,   1.0747,   -9.00
  316N145_7,       I08N,     314,          1,          3,          3,2,19950317,       0707,    -4.0015,    79.9982,       4611,  4256.8,   1.3927,  34.7188,2,  34.7187,2,    175.9,2,   176.3,2,  134.95,2,   33.71,2,    0.00,2,    2.35,2,-999.000,9,-999.000,9,  2305.3,2,  2420.2,2,  -9.0000,9,-999.0000,9, -999.00,9, -999.00,9,  -999.0,9,  -999.0,-999.000,9,-999.000,-999.000,9,  -9.0000,-999.0000,   1.0484,   -9.00
  316N145_7,       I08N,     314,          1,          2,          2,2,19950317,       0707,    -4.0015,    79.9982,       4611,  4460.8,   1.3956,  34.7184,2,  34.7181,2,    177.8,2,   178.3,2,  134.05,2,   33.71,2,    0.00,2,    2.34,2,-999.000,9,-999.000,9,  2301.7,2,  2423.4,2,  -9.0000,9,-999.0000,9, -999.00,9, -999.00,9,  -999.0,9,  -999.0,-999.000,9,-999.000,-999.000,9,  -9.0000,-999.0000,   1.0282,   -9.00
  316N145_7,       I08N,     314,          1,          1,          1,2,19950317,       0707,    -4.0015,    79.9982,       4611,  4691.1,   1.3954,  34.7176,2,  34.7183,2,    179.9,2,   180.0,2,  132.94,2,   33.61,2,    0.00,2,    2.35,2,-999.000,9,-999.000,9,  2299.4,2,  2420.9,2,  -9.0000,9,-999.0000,9, -999.00,9, -999.00,9,  -999.0,9,  -999.0,-999.000,9,-999.000,-999.000,9,  -9.0000,-999.0000,   1.0013,   -9.00