BOTTLE,20211124CCHSIORKP
EXPOCODE,SECT_ID,STNNBR,CASTNO,SAMPNO,BTLNBR,BTLNBR_FLAG_W,DATE,TIME,LATITUDE,LONGITUDE,DEPTH,CTDPRS,CTDTMP,CTDSAL,CTDSAL_FLAG_W,SALNTY,SALNTY_FLAG_W,CTDOXY,CTDOXY_FLAG_W,OXYGEN,OXYGEN_FLAG_W,SILCAT,SILCAT_FLAG_W,NITRAT,NITRAT_FLAG_W,NITRIT,NITRIT_FLAG_W,PHSPHT,PHSPHT_FLAG_W,CFC-11,CFC-11_FLAG_W,CFC-12,CFC-12_FLAG_W,TCARBN,TCARBN_FLAG_W,ALKALI,ALKALI_FLAG_W,TRITUM,TRITUM_FLAG_W,HELIUM,HELIUM_FLAG_W,DELHE3,DELHE3_FLAG_W,DELC13,DELC13_FLAG_W,DELC14,DELC14_FLAG_W,C14ERR,NEON,NEON_FLAG_W,NEONER,CCL4,CCL4_FLAG_W,TRITER,HELIER,THETA,DELHER
,,,,,,,,,,,METERS,DBAR,ITS-90,PSS-78,,PSS-78,,UMOL/KG,,UMOL/KG,,UMOL/KG,,UMOL/KG,,UMOL/KG,,UMOL/KG,,PMOL/KG,,PMOL/KG,,UMOL/KG,,UMOL/KG,,TU,,NMOL/KG,,PERCNT,,/MILLE,,/MILLE,,/MILLE,NMOL/KG,,NMOL/KG,PMOL/KG,,TU,NMOL/KG,DEG C,PERCNT
  316N145_7,      TRANS,     387,          1,         24,         24,2,19950402,       1520,   -27.5738,    87.3337,       2070,     3.1,  23.4527,  36.0791,2,  36.0781,2,    216.4,2,   214.8,2,    2.93,2,    0.15,2,    0.00,2,    0.11,2,   1.962,2,   1.116,2,  -999.0,9,  -999.0,9,  -9.0000,9,-999.0000,9, -999.00,9, -999.00,9,  -999.0,9,  -999.0,-999.000,9,-999.000,-999.000,9,  -9.0000,-999.0000,  23.4521,   -9.00
  316N145_7,      TRANS,     387,          1,         23,         23,2,19950402,       1520,   -27.5738,    87.3337,       2070,    24.9,  23.3283,  36.0787,2,  36.0754,2,    209.6,2,   214.7,2,    2.92,2,    0.15,2,    0.00,2,    0.12,2,-999.000,9,-999.000,9,  -999.0,9,  -999.0,9,  -9.0000,9,-999.0000,9, -999.00,9, -999.00,9,  -999.0,9,  -999.0,-999.000,9,-999.000,-999.000,9,  -9.0000,-999.0000,  23.3231,   -9.00
  316N145_7,      TRANS,     387,          1,         22,         22,2,19950402,       1520,   -27.5738,    87.3337,       2070,    45.0,  19.6496,  35.9022,2,  35.8945,2,    236.8,2,   242.9,2,    2.70,2,    0.15,2,    0.00,2,    0.14,2,   2.459,2,   1.356,2,  -999.0,9,  -999.0,9,  -9.0000,9,-999.0000,9, -999.00,9, -999.00,9,  -999.0,9,  -999.0,-999.000,9,-999.000,-999.000,9,  -9.0000,-999.0000,  19.6414,   -9.00
  316N145_7,      TRANS,     387,          1,         21,         21,2,19950402,       1520,   -27.5738,    87.3337,       2070,    85.2,  17.7377,  35.8177,2,  35.8109,2,    248.6,2,   242.1,2,    2.49,2,    0.15,2,    0.00,2,    0.17,2,   2.593,2,   1.420,2,  -999.0,9,  -999.0,9,  -9.0000,9,-999.0000,9, -999.00,9, -999.00,9,  -999.0,9,  -999.0,-999.000,9,-999.000,-999.000,9,  -9.0000,-999.0000,  17.7231,   -9.00
  316N145_7,      TRANS,     387,          1,         20,         20,2,19950402,       1520,   -27.5738,    87.3337,       2070,   125.3,  16.4386,  35.6986,2,  35.6942,2,    240.3,2,   235.9,2,    2.48,2,    0.15,2,    0.00,2,    0.24,2,   2.675,2,   1.466,2,  -999.0,9,  -999.0,9,  -9.0000,9,-999.0000,9, -999.00,9, -999.00,9,  -999.0,9,  -999.0,-999.000,9,-999.000,-999.000,9,  -9.0000,-999.0000,  16.4184,   -9.00
  316N145_7,      TRANS,     387,          1,         19,         19,2,19950402,       1520,   -27.5738,    87.3337,       2070,   164.8,  15.0522,  35.5267,2,  35.5233,2,    230.2,2,   227.2,2,    2.69,2,    2.55,2,    0.18,2,    0.39,2,-999.000,9,-999.000,9,  -999.0,9,  -999.0,9,  -9.0000,9,-999.0000,9, -999.00,9, -999.00,9,  -999.0,9,  -999.0,-999.000,9,-999.000,-999.000,9,  -9.0000,-999.0000,  15.0270,   -9.00
  316N145_7,      TRANS,     387,          1,         18,         18,2,19950402,       1520,   -27.5738,    87.3337,       2070,   206.2,  13.7843,  35.3571,2,  35.3671,2,    226.6,2,   226.4,2,    3.10,2,    5.75,2,    0.01,2,    0.55,2,   2.896,2,   1.546,2,  -999.0,9,  -999.0,9,  -9.0000,9,-999.0000,9, -999.00,9, -999.00,9,  -999.0,9,  -999.0,-999.000,9,-999.000,-999.000,9,  -9.0000,-999.0000,  13.7547,   -9.00
  316N145_7,      TRANS,     387,          1,         17,         17,2,19950402,       1520,   -27.5738,    87.3337,       2070,   255.6,  12.8672,  35.2283,2,  35.2358,2,    229.4,2,   229.4,2,    3.52,2,    7.76,2,    0.00,2,    0.66,2,   2.947,2,   1.572,2,  -999.0,9,  -999.0,9,  -9.0000,9,-999.0000,9, -999.00,9, -999.00,9,  -999.0,9,  -999.0,-999.000,9,-999.000,-999.000,9,  -9.0000,-999.0000,  12.8321,   -9.00
  316N145_7,      TRANS,     387,          1,         16,         16,2,19950402,       1520,   -27.5738,    87.3337,       2070,   307.1,  12.3132,  35.1416,2,  35.1434,2,    231.4,2,   232.3,2,    3.94,2,    9.12,2,    0.00,2,    0.74,2,   3.023,2,   1.606,2,  -999.0,9,  -999.0,9,  -9.0000,9,-999.0000,9, -999.00,9, -999.00,9,  -999.0,9,  -999.0,-999.000,9,-999.000,-999.000,9,  -9.0000,-999.0000,  12.2722,   -9.00
  316N145_7,      TRANS,     387,          1,         15,         15,2,19950402,       1520,   -27.5738,    87.3337,       2070,   356.3,  11.8059,  35.0701,2,  35.0706,2,    234.4,2,   235.0,2,    4.14,2,   10.05,2,    0.00,2,    0.80,2,   3.112,2,   1.640,2,  -999.0,9,  -999.0,9,  -9.0000,9,-999.0000,9, -999.00,9, -999.00,9,  -999.0,9,  -999.0,-999.000,9,-999.000,-999.000,9,  -9.0000,-999.0000,  11.7595,   -9.00
  316N145_7,      TRANS,     387,          1,         14,         14,2,19950402,       1520,   -27.5738,    87.3337,       2070,   406.6,  11.4405,  35.0087,2,  35.0062,2,    235.4,2,   236.0,2,    4.56,2,   11.03,2,    0.00,2,    0.85,2,   3.029,2,   1.591,2,  -999.0,9,  -999.0,9,  -9.0000,9,-999.0000,9, -999.00,9, -999.00,9,  -999.0,9,  -999.0,-999.000,9,-999.000,-999.000,9,  -9.0000,-999.0000,  11.3886,   -9.00
  316N145_7,      TRANS,     387,          1,         13,         13,2,19950402,       1520,   -27.5738,    87.3337,       2070,   477.8,  10.8910,  34.9235,2,  34.9245,2,    237.2,2,   238.1,2,    4.55,2,   12.10,2,    0.00,2,    0.92,2,   3.036,2,   1.524,2,  -999.0,9,  -999.0,9,  -9.0000,9,-999.0000,9, -999.00,9, -999.00,9,  -999.0,9,  -999.0,-999.000,9,-999.000,-999.000,9,  -9.0000,-999.0000,  10.8317,   -9.00
  316N145_7,      TRANS,     387,          1,         12,         12,2,19950402,       1520,   -27.5738,    87.3337,       2070,   558.6,  10.1837,  34.8154,2,  34.8158,2,    234.4,2,   236.4,2,    5.18,2,   14.10,2,    0.00,2,    1.04,2,   2.801,2,   1.410,2,  -999.0,9,  -999.0,9,  -9.0000,9,-999.0000,9, -999.00,9, -999.00,9,  -999.0,9,  -999.0,-999.000,9,-999.000,-999.000,9,  -9.0000,-999.0000,  10.1171,   -9.00
  316N145_7,      TRANS,     387,          1,         11,         11,2,19950402,       1520,   -27.5738,    87.3337,       2070,   658.5,   9.2465,  34.6790,2,  34.6862,2,    230.3,2,   229.1,2,    6.86,2,   17.23,2,    0.00,2,    1.23,2,   2.352,2,   1.162,2,  -999.0,9,  -999.0,9,  -9.0000,9,-999.0000,9, -999.00,9, -999.00,9,  -999.0,9,  -999.0,-999.000,9,-999.000,-999.000,9,  -9.0000,-999.0000,   9.1722,   -9.00
  316N145_7,      TRANS,     387,          1,         10,         10,2,19950402,       1520,   -27.5738,    87.3337,       2070,   758.2,   8.0794,  34.5673,2,  34.5670,2,    213.1,2,   213.2,2,   11.93,2,   21.73,2,    0.00,2,    1.52,2,   1.401,6,   0.703,6,  -999.0,9,  -999.0,9,  -9.0000,9,-999.0000,9, -999.00,9, -999.00,9,  -999.0,9,  -999.0,-999.000,9,-999.000,-999.000,9,  -9.0000,-999.0000,   8.0000,   -9.00
  316N145_7,      TRANS,     387,          1,          9,          9,2,19950402,       1520,   -27.5738,    87.3337,       2070,   859.8,   6.3916,  34.4556,2,  34.4574,2,    196.3,2,  -999.0,5,   22.71,2,   26.84,2,    0.00,2,    1.86,2,   0.725,2,   0.366,2,  -999.0,9,  -999.0,9,  -9.0000,9,-999.0000,9, -999.00,9, -999.00,9,  -999.0,9,  -999.0,-999.000,9,-999.000,-999.000,9,  -9.0000,-999.0000,   6.3118,   -9.00
  316N145_7,      TRANS,     387,          1,          8,          8,2,19950402,       1520,   -27.5738,    87.3337,       2070,   961.6,   4.8141,  34.4103,2,  34.4103,2,    186.8,2,   184.7,2,   39.18,2,   30.83,2,    0.00,2,    2.15,2,-999.000,9,-999.000,9,  -999.0,9,  -999.0,9,  -9.0000,9,-999.0000,9, -999.00,9, -999.00,9,  -999.0,9,  -999.0,-999.000,9,-999.000,-999.000,9,  -9.0000,-999.0000,   4.7358,   -9.00
  316N145_7,      TRANS,     387,          1,          7,          7,2,19950402,       1520,   -27.5738,    87.3337,       2070,  1062.5,   4.1606,  34.4416,2,  34.4422,2,    172.4,2,   170.1,2,   53.53,2,   33.00,2,    0.00,2,    2.32,2,   0.162,6,   0.083,6,  -999.0,9,  -999.0,9,  -9.0000,9,-999.0000,9, -999.00,9, -999.00,9,  -999.0,9,  -999.0,-999.000,9,-999.000,-999.000,9,  -9.0000,-999.0000,   4.0785,   -9.00
  316N145_7,      TRANS,     387,          1,          6,          6,2,19950402,       1520,   -27.5738,    87.3337,       2070,  1263.9,   3.5172,  34.5282,2,  34.5284,2,    153.8,2,   152.9,2,   72.54,2,   34.58,2,    0.00,2,    2.45,2,   0.035,2,   0.017,2,  -999.0,9,  -999.0,9,  -9.0000,9,-999.0000,9, -999.00,9, -999.00,9,  -999.0,9,  -999.0,-999.000,9,-999.000,-999.000,9,  -9.0000,-999.0000,   3.4237,   -9.00
  316N145_7,      TRANS,     387,          1,          5,          5,2,19950402,       1520,   -27.5738,    87.3337,       2070,  1465.1,   3.1737,  34.6146,2,  34.5284,4,    146.3,2,   147.2,2,   85.23,2,   34.73,2,    0.00,2,    2.48,2,   0.003,2,   0.003,2,  -999.0,9,  -999.0,9,  -9.0000,9,-999.0000,9, -999.00,9, -999.00,9,  -999.0,9,  -999.0,-999.000,9,-999.000,-999.000,9,  -9.0000,-999.0000,   3.0667,   -9.00
  316N145_7,      TRANS,     387,          1,          4,          4,2,19950402,       1520,   -27.5738,    87.3337,       2070,  1667.4,   2.8818,  34.6676,2,  34.6677,2,    149.4,2,   149.5,2,   93.89,2,   34.33,2,    0.00,2,    2.44,2,-999.000,9,-999.000,9,  -999.0,9,  -999.0,9,  -9.0000,9,-999.0000,9, -999.00,9, -999.00,9,  -999.0,9,  -999.0,-999.000,9,-999.000,-999.000,9,  -9.0000,-999.0000,   2.7611,   -9.00
  316N145_7,      TRANS,     387,          1,          3,          3,2,19950402,       1520,   -27.5738,    87.3337,       2070,  1869.1,   2.6377,  34.6964,2,  34.6962,2,    154.1,2,   154.2,2,   99.81,2,   34.03,2,    0.00,2,    2.42,2,  -0.003,2,   0.001,2,  -999.0,9,  -999.0,9,  -9.0000,9,-999.0000,9, -999.00,9, -999.00,9,  -999.0,9,  -999.0,-999.000,9,-999.000,-999.000,9,  -9.0000,-999.0000,   2.5029,   -9.00
  316N145_7,      TRANS,     387,          1,          2,          2,2,19950402,       1520,   -27.5738,    87.3337,       2070,  2072.7,   2.2870,  34.7162,2,  34.7162,2,    164.1,2,   163.9,2,  104.89,2,   33.43,2,    0.00,2,    2.36,2,  -0.004,2,   0.001,2,  -999.0,9,  -999.0,9,  -9.0000,9,-999.0000,9, -999.00,9, -999.00,9,  -999.0,9,  -999.0,-999.000,9,-999.000,-999.000,9,  -9.0000,-999.0000,   2.1396,   -9.00
  316N145_7,      TRANS,     387,          1,          1,          1,2,19950402,       1520,   -27.5738,    87.3337,       2070,  2294.8,   2.0712,  34.7230,2,  34.7237,2,    172.2,2,   172.4,2,  106.12,2,   32.89,2,    0.00,2,    2.31,2,  -0.001,2,   0.001,2,  -999.0,9,  -999.0,9,  -9.0000,9,-999.0000,9, -999.00,9, -999.00,9,  -999.0,9,  -999.0,-999.000,9,-999.000,-999.000,9,  -9.0000,-999.0000,   1.9078,   -9.00