BOTTLE,20211124CCHSIORKP
EXPOCODE,SECT_ID,STNNBR,CASTNO,SAMPNO,BTLNBR,BTLNBR_FLAG_W,DATE,TIME,LATITUDE,LONGITUDE,DEPTH,CTDPRS,CTDTMP,CTDSAL,CTDSAL_FLAG_W,SALNTY,SALNTY_FLAG_W,CTDOXY,CTDOXY_FLAG_W,OXYGEN,OXYGEN_FLAG_W,SILCAT,SILCAT_FLAG_W,NITRAT,NITRAT_FLAG_W,NITRIT,NITRIT_FLAG_W,PHSPHT,PHSPHT_FLAG_W,CFC-11,CFC-11_FLAG_W,CFC-12,CFC-12_FLAG_W,TCARBN,TCARBN_FLAG_W,ALKALI,ALKALI_FLAG_W,TRITUM,TRITUM_FLAG_W,HELIUM,HELIUM_FLAG_W,DELHE3,DELHE3_FLAG_W,DELC13,DELC13_FLAG_W,DELC14,DELC14_FLAG_W,C14ERR,NEON,NEON_FLAG_W,NEONER,CCL4,CCL4_FLAG_W,TRITER,HELIER,THETA,DELHER
,,,,,,,,,,,METERS,DBAR,ITS-90,PSS-78,,PSS-78,,UMOL/KG,,UMOL/KG,,UMOL/KG,,UMOL/KG,,UMOL/KG,,UMOL/KG,,PMOL/KG,,PMOL/KG,,UMOL/KG,,UMOL/KG,,TU,,NMOL/KG,,PERCNT,,/MILLE,,/MILLE,,/MILLE,NMOL/KG,,NMOL/KG,PMOL/KG,,TU,NMOL/KG,DEG C,PERCNT
  316N145_7,       I05E,     435,          1,         17,         17,2,19950413,       1817,   -32.4163,   113.6512,       4326,     3.1,  24.9569,  35.7088,2,  35.7085,2,    206.9,2,   207.6,2,    3.82,2,    0.09,2,    0.00,2,    0.07,2,   1.842,2,   1.054,2,  1999.1,2,  -999.0,5,  -9.0000,9,-999.0000,9, -999.00,9,    1.29,2,    74.2,2,     3.5,-999.000,9,-999.000,   2.177,2,  -9.0000,-999.0000,  24.9562,   -9.00
  316N145_7,       I05E,     435,          1,         16,         16,2,19950413,       1817,   -32.4163,   113.6512,       4326,    31.4,  24.6877,  35.7112,2,  35.7217,2,    201.9,2,   210.8,2,    3.80,2,    0.13,2,    0.01,2,    0.09,2,-999.000,9,-999.000,9,  -999.0,9,  -999.0,9,  -9.0000,9,-999.0000,9, -999.00,9, -999.00,9,  -999.0,9,  -999.0,-999.000,9,-999.000,-999.000,9,  -9.0000,-999.0000,  24.6809,   -9.00
  316N145_7,       I05E,     435,          1,         15,         15,2,19950413,       1817,   -32.4163,   113.6512,       4326,    56.4,  22.6819,  35.8429,2,  35.8282,2,    217.7,2,   204.6,2,    4.01,2,    0.76,2,    0.25,2,    0.17,2,-999.000,9,-999.000,9,  -999.0,9,  -999.0,9,  -9.0000,9,-999.0000,9, -999.00,9,    1.04,2,    83.7,2,     3.7,-999.000,9,-999.000,-999.000,9,  -9.0000,-999.0000,  22.6705,   -9.00
  316N145_7,       I05E,     435,          1,         14,         14,2,19950413,       1817,   -32.4163,   113.6512,       4326,    81.2,  21.7276,  35.8548,2,  35.8523,2,    204.2,2,   202.3,2,    4.21,2,    1.29,2,    0.05,2,    0.20,2,   2.141,2,   1.209,2,  -999.0,9,  -999.0,9,  -9.0000,9,-999.0000,9, -999.00,9,    0.99,2,    79.6,2,     3.6,-999.000,9,-999.000,   1.342,2,  -9.0000,-999.0000,  21.7117,   -9.00
  316N145_7,       I05E,     435,          1,         13,         13,2,19950413,       1817,   -32.4163,   113.6512,       4326,   126.2,  19.9459,  35.8886,2,  35.8925,2,    220.4,2,   215.6,2,    3.55,2,    0.78,2,    0.03,2,    0.17,2,-999.000,9,-999.000,9,  -999.0,9,  -999.0,9,  -9.0000,9,-999.0000,9, -999.00,9,    1.08,2,    81.1,2,     5.0,-999.000,9,-999.000,-999.000,9,  -9.0000,-999.0000,  19.9225,   -9.00
  316N145_7,       I05E,     435,          1,         12,         12,2,19950413,       1817,   -32.4163,   113.6512,       4326,   176.6,  17.2952,  35.8331,2,  35.8285,2,    231.6,2,   232.0,2,    2.66,2,    0.67,2,    0.04,2,    0.20,2,   2.663,2,   1.453,2,  -999.0,9,  -999.0,9,  -9.0000,9,-999.0000,9, -999.00,9,    1.24,2,    93.6,2,     4.7,-999.000,9,-999.000,   1.255,2,  -9.0000,-999.0000,  17.2656,   -9.00
  316N145_7,       I05E,     435,          1,         11,         11,2,19950413,       1817,   -32.4163,   113.6512,       4326,   235.7,  14.3232,  35.4393,2,  35.4296,2,    236.5,2,   238.1,2,    2.00,2,    3.07,2,    0.02,2,    0.39,2,-999.000,9,-999.000,9,  -999.0,9,  -999.0,9,  -9.0000,9,-999.0000,9, -999.00,9,    1.39,2,    83.2,2,     3.6,-999.000,9,-999.000,-999.000,9,  -9.0000,-999.0000,  14.2885,   -9.00
  316N145_7,       I05E,     435,          1,         10,         10,2,19950413,       1817,   -32.4163,   113.6512,       4326,   306.9,  12.1587,  35.1023,2,  35.0964,2,    239.6,2,   240.9,2,    2.42,2,    7.29,2,    0.01,2,    0.64,2,   3.319,2,   1.764,2,  -999.0,9,  -999.0,9,  -9.0000,9,-999.0000,9, -999.00,9,    1.36,2,    73.4,2,     3.6,-999.000,9,-999.000,   1.580,2,  -9.0000,-999.0000,  12.1181,   -9.00
  316N145_7,       I05E,     435,          1,          9,          9,2,19950413,       1817,   -32.4163,   113.6512,       4326,   406.7,  10.1871,  34.8066,2,  34.8083,2,    240.3,2,   243.9,2,    3.93,2,   12.52,2,    0.01,2,    0.95,2,-999.000,9,-999.000,9,  -999.0,9,  -999.0,9,  -9.0000,9,-999.0000,9, -999.00,9,    1.29,2,    64.0,2,     3.5,-999.000,9,-999.000,-999.000,9,  -9.0000,-999.0000,  10.1389,   -9.00
  316N145_7,       I05E,     435,          1,          8,          8,2,19950413,       1817,   -32.4163,   113.6512,       4326,   507.5,   9.4067,  34.6922,2,  34.6922,2,    241.9,2,   243.3,2,    5.01,2,   15.35,2,    0.01,2,    1.12,2,   3.325,2,   1.709,2,  -999.0,9,  -999.0,9,  -9.0000,9,-999.0000,9, -999.00,9,    1.26,2,    41.1,2,     3.5,-999.000,9,-999.000,   2.015,2,  -9.0000,-999.0000,   9.3493,   -9.00
  316N145_7,       I05E,     435,          1,          7,          7,2,19950413,       1817,   -32.4163,   113.6512,       4326,   606.8,   8.7843,  34.6105,2,  34.6128,2,    235.7,2,   234.3,2,    6.96,2,   18.26,2,    0.01,2,    1.29,2,-999.000,9,-999.000,9,  -999.0,9,  -999.0,9,  -9.0000,9,-999.0000,9, -999.00,9,    1.22,2,    16.4,2,     4.5,-999.000,9,-999.000,-999.000,9,  -9.0000,-999.0000,   8.7182,   -9.00
  316N145_7,       I05E,     435,          1,          6,          6,2,19950413,       1817,   -32.4163,   113.6512,       4326,   708.9,   7.6668,  34.5139,2,  34.5139,2,    212.2,2,   209.5,2,   13.49,2,   23.14,2,    0.01,2,    1.60,2,   1.715,2,   0.852,2,  -999.0,9,  -999.0,9,  -9.0000,9,-999.0000,9, -999.00,9,    1.09,2,   -20.8,2,     3.9,-999.000,9,-999.000,   1.527,2,  -9.0000,-999.0000,   7.5950,   -9.00
  316N145_7,       I05E,     435,          1,          5,          5,2,19950413,       1817,   -32.4163,   113.6512,       4326,   808.8,   6.1381,  34.4374,2,  34.4338,2,    197.2,2,   195.0,2,   24.82,2,   27.74,2,    0.01,2,    1.91,2,-999.000,9,-999.000,9,  -999.0,9,  -999.0,9,  -9.0000,9,-999.0000,9, -999.00,9,    0.91,2,   -64.7,2,     3.5,-999.000,9,-999.000,-999.000,9,  -9.0000,-999.0000,   6.0649,   -9.00
  316N145_7,       I05E,     435,          1,          4,          4,2,19950413,       1817,   -32.4163,   113.6512,       4326,   910.5,   4.8762,  34.4203,2,  34.4220,2,    185.2,2,   179.7,2,   42.70,2,   31.28,2,    0.01,2,    2.19,2,   0.432,3,   0.217,2,  -999.0,9,  -999.0,9,  -9.0000,9,-999.0000,9, -999.00,9,    0.77,2,   -96.9,2,     4.2,-999.000,9,-999.000,   0.917,2,  -9.0000,-999.0000,   4.8019,   -9.00
  316N145_7,       I05E,     435,          1,          3,          3,2,19950413,       1817,   -32.4163,   113.6512,       4326,  1011.0,   4.2593,  34.4421,2,  34.4424,2,    170.1,2,   169.0,2,   54.69,2,   33.05,2,    0.01,2,    2.32,2,-999.000,9,-999.000,9,  -999.0,9,  -999.0,9,  -9.0000,9,-999.0000,9, -999.00,9,    0.60,2,  -116.5,2,     3.8,-999.000,9,-999.000,-999.000,9,  -9.0000,-999.0000,   4.1809,   -9.00
  316N145_7,       I05E,     435,          1,          2,          2,2,19950413,       1817,   -32.4163,   113.6512,       4326,  1162.2,   3.8687,  34.5142,2,  34.5121,2,    152.9,2,   149.3,2,   71.50,2,   34.64,2,    0.01,2,    2.46,2,   0.089,3,   0.043,6,  -999.0,9,  -999.0,9,  -9.0000,9,-999.0000,9, -999.00,9,    0.42,2,  -148.8,2,     4.7,-999.000,9,-999.000,   0.320,6,  -9.0000,-999.0000,   3.7805,   -9.00
  316N145_7,       I05E,     435,          1,          1,          1,2,19950413,       1817,   -32.4163,   113.6512,       4326,  1313.5,   3.3504,  34.5401,2,  34.5386,2,    154.6,2,   152.4,2,   76.30,2,   34.79,2,    0.01,2,    2.46,2,   0.087,3,   0.029,2,  -999.0,9,  -999.0,9,  -9.0000,9,-999.0000,9, -999.00,9,   -0.56,4,  -187.0,3,     2.7,-999.000,9,-999.000,   0.207,2,  -9.0000,-999.0000,   3.2544,   -9.00
  316N145_7,       I05E,     435,          1,         36,         36,2,19950413,       1817,   -32.4163,   113.6512,       4326,  1466.6,   3.1048,  34.5899,2,  34.5896,2,    149.9,2,   149.9,2,   83.96,2,   34.90,2,    0.00,2,    2.47,2,   0.065,3,   0.007,2,  -999.0,5,  2338.7,3,  -9.0000,9,-999.0000,9, -999.00,9, -999.00,9,  -999.0,9,  -999.0,-999.000,9,-999.000,   0.101,2,  -9.0000,-999.0000,   2.9986,   -9.00
  316N145_7,       I05E,     435,          1,         35,         35,2,19950413,       1817,   -32.4163,   113.6512,       4326,  1617.5,   2.8128,  34.6301,2,  34.6307,2,    156.9,2,   153.8,3,   87.89,2,   34.41,2,    0.00,2,    2.43,2,-999.000,9,-999.000,9,  -999.0,9,  -999.0,9,  -9.0000,9,-999.0000,9, -999.00,9, -999.00,9,  -999.0,9,  -999.0,-999.000,9,-999.000,-999.000,9,  -9.0000,-999.0000,   2.6972,   -9.00
  316N145_7,       I05E,     435,          1,         34,         34,2,19950413,       1817,   -32.4163,   113.6512,       4326,  1768.5,   2.6198,  34.6636,2,  34.6649,2,    160.4,2,   160.2,2,   91.17,2,   33.87,2,    0.00,2,    2.39,2,   0.031,3,   0.002,2,  -999.0,9,  -999.0,9,  -9.0000,9,-999.0000,9, -999.00,9, -999.00,9,  -999.0,9,  -999.0,-999.000,9,-999.000,   0.037,2,  -9.0000,-999.0000,   2.4939,   -9.00
  316N145_7,       I05E,     435,          1,         33,         33,2,19950413,       1817,   -32.4163,   113.6512,       4326,  1919.0,   2.4684,  34.6957,2,  34.6959,2,    161.2,2,   160.6,2,   99.07,2,   33.68,2,    0.00,2,    2.38,2,-999.000,9,-999.000,9,  -999.0,9,  -999.0,9,  -9.0000,9,-999.0000,9, -999.00,9, -999.00,9,  -999.0,9,  -999.0,-999.000,9,-999.000,-999.000,9,  -9.0000,-999.0000,   2.3317,   -9.00
  316N145_7,       I05E,     435,          1,         32,         32,2,19950413,       1817,   -32.4163,   113.6512,       4326,  2071.3,   2.3287,  34.7111,2,-999.0000,9,    162.0,2,   162.5,2,  104.35,2,   33.54,2,    0.00,2,    2.37,2,   0.012,3,   0.000,2,  -999.0,9,  -999.0,9,  -9.0000,9,-999.0000,9, -999.00,9, -999.00,9,  -999.0,9,  -999.0,-999.000,9,-999.000,   0.009,2,  -9.0000,-999.0000,   2.1808,   -9.00
  316N145_7,       I05E,     435,          1,         31,         31,2,19950413,       1817,   -32.4163,   113.6512,       4326,  2224.4,   2.1949,  34.7202,2,  34.7208,2,    165.8,2,   166.6,2,  106.77,2,   33.25,2,    0.00,2,    2.35,2,-999.000,9,-999.000,9,  -999.0,9,  -999.0,9,  -9.0000,9,-999.0000,9, -999.00,9, -999.00,9,  -999.0,9,  -999.0,-999.000,9,-999.000,-999.000,9,  -9.0000,-999.0000,   2.0357,   -9.00
  316N145_7,       I05E,     435,          1,         30,         30,2,19950413,       1817,   -32.4163,   113.6512,       4326,  2375.5,   2.0744,  34.7252,2,  34.7259,2,    169.1,2,   169.4,2,  110.30,2,   33.21,2,    0.00,2,    2.34,2,  -0.004,3,   0.000,2,  -999.0,9,  -999.0,9,  -9.0000,9,-999.0000,9, -999.00,9, -999.00,9,  -999.0,9,  -999.0,-999.000,9,-999.000,   0.004,2,  -9.0000,-999.0000,   1.9038,   -9.00
  316N145_7,       I05E,     435,          1,         29,         29,2,19950413,       1817,   -32.4163,   113.6512,       4326,  2528.0,   1.9739,  34.7278,2,  34.7285,2,    171.1,2,   171.4,2,  112.28,2,   33.17,2,    0.00,2,    2.33,2,-999.000,9,-999.000,9,  -999.0,9,  -999.0,9,  -9.0000,9,-999.0000,9, -999.00,9, -999.00,9,  -999.0,9,  -999.0,-999.000,9,-999.000,-999.000,9,  -9.0000,-999.0000,   1.7912,   -9.00
  316N145_7,       I05E,     435,          1,         28,         28,2,19950413,       1817,   -32.4163,   113.6512,       4326,  2680.5,   1.8891,  34.7292,2,  34.7290,2,    174.3,2,   174.8,2,  112.93,2,   32.88,2,    0.00,2,    2.32,2,  -0.020,3,   0.002,2,  -999.0,9,  -999.0,9,  -9.0000,9,-999.0000,9, -999.00,9, -999.00,9,  -999.0,9,  -999.0,-999.000,9,-999.000,   0.001,2,  -9.0000,-999.0000,   1.6940,   -9.00
  316N145_7,       I05E,     435,          1,         27,         27,2,19950413,       1817,   -32.4163,   113.6512,       4326,  2832.3,   1.7834,  34.7301,2,  34.7306,2,    178.0,2,   177.8,2,  114.70,2,   32.74,2,    0.00,2,    2.30,2,-999.000,9,-999.000,9,  -999.0,9,  -999.0,9,  -9.0000,9,-999.0000,9, -999.00,9, -999.00,9,  -999.0,9,  -999.0,-999.000,9,-999.000,-999.000,9,  -9.0000,-999.0000,   1.5761,   -9.00
  316N145_7,       I05E,     435,          1,         26,         26,2,19950413,       1817,   -32.4163,   113.6512,       4326,  2985.4,   1.6947,  34.7296,2,  34.7288,2,    180.6,2,   180.9,2,  116.02,2,   32.74,2,    0.00,2,    2.30,2,-999.000,9,-999.000,9,  -999.0,9,  -999.0,9,  -9.0000,9,-999.0000,9, -999.00,9, -999.00,9,  -999.0,9,  -999.0,-999.000,9,-999.000,-999.000,9,  -9.0000,-999.0000,   1.4748,   -9.00
  316N145_7,       I05E,     435,          1,         25,         25,2,19950413,       1817,   -32.4163,   113.6512,       4326,  3138.1,   1.6053,  34.7285,2,  34.7282,2,    182.8,2,   183.3,2,  117.34,2,   32.70,2,    0.00,2,    2.29,2,-999.000,9,-999.000,9,  -999.0,9,  -999.0,9,  -9.0000,9,-999.0000,9, -999.00,9, -999.00,9,  -999.0,9,  -999.0,-999.000,9,-999.000,-999.000,9,  -9.0000,-999.0000,   1.3726,   -9.00
  316N145_7,       I05E,     435,          1,         24,         24,2,19950413,       1817,   -32.4163,   113.6512,       4326,  3291.4,   1.5238,  34.7267,2,  34.7260,2,    185.1,2,   185.7,2,  119.55,2,   32.71,2,    0.00,2,    2.29,2,  -0.030,3,  -0.002,2,  -999.0,9,  -999.0,9,  -9.0000,9,-999.0000,9, -999.00,9, -999.00,9,  -999.0,9,  -999.0,-999.000,9,-999.000,   0.000,2,  -9.0000,-999.0000,   1.2778,   -9.00
  316N145_7,       I05E,     435,          1,         23,         23,2,19950413,       1817,   -32.4163,   113.6512,       4326,  3443.7,   1.4270,  34.7246,2,  34.7235,2,    187.2,2,   187.5,2,  121.55,2,   32.76,2,    0.00,2,    2.29,2,-999.000,9,-999.000,9,  -999.0,9,  -999.0,9,  -9.0000,9,-999.0000,9, -999.00,9, -999.00,9,  -999.0,9,  -999.0,-999.000,9,-999.000,-999.000,9,  -9.0000,-999.0000,   1.1682,   -9.00
  316N145_7,       I05E,     435,          1,         22,         22,2,19950413,       1817,   -32.4163,   113.6512,       4326,  3597.3,   1.3570,  34.7224,2,  34.7215,2,    189.1,2,   189.1,2,  123.32,2,   32.87,2,    0.00,2,    2.30,2,  -0.013,3,   0.000,2,  -999.0,9,  -999.0,9,  -9.0000,9,-999.0000,9, -999.00,9, -999.00,9,  -999.0,9,  -999.0,-999.000,9,-999.000,  -0.001,2,  -9.0000,-999.0000,   1.0843,   -9.00
  316N145_7,       I05E,     435,          1,         21,         21,2,19950413,       1817,   -32.4163,   113.6512,       4326,  3801.7,   1.2916,  34.7198,2,  34.7191,2,    190.7,2,   190.8,2,  124.87,2,   32.88,2,    0.00,2,    2.29,2,-999.000,9,-999.000,9,  -999.0,9,  -999.0,9,  -9.0000,9,-999.0000,9, -999.00,9, -999.00,9,  -999.0,9,  -999.0,-999.000,9,-999.000,-999.000,9,  -9.0000,-999.0000,   0.9994,   -9.00
  316N145_7,       I05E,     435,          1,         20,         20,2,19950413,       1817,   -32.4163,   113.6512,       4326,  4005.8,   1.2462,  34.7177,2,  34.7175,2,    192.5,2,   192.8,2,  125.98,2,   32.78,2,    0.00,2,    2.29,2,  -0.018,3,   0.001,2,  -999.0,9,  -999.0,9,  -9.0000,9,-999.0000,9, -999.00,9, -999.00,9,  -999.0,9,  -999.0,-999.000,9,-999.000,   0.002,2,  -9.0000,-999.0000,   0.9337,   -9.00
  316N145_7,       I05E,     435,          1,         19,         19,2,19950413,       1817,   -32.4163,   113.6512,       4326,  4209.9,   1.2204,  34.7167,2,  34.7169,2,    194.0,2,   193.3,2,  126.86,2,   32.94,2,    0.00,2,    2.29,2,  -0.026,3,   0.000,6,  -999.0,9,  -999.0,9,  -9.0000,9,-999.0000,9, -999.00,9, -999.00,9,  -999.0,9,  -999.0,-999.000,9,-999.000,   0.003,6,  -9.0000,-999.0000,   0.8864,   -9.00
  316N145_7,       I05E,     435,          1,         18,         18,2,19950413,       1817,   -32.4163,   113.6512,       4326,  4399.9,   1.1684,  34.7146,2,  34.7155,2,    197.1,2,   196.9,2,  126.41,2,   32.85,2,    0.00,2,    2.28,2,  -0.024,3,   0.001,6,  -999.0,9,  -999.0,9,  -9.0000,9,-999.0000,9, -999.00,9, -999.00,9,  -999.0,9,  -999.0,-999.000,9,-999.000,   0.009,6,  -9.0000,-999.0000,   0.8148,   -9.00