BOTTLE,20211124CCHSIORKP
EXPOCODE,SECT_ID,STNNBR,CASTNO,SAMPNO,BTLNBR,BTLNBR_FLAG_W,DATE,TIME,LATITUDE,LONGITUDE,DEPTH,CTDPRS,CTDTMP,CTDSAL,CTDSAL_FLAG_W,SALNTY,SALNTY_FLAG_W,CTDOXY,CTDOXY_FLAG_W,OXYGEN,OXYGEN_FLAG_W,SILCAT,SILCAT_FLAG_W,NITRAT,NITRAT_FLAG_W,NITRIT,NITRIT_FLAG_W,PHSPHT,PHSPHT_FLAG_W,CFC-11,CFC-11_FLAG_W,CFC-12,CFC-12_FLAG_W,TCARBN,TCARBN_FLAG_W,ALKALI,ALKALI_FLAG_W,TRITUM,TRITUM_FLAG_W,HELIUM,HELIUM_FLAG_W,DELHE3,DELHE3_FLAG_W,DELC13,DELC13_FLAG_W,DELC14,DELC14_FLAG_W,C14ERR,NEON,NEON_FLAG_W,NEONER,CCL4,CCL4_FLAG_W,TRITER,HELIER,THETA,DELHER
,,,,,,,,,,,METERS,DBAR,ITS-90,PSS-78,,PSS-78,,UMOL/KG,,UMOL/KG,,UMOL/KG,,UMOL/KG,,UMOL/KG,,UMOL/KG,,PMOL/KG,,PMOL/KG,,UMOL/KG,,UMOL/KG,,TU,,NMOL/KG,,PERCNT,,/MILLE,,/MILLE,,/MILLE,NMOL/KG,,NMOL/KG,PMOL/KG,,TU,NMOL/KG,DEG C,PERCNT
  316N145_7,       I08N,     309,          1,         36,         36,2,19950316,       0458,    -1.9998,    80.0027,       4875,     2.5,  29.6746,  34.3688,2,  34.3376,2,    195.4,2,   197.5,2,    2.22,2,    0.09,2,    0.00,2,    0.11,2,-999.000,9,-999.000,9,  1901.3,2,  2246.0,2,   0.9861,2,-999.0000,9, -999.00,9, -999.00,9,  -999.0,9,  -999.0,-999.000,9,-999.000,-999.000,9,   0.0040,-999.0000,  29.6740,   -9.00
  316N145_7,       I08N,     309,          1,         35,         35,2,19950316,       0458,    -1.9998,    80.0027,       4875,    25.3,  29.1685,  34.3291,2,  34.3408,2,    192.2,2,   197.5,2,    2.22,2,    0.05,2,    0.00,2,    0.11,2,-999.000,9,-999.000,9,  -999.0,9,  -999.0,9,  -9.0000,9,-999.0000,9, -999.00,9, -999.00,9,  -999.0,9,  -999.0,-999.000,9,-999.000,-999.000,9,  -9.0000,-999.0000,  29.1624,   -9.00
  316N145_7,       I08N,     309,          1,         34,         34,2,19950316,       0458,    -1.9998,    80.0027,       4875,    45.4,  27.1350,  35.1714,2,  35.1846,2,    186.0,2,   185.9,2,    3.43,2,    0.09,2,    0.00,2,    0.28,2,-999.000,9,-999.000,9,  -999.0,9,  -999.0,9,   0.9154,2,   1.6978,2,    0.54,2, -999.00,9,  -999.0,9,  -999.0,   6.698,2,   0.033,-999.000,9,   0.0039,   0.0085,  27.1246,    0.14
  316N145_7,       I08N,     309,          1,         33,         33,2,19950316,       0458,    -1.9998,    80.0027,       4875,    65.5,  24.3267,  35.3631,2,  35.3615,2,    153.6,2,   150.4,2,    6.09,2,    6.18,2,    0.22,2,    0.62,2,-999.000,9,-999.000,9,  -999.0,9,  -999.0,9,   0.8839,2,   1.7054,2,    1.80,2, -999.00,9,  -999.0,9,  -999.0,   6.795,2,   0.034,-999.000,9,   0.0038,   0.0085,  24.3128,    0.14
  316N145_7,       I08N,     309,          1,         32,         32,2,19950316,       0458,    -1.9998,    80.0027,       4875,    95.8,  21.1034,  35.3255,2,  35.3080,2,     99.3,2,    95.9,2,   11.40,2,   15.62,2,    0.06,2,    1.14,2,-999.000,9,-999.000,9,  -999.0,9,  -999.0,9,  -9.0000,9,-999.0000,9, -999.00,9, -999.00,9,  -999.0,9,  -999.0,-999.000,9,-999.000,-999.000,9,  -9.0000,-999.0000,  21.0850,   -9.00
  316N145_7,       I08N,     309,          1,         31,         31,2,19950316,       0458,    -1.9998,    80.0027,       4875,   134.9,  17.5556,  35.0870,2,  35.0878,2,     72.7,2,    70.3,2,   17.94,2,   21.51,2,    0.04,2,    1.48,2,-999.000,9,-999.000,9,  -999.0,9,  -999.0,9,   0.8241,2,   1.7318,2,    5.55,2, -999.00,9,  -999.0,9,  -999.0,   7.081,2,   0.035,-999.000,9,   0.0036,   0.0087,  17.5328,    0.14
  316N145_7,       I08N,     309,          1,         30,         30,2,19950316,       0458,    -1.9998,    80.0027,       4875,   184.0,  15.2076,  35.1708,2,  35.1687,2,     74.5,2,    78.8,2,   18.75,2,   22.51,2,    0.00,2,    1.58,2,-999.000,9,-999.000,9,  -999.0,9,  -999.0,9,   0.6119,2,   1.7459,2,    5.12,2, -999.00,9,  -999.0,9,  -999.0,   7.212,2,   0.036,-999.000,9,   0.0033,   0.0087,  15.1794,    0.14
  316N145_7,       I08N,     309,          1,         29,         29,2,19950316,       0458,    -1.9998,    80.0027,       4875,   232.5,  13.2796,  35.1038,2,  35.1050,2,    101.5,2,   100.5,2,   19.36,2,   22.24,2,    0.00,2,    1.56,2,-999.000,9,-999.000,9,  -999.0,9,  -999.0,9,   0.5756,2,   1.7482,2,    5.29,2, -999.00,9,  -999.0,9,  -999.0,   7.281,2,   0.036,-999.000,9,   0.0032,   0.0087,  13.2471,    0.14
  316N145_7,       I08N,     309,          1,         28,         28,2,19950316,       0458,    -1.9998,    80.0027,       4875,   289.0,  12.1805,  35.0633,2,  35.0617,2,     94.9,2,    98.9,2,   20.99,2,   24.12,2,    0.00,2,    1.67,2,-999.000,9,-999.000,9,  -999.0,9,  -999.0,9,   0.4490,2,   1.7558,2,    4.85,2, -999.00,9,  -999.0,9,  -999.0,   7.311,2,   0.037,-999.000,9,   0.0030,   0.0088,  12.1423,    0.14
  316N145_7,       I08N,     309,          1,         27,         27,2,19950316,       0458,    -1.9998,    80.0027,       4875,   364.8,  10.8832,  34.9713,2,  34.9718,2,    101.6,2,   107.7,2,   23.65,2,   25.46,2,    0.00,2,    1.75,2,-999.000,9,-999.000,9,  -999.0,9,  -999.0,9,   0.3016,2,   1.7675,2,    4.66,2, -999.00,9,  -999.0,9,  -999.0,   7.418,2,   0.037,-999.000,9,   0.0028,   0.0088,  10.8382,    0.14
  316N145_7,       I08N,     309,          1,         26,         26,2,19950316,       0458,    -1.9998,    80.0027,       4875,   435.6,  10.0652,  34.9255,2,  34.9269,2,    103.6,2,   101.0,2,   28.75,2,   27.72,2,    0.00,2,    1.92,2,-999.000,9,-999.000,9,  -999.0,9,  -999.0,9,   0.0016,2,   1.7674,2,    5.18,2, -999.00,9,  -999.0,9,  -999.0,   7.438,2,   0.037,-999.000,9,   0.0022,   0.0088,  10.0139,    0.14
  316N145_7,       I08N,     309,          1,         25,         25,2,19950316,       0458,    -1.9998,    80.0027,       4875,   505.5,   9.5505,  34.9507,2,  34.9515,2,     87.4,2,    75.1,2,   38.15,2,   31.15,2,    0.00,2,    2.22,2,-999.000,9,-999.000,9,  -999.0,9,  -999.0,9,  -9.0000,9,-999.0000,9, -999.00,9, -999.00,9,  -999.0,9,  -999.0,-999.000,9,-999.000,-999.000,9,  -9.0000,-999.0000,   9.4926,   -9.00
  316N145_7,       I08N,     309,          1,         24,         24,2,19950316,       0458,    -1.9998,    80.0027,       4875,   606.4,   8.8151,  34.9351,2,  34.9323,2,     63.1,2,    62.1,2,   49.19,2,   33.57,2,    0.00,2,    2.44,2,-999.000,9,-999.000,9,  -999.0,9,  -999.0,9,   0.0437,2,   1.7915,2,    6.75,2, -999.00,9,  -999.0,9,  -999.0,   7.542,2,   0.038,-999.000,9,   0.0023,   0.0090,   8.7486,    0.14
  316N145_7,       I08N,     309,          1,         23,         23,2,19950316,       0458,    -1.9998,    80.0027,       4875,   707.3,   8.3517,  34.9740,2,  34.9760,2,     48.1,2,    51.5,2,   59.63,2,   35.06,2,    0.00,2,    2.59,2,-999.000,9,-999.000,9,  -999.0,9,  -999.0,9,  -9.0000,9,-999.0000,9, -999.00,9, -999.00,9,  -999.0,9,  -999.0,-999.000,9,-999.000,-999.000,9,  -9.0000,-999.0000,   8.2760,   -9.00
  316N145_7,       I08N,     309,          1,         22,         22,2,19950316,       0458,    -1.9998,    80.0027,       4875,   809.2,   8.0891,  34.9939,2,  34.9973,2,     45.8,2,    44.8,2,   65.56,2,   35.86,2,    0.00,2,    2.68,2,-999.000,9,-999.000,9,  -999.0,9,  -999.0,9,   0.0226,2,   1.8044,2,    8.41,2, -999.00,9,  -999.0,9,  -999.0,   7.589,2,   0.038,-999.000,9,   0.0022,   0.0090,   8.0035,    0.14
  316N145_7,       I08N,     309,          1,         21,         21,2,19950316,       0458,    -1.9998,    80.0027,       4875,   909.9,   7.2287,  34.9375,2,  34.9387,2,     56.3,2,    55.0,2,   74.99,2,   36.23,2,    0.00,2,    2.71,2,-999.000,9,-999.000,9,  -999.0,9,  -999.0,9,  -9.0000,9,-999.0000,9, -999.00,9, -999.00,9,  -999.0,9,  -999.0,-999.000,9,-999.000,-999.000,9,  -9.0000,-999.0000,   7.1377,   -9.00
  316N145_7,       I08N,     309,          1,         20,         20,2,19950316,       0458,    -1.9998,    80.0027,       4875,  1010.7,   6.5716,  34.8992,2,  34.9009,2,     58.9,2,    59.6,2,   82.38,2,   36.65,2,    0.00,2,    2.74,2,-999.000,9,-999.000,9,  -999.0,9,  -999.0,9,  -9.0000,9,   1.8274,2,   11.12,2, -999.00,9,  -999.0,9,  -999.0,   7.678,2,   0.038,-999.000,9,  -9.0000,   0.0091,   6.4748,    0.14
  316N145_7,       I08N,     309,          1,         19,         19,2,19950316,       0458,    -1.9998,    80.0027,       4875,  1211.6,   5.3516,  34.8155,2,  34.8202,3,     74.4,2,    75.6,2,   95.17,2,   36.94,2,    0.00,2,    2.74,2,-999.000,9,-999.000,9,  -999.0,9,  -999.0,9,   0.0029,2,   1.8485,2,   12.65,2, -999.00,9,  -999.0,9,  -999.0,   7.792,2,   0.039,-999.000,9,   0.0022,   0.0092,   5.2450,    0.14
  316N145_7,       I08N,     309,          1,         18,         18,2,19950316,       0458,    -1.9998,    80.0027,       4875,  1414.0,   4.5172,  34.8284,2,  34.8286,2,     88.8,2,    88.4,2,  103.65,2,   36.80,2,    0.00,2,    2.72,2,-999.000,9,-999.000,9,  -999.0,9,  -999.0,9,   0.0006,2,   1.8587,2,   12.84,2, -999.00,9,  -999.0,9,  -999.0,   7.833,2,   0.039,-999.000,9,   0.0022,   0.0093,   4.3996,    0.14
  316N145_7,       I08N,     309,          1,         17,         17,2,19950316,       0458,    -1.9998,    80.0027,       4875,  1615.9,   3.6706,  34.7956,2,  34.7975,2,    108.1,2,   107.9,2,  110.73,2,   36.23,2,    0.00,2,    2.66,2,-999.000,9,-999.000,9,  -999.0,9,  -999.0,9,  -9.0000,9,-999.0000,9, -999.00,9, -999.00,9,  -999.0,9,  -999.0,-999.000,9,-999.000,-999.000,9,  -9.0000,-999.0000,   3.5442,   -9.00
  316N145_7,       I08N,     309,          1,         16,         16,2,19950316,       0458,    -1.9998,    80.0027,       4875,  1816.2,   3.0989,  34.7839,2,  34.7837,2,    119.5,2,   120.1,2,  117.83,2,   35.86,2,    0.00,2,    2.62,2,-999.000,9,-999.000,9,  -999.0,9,  -999.0,9,  -0.0027,2,   1.8384,2,   14.01,2, -999.00,9,  -999.0,9,  -999.0,   7.816,2,   0.039,-999.000,9,   0.0022,   0.0092,   2.9620,    0.14
  316N145_7,       I08N,     309,          1,         15,         15,2,19950316,       0458,    -1.9998,    80.0027,       4875,  2017.5,   2.6681,  34.7695,2,  34.7692,2,    130.0,2,   131.1,2,  122.24,2,   35.44,2,    0.00,2,    2.57,2,-999.000,9,-999.000,9,  -999.0,9,  -999.0,9,  -0.0004,2,   1.8413,2,   14.30,2, -999.00,9,  -999.0,9,  -999.0,   7.857,2,   0.039,-999.000,9,   0.0022,   0.0092,   2.5196,    0.14
  316N145_7,       I08N,     309,          1,         14,         14,2,19950316,       0458,    -1.9998,    80.0027,       4875,  2220.5,   2.3584,  34.7587,2,  34.7592,2,    139.2,2,   139.2,2,  126.24,2,   35.20,2,    0.00,2,    2.53,2,-999.000,9,-999.000,9,  -999.0,9,  -999.0,9,  -9.0000,9,-999.0000,9, -999.00,9, -999.00,9,  -999.0,9,  -999.0,-999.000,9,-999.000,-999.000,9,  -9.0000,-999.0000,   2.1966,   -9.00
  316N145_7,       I08N,     309,          1,         13,         13,2,19950316,       0458,    -1.9998,    80.0027,       4875,  2423.9,   2.1415,  34.7488,2,  34.7488,2,    146.5,2,   146.3,2,  127.93,2,   34.78,2,    0.00,2,    2.51,2,-999.000,9,-999.000,9,  -999.0,9,  -999.0,9,  -9.0000,9,-999.0000,9, -999.00,9, -999.00,9,  -999.0,9,  -999.0,-999.000,9,-999.000,-999.000,9,  -9.0000,-999.0000,   1.9651,   -9.00
  316N145_7,       I08N,     309,          1,         12,         12,2,19950316,       0458,    -1.9998,    80.0027,       4875,  2626.8,   2.0237,  34.7432,2,  34.7440,2,    150.9,2,   150.0,2,  128.98,2,   34.83,2,    0.00,2,    2.49,2,-999.000,9,-999.000,9,  -999.0,9,  -999.0,9,  -9.0000,9,-999.0000,9, -999.00,9, -999.00,9,  -999.0,9,  -999.0,-999.000,9,-999.000,-999.000,9,  -9.0000,-999.0000,   1.8309,   -9.00
  316N145_7,       I08N,     309,          1,         11,         11,2,19950316,       0458,    -1.9998,    80.0027,       4875,  2829.3,   1.8675,  34.7371,2,  34.7371,2,    156.4,2,   155.8,2,  130.45,2,   34.55,2,    0.00,2,    2.46,2,-999.000,9,-999.000,9,  -999.0,9,  -999.0,9,  -9.0000,9,-999.0000,9, -999.00,9, -999.00,9,  -999.0,9,  -999.0,-999.000,9,-999.000,-999.000,9,  -9.0000,-999.0000,   1.6588,   -9.00
  316N145_7,       I08N,     309,          1,         10,         10,2,19950316,       0458,    -1.9998,    80.0027,       4875,  3030.6,   1.7111,  34.7316,2,  34.7310,2,    160.8,2,   165.0,4,  132.79,2,   34.40,2,    0.00,2,    2.45,2,-999.000,9,-999.000,9,  -999.0,9,  -999.0,9,  -9.0000,9,-999.0000,9, -999.00,9, -999.00,9,  -999.0,9,  -999.0,-999.000,9,-999.000,-999.000,9,  -9.0000,-999.0000,   1.4864,   -9.00
  316N145_7,       I08N,     309,          1,          9,          9,2,19950316,       0458,    -1.9998,    80.0027,       4875,  3233.2,   1.5757,  34.7264,2,  34.7262,2,    164.2,2,   163.6,2,  135.55,2,   34.36,2,    0.00,2,    2.42,2,-999.000,9,-999.000,9,  -999.0,9,  -999.0,9,  -9.0000,9,-999.0000,9, -999.00,9, -999.00,9,  -999.0,9,  -999.0,-999.000,9,-999.000,-999.000,9,  -9.0000,-999.0000,   1.3343,   -9.00
  316N145_7,       I08N,     309,          1,          8,          8,2,19950316,       0458,    -1.9998,    80.0027,       4875,  3434.7,   1.4956,  34.7238,2,  34.7236,2,    167.5,2,   167.6,2,  136.18,2,   34.22,2,    0.00,2,    2.41,2,-999.000,9,-999.000,9,  -999.0,9,  -999.0,9,  -9.0000,9,-999.0000,9, -999.00,9, -999.00,9,  -999.0,9,  -999.0,-999.000,9,-999.000,-999.000,9,  -9.0000,-999.0000,   1.2360,   -9.00
  316N145_7,       I08N,     309,          1,          7,          7,2,19950316,       0458,    -1.9998,    80.0027,       4875,  3636.2,   1.4588,  34.7226,2,  34.7221,2,    166.3,2,   167.2,2,  138.10,2,   34.26,2,    0.00,2,    2.42,2,-999.000,9,-999.000,9,  -999.0,9,  -999.0,9,  -9.0000,9,-999.0000,9, -999.00,9, -999.00,9,  -999.0,9,  -999.0,-999.000,9,-999.000,-999.000,9,  -9.0000,-999.0000,   1.1795,   -9.00
  316N145_7,       I08N,     309,          1,          6,          6,2,19950316,       0458,    -1.9998,    80.0027,       4875,  3839.2,   1.4109,  34.7207,2,  34.7201,2,    172.1,2,   172.1,2,  137.02,2,   34.08,2,    0.00,2,    2.38,2,-999.000,9,-999.000,9,  -999.0,9,  -999.0,9,  -9.0000,9,-999.0000,9, -999.00,9, -999.00,9,  -999.0,9,  -999.0,-999.000,9,-999.000,-999.000,9,  -9.0000,-999.0000,   1.1116,   -9.00
  316N145_7,       I08N,     309,          1,          5,          5,2,19950316,       0458,    -1.9998,    80.0027,       4875,  4043.2,   1.3936,  34.7192,2,  34.7198,2,    173.4,2,   173.8,2,  137.22,2,   33.98,2,    0.00,2,    2.38,2,-999.000,9,-999.000,9,  -999.0,9,  -999.0,9,  -9.0000,9,-999.0000,9, -999.00,9, -999.00,9,  -999.0,9,  -999.0,-999.000,9,-999.000,-999.000,9,  -9.0000,-999.0000,   1.0728,   -9.00
  316N145_7,       I08N,     309,          1,          4,          4,2,19950316,       0458,    -1.9998,    80.0027,       4875,  4248.3,   1.3977,  34.7192,2,  34.7192,2,    175.0,2,   175.0,2,  136.35,2,   33.84,2,    0.00,2,    2.37,2,-999.000,9,-999.000,9,  -999.0,9,  -999.0,9,  -9.0000,9,-999.0000,9, -999.00,9, -999.00,9,  -999.0,9,  -999.0,-999.000,9,-999.000,-999.000,9,  -9.0000,-999.0000,   1.0542,   -9.00
  316N145_7,       I08N,     309,          1,          3,          3,2,19950316,       0458,    -1.9998,    80.0027,       4875,  4504.5,   1.4088,  34.7186,2,  34.7191,2,    177.0,2,   177.7,2,  135.70,2,   33.75,2,    0.00,2,    2.36,2,-999.000,9,-999.000,9,  -999.0,9,  -999.0,9,  -9.0000,9,-999.0000,9, -999.00,9, -999.00,9,  -999.0,9,  -999.0,-999.000,9,-999.000,-999.000,9,  -9.0000,-999.0000,   1.0360,   -9.00
  316N145_7,       I08N,     309,          1,          2,          2,2,19950316,       0458,    -1.9998,    80.0027,       4875,  4759.7,   1.4127,  34.7177,2,  34.7177,2,    179.4,2,   178.9,2,  135.05,2,   33.75,2,    0.00,2,    2.35,2,-999.000,9,-999.000,9,  -999.0,9,  -999.0,9,  -9.0000,9,-999.0000,9, -999.00,9, -999.00,9,  -999.0,9,  -999.0,-999.000,9,-999.000,-999.000,9,  -9.0000,-999.0000,   1.0100,   -9.00
  316N145_7,       I08N,     309,          1,          1,          1,2,19950316,       0458,    -1.9998,    80.0027,       4875,  4974.4,   1.4347,  34.7181,2,  34.7187,2,    179.4,2,   179.3,2,  135.03,2,   33.65,2,    0.00,2,    2.35,2,-999.000,9,-999.000,9,  -999.0,9,  -999.0,9,  -9.0000,9,-999.0000,9, -999.00,9, -999.00,9,  -999.0,9,  -999.0,-999.000,9,-999.000,-999.000,9,  -9.0000,-999.0000,   1.0056,   -9.00