BOTTLE,20211124CCHSIORKP
EXPOCODE,SECT_ID,STNNBR,CASTNO,SAMPNO,BTLNBR,BTLNBR_FLAG_W,DATE,TIME,LATITUDE,LONGITUDE,DEPTH,CTDPRS,CTDTMP,CTDSAL,CTDSAL_FLAG_W,SALNTY,SALNTY_FLAG_W,CTDOXY,CTDOXY_FLAG_W,OXYGEN,OXYGEN_FLAG_W,SILCAT,SILCAT_FLAG_W,NITRAT,NITRAT_FLAG_W,NITRIT,NITRIT_FLAG_W,PHSPHT,PHSPHT_FLAG_W,CFC-11,CFC-11_FLAG_W,CFC-12,CFC-12_FLAG_W,TCARBN,TCARBN_FLAG_W,ALKALI,ALKALI_FLAG_W,TRITUM,TRITUM_FLAG_W,HELIUM,HELIUM_FLAG_W,DELHE3,DELHE3_FLAG_W,DELC13,DELC13_FLAG_W,DELC14,DELC14_FLAG_W,C14ERR,NEON,NEON_FLAG_W,NEONER,CCL4,CCL4_FLAG_W,TRITER,HELIER,THETA,DELHER
,,,,,,,,,,,METERS,DBAR,ITS-90,PSS-78,,PSS-78,,UMOL/KG,,UMOL/KG,,UMOL/KG,,UMOL/KG,,UMOL/KG,,UMOL/KG,,PMOL/KG,,PMOL/KG,,UMOL/KG,,UMOL/KG,,TU,,NMOL/KG,,PERCNT,,/MILLE,,/MILLE,,/MILLE,NMOL/KG,,NMOL/KG,PMOL/KG,,TU,NMOL/KG,DEG C,PERCNT
  316N145_7,       I08N,     318,          1,         36,         36,2,19950318,       0601,    -6.0017,    79.9990,       5172,     2.4,  29.3948,  34.2645,2,  34.2683,3,    197.6,2,   196.4,2,    2.84,2,    0.10,2,    0.00,2,    0.10,2,   1.648,2,   1.005,2,  1898.6,2,  2251.5,2,   1.0872,2,   1.6766,2,   -0.93,2, -999.00,9,  -999.0,9,  -999.0,   6.534,2,   0.033,-999.000,9,   0.0039,   0.0084,  29.3942,    0.14
  316N145_7,       I08N,     318,          1,         35,         35,2,19950318,       0601,    -6.0017,    79.9990,       5172,    25.0,  28.3911,  34.3525,2,  34.3551,3,    195.6,2,   200.0,2,    2.83,2,    0.10,2,    0.00,2,    0.10,2,-999.000,9,-999.000,9,  -999.0,9,  -999.0,9,   1.0822,2,   1.6910,2,   -0.52,2, -999.00,9,  -999.0,9,  -999.0,   6.614,2,   0.033,-999.000,9,   0.0039,   0.0085,  28.3852,    0.14
  316N145_7,       I08N,     318,          1,         34,         34,2,19950318,       0601,    -6.0017,    79.9990,       5172,    55.0,  22.2459,  34.7824,2,  34.7638,3,    124.8,2,   119.5,2,   13.09,2,   11.90,2,    0.32,2,    0.92,2,   1.441,2,   0.804,2,  2062.3,2,  2283.7,2,  -9.0000,9,-999.0000,9, -999.00,9, -999.00,9,  -999.0,9,  -999.0,-999.000,9,-999.000,-999.000,9,  -9.0000,-999.0000,  22.2350,   -9.00
  316N145_7,       I08N,     318,          1,         33,         33,2,19950318,       0601,    -6.0017,    79.9990,       5172,    84.9,  18.6637,  35.0842,2,  35.0646,3,     81.1,2,    71.5,2,   17.47,2,   20.60,2,    0.06,2,    1.45,2,   1.233,2,   0.665,2,  2141.0,2,  2301.5,2,   0.9023,2,   1.7308,2,    4.97,2, -999.00,9,  -999.0,9,  -999.0,   7.057,2,   0.035,-999.000,9,   0.0036,   0.0087,  18.6488,    0.14
  316N145_7,       I08N,     318,          1,         32,         32,2,19950318,       0601,    -6.0017,    79.9990,       5172,   120.2,  14.3382,  34.8679,2,  34.8552,3,     63.5,2,    62.0,2,   28.79,2,   25.85,2,    0.01,2,    1.81,2,   0.756,2,   0.392,2,  2182.5,2,  2304.1,2,   0.7642,2,   1.7109,2,    8.41,2, -999.00,9,  -999.0,9,  -999.0,   7.123,2,   0.036,-999.000,9,   0.0034,   0.0086,  14.3206,    0.14
  316N145_7,       I08N,     318,          1,         31,         31,2,19950318,       0601,    -6.0017,    79.9990,       5172,   155.1,  12.7214,  34.9067,2,  34.8979,3,     65.4,2,    68.4,2,   30.03,2,   26.99,2,    0.01,2,    1.88,2,   0.572,2,   0.293,2,  2198.5,2,  2309.7,2,   0.5594,2,   1.7630,2,    8.11,2, -999.00,9,  -999.0,9,  -999.0,   7.353,2,   0.037,-999.000,9,   0.0030,   0.0088,  12.7004,    0.14
  316N145_7,       I08N,     318,          1,         30,         30,2,19950318,       0601,    -6.0017,    79.9990,       5172,   205.1,  11.5232,  34.9080,2,  34.9087,3,     60.9,2,    67.4,2,   30.22,2,   28.58,2,    0.00,2,    1.96,2,   0.369,2,   0.187,2,  2209.5,2,  2309.9,2,   0.3588,2,   1.7630,2,    6.93,2, -999.00,9,  -999.0,9,  -999.0,   7.372,2,   0.037,-999.000,9,   0.0027,   0.0088,  11.4971,    0.14
  316N145_7,       I08N,     318,          1,         29,         29,2,19950318,       0601,    -6.0017,    79.9990,       5172,   266.0,  10.6935,  34.9158,2,  34.9132,3,     89.8,2,    93.2,2,   26.64,2,   27.48,2,    0.00,2,    1.87,2,-999.000,9,-999.000,9,  2201.2,2,  2311.7,2,   0.2639,2,   1.7535,2,    4.93,2, -999.00,9,  -999.0,9,  -999.0,   7.390,2,   0.037,-999.000,9,   0.0026,   0.0088,  10.6612,    0.14
  316N145_7,       I08N,     318,          1,         28,         28,2,19950318,       0601,    -6.0017,    79.9990,       5172,   336.2,  10.1387,  34.8696,2,  34.8694,3,    101.9,2,   102.2,2,   28.73,2,   27.67,2,    0.00,2,    1.90,2,   0.463,2,   0.246,2,  2200.7,2,  2312.2,2,   0.2372,2,   1.7773,2,    4.93,2, -999.00,9,  -999.0,9,  -999.0,   7.475,2,   0.037,-999.000,9,   0.0025,   0.0089,  10.0991,    0.14
  316N145_7,       I08N,     318,          1,         27,         27,2,19950318,       0601,    -6.0017,    79.9990,       5172,   406.4,   9.4372,  34.8399,2,  34.8485,3,     93.2,2,    95.1,2,   35.00,2,   29.59,2,    0.00,2,    2.06,2,   0.284,2,   0.146,2,  2214.6,2,  2315.9,2,   0.1619,2,   1.7836,2,    5.40,2, -999.00,9,  -999.0,9,  -999.0,   7.534,2,   0.038,-999.000,9,   0.0024,   0.0089,   9.3913,    0.14
  316N145_7,       I08N,     318,          1,         26,         26,2,19950318,       0601,    -6.0017,    79.9990,       5172,   507.4,   8.7127,  34.8285,2,  34.8255,3,     89.4,2,    86.6,2,   44.64,2,   31.65,2,    0.00,2,    2.24,2,-999.000,9,-999.000,9,  2230.8,2,  2322.8,2,  -9.0000,9,-999.0000,9, -999.00,9, -999.00,9,  -999.0,9,  -999.0,-999.000,9,-999.000,-999.000,9,  -9.0000,-999.0000,   8.6577,   -9.00
  316N145_7,       I08N,     318,          1,         25,         25,2,19950318,       0601,    -6.0017,    79.9990,       5172,   607.5,   8.2853,  34.8505,2,  34.8493,3,     77.2,2,    75.9,2,   53.01,2,   33.19,2,    0.00,2,    2.40,2,   0.082,2,   0.038,2,  2250.1,2,  2332.7,2,   0.0632,2,   1.8035,2,    7.40,2, -999.00,9,  -999.0,9,  -999.0,   7.604,2,   0.038,-999.000,9,   0.0023,   0.0090,   8.2210,    0.14
  316N145_7,       I08N,     318,          1,         24,         24,2,19950318,       0601,    -6.0017,    79.9990,       5172,   733.0,   7.5094,  34.8313,2,  34.8296,3,     70.9,2,    70.0,2,   65.17,2,   34.83,2,    0.00,2,    2.54,2,   0.034,6,   0.017,6,  2266.0,2,  2343.6,2,  -9.0000,9,-999.0000,9, -999.00,9, -999.00,9,  -999.0,9,  -999.0,-999.000,9,-999.000,-999.000,9,  -9.0000,-999.0000,   7.4355,   -9.00
  316N145_7,       I08N,     318,          1,         23,         23,2,19950318,       0601,    -6.0017,    79.9990,       5172,   858.8,   6.8997,  34.8355,2,  34.8318,3,     66.6,2,    67.0,2,   75.67,2,   35.84,2,    0.00,2,    2.63,2,   0.015,2,   0.006,2,  2282.7,2,  2355.7,2,   0.0200,2,   1.8163,2,   10.46,2, -999.00,9,  -999.0,9,  -999.0,   7.625,2,   0.038,-999.000,9,   0.0022,   0.0091,   6.8163,    0.14
  316N145_7,       I08N,     318,          1,         22,         22,2,19950318,       0601,    -6.0017,    79.9990,       5172,   985.1,   5.8127,  34.7599,2,  34.7606,3,     73.5,2,    74.0,2,   90.20,2,   36.67,2,    0.00,2,    2.69,2,   0.003,2,   0.001,2,  2295.7,2,  2370.3,2,   0.0118,2,   1.8377,2,   12.89,2, -999.00,9,  -999.0,9,  -999.0,   7.755,2,   0.039,-999.000,9,   0.0022,   0.0092,   5.7243,    0.14
  316N145_7,       I08N,     318,          1,         21,         21,2,19950318,       0601,    -6.0017,    79.9990,       5172,  1111.4,   5.2730,  34.7653,2,  34.7642,3,     79.6,2,    79.6,2,   96.31,2,   36.81,2,    0.00,2,    2.71,2,  -0.001,2,  -0.001,2,  2302.9,2,  2375.5,2,  -9.0000,9,-999.0000,9, -999.00,9, -999.00,9,  -999.0,9,  -999.0,-999.000,9,-999.000,-999.000,9,  -9.0000,-999.0000,   5.1767,   -9.00
  316N145_7,       I08N,     318,          1,         20,         20,2,19950318,       0601,    -6.0017,    79.9990,       5172,  1261.7,   4.6875,  34.7833,2,  34.7821,3,     86.4,2,    87.5,2,  101.59,2,   36.81,2,    0.00,2,    2.70,2,   0.003,2,  -0.001,2,  2304.6,2,  2379.1,2,   0.0025,2,   1.8540,2,   13.13,2, -999.00,9,  -999.0,9,  -999.0,   7.851,2,   0.039,-999.000,9,   0.0022,   0.0093,   4.5824,    0.14
  316N145_7,       I08N,     318,          1,         19,         19,2,19950318,       0601,    -6.0017,    79.9990,       5172,  1412.9,   4.1796,  34.7821,2,  34.7807,3,     96.8,2,    97.5,2,  105.82,2,   36.57,2,    0.00,2,    2.68,2,-999.000,9,-999.000,9,  2307.8,2,  2385.7,2,  -9.0000,9,-999.0000,9, -999.00,9, -999.00,9,  -999.0,9,  -999.0,-999.000,9,-999.000,-999.000,9,  -9.0000,-999.0000,   4.0658,   -9.00
  316N145_7,       I08N,     318,          1,         18,         18,2,19950318,       0601,    -6.0017,    79.9990,       5172,  1564.3,   3.6818,  34.7719,2,  34.7699,3,    107.6,2,   109.1,2,  110.06,2,   36.23,2,    0.00,2,    2.64,2,   0.009,2,   0.003,2,  2306.6,2,  2393.0,2,   0.0006,2,   1.8712,2,   12.93,2, -999.00,9,  -999.0,9,  -999.0,   7.958,2,   0.040,-999.000,9,   0.0022,   0.0094,   3.5599,    0.14
  316N145_7,       I08N,     318,          1,         17,         17,2,19950318,       0601,    -6.0017,    79.9990,       5172,  1716.3,   3.2472,  34.7673,2,  34.7636,3,    118.4,2,   119.4,2,  114.09,2,   35.80,2,    0.00,2,    2.59,2,-999.000,9,-999.000,9,  2300.2,2,  2394.3,2,  -0.0009,2,   1.8682,2,   13.65,2, -999.00,9,  -999.0,9,  -999.0,   7.975,2,   0.040,-999.000,9,   0.0022,   0.0093,   3.1172,    0.14
  316N145_7,       I08N,     318,          1,         16,         16,2,19950318,       0601,    -6.0017,    79.9990,       5172,  1918.1,   2.7737,  34.7600,2,  34.7575,3,    131.2,2,   131.7,2,  118.78,2,   35.37,2,    0.00,2,    2.55,2,   0.001,2,   0.002,2,  2306.8,2,  2398.3,2,  -0.0008,2,   1.8329,2,   14.03,2, -999.00,9,  -999.0,9,  -999.0,   7.805,2,   0.039,-999.000,9,   0.0022,   0.0092,   2.6324,    0.14
  316N145_7,       I08N,     318,          1,         15,         15,2,19950318,       0601,    -6.0017,    79.9990,       5172,  2121.2,   2.4056,  34.7476,2,  34.7455,3,    141.6,2,   142.3,2,  121.98,2,   34.98,2,    0.00,2,    2.50,2,-999.000,9,-999.000,9,  2304.9,2,  2402.3,2,  -9.0000,9,-999.0000,9, -999.00,9, -999.00,9,  -999.0,9,  -999.0,-999.000,9,-999.000,-999.000,9,  -9.0000,-999.0000,   2.2520,   -9.00
  316N145_7,       I08N,     318,          1,         14,         14,2,19950318,       0601,    -6.0017,    79.9990,       5172,  2324.1,   2.1693,  34.7427,2,  34.7421,3,    150.4,2,   149.6,2,  124.11,2,   34.69,2,    0.00,2,    2.47,2,   0.000,2,  -0.001,2,  2303.0,2,  2268.1,4,  -9.0000,9,-999.0000,9, -999.00,9, -999.00,9,  -999.0,9,  -999.0,-999.000,9,-999.000,-999.000,9,  -9.0000,-999.0000,   2.0015,   -9.00
  316N145_7,       I08N,     318,          1,         13,         13,2,19950318,       0601,    -6.0017,    79.9990,       5172,  2527.5,   1.9590,  34.7371,2,  34.7364,3,    157.4,2,   157.9,2,  125.59,2,   34.31,2,    0.00,2,    2.43,2,-999.000,9,-999.000,9,  2301.4,2,  2405.2,2,  -9.0000,9,-999.0000,9, -999.00,9, -999.00,9,  -999.0,9,  -999.0,-999.000,9,-999.000,-999.000,9,  -9.0000,-999.0000,   1.7766,   -9.00
  316N145_7,       I08N,     318,          1,         12,         12,2,19950318,       0601,    -6.0017,    79.9990,       5172,  2757.1,   1.8210,  34.7332,2,  34.7300,3,    162.4,2,   162.0,2,  127.51,2,   34.21,2,    0.00,2,    2.41,2,   0.008,2,   0.003,2,  2301.6,2,  2406.3,2,  -9.0000,9,-999.0000,9, -999.00,9, -999.00,9,  -999.0,9,  -999.0,-999.000,9,-999.000,-999.000,9,  -9.0000,-999.0000,   1.6201,   -9.00
  316N145_7,       I08N,     318,          1,         11,         11,2,19950318,       0601,    -6.0017,    79.9990,       5172,  2985.8,   1.6847,  34.7302,2,  34.7272,3,    165.2,2,   164.1,2,  130.95,2,   34.17,2,    0.00,2,    2.41,2,-999.000,9,-999.000,9,  2064.7,4,  2415.8,2,  -9.0000,9,-999.0000,9, -999.00,9, -999.00,9,  -999.0,9,  -999.0,-999.000,9,-999.000,-999.000,9,  -9.0000,-999.0000,   1.4649,   -9.00
  316N145_7,       I08N,     318,          1,         10,         10,2,19950318,       0601,    -6.0017,    79.9990,       5172,  3215.3,   1.5695,  34.7258,2,  34.7235,3,    166.3,2,   165.9,2,  133.97,2,   34.22,2,    0.00,2,    2.40,2,   0.005,2,   0.004,2,  2307.6,2,  2414.3,2,  -9.0000,9,-999.0000,9, -999.00,9, -999.00,9,  -999.0,9,  -999.0,-999.000,9,-999.000,-999.000,9,  -9.0000,-999.0000,   1.3300,   -9.00
  316N145_7,       I08N,     318,          1,          9,          9,2,19950318,       0601,    -6.0017,    79.9990,       5172,  3444.4,   1.4757,  34.7229,2,  34.7217,3,    168.5,2,   169.1,2,  135.68,2,   34.17,2,    0.00,2,    2.39,2,-999.000,9,-999.000,9,  2306.2,2,  2419.4,2,  -9.0000,9,-999.0000,9, -999.00,9, -999.00,9,  -999.0,9,  -999.0,-999.000,9,-999.000,-999.000,9,  -9.0000,-999.0000,   1.2156,   -9.00
  316N145_7,       I08N,     318,          1,          8,          8,2,19950318,       0601,    -6.0017,    79.9990,       5172,  3673.1,   1.4268,  34.7213,2,  34.7190,3,    170.3,2,   170.6,2,  137.18,2,   34.17,2,    0.00,2,    2.39,2,  -0.002,2,   0.000,2,  2307.1,2,  2425.4,2,  -9.0000,9,-999.0000,9, -999.00,9, -999.00,9,  -999.0,9,  -999.0,-999.000,9,-999.000,-999.000,9,  -9.0000,-999.0000,   1.1445,   -9.00
  316N145_7,       I08N,     318,          1,          7,          7,2,19950318,       0601,    -6.0017,    79.9990,       5172,  3904.1,   1.4056,  34.7200,2,  34.7164,3,    172.5,2,   172.8,2,  136.72,2,   34.03,2,    0.00,2,    2.38,2,-999.000,9,-999.000,9,  2304.6,2,  2423.4,2,  -9.0000,9,-999.0000,9, -999.00,9, -999.00,9,  -999.0,9,  -999.0,-999.000,9,-999.000,-999.000,9,  -9.0000,-999.0000,   1.0995,   -9.00
  316N145_7,       I08N,     318,          1,          6,          6,2,19950318,       0601,    -6.0017,    79.9990,       5172,  4134.4,   1.3962,  34.7193,2,  34.7158,3,    175.6,2,   175.5,2,  136.03,2,   33.88,2,    0.00,2,    2.36,2,  -0.003,2,  -0.001,2,  2303.1,2,  2420.3,2,  -9.0000,9,-999.0000,9, -999.00,9, -999.00,9,  -999.0,9,  -999.0,-999.000,9,-999.000,-999.000,9,  -9.0000,-999.0000,   1.0654,   -9.00
  316N145_7,       I08N,     318,          1,          5,          5,2,19950318,       0601,    -6.0017,    79.9990,       5172,  4381.5,   1.3937,  34.7186,2,  34.7144,3,    177.3,2,   178.2,2,  135.13,2,   33.79,2,    0.00,2,    2.35,2,-999.000,9,-999.000,9,  -999.0,5,  2419.4,2,  -9.0000,9,-999.0000,9, -999.00,9, -999.00,9,  -999.0,9,  -999.0,-999.000,9,-999.000,-999.000,9,  -9.0000,-999.0000,   1.0354,   -9.00
  316N145_7,       I08N,     318,          1,          4,          4,2,19950318,       0601,    -6.0017,    79.9990,       5172,  4593.7,   1.3980,  34.7182,2,  34.7152,3,    178.7,2,   179.5,2,  134.45,2,   33.69,2,    0.00,2,    2.35,2,  -0.003,2,  -0.001,2,  2300.0,2,  2422.9,2,  -9.0000,9,-999.0000,9, -999.00,9, -999.00,9,  -999.0,9,  -999.0,-999.000,9,-999.000,-999.000,9,  -9.0000,-999.0000,   1.0152,   -9.00
  316N145_7,       I08N,     318,          1,          3,          3,2,19950318,       0601,    -6.0017,    79.9990,       5172,  4826.2,   1.3942,  34.7177,2,  34.7148,3,    182.1,2,   182.1,2,  132.90,2,   33.45,2,    0.00,2,    2.33,2,  -0.001,2,   0.000,2,  2296.9,2,  2414.7,2,  -9.0000,9,-999.0000,9, -999.00,9, -999.00,9,  -999.0,9,  -999.0,-999.000,9,-999.000,-999.000,9,  -9.0000,-999.0000,   0.9842,   -9.00
  316N145_7,       I08N,     318,          1,          2,          2,2,19950318,       0601,    -6.0017,    79.9990,       5172,  5055.4,   1.3948,  34.7175,2,  34.7140,3,    184.5,2,   183.8,2,  131.57,2,   33.36,2,    0.00,2,    2.32,2,  -0.002,2,  -0.001,2,  2292.1,2,  2415.8,2,  -9.0000,9,-999.0000,9, -999.00,9, -999.00,9,  -999.0,9,  -999.0,-999.000,9,-999.000,-999.000,9,  -9.0000,-999.0000,   0.9572,   -9.00
  316N145_7,       I08N,     318,          1,          1,          1,2,19950318,       0601,    -6.0017,    79.9990,       5172,  5277.3,   1.4151,  34.7166,2,  34.7140,3,    185.0,2,   185.7,2,  131.33,2,   33.31,2,    0.00,2,    2.32,2,  -0.001,2,   0.000,2,  2291.8,2,  2424.3,2,  -9.0000,9,-999.0000,9, -999.00,9, -999.00,9,  -999.0,9,  -999.0,-999.000,9,-999.000,-999.000,9,  -9.0000,-999.0000,   0.9495,   -9.00