BOTTLE,20211124CCHSIORKP
EXPOCODE,SECT_ID,STNNBR,CASTNO,SAMPNO,BTLNBR,BTLNBR_FLAG_W,DATE,TIME,LATITUDE,LONGITUDE,DEPTH,CTDPRS,CTDTMP,CTDSAL,CTDSAL_FLAG_W,SALNTY,SALNTY_FLAG_W,CTDOXY,CTDOXY_FLAG_W,OXYGEN,OXYGEN_FLAG_W,SILCAT,SILCAT_FLAG_W,NITRAT,NITRAT_FLAG_W,NITRIT,NITRIT_FLAG_W,PHSPHT,PHSPHT_FLAG_W,CFC-11,CFC-11_FLAG_W,CFC-12,CFC-12_FLAG_W,TCARBN,TCARBN_FLAG_W,ALKALI,ALKALI_FLAG_W,TRITUM,TRITUM_FLAG_W,HELIUM,HELIUM_FLAG_W,DELHE3,DELHE3_FLAG_W,DELC13,DELC13_FLAG_W,DELC14,DELC14_FLAG_W,C14ERR,NEON,NEON_FLAG_W,NEONER,CCL4,CCL4_FLAG_W,TRITER,HELIER,THETA,DELHER
,,,,,,,,,,,METERS,DBAR,ITS-90,PSS-78,,PSS-78,,UMOL/KG,,UMOL/KG,,UMOL/KG,,UMOL/KG,,UMOL/KG,,UMOL/KG,,PMOL/KG,,PMOL/KG,,UMOL/KG,,UMOL/KG,,TU,,NMOL/KG,,PERCNT,,/MILLE,,/MILLE,,/MILLE,NMOL/KG,,NMOL/KG,PMOL/KG,,TU,NMOL/KG,DEG C,PERCNT
  316N145_7,       I05E,     409,          1,         36,         36,2,19950407,       0954,   -34.0023,    97.4192,       4415,     5.9,  20.1538,  35.8762,2,  35.8757,2,    227.6,2,   228.1,2,    2.44,2,    0.16,2,    0.00,2,    0.15,2,-999.000,9,-999.000,9,  2058.1,2,  -999.0,5,   0.9093,2,-999.0000,9, -999.00,9, -999.00,9,  -999.0,9,  -999.0,-999.000,9,-999.000,-999.000,9,   0.0036,-999.0000,  20.1527,   -9.00
  316N145_7,       I05E,     409,          1,         35,         35,2,19950407,       0954,   -34.0023,    97.4192,       4415,    38.4,  20.1576,  35.8753,2,  35.8743,2,    226.3,2,   228.3,2,    2.38,2,    0.16,2,    0.00,2,    0.15,2,-999.000,9,-999.000,9,  -999.0,9,  -999.0,9,  -9.0000,9,-999.0000,9, -999.00,9, -999.00,9,  -999.0,9,  -999.0,-999.000,9,-999.000,-999.000,9,  -9.0000,-999.0000,  20.1505,   -9.00
  316N145_7,       I05E,     409,          1,         34,         34,2,19950407,       0954,   -34.0023,    97.4192,       4415,    81.3,  16.2526,  35.7037,2,  35.6942,2,    245.4,2,   246.7,2,    2.32,2,    0.11,2,    0.00,2,    0.20,2,-999.000,9,-999.000,9,  -999.0,9,  -999.0,9,   0.9175,2,   1.7488,2,   -1.00,2, -999.00,9,  -999.0,9,  -999.0,   7.204,2,   0.036,-999.000,9,   0.0036,   0.0087,  16.2396,    0.14
  316N145_7,       I05E,     409,          1,         33,         33,2,19950407,       0954,   -34.0023,    97.4192,       4415,   126.7,  14.4962,  35.4989,2,  35.5075,2,    235.6,2,   234.8,2,    2.47,2,    3.04,2,    0.13,2,    0.39,2,-999.000,9,-999.000,9,  -999.0,9,  -999.0,9,   0.8612,2,   1.7588,2,   -0.80,2, -999.00,9,  -999.0,9,  -999.0,   7.288,2,   0.036,-999.000,9,   0.0035,   0.0088,  14.4775,    0.14
  316N145_7,       I05E,     409,          1,         32,         32,2,19950407,       0954,   -34.0023,    97.4192,       4415,   178.9,  13.6867,  35.3881,2,  35.3902,2,    236.1,2,   236.9,2,    2.61,2,    4.79,2,    0.01,2,    0.48,2,-999.000,9,-999.000,9,  -999.0,9,  -999.0,9,   0.8282,2,   1.7694,2,   -0.91,2, -999.00,9,  -999.0,9,  -999.0,   7.346,2,   0.037,-999.000,9,   0.0034,   0.0088,  13.6612,    0.14
  316N145_7,       I05E,     409,          1,         31,         31,2,19950407,       0954,   -34.0023,    97.4192,       4415,   226.1,  12.5487,  35.1967,2,  35.2065,2,    236.6,2,   238.9,2,    2.97,2,    7.17,2,    0.01,2,    0.62,2,-999.000,9,-999.000,9,  -999.0,9,  -999.0,9,  -9.0000,9,-999.0000,9, -999.00,9, -999.00,9,  -999.0,9,  -999.0,-999.000,9,-999.000,-999.000,9,  -9.0000,-999.0000,  12.5182,   -9.00
  316N145_7,       I05E,     409,          1,         30,         30,2,19950407,       0954,   -34.0023,    97.4192,       4415,   278.6,  11.7812,  35.0678,2,  35.0751,2,    242.5,2,   243.7,2,    3.54,2,    8.95,2,    0.01,2,    0.73,2,-999.000,9,-999.000,9,  -999.0,9,  -999.0,9,   0.7062,2,   1.7629,2,   -0.77,2, -999.00,9,  -999.0,9,  -999.0,   7.386,2,   0.037,-999.000,9,   0.0033,   0.0088,  11.7451,    0.14
  316N145_7,       I05E,     409,          1,         29,         29,2,19950407,       0954,   -34.0023,    97.4192,       4415,   327.8,  11.2946,  34.9924,2,  34.9970,2,    242.8,2,   246.0,2,    3.90,2,   10.19,2,    0.01,2,    0.80,2,-999.000,9,-999.000,9,  -999.0,9,  -999.0,9,   0.6714,2,   1.7595,2,   -0.90,2, -999.00,9,  -999.0,9,  -999.0,   7.402,2,   0.037,-999.000,9,   0.0032,   0.0088,  11.2533,    0.14
  316N145_7,       I05E,     409,          1,         28,         28,2,19950407,       0954,   -34.0023,    97.4192,       4415,   388.4,  10.8791,  34.9355,2,  34.9375,2,    241.5,2,   243.2,2,    4.05,2,   11.32,2,    0.01,2,    0.87,2,-999.000,9,-999.000,9,  -999.0,9,  -999.0,9,   0.6332,2,   1.7793,2,   -0.48,2, -999.00,9,  -999.0,9,  -999.0,   7.494,2,   0.037,-999.000,9,   0.0031,   0.0089,  10.8311,    0.14
  316N145_7,       I05E,     409,          1,         27,         27,2,19950407,       0954,   -34.0023,    97.4192,       4415,   458.4,  10.3404,  34.8467,2,  34.8468,2,    241.8,2,   243.2,2,    4.40,2,   12.91,2,    0.01,2,    0.96,2,-999.000,9,-999.000,9,  -999.0,9,  -999.0,9,   0.5815,2,   1.7705,2,   -0.04,2, -999.00,9,  -999.0,9,  -999.0,   7.485,2,   0.037,-999.000,9,   0.0030,   0.0089,  10.2855,    0.14
  316N145_7,       I05E,     409,          1,         26,         26,2,19950407,       0954,   -34.0023,    97.4192,       4415,   527.2,   9.9092,  34.7713,2,  34.7764,2,    244.1,2,   245.8,2,    4.76,2,   13.95,2,    0.00,2,    1.02,2,-999.000,9,-999.000,9,  -999.0,9,  -999.0,9,   0.5584,2,   1.7618,2,   -0.22,2, -999.00,9,  -999.0,9,  -999.0,   7.446,2,   0.037,-999.000,9,   0.0030,   0.0088,   9.8475,    0.14
  316N145_7,       I05E,     409,          1,         25,         25,2,19950407,       0954,   -34.0023,    97.4192,       4415,   608.0,   9.4890,  34.7085,2,  34.7092,2,    240.2,2,   239.4,2,    5.54,2,   15.83,2,    0.00,2,    1.14,2,-999.000,9,-999.000,9,  -999.0,9,  -999.0,9,   0.4911,2,   1.7695,2,   -0.14,2, -999.00,9,  -999.0,9,  -999.0,   7.480,2,   0.037,-999.000,9,   0.0029,   0.0088,   9.4195,    0.14
  316N145_7,       I05E,     409,          1,         24,         24,2,19950407,       0954,   -34.0023,    97.4192,       4415,   710.8,   8.7246,  34.6137,2,  34.6198,2,    228.0,2,   226.4,2,    7.80,2,   19.00,2,    0.00,2,    1.33,2,-999.000,9,-999.000,9,  -999.0,9,  -999.0,9,  -9.0000,9,-999.0000,9, -999.00,9, -999.00,9,  -999.0,9,  -999.0,-999.000,9,-999.000,-999.000,9,  -9.0000,-999.0000,   8.6469,   -9.00
  316N145_7,       I05E,     409,          1,         23,         23,2,19950407,       0954,   -34.0023,    97.4192,       4415,   813.6,   7.4880,  34.5011,2,  34.6196,4,    206.1,2,   204.7,2,   14.26,2,   23.96,2,    0.00,2,    1.65,2,-999.000,9,-999.000,9,  -999.0,9,  -999.0,9,   0.2208,2,   1.7819,2,    1.39,2, -999.00,9,  -999.0,9,  -999.0,   7.626,2,   0.038,-999.000,9,   0.0025,   0.0089,   7.4061,    0.14
  316N145_7,       I05E,     409,          1,         22,         22,2,19950407,       0954,   -34.0023,    97.4192,       4415,   911.7,   6.0617,  34.4212,2,  34.4242,2,    197.9,2,   196.4,2,   23.47,2,   27.85,2,    0.00,2,    1.91,2,-999.000,9,-999.000,9,  -999.0,9,  -999.0,9,  -9.0000,9,-999.0000,9, -999.00,9, -999.00,9,  -999.0,9,  -999.0,-999.000,9,-999.000,-999.000,9,  -9.0000,-999.0000,   5.9791,   -9.00
  316N145_7,       I05E,     409,          1,         21,         21,2,19950407,       0954,   -34.0023,    97.4192,       4415,  1011.2,   4.9332,  34.3881,2,  34.3894,2,    190.7,2,   192.4,2,   33.94,2,   30.44,2,    0.00,2,    2.10,2,-999.000,9,-999.000,9,  -999.0,9,  -999.0,9,  -9.0000,9,   1.8086,2,    4.25,2, -999.00,9,  -999.0,9,  -999.0,   7.792,2,   0.039,-999.000,9,  -9.0000,   0.0090,   4.8496,    0.14
  316N145_7,       I05E,     409,          1,         20,         20,2,19950407,       0954,   -34.0023,    97.4192,       4415,  1113.9,   4.1639,  34.4087,2,  34.4079,2,    182.0,2,   180.6,2,   47.15,2,   32.50,2,    0.00,2,    2.26,2,-999.000,9,-999.000,9,  -999.0,9,  -999.0,9,  -9.0000,9,-999.0000,9, -999.00,9, -999.00,9,  -999.0,9,  -999.0,-999.000,9,-999.000,-999.000,9,  -9.0000,-999.0000,   4.0774,   -9.00
  316N145_7,       I05E,     409,          1,         19,         19,2,19950407,       0954,   -34.0023,    97.4192,       4415,  1212.9,   3.7978,  34.4480,2,  34.4465,2,    169.7,2,   169.6,2,   57.63,2,   33.70,2,    0.00,2,    2.36,2,-999.000,9,-999.000,9,  -999.0,9,  -999.0,9,   0.0217,2,   1.8698,2,    7.33,2, -999.00,9,  -999.0,9,  -999.0,   8.042,2,   0.040,-999.000,9,   0.0022,   0.0093,   3.7061,    0.14
  316N145_7,       I05E,     409,          1,         18,         18,2,19950407,       0954,   -34.0023,    97.4192,       4415,  1364.3,   3.3982,  34.5221,2,  34.5203,2,    158.5,2,   155.5,2,   71.70,2,   34.75,2,    0.00,2,    2.44,2,-999.000,9,-999.000,9,  -999.0,9,  -999.0,9,  -9.0000,9,-999.0000,9, -999.00,9, -999.00,9,  -999.0,9,  -999.0,-999.000,9,-999.000,-999.000,9,  -9.0000,-999.0000,   3.2975,   -9.00
  316N145_7,       I05E,     409,          1,         17,         17,2,19950407,       0954,   -34.0023,    97.4192,       4415,  1516.5,   3.1002,  34.5711,2,  34.5710,2,    154.8,2,   155.0,2,   78.39,2,   34.70,2,    0.00,2,    2.44,2,-999.000,9,-999.000,9,  -999.0,9,  -999.0,9,   0.0033,2,   1.8669,2,   10.19,2, -999.00,9,  -999.0,9,  -999.0,   8.009,2,   0.040,-999.000,9,   0.0022,   0.0093,   2.9899,    0.14
  316N145_7,       I05E,     409,          1,         16,         16,2,19950407,       0954,   -34.0023,    97.4192,       4415,  1668.2,   2.8509,  34.6222,2,  34.6221,2,    157.2,2,   156.2,2,   84.25,2,   34.35,2,    0.00,2,    2.41,2,-999.000,9,-999.000,9,  -999.0,9,  -999.0,9,   0.0012,2,   1.8742,2,   10.71,2, -999.00,9,  -999.0,9,  -999.0,   8.050,2,   0.040,-999.000,9,   0.0022,   0.0094,   2.7306,    0.14
  316N145_7,       I05E,     409,          1,         15,         15,2,19950407,       0954,   -34.0023,    97.4192,       4415,  1818.2,   2.6509,  34.6563,2,  34.6572,2,    162.9,2,   163.2,2,   86.08,2,   33.64,2,    0.00,2,    2.36,2,-999.000,9,-999.000,9,  -999.0,9,  -999.0,9,  -9.0000,9,-999.0000,9, -999.00,9, -999.00,9,  -999.0,9,  -999.0,-999.000,9,-999.000,-999.000,9,  -9.0000,-999.0000,   2.5204,   -9.00
  316N145_7,       I05E,     409,          1,         14,         14,2,19950407,       0954,   -34.0023,    97.4192,       4415,  1970.7,   2.4940,  34.6863,2,  34.6855,2,    168.8,2,   168.8,2,   87.71,2,   33.04,2,    0.00,2,    2.30,2,-999.000,9,-999.000,9,  -999.0,9,  -999.0,9,   0.0014,2,   1.8418,2,   11.63,2, -999.00,9,  -999.0,9,  -999.0,   7.921,2,   0.040,-999.000,9,   0.0022,   0.0092,   2.3525,    0.14
  316N145_7,       I05E,     409,          1,         13,         13,2,19950407,       0954,   -34.0023,    97.4192,       4415,  2122.8,   2.3508,  34.7097,2,  34.7093,2,    173.3,2,   175.4,2,   88.69,2,   32.29,2,    0.00,2,    2.25,2,-999.000,9,-999.000,9,  -999.0,9,  -999.0,9,  -9.0000,9,-999.0000,9, -999.00,9, -999.00,9,  -999.0,9,  -999.0,-999.000,9,-999.000,-999.000,9,  -9.0000,-999.0000,   2.1980,   -9.00
  316N145_7,       I05E,     409,          1,         12,         12,2,19950407,       0954,   -34.0023,    97.4192,       4415,  2301.0,   2.1753,  34.7299,2,  34.7301,2,    183.7,2,   183.5,2,   89.68,2,   31.54,2,    0.00,2,    2.18,2,-999.000,9,-999.000,9,  -999.0,9,  -999.0,9,  -9.0000,9,-999.0000,9, -999.00,9, -999.00,9,  -999.0,9,  -999.0,-999.000,9,-999.000,-999.000,9,  -9.0000,-999.0000,   2.0095,   -9.00
  316N145_7,       I05E,     409,          1,         11,         11,2,19950407,       0954,   -34.0023,    97.4192,       4415,  2478.4,   2.0034,  34.7409,2,  34.7415,2,    189.7,2,   189.7,2,   91.95,2,   31.09,2,    0.00,2,    2.15,2,-999.000,9,-999.000,9,  -999.0,9,  -999.0,9,  -9.0000,9,-999.0000,9, -999.00,9, -999.00,9,  -999.0,9,  -999.0,-999.000,9,-999.000,-999.000,9,  -9.0000,-999.0000,   1.8247,   -9.00
  316N145_7,       I05E,     409,          1,         10,         10,2,19950407,       0954,   -34.0023,    97.4192,       4415,  2684.5,   1.8171,  34.7432,2,  34.7438,2,    193.2,2,   195.1,2,   95.91,2,   30.99,2,    0.00,2,    2.14,2,-999.000,9,-999.000,9,  -999.0,9,  -999.0,9,  -9.0000,9,-999.0000,9, -999.00,9, -999.00,9,  -999.0,9,  -999.0,-999.000,9,-999.000,-999.000,9,  -9.0000,-999.0000,   1.6230,   -9.00
  316N145_7,       I05E,     409,          1,          9,          9,2,19950407,       0954,   -34.0023,    97.4192,       4415,  2884.7,   1.6043,  34.7395,2,  34.7330,4,    198.1,2,   197.5,2,  101.37,2,   31.09,2,    0.00,2,    2.14,2,-999.000,9,-999.000,9,  -999.0,9,  -999.0,9,  -9.0000,9,-999.0000,9, -999.00,9, -999.00,9,  -999.0,9,  -999.0,-999.000,9,-999.000,-999.000,9,  -9.0000,-999.0000,   1.3959,   -9.00
  316N145_7,       I05E,     409,          1,          8,          8,2,19950407,       0954,   -34.0023,    97.4192,       4415,  3090.0,   1.4045,  34.7331,2,  34.7332,2,    200.3,2,   200.8,2,  106.85,2,   31.39,2,    0.00,2,    2.16,2,-999.000,9,-999.000,9,  -999.0,9,  -999.0,9,  -9.0000,9,-999.0000,9, -999.00,9, -999.00,9,  -999.0,9,  -999.0,-999.000,9,-999.000,-999.000,9,  -9.0000,-999.0000,   1.1810,   -9.00
  316N145_7,       I05E,     409,          1,          7,          7,2,19950407,       0954,   -34.0023,    97.4192,       4415,  3292.6,   1.2301,  34.7258,2,  34.7259,2,    202.8,2,   203.1,2,  112.13,2,   31.59,2,    0.00,2,    2.18,2,-999.000,9,-999.000,9,  -999.0,9,  -999.0,9,  -9.0000,9,-999.0000,9, -999.00,9, -999.00,9,  -999.0,9,  -999.0,-999.000,9,-999.000,-999.000,9,  -9.0000,-999.0000,   0.9911,   -9.00
  316N145_7,       I05E,     409,          1,          6,          6,2,19950407,       0954,   -34.0023,    97.4192,       4415,  3494.8,   1.1129,  34.7201,2,  34.7196,2,    203.7,2,   204.5,2,  115.93,2,   31.89,2,    0.00,2,    2.21,2,-999.000,9,-999.000,9,  -999.0,9,  -999.0,9,  -9.0000,9,-999.0000,9, -999.00,9, -999.00,9,  -999.0,9,  -999.0,-999.000,9,-999.000,-999.000,9,  -9.0000,-999.0000,   0.8568,   -9.00
  316N145_7,       I05E,     409,          1,          5,          5,2,19950407,       0954,   -34.0023,    97.4192,       4415,  3698.5,   1.0553,  34.7161,2,  34.7159,2,    203.8,2,   204.4,2,  118.00,2,   32.04,2,    0.00,2,    2.21,2,-999.000,9,-999.000,9,  -999.0,9,  -999.0,9,  -9.0000,9,-999.0000,9, -999.00,9, -999.00,9,  -999.0,9,  -999.0,-999.000,9,-999.000,-999.000,9,  -9.0000,-999.0000,   0.7802,   -9.00
  316N145_7,       I05E,     409,          1,          4,          4,2,19950407,       0954,   -34.0023,    97.4192,       4415,  3905.0,   1.0328,  34.7143,2,  34.7141,2,    205.2,2,   205.6,2,  119.01,2,   32.10,2,    0.00,2,    2.21,2,-999.000,9,-999.000,9,  -999.0,9,  -999.0,9,  -9.0000,9,-999.0000,9, -999.00,9, -999.00,9,  -999.0,9,  -999.0,-999.000,9,-999.000,-999.000,9,  -9.0000,-999.0000,   0.7370,   -9.00
  316N145_7,       I05E,     409,          1,          3,          3,2,19950407,       0954,   -34.0023,    97.4192,       4415,  4110.1,   0.9991,  34.7118,2,  34.7115,2,    206.6,2,   205.9,2,  120.44,2,   32.15,2,    0.00,2,    2.22,2,-999.000,9,-999.000,9,  -999.0,9,  -999.0,9,  -9.0000,9,-999.0000,9, -999.00,9, -999.00,9,  -999.0,9,  -999.0,-999.000,9,-999.000,-999.000,9,  -9.0000,-999.0000,   0.6824,   -9.00
  316N145_7,       I05E,     409,          1,          2,          2,2,19950407,       0954,   -34.0023,    97.4192,       4415,  4316.6,   0.9996,  34.7106,2,  34.7097,2,    206.9,2,   206.5,2,  120.80,2,   32.20,2,    0.00,2,    2.22,2,-999.000,9,-999.000,9,  -999.0,9,  -999.0,9,  -9.0000,9,-999.0000,9, -999.00,9, -999.00,9,  -999.0,9,  -999.0,-999.000,9,-999.000,-999.000,9,  -9.0000,-999.0000,   0.6604,   -9.00
  316N145_7,       I05E,     409,          1,          1,          1,2,19950407,       0954,   -34.0023,    97.4192,       4415,  4513.6,   0.9993,  34.7097,2,  34.7095,2,    207.6,2,   207.0,2,  121.16,2,   32.20,2,    0.00,2,    2.22,2,-999.000,9,-999.000,9,  -999.0,9,  -999.0,9,  -9.0000,9,-999.0000,9, -999.00,9, -999.00,9,  -999.0,9,  -999.0,-999.000,9,-999.000,-999.000,9,  -9.0000,-999.0000,   0.6382,   -9.00