BOTTLE,20211124CCHSIORKP
EXPOCODE,SECT_ID,STNNBR,CASTNO,SAMPNO,BTLNBR,BTLNBR_FLAG_W,DATE,TIME,LATITUDE,LONGITUDE,DEPTH,CTDPRS,CTDTMP,CTDSAL,CTDSAL_FLAG_W,SALNTY,SALNTY_FLAG_W,CTDOXY,CTDOXY_FLAG_W,OXYGEN,OXYGEN_FLAG_W,SILCAT,SILCAT_FLAG_W,NITRAT,NITRAT_FLAG_W,NITRIT,NITRIT_FLAG_W,PHSPHT,PHSPHT_FLAG_W,CFC-11,CFC-11_FLAG_W,CFC-12,CFC-12_FLAG_W,TCARBN,TCARBN_FLAG_W,ALKALI,ALKALI_FLAG_W,TRITUM,TRITUM_FLAG_W,HELIUM,HELIUM_FLAG_W,DELHE3,DELHE3_FLAG_W,DELC13,DELC13_FLAG_W,DELC14,DELC14_FLAG_W,C14ERR,NEON,NEON_FLAG_W,NEONER,CCL4,CCL4_FLAG_W,TRITER,HELIER,THETA,DELHER
,,,,,,,,,,,METERS,DBAR,ITS-90,PSS-78,,PSS-78,,UMOL/KG,,UMOL/KG,,UMOL/KG,,UMOL/KG,,UMOL/KG,,UMOL/KG,,PMOL/KG,,PMOL/KG,,UMOL/KG,,UMOL/KG,,TU,,NMOL/KG,,PERCNT,,/MILLE,,/MILLE,,/MILLE,NMOL/KG,,NMOL/KG,PMOL/KG,,TU,NMOL/KG,DEG C,PERCNT
  316N145_7,       I05E,     415,          1,         28,         28,2,19950408,       1957,   -32.5652,   100.4403,       2890,     3.0,  19.7348,  36.0375,2,  36.0360,2,    228.3,2,   228.6,2,    2.37,2,    0.14,2,    0.00,2,    0.13,2,-999.000,9,-999.000,9,  2064.2,2,  2389.6,2,   1.0039,2,   1.7219,2,   -1.16,2, -999.00,9,  -999.0,9,  -999.0,   6.967,2,   0.035,-999.000,9,   0.0039,   0.0086,  19.7343,    0.14
  316N145_7,       I05E,     415,          1,         27,         27,2,19950408,       1957,   -32.5652,   100.4403,       2890,    38.0,  19.7409,  36.0377,2,  36.0370,2,    225.1,2,   228.7,2,    2.14,2,    0.14,2,    0.00,2,    0.13,2,-999.000,9,-999.000,9,  -999.0,9,  -999.0,9,  -9.0000,9,-999.0000,9, -999.00,9, -999.00,9,  -999.0,9,  -999.0,-999.000,9,-999.000,-999.000,9,  -9.0000,-999.0000,  19.7339,   -9.00
  316N145_7,       I05E,     415,          1,         26,         26,2,19950408,       1957,   -32.5652,   100.4403,       2890,    68.7,  19.5072,  35.9958,2,  35.9698,2,    239.0,2,   232.8,2,    2.12,2,    0.14,2,    0.00,2,    0.14,2,-999.000,9,-999.000,9,  -999.0,9,  -999.0,9,   0.9765,2,   1.7343,2,   -1.28,2, -999.00,9,  -999.0,9,  -999.0,   7.032,2,   0.035,-999.000,9,   0.0038,   0.0087,  19.4947,    0.14
  316N145_7,       I05E,     415,          1,         25,         25,2,19950408,       1957,   -32.5652,   100.4403,       2890,    99.0,  15.8066,  35.6785,2,  35.6743,2,    244.9,2,   241.5,2,    2.10,2,    0.54,2,    0.09,2,    0.23,2,-999.000,9,-999.000,9,  -999.0,9,  -999.0,9,   0.9371,2,   1.7458,2,   -1.34,2, -999.00,9,  -999.0,9,  -999.0,   7.199,2,   0.036,-999.000,9,   0.0037,   0.0087,  15.7910,    0.14
  316N145_7,       I05E,     415,          1,         24,         24,2,19950408,       1957,   -32.5652,   100.4403,       2890,   137.9,  14.2358,  35.4793,2,  35.4831,2,    232.5,2,   235.8,2,    2.29,2,    3.52,2,    0.04,2,    0.41,2,-999.000,9,-999.000,9,  -999.0,9,  -999.0,9,   0.8453,2,   1.7638,2,   -1.33,2, -999.00,9,  -999.0,9,  -999.0,   7.306,2,   0.037,-999.000,9,   0.0035,   0.0088,  14.2156,    0.14
  316N145_7,       I05E,     415,          1,         23,         23,2,19950408,       1957,   -32.5652,   100.4403,       2890,   178.2,  13.4799,  35.3640,2,  35.3626,2,    237.2,2,   238.5,2,    2.27,2,    4.74,2,    0.01,2,    0.48,2,-999.000,9,-999.000,9,  -999.0,9,  -999.0,9,   0.7950,2,   1.7590,2,   -0.92,2, -999.00,9,  -999.0,9,  -999.0,   7.328,2,   0.037,-999.000,9,   0.0034,   0.0088,  13.4547,    0.14
  316N145_7,       I05E,     415,          1,         22,         22,2,19950408,       1957,   -32.5652,   100.4403,       2890,   228.3,  12.4574,  35.2009,2,  35.2012,2,    240.7,2,   240.1,2,    2.67,2,    6.87,2,    0.01,2,    0.61,2,-999.000,9,-999.000,9,  -999.0,9,  -999.0,9,  -9.0000,9,-999.0000,9, -999.00,9, -999.00,9,  -999.0,9,  -999.0,-999.000,9,-999.000,-999.000,9,  -9.0000,-999.0000,  12.4268,   -9.00
  316N145_7,       I05E,     415,          1,         21,         21,2,19950408,       1957,   -32.5652,   100.4403,       2890,   279.2,  11.6487,  35.0668,2,  35.0648,2,    241.7,2,   243.1,2,    2.86,2,    8.66,2,    0.01,2,    0.72,2,-999.000,9,-999.000,9,  -999.0,9,  -999.0,9,   0.6659,2,   1.7581,2,   -1.07,2, -999.00,9,  -999.0,9,  -999.0,   7.395,2,   0.037,-999.000,9,   0.0032,   0.0088,  11.6128,    0.14
  316N145_7,       I05E,     415,          1,         20,         20,2,19950408,       1957,   -32.5652,   100.4403,       2890,   329.7,  10.9837,  34.9513,2,  34.9494,2,    242.7,2,   244.6,2,    3.48,2,   10.50,2,    0.01,2,    0.83,2,-999.000,9,-999.000,9,  -999.0,9,  -999.0,9,   0.6183,2,   1.7453,2,   -0.50,2, -999.00,9,  -999.0,9,  -999.0,   7.400,2,   0.037,-999.000,9,   0.0031,   0.0087,  10.9428,    0.14
  316N145_7,       I05E,     415,          1,         19,         19,2,19950408,       1957,   -32.5652,   100.4403,       2890,   379.1,  10.4150,  34.8558,2,  34.8576,2,    244.8,2,   245.5,2,    3.88,2,   12.05,2,    0.01,2,    0.92,2,-999.000,9,-999.000,9,  -999.0,9,  -999.0,9,  -9.0000,9,-999.0000,9, -999.00,9, -999.00,9,  -999.0,9,  -999.0,-999.000,9,-999.000,-999.000,9,  -9.0000,-999.0000,  10.3696,   -9.00
  316N145_7,       I05E,     415,          1,         18,         18,2,19950408,       1957,   -32.5652,   100.4403,       2890,   430.0,   9.9766,  34.7843,2,  34.7852,2,    244.9,2,   245.1,2,    4.28,2,   13.44,2,    0.00,2,    1.00,2,-999.000,9,-999.000,9,  -999.0,9,  -999.0,9,  -9.0000,9,   1.7907,2,   -0.58,2, -999.00,9,  -999.0,9,  -999.0,   7.588,2,   0.038,-999.000,9,  -9.0000,   0.0090,   9.9263,    0.14
  316N145_7,       I05E,     415,          1,         17,         17,2,19950408,       1957,   -32.5652,   100.4403,       2890,   510.1,   9.4976,  34.7103,2,  34.7072,2,    247.1,2,   241.8,2,    5.10,2,   15.48,2,    0.00,2,    1.12,2,-999.000,9,-999.000,9,  -999.0,9,  -999.0,9,   0.4937,2,   1.7568,2,   -0.21,2, -999.00,9,  -999.0,9,  -999.0,   7.495,2,   0.037,-999.000,9,   0.0029,   0.0088,   9.4395,    0.14
  316N145_7,       I05E,     415,          1,         16,         16,2,19950408,       1957,   -32.5652,   100.4403,       2890,   610.0,   8.8193,  34.6200,2,  34.6138,2,    233.3,2,   231.5,2,    6.98,2,   18.62,2,    0.00,2,    1.31,2,-999.000,9,-999.000,9,  -999.0,9,  -999.0,9,   0.3940,2,   1.8045,2,    0.37,2, -999.00,9,  -999.0,9,  -999.0,   7.662,2,   0.038,-999.000,9,   0.0028,   0.0090,   8.7526,    0.14
  316N145_7,       I05E,     415,          1,         15,         15,2,19950408,       1957,   -32.5652,   100.4403,       2890,   710.2,   7.8357,  34.5307,2,  34.5288,2,    208.3,2,   208.9,2,   12.45,2,   22.86,2,    0.00,2,    1.58,2,-999.000,9,-999.000,9,  -999.0,9,  -999.0,9,  -9.0000,9,-999.0000,9, -999.00,9, -999.00,9,  -999.0,9,  -999.0,-999.000,9,-999.000,-999.000,9,  -9.0000,-999.0000,   7.7628,   -9.00
  316N145_7,       I05E,     415,          1,         14,         14,2,19950408,       1957,   -32.5652,   100.4403,       2890,   811.3,   6.0934,  34.4253,2,  34.4233,2,    197.9,2,   196.8,2,   23.61,2,   27.82,2,    0.00,2,    1.92,2,-999.000,9,-999.000,9,  -999.0,9,  -999.0,9,   0.1149,2,   1.8131,2,    2.68,2, -999.00,9,  -999.0,9,  -999.0,   7.810,2,   0.039,-999.000,9,   0.0023,   0.0091,   6.0203,    0.14
  316N145_7,       I05E,     415,          1,         13,         13,2,19950408,       1957,   -32.5652,   100.4403,       2890,   911.9,   4.8008,  34.3693,2,  34.3704,2,    197.2,2,   199.5,2,   32.24,2,   30.28,2,    0.00,2,    2.09,2,-999.000,9,-999.000,9,  -999.0,9,  -999.0,9,  -9.0000,9,-999.0000,9, -999.00,9, -999.00,9,  -999.0,9,  -999.0,-999.000,9,-999.000,-999.000,9,  -9.0000,-999.0000,   4.7270,   -9.00
  316N145_7,       I05E,     415,          1,         12,         12,2,19950408,       1957,   -32.5652,   100.4403,       2890,  1012.5,   4.0614,  34.3800,2,  34.3817,2,    188.5,2,   191.3,2,   43.19,2,   32.05,2,    0.00,2,    2.23,2,-999.000,9,-999.000,9,  -999.0,9,  -999.0,9,   0.0493,2,   1.8224,2,    4.59,2, -999.00,9,  -999.0,9,  -999.0,   7.884,2,   0.039,-999.000,9,   0.0023,   0.0091,   3.9845,    0.14
  316N145_7,       I05E,     415,          1,         11,         11,2,19950408,       1957,   -32.5652,   100.4403,       2890,  1163.6,   3.6115,  34.4668,2,  34.4685,2,    165.6,2,   166.2,2,   62.38,2,   34.06,2,    0.00,2,    2.40,2,-999.000,9,-999.000,9,  -999.0,9,  -999.0,9,   0.0156,2,   1.8603,2,    7.83,2, -999.00,9,  -999.0,9,  -999.0,   8.017,2,   0.040,-999.000,9,   0.0022,   0.0093,   3.5256,    0.14
  316N145_7,       I05E,     415,          1,         10,         10,2,19950408,       1957,   -32.5652,   100.4403,       2890,  1313.3,   3.3235,  34.5333,2,  34.5339,2,    154.0,2,   154.1,2,   73.98,2,   34.77,2,    0.00,2,    2.46,2,-999.000,9,-999.000,9,  -999.0,9,  -999.0,9,  -9.0000,9,-999.0000,9, -999.00,9, -999.00,9,  -999.0,9,  -999.0,-999.000,9,-999.000,-999.000,9,  -9.0000,-999.0000,   3.2278,   -9.00
  316N145_7,       I05E,     415,          1,          9,          9,2,19950408,       1957,   -32.5652,   100.4403,       2890,  1465.0,   3.0512,  34.5926,2,  34.5922,2,    152.6,2,   152.4,2,   82.43,2,   34.78,2,    0.00,2,    2.46,2,-999.000,9,-999.000,9,  -999.0,9,  -999.0,9,   0.0029,2,   1.8663,2,   10.28,2, -999.00,9,  -999.0,9,  -999.0,   8.018,2,   0.040,-999.000,9,   0.0022,   0.0093,   2.9456,    0.14
  316N145_7,       I05E,     415,          1,          8,          8,2,19950408,       1957,   -32.5652,   100.4403,       2890,  1615.5,   2.8044,  34.6348,2,  34.6354,2,    155.5,2,   155.7,2,   86.86,2,   34.32,2,    0.00,2,    2.42,2,-999.000,9,-999.000,9,  -999.0,9,  -999.0,9,   0.0023,2,   1.8981,2,   10.96,2, -999.00,9,  -999.0,9,  -999.0,   8.135,2,   0.041,-999.000,9,   0.0022,   0.0095,   2.6891,    0.14
  316N145_7,       I05E,     415,          1,          7,          7,2,19950408,       1957,   -32.5652,   100.4403,       2890,  1766.7,   2.6080,  34.6730,2,  34.6732,2,    159.6,2,   159.1,2,   92.36,2,   33.87,2,    0.00,2,    2.38,2,-999.000,9,-999.000,9,  -999.0,9,  -999.0,9,  -9.0000,9,-999.0000,9, -999.00,9, -999.00,9,  -999.0,9,  -999.0,-999.000,9,-999.000,-999.000,9,  -9.0000,-999.0000,   2.4823,   -9.00
  316N145_7,       I05E,     415,          1,          6,          6,2,19950408,       1957,   -32.5652,   100.4403,       2890,  1918.7,   2.4412,  34.6964,2,  34.6967,2,    165.8,2,   166.9,2,   92.97,2,   33.17,2,    0.00,2,    2.32,2,-999.000,9,-999.000,9,  -999.0,9,  -999.0,9,   0.0000,2,   1.7893,2,   12.32,2, -999.00,9,  -999.0,9,  -999.0,   7.603,2,   0.038,-999.000,9,   0.0022,   0.0089,   2.3049,    0.14
  316N145_7,       I05E,     415,          1,          5,          5,2,19950408,       1957,   -32.5652,   100.4403,       2890,  2122.3,   2.2754,  34.7172,2,  34.7178,2,    173.4,2,   174.7,2,   92.94,2,   32.31,2,    0.00,2,    2.25,2,-999.000,9,-999.000,9,  -999.0,9,  -999.0,9,  -9.0000,9,-999.0000,9, -999.00,9, -999.00,9,  -999.0,9,  -999.0,-999.000,9,-999.000,-999.000,9,  -9.0000,-999.0000,   2.1239,   -9.00
  316N145_7,       I05E,     415,          1,          4,          4,2,19950408,       1957,   -32.5652,   100.4403,       2890,  2323.5,   2.1217,  34.7334,2,  34.7329,2,    185.7,2,   185.5,2,   90.58,2,   31.36,2,    0.00,2,    2.17,2,-999.000,9,-999.000,9,  -999.0,9,  -999.0,9,  -9.0000,9,-999.0000,9, -999.00,9, -999.00,9,  -999.0,9,  -999.0,-999.000,9,-999.000,-999.000,9,  -9.0000,-999.0000,   1.9548,   -9.00
  316N145_7,       I05E,     415,          1,          3,          3,2,19950408,       1957,   -32.5652,   100.4403,       2890,  2525.1,   1.9217,  34.7420,2,  34.7419,2,    190.8,2,   191.3,2,   93.53,2,   30.96,2,    0.00,2,    2.15,2,-999.000,9,-999.000,9,  -999.0,9,  -999.0,9,  -9.0000,9,-999.0000,9, -999.00,9, -999.00,9,  -999.0,9,  -999.0,-999.000,9,-999.000,-999.000,9,  -9.0000,-999.0000,   1.7402,   -9.00
  316N145_7,       I05E,     415,          1,          2,          2,2,19950408,       1957,   -32.5652,   100.4403,       2890,  2728.7,   1.7262,  34.7418,2,  34.7425,2,    194.2,2,   195.3,2,   99.04,2,   31.11,2,    0.00,2,    2.15,2,-999.000,9,-999.000,9,  -999.0,9,  -999.0,9,  -9.0000,9,-999.0000,9, -999.00,9, -999.00,9,  -999.0,9,  -999.0,-999.000,9,-999.000,-999.000,9,  -9.0000,-999.0000,   1.5298,   -9.00
  316N145_7,       I05E,     415,          1,          1,          1,2,19950408,       1957,   -32.5652,   100.4403,       2890,  3095.6,   1.4132,  34.7324,2,  34.7327,2,    199.7,2,   199.9,2,  107.56,2,   31.42,2,    0.00,2,    2.18,2,-999.000,9,-999.000,9,  -999.0,9,  -999.0,9,  -9.0000,9,-999.0000,9, -999.00,9, -999.00,9,  -999.0,9,  -999.0,-999.000,9,-999.000,-999.000,9,  -9.0000,-999.0000,   1.1890,   -9.00