BOTTLE,20211124CCHSIORKP
EXPOCODE,SECT_ID,STNNBR,CASTNO,SAMPNO,BTLNBR,BTLNBR_FLAG_W,DATE,TIME,LATITUDE,LONGITUDE,DEPTH,CTDPRS,CTDTMP,CTDSAL,CTDSAL_FLAG_W,SALNTY,SALNTY_FLAG_W,CTDOXY,CTDOXY_FLAG_W,OXYGEN,OXYGEN_FLAG_W,SILCAT,SILCAT_FLAG_W,NITRAT,NITRAT_FLAG_W,NITRIT,NITRIT_FLAG_W,PHSPHT,PHSPHT_FLAG_W,CFC-11,CFC-11_FLAG_W,CFC-12,CFC-12_FLAG_W,TCARBN,TCARBN_FLAG_W,ALKALI,ALKALI_FLAG_W,TRITUM,TRITUM_FLAG_W,HELIUM,HELIUM_FLAG_W,DELHE3,DELHE3_FLAG_W,DELC13,DELC13_FLAG_W,DELC14,DELC14_FLAG_W,C14ERR,NEON,NEON_FLAG_W,NEONER,CCL4,CCL4_FLAG_W,TRITER,HELIER,THETA,DELHER
,,,,,,,,,,,METERS,DBAR,ITS-90,PSS-78,,PSS-78,,UMOL/KG,,UMOL/KG,,UMOL/KG,,UMOL/KG,,UMOL/KG,,UMOL/KG,,PMOL/KG,,PMOL/KG,,UMOL/KG,,UMOL/KG,,TU,,NMOL/KG,,PERCNT,,/MILLE,,/MILLE,,/MILLE,NMOL/KG,,NMOL/KG,PMOL/KG,,TU,NMOL/KG,DEG C,PERCNT
  316N145_7,       I05E,     434,          1,         36,         36,2,19950413,       1227,   -32.2667,   112.8835,       4773,     2.7,  22.7425,  36.0287,2,  36.0274,2,    215.2,2,   216.9,2,    3.55,2,    0.10,2,    0.00,2,    0.06,2,   2.067,2,   1.141,2,  2031.4,2,  2393.4,3,  -9.0000,9,-999.0000,9, -999.00,9, -999.00,9,  -999.0,9,  -999.0,-999.000,9,-999.000,-999.000,9,  -9.0000,-999.0000,  22.7419,   -9.00
  316N145_7,       I05E,     434,          1,         35,         35,2,19950413,       1227,   -32.2667,   112.8835,       4773,    42.6,  22.3711,  36.0468,2,  36.0353,2,    218.8,2,   219.5,2,    3.31,2,    0.05,2,    0.00,2,    0.06,2,-999.000,9,-999.000,9,  2035.1,2,  2360.6,2,  -9.0000,9,-999.0000,9, -999.00,9, -999.00,9,  -999.0,9,  -999.0,-999.000,9,-999.000,-999.000,9,  -9.0000,-999.0000,  22.3626,   -9.00
  316N145_7,       I05E,     434,          1,         34,         34,2,19950413,       1227,   -32.2667,   112.8835,       4773,    72.4,  19.3685,  35.9590,2,  35.9552,2,    239.1,2,   235.2,2,    2.86,2,    0.05,2,    0.00,2,    0.11,2,   2.494,2,   1.350,2,  2057.1,2,  2379.2,3,  -9.0000,9,-999.0000,9, -999.00,9, -999.00,9,  -999.0,9,  -999.0,-999.000,9,-999.000,-999.000,9,  -9.0000,-999.0000,  19.3553,   -9.00
  316N145_7,       I05E,     434,          1,         33,         33,2,19950413,       1227,   -32.2667,   112.8835,       4773,   113.2,  16.4928,  35.7477,2,  35.7527,2,    238.0,2,   234.5,2,    2.63,2,    0.68,2,    0.05,2,    0.22,2,   2.741,2,   1.473,2,  2072.7,2,  2348.6,2,  -9.0000,9,-999.0000,9, -999.00,9, -999.00,9,  -999.0,9,  -999.0,-999.000,9,-999.000,-999.000,9,  -9.0000,-999.0000,  16.4745,   -9.00
  316N145_7,       I05E,     434,          1,         32,         32,2,19950413,       1227,   -32.2667,   112.8835,       4773,   162.6,  14.4494,  35.4824,2,  35.4729,2,    234.2,2,   234.4,2,    2.39,2,    3.17,2,    0.02,2,    0.39,2,   2.977,2,   1.583,2,  2086.2,2,  2331.9,2,  -9.0000,9,-999.0000,9, -999.00,9, -999.00,9,  -999.0,9,  -999.0,-999.000,9,-999.000,-999.000,9,  -9.0000,-999.0000,  14.4254,   -9.00
  316N145_7,       I05E,     434,          1,         31,         31,2,19950413,       1227,   -32.2667,   112.8835,       4773,   213.2,  12.7423,  35.2039,2,  35.2123,2,    240.2,2,   239.4,2,    2.59,2,    5.98,2,    0.01,2,    0.56,2,   3.223,2,   1.671,2,  2095.1,2,  2323.2,2,  -9.0000,9,-999.0000,9, -999.00,9, -999.00,9,  -999.0,9,  -999.0,-999.000,9,-999.000,-999.000,9,  -9.0000,-999.0000,  12.7133,   -9.00
  316N145_7,       I05E,     434,          1,         30,         30,2,19950413,       1227,   -32.2667,   112.8835,       4773,   281.9,  11.2230,  34.9716,2,  34.9824,2,    238.1,2,   241.6,2,    3.23,2,    9.38,2,    0.01,2,    0.76,2,   3.365,2,   1.715,2,  2107.0,2,  2304.9,2,  -9.0000,9,-999.0000,9, -999.00,9, -999.00,9,  -999.0,9,  -999.0,-999.000,9,-999.000,-999.000,9,  -9.0000,-999.0000,  11.1877,   -9.00
  316N145_7,       I05E,     434,          1,         29,         29,2,19950413,       1227,   -32.2667,   112.8835,       4773,   363.7,  10.0239,  34.7853,2,  34.7887,2,    242.2,2,   244.5,2,    4.29,2,   12.97,2,    0.01,2,    0.98,2,   3.414,2,   1.722,2,  2112.6,2,  2302.8,2,  -9.0000,9,-999.0000,9, -999.00,9, -999.00,9,  -999.0,9,  -999.0,-999.000,9,-999.000,-999.000,9,  -9.0000,-999.0000,   9.9814,   -9.00
  316N145_7,       I05E,     434,          1,         28,         28,2,19950413,       1227,   -32.2667,   112.8835,       4773,   464.9,   9.2929,  34.6737,2,  34.6753,2,    244.0,2,   246.0,2,    5.36,2,   15.50,2,    0.01,2,    1.12,2,   3.319,2,   1.665,2,  2115.9,2,  2296.7,2,  -9.0000,9,-999.0000,9, -999.00,9, -999.00,9,  -999.0,9,  -999.0,-999.000,9,-999.000,-999.000,9,  -9.0000,-999.0000,   9.2409,   -9.00
  316N145_7,       I05E,     434,          1,         27,         27,2,19950413,       1227,   -32.2667,   112.8835,       4773,   564.6,   8.7565,  34.6083,2,  34.6116,2,    236.0,2,   232.4,2,    7.30,2,   18.51,2,    0.01,2,    1.31,2,   2.707,2,   1.336,2,  2127.9,2,  2295.1,2,  -9.0000,9,-999.0000,9, -999.00,9, -999.00,9,  -999.0,9,  -999.0,-999.000,9,-999.000,-999.000,9,  -9.0000,-999.0000,   8.6952,   -9.00
  316N145_7,       I05E,     434,          1,         26,         26,2,19950413,       1227,   -32.2667,   112.8835,       4773,   665.0,   7.3119,  34.4945,2,  34.4971,2,    211.4,2,   205.0,2,   15.30,2,   24.17,2,    0.01,2,    1.66,2,   1.503,2,   0.712,2,  2155.2,2,  2292.3,2,  -9.0000,9,-999.0000,9, -999.00,9, -999.00,9,  -999.0,9,  -999.0,-999.000,9,-999.000,-999.000,9,  -9.0000,-999.0000,   7.2465,   -9.00
  316N145_7,       I05E,     434,          1,         25,         25,2,19950413,       1227,   -32.2667,   112.8835,       4773,   764.9,   5.6048,  34.4096,2,  34.4151,2,    196.0,2,   194.2,2,   27.21,2,   28.62,2,    0.00,2,    1.97,2,   0.743,2,   0.358,2,  2182.8,2,  2300.0,2,  -9.0000,9,-999.0000,9, -999.00,9, -999.00,9,  -999.0,9,  -999.0,-999.000,9,-999.000,-999.000,9,  -9.0000,-999.0000,   5.5390,   -9.00
  316N145_7,       I05E,     434,          1,         24,         24,2,19950413,       1227,   -32.2667,   112.8835,       4773,   866.8,   4.7793,  34.4084,2,  34.4088,2,    182.9,2,   184.0,2,   40.64,2,   31.23,2,    0.00,2,    2.16,2,   0.444,2,   0.218,2,  2201.9,2,  2311.3,2,  -9.0000,9,-999.0000,9, -999.00,9, -999.00,9,  -999.0,9,  -999.0,-999.000,9,-999.000,-999.000,9,  -9.0000,-999.0000,   4.7096,   -9.00
  316N145_7,       I05E,     434,          1,         23,         23,2,19950413,       1227,   -32.2667,   112.8835,       4773,   997.9,   4.1307,  34.4532,2,  34.4575,2,    168.6,2,   162.9,2,   58.62,2,   33.60,2,    0.00,2,    2.36,2,   0.193,6,   0.097,6,  2231.7,2,  2371.0,3,  -9.0000,9,-999.0000,9, -999.00,9, -999.00,9,  -999.0,9,  -999.0,-999.000,9,-999.000,-999.000,9,  -9.0000,-999.0000,   4.0543,   -9.00
  316N145_7,       I05E,     434,          1,         22,         22,2,19950413,       1227,   -32.2667,   112.8835,       4773,  1098.7,   3.8580,  34.4963,2,  34.4964,2,    147.8,2,   153.0,2,   68.36,2,   34.50,2,    0.00,2,    2.45,2,   0.093,2,   0.048,2,  2247.5,2,  2342.6,2,  -9.0000,9,-999.0000,9, -999.00,9, -999.00,9,  -999.0,9,  -999.0,-999.000,9,-999.000,-999.000,9,  -9.0000,-999.0000,   3.7753,   -9.00
  316N145_7,       I05E,     434,          1,         21,         21,2,19950413,       1227,   -32.2667,   112.8835,       4773,  1168.8,   3.6218,  34.5125,2,  34.5114,2,    153.5,2,   154.0,2,   72.03,2,   34.80,2,    0.00,2,    2.45,2,   0.070,6,   0.039,6,  2251.3,2,  2343.3,2,  -9.0000,9,-999.0000,9, -999.00,9, -999.00,9,  -999.0,9,  -999.0,-999.000,9,-999.000,-999.000,9,  -9.0000,-999.0000,   3.5353,   -9.00
  316N145_7,       I05E,     434,          1,         20,         20,2,19950413,       1227,   -32.2667,   112.8835,       4773,  1269.2,   3.4503,  34.5428,2,  34.5418,2,    148.7,2,   149.0,2,   77.44,2,   35.01,2,    0.00,2,    2.48,2,   0.035,2,   0.017,2,  2258.3,2,  2365.6,3,  -9.0000,9,-999.0000,9, -999.00,9, -999.00,9,  -999.0,9,  -999.0,-999.000,9,-999.000,-999.000,9,  -9.0000,-999.0000,   3.3570,   -9.00
  316N145_7,       I05E,     434,          1,         19,         19,2,19950413,       1227,   -32.2667,   112.8835,       4773,  1421.5,   3.1191,  34.5767,2,  34.5758,2,    152.6,2,   152.0,2,   81.76,2,   34.91,2,    0.00,2,    2.47,2,-999.000,9,-999.000,9,  2263.4,2,  2357.5,2,  -9.0000,9,-999.0000,9, -999.00,9, -999.00,9,  -999.0,9,  -999.0,-999.000,9,-999.000,-999.000,9,  -9.0000,-999.0000,   3.0165,   -9.00
  316N145_7,       I05E,     434,          1,         18,         18,2,19950413,       1227,   -32.2667,   112.8835,       4773,  1573.1,   2.8604,  34.6222,2,  34.6218,2,    154.0,2,   154.7,2,   87.17,2,   34.63,2,    0.00,2,    2.44,2,   0.008,2,   0.004,2,  2267.2,2,  2359.3,2,  -9.0000,9,-999.0000,9, -999.00,9, -999.00,9,  -999.0,9,  -999.0,-999.000,9,-999.000,-999.000,9,  -9.0000,-999.0000,   2.7480,   -9.00
  316N145_7,       I05E,     434,          1,         17,         17,2,19950413,       1227,   -32.2667,   112.8835,       4773,  1724.1,   2.6686,  34.6601,2,  34.6591,2,    157.0,2,   157.5,2,   92.60,2,   34.19,2,    0.00,2,    2.41,2,-999.000,9,-999.000,9,  2271.8,2,  2369.1,2,  -9.0000,9,-999.0000,9, -999.00,9, -999.00,9,  -999.0,9,  -999.0,-999.000,9,-999.000,-999.000,9,  -9.0000,-999.0000,   2.5458,   -9.00
  316N145_7,       I05E,     434,          1,         16,         16,2,19950413,       1227,   -32.2667,   112.8835,       4773,  1875.9,   2.4791,  34.6926,2,  34.6910,2,    161.1,2,   160.2,2,   98.68,2,   33.80,2,    0.00,2,    2.38,2,   0.003,2,   0.003,2,  2273.9,2,  2369.0,2,  -9.0000,9,-999.0000,9, -999.00,9, -999.00,9,  -999.0,9,  -999.0,-999.000,9,-999.000,-999.000,9,  -9.0000,-999.0000,   2.3459,   -9.00
  316N145_7,       I05E,     434,          1,         15,         15,2,19950413,       1227,   -32.2667,   112.8835,       4773,  2078.1,   2.2824,  34.7142,2,  34.7138,2,    163.2,2,   163.5,2,  105.88,2,   33.62,2,    0.00,2,    2.37,2,-999.000,9,-999.000,9,  2279.1,2,  2381.6,2,  -9.0000,9,-999.0000,9, -999.00,9, -999.00,9,  -999.0,9,  -999.0,-999.000,9,-999.000,-999.000,9,  -9.0000,-999.0000,   2.1347,   -9.00
  316N145_7,       I05E,     434,          1,         14,         14,2,19950413,       1227,   -32.2667,   112.8835,       4773,  2280.9,   2.1229,  34.7229,2,  34.7225,2,    166.7,2,   166.3,2,  110.46,2,   33.38,2,    0.00,2,    2.36,2,  -0.001,2,  -0.002,2,  2281.2,2,  2385.7,2,  -9.0000,9,-999.0000,9, -999.00,9, -999.00,9,  -999.0,9,  -999.0,-999.000,9,-999.000,-999.000,9,  -9.0000,-999.0000,   1.9599,   -9.00
  316N145_7,       I05E,     434,          1,         13,         13,2,19950413,       1227,   -32.2667,   112.8835,       4773,  2484.7,   1.9890,  34.7268,2,  34.7270,2,    170.5,2,   170.1,2,  113.07,2,   33.34,2,    0.00,2,    2.35,2,-999.000,9,-999.000,9,  2281.2,2,  2386.4,2,  -9.0000,9,-999.0000,9, -999.00,9, -999.00,9,  -999.0,9,  -999.0,-999.000,9,-999.000,-999.000,9,  -9.0000,-999.0000,   1.8101,   -9.00
  316N145_7,       I05E,     434,          1,         12,         12,2,19950413,       1227,   -32.2667,   112.8835,       4773,  2687.3,   1.8687,  34.7291,2,  34.7288,2,    174.2,2,   174.6,2,  114.36,2,   32.90,2,    0.00,2,    2.33,2,  -0.002,2,  -0.001,2,  2280.0,2,  2387.0,2,  -9.0000,9,-999.0000,9, -999.00,9, -999.00,9,  -999.0,9,  -999.0,-999.000,9,-999.000,-999.000,9,  -9.0000,-999.0000,   1.6734,   -9.00
  316N145_7,       I05E,     434,          1,         11,         11,2,19950413,       1227,   -32.2667,   112.8835,       4773,  2890.2,   1.7295,  34.7298,2,  34.7294,2,    179.4,2,   179.4,2,  115.21,2,   32.91,2,    0.00,2,    2.30,2,-999.000,9,-999.000,9,  2279.0,2,  2386.5,2,  -9.0000,9,-999.0000,9, -999.00,9, -999.00,9,  -999.0,9,  -999.0,-999.000,9,-999.000,-999.000,9,  -9.0000,-999.0000,   1.5179,   -9.00
  316N145_7,       I05E,     434,          1,         10,         10,2,19950413,       1227,   -32.2667,   112.8835,       4773,  3093.1,   1.6225,  34.7287,2,  34.7261,3,    183.3,2,   183.2,2,  117.38,2,   32.87,2,    0.00,2,    2.30,2,   0.000,2,  -0.001,2,  2283.3,2,  2384.8,2,  -9.0000,9,-999.0000,9, -999.00,9, -999.00,9,  -999.0,9,  -999.0,-999.000,9,-999.000,-999.000,9,  -9.0000,-999.0000,   1.3938,   -9.00
  316N145_7,       I05E,     434,          1,          9,          9,2,19950413,       1227,   -32.2667,   112.8835,       4773,  3296.5,   1.4971,  34.7261,2,  34.7255,2,    186.0,2,   185.3,2,  120.00,2,   32.83,2,    0.00,2,    2.30,2,-999.000,9,-999.000,9,  2278.8,2,  2390.0,2,  -9.0000,9,-999.0000,9, -999.00,9, -999.00,9,  -999.0,9,  -999.0,-999.000,9,-999.000,-999.000,9,  -9.0000,-999.0000,   1.2513,   -9.00
  316N145_7,       I05E,     434,          1,          8,          8,2,19950413,       1227,   -32.2667,   112.8835,       4773,  3500.3,   1.4001,  34.7232,2,  34.7229,2,    188.1,2,   188.3,2,  122.41,2,   32.88,2,    0.00,2,    2.29,2,   0.001,2,   0.000,2,  2280.4,2,  2387.7,2,  -9.0000,9,-999.0000,9, -999.00,9, -999.00,9,  -999.0,9,  -999.0,-999.000,9,-999.000,-999.000,9,  -9.0000,-999.0000,   1.1363,   -9.00
  316N145_7,       I05E,     434,          1,          7,          7,2,19950413,       1227,   -32.2667,   112.8835,       4773,  3704.0,   1.3209,  34.7209,2,  34.7202,2,    189.5,2,   190.1,2,  124.15,2,   32.94,2,    0.00,2,    2.30,2,-999.000,9,-999.000,9,  2280.5,2,  2393.1,2,  -9.0000,9,-999.0000,9, -999.00,9, -999.00,9,  -999.0,9,  -999.0,-999.000,9,-999.000,-999.000,9,  -9.0000,-999.0000,   1.0381,   -9.00
  316N145_7,       I05E,     434,          1,          6,          6,2,19950413,       1227,   -32.2667,   112.8835,       4773,  3942.5,   1.2584,  34.7179,2,  34.7175,2,    191.8,2,   193.1,2,  125.89,2,   32.90,2,    0.00,2,    2.30,2,   0.002,2,  -0.003,2,  2282.1,2,  2396.8,2,  -9.0000,9,-999.0000,9, -999.00,9, -999.00,9,  -999.0,9,  -999.0,-999.000,9,-999.000,-999.000,9,  -9.0000,-999.0000,   0.9523,   -9.00
  316N145_7,       I05E,     434,          1,          5,          5,2,19950413,       1227,   -32.2667,   112.8835,       4773,  4103.9,   1.2353,  34.7175,2,  34.7167,2,    192.5,2,   193.1,2,  126.30,2,   33.01,2,    0.00,2,    2.30,2,-999.000,9,-999.000,9,  2281.5,2,  2397.2,2,  -9.0000,9,-999.0000,9, -999.00,9, -999.00,9,  -999.0,9,  -999.0,-999.000,9,-999.000,-999.000,9,  -9.0000,-999.0000,   0.9125,   -9.00
  316N145_7,       I05E,     434,          1,          4,          4,2,19950413,       1227,   -32.2667,   112.8835,       4773,  4318.2,   1.2050,  34.7157,2,  34.7155,2,    195.7,2,   195.3,2,  126.49,2,   32.97,2,    0.00,2,    2.29,2,  -0.001,2,  -0.002,2,  2280.5,2,  2391.0,2,  -9.0000,9,-999.0000,9, -999.00,9, -999.00,9,  -999.0,9,  -999.0,-999.000,9,-999.000,-999.000,9,  -9.0000,-999.0000,   0.8595,   -9.00
  316N145_7,       I05E,     434,          1,          3,          3,2,19950413,       1227,   -32.2667,   112.8835,       4773,  4521.8,   1.1824,  34.7151,2,  34.7142,2,    197.9,2,   197.5,2,  126.01,2,   32.83,2,    0.00,2,    2.28,2,-999.000,9,-999.000,9,  -999.0,5,  2395.2,2,  -9.0000,9,-999.0000,9, -999.00,9, -999.00,9,  -999.0,9,  -999.0,-999.000,9,-999.000,-999.000,9,  -9.0000,-999.0000,   0.8146,   -9.00
  316N145_7,       I05E,     434,          1,          2,          2,2,19950413,       1227,   -32.2667,   112.8835,       4773,  4726.6,   1.1511,  34.7139,2,  34.7116,3,    200.1,2,   199.8,2,  125.53,2,   32.84,2,    0.00,2,    2.27,2,  -0.001,2,  -0.001,2,  -999.0,5,  2385.6,2,  -9.0000,9,-999.0000,9, -999.00,9, -999.00,9,  -999.0,9,  -999.0,-999.000,9,-999.000,-999.000,9,  -9.0000,-999.0000,   0.7607,   -9.00
  316N145_7,       I05E,     434,          1,          1,          1,2,19950413,       1227,   -32.2667,   112.8835,       4773,  4859.5,   1.0810,  34.7108,2,  34.7103,2,    203.3,2,   203.3,2,  125.50,2,   32.70,2,    0.00,2,    2.26,2,   0.003,2,   0.004,2,  2273.7,2,  2390.3,2,  -9.0000,9,-999.0000,9, -999.00,9, -999.00,9,  -999.0,9,  -999.0,-999.000,9,-999.000,-999.000,9,  -9.0000,-999.0000,   0.6775,   -9.00