BOTTLE,20211124CCHSIORKP
EXPOCODE,SECT_ID,STNNBR,CASTNO,SAMPNO,BTLNBR,BTLNBR_FLAG_W,DATE,TIME,LATITUDE,LONGITUDE,DEPTH,CTDPRS,CTDTMP,CTDSAL,CTDSAL_FLAG_W,SALNTY,SALNTY_FLAG_W,CTDOXY,CTDOXY_FLAG_W,OXYGEN,OXYGEN_FLAG_W,SILCAT,SILCAT_FLAG_W,NITRAT,NITRAT_FLAG_W,NITRIT,NITRIT_FLAG_W,PHSPHT,PHSPHT_FLAG_W,CFC-11,CFC-11_FLAG_W,CFC-12,CFC-12_FLAG_W,TCARBN,TCARBN_FLAG_W,ALKALI,ALKALI_FLAG_W,TRITUM,TRITUM_FLAG_W,HELIUM,HELIUM_FLAG_W,DELHE3,DELHE3_FLAG_W,DELC13,DELC13_FLAG_W,DELC14,DELC14_FLAG_W,C14ERR,NEON,NEON_FLAG_W,NEONER,CCL4,CCL4_FLAG_W,TRITER,HELIER,THETA,DELHER
,,,,,,,,,,,METERS,DBAR,ITS-90,PSS-78,,PSS-78,,UMOL/KG,,UMOL/KG,,UMOL/KG,,UMOL/KG,,UMOL/KG,,UMOL/KG,,PMOL/KG,,PMOL/KG,,UMOL/KG,,UMOL/KG,,TU,,NMOL/KG,,PERCNT,,/MILLE,,/MILLE,,/MILLE,NMOL/KG,,NMOL/KG,PMOL/KG,,TU,NMOL/KG,DEG C,PERCNT
  316N145_7,      TRANS,     382,          1,         36,         36,2,19950401,       0732,   -28.9668,    84.9990,       4143,     2.4,  22.7844,  35.8497,2,  35.8483,2,    219.2,2,   218.5,2,    2.42,2,    0.15,2,    0.00,2,    0.15,2,   2.185,2,   1.181,2,  2049.8,2,  2354.3,2,  -9.0000,9,-999.0000,9, -999.00,9, -999.00,9,  -999.0,9,  -999.0,-999.000,9,-999.000,-999.000,9,  -9.0000,-999.0000,  22.7839,   -9.00
  316N145_7,      TRANS,     382,          1,         35,         35,2,19950401,       0732,   -28.9668,    84.9990,       4143,    30.0,  22.3901,  35.8261,2,  35.8135,2,    210.5,2,   221.0,2,    2.20,2,    0.16,2,    0.00,2,    0.16,2,-999.000,9,-999.000,9,  2050.3,2,  2347.8,2,  -9.0000,9,-999.0000,9, -999.00,9, -999.00,9,  -999.0,9,  -999.0,-999.000,9,-999.000,-999.000,9,  -9.0000,-999.0000,  22.3841,   -9.00
  316N145_7,      TRANS,     382,          1,         34,         34,2,19950401,       0732,   -28.9668,    84.9990,       4143,    64.9,  16.8131,  35.4960,2,  35.4860,2,    270.5,2,   270.8,2,    2.18,2,    0.16,2,    0.00,2,    0.19,2,   3.016,2,   1.563,2,  2049.9,2,  2331.5,2,  -9.0000,9,-999.0000,9, -999.00,9, -999.00,9,  -999.0,9,  -999.0,-999.000,9,-999.000,-999.000,9,  -9.0000,-999.0000,  16.8024,   -9.00
  316N145_7,      TRANS,     382,          1,         33,         33,2,19950401,       0732,   -28.9668,    84.9990,       4143,   105.4,  14.8801,  35.4803,2,  35.4673,2,    248.8,2,   243.5,2,    2.38,2,    1.14,2,    0.20,2,    0.32,2,   3.032,2,   1.564,2,  2078.5,2,  2335.1,2,  -9.0000,9,-999.0000,9, -999.00,9, -999.00,9,  -999.0,9,  -999.0,-999.000,9,-999.000,-999.000,9,  -9.0000,-999.0000,  14.8643,   -9.00
  316N145_7,      TRANS,     382,          1,         32,         32,2,19950401,       0732,   -28.9668,    84.9990,       4143,   145.2,  13.3603,  35.2764,2,  35.2662,2,    239.9,2,   239.9,2,    3.42,2,    6.16,2,    0.01,2,    0.56,2,   3.227,2,   1.660,2,  2090.1,2,  2335.8,2,  -9.0000,9,-999.0000,9, -999.00,9, -999.00,9,  -999.0,9,  -999.0,-999.000,9,-999.000,-999.000,9,  -9.0000,-999.0000,  13.3399,   -9.00
  316N145_7,      TRANS,     382,          1,         31,         31,2,19950401,       0732,   -28.9668,    84.9990,       4143,   195.5,  12.7178,  35.1903,2,  35.1878,2,    240.0,2,   241.6,2,    4.04,2,    7.88,2,    0.01,2,    0.65,2,-999.000,9,-999.000,9,  2092.8,2,  2314.5,2,  -9.0000,9,-999.0000,9, -999.00,9, -999.00,9,  -999.0,9,  -999.0,-999.000,9,-999.000,-999.000,9,  -9.0000,-999.0000,  12.6912,   -9.00
  316N145_7,      TRANS,     382,          1,         30,         30,2,19950401,       0732,   -28.9668,    84.9990,       4143,   255.7,  12.1856,  35.1125,2,  35.1078,2,    238.2,2,   240.7,2,    4.23,2,    9.30,2,    0.00,2,    0.74,2,   3.259,2,   1.652,2,  2098.5,2,  2298.6,2,  -9.0000,9,-999.0000,9, -999.00,9, -999.00,9,  -999.0,9,  -999.0,-999.000,9,-999.000,-999.000,9,  -9.0000,-999.0000,  12.1518,   -9.00
  316N145_7,      TRANS,     382,          1,         29,         29,2,19950401,       0732,   -28.9668,    84.9990,       4143,   306.2,  11.8177,  35.0555,2,  35.0541,2,    240.1,2,   242.7,2,    4.43,2,    9.99,2,    0.00,2,    0.78,2,   3.277,2,   1.660,2,  2099.8,2,  2308.7,2,  -9.0000,9,-999.0000,9, -999.00,9, -999.00,9,  -999.0,9,  -999.0,-999.000,9,-999.000,-999.000,9,  -9.0000,-999.0000,  11.7779,   -9.00
  316N145_7,      TRANS,     382,          1,         28,         28,2,19950401,       0732,   -28.9668,    84.9990,       4143,   356.2,  11.4832,  35.0050,2,  35.0031,2,    238.1,2,   240.9,2,    4.63,2,   10.97,2,    0.00,2,    0.84,2,   3.232,2,   1.633,2,  2102.5,2,  2306.0,2,  -9.0000,9,-999.0000,9, -999.00,9, -999.00,9,  -999.0,9,  -999.0,-999.000,9,-999.000,-999.000,9,  -9.0000,-999.0000,  11.4377,   -9.00
  316N145_7,      TRANS,     382,          1,         27,         27,2,19950401,       0732,   -28.9668,    84.9990,       4143,   406.9,  11.1323,  34.9523,2,  34.9523,2,    239.5,2,   240.9,2,    4.61,2,   11.75,2,    0.00,2,    0.89,2,   3.159,6,   1.594,6,  2105.2,2,  2305.1,2,  -9.0000,9,-999.0000,9, -999.00,9, -999.00,9,  -999.0,9,  -999.0,-999.000,9,-999.000,-999.000,9,  -9.0000,-999.0000,  11.0813,   -9.00
  316N145_7,      TRANS,     382,          1,         26,         26,2,19950401,       0732,   -28.9668,    84.9990,       4143,   456.6,  10.8068,  34.9101,2,  34.9118,2,    239.6,2,   239.6,2,    4.60,2,   12.39,2,    0.00,2,    0.93,2,-999.000,9,-999.000,9,  2107.9,2,  2299.6,2,  -9.0000,9,-999.0000,9, -999.00,9, -999.00,9,  -999.0,9,  -999.0,-999.000,9,-999.000,-999.000,9,  -9.0000,-999.0000,  10.7505,   -9.00
  316N145_7,      TRANS,     382,          1,         25,         25,2,19950401,       0732,   -28.9668,    84.9990,       4143,   506.4,  10.4769,  34.8602,2,  34.8624,2,    237.4,2,   239.5,2,    4.80,2,   13.18,2,    0.00,2,    0.97,2,   3.044,2,   1.512,2,  2108.5,2,  2301.8,2,  -9.0000,9,-999.0000,9, -999.00,9, -999.00,9,  -999.0,9,  -999.0,-999.000,9,-999.000,-999.000,9,  -9.0000,-999.0000,  10.4156,   -9.00
  316N145_7,      TRANS,     382,          1,         24,         24,2,19950401,       0732,   -28.9668,    84.9990,       4143,   582.4,   9.8440,  34.7661,2,  34.7670,2,    237.1,2,   237.3,2,    5.42,2,   15.04,2,    0.00,2,    1.09,2,   2.865,2,   1.415,2,  2113.3,2,  2295.2,2,  -9.0000,9,-999.0000,9, -999.00,9, -999.00,9,  -999.0,9,  -999.0,-999.000,9,-999.000,-999.000,9,  -9.0000,-999.0000,   9.7760,   -9.00
  316N145_7,      TRANS,     382,          1,         23,         23,2,19950401,       0732,   -28.9668,    84.9990,       4143,   658.2,   9.2155,  34.6757,2,  34.6750,2,    234.4,2,   230.1,2,    6.87,2,   17.54,2,    0.00,2,    1.23,2,   2.499,2,   1.213,2,  2122.6,2,  2294.4,2,  -9.0000,9,-999.0000,9, -999.00,9, -999.00,9,  -999.0,9,  -999.0,-999.000,9,-999.000,-999.000,9,  -9.0000,-999.0000,   9.1413,   -9.00
  316N145_7,      TRANS,     382,          1,         22,         22,2,19950401,       0732,   -28.9668,    84.9990,       4143,   734.0,   8.3578,  34.5863,2,  34.5809,2,    220.8,2,   216.1,2,   10.43,2,   21.02,2,    0.00,2,    1.45,2,   1.756,2,   0.857,2,  2136.8,2,  2288.7,2,  -9.0000,9,-999.0000,9, -999.00,9, -999.00,9,  -999.0,9,  -999.0,-999.000,9,-999.000,-999.000,9,  -9.0000,-999.0000,   8.2795,   -9.00
  316N145_7,      TRANS,     382,          1,         21,         21,2,19950401,       0732,   -28.9668,    84.9990,       4143,   809.0,   7.3290,  34.5084,2,  34.5061,2,    208.0,2,   203.3,2,   16.50,2,   24.46,2,    0.00,2,    1.68,2,   1.143,2,   0.561,2,  2154.2,2,  2294.1,2,  -9.0000,9,-999.0000,9, -999.00,9, -999.00,9,  -999.0,9,  -999.0,-999.000,9,-999.000,-999.000,9,  -9.0000,-999.0000,   7.2485,   -9.00
  316N145_7,      TRANS,     382,          1,         20,         20,2,19950401,       0732,   -28.9668,    84.9990,       4143,   910.5,   5.7927,  34.4259,2,  34.4248,2,    196.4,2,   193.7,2,   28.03,2,   28.66,2,    0.00,2,    1.96,2,   0.657,2,   0.330,2,  2180.6,2,  2300.3,2,  -9.0000,9,-999.0000,9, -999.00,9, -999.00,9,  -999.0,9,  -999.0,-999.000,9,-999.000,   1.207,6,  -9.0000,-999.0000,   5.7120,   -9.00
  316N145_7,      TRANS,     382,          1,         19,         19,2,19950401,       0732,   -28.9668,    84.9990,       4143,  1011.1,   4.6878,  34.4140,2,  34.4154,2,    184.4,2,   182.0,2,   41.87,2,   31.38,2,    0.00,2,    2.17,2,-999.000,9,-999.000,9,  2206.3,2,  2312.9,2,  -9.0000,9,-999.0000,9, -999.00,9, -999.00,9,  -999.0,9,  -999.0,-999.000,9,-999.000,-999.000,9,  -9.0000,-999.0000,   4.6060,   -9.00
  316N145_7,      TRANS,     382,          1,         18,         18,2,19950401,       0732,   -28.9668,    84.9990,       4143,  1111.6,   4.1071,  34.4510,2,  34.4509,2,    170.8,2,   167.8,2,   55.92,2,   33.36,2,    0.00,2,    2.33,2,   0.160,6,   0.077,6,  2229.2,2,  2321.3,2,  -9.0000,9,-999.0000,9, -999.00,9, -999.00,9,  -999.0,9,  -999.0,-999.000,9,-999.000,-999.000,9,  -9.0000,-999.0000,   4.0213,   -9.00
  316N145_7,      TRANS,     382,          1,         17,         17,2,19950401,       0732,   -28.9668,    84.9990,       4143,  1212.1,   3.7917,  34.4902,2,  34.4904,2,    160.4,2,   158.4,2,   65.36,2,   34.25,2,    0.00,2,    2.40,2,-999.000,9,-999.000,9,  2243.5,2,  2336.5,2,  -9.0000,9,-999.0000,9, -999.00,9, -999.00,9,  -999.0,9,  -999.0,-999.000,9,-999.000,-999.000,9,  -9.0000,-999.0000,   3.7001,   -9.00
  316N145_7,      TRANS,     382,          1,         16,         16,2,19950401,       0732,   -28.9668,    84.9990,       4143,  1363.5,   3.3868,  34.5547,2,  34.5552,2,    152.7,2,   152.0,2,   76.70,2,   34.75,2,    0.00,2,    2.45,2,   0.028,2,   0.013,2,  2257.4,2,  2346.2,2,  -9.0000,9,-999.0000,9, -999.00,9, -999.00,9,  -999.0,9,  -999.0,-999.000,9,-999.000,-999.000,9,  -9.0000,-999.0000,   3.2862,   -9.00
  316N145_7,      TRANS,     382,          1,         15,         15,2,19950401,       0732,   -28.9668,    84.9990,       4143,  1515.5,   3.1370,  34.6083,2,  34.6090,2,    148.9,2,   150.4,2,   84.06,2,   34.65,2,    0.00,2,    2.44,2,-999.000,9,-999.000,9,  2266.2,2,  2357.4,2,  -9.0000,9,-999.0000,9, -999.00,9, -999.00,9,  -999.0,9,  -999.0,-999.000,9,-999.000,-999.000,9,  -9.0000,-999.0000,   3.0262,   -9.00
  316N145_7,      TRANS,     382,          1,         14,         14,2,19950401,       0732,   -28.9668,    84.9990,       4143,  1667.6,   2.9418,  34.6566,2,  34.6548,2,    149.4,2,   151.0,2,   90.79,2,   34.45,2,    0.00,2,    2.43,2,   0.004,2,   0.002,2,  2271.9,2,  2359.3,2,  -9.0000,9,-999.0000,9, -999.00,9, -999.00,9,  -999.0,9,  -999.0,-999.000,9,-999.000,-999.000,9,  -9.0000,-999.0000,   2.8203,   -9.00
  316N145_7,      TRANS,     382,          1,         13,         13,2,19950401,       0732,   -28.9668,    84.9990,       4143,  1818.9,   2.7261,  34.6846,2,  34.6838,2,    154.8,2,   155.4,2,   95.64,2,   34.05,2,    0.00,2,    2.40,2,-999.000,9,-999.000,9,  2274.7,2,  2363.5,2,  -9.0000,9,-999.0000,9, -999.00,9, -999.00,9,  -999.0,9,  -999.0,-999.000,9,-999.000,-999.000,9,  -9.0000,-999.0000,   2.5944,   -9.00
  316N145_7,      TRANS,     382,          1,         12,         12,2,19950401,       0732,   -28.9668,    84.9990,       4143,  1971.7,   2.5488,  34.6963,2,  34.6968,2,    162.6,2,   161.3,2,   96.89,2,   33.60,2,    0.00,2,    2.36,2,   0.013,3,   0.008,3,  2272.6,2,  2370.2,2,  -9.0000,9,-999.0000,9, -999.00,9, -999.00,9,  -999.0,9,  -999.0,-999.000,9,-999.000,-999.000,9,  -9.0000,-999.0000,   2.4063,   -9.00
  316N145_7,      TRANS,     382,          1,         11,         11,2,19950401,       0732,   -28.9668,    84.9990,       4143,  2122.8,   2.3467,  34.7108,2,  34.7109,2,    167.3,2,   167.0,2,   99.84,2,   33.20,2,    0.00,2,    2.32,2,-999.000,9,-999.000,9,  2271.1,2,  2366.9,2,  -9.0000,9,-999.0000,9, -999.00,9, -999.00,9,  -999.0,9,  -999.0,-999.000,9,-999.000,-999.000,9,  -9.0000,-999.0000,   2.1940,   -9.00
  316N145_7,      TRANS,     382,          1,         10,         10,2,19950401,       0732,   -28.9668,    84.9990,       4143,  2325.3,   2.1228,  34.7219,2,  34.7218,2,    175.7,2,   175.2,2,  102.15,2,   32.66,2,    0.00,2,    2.28,2,   0.001,2,  -0.001,2,  2269.1,2,  2376.4,2,  -9.0000,9,-999.0000,9, -999.00,9, -999.00,9,  -999.0,9,  -999.0,-999.000,9,-999.000,-999.000,9,  -9.0000,-999.0000,   1.9558,   -9.00
  316N145_7,      TRANS,     382,          1,          9,          9,2,19950401,       0732,   -28.9668,    84.9990,       4143,  2529.1,   1.9414,  34.7298,2,  34.7294,2,    182.8,2,   183.8,2,  101.49,2,   32.06,2,    0.00,2,    2.22,2,-999.000,9,-999.000,9,  2264.4,2,  2362.3,2,  -9.0000,9,-999.0000,9, -999.00,9, -999.00,9,  -999.0,9,  -999.0,-999.000,9,-999.000,-999.000,9,  -9.0000,-999.0000,   1.7592,   -9.00
  316N145_7,      TRANS,     382,          1,          8,          8,2,19950401,       0732,   -28.9668,    84.9990,       4143,  2732.6,   1.7894,  34.7330,2,  34.7331,2,    187.7,2,   188.3,2,  103.59,2,   31.76,2,    0.00,2,    2.20,2,   0.000,2,   0.001,2,  2262.2,2,  2372.5,2,  -9.0000,9,-999.0000,9, -999.00,9, -999.00,9,  -999.0,9,  -999.0,-999.000,9,-999.000,-999.000,9,  -9.0000,-999.0000,   1.5915,   -9.00
  316N145_7,      TRANS,     382,          1,          7,          7,2,19950401,       0732,   -28.9668,    84.9990,       4143,  2936.1,   1.6439,  34.7337,2,  34.7333,2,    191.6,2,   191.9,2,  106.76,2,   31.76,2,    0.00,2,    2.20,2,-999.000,9,-999.000,9,  -999.0,5,  2360.0,3,  -9.0000,9,-999.0000,9, -999.00,9, -999.00,9,  -999.0,9,  -999.0,-999.000,9,-999.000,-999.000,9,  -9.0000,-999.0000,   1.4298,   -9.00
  316N145_7,      TRANS,     382,          1,          6,          6,2,19950401,       0732,   -28.9668,    84.9990,       4143,  3140.3,   1.5215,  34.7308,2,  34.7308,2,    193.2,2,   193.6,2,  110.79,2,   31.91,2,    0.00,2,    2.22,2,-999.000,9,   0.000,2,  2269.4,2,  2385.4,2,  -9.0000,9,-999.0000,9, -999.00,9, -999.00,9,  -999.0,9,  -999.0,-999.000,9,-999.000,-999.000,9,  -9.0000,-999.0000,   1.2904,   -9.00
  316N145_7,      TRANS,     382,          1,          5,          5,2,19950401,       0732,   -28.9668,    84.9990,       4143,  3344.1,   1.4310,  34.7270,2,  34.7268,2,    192.6,2,   192.8,2,  115.47,2,   32.21,2,    0.00,2,    2.24,2,-999.000,9,-999.000,9,  2271.5,2,  2384.0,2,  -9.0000,9,-999.0000,9, -999.00,9, -999.00,9,  -999.0,9,  -999.0,-999.000,9,-999.000,-999.000,9,  -9.0000,-999.0000,   1.1821,   -9.00
  316N145_7,      TRANS,     382,          1,          4,          4,2,19950401,       0732,   -28.9668,    84.9990,       4143,  3546.5,   1.3752,  34.7249,2,  34.7243,2,    193.9,2,   193.8,2,  118.02,2,   32.36,2,    0.00,2,    2.24,2,   0.007,2,   0.005,2,  2274.5,2,  2400.1,2,  -9.0000,9,-999.0000,9, -999.00,9, -999.00,9,  -999.0,9,  -999.0,-999.000,9,-999.000,-999.000,9,  -9.0000,-999.0000,   1.1072,   -9.00
  316N145_7,      TRANS,     382,          1,          3,          3,2,19950401,       0732,   -28.9668,    84.9990,       4143,  3751.9,   1.3575,  34.7232,2,  34.7221,2,    194.1,2,   193.5,2,  119.50,2,   32.46,2,    0.00,2,    2.25,2,   0.001,2,   0.000,2,  2275.8,2,  2391.4,2,  -9.0000,9,-999.0000,9, -999.00,9, -999.00,9,  -999.0,9,  -999.0,-999.000,9,-999.000,-999.000,9,  -9.0000,-999.0000,   1.0687,   -9.00
  316N145_7,      TRANS,     382,          1,          2,          2,2,19950401,       0732,   -28.9668,    84.9990,       4143,  3956.9,   1.3156,  34.7204,2,  34.7201,2,    194.8,2,   194.4,2,  120.55,2,   32.51,2,    0.00,2,    2.26,2,   0.001,2,   0.000,2,  2276.5,2,  2382.9,2,  -9.0000,9,-999.0000,9, -999.00,9, -999.00,9,  -999.0,9,  -999.0,-999.000,9,-999.000,-999.000,9,  -9.0000,-999.0000,   1.0063,   -9.00
  316N145_7,      TRANS,     382,          1,          1,          1,2,19950401,       0732,   -28.9668,    84.9990,       4143,  4232.7,   1.3203,  34.7190,2,  34.7186,2,    195.1,2,   194.9,2,  120.95,2,   32.61,2,    0.00,2,    2.26,2,   0.002,2,   0.001,2,  2276.7,2,  2396.2,2,  -9.0000,9,-999.0000,9, -999.00,9, -999.00,9,  -999.0,9,  -999.0,-999.000,9,-999.000,-999.000,9,  -9.0000,-999.0000,   0.9808,   -9.00