BOTTLE,20211124CCHSIORKP
EXPOCODE,SECT_ID,STNNBR,CASTNO,SAMPNO,BTLNBR,BTLNBR_FLAG_W,DATE,TIME,LATITUDE,LONGITUDE,DEPTH,CTDPRS,CTDTMP,CTDSAL,CTDSAL_FLAG_W,SALNTY,SALNTY_FLAG_W,CTDOXY,CTDOXY_FLAG_W,OXYGEN,OXYGEN_FLAG_W,SILCAT,SILCAT_FLAG_W,NITRAT,NITRAT_FLAG_W,NITRIT,NITRIT_FLAG_W,PHSPHT,PHSPHT_FLAG_W,CFC-11,CFC-11_FLAG_W,CFC-12,CFC-12_FLAG_W,TCARBN,TCARBN_FLAG_W,ALKALI,ALKALI_FLAG_W,TRITUM,TRITUM_FLAG_W,HELIUM,HELIUM_FLAG_W,DELHE3,DELHE3_FLAG_W,DELC13,DELC13_FLAG_W,DELC14,DELC14_FLAG_W,C14ERR,NEON,NEON_FLAG_W,NEONER,CCL4,CCL4_FLAG_W,TRITER,HELIER,THETA,DELHER
,,,,,,,,,,,METERS,DBAR,ITS-90,PSS-78,,PSS-78,,UMOL/KG,,UMOL/KG,,UMOL/KG,,UMOL/KG,,UMOL/KG,,UMOL/KG,,PMOL/KG,,PMOL/KG,,UMOL/KG,,UMOL/KG,,TU,,NMOL/KG,,PERCNT,,/MILLE,,/MILLE,,/MILLE,NMOL/KG,,NMOL/KG,PMOL/KG,,TU,NMOL/KG,DEG C,PERCNT
  316N145_7,       I05E,     437,          1,         26,         26,2,19950414,       0135,   -32.5207,   114.1740,       2646,     3.3,  24.4763,  35.7609,2,  35.7612,2,    208.8,2,   210.2,2,    3.40,2,    0.06,2,    0.00,2,    0.07,2,   1.888,2,   1.039,2,  2003.6,2,  2338.4,2,   1.2335,2,   1.7359,2,   -1.44,2, -999.00,9,  -999.0,9,  -999.0,   6.860,2,   0.034,-999.000,9,   0.0042,   0.0087,  24.4756,    0.14
  316N145_7,       I05E,     437,          1,         25,         25,2,19950414,       0135,   -32.5207,   114.1740,       2646,    29.9,  24.4300,  35.7662,2,  35.7609,2,    209.0,2,   209.7,2,    3.39,2,    0.06,2,    0.00,2,    0.07,2,-999.000,9,-999.000,9,  -999.0,9,  -999.0,9,  -9.0000,9,-999.0000,9, -999.00,9, -999.00,9,  -999.0,9,  -999.0,-999.000,9,-999.000,-999.000,9,  -9.0000,-999.0000,  24.4236,   -9.00
  316N145_7,       I05E,     437,          1,         24,         24,2,19950414,       0135,   -32.5207,   114.1740,       2646,    55.6,  23.2642,  35.8328,2,  35.8301,2,    211.8,2,   212.4,2,    3.16,2,    0.06,2,    0.00,2,    0.09,2,   1.968,2,   1.087,2,  -999.0,9,  -999.0,9,   1.2222,2,   1.7150,2,   -0.02,2, -999.00,9,  -999.0,9,  -999.0,   6.849,2,   0.034,-999.000,9,   0.0042,   0.0086,  23.2528,    0.14
  316N145_7,       I05E,     437,          1,         23,         23,2,19950414,       0135,   -32.5207,   114.1740,       2646,    84.2,  22.1025,  35.7895,2,  35.7977,2,    212.6,2,   199.3,2,    4.23,2,    1.47,2,    0.10,2,    0.22,2,-999.000,9,-999.000,9,  -999.0,9,  -999.0,9,  -9.0000,9,-999.0000,9, -999.00,9, -999.00,9,  -999.0,9,  -999.0,-999.000,9,-999.000,-999.000,9,  -9.0000,-999.0000,  22.0857,   -9.00
  316N145_7,       I05E,     437,          1,         22,         22,2,19950414,       0135,   -32.5207,   114.1740,       2646,   114.0,  21.7960,  35.9618,2,  35.9376,2,    205.5,2,   204.3,2,    3.35,2,    1.09,2,    0.04,2,    0.18,2,   2.121,2,   1.159,2,  -999.0,9,  -999.0,9,   1.1797,2,   1.7234,2,   -1.11,2, -999.00,9,  -999.0,9,  -999.0,   6.898,2,   0.034,-999.000,9,   0.0041,   0.0086,  21.7735,    0.14
  316N145_7,       I05E,     437,          1,         21,         21,2,19950414,       0135,   -32.5207,   114.1740,       2646,   155.4,  19.4836,  35.8997,2,  35.8968,2,    217.8,2,   215.4,2,    3.12,2,    0.96,2,    0.03,2,    0.19,2,   2.357,2,   1.269,2,  -999.0,9,  -999.0,9,  -9.0000,9,-999.0000,9, -999.00,9, -999.00,9,  -999.0,9,  -999.0,-999.000,9,-999.000,-999.000,9,  -9.0000,-999.0000,  19.4552,   -9.00
  316N145_7,       I05E,     437,          1,         20,         20,2,19950414,       0135,   -32.5207,   114.1740,       2646,   205.9,  16.5195,  35.7566,2,  35.7603,2,    235.2,2,   231.6,2,    2.24,2,    0.92,2,    0.02,2,    0.23,2,   2.684,2,   1.447,2,  -999.0,9,  -999.0,9,   1.0045,2,   1.7471,2,   -1.09,2, -999.00,9,  -999.0,9,  -999.0,   7.151,2,   0.036,-999.000,9,   0.0039,   0.0087,  16.4860,    0.14
  316N145_7,       I05E,     437,          1,         19,         19,2,19950414,       0135,   -32.5207,   114.1740,       2646,   256.3,  13.6593,  35.3394,2,  35.3675,2,    237.3,2,   238.7,2,    1.79,2,    3.90,2,    0.02,2,    0.43,2,   2.978,2,   1.579,2,  -999.0,9,  -999.0,9,   0.8024,2,   1.7606,2,   -1.30,2, -999.00,9,  -999.0,9,  -999.0,   7.322,2,   0.037,-999.000,9,   0.0034,   0.0088,  13.6227,    0.14
  316N145_7,       I05E,     437,          1,         18,         18,2,19950414,       0135,   -32.5207,   114.1740,       2646,   305.7,  12.4000,  35.1513,2,  35.1797,2,    240.8,2,   240.1,2,    2.22,2,    6.49,2,    0.01,2,    0.59,2,   3.150,2,   1.647,2,  -999.0,9,  -999.0,9,   0.7058,2,   1.7680,2,   -1.08,2, -999.00,9,  -999.0,9,  -999.0,   7.377,2,   0.037,-999.000,9,   0.0033,   0.0088,  12.3590,    0.14
  316N145_7,       I05E,     437,          1,         17,         17,2,19950414,       0135,   -32.5207,   114.1740,       2646,   356.3,  10.9736,  34.9284,2,  34.9340,2,    240.9,2,   243.4,2,    2.86,2,   10.06,2,    0.01,2,    0.80,2,   3.398,2,   1.769,2,  -999.0,9,  -999.0,9,   0.6001,2,   1.7627,2,   -0.88,2, -999.00,9,  -999.0,9,  -999.0,   7.427,2,   0.037,-999.000,9,   0.0031,   0.0088,  10.9294,    0.14
  316N145_7,       I05E,     437,          1,         16,         16,2,19950414,       0135,   -32.5207,   114.1740,       2646,   405.1,  10.1311,  34.7942,2,  34.7930,2,    241.9,2,   246.1,2,    3.50,2,   12.56,2,    0.01,2,    0.95,2,   3.436,2,   1.750,2,  -999.0,9,  -999.0,9,   0.5440,2,   1.7656,2,   -0.76,2, -999.00,9,  -999.0,9,  -999.0,   7.396,2,   0.037,-999.000,9,   0.0030,   0.0088,  10.0833,    0.14
  316N145_7,       I05E,     437,          1,         15,         15,2,19950414,       0135,   -32.5207,   114.1740,       2646,   507.1,   9.4047,  34.6896,2,  34.6898,2,    245.6,2,   247.4,2,    4.79,2,   15.11,2,    0.00,2,    1.09,2,   3.041,2,   1.519,2,  -999.0,9,  -999.0,9,   0.4911,2,   1.7687,2,   -0.79,2, -999.00,9,  -999.0,9,  -999.0,   7.495,2,   0.037,-999.000,9,   0.0029,   0.0088,   9.3474,    0.14
  316N145_7,       I05E,     437,          1,         14,         14,2,19950414,       0135,   -32.5207,   114.1740,       2646,   607.8,   9.0520,  34.6432,2,  34.6420,2,    237.1,2,   239.2,2,    5.86,2,   17.21,2,    0.00,2,    1.22,2,   3.055,2,   1.520,2,  -999.0,9,  -999.0,9,   0.4399,2,   1.7682,2,    0.81,2, -999.00,9,  -999.0,9,  -999.0,   7.543,2,   0.038,-999.000,9,   0.0028,   0.0088,   8.9845,    0.14
  316N145_7,       I05E,     437,          1,         13,         13,2,19950414,       0135,   -32.5207,   114.1740,       2646,   708.2,   7.9475,  34.5297,2,  34.5277,2,    217.1,2,   215.7,2,   11.06,2,   22.17,2,    0.00,2,    1.52,2,   1.964,2,   0.951,2,  -999.0,9,  -999.0,9,  -9.0000,9,-999.0000,9, -999.00,9, -999.00,9,  -999.0,9,  -999.0,-999.000,9,-999.000,-999.000,9,  -9.0000,-999.0000,   7.8743,   -9.00
  316N145_7,       I05E,     437,          1,         12,         12,2,19950414,       0135,   -32.5207,   114.1740,       2646,   808.8,   6.4188,  34.4431,2,  34.4433,2,    195.9,2,   195.7,2,   21.47,2,   27.19,2,    0.00,2,    1.85,2,   0.947,2,   0.456,2,  -999.0,9,  -999.0,9,   0.1280,2,   1.7987,2,    2.62,2, -999.00,9,  -999.0,9,  -999.0,   7.719,2,   0.039,-999.000,9,   0.0024,   0.0090,   6.3439,    0.14
  316N145_7,       I05E,     437,          1,         11,         11,2,19950414,       0135,   -32.5207,   114.1740,       2646,   908.7,   4.8687,  34.3918,2,  34.3934,2,    192.2,2,   191.7,2,   35.77,2,   30.70,2,    0.00,2,    2.11,2,   0.586,2,   0.281,2,  -999.0,9,  -999.0,9,  -9.0000,9,-999.0000,9, -999.00,9, -999.00,9,  -999.0,9,  -999.0,-999.000,9,-999.000,-999.000,9,  -9.0000,-999.0000,   4.7947,   -9.00
  316N145_7,       I05E,     437,          1,         10,         10,2,19950414,       0135,   -32.5207,   114.1740,       2646,  1009.7,   4.3619,  34.4703,2,  34.4680,2,    168.5,2,   158.9,2,   58.98,2,   33.73,2,    0.00,2,    2.35,2,   0.182,6,   0.092,6,  -999.0,9,  -999.0,9,   0.0276,2,   1.8351,2,    7.88,2, -999.00,9,  -999.0,9,  -999.0,   7.875,2,   0.039,-999.000,9,   0.0022,   0.0092,   4.2827,    0.14
  316N145_7,       I05E,     437,          1,          9,          9,2,19950414,       0135,   -32.5207,   114.1740,       2646,  1211.2,   3.8387,  34.5345,2,  34.5345,2,    144.4,2,   143.7,2,   75.68,2,   35.23,2,    0.00,2,    2.48,2,   0.045,2,   0.023,2,  -999.0,9,  -999.0,9,   0.0088,2,   1.8820,2,    8.99,2, -999.00,9,  -999.0,9,  -999.0,   8.005,2,   0.040,-999.000,9,   0.0022,   0.0094,   3.7466,    0.14
  316N145_7,       I05E,     437,          1,          8,          8,2,19950414,       0135,   -32.5207,   114.1740,       2646,  1412.7,   3.4147,  34.5617,2,  34.5610,2,    146.7,2,   147.5,2,   80.43,2,   35.28,2,    0.00,2,    2.48,2,-999.000,9,-999.000,9,  -999.0,9,  -999.0,9,   0.0038,2,   1.8531,2,   10.49,2, -999.00,9,  -999.0,9,  -999.0,   7.930,2,   0.040,-999.000,9,   0.0022,   0.0093,   3.3096,    0.14
  316N145_7,       I05E,     437,          1,          7,          7,2,19950414,       0135,   -32.5207,   114.1740,       2646,  1634.6,   2.7856,  34.6110,2,  34.6092,2,    157.5,2,   160.2,2,   82.79,2,   34.55,2,    0.00,2,    2.40,2,   0.012,2,   0.011,2,  -999.0,9,  -999.0,9,   0.0024,2,   1.8994,2,    9.88,2, -999.00,9,  -999.0,9,  -999.0,   8.153,2,   0.041,-999.000,9,   0.0022,   0.0095,   2.6690,    0.14
  316N145_7,       I05E,     437,          1,          6,          6,2,19950414,       0135,   -32.5207,   114.1740,       2646,  1766.4,   2.6413,  34.6634,2,  34.6624,2,    157.2,2,   158.4,2,   92.12,2,   34.30,2,    0.00,2,    2.39,2,-999.000,9,-999.000,9,  -999.0,9,  -999.0,9,  -9.0000,9,-999.0000,9, -999.00,9, -999.00,9,  -999.0,9,  -999.0,-999.000,9,-999.000,-999.000,9,  -9.0000,-999.0000,   2.5153,   -9.00
  316N145_7,       I05E,     437,          1,          5,          5,2,19950414,       0135,   -32.5207,   114.1740,       2646,  1919.3,   2.5080,  34.6888,2,  34.6881,2,    160.3,2,   160.3,2,   97.32,2,   33.91,2,    0.00,2,    2.37,2,  -0.002,2,   0.004,2,  -999.0,9,  -999.0,9,   0.0019,2,   1.8481,2,   12.43,2, -999.00,9,  -999.0,9,  -999.0,   7.891,2,   0.039,-999.000,9,   0.0022,   0.0092,   2.3707,    0.14
  316N145_7,       I05E,     437,          1,          4,          4,2,19950414,       0135,   -32.5207,   114.1740,       2646,  2121.8,   2.2429,  34.7153,2,  34.7150,2,    164.0,2,   165.0,2,  105.81,2,   33.72,2,    0.00,2,    2.35,2,-999.000,9,-999.000,9,  -999.0,9,  -999.0,9,  -9.0000,9,-999.0000,9, -999.00,9, -999.00,9,  -999.0,9,  -999.0,-999.000,9,-999.000,-999.000,9,  -9.0000,-999.0000,   2.0920,   -9.00
  316N145_7,       I05E,     437,          1,          3,          3,2,19950414,       0135,   -32.5207,   114.1740,       2646,  2323.6,   2.0641,  34.7243,2,  34.7237,2,    167.2,2,   168.2,2,  110.38,2,   33.48,2,    0.00,2,    2.34,2,   0.001,2,   0.007,2,  -999.0,9,  -999.0,9,  -9.0000,9,-999.0000,9, -999.00,9, -999.00,9,  -999.0,9,  -999.0,-999.000,9,-999.000,-999.000,9,  -9.0000,-999.0000,   1.8983,   -9.00
  316N145_7,       I05E,     437,          1,          2,          2,2,19950414,       0135,   -32.5207,   114.1740,       2646,  2527.2,   1.9405,  34.7281,2,  34.7274,2,    171.6,2,   172.4,2,  112.31,2,   33.34,2,    0.00,2,    2.32,2,-999.000,9,-999.000,9,  -999.0,9,  -999.0,9,  -9.0000,9,-999.0000,9, -999.00,9, -999.00,9,  -999.0,9,  -999.0,-999.000,9,-999.000,-999.000,9,  -9.0000,-999.0000,   1.7585,   -9.00
  316N145_7,       I05E,     437,          1,          1,          1,2,19950414,       0135,   -32.5207,   114.1740,       2646,  2688.0,   1.7809,  34.7281,2,  34.7294,2,    177.6,2,   176.7,2,  114.91,2,   33.20,2,    0.00,2,    2.31,2,  -0.001,2,   0.002,2,  -999.0,9,  -999.0,9,  -9.0000,9,-999.0000,9, -999.00,9, -999.00,9,  -999.0,9,  -999.0,-999.000,9,-999.000,-999.000,9,  -9.0000,-999.0000,   1.5872,   -9.00