BOTTLE,20211124CCHSIORKP
EXPOCODE,SECT_ID,STNNBR,CASTNO,SAMPNO,BTLNBR,BTLNBR_FLAG_W,DATE,TIME,LATITUDE,LONGITUDE,DEPTH,CTDPRS,CTDTMP,CTDSAL,CTDSAL_FLAG_W,SALNTY,SALNTY_FLAG_W,CTDOXY,CTDOXY_FLAG_W,OXYGEN,OXYGEN_FLAG_W,SILCAT,SILCAT_FLAG_W,NITRAT,NITRAT_FLAG_W,NITRIT,NITRIT_FLAG_W,PHSPHT,PHSPHT_FLAG_W,CFC-11,CFC-11_FLAG_W,CFC-12,CFC-12_FLAG_W,TCARBN,TCARBN_FLAG_W,ALKALI,ALKALI_FLAG_W,TRITUM,TRITUM_FLAG_W,HELIUM,HELIUM_FLAG_W,DELHE3,DELHE3_FLAG_W,DELC13,DELC13_FLAG_W,DELC14,DELC14_FLAG_W,C14ERR,NEON,NEON_FLAG_W,NEONER,CCL4,CCL4_FLAG_W,TRITER,HELIER,THETA,DELHER
,,,,,,,,,,,METERS,DBAR,ITS-90,PSS-78,,PSS-78,,UMOL/KG,,UMOL/KG,,UMOL/KG,,UMOL/KG,,UMOL/KG,,UMOL/KG,,PMOL/KG,,PMOL/KG,,UMOL/KG,,UMOL/KG,,TU,,NMOL/KG,,PERCNT,,/MILLE,,/MILLE,,/MILLE,NMOL/KG,,NMOL/KG,PMOL/KG,,TU,NMOL/KG,DEG C,PERCNT
  316N145_7,       I08N,     322,          1,         36,         36,2,19950319,       0526,    -8.0025,    80.0030,       5375,     2.0,  28.9968,  34.0739,2,  34.0766,3,    194.6,2,   196.3,2,    3.02,2,    0.09,2,    0.00,2,    0.09,2,   1.679,2,   0.936,2,  1898.4,2,  2230.8,2,   1.1745,2,   1.6652,2,   -0.83,2, -999.00,9,  -999.0,9,  -999.0,   6.523,2,   0.033,   1.851,6,   0.0040,   0.0083,  28.9964,    0.14
  316N145_7,       I08N,     322,          1,         35,         35,2,19950319,       0526,    -8.0025,    80.0030,       5375,    25.0,  27.2625,  34.3967,2,  34.4458,3,    191.5,2,   196.0,2,    4.06,2,    0.14,2,    0.00,2,    0.17,2,-999.000,9,-999.000,9,  1939.4,2,  2250.4,2,  -9.0000,9,-999.0000,9, -999.00,9, -999.00,9,  -999.0,9,  -999.0,-999.000,9,-999.000,-999.000,9,  -9.0000,-999.0000,  27.2567,   -9.00
  316N145_7,       I08N,     322,          1,         34,         34,2,19950319,       0526,    -8.0025,    80.0030,       5375,    60.3,  20.8373,  35.1625,2,  35.1605,3,    145.2,2,   132.9,2,   10.74,2,   10.53,2,    0.20,2,    0.81,2,   1.655,2,   0.885,2,  2074.6,2,  2304.0,2,   1.0677,2,   1.7255,2,    2.55,2, -999.00,9,  -999.0,9,  -999.0,   6.982,2,   0.035,   0.466,6,   0.0039,   0.0086,  20.8258,    0.14
  316N145_7,       I08N,     322,          1,         33,         33,2,19950319,       0526,    -8.0025,    80.0030,       5375,    95.4,  16.3110,  35.1021,2,  35.0761,3,    105.7,2,   105.6,2,   20.57,2,   17.91,2,    0.03,2,    1.28,2,   1.335,2,   0.687,2,  2137.6,2,  2306.7,2,   0.9581,2,   1.7455,2,    5.84,2, -999.00,9,  -999.0,9,  -999.0,   7.164,2,   0.036,-999.000,9,   0.0037,   0.0087,  16.2957,    0.14
  316N145_7,       I08N,     322,          1,         32,         32,2,19950319,       0526,    -8.0025,    80.0030,       5375,   135.8,  14.3714,  35.0044,2,  34.9928,3,     82.5,2,    80.4,2,   24.75,2,   23.45,2,    0.01,2,    1.64,2,   0.942,2,   0.470,2,  2175.0,2,  2309.5,2,   0.7455,2,   1.7519,2,    7.30,2, -999.00,9,  -999.0,9,  -999.0,   7.252,2,   0.036,-999.000,9,   0.0033,   0.0088,  14.3515,    0.14
  316N145_7,       I08N,     322,          1,         31,         31,2,19950319,       0526,    -8.0025,    80.0030,       5375,   175.7,  12.6969,  34.8833,2,  34.8823,3,     66.4,2,    67.0,2,   30.40,2,   27.02,2,    0.00,2,    1.88,2,-999.000,9,-999.000,9,  2198.8,2,  2310.6,2,   0.5987,2,   1.7627,2,    8.36,2, -999.00,9,  -999.0,9,  -999.0,   7.352,2,   0.037,-999.000,9,   0.0030,   0.0088,  12.6731,    0.14
  316N145_7,       I08N,     322,          1,         30,         30,2,19950319,       0526,    -8.0025,    80.0030,       5375,   225.7,  11.6002,  34.9451,2,  34.9362,3,     80.5,2,    80.8,2,   27.65,2,   26.78,2,    0.00,2,    1.83,2,   0.451,2,   0.221,2,  2200.6,2,  2310.2,2,   0.4120,2,   1.7585,2,    6.40,2, -999.00,9,  -999.0,9,  -999.0,   7.370,2,   0.037,-999.000,9,   0.0028,   0.0088,  11.5714,    0.14
  316N145_7,       I08N,     322,          1,         29,         29,2,19950319,       0526,    -8.0025,    80.0030,       5375,   281.1,  10.7469,  34.8972,2,  34.8977,3,    108.0,2,   110.4,2,   24.91,2,   25.40,2,    0.00,2,    1.74,2,   0.695,2,   0.352,2,  2188.3,2,  2306.9,2,   0.3512,2,   1.7580,2,    5.12,2, -999.00,9,  -999.0,9,  -999.0,   7.383,2,   0.037,-999.000,9,   0.0027,   0.0088,  10.7126,    0.14
  316N145_7,       I08N,     322,          1,         28,         28,2,19950319,       0526,    -8.0025,    80.0030,       5375,   356.7,   9.9097,  34.8628,2,  34.8611,3,     89.4,2,    85.6,2,   31.82,2,   29.72,2,    0.00,2,    2.01,2,   0.243,6,   0.125,6,  2214.6,2,  2312.3,2,   0.1648,2,   1.7730,2,    5.06,2, -999.00,9,  -999.0,9,  -999.0,   7.463,2,   0.037,-999.000,9,   0.0024,   0.0089,   9.8683,    0.14
  316N145_7,       I08N,     322,          1,         27,         27,2,19950319,       0526,    -8.0025,    80.0030,       5375,   457.0,   9.1031,  34.8392,2,  34.8377,3,     85.7,2,    86.5,2,   39.56,2,   31.01,2,    0.00,2,    2.16,2,   0.159,2,   0.076,2,  2226.9,2,  2316.2,2,   0.1075,2,-999.0000,9, -999.00,9, -999.00,9,  -999.0,9,  -999.0,-999.000,9,-999.000,-999.000,9,   0.0023,-999.0000,   9.0524,   -9.00
  316N145_7,       I08N,     322,          1,         26,         26,2,19950319,       0526,    -8.0025,    80.0030,       5375,   557.5,   8.4339,  34.8307,2,-999.0000,9,     74.4,2,    74.6,2,   50.25,2,   33.16,2,    0.00,2,    2.36,2,   0.062,2,   0.028,2,  2245.6,2,  2328.8,2,  -9.0000,9,-999.0000,9, -999.00,9, -999.00,9,  -999.0,9,  -999.0,-999.000,9,-999.000,-999.000,9,  -9.0000,-999.0000,   8.3745,   -9.00
  316N145_7,       I08N,     322,          1,         25,         25,2,19950319,       0526,    -8.0025,    80.0030,       5375,   658.2,   7.8408,  34.8249,2,  34.8232,3,     70.1,2,    70.6,2,   60.31,2,   34.31,2,    0.00,2,    2.48,2,-999.000,9,-999.000,9,  2260.9,2,  2335.5,2,   0.0404,2,   1.8069,2,    8.50,2, -999.00,9,  -999.0,9,  -999.0,   7.603,2,   0.038,-999.000,9,   0.0022,   0.0090,   7.7731,    0.14
  316N145_7,       I08N,     322,          1,         24,         24,2,19950319,       0526,    -8.0025,    80.0030,       5375,   808.6,   6.8039,  34.7903,2,  34.7919,3,     70.8,2,    70.3,2,   75.23,2,   35.65,2,    0.00,2,    2.59,2,   0.019,2,   0.004,2,  2279.5,2,  2352.6,2,   0.0236,2,   1.8218,2,   10.88,2, -999.00,9,  -999.0,9,  -999.0,   7.690,2,   0.038,-999.000,9,   0.0022,   0.0091,   6.7262,    0.14
  316N145_7,       I08N,     322,          1,         23,         23,2,19950319,       0526,    -8.0025,    80.0030,       5375,   928.2,   5.9688,  34.7439,2,  34.7422,3,     74.6,2,    73.7,2,   88.08,2,   36.37,2,    0.00,2,    2.66,2,-999.000,9,-999.000,9,  2292.1,2,  2363.1,2,  -9.0000,9,-999.0000,9, -999.00,9, -999.00,9,  -999.0,9,  -999.0,-999.000,9,-999.000,-999.000,9,  -9.0000,-999.0000,   5.8848,   -9.00
  316N145_7,       I08N,     322,          1,         22,         22,2,19950319,       0526,    -8.0025,    80.0030,       5375,  1031.9,   5.5739,  34.7608,2,  34.7580,3,     77.0,2,    78.3,2,   92.49,2,   36.46,2,    0.00,2,    2.67,2,   0.001,2,   0.003,2,  2298.4,2,  2369.7,2,   0.0142,2,   1.8520,2,   12.68,2, -999.00,9,  -999.0,9,  -999.0,   7.843,2,   0.039,-999.000,9,   0.0023,   0.0093,   5.4827,    0.14
  316N145_7,       I08N,     322,          1,         21,         21,2,19950319,       0526,    -8.0025,    80.0030,       5375,  1203.6,   4.8257,  34.7479,2,  34.7448,3,     86.3,2,    86.4,2,  101.59,2,   36.70,2,    0.00,2,    2.69,2,-999.000,9,-999.000,9,  2305.7,2,  2381.1,2,   0.0054,2,   1.8610,2,   13.44,2, -999.00,9,  -999.0,9,  -999.0,   7.869,2,   0.039,-999.000,9,   0.0022,   0.0093,   4.7248,    0.14
  316N145_7,       I08N,     322,          1,         20,         20,2,19950319,       0526,    -8.0025,    80.0030,       5375,  1353.8,   4.3664,  34.7627,2,  34.7649,3,     92.2,2,    93.8,2,  104.97,2,   36.60,2,    0.00,2,    2.68,2,   0.008,2,   0.017,3,  2308.0,2,  2384.5,2,  -9.0000,9,-999.0000,9, -999.00,9, -999.00,9,  -999.0,9,  -999.0,-999.000,9,-999.000,-999.000,9,  -9.0000,-999.0000,   4.2561,   -9.00
  316N145_7,       I08N,     322,          1,         19,         19,2,19950319,       0526,    -8.0025,    80.0030,       5375,  1505.3,   3.9678,  34.7762,2,  34.7753,3,    102.8,2,   103.5,2,  107.71,2,   36.31,2,    0.00,2,    2.65,2,-999.000,9,-999.000,9,  2309.3,2,  2388.6,2,  -0.0049,2,   1.8720,2,   13.21,2, -999.00,9,  -999.0,9,  -999.0,   7.940,2,   0.040,-999.000,9,   0.0023,   0.0093,   3.8479,    0.14
  316N145_7,       I08N,     322,          1,         18,         18,2,19950319,       0526,    -8.0025,    80.0030,       5375,  1656.4,   3.5384,  34.7675,2,  34.7644,3,    112.8,2,   113.0,2,  111.31,2,   36.02,2,    0.00,2,    2.61,2,   0.002,2,   0.000,2,  2308.0,2,  2390.4,2,   0.0003,2,   1.8712,2,   13.37,2, -999.00,9,  -999.0,9,  -999.0,   7.937,2,   0.040,-999.000,9,   0.0022,   0.0094,   3.4101,    0.14
  316N145_7,       I08N,     322,          1,         17,         17,2,19950319,       0526,    -8.0025,    80.0030,       5375,  1808.3,   3.0968,  34.7610,2,  34.7569,3,    125.1,2,   123.5,2,  115.57,2,   35.64,2,    0.00,2,    2.57,2,-999.000,9,-999.000,9,  2308.6,2,  2394.1,2,  -9.0000,9,   1.8870,2,   14.04,2, -999.00,9,  -999.0,9,  -999.0,-999.000,9,-999.000,-999.000,9,  -9.0000,-999.0000,   2.9607,   -9.00
  316N145_7,       I08N,     322,          1,         16,         16,2,19950319,       0526,    -8.0025,    80.0030,       5375,  1959.2,   2.7069,  34.7499,2,  34.7465,3,    135.1,2,   134.7,2,  118.33,2,   35.20,2,    0.00,2,    2.52,2,   0.001,2,   0.002,2,  2306.5,2,  2395.7,2,   0.0010,2,   1.8340,2,   14.20,2, -999.00,9,  -999.0,9,  -999.0,   7.846,2,   0.039,-999.000,9,   0.0022,   0.0092,   2.5630,    0.14
  316N145_7,       I08N,     322,          1,         15,         15,2,19950319,       0526,    -8.0025,    80.0030,       5375,  2109.7,   2.4809,  34.7499,2,  34.7467,3,    141.2,2,   141.2,2,  121.53,2,   34.96,2,    0.00,2,    2.50,2,-999.000,9,-999.000,9,  2306.0,2,  2402.3,2,  -9.0000,9,   1.8770,2,   14.42,2, -999.00,9,  -999.0,9,  -999.0,-999.000,9,-999.000,-999.000,9,  -9.0000,-999.0000,   2.3271,   -9.00
  316N145_7,       I08N,     322,          1,         14,         14,2,19950319,       0526,    -8.0025,    80.0030,       5375,  2310.2,   2.2147,  34.7427,2,  34.7399,3,    150.3,2,   149.6,2,  123.01,2,   34.58,2,    0.00,2,    2.46,2,   0.000,2,   0.002,2,  2303.2,2,  2400.7,2,  -9.0000,9,   1.8830,2,   14.42,2, -999.00,9,  -999.0,9,  -999.0,-999.000,9,-999.000,-999.000,9,  -9.0000,-999.0000,   2.0474,   -9.00
  316N145_7,       I08N,     322,          1,         13,         13,2,19950319,       0526,    -8.0025,    80.0030,       5375,  2513.5,   1.9912,  34.7372,2,  34.7344,3,    157.2,2,   157.2,2,  124.93,2,   34.24,2,    0.00,2,    2.42,2,-999.000,9,-999.000,9,  2301.8,2,  2403.8,2,  -9.0000,9,   1.8810,2,   14.77,2, -999.00,9,  -999.0,9,  -999.0,-999.000,9,-999.000,-999.000,9,  -9.0000,-999.0000,   1.8095,   -9.00
  316N145_7,       I08N,     322,          1,         12,         12,2,19950319,       0526,    -8.0025,    80.0030,       5375,  2718.6,   1.8635,  34.7343,2,  34.7334,3,    161.6,2,   161.0,2,  126.85,2,   34.14,2,    0.00,2,    2.41,2,   0.005,2,   0.003,2,  2301.4,2,  2402.3,2,  -9.0000,9,   1.8880,2,   14.26,2, -999.00,9,  -999.0,9,  -999.0,-999.000,9,-999.000,-999.000,9,  -9.0000,-999.0000,   1.6653,   -9.00
  316N145_7,       I08N,     322,          1,         11,         11,2,19950319,       0526,    -8.0025,    80.0030,       5375,  2924.0,   1.7440,  34.7306,2,  34.7274,3,    164.7,2,   165.1,2,  128.12,2,   33.95,2,    0.00,2,    2.39,2,-999.000,9,-999.000,9,  2306.2,2,  2412.1,2,  -9.0000,9,   1.9040,2,   14.07,2, -999.00,9,  -999.0,9,  -999.0,-999.000,9,-999.000,-999.000,9,  -9.0000,-999.0000,   1.5289,   -9.00
  316N145_7,       I08N,     322,          1,         10,         10,2,19950319,       0526,    -8.0025,    80.0030,       5375,  3131.2,   1.6362,  34.7271,2,  34.7250,3,    167.3,2,   167.3,2,  130.69,2,   33.95,2,    0.00,2,    2.38,2,   0.001,2,   0.002,2,  2303.1,2,  2421.7,3,  -9.0000,9,   1.8840,2,   13.73,2, -999.00,9,  -999.0,9,  -999.0,-999.000,9,-999.000,-999.000,9,  -9.0000,-999.0000,   1.4035,   -9.00
  316N145_7,       I08N,     322,          1,          9,          9,2,19950319,       0526,    -8.0025,    80.0030,       5375,  3389.0,   1.5132,  34.7239,2,  34.7205,3,    167.8,2,   168.5,2,  134.80,2,   34.04,2,    0.00,2,    2.39,2,-999.000,9,-999.000,9,  2308.0,2,  2413.8,2,  -9.0000,9,-999.0000,9, -999.00,9, -999.00,9,  -999.0,9,  -999.0,-999.000,9,-999.000,-999.000,9,  -9.0000,-999.0000,   1.2577,   -9.00
  316N145_7,       I08N,     322,          1,          8,          8,2,19950319,       0526,    -8.0025,    80.0030,       5375,  3645.5,   1.4241,  34.7211,2,  34.7194,3,    171.2,2,   171.8,2,  136.30,2,   33.95,2,    0.00,2,    2.37,2,   0.007,2,   0.001,2,  2308.2,2,  2420.5,2,  -9.0000,9,   1.8880,2,   12.12,2, -999.00,9,  -999.0,9,  -999.0,-999.000,9,-999.000,-999.000,9,  -9.0000,-999.0000,   1.1447,   -9.00
  316N145_7,       I08N,     322,          1,          7,          7,2,19950319,       0526,    -8.0025,    80.0030,       5375,  3900.8,   1.3829,  34.7188,2,  34.7168,3,    176.0,2,   176.1,2,  135.61,2,   33.75,2,    0.00,2,    2.36,2,-999.000,9,-999.000,9,  2304.6,2,  2416.9,2,  -9.0000,9,-999.0000,9, -999.00,9, -999.00,9,  -999.0,9,  -999.0,-999.000,9,-999.000,-999.000,9,  -9.0000,-999.0000,   1.0777,   -9.00
  316N145_7,       I08N,     322,          1,          6,          6,2,19950319,       0526,    -8.0025,    80.0030,       5375,  4154.5,   1.3796,  34.7180,2,  34.7155,3,    177.1,2,   177.2,2,  135.37,2,   33.70,2,    0.00,2,    2.35,2,   0.002,2,   0.001,2,  2303.5,2,  2433.6,3,  -9.0000,9,   1.8860,2,   11.92,2, -999.00,9,  -999.0,9,  -999.0,-999.000,9,-999.000,-999.000,9,  -9.0000,-999.0000,   1.0470,   -9.00
  316N145_7,       I08N,     322,          1,          5,          5,2,19950319,       0526,    -8.0025,    80.0030,       5375,  4409.0,   1.3723,  34.7173,2,  34.7141,3,    180.4,2,   180.9,2,  133.81,2,   33.46,2,    0.00,2,    2.33,2,-999.000,9,-999.000,9,  2299.3,2,  2413.5,2,  -9.0000,9,-999.0000,9, -999.00,9, -999.00,9,  -999.0,9,  -999.0,-999.000,9,-999.000,-999.000,9,  -9.0000,-999.0000,   1.0114,   -9.00
  316N145_7,       I08N,     322,          1,          4,          4,2,19950319,       0526,    -8.0025,    80.0030,       5375,  4661.8,   1.3758,  34.7174,2,  34.7143,3,    182.2,2,   182.9,2,  133.35,2,   33.46,2,    0.00,2,    2.32,2,   0.006,2,   0.005,2,  2297.9,2,  2429.0,3,  -9.0000,9,   1.8820,2,   11.22,2, -999.00,9,  -999.0,9,  -999.0,-999.000,9,-999.000,-999.000,9,  -9.0000,-999.0000,   0.9857,   -9.00
  316N145_7,       I08N,     322,          1,          3,          3,2,19950319,       0526,    -8.0025,    80.0030,       5375,  4913.4,   1.3967,  34.7172,2,  34.7142,3,    183.1,2,   182.7,2,  133.10,2,   33.41,2,    0.00,2,    2.31,2,  -0.001,2,   0.001,2,  2296.8,2,  2409.7,2,  -9.0000,9,-999.0000,9, -999.00,9, -999.00,9,  -999.0,9,  -999.0,-999.000,9,-999.000,-999.000,9,  -9.0000,-999.0000,   0.9762,   -9.00
  316N145_7,       I08N,     322,          1,          2,          2,2,19950319,       0526,    -8.0025,    80.0030,       5375,  5190.3,   1.4236,  34.7165,2,  34.7132,3,    184.1,2,   183.5,2,  132.64,2,   33.32,2,    0.00,2,    2.31,2,   0.001,2,   0.001,2,  2295.8,2,  2418.3,2,  -9.0000,9,   1.8700,2,   11.06,2, -999.00,9,  -999.0,9,  -999.0,-999.000,9,-999.000,   0.001,6,  -9.0000,-999.0000,   0.9685,   -9.00
  316N145_7,       I08N,     322,          1,          1,          1,2,19950319,       0526,    -8.0025,    80.0030,       5375,  5498.2,   1.4542,  34.7168,2,  34.7128,3,    183.9,2,   184.4,2,  132.18,2,   33.36,2,    0.00,2,    2.31,2,  -0.001,2,   0.000,2,  2294.4,2,  2444.4,3,  -9.0000,9,   1.8860,2,   11.73,2, -999.00,9,  -999.0,9,  -999.0,-999.000,9,-999.000,  -0.004,6,  -9.0000,-999.0000,   0.9593,   -9.00