BOTTLE,20211124CCHSIORKP
EXPOCODE,SECT_ID,STNNBR,CASTNO,SAMPNO,BTLNBR,BTLNBR_FLAG_W,DATE,TIME,LATITUDE,LONGITUDE,DEPTH,CTDPRS,CTDTMP,CTDSAL,CTDSAL_FLAG_W,SALNTY,SALNTY_FLAG_W,CTDOXY,CTDOXY_FLAG_W,OXYGEN,OXYGEN_FLAG_W,SILCAT,SILCAT_FLAG_W,NITRAT,NITRAT_FLAG_W,NITRIT,NITRIT_FLAG_W,PHSPHT,PHSPHT_FLAG_W,CFC-11,CFC-11_FLAG_W,CFC-12,CFC-12_FLAG_W,TCARBN,TCARBN_FLAG_W,ALKALI,ALKALI_FLAG_W,TRITUM,TRITUM_FLAG_W,HELIUM,HELIUM_FLAG_W,DELHE3,DELHE3_FLAG_W,DELC13,DELC13_FLAG_W,DELC14,DELC14_FLAG_W,C14ERR,NEON,NEON_FLAG_W,NEONER,CCL4,CCL4_FLAG_W,TRITER,HELIER,THETA,DELHER
,,,,,,,,,,,METERS,DBAR,ITS-90,PSS-78,,PSS-78,,UMOL/KG,,UMOL/KG,,UMOL/KG,,UMOL/KG,,UMOL/KG,,UMOL/KG,,PMOL/KG,,PMOL/KG,,UMOL/KG,,UMOL/KG,,TU,,NMOL/KG,,PERCNT,,/MILLE,,/MILLE,,/MILLE,NMOL/KG,,NMOL/KG,PMOL/KG,,TU,NMOL/KG,DEG C,PERCNT
  316N145_7,       I08N,     328,          1,         36,         36,2,19950320,       1627,   -11.0008,    79.9980,       5307,     2.6,  29.2461,  34.5331,2,  34.5333,2,    195.7,2,   196.5,3,    2.82,2,    0.19,2,    0.00,2,    0.11,2,   1.641,2,   0.944,2,  1927.3,2,  2275.6,2,  -9.0000,9,-999.0000,9, -999.00,9, -999.00,9,  -999.0,9,  -999.0,-999.000,9,-999.000,-999.000,9,  -9.0000,-999.0000,  29.2455,   -9.00
  316N145_7,       I08N,     328,          1,         35,         35,2,19950320,       1627,   -11.0008,    79.9980,       5307,    31.0,  28.8004,  34.6387,2,  34.6376,2,    199.3,2,   198.8,3,    2.80,2,    0.19,2,    0.00,2,    0.10,2,   1.662,2,   0.951,2,  1935.4,2,  2279.9,2,  -9.0000,9,-999.0000,9, -999.00,9, -999.00,9,  -999.0,9,  -999.0,-999.000,9,-999.000,-999.000,9,  -9.0000,-999.0000,  28.7930,   -9.00
  316N145_7,       I08N,     328,          1,         34,         34,2,19950320,       1627,   -11.0008,    79.9980,       5307,    65.7,  25.5369,  34.5783,2,  34.5667,2,    181.8,2,   198.4,3,    3.61,2,    0.23,2,    0.00,2,    0.24,2,   1.804,2,   1.011,2,  1965.0,2,  2270.7,2,  -9.0000,9,-999.0000,9, -999.00,9, -999.00,9,  -999.0,9,  -999.0,-999.000,9,-999.000,-999.000,9,  -9.0000,-999.0000,  25.5224,   -9.00
  316N145_7,       I08N,     328,          1,         33,         33,2,19950320,       1627,   -11.0008,    79.9980,       5307,    96.0,  21.9324,  34.7129,2,  34.7015,2,    115.1,2,   122.8,2,   12.44,2,   12.05,2,    0.18,2,    0.88,2,   1.561,2,   0.872,2,  2057.0,2,  2285.8,2,  -9.0000,9,-999.0000,9, -999.00,9, -999.00,9,  -999.0,9,  -999.0,-999.000,9,-999.000,-999.000,9,  -9.0000,-999.0000,  21.9135,   -9.00
  316N145_7,       I08N,     328,          1,         32,         32,2,19950320,       1627,   -11.0008,    79.9980,       5307,   126.1,  17.5895,  34.5749,2,  34.5866,2,     96.6,2,    98.0,2,   24.85,2,   18.98,2,    0.03,2,    1.33,2,   1.238,2,   0.657,2,  2114.6,2,  2288.0,2,  -9.0000,9,-999.0000,9, -999.00,9, -999.00,9,  -999.0,9,  -999.0,-999.000,9,-999.000,-999.000,9,  -9.0000,-999.0000,  17.5682,   -9.00
  316N145_7,       I08N,     328,          1,         31,         31,2,19950320,       1627,   -11.0008,    79.9980,       5307,   175.3,  14.9825,  34.9243,2,  34.9151,2,     88.9,2,    80.4,2,   25.88,2,   22.91,2,    0.01,2,    1.59,2,   0.988,2,   0.512,2,  2164.0,2,  2310.9,2,  -9.0000,9,-999.0000,9, -999.00,9, -999.00,9,  -999.0,9,  -999.0,-999.000,9,-999.000,-999.000,9,  -9.0000,-999.0000,  14.9561,   -9.00
  316N145_7,       I08N,     328,          1,         30,         30,2,19950320,       1627,   -11.0008,    79.9980,       5307,   256.3,  11.9618,  34.8023,2,  34.8006,2,     85.2,2,    84.4,2,   34.07,2,   26.33,2,    0.01,2,    1.84,2,   0.633,2,   0.317,2,  2193.5,2,  2313.0,2,  -9.0000,9,-999.0000,9, -999.00,9, -999.00,9,  -999.0,9,  -999.0,-999.000,9,-999.000,-999.000,9,  -9.0000,-999.0000,  11.9285,   -9.00
  316N145_7,       I08N,     328,          1,         29,         29,2,19950320,       1627,   -11.0008,    79.9980,       5307,   326.2,  11.0065,  34.8801,2,  34.8812,2,    107.5,2,   108.6,2,   27.73,2,   24.86,2,    0.01,2,    1.71,2,   0.754,2,   0.364,2,  2187.8,2,  2317.0,2,  -9.0000,9,-999.0000,9, -999.00,9, -999.00,9,  -999.0,9,  -999.0,-999.000,9,-999.000,-999.000,9,  -9.0000,-999.0000,  10.9660,   -9.00
  316N145_7,       I08N,     328,          1,         28,         28,2,19950320,       1627,   -11.0008,    79.9980,       5307,   416.8,   9.6739,  34.7969,2,  34.7973,2,    118.9,2,   120.2,2,   29.19,2,   26.61,2,    0.01,2,    1.82,2,   0.588,6,   0.290,6,  2193.4,2,  2314.2,2,  -9.0000,9,-999.0000,9, -999.00,9, -999.00,9,  -999.0,9,  -999.0,-999.000,9,-999.000,-999.000,9,  -9.0000,-999.0000,   9.6261,   -9.00
  316N145_7,       I08N,     328,          1,         27,         27,2,19950320,       1627,   -11.0008,    79.9980,       5307,   507.2,   8.6571,  34.7475,2,  34.7472,2,     96.6,2,    95.9,2,   43.06,2,   31.04,2,    0.01,2,    2.15,2,   0.181,2,   0.085,2,  2223.2,2,  2324.2,2,  -9.0000,9,-999.0000,9, -999.00,9, -999.00,9,  -999.0,9,  -999.0,-999.000,9,-999.000,-999.000,9,  -9.0000,-999.0000,   8.6024,   -9.00
  316N145_7,       I08N,     328,          1,         26,         26,2,19950320,       1627,   -11.0008,    79.9980,       5307,   607.6,   7.7779,  34.7178,2,  34.7208,2,     84.4,2,    83.9,2,   56.93,2,   33.47,2,    0.01,2,    2.37,2,   0.058,2,   0.026,2,  2248.3,2,  2333.5,2,  -9.0000,9,-999.0000,9, -999.00,9, -999.00,9,  -999.0,9,  -999.0,-999.000,9,-999.000,-999.000,9,  -9.0000,-999.0000,   7.7160,   -9.00
  316N145_7,       I08N,     328,          1,         25,         25,2,19950320,       1627,   -11.0008,    79.9980,       5307,   707.4,   7.0970,  34.6967,2,  34.6980,2,     78.3,2,    77.9,2,   68.93,2,   35.01,2,    0.00,2,    2.51,2,   0.022,2,   0.009,2,  2248.8,2,  2352.0,2,  -9.0000,9,-999.0000,9, -999.00,9, -999.00,9,  -999.0,9,  -999.0,-999.000,9,-999.000,-999.000,9,  -9.0000,-999.0000,   7.0281,   -9.00
  316N145_7,       I08N,     328,          1,         24,         24,2,19950320,       1627,   -11.0008,    79.9980,       5307,   808.8,   6.3578,  34.6798,2,  34.6808,2,     78.7,2,    79.3,2,   80.94,2,   35.92,2,    0.00,2,    2.59,2,   0.010,6,   0.005,6,  2279.4,2,  2357.4,2,  -9.0000,9,-999.0000,9, -999.00,9, -999.00,9,  -999.0,9,  -999.0,-999.000,9,-999.000,-999.000,9,  -9.0000,-999.0000,   6.2830,   -9.00
  316N145_7,       I08N,     328,          1,         23,         23,2,19950320,       1627,   -11.0008,    79.9980,       5307,   908.8,   5.8413,  34.6799,2,  34.6810,2,     81.4,2,    81.6,2,   88.10,2,   36.26,2,    0.00,2,    2.63,2,   0.005,2,   0.002,2,  2288.3,2,  2370.2,2,  -9.0000,9,-999.0000,9, -999.00,9, -999.00,9,  -999.0,9,  -999.0,-999.000,9,-999.000,-999.000,9,  -9.0000,-999.0000,   5.7601,   -9.00
  316N145_7,       I08N,     328,          1,         22,         22,2,19950320,       1627,   -11.0008,    79.9980,       5307,  1010.2,   5.2011,  34.6472,2,  34.6495,2,     87.5,2,    87.9,2,   97.84,2,   36.45,2,    0.00,2,    2.65,2,   0.003,2,   0.001,2,  2297.2,2,  2376.8,2,  -9.0000,9,-999.0000,9, -999.00,9, -999.00,9,  -999.0,9,  -999.0,-999.000,9,-999.000,-999.000,9,  -9.0000,-999.0000,   5.1151,   -9.00
  316N145_7,       I08N,     328,          1,         21,         21,2,19950320,       1627,   -11.0008,    79.9980,       5307,  1111.4,   4.8072,  34.6494,2,  34.6521,2,     90.7,2,    91.0,2,  102.49,2,   36.60,2,    0.00,2,    2.66,2,-999.000,9,-999.000,9,  2302.0,2,  2380.0,2,  -9.0000,9,-999.0000,9, -999.00,9, -999.00,9,  -999.0,9,  -999.0,-999.000,9,-999.000,-999.000,9,  -9.0000,-999.0000,   4.7151,   -9.00
  316N145_7,       I08N,     328,          1,         20,         20,2,19950320,       1627,   -11.0008,    79.9980,       5307,  1262.0,   4.3164,  34.6735,2,  34.6741,2,     97.4,2,    97.7,2,  106.72,2,   36.70,2,    0.00,2,    2.66,2,   0.012,2,   0.003,2,  2306.7,2,  2385.4,2,  -9.0000,9,-999.0000,9, -999.00,9, -999.00,9,  -999.0,9,  -999.0,-999.000,9,-999.000,-999.000,9,  -9.0000,-999.0000,   4.2151,   -9.00
  316N145_7,       I08N,     328,          1,         19,         19,2,19950320,       1627,   -11.0008,    79.9980,       5307,  1413.1,   3.8206,  34.6978,2,  34.7001,2,    106.2,2,   108.1,2,  109.25,2,   36.55,2,    0.00,2,    2.64,2,   0.002,2,   0.002,2,  2307.3,2,  2389.1,2,  -9.0000,9,-999.0000,9, -999.00,9, -999.00,9,  -999.0,9,  -999.0,-999.000,9,-999.000,-999.000,9,  -9.0000,-999.0000,   3.7108,   -9.00
  316N145_7,       I08N,     328,          1,         18,         18,2,19950320,       1627,   -11.0008,    79.9980,       5307,  1615.3,   3.2793,  34.7371,2,  34.7386,2,    121.4,2,   121.7,2,  110.93,2,   35.93,2,    0.00,2,    2.58,2,-999.000,9,-999.000,9,  2303.9,2,  2393.3,2,  -9.0000,9,-999.0000,9, -999.00,9, -999.00,9,  -999.0,9,  -999.0,-999.000,9,-999.000,-999.000,9,  -9.0000,-999.0000,   3.1578,   -9.00
  316N145_7,       I08N,     328,          1,         17,         17,2,19950320,       1627,   -11.0008,    79.9980,       5307,  1818.0,   2.8584,  34.7471,2,  34.7469,2,    132.9,2,   133.4,2,  114.96,2,   35.40,2,    0.00,2,    2.52,2,-999.000,9,-999.000,9,  2302.4,2,  2396.7,2,  -9.0000,9,-999.0000,9, -999.00,9, -999.00,9,  -999.0,9,  -999.0,-999.000,9,-999.000,-999.000,9,  -9.0000,-999.0000,   2.7248,   -9.00
  316N145_7,       I08N,     328,          1,         16,         16,2,19950320,       1627,   -11.0008,    79.9980,       5307,  2021.0,   2.5027,  34.7434,2,  34.7441,2,    144.1,2,   144.1,2,  117.94,2,   34.97,2,    0.00,2,    2.48,2,   0.003,2,   0.001,2,  2301.0,2,  2403.1,2,  -9.0000,9,-999.0000,9, -999.00,9, -999.00,9,  -999.0,9,  -999.0,-999.000,9,-999.000,-999.000,9,  -9.0000,-999.0000,   2.3564,   -9.00
  316N145_7,       I08N,     328,          1,         15,         15,2,19950320,       1627,   -11.0008,    79.9980,       5307,  2223.9,   2.2282,  34.7390,2,  34.7384,2,    152.8,2,   152.7,2,  119.84,2,   34.44,2,    0.00,2,    2.44,2,-999.000,9,-999.000,9,  2299.2,2,  2393.5,2,  -9.0000,9,-999.0000,9, -999.00,9, -999.00,9,  -999.0,9,  -999.0,-999.000,9,-999.000,-999.000,9,  -9.0000,-999.0000,   2.0684,   -9.00
  316N145_7,       I08N,     328,          1,         14,         14,2,19950320,       1627,   -11.0008,    79.9980,       5307,  2424.0,   2.0068,  34.7339,2,  34.7351,2,    161.4,2,   161.5,2,  121.31,2,   34.11,2,    0.00,2,    2.40,2,  -0.003,2,   0.000,2,  2296.3,2,  2423.9,3,  -9.0000,9,-999.0000,9, -999.00,9, -999.00,9,  -999.0,9,  -999.0,-999.000,9,-999.000,-999.000,9,  -9.0000,-999.0000,   1.8330,   -9.00
  316N145_7,       I08N,     328,          1,         13,         13,2,19950320,       1627,   -11.0008,    79.9980,       5307,  2622.4,   1.8758,  34.7316,2,  34.7328,2,    165.8,2,   165.1,2,  122.79,2,   33.92,2,    0.00,2,    2.38,2,-999.000,9,-999.000,9,  2294.8,2,  -999.0,5,  -9.0000,9,-999.0000,9, -999.00,9, -999.00,9,  -999.0,9,  -999.0,-999.000,9,-999.000,-999.000,9,  -9.0000,-999.0000,   1.6863,   -9.00
  316N145_7,       I08N,     328,          1,         12,         12,2,19950320,       1627,   -11.0008,    79.9980,       5307,  2821.3,   1.7621,  34.7288,2,  34.7304,2,    168.2,2,   168.3,2,  125.13,2,   33.87,2,    0.00,2,    2.38,2,  -0.003,2,  -0.002,2,  2295.9,2,  2399.5,2,  -9.0000,9,-999.0000,9, -999.00,9, -999.00,9,  -999.0,9,  -999.0,-999.000,9,-999.000,-999.000,9,  -9.0000,-999.0000,   1.5563,   -9.00
  316N145_7,       I08N,     328,          1,         11,         11,2,19950320,       1627,   -11.0008,    79.9980,       5307,  3020.7,   1.6748,  34.7273,2,  34.7277,2,    169.7,2,   169.2,2,  127.26,2,   33.87,2,    0.00,2,    2.37,2,-999.000,9,-999.000,9,  2299.7,2,  2412.0,2,  -9.0000,9,-999.0000,9, -999.00,9, -999.00,9,  -999.0,9,  -999.0,-999.000,9,-999.000,-999.000,9,  -9.0000,-999.0000,   1.4519,   -9.00
  316N145_7,       I08N,     328,          1,         10,         10,2,19950320,       1627,   -11.0008,    79.9980,       5307,  3220.8,   1.5729,  34.7243,2,  34.7253,2,    170.7,2,   170.8,2,  130.91,2,   34.06,2,    0.00,2,    2.38,2,  -0.004,2,  -0.002,2,  2301.7,2,  2404.5,2,  -9.0000,9,-999.0000,9, -999.00,9, -999.00,9,  -999.0,9,  -999.0,-999.000,9,-999.000,-999.000,9,  -9.0000,-999.0000,   1.3328,   -9.00
  316N145_7,       I08N,     328,          1,          9,          9,2,19950320,       1627,   -11.0008,    79.9980,       5307,  3426.5,   1.4787,  34.7216,2,  34.7222,2,    173.8,2,   173.1,2,  132.39,2,   34.01,2,    0.00,2,    2.37,2,-999.000,9,-999.000,9,  2302.6,2,  2410.6,2,  -9.0000,9,-999.0000,9, -999.00,9, -999.00,9,  -999.0,9,  -999.0,-999.000,9,-999.000,-999.000,9,  -9.0000,-999.0000,   1.2203,   -9.00
  316N145_7,       I08N,     328,          1,          8,          8,2,19950320,       1627,   -11.0008,    79.9980,       5307,  3688.1,   1.3936,  34.7193,2,  34.7202,2,    178.6,2,   178.7,2,  132.14,2,   33.77,2,    0.00,2,    2.34,2,   0.003,2,  -0.003,2,  2299.5,2,  2409.9,2,  -9.0000,9,-999.0000,9, -999.00,9, -999.00,9,  -999.0,9,  -999.0,-999.000,9,-999.000,-999.000,9,  -9.0000,-999.0000,   1.1106,   -9.00
  316N145_7,       I08N,     328,          1,          7,          7,2,19950320,       1627,   -11.0008,    79.9980,       5307,  3947.9,   1.3453,  34.7176,2,  34.7177,2,    181.3,2,   181.6,2,  132.54,2,   33.49,3,    0.00,2,    2.33,2,-999.000,9,-999.000,9,  2298.1,2,  2411.1,2,  -9.0000,9,-999.0000,9, -999.00,9, -999.00,9,  -999.0,9,  -999.0,-999.000,9,-999.000,-999.000,9,  -9.0000,-999.0000,   1.0361,   -9.00
  316N145_7,       I08N,     328,          1,          6,          6,2,19950320,       1627,   -11.0008,    79.9980,       5307,  4208.2,   1.3488,  34.7167,2,  34.7183,2,    181.5,2,   181.7,2,  133.81,2,   33.68,2,    0.00,2,    2.33,2,  -0.004,2,  -0.003,2,  2298.5,2,  2420.7,2,  -9.0000,9,-999.0000,9, -999.00,9, -999.00,9,  -999.0,9,  -999.0,-999.000,9,-999.000,-999.000,9,  -9.0000,-999.0000,   1.0112,   -9.00
  316N145_7,       I08N,     328,          1,          5,          5,2,19950320,       1627,   -11.0008,    79.9980,       5307,  4465.0,   1.3640,  34.7166,2,  34.7167,2,    182.1,2,   182.3,2,  133.99,2,   33.68,2,    0.00,2,    2.33,2,-999.000,9,-999.000,9,  2298.7,2,  2411.8,2,  -9.0000,9,-999.0000,9, -999.00,9, -999.00,9,  -999.0,9,  -999.0,-999.000,9,-999.000,-999.000,9,  -9.0000,-999.0000,   0.9970,   -9.00
  316N145_7,       I08N,     328,          1,          4,          4,2,19950320,       1627,   -11.0008,    79.9980,       5307,  4722.1,   1.3823,  34.7163,2,  34.7175,2,    182.8,2,   182.1,3,  133.95,2,   33.63,2,    0.00,2,    2.32,2,  -0.003,2,  -0.002,2,  2297.8,2,  2422.5,2,  -9.0000,9,-999.0000,9, -999.00,9, -999.00,9,  -999.0,9,  -999.0,-999.000,9,-999.000,-999.000,9,  -9.0000,-999.0000,   0.9849,   -9.00
  316N145_7,       I08N,     328,          1,          3,          3,2,19950320,       1627,   -11.0008,    79.9980,       5307,  4977.7,   1.4077,  34.7165,2,  34.7152,2,    183.0,2,   183.4,2,  134.13,2,   33.63,2,    0.00,2,    2.33,2,-999.000,9,-999.000,9,  2298.3,2,  2412.7,2,  -9.0000,9,-999.0000,9, -999.00,9, -999.00,9,  -999.0,9,  -999.0,-999.000,9,-999.000,-999.000,9,  -9.0000,-999.0000,   0.9791,   -9.00
  316N145_7,       I08N,     328,          1,          2,          2,2,19950320,       1627,   -11.0008,    79.9980,       5307,  5234.7,   1.4382,  34.7166,2,  34.7168,2,    183.5,2,   182.4,3,  133.87,2,   33.63,2,    0.00,2,    2.33,2,  -0.002,2,   0.000,2,  2297.5,2,  2418.0,2,  -9.0000,9,-999.0000,9, -999.00,9, -999.00,9,  -999.0,9,  -999.0,-999.000,9,-999.000,-999.000,9,  -9.0000,-999.0000,   0.9771,   -9.00
  316N145_7,       I08N,     328,          1,          1,          1,2,19950320,       1627,   -11.0008,    79.9980,       5307,  5424.8,   1.4629,  34.7163,2,  34.7160,2,    182.7,2,   182.8,2,  133.83,2,   33.63,2,    0.00,2,    2.33,2,  -0.002,2,  -0.001,2,  2297.5,2,  2414.0,2,  -9.0000,9,-999.0000,9, -999.00,9, -999.00,9,  -999.0,9,  -999.0,-999.000,9,-999.000,-999.000,9,  -9.0000,-999.0000,   0.9770,   -9.00