BOTTLE,20211124CCHSIORKP
EXPOCODE,SECT_ID,STNNBR,CASTNO,SAMPNO,BTLNBR,BTLNBR_FLAG_W,DATE,TIME,LATITUDE,LONGITUDE,DEPTH,CTDPRS,CTDTMP,CTDSAL,CTDSAL_FLAG_W,SALNTY,SALNTY_FLAG_W,CTDOXY,CTDOXY_FLAG_W,OXYGEN,OXYGEN_FLAG_W,SILCAT,SILCAT_FLAG_W,NITRAT,NITRAT_FLAG_W,NITRIT,NITRIT_FLAG_W,PHSPHT,PHSPHT_FLAG_W,CFC-11,CFC-11_FLAG_W,CFC-12,CFC-12_FLAG_W,TCARBN,TCARBN_FLAG_W,ALKALI,ALKALI_FLAG_W,TRITUM,TRITUM_FLAG_W,HELIUM,HELIUM_FLAG_W,DELHE3,DELHE3_FLAG_W,DELC13,DELC13_FLAG_W,DELC14,DELC14_FLAG_W,C14ERR,NEON,NEON_FLAG_W,NEONER,CCL4,CCL4_FLAG_W,TRITER,HELIER,THETA,DELHER
,,,,,,,,,,,METERS,DBAR,ITS-90,PSS-78,,PSS-78,,UMOL/KG,,UMOL/KG,,UMOL/KG,,UMOL/KG,,UMOL/KG,,UMOL/KG,,PMOL/KG,,PMOL/KG,,UMOL/KG,,UMOL/KG,,TU,,NMOL/KG,,PERCNT,,/MILLE,,/MILLE,,/MILLE,NMOL/KG,,NMOL/KG,PMOL/KG,,TU,NMOL/KG,DEG C,PERCNT
  316N145_7,       I08N,     317,          1,         36,         36,2,19950318,       0021,    -5.5000,    80.0000,       5140,     2.8,  29.0792,  34.2722,2,  34.2689,3,    197.0,2,   196.1,2,    2.60,2,    0.14,2,    0.00,2,    0.09,2,-999.000,9,-999.000,9,  -999.0,9,  -999.0,9,  -9.0000,9,-999.0000,9, -999.00,9, -999.00,9,  -999.0,9,  -999.0,-999.000,9,-999.000,-999.000,9,  -9.0000,-999.0000,  29.0785,   -9.00
  316N145_7,       I08N,     317,          1,         35,         35,2,19950318,       0021,    -5.5000,    80.0000,       5140,    35.4,  28.3243,  34.2321,2,  34.2313,3,    198.5,2,   199.1,2,    2.59,2,    0.14,2,    0.00,2,    0.08,2,-999.000,9,-999.000,9,  -999.0,9,  -999.0,9,  -9.0000,9,-999.0000,9, -999.00,9, -999.00,9,  -999.0,9,  -999.0,-999.000,9,-999.000,-999.000,9,  -9.0000,-999.0000,  28.3159,   -9.00
  316N145_7,       I08N,     317,          1,         34,         34,2,19950318,       0021,    -5.5000,    80.0000,       5140,    56.0,  23.7683,  34.4702,2,  34.4473,3,    141.1,2,   141.4,2,   11.09,2,    8.02,2,    0.13,2,    0.64,2,-999.000,9,-999.000,9,  -999.0,9,  -999.0,9,  -9.0000,9,-999.0000,9, -999.00,9, -999.00,9,  -999.0,9,  -999.0,-999.000,9,-999.000,-999.000,9,  -9.0000,-999.0000,  23.7567,   -9.00
  316N145_7,       I08N,     317,          1,         33,         33,2,19950318,       0021,    -5.5000,    80.0000,       5140,    86.1,  18.5960,  34.8478,2,  34.8499,3,     90.6,2,    87.7,2,   19.59,2,   18.78,2,    0.16,2,    1.31,2,-999.000,9,-999.000,9,  -999.0,9,  -999.0,9,  -9.0000,9,-999.0000,9, -999.00,9, -999.00,9,  -999.0,9,  -999.0,-999.000,9,-999.000,-999.000,9,  -9.0000,-999.0000,  18.5809,   -9.00
  316N145_7,       I08N,     317,          1,         32,         32,2,19950318,       0021,    -5.5000,    80.0000,       5140,   126.1,  14.6219,  34.8787,2,  34.8694,3,     60.6,2,    60.8,2,   27.46,2,   25.66,2,    0.02,2,    1.78,2,-999.000,9,-999.000,9,  -999.0,9,  -999.0,9,  -9.0000,9,-999.0000,9, -999.00,9, -999.00,9,  -999.0,9,  -999.0,-999.000,9,-999.000,-999.000,9,  -9.0000,-999.0000,  14.6032,   -9.00
  316N145_7,       I08N,     317,          1,         31,         31,2,19950318,       0021,    -5.5000,    80.0000,       5140,   175.9,  12.8729,  35.0207,2,  35.0169,3,     75.4,2,    80.3,2,   24.12,2,   25.34,2,    0.01,2,    1.75,2,-999.000,9,-999.000,9,  -999.0,9,  -999.0,9,  -9.0000,9,-999.0000,9, -999.00,9, -999.00,9,  -999.0,9,  -999.0,-999.000,9,-999.000,-999.000,9,  -9.0000,-999.0000,  12.8489,   -9.00
  316N145_7,       I08N,     317,          1,         30,         30,2,19950318,       0021,    -5.5000,    80.0000,       5140,   236.7,  11.5011,  34.9800,2,  34.9795,3,     88.4,2,    91.1,2,   24.32,2,   26.11,2,    0.01,2,    1.77,2,-999.000,9,-999.000,9,  -999.0,9,  -999.0,9,  -9.0000,9,-999.0000,9, -999.00,9, -999.00,9,  -999.0,9,  -999.0,-999.000,9,-999.000,-999.000,9,  -9.0000,-999.0000,  11.4710,   -9.00
  316N145_7,       I08N,     317,          1,         29,         29,2,19950318,       0021,    -5.5000,    80.0000,       5140,   297.7,  10.8026,  34.9333,2,  34.9321,3,     89.5,2,    90.7,2,   26.17,2,   27.55,2,    0.01,2,    1.86,2,-999.000,9,-999.000,9,  -999.0,9,  -999.0,9,  -9.0000,9,-999.0000,9, -999.00,9, -999.00,9,  -999.0,9,  -999.0,-999.000,9,-999.000,-999.000,9,  -9.0000,-999.0000,  10.7662,   -9.00
  316N145_7,       I08N,     317,          1,         28,         28,2,19950318,       0021,    -5.5000,    80.0000,       5140,   367.5,   9.8930,  34.8529,2,  34.8524,3,    102.5,2,   105.8,2,   29.07,2,   27.74,2,    0.01,2,    1.89,2,-999.000,9,-999.000,9,  -999.0,9,  -999.0,9,  -9.0000,9,-999.0000,9, -999.00,9, -999.00,9,  -999.0,9,  -999.0,-999.000,9,-999.000,-999.000,9,  -9.0000,-999.0000,   9.8504,   -9.00
  316N145_7,       I08N,     317,          1,         27,         27,2,19950318,       0021,    -5.5000,    80.0000,       5140,   437.8,   9.3887,  34.8457,2,  34.8420,3,     98.9,2,    94.6,2,   35.28,2,   29.81,2,    0.01,2,    2.07,2,-999.000,9,-999.000,9,  -999.0,9,  -999.0,9,  -9.0000,9,-999.0000,9, -999.00,9, -999.00,9,  -999.0,9,  -999.0,-999.000,9,-999.000,-999.000,9,  -9.0000,-999.0000,   9.3393,   -9.00
  316N145_7,       I08N,     317,          1,         26,         26,2,19950318,       0021,    -5.5000,    80.0000,       5140,   538.0,   8.6970,  34.8468,2,  34.8458,3,     83.8,2,    81.5,2,   45.86,2,   32.32,2,    0.00,2,    2.29,2,-999.000,9,-999.000,9,  -999.0,9,  -999.0,9,  -9.0000,9,-999.0000,9, -999.00,9, -999.00,9,  -999.0,9,  -999.0,-999.000,9,-999.000,-999.000,9,  -9.0000,-999.0000,   8.6387,   -9.00
  316N145_7,       I08N,     317,          1,         25,         25,2,19950318,       0021,    -5.5000,    80.0000,       5140,   639.3,   8.1398,  34.8842,2,  34.8800,3,     71.9,2,    69.4,2,   57.06,2,   34.07,2,    0.00,2,    2.48,2,-999.000,9,-999.000,9,  -999.0,9,  -999.0,9,  -9.0000,9,-999.0000,9, -999.00,9, -999.00,9,  -999.0,9,  -999.0,-999.000,9,-999.000,-999.000,9,  -9.0000,-999.0000,   8.0727,   -9.00
  316N145_7,       I08N,     317,          1,         24,         24,2,19950318,       0021,    -5.5000,    80.0000,       5140,   739.4,   7.2003,  34.7978,2,  34.7972,3,     72.9,2,    72.8,2,   68.49,2,   35.23,2,    0.00,2,    2.57,2,-999.000,9,-999.000,9,  -999.0,9,  -999.0,9,  -9.0000,9,-999.0000,9, -999.00,9, -999.00,9,  -999.0,9,  -999.0,-999.000,9,-999.000,-999.000,9,  -9.0000,-999.0000,   7.1275,   -9.00
  316N145_7,       I08N,     317,          1,         23,         23,2,19950318,       0021,    -5.5000,    80.0000,       5140,   840.6,   6.8551,  34.8170,2,  34.8147,3,     70.3,2,    70.8,2,   75.13,2,   35.86,2,    0.00,2,    2.63,2,-999.000,9,-999.000,9,  -999.0,9,  -999.0,9,  -9.0000,9,-999.0000,9, -999.00,9, -999.00,9,  -999.0,9,  -999.0,-999.000,9,-999.000,-999.000,9,  -9.0000,-999.0000,   6.7739,   -9.00
  316N145_7,       I08N,     317,          1,         22,         22,2,19950318,       0021,    -5.5000,    80.0000,       5140,   940.5,   6.3773,  34.8112,2,  34.8074,3,     71.4,2,    71.4,2,   82.42,2,   36.35,2,    0.00,2,    2.67,2,-999.000,9,-999.000,9,  -999.0,9,  -999.0,9,  -9.0000,9,-999.0000,9, -999.00,9, -999.00,9,  -999.0,9,  -999.0,-999.000,9,-999.000,-999.000,9,  -9.0000,-999.0000,   6.2891,   -9.00
  316N145_7,       I08N,     317,          1,         21,         21,2,19950318,       0021,    -5.5000,    80.0000,       5140,  1040.9,   5.7808,  34.7917,2,  34.7901,3,     74.3,2,    74.8,2,   89.92,2,   36.74,2,    0.00,2,    2.69,2,-999.000,9,-999.000,9,  -999.0,9,  -999.0,9,  -9.0000,9,-999.0000,9, -999.00,9, -999.00,9,  -999.0,9,  -999.0,-999.000,9,-999.000,-999.000,9,  -9.0000,-999.0000,   5.6871,   -9.00
  316N145_7,       I08N,     317,          1,         20,         20,2,19950318,       0021,    -5.5000,    80.0000,       5140,  1211.3,   4.9729,  34.7755,2,  34.7714,3,     82.7,2,    83.9,2,   99.34,2,   36.93,2,    0.00,2,    2.70,2,-999.000,9,-999.000,9,  -999.0,9,  -999.0,9,  -9.0000,9,-999.0000,9, -999.00,9, -999.00,9,  -999.0,9,  -999.0,-999.000,9,-999.000,-999.000,9,  -9.0000,-999.0000,   4.8698,   -9.00
  316N145_7,       I08N,     317,          1,         19,         19,2,19950318,       0021,    -5.5000,    80.0000,       5140,  1363.8,   4.5423,  34.7864,2,  34.7840,3,     90.5,2,    91.7,2,  103.11,2,   36.79,2,    0.00,2,    2.69,2,-999.000,9,-999.000,9,  -999.0,9,  -999.0,9,  -9.0000,9,-999.0000,9, -999.00,9, -999.00,9,  -999.0,9,  -999.0,-999.000,9,-999.000,-999.000,9,  -9.0000,-999.0000,   4.4292,   -9.00
  316N145_7,       I08N,     317,          1,         18,         18,2,19950318,       0021,    -5.5000,    80.0000,       5140,  1515.6,   3.9372,  34.7783,2,  34.7769,3,    102.2,2,   103.7,2,  107.73,2,   36.59,2,    0.00,2,    2.65,2,-999.000,9,-999.000,9,  -999.0,9,  -999.0,9,  -9.0000,9,-999.0000,9, -999.00,9, -999.00,9,  -999.0,9,  -999.0,-999.000,9,-999.000,-999.000,9,  -9.0000,-999.0000,   3.8167,   -9.00
  316N145_7,       I08N,     317,          1,         17,         17,2,19950318,       0021,    -5.5000,    80.0000,       5140,  1666.9,   3.4317,  34.7710,2,  34.7683,3,    113.7,2,   113.7,2,  112.78,2,   36.20,2,    0.00,2,    2.62,2,-999.000,9,-999.000,9,  -999.0,9,  -999.0,9,  -9.0000,9,-999.0000,9, -999.00,9, -999.00,9,  -999.0,9,  -999.0,-999.000,9,-999.000,-999.000,9,  -9.0000,-999.0000,   3.3037,   -9.00
  316N145_7,       I08N,     317,          1,         16,         16,2,19950318,       0021,    -5.5000,    80.0000,       5140,  1869.6,   2.9002,  34.7618,2,  34.7592,3,    128.1,2,   127.7,2,  117.86,2,   35.66,2,    0.00,2,    2.56,2,-999.000,9,-999.000,9,  -999.0,9,  -999.0,9,  -9.0000,9,-999.0000,9, -999.00,9, -999.00,9,  -999.0,9,  -999.0,-999.000,9,-999.000,-999.000,9,  -9.0000,-999.0000,   2.7614,   -9.00
  316N145_7,       I08N,     317,          1,         15,         15,2,19950318,       0021,    -5.5000,    80.0000,       5140,  2072.0,   2.4954,  34.7540,2,  34.7516,3,    139.0,2,   138.4,2,  121.24,2,   35.32,2,    0.00,2,    2.49,2,-999.000,9,-999.000,9,  -999.0,9,  -999.0,9,  -9.0000,9,-999.0000,9, -999.00,9, -999.00,9,  -999.0,9,  -999.0,-999.000,9,-999.000,-999.000,9,  -9.0000,-999.0000,   2.3447,   -9.00
  316N145_7,       I08N,     317,          1,         14,         14,2,19950318,       0021,    -5.5000,    80.0000,       5140,  2274.7,   2.2337,  34.7473,2,  34.7441,3,    147.2,2,   145.8,2,  124.42,2,   34.98,2,    0.00,2,    2.48,2,-999.000,9,-999.000,9,  -999.0,9,  -999.0,9,  -9.0000,9,-999.0000,9, -999.00,9, -999.00,9,  -999.0,9,  -999.0,-999.000,9,-999.000,-999.000,9,  -9.0000,-999.0000,   2.0693,   -9.00
  316N145_7,       I08N,     317,          1,         13,         13,2,19950318,       0021,    -5.5000,    80.0000,       5140,  2477.6,   2.0057,  34.7392,2,  34.7372,3,    156.4,2,   156.5,2,  125.69,2,   34.50,2,    0.00,2,    2.44,2,-999.000,9,-999.000,9,  -999.0,9,  -999.0,9,  -9.0000,9,-999.0000,9, -999.00,9, -999.00,9,  -999.0,9,  -999.0,-999.000,9,-999.000,-999.000,9,  -9.0000,-999.0000,   1.8270,   -9.00
  316N145_7,       I08N,     317,          1,         12,         12,2,19950318,       0021,    -5.5000,    80.0000,       5140,  2706.7,   1.8310,  34.7337,2,  34.7323,3,    161.8,2,   161.5,2,  127.59,2,   34.25,2,    0.00,2,    2.41,2,-999.000,9,-999.000,9,  -999.0,9,  -999.0,9,  -9.0000,9,-999.0000,9, -999.00,9, -999.00,9,  -999.0,9,  -999.0,-999.000,9,-999.000,-999.000,9,  -9.0000,-999.0000,   1.6346,   -9.00
  316N145_7,       I08N,     317,          1,         11,         11,2,19950318,       0021,    -5.5000,    80.0000,       5140,  2934.6,   1.7036,  34.7302,2,  34.7264,3,    163.7,2,   164.6,2,  130.79,2,   34.30,2,    0.00,2,    2.41,2,-999.000,9,-999.000,9,  -999.0,9,  -999.0,9,  -9.0000,9,-999.0000,9, -999.00,9, -999.00,9,  -999.0,9,  -999.0,-999.000,9,-999.000,-999.000,9,  -9.0000,-999.0000,   1.4883,   -9.00
  316N145_7,       I08N,     317,          1,         10,         10,2,19950318,       0021,    -5.5000,    80.0000,       5140,  3164.1,   1.5849,  34.7267,2,  34.7225,3,    166.4,2,   166.3,2,  133.36,2,   34.30,2,    0.00,2,    2.40,2,-999.000,9,-999.000,9,  -999.0,9,  -999.0,9,  -9.0000,9,-999.0000,9, -999.00,9, -999.00,9,  -999.0,9,  -999.0,-999.000,9,-999.000,-999.000,9,  -9.0000,-999.0000,   1.3500,   -9.00
  316N145_7,       I08N,     317,          1,          9,          9,2,19950318,       0021,    -5.5000,    80.0000,       5140,  3392.9,   1.4859,  34.7236,2,  34.7190,3,    168.0,2,   169.0,2,  136.15,2,   34.35,2,    0.00,2,    2.39,2,-999.000,9,-999.000,9,  -999.0,9,  -999.0,9,  -9.0000,9,-999.0000,9, -999.00,9, -999.00,9,  -999.0,9,  -999.0,-999.000,9,-999.000,-999.000,9,  -9.0000,-999.0000,   1.2307,   -9.00
  316N145_7,       I08N,     317,          1,          8,          8,2,19950318,       0021,    -5.5000,    80.0000,       5140,  3622.2,   1.4310,  34.7214,2,  34.7178,3,    170.5,2,   170.1,2,  136.99,2,   34.10,2,    0.00,2,    2.38,2,-999.000,9,-999.000,9,  -999.0,9,  -999.0,9,  -9.0000,9,-999.0000,9, -999.00,9, -999.00,9,  -999.0,9,  -999.0,-999.000,9,-999.000,-999.000,9,  -9.0000,-999.0000,   1.1539,   -9.00
  316N145_7,       I08N,     317,          1,          7,          7,2,19950318,       0021,    -5.5000,    80.0000,       5140,  3850.9,   1.4043,  34.7200,2,  34.7160,3,    172.8,2,   172.7,2,  137.18,2,   34.10,2,    0.00,2,    2.37,2,-999.000,9,-999.000,9,  -999.0,9,  -999.0,9,  -9.0000,9,-999.0000,9, -999.00,9, -999.00,9,  -999.0,9,  -999.0,-999.000,9,-999.000,-999.000,9,  -9.0000,-999.0000,   1.1039,   -9.00
  316N145_7,       I08N,     317,          1,          6,          6,2,19950318,       0021,    -5.5000,    80.0000,       5140,  4081.2,   1.3942,  34.7195,2,  34.7158,3,    174.9,2,   175.3,2,  136.51,2,   34.05,2,    0.00,2,    2.36,2,-999.000,9,-999.000,9,  -999.0,9,  -999.0,9,  -9.0000,9,-999.0000,9, -999.00,9, -999.00,9,  -999.0,9,  -999.0,-999.000,9,-999.000,-999.000,9,  -9.0000,-999.0000,   1.0693,   -9.00
  316N145_7,       I08N,     317,          1,          5,          5,2,19950318,       0021,    -5.5000,    80.0000,       5140,  4312.5,   1.3912,  34.7184,2,  34.7142,3,    177.9,2,   178.7,2,  135.19,2,   33.81,2,    0.00,2,    2.34,2,-999.000,9,-999.000,9,  -999.0,9,  -999.0,9,  -9.0000,9,-999.0000,9, -999.00,9, -999.00,9,  -999.0,9,  -999.0,-999.000,9,-999.000,-999.000,9,  -9.0000,-999.0000,   1.0407,   -9.00
  316N145_7,       I08N,     317,          1,          4,          4,2,19950318,       0021,    -5.5000,    80.0000,       5140,  4541.9,   1.3868,  34.7181,2,  34.7146,3,    180.6,2,   180.7,2,  134.30,2,   33.66,2,    0.00,2,    2.33,2,-999.000,9,-999.000,9,  -999.0,9,  -999.0,9,  -9.0000,9,-999.0000,9, -999.00,9, -999.00,9,  -999.0,9,  -999.0,-999.000,9,-999.000,-999.000,9,  -9.0000,-999.0000,   1.0103,   -9.00
  316N145_7,       I08N,     317,          1,          3,          3,2,19950318,       0021,    -5.5000,    80.0000,       5140,  4772.4,   1.3876,  34.7180,2,  34.7144,3,    183.0,2,   183.3,2,  133.20,2,   33.56,2,    0.00,2,    2.32,2,-999.000,9,-999.000,9,  -999.0,9,  -999.0,9,  -9.0000,9,-999.0000,9, -999.00,9, -999.00,9,  -999.0,9,  -999.0,-999.000,9,-999.000,-999.000,9,  -9.0000,-999.0000,   0.9841,   -9.00
  316N145_7,       I08N,     317,          1,          2,          2,2,19950318,       0021,    -5.5000,    80.0000,       5140,  5029.7,   1.4007,  34.7170,2,  34.7129,3,    184.7,2,   184.0,2,  132.53,2,   33.47,2,    0.00,2,    2.31,2,-999.000,9,-999.000,9,  -999.0,9,  -999.0,9,  -9.0000,9,-999.0000,9, -999.00,9, -999.00,9,  -999.0,9,  -999.0,-999.000,9,-999.000,-999.000,9,  -9.0000,-999.0000,   0.9661,   -9.00
  316N145_7,       I08N,     317,          1,          1,          1,2,19950318,       0021,    -5.5000,    80.0000,       5140,  5248.4,   1.4181,  34.7170,2,  34.7140,3,    185.6,2,   185.6,2,  131.86,2,   33.42,2,    0.00,2,    2.31,2,-999.000,9,-999.000,9,  -999.0,9,  -999.0,9,  -9.0000,9,-999.0000,9, -999.00,9, -999.00,9,  -999.0,9,  -999.0,-999.000,9,-999.000,-999.000,9,  -9.0000,-999.0000,   0.9560,   -9.00