BOTTLE,20211124CCHSIORKP
EXPOCODE,SECT_ID,STNNBR,CASTNO,SAMPNO,BTLNBR,BTLNBR_FLAG_W,DATE,TIME,LATITUDE,LONGITUDE,DEPTH,CTDPRS,CTDTMP,CTDSAL,CTDSAL_FLAG_W,SALNTY,SALNTY_FLAG_W,CTDOXY,CTDOXY_FLAG_W,OXYGEN,OXYGEN_FLAG_W,SILCAT,SILCAT_FLAG_W,NITRAT,NITRAT_FLAG_W,NITRIT,NITRIT_FLAG_W,PHSPHT,PHSPHT_FLAG_W,CFC-11,CFC-11_FLAG_W,CFC-12,CFC-12_FLAG_W,TCARBN,TCARBN_FLAG_W,ALKALI,ALKALI_FLAG_W,TRITUM,TRITUM_FLAG_W,HELIUM,HELIUM_FLAG_W,DELHE3,DELHE3_FLAG_W,DELC13,DELC13_FLAG_W,DELC14,DELC14_FLAG_W,C14ERR,NEON,NEON_FLAG_W,NEONER,CCL4,CCL4_FLAG_W,TRITER,HELIER,THETA,DELHER
,,,,,,,,,,,METERS,DBAR,ITS-90,PSS-78,,PSS-78,,UMOL/KG,,UMOL/KG,,UMOL/KG,,UMOL/KG,,UMOL/KG,,UMOL/KG,,PMOL/KG,,PMOL/KG,,UMOL/KG,,UMOL/KG,,TU,,NMOL/KG,,PERCNT,,/MILLE,,/MILLE,,/MILLE,NMOL/KG,,NMOL/KG,PMOL/KG,,TU,NMOL/KG,DEG C,PERCNT
  316N145_7,      TRANS,     384,          1,         36,         36,2,19950401,       1702,   -28.1167,    85.2675,       4261,     3.2,  23.8606,  35.9835,2,  35.9830,2,    212.8,2,   212.9,2,    2.85,2,    0.20,2,    0.00,2,    0.10,2,-999.000,9,-999.000,9,  -999.0,9,  -999.0,9,  -9.0000,9,-999.0000,9, -999.00,9, -999.00,9,  -999.0,9,  -999.0,-999.000,9,-999.000,-999.000,9,  -9.0000,-999.0000,  23.8599,   -9.00
  316N145_7,      TRANS,     384,          1,         35,         35,2,19950401,       1702,   -28.1167,    85.2675,       4261,    30.8,  23.8533,  35.9847,2,  35.9850,2,    215.7,2,   213.1,2,    2.84,2,    0.20,2,    0.00,2,    0.10,2,-999.000,9,-999.000,9,  -999.0,9,  -999.0,9,  -9.0000,9,-999.0000,9, -999.00,9, -999.00,9,  -999.0,9,  -999.0,-999.000,9,-999.000,-999.000,9,  -9.0000,-999.0000,  23.8468,   -9.00
  316N145_7,      TRANS,     384,          1,         34,         34,2,19950401,       1702,   -28.1167,    85.2675,       4261,    56.3,  21.4678,  35.9940,2,  35.8532,2,    208.6,2,   244.0,2,    2.40,2,    0.21,2,    0.00,2,    0.13,2,-999.000,9,-999.000,9,  -999.0,9,  -999.0,9,  -9.0000,9,-999.0000,9, -999.00,9, -999.00,9,  -999.0,9,  -999.0,-999.000,9,-999.000,-999.000,9,  -9.0000,-999.0000,  21.4568,   -9.00
  316N145_7,      TRANS,     384,          1,         33,         33,2,19950401,       1702,   -28.1167,    85.2675,       4261,    81.4,  18.3604,  35.8217,2,  35.8190,2,    235.8,2,   228.5,2,    2.60,2,    0.21,2,    0.00,2,    0.17,2,-999.000,9,-999.000,9,  -999.0,9,  -999.0,9,  -9.0000,9,-999.0000,9, -999.00,9, -999.00,9,  -999.0,9,  -999.0,-999.000,9,-999.000,-999.000,9,  -9.0000,-999.0000,  18.3462,   -9.00
  316N145_7,      TRANS,     384,          1,         32,         32,2,19950401,       1702,   -28.1167,    85.2675,       4261,   106.5,  17.2365,  35.7661,2,  35.7603,2,    232.3,2,   231.9,2,    2.38,2,    0.20,2,    0.00,2,    0.21,2,-999.000,9,-999.000,9,  -999.0,9,  -999.0,9,  -9.0000,9,-999.0000,9, -999.00,9, -999.00,9,  -999.0,9,  -999.0,-999.000,9,-999.000,-999.000,9,  -9.0000,-999.0000,  17.2187,   -9.00
  316N145_7,      TRANS,     384,          1,         31,         31,2,19950401,       1702,   -28.1167,    85.2675,       4261,   131.3,  16.1262,  35.6686,2,  35.6699,2,    238.3,2,   240.9,2,    2.15,2,    0.20,2,    0.01,2,    0.22,2,-999.000,9,-999.000,9,  -999.0,9,  -999.0,9,  -9.0000,9,-999.0000,9, -999.00,9, -999.00,9,  -999.0,9,  -999.0,-999.000,9,-999.000,-999.000,9,  -9.0000,-999.0000,  16.1052,   -9.00
  316N145_7,      TRANS,     384,          1,         30,         30,2,19950401,       1702,   -28.1167,    85.2675,       4261,   156.2,  15.3156,  35.5634,2,  35.5575,2,    228.3,2,   227.9,2,    2.56,2,    2.33,2,    0.13,2,    0.37,2,-999.000,9,-999.000,9,  -999.0,9,  -999.0,9,  -9.0000,9,-999.0000,9, -999.00,9, -999.00,9,  -999.0,9,  -999.0,-999.000,9,-999.000,-999.000,9,  -9.0000,-999.0000,  15.2915,   -9.00
  316N145_7,      TRANS,     384,          1,         29,         29,2,19950401,       1702,   -28.1167,    85.2675,       4261,   206.1,  13.8312,  35.3475,2,  35.3471,2,    227.1,2,   228.1,2,    2.97,2,    5.84,2,    0.01,2,    0.54,2,-999.000,9,-999.000,9,  -999.0,9,  -999.0,9,  -9.0000,9,-999.0000,9, -999.00,9, -999.00,9,  -999.0,9,  -999.0,-999.000,9,-999.000,-999.000,9,  -9.0000,-999.0000,  13.8016,   -9.00
  316N145_7,      TRANS,     384,          1,         28,         28,2,19950401,       1702,   -28.1167,    85.2675,       4261,   256.8,  12.9830,  35.2319,2,  35.2275,2,    228.0,2,   230.0,2,    3.59,2,    8.06,2,    0.00,2,    0.66,2,-999.000,9,-999.000,9,  -999.0,9,  -999.0,9,  -9.0000,9,-999.0000,9, -999.00,9, -999.00,9,  -999.0,9,  -999.0,-999.000,9,-999.000,-999.000,9,  -9.0000,-999.0000,  12.9475,   -9.00
  316N145_7,      TRANS,     384,          1,         27,         27,2,19950401,       1702,   -28.1167,    85.2675,       4261,   307.6,  12.4360,  35.1555,2,  35.1514,2,    229.7,2,   233.5,2,    3.79,2,    9.09,2,    0.00,2,    0.72,2,-999.000,9,-999.000,9,  -999.0,9,  -999.0,9,  -9.0000,9,-999.0000,9, -999.00,9, -999.00,9,  -999.0,9,  -999.0,-999.000,9,-999.000,-999.000,9,  -9.0000,-999.0000,  12.3947,   -9.00
  316N145_7,      TRANS,     384,          1,         26,         26,2,19950401,       1702,   -28.1167,    85.2675,       4261,   358.0,  11.9799,  35.0852,2,  35.0843,2,    233.0,2,   236.4,2,    3.98,2,    9.92,2,    0.00,2,    0.77,2,-999.000,9,-999.000,9,  -999.0,9,  -999.0,9,  -9.0000,9,-999.0000,9, -999.00,9, -999.00,9,  -999.0,9,  -999.0,-999.000,9,-999.000,-999.000,9,  -9.0000,-999.0000,  11.9329,   -9.00
  316N145_7,      TRANS,     384,          1,         25,         25,2,19950401,       1702,   -28.1167,    85.2675,       4261,   407.7,  11.5559,  35.0245,2,  35.0221,2,    235.6,2,   237.3,2,    4.18,2,   10.81,2,    0.00,2,    0.82,2,-999.000,9,-999.000,9,  -999.0,9,  -999.0,9,  -9.0000,9,-999.0000,9, -999.00,9, -999.00,9,  -999.0,9,  -999.0,-999.000,9,-999.000,-999.000,9,  -9.0000,-999.0000,  11.5035,   -9.00
  316N145_7,      TRANS,     384,          1,         24,         24,2,19950401,       1702,   -28.1167,    85.2675,       4261,   508.3,  10.6595,  34.8876,2,  34.8896,2,    238.1,2,   238.8,2,    4.59,2,   12.78,2,    0.00,2,    0.94,2,-999.000,9,-999.000,9,  -999.0,9,  -999.0,9,  -9.0000,9,-999.0000,9, -999.00,9, -999.00,9,  -999.0,9,  -999.0,-999.000,9,-999.000,-999.000,9,  -9.0000,-999.0000,  10.5973,   -9.00
  316N145_7,      TRANS,     384,          1,         23,         23,2,19950401,       1702,   -28.1167,    85.2675,       4261,   608.7,   9.8582,  34.7668,2,  34.7677,2,    236.3,2,   236.3,2,    5.42,2,   15.14,2,    0.00,2,    1.08,2,-999.000,9,-999.000,9,  -999.0,9,  -999.0,9,  -9.0000,9,-999.0000,9, -999.00,9, -999.00,9,  -999.0,9,  -999.0,-999.000,9,-999.000,-999.000,9,  -9.0000,-999.0000,   9.7869,   -9.00
  316N145_7,      TRANS,     384,          1,         22,         22,2,19950401,       1702,   -28.1167,    85.2675,       4261,   709.3,   9.0001,  34.6506,2,  34.6554,2,    227.2,2,   226.7,2,    7.30,2,   18.28,2,    0.00,2,    1.28,2,-999.000,9,-999.000,9,  -999.0,9,  -999.0,9,  -9.0000,9,-999.0000,9, -999.00,9, -999.00,9,  -999.0,9,  -999.0,-999.000,9,-999.000,-999.000,9,  -9.0000,-999.0000,   8.9211,   -9.00
  316N145_7,      TRANS,     384,          1,         21,         21,2,19950401,       1702,   -28.1167,    85.2675,       4261,   808.6,   7.5328,  34.5211,2,  34.5217,2,    208.2,2,   206.4,2,   14.45,2,   23.61,2,    0.00,2,    1.62,2,-999.000,9,-999.000,9,  -999.0,9,  -999.0,9,  -9.0000,9,-999.0000,9, -999.00,9, -999.00,9,  -999.0,9,  -999.0,-999.000,9,-999.000,-999.000,9,  -9.0000,-999.0000,   7.4512,   -9.00
  316N145_7,      TRANS,     384,          1,         20,         20,2,19950401,       1702,   -28.1167,    85.2675,       4261,   907.7,   5.9442,  34.4289,2,  34.4290,2,    198.0,2,   197.2,2,   25.17,2,   27.96,2,    0.00,2,    1.92,2,-999.000,9,-999.000,9,  -999.0,9,  -999.0,9,  -9.0000,9,-999.0000,9, -999.00,9, -999.00,9,  -999.0,9,  -999.0,-999.000,9,-999.000,-999.000,9,  -9.0000,-999.0000,   5.8628,   -9.00
  316N145_7,      TRANS,     384,          1,         19,         19,2,19950401,       1702,   -28.1167,    85.2675,       4261,  1008.2,   4.7394,  34.4079,2,  34.4087,2,    187.3,2,   185.3,2,   39.89,2,   31.18,2,    0.00,2,    2.16,2,-999.000,9,-999.000,9,  -999.0,9,  -999.0,9,  -9.0000,9,-999.0000,9, -999.00,9, -999.00,9,  -999.0,9,  -999.0,-999.000,9,-999.000,-999.000,9,  -9.0000,-999.0000,   4.6575,   -9.00
  316N145_7,      TRANS,     384,          1,         18,         18,2,19950401,       1702,   -28.1167,    85.2675,       4261,  1159.9,   4.0103,  34.4814,2,  34.4845,2,    161.5,2,   158.0,2,   62.61,2,   33.92,2,    0.00,2,    2.38,2,-999.000,9,-999.000,9,  -999.0,9,  -999.0,9,  -9.0000,9,-999.0000,9, -999.00,9, -999.00,9,  -999.0,9,  -999.0,-999.000,9,-999.000,-999.000,9,  -9.0000,-999.0000,   3.9211,   -9.00
  316N145_7,      TRANS,     384,          1,         17,         17,2,19950401,       1702,   -28.1167,    85.2675,       4261,  1313.8,   3.6525,  34.5614,2,  34.5599,2,    145.0,2,   143.7,2,   77.99,2,   34.96,2,    0.00,2,    2.48,2,-999.000,9,-999.000,9,  -999.0,9,  -999.0,9,  -9.0000,9,-999.0000,9, -999.00,9, -999.00,9,  -999.0,9,  -999.0,-999.000,9,-999.000,-999.000,9,  -9.0000,-999.0000,   3.5534,   -9.00
  316N145_7,      TRANS,     384,          1,         16,         16,2,19950401,       1702,   -28.1167,    85.2675,       4261,  1464.8,   3.3479,  34.6053,2,  34.6054,2,    143.3,2,   143.7,2,   85.16,2,   34.96,2,    0.00,2,    2.48,2,-999.000,9,-999.000,9,  -999.0,9,  -999.0,9,  -9.0000,9,-999.0000,9, -999.00,9, -999.00,9,  -999.0,9,  -999.0,-999.000,9,-999.000,-999.000,9,  -9.0000,-999.0000,   3.2390,   -9.00
  316N145_7,      TRANS,     384,          1,         15,         15,2,19950401,       1702,   -28.1167,    85.2675,       4261,  1615.4,   3.0895,  34.6529,2,  34.6536,2,    145.8,2,   145.3,2,   91.91,2,   34.66,2,    0.00,2,    2.46,2,-999.000,9,-999.000,9,  -999.0,9,  -999.0,9,  -9.0000,9,-999.0000,9, -999.00,9, -999.00,9,  -999.0,9,  -999.0,-999.000,9,-999.000,-999.000,9,  -9.0000,-999.0000,   2.9707,   -9.00
  316N145_7,      TRANS,     384,          1,         14,         14,2,19950401,       1702,   -28.1167,    85.2675,       4261,  1817.6,   2.8340,  34.6903,2,  34.6901,2,    148.8,2,   149.4,2,   98.25,2,   34.31,2,    0.00,2,    2.43,2,-999.000,9,-999.000,9,  -999.0,9,  -999.0,9,  -9.0000,9,-999.0000,9, -999.00,9, -999.00,9,  -999.0,9,  -999.0,-999.000,9,-999.000,-999.000,9,  -9.0000,-999.0000,   2.7009,   -9.00
  316N145_7,      TRANS,     384,          1,         13,         13,2,19950401,       1702,   -28.1167,    85.2675,       4261,  2020.4,   2.5408,  34.7081,2,  34.7089,2,    157.4,2,   158.9,2,  101.63,2,   33.66,2,    0.00,2,    2.38,2,-999.000,9,-999.000,9,  -999.0,9,  -999.0,9,  -9.0000,9,-999.0000,9, -999.00,9, -999.00,9,  -999.0,9,  -999.0,-999.000,9,-999.000,-999.000,9,  -9.0000,-999.0000,   2.3941,   -9.00
  316N145_7,      TRANS,     384,          1,         12,         12,2,19950401,       1702,   -28.1167,    85.2675,       4261,  2224.6,   2.2637,  34.7178,2,  34.7180,2,    168.4,2,   168.6,2,  103.30,2,   33.12,2,    0.00,2,    2.32,2,-999.000,9,-999.000,9,  -999.0,9,  -999.0,9,  -9.0000,9,-999.0000,9, -999.00,9, -999.00,9,  -999.0,9,  -999.0,-999.000,9,-999.000,-999.000,9,  -9.0000,-999.0000,   2.1033,   -9.00
  316N145_7,      TRANS,     384,          1,         11,         11,2,19950401,       1702,   -28.1167,    85.2675,       4261,  2426.3,   2.0321,  34.7247,2,  34.7258,2,    180.1,2,   180.4,2,  101.57,2,   32.27,2,    0.00,2,    2.25,2,-999.000,9,-999.000,9,  -999.0,9,  -999.0,9,  -9.0000,9,-999.0000,9, -999.00,9, -999.00,9,  -999.0,9,  -999.0,-999.000,9,-999.000,-999.000,9,  -9.0000,-999.0000,   1.8577,   -9.00
  316N145_7,      TRANS,     384,          1,         10,         10,2,19950401,       1702,   -28.1167,    85.2675,       4261,  2628.6,   1.8545,  34.7332,2,  34.7329,2,    188.0,2,   188.2,2,  101.33,2,   31.63,2,    0.00,2,    2.20,2,-999.000,9,-999.000,9,  -999.0,9,  -999.0,9,  -9.0000,9,-999.0000,9, -999.00,9, -999.00,9,  -999.0,9,  -999.0,-999.000,9,-999.000,-999.000,9,  -9.0000,-999.0000,   1.6649,   -9.00
  316N145_7,      TRANS,     384,          1,          9,          9,2,19950401,       1702,   -28.1167,    85.2675,       4261,  2832.7,   1.6901,  34.7349,2,  34.7356,2,    192.7,2,   192.6,2,  104.50,2,   31.58,2,    0.00,2,    2.19,2,-999.000,9,-999.000,9,  -999.0,9,  -999.0,9,  -9.0000,9,-999.0000,9, -999.00,9, -999.00,9,  -999.0,9,  -999.0,-999.000,9,-999.000,-999.000,9,  -9.0000,-999.0000,   1.4848,   -9.00
  316N145_7,      TRANS,     384,          1,          8,          8,2,19950401,       1702,   -28.1167,    85.2675,       4261,  3037.2,   1.5684,  34.7324,2,  34.7326,2,    194.0,2,   193.9,2,  108.74,2,   31.68,2,    0.00,2,    2.19,2,-999.000,9,-999.000,9,  -999.0,9,  -999.0,9,  -9.0000,9,-999.0000,9, -999.00,9, -999.00,9,  -999.0,9,  -999.0,-999.000,9,-999.000,-999.000,9,  -9.0000,-999.0000,   1.3462,   -9.00
  316N145_7,      TRANS,     384,          1,          7,          7,2,19950401,       1702,   -28.1167,    85.2675,       4261,  3241.0,   1.4726,  34.7299,2,  34.7301,2,    194.4,2,   194.4,2,  111.70,2,   31.88,2,    0.00,2,    2.21,2,   0.001,2,   0.001,2,  -999.0,9,  -999.0,9,  -9.0000,9,-999.0000,9, -999.00,9, -999.00,9,  -999.0,9,  -999.0,-999.000,9,-999.000,-999.000,9,  -9.0000,-999.0000,   1.2328,   -9.00
  316N145_7,      TRANS,     384,          1,          6,          6,2,19950401,       1702,   -28.1167,    85.2675,       4261,  3445.5,   1.4097,  34.7273,2,  34.7267,2,    194.8,2,   194.9,2,  114.89,2,   32.08,2,    0.00,2,    2.22,2,   0.000,2,   0.000,2,  -999.0,9,  -999.0,9,  -9.0000,9,-999.0000,9, -999.00,9, -999.00,9,  -999.0,9,  -999.0,-999.000,9,-999.000,-999.000,9,  -9.0000,-999.0000,   1.1511,   -9.00
  316N145_7,      TRANS,     384,          1,          5,          5,2,19950401,       1702,   -28.1167,    85.2675,       4261,  3648.2,   1.3820,  34.7244,2,  34.7241,2,    194.0,2,   194.2,2,  118.08,2,   32.33,2,    0.00,2,    2.24,2,  -0.001,2,   0.000,2,  -999.0,9,  -999.0,9,  -9.0000,9,-999.0000,9, -999.00,9, -999.00,9,  -999.0,9,  -999.0,-999.000,9,-999.000,-999.000,9,  -9.0000,-999.0000,   1.1034,   -9.00
  316N145_7,      TRANS,     384,          1,          4,          4,2,19950401,       1702,   -28.1167,    85.2675,       4261,  3852.8,   1.3737,  34.7225,2,  34.7227,2,    192.5,2,   191.7,2,  120.63,2,   32.48,2,    0.00,2,    2.26,2,  -0.001,2,   0.000,2,  -999.0,9,  -999.0,9,  -9.0000,9,-999.0000,9, -999.00,9, -999.00,9,  -999.0,9,  -999.0,-999.000,9,-999.000,-999.000,9,  -9.0000,-999.0000,   1.0739,   -9.00
  316N145_7,      TRANS,     384,          1,          3,          3,2,19950401,       1702,   -28.1167,    85.2675,       4261,  4056.7,   1.3798,  34.7220,2,  34.7214,2,    193.0,2,   192.6,2,  120.82,2,   32.53,2,    0.00,2,    2.26,2,   0.000,2,  -0.001,2,  -999.0,9,  -999.0,9,  -9.0000,9,-999.0000,9, -999.00,9, -999.00,9,  -999.0,9,  -999.0,-999.000,9,-999.000,-999.000,9,  -9.0000,-999.0000,   1.0579,   -9.00
  316N145_7,      TRANS,     384,          1,          2,          2,2,19950401,       1702,   -28.1167,    85.2675,       4261,  4210.0,   1.3756,  34.7214,2,  34.7204,2,    193.6,2,   193.6,2,  120.79,2,   32.53,2,    0.00,2,    2.26,2,   0.002,2,  -0.001,2,  -999.0,9,  -999.0,9,  -9.0000,9,-999.0000,9, -999.00,9, -999.00,9,  -999.0,9,  -999.0,-999.000,9,-999.000,-999.000,9,  -9.0000,-999.0000,   1.0369,   -9.00
  316N145_7,      TRANS,     384,          1,          1,          1,2,19950401,       1702,   -28.1167,    85.2675,       4261,  4329.8,   1.3803,  34.7208,2,  34.7209,2,    193.5,2,   193.5,2,  120.97,2,   32.53,2,    0.00,2,    2.26,2,   0.029,3,   0.004,2,  -999.0,9,  -999.0,9,  -9.0000,9,-999.0000,9, -999.00,9, -999.00,9,  -999.0,9,  -999.0,-999.000,9,-999.000,-999.000,9,  -9.0000,-999.0000,   1.0281,   -9.00