BOTTLE,20211124CCHSIORKP
EXPOCODE,SECT_ID,STNNBR,CASTNO,SAMPNO,BTLNBR,BTLNBR_FLAG_W,DATE,TIME,LATITUDE,LONGITUDE,DEPTH,CTDPRS,CTDTMP,CTDSAL,CTDSAL_FLAG_W,SALNTY,SALNTY_FLAG_W,CTDOXY,CTDOXY_FLAG_W,OXYGEN,OXYGEN_FLAG_W,SILCAT,SILCAT_FLAG_W,NITRAT,NITRAT_FLAG_W,NITRIT,NITRIT_FLAG_W,PHSPHT,PHSPHT_FLAG_W,CFC-11,CFC-11_FLAG_W,CFC-12,CFC-12_FLAG_W,TCARBN,TCARBN_FLAG_W,ALKALI,ALKALI_FLAG_W,TRITUM,TRITUM_FLAG_W,HELIUM,HELIUM_FLAG_W,DELHE3,DELHE3_FLAG_W,DELC13,DELC13_FLAG_W,DELC14,DELC14_FLAG_W,C14ERR,NEON,NEON_FLAG_W,NEONER,CCL4,CCL4_FLAG_W,TRITER,HELIER,THETA,DELHER
,,,,,,,,,,,METERS,DBAR,ITS-90,PSS-78,,PSS-78,,UMOL/KG,,UMOL/KG,,UMOL/KG,,UMOL/KG,,UMOL/KG,,UMOL/KG,,PMOL/KG,,PMOL/KG,,UMOL/KG,,UMOL/KG,,TU,,NMOL/KG,,PERCNT,,/MILLE,,/MILLE,,/MILLE,NMOL/KG,,NMOL/KG,PMOL/KG,,TU,NMOL/KG,DEG C,PERCNT
  316N145_7,       I08N,     295,          1,         36,         36,2,19950313,       1133,     1.9997,    80.0002,       3853,     2.4,  29.9028,  34.5369,2,  34.5353,2,    194.4,2,   196.0,2,    2.56,2,    0.01,2,    0.00,2,    0.11,2,-999.000,9,-999.000,9,  1911.6,2,  2270.6,2,   1.0076,2,   1.6832,2,   -0.89,2, -999.00,9,  -999.0,9,  -999.0,   6.559,2,   0.033,-999.000,9,   0.0040,   0.0084,  29.9022,    0.14
  316N145_7,       I08N,     295,          1,         35,         35,2,19950313,       1133,     1.9997,    80.0002,       3853,    15.1,  29.5398,  34.5266,2,  34.5239,2,    198.2,2,   196.9,2,    2.54,2,    0.02,2,    0.00,2,    0.11,2,-999.000,9,-999.000,9,  1910.4,2,  2259.8,2,  -9.0000,9,-999.0000,9, -999.00,9, -999.00,9,  -999.0,9,  -999.0,-999.000,9,-999.000,-999.000,9,  -9.0000,-999.0000,  29.5361,   -9.00
  316N145_7,       I08N,     295,          1,         34,         34,2,19950313,       1133,     1.9997,    80.0002,       3853,    45.3,  28.9991,  34.8043,2,  34.8000,2,    199.6,2,   198.2,2,    2.73,2,    0.00,2,    0.00,2,    0.14,2,-999.000,9,-999.000,9,  1932.3,2,  2286.2,2,   0.9798,2,   1.6888,2,   -0.62,2, -999.00,9,  -999.0,9,  -999.0,   6.597,2,   0.033,-999.000,9,   0.0040,   0.0084,  28.9882,    0.14
  316N145_7,       I08N,     295,          1,         33,         33,2,19950313,       1133,     1.9997,    80.0002,       3853,    65.8,  25.5337,  35.2917,2,  35.3155,2,    159.0,2,   140.0,2,    6.01,2,    7.64,2,    0.27,2,    0.70,2,-999.000,9,-999.000,9,  2046.3,2,  2311.0,2,  -9.0000,9,-999.0000,9, -999.00,9, -999.00,9,  -999.0,9,  -999.0,-999.000,9,-999.000,-999.000,9,  -9.0000,-999.0000,  25.5192,   -9.00
  316N145_7,       I08N,     295,          1,         32,         32,2,19950313,       1133,     1.9997,    80.0002,       3853,    95.2,  20.3533,  35.3563,2,  35.3573,2,     97.8,2,    97.6,2,   11.99,2,   15.96,2,    0.09,2,    1.17,2,-999.000,9,-999.000,9,  2117.8,2,  2320.2,2,   0.8081,2,   1.6682,2,    2.63,2, -999.00,9,  -999.0,9,  -999.0,   6.778,2,   0.034,-999.000,9,   0.0037,   0.0083,  20.3354,    0.14
  316N145_7,       I08N,     295,          1,         31,         31,2,19950313,       1133,     1.9997,    80.0002,       3853,   146.6,  16.8013,  35.1807,2,  35.1780,2,     62.7,2,    64.0,2,   18.59,2,   22.70,2,    0.02,2,    1.61,2,-999.000,9,-999.000,9,  2169.9,2,  2327.0,2,  -9.0000,9,   1.7355,2,    4.45,2, -999.00,9,  -999.0,9,  -999.0,   7.116,2,   0.036,-999.000,9,  -9.0000,   0.0087,  16.7773,    0.14
  316N145_7,       I08N,     295,          1,         30,         30,2,19950313,       1133,     1.9997,    80.0002,       3853,   206.1,  14.8943,  35.2047,2,  35.1958,2,     82.1,2,    84.4,2,   18.36,2,   22.06,2,    0.01,2,    1.56,2,-999.000,9,-999.000,9,  2174.4,2,  2317.0,2,   0.6511,2,   1.7031,2,    4.50,2, -999.00,9,  -999.0,9,  -999.0,   7.068,2,   0.035,-999.000,9,   0.0034,   0.0085,  14.8632,    0.14
  316N145_7,       I08N,     295,          1,         29,         29,2,19950313,       1133,     1.9997,    80.0002,       3853,   256.3,  12.8875,  35.1013,2,  35.0993,2,     48.2,2,    50.0,2,   26.82,2,   28.15,2,    0.00,2,    1.99,2,-999.000,9,-999.000,9,  2217.1,2,  2317.5,2,   0.3746,2,   1.7457,2,    5.00,2, -999.00,9,  -999.0,9,  -999.0,   7.269,2,   0.036,-999.000,9,   0.0028,   0.0087,  12.8523,    0.14
  316N145_7,       I08N,     295,          1,         28,         28,2,19950313,       1133,     1.9997,    80.0002,       3853,   306.3,  12.1216,  35.0881,2,  35.0879,2,     59.2,2,    64.1,2,   26.18,2,   27.73,2,    0.00,2,    1.94,2,-999.000,9,-999.000,9,  2214.1,2,  2322.4,2,  -9.0000,9,-999.0000,9, -999.00,9, -999.00,9,  -999.0,9,  -999.0,-999.000,9,-999.000,-999.000,9,  -9.0000,-999.0000,  12.0812,   -9.00
  316N145_7,       I08N,     295,          1,         27,         27,2,19950313,       1133,     1.9997,    80.0002,       3853,   366.8,  10.8042,  35.0728,2,  35.0690,2,     50.4,2,    42.4,2,   35.88,2,   31.97,2,    0.00,2,    2.27,2,-999.000,9,-999.000,9,  2246.8,2,  2322.4,2,   0.1646,2,   1.7701,2,    5.48,2, -999.00,9,  -999.0,9,  -999.0,   7.414,2,   0.037,-999.000,9,   0.0024,   0.0089,  10.7591,    0.14
  316N145_7,       I08N,     295,          1,         26,         26,2,19950313,       1133,     1.9997,    80.0002,       3853,   456.5,   9.7542,  35.0396,2,  35.0403,2,     31.4,2,    30.7,2,   48.26,2,   34.81,2,    0.00,2,    2.54,2,-999.000,9,-999.000,9,  2267.5,2,  2333.9,2,   0.0589,2,   1.7821,2,    6.00,2, -999.00,9,  -999.0,9,  -999.0,   7.476,2,   0.037,-999.000,9,   0.0023,   0.0089,   9.7014,    0.14
  316N145_7,       I08N,     295,          1,         25,         25,2,19950313,       1133,     1.9997,    80.0002,       3853,   558.2,   8.9597,  35.0175,2,  35.0163,2,     45.0,2,    46.5,2,   54.03,2,   34.48,2,    0.00,2,    2.56,2,-999.000,9,-999.000,9,  2267.1,2,  2340.2,2,  -9.0000,9,-999.0000,9, -999.00,9, -999.00,9,  -999.0,9,  -999.0,-999.000,9,-999.000,-999.000,9,  -9.0000,-999.0000,   8.8979,   -9.00
  316N145_7,       I08N,     295,          1,         24,         24,2,19950313,       1133,     1.9997,    80.0002,       3853,   658.4,   8.6315,  35.0027,2,  35.0021,2,     45.9,2,    46.4,2,   57.94,2,   34.95,2,    0.00,2,    2.59,2,-999.000,9,-999.000,9,  2272.9,2,  2345.0,2,   0.0327,2,   1.7980,2,    7.44,2, -999.00,9,  -999.0,9,  -999.0,   7.561,2,   0.038,-999.000,9,   0.0022,   0.0090,   8.5598,    0.14
  316N145_7,       I08N,     295,          1,         23,         23,2,19950313,       1133,     1.9997,    80.0002,       3853,   759.3,   8.2769,  35.0049,2,  35.0019,2,     43.4,2,    43.4,2,   64.75,2,   35.76,2,    0.00,2,    2.67,2,-999.000,9,-999.000,9,  2283.0,2,  2347.8,2,  -9.0000,9,-999.0000,9, -999.00,9, -999.00,9,  -999.0,9,  -999.0,-999.000,9,-999.000,-999.000,9,  -9.0000,-999.0000,   8.1957,   -9.00
  316N145_7,       I08N,     295,          1,         22,         22,2,19950313,       1133,     1.9997,    80.0002,       3853,   859.6,   7.7204,  34.9831,2,  34.9824,2,     44.9,2,    45.0,2,   71.56,2,   36.28,2,    0.00,2,    2.71,2,-999.000,9,-999.000,9,  2291.0,2,  2354.8,2,   0.0159,2,   1.8118,2,    9.26,2, -999.00,9,  -999.0,9,  -999.0,   7.655,2,   0.038,-999.000,9,   0.0022,   0.0091,   7.6315,    0.14
  316N145_7,       I08N,     295,          1,         21,         21,2,19950313,       1133,     1.9997,    80.0002,       3853,   961.1,   6.9636,  34.9532,2,  34.9531,2,     48.1,2,    48.0,2,   81.08,2,   37.05,2,    0.00,2,    2.77,2,-999.000,9,-999.000,9,  2300.7,2,  2364.4,2,  -9.0000,9,-999.0000,9, -999.00,9, -999.00,9,  -999.0,9,  -999.0,-999.000,9,-999.000,-999.000,9,  -9.0000,-999.0000,   6.8690,   -9.00
  316N145_7,       I08N,     295,          1,         20,         20,2,19950313,       1133,     1.9997,    80.0002,       3853,  1062.1,   6.4354,  34.9257,2,  34.9260,2,     53.4,2,    54.5,2,   86.47,2,   37.19,2,    0.00,2,    2.78,2,-999.000,9,-999.000,9,  2305.8,2,  2380.9,2,   0.0054,2,   1.8307,2,   11.13,2, -999.00,9,  -999.0,9,  -999.0,   7.702,2,   0.039,-999.000,9,   0.0022,   0.0092,   6.3343,    0.14
  316N145_7,       I08N,     295,          1,         19,         19,2,19950313,       1133,     1.9997,    80.0002,       3853,  1162.4,   6.0045,  34.9138,2,  34.9140,2,     57.0,2,    59.0,2,   92.48,2,   37.33,2,    0.00,2,    2.79,2,-999.000,9,-999.000,9,  2310.9,2,  2373.6,2,  -9.0000,9,-999.0000,9, -999.00,9, -999.00,9,  -999.0,9,  -999.0,-999.000,9,-999.000,-999.000,9,  -9.0000,-999.0000,   5.8968,   -9.00
  316N145_7,       I08N,     295,          1,         18,         18,2,19950313,       1133,     1.9997,    80.0002,       3853,  1263.0,   5.5251,  34.8923,2,  34.8930,2,     63.8,2,    65.0,2,   98.51,2,   37.33,2,    0.00,2,    2.79,2,-999.000,9,-999.000,9,  -999.0,5,  2381.7,2,   0.0023,2,   1.8416,2,   12.10,2, -999.00,9,  -999.0,9,  -999.0,   7.786,2,   0.039,-999.000,9,   0.0022,   0.0092,   5.4117,    0.14
  316N145_7,       I08N,     295,          1,         17,         17,2,19950313,       1133,     1.9997,    80.0002,       3853,  1363.7,   5.0175,  34.8734,2,  34.8739,2,     72.8,2,    73.4,2,  102.88,2,   37.19,2,    0.00,2,    2.76,2,-999.000,9,-999.000,9,  2316.7,2,  2386.6,2,  -9.0000,9,-999.0000,9, -999.00,9, -999.00,9,  -999.0,9,  -999.0,-999.000,9,-999.000,-999.000,9,  -9.0000,-999.0000,   4.8994,   -9.00
  316N145_7,       I08N,     295,          1,         16,         16,2,19950313,       1133,     1.9997,    80.0002,       3853,  1465.3,   4.5817,  34.8565,2,  34.8580,2,     80.8,2,    82.1,2,  106.84,2,   37.05,2,    0.00,2,    2.75,2,-999.000,9,-999.000,9,  2318.3,2,  2392.6,2,  -9.0000,9,-999.0000,9, -999.00,9, -999.00,9,  -999.0,9,  -999.0,-999.000,9,-999.000,-999.000,9,  -9.0000,-999.0000,   4.4585,   -9.00
  316N145_7,       I08N,     295,          1,         15,         15,2,19950313,       1133,     1.9997,    80.0002,       3853,  1566.1,   4.1389,  34.8327,2,  34.8330,2,     92.6,2,    93.6,2,  109.55,2,   36.72,2,    0.00,2,    2.71,2,-999.000,9,-999.000,9,  2315.7,2,  2394.3,2,   0.0005,2,   1.8611,2,   12.94,2, -999.00,9,  -999.0,9,  -999.0,   7.929,2,   0.040,-999.000,9,   0.0022,   0.0093,   4.0113,    0.14
  316N145_7,       I08N,     295,          1,         14,         14,2,19950313,       1133,     1.9997,    80.0002,       3853,  1666.8,   3.8922,  34.8203,2,  34.8220,2,     99.0,2,    99.5,2,  111.63,2,   36.53,2,    0.00,2,    2.70,2,-999.000,9,-999.000,9,  -999.0,5,  2395.8,2,  -9.0000,9,-999.0000,9, -999.00,9, -999.00,9,  -999.0,9,  -999.0,-999.000,9,-999.000,-999.000,9,  -9.0000,-999.0000,   3.7583,   -9.00
  316N145_7,       I08N,     295,          1,         13,         13,2,19950313,       1133,     1.9997,    80.0002,       3853,  1768.5,   3.6663,  34.8153,2,  34.8167,2,    104.1,2,   105.2,2,  114.55,2,   36.34,2,    0.00,2,    2.67,2,-999.000,9,-999.000,9,  2315.5,2,  2405.1,2,  -0.0004,2,   1.8378,2,   13.43,2, -999.00,9,  -999.0,9,  -999.0,   7.840,2,   0.039,-999.000,9,   0.0022,   0.0092,   3.5260,    0.14
  316N145_7,       I08N,     295,          1,         12,         12,2,19950313,       1133,     1.9997,    80.0002,       3853,  1869.2,   3.2750,  34.8014,2,  34.8006,2,    112.7,2,   112.8,2,  118.97,2,   36.19,2,    0.00,2,    2.65,2,-999.000,9,-999.000,9,  2317.4,2,  2403.9,2,  -9.0000,9,-999.0000,9, -999.00,9, -999.00,9,  -999.0,9,  -999.0,-999.000,9,-999.000,-999.000,9,  -9.0000,-999.0000,   3.1308,   -9.00
  316N145_7,       I08N,     295,          1,         11,         11,2,19950313,       1133,     1.9997,    80.0002,       3853,  1971.0,   2.9412,  34.7858,2,  34.7853,2,    119.7,2,   120.0,2,  122.97,2,   36.00,2,    0.00,2,    2.61,2,-999.000,9,-999.000,9,  2319.2,2,  2402.9,2,  -9.0000,9,-999.0000,9, -999.00,9, -999.00,9,  -999.0,9,  -999.0,-999.000,9,-999.000,-999.000,9,  -9.0000,-999.0000,   2.7927,   -9.00
  316N145_7,       I08N,     295,          1,         10,         10,2,19950313,       1133,     1.9997,    80.0002,       3853,  2123.3,   2.5851,  34.7702,2,  34.7707,2,    128.9,2,   128.3,2,  127.63,2,   35.72,2,    0.00,2,    2.58,2,-999.000,9,-999.000,9,  2319.7,2,  2412.3,2,  -0.0032,2,-999.0000,9, -999.00,9, -999.00,9,  -999.0,9,  -999.0,-999.000,9,-999.000,-999.000,9,   0.0022,-999.0000,   2.4283,   -9.00
  316N145_7,       I08N,     295,          1,          9,          9,2,19950313,       1133,     1.9997,    80.0002,       3853,  2327.1,   2.2726,  34.7561,2,  34.7562,2,    138.7,2,   138.6,2,  130.17,2,   35.29,2,    0.00,2,    2.53,2,-999.000,9,-999.000,9,  2317.5,2,  2414.9,2,  -9.0000,9,-999.0000,9, -999.00,9, -999.00,9,  -999.0,9,  -999.0,-999.000,9,-999.000,-999.000,9,  -9.0000,-999.0000,   2.1027,   -9.00
  316N145_7,       I08N,     295,          1,          8,          8,2,19950313,       1133,     1.9997,    80.0002,       3853,  2530.1,   2.0796,  34.7464,2,  34.7472,2,    146.2,2,   144.9,2,  132.07,2,   35.10,2,    0.00,2,    2.50,2,-999.000,9,-999.000,9,  2317.5,2,  2416.9,2,  -9.0000,9,-999.0000,9, -999.00,9, -999.00,9,  -999.0,9,  -999.0,-999.000,9,-999.000,-999.000,9,  -9.0000,-999.0000,   1.8947,   -9.00
  316N145_7,       I08N,     295,          1,          7,          7,2,19950313,       1133,     1.9997,    80.0002,       3853,  2732.3,   1.9368,  34.7399,2,  34.7407,2,    150.8,2,   150.3,2,  132.90,2,   34.82,2,    0.00,2,    2.47,2,-999.000,9,-999.000,9,  2315.2,2,  2418.3,2,  -9.0000,9,-999.0000,9, -999.00,9, -999.00,9,  -999.0,9,  -999.0,-999.000,9,-999.000,-999.000,9,  -9.0000,-999.0000,   1.7358,   -9.00
  316N145_7,       I08N,     295,          1,          6,          6,2,19950313,       1133,     1.9997,    80.0002,       3853,  2936.1,   1.7763,  34.7339,2,  34.7352,2,    151.0,2,   150.9,2,  138.04,2,   34.92,2,    0.00,2,    2.47,2,-999.000,9,-999.000,9,  2321.8,2,  2423.5,2,  -9.0000,9,-999.0000,9, -999.00,9, -999.00,9,  -999.0,9,  -999.0,-999.000,9,-999.000,-999.000,9,  -9.0000,-999.0000,   1.5593,   -9.00
  316N145_7,       I08N,     295,          1,          5,          5,2,19950313,       1133,     1.9997,    80.0002,       3853,  3140.6,   1.6482,  34.7291,2,  34.7289,2,    151.8,2,   150.9,2,  142.56,2,   35.06,2,    0.00,2,    2.46,2,-999.000,9,-999.000,9,  2328.5,2,  2417.8,2,  -9.0000,9,-999.0000,9, -999.00,9, -999.00,9,  -999.0,9,  -999.0,-999.000,9,-999.000,-999.000,9,  -9.0000,-999.0000,   1.4142,   -9.00
  316N145_7,       I08N,     295,          1,          4,          4,2,19950313,       1133,     1.9997,    80.0002,       3853,  3343.9,   1.5428,  34.7250,2,  34.7254,2,    154.5,2,   157.8,2,  142.74,2,   34.82,2,    0.00,2,    2.45,2,-999.000,9,-999.000,9,  2325.3,2,  2431.3,2,  -9.0000,9,-999.0000,9, -999.00,9, -999.00,9,  -999.0,9,  -999.0,-999.000,9,-999.000,-999.000,9,  -9.0000,-999.0000,   1.2911,   -9.00
  316N145_7,       I08N,     295,          1,          3,          3,2,19950313,       1133,     1.9997,    80.0002,       3853,  3548.2,   1.4670,  34.7222,2,  34.7219,2,    160.9,2,   161.3,2,  142.93,2,   34.73,2,    0.00,2,    2.44,2,-999.000,9,-999.000,9,  2323.8,2,  2422.8,2,  -9.0000,9,-999.0000,9, -999.00,9, -999.00,9,  -999.0,9,  -999.0,-999.000,9,-999.000,-999.000,9,  -9.0000,-999.0000,   1.1965,   -9.00
  316N145_7,       I08N,     295,          1,          2,          2,2,19950313,       1133,     1.9997,    80.0002,       3853,  3751.7,   1.4139,  34.7199,2,  34.7207,2,    167.5,2,   167.7,2,  140.72,2,   34.40,2,    0.00,2,    2.40,2,-999.000,9,-999.000,9,  2317.1,2,  2422.1,2,  -0.0003,2,-999.0000,9, -999.00,9, -999.00,9,  -999.0,9,  -999.0,-999.000,9,-999.000,-999.000,9,   0.0022,-999.0000,   1.1237,   -9.00
  316N145_7,       I08N,     295,          1,          1,          1,2,19950313,       1133,     1.9997,    80.0002,       3853,  3915.0,   1.4053,  34.7190,2,  34.7195,2,    168.6,2,   168.5,2,  140.91,2,   34.40,2,    0.00,2,    2.39,2,-999.000,9,-999.000,9,  2318.0,2,  2432.4,2,  -0.0023,2,-999.0000,9, -999.00,9, -999.00,9,  -999.0,9,  -999.0,-999.000,9,-999.000,-999.000,9,   0.0022,-999.0000,   1.0981,   -9.00