BOTTLE,20211124CCHSIORKP
EXPOCODE,SECT_ID,STNNBR,CASTNO,SAMPNO,BTLNBR,BTLNBR_FLAG_W,DATE,TIME,LATITUDE,LONGITUDE,DEPTH,CTDPRS,CTDTMP,CTDSAL,CTDSAL_FLAG_W,SALNTY,SALNTY_FLAG_W,CTDOXY,CTDOXY_FLAG_W,OXYGEN,OXYGEN_FLAG_W,SILCAT,SILCAT_FLAG_W,NITRAT,NITRAT_FLAG_W,NITRIT,NITRIT_FLAG_W,PHSPHT,PHSPHT_FLAG_W,CFC-11,CFC-11_FLAG_W,CFC-12,CFC-12_FLAG_W,TCARBN,TCARBN_FLAG_W,ALKALI,ALKALI_FLAG_W,TRITUM,TRITUM_FLAG_W,HELIUM,HELIUM_FLAG_W,DELHE3,DELHE3_FLAG_W,DELC13,DELC13_FLAG_W,DELC14,DELC14_FLAG_W,C14ERR,NEON,NEON_FLAG_W,NEONER,CCL4,CCL4_FLAG_W,TRITER,HELIER,THETA,DELHER
,,,,,,,,,,,METERS,DBAR,ITS-90,PSS-78,,PSS-78,,UMOL/KG,,UMOL/KG,,UMOL/KG,,UMOL/KG,,UMOL/KG,,UMOL/KG,,PMOL/KG,,PMOL/KG,,UMOL/KG,,UMOL/KG,,TU,,NMOL/KG,,PERCNT,,/MILLE,,/MILLE,,/MILLE,NMOL/KG,,NMOL/KG,PMOL/KG,,TU,NMOL/KG,DEG C,PERCNT
  316N145_7,       I05E,     427,          1,         36,         36,2,19950411,       1608,   -31.2668,   107.5167,       4935,     2.7,  21.4620,  36.1907,2,  36.1937,2,    221.0,2,   221.1,2,    3.58,2,    0.14,2,    0.00,2,    0.07,2,   2.145,2,   1.206,2,  2048.2,2,  2369.4,2,   1.1333,2,   1.7077,2,   -1.06,2, -999.00,9,  -999.0,9,  -999.0,   6.851,2,   0.034,-999.000,9,   0.0040,   0.0085,  21.4614,    0.14
  316N145_7,       I05E,     427,          1,         35,         35,2,19950411,       1608,   -31.2668,   107.5167,       4935,    32.6,  20.9140,  36.2035,2,  36.1627,2,    222.4,2,   224.0,2,    3.35,2,    0.14,2,    0.00,2,    0.08,2,-999.000,9,-999.000,9,  -999.0,9,  -999.0,9,  -9.0000,9,-999.0000,9, -999.00,9, -999.00,9,  -999.0,9,  -999.0,-999.000,9,-999.000,-999.000,9,  -9.0000,-999.0000,  20.9078,   -9.00
  316N145_7,       I05E,     427,          1,         34,         34,2,19950411,       1608,   -31.2668,   107.5167,       4935,    62.6,  18.9092,  35.8915,2,  35.9414,2,    234.8,2,   236.4,2,    2.70,2,    0.10,2,    0.00,2,    0.12,2,-999.000,9,-999.000,9,  -999.0,9,  -999.0,9,   0.9949,2,   1.7829,2,   -1.06,2, -999.00,9,  -999.0,9,  -999.0,   7.224,2,   0.036,-999.000,9,   0.0038,   0.0089,  18.8980,    0.14
  316N145_7,       I05E,     427,          1,         33,         33,2,19950411,       1608,   -31.2668,   107.5167,       4935,   102.8,  15.0247,  35.5621,2,  35.5559,2,    249.8,2,   243.6,2,    2.48,2,    0.90,2,    0.16,2,    0.27,2,-999.000,9,-999.000,9,  -999.0,9,  -999.0,9,   0.8914,2,   1.7515,2,   -0.82,2, -999.00,9,  -999.0,9,  -999.0,   7.242,2,   0.036,-999.000,9,   0.0036,   0.0088,  15.0091,    0.14
  316N145_7,       I05E,     427,          1,         32,         32,2,19950411,       1608,   -31.2668,   107.5167,       4935,   148.1,  13.5841,  35.3751,2,  35.3674,2,    236.0,2,   239.1,2,    2.68,2,    4.45,2,    0.03,2,    0.45,2,-999.000,9,-999.000,9,  -999.0,9,  -999.0,9,   0.7993,2,   1.8059,2,   -0.84,2, -999.00,9,  -999.0,9,  -999.0,   7.485,2,   0.037,-999.000,9,   0.0034,   0.0090,  13.5631,    0.14
  316N145_7,       I05E,     427,          1,         31,         31,2,19950411,       1608,   -31.2668,   107.5167,       4935,   198.0,  12.5691,  35.2213,2,  35.2159,2,    238.7,2,   244.5,2,    2.89,2,    6.29,2,    0.02,2,    0.56,2,-999.000,9,-999.000,9,  -999.0,9,  -999.0,9,   0.7272,2,   1.7668,2,   -0.74,2, -999.00,9,  -999.0,9,  -999.0,   7.382,2,   0.037,-999.000,9,   0.0033,   0.0088,  12.5424,    0.14
  316N145_7,       I05E,     427,          1,         30,         30,2,19950411,       1608,   -31.2668,   107.5167,       4935,   248.2,  12.0076,  35.1285,2,  35.1198,2,    245.4,2,   246.7,2,    3.10,2,    7.60,2,    0.01,2,    0.64,2,-999.000,9,-999.000,9,  -999.0,9,  -999.0,9,   0.6845,2,   1.7659,2,   -1.57,2, -999.00,9,  -999.0,9,  -999.0,   7.398,2,   0.037,-999.000,9,   0.0032,   0.0088,  11.9751,    0.14
  316N145_7,       I05E,     427,          1,         29,         29,2,19950411,       1608,   -31.2668,   107.5167,       4935,   309.4,  11.4212,  35.0323,2,  35.0298,2,    249.7,2,   249.4,2,    3.52,2,    8.90,2,    0.01,2,    0.72,2,-999.000,9,-999.000,9,  -999.0,9,  -999.0,9,   0.6535,2,   1.7808,2,   -0.86,2, -999.00,9,  -999.0,9,  -999.0,   7.458,2,   0.037,-999.000,9,   0.0032,   0.0089,  11.3819,    0.14
  316N145_7,       I05E,     427,          1,         28,         28,2,19950411,       1608,   -31.2668,   107.5167,       4935,   408.1,  10.1877,  34.8200,2,  34.8175,2,    244.7,2,   246.0,2,    4.58,2,   12.62,2,    0.01,2,    0.93,2,-999.000,9,-999.000,9,  -999.0,9,  -999.0,9,   0.5598,2,   1.7679,2,   -0.49,2, -999.00,9,  -999.0,9,  -999.0,   7.469,2,   0.037,-999.000,9,   0.0030,   0.0088,  10.1394,    0.14
  316N145_7,       I05E,     427,          1,         27,         27,2,19950411,       1608,   -31.2668,   107.5167,       4935,   508.9,   9.4670,  34.7025,2,  34.7045,2,    240.8,2,   242.1,2,    5.43,2,   15.38,2,    0.01,2,    1.10,2,-999.000,9,-999.000,9,  -999.0,9,  -999.0,9,   0.4808,2,   1.7764,2,   -1.18,2, -999.00,9,  -999.0,9,  -999.0,   7.503,2,   0.038,-999.000,9,   0.0029,   0.0089,   9.4092,    0.14
  316N145_7,       I05E,     427,          1,         26,         26,2,19950411,       1608,   -31.2668,   107.5167,       4935,   609.5,   9.0356,  34.6429,2,  34.6426,2,    240.3,2,   236.9,2,    6.49,2,   17.32,2,    0.01,2,    1.22,2,-999.000,9,-999.000,9,  -999.0,9,  -999.0,9,   0.4281,2,   1.7941,2,   -1.23,2, -999.00,9,  -999.0,9,  -999.0,   7.597,2,   0.038,-999.000,9,   0.0028,   0.0090,   8.9680,    0.14
  316N145_7,       I05E,     427,          1,         25,         25,2,19950411,       1608,   -31.2668,   107.5167,       4935,   709.9,   7.9785,  34.5342,2,  34.5348,2,    217.8,2,   214.1,2,   11.41,2,   22.02,2,    0.01,2,    1.51,2,-999.000,9,-999.000,9,  -999.0,9,  -999.0,9,  -9.0000,9,-999.0000,9, -999.00,9, -999.00,9,  -999.0,9,  -999.0,-999.000,9,-999.000,-999.000,9,  -9.0000,-999.0000,   7.9049,   -9.00
  316N145_7,       I05E,     427,          1,         24,         24,2,19950411,       1608,   -31.2668,   107.5167,       4935,   810.8,   6.6829,  34.4576,2,  34.4590,2,    198.4,2,   196.3,2,   20.39,2,   26.45,2,    0.01,2,    1.81,2,-999.000,9,-999.000,9,  -999.0,9,  -999.0,9,   0.1422,2,   1.8652,2,    0.93,2, -999.00,9,  -999.0,9,  -999.0,   7.925,2,   0.040,-999.000,9,   0.0024,   0.0093,   6.6062,    0.14
  316N145_7,       I05E,     427,          1,         23,         23,2,19950411,       1608,   -31.2668,   107.5167,       4935,   910.0,   4.9521,  34.3877,2,  34.3891,2,    193.0,2,   192.8,2,   34.08,2,   30.31,2,    0.01,2,    2.08,2,-999.000,9,-999.000,9,  -999.0,9,  -999.0,9,  -9.0000,9,-999.0000,9, -999.00,9, -999.00,9,  -999.0,9,  -999.0,-999.000,9,-999.000,-999.000,9,  -9.0000,-999.0000,   4.8774,   -9.00
  316N145_7,       I05E,     427,          1,         22,         22,2,19950411,       1608,   -31.2668,   107.5167,       4935,  1011.0,   4.2083,  34.3913,2,  34.3933,2,    188.8,2,   186.8,2,   44.35,2,   32.07,2,    0.01,2,    2.22,2,-999.000,9,-999.000,9,  -999.0,9,  -999.0,9,   0.0495,2,   1.8141,2,    5.46,2, -999.00,9,  -999.0,9,  -999.0,   7.870,2,   0.039,-999.000,9,   0.0023,   0.0091,   4.1303,    0.14
  316N145_7,       I05E,     427,          1,         21,         21,2,19950411,       1608,   -31.2668,   107.5167,       4935,  1162.5,   3.7733,  34.4730,2,  34.4734,2,    165.6,2,   160.8,2,   64.25,2,   34.24,2,    0.01,2,    2.40,2,-999.000,9,-999.000,9,  -999.0,9,  -999.0,9,   0.0150,2,   1.8803,2,    8.13,2, -999.00,9,  -999.0,9,  -999.0,   8.056,2,   0.040,-999.000,9,   0.0022,   0.0094,   3.6861,    0.14
  316N145_7,       I05E,     427,          1,         20,         20,2,19950411,       1608,   -31.2668,   107.5167,       4935,  1314.1,   3.3553,  34.5273,2,  34.5282,2,    154.3,2,   154.2,2,   74.52,2,   34.88,2,    0.01,2,    2.45,2,-999.000,9,-999.000,9,  -999.0,9,  -999.0,9,  -9.0000,9,-999.0000,9, -999.00,9, -999.00,9,  -999.0,9,  -999.0,-999.000,9,-999.000,-999.000,9,  -9.0000,-999.0000,   3.2592,   -9.00
  316N145_7,       I05E,     427,          1,         19,         19,2,19950411,       1608,   -31.2668,   107.5167,       4935,  1466.0,   3.0343,  34.5822,2,  34.5832,2,    154.3,2,   153.8,2,   81.80,2,   34.84,2,    0.01,2,    2.44,2,-999.000,9,-999.000,9,  -999.0,9,  -999.0,9,  -9.0000,9,   1.8498,2,    9.97,2, -999.00,9,  -999.0,9,  -999.0,   7.931,2,   0.040,-999.000,9,  -9.0000,   0.0092,   2.9288,    0.14
  316N145_7,       I05E,     427,          1,         18,         18,2,19950411,       1608,   -31.2668,   107.5167,       4935,  1617.1,   2.8399,  34.6366,2,  34.6376,2,    153.4,2,   153.6,2,   89.73,2,   34.55,2,    0.00,2,    2.43,2,-999.000,9,-999.000,9,  -999.0,9,  -999.0,9,  -9.0000,9,-999.0000,9, -999.00,9, -999.00,9,  -999.0,9,  -999.0,-999.000,9,-999.000,-999.000,9,  -9.0000,-999.0000,   2.7241,   -9.00
  316N145_7,       I05E,     427,          1,         17,         17,2,19950411,       1608,   -31.2668,   107.5167,       4935,  1768.2,   2.6356,  34.6638,2,  34.6637,2,    157.6,2,   158.0,2,   92.07,2,   34.06,2,    0.00,2,    2.39,2,-999.000,9,-999.000,9,  -999.0,9,  -999.0,9,  -0.0006,2,   1.8843,2,   11.37,2, -999.00,9,  -999.0,9,  -999.0,   8.064,2,   0.040,-999.000,9,   0.0022,   0.0094,   2.5095,    0.14
  316N145_7,       I05E,     427,          1,         16,         16,2,19950411,       1608,   -31.2668,   107.5167,       4935,  1921.2,   2.4640,  34.6945,2,  34.6954,2,    159.6,2,   160.7,2,   98.08,2,   33.68,2,    0.00,2,    2.36,2,-999.000,9,-999.000,9,  -999.0,9,  -999.0,9,  -0.0003,2,   1.8425,2,   12.82,2, -999.00,9,  -999.0,9,  -999.0,   7.904,2,   0.040,-999.000,9,   0.0022,   0.0092,   2.3272,    0.14
  316N145_7,       I05E,     427,          1,         15,         15,2,19950411,       1608,   -31.2668,   107.5167,       4935,  2123.9,   2.2885,  34.7139,2,  34.7135,2,    164.0,2,   164.1,2,  104.10,2,   33.39,2,    0.00,2,    2.35,2,-999.000,9,-999.000,9,  -999.0,9,  -999.0,9,  -9.0000,9,-999.0000,9, -999.00,9, -999.00,9,  -999.0,9,  -999.0,-999.000,9,-999.000,-999.000,9,  -9.0000,-999.0000,   2.1366,   -9.00
  316N145_7,       I05E,     427,          1,         14,         14,2,19950411,       1608,   -31.2668,   107.5167,       4935,  2325.2,   2.1035,  34.7238,2,  34.7249,2,    168.3,2,   169.1,2,  108.18,2,   33.25,2,    0.00,2,    2.32,2,-999.000,9,-999.000,9,  -999.0,9,  -999.0,9,  -9.0000,9,-999.0000,9, -999.00,9, -999.00,9,  -999.0,9,  -999.0,-999.000,9,-999.000,-999.000,9,  -9.0000,-999.0000,   1.9369,   -9.00
  316N145_7,       I05E,     427,          1,         13,         13,2,19950411,       1608,   -31.2668,   107.5167,       4935,  2527.0,   1.9695,  34.7277,2,  34.7288,2,    173.0,2,   173.2,2,  110.10,2,   32.96,2,    0.00,2,    2.30,2,-999.000,9,-999.000,9,  -999.0,9,  -999.0,9,  -9.0000,9,-999.0000,9, -999.00,9, -999.00,9,  -999.0,9,  -999.0,-999.000,9,-999.000,-999.000,9,  -9.0000,-999.0000,   1.7870,   -9.00
  316N145_7,       I05E,     427,          1,         12,         12,2,19950411,       1608,   -31.2668,   107.5167,       4935,  2728.6,   1.8188,  34.7293,2,  34.7300,2,    178.2,2,   178.1,2,  113.11,2,   32.82,2,    0.00,2,    2.28,2,-999.000,9,-999.000,9,  -999.0,9,  -999.0,9,  -9.0000,9,-999.0000,9, -999.00,9, -999.00,9,  -999.0,9,  -999.0,-999.000,9,-999.000,-999.000,9,  -9.0000,-999.0000,   1.6206,   -9.00
  316N145_7,       I05E,     427,          1,         11,         11,2,19950411,       1608,   -31.2668,   107.5167,       4935,  2931.1,   1.6862,  34.7298,2,  34.7310,2,    182.9,2,   182.8,2,  113.94,2,   32.58,2,    0.00,2,    2.27,2,-999.000,9,-999.000,9,  -999.0,9,  -999.0,9,  -9.0000,9,-999.0000,9, -999.00,9, -999.00,9,  -999.0,9,  -999.0,-999.000,9,-999.000,-999.000,9,  -9.0000,-999.0000,   1.4716,   -9.00
  316N145_7,       I05E,     427,          1,         10,         10,2,19950411,       1608,   -31.2668,   107.5167,       4935,  3134.7,   1.5539,  34.7299,2,  34.7302,2,    188.7,2,   188.9,2,  114.12,2,   32.29,2,    0.00,2,    2.24,2,-999.000,9,-999.000,9,  -999.0,9,  -999.0,9,  -9.0000,9,-999.0000,9, -999.00,9, -999.00,9,  -999.0,9,  -999.0,-999.000,9,-999.000,-999.000,9,  -9.0000,-999.0000,   1.3226,   -9.00
  316N145_7,       I05E,     427,          1,          9,          9,2,19950411,       1608,   -31.2668,   107.5167,       4935,  3339.5,   1.4315,  34.7269,2,  34.7277,2,    193.3,2,   192.8,2,  115.39,2,   32.10,2,    0.00,2,    2.23,2,-999.000,9,-999.000,9,  -999.0,9,  -999.0,9,  -9.0000,9,-999.0000,9, -999.00,9, -999.00,9,  -999.0,9,  -999.0,-999.000,9,-999.000,-999.000,9,  -9.0000,-999.0000,   1.1830,   -9.00
  316N145_7,       I05E,     427,          1,          8,          8,2,19950411,       1608,   -31.2668,   107.5167,       4935,  3543.5,   1.3209,  34.7231,2,  34.7234,2,    194.9,2,   194.4,2,  119.06,2,   32.40,2,    0.00,2,    2.24,2,-999.000,9,-999.000,9,  -999.0,9,  -999.0,9,  -9.0000,9,-999.0000,9, -999.00,9, -999.00,9,  -999.0,9,  -999.0,-999.000,9,-999.000,-999.000,9,  -9.0000,-999.0000,   1.0546,   -9.00
  316N145_7,       I05E,     427,          1,          7,          7,2,19950411,       1608,   -31.2668,   107.5167,       4935,  3748.0,   1.2350,  34.7195,2,  34.7206,2,    196.0,2,   196.4,2,  121.43,2,   32.51,2,    0.00,2,    2.25,2,-999.000,9,-999.000,9,  -999.0,9,  -999.0,9,  -9.0000,9,-999.0000,9, -999.00,9, -999.00,9,  -999.0,9,  -999.0,-999.000,9,-999.000,-999.000,9,  -9.0000,-999.0000,   0.9500,   -9.00
  316N145_7,       I05E,     427,          1,          6,          6,2,19950411,       1608,   -31.2668,   107.5167,       4935,  3952.2,   1.1769,  34.7167,2,  34.7173,2,    196.9,2,   196.6,2,  124.02,2,   32.67,2,    0.00,2,    2.26,2,-999.000,9,-999.000,9,  -999.0,9,  -999.0,9,  -9.0000,9,-999.0000,9, -999.00,9, -999.00,9,  -999.0,9,  -999.0,-999.000,9,-999.000,-999.000,9,  -9.0000,-999.0000,   0.8720,   -9.00
  316N145_7,       I05E,     427,          1,          5,          5,2,19950411,       1608,   -31.2668,   107.5167,       4935,  4160.4,   1.1260,  34.7153,2,  34.7155,2,    200.8,2,   200.7,2,  122.89,2,   32.38,2,    0.00,2,    2.24,2,-999.000,9,-999.000,9,  -999.0,9,  -999.0,9,  -9.0000,9,-999.0000,9, -999.00,9, -999.00,9,  -999.0,9,  -999.0,-999.000,9,-999.000,-999.000,9,  -9.0000,-999.0000,   0.8002,   -9.00
  316N145_7,       I05E,     427,          1,          4,          4,2,19950411,       1608,   -31.2668,   107.5167,       4935,  4363.5,   1.0694,  34.7125,2,  34.7136,2,    202.9,2,   203.3,2,  123.50,2,   32.38,2,    0.00,2,    2.24,2,   0.000,2,   0.004,2,  -999.0,9,  -999.0,9,  -9.0000,9,-999.0000,9, -999.00,9, -999.00,9,  -999.0,9,  -999.0,-999.000,9,-999.000,-999.000,9,  -9.0000,-999.0000,   0.7230,   -9.00
  316N145_7,       I05E,     427,          1,          3,          3,2,19950411,       1608,   -31.2668,   107.5167,       4935,  4594.0,   0.9926,  34.7088,2,  34.7091,2,    206.5,2,   206.6,2,  123.69,2,   32.34,2,    0.00,2,    2.23,2,   0.001,2,   0.003,2,  -999.0,9,  -999.0,9,  -9.0000,9,-999.0000,9, -999.00,9, -999.00,9,  -999.0,9,  -999.0,-999.000,9,-999.000,-999.000,9,  -9.0000,-999.0000,   0.6226,   -9.00
  316N145_7,       I05E,     427,          1,          2,          2,2,19950411,       1608,   -31.2668,   107.5167,       4935,  4824.6,   0.9673,  34.7064,2,  34.7073,2,    208.2,2,   207.8,2,  124.30,2,   32.35,2,    0.00,2,    2.23,2,   0.002,2,   0.005,2,  -999.0,9,  -999.0,9,   0.0004,2,-999.0000,9, -999.00,9, -999.00,9,  -999.0,9,  -999.0,-999.000,9,-999.000,-999.000,9,   0.0022,-999.0000,   0.5716,   -9.00
  316N145_7,       I05E,     427,          1,          1,          1,2,19950411,       1608,   -31.2668,   107.5167,       4935,  5044.0,   0.9735,  34.7050,2,  34.7062,2,    208.5,2,   208.3,2,  124.70,2,   32.40,2,    0.00,2,    2.23,2,   0.006,2,   0.011,2,  -999.0,9,  -999.0,9,  -9.0000,9,-999.0000,9, -999.00,9, -999.00,9,  -999.0,9,  -999.0,-999.000,9,-999.000,   0.107,6,  -9.0000,-999.0000,   0.5517,   -9.00