BOTTLE,20211124CCHSIORKP
EXPOCODE,SECT_ID,STNNBR,CASTNO,SAMPNO,BTLNBR,BTLNBR_FLAG_W,DATE,TIME,LATITUDE,LONGITUDE,DEPTH,CTDPRS,CTDTMP,CTDSAL,CTDSAL_FLAG_W,SALNTY,SALNTY_FLAG_W,CTDOXY,CTDOXY_FLAG_W,OXYGEN,OXYGEN_FLAG_W,SILCAT,SILCAT_FLAG_W,NITRAT,NITRAT_FLAG_W,NITRIT,NITRIT_FLAG_W,PHSPHT,PHSPHT_FLAG_W,CFC-11,CFC-11_FLAG_W,CFC-12,CFC-12_FLAG_W,TCARBN,TCARBN_FLAG_W,ALKALI,ALKALI_FLAG_W,TRITUM,TRITUM_FLAG_W,HELIUM,HELIUM_FLAG_W,DELHE3,DELHE3_FLAG_W,DELC13,DELC13_FLAG_W,DELC14,DELC14_FLAG_W,C14ERR,NEON,NEON_FLAG_W,NEONER,CCL4,CCL4_FLAG_W,TRITER,HELIER,THETA,DELHER
,,,,,,,,,,,METERS,DBAR,ITS-90,PSS-78,,PSS-78,,UMOL/KG,,UMOL/KG,,UMOL/KG,,UMOL/KG,,UMOL/KG,,UMOL/KG,,PMOL/KG,,PMOL/KG,,UMOL/KG,,UMOL/KG,,TU,,NMOL/KG,,PERCNT,,/MILLE,,/MILLE,,/MILLE,NMOL/KG,,NMOL/KG,PMOL/KG,,TU,NMOL/KG,DEG C,PERCNT
  316N145_7,       I05E,     400,          1,         36,         36,2,19950404,       2351,   -32.2002,    90.7837,       4080,     4.0,  21.2830,  35.8726,2,  35.8728,2,    223.0,2,   222.9,2,    2.58,2,    0.11,2,    0.00,2,    0.16,2,   2.218,2,   1.216,2,  2054.8,2,  2352.3,2,  -9.0000,9,-999.0000,9, -999.00,9, -999.00,9,  -999.0,9,  -999.0,-999.000,9,-999.000,-999.000,9,  -9.0000,-999.0000,  21.2822,   -9.00
  316N145_7,       I05E,     400,          1,         35,         35,2,19950404,       2351,   -32.2002,    90.7837,       4080,    36.2,  21.2901,  35.8733,2,  35.8722,2,    211.2,2,   223.2,2,    2.32,2,    0.11,2,    0.00,2,    0.15,2,-999.000,9,-999.000,9,  2053.4,2,  2349.3,2,  -9.0000,9,-999.0000,9, -999.00,9, -999.00,9,  -999.0,9,  -999.0,-999.000,9,-999.000,-999.000,9,  -9.0000,-999.0000,  21.2831,   -9.00
  316N145_7,       I05E,     400,          1,         34,         34,2,19950404,       2351,   -32.2002,    90.7837,       4080,    66.5,  17.2801,  35.5121,2,  35.4971,2,    270.3,2,   270.5,2,    2.06,2,    0.11,2,    0.00,2,    0.19,2,   2.843,2,   1.529,2,  2047.3,2,  2329.1,2,  -9.0000,9,-999.0000,9, -999.00,9, -999.00,9,  -999.0,9,  -999.0,-999.000,9,-999.000,-999.000,9,  -9.0000,-999.0000,  17.2690,   -9.00
  316N145_7,       I05E,     400,          1,         33,         33,2,19950404,       2351,   -32.2002,    90.7837,       4080,    96.2,  15.3903,  35.5261,2,-999.0000,9,    247.6,2,   246.0,2,    2.22,2,    0.28,2,    0.03,2,    0.29,2,-999.000,9,-999.000,9,  2071.2,2,  -999.0,5,  -9.0000,9,-999.0000,9, -999.00,9, -999.00,9,  -999.0,9,  -999.0,-999.000,9,-999.000,-999.000,9,  -9.0000,-999.0000,  15.3754,   -9.00
  316N145_7,       I05E,     400,          1,         32,         32,2,19950404,       2351,   -32.2002,    90.7837,       4080,   136.6,  14.0276,  35.3789,2,  35.3760,2,    233.3,2,   234.5,2,    2.81,2,    4.37,2,    0.18,2,    0.58,3,   2.989,2,   1.597,2,  2087.5,2,  2322.5,2,  -9.0000,9,-999.0000,9, -999.00,9, -999.00,9,  -999.0,9,  -999.0,-999.000,9,-999.000,-999.000,9,  -9.0000,-999.0000,  14.0078,   -9.00
  316N145_7,       I05E,     400,          1,         31,         31,2,19950404,       2351,   -32.2002,    90.7837,       4080,   187.3,  13.2606,  35.2906,2,  35.2940,2,    232.2,2,   232.3,2,    3.18,2,    6.47,2,    0.01,2,    0.59,2,-999.000,9,-999.000,9,  2096.8,2,  2319.7,2,  -9.0000,9,-999.0000,9, -999.00,9, -999.00,9,  -999.0,9,  -999.0,-999.000,9,-999.000,-999.000,9,  -9.0000,-999.0000,  13.2344,   -9.00
  316N145_7,       I05E,     400,          1,         30,         30,2,19950404,       2351,   -32.2002,    90.7837,       4080,   227.5,  12.6879,  35.2074,2,  35.2117,2,    232.7,2,   234.7,2,    3.35,2,    7.66,2,    0.01,2,    0.66,2,   3.095,2,   1.608,2,  2097.0,2,  2312.2,2,  -9.0000,9,-999.0000,9, -999.00,9, -999.00,9,  -999.0,9,  -999.0,-999.000,9,-999.000,-999.000,9,  -9.0000,-999.0000,  12.6570,   -9.00
  316N145_7,       I05E,     400,          1,         29,         29,2,19950404,       2351,   -32.2002,    90.7837,       4080,   277.3,  12.0091,  35.0927,2,  35.0937,2,    237.8,2,   240.0,2,    3.93,2,    9.29,2,    0.01,2,    0.75,2,   3.185,2,   1.652,2,  -999.0,5,  2307.6,2,  -9.0000,9,-999.0000,9, -999.00,9, -999.00,9,  -999.0,9,  -999.0,-999.000,9,-999.000,-999.000,9,  -9.0000,-999.0000,  11.9728,   -9.00
  316N145_7,       I05E,     400,          1,         28,         28,2,19950404,       2351,   -32.2002,    90.7837,       4080,   347.3,  11.5629,  35.0317,2,  35.0311,2,    238.1,2,   238.8,2,    4.10,2,   10.28,2,    0.00,2,    0.81,2,   3.151,2,   1.621,2,  2098.1,2,  2299.7,2,  -9.0000,9,-999.0000,9, -999.00,9, -999.00,9,  -999.0,9,  -999.0,-999.000,9,-999.000,-999.000,9,  -9.0000,-999.0000,  11.5184,   -9.00
  316N145_7,       I05E,     400,          1,         27,         27,2,19950404,       2351,   -32.2002,    90.7837,       4080,   407.4,  10.9828,  34.9405,2,  34.9459,2,    240.7,2,   241.7,2,    4.26,2,   11.52,2,    0.00,2,    0.87,2,   3.134,2,   1.627,2,  2102.7,2,  2297.4,2,  -9.0000,9,-999.0000,9, -999.00,9, -999.00,9,  -999.0,9,  -999.0,-999.000,9,-999.000,-999.000,9,  -9.0000,-999.0000,  10.9321,   -9.00
  316N145_7,       I05E,     400,          1,         26,         26,2,19950404,       2351,   -32.2002,    90.7837,       4080,   507.2,  10.4220,  34.8543,2,  34.8591,2,    239.6,2,   240.8,2,    4.64,2,   13.00,2,    0.00,2,    0.97,2,   3.092,2,   1.583,2,  2109.8,2,  2295.9,2,  -9.0000,9,-999.0000,9, -999.00,9, -999.00,9,  -999.0,9,  -999.0,-999.000,9,-999.000,-999.000,9,  -9.0000,-999.0000,  10.3608,   -9.00
  316N145_7,       I05E,     400,          1,         25,         25,2,19950404,       2351,   -32.2002,    90.7837,       4080,   608.4,   9.7027,  34.7429,2,  34.7394,2,    239.7,2,   237.1,2,    5.64,2,   15.47,2,    0.00,2,    1.12,2,   2.883,2,   1.463,2,  2115.8,2,  2286.3,2,  -9.0000,9,-999.0000,9, -999.00,9, -999.00,9,  -999.0,9,  -999.0,-999.000,9,-999.000,-999.000,9,  -9.0000,-999.0000,   9.6321,   -9.00
  316N145_7,       I05E,     400,          1,         24,         24,2,19950404,       2351,   -32.2002,    90.7837,       4080,   709.4,   8.7842,  34.6251,2,  34.6264,2,    224.5,2,   222.6,2,    8.34,2,   19.29,2,    0.00,2,    1.35,2,   2.177,2,   1.080,2,  2129.5,2,  2288.9,2,  -9.0000,9,-999.0000,9, -999.00,9, -999.00,9,  -999.0,9,  -999.0,-999.000,9,-999.000,-999.000,9,  -9.0000,-999.0000,   8.7064,   -9.00
  316N145_7,       I05E,     400,          1,         23,         23,2,19950404,       2351,   -32.2002,    90.7837,       4080,   810.0,   7.5535,  34.5233,2,  34.5193,2,    209.6,2,   205.6,2,   14.62,2,   23.65,2,    0.00,2,    1.63,2,   1.357,2,   0.672,2,  2151.0,2,  2286.5,2,  -9.0000,9,-999.0000,9, -999.00,9, -999.00,9,  -999.0,9,  -999.0,-999.000,9,-999.000,-999.000,9,  -9.0000,-999.0000,   7.4716,   -9.00
  316N145_7,       I05E,     400,          1,         22,         22,2,19950404,       2351,   -32.2002,    90.7837,       4080,   910.6,   6.1026,  34.4278,2,  34.4275,2,    202.6,2,   199.8,2,   23.23,2,   27.53,2,    0.00,2,    1.89,2,   0.933,2,   0.459,2,  2173.3,2,  2291.0,2,  -9.0000,9,-999.0000,9, -999.00,9, -999.00,9,  -999.0,9,  -999.0,-999.000,9,-999.000,-999.000,9,  -9.0000,-999.0000,   6.0198,   -9.00
  316N145_7,       I05E,     400,          1,         21,         21,2,19950404,       2351,   -32.2002,    90.7837,       4080,  1011.4,   4.9210,  34.3744,2,  34.3759,2,    201.0,2,   200.3,2,   31.41,2,   29.93,2,    0.00,2,    2.06,2,   0.797,2,   0.393,2,  2186.7,2,  2293.3,2,  -9.0000,9,-999.0000,9, -999.00,9, -999.00,9,  -999.0,9,  -999.0,-999.000,9,-999.000,-999.000,9,  -9.0000,-999.0000,   4.8375,   -9.00
  316N145_7,       I05E,     400,          1,         20,         20,2,19950404,       2351,   -32.2002,    90.7837,       4080,  1112.6,   4.1646,  34.3869,2,  34.3894,2,    191.8,2,   189.4,2,   43.81,2,   32.08,2,    0.00,2,    2.22,2,   0.440,2,   0.213,2,  2206.8,2,  2314.7,2,  -9.0000,9,-999.0000,9, -999.00,9, -999.00,9,  -999.0,9,  -999.0,-999.000,9,-999.000,   1.095,6,  -9.0000,-999.0000,   4.0783,   -9.00
  316N145_7,       I05E,     400,          1,         19,         19,2,19950404,       2351,   -32.2002,    90.7837,       4080,  1211.4,   3.7429,  34.4364,2,  34.4373,2,    176.0,2,   174.0,2,   55.78,2,   33.53,2,    0.00,2,    2.34,2,   0.202,2,   0.098,2,  2229.5,2,  2320.5,2,  -9.0000,9,-999.0000,9, -999.00,9, -999.00,9,  -999.0,9,  -999.0,-999.000,9,-999.000,-999.000,9,  -9.0000,-999.0000,   3.6518,   -9.00
  316N145_7,       I05E,     400,          1,         18,         18,2,19950404,       2351,   -32.2002,    90.7837,       4080,  1310.0,   3.5291,  34.4970,2,  34.4985,2,    162.4,2,   160.7,2,   67.35,2,   34.43,2,    0.00,2,    2.41,2,   0.084,2,   0.040,2,  2245.9,2,  2324.4,2,  -9.0000,9,-999.0000,9, -999.00,9, -999.00,9,  -999.0,9,  -999.0,-999.000,9,-999.000,-999.000,9,  -9.0000,-999.0000,   3.4317,   -9.00
  316N145_7,       I05E,     400,          1,         17,         17,2,19950404,       2351,   -32.2002,    90.7837,       4080,  1456.1,   3.1627,  34.5544,2,  34.5561,2,    157.5,2,   157.0,2,   75.75,2,   34.63,2,    0.00,2,    2.43,2,-999.000,9,-999.000,9,  2256.3,2,  2388.6,3,  -9.0000,9,-999.0000,9, -999.00,9, -999.00,9,  -999.0,9,  -999.0,-999.000,9,-999.000,-999.000,9,  -9.0000,-999.0000,   3.0567,   -9.00
  316N145_7,       I05E,     400,          1,         16,         16,2,19950404,       2351,   -32.2002,    90.7837,       4080,  1606.2,   2.8968,  34.6081,2,  34.6093,2,    157.9,2,   158.6,2,   81.62,2,   34.28,2,    0.00,2,    2.41,2,   0.022,2,   0.009,2,  2260.9,2,  2353.2,2,  -9.0000,9,-999.0000,9, -999.00,9, -999.00,9,  -999.0,9,  -999.0,-999.000,9,-999.000,-999.000,9,  -9.0000,-999.0000,   2.7812,   -9.00
  316N145_7,       I05E,     400,          1,         15,         15,2,19950404,       2351,   -32.2002,    90.7837,       4080,  1756.3,   2.7151,  34.6464,2,  34.6472,2,    160.9,2,   161.4,2,   85.59,2,   33.78,2,    0.00,2,    2.37,2,-999.000,9,-999.000,9,  2259.1,2,  2354.2,2,  -9.0000,9,-999.0000,9, -999.00,9, -999.00,9,  -999.0,9,  -999.0,-999.000,9,-999.000,-999.000,9,  -9.0000,-999.0000,   2.5890,   -9.00
  316N145_7,       I05E,     400,          1,         14,         14,2,19950404,       2351,   -32.2002,    90.7837,       4080,  1909.2,   2.5052,  34.6862,2,  34.6891,2,    166.5,2,   167.8,2,   89.56,2,   33.13,2,    0.00,2,    2.32,2,   0.010,2,   0.005,2,  2263.1,2,  2352.8,2,  -9.0000,9,-999.0000,9, -999.00,9, -999.00,9,  -999.0,9,  -999.0,-999.000,9,-999.000,-999.000,9,  -9.0000,-999.0000,   2.3688,   -9.00
  316N145_7,       I05E,     400,          1,         13,         13,2,19950404,       2351,   -32.2002,    90.7837,       4080,  2062.6,   2.3503,  34.7083,2,  34.7093,2,    172.6,2,   173.6,2,   90.77,2,   32.48,2,    0.00,2,    2.27,2,-999.000,9,-999.000,9,  2260.9,2,  2362.3,2,  -9.0000,9,-999.0000,9, -999.00,9, -999.00,9,  -999.0,9,  -999.0,-999.000,9,-999.000,-999.000,9,  -9.0000,-999.0000,   2.2028,   -9.00
  316N145_7,       I05E,     400,          1,         12,         12,2,19950404,       2351,   -32.2002,    90.7837,       4080,  2213.9,   2.2269,  34.7226,2,  34.7235,2,    178.8,2,   179.7,2,   90.92,2,   31.83,2,    0.00,2,    2.22,2,   0.004,2,   0.002,2,  2257.8,2,  2350.3,2,  -9.0000,9,-999.0000,9, -999.00,9, -999.00,9,  -999.0,9,  -999.0,-999.000,9,-999.000,   0.022,6,  -9.0000,-999.0000,   2.0681,   -9.00
  316N145_7,       I05E,     400,          1,         11,         11,2,19950404,       2351,   -32.2002,    90.7837,       4080,  2366.2,   2.0924,  34.7315,2,  34.7319,2,    183.8,2,   183.4,2,   93.41,2,   31.58,2,    0.00,2,    2.20,2,-999.000,9,-999.000,9,  2256.1,2,  2358.6,2,  -9.0000,9,-999.0000,9, -999.00,9, -999.00,9,  -999.0,9,  -999.0,-999.000,9,-999.000,-999.000,9,  -9.0000,-999.0000,   1.9222,   -9.00
  316N145_7,       I05E,     400,          1,         10,         10,2,19950404,       2351,   -32.2002,    90.7837,       4080,  2519.5,   1.9585,  34.7370,2,  34.7380,2,    187.7,2,   188.1,2,   95.69,2,   31.33,2,    0.00,2,    2.17,2,   0.002,2,   0.001,2,  2256.2,2,  2362.5,2,  -9.0000,9,-999.0000,9, -999.00,9, -999.00,9,  -999.0,9,  -999.0,-999.000,9,-999.000,-999.000,9,  -9.0000,-999.0000,   1.7768,   -9.00
  316N145_7,       I05E,     400,          1,          9,          9,2,19950404,       2351,   -32.2002,    90.7837,       4080,  2671.7,   1.8464,  34.7397,2,  34.7398,2,    191.8,2,   191.8,2,   97.55,2,   31.18,2,    0.00,2,    2.16,2,-999.000,9,-999.000,9,  2256.6,2,  2363.5,2,  -9.0000,9,-999.0000,9, -999.00,9, -999.00,9,  -999.0,9,  -999.0,-999.000,9,-999.000,-999.000,9,  -9.0000,-999.0000,   1.6529,   -9.00
  316N145_7,       I05E,     400,          1,          8,          8,2,19950404,       2351,   -32.2002,    90.7837,       4080,  2824.4,   1.7291,  34.7404,2,  34.7402,2,    194.4,2,   194.8,2,   99.62,2,   31.13,2,    0.00,2,    2.15,2,   0.001,2,   0.004,2,  2255.8,2,  2373.6,2,  -9.0000,9,-999.0000,9, -999.00,9, -999.00,9,  -999.0,9,  -999.0,-999.000,9,-999.000,-999.000,9,  -9.0000,-999.0000,   1.5237,   -9.00
  316N145_7,       I05E,     400,          1,          7,          7,2,19950404,       2351,   -32.2002,    90.7837,       4080,  3028.4,   1.5945,  34.7377,2,  34.7376,2,    196.6,2,   196.1,2,  103.39,2,   31.18,2,    0.00,2,    2.16,2,-999.000,9,-999.000,9,  2258.2,2,  2361.4,2,  -9.0000,9,-999.0000,9, -999.00,9, -999.00,9,  -999.0,9,  -999.0,-999.000,9,-999.000,-999.000,9,  -9.0000,-999.0000,   1.3726,   -9.00
  316N145_7,       I05E,     400,          1,          6,          6,2,19950404,       2351,   -32.2002,    90.7837,       4080,  3234.4,   1.4496,  34.7328,2,  34.7335,2,    199.3,2,   199.6,2,  106.97,2,   31.39,2,    0.00,2,    2.17,2,   0.001,2,   0.003,2,  2257.7,2,  2386.3,3,  -9.0000,9,-999.0000,9, -999.00,9, -999.00,9,  -999.0,9,  -999.0,-999.000,9,-999.000,-999.000,9,  -9.0000,-999.0000,   1.2110,   -9.00
  316N145_7,       I05E,     400,          1,          5,          5,2,19950404,       2351,   -32.2002,    90.7837,       4080,  3438.2,   1.3291,  34.7284,2,  34.7282,2,    200.8,2,   202.0,2,  110.54,2,   31.54,2,    0.00,2,    2.18,2,-999.000,9,-999.000,9,  2259.6,2,  2372.9,2,  -9.0000,9,-999.0000,9, -999.00,9, -999.00,9,  -999.0,9,  -999.0,-999.000,9,-999.000,-999.000,9,  -9.0000,-999.0000,   1.0732,   -9.00
  316N145_7,       I05E,     400,          1,          4,          4,2,19950404,       2351,   -32.2002,    90.7837,       4080,  3642.0,   1.2239,  34.7234,2,  34.7235,2,    202.2,2,   202.4,2,  113.70,2,   31.79,2,    0.00,2,    2.20,2,   0.002,2,   0.003,2,  2262.7,2,  2365.7,2,  -9.0000,9,-999.0000,9, -999.00,9, -999.00,9,  -999.0,9,  -999.0,-999.000,9,-999.000,-999.000,9,  -9.0000,-999.0000,   0.9501,   -9.00
  316N145_7,       I05E,     400,          1,          3,          3,2,19950404,       2351,   -32.2002,    90.7837,       4080,  3847.1,   1.1610,  34.7198,2,  34.7199,2,    203.4,2,   203.1,2,  116.00,2,   31.99,2,    0.00,2,    2.21,2,   0.005,2,   0.002,2,  2264.9,2,  2372.3,2,  -9.0000,9,-999.0000,9, -999.00,9, -999.00,9,  -999.0,9,  -999.0,-999.000,9,-999.000,-999.000,9,  -9.0000,-999.0000,   0.8676,   -9.00
  316N145_7,       I05E,     400,          1,          2,          2,2,19950404,       2351,   -32.2002,    90.7837,       4080,  4051.6,   1.1416,  34.7184,2,  34.7182,2,    204.0,2,   203.8,2,  117.01,2,   32.04,2,    0.00,2,    2.21,2,   0.005,2,   0.004,2,  2265.4,2,  2374.4,2,  -9.0000,9,-999.0000,9, -999.00,9, -999.00,9,  -999.0,9,  -999.0,-999.000,9,-999.000,-999.000,9,  -9.0000,-999.0000,   0.8271,   -9.00
  316N145_7,       I05E,     400,          1,          1,          1,2,19950404,       2351,   -32.2002,    90.7837,       4080,  4168.8,   1.1259,  34.7166,2,  34.7170,2,    204.1,2,   204.2,2,  118.02,2,   32.14,2,    0.00,2,    2.22,2,   0.007,2,   0.005,2,  2267.8,2,  2380.2,2,  -9.0000,9,-999.0000,9, -999.00,9, -999.00,9,  -999.0,9,  -999.0,-999.000,9,-999.000,   0.056,6,  -9.0000,-999.0000,   0.7992,   -9.00