BOTTLE,20211124CCHSIORKP
EXPOCODE,SECT_ID,STNNBR,CASTNO,SAMPNO,BTLNBR,BTLNBR_FLAG_W,DATE,TIME,LATITUDE,LONGITUDE,DEPTH,CTDPRS,CTDTMP,CTDSAL,CTDSAL_FLAG_W,SALNTY,SALNTY_FLAG_W,CTDOXY,CTDOXY_FLAG_W,OXYGEN,OXYGEN_FLAG_W,SILCAT,SILCAT_FLAG_W,NITRAT,NITRAT_FLAG_W,NITRIT,NITRIT_FLAG_W,PHSPHT,PHSPHT_FLAG_W,CFC-11,CFC-11_FLAG_W,CFC-12,CFC-12_FLAG_W,TCARBN,TCARBN_FLAG_W,ALKALI,ALKALI_FLAG_W,TRITUM,TRITUM_FLAG_W,HELIUM,HELIUM_FLAG_W,DELHE3,DELHE3_FLAG_W,DELC13,DELC13_FLAG_W,DELC14,DELC14_FLAG_W,C14ERR,NEON,NEON_FLAG_W,NEONER,CCL4,CCL4_FLAG_W,TRITER,HELIER,THETA,DELHER
,,,,,,,,,,,METERS,DBAR,ITS-90,PSS-78,,PSS-78,,UMOL/KG,,UMOL/KG,,UMOL/KG,,UMOL/KG,,UMOL/KG,,UMOL/KG,,PMOL/KG,,PMOL/KG,,UMOL/KG,,UMOL/KG,,TU,,NMOL/KG,,PERCNT,,/MILLE,,/MILLE,,/MILLE,NMOL/KG,,NMOL/KG,PMOL/KG,,TU,NMOL/KG,DEG C,PERCNT
  316N145_7,       I08N,     341,          1,         36,         36,2,19950323,       1915,   -17.5007,    79.9990,       5041,     3.9,  28.0805,  34.7609,2,  34.7604,2,    198.3,2,   199.3,2,    2.55,2,    0.09,2,    0.00,2,    0.10,2,-999.000,9,-999.000,9,  1928.7,2,  2270.4,2,  -9.0000,9,-999.0000,9, -999.00,9,    1.16,2,    62.3,2,     3.5,-999.000,9,-999.000,-999.000,9,  -9.0000,-999.0000,  28.0796,   -9.00
  316N145_7,       I08N,     341,          1,         35,         35,2,19950323,       1915,   -17.5007,    79.9990,       5041,    46.5,  28.0789,  34.7668,2,  34.7675,2,    210.2,2,   199.9,2,    2.52,2,    0.09,2,    0.00,2,    0.10,2,-999.000,9,-999.000,9,  -999.0,9,  -999.0,9,  -9.0000,9,-999.0000,9, -999.00,9, -999.00,9,  -999.0,9,  -999.0,-999.000,9,-999.000,-999.000,9,  -9.0000,-999.0000,  28.0680,   -9.00
  316N145_7,       I08N,     341,          1,         34,         34,2,19950323,       1915,   -17.5007,    79.9990,       5041,    91.2,  24.1056,  35.1267,2,  35.1372,2,    236.2,2,   218.0,2,    3.13,2,    0.14,2,    0.00,2,    0.13,2,-999.000,9,-999.000,9,  -999.0,9,  -999.0,9,  -9.0000,9,-999.0000,9, -999.00,9, -999.00,9,  -999.0,9,  -999.0,-999.000,9,-999.000,-999.000,9,  -9.0000,-999.0000,  24.0863,   -9.00
  316N145_7,       I08N,     341,          1,         33,         33,3,19950323,       1915,   -17.5007,    79.9990,       5041,   127.2,  21.3169,  35.1605,2,  35.2378,4,    171.7,2,   173.3,4,    6.86,4,    5.13,4,    0.11,4,    0.46,4,-999.000,9,-999.000,9,  -999.0,9,  -999.0,9,  -9.0000,9,-999.0000,9, -999.00,9,    0.70,2,    61.6,2,     6.4,-999.000,9,-999.000,-999.000,9,  -9.0000,-999.0000,  21.2923,   -9.00
  316N145_7,       I08N,     341,          1,         32,         32,2,19950323,       1915,   -17.5007,    79.9990,       5041,   151.8,  21.1608,  35.5191,2,  35.5148,2,    221.9,2,   202.8,2,    3.50,2,    1.11,2,    0.21,2,    0.22,2,-999.000,9,-999.000,9,  -999.0,9,  -999.0,9,  -9.0000,9,-999.0000,9, -999.00,9,    0.47,2,    59.4,2,     4.2,-999.000,9,-999.000,-999.000,9,  -9.0000,-999.0000,  21.1315,   -9.00
  316N145_7,       I08N,     341,          1,         31,         31,2,19950323,       1915,   -17.5007,    79.9990,       5041,   202.7,  19.5699,  35.7056,2,  35.7084,2,    202.7,2,   196.6,2,    3.69,2,    2.41,2,    0.00,2,    0.30,2,-999.000,9,-999.000,9,  -999.0,9,  -999.0,9,  -9.0000,9,-999.0000,9, -999.00,9, -999.00,9,  -999.0,9,  -999.0,-999.000,9,-999.000,-999.000,9,  -9.0000,-999.0000,  19.5328,   -9.00
  316N145_7,       I08N,     341,          1,         30,         30,3,19950323,       1915,   -17.5007,    79.9990,       5041,   221.1,  18.5525,  35.5658,2,  35.5493,4,    190.3,2,   172.9,4,    8.25,4,    6.51,4,    0.00,4,    0.56,4,-999.000,9,-999.000,9,  -999.0,9,  -999.0,9,  -9.0000,9,-999.0000,9, -999.00,9,    0.63,2,    67.3,2,     3.3,-999.000,9,-999.000,-999.000,9,  -9.0000,-999.0000,  18.5136,   -9.00
  316N145_7,       I08N,     341,          1,         29,         29,2,19950323,       1915,   -17.5007,    79.9990,       5041,   251.2,  17.9649,  35.7776,2,  35.7629,2,    204.0,2,   200.2,2,    3.65,2,    2.78,2,    0.00,2,    0.36,2,-999.000,9,-999.000,9,  -999.0,9,  -999.0,9,  -9.0000,9,-999.0000,9, -999.00,9,    0.92,2,    85.7,2,     3.3,-999.000,9,-999.000,-999.000,9,  -9.0000,-999.0000,  17.9216,   -9.00
  316N145_7,       I08N,     341,          1,         28,         28,2,19950323,       1915,   -17.5007,    79.9990,       5041,   306.2,  15.4150,  35.5691,2,  35.5823,2,    212.4,2,   211.6,2,    3.21,2,    4.29,2,    0.00,2,    0.45,2,-999.000,9,-999.000,9,  -999.0,9,  -999.0,9,  -9.0000,9,-999.0000,9, -999.00,9,    1.00,2,    94.8,2,     5.4,-999.000,9,-999.000,-999.000,9,  -9.0000,-999.0000,  15.3674,   -9.00
  316N145_7,       I08N,     341,          1,         27,         27,2,19950323,       1915,   -17.5007,    79.9990,       5041,   395.4,  12.2324,  35.1339,2,  35.1366,2,    223.0,2,   225.9,2,    3.82,2,    9.58,2,    0.00,2,    0.75,2,-999.000,9,-999.000,9,  -999.0,9,  -999.0,9,  -9.0000,9,-999.0000,9, -999.00,9,    1.10,2,    71.4,2,     3.3,-999.000,9,-999.000,-999.000,9,  -9.0000,-999.0000,  12.1797,   -9.00
  316N145_7,       I08N,     341,          1,         26,         26,2,19950323,       1915,   -17.5007,    79.9990,       5041,   486.3,  10.3595,  34.8464,2,  34.8475,2,    228.0,2,   232.2,2,    4.84,2,   13.74,2,    0.00,2,    1.00,2,-999.000,9,-999.000,9,  -999.0,9,  -999.0,9,  -9.0000,9,-999.0000,9, -999.00,9,    1.12,2,    68.2,2,     4.6,-999.000,9,-999.000,-999.000,9,  -9.0000,-999.0000,  10.3011,   -9.00
  316N145_7,       I08N,     341,          1,         25,         25,2,19950323,       1915,   -17.5007,    79.9990,       5041,   591.4,   8.7830,  34.6466,2,  34.6458,2,    217.4,2,   213.7,2,    9.81,2,   19.65,2,    0.00,2,    1.37,2,-999.000,9,-999.000,9,  -999.0,9,  -999.0,9,  -9.0000,9,-999.0000,9, -999.00,9,    0.89,2,    25.7,2,     3.3,-999.000,9,-999.000,-999.000,9,  -9.0000,-999.0000,   8.7186,   -9.00
  316N145_7,       I08N,     341,          1,         24,         24,2,19950323,       1915,   -17.5007,    79.9990,       5041,   697.9,   6.8972,  34.5454,2,  34.5450,2,    172.9,2,   163.2,2,   34.35,2,   28.92,2,    0.00,2,    1.99,2,-999.000,9,-999.000,9,  -999.0,9,  -999.0,9,  -9.0000,9,-999.0000,9, -999.00,9,    0.73,2,   -83.0,2,     3.5,-999.000,9,-999.000,-999.000,9,  -9.0000,-999.0000,   6.8305,   -9.00
  316N145_7,       I08N,     341,          1,         23,         23,2,19950323,       1915,   -17.5007,    79.9990,       5041,   793.5,   6.0317,  34.6073,2,  34.6128,2,    122.9,2,   115.5,2,   62.44,2,   33.95,2,    0.00,2,    2.41,2,-999.000,9,-999.000,9,  -999.0,9,  -999.0,9,  -9.0000,9,-999.0000,9, -999.00,9,    0.31,2,  -141.6,2,     3.0,-999.000,9,-999.000,-999.000,9,  -9.0000,-999.0000,   5.9604,   -9.00
  316N145_7,       I08N,     341,          1,         22,         22,2,19950323,       1915,   -17.5007,    79.9990,       5041,   889.6,   5.7246,  34.6674,2,  34.6666,2,     97.2,2,    97.1,2,   77.23,2,   35.58,2,    0.00,2,    2.57,2,-999.000,9,-999.000,9,  -999.0,9,  -999.0,9,  -9.0000,9,-999.0000,9, -999.00,9,   -0.02,2,  -165.4,2,     2.9,-999.000,9,-999.000,-999.000,9,  -9.0000,-999.0000,   5.6461,   -9.00
  316N145_7,       I08N,     341,          1,         21,         21,2,19950323,       1915,   -17.5007,    79.9990,       5041,   990.1,   5.2914,  34.6748,2,  34.6754,2,     96.6,2,    98.0,2,   83.89,2,   35.97,2,    0.00,2,    2.61,2,-999.000,9,-999.000,9,  -999.0,9,  -999.0,9,  -9.0000,9,-999.0000,9, -999.00,9,    0.14,2,  -171.4,2,     3.4,-999.000,9,-999.000,-999.000,9,  -9.0000,-999.0000,   5.2066,   -9.00
  316N145_7,       I08N,     341,          1,         20,         20,2,19950323,       1915,   -17.5007,    79.9990,       5041,  1111.2,   4.9153,  34.6855,2,  34.6878,2,     97.9,2,    99.7,2,   90.36,2,   36.25,2,    0.00,2,    2.63,2,-999.000,9,-999.000,9,  -999.0,9,  -999.0,9,  -9.0000,9,-999.0000,9, -999.00,9,    0.08,2,  -177.4,2,     5.1,-999.000,9,-999.000,-999.000,9,  -9.0000,-999.0000,   4.8222,   -9.00
  316N145_7,       I08N,     341,          1,         19,         19,2,19950323,       1915,   -17.5007,    79.9990,       5041,  1311.5,   4.2603,  34.6905,2,  34.6929,2,    109.1,2,   109.3,2,   96.21,2,   36.16,2,    0.00,2,    2.61,2,-999.000,9,-999.000,9,  -999.0,9,  -999.0,9,  -9.0000,9,-999.0000,9, -999.00,9,   -0.19,2,  -188.6,2,     4.2,-999.000,9,-999.000,-999.000,9,  -9.0000,-999.0000,   4.1551,   -9.00
  316N145_7,       I08N,     341,          1,         18,         18,2,19950323,       1915,   -17.5007,    79.9990,       5041,  1513.6,   3.6315,  34.7017,2,  34.7019,2,    123.1,2,   122.1,2,  100.81,2,   35.67,2,    0.00,2,    2.57,2,-999.000,9,-999.000,9,  -999.0,9,  -999.0,9,  -9.0000,9,-999.0000,9, -999.00,9,    0.05,2,  -189.2,2,     4.4,-999.000,9,-999.000,-999.000,9,  -9.0000,-999.0000,   3.5149,   -9.00
  316N145_7,       I08N,     341,          1,         17,         17,2,19950323,       1915,   -17.5007,    79.9990,       5041,  1716.7,   3.1019,  34.7126,2,  34.7122,2,    132.2,2,   132.3,2,  106.90,2,   35.43,2,    0.00,2,    2.54,2,-999.000,9,-999.000,9,  -999.0,9,  -999.0,9,  -9.0000,9,-999.0000,9, -999.00,9, -999.00,9,  -999.0,9,  -999.0,-999.000,9,-999.000,-999.000,9,  -9.0000,-999.0000,   2.9740,   -9.00
  316N145_7,       I08N,     341,          1,         16,         16,2,19950323,       1915,   -17.5007,    79.9990,       5041,  1919.1,   2.7206,  34.7239,2,  34.7239,2,    143.1,2,   143.4,2,  110.25,2,   34.90,2,    0.00,2,    2.49,2,-999.000,9,-999.000,9,  -999.0,9,  -999.0,9,  -9.0000,9,-999.0000,9, -999.00,9, -999.00,9,  -999.0,9,  -999.0,-999.000,9,-999.000,-999.000,9,  -9.0000,-999.0000,   2.5801,   -9.00
  316N145_7,       I08N,     341,          1,         15,         15,2,19950323,       1915,   -17.5007,    79.9990,       5041,  2122.0,   2.4026,  34.7286,2,  34.7285,2,    152.4,2,   152.1,2,  113.39,2,   34.46,2,    0.00,2,    2.45,2,-999.000,9,-999.000,9,  -999.0,9,  -999.0,9,  -9.0000,9,-999.0000,9, -999.00,9, -999.00,9,  -999.0,9,  -999.0,-999.000,9,-999.000,-999.000,9,  -9.0000,-999.0000,   2.2490,   -9.00
  316N145_7,       I08N,     341,          1,         14,         14,2,19950323,       1915,   -17.5007,    79.9990,       5041,  2324.5,   2.1817,  34.7300,2,  34.7304,2,    159.3,2,   158.8,2,  116.12,2,   34.22,2,    0.00,2,    2.42,2,-999.000,9,-999.000,9,  -999.0,9,  -999.0,9,  -9.0000,9,-999.0000,9, -999.00,9, -999.00,9,  -999.0,9,  -999.0,-999.000,9,-999.000,-999.000,9,  -9.0000,-999.0000,   2.0137,   -9.00
  316N145_7,       I08N,     341,          1,         13,         13,2,19950323,       1915,   -17.5007,    79.9990,       5041,  2528.0,   1.9880,  34.7278,2,  34.7285,2,    166.8,2,   167.6,2,  116.09,2,   33.69,2,    0.00,2,    2.37,2,-999.000,9,-999.000,9,  -999.0,9,  -999.0,9,  -9.0000,9,-999.0000,9, -999.00,9, -999.00,9,  -999.0,9,  -999.0,-999.000,9,-999.000,-999.000,9,  -9.0000,-999.0000,   1.8050,   -9.00
  316N145_7,       I08N,     341,          1,         12,         12,2,19950323,       1915,   -17.5007,    79.9990,       5041,  2731.1,   1.8445,  34.7273,2,  34.7288,2,    172.7,2,   172.6,2,  117.33,2,   33.45,2,    0.00,2,    2.35,2,-999.000,9,-999.000,9,  -999.0,9,  -999.0,9,  -9.0000,9,-999.0000,9, -999.00,9, -999.00,9,  -999.0,9,  -999.0,-999.000,9,-999.000,-999.000,9,  -9.0000,-999.0000,   1.6456,   -9.00
  316N145_7,       I08N,     341,          1,         11,         11,2,19950323,       1915,   -17.5007,    79.9990,       5041,  2935.6,   1.7240,  34.7271,2,  34.7282,2,    174.1,2,   174.9,2,  119.43,2,   33.35,2,    0.00,2,    2.34,2,-999.000,9,-999.000,9,  -999.0,9,  -999.0,9,  -9.0000,9,-999.0000,9, -999.00,9, -999.00,9,  -999.0,9,  -999.0,-999.000,9,-999.000,-999.000,9,  -9.0000,-999.0000,   1.5082,   -9.00
  316N145_7,       I08N,     341,          1,         10,         10,2,19950323,       1915,   -17.5007,    79.9990,       5041,  3139.2,   1.6174,  34.7256,2,  34.7267,2,    177.2,2,   176.8,2,  122.38,2,   33.39,2,    0.00,2,    2.34,2,-999.000,9,-999.000,9,  -999.0,9,  -999.0,9,  -9.0000,9,-999.0000,9, -999.00,9, -999.00,9,  -999.0,9,  -999.0,-999.000,9,-999.000,-999.000,9,  -9.0000,-999.0000,   1.3843,   -9.00
  316N145_7,       I08N,     341,          1,          9,          9,2,19950323,       1915,   -17.5007,    79.9990,       5041,  3341.3,   1.5310,  34.7246,2,  34.7245,2,    179.6,2,   179.3,2,  124.27,2,   33.39,2,    0.00,2,    2.33,2,-999.000,9,-999.000,9,  -999.0,9,  -999.0,9,  -9.0000,9,-999.0000,9, -999.00,9, -999.00,9,  -999.0,9,  -999.0,-999.000,9,-999.000,-999.000,9,  -9.0000,-999.0000,   1.2799,   -9.00
  316N145_7,       I08N,     341,          1,          8,          8,2,19950323,       1915,   -17.5007,    79.9990,       5041,  3546.0,   1.4609,  34.7224,2,  34.7233,2,    181.2,2,   181.5,2,  126.16,2,   33.44,2,    0.00,2,    2.33,2,-999.000,9,-999.000,9,  -999.0,9,  -999.0,9,  -9.0000,9,-999.0000,9, -999.00,9, -999.00,9,  -999.0,9,  -999.0,-999.000,9,-999.000,-999.000,9,  -9.0000,-999.0000,   1.1908,   -9.00
  316N145_7,       I08N,     341,          1,          7,          7,2,19950323,       1915,   -17.5007,    79.9990,       5041,  3802.1,   1.4041,  34.7205,2,  34.7221,2,    184.0,3,   184.5,2,  127.20,2,   33.29,2,    0.00,2,    2.32,2,-999.000,9,-999.000,9,  -999.0,9,  -999.0,9,  -9.0000,9,-999.0000,9, -999.00,9, -999.00,9,  -999.0,9,  -999.0,-999.000,9,-999.000,-999.000,9,  -9.0000,-999.0000,   1.1089,   -9.00
  316N145_7,       I08N,     341,          1,          6,          6,2,19950323,       1915,   -17.5007,    79.9990,       5041,  4057.2,   1.3735,  34.7184,2,  34.7196,2,    184.6,3,   184.8,2,  129.96,2,   33.48,2,    0.00,2,    2.34,2,-999.000,9,-999.000,9,  -999.0,9,  -999.0,9,  -9.0000,9,-999.0000,9, -999.00,9, -999.00,9,  -999.0,9,  -999.0,-999.000,9,-999.000,-999.000,9,  -9.0000,-999.0000,   1.0517,   -9.00
  316N145_7,       I08N,     341,          1,          5,          5,2,19950323,       1915,   -17.5007,    79.9990,       5041,  4312.5,   1.3728,  34.7173,2,  34.7186,2,    184.0,2,   183.4,2,  131.00,2,   33.53,2,    0.00,2,    2.34,2,-999.000,9,-999.000,9,  -999.0,9,  -999.0,9,  -9.0000,9,-999.0000,9, -999.00,9, -999.00,9,  -999.0,9,  -999.0,-999.000,9,-999.000,-999.000,9,  -9.0000,-999.0000,   1.0228,   -9.00
  316N145_7,       I08N,     341,          1,          4,          4,2,19950323,       1915,   -17.5007,    79.9990,       5041,  4568.4,   1.3858,  34.7167,2,  34.7186,2,    182.9,3,   183.8,2,  131.61,2,   33.62,2,    0.00,2,    2.33,2,-999.000,9,-999.000,9,  -999.0,9,  -999.0,9,  -9.0000,9,-999.0000,9, -999.00,9, -999.00,9,  -999.0,9,  -999.0,-999.000,9,-999.000,-999.000,9,  -9.0000,-999.0000,   1.0062,   -9.00
  316N145_7,       I08N,     341,          1,          3,          3,2,19950323,       1915,   -17.5007,    79.9990,       5041,  4824.0,   1.4071,  34.7166,2,  34.7172,2,    183.5,3,   183.5,2,  132.00,2,   33.62,2,    0.00,2,    2.34,2,-999.000,9,-999.000,9,  -999.0,9,  -999.0,9,  -9.0000,9,-999.0000,9, -999.00,9, -999.00,9,  -999.0,9,  -999.0,-999.000,9,-999.000,-999.000,9,  -9.0000,-999.0000,   0.9970,   -9.00
  316N145_7,       I08N,     341,          1,          2,          2,2,19950323,       1915,   -17.5007,    79.9990,       5041,  5081.6,   1.4332,  34.7168,2,  34.7170,2,    184.3,2,   184.4,2,  131.54,2,   33.57,2,    0.00,2,    2.33,2,-999.000,9,-999.000,9,  -999.0,9,  -999.0,9,  -9.0000,9,-999.0000,9, -999.00,9, -999.00,9,  -999.0,9,  -999.0,-999.000,9,-999.000,-999.000,9,  -9.0000,-999.0000,   0.9911,   -9.00
  316N145_7,       I08N,     341,          1,          1,          1,2,19950323,       1915,   -17.5007,    79.9990,       5041,  5178.6,   1.4447,  34.7162,2,  34.7166,2,    183.9,2,   184.2,2,  131.07,2,   33.47,2,    0.00,2,    2.34,2,-999.000,9,-999.000,9,  -999.0,9,  -999.0,9,  -9.0000,9,-999.0000,9, -999.00,9, -999.00,9,  -999.0,9,  -999.0,-999.000,9,-999.000,-999.000,9,  -9.0000,-999.0000,   0.9903,   -9.00