BOTTLE,20211124CCHSIORKP
EXPOCODE,SECT_ID,STNNBR,CASTNO,SAMPNO,BTLNBR,BTLNBR_FLAG_W,DATE,TIME,LATITUDE,LONGITUDE,DEPTH,CTDPRS,CTDTMP,CTDSAL,CTDSAL_FLAG_W,SALNTY,SALNTY_FLAG_W,CTDOXY,CTDOXY_FLAG_W,OXYGEN,OXYGEN_FLAG_W,SILCAT,SILCAT_FLAG_W,NITRAT,NITRAT_FLAG_W,NITRIT,NITRIT_FLAG_W,PHSPHT,PHSPHT_FLAG_W,CFC-11,CFC-11_FLAG_W,CFC-12,CFC-12_FLAG_W,TCARBN,TCARBN_FLAG_W,ALKALI,ALKALI_FLAG_W,TRITUM,TRITUM_FLAG_W,HELIUM,HELIUM_FLAG_W,DELHE3,DELHE3_FLAG_W,DELC13,DELC13_FLAG_W,DELC14,DELC14_FLAG_W,C14ERR,NEON,NEON_FLAG_W,NEONER,CCL4,CCL4_FLAG_W,TRITER,HELIER,THETA,DELHER
,,,,,,,,,,,METERS,DBAR,ITS-90,PSS-78,,PSS-78,,UMOL/KG,,UMOL/KG,,UMOL/KG,,UMOL/KG,,UMOL/KG,,UMOL/KG,,PMOL/KG,,PMOL/KG,,UMOL/KG,,UMOL/KG,,TU,,NMOL/KG,,PERCNT,,/MILLE,,/MILLE,,/MILLE,NMOL/KG,,NMOL/KG,PMOL/KG,,TU,NMOL/KG,DEG C,PERCNT
  316N145_7,       I05E,     426,          1,         36,         36,2,19950411,       0953,   -31.1828,   106.7495,       5067,     2.6,  21.3978,  36.1637,2,  36.1632,2,    222.2,2,   222.0,2,    3.52,2,    0.14,2,    0.00,2,    0.08,2,   2.154,2,   1.217,2,  2047.4,2,  2357.4,2,  -9.0000,9,-999.0000,9, -999.00,9,    1.25,2,    81.3,2,     5.2,-999.000,9,-999.000,-999.000,9,  -9.0000,-999.0000,  21.3973,   -9.00
  316N145_7,       I05E,     426,          1,         35,         35,2,19950411,       0953,   -31.1828,   106.7495,       5067,    39.2,  21.0615,  36.1702,2,  36.1704,2,    219.1,2,   223.7,2,    3.30,2,    0.10,2,    0.00,2,    0.07,2,-999.000,9,-999.000,9,  2049.5,2,  2371.4,2,  -9.0000,9,-999.0000,9, -999.00,9, -999.00,9,  -999.0,9,  -999.0,-999.000,9,-999.000,-999.000,9,  -9.0000,-999.0000,  21.0539,   -9.00
  316N145_7,       I05E,     426,          1,         34,         34,2,19950411,       0953,   -31.1828,   106.7495,       5067,    68.8,  20.7677,  36.1387,2,  36.1569,2,    224.4,2,   223.2,2,    3.28,2,    0.14,2,    0.00,2,    0.07,2,   2.184,2,   1.230,2,  2051.0,2,  2358.6,2,  -9.0000,9,-999.0000,9, -999.00,9, -999.00,9,  -999.0,9,  -999.0,-999.000,9,-999.000,-999.000,9,  -9.0000,-999.0000,  20.7546,   -9.00
  316N145_7,       I05E,     426,          1,         33,         33,2,19950411,       0953,   -31.1828,   106.7495,       5067,    98.9,  17.6370,  35.8656,2,  35.8621,2,    232.3,2,   234.1,2,    2.84,2,    0.15,2,    0.04,2,    0.17,2,   2.536,2,   1.402,2,  2062.3,2,  2349.9,2,  -9.0000,9,-999.0000,9, -999.00,9,    1.27,2,    76.8,2,     3.2,-999.000,9,-999.000,-999.000,9,  -9.0000,-999.0000,  17.6202,   -9.00
  316N145_7,       I05E,     426,          1,         32,         32,2,19950411,       0953,   -31.1828,   106.7495,       5067,   138.1,  15.9411,  35.7267,2,  35.7322,2,    228.2,2,   229.4,2,    2.62,2,    1.42,2,    0.02,2,    0.27,2,   2.649,2,   1.452,2,  2074.3,2,  2338.2,2,  -9.0000,9,-999.0000,9, -999.00,9,    1.30,2,    78.5,2,     4.4,-999.000,9,-999.000,-999.000,9,  -9.0000,-999.0000,  15.9192,   -9.00
  316N145_7,       I05E,     426,          1,         31,         31,2,19950411,       0953,   -31.1828,   106.7495,       5067,   189.2,  14.0927,  35.4558,2,  35.4618,2,    231.7,2,   233.6,2,    2.61,2,    3.78,2,    0.02,2,    0.42,2,   2.894,2,   1.584,2,  2084.3,2,  2330.4,2,  -9.0000,9,-999.0000,9, -999.00,9,    1.34,2,    74.3,2,     3.3,-999.000,9,-999.000,-999.000,9,  -9.0000,-999.0000,  14.0652,   -9.00
  316N145_7,       I05E,     426,          1,         30,         30,2,19950411,       0953,   -31.1828,   106.7495,       5067,   240.3,  12.8651,  35.2619,2,  35.2586,2,    236.1,2,   236.9,2,    2.81,2,    6.10,2,    0.01,2,    0.57,2,   3.069,2,   1.668,2,  2094.3,2,  2315.9,2,  -9.0000,9,-999.0000,9, -999.00,9,    1.36,2,    74.5,2,     3.6,-999.000,9,-999.000,-999.000,9,  -9.0000,-999.0000,  12.8321,   -9.00
  316N145_7,       I05E,     426,          1,         29,         29,2,19950411,       0953,   -31.1828,   106.7495,       5067,   300.7,  11.8323,  35.0893,2,  35.0886,2,    239.4,2,   243.5,2,    3.01,2,    8.03,2,    0.01,2,    0.68,2,   3.206,2,   1.707,2,  2097.8,2,  2311.8,2,  -9.0000,9,-999.0000,9, -999.00,9,    1.31,2,    73.4,2,     3.7,-999.000,9,-999.000,-999.000,9,  -9.0000,-999.0000,  11.7932,   -9.00
  316N145_7,       I05E,     426,          1,         28,         28,2,19950411,       0953,   -31.1828,   106.7495,       5067,   360.9,  11.0017,  34.9575,2,  34.9552,2,    239.8,2,   241.4,2,    3.85,2,   10.58,2,    0.01,2,    0.83,2,   3.188,2,   1.674,2,  2104.2,2,  2297.8,2,  -9.0000,9,-999.0000,9, -999.00,9,    1.29,2,    66.5,2,     4.2,-999.000,9,-999.000,-999.000,9,  -9.0000,-999.0000,  10.9568,   -9.00
  316N145_7,       I05E,     426,          1,         27,         27,2,19950411,       0953,   -31.1828,   106.7495,       5067,   459.5,   9.8887,  34.7712,2,  34.7717,2,    241.9,2,   243.8,2,    4.69,2,   13.67,2,    0.01,2,    1.01,2,   3.148,2,   1.653,2,  2110.5,2,  2297.3,2,  -9.0000,9,-999.0000,9, -999.00,9,    1.27,2,    51.3,2,     4.4,-999.000,9,-999.000,-999.000,9,  -9.0000,-999.0000,   9.8352,   -9.00
  316N145_7,       I05E,     426,          1,         26,         26,2,19950411,       0953,   -31.1828,   106.7495,       5067,   559.1,   9.2595,  34.6720,2,  34.6732,2,    240.3,2,   239.8,2,    5.74,2,   16.28,2,    0.01,2,    1.17,2,   3.059,2,   1.568,2,  2117.7,2,  2286.8,2,  -9.0000,9,-999.0000,9, -999.00,9,    1.25,2,    44.3,2,     4.0,-999.000,9,-999.000,-999.000,9,  -9.0000,-999.0000,   9.1967,   -9.00
  316N145_7,       I05E,     426,          1,         25,         25,2,19950411,       0953,   -31.1828,   106.7495,       5067,   659.2,   8.4656,  34.5798,2,  34.5811,2,    227.0,2,   223.0,2,    8.92,2,   20.06,2,    0.01,2,    1.40,2,   2.296,2,   1.149,2,  2131.9,2,  2283.4,2,  -9.0000,9,-999.0000,9, -999.00,9,    1.22,2,    16.4,2,     5.4,-999.000,9,-999.000,-999.000,9,  -9.0000,-999.0000,   8.3951,   -9.00
  316N145_7,       I05E,     426,          1,         24,         24,2,19950411,       0953,   -31.1828,   106.7495,       5067,   759.5,   7.1194,  34.4818,2,  34.4841,2,    204.6,2,   199.3,2,   17.22,2,   25.20,2,    0.01,2,    1.73,2,   1.213,2,   0.598,2,  2160.1,2,  2289.7,2,  -9.0000,9,-999.0000,9, -999.00,9,    1.03,2,   -33.2,2,     3.3,-999.000,9,-999.000,-999.000,9,  -9.0000,-999.0000,   7.0453,   -9.00
  316N145_7,       I05E,     426,          1,         23,         23,2,19950411,       0953,   -31.1828,   106.7495,       5067,   862.3,   5.5819,  34.4105,2,  34.4136,2,    194.7,2,   192.1,2,   29.14,2,   29.15,2,    0.00,2,    2.01,2,   0.649,6,   0.327,6,  2182.5,2,  2290.8,2,  -9.0000,9,-999.0000,9, -999.00,9,    0.90,2,   -73.6,2,     4.0,-999.000,9,-999.000,-999.000,9,  -9.0000,-999.0000,   5.5073,   -9.00
  316N145_7,       I05E,     426,          1,         22,         22,2,19950411,       0953,   -31.1828,   106.7495,       5067,   964.5,   4.4550,  34.3993,2,  34.4001,2,    188.0,2,   184.6,2,   42.98,2,   31.55,2,    0.00,2,    2.21,2,-999.000,9,-999.000,9,  2202.4,2,  2311.4,2,  -9.0000,9,-999.0000,9, -999.00,9,    0.83,2,  -106.6,2,     3.2,-999.000,9,-999.000,-999.000,9,  -9.0000,-999.0000,   4.3790,   -9.00
  316N145_7,       I05E,     426,          1,         21,         21,2,19950411,       0953,   -31.1828,   106.7495,       5067,  1064.6,   3.9556,  34.4332,2,  34.4336,2,    177.3,2,   172.2,2,   55.12,2,   33.37,2,    0.00,2,    2.34,2,   0.294,2,   0.171,2,  2223.6,2,  2318.5,2,  -9.0000,9,-999.0000,9, -999.00,9,    0.63,2,  -131.5,2,     3.1,-999.000,9,-999.000,-999.000,9,  -9.0000,-999.0000,   3.8750,   -9.00
  316N145_7,       I05E,     426,          1,         20,         20,2,19950411,       0953,   -31.1828,   106.7495,       5067,  1215.5,   3.5728,  34.5041,2,  34.5043,2,    158.3,2,   155.3,2,   70.25,2,   34.66,2,    0.00,2,    2.45,2,   0.068,2,   0.031,2,  2246.6,2,  2333.5,2,  -9.0000,9,-999.0000,9, -999.00,9,    0.49,2,  -153.0,2,     3.1,-999.000,9,-999.000,-999.000,9,  -9.0000,-999.0000,   3.4829,   -9.00
  316N145_7,       I05E,     426,          1,         19,         19,2,19950411,       0953,   -31.1828,   106.7495,       5067,  1415.4,   3.1266,  34.5673,2,  34.5672,2,    153.9,2,   153.3,2,   79.63,2,   34.91,2,    0.00,2,    2.46,2,   0.020,6,   0.009,6,  2257.1,2,  2345.7,2,  -9.0000,9,-999.0000,9, -999.00,9,    0.45,2,  -161.8,2,     4.1,-999.000,9,-999.000,-999.000,9,  -9.0000,-999.0000,   3.0244,   -9.00
  316N145_7,       I05E,     426,          1,         18,         18,2,19950411,       0953,   -31.1828,   106.7495,       5067,  1619.9,   2.7913,  34.6321,2,  34.6314,2,    155.5,2,   155.6,2,   87.52,2,   34.48,2,    0.00,2,    2.43,2,   0.005,2,   0.002,2,  2264.3,2,  2355.5,2,  -9.0000,9,-999.0000,9, -999.00,9,    0.30,2,  -183.0,2,     3.8,-999.000,9,-999.000,-999.000,9,  -9.0000,-999.0000,   2.6758,   -9.00
  316N145_7,       I05E,     426,          1,         17,         17,2,19950411,       0953,   -31.1828,   106.7495,       5067,  1820.8,   2.5766,  34.6847,2,  34.6849,2,    156.4,2,   156.1,2,   98.45,2,   34.14,2,    0.00,2,    2.41,2,-999.000,9,-999.000,9,  2273.4,2,  2376.9,2,  -9.0000,9,-999.0000,9, -999.00,9,    0.33,2,  -187.1,2,     6.3,-999.000,9,-999.000,-999.000,9,  -9.0000,-999.0000,   2.4467,   -9.00
  316N145_7,       I05E,     426,          1,         16,         16,2,19950411,       0953,   -31.1828,   106.7495,       5067,  2025.7,   2.3655,  34.7084,2,  34.7088,2,    159.0,2,   159.7,2,  104.89,2,   33.86,2,    0.00,2,    2.39,2,   0.000,2,   0.000,2,  2277.7,2,  2378.3,2,  -9.0000,9,-999.0000,9, -999.00,9,    0.30,2,  -191.6,2,     4.8,-999.000,9,-999.000,-999.000,9,  -9.0000,-999.0000,   2.2210,   -9.00
  316N145_7,       I05E,     426,          1,         15,         15,2,19950411,       0953,   -31.1828,   106.7495,       5067,  2227.6,   2.1727,  34.7212,2,  34.7208,2,    162.2,2,   163.2,2,  110.48,2,   33.67,2,    0.00,2,    2.38,2,-999.000,9,-999.000,9,  2279.6,2,  2387.0,2,  -9.0000,9,-999.0000,9, -999.00,9,    0.30,2,  -199.1,2,     4.1,-999.000,9,-999.000,-999.000,9,  -9.0000,-999.0000,   2.0135,   -9.00
  316N145_7,       I05E,     426,          1,         14,         14,2,19950411,       0953,   -31.1828,   106.7495,       5067,  2429.7,   2.0276,  34.7248,2,  34.7256,2,    166.1,2,   165.7,2,  114.36,2,   33.63,2,    0.00,2,    2.39,2,   0.000,2,  -0.001,2,  2283.0,2,  2400.8,2,  -9.0000,9,-999.0000,9, -999.00,9,    0.27,2,  -198.0,2,     4.4,-999.000,9,-999.000,-999.000,9,  -9.0000,-999.0000,   1.8529,   -9.00
  316N145_7,       I05E,     426,          1,         13,         13,2,19950411,       0953,   -31.1828,   106.7495,       5067,  2633.5,   1.8970,  34.7272,2,  34.7277,2,    169.5,2,   170.2,2,  116.29,2,   33.49,2,    0.00,2,    2.36,2,-999.000,9,-999.000,9,  2281.2,2,  2387.4,2,  -9.0000,9,-999.0000,9, -999.00,9,    0.31,2,  -195.2,2,     4.3,-999.000,9,-999.000,-999.000,9,  -9.0000,-999.0000,   1.7061,   -9.00
  316N145_7,       I05E,     426,          1,         12,         12,2,19950411,       0953,   -31.1828,   106.7495,       5067,  2833.3,   1.7769,  34.7284,2,  34.7285,2,    173.9,2,   174.9,2,  117.13,2,   33.21,2,    0.00,2,    2.33,2,  -0.001,2,  -0.001,2,  2279.8,2,  2390.0,2,  -9.0000,9,-999.0000,9, -999.00,9,    0.28,2,  -203.3,2,     3.2,-999.000,9,-999.000,-999.000,9,  -9.0000,-999.0000,   1.5697,   -9.00
  316N145_7,       I05E,     426,          1,         11,         11,2,19950411,       0953,   -31.1828,   106.7495,       5067,  3037.7,   1.6497,  34.7273,2,  34.7281,2,    178.4,2,   179.1,2,  118.62,2,   33.07,2,    0.00,2,    2.32,2,-999.000,9,-999.000,9,  2280.1,2,  2389.9,2,  -9.0000,9,-999.0000,9, -999.00,9,    0.32,2,  -192.2,2,     3.0,-999.000,9,-999.000,-999.000,9,  -9.0000,-999.0000,   1.4257,   -9.00
  316N145_7,       I05E,     426,          1,         10,         10,2,19950411,       0953,   -31.1828,   106.7495,       5067,  3240.6,   1.5445,  34.7264,2,  34.7264,2,    182.6,2,   183.2,2,  120.12,2,   33.03,2,    0.00,2,    2.31,2,   0.000,2,  -0.001,2,  2278.1,2,  2391.3,2,  -9.0000,9,-999.0000,9, -999.00,9,    0.33,2,  -190.8,2,     3.9,-999.000,9,-999.000,-999.000,9,  -9.0000,-999.0000,   1.3031,   -9.00
  316N145_7,       I05E,     426,          1,          9,          9,2,19950411,       0953,   -31.1828,   106.7495,       5067,  3443.1,   1.4514,  34.7249,2,  34.7244,2,    187.3,2,   186.6,2,  120.74,2,   32.85,2,    0.00,2,    2.29,2,-999.000,9,-999.000,9,  2276.4,2,  2389.7,2,  -9.0000,9,-999.0000,9, -999.00,9,    0.40,2,  -193.1,2,     3.4,-999.000,9,-999.000,-999.000,9,  -9.0000,-999.0000,   1.1920,   -9.00
  316N145_7,       I05E,     426,          1,          8,          8,2,19950411,       0953,   -31.1828,   106.7495,       5067,  3649.9,   1.3545,  34.7227,2,  34.7230,2,    190.7,2,   190.8,2,  121.59,2,   32.76,2,    0.00,2,    2.28,2,  -0.001,2,  -0.001,2,  2275.1,2,  2385.7,2,  -9.0000,9,-999.0000,9, -999.00,9,    0.26,2,  -179.9,2,     4.2,-999.000,9,-999.000,-999.000,9,  -9.0000,-999.0000,   1.0764,   -9.00
  316N145_7,       I05E,     426,          1,          7,          7,2,19950411,       0953,   -31.1828,   106.7495,       5067,  3854.6,   1.2828,  34.7210,2,  34.7213,2,    193.7,2,   193.8,2,  121.99,2,   32.62,2,    0.00,2,    2.27,2,-999.000,9,-999.000,9,  2271.8,2,  2388.3,2,  -9.0000,9,-999.0000,9, -999.00,9,    0.43,2,  -179.4,2,     4.0,-999.000,9,-999.000,-999.000,9,  -9.0000,-999.0000,   0.9853,   -9.00
  316N145_7,       I05E,     426,          1,          6,          6,2,19950411,       0953,   -31.1828,   106.7495,       5067,  4059.5,   1.2146,  34.7182,2,  34.7185,2,    195.5,2,   195.5,2,  123.49,2,   32.63,2,    0.00,2,    2.27,2,   0.000,2,   0.000,2,  2274.4,2,  2387.6,2,  -9.0000,9,-999.0000,9, -999.00,9,    0.43,2,  -193.7,2,     2.9,-999.000,9,-999.000,-999.000,9,  -9.0000,-999.0000,   0.8972,   -9.00
  316N145_7,       I05E,     426,          1,          5,          5,2,19950411,       0953,   -31.1828,   106.7495,       5067,  4263.4,   1.1753,  34.7164,2,  34.7164,2,    198.0,2,   198.0,2,  123.90,2,   32.59,2,    0.00,2,    2.27,2,  -0.001,2,  -0.001,2,  2271.9,2,  2387.1,2,  -9.0000,9,-999.0000,9, -999.00,9,    0.19,2,  -166.4,2,     2.8,-999.000,9,-999.000,-999.000,9,  -9.0000,-999.0000,   0.8367,   -9.00
  316N145_7,       I05E,     426,          1,          4,          4,2,19950411,       0953,   -31.1828,   106.7495,       5067,  4469.8,   1.1343,  34.7144,2,  34.7148,2,    200.5,2,   199.9,2,  123.87,2,   32.50,2,    0.00,2,    2.26,2,-999.000,9,-999.000,9,  2270.5,2,  2392.2,3,  -9.0000,9,-999.0000,9, -999.00,9, -999.00,9,  -999.0,9,  -999.0,-999.000,9,-999.000,-999.000,9,  -9.0000,-999.0000,   0.7739,   -9.00
  316N145_7,       I05E,     426,          1,          3,          3,2,19950411,       0953,   -31.1828,   106.7495,       5067,  4674.9,   1.0661,  34.7114,2,  34.7123,2,    205.3,2,   204.0,2,  123.41,2,   32.41,2,    0.00,2,    2.25,2,   0.002,2,   0.001,2,  2266.4,2,  2380.5,2,  -9.0000,9,-999.0000,9, -999.00,9,    0.39,2,  -158.1,2,     3.4,-999.000,9,-999.000,   0.054,6,  -9.0000,-999.0000,   0.6845,   -9.00
  316N145_7,       I05E,     426,          1,          2,          2,2,19950411,       0953,   -31.1828,   106.7495,       5067,  4931.2,   1.0063,  34.7081,2,  34.7081,2,    206.5,2,   206.8,2,  124.25,2,   32.42,2,    0.00,2,    2.25,2,-999.000,9,-999.000,9,  2265.4,2,  2394.9,3,  -9.0000,9,-999.0000,9, -999.00,9, -999.00,9,  -999.0,9,  -999.0,-999.000,9,-999.000,-999.000,9,  -9.0000,-999.0000,   0.5968,   -9.00
  316N145_7,       I05E,     426,          1,          1,          1,2,19950411,       0953,   -31.1828,   106.7495,       5067,  5171.1,   1.0023,  34.7064,2,  34.7075,2,    208.4,2,   207.9,2,  124.44,2,   32.43,2,    0.00,2,    2.25,2,-999.000,9,-999.000,9,  2264.7,2,  2380.3,2,  -9.0000,9,-999.0000,9, -999.00,9,    0.47,2,  -158.9,2,     2.9,-999.000,9,-999.000,-999.000,9,  -9.0000,-999.0000,   0.5642,   -9.00