BOTTLE,20211124CCHSIORKP
EXPOCODE,SECT_ID,STNNBR,CASTNO,SAMPNO,BTLNBR,BTLNBR_FLAG_W,DATE,TIME,LATITUDE,LONGITUDE,DEPTH,CTDPRS,CTDTMP,CTDSAL,CTDSAL_FLAG_W,SALNTY,SALNTY_FLAG_W,CTDOXY,CTDOXY_FLAG_W,OXYGEN,OXYGEN_FLAG_W,SILCAT,SILCAT_FLAG_W,NITRAT,NITRAT_FLAG_W,NITRIT,NITRIT_FLAG_W,PHSPHT,PHSPHT_FLAG_W,CFC-11,CFC-11_FLAG_W,CFC-12,CFC-12_FLAG_W,TCARBN,TCARBN_FLAG_W,ALKALI,ALKALI_FLAG_W,TRITUM,TRITUM_FLAG_W,HELIUM,HELIUM_FLAG_W,DELHE3,DELHE3_FLAG_W,DELC13,DELC13_FLAG_W,DELC14,DELC14_FLAG_W,C14ERR,NEON,NEON_FLAG_W,NEONER,CCL4,CCL4_FLAG_W,TRITER,HELIER,THETA,DELHER
,,,,,,,,,,,METERS,DBAR,ITS-90,PSS-78,,PSS-78,,UMOL/KG,,UMOL/KG,,UMOL/KG,,UMOL/KG,,UMOL/KG,,UMOL/KG,,PMOL/KG,,PMOL/KG,,UMOL/KG,,UMOL/KG,,TU,,NMOL/KG,,PERCNT,,/MILLE,,/MILLE,,/MILLE,NMOL/KG,,NMOL/KG,PMOL/KG,,TU,NMOL/KG,DEG C,PERCNT
  316N145_7,       I05E,     436,          1,         31,         31,2,19950413,       2243,   -32.5128,   114.1070,       3347,     3.7,  24.5443,  35.7467,2,  35.7448,2,    208.7,2,   209.1,2,    3.40,2,    0.11,2,    0.00,2,    0.08,2,-999.000,9,-999.000,9,  1999.6,2,  2350.3,2,  -9.0000,9,-999.0000,9, -999.00,9, -999.00,9,  -999.0,9,  -999.0,-999.000,9,-999.000,-999.000,9,  -9.0000,-999.0000,  24.5435,   -9.00
  316N145_7,       I05E,     436,          1,         30,         30,2,19950413,       2243,   -32.5128,   114.1070,       3347,    36.3,  23.4128,  35.8137,2,  35.8126,2,    211.2,2,   213.4,2,    3.38,2,    0.06,2,    0.00,2,    0.08,2,-999.000,9,-999.000,9,  2013.6,2,  2348.9,2,  -9.0000,9,-999.0000,9, -999.00,9, -999.00,9,  -999.0,9,  -999.0,-999.000,9,-999.000,-999.000,9,  -9.0000,-999.0000,  23.4053,   -9.00
  316N145_7,       I05E,     436,          1,         29,         29,2,19950413,       2243,   -32.5128,   114.1070,       3347,    65.6,  22.9827,  35.8505,2,  35.8488,2,    206.1,2,   206.3,2,    3.59,2,    0.59,2,    0.20,2,    0.14,2,-999.000,9,-999.000,9,  2031.2,2,  2350.1,2,  -9.0000,9,-999.0000,9, -999.00,9, -999.00,9,  -999.0,9,  -999.0,-999.000,9,-999.000,-999.000,9,  -9.0000,-999.0000,  22.9693,   -9.00
  316N145_7,       I05E,     436,          1,         28,         28,2,19950413,       2243,   -32.5128,   114.1070,       3347,   106.6,  21.8274,  35.9026,2,  35.9468,2,    202.2,2,   204.6,2,    3.35,2,    1.03,2,    0.05,2,    0.18,2,-999.000,9,-999.000,9,  2045.7,2,  2355.5,2,  -9.0000,9,-999.0000,9, -999.00,9, -999.00,9,  -999.0,9,  -999.0,-999.000,9,-999.000,-999.000,9,  -9.0000,-999.0000,  21.8063,   -9.00
  316N145_7,       I05E,     436,          1,         27,         27,2,19950413,       2243,   -32.5128,   114.1070,       3347,   146.1,  19.8312,  35.8921,2,  35.8931,2,    212.1,2,   214.9,2,    3.11,2,    0.95,2,    0.03,2,    0.19,2,-999.000,9,-999.000,9,  2054.5,2,  2357.4,2,  -9.0000,9,-999.0000,9, -999.00,9, -999.00,9,  -999.0,9,  -999.0,-999.000,9,-999.000,-999.000,9,  -9.0000,-999.0000,  19.8043,   -9.00
  316N145_7,       I05E,     436,          1,         26,         26,2,19950413,       2243,   -32.5128,   114.1070,       3347,   205.8,  16.1888,  35.6983,2,  35.6915,2,    239.9,2,   234.6,2,    2.22,2,    1.08,2,    0.05,2,    0.25,2,-999.000,9,-999.000,9,  2068.5,2,  2343.0,2,  -9.0000,9,-999.0000,9, -999.00,9, -999.00,9,  -999.0,9,  -999.0,-999.000,9,-999.000,-999.000,9,  -9.0000,-999.0000,  16.1558,   -9.00
  316N145_7,       I05E,     436,          1,         25,         25,2,19950413,       2243,   -32.5128,   114.1070,       3347,   266.7,  13.4443,  35.3060,2,  35.3009,2,    239.4,2,   240.3,2,    1.99,2,    4.56,2,    0.02,2,    0.48,2,-999.000,9,-999.000,9,  2085.8,2,  2322.7,2,  -9.0000,9,-999.0000,9, -999.00,9, -999.00,9,  -999.0,9,  -999.0,-999.000,9,-999.000,-999.000,9,  -9.0000,-999.0000,  13.4065,   -9.00
  316N145_7,       I05E,     436,          1,         24,         24,2,19950413,       2243,   -32.5128,   114.1070,       3347,   336.0,  11.5608,  35.0130,2,  35.0125,2,    242.7,2,   242.9,2,    2.63,2,    8.60,2,    0.01,2,    0.72,2,-999.000,9,-999.000,9,  2096.9,2,  2306.8,2,  -9.0000,9,-999.0000,9, -999.00,9, -999.00,9,  -999.0,9,  -999.0,-999.000,9,-999.000,-999.000,9,  -9.0000,-999.0000,  11.5177,   -9.00
  316N145_7,       I05E,     436,          1,         23,         23,2,19950413,       2243,   -32.5128,   114.1070,       3347,   386.8,  10.4828,  34.8543,2,  34.8531,2,    242.7,2,   244.0,2,    3.27,2,   11.66,2,    0.01,2,    0.90,2,-999.000,9,-999.000,9,  2104.7,2,  2304.0,2,  -9.0000,9,-999.0000,9, -999.00,9, -999.00,9,  -999.0,9,  -999.0,-999.000,9,-999.000,-999.000,9,  -9.0000,-999.0000,  10.4362,   -9.00
  316N145_7,       I05E,     436,          1,         22,         22,2,19950413,       2243,   -32.5128,   114.1070,       3347,   486.4,   9.4182,  34.6891,2,  34.6888,2,    246.5,2,   248.8,2,    4.57,2,   14.88,2,    0.01,2,    1.09,2,-999.000,9,-999.000,9,  2110.1,2,  2293.6,2,  -9.0000,9,-999.0000,9, -999.00,9, -999.00,9,  -999.0,9,  -999.0,-999.000,9,-999.000,-999.000,9,  -9.0000,-999.0000,   9.3632,   -9.00
  316N145_7,       I05E,     436,          1,         21,         21,2,19950413,       2243,   -32.5128,   114.1070,       3347,   585.7,   9.0522,  34.6405,2,  34.6413,2,    242.8,2,   243.1,2,    5.43,2,   16.64,2,    0.01,2,    1.20,2,-999.000,9,-999.000,9,  2115.8,2,  2292.9,2,  -9.0000,9,-999.0000,9, -999.00,9, -999.00,9,  -999.0,9,  -999.0,-999.000,9,-999.000,-999.000,9,  -9.0000,-999.0000,   8.9872,   -9.00
  316N145_7,       I05E,     436,          1,         20,         20,2,19950413,       2243,   -32.5128,   114.1070,       3347,   688.0,   8.3416,  34.5594,2,  34.5576,2,    227.6,2,   226.3,2,    8.69,2,   20.26,2,    0.01,2,    1.42,2,-999.000,9,-999.000,9,  2130.2,2,  2287.7,2,  -9.0000,9,-999.0000,9, -999.00,9, -999.00,9,  -999.0,9,  -999.0,-999.000,9,-999.000,-999.000,9,  -9.0000,-999.0000,   8.2685,   -9.00
  316N145_7,       I05E,     436,          1,         19,         19,2,19950413,       2243,   -32.5128,   114.1070,       3347,   789.4,   6.7652,  34.4578,2,  34.4599,2,    200.7,2,   198.4,2,   18.73,2,   26.03,2,    0.01,2,    1.79,2,-999.000,9,-999.000,9,  2161.5,2,  2303.1,2,  -9.0000,9,-999.0000,9, -999.00,9, -999.00,9,  -999.0,9,  -999.0,-999.000,9,-999.000,-999.000,9,  -9.0000,-999.0000,   6.6901,   -9.00
  316N145_7,       I05E,     436,          1,         18,         18,2,19950413,       2243,   -32.5128,   114.1070,       3347,   889.8,   4.9121,  34.3863,2,  34.3877,2,    195.2,2,   195.1,2,   33.34,2,   30.17,2,    0.01,2,    2.08,2,-999.000,9,-999.000,9,  2190.2,2,  2304.0,2,  -9.0000,9,-999.0000,9, -999.00,9, -999.00,9,  -999.0,9,  -999.0,-999.000,9,-999.000,-999.000,9,  -9.0000,-999.0000,   4.8394,   -9.00
  316N145_7,       I05E,     436,          1,         17,         17,2,19950413,       2243,   -32.5128,   114.1070,       3347,   990.4,   4.3648,  34.4460,2,  34.4415,2,    174.2,2,   169.2,2,   53.19,2,   32.98,2,    0.01,2,    2.31,2,-999.000,9,-999.000,9,  2220.5,2,  -999.0,5,  -9.0000,9,-999.0000,9, -999.00,9, -999.00,9,  -999.0,9,  -999.0,-999.000,9,-999.000,-999.000,9,  -9.0000,-999.0000,   4.2873,   -9.00
  316N145_7,       I05E,     436,          1,         16,         16,2,19950413,       2243,   -32.5128,   114.1070,       3347,  1110.0,   4.0742,  34.5140,2,  34.5136,2,    147.0,2,   145.3,2,   70.63,2,   34.72,2,    0.00,2,    2.46,2,-999.000,9,-999.000,9,  2250.8,2,  2379.4,3,  -9.0000,9,-999.0000,9, -999.00,9, -999.00,9,  -999.0,9,  -999.0,-999.000,9,-999.000,-999.000,9,  -9.0000,-999.0000,   3.9887,   -9.00
  316N145_7,       I05E,     436,          1,         15,         15,2,19950413,       2243,   -32.5128,   114.1070,       3347,  1261.2,   3.6807,  34.5441,2,  34.5436,2,    144.4,2,   144.8,2,   77.80,2,   35.12,2,    0.01,2,    2.49,2,-999.000,9,-999.000,9,  2260.2,2,  2350.5,2,  -9.0000,9,-999.0000,9, -999.00,9, -999.00,9,  -999.0,9,  -999.0,-999.000,9,-999.000,-999.000,9,  -9.0000,-999.0000,   3.5858,   -9.00
  316N145_7,       I05E,     436,          1,         14,         14,2,19950413,       2243,   -32.5128,   114.1070,       3347,  1412.5,   3.3939,  34.5624,2,  34.5627,2,    147.1,2,   147.2,2,   80.59,2,   35.13,2,    0.01,2,    2.49,2,-999.000,9,-999.000,9,  2263.2,2,  -999.0,5,  -9.0000,9,-999.0000,9, -999.00,9, -999.00,9,  -999.0,9,  -999.0,-999.000,9,-999.000,-999.000,9,  -9.0000,-999.0000,   3.2891,   -9.00
  316N145_7,       I05E,     436,          1,         13,         13,2,19950413,       2243,   -32.5128,   114.1070,       3347,  1564.6,   3.0693,  34.5998,2,  34.5985,2,    150.2,2,   150.3,2,   85.12,2,   34.89,2,    0.00,2,    2.47,2,-999.000,9,-999.000,9,  2265.6,2,  2365.0,2,  -9.0000,9,-999.0000,9, -999.00,9, -999.00,9,  -999.0,9,  -999.0,-999.000,9,-999.000,-999.000,9,  -9.0000,-999.0000,   2.9552,   -9.00
  316N145_7,       I05E,     436,          1,         12,         12,2,19950413,       2243,   -32.5128,   114.1070,       3347,  1716.6,   2.7815,  34.6366,2,  34.6360,2,    156.5,2,   156.7,2,   88.57,2,   34.36,2,    0.00,2,    2.43,2,-999.000,9,-999.000,9,  2267.7,2,  2360.8,2,  -9.0000,9,-999.0000,9, -999.00,9, -999.00,9,  -999.0,9,  -999.0,-999.000,9,-999.000,-999.000,9,  -9.0000,-999.0000,   2.6579,   -9.00
  316N145_7,       I05E,     436,          1,         11,         11,2,19950413,       2243,   -32.5128,   114.1070,       3347,  1868.9,   2.5391,  34.6833,2,  34.6826,2,    160.0,2,   160.2,2,   95.74,2,   33.82,2,    0.00,2,    2.39,2,-999.000,9,-999.000,9,  2271.4,2,  2372.5,2,  -9.0000,9,-999.0000,9, -999.00,9, -999.00,9,  -999.0,9,  -999.0,-999.000,9,-999.000,-999.000,9,  -9.0000,-999.0000,   2.4057,   -9.00
  316N145_7,       I05E,     436,          1,         10,         10,2,19950413,       2243,   -32.5128,   114.1070,       3347,  1971.5,   2.4330,  34.6996,2,  34.6976,2,    161.2,2,   161.3,2,   99.85,2,   33.73,2,    0.01,2,    2.38,2,-999.000,9,-999.000,9,  2273.6,2,  2369.3,2,  -9.0000,9,-999.0000,9, -999.00,9, -999.00,9,  -999.0,9,  -999.0,-999.000,9,-999.000,-999.000,9,  -9.0000,-999.0000,   2.2923,   -9.00
  316N145_7,       I05E,     436,          1,          9,          9,2,19950413,       2243,   -32.5128,   114.1070,       3347,  2122.8,   2.2851,  34.7120,2,  34.7124,2,    164.5,2,   164.4,2,  104.40,2,   33.59,2,    0.00,2,    2.36,2,-999.000,9,-999.000,9,  2278.1,2,  2379.0,2,  -9.0000,9,-999.0000,9, -999.00,9, -999.00,9,  -999.0,9,  -999.0,-999.000,9,-999.000,-999.000,9,  -9.0000,-999.0000,   2.1334,   -9.00
  316N145_7,       I05E,     436,          1,          8,          8,2,19950413,       2243,   -32.5128,   114.1070,       3347,  2275.2,   2.1696,  34.7200,2,  34.7203,2,    166.5,2,   165.8,2,  107.85,2,   33.50,2,    0.00,2,    2.35,2,-999.000,9,-999.000,9,  2279.2,2,  2394.5,2,  -9.0000,9,-999.0000,9, -999.00,9, -999.00,9,  -999.0,9,  -999.0,-999.000,9,-999.000,-999.000,9,  -9.0000,-999.0000,   2.0063,   -9.00
  316N145_7,       I05E,     436,          1,          7,          7,2,19950413,       2243,   -32.5128,   114.1070,       3347,  2452.4,   2.0376,  34.7258,2,  34.7266,2,    169.2,2,   169.5,2,  110.42,2,   33.36,2,    0.00,2,    2.34,2,-999.000,9,-999.000,9,  2279.9,2,  2393.1,2,  -9.0000,9,-999.0000,9, -999.00,9, -999.00,9,  -999.0,9,  -999.0,-999.000,9,-999.000,-999.000,9,  -9.0000,-999.0000,   1.8607,   -9.00
  316N145_7,       I05E,     436,          1,          6,          6,2,19950413,       2243,   -32.5128,   114.1070,       3347,  2630.9,   1.8799,  34.7287,2,  34.7278,2,    173.8,2,   174.6,2,  113.00,2,   33.22,2,    0.00,2,    2.32,2,-999.000,9,-999.000,9,  2280.0,2,  2396.8,2,  -9.0000,9,-999.0000,9, -999.00,9, -999.00,9,  -999.0,9,  -999.0,-999.000,9,-999.000,-999.000,9,  -9.0000,-999.0000,   1.6896,   -9.00
  316N145_7,       I05E,     436,          1,          5,          5,2,19950413,       2243,   -32.5128,   114.1070,       3347,  2807.0,   1.7500,  34.7302,2,  34.7286,2,    178.0,2,   178.8,2,  114.69,2,   33.03,2,    0.00,2,    2.31,2,-999.000,9,-999.000,9,  2278.2,2,  2400.9,2,  -9.0000,9,-999.0000,9, -999.00,9, -999.00,9,  -999.0,9,  -999.0,-999.000,9,-999.000,-999.000,9,  -9.0000,-999.0000,   1.5458,   -9.00
  316N145_7,       I05E,     436,          1,          4,          4,2,19950413,       2243,   -32.5128,   114.1070,       3347,  2984.9,   1.6265,  34.7303,2,  34.7283,2,    182.7,2,   182.9,2,  116.16,2,   32.79,2,    0.00,2,    2.29,2,-999.000,9,-999.000,9,  2278.3,2,  2398.9,2,  -9.0000,9,-999.0000,9, -999.00,9, -999.00,9,  -999.0,9,  -999.0,-999.000,9,-999.000,-999.000,9,  -9.0000,-999.0000,   1.4081,   -9.00
  316N145_7,       I05E,     436,          1,          3,          3,2,19950413,       2243,   -32.5128,   114.1070,       3347,  3162.7,   1.4806,  34.7266,2,  34.7250,2,    185.7,2,   185.8,2,  119.41,2,   32.90,2,    0.00,2,    2.29,2,-999.000,9,-999.000,9,  2279.1,2,  2394.1,2,  -9.0000,9,-999.0000,9, -999.00,9, -999.00,9,  -999.0,9,  -999.0,-999.000,9,-999.000,-999.000,9,  -9.0000,-999.0000,   1.2483,   -9.00
  316N145_7,       I05E,     436,          1,          2,          2,2,19950413,       2243,   -32.5128,   114.1070,       3347,  3339.5,   1.3892,  34.7241,2,  34.7228,2,    188.3,2,   187.7,2,  121.32,2,   32.95,2,    0.00,2,    2.29,2,-999.000,9,-999.000,9,  2280.9,2,  2404.1,2,  -9.0000,9,-999.0000,9, -999.00,9, -999.00,9,  -999.0,9,  -999.0,-999.000,9,-999.000,-999.000,9,  -9.0000,-999.0000,   1.1417,   -9.00
  316N145_7,       I05E,     436,          1,          1,          1,2,19950413,       2243,   -32.5128,   114.1070,       3347,  3456.4,   1.3123,  34.7215,2,  34.7213,2,    190.1,2,   189.6,2,  123.46,2,   32.96,2,    0.00,2,    2.29,2,-999.000,9,-999.000,9,  2281.7,2,  2390.4,2,  -9.0000,9,-999.0000,9, -999.00,9, -999.00,9,  -999.0,9,  -999.0,-999.000,9,-999.000,-999.000,9,  -9.0000,-999.0000,   1.0550,   -9.00