BOTTLE,20211124CCHSIORKP
EXPOCODE,SECT_ID,STNNBR,CASTNO,SAMPNO,BTLNBR,BTLNBR_FLAG_W,DATE,TIME,LATITUDE,LONGITUDE,DEPTH,CTDPRS,CTDTMP,CTDSAL,CTDSAL_FLAG_W,SALNTY,SALNTY_FLAG_W,CTDOXY,CTDOXY_FLAG_W,OXYGEN,OXYGEN_FLAG_W,SILCAT,SILCAT_FLAG_W,NITRAT,NITRAT_FLAG_W,NITRIT,NITRIT_FLAG_W,PHSPHT,PHSPHT_FLAG_W,CFC-11,CFC-11_FLAG_W,CFC-12,CFC-12_FLAG_W,TCARBN,TCARBN_FLAG_W,ALKALI,ALKALI_FLAG_W,TRITUM,TRITUM_FLAG_W,HELIUM,HELIUM_FLAG_W,DELHE3,DELHE3_FLAG_W,DELC13,DELC13_FLAG_W,DELC14,DELC14_FLAG_W,C14ERR,NEON,NEON_FLAG_W,NEONER,CCL4,CCL4_FLAG_W,TRITER,HELIER,THETA,DELHER
,,,,,,,,,,,METERS,DBAR,ITS-90,PSS-78,,PSS-78,,UMOL/KG,,UMOL/KG,,UMOL/KG,,UMOL/KG,,UMOL/KG,,UMOL/KG,,PMOL/KG,,PMOL/KG,,UMOL/KG,,UMOL/KG,,TU,,NMOL/KG,,PERCNT,,/MILLE,,/MILLE,,/MILLE,NMOL/KG,,NMOL/KG,PMOL/KG,,TU,NMOL/KG,DEG C,PERCNT
  316N145_7,       I05E,     406,          1,         36,         36,2,19950406,       1327,   -34.0010,    95.0008,       4477,     3.2,  19.5441,  35.4116,2,  35.4141,2,    233.2,2,   233.0,2,    1.48,2,    0.15,2,    0.00,2,    0.17,2,   2.376,2,   1.310,2,  2043.2,2,  2343.6,2,  -9.0000,9,-999.0000,9, -999.00,9, -999.00,9,  -999.0,9,  -999.0,-999.000,9,-999.000,-999.000,9,  -9.0000,-999.0000,  19.5435,   -9.00
  316N145_7,       I05E,     406,          1,         35,         35,2,19950406,       1327,   -34.0010,    95.0008,       4477,    35.2,  19.5513,  35.4171,2,  35.4153,2,    231.2,2,   232.3,2,    1.45,2,    0.15,2,    0.00,2,    0.17,2,-999.000,9,-999.000,9,  2044.3,2,  2341.9,2,  -9.0000,9,-999.0000,9, -999.00,9, -999.00,9,  -999.0,9,  -999.0,-999.000,9,-999.000,-999.000,9,  -9.0000,-999.0000,  19.5449,   -9.00
  316N145_7,       I05E,     406,          1,         34,         34,2,19950406,       1327,   -34.0010,    95.0008,       4477,    66.3,  13.9173,  35.1559,2,  35.1491,2,    261.3,2,   262.3,2,    2.71,2,    3.62,2,    0.11,2,    0.47,2,   3.149,2,   1.697,2,  2074.5,2,  2310.5,2,  -9.0000,9,-999.0000,9, -999.00,9, -999.00,9,  -999.0,9,  -999.0,-999.000,9,-999.000,-999.000,9,  -9.0000,-999.0000,  13.9078,   -9.00
  316N145_7,       I05E,     406,          1,         33,         33,2,19950406,       1327,   -34.0010,    95.0008,       4477,    97.7,  13.3179,  35.2779,2,  35.2766,2,    242.3,2,   241.4,2,    2.68,2,    5.71,2,    0.06,2,    0.56,2,-999.000,9,-999.000,9,  2091.1,2,  2201.6,4,  -9.0000,9,-999.0000,9, -999.00,9, -999.00,9,  -999.0,9,  -999.0,-999.000,9,-999.000,-999.000,9,  -9.0000,-999.0000,  13.3042,   -9.00
  316N145_7,       I05E,     406,          1,         32,         32,2,19950406,       1327,   -34.0010,    95.0008,       4477,   137.2,  12.6844,  35.1939,2,  35.1931,2,    236.8,2,   242.7,2,    3.08,2,    7.15,2,    0.01,2,    0.63,2,   3.147,2,   1.688,2,  2094.5,2,  2315.2,2,  -9.0000,9,-999.0000,9, -999.00,9, -999.00,9,  -999.0,9,  -999.0,-999.000,9,-999.000,-999.000,9,  -9.0000,-999.0000,  12.6658,   -9.00
  316N145_7,       I05E,     406,          1,         31,         31,2,19950406,       1327,   -34.0010,    95.0008,       4477,   185.2,  12.1262,  35.1105,2,  35.1123,2,    240.0,2,   244.1,2,    3.69,2,    8.64,2,    0.01,2,    0.71,2,   3.238,2,   1.707,2,  2097.9,2,  2349.2,3,  -9.0000,9,-999.0000,9, -999.00,9, -999.00,9,  -999.0,9,  -999.0,-999.000,9,-999.000,-999.000,9,  -9.0000,-999.0000,  12.1019,   -9.00
  316N145_7,       I05E,     406,          1,         30,         30,2,19950406,       1327,   -34.0010,    95.0008,       4477,   247.2,  11.5227,  35.0175,2,  35.0194,2,    245.3,2,   247.2,2,    4.09,2,   10.14,2,    0.01,2,    0.80,2,   3.255,2,   1.697,2,  2099.3,2,  2305.8,2,  -9.0000,9,-999.0000,9, -999.00,9, -999.00,9,  -999.0,9,  -999.0,-999.000,9,-999.000,-999.000,9,  -9.0000,-999.0000,  11.4912,   -9.00
  316N145_7,       I05E,     406,          1,         29,         29,2,19950406,       1327,   -34.0010,    95.0008,       4477,   319.4,  11.1460,  34.9624,2,  34.9628,2,    244.9,2,   248.2,2,    4.28,2,   10.98,2,    0.01,2,    0.85,2,   3.255,2,   1.693,2,  2102.5,2,  2314.6,2,  -9.0000,9,-999.0000,9, -999.00,9, -999.00,9,  -999.0,9,  -999.0,-999.000,9,-999.000,-999.000,9,  -9.0000,-999.0000,  11.1061,   -9.00
  316N145_7,       I05E,     406,          1,         28,         28,2,19950406,       1327,   -34.0010,    95.0008,       4477,   399.9,  10.7805,  34.9098,2,  34.9130,2,    250.6,2,   249.3,2,    4.46,2,   11.73,2,    0.01,2,    0.89,2,   3.308,2,   1.714,2,  2104.5,2,  2306.5,2,  -9.0000,9,-999.0000,9, -999.00,9, -999.00,9,  -999.0,9,  -999.0,-999.000,9,-999.000,-999.000,9,  -9.0000,-999.0000,  10.7314,   -9.00
  316N145_7,       I05E,     406,          1,         27,         27,2,19950406,       1327,   -34.0010,    95.0008,       4477,   486.0,  10.3784,  34.8490,2,  34.8497,2,    252.0,2,  -999.0,9,    4.86,2,   12.83,2,    0.01,2,    0.96,2,   3.194,2,   1.654,2,  2106.7,2,  2322.9,3,  -9.0000,9,-999.0000,9, -999.00,9, -999.00,9,  -999.0,9,  -999.0,-999.000,9,-999.000,-999.000,9,  -9.0000,-999.0000,  10.3200,   -9.00
  316N145_7,       I05E,     406,          1,         26,         26,2,19950406,       1327,   -34.0010,    95.0008,       4477,   557.1,   9.9363,  34.7782,2,  34.7801,2,    247.5,2,   242.8,2,    5.90,2,   14.42,2,    0.00,2,    1.06,2,   3.044,2,   1.568,2,  2112.8,2,  2295.1,2,  -9.0000,9,-999.0000,9, -999.00,9, -999.00,9,  -999.0,9,  -999.0,-999.000,9,-999.000,-999.000,9,  -9.0000,-999.0000,   9.8709,   -9.00
  316N145_7,       I05E,     406,          1,         25,         25,2,19950406,       1327,   -34.0010,    95.0008,       4477,   659.3,   9.2789,  34.6834,2,  34.6858,2,    235.6,2,   233.1,2,    7.16,2,   17.11,2,    0.00,2,    1.22,2,   2.626,2,   1.320,2,  2122.4,2,  2294.0,2,  -9.0000,9,-999.0000,9, -999.00,9, -999.00,9,  -999.0,9,  -999.0,-999.000,9,-999.000,-999.000,9,  -9.0000,-999.0000,   9.2044,   -9.00
  316N145_7,       I05E,     406,          1,         24,         24,2,19950406,       1327,   -34.0010,    95.0008,       4477,   759.2,   8.1450,  34.5622,2,  34.5644,2,    216.6,2,   213.7,2,   11.64,2,   21.61,2,    0.00,2,    1.50,2,   1.723,2,   0.855,2,  2142.3,2,  2286.1,2,  -9.0000,9,-999.0000,9, -999.00,9, -999.00,9,  -999.0,9,  -999.0,-999.000,9,-999.000,-999.000,9,  -9.0000,-999.0000,   8.0651,   -9.00
  316N145_7,       I05E,     406,          1,         23,         23,2,19950406,       1327,   -34.0010,    95.0008,       4477,   860.5,   6.6972,  34.4591,2,  34.4580,2,    203.3,2,   198.7,2,   20.20,2,   26.26,2,    0.00,2,    1.81,2,   1.024,2,   0.508,2,  2165.5,2,  2295.5,2,  -9.0000,9,-999.0000,9, -999.00,9, -999.00,9,  -999.0,9,  -999.0,-999.000,9,-999.000,-999.000,9,  -9.0000,-999.0000,   6.6154,   -9.00
  316N145_7,       I05E,     406,          1,         22,         22,2,19950406,       1327,   -34.0010,    95.0008,       4477,   961.3,   5.2879,  34.3788,2,  34.3828,2,    203.9,2,   202.5,2,   27.90,2,   29.02,2,    0.00,2,    2.00,2,   0.955,6,   0.461,6,  2180.8,2,  2291.8,2,  -9.0000,9,-999.0000,9, -999.00,9, -999.00,9,  -999.0,9,  -999.0,-999.000,9,-999.000,-999.000,9,  -9.0000,-999.0000,   5.2061,   -9.00
  316N145_7,       I05E,     406,          1,         21,         21,2,19950406,       1327,   -34.0010,    95.0008,       4477,  1062.3,   4.3757,  34.3730,2,  34.3736,2,    199.6,2,   195.3,2,   38.82,2,   31.28,2,    0.00,2,    2.17,2,   0.561,2,   0.281,2,  2200.4,2,  2307.4,2,  -9.0000,9,-999.0000,9, -999.00,9, -999.00,9,  -999.0,9,  -999.0,-999.000,9,-999.000,-999.000,9,  -9.0000,-999.0000,   4.2920,   -9.00
  316N145_7,       I05E,     406,          1,         20,         20,2,19950406,       1327,   -34.0010,    95.0008,       4477,  1165.3,   3.9570,  34.4212,2,  34.4241,2,    182.6,2,   176.4,2,   52.52,2,   33.05,2,    0.00,2,    2.32,2,   0.238,2,   0.120,2,  2222.3,2,  2316.9,2,  -9.0000,9,-999.0000,9, -999.00,9, -999.00,9,  -999.0,9,  -999.0,-999.000,9,-999.000,-999.000,9,  -9.0000,-999.0000,   3.8679,   -9.00
  316N145_7,       I05E,     406,          1,         19,         19,2,19950406,       1327,   -34.0010,    95.0008,       4477,  1263.1,   3.6787,  34.4613,2,  34.4612,2,    170.4,2,   167.5,2,   61.29,2,   33.90,2,    0.00,2,    2.39,2,-999.000,9,-999.000,9,  2236.0,2,  2330.2,2,  -9.0000,9,-999.0000,9, -999.00,9, -999.00,9,  -999.0,9,  -999.0,-999.000,9,-999.000,-999.000,9,  -9.0000,-999.0000,   3.5838,   -9.00
  316N145_7,       I05E,     406,          1,         18,         18,2,19950406,       1327,   -34.0010,    95.0008,       4477,  1415.5,   3.3392,  34.5127,2,  34.5129,2,    159.3,2,   159.7,2,   70.50,2,   34.61,2,    0.00,2,    2.44,2,   0.068,6,   0.031,6,  2248.9,2,  2337.2,2,  -9.0000,9,-999.0000,9, -999.00,9, -999.00,9,  -999.0,9,  -999.0,-999.000,9,-999.000,-999.000,9,  -9.0000,-999.0000,   3.2349,   -9.00
  316N145_7,       I05E,     406,          1,         17,         17,2,19950406,       1327,   -34.0010,    95.0008,       4477,  1563.3,   3.0552,  34.5642,2,  34.5657,2,    159.6,2,   158.5,2,   77.12,2,   34.56,2,    0.00,2,    2.44,2,-999.000,9,-999.000,9,  2258.6,2,  2341.6,2,  -9.0000,9,-999.0000,9, -999.00,9, -999.00,9,  -999.0,9,  -999.0,-999.000,9,-999.000,-999.000,9,  -9.0000,-999.0000,   2.9414,   -9.00
  316N145_7,       I05E,     406,          1,         16,         16,2,19950406,       1327,   -34.0010,    95.0008,       4477,  1716.6,   2.7740,  34.6173,2,  34.6172,2,    161.8,2,   162.2,2,   81.60,2,   34.05,2,    0.00,2,    2.39,2,   0.021,2,   0.008,2,  2259.6,2,  2350.4,2,  -9.0000,9,-999.0000,9, -999.00,9, -999.00,9,  -999.0,9,  -999.0,-999.000,9,-999.000,-999.000,9,  -9.0000,-999.0000,   2.6506,   -9.00
  316N145_7,       I05E,     406,          1,         15,         15,2,19950406,       1327,   -34.0010,    95.0008,       4477,  1870.8,   2.5813,  34.6639,2,  34.6636,2,    166.4,2,   167.2,2,   85.00,2,   33.29,2,    0.00,2,    2.34,2,-999.000,9,-999.000,9,  2260.7,2,  2355.6,2,  -9.0000,9,-999.0000,9, -999.00,9, -999.00,9,  -999.0,9,  -999.0,-999.000,9,-999.000,-999.000,9,  -9.0000,-999.0000,   2.4472,   -9.00
  316N145_7,       I05E,     406,          1,         14,         14,2,19950406,       1327,   -34.0010,    95.0008,       4477,  2017.1,   2.4459,  34.6936,2,  34.6933,2,    171.5,2,   172.9,2,   87.11,2,   32.59,2,    0.00,2,    2.28,2,   0.007,2,   0.003,2,  2258.8,2,  2355.7,2,  -9.0000,9,-999.0000,9, -999.00,9, -999.00,9,  -999.0,9,  -999.0,-999.000,9,-999.000,-999.000,9,  -9.0000,-999.0000,   2.3010,   -9.00
  316N145_7,       I05E,     406,          1,         13,         13,2,19950406,       1327,   -34.0010,    95.0008,       4477,  2174.7,   2.3008,  34.7174,2,  34.7169,2,    178.3,2,   179.3,2,   88.36,2,   31.93,2,    0.00,2,    2.22,2,-999.000,9,-999.000,9,  2255.7,2,  2355.6,2,  -9.0000,9,-999.0000,9, -999.00,9, -999.00,9,  -999.0,9,  -999.0,-999.000,9,-999.000,-999.000,9,  -9.0000,-999.0000,   2.1443,   -9.00
  316N145_7,       I05E,     406,          1,         12,         12,2,19950406,       1327,   -34.0010,    95.0008,       4477,  2327.4,   2.1634,  34.7349,2,  34.7362,2,    186.6,2,   187.1,2,   88.10,2,   31.18,2,    0.00,2,    2.16,2,   0.002,2,   0.001,2,  -999.0,5,  2345.7,3,  -9.0000,9,-999.0000,9, -999.00,9, -999.00,9,  -999.0,9,  -999.0,-999.000,9,-999.000,-999.000,9,  -9.0000,-999.0000,   1.9954,   -9.00
  316N145_7,       I05E,     406,          1,         11,         11,2,19950406,       1327,   -34.0010,    95.0008,       4477,  2528.7,   1.9682,  34.7451,2,  34.7449,2,    193.5,2,   192.9,2,   91.51,2,   30.82,2,    0.00,2,    2.14,2,-999.000,9,-999.000,9,  2249.0,2,  2354.7,2,  -9.0000,9,-999.0000,9, -999.00,9, -999.00,9,  -999.0,9,  -999.0,-999.000,9,-999.000,-999.000,9,  -9.0000,-999.0000,   1.7855,   -9.00
  316N145_7,       I05E,     406,          1,         10,         10,2,19950406,       1327,   -34.0010,    95.0008,       4477,  2730.8,   1.7474,  34.7445,2,  34.7447,2,    197.7,2,   197.0,2,   96.86,2,   30.82,2,    0.00,2,    2.14,2,   0.002,2,   0.000,2,  2251.3,2,  2371.4,3,  -9.0000,9,-999.0000,9, -999.00,9, -999.00,9,  -999.0,9,  -999.0,-999.000,9,-999.000,-999.000,9,  -9.0000,-999.0000,   1.5503,   -9.00
  316N145_7,       I05E,     406,          1,          9,          9,2,19950406,       1327,   -34.0010,    95.0008,       4477,  2936.5,   1.5249,  34.7383,2,  34.7398,2,    199.2,2,   200.4,2,  103.10,2,   31.03,2,    0.00,2,    2.15,2,-999.000,9,-999.000,9,  2253.5,2,  2362.2,2,  -9.0000,9,-999.0000,9, -999.00,9, -999.00,9,  -999.0,9,  -999.0,-999.000,9,-999.000,-999.000,9,  -9.0000,-999.0000,   1.3133,   -9.00
  316N145_7,       I05E,     406,          1,          8,          8,2,19950406,       1327,   -34.0010,    95.0008,       4477,  3142.8,   1.3366,  34.7295,2,  34.7310,2,    202.9,2,   202.7,2,  108.70,2,   31.38,2,    0.00,2,    2.17,2,   0.005,2,   0.001,2,  2256.2,2,  2362.4,2,  -9.0000,9,-999.0000,9, -999.00,9, -999.00,9,  -999.0,9,  -999.0,-999.000,9,-999.000,-999.000,9,  -9.0000,-999.0000,   1.1095,   -9.00
  316N145_7,       I05E,     406,          1,          7,          7,2,19950406,       1327,   -34.0010,    95.0008,       4477,  3343.2,   1.1899,  34.7236,2,  34.7245,2,    204.6,2,   204.6,2,  113.44,2,   31.63,2,    0.00,2,    2.19,2,-999.000,9,-999.000,9,  -999.0,5,  2364.3,2,  -9.0000,9,-999.0000,9, -999.00,9, -999.00,9,  -999.0,9,  -999.0,-999.000,9,-999.000,-999.000,9,  -9.0000,-999.0000,   0.9468,   -9.00
  316N145_7,       I05E,     406,          1,          6,          6,2,19950406,       1327,   -34.0010,    95.0008,       4477,  3547.8,   1.0933,  34.7186,2,  34.7314,4,    205.1,2,   205.5,2,  116.66,2,   31.88,2,    0.00,2,    2.21,2,   0.006,2,   0.003,2,  2265.7,2,  2368.4,2,  -9.0000,9,-999.0000,9, -999.00,9, -999.00,9,  -999.0,9,  -999.0,-999.000,9,-999.000,-999.000,9,  -9.0000,-999.0000,   0.8324,   -9.00
  316N145_7,       I05E,     406,          1,          5,          5,2,19950406,       1327,   -34.0010,    95.0008,       4477,  3748.9,   1.0569,  34.7158,2,  34.7153,2,    204.8,2,   205.5,2,  118.14,2,   31.99,2,    0.00,2,    2.22,2,-999.000,9,-999.000,9,  2264.2,2,  2372.5,2,  -9.0000,9,-999.0000,9, -999.00,9, -999.00,9,  -999.0,9,  -999.0,-999.000,9,-999.000,-999.000,9,  -9.0000,-999.0000,   0.7766,   -9.00
  316N145_7,       I05E,     406,          1,          4,          4,2,19950406,       1327,   -34.0010,    95.0008,       4477,  3951.4,   1.0339,  34.7137,2,  34.7141,2,    204.7,2,   205.8,2,  118.96,2,   32.09,2,    0.00,2,    2.22,2,   0.004,2,   0.001,2,  2265.2,2,  2372.9,2,  -9.0000,9,-999.0000,9, -999.00,9, -999.00,9,  -999.0,9,  -999.0,-999.000,9,-999.000,-999.000,9,  -9.0000,-999.0000,   0.7332,   -9.00
  316N145_7,       I05E,     406,          1,          3,          3,2,19950406,       1327,   -34.0010,    95.0008,       4477,  4157.6,   1.0098,  34.7117,2,  34.7116,2,    206.9,2,   206.4,2,  120.01,2,   32.09,2,    0.00,2,    2.22,2,   0.004,2,   0.003,2,  2266.2,2,  2376.6,2,  -9.0000,9,-999.0000,9, -999.00,9, -999.00,9,  -999.0,9,  -999.0,-999.000,9,-999.000,-999.000,9,  -9.0000,-999.0000,   0.6878,   -9.00
  316N145_7,       I05E,     406,          1,          2,          2,2,19950406,       1327,   -34.0010,    95.0008,       4477,  4361.0,   0.9995,  34.7099,2,  34.7099,2,    207.0,2,   206.9,2,  120.83,2,   32.19,2,    0.00,2,    2.23,2,-999.000,9,-999.000,9,  2266.9,2,  2377.1,2,  -9.0000,9,-999.0000,9, -999.00,9, -999.00,9,  -999.0,9,  -999.0,-999.000,9,-999.000,-999.000,9,  -9.0000,-999.0000,   0.6554,   -9.00
  316N145_7,       I05E,     406,          1,          1,          1,2,19950406,       1327,   -34.0010,    95.0008,       4477,  4571.5,   1.0057,  34.7097,2,  34.7101,2,    208.0,2,   207.3,2,  121.22,2,   32.19,2,    0.00,2,    2.23,2,   0.006,2,   0.004,2,  2268.7,2,  2376.5,2,  -9.0000,9,-999.0000,9, -999.00,9, -999.00,9,  -999.0,9,  -999.0,-999.000,9,-999.000,-999.000,9,  -9.0000,-999.0000,   0.6378,   -9.00