BOTTLE,20211124CCHSIORKP
EXPOCODE,SECT_ID,STNNBR,CASTNO,SAMPNO,BTLNBR,BTLNBR_FLAG_W,DATE,TIME,LATITUDE,LONGITUDE,DEPTH,CTDPRS,CTDTMP,CTDSAL,CTDSAL_FLAG_W,SALNTY,SALNTY_FLAG_W,CTDOXY,CTDOXY_FLAG_W,OXYGEN,OXYGEN_FLAG_W,SILCAT,SILCAT_FLAG_W,NITRAT,NITRAT_FLAG_W,NITRIT,NITRIT_FLAG_W,PHSPHT,PHSPHT_FLAG_W,CFC-11,CFC-11_FLAG_W,CFC-12,CFC-12_FLAG_W,TCARBN,TCARBN_FLAG_W,ALKALI,ALKALI_FLAG_W,TRITUM,TRITUM_FLAG_W,HELIUM,HELIUM_FLAG_W,DELHE3,DELHE3_FLAG_W,DELC13,DELC13_FLAG_W,DELC14,DELC14_FLAG_W,C14ERR,NEON,NEON_FLAG_W,NEONER,CCL4,CCL4_FLAG_W,TRITER,HELIER,THETA,DELHER
,,,,,,,,,,,METERS,DBAR,ITS-90,PSS-78,,PSS-78,,UMOL/KG,,UMOL/KG,,UMOL/KG,,UMOL/KG,,UMOL/KG,,UMOL/KG,,PMOL/KG,,PMOL/KG,,UMOL/KG,,UMOL/KG,,TU,,NMOL/KG,,PERCNT,,/MILLE,,/MILLE,,/MILLE,NMOL/KG,,NMOL/KG,PMOL/KG,,TU,NMOL/KG,DEG C,PERCNT
  316N145_7,      TRANS,     361,          1,         36,         36,2,19950328,       1458,   -26.0668,    84.6165,       4544,     3.3,  25.6918,  35.5676,2,  35.5667,2,    209.1,2,   210.2,2,    2.91,2,    0.20,2,    0.00,2,    0.11,2,-999.000,9,-999.000,9,  1985.1,2,  2352.6,2,  -9.0000,9,-999.0000,9, -999.00,9, -999.00,9,  -999.0,9,  -999.0,-999.000,9,-999.000,-999.000,9,  -9.0000,-999.0000,  25.6911,   -9.00
  316N145_7,      TRANS,     361,          1,         35,         35,2,19950328,       1458,   -26.0668,    84.6165,       4544,    26.8,  25.5733,  35.7005,2,  35.7663,2,    209.0,2,   211.4,2,    2.90,2,    0.20,2,    0.00,2,    0.11,2,-999.000,9,-999.000,9,  -999.0,9,  -999.0,9,  -9.0000,9,-999.0000,9, -999.00,9,    1.05,2,    75.9,2,     3.3,-999.000,9,-999.000,-999.000,9,  -9.0000,-999.0000,  25.5674,   -9.00
  316N145_7,      TRANS,     361,          1,         34,         34,2,19950328,       1458,   -26.0668,    84.6165,       4544,    57.1,  24.8709,  35.9311,2,  35.8961,2,    213.6,2,   220.5,2,    2.89,2,    0.20,2,    0.00,2,    0.10,2,-999.000,9,-999.000,9,  -999.0,9,  -999.0,9,  -9.0000,9,-999.0000,9, -999.00,9, -999.00,9,  -999.0,9,  -999.0,-999.000,9,-999.000,-999.000,9,  -9.0000,-999.0000,  24.8585,   -9.00
  316N145_7,      TRANS,     361,          1,         33,         33,2,19950328,       1458,   -26.0668,    84.6165,       4544,    86.9,  20.5064,  35.8653,2,  35.8679,2,    240.0,2,   233.8,2,    2.88,2,    0.20,2,    0.00,2,    0.12,2,-999.000,9,-999.000,9,  -999.0,9,  -999.0,9,  -9.0000,9,-999.0000,9, -999.00,9,    1.12,2,    87.3,2,     3.8,-999.000,9,-999.000,-999.000,9,  -9.0000,-999.0000,  20.4900,   -9.00
  316N145_7,      TRANS,     361,          1,         32,         32,2,19950328,       1458,   -26.0668,    84.6165,       4544,   136.8,  18.2165,  35.8384,2,  35.8355,2,    228.5,2,   225.5,2,    2.66,2,    0.27,2,    0.03,2,    0.19,2,-999.000,9,-999.000,9,  -999.0,9,  -999.0,9,  -9.0000,9,-999.0000,9, -999.00,9,    1.13,2,    98.7,2,     3.8,-999.000,9,-999.000,-999.000,9,  -9.0000,-999.0000,  18.1928,   -9.00
  316N145_7,      TRANS,     361,          1,         31,         31,2,19950328,       1458,   -26.0668,    84.6165,       4544,   187.5,  16.7293,  35.7419,2,  35.7373,2,    226.7,2,   225.6,2,    2.44,2,    1.14,2,    0.05,2,    0.27,2,-999.000,9,-999.000,9,  -999.0,9,  -999.0,9,  -9.0000,9,-999.0000,9, -999.00,9,    1.17,2,    99.0,2,     4.2,-999.000,9,-999.000,-999.000,9,  -9.0000,-999.0000,  16.6985,   -9.00
  316N145_7,      TRANS,     361,          1,         30,         30,2,19950328,       1458,   -26.0668,    84.6165,       4544,   257.5,  14.6791,  35.4968,2,  35.4946,2,    222.2,2,   222.2,2,    2.65,2,    4.54,2,    0.01,2,    0.47,2,-999.000,9,-999.000,9,  -999.0,9,  -999.0,9,  -9.0000,9,-999.0000,9, -999.00,9,    1.01,2,   110.9,2,     4.2,-999.000,9,-999.000,-999.000,9,  -9.0000,-999.0000,  14.6405,   -9.00
  316N145_7,      TRANS,     361,          1,         29,         29,2,19950328,       1458,   -26.0668,    84.6165,       4544,   358.1,  12.5725,  35.1928,2,  35.1952,2,    232.0,2,   231.8,2,    3.49,2,    8.36,2,    0.01,2,    0.68,2,-999.000,9,-999.000,9,  -999.0,9,  -999.0,9,  -9.0000,9,-999.0000,9, -999.00,9,    1.06,2,    88.8,2,     4.3,-999.000,9,-999.000,-999.000,9,  -9.0000,-999.0000,  12.5239,   -9.00
  316N145_7,      TRANS,     361,          1,         28,         28,2,19950328,       1458,   -26.0668,    84.6165,       4544,   458.2,  11.2664,  34.9866,2,  34.9881,2,    235.0,2,   237.6,2,    4.12,2,   11.19,2,    0.01,2,    0.84,2,-999.000,9,-999.000,9,  -999.0,9,  -999.0,9,  -9.0000,9,-999.0000,9, -999.00,9,    1.28,2,    78.9,2,     3.3,-999.000,9,-999.000,-999.000,9,  -9.0000,-999.0000,  11.2084,   -9.00
  316N145_7,      TRANS,     361,          1,         27,         27,2,19950328,       1458,   -26.0668,    84.6165,       4544,   559.7,  10.3212,  34.8372,2,  34.8398,2,    235.7,2,   238.5,2,    4.75,2,   13.57,2,    0.00,2,    0.99,2,-999.000,9,-999.000,9,  -999.0,9,  -999.0,9,  -9.0000,9,-999.0000,9, -999.00,9,    1.28,2,    75.2,2,     5.2,-999.000,9,-999.000,-999.000,9,  -9.0000,-999.0000,  10.2538,   -9.00
  316N145_7,      TRANS,     361,          1,         26,         26,2,19950328,       1458,   -26.0668,    84.6165,       4544,   659.8,   9.4521,  34.7099,2,  34.7075,2,    235.4,2,   234.1,2,    6.01,2,   16.55,2,    0.00,2,    1.17,2,-999.000,9,-999.000,9,  -999.0,9,  -999.0,9,  -9.0000,9,-999.0000,9, -999.00,9,    1.29,2,    67.4,2,     4.2,-999.000,9,-999.000,-999.000,9,  -9.0000,-999.0000,   9.3766,   -9.00
  316N145_7,      TRANS,     361,          1,         25,         25,2,19950328,       1458,   -26.0668,    84.6165,       4544,   761.1,   8.3583,  34.5885,2,  34.5894,2,    220.6,2,   216.1,2,   10.26,2,   20.98,2,    0.00,2,    1.44,2,-999.000,9,-999.000,9,  -999.0,9,  -999.0,9,  -9.0000,9,-999.0000,9, -999.00,9,    1.13,2,    13.5,2,     3.8,-999.000,9,-999.000,-999.000,9,  -9.0000,-999.0000,   8.2770,   -9.00
  316N145_7,      TRANS,     361,          1,         24,         24,2,19950328,       1458,   -26.0668,    84.6165,       4544,   861.5,   6.8586,  34.4857,2,  34.4875,2,    199.2,2,   197.1,2,   20.45,2,   26.06,2,    0.00,2,    1.78,2,-999.000,9,-999.000,9,  -999.0,9,  -999.0,9,  -9.0000,9,-999.0000,9, -999.00,9,    1.06,2,   -39.3,2,     3.1,-999.000,9,-999.000,-999.000,9,  -9.0000,-999.0000,   6.7757,   -9.00
  316N145_7,      TRANS,     361,          1,         23,         23,2,19950328,       1458,   -26.0668,    84.6165,       4544,   961.9,   5.4431,  34.4362,2,  34.4380,2,    182.8,2,   180.8,2,   37.03,2,   30.51,2,    0.00,2,    2.10,2,-999.000,9,-999.000,9,  -999.0,9,  -999.0,9,  -9.0000,9,-999.0000,9, -999.00,9,    0.62,2,   -97.5,2,     4.1,-999.000,9,-999.000,-999.000,9,  -9.0000,-999.0000,   5.3601,   -9.00
  316N145_7,      TRANS,     361,          1,         22,         22,2,19950328,       1458,   -26.0668,    84.6165,       4544,  1113.4,   4.3924,  34.4771,2,  34.4781,2,    157.5,2,   156.9,2,   59.77,2,   33.82,2,    0.00,2,    2.37,2,-999.000,9,-999.000,9,  -999.0,9,  -999.0,9,  -9.0000,9,-999.0000,9, -999.00,9,    0.37,2,  -142.3,2,     4.8,-999.000,9,-999.000,-999.000,9,  -9.0000,-999.0000,   4.3039,   -9.00
  316N145_7,      TRANS,     361,          1,         20,         20,2,19950328,       1458,   -26.0668,    84.6165,       4544,  1313.5,   3.5785,  34.5610,2,  34.5604,2,    144.8,2,   145.1,2,   78.70,2,   35.18,2,    0.00,2,    2.48,2,-999.000,9,-999.000,9,  -999.0,9,  -999.0,9,  -9.0000,9,-999.0000,9, -999.00,9,    0.41,2,  -165.4,2,     2.9,-999.000,9,-999.000,-999.000,9,  -9.0000,-999.0000,   3.4802,   -9.00
  316N145_7,      TRANS,     361,          1,         21,         21,2,19950328,       1458,   -26.0668,    84.6165,       4544,  1314.6,   3.5809,  34.5601,2,  34.5600,2,    144.9,2,   145.2,2,   78.51,2,   35.23,2,    0.00,2,    2.48,2,-999.000,9,-999.000,9,  -999.0,9,  -999.0,9,  -9.0000,9,-999.0000,9, -999.00,9, -999.00,9,  -999.0,9,  -999.0,-999.000,9,-999.000,-999.000,9,  -9.0000,-999.0000,   3.4825,   -9.00
  316N145_7,      TRANS,     361,          1,         19,         19,2,19950328,       1458,   -26.0668,    84.6165,       4544,  1466.4,   3.2467,  34.6111,2,  34.6113,2,    145.4,2,   145.5,2,   86.16,2,   35.13,2,    0.01,2,    2.47,2,-999.000,9,-999.000,9,  -999.0,9,  -999.0,9,  -9.0000,9,-999.0000,9, -999.00,9,    0.25,2,  -173.2,2,     3.2,-999.000,9,-999.000,-999.000,9,  -9.0000,-999.0000,   3.1388,   -9.00
  316N145_7,      TRANS,     361,          1,         18,         18,2,19950328,       1458,   -26.0668,    84.6165,       4544,  1617.6,   2.9772,  34.6557,2,  34.6563,2,    147.8,2,   148.3,2,   92.77,2,   34.88,2,    0.01,2,    2.45,2,-999.000,9,-999.000,9,  -999.0,9,  -999.0,9,  -9.0000,9,-999.0000,9, -999.00,9,    0.29,2,  -177.6,2,     3.1,-999.000,9,-999.000,-999.000,9,  -9.0000,-999.0000,   2.8595,   -9.00
  316N145_7,      TRANS,     361,          1,         17,         17,2,19950328,       1458,   -26.0668,    84.6165,       4544,  1770.9,   2.7893,  34.6864,2,  34.6867,2,    150.0,2,   150.4,2,   98.97,2,   34.62,2,    0.01,2,    2.44,2,-999.000,9,-999.000,9,  -999.0,9,  -999.0,9,  -9.0000,9,-999.0000,9, -999.00,9, -999.00,9,  -999.0,9,  -999.0,-999.000,9,-999.000,-999.000,9,  -9.0000,-999.0000,   2.6608,   -9.00
  316N145_7,      TRANS,     361,          1,         16,         16,2,19950328,       1458,   -26.0668,    84.6165,       4544,  1920.7,   2.5973,  34.7076,2,  34.7093,2,    152.7,2,   153.6,2,  104.75,2,   34.32,2,    0.01,2,    2.42,2,-999.000,9,-999.000,9,  -999.0,9,  -999.0,9,  -9.0000,9,-999.0000,9, -999.00,9, -999.00,9,  -999.0,9,  -999.0,-999.000,9,-999.000,-999.000,9,  -9.0000,-999.0000,   2.4585,   -9.00
  316N145_7,      TRANS,     361,          1,         15,         15,2,19950328,       1458,   -26.0668,    84.6165,       4544,  2073.6,   2.3809,  34.7183,2,  34.7176,2,    158.0,2,   158.9,2,  107.74,2,   34.12,2,    0.01,2,    2.39,2,-999.000,9,-999.000,9,  -999.0,9,  -999.0,9,  -9.0000,9,-999.0000,9, -999.00,9, -999.00,9,  -999.0,9,  -999.0,-999.000,9,-999.000,-999.000,9,  -9.0000,-999.0000,   2.2319,   -9.00
  316N145_7,      TRANS,     361,          1,         14,         14,2,19950328,       1458,   -26.0668,    84.6165,       4544,  2226.2,   2.2258,  34.7216,2,  34.7219,2,    164.2,2,   165.0,2,  109.23,2,   33.82,2,    0.01,2,    2.36,2,-999.000,9,-999.000,9,  -999.0,9,  -999.0,9,  -9.0000,9,-999.0000,9, -999.00,9, -999.00,9,  -999.0,9,  -999.0,-999.000,9,-999.000,-999.000,9,  -9.0000,-999.0000,   2.0659,   -9.00
  316N145_7,      TRANS,     361,          1,         13,         13,2,19950328,       1458,   -26.0668,    84.6165,       4544,  2377.5,   2.0775,  34.7233,2,  34.7249,2,    169.6,2,   169.6,2,  110.07,2,   33.47,2,    0.01,2,    2.34,2,-999.000,9,-999.000,9,  -999.0,9,  -999.0,9,  -9.0000,9,-999.0000,9, -999.00,9, -999.00,9,  -999.0,9,  -999.0,-999.000,9,-999.000,-999.000,9,  -9.0000,-999.0000,   1.9066,   -9.00
  316N145_7,      TRANS,     361,          1,         12,         12,2,19950328,       1458,   -26.0668,    84.6165,       4544,  2529.8,   1.9650,  34.7254,2,  34.7263,2,    175.4,2,   175.7,2,  109.40,2,   33.07,2,    0.01,2,    2.30,2,-999.000,9,-999.000,9,  -999.0,9,  -999.0,9,  -9.0000,9,-999.0000,9, -999.00,9, -999.00,9,  -999.0,9,  -999.0,-999.000,9,-999.000,-999.000,9,  -9.0000,-999.0000,   1.7823,   -9.00
  316N145_7,      TRANS,     361,          1,         11,         11,2,19950328,       1458,   -26.0668,    84.6165,       4544,  2681.9,   1.8557,  34.7282,2,  34.7287,2,    180.8,2,   181.8,2,  108.30,2,   32.57,2,    0.01,2,    2.26,2,-999.000,9,-999.000,9,  -999.0,9,  -999.0,9,  -9.0000,9,-999.0000,9, -999.00,9, -999.00,9,  -999.0,9,  -999.0,-999.000,9,-999.000,-999.000,9,  -9.0000,-999.0000,   1.6611,   -9.00
  316N145_7,      TRANS,     361,          1,         10,         10,2,19950328,       1458,   -26.0668,    84.6165,       4544,  2835.2,   1.7486,  34.7307,2,  34.7310,2,    185.8,2,   186.6,2,  108.28,2,   32.32,2,    0.00,2,    2.23,2,-999.000,9,-999.000,9,  -999.0,9,  -999.0,9,  -9.0000,9,-999.0000,9, -999.00,9, -999.00,9,  -999.0,9,  -999.0,-999.000,9,-999.000,-999.000,9,  -9.0000,-999.0000,   1.5418,   -9.00
  316N145_7,      TRANS,     361,          1,          9,          9,2,19950328,       1458,   -26.0668,    84.6165,       4544,  2987.7,   1.6576,  34.7322,2,  34.7332,2,    188.5,2,   192.0,3,  108.68,2,   32.12,2,    0.00,2,    2.21,2,-999.000,9,-999.000,9,  -999.0,9,  -999.0,9,  -9.0000,9,-999.0000,9, -999.00,9, -999.00,9,  -999.0,9,  -999.0,-999.000,9,-999.000,-999.000,9,  -9.0000,-999.0000,   1.4383,   -9.00
  316N145_7,      TRANS,     361,          1,          8,          8,2,19950328,       1458,   -26.0668,    84.6165,       4544,  3139.8,   1.5655,  34.7309,2,  34.7311,2,    191.1,2,   191.1,2,  111.47,2,   32.22,2,    0.00,2,    2.22,2,-999.000,9,-999.000,9,  -999.0,9,  -999.0,9,  -9.0000,9,-999.0000,9, -999.00,9, -999.00,9,  -999.0,9,  -999.0,-999.000,9,-999.000,-999.000,9,  -9.0000,-999.0000,   1.3334,   -9.00
  316N145_7,      TRANS,     361,          1,          7,          7,2,19950328,       1458,   -26.0668,    84.6165,       4544,  3344.9,   1.4740,  34.7276,2,  34.7293,2,    190.4,2,   190.8,2,  115.77,2,   32.48,2,    0.00,2,    2.24,2,-999.000,9,-999.000,9,  -999.0,9,  -999.0,9,  -9.0000,9,-999.0000,9, -999.00,9, -999.00,9,  -999.0,9,  -999.0,-999.000,9,-999.000,-999.000,9,  -9.0000,-999.0000,   1.2239,   -9.00
  316N145_7,      TRANS,     361,          1,          6,          6,2,19950328,       1458,   -26.0668,    84.6165,       4544,  3548.1,   1.4125,  34.7246,2,  34.7254,2,    190.9,2,   191.2,2,  118.56,2,   32.73,2,    0.00,2,    2.26,2,-999.000,9,-999.000,9,  -999.0,9,  -999.0,9,  -9.0000,9,-999.0000,9, -999.00,9, -999.00,9,  -999.0,9,  -999.0,-999.000,9,-999.000,-999.000,9,  -9.0000,-999.0000,   1.1435,   -9.00
  316N145_7,      TRANS,     361,          1,          5,          5,2,19950328,       1458,   -26.0668,    84.6165,       4544,  3750.9,   1.3876,  34.7223,2,  34.7228,2,    190.0,2,   189.6,2,  122.23,2,   32.98,2,    0.00,2,    2.27,2,-999.000,9,-999.000,9,  -999.0,9,  -999.0,9,  -9.0000,9,-999.0000,9, -999.00,9, -999.00,9,  -999.0,9,  -999.0,-999.000,9,-999.000,-999.000,9,  -9.0000,-999.0000,   1.0981,   -9.00
  316N145_7,      TRANS,     361,          1,          4,          4,2,19950328,       1458,   -26.0668,    84.6165,       4544,  3955.7,   1.3874,  34.7216,2,  34.7217,2,    188.8,2,   188.5,2,  124.17,2,   33.03,2,    0.00,2,    2.29,2,-999.000,9,-999.000,9,  -999.0,9,  -999.0,9,  -9.0000,9,-999.0000,9, -999.00,9, -999.00,9,  -999.0,9,  -999.0,-999.000,9,-999.000,-999.000,9,  -9.0000,-999.0000,   1.0762,   -9.00
  316N145_7,      TRANS,     361,          1,          3,          3,2,19950328,       1458,   -26.0668,    84.6165,       4544,  4160.5,   1.3997,  34.7204,2,  34.7203,2,    187.9,2,   187.2,2,  125.45,2,   33.23,2,    0.00,2,    2.29,2,-999.000,9,-999.000,9,  -999.0,9,  -999.0,9,  -9.0000,9,-999.0000,9, -999.00,9, -999.00,9,  -999.0,9,  -999.0,-999.000,9,-999.000,-999.000,9,  -9.0000,-999.0000,   1.0659,   -9.00
  316N145_7,      TRANS,     361,          1,          2,          2,2,19950328,       1458,   -26.0668,    84.6165,       4544,  4390.9,   1.4205,  34.7202,2,  34.7203,2,    187.8,2,   187.1,2,  126.30,2,   33.33,2,    0.00,2,    2.30,2,-999.000,9,-999.000,9,  -999.0,9,  -999.0,9,  -9.0000,9,-999.0000,9, -999.00,9, -999.00,9,  -999.0,9,  -999.0,-999.000,9,-999.000,-999.000,9,  -9.0000,-999.0000,   1.0603,   -9.00
  316N145_7,      TRANS,     361,          1,          1,          1,2,19950328,       1458,   -26.0668,    84.6165,       4544,  4628.4,   1.4471,  34.7197,2,  34.7205,2,    186.1,3,   187.2,2,  126.71,2,   33.33,2,    0.00,2,    2.30,2,-999.000,9,-999.000,9,  -999.0,9,  -999.0,9,  -9.0000,9,-999.0000,9, -999.00,9, -999.00,9,  -999.0,9,  -999.0,-999.000,9,-999.000,-999.000,9,  -9.0000,-999.0000,   1.0587,   -9.00