BOTTLE,20211124CCHSIORKP
EXPOCODE,SECT_ID,STNNBR,CASTNO,SAMPNO,BTLNBR,BTLNBR_FLAG_W,DATE,TIME,LATITUDE,LONGITUDE,DEPTH,CTDPRS,CTDTMP,CTDSAL,CTDSAL_FLAG_W,SALNTY,SALNTY_FLAG_W,CTDOXY,CTDOXY_FLAG_W,OXYGEN,OXYGEN_FLAG_W,SILCAT,SILCAT_FLAG_W,NITRAT,NITRAT_FLAG_W,NITRIT,NITRIT_FLAG_W,PHSPHT,PHSPHT_FLAG_W,CFC-11,CFC-11_FLAG_W,CFC-12,CFC-12_FLAG_W,TCARBN,TCARBN_FLAG_W,ALKALI,ALKALI_FLAG_W,TRITUM,TRITUM_FLAG_W,HELIUM,HELIUM_FLAG_W,DELHE3,DELHE3_FLAG_W,DELC13,DELC13_FLAG_W,DELC14,DELC14_FLAG_W,C14ERR,NEON,NEON_FLAG_W,NEONER,CCL4,CCL4_FLAG_W,TRITER,HELIER,THETA,DELHER
,,,,,,,,,,,METERS,DBAR,ITS-90,PSS-78,,PSS-78,,UMOL/KG,,UMOL/KG,,UMOL/KG,,UMOL/KG,,UMOL/KG,,UMOL/KG,,PMOL/KG,,PMOL/KG,,UMOL/KG,,UMOL/KG,,TU,,NMOL/KG,,PERCNT,,/MILLE,,/MILLE,,/MILLE,NMOL/KG,,NMOL/KG,PMOL/KG,,TU,NMOL/KG,DEG C,PERCNT
  316N145_7,       I05E,     396,          1,         21,         21,2,19950404,       0516,   -31.2790,    88.6368,       1730,     2.7,  22.4104,  36.2322,2,  36.2315,2,    218.5,2,   218.4,2,    2.96,2,    0.11,2,    0.00,2,    0.11,2,   2.074,2,   1.159,2,  2054.5,2,  2373.0,2,  -9.0000,9,-999.0000,9, -999.00,9, -999.00,9,  -999.0,9,  -999.0,-999.000,9,-999.000,-999.000,9,  -9.0000,-999.0000,  22.4099,   -9.00
  316N145_7,       I05E,     396,          1,         20,         20,2,19950404,       0516,   -31.2790,    88.6368,       1730,    34.2,  22.3879,  36.2322,2,  36.2315,2,    215.9,2,   218.2,2,    2.93,2,    0.11,2,    0.00,2,    0.11,2,   2.080,2,   1.168,2,  2053.4,2,  2372.6,2,  -9.0000,9,-999.0000,9, -999.00,9, -999.00,9,  -999.0,9,  -999.0,-999.000,9,-999.000,-999.000,9,  -9.0000,-999.0000,  22.3811,   -9.00
  316N145_7,       I05E,     396,          1,         19,         19,2,19950404,       0516,   -31.2790,    88.6368,       1730,    64.9,  22.2158,  36.2148,2,  36.2210,2,    221.3,2,   218.9,2,    2.90,2,    0.11,2,    0.00,2,    0.11,2,-999.000,9,-999.000,9,  2054.1,2,  2374.8,2,  -9.0000,9,-999.0000,9, -999.00,9, -999.00,9,  -999.0,9,  -999.0,-999.000,9,-999.000,-999.000,9,  -9.0000,-999.0000,  22.2028,   -9.00
  316N145_7,       I05E,     396,          1,         18,         18,2,19950404,       0516,   -31.2790,    88.6368,       1730,   104.8,  19.1563,  35.9882,2,  35.9836,2,    240.5,2,   236.8,2,    2.87,2,    0.11,2,    0.00,2,    0.13,2,   2.438,2,   1.334,2,  2048.9,2,  2354.9,2,  -9.0000,9,-999.0000,9, -999.00,9, -999.00,9,  -999.0,9,  -999.0,-999.000,9,-999.000,-999.000,9,  -9.0000,-999.0000,  19.1374,   -9.00
  316N145_7,       I05E,     396,          1,         17,         17,2,19950404,       0516,   -31.2790,    88.6368,       1730,   154.1,  18.3035,  35.9297,2,  35.9240,2,    229.4,2,   228.1,2,    2.62,2,    0.16,2,    0.05,2,    0.16,2,-999.000,9,-999.000,9,  2060.0,2,  2355.4,2,  -9.0000,9,-999.0000,9, -999.00,9, -999.00,9,  -999.0,9,  -999.0,-999.000,9,-999.000,-999.000,9,  -9.0000,-999.0000,  18.2765,   -9.00
  316N145_7,       I05E,     396,          1,         16,         16,2,19950404,       0516,   -31.2790,    88.6368,       1730,   203.0,  16.3975,  35.7120,2,  35.7073,2,    223.8,2,   222.5,2,    2.59,2,    1.28,2,    0.02,2,    0.30,2,   2.617,2,   1.411,2,  2079.1,2,  2343.1,2,  -9.0000,9,-999.0000,9, -999.00,9, -999.00,9,  -999.0,9,  -999.0,-999.000,9,-999.000,-999.000,9,  -9.0000,-999.0000,  16.3647,   -9.00
  316N145_7,       I05E,     396,          1,         15,         15,2,19950404,       0516,   -31.2790,    88.6368,       1730,   252.7,  14.8007,  35.5311,2,  35.5257,2,    220.7,2,   221.9,2,    2.99,2,    4.27,2,    0.01,2,    0.46,2,-999.000,9,-999.000,9,  2089.2,2,  2334.1,2,  -9.0000,9,-999.0000,9, -999.00,9, -999.00,9,  -999.0,9,  -999.0,-999.000,9,-999.000,-999.000,9,  -9.0000,-999.0000,  14.7626,   -9.00
  316N145_7,       I05E,     396,          1,         14,         14,2,19950404,       0516,   -31.2790,    88.6368,       1730,   302.3,  13.2176,  35.3087,2,  35.3078,2,    224.8,2,   225.6,2,    3.38,2,    7.00,2,    0.00,2,    0.61,2,   2.894,2,   1.521,2,  2096.9,2,  2321.3,2,  -9.0000,9,-999.0000,9, -999.00,9, -999.00,9,  -999.0,9,  -999.0,-999.000,9,-999.000,-999.000,9,  -9.0000,-999.0000,  13.1752,   -9.00
  316N145_7,       I05E,     396,          1,         13,         13,2,19950404,       0516,   -31.2790,    88.6368,       1730,   351.5,  11.7891,  35.0896,2,  35.0860,2,    230.1,2,   231.5,2,    3.78,2,    9.63,2,    0.00,2,    0.77,2,-999.000,9,-999.000,9,  2103.3,2,  2307.5,2,  -9.0000,9,-999.0000,9, -999.00,9, -999.00,9,  -999.0,9,  -999.0,-999.000,9,-999.000,-999.000,9,  -9.0000,-999.0000,  11.7434,   -9.00
  316N145_7,       I05E,     396,          1,         12,         12,2,19950404,       0516,   -31.2790,    88.6368,       1730,   420.9,  10.3510,  34.8555,2,  34.8554,2,    233.9,2,   235.4,2,    4.82,2,   13.15,2,    0.00,2,    0.98,2,   2.951,2,   1.514,2,  2110.7,2,  2300.5,2,  -9.0000,9,-999.0000,9, -999.00,9, -999.00,9,  -999.0,9,  -999.0,-999.000,9,-999.000,-999.000,9,  -9.0000,-999.0000,  10.3007,   -9.00
  316N145_7,       I05E,     396,          1,         11,         11,2,19950404,       0516,   -31.2790,    88.6368,       1730,   502.1,   9.4092,  34.7138,2,  34.7070,2,    230.7,2,   231.9,2,    6.07,2,   16.48,2,    0.00,2,    1.17,2,-999.000,9,-999.000,9,  2119.0,2,  2291.5,2,  -9.0000,9,-999.0000,9, -999.00,9, -999.00,9,  -999.0,9,  -999.0,-999.000,9,-999.000,-999.000,9,  -9.0000,-999.0000,   9.3524,   -9.00
  316N145_7,       I05E,     396,          1,         10,         10,2,19950404,       0516,   -31.2790,    88.6368,       1730,   604.2,   8.2678,  34.5786,2,  34.5802,2,    214.2,2,   214.5,2,   10.73,2,   21.06,2,    0.00,2,    1.46,2,   1.813,2,   0.889,2,  2136.9,2,  2295.8,2,  -9.0000,9,-999.0000,9, -999.00,9, -999.00,9,  -999.0,9,  -999.0,-999.000,9,-999.000,-999.000,9,  -9.0000,-999.0000,   8.2042,   -9.00
  316N145_7,       I05E,     396,          1,          9,          9,2,19950404,       0516,   -31.2790,    88.6368,       1730,   704.9,   6.8387,  34.4825,2,  34.4830,2,    196.8,2,   194.5,2,   20.95,2,   26.09,2,    0.00,2,    1.80,2,-999.000,9,-999.000,9,  2167.9,2,  2297.3,2,  -9.0000,9,-999.0000,9, -999.00,9, -999.00,9,  -999.0,9,  -999.0,-999.000,9,-999.000,-999.000,9,  -9.0000,-999.0000,   6.7717,   -9.00
  316N145_7,       I05E,     396,          1,          8,          8,2,19950404,       0516,   -31.2790,    88.6368,       1730,   805.6,   5.5668,  34.4261,2,  34.4284,2,    186.4,2,   185.1,2,   32.44,2,   29.60,2,    0.00,2,    2.04,2,   0.516,6,   0.259,6,  2189.3,2,  2299.1,2,  -9.0000,9,-999.0000,9, -999.00,9, -999.00,9,  -999.0,9,  -999.0,-999.000,9,-999.000,-999.000,9,  -9.0000,-999.0000,   5.4974,   -9.00
  316N145_7,       I05E,     396,          1,          7,          7,2,19950404,       0516,   -31.2790,    88.6368,       1730,   906.3,   4.6487,  34.4345,2,  34.4351,2,    173.2,2,   171.6,2,   47.57,2,   32.26,2,    0.00,2,    2.25,2,-999.000,9,-999.000,9,  2216.1,2,  2315.3,2,  -9.0000,9,-999.0000,9, -999.00,9, -999.00,9,  -999.0,9,  -999.0,-999.000,9,-999.000,-999.000,9,  -9.0000,-999.0000,   4.5763,   -9.00
  316N145_7,       I05E,     396,          1,          6,          6,2,19950404,       0516,   -31.2790,    88.6368,       1730,  1008.1,   4.1748,  34.4659,2,  34.4634,2,    163.0,2,   160.9,2,   58.64,2,   33.61,2,    0.00,2,    2.37,2,   0.134,2,   0.067,2,  2231.2,2,  2321.4,2,  -9.0000,9,-999.0000,9, -999.00,9, -999.00,9,  -999.0,9,  -999.0,-999.000,9,-999.000,-999.000,9,  -9.0000,-999.0000,   4.0971,   -9.00
  316N145_7,       I05E,     396,          1,          5,          5,2,19950404,       0516,   -31.2790,    88.6368,       1730,  1109.2,   3.9206,  34.5145,2,  34.5137,2,    148.4,2,   147.4,2,   70.35,2,   34.67,2,    0.00,2,    2.46,2,   0.051,2,   0.025,2,  2252.0,2,  2337.4,2,  -9.0000,9,-999.0000,9, -999.00,9, -999.00,9,  -999.0,9,  -999.0,-999.000,9,-999.000,-999.000,9,  -9.0000,-999.0000,   3.8364,   -9.00
  316N145_7,       I05E,     396,          1,          4,          4,2,19950404,       0516,   -31.2790,    88.6368,       1730,  1261.0,   3.2806,  34.5216,2,  34.5197,2,    159.0,2,   159.5,2,   71.17,2,   34.58,2,    0.00,2,    2.43,2,   0.070,2,   0.034,2,  2248.6,2,  2341.8,2,  -9.0000,9,-999.0000,9, -999.00,9, -999.00,9,  -999.0,9,  -999.0,-999.000,9,-999.000,-999.000,9,  -9.0000,-999.0000,   3.1896,   -9.00
  316N145_7,       I05E,     396,          1,          3,          3,2,19950404,       0516,   -31.2790,    88.6368,       1730,  1412.1,   2.9024,  34.5686,2,  34.5712,2,    163.5,2,   163.9,2,   75.62,2,   34.27,2,    0.00,2,    2.40,2,-999.000,9,-999.000,9,  2253.1,2,  2344.7,2,  -9.0000,9,-999.0000,9, -999.00,9, -999.00,9,  -999.0,9,  -999.0,-999.000,9,-999.000,-999.000,9,  -9.0000,-999.0000,   2.8029,   -9.00
  316N145_7,       I05E,     396,          1,          2,          2,2,19950404,       0516,   -31.2790,    88.6368,       1730,  1615.9,   2.7619,  34.6319,2,  34.6337,2,    160.5,2,   160.4,2,   84.36,2,   34.02,2,    0.00,2,    2.39,2,   0.016,2,   0.009,2,  2261.4,2,  2352.1,2,  -9.0000,9,-999.0000,9, -999.00,9, -999.00,9,  -999.0,9,  -999.0,-999.000,9,-999.000,-999.000,9,  -9.0000,-999.0000,   2.6471,   -9.00
  316N145_7,       I05E,     396,          1,          1,          1,2,19950404,       0516,   -31.2790,    88.6368,       1730,  1745.7,   2.6964,  34.6449,2,  34.6445,2,    162.3,2,   162.1,2,   84.97,2,   33.77,2,    0.00,2,    2.37,2,   0.016,2,   0.008,2,  2261.4,2,  2355.5,2,  -9.0000,9,-999.0000,9, -999.00,9, -999.00,9,  -999.0,9,  -999.0,-999.000,9,-999.000,-999.000,9,  -9.0000,-999.0000,   2.5715,   -9.00