BOTTLE,20211124CCHSIORKP
EXPOCODE,SECT_ID,STNNBR,CASTNO,SAMPNO,BTLNBR,BTLNBR_FLAG_W,DATE,TIME,LATITUDE,LONGITUDE,DEPTH,CTDPRS,CTDTMP,CTDSAL,CTDSAL_FLAG_W,SALNTY,SALNTY_FLAG_W,CTDOXY,CTDOXY_FLAG_W,OXYGEN,OXYGEN_FLAG_W,SILCAT,SILCAT_FLAG_W,NITRAT,NITRAT_FLAG_W,NITRIT,NITRIT_FLAG_W,PHSPHT,PHSPHT_FLAG_W,CFC-11,CFC-11_FLAG_W,CFC-12,CFC-12_FLAG_W,TCARBN,TCARBN_FLAG_W,ALKALI,ALKALI_FLAG_W,TRITUM,TRITUM_FLAG_W,HELIUM,HELIUM_FLAG_W,DELHE3,DELHE3_FLAG_W,DELC13,DELC13_FLAG_W,DELC14,DELC14_FLAG_W,C14ERR,NEON,NEON_FLAG_W,NEONER,CCL4,CCL4_FLAG_W,TRITER,HELIER,THETA,DELHER
,,,,,,,,,,,METERS,DBAR,ITS-90,PSS-78,,PSS-78,,UMOL/KG,,UMOL/KG,,UMOL/KG,,UMOL/KG,,UMOL/KG,,UMOL/KG,,PMOL/KG,,PMOL/KG,,UMOL/KG,,UMOL/KG,,TU,,NMOL/KG,,PERCNT,,/MILLE,,/MILLE,,/MILLE,NMOL/KG,,NMOL/KG,PMOL/KG,,TU,NMOL/KG,DEG C,PERCNT
  316N145_7,       I08N,     329,          1,         36,         36,2,19950320,       2213,   -11.5002,    79.9997,       5195,     2.4,  29.0190,  34.6335,2,  34.6321,2,    196.0,2,   197.0,2,    2.77,2,    0.19,2,    0.00,2,    0.10,2,   1.662,2,   0.959,2,  1935.7,2,  2275.8,2,  -9.0000,9,-999.0000,9, -999.00,9, -999.00,9,  -999.0,9,  -999.0,-999.000,9,-999.000,   1.899,2,  -9.0000,-999.0000,  29.0184,   -9.00
  316N145_7,       I08N,     329,          1,         35,         35,2,19950320,       2213,   -11.5002,    79.9997,       5195,    35.8,  28.8116,  34.6390,2,  34.6376,2,    198.5,2,   198.3,2,    2.75,2,    0.14,2,    0.00,2,    0.10,2,   1.614,2,   0.946,2,  -999.0,9,  -999.0,9,  -9.0000,9,-999.0000,9, -999.00,9, -999.00,9,  -999.0,9,  -999.0,-999.000,9,-999.000,   1.878,2,  -9.0000,-999.0000,  28.8030,   -9.00
  316N145_7,       I08N,     329,          1,         34,         34,2,19950320,       2213,   -11.5002,    79.9997,       5195,    55.4,  27.6996,  34.7065,2,  34.6992,2,    213.6,2,   210.6,2,    2.71,2,    0.14,2,    0.00,2,    0.10,2,   1.718,2,   1.013,2,  -999.0,9,  -999.0,9,  -9.0000,9,-999.0000,9, -999.00,9, -999.00,9,  -999.0,9,  -999.0,-999.000,9,-999.000,   1.519,2,  -9.0000,-999.0000,  27.6867,   -9.00
  316N145_7,       I08N,     329,          1,         33,         33,2,19950320,       2213,   -11.5002,    79.9997,       5195,    85.5,  24.6145,  34.5875,2,  34.6017,2,    191.5,2,   174.6,2,    5.40,2,    3.73,2,    0.22,2,    0.40,2,-999.000,9,-999.000,9,  -999.0,9,  -999.0,9,  -9.0000,9,-999.0000,9, -999.00,9, -999.00,9,  -999.0,9,  -999.0,-999.000,9,-999.000,-999.000,9,  -9.0000,-999.0000,  24.5962,   -9.00
  316N145_7,       I08N,     329,          1,         32,         32,2,19950320,       2213,   -11.5002,    79.9997,       5195,   130.5,  18.1771,  34.6734,2,  34.6432,2,     98.4,2,    93.7,2,   22.57,2,   18.68,2,    0.04,2,    1.30,2,   1.257,2,   0.709,2,  -999.0,9,  -999.0,9,  -9.0000,9,-999.0000,9, -999.00,9, -999.00,9,  -999.0,9,  -999.0,-999.000,9,-999.000,   0.239,2,  -9.0000,-999.0000,  18.1547,   -9.00
  316N145_7,       I08N,     329,          1,         31,         31,2,19950320,       2213,   -11.5002,    79.9997,       5195,   165.8,  15.9638,  34.8565,2,-999.0000,5,    101.3,2,    98.5,2,   25.48,2,   19.98,2,    0.01,2,    1.40,2,-999.000,9,-999.000,9,  -999.0,9,  -999.0,9,  -9.0000,9,-999.0000,9, -999.00,9, -999.00,9,  -999.0,9,  -999.0,-999.000,9,-999.000,-999.000,9,  -9.0000,-999.0000,  15.9376,   -9.00
  316N145_7,       I08N,     329,          1,         30,         30,2,19950320,       2213,   -11.5002,    79.9997,       5195,   195.1,  14.4424,  34.8840,2,  34.8823,2,     89.4,2,    88.4,2,   27.34,2,   22.43,2,    0.01,2,    1.57,2,   0.980,2,   0.539,2,  -999.0,9,  -999.0,9,  -9.0000,9,-999.0000,9, -999.00,9, -999.00,9,  -999.0,9,  -999.0,-999.000,9,-999.000,   0.153,2,  -9.0000,-999.0000,  14.4137,   -9.00
  316N145_7,       I08N,     329,          1,         29,         29,2,19950320,       2213,   -11.5002,    79.9997,       5195,   235.6,  12.9717,  34.8142,2,  34.8125,2,     87.9,2,    85.3,2,   31.72,2,   24.66,2,    0.01,2,    1.73,2,-999.000,9,-999.000,9,  -999.0,9,  -999.0,9,  -9.0000,9,-999.0000,9, -999.00,9, -999.00,9,  -999.0,9,  -999.0,-999.000,9,-999.000,-999.000,9,  -9.0000,-999.0000,  12.9393,   -9.00
  316N145_7,       I08N,     329,          1,         28,         28,2,19950320,       2213,   -11.5002,    79.9997,       5195,   306.3,  11.6779,  34.8780,2,  34.8768,2,     86.8,2,    90.7,2,   30.44,2,   25.75,2,    0.01,2,    1.79,2,   0.688,2,   0.365,2,  -999.0,9,  -999.0,9,  -9.0000,9,-999.0000,9, -999.00,9, -999.00,9,  -999.0,9,  -999.0,-999.000,9,-999.000,   0.186,2,  -9.0000,-999.0000,  11.6385,   -9.00
  316N145_7,       I08N,     329,          1,         27,         27,2,19950320,       2213,   -11.5002,    79.9997,       5195,   396.4,  10.2073,  34.8205,2,  34.8228,2,    113.8,2,   118.8,2,   28.33,2,   25.61,2,    0.00,2,    1.76,2,-999.000,9,-999.000,9,  -999.0,9,  -999.0,9,  -9.0000,9,-999.0000,9, -999.00,9, -999.00,9,  -999.0,9,  -999.0,-999.000,9,-999.000,-999.000,9,  -9.0000,-999.0000,  10.1603,   -9.00
  316N145_7,       I08N,     329,          1,         26,         26,2,19950320,       2213,   -11.5002,    79.9997,       5195,   488.1,   8.9354,  34.7579,2,  34.7569,2,     99.7,2,   100.5,2,   38.79,2,   29.98,2,    0.00,2,    2.07,2,   0.227,3,   0.147,6,  -999.0,9,  -999.0,9,  -9.0000,9,-999.0000,9, -999.00,9, -999.00,9,  -999.0,9,  -999.0,-999.000,9,-999.000,   0.202,6,  -9.0000,-999.0000,   8.8819,   -9.00
  316N145_7,       I08N,     329,          1,         25,         25,2,19950320,       2213,   -11.5002,    79.9997,       5195,   587.6,   7.8557,  34.7086,2,  34.7074,2,     82.5,2,    82.7,2,   55.75,2,   33.37,2,    0.00,2,    2.35,2,-999.000,9,-999.000,9,  -999.0,9,  -999.0,9,  -9.0000,9,-999.0000,9, -999.00,9, -999.00,9,  -999.0,9,  -999.0,-999.000,9,-999.000,-999.000,9,  -9.0000,-999.0000,   7.7956,   -9.00
  316N145_7,       I08N,     329,          1,         24,         24,2,19950320,       2213,   -11.5002,    79.9997,       5195,   687.1,   7.1896,  34.6992,2,  34.6992,2,     77.3,2,    77.4,2,   67.69,2,   34.90,2,    0.00,2,    2.50,2,   0.062,3,   0.023,2,  -999.0,9,  -999.0,9,  -9.0000,9,-999.0000,9, -999.00,9, -999.00,9,  -999.0,9,  -999.0,-999.000,9,-999.000,   0.044,2,  -9.0000,-999.0000,   7.1224,   -9.00
  316N145_7,       I08N,     329,          1,         23,         23,2,19950320,       2213,   -11.5002,    79.9997,       5195,   789.1,   6.5155,  34.6907,2,  34.6911,2,     77.2,2,    78.6,2,   77.34,2,   35.67,2,    0.00,2,    2.56,2,   0.013,3,   0.013,2,  -999.0,9,  -999.0,9,  -9.0000,9,-999.0000,9, -999.00,9, -999.00,9,  -999.0,9,  -999.0,-999.000,9,-999.000,   0.033,2,  -9.0000,-999.0000,   6.4417,   -9.00
  316N145_7,       I08N,     329,          1,         22,         22,2,19950320,       2213,   -11.5002,    79.9997,       5195,   890.4,   5.8878,  34.6720,2,  34.6705,2,     81.0,2,    81.4,2,   87.85,2,   36.15,2,    0.00,2,    2.62,2,-999.000,9,-999.000,9,  -999.0,9,  -999.0,9,  -9.0000,9,-999.0000,9, -999.00,9, -999.00,9,  -999.0,9,  -999.0,-999.000,9,-999.000,-999.000,9,  -9.0000,-999.0000,   5.8081,   -9.00
  316N145_7,       I08N,     329,          1,         21,         21,2,19950320,       2213,   -11.5002,    79.9997,       5195,   991.2,   5.4591,  34.6826,2,  34.6829,2,     83.7,2,    83.0,2,   93.75,2,   36.48,2,    0.00,2,    2.65,2,-999.000,9,-999.000,9,  -999.0,9,  -999.0,9,  -9.0000,9,-999.0000,9, -999.00,9, -999.00,9,  -999.0,9,  -999.0,-999.000,9,-999.000,-999.000,9,  -9.0000,-999.0000,   5.3728,   -9.00
  316N145_7,       I08N,     329,          1,         20,         20,2,19950320,       2213,   -11.5002,    79.9997,       5195,  1131.6,   4.7793,  34.6612,2,  34.6619,2,     91.0,2,    91.3,2,  102.20,2,   36.68,2,    0.00,2,    2.66,2,  -0.038,3,   0.002,2,  -999.0,9,  -999.0,9,  -9.0000,9,-999.0000,9, -999.00,9, -999.00,9,  -999.0,9,  -999.0,-999.000,9,-999.000,   0.006,2,  -9.0000,-999.0000,   4.6856,   -9.00
  316N145_7,       I08N,     329,          1,         19,         19,2,19950320,       2213,   -11.5002,    79.9997,       5195,  1282.1,   4.3123,  34.6826,2,  34.6832,2,     97.3,2,    97.7,2,  106.42,2,   36.68,2,    0.00,2,    2.66,2,-999.000,9,-999.000,9,  -999.0,9,  -999.0,9,  -9.0000,9,-999.0000,9, -999.00,9, -999.00,9,  -999.0,9,  -999.0,-999.000,9,-999.000,-999.000,9,  -9.0000,-999.0000,   4.2092,   -9.00
  316N145_7,       I08N,     329,          1,         18,         18,2,19950320,       2213,   -11.5002,    79.9997,       5195,  1364.8,   4.0150,  34.6890,2,  34.6899,2,    103.2,2,   103.0,2,  108.10,2,   36.58,2,    0.00,2,    2.65,2,  -0.013,3,   0.001,2,  -999.0,9,  -999.0,9,  -9.0000,9,-999.0000,9, -999.00,9, -999.00,9,  -999.0,9,  -999.0,-999.000,9,-999.000,  -0.003,2,  -9.0000,-999.0000,   3.9075,   -9.00
  316N145_7,       I08N,     329,          1,         17,         17,2,19950320,       2213,   -11.5002,    79.9997,       5195,  1514.7,   3.5999,  34.7201,2,  34.7194,2,    112.3,2,   112.5,2,  109.35,2,   36.29,2,    0.00,2,    2.62,2,-999.000,9,-999.000,9,  -999.0,9,  -999.0,9,  -9.0000,9,-999.0000,9, -999.00,9, -999.00,9,  -999.0,9,  -999.0,-999.000,9,-999.000,-999.000,9,  -9.0000,-999.0000,   3.4836,   -9.00
  316N145_7,       I08N,     329,          1,         16,         16,2,19950320,       2213,   -11.5002,    79.9997,       5195,  1716.6,   3.0736,  34.7374,2,  34.7375,2,    127.4,2,   127.2,2,  112.52,2,   35.57,2,    0.00,2,    2.55,2,  -0.011,3,   0.004,2,  -999.0,9,  -999.0,9,  -9.0000,9,-999.0000,9, -999.00,9, -999.00,9,  -999.0,9,  -999.0,-999.000,9,-999.000,  -0.002,2,  -9.0000,-999.0000,   2.9460,   -9.00
  316N145_7,       I08N,     329,          1,         15,         15,2,19950320,       2213,   -11.5002,    79.9997,       5195,  1919.4,   2.6733,  34.7453,2,  34.7454,2,    139.0,2,   138.6,2,  116.34,2,   35.04,2,    0.00,2,    2.50,2,-999.000,9,-999.000,9,  -999.0,9,  -999.0,9,  -9.0000,9,-999.0000,9, -999.00,9, -999.00,9,  -999.0,9,  -999.0,-999.000,9,-999.000,-999.000,9,  -9.0000,-999.0000,   2.5334,   -9.00
  316N145_7,       I08N,     329,          1,         14,         14,2,19950320,       2213,   -11.5002,    79.9997,       5195,  2122.4,   2.3437,  34.7383,2,  34.7389,2,    150.6,2,   151.0,2,  118.03,2,   34.32,2,    0.00,2,    2.44,2,  -0.019,3,   0.000,2,  -999.0,9,  -999.0,9,  -9.0000,9,-999.0000,9, -999.00,9, -999.00,9,  -999.0,9,  -999.0,-999.000,9,-999.000,  -0.003,2,  -9.0000,-999.0000,   2.1910,   -9.00
  316N145_7,       I08N,     329,          1,         13,         13,2,19950320,       2213,   -11.5002,    79.9997,       5195,  2323.8,   2.0761,  34.7332,2,  34.7328,2,    159.3,2,   160.0,2,  119.51,2,   33.99,2,    0.00,2,    2.40,2,-999.000,9,-999.000,9,  -999.0,9,  -999.0,9,  -9.0000,9,-999.0000,9, -999.00,9, -999.00,9,  -999.0,9,  -999.0,-999.000,9,-999.000,-999.000,9,  -9.0000,-999.0000,   1.9100,   -9.00
  316N145_7,       I08N,     329,          1,         12,         12,2,19950320,       2213,   -11.5002,    79.9997,       5195,  2579.0,   1.8824,  34.7310,2,  34.7319,2,    166.2,2,   166.2,2,  121.63,2,   33.79,2,    0.00,2,    2.37,2,  -0.008,3,   0.000,2,  -999.0,9,  -999.0,9,  -9.0000,9,-999.0000,9, -999.00,9, -999.00,9,  -999.0,9,  -999.0,-999.000,9,-999.000,  -0.006,2,  -9.0000,-999.0000,   1.6968,   -9.00
  316N145_7,       I08N,     329,          1,         11,         11,2,19950320,       2213,   -11.5002,    79.9997,       5195,  2832.9,   1.7358,  34.7283,2,  34.7283,2,    169.9,2,   169.6,2,  124.62,2,   33.70,2,    0.00,2,    2.36,2,-999.000,9,-999.000,9,  -999.0,9,  -999.0,9,  -9.0000,9,-999.0000,9, -999.00,9, -999.00,9,  -999.0,9,  -999.0,-999.000,9,-999.000,-999.000,9,  -9.0000,-999.0000,   1.5295,   -9.00
  316N145_7,       I08N,     329,          1,         10,         10,2,19950320,       2213,   -11.5002,    79.9997,       5195,  3086.1,   1.6055,  34.7248,2,  34.7254,2,    170.9,2,   170.9,2,  128.91,2,   33.89,2,    0.00,2,    2.36,2,  -0.008,3,  -0.001,2,  -999.0,9,  -999.0,9,  -9.0000,9,-999.0000,9, -999.00,9, -999.00,9,  -999.0,9,  -999.0,-999.000,9,-999.000,  -0.001,2,  -9.0000,-999.0000,   1.3779,   -9.00
  316N145_7,       I08N,     329,          1,          9,          9,2,19950320,       2213,   -11.5002,    79.9997,       5195,  3341.7,   1.5014,  34.7221,2,  34.7225,2,    172.6,2,   173.0,2,  131.70,2,   33.94,2,    0.00,2,    2.36,2,-999.000,9,-999.000,9,  -999.0,9,  -999.0,9,  -9.0000,9,-999.0000,9, -999.00,9, -999.00,9,  -999.0,9,  -999.0,-999.000,9,-999.000,-999.000,9,  -9.0000,-999.0000,   1.2510,   -9.00
  316N145_7,       I08N,     329,          1,          8,          8,2,19950320,       2213,   -11.5002,    79.9997,       5195,  3597.1,   1.4202,  34.7205,2,  34.7198,2,    177.6,2,   178.0,2,  131.67,2,   33.65,2,    0.00,2,    2.35,2,  -0.005,3,  -0.001,2,  -999.0,9,  -999.0,9,  -9.0000,9,-999.0000,9, -999.00,9, -999.00,9,  -999.0,9,  -999.0,-999.000,9,-999.000,  -0.001,2,  -9.0000,-999.0000,   1.1459,   -9.00
  316N145_7,       I08N,     329,          1,          7,          7,2,19950320,       2213,   -11.5002,    79.9997,       5195,  3851.4,   1.3599,  34.7178,2,  34.7182,2,    180.8,7,   181.1,2,  132.30,2,   33.51,2,    0.00,2,    2.33,2,-999.000,9,-999.000,9,  -999.0,9,  -999.0,9,  -9.0000,9,-999.0000,9, -999.00,9, -999.00,9,  -999.0,9,  -999.0,-999.000,9,-999.000,-999.000,9,  -9.0000,-999.0000,   1.0606,   -9.00
  316N145_7,       I08N,     329,          1,          6,          6,2,19950320,       2213,   -11.5002,    79.9997,       5195,  4107.3,   1.3476,  34.7172,2,  34.7182,2,    182.2,7,   182.3,2,  133.35,2,   33.51,2,    0.00,2,    2.33,2,  -0.024,3,   0.003,2,  -999.0,9,  -999.0,9,  -9.0000,9,-999.0000,9, -999.00,9, -999.00,9,  -999.0,9,  -999.0,-999.000,9,-999.000,  -0.004,2,  -9.0000,-999.0000,   1.0211,   -9.00
  316N145_7,       I08N,     329,          1,          5,          5,2,19950320,       2213,   -11.5002,    79.9997,       5195,  4363.2,   1.3623,  34.7171,2,  34.7173,2,    181.6,7,   181.8,2,  133.76,2,   33.55,2,    0.00,2,    2.33,2,-999.000,9,-999.000,9,  -999.0,9,  -999.0,9,  -9.0000,9,-999.0000,9, -999.00,9, -999.00,9,  -999.0,9,  -999.0,-999.000,9,-999.000,-999.000,9,  -9.0000,-999.0000,   1.0069,   -9.00
  316N145_7,       I08N,     329,          1,          4,          4,2,19950320,       2213,   -11.5002,    79.9997,       5195,  4619.5,   1.3794,  34.7170,2,  34.7165,2,    182.6,7,   182.3,2,  133.73,2,   33.50,2,    0.00,2,    2.32,2,-999.000,9,-999.000,9,  -999.0,9,  -999.0,9,  -9.0000,9,-999.0000,9, -999.00,9, -999.00,9,  -999.0,9,  -999.0,-999.000,9,-999.000,-999.000,9,  -9.0000,-999.0000,   0.9941,   -9.00
  316N145_7,       I08N,     329,          1,          3,          3,2,19950320,       2213,   -11.5002,    79.9997,       5195,  4876.8,   1.4002,  34.7166,2,  34.7159,2,    182.3,7,   183.1,2,  133.92,2,   33.55,2,    0.00,2,    2.32,2,   0.005,3,   0.002,2,  -999.0,9,  -999.0,9,  -9.0000,9,-999.0000,9, -999.00,9, -999.00,9,  -999.0,9,  -999.0,-999.000,9,-999.000,   0.000,2,  -9.0000,-999.0000,   0.9840,   -9.00
  316N145_7,       I08N,     329,          1,          2,          2,2,19950320,       2213,   -11.5002,    79.9997,       5195,  5131.5,   1.4252,  34.7167,2,  34.7165,2,    183.0,7,   183.8,2,  133.67,2,   33.55,2,    0.00,2,    2.32,2,   0.014,3,   0.004,2,  -999.0,9,  -999.0,9,  -9.0000,9,-999.0000,9, -999.00,9, -999.00,9,  -999.0,9,  -999.0,-999.000,9,-999.000,  -0.004,2,  -9.0000,-999.0000,   0.9773,   -9.00
  316N145_7,       I08N,     329,          1,          1,          1,2,19950320,       2213,   -11.5002,    79.9997,       5195,  5373.6,   1.4517,  34.7162,2,  34.7162,2,    183.7,7,   183.1,2,  133.21,2,   33.50,2,    0.00,2,    2.32,2,   0.073,3,   0.005,2,  -999.0,9,  -999.0,9,  -9.0000,9,-999.0000,9, -999.00,9, -999.00,9,  -999.0,9,  -999.0,-999.000,9,-999.000,   0.000,2,  -9.0000,-999.0000,   0.9727,   -9.00