BOTTLE,20211124CCHSIORKP
EXPOCODE,SECT_ID,STNNBR,CASTNO,SAMPNO,BTLNBR,BTLNBR_FLAG_W,DATE,TIME,LATITUDE,LONGITUDE,DEPTH,CTDPRS,CTDTMP,CTDSAL,CTDSAL_FLAG_W,SALNTY,SALNTY_FLAG_W,CTDOXY,CTDOXY_FLAG_W,OXYGEN,OXYGEN_FLAG_W,SILCAT,SILCAT_FLAG_W,NITRAT,NITRAT_FLAG_W,NITRIT,NITRIT_FLAG_W,PHSPHT,PHSPHT_FLAG_W,CFC-11,CFC-11_FLAG_W,CFC-12,CFC-12_FLAG_W,TCARBN,TCARBN_FLAG_W,ALKALI,ALKALI_FLAG_W,TRITUM,TRITUM_FLAG_W,HELIUM,HELIUM_FLAG_W,DELHE3,DELHE3_FLAG_W,DELC13,DELC13_FLAG_W,DELC14,DELC14_FLAG_W,C14ERR,NEON,NEON_FLAG_W,NEONER,CCL4,CCL4_FLAG_W,TRITER,HELIER,THETA,DELHER
,,,,,,,,,,,METERS,DBAR,ITS-90,PSS-78,,PSS-78,,UMOL/KG,,UMOL/KG,,UMOL/KG,,UMOL/KG,,UMOL/KG,,UMOL/KG,,PMOL/KG,,PMOL/KG,,UMOL/KG,,UMOL/KG,,TU,,NMOL/KG,,PERCNT,,/MILLE,,/MILLE,,/MILLE,NMOL/KG,,NMOL/KG,PMOL/KG,,TU,NMOL/KG,DEG C,PERCNT
  316N145_7,       I08N,     346,          1,         36,         36,2,19950325,       0019,   -20.0002,    80.0002,       4843,     3.2,  27.3045,  35.0524,2,  35.0529,2,    199.1,2,   200.8,2,    2.63,2,    0.11,2,    0.00,2,    0.11,2,   1.736,2,   0.971,2,  1950.4,2,  2286.8,2,   1.1307,2,   1.6989,2,   -0.74,2,    1.26,2,    75.3,2,     3.3,   6.610,2,   0.033,-999.000,9,   0.0040,   0.0085,  27.3038,    0.14
  316N145_7,       I08N,     346,          1,         35,         35,2,19950325,       0019,   -20.0002,    80.0002,       4843,    36.2,  27.2728,  35.0550,2,  35.0571,2,    204.1,2,   201.3,2,    2.98,2,    0.11,2,    0.00,2,    0.10,2,-999.000,9,-999.000,9,  1950.3,2,  2287.8,2,  -9.0000,9,-999.0000,9, -999.00,9, -999.00,9,  -999.0,9,  -999.0,-999.000,9,-999.000,-999.000,9,  -9.0000,-999.0000,  27.2644,   -9.00
  316N145_7,       I08N,     346,          1,         34,         34,2,19950325,       0019,   -20.0002,    80.0002,       4843,    67.1,  23.0443,  35.3513,2,  35.3498,2,    228.5,2,   226.9,2,    3.13,2,    0.11,2,    0.00,2,    0.10,2,   2.117,2,   1.168,2,  1982.7,2,  2310.4,2,   1.1572,2,   1.7226,2,   -0.60,2,    1.26,2,    79.8,2,     5.0,   6.867,2,   0.034,-999.000,9,   0.0040,   0.0086,  23.0305,    0.14
  316N145_7,       I08N,     346,          1,         33,         33,2,19950325,       0019,   -20.0002,    80.0002,       4843,   137.2,  20.8761,  35.6012,2,  35.5995,2,    217.0,2,   208.3,2,    3.28,2,    0.26,2,    0.04,2,    0.17,2,   2.183,2,   1.199,2,  2022.6,2,  2336.0,2,   1.1171,2,   1.7243,2,   -0.62,2,    1.09,2,    93.9,2,     3.7,   6.925,2,   0.035,-999.000,9,   0.0040,   0.0086,  20.8499,    0.14
  316N145_7,       I08N,     346,          1,         32,         32,2,19950325,       0019,   -20.0002,    80.0002,       4843,   197.6,  19.3099,  35.7634,2,  35.7669,2,    212.1,2,   203.3,2,    3.43,2,    1.65,2,    0.06,2,    0.25,2,   2.311,2,   1.248,2,  2054.6,2,  2342.1,2,   1.0790,2,   1.7388,2,    0.08,2,    1.05,2,   106.2,2,     4.4,   7.015,2,   0.035,-999.000,9,   0.0039,   0.0087,  19.2741,    0.14
  316N145_7,       I08N,     346,          1,         31,         31,2,19950325,       0019,   -20.0002,    80.0002,       4843,   227.3,  18.1464,  35.7452,2,  35.7440,2,    196.4,2,   194.7,2,    4.39,2,    3.25,2,    0.01,2,    0.36,2,   2.292,2,   1.224,2,  2074.9,2,  2342.0,2,   1.0526,2,   1.7381,2,    0.39,2,    1.01,2,    84.2,2,     4.4,   7.064,2,   0.035,-999.000,9,   0.0039,   0.0087,  18.1070,    0.14
  316N145_7,       I08N,     346,          1,         30,         30,2,19950325,       0019,   -20.0002,    80.0002,       4843,   258.1,  17.1112,  35.7458,2,  35.7535,2,    205.4,2,   205.7,2,    3.12,2,    2.65,2,    0.01,2,    0.34,2,   2.439,2,   1.289,2,  2081.0,2,  2340.3,2,   0.9937,2,   1.7398,2,    0.42,2,    1.14,2,    85.3,2,     4.8,   7.094,2,   0.035,-999.000,9,   0.0038,   0.0087,  17.0681,    0.14
  316N145_7,       I08N,     346,          1,         29,         29,2,19950325,       0019,   -20.0002,    80.0002,       4843,   356.7,  14.0287,  35.4011,2,  35.3987,2,    216.0,2,   217.0,2,    3.47,2,    6.46,2,    0.00,2,    0.57,2,   2.699,2,   1.374,2,  2095.0,2,  2333.3,2,  -9.0000,9,   1.7453,2,    0.30,2,    1.23,2,    83.3,2,     3.8,   7.227,2,   0.036,-999.000,9,  -9.0000,   0.0087,  13.9767,    0.14
  316N145_7,       I08N,     346,          1,         28,         28,2,19950325,       0019,   -20.0002,    80.0002,       4843,   457.1,  11.5833,  35.0356,2,  35.0429,2,    224.7,2,   229.1,2,    4.23,2,   10.79,2,    0.00,2,    0.82,2,   2.776,2,   1.399,2,  2105.0,2,  2307.0,2,   0.6720,2,   1.7530,2,    0.61,2,    1.29,2,    76.1,2,     3.5,   7.320,2,   0.037,-999.000,9,   0.0032,   0.0088,  11.5243,    0.14
  316N145_7,       I08N,     346,          1,         27,         27,2,19950325,       0019,   -20.0002,    80.0002,       4843,   559.1,   9.8571,  34.7727,2,  34.7754,2,    226.3,2,   226.7,2,    6.01,2,   15.45,2,    0.00,2,    1.10,2,   2.453,2,   1.201,2,  2116.7,2,  2296.2,2,   0.5029,2,   1.7634,2,    1.11,2,    1.30,2,    50.6,2,     3.6,   7.425,2,   0.037,-999.000,9,   0.0030,   0.0088,   9.7918,    0.14
  316N145_7,       I08N,     346,          1,         26,         26,2,19950325,       0019,   -20.0002,    80.0002,       4843,   659.6,   8.5298,  34.6207,2,  34.6227,2,    210.9,2,   210.1,2,   11.03,2,   20.58,2,    0.00,2,    1.41,2,   1.513,2,   0.737,2,  2137.4,2,  2291.4,2,   0.3174,2,   1.7679,2,    1.95,2,    1.12,2,    -1.7,2,     3.9,   7.494,2,   0.037,-999.000,9,   0.0026,   0.0088,   8.4589,    0.14
  316N145_7,       I08N,     346,          1,         25,         25,2,19950325,       0019,   -20.0002,    80.0002,       4843,   759.7,   6.8575,  34.5194,2,  34.5197,2,    178.6,2,   178.9,2,   27.02,2,   27.26,2,    0.00,2,    1.87,2,   0.452,2,   0.231,2,  2178.3,2,  2301.5,2,   0.1123,2,   1.7871,2,    3.78,2,    0.94,2,   -67.2,2,     3.8,   7.618,2,   0.038,-999.000,9,   0.0023,   0.0089,   6.7849,    0.14
  316N145_7,       I08N,     346,          1,         24,         24,2,19950325,       0019,   -20.0002,    80.0002,       4843,   860.8,   5.6837,  34.5264,2,  34.5313,2,    141.6,2,   143.4,2,   51.13,2,   32.26,2,    0.00,2,    2.27,2,   0.084,2,   0.045,2,  2225.6,2,  2322.6,2,   0.0276,2,   1.8174,2,    6.91,2,    0.61,2,  -133.2,2,     3.8,   7.733,2,   0.039,-999.000,9,   0.0022,   0.0091,   5.6084,    0.14
  316N145_7,       I08N,     346,          1,         23,         23,2,19950325,       0019,   -20.0002,    80.0002,       4843,   959.9,   4.9420,  34.5506,2,  34.5498,2,    128.7,2,   131.0,2,   67.54,2,   34.51,2,    0.00,2,    2.45,2,   0.034,2,   0.013,2,  2250.6,2,  2334.6,2,   0.0113,2,   1.8383,2,    9.31,2,    0.46,2,  -158.1,2,     3.5,   7.797,2,   0.039,-999.000,9,   0.0022,   0.0092,   4.8626,    0.14
  316N145_7,       I08N,     346,          1,         22,         22,2,19950325,       0019,   -20.0002,    80.0002,       4843,  1039.3,   4.5893,  34.5823,2,  34.5838,2,    122.2,2,   122.5,2,   77.47,2,   35.37,2,    0.00,2,    2.53,2,   0.006,2,   0.003,2,  2265.2,2,  2352.2,2,   0.0024,2,   1.8530,2,   10.43,2,    0.34,2,  -164.9,2,     3.2,   7.833,2,   0.039,-999.000,9,   0.0022,   0.0093,   4.5055,    0.14
  316N145_7,       I08N,     346,          1,         21,         21,2,19950325,       0019,   -20.0002,    80.0002,       4843,  1180.9,   4.1400,  34.6183,2,  34.6217,2,    121.1,2,   121.5,2,   86.19,2,   35.71,2,    0.00,2,    2.56,2,-999.000,9,-999.000,9,  2275.2,2,  2359.7,2,  -9.0000,9,-999.0000,9, -999.00,9,    0.32,2,  -176.5,2,     2.5,-999.000,9,-999.000,-999.000,9,  -9.0000,-999.0000,   4.0476,   -9.00
  316N145_7,       I08N,     346,          1,         20,         20,2,19950325,       0019,   -20.0002,    80.0002,       4843,  1332.7,   3.6641,  34.6408,2,  34.6427,2,    128.2,2,   129.1,2,   91.24,2,   35.52,2,    0.00,2,    2.54,2,  -0.004,2,   0.000,2,  2278.4,2,  2364.0,2,   0.0008,2,   1.8690,2,   11.45,2,    0.29,2,  -182.7,2,     2.4,   7.912,2,   0.040,-999.000,9,   0.0022,   0.0093,   3.5631,    0.14
  316N145_7,       I08N,     346,          1,         19,         19,2,19950325,       0019,   -20.0002,    80.0002,       4843,  1484.9,   3.4336,  34.6944,2,  34.6956,2,    128.9,2,   129.0,2,   99.19,2,   35.38,2,    0.00,2,    2.53,2,-999.000,9,-999.000,9,  2286.0,2,  2373.2,2,  -9.0000,9,   1.8750,2,   12.35,2, -999.00,9,  -999.0,9,  -999.0,-999.000,9,-999.000,-999.000,9,  -9.0000,-999.0000,   3.3218,   -9.00
  316N145_7,       I08N,     346,          1,         18,         18,2,19950325,       0019,   -20.0002,    80.0002,       4843,  1637.9,   3.1474,  34.7114,2,  34.7129,2,    134.6,2,   134.6,2,  103.86,2,   35.19,2,    0.00,2,    2.51,2,   0.001,2,   0.000,2,  2290.0,2,  2378.6,2,   0.0025,2,   1.8810,2,   13.58,2, -999.00,9,  -999.0,9,  -999.0,   7.751,2,   0.039,-999.000,9,   0.0022,   0.0091,   3.0257,    0.14
  316N145_7,       I08N,     346,          1,         17,         17,2,19950325,       0019,   -20.0002,    80.0002,       4843,  1889.9,   2.6561,  34.7247,2,  34.7266,2,    146.4,2,   146.1,2,  109.79,2,   34.57,2,    0.00,2,    2.47,2,-999.000,9,-999.000,9,  2289.0,2,  2383.1,2,  -9.0000,9,-999.0000,9, -999.00,9, -999.00,9,  -999.0,9,  -999.0,-999.000,9,-999.000,-999.000,9,  -9.0000,-999.0000,   2.5191,   -9.00
  316N145_7,       I08N,     346,          1,         16,         16,2,19950325,       0019,   -20.0002,    80.0002,       4843,  2042.1,   2.4411,  34.7259,2,  34.7276,2,    152.7,2,   154.7,2,  110.97,2,   34.24,2,    0.00,2,    2.43,2,  -0.002,2,   0.000,2,  2289.8,2,  2386.6,2,  -9.0000,9,   1.8780,2,   14.81,2, -999.00,9,  -999.0,9,  -999.0,-999.000,9,-999.000,-999.000,9,  -9.0000,-999.0000,   2.2940,   -9.00
  316N145_7,       I08N,     346,          1,         15,         15,2,19950325,       0019,   -20.0002,    80.0002,       4843,  2194.6,   2.2493,  34.7254,2,  34.7272,2,    160.1,2,   160.4,2,  111.94,2,   33.90,2,    0.00,2,    2.40,2,-999.000,9,-999.000,9,  2285.4,2,  2386.3,2,  -9.0000,9,-999.0000,9, -999.00,9, -999.00,9,  -999.0,9,  -999.0,-999.000,9,-999.000,-999.000,9,  -9.0000,-999.0000,   2.0918,   -9.00
  316N145_7,       I08N,     346,          1,         14,         14,2,19950325,       0019,   -20.0002,    80.0002,       4843,  2346.0,   2.0700,  34.7241,2,  34.7260,2,    167.9,2,   168.1,2,  111.46,2,   33.43,2,    0.00,2,    2.36,2,  -0.002,2,   0.001,2,  2281.7,2,  2377.9,2,  -9.0000,9,   1.8900,2,   15.58,2, -999.00,9,  -999.0,9,  -999.0,-999.000,9,-999.000,-999.000,9,  -9.0000,-999.0000,   1.9021,   -9.00
  316N145_7,       I08N,     346,          1,         13,         13,2,19950325,       0019,   -20.0002,    80.0002,       4843,  2528.5,   1.9101,  34.7248,2,  34.7270,3,    175.8,2,   176.0,2,  111.19,2,   33.00,2,    0.00,2,    2.31,2,-999.000,9,-999.000,9,  2276.0,2,  2383.1,2,  -9.0000,9,   1.8840,2,   15.78,2, -999.00,9,  -999.0,9,  -999.0,-999.000,9,-999.000,-999.000,9,  -9.0000,-999.0000,   1.7286,   -9.00
  316N145_7,       I08N,     346,          1,         12,         12,2,19950325,       0019,   -20.0002,    80.0002,       4843,  2732.5,   1.7632,  34.7263,2,  34.7272,2,    180.9,2,   180.5,2,  112.57,2,   32.76,2,    0.00,2,    2.29,2,   0.000,2,   0.000,2,  2274.6,2,  2388.2,2,  -9.0000,9,   1.8860,2,   15.50,2, -999.00,9,  -999.0,9,  -999.0,-999.000,9,-999.000,-999.000,9,  -9.0000,-999.0000,   1.5657,   -9.00
  316N145_7,       I08N,     346,          1,         11,         11,2,19950325,       0019,   -20.0002,    80.0002,       4843,  2935.8,   1.6543,  34.7268,2,  34.7288,2,    182.8,2,   182.0,2,  115.83,2,   32.77,2,    0.00,2,    2.30,2,-999.000,9,-999.000,9,  2278.6,2,  2385.4,2,  -9.0000,9,   1.8940,2,   14.63,2, -999.00,9,  -999.0,9,  -999.0,-999.000,9,-999.000,-999.000,9,  -9.0000,-999.0000,   1.4400,   -9.00
  316N145_7,       I08N,     346,          1,         10,         10,2,19950325,       0019,   -20.0002,    80.0002,       4843,  3138.5,   1.5399,  34.7263,2,  34.7270,2,    184.7,2,   185.0,2,  118.68,2,   32.82,2,    0.00,2,    2.29,2,   0.001,2,  -0.001,2,  2279.3,2,  2391.8,2,  -9.0000,9,   1.8920,2,   13.07,2, -999.00,9,  -999.0,9,  -999.0,-999.000,9,-999.000,-999.000,9,  -9.0000,-999.0000,   1.3086,   -9.00
  316N145_7,       I08N,     346,          1,          9,          9,2,19950325,       0019,   -20.0002,    80.0002,       4843,  3343.2,   1.4579,  34.7248,2,  34.7260,2,    185.5,2,   185.1,2,  121.75,2,   32.92,2,    0.00,2,    2.30,2,-999.000,9,-999.000,9,  2283.9,2,  2396.8,2,  -9.0000,9,   1.8860,2,   12.52,2, -999.00,9,  -999.0,9,  -999.0,-999.000,9,-999.000,-999.000,9,  -9.0000,-999.0000,   1.2084,   -9.00
  316N145_7,       I08N,     346,          1,          8,          8,2,19950325,       0019,   -20.0002,    80.0002,       4843,  3547.6,   1.4058,  34.7228,2,  34.7231,2,    186.3,2,   187.4,2,  123.15,2,   32.92,2,    0.00,2,    2.30,2,  -0.002,2,   0.000,2,  2283.8,2,  2396.5,2,  -9.0000,9,-999.0000,9, -999.00,9, -999.00,9,  -999.0,9,  -999.0,-999.000,9,-999.000,-999.000,9,  -9.0000,-999.0000,   1.1370,   -9.00
  316N145_7,       I08N,     346,          1,          7,          7,2,19950325,       0019,   -20.0002,    80.0002,       4843,  3750.0,   1.3775,  34.7208,2,  34.7219,2,    185.5,2,   185.3,2,  126.22,2,   33.16,2,    0.00,2,    2.32,2,-999.000,9,-999.000,9,  2288.6,2,  2403.3,2,  -9.0000,9,   1.8950,2,   11.64,2, -999.00,9,  -999.0,9,  -999.0,-999.000,9,-999.000,-999.000,9,  -9.0000,-999.0000,   1.0884,   -9.00
  316N145_7,       I08N,     346,          1,          6,          6,2,19950325,       0019,   -20.0002,    80.0002,       4843,  3955.4,   1.3652,  34.7192,2,  34.7201,2,    184.4,2,   184.3,2,  128.89,2,   33.35,2,    0.00,2,    2.32,2,-999.000,9,-999.000,9,  2291.3,2,  2408.0,2,  -9.0000,9,-999.0000,9, -999.00,9, -999.00,9,  -999.0,9,  -999.0,-999.000,9,-999.000,-999.000,9,  -9.0000,-999.0000,   1.0547,   -9.00
  316N145_7,       I08N,     346,          1,          5,          5,2,19950325,       0019,   -20.0002,    80.0002,       4843,  4158.9,   1.3602,  34.7184,2,  34.7191,2,    183.6,2,   184.3,2,  130.51,2,   33.41,2,    0.00,2,    2.33,2,   0.000,2,   0.000,2,  2293.8,2,  2396.5,3,  -9.0000,9,   1.8910,2,   11.79,2, -999.00,9,  -999.0,9,  -999.0,-999.000,9,-999.000,-999.000,9,  -9.0000,-999.0000,   1.0277,   -9.00
  316N145_7,       I08N,     346,          1,          4,          4,2,19950325,       0019,   -20.0002,    80.0002,       4843,  4364.6,   1.3693,  34.7175,2,  34.7190,2,    183.6,2,   183.5,2,  131.29,2,   33.50,2,    0.00,2,    2.34,2,-999.000,9,-999.000,9,  2294.2,2,  2403.5,2,  -9.0000,9,-999.0000,9, -999.00,9, -999.00,9,  -999.0,9,  -999.0,-999.000,9,-999.000,-999.000,9,  -9.0000,-999.0000,   1.0135,   -9.00
  316N145_7,       I08N,     346,          1,          3,          3,2,19950325,       0019,   -20.0002,    80.0002,       4843,  4569.3,   1.3863,  34.7175,2,  34.7188,2,    183.0,2,   183.5,2,  131.22,2,   33.51,2,    0.00,2,    2.33,2,-999.000,9,-999.000,9,  2295.2,2,  2409.3,2,   0.0054,2,   1.9050,2,   11.67,2, -999.00,9,  -999.0,9,  -999.0,-999.000,9,-999.000,-999.000,9,   0.0023,-999.0000,   1.0066,   -9.00
  316N145_7,       I08N,     346,          1,          2,          2,2,19950325,       0019,   -20.0002,    80.0002,       4843,  4774.1,   1.4063,  34.7168,2,  34.7182,2,    184.0,2,   183.5,2,  131.57,2,   33.56,2,    0.00,2,    2.34,2,   0.001,2,   0.001,2,  2294.7,2,  2426.3,3,  -9.0000,9,-999.0000,9, -999.00,9, -999.00,9,  -999.0,9,  -999.0,-999.000,9,-999.000,-999.000,9,  -9.0000,-999.0000,   1.0021,   -9.00
  316N145_7,       I08N,     346,          1,          1,          1,2,19950325,       0019,   -20.0002,    80.0002,       4843,  4940.8,   1.4262,  34.7167,2,  34.7172,2,    183.8,2,   183.7,2,  131.51,2,   33.61,2,    0.00,2,    2.34,2,   0.000,2,   0.001,2,  2295.8,2,  2416.5,2,   0.0062,2,   1.8950,2,   11.63,2, -999.00,9,  -999.0,9,  -999.0,-999.000,9,-999.000,-999.000,9,   0.0022,-999.0000,   1.0014,   -9.00