BOTTLE,20211124CCHSIORKP
EXPOCODE,SECT_ID,STNNBR,CASTNO,SAMPNO,BTLNBR,BTLNBR_FLAG_W,DATE,TIME,LATITUDE,LONGITUDE,DEPTH,CTDPRS,CTDTMP,CTDSAL,CTDSAL_FLAG_W,SALNTY,SALNTY_FLAG_W,CTDOXY,CTDOXY_FLAG_W,OXYGEN,OXYGEN_FLAG_W,SILCAT,SILCAT_FLAG_W,NITRAT,NITRAT_FLAG_W,NITRIT,NITRIT_FLAG_W,PHSPHT,PHSPHT_FLAG_W,CFC-11,CFC-11_FLAG_W,CFC-12,CFC-12_FLAG_W,TCARBN,TCARBN_FLAG_W,ALKALI,ALKALI_FLAG_W,TRITUM,TRITUM_FLAG_W,HELIUM,HELIUM_FLAG_W,DELHE3,DELHE3_FLAG_W,DELC13,DELC13_FLAG_W,DELC14,DELC14_FLAG_W,C14ERR,NEON,NEON_FLAG_W,NEONER,CCL4,CCL4_FLAG_W,TRITER,HELIER,THETA,DELHER
,,,,,,,,,,,METERS,DBAR,ITS-90,PSS-78,,PSS-78,,UMOL/KG,,UMOL/KG,,UMOL/KG,,UMOL/KG,,UMOL/KG,,UMOL/KG,,PMOL/KG,,PMOL/KG,,UMOL/KG,,UMOL/KG,,TU,,NMOL/KG,,PERCNT,,/MILLE,,/MILLE,,/MILLE,NMOL/KG,,NMOL/KG,PMOL/KG,,TU,NMOL/KG,DEG C,PERCNT
  316N145_7,       I08N,     349,          1,         36,         36,2,19950325,       1644,   -21.5000,    79.9993,       4540,     3.0,  27.1314,  34.9530,2,  34.9516,2,    201.2,2,   201.3,2,    2.75,2,    0.13,2,    0.00,2,    0.10,2,   1.693,2,   0.996,2,  1941.1,2,  2280.2,2,  -9.0000,9,-999.0000,9, -999.00,9, -999.00,9,  -999.0,9,  -999.0,-999.000,9,-999.000,   2.055,2,  -9.0000,-999.0000,  27.1307,   -9.00
  316N145_7,       I08N,     349,          1,         35,         35,2,19950325,       1644,   -21.5000,    79.9993,       4540,    55.6,  25.1214,  35.2842,2,  35.2854,2,    222.4,2,   222.6,2,    2.74,2,    0.13,2,    0.00,2,    0.11,2,-999.000,9,-999.000,9,  -999.0,9,  -999.0,9,  -9.0000,9,-999.0000,9, -999.00,9, -999.00,9,  -999.0,9,  -999.0,-999.000,9,-999.000,-999.000,9,  -9.0000,-999.0000,  25.1093,   -9.00
  316N145_7,       I08N,     349,          1,         34,         34,2,19950325,       1644,   -21.5000,    79.9993,       4540,    80.0,  22.8143,  35.3280,2,  35.3221,2,    225.7,2,   224.3,2,    2.93,2,    0.13,2,    0.00,2,    0.11,2,   2.080,2,   1.190,2,  -999.0,9,  -999.0,9,  -9.0000,9,-999.0000,9, -999.00,9, -999.00,9,  -999.0,9,  -999.0,-999.000,9,-999.000,   1.639,2,  -9.0000,-999.0000,  22.7980,   -9.00
  316N145_7,       I08N,     349,          1,         33,         33,2,19950325,       1644,   -21.5000,    79.9993,       4540,   105.7,  21.9836,  35.4230,2,  35.4272,2,    222.6,2,   219.8,2,    2.91,2,    0.17,2,    0.01,2,    0.11,2,-999.000,9,-999.000,9,  -999.0,9,  -999.0,9,  -9.0000,9,-999.0000,9, -999.00,9, -999.00,9,  -999.0,9,  -999.0,-999.000,9,-999.000,-999.000,9,  -9.0000,-999.0000,  21.9627,   -9.00
  316N145_7,       I08N,     349,          1,         32,         32,2,19950325,       1644,   -21.5000,    79.9993,       4540,   145.7,  20.7312,  35.5232,2,  35.5268,2,    208.9,2,   198.4,2,    4.12,2,    1.64,2,    0.22,2,    0.25,2,   2.102,2,   1.193,2,  -999.0,9,  -999.0,9,  -9.0000,9,-999.0000,9, -999.00,9, -999.00,9,  -999.0,9,  -999.0,-999.000,9,-999.000,   1.328,2,  -9.0000,-999.0000,  20.7035,   -9.00
  316N145_7,       I08N,     349,          1,         31,         31,2,19950325,       1644,   -21.5000,    79.9993,       4540,   185.6,  19.5697,  35.6646,2,  35.6574,2,    187.7,2,   191.7,2,    4.92,2,    3.24,2,    0.02,2,    0.34,2,-999.000,9,-999.000,9,  -999.0,9,  -999.0,9,  -9.0000,9,-999.0000,9, -999.00,9, -999.00,9,  -999.0,9,  -999.0,-999.000,9,-999.000,-999.000,9,  -9.0000,-999.0000,  19.5358,   -9.00
  316N145_7,       I08N,     349,          1,         30,         30,2,19950325,       1644,   -21.5000,    79.9993,       4540,   225.4,  17.9867,  35.6078,2,  35.6119,2,    180.2,2,   179.1,2,    7.34,2,    5.77,2,    0.01,2,    0.51,2,   2.030,2,   1.149,2,  -999.0,9,  -999.0,9,  -9.0000,9,-999.0000,9, -999.00,9, -999.00,9,  -999.0,9,  -999.0,-999.000,9,-999.000,   0.479,2,  -9.0000,-999.0000,  17.9478,   -9.00
  316N145_7,       I08N,     349,          1,         29,         29,2,19950325,       1644,   -21.5000,    79.9993,       4540,   265.5,  17.2137,  35.7035,2,  35.7039,2,    196.7,2,   196.7,2,    4.69,2,    3.99,2,    0.01,2,    0.42,2,-999.000,9,-999.000,9,  -999.0,9,  -999.0,9,  -9.0000,9,-999.0000,9, -999.00,9, -999.00,9,  -999.0,9,  -999.0,-999.000,9,-999.000,-999.000,9,  -9.0000,-999.0000,  17.1692,   -9.00
  316N145_7,       I08N,     349,          1,         28,         28,2,19950325,       1644,   -21.5000,    79.9993,       4540,   306.0,  15.7015,  35.5997,2,  35.5890,2,    206.5,2,   206.1,2,    3.66,2,    4.79,2,    0.01,2,    0.47,2,   2.468,2,   1.331,2,  -999.0,9,  -999.0,9,  -9.0000,9,-999.0000,9, -999.00,9, -999.00,9,  -999.0,9,  -999.0,-999.000,9,-999.000,   0.573,2,  -9.0000,-999.0000,  15.6533,   -9.00
  316N145_7,       I08N,     349,          1,         27,         27,2,19950325,       1644,   -21.5000,    79.9993,       4540,   406.0,  12.6583,  35.1959,2,  35.1973,2,    222.0,2,   224.9,2,    3.45,2,    8.72,2,    0.00,2,    0.70,2,   2.695,2,   1.444,2,  -999.0,9,  -999.0,9,  -9.0000,9,-999.0000,9, -999.00,9, -999.00,9,  -999.0,9,  -999.0,-999.000,9,-999.000,   0.924,2,  -9.0000,-999.0000,  12.6029,   -9.00
  316N145_7,       I08N,     349,          1,         26,         26,2,19950325,       1644,   -21.5000,    79.9993,       4540,   507.1,  10.8669,  34.9285,2,  34.9225,2,    220.8,2,   223.0,2,    5.47,2,   13.11,2,    0.00,2,    0.96,2,   2.498,2,   1.300,2,  -999.0,9,  -999.0,9,  -9.0000,9,-999.0000,9, -999.00,9, -999.00,9,  -999.0,9,  -999.0,-999.000,9,-999.000,   1.155,2,  -9.0000,-999.0000,  10.8040,   -9.00
  316N145_7,       I08N,     349,          1,         25,         25,2,19950325,       1644,   -21.5000,    79.9993,       4540,   607.2,   9.5474,  34.7350,2,  34.7310,2,    222.1,2,   223.1,2,    6.88,2,   16.72,2,    0.00,2,    1.17,2,   2.149,2,   1.114,2,  -999.0,9,  -999.0,9,  -9.0000,9,-999.0000,9, -999.00,9, -999.00,9,  -999.0,9,  -999.0,-999.000,9,-999.000,   1.266,2,  -9.0000,-999.0000,   9.4777,   -9.00
  316N145_7,       I08N,     349,          1,         24,         24,2,19950325,       1644,   -21.5000,    79.9993,       4540,   707.5,   8.2121,  34.5760,2,  34.5880,2,    206.3,2,   207.3,2,   12.55,2,   21.79,2,    0.00,2,    1.49,2,   1.299,2,   0.666,2,  -999.0,9,  -999.0,9,  -9.0000,9,-999.0000,9, -999.00,9, -999.00,9,  -999.0,9,  -999.0,-999.000,9,-999.000,   1.233,2,  -9.0000,-999.0000,   8.1375,   -9.00
  316N145_7,       I08N,     349,          1,         23,         23,2,19950325,       1644,   -21.5000,    79.9993,       4540,   808.4,   6.6240,  34.5072,2,  34.5059,2,    177.5,2,   175.3,2,   30.81,2,   28.34,2,    0.00,2,    1.94,2,-999.000,9,-999.000,9,  -999.0,9,  -999.0,9,  -9.0000,9,-999.0000,9, -999.00,9, -999.00,9,  -999.0,9,  -999.0,-999.000,9,-999.000,-999.000,9,  -9.0000,-999.0000,   6.5478,   -9.00
  316N145_7,       I08N,     349,          1,         22,         22,2,19950325,       1644,   -21.5000,    79.9993,       4540,   909.0,   5.4860,  34.5034,2,  34.5100,2,    151.9,2,   147.6,2,   51.92,2,   32.65,2,    0.00,2,    2.28,2,   0.140,3,   0.059,6,  -999.0,9,  -999.0,9,  -9.0000,9,-999.0000,9, -999.00,9, -999.00,9,  -999.0,9,  -999.0,-999.000,9,-999.000,   0.401,6,  -9.0000,-999.0000,   5.4075,   -9.00
  316N145_7,       I08N,     349,          1,         21,         21,2,19950325,       1644,   -21.5000,    79.9993,       4540,  1009.2,   4.9536,  34.5733,2,  34.5749,2,    125.8,2,   122.0,2,   72.05,2,   35.03,2,    0.00,2,    2.49,2,-999.000,9,-999.000,9,  -999.0,9,  -999.0,9,  -9.0000,9,-999.0000,9, -999.00,9, -999.00,9,  -999.0,9,  -999.0,-999.000,9,-999.000,-999.000,9,  -9.0000,-999.0000,   4.8697,   -9.00
  316N145_7,       I08N,     349,          1,         20,         20,2,19950325,       1644,   -21.5000,    79.9993,       4540,  1110.0,   4.7011,  34.6109,2,  34.6132,2,    115.8,2,   115.8,2,   81.20,2,   35.70,2,    0.00,2,    2.55,2,   0.021,3,   0.004,2,  -999.0,9,  -999.0,9,  -9.0000,9,-999.0000,9, -999.00,9, -999.00,9,  -999.0,9,  -999.0,-999.000,9,-999.000,   0.065,2,  -9.0000,-999.0000,   4.6100,   -9.00
  316N145_7,       I08N,     349,          1,         19,         19,2,19950325,       1644,   -21.5000,    79.9993,       4540,  1261.2,   4.1158,  34.6330,2,  34.6348,2,    120.9,2,   119.9,2,   88.13,2,   35.89,2,    0.00,2,    2.56,2,-999.000,9,-999.000,9,  -999.0,9,  -999.0,9,  -9.0000,9,-999.0000,9, -999.00,9, -999.00,9,  -999.0,9,  -999.0,-999.000,9,-999.000,-999.000,9,  -9.0000,-999.0000,   4.0165,   -9.00
  316N145_7,       I08N,     349,          1,         18,         18,2,19950325,       1644,   -21.5000,    79.9993,       4540,  1413.3,   3.6271,  34.6554,2,  34.6565,2,    130.0,2,   128.9,2,   92.41,2,   35.50,2,    0.00,2,    2.53,2,   0.022,3,   0.003,2,  -999.0,9,  -999.0,9,  -9.0000,9,-999.0000,9, -999.00,9, -999.00,9,  -999.0,9,  -999.0,-999.000,9,-999.000,   0.014,2,  -9.0000,-999.0000,   3.5195,   -9.00
  316N145_7,       I08N,     349,          1,         17,         17,2,19950325,       1644,   -21.5000,    79.9993,       4540,  1590.3,   3.2616,  34.6940,2,  34.6944,2,    134.4,2,   134.1,2,   99.36,2,   35.12,2,    0.00,2,    2.51,2,-999.000,9,-999.000,9,  -999.0,9,  -999.0,9,  -9.0000,9,-999.0000,9, -999.00,9, -999.00,9,  -999.0,9,  -999.0,-999.000,9,-999.000,-999.000,9,  -9.0000,-999.0000,   3.1427,   -9.00
  316N145_7,       I08N,     349,          1,         16,         16,2,19950325,       1644,   -21.5000,    79.9993,       4540,  1765.8,   2.9193,  34.7111,2,  34.7111,2,    141.1,2,   141.3,2,  104.07,2,   34.83,2,    0.00,2,    2.47,2,-999.000,9,-999.000,9,  -999.0,9,  -999.0,9,  -9.0000,9,-999.0000,9, -999.00,9, -999.00,9,  -999.0,9,  -999.0,-999.000,9,-999.000,-999.000,9,  -9.0000,-999.0000,   2.7895,   -9.00
  316N145_7,       I08N,     349,          1,         15,         15,2,19950325,       1644,   -21.5000,    79.9993,       4540,  1919.7,   2.6381,  34.7199,2,  34.7196,2,    147.9,2,   149.5,2,  107.56,2,   34.45,2,    0.00,2,    2.44,2,-999.000,9,-999.000,9,  -999.0,9,  -999.0,9,  -9.0000,9,-999.0000,9, -999.00,9, -999.00,9,  -999.0,9,  -999.0,-999.000,9,-999.000,-999.000,9,  -9.0000,-999.0000,   2.4988,   -9.00
  316N145_7,       I08N,     349,          1,         14,         14,2,19950325,       1644,   -21.5000,    79.9993,       4540,  2121.2,   2.3670,  34.7230,2,  34.7236,2,    157.1,2,   157.2,2,  109.60,2,   34.02,2,    0.00,2,    2.40,2,  -0.002,3,   0.004,2,  -999.0,9,  -999.0,9,  -9.0000,9,-999.0000,9, -999.00,9, -999.00,9,  -999.0,9,  -999.0,-999.000,9,-999.000,  -0.004,2,  -9.0000,-999.0000,   2.2141,   -9.00
  316N145_7,       I08N,     349,          1,         13,         13,2,19950325,       1644,   -21.5000,    79.9993,       4540,  2324.4,   2.1017,  34.7235,2,  34.7238,2,    167.5,2,   168.6,2,  109.78,2,   33.40,2,    0.00,2,    2.34,2,-999.000,9,-999.000,9,  -999.0,9,  -999.0,9,  -9.0000,9,-999.0000,9, -999.00,9, -999.00,9,  -999.0,9,  -999.0,-999.000,9,-999.000,-999.000,9,  -9.0000,-999.0000,   1.9352,   -9.00
  316N145_7,       I08N,     349,          1,         12,         12,2,19950325,       1644,   -21.5000,    79.9993,       4540,  2527.4,   1.9146,  34.7249,2,  34.7252,2,    175.9,2,   176.5,2,  109.96,2,   32.92,2,    0.00,2,    2.29,2,  -0.031,3,   0.000,2,  -999.0,9,  -999.0,9,  -9.0000,9,-999.0000,9, -999.00,9, -999.00,9,  -999.0,9,  -999.0,-999.000,9,-999.000,   0.005,2,  -9.0000,-999.0000,   1.7331,   -9.00
  316N145_7,       I08N,     349,          1,         11,         11,2,19950325,       1644,   -21.5000,    79.9993,       4540,  2731.5,   1.7692,  34.7267,2,  34.7268,2,    181.7,2,   181.3,2,  111.17,2,   32.64,2,    0.00,2,    2.28,2,-999.000,9,-999.000,9,  -999.0,9,  -999.0,9,  -9.0000,9,-999.0000,9, -999.00,9, -999.00,9,  -999.0,9,  -999.0,-999.000,9,-999.000,-999.000,9,  -9.0000,-999.0000,   1.5717,   -9.00
  316N145_7,       I08N,     349,          1,         10,         10,2,19950325,       1644,   -21.5000,    79.9993,       4540,  2935.2,   1.6341,  34.7292,2,  34.7288,2,    186.1,2,   186.0,2,  112.18,2,   32.40,2,    0.00,2,    2.25,2,  -0.021,3,  -0.003,2,  -999.0,9,  -999.0,9,  -9.0000,9,-999.0000,9, -999.00,9, -999.00,9,  -999.0,9,  -999.0,-999.000,9,-999.000,   0.003,2,  -9.0000,-999.0000,   1.4203,   -9.00
  316N145_7,       I08N,     349,          1,          9,          9,2,19950325,       1644,   -21.5000,    79.9993,       4540,  3138.8,   1.5266,  34.7284,2,  34.7284,2,    189.6,2,   189.0,2,  114.23,2,   32.35,2,    0.00,2,    2.24,2,-999.000,9,-999.000,9,  -999.0,9,  -999.0,9,  -9.0000,9,-999.0000,9, -999.00,9, -999.00,9,  -999.0,9,  -999.0,-999.000,9,-999.000,-999.000,9,  -9.0000,-999.0000,   1.2956,   -9.00
  316N145_7,       I08N,     349,          1,          8,          8,2,19950325,       1644,   -21.5000,    79.9993,       4540,  3342.4,   1.4458,  34.7260,2,  34.7257,2,    190.1,2,   189.2,2,  117.94,2,   32.49,2,    0.00,2,    2.26,2,-999.000,9,-999.000,9,  -999.0,9,  -999.0,9,  -9.0000,9,-999.0000,9, -999.00,9, -999.00,9,  -999.0,9,  -999.0,-999.000,9,-999.000,-999.000,9,  -9.0000,-999.0000,   1.1967,   -9.00
  316N145_7,       I08N,     349,          1,          7,          7,2,19950325,       1644,   -21.5000,    79.9993,       4540,  3546.0,   1.3998,  34.7242,2,  34.7239,2,    190.4,2,   189.5,2,  119.58,2,   32.64,2,    0.00,2,    2.27,2,  -0.032,3,   0.003,2,  -999.0,9,  -999.0,9,  -9.0000,9,-999.0000,9, -999.00,9, -999.00,9,  -999.0,9,  -999.0,-999.000,9,-999.000,  -0.010,2,  -9.0000,-999.0000,   1.1313,   -9.00
  316N145_7,       I08N,     349,          1,          6,          6,2,19950325,       1644,   -21.5000,    79.9993,       4540,  3750.1,   1.3858,  34.7222,2,  34.7220,2,    188.6,7,   188.9,2,  123.10,2,   32.92,2,    0.00,2,    2.28,2,-999.000,9,-999.000,9,  -999.0,9,  -999.0,9,  -9.0000,9,-999.0000,9, -999.00,9, -999.00,9,  -999.0,9,  -999.0,-999.000,9,-999.000,-999.000,9,  -9.0000,-999.0000,   1.0965,   -9.00
  316N145_7,       I08N,     349,          1,          5,          5,2,19950325,       1644,   -21.5000,    79.9993,       4540,  3953.8,   1.3868,  34.7212,2,  34.7208,2,    188.2,7,   186.6,2,  125.17,2,   33.06,2,    0.00,2,    2.30,2,-999.000,9,-999.000,9,  -999.0,9,  -999.0,9,  -9.0000,9,-999.0000,9, -999.00,9, -999.00,9,  -999.0,9,  -999.0,-999.000,9,-999.000,-999.000,9,  -9.0000,-999.0000,   1.0758,   -9.00
  316N145_7,       I08N,     349,          1,          4,          4,2,19950325,       1644,   -21.5000,    79.9993,       4540,  4107.9,   1.3835,  34.7193,2,  34.7197,2,    186.7,2,   185.9,2,  127.03,2,   33.21,2,    0.00,2,    2.31,2,  -0.043,3,  -0.001,2,  -999.0,9,  -999.0,9,  -9.0000,9,-999.0000,9, -999.00,9, -999.00,9,  -999.0,9,  -999.0,-999.000,9,-999.000,   0.001,2,  -9.0000,-999.0000,   1.0559,   -9.00
  316N145_7,       I08N,     349,          1,          3,          3,2,19950325,       1644,   -21.5000,    79.9993,       4540,  4260.9,   1.3878,  34.7191,2,  34.7181,2,    185.1,2,   185.1,2,  128.68,2,   33.40,2,    0.00,2,    2.31,2,  -0.028,3,  -0.003,2,  -999.0,9,  -999.0,9,  -9.0000,9,-999.0000,9, -999.00,9, -999.00,9,  -999.0,9,  -999.0,-999.000,9,-999.000,  -0.002,2,  -9.0000,-999.0000,   1.0431,   -9.00
  316N145_7,       I08N,     349,          1,          2,          2,2,19950325,       1644,   -21.5000,    79.9993,       4540,  4465.7,   1.4013,  34.7186,2,  34.7181,2,    183.9,2,   184.6,2,  129.71,2,   33.44,2,    0.00,2,    2.32,2,  -0.037,3,  -0.003,2,  -999.0,9,  -999.0,9,  -9.0000,9,-999.0000,9, -999.00,9, -999.00,9,  -999.0,9,  -999.0,-999.000,9,-999.000,  -0.012,2,  -9.0000,-999.0000,   1.0331,   -9.00
  316N145_7,       I08N,     349,          1,          1,          1,2,19950325,       1644,   -21.5000,    79.9993,       4540,  4630.1,   1.4167,  34.7179,2,  34.7177,2,    183.8,2,   184.4,2,  129.89,2,   33.44,2,    0.00,2,    2.32,2,  -0.008,3,   0.000,2,  -999.0,9,  -999.0,9,  -9.0000,9,-999.0000,9, -999.00,9, -999.00,9,  -999.0,9,  -999.0,-999.000,9,-999.000,  -0.006,2,  -9.0000,-999.0000,   1.0291,   -9.00