BOTTLE,20211124CCHSIORKP
EXPOCODE,SECT_ID,STNNBR,CASTNO,SAMPNO,BTLNBR,BTLNBR_FLAG_W,DATE,TIME,LATITUDE,LONGITUDE,DEPTH,CTDPRS,CTDTMP,CTDSAL,CTDSAL_FLAG_W,SALNTY,SALNTY_FLAG_W,CTDOXY,CTDOXY_FLAG_W,OXYGEN,OXYGEN_FLAG_W,SILCAT,SILCAT_FLAG_W,NITRAT,NITRAT_FLAG_W,NITRIT,NITRIT_FLAG_W,PHSPHT,PHSPHT_FLAG_W,CFC-11,CFC-11_FLAG_W,CFC-12,CFC-12_FLAG_W,TCARBN,TCARBN_FLAG_W,ALKALI,ALKALI_FLAG_W,TRITUM,TRITUM_FLAG_W,HELIUM,HELIUM_FLAG_W,DELHE3,DELHE3_FLAG_W,DELC13,DELC13_FLAG_W,DELC14,DELC14_FLAG_W,C14ERR,NEON,NEON_FLAG_W,NEONER,CCL4,CCL4_FLAG_W,TRITER,HELIER,THETA,DELHER
,,,,,,,,,,,METERS,DBAR,ITS-90,PSS-78,,PSS-78,,UMOL/KG,,UMOL/KG,,UMOL/KG,,UMOL/KG,,UMOL/KG,,UMOL/KG,,PMOL/KG,,PMOL/KG,,UMOL/KG,,UMOL/KG,,TU,,NMOL/KG,,PERCNT,,/MILLE,,/MILLE,,/MILLE,NMOL/KG,,NMOL/KG,PMOL/KG,,TU,NMOL/KG,DEG C,PERCNT
  316N145_7,       I08N,     337,          1,         36,         36,2,19950322,       1951,   -15.5007,    80.0002,       4890,     3.9,  28.1894,  34.7526,2,  34.7517,2,    198.7,2,   198.9,2,    2.56,2,    0.20,2,    0.00,2,    0.10,2,-999.000,9,-999.000,9,  1941.4,2,  2284.0,2,  -9.0000,9,-999.0000,9, -999.00,9, -999.00,9,  -999.0,9,  -999.0,-999.000,9,-999.000,-999.000,9,  -9.0000,-999.0000,  28.1885,   -9.00
  316N145_7,       I08N,     337,          1,         35,         35,2,19950322,       1951,   -15.5007,    80.0002,       4890,    25.1,  28.1916,  34.7533,2,  34.7540,2,    187.7,2,   199.0,2,    2.54,2,    0.20,2,    0.00,2,    0.10,2,-999.000,9,-999.000,9,  -999.0,9,  -999.0,9,  -9.0000,9,-999.0000,9, -999.00,9, -999.00,9,  -999.0,9,  -999.0,-999.000,9,-999.000,-999.000,9,  -9.0000,-999.0000,  28.1856,   -9.00
  316N145_7,       I08N,     337,          1,         34,         34,2,19950322,       1951,   -15.5007,    80.0002,       4890,    65.8,  27.6123,  34.7588,2,  34.7622,2,    192.3,2,   201.6,2,    2.73,2,    0.20,2,    0.00,2,    0.10,2,-999.000,9,-999.000,9,  -999.0,9,  -999.0,9,  -9.0000,9,-999.0000,9, -999.00,9, -999.00,9,  -999.0,9,  -999.0,-999.000,9,-999.000,-999.000,9,  -9.0000,-999.0000,  27.5969,   -9.00
  316N145_7,       I08N,     337,          1,         33,         33,2,19950322,       1951,   -15.5007,    80.0002,       4890,   114.8,  22.6647,  35.0007,2,  34.9994,2,    165.2,2,   162.2,2,    7.05,2,    4.94,2,    0.60,2,    0.49,2,-999.000,9,-999.000,9,  -999.0,9,  -999.0,9,  -9.0000,9,-999.0000,9, -999.00,9, -999.00,9,  -999.0,9,  -999.0,-999.000,9,-999.000,-999.000,9,  -9.0000,-999.0000,  22.6416,   -9.00
  316N145_7,       I08N,     337,          1,         32,         32,2,19950322,       1951,   -15.5007,    80.0002,       4890,   175.9,  18.7007,  35.0200,2,  35.0068,2,    119.7,2,   113.0,2,   16.95,2,   15.06,2,    0.01,2,    1.05,2,-999.000,9,-999.000,9,  -999.0,9,  -999.0,9,  -9.0000,9,-999.0000,9, -999.00,9, -999.00,9,  -999.0,9,  -999.0,-999.000,9,-999.000,-999.000,9,  -9.0000,-999.0000,  18.6697,   -9.00
  316N145_7,       I08N,     337,          1,         31,         31,2,19950322,       1951,   -15.5007,    80.0002,       4890,   230.0,  15.9227,  35.0335,2,  35.0034,2,    117.6,2,   116.1,2,   22.92,2,   17.65,2,    0.01,2,    1.25,2,-999.000,9,-999.000,9,  -999.0,9,  -999.0,9,  -9.0000,9,-999.0000,9, -999.00,9, -999.00,9,  -999.0,9,  -999.0,-999.000,9,-999.000,-999.000,9,  -9.0000,-999.0000,  15.8864,   -9.00
  316N145_7,       I08N,     337,          1,         30,         30,2,19950322,       1951,   -15.5007,    80.0002,       4890,   286.7,  14.8570,  35.2684,2,  35.2757,2,    158.2,2,   157.5,2,   16.08,2,   12.87,2,    0.00,2,    0.96,2,-999.000,9,-999.000,9,  -999.0,9,  -999.0,9,  -9.0000,9,-999.0000,9, -999.00,9, -999.00,9,  -999.0,9,  -999.0,-999.000,9,-999.000,-999.000,9,  -9.0000,-999.0000,  14.8137,   -9.00
  316N145_7,       I08N,     337,          1,         29,         29,2,19950322,       1951,   -15.5007,    80.0002,       4890,   354.5,  12.4252,  35.0857,2,  35.0801,2,    167.0,2,   173.2,2,   15.44,2,   14.98,2,    0.00,2,    1.10,2,-999.000,9,-999.000,9,  -999.0,9,  -999.0,9,  -9.0000,9,-999.0000,9, -999.00,9, -999.00,9,  -999.0,9,  -999.0,-999.000,9,-999.000,-999.000,9,  -9.0000,-999.0000,  12.3776,   -9.00
  316N145_7,       I08N,     337,          1,         28,         28,2,19950322,       1951,   -15.5007,    80.0002,       4890,   427.1,  10.4891,  34.8608,2,  34.8756,2,    205.5,2,   207.1,2,   10.06,2,   15.55,2,    0.00,2,    1.12,2,-999.000,9,-999.000,9,  -999.0,9,  -999.0,9,  -9.0000,9,-999.0000,9, -999.00,9, -999.00,9,  -999.0,9,  -999.0,-999.000,9,-999.000,-999.000,9,  -9.0000,-999.0000,  10.4376,   -9.00
  316N145_7,       I08N,     337,          1,         27,         27,2,19950322,       1951,   -15.5007,    80.0002,       4890,   526.5,   9.0664,  34.6992,2,  34.7037,2,    159.0,2,   160.2,2,   23.66,2,   23.83,2,    0.00,2,    1.64,2,-999.000,9,-999.000,9,  -999.0,9,  -999.0,9,  -9.0000,9,-999.0000,9, -999.00,9, -999.00,9,  -999.0,9,  -999.0,-999.000,9,-999.000,-999.000,9,  -9.0000,-999.0000,   9.0081,   -9.00
  316N145_7,       I08N,     337,          1,         26,         26,2,19950322,       1951,   -15.5007,    80.0002,       4890,   618.1,   7.8843,  34.6582,2,  34.6588,2,    138.0,2,   134.3,2,   36.65,2,   29.07,2,    0.00,2,    2.01,2,-999.000,9,-999.000,9,  -999.0,9,  -999.0,9,  -9.0000,9,-999.0000,9, -999.00,9, -999.00,9,  -999.0,9,  -999.0,-999.000,9,-999.000,-999.000,9,  -9.0000,-999.0000,   7.8208,   -9.00
  316N145_7,       I08N,     337,          1,         25,         25,2,19950322,       1951,   -15.5007,    80.0002,       4890,   727.6,   6.9791,  34.6848,2,  34.6849,2,    101.1,2,   100.9,2,   58.51,2,   33.61,2,    0.00,2,    2.38,2,-999.000,9,-999.000,9,  -999.0,9,  -999.0,9,  -9.0000,9,-999.0000,9, -999.00,9, -999.00,9,  -999.0,9,  -999.0,-999.000,9,-999.000,-999.000,9,  -9.0000,-999.0000,   6.9088,   -9.00
  316N145_7,       I08N,     337,          1,         24,         24,2,19950322,       1951,   -15.5007,    80.0002,       4890,   828.1,   6.3707,  34.6955,2,  34.6978,2,     91.9,2,    92.7,2,   70.27,2,   34.97,2,    0.00,2,    2.51,2,-999.000,9,-999.000,9,  -999.0,9,  -999.0,9,  -9.0000,9,-999.0000,9, -999.00,9, -999.00,9,  -999.0,9,  -999.0,-999.000,9,-999.000,-999.000,9,  -9.0000,-999.0000,   6.2939,   -9.00
  316N145_7,       I08N,     337,          1,         23,         23,2,19950322,       1951,   -15.5007,    80.0002,       4890,   930.2,   5.9252,  34.7024,2,  34.7039,2,     90.4,2,    91.0,2,   79.14,2,   35.75,2,    0.00,2,    2.57,2,-999.000,9,-999.000,9,  -999.0,9,  -999.0,9,  -9.0000,9,-999.0000,9, -999.00,9, -999.00,9,  -999.0,9,  -999.0,-999.000,9,-999.000,-999.000,9,  -9.0000,-999.0000,   5.8414,   -9.00
  316N145_7,       I08N,     337,          1,         22,         22,2,19950322,       1951,   -15.5007,    80.0002,       4890,  1040.0,   5.3565,  34.6978,2,  34.7001,2,     90.5,2,    92.0,2,   88.24,2,   36.43,2,    0.00,2,    2.62,2,-999.000,9,-999.000,9,  -999.0,9,  -999.0,9,  -9.0000,9,-999.0000,9, -999.00,9, -999.00,9,  -999.0,9,  -999.0,-999.000,9,-999.000,-999.000,9,  -9.0000,-999.0000,   5.2665,   -9.00
  316N145_7,       I08N,     337,          1,         21,         21,2,19950322,       1951,   -15.5007,    80.0002,       4890,  1179.6,   4.8017,  34.6889,2,  34.6906,2,     94.8,2,    95.7,2,   96.74,2,   36.77,2,    0.00,2,    2.65,2,-999.000,9,-999.000,9,  -999.0,9,  -999.0,9,  -9.0000,9,-999.0000,9, -999.00,9, -999.00,9,  -999.0,9,  -999.0,-999.000,9,-999.000,-999.000,9,  -9.0000,-999.0000,   4.7034,   -9.00
  316N145_7,       I08N,     337,          1,         20,         20,2,19950322,       1951,   -15.5007,    80.0002,       4890,  1323.3,   4.3808,  34.6960,2,  34.6978,2,    102.7,2,   102.2,2,   99.41,2,   36.68,2,    0.00,2,    2.64,2,-999.000,9,-999.000,9,  -999.0,9,  -999.0,9,  -9.0000,9,-999.0000,9, -999.00,9, -999.00,9,  -999.0,9,  -999.0,-999.000,9,-999.000,-999.000,9,  -9.0000,-999.0000,   4.2732,   -9.00
  316N145_7,       I08N,     337,          1,         19,         19,2,19950322,       1951,   -15.5007,    80.0002,       4890,  1464.9,   3.8489,  34.6949,2,  34.6966,2,    112.9,2,   112.2,2,  103.14,2,   36.43,2,    0.00,2,    2.61,2,-999.000,9,-999.000,9,  -999.0,9,  -999.0,9,  -9.0000,9,-999.0000,9, -999.00,9, -999.00,9,  -999.0,9,  -999.0,-999.000,9,-999.000,-999.000,9,  -9.0000,-999.0000,   3.7342,   -9.00
  316N145_7,       I08N,     337,          1,         18,         18,2,19950322,       1951,   -15.5007,    80.0002,       4890,  1615.2,   3.4012,  34.7086,2,  34.7085,2,    122.4,2,   122.0,2,  106.24,2,   36.00,2,    0.00,2,    2.58,2,-999.000,9,-999.000,9,  -999.0,9,  -999.0,9,  -9.0000,9,-999.0000,9, -999.00,9, -999.00,9,  -999.0,9,  -999.0,-999.000,9,-999.000,-999.000,9,  -9.0000,-999.0000,   3.2784,   -9.00
  316N145_7,       I08N,     337,          1,         17,         17,2,19950322,       1951,   -15.5007,    80.0002,       4890,  1792.9,   2.9795,  34.7200,2,  34.7201,2,    132.3,2,   132.9,2,  110.18,2,   35.61,2,    0.00,2,    2.54,2,-999.000,9,-999.000,9,  -999.0,9,  -999.0,9,  -9.0000,9,-999.0000,9, -999.00,9, -999.00,9,  -999.0,9,  -999.0,-999.000,9,-999.000,-999.000,9,  -9.0000,-999.0000,   2.8464,   -9.00
  316N145_7,       I08N,     337,          1,         16,         16,2,19950322,       1951,   -15.5007,    80.0002,       4890,  1970.5,   2.6407,  34.7272,2,  34.7269,2,    142.4,2,   142.7,2,  112.88,2,   35.07,2,    0.00,2,    2.49,2,-999.000,9,-999.000,9,  -999.0,9,  -999.0,9,  -9.0000,9,-999.0000,9, -999.00,9, -999.00,9,  -999.0,9,  -999.0,-999.000,9,-999.000,-999.000,9,  -9.0000,-999.0000,   2.4969,   -9.00
  316N145_7,       I08N,     337,          1,         15,         15,2,19950322,       1951,   -15.5007,    80.0002,       4890,  2173.5,   2.3550,  34.7298,2,  34.7302,2,    152.2,2,   151.7,2, -999.00,5, -999.00,5, -999.00,5, -999.00,5,-999.000,9,-999.000,9,  -999.0,9,  -999.0,9,  -9.0000,9,-999.0000,9, -999.00,9, -999.00,9,  -999.0,9,  -999.0,-999.000,9,-999.000,-999.000,9,  -9.0000,-999.0000,   2.1976,   -9.00
  316N145_7,       I08N,     337,          1,         14,         14,2,19950322,       1951,   -15.5007,    80.0002,       4890,  2375.3,   2.0999,  34.7305,2,  34.7309,2,    160.0,2,   160.5,2,  116.84,2,   34.30,2,    0.00,2,    2.41,2,-999.000,9,-999.000,9,  -999.0,9,  -999.0,9,  -9.0000,9,-999.0000,9, -999.00,9, -999.00,9,  -999.0,9,  -999.0,-999.000,9,-999.000,-999.000,9,  -9.0000,-999.0000,   1.9288,   -9.00
  316N145_7,       I08N,     337,          1,         13,         13,2,19950322,       1951,   -15.5007,    80.0002,       4890,  2578.2,   1.9116,  34.7288,2,  34.7289,2,    165.9,2,   167.7,2,  118.27,2,   33.76,2,    0.00,2,    2.38,2,-999.000,9,-999.000,9,  -999.0,9,  -999.0,9,  -9.0000,9,-999.0000,9, -999.00,9, -999.00,9,  -999.0,9,  -999.0,-999.000,9,-999.000,-999.000,9,  -9.0000,-999.0000,   1.7255,   -9.00
  316N145_7,       I08N,     337,          1,         12,         12,2,19950322,       1951,   -15.5007,    80.0002,       4890,  2781.8,   1.7773,  34.7273,2,  34.7274,2,    171.4,2,   172.2,2,  120.34,2,   33.71,2,    0.00,2,    2.36,2,-999.000,9,-999.000,9,  -999.0,9,  -999.0,9,  -9.0000,9,-999.0000,9, -999.00,9, -999.00,9,  -999.0,9,  -999.0,-999.000,9,-999.000,-999.000,9,  -9.0000,-999.0000,   1.5749,   -9.00
  316N145_7,       I08N,     337,          1,         11,         11,2,19950322,       1951,   -15.5007,    80.0002,       4890,  2985.9,   1.6696,  34.7260,2,  34.7262,2,    176.8,3,   174.6,2,  123.27,2,   33.76,2,    0.00,2,    2.35,2,-999.000,9,-999.000,9,  -999.0,9,  -999.0,9,  -9.0000,9,-999.0000,9, -999.00,9, -999.00,9,  -999.0,9,  -999.0,-999.000,9,-999.000,-999.000,9,  -9.0000,-999.0000,   1.4502,   -9.00
  316N145_7,       I08N,     337,          1,         10,         10,2,19950322,       1951,   -15.5007,    80.0002,       4890,  3189.6,   1.5551,  34.7239,2,  34.7244,2,    179.4,3,   178.5,2,  126.20,2,   33.91,2,    0.00,2,    2.35,2,-999.000,9,-999.000,9,  -999.0,9,  -999.0,9,  -9.0000,9,-999.0000,9, -999.00,9, -999.00,9,  -999.0,9,  -999.0,-999.000,9,-999.000,-999.000,9,  -9.0000,-999.0000,   1.3185,   -9.00
  316N145_7,       I08N,     337,          1,          9,          9,2,19950322,       1951,   -15.5007,    80.0002,       4890,  3393.2,   1.4638,  34.7227,2,  34.7224,2,    182.4,3,   179.9,2,  127.43,2,   33.76,2,    0.00,2,    2.33,2,-999.000,9,-999.000,9,  -999.0,9,  -999.0,9,  -9.0000,9,-999.0000,9, -999.00,9, -999.00,9,  -999.0,9,  -999.0,-999.000,9,-999.000,-999.000,9,  -9.0000,-999.0000,   1.2092,   -9.00
  316N145_7,       I08N,     337,          1,          8,          8,2,19950322,       1951,   -15.5007,    80.0002,       4890,  3598.1,   1.4034,  34.7210,2,  34.7207,2,    183.4,3,   181.7,2,  128.24,2,   33.67,2,    0.00,2,    2.33,2,-999.000,9,-999.000,9,  -999.0,9,  -999.0,9,  -9.0000,9,-999.0000,9, -999.00,9, -999.00,9,  -999.0,9,  -999.0,-999.000,9,-999.000,-999.000,9,  -9.0000,-999.0000,   1.1295,   -9.00
  316N145_7,       I08N,     337,          1,          7,          7,2,19950322,       1951,   -15.5007,    80.0002,       4890,  3800.2,   1.3679,  34.7195,2,  34.7189,2,    180.0,3,   182.6,2,  129.26,2,   33.67,2,    0.00,2,    2.33,2,-999.000,9,-999.000,9,  -999.0,9,  -999.0,9,  -9.0000,9,-999.0000,9, -999.00,9, -999.00,9,  -999.0,9,  -999.0,-999.000,9,-999.000,-999.000,9,  -9.0000,-999.0000,   1.0738,   -9.00
  316N145_7,       I08N,     337,          1,          6,          6,2,19950322,       1951,   -15.5007,    80.0002,       4890,  4005.9,   1.3614,  34.7185,2,  34.7181,2,    180.7,3,   183.1,2,  130.92,2,   33.67,2,    0.00,2,    2.34,2,-999.000,9,-999.000,9,  -999.0,9,  -999.0,9,  -9.0000,9,-999.0000,9, -999.00,9, -999.00,9,  -999.0,9,  -999.0,-999.000,9,-999.000,-999.000,9,  -9.0000,-999.0000,   1.0455,   -9.00
  316N145_7,       I08N,     337,          1,          5,          5,2,19950322,       1951,   -15.5007,    80.0002,       4890,  4210.8,   1.3668,  34.7178,2,  34.7173,2,    182.9,3,   183.0,2,  131.30,2,   33.72,2,    0.00,2,    2.34,2,-999.000,9,-999.000,9,  -999.0,9,  -999.0,9,  -9.0000,9,-999.0000,9, -999.00,9, -999.00,9,  -999.0,9,  -999.0,-999.000,9,-999.000,-999.000,9,  -9.0000,-999.0000,   1.0283,   -9.00
  316N145_7,       I08N,     337,          1,          4,          4,2,19950322,       1951,   -15.5007,    80.0002,       4890,  4414.9,   1.3768,  34.7173,2,  34.7166,2,    182.8,3,   182.6,2,  132.54,2,   33.72,2,    0.00,2,    2.35,2,-999.000,9,-999.000,9,  -999.0,9,  -999.0,9,  -9.0000,9,-999.0000,9, -999.00,9, -999.00,9,  -999.0,9,  -999.0,-999.000,9,-999.000,-999.000,9,  -9.0000,-999.0000,   1.0151,   -9.00
  316N145_7,       I08N,     337,          1,          3,          3,2,19950322,       1951,   -15.5007,    80.0002,       4890,  4618.8,   1.3957,  34.7172,2,  34.7164,2,    180.8,3,   182.8,2,  132.71,2,   33.72,2,    0.00,2,    2.34,2,-999.000,9,-999.000,9,  -999.0,9,  -999.0,9,  -9.0000,9,-999.0000,9, -999.00,9, -999.00,9,  -999.0,9,  -999.0,-999.000,9,-999.000,-999.000,9,  -9.0000,-999.0000,   1.0101,   -9.00
  316N145_7,       I08N,     337,          1,          2,          2,2,19950322,       1951,   -15.5007,    80.0002,       4890,  4822.7,   1.4157,  34.7167,2,  34.7167,2,    181.8,3,   182.3,2,  132.88,2,   33.77,2,    0.00,2,    2.34,2,-999.000,9,-999.000,9,  -999.0,9,  -999.0,9,  -9.0000,9,-999.0000,9, -999.00,9, -999.00,9,  -999.0,9,  -999.0,-999.000,9,-999.000,-999.000,9,  -9.0000,-999.0000,   1.0054,   -9.00
  316N145_7,       I08N,     337,          1,          1,          1,2,19950322,       1951,   -15.5007,    80.0002,       4890,  4990.6,   1.4352,  34.7173,2,  34.7162,2,    183.2,3,   182.5,2,  133.26,2,   33.82,2,    0.00,2,    2.34,2,-999.000,9,-999.000,9,  -999.0,9,  -999.0,9,  -9.0000,9,-999.0000,9, -999.00,9, -999.00,9,  -999.0,9,  -999.0,-999.000,9,-999.000,-999.000,9,  -9.0000,-999.0000,   1.0041,   -9.00