BOTTLE,20211124CCHSIORKP
EXPOCODE,SECT_ID,STNNBR,CASTNO,SAMPNO,BTLNBR,BTLNBR_FLAG_W,DATE,TIME,LATITUDE,LONGITUDE,DEPTH,CTDPRS,CTDTMP,CTDSAL,CTDSAL_FLAG_W,SALNTY,SALNTY_FLAG_W,CTDOXY,CTDOXY_FLAG_W,OXYGEN,OXYGEN_FLAG_W,SILCAT,SILCAT_FLAG_W,NITRAT,NITRAT_FLAG_W,NITRIT,NITRIT_FLAG_W,PHSPHT,PHSPHT_FLAG_W,CFC-11,CFC-11_FLAG_W,CFC-12,CFC-12_FLAG_W,TCARBN,TCARBN_FLAG_W,ALKALI,ALKALI_FLAG_W,TRITUM,TRITUM_FLAG_W,HELIUM,HELIUM_FLAG_W,DELHE3,DELHE3_FLAG_W,DELC13,DELC13_FLAG_W,DELC14,DELC14_FLAG_W,C14ERR,NEON,NEON_FLAG_W,NEONER,CCL4,CCL4_FLAG_W,TRITER,HELIER,THETA,DELHER
,,,,,,,,,,,METERS,DBAR,ITS-90,PSS-78,,PSS-78,,UMOL/KG,,UMOL/KG,,UMOL/KG,,UMOL/KG,,UMOL/KG,,UMOL/KG,,PMOL/KG,,PMOL/KG,,UMOL/KG,,UMOL/KG,,TU,,NMOL/KG,,PERCNT,,/MILLE,,/MILLE,,/MILLE,NMOL/KG,,NMOL/KG,PMOL/KG,,TU,NMOL/KG,DEG C,PERCNT
  316N145_7,      TRANS,     355,          1,         36,         36,2,19950327,       0139,   -24.2997,    80.6508,       4390,     2.9,  26.1588,  35.4509,2,  35.4509,2,    204.0,2,   204.6,2,    2.96,2,    0.19,2,    0.00,2,    0.11,2,   1.648,3,   1.046,3,  1980.2,2,  2317.6,2,  -9.0000,9,-999.0000,9, -999.00,9, -999.00,9,  -999.0,9,  -999.0,-999.000,9,-999.000,   2.147,2,  -9.0000,-999.0000,  26.1582,   -9.00
  316N145_7,      TRANS,     355,          1,         35,         35,2,19950327,       0139,   -24.2997,    80.6508,       4390,    36.3,  26.1498,  35.4514,2,  35.4507,2,    205.6,2,   204.8,2,    2.94,2,    0.19,2,    0.00,2,    0.11,2,   1.754,2,   1.020,2,  -999.0,9,  -999.0,9,  -9.0000,9,-999.0000,9, -999.00,9, -999.00,9,  -999.0,9,  -999.0,-999.000,9,-999.000,   2.424,2,  -9.0000,-999.0000,  26.1417,   -9.00
  316N145_7,      TRANS,     355,          1,         34,         34,2,19950327,       0139,   -24.2997,    80.6508,       4390,    66.4,  22.0234,  35.6430,2,  35.6279,2,    226.7,2,   231.2,2,    2.93,2,    0.20,2,    0.00,2,    0.11,2,   2.195,2,   1.234,2,  -999.0,9,  -999.0,9,  -9.0000,9,-999.0000,9, -999.00,9, -999.00,9,  -999.0,9,  -999.0,-999.000,9,-999.000,   1.912,2,  -9.0000,-999.0000,  22.0103,   -9.00
  316N145_7,      TRANS,     355,          1,         33,         33,2,19950327,       0139,   -24.2997,    80.6508,       4390,    96.9,  20.5166,  35.6974,2,  35.7296,2,    229.5,2,   228.1,2,    2.92,2,    0.20,2,    0.00,2,    0.12,2,-999.000,9,-999.000,9,  -999.0,9,  -999.0,9,  -9.0000,9,-999.0000,9, -999.00,9, -999.00,9,  -999.0,9,  -999.0,-999.000,9,-999.000,-999.000,9,  -9.0000,-999.0000,  20.4983,   -9.00
  316N145_7,      TRANS,     355,          1,         32,         32,2,19950327,       0139,   -24.2997,    80.6508,       4390,   135.7,  19.1713,  35.7782,2,  35.7880,2,    216.3,2,   217.5,2,    2.90,2,    0.40,2,    0.07,2,    0.18,2,   2.353,2,   1.273,2,  -999.0,9,  -999.0,9,  -9.0000,9,-999.0000,9, -999.00,9, -999.00,9,  -999.0,9,  -999.0,-999.000,9,-999.000,   1.608,2,  -9.0000,-999.0000,  19.1469,   -9.00
  316N145_7,      TRANS,     355,          1,         31,         31,2,19950327,       0139,   -24.2997,    80.6508,       4390,   186.3,  17.5062,  35.7599,2,  35.7655,2,    213.0,2,   216.8,2,    2.69,2,    1.53,2,    0.02,2,    0.28,2,-999.000,9,-999.000,9,  -999.0,9,  -999.0,9,  -9.0000,9,-999.0000,9, -999.00,9, -999.00,9,  -999.0,9,  -999.0,-999.000,9,-999.000,-999.000,9,  -9.0000,-999.0000,  17.4747,   -9.00
  316N145_7,      TRANS,     355,          1,         30,         30,2,19950327,       0139,   -24.2997,    80.6508,       4390,   226.9,  16.2029,  35.6836,2,  35.6747,2,    220.4,2,   221.9,2,    2.47,2,    2.10,2,    0.01,2,    0.33,2,   2.352,2,   1.271,2,  -999.0,9,  -999.0,9,  -9.0000,9,-999.0000,9, -999.00,9, -999.00,9,  -999.0,9,  -999.0,-999.000,9,-999.000,   1.624,2,  -9.0000,-999.0000,  16.1665,   -9.00
  316N145_7,      TRANS,     355,          1,         29,         29,2,19950327,       0139,   -24.2997,    80.6508,       4390,   307.9,  13.8134,  35.3662,2,  35.3439,2,    216.9,2,   222.9,2,    3.48,2,    6.77,2,    0.00,2,    0.60,2,-999.000,9,-999.000,9,  -999.0,9,  -999.0,9,  -9.0000,9,-999.0000,9, -999.00,9, -999.00,9,  -999.0,9,  -999.0,-999.000,9,-999.000,-999.000,9,  -9.0000,-999.0000,  13.7690,   -9.00
  316N145_7,      TRANS,     355,          1,         28,         28,2,19950327,       0139,   -24.2997,    80.6508,       4390,   388.7,  12.4345,  35.1667,2,  35.1640,2,    227.4,2,   228.9,2,    3.87,2,    9.10,2,    0.00,2,    0.73,2,   2.826,2,   1.444,2,  -999.0,9,  -999.0,9,  -9.0000,9,-999.0000,9, -999.00,9, -999.00,9,  -999.0,9,  -999.0,-999.000,9,-999.000,   1.191,2,  -9.0000,-999.0000,  12.3821,   -9.00
  316N145_7,      TRANS,     355,          1,         27,         27,2,19950327,       0139,   -24.2997,    80.6508,       4390,   468.3,  11.3994,  35.0039,2,  35.0053,2,    230.3,2,   230.6,2,    4.47,2,   11.34,2,    0.00,2,    0.86,2,   2.750,2,   1.393,2,  -999.0,9,  -999.0,9,  -9.0000,9,-999.0000,9, -999.00,9, -999.00,9,  -999.0,9,  -999.0,-999.000,9,-999.000,   1.411,2,  -9.0000,-999.0000,  11.3396,   -9.00
  316N145_7,      TRANS,     355,          1,         26,         26,2,19950327,       0139,   -24.2997,    80.6508,       4390,   568.6,  10.2906,  34.8324,2,  34.8344,2,    234.2,2,   234.6,2,    4.86,2,   13.86,2,    0.00,2,    1.01,2,   2.687,2,   1.347,2,  -999.0,9,  -999.0,9,  -9.0000,9,-999.0000,9, -999.00,9, -999.00,9,  -999.0,9,  -999.0,-999.000,9,-999.000,   1.694,2,  -9.0000,-999.0000,  10.2223,   -9.00
  316N145_7,      TRANS,     355,          1,         25,         25,2,19950327,       0139,   -24.2997,    80.6508,       4390,   668.3,   9.2454,  34.6850,2,  34.6855,2,    229.5,2,   227.2,2,    6.68,2,   17.51,2,    0.00,2,    1.23,2,-999.000,9,-999.000,9,  -999.0,9,  -999.0,9,  -9.0000,9,-999.0000,9, -999.00,9, -999.00,9,  -999.0,9,  -999.0,-999.000,9,-999.000,-999.000,9,  -9.0000,-999.0000,   9.1700,   -9.00
  316N145_7,      TRANS,     355,          1,         24,         24,2,19950327,       0139,   -24.2997,    80.6508,       4390,   768.6,   7.8776,  34.5564,2,  34.5608,2,    213.9,2,   207.6,2,   13.37,2,   22.62,2,    0.00,2,    1.56,2,   1.227,6,   0.614,6,  -999.0,9,  -999.0,9,  -9.0000,9,-999.0000,9, -999.00,9, -999.00,9,  -999.0,9,  -999.0,-999.000,9,-999.000,   1.410,6,  -9.0000,-999.0000,   7.7981,   -9.00
  316N145_7,      TRANS,     355,          1,         23,         23,2,19950327,       0139,   -24.2997,    80.6508,       4390,   869.0,   6.2060,  34.4544,2,  34.4522,2,    196.4,2,   192.9,2,   25.35,2,   27.84,2,    0.00,2,    1.91,2,-999.000,9,-999.000,9,  -999.0,9,  -999.0,9,  -9.0000,9,-999.0000,9, -999.00,9, -999.00,9,  -999.0,9,  -999.0,-999.000,9,-999.000,-999.000,9,  -9.0000,-999.0000,   6.1266,   -9.00
  316N145_7,      TRANS,     355,          1,         22,         22,2,19950327,       0139,   -24.2997,    80.6508,       4390,   969.6,   5.0360,  34.4332,2,  34.4349,2,    181.6,2,   177.0,2,   41.80,2,   31.43,2,    0.00,2,    2.18,2,   0.291,3,   0.164,2,  -999.0,9,  -999.0,9,  -9.0000,9,-999.0000,9, -999.00,9, -999.00,9,  -999.0,9,  -999.0,-999.000,9,-999.000,   0.936,2,  -9.0000,-999.0000,   4.9553,   -9.00
  316N145_7,      TRANS,     355,          1,         21,         21,2,19950327,       0139,   -24.2997,    80.6508,       4390,  1090.0,   4.1615,  34.4738,2,  34.4744,2,    159.9,2,   158.9,2,   60.29,2,   33.99,2,    0.00,2,    2.40,2,   0.093,3,   0.046,2,  -999.0,9,  -999.0,9,  -9.0000,9,-999.0000,9, -999.00,9, -999.00,9,  -999.0,9,  -999.0,-999.000,9,-999.000,   0.434,2,  -9.0000,-999.0000,   4.0770,   -9.00
  316N145_7,      TRANS,     355,          1,         20,         20,2,19950327,       0139,   -24.2997,    80.6508,       4390,  1209.2,   3.7287,  34.5429,2,  34.5435,2,    147.2,2,   145.6,2,   75.34,2,   35.13,2,    0.01,2,    2.49,2,   0.058,3,   0.014,2,  -999.0,9,  -999.0,9,  -9.0000,9,-999.0000,9, -999.00,9, -999.00,9,  -999.0,9,  -999.0,-999.000,9,-999.000,   0.161,2,  -9.0000,-999.0000,   3.6377,   -9.00
  316N145_7,      TRANS,     355,          1,         19,         19,2,19950327,       0139,   -24.2997,    80.6508,       4390,  1311.3,   3.4743,  34.5840,2,  34.5834,2,    142.5,2,   142.6,2,   82.26,2,   35.32,2,    0.01,2,    2.51,2,-999.000,9,-999.000,9,  -999.0,9,  -999.0,9,  -9.0000,9,-999.0000,9, -999.00,9, -999.00,9,  -999.0,9,  -999.0,-999.000,9,-999.000,-999.000,9,  -9.0000,-999.0000,   3.3771,   -9.00
  316N145_7,      TRANS,     355,          1,         18,         18,2,19950327,       0139,   -24.2997,    80.6508,       4390,  1412.9,   3.2930,  34.6126,2,  34.6128,2,    142.5,2,   144.0,2,   86.52,2,   35.18,2,    0.01,2,    2.51,2,   0.006,3,   0.005,2,  -999.0,9,  -999.0,9,  -9.0000,9,-999.0000,9, -999.00,9, -999.00,9,  -999.0,9,  -999.0,-999.000,9,-999.000,   0.027,2,  -9.0000,-999.0000,   3.1892,   -9.00
  316N145_7,      TRANS,     355,          1,         17,         17,2,19950327,       0139,   -24.2997,    80.6508,       4390,  1514.9,   3.1015,  34.6513,2,  34.6510,2,    145.1,2,   144.1,2,   92.44,2,   34.99,2,    0.01,2,    2.50,2,-999.000,9,-999.000,9,  -999.0,9,  -999.0,9,  -9.0000,9,-999.0000,9, -999.00,9, -999.00,9,  -999.0,9,  -999.0,-999.000,9,-999.000,-999.000,9,  -9.0000,-999.0000,   2.9911,   -9.00
  316N145_7,      TRANS,     355,          1,         16,         16,2,19950327,       0139,   -24.2997,    80.6508,       4390,  1616.7,   2.9293,  34.6794,2,  34.6792,2,    147.0,2,   146.3,2,   96.92,2,   34.75,2,    0.01,2,    2.48,2,  -0.010,3,   0.002,2,  -999.0,9,  -999.0,9,  -9.0000,9,-999.0000,9, -999.00,9, -999.00,9,  -999.0,9,  -999.0,-999.000,9,-999.000,   0.007,2,  -9.0000,-999.0000,   2.8122,   -9.00
  316N145_7,      TRANS,     355,          1,         15,         15,2,19950327,       0139,   -24.2997,    80.6508,       4390,  1718.2,   2.7824,  34.6918,2,  34.6926,2,    149.3,2,   149.4,2,   99.57,2,   34.51,2,    0.01,2,    2.46,2,-999.000,9,-999.000,9,  -999.0,9,  -999.0,9,  -9.0000,9,-999.0000,9, -999.00,9, -999.00,9,  -999.0,9,  -999.0,-999.000,9,-999.000,-999.000,9,  -9.0000,-999.0000,   2.6585,   -9.00
  316N145_7,      TRANS,     355,          1,         14,         14,2,19950327,       0139,   -24.2997,    80.6508,       4390,  1920.2,   2.4716,  34.7113,2,  34.7127,2,    157.4,2,   157.9,2,  104.69,2,   34.04,2,    0.01,2,    2.42,2,  -0.035,3,   0.002,2,  -999.0,9,  -999.0,9,  -9.0000,9,-999.0000,9, -999.00,9, -999.00,9,  -999.0,9,  -999.0,-999.000,9,-999.000,   0.001,2,  -9.0000,-999.0000,   2.3347,   -9.00
  316N145_7,      TRANS,     355,          1,         13,         13,2,19950327,       0139,   -24.2997,    80.6508,       4390,  2122.2,   2.2274,  34.7198,2,  34.7197,2,    164.0,2,   166.5,2,  106.93,2,   33.56,2,    0.01,2,    2.37,2,-999.000,9,-999.000,9,  -999.0,9,  -999.0,9,  -9.0000,9,-999.0000,9, -999.00,9, -999.00,9,  -999.0,9,  -999.0,-999.000,9,-999.000,-999.000,9,  -9.0000,-999.0000,   2.0767,   -9.00
  316N145_7,      TRANS,     355,          1,         12,         12,2,19950327,       0139,   -24.2997,    80.6508,       4390,  2323.6,   2.0166,  34.7229,2,  34.7237,2,    171.3,2,   172.5,2,  109.18,2,   33.23,2,    0.01,2,    2.34,2,  -0.008,3,   0.002,2,  -999.0,9,  -999.0,9,  -9.0000,9,-999.0000,9, -999.00,9, -999.00,9,  -999.0,9,  -999.0,-999.000,9,-999.000,   0.005,2,  -9.0000,-999.0000,   1.8517,   -9.00
  316N145_7,      TRANS,     355,          1,         11,         11,2,19950327,       0139,   -24.2997,    80.6508,       4390,  2527.3,   1.8738,  34.7256,2,  34.7262,2,    178.3,2,   179.7,2,  108.32,2,   32.71,2,    0.01,2,    2.29,2,-999.000,9,-999.000,9,  -999.0,9,  -999.0,9,  -9.0000,9,-999.0000,9, -999.00,9, -999.00,9,  -999.0,9,  -999.0,-999.000,9,-999.000,-999.000,9,  -9.0000,-999.0000,   1.6931,   -9.00
  316N145_7,      TRANS,     355,          1,         10,         10,2,19950327,       0139,   -24.2997,    80.6508,       4390,  2732.2,   1.7277,  34.7300,2,  34.7300,2,    186.6,2,   187.6,2,  107.25,2,   32.19,2,    0.01,2,    2.25,2,-999.000,9,-999.000,9,  -999.0,9,  -999.0,9,  -9.0000,9,-999.0000,9, -999.00,9, -999.00,9,  -999.0,9,  -999.0,-999.000,9,-999.000,-999.000,9,  -9.0000,-999.0000,   1.5310,   -9.00
  316N145_7,      TRANS,     355,          1,          9,          9,2,19950327,       0139,   -24.2997,    80.6508,       4390,  2934.5,   1.6025,  34.7314,2,  34.7319,2,    193.1,2,   193.3,2,  108.25,2,   31.86,2,    0.00,2,    2.23,2,-999.000,9,-999.000,9,  -999.0,9,  -999.0,9,  -9.0000,9,-999.0000,9, -999.00,9, -999.00,9,  -999.0,9,  -999.0,-999.000,9,-999.000,-999.000,9,  -9.0000,-999.0000,   1.3895,   -9.00
  316N145_7,      TRANS,     355,          1,          8,          8,2,19950327,       0139,   -24.2997,    80.6508,       4390,  3137.9,   1.4988,  34.7293,2,  34.7305,2,    195.3,2,   194.8,2,  110.50,2,   31.96,2,    0.00,2,    2.23,2,   0.043,3,   0.001,2,  -999.0,9,  -999.0,9,  -9.0000,9,-999.0000,9, -999.00,9, -999.00,9,  -999.0,9,  -999.0,-999.000,9,-999.000,   0.009,2,  -9.0000,-999.0000,   1.2685,   -9.00
  316N145_7,      TRANS,     355,          1,          7,          7,2,19950327,       0139,   -24.2997,    80.6508,       4390,  3340.8,   1.4196,  34.7263,2,  34.7274,2,    193.6,2,   193.1,2,  115.65,2,   32.34,2,    0.00,2,    2.25,2,-999.000,9,-999.000,9,  -999.0,9,  -999.0,9,  -9.0000,9,-999.0000,9, -999.00,9, -999.00,9,  -999.0,9,  -999.0,-999.000,9,-999.000,-999.000,9,  -9.0000,-999.0000,   1.1713,   -9.00
  316N145_7,      TRANS,     355,          1,          6,          6,2,19950327,       0139,   -24.2997,    80.6508,       4390,  3544.6,   1.3909,  34.7241,2,  34.7239,2,    192.1,2,   192.2,2,  118.33,2,   32.63,2,    0.00,2,    2.27,2,  -0.020,3,  -0.002,2,  -999.0,9,  -999.0,9,  -9.0000,9,-999.0000,9, -999.00,9, -999.00,9,  -999.0,9,  -999.0,-999.000,9,-999.000,   0.002,2,  -9.0000,-999.0000,   1.1228,   -9.00
  316N145_7,      TRANS,     355,          1,          5,          5,2,19950327,       0139,   -24.2997,    80.6508,       4390,  3747.8,   1.3832,  34.7224,2,  34.7227,2,    191.5,2,   190.5,2,  121.01,2,   32.82,2,    0.00,2,    2.28,2,-999.000,9,-999.000,9,  -999.0,9,  -999.0,9,  -9.0000,9,-999.0000,9, -999.00,9, -999.00,9,  -999.0,9,  -999.0,-999.000,9,-999.000,-999.000,9,  -9.0000,-999.0000,   1.0942,   -9.00
  316N145_7,      TRANS,     355,          1,          4,          4,2,19950327,       0139,   -24.2997,    80.6508,       4390,  3953.9,   1.3938,  34.7217,2,  34.7227,2,    189.5,2,   195.4,4,  122.23,2,   32.91,2,    0.00,2,    2.29,2,-999.000,9,-999.000,9,  -999.0,9,  -999.0,9,  -9.0000,9,-999.0000,9, -999.00,9, -999.00,9,  -999.0,9,  -999.0,-999.000,9,-999.000,-999.000,9,  -9.0000,-999.0000,   1.0827,   -9.00
  316N145_7,      TRANS,     355,          1,          3,          3,2,19950327,       0139,   -24.2997,    80.6508,       4390,  4158.3,   1.4036,  34.7206,2,  34.7199,2,    188.9,2,   189.2,2,  124.71,2,   33.11,2,    0.00,2,    2.30,2,-999.000,9,-999.000,9,  -999.0,9,  -999.0,9,  -9.0000,9,-999.0000,9, -999.00,9, -999.00,9,  -999.0,9,  -999.0,-999.000,9,-999.000,-999.000,9,  -9.0000,-999.0000,   1.0699,   -9.00
  316N145_7,      TRANS,     355,          1,          2,          2,2,19950327,       0139,   -24.2997,    80.6508,       4390,  4363.6,   1.4112,  34.7196,2,  34.7190,2,    187.2,2,   187.1,2,  126.35,2,   33.25,2,    0.00,2,    2.31,2,  -0.013,3,  -0.001,2,  -999.0,9,  -999.0,9,  -9.0000,9,-999.0000,9, -999.00,9, -999.00,9,  -999.0,9,  -999.0,-999.000,9,-999.000,   0.000,2,  -9.0000,-999.0000,   1.0543,   -9.00
  316N145_7,      TRANS,     355,          1,          1,          1,2,19950327,       0139,   -24.2997,    80.6508,       4390,  4498.4,   1.4247,  34.7190,2,  34.7191,2,    186.9,2,   187.3,2,  126.74,2,   33.30,2,    0.00,2,    2.32,2,   0.036,3,   0.003,2,  -999.0,9,  -999.0,9,  -9.0000,9,-999.0000,9, -999.00,9, -999.00,9,  -999.0,9,  -999.0,-999.000,9,-999.000,  -0.001,2,  -9.0000,-999.0000,   1.0521,   -9.00