BOTTLE,20211124CCHSIORKP
EXPOCODE,SECT_ID,STNNBR,CASTNO,SAMPNO,BTLNBR,BTLNBR_FLAG_W,DATE,TIME,LATITUDE,LONGITUDE,DEPTH,CTDPRS,CTDTMP,CTDSAL,CTDSAL_FLAG_W,SALNTY,SALNTY_FLAG_W,CTDOXY,CTDOXY_FLAG_W,OXYGEN,OXYGEN_FLAG_W,SILCAT,SILCAT_FLAG_W,NITRAT,NITRAT_FLAG_W,NITRIT,NITRIT_FLAG_W,PHSPHT,PHSPHT_FLAG_W,CFC-11,CFC-11_FLAG_W,CFC-12,CFC-12_FLAG_W,TCARBN,TCARBN_FLAG_W,ALKALI,ALKALI_FLAG_W,TRITUM,TRITUM_FLAG_W,HELIUM,HELIUM_FLAG_W,DELHE3,DELHE3_FLAG_W,DELC13,DELC13_FLAG_W,DELC14,DELC14_FLAG_W,C14ERR,NEON,NEON_FLAG_W,NEONER,CCL4,CCL4_FLAG_W,TRITER,HELIER,THETA,DELHER
,,,,,,,,,,,METERS,DBAR,ITS-90,PSS-78,,PSS-78,,UMOL/KG,,UMOL/KG,,UMOL/KG,,UMOL/KG,,UMOL/KG,,UMOL/KG,,PMOL/KG,,PMOL/KG,,UMOL/KG,,UMOL/KG,,TU,,NMOL/KG,,PERCNT,,/MILLE,,/MILLE,,/MILLE,NMOL/KG,,NMOL/KG,PMOL/KG,,TU,NMOL/KG,DEG C,PERCNT
  316N145_7,       I08N,     311,          1,         36,         36,2,19950316,       1443,    -2.6667,    79.9998,       4900,     2.6,  29.5026,  34.3110,2,  34.2962,2,    197.3,2,   197.2,2,    2.37,2,    0.09,2,    0.00,2,    0.10,2,-999.000,9,-999.000,9,  1904.9,2,  2246.8,2,  -9.0000,9,-999.0000,9, -999.00,9, -999.00,9,  -999.0,9,  -999.0,-999.000,9,-999.000,-999.000,9,  -9.0000,-999.0000,  29.5020,   -9.00
  316N145_7,       I08N,     311,          1,         35,         35,2,19950316,       1443,    -2.6667,    79.9998,       4900,    25.9,  29.3435,  34.2964,2,  34.2962,2,    194.8,2,   197.0,2,    2.36,2,    0.09,2,    0.00,2,    0.10,2,-999.000,9,-999.000,9,  -999.0,9,  -999.0,9,  -9.0000,9,-999.0000,9, -999.00,9, -999.00,9,  -999.0,9,  -999.0,-999.000,9,-999.000,-999.000,9,  -9.0000,-999.0000,  29.3372,   -9.00
  316N145_7,       I08N,     311,          1,         34,         34,2,19950316,       1443,    -2.6667,    79.9998,       4900,    66.5,  26.5455,  35.3885,2,  35.3847,2,    181.8,2,   183.0,2,    3.98,2,    0.09,2,    0.00,2,    0.31,2,-999.000,9,-999.000,9,  -999.0,9,  -999.0,9,  -9.0000,9,-999.0000,9, -999.00,9, -999.00,9,  -999.0,9,  -999.0,-999.000,9,-999.000,-999.000,9,  -9.0000,-999.0000,  26.5304,   -9.00
  316N145_7,       I08N,     311,          1,         33,         33,2,19950316,       1443,    -2.6667,    79.9998,       4900,   106.4,  19.3818,  35.2668,2,  35.2670,2,     91.0,2,    89.9,2,   13.60,2,   17.66,2,    0.05,2,    1.28,2,-999.000,9,-999.000,9,  -999.0,9,  -999.0,9,  -9.0000,9,-999.0000,9, -999.00,9, -999.00,9,  -999.0,9,  -999.0,-999.000,9,-999.000,-999.000,9,  -9.0000,-999.0000,  19.3625,   -9.00
  316N145_7,       I08N,     311,          1,         32,         32,2,19950316,       1443,    -2.6667,    79.9998,       4900,   146.6,  16.8133,  35.2140,2,  35.2123,2,     77.1,2,    77.7,2,   17.08,2,   21.07,2,    0.02,2,    1.51,2,-999.000,9,-999.000,9,  -999.0,9,  -999.0,9,  -9.0000,9,-999.0000,9, -999.00,9, -999.00,9,  -999.0,9,  -999.0,-999.000,9,-999.000,-999.000,9,  -9.0000,-999.0000,  16.7892,   -9.00
  316N145_7,       I08N,     311,          1,         31,         31,2,19950316,       1443,    -2.6667,    79.9998,       4900,   196.8,  14.9652,  35.1987,2,  35.1707,2,     93.4,2,    94.7,2,   17.89,2,   21.22,2,    0.01,2,    1.50,2,-999.000,9,-999.000,9,  -999.0,9,  -999.0,9,  -9.0000,9,-999.0000,9, -999.00,9, -999.00,9,  -999.0,9,  -999.0,-999.000,9,-999.000,-999.000,9,  -9.0000,-999.0000,  14.9354,   -9.00
  316N145_7,       I08N,     311,          1,         30,         30,2,19950316,       1443,    -2.6667,    79.9998,       4900,   237.1,  13.4461,  35.1140,2,  35.1221,2,     90.4,2,    90.1,2,   19.93,2,   23.08,2,    0.00,2,    1.62,2,-999.000,9,-999.000,9,  -999.0,9,  -999.0,9,  -9.0000,9,-999.0000,9, -999.00,9, -999.00,9,  -999.0,9,  -999.0,-999.000,9,-999.000,-999.000,9,  -9.0000,-999.0000,  13.4126,   -9.00
  316N145_7,       I08N,     311,          1,         29,         29,2,19950316,       1443,    -2.6667,    79.9998,       4900,   277.6,  12.6698,  35.0930,2,  35.0880,2,     88.4,2,    88.2,2,   21.55,2,   24.51,2,    0.00,2,    1.72,2,-999.000,9,-999.000,9,  -999.0,9,  -999.0,9,  -9.0000,9,-999.0000,9, -999.00,9, -999.00,9,  -999.0,9,  -999.0,-999.000,9,-999.000,-999.000,9,  -9.0000,-999.0000,  12.6321,   -9.00
  316N145_7,       I08N,     311,          1,         28,         28,2,19950316,       1443,    -2.6667,    79.9998,       4900,   317.5,  11.8328,  35.0305,2,  35.0241,2,    103.3,2,   109.6,2,   20.93,2,   23.64,2,    0.00,2,    1.64,2,-999.000,9,-999.000,9,  -999.0,9,  -999.0,9,  -9.0000,9,-999.0000,9, -999.00,9, -999.00,9,  -999.0,9,  -999.0,-999.000,9,-999.000,-999.000,9,  -9.0000,-999.0000,  11.7915,   -9.00
  316N145_7,       I08N,     311,          1,         27,         27,2,19950316,       1443,    -2.6667,    79.9998,       4900,   357.1,  11.3937,  35.0221,2,  35.0223,2,     97.0,2,   100.5,2,   22.96,2,   25.22,2,    0.00,2,    1.76,2,-999.000,9,-999.000,9,  -999.0,9,  -999.0,9,  -9.0000,9,-999.0000,9, -999.00,9, -999.00,9,  -999.0,9,  -999.0,-999.000,9,-999.000,-999.000,9,  -9.0000,-999.0000,  11.3483,   -9.00
  316N145_7,       I08N,     311,          1,         26,         26,2,19950316,       1443,    -2.6667,    79.9998,       4900,   407.2,  10.8490,  34.9999,2,  34.9985,2,     92.4,2,    94.9,2,   25.82,2,   26.71,2,    0.00,2,    1.86,2,-999.000,9,-999.000,9,  -999.0,9,  -999.0,9,  -9.0000,9,-999.0000,9, -999.00,9, -999.00,9,  -999.0,9,  -999.0,-999.000,9,-999.000,-999.000,9,  -9.0000,-999.0000,  10.7987,   -9.00
  316N145_7,       I08N,     311,          1,         25,         25,2,19950316,       1443,    -2.6667,    79.9998,       4900,   467.3,  10.0117,  34.9407,2,  34.9397,2,     97.7,2,    98.1,2,   30.32,2,   28.06,2,    0.00,2,    1.97,2,-999.000,9,-999.000,9,  -999.0,9,  -999.0,9,  -9.0000,9,-999.0000,9, -999.00,9, -999.00,9,  -999.0,9,  -999.0,-999.000,9,-999.000,-999.000,9,  -9.0000,-999.0000,   9.9567,   -9.00
  316N145_7,       I08N,     311,          1,         24,         24,2,19950316,       1443,    -2.6667,    79.9998,       4900,   537.1,   9.4930,  34.9435,2,  34.9440,2,     73.6,2,    72.1,2,   39.34,2,   31.56,2,    0.00,2,    2.25,2,-999.000,9,-999.000,9,  -999.0,9,  -999.0,9,  -9.0000,9,-999.0000,9, -999.00,9, -999.00,9,  -999.0,9,  -999.0,-999.000,9,-999.000,-999.000,9,  -9.0000,-999.0000,   9.4316,   -9.00
  316N145_7,       I08N,     311,          1,         23,         23,2,19950316,       1443,    -2.6667,    79.9998,       4900,   608.8,   8.8967,  34.8991,2,  34.8993,2,     72.3,2,    70.9,2,   45.89,2,   32.73,2,    0.01,2,    2.36,2,-999.000,9,-999.000,9,  -999.0,9,  -999.0,9,  -9.0000,9,-999.0000,9, -999.00,9, -999.00,9,  -999.0,9,  -999.0,-999.000,9,-999.000,-999.000,9,  -9.0000,-999.0000,   8.8296,   -9.00
  316N145_7,       I08N,     311,          1,         22,         22,2,19950316,       1443,    -2.6667,    79.9998,       4900,   709.6,   8.3535,  34.9376,2,  34.9346,2,     54.7,2,    54.4,2,   58.19,2,   34.94,2,    0.01,2,    2.60,2,-999.000,9,-999.000,9,  -999.0,9,  -999.0,9,  -9.0000,9,-999.0000,9, -999.00,9, -999.00,9,  -999.0,9,  -999.0,-999.000,9,-999.000,-999.000,9,  -9.0000,-999.0000,   8.2776,   -9.00
  316N145_7,       I08N,     311,          1,         21,         21,2,19950316,       1443,    -2.6667,    79.9998,       4900,   809.9,   7.7991,  34.9443,2,  34.9432,2,     52.4,2,    51.9,2,   67.01,2,   35.83,2,    0.01,2,    2.68,2,-999.000,9,-999.000,9,  -999.0,9,  -999.0,9,  -9.0000,9,-999.0000,9, -999.00,9, -999.00,9,  -999.0,9,  -999.0,-999.000,9,-999.000,-999.000,9,  -9.0000,-999.0000,   7.7152,   -9.00
  316N145_7,       I08N,     311,          1,         20,         20,2,19950316,       1443,    -2.6667,    79.9998,       4900,  1011.6,   6.4899,  34.8838,2,  34.8818,2,     59.4,2,    60.9,2,   83.28,2,   36.78,2,    0.01,2,    2.75,2,-999.000,9,-999.000,9,  -999.0,9,  -999.0,9,  -9.0000,9,-999.0000,9, -999.00,9, -999.00,9,  -999.0,9,  -999.0,-999.000,9,-999.000,-999.000,9,  -9.0000,-999.0000,   6.3937,   -9.00
  316N145_7,       I08N,     311,          1,         19,         19,2,19950316,       1443,    -2.6667,    79.9998,       4900,  1212.4,   5.0819,  34.8137,2,  34.8136,2,     74.9,2,    78.2,2,   98.17,2,   37.07,2,    0.01,2,    2.76,2,-999.000,9,-999.000,9,  -999.0,9,  -999.0,9,  -9.0000,9,-999.0000,9, -999.00,9, -999.00,9,  -999.0,9,  -999.0,-999.000,9,-999.000,-999.000,9,  -9.0000,-999.0000,   4.9777,   -9.00
  316N145_7,       I08N,     311,          1,         18,         18,2,19950316,       1443,    -2.6667,    79.9998,       4900,  1412.7,   4.3488,  34.8249,2,  34.8242,2,     92.0,2,    91.5,2,  105.85,2,   36.78,2,    0.01,2,    2.74,2,-999.000,9,-999.000,9,  -999.0,9,  -999.0,9,  -9.0000,9,-999.0000,9, -999.00,9, -999.00,9,  -999.0,9,  -999.0,-999.000,9,-999.000,-999.000,9,  -9.0000,-999.0000,   4.2331,   -9.00
  316N145_7,       I08N,     311,          1,         17,         17,2,19950316,       1443,    -2.6667,    79.9998,       4900,  1614.1,   3.5692,  34.7948,2,  34.7967,2,    107.7,2,   108.4,2,  112.94,2,   36.27,2,    0.01,2,    2.68,2,-999.000,9,-999.000,9,  -999.0,9,  -999.0,9,  -9.0000,9,-999.0000,9, -999.00,9, -999.00,9,  -999.0,9,  -999.0,-999.000,9,-999.000,-999.000,9,  -9.0000,-999.0000,   3.4442,   -9.00
  316N145_7,       I08N,     311,          1,         16,         16,2,19950316,       1443,    -2.6667,    79.9998,       4900,  1814.6,   3.0223,  34.7816,2,  34.7804,2,    121.0,2,   121.5,2,  119.01,2,   35.85,2,    0.01,2,    2.64,2,-999.000,9,-999.000,9,  -999.0,9,  -999.0,9,  -9.0000,9,-999.0000,9, -999.00,9, -999.00,9,  -999.0,9,  -999.0,-999.000,9,-999.000,-999.000,9,  -9.0000,-999.0000,   2.8865,   -9.00
  316N145_7,       I08N,     311,          1,         15,         15,2,19950316,       1443,    -2.6667,    79.9998,       4900,  2016.6,   2.6658,  34.7706,2,  34.7702,2,    129.8,2,   130.8,2,  123.21,2,   35.52,2,    0.01,2,    2.59,2,-999.000,9,-999.000,9,  -999.0,9,  -999.0,9,  -9.0000,9,-999.0000,9, -999.00,9, -999.00,9,  -999.0,9,  -999.0,-999.000,9,-999.000,-999.000,9,  -9.0000,-999.0000,   2.5174,   -9.00
  316N145_7,       I08N,     311,          1,         14,         14,2,19950316,       1443,    -2.6667,    79.9998,       4900,  2217.9,   2.3951,  34.7596,2,  34.7592,2,    138.1,2,   137.5,2,  126.15,2,   35.34,2,    0.00,2,    2.56,2,-999.000,9,-999.000,9,  -999.0,9,  -999.0,9,  -9.0000,9,-999.0000,9, -999.00,9, -999.00,9,  -999.0,9,  -999.0,-999.000,9,-999.000,-999.000,9,  -9.0000,-999.0000,   2.2329,   -9.00
  316N145_7,       I08N,     311,          1,         13,         13,2,19950316,       1443,    -2.6667,    79.9998,       4900,  2419.9,   2.1613,  34.7494,2,  34.7484,2,    146.3,2,   146.1,2,  127.83,2,   34.92,2,    0.00,2,    2.53,2,-999.000,9,-999.000,9,  -999.0,9,  -999.0,9,  -9.0000,9,-999.0000,9, -999.00,9, -999.00,9,  -999.0,9,  -999.0,-999.000,9,-999.000,-999.000,9,  -9.0000,-999.0000,   1.9849,   -9.00
  316N145_7,       I08N,     311,          1,         12,         12,2,19950316,       1443,    -2.6667,    79.9998,       4900,  2621.9,   2.0013,  34.7425,2,  34.7425,2,    151.1,2,   150.7,2,  129.72,2,   34.78,2,    0.00,2,    2.50,2,-999.000,9,-999.000,9,  -999.0,9,  -999.0,9,  -9.0000,9,-999.0000,9, -999.00,9, -999.00,9,  -999.0,9,  -999.0,-999.000,9,-999.000,-999.000,9,  -9.0000,-999.0000,   1.8094,   -9.00
  316N145_7,       I08N,     311,          1,         11,         11,2,19950316,       1443,    -2.6667,    79.9998,       4900,  2824.4,   1.8572,  34.7375,2,  34.7362,2,    156.0,2,   156.2,2,  130.76,2,   34.55,2,    0.00,2,    2.47,2,-999.000,9,-999.000,9,  -999.0,9,  -999.0,9,  -9.0000,9,-999.0000,9, -999.00,9, -999.00,9,  -999.0,9,  -999.0,-999.000,9,-999.000,-999.000,9,  -9.0000,-999.0000,   1.6492,   -9.00
  316N145_7,       I08N,     311,          1,         10,         10,2,19950316,       1443,    -2.6667,    79.9998,       4900,  3025.7,   1.6986,  34.7309,2,  34.7303,2,    161.8,2,   161.5,2,  132.66,2,   34.41,2,    0.00,2,    2.45,2,-999.000,9,-999.000,9,  -999.0,9,  -999.0,9,  -9.0000,9,-999.0000,9, -999.00,9, -999.00,9,  -999.0,9,  -999.0,-999.000,9,-999.000,-999.000,9,  -9.0000,-999.0000,   1.4747,   -9.00
  316N145_7,       I08N,     311,          1,          9,          9,2,19950316,       1443,    -2.6667,    79.9998,       4900,  3248.9,   1.5749,  34.7267,2,  34.7260,2,    163.6,2,   163.6,2,  135.63,2,   34.32,2,    0.00,2,    2.44,2,-999.000,9,-999.000,9,  -999.0,9,  -999.0,9,  -9.0000,9,-999.0000,9, -999.00,9, -999.00,9,  -999.0,9,  -999.0,-999.000,9,-999.000,-999.000,9,  -9.0000,-999.0000,   1.3319,   -9.00
  316N145_7,       I08N,     311,          1,          8,          8,2,19950316,       1443,    -2.6667,    79.9998,       4900,  3473.0,   1.4965,  34.7238,2,  34.7226,2,    165.7,2,   166.2,2,  137.75,2,   34.37,2,    0.00,2,    2.43,2,-999.000,9,-999.000,9,  -999.0,9,  -999.0,9,  -9.0000,9,-999.0000,9, -999.00,9, -999.00,9,  -999.0,9,  -999.0,-999.000,9,-999.000,-999.000,9,  -9.0000,-999.0000,   1.2330,   -9.00
  316N145_7,       I08N,     311,          1,          7,          7,2,19950316,       1443,    -2.6667,    79.9998,       4900,  3699.2,   1.4305,  34.7216,2,  34.7213,2,    171.0,2,   170.9,2,  136.65,2,   34.09,2,    0.00,2,    2.41,2,-999.000,9,-999.000,9,  -999.0,9,  -999.0,9,  -9.0000,9,-999.0000,9, -999.00,9, -999.00,9,  -999.0,9,  -999.0,-999.000,9,-999.000,-999.000,9,  -9.0000,-999.0000,   1.1454,   -9.00
  316N145_7,       I08N,     311,          1,          6,          6,2,19950316,       1443,    -2.6667,    79.9998,       4900,  3926.1,   1.4009,  34.7202,2,  34.7195,2,    172.9,2,   172.9,2,  137.27,2,   33.95,2,    0.00,2,    2.40,2,-999.000,9,-999.000,9,  -999.0,9,  -999.0,9,  -9.0000,9,-999.0000,9, -999.00,9, -999.00,9,  -999.0,9,  -999.0,-999.000,9,-999.000,-999.000,9,  -9.0000,-999.0000,   1.0926,   -9.00
  316N145_7,       I08N,     311,          1,          5,          5,2,19950316,       1443,    -2.6667,    79.9998,       4900,  4153.3,   1.3976,  34.7193,2,  34.7187,2,    174.8,2,   174.7,2,  136.60,2,   34.04,2,    0.00,2,    2.39,2,-999.000,9,-999.000,9,  -999.0,9,  -999.0,9,  -9.0000,9,-999.0000,9, -999.00,9, -999.00,9,  -999.0,9,  -999.0,-999.000,9,-999.000,-999.000,9,  -9.0000,-999.0000,   1.0647,   -9.00
  316N145_7,       I08N,     311,          1,          4,          4,2,19950316,       1443,    -2.6667,    79.9998,       4900,  4360.6,   1.4022,  34.7186,2,  34.7185,2,    176.8,2,   176.4,2,  136.36,2,   33.86,2,    0.00,2,    2.38,2,-999.000,9,-999.000,9,  -999.0,9,  -999.0,9,  -9.0000,9,-999.0000,9, -999.00,9, -999.00,9,  -999.0,9,  -999.0,-999.000,9,-999.000,-999.000,9,  -9.0000,-999.0000,   1.0460,   -9.00
  316N145_7,       I08N,     311,          1,          3,          3,2,19950316,       1443,    -2.6667,    79.9998,       4900,  4566.5,   1.4077,  34.7182,2,  34.7181,2,    178.6,2,   177.9,2,  135.47,2,   33.72,2,    0.00,2,    2.37,2,-999.000,9,-999.000,9,  -999.0,9,  -999.0,9,  -9.0000,9,-999.0000,9, -999.00,9, -999.00,9,  -999.0,9,  -999.0,-999.000,9,-999.000,-999.000,9,  -9.0000,-999.0000,   1.0278,   -9.00
  316N145_7,       I08N,     311,          1,          2,          2,2,19950316,       1443,    -2.6667,    79.9998,       4900,  4802.7,   1.4245,  34.7180,2,  34.7176,2,    179.1,2,   178.5,2,  135.45,2,   33.72,2,    0.00,2,    2.36,2,-999.000,9,-999.000,9,  -999.0,9,  -999.0,9,  -9.0000,9,-999.0000,9, -999.00,9, -999.00,9,  -999.0,9,  -999.0,-999.000,9,-999.000,-999.000,9,  -9.0000,-999.0000,   1.0163,   -9.00
  316N145_7,       I08N,     311,          1,          1,          1,2,19950316,       1443,    -2.6667,    79.9998,       4900,  4995.9,   1.4262,  34.7179,2,  34.7180,2,    179.5,2,   180.3,2,  134.57,2,   33.63,2,    0.00,2,    2.35,2,-999.000,9,-999.000,9,  -999.0,9,  -999.0,9,  -9.0000,9,-999.0000,9, -999.00,9, -999.00,9,  -999.0,9,  -999.0,-999.000,9,-999.000,-999.000,9,  -9.0000,-999.0000,   0.9948,   -9.00