BOTTLE,20211124CCHSIORKP
EXPOCODE,SECT_ID,STNNBR,CASTNO,SAMPNO,BTLNBR,BTLNBR_FLAG_W,DATE,TIME,LATITUDE,LONGITUDE,DEPTH,CTDPRS,CTDTMP,CTDSAL,CTDSAL_FLAG_W,SALNTY,SALNTY_FLAG_W,CTDOXY,CTDOXY_FLAG_W,OXYGEN,OXYGEN_FLAG_W,SILCAT,SILCAT_FLAG_W,NITRAT,NITRAT_FLAG_W,NITRIT,NITRIT_FLAG_W,PHSPHT,PHSPHT_FLAG_W,CFC-11,CFC-11_FLAG_W,CFC-12,CFC-12_FLAG_W,TCARBN,TCARBN_FLAG_W,ALKALI,ALKALI_FLAG_W,TRITUM,TRITUM_FLAG_W,HELIUM,HELIUM_FLAG_W,DELHE3,DELHE3_FLAG_W,DELC13,DELC13_FLAG_W,DELC14,DELC14_FLAG_W,C14ERR,NEON,NEON_FLAG_W,NEONER,CCL4,CCL4_FLAG_W,TRITER,HELIER,THETA,DELHER
,,,,,,,,,,,METERS,DBAR,ITS-90,PSS-78,,PSS-78,,UMOL/KG,,UMOL/KG,,UMOL/KG,,UMOL/KG,,UMOL/KG,,UMOL/KG,,PMOL/KG,,PMOL/KG,,UMOL/KG,,UMOL/KG,,TU,,NMOL/KG,,PERCNT,,/MILLE,,/MILLE,,/MILLE,NMOL/KG,,NMOL/KG,PMOL/KG,,TU,NMOL/KG,DEG C,PERCNT
  316N145_7,      TRANS,     359,          1,         36,         36,2,19950328,       0229,   -25.4807,    83.3102,       4030,     3.0,  25.9011,  35.5517,2,  35.5517,2,    204.5,2,   205.5,2,    3.06,2,    0.15,2,    0.00,2,    0.11,2,   1.730,2,   1.034,2,  1985.5,2,  2327.2,2,   1.1522,2,   1.7016,2,   -1.16,2, -999.00,9,  -999.0,9,  -999.0,   6.629,2,   0.033,   2.128,2,   0.0041,   0.0085,  25.9005,    0.14
  316N145_7,      TRANS,     359,          1,         35,         35,2,19950328,       0229,   -25.4807,    83.3102,       4030,    35.4,  25.8835,  35.5553,2,  35.5563,2,    204.5,2,   205.4,2,    3.05,2,    0.20,2,    0.00,2,    0.11,2,   1.776,2,   1.017,2,  -999.0,9,  -999.0,9,  -9.0000,9,-999.0000,9, -999.00,9, -999.00,9,  -999.0,9,  -999.0,-999.000,9,-999.000,   2.179,2,  -9.0000,-999.0000,  25.8756,   -9.00
  316N145_7,      TRANS,     359,          1,         34,         34,2,19950328,       0229,   -25.4807,    83.3102,       4030,    75.8,  21.2476,  35.7488,2,  35.7501,2,    237.8,2,   234.9,2,    3.24,2,    0.20,2,    0.00,2,    0.11,2,   2.282,2,   1.285,2,  -999.0,9,  -999.0,9,   1.1137,2,   1.7308,2,   -1.01,2, -999.00,9,  -999.0,9,  -999.0,   6.971,2,   0.035,   2.008,2,   0.0039,   0.0087,  21.2329,    0.14
  316N145_7,      TRANS,     359,          1,         33,         33,2,19950328,       0229,   -25.4807,    83.3102,       4030,   120.6,  19.0477,  35.8428,2,  35.8311,2,    221.3,2,   219.9,2,    3.02,2,    0.19,2,    0.01,2,    0.17,2,   2.353,2,   1.301,2,  -999.0,9,  -999.0,9,   1.0577,2,   1.7322,2,   -0.89,2, -999.00,9,  -999.0,9,  -999.0,   6.980,2,   0.035,   1.542,2,   0.0039,   0.0087,  19.0261,    0.14
  316N145_7,      TRANS,     359,          1,         32,         32,2,19950328,       0229,   -25.4807,    83.3102,       4030,   166.1,  17.3167,  35.7857,2,  35.7993,2,    221.7,2,   219.1,2,    2.80,2,    0.78,2,    0.10,2,    0.25,2,-999.000,9,-999.000,9,  -999.0,9,  -999.0,9,   0.9899,2,   1.7370,2,   -0.44,2, -999.00,9,  -999.0,9,  -999.0,   7.056,2,   0.035,-999.000,9,   0.0038,   0.0087,  17.2888,    0.14
  316N145_7,      TRANS,     359,          1,         31,         31,2,19950328,       0229,   -25.4807,    83.3102,       4030,   216.2,  15.6167,  35.6270,2,  35.6082,2,    219.4,2,   219.3,2,    2.57,2,    2.98,2,    0.02,2,    0.39,2,   2.749,2,   1.440,2,  -999.0,9,  -999.0,9,   0.9093,2,   1.7445,2,   -0.43,2, -999.00,9,  -999.0,9,  -999.0,   7.122,2,   0.036,   1.168,2,   0.0036,   0.0087,  15.5828,    0.14
  316N145_7,      TRANS,     359,          1,         30,         30,2,19950328,       0229,   -25.4807,    83.3102,       4030,   265.6,  14.0672,  35.4062,2,  35.4119,2,    226.0,2,   224.4,2,    2.98,2,    5.50,2,    0.01,2,    0.52,2,-999.000,9,-999.000,9,  -999.0,9,  -999.0,9,   0.8243,2,   1.7432,2,   -0.41,2, -999.00,9,  -999.0,9,  -999.0,   7.198,2,   0.036,-999.000,9,   0.0034,   0.0087,  14.0285,    0.14
  316N145_7,      TRANS,     359,          1,         29,         29,2,19950328,       0229,   -25.4807,    83.3102,       4030,   316.1,  12.9334,  35.2332,2,  35.2343,2,    226.7,2,   229.5,2,    3.60,2,    7.95,2,    0.00,2,    0.66,2,   2.935,2,   1.534,2,  -999.0,9,  -999.0,9,   0.7784,2,   1.7428,2,   -0.25,2, -999.00,9,  -999.0,9,  -999.0,   7.198,2,   0.036,   1.040,2,   0.0034,   0.0087,  12.8898,    0.14
  316N145_7,      TRANS,     359,          1,         28,         28,2,19950328,       0229,   -25.4807,    83.3102,       4030,   376.8,  12.2532,  35.1389,2,  35.1417,2,    231.3,2,   232.8,2,    3.80,2,    9.18,2,    0.00,2,    0.73,2,-999.000,9,-999.000,9,  -999.0,9,  -999.0,9,   0.7272,2,   1.7532,2,   -0.08,2, -999.00,9,  -999.0,9,  -999.0,   7.267,2,   0.036,-999.000,9,   0.0033,   0.0088,  12.2030,    0.14
  316N145_7,      TRANS,     359,          1,         27,         27,2,19950328,       0229,   -25.4807,    83.3102,       4030,   446.7,  11.5406,  35.0272,2,  35.0250,2,    232.9,2,   236.5,2,    4.21,2,   10.75,2,    0.01,2,    0.82,2,-999.000,9,-999.000,9,  -999.0,9,  -999.0,9,   0.6818,2,   1.7523,2,    0.22,2, -999.00,9,  -999.0,9,  -999.0,   7.330,2,   0.037,-999.000,9,   0.0032,   0.0088,  11.4831,    0.14
  316N145_7,      TRANS,     359,          1,         26,         26,2,19950328,       0229,   -25.4807,    83.3102,       4030,   546.7,  10.5862,  34.8790,2,  34.8808,2,    237.3,2,   238.1,2,    4.62,2,   12.87,2,    0.00,2,    0.95,2,   2.878,2,   1.474,2,  -999.0,9,  -999.0,9,   0.5955,2,   1.7586,2,    0.29,2, -999.00,9,  -999.0,9,  -999.0,   7.400,2,   0.037,   1.494,2,   0.0030,   0.0088,  10.5194,    0.14
  316N145_7,      TRANS,     359,          1,         25,         25,2,19950328,       0229,   -25.4807,    83.3102,       4030,   647.9,   9.5805,  34.7271,2,  34.7272,2,    238.6,2,   234.3,2,    5.87,2,   16.06,2,    0.00,2,    1.14,2,-999.000,9,-999.000,9,  -999.0,9,  -999.0,9,   0.4596,2,   1.7594,2,    0.77,2, -999.00,9,  -999.0,9,  -999.0,   7.400,2,   0.037,-999.000,9,   0.0028,   0.0088,   9.5058,    0.14
  316N145_7,      TRANS,     359,          1,         24,         24,2,19950328,       0229,   -25.4807,    83.3102,       4030,   749.5,   8.4635,  34.5990,2,  34.6036,2,    223.1,2,   219.4,2,    9.44,2,   20.25,2,    0.00,2,    1.39,2,   1.878,2,   0.910,2,  -999.0,9,  -999.0,9,  -9.0000,9,-999.0000,9, -999.00,9, -999.00,9,  -999.0,9,  -999.0,-999.000,9,-999.000,   1.551,2,  -9.0000,-999.0000,   8.3829,   -9.00
  316N145_7,      TRANS,     359,          1,         23,         23,2,19950328,       0229,   -25.4807,    83.3102,       4030,   849.8,   6.8398,  34.4845,2,  34.4830,2,    202.6,2,   197.7,2,   20.39,2,   26.02,2,    0.00,2,    1.78,2,-999.000,9,-999.000,9,  -999.0,9,  -999.0,9,   0.1520,2,   1.7985,2,    2.57,2, -999.00,9,  -999.0,9,  -999.0,   7.675,2,   0.038,-999.000,9,   0.0024,   0.0090,   6.7582,    0.14
  316N145_7,      TRANS,     359,          1,         22,         22,2,19950328,       0229,   -25.4807,    83.3102,       4030,   949.4,   5.4244,  34.4325,2,  34.4339,2,    187.5,2,   182.6,2,   35.76,2,   30.33,2,    0.00,2,    2.08,2,   0.296,3,   0.184,2,  -999.0,9,  -999.0,9,  -9.0000,9,-999.0000,9, -999.00,9, -999.00,9,  -999.0,9,  -999.0,-999.000,9,-999.000,   0.908,2,  -9.0000,-999.0000,   5.3427,   -9.00
  316N145_7,      TRANS,     359,          1,         21,         21,2,19950328,       0229,   -25.4807,    83.3102,       4030,  1040.8,   4.6042,  34.4511,2,  34.4530,2,    172.7,2,   165.8,2,   51.97,2,   33.01,2,    0.00,2,    2.29,2,   0.129,3,   0.090,2,  -999.0,9,  -999.0,9,  -9.0000,9,   1.8160,2,    6.14,2, -999.00,9,  -999.0,9,  -999.0,   7.768,2,   0.039,   0.630,2,  -9.0000,   0.0091,   4.5204,    0.14
  316N145_7,      TRANS,     359,          1,         20,         20,2,19950328,       0229,   -25.4807,    83.3102,       4030,  1151.9,   4.0024,  34.4974,2,  34.4956,2,    156.3,2,   154.0,2,   65.67,2,   34.50,2,    0.00,2,    2.41,2,   0.026,3,   0.035,6,  -999.0,9,  -999.0,9,  -9.0000,9,-999.0000,9, -999.00,9, -999.00,9,  -999.0,9,  -999.0,-999.000,9,-999.000,   0.373,6,  -9.0000,-999.0000,   3.9140,   -9.00
  316N145_7,      TRANS,     359,          1,         19,         19,2,19950328,       0229,   -25.4807,    83.3102,       4030,  1262.4,   3.8010,  34.5609,2,  34.5622,2,    141.2,2,   139.6,2,   78.97,2,   35.44,2,    0.00,2,    2.50,2,-999.000,9,-999.000,9,  -999.0,9,  -999.0,9,   0.0031,2,   1.8430,2,    9.82,2, -999.00,9,  -999.0,9,  -999.0,   7.897,2,   0.039,-999.000,9,   0.0022,   0.0093,   3.7048,    0.14
  316N145_7,      TRANS,     359,          1,         18,         18,2,19950328,       0229,   -25.4807,    83.3102,       4030,  1373.3,   3.4736,  34.5829,2,  34.5838,2,    141.4,2,   143.2,2,   82.56,2,   35.33,2,    0.00,2,    2.49,2,   0.008,3,   0.007,2,  -999.0,9,  -999.0,9,  -9.0000,9,-999.0000,9, -999.00,9, -999.00,9,  -999.0,9,  -999.0,-999.000,9,-999.000,   0.122,2,  -9.0000,-999.0000,   3.3712,   -9.00
  316N145_7,      TRANS,     359,          1,         17,         17,2,19950328,       0229,   -25.4807,    83.3102,       4030,  1485.6,   3.1928,  34.6163,2,  34.6156,2,    145.5,2,   146.4,2,   86.57,2,   35.13,2,    0.00,2,    2.47,2,-999.000,9,-999.000,9,  -999.0,9,  -999.0,9,  -9.0000,9,   1.8570,2,   10.89,2, -999.00,9,  -999.0,9,  -999.0,   7.962,2,   0.040,-999.000,9,  -9.0000,   0.0094,   3.0839,    0.14
  316N145_7,      TRANS,     359,          1,         16,         16,2,19950328,       0229,   -25.4807,    83.3102,       4030,  1596.5,   3.0250,  34.6478,2,  34.6464,2,    147.1,2,   147.5,2,   91.22,2,   34.82,2,    0.00,2,    2.45,2,   0.013,3,   0.003,2,  -999.0,9,  -999.0,9,  -9.0000,9,-999.0000,9, -999.00,9, -999.00,9,  -999.0,9,  -999.0,-999.000,9,-999.000,   0.002,2,  -9.0000,-999.0000,   2.9085,   -9.00
  316N145_7,      TRANS,     359,          1,         15,         15,2,19950328,       0229,   -25.4807,    83.3102,       4030,  1708.9,   2.8560,  34.6774,2,  34.6785,2,    149.4,2,   149.3,2,   96.94,2,   34.71,2,    0.00,2,    2.44,2,-999.000,9,-999.000,9,  -999.0,9,  -999.0,9,  -0.0003,2,   1.8610,2,   12.37,2, -999.00,9,  -999.0,9,  -999.0,   7.709,2,   0.039,-999.000,9,   0.0022,   0.0091,   2.7320,    0.14
  316N145_7,      TRANS,     359,          1,         14,         14,2,19950328,       0229,   -25.4807,    83.3102,       4030,  1818.0,   2.6928,  34.6979,2,  34.6985,2,    151.6,2,   151.2,2,  101.61,2,   34.51,2,    0.00,2,    2.42,2,   0.005,3,  -0.001,2,  -999.0,9,  -999.0,9,  -9.0000,9,-999.0000,9, -999.00,9, -999.00,9,  -999.0,9,  -999.0,-999.000,9,-999.000,   0.002,2,  -9.0000,-999.0000,   2.5616,   -9.00
  316N145_7,      TRANS,     359,          1,         13,         13,2,19950328,       0229,   -25.4807,    83.3102,       4030,  1970.6,   2.4968,  34.7135,2,  34.7144,2,    154.8,2,   155.0,2,  106.30,2,   34.20,2,    0.00,2,    2.41,2,-999.000,9,-999.000,9,  -999.0,9,  -999.0,9,  -9.0000,9,   1.8760,2,   14.38,2, -999.00,9,  -999.0,9,  -999.0,-999.000,9,-999.000,-999.000,9,  -9.0000,-999.0000,   2.3551,   -9.00
  316N145_7,      TRANS,     359,          1,         12,         12,2,19950328,       0229,   -25.4807,    83.3102,       4030,  2123.1,   2.3237,  34.7189,2,  34.7203,2,    160.8,2,   160.5,2,  108.21,2,   34.00,2,    0.00,2,    2.38,2,  -0.036,3,   0.000,2,  -999.0,9,  -999.0,9,  -9.0000,9,   1.8920,2,   14.66,2, -999.00,9,  -999.0,9,  -999.0,-999.000,9,-999.000,   0.001,2,  -9.0000,-999.0000,   2.1713,   -9.00
  316N145_7,      TRANS,     359,          1,         11,         11,2,19950328,       0229,   -25.4807,    83.3102,       4030,  2275.0,   2.1636,  34.7219,2,  34.7235,2,    166.6,2,   166.5,2,  109.26,2,   33.64,2,    0.00,2,    2.35,2,-999.000,9,-999.000,9,  -999.0,9,  -999.0,9,  -9.0000,9,   1.8800,2,   15.59,2, -999.00,9,  -999.0,9,  -999.0,-999.000,9,-999.000,-999.000,9,  -9.0000,-999.0000,   2.0004,   -9.00
  316N145_7,      TRANS,     359,          1,         10,         10,2,19950328,       0229,   -25.4807,    83.3102,       4030,  2427.8,   2.0131,  34.7228,2,  34.7241,2,    173.2,2,   173.3,2,  109.03,2,   33.19,2,    0.00,2,    2.31,2,-999.000,9,-999.000,9,  -999.0,9,  -999.0,9,  -9.0000,9,   1.8960,2,   15.57,2, -999.00,9,  -999.0,9,  -999.0,-999.000,9,-999.000,-999.000,9,  -9.0000,-999.0000,   1.8389,   -9.00
  316N145_7,      TRANS,     359,          1,          9,          9,2,19950328,       0229,   -25.4807,    83.3102,       4030,  2580.4,   1.9048,  34.7259,2,  34.7266,2,    179.5,2,   180.6,2,  107.94,2,   32.79,2,    0.00,2,    2.27,2,   0.020,3,  -0.002,2,  -999.0,9,  -999.0,9,  -9.0000,9,   1.8860,2,   15.22,2, -999.00,9,  -999.0,9,  -999.0,-999.000,9,-999.000,   0.003,2,  -9.0000,-999.0000,   1.7186,   -9.00
  316N145_7,      TRANS,     359,          1,          8,          8,2,19950328,       0229,   -25.4807,    83.3102,       4030,  2782.6,   1.7505,  34.7319,2,  34.7329,2,    189.8,2,   189.4,2,  104.93,2,   31.99,2,    0.00,2,    2.20,2,-999.000,9,-999.000,9,  -999.0,9,  -999.0,9,  -9.0000,9,   1.8930,2,   14.67,2, -999.00,9,  -999.0,9,  -999.0,-999.000,9,-999.000,-999.000,9,  -9.0000,-999.0000,   1.5486,   -9.00
  316N145_7,      TRANS,     359,          1,          7,          7,2,19950328,       0229,   -25.4807,    83.3102,       4030,  2986.2,   1.6219,  34.7335,2,  34.7343,2,    194.1,2,   194.0,2,  106.41,2,   31.78,2,    0.00,2,    2.19,2,   0.015,3,   0.003,2,  -999.0,9,  -999.0,9,  -9.0000,9,   1.8790,2,   12.95,2, -999.00,9,  -999.0,9,  -999.0,-999.000,9,-999.000,   0.002,2,  -9.0000,-999.0000,   1.4035,   -9.00
  316N145_7,      TRANS,     359,          1,          6,          6,2,19950328,       0229,   -25.4807,    83.3102,       4030,  3190.6,   1.4983,  34.7300,2,  34.7315,2,    194.8,2,   194.8,2,  110.89,2,   32.03,2,    0.00,2,    2.20,2,-999.000,9,-999.000,9,  -999.0,9,  -999.0,9,  -9.0000,9,   1.8760,2,   12.34,2, -999.00,9,  -999.0,9,  -999.0,-999.000,9,-999.000,-999.000,9,  -9.0000,-999.0000,   1.2629,   -9.00
  316N145_7,      TRANS,     359,          1,          5,          5,2,19950328,       0229,   -25.4807,    83.3102,       4030,  3394.2,   1.4124,  34.7259,2,  34.7272,2,    194.7,2,   194.2,2,  115.60,2,   32.27,2,    0.00,2,    2.22,2,  -0.041,3,  -0.005,2,  -999.0,9,  -999.0,9,  -9.0000,9,   1.8820,2,   11.38,2, -999.00,9,  -999.0,9,  -999.0,-999.000,9,-999.000,   0.018,2,  -9.0000,-999.0000,   1.1589,   -9.00
  316N145_7,      TRANS,     359,          1,          4,          4,2,19950328,       0229,   -25.4807,    83.3102,       4030,  3598.0,   1.3897,  34.7239,2,  34.7252,2,    192.2,2,   192.8,2,  118.81,2,   32.61,2,    0.00,2,    2.24,2,-999.000,9,-999.000,9,  -999.0,9,  -999.0,9,  -9.0000,9,-999.0000,9, -999.00,9, -999.00,9,  -999.0,9,  -999.0,-999.000,9,-999.000,-999.000,9,  -9.0000,-999.0000,   1.1160,   -9.00
  316N145_7,      TRANS,     359,          1,          3,          3,2,19950328,       0229,   -25.4807,    83.3102,       4030,  3802.2,   1.3848,  34.7222,2,  34.7229,2,    191.2,2,   190.9,2,  121.39,2,   32.86,2,    0.00,2,    2.26,2,-999.000,9,-999.000,9,  -999.0,9,  -999.0,9,  -9.0000,9,   1.8880,2,   11.55,2, -999.00,9,  -999.0,9,  -999.0,-999.000,9,-999.000,-999.000,9,  -9.0000,-999.0000,   1.0900,   -9.00
  316N145_7,      TRANS,     359,          1,          2,          2,2,19950328,       0229,   -25.4807,    83.3102,       4030,  4006.0,   1.3927,  34.7214,2,  34.7219,2,    190.4,2,   189.9,2,  123.53,2,   33.00,2,    0.00,2,    2.27,2,  -0.042,3,  -0.002,2,  -999.0,9,  -999.0,9,  -9.0000,9,-999.0000,9, -999.00,9, -999.00,9,  -999.0,9,  -999.0,-999.000,9,-999.000,   0.001,2,  -9.0000,-999.0000,   1.0760,   -9.00
  316N145_7,      TRANS,     359,          1,          1,          1,2,19950328,       0229,   -25.4807,    83.3102,       4030,  4145.7,   1.4055,  34.7204,2,  34.7215,2,    189.4,2,   189.8,2,  123.95,2,   33.09,2,    0.00,2,    2.28,2,  -0.020,3,  -0.002,2,  -999.0,9,  -999.0,9,  -9.0000,9,   1.8840,2,   11.65,2, -999.00,9,  -999.0,9,  -999.0,-999.000,9,-999.000,   0.002,2,  -9.0000,-999.0000,   1.0732,   -9.00