BOTTLE,20211124CCHSIORKP
EXPOCODE,SECT_ID,STNNBR,CASTNO,SAMPNO,BTLNBR,BTLNBR_FLAG_W,DATE,TIME,LATITUDE,LONGITUDE,DEPTH,CTDPRS,CTDTMP,CTDSAL,CTDSAL_FLAG_W,SALNTY,SALNTY_FLAG_W,CTDOXY,CTDOXY_FLAG_W,OXYGEN,OXYGEN_FLAG_W,SILCAT,SILCAT_FLAG_W,NITRAT,NITRAT_FLAG_W,NITRIT,NITRIT_FLAG_W,PHSPHT,PHSPHT_FLAG_W,CFC-11,CFC-11_FLAG_W,CFC-12,CFC-12_FLAG_W,TCARBN,TCARBN_FLAG_W,ALKALI,ALKALI_FLAG_W,TRITUM,TRITUM_FLAG_W,HELIUM,HELIUM_FLAG_W,DELHE3,DELHE3_FLAG_W,DELC13,DELC13_FLAG_W,DELC14,DELC14_FLAG_W,C14ERR,NEON,NEON_FLAG_W,NEONER,CCL4,CCL4_FLAG_W,TRITER,HELIER,THETA,DELHER
,,,,,,,,,,,METERS,DBAR,ITS-90,PSS-78,,PSS-78,,UMOL/KG,,UMOL/KG,,UMOL/KG,,UMOL/KG,,UMOL/KG,,UMOL/KG,,PMOL/KG,,PMOL/KG,,UMOL/KG,,UMOL/KG,,TU,,NMOL/KG,,PERCNT,,/MILLE,,/MILLE,,/MILLE,NMOL/KG,,NMOL/KG,PMOL/KG,,TU,NMOL/KG,DEG C,PERCNT
  316N145_7,       I08N,     340,          1,         36,         36,2,19950323,       1318,   -17.0002,    80.0007,       5025,     2.7,  28.1065,  34.7367,2,  34.7368,2,    199.0,2,   201.0,2,    3.32,2,    0.14,2,    0.00,2,    0.10,2,   1.779,2,   0.968,2,  1923.0,2,  2270.0,2,  -9.0000,9,-999.0000,9, -999.00,9, -999.00,9,  -999.0,9,  -999.0,-999.000,9,-999.000,   1.905,2,  -9.0000,-999.0000,  28.1059,   -9.00
  316N145_7,       I08N,     340,          1,         35,         35,2,19950323,       1318,   -17.0002,    80.0007,       5025,    36.6,  28.1080,  34.7383,2,  34.7374,2,    202.2,2,   199.5,2,    3.37,2,    0.14,2,    0.00,2,    0.10,2,-999.000,9,-999.000,9,  1921.5,2,  2278.4,2,  -9.0000,9,-999.0000,9, -999.00,9, -999.00,9,  -999.0,9,  -999.0,-999.000,9,-999.000,-999.000,9,  -9.0000,-999.0000,  28.0994,   -9.00
  316N145_7,       I08N,     340,          1,         34,         34,2,19950323,       1318,   -17.0002,    80.0007,       5025,    82.3,  24.2319,  34.9483,2,  34.9390,2,    213.0,2,   201.1,2,    4.67,2,    0.23,2,    0.00,2,    0.20,2,   1.838,2,   1.078,2,  1974.5,2,  2287.3,2,  -9.0000,9,-999.0000,9, -999.00,9, -999.00,9,  -999.0,9,  -999.0,-999.000,9,-999.000,   1.352,2,  -9.0000,-999.0000,  24.2145,   -9.00
  316N145_7,       I08N,     340,          1,         33,         33,2,19950323,       1318,   -17.0002,    80.0007,       5025,   117.4,  22.5551,  35.3093,2,  35.2993,2,    213.0,2,   213.6,2,    3.88,2,    0.25,2,    0.03,2,    0.15,2,-999.000,9,-999.000,9,  1990.2,2,  2312.3,2,  -9.0000,9,-999.0000,9, -999.00,9, -999.00,9,  -999.0,9,  -999.0,-999.000,9,-999.000,-999.000,9,  -9.0000,-999.0000,  22.5314,   -9.00
  316N145_7,       I08N,     340,          1,         32,         32,2,19950323,       1318,   -17.0002,    80.0007,       5025,   141.9,  21.6005,  35.3786,2,  35.3827,2,    207.8,2,   196.2,2,    4.76,2,    1.37,2,    0.29,2,    0.25,2,   2.008,2,   1.158,2,  2012.3,2,  2313.2,2,  -9.0000,9,-999.0000,9, -999.00,9, -999.00,9,  -999.0,9,  -999.0,-999.000,9,-999.000,   0.808,2,  -9.0000,-999.0000,  21.5728,   -9.00
  316N145_7,       I08N,     340,          1,         31,         31,2,19950323,       1318,   -17.0002,    80.0007,       5025,   197.4,  20.0164,  35.6005,2,  35.6009,2,    194.6,2,   192.4,2,    5.44,2,    2.92,2,    0.01,2,    0.32,2,   2.078,2,   1.194,2,  2043.8,2,  2351.2,3,  -9.0000,9,-999.0000,9, -999.00,9, -999.00,9,  -999.0,9,  -999.0,-999.000,9,-999.000,   0.953,2,  -9.0000,-999.0000,  19.9797,   -9.00
  316N145_7,       I08N,     340,          1,         30,         30,2,19950323,       1318,   -17.0002,    80.0007,       5025,   267.0,  17.1518,  35.7202,2,  35.7246,2,    204.4,2,   202.5,2,    4.44,2,    3.17,2,    0.00,2,    0.37,2,   2.338,2,   1.286,2,  2076.7,2,  2341.6,2,  -9.0000,9,-999.0000,9, -999.00,9, -999.00,9,  -999.0,9,  -999.0,-999.000,9,-999.000,   0.681,2,  -9.0000,-999.0000,  17.1072,   -9.00
  316N145_7,       I08N,     340,          1,         29,         29,2,19950323,       1318,   -17.0002,    80.0007,       5025,   338.2,  14.1286,  35.4141,2,  35.4354,2,    219.1,2,   218.2,2,    4.08,2,    5.82,2,    0.00,2,    0.53,2,   2.654,2,   1.420,2,  2095.2,2,  2352.5,3,  -9.0000,9,-999.0000,9, -999.00,9, -999.00,9,  -999.0,9,  -999.0,-999.000,9,-999.000,   0.634,2,  -9.0000,-999.0000,  14.0790,   -9.00
  316N145_7,       I08N,     340,          1,         28,         28,2,19950323,       1318,   -17.0002,    80.0007,       5025,   408.4,  11.9302,  35.0837,2,  35.0919,2,    213.1,2,   217.8,2,    6.63,2,   10.93,2,    0.00,2,    0.83,2,   2.531,2,   1.320,2,  2107.3,2,  2313.5,2,  -9.0000,9,-999.0000,9, -999.00,9, -999.00,9,  -999.0,9,  -999.0,-999.000,9,-999.000,   1.015,2,  -9.0000,-999.0000,  11.8766,   -9.00
  316N145_7,       I08N,     340,          1,         27,         27,2,19950323,       1318,   -17.0002,    80.0007,       5025,   509.1,  10.0401,  34.8038,2,  34.8027,2,    222.7,2,   226.1,2,    7.31,2,   15.10,2,    0.00,2,    1.07,2,   2.341,2,   1.218,2,  2116.4,2,  2309.5,2,  -9.0000,9,-999.0000,9, -999.00,9, -999.00,9,  -999.0,9,  -999.0,-999.000,9,-999.000,   1.225,2,  -9.0000,-999.0000,   9.9801,   -9.00
  316N145_7,       I08N,     340,          1,         26,         26,2,19950323,       1318,   -17.0002,    80.0007,       5025,   609.7,   8.3562,  34.6097,2,  34.6183,2,    209.5,2,   208.7,2,   12.78,2,   20.89,2,    0.00,2,    1.44,2,   1.471,2,   0.729,2,  2136.9,2,  2296.7,2,  -9.0000,9,-999.0000,9, -999.00,9, -999.00,9,  -999.0,9,  -999.0,-999.000,9,-999.000,   1.179,2,  -9.0000,-999.0000,   8.2916,   -9.00
  316N145_7,       I08N,     340,          1,         25,         25,2,19950323,       1318,   -17.0002,    80.0007,       5025,   710.3,   6.7067,  34.5626,2,  34.5606,2,    155.0,2,   150.0,2,   40.80,2,   29.90,2,    0.00,2,    2.07,2,   0.277,3,   0.128,2,  2203.5,2,  2322.7,2,  -9.0000,9,-999.0000,9, -999.00,9, -999.00,9,  -999.0,9,  -999.0,-999.000,9,-999.000,   0.625,2,  -9.0000,-999.0000,   6.6397,   -9.00
  316N145_7,       I08N,     340,          1,         24,         24,2,19950323,       1318,   -17.0002,    80.0007,       5025,   810.5,   6.0560,  34.6352,2,  34.6356,2,    112.2,2,   106.4,2,   67.59,2,   34.36,2,    0.00,2,    2.45,2,   0.025,3,   0.015,6,  2255.4,2,  2342.7,2,  -9.0000,9,-999.0000,9, -999.00,9, -999.00,9,  -999.0,9,  -999.0,-999.000,9,-999.000,   0.102,6,  -9.0000,-999.0000,   5.9829,   -9.00
  316N145_7,       I08N,     340,          1,         23,         23,2,19950323,       1318,   -17.0002,    80.0007,       5025,   910.8,   5.6057,  34.6701,2,  34.6726,2,     94.8,7,    93.9,2,   82.30,2,   35.90,2,    0.00,2,    2.59,2,  -0.006,3,   0.004,2,  2275.8,2,  2367.7,2,  -9.0000,9,-999.0000,9, -999.00,9, -999.00,9,  -999.0,9,  -999.0,-999.000,9,-999.000,   0.014,2,  -9.0000,-999.0000,   5.5260,   -9.00
  316N145_7,       I08N,     340,          1,         22,         22,2,19950323,       1318,   -17.0002,    80.0007,       5025,  1013.3,   5.2545,  34.6837,2,  34.6844,2,     94.6,7,    94.5,2,   88.22,2,   36.18,2,    0.00,2,    2.61,2,  -0.011,3,  -0.002,2,  2282.7,2,  2364.3,2,  -9.0000,9,-999.0000,9, -999.00,9, -999.00,9,  -999.0,9,  -999.0,-999.000,9,-999.000,   0.028,2,  -9.0000,-999.0000,   5.1677,   -9.00
  316N145_7,       I08N,     340,          1,         21,         21,2,19950323,       1318,   -17.0002,    80.0007,       5025,  1136.8,   4.8042,  34.6837,2,  34.6849,2,     97.2,7,    98.8,2,   94.16,2,   36.37,2,    0.00,2,    2.63,2,-999.000,9,-999.000,9,  2287.6,2,  2373.0,2,  -9.0000,9,-999.0000,9, -999.00,9, -999.00,9,  -999.0,9,  -999.0,-999.000,9,-999.000,-999.000,9,  -9.0000,-999.0000,   4.7098,   -9.00
  316N145_7,       I08N,     340,          1,         20,         20,2,19950323,       1318,   -17.0002,    80.0007,       5025,  1288.3,   4.2957,  34.6880,2,  34.6895,2,    107.3,7,   108.6,2,   97.57,2,   36.12,2,    0.00,2,    2.62,2,  -0.008,3,   0.000,2,  2291.6,2,  2370.8,2,  -9.0000,9,-999.0000,9, -999.00,9, -999.00,9,  -999.0,9,  -999.0,-999.000,9,-999.000,   0.010,2,  -9.0000,-999.0000,   4.1922,   -9.00
  316N145_7,       I08N,     340,          1,         19,         19,2,19950323,       1318,   -17.0002,    80.0007,       5025,  1441.0,   3.8204,  34.6958,2,  34.6983,2,    116.7,7,   117.9,2,  100.57,2,   35.83,2,    0.00,2,    2.58,2,-999.000,9,-999.000,9,  2287.9,2,  2379.4,2,  -9.0000,9,-999.0000,9, -999.00,9, -999.00,9,  -999.0,9,  -999.0,-999.000,9,-999.000,-999.000,9,  -9.0000,-999.0000,   3.7082,   -9.00
  316N145_7,       I08N,     340,          1,         18,         18,2,19950323,       1318,   -17.0002,    80.0007,       5025,  1617.3,   3.2834,  34.7084,2,  34.7091,2,    126.9,7,   127.6,2,  106.53,2,   35.49,2,    0.00,2,    2.55,2,-999.000,9,-999.000,9,  2294.0,2,  2382.3,2,  -9.0000,9,-999.0000,9, -999.00,9, -999.00,9,  -999.0,9,  -999.0,-999.000,9,-999.000,-999.000,9,  -9.0000,-999.0000,   3.1619,   -9.00
  316N145_7,       I08N,     340,          1,         17,         17,2,19950323,       1318,   -17.0002,    80.0007,       5025,  1819.6,   2.8716,  34.7213,2,  34.7213,2,    137.5,7,   138.2,2,  109.97,2,   34.85,2,    0.00,2,    2.50,2,-999.000,9,-999.000,9,  2292.1,2,  2387.6,2,  -9.0000,9,-999.0000,9, -999.00,9, -999.00,9,  -999.0,9,  -999.0,-999.000,9,-999.000,-999.000,9,  -9.0000,-999.0000,   2.7377,   -9.00
  316N145_7,       I08N,     340,          1,         16,         16,2,19950323,       1318,   -17.0002,    80.0007,       5025,  2023.5,   2.4761,  34.7272,2,  34.7282,2,    148.9,7,   149.6,2,  113.20,2,   34.42,2,    0.00,2,    2.45,2,   0.030,3,   0.007,3,  2292.0,2,  2389.3,2,  -9.0000,9,-999.0000,9, -999.00,9, -999.00,9,  -999.0,9,  -999.0,-999.000,9,-999.000,   0.018,2,  -9.0000,-999.0000,   2.3301,   -9.00
  316N145_7,       I08N,     340,          1,         15,         15,2,19950323,       1318,   -17.0002,    80.0007,       5025,  2225.5,   2.2216,  34.7288,2,  34.7296,2,    156.6,7,   156.8,2,  113.23,2,   34.22,2,    0.00,2,    2.42,2,-999.000,9,-999.000,9,  2291.1,2,  2390.3,2,  -9.0000,9,-999.0000,9, -999.00,9, -999.00,9,  -999.0,9,  -999.0,-999.000,9,-999.000,-999.000,9,  -9.0000,-999.0000,   2.0618,   -9.00
  316N145_7,       I08N,     340,          1,         14,         14,2,19950323,       1318,   -17.0002,    80.0007,       5025,  2427.7,   2.0282,  34.7291,2,  34.7303,2,    163.2,7,   162.5,2,  116.26,2,   34.02,2,    0.00,2,    2.39,2,-999.000,9,-999.000,9,  2290.2,2,  2392.2,2,  -9.0000,9,-999.0000,9, -999.00,9, -999.00,9,  -999.0,9,  -999.0,-999.000,9,-999.000,-999.000,9,  -9.0000,-999.0000,   1.8537,   -9.00
  316N145_7,       I08N,     340,          1,         13,         13,2,19950323,       1318,   -17.0002,    80.0007,       5025,  2631.1,   1.8967,  34.7283,2,  34.7292,2,    167.8,7,   167.6,2,  117.58,2,   33.87,2,    0.00,2,    2.38,2,-999.000,9,-999.000,9,  2288.3,2,  2402.4,2,  -9.0000,9,-999.0000,9, -999.00,9, -999.00,9,  -999.0,9,  -999.0,-999.000,9,-999.000,-999.000,9,  -9.0000,-999.0000,   1.7060,   -9.00
  316N145_7,       I08N,     340,          1,         12,         12,2,19950323,       1318,   -17.0002,    80.0007,       5025,  2833.7,   1.7718,  34.7272,2,  34.7280,2,    173.0,7,   172.6,2,  118.68,2,   33.63,2,    0.00,2,    2.35,2,-999.000,9,-999.000,9,  2286.5,2,  2396.2,2,  -9.0000,9,-999.0000,9, -999.00,9, -999.00,9,  -999.0,9,  -999.0,-999.000,9,-999.000,-999.000,9,  -9.0000,-999.0000,   1.5647,   -9.00
  316N145_7,       I08N,     340,          1,         11,         11,2,19950323,       1318,   -17.0002,    80.0007,       5025,  3037.4,   1.6637,  34.7262,2,  34.7264,2,    174.2,7,   174.1,2,  121.50,2,   33.62,2,    0.00,2,    2.35,2,-999.000,9,-999.000,9,  2290.4,2,  2401.7,2,  -9.0000,9,-999.0000,9, -999.00,9, -999.00,9,  -999.0,9,  -999.0,-999.000,9,-999.000,-999.000,9,  -9.0000,-999.0000,   1.4395,   -9.00
  316N145_7,       I08N,     340,          1,         10,         10,2,19950323,       1318,   -17.0002,    80.0007,       5025,  3241.1,   1.5725,  34.7245,2,  34.7248,2,    177.2,7,   177.2,2,  122.61,2,   33.47,2,    0.00,2,    2.33,2,-999.000,9,-999.000,9,  2290.7,2,  2398.8,2,  -9.0000,9,-999.0000,9, -999.00,9, -999.00,9,  -999.0,9,  -999.0,-999.000,9,-999.000,-999.000,9,  -9.0000,-999.0000,   1.3304,   -9.00
  316N145_7,       I08N,     340,          1,          9,          9,2,19950323,       1318,   -17.0002,    80.0007,       5025,  3446.3,   1.4876,  34.7231,2,  34.7225,2,    179.3,7,   179.0,2,  124.58,2,   33.42,2,    0.00,2,    2.33,2,-999.000,9,-999.000,9,  2292.4,2,  2400.7,2,  -9.0000,9,-999.0000,9, -999.00,9, -999.00,9,  -999.0,9,  -999.0,-999.000,9,-999.000,-999.000,9,  -9.0000,-999.0000,   1.2270,   -9.00
  316N145_7,       I08N,     340,          1,          8,          8,2,19950323,       1318,   -17.0002,    80.0007,       5025,  3647.7,   1.4279,  34.7216,2,  34.7215,2,    181.6,7,   181.6,2,  125.48,2,   33.42,2,    0.00,2,    2.33,2,   0.024,3,  -0.002,2,  2290.3,2,  2400.0,2,  -9.0000,9,-999.0000,9, -999.00,9, -999.00,9,  -999.0,9,  -999.0,-999.000,9,-999.000,   0.003,2,  -9.0000,-999.0000,   1.1482,   -9.00
  316N145_7,       I08N,     340,          1,          7,          7,2,19950323,       1318,   -17.0002,    80.0007,       5025,  3853.9,   1.3913,  34.7200,2,  34.7199,2,    182.6,7,   182.8,2,  127.24,2,   33.41,2,    0.00,2,    2.32,2,-999.000,9,-999.000,9,  2291.8,2,  2405.6,2,  -9.0000,9,-999.0000,9, -999.00,9, -999.00,9,  -999.0,9,  -999.0,-999.000,9,-999.000,-999.000,9,  -9.0000,-999.0000,   1.0910,   -9.00
  316N145_7,       I08N,     340,          1,          6,          6,2,19950323,       1318,   -17.0002,    80.0007,       5025,  4059.1,   1.3764,  34.7187,2,  34.7191,2,    182.4,7,   183.1,2,  129.00,2,   33.50,2,    0.00,2,    2.33,2,-999.000,9,-999.000,9,  2293.5,2,  2403.2,2,  -9.0000,9,-999.0000,9, -999.00,9, -999.00,9,  -999.0,9,  -999.0,-999.000,9,-999.000,-999.000,9,  -9.0000,-999.0000,   1.0543,   -9.00
  316N145_7,       I08N,     340,          1,          5,          5,2,19950323,       1318,   -17.0002,    80.0007,       5025,  4289.1,   1.3804,  34.7181,2,  34.7178,2,    182.5,7,   183.0,2,  130.12,2,   33.50,2,    0.00,2,    2.34,2,-999.000,9,-999.000,9,  2295.7,2,  2408.2,2,  -9.0000,9,-999.0000,9, -999.00,9, -999.00,9,  -999.0,9,  -999.0,-999.000,9,-999.000,-999.000,9,  -9.0000,-999.0000,   1.0328,   -9.00
  316N145_7,       I08N,     340,          1,          4,          4,2,19950323,       1318,   -17.0002,    80.0007,       5025,  4519.4,   1.3937,  34.7177,2,  34.7176,2,    182.6,7,   182.5,2,  130.37,2,   33.49,2,    0.00,2,    2.33,2,-999.000,9,-999.000,9,  2296.0,2,  2407.8,2,  -9.0000,9,-999.0000,9, -999.00,9, -999.00,9,  -999.0,9,  -999.0,-999.000,9,-999.000,-999.000,9,  -9.0000,-999.0000,   1.0196,   -9.00
  316N145_7,       I08N,     340,          1,          3,          3,2,19950323,       1318,   -17.0002,    80.0007,       5025,  4749.2,   1.4103,  34.7173,2,  34.7166,2,    182.9,7,   182.5,2,  131.27,2,   33.63,2,    0.00,2,    2.34,2,-999.000,9,-999.000,9,  2296.6,2,  2409.8,2,  -9.0000,9,-999.0000,9, -999.00,9, -999.00,9,  -999.0,9,  -999.0,-999.000,9,-999.000,-999.000,9,  -9.0000,-999.0000,   1.0089,   -9.00
  316N145_7,       I08N,     340,          1,          2,          2,2,19950323,       1318,   -17.0002,    80.0007,       5025,  4980.6,   1.4323,  34.7176,2,  34.7172,2,    182.6,7,   183.2,2,  131.10,2,   33.68,2,    0.00,2,    2.33,2,-999.000,9,-999.000,9,  2297.1,2,  2407.0,2,  -9.0000,9,-999.0000,9, -999.00,9, -999.00,9,  -999.0,9,  -999.0,-999.000,9,-999.000,-999.000,9,  -9.0000,-999.0000,   1.0025,   -9.00
  316N145_7,       I08N,     340,          1,          1,          1,2,19950323,       1318,   -17.0002,    80.0007,       5025,  5121.4,   1.4399,  34.7171,2,  34.7168,2,    184.4,7,   184.0,2,  130.92,2,   33.58,2,    0.00,2,    2.33,2,   0.098,3,   0.003,2,  2295.9,2,  2407.2,2,  -9.0000,9,-999.0000,9, -999.00,9, -999.00,9,  -999.0,9,  -999.0,-999.000,9,-999.000,  -0.001,2,  -9.0000,-999.0000,   0.9927,   -9.00