BOTTLE,20211124CCHSIORKP
EXPOCODE,SECT_ID,STNNBR,CASTNO,SAMPNO,BTLNBR,BTLNBR_FLAG_W,DATE,TIME,LATITUDE,LONGITUDE,DEPTH,CTDPRS,CTDTMP,CTDSAL,CTDSAL_FLAG_W,SALNTY,SALNTY_FLAG_W,CTDOXY,CTDOXY_FLAG_W,OXYGEN,OXYGEN_FLAG_W,SILCAT,SILCAT_FLAG_W,NITRAT,NITRAT_FLAG_W,NITRIT,NITRIT_FLAG_W,PHSPHT,PHSPHT_FLAG_W,CFC-11,CFC-11_FLAG_W,CFC-12,CFC-12_FLAG_W,TCARBN,TCARBN_FLAG_W,ALKALI,ALKALI_FLAG_W,TRITUM,TRITUM_FLAG_W,HELIUM,HELIUM_FLAG_W,DELHE3,DELHE3_FLAG_W,DELC13,DELC13_FLAG_W,DELC14,DELC14_FLAG_W,C14ERR,NEON,NEON_FLAG_W,NEONER,CCL4,CCL4_FLAG_W,TRITER,HELIER,THETA,DELHER
,,,,,,,,,,,METERS,DBAR,ITS-90,PSS-78,,PSS-78,,UMOL/KG,,UMOL/KG,,UMOL/KG,,UMOL/KG,,UMOL/KG,,UMOL/KG,,PMOL/KG,,PMOL/KG,,UMOL/KG,,UMOL/KG,,TU,,NMOL/KG,,PERCNT,,/MILLE,,/MILLE,,/MILLE,NMOL/KG,,NMOL/KG,PMOL/KG,,TU,NMOL/KG,DEG C,PERCNT
  316N145_7,      TRANS,     392,          1,         30,         30,2,19950403,       0907,   -28.8855,    87.2733,       3065,     2.1,  23.3717,  36.0824,2,  36.0811,2,    214.2,2,   214.8,2,    2.04,2,    0.20,2,    0.00,2,    0.13,2,-999.000,9,-999.000,9,  1993.2,2,  2399.9,2,  -9.0000,9,-999.0000,9, -999.00,9, -999.00,9,  -999.0,9,  -999.0,-999.000,9,-999.000,-999.000,9,  -9.0000,-999.0000,  23.3712,   -9.00
  316N145_7,      TRANS,     392,          1,         29,         29,2,19950403,       0907,   -28.8855,    87.2733,       3065,    29.2,  23.2934,  36.0798,2,  36.0722,2,    207.3,2,   215.2,2,    2.03,2,    0.20,2,    0.00,2,    0.13,2,-999.000,9,-999.000,9,  2000.5,2,  2392.9,2,  -9.0000,9,-999.0000,9, -999.00,9, -999.00,9,  -999.0,9,  -999.0,-999.000,9,-999.000,-999.000,9,  -9.0000,-999.0000,  23.2873,   -9.00
  316N145_7,      TRANS,     392,          1,         28,         28,2,19950403,       0907,   -28.8855,    87.2733,       3065,    65.0,  21.7186,  35.9158,2,  35.8710,2,    223.2,2,   236.7,2,    2.02,2,    0.20,2,    0.00,2,    0.13,2,-999.000,9,-999.000,9,  2119.9,4,  2360.3,2,  -9.0000,9,-999.0000,9, -999.00,9, -999.00,9,  -999.0,9,  -999.0,-999.000,9,-999.000,-999.000,9,  -9.0000,-999.0000,  21.7059,   -9.00
  316N145_7,      TRANS,     392,          1,         27,         27,2,19950403,       0907,   -28.8855,    87.2733,       3065,    95.4,  18.0917,  35.7184,2,  35.7191,2,    250.3,2,   251.3,2,    2.01,2,    0.20,2,    0.00,2,    0.15,2,-999.000,9,-999.000,9,  2042.5,2,  2340.7,2,  -9.0000,9,-999.0000,9, -999.00,9, -999.00,9,  -999.0,9,  -999.0,-999.000,9,-999.000,-999.000,9,  -9.0000,-999.0000,  18.0752,   -9.00
  316N145_7,      TRANS,     392,          1,         26,         26,2,19950403,       0907,   -28.8855,    87.2733,       3065,   145.0,  15.9848,  35.5966,2,  35.5979,2,    240.9,2,   243.0,2,    1.79,2,    0.19,2,    0.01,2,    0.23,2,-999.000,9,-999.000,9,  2063.4,2,  2359.9,3,  -9.0000,9,-999.0000,9, -999.00,9, -999.00,9,  -999.0,9,  -999.0,-999.000,9,-999.000,-999.000,9,  -9.0000,-999.0000,  15.9618,   -9.00
  316N145_7,      TRANS,     392,          1,         25,         25,2,19950403,       0907,   -28.8855,    87.2733,       3065,   194.4,  14.9967,  35.5041,2,  35.5028,2,    234.0,2,   233.6,2,    1.99,2,    1.92,2,    0.18,2,    0.35,2,-999.000,9,-999.000,9,  2079.5,2,  2343.0,2,  -9.0000,9,-999.0000,9, -999.00,9, -999.00,9,  -999.0,9,  -999.0,-999.000,9,-999.000,-999.000,9,  -9.0000,-999.0000,  14.9672,   -9.00
  316N145_7,      TRANS,     392,          1,         24,         24,2,19950403,       0907,   -28.8855,    87.2733,       3065,   244.6,  14.2065,  35.4445,2,  35.4411,2,    222.6,2,   221.0,2,    2.83,2,    5.52,2,    0.01,2,    0.51,2,-999.000,9,-999.000,9,  2096.6,2,  2331.1,2,  -9.0000,9,-999.0000,9, -999.00,9, -999.00,9,  -999.0,9,  -999.0,-999.000,9,-999.000,-999.000,9,  -9.0000,-999.0000,  14.1706,   -9.00
  316N145_7,      TRANS,     392,          1,         23,         23,2,19950403,       0907,   -28.8855,    87.2733,       3065,   294.3,  12.8968,  35.2554,2,  35.2507,2,    222.2,2,   222.0,2,    3.46,2,    8.31,2,    0.00,2,    0.67,2,-999.000,9,-999.000,9,  2101.8,2,  -999.0,5,  -9.0000,9,-999.0000,9, -999.00,9, -999.00,9,  -999.0,9,  -999.0,-999.000,9,-999.000,-999.000,9,  -9.0000,-999.0000,  12.8563,   -9.00
  316N145_7,      TRANS,     392,          1,         22,         22,2,19950403,       0907,   -28.8855,    87.2733,       3065,   354.2,  11.1156,  34.9922,2,  34.9919,2,    223.9,2,   225.7,2,    4.93,2,   12.13,2,    0.00,2,    0.90,2,-999.000,9,-999.000,9,  2107.9,2,  2310.0,2,  -9.0000,9,-999.0000,9, -999.00,9, -999.00,9,  -999.0,9,  -999.0,-999.000,9,-999.000,-999.000,9,  -9.0000,-999.0000,  11.0714,   -9.00
  316N145_7,      TRANS,     392,          1,         21,         21,2,19950403,       0907,   -28.8855,    87.2733,       3065,   424.9,   9.8371,  34.8032,2,  34.8017,2,    222.6,2,   223.9,2,    7.04,2,   15.76,2,    0.00,2,    1.13,2,-999.000,9,-999.000,9,  -999.0,9,  -999.0,9,  -9.0000,9,-999.0000,9, -999.00,9, -999.00,9,  -999.0,9,  -999.0,-999.000,9,-999.000,-999.000,9,  -9.0000,-999.0000,   9.7879,   -9.00
  316N145_7,      TRANS,     392,          1,         20,         20,2,19950403,       0907,   -28.8855,    87.2733,       3065,   505.4,   8.3005,  34.5990,2,  34.5993,2,    212.4,2,   213.3,2,   11.27,2,   20.87,2,    0.00,2,    1.44,2,-999.000,9,-999.000,9,  2136.5,2,  2296.8,2,  -9.0000,9,-999.0000,9, -999.00,9, -999.00,9,  -999.0,9,  -999.0,-999.000,9,-999.000,-999.000,9,  -9.0000,-999.0000,   8.2475,   -9.00
  316N145_7,      TRANS,     392,          1,         19,         19,2,19950403,       0907,   -28.8855,    87.2733,       3065,   606.6,   7.2136,  34.5059,2,  34.5052,2,    201.2,2,   200.5,2,   17.61,2,   24.75,2,    0.00,2,    1.69,2,-999.000,9,-999.000,9,  2155.7,2,  2288.2,2,  -9.0000,9,-999.0000,9, -999.00,9, -999.00,9,  -999.0,9,  -999.0,-999.000,9,-999.000,-999.000,9,  -9.0000,-999.0000,   7.1546,   -9.00
  316N145_7,      TRANS,     392,          1,         18,         18,2,19950403,       0907,   -28.8855,    87.2733,       3065,   707.5,   5.8771,  34.4374,2,  34.4383,2,    191.5,2,   190.0,2,   27.97,2,   28.50,2,    0.00,2,    1.95,2,-999.000,9,-999.000,9,  2178.6,2,  2277.7,3,  -9.0000,9,-999.0000,9, -999.00,9, -999.00,9,  -999.0,9,  -999.0,-999.000,9,-999.000,-999.000,9,  -9.0000,-999.0000,   5.8150,   -9.00
  316N145_7,      TRANS,     392,          1,         17,         17,2,19950403,       0907,   -28.8855,    87.2733,       3065,   807.8,   5.0506,  34.4209,2,  34.4214,2,    183.9,2,   181.1,2,   38.55,2,   30.82,2,    0.00,2,    2.13,2,-999.000,9,-999.000,9,  -999.0,5,  2303.9,2,  -9.0000,9,-999.0000,9, -999.00,9, -999.00,9,  -999.0,9,  -999.0,-999.000,9,-999.000,-999.000,9,  -9.0000,-999.0000,   4.9843,   -9.00
  316N145_7,      TRANS,     392,          1,         16,         16,2,19950403,       0907,   -28.8855,    87.2733,       3065,   909.8,   4.4546,  34.4276,2,  34.4296,2,    175.6,2,   173.5,2,   48.27,2,   32.41,2,    0.00,2,    2.26,2,-999.000,9,-999.000,9,  2216.2,2,  2319.3,2,  -9.0000,9,-999.0000,9, -999.00,9, -999.00,9,  -999.0,9,  -999.0,-999.000,9,-999.000,-999.000,9,  -9.0000,-999.0000,   4.3833,   -9.00
  316N145_7,      TRANS,     392,          1,         15,         15,2,19950403,       0907,   -28.8855,    87.2733,       3065,  1009.3,   3.9961,  34.4541,2,  34.4538,2,    165.8,2,   166.0,2,   57.14,2,   33.50,2,    0.00,2,    2.34,2,-999.000,9,-999.000,9,  2230.8,2,  2337.3,2,  -9.0000,9,-999.0000,9, -999.00,9, -999.00,9,  -999.0,9,  -999.0,-999.000,9,-999.000,-999.000,9,  -9.0000,-999.0000,   3.9198,   -9.00
  316N145_7,      TRANS,     392,          1,         14,         14,2,19950403,       0907,   -28.8855,    87.2733,       3065,  1111.2,   3.7560,  34.4956,2,  34.4956,2,    158.4,2,   155.9,2,   66.44,2,   34.34,2,    0.00,2,    2.41,2,-999.000,9,-999.000,9,  2248.5,2,  2335.3,2,  -9.0000,9,-999.0000,9, -999.00,9, -999.00,9,  -999.0,9,  -999.0,-999.000,9,-999.000,-999.000,9,  -9.0000,-999.0000,   3.6731,   -9.00
  316N145_7,      TRANS,     392,          1,         13,         13,2,19950403,       0907,   -28.8855,    87.2733,       3065,  1262.9,   3.4162,  34.5477,2,  34.5476,2,    151.3,2,   149.6,2,   75.54,2,   34.73,2,    0.00,2,    2.45,2,-999.000,9,-999.000,9,  2258.5,2,  2344.5,2,  -9.0000,9,-999.0000,9, -999.00,9, -999.00,9,  -999.0,9,  -999.0,-999.000,9,-999.000,-999.000,9,  -9.0000,-999.0000,   3.3237,   -9.00
  316N145_7,      TRANS,     392,          1,         12,         12,2,19950403,       0907,   -28.8855,    87.2733,       3065,  1463.3,   3.0660,  34.6022,2,  34.6026,2,    150.9,2,   150.7,2,   82.94,2,   34.58,2,    0.00,2,    2.44,2,-999.000,9,-999.000,9,  2264.1,2,  2355.2,2,  -9.0000,9,-999.0000,9, -999.00,9, -999.00,9,  -999.0,9,  -999.0,-999.000,9,-999.000,-999.000,9,  -9.0000,-999.0000,   2.9605,   -9.00
  316N145_7,      TRANS,     392,          1,         11,         11,2,19950403,       0907,   -28.8855,    87.2733,       3065,  1565.4,   2.8944,  34.6350,2,  34.6339,2,    153.5,2,   152.4,2,   86.96,2,   34.33,2,    0.00,2,    2.42,2,-999.000,9,-999.000,9,  2266.1,2,  2356.6,2,  -9.0000,9,-999.0000,9, -999.00,9, -999.00,9,  -999.0,9,  -999.0,-999.000,9,-999.000,-999.000,9,  -9.0000,-999.0000,   2.7822,   -9.00
  316N145_7,      TRANS,     392,          1,         10,         10,2,19950403,       0907,   -28.8855,    87.2733,       3065,  1768.6,   2.6392,  34.6782,2,  34.6777,2,    156.8,2,   157.0,2,   93.53,2,   33.83,2,    0.00,2,    2.38,2,-999.000,9,-999.000,9,  2270.9,2,  2367.1,2,  -9.0000,9,-999.0000,9, -999.00,9, -999.00,9,  -999.0,9,  -999.0,-999.000,9,-999.000,-999.000,9,  -9.0000,-999.0000,   2.5130,   -9.00
  316N145_7,      TRANS,     392,          1,          9,          9,2,19950403,       0907,   -28.8855,    87.2733,       3065,  1868.9,   2.5210,  34.6939,2,  34.6940,2,    158.9,2,   159.1,2,   96.91,2,   33.57,2,    0.00,2,    2.36,2,-999.000,9,-999.000,9,  2272.7,2,  2365.3,2,  -9.0000,9,-999.0000,9, -999.00,9, -999.00,9,  -999.0,9,  -999.0,-999.000,9,-999.000,-999.000,9,  -9.0000,-999.0000,   2.3878,   -9.00
  316N145_7,      TRANS,     392,          1,          8,          8,2,19950403,       0907,   -28.8855,    87.2733,       3065,  2020.5,   2.3190,  34.7111,2,  34.7107,2,    163.4,2,   163.6,2,  101.58,2,   33.32,2,    0.00,2,    2.33,2,-999.000,9,-999.000,9,  2275.5,2,  2372.9,2,  -9.0000,9,-999.0000,9, -999.00,9, -999.00,9,  -999.0,9,  -999.0,-999.000,9,-999.000,-999.000,9,  -9.0000,-999.0000,   2.1757,   -9.00
  316N145_7,      TRANS,     392,          1,          7,          7,2,19950403,       0907,   -28.8855,    87.2733,       3065,  2173.1,   2.1267,  34.7208,2,  34.7207,2,    168.8,2,   169.4,2,  104.54,2,   33.02,2,    0.00,2,    2.31,2,-999.000,9,-999.000,9,  2260.7,2,  2378.8,2,  -9.0000,9,-999.0000,9, -999.00,9, -999.00,9,  -999.0,9,  -999.0,-999.000,9,-999.000,-999.000,9,  -9.0000,-999.0000,   1.9731,   -9.00
  316N145_7,      TRANS,     392,          1,          6,          6,2,19950403,       0907,   -28.8855,    87.2733,       3065,  2323.0,   1.9787,  34.7255,2,  34.7252,2,    174.3,2,   175.1,2,  105.58,2,   32.72,2,    0.00,2,    2.28,2,-999.000,9,-999.000,9,  2267.7,2,  2377.0,2,  -9.0000,9,-999.0000,9, -999.00,9, -999.00,9,  -999.0,9,  -999.0,-999.000,9,-999.000,-999.000,9,  -9.0000,-999.0000,   1.8144,   -9.00
  316N145_7,      TRANS,     392,          1,          5,          5,2,19950403,       0907,   -28.8855,    87.2733,       3065,  2474.4,   1.8320,  34.7284,2,  34.7278,2,    179.0,2,   179.3,2,  107.68,2,   32.52,2,    0.00,2,    2.27,2,-999.000,9,-999.000,9,  2267.9,2,  2381.0,2,  -9.0000,9,-999.0000,9, -999.00,9, -999.00,9,  -999.0,9,  -999.0,-999.000,9,-999.000,-999.000,9,  -9.0000,-999.0000,   1.6569,   -9.00
  316N145_7,      TRANS,     392,          1,          4,          4,2,19950403,       0907,   -28.8855,    87.2733,       3065,  2630.3,   1.7245,  34.7286,2,  34.7286,2,    181.4,2,   182.4,2,  110.01,2,   32.47,2,    0.00,2,    2.26,2,-999.000,9,-999.000,9,  2273.4,2,  2378.7,2,  -9.0000,9,-999.0000,9, -999.00,9, -999.00,9,  -999.0,9,  -999.0,-999.000,9,-999.000,-999.000,9,  -9.0000,-999.0000,   1.5372,   -9.00
  316N145_7,      TRANS,     392,          1,          3,          3,2,19950403,       0907,   -28.8855,    87.2733,       3065,  2782.5,   1.5981,  34.7276,2,  34.7270,2,    184.7,2,   184.1,2,  113.63,2,   32.56,2,    0.00,2,    2.27,2,-999.000,9,-999.000,9,  2271.1,2,  2385.5,2,  -9.0000,9,-999.0000,9, -999.00,9, -999.00,9,  -999.0,9,  -999.0,-999.000,9,-999.000,-999.000,9,  -9.0000,-999.0000,   1.3994,   -9.00
  316N145_7,      TRANS,     392,          1,          2,          2,2,19950403,       0907,   -28.8855,    87.2733,       3065,  2935.0,   1.5110,  34.7260,2,  34.7246,2,    185.5,2,   185.3,2,  115.75,2,   32.56,2,    0.00,2,    2.27,2,-999.000,9,-999.000,9,  2276.6,2,  2388.2,2,  -9.0000,9,-999.0000,9, -999.00,9, -999.00,9,  -999.0,9,  -999.0,-999.000,9,-999.000,-999.000,9,  -9.0000,-999.0000,   1.2999,   -9.00
  316N145_7,      TRANS,     392,          1,          1,          1,2,19950403,       0907,   -28.8855,    87.2733,       3065,  3089.2,   1.4738,  34.7254,2,  34.7254,2,    188.2,2,   187.2,2,  116.14,2,   32.56,2,    0.00,2,    2.27,2,-999.000,9,-999.000,9,  2275.4,2,  2379.9,2,  -9.0000,9,-999.0000,9, -999.00,9, -999.00,9,  -999.0,9,  -999.0,-999.000,9,-999.000,-999.000,9,  -9.0000,-999.0000,   1.2488,   -9.00