BOTTLE,20211124CCHSIORKP
EXPOCODE,SECT_ID,STNNBR,CASTNO,SAMPNO,BTLNBR,BTLNBR_FLAG_W,DATE,TIME,LATITUDE,LONGITUDE,DEPTH,CTDPRS,CTDTMP,CTDSAL,CTDSAL_FLAG_W,SALNTY,SALNTY_FLAG_W,CTDOXY,CTDOXY_FLAG_W,OXYGEN,OXYGEN_FLAG_W,SILCAT,SILCAT_FLAG_W,NITRAT,NITRAT_FLAG_W,NITRIT,NITRIT_FLAG_W,PHSPHT,PHSPHT_FLAG_W,CFC-11,CFC-11_FLAG_W,CFC-12,CFC-12_FLAG_W,TCARBN,TCARBN_FLAG_W,ALKALI,ALKALI_FLAG_W,TRITUM,TRITUM_FLAG_W,HELIUM,HELIUM_FLAG_W,DELHE3,DELHE3_FLAG_W,DELC13,DELC13_FLAG_W,DELC14,DELC14_FLAG_W,C14ERR,NEON,NEON_FLAG_W,NEONER,CCL4,CCL4_FLAG_W,TRITER,HELIER,THETA,DELHER
,,,,,,,,,,,METERS,DBAR,ITS-90,PSS-78,,PSS-78,,UMOL/KG,,UMOL/KG,,UMOL/KG,,UMOL/KG,,UMOL/KG,,UMOL/KG,,PMOL/KG,,PMOL/KG,,UMOL/KG,,UMOL/KG,,TU,,NMOL/KG,,PERCNT,,/MILLE,,/MILLE,,/MILLE,NMOL/KG,,NMOL/KG,PMOL/KG,,TU,NMOL/KG,DEG C,PERCNT
  316N145_7,       I08N,     348,          1,         36,         36,2,19950325,       1117,   -20.9998,    79.9998,       4645,     1.9,  27.3650,  34.8581,2,  34.8579,2,    199.4,2,   201.1,2,    2.96,2,    0.10,2,    0.00,2,    0.10,2,   1.736,2,   0.966,2,  1931.8,2,  2280.0,2,  -9.0000,9,-999.0000,9, -999.00,9, -999.00,9,  -999.0,9,  -999.0,-999.000,9,-999.000,-999.000,9,  -9.0000,-999.0000,  27.3646,   -9.00
  316N145_7,       I08N,     348,          1,         35,         35,2,19950325,       1117,   -20.9998,    79.9998,       4645,    36.1,  27.3372,  34.8621,2,  34.8615,2,    194.1,2,   201.2,2,    2.98,2,    0.10,2,    0.00,2,    0.10,2,-999.000,9,-999.000,9,  1931.4,2,  2294.7,2,  -9.0000,9,-999.0000,9, -999.00,9, -999.00,9,  -999.0,9,  -999.0,-999.000,9,-999.000,-999.000,9,  -9.0000,-999.0000,  27.3289,   -9.00
  316N145_7,       I08N,     348,          1,         34,         34,2,19950325,       1117,   -20.9998,    79.9998,       4645,    77.2,  23.6688,  35.3145,2,  35.3034,2,    233.1,2,   226.5,2,    3.19,2,    0.10,2,    0.00,2,    0.10,2,   2.069,2,   1.154,2,  1976.4,2,  2307.7,2,  -9.0000,9,-999.0000,9, -999.00,9, -999.00,9,  -999.0,9,  -999.0,-999.000,9,-999.000,-999.000,9,  -9.0000,-999.0000,  23.6527,   -9.00
  316N145_7,       I08N,     348,          1,         33,         33,2,19950325,       1117,   -20.9998,    79.9998,       4645,   116.4,  21.7785,  35.4701,2,  35.4631,2,    223.9,2,   220.3,2,    3.20,2,    0.10,2,    0.00,2,    0.12,2,   2.159,2,   1.181,2,  1995.7,2,  2338.0,2,  -9.0000,9,-999.0000,9, -999.00,9, -999.00,9,  -999.0,9,  -999.0,-999.000,9,-999.000,-999.000,9,  -9.0000,-999.0000,  21.7556,   -9.00
  316N145_7,       I08N,     348,          1,         32,         32,2,19950325,       1117,   -20.9998,    79.9998,       4645,   166.1,  20.3874,  35.6352,2,  35.6339,2,    205.7,2,   203.1,2,    3.82,2,    1.06,2,    0.32,2,    0.22,2,   2.191,2,   1.190,2,  2030.9,2,  2329.0,2,  -9.0000,9,-999.0000,9, -999.00,9, -999.00,9,  -999.0,9,  -999.0,-999.000,9,-999.000,-999.000,9,  -9.0000,-999.0000,  20.3561,   -9.00
  316N145_7,       I08N,     348,          1,         31,         31,2,19950325,       1117,   -20.9998,    79.9998,       4645,   217.3,  19.0906,  35.7973,2,  35.7925,2,    207.9,2,   205.1,2,    3.43,2,    1.61,2,    0.01,2,    0.25,2,   2.327,2,   1.257,2,  2055.8,2,  2356.4,2,  -9.0000,9,-999.0000,9, -999.00,9, -999.00,9,  -999.0,9,  -999.0,-999.000,9,-999.000,-999.000,9,  -9.0000,-999.0000,  19.0515,   -9.00
  316N145_7,       I08N,     348,          1,         30,         30,2,19950325,       1117,   -20.9998,    79.9998,       4645,   292.4,  16.2667,  35.6829,2,  35.6712,2,    209.1,2,   208.7,2,    3.23,2,    3.41,2,    0.00,2,    0.39,2,   2.529,2,   1.321,2,  2085.0,2,  2342.4,2,  -9.0000,9,-999.0000,9, -999.00,9, -999.00,9,  -999.0,9,  -999.0,-999.000,9,-999.000,-999.000,9,  -9.0000,-999.0000,  16.2195,   -9.00
  316N145_7,       I08N,     348,          1,         29,         29,2,19950325,       1117,   -20.9998,    79.9998,       4645,   367.9,  13.8355,  35.3753,2,  35.3857,2,    215.5,2,   218.1,2,    3.65,2,    6.58,2,    0.00,2,    0.57,2,   2.694,2,   1.396,2,  2095.6,2,  2343.1,2,  -9.0000,9,-999.0000,9, -999.00,9, -999.00,9,  -999.0,9,  -999.0,-999.000,9,-999.000,-999.000,9,  -9.0000,-999.0000,  13.7823,   -9.00
  316N145_7,       I08N,     348,          1,         28,         28,2,19950325,       1117,   -20.9998,    79.9998,       4645,   457.8,  11.9618,  35.0939,2,  35.0985,2,    225.6,2,   228.2,2,    4.07,2,    9.95,2,    0.00,2,    0.77,2,   2.760,6,   1.401,6,  2101.9,2,  2310.1,2,  -9.0000,9,-999.0000,9, -999.00,9, -999.00,9,  -999.0,9,  -999.0,-999.000,9,-999.000,-999.000,9,  -9.0000,-999.0000,  11.9015,   -9.00
  316N145_7,       I08N,     348,          1,         27,         27,2,19950325,       1117,   -20.9998,    79.9998,       4645,   559.5,   9.9915,  34.7941,2,  34.7998,2,    227.5,2,   229.5,2,    5.71,2,   14.68,2,    0.00,2,    1.05,2,   2.526,2,   1.257,2,  2114.3,2,  2308.1,2,  -9.0000,9,-999.0000,9, -999.00,9, -999.00,9,  -999.0,9,  -999.0,-999.000,9,-999.000,-999.000,9,  -9.0000,-999.0000,   9.9256,   -9.00
  316N145_7,       I08N,     348,          1,         26,         26,2,19950325,       1117,   -20.9998,    79.9998,       4645,   660.0,   8.7351,  34.6360,2,  34.6390,2,    214.9,2,   216.5,2,    9.39,2,   19.43,2,    0.00,2,    1.34,2,   1.840,2,   0.900,2,  2131.5,2,  2290.9,2,  -9.0000,9,-999.0000,9, -999.00,9, -999.00,9,  -999.0,9,  -999.0,-999.000,9,-999.000,-999.000,9,  -9.0000,-999.0000,   8.6631,   -9.00
  316N145_7,       I08N,     348,          1,         25,         25,2,19950325,       1117,   -20.9998,    79.9998,       4645,   760.3,   7.3062,  34.5309,2,  34.5349,2,    189.5,2,   188.4,2,   21.63,2,   25.52,2,    0.00,2,    1.75,2,   0.683,2,   0.342,2,  2165.9,2,  2314.7,2,  -9.0000,9,-999.0000,9, -999.00,9, -999.00,9,  -999.0,9,  -999.0,-999.000,9,-999.000,-999.000,9,  -9.0000,-999.0000,   7.2309,   -9.00
  316N145_7,       I08N,     348,          1,         24,         24,2,19950325,       1117,   -20.9998,    79.9998,       4645,   860.1,   5.7666,  34.5020,2,  34.5054,2,    158.4,2,   154.7,2,   45.68,2,   31.46,2,    0.00,2,    2.20,2,   0.150,6,   0.076,6,  2214.9,2,  2317.9,2,  -9.0000,9,-999.0000,9, -999.00,9, -999.00,9,  -999.0,9,  -999.0,-999.000,9,-999.000,-999.000,9,  -9.0000,-999.0000,   5.6908,   -9.00
  316N145_7,       I08N,     348,          1,         23,         23,2,19950325,       1117,   -20.9998,    79.9998,       4645,   960.9,   5.0256,  34.5436,2,  34.5456,2,    135.4,2,   132.0,2,   65.24,2,   34.35,2,    0.00,2,    2.43,2,   0.031,2,   0.016,2,  2246.5,2,  2352.7,3,  -9.0000,9,-999.0000,9, -999.00,9, -999.00,9,  -999.0,9,  -999.0,-999.000,9,-999.000,-999.000,9,  -9.0000,-999.0000,   4.9456,   -9.00
  316N145_7,       I08N,     348,          1,         22,         22,2,19950325,       1117,   -20.9998,    79.9998,       4645,  1062.0,   4.5975,  34.5883,2,  34.5898,2,    123.3,2,   122.0,2,   77.48,2,   35.36,2,    0.00,2,    2.53,2,   0.007,2,   0.005,2,  2265.7,2,  2350.3,2,  -9.0000,9,-999.0000,9, -999.00,9, -999.00,9,  -999.0,9,  -999.0,-999.000,9,-999.000,-999.000,9,  -9.0000,-999.0000,   4.5117,   -9.00
  316N145_7,       I08N,     348,          1,         21,         21,2,19950325,       1117,   -20.9998,    79.9998,       4645,  1162.5,   4.3694,  34.6265,2,  34.6283,2,    117.0,2,   118.0,2,   85.85,2,   35.85,2,    0.00,2,    2.57,2,   0.008,2,   0.010,2,  2276.1,2,  2370.2,3,  -9.0000,9,-999.0000,9, -999.00,9, -999.00,9,  -999.0,9,  -999.0,-999.000,9,-999.000,-999.000,9,  -9.0000,-999.0000,   4.2765,   -9.00
  316N145_7,       I08N,     348,          1,         20,         20,2,19950325,       1117,   -20.9998,    79.9998,       4645,  1288.8,   3.9432,  34.6375,2,  34.6391,2,    123.1,2,   122.2,2,   89.72,2,   35.75,2,    0.00,2,    2.57,2,  -0.001,2,  -0.002,2,  2279.5,2,  2362.0,2,  -9.0000,9,-999.0000,9, -999.00,9, -999.00,9,  -999.0,9,  -999.0,-999.000,9,-999.000,-999.000,9,  -9.0000,-999.0000,   3.8432,   -9.00
  316N145_7,       I08N,     348,          1,         19,         19,2,19950325,       1117,   -20.9998,    79.9998,       4645,  1414.8,   3.5975,  34.6604,2,  34.6607,2,    128.8,2,   128.0,2,   93.59,2,   35.51,2,    0.00,2,    2.54,2,-999.000,9,-999.000,9,  2280.7,2,  2384.5,3,  -9.0000,9,-999.0000,9, -999.00,9, -999.00,9,  -999.0,9,  -999.0,-999.000,9,-999.000,-999.000,9,  -9.0000,-999.0000,   3.4901,   -9.00
  316N145_7,       I08N,     348,          1,         18,         18,2,19950325,       1117,   -20.9998,    79.9998,       4645,  1566.9,   3.2782,  34.6926,2,  34.6935,2,    133.7,2,   133.7,2,   99.12,2,   35.17,2,    0.00,2,    2.51,2,  -0.001,2,  -0.001,2,  2285.0,2,  2373.2,2,  -9.0000,9,-999.0000,9, -999.00,9, -999.00,9,  -999.0,9,  -999.0,-999.000,9,-999.000,-999.000,9,  -9.0000,-999.0000,   3.1611,   -9.00
  316N145_7,       I08N,     348,          1,         17,         17,2,19950325,       1117,   -20.9998,    79.9998,       4645,  1718.1,   3.0053,  34.7140,2,  34.7151,2,    137.2,2,   138.2,2,  104.44,2,   34.89,2,    0.00,2,    2.49,2,-999.000,9,-999.000,9,  2286.2,2,  2391.8,3,  -9.0000,9,-999.0000,9, -999.00,9, -999.00,9,  -999.0,9,  -999.0,-999.000,9,-999.000,-999.000,9,  -9.0000,-999.0000,   2.8784,   -9.00
  316N145_7,       I08N,     348,          1,         16,         16,2,19950325,       1117,   -20.9998,    79.9998,       4645,  1869.1,   2.7553,  34.7219,2,  34.7231,2,    143.9,2,   144.6,2,  108.13,2,   34.69,2,    0.00,2,    2.47,2,   0.002,2,   0.002,2,  2290.5,2,  2383.0,2,  -9.0000,9,-999.0000,9, -999.00,9, -999.00,9,  -999.0,9,  -999.0,-999.000,9,-999.000,-999.000,9,  -9.0000,-999.0000,   2.6187,   -9.00
  316N145_7,       I08N,     348,          1,         15,         15,2,19950325,       1117,   -20.9998,    79.9998,       4645,  2021.1,   2.5215,  34.7249,2,  34.7261,2,    150.2,2,   150.8,2,  110.16,2,   34.31,2,    0.00,2,    2.44,2,-999.000,9,-999.000,9,  2287.7,2,  2393.7,2,  -9.0000,9,-999.0000,9, -999.00,9, -999.00,9,  -999.0,9,  -999.0,-999.000,9,-999.000,-999.000,9,  -9.0000,-999.0000,   2.3750,   -9.00
  316N145_7,       I08N,     348,          1,         14,         14,2,19950325,       1117,   -20.9998,    79.9998,       4645,  2173.6,   2.3195,  34.7251,2,  34.7253,2,    157.9,2,   158.5,2,  110.96,2,   33.93,2,    0.00,2,    2.40,2,  -0.002,2,  -0.001,2,  2286.0,2,  2383.5,2,  -9.0000,9,-999.0000,9, -999.00,9, -999.00,9,  -999.0,9,  -999.0,-999.000,9,-999.000,-999.000,9,  -9.0000,-999.0000,   2.1627,   -9.00
  316N145_7,       I08N,     348,          1,         13,         13,2,19950325,       1117,   -20.9998,    79.9998,       4645,  2325.2,   2.1076,  34.7241,2,  34.7249,2,    165.3,2,   166.8,2,  110.92,2,   33.45,2,    0.00,2,    2.35,2,-999.000,9,-999.000,9,  2283.0,2,  2388.0,2,  -9.0000,9,-999.0000,9, -999.00,9, -999.00,9,  -999.0,9,  -999.0,-999.000,9,-999.000,-999.000,9,  -9.0000,-999.0000,   1.9409,   -9.00
  316N145_7,       I08N,     348,          1,         12,         12,2,19950325,       1117,   -20.9998,    79.9998,       4645,  2502.9,   1.9334,  34.7242,2,  34.7254,2,    172.3,2,   174.8,2,  110.47,2,   32.97,2,    0.00,2,    2.30,2,   0.002,2,   0.001,2,  2277.1,2,  2381.6,2,  -9.0000,9,-999.0000,9, -999.00,9, -999.00,9,  -999.0,9,  -999.0,-999.000,9,-999.000,-999.000,9,  -9.0000,-999.0000,   1.7538,   -9.00
  316N145_7,       I08N,     348,          1,         11,         11,2,19950325,       1117,   -20.9998,    79.9998,       4645,  2680.8,   1.8011,  34.7258,2,  34.7266,2,    179.6,2,   178.8,2,  111.88,2,   32.78,2,    0.00,2,    2.29,2,-999.000,9,-999.000,9,  2276.5,2,  2394.0,2,  -9.0000,9,-999.0000,9, -999.00,9, -999.00,9,  -999.0,9,  -999.0,-999.000,9,-999.000,-999.000,9,  -9.0000,-999.0000,   1.6078,   -9.00
  316N145_7,       I08N,     348,          1,         10,         10,2,19950325,       1117,   -20.9998,    79.9998,       4645,  2859.0,   1.6833,  34.7269,2,  34.7268,2,    183.1,2,   182.0,2,  113.91,2,   32.68,2,    0.00,2,    2.27,2,  -0.002,2,  -0.002,2,  2277.0,2,  2383.2,2,  -9.0000,9,-999.0000,9, -999.00,9, -999.00,9,  -999.0,9,  -999.0,-999.000,9,-999.000,-999.000,9,  -9.0000,-999.0000,   1.4757,   -9.00
  316N145_7,       I08N,     348,          1,          9,          9,2,19950325,       1117,   -20.9998,    79.9998,       4645,  3037.0,   1.5886,  34.7269,2,  34.7264,2,    184.8,2,   183.6,2,  116.37,2,   32.69,2,    0.00,2,    2.28,2,-999.000,9,-999.000,9,  2278.5,2,  2397.6,2,  -9.0000,9,-999.0000,9, -999.00,9, -999.00,9,  -999.0,9,  -999.0,-999.000,9,-999.000,-999.000,9,  -9.0000,-999.0000,   1.3661,   -9.00
  316N145_7,       I08N,     348,          1,          8,          8,2,19950325,       1117,   -20.9998,    79.9998,       4645,  3241.6,   1.4981,  34.7261,2,  34.7265,2,    185.4,2,   185.4,2,  118.82,2,   32.74,2,    0.00,2,    2.27,2,  -0.002,2,  -0.002,2,  2281.7,2,  2390.0,2,  -9.0000,9,-999.0000,9, -999.00,9, -999.00,9,  -999.0,9,  -999.0,-999.000,9,-999.000,-999.000,9,  -9.0000,-999.0000,   1.2577,   -9.00
  316N145_7,       I08N,     348,          1,          7,          7,2,19950325,       1117,   -20.9998,    79.9998,       4645,  3445.7,   1.4315,  34.7259,2,  34.7257,2,    189.9,2,   189.3,2,  118.36,2,   32.45,2,    0.00,2,    2.26,2,-999.000,9,-999.000,9,  2278.1,2,  2381.6,2,  -9.0000,9,-999.0000,9, -999.00,9, -999.00,9,  -999.0,9,  -999.0,-999.000,9,-999.000,-999.000,9,  -9.0000,-999.0000,   1.1724,   -9.00
  316N145_7,       I08N,     348,          1,          6,          6,2,19950325,       1117,   -20.9998,    79.9998,       4645,  3650.3,   1.3981,  34.7238,2,  34.7236,2,    190.0,2,   189.1,2,  120.61,2,   32.60,2,    0.00,2,    2.26,2,  -0.003,2,  -0.002,2,  2281.3,2,  2392.1,2,  -9.0000,9,-999.0000,9, -999.00,9, -999.00,9,  -999.0,9,  -999.0,-999.000,9,-999.000,-999.000,9,  -9.0000,-999.0000,   1.1189,   -9.00
  316N145_7,       I08N,     348,          1,          5,          5,2,19950325,       1117,   -20.9998,    79.9998,       4645,  3854.3,   1.3888,  34.7220,2,  34.7220,2,    188.1,2,   188.0,2,  123.07,2,   32.84,2,    0.00,2,    2.28,2,-999.000,9,-999.000,9,  2285.4,2,  2408.4,2,  -9.0000,9,-999.0000,9, -999.00,9, -999.00,9,  -999.0,9,  -999.0,-999.000,9,-999.000,-999.000,9,  -9.0000,-999.0000,   1.0884,   -9.00
  316N145_7,       I08N,     348,          1,          4,          4,2,19950325,       1117,   -20.9998,    79.9998,       4645,  4059.5,   1.3884,  34.7208,2,  34.7206,2,    187.0,2,   186.2,2,  125.33,2,   33.08,2,    0.00,2,    2.29,2,-999.000,9,-999.000,9,  2288.4,2,  2400.7,2,  -9.0000,9,-999.0000,9, -999.00,9, -999.00,9,  -999.0,9,  -999.0,-999.000,9,-999.000,-999.000,9,  -9.0000,-999.0000,   1.0659,   -9.00
  316N145_7,       I08N,     348,          1,          3,          3,2,19950325,       1117,   -20.9998,    79.9998,       4645,  4264.0,   1.3933,  34.7194,2,  34.7192,2,    186.1,2,   185.2,2,  127.59,2,   33.28,2,    0.00,2,    2.31,2,   0.002,2,   0.001,2,  2292.2,2,  2404.0,2,  -9.0000,9,-999.0000,9, -999.00,9, -999.00,9,  -999.0,9,  -999.0,-999.000,9,-999.000,-999.000,9,  -9.0000,-999.0000,   1.0482,   -9.00
  316N145_7,       I08N,     348,          1,          2,          2,2,19950325,       1117,   -20.9998,    79.9998,       4645,  4520.0,   1.4034,  34.7182,2,  34.7178,2,    183.6,2,   184.4,2,  129.22,2,   33.43,2,    0.00,2,    2.32,2,  -0.002,2,  -0.002,2,  2294.8,2,  2404.5,2,  -9.0000,9,-999.0000,9, -999.00,9, -999.00,9,  -999.0,9,  -999.0,-999.000,9,-999.000,-999.000,9,  -9.0000,-999.0000,   1.0290,   -9.00
  316N145_7,       I08N,     348,          1,          1,          1,2,19950325,       1117,   -20.9998,    79.9998,       4645,  4740.2,   1.4177,  34.7178,2,  34.7176,2,    183.1,2,   183.5,2,  130.23,2,   33.48,2,    0.00,2,    2.32,2,   0.000,2,  -0.002,2,  2296.4,2,  2404.7,2,  -9.0000,9,-999.0000,9, -999.00,9, -999.00,9,  -999.0,9,  -999.0,-999.000,9,-999.000,-999.000,9,  -9.0000,-999.0000,   1.0171,   -9.00