BOTTLE,20211124CCHSIORKP
EXPOCODE,SECT_ID,STNNBR,CASTNO,SAMPNO,BTLNBR,BTLNBR_FLAG_W,DATE,TIME,LATITUDE,LONGITUDE,DEPTH,CTDPRS,CTDTMP,CTDSAL,CTDSAL_FLAG_W,SALNTY,SALNTY_FLAG_W,CTDOXY,CTDOXY_FLAG_W,OXYGEN,OXYGEN_FLAG_W,SILCAT,SILCAT_FLAG_W,NITRAT,NITRAT_FLAG_W,NITRIT,NITRIT_FLAG_W,PHSPHT,PHSPHT_FLAG_W,CFC-11,CFC-11_FLAG_W,CFC-12,CFC-12_FLAG_W,TCARBN,TCARBN_FLAG_W,ALKALI,ALKALI_FLAG_W,TRITUM,TRITUM_FLAG_W,HELIUM,HELIUM_FLAG_W,DELHE3,DELHE3_FLAG_W,DELC13,DELC13_FLAG_W,DELC14,DELC14_FLAG_W,C14ERR,NEON,NEON_FLAG_W,NEONER,CCL4,CCL4_FLAG_W,TRITER,HELIER,THETA,DELHER
,,,,,,,,,,,METERS,DBAR,ITS-90,PSS-78,,PSS-78,,UMOL/KG,,UMOL/KG,,UMOL/KG,,UMOL/KG,,UMOL/KG,,UMOL/KG,,PMOL/KG,,PMOL/KG,,UMOL/KG,,UMOL/KG,,TU,,NMOL/KG,,PERCNT,,/MILLE,,/MILLE,,/MILLE,NMOL/KG,,NMOL/KG,PMOL/KG,,TU,NMOL/KG,DEG C,PERCNT
  316N145_7,       I05E,     421,          1,         36,         36,2,19950410,       0511,   -31.7462,   103.5822,       5214,     3.0,  21.4826,  36.1113,2,  36.1116,2,    219.5,2,   220.3,2,    3.23,2,    0.10,2,    0.00,2,    0.11,2,-999.000,9,-999.000,9,  2049.9,2,  2367.2,2,  -9.0000,9,-999.0000,9, -999.00,9, -999.00,9,  -999.0,9,  -999.0,-999.000,9,-999.000,-999.000,9,  -9.0000,-999.0000,  21.4820,   -9.00
  316N145_7,       I05E,     421,          1,         35,         35,2,19950410,       0511,   -31.7462,   103.5822,       5214,    33.1,  21.2616,  36.1229,2,  36.1217,2,    224.2,2,   222.8,2,    3.22,2,    0.10,2,    0.00,2,    0.12,2,-999.000,9,-999.000,9,  -999.0,9,  -999.0,9,  -9.0000,9,-999.0000,9, -999.00,9, -999.00,9,  -999.0,9,  -999.0,-999.000,9,-999.000,-999.000,9,  -9.0000,-999.0000,  21.2552,   -9.00
  316N145_7,       I05E,     421,          1,         34,         34,2,19950410,       0511,   -31.7462,   103.5822,       5214,    58.2,  20.5162,  36.0458,2,  36.0835,2,    225.4,2,   225.4,2,    3.00,2,    0.10,2,    0.00,2,    0.12,2,   2.204,2,   1.247,2,  -999.0,9,  -999.0,9,  -9.0000,9,-999.0000,9, -999.00,9, -999.00,9,  -999.0,9,  -999.0,-999.000,9,-999.000,   2.670,2,  -9.0000,-999.0000,  20.5052,   -9.00
  316N145_7,       I05E,     421,          1,         33,         33,2,19950410,       0511,   -31.7462,   103.5822,       5214,    87.9,  14.7663,  35.4722,2,  35.4713,2,    261.8,2,   255.0,2,    2.57,2,    0.99,2,    0.08,2,    0.29,2,-999.000,9,-999.000,9,  -999.0,9,  -999.0,9,  -9.0000,9,-999.0000,9, -999.00,9, -999.00,9,  -999.0,9,  -999.0,-999.000,9,-999.000,-999.000,9,  -9.0000,-999.0000,  14.7532,   -9.00
  316N145_7,       I05E,     421,          1,         32,         32,2,19950410,       0511,   -31.7462,   103.5822,       5214,   127.8,  13.8351,  35.4152,2,  35.4220,2,    236.0,2,   235.1,2,    2.98,2,    4.46,2,    0.01,2,    0.47,2,   3.003,2,   1.623,2,  -999.0,9,  -999.0,9,  -9.0000,9,-999.0000,9, -999.00,9, -999.00,9,  -999.0,9,  -999.0,-999.000,9,-999.000,   1.611,2,  -9.0000,-999.0000,  13.8168,   -9.00
  316N145_7,       I05E,     421,          1,         31,         31,2,19950410,       0511,   -31.7462,   103.5822,       5214,   179.2,  13.0784,  35.3106,2,  35.3141,2,    241.0,2,   242.3,2,    2.76,2,    5.09,2,    0.01,2,    0.50,2,-999.000,9,-999.000,9,  -999.0,9,  -999.0,9,  -9.0000,9,-999.0000,9, -999.00,9, -999.00,9,  -999.0,9,  -999.0,-999.000,9,-999.000,-999.000,9,  -9.0000,-999.0000,  13.0536,   -9.00
  316N145_7,       I05E,     421,          1,         30,         30,2,19950410,       0511,   -31.7462,   103.5822,       5214,   228.9,  12.3437,  35.1921,2,  35.1996,2,    243.6,2,   244.2,2,    2.95,2,    6.58,2,    0.01,2,    0.60,2,   3.230,2,   1.723,2,  -999.0,9,  -999.0,9,  -9.0000,9,-999.0000,9, -999.00,9, -999.00,9,  -999.0,9,  -999.0,-999.000,9,-999.000,   1.691,2,  -9.0000,-999.0000,  12.3132,   -9.00
  316N145_7,       I05E,     421,          1,         29,         29,2,19950410,       0511,   -31.7462,   103.5822,       5214,   309.4,  11.2782,  35.0064,2,  35.0090,2,    244.5,2,   246.7,2,    3.56,2,    9.38,2,    0.00,2,    0.76,2,-999.000,9,-999.000,9,  -999.0,9,  -999.0,9,  -9.0000,9,-999.0000,9, -999.00,9, -999.00,9,  -999.0,9,  -999.0,-999.000,9,-999.000,-999.000,9,  -9.0000,-999.0000,  11.2393,   -9.00
  316N145_7,       I05E,     421,          1,         28,         28,2,19950410,       0511,   -31.7462,   103.5822,       5214,   410.5,  10.2684,  34.8311,2,  34.8359,2,    245.7,2,   247.6,2,    4.38,2,   12.17,2,    0.00,2,    0.92,2,   3.447,2,   1.791,2,  -999.0,9,  -999.0,9,  -9.0000,9,-999.0000,9, -999.00,9, -999.00,9,  -999.0,9,  -999.0,-999.000,9,-999.000,   2.066,2,  -9.0000,-999.0000,  10.2195,   -9.00
  316N145_7,       I05E,     421,          1,         27,         27,2,19950410,       0511,   -31.7462,   103.5822,       5214,   510.4,   9.6769,  34.7353,2,  34.7362,2,    247.1,2,   244.6,2,    5.20,2,   14.49,2,    0.00,2,    1.06,2,-999.000,9,-999.000,9,  -999.0,9,  -999.0,9,  -9.0000,9,-999.0000,9, -999.00,9, -999.00,9,  -999.0,9,  -999.0,-999.000,9,-999.000,-999.000,9,  -9.0000,-999.0000,   9.6181,   -9.00
  316N145_7,       I05E,     421,          1,         26,         26,2,19950410,       0511,   -31.7462,   103.5822,       5214,   610.6,   9.1874,  34.6634,2,  34.6653,2,    242.5,2,   236.9,2,    6.22,2,   16.90,2,    0.00,2,    1.21,2,   2.934,2,   1.535,2,  -999.0,9,  -999.0,9,  -9.0000,9,-999.0000,9, -999.00,9, -999.00,9,  -999.0,9,  -999.0,-999.000,9,-999.000,   1.955,2,  -9.0000,-999.0000,   9.1189,   -9.00
  316N145_7,       I05E,     421,          1,         25,         25,2,19950410,       0511,   -31.7462,   103.5822,       5214,   711.3,   8.4315,  34.5780,2,  34.5828,2,    224.2,2,   220.7,2,    9.32,2,   20.33,2,    0.00,2,    1.42,2,   2.125,2,   1.107,2,  -999.0,9,  -999.0,9,  -9.0000,9,-999.0000,9, -999.00,9, -999.00,9,  -999.0,9,  -999.0,-999.000,9,-999.000,   1.663,2,  -9.0000,-999.0000,   8.3554,   -9.00
  316N145_7,       I05E,     421,          1,         24,         24,2,19950410,       0511,   -31.7462,   103.5822,       5214,   811.5,   6.8915,  34.4666,2,  34.4718,2,    201.2,2,   197.6,2,   18.22,2,   25.81,2,    0.00,2,    1.77,2,   1.057,2,   0.569,2,  -999.0,9,  -999.0,9,  -9.0000,9,-999.0000,9, -999.00,9, -999.00,9,  -999.0,9,  -999.0,-999.000,9,-999.000,   1.361,2,  -9.0000,-999.0000,   6.8135,   -9.00
  316N145_7,       I05E,     421,          1,         23,         23,2,19950410,       0511,   -31.7462,   103.5822,       5214,   912.4,   5.4514,  34.3976,2,  34.4004,2,    197.6,2,   195.3,2,   27.95,2,   29.07,2,    0.00,2,    2.01,2,   0.772,6,   0.383,6,  -999.0,9,  -999.0,9,  -9.0000,9,-999.0000,9, -999.00,9, -999.00,9,  -999.0,9,  -999.0,-999.000,9,-999.000,   1.341,6,  -9.0000,-999.0000,   5.3730,   -9.00
  316N145_7,       I05E,     421,          1,         22,         22,2,19950410,       0511,   -31.7462,   103.5822,       5214,  1012.1,   4.4815,  34.3918,2,  34.3927,2,    188.0,2,   188.7,2,   40.78,2,   31.61,2,    0.00,2,    2.20,2,   0.411,3,   0.216,2,  -999.0,9,  -999.0,9,  -9.0000,9,-999.0000,9, -999.00,9, -999.00,9,  -999.0,9,  -999.0,-999.000,9,-999.000,   1.043,2,  -9.0000,-999.0000,   4.4012,   -9.00
  316N145_7,       I05E,     421,          1,         21,         21,2,19950410,       0511,   -31.7462,   103.5822,       5214,  1163.6,   3.9996,  34.4917,2,  34.4899,2,    160.0,2,   153.4,2,   65.64,2,   34.45,2,    0.00,2,    2.43,2,   0.093,3,   0.055,6,  -999.0,9,  -999.0,9,  -9.0000,9,-999.0000,9, -999.00,9, -999.00,9,  -999.0,9,  -999.0,-999.000,9,-999.000,   0.388,6,  -9.0000,-999.0000,   3.9102,   -9.00
  316N145_7,       I05E,     421,          1,         20,         20,2,19950410,       0511,   -31.7462,   103.5822,       5214,  1314.9,   3.5540,  34.5448,2,  34.5435,2,    147.1,2,   146.3,2,   76.63,2,   35.15,2,    0.00,2,    2.49,2,-999.000,9,-999.000,9,  -999.0,9,  -999.0,9,  -9.0000,9,-999.0000,9, -999.00,9, -999.00,9,  -999.0,9,  -999.0,-999.000,9,-999.000,-999.000,9,  -9.0000,-999.0000,   3.4558,   -9.00
  316N145_7,       I05E,     421,          1,         19,         19,2,19950410,       0511,   -31.7462,   103.5822,       5214,  1517.4,   3.1269,  34.5997,2,  34.5969,2,    146.4,2,   148.8,2,   84.09,2,   35.06,2,    0.00,2,    2.48,2,-999.000,9,-999.000,9,  -999.0,9,  -999.0,9,  -9.0000,9,-999.0000,9, -999.00,9, -999.00,9,  -999.0,9,  -999.0,-999.000,9,-999.000,-999.000,9,  -9.0000,-999.0000,   3.0161,   -9.00
  316N145_7,       I05E,     421,          1,         18,         18,2,19950410,       0511,   -31.7462,   103.5822,       5214,  1718.4,   2.7964,  34.6471,2,  34.6472,2,    154.2,2,   154.9,2,   89.49,2,   34.38,2,    0.00,2,    2.44,2,  -0.008,3,   0.006,2,  -999.0,9,  -999.0,9,  -9.0000,9,-999.0000,9, -999.00,9, -999.00,9,  -999.0,9,  -999.0,-999.000,9,-999.000,   0.029,2,  -9.0000,-999.0000,   2.6724,   -9.00
  316N145_7,       I05E,     421,          1,         17,         17,2,19950410,       0511,   -31.7462,   103.5822,       5214,  1920.9,   2.5471,  34.6866,2,  34.6863,2,    159.5,2,   160.6,2,   94.68,2,   33.85,2,    0.00,2,    2.38,2,-999.000,9,-999.000,9,  -999.0,9,  -999.0,9,  -9.0000,9,-999.0000,9, -999.00,9, -999.00,9,  -999.0,9,  -999.0,-999.000,9,-999.000,-999.000,9,  -9.0000,-999.0000,   2.4091,   -9.00
  316N145_7,       I05E,     421,          1,         16,         16,2,19950410,       0511,   -31.7462,   103.5822,       5214,  2123.6,   2.3273,  34.7128,2,  34.7121,2,    162.4,2,   160.4,2,  105.13,2,   33.96,2,    0.00,2,    2.40,2,-999.000,9,-999.000,9,  -999.0,9,  -999.0,9,  -9.0000,9,-999.0000,9, -999.00,9, -999.00,9,  -999.0,9,  -999.0,-999.000,9,-999.000,-999.000,9,  -9.0000,-999.0000,   2.1748,   -9.00
  316N145_7,       I05E,     421,          1,         15,         15,2,19950410,       0511,   -31.7462,   103.5822,       5214,  2325.3,   2.1351,  34.7256,2,  34.7250,2,    172.5,2,   172.7,2,  102.37,2,   32.89,2,    0.00,2,    2.31,2,  -0.045,3,   0.004,2,  -999.0,9,  -999.0,9,  -9.0000,9,-999.0000,9, -999.00,9, -999.00,9,  -999.0,9,  -999.0,-999.000,9,-999.000,   0.014,2,  -9.0000,-999.0000,   1.9679,   -9.00
  316N145_7,       I05E,     421,          1,         14,         14,2,19950410,       0511,   -31.7462,   103.5822,       5214,  2527.8,   1.9393,  34.7309,2,  34.7309,2,    178.6,2,   178.2,2,  106.12,2,   32.65,2,    0.00,2,    2.29,2,-999.000,9,-999.000,9,  -999.0,9,  -999.0,9,  -9.0000,9,-999.0000,9, -999.00,9, -999.00,9,  -999.0,9,  -999.0,-999.000,9,-999.000,-999.000,9,  -9.0000,-999.0000,   1.7573,   -9.00
  316N145_7,       I05E,     421,          1,         13,         13,2,19950410,       0511,   -31.7462,   103.5822,       5214,  2732.0,   1.7787,  34.7334,2,  34.7335,2,    183.5,2,   183.6,2,  107.77,2,   32.42,2,    0.00,2,    2.27,2,  -0.111,3,   0.000,2,  -999.0,9,  -999.0,9,  -9.0000,9,-999.0000,9, -999.00,9, -999.00,9,  -999.0,9,  -999.0,-999.000,9,-999.000,  -0.004,2,  -9.0000,-999.0000,   1.5809,   -9.00
  316N145_7,       I05E,     421,          1,         12,         12,2,19950410,       0511,   -31.7462,   103.5822,       5214,  2935.8,   1.6265,  34.7337,2,  34.7341,2,    188.6,2,   189.4,2,  109.42,2,   32.18,2,    0.00,2,    2.24,2,-999.000,9,-999.000,9,  -999.0,9,  -999.0,9,  -9.0000,9,-999.0000,9, -999.00,9, -999.00,9,  -999.0,9,  -999.0,-999.000,9,-999.000,-999.000,9,  -9.0000,-999.0000,   1.4128,   -9.00
  316N145_7,       I05E,     421,          1,         11,         11,2,19950410,       0511,   -31.7462,   103.5822,       5214,  3139.5,   1.4815,  34.7332,2,  34.7333,2,    195.6,2,   195.9,2,  109.18,2,   31.85,2,    0.00,2,    2.21,2,-999.000,9,-999.000,9,  -999.0,9,  -999.0,9,  -9.0000,9,-999.0000,9, -999.00,9, -999.00,9,  -999.0,9,  -999.0,-999.000,9,-999.000,-999.000,9,  -9.0000,-999.0000,   1.2514,   -9.00
  316N145_7,       I05E,     421,          1,         10,         10,2,19950410,       0511,   -31.7462,   103.5822,       5214,  3343.7,   1.3636,  34.7289,2,  34.7290,2,    198.5,2,   197.6,2,  112.52,2,   32.00,2,    0.00,2,    2.23,2,  -0.043,3,   0.012,3,  -999.0,9,  -999.0,9,  -9.0000,9,-999.0000,9, -999.00,9, -999.00,9,  -999.0,9,  -999.0,-999.000,9,-999.000,   0.012,2,  -9.0000,-999.0000,   1.1163,   -9.00
  316N145_7,       I05E,     421,          1,          9,          9,2,19950410,       0511,   -31.7462,   103.5822,       5214,  3547.2,   1.2467,  34.7250,2,  34.7241,2,    201.9,2,   201.0,2,  114.18,2,   31.96,2,    0.00,2,    2.22,2,-999.000,9,-999.000,9,  -999.0,9,  -999.0,9,  -9.0000,9,-999.0000,9, -999.00,9, -999.00,9,  -999.0,9,  -999.0,-999.000,9,-999.000,-999.000,9,  -9.0000,-999.0000,   0.9820,   -9.00
  316N145_7,       I05E,     421,          1,          8,          8,2,19950410,       0511,   -31.7462,   103.5822,       5214,  3750.2,   1.1380,  34.7199,2,  34.7197,2,    203.1,2,   203.5,2,  116.68,2,   32.12,2,    0.00,2,    2.23,2,-999.000,9,-999.000,9,  -999.0,9,  -999.0,9,  -9.0000,9,-999.0000,9, -999.00,9, -999.00,9,  -999.0,9,  -999.0,-999.000,9,-999.000,-999.000,9,  -9.0000,-999.0000,   0.8553,   -9.00
  316N145_7,       I05E,     421,          1,          7,          7,2,19950410,       0511,   -31.7462,   103.5822,       5214,  3954.2,   1.0666,  34.7161,2,  34.7158,2,    205.0,2,   205.5,2,  118.77,2,   32.12,2,    0.00,2,    2.24,2,   0.023,3,   0.006,2,  -999.0,9,  -999.0,9,  -9.0000,9,-999.0000,9, -999.00,9, -999.00,9,  -999.0,9,  -999.0,-999.000,9,-999.000,   0.047,2,  -9.0000,-999.0000,   0.7646,   -9.00
  316N145_7,       I05E,     421,          1,          6,          6,2,19950410,       0511,   -31.7462,   103.5822,       5214,  4157.7,   1.0084,  34.7121,2,  34.7127,2,    205.4,2,   206.0,2,  120.64,2,   32.03,2,    0.00,2,    2.24,2,-999.000,9,-999.000,9,  -999.0,9,  -999.0,9,  -9.0000,9,-999.0000,9, -999.00,9, -999.00,9,  -999.0,9,  -999.0,-999.000,9,-999.000,-999.000,9,  -9.0000,-999.0000,   0.6864,   -9.00
  316N145_7,       I05E,     421,          1,          5,          5,2,19950410,       0511,   -31.7462,   103.5822,       5214,  4361.0,   0.9764,  34.7100,2,  34.7099,2,    207.6,2,   207.2,2,  121.88,2,   32.19,2,    0.00,2,    2.24,2,-999.000,9,-999.000,9,  -999.0,9,  -999.0,9,  -9.0000,9,-999.0000,9, -999.00,9, -999.00,9,  -999.0,9,  -999.0,-999.000,9,-999.000,-999.000,9,  -9.0000,-999.0000,   0.6331,   -9.00
  316N145_7,       I05E,     421,          1,          4,          4,2,19950410,       0511,   -31.7462,   103.5822,       5214,  4566.0,   0.9610,  34.7079,2,  34.7083,2,    207.8,2,   207.3,2,  122.48,2,   32.20,2,    0.00,2,    2.25,2,   0.018,3,   0.005,2,  -999.0,9,  -999.0,9,  -9.0000,9,-999.0000,9, -999.00,9, -999.00,9,  -999.0,9,  -999.0,-999.000,9,-999.000,   0.081,2,  -9.0000,-999.0000,   0.5952,   -9.00
  316N145_7,       I05E,     421,          1,          3,          3,2,19950410,       0511,   -31.7462,   103.5822,       5214,  4819.5,   0.9613,  34.7076,2,  34.7070,2,    208.0,2,   208.5,2,  123.09,2,   32.26,2,    0.01,2,    2.25,2,  -0.062,3,   0.009,2,  -999.0,9,  -999.0,9,  -9.0000,9,-999.0000,9, -999.00,9, -999.00,9,  -999.0,9,  -999.0,-999.000,9,-999.000,   0.131,2,  -9.0000,-999.0000,   0.5664,   -9.00
  316N145_7,       I05E,     421,          1,          2,          2,2,19950410,       0511,   -31.7462,   103.5822,       5214,  5077.4,   0.9765,  34.7064,2,  34.7056,2,    208.5,2,   207.9,2,  123.69,2,   32.26,2,    0.01,2,    2.25,2,  -0.004,3,   0.005,2,  -999.0,9,  -999.0,9,  -9.0000,9,-999.0000,9, -999.00,9, -999.00,9,  -999.0,9,  -999.0,-999.000,9,-999.000,   0.121,2,  -9.0000,-999.0000,   0.5506,   -9.00
  316N145_7,       I05E,     421,          1,          1,          1,2,19950410,       0511,   -31.7462,   103.5822,       5214,  5333.3,   0.9988,  34.7055,2,  34.7060,2,    208.7,2,   208.5,2,  123.65,2,   32.27,2,    0.01,2,    2.26,2,  -0.008,3,   0.004,2,  -999.0,9,  -999.0,9,  -9.0000,9,-999.0000,9, -999.00,9, -999.00,9,  -999.0,9,  -999.0,-999.000,9,-999.000,   0.144,2,  -9.0000,-999.0000,   0.5411,   -9.00