BOTTLE,20211124CCHSIORKP
EXPOCODE,SECT_ID,STNNBR,CASTNO,SAMPNO,BTLNBR,BTLNBR_FLAG_W,DATE,TIME,LATITUDE,LONGITUDE,DEPTH,CTDPRS,CTDTMP,CTDSAL,CTDSAL_FLAG_W,SALNTY,SALNTY_FLAG_W,CTDOXY,CTDOXY_FLAG_W,OXYGEN,OXYGEN_FLAG_W,SILCAT,SILCAT_FLAG_W,NITRAT,NITRAT_FLAG_W,NITRIT,NITRIT_FLAG_W,PHSPHT,PHSPHT_FLAG_W,CFC-11,CFC-11_FLAG_W,CFC-12,CFC-12_FLAG_W,TCARBN,TCARBN_FLAG_W,ALKALI,ALKALI_FLAG_W,TRITUM,TRITUM_FLAG_W,HELIUM,HELIUM_FLAG_W,DELHE3,DELHE3_FLAG_W,DELC13,DELC13_FLAG_W,DELC14,DELC14_FLAG_W,C14ERR,NEON,NEON_FLAG_W,NEONER,CCL4,CCL4_FLAG_W,TRITER,HELIER,THETA,DELHER
,,,,,,,,,,,METERS,DBAR,ITS-90,PSS-78,,PSS-78,,UMOL/KG,,UMOL/KG,,UMOL/KG,,UMOL/KG,,UMOL/KG,,UMOL/KG,,PMOL/KG,,PMOL/KG,,UMOL/KG,,UMOL/KG,,TU,,NMOL/KG,,PERCNT,,/MILLE,,/MILLE,,/MILLE,NMOL/KG,,NMOL/KG,PMOL/KG,,TU,NMOL/KG,DEG C,PERCNT
  316N145_7,       I08N,     353,          1,         36,         36,2,19950326,       1415,   -23.5000,    79.9997,       4375,     2.9,  26.9833,  35.0451,2,  35.0441,2,    205.3,3,   201.8,2,    2.92,2,    0.13,2,    0.00,2,    0.11,2,-999.000,9,-999.000,9,  1944.3,2,  2290.5,2,  -9.0000,9,-999.0000,9, -999.00,9, -999.00,9,  -999.0,9,  -999.0,-999.000,9,-999.000,-999.000,9,  -9.0000,-999.0000,  26.9827,   -9.00
  316N145_7,       I08N,     353,          1,         35,         35,2,19950326,       1415,   -23.5000,    79.9997,       4375,    30.3,  26.9698,  35.0391,2,  35.0392,2,    198.9,2,   202.0,2,    2.90,2,    0.13,2,    0.00,2,    0.11,2,-999.000,9,-999.000,9,  -999.0,9,  -999.0,9,  -9.0000,9,-999.0000,9, -999.00,9, -999.00,9,  -999.0,9,  -999.0,-999.000,9,-999.000,-999.000,9,  -9.0000,-999.0000,  26.9629,   -9.00
  316N145_7,       I08N,     353,          1,         34,         34,2,19950326,       1415,   -23.5000,    79.9997,       4375,    66.2,  26.0792,  35.6169,2,  35.5895,2,    213.2,2,   211.9,2,    2.68,2,    0.13,2,    0.00,2,    0.09,2,-999.000,9,-999.000,9,  -999.0,9,  -999.0,9,  -9.0000,9,-999.0000,9, -999.00,9, -999.00,9,  -999.0,9,  -999.0,-999.000,9,-999.000,-999.000,9,  -9.0000,-999.0000,  26.0644,   -9.00
  316N145_7,       I08N,     353,          1,         33,         33,2,19950326,       1415,   -23.5000,    79.9997,       4375,   106.5,  21.7839,  35.6437,2,  35.6375,2,    233.1,2,   229.7,2,    2.87,2,    0.13,2,    0.00,2,    0.10,2,-999.000,9,-999.000,9,  -999.0,9,  -999.0,9,  -9.0000,9,-999.0000,9, -999.00,9, -999.00,9,  -999.0,9,  -999.0,-999.000,9,-999.000,-999.000,9,  -9.0000,-999.0000,  21.7629,   -9.00
  316N145_7,       I08N,     353,          1,         32,         32,2,19950326,       1415,   -23.5000,    79.9997,       4375,   146.2,  19.8960,  35.7348,2,  35.7289,2,    219.0,2,   211.7,2,    3.05,2,    0.46,2,    0.05,2,    0.18,2,-999.000,9,-999.000,9,  -999.0,9,  -999.0,9,  -9.0000,9,-999.0000,9, -999.00,9, -999.00,9,  -999.0,9,  -999.0,-999.000,9,-999.000,-999.000,9,  -9.0000,-999.0000,  19.8689,   -9.00
  316N145_7,       I08N,     353,          1,         31,         31,2,19950326,       1415,   -23.5000,    79.9997,       4375,   186.5,  18.9808,  35.8335,2,  35.8313,2,    216.6,2,   210.5,2,    2.83,2,    0.69,2,    0.23,2,    0.22,2,-999.000,9,-999.000,9,  -999.0,9,  -999.0,9,  -9.0000,9,-999.0000,9, -999.00,9, -999.00,9,  -999.0,9,  -999.0,-999.000,9,-999.000,-999.000,9,  -9.0000,-999.0000,  18.9474,   -9.00
  316N145_7,       I08N,     353,          1,         30,         30,2,19950326,       1415,   -23.5000,    79.9997,       4375,   236.4,  17.2447,  35.7394,2,  35.7373,2,    205.5,2,   204.1,2,    3.43,2,    2.93,2,    0.01,2,    0.36,2,-999.000,9,-999.000,9,  -999.0,9,  -999.0,9,  -9.0000,9,-999.0000,9, -999.00,9, -999.00,9,  -999.0,9,  -999.0,-999.000,9,-999.000,-999.000,9,  -9.0000,-999.0000,  17.2051,   -9.00
  316N145_7,       I08N,     353,          1,         29,         29,2,19950326,       1415,   -23.5000,    79.9997,       4375,   297.0,  15.2042,  35.5489,2,  35.5470,2,    210.3,2,   210.9,2,    3.41,2,    4.89,2,    0.00,2,    0.48,2,-999.000,9,-999.000,9,  -999.0,9,  -999.0,9,  -9.0000,9,-999.0000,9, -999.00,9, -999.00,9,  -999.0,9,  -999.0,-999.000,9,-999.000,-999.000,9,  -9.0000,-999.0000,  15.1584,   -9.00
  316N145_7,       I08N,     353,          1,         28,         28,2,19950326,       1415,   -23.5000,    79.9997,       4375,   366.3,  13.5189,  35.3280,2,  35.3242,2,    219.1,2,   219.6,2,    3.60,2,    7.37,2,    0.00,2,    0.62,2,-999.000,9,-999.000,9,  -999.0,9,  -999.0,9,  -9.0000,9,-999.0000,9, -999.00,9, -999.00,9,  -999.0,9,  -999.0,-999.000,9,-999.000,-999.000,9,  -9.0000,-999.0000,  13.4667,   -9.00
  316N145_7,       I08N,     353,          1,         27,         27,2,19950326,       1415,   -23.5000,    79.9997,       4375,   457.3,  11.7988,  35.0664,2,  35.0688,2,    228.7,2,   231.0,2,    3.78,2,   10.22,2,    0.00,2,    0.78,2,-999.000,9,-999.000,9,  -999.0,9,  -999.0,9,  -9.0000,9,-999.0000,9, -999.00,9, -999.00,9,  -999.0,9,  -999.0,-999.000,9,-999.000,-999.000,9,  -9.0000,-999.0000,  11.7391,   -9.00
  316N145_7,       I08N,     353,          1,         26,         26,2,19950326,       1415,   -23.5000,    79.9997,       4375,   558.2,  10.4543,  34.8591,2,  34.8614,2,    231.6,2,   234.1,2,    4.58,2,   13.36,2,    0.00,2,    0.97,2,-999.000,9,-999.000,9,  -999.0,9,  -999.0,9,  -9.0000,9,-999.0000,9, -999.00,9, -999.00,9,  -999.0,9,  -999.0,-999.000,9,-999.000,-999.000,9,  -9.0000,-999.0000,  10.3867,   -9.00
  316N145_7,       I08N,     353,          1,         25,         25,2,19950326,       1415,   -23.5000,    79.9997,       4375,   657.8,   9.4372,  34.7099,2,  34.7124,2,    228.7,2,   228.5,2,    5.98,2,   16.69,2,    0.00,2,    1.17,2,-999.000,9,-999.000,9,  -999.0,9,  -999.0,9,  -9.0000,9,-999.0000,9, -999.00,9, -999.00,9,  -999.0,9,  -999.0,-999.000,9,-999.000,-999.000,9,  -9.0000,-999.0000,   9.3620,   -9.00
  316N145_7,       I08N,     353,          1,         24,         24,2,19950326,       1415,   -23.5000,    79.9997,       4375,   758.3,   8.3342,  34.5987,2,  34.5932,2,    214.7,2,   212.7,2,   10.64,2,   21.00,2,    0.00,2,    1.44,2,-999.000,9,-999.000,9,  -999.0,9,  -999.0,9,  -9.0000,9,-999.0000,9, -999.00,9, -999.00,9,  -999.0,9,  -999.0,-999.000,9,-999.000,-999.000,9,  -9.0000,-999.0000,   8.2533,   -9.00
  316N145_7,       I08N,     353,          1,         23,         23,2,19950326,       1415,   -23.5000,    79.9997,       4375,   857.7,   6.6986,  34.4946,2,  34.4928,2,    189.2,2,   187.9,2,   24.42,2,   26.98,2,    0.00,2,    1.84,2,-999.000,9,-999.000,9,  -999.0,9,  -999.0,9,  -9.0000,9,-999.0000,9, -999.00,9, -999.00,9,  -999.0,9,  -999.0,-999.000,9,-999.000,-999.000,9,  -9.0000,-999.0000,   6.6170,   -9.00
  316N145_7,       I08N,     353,          1,         22,         22,2,19950326,       1415,   -23.5000,    79.9997,       4375,   958.7,   5.2183,  34.4460,2,  34.4453,2,    175.4,2,   174.6,2,   40.64,2,   31.15,2,    0.00,2,    2.15,2,-999.000,9,-999.000,9,  -999.0,9,  -999.0,9,  -9.0000,9,-999.0000,9, -999.00,9, -999.00,9,  -999.0,9,  -999.0,-999.000,9,-999.000,-999.000,9,  -9.0000,-999.0000,   5.1372,   -9.00
  316N145_7,       I08N,     353,          1,         21,         21,2,19950326,       1415,   -23.5000,    79.9997,       4375,  1057.0,   4.5604,  34.4850,2,  34.4819,2,    156.1,2,   155.1,2,   57.47,2,   33.57,2,    0.00,2,    2.35,2,-999.000,9,-999.000,9,  -999.0,9,  -999.0,9,  -9.0000,9,-999.0000,9, -999.00,9, -999.00,9,  -999.0,9,  -999.0,-999.000,9,-999.000,-999.000,9,  -9.0000,-999.0000,   4.4755,   -9.00
  316N145_7,       I08N,     353,          1,         20,         20,2,19950326,       1415,   -23.5000,    79.9997,       4375,  1156.6,   4.0229,  34.5139,2,  34.5125,2,    147.5,2,   147.8,2,   68.22,2,   34.61,2,    0.01,2,    2.44,2,-999.000,9,-999.000,9,  -999.0,9,  -999.0,9,  -9.0000,9,-999.0000,9, -999.00,9, -999.00,9,  -999.0,9,  -999.0,-999.000,9,-999.000,-999.000,9,  -9.0000,-999.0000,   3.9339,   -9.00
  316N145_7,       I08N,     353,          1,         19,         19,2,19950326,       1415,   -23.5000,    79.9997,       4375,  1258.6,   3.6280,  34.5593,2,  34.5599,2,    142.2,2,   143.1,2,   77.55,2,   35.13,2,    0.01,2,    2.48,2,-999.000,9,-999.000,9,  -999.0,9,  -999.0,9,  -9.0000,9,-999.0000,9, -999.00,9, -999.00,9,  -999.0,9,  -999.0,-999.000,9,-999.000,-999.000,9,  -9.0000,-999.0000,   3.5338,   -9.00
  316N145_7,       I08N,     353,          1,         18,         18,2,19950326,       1415,   -23.5000,    79.9997,       4375,  1360.5,   3.4498,  34.6043,2,  34.6049,2,    139.2,2,   139.5,2,   84.87,2,   35.23,2,    0.01,2,    2.50,2,-999.000,9,-999.000,9,  -999.0,9,  -999.0,9,  -9.0000,9,-999.0000,9, -999.00,9, -999.00,9,  -999.0,9,  -999.0,-999.000,9,-999.000,-999.000,9,  -9.0000,-999.0000,   3.3487,   -9.00
  316N145_7,       I08N,     353,          1,         17,         17,2,19950326,       1415,   -23.5000,    79.9997,       4375,  1462.9,   3.2519,  34.6439,2,  34.6434,2,    139.3,2,   139.6,2,   90.76,2,   35.08,2,    0.01,2,    2.49,2,-999.000,9,-999.000,9,  -999.0,9,  -999.0,9,  -9.0000,9,-999.0000,9, -999.00,9, -999.00,9,  -999.0,9,  -999.0,-999.000,9,-999.000,-999.000,9,  -9.0000,-999.0000,   3.1441,   -9.00
  316N145_7,       I08N,     353,          1,         16,         16,2,19950326,       1415,   -23.5000,    79.9997,       4375,  1591.2,   3.0375,  34.6757,2,  34.6747,2,    140.7,2,   142.6,2,   96.06,2,   34.84,2,    0.01,2,    2.48,2,-999.000,9,-999.000,9,  -999.0,9,  -999.0,9,  -9.0000,9,-999.0000,9, -999.00,9, -999.00,9,  -999.0,9,  -999.0,-999.000,9,-999.000,-999.000,9,  -9.0000,-999.0000,   2.9212,   -9.00
  316N145_7,       I08N,     353,          1,         15,         15,2,19950326,       1415,   -23.5000,    79.9997,       4375,  1742.2,   2.8234,  34.7023,2,  34.7030,2,    145.7,2,   145.7,2,  101.98,2,   34.60,2,    0.01,2,    2.45,2,-999.000,9,-999.000,9,  -999.0,9,  -999.0,9,  -9.0000,9,-999.0000,9, -999.00,9, -999.00,9,  -999.0,9,  -999.0,-999.000,9,-999.000,-999.000,9,  -9.0000,-999.0000,   2.6969,   -9.00
  316N145_7,       I08N,     353,          1,         14,         14,2,19950326,       1415,   -23.5000,    79.9997,       4375,  1920.1,   2.5473,  34.7171,2,  34.7174,2,    152.9,2,   152.4,2,  106.28,2,   34.22,2,    0.01,2,    2.42,2,-999.000,9,-999.000,9,  -999.0,9,  -999.0,9,  -9.0000,9,-999.0000,9, -999.00,9, -999.00,9,  -999.0,9,  -999.0,-999.000,9,-999.000,-999.000,9,  -9.0000,-999.0000,   2.4092,   -9.00
  316N145_7,       I08N,     353,          1,         13,         13,2,19950326,       1415,   -23.5000,    79.9997,       4375,  2122.3,   2.2579,  34.7225,2,  34.7219,2,    160.8,2,   161.8,2,  108.31,2,   33.74,2,    0.01,2,    2.38,2,-999.000,9,-999.000,9,  -999.0,9,  -999.0,9,  -9.0000,9,-999.0000,9, -999.00,9, -999.00,9,  -999.0,9,  -999.0,-999.000,9,-999.000,-999.000,9,  -9.0000,-999.0000,   2.1067,   -9.00
  316N145_7,       I08N,     353,          1,         12,         12,2,19950326,       1415,   -23.5000,    79.9997,       4375,  2324.6,   2.0617,  34.7236,2,  34.7243,2,    169.0,2,   170.1,2,  108.89,2,   33.21,2,    0.00,2,    2.34,2,-999.000,9,-999.000,9,  -999.0,9,  -999.0,9,  -9.0000,9,-999.0000,9, -999.00,9, -999.00,9,  -999.0,9,  -999.0,-999.000,9,-999.000,-999.000,9,  -9.0000,-999.0000,   1.8959,   -9.00
  316N145_7,       I08N,     353,          1,         11,         11,2,19950326,       1415,   -23.5000,    79.9997,       4375,  2524.5,   1.8924,  34.7266,2,  34.7263,2,    178.3,2,   178.4,2,  107.82,2,   32.69,2,    0.01,2,    2.28,2,-999.000,9,-999.000,9,  -999.0,9,  -999.0,9,  -9.0000,9,-999.0000,9, -999.00,9, -999.00,9,  -999.0,9,  -999.0,-999.000,9,-999.000,-999.000,9,  -9.0000,-999.0000,   1.7116,   -9.00
  316N145_7,       I08N,     353,          1,         10,         10,2,19950326,       1415,   -23.5000,    79.9997,       4375,  2730.1,   1.7588,  34.7309,2,  34.7305,2,    185.3,2,   186.1,2,  106.13,2,   32.12,2,    0.00,2,    2.24,2,-999.000,9,-999.000,9,  -999.0,9,  -999.0,9,  -9.0000,9,-999.0000,9, -999.00,9, -999.00,9,  -999.0,9,  -999.0,-999.000,9,-999.000,-999.000,9,  -9.0000,-999.0000,   1.5616,   -9.00
  316N145_7,       I08N,     353,          1,          9,          9,2,19950326,       1415,   -23.5000,    79.9997,       4375,  2934.6,   1.6389,  34.7316,2,  34.7342,4,    188.5,2,   188.8,2,  108.57,2,   32.02,2,    0.00,2,    2.23,2,-999.000,9,-999.000,9,  -999.0,9,  -999.0,9,  -9.0000,9,-999.0000,9, -999.00,9, -999.00,9,  -999.0,9,  -999.0,-999.000,9,-999.000,-999.000,9,  -9.0000,-999.0000,   1.4250,   -9.00
  316N145_7,       I08N,     353,          1,          8,          8,2,19950326,       1415,   -23.5000,    79.9997,       4375,  3138.2,   1.5128,  34.7302,2,  34.7299,2,    192.6,2,   191.4,2,  111.23,2,   32.07,2,    0.00,2,    2.22,2,-999.000,9,-999.000,9,  -999.0,9,  -999.0,9,  -9.0000,9,-999.0000,9, -999.00,9, -999.00,9,  -999.0,9,  -999.0,-999.000,9,-999.000,-999.000,9,  -9.0000,-999.0000,   1.2821,   -9.00
  316N145_7,       I08N,     353,          1,          7,          7,2,19950326,       1415,   -23.5000,    79.9997,       4375,  3342.4,   1.4243,  34.7269,2,  34.7276,2,    191.6,2,   191.6,2,  115.13,2,   32.30,2,    0.00,2,    2.25,2,-999.000,9,-999.000,9,  -999.0,9,  -999.0,9,  -9.0000,9,-999.0000,9, -999.00,9, -999.00,9,  -999.0,9,  -999.0,-999.000,9,-999.000,-999.000,9,  -9.0000,-999.0000,   1.1757,   -9.00
  316N145_7,       I08N,     353,          1,          6,          6,2,19950326,       1415,   -23.5000,    79.9997,       4375,  3546.3,   1.3911,  34.7251,2,  34.7243,2,    190.2,2,   190.2,2,  119.25,2,   32.63,2,    0.00,2,    2.26,2,-999.000,9,-999.000,9,  -999.0,9,  -999.0,9,  -9.0000,9,-999.0000,9, -999.00,9, -999.00,9,  -999.0,9,  -999.0,-999.000,9,-999.000,-999.000,9,  -9.0000,-999.0000,   1.1228,   -9.00
  316N145_7,       I08N,     353,          1,          5,          5,2,19950326,       1415,   -23.5000,    79.9997,       4375,  3750.0,   1.3886,  34.7229,2,  34.7225,2,    188.7,2,   188.8,2,  121.30,2,   32.82,2,    0.00,2,    2.28,2,   0.012,3,  -0.001,2,  -999.0,9,  -999.0,9,  -9.0000,9,-999.0000,9, -999.00,9, -999.00,9,  -999.0,9,  -999.0,-999.000,9,-999.000,  -0.002,2,  -9.0000,-999.0000,   1.0992,   -9.00
  316N145_7,       I08N,     353,          1,          4,          4,2,19950326,       1415,   -23.5000,    79.9997,       4375,  3955.0,   1.3916,  34.7220,2,  34.7218,2,    187.4,2,   187.8,2,  123.56,2,   33.01,2,    0.00,2,    2.29,2,   0.026,3,  -0.001,2,  -999.0,9,  -999.0,9,  -9.0000,9,-999.0000,9, -999.00,9, -999.00,9,  -999.0,9,  -999.0,-999.000,9,-999.000,  -0.003,2,  -9.0000,-999.0000,   1.0804,   -9.00
  316N145_7,       I08N,     353,          1,          3,          3,2,19950326,       1415,   -23.5000,    79.9997,       4375,  4159.1,   1.4014,  34.7206,2,  34.7204,2,    187.4,2,   187.1,2,  125.19,2,   33.15,2,    0.00,2,    2.31,2,   0.026,3,   0.004,2,  -999.0,9,  -999.0,9,  -9.0000,9,-999.0000,9, -999.00,9, -999.00,9,  -999.0,9,  -999.0,-999.000,9,-999.000,  -0.003,2,  -9.0000,-999.0000,   1.0677,   -9.00
  316N145_7,       I08N,     353,          1,          2,          2,2,19950326,       1415,   -23.5000,    79.9997,       4375,  4363.4,   1.4157,  34.7200,2,  34.7199,2,    185.9,2,   185.7,2,  126.62,2,   33.20,2,    0.00,2,    2.31,2,   0.033,3,  -0.001,2,  -999.0,9,  -999.0,9,  -9.0000,9,-999.0000,9, -999.00,9, -999.00,9,  -999.0,9,  -999.0,-999.000,9,-999.000,  -0.001,2,  -9.0000,-999.0000,   1.0587,   -9.00
  316N145_7,       I08N,     353,          1,          1,          1,2,19950326,       1415,   -23.5000,    79.9997,       4375,  4482.5,   1.4297,  34.7199,2,  34.7199,2,    185.2,2,   185.9,2,  126.37,2,   33.29,2,    0.00,2,    2.31,2,   0.161,3,   0.002,2,  -999.0,9,  -999.0,9,  -9.0000,9,-999.0000,9, -999.00,9, -999.00,9,  -999.0,9,  -999.0,-999.000,9,-999.000,   0.000,2,  -9.0000,-999.0000,   1.0587,   -9.00