BOTTLE,20211124CCHSIORKP
EXPOCODE,SECT_ID,STNNBR,CASTNO,SAMPNO,BTLNBR,BTLNBR_FLAG_W,DATE,TIME,LATITUDE,LONGITUDE,DEPTH,CTDPRS,CTDTMP,CTDSAL,CTDSAL_FLAG_W,SALNTY,SALNTY_FLAG_W,CTDOXY,CTDOXY_FLAG_W,OXYGEN,OXYGEN_FLAG_W,SILCAT,SILCAT_FLAG_W,NITRAT,NITRAT_FLAG_W,NITRIT,NITRIT_FLAG_W,PHSPHT,PHSPHT_FLAG_W,CFC-11,CFC-11_FLAG_W,CFC-12,CFC-12_FLAG_W,TCARBN,TCARBN_FLAG_W,ALKALI,ALKALI_FLAG_W,TRITUM,TRITUM_FLAG_W,HELIUM,HELIUM_FLAG_W,DELHE3,DELHE3_FLAG_W,DELC13,DELC13_FLAG_W,DELC14,DELC14_FLAG_W,C14ERR,NEON,NEON_FLAG_W,NEONER,CCL4,CCL4_FLAG_W,TRITER,HELIER,THETA,DELHER
,,,,,,,,,,,METERS,DBAR,ITS-90,PSS-78,,PSS-78,,UMOL/KG,,UMOL/KG,,UMOL/KG,,UMOL/KG,,UMOL/KG,,UMOL/KG,,PMOL/KG,,PMOL/KG,,UMOL/KG,,UMOL/KG,,TU,,NMOL/KG,,PERCNT,,/MILLE,,/MILLE,,/MILLE,NMOL/KG,,NMOL/KG,PMOL/KG,,TU,NMOL/KG,DEG C,PERCNT
  316N145_7,       I08N,     298,          1,         36,         36,2,19950314,       0151,     1.0007,    80.0002,       4601,     3.2,  29.5060,  34.4731,2,  34.4728,2,    194.9,2,   195.0,2,    2.88,2,    0.10,2,    0.00,2,    0.11,2,   1.601,2,   0.924,2,  1906.8,2,  2252.3,2,  -9.0000,9,   1.6680,2,   -1.01,2, -999.00,9,  -999.0,9,  -999.0,   6.479,2,   0.032,-999.000,9,  -9.0000,   0.0083,  29.5053,    0.14
  316N145_7,       I08N,     298,          1,         35,         35,2,19950314,       0151,     1.0007,    80.0002,       4601,    35.0,  29.3367,  34.4423,2,  34.4934,2,    191.2,2,   195.4,2,    2.65,2,    0.10,2,    0.00,2,    0.12,2,-999.000,9,-999.000,9,  -999.0,9,  -999.0,9,   1.0831,2,   1.6855,2,   -0.56,2,    1.43,2,    78.7,2,     5.1,   6.575,2,   0.033,-999.000,9,   0.0039,   0.0084,  29.3282,    0.14
  316N145_7,       I08N,     298,          1,         34,         34,2,19950314,       0151,     1.0007,    80.0002,       4601,    50.2,  26.7494,  35.3704,2,  35.3705,2,    188.3,2,   188.5,2,    4.04,2,    0.27,2,    0.02,2,    0.31,2,   1.606,2,   0.903,2,  -999.0,9,  -999.0,9,  -9.0000,9,-999.0000,9, -999.00,9, -999.00,9,  -999.0,9,  -999.0,-999.000,9,-999.000,-999.000,9,  -9.0000,-999.0000,  26.7380,   -9.00
  316N145_7,       I08N,     298,          1,         33,         33,2,19950314,       0151,     1.0007,    80.0002,       4601,    70.2,  23.3752,  35.3920,2,  35.3951,2,    138.0,2,   139.1,2,    7.29,2,    9.19,2,    0.48,2,    0.78,2,   1.601,2,   0.882,2,  -999.0,9,  -999.0,9,   0.9395,2,-999.0000,9, -999.00,9,    0.82,2,    68.8,2,     6.8,-999.000,9,-999.000,-999.000,9,   0.0036,-999.0000,  23.3607,   -9.00
  316N145_7,       I08N,     298,          1,         32,         32,2,19950314,       0151,     1.0007,    80.0002,       4601,   114.9,  19.1696,  35.2492,2,  35.2442,2,     78.9,2,    77.7,2,   14.84,2,   19.24,2,    0.02,2,    1.38,2,   1.252,2,   0.658,2,  -999.0,9,  -999.0,9,  -9.0000,9,   1.7205,2,    3.45,2,    0.41,2,     9.7,2,     4.4,   7.010,2,   0.035,-999.000,9,  -9.0000,   0.0086,  19.1490,    0.14
  316N145_7,       I08N,     298,          1,         31,         31,2,19950314,       0151,     1.0007,    80.0002,       4601,   154.6,  15.9211,  35.1812,2,  35.1780,2,     60.9,2,    66.6,2,   19.31,2,   23.29,2,    0.01,2,    1.66,2,   1.002,2,   0.515,2,  -999.0,9,  -999.0,9,   0.6589,2,   1.7392,2,    4.75,2,    0.26,2,     1.8,2,     8.7,   7.177,2,   0.036,-999.000,9,   0.0032,   0.0087,  15.8967,    0.14
  316N145_7,       I08N,     298,          1,         30,         30,2,19950314,       0151,     1.0007,    80.0002,       4601,   200.8,  13.9225,  35.1448,2,  35.1510,2,     76.5,2,    79.0,2,   20.51,2,   23.76,2,    0.00,2,    1.68,2,   0.923,2,   0.516,2,  -999.0,9,  -999.0,9,  -9.0000,9,-999.0000,9, -999.00,9,    0.16,2,     2.0,2,     4.4,-999.000,9,-999.000,-999.000,9,  -9.0000,-999.0000,  13.8936,   -9.00
  316N145_7,       I08N,     298,          1,         29,         29,2,19950314,       0151,     1.0007,    80.0002,       4601,   220.5,  13.5893,  35.1250,2,  35.1230,2,     70.9,2,    70.4,2,   21.92,2,   25.29,2,    0.00,2,    1.77,2,   0.758,2,   0.387,2,  -999.0,9,  -999.0,9,   0.5134,2,-999.0000,9, -999.00,9,    0.32,2,    -7.4,2,     4.5,-999.000,9,-999.000,-999.000,9,   0.0029,-999.0000,  13.5580,   -9.00
  316N145_7,       I08N,     298,          1,         28,         28,2,19950314,       0151,     1.0007,    80.0002,       4601,   305.7,  11.7507,  35.0611,2,  35.0612,2,     72.9,2,    76.7,2,   24.96,2,   27.06,2,    0.00,2,    1.88,2,   0.554,2,   0.265,2,  -999.0,9,  -999.0,9,   0.3489,2,   1.7596,2,    4.94,2,    0.37,2,   -33.9,2,     2.9,   7.389,2,   0.037,-999.000,9,   0.0027,   0.0088,  11.7111,    0.14
  316N145_7,       I08N,     298,          1,         27,         27,2,19950314,       0151,     1.0007,    80.0002,       4601,   396.3,  10.5686,  35.0283,2,  35.0281,2,     74.2,2,    74.3,2,   31.88,2,   29.39,2,    0.00,2,    2.07,2,-999.000,9,-999.000,9,  -999.0,9,  -999.0,9,   0.2208,2,   1.7700,2,    5.18,2,    0.38,2,   -66.5,2,     6.0,   7.434,2,   0.037,-999.000,9,   0.0025,   0.0088,  10.5205,    0.14
  316N145_7,       I08N,     298,          1,         26,         26,2,19950314,       0151,     1.0007,    80.0002,       4601,   496.1,   9.7695,  35.0415,2,  35.0417,2,     40.8,2,    45.1,2,   44.95,2,   33.41,2,    0.00,2,    2.43,2,   0.112,2,   0.052,2,  -999.0,9,  -999.0,9,   0.0927,2,   1.7785,2,    6.08,2,    0.18,2,  -115.7,2,     2.8,   7.455,2,   0.037,-999.000,9,   0.0023,   0.0089,   9.7119,    0.14
  316N145_7,       I08N,     298,          1,         25,         25,2,19950314,       0151,     1.0007,    80.0002,       4601,   525.7,   9.5915,  35.0380,2,  35.0348,2,     39.0,2,    40.7,2,   48.19,2,   34.16,2,    0.00,2,    2.50,2,   0.075,2,   0.036,2,  -999.0,9,  -999.0,9,  -9.0000,9,-999.0000,9, -999.00,9,    0.13,2,  -117.0,2,     6.9,-999.000,9,-999.000,-999.000,9,  -9.0000,-999.0000,   9.5310,   -9.00
  316N145_7,       I08N,     298,          1,         24,         24,2,19950314,       0151,     1.0007,    80.0002,       4601,   624.2,   8.9815,  35.0089,2,  35.0065,2,     47.5,2,    47.4,2,   53.47,2,   34.58,2,    0.00,2,    2.54,2,   0.059,2,   0.015,2,  -999.0,9,  -999.0,9,   0.0460,2,   1.7894,2,    6.86,2,    0.12,2,  -103.1,2,     4.7,   7.552,2,   0.038,-999.000,9,   0.0022,   0.0089,   8.9121,    0.14
  316N145_7,       I08N,     298,          1,         23,         23,2,19950314,       0151,     1.0007,    80.0002,       4601,   724.2,   8.5362,  35.0034,2,  35.0000,2,     46.5,2,    45.3,2,   59.99,2,   35.38,2,    0.00,2,    2.63,2,-999.000,9,-999.000,9,  -999.0,9,  -999.0,9,  -9.0000,9,-999.0000,9, -999.00,9,    0.09,2,  -129.9,2,     3.8,-999.000,9,-999.000,-999.000,9,  -9.0000,-999.0000,   8.4576,   -9.00
  316N145_7,       I08N,     298,          1,         22,         22,2,19950314,       0151,     1.0007,    80.0002,       4601,   825.7,   8.0398,  34.9878,2,  34.9864,2,     46.2,2,    44.9,2,   66.92,2,   36.04,2,    0.00,2,    2.69,2,   0.015,2,   0.004,2,  -999.0,9,  -999.0,9,   0.0207,2,   1.8061,2,    8.53,2,    0.11,2,  -148.8,2,     3.9,   7.597,2,   0.038,-999.000,9,   0.0022,   0.0090,   7.9527,    0.14
  316N145_7,       I08N,     298,          1,         21,         21,2,19950314,       0151,     1.0007,    80.0002,       4601,   927.3,   7.2360,  34.9665,2,  34.9642,2,     44.6,2,    46.5,2,   77.95,2,   36.88,2,    0.01,2,    2.76,2,   0.009,2,   0.001,2,  -999.0,9,  -999.0,9,  -9.0000,9,-999.0000,9, -999.00,9,    0.01,2,  -148.1,2,     3.4,-999.000,9,-999.000,-999.000,9,  -9.0000,-999.0000,   7.1430,   -9.00
  316N145_7,       I08N,     298,          1,         20,         20,2,19950314,       0151,     1.0007,    80.0002,       4601,  1028.8,   6.6864,  34.9418,2,  34.9421,2,     51.3,2,    51.5,2,   84.49,2,   37.21,2,    0.01,2,    2.78,2,   0.007,2,   0.003,2,  -999.0,9,  -999.0,9,   0.0083,2,   1.8134,2,   10.72,2,    0.04,2,  -149.0,2,     4.9,   7.671,2,   0.038,-999.000,9,   0.0022,   0.0091,   6.5868,    0.14
  316N145_7,       I08N,     298,          1,         19,         19,2,19950314,       0151,     1.0007,    80.0002,       4601,  1211.0,   5.6812,  34.8907,2,  34.8912,2,     65.8,2,    66.5,2,   94.76,2,   37.26,2,    0.00,2,    2.78,2,-999.000,9,-999.000,9,  -999.0,9,  -999.0,9,   0.0051,2,   1.8381,2,   12.20,2,   -0.24,2,  -160.5,2,     3.5,   7.752,2,   0.039,-999.000,9,   0.0022,   0.0092,   5.5716,    0.14
  316N145_7,       I08N,     298,          1,         18,         18,2,19950314,       0151,     1.0007,    80.0002,       4601,  1413.8,   4.9034,  34.8673,2,  34.8668,2,     76.5,2,    78.8,2,  103.41,2,   37.17,2,    0.00,2,    2.76,2,   0.002,2,  -0.001,2,  -999.0,9,  -999.0,9,   0.0018,2,   1.8501,2,   12.40,2, -999.00,9,  -999.0,9,  -999.0,   7.847,2,   0.039,-999.000,9,   0.0022,   0.0093,   4.7816,    0.14
  316N145_7,       I08N,     298,          1,         17,         17,2,19950314,       0151,     1.0007,    80.0002,       4601,  1564.7,   4.1872,  34.8318,2,  34.8322,2,     93.2,2,    93.6,2,  108.77,2,   36.80,2,    0.00,2,    2.71,2,-999.000,9,-999.000,9,  -999.0,9,  -999.0,9,  -9.0000,9,-999.0000,9, -999.00,9, -999.00,9,  -999.0,9,  -999.0,-999.000,9,-999.000,-999.000,9,  -9.0000,-999.0000,   4.0592,   -9.00
  316N145_7,       I08N,     298,          1,         16,         16,2,19950314,       0151,     1.0007,    80.0002,       4601,  1767.0,   3.5756,  34.8132,2,  34.8133,2,    106.7,2,   106.0,2,  115.41,2,   36.37,2,    0.00,2,    2.68,2,-999.000,9,-999.000,9,  -999.0,9,  -999.0,9,   0.0027,2,   1.8286,2,   13.48,2, -999.00,9,  -999.0,9,  -999.0,   7.801,2,   0.039,-999.000,9,   0.0022,   0.0091,   3.4366,    0.14
  316N145_7,       I08N,     298,          1,         15,         15,2,19950314,       0151,     1.0007,    80.0002,       4601,  1969.8,   2.9171,  34.7847,2,  34.7828,2,    121.0,2,   122.7,2,  122.71,2,   35.90,2,    0.00,2,    2.61,2,-999.000,9,-999.000,9,  -999.0,9,  -999.0,9,  -0.0004,2,   1.8321,2,   14.00,2, -999.00,9,  -999.0,9,  -999.0,   7.843,2,   0.039,-999.000,9,   0.0022,   0.0092,   2.7690,    0.14
  316N145_7,       I08N,     298,          1,         14,         14,2,19950314,       0151,     1.0007,    80.0002,       4601,  2172.9,   2.5009,  34.7645,2,  34.7648,2,    135.0,2,   134.6,2,  126.03,2,   35.43,2,    0.00,2,    2.56,2,-999.000,9,-999.000,9,  -999.0,9,  -999.0,9,  -9.0000,9,-999.0000,9, -999.00,9, -999.00,9,  -999.0,9,  -999.0,-999.000,9,-999.000,-999.000,9,  -9.0000,-999.0000,   2.3411,   -9.00
  316N145_7,       I08N,     298,          1,         13,         13,2,19950314,       0151,     1.0007,    80.0002,       4601,  2375.3,   2.2217,  34.7531,2,  34.7530,2,    143.0,2,   143.0,2,  128.73,2,   35.10,2,    0.00,2,    2.51,2,-999.000,9,-999.000,9,  -999.0,9,  -999.0,9,  -9.0000,9,-999.0000,9, -999.00,9, -999.00,9,  -999.0,9,  -999.0,-999.000,9,-999.000,-999.000,9,  -9.0000,-999.0000,   2.0484,   -9.00
  316N145_7,       I08N,     298,          1,         12,         12,2,19950314,       0151,     1.0007,    80.0002,       4601,  2578.3,   2.0304,  34.7438,2,  34.7457,2,    149.9,2,   149.0,2,  130.59,2,   34.91,2,    0.00,2,    2.48,2,   0.000,2,   0.000,2,  -999.0,9,  -999.0,9,  -9.0000,9,-999.0000,9, -999.00,9, -999.00,9,  -999.0,9,  -999.0,-999.000,9,-999.000,-999.000,9,  -9.0000,-999.0000,   1.8420,   -9.00
  316N145_7,       I08N,     298,          1,         11,         11,2,19950314,       0151,     1.0007,    80.0002,       4601,  2780.8,   1.8526,  34.7364,2,  34.7355,2,    155.2,2,   155.2,2,  132.24,2,   34.72,2,    0.00,2,    2.45,2,-999.000,9,-999.000,9,  -999.0,9,  -999.0,9,  -9.0000,9,-999.0000,9, -999.00,9, -999.00,9,  -999.0,9,  -999.0,-999.000,9,-999.000,-999.000,9,  -9.0000,-999.0000,   1.6488,   -9.00
  316N145_7,       I08N,     298,          1,         10,         10,2,19950314,       0151,     1.0007,    80.0002,       4601,  2984.3,   1.7452,  34.7311,2,  34.7313,2,    158.9,2,   158.5,2,  133.89,2,   34.48,2,    0.00,2,    2.45,2,-999.000,9,-999.000,9,  -999.0,9,  -999.0,9,  -9.0000,9,-999.0000,9, -999.00,9, -999.00,9,  -999.0,9,  -999.0,-999.000,9,-999.000,-999.000,9,  -9.0000,-999.0000,   1.5242,   -9.00
  316N145_7,       I08N,     298,          1,          9,          9,2,19950314,       0151,     1.0007,    80.0002,       4601,  3136.4,   1.6949,  34.7300,2,  34.7296,2,    159.0,2,   158.8,2,  135.76,2,   34.62,2,    0.00,2,    2.45,2,-999.000,9,-999.000,9,  -999.0,9,  -999.0,9,  -9.0000,9,-999.0000,9, -999.00,9, -999.00,9,  -999.0,9,  -999.0,-999.000,9,-999.000,-999.000,9,  -9.0000,-999.0000,   1.4603,   -9.00
  316N145_7,       I08N,     298,          1,          8,          8,2,19950314,       0151,     1.0007,    80.0002,       4601,  3238.1,   1.6433,  34.7278,2,  34.7286,2,    156.8,2,   156.9,2,  139.13,2,   34.81,2,    0.00,2,    2.48,2,  -0.001,2,   0.002,2,  -999.0,9,  -999.0,9,  -9.0000,9,-999.0000,9, -999.00,9, -999.00,9,  -999.0,9,  -999.0,-999.000,9,-999.000,-999.000,9,  -9.0000,-999.0000,   1.3998,   -9.00
  316N145_7,       I08N,     298,          1,          7,          7,2,19950314,       0151,     1.0007,    80.0002,       4601,  3442.3,   1.5353,  34.7243,2,  34.7235,2,    160.3,2,   160.7,2,  140.58,2,   34.72,2,    0.00,2,    2.45,2,-999.000,9,-999.000,9,  -999.0,9,  -999.0,9,  -9.0000,9,-999.0000,9, -999.00,9, -999.00,9,  -999.0,9,  -999.0,-999.000,9,-999.000,-999.000,9,  -9.0000,-999.0000,   1.2739,   -9.00
  316N145_7,       I08N,     298,          1,          6,          6,2,19950314,       0151,     1.0007,    80.0002,       4601,  3646.6,   1.4549,  34.7217,2,  34.7219,2,    163.9,2,   164.9,2,  141.39,2,   34.53,2,    0.00,2,    2.43,2,-999.000,9,-999.000,9,  -999.0,9,  -999.0,9,  -9.0000,9,-999.0000,9, -999.00,9, -999.00,9,  -999.0,9,  -999.0,-999.000,9,-999.000,-999.000,9,  -9.0000,-999.0000,   1.1746,   -9.00
  316N145_7,       I08N,     298,          1,          5,          5,2,19950314,       0151,     1.0007,    80.0002,       4601,  3850.2,   1.3967,  34.7190,2,  34.7188,2,    169.1,2,   170.5,2,  139.83,2,   34.39,2,    0.00,2,    2.40,2,-999.000,9,-999.000,9,  -999.0,9,  -999.0,9,  -9.0000,9,-999.0000,9, -999.00,9, -999.00,9,  -999.0,9,  -999.0,-999.000,9,-999.000,-999.000,9,  -9.0000,-999.0000,   1.0966,   -9.00
  316N145_7,       I08N,     298,          1,          4,          4,2,19950314,       0151,     1.0007,    80.0002,       4601,  4055.5,   1.3899,  34.7186,2,  34.7188,2,    173.0,2,   172.9,2,  138.49,2,   34.15,2,    0.00,2,    2.38,2,-999.000,9,-999.000,9,  -999.0,9,  -999.0,9,  -9.0000,9,-999.0000,9, -999.00,9, -999.00,9,  -999.0,9,  -999.0,-999.000,9,-999.000,-999.000,9,  -9.0000,-999.0000,   1.0678,   -9.00
  316N145_7,       I08N,     298,          1,          3,          3,2,19950314,       0151,     1.0007,    80.0002,       4601,  4311.1,   1.3942,  34.7182,2,  34.7174,2,    175.2,2,   175.6,2,  137.37,2,   34.06,2,    0.00,2,    2.37,2,-999.000,9,-999.000,9,  -999.0,9,  -999.0,9,  -9.0000,9,-999.0000,9, -999.00,9, -999.00,9,  -999.0,9,  -999.0,-999.000,9,-999.000,-999.000,9,  -9.0000,-999.0000,   1.0438,   -9.00
  316N145_7,       I08N,     298,          1,          2,          2,2,19950314,       0151,     1.0007,    80.0002,       4601,  4515.6,   1.4065,  34.7181,2,  34.7174,2,    176.9,2,   176.6,2,  136.67,2,   33.92,2,    0.00,2,    2.37,2,   0.000,2,   0.002,2,  2262.9,4,  -999.0,5,  -9.0000,9,-999.0000,9, -999.00,9, -999.00,9,  -999.0,9,  -999.0,-999.000,9,-999.000,-999.000,9,  -9.0000,-999.0000,   1.0325,   -9.00
  316N145_7,       I08N,     298,          1,          1,          1,2,19950314,       0151,     1.0007,    80.0002,       4601,  4681.3,   1.4231,  34.7180,2,  34.7172,2,    178.2,2,   178.1,2,  136.41,2,   33.87,2,    0.00,2,    2.36,2,  -0.005,2,  -0.004,2,  -999.0,9,  -999.0,9,  -9.0000,9,-999.0000,9, -999.00,9, -999.00,9,  -999.0,9,  -999.0,-999.000,9,-999.000,-999.000,9,  -9.0000,-999.0000,   1.0293,   -9.00