BOTTLE,20211124CCHSIORKP
EXPOCODE,SECT_ID,STNNBR,CASTNO,SAMPNO,BTLNBR,BTLNBR_FLAG_W,DATE,TIME,LATITUDE,LONGITUDE,DEPTH,CTDPRS,CTDTMP,CTDSAL,CTDSAL_FLAG_W,SALNTY,SALNTY_FLAG_W,CTDOXY,CTDOXY_FLAG_W,OXYGEN,OXYGEN_FLAG_W,SILCAT,SILCAT_FLAG_W,NITRAT,NITRAT_FLAG_W,NITRIT,NITRIT_FLAG_W,PHSPHT,PHSPHT_FLAG_W,CFC-11,CFC-11_FLAG_W,CFC-12,CFC-12_FLAG_W,TCARBN,TCARBN_FLAG_W,ALKALI,ALKALI_FLAG_W,TRITUM,TRITUM_FLAG_W,HELIUM,HELIUM_FLAG_W,DELHE3,DELHE3_FLAG_W,DELC13,DELC13_FLAG_W,DELC14,DELC14_FLAG_W,C14ERR,NEON,NEON_FLAG_W,NEONER,CCL4,CCL4_FLAG_W,TRITER,HELIER,THETA,DELHER
,,,,,,,,,,,METERS,DBAR,ITS-90,PSS-78,,PSS-78,,UMOL/KG,,UMOL/KG,,UMOL/KG,,UMOL/KG,,UMOL/KG,,UMOL/KG,,PMOL/KG,,PMOL/KG,,UMOL/KG,,UMOL/KG,,TU,,NMOL/KG,,PERCNT,,/MILLE,,/MILLE,,/MILLE,NMOL/KG,,NMOL/KG,PMOL/KG,,TU,NMOL/KG,DEG C,PERCNT
  316N145_7,       I05E,     411,          1,         36,         36,2,19950407,       2253,   -34.0018,    99.0143,       4627,     3.4,  20.0553,  35.7749,2,  35.7736,2,    227.2,2,   227.8,2,    2.18,2,    0.11,2,    0.00,2,    0.16,2,   2.246,2,   1.275,2,  2053.7,2,  2350.9,2,  -9.0000,9,-999.0000,9, -999.00,9, -999.00,9,  -999.0,9,  -999.0,-999.000,9,-999.000,   3.005,2,  -9.0000,-999.0000,  20.0547,   -9.00
  316N145_7,       I05E,     411,          1,         35,         35,2,19950407,       2253,   -34.0018,    99.0143,       4627,    37.9,  20.0586,  35.7755,2,  35.7702,2,    235.2,2,   227.3,2,    2.16,2,    0.12,2,    0.00,2,    0.16,2,-999.000,9,-999.000,9,  -999.0,9,  -999.0,9,  -9.0000,9,-999.0000,9, -999.00,9, -999.00,9,  -999.0,9,  -999.0,-999.000,9,-999.000,-999.000,9,  -9.0000,-999.0000,  20.0516,   -9.00
  316N145_7,       I05E,     411,          1,         34,         34,2,19950407,       2253,   -34.0018,    99.0143,       4627,    57.3,  17.8822,  35.5106,2,  35.4906,2,    247.4,2,   263.3,2,    1.93,2,    0.12,2,    0.00,2,    0.20,2,   2.697,2,   1.486,2,  -999.0,9,  -999.0,9,  -9.0000,9,-999.0000,9, -999.00,9, -999.00,9,  -999.0,9,  -999.0,-999.000,9,-999.000,   2.438,2,  -9.0000,-999.0000,  17.8724,   -9.00
  316N145_7,       I05E,     411,          1,         33,         33,2,19950407,       2253,   -34.0018,    99.0143,       4627,    87.9,  15.5071,  35.5419,2,  35.5342,2,    256.4,2,   254.1,2,    2.33,2,    0.49,2,    0.03,2,    0.25,2,-999.000,9,-999.000,9,  -999.0,9,  -999.0,9,  -9.0000,9,-999.0000,9, -999.00,9, -999.00,9,  -999.0,9,  -999.0,-999.000,9,-999.000,-999.000,9,  -9.0000,-999.0000,  15.4934,   -9.00
  316N145_7,       I05E,     411,          1,         32,         32,3,19950407,       2253,   -34.0018,    99.0143,       4627,   148.1,  13.7033,  35.3756,2,  35.5316,4,    236.7,2,   253.9,4,    2.32,4,    0.49,4,    0.03,4,    0.26,4,   2.851,2,   1.568,2,  -999.0,9,  -999.0,9,  -9.0000,9,-999.0000,9, -999.00,9, -999.00,9,  -999.0,9,  -999.0,-999.000,9,-999.000,   2.273,2,  -9.0000,-999.0000,  13.6822,   -9.00
  316N145_7,       I05E,     411,          1,         31,         31,2,19950407,       2253,   -34.0018,    99.0143,       4627,   178.8,  13.2608,  35.3210,2,  35.3200,2,    234.0,2,   236.9,2,    2.93,2,    5.77,2,    0.01,2,    0.55,2,-999.000,9,-999.000,9,  -999.0,9,  -999.0,9,  -9.0000,9,-999.0000,9, -999.00,9, -999.00,9,  -999.0,9,  -999.0,-999.000,9,-999.000,-999.000,9,  -9.0000,-999.0000,  13.2358,   -9.00
  316N145_7,       I05E,     411,          1,         30,         30,2,19950407,       2253,   -34.0018,    99.0143,       4627,   229.1,  12.5542,  35.2044,2,  35.2036,2,    232.6,2,   232.3,2,    3.33,2,    7.99,2,    0.01,2,    0.68,2,   3.060,2,   1.578,2,  -999.0,9,  -999.0,9,  -9.0000,9,-999.0000,9, -999.00,9, -999.00,9,  -999.0,9,  -999.0,-999.000,9,-999.000,   1.161,2,  -9.0000,-999.0000,  12.5233,   -9.00
  316N145_7,       I05E,     411,          1,         29,         29,2,19950407,       2253,   -34.0018,    99.0143,       4627,   287.0,  11.7989,  35.0865,2,  35.0860,2,    236.5,2,   239.9,2,    3.52,2,    9.08,2,    0.01,2,    0.74,2,-999.000,9,-999.000,9,  -999.0,9,  -999.0,9,  -9.0000,9,-999.0000,9, -999.00,9, -999.00,9,  -999.0,9,  -999.0,-999.000,9,-999.000,-999.000,9,  -9.0000,-999.0000,  11.7617,   -9.00
  316N145_7,       I05E,     411,          1,         28,         28,2,19950407,       2253,   -34.0018,    99.0143,       4627,   367.2,  11.1008,  34.9736,2,  34.9720,2,    241.2,2,   243.0,2,    3.93,2,   10.61,2,    0.01,2,    0.83,2,   3.333,2,   1.691,2,  -999.0,9,  -999.0,9,  -9.0000,9,-999.0000,9, -999.00,9, -999.00,9,  -999.0,9,  -999.0,-999.000,9,-999.000,   1.788,2,  -9.0000,-999.0000,  11.0550,   -9.00
  316N145_7,       I05E,     411,          1,         27,         27,2,19950407,       2253,   -34.0018,    99.0143,       4627,   447.3,  10.5397,  34.8798,2,  34.8793,2,    243.2,2,   243.4,2,    4.33,2,   12.09,2,    0.01,2,    0.92,2,-999.000,9,-999.000,9,  -999.0,9,  -999.0,9,  -9.0000,9,-999.0000,9, -999.00,9, -999.00,9,  -999.0,9,  -999.0,-999.000,9,-999.000,-999.000,9,  -9.0000,-999.0000,  10.4855,   -9.00
  316N145_7,       I05E,     411,          1,         26,         26,2,19950407,       2253,   -34.0018,    99.0143,       4627,   527.8,   9.9608,  34.7842,2,  34.7840,2,    243.9,2,   242.6,2,    4.94,2,   13.92,2,    0.00,2,    1.03,2,   3.157,2,   1.605,2,  -999.0,9,  -999.0,9,  -9.0000,9,-999.0000,9, -999.00,9, -999.00,9,  -999.0,9,  -999.0,-999.000,9,-999.000,   1.911,2,  -9.0000,-999.0000,   9.8988,   -9.00
  316N145_7,       I05E,     411,          1,         25,         25,2,19950407,       2253,   -34.0018,    99.0143,       4627,   608.3,   9.5182,  34.7124,2,  34.7128,2,    243.7,2,   240.5,2,    5.55,2,   15.55,2,    0.00,2,    1.14,2,-999.000,9,-999.000,9,  -999.0,9,  -999.0,9,  -9.0000,9,-999.0000,9, -999.00,9, -999.00,9,  -999.0,9,  -999.0,-999.000,9,-999.000,-999.000,9,  -9.0000,-999.0000,   9.4485,   -9.00
  316N145_7,       I05E,     411,          1,         24,         24,2,19950407,       2253,   -34.0018,    99.0143,       4627,   707.2,   8.9388,  34.6346,2,  34.6344,2,    229.6,2,   230.2,2,    7.21,2,   18.27,2,    0.00,2,    1.30,2,   2.563,2,   1.299,2,  -999.0,9,  -999.0,9,  -9.0000,9,-999.0000,9, -999.00,9, -999.00,9,  -999.0,9,  -999.0,-999.000,9,-999.000,   1.749,2,  -9.0000,-999.0000,   8.8604,   -9.00
  316N145_7,       I05E,     411,          1,         23,         23,2,19950407,       2253,   -34.0018,    99.0143,       4627,   808.3,   7.8173,  34.5318,2,  34.5344,2,    211.5,2,   209.3,2,   12.64,2,   22.67,2,    0.00,2,    1.58,2,-999.000,9,-999.000,9,  -999.0,9,  -999.0,9,  -9.0000,9,-999.0000,9, -999.00,9, -999.00,9,  -999.0,9,  -999.0,-999.000,9,-999.000,-999.000,9,  -9.0000,-999.0000,   7.7339,   -9.00
  316N145_7,       I05E,     411,          1,         22,         22,2,19950407,       2253,   -34.0018,    99.0143,       4627,   909.1,   6.3400,  34.4390,2,  34.4450,2,    200.9,2,   197.3,2,   22.05,2,   26.98,2,    0.00,2,    1.87,2,   0.881,2,   0.446,2,  -999.0,9,  -999.0,9,  -9.0000,9,-999.0000,9, -999.00,9, -999.00,9,  -999.0,9,  -999.0,-999.000,9,-999.000,   1.260,2,  -9.0000,-999.0000,   6.2557,   -9.00
  316N145_7,       I05E,     411,          1,         21,         21,2,19950407,       2253,   -34.0018,    99.0143,       4627,  1007.4,   4.9544,  34.3834,2,  34.3838,2,    194.3,2,   195.1,2,   32.92,2,   30.17,2,    0.00,2,    2.10,2,   0.587,6,   0.308,6,  -999.0,9,  -999.0,9,  -9.0000,9,-999.0000,9, -999.00,9, -999.00,9,  -999.0,9,  -999.0,-999.000,9,-999.000,   1.261,6,  -9.0000,-999.0000,   4.8709,   -9.00
  316N145_7,       I05E,     411,          1,         20,         20,2,19950407,       2253,   -34.0018,    99.0143,       4627,  1158.3,   4.0507,  34.4233,2,  34.4234,2,    175.4,2,   176.2,2,   51.54,2,   32.86,2,    0.00,2,    2.33,2,   0.287,3,   0.137,2,  -999.0,9,  -999.0,9,  -9.0000,9,-999.0000,9, -999.00,9, -999.00,9,  -999.0,9,  -999.0,-999.000,9,-999.000,   0.732,2,  -9.0000,-999.0000,   3.9614,   -9.00
  316N145_7,       I05E,     411,          1,         19,         19,2,19950407,       2253,   -34.0018,    99.0143,       4627,  1310.3,   3.6159,  34.4961,2,  34.4961,2,    158.3,2,   157.6,2,   67.86,2,   34.46,2,    0.00,2,    2.45,2,   0.113,3,   0.046,2,  -999.0,9,  -999.0,9,  -9.0000,9,-999.0000,9, -999.00,9, -999.00,9,  -999.0,9,  -999.0,-999.000,9,-999.000,   0.335,2,  -9.0000,-999.0000,   3.5176,   -9.00
  316N145_7,       I05E,     411,          1,         18,         18,2,19950407,       2253,   -34.0018,    99.0143,       4627,  1460.4,   3.3568,  34.5523,2,  34.5528,2,    150.7,2,   150.3,2,   77.49,2,   34.86,2,    0.00,2,    2.48,2,-999.000,9,-999.000,9,  -999.0,9,  -999.0,9,  -9.0000,9,-999.0000,9, -999.00,9, -999.00,9,  -999.0,9,  -999.0,-999.000,9,-999.000,-999.000,9,  -9.0000,-999.0000,   3.2483,   -9.00
  316N145_7,       I05E,     411,          1,         17,         17,2,19950407,       2253,   -34.0018,    99.0143,       4627,  1612.5,   3.0468,  34.5865,2,  34.5862,2,    153.3,2,   154.9,2,   81.02,2,   34.66,2,    0.00,2,    2.46,2,   0.057,3,   0.087,3,  -999.0,9,  -999.0,9,  -9.0000,9,-999.0000,9, -999.00,9, -999.00,9,  -999.0,9,  -999.0,-999.000,9,-999.000,   0.066,2,  -9.0000,-999.0000,   2.9288,   -9.00
  316N145_7,       I05E,     411,          1,         16,         16,2,19950407,       2253,   -34.0018,    99.0143,       4627,  1766.5,   2.8282,  34.6322,2,  34.6316,2,    154.8,2,   156.3,2,   86.67,2,   34.26,2,    0.00,2,    2.43,2,-999.000,9,-999.000,9,  -999.0,9,  -999.0,9,  -9.0000,9,-999.0000,9, -999.00,9, -999.00,9,  -999.0,9,  -999.0,-999.000,9,-999.000,-999.000,9,  -9.0000,-999.0000,   2.6997,   -9.00
  316N145_7,       I05E,     411,          1,         15,         15,2,19950407,       2253,   -34.0018,    99.0143,       4627,  1917.7,   2.6697,  34.6656,2,  34.6652,2,    157.5,2,   157.3,2,   91.89,2,   33.92,2,    0.00,2,    2.42,2,   0.030,3,   0.003,2,  -999.0,9,  -999.0,9,  -9.0000,9,-999.0000,9, -999.00,9, -999.00,9,  -999.0,9,  -999.0,-999.000,9,-999.000,   0.005,2,  -9.0000,-999.0000,   2.5303,   -9.00
  316N145_7,       I05E,     411,          1,         14,         14,2,19950407,       2253,   -34.0018,    99.0143,       4627,  2069.0,   2.5130,  34.6916,2,  34.6917,2,    162.3,2,   162.0,2,   95.44,2,   33.52,2,    0.00,2,    2.38,2,-999.000,9,-999.000,9,  -999.0,9,  -999.0,9,  -9.0000,9,-999.0000,9, -999.00,9, -999.00,9,  -999.0,9,  -999.0,-999.000,9,-999.000,-999.000,9,  -9.0000,-999.0000,   2.3625,   -9.00
  316N145_7,       I05E,     411,          1,         13,         13,2,19950407,       2253,   -34.0018,    99.0143,       4627,  2222.7,   2.3491,  34.7105,2,  34.7104,2,    174.7,2,   173.9,2,   90.97,2,   32.42,2,    0.00,2,    2.28,2,   0.025,3,   0.002,2,  -999.0,9,  -999.0,9,  -9.0000,9,-999.0000,9, -999.00,9, -999.00,9,  -999.0,9,  -999.0,-999.000,9,-999.000,   0.011,2,  -9.0000,-999.0000,   2.1875,   -9.00
  316N145_7,       I05E,     411,          1,         12,         12,2,19950407,       2253,   -34.0018,    99.0143,       4627,  2424.1,   2.1764,  34.7318,2,  34.7310,2,    185.8,2,   184.6,2,   89.66,2,   31.43,2,    0.00,2,    2.20,2,-999.000,9,-999.000,9,  -999.0,9,  -999.0,9,  -9.0000,9,-999.0000,9, -999.00,9, -999.00,9,  -999.0,9,  -999.0,-999.000,9,-999.000,-999.000,9,  -9.0000,-999.0000,   1.9994,   -9.00
  316N145_7,       I05E,     411,          1,         11,         11,2,19950407,       2253,   -34.0018,    99.0143,       4627,  2626.9,   1.9436,  34.7417,2,  34.7410,2,    190.5,2,   191.6,2,   94.05,2,   31.03,2,    0.00,2,    2.17,2,  -0.011,3,   0.002,2,  -999.0,9,  -999.0,9,  -9.0000,9,-999.0000,9, -999.00,9, -999.00,9,  -999.0,9,  -999.0,-999.000,9,-999.000,   0.011,2,  -9.0000,-999.0000,   1.7523,   -9.00
  316N145_7,       I05E,     411,          1,         10,         10,2,19950407,       2253,   -34.0018,    99.0143,       4627,  2830.6,   1.7265,  34.7418,2,  34.7406,2,    196.8,2,   195.5,2,   99.08,2,   30.98,2,    0.00,2,    2.16,2,-999.000,9,-999.000,9,  -999.0,9,  -999.0,9,  -9.0000,9,-999.0000,9, -999.00,9, -999.00,9,  -999.0,9,  -999.0,-999.000,9,-999.000,-999.000,9,  -9.0000,-999.0000,   1.5205,   -9.00
  316N145_7,       I05E,     411,          1,          9,          9,2,19950407,       2253,   -34.0018,    99.0143,       4627,  3034.2,   1.5478,  34.7366,2,  34.7359,2,    198.0,2,   198.7,2,  104.11,2,   31.18,2,    0.00,2,    2.18,2,   0.005,3,   0.001,2,  -999.0,9,  -999.0,9,  -9.0000,9,-999.0000,9, -999.00,9, -999.00,9,  -999.0,9,  -999.0,-999.000,9,-999.000,   0.013,2,  -9.0000,-999.0000,   1.3263,   -9.00
  316N145_7,       I05E,     411,          1,          8,          8,2,19950407,       2253,   -34.0018,    99.0143,       4627,  3239.1,   1.4005,  34.7321,2,  34.7314,2,    200.3,2,   200.4,2,  108.31,2,   31.43,2,    0.00,2,    2.19,2,-999.000,9,-999.000,9,  -999.0,9,  -999.0,9,  -9.0000,9,-999.0000,9, -999.00,9, -999.00,9,  -999.0,9,  -999.0,-999.000,9,-999.000,-999.000,9,  -9.0000,-999.0000,   1.1627,   -9.00
  316N145_7,       I05E,     411,          1,          7,          7,2,19950407,       2253,   -34.0018,    99.0143,       4627,  3443.3,   1.2806,  34.7268,2,  34.7274,2,    201.1,2,   202.1,2,  111.67,2,   31.59,2,    0.00,2,    2.20,2,   0.006,3,   0.000,2,  -999.0,9,  -999.0,9,  -9.0000,9,-999.0000,9, -999.00,9, -999.00,9,  -999.0,9,  -999.0,-999.000,9,-999.000,   0.016,2,  -9.0000,-999.0000,   1.0254,   -9.00
  316N145_7,       I05E,     411,          1,          6,          6,2,19950407,       2253,   -34.0018,    99.0143,       4627,  3709.2,   1.1707,  34.7221,2,  34.7211,2,    203.4,2,   203.5,2,  115.03,2,   31.74,2,    0.00,2,    2.21,2,-999.000,9,-999.000,9,  -999.0,9,  -999.0,9,  -9.0000,9,-999.0000,9, -999.00,9, -999.00,9,  -999.0,9,  -999.0,-999.000,9,-999.000,-999.000,9,  -9.0000,-999.0000,   0.8914,   -9.00
  316N145_7,       I05E,     411,          1,          5,          5,2,19950407,       2253,   -34.0018,    99.0143,       4627,  3854.3,   1.1191,  34.7190,2,  34.7174,2,    205.4,2,   205.5,2,  116.48,2,   31.84,2,    0.00,2,    2.22,2,  -0.003,3,   0.004,2,  -999.0,9,  -999.0,9,  -9.0000,9,-999.0000,9, -999.00,9, -999.00,9,  -999.0,9,  -999.0,-999.000,9,-999.000,   0.038,2,  -9.0000,-999.0000,   0.8261,   -9.00
  316N145_7,       I05E,     411,          1,          4,          4,2,19950407,       2253,   -34.0018,    99.0143,       4627,  4059.5,   1.0619,  34.7152,2,  34.7143,2,    204.4,2,   205.7,2,  118.36,2,   31.95,2,    0.00,2,    2.22,2,-999.000,9,-999.000,9,  -999.0,9,  -999.0,9,  -9.0000,9,-999.0000,9, -999.00,9, -999.00,9,  -999.0,9,  -999.0,-999.000,9,-999.000,-999.000,9,  -9.0000,-999.0000,   0.7489,   -9.00
  316N145_7,       I05E,     411,          1,          3,          3,2,19950407,       2253,   -34.0018,    99.0143,       4627,  4264.4,   1.0214,  34.7126,2,  34.7117,2,    205.1,2,   206.7,2,  120.02,2,   32.10,2,    0.00,2,    2.23,2,-999.000,9,-999.000,9,  -999.0,9,  -999.0,9,  -9.0000,9,-999.0000,9, -999.00,9, -999.00,9,  -999.0,9,  -999.0,-999.000,9,-999.000,-999.000,9,  -9.0000,-999.0000,   0.6874,   -9.00
  316N145_7,       I05E,     411,          1,          2,          2,2,19950407,       2253,   -34.0018,    99.0143,       4627,  4470.7,   1.0127,  34.7109,2,  34.7103,2,    207.4,2,   207.0,2,  120.83,2,   32.20,2,    0.00,2,    2.24,2,   0.009,3,   0.005,2,  -999.0,9,  -999.0,9,  -9.0000,9,-999.0000,9, -999.00,9, -999.00,9,  -999.0,9,  -999.0,-999.000,9,-999.000,   0.070,2,  -9.0000,-999.0000,   0.6561,   -9.00
  316N145_7,       I05E,     411,          1,          1,          1,2,19950407,       2253,   -34.0018,    99.0143,       4627,  4728.6,   1.0151,  34.7100,2,  34.7091,2,    207.8,2,   207.6,2,  121.21,2,   32.15,2,    0.00,2,    2.23,2,   0.020,3,   0.006,2,  -999.0,9,  -999.0,9,  -9.0000,9,-999.0000,9, -999.00,9, -999.00,9,  -999.0,9,  -999.0,-999.000,9,-999.000,   0.082,2,  -9.0000,-999.0000,   0.6290,   -9.00