BOTTLE,20211124CCHSIORKP
EXPOCODE,SECT_ID,STNNBR,CASTNO,SAMPNO,BTLNBR,BTLNBR_FLAG_W,DATE,TIME,LATITUDE,LONGITUDE,DEPTH,CTDPRS,CTDTMP,CTDSAL,CTDSAL_FLAG_W,SALNTY,SALNTY_FLAG_W,CTDOXY,CTDOXY_FLAG_W,OXYGEN,OXYGEN_FLAG_W,SILCAT,SILCAT_FLAG_W,NITRAT,NITRAT_FLAG_W,NITRIT,NITRIT_FLAG_W,PHSPHT,PHSPHT_FLAG_W,CFC-11,CFC-11_FLAG_W,CFC-12,CFC-12_FLAG_W,TCARBN,TCARBN_FLAG_W,ALKALI,ALKALI_FLAG_W,TRITUM,TRITUM_FLAG_W,HELIUM,HELIUM_FLAG_W,DELHE3,DELHE3_FLAG_W,DELC13,DELC13_FLAG_W,DELC14,DELC14_FLAG_W,C14ERR,NEON,NEON_FLAG_W,NEONER,CCL4,CCL4_FLAG_W,TRITER,HELIER,THETA,DELHER
,,,,,,,,,,,METERS,DBAR,ITS-90,PSS-78,,PSS-78,,UMOL/KG,,UMOL/KG,,UMOL/KG,,UMOL/KG,,UMOL/KG,,UMOL/KG,,PMOL/KG,,PMOL/KG,,UMOL/KG,,UMOL/KG,,TU,,NMOL/KG,,PERCNT,,/MILLE,,/MILLE,,/MILLE,NMOL/KG,,NMOL/KG,PMOL/KG,,TU,NMOL/KG,DEG C,PERCNT
  316N145_7,       I05E,     408,          1,         36,         36,2,19950407,       0307,   -33.9995,    96.6005,       3945,     3.5,  19.7763,  35.4625,2,  35.4622,2,    232.6,2,   234.2,2,    2.19,2,    0.16,2,    0.00,2,    0.17,2,   2.356,2,   1.309,2,  2040.8,2,  2336.4,2,  -9.0000,9,-999.0000,9, -999.00,9, -999.00,9,  -999.0,9,  -999.0,-999.000,9,-999.000,-999.000,9,  -9.0000,-999.0000,  19.7757,   -9.00
  316N145_7,       I05E,     408,          1,         35,         35,2,19950407,       0307,   -33.9995,    96.6005,       3945,    32.9,  19.7047,  35.4685,2,  35.4647,2,    232.3,2,   231.1,2,    2.13,2,    0.16,2,    0.00,2,    0.17,2,-999.000,9,-999.000,9,  2043.9,2,  2332.3,2,  -9.0000,9,-999.0000,9, -999.00,9, -999.00,9,  -999.0,9,  -999.0,-999.000,9,-999.000,-999.000,9,  -9.0000,-999.0000,  19.6987,   -9.00
  316N145_7,       I05E,     408,          1,         34,         34,2,19950407,       0307,   -33.9995,    96.6005,       3945,    59.4,  14.5326,  35.1938,2,  35.1976,2,    266.0,2,   269.8,2,    2.90,2,    2.08,2,    0.05,2,    0.36,2,   3.093,2,   1.687,2,  2061.1,2,  2314.4,2,  -9.0000,9,-999.0000,9, -999.00,9, -999.00,9,  -999.0,9,  -999.0,-999.000,9,-999.000,   2.591,2,  -9.0000,-999.0000,  14.5239,   -9.00
  316N145_7,       I05E,     408,          1,         33,         33,2,19950407,       0307,   -33.9995,    96.6005,       3945,    95.6,  13.1052,  35.1986,2,  35.2278,2,    246.3,2,   247.4,2,    3.46,2,    4.97,2,    0.61,2,    0.55,2,-999.000,9,-999.000,9,  2086.1,2,  2315.8,2,  -9.0000,9,-999.0000,9, -999.00,9, -999.00,9,  -999.0,9,  -999.0,-999.000,9,-999.000,-999.000,9,  -9.0000,-999.0000,  13.0920,   -9.00
  316N145_7,       I05E,     408,          1,         32,         32,2,19950407,       0307,   -33.9995,    96.6005,       3945,   123.9,  12.5268,  35.1681,2,  35.1634,2,    241.9,2,   244.0,2,    3.60,2,    7.23,2,    0.03,2,    0.63,2,   3.191,2,   1.720,2,  2091.7,2,  2311.7,2,  -9.0000,9,-999.0000,9, -999.00,9, -999.00,9,  -999.0,9,  -999.0,-999.000,9,-999.000,-999.000,9,  -9.0000,-999.0000,  12.5102,   -9.00
  316N145_7,       I05E,     408,          1,         31,         31,2,19950407,       0307,   -33.9995,    96.6005,       3945,   155.0,  12.0516,  35.1019,2,  35.1011,2,    237.0,2,   245.5,2,    3.96,2,    8.34,2,    0.01,2,    0.69,2,   3.312,2,   1.754,2,  2096.4,2,  2313.2,2,  -9.0000,9,-999.0000,9, -999.00,9, -999.00,9,  -999.0,9,  -999.0,-999.000,9,-999.000,-999.000,9,  -9.0000,-999.0000,  12.0314,   -9.00
  316N145_7,       I05E,     408,          1,         30,         30,2,19950407,       0307,   -33.9995,    96.6005,       3945,   203.9,  11.6211,  35.0427,2,  35.0442,2,    242.5,2,   244.7,2,    4.31,2,    9.42,2,    0.01,2,    0.75,2,   3.300,2,   1.732,2,  2099.7,2,  2306.3,2,  -9.0000,9,-999.0000,9, -999.00,9, -999.00,9,  -999.0,9,  -999.0,-999.000,9,-999.000,-999.000,9,  -9.0000,-999.0000,  11.5950,   -9.00
  316N145_7,       I05E,     408,          1,         29,         29,2,19950407,       0307,   -33.9995,    96.6005,       3945,   254.2,  11.1992,  34.9818,2,  34.9848,2,    244.2,2,   246.5,2,    4.45,2,   10.31,2,    0.01,2,    0.81,2,   3.325,2,   1.757,2,  2102.0,2,  2307.0,2,  -9.0000,9,-999.0000,9, -999.00,9, -999.00,9,  -999.0,9,  -999.0,-999.000,9,-999.000,-999.000,9,  -9.0000,-999.0000,  11.1674,   -9.00
  316N145_7,       I05E,     408,          1,         28,         28,2,19950407,       0307,   -33.9995,    96.6005,       3945,   304.0,  10.9370,  34.9410,2,  34.9413,2,    249.1,2,   248.9,2,    4.59,2,   10.91,2,    0.01,2,    0.84,2,   3.340,2,   1.740,2,  2103.3,2,  2301.1,2,  -9.0000,9,-999.0000,9, -999.00,9, -999.00,9,  -999.0,9,  -999.0,-999.000,9,-999.000,-999.000,9,  -9.0000,-999.0000,  10.8995,   -9.00
  316N145_7,       I05E,     408,          1,         27,         27,2,19950407,       0307,   -33.9995,    96.6005,       3945,   354.9,  10.6820,  34.9026,2,  34.9039,2,    252.7,2,   247.7,2,    4.74,2,   11.55,2,    0.00,2,    0.88,2,   3.360,2,   1.750,2,  2104.4,2,  2313.8,2,  -9.0000,9,-999.0000,9, -999.00,9, -999.00,9,  -999.0,9,  -999.0,-999.000,9,-999.000,-999.000,9,  -9.0000,-999.0000,  10.6388,   -9.00
  316N145_7,       I05E,     408,          1,         26,         26,2,19950407,       0307,   -33.9995,    96.6005,       3945,   406.9,  10.4204,  34.8598,2,  34.8559,2,    247.0,2,   247.1,2,    4.88,2,   12.39,2,    0.00,2,    0.93,2,   3.333,2,   1.735,2,  2104.7,2,  2293.4,2,  -9.0000,9,-999.0000,9, -999.00,9, -999.00,9,  -999.0,9,  -999.0,-999.000,9,-999.000,-999.000,9,  -9.0000,-999.0000,  10.3716,   -9.00
  316N145_7,       I05E,     408,          1,         25,         25,2,19950407,       0307,   -33.9995,    96.6005,       3945,   455.4,  10.1343,  34.8123,2,  34.8110,2,    252.2,2,   246.2,2,    5.02,2,   13.23,2,    0.00,2,    0.98,2,   3.286,2,   1.693,2,  2107.7,2,  2289.2,2,  -9.0000,9,-999.0000,9, -999.00,9, -999.00,9,  -999.0,9,  -999.0,-999.000,9,-999.000,-999.000,9,  -9.0000,-999.0000,  10.0804,   -9.00
  316N145_7,       I05E,     408,          1,         24,         24,2,19950407,       0307,   -33.9995,    96.6005,       3945,   557.8,   9.5661,  34.7211,2,  34.7263,2,    245.4,2,   241.7,2,    6.01,2,   15.26,2,    0.00,2,    1.11,2,   3.074,2,   1.589,2,  2112.9,2,  2294.1,2,  -9.0000,9,-999.0000,9, -999.00,9, -999.00,9,  -999.0,9,  -999.0,-999.000,9,-999.000,-999.000,9,  -9.0000,-999.0000,   9.5021,   -9.00
  316N145_7,       I05E,     408,          1,         23,         23,2,19950407,       0307,   -33.9995,    96.6005,       3945,   657.2,   8.8883,  34.6346,2,  34.6335,2,    236.4,2,   227.9,2,    8.04,2,   18.57,2,    0.00,2,    1.30,2,   2.438,2,   1.224,2,  2126.2,2,  2294.3,2,  -9.0000,9,-999.0000,9, -999.00,9, -999.00,9,  -999.0,9,  -999.0,-999.000,9,-999.000,-999.000,9,  -9.0000,-999.0000,   8.8159,   -9.00
  316N145_7,       I05E,     408,          1,         22,         22,2,19950407,       0307,   -33.9995,    96.6005,       3945,   755.1,   7.9494,  34.5459,2,  34.5418,2,    215.3,2,   210.6,2,   12.80,2,   22.43,2,    0.00,2,    1.56,2,   1.637,6,   0.805,6,  2145.6,2,  2284.6,2,  -9.0000,9,-999.0000,9, -999.00,9, -999.00,9,  -999.0,9,  -999.0,-999.000,9,-999.000,-999.000,9,  -9.0000,-999.0000,   7.8711,   -9.00
  316N145_7,       I05E,     408,          1,         21,         21,2,19950407,       0307,   -33.9995,    96.6005,       3945,   858.4,   6.4351,  34.4491,2,  34.4479,2,    202.7,2,   196.7,2,   22.39,2,   27.00,2,    0.00,2,    1.86,2,-999.000,9,-999.000,9,  2169.8,2,  2290.4,2,  -9.0000,9,-999.0000,9, -999.00,9, -999.00,9,  -999.0,9,  -999.0,-999.000,9,-999.000,-999.000,9,  -9.0000,-999.0000,   6.3552,   -9.00
  316N145_7,       I05E,     408,          1,         20,         20,2,19950407,       0307,   -33.9995,    96.6005,       3945,   956.0,   5.2261,  34.3975,2,  34.4000,2,    195.0,2,   193.5,2,   31.78,2,   29.64,2,    0.00,2,    2.05,2,   0.639,2,   0.320,2,  2187.5,2,  -999.0,5,  -9.0000,9,-999.0000,9, -999.00,9, -999.00,9,  -999.0,9,  -999.0,-999.000,9,-999.000,-999.000,9,  -9.0000,-999.0000,   5.1453,   -9.00
  316N145_7,       I05E,     408,          1,         19,         19,2,19950407,       0307,   -33.9995,    96.6005,       3945,  1061.1,   4.5068,  34.4029,2,  34.4043,2,    185.3,2,   183.2,2,   43.26,2,   31.68,2,    0.00,2,    2.21,2,   0.383,2,   0.187,2,  2205.5,2,  2306.5,2,  -9.0000,9,-999.0000,9, -999.00,9, -999.00,9,  -999.0,9,  -999.0,-999.000,9,-999.000,-999.000,9,  -9.0000,-999.0000,   4.4221,   -9.00
  316N145_7,       I05E,     408,          1,         18,         18,2,19950407,       0307,   -33.9995,    96.6005,       3945,  1159.3,   4.0358,  34.4298,2,  34.4302,2,    172.9,2,   173.9,2,   53.69,2,   33.08,2,    0.00,2,    2.32,2,   0.223,2,   0.104,2,  2222.9,2,  2313.7,2,  -9.0000,9,-999.0000,9, -999.00,9, -999.00,9,  -999.0,9,  -999.0,-999.000,9,-999.000,-999.000,9,  -9.0000,-999.0000,   3.9466,   -9.00
  316N145_7,       I05E,     408,          1,         17,         17,2,19950407,       0307,   -33.9995,    96.6005,       3945,  1311.3,   3.5363,  34.4901,2,  34.4901,2,    164.0,2,   160.7,2,   67.29,2,   34.33,2,    0.00,2,    2.42,2,-999.000,9,-999.000,9,  2244.2,2,  2332.0,2,  -9.0000,9,-999.0000,9, -999.00,9, -999.00,9,  -999.0,9,  -999.0,-999.000,9,-999.000,-999.000,9,  -9.0000,-999.0000,   3.4388,   -9.00
  316N145_7,       I05E,     408,          1,         16,         16,2,19950407,       0307,   -33.9995,    96.6005,       3945,  1463.6,   3.2063,  34.5506,2,  34.5498,2,    156.0,2,   154.8,2,   76.49,2,   34.73,2,    0.00,2,    2.46,2,   0.025,2,   0.013,2,  2257.1,2,  2365.2,3,  -9.0000,9,-999.0000,9, -999.00,9, -999.00,9,  -999.0,9,  -999.0,-999.000,9,-999.000,-999.000,9,  -9.0000,-999.0000,   3.0992,   -9.00
  316N145_7,       I05E,     408,          1,         15,         15,2,19950407,       0307,   -33.9995,    96.6005,       3945,  1613.9,   2.9461,  34.5974,2,  34.5967,2,    156.0,2,   155.4,2,   81.90,2,   34.48,2,    0.00,2,    2.44,2,-999.000,9,-999.000,9,  2261.8,2,  2350.8,2,  -9.0000,9,-999.0000,9, -999.00,9, -999.00,9,  -999.0,9,  -999.0,-999.000,9,-999.000,-999.000,9,  -9.0000,-999.0000,   2.8293,   -9.00
  316N145_7,       I05E,     408,          1,         14,         14,2,19950407,       0307,   -33.9995,    96.6005,       3945,  1768.5,   2.7231,  34.6438,2,  34.6436,2,    160.7,2,   159.6,2,   86.68,2,   33.92,2,    0.00,2,    2.39,2,   0.005,2,   0.005,2,  2264.1,2,  2353.8,2,  -9.0000,9,-999.0000,9, -999.00,9, -999.00,9,  -999.0,9,  -999.0,-999.000,9,-999.000,-999.000,9,  -9.0000,-999.0000,   2.5959,   -9.00
  316N145_7,       I05E,     408,          1,         13,         13,2,19950407,       0307,   -33.9995,    96.6005,       3945,  1919.7,   2.5520,  34.6768,2,  34.6764,2,    165.4,2,   165.7,2,   88.93,2,   33.27,2,    0.00,2,    2.33,2,-999.000,9,-999.000,9,  2261.7,2,  2355.6,2,  -9.0000,9,-999.0000,9, -999.00,9, -999.00,9,  -999.0,9,  -999.0,-999.000,9,-999.000,-999.000,9,  -9.0000,-999.0000,   2.4140,   -9.00
  316N145_7,       I05E,     408,          1,         12,         12,2,19950407,       0307,   -33.9995,    96.6005,       3945,  2070.0,   2.4159,  34.7004,2,  34.7002,2,    169.6,2,   170.8,2,   90.76,2,   32.72,2,    0.00,2,    2.29,2,   0.002,2,   0.003,2,  2259.4,2,  2359.3,2,  -9.0000,9,-999.0000,9, -999.00,9, -999.00,9,  -999.0,9,  -999.0,-999.000,9,-999.000,-999.000,9,  -9.0000,-999.0000,   2.2669,   -9.00
  316N145_7,       I05E,     408,          1,         11,         11,2,19950407,       0307,   -33.9995,    96.6005,       3945,  2222.0,   2.2564,  34.7221,2,  34.7218,2,    178.5,2,   179.4,2,   90.26,2,   31.82,2,    0.00,2,    2.22,2,-999.000,9,-999.000,9,  2254.5,2,  2355.1,2,  -9.0000,9,-999.0000,9, -999.00,9, -999.00,9,  -999.0,9,  -999.0,-999.000,9,-999.000,-999.000,9,  -9.0000,-999.0000,   2.0964,   -9.00
  316N145_7,       I05E,     408,          1,         10,         10,2,19950407,       0307,   -33.9995,    96.6005,       3945,  2372.5,   2.1278,  34.7362,2,  34.7360,2,    186.6,2,   187.1,2,   89.77,2,   31.12,2,    0.00,2,    2.17,2,   0.002,2,   0.004,2,  2250.5,2,  2354.8,2,  -9.0000,9,-999.0000,9, -999.00,9, -999.00,9,  -999.0,9,  -999.0,-999.000,9,-999.000,-999.000,9,  -9.0000,-999.0000,   1.9564,   -9.00
  316N145_7,       I05E,     408,          1,          9,          9,2,19950407,       0307,   -33.9995,    96.6005,       3945,  2529.7,   1.9849,  34.7443,2,  34.7446,2,    192.7,2,   192.5,2,   91.17,2,   30.67,2,    0.00,2,    2.13,2,-999.000,9,-999.000,9,  2247.4,2,  2354.7,2,  -9.0000,9,-999.0000,9, -999.00,9, -999.00,9,  -999.0,9,  -999.0,-999.000,9,-999.000,-999.000,9,  -9.0000,-999.0000,   1.8018,   -9.00
  316N145_7,       I05E,     408,          1,          8,          8,2,19950407,       0307,   -33.9995,    96.6005,       3945,  2706.7,   1.8039,  34.7447,2,  34.7448,2,    195.7,2,   195.8,2,   95.76,2,   30.72,2,    0.00,2,    2.13,2,   0.001,2,   0.002,2,  2249.7,2,  2355.8,2,  -9.0000,9,-999.0000,9, -999.00,9, -999.00,9,  -999.0,9,  -999.0,-999.000,9,-999.000,-999.000,9,  -9.0000,-999.0000,   1.6080,   -9.00
  316N145_7,       I05E,     408,          1,          7,          7,2,19950407,       0307,   -33.9995,    96.6005,       3945,  2882.1,   1.5985,  34.7404,2,  34.7401,2,    197.3,2,   199.5,2,  101.85,2,   30.97,2,    0.00,2,    2.15,2,-999.000,9,-999.000,9,  2253.1,2,  2371.8,3,  -9.0000,9,-999.0000,9, -999.00,9, -999.00,9,  -999.0,9,  -999.0,-999.000,9,-999.000,-999.000,9,  -9.0000,-999.0000,   1.3905,   -9.00
  316N145_7,       I05E,     408,          1,          6,          6,2,19950407,       0307,   -33.9995,    96.6005,       3945,  3060.7,   1.4162,  34.7340,2,  34.7340,2,    199.8,2,   201.3,2,  107.09,2,   31.12,2,    0.00,2,    2.16,2,   0.001,2,   0.003,2,  2255.6,2,  2361.2,2,  -9.0000,9,-999.0000,9, -999.00,9, -999.00,9,  -999.0,9,  -999.0,-999.000,9,-999.000,-999.000,9,  -9.0000,-999.0000,   1.1952,   -9.00
  316N145_7,       I05E,     408,          1,          5,          5,2,19950407,       0307,   -33.9995,    96.6005,       3945,  3240.9,   1.2702,  34.7270,2,  34.7284,2,    202.6,2,   202.4,2,  111.08,2,   31.42,2,    0.00,2,    2.19,2,   0.005,2,   0.008,2,  2255.3,2,  2366.8,2,  -9.0000,9,-999.0000,9, -999.00,9, -999.00,9,  -999.0,9,  -999.0,-999.000,9,-999.000,-999.000,9,  -9.0000,-999.0000,   1.0352,   -9.00
  316N145_7,       I05E,     408,          1,          4,          4,2,19950407,       0307,   -33.9995,    96.6005,       3945,  3415.8,   1.1577,  34.7222,2,  34.7221,2,    203.6,2,   204.1,2,  114.86,2,   31.67,2,    0.00,2,    2.20,2,-999.000,9,-999.000,9,  2259.1,2,  2370.0,2,  -9.0000,9,-999.0000,9, -999.00,9, -999.00,9,  -999.0,9,  -999.0,-999.000,9,-999.000,-999.000,9,  -9.0000,-999.0000,   0.9083,   -9.00
  316N145_7,       I05E,     408,          1,          3,          3,2,19950407,       0307,   -33.9995,    96.6005,       3945,  3593.9,   1.0971,  34.7184,2,  34.7178,2,    204.1,2,   204.9,2,  116.71,2,   31.82,2,    0.00,2,    2.21,2,   0.006,2,   0.007,2,  2261.6,2,  2376.7,3,  -9.0000,9,-999.0000,9, -999.00,9, -999.00,9,  -999.0,9,  -999.0,-999.000,9,-999.000,-999.000,9,  -9.0000,-999.0000,   0.8315,   -9.00
  316N145_7,       I05E,     408,          1,          2,          2,2,19950407,       0307,   -33.9995,    96.6005,       3945,  3797.9,   1.0564,  34.7159,2,  34.7154,2,    205.1,2,   205.7,2,  118.35,2,   31.92,2,    0.00,2,    2.22,2,   0.005,2,   0.003,2,  2263.3,2,  2377.7,2,  -9.0000,9,-999.0000,9, -999.00,9, -999.00,9,  -999.0,9,  -999.0,-999.000,9,-999.000,-999.000,9,  -9.0000,-999.0000,   0.7711,   -9.00
  316N145_7,       I05E,     408,          1,          1,          1,2,19950407,       0307,   -33.9995,    96.6005,       3945,  4010.6,   1.0154,  34.7129,2,  34.7131,2,    206.6,3,   205.7,2,  120.00,2,   31.96,2,    0.00,2,    2.22,2,   0.004,2,   0.003,2,  2264.0,2,  2389.3,3,  -9.0000,9,-999.0000,9, -999.00,9, -999.00,9,  -999.0,9,  -999.0,-999.000,9,-999.000,   0.057,6,  -9.0000,-999.0000,   0.7089,   -9.00