BOTTLE,20211124CCHSIORKP
EXPOCODE,SECT_ID,STNNBR,CASTNO,SAMPNO,BTLNBR,BTLNBR_FLAG_W,DATE,TIME,LATITUDE,LONGITUDE,DEPTH,CTDPRS,CTDTMP,CTDSAL,CTDSAL_FLAG_W,SALNTY,SALNTY_FLAG_W,CTDOXY,CTDOXY_FLAG_W,OXYGEN,OXYGEN_FLAG_W,SILCAT,SILCAT_FLAG_W,NITRAT,NITRAT_FLAG_W,NITRIT,NITRIT_FLAG_W,PHSPHT,PHSPHT_FLAG_W,CFC-11,CFC-11_FLAG_W,CFC-12,CFC-12_FLAG_W,TCARBN,TCARBN_FLAG_W,ALKALI,ALKALI_FLAG_W,TRITUM,TRITUM_FLAG_W,HELIUM,HELIUM_FLAG_W,DELHE3,DELHE3_FLAG_W,DELC13,DELC13_FLAG_W,DELC14,DELC14_FLAG_W,C14ERR,NEON,NEON_FLAG_W,NEONER,CCL4,CCL4_FLAG_W,TRITER,HELIER,THETA,DELHER
,,,,,,,,,,,METERS,DBAR,ITS-90,PSS-78,,PSS-78,,UMOL/KG,,UMOL/KG,,UMOL/KG,,UMOL/KG,,UMOL/KG,,UMOL/KG,,PMOL/KG,,PMOL/KG,,UMOL/KG,,UMOL/KG,,TU,,NMOL/KG,,PERCNT,,/MILLE,,/MILLE,,/MILLE,NMOL/KG,,NMOL/KG,PMOL/KG,,TU,NMOL/KG,DEG C,PERCNT
  316N145_7,       I08N,     326,          1,         36,         36,2,19950320,       0459,    -9.9998,    79.9995,       5335,     2.3,  29.3607,  34.3905,2,-999.0000,9,    197.3,2,   196.2,2,    3.43,2,    0.14,2,    0.00,2,    0.11,2,   1.636,2,   0.934,2,  1920.0,2,  2252.5,2,   1.2138,2,   1.6802,2,   -0.55,2,    1.31,2,    60.4,6,     2.6,   6.485,2,   0.032,-999.000,9,   0.0041,   0.0084,  29.3601,    0.14
  316N145_7,       I08N,     326,          1,         35,         35,2,19950320,       0459,    -9.9998,    79.9995,       5335,    25.7,  28.6392,  34.4583,2,  34.4891,3,    196.8,2,   200.0,2,    3.42,2,    0.09,2,    0.00,2,    0.11,2,-999.000,9,-999.000,9,  1927.4,2,  2259.3,2,  -9.0000,9,-999.0000,9, -999.00,9, -999.00,9,  -999.0,9,  -999.0,-999.000,9,-999.000,-999.000,9,  -9.0000,-999.0000,  28.6331,   -9.00
  316N145_7,       I08N,     326,          1,         34,         34,2,19950320,       0459,    -9.9998,    79.9995,       5335,    51.0,  23.4089,  34.6122,2,  34.6260,3,    154.0,2,   166.8,2,    7.78,2,    5.76,2,    0.21,2,    0.52,2,   1.670,2,   0.926,2,  2006.7,2,  2277.0,2,   1.1650,2,   1.7099,2,    1.15,2, -999.00,9,  -999.0,9,  -999.0,   6.754,2,   0.034,   0.800,6,   0.0040,   0.0085,  23.3984,    0.14
  316N145_7,       I08N,     326,          1,         33,         33,2,19950320,       0459,    -9.9998,    79.9995,       5335,    86.0,  19.1293,  34.6982,2,  34.6926,3,    103.6,2,   103.1,2,   20.75,2,   16.62,2,    0.11,2,    1.16,2,   1.363,2,   0.734,2,  2098.2,2,  2286.9,2,   1.1128,2,   1.7373,2,    5.25,2,    0.33,2,    19.4,2,     4.2,   7.004,2,   0.035,-999.000,9,   0.0039,   0.0087,  19.1140,    0.14
  316N145_7,       I08N,     326,          1,         32,         32,2,19950320,       0459,    -9.9998,    79.9995,       5335,   126.1,  16.7631,  34.9813,2,  34.9762,3,     77.0,2,    77.7,2,   21.99,2,   21.26,2,    0.03,2,    1.47,2,   1.153,2,   0.602,2,  2149.7,2,  2304.4,2,   0.9323,2,   1.7413,2,    6.32,2, -999.00,9,  -999.0,9,  -999.0,   6.991,2,   0.035,-999.000,9,   0.0036,   0.0087,  16.7425,    0.14
  316N145_7,       I08N,     326,          1,         31,         31,2,19950320,       0459,    -9.9998,    79.9995,       5335,   166.3,  14.4220,  34.8721,2,  34.8635,3,     87.0,2,    88.0,2,   28.46,2,   22.65,2,    0.01,2,    1.59,2,-999.000,9,-999.000,9,  2164.6,2,  2306.3,2,   0.8569,2,   1.7587,2,    8.13,2,    0.23,2,     0.3,2,     5.0,   7.150,2,   0.036,-999.000,9,   0.0035,   0.0088,  14.3976,    0.14
  316N145_7,       I08N,     326,          1,         30,         30,2,19950320,       0459,    -9.9998,    79.9995,       5335,   206.8,  12.6770,  34.8074,2,  34.8077,3,     80.6,2,    76.4,2,   33.05,2,   26.01,2,    0.01,2,    1.82,2,   0.661,2,   0.329,2,  2190.1,2,  2308.7,2,   0.6895,2,   1.7619,2,    9.19,2,    0.24,2,   -23.7,2,     4.7,   7.224,2,   0.036,-999.000,9,   0.0032,   0.0088,  12.6491,    0.14
  316N145_7,       I08N,     326,          1,         29,         29,2,19950320,       0459,    -9.9998,    79.9995,       5335,   256.1,  11.7334,  34.8973,2,  34.9013,3,     87.6,2,    89.8,2,   29.47,2,   25.53,2,    0.01,2,    1.77,2,-999.000,9,-999.000,9,  2192.5,2,  2311.8,2,   0.5197,2,   1.7547,2,    7.64,2,    0.43,2,   -15.6,2,     6.4,   7.231,2,   0.036,-999.000,9,   0.0030,   0.0088,  11.7004,    0.14
  316N145_7,       I08N,     326,          1,         28,         28,2,19950320,       0459,    -9.9998,    79.9995,       5335,   305.9,  11.0800,  34.9119,2,  34.9104,3,    103.0,2,   108.3,2,   25.47,2,   24.87,2,    0.00,2,    1.70,2,   0.738,2,   0.368,2,  2187.3,2,  2309.7,2,   0.4164,2,   1.7655,2,    4.89,2,    0.57,2,   -14.2,2,     3.5,   7.279,2,   0.036,-999.000,9,   0.0028,   0.0088,  11.0420,    0.14
  316N145_7,       I08N,     326,          1,         27,         27,2,19950320,       0459,    -9.9998,    79.9995,       5335,   386.3,   9.9400,  34.8281,2,  34.8240,3,    120.7,2,   118.5,2,   27.54,2,   26.19,2,    0.00,2,    1.79,2,-999.000,9,-999.000,9,  2191.9,2,  2309.7,2,   0.2826,2,   1.7742,2,    5.52,2,    0.55,2,   -36.7,2,     3.5,   7.298,2,   0.036,-999.000,9,   0.0026,   0.0089,   9.8950,    0.14
  316N145_7,       I08N,     326,          1,         26,         26,2,19950320,       0459,    -9.9998,    79.9995,       5335,   497.5,   8.8385,  34.7933,2,  34.7908,3,     92.0,2,    93.5,2,   40.50,2,   30.75,2,    0.00,2,    2.13,2,   0.185,3,   0.088,6,  2222.7,2,  2319.2,2,   0.1151,2,   1.7837,2,    6.44,2,    0.46,2,   -79.3,2,     5.1,   7.369,2,   0.037,-999.000,9,   0.0023,   0.0089,   8.7843,    0.14
  316N145_7,       I08N,     326,          1,         25,         25,2,19950320,       0459,    -9.9998,    79.9995,       5335,   608.1,   7.8773,  34.7642,2,  34.7621,3,     79.6,2,    78.5,2,   56.40,2,   33.65,2,    0.00,2,    2.40,2,   0.057,3,   0.036,2,  2249.6,2,  2332.3,2,   0.0536,2,   1.8055,2,    8.27,2,    0.27,2,  -115.1,2,     2.9,   7.443,2,   0.037,   0.069,2,   0.0022,   0.0090,   7.8148,    0.14
  316N145_7,       I08N,     326,          1,         24,         24,2,19950320,       0459,    -9.9998,    79.9995,       5335,   709.2,   7.1200,  34.7421,2,  34.7403,3,     71.1,3,    72.4,2,   69.80,2,   35.42,2,    0.00,2,    2.54,2,  -0.004,3,   0.015,2,  2270.5,2,  2345.7,2,   0.0322,2,   1.8310,2,    9.96,2,    0.21,2,  -134.0,2,     2.7,   7.544,2,   0.038,   0.036,2,   0.0022,   0.0092,   7.0507,    0.14
  316N145_7,       I08N,     326,          1,         23,         23,2,19950320,       0459,    -9.9998,    79.9995,       5335,   808.9,   6.4921,  34.7254,2,  34.7238,3,     65.0,3,    72.1,2,   80.06,2,   36.04,2,    0.00,2,    2.61,2,   0.005,3,   0.004,2,  -999.0,5,  2354.9,2,   0.0279,2,   1.8226,2,   11.84,2,    0.15,2,  -147.3,2,     4.0,   7.556,2,   0.038,-999.000,9,   0.0022,   0.0091,   6.4165,    0.14
  316N145_7,       I08N,     326,          1,         22,         22,2,19950320,       0459,    -9.9998,    79.9995,       5335,   907.8,   5.9241,  34.7022,2,  34.7030,3,     70.6,3,    76.8,2,   88.25,2,   36.38,2,    0.00,2,    2.64,2,   0.006,3,   0.002,2,  2281.7,2,  2365.1,2,  -9.0000,9,-999.0000,9, -999.00,9,    0.11,2,  -163.4,2,     2.8,-999.000,9,-999.000,-999.000,9,  -9.0000,-999.0000,   5.8425,   -9.00
  316N145_7,       I08N,     326,          1,         21,         21,2,19950320,       0459,    -9.9998,    79.9995,       5335,  1005.8,   5.4621,  34.6966,2,  34.6971,3,     75.5,3,    81.2,2,   94.34,2,   36.52,2,    0.00,2,    2.65,2,   0.004,3,   0.001,2,  2295.3,2,  2369.9,2,   0.0178,2,   1.8600,2,   13.57,2,    0.11,2,  -167.2,2,     2.8,   7.780,2,   0.039,-999.000,9,   0.0022,   0.0093,   5.3744,    0.14
  316N145_7,       I08N,     326,          1,         20,         20,2,19950320,       0459,    -9.9998,    79.9995,       5335,  1131.3,   4.9798,  34.7040,2,  34.7063,3,     83.2,3,    86.5,2,   99.17,2,   36.61,2,    0.00,2,    2.66,2,   0.007,3,   0.003,2,  2300.3,2,  2379.7,2,  -9.0000,9,   1.8720,2,   13.89,2,   -0.30,3,  -185.1,2,     2.8,-999.000,9,-999.000,-999.000,9,  -9.0000,-999.0000,   4.8843,   -9.00
  316N145_7,       I08N,     326,          1,         19,         19,2,19950320,       0459,    -9.9998,    79.9995,       5335,  1283.2,   4.3455,  34.7096,2,  34.7099,3,     91.3,3,    96.5,2,  104.87,2,   36.61,2,    0.00,2,    2.65,2,-999.000,9,-999.000,9,  2304.5,2,  2384.5,2,   0.0036,2,   1.8800,2,   14.19,2,    0.12,2,  -179.6,2,     4.1,   7.902,2,   0.040,-999.000,9,   0.0022,   0.0093,   4.2419,    0.14
  316N145_7,       I08N,     326,          1,         18,         18,2,19950320,       0459,    -9.9998,    79.9995,       5335,  1461.6,   3.8300,  34.7282,2,  34.7280,3,    104.4,3,   107.8,2,  107.81,2,   36.27,2,    0.00,2,    2.62,2,   0.003,3,   0.002,2,  2304.3,2,  2382.2,2,  -0.0023,2,   1.8810,2,   13.64,2,    0.13,2,  -184.9,2,     2.9,   7.663,2,   0.038,-999.000,9,   0.0023,   0.0090,   3.7158,    0.14
  316N145_7,       I08N,     326,          1,         17,         17,2,19950320,       0459,    -9.9998,    79.9995,       5335,  1663.4,   3.2078,  34.7465,2,  34.7447,3,    124.4,2,   123.6,2,  111.61,2,   35.64,2,    0.00,2,    2.56,2,-999.000,9,-999.000,9,  2303.3,2,  2390.8,2,  -9.0000,9,   1.8760,2,   13.84,2, -999.00,9,  -999.0,9,  -999.0,-999.000,9,-999.000,-999.000,9,  -9.0000,-999.0000,   3.0830,   -9.00
  316N145_7,       I08N,     326,          1,         16,         16,2,19950320,       0459,    -9.9998,    79.9995,       5335,  1866.5,   2.7657,  34.7495,2,  34.7483,3,    134.7,2,   133.4,2,  117.34,2,   35.25,2,    0.00,2,    2.52,2,   0.002,3,   0.000,2,  2304.2,2,  2395.0,2,  -9.0000,9,   1.8870,2,   14.25,2, -999.00,9,  -999.0,9,  -999.0,-999.000,9,-999.000,-999.000,9,  -9.0000,-999.0000,   2.6291,   -9.00
  316N145_7,       I08N,     326,          1,         15,         15,2,19950320,       0459,    -9.9998,    79.9995,       5335,  2069.8,   2.4252,  34.7449,2,  34.7437,3,    145.1,2,   144.8,2,  119.67,2,   34.68,2,    0.00,2,    2.47,2,-999.000,9,-999.000,9,  2301.3,2,  2397.8,2,  -9.0000,9,   1.8910,2,   14.61,2, -999.00,9,  -999.0,9,  -999.0,-999.000,9,-999.000,-999.000,9,  -9.0000,-999.0000,   2.2759,   -9.00
  316N145_7,       I08N,     326,          1,         14,         14,2,19950320,       0459,    -9.9998,    79.9995,       5335,  2273.4,   2.1781,  34.7394,2,  34.7383,3,    153.9,2,   153.7,2,  121.35,2,   34.29,2,    0.00,2,    2.43,2,   0.000,3,   0.001,2,  2299.1,2,  2395.9,2,  -9.0000,9,   1.8920,2,   15.12,2, -999.00,9,  -999.0,9,  -999.0,-999.000,9,-999.000,-999.000,9,  -9.0000,-999.0000,   2.0147,   -9.00
  316N145_7,       I08N,     326,          1,         13,         13,2,19950320,       0459,    -9.9998,    79.9995,       5335,  2475.4,   1.9729,  34.7347,2,  34.7345,3,    160.5,2,   160.4,2,  123.04,2,   34.05,2,    0.00,2,    2.39,2,-999.000,9,-999.000,9,  2296.7,2,  2400.5,2,  -9.0000,9,   1.8930,2,   15.05,2, -999.00,9,  -999.0,9,  -999.0,-999.000,9,-999.000,-999.000,9,  -9.0000,-999.0000,   1.7950,   -9.00
  316N145_7,       I08N,     326,          1,         12,         12,2,19950320,       0459,    -9.9998,    79.9995,       5335,  2678.7,   1.8483,  34.7319,2,  34.7322,3,    164.4,2,   164.9,2,  124.29,2,   33.86,2,    0.00,2,    2.38,2,  -0.001,3,   0.001,6,  2297.2,2,  2401.7,2,  -9.0000,9,   1.8960,2,   14.85,2, -999.00,9,  -999.0,9,  -999.0,-999.000,9,-999.000,-999.000,9,  -9.0000,-999.0000,   1.6542,   -9.00
  316N145_7,       I08N,     326,          1,         11,         11,2,19950320,       0459,    -9.9998,    79.9995,       5335,  2882.7,   1.7292,  34.7291,2,  34.7271,3,    167.3,2,   167.6,2,  126.63,2,   33.81,2,    0.00,2,    2.36,2,-999.000,9,-999.000,9,  2297.7,2,  2401.9,2,  -9.0000,9,   1.9070,2,   14.31,2, -999.00,9,  -999.0,9,  -999.0,-999.000,9,-999.000,-999.000,9,  -9.0000,-999.0000,   1.5183,   -9.00
  316N145_7,       I08N,     326,          1,         10,         10,2,19950320,       0459,    -9.9998,    79.9995,       5335,  3086.4,   1.6229,  34.7264,2,  34.7251,3,    168.9,2,   168.9,2,  129.83,2,   33.85,2,    0.00,2,    2.37,2,   0.001,3,  -0.001,2,  2300.6,2,  2412.1,2,  -9.0000,9,   1.8840,2,   13.46,2, -999.00,9,  -999.0,9,  -999.0,-999.000,9,-999.000,-999.000,9,  -9.0000,-999.0000,   1.3948,   -9.00
  316N145_7,       I08N,     326,          1,          9,          9,2,19950320,       0459,    -9.9998,    79.9995,       5335,  3341.1,   1.5007,  34.7226,2,  34.7204,3,    171.6,2,   171.8,2,  132.62,2,   33.89,2,    0.00,2,    2.36,2,-999.000,9,-999.000,9,  2306.8,2,  2414.3,2,  -9.0000,9,   1.8850,2,   13.07,2, -999.00,9,  -999.0,9,  -999.0,-999.000,9,-999.000,-999.000,9,  -9.0000,-999.0000,   1.2504,   -9.00
  316N145_7,       I08N,     326,          1,          8,          8,2,19950320,       0459,    -9.9998,    79.9995,       5335,  3596.7,   1.4077,  34.7199,2,  34.7175,3,    175.7,2,   176.1,2,  133.23,2,   33.70,2,    0.00,2,    2.35,2,  -0.002,3,  -0.001,2,  2301.2,2,  2425.4,3,  -9.0000,9,   1.8930,2,   12.58,2, -999.00,9,  -999.0,9,  -999.0,-999.000,9,-999.000,-999.000,9,  -9.0000,-999.0000,   1.1338,   -9.00
  316N145_7,       I08N,     326,          1,          7,          7,2,19950320,       0459,    -9.9998,    79.9995,       5335,  3851.9,   1.3593,  34.7182,2,  34.7157,3,    177.9,2,   178.5,2,  134.28,2,   33.65,2,    0.00,2,    2.34,2,-999.000,9,-999.000,9,  2300.1,2,  2413.9,2,  -9.0000,9,   1.8900,2,   11.95,2, -999.00,9,  -999.0,9,  -999.0,-999.000,9,-999.000,-999.000,9,  -9.0000,-999.0000,   1.0600,   -9.00
  316N145_7,       I08N,     326,          1,          6,          6,2,19950320,       0459,    -9.9998,    79.9995,       5335,  4107.4,   1.3503,  34.7173,2,  34.7177,3,    179.8,2,   180.4,2,  133.81,2,   33.60,2,    0.00,2,    2.32,2,  -0.002,3,  -0.001,2,  2299.3,2,  2408.4,2,  -9.0000,9,   1.8900,2,   11.59,2, -999.00,9,  -999.0,9,  -999.0,-999.000,9,-999.000,-999.000,9,  -9.0000,-999.0000,   1.0237,   -9.00
  316N145_7,       I08N,     326,          1,          5,          5,2,19950320,       0459,    -9.9998,    79.9995,       5335,  4363.1,   1.3567,  34.7170,2,  34.7165,3,    181.1,2,   181.1,2,  133.78,2,   33.55,2,    0.00,2,    2.32,2,-999.000,9,-999.000,9,  2297.7,2,  2411.9,2,  -9.0000,9,   1.8950,2,   11.40,2, -999.00,9,  -999.0,9,  -999.0,-999.000,9,-999.000,-999.000,9,  -9.0000,-999.0000,   1.0015,   -9.00
  316N145_7,       I08N,     326,          1,          4,          4,2,19950320,       0459,    -9.9998,    79.9995,       5335,  4617.5,   1.3711,  34.7170,2,  34.7152,3,    182.6,2,   182.6,2,  133.96,2,   33.50,2,    0.00,2,    2.32,2,  -0.002,3,  -0.002,2,  2297.6,2,  2431.1,3,  -9.0000,9,   1.8930,2,   11.67,2, -999.00,9,  -999.0,9,  -999.0,-999.000,9,-999.000,-999.000,9,  -9.0000,-999.0000,   0.9863,   -9.00
  316N145_7,       I08N,     326,          1,          3,          3,2,19950320,       0459,    -9.9998,    79.9995,       5335,  4873.6,   1.3942,  34.7170,2,  34.7156,3,    183.1,2,   182.9,2,  133.27,2,   33.49,2,    0.00,2,    2.32,2,   0.000,3,   0.001,2,  2297.2,2,  2411.7,2,  -0.0013,2,   1.8950,2,   11.45,2, -999.00,9,  -999.0,9,  -999.0,-999.000,9,-999.000,-999.000,9,   0.0022,-999.0000,   0.9786,   -9.00
  316N145_7,       I08N,     326,          1,          2,          2,2,19950320,       0459,    -9.9998,    79.9995,       5335,  5161.1,   1.4235,  34.7166,2,  34.7140,3,    183.9,2,   182.8,3,  133.02,2,   33.40,2,    0.00,2,    2.31,2,   0.002,3,   0.002,2,  2295.8,2,  2434.8,3,  -9.0000,9,   1.8820,2,   11.79,2, -999.00,9,  -999.0,9,  -999.0,-999.000,9,-999.000,-999.000,9,  -9.0000,-999.0000,   0.9720,   -9.00
  316N145_7,       I08N,     326,          1,          1,          1,2,19950320,       0459,    -9.9998,    79.9995,       5335,  5458.4,   1.4566,  34.7160,2,  34.7134,3,    184.5,2,   183.9,2,  133.20,2,   33.39,2,    0.00,2,    2.31,2,  -0.002,3,  -0.001,2,  2296.3,2,  2405.1,2,  -0.0020,2,   1.8890,2,   11.50,2, -999.00,9,  -999.0,9,  -999.0,-999.000,9,-999.000,-999.000,9,   0.0022,-999.0000,   0.9667,   -9.00