BOTTLE,20211124CCHSIORKP
# Original header:
# Original header:
# Original header:
# Changed all fill flags to 9
# Merged parameters: TRITUM,TRITER,DELHER,TCARBN_FLAG_W,TCARBN,ALKALI_FLAG_W,DELC13_FLAG_W
# 20030218WHPSIOdm
#code : jjward hyd_to_exchange.pl 
#original files copied from HTML directory: 20030218
#original HYD file: i05ehy.txt   Tue Feb 18 10:11:33 2003
#original SUM file: ../ORIG/i05esu.txt   Wed Feb 13 09:01:40 2002
EXPOCODE,SECT_ID,STNNBR,CASTNO,SAMPNO,BTLNBR,BTLNBR_FLAG_W,DATE,TIME,LATITUDE,LONGITUDE,DEPTH,CTDPRS,CTDTMP,CTDSAL,CTDSAL_FLAG_W,SALNTY,SALNTY_FLAG_W,CTDOXY,CTDOXY_FLAG_W,OXYGEN,OXYGEN_FLAG_W,SILCAT,SILCAT_FLAG_W,NITRAT,NITRAT_FLAG_W,NITRIT,NITRIT_FLAG_W,PHSPHT,PHSPHT_FLAG_W,CFC-11,CFC-11_FLAG_W,CFC-12,CFC-12_FLAG_W,TCARBN,TCARBN_FLAG_W,ALKALI,ALKALI_FLAG_W,TRITUM,TRITUM_FLAG_W,HELIUM,HELIUM_FLAG_W,DELHE3,DELHE3_FLAG_W,DELC13,DELC13_FLAG_W,DELC14,DELC14_FLAG_W,C14ERR,NEON,NEON_FLAG_W,NEONER,CCL4,CCL4_FLAG_W,TRITER,HELIER,THETA,DELHER
,,,,,,,,,,,METERS,DBAR,ITS-90,PSS-78,,PSS-78,,UMOL/KG,,UMOL/KG,,UMOL/KG,,UMOL/KG,,UMOL/KG,,UMOL/KG,,PMOL/KG,,PMOL/KG,,UMOL/KG,,UMOL/KG,,TU,,NMOL/KG,,PERCNT,,/MILLE,,/MILLE,,/MILLE,NMOL/KG,,NMOL/KG,PMOL/KG,,TU,NMOL/KG,DEG C,PERCNT
  316N145_7,       I08N,     278,          1,          1,          1,2,19950310,       0617,     6.5020,    79.5928,       1275,  1175.0,   5.9259,  34.9077,2,-999.0000,9,     58.1,4,    55.2,2,   95.19,2,   37.70,2,    0.00,2,    2.80,2,-999.000,5,-999.000,5,  -999.0,9,  -999.0,9,  -9.0000,9,-999.0000,9, -999.00,9, -999.00,9,  -999.0,9,  -999.0,-999.000,9,-999.000,-999.000,9,  -9.0000,-999.0000,   5.8176,   -9.00
  316N145_7,       I08N,     278,          1,          2,          2,2,19950310,       0617,     6.5020,    79.5928,       1275,  1175.6,   5.9193,  34.9071,2,-999.0000,9,     56.6,4,    55.2,2,   95.21,2,   37.70,2,    0.01,2,    2.78,2,-999.000,9,-999.000,9,  -999.0,9,  -999.0,9,  -9.0000,9,-999.0000,9, -999.00,9, -999.00,9,  -999.0,9,  -999.0,-999.000,9,-999.000,-999.000,9,  -9.0000,-999.0000,   5.8110,   -9.00
  316N145_7,       I08N,     278,          1,          3,          3,2,19950310,       0617,     6.5020,    79.5928,       1275,  1175.8,   5.9168,  34.9071,2,-999.0000,9,     56.6,4,    54.9,2,   95.01,2,   37.69,2,    0.00,2,    2.79,2,-999.000,9,-999.000,9,  -999.0,9,  -999.0,9,  -9.0000,9,-999.0000,9, -999.00,9, -999.00,9,  -999.0,9,  -999.0,-999.000,9,-999.000,-999.000,9,  -9.0000,-999.0000,   5.8085,   -9.00
  316N145_7,       I08N,     278,          1,          4,          4,2,19950310,       0617,     6.5020,    79.5928,       1275,  1175.9,   5.9145,  34.9072,2,-999.0000,9,     56.6,4,    55.7,2,   95.03,2,   37.74,2,    0.01,2,    2.79,2,-999.000,9,-999.000,9,  -999.0,9,  -999.0,9,  -9.0000,9,-999.0000,9, -999.00,9, -999.00,9,  -999.0,9,  -999.0,-999.000,9,-999.000,-999.000,9,  -9.0000,-999.0000,   5.8063,   -9.00
  316N145_7,       I08N,     278,          1,          6,          6,2,19950310,       0617,     6.5020,    79.5928,       1275,  1176.2,   5.9040,  34.9065,2,-999.0000,9,     57.1,4,    54.9,2,   95.27,2,   37.59,2,    0.00,2,    2.79,2,-999.000,9,-999.000,9,  -999.0,9,  -999.0,9,  -9.0000,9,-999.0000,9, -999.00,9, -999.00,9,  -999.0,9,  -999.0,-999.000,9,-999.000,-999.000,9,  -9.0000,-999.0000,   5.7958,   -9.00
  316N145_7,       I08N,     278,          1,          5,          5,2,19950310,       0617,     6.5020,    79.5928,       1275,  1176.2,   5.9091,  34.9068,2,-999.0000,9,     57.1,4,    54.7,2,   95.04,2,   37.68,2,    0.01,2,    2.79,2,-999.000,9,-999.000,9,  -999.0,9,  -999.0,9,  -9.0000,9,-999.0000,5, -999.00,9, -999.00,9,  -999.0,9,  -999.0,-999.000,9,-999.000,-999.000,9,  -9.0000,-999.0000,   5.8009,   -9.00
  316N145_7,       I08N,     278,          1,          7,          7,2,19950310,       0617,     6.5020,    79.5928,       1275,  1176.3,   5.8982,  34.9062,2,-999.0000,9,     57.1,4,    55.2,2,   95.08,2,   37.64,2,    0.00,2,    2.78,2,-999.000,9,-999.000,9,  -999.0,9,  -999.0,9,  -9.0000,9,-999.0000,5, -999.00,9, -999.00,9,  -999.0,9,  -999.0,-999.000,9,-999.000,-999.000,9,  -9.0000,-999.0000,   5.7901,   -9.00
  316N145_7,       I08N,     278,          1,          8,          8,2,19950310,       0617,     6.5020,    79.5928,       1275,  1176.4,   5.8928,  34.9058,2,-999.0000,9,     57.1,4,    55.1,2,   95.51,2,   37.68,2,    0.00,2,    2.79,2,-999.000,9,-999.000,9,  -999.0,9,  -999.0,9,  -9.0000,9,-999.0000,9, -999.00,9, -999.00,9,  -999.0,9,  -999.0,-999.000,9,-999.000,-999.000,9,  -9.0000,-999.0000,   5.7847,   -9.00
  316N145_7,       I08N,     278,          1,          9,          9,2,19950310,       0617,     6.5020,    79.5928,       1275,  1176.6,   5.8899,  34.9061,2,-999.0000,9,     57.1,4,    55.2,2,   95.31,2,   37.68,2,    0.00,2,    2.79,2,-999.000,9,-999.000,9,  -999.0,9,  -999.0,9,  -9.0000,9,-999.0000,5, -999.00,9, -999.00,9,  -999.0,9,  -999.0,-999.000,9,-999.000,-999.000,9,  -9.0000,-999.0000,   5.7818,   -9.00
  316N145_7,       I08N,     278,          1,         10,         10,2,19950310,       0617,     6.5020,    79.5928,       1275,  1176.8,   5.8869,  34.9061,2,-999.0000,9,     57.1,4,    55.1,2,   95.12,2,   37.72,2,    0.00,2,    2.81,2,-999.000,9,-999.000,9,  -999.0,9,  -999.0,9,  -9.0000,9,-999.0000,9, -999.00,9, -999.00,9,  -999.0,9,  -999.0,-999.000,9,-999.000,-999.000,9,  -9.0000,-999.0000,   5.7788,   -9.00
  316N145_7,       I08N,     278,          1,         11,         11,2,19950310,       0617,     6.5020,    79.5928,       1275,  1176.9,   5.8824,  34.9059,2,-999.0000,9,     57.1,4,    55.2,2,   95.34,2,   37.67,2,    0.00,2,    2.80,2,-999.000,9,-999.000,9,  -999.0,9,  -999.0,9,  -9.0000,9,-999.0000,9, -999.00,9, -999.00,9,  -999.0,9,  -999.0,-999.000,9,-999.000,-999.000,9,  -9.0000,-999.0000,   5.7744,   -9.00
  316N145_7,       I08N,     278,          1,         12,         12,2,19950310,       0617,     6.5020,    79.5928,       1275,  1177.2,   5.8587,  34.9054,2,-999.0000,9,     57.3,4,    55.6,2,   95.36,2,   37.67,2,    0.00,2,    2.80,2,-999.000,9,-999.000,9,  -999.0,9,  -999.0,9,  -9.0000,9,-999.0000,9, -999.00,9, -999.00,9,  -999.0,9,  -999.0,-999.000,9,-999.000,-999.000,9,  -9.0000,-999.0000,   5.7509,   -9.00
  316N145_7,       I08N,     278,          1,         13,         13,2,19950310,       0617,     6.5020,    79.5928,       1275,  1177.4,   5.8412,  34.9051,2,-999.0000,9,     57.3,4,    56.3,2,   95.58,2,   37.62,2,    0.00,2,    2.79,9,-999.000,9,-999.000,9,  -999.0,9,  -999.0,9,  -9.0000,9,-999.0000,9, -999.00,9, -999.00,9,  -999.0,9,  -999.0,-999.000,9,-999.000,-999.000,9,  -9.0000,-999.0000,   5.7334,   -9.00
  316N145_7,       I08N,     278,          1,         14,         14,2,19950310,       0617,     6.5020,    79.5928,       1275,  1177.5,   5.8203,  34.9043,2,-999.0000,9,     57.3,4,    55.8,2,   95.60,2,   37.66,2,    0.00,2,    2.79,2,-999.000,9,-999.000,9,  -999.0,9,  -999.0,9,  -9.0000,9,-999.0000,9, -999.00,9, -999.00,9,  -999.0,9,  -999.0,-999.000,9,-999.000,-999.000,9,  -9.0000,-999.0000,   5.7127,   -9.00
  316N145_7,       I08N,     278,          1,         15,         15,2,19950310,       0617,     6.5020,    79.5928,       1275,  1177.8,   5.7939,  34.9028,2,-999.0000,9,     56.9,4,    56.3,2,   95.82,2,   37.66,2,    0.00,2,    2.80,2,-999.000,9,-999.000,9,  -999.0,9,  -999.0,9,  -9.0000,9,-999.0000,9, -999.00,9, -999.00,9,  -999.0,9,  -999.0,-999.000,9,-999.000,-999.000,9,  -9.0000,-999.0000,   5.6865,   -9.00
  316N145_7,       I08N,     278,          1,         16,         16,2,19950310,       0617,     6.5020,    79.5928,       1275,  1177.9,   5.7677,  34.9009,2,-999.0000,9,     56.9,4,    56.6,2,   96.04,2,   37.61,2,    0.00,2,    2.80,2,-999.000,9,-999.000,9,  -999.0,9,  -999.0,9,  -9.0000,9,-999.0000,9, -999.00,9, -999.00,9,  -999.0,9,  -999.0,-999.000,9,-999.000,-999.000,9,  -9.0000,-999.0000,   5.6605,   -9.00
  316N145_7,       I08N,     278,          1,         17,         17,2,19950310,       0617,     6.5020,    79.5928,       1275,  1178.1,   5.7263,  34.8984,2,-999.0000,9,     57.2,4,    57.1,2,   96.06,2,   37.65,2,    0.00,2,    2.79,2,-999.000,9,-999.000,9,  -999.0,9,  -999.0,9,  -9.0000,9,-999.0000,9, -999.00,9, -999.00,9,  -999.0,9,  -999.0,-999.000,9,-999.000,-999.000,9,  -9.0000,-999.0000,   5.6195,   -9.00
  316N145_7,       I08N,     278,          1,         18,         18,2,19950310,       0617,     6.5020,    79.5928,       1275,  1178.3,   5.7062,  34.8974,2,-999.0000,9,     57.2,4,    57.7,2,   96.70,2,   37.60,2,    0.00,2,    2.79,2,-999.000,9,-999.000,9,  -999.0,9,  -999.0,9,  -9.0000,9,-999.0000,9, -999.00,9, -999.00,9,  -999.0,9,  -999.0,-999.000,9,-999.000,-999.000,9,  -9.0000,-999.0000,   5.5996,   -9.00
  316N145_7,       I08N,     278,          1,         19,         19,2,19950310,       0617,     6.5020,    79.5928,       1275,  1178.5,   5.6858,  34.8972,2,-999.0000,9,     57.2,4,    58.5,2,   97.13,2,   37.65,2,    0.00,2,    2.79,2,-999.000,9,-999.000,9,  -999.0,9,  -999.0,9,  -9.0000,9,-999.0000,9, -999.00,9, -999.00,9,  -999.0,9,  -999.0,-999.000,9,-999.000,-999.000,9,  -9.0000,-999.0000,   5.5794,   -9.00
  316N145_7,       I08N,     278,          1,         20,         20,2,19950310,       0617,     6.5020,    79.5928,       1275,  1178.6,   5.6812,  34.8972,2,-999.0000,9,     57.2,4,    58.1,2,   97.15,2,   37.64,2,    0.00,2,    2.79,2,-999.000,9,-999.000,9,  -999.0,9,  -999.0,9,  -9.0000,9,-999.0000,9, -999.00,9, -999.00,9,  -999.0,9,  -999.0,-999.000,9,-999.000,-999.000,9,  -9.0000,-999.0000,   5.5748,   -9.00
  316N145_7,       I08N,     278,          1,         21,         21,2,19950310,       0617,     6.5020,    79.5928,       1275,  1178.8,   5.6774,  34.8972,2,-999.0000,9,     57.2,4,    58.3,2,   97.16,2,   37.73,2,    0.00,2,    2.80,2,-999.000,9,-999.000,9,  -999.0,9,  -999.0,9,  -9.0000,9,-999.0000,9, -999.00,9, -999.00,9,  -999.0,9,  -999.0,-999.000,9,-999.000,-999.000,9,  -9.0000,-999.0000,   5.5709,   -9.00
  316N145_7,       I08N,     278,          1,         23,         23,2,19950310,       0617,     6.5020,    79.5928,       1275,  1179.0,   5.6740,  34.8970,2,-999.0000,9,     57.2,4,    58.6,2,   97.61,2,   37.63,2,    0.00,2,    2.80,2,-999.000,9,-999.000,9,  -999.0,9,  -999.0,9,  -9.0000,9,-999.0000,9, -999.00,9, -999.00,9,  -999.0,9,  -999.0,-999.000,9,-999.000,-999.000,9,  -9.0000,-999.0000,   5.5675,   -9.00
  316N145_7,       I08N,     278,          1,         22,         22,2,19950310,       0617,     6.5020,    79.5928,       1275,  1179.0,   5.6762,  34.8969,2,-999.0000,9,     57.2,4,    58.6,2,   97.59,2,   37.64,2,    0.00,2,    2.79,2,-999.000,9,-999.000,9,  -999.0,9,  -999.0,9,  -9.0000,9,-999.0000,9, -999.00,9, -999.00,9,  -999.0,9,  -999.0,-999.000,9,-999.000,-999.000,9,  -9.0000,-999.0000,   5.5697,   -9.00
  316N145_7,       I08N,     278,          1,         24,         24,2,19950310,       0617,     6.5020,    79.5928,       1275,  1179.1,   5.6735,  34.8968,2,-999.0000,9,     57.2,4,    58.2,2,   97.41,2,   37.63,2,    0.00,2,    2.80,2,-999.000,9,-999.000,9,  -999.0,9,  -999.0,9,  -9.0000,9,-999.0000,9, -999.00,9, -999.00,9,  -999.0,9,  -999.0,-999.000,9,-999.000,-999.000,9,  -9.0000,-999.0000,   5.5670,   -9.00
  316N145_7,       I08N,     278,          1,         25,         25,2,19950310,       0617,     6.5020,    79.5928,       1275,  1179.2,   5.6768,  34.8972,2,-999.0000,9,     57.2,4,    58.7,2,   97.85,2,   37.63,2,    0.00,2,    2.79,2,-999.000,9,-999.000,9,  -999.0,9,  -999.0,9,  -9.0000,9,-999.0000,9, -999.00,9, -999.00,9,  -999.0,9,  -999.0,-999.000,9,-999.000,-999.000,9,  -9.0000,-999.0000,   5.5703,   -9.00
  316N145_7,       I08N,     278,          1,         26,         26,2,19950310,       0617,     6.5020,    79.5928,       1275,  1179.3,   5.6826,  34.8977,2,-999.0000,9,     57.2,4,    58.6,2,   97.65,2,   37.57,2,    0.00,2,    2.79,2,-999.000,9,-999.000,9,  -999.0,9,  -999.0,9,  -9.0000,9,-999.0000,9, -999.00,9, -999.00,9,  -999.0,9,  -999.0,-999.000,9,-999.000,-999.000,9,  -9.0000,-999.0000,   5.5761,   -9.00
  316N145_7,       I08N,     278,          1,         27,         27,2,19950310,       0617,     6.5020,    79.5928,       1275,  1179.4,   5.6865,  34.8976,2,-999.0000,9,     57.2,4,    58.4,2,   97.46,2,   37.62,2,    0.00,2,    2.78,2,-999.000,9,-999.000,9,  -999.0,9,  -999.0,9,  -9.0000,9,-999.0000,9, -999.00,9, -999.00,9,  -999.0,9,  -999.0,-999.000,9,-999.000,-999.000,9,  -9.0000,-999.0000,   5.5800,   -9.00
  316N145_7,       I08N,     278,          1,         28,         28,2,19950310,       0617,     6.5020,    79.5928,       1275,  1179.8,   5.6869,  34.8975,2,-999.0000,9,     57.4,4,    59.0,2,   97.68,2,   37.57,2,    0.00,2,    2.79,2,-999.000,9,-999.000,9,  -999.0,9,  -999.0,9,  -9.0000,9,-999.0000,9, -999.00,9, -999.00,9,  -999.0,9,  -999.0,-999.000,9,-999.000,-999.000,9,  -9.0000,-999.0000,   5.5803,   -9.00
  316N145_7,       I08N,     278,          1,         29,         29,2,19950310,       0617,     6.5020,    79.5928,       1275,  1179.9,   5.6850,  34.8975,2,-999.0000,9,     57.4,4,    58.7,2,   97.91,2,   37.61,2,    0.00,2,    2.79,2,-999.000,9,-999.000,9,  -999.0,9,  -999.0,9,  -9.0000,9,-999.0000,9, -999.00,9, -999.00,9,  -999.0,9,  -999.0,-999.000,9,-999.000,-999.000,9,  -9.0000,-999.0000,   5.5784,   -9.00
  316N145_7,       I08N,     278,          1,         30,         30,2,19950310,       0617,     6.5020,    79.5928,       1275,  1180.1,   5.6848,  34.8975,2,-999.0000,9,     57.4,4,    58.5,2,   97.71,2,   37.51,2,    0.00,2,    2.78,2,-999.000,9,-999.000,9,  -999.0,9,  -999.0,9,  -9.0000,9,-999.0000,9, -999.00,9, -999.00,9,  -999.0,9,  -999.0,-999.000,9,-999.000,-999.000,9,  -9.0000,-999.0000,   5.5782,   -9.00
  316N145_7,       I08N,     278,          1,         31,         31,2,19950310,       0617,     6.5020,    79.5928,       1275,  1180.3,   5.6850,  34.8976,2,-999.0000,9,     57.4,4,    58.7,2,   97.73,2,   37.56,2,    0.00,2,    2.79,2,-999.000,9,-999.000,9,  -999.0,9,  -999.0,9,  -9.0000,9,-999.0000,9, -999.00,9, -999.00,9,  -999.0,9,  -999.0,-999.000,9,-999.000,-999.000,9,  -9.0000,-999.0000,   5.5784,   -9.00
  316N145_7,       I08N,     278,          1,         32,         32,2,19950310,       0617,     6.5020,    79.5928,       1275,  1180.3,   5.6862,  34.8978,2,-999.0000,9,     57.4,4,    58.6,2,   97.74,2,   37.55,2,    0.00,2,    2.78,2,-999.000,9,-999.000,9,  -999.0,9,  -999.0,9,  -9.0000,9,-999.0000,9, -999.00,9, -999.00,9,  -999.0,9,  -999.0,-999.000,9,-999.000,-999.000,9,  -9.0000,-999.0000,   5.5796,   -9.00
  316N145_7,       I08N,     278,          1,         33,         33,2,19950310,       0617,     6.5020,    79.5928,       1275,  1180.6,   5.6903,  34.8980,2,-999.0000,9,     57.4,4,    58.7,2,   97.76,2,   37.50,2,    0.00,2,    2.78,2,-999.000,9,-999.000,9,  -999.0,9,  -999.0,9,  -9.0000,9,-999.0000,9, -999.00,9, -999.00,9,  -999.0,9,  -999.0,-999.000,9,-999.000,-999.000,9,  -9.0000,-999.0000,   5.5836,   -9.00
  316N145_7,       I08N,     278,          1,         34,         34,2,19950310,       0617,     6.5020,    79.5928,       1275,  1180.8,   5.6948,  34.8981,2,-999.0000,9,     57.4,4,    59.6,2,   97.78,2,   37.50,2,    0.00,2,    2.78,2,-999.000,9,-999.000,9,  -999.0,9,  -999.0,9,  -9.0000,9,-999.0000,9, -999.00,9, -999.00,9,  -999.0,9,  -999.0,-999.000,9,-999.000,-999.000,9,  -9.0000,-999.0000,   5.5880,   -9.00
  316N145_7,       I08N,     278,          1,         35,         35,2,19950310,       0617,     6.5020,    79.5928,       1275,  1180.9,   5.6980,  34.8981,2,-999.0000,9,     57.4,4,    58.7,2,   97.58,2,   37.54,2,    0.00,2,    2.79,2,-999.000,9,-999.000,9,  -999.0,9,  -999.0,9,  -9.0000,9,-999.0000,9, -999.00,9, -999.00,9,  -999.0,9,  -999.0,-999.000,9,-999.000,-999.000,9,  -9.0000,-999.0000,   5.5912,   -9.00
  316N145_7,       I08N,     278,          1,         36,         36,2,19950310,       0617,     6.5020,    79.5928,       1275,  1181.0,   5.7004,  34.8980,2,-999.0000,9,     57.4,4,    58.6,2,   97.39,2,   37.45,2,    0.00,2,    2.78,2,-999.000,9,-999.000,9,  -999.0,9,  -999.0,9,  -9.0000,9,-999.0000,9, -999.00,9, -999.00,9,  -999.0,9,  -999.0,-999.000,9,-999.000,-999.000,9,  -9.0000,-999.0000,   5.5936,   -9.00
  316N145_7,       I08N,     279,          1,          8,          8,2,19950310,       1103,     5.8892,    79.9927,        160,     2.8,  28.6279,  33.3076,2,  33.3037,2,    206.4,2,   200.2,2,    2.46,2,    0.09,2,    0.00,2,    0.09,2,-999.000,9,-999.000,9,  -999.0,9,  -999.0,9,  -9.0000,9,-999.0000,9, -999.00,9, -999.00,9,  -999.0,9,  -999.0,-999.000,9,-999.000,-999.000,9,  -9.0000,-999.0000,  28.6273,   -9.00
  316N145_7,       I08N,     279,          1,          7,          7,2,19950310,       1103,     5.8892,    79.9927,        160,    27.1,  28.2536,  33.3002,2,  33.2961,2,    195.4,2,   200.6,2,    2.45,2,    0.09,2,    0.01,2,    0.09,2,-999.000,9,-999.000,9,  -999.0,9,  -999.0,9,  -9.0000,9,-999.0000,9, -999.00,9, -999.00,9,  -999.0,9,  -999.0,-999.000,9,-999.000,-999.000,9,  -9.0000,-999.0000,  28.2472,   -9.00
  316N145_7,       I08N,     279,          1,          6,          6,2,19950310,       1103,     5.8892,    79.9927,        160,    52.5,  28.2277,  33.3259,2,  33.3213,2,    198.8,2,   200.1,2,    2.44,2,    0.13,2,    0.01,2,    0.09,2,-999.000,9,-999.000,9,  -999.0,9,  -999.0,9,  -9.0000,9,-999.0000,9, -999.00,9, -999.00,9,  -999.0,9,  -999.0,-999.000,9,-999.000,-999.000,9,  -9.0000,-999.0000,  28.2153,   -9.00
  316N145_7,       I08N,     279,          1,          5,          5,2,19950310,       1103,     5.8892,    79.9927,        160,    82.6,  28.1726,  33.3990,2,  33.4195,2,    198.7,2,   196.1,2,    2.63,2,    0.49,2,    0.02,2,    0.14,2,-999.000,9,-999.000,9,  -999.0,9,  -999.0,9,  -9.0000,9,-999.0000,9, -999.00,9, -999.00,9,  -999.0,9,  -999.0,-999.000,9,-999.000,-999.000,9,  -9.0000,-999.0000,  28.1531,   -9.00
  316N145_7,       I08N,     279,          1,          4,          4,2,19950310,       1103,     5.8892,    79.9927,        160,   107.3,  20.4586,  34.7919,2,  34.8003,2,     40.6,2,    40.1,2,   19.86,2,   23.11,2,    0.03,2,    1.69,2,-999.000,9,-999.000,9,  -999.0,9,  -999.0,9,  -9.0000,9,-999.0000,9, -999.00,9, -999.00,9,  -999.0,9,  -999.0,-999.000,9,-999.000,-999.000,9,  -9.0000,-999.0000,  20.4385,   -9.00
  316N145_7,       I08N,     279,          1,          3,          3,2,19950310,       1103,     5.8892,    79.9927,        160,   132.8,  16.1771,  34.9411,2,  34.9358,2,     14.9,2,    13.7,2,   28.14,2,   29.02,2,    0.00,2,    2.15,2,-999.000,9,-999.000,9,  -999.0,9,  -999.0,9,  -9.0000,9,-999.0000,9, -999.00,9, -999.00,9,  -999.0,9,  -999.0,-999.000,9,-999.000,-999.000,9,  -9.0000,-999.0000,  16.1560,   -9.00
  316N145_7,       I08N,     279,          1,          2,          2,2,19950310,       1103,     5.8892,    79.9927,        160,   162.3,  14.7878,  35.0284,2,  35.0039,2,     15.4,2,    17.1,2,   29.78,2,   30.05,2,    0.00,2,    2.23,2,-999.000,9,-999.000,9,  -999.0,9,  -999.0,9,  -9.0000,9,-999.0000,9, -999.00,9, -999.00,9,  -999.0,9,  -999.0,-999.000,9,-999.000,-999.000,9,  -9.0000,-999.0000,  14.7635,   -9.00
  316N145_7,       I08N,     279,          1,          1,          1,2,19950310,       1103,     5.8892,    79.9927,        160,   185.8,  13.9323,  35.0412,2,  35.0400,2,     17.2,2,    17.1,2,   30.17,2,   30.32,2,    0.00,2,    2.24,2,-999.000,9,-999.000,9,  -999.0,9,  -999.0,9,  -9.0000,9,-999.0000,9, -999.00,9, -999.00,9,  -999.0,9,  -999.0,-999.000,9,-999.000,-999.000,9,  -9.0000,-999.0000,  13.9056,   -9.00