BOTTLE,20211119CCHSIORKP
EXPOCODE,SECT_ID,STNNBR,CASTNO,SAMPNO,BTLNBR,BTLNBR_FLAG_W,DATE,TIME,LATITUDE,LONGITUDE,DEPTH,CTDPRS,CTDTMP,CTDSAL,CTDSAL_FLAG_W,SALNTY,SALNTY_FLAG_W,CTDOXY,CTDOXY_FLAG_W,OXYGEN,OXYGEN_FLAG_W,SILCAT,SILCAT_FLAG_W,NH4,NH4_FLAG_W,NITRAT,NITRAT_FLAG_W,NITRIT,NITRIT_FLAG_W,PHSPHT,PHSPHT_FLAG_W,CFC-12,CFC-12_FLAG_W,SF6,SF6_FLAG_W,TCARBN,TCARBN_FLAG_W,ALKALI,ALKALI_FLAG_W,SF5CF3,SF5CF3_FLAG_W
,,,,,,,,,,,METERS,DBAR,ITS-90,PSS-78,,PSS-78,,UMOL/KG,,UMOL/KG,,UMOL/KG,,UMOL/KG,,UMOL/KG,,UMOL/KG,,UMOL/KG,,PMOL/KG,,FMOL/KG,,UMOL/KG,,UMOL/KG,,FMOL/KG,
06MT20091026,       A16C,      12,          1,     203161,          1,2,20091102,       1919,     1.3336,   -23.0002,       4737,  4726.9,   2.2693,  34.8739,2,-999.0000,9,    248.0,2,   244.5,2,   43.17,2,    0.06,2,   22.93,2,    0.02,2,    1.49,2,-999.000,9,-999.000,9,  2202.7,2,  2344.8,2,     -999.0,9
06MT20091026,       A16C,      12,          1,     203163,          3,2,20091102,       1954,     1.3336,   -23.0002,       4737,  3037.1,   2.6788,  34.9162,2,-999.0000,9,    245.0,2,  -999.0,9,   25.24,3,    0.97,3,   23.03,2,    0.02,2,    1.45,2,-999.000,9,-999.000,9,  -999.0,9,  -999.0,9,     -999.0,9
06MT20091026,       A16C,      12,          1,     203164,          4,2,20091102,       1954,     1.3336,   -23.0002,       4737,  3035.4,   2.6777,  34.9162,2,-999.0000,9,    245.1,2,   245.7,2,   31.23,6,    0.07,6,   23.21,2,    0.01,6,    1.39,6,-999.000,9,-999.000,9,  2185.2,2,  2329.5,2,     -999.0,9
06MT20091026,       A16C,      12,          1,     203165,          5,2,20091102,       2011,     1.3336,   -23.0002,       4737,  2525.5,   3.0385,  34.9381,2,-999.0000,9,    244.1,2,   245.9,2,   27.25,2,    0.04,2,   21.81,2,    0.01,2,    1.39,2,   0.066,2,   0.595,4,  2178.0,2,  2322.2,2,       0.00,3
06MT20091026,       A16C,      12,          1,     203166,          6,2,20091102,       2021,     1.3336,   -23.0002,       4737,  2018.4,   3.7532,  34.9750,2,-999.0000,9,    246.3,2,   249.0,2,   16.52,2,       0,2,   20.58,2,    0.01,2,    1.34,2,   0.164,2,   0.111,4,  2166.5,2,  2312.0,2,       0.00,3
06MT20091026,       A16C,      12,          1,     203167,          7,2,20091102,       2031,     1.3336,   -23.0002,       4737,  1511.5,   4.4294,  34.9470,2,-999.0000,9,    216.7,2,   217.7,2,   16.65,2,    0.06,2,   24.11,2,    0.01,2,    1.54,2,-999.000,9,-999.000,9,  2181.2,2,  2312.2,2,     -999.0,9
06MT20091026,       A16C,      12,          1,     203168,          8,2,20091102,       2036,     1.3336,   -23.0002,       4737,  1258.2,   4.5277,  34.8700,2,-999.0000,9,    192.8,2,   193.0,2,   20.57,2,    0.06,2,   27.84,2,    0.01,2,    1.77,2,   0.064,2,   0.267,4,  2195.4,2,  2310.2,2,       0.00,3
06MT20091026,       A16C,      12,          1,     203169,          9,2,20091102,       2040,     1.3336,   -23.0002,       4737,  1005.5,   4.5642,  34.6118,2,-999.0000,9,    155.3,2,   154.6,2,   26.77,2,    0.05,2,   35.07,2,    0.01,2,    2.32,2,-999.000,9,-999.000,9,  2218.9,2,  2304.6,2,     -999.0,9
06MT20091026,       A16C,      12,          1,     203171,         11,2,20091102,       2048,     1.3336,   -23.0002,       4737,   603.0,   6.2887,  34.5609,2,-999.0000,9,    140.6,2,   140.2,2,   23.58,2,    0.11,2,   36.57,2,    0.01,2,    2.37,2,-999.000,9,-999.000,9,  2211.3,2,  2293.4,2,     -999.0,9
06MT20091026,       A16C,      12,          1,     203172,         12,2,20091102,       2052,     1.3336,   -23.0002,       4737,   400.9,   8.1186,  34.7205,2,-999.0000,9,    118.8,2,   118.2,2,   15.16,2,    0.05,2,   33.54,2,    0.01,2,    2.06,2,   0.551,2,   0.113,4,  2211.2,2,  2296.5,2,       0.00,3
06MT20091026,       A16C,      12,          1,     203173,         13,2,20091102,       2054,     1.3336,   -23.0002,       4737,   299.5,  10.1638,  34.9525,2,-999.0000,9,    113.5,2,   116.9,2,   11.53,2,    0.05,2,   29.18,2,    0.01,2,    1.82,2,   0.746,2,   0.263,4,  2202.3,2,  2302.0,2,       0.00,3
06MT20091026,       A16C,      12,          1,     203174,         14,2,20091102,       2056,     1.3336,   -23.0002,       4737,   200.6,  13.7778,  35.3856,2,-999.0000,9,    128.7,2,   127.8,2,    5.99,2,    0.14,2,   19.61,2,    0.01,2,    1.28,2,   1.082,2,   0.554,4,  2175.9,2,  2327.8,2,       0.00,3
06MT20091026,       A16C,      12,          1,      12015,         15,2,20091102,       2056,     1.3336,   -23.0002,       4737,   189.3,  13.9463,  35.4118,2,-999.0000,9,    131.2,2,  -999.0,9, -999.00,9, -999.00,9, -999.00,9, -999.00,9, -999.00,9,-999.000,9,-999.000,9,  -999.0,9,  -999.0,9,     -999.0,9
06MT20091026,       A16C,      12,          1,      12016,         16,2,20091102,       2057,     1.3336,   -23.0002,       4737,   182.0,  14.0380,  35.4234,2,-999.0000,9,    133.9,2,  -999.0,9, -999.00,9, -999.00,9, -999.00,9, -999.00,9, -999.00,9,-999.000,9,-999.000,9,  -999.0,9,  -999.0,9,     -999.0,9
06MT20091026,       A16C,      12,          1,     203175,         17,2,20091102,       2057,     1.3336,   -23.0002,       4737,   150.2,  14.7308,  35.5185,2,-999.0000,9,    116.8,2,   123.8,2,    5.95,2,    0.08,2,   19.26,2,    0.01,2,    1.25,2,-999.000,9,-999.000,9,  2176.6,2,  2323.9,2,     -999.0,9
06MT20091026,       A16C,      12,          1,     203176,         18,2,20091102,       2059,     1.3336,   -23.0002,       4737,   100.7,  16.7781,  35.6905,2,-999.0000,9,    102.3,2,   102.7,2,    4.09,2,    0.12,2,   16.73,2,    0.05,2,    1.09,2,   1.090,2,   0.547,4,  2183.8,2,  2341.9,2,       0.00,3
06MT20091026,       A16C,      12,          1,     203177,         19,2,20091102,       2059,     1.3336,   -23.0002,       4737,    79.8,  20.9728,  35.8881,2,-999.0000,9,    130.3,2,   157.2,3,    1.64,2,     0.1,2,    7.00,2,    0.35,2,    0.52,2,-999.000,9,-999.000,9,  2117.8,2,  2347.9,2,     -999.0,9
06MT20091026,       A16C,      12,          1,     203179,         21,2,20091102,       2101,     1.3336,   -23.0002,       4737,    40.5,  26.9334,  35.8267,2,-999.0000,9,    203.5,2,   202.3,2,    0.02,6,    0.09,6,    0.01,6,    0.00,6,    0.00,6,-999.000,9,-999.000,9,  2014.2,2,  2344.9,2,     -999.0,9
06MT20091026,       A16C,      12,          1,     203180,         22,2,20091102,       2102,     1.3336,   -23.0002,       4737,    20.1,  26.9491,  35.8274,2,-999.0000,9,    203.1,2,   202.7,2,    0.41,2,    0.09,2,    0.12,2,    0.00,2,    0.02,2,-999.000,9,-999.000,9,  2013.2,2,  2343.4,2,     -999.0,9
06MT20091026,       A16C,      12,          1,     203181,         23,2,20091102,       2102,     1.3336,   -23.0002,       4737,    10.4,  27.0876,  35.8304,2,-999.0000,9,    203.0,2,   202.2,2,    0.12,2,    0.14,2,    0.14,2,    0.01,2,    0.04,2,-999.000,9,-999.000,9,  2014.4,2,  2341.2,2,     -999.0,9
06MT20091026,       A16C,      12,          1,     203182,         24,2,20091102,       2103,     1.3336,   -23.0002,       4737,     5.5,  27.0874,  35.8311,2,-999.0000,9,    203.7,2,   202.3,2,    0.23,2,    0.11,2,    0.26,2,    0.01,2,    0.04,2,-999.000,9,-999.000,9,  2014.5,2,  2345.2,2,     -999.0,9
06MT20091026,       A16C,      13,          1,     203183,          1,2,20091103,       0125,     1.0028,   -23.0010,       3746,  3199.6,   2.5957,  34.9039,2,-999.0000,9,   -999.0,9,   246.2,2,   32.16,2,    0.02,2,   22.62,2,    0.04,2,    1.44,2,-999.000,9,-999.000,9,  2187.7,2,  2337.8,2,     -999.0,9
06MT20091026,       A16C,      13,          1,     203184,          2,2,20091103,       0140,     1.0028,   -23.0010,       3746,  2527.1,   3.0403,  34.9320,2,-999.0000,9,   -999.0,9,   246.0,2,   25.69,2,    0.02,2,   22.09,2,    0.04,2,    1.38,2,-999.000,9,-999.000,9,  2179.2,2,  2330.9,2,     -999.0,9
06MT20091026,       A16C,      13,          1,     203185,          3,2,20091103,       0145,     1.0028,   -23.0010,       3746,  2271.7,   3.2434,  34.9455,2,-999.0000,9,   -999.0,9,   248.7,2,   23.09,2,    0.07,2,   21.06,2,    0.03,2,    1.36,2,-999.000,9,-999.000,9,  2173.1,2,  2325.1,2,     -999.0,9
06MT20091026,       A16C,      13,          1,     203186,          4,2,20091103,       0151,     1.0028,   -23.0010,       3746,  2016.6,   3.7024,  34.9670,2,-999.0000,9,   -999.0,9,   249.3,2,   16.37,2,    0.06,2,   20.48,2,    0.03,2,    1.30,2,-999.000,9,-999.000,9,  2167.7,2,  2319.2,2,     -999.0,9
06MT20091026,       A16C,      13,          1,     203187,          5,2,20091103,       0156,     1.0028,   -23.0010,       3746,  1764.0,   3.9339,  34.9733,2,-999.0000,9,   -999.0,9,   245.5,2,   15.13,2,    0.07,2,   20.72,2,    0.02,2,    1.33,2,-999.000,9,-999.000,9,  2167.4,2,  2319.8,2,     -999.0,9
06MT20091026,       A16C,      13,          1,     203188,          6,2,20091103,       0201,     1.0028,   -23.0010,       3746,  1510.5,   4.4186,  34.9473,2,-999.0000,9,   -999.0,9,   218.9,2,   17.25,2,    0.05,2,   23.96,2,    0.02,2,    1.53,2,-999.000,9,-999.000,9,  2180.2,2,  2320.0,2,     -999.0,9
06MT20091026,       A16C,      13,          1,     203189,          7,2,20091103,       0206,     1.0028,   -23.0010,       3746,  1258.2,   4.5204,  34.8647,2,-999.0000,9,   -999.0,9,   194.2,2,   20.05,2,    0.05,2,   27.58,2,    0.01,2,    1.79,2,-999.000,9,-999.000,9,  2195.2,2,  2318.0,2,     -999.0,9
06MT20091026,       A16C,      13,          1,     203190,          8,2,20091103,       0211,     1.0028,   -23.0010,       3746,  1007.1,   4.5501,  34.6253,2,-999.0000,9,   -999.0,9,   157.2,2,   25.43,2,    0.03,2,   34.32,2,    0.01,2,    2.27,2,-999.000,9,-999.000,9,  2217.6,2,  2312.9,2,     -999.0,9
06MT20091026,       A16C,      13,          1,     203191,          9,2,20091103,       0221,     1.0028,   -23.0010,       3746,   796.8,   4.9340,  34.5138,2,-999.0000,9,   -999.0,9,   148.6,2,   25.94,2,    0.07,2,   36.57,2,    0.01,2,    2.37,2,-999.000,9,-999.000,9,  2220.0,2,  2305.8,2,     -999.0,9
06MT20091026,       A16C,      13,          1,     203193,         11,2,20091103,       0226,     1.0028,   -23.0010,       3746,   590.6,   6.3578,  34.5598,2,-999.0000,9,   -999.0,9,   134.9,2,   19.14,2,    0.05,2,   35.09,2,    0.00,2,    2.20,2,-999.000,9,-999.000,9,  2213.9,2,  2296.4,2,     -999.0,9
06MT20091026,       A16C,      13,          1,     203194,         12,2,20091103,       0233,     1.0028,   -23.0010,       3746,   299.2,  10.3034,  34.9599,2,-999.0000,9,   -999.0,9,   115.6,2,   10.36,2,    0.06,2,   28.91,2,    0.05,2,    1.60,2,-999.000,9,-999.000,9,  2199.9,2,  2302.4,2,     -999.0,9
06MT20091026,       A16C,      13,          1,     203195,         13,2,20091103,       0234,     1.0028,   -23.0010,       3746,   248.3,  12.1931,  35.1769,2,-999.0000,9,   -999.0,9,   107.1,2,    8.57,2,       0,2,   25.51,2,    0.00,2,    1.56,2,-999.000,9,-999.000,9,  2194.6,2,  2305.2,2,     -999.0,9
06MT20091026,       A16C,      13,          1,     203196,         14,2,20091103,       0235,     1.0028,   -23.0010,       3746,   199.2,  13.4817,  35.3404,2,-999.0000,9,   -999.0,9,   122.8,2,    6.26,2,    0.09,2,   21.41,2,    0.01,2,    1.40,2,-999.000,9,-999.000,9,  2180.0,2,  2324.7,2,     -999.0,9
06MT20091026,       A16C,      13,          1,     203197,         17,2,20091103,       0236,     1.0028,   -23.0010,       3746,   149.7,  14.5198,  35.4833,2,-999.0000,9,   -999.0,9,   128.0,2,    5.49,2,    0.08,2,   19.01,2,    0.01,2,    1.23,2,-999.000,9,-999.000,9,  2173.3,2,  2323.8,2,     -999.0,9
06MT20091026,       A16C,      13,          1,     203198,         18,2,20091103,       0238,     1.0028,   -23.0010,       3746,    99.4,  16.1099,  35.6445,2,-999.0000,9,   -999.0,9,   102.8,2,    5.82,2,    0.06,2,   18.68,2,    0.04,2,    1.19,2,-999.000,9,-999.000,9,  2183.5,2,  2339.7,2,     -999.0,9
06MT20091026,       A16C,      13,          1,     203200,         20,2,20091103,       0240,     1.0028,   -23.0010,       3746,    67.4,  23.6815,  35.8745,2,-999.0000,9,   -999.0,9,   177.9,2,    0.95,2,     0.1,2,    3.89,2,    0.44,2,    0.29,2,-999.000,9,-999.000,9,  2093.3,2,  2357.1,2,     -999.0,9
06MT20091026,       A16C,      13,          1,     203201,         21,2,20091103,       0242,     1.0028,   -23.0010,       3746,    39.9,  26.6018,  35.8642,2,-999.0000,9,   -999.0,9,   203.7,2,    0.15,2,    0.08,2,    0.00,2,    0.00,2,    0.00,2,-999.000,9,-999.000,9,  2022.9,2,  2354.4,2,     -999.0,9
06MT20091026,       A16C,      13,          1,     203202,         22,2,20091103,       0243,     1.0028,   -23.0010,       3746,    20.0,  26.6864,  35.8719,2,-999.0000,9,   -999.0,9,   204.4,2,    0.00,2,    0.09,2,    0.55,2,    0.00,2,    0.04,2,-999.000,9,-999.000,9,  2022.1,2,  2352.3,2,     -999.0,9
06MT20091026,       A16C,      13,          1,     203203,         23,2,20091103,       0244,     1.0028,   -23.0010,       3746,    10.3,  26.6884,  35.8725,2,-999.0000,9,   -999.0,9,   204.1,2,    0.03,2,    0.07,2,    2.85,2,    0.01,2,    0.00,2,-999.000,9,-999.000,9,  2022.5,2,  2354.0,2,     -999.0,9
06MT20091026,       A16C,      13,          1,     203204,         24,2,20091103,       0245,     1.0028,   -23.0010,       3746,     5.5,  26.6882,  35.8726,2,-999.0000,9,   -999.0,9,   204.0,2,    1.69,2,    0.07,2,   33.27,4,    0.06,2,    0.04,2,-999.000,9,-999.000,9,  2022.6,2,  2354.2,2,     -999.0,9