BOTTLE,20211119CCHSIORKP
EXPOCODE,SECT_ID,STNNBR,CASTNO,SAMPNO,BTLNBR,BTLNBR_FLAG_W,DATE,TIME,LATITUDE,LONGITUDE,DEPTH,CTDPRS,CTDTMP,CTDSAL,CTDSAL_FLAG_W,SALNTY,SALNTY_FLAG_W,CTDOXY,CTDOXY_FLAG_W,OXYGEN,OXYGEN_FLAG_W,SILCAT,SILCAT_FLAG_W,NH4,NH4_FLAG_W,NITRAT,NITRAT_FLAG_W,NITRIT,NITRIT_FLAG_W,PHSPHT,PHSPHT_FLAG_W,CFC-12,CFC-12_FLAG_W,SF6,SF6_FLAG_W,TCARBN,TCARBN_FLAG_W,ALKALI,ALKALI_FLAG_W,SF5CF3,SF5CF3_FLAG_W
,,,,,,,,,,,METERS,DBAR,ITS-90,PSS-78,,PSS-78,,UMOL/KG,,UMOL/KG,,UMOL/KG,,UMOL/KG,,UMOL/KG,,UMOL/KG,,UMOL/KG,,PMOL/KG,,FMOL/KG,,UMOL/KG,,UMOL/KG,,FMOL/KG,
06MT20091026,       A16C,       6,          1,     203051,          1,2,20091031,       0705,     5.0503,   -22.9998,       3900,   606.9,   6.4479,  34.6192,2,  34.6202,2,    113.5,2,  -999.0,9, -999.00,9, -999.00,9, -999.00,9, -999.00,9, -999.00,9,-999.000,9,-999.000,9,  -999.0,9,  -999.0,9,     -999.0,9
06MT20091026,       A16C,       6,          1,     203052,          2,2,20091031,       0713,     5.0503,   -22.9998,       3900,   403.0,   8.9098,  34.8573,2,-999.0000,9,     81.1,2,  -999.0,9, -999.00,9, -999.00,9, -999.00,9, -999.00,9, -999.00,9,-999.000,9,-999.000,9,  -999.0,9,  -999.0,9,     -999.0,9
06MT20091026,       A16C,       6,          1,     203053,          3,2,20091031,       0713,     5.0503,   -22.9998,       3900,   403.3,   8.9071,  34.8562,2,-999.0000,9,     81.4,2,  -999.0,9, -999.00,9, -999.00,9, -999.00,9, -999.00,9, -999.00,9,-999.000,9,-999.000,9,  -999.0,9,  -999.0,9,     -999.0,9
06MT20091026,       A16C,       6,          1,     203054,          4,2,20091031,       0713,     5.0503,   -22.9998,       3900,   403.4,   8.9078,  34.8569,2,-999.0000,9,     81.3,2,  -999.0,9, -999.00,9, -999.00,9, -999.00,9, -999.00,9, -999.00,9,-999.000,9,-999.000,9,  -999.0,9,  -999.0,9,     -999.0,9
06MT20091026,       A16C,       6,          1,     203055,          5,2,20091031,       0714,     5.0503,   -22.9998,       3900,   403.2,   8.9094,  34.8579,2,-999.0000,9,     81.5,2,  -999.0,9, -999.00,9, -999.00,9, -999.00,9, -999.00,9, -999.00,9,-999.000,9,-999.000,9,  -999.0,9,  -999.0,9,     -999.0,9
06MT20091026,       A16C,       6,          1,     203056,          6,2,20091031,       0714,     5.0503,   -22.9998,       3900,   403.2,   8.9096,  34.8580,2,-999.0000,9,     81.7,2,  -999.0,9, -999.00,9, -999.00,9, -999.00,9, -999.00,9, -999.00,9,-999.000,9,-999.000,9,  -999.0,9,  -999.0,9,     -999.0,9
06MT20091026,       A16C,       6,          1,     203057,          7,2,20091031,       0722,     5.0503,   -22.9998,       3900,   201.3,  13.4266,  35.3496,2,-999.0000,9,    108.6,2,  -999.0,9, -999.00,9, -999.00,9, -999.00,9, -999.00,9, -999.00,9,-999.000,9,-999.000,9,  -999.0,9,  -999.0,9,     -999.0,9
06MT20091026,       A16C,       6,          1,     203058,          8,2,20091031,       0726,     5.0503,   -22.9998,       3900,   148.8,  14.6304,  35.4913,2,-999.0000,9,     79.5,2,  -999.0,9, -999.00,9, -999.00,9, -999.00,9, -999.00,9, -999.00,9,-999.000,9,-999.000,9,  -999.0,9,  -999.0,9,     -999.0,9
06MT20091026,       A16C,       6,          1,     203059,          9,2,20091031,       0728,     5.0503,   -22.9998,       3900,   100.2,  16.0740,  35.6493,2,  35.6351,2,     77.9,2,  -999.0,9, -999.00,9, -999.00,9, -999.00,9, -999.00,9, -999.00,9,-999.000,9,-999.000,9,  -999.0,9,  -999.0,9,     -999.0,9
06MT20091026,       A16C,       6,          1,     203060,         10,2,20091031,       0730,     5.0503,   -22.9998,       3900,    71.7,  21.2471,  35.8977,2,-999.0000,9,    160.0,2,  -999.0,9, -999.00,9, -999.00,9, -999.00,9, -999.00,9, -999.00,9,-999.000,9,-999.000,9,  -999.0,9,  -999.0,9,     -999.0,9
06MT20091026,       A16C,       6,          1,     203061,         11,2,20091031,       0730,     5.0503,   -22.9998,       3900,    71.3,  21.1938,  35.8983,2,-999.0000,9,    160.1,2,  -999.0,9, -999.00,9, -999.00,9, -999.00,9, -999.00,9, -999.00,9,-999.000,9,-999.000,9,  -999.0,9,  -999.0,9,     -999.0,9
06MT20091026,       A16C,       6,          1,     203062,         12,2,20091031,       0730,     5.0503,   -22.9998,       3900,    71.3,  21.2201,  35.9019,2,-999.0000,9,    160.2,2,  -999.0,9, -999.00,9, -999.00,9, -999.00,9, -999.00,9, -999.00,9,-999.000,9,-999.000,9,  -999.0,9,  -999.0,9,     -999.0,9
06MT20091026,       A16C,       6,          1,     203063,         13,2,20091031,       0730,     5.0503,   -22.9998,       3900,    71.8,  21.2804,  35.9064,2,-999.0000,9,    159.1,2,  -999.0,9, -999.00,9, -999.00,9, -999.00,9, -999.00,9, -999.00,9,-999.000,9,-999.000,9,  -999.0,9,  -999.0,9,     -999.0,9
06MT20091026,       A16C,       6,          1,     203064,         14,2,20091031,       0730,     5.0503,   -22.9998,       3900,    72.1,  21.3075,  35.9028,2,-999.0000,9,    159.2,2,  -999.0,9, -999.00,9, -999.00,9, -999.00,9, -999.00,9, -999.00,9,-999.000,9,-999.000,9,  -999.0,9,  -999.0,9,     -999.0,9
06MT20091026,       A16C,       6,          1,       6015,         15,2,20091031,       0730,     5.0503,   -22.9998,       3900,    72.0,  21.2822,  35.9046,2,-999.0000,9,    159.3,2,  -999.0,9, -999.00,9, -999.00,9, -999.00,9, -999.00,9, -999.00,9,-999.000,9,-999.000,9,  -999.0,9,  -999.0,9,     -999.0,9
06MT20091026,       A16C,       6,          1,       6016,         16,2,20091031,       0730,     5.0503,   -22.9998,       3900,    71.4,  21.2631,  35.8996,2,-999.0000,9,    160.4,2,  -999.0,9, -999.00,9, -999.00,9, -999.00,9, -999.00,9, -999.00,9,-999.000,9,-999.000,9,  -999.0,9,  -999.0,9,     -999.0,9
06MT20091026,       A16C,       6,          1,     203065,         17,2,20091031,       0730,     5.0503,   -22.9998,       3900,    71.3,  21.2836,  35.9037,2,-999.0000,9,    160.0,2,  -999.0,9, -999.00,9, -999.00,9, -999.00,9, -999.00,9, -999.00,9,-999.000,9,-999.000,9,  -999.0,9,  -999.0,9,     -999.0,9
06MT20091026,       A16C,       6,          1,     203066,         18,2,20091031,       0732,     5.0503,   -22.9998,       3900,    51.2,  25.8762,  35.9473,2,-999.0000,9,    195.8,2,  -999.0,9, -999.00,9, -999.00,9, -999.00,9, -999.00,9, -999.00,9,-999.000,9,-999.000,9,  -999.0,9,  -999.0,9,     -999.0,9
06MT20091026,       A16C,       6,          1,     203067,         19,2,20091031,       0734,     5.0503,   -22.9998,       3900,    20.5,  28.7235,  35.1667,2,  35.1657,2,    199.3,2,  -999.0,9, -999.00,9, -999.00,9, -999.00,9, -999.00,9, -999.00,9,-999.000,9,-999.000,9,  -999.0,9,  -999.0,9,     -999.0,9
06MT20091026,       A16C,       6,          1,     203068,         20,2,20091031,       0734,     5.0503,   -22.9998,       3900,    20.7,  28.7226,  35.1665,2,-999.0000,9,    199.0,2,  -999.0,9, -999.00,9, -999.00,9, -999.00,9, -999.00,9, -999.00,9,-999.000,9,-999.000,9,  -999.0,9,  -999.0,9,     -999.0,9
06MT20091026,       A16C,       6,          1,     203069,         21,2,20091031,       0734,     5.0503,   -22.9998,       3900,    20.9,  28.7243,  35.1673,2,-999.0000,9,    198.7,2,  -999.0,9, -999.00,9, -999.00,9, -999.00,9, -999.00,9, -999.00,9,-999.000,9,-999.000,9,  -999.0,9,  -999.0,9,     -999.0,9
06MT20091026,       A16C,       6,          1,     203070,         22,2,20091031,       0734,     5.0503,   -22.9998,       3900,    20.7,  28.7234,  35.1672,2,-999.0000,9,    198.6,2,  -999.0,9, -999.00,9, -999.00,9, -999.00,9, -999.00,9, -999.00,9,-999.000,9,-999.000,9,  -999.0,9,  -999.0,9,     -999.0,9
06MT20091026,       A16C,       6,          1,     203071,         23,2,20091031,       0734,     5.0503,   -22.9998,       3900,    20.5,  28.7244,  35.1678,2,-999.0000,9,    198.8,2,  -999.0,9, -999.00,9, -999.00,9, -999.00,9, -999.00,9, -999.00,9,-999.000,9,-999.000,9,  -999.0,9,  -999.0,9,     -999.0,9
06MT20091026,       A16C,       6,          1,     203072,         24,2,20091031,       0735,     5.0503,   -22.9998,       3900,     9.9,  28.7175,  35.1657,2,  35.1649,2,    198.5,2,  -999.0,9, -999.00,9, -999.00,9, -999.00,9, -999.00,9, -999.00,9,-999.000,9,-999.000,9,  -999.0,9,  -999.0,9,     -999.0,9
06MT20091026,       A16C,       7,          1,     203073,          1,2,20091031,       1138,     5.0183,   -22.9833,       3900,  1007.5,   4.8357,  34.6701,2,-999.0000,9,    146.4,2,  -999.0,9, -999.00,9, -999.00,9, -999.00,9, -999.00,9, -999.00,9,-999.000,9,-999.000,9,  -999.0,9,  -999.0,9,     -999.0,9
06MT20091026,       A16C,       7,          1,     203074,          2,2,20091031,       1138,     5.0183,   -22.9833,       3900,  1007.3,   4.8359,  34.6701,2,  34.6704,2,    146.4,2,   144.5,2,   22.18,2,    0.46,2,   32.11,2,    0.03,2,    2.18,2,-999.000,9,-999.000,9,  2222.4,2,  2300.2,2,     -999.0,9
06MT20091026,       A16C,       7,          1,     203075,          3,2,20091031,       1141,     5.0183,   -22.9833,       3900,   903.2,   5.0834,  34.6314,2,-999.0000,9,    131.6,2,   131.7,2,   27.31,3,    0.07,2,   38.06,2,    0.02,2,    2.41,2,-999.000,9,-999.000,9,  2228.0,2,  2306.8,2,     -999.0,9
06MT20091026,       A16C,       7,          1,     203076,          4,2,20091031,       1143,     5.0183,   -22.9833,       3900,   804.7,   5.5737,  34.6129,2,-999.0000,9,    116.2,2,   115.8,2,   23.21,2,    0.05,2,   39.47,2,    0.01,2,    2.51,2,-999.000,9,-999.000,9,  2232.3,2,  2301.4,2,     -999.0,9
06MT20091026,       A16C,       7,          1,     203077,          5,2,20091031,       1145,     5.0183,   -22.9833,       3900,   703.8,   6.0629,  34.6068,2,  34.6075,2,    118.1,2,   118.2,2,   22.76,6,    0.08,6,   38.84,6,    0.02,6,    2.42,6,-999.000,9,-999.000,9,  2227.5,2,  2300.2,2,     -999.0,9
06MT20091026,       A16C,       7,          1,     203078,          6,2,20091031,       1147,     5.0183,   -22.9833,       3900,   602.1,   6.7801,  34.6539,2,-999.0000,9,    107.3,2,   107.4,2,   18.83,2,    0.13,2,   37.35,2,    0.02,2,    2.39,2,-999.000,9,-999.000,9,  2227.4,2,  2298.0,2,     -999.0,9
06MT20091026,       A16C,       7,          1,     203079,          7,2,20091031,       1149,     5.0183,   -22.9833,       3900,   501.3,   7.5845,  34.7212,2,-999.0000,9,     98.8,2,    98.5,2,   13.25,3,    0.09,2,   29.12,3,    0.02,2,    2.04,3,-999.000,9,-999.000,9,  2227.9,2,  2296.5,2,     -999.0,9
06MT20091026,       A16C,       7,          1,     203080,          8,2,20091031,       1151,     5.0183,   -22.9833,       3900,   401.8,   8.8729,  34.8378,2,  34.8358,2,     86.7,2,    86.9,2,   14.60,2,    0.07,2,   36.24,2,    0.01,2,    2.16,2,-999.000,9,-999.000,9,  2226.0,2,  2299.4,2,     -999.0,9
06MT20091026,       A16C,       7,          1,     203081,          9,2,20091031,       1153,     5.0183,   -22.9833,       3900,   327.5,  10.5348,  35.0434,2,-999.0000,9,     70.2,2,    71.2,2,   11.84,2,    0.05,2,   34.50,2,    0.01,2,    2.00,2,-999.000,9,-999.000,9,  2227.8,2,  2300.9,2,     -999.0,9
06MT20091026,       A16C,       7,          1,     203082,         10,2,20091031,       1153,     5.0183,   -22.9833,       3900,   300.9,  10.9989,  35.0922,2,-999.0000,9,     66.0,2,    68.8,2,   11.03,2,    0.05,2,   32.84,2,    0.00,2,    1.92,2,-999.000,9,-999.000,9,  2227.3,2,  2334.8,3,     -999.0,9
06MT20091026,       A16C,       7,          1,     203083,         11,2,20091031,       1154,     5.0183,   -22.9833,       3900,   251.2,  12.0071,  35.1899,2,-999.0000,9,     85.6,2,    87.8,2,    9.01,2,    0.01,2,   28.07,2,    0.01,2,    1.73,2,-999.000,9,-999.000,9,  2209.6,2,  2308.8,2,     -999.0,9
06MT20091026,       A16C,       7,          1,     203084,         12,2,20091031,       1155,     5.0183,   -22.9833,       3900,   211.5,  12.9401,  35.2946,2,-999.0000,9,    103.9,2,   104.7,2,    7.38,2,    0.06,2,   24.22,2,    0.01,2,    1.53,2,-999.000,9,-999.000,9,  2193.5,2,  2317.6,2,     -999.0,9
06MT20091026,       A16C,       7,          1,     203085,         13,2,20091031,       1156,     5.0183,   -22.9833,       3900,   180.6,  13.6036,  35.3699,2,-999.0000,9,    110.2,2,   109.1,2,    7.82,2,       0,2,   22.71,2,    0.01,2,    1.46,2,-999.000,9,-999.000,9,  2187.7,2,  2377.1,3,     -999.0,9
06MT20091026,       A16C,       7,          1,     203086,         14,2,20091031,       1156,     5.0183,   -22.9833,       3900,   150.9,  14.2200,  35.4439,2,-999.0000,9,     92.4,2,    89.0,2,    6.57,2,    0.04,2,   23.04,2,    0.01,2,    1.46,2,-999.000,9,-999.000,9,  2198.9,2,  2322.9,2,     -999.0,9
06MT20091026,       A16C,       7,          1,       7015,         15,2,20091031,       1157,     5.0183,   -22.9833,       3900,   119.7,  15.4102,  35.5827,2,-999.0000,9,     80.8,2,  -999.0,9, -999.00,9, -999.00,9, -999.00,9, -999.00,9, -999.00,9,-999.000,9,-999.000,9,  -999.0,9,  -999.0,9,     -999.0,9
06MT20091026,       A16C,       7,          1,       7016,         16,2,20091031,       1158,     5.0183,   -22.9833,       3900,   100.7,  16.6362,  35.6856,2,-999.0000,9,     83.7,2,  -999.0,9, -999.00,9, -999.00,9, -999.00,9, -999.00,9, -999.00,9,-999.000,9,-999.000,9,  -999.0,9,  -999.0,9,     -999.0,9
06MT20091026,       A16C,       7,          1,     203087,         17,2,20091031,       1159,     5.0183,   -22.9833,       3900,    80.9,  20.9595,  35.8921,2,-999.0000,9,    149.9,2,   133.5,2,    3.36,2,    0.08,2,   10.89,2,    0.17,2,    0.70,2,-999.000,9,-999.000,9,  2148.6,2,  2344.4,2,     -999.0,9
06MT20091026,       A16C,       7,          1,     203088,         18,2,20091031,       1159,     5.0183,   -22.9833,       3900,    60.3,  27.7857,  35.8275,2,  35.9059,2,    202.4,2,   188.2,2,    0.88,2,    0.02,2,    1.02,2,    0.03,2,    0.07,2,-999.000,9,-999.000,9,  2047.6,2,  2350.8,2,     -999.0,9
06MT20091026,       A16C,       7,          1,     203089,         19,2,20091031,       1200,     5.0183,   -22.9833,       3900,    40.2,  28.7441,  35.2190,2,-999.0000,9,    200.1,2,   201.2,2,    0.02,6,    0.09,6,    0.06,6,    0.00,6,    0.00,6,-999.000,9,-999.000,9,  1948.3,2,  2325.0,2,     -999.0,9
06MT20091026,       A16C,       7,          1,     203090,         20,2,20091031,       1201,     5.0183,   -22.9833,       3900,    19.8,  28.7218,  35.1702,2,-999.0000,9,    199.1,2,   200.0,2,    0.04,2,    0.07,2,    0.19,2,    0.00,2,    0.02,2,-999.000,9,-999.000,9,  1946.5,2,  2327.5,2,     -999.0,9
06MT20091026,       A16C,       7,          1,     203091,         21,2,20091031,       1201,     5.0183,   -22.9833,       3900,    10.8,  28.7411,  35.1713,2,-999.0000,9,    199.2,2,   199.9,2,    0.04,2,    0.05,2,    0.25,2,    0.00,2,    0.02,2,-999.000,9,-999.000,9,  1945.5,2,  2296.0,2,     -999.0,9
06MT20091026,       A16C,       7,          1,     203092,         22,2,20091031,       1202,     5.0183,   -22.9833,       3900,     8.3,  28.7515,  35.1729,2,-999.0000,9,    198.4,2,   200.8,2,    2.31,2,    0.06,2,    0.46,2,    0.01,2,    0.06,2,-999.000,9,-999.000,9,  1946.6,2,  2298.8,2,     -999.0,9
06MT20091026,       A16C,       7,          1,     203093,         23,2,20091031,       1202,     5.0183,   -22.9833,       3900,     8.1,  28.7567,  35.1728,2,  35.1740,2,    198.9,2,  -999.0,9, -999.00,9, -999.00,9, -999.00,9, -999.00,9, -999.00,9,-999.000,9,-999.000,9,  -999.0,9,  -999.0,9,     -999.0,9
06MT20091026,       A16C,       7,          1,     203094,         24,2,20091031,       1202,     5.0183,   -22.9833,       3900,     8.6,  28.7559,  35.1729,2,-999.0000,9,    199.0,2,  -999.0,9, -999.00,9, -999.00,9, -999.00,9, -999.00,9, -999.00,9,-999.000,9,-999.000,9,  -999.0,9,  -999.0,9,     -999.0,9