BOTTLE,20211119CCHSIORKP
EXPOCODE,SECT_ID,STNNBR,CASTNO,SAMPNO,BTLNBR,BTLNBR_FLAG_W,DATE,TIME,LATITUDE,LONGITUDE,DEPTH,CTDPRS,CTDTMP,CTDSAL,CTDSAL_FLAG_W,SALNTY,SALNTY_FLAG_W,CTDOXY,CTDOXY_FLAG_W,OXYGEN,OXYGEN_FLAG_W,SILCAT,SILCAT_FLAG_W,NH4,NH4_FLAG_W,NITRAT,NITRAT_FLAG_W,NITRIT,NITRIT_FLAG_W,PHSPHT,PHSPHT_FLAG_W,CFC-12,CFC-12_FLAG_W,SF6,SF6_FLAG_W,TCARBN,TCARBN_FLAG_W,ALKALI,ALKALI_FLAG_W,SF5CF3,SF5CF3_FLAG_W
,,,,,,,,,,,METERS,DBAR,ITS-90,PSS-78,,PSS-78,,UMOL/KG,,UMOL/KG,,UMOL/KG,,UMOL/KG,,UMOL/KG,,UMOL/KG,,UMOL/KG,,PMOL/KG,,FMOL/KG,,UMOL/KG,,UMOL/KG,,FMOL/KG,
06MT20091026,       A16C,      39,          1,     203732,          1,2,20091112,       0508,    -0.7499,   -23.0003,       3916,  3671.5,   2.4506,  34.9011,2,  34.9015,2,    254.8,2,   253.9,2,   34.60,2,    0.28,2,   22.37,2,    0.02,2,    1.40,2,-999.000,9,-999.000,9,  -999.0,9,  -999.0,9,     -999.0,9
06MT20091026,       A16C,      39,          1,     203733,          2,2,20091112,       0516,    -0.7499,   -23.0003,       3916,  3238.0,   2.5798,  34.9077,2,-999.0000,9,    248.6,2,   249.3,2,   35.32,2,    0.11,2,   22.93,2,    0.01,2,    1.43,2,-999.000,9,-999.000,9,  -999.0,9,  -999.0,9,     -999.0,9
06MT20091026,       A16C,      39,          1,     203734,          3,2,20091112,       0523,    -0.7499,   -23.0003,       3916,  2830.8,   2.7377,  34.9169,2,-999.0000,9,    245.9,2,   245.7,2,   34.15,2,    0.19,2,   22.95,2,    0.01,2,    1.43,2,-999.000,9,-999.000,9,  -999.0,9,  -999.0,9,     -999.0,9
06MT20091026,       A16C,      39,          1,     203735,          4,2,20091112,       0531,    -0.7499,   -23.0003,       3916,  2423.4,   3.0030,  34.9335,2,-999.0000,9,    245.9,2,   245.9,2,   28.64,2,    0.12,2,   22.71,2,    0.01,2,    1.40,2,-999.000,9,-999.000,9,  -999.0,9,  -999.0,9,     -999.0,9
06MT20091026,       A16C,      39,          1,     203736,          5,2,20091112,       0538,    -0.7499,   -23.0003,       3916,  2016.6,   3.5881,  34.9677,2,-999.0000,9,    250.9,2,   251.8,2,   17.58,6,    0.24,6,   20.85,6,    0.01,6,    1.29,6,-999.000,9,-999.000,9,  -999.0,9,  -999.0,9,     -999.0,9
06MT20091026,       A16C,      39,          1,     203737,          6,2,20091112,       0547,    -0.7499,   -23.0003,       3916,  1511.6,   4.3785,  34.9595,2,  34.9642,2,    226.5,2,   227.0,2,   15.98,2,     0.2,2,   22.96,2,    0.01,2,    1.45,2,-999.000,9,-999.000,9,  -999.0,9,  -999.0,9,     -999.0,9
06MT20091026,       A16C,      39,          1,     203738,          7,2,20091112,       0551,    -0.7499,   -23.0003,       3916,  1258.3,   4.5640,  34.8654,2,-999.0000,9,    194.5,2,   192.4,2,   20.71,2,    0.08,2,   28.18,2,    0.01,2,    1.80,2,-999.000,9,-999.000,9,  -999.0,9,  -999.0,9,     -999.0,9
06MT20091026,       A16C,      39,          1,     203739,          8,2,20091112,       0555,    -0.7499,   -23.0003,       3916,  1006.0,   4.5452,  34.6443,2,-999.0000,9,    161.6,2,   159.6,2,   28.59,2,    0.14,2,   34.59,2,    0.01,2,    2.23,2,-999.000,9,-999.000,9,  -999.0,9,  -999.0,9,     -999.0,9
06MT20091026,       A16C,      39,          1,     203740,          9,2,20091112,       0559,    -0.7499,   -23.0003,       3916,   804.2,   4.8049,  34.5258,2,-999.0000,9,    150.2,2,   148.6,2,   28.15,2,    0.11,2,   37.23,2,    0.00,2,    2.26,2,-999.000,9,-999.000,9,  -999.0,9,  -999.0,9,     -999.0,9
06MT20091026,       A16C,      39,          1,     203741,         10,2,20091112,       0603,    -0.7499,   -23.0003,       3916,   601.8,   6.1482,  34.5494,2,-999.0000,9,    138.4,2,   138.7,2,   21.77,2,    0.07,2,   36.43,2,    0.01,2,    2.24,2,-999.000,9,-999.000,9,  -999.0,9,  -999.0,9,     -999.0,9
06MT20091026,       A16C,      39,          1,     203742,         11,2,20091112,       0606,    -0.7499,   -23.0003,       3916,   400.9,   7.9821,  34.7051,2,  34.7031,2,    116.9,2,   114.4,2,   15.78,2,     0.1,2,   34.35,2,    0.01,2,    2.08,2,-999.000,9,-999.000,9,  -999.0,9,  -999.0,9,     -999.0,9
06MT20091026,       A16C,      39,          1,     203743,         12,2,20091112,       0608,    -0.7499,   -23.0003,       3916,   300.7,  10.1897,  34.9395,2,-999.0000,9,     84.7,2,    88.0,2,   11.99,2,    0.11,2,   32.55,2,    0.01,2,    1.94,2,-999.000,9,-999.000,9,  -999.0,9,  -999.0,9,     -999.0,9
06MT20091026,       A16C,      39,          1,     203744,         13,2,20091112,       0608,    -0.7499,   -23.0003,       3916,   249.1,  11.9904,  35.1512,2,-999.0000,9,     94.1,2,    90.2,2,    9.76,2,    0.17,2,   28.86,2,    0.01,2,    1.69,2,-999.000,9,-999.000,9,  -999.0,9,  -999.0,9,     -999.0,9
06MT20091026,       A16C,      39,          1,     203745,         14,2,20091112,       0609,    -0.7499,   -23.0003,       3916,   199.7,  13.1781,  35.3014,2,-999.0000,9,    102.7,2,   102.2,2,    7.42,2,    0.05,2,   24.45,2,    0.01,2,    1.48,2,-999.000,9,-999.000,9,  -999.0,9,  -999.0,9,     -999.0,9
06MT20091026,       A16C,      39,          1,      39015,         15,2,20091112,       0609,    -0.7499,   -23.0003,       3916,   192.6,  13.3198,  35.3268,2,-999.0000,9,    105.1,2,  -999.0,9, -999.00,9, -999.00,9, -999.00,9, -999.00,9, -999.00,9,-999.000,9,-999.000,9,  -999.0,9,  -999.0,9,     -999.0,9
06MT20091026,       A16C,      39,          1,      39016,         16,2,20091112,       0609,    -0.7499,   -23.0003,       3916,   189.2,  13.3840,  35.3315,2,-999.0000,9,    105.4,2,  -999.0,9, -999.00,9, -999.00,9, -999.00,9, -999.00,9, -999.00,9,-999.000,9,-999.000,9,  -999.0,9,  -999.0,9,     -999.0,9
06MT20091026,       A16C,      39,          1,     203746,         17,2,20091112,       0610,    -0.7499,   -23.0003,       3916,   148.9,  14.0998,  35.4290,2,-999.0000,9,    130.5,2,   119.3,2,    6.05,2,    0.09,2,   20.24,2,    0.01,2,    1.30,2,-999.000,9,-999.000,9,  -999.0,9,  -999.0,9,     -999.0,9
06MT20091026,       A16C,      39,          1,     203747,         18,2,20091112,       0611,    -0.7499,   -23.0003,       3916,    98.8,  15.3030,  35.5881,2,-999.0000,9,    151.7,2,   152.2,2,    4.08,2,    0.18,2,   13.73,2,    0.03,2,    0.95,2,-999.000,9,-999.000,9,  -999.0,9,  -999.0,9,     -999.0,9
06MT20091026,       A16C,      39,          1,     203748,         19,2,20091112,       0611,    -0.7499,   -23.0003,       3916,    79.1,  16.1525,  35.7197,2,-999.0000,9,    160.8,2,   156.9,2,    3.74,2,    0.07,2,   12.45,2,    0.04,2,    0.87,2,-999.000,9,-999.000,9,  -999.0,9,  -999.0,9,     -999.0,9
06MT20091026,       A16C,      39,          1,     203749,         20,2,20091112,       0612,    -0.7499,   -23.0003,       3916,    59.2,  23.2084,  36.3577,2,  36.0364,3,    163.4,2,   161.6,2,    2.08,2,    0.09,2,    7.00,2,    0.25,2,    0.56,2,-999.000,9,-999.000,9,  -999.0,9,  -999.0,9,     -999.0,9
06MT20091026,       A16C,      39,          1,     203750,         21,2,20091112,       0613,    -0.7499,   -23.0003,       3916,    42.2,  25.1365,  36.0963,2,-999.0000,9,    201.0,2,   198.5,2,    0.25,2,    0.11,2,    0.62,2,    0.10,2,    0.11,2,-999.000,9,-999.000,9,  -999.0,9,  -999.0,9,     -999.0,9
06MT20091026,       A16C,      39,          1,     203751,         22,2,20091112,       0614,    -0.7499,   -23.0003,       3916,    19.2,  26.6311,  35.9711,2,-999.0000,9,    205.4,2,   206.0,2,    0.05,6,    0.09,6,    0.04,6,    0.01,6,    0.03,6,-999.000,9,-999.000,9,  -999.0,9,  -999.0,9,     -999.0,9
06MT20091026,       A16C,      39,          1,     203752,         23,2,20091112,       0614,    -0.7499,   -23.0003,       3916,     9.6,  26.6658,  35.9574,2,-999.0000,9,    205.1,2,   206.2,2,    0.00,2,       0,2,    0.14,2,    0.00,2,    0.03,2,-999.000,9,-999.000,9,  -999.0,9,  -999.0,9,     -999.0,9
06MT20091026,       A16C,      39,          1,     203753,         24,2,20091112,       0615,    -0.7499,   -23.0003,       3916,     4.7,  26.6704,  35.9575,2,  35.9578,2,    206.1,2,   206.0,2,    0.04,2,    0.01,2,    0.33,2,    0.00,2,    0.04,2,-999.000,9,-999.000,9,  -999.0,9,  -999.0,9,     -999.0,9
06MT20091026,       A16C,      40,          1,     203754,          1,2,20091112,       1505,    -0.5002,   -23.0003,       4582,  4571.6,   2.3192,  34.8807,2,  34.8771,2,    249.4,2,   248.1,2,   43.84,2,    0.09,2,   24.42,2,    0.01,2,    1.47,2,-999.000,9,-999.000,9,  -999.0,9,  -999.0,9,     -999.0,9
06MT20091026,       A16C,      40,          1,     203755,          2,2,20091112,       1543,    -0.5002,   -23.0003,       4582,  3748.1,   2.4164,  34.8959,2,-999.0000,9,    248.4,2,   249.3,2,   37.71,2,    0.03,2,   23.66,2,    0.01,2,    1.45,2,-999.000,9,-999.000,9,  -999.0,9,  -999.0,9,     -999.0,9
06MT20091026,       A16C,      40,          1,     203756,          3,2,20091112,       1557,    -0.5002,   -23.0003,       4582,  3035.2,   2.6866,  34.9138,2,-999.0000,9,    243.6,2,   246.2,2,   33.98,6,    0.05,6,   23.29,6,    0.00,6,    1.42,6,-999.000,9,-999.000,9,  -999.0,9,  -999.0,9,     -999.0,9
06MT20091026,       A16C,      40,          1,     203757,          4,2,20091112,       1607,    -0.5002,   -23.0003,       4582,  2524.7,   3.0150,  34.9340,2,-999.0000,9,    243.3,2,   245.9,2,   28.97,2,    0.06,2,   22.47,2,    0.00,2,    1.37,2,-999.000,9,-999.000,9,  -999.0,9,  -999.0,9,     -999.0,9
06MT20091026,       A16C,      40,          1,     203758,          5,2,20091112,       1617,    -0.5002,   -23.0003,       4582,  2019.2,   3.5739,  34.9678,2,  34.9693,2,    249.2,2,   253.3,2,   17.45,2,    0.05,2,   21.10,2,    0.00,2,    1.30,2,   0.193,2,   0.131,2,  -999.0,9,  -999.0,9,       0.00,3
06MT20091026,       A16C,      40,          1,     203759,          6,2,20091112,       1627,    -0.5002,   -23.0003,       4582,  1510.5,   4.4035,  34.9564,2,-999.0000,9,    221.9,2,   221.9,2,   16.87,2,    0.08,2,   24.25,2,    0.00,2,    1.49,2,   0.174,2,    0.13,2,  -999.0,9,  -999.0,9,       0.00,3
06MT20091026,       A16C,      40,          1,     203760,          7,2,20091112,       1632,    -0.5002,   -23.0003,       4582,  1258.7,   4.5292,  34.8605,2,-999.0000,9,    192.0,2,   191.4,2,   21.61,2,    0.04,2,   29.33,2,    0.00,2,    1.81,2,   0.072,2,   0.105,2,  -999.0,9,  -999.0,9,       0.00,3
06MT20091026,       A16C,      40,          1,     203761,          8,2,20091112,       1637,    -0.5002,   -23.0003,       4582,  1005.3,   4.5411,  34.5933,2,-999.0000,9,    155.4,2,   154.6,2,   29.13,2,    0.12,2,   36.86,2,    0.00,2,    2.31,2,   0.051,2,   0.101,2,  -999.0,9,  -999.0,9,       0.00,3
06MT20091026,       A16C,      40,          1,     203762,          9,2,20091112,       1641,    -0.5002,   -23.0003,       4582,   802.1,   4.8421,  34.5073,2,-999.0000,9,    151.6,2,   150.2,2,   27.85,2,    0.07,2,   37.77,2,    0.00,2,    2.37,2,   0.147,2,   0.071,2,  -999.0,9,  -999.0,9,       0.00,3
06MT20091026,       A16C,      40,          1,     203763,         10,2,20091112,       1645,    -0.5002,   -23.0003,       4582,   602.1,   6.0131,  34.5401,2,-999.0000,9,    140.4,2,   140.2,2,   22.33,2,    0.08,2,   37.17,2,    0.00,2,    2.28,2,   0.343,2,   0.141,2,  -999.0,9,  -999.0,9,       0.00,3
06MT20091026,       A16C,      40,          1,     203764,         11,2,20091112,       1649,    -0.5002,   -23.0003,       4582,   401.6,   8.2237,  34.7308,2,-999.0000,9,    115.3,2,   117.4,2,   16.47,2,    0.13,2,   35.40,2,    0.01,2,    2.10,2,   0.554,2,   0.226,2,  -999.0,9,  -999.0,9,       0.00,3
06MT20091026,       A16C,      40,          1,     203765,         12,2,20091112,       1651,    -0.5002,   -23.0003,       4582,   301.0,  10.3650,  34.9703,2,-999.0000,9,     93.0,2,    88.0,2,   11.56,2,    0.02,2,   32.74,2,    0.01,2,    1.91,2,   0.725,2,   0.278,2,  -999.0,9,  -999.0,9,       0.00,3
06MT20091026,       A16C,      40,          1,     203766,         13,2,20091112,       1652,    -0.5002,   -23.0003,       4582,   249.9,  11.7709,  35.1293,2,-999.0000,9,     91.8,2,    90.6,2,    9.31,2,     0.1,2,   28.45,2,    0.01,2,    1.71,2,   0.882,2,   0.377,2,  -999.0,9,  -999.0,9,       0.00,3
06MT20091026,       A16C,      40,          1,     203767,         14,2,20091112,       1653,    -0.5002,   -23.0003,       4582,   199.3,  13.4046,  35.3350,2,  35.3304,2,    111.8,2,   110.7,2,    6.75,2,    0.09,2,   22.56,2,    0.01,2,    1.38,2,   1.072,2,   0.542,2,  -999.0,9,  -999.0,9,       0.00,3
06MT20091026,       A16C,      40,          1,      40015,         15,2,20091112,       1653,    -0.5002,   -23.0003,       4582,   196.7,  13.4032,  35.3327,2,-999.0000,9,    111.6,2,  -999.0,9, -999.00,9, -999.00,9, -999.00,9, -999.00,9, -999.00,9,-999.000,9,-999.000,9,  -999.0,9,  -999.0,9,     -999.0,9
06MT20091026,       A16C,      40,          1,      40016,         16,2,20091112,       1653,    -0.5002,   -23.0003,       4582,   195.0,  13.4343,  35.3380,2,-999.0000,9,    111.7,2,  -999.0,9, -999.00,9, -999.00,9, -999.00,9, -999.00,9, -999.00,9,-999.000,9,-999.000,9,  -999.0,9,  -999.0,9,     -999.0,9
06MT20091026,       A16C,      40,          1,     203768,         17,2,20091112,       1654,    -0.5002,   -23.0003,       4582,   148.6,  13.9113,  35.4021,2,-999.0000,9,    129.9,2,   125.9,2,    6.03,2,    0.11,2,   19.58,2,    0.01,2,    1.24,2,   1.139,2,   0.667,2,  -999.0,9,  -999.0,9,       0.00,3
06MT20091026,       A16C,      40,          1,     203769,         18,2,20091112,       1655,    -0.5002,   -23.0003,       4582,    98.6,  15.2828,  35.5699,2,-999.0000,9,    159.3,2,   165.7,2,    3.75,2,    0.12,2,   12.27,2,    0.03,2,    0.78,2,   1.280,3,   0.829,2,  -999.0,9,  -999.0,9,       0.00,3
06MT20091026,       A16C,      40,          1,     203770,         19,2,20091112,       1655,    -0.5002,   -23.0003,       4582,    79.4,  18.3229,  35.9781,2,-999.0000,9,    166.0,2,   166.0,2,    2.29,2,     0.1,2,    7.95,2,    0.14,2,    0.57,2,   1.175,2,   0.846,2,  -999.0,9,  -999.0,9,       0.00,3
06MT20091026,       A16C,      40,          1,     203771,         20,2,20091112,       1656,    -0.5002,   -23.0003,       4582,    53.5,  24.3782,  36.2508,2,-999.0000,9,    185.2,2,   193.0,2,    0.29,2,     0.1,2,    1.12,2,    0.15,2,    0.13,2,   1.074,2,   0.938,2,  -999.0,9,  -999.0,9,       0.00,3
06MT20091026,       A16C,      40,          1,     203772,         21,2,20091112,       1657,    -0.5002,   -23.0003,       4582,    39.2,  25.4094,  36.0890,2,-999.0000,9,    202.0,2,   200.5,2,    0.17,6,    0.15,6,    0.41,6,    0.05,6,    0.06,6,   1.032,2,   0.958,2,  -999.0,9,  -999.0,9,       0.00,3
06MT20091026,       A16C,      40,          1,     203773,         22,2,20091112,       1657,    -0.5002,   -23.0003,       4582,    19.1,  26.6159,  35.9685,2,-999.0000,9,    206.2,2,   203.5,2,    0.00,2,    0.13,2,    0.00,2,    0.00,2,    0.00,2,   0.984,2,   0.987,2,  -999.0,9,  -999.0,9,       0.00,3
06MT20091026,       A16C,      40,          1,     203774,         23,2,20091112,       1658,    -0.5002,   -23.0003,       4582,     9.2,  26.7933,  35.9453,2,-999.0000,9,    206.5,2,   203.6,2,    0.00,2,    0.06,2,    0.03,2,    0.00,2,    0.00,2,   1.000,2,   1.003,2,  -999.0,9,  -999.0,9,       0.00,3
06MT20091026,       A16C,      40,          1,     203775,         24,2,20091112,       1658,    -0.5002,   -23.0003,       4582,     3.5,  26.8869,  35.9447,2,  35.9450,2,    206.2,2,   203.8,2,    0.07,2,    0.09,2,    0.14,2,    0.00,2,    0.01,2,-999.000,9,-999.000,9,  -999.0,9,  -999.0,9,     -999.0,9