BOTTLE,20211119CCHSIORKP
EXPOCODE,SECT_ID,STNNBR,CASTNO,SAMPNO,BTLNBR,BTLNBR_FLAG_W,DATE,TIME,LATITUDE,LONGITUDE,DEPTH,CTDPRS,CTDTMP,CTDSAL,CTDSAL_FLAG_W,SALNTY,SALNTY_FLAG_W,CTDOXY,CTDOXY_FLAG_W,OXYGEN,OXYGEN_FLAG_W,SILCAT,SILCAT_FLAG_W,NH4,NH4_FLAG_W,NITRAT,NITRAT_FLAG_W,NITRIT,NITRIT_FLAG_W,PHSPHT,PHSPHT_FLAG_W,CFC-12,CFC-12_FLAG_W,SF6,SF6_FLAG_W,TCARBN,TCARBN_FLAG_W,ALKALI,ALKALI_FLAG_W,SF5CF3,SF5CF3_FLAG_W
,,,,,,,,,,,METERS,DBAR,ITS-90,PSS-78,,PSS-78,,UMOL/KG,,UMOL/KG,,UMOL/KG,,UMOL/KG,,UMOL/KG,,UMOL/KG,,UMOL/KG,,PMOL/KG,,FMOL/KG,,UMOL/KG,,UMOL/KG,,FMOL/KG,
06MT20091026,       A16C,      35,          1,      35001,          1,2,20091110,       1502,    -3.4998,   -23.0001,       5507,  5496.9,   0.8006,  34.7159,2,  34.7137,2,    228.1,2,  -999.0,9, -999.00,9, -999.00,9, -999.00,9, -999.00,9, -999.00,9,-999.000,9,-999.000,9,  -999.0,9,  -999.0,9,     -999.0,9
06MT20091026,       A16C,      35,          1,      35002,          2,2,20091110,       1522,    -3.4998,   -23.0001,       5507,  5086.1,   0.7893,  34.7202,2,-999.0000,9,    227.3,2,   222.5,2, -999.00,9, -999.00,9, -999.00,9, -999.00,9, -999.00,9,-999.000,9,-999.000,9,  -999.0,9,  -999.0,9,       0.00,3
06MT20091026,       A16C,      35,          1,      35003,          3,2,20091110,       1544,    -3.4998,   -23.0001,       5507,  4056.4,   1.8770,  34.8472,2,-999.0000,9,    246.6,2,  -999.0,9, -999.00,9, -999.00,9, -999.00,9, -999.00,9, -999.00,9,-999.000,9,-999.000,9,  -999.0,9,  -999.0,9,     -999.0,9
06MT20091026,       A16C,      35,          1,      35004,          4,2,20091110,       1608,    -3.4998,   -23.0001,       5507,  3036.6,   2.6577,  34.9108,2,-999.0000,9,    242.7,2,  -999.0,9, -999.00,9, -999.00,9, -999.00,9, -999.00,9, -999.00,9,-999.000,9,-999.000,9,  -999.0,9,  -999.0,9,     -999.0,9
06MT20091026,       A16C,      35,          1,      35005,          5,2,20091110,       1628,    -3.4998,   -23.0001,       5507,  2018.1,   3.5472,  34.9675,2,-999.0000,9,    249.5,2,  -999.0,9, -999.00,9, -999.00,9, -999.00,9, -999.00,9, -999.00,9,-999.000,9,-999.000,9,  -999.0,9,  -999.0,9,     -999.0,9
06MT20091026,       A16C,      35,          1,      35006,          6,2,20091110,       1641,    -3.4998,   -23.0001,       5507,  1515.5,   4.2848,  34.9604,2,-999.0000,9,    225.0,2,  -999.0,9, -999.00,9, -999.00,9, -999.00,9, -999.00,9, -999.00,9,-999.000,9,-999.000,9,  -999.0,9,  -999.0,9,     -999.0,9
06MT20091026,       A16C,      35,          1,      35007,          7,2,20091110,       1651,    -3.4998,   -23.0001,       5507,  1005.1,   4.3820,  34.5829,2,  34.5826,2,    159.6,2,  -999.0,9, -999.00,9, -999.00,9, -999.00,9, -999.00,9, -999.00,9,-999.000,9,-999.000,9,  -999.0,9,  -999.0,9,     -999.0,9
06MT20091026,       A16C,      35,          1,      35008,          8,2,20091110,       1701,    -3.4998,   -23.0001,       5507,   604.5,   5.5810,  34.5077,2,-999.0000,9,    136.6,2,  -999.0,9, -999.00,9, -999.00,9, -999.00,9, -999.00,9, -999.00,9,-999.000,9,-999.000,9,  -999.0,9,  -999.0,9,     -999.0,9
06MT20091026,       A16C,      35,          1,      35009,          9,2,20091110,       1707,    -3.4998,   -23.0001,       5507,   402.7,   9.4159,  34.8519,2,  34.8515,2,     96.4,2,  -999.0,9, -999.00,9, -999.00,9, -999.00,9, -999.00,9, -999.00,9,-999.000,9,-999.000,9,  -999.0,9,  -999.0,9,     -999.0,9
06MT20091026,       A16C,      35,          1,      35010,         10,2,20091110,       1712,    -3.4998,   -23.0001,       5507,   300.5,  11.0695,  35.0388,2,-999.0000,9,     83.1,2,  -999.0,9, -999.00,9, -999.00,9, -999.00,9, -999.00,9, -999.00,9,-999.000,9,-999.000,9,  -999.0,9,  -999.0,9,     -999.0,9
06MT20091026,       A16C,      35,          1,      35011,         11,2,20091110,       1714,    -3.4998,   -23.0001,       5507,   199.9,  12.8103,  35.2479,2,-999.0000,9,    102.3,2,  -999.0,9, -999.00,9, -999.00,9, -999.00,9, -999.00,9, -999.00,9,-999.000,9,-999.000,9,  -999.0,9,  -999.0,9,     -999.0,9
06MT20091026,       A16C,      35,          1,      35012,         12,2,20091110,       1715,    -3.4998,   -23.0001,       5507,   149.3,  13.2539,  35.3073,2,-999.0000,9,    138.7,2,   142.0,2, -999.00,9, -999.00,9, -999.00,9, -999.00,9, -999.00,9,-999.000,9,-999.000,9,  -999.0,9,  -999.0,9,     -999.0,9
06MT20091026,       A16C,      35,          1,      35013,         13,2,20091110,       1718,    -3.4998,   -23.0001,       5507,   100.4,  14.0717,  35.4196,2,  35.4186,2,    141.5,2,  -999.0,9, -999.00,9, -999.00,9, -999.00,9, -999.00,9, -999.00,9,-999.000,9,-999.000,9,  -999.0,9,  -999.0,9,     -999.0,9
06MT20091026,       A16C,      35,          1,      35014,         14,2,20091110,       1718,    -3.4998,   -23.0001,       5507,    78.9,  15.8000,  35.6417,2,-999.0000,9,    142.6,2,  -999.0,9, -999.00,9, -999.00,9, -999.00,9, -999.00,9, -999.00,9,-999.000,9,-999.000,9,  -999.0,9,  -999.0,9,     -999.0,9
06MT20091026,       A16C,      35,          1,      35015,         15,2,20091110,       1718,    -3.4998,   -23.0001,       5507,    74.5,  17.6027,  35.8583,2,-999.0000,9,    143.6,2,  -999.0,9, -999.00,9, -999.00,9, -999.00,9, -999.00,9, -999.00,9,-999.000,9,-999.000,9,  -999.0,9,  -999.0,9,     -999.0,9
06MT20091026,       A16C,      35,          1,      35016,         16,2,20091110,       1718,    -3.4998,   -23.0001,       5507,    72.6,  18.5087,  35.8845,2,-999.0000,9,    145.3,2,  -999.0,9, -999.00,9, -999.00,9, -999.00,9, -999.00,9, -999.00,9,-999.000,9,-999.000,9,  -999.0,9,  -999.0,9,     -999.0,9
06MT20091026,       A16C,      35,          1,      35017,         17,2,20091110,       1719,    -3.4998,   -23.0001,       5507,    49.6,  25.8245,  36.1102,2,-999.0000,9,    205.3,2,  -999.0,9, -999.00,9, -999.00,9, -999.00,9, -999.00,9, -999.00,9,-999.000,9,-999.000,9,  -999.0,9,  -999.0,9,     -999.0,9
06MT20091026,       A16C,      35,          1,      35018,         18,2,20091110,       1719,    -3.4998,   -23.0001,       5507,    37.9,  25.8575,  36.0805,2,-999.0000,9,    208.1,2,  -999.0,9, -999.00,9, -999.00,9, -999.00,9, -999.00,9, -999.00,9,-999.000,9,-999.000,9,  -999.0,9,  -999.0,9,     -999.0,9
06MT20091026,       A16C,      35,          1,      35019,         19,2,20091110,       1719,    -3.4998,   -23.0001,       5507,    31.5,  25.8799,  36.0793,2,-999.0000,9,    209.2,2,  -999.0,9, -999.00,9, -999.00,9, -999.00,9, -999.00,9, -999.00,9,-999.000,9,-999.000,9,  -999.0,9,  -999.0,9,     -999.0,9
06MT20091026,       A16C,      35,          1,      35020,         20,2,20091110,       1719,    -3.4998,   -23.0001,       5507,    30.3,  25.8797,  36.0801,2,-999.0000,9,    208.3,2,  -999.0,9, -999.00,9, -999.00,9, -999.00,9, -999.00,9, -999.00,9,-999.000,9,-999.000,9,  -999.0,9,  -999.0,9,     -999.0,9
06MT20091026,       A16C,      35,          1,      35021,         21,2,20091110,       1719,    -3.4998,   -23.0001,       5507,    29.0,  25.8789,  36.0790,2,-999.0000,9,    208.9,2,  -999.0,9, -999.00,9, -999.00,9, -999.00,9, -999.00,9, -999.00,9,-999.000,9,-999.000,9,  -999.0,9,  -999.0,9,     -999.0,9
06MT20091026,       A16C,      35,          1,      35022,         22,2,20091110,       1720,    -3.4998,   -23.0001,       5507,    19.7,  25.9207,  36.0803,2,  36.0721,2,    209.8,2,  -999.0,9, -999.00,9, -999.00,9, -999.00,9, -999.00,9, -999.00,9,-999.000,9,-999.000,9,  -999.0,9,  -999.0,9,     -999.0,9
06MT20091026,       A16C,      35,          1,      35023,         23,2,20091110,       1720,    -3.4998,   -23.0001,       5507,    10.1,  26.0257,  36.0793,2,-999.0000,9,    209.7,2,   209.6,2, -999.00,9, -999.00,9, -999.00,9, -999.00,9, -999.00,9,-999.000,9,-999.000,9,  -999.0,9,  -999.0,9,     -999.0,9
06MT20091026,       A16C,      36,          1,     203666,          1,2,20091111,       0314,    -1.9997,   -23.0002,       4581,  4570.6,   0.9319,  34.7400,2,  34.7390,2,    229.3,2,   226.6,2,   81.11,6,    0.05,6,   31.36,6,    0.01,6,    2.00,6,-999.000,9,-999.000,9,  -999.0,9,  -999.0,9,     -999.0,9
06MT20091026,       A16C,      36,          1,     203667,          2,2,20091111,       0331,    -1.9997,   -23.0002,       4581,  3749.4,   2.3786,  34.9012,2,  34.9003,2,    261.4,2,   262.0,2,   30.25,2,    0.02,2,   21.05,2,    0.01,2,    1.35,2,-999.000,9,-999.000,9,  -999.0,9,  -999.0,9,     -999.0,9
06MT20091026,       A16C,      36,          1,     203668,          3,2,20091111,       0346,    -1.9997,   -23.0002,       4581,  3036.1,   2.6581,  34.9102,2,-999.0000,9,    244.9,2,   245.4,2,   34.82,2,    0.02,2,   22.00,2,    0.01,2,    1.36,2,-999.000,9,-999.000,9,  -999.0,9,  -999.0,9,     -999.0,9
06MT20091026,       A16C,      36,          1,     203669,          4,2,20091111,       0356,    -1.9997,   -23.0002,       4581,  2526.0,   2.9950,  34.9322,2,-999.0000,9,    244.7,2,   246.6,2,   28.12,2,     0.1,2,   21.33,2,    0.01,2,    1.40,2,-999.000,9,-999.000,9,  -999.0,9,  -999.0,9,     -999.0,9
06MT20091026,       A16C,      36,          1,     203670,          5,2,20091111,       0406,    -1.9997,   -23.0002,       4581,  2018.1,   3.5866,  34.9686,2,-999.0000,9,    251.2,2,   253.5,2,   16.89,2,    0.08,2,   20.04,2,    0.01,2,    1.20,2,-999.000,9,-999.000,9,  -999.0,9,  -999.0,9,     -999.0,9
06MT20091026,       A16C,      36,          1,     203671,          6,2,20091111,       0416,    -1.9997,   -23.0002,       4581,  1511.0,   4.3174,  34.9680,2,-999.0000,9,    229.1,2,   229.2,2,   16.22,2,       0,2,   22.35,2,    0.01,2,    1.41,2,-999.000,9,-999.000,9,  -999.0,9,  -999.0,9,     -999.0,9
06MT20091026,       A16C,      36,          1,     203672,          7,2,20091111,       0421,    -1.9997,   -23.0002,       4581,  1257.5,   4.5674,  34.8499,2,-999.0000,9,    189.5,2,   188.7,2,   21.48,2,    0.05,2,   28.60,2,    0.01,2,    1.77,2,-999.000,9,-999.000,9,  -999.0,9,  -999.0,9,     -999.0,9
06MT20091026,       A16C,      36,          1,     203673,          8,2,20091111,       0426,    -1.9997,   -23.0002,       4581,  1005.5,   4.3681,  34.5941,2,-999.0000,9,    164.4,2,   163.4,2,   29.44,2,    0.09,2,   34.95,2,    0.01,2,    2.23,2,-999.000,9,-999.000,9,  -999.0,9,  -999.0,9,     -999.0,9
06MT20091026,       A16C,      36,          1,     203674,          9,2,20091111,       0430,    -1.9997,   -23.0002,       4581,   803.9,   4.6507,  34.5144,2,-999.0000,9,    157.1,2,   156.5,2,   28.31,2,    0.13,2,   36.21,2,    0.00,2,    2.33,2,-999.000,9,-999.000,9,  -999.0,9,  -999.0,9,     -999.0,9
06MT20091026,       A16C,      36,          1,     203675,         10,2,20091111,       0434,    -1.9997,   -23.0002,       4581,   602.2,   6.1836,  34.5340,2,-999.0000,9,    154.0,2,   154.3,2,   20.41,2,    0.12,2,   33.41,2,    0.01,2,    2.16,2,-999.000,9,-999.000,9,  -999.0,9,  -999.0,9,     -999.0,9
06MT20091026,       A16C,      36,          1,     203676,         11,2,20091111,       0438,    -1.9997,   -23.0002,       4581,   401.3,   7.5602,  34.6666,2,  34.6596,2,    125.7,2,   123.7,2,   16.51,2,    0.11,2,   33.37,2,    0.01,2,    1.98,2,-999.000,9,-999.000,9,  -999.0,9,  -999.0,9,     -999.0,9
06MT20091026,       A16C,      36,          1,     203677,         12,2,20091111,       0440,    -1.9997,   -23.0002,       4581,   301.3,  10.2890,  34.9501,2,-999.0000,9,     82.2,2,    81.3,2,   11.89,2,    0.07,2,   32.53,2,    0.01,2,    1.97,2,-999.000,9,-999.000,9,  -999.0,9,  -999.0,9,     -999.0,9
06MT20091026,       A16C,      36,          1,     203678,         13,2,20091111,       0441,    -1.9997,   -23.0002,       4581,   250.7,  11.5620,  35.0956,2,-999.0000,9,     93.1,2,    88.5,2,    9.65,2,     0.1,2,   29.05,2,    0.00,2,    1.77,2,-999.000,9,-999.000,9,  -999.0,9,  -999.0,9,     -999.0,9
06MT20091026,       A16C,      36,          1,     203679,         14,2,20091111,       0442,    -1.9997,   -23.0002,       4581,   200.3,  12.8059,  35.2620,2,-999.0000,9,     89.8,2,    89.5,2,    8.66,2,     0.1,2,   26.16,2,    0.01,2,    1.53,2,-999.000,9,-999.000,9,  -999.0,9,  -999.0,9,     -999.0,9
06MT20091026,       A16C,      36,          1,      36015,         15,2,20091111,       0442,    -1.9997,   -23.0002,       4581,   195.6,  12.9444,  35.2750,2,-999.0000,9,     89.8,2,  -999.0,9, -999.00,9, -999.00,9, -999.00,9, -999.00,9, -999.00,9,-999.000,9,-999.000,9,  -999.0,9,  -999.0,9,     -999.0,9
06MT20091026,       A16C,      36,          1,      36016,         16,2,20091111,       0442,    -1.9997,   -23.0002,       4581,   193.5,  12.9861,  35.2782,2,-999.0000,9,     89.6,2,  -999.0,9, -999.00,9, -999.00,9, -999.00,9, -999.00,9, -999.00,9,-999.000,9,-999.000,9,  -999.0,9,  -999.0,9,     -999.0,9
06MT20091026,       A16C,      36,          1,     203680,         17,2,20091111,       0443,    -1.9997,   -23.0002,       4581,   147.9,  13.6471,  35.3711,2,-999.0000,9,     93.1,2,    92.7,2,    7.01,2,    0.13,2,   24.60,2,    0.01,2,    1.47,2,-999.000,9,-999.000,9,  -999.0,9,  -999.0,9,     -999.0,9
06MT20091026,       A16C,      36,          1,     203681,         18,2,20091111,       0444,    -1.9997,   -23.0002,       4581,   100.0,  14.8198,  35.5201,2,-999.0000,9,     94.5,2,    93.4,2,    6.39,2,    0.11,2,   22.54,2,    0.03,2,    1.35,2,-999.000,9,-999.000,9,  -999.0,9,  -999.0,9,     -999.0,9
06MT20091026,       A16C,      36,          1,     203682,         19,2,20091111,       0444,    -1.9997,   -23.0002,       4581,    79.9,  16.7365,  35.6128,2,  35.6338,2,    105.8,2,   107.2,2,    4.49,2,    0.21,2,   17.92,2,    0.19,2,    1.11,2,-999.000,9,-999.000,9,  -999.0,9,  -999.0,9,     -999.0,9
06MT20091026,       A16C,      36,          1,     203683,         20,2,20091111,       0445,    -1.9997,   -23.0002,       4581,    60.5,  26.0240,  36.2014,2,-999.0000,9,    203.3,2,   192.8,2,    0.61,2,    0.17,2,    1.28,2,    0.04,2,    0.19,2,-999.000,9,-999.000,9,  -999.0,9,  -999.0,9,     -999.0,9
06MT20091026,       A16C,      36,          1,     203684,         21,2,20091111,       0446,    -1.9997,   -23.0002,       4581,    39.7,  26.3448,  36.2024,2,-999.0000,9,    205.1,2,   203.7,2,    0.03,2,    0.14,2,    0.00,2,    0.00,2,    0.04,2,-999.000,9,-999.000,9,  -999.0,9,  -999.0,9,     -999.0,9
06MT20091026,       A16C,      36,          1,     203685,         22,2,20091111,       0447,    -1.9997,   -23.0002,       4581,    19.4,  26.3591,  36.2062,2,-999.0000,9,    206.1,2,   204.2,2,    0.02,6,     0.1,6,    0.07,6,    0.00,6,    0.03,6,-999.000,9,-999.000,9,  -999.0,9,  -999.0,9,     -999.0,9
06MT20091026,       A16C,      36,          1,     203686,         23,2,20091111,       0447,    -1.9997,   -23.0002,       4581,    10.0,  26.3592,  36.2058,2,-999.0000,9,    206.2,2,   203.8,2,    0.05,2,    0.07,2,    0.21,2,    0.00,2,    0.05,2,-999.000,9,-999.000,9,  -999.0,9,  -999.0,9,     -999.0,9
06MT20091026,       A16C,      36,          1,     203687,         24,2,20091111,       0448,    -1.9997,   -23.0002,       4581,     4.6,  26.3586,  36.2057,2,-999.0000,9,    205.1,2,   204.0,2,    0.00,2,    0.11,2,    0.37,2,    0.01,2,    0.06,2,-999.000,9,-999.000,9,  -999.0,9,  -999.0,9,     -999.0,9