BOTTLE,20211119CCHSIORKP
EXPOCODE,SECT_ID,STNNBR,CASTNO,SAMPNO,BTLNBR,BTLNBR_FLAG_W,DATE,TIME,LATITUDE,LONGITUDE,DEPTH,CTDPRS,CTDTMP,CTDSAL,CTDSAL_FLAG_W,SALNTY,SALNTY_FLAG_W,CTDOXY,CTDOXY_FLAG_W,OXYGEN,OXYGEN_FLAG_W,SILCAT,SILCAT_FLAG_W,NH4,NH4_FLAG_W,NITRAT,NITRAT_FLAG_W,NITRIT,NITRIT_FLAG_W,PHSPHT,PHSPHT_FLAG_W,CFC-12,CFC-12_FLAG_W,SF6,SF6_FLAG_W,TCARBN,TCARBN_FLAG_W,ALKALI,ALKALI_FLAG_W,SF5CF3,SF5CF3_FLAG_W
,,,,,,,,,,,METERS,DBAR,ITS-90,PSS-78,,PSS-78,,UMOL/KG,,UMOL/KG,,UMOL/KG,,UMOL/KG,,UMOL/KG,,UMOL/KG,,UMOL/KG,,PMOL/KG,,FMOL/KG,,UMOL/KG,,UMOL/KG,,FMOL/KG,
06MT20091026,       A16C,      66,          1,     204238,          1,2,20091119,       1307,     9.5003,   -22.9993,       5017,  1312.4,   4.6064,  34.8989,2,  34.8981,2,    181.4,2,   182.3,2, -999.00,9, -999.00,9, -999.00,9, -999.00,9, -999.00,9,-999.000,9,-999.000,9,  -999.0,9,  -999.0,9,     -999.0,9
06MT20091026,       A16C,      66,          1,     204239,          2,2,20091119,       1309,     9.5003,   -22.9993,       5017,  1207.1,   4.8561,  34.8562,2,-999.0000,9,    164.3,2,  -999.0,9, -999.00,9, -999.00,9, -999.00,9, -999.00,9, -999.00,9,-999.000,9,-999.000,9,  -999.0,9,  -999.0,9,     -999.0,9
06MT20091026,       A16C,      66,          1,     204240,          3,2,20091119,       1311,     9.5003,   -22.9993,       5017,  1107.7,   5.0494,  34.8121,2,-999.0000,9,    146.6,2,  -999.0,9, -999.00,9, -999.00,9, -999.00,9, -999.00,9, -999.00,9,-999.000,9,-999.000,9,  -999.0,9,  -999.0,9,     -999.0,9
06MT20091026,       A16C,      66,          1,     204241,          4,2,20091119,       1313,     9.5003,   -22.9993,       5017,  1006.1,   5.2029,  34.7457,2,-999.0000,9,    133.8,2,  -999.0,9, -999.00,9, -999.00,9, -999.00,9, -999.00,9, -999.00,9,-999.000,9,-999.000,9,  -999.0,9,  -999.0,9,     -999.0,9
06MT20091026,       A16C,      66,          1,     204242,          5,2,20091119,       1315,     9.5003,   -22.9993,       5017,   904.7,   5.4461,  34.6836,2,-999.0000,9,    122.6,2,  -999.0,9, -999.00,9, -999.00,9, -999.00,9, -999.00,9, -999.00,9,-999.000,9,-999.000,9,  -999.0,9,  -999.0,9,     -999.0,9
06MT20091026,       A16C,      66,          1,     204243,          6,2,20091119,       1317,     9.5003,   -22.9993,       5017,   803.2,   5.9028,  34.6845,2,  34.6853,2,    103.3,2,  -999.0,9, -999.00,9, -999.00,9, -999.00,9, -999.00,9, -999.00,9,-999.000,9,-999.000,9,  -999.0,9,  -999.0,9,     -999.0,9
06MT20091026,       A16C,      66,          1,     204244,          7,2,20091119,       1319,     9.5003,   -22.9993,       5017,   702.8,   6.4565,  34.7151,2,-999.0000,9,     93.0,2,  -999.0,9, -999.00,9, -999.00,9, -999.00,9, -999.00,9, -999.00,9,-999.000,9,-999.000,9,  -999.0,9,  -999.0,9,     -999.0,9
06MT20091026,       A16C,      66,          1,     204245,          8,2,20091119,       1321,     9.5003,   -22.9993,       5017,   602.5,   7.8629,  34.8656,2,-999.0000,9,     64.9,2,  -999.0,9, -999.00,9, -999.00,9, -999.00,9, -999.00,9, -999.00,9,-999.000,9,-999.000,9,  -999.0,9,  -999.0,9,     -999.0,9
06MT20091026,       A16C,      66,          1,     204246,          9,2,20091119,       1323,     9.5003,   -22.9993,       5017,   502.0,   8.8052,  34.9578,2,-999.0000,9,     51.2,2,  -999.0,9, -999.00,9, -999.00,9, -999.00,9, -999.00,9, -999.00,9,-999.000,9,-999.000,9,  -999.0,9,  -999.0,9,     -999.0,9
06MT20091026,       A16C,      66,          1,     204247,         10,2,20091119,       1325,     9.5003,   -22.9993,       5017,   401.1,   9.9665,  35.0816,2,  35.0794,2,     41.1,2,  -999.0,9, -999.00,9, -999.00,9, -999.00,9, -999.00,9, -999.00,9,-999.000,9,-999.000,9,  -999.0,9,  -999.0,9,     -999.0,9
06MT20091026,       A16C,      66,          1,     204248,         11,2,20091119,       1326,     9.5003,   -22.9993,       5017,   351.0,  10.4750,  35.0934,2,-999.0000,9,     50.3,2,  -999.0,9, -999.00,9, -999.00,9, -999.00,9, -999.00,9, -999.00,9,-999.000,9,-999.000,9,  -999.0,9,  -999.0,9,     -999.0,9
06MT20091026,       A16C,      66,          1,     204249,         12,2,20091119,       1327,     9.5003,   -22.9993,       5017,   307.9,  10.7960,  35.0781,2,-999.0000,9,     66.4,2,  -999.0,9, -999.00,9, -999.00,9, -999.00,9, -999.00,9, -999.00,9,-999.000,9,-999.000,9,  -999.0,9,  -999.0,9,     -999.0,9
06MT20091026,       A16C,      66,          1,     204250,         13,2,20091119,       1327,     9.5003,   -22.9993,       5017,   294.8,  10.9221,  35.0739,2,-999.0000,9,     83.6,2,  -999.0,9, -999.00,9, -999.00,9, -999.00,9, -999.00,9, -999.00,9,-999.000,9,-999.000,9,  -999.0,9,  -999.0,9,     -999.0,9
06MT20091026,       A16C,      66,          1,     204251,         14,2,20091119,       1329,     9.5003,   -22.9993,       5017,   199.0,  12.1375,  35.1977,2,-999.0000,9,     96.7,2,    96.6,2, -999.00,9, -999.00,9, -999.00,9, -999.00,9, -999.00,9,-999.000,9,-999.000,9,  -999.0,9,  -999.0,9,     -999.0,9
06MT20091026,       A16C,      66,          1,      66015,         15,2,20091119,       1329,     9.5003,   -22.9993,       5017,   178.3,  12.3830,  35.2211,2,-999.0000,9,    109.2,2,  -999.0,9, -999.00,9, -999.00,9, -999.00,9, -999.00,9, -999.00,9,-999.000,9,-999.000,9,  -999.0,9,  -999.0,9,     -999.0,9
06MT20091026,       A16C,      66,          1,      66016,         16,2,20091119,       1329,     9.5003,   -22.9993,       5017,   176.2,  12.4006,  35.2240,2,-999.0000,9,    112.8,2,  -999.0,9, -999.00,9, -999.00,9, -999.00,9, -999.00,9, -999.00,9,-999.000,9,-999.000,9,  -999.0,9,  -999.0,9,     -999.0,9
06MT20091026,       A16C,      66,          1,     204252,         17,2,20091119,       1330,     9.5003,   -22.9993,       5017,   148.5,  12.8012,  35.2655,2,-999.0000,9,    113.4,2,  -999.0,9, -999.00,9, -999.00,9, -999.00,9, -999.00,9, -999.00,9,-999.000,9,-999.000,9,  -999.0,9,  -999.0,9,     -999.0,9
06MT20091026,       A16C,      66,          1,     204253,         18,2,20091119,       1331,     9.5003,   -22.9993,       5017,   100.7,  13.8889,  35.4153,2,-999.0000,9,    101.9,2,  -999.0,9, -999.00,9, -999.00,9, -999.00,9, -999.00,9, -999.00,9,-999.000,9,-999.000,9,  -999.0,9,  -999.0,9,     -999.0,9
06MT20091026,       A16C,      66,          1,     204254,         19,2,20091119,       1332,     9.5003,   -22.9993,       5017,    79.7,  14.6804,  35.5106,2,-999.0000,9,    114.3,2,   110.6,2, -999.00,9, -999.00,9, -999.00,9, -999.00,9, -999.00,9,-999.000,9,-999.000,9,  -999.0,9,  -999.0,9,     -999.0,9
06MT20091026,       A16C,      66,          1,     204255,         20,2,20091119,       1332,     9.5003,   -22.9993,       5017,    59.3,  17.4462,  35.7712,2,-999.0000,9,    111.1,2,  -999.0,9, -999.00,9, -999.00,9, -999.00,9, -999.00,9, -999.00,9,-999.000,9,-999.000,9,  -999.0,9,  -999.0,9,     -999.0,9
06MT20091026,       A16C,      66,          1,     204256,         21,2,20091119,       1333,     9.5003,   -22.9993,       5017,    39.6,  21.7182,  36.0252,2,  36.0217,2,    162.9,2,  -999.0,9, -999.00,9, -999.00,9, -999.00,9, -999.00,9, -999.00,9,-999.000,9,-999.000,9,  -999.0,9,  -999.0,9,     -999.0,9
06MT20091026,       A16C,      66,          1,     204257,         22,2,20091119,       1334,     9.5003,   -22.9993,       5017,    19.3,  28.3351,  35.4169,2,-999.0000,9,    199.2,2,  -999.0,9, -999.00,9, -999.00,9, -999.00,9, -999.00,9, -999.00,9,-999.000,9,-999.000,9,  -999.0,9,  -999.0,9,     -999.0,9
06MT20091026,       A16C,      66,          1,     204258,         23,2,20091119,       1334,     9.5003,   -22.9993,       5017,     9.1,  28.3528,  35.3675,2,-999.0000,9,    199.8,2,   207.0,2, -999.00,9, -999.00,9, -999.00,9, -999.00,9, -999.00,9,-999.000,9,-999.000,9,  -999.0,9,  -999.0,9,     -999.0,9
06MT20091026,       A16C,      66,          1,     204259,         24,2,20091119,       1334,     9.5003,   -22.9993,       5017,     3.8,  28.3952,  35.3201,2,  35.3685,2,    199.3,2,  -999.0,9, -999.00,9, -999.00,9, -999.00,9, -999.00,9, -999.00,9,-999.000,9,-999.000,9,  -999.0,9,  -999.0,9,     -999.0,9
06MT20091026,       A16C,      67,          1,     204260,          1,2,20091119,       1704,    10.0004,   -23.0001,       5334,  1311.2,   4.6882,  34.8915,2,  34.8897,2,    176.0,2,   176.5,2,   22.13,2,    0.15,2,   28.75,2,    0.00,2,    1.95,2,-999.000,9,-999.000,9,  2204.3,2,  2311.0,2,     -999.0,9
06MT20091026,       A16C,      67,          1,     204261,          2,2,20091119,       1707,    10.0004,   -23.0001,       5334,  1208.6,   4.9238,  34.8536,2,-999.0000,9,    158.3,2,   158.6,2, -999.00,9, -999.00,9, -999.00,9, -999.00,9, -999.00,9,-999.000,9,-999.000,9,  -999.0,9,  -999.0,9,     -999.0,9
06MT20091026,       A16C,      67,          1,     204262,          3,2,20091119,       1708,    10.0004,   -23.0001,       5334,  1107.0,   5.1208,  34.7931,2,-999.0000,9,    140.5,2,   140.9,2,   24.05,2,    0.15,2,   33.48,2,    0.00,2,    2.12,2,-999.000,9,-999.000,9,  2221.3,2,  2311.9,2,     -999.0,9
06MT20091026,       A16C,      67,          1,     204263,          4,2,20091119,       1710,    10.0004,   -23.0001,       5334,  1005.8,   5.2666,  34.7324,2,-999.0000,9,    128.1,2,   127.3,2, -999.00,9, -999.00,9, -999.00,9, -999.00,9, -999.00,9,-999.000,9,-999.000,9,  -999.0,9,  -999.0,9,     -999.0,9
06MT20091026,       A16C,      67,          1,     204264,          5,2,20091119,       1712,    10.0004,   -23.0001,       5334,   904.2,   5.5187,  34.6927,2,-999.0000,9,    115.9,2,   115.8,2,   25.25,2,    0.13,2,   37.35,2,    0.00,2,    2.35,2,-999.000,9,-999.000,9,  2231.6,2,  2300.4,2,     -999.0,9
06MT20091026,       A16C,      67,          1,     204265,          6,2,20091119,       1714,    10.0004,   -23.0001,       5334,   803.3,   5.9321,  34.6989,2,  34.6973,2,    102.0,2,   101.4,2, -999.00,9, -999.00,9, -999.00,9, -999.00,9, -999.00,9,-999.000,9,-999.000,9,  -999.0,9,  -999.0,9,     -999.0,9
06MT20091026,       A16C,      67,          1,     204266,          7,2,20091119,       1716,    10.0004,   -23.0001,       5334,   703.3,   6.6994,  34.7532,2,-999.0000,9,     83.4,2,    82.7,2,   22.73,2,     0.1,2,   39.77,2,    0.00,2,    2.53,2,   0.146,2,   0.904,4,  2241.8,2,  2300.6,2,       0.00,3
06MT20091026,       A16C,      67,          1,     204267,          8,2,20091119,       1718,    10.0004,   -23.0001,       5334,   602.1,   7.6745,  34.8434,2,-999.0000,9,     66.3,2,    66.5,2, -999.00,9, -999.00,9, -999.00,9, -999.00,9, -999.00,9,   0.184,2,   0.834,4,  -999.0,9,  -999.0,9,       0.00,3
06MT20091026,       A16C,      67,          1,     204268,          9,2,20091119,       1719,    10.0004,   -23.0001,       5334,   501.5,   8.7961,  34.9529,2,-999.0000,9,     53.9,2,    53.8,2,   17.08,2,    0.09,2,   39.01,2,    0.00,2,    2.37,2,   0.288,2,   1.146,4,  2246.4,2,  2302.2,2,       0.00,3
06MT20091026,       A16C,      67,          1,     204269,         10,2,20091119,       1721,    10.0004,   -23.0001,       5334,   401.3,   9.9951,  35.0753,2,-999.0000,9,     43.5,2,    43.8,2,   14.43,2,    0.09,2,   37.31,2,    0.00,2,    2.18,2,   0.417,2,   1.093,4,  2247.1,2,  2304.2,2,       0.05,3
06MT20091026,       A16C,      67,          1,     204270,         11,2,20091119,       1722,    10.0004,   -23.0001,       5334,   350.0,  10.5056,  35.1069,2,-999.0000,9,     49.8,2,    49.3,2, -999.00,9, -999.00,9, -999.00,9, -999.00,9, -999.00,9,   0.528,2,   1.152,4,  -999.0,9,  -999.0,9,       0.45,3
06MT20091026,       A16C,      67,          1,     204271,         12,2,20091119,       1723,    10.0004,   -23.0001,       5334,   297.7,  10.8947,  35.0802,2,-999.0000,9,     74.0,2,    71.5,2,   11.76,2,    0.09,2,   32.06,2,    0.01,2,    1.89,2,   0.656,2,    0.22,4,  2224.2,2,  2307.1,2,       1.28,3
06MT20091026,       A16C,      67,          1,     204272,         13,2,20091119,       1724,    10.0004,   -23.0001,       5334,   250.1,  11.4477,  35.1224,2,  35.1199,2,     94.7,2,    89.0,2,    9.83,2,    0.09,2,   28.25,2,    0.01,2,    1.79,2,   0.814,2,   1.183,4,  2209.8,2,  2307.3,2,       0.46,3
06MT20091026,       A16C,      67,          1,     204273,         14,2,20091119,       1725,    10.0004,   -23.0001,       5334,   198.9,  12.2264,  35.2103,2,-999.0000,9,    101.0,2,   101.7,2,    8.62,2,    0.06,2,   25.22,2,    0.01,2,    1.62,2,   0.928,2,   0.992,4,  2198.5,2,  2313.2,2,       0.03,3
06MT20091026,       A16C,      67,          1,      67015,         15,2,20091119,       1725,    10.0004,   -23.0001,       5334,   196.0,  12.2844,  35.2191,2,-999.0000,9,    101.2,2,  -999.0,9, -999.00,9, -999.00,9, -999.00,9, -999.00,9, -999.00,9,-999.000,9,-999.000,9,  -999.0,9,  -999.0,9,     -999.0,9
06MT20091026,       A16C,      67,          1,      67016,         16,2,20091119,       1725,    10.0004,   -23.0001,       5334,   193.1,  12.3365,  35.2232,2,-999.0000,9,     99.8,2,  -999.0,9, -999.00,9, -999.00,9, -999.00,9, -999.00,9, -999.00,9,-999.000,9,-999.000,9,  -999.0,9,  -999.0,9,     -999.0,9
06MT20091026,       A16C,      67,          1,     204274,         17,2,20091119,       1726,    10.0004,   -23.0001,       5334,   148.3,  12.8982,  35.2881,2,-999.0000,9,     92.8,2,    93.4,2,    7.84,2,    0.09,2,   24.82,2,    0.01,2,    1.60,2,   1.008,2,   0.833,4,  2201.4,2,  2308.6,2,       0.00,3
06MT20091026,       A16C,      67,          1,     204275,         18,2,20091119,       1727,    10.0004,   -23.0001,       5334,    99.2,  13.9517,  35.4295,2,-999.0000,9,    112.3,2,   105.0,2,    6.68,2,    0.09,2,   22.22,2,    0.03,2,    1.40,2,   1.079,2,   0.997,4,  2188.6,2,  2318.1,2,       0.00,3
06MT20091026,       A16C,      67,          1,     204276,         19,2,20091119,       1727,    10.0004,   -23.0001,       5334,    78.7,  15.4783,  35.5774,2,-999.0000,9,     91.7,2,   101.8,2,    6.62,2,    0.03,2,   21.45,2,    0.06,2,    1.31,2,   1.065,2,   0.916,4,  2190.0,2,  2325.5,2,       0.00,3
06MT20091026,       A16C,      67,          1,     204277,         20,2,20091119,       1727,    10.0004,   -23.0001,       5334,    58.3,  16.8777,  35.6894,2,-999.0000,9,     98.9,2,   101.4,2,    4.56,2,       0,2,   17.65,2,    0.36,2,    1.05,2,   1.040,2,   0.692,4,  2185.8,2,  2335.9,2,       0.00,3
06MT20091026,       A16C,      67,          1,     204278,         21,2,20091119,       1728,    10.0004,   -23.0001,       5334,    40.1,  20.5513,  35.9802,2,-999.0000,9,    175.9,2,   154.6,2,    2.55,6,    0.05,6,    4.59,6,    0.15,6,    0.35,6,   1.082,2,   1.193,4,  2137.6,2,  2351.8,2,       0.00,3
06MT20091026,       A16C,      67,          1,     204279,         22,2,20091119,       1729,    10.0004,   -23.0001,       5334,    19.4,  28.1499,  35.5121,2,-999.0000,9,    200.7,2,   200.9,2,    0.11,2,    0.02,2,    0.00,2,    0.01,2,    0.00,2,   0.976,2,   0.946,4,  1962.9,2,  2317.4,2,       0.00,3
06MT20091026,       A16C,      67,          1,     204280,         23,2,20091119,       1729,    10.0004,   -23.0001,       5334,     9.2,  28.2820,  35.4901,2,-999.0000,9,    201.0,2,   200.6,2,    0.00,2,    0.03,2,    0.16,2,    0.01,2,    0.01,2,-999.000,9,-999.000,9,  1959.9,2,  2318.0,2,     -999.0,9
06MT20091026,       A16C,      67,          1,     204281,         24,2,20091119,       1729,    10.0004,   -23.0001,       5334,     3.9,  28.4122,  35.4938,2,  35.4913,2,    199.8,2,   200.0,2,    0.08,2,    0.03,2,    0.36,2,    0.02,2,    0.03,2,   0.911,2,   1.039,4,  1959.7,2,  2316.5,2,       0.00,3