BOTTLE,20211119CCHSIORKP
EXPOCODE,SECT_ID,STNNBR,CASTNO,SAMPNO,BTLNBR,BTLNBR_FLAG_W,DATE,TIME,LATITUDE,LONGITUDE,DEPTH,CTDPRS,CTDTMP,CTDSAL,CTDSAL_FLAG_W,SALNTY,SALNTY_FLAG_W,CTDOXY,CTDOXY_FLAG_W,OXYGEN,OXYGEN_FLAG_W,SILCAT,SILCAT_FLAG_W,NH4,NH4_FLAG_W,NITRAT,NITRAT_FLAG_W,NITRIT,NITRIT_FLAG_W,PHSPHT,PHSPHT_FLAG_W,CFC-12,CFC-12_FLAG_W,SF6,SF6_FLAG_W,TCARBN,TCARBN_FLAG_W,ALKALI,ALKALI_FLAG_W,SF5CF3,SF5CF3_FLAG_W
,,,,,,,,,,,METERS,DBAR,ITS-90,PSS-78,,PSS-78,,UMOL/KG,,UMOL/KG,,UMOL/KG,,UMOL/KG,,UMOL/KG,,UMOL/KG,,UMOL/KG,,PMOL/KG,,FMOL/KG,,UMOL/KG,,UMOL/KG,,FMOL/KG,
06MT20091026,       A16C,      25,          1,     203427,          1,2,20091107,       0747,    -1.3329,   -23.0002,       3857,   606.6,   6.0786,  34.5402,2,  34.5398,2,    147.4,2,  -999.0,9, -999.00,9, -999.00,9, -999.00,9, -999.00,9, -999.00,9,-999.000,9,-999.000,9,  -999.0,9,  -999.0,9,     -999.0,9
06MT20091026,       A16C,      25,          1,     203428,          2,2,20091107,       0751,    -1.3329,   -23.0002,       3857,   401.4,   7.8586,  34.6950,2,-999.0000,9,    119.7,2,  -999.0,9, -999.00,9, -999.00,9, -999.00,9, -999.00,9, -999.00,9,-999.000,9,-999.000,9,  -999.0,9,  -999.0,9,     -999.0,9
06MT20091026,       A16C,      25,          1,     203429,          3,2,20091107,       0751,    -1.3329,   -23.0002,       3857,   401.8,   7.8547,  34.6945,2,-999.0000,9,    122.0,2,  -999.0,9, -999.00,9, -999.00,9, -999.00,9, -999.00,9, -999.00,9,-999.000,9,-999.000,9,  -999.0,9,  -999.0,9,     -999.0,9
06MT20091026,       A16C,      25,          1,     203430,          4,2,20091107,       0751,    -1.3329,   -23.0002,       3857,   401.9,   7.8528,  34.6944,2,-999.0000,9,    121.8,2,  -999.0,9, -999.00,9, -999.00,9, -999.00,9, -999.00,9, -999.00,9,-999.000,9,-999.000,9,  -999.0,9,  -999.0,9,     -999.0,9
06MT20091026,       A16C,      25,          1,     203431,          5,2,20091107,       0751,    -1.3329,   -23.0002,       3857,   401.6,   7.8565,  34.6944,2,-999.0000,9,    121.4,2,  -999.0,9, -999.00,9, -999.00,9, -999.00,9, -999.00,9, -999.00,9,-999.000,9,-999.000,9,  -999.0,9,  -999.0,9,     -999.0,9
06MT20091026,       A16C,      25,          1,     203432,          6,2,20091107,       0751,    -1.3329,   -23.0002,       3857,   401.4,   7.8569,  34.6957,2,-999.0000,9,    121.5,2,  -999.0,9, -999.00,9, -999.00,9, -999.00,9, -999.00,9, -999.00,9,-999.000,9,-999.000,9,  -999.0,9,  -999.0,9,     -999.0,9
06MT20091026,       A16C,      25,          1,     203433,          7,2,20091107,       0755,    -1.3329,   -23.0002,       3857,   199.7,  12.8944,  35.2746,2,-999.0000,9,     94.8,2,  -999.0,9, -999.00,9, -999.00,9, -999.00,9, -999.00,9, -999.00,9,-999.000,9,-999.000,9,  -999.0,9,  -999.0,9,     -999.0,9
06MT20091026,       A16C,      25,          1,     203434,          8,2,20091107,       0756,    -1.3329,   -23.0002,       3857,   146.5,  13.9441,  35.4097,2,  35.4059,2,     92.7,2,  -999.0,9, -999.00,9, -999.00,9, -999.00,9, -999.00,9, -999.00,9,-999.000,9,-999.000,9,  -999.0,9,  -999.0,9,     -999.0,9
06MT20091026,       A16C,      25,          1,     203435,          9,2,20091107,       0758,    -1.3329,   -23.0002,       3857,   100.4,  16.3898,  35.7174,2,  35.6929,2,    127.8,2,  -999.0,9, -999.00,9, -999.00,9, -999.00,9, -999.00,9, -999.00,9,-999.000,9,-999.000,9,  -999.0,9,  -999.0,9,     -999.0,9
06MT20091026,       A16C,      25,          1,     203436,         10,2,20091107,       0800,    -1.3329,   -23.0002,       3857,    69.8,  24.3432,  36.1249,2,-999.0000,9,    190.8,2,  -999.0,9, -999.00,9, -999.00,9, -999.00,9, -999.00,9, -999.00,9,-999.000,9,-999.000,9,  -999.0,9,  -999.0,9,     -999.0,9
06MT20091026,       A16C,      25,          1,     203437,         11,2,20091107,       0800,    -1.3329,   -23.0002,       3857,    70.1,  24.3382,  36.1251,2,-999.0000,9,    190.6,2,  -999.0,9, -999.00,9, -999.00,9, -999.00,9, -999.00,9, -999.00,9,-999.000,9,-999.000,9,  -999.0,9,  -999.0,9,     -999.0,9
06MT20091026,       A16C,      25,          1,     203438,         12,2,20091107,       0800,    -1.3329,   -23.0002,       3857,    69.6,  24.3999,  36.1236,2,-999.0000,9,    190.1,2,  -999.0,9, -999.00,9, -999.00,9, -999.00,9, -999.00,9, -999.00,9,-999.000,9,-999.000,9,  -999.0,9,  -999.0,9,     -999.0,9
06MT20091026,       A16C,      25,          1,     203439,         13,2,20091107,       0800,    -1.3329,   -23.0002,       3857,    69.7,  24.4094,  36.1278,2,-999.0000,9,    190.9,2,  -999.0,9, -999.00,9, -999.00,9, -999.00,9, -999.00,9, -999.00,9,-999.000,9,-999.000,9,  -999.0,9,  -999.0,9,     -999.0,9
06MT20091026,       A16C,      25,          1,     203440,         14,2,20091107,       0800,    -1.3329,   -23.0002,       3857,    70.0,  24.3773,  36.1241,2,-999.0000,9,    191.5,2,  -999.0,9, -999.00,9, -999.00,9, -999.00,9, -999.00,9, -999.00,9,-999.000,9,-999.000,9,  -999.0,9,  -999.0,9,     -999.0,9
06MT20091026,       A16C,      25,          1,      25015,         15,2,20091107,       0800,    -1.3329,   -23.0002,       3857,    70.3,  24.3658,  36.1240,2,-999.0000,9,    191.5,2,  -999.0,9, -999.00,9, -999.00,9, -999.00,9, -999.00,9, -999.00,9,-999.000,9,-999.000,9,  -999.0,9,  -999.0,9,     -999.0,9
06MT20091026,       A16C,      25,          1,      25016,         16,2,20091107,       0800,    -1.3329,   -23.0002,       3857,    70.2,  24.3799,  36.1231,2,-999.0000,9,    191.4,2,  -999.0,9, -999.00,9, -999.00,9, -999.00,9, -999.00,9, -999.00,9,-999.000,9,-999.000,9,  -999.0,9,  -999.0,9,     -999.0,9
06MT20091026,       A16C,      25,          1,     203441,         17,2,20091107,       0800,    -1.3329,   -23.0002,       3857,    69.6,  24.4664,  36.1256,2,-999.0000,9,    191.6,2,  -999.0,9, -999.00,9, -999.00,9, -999.00,9, -999.00,9, -999.00,9,-999.000,9,-999.000,9,  -999.0,9,  -999.0,9,     -999.0,9
06MT20091026,       A16C,      25,          1,     203442,         18,2,20091107,       0801,    -1.3329,   -23.0002,       3857,    50.5,  26.1614,  36.1902,2,  36.1821,2,    203.2,2,  -999.0,9, -999.00,9, -999.00,9, -999.00,9, -999.00,9, -999.00,9,-999.000,9,-999.000,9,  -999.0,9,  -999.0,9,     -999.0,9
06MT20091026,       A16C,      25,          1,     203443,         19,2,20091107,       0803,    -1.3329,   -23.0002,       3857,    20.9,  26.2582,  36.1899,2,-999.0000,9,    202.2,2,  -999.0,9, -999.00,9, -999.00,9, -999.00,9, -999.00,9, -999.00,9,-999.000,9,-999.000,9,  -999.0,9,  -999.0,9,     -999.0,9
06MT20091026,       A16C,      25,          1,     203444,         20,2,20091107,       0803,    -1.3329,   -23.0002,       3857,    20.8,  26.2577,  36.1899,2,-999.0000,9,    204.6,2,  -999.0,9, -999.00,9, -999.00,9, -999.00,9, -999.00,9, -999.00,9,-999.000,9,-999.000,9,  -999.0,9,  -999.0,9,     -999.0,9
06MT20091026,       A16C,      25,          1,     203445,         21,2,20091107,       0803,    -1.3329,   -23.0002,       3857,    20.6,  26.2574,  36.1896,2,-999.0000,9,    203.5,2,  -999.0,9, -999.00,9, -999.00,9, -999.00,9, -999.00,9, -999.00,9,-999.000,9,-999.000,9,  -999.0,9,  -999.0,9,     -999.0,9
06MT20091026,       A16C,      25,          1,     203446,         22,2,20091107,       0803,    -1.3329,   -23.0002,       3857,    20.7,  26.2574,  36.1898,2,-999.0000,9,    203.9,2,  -999.0,9, -999.00,9, -999.00,9, -999.00,9, -999.00,9, -999.00,9,-999.000,9,-999.000,9,  -999.0,9,  -999.0,9,     -999.0,9
06MT20091026,       A16C,      25,          1,     203447,         23,2,20091107,       0803,    -1.3329,   -23.0002,       3857,    20.9,  26.2518,  36.1931,2,-999.0000,9,    203.8,2,  -999.0,9, -999.00,9, -999.00,9, -999.00,9, -999.00,9, -999.00,9,-999.000,9,-999.000,9,  -999.0,9,  -999.0,9,     -999.0,9
06MT20091026,       A16C,      25,          1,     203448,         24,2,20091107,       0804,    -1.3329,   -23.0002,       3857,    10.6,  26.2538,  36.1922,2,  36.1920,2,    204.0,2,  -999.0,9, -999.00,9, -999.00,9, -999.00,9, -999.00,9, -999.00,9,-999.000,9,-999.000,9,  -999.0,9,  -999.0,9,     -999.0,9
06MT20091026,       A16C,      26,          1,     203449,          1,2,20091107,       1151,    -1.6674,   -23.0006,       4588,  4577.6,   0.9396,  34.7414,2,  34.7401,2,    230.2,2,   228.4,2,   69.76,2,    0.02,2,   31.14,2,    0.01,2,    2.07,2,-999.000,9,-999.000,9,  2249.8,2,  2366.4,2,     -999.0,9
06MT20091026,       A16C,      26,          1,     203450,          2,2,20091107,       1158,    -1.6674,   -23.0006,       4588,  4261.1,   1.3983,  34.7940,2,-999.0000,9,    238.4,2,   235.9,2,   66.66,2,    0.05,2,   27.71,2,    0.01,2,    1.84,2,-999.000,9,-999.000,9,  2232.2,2,  2363.5,2,     -999.0,9
06MT20091026,       A16C,      26,          1,     203451,          3,2,20091107,       1212,    -1.6674,   -23.0006,       4588,  3545.3,   2.4454,  34.9067,2,  34.9072,2,    259.7,2,   259.4,2,   27.81,2,    0.06,2,   20.32,2,    0.00,2,    1.32,2,-999.000,9,-999.000,9,  2178.2,2,  2328.6,2,     -999.0,9
06MT20091026,       A16C,      26,          1,     203452,          4,2,20091107,       1227,    -1.6674,   -23.0006,       4588,  2729.6,   2.8191,  34.9230,2,-999.0000,9,    246.3,2,  -999.0,9,   24.42,2,    0.15,2,   18.23,2,    0.01,2,    1.23,2,-999.000,9,-999.000,9,  2187.2,2,  2333.1,2,     -999.0,9
06MT20091026,       A16C,      26,          1,     203453,          5,2,20091107,       1241,    -1.6674,   -23.0006,       4588,  2016.7,   3.6246,  34.9713,2,  34.9719,2,    252.3,2,   249.0,2,   16.55,6,    0.01,6,   20.42,6,    0.00,6,    1.27,6,-999.000,9,-999.000,9,  -999.0,9,  -999.0,9,     -999.0,9
06MT20091026,       A16C,      26,          1,     203454,          6,2,20091107,       1251,    -1.6674,   -23.0006,       4588,  1520.1,   4.4522,  34.9649,2,-999.0000,9,    224.9,2,   224.0,2,   14.80,2,    0.05,2,   23.51,2,    0.00,2,    1.48,2,-999.000,9,-999.000,9,  2178.8,2,  2314.7,2,     -999.0,9
06MT20091026,       A16C,      26,          1,     203455,          7,2,20091107,       1256,    -1.6674,   -23.0006,       4588,  1259.6,   4.5463,  34.8685,2,-999.0000,9,    194.0,2,   175.6,3,   21.09,2,    0.02,2,   28.14,2,    0.00,2,    1.75,2,-999.000,9,-999.000,9,  -999.0,9,  -999.0,9,     -999.0,9
06MT20091026,       A16C,      26,          1,     203456,          8,2,20091107,       1301,    -1.6674,   -23.0006,       4588,  1006.8,   4.3913,  34.5908,2,-999.0000,9,    164.4,2,   147.2,2,   28.04,2,    0.02,2,   35.19,2,    0.00,2,    2.17,2,-999.000,9,-999.000,9,  2217.6,2,  2306.2,2,     -999.0,9
06MT20091026,       A16C,      26,          1,     203457,          9,2,20091107,       1305,    -1.6674,   -23.0006,       4588,   803.1,   4.7360,  34.5098,2,  34.5113,2,    155.3,2,   142.2,2,   24.46,2,    0.32,2,   35.82,2,    0.01,2,    2.28,2,-999.000,9,-999.000,9,  -999.0,9,  -999.0,9,     -999.0,9
06MT20091026,       A16C,      26,          1,     203458,         10,2,20091107,       1310,    -1.6674,   -23.0006,       4588,   602.6,   6.2499,  34.5561,2,-999.0000,9,    143.6,2,   142.7,2,   14.56,3,     0.1,2,   26.99,3,    0.00,2,    1.81,3,-999.000,9,-999.000,9,  2211.7,2,  2298.4,2,     -999.0,9
06MT20091026,       A16C,      26,          1,     203459,         11,2,20091107,       1314,    -1.6674,   -23.0006,       4588,   401.6,   7.7817,  34.6907,2,-999.0000,9,    119.1,2,   118.0,2,   13.14,2,    0.09,2,   27.80,3,    0.00,2,    1.81,3,-999.000,9,-999.000,9,  -999.0,9,  -999.0,9,     -999.0,9
06MT20091026,       A16C,      26,          1,     203460,         12,2,20091107,       1316,    -1.6674,   -23.0006,       4588,   300.7,  10.7375,  34.9955,2,-999.0000,9,     85.2,2,    83.0,2,   10.73,2,    0.04,2,   32.50,2,    0.00,2,    1.91,2,-999.000,9,-999.000,9,  2219.3,2,  2303.5,2,     -999.0,9
06MT20091026,       A16C,      26,          1,     203461,         13,2,20091107,       1317,    -1.6674,   -23.0006,       4588,   250.5,  11.9226,  35.1472,2,-999.0000,9,     96.3,2,    95.6,2,    8.43,2,    0.04,2,   27.32,2,    0.00,2,    1.63,2,-999.000,9,-999.000,9,  -999.0,9,  -999.0,9,     -999.0,9
06MT20091026,       A16C,      26,          1,     203462,         14,2,20091107,       1318,    -1.6674,   -23.0006,       4588,   200.2,  13.0245,  35.2898,2,-999.0000,9,     90.8,2,    91.7,2,    7.06,2,    0.04,2,   25.33,2,    0.01,2,    1.53,2,-999.000,9,-999.000,9,  2203.2,2,  2318.6,2,     -999.0,9
06MT20091026,       A16C,      26,          1,      26015,         15,2,20091107,       1318,    -1.6674,   -23.0006,       4588,   194.2,  13.1289,  35.3042,2,-999.0000,9,     89.6,2,  -999.0,9, -999.00,9, -999.00,9, -999.00,9, -999.00,9, -999.00,9,-999.000,9,-999.000,9,  -999.0,9,  -999.0,9,     -999.0,9
06MT20091026,       A16C,      26,          1,      26016,         16,2,20091107,       1318,    -1.6674,   -23.0006,       4588,   191.4,  13.2015,  35.3137,2,-999.0000,9,     89.4,2,  -999.0,9, -999.00,9, -999.00,9, -999.00,9, -999.00,9, -999.00,9,-999.000,9,-999.000,9,  -999.0,9,  -999.0,9,     -999.0,9
06MT20091026,       A16C,      26,          1,     203463,         17,2,20091107,       1319,    -1.6674,   -23.0006,       4588,   149.8,  13.9572,  35.4163,2,-999.0000,9,     94.3,2,    94.1,2,    6.48,2,    0.04,2,   22.99,2,    0.01,2,    1.45,2,-999.000,9,-999.000,9,  2199.2,2,  2327.0,2,     -999.0,9
06MT20091026,       A16C,      26,          1,     203464,         18,2,20091107,       1320,    -1.6674,   -23.0006,       4588,    98.4,  18.1045,  35.8980,2,-999.0000,9,    112.6,2,   114.9,2,    4.09,2,    0.02,2,   16.34,2,    0.26,2,    1.06,2,-999.000,9,-999.000,9,  2177.5,2,  2343.4,2,     -999.0,9
06MT20091026,       A16C,      26,          1,     203465,         19,2,20091107,       1320,    -1.6674,   -23.0006,       4588,    80.6,  23.9118,  36.1396,2,-999.0000,9,    187.3,2,   174.6,2,    1.24,2,     0.1,2,    4.22,2,    0.16,2,    0.36,2,-999.000,9,-999.000,9,  2108.8,2,  2371.1,2,     -999.0,9
06MT20091026,       A16C,      26,          1,     203466,         20,2,20091107,       1321,    -1.6674,   -23.0006,       4588,    65.0,  26.1687,-999.0000,9,-999.0000,9,    202.5,2,   201.5,2, -999.00,9, -999.00,9, -999.00,9, -999.00,9, -999.00,9,-999.000,9,-999.000,9,  2060.3,2,  2376.8,2,     -999.0,9
06MT20091026,       A16C,      26,          1,     203467,         21,2,20091107,       1322,    -1.6674,   -23.0006,       4588,    40.6,  26.2345,-999.0000,9,-999.0000,9,    203.2,2,   203.7,2, -999.00,9, -999.00,9, -999.00,9, -999.00,9, -999.00,9,-999.000,9,-999.000,9,  2053.3,2,  2369.9,2,     -999.0,9
06MT20091026,       A16C,      26,          1,     203468,         22,2,20091107,       1323,    -1.6674,   -23.0006,       4588,    21.3,  26.2678,-999.0000,9,-999.0000,9,    203.9,2,   203.9,2, -999.00,9, -999.00,9, -999.00,9, -999.00,9, -999.00,9,-999.000,9,-999.000,9,  2053.0,2,  2372.0,2,     -999.0,9
06MT20091026,       A16C,      26,          1,     203469,         23,2,20091107,       1323,    -1.6674,   -23.0006,       4588,     9.6,  26.3246,-999.0000,9,-999.0000,9,    204.3,2,   204.6,2, -999.00,9, -999.00,9, -999.00,9, -999.00,9, -999.00,9,-999.000,9,-999.000,9,  2053.5,2,  2372.1,2,     -999.0,9
06MT20091026,       A16C,      26,          1,     203470,         24,2,20091107,       1323,    -1.6674,   -23.0006,       4588,     6.6,  26.4950,-999.0000,9,  36.1980,2,    203.8,2,   203.2,2, -999.00,9, -999.00,9, -999.00,9, -999.00,9, -999.00,9,-999.000,9,-999.000,9,  2053.7,2,  2377.4,2,     -999.0,9