BOTTLE,20211119CCHSIORKP
EXPOCODE,SECT_ID,STNNBR,CASTNO,SAMPNO,BTLNBR,BTLNBR_FLAG_W,DATE,TIME,LATITUDE,LONGITUDE,DEPTH,CTDPRS,CTDTMP,CTDSAL,CTDSAL_FLAG_W,SALNTY,SALNTY_FLAG_W,CTDOXY,CTDOXY_FLAG_W,OXYGEN,OXYGEN_FLAG_W,SILCAT,SILCAT_FLAG_W,NH4,NH4_FLAG_W,NITRAT,NITRAT_FLAG_W,NITRIT,NITRIT_FLAG_W,PHSPHT,PHSPHT_FLAG_W,CFC-12,CFC-12_FLAG_W,SF6,SF6_FLAG_W,TCARBN,TCARBN_FLAG_W,ALKALI,ALKALI_FLAG_W,SF5CF3,SF5CF3_FLAG_W
,,,,,,,,,,,METERS,DBAR,ITS-90,PSS-78,,PSS-78,,UMOL/KG,,UMOL/KG,,UMOL/KG,,UMOL/KG,,UMOL/KG,,UMOL/KG,,UMOL/KG,,PMOL/KG,,FMOL/KG,,UMOL/KG,,UMOL/KG,,FMOL/KG,
06MT20091026,       A16C,      46,          1,     203864,          1,2,20091116,       0129,     3.0002,   -23.0002,       4581,  4571.1,   2.3079,  34.8785,2,  34.8810,2,    245.1,2,   243.4,2,   45.63,2,    0.02,2,   23.54,2,    0.02,2,    1.56,2,-999.000,9,-999.000,9,  2203.0,2,  2350.8,2,     -999.0,9
06MT20091026,       A16C,      46,          1,     203865,          2,2,20091116,       0147,     3.0002,   -23.0002,       4581,  3801.0,   2.3932,  34.8933,2,-999.0000,9,    243.9,2,   244.3,2,   41.16,6,    0.02,6,   23.16,6,    0.02,6,    1.50,6,-999.000,9,-999.000,9,  2196.9,2,  2349.9,2,     -999.0,9
06MT20091026,       A16C,      46,          1,     203866,          3,2,20091116,       0203,     3.0002,   -23.0002,       4581,  3035.2,   2.6597,  34.9128,2,  34.9144,2,    242.6,2,   244.3,2,   35.03,2,    0.02,2,   22.81,2,    0.01,2,    1.49,2,-999.000,9,-999.000,9,  2186.8,2,  2339.1,2,     -999.0,9
06MT20091026,       A16C,      46,          1,     203867,          4,2,20091116,       0213,     3.0002,   -23.0002,       4581,  2526.5,   2.9962,  34.9353,2,-999.0000,9,    245.1,2,   248.0,2,   27.71,2,    0.02,2,   22.01,2,    0.02,2,    1.41,2,   0.031,2,    0.02,2,  2177.3,2,  2329.5,2,       0.00,3
06MT20091026,       A16C,      46,          1,     203868,          5,2,20091116,       0242,     3.0002,   -23.0002,       4581,  2018.2,   3.5417,  34.9650,2,  34.9633,2,    246.1,2,   249.8,2,   18.72,2,    0.02,2,   21.41,2,    0.01,2,    1.29,2,   0.088,2,   0.054,2,  2168.1,2,  2323.5,2,       0.00,3
06MT20091026,       A16C,      46,          1,     203869,          6,2,20091116,       0313,     3.0002,   -23.0002,       4581,  1510.7,   4.2145,  34.9525,2,-999.0000,9,    220.0,2,   223.0,2,   17.94,2,    0.02,2,   24.24,2,    0.01,2,    1.51,2,   0.067,2,   0.001,2,  2179.0,2,  2319.5,2,       0.00,3
06MT20091026,       A16C,      46,          1,     203870,          7,2,20091116,       0333,     3.0002,   -23.0002,       4581,  1258.4,   4.5761,  34.8593,2,-999.0000,9,    183.5,2,   185.8,2,   21.73,2,    0.01,2,   28.91,2,    0.01,2,    1.85,2,   0.039,2,   -0.01,2,  2199.0,2,  2317.6,2,       0.00,3
06MT20091026,       A16C,      46,          1,     203871,          8,2,20091116,       0339,     3.0002,   -23.0002,       4581,  1007.1,   4.6351,  34.6575,2,-999.0000,9,    155.2,2,   157.0,2,   27.09,2,    0.01,2,   34.45,2,    0.01,2,    2.25,2,   0.038,2,   0.026,2,  2217.6,2,  2311.8,2,       0.00,3
06MT20091026,       A16C,      46,          1,     203872,          9,2,20091116,       0356,     3.0002,   -23.0002,       4581,   804.9,   4.9648,  34.5590,2,-999.0000,9,    139.2,2,   143.4,2,   27.31,2,       0,2,   36.60,2,    0.01,2,    2.39,2,-999.000,9,-999.000,9,  2221.0,2,  2305.7,2,     -999.0,9
06MT20091026,       A16C,      46,          1,     203873,         10,2,20091116,       0405,     3.0002,   -23.0002,       4581,   602.4,   6.0989,  34.5725,2,-999.0000,9,    125.4,2,   131.9,2,   21.83,2,       0,2,   36.89,2,    0.01,2,    2.27,2,   0.255,2,   0.042,2,  2218.5,2,  2302.4,2,       0.00,3
06MT20091026,       A16C,      46,          1,     203874,         11,2,20091116,       0410,     3.0002,   -23.0002,       4581,   402.3,   8.2583,  34.7630,2,-999.0000,9,    104.6,2,   107.1,2,   15.36,2,    0.01,2,   34.88,2,    0.01,2,    2.08,2,   0.475,2,   0.165,2,  2217.5,2,  2301.0,2,       0.00,3
06MT20091026,       A16C,      46,          1,     203875,         12,2,20091116,       0416,     3.0002,   -23.0002,       4581,   301.2,  10.9189,  35.0603,2,-999.0000,9,     79.9,2,    81.6,2,   10.90,2,    0.03,2,   31.43,2,    0.01,2,    1.89,2,   0.683,2,   0.221,2,  2217.5,2,  2311.8,2,       0.29,3
06MT20091026,       A16C,      46,          1,     203876,         13,2,20091116,       0418,     3.0002,   -23.0002,       4581,   250.8,  13.0099,  35.2855,2,-999.0000,9,     74.4,2,    74.5,2,    8.28,2,    0.03,2,   27.82,2,    0.01,2,    1.69,2,   0.845,2,   0.354,2,  2213.6,2,  2319.3,2,       0.00,3
06MT20091026,       A16C,      46,          1,     203877,         14,2,20091116,       0420,     3.0002,   -23.0002,       4581,   199.6,  14.1924,  35.4394,2,-999.0000,9,    100.3,2,   100.9,2,    6.46,2,    0.03,2,   22.65,2,    0.02,2,    1.44,2,   1.039,2,   0.519,2,  2191.8,2,  2327.9,2,       0.00,3
06MT20091026,       A16C,      46,          1,      46015,         15,2,20091116,       0420,     3.0002,   -23.0002,       4581,   196.4,  14.1892,  35.4389,2,-999.0000,9,    100.6,2,  -999.0,9, -999.00,9, -999.00,9, -999.00,9, -999.00,9, -999.00,9,-999.000,9,-999.000,9,  -999.0,9,  -999.0,9,     -999.0,9
06MT20091026,       A16C,      46,          1,      46016,         16,2,20091116,       0420,     3.0002,   -23.0002,       4581,   194.9,  14.2635,  35.4558,2,-999.0000,9,    100.5,2,  -999.0,9, -999.00,9, -999.00,9, -999.00,9, -999.00,9, -999.00,9,-999.000,9,-999.000,9,  -999.0,9,  -999.0,9,     -999.0,9
06MT20091026,       A16C,      46,          1,     203878,         17,2,20091116,       0421,     3.0002,   -23.0002,       4581,   149.3,  15.0605,  35.5627,2,-999.0000,9,    113.7,2,   112.9,2,    5.33,2,    0.01,2,   19.86,2,    0.02,2,    1.25,2,   1.109,2,   0.605,2,  2181.4,2,  2336.0,2,       0.00,3
06MT20091026,       A16C,      46,          1,     203879,         18,2,20091116,       0422,     3.0002,   -23.0002,       4581,    99.0,  16.5425,  35.7161,2,-999.0000,9,     96.4,2,    98.5,2,    4.73,2,     0.1,2,   19.38,2,    0.09,2,    1.22,2,   1.150,2,   0.831,2,  2186.3,2,  2340.2,2,       0.00,3
06MT20091026,       A16C,      46,          1,     203880,         19,2,20091116,       0423,     3.0002,   -23.0002,       4581,    79.7,  18.6777,  35.8154,2,-999.0000,9,    123.9,2,   129.8,2,    2.89,2,    0.08,2,   12.05,2,    0.40,2,    0.81,2,   1.139,2,   0.711,2,  2155.2,2,  2350.8,2,       0.00,3
06MT20091026,       A16C,      46,          1,     203881,         20,2,20091116,       0424,     3.0002,   -23.0002,       4581,    60.1,  27.2911,  35.8184,2,-999.0000,9,    193.3,2,   205.8,2,    0.01,2,    0.04,2,    0.00,2,    0.00,2,    0.02,2,   0.952,2,   0.876,2,  2007.5,2,  2348.1,2,       0.00,3
06MT20091026,       A16C,      46,          1,     203882,         21,2,20091116,       0424,     3.0002,   -23.0002,       4581,    39.8,  28.0047,  35.6581,2,-999.0000,9,    193.7,2,   204.1,2,    0.07,2,    0.02,2,    0.02,2,    0.00,2,    0.00,2,   0.929,2,   0.926,2,  1983.8,2,  2337.3,2,       0.00,3
06MT20091026,       A16C,      46,          1,     203883,         22,2,20091116,       0425,     3.0002,   -23.0002,       4581,    20.1,  28.0330,  35.6264,2,-999.0000,9,    193.2,2,   203.6,2,    0.02,6,    0.07,6,    0.12,6,    0.00,6,    0.00,6,   0.925,2,   0.957,2,  1981.6,2,  2334.9,2,       0.00,3
06MT20091026,       A16C,      46,          1,     203884,         23,2,20091116,       0426,     3.0002,   -23.0002,       4581,     9.9,  28.0318,  35.6250,2,-999.0000,9,    192.8,2,   203.7,2,    0.04,2,    0.08,2,    0.27,2,    0.00,2,    0.02,2,-999.000,9,-999.000,9,  1979.6,2,  2334.8,2,     -999.0,9
06MT20091026,       A16C,      46,          1,     203885,         24,2,20091116,       0426,     3.0002,   -23.0002,       4581,     4.4,  28.0257,  35.6251,2,  35.6256,2,    192.8,2,   204.4,2,    0.19,2,     0.1,2,    0.44,2,    0.01,2,    0.03,2,-999.000,9,-999.000,9,  1980.0,2,  2333.5,2,     -999.0,9
06MT20091026,       A16C,      47,          1,     203886,          1,2,20091116,       0756,     3.5002,   -23.0001,       4165,   604.3,   5.9904,  34.5721,2,  34.5748,2,    128.9,2,  -999.0,9, -999.00,9, -999.00,9, -999.00,9, -999.00,9, -999.00,9,-999.000,9,-999.000,9,  -999.0,9,  -999.0,9,     -999.0,9
06MT20091026,       A16C,      47,          1,     203887,          2,2,20091116,       0801,     3.5002,   -23.0001,       4165,   402.2,   8.7396,  34.8122,2,-999.0000,9,     99.8,2,  -999.0,9, -999.00,9, -999.00,9, -999.00,9, -999.00,9, -999.00,9,-999.000,9,-999.000,9,  -999.0,9,  -999.0,9,     -999.0,9
06MT20091026,       A16C,      47,          1,     203888,          3,2,20091116,       0801,     3.5002,   -23.0001,       4165,   402.3,   8.7732,  34.8178,2,-999.0000,9,     99.9,2,  -999.0,9, -999.00,9, -999.00,9, -999.00,9, -999.00,9, -999.00,9,-999.000,9,-999.000,9,  -999.0,9,  -999.0,9,     -999.0,9
06MT20091026,       A16C,      47,          1,     203889,          4,2,20091116,       0801,     3.5002,   -23.0001,       4165,   402.0,   8.7095,  34.8040,2,-999.0000,9,     97.6,2,  -999.0,9, -999.00,9, -999.00,9, -999.00,9, -999.00,9, -999.00,9,-999.000,9,-999.000,9,  -999.0,9,  -999.0,9,     -999.0,9
06MT20091026,       A16C,      47,          1,     203890,          5,2,20091116,       0801,     3.5002,   -23.0001,       4165,   401.5,   8.7392,  34.7920,2,-999.0000,9,     95.5,2,  -999.0,9, -999.00,9, -999.00,9, -999.00,9, -999.00,9, -999.00,9,-999.000,9,-999.000,9,  -999.0,9,  -999.0,9,     -999.0,9
06MT20091026,       A16C,      47,          1,     203891,          6,2,20091116,       0801,     3.5002,   -23.0001,       4165,   402.0,   8.7835,  34.8311,2,-999.0000,9,     95.4,2,  -999.0,9, -999.00,9, -999.00,9, -999.00,9, -999.00,9, -999.00,9,-999.000,9,-999.000,9,  -999.0,9,  -999.0,9,     -999.0,9
06MT20091026,       A16C,      47,          1,     203892,          7,2,20091116,       0806,     3.5002,   -23.0001,       4165,   200.1,  14.4741,  35.4781,2,-999.0000,9,     95.2,2,  -999.0,9, -999.00,9, -999.00,9, -999.00,9, -999.00,9, -999.00,9,-999.000,9,-999.000,9,  -999.0,9,  -999.0,9,     -999.0,9
06MT20091026,       A16C,      47,          1,     203893,          8,2,20091116,       0807,     3.5002,   -23.0001,       4165,   148.7,  15.2724,  35.5876,2,  35.5768,2,    109.0,2,  -999.0,9, -999.00,9, -999.00,9, -999.00,9, -999.00,9, -999.00,9,-999.000,9,-999.000,9,  -999.0,9,  -999.0,9,     -999.0,9
06MT20091026,       A16C,      47,          1,     203894,          9,2,20091116,       0808,     3.5002,   -23.0001,       4165,    98.2,  16.5326,  35.7173,2,-999.0000,9,     95.2,2,  -999.0,9, -999.00,9, -999.00,9, -999.00,9, -999.00,9, -999.00,9,-999.000,9,-999.000,9,  -999.0,9,  -999.0,9,     -999.0,9
06MT20091026,       A16C,      47,          1,     203895,         10,2,20091116,       0809,     3.5002,   -23.0001,       4165,    63.1,  22.8605,  35.8894,2,-999.0000,9,    162.6,2,  -999.0,9, -999.00,9, -999.00,9, -999.00,9, -999.00,9, -999.00,9,-999.000,9,-999.000,9,  -999.0,9,  -999.0,9,     -999.0,9
06MT20091026,       A16C,      47,          1,     203896,         11,2,20091116,       0809,     3.5002,   -23.0001,       4165,    63.3,  22.7811,  35.8824,2,-999.0000,9,    170.5,2,  -999.0,9, -999.00,9, -999.00,9, -999.00,9, -999.00,9, -999.00,9,-999.000,9,-999.000,9,  -999.0,9,  -999.0,9,     -999.0,9
06MT20091026,       A16C,      47,          1,     203897,         12,2,20091116,       0809,     3.5002,   -23.0001,       4165,    62.9,  22.7922,  35.8857,2,-999.0000,9,    175.9,2,  -999.0,9, -999.00,9, -999.00,9, -999.00,9, -999.00,9, -999.00,9,-999.000,9,-999.000,9,  -999.0,9,  -999.0,9,     -999.0,9
06MT20091026,       A16C,      47,          1,     203898,         13,2,20091116,       0809,     3.5002,   -23.0001,       4165,    62.8,  22.8477,  35.8934,2,-999.0000,9,    174.7,2,  -999.0,9, -999.00,9, -999.00,9, -999.00,9, -999.00,9, -999.00,9,-999.000,9,-999.000,9,  -999.0,9,  -999.0,9,     -999.0,9
06MT20091026,       A16C,      47,          1,     203899,         14,2,20091116,       0809,     3.5002,   -23.0001,       4165,    62.9,  22.8356,  35.8860,2,-999.0000,9,    174.5,2,  -999.0,9, -999.00,9, -999.00,9, -999.00,9, -999.00,9, -999.00,9,-999.000,9,-999.000,9,  -999.0,9,  -999.0,9,     -999.0,9
06MT20091026,       A16C,      47,          1,      47015,         15,2,20091116,       0809,     3.5002,   -23.0001,       4165,    63.4,  22.6270,  35.8842,2,-999.0000,9,    175.5,2,  -999.0,9, -999.00,9, -999.00,9, -999.00,9, -999.00,9, -999.00,9,-999.000,9,-999.000,9,  -999.0,9,  -999.0,9,     -999.0,9
06MT20091026,       A16C,      47,          1,      47016,         16,2,20091116,       0809,     3.5002,   -23.0001,       4165,    63.4,  22.7063,  35.8758,2,-999.0000,9,    175.7,2,  -999.0,9, -999.00,9, -999.00,9, -999.00,9, -999.00,9, -999.00,9,-999.000,9,-999.000,9,  -999.0,9,  -999.0,9,     -999.0,9
06MT20091026,       A16C,      47,          1,     203900,         17,2,20091116,       0809,     3.5002,   -23.0001,       4165,    62.6,  22.8797,  35.8901,2,-999.0000,9,    174.8,2,  -999.0,9, -999.00,9, -999.00,9, -999.00,9, -999.00,9, -999.00,9,-999.000,9,-999.000,9,  -999.0,9,  -999.0,9,     -999.0,9
06MT20091026,       A16C,      47,          1,     203901,         18,2,20091116,       0810,     3.5002,   -23.0001,       4165,    48.9,  28.0492,  35.5042,2,-999.0000,9,    204.4,2,  -999.0,9, -999.00,9, -999.00,9, -999.00,9, -999.00,9, -999.00,9,-999.000,9,-999.000,9,  -999.0,9,  -999.0,9,     -999.0,9
06MT20091026,       A16C,      47,          1,     203902,         19,2,20091116,       0811,     3.5002,   -23.0001,       4165,    20.4,  28.2559,  35.3841,2,-999.0000,9,    200.6,2,  -999.0,9, -999.00,9, -999.00,9, -999.00,9, -999.00,9, -999.00,9,-999.000,9,-999.000,9,  -999.0,9,  -999.0,9,     -999.0,9
06MT20091026,       A16C,      47,          1,     203903,         20,2,20091116,       0811,     3.5002,   -23.0001,       4165,    20.7,  28.2566,  35.3839,2,-999.0000,9,    200.3,2,  -999.0,9, -999.00,9, -999.00,9, -999.00,9, -999.00,9, -999.00,9,-999.000,9,-999.000,9,  -999.0,9,  -999.0,9,     -999.0,9
06MT20091026,       A16C,      47,          1,     203904,         21,2,20091116,       0811,     3.5002,   -23.0001,       4165,    20.8,  28.2535,  35.3836,2,-999.0000,9,    200.0,2,  -999.0,9, -999.00,9, -999.00,9, -999.00,9, -999.00,9, -999.00,9,-999.000,9,-999.000,9,  -999.0,9,  -999.0,9,     -999.0,9
06MT20091026,       A16C,      47,          1,     203905,         22,2,20091116,       0811,     3.5002,   -23.0001,       4165,    20.8,  28.2553,  35.3836,2,-999.0000,9,    199.8,2,  -999.0,9, -999.00,9, -999.00,9, -999.00,9, -999.00,9, -999.00,9,-999.000,9,-999.000,9,  -999.0,9,  -999.0,9,     -999.0,9
06MT20091026,       A16C,      47,          1,     203906,         23,2,20091116,       0811,     3.5002,   -23.0001,       4165,    20.8,  28.2558,  35.3838,2,-999.0000,9,    200.6,2,  -999.0,9, -999.00,9, -999.00,9, -999.00,9, -999.00,9, -999.00,9,-999.000,9,-999.000,9,  -999.0,9,  -999.0,9,     -999.0,9
06MT20091026,       A16C,      47,          1,     203907,         24,2,20091116,       0812,     3.5002,   -23.0001,       4165,     9.7,  28.2523,  35.3839,2,  35.3836,2,    200.6,2,  -999.0,9, -999.00,9, -999.00,9, -999.00,9, -999.00,9, -999.00,9,-999.000,9,-999.000,9,  -999.0,9,  -999.0,9,     -999.0,9