BOTTLE,20211119CCHSIORKP
EXPOCODE,SECT_ID,STNNBR,CASTNO,SAMPNO,BTLNBR,BTLNBR_FLAG_W,DATE,TIME,LATITUDE,LONGITUDE,DEPTH,CTDPRS,CTDTMP,CTDSAL,CTDSAL_FLAG_W,SALNTY,SALNTY_FLAG_W,CTDOXY,CTDOXY_FLAG_W,OXYGEN,OXYGEN_FLAG_W,SILCAT,SILCAT_FLAG_W,NH4,NH4_FLAG_W,NITRAT,NITRAT_FLAG_W,NITRIT,NITRIT_FLAG_W,PHSPHT,PHSPHT_FLAG_W,CFC-12,CFC-12_FLAG_W,SF6,SF6_FLAG_W,TCARBN,TCARBN_FLAG_W,ALKALI,ALKALI_FLAG_W,SF5CF3,SF5CF3_FLAG_W
,,,,,,,,,,,METERS,DBAR,ITS-90,PSS-78,,PSS-78,,UMOL/KG,,UMOL/KG,,UMOL/KG,,UMOL/KG,,UMOL/KG,,UMOL/KG,,UMOL/KG,,PMOL/KG,,FMOL/KG,,UMOL/KG,,UMOL/KG,,FMOL/KG,
06MT20091026,       A16C,      16,          1,     203251,          1,2,20091104,       0307,     0.2503,   -23.0002,       3916,  3905.6,   2.4014,  34.8940,2,  34.8931,2,    251.2,2,   249.0,2,   35.27,2,       0,2,   22.70,2,    0.00,2,    1.48,2,-999.000,9,-999.000,9,  2191.4,2,  2342.6,2,     -999.0,9
06MT20091026,       A16C,      16,          1,     203252,          2,2,20091104,       0326,     0.2503,   -23.0002,       3916,  3034.0,   2.6579,  34.9142,2,-999.0000,9,    246.4,2,  -999.0,9, -999.00,9, -999.00,9, -999.00,9, -999.00,9, -999.00,9,-999.000,9,-999.000,9,  -999.0,9,  -999.0,9,     -999.0,9
06MT20091026,       A16C,      16,          1,     203253,          3,2,20091104,       0337,     0.2503,   -23.0002,       3916,  2524.9,   3.0628,  34.9391,2,  34.9386,2,    245.8,2,   246.8,2,   25.81,6,    0.01,6,   21.90,6,    0.00,6,    1.38,6,-999.000,9,-999.000,9,  2178.2,2,  2330.6,2,     -999.0,9
06MT20091026,       A16C,      16,          1,     203254,          4,2,20091104,       0347,     0.2503,   -23.0002,       3916,  2017.5,   3.5869,  34.9700,2,-999.0000,9,    250.6,2,  -999.0,9, -999.00,9, -999.00,9, -999.00,9, -999.00,9, -999.00,9,-999.000,9,-999.000,9,  -999.0,9,  -999.0,9,     -999.0,9
06MT20091026,       A16C,      16,          1,     203255,          5,2,20091104,       0352,     0.2503,   -23.0002,       3916,  1764.6,   3.9738,  34.9777,2,-999.0000,9,    242.0,2,   254.0,3,   15.13,2,    0.03,2,   21.59,2,    0.00,2,    1.34,2,-999.000,9,-999.000,9,  2169.3,2,  2316.2,2,     -999.0,9
06MT20091026,       A16C,      16,          1,     203256,          6,2,20091104,       0357,     0.2503,   -23.0002,       3916,  1512.0,   4.4034,  34.9619,2,-999.0000,9,    222.7,2,  -999.0,9, -999.00,9, -999.00,9, -999.00,9, -999.00,9, -999.00,9,-999.000,9,-999.000,9,  -999.0,9,  -999.0,9,     -999.0,9
06MT20091026,       A16C,      16,          1,     203257,          7,2,20091104,       0402,     0.2503,   -23.0002,       3916,  1259.1,   4.5352,  34.8540,2,-999.0000,9,    189.7,2,   190.4,2,   20.44,2,    0.02,2,   28.72,2,    0.00,2,    1.80,2,-999.000,9,-999.000,9,  2198.4,2,  2314.0,2,     -999.0,9
06MT20091026,       A16C,      16,          1,     203258,          8,2,20091104,       0407,     0.2503,   -23.0002,       3916,  1005.6,   4.5365,  34.6717,2,-999.0000,9,    163.0,2,  -999.0,9, -999.00,9, -999.00,9, -999.00,9, -999.00,9, -999.00,9,-999.000,9,-999.000,9,  -999.0,9,  -999.0,9,     -999.0,9
06MT20091026,       A16C,      16,          1,     203259,          9,2,20091104,       0411,     0.2503,   -23.0002,       3916,   804.9,   4.8414,  34.5233,2,-999.0000,9,    150.2,2,   149.2,2,   25.39,2,       0,2,   36.20,2,    0.00,2,    2.35,2,-999.000,9,-999.000,9,  2219.0,2,  2304.8,2,     -999.0,9
06MT20091026,       A16C,      16,          1,     203260,         10,2,20091104,       0415,     0.2503,   -23.0002,       3916,   603.2,   6.0644,  34.5454,2,-999.0000,9,    139.3,2,  -999.0,9, -999.00,9, -999.00,9, -999.00,9, -999.00,9, -999.00,9,-999.000,9,-999.000,9,  -999.0,9,  -999.0,9,     -999.0,9
06MT20091026,       A16C,      16,          1,     203261,         11,2,20091104,       0420,     0.2503,   -23.0002,       3916,   402.8,   8.5927,  34.7711,2,  34.7684,2,    112.1,2,   111.2,2,   13.48,2,    0.04,2,   32.13,2,    0.00,2,    1.94,2,-999.000,9,-999.000,9,  2211.9,2,  2300.1,2,     -999.0,9
06MT20091026,       A16C,      16,          1,     203262,         12,2,20091104,       0422,     0.2503,   -23.0002,       3916,   300.5,   9.5938,  34.8812,2,-999.0000,9,    106.2,2,   105.6,2, -999.00,9, -999.00,9, -999.00,9, -999.00,9, -999.00,9,-999.000,9,-999.000,9,  -999.0,9,  -999.0,9,     -999.0,9
06MT20091026,       A16C,      16,          1,     203263,         13,2,20091104,       0423,     0.2503,   -23.0002,       3916,   250.4,  10.7622,  35.0068,2,-999.0000,9,    117.3,2,   113.6,2,    9.95,2,    0.01,2,   27.14,2,    0.00,2,    1.62,2,-999.000,9,-999.000,9,  2199.6,2,  2308.3,2,     -999.0,9
06MT20091026,       A16C,      16,          1,     203264,         14,2,20091104,       0424,     0.2503,   -23.0002,       3916,   200.6,  12.3840,  35.2099,2,-999.0000,9,     94.3,2,  -999.0,9, -999.00,9, -999.00,9, -999.00,9, -999.00,9, -999.00,9,-999.000,9,-999.000,9,  -999.0,9,  -999.0,9,     -999.0,9
06MT20091026,       A16C,      16,          1,      16015,         15,2,20091104,       0424,     0.2503,   -23.0002,       3916,   195.7,  12.6841,  35.2503,2,-999.0000,9,     97.9,2,  -999.0,9, -999.00,9, -999.00,9, -999.00,9, -999.00,9, -999.00,9,-999.000,9,-999.000,9,  -999.0,9,  -999.0,9,     -999.0,9
06MT20091026,       A16C,      16,          1,      16016,         16,2,20091104,       0424,     0.2503,   -23.0002,       3916,   193.5,  12.7850,  35.2619,2,-999.0000,9,    100.0,2,  -999.0,9, -999.00,9, -999.00,9, -999.00,9, -999.00,9, -999.00,9,-999.000,9,-999.000,9,  -999.0,9,  -999.0,9,     -999.0,9
06MT20091026,       A16C,      16,          1,     203265,         17,2,20091104,       0425,     0.2503,   -23.0002,       3916,   151.4,  14.4019,  35.4669,2,-999.0000,9,    136.8,2,   132.0,2,    5.81,2,       0,2,   18.22,2,    0.00,2,    1.14,2,-999.000,9,-999.000,9,  2171.9,2,  2330.4,2,     -999.0,9
06MT20091026,       A16C,      16,          1,     203266,         18,2,20091104,       0427,     0.2503,   -23.0002,       3916,   101.3,  15.9711,  35.6560,2,-999.0000,9,    160.9,2,   160.4,2,    3.63,2,       0,2,   12.54,2,    0.01,2,    0.87,2,-999.000,9,-999.000,9,  2146.4,2,  2342.6,2,     -999.0,9
06MT20091026,       A16C,      16,          1,     203267,         19,2,20091104,       0427,     0.2503,   -23.0002,       3916,    79.9,  19.7666,  35.9229,2,  35.8867,2,    154.2,2,   156.3,2,    2.62,2,    0.03,2,    9.03,2,    0.08,2,    0.62,2,-999.000,9,-999.000,9,  2131.3,2,  2356.3,2,     -999.0,9
06MT20091026,       A16C,      16,          1,     203268,         20,2,20091104,       0428,     0.2503,   -23.0002,       3916,    59.3,  22.5303,  35.9469,2,-999.0000,9,    171.9,2,   170.1,2,    9.20,3,    0.02,2,    5.40,2,    0.11,2,    0.41,2,-999.000,9,-999.000,9,  2106.8,2,  2363.2,2,     -999.0,9
06MT20091026,       A16C,      16,          1,     203269,         21,2,20091104,       0429,     0.2503,   -23.0002,       3916,    40.4,  24.3772,  35.9612,2,-999.0000,9,    194.4,2,   195.3,2,    0.51,2,    0.03,2,    1.16,2,    0.10,2,    0.14,2,-999.000,9,-999.000,9,  2066.4,2,  2364.3,2,     -999.0,9
06MT20091026,       A16C,      16,          1,     203270,         22,2,20091104,       0430,     0.2503,   -23.0002,       3916,    20.3,  25.6868,  36.0957,2,-999.0000,9,    204.3,2,   203.4,2,    0.01,6,    0.04,6,    0.02,6,    0.03,6,    0.06,6,-999.000,9,-999.000,9,  2053.7,2,  2371.6,2,     -999.0,9
06MT20091026,       A16C,      16,          1,     203271,         23,2,20091104,       0430,     0.2503,   -23.0002,       3916,    10.2,  25.8153,  36.0829,2,-999.0000,9,    204.9,2,   204.5,2,    0.02,2,     0.2,2,    0.02,2,    0.02,2,    0.06,2,-999.000,9,-999.000,9,  2052.6,2,  2368.1,2,     -999.0,9
06MT20091026,       A16C,      16,          1,     203272,         24,2,20091104,       0431,     0.2503,   -23.0002,       3916,     6.6,  25.8148,  36.0841,2,  36.0838,2,    204.7,2,   204.6,2,    0.00,2,    0.05,2,    0.21,2,    0.02,2,    0.06,2,-999.000,9,-999.000,9,  2052.6,2,  2368.0,2,     -999.0,9
06MT20091026,       A16C,      18,          1,     203273,          1,2,20091105,       0237,    -0.0089,   -22.9963,       4005,  3994.7,   2.3412,  34.8883,2,  34.8889,2,    251.5,2,   249.0,2,   38.87,2,    0.11,2,   23.53,2,    0.01,2,    1.48,2,-999.000,9,-999.000,9,  2193.5,2,  2344.0,2,     -999.0,9
06MT20091026,       A16C,      18,          1,     203274,          2,2,20091105,       0247,    -0.0089,   -22.9963,       4005,  3544.9,   2.4560,  34.9000,2,-999.0000,9,    248.5,2,   247.5,2,   35.36,6,     0.1,6,   23.26,6,    0.00,6,    1.39,6,-999.000,9,-999.000,9,  2190.1,2,  2340.7,2,     -999.0,9
06MT20091026,       A16C,      18,          1,     203275,          3,2,20091105,       0257,    -0.0089,   -22.9963,       4005,  3036.1,   2.6938,  34.9156,2,  34.9163,2,    245.9,2,   246.3,2,   32.20,2,     0.1,2,   23.47,2,    0.00,2,    1.54,2,-999.000,9,-999.000,9,  2185.4,2,  2341.8,2,     -999.0,9
06MT20091026,       A16C,      18,          1,     203276,          4,2,20091105,       0307,    -0.0089,   -22.9963,       4005,  2548.2,   3.0260,  34.9364,2,-999.0000,9,    245.3,2,   246.9,2,   27.58,2,    0.13,2,   23.07,2,    0.00,2,    1.37,2,-999.000,9,-999.000,9,  2179.0,2,  2326.2,2,     -999.0,9
06MT20091026,       A16C,      18,          1,     203277,          5,2,20091105,       0318,    -0.0089,   -22.9963,       4005,  2018.0,   3.5845,  34.9697,2,-999.0000,9,    250.2,2,   253.0,2,   19.80,2,    0.12,2,   21.39,2,    0.00,2,    1.24,2,-999.000,9,-999.000,9,  2166.4,2,  2316.2,2,     -999.0,9
06MT20091026,       A16C,      18,          1,     203278,          6,2,20091105,       0328,    -0.0089,   -22.9963,       4005,  1512.1,   4.3823,  34.9612,2,  34.9619,2,    223.6,2,   224.0,2,   16.73,2,     0.1,2,   24.51,2,    0.00,2,    1.49,2,-999.000,9,-999.000,9,  2178.5,2,  2314.9,2,     -999.0,9
06MT20091026,       A16C,      18,          1,     203279,          7,2,20091105,       0333,    -0.0089,   -22.9963,       4005,  1259.3,   4.5430,  34.8470,2,-999.0000,9,    187.9,2,   187.3,2,   21.62,2,    0.08,2,   30.06,2,    0.00,2,    1.87,2,-999.000,9,-999.000,9,  2198.8,2,  2311.0,2,     -999.0,9
06MT20091026,       A16C,      18,          1,     203280,          8,2,20091105,       0339,    -0.0089,   -22.9963,       4005,  1006.0,   4.5322,  34.6628,2,-999.0000,9,    161.6,2,   161.8,2,   26.59,2,    0.13,2,   35.26,2,    0.00,2,    2.19,2,-999.000,9,-999.000,9,  2217.3,2,  -999.0,9,     -999.0,9
06MT20091026,       A16C,      18,          1,     203281,          9,2,20091105,       0343,    -0.0089,   -22.9963,       4005,   804.5,   4.8791,  34.5222,2,  34.5203,2,    149.8,2,   149.2,2,   26.38,2,    0.01,2,   37.78,2,    0.00,2,    2.26,2,-999.000,9,-999.000,9,  2220.0,2,  2307.1,2,     -999.0,9
06MT20091026,       A16C,      18,          1,     203282,         10,2,20091105,       0347,    -0.0089,   -22.9963,       4005,   604.4,   6.1197,  34.5510,2,-999.0000,9,    138.6,2,   138.2,2,   21.17,2,       0,2,   36.61,2,    0.01,2,    2.25,2,-999.000,9,-999.000,9,  2215.5,2,  2297.7,2,     -999.0,9
06MT20091026,       A16C,      18,          1,     203283,         11,2,20091105,       0352,    -0.0089,   -22.9963,       4005,   400.0,   8.4141,  34.7453,2,-999.0000,9,    118.1,2,   118.3,2,   15.55,2,     0.1,2,   33.72,2,    0.00,2,    1.94,2,-999.000,9,-999.000,9,  2212.3,2,  2297.8,2,     -999.0,9
06MT20091026,       A16C,      18,          1,     203284,         12,2,20091105,       0353,    -0.0089,   -22.9963,       4005,   300.9,   9.5777,  34.8798,2,-999.0000,9,    103.9,2,   103.8,2,   13.10,2,    0.11,2,   32.22,2,    0.00,2,    1.80,2,-999.000,9,-999.000,9,  2211.5,2,  2300.0,2,     -999.0,9
06MT20091026,       A16C,      18,          1,     203285,         13,2,20091105,       0354,    -0.0089,   -22.9963,       4005,   250.8,  11.0676,  35.0489,2,-999.0000,9,    102.1,2,   103.6,2,   10.54,2,    0.12,2,   29.35,2,    0.00,2,    1.66,2,-999.000,9,-999.000,9,  2205.3,2,  2305.8,2,     -999.0,9
06MT20091026,       A16C,      18,          1,     203286,         14,2,20091105,       0355,    -0.0089,   -22.9963,       4005,   198.9,  13.2460,  35.3205,2,-999.0000,9,    106.9,2,   105.3,2,    8.61,2,    0.09,2,   24.19,2,    0.00,2,    1.46,2,-999.000,9,-999.000,9,  2195.1,2,  2316.5,2,     -999.0,9
06MT20091026,       A16C,      18,          1,      18015,         15,2,20091105,       0356,    -0.0089,   -22.9963,       4005,   191.8,  13.3502,  35.3290,2,-999.0000,9,    110.5,2,  -999.0,9, -999.00,9, -999.00,9, -999.00,9, -999.00,9, -999.00,9,-999.000,9,-999.000,9,  -999.0,9,  -999.0,9,     -999.0,9
06MT20091026,       A16C,      18,          1,      16016,         16,2,20091105,       0356,    -0.0089,   -22.9963,       4005,   188.7,  13.5517,  35.3650,2,-999.0000,9,    112.3,2,  -999.0,9, -999.00,9, -999.00,9, -999.00,9, -999.00,9, -999.00,9,-999.000,9,-999.000,9,  -999.0,9,  -999.0,9,     -999.0,9
06MT20091026,       A16C,      18,          1,     203287,         17,2,20091105,       0356,    -0.0089,   -22.9963,       4005,   150.0,  14.8242,  35.5172,2,-999.0000,9,    152.9,2,   140.5,2,    5.85,2,     0.1,2,   16.98,2,    0.01,2,    1.03,2,-999.000,9,-999.000,9,  2165.7,2,  2327.5,2,     -999.0,9
06MT20091026,       A16C,      18,          1,     203288,         18,2,20091105,       0358,    -0.0089,   -22.9963,       4005,   100.9,  18.8799,  36.0103,2,-999.0000,9,    176.2,2,   174.3,2,    2.57,2,    0.11,2,    7.60,2,    0.05,2,    0.58,2,-999.000,9,-999.000,9,  2128.3,2,  2358.0,2,     -999.0,9
06MT20091026,       A16C,      18,          1,     203289,         19,2,20091105,       0358,    -0.0089,   -22.9963,       4005,    80.7,  22.7024,  36.4854,2,-999.0000,9,    182.1,2,   184.5,2,    1.28,2,    0.12,2,    3.29,2,    0.14,2,    0.29,2,-999.000,9,-999.000,9,  2106.5,2,  2383.3,2,     -999.0,9
06MT20091026,       A16C,      18,          1,     203290,         20,2,20091105,       0359,    -0.0089,   -22.9963,       4005,    56.0,  23.9991,  36.0502,2,-999.0000,9,    190.3,2,   192.0,2,    1.04,6,    0.07,6,    2.06,6,    0.13,6,    0.19,6,-999.000,9,-999.000,9,  2076.0,2,  2361.4,2,     -999.0,9
06MT20091026,       A16C,      18,          1,     203291,         21,2,20091105,       0400,    -0.0089,   -22.9963,       4005,    40.5,  25.5825,  36.1020,2,-999.0000,9,    203.4,2,   204.9,2,    0.61,2,    0.09,2,    0.04,2,    0.03,2,    0.07,2,-999.000,9,-999.000,9,  2055.6,2,  2373.5,2,     -999.0,9
06MT20091026,       A16C,      18,          1,     203292,         22,2,20091105,       0401,    -0.0089,   -22.9963,       4005,    19.5,  25.8674,  36.1363,2,-999.0000,9,    203.8,2,   209.0,2,    0.56,2,    0.09,2,    0.00,2,    0.02,2,    0.07,2,-999.000,9,-999.000,9,  2053.8,2,  2369.1,2,     -999.0,9
06MT20091026,       A16C,      18,          1,     203293,         23,2,20091105,       0401,    -0.0089,   -22.9963,       4005,    10.2,  25.9562,  36.1455,2,-999.0000,9,    204.3,2,   205.7,2,    0.62,2,    0.04,2,    0.16,2,    0.01,2,    0.06,2,-999.000,9,-999.000,9,  2055.4,2,  2371.4,2,     -999.0,9
06MT20091026,       A16C,      18,          1,     203294,         24,2,20091105,       0401,    -0.0089,   -22.9963,       4005,     6.2,  25.9636,  36.1460,2,  36.1397,2,    204.6,2,   204.9,2,    0.59,2,     0.1,2,    0.30,2,    0.02,2,    0.08,2,-999.000,9,-999.000,9,  2053.5,2,  2368.5,2,     -999.0,9