BOTTLE,20211119CCHSIORKP
EXPOCODE,SECT_ID,STNNBR,CASTNO,SAMPNO,BTLNBR,BTLNBR_FLAG_W,DATE,TIME,LATITUDE,LONGITUDE,DEPTH,CTDPRS,CTDTMP,CTDSAL,CTDSAL_FLAG_W,SALNTY,SALNTY_FLAG_W,CTDOXY,CTDOXY_FLAG_W,OXYGEN,OXYGEN_FLAG_W,SILCAT,SILCAT_FLAG_W,NH4,NH4_FLAG_W,NITRAT,NITRAT_FLAG_W,NITRIT,NITRIT_FLAG_W,PHSPHT,PHSPHT_FLAG_W,CFC-12,CFC-12_FLAG_W,SF6,SF6_FLAG_W,TCARBN,TCARBN_FLAG_W,ALKALI,ALKALI_FLAG_W,SF5CF3,SF5CF3_FLAG_W
,,,,,,,,,,,METERS,DBAR,ITS-90,PSS-78,,PSS-78,,UMOL/KG,,UMOL/KG,,UMOL/KG,,UMOL/KG,,UMOL/KG,,UMOL/KG,,UMOL/KG,,PMOL/KG,,FMOL/KG,,UMOL/KG,,UMOL/KG,,FMOL/KG,
06MT20091026,       A16C,      19,          1,     203295,          1,2,20091105,       0702,     0.0005,   -22.9927,       3894,   605.3,   6.1808,  34.5536,2,  34.5552,2,    137.0,2,  -999.0,9, -999.00,9, -999.00,9, -999.00,9, -999.00,9, -999.00,9,-999.000,9,-999.000,9,  -999.0,9,  -999.0,9,     -999.0,9
06MT20091026,       A16C,      19,          1,     203296,          2,2,20091105,       0707,     0.0005,   -22.9927,       3894,   400.1,   8.6006,  34.7681,2,-999.0000,9,    109.7,2,  -999.0,9, -999.00,9, -999.00,9, -999.00,9, -999.00,9, -999.00,9,-999.000,9,-999.000,9,  -999.0,9,  -999.0,9,     -999.0,9
06MT20091026,       A16C,      19,          1,     203297,          3,2,20091105,       0707,     0.0005,   -22.9927,       3894,   401.1,   8.6044,  34.7683,2,-999.0000,9,    109.4,2,  -999.0,9, -999.00,9, -999.00,9, -999.00,9, -999.00,9, -999.00,9,-999.000,9,-999.000,9,  -999.0,9,  -999.0,9,     -999.0,9
06MT20091026,       A16C,      19,          1,     203298,          4,2,20091105,       0707,     0.0005,   -22.9927,       3894,   400.3,   8.6069,  34.7687,2,-999.0000,9,    109.4,2,  -999.0,9, -999.00,9, -999.00,9, -999.00,9, -999.00,9, -999.00,9,-999.000,9,-999.000,9,  -999.0,9,  -999.0,9,     -999.0,9
06MT20091026,       A16C,      19,          1,     203299,          5,2,20091105,       0707,     0.0005,   -22.9927,       3894,   400.0,   8.6105,  34.7688,2,-999.0000,9,    109.2,2,  -999.0,9, -999.00,9, -999.00,9, -999.00,9, -999.00,9, -999.00,9,-999.000,9,-999.000,9,  -999.0,9,  -999.0,9,     -999.0,9
06MT20091026,       A16C,      19,          1,     203300,          6,2,20091105,       0707,     0.0005,   -22.9927,       3894,   401.1,   8.5996,  34.7677,2,-999.0000,9,    109.3,2,  -999.0,9, -999.00,9, -999.00,9, -999.00,9, -999.00,9, -999.00,9,-999.000,9,-999.000,9,  -999.0,9,  -999.0,9,     -999.0,9
06MT20091026,       A16C,      19,          1,     203301,          7,2,20091105,       0711,     0.0005,   -22.9927,       3894,   200.5,  13.9406,  35.4106,2,-999.0000,9,    114.0,2,  -999.0,9, -999.00,9, -999.00,9, -999.00,9, -999.00,9, -999.00,9,-999.000,9,-999.000,9,  -999.0,9,  -999.0,9,     -999.0,9
06MT20091026,       A16C,      19,          1,     203302,          8,2,20091105,       0712,     0.0005,   -22.9927,       3894,   149.7,  15.2146,  35.5651,2,  35.5337,2,    161.3,2,  -999.0,9, -999.00,9, -999.00,9, -999.00,9, -999.00,9, -999.00,9,-999.000,9,-999.000,9,  -999.0,9,  -999.0,9,     -999.0,9
06MT20091026,       A16C,      19,          1,     203303,          9,2,20091105,       0714,     0.0005,   -22.9927,       3894,    99.2,  18.9652,  36.0263,2,  36.0157,2,    176.9,2,  -999.0,9, -999.00,9, -999.00,9, -999.00,9, -999.00,9, -999.00,9,-999.000,9,-999.000,9,  -999.0,9,  -999.0,9,     -999.0,9
06MT20091026,       A16C,      19,          1,     203304,         10,2,20091105,       0715,     0.0005,   -22.9927,       3894,    58.9,  24.3570,  36.0234,2,-999.0000,9,    196.0,2,  -999.0,9, -999.00,9, -999.00,9, -999.00,9, -999.00,9, -999.00,9,-999.000,9,-999.000,9,  -999.0,9,  -999.0,9,     -999.0,9
06MT20091026,       A16C,      19,          1,     203305,         11,2,20091105,       0715,     0.0005,   -22.9927,       3894,    58.0,  24.4659,  36.0191,2,-999.0000,9,    194.9,2,  -999.0,9, -999.00,9, -999.00,9, -999.00,9, -999.00,9, -999.00,9,-999.000,9,-999.000,9,  -999.0,9,  -999.0,9,     -999.0,9
06MT20091026,       A16C,      19,          1,     203306,         12,2,20091105,       0715,     0.0005,   -22.9927,       3894,    58.7,  24.4066,  36.0262,2,-999.0000,9,    196.4,2,  -999.0,9, -999.00,9, -999.00,9, -999.00,9, -999.00,9, -999.00,9,-999.000,9,-999.000,9,  -999.0,9,  -999.0,9,     -999.0,9
06MT20091026,       A16C,      19,          1,     203307,         13,2,20091105,       0715,     0.0005,   -22.9927,       3894,    58.3,  24.4629,  36.0240,2,-999.0000,9,    195.1,2,  -999.0,9, -999.00,9, -999.00,9, -999.00,9, -999.00,9, -999.00,9,-999.000,9,-999.000,9,  -999.0,9,  -999.0,9,     -999.0,9
06MT20091026,       A16C,      19,          1,     203308,         14,2,20091105,       0715,     0.0005,   -22.9927,       3894,    58.2,  24.4544,  36.0219,2,-999.0000,9,    196.0,2,  -999.0,9, -999.00,9, -999.00,9, -999.00,9, -999.00,9, -999.00,9,-999.000,9,-999.000,9,  -999.0,9,  -999.0,9,     -999.0,9
06MT20091026,       A16C,      19,          1,      19015,         15,2,20091105,       0715,     0.0005,   -22.9927,       3894,    58.5,  24.4419,  36.0230,2,-999.0000,9,    196.2,2,  -999.0,9, -999.00,9, -999.00,9, -999.00,9, -999.00,9, -999.00,9,-999.000,9,-999.000,9,  -999.0,9,  -999.0,9,     -999.0,9
06MT20091026,       A16C,      19,          1,      19016,         16,2,20091105,       0715,     0.0005,   -22.9927,       3894,    57.7,  24.4646,  36.0197,2,-999.0000,9,    194.1,2,  -999.0,9, -999.00,9, -999.00,9, -999.00,9, -999.00,9, -999.00,9,-999.000,9,-999.000,9,  -999.0,9,  -999.0,9,     -999.0,9
06MT20091026,       A16C,      19,          1,     203309,         17,2,20091105,       0715,     0.0005,   -22.9927,       3894,    58.8,  24.4053,  36.0259,2,-999.0000,9,    195.7,2,  -999.0,9, -999.00,9, -999.00,9, -999.00,9, -999.00,9, -999.00,9,-999.000,9,-999.000,9,  -999.0,9,  -999.0,9,     -999.0,9
06MT20091026,       A16C,      19,          1,     203310,         18,2,20091105,       0716,     0.0005,   -22.9927,       3894,    46.5,  25.4246,  36.0709,2,  36.0097,2,    199.9,2,  -999.0,9, -999.00,9, -999.00,9, -999.00,9, -999.00,9, -999.00,9,-999.000,9,-999.000,9,  -999.0,9,  -999.0,9,     -999.0,9
06MT20091026,       A16C,      19,          1,     203311,         19,2,20091105,       0717,     0.0005,   -22.9927,       3894,    21.6,  25.9010,  36.1403,2,-999.0000,9,    203.0,2,  -999.0,9, -999.00,9, -999.00,9, -999.00,9, -999.00,9, -999.00,9,-999.000,9,-999.000,9,  -999.0,9,  -999.0,9,     -999.0,9
06MT20091026,       A16C,      19,          1,     203312,         20,2,20091105,       0717,     0.0005,   -22.9927,       3894,    21.4,  25.9030,  36.1400,2,-999.0000,9,    202.8,2,  -999.0,9, -999.00,9, -999.00,9, -999.00,9, -999.00,9, -999.00,9,-999.000,9,-999.000,9,  -999.0,9,  -999.0,9,     -999.0,9
06MT20091026,       A16C,      19,          1,     203313,         21,2,20091105,       0717,     0.0005,   -22.9927,       3894,    21.6,  25.9046,  36.1408,2,-999.0000,9,    203.4,2,  -999.0,9, -999.00,9, -999.00,9, -999.00,9, -999.00,9, -999.00,9,-999.000,9,-999.000,9,  -999.0,9,  -999.0,9,     -999.0,9
06MT20091026,       A16C,      19,          1,     203314,         22,2,20091105,       0717,     0.0005,   -22.9927,       3894,    21.5,  25.9067,  36.1405,2,-999.0000,9,    203.8,2,  -999.0,9, -999.00,9, -999.00,9, -999.00,9, -999.00,9, -999.00,9,-999.000,9,-999.000,9,  -999.0,9,  -999.0,9,     -999.0,9
06MT20091026,       A16C,      19,          1,     203315,         23,2,20091105,       0717,     0.0005,   -22.9927,       3894,    21.6,  25.9050,  36.1407,2,-999.0000,9,    203.6,2,  -999.0,9, -999.00,9, -999.00,9, -999.00,9, -999.00,9, -999.00,9,-999.000,9,-999.000,9,  -999.0,9,  -999.0,9,     -999.0,9
06MT20091026,       A16C,      19,          1,     203316,         24,2,20091105,       0718,     0.0005,   -22.9927,       3894,     9.4,  25.9063,  36.1418,2,-999.0000,9,    202.5,2,  -999.0,9, -999.00,9, -999.00,9, -999.00,9, -999.00,9, -999.00,9,-999.000,9,-999.000,9,  -999.0,9,  -999.0,9,     -999.0,9
06MT20091026,       A16C,      20,          1,     203317,          1,2,20091105,       2335,    -0.2487,   -23.0012,       4201,  4190.6,   2.3322,  34.8864,2,  34.8857,2,   -999.0,9,   247.5,2,   39.47,2,    0.06,2,   23.17,2,    0.02,2,    1.50,2,-999.000,9,-999.000,9,  -999.0,9,  -999.0,9,     -999.0,9
06MT20091026,       A16C,      20,          1,     203318,          2,2,20091105,       2349,    -0.2487,   -23.0012,       4201,  3545.4,   2.4552,  34.9007,2,-999.0000,9,   -999.0,9,   248.4,2,   34.70,2,    0.06,2,   22.66,2,    0.01,2,    1.42,2,-999.000,9,-999.000,9,  -999.0,9,  -999.0,9,     -999.0,9
06MT20091026,       A16C,      20,          1,     203319,          3,2,20091105,       0000,    -0.2487,   -23.0012,       4201,  3034.7,   2.6793,  34.9154,2,-999.0000,9,    246.3,2,   246.8,2,   30.93,6,    0.07,6,   22.05,6,    0.01,6,    1.43,6,-999.000,9,-999.000,9,  -999.0,9,  -999.0,9,     -999.0,9
06MT20091026,       A16C,      20,          1,     203320,          4,2,20091105,       0010,    -0.2487,   -23.0012,       4201,  2525.0,   3.0058,  34.9351,2,-999.0000,9,    244.9,2,   246.0,2,   26.41,2,    0.04,2,   22.34,2,    0.01,2,    1.39,2,-999.000,9,-999.000,9,  -999.0,9,  -999.0,9,     -999.0,9
06MT20091026,       A16C,      20,          1,     203321,          5,2,20091105,       0021,    -0.2487,   -23.0012,       4201,  2018.5,   3.5746,  34.9700,2,-999.0000,9,    251.0,2,   252.5,2,   16.77,2,    0.06,2,   20.85,2,    0.01,2,    1.21,2,-999.000,9,-999.000,9,  -999.0,9,  -999.0,9,     -999.0,9
06MT20091026,       A16C,      20,          1,     203322,          6,2,20091105,       0032,    -0.2487,   -23.0012,       4201,  1511.3,   4.3926,  34.9600,2,  34.9605,2,    223.1,2,   223.1,2,   16.75,2,    0.04,2,   23.92,2,    0.00,2,    1.50,2,-999.000,9,-999.000,9,  -999.0,9,  -999.0,9,     -999.0,9
06MT20091026,       A16C,      20,          1,     203323,          7,2,20091105,       0037,    -0.2487,   -23.0012,       4201,  1259.2,   4.5307,  34.8540,2,-999.0000,9,    189.7,2,   190.2,2,   20.69,2,    0.08,2,   29.17,2,    0.01,2,    1.86,2,-999.000,9,-999.000,9,  -999.0,9,  -999.0,9,     -999.0,9
06MT20091026,       A16C,      20,          1,     203324,          8,2,20091105,       0043,    -0.2487,   -23.0012,       4201,  1005.2,   4.5435,  34.6124,2,-999.0000,9,    157.0,2,   149.5,2,   27.34,2,    0.06,2,   36.67,2,    0.00,2,    2.34,2,-999.000,9,-999.000,9,  -999.0,9,  -999.0,9,     -999.0,9
06MT20091026,       A16C,      20,          1,     203325,          9,3,20091105,       0047,    -0.2487,   -23.0012,       4201,   804.7,   4.9094,  34.5143,2,  34.7555,3,    149.9,2,   111.8,2,   13.41,3,    0.06,2,   33.48,3,    0.01,2,    2.06,3,-999.000,9,-999.000,9,  -999.0,9,  -999.0,9,     -999.0,9
06MT20091026,       A16C,      20,          1,     203326,         10,3,20091105,       0051,    -0.2487,   -23.0012,       4201,   602.3,   6.1595,  34.5501,2,-999.0000,9,    138.1,2,   111.6,2,   14.12,3,    0.02,2,   33.03,3,    0.01,2,    2.04,3,-999.000,9,-999.000,9,  -999.0,9,  -999.0,9,     -999.0,9
06MT20091026,       A16C,      20,          1,     203327,         11,2,20091105,       0055,    -0.2487,   -23.0012,       4201,   401.8,   8.4615,  34.7568,2,-999.0000,9,    115.3,2,   111.0,2,    6.65,3,    0.01,2,   23.53,3,    0.01,2,    1.45,3,-999.000,9,-999.000,9,  -999.0,9,  -999.0,9,     -999.0,9
06MT20091026,       A16C,      20,          1,     203328,         12,2,20091105,       0055,    -0.2487,   -23.0012,       4201,   399.5,   8.4634,  34.7571,2,  34.7646,2,    113.9,2,   110.4,2,   13.79,2,    0.04,2,   32.90,2,    0.00,2,    2.01,2,-999.000,9,-999.000,9,  -999.0,9,  -999.0,9,     -999.0,9
06MT20091026,       A16C,      20,          1,     203329,         13,2,20091105,       0058,    -0.2487,   -23.0012,       4201,   300.7,   9.9794,  34.9236,2,-999.0000,9,    107.1,2,   107.0,2,   11.19,2,    0.03,2,   29.64,2,    0.00,2,    1.81,2,-999.000,9,-999.000,9,  -999.0,9,  -999.0,9,     -999.0,9
06MT20091026,       A16C,      20,          1,     203330,         14,2,20091105,       0100,    -0.2487,   -23.0012,       4201,   199.9,  13.4117,  35.3378,2,-999.0000,9,    112.8,2,   109.6,2,    6.86,2,    0.08,2,   22.40,2,    0.00,2,    1.36,2,-999.000,9,-999.000,9,  -999.0,9,  -999.0,9,     -999.0,9
06MT20091026,       A16C,      20,          1,      20015,         15,2,20091105,       0100,    -0.2487,   -23.0012,       4201,   196.0,  13.4602,  35.3434,2,-999.0000,9,    113.2,2,  -999.0,9, -999.00,9, -999.00,9, -999.00,9, -999.00,9, -999.00,9,-999.000,9,-999.000,9,  -999.0,9,  -999.0,9,     -999.0,9
06MT20091026,       A16C,      20,          1,      20016,         16,2,20091105,       0100,    -0.2487,   -23.0012,       4201,   193.4,  13.5522,  35.3571,2,-999.0000,9,    113.0,2,  -999.0,9, -999.00,9, -999.00,9, -999.00,9, -999.00,9, -999.00,9,-999.000,9,-999.000,9,  -999.0,9,  -999.0,9,     -999.0,9
06MT20091026,       A16C,      20,          1,     203331,         17,2,20091105,       0101,    -0.2487,   -23.0012,       4201,   149.3,  14.5513,  35.4868,2,-999.0000,9,    143.4,2,   145.9,2,    4.64,2,    0.07,2,   15.63,2,    0.01,2,    1.03,2,-999.000,9,-999.000,9,  -999.0,9,  -999.0,9,     -999.0,9
06MT20091026,       A16C,      20,          1,     203332,         18,2,20091105,       0103,    -0.2487,   -23.0012,       4201,   101.1,  17.6197,  35.8692,2,-999.0000,9,    175.8,2,   174.3,2,    2.40,2,    0.09,2,    8.63,2,    0.06,2,    0.62,2,-999.000,9,-999.000,9,  -999.0,9,  -999.0,9,     -999.0,9
06MT20091026,       A16C,      20,          1,     203333,         19,2,20091105,       0104,    -0.2487,   -23.0012,       4201,    80.0,  21.6512,  36.3641,2,-999.0000,9,    182.3,2,   181.2,2,    1.08,2,    0.08,2,    4.59,2,    0.10,2,    0.37,2,-999.000,9,-999.000,9,  -999.0,9,  -999.0,9,     -999.0,9
06MT20091026,       A16C,      20,          1,     203334,         20,2,20091105,       0105,    -0.2487,   -23.0012,       4201,    50.9,  24.8505,  36.0685,2,-999.0000,9,    195.6,2,   197.8,2,    0.13,2,    0.06,2,    0.93,2,    0.09,2,    0.11,2,-999.000,9,-999.000,9,  -999.0,9,  -999.0,9,     -999.0,9
06MT20091026,       A16C,      20,          1,     203335,         21,2,20091105,       0105,    -0.2487,   -23.0012,       4201,    39.0,  25.7221,  36.1220,2,-999.0000,9,    203.5,2,   203.4,2,    0.01,6,    0.04,6,    0.01,6,    0.01,6,    0.05,6,-999.000,9,-999.000,9,  -999.0,9,  -999.0,9,     -999.0,9
06MT20091026,       A16C,      20,          1,     203336,         22,2,20091105,       0106,    -0.2487,   -23.0012,       4201,    19.5,  25.8711,  36.1358,2,-999.0000,9,    204.4,2,   204.1,2,    0.03,2,       0,2,    0.02,2,    0.00,2,    0.05,2,-999.000,9,-999.000,9,  -999.0,9,  -999.0,9,     -999.0,9
06MT20091026,       A16C,      20,          1,     203337,         23,2,20091105,       0106,    -0.2487,   -23.0012,       4201,    10.4,  25.9397,  36.1324,2,-999.0000,9,    204.8,2,   203.8,2,    0.01,2,    0.01,2,    0.10,2,    0.00,2,    0.05,2,-999.000,9,-999.000,9,  -999.0,9,  -999.0,9,     -999.0,9
06MT20091026,       A16C,      20,          1,     203338,         24,2,20091105,       0106,    -0.2487,   -23.0012,       4201,     5.7,  25.9449,  36.1256,2,  36.1271,2,    204.2,2,   204.1,2,    0.09,2,    0.05,2,    0.31,2,    0.00,2,    0.06,2,-999.000,9,-999.000,9,  -999.0,9,  -999.0,9,     -999.0,9