BOTTLE,20211119CCHSIORKP
EXPOCODE,SECT_ID,STNNBR,CASTNO,SAMPNO,BTLNBR,BTLNBR_FLAG_W,DATE,TIME,LATITUDE,LONGITUDE,DEPTH,CTDPRS,CTDTMP,CTDSAL,CTDSAL_FLAG_W,SALNTY,SALNTY_FLAG_W,CTDOXY,CTDOXY_FLAG_W,OXYGEN,OXYGEN_FLAG_W,SILCAT,SILCAT_FLAG_W,NH4,NH4_FLAG_W,NITRAT,NITRAT_FLAG_W,NITRIT,NITRIT_FLAG_W,PHSPHT,PHSPHT_FLAG_W,CFC-12,CFC-12_FLAG_W,SF6,SF6_FLAG_W,TCARBN,TCARBN_FLAG_W,ALKALI,ALKALI_FLAG_W,SF5CF3,SF5CF3_FLAG_W
,,,,,,,,,,,METERS,DBAR,ITS-90,PSS-78,,PSS-78,,UMOL/KG,,UMOL/KG,,UMOL/KG,,UMOL/KG,,UMOL/KG,,UMOL/KG,,UMOL/KG,,PMOL/KG,,FMOL/KG,,UMOL/KG,,UMOL/KG,,FMOL/KG,
06MT20091026,       A16C,      14,          1,     203207,          1,2,20091103,       1145,     0.7535,   -22.9923,       4421,  4308.4,   2.3470,  34.8856,2,  34.8859,2,    250.3,2,   247.4,2,   39.70,2,    0.02,2,   23.29,2,    0.02,2,    1.45,2,-999.000,9,-999.000,9,  2195.0,2,  2337.1,2,     -999.0,9
06MT20091026,       A16C,      14,          1,     203208,          2,2,20091103,       1157,     0.7535,   -22.9923,       4421,  3749.8,   2.4238,  34.8969,2,-999.0000,9,    249.3,2,   248.0,2,   35.98,2,    0.01,2,   22.79,2,    0.02,2,    1.48,2,-999.000,9,-999.000,9,  2191.6,2,  2340.5,2,     -999.0,9
06MT20091026,       A16C,      14,          1,     203209,          3,2,20091103,       1210,     0.7535,   -22.9923,       4421,  3033.9,   2.6955,  34.9160,2,-999.0000,9,    245.7,2,   245.4,2,   32.76,2,    0.04,2,   22.47,2,    0.02,2,    1.43,2,-999.000,9,-999.000,9,  2186.1,2,  2334.4,2,     -999.0,9
06MT20091026,       A16C,      14,          1,     203210,          4,2,20091103,       1220,     0.7535,   -22.9923,       4421,  2525.7,   3.0184,  34.9365,2,  34.9359,2,    244.7,2,   246.0,2,   26.78,2,    0.02,2,   21.98,2,    0.02,2,    1.37,2,-999.000,9,-999.000,9,  2180.0,2,  2330.3,2,     -999.0,9
06MT20091026,       A16C,      14,          1,     203211,          5,2,20091103,       1229,     0.7535,   -22.9923,       4421,  2018.6,   3.6808,  34.9723,2,-999.0000,9,    248.4,2,   250.1,2,   17.32,2,    0.03,2,   20.83,2,    0.02,2,    1.29,2,-999.000,9,-999.000,9,  2167.3,2,  2318.9,2,     -999.0,9
06MT20091026,       A16C,      14,          1,     203212,          6,2,20091103,       1239,     0.7535,   -22.9923,       4421,  1510.3,   4.3979,  34.9613,2,  34.9621,2,    223.1,2,   223.0,2,   17.00,2,       0,2,   24.12,2,    0.02,2,    1.49,2,-999.000,9,-999.000,9,  2178.7,2,  2319.1,2,     -999.0,9
06MT20091026,       A16C,      14,          1,     203213,          7,2,20091103,       1244,     0.7535,   -22.9923,       4421,  1258.5,   4.5403,  34.8573,2,-999.0000,9,    190.2,2,   189.4,2,   20.40,2,       0,2,   29.79,2,    0.02,2,    1.81,2,-999.000,9,-999.000,9,  2197.8,2,  2318.6,2,     -999.0,9
06MT20091026,       A16C,      14,          1,     203214,          8,2,20091103,       1249,     0.7535,   -22.9923,       4421,  1006.8,   4.5352,  34.6322,2,-999.0000,9,    159.0,2,   157.8,2,   26.34,6,    0.04,6,   36.02,6,    0.01,6,    2.23,6,-999.000,9,-999.000,9,  2217.3,2,  2310.2,2,     -999.0,9
06MT20091026,       A16C,      14,          1,     203215,          9,2,20091103,       1254,     0.7535,   -22.9923,       4421,   804.9,   4.9277,  34.5157,2,  34.5186,2,    149.0,2,   148.7,2,   25.83,2,    0.05,2,   37.15,2,    0.01,2,    2.32,2,-999.000,9,-999.000,9,  2219.4,2,  2303.2,2,     -999.0,9
06MT20091026,       A16C,      14,          1,     203216,         10,2,20091103,       1257,     0.7535,   -22.9923,       4421,   602.8,   6.2417,  34.5593,2,-999.0000,9,    137.3,2,   138.0,2,   20.16,2,    0.03,2,   35.53,2,    0.01,2,    2.25,2,-999.000,9,-999.000,9,  2212.8,2,  2304.1,2,     -999.0,9
06MT20091026,       A16C,      14,          1,     203217,         11,2,20091103,       1302,     0.7535,   -22.9923,       4421,   400.5,   8.5151,  34.7591,2,-999.0000,9,    118.4,2,   118.0,2,   13.77,2,    0.06,2,   32.28,2,    0.01,2,    1.94,2,-999.000,9,-999.000,9,  2209.1,2,  2301.9,2,     -999.0,9
06MT20091026,       A16C,      14,          1,     203218,         12,2,20091103,       1304,     0.7535,   -22.9923,       4421,   301.1,   9.8214,  34.9045,2,-999.0000,9,    116.8,2,   116.5,2,   11.49,2,    0.03,2,   29.59,2,    0.01,2,    1.77,2,-999.000,9,-999.000,9,  2202.1,2,  2305.4,2,     -999.0,9
06MT20091026,       A16C,      14,          1,     203219,         13,2,20091103,       1305,     0.7535,   -22.9923,       4421,   250.8,  12.1261,  35.1793,2,-999.0000,9,    104.7,2,   105.7,2,    8.19,2,    0.05,2,   25.68,2,    0.01,2,    1.52,2,-999.000,9,-999.000,9,  2197.9,2,  2316.4,2,     -999.0,9
06MT20091026,       A16C,      14,          1,     203220,         14,2,20091103,       1306,     0.7535,   -22.9923,       4421,   200.4,  13.2133,  35.3147,2,-999.0000,9,    118.4,2,   119.0,2,    6.69,2,    0.06,2,   21.63,2,    0.01,2,    1.37,2,-999.000,9,-999.000,9,  2183.4,2,  2323.5,2,     -999.0,9
06MT20091026,       A16C,      14,          1,      14015,         15,2,20091103,       1306,     0.7535,   -22.9923,       4421,   196.0,  13.4121,  35.3490,2,-999.0000,9,    121.2,2,  -999.0,9, -999.00,9, -999.00,9, -999.00,9, -999.00,9, -999.00,9,-999.000,9,-999.000,9,  -999.0,9,  -999.0,9,     -999.0,9
06MT20091026,       A16C,      14,          1,      14016,         16,2,20091103,       1306,     0.7535,   -22.9923,       4421,   193.5,  13.4760,  35.3497,2,-999.0000,9,    122.0,2,  -999.0,9, -999.00,9, -999.00,9, -999.00,9, -999.00,9, -999.00,9,-999.000,9,-999.000,9,  -999.0,9,  -999.0,9,     -999.0,9
06MT20091026,       A16C,      14,          1,     203221,         17,2,20091103,       1307,     0.7535,   -22.9923,       4421,   150.8,  14.3262,  35.4589,2,-999.0000,9,    124.9,2,   132.0,2, -999.00,9, -999.00,9, -999.00,9, -999.00,9, -999.00,9,-999.000,9,-999.000,9,  2170.4,2,  2329.2,2,     -999.0,9
06MT20091026,       A16C,      14,          1,     203222,         18,2,20091103,       1309,     0.7535,   -22.9923,       4421,   100.8,  15.4945,  35.6013,2,-999.0000,9,    147.4,2,   149.0,2,    4.76,6,    0.04,6,   15.17,6,    0.02,6,    0.98,6,-999.000,9,-999.000,9,  2156.0,2,  2340.3,2,     -999.0,9
06MT20091026,       A16C,      14,          1,     203223,         19,2,20091103,       1309,     0.7535,   -22.9923,       4421,    81.0,  19.3422,  35.6306,2,-999.0000,9,     97.7,2,   117.3,3,    3.71,2,    0.05,2,   15.32,2,    0.06,2,    0.96,2,-999.000,9,-999.000,9,  2169.6,2,  2343.0,2,     -999.0,9
06MT20091026,       A16C,      14,          1,     203224,         20,2,20091103,       1310,     0.7535,   -22.9923,       4421,    55.8,  23.7991,  35.8135,2,-999.0000,9,    168.2,2,   176.0,2,    1.13,2,    0.06,2,    3.96,2,    0.21,2,    0.28,2,-999.000,9,-999.000,9,  2092.5,2,  2353.7,2,     -999.0,9
06MT20091026,       A16C,      14,          1,     203225,         21,2,20091103,       1311,     0.7535,   -22.9923,       4421,    39.4,  25.9425,  35.8724,2,-999.0000,9,    168.6,2,   197.8,2,    0.45,2,    0.05,2,    0.77,2,    0.06,2,    0.06,2,-999.000,9,-999.000,9,  2059.8,2,  2359.2,2,     -999.0,9
06MT20091026,       A16C,      14,          1,     203226,         22,2,20091103,       1312,     0.7535,   -22.9923,       4421,    20.3,  26.5674,  35.9297,2,-999.0000,9,    169.3,2,   204.9,2,    0.07,2,    0.05,2,    0.00,2,    0.00,2,    0.01,2,-999.000,9,-999.000,9,  2034.5,2,  2354.1,2,     -999.0,9
06MT20091026,       A16C,      14,          1,     203227,         23,2,20091103,       1312,     0.7535,   -22.9923,       4421,    11.1,  26.6259,  35.9127,2,-999.0000,9,    147.6,2,   203.6,2,    0.00,2,    0.07,2,    0.15,2,    0.00,2,    0.00,2,-999.000,9,-999.000,9,  2031.1,2,  2360.2,2,     -999.0,9
06MT20091026,       A16C,      14,          1,     203228,         24,2,20091103,       1312,     0.7535,   -22.9923,       4421,     5.7,  26.7106,  35.9079,2,  35.9677,2,    140.6,2,   203.9,2,    0.45,2,    0.12,2,    0.32,2,    0.01,2,    0.02,2,-999.000,9,-999.000,9,  2031.5,2,  2361.4,2,     -999.0,9
06MT20091026,       A16C,      15,          1,     203229,          1,2,20091103,       2148,     0.5003,   -23.0003,       4354,  3770.4,   2.3955,  34.8942,2,  34.8963,2,    250.4,2,   249.5,2,   37.36,2,    0.04,2,   22.56,2,    0.01,2,    1.48,2,-999.000,9,-999.000,9,  2192.3,2,  2342.3,2,     -999.0,9
06MT20091026,       A16C,      15,          1,     203230,          2,2,20091103,       2153,     0.5003,   -23.0003,       4354,  3545.7,   2.4473,  34.8997,2,-999.0000,9,    248.3,2,  -999.0,9, -999.00,9, -999.00,9, -999.00,9, -999.00,9, -999.00,9,-999.000,9,-999.000,9,  -999.0,9,  -999.0,9,     -999.0,9
06MT20091026,       A16C,      15,          1,     203231,          3,2,20091103,       2203,     0.5003,   -23.0003,       4354,  3035.2,   2.6849,  34.9154,2,-999.0000,9,    246.4,2,   246.3,2,   32.25,6,    0.06,6,   22.30,6,    0.01,6,    1.47,6,-999.000,9,-999.000,9,  2186.4,2,  2336.3,2,     -999.0,9
06MT20091026,       A16C,      15,          1,     203232,          4,2,20091103,       2213,     0.5003,   -23.0003,       4354,  2526.1,   3.0137,  34.9353,2,  34.9356,2,    245.1,2,  -999.0,9, -999.00,9, -999.00,9, -999.00,9, -999.00,9, -999.00,9,-999.000,9,-999.000,9,  -999.0,9,  -999.0,9,     -999.0,9
06MT20091026,       A16C,      15,          1,     203233,          5,2,20091103,       2223,     0.5003,   -23.0003,       4354,  2018.0,   3.6151,  34.9705,2,-999.0000,9,    249.7,2,   251.6,2,   17.37,2,    0.04,2,   20.83,2,    0.01,2,    1.33,2,-999.000,9,-999.000,9,  2167.1,2,  2319.3,2,     -999.0,9
06MT20091026,       A16C,      15,          1,     203234,          6,2,20091103,       2233,     0.5003,   -23.0003,       4354,  1510.8,   4.4086,  34.9612,2,-999.0000,9,    223.6,2,  -999.0,9, -999.00,9, -999.00,9, -999.00,9, -999.00,9, -999.00,9,-999.000,9,-999.000,9,  -999.0,9,  -999.0,9,     -999.0,9
06MT20091026,       A16C,      15,          1,     203235,          7,2,20091103,       2239,     0.5003,   -23.0003,       4354,  1254.3,   4.5383,  34.8543,2,-999.0000,9,    189.5,2,   188.4,2,   21.53,2,       0,2,   28.59,2,    0.01,2,    1.87,2,-999.000,9,-999.000,9,  2198.0,2,  2315.1,2,     -999.0,9
06MT20091026,       A16C,      15,          1,     203236,          8,2,20091103,       2244,     0.5003,   -23.0003,       4354,  1005.8,   4.5386,  34.6298,2,-999.0000,9,    158.2,2,  -999.0,9, -999.00,9, -999.00,9, -999.00,9, -999.00,9, -999.00,9,-999.000,9,-999.000,9,  -999.0,9,  -999.0,9,     -999.0,9
06MT20091026,       A16C,      15,          1,     203237,          9,2,20091103,       2248,     0.5003,   -23.0003,       4354,   804.3,   4.8304,  34.5253,2,  34.5249,2,    149.2,2,   149.7,2,   26.22,2,    0.06,2,   36.01,2,    0.01,2,    2.39,2,-999.000,9,-999.000,9,  2220.2,2,  2305.4,2,     -999.0,9
06MT20091026,       A16C,      15,          1,     203238,         10,2,20091103,       2252,     0.5003,   -23.0003,       4354,   602.6,   6.0476,  34.5435,2,-999.0000,9,    139.7,2,  -999.0,9, -999.00,9, -999.00,9, -999.00,9, -999.00,9, -999.00,9,-999.000,9,-999.000,9,  -999.0,9,  -999.0,9,     -999.0,9
06MT20091026,       A16C,      15,          1,     203239,         11,2,20091103,       2256,     0.5003,   -23.0003,       4354,   402.5,   8.2541,  34.7324,2,-999.0000,9,    121.8,2,   122.4,2,   14.72,2,    0.05,2,   31.63,2,    0.01,2,    2.01,2,   0.607,2,   0.158,4,  2208.5,2,  2302.1,2,       0.00,3
06MT20091026,       A16C,      15,          1,     203240,         12,2,20091103,       2258,     0.5003,   -23.0003,       4354,   300.5,   9.8292,  34.9097,2,-999.0000,9,    114.9,2,   115.8,2, -999.00,9, -999.00,9, -999.00,9, -999.00,9, -999.00,9,   0.768,2,   0.445,4,  -999.0,9,  -999.0,9,       0.00,3
06MT20091026,       A16C,      15,          1,     203241,         13,2,20091103,       2259,     0.5003,   -23.0003,       4354,   250.8,  11.7875,  35.1296,2,-999.0000,9,    108.7,2,   108.6,2,    9.20,2,    0.05,2,   25.88,2,    0.01,2,    1.66,2,   0.879,2,    0.49,4,  2198.8,2,  2312.1,2,       0.00,3
06MT20091026,       A16C,      15,          1,     203242,         14,2,20091103,       2300,     0.5003,   -23.0003,       4354,   200.6,  13.0588,  35.2932,2,-999.0000,9,    117.8,2,  -999.0,9, -999.00,9, -999.00,9, -999.00,9, -999.00,9, -999.00,9,-999.000,9,-999.000,9,  -999.0,9,  -999.0,9,     -999.0,9
06MT20091026,       A16C,      15,          1,      15015,         15,2,20091103,       2301,     0.5003,   -23.0003,       4354,   161.6,  14.1451,  35.4157,2,-999.0000,9,    133.6,2,  -999.0,9, -999.00,9, -999.00,9, -999.00,9, -999.00,9, -999.00,9,-999.000,9,-999.000,9,  -999.0,9,  -999.0,9,     -999.0,9
06MT20091026,       A16C,      15,          1,      15016,         16,2,20091103,       2301,     0.5003,   -23.0003,       4354,   160.7,  14.2423,  35.4598,2,-999.0000,9,    135.7,2,  -999.0,9, -999.00,9, -999.00,9, -999.00,9, -999.00,9, -999.00,9,-999.000,9,-999.000,9,  -999.0,9,  -999.0,9,     -999.0,9
06MT20091026,       A16C,      15,          1,     203243,         17,2,20091103,       2301,     0.5003,   -23.0003,       4354,   151.8,  14.5569,  35.4908,2,-999.0000,9,    141.0,2,   132.0,2,    5.66,2,    0.01,2,   18.56,2,    0.01,2,    1.24,2,   1.092,2,   0.596,4,  2170.7,2,  2329.9,2,       0.00,3
06MT20091026,       A16C,      15,          1,     203244,         18,2,20091103,       2302,     0.5003,   -23.0003,       4354,   100.4,  17.2008,  35.7787,2,  35.5469,3,    153.0,2,   152.0,2,    4.37,2,    0.04,2,   14.38,2,    0.02,2,    1.00,2,   1.189,2,   0.729,4,  2154.5,2,  2339.2,2,       0.00,3
06MT20091026,       A16C,      15,          1,     203245,         19,2,20091103,       2303,     0.5003,   -23.0003,       4354,    80.2,  20.8884,  35.9002,2,-999.0000,9,    157.0,2,   152.0,2,    2.08,6,    0.04,6,    8.97,6,    0.13,6,    0.65,6,-999.000,9,-999.000,9,  2130.0,2,  2355.6,2,     -999.0,9
06MT20091026,       A16C,      15,          1,     203246,         20,2,20091103,       2304,     0.5003,   -23.0003,       4354,    60.7,  23.5762,  35.8669,2,-999.0000,9,    188.1,2,   177.5,2,    0.69,2,    0.05,2,    3.45,2,    0.17,2,    0.30,2,   1.083,2,   1.094,4,  2088.9,2,  2354.2,2,       0.00,3
06MT20091026,       A16C,      15,          1,     203247,         21,2,20091103,       2304,     0.5003,   -23.0003,       4354,    43.0,  25.4684,  35.9895,2,-999.0000,9,    203.9,2,   203.7,2,    1.81,2,    0.04,2,    0.62,2,    0.03,2,    0.12,2,-999.000,9,-999.000,9,  2053.7,2,  2361.7,2,     -999.0,9
06MT20091026,       A16C,      15,          1,     203248,         22,2,20091103,       2305,     0.5003,   -23.0003,       4354,    21.1,  26.1234,  36.0531,2,-999.0000,9,    205.5,2,   205.8,2,    0.03,2,    0.07,2,    2.20,2,    0.00,2,    0.14,2,-999.000,9,-999.000,9,  2050.4,2,  2364.8,2,     -999.0,9
06MT20091026,       A16C,      15,          1,     203249,         23,2,20091103,       2305,     0.5003,   -23.0003,       4354,    10.3,  26.1550,  36.0550,2,  36.0562,2,    205.9,2,   205.5,2,    0.09,2,    0.06,2,    0.00,2,    0.00,2,    0.06,2,   0.862,3,   1.128,4,  2051.1,2,  2365.9,2,       0.00,3
06MT20091026,       A16C,      15,          1,     203250,         24,2,20091103,       2306,     0.5003,   -23.0003,       4354,     4.9,  26.1583,  36.0554,2,-999.0000,9,    206.6,2,   205.4,2,    0.00,2,    0.04,2,    0.21,2,    0.01,2,    0.07,2,-999.000,9,-999.000,9,  2051.3,2,  2368.0,2,     -999.0,9