BOTTLE,20211119CCHSIORKP
EXPOCODE,SECT_ID,STNNBR,CASTNO,SAMPNO,BTLNBR,BTLNBR_FLAG_W,DATE,TIME,LATITUDE,LONGITUDE,DEPTH,CTDPRS,CTDTMP,CTDSAL,CTDSAL_FLAG_W,SALNTY,SALNTY_FLAG_W,CTDOXY,CTDOXY_FLAG_W,OXYGEN,OXYGEN_FLAG_W,SILCAT,SILCAT_FLAG_W,NH4,NH4_FLAG_W,NITRAT,NITRAT_FLAG_W,NITRIT,NITRIT_FLAG_W,PHSPHT,PHSPHT_FLAG_W,CFC-12,CFC-12_FLAG_W,SF6,SF6_FLAG_W,TCARBN,TCARBN_FLAG_W,ALKALI,ALKALI_FLAG_W,SF5CF3,SF5CF3_FLAG_W
,,,,,,,,,,,METERS,DBAR,ITS-90,PSS-78,,PSS-78,,UMOL/KG,,UMOL/KG,,UMOL/KG,,UMOL/KG,,UMOL/KG,,UMOL/KG,,UMOL/KG,,PMOL/KG,,FMOL/KG,,UMOL/KG,,UMOL/KG,,FMOL/KG,
06MT20091026,       A16C,      44,          1,     203820,          1,2,20091115,       1050,     2.0030,   -23.0077,       4520,  4341.1,   2.3567,  34.8851,2,  34.8865,2,    245.8,2,   244.6,2,   44.50,2,    0.01,2,   23.27,2,    0.02,2,    1.52,2,-999.000,9,-999.000,9,  -999.0,9,  -999.0,9,     -999.0,9
06MT20091026,       A16C,      44,          1,     203821,          2,2,20091115,       1104,     2.0030,   -23.0077,       4520,  3648.2,   2.4027,  34.8951,2,-999.0000,9,    245.7,2,   246.8,2,   40.44,2,    0.09,2,   22.89,2,    0.02,2,    1.50,2,-999.000,9,-999.000,9,  -999.0,9,  -999.0,9,     -999.0,9
06MT20091026,       A16C,      44,          1,     203822,          3,2,20091115,       1117,     2.0030,   -23.0077,       4520,  3034.0,   2.6521,  34.9135,2,-999.0000,9,    242.8,2,   244.5,2,   34.63,6,    0.06,6,   22.15,6,    0.02,6,    1.45,6,-999.000,9,-999.000,9,  -999.0,9,  -999.0,9,     -999.0,9
06MT20091026,       A16C,      44,          1,     203823,          4,2,20091115,       1127,     2.0030,   -23.0077,       4520,  2525.7,   2.9891,  34.9351,2,-999.0000,9,    246.0,2,   248.4,2,   27.52,2,    0.01,2,   20.65,2,    0.02,2,    1.41,2,-999.000,9,-999.000,9,  -999.0,9,  -999.0,9,     -999.0,9
06MT20091026,       A16C,      44,          1,     203824,          5,2,20091115,       1137,     2.0030,   -23.0077,       4520,  2018.5,   3.4198,  34.9598,2,  34.9621,2,    248.2,2,   251.8,2,   20.56,2,    0.05,2,   20.29,2,    0.01,2,    1.34,2,   0.100,2,   0.097,2,  -999.0,9,  -999.0,9,       0.00,3
06MT20091026,       A16C,      44,          1,     203825,          6,2,20091115,       1149,     2.0030,   -23.0077,       4520,  1510.9,   4.3515,  34.9536,2,-999.0000,9,    221.7,2,   222.9,2,   17.72,2,    0.02,2,   22.87,2,    0.01,2,    1.45,2,   0.129,2,   0.054,2,  -999.0,9,  -999.0,9,       0.00,3
06MT20091026,       A16C,      44,          1,     203826,          7,2,20091115,       1154,     2.0030,   -23.0077,       4520,  1258.6,   4.5995,  34.8531,2,-999.0000,9,    186.1,2,   186.4,2,   22.47,2,    0.01,2,   27.91,2,    0.01,2,    1.88,2,-999.000,9,-999.000,9,  -999.0,9,  -999.0,9,     -999.0,9
06MT20091026,       A16C,      44,          1,     203827,          8,2,20091115,       1158,     2.0030,   -23.0077,       4520,  1006.4,   4.6437,  34.6471,2,-999.0000,9,    155.4,2,   156.1,2,   28.09,2,     0.1,2,   33.61,2,    0.01,2,    2.26,2,   0.046,2,   0.054,2,  -999.0,9,  -999.0,9,       0.00,3
06MT20091026,       A16C,      44,          1,     203828,          9,2,20091115,       1202,     2.0030,   -23.0077,       4520,   802.4,   4.7600,  34.5388,2,  34.5429,2,    150.8,2,   150.6,2,   28.82,2,    0.02,2,   35.39,2,    0.01,2,    2.33,2,   0.101,2,   0.061,2,  -999.0,9,  -999.0,9,       0.00,3
06MT20091026,       A16C,      44,          1,     203829,         10,2,20091115,       1207,     2.0030,   -23.0077,       4520,   602.3,   6.1530,  34.5469,2,-999.0000,9,    141.4,2,   140.8,2,   22.39,2,     0.1,2,   34.51,2,    0.01,2,    2.27,2,   0.382,2,   0.162,2,  -999.0,9,  -999.0,9,       0.00,3
06MT20091026,       A16C,      44,          1,     203830,         11,2,20091115,       1211,     2.0030,   -23.0077,       4520,   400.0,   7.7497,  34.6781,2,-999.0000,9,    130.8,2,   129.9,2,   16.38,2,    0.02,2,   31.94,2,    0.01,2,    2.06,2,   0.593,2,   0.198,2,  -999.0,9,  -999.0,9,       0.00,3
06MT20091026,       A16C,      44,          1,     203831,         12,2,20091115,       1213,     2.0030,   -23.0077,       4520,   301.2,   9.2097,  34.8483,2,  34.7992,2,    122.5,2,   123.3,2,   14.00,2,    0.06,2,   30.04,2,    0.01,2,    1.93,2,   0.708,2,   0.273,2,  -999.0,9,  -999.0,9,       0.00,3
06MT20091026,       A16C,      44,          1,     203832,         13,2,20091115,       1214,     2.0030,   -23.0077,       4520,   251.0,  12.2533,  35.2007,2,-999.0000,9,     93.2,2,   100.3,2,    9.00,2,       0,2,   26.74,2,    0.01,2,    1.69,2,   0.870,2,   0.389,2,  -999.0,9,  -999.0,9,       0.00,3
06MT20091026,       A16C,      44,          1,     203833,         14,2,20091115,       1215,     2.0030,   -23.0077,       4520,   200.0,  13.9342,  35.4046,2,-999.0000,9,     92.4,2,    90.6,2,    7.42,2,    0.06,2,   23.97,2,    0.01,2,    1.52,2,   0.965,2,   0.423,2,  -999.0,9,  -999.0,9,       0.00,3
06MT20091026,       A16C,      44,          1,      44015,         15,2,20091115,       1215,     2.0030,   -23.0077,       4520,   197.3,  13.9828,  35.4108,2,-999.0000,9,     94.3,2,  -999.0,9, -999.00,9, -999.00,9, -999.00,9, -999.00,9, -999.00,9,-999.000,9,-999.000,9,  -999.0,9,  -999.0,9,     -999.0,9
06MT20091026,       A16C,      44,          1,      44016,         16,2,20091115,       1215,     2.0030,   -23.0077,       4520,   194.2,  14.0514,  35.4234,2,-999.0000,9,     95.3,2,  -999.0,9, -999.00,9, -999.00,9, -999.00,9, -999.00,9, -999.00,9,-999.000,9,-999.000,9,  -999.0,9,  -999.0,9,     -999.0,9
06MT20091026,       A16C,      44,          1,     203834,         17,2,20091115,       1216,     2.0030,   -23.0077,       4520,   150.1,  14.8858,  35.5267,2,-999.0000,9,     90.1,2,    89.7,2,    6.49,2,     0.1,2,   22.08,2,    0.02,2,    1.43,2,   1.040,2,   0.536,2,  -999.0,9,  -999.0,9,       0.00,3
06MT20091026,       A16C,      44,          1,     203835,         18,2,20091115,       1217,     2.0030,   -23.0077,       4520,    99.0,  16.8109,  35.7413,2,-999.0000,9,    101.7,2,    97.8,2,    4.64,2,    0.07,2,   18.38,2,    0.09,2,    1.23,2,   1.143,2,   0.698,2,  -999.0,9,  -999.0,9,       0.00,3
06MT20091026,       A16C,      44,          1,     203836,         19,2,20091115,       1218,     2.0030,   -23.0077,       4520,    80.5,  18.2596,  35.7900,2,-999.0000,9,    124.5,2,   125.1,2,    3.30,2,    0.09,2,   12.40,2,    0.26,2,    0.86,2,   1.141,2,   0.812,2,  -999.0,9,  -999.0,9,       0.00,3
06MT20091026,       A16C,      44,          1,     203837,         20,2,20091115,       1219,     2.0030,   -23.0077,       4520,    59.8,  25.2498,  35.8848,2,-999.0000,9,    193.5,2,   165.6,2,    1.59,2,    0.05,2,    4.05,2,    0.12,2,    0.34,2,   1.056,2,   0.792,2,  -999.0,9,  -999.0,9,       0.00,3
06MT20091026,       A16C,      44,          1,     203838,         21,2,20091115,       1219,     2.0030,   -23.0077,       4520,    39.8,  27.5862,  35.7961,2,-999.0000,9,    201.9,2,   194.7,2,    0.34,2,    0.09,2,    0.50,2,    0.02,2,    0.04,2,   0.982,2,   0.961,2,  -999.0,9,  -999.0,9,       0.00,3
06MT20091026,       A16C,      44,          1,     203839,         22,2,20091115,       1220,     2.0030,   -23.0077,       4520,    19.9,  27.6199,  35.7990,2,  35.7925,2,    202.4,2,   201.2,2,    0.00,2,    0.09,2,    0.00,2,    0.00,2,    0.00,2,   0.934,2,    0.98,2,  -999.0,9,  -999.0,9,       0.00,3
06MT20091026,       A16C,      44,          1,     203840,         23,2,20091115,       1220,     2.0030,   -23.0077,       4520,     9.7,  27.6367,  35.7999,2,-999.0000,9,    202.2,2,   201.1,2,    0.11,6,    0.05,6,    0.04,6,    0.00,6,    0.01,6,   0.965,2,    0.99,2,  -999.0,9,  -999.0,9,       0.00,3
06MT20091026,       A16C,      44,          1,     203841,         24,2,20091115,       1221,     2.0030,   -23.0077,       4520,     4.6,  27.6374,  35.7999,2,-999.0000,9,    202.9,2,   201.4,2,    0.06,2,    0.06,2,    0.21,2,    0.00,2,    0.02,2,-999.000,9,-999.000,9,  -999.0,9,  -999.0,9,     -999.0,9
06MT20091026,       A16C,      45,          1,     203842,          1,2,20091115,       1659,     2.5002,   -23.0002,       4583,  4573.3,   2.2714,  34.8750,2,  34.8752,2,    244.8,2,   244.1,2,   33.50,6,    0.21,6,   16.23,6,    0.01,6,    1.22,6,-999.000,9,-999.000,9,  2208.0,2,  2334.2,2,     -999.0,9
06MT20091026,       A16C,      45,          1,     203843,          2,2,20091115,       1715,     2.5002,   -23.0002,       4583,  3750.3,   2.3846,  34.8932,2,-999.0000,9,    244.3,2,   244.8,2,   29.11,3,    0.17,2,   15.89,3,    0.01,2,    1.20,3,-999.000,9,-999.000,9,  2206.7,2,  2318.8,2,     -999.0,9
06MT20091026,       A16C,      45,          1,     203844,          3,2,20091115,       1729,     2.5002,   -23.0002,       4583,  3036.2,   2.6210,  34.9105,2,  34.9105,2,    243.5,2,   245.8,2,   33.21,2,    0.08,2,   21.04,2,    0.01,2,    1.44,2,-999.000,9,-999.000,9,  -999.0,9,  -999.0,9,     -999.0,9
06MT20091026,       A16C,      45,          1,     203845,          4,2,20091115,       1738,     2.5002,   -23.0002,       4583,  2525.1,   3.0000,  34.9364,2,-999.0000,9,    245.8,2,   249.5,2,   27.56,2,    0.09,2,   21.66,2,    0.01,2,    1.42,2,-999.000,9,-999.000,9,  2194.1,2,  2296.6,2,     -999.0,9
06MT20091026,       A16C,      45,          1,     203846,          5,2,20091115,       1748,     2.5002,   -23.0002,       4583,  2020.4,   3.5151,  34.9639,2,-999.0000,9,    246.0,2,   248.8,2,   19.65,2,    0.14,2,   21.19,2,    0.01,2,    1.38,2,-999.000,9,-999.000,9,  -999.0,9,  -999.0,9,     -999.0,9
06MT20091026,       A16C,      45,          1,     203847,          6,2,20091115,       1800,     2.5002,   -23.0002,       4583,  1511.7,   4.2490,  34.9469,2,-999.0000,9,    218.0,2,   222.0,2,   15.63,2,    0.12,2,   19.78,3,    0.01,2,    1.39,2,-999.000,9,-999.000,9,  2187.8,2,  2299.9,2,     -999.0,9
06MT20091026,       A16C,      45,          1,     203848,          7,2,20091115,       1801,     2.5002,   -23.0002,       4583,  1460.8,   4.3212,  34.9334,2,-999.0000,9,    211.7,2,   213.2,2,   18.28,2,    0.11,2,   24.77,2,    0.01,2,    1.64,2,-999.000,9,-999.000,9,  -999.0,9,  -999.0,9,     -999.0,9
06MT20091026,       A16C,      45,          1,     203849,          8,2,20091115,       1812,     2.5002,   -23.0002,       4583,  1005.7,   4.6081,  34.6284,2,  34.6366,2,    155.4,2,   156.5,2,   28.30,2,    0.14,2,   34.55,2,    0.01,2,    2.29,2,-999.000,9,-999.000,9,  2221.4,2,  2295.3,2,     -999.0,9
06MT20091026,       A16C,      45,          1,     203850,          9,2,20091115,       1817,     2.5002,   -23.0002,       4583,   803.6,   4.9229,  34.5446,2,-999.0000,9,    148.2,2,   148.5,2,   28.00,2,    0.08,2,   36.38,2,    0.02,2,    2.38,2,-999.000,9,-999.000,9,  -999.0,9,  -999.0,9,     -999.0,9
06MT20091026,       A16C,      45,          1,     203851,         10,2,20091115,       1821,     2.5002,   -23.0002,       4583,   603.3,   6.3317,  34.5797,2,-999.0000,9,    135.1,2,   135.5,2,   21.53,2,    0.13,2,   35.58,2,    0.01,2,    2.28,2,-999.000,9,-999.000,9,  2219.1,2,  2283.6,2,     -999.0,9
06MT20091026,       A16C,      45,          1,     203852,         11,2,20091115,       1825,     2.5002,   -23.0002,       4583,   401.4,   7.5477,  34.6531,2,-999.0000,9,    139.6,2,   140.3,2,   16.02,2,    0.08,2,   32.13,2,    0.02,2,    2.05,2,-999.000,9,-999.000,9,  2205.5,2,  2282.3,2,     -999.0,9
06MT20091026,       A16C,      45,          1,     203853,         12,2,20091115,       1830,     2.5002,   -23.0002,       4583,   300.4,  10.2113,  34.9745,2,-999.0000,9,    100.3,2,   102.4,2,   12.20,2,     0.1,2,   30.76,2,    0.01,2,    1.88,2,-999.000,9,-999.000,9,  2214.9,2,  2289.8,2,     -999.0,9
06MT20091026,       A16C,      45,          1,     203854,         13,2,20091115,       1832,     2.5002,   -23.0002,       4583,   251.6,  12.1255,  35.1893,2,-999.0000,9,     88.5,2,    90.9,2,   10.15,2,    0.11,2,   27.86,2,    0.01,2,    1.72,2,-999.000,9,-999.000,9,  2217.3,2,  2293.0,2,     -999.0,9
06MT20091026,       A16C,      45,          1,     203855,         14,2,20091115,       1833,     2.5002,   -23.0002,       4583,   199.3,  14.2267,  35.4420,2,-999.0000,9,     90.5,2,    90.3,2,    6.83,2,    0.09,2,   23.76,2,    0.01,2,    1.49,2,-999.000,9,-999.000,9,  2201.9,2,  2317.2,2,     -999.0,9
06MT20091026,       A16C,      45,          1,      45015,         15,2,20091115,       1833,     2.5002,   -23.0002,       4583,   190.9,  14.4720,  35.4756,2,-999.0000,9,     97.0,2,  -999.0,9, -999.00,9, -999.00,9, -999.00,9, -999.00,9, -999.00,9,-999.000,9,-999.000,9,  -999.0,9,  -999.0,9,     -999.0,9
06MT20091026,       A16C,      45,          1,      45016,         16,2,20091115,       1833,     2.5002,   -23.0002,       4583,   188.0,  14.5129,  35.4849,2,-999.0000,9,     98.9,2,  -999.0,9, -999.00,9, -999.00,9, -999.00,9, -999.00,9, -999.00,9,-999.000,9,-999.000,9,  -999.0,9,  -999.0,9,     -999.0,9
06MT20091026,       A16C,      45,          1,     203856,         17,2,20091115,       1834,     2.5002,   -23.0002,       4583,   148.4,  15.1368,  35.5738,2,-999.0000,9,    116.0,2,   107.3,2,    5.83,2,    0.07,2,   20.64,2,    0.01,2,    1.27,2,-999.000,9,-999.000,9,  2189.4,2,  2325.2,2,     -999.0,9
06MT20091026,       A16C,      45,          1,     203857,         18,2,20091115,       1834,     2.5002,   -23.0002,       4583,    99.3,  16.8930,  35.7624,2,-999.0000,9,    100.6,2,   107.2,2,    5.24,2,    0.08,2,   18.09,2,    0.06,2,    1.14,2,-999.000,9,-999.000,9,  -999.0,9,  -999.0,9,     -999.0,9
06MT20091026,       A16C,      45,          1,     203858,         19,2,20091115,       1835,     2.5002,   -23.0002,       4583,    69.8,  25.2616,  35.8144,2,-999.0000,9,    193.4,2,   195.7,2,    0.44,2,     0.1,2,    0.14,2,    0.01,2,    0.03,2,-999.000,9,-999.000,9,  2041.4,2,  2335.8,2,     -999.0,9
06MT20091026,       A16C,      45,          1,     203859,         20,2,20091115,       1836,     2.5002,   -23.0002,       4583,    58.9,  27.6456,  35.7811,2,-999.0000,9,    201.7,2,   201.9,2,    0.06,2,    0.09,2,    0.00,2,    0.00,2,    0.00,2,-999.000,9,-999.000,9,  2006.7,2,  2326.5,2,     -999.0,9
06MT20091026,       A16C,      45,          1,     203860,         21,2,20091115,       1836,     2.5002,   -23.0002,       4583,    39.4,  27.7130,  35.7832,2,-999.0000,9,    202.1,2,   201.6,2,    0.01,2,     0.1,2,    0.03,2,    0.00,2,    0.00,2,-999.000,9,-999.000,9,  2002.2,2,  2330.1,2,     -999.0,9
06MT20091026,       A16C,      45,          1,     203861,         22,2,20091115,       1837,     2.5002,   -23.0002,       4583,    20.2,  27.7783,  35.7850,2,-999.0000,9,    202.0,2,   202.2,2,    0.00,2,    0.02,2,    0.09,2,    0.00,2,    0.01,2,-999.000,9,-999.000,9,  2002.9,2,  2332.0,2,     -999.0,9
06MT20091026,       A16C,      45,          1,     203862,         23,2,20091115,       1837,     2.5002,   -23.0002,       4583,     8.9,  27.7877,  35.7839,2,-999.0000,9,    202.3,2,   201.6,2,    0.06,2,    0.08,2,    0.13,2,    0.00,2,    0.01,2,-999.000,9,-999.000,9,  -999.0,9,  -999.0,9,     -999.0,9
06MT20091026,       A16C,      45,          1,     203863,         24,2,20091115,       1837,     2.5002,   -23.0002,       4583,     4.4,  27.7837,  35.7835,2,  35.7833,2,    202.5,2,   202.1,2,    0.16,6,    0.03,6,    0.30,6,    0.00,6,    0.02,6,-999.000,9,-999.000,9,  2003.7,2,  2322.6,2,     -999.0,9