BOTTLE,20211119CCHSIORKP
EXPOCODE,SECT_ID,STNNBR,CASTNO,SAMPNO,BTLNBR,BTLNBR_FLAG_W,DATE,TIME,LATITUDE,LONGITUDE,DEPTH,CTDPRS,CTDTMP,CTDSAL,CTDSAL_FLAG_W,SALNTY,SALNTY_FLAG_W,CTDOXY,CTDOXY_FLAG_W,OXYGEN,OXYGEN_FLAG_W,SILCAT,SILCAT_FLAG_W,NH4,NH4_FLAG_W,NITRAT,NITRAT_FLAG_W,NITRIT,NITRIT_FLAG_W,PHSPHT,PHSPHT_FLAG_W,CFC-12,CFC-12_FLAG_W,SF6,SF6_FLAG_W,TCARBN,TCARBN_FLAG_W,ALKALI,ALKALI_FLAG_W,SF5CF3,SF5CF3_FLAG_W
,,,,,,,,,,,METERS,DBAR,ITS-90,PSS-78,,PSS-78,,UMOL/KG,,UMOL/KG,,UMOL/KG,,UMOL/KG,,UMOL/KG,,UMOL/KG,,UMOL/KG,,PMOL/KG,,FMOL/KG,,UMOL/KG,,UMOL/KG,,FMOL/KG,
06MT20091026,       A16C,      33,          1,     203603,          1,2,20091109,       0606,    -4.4998,   -23.0002,       5558,   603.3,   5.5036,  34.5014,2,  34.5044,2,    140.9,2,  -999.0,9, -999.00,9, -999.00,9, -999.00,9, -999.00,9, -999.00,9,-999.000,9,-999.000,9,  -999.0,9,  -999.0,9,     -999.0,9
06MT20091026,       A16C,      33,          1,     203604,          2,2,20091109,       0611,    -4.4998,   -23.0002,       5558,   402.7,   7.7499,  34.6875,2,-999.0000,9,     87.1,2,  -999.0,9, -999.00,9, -999.00,9, -999.00,9, -999.00,9, -999.00,9,-999.000,9,-999.000,9,  -999.0,9,  -999.0,9,     -999.0,9
06MT20091026,       A16C,      33,          1,     203605,          3,2,20091109,       0611,    -4.4998,   -23.0002,       5558,   402.4,   7.7659,  34.6884,2,-999.0000,9,     87.8,2,  -999.0,9, -999.00,9, -999.00,9, -999.00,9, -999.00,9, -999.00,9,-999.000,9,-999.000,9,  -999.0,9,  -999.0,9,     -999.0,9
06MT20091026,       A16C,      33,          1,     203606,          4,2,20091109,       0611,    -4.4998,   -23.0002,       5558,   402.5,   7.7675,  34.6912,2,-999.0000,9,     88.3,2,  -999.0,9, -999.00,9, -999.00,9, -999.00,9, -999.00,9, -999.00,9,-999.000,9,-999.000,9,  -999.0,9,  -999.0,9,     -999.0,9
06MT20091026,       A16C,      33,          1,     203607,          5,2,20091109,       0611,    -4.4998,   -23.0002,       5558,   403.0,   7.7698,  34.6914,2,-999.0000,9,     88.9,2,  -999.0,9, -999.00,9, -999.00,9, -999.00,9, -999.00,9, -999.00,9,-999.000,9,-999.000,9,  -999.0,9,  -999.0,9,     -999.0,9
06MT20091026,       A16C,      33,          1,     203608,          6,2,20091109,       0611,    -4.4998,   -23.0002,       5558,   402.9,   7.7814,  34.6920,2,-999.0000,9,     88.7,2,  -999.0,9, -999.00,9, -999.00,9, -999.00,9, -999.00,9, -999.00,9,-999.000,9,-999.000,9,  -999.0,9,  -999.0,9,     -999.0,9
06MT20091026,       A16C,      33,          1,     203609,          7,2,20091109,       0615,    -4.4998,   -23.0002,       5558,   199.5,  11.4626,  35.0685,2,-999.0000,9,    146.8,2,  -999.0,9, -999.00,9, -999.00,9, -999.00,9, -999.00,9, -999.00,9,-999.000,9,-999.000,9,  -999.0,9,  -999.0,9,     -999.0,9
06MT20091026,       A16C,      33,          1,     203610,          8,2,20091109,       0616,    -4.4998,   -23.0002,       5558,   149.2,  13.3863,  35.3224,2,-999.0000,9,    134.8,2,  -999.0,9, -999.00,9, -999.00,9, -999.00,9, -999.00,9, -999.00,9,-999.000,9,-999.000,9,  -999.0,9,  -999.0,9,     -999.0,9
06MT20091026,       A16C,      33,          1,     203611,          9,2,20091109,       0617,    -4.4998,   -23.0002,       5558,    99.3,  19.1100,  36.0659,2,-999.0000,9,    129.0,2,  -999.0,9, -999.00,9, -999.00,9, -999.00,9, -999.00,9, -999.00,9,-999.000,9,-999.000,9,  -999.0,9,  -999.0,9,     -999.0,9
06MT20091026,       A16C,      33,          1,     203612,         10,2,20091109,       0618,    -4.4998,   -23.0002,       5558,    68.3,  24.7322,  36.1192,2,-999.0000,9,    199.2,2,  -999.0,9, -999.00,9, -999.00,9, -999.00,9, -999.00,9, -999.00,9,-999.000,9,-999.000,9,  -999.0,9,  -999.0,9,     -999.0,9
06MT20091026,       A16C,      33,          1,     203613,         11,2,20091109,       0618,    -4.4998,   -23.0002,       5558,    68.7,  24.8065,  36.1051,2,-999.0000,9,    201.5,2,  -999.0,9, -999.00,9, -999.00,9, -999.00,9, -999.00,9, -999.00,9,-999.000,9,-999.000,9,  -999.0,9,  -999.0,9,     -999.0,9
06MT20091026,       A16C,      33,          1,     203614,         12,2,20091109,       0618,    -4.4998,   -23.0002,       5558,    68.8,  24.8455,  36.0872,2,-999.0000,9,    201.1,2,  -999.0,9, -999.00,9, -999.00,9, -999.00,9, -999.00,9, -999.00,9,-999.000,9,-999.000,9,  -999.0,9,  -999.0,9,     -999.0,9
06MT20091026,       A16C,      33,          1,     203615,         13,2,20091109,       0618,    -4.4998,   -23.0002,       5558,    68.5,  24.8590,  36.0822,2,-999.0000,9,    203.6,2,  -999.0,9, -999.00,9, -999.00,9, -999.00,9, -999.00,9, -999.00,9,-999.000,9,-999.000,9,  -999.0,9,  -999.0,9,     -999.0,9
06MT20091026,       A16C,      33,          1,     203616,         14,2,20091109,       0618,    -4.4998,   -23.0002,       5558,    68.8,  24.8659,  36.0789,2,-999.0000,9,    203.0,2,  -999.0,9, -999.00,9, -999.00,9, -999.00,9, -999.00,9, -999.00,9,-999.000,9,-999.000,9,  -999.0,9,  -999.0,9,     -999.0,9
06MT20091026,       A16C,      33,          1,      33015,         15,2,20091109,       0618,    -4.4998,   -23.0002,       5558,    68.7,  24.8812,  36.0732,2,-999.0000,9,    204.5,2,  -999.0,9, -999.00,9, -999.00,9, -999.00,9, -999.00,9, -999.00,9,-999.000,9,-999.000,9,  -999.0,9,  -999.0,9,     -999.0,9
06MT20091026,       A16C,      33,          1,      33016,         16,2,20091109,       0618,    -4.4998,   -23.0002,       5558,    68.5,  24.8848,  36.0703,2,-999.0000,9,    204.0,2,  -999.0,9, -999.00,9, -999.00,9, -999.00,9, -999.00,9, -999.00,9,-999.000,9,-999.000,9,  -999.0,9,  -999.0,9,     -999.0,9
06MT20091026,       A16C,      33,          1,     203617,         17,2,20091109,       0618,    -4.4998,   -23.0002,       5558,    68.5,  24.9059,  36.0684,2,-999.0000,9,    205.6,2,  -999.0,9, -999.00,9, -999.00,9, -999.00,9, -999.00,9, -999.00,9,-999.000,9,-999.000,9,  -999.0,9,  -999.0,9,     -999.0,9
06MT20091026,       A16C,      33,          1,     203618,         18,2,20091109,       0619,    -4.4998,   -23.0002,       5558,    49.1,  25.5925,  35.9738,2,  35.9844,2,    210.4,2,  -999.0,9, -999.00,9, -999.00,9, -999.00,9, -999.00,9, -999.00,9,-999.000,9,-999.000,9,  -999.0,9,  -999.0,9,     -999.0,9
06MT20091026,       A16C,      33,          1,     203619,         19,2,20091109,       0621,    -4.4998,   -23.0002,       5558,    20.0,  25.6279,  35.9736,2,-999.0000,9,    209.8,2,  -999.0,9, -999.00,9, -999.00,9, -999.00,9, -999.00,9, -999.00,9,-999.000,9,-999.000,9,  -999.0,9,  -999.0,9,     -999.0,9
06MT20091026,       A16C,      33,          1,     203620,         20,2,20091109,       0621,    -4.4998,   -23.0002,       5558,    20.1,  25.6285,  35.9738,2,-999.0000,9,    210.1,2,  -999.0,9, -999.00,9, -999.00,9, -999.00,9, -999.00,9, -999.00,9,-999.000,9,-999.000,9,  -999.0,9,  -999.0,9,     -999.0,9
06MT20091026,       A16C,      33,          1,     203621,         21,2,20091109,       0621,    -4.4998,   -23.0002,       5558,    20.5,  25.6291,  35.9736,2,-999.0000,9,    210.7,2,  -999.0,9, -999.00,9, -999.00,9, -999.00,9, -999.00,9, -999.00,9,-999.000,9,-999.000,9,  -999.0,9,  -999.0,9,     -999.0,9
06MT20091026,       A16C,      33,          1,     203622,         22,2,20091109,       0621,    -4.4998,   -23.0002,       5558,    20.6,  25.6288,  35.9736,2,-999.0000,9,    210.2,2,  -999.0,9, -999.00,9, -999.00,9, -999.00,9, -999.00,9, -999.00,9,-999.000,9,-999.000,9,  -999.0,9,  -999.0,9,     -999.0,9
06MT20091026,       A16C,      33,          1,     203623,         23,2,20091109,       0621,    -4.4998,   -23.0002,       5558,    20.7,  25.6295,  35.9736,2,  35.9733,2,    210.2,2,  -999.0,9, -999.00,9, -999.00,9, -999.00,9, -999.00,9, -999.00,9,-999.000,9,-999.000,9,  -999.0,9,  -999.0,9,     -999.0,9
06MT20091026,       A16C,      33,          1,     203624,         24,2,20091109,       0622,    -4.4998,   -23.0002,       5558,     9.2,  25.6241,  35.9736,2,  35.9736,2,    210.5,2,  -999.0,9, -999.00,9, -999.00,9, -999.00,9, -999.00,9, -999.00,9,-999.000,9,-999.000,9,  -999.0,9,  -999.0,9,     -999.0,9
06MT20091026,       A16C,      34,          1,     203625,          1,2,20091109,       1128,    -4.9998,   -23.0011,       5597,  4563.7,   0.9887,  34.7459,2,  34.7461,2,    232.3,2,   228.4,2,   62.49,2,    0.11,2,   25.91,2,    0.05,2,    1.79,2,-999.000,9,-999.000,9,  2245.6,2,  2361.7,2,     -999.0,9
06MT20091026,       A16C,      34,          1,     203626,          2,2,20091109,       1143,    -4.9998,   -23.0011,       5597,  3749.8,   2.3665,  34.8986,2,-999.0000,9,    260.8,2,   259.5,2,   28.68,2,    0.06,2,   21.21,2,    0.05,2,    1.31,2,-999.000,9,-999.000,9,  2178.3,2,  2325.9,2,     -999.0,9
06MT20091026,       A16C,      34,          1,     203627,          3,2,20091109,       1156,    -4.9998,   -23.0011,       5597,  3033.8,   2.6409,  34.9149,2,  34.9151,2,    252.4,2,   251.0,2,   21.04,3,    0.05,2,   15.94,3,    0.04,2,    1.12,2,   0.040,2,   0.159,3,  -999.0,9,  -999.0,9,       0.00,3
06MT20091026,       A16C,      34,          1,     203628,          4,2,20091109,       1205,    -4.9998,   -23.0011,       5597,  2525.6,   2.8676,  34.9185,2,-999.0000,9,    244.1,2,   243.6,2,   22.52,2,    0.17,2,   18.15,2,    0.04,2,    1.25,2,-999.000,9,-999.000,9,  2182.7,2,  2325.3,2,     -999.0,9
06MT20091026,       A16C,      34,          1,     203629,          5,2,20091109,       1214,    -4.9998,   -23.0011,       5597,  2018.1,   3.4349,  34.9530,2,-999.0000,9,    248.4,2,   247.9,2,   17.84,6,    0.08,6,   20.42,6,    0.04,6,    1.28,6,-999.000,9,-999.000,9,  -999.0,9,  -999.0,9,     -999.0,9
06MT20091026,       A16C,      34,          1,     203630,          6,2,20091109,       1223,    -4.9998,   -23.0011,       5597,  1511.5,   4.2172,  34.9543,2,-999.0000,9,    228.6,2,   227.2,2,   15.02,2,    0.03,2,   24.10,2,    0.03,2,    1.35,2,-999.000,9,-999.000,9,  2176.4,2,  2311.3,2,     -999.0,9
06MT20091026,       A16C,      34,          1,     203631,          7,2,20091109,       1227,    -4.9998,   -23.0011,       5597,  1260.5,   4.3379,  34.8542,2,-999.0000,9,    196.8,2,   196.8,2,   21.11,2,    0.04,2,   29.00,2,    0.02,2,    1.61,2,-999.000,9,-999.000,9,  -999.0,9,  -999.0,9,     -999.0,9
06MT20091026,       A16C,      34,          1,     203632,          8,2,20091109,       1232,    -4.9998,   -23.0011,       5597,   975.3,   4.2322,  34.5391,2,-999.0000,9,    164.0,2,   161.4,2,   28.63,2,    0.06,2,   36.64,2,    0.02,2,    2.24,2,-999.000,9,-999.000,9,  2217.0,2,  2301.1,2,     -999.0,9
06MT20091026,       A16C,      34,          1,     203633,          9,2,20091109,       1235,    -4.9998,   -23.0011,       5597,   803.6,   4.8118,  34.4809,2,  34.4810,2,    150.9,2,   149.0,2,   26.56,2,     0.1,2,   37.97,2,    0.01,2,    2.42,2,-999.000,9,-999.000,9,  -999.0,9,  -999.0,9,     -999.0,9
06MT20091026,       A16C,      34,          1,     203634,         10,2,20091109,       1239,    -4.9998,   -23.0011,       5597,   602.2,   5.8363,  34.5227,2,-999.0000,9,    135.1,2,   133.0,2,   21.06,2,    0.02,2,   37.72,2,    0.01,2,    2.26,2,-999.000,9,-999.000,9,  2217.2,2,  2291.1,2,     -999.0,9
06MT20091026,       A16C,      34,          1,     203635,         11,2,20091109,       1242,    -4.9998,   -23.0011,       5597,   401.0,   7.9207,  34.7042,2,-999.0000,9,     91.8,2,    88.7,2,   15.80,2,       0,2,   37.83,2,    0.01,2,    2.18,2,-999.000,9,-999.000,9,  2227.9,2,  2296.5,2,     -999.0,9
06MT20091026,       A16C,      34,          1,     203636,         12,2,20091109,       1244,    -4.9998,   -23.0011,       5597,   301.3,   9.0882,  34.8168,2,-999.0000,9,     97.4,2,    97.4,2,   12.77,2,    0.08,2,   33.91,2,    0.01,2,    1.91,2,-999.000,9,-999.000,9,  2216.8,2,  2294.6,2,     -999.0,9
06MT20091026,       A16C,      34,          1,     203637,         13,2,20091109,       1245,    -4.9998,   -23.0011,       5597,   250.3,   9.8421,  34.9001,2,-999.0000,9,     93.6,2,    90.5,2,   11.27,2,    0.04,2,   32.05,2,    0.00,2,    1.78,2,-999.000,9,-999.000,9,  2215.8,2,  2298.3,2,     -999.0,9
06MT20091026,       A16C,      34,          1,     203638,         14,2,20091109,       1246,    -4.9998,   -23.0011,       5597,   199.0,  10.7442,  35.0163,2,-999.0000,9,     95.5,2,    94.5,2,    8.74,2,    0.11,2,   26.15,2,    0.00,2,    1.66,2,-999.000,9,-999.000,9,  2209.3,2,  2301.6,2,     -999.0,9
06MT20091026,       A16C,      34,          1,      34015,         15,2,20091109,       1246,    -4.9998,   -23.0011,       5597,   192.2,  10.9414,  35.0392,2,-999.0000,9,     95.8,2,  -999.0,9, -999.00,9, -999.00,9, -999.00,9, -999.00,9, -999.00,9,-999.000,9,-999.000,9,  -999.0,9,  -999.0,9,     -999.0,9
06MT20091026,       A16C,      34,          1,      34016,         16,2,20091109,       1246,    -4.9998,   -23.0011,       5597,   189.5,  11.0308,  35.0598,2,-999.0000,9,     96.4,2,  -999.0,9, -999.00,9, -999.00,9, -999.00,9, -999.00,9, -999.00,9,-999.000,9,-999.000,9,  -999.0,9,  -999.0,9,     -999.0,9
06MT20091026,       A16C,      34,          1,     203639,         17,2,20091109,       1247,    -4.9998,   -23.0011,       5597,   148.9,  12.3470,  35.2099,2,-999.0000,9,    124.8,2,   118.6,2,    5.34,2,     0.1,2,   18.13,2,    0.02,2,    1.23,2,-999.000,9,-999.000,9,  2187.0,2,  2298.0,2,     -999.0,9
06MT20091026,       A16C,      34,          1,     203640,         18,2,20091109,       1248,    -4.9998,   -23.0011,       5597,   100.9,  20.1685,  36.1686,2,-999.0000,9,    154.2,2,   148.8,2,    1.57,6,    0.08,6,    8.02,6,    0.41,6,    0.59,6,-999.000,9,-999.000,9,  2141.8,2,  2358.5,2,     -999.0,9
06MT20091026,       A16C,      34,          1,     203641,         19,2,20091109,       1249,    -4.9998,   -23.0011,       5597,    79.5,  24.4504,  36.0350,2,-999.0000,9,    186.8,2,   183.9,2,    0.28,2,     0.3,2,    1.44,2,    0.44,2,    0.21,2,-999.000,9,-999.000,9,  2084.0,2,  2356.6,2,     -999.0,9
06MT20091026,       A16C,      34,          1,     203642,         20,2,20091109,       1250,    -4.9998,   -23.0011,       5597,    60.0,  25.5558,  35.9920,2,-999.0000,9,    210.8,2,   206.8,2,    0.00,2,    0.17,2,    0.00,2,    0.01,2,    0.04,2,-999.000,9,-999.000,9,  2045.5,2,  2356.8,2,     -999.0,9
06MT20091026,       A16C,      34,          1,     203643,         21,2,20091109,       1250,    -4.9998,   -23.0011,       5597,    39.8,  25.5703,  35.9925,2,-999.0000,9,    210.9,2,   207.1,2,    0.27,2,    0.02,2,    0.07,2,    0.02,2,    0.05,2,-999.000,9,-999.000,9,  2043.9,2,  2355.7,2,     -999.0,9
06MT20091026,       A16C,      34,          1,     203644,         22,2,20091109,       1251,    -4.9998,   -23.0011,       5597,    19.0,  25.5853,  35.9931,2,-999.0000,9,    210.8,2,   207.6,2,    0.15,2,    0.19,2,    0.16,2,    0.02,2,    0.07,2,-999.000,9,-999.000,9,  2044.5,2,  2348.8,2,     -999.0,9
06MT20091026,       A16C,      34,          1,     203645,         23,2,20091109,       1252,    -4.9998,   -23.0011,       5597,    10.8,  25.6854,  35.9945,2,-999.0000,9,    210.9,2,   207.4,2,    0.31,2,    0.22,2,    0.30,2,    0.03,2,    0.06,2,-999.000,9,-999.000,9,  2045.0,2,  2356.5,2,     -999.0,9
06MT20091026,       A16C,      34,          1,     203646,         24,2,20091109,       1252,    -4.9998,   -23.0011,       5597,     5.2,  25.6904,  35.9949,2,  35.9940,2,    211.4,2,   207.4,2,    0.67,2,    0.11,2,    0.54,2,    0.04,2,    0.07,2,-999.000,9,-999.000,9,  2044.0,2,  2356.1,2,     -999.0,9