BOTTLE,20211119CCHSIORKP
EXPOCODE,SECT_ID,STNNBR,CASTNO,SAMPNO,BTLNBR,BTLNBR_FLAG_W,DATE,TIME,LATITUDE,LONGITUDE,DEPTH,CTDPRS,CTDTMP,CTDSAL,CTDSAL_FLAG_W,SALNTY,SALNTY_FLAG_W,CTDOXY,CTDOXY_FLAG_W,OXYGEN,OXYGEN_FLAG_W,SILCAT,SILCAT_FLAG_W,NH4,NH4_FLAG_W,NITRAT,NITRAT_FLAG_W,NITRIT,NITRIT_FLAG_W,PHSPHT,PHSPHT_FLAG_W,CFC-12,CFC-12_FLAG_W,SF6,SF6_FLAG_W,TCARBN,TCARBN_FLAG_W,ALKALI,ALKALI_FLAG_W,SF5CF3,SF5CF3_FLAG_W
,,,,,,,,,,,METERS,DBAR,ITS-90,PSS-78,,PSS-78,,UMOL/KG,,UMOL/KG,,UMOL/KG,,UMOL/KG,,UMOL/KG,,UMOL/KG,,UMOL/KG,,PMOL/KG,,FMOL/KG,,UMOL/KG,,UMOL/KG,,FMOL/KG,
06MT20091026,       A16C,      27,          1,     203471,          1,2,20091107,       1845,    -1.9997,   -23.0002,       4580,  4570.2,   0.9096,  34.7382,2,  34.7371,2,    229.5,2,   225.2,2, -999.00,9,    0.05,2,   31.11,2,    0.03,2,    2.00,2,-999.000,9,-999.000,9,  2252.4,2,  2377.6,2,     -999.0,9
06MT20091026,       A16C,      27,          1,     203472,          2,2,20091107,       1903,    -1.9997,   -23.0002,       4580,  3750.4,   2.4181,  34.9045,2,-999.0000,9,    259.9,2,   259.8,2,   28.60,2,    0.08,2,   21.07,2,    0.03,2,    1.31,2,-999.000,9,-999.000,9,  2179.8,2,  2338.2,2,     -999.0,9
06MT20091026,       A16C,      27,          1,     203473,          3,2,20091107,       1918,    -1.9997,   -23.0002,       4580,  3036.1,   2.6479,  34.9127,2,-999.0000,9,    246.3,2,   247.2,2,   31.55,2,     0.1,2,   22.70,2,    0.03,2,    1.39,2,-999.000,9,-999.000,9,  2187.6,2,  2334.0,2,     -999.0,9
06MT20091026,       A16C,      27,          1,     203474,          4,2,20091107,       1927,    -1.9997,   -23.0002,       4580,  2526.3,   2.9262,  34.9304,2,-999.0000,9,    245.5,2,   247.3,2,   26.13,2,    0.06,2,   22.37,2,    0.03,2,    1.33,2,-999.000,9,-999.000,9,  2181.8,2,  2334.2,2,     -999.0,9
06MT20091026,       A16C,      27,          1,     203475,          5,2,20091107,       1937,    -1.9997,   -23.0002,       4580,  2018.8,   3.4537,  34.9637,2,-999.0000,9,   -999.0,9,   252.4,2,   16.63,6,    0.06,6,   20.69,6,    0.01,6,    1.18,6,   0.119,2,   0.184,4,  2168.9,2,  2326.5,2,       0.00,3
06MT20091026,       A16C,      27,          1,     203476,          6,2,20091107,       1947,    -1.9997,   -23.0002,       4580,  1511.4,   4.2419,  34.9774,2,-999.0000,9,   -999.0,9,   225.9,2,   15.47,2,    0.02,2,   23.68,2,    0.02,2,    1.47,2,-999.000,9,-999.000,9,  2179.0,2,  2321.7,2,     -999.0,9
06MT20091026,       A16C,      27,          1,     203477,          7,2,20091107,       1952,    -1.9997,   -23.0002,       4580,  1259.9,   4.5601,  34.8721,2,  34.8701,2,    193.4,2,   192.7,2,   19.78,2,    0.06,2,   28.60,2,    0.02,2,    1.75,2,-999.000,9,-999.000,9,  2197.4,2,  2319.0,2,     -999.0,9
06MT20091026,       A16C,      27,          1,     203478,          8,2,20091107,       1957,    -1.9997,   -23.0002,       4580,  1006.7,   4.3682,  34.6011,2,-999.0000,9,    164.7,2,   162.9,2,   27.40,2,    0.06,2,   35.36,2,    0.02,2,    2.02,2,   0.084,2,   0.234,4,  2218.6,2,  2313.6,2,       0.00,3
06MT20091026,       A16C,      27,          1,     203479,          9,2,20091107,       2000,    -1.9997,   -23.0002,       4580,   804.5,   4.6861,  34.5078,2,-999.0000,9,    158.2,2,   157.5,2,   27.15,2,    0.06,2,   36.88,2,    0.02,2,    2.25,2,   0.176,2,   0.331,4,  2217.8,2,  2306.5,2,       0.00,3
06MT20091026,       A16C,      27,          1,     203480,         10,2,20091107,       2004,    -1.9997,   -23.0002,       4580,   602.8,   6.2609,  34.5586,2,-999.0000,9,    143.5,2,   141.2,2,   19.12,2,    0.09,2,   35.80,2,    0.02,2,    2.13,2,   0.411,2,   0.297,4,  2212.8,2,  2300.8,2,       0.00,3
06MT20091026,       A16C,      27,          1,     203481,         11,2,20091107,       2008,    -1.9997,   -23.0002,       4580,   401.9,   7.5409,  34.6454,2,-999.0000,9,    143.1,2,   136.3,2,   15.46,2,    0.14,2,   32.61,2,    0.02,2,    2.00,2,   0.713,3,   0.391,4,  2201.4,3,  2301.7,2,       0.00,3
06MT20091026,       A16C,      27,          1,     203482,         12,2,20091107,       2010,    -1.9997,   -23.0002,       4580,   300.9,  10.2827,  34.9570,2,  34.9446,2,     78.1,2,    78.1,2,   11.40,2,    0.03,2,   33.41,2,    0.02,2,    1.96,2,   0.638,2,   0.457,4,  2223.8,2,  2306.6,2,       0.00,3
06MT20091026,       A16C,      27,          1,     203483,         13,2,20091107,       2011,    -1.9997,   -23.0002,       4580,   250.3,  11.6217,  35.1109,2,-999.0000,9,     88.9,2,    88.7,2,    9.55,2,    0.03,2,   29.13,2,    0.02,2,    1.75,2,   0.793,2,   0.445,4,  2210.6,2,  2317.0,2,       0.00,3
06MT20091026,       A16C,      27,          1,     203484,         14,2,20091107,       2012,    -1.9997,   -23.0002,       4580,   199.6,  12.7909,  35.2603,2,-999.0000,9,     91.0,2,    91.2,2,    7.92,2,    0.02,2,   27.01,2,    0.02,2,    1.64,2,-999.000,9,-999.000,9,  2205.9,2,  2321.3,2,     -999.0,9
06MT20091026,       A16C,      27,          1,      27015,         15,2,20091107,       2012,    -1.9997,   -23.0002,       4580,   195.0,  13.0232,  35.2973,2,-999.0000,9,     86.6,2,  -999.0,9, -999.00,9, -999.00,9, -999.00,9, -999.00,9, -999.00,9,-999.000,9,-999.000,9,  -999.0,9,  -999.0,9,     -999.0,9
06MT20091026,       A16C,      27,          1,      27016,         16,2,20091107,       2012,    -1.9997,   -23.0002,       4580,   193.4,  13.0148,  35.2835,2,-999.0000,9,     85.8,2,  -999.0,9, -999.00,9, -999.00,9, -999.00,9, -999.00,9, -999.00,9,-999.000,9,-999.000,9,  -999.0,9,  -999.0,9,     -999.0,9
06MT20091026,       A16C,      27,          1,     203485,         17,2,20091107,       2013,    -1.9997,   -23.0002,       4580,   149.4,  13.7032,  35.3810,2,-999.0000,9,     92.7,2,    91.2,2,    7.01,2,    0.07,2,   25.25,2,    0.02,2,    1.55,2,   1.009,2,   0.748,4,  2203.4,2,  2321.0,2,       0.00,3
06MT20091026,       A16C,      27,          1,     203486,         18,2,20091107,       2014,    -1.9997,   -23.0002,       4580,   100.1,  14.8427,  35.5265,2,  35.5042,2,     93.1,2,    93.9,2,    5.25,2,    0.04,2,   22.27,2,    0.06,2,    1.37,2,   1.066,2,   1.285,4,  2196.8,2,  2334.1,2,       0.00,3
06MT20091026,       A16C,      27,          1,     203487,         19,2,20091107,       2014,    -1.9997,   -23.0002,       4580,    81.2,  15.8439,  35.6097,2,-999.0000,9,    101.9,2,   104.4,2,    5.04,6,    0.02,6,   19.13,6,    0.21,6,    1.17,6,-999.000,9,-999.000,9,  2186.3,2,  2339.5,2,     -999.0,9
06MT20091026,       A16C,      27,          1,     203488,         20,2,20091107,       2015,    -1.9997,   -23.0002,       4580,    66.8,  22.5699,  36.1112,2,-999.0000,9,    174.5,2,   152.6,2,    2.13,2,    0.05,2,    8.27,2,    0.21,2,    0.60,2,   1.103,2,   1.334,4,  2135.9,2,  2361.1,2,       0.00,3
06MT20091026,       A16C,      27,          1,     203489,         21,2,20091107,       2016,    -1.9997,   -23.0002,       4580,    41.2,  26.2419,  36.2045,2,-999.0000,9,   -999.0,9,   202.2,2,    0.01,2,    0.01,2,    0.00,2,    0.00,2,    0.04,2,   0.945,2,   1.405,4,  2054.8,2,  2376.9,2,       0.00,3
06MT20091026,       A16C,      27,          1,     203490,         22,2,20091107,       2016,    -1.9997,   -23.0002,       4580,    20.8,  26.2743,  36.2103,2,-999.0000,9,   -999.0,9,   203.4,2,    0.04,2,    0.02,2,    0.06,2,    0.00,2,    0.04,2,   1.009,2,   1.999,4,  2053.6,2,  2379.6,2,       0.00,3
06MT20091026,       A16C,      27,          1,     203491,         23,2,20091107,       2017,    -1.9997,   -23.0002,       4580,    14.5,  26.3445,  36.2168,2,-999.0000,9,   -999.0,9,   203.1,2,    0.00,2,       0,2,    0.09,2,    0.00,2,    0.04,2,   1.035,2,    2.44,4,  2055.1,2,  2379.3,2,       0.00,3
06MT20091026,       A16C,      27,          1,     203492,         24,2,20091107,       2017,    -1.9997,   -23.0002,       4580,     4.6,  26.4657,  36.2286,2,  36.2223,2,   -999.0,9,   203.2,2,    0.09,2,    0.02,2,    0.20,2,    0.00,2,    0.04,2,-999.000,9,-999.000,9,  2055.4,2,  2378.0,2,     -999.0,9
06MT20091026,       A16C,      28,          1,     203493,          1,2,20091108,       0209,    -2.4998,   -23.0001,       4680,  4571.2,   0.9333,  34.7406,2,-999.0000,9,    229.0,2,   228.2,2,   68.31,2,    0.06,2,   29.97,2,    0.02,2,    2.00,2,-999.000,9,-999.000,9,  -999.0,9,  -999.0,9,     -999.0,9
06MT20091026,       A16C,      28,          1,     203494,          2,2,20091108,       0226,    -2.4998,   -23.0001,       4680,  3800.4,   2.3958,  34.9026,2,  34.9042,2,    260.4,2,   259.8,2,   27.21,2,    0.05,2,   20.75,2,    0.01,2,    1.31,2,-999.000,9,-999.000,9,  -999.0,9,  -999.0,9,     -999.0,9
06MT20091026,       A16C,      28,          1,     203495,          3,2,20091108,       0242,    -2.4998,   -23.0001,       4680,  3035.1,   2.6562,  34.9105,2,  34.9116,2,    244.6,2,   244.3,2,   31.99,2,    0.11,2,   22.41,2,    0.01,2,    1.41,2,-999.000,9,-999.000,9,  -999.0,9,  -999.0,9,     -999.0,9
06MT20091026,       A16C,      28,          1,     203496,          4,2,20091108,       0252,    -2.4998,   -23.0001,       4680,  2527.2,   2.9577,  34.9299,2,  34.9307,2,    244.8,2,   245.4,2,   24.35,6,    0.05,6,   19.61,6,    0.01,6,    1.29,6,-999.000,9,-999.000,9,  -999.0,9,  -999.0,9,     -999.0,9
06MT20091026,       A16C,      28,          1,     203497,          5,2,20091108,       0303,    -2.4998,   -23.0001,       4680,  2017.9,   3.4725,  34.9610,2,  34.9673,2,   -999.0,9,   251.9,2,   17.00,2,    0.08,2,   19.98,2,    0.01,2,    1.29,2,   0.196,2,   0.734,4,  -999.0,9,  -999.0,9,       0.00,3
06MT20091026,       A16C,      28,          1,     203498,          6,2,20091108,       0315,    -2.4998,   -23.0001,       4680,  1511.0,   4.2493,  34.9698,2,-999.0000,9,   -999.0,9,   225.9,2,   14.37,2,    0.05,2,   21.41,2,    0.01,2,    1.40,2,   0.226,2,   0.734,4,  -999.0,9,  -999.0,9,       0.00,3
06MT20091026,       A16C,      28,          1,     203499,          7,2,20091108,       0320,    -2.4998,   -23.0001,       4680,  1260.5,   4.5661,  34.8653,2,-999.0000,9,   -999.0,9,   189.3,2,   17.23,2,    0.11,2,   23.34,2,    0.01,2,    1.64,2,-999.000,9,-999.000,9,  -999.0,9,  -999.0,9,     -999.0,9
06MT20091026,       A16C,      28,          1,     203500,          8,2,20091108,       0326,    -2.4998,   -23.0001,       4680,  1006.7,   4.3472,  34.5867,2,-999.0000,9,    162.1,2,   161.4,2,   22.62,2,    0.14,2,   28.58,2,    0.01,2,    2.00,2,   0.075,2,   0.351,4,  -999.0,9,  -999.0,9,       0.00,3
06MT20091026,       A16C,      28,          1,     203501,          9,2,20091108,       0332,    -2.4998,   -23.0001,       4680,   805.7,   4.6085,  34.4937,2,  34.4951,2,    157.6,2,   157.5,2,   23.28,2,     0.1,2,   31.42,2,    0.01,2,    2.14,2,   0.162,2,   0.292,4,  -999.0,9,  -999.0,9,       0.00,3
06MT20091026,       A16C,      28,          1,     203502,         10,3,20091108,       0336,    -2.4998,   -23.0001,       4680,   604.1,   5.5343,  34.4726,2,-999.0000,9,    165.2,2,   165.8,2,   15.72,3,    0.17,2,   25.46,3,    0.01,2,    1.85,3,-999.000,9,-999.000,9,  -999.0,9,  -999.0,9,     -999.0,9
06MT20091026,       A16C,      28,          1,     203503,         11,2,20091108,       0341,    -2.4998,   -23.0001,       4680,   401.3,   7.7965,  34.6666,2,-999.0000,9,    136.1,2,   136.8,2,   14.53,2,    0.12,2,   31.71,2,    0.00,2,    1.95,2,   0.796,3,   1.545,4,  -999.0,9,  -999.0,9,       0.00,3
06MT20091026,       A16C,      28,          1,     203504,         12,2,20091108,       0343,    -2.4998,   -23.0001,       4680,   302.4,  10.6788,  35.0046,2,-999.0000,9,     85.9,2,    83.0,2,   10.64,2,    0.07,2,   31.35,2,    0.01,2,    1.92,2,   0.674,2,   0.797,4,  -999.0,9,  -999.0,9,       0.00,3
06MT20091026,       A16C,      28,          1,     203505,         13,2,20091108,       0345,    -2.4998,   -23.0001,       4680,   251.5,  11.5974,  35.1031,2,-999.0000,9,     88.0,2,    89.7,2,    7.31,2,    0.14,2,   23.19,2,    0.01,2,    1.50,2,   0.884,2,   0.947,4,  -999.0,9,  -999.0,9,       0.00,3
06MT20091026,       A16C,      28,          1,     203506,         14,2,20091108,       0346,    -2.4998,   -23.0001,       4680,   200.8,  12.6965,  35.2465,2,-999.0000,9,     82.2,2,    82.9,2,    7.45,2,     0.1,2,   25.05,2,    0.01,2,    1.58,2,   0.931,2,   1.049,4,  -999.0,9,  -999.0,9,       0.00,3
06MT20091026,       A16C,      28,          1,      28015,         15,2,20091108,       0346,    -2.4998,   -23.0001,       4680,   197.7,  12.7566,  35.2598,2,-999.0000,9,     82.0,2,  -999.0,9, -999.00,9, -999.00,9, -999.00,9, -999.00,9, -999.00,9,-999.000,9,-999.000,9,  -999.0,9,  -999.0,9,     -999.0,9
06MT20091026,       A16C,      28,          1,      28016,         16,2,20091108,       0346,    -2.4998,   -23.0001,       4680,   195.9,  12.7843,  35.2605,2,-999.0000,9,     81.8,2,  -999.0,9, -999.00,9, -999.00,9, -999.00,9, -999.00,9, -999.00,9,-999.000,9,-999.000,9,  -999.0,9,  -999.0,9,     -999.0,9
06MT20091026,       A16C,      28,          1,     203507,         17,2,20091108,       0347,    -2.4998,   -23.0001,       4680,   149.4,  13.7018,  35.3793,2,-999.0000,9,     89.5,2,    89.8,2,    6.15,2,       0,2,   22.62,2,    0.00,2,    1.46,2,-999.000,9,-999.000,9,  -999.0,9,  -999.0,9,     -999.0,9
06MT20091026,       A16C,      28,          1,     203508,         18,2,20091108,       0349,    -2.4998,   -23.0001,       4680,   100.4,  14.5050,  35.4926,2,-999.0000,9,     89.9,2,    93.4,2,    6.03,2,    0.14,2,   22.33,2,    0.02,2,    1.39,2,   1.096,2,   1.049,4,  -999.0,9,  -999.0,9,       0.00,3
06MT20091026,       A16C,      28,          1,     203509,         19,2,20091108,       0350,    -2.4998,   -23.0001,       4680,    80.9,  15.0368,  35.5456,2,-999.0000,9,     91.2,2,    93.1,2,    6.64,2,    0.14,2,   24.45,2,    0.09,2,    1.41,2,-999.000,9,-999.000,9,  -999.0,9,  -999.0,9,     -999.0,9
06MT20091026,       A16C,      28,          1,     203510,         20,2,20091108,       0350,    -2.4998,   -23.0001,       4680,    65.6,  20.8841,  36.0500,2,-999.0000,9,    169.6,2,   146.9,2,    2.34,2,    0.16,2,    8.28,2,    0.09,2,    0.62,2,   1.061,2,   0.931,4,  -999.0,9,  -999.0,9,       0.00,3
06MT20091026,       A16C,      28,          1,     203511,         21,2,20091108,       0351,    -2.4998,   -23.0001,       4680,    40.8,  26.3548,  36.3000,2,-999.0000,9,   -999.0,9,   195.9,2,    0.35,6,    0.15,6,    0.16,6,    0.02,6,    0.13,6,-999.000,9,-999.000,9,  -999.0,9,  -999.0,9,     -999.0,9
06MT20091026,       A16C,      28,          1,     203512,         22,2,20091108,       0352,    -2.4998,   -23.0001,       4680,    20.4,  26.3909,  36.2999,2,-999.0000,9,   -999.0,9,   204.4,2, -999.00,9, -999.00,9, -999.00,9, -999.00,9, -999.00,9,   0.943,2,    1.38,4,  -999.0,9,  -999.0,9,       0.00,3
06MT20091026,       A16C,      28,          1,     203513,         23,2,20091108,       0353,    -2.4998,   -23.0001,       4680,     9.8,  26.4000,  36.3014,2,-999.0000,9,   -999.0,9,   207.0,2,    0.43,2,     0.1,2,    0.05,2,    0.00,2,    0.04,2,   1.004,2,   1.775,4,  -999.0,9,  -999.0,9,       0.00,3
06MT20091026,       A16C,      28,          1,     203514,         24,2,20091108,       0353,    -2.4998,   -23.0001,       4680,     5.6,  26.4014,  36.3017,2,  36.3012,2,   -999.0,9,   204.4,2,    0.34,2,    0.06,2,    0.25,2,    0.00,2,    0.05,2,-999.000,9,-999.000,9,  -999.0,9,  -999.0,9,     -999.0,9