BOTTLE,20211119CCHSIORKP
EXPOCODE,SECT_ID,STNNBR,CASTNO,SAMPNO,BTLNBR,BTLNBR_FLAG_W,DATE,TIME,LATITUDE,LONGITUDE,DEPTH,CTDPRS,CTDTMP,CTDSAL,CTDSAL_FLAG_W,SALNTY,SALNTY_FLAG_W,CTDOXY,CTDOXY_FLAG_W,OXYGEN,OXYGEN_FLAG_W,SILCAT,SILCAT_FLAG_W,NH4,NH4_FLAG_W,NITRAT,NITRAT_FLAG_W,NITRIT,NITRIT_FLAG_W,PHSPHT,PHSPHT_FLAG_W,CFC-12,CFC-12_FLAG_W,SF6,SF6_FLAG_W,TCARBN,TCARBN_FLAG_W,ALKALI,ALKALI_FLAG_W,SF5CF3,SF5CF3_FLAG_W
,,,,,,,,,,,METERS,DBAR,ITS-90,PSS-78,,PSS-78,,UMOL/KG,,UMOL/KG,,UMOL/KG,,UMOL/KG,,UMOL/KG,,UMOL/KG,,UMOL/KG,,PMOL/KG,,FMOL/KG,,UMOL/KG,,UMOL/KG,,FMOL/KG,
06MT20091026,       A16C,      73,          1,     204370,          1,2,20091120,       1937,    11.9999,   -23.0003,       4990,  1311.6,   4.9886,  34.9419,2,  34.9455,2,    166.3,2,   166.8,2,   21.70,2,    0.09,2,   30.14,2,    0.02,2,    1.91,2,-999.000,9,-999.000,9,  2215.7,2,  2305.1,2,     -999.0,9
06MT20091026,       A16C,      73,          1,     204371,          2,2,20091120,       1940,    11.9999,   -23.0003,       4990,  1208.2,   5.1766,  34.9010,2,-999.0000,9,    152.5,2,   152.0,2, -999.00,9, -999.00,9, -999.00,9, -999.00,9, -999.00,9,-999.000,9,-999.000,9,  -999.0,9,  -999.0,9,     -999.0,9
06MT20091026,       A16C,      73,          1,     204372,          3,2,20091120,       1942,    11.9999,   -23.0003,       4990,  1106.9,   5.4425,  34.8611,2,-999.0000,9,    135.1,2,   135.2,2,   23.26,2,     0.1,2,   34.35,2,    0.02,2,    2.22,2,-999.000,9,-999.000,9,  2235.2,2,  2316.3,2,     -999.0,9
06MT20091026,       A16C,      73,          1,     204373,          4,2,20091120,       1943,    11.9999,   -23.0003,       4990,  1007.8,   5.6805,  34.8179,2,  34.8183,2,    120.5,2,   120.0,2, -999.00,9, -999.00,9, -999.00,9, -999.00,9, -999.00,9,   0.018,2,       0,4,  -999.0,9,  -999.0,9,       0.00,3
06MT20091026,       A16C,      73,          1,     204374,          5,2,20091120,       1946,    11.9999,   -23.0003,       4990,   904.7,   6.1213,  34.8012,2,-999.0000,9,    102.9,2,   101.7,2,   23.15,2,    0.12,2,   38.32,2,    0.01,2,    2.44,2,-999.000,9,-999.000,9,  2251.0,2,  2311.8,2,     -999.0,9
06MT20091026,       A16C,      73,          1,     204375,          6,2,20091120,       1947,    11.9999,   -23.0003,       4990,   803.5,   6.8223,  34.8347,2,-999.0000,9,     84.9,2,    84.4,2, -999.00,9, -999.00,9, -999.00,9, -999.00,9, -999.00,9,-999.000,9,-999.000,9,  -999.0,9,  -999.0,9,     -999.0,9
06MT20091026,       A16C,      73,          1,     204376,          7,2,20091120,       1949,    11.9999,   -23.0003,       4990,   703.7,   7.2194,  34.8370,2,-999.0000,9,     71.6,2,    71.5,2,   20.49,2,    0.14,2,   40.27,2,    0.01,2,    2.44,2,-999.000,9,-999.000,9,  2256.1,2,  2297.5,2,     -999.0,9
06MT20091026,       A16C,      73,          1,     204377,          8,2,20091120,       1951,    11.9999,   -23.0003,       4990,   602.9,   7.9084,  34.8731,2,-999.0000,9,     59.4,2,    58.6,2, -999.00,9, -999.00,9, -999.00,9, -999.00,9, -999.00,9,-999.000,9,-999.000,9,  -999.0,9,  -999.0,9,     -999.0,9
06MT20091026,       A16C,      73,          1,     204378,          9,2,20091120,       1953,    11.9999,   -23.0003,       4990,   502.2,   9.3976,  35.0921,2,-999.0000,9,     47.0,2,    46.6,2,   15.46,2,    0.09,2,   38.57,2,    0.02,2,    2.13,2,   0.349,2,   1.467,4,  2254.2,2,  2308.9,2,       0.00,3
06MT20091026,       A16C,      73,          1,     204379,         10,2,20091120,       1955,    11.9999,   -23.0003,       4990,   400.9,  10.9466,  35.2496,2,-999.0000,9,     39.8,2,    40.4,2,   12.15,2,    0.09,2,   36.25,2,    0.02,2,    1.98,2,   0.555,2,   1.864,4,  2255.4,2,  2303.0,2,       0.00,3
06MT20091026,       A16C,      73,          1,     204380,         11,2,20091120,       1956,    11.9999,   -23.0003,       4990,   350.8,  11.4703,  35.2815,2,  35.2786,2,     44.7,2,    45.5,2, -999.00,9, -999.00,9, -999.00,9, -999.00,9, -999.00,9,   0.642,2,    1.48,4,  -999.0,9,  -999.0,9,       0.07,3
06MT20091026,       A16C,      73,          1,     204381,         12,2,20091120,       1957,    11.9999,   -23.0003,       4990,   302.4,  11.5270,  35.1892,2,-999.0000,9,     73.4,2,    74.0,2,    9.94,2,     0.1,2,   30.44,2,    0.02,2,    1.78,2,   0.791,2,   1.684,4,  2225.0,2,  2313.2,2,       0.20,3
06MT20091026,       A16C,      73,          1,     204382,         13,2,20091120,       1958,    11.9999,   -23.0003,       4990,   249.4,  12.2793,  35.2950,2,-999.0000,9,     75.1,2,    76.2,2,    8.88,2,    0.11,2,   28.84,2,    0.01,2,    1.71,2,   0.838,2,   1.256,4,  2221.0,2,  2315.8,2,       0.02,3
06MT20091026,       A16C,      73,          1,     204383,         14,2,20091120,       1959,    11.9999,   -23.0003,       4990,   199.9,  12.5133,  35.2464,2,-999.0000,9,    100.8,2,    95.9,2,    8.14,2,     0.1,2,   25.93,2,    0.01,2,    1.58,2,   0.927,2,   1.663,4,  -999.0,9,  -999.0,9,       0.00,3
06MT20091026,       A16C,      73,          1,      73015,         15,2,20091120,       1959,    11.9999,   -23.0003,       4990,   195.2,  12.5759,  35.2533,2,-999.0000,9,    107.4,2,  -999.0,9, -999.00,9, -999.00,9, -999.00,9, -999.00,9, -999.00,9,-999.000,9,-999.000,9,  -999.0,9,  -999.0,9,     -999.0,9
06MT20091026,       A16C,      73,          1,      73016,         16,2,20091120,       1959,    11.9999,   -23.0003,       4990,   193.3,  12.5778,  35.2544,2,-999.0000,9,    105.8,2,  -999.0,9, -999.00,9, -999.00,9, -999.00,9, -999.00,9, -999.00,9,-999.000,9,-999.000,9,  -999.0,9,  -999.0,9,     -999.0,9
06MT20091026,       A16C,      73,          1,     204384,         17,2,20091120,       2000,    11.9999,   -23.0003,       4990,   150.0,  13.2490,  35.3348,2,-999.0000,9,     99.6,2,    98.3,2,    7.50,2,     0.1,2,   24.77,2,    0.01,2,    1.50,2,   0.980,2,    1.78,4,  2205.7,2,  2309.9,2,       0.00,3
06MT20091026,       A16C,      73,          1,     204385,         18,2,20091120,       2000,    11.9999,   -23.0003,       4990,   118.5,  13.9687,  35.4172,2,-999.0000,9,     80.6,2,    87.0,2,    7.35,2,    0.09,2,   25.15,2,    0.01,2,    1.54,2,   1.001,2,   1.015,4,  2207.6,2,  2319.3,2,       0.00,3
06MT20091026,       A16C,      73,          1,     204386,         19,2,20091120,       2003,    11.9999,   -23.0003,       4990,    80.9,  15.3196,  35.5593,2,-999.0000,9,     66.7,2,    68.2,2,    6.06,2,    0.14,2,   24.42,2,    0.04,2,    1.49,2,   1.015,2,   1.152,4,  2213.7,2,  2330.3,2,       0.00,3
06MT20091026,       A16C,      73,          1,     204387,         20,2,20091120,       2004,    11.9999,   -23.0003,       4990,    60.2,  16.6174,  35.6646,2,-999.0000,9,     78.9,2,    81.4,2,    4.45,2,    0.12,2,   19.76,2,    0.35,2,    1.21,2,   1.047,2,   0.899,4,  2209.2,2,  2330.2,2,       0.00,3
06MT20091026,       A16C,      73,          1,     204388,         21,2,20091120,       2004,    11.9999,   -23.0003,       4990,    40.0,  21.4892,  35.8497,2,-999.0000,9,    196.5,2,   198.5,2,    1.40,6,    0.05,6,    0.04,6,    0.01,6,    0.06,6,-999.000,9,-999.000,9,  -999.0,9,  -999.0,9,     -999.0,9
06MT20091026,       A16C,      73,          1,     204389,         22,2,20091120,       2005,    11.9999,   -23.0003,       4990,    19.2,  27.6841,  35.4189,2,-999.0000,9,    208.0,2,   204.5,2,    0.04,2,    0.08,2,    0.00,2,    0.00,2,    0.00,2,   0.811,3,   0.785,4,  1992.4,2,  2315.8,2,       0.00,3
06MT20091026,       A16C,      73,          1,     204390,         23,2,20091120,       2005,    11.9999,   -23.0003,       4990,     8.8,  27.8371,  35.3720,2,-999.0000,9,    200.9,2,   201.2,2,    0.00,2,    0.12,2,    0.13,2,    0.00,2,    0.01,2,-999.000,9,-999.000,9,  1992.1,2,  2301.4,2,     -999.0,9
06MT20091026,       A16C,      73,          1,     204391,         24,2,20091120,       2006,    11.9999,   -23.0003,       4990,     4.7,  27.8372,  35.3735,2,-999.0000,9,    201.1,2,   201.1,2,    0.05,2,    0.17,2,    0.35,2,    0.01,2,    0.03,2,   0.959,2,   2.063,4,  1983.8,2,  2315.7,2,       0.00,3
06MT20091026,       A16C,      74,          1,     204392,          1,2,20091120,       2348,    12.4992,   -22.9995,       4811,  1310.3,   4.9829,  34.9563,2,  34.9539,2,    170.4,2,   169.5,2, -999.00,9, -999.00,9, -999.00,9, -999.00,9, -999.00,9,-999.000,9,-999.000,9,  -999.0,9,  -999.0,9,     -999.0,9
06MT20091026,       A16C,      74,          1,     204393,          2,2,20091120,       2350,    12.4992,   -22.9995,       4811,  1208.6,   5.1761,  34.9208,2,-999.0000,9,    160.0,2,  -999.0,9, -999.00,9, -999.00,9, -999.00,9, -999.00,9, -999.00,9,-999.000,9,-999.000,9,  -999.0,9,  -999.0,9,     -999.0,9
06MT20091026,       A16C,      74,          1,     204394,          3,2,20091120,       2353,    12.4992,   -22.9995,       4811,  1106.2,   5.4736,  34.8615,2,-999.0000,9,    137.6,2,  -999.0,9, -999.00,9, -999.00,9, -999.00,9, -999.00,9, -999.00,9,-999.000,9,-999.000,9,  -999.0,9,  -999.0,9,     -999.0,9
06MT20091026,       A16C,      74,          1,     204395,          4,2,20091120,       2354,    12.4992,   -22.9995,       4811,  1006.6,   5.8878,  34.8433,2,-999.0000,9,    119.0,2,  -999.0,9, -999.00,9, -999.00,9, -999.00,9, -999.00,9, -999.00,9,-999.000,9,-999.000,9,  -999.0,9,  -999.0,9,     -999.0,9
06MT20091026,       A16C,      74,          1,     204396,          5,2,20091120,       2357,    12.4992,   -22.9995,       4811,   905.2,   6.2627,  34.8121,2,-999.0000,9,     99.8,2,  -999.0,9, -999.00,9, -999.00,9, -999.00,9, -999.00,9, -999.00,9,-999.000,9,-999.000,9,  -999.0,9,  -999.0,9,     -999.0,9
06MT20091026,       A16C,      74,          1,     204397,          6,2,20091120,       2359,    12.4992,   -22.9995,       4811,   804.1,   6.8018,  34.8233,2,  34.8212,2,     85.0,2,  -999.0,9, -999.00,9, -999.00,9, -999.00,9, -999.00,9, -999.00,9,-999.000,9,-999.000,9,  -999.0,9,  -999.0,9,     -999.0,9
06MT20091026,       A16C,      74,          1,     204398,          7,2,20091120,       0000,    12.4992,   -22.9995,       4811,   703.7,   7.5860,  34.8682,2,-999.0000,9,     67.1,2,  -999.0,9, -999.00,9, -999.00,9, -999.00,9, -999.00,9, -999.00,9,-999.000,9,-999.000,9,  -999.0,9,  -999.0,9,     -999.0,9
06MT20091026,       A16C,      74,          1,     204399,          8,2,20091120,       0003,    12.4992,   -22.9995,       4811,   605.1,   8.5760,  34.9732,2,-999.0000,9,     52.0,2,  -999.0,9, -999.00,9, -999.00,9, -999.00,9, -999.00,9, -999.00,9,-999.000,9,-999.000,9,  -999.0,9,  -999.0,9,     -999.0,9
06MT20091026,       A16C,      74,          1,     204400,          9,2,20091120,       0005,    12.4992,   -22.9995,       4811,   502.2,   9.6738,  35.0871,2,-999.0000,9,     44.2,2,  -999.0,9, -999.00,9, -999.00,9, -999.00,9, -999.00,9, -999.00,9,-999.000,9,-999.000,9,  -999.0,9,  -999.0,9,     -999.0,9
06MT20091026,       A16C,      74,          1,     204401,         10,2,20091120,       0006,    12.4992,   -22.9995,       4811,   401.8,  10.6042,  35.1537,2,-999.0000,9,     40.8,2,  -999.0,9, -999.00,9, -999.00,9, -999.00,9, -999.00,9, -999.00,9,-999.000,9,-999.000,9,  -999.0,9,  -999.0,9,     -999.0,9
06MT20091026,       A16C,      74,          1,     204402,         11,2,20091120,       0008,    12.4992,   -22.9995,       4811,   351.3,  11.0411,  35.1661,2,  35.1580,2,     55.3,2,  -999.0,9, -999.00,9, -999.00,9, -999.00,9, -999.00,9, -999.00,9,-999.000,9,-999.000,9,  -999.0,9,  -999.0,9,     -999.0,9
06MT20091026,       A16C,      74,          1,     204403,         12,2,20091120,       0009,    12.4992,   -22.9995,       4811,   301.3,  11.3311,  35.1626,2,-999.0000,9,     72.3,2,  -999.0,9, -999.00,9, -999.00,9, -999.00,9, -999.00,9, -999.00,9,-999.000,9,-999.000,9,  -999.0,9,  -999.0,9,     -999.0,9
06MT20091026,       A16C,      74,          1,     204404,         13,2,20091120,       0010,    12.4992,   -22.9995,       4811,   250.4,  11.6655,  35.1613,2,-999.0000,9,     92.2,2,  -999.0,9, -999.00,9, -999.00,9, -999.00,9, -999.00,9, -999.00,9,-999.000,9,-999.000,9,  -999.0,9,  -999.0,9,     -999.0,9
06MT20091026,       A16C,      74,          1,     204405,         14,2,20091120,       0011,    12.4992,   -22.9995,       4811,   199.6,  12.2402,  35.2140,2,-999.0000,9,    101.1,2,    95.7,2, -999.00,9, -999.00,9, -999.00,9, -999.00,9, -999.00,9,-999.000,9,-999.000,9,  -999.0,9,  -999.0,9,     -999.0,9
06MT20091026,       A16C,      74,          1,      74015,         15,2,20091120,       0012,    12.4992,   -22.9995,       4811,   167.6,  12.8171,  35.2835,2,-999.0000,9,     99.0,2,  -999.0,9, -999.00,9, -999.00,9, -999.00,9, -999.00,9, -999.00,9,-999.000,9,-999.000,9,  -999.0,9,  -999.0,9,     -999.0,9
06MT20091026,       A16C,      74,          1,      74016,         16,2,20091120,       0012,    12.4992,   -22.9995,       4811,   164.2,  12.8983,  35.2929,2,-999.0000,9,     99.5,2,  -999.0,9, -999.00,9, -999.00,9, -999.00,9, -999.00,9, -999.00,9,-999.000,9,-999.000,9,  -999.0,9,  -999.0,9,     -999.0,9
06MT20091026,       A16C,      74,          1,     204406,         17,2,20091120,       0012,    12.4992,   -22.9995,       4811,   149.1,  13.0972,  35.3094,2,-999.0000,9,    101.8,2,  -999.0,9, -999.00,9, -999.00,9, -999.00,9, -999.00,9, -999.00,9,-999.000,9,-999.000,9,  -999.0,9,  -999.0,9,     -999.0,9
06MT20091026,       A16C,      74,          1,     204407,         18,2,20091120,       0013,    12.4992,   -22.9995,       4811,    99.4,  14.5403,  35.4839,2,  35.4450,2,     73.1,2,  -999.0,9, -999.00,9, -999.00,9, -999.00,9, -999.00,9, -999.00,9,-999.000,9,-999.000,9,  -999.0,9,  -999.0,9,     -999.0,9
06MT20091026,       A16C,      74,          1,     204408,         19,2,20091120,       0014,    12.4992,   -22.9995,       4811,    80.2,  15.5608,  35.5820,2,-999.0000,9,     67.3,2,    69.0,2, -999.00,9, -999.00,9, -999.00,9, -999.00,9, -999.00,9,-999.000,9,-999.000,9,  -999.0,9,  -999.0,9,     -999.0,9
06MT20091026,       A16C,      74,          1,     204409,         20,2,20091120,       0014,    12.4992,   -22.9995,       4811,    60.0,  16.8775,  35.6865,2,-999.0000,9,     81.2,2,  -999.0,9, -999.00,9, -999.00,9, -999.00,9, -999.00,9, -999.00,9,-999.000,9,-999.000,9,  -999.0,9,  -999.0,9,     -999.0,9
06MT20091026,       A16C,      74,          1,     204410,         21,2,20091120,       0015,    12.4992,   -22.9995,       4811,    40.0,  21.3442,  35.8011,2,-999.0000,9,    200.3,2,  -999.0,9, -999.00,9, -999.00,9, -999.00,9, -999.00,9, -999.00,9,-999.000,9,-999.000,9,  -999.0,9,  -999.0,9,     -999.0,9
06MT20091026,       A16C,      74,          1,     204411,         22,2,20091120,       0016,    12.4992,   -22.9995,       4811,    20.1,  27.4673,  35.4608,2,-999.0000,9,    202.4,2,  -999.0,9, -999.00,9, -999.00,9, -999.00,9, -999.00,9, -999.00,9,-999.000,9,-999.000,9,  -999.0,9,  -999.0,9,     -999.0,9
06MT20091026,       A16C,      74,          1,     204412,         23,2,20091120,       0016,    12.4992,   -22.9995,       4811,     9.8,  27.4666,  35.4566,2,  35.4570,2,    202.9,2,   204.6,2, -999.00,9, -999.00,9, -999.00,9, -999.00,9, -999.00,9,-999.000,9,-999.000,9,  -999.0,9,  -999.0,9,     -999.0,9
06MT20091026,       A16C,      74,          1,     204413,         24,2,20091120,       0016,    12.4992,   -22.9995,       4811,     5.9,  27.4823,  35.4575,2,-999.0000,9,    202.5,2,  -999.0,9, -999.00,9, -999.00,9, -999.00,9, -999.00,9, -999.00,9,-999.000,9,-999.000,9,  -999.0,9,  -999.0,9,     -999.0,9