BOTTLE,20211119CCHSIORKP
EXPOCODE,SECT_ID,STNNBR,CASTNO,SAMPNO,BTLNBR,BTLNBR_FLAG_W,DATE,TIME,LATITUDE,LONGITUDE,DEPTH,CTDPRS,CTDTMP,CTDSAL,CTDSAL_FLAG_W,SALNTY,SALNTY_FLAG_W,CTDOXY,CTDOXY_FLAG_W,OXYGEN,OXYGEN_FLAG_W,SILCAT,SILCAT_FLAG_W,NH4,NH4_FLAG_W,NITRAT,NITRAT_FLAG_W,NITRIT,NITRIT_FLAG_W,PHSPHT,PHSPHT_FLAG_W,CFC-12,CFC-12_FLAG_W,SF6,SF6_FLAG_W,TCARBN,TCARBN_FLAG_W,ALKALI,ALKALI_FLAG_W,SF5CF3,SF5CF3_FLAG_W
,,,,,,,,,,,METERS,DBAR,ITS-90,PSS-78,,PSS-78,,UMOL/KG,,UMOL/KG,,UMOL/KG,,UMOL/KG,,UMOL/KG,,UMOL/KG,,UMOL/KG,,PMOL/KG,,FMOL/KG,,UMOL/KG,,UMOL/KG,,FMOL/KG,
06MT20091026,       A16C,      37,          1,     203688,          1,2,20091111,       0634,    -2.0120,   -22.9879,       4796,   604.3,   6.0471,  34.5204,2,  34.5198,2,    154.4,2,  -999.0,9, -999.00,9, -999.00,9, -999.00,9, -999.00,9, -999.00,9,-999.000,9,-999.000,9,  -999.0,9,  -999.0,9,     -999.0,9
06MT20091026,       A16C,      37,          1,     203689,          2,2,20091111,       0638,    -2.0120,   -22.9879,       4796,   402.2,   7.5687,  34.6617,2,-999.0000,9,    125.9,2,  -999.0,9, -999.00,9, -999.00,9, -999.00,9, -999.00,9, -999.00,9,-999.000,9,-999.000,9,  -999.0,9,  -999.0,9,     -999.0,9
06MT20091026,       A16C,      37,          1,     203690,          3,2,20091111,       0638,    -2.0120,   -22.9879,       4796,   402.2,   7.5707,  34.6634,2,-999.0000,9,    123.6,2,  -999.0,9, -999.00,9, -999.00,9, -999.00,9, -999.00,9, -999.00,9,-999.000,9,-999.000,9,  -999.0,9,  -999.0,9,     -999.0,9
06MT20091026,       A16C,      37,          1,     203691,          4,2,20091111,       0638,    -2.0120,   -22.9879,       4796,   401.9,   7.5695,  34.6615,2,-999.0000,9,    125.2,2,  -999.0,9, -999.00,9, -999.00,9, -999.00,9, -999.00,9, -999.00,9,-999.000,9,-999.000,9,  -999.0,9,  -999.0,9,     -999.0,9
06MT20091026,       A16C,      37,          1,     203692,          5,2,20091111,       0638,    -2.0120,   -22.9879,       4796,   401.8,   7.5699,  34.6616,2,-999.0000,9,    124.2,2,  -999.0,9, -999.00,9, -999.00,9, -999.00,9, -999.00,9, -999.00,9,-999.000,9,-999.000,9,  -999.0,9,  -999.0,9,     -999.0,9
06MT20091026,       A16C,      37,          1,     203693,          6,2,20091111,       0638,    -2.0120,   -22.9879,       4796,   402.3,   7.5713,  34.6642,2,  34.6620,2,    125.2,2,  -999.0,9, -999.00,9, -999.00,9, -999.00,9, -999.00,9, -999.00,9,-999.000,9,-999.000,9,  -999.0,9,  -999.0,9,     -999.0,9
06MT20091026,       A16C,      37,          1,     203694,          7,2,20091111,       0642,    -2.0120,   -22.9879,       4796,   200.2,  12.6675,  35.2369,2,-999.0000,9,     89.1,2,  -999.0,9, -999.00,9, -999.00,9, -999.00,9, -999.00,9, -999.00,9,-999.000,9,-999.000,9,  -999.0,9,  -999.0,9,     -999.0,9
06MT20091026,       A16C,      37,          1,     203695,          8,2,20091111,       0643,    -2.0120,   -22.9879,       4796,   148.9,  13.6991,  35.3734,2,-999.0000,9,     92.0,2,  -999.0,9, -999.00,9, -999.00,9, -999.00,9, -999.00,9, -999.00,9,-999.000,9,-999.000,9,  -999.0,9,  -999.0,9,     -999.0,9
06MT20091026,       A16C,      37,          1,     203696,          9,2,20091111,       0644,    -2.0120,   -22.9879,       4796,    98.9,  14.9380,  35.5717,2,-999.0000,9,     93.6,2,  -999.0,9, -999.00,9, -999.00,9, -999.00,9, -999.00,9, -999.00,9,-999.000,9,-999.000,9,  -999.0,9,  -999.0,9,     -999.0,9
06MT20091026,       A16C,      37,          1,     203697,         10,2,20091111,       0646,    -2.0120,   -22.9879,       4796,    64.7,  24.2736,  36.1614,2,-999.0000,9,    198.2,2,  -999.0,9, -999.00,9, -999.00,9, -999.00,9, -999.00,9, -999.00,9,-999.000,9,-999.000,9,  -999.0,9,  -999.0,9,     -999.0,9
06MT20091026,       A16C,      37,          1,     203698,         11,2,20091111,       0646,    -2.0120,   -22.9879,       4796,    64.3,  24.3628,  36.1667,2,-999.0000,9,    197.9,2,  -999.0,9, -999.00,9, -999.00,9, -999.00,9, -999.00,9, -999.00,9,-999.000,9,-999.000,9,  -999.0,9,  -999.0,9,     -999.0,9
06MT20091026,       A16C,      37,          1,     203699,         12,2,20091111,       0646,    -2.0120,   -22.9879,       4796,    64.1,  24.3625,  36.1617,2,-999.0000,9,    197.9,2,  -999.0,9, -999.00,9, -999.00,9, -999.00,9, -999.00,9, -999.00,9,-999.000,9,-999.000,9,  -999.0,9,  -999.0,9,     -999.0,9
06MT20091026,       A16C,      37,          1,     203700,         13,2,20091111,       0646,    -2.0120,   -22.9879,       4796,    64.3,  24.3413,  36.1683,2,-999.0000,9,    198.2,2,  -999.0,9, -999.00,9, -999.00,9, -999.00,9, -999.00,9, -999.00,9,-999.000,9,-999.000,9,  -999.0,9,  -999.0,9,     -999.0,9
06MT20091026,       A16C,      37,          1,     203701,         14,2,20091111,       0646,    -2.0120,   -22.9879,       4796,    64.8,  24.2648,  36.1652,2,-999.0000,9,    198.6,2,  -999.0,9, -999.00,9, -999.00,9, -999.00,9, -999.00,9, -999.00,9,-999.000,9,-999.000,9,  -999.0,9,  -999.0,9,     -999.0,9
06MT20091026,       A16C,      37,          1,      37015,         15,2,20091111,       0646,    -2.0120,   -22.9879,       4796,    64.4,  24.3621,  36.1657,2,-999.0000,9,    197.8,2,  -999.0,9, -999.00,9, -999.00,9, -999.00,9, -999.00,9, -999.00,9,-999.000,9,-999.000,9,  -999.0,9,  -999.0,9,     -999.0,9
06MT20091026,       A16C,      37,          1,      37016,         16,2,20091111,       0646,    -2.0120,   -22.9879,       4796,    64.0,  24.3982,  36.1637,2,-999.0000,9,    197.7,2,  -999.0,9, -999.00,9, -999.00,9, -999.00,9, -999.00,9, -999.00,9,-999.000,9,-999.000,9,  -999.0,9,  -999.0,9,     -999.0,9
06MT20091026,       A16C,      37,          1,     203702,         17,2,20091111,       0646,    -2.0120,   -22.9879,       4796,    64.4,  24.3743,  36.1652,2,-999.0000,9,    198.2,2,  -999.0,9, -999.00,9, -999.00,9, -999.00,9, -999.00,9, -999.00,9,-999.000,9,-999.000,9,  -999.0,9,  -999.0,9,     -999.0,9
06MT20091026,       A16C,      37,          1,     203703,         18,2,20091111,       0647,    -2.0120,   -22.9879,       4796,    49.3,  26.3106,  36.2034,2,  36.1842,2,    203.4,2,  -999.0,9, -999.00,9, -999.00,9, -999.00,9, -999.00,9, -999.00,9,-999.000,9,-999.000,9,  -999.0,9,  -999.0,9,     -999.0,9
06MT20091026,       A16C,      37,          1,     203704,         19,2,20091111,       0648,    -2.0120,   -22.9879,       4796,    20.0,  26.3407,  36.2044,2,-999.0000,9,    204.5,2,  -999.0,9, -999.00,9, -999.00,9, -999.00,9, -999.00,9, -999.00,9,-999.000,9,-999.000,9,  -999.0,9,  -999.0,9,     -999.0,9
06MT20091026,       A16C,      37,          1,     203705,         20,2,20091111,       0648,    -2.0120,   -22.9879,       4796,    19.9,  26.3407,  36.2046,2,-999.0000,9,    204.7,2,  -999.0,9, -999.00,9, -999.00,9, -999.00,9, -999.00,9, -999.00,9,-999.000,9,-999.000,9,  -999.0,9,  -999.0,9,     -999.0,9
06MT20091026,       A16C,      37,          1,     203706,         21,2,20091111,       0648,    -2.0120,   -22.9879,       4796,    19.7,  26.3402,  36.2046,2,-999.0000,9,    204.9,2,  -999.0,9, -999.00,9, -999.00,9, -999.00,9, -999.00,9, -999.00,9,-999.000,9,-999.000,9,  -999.0,9,  -999.0,9,     -999.0,9
06MT20091026,       A16C,      37,          1,     203707,         22,2,20091111,       0648,    -2.0120,   -22.9879,       4796,    19.7,  26.3410,  36.2048,2,-999.0000,9,    205.0,2,  -999.0,9, -999.00,9, -999.00,9, -999.00,9, -999.00,9, -999.00,9,-999.000,9,-999.000,9,  -999.0,9,  -999.0,9,     -999.0,9
06MT20091026,       A16C,      37,          1,     203708,         23,2,20091111,       0648,    -2.0120,   -22.9879,       4796,    19.9,  26.3400,  36.2046,2,-999.0000,9,    204.8,2,  -999.0,9, -999.00,9, -999.00,9, -999.00,9, -999.00,9, -999.00,9,-999.000,9,-999.000,9,  -999.0,9,  -999.0,9,     -999.0,9
06MT20091026,       A16C,      37,          1,     203709,         24,2,20091111,       0649,    -2.0120,   -22.9879,       4796,     9.2,  26.3393,  36.2049,2,  36.2058,2,    204.4,2,  -999.0,9, -999.00,9, -999.00,9, -999.00,9, -999.00,9, -999.00,9,-999.000,9,-999.000,9,  -999.0,9,  -999.0,9,     -999.0,9
06MT20091026,       A16C,      38,          1,     203710,          1,2,20091112,       0049,    -1.0000,   -23.0001,       4152,  4142.2,   1.9299,  34.8509,2,-999.0000,9,    251.7,2,   251.4,2,   48.57,2,    0.03,2,   22.82,2,    0.01,2,    1.54,2,-999.000,9,-999.000,9,  -999.0,9,  -999.0,9,     -999.0,9
06MT20091026,       A16C,      38,          1,     203711,          2,2,20091112,       0102,    -1.0000,   -23.0001,       4152,  3545.0,   2.4491,  34.9046,2,-999.0000,9,    257.6,2,   257.8,2,   30.67,2,    0.06,2,   20.80,2,    0.01,2,    1.36,2,-999.000,9,-999.000,9,  -999.0,9,  -999.0,9,     -999.0,9
06MT20091026,       A16C,      38,          1,     203712,          3,2,20091112,       0112,    -1.0000,   -23.0001,       4152,  3034.4,   2.6258,  34.9109,2,  34.9120,2,    247.4,2,   247.7,2,   33.51,2,     0.1,2,   22.07,2,    0.01,2,    1.43,2,-999.000,9,-999.000,9,  -999.0,9,  -999.0,9,     -999.0,9
06MT20091026,       A16C,      38,          1,     203713,          4,2,20091112,       0122,    -1.0000,   -23.0001,       4152,  2526.3,   2.9409,  34.9291,2,-999.0000,9,    244.7,2,   247.4,2,   25.06,2,    0.05,2,   21.61,2,    0.00,2,    1.42,2,-999.000,9,-999.000,9,  -999.0,9,  -999.0,9,     -999.0,9
06MT20091026,       A16C,      38,          1,     203714,          5,2,20091112,       0133,    -1.0000,   -23.0001,       4152,  2017.6,   3.6058,  34.9683,2,  34.9700,2,    250.3,2,   251.8,2,   17.15,6,    0.07,6,   20.29,6,    0.01,6,    1.30,6,-999.000,9,-999.000,9,  -999.0,9,  -999.0,9,     -999.0,9
06MT20091026,       A16C,      38,          1,     203715,          6,2,20091112,       0143,    -1.0000,   -23.0001,       4152,  1511.7,   4.2685,  34.9682,2,-999.0000,9,    230.4,2,   232.0,2,   15.56,2,    0.06,2,   22.05,2,    0.00,2,    1.45,2,-999.000,9,-999.000,9,  -999.0,9,  -999.0,9,     -999.0,9
06MT20091026,       A16C,      38,          1,     203716,          7,2,20091112,       0148,    -1.0000,   -23.0001,       4152,  1258.4,   4.5534,  34.8705,2,-999.0000,9,    195.1,2,   194.5,2,   19.45,2,    0.06,2,   27.32,2,    0.00,2,    1.80,2,-999.000,9,-999.000,9,  -999.0,9,  -999.0,9,     -999.0,9
06MT20091026,       A16C,      38,          1,     203717,          8,2,20091112,       0153,    -1.0000,   -23.0001,       4152,  1005.9,   4.5259,  34.6175,2,-999.0000,9,    159.1,2,   158.1,2,   28.10,2,    0.05,2,   34.39,2,    0.00,2,    2.28,2,-999.000,9,-999.000,9,  -999.0,9,  -999.0,9,     -999.0,9
06MT20091026,       A16C,      38,          1,     203718,          9,2,20091112,       0157,    -1.0000,   -23.0001,       4152,   803.9,   4.8248,  34.5192,2,-999.0000,9,    151.0,2,   149.6,2,   28.48,2,    0.09,2,   35.90,2,    0.00,2,    2.25,2,-999.000,9,-999.000,9,  -999.0,9,  -999.0,9,     -999.0,9
06MT20091026,       A16C,      38,          1,     203719,         10,2,20091112,       0201,    -1.0000,   -23.0001,       4152,   601.8,   6.0185,  34.5381,2,-999.0000,9,    140.8,2,   140.2,2,   21.61,2,    0.08,2,   35.01,2,    0.00,2,    2.29,2,-999.000,9,-999.000,9,  -999.0,9,  -999.0,9,     -999.0,9
06MT20091026,       A16C,      38,          1,     203720,         11,2,20091112,       0205,    -1.0000,   -23.0001,       4152,   400.3,   7.8968,  34.6976,2,-999.0000,9,    115.8,2,   114.9,2,   15.54,2,    0.11,2,   33.84,2,    0.01,2,    2.09,2,-999.000,9,-999.000,9,  -999.0,9,  -999.0,9,     -999.0,9
06MT20091026,       A16C,      38,          1,     203721,         12,2,20091112,       0208,    -1.0000,   -23.0001,       4152,   302.4,  10.2644,  34.9467,2,-999.0000,9,     78.8,2,    77.8,2,   11.48,2,    0.07,2,   32.76,2,    0.00,2,    1.86,2,-999.000,9,-999.000,9,  -999.0,9,  -999.0,9,     -999.0,9
06MT20091026,       A16C,      38,          1,     203722,         13,2,20091112,       0209,    -1.0000,   -23.0001,       4152,   249.7,  11.9020,  35.1330,2,-999.0000,9,     94.0,2,    92.7,2,    8.83,2,    0.08,2,   27.52,2,    0.01,2,    1.68,2,-999.000,9,-999.000,9,  -999.0,9,  -999.0,9,     -999.0,9
06MT20091026,       A16C,      38,          1,     203723,         14,2,20091112,       0210,    -1.0000,   -23.0001,       4152,   199.9,  12.9761,  35.2764,2,-999.0000,9,    104.2,2,   102.6,2,    7.36,2,    0.08,2,   24.42,2,    0.01,2,    1.52,2,-999.000,9,-999.000,9,  -999.0,9,  -999.0,9,     -999.0,9
06MT20091026,       A16C,      38,          1,      38015,         15,2,20091112,       0210,    -1.0000,   -23.0001,       4152,   198.4,  12.9916,  35.2778,2,-999.0000,9,    104.0,2,  -999.0,9, -999.00,9, -999.00,9, -999.00,9, -999.00,9, -999.00,9,-999.000,9,-999.000,9,  -999.0,9,  -999.0,9,     -999.0,9
06MT20091026,       A16C,      38,          1,      38016,         16,2,20091112,       0210,    -1.0000,   -23.0001,       4152,   196.6,  13.0231,  35.2825,2,-999.0000,9,    104.3,2,  -999.0,9, -999.00,9, -999.00,9, -999.00,9, -999.00,9, -999.00,9,-999.000,9,-999.000,9,  -999.0,9,  -999.0,9,     -999.0,9
06MT20091026,       A16C,      38,          1,     203724,         17,2,20091112,       0211,    -1.0000,   -23.0001,       4152,   150.1,  13.8936,  35.3973,2,-999.0000,9,     99.7,2,   100.4,2,    6.11,2,    0.04,2,   21.80,2,    0.01,2,    1.42,2,-999.000,9,-999.000,9,  -999.0,9,  -999.0,9,     -999.0,9
06MT20091026,       A16C,      38,          1,     203725,         18,2,20091112,       0212,    -1.0000,   -23.0001,       4152,    99.2,  15.1367,  35.5753,2,-999.0000,9,    127.1,2,   131.0,2,    4.33,2,    0.07,2,   15.66,2,    0.05,2,    1.05,2,-999.000,9,-999.000,9,  -999.0,9,  -999.0,9,     -999.0,9
06MT20091026,       A16C,      38,          1,     203726,         19,2,20091112,       0213,    -1.0000,   -23.0001,       4152,    80.0,  19.6925,  36.0556,2,-999.0000,9,    143.5,2,   150.2,2,    2.27,2,    0.03,2,    8.44,2,    0.39,2,    0.64,2,-999.000,9,-999.000,9,  -999.0,9,  -999.0,9,     -999.0,9
06MT20091026,       A16C,      38,          1,     203727,         20,2,20091112,       0214,    -1.0000,   -23.0001,       4152,    51.5,  25.4854,  36.1014,2,-999.0000,9,    202.8,2,   199.8,2,    0.14,2,    0.06,2,    0.35,2,    0.05,2,    0.07,2,-999.000,9,-999.000,9,  -999.0,9,  -999.0,9,     -999.0,9
06MT20091026,       A16C,      38,          1,     203728,         21,2,20091112,       0215,    -1.0000,   -23.0001,       4152,    40.1,  25.9729,  36.0563,2,-999.0000,9,    205.2,2,   201.0,2,    0.06,2,    0.09,2,    0.14,2,    0.03,2,    0.05,2,-999.000,9,-999.000,9,  -999.0,9,  -999.0,9,     -999.0,9
06MT20091026,       A16C,      38,          1,     203729,         22,2,20091112,       0215,    -1.0000,   -23.0001,       4152,    19.9,  26.5582,  36.0115,2,-999.0000,9,    206.7,2,   202.5,2,    0.02,6,    0.06,6,    0.05,6,    0.00,6,    0.02,6,-999.000,9,-999.000,9,  -999.0,9,  -999.0,9,     -999.0,9
06MT20091026,       A16C,      38,          1,     203730,         23,2,20091112,       0216,    -1.0000,   -23.0001,       4152,    10.3,  26.5701,  36.0084,2,-999.0000,9,    205.4,2,   203.1,2,    0.01,2,       0,2,    0.19,2,    0.00,2,    0.03,2,-999.000,9,-999.000,9,  -999.0,9,  -999.0,9,     -999.0,9
06MT20091026,       A16C,      38,          1,     203731,         24,2,20091112,       0216,    -1.0000,   -23.0001,       4152,     4.7,  26.5751,  36.0075,2,  36.0098,2,    206.4,2,   202.5,2,    0.02,2,       0,2,    0.30,2,    0.00,2,    0.04,2,-999.000,9,-999.000,9,  -999.0,9,  -999.0,9,     -999.0,9