BOTTLE,20211119CCHSIORKP
EXPOCODE,SECT_ID,STNNBR,CASTNO,SAMPNO,BTLNBR,BTLNBR_FLAG_W,DATE,TIME,LATITUDE,LONGITUDE,DEPTH,CTDPRS,CTDTMP,CTDSAL,CTDSAL_FLAG_W,SALNTY,SALNTY_FLAG_W,CTDOXY,CTDOXY_FLAG_W,OXYGEN,OXYGEN_FLAG_W,SILCAT,SILCAT_FLAG_W,NH4,NH4_FLAG_W,NITRAT,NITRAT_FLAG_W,NITRIT,NITRIT_FLAG_W,PHSPHT,PHSPHT_FLAG_W,CFC-12,CFC-12_FLAG_W,SF6,SF6_FLAG_W,TCARBN,TCARBN_FLAG_W,ALKALI,ALKALI_FLAG_W,SF5CF3,SF5CF3_FLAG_W
,,,,,,,,,,,METERS,DBAR,ITS-90,PSS-78,,PSS-78,,UMOL/KG,,UMOL/KG,,UMOL/KG,,UMOL/KG,,UMOL/KG,,UMOL/KG,,UMOL/KG,,PMOL/KG,,FMOL/KG,,UMOL/KG,,UMOL/KG,,FMOL/KG,
06MT20091026,       A16C,      79,          1,     204502,          1,2,20091121,       1731,    14.5002,   -23.0013,       1321,  1311.3,   5.0556,  34.9518,2,-999.0000,9,    166.7,2,   167.5,2, -999.00,9, -999.00,9, -999.00,9, -999.00,9, -999.00,9,-999.000,9,-999.000,9,  -999.0,9,  -999.0,9,     -999.0,9
06MT20091026,       A16C,      79,          1,     204503,          2,2,20091121,       1733,    14.5002,   -23.0013,       1321,  1207.3,   5.2950,  34.9250,2,-999.0000,9,    155.4,2,  -999.0,9, -999.00,9, -999.00,9, -999.00,9, -999.00,9, -999.00,9,-999.000,9,-999.000,9,  -999.0,9,  -999.0,9,     -999.0,9
06MT20091026,       A16C,      79,          1,     204504,          3,2,20091121,       1735,    14.5002,   -23.0013,       1321,  1107.0,   5.4890,  34.8877,2,-999.0000,9,    140.1,2,  -999.0,9, -999.00,9, -999.00,9, -999.00,9, -999.00,9, -999.00,9,-999.000,9,-999.000,9,  -999.0,9,  -999.0,9,     -999.0,9
06MT20091026,       A16C,      79,          1,     204505,          4,2,20091121,       1737,    14.5002,   -23.0013,       1321,  1006.7,   5.7495,  34.8542,2,-999.0000,9,    126.7,2,  -999.0,9, -999.00,9, -999.00,9, -999.00,9, -999.00,9, -999.00,9,-999.000,9,-999.000,9,  -999.0,9,  -999.0,9,     -999.0,9
06MT20091026,       A16C,      79,          1,     204506,          5,2,20091121,       1739,    14.5002,   -23.0013,       1321,   905.2,   5.9912,  34.8190,2,-999.0000,9,    113.3,2,  -999.0,9, -999.00,9, -999.00,9, -999.00,9, -999.00,9, -999.00,9,-999.000,9,-999.000,9,  -999.0,9,  -999.0,9,     -999.0,9
06MT20091026,       A16C,      79,          1,     204507,          6,2,20091121,       1741,    14.5002,   -23.0013,       1321,   803.2,   6.6680,  34.8669,2,-999.0000,9,     97.6,2,  -999.0,9, -999.00,9, -999.00,9, -999.00,9, -999.00,9, -999.00,9,-999.000,9,-999.000,9,  -999.0,9,  -999.0,9,     -999.0,9
06MT20091026,       A16C,      79,          1,     204508,          7,2,20091121,       1742,    14.5002,   -23.0013,       1321,   703.2,   7.4765,  34.9259,2,-999.0000,9,     85.6,2,  -999.0,9, -999.00,9, -999.00,9, -999.00,9, -999.00,9, -999.00,9,-999.000,9,-999.000,9,  -999.0,9,  -999.0,9,     -999.0,9
06MT20091026,       A16C,      79,          1,     204509,          8,2,20091121,       1744,    14.5002,   -23.0013,       1321,   602.4,   8.5876,  35.0343,2,-999.0000,9,     72.2,2,  -999.0,9, -999.00,9, -999.00,9, -999.00,9, -999.00,9, -999.00,9,-999.000,9,-999.000,9,  -999.0,9,  -999.0,9,     -999.0,9
06MT20091026,       A16C,      79,          1,     204510,          9,2,20091121,       1745,    14.5002,   -23.0013,       1321,   552.4,   9.0245,  35.0688,2,-999.0000,9,     55.9,2,  -999.0,9, -999.00,9, -999.00,9, -999.00,9, -999.00,9, -999.00,9,-999.000,9,-999.000,9,  -999.0,9,  -999.0,9,     -999.0,9
06MT20091026,       A16C,      79,          1,     204511,         10,2,20091121,       1748,    14.5002,   -23.0013,       1321,   401.0,  10.4312,  35.2083,2,-999.0000,9,     54.3,2,  -999.0,9, -999.00,9, -999.00,9, -999.00,9, -999.00,9, -999.00,9,-999.000,9,-999.000,9,  -999.0,9,  -999.0,9,     -999.0,9
06MT20091026,       A16C,      79,          1,     204512,         11,2,20091121,       1749,    14.5002,   -23.0013,       1321,   350.4,  10.9904,  35.2649,2,-999.0000,9,     57.9,2,  -999.0,9, -999.00,9, -999.00,9, -999.00,9, -999.00,9, -999.00,9,-999.000,9,-999.000,9,  -999.0,9,  -999.0,9,     -999.0,9
06MT20091026,       A16C,      79,          1,     204513,         12,2,20091121,       1752,    14.5002,   -23.0013,       1321,   301.3,  11.6339,  35.3473,2,-999.0000,9,     62.1,2,  -999.0,9, -999.00,9, -999.00,9, -999.00,9, -999.00,9, -999.00,9,-999.000,9,-999.000,9,  -999.0,9,  -999.0,9,     -999.0,9
06MT20091026,       A16C,      79,          1,     204514,         13,2,20091121,       1753,    14.5002,   -23.0013,       1321,   249.8,  11.9004,  35.3372,2,-999.0000,9,     65.3,2,  -999.0,9, -999.00,9, -999.00,9, -999.00,9, -999.00,9, -999.00,9,-999.000,9,-999.000,9,  -999.0,9,  -999.0,9,     -999.0,9
06MT20091026,       A16C,      79,          1,     204515,         14,2,20091121,       1754,    14.5002,   -23.0013,       1321,   199.2,  12.4059,  35.3865,2,-999.0000,9,     72.7,2,    74.5,2, -999.00,9, -999.00,9, -999.00,9, -999.00,9, -999.00,9,-999.000,9,-999.000,9,  -999.0,9,  -999.0,9,     -999.0,9
06MT20091026,       A16C,      79,          1,      79015,         15,2,20091121,       1754,    14.5002,   -23.0013,       1321,   192.7,  12.3823,  35.3629,2,-999.0000,9,     73.2,2,  -999.0,9, -999.00,9, -999.00,9, -999.00,9, -999.00,9, -999.00,9,-999.000,9,-999.000,9,  -999.0,9,  -999.0,9,     -999.0,9
06MT20091026,       A16C,      79,          1,      79016,         16,2,20091121,       1754,    14.5002,   -23.0013,       1321,   190.6,  12.4074,  35.3672,2,-999.0000,9,     73.1,2,  -999.0,9, -999.00,9, -999.00,9, -999.00,9, -999.00,9, -999.00,9,-999.000,9,-999.000,9,  -999.0,9,  -999.0,9,     -999.0,9
06MT20091026,       A16C,      79,          1,     204516,         17,2,20091121,       1755,    14.5002,   -23.0013,       1321,   149.2,  13.4502,  35.5367,2,-999.0000,9,     81.4,2,  -999.0,9, -999.00,9, -999.00,9, -999.00,9, -999.00,9, -999.00,9,-999.000,9,-999.000,9,  -999.0,9,  -999.0,9,     -999.0,9
06MT20091026,       A16C,      79,          1,     204517,         18,2,20091121,       1755,    14.5002,   -23.0013,       1321,    98.5,  14.9081,  35.7507,2,-999.0000,9,     81.4,2,  -999.0,9, -999.00,9, -999.00,9, -999.00,9, -999.00,9, -999.00,9,-999.000,9,-999.000,9,  -999.0,9,  -999.0,9,     -999.0,9
06MT20091026,       A16C,      79,          1,     204518,         19,2,20091121,       1756,    14.5002,   -23.0013,       1321,    78.0,  15.6166,  35.7452,2,-999.0000,9,     71.1,2,    76.7,2, -999.00,9, -999.00,9, -999.00,9, -999.00,9, -999.00,9,-999.000,9,-999.000,9,  -999.0,9,  -999.0,9,     -999.0,9
06MT20091026,       A16C,      79,          1,     204519,         20,2,20091121,       1756,    14.5002,   -23.0013,       1321,    58.1,  17.4627,  35.8653,2,-999.0000,9,     86.6,2,  -999.0,9, -999.00,9, -999.00,9, -999.00,9, -999.00,9, -999.00,9,-999.000,9,-999.000,9,  -999.0,9,  -999.0,9,     -999.0,9
06MT20091026,       A16C,      79,          1,     204520,         21,2,20091121,       1756,    14.5002,   -23.0013,       1321,    47.5,  19.1366,  35.9225,2,-999.0000,9,    122.0,2,  -999.0,9, -999.00,9, -999.00,9, -999.00,9, -999.00,9, -999.00,9,-999.000,9,-999.000,9,  -999.0,9,  -999.0,9,     -999.0,9
06MT20091026,       A16C,      79,          1,     204521,         22,2,20091121,       1757,    14.5002,   -23.0013,       1321,    19.9,  26.6199,  35.7579,2,-999.0000,9,    203.8,2,  -999.0,9, -999.00,9, -999.00,9, -999.00,9, -999.00,9, -999.00,9,-999.000,9,-999.000,9,  -999.0,9,  -999.0,9,     -999.0,9
06MT20091026,       A16C,      79,          1,     204522,         23,2,20091121,       1758,    14.5002,   -23.0013,       1321,     9.2,  26.6672,  35.7673,2,-999.0000,9,    203.4,2,   205.0,2, -999.00,9, -999.00,9, -999.00,9, -999.00,9, -999.00,9,-999.000,9,-999.000,9,  -999.0,9,  -999.0,9,     -999.0,9
06MT20091026,       A16C,      79,          1,     204523,         24,2,20091121,       1758,    14.5002,   -23.0013,       1321,     4.5,  26.6745,  35.7698,2,-999.0000,9,    204.3,2,  -999.0,9, -999.00,9, -999.00,9, -999.00,9, -999.00,9, -999.00,9,-999.000,9,-999.000,9,  -999.0,9,  -999.0,9,     -999.0,9
06MT20091026,       A16C,      80,          1,     204524,          1,2,20091121,       2150,    14.9998,   -23.0003,       1319,  1309.0,   5.2141,  34.9829,2,-999.0000,9,    166.3,2,   166.0,2, -999.00,9, -999.00,9, -999.00,9, -999.00,9, -999.00,9,-999.000,9,-999.000,9,  -999.0,9,  -999.0,9,     -999.0,9
06MT20091026,       A16C,      80,          1,     204525,          2,2,20091121,       2154,    14.9998,   -23.0003,       1319,  1107.8,   5.8532,  34.9404,2,-999.0000,9,    136.4,2,  -999.0,9, -999.00,9, -999.00,9, -999.00,9, -999.00,9, -999.00,9,-999.000,9,-999.000,9,  -999.0,9,  -999.0,9,     -999.0,9
06MT20091026,       A16C,      80,          1,     204526,          3,2,20091121,       2156,    14.9998,   -23.0003,       1319,  1006.1,   6.1738,  34.9190,2,-999.0000,9,    122.5,2,  -999.0,9, -999.00,9, -999.00,9, -999.00,9, -999.00,9, -999.00,9,-999.000,9,-999.000,9,  -999.0,9,  -999.0,9,     -999.0,9
06MT20091026,       A16C,      80,          1,     204527,          4,2,20091121,       2159,    14.9998,   -23.0003,       1319,   905.7,   6.5519,  34.9056,2,-999.0000,9,    107.5,2,  -999.0,9, -999.00,9, -999.00,9, -999.00,9, -999.00,9, -999.00,9,-999.000,9,-999.000,9,  -999.0,9,  -999.0,9,     -999.0,9
06MT20091026,       A16C,      80,          1,     204528,          5,2,20091121,       2201,    14.9998,   -23.0003,       1319,   804.4,   7.1505,  34.9333,2,-999.0000,9,     93.7,2,  -999.0,9, -999.00,9, -999.00,9, -999.00,9, -999.00,9, -999.00,9,-999.000,9,-999.000,9,  -999.0,9,  -999.0,9,     -999.0,9
06MT20091026,       A16C,      80,          1,     204529,          6,2,20091121,       2203,    14.9998,   -23.0003,       1319,   703.6,   7.8279,  34.9804,2,-999.0000,9,     81.5,2,  -999.0,9, -999.00,9, -999.00,9, -999.00,9, -999.00,9, -999.00,9,-999.000,9,-999.000,9,  -999.0,9,  -999.0,9,     -999.0,9
06MT20091026,       A16C,      80,          1,     204530,          7,2,20091121,       2205,    14.9998,   -23.0003,       1319,   602.8,   8.6612,  35.0525,2,-999.0000,9,     71.4,2,  -999.0,9, -999.00,9, -999.00,9, -999.00,9, -999.00,9, -999.00,9,-999.000,9,-999.000,9,  -999.0,9,  -999.0,9,     -999.0,9
06MT20091026,       A16C,      80,          1,     204531,          8,2,20091121,       2207,    14.9998,   -23.0003,       1319,   501.7,   9.7736,  35.1604,2,-999.0000,9,     62.5,2,  -999.0,9, -999.00,9, -999.00,9, -999.00,9, -999.00,9, -999.00,9,-999.000,9,-999.000,9,  -999.0,9,  -999.0,9,     -999.0,9
06MT20091026,       A16C,      80,          1,     204532,          9,2,20091121,       2209,    14.9998,   -23.0003,       1319,   400.3,  10.7783,  35.2520,2,-999.0000,9,     55.6,2,  -999.0,9, -999.00,9, -999.00,9, -999.00,9, -999.00,9, -999.00,9,-999.000,9,-999.000,9,  -999.0,9,  -999.0,9,     -999.0,9
06MT20091026,       A16C,      80,          1,     204533,         10,2,20091121,       2210,    14.9998,   -23.0003,       1319,   351.1,  11.1845,  35.2926,2,-999.0000,9,     56.0,2,  -999.0,9, -999.00,9, -999.00,9, -999.00,9, -999.00,9, -999.00,9,-999.000,9,-999.000,9,  -999.0,9,  -999.0,9,     -999.0,9
06MT20091026,       A16C,      80,          1,     204534,         11,2,20091121,       2211,    14.9998,   -23.0003,       1319,   301.5,  11.6670,  35.3388,2,-999.0000,9,     59.1,2,  -999.0,9, -999.00,9, -999.00,9, -999.00,9, -999.00,9, -999.00,9,-999.000,9,-999.000,9,  -999.0,9,  -999.0,9,     -999.0,9
06MT20091026,       A16C,      80,          1,     204535,         12,2,20091121,       2213,    14.9998,   -23.0003,       1319,   250.5,  12.3205,  35.4152,2,-999.0000,9,     68.2,2,  -999.0,9, -999.00,9, -999.00,9, -999.00,9, -999.00,9, -999.00,9,-999.000,9,-999.000,9,  -999.0,9,  -999.0,9,     -999.0,9
06MT20091026,       A16C,      80,          1,     204536,         13,2,20091121,       2214,    14.9998,   -23.0003,       1319,   199.3,  12.7090,  35.4174,2,-999.0000,9,     72.7,2,  -999.0,9, -999.00,9, -999.00,9, -999.00,9, -999.00,9, -999.00,9,-999.000,9,-999.000,9,  -999.0,9,  -999.0,9,     -999.0,9
06MT20091026,       A16C,      80,          1,     204537,         14,2,20091121,       2215,    14.9998,   -23.0003,       1319,   149.0,  13.2065,  35.4322,2,-999.0000,9,     79.5,2,    79.7,2, -999.00,9, -999.00,9, -999.00,9, -999.00,9, -999.00,9,-999.000,9,-999.000,9,  -999.0,9,  -999.0,9,     -999.0,9
06MT20091026,       A16C,      80,          1,      80015,         15,2,20091121,       2215,    14.9998,   -23.0003,       1319,   145.6,  13.2170,  35.4293,2,-999.0000,9,     79.7,2,  -999.0,9, -999.00,9, -999.00,9, -999.00,9, -999.00,9, -999.00,9,-999.000,9,-999.000,9,  -999.0,9,  -999.0,9,     -999.0,9
06MT20091026,       A16C,      80,          1,      80016,         16,2,20091121,       2215,    14.9998,   -23.0003,       1319,   144.0,  13.3065,  35.4497,2,-999.0000,9,     79.9,2,  -999.0,9, -999.00,9, -999.00,9, -999.00,9, -999.00,9, -999.00,9,-999.000,9,-999.000,9,  -999.0,9,  -999.0,9,     -999.0,9
06MT20091026,       A16C,      80,          1,     204538,         17,2,20091121,       2215,    14.9998,   -23.0003,       1319,   100.8,  14.3322,  35.5855,2,-999.0000,9,     74.4,2,  -999.0,9, -999.00,9, -999.00,9, -999.00,9, -999.00,9, -999.00,9,-999.000,9,-999.000,9,  -999.0,9,  -999.0,9,     -999.0,9
06MT20091026,       A16C,      80,          1,     204539,         18,2,20091121,       2216,    14.9998,   -23.0003,       1319,    79.8,  16.2031,  35.7945,2,-999.0000,9,     72.3,2,  -999.0,9, -999.00,9, -999.00,9, -999.00,9, -999.00,9, -999.00,9,-999.000,9,-999.000,9,  -999.0,9,  -999.0,9,     -999.0,9
06MT20091026,       A16C,      80,          1,     204540,         19,2,20091121,       2217,    14.9998,   -23.0003,       1319,    59.3,  19.2892,  36.0740,2,-999.0000,9,    133.9,2,  -999.0,9, -999.00,9, -999.00,9, -999.00,9, -999.00,9, -999.00,9,-999.000,9,-999.000,9,  -999.0,9,  -999.0,9,     -999.0,9
06MT20091026,       A16C,      80,          1,     204541,         20,2,20091121,       2218,    14.9998,   -23.0003,       1319,    49.8,  21.4595,  36.1733,2,-999.0000,9,    171.3,2,   159.0,2, -999.00,9, -999.00,9, -999.00,9, -999.00,9, -999.00,9,-999.000,9,-999.000,9,  -999.0,9,  -999.0,9,     -999.0,9
06MT20091026,       A16C,      80,          1,     204542,         21,2,20091121,       2218,    14.9998,   -23.0003,       1319,    39.4,  24.7919,  36.0026,2,-999.0000,9,    223.3,2,  -999.0,9, -999.00,9, -999.00,9, -999.00,9, -999.00,9, -999.00,9,-999.000,9,-999.000,9,  -999.0,9,  -999.0,9,     -999.0,9
06MT20091026,       A16C,      80,          1,     204543,         22,2,20091121,       2219,    14.9998,   -23.0003,       1319,    19.2,  26.4474,  35.8056,2,-999.0000,9,    204.2,2,  -999.0,9, -999.00,9, -999.00,9, -999.00,9, -999.00,9, -999.00,9,-999.000,9,-999.000,9,  -999.0,9,  -999.0,9,     -999.0,9
06MT20091026,       A16C,      80,          1,     204544,         23,2,20091121,       2219,    14.9998,   -23.0003,       1319,     9.6,  26.4388,  35.8067,2,-999.0000,9,    203.4,2,   204.0,2, -999.00,9, -999.00,9, -999.00,9, -999.00,9, -999.00,9,-999.000,9,-999.000,9,  -999.0,9,  -999.0,9,     -999.0,9
06MT20091026,       A16C,      80,          1,     204545,         24,2,20091121,       2219,    14.9998,   -23.0003,       1319,     5.2,  26.4359,  35.8072,2,-999.0000,9,    204.3,2,  -999.0,9, -999.00,9, -999.00,9, -999.00,9, -999.00,9, -999.00,9,-999.000,9,-999.000,9,  -999.0,9,  -999.0,9,     -999.0,9