BOTTLE,20211119CCHSIORKP
EXPOCODE,SECT_ID,STNNBR,CASTNO,SAMPNO,BTLNBR,BTLNBR_FLAG_W,DATE,TIME,LATITUDE,LONGITUDE,DEPTH,CTDPRS,CTDTMP,CTDSAL,CTDSAL_FLAG_W,SALNTY,SALNTY_FLAG_W,CTDOXY,CTDOXY_FLAG_W,OXYGEN,OXYGEN_FLAG_W,SILCAT,SILCAT_FLAG_W,NH4,NH4_FLAG_W,NITRAT,NITRAT_FLAG_W,NITRIT,NITRIT_FLAG_W,PHSPHT,PHSPHT_FLAG_W,CFC-12,CFC-12_FLAG_W,SF6,SF6_FLAG_W,TCARBN,TCARBN_FLAG_W,ALKALI,ALKALI_FLAG_W,SF5CF3,SF5CF3_FLAG_W
,,,,,,,,,,,METERS,DBAR,ITS-90,PSS-78,,PSS-78,,UMOL/KG,,UMOL/KG,,UMOL/KG,,UMOL/KG,,UMOL/KG,,UMOL/KG,,UMOL/KG,,PMOL/KG,,FMOL/KG,,UMOL/KG,,UMOL/KG,,FMOL/KG,
06MT20091026,       A16C,      52,          1,      52001,          1,2,20091116,       1507,     5.0002,   -22.9667,       3900,   104.5,  16.8839,  35.7149,2,-999.0000,9,    130.8,2,  -999.0,9, -999.00,9, -999.00,9, -999.00,9, -999.00,9, -999.00,9,-999.000,9,-999.000,9,  -999.0,9,  -999.0,9,     -999.0,9
06MT20091026,       A16C,      52,          1,      52002,          2,2,20091116,       1507,     5.0002,   -22.9667,       3900,   102.5,  17.1749,  35.6978,2,-999.0000,9,    126.3,2,  -999.0,9, -999.00,9, -999.00,9, -999.00,9, -999.00,9, -999.00,9,-999.000,9,-999.000,9,  -999.0,9,  -999.0,9,     -999.0,9
06MT20091026,       A16C,      52,          1,      52003,          3,2,20091116,       1507,     5.0002,   -22.9667,       3900,   101.4,  16.8845,  35.6721,2,-999.0000,9,    127.6,2,  -999.0,9, -999.00,9, -999.00,9, -999.00,9, -999.00,9, -999.00,9,-999.000,9,-999.000,9,  -999.0,9,  -999.0,9,     -999.0,9
06MT20091026,       A16C,      52,          1,      52004,          4,2,20091116,       1507,     5.0002,   -22.9667,       3900,    99.6,  17.7661,  35.7855,2,-999.0000,9,    127.2,2,  -999.0,9, -999.00,9, -999.00,9, -999.00,9, -999.00,9, -999.00,9,-999.000,9,-999.000,9,  -999.0,9,  -999.0,9,     -999.0,9
06MT20091026,       A16C,      52,          1,      52005,          5,2,20091116,       1507,     5.0002,   -22.9667,       3900,    98.4,  17.9785,  35.7453,2,-999.0000,9,    127.0,2,  -999.0,9, -999.00,9, -999.00,9, -999.00,9, -999.00,9, -999.00,9,-999.000,9,-999.000,9,  -999.0,9,  -999.0,9,     -999.0,9
06MT20091026,       A16C,      52,          1,      52006,          6,2,20091116,       1507,     5.0002,   -22.9667,       3900,    96.3,  18.5217,  35.8263,2,-999.0000,9,    132.7,2,  -999.0,9, -999.00,9, -999.00,9, -999.00,9, -999.00,9, -999.00,9,-999.000,9,-999.000,9,  -999.0,9,  -999.0,9,     -999.0,9
06MT20091026,       A16C,      52,          1,      52007,          7,2,20091116,       1507,     5.0002,   -22.9667,       3900,    94.9,  18.6465,  35.8227,2,-999.0000,9,    133.5,2,  -999.0,9, -999.00,9, -999.00,9, -999.00,9, -999.00,9, -999.00,9,-999.000,9,-999.000,9,  -999.0,9,  -999.0,9,     -999.0,9
06MT20091026,       A16C,      52,          1,      52008,          8,2,20091116,       1507,     5.0002,   -22.9667,       3900,    93.2,  19.0774,  35.9224,2,-999.0000,9,    135.2,2,  -999.0,9, -999.00,9, -999.00,9, -999.00,9, -999.00,9, -999.00,9,-999.000,9,-999.000,9,  -999.0,9,  -999.0,9,     -999.0,9
06MT20091026,       A16C,      52,          1,      52009,          9,2,20091116,       1507,     5.0002,   -22.9667,       3900,    91.6,  19.4424,  35.8655,2,-999.0000,9,    134.1,2,  -999.0,9, -999.00,9, -999.00,9, -999.00,9, -999.00,9, -999.00,9,-999.000,9,-999.000,9,  -999.0,9,  -999.0,9,     -999.0,9
06MT20091026,       A16C,      52,          1,      52010,         10,2,20091116,       1507,     5.0002,   -22.9667,       3900,    90.2,  19.5611,  35.8740,2,-999.0000,9,    140.4,2,  -999.0,9, -999.00,9, -999.00,9, -999.00,9, -999.00,9, -999.00,9,-999.000,9,-999.000,9,  -999.0,9,  -999.0,9,     -999.0,9
06MT20091026,       A16C,      52,          1,      52011,         11,2,20091116,       1507,     5.0002,   -22.9667,       3900,    88.5,  19.8408,  35.8722,2,-999.0000,9,    139.2,2,  -999.0,9, -999.00,9, -999.00,9, -999.00,9, -999.00,9, -999.00,9,-999.000,9,-999.000,9,  -999.0,9,  -999.0,9,     -999.0,9
06MT20091026,       A16C,      52,          1,      52012,         12,2,20091116,       1507,     5.0002,   -22.9667,       3900,    86.8,  19.9004,  35.8872,2,-999.0000,9,    141.2,2,  -999.0,9, -999.00,9, -999.00,9, -999.00,9, -999.00,9, -999.00,9,-999.000,9,-999.000,9,  -999.0,9,  -999.0,9,     -999.0,9
06MT20091026,       A16C,      52,          1,      52013,         13,2,20091116,       1507,     5.0002,   -22.9667,       3900,    85.4,  20.1459,  35.8957,2,-999.0000,9,    141.7,2,  -999.0,9, -999.00,9, -999.00,9, -999.00,9, -999.00,9, -999.00,9,-999.000,9,-999.000,9,  -999.0,9,  -999.0,9,     -999.0,9
06MT20091026,       A16C,      52,          1,      52014,         14,2,20091116,       1508,     5.0002,   -22.9667,       3900,    83.7,  20.8906,  35.8878,2,-999.0000,9,    140.8,2,  -999.0,9, -999.00,9, -999.00,9, -999.00,9, -999.00,9, -999.00,9,-999.000,9,-999.000,9,  -999.0,9,  -999.0,9,     -999.0,9
06MT20091026,       A16C,      52,          1,      52015,         15,2,20091116,       1508,     5.0002,   -22.9667,       3900,    82.3,  20.9958,  35.8745,2,-999.0000,9,    146.1,2,  -999.0,9, -999.00,9, -999.00,9, -999.00,9, -999.00,9, -999.00,9,-999.000,9,-999.000,9,  -999.0,9,  -999.0,9,     -999.0,9
06MT20091026,       A16C,      52,          1,      52016,         16,2,20091116,       1508,     5.0002,   -22.9667,       3900,    80.8,  21.0380,  35.9380,2,-999.0000,9,    148.7,2,  -999.0,9, -999.00,9, -999.00,9, -999.00,9, -999.00,9, -999.00,9,-999.000,9,-999.000,9,  -999.0,9,  -999.0,9,     -999.0,9
06MT20091026,       A16C,      52,          1,      52017,         17,2,20091116,       1508,     5.0002,   -22.9667,       3900,    79.3,  21.3301,  35.8728,2,-999.0000,9,    146.8,2,  -999.0,9, -999.00,9, -999.00,9, -999.00,9, -999.00,9, -999.00,9,-999.000,9,-999.000,9,  -999.0,9,  -999.0,9,     -999.0,9
06MT20091026,       A16C,      52,          1,      52018,         18,2,20091116,       1508,     5.0002,   -22.9667,       3900,    78.2,  21.4511,  35.8841,2,-999.0000,9,    150.8,2,  -999.0,9, -999.00,9, -999.00,9, -999.00,9, -999.00,9, -999.00,9,-999.000,9,-999.000,9,  -999.0,9,  -999.0,9,     -999.0,9
06MT20091026,       A16C,      52,          1,      52019,         19,2,20091116,       1508,     5.0002,   -22.9667,       3900,    76.3,  22.4386,  35.9566,2,-999.0000,9,    150.1,2,  -999.0,9, -999.00,9, -999.00,9, -999.00,9, -999.00,9, -999.00,9,-999.000,9,-999.000,9,  -999.0,9,  -999.0,9,     -999.0,9
06MT20091026,       A16C,      52,          1,      52020,         20,2,20091116,       1508,     5.0002,   -22.9667,       3900,    75.2,  22.1405,  35.9146,2,-999.0000,9,    155.3,2,  -999.0,9, -999.00,9, -999.00,9, -999.00,9, -999.00,9, -999.00,9,-999.000,9,-999.000,9,  -999.0,9,  -999.0,9,     -999.0,9
06MT20091026,       A16C,      52,          1,      52021,         21,2,20091116,       1508,     5.0002,   -22.9667,       3900,    73.8,  22.5019,  35.9588,2,-999.0000,9,    159.7,2,  -999.0,9, -999.00,9, -999.00,9, -999.00,9, -999.00,9, -999.00,9,-999.000,9,-999.000,9,  -999.0,9,  -999.0,9,     -999.0,9
06MT20091026,       A16C,      52,          1,      52022,         22,2,20091116,       1508,     5.0002,   -22.9667,       3900,    72.5,  22.4305,  35.9200,2,-999.0000,9,    155.4,2,  -999.0,9, -999.00,9, -999.00,9, -999.00,9, -999.00,9, -999.00,9,-999.000,9,-999.000,9,  -999.0,9,  -999.0,9,     -999.0,9
06MT20091026,       A16C,      52,          1,      52023,         23,2,20091116,       1508,     5.0002,   -22.9667,       3900,    70.6,  23.4172,  35.9899,2,-999.0000,9,    162.9,2,  -999.0,9, -999.00,9, -999.00,9, -999.00,9, -999.00,9, -999.00,9,-999.000,9,-999.000,9,  -999.0,9,  -999.0,9,     -999.0,9
06MT20091026,       A16C,      52,          1,      52024,         24,2,20091116,       1508,     5.0002,   -22.9667,       3900,    69.1,  23.3498,  35.9706,2,-999.0000,9,    166.7,2,  -999.0,9, -999.00,9, -999.00,9, -999.00,9, -999.00,9, -999.00,9,-999.000,9,-999.000,9,  -999.0,9,  -999.0,9,     -999.0,9
06MT20091026,       A16C,      53,          1,     203996,          1,2,20091116,       1824,     5.5002,   -22.9998,       3588,  1312.7,   4.5413,  34.8863,2,  34.8839,2,    186.3,2,   187.4,2, -999.00,9, -999.00,9, -999.00,9, -999.00,9, -999.00,9,-999.000,9,-999.000,9,  -999.0,9,  -999.0,9,     -999.0,9
06MT20091026,       A16C,      53,          1,     203997,          2,2,20091116,       1827,     5.5002,   -22.9998,       3588,  1207.9,   4.6837,  34.8468,2,-999.0000,9,    170.5,2,  -999.0,9, -999.00,9, -999.00,9, -999.00,9, -999.00,9, -999.00,9,-999.000,9,-999.000,9,  -999.0,9,  -999.0,9,     -999.0,9
06MT20091026,       A16C,      53,          1,     203998,          3,2,20091116,       1828,     5.5002,   -22.9998,       3588,  1106.1,   4.8113,  34.7851,2,-999.0000,9,    159.3,2,  -999.0,9, -999.00,9, -999.00,9, -999.00,9, -999.00,9, -999.00,9,-999.000,9,-999.000,9,  -999.0,9,  -999.0,9,     -999.0,9
06MT20091026,       A16C,      53,          1,     203999,          4,2,20091116,       1830,     5.5002,   -22.9998,       3588,  1005.0,   4.8712,  34.7036,2,-999.0000,9,    146.5,2,  -999.0,9, -999.00,9, -999.00,9, -999.00,9, -999.00,9, -999.00,9,-999.000,9,-999.000,9,  -999.0,9,  -999.0,9,     -999.0,9
06MT20091026,       A16C,      53,          1,     204000,          5,2,20091116,       1832,     5.5002,   -22.9998,       3588,   904.2,   4.9616,  34.6288,2,-999.0000,9,    137.9,2,  -999.0,9, -999.00,9, -999.00,9, -999.00,9, -999.00,9, -999.00,9,-999.000,9,-999.000,9,  -999.0,9,  -999.0,9,     -999.0,9
06MT20091026,       A16C,      53,          1,     204001,          6,2,20091116,       1834,     5.5002,   -22.9998,       3588,   803.1,   5.3646,  34.6116,2,-999.0000,9,    122.3,2,  -999.0,9, -999.00,9, -999.00,9, -999.00,9, -999.00,9, -999.00,9,-999.000,9,-999.000,9,  -999.0,9,  -999.0,9,     -999.0,9
06MT20091026,       A16C,      53,          1,     204002,          7,2,20091116,       1836,     5.5002,   -22.9998,       3588,   701.9,   5.9659,  34.6120,2,  34.6036,2,    118.1,2,  -999.0,9, -999.00,9, -999.00,9, -999.00,9, -999.00,9, -999.00,9,-999.000,9,-999.000,9,  -999.0,9,  -999.0,9,     -999.0,9
06MT20091026,       A16C,      53,          1,     204003,          8,2,20091116,       1838,     5.5002,   -22.9998,       3588,   603.0,   6.7210,  34.6671,2,-999.0000,9,    102.7,2,  -999.0,9, -999.00,9, -999.00,9, -999.00,9, -999.00,9, -999.00,9,-999.000,9,-999.000,9,  -999.0,9,  -999.0,9,     -999.0,9
06MT20091026,       A16C,      53,          1,     204004,          9,2,20091116,       1840,     5.5002,   -22.9998,       3588,   503.0,   7.5637,  34.7321,2,-999.0000,9,     90.6,2,  -999.0,9, -999.00,9, -999.00,9, -999.00,9, -999.00,9, -999.00,9,-999.000,9,-999.000,9,  -999.0,9,  -999.0,9,     -999.0,9
06MT20091026,       A16C,      53,          1,     204005,         10,2,20091116,       1842,     5.5002,   -22.9998,       3588,   401.4,   8.9387,  34.8711,2,-999.0000,9,     80.2,2,  -999.0,9, -999.00,9, -999.00,9, -999.00,9, -999.00,9, -999.00,9,-999.000,9,-999.000,9,  -999.0,9,  -999.0,9,     -999.0,9
06MT20091026,       A16C,      53,          1,     204006,         11,2,20091116,       1844,     5.5002,   -22.9998,       3588,   302.6,  11.2084,  35.1141,2,-999.0000,9,     65.4,2,  -999.0,9, -999.00,9, -999.00,9, -999.00,9, -999.00,9, -999.00,9,-999.000,9,-999.000,9,  -999.0,9,  -999.0,9,     -999.0,9
06MT20091026,       A16C,      53,          1,     204007,         12,2,20091116,       1845,     5.5002,   -22.9998,       3588,   250.0,  12.3287,  35.2175,2,-999.0000,9,     98.7,2,  -999.0,9, -999.00,9, -999.00,9, -999.00,9, -999.00,9, -999.00,9,-999.000,9,-999.000,9,  -999.0,9,  -999.0,9,     -999.0,9
06MT20091026,       A16C,      53,          1,     204008,         13,2,20091116,       1846,     5.5002,   -22.9998,       3588,   199.0,  13.3152,  35.3352,2,-999.0000,9,    105.2,2,   108.2,2, -999.00,9, -999.00,9, -999.00,9, -999.00,9, -999.00,9,-999.000,9,-999.000,9,  -999.0,9,  -999.0,9,     -999.0,9
06MT20091026,       A16C,      53,          1,     204009,         14,2,20091116,       1847,     5.5002,   -22.9998,       3588,   149.1,  14.1299,  35.4285,2,-999.0000,9,     92.4,2,  -999.0,9, -999.00,9, -999.00,9, -999.00,9, -999.00,9, -999.00,9,-999.000,9,-999.000,9,  -999.0,9,  -999.0,9,     -999.0,9
06MT20091026,       A16C,      53,          1,      53015,         15,2,20091116,       1847,     5.5002,   -22.9998,       3588,   142.9,  14.2186,  35.4417,2,-999.0000,9,     90.2,2,  -999.0,9, -999.00,9, -999.00,9, -999.00,9, -999.00,9, -999.00,9,-999.000,9,-999.000,9,  -999.0,9,  -999.0,9,     -999.0,9
06MT20091026,       A16C,      53,          1,      53016,         16,2,20091116,       1847,     5.5002,   -22.9998,       3588,   142.1,  14.2105,  35.4431,2,-999.0000,9,     90.2,2,  -999.0,9, -999.00,9, -999.00,9, -999.00,9, -999.00,9, -999.00,9,-999.000,9,-999.000,9,  -999.0,9,  -999.0,9,     -999.0,9
06MT20091026,       A16C,      53,          1,     204010,         17,2,20091116,       1848,     5.5002,   -22.9998,       3588,    99.1,  15.8078,  35.6333,2,  35.5729,2,     93.7,2,  -999.0,9, -999.00,9, -999.00,9, -999.00,9, -999.00,9, -999.00,9,-999.000,9,-999.000,9,  -999.0,9,  -999.0,9,     -999.0,9
06MT20091026,       A16C,      53,          1,     204011,         18,2,20091116,       1848,     5.5002,   -22.9998,       3588,    79.8,  19.1068,  35.7989,2,-999.0000,9,    125.6,2,   121.8,2, -999.00,9, -999.00,9, -999.00,9, -999.00,9, -999.00,9,-999.000,9,-999.000,9,  -999.0,9,  -999.0,9,     -999.0,9
06MT20091026,       A16C,      53,          1,     204012,         19,2,20091116,       1849,     5.5002,   -22.9998,       3588,    60.6,  25.4044,  35.9720,2,-999.0000,9,    185.2,2,  -999.0,9, -999.00,9, -999.00,9, -999.00,9, -999.00,9, -999.00,9,-999.000,9,-999.000,9,  -999.0,9,  -999.0,9,     -999.0,9
06MT20091026,       A16C,      53,          1,     204013,         20,2,20091116,       1849,     5.5002,   -22.9998,       3588,    39.6,  27.7655,  35.9161,2,-999.0000,9,    209.5,2,  -999.0,9, -999.00,9, -999.00,9, -999.00,9, -999.00,9, -999.00,9,-999.000,9,-999.000,9,  -999.0,9,  -999.0,9,     -999.0,9
06MT20091026,       A16C,      53,          1,     204014,         21,2,20091116,       1850,     5.5002,   -22.9998,       3588,    29.0,  28.3728,  35.7749,2,-999.0000,9,    198.4,2,  -999.0,9, -999.00,9, -999.00,9, -999.00,9, -999.00,9, -999.00,9,-999.000,9,-999.000,9,  -999.0,9,  -999.0,9,     -999.0,9
06MT20091026,       A16C,      53,          1,     204015,         22,2,20091116,       1850,     5.5002,   -22.9998,       3588,    19.2,  28.6195,  35.1417,2,-999.0000,9,    198.9,2,  -999.0,9, -999.00,9, -999.00,9, -999.00,9, -999.00,9, -999.00,9,-999.000,9,-999.000,9,  -999.0,9,  -999.0,9,     -999.0,9
06MT20091026,       A16C,      53,          1,     204016,         23,2,20091116,       1850,     5.5002,   -22.9998,       3588,     8.7,  28.6877,  34.8948,2,-999.0000,9,    199.7,2,   200.5,2, -999.00,9, -999.00,9, -999.00,9, -999.00,9, -999.00,9,-999.000,9,-999.000,9,  -999.0,9,  -999.0,9,     -999.0,9
06MT20091026,       A16C,      53,          1,     204017,         24,2,20091116,       1851,     5.5002,   -22.9998,       3588,     4.8,  28.7955,  34.6994,2,  34.7441,2,    200.5,2,  -999.0,9, -999.00,9, -999.00,9, -999.00,9, -999.00,9, -999.00,9,-999.000,9,-999.000,9,  -999.0,9,  -999.0,9,     -999.0,9