BOTTLE,20211119CCHSIORKP
EXPOCODE,SECT_ID,STNNBR,CASTNO,SAMPNO,BTLNBR,BTLNBR_FLAG_W,DATE,TIME,LATITUDE,LONGITUDE,DEPTH,CTDPRS,CTDTMP,CTDSAL,CTDSAL_FLAG_W,SALNTY,SALNTY_FLAG_W,CTDOXY,CTDOXY_FLAG_W,OXYGEN,OXYGEN_FLAG_W,SILCAT,SILCAT_FLAG_W,NH4,NH4_FLAG_W,NITRAT,NITRAT_FLAG_W,NITRIT,NITRIT_FLAG_W,PHSPHT,PHSPHT_FLAG_W,CFC-12,CFC-12_FLAG_W,SF6,SF6_FLAG_W,TCARBN,TCARBN_FLAG_W,ALKALI,ALKALI_FLAG_W,SF5CF3,SF5CF3_FLAG_W
,,,,,,,,,,,METERS,DBAR,ITS-90,PSS-78,,PSS-78,,UMOL/KG,,UMOL/KG,,UMOL/KG,,UMOL/KG,,UMOL/KG,,UMOL/KG,,UMOL/KG,,PMOL/KG,,FMOL/KG,,UMOL/KG,,UMOL/KG,,FMOL/KG,
06MT20091026,       A16C,      61,          1,     204150,          1,2,20091118,       1832,     7.9963,   -23.0841,       4757,   503.4,   8.5899,  34.9082,2,  34.9093,2,     60.8,2,    60.1,2, -999.00,9, -999.00,9, -999.00,9, -999.00,9, -999.00,9,   0.232,2,   0.333,4,  -999.0,9,  -999.0,9,       0.00,3
06MT20091026,       A16C,      61,          1,     204151,          2,2,20091118,       1835,     7.9963,   -23.0841,       4757,   426.3,   9.9345,  35.0442,2,-999.0000,9,     48.4,2,  -999.0,9, -999.00,9, -999.00,9, -999.00,9, -999.00,9, -999.00,9,-999.000,9,-999.000,9,  -999.0,9,  -999.0,9,     -999.0,9
06MT20091026,       A16C,      61,          1,     204152,          3,2,20091118,       1836,     7.9963,   -23.0841,       4757,   402.8,  10.0912,  35.0468,2,-999.0000,9,     52.2,2,    52.4,2, -999.00,9, -999.00,9, -999.00,9, -999.00,9, -999.00,9,   0.429,2,   0.191,4,  -999.0,9,  -999.0,9,       0.43,3
06MT20091026,       A16C,      61,          1,     204153,          4,2,20091118,       1837,     7.9963,   -23.0841,       4757,   377.2,  10.4358,  35.0481,2,-999.0000,9,     64.8,2,    65.6,2, -999.00,9, -999.00,9, -999.00,9, -999.00,9, -999.00,9,   0.567,2,   0.231,4,  -999.0,9,  -999.0,9,       1.29,3
06MT20091026,       A16C,      61,          1,     204154,          5,2,20091118,       1838,     7.9963,   -23.0841,       4757,   352.0,  10.7881,  35.0672,2,-999.0000,9,     77.7,2,    79.6,2, -999.00,9, -999.00,9, -999.00,9, -999.00,9, -999.00,9,-999.000,9,-999.000,9,  -999.0,9,  -999.0,9,     -999.0,9
06MT20091026,       A16C,      61,          1,     204155,          6,2,20091118,       1839,     7.9963,   -23.0841,       4757,   337.3,  11.0225,  35.0871,2,-999.0000,9,     83.0,2,    84.9,2, -999.00,9, -999.00,9, -999.00,9, -999.00,9, -999.00,9,   0.800,2,    0.32,4,  -999.0,9,  -999.0,9,       0.87,3
06MT20091026,       A16C,      61,          1,     204156,          7,2,20091118,       1839,     7.9963,   -23.0841,       4757,   321.0,  11.1639,  35.0920,2,-999.0000,9,     96.3,2,    96.0,2, -999.00,9, -999.00,9, -999.00,9, -999.00,9, -999.00,9,   0.849,2,   0.364,4,  -999.0,9,  -999.0,9,       0.32,3
06MT20091026,       A16C,      61,          1,     204157,          8,2,20091118,       1840,     7.9963,   -23.0841,       4757,   301.3,  11.3922,  35.1149,2,-999.0000,9,     96.2,2,    99.0,2, -999.00,9, -999.00,9, -999.00,9, -999.00,9, -999.00,9,   0.843,2,   0.364,4,  -999.0,9,  -999.0,9,       0.15,3
06MT20091026,       A16C,      61,          1,     204158,          9,2,20091118,       1841,     7.9963,   -23.0841,       4757,   277.0,  11.6902,  35.1413,2,-999.0000,9,    102.6,2,   104.8,2, -999.00,9, -999.00,9, -999.00,9, -999.00,9, -999.00,9,   0.907,2,   0.803,4,  -999.0,9,  -999.0,9,       0.03,3
06MT20091026,       A16C,      61,          1,     204159,         10,2,20091118,       1842,     7.9963,   -23.0841,       4757,   251.0,  11.9532,  35.1653,2,  35.1649,2,    115.0,2,   117.6,2, -999.00,9, -999.00,9, -999.00,9, -999.00,9, -999.00,9,   0.998,2,   0.458,4,  -999.0,9,  -999.0,9,       0.00,3
06MT20091026,       A16C,      61,          1,     204160,         11,2,20091118,       1843,     7.9963,   -23.0841,       4757,   225.7,  12.3354,  35.2158,2,-999.0000,9,    121.9,2,   123.2,2, -999.00,9, -999.00,9, -999.00,9, -999.00,9, -999.00,9,-999.000,9,-999.000,9,  -999.0,9,  -999.0,9,     -999.0,9
06MT20091026,       A16C,      61,          1,     204161,         12,2,20091118,       1843,     7.9963,   -23.0841,       4757,   200.7,  12.6849,  35.2639,2,-999.0000,9,    121.1,2,   121.5,2, -999.00,9, -999.00,9, -999.00,9, -999.00,9, -999.00,9,-999.000,9,-999.000,9,  -999.0,9,  -999.0,9,     -999.0,9
06MT20091026,       A16C,      61,          1,     204162,         13,2,20091118,       1845,     7.9963,   -23.0841,       4757,   150.5,  13.7755,  35.3955,2,-999.0000,9,    120.9,2,   124.2,2, -999.00,9, -999.00,9, -999.00,9, -999.00,9, -999.00,9,-999.000,9,-999.000,9,  -999.0,9,  -999.0,9,     -999.0,9
06MT20091026,       A16C,      61,          1,     204163,         14,2,20091118,       1846,     7.9963,   -23.0841,       4757,   124.7,  14.2457,  35.4389,2,-999.0000,9,     76.1,2,    85.1,2, -999.00,9, -999.00,9, -999.00,9, -999.00,9, -999.00,9,-999.000,9,-999.000,9,  -999.0,9,  -999.0,9,     -999.0,9
06MT20091026,       A16C,      61,          1,      61015,         15,2,20091118,       1846,     7.9963,   -23.0841,       4757,   121.5,  14.3701,  35.4610,2,-999.0000,9,     79.9,2,  -999.0,9, -999.00,9, -999.00,9, -999.00,9, -999.00,9, -999.00,9,-999.000,9,-999.000,9,  -999.0,9,  -999.0,9,     -999.0,9
06MT20091026,       A16C,      61,          1,      61016,         16,2,20091118,       1846,     7.9963,   -23.0841,       4757,   120.0,  14.4724,  35.4773,2,-999.0000,9,     79.2,2,  -999.0,9, -999.00,9, -999.00,9, -999.00,9, -999.00,9, -999.00,9,-999.000,9,-999.000,9,  -999.0,9,  -999.0,9,     -999.0,9
06MT20091026,       A16C,      61,          1,     204164,         17,2,20091118,       1847,     7.9963,   -23.0841,       4757,   100.8,  14.8367,  35.5174,2,-999.0000,9,    120.2,2,   113.1,2, -999.00,9, -999.00,9, -999.00,9, -999.00,9, -999.00,9,-999.000,9,-999.000,9,  -999.0,9,  -999.0,9,     -999.0,9
06MT20091026,       A16C,      61,          1,     204165,         18,2,20091118,       1847,     7.9963,   -23.0841,       4757,    80.1,  16.5654,  35.6693,2,-999.0000,9,    106.8,2,   110.8,2, -999.00,9, -999.00,9, -999.00,9, -999.00,9, -999.00,9,-999.000,9,-999.000,9,  -999.0,9,  -999.0,9,     -999.0,9
06MT20091026,       A16C,      61,          1,     204166,         19,2,20091118,       1848,     7.9963,   -23.0841,       4757,    59.8,  19.8707,  35.8536,2,-999.0000,9,    147.5,2,   134.5,2, -999.00,9, -999.00,9, -999.00,9, -999.00,9, -999.00,9,-999.000,9,-999.000,9,  -999.0,9,  -999.0,9,     -999.0,9
06MT20091026,       A16C,      61,          1,     204167,         20,2,20091118,       1848,     7.9963,   -23.0841,       4757,    49.3,  22.8535,  36.0133,2,-999.0000,9,    179.0,2,   167.0,2, -999.00,9, -999.00,9, -999.00,9, -999.00,9, -999.00,9,-999.000,9,-999.000,9,  -999.0,9,  -999.0,9,     -999.0,9
06MT20091026,       A16C,      61,          1,     204168,         21,2,20091118,       1849,     7.9963,   -23.0841,       4757,    39.8,  24.5198,  36.0674,2,-999.0000,9,    199.2,2,   181.9,2, -999.00,9, -999.00,9, -999.00,9, -999.00,9, -999.00,9,-999.000,9,-999.000,9,  -999.0,9,  -999.0,9,     -999.0,9
06MT20091026,       A16C,      61,          1,     204169,         22,2,20091118,       1849,     7.9963,   -23.0841,       4757,    29.3,  27.2197,  35.9496,2,-999.0000,9,    219.0,2,   215.4,2, -999.00,9, -999.00,9, -999.00,9, -999.00,9, -999.00,9,-999.000,9,-999.000,9,  -999.0,9,  -999.0,9,     -999.0,9
06MT20091026,       A16C,      61,          1,     204170,         23,2,20091118,       1849,     7.9963,   -23.0841,       4757,    19.5,  28.4667,  35.1409,2,-999.0000,9,    203.4,2,   200.7,2, -999.00,9, -999.00,9, -999.00,9, -999.00,9, -999.00,9,-999.000,9,-999.000,9,  -999.0,9,  -999.0,9,     -999.0,9
06MT20091026,       A16C,      61,          1,     204171,         24,2,20091118,       1850,     7.9963,   -23.0841,       4757,    12.2,  28.5541,  35.1113,2,  35.1188,2,    200.4,2,   200.0,2, -999.00,9, -999.00,9, -999.00,9, -999.00,9, -999.00,9,-999.000,9,-999.000,9,  -999.0,9,  -999.0,9,     -999.0,9
06MT20091026,       A16C,      62,          1,     204172,          1,2,20091119,       0217,     8.5000,   -23.0000,       4707,  1311.1,   4.6582,  34.9060,2,  34.9089,2,    187.9,2,   188.9,2, -999.00,9, -999.00,9, -999.00,9, -999.00,9, -999.00,9,-999.000,9,-999.000,9,  -999.0,9,  -999.0,9,     -999.0,9
06MT20091026,       A16C,      62,          1,     204173,          2,2,20091119,       0220,     8.5000,   -23.0000,       4707,  1208.5,   4.7838,  34.8706,2,-999.0000,9,    174.4,2,  -999.0,9, -999.00,9, -999.00,9, -999.00,9, -999.00,9, -999.00,9,-999.000,9,-999.000,9,  -999.0,9,  -999.0,9,     -999.0,9
06MT20091026,       A16C,      62,          1,     204174,          3,2,20091119,       0221,     8.5000,   -23.0000,       4707,  1106.6,   4.9622,  34.8203,2,-999.0000,9,    157.9,2,  -999.0,9, -999.00,9, -999.00,9, -999.00,9, -999.00,9, -999.00,9,-999.000,9,-999.000,9,  -999.0,9,  -999.0,9,     -999.0,9
06MT20091026,       A16C,      62,          1,     204175,          4,2,20091119,       0223,     8.5000,   -23.0000,       4707,  1004.8,   5.0980,  34.7499,2,-999.0000,9,    139.2,2,  -999.0,9, -999.00,9, -999.00,9, -999.00,9, -999.00,9, -999.00,9,-999.000,9,-999.000,9,  -999.0,9,  -999.0,9,     -999.0,9
06MT20091026,       A16C,      62,          1,     204176,          5,2,20091119,       0225,     8.5000,   -23.0000,       4707,   905.7,   5.2998,  34.6913,2,-999.0000,9,    125.9,2,  -999.0,9, -999.00,9, -999.00,9, -999.00,9, -999.00,9, -999.00,9,-999.000,9,-999.000,9,  -999.0,9,  -999.0,9,     -999.0,9
06MT20091026,       A16C,      62,          1,     204177,          6,2,20091119,       0227,     8.5000,   -23.0000,       4707,   803.8,   5.7225,  34.6789,2,  34.6816,2,    108.6,2,  -999.0,9, -999.00,9, -999.00,9, -999.00,9, -999.00,9, -999.00,9,-999.000,9,-999.000,9,  -999.0,9,  -999.0,9,     -999.0,9
06MT20091026,       A16C,      62,          1,     204178,          7,2,20091119,       0229,     8.5000,   -23.0000,       4707,   702.8,   6.3395,  34.7067,2,-999.0000,9,     95.4,2,  -999.0,9, -999.00,9, -999.00,9, -999.00,9, -999.00,9, -999.00,9,-999.000,9,-999.000,9,  -999.0,9,  -999.0,9,     -999.0,9
06MT20091026,       A16C,      62,          1,     204179,          8,2,20091119,       0231,     8.5000,   -23.0000,       4707,   602.7,   7.2493,  34.7691,2,-999.0000,9,     77.4,2,  -999.0,9, -999.00,9, -999.00,9, -999.00,9, -999.00,9, -999.00,9,-999.000,9,-999.000,9,  -999.0,9,  -999.0,9,     -999.0,9
06MT20091026,       A16C,      62,          1,     204180,          9,2,20091119,       0233,     8.5000,   -23.0000,       4707,   501.7,   8.7466,  34.9419,2,-999.0000,9,     53.6,2,  -999.0,9, -999.00,9, -999.00,9, -999.00,9, -999.00,9, -999.00,9,-999.000,9,-999.000,9,  -999.0,9,  -999.0,9,     -999.0,9
06MT20091026,       A16C,      62,          1,     204181,         10,2,20091119,       0235,     8.5000,   -23.0000,       4707,   400.2,  10.0391,  35.0447,2,-999.0000,9,     50.2,2,  -999.0,9, -999.00,9, -999.00,9, -999.00,9, -999.00,9, -999.00,9,-999.000,9,-999.000,9,  -999.0,9,  -999.0,9,     -999.0,9
06MT20091026,       A16C,      62,          1,     204182,         11,2,20091119,       0236,     8.5000,   -23.0000,       4707,   351.8,  10.7476,  35.1132,2,  35.1045,2,     59.0,2,  -999.0,9, -999.00,9, -999.00,9, -999.00,9, -999.00,9, -999.00,9,-999.000,9,-999.000,9,  -999.0,9,  -999.0,9,     -999.0,9
06MT20091026,       A16C,      62,          1,     204183,         12,2,20091119,       0237,     8.5000,   -23.0000,       4707,   299.9,  11.1288,  35.1013,2,-999.0000,9,     83.6,2,  -999.0,9, -999.00,9, -999.00,9, -999.00,9, -999.00,9, -999.00,9,-999.000,9,-999.000,9,  -999.0,9,  -999.0,9,     -999.0,9
06MT20091026,       A16C,      62,          1,     204184,         13,2,20091119,       0238,     8.5000,   -23.0000,       4707,   250.3,  11.5621,  35.1324,2,-999.0000,9,     97.1,2,    97.6,2, -999.00,9, -999.00,9, -999.00,9, -999.00,9, -999.00,9,-999.000,9,-999.000,9,  -999.0,9,  -999.0,9,     -999.0,9
06MT20091026,       A16C,      62,          1,     204185,         14,2,20091119,       0239,     8.5000,   -23.0000,       4707,   200.2,  12.0570,  35.1800,2,-999.0000,9,    112.5,2,  -999.0,9, -999.00,9, -999.00,9, -999.00,9, -999.00,9, -999.00,9,-999.000,9,-999.000,9,  -999.0,9,  -999.0,9,     -999.0,9
06MT20091026,       A16C,      62,          1,      62015,         15,2,20091119,       0239,     8.5000,   -23.0000,       4707,   196.6,  12.1292,  35.1906,2,-999.0000,9,    114.1,2,  -999.0,9, -999.00,9, -999.00,9, -999.00,9, -999.00,9, -999.00,9,-999.000,9,-999.000,9,  -999.0,9,  -999.0,9,     -999.0,9
06MT20091026,       A16C,      62,          1,      62016,         16,2,20091119,       0239,     8.5000,   -23.0000,       4707,   194.8,  12.1513,  35.1925,2,-999.0000,9,    112.7,2,  -999.0,9, -999.00,9, -999.00,9, -999.00,9, -999.00,9, -999.00,9,-999.000,9,-999.000,9,  -999.0,9,  -999.0,9,     -999.0,9
06MT20091026,       A16C,      62,          1,     204186,         17,2,20091119,       0240,     8.5000,   -23.0000,       4707,   148.8,  12.8405,  35.2819,2,-999.0000,9,    116.4,2,  -999.0,9, -999.00,9, -999.00,9, -999.00,9, -999.00,9, -999.00,9,-999.000,9,-999.000,9,  -999.0,9,  -999.0,9,     -999.0,9
06MT20091026,       A16C,      62,          1,     204187,         18,2,20091119,       0241,     8.5000,   -23.0000,       4707,   100.4,  14.3099,  35.4524,2,-999.0000,9,    115.8,2,   118.7,2, -999.00,9, -999.00,9, -999.00,9, -999.00,9, -999.00,9,-999.000,9,-999.000,9,  -999.0,9,  -999.0,9,     -999.0,9
06MT20091026,       A16C,      62,          1,     204188,         19,2,20091119,       0241,     8.5000,   -23.0000,       4707,    80.3,  15.6771,  35.6130,2,-999.0000,9,    112.5,2,  -999.0,9, -999.00,9, -999.00,9, -999.00,9, -999.00,9, -999.00,9,-999.000,9,-999.000,9,  -999.0,9,  -999.0,9,     -999.0,9
06MT20091026,       A16C,      62,          1,     204189,         20,2,20091119,       0242,     8.5000,   -23.0000,       4707,    57.2,  20.1180,  35.9140,2,-999.0000,9,    141.6,2,  -999.0,9, -999.00,9, -999.00,9, -999.00,9, -999.00,9, -999.00,9,-999.000,9,-999.000,9,  -999.0,9,  -999.0,9,     -999.0,9
06MT20091026,       A16C,      62,          1,     204190,         21,2,20091119,       0243,     8.5000,   -23.0000,       4707,    38.8,  25.7559,  36.1606,2,-999.0000,9,    198.1,2,  -999.0,9, -999.00,9, -999.00,9, -999.00,9, -999.00,9, -999.00,9,-999.000,9,-999.000,9,  -999.0,9,  -999.0,9,     -999.0,9
06MT20091026,       A16C,      62,          1,     204191,         22,2,20091119,       0244,     8.5000,   -23.0000,       4707,    19.7,  28.4756,  35.1693,2,-999.0000,9,    201.1,2,  -999.0,9, -999.00,9, -999.00,9, -999.00,9, -999.00,9, -999.00,9,-999.000,9,-999.000,9,  -999.0,9,  -999.0,9,     -999.0,9
06MT20091026,       A16C,      62,          1,     204192,         23,2,20091119,       0244,     8.5000,   -23.0000,       4707,     9.7,  28.4309,  35.1312,2,  35.1454,2,    199.5,2,   205.5,2, -999.00,9, -999.00,9, -999.00,9, -999.00,9, -999.00,9,-999.000,9,-999.000,9,  -999.0,9,  -999.0,9,     -999.0,9
06MT20091026,       A16C,      62,          1,     204193,         24,2,20091119,       0244,     8.5000,   -23.0000,       4707,     3.9,  28.4300,  35.1311,2,-999.0000,9,    200.1,2,  -999.0,9, -999.00,9, -999.00,9, -999.00,9, -999.00,9, -999.00,9,-999.000,9,-999.000,9,  -999.0,9,  -999.0,9,     -999.0,9