BOTTLE,20211119CCHSIORKP
EXPOCODE,SECT_ID,STNNBR,CASTNO,SAMPNO,BTLNBR,BTLNBR_FLAG_W,DATE,TIME,LATITUDE,LONGITUDE,DEPTH,CTDPRS,CTDTMP,CTDSAL,CTDSAL_FLAG_W,SALNTY,SALNTY_FLAG_W,CTDOXY,CTDOXY_FLAG_W,OXYGEN,OXYGEN_FLAG_W,SILCAT,SILCAT_FLAG_W,NH4,NH4_FLAG_W,NITRAT,NITRAT_FLAG_W,NITRIT,NITRIT_FLAG_W,PHSPHT,PHSPHT_FLAG_W,CFC-12,CFC-12_FLAG_W,SF6,SF6_FLAG_W,TCARBN,TCARBN_FLAG_W,ALKALI,ALKALI_FLAG_W,SF5CF3,SF5CF3_FLAG_W
,,,,,,,,,,,METERS,DBAR,ITS-90,PSS-78,,PSS-78,,UMOL/KG,,UMOL/KG,,UMOL/KG,,UMOL/KG,,UMOL/KG,,UMOL/KG,,UMOL/KG,,PMOL/KG,,FMOL/KG,,UMOL/KG,,UMOL/KG,,FMOL/KG,
06MT20091026,       A16C,      54,          1,     204018,          1,2,20091116,       2217,     5.9999,   -22.9983,       3588,  1308.9,   4.5819,  34.8914,2,  34.8928,2,    187.9,2,   188.6,2,   20.78,2,    0.14,2,   28.05,2,    0.02,2,    1.87,2,-999.000,9,-999.000,9,  2196.6,2,  2315.6,2,     -999.0,9
06MT20091026,       A16C,      54,          1,     204019,          2,2,20091116,       2220,     5.9999,   -22.9983,       3588,  1206.6,   4.6761,  34.8518,2,-999.0000,9,    173.3,2,   173.0,2, -999.00,9, -999.00,9, -999.00,9, -999.00,9, -999.00,9,-999.000,9,-999.000,9,  -999.0,9,  -999.0,9,     -999.0,9
06MT20091026,       A16C,      54,          1,     204020,          3,2,20091116,       2222,     5.9999,   -22.9983,       3588,  1106.7,   4.8089,  34.7866,2,-999.0000,9,    160.5,2,   159.5,2,   23.34,2,    0.14,2,   32.81,2,    0.02,2,    2.11,2,-999.000,9,-999.000,9,  2213.1,2,  2316.2,2,     -999.0,9
06MT20091026,       A16C,      54,          1,     204021,          4,2,20091116,       2224,     5.9999,   -22.9983,       3588,  1006.5,   5.0074,  34.7154,2,-999.0000,9,    140.5,2,   139.5,2, -999.00,9, -999.00,9, -999.00,9, -999.00,9, -999.00,9,   0.021,2,   0.003,2,  -999.0,9,  -999.0,9,       0.00,3
06MT20091026,       A16C,      54,          1,     204022,          5,2,20091116,       2226,     5.9999,   -22.9983,       3588,   905.2,   5.2078,  34.6600,2,-999.0000,9,    128.6,2,   127.1,2,   26.16,2,    0.12,2,   37.45,2,    0.01,2,    2.45,2,-999.000,9,-999.000,9,  2228.3,2,  2309.5,2,     -999.0,9
06MT20091026,       A16C,      54,          1,     204023,          6,2,20091116,       2228,     5.9999,   -22.9983,       3588,   805.2,   5.4370,  34.6045,2,  34.6050,2,    123.8,2,   122.9,2, -999.00,9, -999.00,9, -999.00,9, -999.00,9, -999.00,9,   0.064,2,   0.003,3,  -999.0,9,  -999.0,9,       0.00,3
06MT20091026,       A16C,      54,          1,     204024,          7,2,20091116,       2230,     5.9999,   -22.9983,       3588,   702.8,   5.9880,  34.6154,2,-999.0000,9,    117.7,2,   118.0,2,   23.47,2,       0,2,   37.92,2,    0.01,2,    2.37,2,-999.000,9,-999.000,9,  2227.0,2,  2303.7,2,     -999.0,9
06MT20091026,       A16C,      54,          1,     204025,          8,2,20091116,       2233,     5.9999,   -22.9983,       3588,   602.1,   6.7357,  34.6725,2,-999.0000,9,    100.0,2,    99.4,2, -999.00,9, -999.00,9, -999.00,9, -999.00,9, -999.00,9,   0.155,2,   0.062,2,  -999.0,9,  -999.0,9,       0.00,3
06MT20091026,       A16C,      54,          1,     204026,          9,2,20091116,       2234,     5.9999,   -22.9983,       3588,   502.1,   7.3943,  34.7182,2,-999.0000,9,     95.0,2,    95.6,2,   18.60,2,    0.11,2,   37.40,2,    0.01,2,    2.35,2,   0.250,2,    0.14,2,  2229.9,2,  2302.5,2,       0.00,3
06MT20091026,       A16C,      54,          1,     204027,         10,2,20091116,       2236,     5.9999,   -22.9983,       3588,   401.8,   8.7801,  34.8680,2,-999.0000,9,     73.4,2,    73.8,2,   15.73,6,     0.1,6,   37.00,6,    0.01,6,    2.28,6,   0.348,2,   0.118,2,  2235.6,2,  2306.0,2,       0.00,3
06MT20091026,       A16C,      54,          1,     204028,         11,2,20091116,       2238,     5.9999,   -22.9983,       3588,   317.3,  10.9506,  35.1005,2,-999.0000,9,     61.4,2,  -999.0,9,   11.52,2,    0.06,2,   33.05,2,    0.01,2,    1.92,2,   0.620,2,   0.285,2,  2232.4,2,  2313.3,2,       1.53,3
06MT20091026,       A16C,      54,          1,     204029,         12,2,20091116,       2240,     5.9999,   -22.9983,       3588,   248.9,  12.4360,  35.2346,2,-999.0000,9,    104.4,2,    98.4,2,    8.42,2,    0.08,2,   25.79,2,    0.01,2,    1.61,2,   0.933,2,   0.422,2,  2199.3,2,  2319.2,2,       0.07,3
06MT20091026,       A16C,      54,          1,     204030,         13,2,20091116,       2241,     5.9999,   -22.9983,       3588,   198.6,  13.3102,  35.3311,2,-999.0000,9,    101.8,2,   101.9,2,    7.15,2,    0.06,2,   23.55,2,    0.01,2,    1.51,2,   1.038,2,   0.775,3,  2193.6,2,  2324.4,2,       0.00,3
06MT20091026,       A16C,      54,          1,     204031,         14,2,20091116,       2242,     5.9999,   -22.9983,       3588,   149.3,  14.1429,  35.4379,2,  35.4140,2,     90.2,2,    91.0,2,    6.80,2,    0.07,2,   23.34,2,    0.01,2,    1.45,2,   1.047,2,   0.686,2,  2198.0,2,  2327.5,2,       0.00,3
06MT20091026,       A16C,      54,          1,      54015,         15,2,20091116,       2242,     5.9999,   -22.9983,       3588,   144.9,  14.2560,  35.4460,2,-999.0000,9,     90.0,2,  -999.0,9, -999.00,9, -999.00,9, -999.00,9, -999.00,9, -999.00,9,-999.000,9,-999.000,9,  -999.0,9,  -999.0,9,     -999.0,9
06MT20091026,       A16C,      54,          1,      54016,         16,2,20091116,       2242,     5.9999,   -22.9983,       3588,   141.8,  14.2993,  35.4523,2,-999.0000,9,     85.6,2,  -999.0,9, -999.00,9, -999.00,9, -999.00,9, -999.00,9, -999.00,9,-999.000,9,-999.000,9,  -999.0,9,  -999.0,9,     -999.0,9
06MT20091026,       A16C,      54,          1,     204032,         17,2,20091116,       2243,     5.9999,   -22.9983,       3588,    99.1,  16.0799,  35.6622,2,-999.0000,9,    100.9,2,    96.3,2,    5.66,2,     0.1,2,   21.09,2,    0.03,2,    1.32,2,   1.098,2,   0.869,2,  2191.2,2,  2334.2,2,       0.00,3
06MT20091026,       A16C,      54,          1,     204033,         18,2,20091116,       2243,     5.9999,   -22.9983,       3588,    79.6,  18.0130,  35.7712,2,-999.0000,9,    106.8,2,   106.0,2,    4.37,2,    0.03,2,   16.03,2,    0.07,2,    1.02,2,   1.122,2,   0.716,2,  2177.5,2,  2342.1,2,       0.00,3
06MT20091026,       A16C,      54,          1,     204034,         19,2,20091116,       2244,     5.9999,   -22.9983,       3588,    59.4,  21.9178,  35.9333,2,-999.0000,9,    153.6,2,   155.8,2,    1.97,2,    0.07,2,    4.44,2,    0.35,2,    0.29,2,   1.029,2,   0.866,2,  2109.9,2,  2359.2,2,       0.00,3
06MT20091026,       A16C,      54,          1,     204035,         20,2,20091116,       2245,     5.9999,   -22.9983,       3588,    40.5,  26.2592,  36.0828,2,-999.0000,9,    206.4,2,   210.8,2,    0.25,2,    0.05,2,    0.01,2,    0.00,2,    0.00,2,   0.981,2,   1.425,3,  2021.0,2,  2365.7,2,       0.00,3
06MT20091026,       A16C,      54,          1,     204036,         21,2,20091116,       2245,     5.9999,   -22.9983,       3588,    30.1,  28.1728,  35.7727,2,-999.0000,9,    207.2,2,   202.6,2, -999.00,9, -999.00,9, -999.00,9, -999.00,9, -999.00,9,-999.000,9,-999.000,9,  -999.0,9,  -999.0,9,     -999.0,9
06MT20091026,       A16C,      54,          1,     204037,         22,2,20091116,       2245,     5.9999,   -22.9983,       3588,    17.9,  28.6014,  34.8495,2,-999.0000,9,    198.9,2,   197.1,2,    0.07,2,    0.11,2,    0.00,2,    0.00,2,    0.01,2,   0.926,2,   1.194,3,  1934.9,2,  2284.8,2,       0.00,3
06MT20091026,       A16C,      54,          1,     204038,         23,2,20091116,       2246,     5.9999,   -22.9983,       3588,     9.3,  28.5783,  34.5929,2,  34.7254,3,    199.2,2,   198.3,2,    0.00,2,    0.07,2,    0.14,2,    0.00,2,    0.02,2,   0.937,2,   1.497,3,  1924.9,2,  2275.2,2,       0.00,3
06MT20091026,       A16C,      54,          1,     204039,         24,2,20091116,       2246,     5.9999,   -22.9983,       3588,     4.4,  28.5630,  34.5521,2,-999.0000,9,    199.2,2,   197.9,2,    0.06,2,    0.02,2,    0.30,2,    0.01,2,    0.04,2,-999.000,9,-999.000,9,  1918.1,2,  2270.7,2,     -999.0,9
06MT20091026,       A16C,      55,          1,     204040,          1,2,20091117,       0215,     6.5001,   -22.9998,       4204,  1309.7,   4.4533,  34.9074,2,  34.9100,2,    194.0,2,   195.2,2, -999.00,9, -999.00,9, -999.00,9, -999.00,9, -999.00,9,-999.000,9,-999.000,9,  -999.0,9,  -999.0,9,     -999.0,9
06MT20091026,       A16C,      55,          1,     204041,          2,2,20091117,       0218,     6.5001,   -22.9998,       4204,  1208.5,   4.6491,  34.8592,2,-999.0000,9,    177.1,2,  -999.0,9, -999.00,9, -999.00,9, -999.00,9, -999.00,9, -999.00,9,-999.000,9,-999.000,9,  -999.0,9,  -999.0,9,     -999.0,9
06MT20091026,       A16C,      55,          1,     204042,          3,2,20091117,       0220,     6.5001,   -22.9998,       4204,  1106.8,   4.7682,  34.8026,2,-999.0000,9,    165.2,2,  -999.0,9, -999.00,9, -999.00,9, -999.00,9, -999.00,9, -999.00,9,-999.000,9,-999.000,9,  -999.0,9,  -999.0,9,     -999.0,9
06MT20091026,       A16C,      55,          1,     204043,          4,2,20091117,       0221,     6.5001,   -22.9998,       4204,  1005.6,   4.8501,  34.7437,2,-999.0000,9,    152.5,2,  -999.0,9, -999.00,9, -999.00,9, -999.00,9, -999.00,9, -999.00,9,-999.000,9,-999.000,9,  -999.0,9,  -999.0,9,     -999.0,9
06MT20091026,       A16C,      55,          1,     204044,          5,2,20091117,       0224,     6.5001,   -22.9998,       4204,   904.7,   5.1759,  34.6899,2,-999.0000,9,    129.4,2,  -999.0,9, -999.00,9, -999.00,9, -999.00,9, -999.00,9, -999.00,9,-999.000,9,-999.000,9,  -999.0,9,  -999.0,9,     -999.0,9
06MT20091026,       A16C,      55,          1,     204045,          6,2,20091117,       0225,     6.5001,   -22.9998,       4204,   803.5,   5.5512,  34.6426,2,-999.0000,9,    114.4,2,  -999.0,9, -999.00,9, -999.00,9, -999.00,9, -999.00,9, -999.00,9,-999.000,9,-999.000,9,  -999.0,9,  -999.0,9,     -999.0,9
06MT20091026,       A16C,      55,          1,     204046,          7,2,20091117,       0227,     6.5001,   -22.9998,       4204,   703.5,   6.0917,  34.6688,2,  34.6531,2,     98.3,2,  -999.0,9, -999.00,9, -999.00,9, -999.00,9, -999.00,9, -999.00,9,-999.000,9,-999.000,9,  -999.0,9,  -999.0,9,     -999.0,9
06MT20091026,       A16C,      55,          1,     204047,          8,2,20091117,       0229,     6.5001,   -22.9998,       4204,   602.5,   6.8456,  34.7121,2,-999.0000,9,     89.3,2,  -999.0,9, -999.00,9, -999.00,9, -999.00,9, -999.00,9, -999.00,9,-999.000,9,-999.000,9,  -999.0,9,  -999.0,9,     -999.0,9
06MT20091026,       A16C,      55,          1,     204048,          9,2,20091117,       0231,     6.5001,   -22.9998,       4204,   502.8,   7.9244,  34.8242,2,-999.0000,9,     69.6,2,  -999.0,9, -999.00,9, -999.00,9, -999.00,9, -999.00,9, -999.00,9,-999.000,9,-999.000,9,  -999.0,9,  -999.0,9,     -999.0,9
06MT20091026,       A16C,      55,          1,     204049,         10,2,20091117,       0233,     6.5001,   -22.9998,       4204,   400.2,   9.8922,  35.0318,2,-999.0000,9,     52.9,2,  -999.0,9, -999.00,9, -999.00,9, -999.00,9, -999.00,9, -999.00,9,-999.000,9,-999.000,9,  -999.0,9,  -999.0,9,     -999.0,9
06MT20091026,       A16C,      55,          1,     204050,         11,2,20091117,       0235,     6.5001,   -22.9998,       4204,   300.7,  11.4250,  35.1267,2,-999.0000,9,     81.8,2,  -999.0,9, -999.00,9, -999.00,9, -999.00,9, -999.00,9, -999.00,9,-999.000,9,-999.000,9,  -999.0,9,  -999.0,9,     -999.0,9
06MT20091026,       A16C,      55,          1,     204051,         12,2,20091117,       0236,     6.5001,   -22.9998,       4204,   249.8,  12.9335,  35.2901,2,-999.0000,9,     98.6,2,  -999.0,9, -999.00,9, -999.00,9, -999.00,9, -999.00,9, -999.00,9,-999.000,9,-999.000,9,  -999.0,9,  -999.0,9,     -999.0,9
06MT20091026,       A16C,      55,          1,     204052,         13,2,20091117,       0237,     6.5001,   -22.9998,       4204,   199.4,  13.7834,  35.3929,2,-999.0000,9,    103.9,2,   105.2,2, -999.00,9, -999.00,9, -999.00,9, -999.00,9, -999.00,9,-999.000,9,-999.000,9,  -999.0,9,  -999.0,9,     -999.0,9
06MT20091026,       A16C,      55,          1,     204053,         14,2,20091117,       0238,     6.5001,   -22.9998,       4204,   149.7,  14.5955,  35.4933,2,  35.4699,2,    101.1,2,  -999.0,9, -999.00,9, -999.00,9, -999.00,9, -999.00,9, -999.00,9,-999.000,9,-999.000,9,  -999.0,9,  -999.0,9,     -999.0,9
06MT20091026,       A16C,      55,          1,      55015,         15,2,20091117,       0238,     6.5001,   -22.9998,       4204,   146.4,  14.6100,  35.4941,2,-999.0000,9,    101.1,2,  -999.0,9, -999.00,9, -999.00,9, -999.00,9, -999.00,9, -999.00,9,-999.000,9,-999.000,9,  -999.0,9,  -999.0,9,     -999.0,9
06MT20091026,       A16C,      55,          1,      55016,         16,2,20091117,       0238,     6.5001,   -22.9998,       4204,   144.7,  14.6286,  35.4965,2,-999.0000,9,    101.0,2,  -999.0,9, -999.00,9, -999.00,9, -999.00,9, -999.00,9, -999.00,9,-999.000,9,-999.000,9,  -999.0,9,  -999.0,9,     -999.0,9
06MT20091026,       A16C,      55,          1,     204054,         17,2,20091117,       0239,     6.5001,   -22.9998,       4204,   100.8,  16.1167,  35.5669,2,-999.0000,9,     87.9,2,  -999.0,9, -999.00,9, -999.00,9, -999.00,9, -999.00,9, -999.00,9,-999.000,9,-999.000,9,  -999.0,9,  -999.0,9,     -999.0,9
06MT20091026,       A16C,      55,          1,     204055,         18,2,20091117,       0240,     6.5001,   -22.9998,       4204,    79.0,  18.2392,  35.7597,2,-999.0000,9,    119.6,2,   125.4,2, -999.00,9, -999.00,9, -999.00,9, -999.00,9, -999.00,9,-999.000,9,-999.000,9,  -999.0,9,  -999.0,9,     -999.0,9
06MT20091026,       A16C,      55,          1,     204056,         19,2,20091117,       0240,     6.5001,   -22.9998,       4204,    61.6,  21.3585,  35.9510,2,-999.0000,9,    142.8,2,  -999.0,9, -999.00,9, -999.00,9, -999.00,9, -999.00,9, -999.00,9,-999.000,9,-999.000,9,  -999.0,9,  -999.0,9,     -999.0,9
06MT20091026,       A16C,      55,          1,     204057,         20,2,20091117,       0241,     6.5001,   -22.9998,       4204,    40.1,  27.8653,  35.9763,2,-999.0000,9,    220.2,2,  -999.0,9, -999.00,9, -999.00,9, -999.00,9, -999.00,9, -999.00,9,-999.000,9,-999.000,9,  -999.0,9,  -999.0,9,     -999.0,9
06MT20091026,       A16C,      55,          1,     204058,         21,2,20091117,       0242,     6.5001,   -22.9998,       4204,    29.6,  28.6807,  34.7561,2,-999.0000,9,    201.4,2,  -999.0,9, -999.00,9, -999.00,9, -999.00,9, -999.00,9, -999.00,9,-999.000,9,-999.000,9,  -999.0,9,  -999.0,9,     -999.0,9
06MT20091026,       A16C,      55,          1,     204059,         22,2,20091117,       0242,     6.5001,   -22.9998,       4204,    19.5,  28.6166,  34.6609,2,-999.0000,9,    199.2,2,  -999.0,9, -999.00,9, -999.00,9, -999.00,9, -999.00,9, -999.00,9,-999.000,9,-999.000,9,  -999.0,9,  -999.0,9,     -999.0,9
06MT20091026,       A16C,      55,          1,     204060,         23,2,20091117,       0242,     6.5001,   -22.9998,       4204,    10.3,  28.6067,  34.6607,2,-999.0000,9,    199.0,2,   201.8,2, -999.00,9, -999.00,9, -999.00,9, -999.00,9, -999.00,9,-999.000,9,-999.000,9,  -999.0,9,  -999.0,9,     -999.0,9
06MT20091026,       A16C,      55,          1,     204061,         24,2,20091117,       0243,     6.5001,   -22.9998,       4204,     4.8,  28.6062,  34.6603,2,  34.6615,2,    199.4,2,  -999.0,9, -999.00,9, -999.00,9, -999.00,9, -999.00,9, -999.00,9,-999.000,9,-999.000,9,  -999.0,9,  -999.0,9,     -999.0,9