BOTTLE,20211119CCHSIORKP
EXPOCODE,SECT_ID,STNNBR,CASTNO,SAMPNO,BTLNBR,BTLNBR_FLAG_W,DATE,TIME,LATITUDE,LONGITUDE,DEPTH,CTDPRS,CTDTMP,CTDSAL,CTDSAL_FLAG_W,SALNTY,SALNTY_FLAG_W,CTDOXY,CTDOXY_FLAG_W,OXYGEN,OXYGEN_FLAG_W,SILCAT,SILCAT_FLAG_W,NH4,NH4_FLAG_W,NITRAT,NITRAT_FLAG_W,NITRIT,NITRIT_FLAG_W,PHSPHT,PHSPHT_FLAG_W,CFC-12,CFC-12_FLAG_W,SF6,SF6_FLAG_W,TCARBN,TCARBN_FLAG_W,ALKALI,ALKALI_FLAG_W,SF5CF3,SF5CF3_FLAG_W
,,,,,,,,,,,METERS,DBAR,ITS-90,PSS-78,,PSS-78,,UMOL/KG,,UMOL/KG,,UMOL/KG,,UMOL/KG,,UMOL/KG,,UMOL/KG,,UMOL/KG,,PMOL/KG,,FMOL/KG,,UMOL/KG,,UMOL/KG,,FMOL/KG,
06MT20091026,       A16C,      41,          1,     203776,          1,2,20091113,       0006,    -0.0005,   -22.9989,       3996,  3986.5,   2.3717,  34.8902,2,  34.8917,2,    249.7,2,   249.1,2,   39.46,6,    0.05,6,   22.12,6,    0.01,6,    1.44,6,-999.000,9,-999.000,9,  2192.7,2,  2338.7,2,     -999.0,9
06MT20091026,       A16C,      41,          1,     203777,          2,2,20091113,       0015,    -0.0005,   -22.9989,       3996,  3546.1,   2.4472,  34.8984,2,-999.0000,9,    248.0,2,   249.3,2,   37.47,2,       0,2,   22.01,2,    0.01,2,    1.45,2,-999.000,9,-999.000,9,  2190.4,2,  2341.0,2,     -999.0,9
06MT20091026,       A16C,      41,          1,     203778,          3,2,20091113,       0025,    -0.0005,   -22.9989,       3996,  3034.0,   2.6506,  34.9120,2,  34.9132,2,    246.6,2,   247.2,2,   34.42,2,    0.07,2,   22.05,2,    0.01,2,    1.44,2,-999.000,9,-999.000,9,  2185.9,2,  2334.2,2,     -999.0,9
06MT20091026,       A16C,      41,          1,     203779,          4,2,20091113,       0035,    -0.0005,   -22.9989,       3996,  2526.0,   3.0186,  34.9340,2,-999.0000,9,    244.9,2,   246.9,2,   28.37,2,    0.06,2,   21.95,2,    0.01,2,    1.41,2,-999.000,9,-999.000,9,  2179.9,2,  2330.9,2,     -999.0,9
06MT20091026,       A16C,      41,          1,     203780,          5,2,20091113,       0045,    -0.0005,   -22.9989,       3996,  2019.0,   3.5890,  34.9676,2,-999.0000,9,    250.6,2,   252.2,2,   17.84,2,    0.03,2,   20.68,2,    0.01,2,    1.30,2,   0.152,2,   1.987,4,  2167.3,2,  2321.8,2,       0.00,3
06MT20091026,       A16C,      41,          1,     203781,          6,2,20091113,       0055,    -0.0005,   -22.9989,       3996,  1511.3,   4.4161,  34.9565,2,  34.9582,2,    221.8,2,   222.4,2,   17.34,2,    0.06,2,   23.91,2,    0.01,2,    1.50,2,-999.000,9,-999.000,9,  2178.6,2,  2319.0,2,     -999.0,9
06MT20091026,       A16C,      41,          1,     203782,          7,2,20091113,       0101,    -0.0005,   -22.9989,       3996,  1258.4,   4.5340,  34.8512,2,-999.0000,9,    191.6,2,   190.9,2,   22.05,2,    0.03,2,   28.76,2,    0.01,2,    1.84,2,-999.000,9,-999.000,9,  2197.3,2,  2315.9,2,     -999.0,9
06MT20091026,       A16C,      41,          1,     203783,          8,2,20091113,       0105,    -0.0005,   -22.9989,       3996,  1005.4,   4.5514,  34.6560,2,-999.0000,9,    163.9,2,   163.1,2,   27.66,2,    0.06,2,   33.24,2,    0.00,2,    2.20,2,   0.073,2,   0.518,4,  2214.7,2,  2312.3,2,       0.00,3
06MT20091026,       A16C,      41,          1,     203784,          9,2,20091113,       0110,    -0.0005,   -22.9989,       3996,   803.7,   4.8314,  34.5166,2,-999.0000,9,    152.4,2,   151.7,2,   27.97,2,    0.08,2,   36.06,2,    0.01,2,    2.27,2,   0.143,2,   2.049,4,  2218.1,2,  2303.4,2,       0.00,3
06MT20091026,       A16C,      41,          1,     203785,         10,2,20091113,       0114,    -0.0005,   -22.9989,       3996,   600.9,   6.0377,  34.5418,2,-999.0000,9,    140.1,2,   139.8,2,   23.35,2,    0.04,2,   35.29,2,    0.00,2,    2.26,2,   0.326,2,   0.281,4,  2213.8,2,  2301.4,2,       0.00,3
06MT20091026,       A16C,      41,          1,     203786,         11,2,20091113,       0118,    -0.0005,   -22.9989,       3996,   400.4,   8.5279,  34.7646,2,-999.0000,9,    118.6,2,   116.4,2,   15.14,2,    0.08,2,   32.31,2,    0.01,2,    1.99,2,-999.000,9,-999.000,9,  2210.2,2,  2288.2,2,     -999.0,9
06MT20091026,       A16C,      41,          1,     203787,         12,2,20091113,       0120,    -0.0005,   -22.9989,       3996,   301.1,   9.6640,  34.8855,2,-999.0000,9,    102.7,2,   101.6,2,   12.76,2,    0.04,2,   31.33,2,    0.01,2,    1.86,2,   0.700,2,   0.466,4,  2212.6,2,  2303.2,2,       0.00,3
06MT20091026,       A16C,      41,          1,     203788,         13,2,20091113,       0121,    -0.0005,   -22.9989,       3996,   249.9,  11.9888,  35.1648,2,-999.0000,9,    113.0,2,   109.5,2,   10.06,2,    0.05,2,   26.68,2,    0.01,2,    1.62,2,-999.000,9,-999.000,9,  2199.3,2,  2309.0,2,     -999.0,9
06MT20091026,       A16C,      41,          1,     203789,         14,2,20091113,       0122,    -0.0005,   -22.9989,       3996,   199.3,  13.5438,  35.3549,2,-999.0000,9,    116.1,2,   114.7,2,    5.79,2,    0.13,2,   17.98,2,    0.01,2,    1.17,2,-999.000,9,-999.000,9,  2185.0,2,  2321.0,2,     -999.0,9
06MT20091026,       A16C,      41,          1,      41015,         15,2,20091113,       0122,    -0.0005,   -22.9989,       3996,   192.5,  13.6124,  35.3618,2,-999.0000,9,    114.9,2,  -999.0,9, -999.00,9, -999.00,9, -999.00,9, -999.00,9, -999.00,9,-999.000,9,-999.000,9,  -999.0,9,  -999.0,9,     -999.0,9
06MT20091026,       A16C,      41,          1,      41016,         16,2,20091113,       0122,    -0.0005,   -22.9989,       3996,   189.9,  13.6177,  35.3672,2,-999.0000,9,    117.2,2,  -999.0,9, -999.00,9, -999.00,9, -999.00,9, -999.00,9, -999.00,9,-999.000,9,-999.000,9,  -999.0,9,  -999.0,9,     -999.0,9
06MT20091026,       A16C,      41,          1,     203790,         17,2,20091113,       0123,    -0.0005,   -22.9989,       3996,   149.3,  14.4950,  35.4807,2,-999.0000,9,    140.2,2,   130.5,2,    6.24,2,    0.03,2,   18.77,2,    0.01,2,    1.16,2,   1.109,2,   0.815,4,  2172.4,2,  2330.9,2,       0.00,3
06MT20091026,       A16C,      41,          1,     203791,         18,2,20091113,       0124,    -0.0005,   -22.9989,       3996,   100.6,  16.2540,  35.6999,2,-999.0000,9,    166.7,2,   167.2,2,    4.01,2,    0.08,2,   11.20,2,    0.03,2,    0.76,2,   1.256,2,   2.586,4,  2140.2,2,  2342.3,2,       0.00,3
06MT20091026,       A16C,      41,          1,     203792,         19,2,20091113,       0124,    -0.0005,   -22.9989,       3996,    79.5,  18.6563,  36.0356,2,-999.0000,9,    178.1,2,   174.2,2,    2.89,2,    0.02,2,    7.53,2,    0.06,2,    0.59,2,   1.230,2,   1.355,4,  2129.5,2,  2360.0,2,       0.00,3
06MT20091026,       A16C,      41,          1,     203793,         20,2,20091113,       0127,    -0.0005,   -22.9989,       3996,    50.5,  23.8973,  36.0915,2,-999.0000,9,    192.2,2,   190.6,2,    1.16,2,    0.05,2,    1.64,2,    0.18,2,    0.17,2,   1.076,2,   1.947,4,  2074.9,2,  2362.9,2,       0.00,3
06MT20091026,       A16C,      41,          1,     203794,         21,2,20091113,       0128,    -0.0005,   -22.9989,       3996,    39.7,  24.6829,  36.0858,2,-999.0000,9,    198.2,2,   196.0,2,    0.92,2,    0.08,2,    0.88,2,    0.09,2,    0.11,2,-999.000,9,-999.000,9,  2064.3,2,  2367.7,2,     -999.0,9
06MT20091026,       A16C,      41,          1,     203795,         22,2,20091113,       0129,    -0.0005,   -22.9989,       3996,    19.4,  26.9569,  35.8965,2,-999.0000,9,    204.8,2,   202.6,2,    0.00,2,    0.12,2,    0.00,2,    0.01,2,    0.01,2,   1.020,2,   1.794,4,  2027.7,2,  2357.2,2,       0.00,3
06MT20091026,       A16C,      41,          1,     203796,         23,2,20091113,       0129,    -0.0005,   -22.9989,       3996,     9.7,  26.9771,  35.8920,2,-999.0000,9,    205.2,2,   202.6,2,    0.07,2,    0.03,2,    0.01,2,    0.00,2,    0.00,2,   0.960,2,   1.147,4,  2018.4,2,  2353.8,2,       0.00,3
06MT20091026,       A16C,      41,          1,     203797,         24,2,20091113,       0130,    -0.0005,   -22.9989,       3996,     4.9,  26.9839,  35.8915,2,  35.8892,2,    204.9,2,   202.3,2,    0.17,6,    0.06,6,    0.21,6,    0.00,6,    0.01,6,-999.000,9,-999.000,9,  2019.7,2,  2348.5,2,     -999.0,9
06MT20091026,       A16C,      42,          1,     203798,          1,2,20091113,       0502,    -0.0004,   -23.0004,       3657,   605.1,   6.0175,  34.5394,2,  34.5423,2,    139.2,2,  -999.0,9, -999.00,9, -999.00,9, -999.00,9, -999.00,9, -999.00,9,-999.000,9,-999.000,9,  -999.0,9,  -999.0,9,     -999.0,9
06MT20091026,       A16C,      42,          1,     203799,          2,2,20091113,       0507,    -0.0004,   -23.0004,       3657,   402.3,   8.1102,  34.7183,2,-999.0000,9,    116.2,2,  -999.0,9, -999.00,9, -999.00,9, -999.00,9, -999.00,9, -999.00,9,-999.000,9,-999.000,9,  -999.0,9,  -999.0,9,     -999.0,9
06MT20091026,       A16C,      42,          1,     203800,          3,2,20091113,       0507,    -0.0004,   -23.0004,       3657,   402.0,   8.1089,  34.7177,2,-999.0000,9,    116.2,2,  -999.0,9, -999.00,9, -999.00,9, -999.00,9, -999.00,9, -999.00,9,-999.000,9,-999.000,9,  -999.0,9,  -999.0,9,     -999.0,9
06MT20091026,       A16C,      42,          1,     203801,          4,2,20091113,       0507,    -0.0004,   -23.0004,       3657,   401.8,   8.1088,  34.7179,2,-999.0000,9,    116.2,2,  -999.0,9, -999.00,9, -999.00,9, -999.00,9, -999.00,9, -999.00,9,-999.000,9,-999.000,9,  -999.0,9,  -999.0,9,     -999.0,9
06MT20091026,       A16C,      42,          1,     203802,          5,2,20091113,       0507,    -0.0004,   -23.0004,       3657,   402.1,   8.1104,  34.7181,2,-999.0000,9,    116.1,2,  -999.0,9, -999.00,9, -999.00,9, -999.00,9, -999.00,9, -999.00,9,-999.000,9,-999.000,9,  -999.0,9,  -999.0,9,     -999.0,9
06MT20091026,       A16C,      42,          1,     203803,          6,2,20091113,       0507,    -0.0004,   -23.0004,       3657,   402.2,   8.1090,  34.7182,2,-999.0000,9,    116.2,2,  -999.0,9, -999.00,9, -999.00,9, -999.00,9, -999.00,9, -999.00,9,-999.000,9,-999.000,9,  -999.0,9,  -999.0,9,     -999.0,9
06MT20091026,       A16C,      42,          1,     203804,          7,2,20091113,       0511,    -0.0004,   -23.0004,       3657,   199.5,  13.3633,  35.3305,2,-999.0000,9,    114.1,2,  -999.0,9, -999.00,9, -999.00,9, -999.00,9, -999.00,9, -999.00,9,-999.000,9,-999.000,9,  -999.0,9,  -999.0,9,     -999.0,9
06MT20091026,       A16C,      42,          1,     203805,          8,2,20091113,       0512,    -0.0004,   -23.0004,       3657,   149.8,  14.1697,  35.4367,2,  35.4220,2,    125.8,2,  -999.0,9, -999.00,9, -999.00,9, -999.00,9, -999.00,9, -999.00,9,-999.000,9,-999.000,9,  -999.0,9,  -999.0,9,     -999.0,9
06MT20091026,       A16C,      42,          1,     203806,          9,2,20091113,       0513,    -0.0004,   -23.0004,       3657,    98.6,  16.2286,  35.6981,2,-999.0000,9,    166.8,2,  -999.0,9, -999.00,9, -999.00,9, -999.00,9, -999.00,9, -999.00,9,-999.000,9,-999.000,9,  -999.0,9,  -999.0,9,     -999.0,9
06MT20091026,       A16C,      42,          1,     203807,         10,2,20091113,       0514,    -0.0004,   -23.0004,       3657,    55.7,  24.0949,  36.0873,2,-999.0000,9,    193.4,2,  -999.0,9, -999.00,9, -999.00,9, -999.00,9, -999.00,9, -999.00,9,-999.000,9,-999.000,9,  -999.0,9,  -999.0,9,     -999.0,9
06MT20091026,       A16C,      42,          1,     203808,         11,2,20091113,       0514,    -0.0004,   -23.0004,       3657,    56.0,  24.0537,  36.0879,2,-999.0000,9,    194.3,2,  -999.0,9, -999.00,9, -999.00,9, -999.00,9, -999.00,9, -999.00,9,-999.000,9,-999.000,9,  -999.0,9,  -999.0,9,     -999.0,9
06MT20091026,       A16C,      42,          1,     203809,         12,2,20091113,       0514,    -0.0004,   -23.0004,       3657,    56.0,  24.0603,  36.0890,2,-999.0000,9,    192.8,2,  -999.0,9, -999.00,9, -999.00,9, -999.00,9, -999.00,9, -999.00,9,-999.000,9,-999.000,9,  -999.0,9,  -999.0,9,     -999.0,9
06MT20091026,       A16C,      42,          1,     203810,         13,2,20091113,       0514,    -0.0004,   -23.0004,       3657,    55.9,  24.0355,  36.0891,2,-999.0000,9,    191.9,2,  -999.0,9, -999.00,9, -999.00,9, -999.00,9, -999.00,9, -999.00,9,-999.000,9,-999.000,9,  -999.0,9,  -999.0,9,     -999.0,9
06MT20091026,       A16C,      42,          1,     203811,         14,2,20091113,       0514,    -0.0004,   -23.0004,       3657,    55.5,  24.0613,  36.0932,2,-999.0000,9,    191.8,2,  -999.0,9, -999.00,9, -999.00,9, -999.00,9, -999.00,9, -999.00,9,-999.000,9,-999.000,9,  -999.0,9,  -999.0,9,     -999.0,9
06MT20091026,       A16C,      42,          1,      42015,         15,2,20091113,       0515,    -0.0004,   -23.0004,       3657,    55.9,  24.0421,  36.0901,2,-999.0000,9,    192.1,2,  -999.0,9, -999.00,9, -999.00,9, -999.00,9, -999.00,9, -999.00,9,-999.000,9,-999.000,9,  -999.0,9,  -999.0,9,     -999.0,9
06MT20091026,       A16C,      42,          1,      42016,         16,2,20091113,       0515,    -0.0004,   -23.0004,       3657,    56.4,  24.0102,  36.0909,2,-999.0000,9,    192.5,2,  -999.0,9, -999.00,9, -999.00,9, -999.00,9, -999.00,9, -999.00,9,-999.000,9,-999.000,9,  -999.0,9,  -999.0,9,     -999.0,9
06MT20091026,       A16C,      42,          1,     203812,         17,2,20091113,       0515,    -0.0004,   -23.0004,       3657,    56.4,  24.0027,  36.0895,2,-999.0000,9,    191.7,2,  -999.0,9, -999.00,9, -999.00,9, -999.00,9, -999.00,9, -999.00,9,-999.000,9,-999.000,9,  -999.0,9,  -999.0,9,     -999.0,9
06MT20091026,       A16C,      42,          1,     203813,         18,2,20091113,       0515,    -0.0004,   -23.0004,       3657,    49.2,  24.6877,  36.0791,2,  36.0886,2,    195.4,2,  -999.0,9, -999.00,9, -999.00,9, -999.00,9, -999.00,9, -999.00,9,-999.000,9,-999.000,9,  -999.0,9,  -999.0,9,     -999.0,9
06MT20091026,       A16C,      42,          1,     203814,         19,2,20091113,       0517,    -0.0004,   -23.0004,       3657,    20.9,  26.9914,  35.8819,2,-999.0000,9,    203.3,2,  -999.0,9, -999.00,9, -999.00,9, -999.00,9, -999.00,9, -999.00,9,-999.000,9,-999.000,9,  -999.0,9,  -999.0,9,     -999.0,9
06MT20091026,       A16C,      42,          1,     203815,         20,2,20091113,       0517,    -0.0004,   -23.0004,       3657,    20.3,  26.9872,  35.8826,2,-999.0000,9,    203.7,2,  -999.0,9, -999.00,9, -999.00,9, -999.00,9, -999.00,9, -999.00,9,-999.000,9,-999.000,9,  -999.0,9,  -999.0,9,     -999.0,9
06MT20091026,       A16C,      42,          1,     203816,         21,2,20091113,       0517,    -0.0004,   -23.0004,       3657,    19.8,  26.9852,  35.8829,2,-999.0000,9,    203.7,2,  -999.0,9, -999.00,9, -999.00,9, -999.00,9, -999.00,9, -999.00,9,-999.000,9,-999.000,9,  -999.0,9,  -999.0,9,     -999.0,9
06MT20091026,       A16C,      42,          1,     203817,         22,2,20091113,       0517,    -0.0004,   -23.0004,       3657,    19.3,  26.9894,  35.8826,2,-999.0000,9,    203.6,2,  -999.0,9, -999.00,9, -999.00,9, -999.00,9, -999.00,9, -999.00,9,-999.000,9,-999.000,9,  -999.0,9,  -999.0,9,     -999.0,9
06MT20091026,       A16C,      42,          1,     203818,         23,2,20091113,       0517,    -0.0004,   -23.0004,       3657,    20.6,  26.9914,  35.8819,2,-999.0000,9,    203.6,2,  -999.0,9, -999.00,9, -999.00,9, -999.00,9, -999.00,9, -999.00,9,-999.000,9,-999.000,9,  -999.0,9,  -999.0,9,     -999.0,9
06MT20091026,       A16C,      42,          1,     203819,         24,2,20091113,       0518,    -0.0004,   -23.0004,       3657,    10.6,  26.9996,  35.8805,2,  35.8813,2,    203.8,2,  -999.0,9, -999.00,9, -999.00,9, -999.00,9, -999.00,9, -999.00,9,-999.000,9,-999.000,9,  -999.0,9,  -999.0,9,     -999.0,9