BOTTLE,20211119CCHSIORKP
EXPOCODE,SECT_ID,STNNBR,CASTNO,SAMPNO,BTLNBR,BTLNBR_FLAG_W,DATE,TIME,LATITUDE,LONGITUDE,DEPTH,CTDPRS,CTDTMP,CTDSAL,CTDSAL_FLAG_W,SALNTY,SALNTY_FLAG_W,CTDOXY,CTDOXY_FLAG_W,OXYGEN,OXYGEN_FLAG_W,SILCAT,SILCAT_FLAG_W,NH4,NH4_FLAG_W,NITRAT,NITRAT_FLAG_W,NITRIT,NITRIT_FLAG_W,PHSPHT,PHSPHT_FLAG_W,CFC-12,CFC-12_FLAG_W,SF6,SF6_FLAG_W,TCARBN,TCARBN_FLAG_W,ALKALI,ALKALI_FLAG_W,SF5CF3,SF5CF3_FLAG_W
,,,,,,,,,,,METERS,DBAR,ITS-90,PSS-78,,PSS-78,,UMOL/KG,,UMOL/KG,,UMOL/KG,,UMOL/KG,,UMOL/KG,,UMOL/KG,,UMOL/KG,,PMOL/KG,,FMOL/KG,,UMOL/KG,,UMOL/KG,,FMOL/KG,
06MT20091026,       A16C,      58,          1,     204106,          1,2,20091117,       1104,     7.4974,   -23.0017,       4510,  1309.7,   4.5567,  34.9071,2,  34.9081,2,    189.0,2,   191.7,2, -999.00,9, -999.00,9, -999.00,9, -999.00,9, -999.00,9,-999.000,9,-999.000,9,  -999.0,9,  -999.0,9,     -999.0,9
06MT20091026,       A16C,      58,          1,     204107,          2,2,20091117,       1105,     7.4974,   -23.0017,       4510,  1277.7,   4.5948,  34.9021,2,-999.0000,9,    188.1,2,  -999.0,9, -999.00,9, -999.00,9, -999.00,9, -999.00,9, -999.00,9,-999.000,9,-999.000,9,  -999.0,9,  -999.0,9,     -999.0,9
06MT20091026,       A16C,      58,          1,     204108,          3,2,20091117,       1109,     7.4974,   -23.0017,       4510,  1105.2,   4.8400,  34.8107,2,-999.0000,9,    160.7,2,  -999.0,9, -999.00,9, -999.00,9, -999.00,9, -999.00,9, -999.00,9,-999.000,9,-999.000,9,  -999.0,9,  -999.0,9,     -999.0,9
06MT20091026,       A16C,      58,          1,     204109,          4,2,20091117,       1110,     7.4974,   -23.0017,       4510,  1005.1,   5.0189,  34.7328,2,-999.0000,9,    141.9,2,  -999.0,9, -999.00,9, -999.00,9, -999.00,9, -999.00,9, -999.00,9,-999.000,9,-999.000,9,  -999.0,9,  -999.0,9,     -999.0,9
06MT20091026,       A16C,      58,          1,     204110,          5,2,20091117,       1113,     7.4974,   -23.0017,       4510,   904.1,   5.2875,  34.6703,2,-999.0000,9,    125.1,2,  -999.0,9, -999.00,9, -999.00,9, -999.00,9, -999.00,9, -999.00,9,-999.000,9,-999.000,9,  -999.0,9,  -999.0,9,     -999.0,9
06MT20091026,       A16C,      58,          1,     204111,          6,2,20091117,       1114,     7.4974,   -23.0017,       4510,   805.6,   5.6327,  34.6519,2,  34.6499,2,    114.7,2,  -999.0,9, -999.00,9, -999.00,9, -999.00,9, -999.00,9, -999.00,9,-999.000,9,-999.000,9,  -999.0,9,  -999.0,9,     -999.0,9
06MT20091026,       A16C,      58,          1,     204112,          7,2,20091117,       1116,     7.4974,   -23.0017,       4510,   701.6,   6.1960,  34.6650,2,-999.0000,9,    102.1,2,  -999.0,9, -999.00,9, -999.00,9, -999.00,9, -999.00,9, -999.00,9,-999.000,9,-999.000,9,  -999.0,9,  -999.0,9,     -999.0,9
06MT20091026,       A16C,      58,          1,     204113,          8,2,20091117,       1119,     7.4974,   -23.0017,       4510,   602.5,   6.9758,  34.7175,2,-999.0000,9,     89.6,2,  -999.0,9, -999.00,9, -999.00,9, -999.00,9, -999.00,9, -999.00,9,-999.000,9,-999.000,9,  -999.0,9,  -999.0,9,     -999.0,9
06MT20091026,       A16C,      58,          1,     204114,          9,2,20091117,       1120,     7.4974,   -23.0017,       4510,   503.9,   8.3335,  34.8600,2,-999.0000,9,     67.5,2,  -999.0,9, -999.00,9, -999.00,9, -999.00,9, -999.00,9, -999.00,9,-999.000,9,-999.000,9,  -999.0,9,  -999.0,9,     -999.0,9
06MT20091026,       A16C,      58,          1,     204115,         10,2,20091117,       1122,     7.4974,   -23.0017,       4510,   401.2,  10.0566,  35.0463,2,-999.0000,9,     51.2,2,  -999.0,9, -999.00,9, -999.00,9, -999.00,9, -999.00,9, -999.00,9,-999.000,9,-999.000,9,  -999.0,9,  -999.0,9,     -999.0,9
06MT20091026,       A16C,      58,          1,     204116,         11,2,20091117,       1123,     7.4974,   -23.0017,       4510,   350.5,  10.6652,  35.0765,2,-999.0000,9,     65.2,2,  -999.0,9, -999.00,9, -999.00,9, -999.00,9, -999.00,9, -999.00,9,-999.000,9,-999.000,9,  -999.0,9,  -999.0,9,     -999.0,9
06MT20091026,       A16C,      58,          1,     204117,         12,2,20091117,       1124,     7.4974,   -23.0017,       4510,   301.0,  11.4750,  35.1370,2,-999.0000,9,     85.5,2,  -999.0,9, -999.00,9, -999.00,9, -999.00,9, -999.00,9, -999.00,9,-999.000,9,-999.000,9,  -999.0,9,  -999.0,9,     -999.0,9
06MT20091026,       A16C,      58,          1,     204118,         13,2,20091117,       1125,     7.4974,   -23.0017,       4510,   250.3,  12.3641,  35.2122,2,-999.0000,9,    121.4,2,   120.2,2, -999.00,9, -999.00,9, -999.00,9, -999.00,9, -999.00,9,-999.000,9,-999.000,9,  -999.0,9,  -999.0,9,     -999.0,9
06MT20091026,       A16C,      58,          1,     204119,         14,2,20091117,       1126,     7.4974,   -23.0017,       4510,   199.6,  13.1691,  35.3215,2,  35.2904,2,    100.7,2,  -999.0,9, -999.00,9, -999.00,9, -999.00,9, -999.00,9, -999.00,9,-999.000,9,-999.000,9,  -999.0,9,  -999.0,9,     -999.0,9
06MT20091026,       A16C,      58,          1,      58015,         15,2,20091117,       1126,     7.4974,   -23.0017,       4510,   195.4,  13.2519,  35.3241,2,-999.0000,9,    101.1,2,  -999.0,9, -999.00,9, -999.00,9, -999.00,9, -999.00,9, -999.00,9,-999.000,9,-999.000,9,  -999.0,9,  -999.0,9,     -999.0,9
06MT20091026,       A16C,      58,          1,      58016,         16,2,20091117,       1126,     7.4974,   -23.0017,       4510,   192.7,  13.3176,  35.3374,2,-999.0000,9,    101.7,2,  -999.0,9, -999.00,9, -999.00,9, -999.00,9, -999.00,9, -999.00,9,-999.000,9,-999.000,9,  -999.0,9,  -999.0,9,     -999.0,9
06MT20091026,       A16C,      58,          1,     204120,         17,2,20091117,       1127,     7.4974,   -23.0017,       4510,   148.6,  13.9411,  35.4285,2,-999.0000,9,    105.6,2,  -999.0,9, -999.00,9, -999.00,9, -999.00,9, -999.00,9, -999.00,9,-999.000,9,-999.000,9,  -999.0,9,  -999.0,9,     -999.0,9
06MT20091026,       A16C,      58,          1,     204121,         18,2,20091117,       1128,     7.4974,   -23.0017,       4510,    98.9,  15.4564,  35.5844,2,-999.0000,9,     84.3,2,    86.2,2, -999.00,9, -999.00,9, -999.00,9, -999.00,9, -999.00,9,-999.000,9,-999.000,9,  -999.0,9,  -999.0,9,     -999.0,9
06MT20091026,       A16C,      58,          1,     204122,         19,2,20091117,       1129,     7.4974,   -23.0017,       4510,    80.1,  16.5356,  35.6629,2,-999.0000,9,    102.5,2,  -999.0,9, -999.00,9, -999.00,9, -999.00,9, -999.00,9, -999.00,9,-999.000,9,-999.000,9,  -999.0,9,  -999.0,9,     -999.0,9
06MT20091026,       A16C,      58,          1,     204123,         20,2,20091117,       1129,     7.4974,   -23.0017,       4510,    59.1,  20.6783,  35.9444,2,-999.0000,9,    140.2,2,  -999.0,9, -999.00,9, -999.00,9, -999.00,9, -999.00,9, -999.00,9,-999.000,9,-999.000,9,  -999.0,9,  -999.0,9,     -999.0,9
06MT20091026,       A16C,      58,          1,     204124,         21,2,20091117,       1130,     7.4974,   -23.0017,       4510,    39.6,  26.1412,  36.0521,2,-999.0000,9,    206.7,2,  -999.0,9, -999.00,9, -999.00,9, -999.00,9, -999.00,9, -999.00,9,-999.000,9,-999.000,9,  -999.0,9,  -999.0,9,     -999.0,9
06MT20091026,       A16C,      58,          1,     204125,         22,2,20091117,       1131,     7.4974,   -23.0017,       4510,    19.7,  28.4773,  35.3313,2,-999.0000,9,    210.2,2,  -999.0,9, -999.00,9, -999.00,9, -999.00,9, -999.00,9, -999.00,9,-999.000,9,-999.000,9,  -999.0,9,  -999.0,9,     -999.0,9
06MT20091026,       A16C,      58,          1,     204126,         23,2,20091117,       1131,     7.4974,   -23.0017,       4510,     9.7,  28.5218,  35.1481,2,  35.1710,2,    200.7,2,   207.1,2, -999.00,9, -999.00,9, -999.00,9, -999.00,9, -999.00,9,-999.000,9,-999.000,9,  -999.0,9,  -999.0,9,     -999.0,9
06MT20091026,       A16C,      58,          1,     204127,         24,2,20091117,       1131,     7.4974,   -23.0017,       4510,     4.7,  28.6171,  34.9804,2,-999.0000,9,    200.3,2,  -999.0,9, -999.00,9, -999.00,9, -999.00,9, -999.00,9, -999.00,9,-999.000,9,-999.000,9,  -999.0,9,  -999.0,9,     -999.0,9
06MT20091026,       A16C,      59,          1,     204128,          1,2,20091117,       2131,     8.0168,   -22.9836,       4814,  1308.9,   4.6472,  34.8973,2,  34.8957,2,    185.4,2,   185.6,2,   21.30,2,    0.12,2,   28.84,2,    0.01,2,    1.87,2,-999.000,9,-999.000,9,  2199.4,2,  2320.6,2,     -999.0,9
06MT20091026,       A16C,      59,          1,     204129,          2,2,20091117,       2134,     8.0168,   -22.9836,       4814,  1208.4,   4.7919,  34.8360,2,-999.0000,9,    166.4,2,   166.3,2, -999.00,9, -999.00,9, -999.00,9, -999.00,9, -999.00,9,-999.000,9,-999.000,9,  -999.0,9,  -999.0,9,     -999.0,9
06MT20091026,       A16C,      59,          1,     204130,          3,2,20091117,       2135,     8.0168,   -22.9836,       4814,  1106.6,   4.9442,  34.7658,2,-999.0000,9,    151.0,2,   150.2,2,   25.57,2,    0.09,2,   34.23,2,    0.01,2,    2.21,2,-999.000,9,-999.000,9,  2217.6,2,  2315.0,2,     -999.0,9
06MT20091026,       A16C,      59,          1,     204131,          4,2,20091117,       2137,     8.0168,   -22.9836,       4814,  1004.2,   5.0704,  34.7097,2,-999.0000,9,    139.0,2,   138.6,2, -999.00,9, -999.00,9, -999.00,9, -999.00,9, -999.00,9,-999.000,9,-999.000,9,  -999.0,9,  -999.0,9,     -999.0,9
06MT20091026,       A16C,      59,          1,     204132,          5,2,20091117,       2139,     8.0168,   -22.9836,       4814,   904.0,   5.2841,  34.6595,2,-999.0000,9,    126.7,2,   125.7,2,   27.50,2,    0.14,2,   37.97,2,    0.01,2,    2.45,2,-999.000,9,-999.000,9,  2227.9,2,  2308.9,2,     -999.0,9
06MT20091026,       A16C,      59,          1,     204133,          6,2,20091117,       2141,     8.0168,   -22.9836,       4814,   804.5,   5.5686,  34.6479,2,-999.0000,9,    116.5,2,   116.1,2, -999.00,9, -999.00,9, -999.00,9, -999.00,9, -999.00,9,-999.000,9,-999.000,9,  -999.0,9,  -999.0,9,     -999.0,9
06MT20091026,       A16C,      59,          1,     204134,          7,2,20091117,       2143,     8.0168,   -22.9836,       4814,   702.8,   6.4793,  34.7164,2,-999.0000,9,     96.8,2,    95.0,2,   22.38,2,    0.09,2,   39.59,2,    0.01,2,    2.42,2,   0.072,2,    0.03,4,  2237.2,2,  2308.5,2,       0.00,3
06MT20091026,       A16C,      59,          1,     204135,          8,2,20091117,       2145,     8.0168,   -22.9836,       4814,   602.0,   7.3387,  34.7814,2,-999.0000,9,     76.2,2,    78.8,2, -999.00,9, -999.00,9, -999.00,9, -999.00,9, -999.00,9,   0.130,2,   0.094,4,  -999.0,9,  -999.0,9,       0.00,3
06MT20091026,       A16C,      59,          1,     204136,          9,2,20091117,       2147,     8.0168,   -22.9836,       4814,   501.6,   8.8897,  34.9363,2,-999.0000,9,     57.8,2,    56.7,2,   15.85,2,    0.17,2,   38.58,2,    0.01,2,    2.24,2,   0.322,2,   1.114,4,  2244.0,2,  2307.0,2,       0.00,3
06MT20091026,       A16C,      59,          1,     204137,         10,2,20091117,       2149,     8.0168,   -22.9836,       4814,   400.9,  10.2653,  35.0538,2,-999.0000,9,     52.4,2,    53.6,2,   12.85,2,     0.1,2,   35.90,2,    0.01,2,    2.15,2,   0.484,2,   0.761,4,  2241.0,2,  2309.8,2,       0.75,3
06MT20091026,       A16C,      59,          1,     204138,         11,2,20091117,       2150,     8.0168,   -22.9836,       4814,   334.7,  10.9936,  35.0890,2,  35.0787,2,     79.1,2,    77.3,2,   10.92,6,    0.12,6,   31.50,6,    0.00,6,    1.92,6,   0.695,2,   0.397,4,  2220.2,2,  2310.8,2,       1.07,3
06MT20091026,       A16C,      59,          1,     204139,         12,2,20091117,       2151,     8.0168,   -22.9836,       4814,   301.3,  11.0879,  35.0758,2,-999.0000,9,    102.8,2,    95.0,2,   10.04,2,    0.11,2,   28.65,2,    0.00,2,    1.80,2,   0.800,2,   0.351,4,  2208.1,2,  2312.9,2,       0.36,3
06MT20091026,       A16C,      59,          1,     204140,         13,2,20091117,       2152,     8.0168,   -22.9836,       4814,   234.1,  11.9797,  35.1737,2,-999.0000,9,    110.5,2,   111.8,2,    8.49,2,    0.08,2,   24.91,2,    0.01,2,    1.59,2,   0.957,2,    0.47,4,  2192.4,2,  2316.6,2,       0.00,3
06MT20091026,       A16C,      59,          1,     204141,         14,2,20091117,       2153,     8.0168,   -22.9836,       4814,   200.1,  12.3972,  35.2225,2,-999.0000,9,    123.0,2,   122.8,2,    7.75,2,       0,2,   22.94,2,    0.00,2,    1.44,2,   1.047,2,   0.763,4,  2185.0,2,  2322.3,2,       0.00,3
06MT20091026,       A16C,      59,          1,      59015,         15,2,20091117,       2153,     8.0168,   -22.9836,       4814,   196.6,  12.5048,  35.2415,2,-999.0000,9,    122.9,2,  -999.0,9, -999.00,9, -999.00,9, -999.00,9, -999.00,9, -999.00,9,-999.000,9,-999.000,9,  -999.0,9,  -999.0,9,     -999.0,9
06MT20091026,       A16C,      59,          1,      59016,         16,2,20091117,       2153,     8.0168,   -22.9836,       4814,   194.3,  12.5552,  35.2473,2,-999.0000,9,    122.7,2,  -999.0,9, -999.00,9, -999.00,9, -999.00,9, -999.00,9, -999.00,9,-999.000,9,-999.000,9,  -999.0,9,  -999.0,9,     -999.0,9
06MT20091026,       A16C,      59,          1,     204142,         17,2,20091117,       2154,     8.0168,   -22.9836,       4814,   147.4,  13.7140,  35.3986,2,-999.0000,9,    117.1,2,   119.8,2,    6.76,2,    0.13,2,   21.56,2,    0.01,2,    1.35,2,   1.093,2,   1.312,4,  2183.2,2,  2325.9,2,       0.00,3
06MT20091026,       A16C,      59,          1,     204143,         18,2,20091117,       2155,     8.0168,   -22.9836,       4814,    98.4,  15.0468,  35.5479,2,  35.4993,2,    114.1,2,   115.7,2,    5.68,2,    0.14,2,   19.81,2,    0.02,2,    1.24,2,   1.129,2,   1.235,4,  2180.8,2,  2333.8,2,       0.00,3
06MT20091026,       A16C,      59,          1,     204144,         19,2,20091117,       2155,     8.0168,   -22.9836,       4814,    78.7,  15.6160,  35.5946,2,-999.0000,9,    101.6,2,   101.3,2,    5.06,2,    0.11,2,   19.23,2,    0.05,2,    1.22,2,   1.082,2,   1.414,4,  2187.7,2,  2337.5,2,       0.00,3
06MT20091026,       A16C,      59,          1,     204145,         20,2,20091117,       2156,     8.0168,   -22.9836,       4814,    58.6,  18.7280,  35.8141,2,-999.0000,9,    117.9,2,   129.6,2,    3.02,2,    0.14,2,    8.81,2,    0.21,2,    0.60,2,   1.108,2,   0.735,4,  2096.0,2,  2358.7,2,       0.00,3
06MT20091026,       A16C,      59,          1,     204146,         21,2,20091117,       2156,     8.0168,   -22.9836,       4814,    40.7,  24.7132,  36.0977,2,-999.0000,9,    201.0,2,   201.9,2,    0.71,2,    0.21,2,    0.00,2,    0.00,2,    0.01,2,   1.059,2,    1.33,4,  -999.0,9,  -999.0,9,       0.00,3
06MT20091026,       A16C,      59,          1,     204147,         22,2,20091117,       2157,     8.0168,   -22.9836,       4814,    20.0,  28.4227,  35.3581,2,-999.0000,9,    206.8,2,   204.8,2,    0.04,2,    0.13,2,    0.04,2,    0.00,2,    0.00,2,   0.970,2,    1.71,4,  1965.2,2,  2322.9,2,       0.00,3
06MT20091026,       A16C,      59,          1,     204148,         23,2,20091117,       2157,     8.0168,   -22.9836,       4814,    10.0,  28.5536,  35.2348,2,  35.2364,2,    199.1,2,   199.7,2,    0.00,2,    0.03,2,    0.13,2,    0.00,2,    0.01,2,   0.941,2,    1.55,4,  1947.4,2,  2306.8,2,       0.00,3
06MT20091026,       A16C,      59,          1,     204149,         24,2,20091117,       2158,     8.0168,   -22.9836,       4814,     5.6,  28.5534,  35.2343,2,-999.0000,9,    199.1,2,   198.8,2,    0.02,2,    0.19,2,    0.41,2,    0.01,2,    0.03,2,   0.936,2,   1.524,4,  1947.3,2,  2307.2,2,       0.00,3