BOTTLE,20211119CCHSIORKP
EXPOCODE,SECT_ID,STNNBR,CASTNO,SAMPNO,BTLNBR,BTLNBR_FLAG_W,DATE,TIME,LATITUDE,LONGITUDE,DEPTH,CTDPRS,CTDTMP,CTDSAL,CTDSAL_FLAG_W,SALNTY,SALNTY_FLAG_W,CTDOXY,CTDOXY_FLAG_W,OXYGEN,OXYGEN_FLAG_W,SILCAT,SILCAT_FLAG_W,NH4,NH4_FLAG_W,NITRAT,NITRAT_FLAG_W,NITRIT,NITRIT_FLAG_W,PHSPHT,PHSPHT_FLAG_W,CFC-12,CFC-12_FLAG_W,SF6,SF6_FLAG_W,TCARBN,TCARBN_FLAG_W,ALKALI,ALKALI_FLAG_W,SF5CF3,SF5CF3_FLAG_W
,,,,,,,,,,,METERS,DBAR,ITS-90,PSS-78,,PSS-78,,UMOL/KG,,UMOL/KG,,UMOL/KG,,UMOL/KG,,UMOL/KG,,UMOL/KG,,UMOL/KG,,PMOL/KG,,FMOL/KG,,UMOL/KG,,UMOL/KG,,FMOL/KG,
06MT20091026,       A16C,      68,          1,     204282,          1,2,20091119,       2110,    10.4998,   -23.0003,       5334,  1311.5,   4.7107,  34.9016,2,  34.9034,2,    176.2,2,   177.6,2, -999.00,9, -999.00,9, -999.00,9, -999.00,9, -999.00,9,-999.000,9,-999.000,9,  -999.0,9,  -999.0,9,     -999.0,9
06MT20091026,       A16C,      68,          1,     204283,          2,2,20091119,       2112,    10.4998,   -23.0003,       5334,  1206.8,   4.8810,  34.8727,2,-999.0000,9,    163.8,2,  -999.0,9, -999.00,9, -999.00,9, -999.00,9, -999.00,9, -999.00,9,-999.000,9,-999.000,9,  -999.0,9,  -999.0,9,     -999.0,9
06MT20091026,       A16C,      68,          1,     204284,          3,2,20091119,       2114,    10.4998,   -23.0003,       5334,  1103.0,   5.0927,  34.8314,2,-999.0000,9,    147.6,2,  -999.0,9, -999.00,9, -999.00,9, -999.00,9, -999.00,9, -999.00,9,-999.000,9,-999.000,9,  -999.0,9,  -999.0,9,     -999.0,9
06MT20091026,       A16C,      68,          1,     204285,          4,2,20091119,       2116,    10.4998,   -23.0003,       5334,  1005.3,   5.3462,  34.7701,2,-999.0000,9,    130.2,2,  -999.0,9, -999.00,9, -999.00,9, -999.00,9, -999.00,9, -999.00,9,-999.000,9,-999.000,9,  -999.0,9,  -999.0,9,     -999.0,9
06MT20091026,       A16C,      68,          1,     204286,          5,2,20091119,       2118,    10.4998,   -23.0003,       5334,   905.8,   5.7344,  34.7470,2,-999.0000,9,    112.0,2,  -999.0,9, -999.00,9, -999.00,9, -999.00,9, -999.00,9, -999.00,9,-999.000,9,-999.000,9,  -999.0,9,  -999.0,9,     -999.0,9
06MT20091026,       A16C,      68,          1,     204287,          6,2,20091119,       2120,    10.4998,   -23.0003,       5334,   804.3,   6.3452,  34.7658,2,  34.7566,2,     92.2,2,  -999.0,9, -999.00,9, -999.00,9, -999.00,9, -999.00,9, -999.00,9,-999.000,9,-999.000,9,  -999.0,9,  -999.0,9,     -999.0,9
06MT20091026,       A16C,      68,          1,     204288,          7,2,20091119,       2122,    10.4998,   -23.0003,       5334,   702.6,   6.9482,  34.7909,2,-999.0000,9,     74.8,2,  -999.0,9, -999.00,9, -999.00,9, -999.00,9, -999.00,9, -999.00,9,-999.000,9,-999.000,9,  -999.0,9,  -999.0,9,     -999.0,9
06MT20091026,       A16C,      68,          1,     204289,          8,2,20091119,       2125,    10.4998,   -23.0003,       5334,   603.0,   8.2168,  34.9202,2,-999.0000,9,     57.0,2,  -999.0,9, -999.00,9, -999.00,9, -999.00,9, -999.00,9, -999.00,9,-999.000,9,-999.000,9,  -999.0,9,  -999.0,9,     -999.0,9
06MT20091026,       A16C,      68,          1,     204290,          9,2,20091119,       2127,    10.4998,   -23.0003,       5334,   501.9,   9.5461,  35.0747,2,-999.0000,9,     42.8,2,  -999.0,9, -999.00,9, -999.00,9, -999.00,9, -999.00,9, -999.00,9,-999.000,9,-999.000,9,  -999.0,9,  -999.0,9,     -999.0,9
06MT20091026,       A16C,      68,          1,     204291,         10,2,20091119,       2129,    10.4998,   -23.0003,       5334,   399.8,  10.6798,  35.1664,2,-999.0000,9,     44.4,2,  -999.0,9, -999.00,9, -999.00,9, -999.00,9, -999.00,9, -999.00,9,-999.000,9,-999.000,9,  -999.0,9,  -999.0,9,     -999.0,9
06MT20091026,       A16C,      68,          1,     204292,         11,2,20091119,       2130,    10.4998,   -23.0003,       5334,   351.6,  11.0393,  35.1695,2,-999.0000,9,     49.7,2,  -999.0,9, -999.00,9, -999.00,9, -999.00,9, -999.00,9, -999.00,9,-999.000,9,-999.000,9,  -999.0,9,  -999.0,9,     -999.0,9
06MT20091026,       A16C,      68,          1,     204293,         12,2,20091119,       2132,    10.4998,   -23.0003,       5334,   302.4,  11.3947,  35.1594,2,-999.0000,9,     65.0,2,  -999.0,9, -999.00,9, -999.00,9, -999.00,9, -999.00,9, -999.00,9,-999.000,9,-999.000,9,  -999.0,9,  -999.0,9,     -999.0,9
06MT20091026,       A16C,      68,          1,     204294,         13,2,20091119,       2133,    10.4998,   -23.0003,       5334,   249.8,  12.0001,  35.2020,2,  35.1893,2,     76.7,2,  -999.0,9, -999.00,9, -999.00,9, -999.00,9, -999.00,9, -999.00,9,-999.000,9,-999.000,9,  -999.0,9,  -999.0,9,     -999.0,9
06MT20091026,       A16C,      68,          1,     204295,         14,2,20091119,       2134,    10.4998,   -23.0003,       5334,   200.4,  12.6371,  35.2603,2,-999.0000,9,     86.9,2,    87.1,2, -999.00,9, -999.00,9, -999.00,9, -999.00,9, -999.00,9,-999.000,9,-999.000,9,  -999.0,9,  -999.0,9,     -999.0,9
06MT20091026,       A16C,      68,          1,      68015,         15,2,20091119,       2134,    10.4998,   -23.0003,       5334,   196.3,  12.6881,  35.2660,2,-999.0000,9,     86.4,2,  -999.0,9, -999.00,9, -999.00,9, -999.00,9, -999.00,9, -999.00,9,-999.000,9,-999.000,9,  -999.0,9,  -999.0,9,     -999.0,9
06MT20091026,       A16C,      68,          1,      68016,         16,2,20091119,       2134,    10.4998,   -23.0003,       5334,   195.0,  12.6803,  35.2607,2,-999.0000,9,     86.7,2,  -999.0,9, -999.00,9, -999.00,9, -999.00,9, -999.00,9, -999.00,9,-999.000,9,-999.000,9,  -999.0,9,  -999.0,9,     -999.0,9
06MT20091026,       A16C,      68,          1,     204296,         17,2,20091119,       2135,    10.4998,   -23.0003,       5334,   149.1,  13.4758,  35.3591,2,-999.0000,9,     90.0,2,  -999.0,9, -999.00,9, -999.00,9, -999.00,9, -999.00,9, -999.00,9,-999.000,9,-999.000,9,  -999.0,9,  -999.0,9,     -999.0,9
06MT20091026,       A16C,      68,          1,     204297,         18,2,20091119,       2136,    10.4998,   -23.0003,       5334,    99.2,  14.4057,  35.4686,2,-999.0000,9,     82.7,2,  -999.0,9, -999.00,9, -999.00,9, -999.00,9, -999.00,9, -999.00,9,-999.000,9,-999.000,9,  -999.0,9,  -999.0,9,     -999.0,9
06MT20091026,       A16C,      68,          1,     204298,         19,2,20091119,       2137,    10.4998,   -23.0003,       5334,    79.8,  15.4133,  35.5684,2,-999.0000,9,     91.7,2,    95.4,2, -999.00,9, -999.00,9, -999.00,9, -999.00,9, -999.00,9,-999.000,9,-999.000,9,  -999.0,9,  -999.0,9,     -999.0,9
06MT20091026,       A16C,      68,          1,     204299,         20,2,20091119,       2137,    10.4998,   -23.0003,       5334,    59.2,  16.3089,  35.6230,2,-999.0000,9,    104.6,2,  -999.0,9, -999.00,9, -999.00,9, -999.00,9, -999.00,9, -999.00,9,-999.000,9,-999.000,9,  -999.0,9,  -999.0,9,     -999.0,9
06MT20091026,       A16C,      68,          1,     204300,         21,2,20091119,       2138,    10.4998,   -23.0003,       5334,    40.3,  22.2440,  35.9333,2,-999.0000,9,    203.6,2,  -999.0,9, -999.00,9, -999.00,9, -999.00,9, -999.00,9, -999.00,9,-999.000,9,-999.000,9,  -999.0,9,  -999.0,9,     -999.0,9
06MT20091026,       A16C,      68,          1,     204301,         22,2,20091119,       2139,    10.4998,   -23.0003,       5334,    19.1,  28.1540,  35.4988,2,-999.0000,9,    199.2,2,  -999.0,9, -999.00,9, -999.00,9, -999.00,9, -999.00,9, -999.00,9,-999.000,9,-999.000,9,  -999.0,9,  -999.0,9,     -999.0,9
06MT20091026,       A16C,      68,          1,     204302,         23,2,20091119,       2139,    10.4998,   -23.0003,       5334,     9.1,  28.1527,  35.5002,2,  35.5050,2,    199.3,2,   199.5,2, -999.00,9, -999.00,9, -999.00,9, -999.00,9, -999.00,9,-999.000,9,-999.000,9,  -999.0,9,  -999.0,9,     -999.0,9
06MT20091026,       A16C,      68,          1,     204303,         24,2,20091119,       2139,    10.4998,   -23.0003,       5334,     4.6,  28.1486,  35.5009,2,-999.0000,9,    200.2,2,  -999.0,9, -999.00,9, -999.00,9, -999.00,9, -999.00,9, -999.00,9,-999.000,9,-999.000,9,  -999.0,9,  -999.0,9,     -999.0,9
06MT20091026,       A16C,      69,          1,     204304,          1,2,20091120,       0151,    11.0000,   -23.0032,       5024,  1311.1,   4.7210,  34.9233,2,  34.9241,2,    180.0,2,   181.2,2,   20.46,2,     0.1,2,   30.12,2,    0.01,2,    1.80,2,-999.000,9,-999.000,9,  2209.3,2,  2296.9,2,     -999.0,9
06MT20091026,       A16C,      69,          1,     204305,          2,2,20091120,       0154,    11.0000,   -23.0032,       5024,  1207.8,   4.9712,  34.8994,2,-999.0000,9,    163.8,2,   165.9,2, -999.00,9, -999.00,9, -999.00,9, -999.00,9, -999.00,9,-999.000,9,-999.000,9,  -999.0,9,  -999.0,9,     -999.0,9
06MT20091026,       A16C,      69,          1,     204306,          3,2,20091120,       0156,    11.0000,   -23.0032,       5024,  1108.3,   5.2758,  34.8646,2,-999.0000,9,    145.0,2,   145.9,2,   21.81,2,    0.12,2,   34.95,2,    0.01,2,    2.01,2,-999.000,9,-999.000,9,  2223.7,2,  2306.5,2,     -999.0,9
06MT20091026,       A16C,      69,          1,     204307,          4,2,20091120,       0158,    11.0000,   -23.0032,       5024,  1005.3,   5.4886,  34.8041,2,-999.0000,9,    128.6,2,   128.9,2, -999.00,9, -999.00,9, -999.00,9, -999.00,9, -999.00,9,-999.000,9,-999.000,9,  -999.0,9,  -999.0,9,     -999.0,9
06MT20091026,       A16C,      69,          1,     204308,          5,2,20091120,       0200,    11.0000,   -23.0032,       5024,   904.0,   5.7764,  34.7657,2,  34.7723,2,    112.7,2,   112.5,2,   24.17,2,    0.03,2,   38.98,2,    0.01,2,    2.41,2,-999.000,9,-999.000,9,  2234.3,2,  2299.0,2,     -999.0,9
06MT20091026,       A16C,      69,          1,     204309,          6,2,20091120,       0202,    11.0000,   -23.0032,       5024,   803.5,   6.3676,  34.7856,2,-999.0000,9,     95.5,2,    95.6,2, -999.00,9, -999.00,9, -999.00,9, -999.00,9, -999.00,9,-999.000,9,-999.000,9,  -999.0,9,  -999.0,9,     -999.0,9
06MT20091026,       A16C,      69,          1,     204310,          7,2,20091120,       0204,    11.0000,   -23.0032,       5024,   702.7,   7.2462,  34.8513,2,-999.0000,9,     74.7,2,    75.0,2,   19.78,2,       0,2,   40.95,2,    0.01,2,    2.40,2,   0.139,2,   0.772,4,  2252.3,2,  2293.2,2,       0.00,3
06MT20091026,       A16C,      69,          1,     204311,          8,2,20091120,       0206,    11.0000,   -23.0032,       5024,   603.0,   8.0601,  34.9238,2,-999.0000,9,     57.8,2,    58.1,2, -999.00,9, -999.00,9, -999.00,9, -999.00,9, -999.00,9,   0.188,2,    0.82,4,  -999.0,9,  -999.0,9,       0.00,3
06MT20091026,       A16C,      69,          1,     204312,          9,2,20091120,       0208,    11.0000,   -23.0032,       5024,   501.5,   9.1735,  35.0252,2,  35.0201,2,     43.8,2,    43.8,2,   15.47,2,    0.06,2,   40.43,2,    0.01,2,    2.32,2,   0.294,2,   0.971,4,  2257.0,2,  2300.3,2,       0.00,3
06MT20091026,       A16C,      69,          1,     204313,         10,2,20091120,       0210,    11.0000,   -23.0032,       5024,   400.0,  10.7741,  35.2101,2,-999.0000,9,     45.7,2,    47.3,2,   11.86,2,    0.05,2,   36.38,2,    0.01,2,    1.97,2,   0.475,2,   0.234,4,  2252.7,2,  2298.9,2,       0.00,3
06MT20091026,       A16C,      69,          1,     204314,         11,2,20091120,       0211,    11.0000,   -23.0032,       5024,   330.6,  11.3292,  35.2084,2,-999.0000,9,     59.5,2,    62.9,2,   10.55,2,    0.14,2,   33.22,2,    0.01,2,    1.81,2,   0.641,2,   0.549,4,  2245.7,2,  2290.4,2,       0.42,3
06MT20091026,       A16C,      69,          1,     204315,         12,2,20091120,       0212,    11.0000,   -23.0032,       5024,   300.6,  11.3512,  35.1247,2,-999.0000,9,     76.0,2,    82.8,2,   10.03,2,    0.08,2,   30.75,2,    0.01,2,    1.79,2,   0.821,2,   1.487,4,  2230.4,2,  2296.9,2,       0.55,3
06MT20091026,       A16C,      69,          1,     204316,         13,2,20091120,       0213,    11.0000,   -23.0032,       5024,   249.4,  11.9001,  35.1714,2,-999.0000,9,     99.9,2,   101.0,2,    8.77,2,    0.12,2,   27.65,2,    0.01,2,    1.67,2,   0.882,2,   0.784,4,  2230.3,2,  2273.0,3,       0.02,3
06MT20091026,       A16C,      69,          1,     204317,         14,2,20091120,       0214,    11.0000,   -23.0032,       5024,   199.2,  12.6278,  35.2605,2,-999.0000,9,     89.3,2,    93.5,2,    8.05,2,    0.08,2,   27.19,2,    0.01,2,    1.63,2,   0.946,2,   0.989,4,  2208.6,2,  2307.5,2,       0.00,3
06MT20091026,       A16C,      69,          1,      69015,         15,2,20091120,       0214,    11.0000,   -23.0032,       5024,   194.4,  12.7001,  35.2679,2,-999.0000,9,     88.4,2,  -999.0,9, -999.00,9, -999.00,9, -999.00,9, -999.00,9, -999.00,9,-999.000,9,-999.000,9,  -999.0,9,  -999.0,9,     -999.0,9
06MT20091026,       A16C,      69,          1,      69016,         16,2,20091120,       0214,    11.0000,   -23.0032,       5024,   192.1,  12.7457,  35.2675,2,-999.0000,9,     86.3,2,  -999.0,9, -999.00,9, -999.00,9, -999.00,9, -999.00,9, -999.00,9,-999.000,9,-999.000,9,  -999.0,9,  -999.0,9,     -999.0,9
06MT20091026,       A16C,      69,          1,     204318,         17,2,20091120,       0215,    11.0000,   -23.0032,       5024,   149.0,  13.3067,  35.3376,2,-999.0000,9,     84.9,2,    90.6,2,    7.37,2,     0.1,2,   25.96,2,    0.01,2,    1.55,2,   1.019,2,   0.411,4,  2205.5,2,  2311.5,2,       0.00,3
06MT20091026,       A16C,      69,          1,     204319,         18,2,20091120,       0216,    11.0000,   -23.0032,       5024,   100.1,  14.4642,  35.4739,2,-999.0000,9,     78.1,2,    81.6,2,    6.48,2,    0.11,2,   25.23,2,    0.03,2,    1.49,2,   0.993,2,   0.783,4,  2210.0,2,  2315.5,2,       0.00,3
06MT20091026,       A16C,      69,          1,     204320,         19,2,20091120,       0216,    11.0000,   -23.0032,       5024,    79.5,  15.1576,  35.5375,2,-999.0000,9,     80.6,2,    81.1,2, -999.00,9, -999.00,9, -999.00,9, -999.00,9, -999.00,9,   1.151,2,    2.53,4,  2211.5,2,  2315.0,2,       0.00,3
06MT20091026,       A16C,      69,          1,     204321,         20,2,20091120,       0217,    11.0000,   -23.0032,       5024,    59.6,  16.8675,  35.6882,2,-999.0000,9,    100.4,2,    82.3,2,    4.44,2,    0.15,2,   21.47,2,    0.30,2,    1.28,2,   1.102,2,   0.497,4,  2202.9,2,  2323.2,2,       0.00,3
06MT20091026,       A16C,      69,          1,     204322,         21,2,20091120,       0218,    11.0000,   -23.0032,       5024,    47.3,  18.2603,  35.7564,2,-999.0000,9,    139.3,2,   129.8,2,    3.13,2,    0.12,2,   10.59,2,    0.28,2,    0.72,2,   1.043,2,    0.88,4,  2172.6,2,  2332.9,2,       0.00,3
06MT20091026,       A16C,      69,          1,     204323,         22,2,20091120,       0219,    11.0000,   -23.0032,       5024,    19.7,  27.7217,  35.5067,2,-999.0000,9,    200.4,2,   201.0,2,    0.11,2,    0.21,2,    0.00,2,    0.00,2,    0.00,2,   0.904,2,   1.098,4,  1982.9,2,  2312.4,2,       0.00,3
06MT20091026,       A16C,      69,          1,     204324,         23,2,20091120,       0219,    11.0000,   -23.0032,       5024,    10.3,  28.0864,  35.5003,2,  35.5030,2,    197.5,2,   198.3,2,    0.00,2,    0.11,2,    0.16,2,    0.00,2,    0.01,2,-999.000,9,-999.000,9,  1973.3,2,  2309.1,2,     -999.0,9
06MT20091026,       A16C,      69,          1,     204325,         24,2,20091120,       0219,    11.0000,   -23.0032,       5024,     4.1,  28.0837,  35.5008,2,-999.0000,9,    197.7,2,   198.9,2,    0.06,2,    0.18,2,    0.43,2,    0.01,2,    0.03,2,   0.913,2,   1.343,4,  1975.8,2,  2312.9,2,       0.00,3