BOTTLE,20211119CCHSIORKP
EXPOCODE,SECT_ID,STNNBR,CASTNO,SAMPNO,BTLNBR,BTLNBR_FLAG_W,DATE,TIME,LATITUDE,LONGITUDE,DEPTH,CTDPRS,CTDTMP,CTDSAL,CTDSAL_FLAG_W,SALNTY,SALNTY_FLAG_W,CTDOXY,CTDOXY_FLAG_W,OXYGEN,OXYGEN_FLAG_W,SILCAT,SILCAT_FLAG_W,NH4,NH4_FLAG_W,NITRAT,NITRAT_FLAG_W,NITRIT,NITRIT_FLAG_W,PHSPHT,PHSPHT_FLAG_W,CFC-12,CFC-12_FLAG_W,SF6,SF6_FLAG_W,TCARBN,TCARBN_FLAG_W,ALKALI,ALKALI_FLAG_W,SF5CF3,SF5CF3_FLAG_W
,,,,,,,,,,,METERS,DBAR,ITS-90,PSS-78,,PSS-78,,UMOL/KG,,UMOL/KG,,UMOL/KG,,UMOL/KG,,UMOL/KG,,UMOL/KG,,UMOL/KG,,PMOL/KG,,FMOL/KG,,UMOL/KG,,UMOL/KG,,FMOL/KG,
06MT20091026,       A16C,      48,          1,     203908,          1,2,20091116,       1030,     3.5002,   -23.0001,       4399,  4389.4,   2.3166,  34.8810,2,  34.8788,2,    244.8,2,   243.2,2,   33.32,6, -999.00,9,   16.59,6,    0.03,6,    1.19,6,-999.000,9,-999.000,9,  2208.2,2,  2334.2,2,     -999.0,9
06MT20091026,       A16C,      48,          1,     203909,          2,2,20091116,       1046,     3.5002,   -23.0001,       4399,  3647.7,   2.4784,  34.9003,2,-999.0000,9,    244.7,2,   244.4,2,   22.46,3, -999.00,9,   12.83,3,    0.03,2,    1.00,3,-999.000,9,-999.000,9,  2199.0,2,  2325.8,2,     -999.0,9
06MT20091026,       A16C,      48,          1,     203910,          3,2,20091116,       1058,     3.5002,   -23.0001,       4399,  3035.8,   2.6293,  34.9113,2,-999.0000,9,    242.4,2,   244.2,2,   28.06,3, -999.00,9,   16.86,3,    0.02,2,    1.14,3,-999.000,9,-999.000,9,  -999.0,9,  -999.0,9,     -999.0,9
06MT20091026,       A16C,      48,          1,     203911,          4,2,20091116,       1108,     3.5002,   -23.0001,       4399,  2525.9,   2.9354,  34.9318,2,  34.9301,2,    241.6,2,   243.3,2,   19.92,3, -999.00,9,   14.57,3,    0.02,2,    1.06,3,-999.000,9,-999.000,9,  2188.6,2,  2321.3,2,     -999.0,9
06MT20091026,       A16C,      48,          1,     203912,          5,2,20091116,       1126,     3.5002,   -23.0001,       4399,  2017.9,   3.4856,  34.9603,2,-999.0000,9,    243.2,2,   245.9,2,   16.24,3, -999.00,9,   16.45,3,    0.02,2,    1.07,3,-999.000,9,-999.000,9,  -999.0,9,  -999.0,9,     -999.0,9
06MT20091026,       A16C,      48,          1,     203913,          6,2,20091116,       1137,     3.5002,   -23.0001,       4399,  1510.7,   4.2346,  34.9646,2,-999.0000,9,    224.8,2,   226.8,2,   14.07,3, -999.00,9,   18.12,3,    0.03,2,    1.16,3,-999.000,9,-999.000,9,  2181.9,2,  2302.5,2,     -999.0,9
06MT20091026,       A16C,      48,          1,     203914,          7,2,20091116,       1149,     3.5002,   -23.0001,       4399,  1258.6,   4.5918,  34.8695,2,-999.0000,9,    186.5,2,   187.0,2,   16.24,3, -999.00,9,   21.16,3,    0.02,2,    1.40,3,-999.000,9,-999.000,9,  -999.0,9,  -999.0,9,     -999.0,9
06MT20091026,       A16C,      48,          1,     203915,          8,2,20091116,       1156,     3.5002,   -23.0001,       4399,  1006.3,   4.6566,  34.6627,2,-999.0000,9,    155.2,2,   155.1,2,   22.64,3, -999.00,9,   27.70,3,    0.02,2,    1.88,3,-999.000,9,-999.000,9,  2222.9,2,  2294.0,2,     -999.0,9
06MT20091026,       A16C,      48,          1,     203916,          9,2,20091116,       1201,     3.5002,   -23.0001,       4399,   804.2,   5.0132,  34.5514,2,-999.0000,9,    139.1,2,   139.8,2,   22.38,3, -999.00,9,   28.09,3,    0.02,2,    1.89,3,-999.000,9,-999.000,9,  -999.0,9,  -999.0,9,     -999.0,9
06MT20091026,       A16C,      48,          1,     203917,         10,2,20091116,       1209,     3.5002,   -23.0001,       4399,   603.3,   6.0149,  34.5729,2,  34.5678,2,    128.4,2,   128.5,2,   14.12,3, -999.00,9,   21.61,3,    0.02,2,    1.53,3,-999.000,9,-999.000,9,  2223.6,2,  2288.5,2,     -999.0,9
06MT20091026,       A16C,      48,          1,     203918,         11,2,20091116,       1214,     3.5002,   -23.0001,       4399,   401.7,   8.7629,  34.8131,2,-999.0000,9,     95.4,2,    95.7,2,   11.03,3, -999.00,9,   24.73,3,    0.02,2,    1.56,3,-999.000,9,-999.000,9,  2233.5,2,  2282.2,2,     -999.0,9
06MT20091026,       A16C,      48,          1,     203919,         12,2,20091116,       1218,     3.5002,   -23.0001,       4399,   301.2,  11.2425,  35.1007,2,-999.0000,9,     65.0,2,    66.6,2,    8.67,3, -999.00,9,   24.18,3,    0.02,2,    1.50,3,-999.000,9,-999.000,9,  2233.0,2,  2299.4,2,     -999.0,9
06MT20091026,       A16C,      48,          1,     203920,         13,2,20091116,       1219,     3.5002,   -23.0001,       4399,   250.4,  13.1520,  35.3066,2,  35.2683,2,     80.8,2,    79.2,2,    5.56,3, -999.00,9,   18.11,3,    0.01,2,    1.18,3,-999.000,9,-999.000,9,  2214.3,2,  2307.9,2,     -999.0,9
06MT20091026,       A16C,      48,          1,     203921,         14,2,20091116,       1221,     3.5002,   -23.0001,       4399,   200.4,  14.2480,  35.4474,2,-999.0000,9,     96.7,2,    97.9,2,    5.03,3, -999.00,9,   16.26,3,    0.02,2,    1.04,3,-999.000,9,-999.000,9,  2202.3,2,  2312.4,2,     -999.0,9
06MT20091026,       A16C,      48,          1,      48015,         15,2,20091116,       1221,     3.5002,   -23.0001,       4399,   179.3,  14.4934,  35.4792,2,-999.0000,9,     94.9,2,  -999.0,9, -999.00,9, -999.00,9, -999.00,9, -999.00,9, -999.00,9,-999.000,9,-999.000,9,  -999.0,9,  -999.0,9,     -999.0,9
06MT20091026,       A16C,      48,          1,      48016,         16,2,20091116,       1221,     3.5002,   -23.0001,       4399,   178.1,  14.4747,  35.4783,2,-999.0000,9,     95.6,2,  -999.0,9, -999.00,9, -999.00,9, -999.00,9, -999.00,9, -999.00,9,-999.000,9,-999.000,9,  -999.0,9,  -999.0,9,     -999.0,9
06MT20091026,       A16C,      48,          1,     203922,         17,2,20091116,       1222,     3.5002,   -23.0001,       4399,   150.5,  14.9069,  35.5391,2,-999.0000,9,    101.5,2,   103.1,2,    3.85,3, -999.00,9,   13.56,3,    0.02,2,    0.90,3,-999.000,9,-999.000,9,  2192.5,2,  2320.7,2,     -999.0,9
06MT20091026,       A16C,      48,          1,     203923,         18,2,20091116,       1224,     3.5002,   -23.0001,       4399,   100.6,  16.4558,  35.7062,2,-999.0000,9,     98.7,2,    99.2,2,    2.86,3, -999.00,9,   11.55,3,    0.08,2,    0.80,3,-999.000,9,-999.000,9,  2194.4,2,  2326.1,2,     -999.0,9
06MT20091026,       A16C,      48,          1,     203924,         19,2,20091116,       1224,     3.5002,   -23.0001,       4399,    80.1,  18.8308,  35.8004,2,-999.0000,9,    114.3,2,   113.8,2,    1.96,3, -999.00,9,    8.11,3,    0.16,2,    0.57,3,-999.000,9,-999.000,9,  2177.3,2,  2331.7,2,     -999.0,9
06MT20091026,       A16C,      48,          1,     203925,         20,3,20091116,       1225,     3.5002,   -23.0001,       4399,    59.9,  27.0992,  35.8708,2,-999.0000,9,    196.8,2,   166.3,3,    0.53,3, -999.00,9,    1.89,3,    0.05,2,    0.14,3,-999.000,9,-999.000,9,  2082.6,2,  2341.5,2,     -999.0,9
06MT20091026,       A16C,      48,          1,     203926,         21,2,20091116,       1226,     3.5002,   -23.0001,       4399,    40.0,  28.2590,  35.3844,2,-999.0000,9,    200.7,2,   203.2,2,    0.00,3, -999.00,9,    0.00,3,    0.01,2,    0.00,3,-999.000,9,-999.000,9,  1968.6,2,  2304.7,2,     -999.0,9
06MT20091026,       A16C,      48,          1,     203927,         22,2,20091116,       1227,     3.5002,   -23.0001,       4399,    19.7,  28.2678,  35.3858,2,  35.3794,2,    201.3,2,   203.0,2,    0.03,3, -999.00,9,    0.00,3,    0.00,2,    0.00,3,-999.000,9,-999.000,9,  1967.7,2,  2302.9,2,     -999.0,9
06MT20091026,       A16C,      48,          1,     203928,         23,2,20091116,       1227,     3.5002,   -23.0001,       4399,     9.5,  28.2752,  35.3867,2,-999.0000,9,    200.7,2,   203.1,2,    0.21,3, -999.00,9,    0.04,3,    0.00,2,    0.01,3,-999.000,9,-999.000,9,  1968.6,2,  2302.4,2,     -999.0,9
06MT20091026,       A16C,      48,          1,     203929,         24,2,20091116,       1227,     3.5002,   -23.0001,       4399,     3.9,  28.2752,  35.3869,2,-999.0000,9,    201.8,2,   202.5,2,    0.18,6, -999.00,9,    0.14,6,    0.00,6,    0.03,6,-999.000,9,-999.000,9,  1968.5,2,  2305.1,2,     -999.0,9
06MT20091026,       A16C,      49,          1,     203930,          1,2,20091115,       1654,     4.0003,   -23.0002,       4222,  4212.1,   2.3199,  34.8831,2,  34.8819,2,    244.6,2,   243.7,2,   43.40,2,    0.15,2,   24.23,2,    0.02,2,    1.51,2,-999.000,9,-999.000,9,  2209.6,2,  2349.4,2,     -999.0,9
06MT20091026,       A16C,      49,          1,     203931,          2,2,20091115,       1707,     4.0003,   -23.0002,       4222,  3646.7,   2.4530,  34.8987,2,-999.0000,9,    246.8,2,   246.8,2,   38.99,6,    0.15,6,   23.55,6,    0.01,6,    1.50,6,-999.000,9,-999.000,9,  2190.0,2,  2344.9,2,     -999.0,9
06MT20091026,       A16C,      49,          1,     203932,          3,2,20091115,       1723,     4.0003,   -23.0002,       4222,  3035.3,   2.6575,  34.9141,2,-999.0000,9,    243.3,2,   244.2,2,   34.58,2,    0.15,2,   23.32,2,    0.01,2,    1.50,2,-999.000,9,-999.000,9,  2186.3,2,  2337.2,2,     -999.0,9
06MT20091026,       A16C,      49,          1,     203933,          4,2,20091115,       1735,     4.0003,   -23.0002,       4222,  2525.6,   2.9237,  34.9312,2,-999.0000,9,    241.7,2,   243.3,2,   29.33,2,    0.14,2,   23.03,2,    0.01,2,    1.49,2,   0.013,2,   0.007,2,  2180.5,2,  2334.0,2,       0.00,3
06MT20091026,       A16C,      49,          1,     203934,          5,2,20091115,       1748,     4.0003,   -23.0002,       4222,  2019.2,   3.4713,  34.9583,2,  34.9572,2,    241.5,2,   244.4,2,   20.79,2,    0.13,2,   21.84,2,    0.01,2,    1.41,2,   0.035,2,    0.04,2,  2171.4,2,  2322.5,2,       0.00,3
06MT20091026,       A16C,      49,          1,     203935,          6,2,20091115,       1801,     4.0003,   -23.0002,       4222,  1510.9,   4.2292,  34.9627,2,-999.0000,9,    223.3,2,   225.3,2,   17.03,2,    0.08,2,   23.39,2,    0.01,2,    1.52,2,   0.081,2,    0.05,2,  2177.1,2,  2318.0,2,       0.00,3
06MT20091026,       A16C,      49,          1,     203936,          7,2,20091115,       1803,     4.0003,   -23.0002,       4222,  1414.5,   4.3891,  34.9492,2,-999.0000,9,    213.8,2,   216.9,2,   18.36,2,    0.12,2,   24.85,2,    0.01,2,    1.55,2,   0.086,2,  -0.063,3,  2182.1,2,  2319.2,2,       0.00,3
06MT20091026,       A16C,      49,          1,     203937,          8,2,20091115,       1811,     4.0003,   -23.0002,       4222,  1005.3,   4.7528,  34.6510,2,-999.0000,9,    149.5,2,   149.2,2,   27.51,2,    0.06,2,   35.98,2,    0.01,2,    2.33,2,   0.029,2,   0.015,2,  2219.3,2,  2310.2,2,       0.00,3
06MT20091026,       A16C,      49,          1,     203938,          9,2,20091115,       1816,     4.0003,   -23.0002,       4222,   803.9,   5.1296,  34.5521,2,-999.0000,9,    138.6,2,   136.9,2,   27.26,2,    0.12,2,   38.04,2,    0.01,2,    2.31,2,   0.090,2,   0.026,2,  2223.4,2,  2305.4,2,       0.00,3
06MT20091026,       A16C,      49,          1,     203939,         10,2,20091115,       1820,     4.0003,   -23.0002,       4222,   602.2,   6.2565,  34.5770,2,-999.0000,9,    131.3,2,   132.9,2,   21.34,2,    0.12,2,   36.68,2,    0.01,2,    2.26,2,   0.301,2,   0.078,2,  2215.8,2,  2301.0,2,       0.00,3
06MT20091026,       A16C,      49,          1,     203940,         11,2,20091115,       1825,     4.0003,   -23.0002,       4222,   400.0,   9.2605,  34.8676,2,-999.0000,9,     90.3,2,    91.4,2,   13.41,2,     0.1,2,   34.20,2,    0.01,2,    2.10,2,   0.529,2,   0.182,2,  2220.4,2,  2305.4,2,       0.00,3
06MT20091026,       A16C,      49,          1,     203941,         12,2,20091115,       1827,     4.0003,   -23.0002,       4222,   300.3,  12.1112,  35.1862,2,-999.0000,9,     91.8,2,    92.1,2,    8.97,2,    0.11,2,   26.88,2,    0.01,2,    1.69,2,   0.855,2,   0.358,2,  2206.0,2,  2316.7,2,       0.12,3
06MT20091026,       A16C,      49,          1,     203942,         13,2,20091115,       1828,     4.0003,   -23.0002,       4222,   248.9,  13.3924,  35.3386,2,  35.3178,2,    101.3,2,   102.4,2,    7.27,2,    0.03,2,   23.30,2,    0.00,2,    1.52,2,   1.005,2,   0.468,2,  2194.0,2,  2322.2,2,       0.00,3
06MT20091026,       A16C,      49,          1,     203943,         14,2,20091115,       1829,     4.0003,   -23.0002,       4222,   193.3,  14.8398,  35.5389,2,-999.0000,9,    108.8,2,   107.2,2,    6.11,2,    0.06,2,   20.57,2,    0.01,2,    1.39,2,   1.088,2,   0.553,2,  2186.4,2,  2333.1,2,       0.00,3
06MT20091026,       A16C,      49,          1,      49015,         15,2,20091115,       1829,     4.0003,   -23.0002,       4222,   189.3,  14.8855,  35.5421,2,-999.0000,9,    111.5,2,  -999.0,9, -999.00,9, -999.00,9, -999.00,9, -999.00,9, -999.00,9,-999.000,9,-999.000,9,  -999.0,9,  -999.0,9,     -999.0,9
06MT20091026,       A16C,      49,          1,      49016,         16,2,20091115,       1829,     4.0003,   -23.0002,       4222,   186.6,  14.9028,  35.5380,2,-999.0000,9,    116.4,2,  -999.0,9, -999.00,9, -999.00,9, -999.00,9, -999.00,9, -999.00,9,-999.000,9,-999.000,9,  -999.0,9,  -999.0,9,     -999.0,9
06MT20091026,       A16C,      49,          1,     203944,         17,2,20091115,       1830,     4.0003,   -23.0002,       4222,   149.2,  15.2554,  35.5957,2,-999.0000,9,    121.9,2,   121.8,2,    5.18,2,    0.09,2,   18.28,2,    0.01,2,    1.17,2,   1.138,2,   0.655,2,  2176.8,2,  2339.4,2,       0.00,3
06MT20091026,       A16C,      49,          1,     203945,         18,2,20091115,       1831,     4.0003,   -23.0002,       4222,    99.3,  15.8403,  35.6633,2,-999.0000,9,    124.4,2,   124.1,2,    5.09,2,    0.09,2,   17.58,2,    0.03,2,    1.14,2,   1.156,2,   0.663,2,  2172.8,2,  2339.7,2,       0.00,3
06MT20091026,       A16C,      49,          1,     203946,         19,2,20091115,       1832,     4.0003,   -23.0002,       4222,    79.7,  16.7616,  35.7188,2,-999.0000,9,    103.0,2,   108.3,2,    4.40,2,    0.05,2,   17.29,2,    0.13,2,    1.05,2,   1.123,2,    0.61,2,  2178.4,2,  2340.6,2,       0.00,3
06MT20091026,       A16C,      49,          1,     203947,         20,2,20091115,       1832,     4.0003,   -23.0002,       4222,    59.4,  22.0245,  35.8400,2,-999.0000,9,    159.2,2,   179.5,2,    1.15,2,     0.1,2,    1.12,2,    0.05,2,    0.12,2,-999.000,9,-999.000,9,  2077.2,2,  2356.6,2,     -999.0,9
06MT20091026,       A16C,      49,          1,     203948,         21,2,20091115,       1833,     4.0003,   -23.0002,       4222,    38.7,  28.2561,  35.2277,2,-999.0000,9,    203.9,2,   202.8,2,    0.05,6,    0.05,6,    0.04,6,    0.00,6,    0.00,6,   0.830,2,   0.749,2,  1952.3,2,  2306.2,2,       0.00,3
06MT20091026,       A16C,      49,          1,     203949,         22,2,20091115,       1834,     4.0003,   -23.0002,       4222,    19.0,  28.2668,  35.1958,2,-999.0000,9,    201.9,2,   201.5,2,    0.12,2,    0.17,2,    0.10,2,    0.00,2,    0.01,2,-999.000,9,-999.000,9,  1950.5,2,  -999.0,9,     -999.0,9
06MT20091026,       A16C,      49,          1,     203950,         23,2,20091115,       1834,     4.0003,   -23.0002,       4222,    10.1,  28.2642,  35.1960,2,-999.0000,9,    202.2,2,   202.2,2,    0.05,2,    0.09,2,    0.21,2,    0.00,2,    0.02,2,-999.000,9,-999.000,9,  1950.0,2,  2307.2,2,     -999.0,9
06MT20091026,       A16C,      49,          1,     203951,         24,2,20091115,       1834,     4.0003,   -23.0002,       4222,     4.5,  28.2641,  35.1957,2,  35.1962,2,    202.6,2,   201.8,2,    0.10,2,    0.09,2,    0.39,2,    0.01,2,    0.03,2,-999.000,9,-999.000,9,  1949.8,2,  2305.6,2,     -999.0,9