BOTTLE,20211119CCHSIORKP
EXPOCODE,SECT_ID,STNNBR,CASTNO,SAMPNO,BTLNBR,BTLNBR_FLAG_W,DATE,TIME,LATITUDE,LONGITUDE,DEPTH,CTDPRS,CTDTMP,CTDSAL,CTDSAL_FLAG_W,SALNTY,SALNTY_FLAG_W,CTDOXY,CTDOXY_FLAG_W,OXYGEN,OXYGEN_FLAG_W,SILCAT,SILCAT_FLAG_W,NH4,NH4_FLAG_W,NITRAT,NITRAT_FLAG_W,NITRIT,NITRIT_FLAG_W,PHSPHT,PHSPHT_FLAG_W,CFC-12,CFC-12_FLAG_W,SF6,SF6_FLAG_W,TCARBN,TCARBN_FLAG_W,ALKALI,ALKALI_FLAG_W,SF5CF3,SF5CF3_FLAG_W
,,,,,,,,,,,METERS,DBAR,ITS-90,PSS-78,,PSS-78,,UMOL/KG,,UMOL/KG,,UMOL/KG,,UMOL/KG,,UMOL/KG,,UMOL/KG,,UMOL/KG,,PMOL/KG,,FMOL/KG,,UMOL/KG,,UMOL/KG,,FMOL/KG,
06MT20091026,       A16C,      31,          1,     203559,          1,2,20091108,       2054,    -3.9999,   -23.0002,       5475,  4573.2,   0.9286,  34.7394,2,  34.7381,2,    232.6,2,   227.0,2,   75.01,2,    0.09,2,   31.45,2,    0.01,2,    2.08,2,-999.000,9,-999.000,9,  -999.0,9,  -999.0,9,     -999.0,9
06MT20091026,       A16C,      31,          1,     203560,          2,2,20091108,       2111,    -3.9999,   -23.0002,       5475,  3800.0,   2.3338,  34.8966,2,-999.0000,9,    260.9,2,   258.4,2,   35.30,2,    0.09,2,   21.51,2,    0.01,2,    1.30,2,-999.000,9,-999.000,9,  -999.0,9,  -999.0,9,     -999.0,9
06MT20091026,       A16C,      31,          1,     203561,          3,2,20091108,       2128,    -3.9999,   -23.0002,       5475,  3036.2,   2.6609,  34.9133,2,-999.0000,9,    249.8,2,   248.2,2,   32.97,6,    0.11,6,   22.49,6,    0.00,6,    1.44,6,-999.000,9,-999.000,9,  -999.0,9,  -999.0,9,     -999.0,9
06MT20091026,       A16C,      31,          1,     203562,          4,2,20091108,       2138,    -3.9999,   -23.0002,       5475,  2526.1,   2.9632,  34.9313,2,-999.0000,9,    249.2,2,   248.3,2,   28.47,2,    0.13,2,   21.95,2,    0.00,2,    1.37,2,-999.000,9,-999.000,9,  -999.0,9,  -999.0,9,     -999.0,9
06MT20091026,       A16C,      31,          1,     203563,          5,2,20091108,       2149,    -3.9999,   -23.0002,       5475,  2016.7,   3.5568,  34.9660,2,-999.0000,9,    252.3,2,   251.4,2,   18.41,2,    0.12,2,   20.98,2,    0.00,2,    1.26,2,-999.000,9,-999.000,9,  -999.0,9,  -999.0,9,     -999.0,9
06MT20091026,       A16C,      31,          1,     203564,          6,2,20091108,       2200,    -3.9999,   -23.0002,       5475,  1510.9,   4.2707,  34.9463,2,  34.9434,2,    224.3,2,   222.5,2,   18.01,2,    0.09,2,   24.39,2,    0.00,2,    1.39,2,-999.000,9,-999.000,9,  -999.0,9,  -999.0,9,     -999.0,9
06MT20091026,       A16C,      31,          1,     203565,          7,2,20091108,       2205,    -3.9999,   -23.0002,       5475,  1261.2,   4.4953,  34.8428,2,-999.0000,9,    191.7,2,   190.2,2,   21.74,2,    0.03,2,   28.76,2,    0.01,2,    1.80,2,-999.000,9,-999.000,9,  -999.0,9,  -999.0,9,     -999.0,9
06MT20091026,       A16C,      31,          1,     203566,          8,2,20091108,       2211,    -3.9999,   -23.0002,       5475,  1005.5,   4.3470,  34.5989,2,-999.0000,9,    164.8,2,   161.4,2,   30.19,2,    0.08,2,   34.92,2,    0.00,2,    2.00,2,-999.000,9,-999.000,9,  -999.0,9,  -999.0,9,     -999.0,9
06MT20091026,       A16C,      31,          1,     203567,          9,2,20091108,       2215,    -3.9999,   -23.0002,       5475,   803.7,   4.7109,  34.4905,2,-999.0000,9,    156.3,2,   154.2,2,   27.22,2,    0.01,2,   36.35,2,    0.01,2,    2.33,2,-999.000,9,-999.000,9,  -999.0,9,  -999.0,9,     -999.0,9
06MT20091026,       A16C,      31,          1,     203568,         10,2,20091108,       2220,    -3.9999,   -23.0002,       5475,   603.8,   5.4290,  34.4969,2,-999.0000,9,    142.3,2,   140.3,2,   24.11,2,    0.08,2,   35.88,2,    0.01,2,    2.32,2,-999.000,9,-999.000,9,  -999.0,9,  -999.0,9,     -999.0,9
06MT20091026,       A16C,      31,          1,     203569,         11,2,20091108,       2224,    -3.9999,   -23.0002,       5475,   401.5,   8.2831,  34.7393,2,  34.7273,2,     85.8,2,    83.3,2,   16.28,2,    0.08,2,   35.66,2,    0.01,2,    2.03,2,-999.000,9,-999.000,9,  -999.0,9,  -999.0,9,     -999.0,9
06MT20091026,       A16C,      31,          1,     203570,         12,2,20091108,       2226,    -3.9999,   -23.0002,       5475,   302.0,  10.1635,  34.9331,2,-999.0000,9,     86.0,2,    87.9,2,   11.28,2,    0.06,2,   31.51,2,    0.01,2,    1.92,2,-999.000,9,-999.000,9,  -999.0,9,  -999.0,9,     -999.0,9
06MT20091026,       A16C,      31,          1,     203571,         13,2,20091108,       2228,    -3.9999,   -23.0002,       5475,   249.6,  11.0131,  35.0319,2,-999.0000,9,     93.7,2,    91.7,2,   10.27,2,     0.1,2,   29.62,2,    0.01,2,    1.66,2,-999.000,9,-999.000,9,  -999.0,9,  -999.0,9,     -999.0,9
06MT20091026,       A16C,      31,          1,     203572,         14,2,20091108,       2229,    -3.9999,   -23.0002,       5475,   199.9,  11.8919,  35.1152,2,-999.0000,9,    148.7,2,   131.6,2,    7.79,2,    0.01,2,   22.66,2,    0.02,2,    1.39,2,-999.000,9,-999.000,9,  -999.0,9,  -999.0,9,     -999.0,9
06MT20091026,       A16C,      31,          1,      31015,         15,2,20091108,       2229,    -3.9999,   -23.0002,       5475,   195.6,  11.9733,  35.1285,2,-999.0000,9,    149.1,2,  -999.0,9, -999.00,9, -999.00,9, -999.00,9, -999.00,9, -999.00,9,-999.000,9,-999.000,9,  -999.0,9,  -999.0,9,     -999.0,9
06MT20091026,       A16C,      31,          1,      31016,         16,2,20091108,       2229,    -3.9999,   -23.0002,       5475,   191.5,  12.0323,  35.1350,2,-999.0000,9,    150.5,2,  -999.0,9, -999.00,9, -999.00,9, -999.00,9, -999.00,9, -999.00,9,-999.000,9,-999.000,9,  -999.0,9,  -999.0,9,     -999.0,9
06MT20091026,       A16C,      31,          1,     203573,         17,2,20091108,       2230,    -3.9999,   -23.0002,       5475,   149.4,  12.9119,  35.2458,2,  35.1992,2,    157.4,2,   152.8,2,    5.97,2,    0.03,2,   17.26,2,    0.02,2,    1.14,2,-999.000,9,-999.000,9,  -999.0,9,  -999.0,9,     -999.0,9
06MT20091026,       A16C,      31,          1,     203574,         18,2,20091108,       2230,    -3.9999,   -23.0002,       5475,    99.4,  15.1754,  35.5040,2,-999.0000,9,    161.5,2,   151.8,2,    3.89,6,    0.08,6,   13.99,6,    0.06,6,    0.93,6,-999.000,9,-999.000,9,  -999.0,9,  -999.0,9,     -999.0,9
06MT20091026,       A16C,      31,          1,     203575,         19,2,20091108,       2231,    -3.9999,   -23.0002,       5475,    79.7,  18.6391,  35.9495,2,-999.0000,9,    140.0,2,   138.4,2,    2.40,2,    0.06,2,   10.40,2,    0.25,2,    0.74,2,-999.000,9,-999.000,9,  -999.0,9,  -999.0,9,     -999.0,9
06MT20091026,       A16C,      31,          1,     203576,         20,2,20091108,       2232,    -3.9999,   -23.0002,       5475,    60.1,  25.3746,  36.0737,2,-999.0000,9,    202.3,2,   165.6,2,    1.48,2,    0.15,2,    4.81,2,    0.26,2,    0.42,2,-999.000,9,-999.000,9,  -999.0,9,  -999.0,9,     -999.0,9
06MT20091026,       A16C,      31,          1,     203577,         21,2,20091108,       2233,    -3.9999,   -23.0002,       5475,    39.0,  25.5902,  35.9767,2,-999.0000,9,    211.3,2,   206.1,2,    0.03,2,     0.1,2,    0.04,2,    0.01,2,    0.09,2,-999.000,9,-999.000,9,  -999.0,9,  -999.0,9,     -999.0,9
06MT20091026,       A16C,      31,          1,     203578,         22,2,20091108,       2233,    -3.9999,   -23.0002,       5475,    19.8,  25.6647,  35.9802,2,  35.9784,2,    212.5,2,   207.8,2,    0.43,2,       0,2,    0.00,2,    0.00,2,    0.08,2,-999.000,9,-999.000,9,  -999.0,9,  -999.0,9,     -999.0,9
06MT20091026,       A16C,      31,          1,     203579,         23,2,20091108,       2234,    -3.9999,   -23.0002,       5475,     9.7,  25.7058,  35.9818,2,-999.0000,9,    212.4,2,   208.0,2,    0.00,2,    0.09,2,    0.15,2,    0.00,2,    0.09,2,-999.000,9,-999.000,9,  -999.0,9,  -999.0,9,     -999.0,9
06MT20091026,       A16C,      31,          1,     203580,         24,2,20091108,       2234,    -3.9999,   -23.0002,       5475,     4.4,  25.7249,  35.9830,2,-999.0000,9,    212.1,2,   207.6,2,    0.03,2,       0,2,    0.35,2,    0.00,2,    0.09,2,-999.000,9,-999.000,9,  -999.0,9,  -999.0,9,     -999.0,9
06MT20091026,       A16C,      32,          1,     203581,          1,2,20091109,       0313,    -4.4999,   -23.0003,       5558,  4571.2,   0.9687,  34.7445,2,  34.7461,2,    232.9,2,   227.5,2,   80.66,2,    0.18,2,   30.09,2,    0.02,2,    2.03,2,-999.000,9,-999.000,9,  2243.4,2,  2369.4,2,     -999.0,9
06MT20091026,       A16C,      32,          1,     203582,          2,2,20091109,       0330,    -4.4999,   -23.0003,       5558,  3749.5,   2.3901,  34.9018,2,-999.0000,9,    262.2,2,   259.8,2,   31.18,2,    0.09,2,   20.20,2,    0.01,2,    1.33,2,-999.000,9,-999.000,9,  2175.2,2,  2330.1,2,     -999.0,9
06MT20091026,       A16C,      32,          1,     203583,          3,2,20091109,       0346,    -4.4999,   -23.0003,       5558,  3034.8,   2.6432,  34.9128,2,  34.9151,2,    250.5,2,   248.2,2,   32.86,2,     0.1,2,   21.67,2,    0.01,2,    1.40,2,-999.000,9,-999.000,9,  -999.0,9,  -999.0,9,     -999.0,9
06MT20091026,       A16C,      32,          1,     203584,          4,2,20091109,       0356,    -4.4999,   -23.0003,       5558,  2526.5,   2.8618,  34.9163,2,-999.0000,9,    243.2,2,   242.0,2,   32.33,6,    0.14,6,   22.39,6,    0.00,6,    1.42,6,-999.000,9,-999.000,9,  2183.1,2,  2333.8,2,     -999.0,9
06MT20091026,       A16C,      32,          1,     203585,          5,2,20091109,       0406,    -4.4999,   -23.0003,       5558,  2018.2,   3.5844,  34.9633,2,-999.0000,9,    250.1,2,   249.9,2,   18.32,2,    0.09,2,   20.39,2,    0.00,2,    1.31,2,-999.000,9,-999.000,9,  -999.0,9,  -999.0,9,     -999.0,9
06MT20091026,       A16C,      32,          1,     203586,          6,2,20091109,       0416,    -4.4999,   -23.0003,       5558,  1511.3,   4.2067,  34.9483,2,  34.9515,2,    226.5,2,   225.5,2,   17.32,2,    0.05,2,   22.93,2,    0.01,2,    1.50,2,-999.000,9,-999.000,9,  2174.8,2,  2315.9,2,     -999.0,9
06MT20091026,       A16C,      32,          1,     203587,          7,2,20091109,       0421,    -4.4999,   -23.0003,       5558,  1258.8,   4.3782,  34.8156,2,-999.0000,9,    189.3,2,   186.8,2,   23.38,2,       0,2,   28.65,2,    0.01,2,    1.82,2,-999.000,9,-999.000,9,  -999.0,9,  -999.0,9,     -999.0,9
06MT20091026,       A16C,      32,          1,     203588,          8,2,20091109,       0426,    -4.4999,   -23.0003,       5558,  1005.5,   4.3637,  34.5925,2,-999.0000,9,    160.9,2,   158.5,2,   30.53,2,    0.19,2,   35.08,2,    0.01,2,    2.30,2,-999.000,9,-999.000,9,  2216.6,2,  2308.0,2,     -999.0,9
06MT20091026,       A16C,      32,          1,     203589,          9,2,20091109,       0430,    -4.4999,   -23.0003,       5558,   804.3,   4.5841,  34.4832,2,-999.0000,9,    161.6,2,   159.9,2,   28.83,2,    0.04,2,   35.35,2,    0.01,2,    2.32,2,-999.000,9,-999.000,9,  -999.0,9,  -999.0,9,     -999.0,9
06MT20091026,       A16C,      32,          1,     203590,         10,2,20091109,       0434,    -4.4999,   -23.0003,       5558,   601.0,   5.5038,  34.5020,2,-999.0000,9,    141.5,2,   139.3,2,   23.74,2,    0.21,2,   35.94,2,    0.00,2,    2.28,2,-999.000,9,-999.000,9,  2215.7,2,  2297.6,2,     -999.0,9
06MT20091026,       A16C,      32,          1,     203591,         11,2,20091109,       0438,    -4.4999,   -23.0003,       5558,   400.8,   7.8005,  34.6927,2,-999.0000,9,     89.4,2,    87.6,2,   17.10,2,    0.11,2,   36.50,2,    0.01,2,    2.22,2,-999.000,9,-999.000,9,  2229.5,2,  2300.5,2,     -999.0,9
06MT20091026,       A16C,      32,          1,     203592,         12,2,20091109,       0439,    -4.4999,   -23.0003,       5558,   299.8,   9.6199,  34.8673,2,  34.8447,2,    107.1,2,   103.5,2,   12.39,2,    0.09,2,   30.66,2,    0.01,2,    1.83,2,-999.000,9,-999.000,9,  2208.0,2,  2301.1,2,     -999.0,9
06MT20091026,       A16C,      32,          1,     203593,         13,2,20091109,       0441,    -4.4999,   -23.0003,       5558,   249.5,  10.4405,  34.9576,2,-999.0000,9,    109.1,2,   104.5,2,   11.76,2,    0.09,2,   28.35,2,    0.01,2,    1.72,2,-999.000,9,-999.000,9,  2202.4,2,  2304.3,2,     -999.0,9
06MT20091026,       A16C,      32,          1,     203594,         14,2,20091109,       0442,    -4.4999,   -23.0003,       5558,   198.3,  11.2200,  35.0365,2,-999.0000,9,    136.6,2,   138.5,2,    8.78,2,    0.15,2,   22.91,2,    0.01,2,    1.45,2,-999.000,9,-999.000,9,  2176.0,2,  2310.8,2,     -999.0,9
06MT20091026,       A16C,      32,          1,      32015,         15,2,20091109,       0442,    -4.4999,   -23.0003,       5558,   194.2,  11.3030,  35.0459,2,-999.0000,9,    140.2,2,  -999.0,9, -999.00,9, -999.00,9, -999.00,9, -999.00,9, -999.00,9,-999.000,9,-999.000,9,  -999.0,9,  -999.0,9,     -999.0,9
06MT20091026,       A16C,      32,          1,      32016,         16,2,20091109,       0442,    -4.4999,   -23.0003,       5558,   191.1,  11.3336,  35.0558,2,-999.0000,9,    143.9,2,  -999.0,9, -999.00,9, -999.00,9, -999.00,9, -999.00,9, -999.00,9,-999.000,9,-999.000,9,  -999.0,9,  -999.0,9,     -999.0,9
06MT20091026,       A16C,      32,          1,     203595,         17,2,20091109,       0443,    -4.4999,   -23.0003,       5558,   141.4,  12.9840,  35.2744,2,-999.0000,9,    135.5,2,   137.6,2,    6.43,2,    0.15,2,   20.10,2,    0.02,2,    1.30,2,-999.000,9,-999.000,9,  2169.8,2,  2316.8,2,     -999.0,9
06MT20091026,       A16C,      32,          1,     203596,         18,2,20091109,       0444,    -4.4999,   -23.0003,       5558,   100.1,  18.5090,  35.9722,2,-999.0000,9,    129.5,2,   129.0,2,    4.79,2,    0.07,2,   13.69,2,    0.11,2,    0.94,2,-999.000,9,-999.000,9,  2162.0,2,  2350.4,2,     -999.0,9
06MT20091026,       A16C,      32,          1,     203597,         19,2,20091109,       0445,    -4.4999,   -23.0003,       5558,    72.3,  23.4073,  36.1985,2,  36.1654,2,    170.6,2,   169.2,2,    0.89,6,    0.18,6,    4.54,6,    0.45,6,    0.40,6,-999.000,9,-999.000,9,  2112.0,2,  2372.2,2,     -999.0,9
06MT20091026,       A16C,      32,          1,     203598,         20,2,20091109,       0445,    -4.4999,   -23.0003,       5558,    59.9,  25.5237,  35.9775,2,-999.0000,9,    209.8,2,   210.1,2,    0.22,2,    0.15,2,    0.02,2,    0.01,2,    0.06,2,-999.000,9,-999.000,9,  2046.9,2,  2362.2,2,     -999.0,9
06MT20091026,       A16C,      32,          1,     203599,         21,2,20091109,       0446,    -4.4999,   -23.0003,       5558,    40.1,  25.6412,  35.9721,2,-999.0000,9,    211.4,2,   212.0,2,    0.00,2,    0.14,2,    0.00,2,    0.01,2,    0.06,2,-999.000,9,-999.000,9,  2044.1,2,  2360.6,2,     -999.0,9
06MT20091026,       A16C,      32,          1,     203600,         22,2,20091109,       0447,    -4.4999,   -23.0003,       5558,    19.6,  25.6508,  35.9739,2,-999.0000,9,    211.1,2,   211.7,2,    0.00,2,    0.17,2,    0.08,2,    0.00,2,    0.06,2,-999.000,9,-999.000,9,  2044.1,2,  2362.9,2,     -999.0,9
06MT20091026,       A16C,      32,          1,     203601,         23,2,20091109,       0448,    -4.4999,   -23.0003,       5558,     9.9,  25.6495,  35.9733,2,-999.0000,9,    211.4,2,   214.3,2,    0.09,2,    0.07,2,    0.17,2,    0.01,2,    0.07,2,-999.000,9,-999.000,9,  2044.2,2,  2359.6,2,     -999.0,9
06MT20091026,       A16C,      32,          1,     203602,         24,2,20091109,       0448,    -4.4999,   -23.0003,       5558,     5.4,  25.6446,  35.9736,2,-999.0000,9,    211.7,2,   211.0,2,    0.12,2,    0.13,2,    0.30,2,    0.01,2,    0.08,2,-999.000,9,-999.000,9,  2045.6,2,  2359.5,2,     -999.0,9