BOTTLE,20211119CCHSIORKP
EXPOCODE,SECT_ID,STNNBR,CASTNO,SAMPNO,BTLNBR,BTLNBR_FLAG_W,DATE,TIME,LATITUDE,LONGITUDE,DEPTH,CTDPRS,CTDTMP,CTDSAL,CTDSAL_FLAG_W,SALNTY,SALNTY_FLAG_W,CTDOXY,CTDOXY_FLAG_W,OXYGEN,OXYGEN_FLAG_W,SILCAT,SILCAT_FLAG_W,NH4,NH4_FLAG_W,NITRAT,NITRAT_FLAG_W,NITRIT,NITRIT_FLAG_W,PHSPHT,PHSPHT_FLAG_W,CFC-12,CFC-12_FLAG_W,SF6,SF6_FLAG_W,TCARBN,TCARBN_FLAG_W,ALKALI,ALKALI_FLAG_W,SF5CF3,SF5CF3_FLAG_W
,,,,,,,,,,,METERS,DBAR,ITS-90,PSS-78,,PSS-78,,UMOL/KG,,UMOL/KG,,UMOL/KG,,UMOL/KG,,UMOL/KG,,UMOL/KG,,UMOL/KG,,PMOL/KG,,FMOL/KG,,UMOL/KG,,UMOL/KG,,FMOL/KG,
06MT20091026,       A16C,      21,          1,     203339,          1,2,20091106,       0428,    -0.4994,   -22.9991,       4582,  4571.7,   2.3296,  34.8803,2,  34.8806,2,   -999.0,9,   247.2,2,   33.26,2,    0.05,2,   22.80,2,    0.01,2,    1.43,2,-999.000,9,-999.000,9,  2197.3,2,  2342.8,2,     -999.0,9
06MT20091026,       A16C,      21,          1,     203340,          2,2,20091106,       0444,    -0.4994,   -22.9991,       4582,  3853.1,   2.3788,  34.8929,2,-999.0000,9,   -999.0,9,   250.4,2,   36.17,2,    0.09,2,   23.00,2,    0.01,2,    1.39,2,-999.000,9,-999.000,9,  2191.0,2,  2337.2,2,     -999.0,9
06MT20091026,       A16C,      21,          1,     203341,          3,2,20091106,       0456,    -0.4994,   -22.9991,       4582,  3238.1,   2.5147,  34.9063,2,-999.0000,9,   -999.0,9,   249.3,2,   32.34,6,    0.09,6,   22.70,6,    0.01,6,    1.37,6,-999.000,9,-999.000,9,  2185.8,2,  2330.8,2,     -999.0,9
06MT20091026,       A16C,      21,          1,     203342,          4,2,20091106,       0507,    -0.4994,   -22.9991,       4582,  2626.8,   2.8771,  34.9275,2,-999.0000,9,    244.6,2,   247.9,2,   28.05,2,    0.07,2,   22.75,2,    0.01,2,    1.43,2,-999.000,9,-999.000,9,  2182.7,2,  2329.0,2,     -999.0,9
06MT20091026,       A16C,      21,          1,     203343,          5,2,20091106,       0518,    -0.4994,   -22.9991,       4582,  2017.8,   3.5781,  34.9698,2,-999.0000,9,    249.9,2,   252.5,2,   17.13,2,    0.05,2,   21.46,2,    0.00,2,    1.28,2,-999.000,9,-999.000,9,  2166.5,2,  2312.2,2,     -999.0,9
06MT20091026,       A16C,      21,          1,     203344,          6,2,20091106,       0527,    -0.4994,   -22.9991,       4582,  1511.6,   4.3417,  34.9671,2,  34.9642,2,    227.1,2,   228.0,2,   14.50,2,    0.08,2,   22.51,2,    0.01,2,    1.42,2,-999.000,9,-999.000,9,  2176.4,2,  2314.6,2,     -999.0,9
06MT20091026,       A16C,      21,          1,     203345,          7,2,20091106,       0532,    -0.4994,   -22.9991,       4582,  1257.4,   4.5468,  34.8508,2,-999.0000,9,    188.9,2,   189.7,2,   20.36,2,    0.04,2,   29.14,2,    0.00,2,    1.80,2,-999.000,9,-999.000,9,  2197.7,2,  2312.5,2,     -999.0,9
06MT20091026,       A16C,      21,          1,     203346,          8,2,20091106,       0537,    -0.4994,   -22.9991,       4582,  1006.6,   4.5324,  34.6235,2,-999.0000,9,    158.3,2,   158.4,2,   25.94,2,    0.07,2,   35.19,2,    0.00,2,    2.20,2,-999.000,9,-999.000,9,  2216.4,2,  2306.6,2,     -999.0,9
06MT20091026,       A16C,      21,          1,     203347,          9,2,20091106,       0540,    -0.4994,   -22.9991,       4582,   801.9,   4.8618,  34.5107,2,-999.0000,9,    151.5,2,   151.6,2,   23.40,2,    0.03,2,   33.70,2,    0.00,2,    2.24,2,-999.000,9,-999.000,9,  2218.3,2,  2298.2,2,     -999.0,9
06MT20091026,       A16C,      21,          1,     203348,         10,2,20091106,       0544,    -0.4994,   -22.9991,       4582,   603.3,   6.0794,  34.5453,2,-999.0000,9,    139.7,2,   140.1,2,   20.60,2,    0.07,2,   36.01,2,    0.00,2,    2.25,2,-999.000,9,-999.000,9,  2212.5,2,  2295.8,2,     -999.0,9
06MT20091026,       A16C,      21,          1,     203349,         11,2,20091106,       0548,    -0.4994,   -22.9991,       4582,   400.7,   8.2525,  34.7434,2,-999.0000,9,    117.0,2,   116.8,2, -999.00,9, -999.00,9, -999.00,9, -999.00,9, -999.00,9,-999.000,9,-999.000,9,  2210.9,2,  2295.8,2,     -999.0,9
06MT20091026,       A16C,      21,          1,     203350,         12,2,20091106,       0549,    -0.4994,   -22.9991,       4582,   301.0,   9.9261,  34.9169,2,-999.0000,9,     96.1,2,    95.4,2,   11.86,2,    0.04,2,   32.06,2,    0.00,2,    1.88,2,-999.000,9,-999.000,9,  2214.2,2,  2301.7,2,     -999.0,9
06MT20091026,       A16C,      21,          1,     203351,         13,2,20091106,       0550,    -0.4994,   -22.9991,       4582,   249.9,  12.1964,  35.1807,2,-999.0000,9,     96.8,2,    91.9,2,    9.55,2,    0.09,2,   29.16,2,    0.01,2,    1.70,2,-999.000,9,-999.000,9,  2209.2,2,  2307.5,2,     -999.0,9
06MT20091026,       A16C,      21,          1,     203352,         14,2,20091106,       0551,    -0.4994,   -22.9991,       4582,   198.8,  13.5868,  35.3626,2,-999.0000,9,    112.7,2,   104.9,2,    7.53,2,    0.02,2,   26.22,2,    0.10,2,    1.39,2,-999.000,9,-999.000,9,  2194.0,2,  2317.0,2,     -999.0,9
06MT20091026,       A16C,      21,          1,      21015,         15,2,20091106,       0551,    -0.4994,   -22.9991,       4582,   189.4,  13.7549,  35.3829,2,-999.0000,9,    117.8,2,  -999.0,9, -999.00,9, -999.00,9, -999.00,9, -999.00,9, -999.00,9,-999.000,9,-999.000,9,  -999.0,9,  -999.0,9,     -999.0,9
06MT20091026,       A16C,      21,          1,      21016,         16,2,20091106,       0551,    -0.4994,   -22.9991,       4582,   187.1,  13.7541,  35.3831,2,-999.0000,9,    123.7,2,  -999.0,9, -999.00,9, -999.00,9, -999.00,9, -999.00,9, -999.00,9,-999.000,9,-999.000,9,  -999.0,9,  -999.0,9,     -999.0,9
06MT20091026,       A16C,      21,          1,     203353,         17,2,20091106,       0552,    -0.4994,   -22.9991,       4582,   149.1,  14.4617,  35.4748,2,-999.0000,9,    132.8,2,   139.0,2,    5.12,2,    0.15,2,   54.83,3,    0.04,2,    0.90,2,-999.000,9,-999.000,9,  2166.7,2,  2330.7,2,     -999.0,9
06MT20091026,       A16C,      21,          1,     203354,         18,2,20091106,       0553,    -0.4994,   -22.9991,       4582,   100.3,  17.3542,  35.8515,2,-999.0000,9,    176.4,2,   177.3,2,    2.29,2,    0.07,2,    7.79,2,    0.05,2,    0.59,2,-999.000,9,-999.000,9,  2128.4,2,  2353.9,2,     -999.0,9
06MT20091026,       A16C,      21,          1,     203355,         19,2,20091106,       0553,    -0.4994,   -22.9991,       4582,    79.9,  22.0043,  36.4904,2,-999.0000,9,    178.7,2,   181.2,2,    0.62,2,    0.13,2,    2.73,2,    0.20,2,    0.29,2,-999.000,9,-999.000,9,  2113.7,2,  2388.0,2,     -999.0,9
06MT20091026,       A16C,      21,          1,     203356,         20,2,20091106,       0554,    -0.4994,   -22.9991,       4582,    50.5,  25.3314,  36.0411,2,  36.0109,2,    202.1,2,   201.3,2,    0.25,6,    0.12,6,    0.59,6,    0.08,6,    0.10,6,-999.000,9,-999.000,9,  2061.6,2,  2358.8,2,     -999.0,9
06MT20091026,       A16C,      21,          1,     203357,         21,2,20091106,       0555,    -0.4994,   -22.9991,       4582,    39.9,  25.5973,  36.1026,2,-999.0000,9,    202.7,2,   203.0,2,    0.15,2,    0.08,2,    0.22,2,    0.04,2,    0.08,2,-999.000,9,-999.000,9,  2056.6,2,  2365.4,2,     -999.0,9
06MT20091026,       A16C,      21,          1,     203358,         22,2,20091106,       0555,    -0.4994,   -22.9991,       4582,    20.2,  25.9103,  36.1625,2,-999.0000,9,    203.7,2,   206.1,2,    0.00,2,    0.07,2,    0.00,2,    0.00,2,    0.08,2,-999.000,9,-999.000,9,  -999.0,9,  -999.0,9,     -999.0,9
06MT20091026,       A16C,      21,          1,     203359,         23,2,20091106,       0556,    -0.4994,   -22.9991,       4582,     9.5,  25.9554,  36.1658,2,-999.0000,9,    203.5,2,   203.3,2,    0.00,2,       0,2,    0.16,2,    0.00,2,    0.05,2,-999.000,9,-999.000,9,  2054.8,2,  2369.9,2,     -999.0,9
06MT20091026,       A16C,      21,          1,     203360,         24,2,20091106,       0556,    -0.4994,   -22.9991,       4582,     5.7,  25.9765,  36.1650,2,  36.1653,2,    204.4,2,   203.9,2,    0.01,2,    0.04,2,    0.33,2,    0.01,2,    0.06,2,-999.000,9,-999.000,9,  2054.3,2,  2368.1,2,     -999.0,9
06MT20091026,       A16C,      22,          1,     203361,          1,2,20091106,       1759,    -0.7320,   -22.9798,       4165,  3702.4,   2.4635,  34.9087,2,-999.0000,9,   -999.0,9,   254.3,2,   31.99,2,    0.08,2,   22.03,2,    0.01,2,    1.37,2,-999.000,9,-999.000,9,  -999.0,9,  -999.0,9,     -999.0,9
06MT20091026,       A16C,      22,          1,     203362,          2,2,20091106,       1809,    -0.7320,   -22.9798,       4165,  3241.1,   2.5759,  34.8935,2,  34.9094,2,   -999.0,9,   249.4,2,   32.08,2,    0.07,2,   22.69,2,    0.01,2,    1.42,2,-999.000,9,-999.000,9,  -999.0,9,  -999.0,9,     -999.0,9
06MT20091026,       A16C,      22,          1,     203363,          3,2,20091106,       1818,    -0.7320,   -22.9798,       4165,  2729.9,   2.7876,  34.9217,2,-999.0000,9,    244.0,2,   246.3,2,   29.36,6,    0.06,6,   22.94,6,    0.01,6,    1.42,6,-999.000,9,-999.000,9,  -999.0,9,  -999.0,9,     -999.0,9
06MT20091026,       A16C,      22,          1,     203364,          4,2,20091106,       1826,    -0.7320,   -22.9798,       4165,  2323.3,   3.0643,  34.9403,2,-999.0000,9,    246.2,2,   247.9,2,   24.73,2,    0.04,2,   22.34,2,    0.01,2,    1.30,2,   0.053,2,-999.000,9,  -999.0,9,  -999.0,9,     -999.0,9
06MT20091026,       A16C,      22,          1,     203365,          5,2,20091106,       1833,    -0.7320,   -22.9798,       4165,  1916.5,   3.7339,  34.9728,2,-999.0000,9,    245.9,2,   248.1,2,   16.27,2,    0.05,2,   21.69,2,    0.01,2,    1.34,2,   0.137,2,   2.731,4,  -999.0,9,  -999.0,9,       0.00,3
06MT20091026,       A16C,      22,          1,     203366,          6,2,20091106,       1841,    -0.7320,   -22.9798,       4165,  1511.1,   4.3597,  34.9698,2,  34.9652,2,    227.6,2,   227.5,2,   15.51,2,    0.05,2,   23.88,2,    0.01,2,    1.42,2,-999.000,9,-999.000,9,  -999.0,9,  -999.0,9,     -999.0,9
06MT20091026,       A16C,      22,          1,     203367,          7,2,20091106,       1846,    -0.7320,   -22.9798,       4165,  1259.1,   4.5552,  34.8675,2,-999.0000,9,    192.5,2,   192.7,2,   21.79,2,    0.04,2,   28.94,2,    0.00,2,    1.81,2,   0.138,2,   1.726,4,  -999.0,9,  -999.0,9,       0.00,3
06MT20091026,       A16C,      22,          1,     203368,          8,2,20091106,       1850,    -0.7320,   -22.9798,       4165,  1005.3,   4.5153,  34.6309,2,-999.0000,9,    159.8,2,   160.3,2,   26.37,2,    0.06,2,   35.24,2,    0.00,2,    2.22,2,   0.076,2,-999.000,9,  -999.0,9,  -999.0,9,     -999.0,9
06MT20091026,       A16C,      22,          1,     203369,          9,2,20091106,       1853,    -0.7320,   -22.9798,       4165,   804.7,   4.8881,  34.5086,2,-999.0000,9,    151.4,2,   151.6,2,   26.02,2,    0.05,2,   37.13,2,    0.00,2,    2.28,2,   0.153,2,    0.13,4,  -999.0,9,  -999.0,9,       0.00,3
06MT20091026,       A16C,      22,          1,     203370,         10,2,20091106,       1857,    -0.7320,   -22.9798,       4165,   602.4,   6.0688,  34.5418,2,-999.0000,9,    140.1,2,   140.1,2,   19.32,2,    0.06,2,   36.17,2,    0.00,2,    2.20,2,   0.361,2,   0.323,4,  -999.0,9,  -999.0,9,       0.00,3
06MT20091026,       A16C,      22,          1,     203371,         11,2,20091106,       1901,    -0.7320,   -22.9798,       4165,   401.5,   8.1390,  34.7211,2,-999.0000,9,    116.3,2,   115.4,2,   13.79,2,    0.06,2,   34.08,2,    0.00,2,    1.95,2,   0.558,2,   0.192,4,  -999.0,9,  -999.0,9,       0.00,3
06MT20091026,       A16C,      22,          1,     203372,         12,2,20091106,       1903,    -0.7320,   -22.9798,       4165,   301.4,   9.8578,  34.9022,2,-999.0000,9,     90.6,2,    91.2,2,   11.75,2,    0.05,2,   32.84,2,    0.00,2,    1.94,2,-999.000,9,-999.000,9,  -999.0,9,  -999.0,9,     -999.0,9
06MT20091026,       A16C,      22,          1,     203373,         13,2,20091106,       1904,    -0.7320,   -22.9798,       4165,   250.1,  11.7282,  35.1278,2,-999.0000,9,     91.4,2,    87.0,2,    9.64,2,    0.02,2,   29.89,2,    0.00,2,    1.78,2,   0.833,2,    0.74,4,  -999.0,9,  -999.0,9,       0.00,3
06MT20091026,       A16C,      22,          1,     203374,         14,2,20091106,       1904,    -0.7320,   -22.9798,       4165,   200.3,  13.6626,  35.3709,2,  35.3200,2,    109.4,2,   107.2,2,    6.45,2,    0.01,2,   24.06,2,    0.01,2,    1.33,2,   1.028,2,   1.014,4,  -999.0,9,  -999.0,9,       0.00,3
06MT20091026,       A16C,      22,          1,      22015,         15,2,20091106,       1905,    -0.7320,   -22.9798,       4165,   166.5,  14.1334,  35.4323,2,-999.0000,9,    134.1,2,  -999.0,9, -999.00,9, -999.00,9, -999.00,9, -999.00,9, -999.00,9,-999.000,9,-999.000,9,  -999.0,9,  -999.0,9,     -999.0,9
06MT20091026,       A16C,      22,          1,      22016,         16,2,20091106,       1905,    -0.7320,   -22.9798,       4165,   164.8,  14.1644,  35.4365,2,-999.0000,9,    134.6,2,  -999.0,9, -999.00,9, -999.00,9, -999.00,9, -999.00,9, -999.00,9,-999.000,9,-999.000,9,  -999.0,9,  -999.0,9,     -999.0,9
06MT20091026,       A16C,      22,          1,     203375,         17,2,20091106,       1905,    -0.7320,   -22.9798,       4165,   149.9,  14.3733,  35.4644,2,-999.0000,9,    138.0,2,   137.1,2,    4.75,2,    0.19,2,   36.98,3,    0.04,2,    0.96,2,   1.169,2,   1.547,4,  -999.0,9,  -999.0,9,       0.00,3
06MT20091026,       A16C,      22,          1,     203376,         18,2,20091106,       1906,    -0.7320,   -22.9798,       4165,   100.1,  20.4553,  36.2615,2,-999.0000,9,    178.8,2,   178.3,2,    1.54,2,       0,2,    6.00,2,    0.07,2,    0.48,2,   1.254,2,   1.771,4,  -999.0,9,  -999.0,9,       0.00,3
06MT20091026,       A16C,      22,          1,     203377,         19,2,20091106,       1907,    -0.7320,   -22.9798,       4165,    81.2,  23.8909,  36.1189,2,-999.0000,9,    189.7,2,   189.4,2,    0.24,2,    0.08,2,    1.32,2,    0.17,2,    0.17,2,   1.024,2,   1.429,4,  -999.0,9,  -999.0,9,       0.00,3
06MT20091026,       A16C,      22,          1,     203378,         20,2,20091106,       1909,    -0.7320,   -22.9798,       4165,    54.0,  24.8171,  36.0362,2,-999.0000,9,    198.7,2,   197.8,2,    0.35,2,    0.09,2,    1.01,2,    0.10,2,    0.13,2,   1.062,2,   2.031,4,  -999.0,9,  -999.0,9,       0.00,3
06MT20091026,       A16C,      22,          1,     203379,         21,2,20091106,       1909,    -0.7320,   -22.9798,       4165,    40.2,  25.5389,  36.1470,2,-999.0000,9,    200.7,2,   202.0,2,    0.24,6,    0.07,6,    0.33,6,    0.05,6,    0.08,6,   1.049,2,   2.152,4,  -999.0,9,  -999.0,9,       0.00,3
06MT20091026,       A16C,      22,          1,     203380,         22,2,20091106,       1910,    -0.7320,   -22.9798,       4165,    19.9,  26.1268,  36.1846,2,-999.0000,9,    203.9,2,   207.0,2,    0.00,2,    0.05,2,    0.04,2,    0.01,2,    0.05,2,-999.000,9,-999.000,9,  -999.0,9,  -999.0,9,     -999.0,9
06MT20091026,       A16C,      22,          1,     203381,         23,2,20091106,       1910,    -0.7320,   -22.9798,       4165,    10.2,  26.4378,  36.1866,2,-999.0000,9,    204.0,2,   204.8,2,    0.04,2,    0.08,2,    0.00,2,    0.00,2,    0.05,2,   1.025,2,-999.000,9,  -999.0,9,  -999.0,9,     -999.0,9
06MT20091026,       A16C,      22,          1,     203382,         24,2,20091106,       1911,    -0.7320,   -22.9798,       4165,     4.9,  26.4791,  36.1873,2,  36.1849,2,    203.7,2,   205.1,2,    0.10,2,    0.08,2,    0.17,2,    0.01,2,    0.06,2,-999.000,9,-999.000,9,  -999.0,9,  -999.0,9,     -999.0,9