BOTTLE,20211119CCHSIORKP
EXPOCODE,SECT_ID,STNNBR,CASTNO,SAMPNO,BTLNBR,BTLNBR_FLAG_W,DATE,TIME,LATITUDE,LONGITUDE,DEPTH,CTDPRS,CTDTMP,CTDSAL,CTDSAL_FLAG_W,SALNTY,SALNTY_FLAG_W,CTDOXY,CTDOXY_FLAG_W,OXYGEN,OXYGEN_FLAG_W,SILCAT,SILCAT_FLAG_W,NH4,NH4_FLAG_W,NITRAT,NITRAT_FLAG_W,NITRIT,NITRIT_FLAG_W,PHSPHT,PHSPHT_FLAG_W,CFC-12,CFC-12_FLAG_W,SF6,SF6_FLAG_W,TCARBN,TCARBN_FLAG_W,ALKALI,ALKALI_FLAG_W,SF5CF3,SF5CF3_FLAG_W
,,,,,,,,,,,METERS,DBAR,ITS-90,PSS-78,,PSS-78,,UMOL/KG,,UMOL/KG,,UMOL/KG,,UMOL/KG,,UMOL/KG,,UMOL/KG,,UMOL/KG,,PMOL/KG,,FMOL/KG,,UMOL/KG,,UMOL/KG,,FMOL/KG,
06MT20091026,       A16C,      56,          1,     204062,          1,2,20091117,       0433,     6.7497,   -22.9999,       4204,   604.2,   6.8383,  34.7040,2,  34.7175,2,     89.8,2,  -999.0,9, -999.00,9, -999.00,9, -999.00,9, -999.00,9, -999.00,9,-999.000,9,-999.000,9,  -999.0,9,  -999.0,9,     -999.0,9
06MT20091026,       A16C,      56,          1,     204063,          2,2,20091117,       0438,     6.7497,   -22.9999,       4204,   403.1,   9.6045,  35.0075,2,-999.0000,9,     50.1,2,  -999.0,9, -999.00,9, -999.00,9, -999.00,9, -999.00,9, -999.00,9,-999.000,9,-999.000,9,  -999.0,9,  -999.0,9,     -999.0,9
06MT20091026,       A16C,      56,          1,     204064,          3,2,20091117,       0438,     6.7497,   -22.9999,       4204,   403.2,   9.6046,  35.0075,2,-999.0000,9,     50.1,2,  -999.0,9, -999.00,9, -999.00,9, -999.00,9, -999.00,9, -999.00,9,-999.000,9,-999.000,9,  -999.0,9,  -999.0,9,     -999.0,9
06MT20091026,       A16C,      56,          1,     204065,          4,2,20091117,       0438,     6.7497,   -22.9999,       4204,   403.5,   9.6048,  35.0075,2,-999.0000,9,     50.2,2,  -999.0,9, -999.00,9, -999.00,9, -999.00,9, -999.00,9, -999.00,9,-999.000,9,-999.000,9,  -999.0,9,  -999.0,9,     -999.0,9
06MT20091026,       A16C,      56,          1,     204066,          5,2,20091117,       0438,     6.7497,   -22.9999,       4204,   403.5,   9.6046,  35.0075,2,-999.0000,9,     50.0,2,  -999.0,9, -999.00,9, -999.00,9, -999.00,9, -999.00,9, -999.00,9,-999.000,9,-999.000,9,  -999.0,9,  -999.0,9,     -999.0,9
06MT20091026,       A16C,      56,          1,     204067,          6,2,20091117,       0438,     6.7497,   -22.9999,       4204,   403.0,   9.6042,  35.0077,2,-999.0000,9,     50.0,2,  -999.0,9, -999.00,9, -999.00,9, -999.00,9, -999.00,9, -999.00,9,-999.000,9,-999.000,9,  -999.0,9,  -999.0,9,     -999.0,9
06MT20091026,       A16C,      56,          1,     204068,          7,2,20091117,       0442,     6.7497,   -22.9999,       4204,   199.3,  12.9706,  35.2943,2,  35.2824,2,     96.4,2,  -999.0,9, -999.00,9, -999.00,9, -999.00,9, -999.00,9, -999.00,9,-999.000,9,-999.000,9,  -999.0,9,  -999.0,9,     -999.0,9
06MT20091026,       A16C,      56,          1,     204069,          8,2,20091117,       0443,     6.7497,   -22.9999,       4204,   148.6,  14.0058,  35.4228,2,-999.0000,9,    103.9,2,  -999.0,9, -999.00,9, -999.00,9, -999.00,9, -999.00,9, -999.00,9,-999.000,9,-999.000,9,  -999.0,9,  -999.0,9,     -999.0,9
06MT20091026,       A16C,      56,          1,     204070,          9,2,20091117,       0444,     6.7497,   -22.9999,       4204,    99.2,  15.3509,  35.5663,2,-999.0000,9,     90.9,2,  -999.0,9, -999.00,9, -999.00,9, -999.00,9, -999.00,9, -999.00,9,-999.000,9,-999.000,9,  -999.0,9,  -999.0,9,     -999.0,9
06MT20091026,       A16C,      56,          1,     204071,         10,2,20091117,       0445,     6.7497,   -22.9999,       4204,    64.2,  21.4093,  35.9238,2,-999.0000,9,    145.8,2,  -999.0,9, -999.00,9, -999.00,9, -999.00,9, -999.00,9, -999.00,9,-999.000,9,-999.000,9,  -999.0,9,  -999.0,9,     -999.0,9
06MT20091026,       A16C,      56,          1,     204072,         11,2,20091117,       0445,     6.7497,   -22.9999,       4204,    64.0,  21.7284,  35.9536,2,-999.0000,9,    158.9,2,  -999.0,9, -999.00,9, -999.00,9, -999.00,9, -999.00,9, -999.00,9,-999.000,9,-999.000,9,  -999.0,9,  -999.0,9,     -999.0,9
06MT20091026,       A16C,      56,          1,     204073,         12,2,20091117,       0445,     6.7497,   -22.9999,       4204,    64.2,  22.4491,  35.9596,2,-999.0000,9,    168.4,2,  -999.0,9, -999.00,9, -999.00,9, -999.00,9, -999.00,9, -999.00,9,-999.000,9,-999.000,9,  -999.0,9,  -999.0,9,     -999.0,9
06MT20091026,       A16C,      56,          1,     204074,         13,2,20091117,       0445,     6.7497,   -22.9999,       4204,    64.4,  22.5533,  35.9751,2,-999.0000,9,    154.4,2,  -999.0,9, -999.00,9, -999.00,9, -999.00,9, -999.00,9, -999.00,9,-999.000,9,-999.000,9,  -999.0,9,  -999.0,9,     -999.0,9
06MT20091026,       A16C,      56,          1,     204075,         14,2,20091117,       0445,     6.7497,   -22.9999,       4204,    64.4,  22.5774,  35.9698,2,-999.0000,9,    162.5,2,  -999.0,9, -999.00,9, -999.00,9, -999.00,9, -999.00,9, -999.00,9,-999.000,9,-999.000,9,  -999.0,9,  -999.0,9,     -999.0,9
06MT20091026,       A16C,      56,          1,      56015,         15,2,20091117,       0445,     6.7497,   -22.9999,       4204,    64.5,  22.5723,  35.9694,2,-999.0000,9,    178.6,2,  -999.0,9, -999.00,9, -999.00,9, -999.00,9, -999.00,9, -999.00,9,-999.000,9,-999.000,9,  -999.0,9,  -999.0,9,     -999.0,9
06MT20091026,       A16C,      56,          1,      56016,         16,2,20091117,       0445,     6.7497,   -22.9999,       4204,    64.7,  22.5003,  35.9660,2,-999.0000,9,    177.3,2,  -999.0,9, -999.00,9, -999.00,9, -999.00,9, -999.00,9, -999.00,9,-999.000,9,-999.000,9,  -999.0,9,  -999.0,9,     -999.0,9
06MT20091026,       A16C,      56,          1,     204076,         17,2,20091117,       0445,     6.7497,   -22.9999,       4204,    64.0,  22.4413,  35.9573,2,-999.0000,9,    175.4,2,  -999.0,9, -999.00,9, -999.00,9, -999.00,9, -999.00,9, -999.00,9,-999.000,9,-999.000,9,  -999.0,9,  -999.0,9,     -999.0,9
06MT20091026,       A16C,      56,          1,     204077,         18,2,20091117,       0446,     6.7497,   -22.9999,       4204,    49.8,  25.4305,  36.0966,2,-999.0000,9,    207.0,2,  -999.0,9, -999.00,9, -999.00,9, -999.00,9, -999.00,9, -999.00,9,-999.000,9,-999.000,9,  -999.0,9,  -999.0,9,     -999.0,9
06MT20091026,       A16C,      56,          1,     204078,         19,2,20091117,       0448,     6.7497,   -22.9999,       4204,    19.8,  28.6202,  34.5801,2,-999.0000,9,    199.3,2,  -999.0,9, -999.00,9, -999.00,9, -999.00,9, -999.00,9, -999.00,9,-999.000,9,-999.000,9,  -999.0,9,  -999.0,9,     -999.0,9
06MT20091026,       A16C,      56,          1,     204079,         20,2,20091117,       0448,     6.7497,   -22.9999,       4204,    20.0,  28.6221,  34.5814,2,-999.0000,9,    198.5,2,  -999.0,9, -999.00,9, -999.00,9, -999.00,9, -999.00,9, -999.00,9,-999.000,9,-999.000,9,  -999.0,9,  -999.0,9,     -999.0,9
06MT20091026,       A16C,      56,          1,     204080,         21,2,20091117,       0448,     6.7497,   -22.9999,       4204,    20.1,  28.6226,  34.5820,2,-999.0000,9,    198.8,2,  -999.0,9, -999.00,9, -999.00,9, -999.00,9, -999.00,9, -999.00,9,-999.000,9,-999.000,9,  -999.0,9,  -999.0,9,     -999.0,9
06MT20091026,       A16C,      56,          1,     204081,         22,2,20091117,       0448,     6.7497,   -22.9999,       4204,    19.9,  28.6228,  34.5825,2,-999.0000,9,    199.5,2,  -999.0,9, -999.00,9, -999.00,9, -999.00,9, -999.00,9, -999.00,9,-999.000,9,-999.000,9,  -999.0,9,  -999.0,9,     -999.0,9
06MT20091026,       A16C,      56,          1,     204082,         23,2,20091117,       0448,     6.7497,   -22.9999,       4204,    19.9,  28.6235,  34.5831,2,-999.0000,9,    199.1,2,  -999.0,9, -999.00,9, -999.00,9, -999.00,9, -999.00,9, -999.00,9,-999.000,9,-999.000,9,  -999.0,9,  -999.0,9,     -999.0,9
06MT20091026,       A16C,      56,          1,     204083,         24,2,20091117,       0448,     6.7497,   -22.9999,       4204,     9.7,  28.6167,  34.5807,2,  34.5819,2,    199.6,2,  -999.0,9, -999.00,9, -999.00,9, -999.00,9, -999.00,9, -999.00,9,-999.000,9,-999.000,9,  -999.0,9,  -999.0,9,     -999.0,9
06MT20091026,       A16C,      57,          1,     204084,          1,2,20091117,       0655,     6.9997,   -23.0001,       4074,  1311.3,   4.5730,  34.8832,2,  34.8799,2,    182.0,2,   182.3,2,   23.79,6,    0.08,6,   28.79,6,    0.01,6,    1.89,6,-999.000,9,-999.000,9,  2202.1,2,  2319.9,2,     -999.0,9
06MT20091026,       A16C,      57,          1,     204085,          2,2,20091117,       0658,     6.9997,   -23.0001,       4074,  1208.1,   4.7537,  34.8329,2,-999.0000,9,    167.0,2,   166.8,2, -999.00,9, -999.00,9, -999.00,9, -999.00,9, -999.00,9,-999.000,9,-999.000,9,  -999.0,9,  -999.0,9,     -999.0,9
06MT20091026,       A16C,      57,          1,     204086,          3,2,20091117,       0700,     6.9997,   -23.0001,       4074,  1106.7,   4.8794,  34.7844,2,-999.0000,9,    153.9,2,   153.2,2,   25.65,2,    0.06,2,   33.26,2,    0.01,2,    1.94,2,-999.000,9,-999.000,9,  2216.2,2,  2317.5,2,     -999.0,9
06MT20091026,       A16C,      57,          1,     204087,          4,2,20091117,       0701,     6.9997,   -23.0001,       4074,  1005.1,   4.9938,  34.7403,2,-999.0000,9,    142.8,2,   142.5,2, -999.00,9, -999.00,9, -999.00,9, -999.00,9, -999.00,9,   0.023,2,   0.007,2,  -999.0,9,  -999.0,9,       0.00,3
06MT20091026,       A16C,      57,          1,     204088,          5,2,20091117,       0703,     6.9997,   -23.0001,       4074,   905.6,   5.1393,  34.6968,2,  34.7086,2,    134.0,2,   133.0,2,   26.63,2,    0.04,2,   36.20,2,    0.01,2,    2.27,2,-999.000,9,-999.000,9,  2226.8,2,  2317.3,2,     -999.0,9
06MT20091026,       A16C,      57,          1,     204089,          6,2,20091117,       0705,     6.9997,   -23.0001,       4074,   803.8,   5.6213,  34.6546,2,-999.0000,9,    111.5,2,   110.2,2, -999.00,9, -999.00,9, -999.00,9, -999.00,9, -999.00,9,   0.040,2,   0.007,2,  -999.0,9,  -999.0,9,       0.00,3
06MT20091026,       A16C,      57,          1,     204090,          7,2,20091117,       0707,     6.9997,   -23.0001,       4074,   703.5,   6.3422,  34.6847,2,-999.0000,9,     92.5,2,    91.6,2,   23.88,2,    0.08,2,   39.82,2,    0.01,2,    2.46,2,-999.000,9,-999.000,9,  2241.8,2,  2306.2,2,     -999.0,9
06MT20091026,       A16C,      57,          1,     204091,          8,2,20091117,       0710,     6.9997,   -23.0001,       4074,   602.6,   6.8827,  34.7157,2,-999.0000,9,     86.2,2,    85.2,2, -999.00,9, -999.00,9, -999.00,9, -999.00,9, -999.00,9,   0.113,2,   0.003,3,  -999.0,9,  -999.0,9,       0.00,3
06MT20091026,       A16C,      57,          1,     204092,          9,2,20091117,       0712,     6.9997,   -23.0001,       4074,   501.7,   7.9412,  34.8087,2,-999.0000,9,     75.2,2,    74.9,2,   18.77,2,    0.07,2,   38.34,2,    0.01,2,    2.37,2,   0.214,2,   0.003,3,  2239.7,2,  2303.8,2,       0.00,3
06MT20091026,       A16C,      57,          1,     204093,         10,2,20091117,       0714,     6.9997,   -23.0001,       4074,   401.1,   9.7671,  35.0231,2,-999.0000,9,     52.6,2,    49.2,2,   14.66,2,    0.05,2,   36.91,2,    0.01,2,    2.22,2,   0.296,2,   0.228,2,  2247.1,2,  2307.6,2,       0.10,3
06MT20091026,       A16C,      57,          1,     204094,         11,2,20091117,       0715,     6.9997,   -23.0001,       4074,   351.7,  10.8666,  35.1089,2,-999.0000,9,     55.8,2,    59.0,2,   12.51,2,    0.08,2,   33.49,2,    0.01,2,    2.00,2,   0.590,2,   0.265,2,  2235.6,2,  2311.5,2,       1.46,3
06MT20091026,       A16C,      57,          1,     204095,         12,2,20091117,       0717,     6.9997,   -23.0001,       4074,   249.2,  12.2825,  35.2105,2,  35.2099,2,    103.4,2,   104.3,2,    9.15,2,    0.06,2,   25.23,2,    0.01,2,    1.59,2,   1.029,3,   0.388,2,  2196.3,2,  2318.0,2,       0.00,3
06MT20091026,       A16C,      57,          1,     204096,         13,2,20091117,       0718,     6.9997,   -23.0001,       4074,   199.4,  13.1390,  35.3130,2,-999.0000,9,    102.5,2,   102.9,2,    8.11,2,     0.1,2,   23.80,2,    0.01,2,    1.53,2,   1.048,3,   0.414,2,  2193.2,2,  2321.8,2,       0.00,3
06MT20091026,       A16C,      57,          1,     204097,         14,2,20091117,       0719,     6.9997,   -23.0001,       4074,   148.9,  14.1840,  35.4464,2,-999.0000,9,     99.6,2,   100.8,2,    7.09,2,    0.12,2,   22.53,2,    0.01,2,    1.44,2,   0.991,2,   0.509,2,  2194.3,2,  2327.5,2,       0.00,3
06MT20091026,       A16C,      57,          1,      57015,         15,2,20091117,       0719,     6.9997,   -23.0001,       4074,   132.2,  14.3884,  35.4682,2,-999.0000,9,     98.7,2,  -999.0,9, -999.00,9, -999.00,9, -999.00,9, -999.00,9, -999.00,9,-999.000,9,-999.000,9,  -999.0,9,  -999.0,9,     -999.0,9
06MT20091026,       A16C,      57,          1,      57016,         16,2,20091117,       0719,     6.9997,   -23.0001,       4074,   130.5,  14.3913,  35.4680,2,-999.0000,9,     98.3,2,  -999.0,9, -999.00,9, -999.00,9, -999.00,9, -999.00,9, -999.00,9,-999.000,9,-999.000,9,  -999.0,9,  -999.0,9,     -999.0,9
06MT20091026,       A16C,      57,          1,     204098,         17,2,20091117,       0720,     6.9997,   -23.0001,       4074,    98.5,  15.9835,  35.6252,2,-999.0000,9,     91.7,2,    95.4,2,    6.51,2,    0.15,2,   21.74,2,    0.02,2,    1.37,2,   1.159,2,   0.658,2,  2194.5,2,  2331.4,2,     -999.0,9
06MT20091026,       A16C,      57,          1,     204099,         18,2,20091117,       0720,     6.9997,   -23.0001,       4074,    79.4,  17.0091,  35.6888,2,-999.0000,9,    105.0,2,   101.1,2,    5.44,6,    0.05,6,   18.71,6,    0.05,6,    1.19,6,-999.000,9,-999.000,9,  2183.7,2,  2338.4,2,       0.00,3
06MT20091026,       A16C,      57,          1,     204100,         19,2,20091117,       0720,     6.9997,   -23.0001,       4074,    59.9,  20.5007,  35.8201,2,  35.8184,2,    141.4,2,   142.4,2,    3.45,2,       0,2,    9.42,2,    0.10,2,    0.59,2,   1.089,2,    0.75,2,  2142.3,2,  2353.4,2,       0.00,3
06MT20091026,       A16C,      57,          1,     204101,         20,2,20091117,       0721,     6.9997,   -23.0001,       4074,    39.5,  27.7706,  36.1595,2,-999.0000,9,    221.8,2,   215.6,2,    0.50,2,    0.16,2,    0.00,2,    0.00,2,    0.00,2,   1.078,2,   1.049,2,  2015.1,2,  2365.1,2,       0.00,3
06MT20091026,       A16C,      57,          1,     204102,         21,2,20091117,       0722,     6.9997,   -23.0001,       4074,    29.0,  28.7127,  34.9367,2,-999.0000,9,    207.6,2,   203.2,2, -999.00,9, -999.00,9, -999.00,9, -999.00,9, -999.00,9,-999.000,9,-999.000,9,  -999.0,9,  -999.0,9,     -999.0,9
06MT20091026,       A16C,      57,          1,     204103,         22,2,20091117,       0722,     6.9997,   -23.0001,       4074,    19.1,  28.6814,  34.5383,2,-999.0000,9,    201.1,2,   200.1,2,    0.09,2,    0.14,2,    0.03,2,    0.00,2,    0.01,2,   0.940,2,   0.913,2,  1906.7,2,  2265.5,2,       0.00,3
06MT20091026,       A16C,      57,          1,     204104,         23,2,20091117,       0722,     6.9997,   -23.0001,       4074,     9.3,  28.6505,  34.4674,2,-999.0000,9,    199.7,2,   199.8,2,    0.00,2,    0.17,2,    0.11,2,    0.00,2,    0.01,2,-999.000,9,-999.000,9,  1904.5,2,  2260.8,2,     -999.0,9
06MT20091026,       A16C,      57,          1,     204105,         24,2,20091117,       0723,     6.9997,   -23.0001,       4074,     4.2,  28.6146,  34.4398,2,-999.0000,9,    199.4,2,   199.1,2,    1.07,2,    0.01,2,    0.27,2,    0.01,2,    0.03,2,   0.946,2,   0.923,2,  1904.4,2,  2259.0,2,       0.00,3