BOTTLE,20211119CCHSIORKP
EXPOCODE,SECT_ID,STNNBR,CASTNO,SAMPNO,BTLNBR,BTLNBR_FLAG_W,DATE,TIME,LATITUDE,LONGITUDE,DEPTH,CTDPRS,CTDTMP,CTDSAL,CTDSAL_FLAG_W,SALNTY,SALNTY_FLAG_W,CTDOXY,CTDOXY_FLAG_W,OXYGEN,OXYGEN_FLAG_W,SILCAT,SILCAT_FLAG_W,NH4,NH4_FLAG_W,NITRAT,NITRAT_FLAG_W,NITRIT,NITRIT_FLAG_W,PHSPHT,PHSPHT_FLAG_W,CFC-12,CFC-12_FLAG_W,SF6,SF6_FLAG_W,TCARBN,TCARBN_FLAG_W,ALKALI,ALKALI_FLAG_W,SF5CF3,SF5CF3_FLAG_W
,,,,,,,,,,,METERS,DBAR,ITS-90,PSS-78,,PSS-78,,UMOL/KG,,UMOL/KG,,UMOL/KG,,UMOL/KG,,UMOL/KG,,UMOL/KG,,UMOL/KG,,PMOL/KG,,FMOL/KG,,UMOL/KG,,UMOL/KG,,FMOL/KG,
06MT20091026,       A16C,      63,          1,     204194,          1,2,20091119,       0602,     9.0001,   -23.0003,       5094,   605.0,   7.5138,  34.8225,2,  34.8212,2,     67.7,2,  -999.0,9, -999.00,9, -999.00,9, -999.00,9, -999.00,9, -999.00,9,-999.000,9,-999.000,9,  -999.0,9,  -999.0,9,     -999.0,9
06MT20091026,       A16C,      63,          1,     204195,          2,2,20091119,       0606,     9.0001,   -23.0003,       5094,   401.3,   9.8374,  35.0095,2,-999.0000,9,     59.1,2,  -999.0,9, -999.00,9, -999.00,9, -999.00,9, -999.00,9, -999.00,9,-999.000,9,-999.000,9,  -999.0,9,  -999.0,9,     -999.0,9
06MT20091026,       A16C,      63,          1,     204196,          3,2,20091119,       0606,     9.0001,   -23.0003,       5094,   401.5,   9.8671,  35.0095,2,-999.0000,9,     60.1,2,  -999.0,9, -999.00,9, -999.00,9, -999.00,9, -999.00,9, -999.00,9,-999.000,9,-999.000,9,  -999.0,9,  -999.0,9,     -999.0,9
06MT20091026,       A16C,      63,          1,     204197,          4,2,20091119,       0606,     9.0001,   -23.0003,       5094,   401.3,   9.8602,  35.0094,2,-999.0000,9,     59.9,2,  -999.0,9, -999.00,9, -999.00,9, -999.00,9, -999.00,9, -999.00,9,-999.000,9,-999.000,9,  -999.0,9,  -999.0,9,     -999.0,9
06MT20091026,       A16C,      63,          1,     204198,          5,2,20091119,       0606,     9.0001,   -23.0003,       5094,   401.4,   9.8516,  35.0073,2,-999.0000,9,     60.3,2,  -999.0,9, -999.00,9, -999.00,9, -999.00,9, -999.00,9, -999.00,9,-999.000,9,-999.000,9,  -999.0,9,  -999.0,9,     -999.0,9
06MT20091026,       A16C,      63,          1,     204199,          6,2,20091119,       0606,     9.0001,   -23.0003,       5094,   401.0,   9.8473,  35.0086,2,-999.0000,9,     60.8,2,  -999.0,9, -999.00,9, -999.00,9, -999.00,9, -999.00,9, -999.00,9,-999.000,9,-999.000,9,  -999.0,9,  -999.0,9,     -999.0,9
06MT20091026,       A16C,      63,          1,     204200,          7,2,20091119,       0610,     9.0001,   -23.0003,       5094,   198.6,  12.0139,  35.1774,2,-999.0000,9,    106.1,2,  -999.0,9, -999.00,9, -999.00,9, -999.00,9, -999.00,9, -999.00,9,-999.000,9,-999.000,9,  -999.0,9,  -999.0,9,     -999.0,9
06MT20091026,       A16C,      63,          1,     204201,          8,2,20091119,       0611,     9.0001,   -23.0003,       5094,   149.0,  12.6807,  35.2655,2,  35.2532,2,    121.4,2,  -999.0,9, -999.00,9, -999.00,9, -999.00,9, -999.00,9, -999.00,9,-999.000,9,-999.000,9,  -999.0,9,  -999.0,9,     -999.0,9
06MT20091026,       A16C,      63,          1,     204202,          9,2,20091119,       0612,     9.0001,   -23.0003,       5094,    99.1,  14.8563,  35.5250,2,-999.0000,9,    115.5,2,  -999.0,9, -999.00,9, -999.00,9, -999.00,9, -999.00,9, -999.00,9,-999.000,9,-999.000,9,  -999.0,9,  -999.0,9,     -999.0,9
06MT20091026,       A16C,      63,          1,     204203,         10,2,20091119,       0613,     9.0001,   -23.0003,       5094,    61.0,  20.7645,  35.9451,2,-999.0000,9,    157.5,2,  -999.0,9, -999.00,9, -999.00,9, -999.00,9, -999.00,9, -999.00,9,-999.000,9,-999.000,9,  -999.0,9,  -999.0,9,     -999.0,9
06MT20091026,       A16C,      63,          1,     204204,         11,2,20091119,       0613,     9.0001,   -23.0003,       5094,    61.6,  20.8873,  35.9427,2,-999.0000,9,    159.9,2,  -999.0,9, -999.00,9, -999.00,9, -999.00,9, -999.00,9, -999.00,9,-999.000,9,-999.000,9,  -999.0,9,  -999.0,9,     -999.0,9
06MT20091026,       A16C,      63,          1,     204205,         12,2,20091119,       0613,     9.0001,   -23.0003,       5094,    60.6,  20.9988,  35.9650,2,-999.0000,9,    159.2,2,  -999.0,9, -999.00,9, -999.00,9, -999.00,9, -999.00,9, -999.00,9,-999.000,9,-999.000,9,  -999.0,9,  -999.0,9,     -999.0,9
06MT20091026,       A16C,      63,          1,     204206,         13,2,20091119,       0613,     9.0001,   -23.0003,       5094,    60.0,  21.0668,  35.9648,2,-999.0000,9,    160.6,2,  -999.0,9, -999.00,9, -999.00,9, -999.00,9, -999.00,9, -999.00,9,-999.000,9,-999.000,9,  -999.0,9,  -999.0,9,     -999.0,9
06MT20091026,       A16C,      63,          1,     204207,         14,2,20091119,       0613,     9.0001,   -23.0003,       5094,    60.7,  20.8461,  35.9316,2,-999.0000,9,    161.4,2,  -999.0,9, -999.00,9, -999.00,9, -999.00,9, -999.00,9, -999.00,9,-999.000,9,-999.000,9,  -999.0,9,  -999.0,9,     -999.0,9
06MT20091026,       A16C,      63,          1,      63015,         15,2,20091119,       0613,     9.0001,   -23.0003,       5094,    61.1,  20.8373,  35.9430,2,-999.0000,9,    164.3,2,  -999.0,9, -999.00,9, -999.00,9, -999.00,9, -999.00,9, -999.00,9,-999.000,9,-999.000,9,  -999.0,9,  -999.0,9,     -999.0,9
06MT20091026,       A16C,      63,          1,      63016,         16,2,20091119,       0613,     9.0001,   -23.0003,       5094,    61.2,  20.8807,  35.9451,2,-999.0000,9,    162.4,2,  -999.0,9, -999.00,9, -999.00,9, -999.00,9, -999.00,9, -999.00,9,-999.000,9,-999.000,9,  -999.0,9,  -999.0,9,     -999.0,9
06MT20091026,       A16C,      63,          1,     204208,         17,2,20091119,       0613,     9.0001,   -23.0003,       5094,    60.7,  20.9399,  35.9530,2,-999.0000,9,    159.8,2,  -999.0,9, -999.00,9, -999.00,9, -999.00,9, -999.00,9, -999.00,9,-999.000,9,-999.000,9,  -999.0,9,  -999.0,9,     -999.0,9
06MT20091026,       A16C,      63,          1,     204209,         18,2,20091119,       0613,     9.0001,   -23.0003,       5094,    50.3,  22.2224,  35.9149,2,-999.0000,9,    175.4,2,  -999.0,9, -999.00,9, -999.00,9, -999.00,9, -999.00,9, -999.00,9,-999.000,9,-999.000,9,  -999.0,9,  -999.0,9,     -999.0,9
06MT20091026,       A16C,      63,          1,     204210,         19,2,20091119,       0617,     9.0001,   -23.0003,       5094,    20.5,  28.3660,  35.3234,2,-999.0000,9,    200.5,2,  -999.0,9, -999.00,9, -999.00,9, -999.00,9, -999.00,9, -999.00,9,-999.000,9,-999.000,9,  -999.0,9,  -999.0,9,     -999.0,9
06MT20091026,       A16C,      63,          1,     204211,         20,2,20091119,       0617,     9.0001,   -23.0003,       5094,    20.8,  28.3660,  35.3237,2,  35.3238,2,    200.8,2,  -999.0,9, -999.00,9, -999.00,9, -999.00,9, -999.00,9, -999.00,9,-999.000,9,-999.000,9,  -999.0,9,  -999.0,9,     -999.0,9
06MT20091026,       A16C,      63,          1,     204212,         21,2,20091119,       0617,     9.0001,   -23.0003,       5094,    20.8,  28.3657,  35.3235,2,-999.0000,9,    200.4,2,  -999.0,9, -999.00,9, -999.00,9, -999.00,9, -999.00,9, -999.00,9,-999.000,9,-999.000,9,  -999.0,9,  -999.0,9,     -999.0,9
06MT20091026,       A16C,      63,          1,     204213,         22,2,20091119,       0617,     9.0001,   -23.0003,       5094,    20.6,  28.3644,  35.3233,2,-999.0000,9,    201.0,2,  -999.0,9, -999.00,9, -999.00,9, -999.00,9, -999.00,9, -999.00,9,-999.000,9,-999.000,9,  -999.0,9,  -999.0,9,     -999.0,9
06MT20091026,       A16C,      63,          1,     204214,         23,2,20091119,       0617,     9.0001,   -23.0003,       5094,    20.9,  28.3644,  35.3236,2,-999.0000,9,    200.8,2,  -999.0,9, -999.00,9, -999.00,9, -999.00,9, -999.00,9, -999.00,9,-999.000,9,-999.000,9,  -999.0,9,  -999.0,9,     -999.0,9
06MT20091026,       A16C,      63,          1,     204215,         24,2,20091119,       0617,     9.0001,   -23.0003,       5094,    10.0,  28.3617,  35.3240,2,-999.0000,9,    200.4,2,  -999.0,9, -999.00,9, -999.00,9, -999.00,9, -999.00,9, -999.00,9,-999.000,9,-999.000,9,  -999.0,9,  -999.0,9,     -999.0,9
06MT20091026,       A16C,      64,          1,     204216,          1,2,20091119,       0730,     9.0002,   -23.0002,       5094,  1310.8,   4.6360,  34.8941,2,  34.8947,2,    178.5,2,   178.8,2,   24.86,3,    0.12,2,   33.31,3,    0.02,2,    2.15,3,-999.000,9,-999.000,9,  2203.2,2,  2319.2,2,     -999.0,9
06MT20091026,       A16C,      64,          1,     204217,          2,2,20091119,       0733,     9.0002,   -23.0002,       5094,  1207.4,   4.8354,  34.8575,2,-999.0000,9,    164.6,2,   162.9,2, -999.00,9, -999.00,9, -999.00,9, -999.00,9, -999.00,9,-999.000,9,-999.000,9,  -999.0,9,  -999.0,9,     -999.0,9
06MT20091026,       A16C,      64,          1,     204218,          3,2,20091119,       0735,     9.0002,   -23.0002,       5094,  1105.9,   4.9794,  34.7912,2,-999.0000,9,    151.5,2,   150.7,2,   23.82,6,    0.08,6,   30.67,6,    0.01,6,    2.01,6,-999.000,9,-999.000,9,  2217.8,2,  2314.4,2,     -999.0,9
06MT20091026,       A16C,      64,          1,     204219,          4,2,20091119,       0736,     9.0002,   -23.0002,       5094,  1006.3,   5.1416,  34.7306,2,-999.0000,9,    136.1,2,   134.6,2, -999.00,9, -999.00,9, -999.00,9, -999.00,9, -999.00,9,-999.000,9,-999.000,9,  -999.0,9,  -999.0,9,     -999.0,9
06MT20091026,       A16C,      64,          1,     204220,          5,2,20091119,       0738,     9.0002,   -23.0002,       5094,   904.9,   5.3494,  34.6779,2,-999.0000,9,    122.7,2,   122.2,2,   25.95,2,    0.04,2,   36.79,2,    0.01,2,    2.38,2,-999.000,9,-999.000,9,  2230.2,2,  2311.9,2,     -999.0,9
06MT20091026,       A16C,      64,          1,     204221,          6,2,20091119,       0740,     9.0002,   -23.0002,       5094,   803.2,   5.8155,  34.6868,2,-999.0000,9,    108.9,2,   105.8,2, -999.00,9, -999.00,9, -999.00,9, -999.00,9, -999.00,9,-999.000,9,-999.000,9,  -999.0,9,  -999.0,9,     -999.0,9
06MT20091026,       A16C,      64,          1,     204222,          7,2,20091119,       0742,     9.0002,   -23.0002,       5094,   702.5,   6.3273,  34.7063,2,-999.0000,9,     96.0,2,    93.0,2,   23.48,2,    0.12,2,   38.90,2,    0.01,2,    2.52,2,   0.064,2,   0.051,4,  2238.4,2,  2307.2,2,       0.00,3
06MT20091026,       A16C,      64,          1,     204223,          8,2,20091119,       0744,     9.0002,   -23.0002,       5094,   602.2,   7.2713,  34.7990,2,  34.7931,2,     75.6,2,    73.4,2, -999.00,9, -999.00,9, -999.00,9, -999.00,9, -999.00,9,   0.161,2,   0.761,4,  -999.0,9,  -999.0,9,       0.00,3
06MT20091026,       A16C,      64,          1,     204224,          9,2,20091119,       0746,     9.0002,   -23.0002,       5094,   501.3,   8.4839,  34.9179,2,-999.0000,9,     59.7,2,    56.7,2,   17.98,2,    0.11,2,   39.35,2,    0.01,2,    2.31,2,   0.236,2,    0.86,4,  2248.7,2,  2310.2,2,       0.00,3
06MT20091026,       A16C,      64,          1,     204225,         10,2,20091119,       0748,     9.0002,   -23.0002,       5094,   401.1,   9.7304,  35.0075,2,-999.0000,9,     56.7,2,    56.6,2,   14.08,2,     0.1,2,   36.41,2,    0.01,2,    2.16,2,   0.386,2,   0.158,4,  2240.7,2,  2309.2,2,       0.04,3
06MT20091026,       A16C,      64,          1,     204226,         11,2,20091119,       0749,     9.0002,   -23.0002,       5094,   350.8,  10.1789,  35.0186,2,-999.0000,9,     70.7,2,    70.6,2,   13.28,2,    0.12,2,   33.93,2,    0.01,2,    2.04,2,   0.583,2,   0.748,4,  2229.8,2,  2310.5,2,       0.50,3
06MT20091026,       A16C,      64,          1,     204227,         12,2,20091119,       0750,     9.0002,   -23.0002,       5094,   289.5,  10.8431,  35.0559,2,-999.0000,9,     94.9,2,    95.5,2,   10.80,2,    0.06,2,   28.80,2,    0.01,2,    1.73,2,   0.808,2,   1.178,4,  2209.6,2,  2311.6,2,       0.30,3
06MT20091026,       A16C,      64,          1,     204228,         13,2,20091119,       0751,     9.0002,   -23.0002,       5094,   249.8,  11.4331,  35.1229,2,-999.0000,9,     90.1,2,    90.0,2,   10.93,2,    0.06,2,   28.05,2,    0.01,2,    1.72,2,   0.841,2,   1.078,4,  2210.8,2,  2314.4,2,       0.39,3
06MT20091026,       A16C,      64,          1,     204229,         14,2,20091119,       0751,     9.0002,   -23.0002,       5094,   198.8,  11.9843,  35.1757,2,-999.0000,9,    105.6,2,   105.2,2,    9.31,2,    0.03,2,   25.25,2,    0.01,2,    1.58,2,   0.941,2,   1.253,4,  2198.3,2,  2310.5,2,       0.00,3
06MT20091026,       A16C,      64,          1,      64015,         15,2,20091119,       0752,     9.0002,   -23.0002,       5094,   196.6,  11.9901,  35.1763,2,-999.0000,9,    106.2,2,  -999.0,9, -999.00,9, -999.00,9, -999.00,9, -999.00,9, -999.00,9,-999.000,9,-999.000,9,  -999.0,9,  -999.0,9,     -999.0,9
06MT20091026,       A16C,      64,          1,      64016,         16,2,20091119,       0752,     9.0002,   -23.0002,       5094,   195.0,  11.9859,  35.1762,2,-999.0000,9,    107.1,2,  -999.0,9, -999.00,9, -999.00,9, -999.00,9, -999.00,9, -999.00,9,-999.000,9,-999.000,9,  -999.0,9,  -999.0,9,     -999.0,9
06MT20091026,       A16C,      64,          1,     204230,         17,2,20091119,       0752,     9.0002,   -23.0002,       5094,   148.8,  12.6254,  35.2579,2,  35.2078,2,    121.3,2,   117.4,2,    8.31,2,    0.12,2,   22.99,2,    0.01,2,    1.47,2,   1.054,2,   1.553,4,  2187.9,2,  2321.5,2,       0.00,3
06MT20091026,       A16C,      64,          1,     204231,         18,2,20091119,       0753,     9.0002,   -23.0002,       5094,    97.8,  15.0355,  35.5539,2,-999.0000,9,    115.1,2,   117.7,2,    6.30,2,    0.13,2,   19.84,2,    0.03,2,    1.18,2,   1.126,2,   1.568,4,  2180.2,2,  2335.0,2,       0.00,3
06MT20091026,       A16C,      64,          1,     204232,         19,2,20091119,       0754,     9.0002,   -23.0002,       5094,    78.2,  16.9974,  35.7178,2,-999.0000,9,    114.7,2,   116.1,2,    5.27,2,    0.08,2,   16.82,2,    0.05,2,    0.97,2,   1.104,2,   1.399,4,  2175.6,2,  2340.9,2,       0.00,3
06MT20091026,       A16C,      64,          1,     204233,         20,2,20091119,       0754,     9.0002,   -23.0002,       5094,    58.5,  21.3574,  35.9953,2,-999.0000,9,    140.3,2,   165.6,2,    1.90,2,     0.1,2,    0.99,2,    0.08,2,    0.10,2,   0.971,2,   1.214,4,  2114.8,2,  2367.3,2,       0.00,3
06MT20091026,       A16C,      64,          1,     204234,         21,2,20091119,       0754,     9.0002,   -23.0002,       5094,    39.2,  27.3525,  36.2169,2,-999.0000,9,    204.6,2,   223.9,2,    0.23,2,    0.11,2,    0.00,2,    0.00,2,    0.00,2,   0.999,2,   1.145,4,  2006.6,2,  2371.3,2,       0.00,3
06MT20091026,       A16C,      64,          1,     204235,         22,2,20091119,       0755,     9.0002,   -23.0002,       5094,    20.0,  28.3622,  35.3299,2,-999.0000,9,    200.7,2,   199.5,2,    0.08,2,    0.13,2,    0.04,2,    0.00,2,    0.00,2,   0.963,2,   0.931,4,  1950.6,2,  2313.7,2,       0.00,3
06MT20091026,       A16C,      64,          1,     204236,         23,2,20091119,       0756,     9.0002,   -23.0002,       5094,     9.6,  28.3454,  35.3030,2,-999.0000,9,    201.0,2,   200.1,2,    0.06,6,    0.09,6,    0.22,6,    0.01,6,    0.02,6,   0.921,2,   0.933,4,  1950.7,2,  2313.3,2,       0.00,3
06MT20091026,       A16C,      64,          1,     204237,         24,2,20091119,       0756,     9.0002,   -23.0002,       5094,     4.4,  28.3112,  35.2298,2,  35.2912,2,    200.7,2,   199.7,2,    0.20,2,    0.11,2,    0.44,2,    0.01,2,    0.04,2,   0.984,2,   0.969,4,  1949.7,2,  2312.5,2,       0.00,3