BOTTLE,20211119CCHSIORKP
EXPOCODE,SECT_ID,STNNBR,CASTNO,SAMPNO,BTLNBR,BTLNBR_FLAG_W,DATE,TIME,LATITUDE,LONGITUDE,DEPTH,CTDPRS,CTDTMP,CTDSAL,CTDSAL_FLAG_W,SALNTY,SALNTY_FLAG_W,CTDOXY,CTDOXY_FLAG_W,OXYGEN,OXYGEN_FLAG_W,SILCAT,SILCAT_FLAG_W,NH4,NH4_FLAG_W,NITRAT,NITRAT_FLAG_W,NITRIT,NITRIT_FLAG_W,PHSPHT,PHSPHT_FLAG_W,CFC-12,CFC-12_FLAG_W,SF6,SF6_FLAG_W,TCARBN,TCARBN_FLAG_W,ALKALI,ALKALI_FLAG_W,SF5CF3,SF5CF3_FLAG_W
,,,,,,,,,,,METERS,DBAR,ITS-90,PSS-78,,PSS-78,,UMOL/KG,,UMOL/KG,,UMOL/KG,,UMOL/KG,,UMOL/KG,,UMOL/KG,,UMOL/KG,,PMOL/KG,,FMOL/KG,,UMOL/KG,,UMOL/KG,,FMOL/KG,
06MT20091026,       A16C,      71,          1,     204326,          1,2,20091120,       1302,    11.4677,   -23.0005,       5024,  1312.2,   4.7956,  34.9347,2,  34.9357,2,    179.3,2,   181.7,2, -999.00,9, -999.00,9, -999.00,9, -999.00,9, -999.00,9,-999.000,9,-999.000,9,  -999.0,9,  -999.0,9,     -999.0,9
06MT20091026,       A16C,      71,          1,     204327,          2,2,20091120,       1305,    11.4677,   -23.0005,       5024,  1207.1,   5.1303,  34.9144,2,-999.0000,9,    159.8,2,  -999.0,9, -999.00,9, -999.00,9, -999.00,9, -999.00,9, -999.00,9,-999.000,9,-999.000,9,  -999.0,9,  -999.0,9,     -999.0,9
06MT20091026,       A16C,      71,          1,     204328,          3,2,20091120,       1307,    11.4677,   -23.0005,       5024,  1106.7,   5.4127,  34.8634,2,-999.0000,9,    139.5,2,  -999.0,9, -999.00,9, -999.00,9, -999.00,9, -999.00,9, -999.00,9,-999.000,9,-999.000,9,  -999.0,9,  -999.0,9,     -999.0,9
06MT20091026,       A16C,      71,          1,     204329,          4,2,20091120,       1309,    11.4677,   -23.0005,       5024,  1005.9,   5.4705,  34.7828,2,-999.0000,9,    123.4,2,  -999.0,9, -999.00,9, -999.00,9, -999.00,9, -999.00,9, -999.00,9,-999.000,9,-999.000,9,  -999.0,9,  -999.0,9,     -999.0,9
06MT20091026,       A16C,      71,          1,     204330,          5,2,20091120,       1311,    11.4677,   -23.0005,       5024,   905.7,   5.9112,  34.7871,2,-999.0000,9,    109.3,2,  -999.0,9, -999.00,9, -999.00,9, -999.00,9, -999.00,9, -999.00,9,-999.000,9,-999.000,9,  -999.0,9,  -999.0,9,     -999.0,9
06MT20091026,       A16C,      71,          1,     204331,          6,2,20091120,       1313,    11.4677,   -23.0005,       5024,   804.1,   6.5570,  34.8038,2,  34.8045,2,     89.3,2,  -999.0,9, -999.00,9, -999.00,9, -999.00,9, -999.00,9, -999.00,9,-999.000,9,-999.000,9,  -999.0,9,  -999.0,9,     -999.0,9
06MT20091026,       A16C,      71,          1,     204332,          7,2,20091120,       1315,    11.4677,   -23.0005,       5024,   702.7,   7.5223,  34.9026,2,-999.0000,9,     72.4,2,  -999.0,9, -999.00,9, -999.00,9, -999.00,9, -999.00,9, -999.00,9,-999.000,9,-999.000,9,  -999.0,9,  -999.0,9,     -999.0,9
06MT20091026,       A16C,      71,          1,     204333,          8,2,20091120,       1318,    11.4677,   -23.0005,       5024,   603.8,   8.2812,  34.9501,2,-999.0000,9,     58.7,2,  -999.0,9, -999.00,9, -999.00,9, -999.00,9, -999.00,9, -999.00,9,-999.000,9,-999.000,9,  -999.0,9,  -999.0,9,     -999.0,9
06MT20091026,       A16C,      71,          1,     204334,          9,2,20091120,       1320,    11.4677,   -23.0005,       5024,   502.2,   9.5700,  35.1038,2,-999.0000,9,     45.5,2,  -999.0,9, -999.00,9, -999.00,9, -999.00,9, -999.00,9, -999.00,9,-999.000,9,-999.000,9,  -999.0,9,  -999.0,9,     -999.0,9
06MT20091026,       A16C,      71,          1,     204335,         10,2,20091120,       1322,    11.4677,   -23.0005,       5024,   400.2,  10.8677,  35.2474,2,-999.0000,9,     40.7,2,  -999.0,9, -999.00,9, -999.00,9, -999.00,9, -999.00,9, -999.00,9,-999.000,9,-999.000,9,  -999.0,9,  -999.0,9,     -999.0,9
06MT20091026,       A16C,      71,          1,     204336,         11,2,20091120,       1323,    11.4677,   -23.0005,       5024,   349.7,  11.4542,  35.2842,2,-999.0000,9,     44.5,2,  -999.0,9, -999.00,9, -999.00,9, -999.00,9, -999.00,9, -999.00,9,-999.000,9,-999.000,9,  -999.0,9,  -999.0,9,     -999.0,9
06MT20091026,       A16C,      71,          1,     204337,         12,2,20091120,       1324,    11.4677,   -23.0005,       5024,   301.2,  11.6463,  35.2447,2,-999.0000,9,     57.9,2,  -999.0,9, -999.00,9, -999.00,9, -999.00,9, -999.00,9, -999.00,9,-999.000,9,-999.000,9,  -999.0,9,  -999.0,9,     -999.0,9
06MT20091026,       A16C,      71,          1,     204338,         13,2,20091120,       1326,    11.4677,   -23.0005,       5024,   249.0,  11.9187,  35.2178,2,  35.2167,2,     76.7,2,  -999.0,9, -999.00,9, -999.00,9, -999.00,9, -999.00,9, -999.00,9,-999.000,9,-999.000,9,  -999.0,9,  -999.0,9,     -999.0,9
06MT20091026,       A16C,      71,          1,     204339,         14,2,20091120,       1327,    11.4677,   -23.0005,       5024,   199.5,  12.5834,  35.2757,2,-999.0000,9,     84.4,2,    85.1,2, -999.00,9, -999.00,9, -999.00,9, -999.00,9, -999.00,9,-999.000,9,-999.000,9,  -999.0,9,  -999.0,9,     -999.0,9
06MT20091026,       A16C,      71,          1,      71015,         15,2,20091120,       1327,    11.4677,   -23.0005,       5024,   194.3,  12.6539,  35.2807,2,-999.0000,9,     85.7,2,  -999.0,9, -999.00,9, -999.00,9, -999.00,9, -999.00,9, -999.00,9,-999.000,9,-999.000,9,  -999.0,9,  -999.0,9,     -999.0,9
06MT20091026,       A16C,      71,          1,      71016,         16,2,20091120,       1327,    11.4677,   -23.0005,       5024,   191.9,  12.6725,  35.2783,2,-999.0000,9,     85.7,2,  -999.0,9, -999.00,9, -999.00,9, -999.00,9, -999.00,9, -999.00,9,-999.000,9,-999.000,9,  -999.0,9,  -999.0,9,     -999.0,9
06MT20091026,       A16C,      71,          1,     204340,         17,2,20091120,       1328,    11.4677,   -23.0005,       5024,   150.0,  13.2506,  35.3320,2,-999.0000,9,     91.5,2,  -999.0,9, -999.00,9, -999.00,9, -999.00,9, -999.00,9, -999.00,9,-999.000,9,-999.000,9,  -999.0,9,  -999.0,9,     -999.0,9
06MT20091026,       A16C,      71,          1,     204341,         18,2,20091120,       1329,    11.4677,   -23.0005,       5024,   101.0,  14.1925,  35.4455,2,-999.0000,9,     75.5,2,  -999.0,9, -999.00,9, -999.00,9, -999.00,9, -999.00,9, -999.00,9,-999.000,9,-999.000,9,  -999.0,9,  -999.0,9,     -999.0,9
06MT20091026,       A16C,      71,          1,     204342,         19,2,20091120,       1330,    11.4677,   -23.0005,       5024,    80.7,  15.0353,  35.5233,2,  35.5155,2,     67.0,2,    68.0,2, -999.00,9, -999.00,9, -999.00,9, -999.00,9, -999.00,9,-999.000,9,-999.000,9,  -999.0,9,  -999.0,9,     -999.0,9
06MT20091026,       A16C,      71,          1,     204343,         20,2,20091120,       1331,    11.4677,   -23.0005,       5024,    59.9,  16.5618,  35.6475,2,-999.0000,9,     71.5,2,  -999.0,9, -999.00,9, -999.00,9, -999.00,9, -999.00,9, -999.00,9,-999.000,9,-999.000,9,  -999.0,9,  -999.0,9,     -999.0,9
06MT20091026,       A16C,      71,          1,     204344,         21,2,20091120,       1332,    11.4677,   -23.0005,       5024,    40.2,  20.5372,  35.7839,2,-999.0000,9,    183.4,2,  -999.0,9, -999.00,9, -999.00,9, -999.00,9, -999.00,9, -999.00,9,-999.000,9,-999.000,9,  -999.0,9,  -999.0,9,     -999.0,9
06MT20091026,       A16C,      71,          1,     204345,         22,2,20091120,       1333,    11.4677,   -23.0005,       5024,    19.7,  27.9888,  35.4322,2,-999.0000,9,    198.0,2,  -999.0,9, -999.00,9, -999.00,9, -999.00,9, -999.00,9, -999.00,9,-999.000,9,-999.000,9,  -999.0,9,  -999.0,9,     -999.0,9
06MT20091026,       A16C,      71,          1,     204346,         23,2,20091120,       1334,    11.4677,   -23.0005,       5024,     9.0,  28.0105,  35.4356,2,-999.0000,9,    199.7,2,   204.9,2, -999.00,9, -999.00,9, -999.00,9, -999.00,9, -999.00,9,-999.000,9,-999.000,9,  -999.0,9,  -999.0,9,     -999.0,9
06MT20091026,       A16C,      71,          1,     204347,         24,2,20091120,       1334,    11.4677,   -23.0005,       5024,     3.8,  28.0379,  35.4374,2,  35.4325,2,    199.5,2,  -999.0,9, -999.00,9, -999.00,9, -999.00,9, -999.00,9, -999.00,9,-999.000,9,-999.000,9,  -999.0,9,  -999.0,9,     -999.0,9
06MT20091026,       A16C,      72,          1,     204351,          4,2,20091120,       1810,    11.9999,   -23.0003,       4990,  1008.0,   5.7351,  34.8189,2,-999.0000,9,    117.3,2,  -999.0,9, -999.00,9, -999.00,9, -999.00,9, -999.00,9, -999.00,9,-999.000,9,-999.000,9,  -999.0,9,  -999.0,9,     -999.0,9
06MT20091026,       A16C,      72,          1,     204352,          5,2,20091120,       1811,    11.9999,   -23.0003,       4990,  1007.8,   5.7369,  34.8190,2,-999.0000,9,    117.2,2,  -999.0,9, -999.00,9, -999.00,9, -999.00,9, -999.00,9, -999.00,9,-999.000,9,-999.000,9,  -999.0,9,  -999.0,9,     -999.0,9
06MT20091026,       A16C,      72,          1,     204353,          6,2,20091120,       1811,    11.9999,   -23.0003,       4990,  1007.9,   5.7365,  34.8190,2,-999.0000,9,    117.3,2,  -999.0,9, -999.00,9, -999.00,9, -999.00,9, -999.00,9, -999.00,9,-999.000,9,-999.000,9,  -999.0,9,  -999.0,9,     -999.0,9
06MT20091026,       A16C,      72,          1,     204354,          7,2,20091120,       1815,    11.9999,   -23.0003,       4990,   805.0,   6.8439,  34.8326,2,-999.0000,9,     83.5,2,  -999.0,9, -999.00,9, -999.00,9, -999.00,9, -999.00,9, -999.00,9,-999.000,9,-999.000,9,  -999.0,9,  -999.0,9,     -999.0,9
06MT20091026,       A16C,      72,          1,     204355,          8,2,20091120,       1819,    11.9999,   -23.0003,       4990,   602.5,   8.2030,  34.9081,2,-999.0000,9,     54.6,2,  -999.0,9, -999.00,9, -999.00,9, -999.00,9, -999.00,9, -999.00,9,-999.000,9,-999.000,9,  -999.0,9,  -999.0,9,     -999.0,9
06MT20091026,       A16C,      72,          1,     204356,          9,2,20091120,       1823,    11.9999,   -23.0003,       4990,   399.8,  11.1567,  35.2685,2,-999.0000,9,     40.2,2,  -999.0,9, -999.00,9, -999.00,9, -999.00,9, -999.00,9, -999.00,9,-999.000,9,-999.000,9,  -999.0,9,  -999.0,9,     -999.0,9
06MT20091026,       A16C,      72,          1,     204357,         10,2,20091120,       1825,    11.9999,   -23.0003,       4990,   300.8,  11.6423,  35.2017,2,-999.0000,9,     72.0,2,  -999.0,9, -999.00,9, -999.00,9, -999.00,9, -999.00,9, -999.00,9,-999.000,9,-999.000,9,  -999.0,9,  -999.0,9,     -999.0,9
06MT20091026,       A16C,      72,          1,     204358,         11,2,20091120,       1827,    11.9999,   -23.0003,       4990,   198.9,  12.6798,  35.2670,2,-999.0000,9,    104.3,2,  -999.0,9, -999.00,9, -999.00,9, -999.00,9, -999.00,9, -999.00,9,-999.000,9,-999.000,9,  -999.0,9,  -999.0,9,     -999.0,9
06MT20091026,       A16C,      72,          1,     204359,         12,2,20091120,       1828,    11.9999,   -23.0003,       4990,    99.0,  14.8608,  35.5215,2,-999.0000,9,     73.2,2,  -999.0,9, -999.00,9, -999.00,9, -999.00,9, -999.00,9, -999.00,9,-999.000,9,-999.000,9,  -999.0,9,  -999.0,9,     -999.0,9
06MT20091026,       A16C,      72,          1,     204360,         13,2,20091120,       1829,    11.9999,   -23.0003,       4990,    80.2,  15.5377,  35.5805,2,-999.0000,9,     67.2,2,  -999.0,9, -999.00,9, -999.00,9, -999.00,9, -999.00,9, -999.00,9,-999.000,9,-999.000,9,  -999.0,9,  -999.0,9,     -999.0,9
06MT20091026,       A16C,      72,          1,     204361,         14,2,20091120,       1830,    11.9999,   -23.0003,       4990,    60.6,  16.8414,  35.6118,2,-999.0000,9,     91.6,2,  -999.0,9, -999.00,9, -999.00,9, -999.00,9, -999.00,9, -999.00,9,-999.000,9,-999.000,9,  -999.0,9,  -999.0,9,     -999.0,9
06MT20091026,       A16C,      72,          1,      72015,         15,2,20091120,       1830,    11.9999,   -23.0003,       4990,    57.4,  17.0475,  35.6728,2,-999.0000,9,    103.7,2,  -999.0,9, -999.00,9, -999.00,9, -999.00,9, -999.00,9, -999.00,9,-999.000,9,-999.000,9,  -999.0,9,  -999.0,9,     -999.0,9
06MT20091026,       A16C,      72,          1,      72016,         16,2,20091120,       1830,    11.9999,   -23.0003,       4990,    56.5,  17.4947,  35.7127,2,-999.0000,9,    104.6,2,  -999.0,9, -999.00,9, -999.00,9, -999.00,9, -999.00,9, -999.00,9,-999.000,9,-999.000,9,  -999.0,9,  -999.0,9,     -999.0,9
06MT20091026,       A16C,      72,          1,     204362,         17,2,20091120,       1830,    11.9999,   -23.0003,       4990,    39.6,  21.4134,  35.8797,2,-999.0000,9,    189.5,2,  -999.0,9, -999.00,9, -999.00,9, -999.00,9, -999.00,9, -999.00,9,-999.000,9,-999.000,9,  -999.0,9,  -999.0,9,     -999.0,9
06MT20091026,       A16C,      72,          1,     204363,         18,2,20091120,       1831,    11.9999,   -23.0003,       4990,    18.5,  27.5748,  35.4536,2,-999.0000,9,    215.8,2,  -999.0,9, -999.00,9, -999.00,9, -999.00,9, -999.00,9, -999.00,9,-999.000,9,-999.000,9,  -999.0,9,  -999.0,9,     -999.0,9
06MT20091026,       A16C,      72,          1,     204364,         19,2,20091120,       1831,    11.9999,   -23.0003,       4990,     9.9,  27.8234,  35.3734,2,-999.0000,9,    201.2,2,  -999.0,9, -999.00,9, -999.00,9, -999.00,9, -999.00,9, -999.00,9,-999.000,9,-999.000,9,  -999.0,9,  -999.0,9,     -999.0,9
06MT20091026,       A16C,      72,          1,     204365,         20,2,20091120,       1831,    11.9999,   -23.0003,       4990,     3.8,  27.8272,  35.3738,2,-999.0000,9,    201.4,2,  -999.0,9, -999.00,9, -999.00,9, -999.00,9, -999.00,9, -999.00,9,-999.000,9,-999.000,9,  -999.0,9,  -999.0,9,     -999.0,9