BOTTLE,20211119CCHSIORKP
EXPOCODE,SECT_ID,STNNBR,CASTNO,SAMPNO,BTLNBR,BTLNBR_FLAG_W,DATE,TIME,LATITUDE,LONGITUDE,DEPTH,CTDPRS,CTDTMP,CTDSAL,CTDSAL_FLAG_W,SALNTY,SALNTY_FLAG_W,CTDOXY,CTDOXY_FLAG_W,OXYGEN,OXYGEN_FLAG_W,SILCAT,SILCAT_FLAG_W,NH4,NH4_FLAG_W,NITRAT,NITRAT_FLAG_W,NITRIT,NITRIT_FLAG_W,PHSPHT,PHSPHT_FLAG_W,CFC-12,CFC-12_FLAG_W,SF6,SF6_FLAG_W,TCARBN,TCARBN_FLAG_W,ALKALI,ALKALI_FLAG_W,SF5CF3,SF5CF3_FLAG_W
,,,,,,,,,,,METERS,DBAR,ITS-90,PSS-78,,PSS-78,,UMOL/KG,,UMOL/KG,,UMOL/KG,,UMOL/KG,,UMOL/KG,,UMOL/KG,,UMOL/KG,,PMOL/KG,,FMOL/KG,,UMOL/KG,,UMOL/KG,,FMOL/KG,
06MT20091026,       A16C,      23,          1,     203383,          1,2,20091106,       2238,    -0.9982,   -23.0005,       4197,  4187.3,   1.6819,-999.0000,9,  34.8244,2,   -999.0,9,   245.3,2, -999.00,9, -999.00,9, -999.00,9, -999.00,9, -999.00,9,-999.000,9,-999.000,9,  2212.6,2,  2345.6,2,     -999.0,9
06MT20091026,       A16C,      23,          1,     203384,          2,2,20091106,       2252,    -0.9982,   -23.0005,       4197,  3545.3,   2.4130,-999.0000,9,-999.0000,9,   -999.0,9,   259.6,2, -999.00,9, -999.00,9, -999.00,9, -999.00,9, -999.00,9,-999.000,9,-999.000,9,  2178.9,2,  2326.6,2,     -999.0,9
06MT20091026,       A16C,      23,          1,     203385,          3,2,20091106,       2302,    -0.9982,   -23.0005,       4197,  3034.1,   2.6417,-999.0000,9,-999.0000,9,   -999.0,9,   248.0,2, -999.00,9, -999.00,9, -999.00,9, -999.00,9, -999.00,9,-999.000,9,-999.000,9,  2185.8,2,  2331.0,2,     -999.0,9
06MT20091026,       A16C,      23,          1,     203386,          4,2,20091106,       2312,    -0.9982,   -23.0005,       4197,  2526.7,   2.9314,-999.0000,9,-999.0000,9,   -999.0,9,   246.7,2, -999.00,9, -999.00,9, -999.00,9, -999.00,9, -999.00,9,-999.000,9,-999.000,9,  2180.9,2,  2328.0,2,     -999.0,9
06MT20091026,       A16C,      23,          1,     203387,          5,2,20091106,       2322,    -0.9982,   -23.0005,       4197,  2017.0,   3.6095,  34.9679,2,-999.0000,9,   -999.0,9,   250.5,2,   16.29,2,    0.09,2,   19.82,2,    0.02,2,    1.24,2,-999.000,9,-999.000,9,  2167.4,2,  2313.1,2,     -999.0,9
06MT20091026,       A16C,      23,          1,     203388,          6,2,20091106,       2331,    -0.9982,   -23.0005,       4197,  1511.4,   4.3167,  34.9682,2,-999.0000,9,    228.9,2,   230.2,2,   15.86,2,    0.07,2,   22.94,2,    0.01,2,    1.44,2,-999.000,9,-999.000,9,  2175.3,2,  2313.0,2,     -999.0,9
06MT20091026,       A16C,      23,          1,     203389,          7,2,20091106,       2336,    -0.9982,   -23.0005,       4197,  1256.7,   4.5493,  34.8707,2,-999.0000,9,    193.3,2,   199.3,2,   15.77,2,     0.1,2,   23.71,2,    0.01,2,    1.46,2,-999.000,9,-999.000,9,  2195.4,2,  2310.4,2,     -999.0,9
06MT20091026,       A16C,      23,          1,     203390,          8,2,20091106,       2340,    -0.9982,   -23.0005,       4197,  1004.4,   4.5028,  34.6094,2,  34.6119,2,    160.1,2,   159.3,2,   27.96,2,     0.1,2,   35.40,2,    0.01,2,    2.22,2,-999.000,9,-999.000,9,  2219.2,2,  2306.7,2,     -999.0,9
06MT20091026,       A16C,      23,          1,     203391,          9,2,20091106,       2344,    -0.9982,   -23.0005,       4197,   804.3,   4.8463,  34.5089,2,-999.0000,9,    152.3,2,   151.8,2,   26.37,2,    0.07,2,   36.67,2,    0.01,2,    2.37,2,-999.000,9,-999.000,9,  2218.3,2,  2300.8,2,     -999.0,9
06MT20091026,       A16C,      23,          1,     203392,         10,2,20091106,       2347,    -0.9982,   -23.0005,       4197,   602.0,   6.0532,  34.5420,2,-999.0000,9,    140.0,2,   141.4,2,   20.69,2,     0.1,2,   35.53,2,    0.01,2,    2.21,2,-999.000,9,-999.000,9,  2213.3,2,  2293.1,2,     -999.0,9
06MT20091026,       A16C,      23,          1,     203393,         11,2,20091106,       2351,    -0.9982,   -23.0005,       4197,   401.9,   7.8870,  34.6971,2,-999.0000,9,    116.5,2,   116.0,2,   14.24,2,    0.16,2,   31.82,2,    0.02,2,    1.98,2,-999.000,9,-999.000,9,  2213.4,2,  2295.2,2,     -999.0,9
06MT20091026,       A16C,      23,          1,     203394,         12,2,20091106,       2353,    -0.9982,   -23.0005,       4197,   300.4,   9.7939,  34.9005,2,-999.0000,9,     85.5,2,    82.6,2,   12.35,2,    0.07,2,   33.69,2,    0.01,2,    1.99,2,-999.000,9,-999.000,9,  2223.7,2,  2299.0,2,     -999.0,9
06MT20091026,       A16C,      23,          1,     203395,         13,2,20091106,       2354,    -0.9982,   -23.0005,       4197,   249.6,  11.4200,  35.0743,2,-999.0000,9,     86.9,2,    87.6,2,    9.51,2,     0.1,2,   29.12,2,    0.01,2,    1.76,2,-999.000,9,-999.000,9,  2211.7,2,  2304.8,2,     -999.0,9
06MT20091026,       A16C,      23,          1,     203396,         14,2,20091106,       2355,    -0.9982,   -23.0005,       4197,   200.6,  13.1686,  35.2987,2,-999.0000,9,     99.5,2,    99.0,2,    8.14,2,    0.06,2,   24.91,2,    0.01,2,    1.55,2,-999.000,9,-999.000,9,  2198.8,2,  2313.6,2,     -999.0,9
06MT20091026,       A16C,      23,          1,      23015,         15,2,20091106,       2355,    -0.9982,   -23.0005,       4197,   197.4,  13.3612,  35.3326,2,-999.0000,9,     99.9,2,  -999.0,9, -999.00,9, -999.00,9, -999.00,9, -999.00,9, -999.00,9,-999.000,9,-999.000,9,  -999.0,9,  -999.0,9,     -999.0,9
06MT20091026,       A16C,      23,          1,      23016,         16,2,20091106,       2355,    -0.9982,   -23.0005,       4197,   195.1,  13.3857,  35.3392,2,-999.0000,9,    100.5,2,  -999.0,9, -999.00,9, -999.00,9, -999.00,9, -999.00,9, -999.00,9,-999.000,9,-999.000,9,  -999.0,9,  -999.0,9,     -999.0,9
06MT20091026,       A16C,      23,          1,     203397,         17,2,20091106,       2356,    -0.9982,   -23.0005,       4197,   150.0,  14.0542,  35.4278,2,-999.0000,9,    114.0,2,   108.0,2,    6.17,2,    0.07,2,   21.34,2,    0.02,2,    1.34,2,-999.000,9,-999.000,9,  2188.0,2,  2322.1,2,     -999.0,9
06MT20091026,       A16C,      23,          1,     203398,         18,2,20091106,       2357,    -0.9982,   -23.0005,       4197,    99.3,  17.1317,  35.8657,2,  35.5468,3,    156.1,2,   135.9,2,    4.06,2,    0.07,2,   14.09,2,    0.04,2,    0.99,2,-999.000,9,-999.000,9,  2166.2,2,  2332.9,2,     -999.0,9
06MT20091026,       A16C,      23,          1,     203399,         19,2,20091106,       2358,    -0.9982,   -23.0005,       4197,    75.0,  20.6669,  36.2690,2,-999.0000,9,   -999.0,9,   172.8,2,    1.13,2,    0.06,2,    4.58,2,    0.24,2,    0.42,2,-999.000,9,-999.000,9,  2122.4,2,  2377.3,2,     -999.0,9
06MT20091026,       A16C,      23,          1,     203400,         20,2,20091106,       2358,    -0.9982,   -23.0005,       4197,    61.2,  25.5381,  36.1863,2,-999.0000,9,   -999.0,9,   197.7,2,    0.06,6,     0.1,6,    0.06,6,    0.02,6,    0.07,6,-999.000,9,-999.000,9,  2062.0,2,  2370.5,2,     -999.0,9
06MT20091026,       A16C,      23,          1,     203401,         21,2,20091106,       2359,    -0.9982,   -23.0005,       4197,    40.7,  26.1737,-999.0000,9,-999.0000,9,   -999.0,9,   202.3,2, -999.00,9, -999.00,9, -999.00,9, -999.00,9, -999.00,9,-999.000,9,-999.000,9,  2054.1,2,  2370.4,2,     -999.0,9
06MT20091026,       A16C,      23,          1,     203402,         22,2,20091106,       0000,    -0.9982,   -23.0005,       4197,    18.9,  26.1378,-999.0000,9,-999.0000,9,   -999.0,9,   203.8,2, -999.00,9, -999.00,9, -999.00,9, -999.00,9, -999.00,9,-999.000,9,-999.000,9,  2053.3,2,  2370.5,2,     -999.0,9
06MT20091026,       A16C,      23,          1,     203403,         23,2,20091106,       0000,    -0.9982,   -23.0005,       4197,     9.9,  26.2690,-999.0000,9,  36.1820,2,   -999.0,9,   203.3,2, -999.00,9, -999.00,9, -999.00,9, -999.00,9, -999.00,9,-999.000,9,-999.000,9,  2052.4,2,  2369.7,2,     -999.0,9
06MT20091026,       A16C,      23,          1,     203404,         24,2,20091106,       0000,    -0.9982,   -23.0005,       4197,     5.8,  26.2756,-999.0000,9,-999.0000,9,   -999.0,9,   204.0,2, -999.00,9, -999.00,9, -999.00,9, -999.00,9, -999.00,9,-999.000,9,-999.000,9,  2052.3,2,  2372.2,2,     -999.0,9
06MT20091026,       A16C,      24,          1,     203405,          1,2,20091107,       0450,    -1.3324,   -22.9999,       4582,  4571.9,   0.9325,  34.7407,2,  34.7394,2,   -999.0,9,   228.1,2,   71.82,2,    0.04,2,   31.17,2,    0.03,2,    2.05,2,-999.000,9,-999.000,9,  -999.0,9,  -999.0,9,     -999.0,9
06MT20091026,       A16C,      24,          1,     203406,          2,2,20091107,       0504,    -1.3324,   -22.9999,       4582,  3851.3,   2.3123,  34.8972,2,-999.0000,9,   -999.0,9,   261.5,2,   28.41,2,    0.06,2,   20.87,2,    0.03,2,    1.34,2,-999.000,9,-999.000,9,  -999.0,9,  -999.0,9,     -999.0,9
06MT20091026,       A16C,      24,          1,     203407,          3,2,20091107,       0515,    -1.3324,   -22.9999,       4582,  3239.1,   2.5661,  34.9087,2,-999.0000,9,   -999.0,9,   249.4,2,   32.90,6,    0.02,6,   22.33,6,    0.03,6,    1.38,6,-999.000,9,-999.000,9,  -999.0,9,  -999.0,9,     -999.0,9
06MT20091026,       A16C,      24,          1,     203408,          4,2,20091107,       0525,    -1.3324,   -22.9999,       4582,  2628.5,   2.8785,  34.9269,2,-999.0000,9,   -999.0,9,   247.6,2,   29.11,2,    0.05,2,   22.36,2,    0.03,2,    1.37,2,-999.000,9,-999.000,9,  -999.0,9,  -999.0,9,     -999.0,9
06MT20091026,       A16C,      24,          1,     203409,          5,2,20091107,       0536,    -1.3324,   -22.9999,       4582,  2018.1,   3.5713,  34.9676,2,-999.0000,9,   -999.0,9,   250.9,2,   17.51,2,    0.09,2,   20.92,2,    0.03,2,    1.25,2,   0.203,2,    0.79,4,  -999.0,9,  -999.0,9,       0.00,3
06MT20091026,       A16C,      24,          1,     203410,          6,2,20091107,       0545,    -1.3324,   -22.9999,       4582,  1512.3,   4.2672,  34.9715,2,-999.0000,9,   -999.0,9,   232.2,2,   15.51,2,    0.06,2,   22.91,2,    0.03,2,    1.44,2,   0.237,2,   0.618,4,  -999.0,9,  -999.0,9,       0.00,3
06MT20091026,       A16C,      24,          1,     203411,          7,2,20091107,       0549,    -1.3324,   -22.9999,       4582,  1257.6,   4.5652,  34.8734,2,-999.0000,9,    195.2,2,   193.2,2,   19.52,2,    0.13,2,   28.80,2,    0.03,2,    1.81,2,-999.000,9,-999.000,9,  -999.0,9,  -999.0,9,     -999.0,9
06MT20091026,       A16C,      24,          1,     203412,          8,2,20091107,       0553,    -1.3324,   -22.9999,       4582,  1006.2,   4.5321,  34.5952,2,-999.0000,9,    160.1,2,   156.9,2,   28.27,2,    0.13,2,   36.23,2,    0.03,2,    2.28,2,   0.100,2,     0.6,4,  -999.0,9,  -999.0,9,       0.00,3
06MT20091026,       A16C,      24,          1,     203413,          9,2,20091107,       0557,    -1.3324,   -22.9999,       4582,   804.1,   4.7603,  34.5168,2,-999.0000,9,    154.8,2,   152.5,2,   27.49,2,    0.15,2,   37.38,2,    0.03,2,    2.34,2,   0.147,2,   0.284,4,  -999.0,9,  -999.0,9,       0.00,3
06MT20091026,       A16C,      24,          1,     203414,         10,2,20091107,       0600,    -1.3324,   -22.9999,       4582,   602.3,   6.1820,  34.5510,2,-999.0000,9,    148.5,2,   146.7,2,   19.90,2,    0.16,2,   35.58,2,    0.04,2,    2.19,2,   0.402,2,   0.216,4,  -999.0,9,  -999.0,9,       0.00,3
06MT20091026,       A16C,      24,          1,     203415,         11,2,20091107,       0604,    -1.3324,   -22.9999,       4582,   400.7,   7.9161,  34.6982,2,  34.6893,2,    121.6,2,   119.2,2,   15.50,2,     0.2,2,   34.43,2,    0.04,2,    1.99,2,-999.000,9,-999.000,9,  -999.0,9,  -999.0,9,     -999.0,9
06MT20091026,       A16C,      24,          1,     203416,         12,2,20091107,       0605,    -1.3324,   -22.9999,       4582,   300.4,  10.2643,  34.9453,2,-999.0000,9,     79.0,2,    79.3,2,   11.99,2,    0.19,2,   33.32,2,    0.04,2,    1.98,2,   0.658,2,   0.345,4,  -999.0,9,  -999.0,9,       0.00,3
06MT20091026,       A16C,      24,          1,     203417,         13,2,20091107,       0606,    -1.3324,   -22.9999,       4582,   250.2,  11.8573,  35.1496,2,-999.0000,9,     91.9,2,    89.5,2,   10.04,2,    0.23,2,   29.29,2,    0.05,2,    1.73,2,   0.777,2,   0.461,4,  -999.0,9,  -999.0,9,       0.00,3
06MT20091026,       A16C,      24,          1,     203418,         14,2,20091107,       0607,    -1.3324,   -22.9999,       4582,   200.4,  13.1249,  35.2979,2,-999.0000,9,     97.7,2,    97.5,2,    7.52,2,    0.22,2,   25.15,2,    0.05,2,    1.49,2,   0.476,3,   0.266,4,  -999.0,9,  -999.0,9,       0.00,3
06MT20091026,       A16C,      24,          1,      24015,         15,2,20091107,       0607,    -1.3324,   -22.9999,       4582,   193.1,  13.2497,  35.3253,2,-999.0000,9,     96.2,2,  -999.0,9, -999.00,9, -999.00,9, -999.00,9, -999.00,9, -999.00,9,-999.000,9,-999.000,9,  -999.0,9,  -999.0,9,     -999.0,9
06MT20091026,       A16C,      24,          1,      24016,         16,2,20091107,       0607,    -1.3324,   -22.9999,       4582,   190.3,  13.3169,  35.3312,2,-999.0000,9,     93.9,2,  -999.0,9, -999.00,9, -999.00,9, -999.00,9, -999.00,9, -999.00,9,-999.000,9,-999.000,9,  -999.0,9,  -999.0,9,     -999.0,9
06MT20091026,       A16C,      24,          1,     203419,         17,2,20091107,       0608,    -1.3324,   -22.9999,       4582,   150.0,  14.0129,  35.4247,2,-999.0000,9,     93.9,2,    93.7,2,    7.06,2,    0.31,2,   23.49,2,    0.07,2,    1.47,2,-999.000,9,-999.000,9,  -999.0,9,  -999.0,9,     -999.0,9
06MT20091026,       A16C,      24,          1,     203420,         18,2,20091107,       0609,    -1.3324,   -22.9999,       4582,    99.9,  17.6333,  35.8254,2,  35.6419,3,    133.8,2,   124.2,2,    4.93,2,     0.2,2,   16.55,2,    0.29,2,    1.10,2,   1.167,2,   1.416,4,  -999.0,9,  -999.0,9,       0.00,3
06MT20091026,       A16C,      24,          1,     203421,         19,2,20091107,       0609,    -1.3324,   -22.9999,       4582,    77.8,  24.7456,  36.1755,2,-999.0000,9,    178.7,2,   149.2,2,    3.71,2,    0.39,2,    9.06,2,    0.38,2,    0.67,2,   1.117,2,   1.358,4,  -999.0,9,  -999.0,9,       0.00,3
06MT20091026,       A16C,      24,          1,     203422,         20,2,20091107,       0609,    -1.3324,   -22.9999,       4582,    60.1,  26.1515,  36.1844,2,  36.0287,3,   -999.0,9,   177.4,2,    1.94,6,    0.39,6,    4.53,6,    0.18,6,    0.37,6,   1.087,2,   1.684,4,  -999.0,9,  -999.0,9,       0.00,3
06MT20091026,       A16C,      24,          1,     203423,         21,2,20091107,       0610,    -1.3324,   -22.9999,       4582,    40.0,  26.1813,  36.1913,2,-999.0000,9,   -999.0,9,   200.2,2,    1.44,2,    0.42,2,    0.32,2,    0.07,2,    0.10,2,   0.985,2,   1.048,4,  -999.0,9,  -999.0,9,       0.00,3
06MT20091026,       A16C,      24,          1,     203424,         22,2,20091107,       0611,    -1.3324,   -22.9999,       4582,    20.4,  26.2314,  36.1945,2,-999.0000,9,   -999.0,9,   205.2,2,    1.10,2,    0.44,2,    0.00,2,    0.03,2,    0.07,2,   0.999,2,   1.176,4,  -999.0,9,  -999.0,9,       0.00,3
06MT20091026,       A16C,      24,          1,     203425,         23,2,20091107,       0611,    -1.3324,   -22.9999,       4582,    10.1,  26.2314,  36.1933,2,-999.0000,9,   -999.0,9,   204.3,2,    0.59,2,    0.37,2,    0.12,2,    0.00,2,    0.08,2,-999.000,9,-999.000,9,  -999.0,9,  -999.0,9,     -999.0,9
06MT20091026,       A16C,      24,          1,     203426,         24,2,20091107,       0611,    -1.3324,   -22.9999,       4582,     4.8,  26.2384,  36.1865,2,  36.1870,2,   -999.0,9,   205.2,2,    0.00,2,    0.06,2,    0.35,2,    0.01,2,    0.06,2,-999.000,9,-999.000,9,  -999.0,9,  -999.0,9,     -999.0,9