BOTTLE,20211119CCHSIORKP
EXPOCODE,SECT_ID,STNNBR,CASTNO,SAMPNO,BTLNBR,BTLNBR_FLAG_W,DATE,TIME,LATITUDE,LONGITUDE,DEPTH,CTDPRS,CTDTMP,CTDSAL,CTDSAL_FLAG_W,SALNTY,SALNTY_FLAG_W,CTDOXY,CTDOXY_FLAG_W,OXYGEN,OXYGEN_FLAG_W,SILCAT,SILCAT_FLAG_W,NH4,NH4_FLAG_W,NITRAT,NITRAT_FLAG_W,NITRIT,NITRIT_FLAG_W,PHSPHT,PHSPHT_FLAG_W,CFC-12,CFC-12_FLAG_W,SF6,SF6_FLAG_W,TCARBN,TCARBN_FLAG_W,ALKALI,ALKALI_FLAG_W,SF5CF3,SF5CF3_FLAG_W
,,,,,,,,,,,METERS,DBAR,ITS-90,PSS-78,,PSS-78,,UMOL/KG,,UMOL/KG,,UMOL/KG,,UMOL/KG,,UMOL/KG,,UMOL/KG,,UMOL/KG,,PMOL/KG,,FMOL/KG,,UMOL/KG,,UMOL/KG,,FMOL/KG,
06MT20091026,       A16C,      29,          1,     203515,          1,2,20091108,       0826,    -2.9998,   -23.0002,       5128,  4572.1,   0.9516,  34.7428,2,  34.7442,2,    230.0,2,   227.1,2,   80.53,2,    0.02,2,   30.96,2,    0.01,2,    1.98,2,-999.000,9,-999.000,9,  2249.7,2,  2374.0,2,     -999.0,9
06MT20091026,       A16C,      29,          1,     203516,          2,2,20091108,       0841,    -2.9998,   -23.0002,       5128,  3800.9,   2.4157,  34.9050,2,-999.0000,9,    260.6,2,   261.5,2,   28.04,2,       0,2,   20.61,2,    0.01,2,    1.32,2,-999.000,9,-999.000,9,  2177.6,2,  2334.3,2,     -999.0,9
06MT20091026,       A16C,      29,          1,     203517,          3,2,20091108,       0856,    -2.9998,   -23.0002,       5128,  3036.3,   2.6761,  34.9114,2,-999.0000,9,    244.0,2,   244.4,2,   33.43,2,    0.04,2,   22.86,2,    0.01,2,    1.39,2,-999.000,9,-999.000,9,  2189.2,2,  2341.5,2,     -999.0,9
06MT20091026,       A16C,      29,          1,     203518,          4,2,20091108,       0906,    -2.9998,   -23.0002,       5128,  2526.5,   2.9837,  34.9319,2,  34.9308,2,    244.8,2,   246.1,2,   27.72,2,    0.05,2,   22.15,2,    0.01,2,    1.26,2,   0.037,2,   0.089,4,  2181.0,2,  2337.2,2,       0.00,3
06MT20091026,       A16C,      29,          1,     203519,          5,2,20091108,       0917,    -2.9998,   -23.0002,       5128,  2017.4,   3.4564,  34.9637,2,-999.0000,9,   -999.0,9,   251.4,2,   18.39,6,    0.02,6,   20.79,6,    0.01,6,    1.30,6,   0.182,2,     0.9,4,  2168.6,2,  2323.2,2,       0.00,3
06MT20091026,       A16C,      29,          1,     203520,          6,2,20091108,       0927,    -2.9998,   -23.0002,       5128,  1512.6,   4.1615,  34.9606,2,  34.9582,2,   -999.0,9,   226.2,2,   16.44,2,    0.05,2,   23.67,2,    0.01,2,    1.49,2,   0.125,2,   0.368,4,  2178.4,2,  2322.5,2,       0.00,3
06MT20091026,       A16C,      29,          1,     203521,          7,2,20091108,       0932,    -2.9998,   -23.0002,       5128,  1259.6,   4.5450,  34.8392,2,-999.0000,9,   -999.0,9,   187.7,2,   20.85,2,    0.08,2,   29.20,2,    0.01,2,    1.73,2,-999.000,9,-999.000,9,  2200.0,2,  2321.2,2,     -999.0,9
06MT20091026,       A16C,      29,          1,     203522,          8,2,20091108,       0937,    -2.9998,   -23.0002,       5128,  1006.5,   4.3965,  34.6036,2,-999.0000,9,    159.1,2,   159.4,2,   29.72,2,    0.07,2,   35.36,2,    0.00,2,    2.29,2,   0.044,2,   0.232,4,  2220.4,2,  2313.0,2,       0.00,3
06MT20091026,       A16C,      29,          1,     203523,          9,2,20091108,       0942,    -2.9998,   -23.0002,       5128,   805.2,   4.7038,  34.4979,2,  34.4960,2,    151.6,2,   152.0,2,   27.39,2,    0.08,2,   36.99,2,    0.01,2,    2.40,2,-999.000,9,-999.000,9,  2221.7,2,  2305.2,2,     -999.0,9
06MT20091026,       A16C,      29,          1,     203524,         10,2,20091108,       0947,    -2.9998,   -23.0002,       5128,   603.5,   5.9397,  34.5319,2,-999.0000,9,    134.3,2,   134.5,2,   21.14,2,    0.06,2,   36.67,2,    0.00,2,    2.34,2,   0.294,2,   0.116,4,  2218.8,2,  2302.6,2,       0.00,3
06MT20091026,       A16C,      29,          1,     203525,         11,2,20091108,       0950,    -2.9998,   -23.0002,       5128,   401.2,   9.1420,  34.8348,2,-999.0000,9,     69.6,2,    69.6,2,   13.76,2,    0.06,2,   36.42,2,    0.01,2,    2.10,2,   0.512,2,   0.934,4,  2237.5,3,  2303.7,2,       0.00,3
06MT20091026,       A16C,      29,          1,     203526,         12,2,20091108,       0952,    -2.9998,   -23.0002,       5128,   301.1,  11.0800,  35.0449,2,-999.0000,9,     93.1,2,    89.9,2,   10.11,2,    0.08,2,   29.73,2,    0.01,2,    1.80,2,   0.782,2,   0.761,4,  2213.3,2,  2315.2,2,       0.00,3
06MT20091026,       A16C,      29,          1,     203527,         13,2,20091108,       0954,    -2.9998,   -23.0002,       5128,   250.5,  12.2875,  35.1937,2,-999.0000,9,     96.7,2,    95.6,2,    8.32,2,    0.09,2,   26.50,2,    0.01,2,    1.63,2,   0.911,2,   0.876,4,  2203.9,2,  2317.8,2,       0.00,3
06MT20091026,       A16C,      29,          1,     203528,         14,2,20091108,       0955,    -2.9998,   -23.0002,       5128,   198.9,  12.8891,  35.2491,2,-999.0000,9,    150.0,2,   152.3,2,    6.23,2,    0.09,2,   18.58,2,    0.01,2,    1.21,2,   1.168,2,   1.149,4,  2163.6,2,  2474.6,3,       0.00,3
06MT20091026,       A16C,      29,          1,      29015,         15,2,20091108,       0955,    -2.9998,   -23.0002,       5128,   175.0,  13.0678,  35.2768,2,-999.0000,9,    149.4,2,  -999.0,9, -999.00,9, -999.00,9, -999.00,9, -999.00,9, -999.00,9,-999.000,9,-999.000,9,  -999.0,9,  -999.0,9,     -999.0,9
06MT20091026,       A16C,      29,          1,      29016,         16,2,20091108,       0955,    -2.9998,   -23.0002,       5128,   172.8,  13.0868,  35.2814,2,-999.0000,9,    149.2,2,  -999.0,9, -999.00,9, -999.00,9, -999.00,9, -999.00,9, -999.00,9,-999.000,9,-999.000,9,  -999.0,9,  -999.0,9,     -999.0,9
06MT20091026,       A16C,      29,          1,     203529,         17,2,20091108,       0956,    -2.9998,   -23.0002,       5128,   149.5,  13.1474,  35.2898,2,-999.0000,9,    144.4,2,   148.6,2,    5.68,2,    0.07,2,   18.54,2,    0.01,2,    1.21,2,   1.163,2,   0.952,4,  2164.7,2,  2329.8,2,       0.00,3
06MT20091026,       A16C,      29,          1,     203530,         18,2,20091108,       0956,    -2.9998,   -23.0002,       5128,    99.4,  14.1499,  35.4486,2,-999.0000,9,    143.6,2,   144.8,2,    5.19,2,    0.07,2,   17.53,2,    0.04,2,    1.09,2,   1.168,2,   1.089,4,  2164.6,2,  2327.8,2,       0.00,3
06MT20091026,       A16C,      29,          1,     203531,         19,2,20091108,       0957,    -2.9998,   -23.0002,       5128,    80.7,  14.6889,  35.5234,2,-999.0000,9,    143.5,2,   143.7,2,    4.66,6,    0.08,6,   15.54,6,    0.15,6,    1.05,6,   1.164,2,   1.213,4,  2161.0,2,  2340.6,2,       0.00,3
06MT20091026,       A16C,      29,          1,     203532,         20,2,20091108,       0958,    -2.9998,   -23.0002,       5128,    50.1,  21.5275,  36.1588,2,-999.0000,9,    157.6,2,   146.9,2,    2.41,2,    0.14,2,    9.97,2,    0.22,2,    0.72,2,-999.000,9,-999.000,9,  2148.7,2,  2362.7,2,     -999.0,9
06MT20091026,       A16C,      29,          1,     203533,         21,2,20091108,       0958,    -2.9998,   -23.0002,       5128,    41.0,  23.1955,  37.0413,2,-999.0000,9,    179.0,2,   170.1,2,    2.31,2,    0.12,2,    4.23,2,    0.15,2,    0.43,2,   1.089,2,   1.317,4,  2117.7,2,  2372.0,2,       0.00,3
06MT20091026,       A16C,      29,          1,     203534,         22,2,20091108,       0959,    -2.9998,   -23.0002,       5128,    20.0,  26.3856,  36.3073,2,-999.0000,9,   -999.0,9,   201.8,2,    0.02,2,    0.11,2,    0.01,2,    0.00,2,    0.05,2,   1.025,2,   1.504,4,  2058.3,2,  2384.8,2,       0.00,3
06MT20091026,       A16C,      29,          1,     203535,         23,2,20091108,       0959,    -2.9998,   -23.0002,       5128,     9.3,  26.3844,  36.3088,2,  36.3091,2,   -999.0,9,   202.2,2,    0.02,2,     0.1,2,    0.00,2,    0.00,2,    0.06,2,   1.024,2,   1.714,4,  2056.3,2,  2383.4,2,       0.00,3
06MT20091026,       A16C,      29,          1,     203536,         24,2,20091108,       1000,    -2.9998,   -23.0002,       5128,     7.2,  26.3872,  36.3102,2,-999.0000,9,   -999.0,9,   202.5,2,    0.00,2,    0.12,2,    0.14,2,    0.00,2,    0.05,2,-999.000,9,-999.000,9,  2055.5,2,  2385.2,2,     -999.0,9
06MT20091026,       A16C,      30,          1,     203537,          1,2,20091108,       1444,    -3.4998,   -23.0003,       5473,  4570.4,   0.9433,-999.0000,9,  34.7390,2,   -999.0,9,   229.1,2, -999.00,9, -999.00,9, -999.00,9, -999.00,9, -999.00,9,-999.000,9,-999.000,9,  -999.0,9,  -999.0,9,     -999.0,9
06MT20091026,       A16C,      30,          1,     203538,          2,2,20091108,       1500,    -3.4998,   -23.0003,       5473,  3801.1,   2.2760,-999.0000,9,  34.8964,2,   -999.0,9,   259.5,2, -999.00,9, -999.00,9, -999.00,9, -999.00,9, -999.00,9,-999.000,9,-999.000,9,  -999.0,9,  -999.0,9,     -999.0,9
06MT20091026,       A16C,      30,          1,     203539,          3,2,20091108,       1516,    -3.4998,   -23.0003,       5473,  3034.1,   2.6568,-999.0000,9,-999.0000,9,   -999.0,9,   247.4,2, -999.00,9, -999.00,9, -999.00,9, -999.00,9, -999.00,9,-999.000,9,-999.000,9,  -999.0,9,  -999.0,9,     -999.0,9
06MT20091026,       A16C,      30,          1,     203540,          4,2,20091108,       1526,    -3.4998,   -23.0003,       5473,  2500.8,   2.9145,-999.0000,9,-999.0000,9,   -999.0,9,   244.6,2, -999.00,9, -999.00,9, -999.00,9, -999.00,9, -999.00,9,-999.000,9,-999.000,9,  -999.0,9,  -999.0,9,     -999.0,9
06MT20091026,       A16C,      30,          1,     203541,          5,2,20091108,       1535,    -3.4998,   -23.0003,       5473,  2017.3,   3.5238,  34.9639,2,  34.9691,2,   -999.0,9,   254.5,2,   14.39,2,    0.07,2,   16.86,2,    0.02,2,    1.07,2,-999.000,9,-999.000,9,  -999.0,9,  -999.0,9,     -999.0,9
06MT20091026,       A16C,      30,          1,     203542,          6,2,20091108,       1545,    -3.4998,   -23.0003,       5473,  1511.4,   4.2872,  34.9588,2,-999.0000,9,    228.2,2,   228.2,2,   11.69,2,    0.17,2,   16.42,2,    0.00,2,    1.18,2,-999.000,9,-999.000,9,  -999.0,9,  -999.0,9,     -999.0,9
06MT20091026,       A16C,      30,          1,     203543,          7,2,20091108,       1550,    -3.4998,   -23.0003,       5473,  1259.9,   4.4963,  34.8132,2,-999.0000,9,    185.2,2,   184.7,2,   17.09,6,    0.16,6,   21.63,6,    0.00,6,    1.55,6,-999.000,9,-999.000,9,  -999.0,9,  -999.0,9,     -999.0,9
06MT20091026,       A16C,      30,          1,     203544,          8,2,20091108,       1555,    -3.4998,   -23.0003,       5473,  1006.6,   4.3748,  34.5900,2,  34.6034,2,    160.2,2,   160.4,2,   21.75,2,    0.06,2,   26.03,2,    0.01,2,    1.91,2,-999.000,9,-999.000,9,  -999.0,9,  -999.0,9,     -999.0,9
06MT20091026,       A16C,      30,          1,     203545,          9,2,20091108,       1559,    -3.4998,   -23.0003,       5473,   804.1,   4.6902,  34.4929,2,-999.0000,9,    150.0,2,   149.5,2,   19.76,2,    0.24,2,   26.09,2,    0.02,2,    1.91,2,-999.000,9,-999.000,9,  -999.0,9,  -999.0,9,     -999.0,9
06MT20091026,       A16C,      30,          1,     203546,         10,2,20091108,       1604,    -3.4998,   -23.0003,       5473,   601.6,   5.6947,  34.5060,2,-999.0000,9,    139.6,2,   139.6,2,   18.86,2,    0.04,2,   30.21,2,    0.00,2,    2.07,2,-999.000,9,-999.000,9,  -999.0,9,  -999.0,9,     -999.0,9
06MT20091026,       A16C,      30,          1,     203547,         11,2,20091108,       1607,    -3.4998,   -23.0003,       5473,   401.7,   9.2425,  34.8279,2,-999.0000,9,     99.9,2,    84.7,2,   11.92,2,    0.12,2,   28.72,2,    0.01,2,    1.89,2,-999.000,9,-999.000,9,  -999.0,9,  -999.0,9,     -999.0,9
06MT20091026,       A16C,      30,          1,     203548,         12,2,20091108,       1609,    -3.4998,   -23.0003,       5473,   300.7,  10.9747,  35.0246,2,-999.0000,9,     85.3,2,    85.3,2,    8.85,2,    0.08,2,   24.73,2,    0.01,2,    1.64,2,-999.000,9,-999.000,9,  -999.0,9,  -999.0,9,     -999.0,9
06MT20091026,       A16C,      30,          1,     203549,         13,2,20091108,       1610,    -3.4998,   -23.0003,       5473,   250.5,  12.1583,  35.1645,2,-999.0000,9,     95.5,2,    93.1,2,    6.38,2,    0.06,2,   19.94,2,    0.01,2,    1.38,2,-999.000,9,-999.000,9,  -999.0,9,  -999.0,9,     -999.0,9
06MT20091026,       A16C,      30,          1,     203550,         14,2,20091108,       1611,    -3.4998,   -23.0003,       5473,   199.0,  12.8880,  35.2470,2,-999.0000,9,    147.8,2,   143.2,2,    4.99,2,    0.13,2,   14.27,2,    0.02,2,    1.03,2,-999.000,9,-999.000,9,  -999.0,9,  -999.0,9,     -999.0,9
06MT20091026,       A16C,      30,          1,      30015,         15,2,20091108,       1611,    -3.4998,   -23.0003,       5473,   196.8,  12.8895,  35.2483,2,-999.0000,9,    147.4,2,  -999.0,9, -999.00,9, -999.00,9, -999.00,9, -999.00,9, -999.00,9,-999.000,9,-999.000,9,  -999.0,9,  -999.0,9,     -999.0,9
06MT20091026,       A16C,      30,          1,      30016,         16,2,20091108,       1611,    -3.4998,   -23.0003,       5473,   195.3,  12.8831,  35.2484,2,-999.0000,9,    147.2,2,  -999.0,9, -999.00,9, -999.00,9, -999.00,9, -999.00,9, -999.00,9,-999.000,9,-999.000,9,  -999.0,9,  -999.0,9,     -999.0,9
06MT20091026,       A16C,      30,          1,     203551,         17,2,20091108,       1612,    -3.4998,   -23.0003,       5473,   149.2,  13.4970,  35.3241,2,-999.0000,9,    164.4,2,   145.1,2,    5.46,2,       0,2,   17.07,2,    0.02,2,    1.14,2,-999.000,9,-999.000,9,  -999.0,9,  -999.0,9,     -999.0,9
06MT20091026,       A16C,      30,          1,     203552,         18,2,20091108,       1613,    -3.4998,   -23.0003,       5473,   101.8,  14.4958,  35.4860,2,-999.0000,9,    148.6,2,   146.8,2,    4.18,6,    0.04,6,   14.36,6,    0.06,6,    0.98,6,-999.000,9,-999.000,9,  -999.0,9,  -999.0,9,     -999.0,9
06MT20091026,       A16C,      30,          1,     203553,         19,2,20091108,       1614,    -3.4998,   -23.0003,       5473,    80.8,  20.1745,  36.0844,2,-999.0000,9,    150.5,2,   150.5,2,    1.80,2,    0.03,2,    7.07,2,    0.34,2,    0.59,2,-999.000,9,-999.000,9,  -999.0,9,  -999.0,9,     -999.0,9
06MT20091026,       A16C,      30,          1,     203554,         20,2,20091108,       1615,    -3.4998,   -23.0003,       5473,    50.4,  25.7673,  36.0829,2,-999.0000,9,   -999.0,9,   207.3,2,    0.53,2,    0.06,2,    0.00,2,    0.00,2,    0.09,2,-999.000,9,-999.000,9,  -999.0,9,  -999.0,9,     -999.0,9
06MT20091026,       A16C,      30,          1,     203555,         21,2,20091108,       1616,    -3.4998,   -23.0003,       5473,    41.3,  25.8138,  36.0623,2,-999.0000,9,   -999.0,9,   209.1,2,    0.23,2,    0.01,2,    0.00,2,    0.00,2,    0.08,2,-999.000,9,-999.000,9,  -999.0,9,  -999.0,9,     -999.0,9
06MT20091026,       A16C,      30,          1,     203556,         22,2,20091108,       1616,    -3.4998,   -23.0003,       5473,    19.5,  25.8467,  36.0613,2,-999.0000,9,   -999.0,9,   212.4,2,    0.83,2,    0.01,2,    0.07,2,    0.00,2,    0.08,2,-999.000,9,-999.000,9,  -999.0,9,  -999.0,9,     -999.0,9
06MT20091026,       A16C,      30,          1,     203557,         23,2,20091108,       1617,    -3.4998,   -23.0003,       5473,    11.0,  25.9770,  36.0579,2,-999.0000,9,   -999.0,9,   209.5,2,    0.00,2,    0.02,2,    0.22,2,    0.01,2,    0.08,2,-999.000,9,-999.000,9,  -999.0,9,  -999.0,9,     -999.0,9
06MT20091026,       A16C,      30,          1,     203558,         24,2,20091108,       1617,    -3.4998,   -23.0003,       5473,     6.4,  25.9735,  36.0579,2,  36.0579,2,   -999.0,9,   211.3,2,    0.00,2,    0.02,2,    0.00,2,    0.00,2,    0.09,2,-999.000,9,-999.000,9,  -999.0,9,  -999.0,9,     -999.0,9