BOTTLE,20211119CCHSIORKP
EXPOCODE,SECT_ID,STNNBR,CASTNO,SAMPNO,BTLNBR,BTLNBR_FLAG_W,DATE,TIME,LATITUDE,LONGITUDE,DEPTH,CTDPRS,CTDTMP,CTDSAL,CTDSAL_FLAG_W,SALNTY,SALNTY_FLAG_W,CTDOXY,CTDOXY_FLAG_W,OXYGEN,OXYGEN_FLAG_W,SILCAT,SILCAT_FLAG_W,NITRAT,NITRAT_FLAG_W,NITRIT,NITRIT_FLAG_W,PHSPHT,PHSPHT_FLAG_W,CFC-11,CFC-11_FLAG_W,CFC-12,CFC-12_FLAG_W,TCARBN,TCARBN_FLAG_W,ALKALI,ALKALI_FLAG_W,TRITUM,TRITUM_FLAG_W,HELIUM,HELIUM_FLAG_W,DELHE3,DELHE3_FLAG_W,DELC13,DELC13_FLAG_W,DELC14,DELC14_FLAG_W,C14ERR,NEON,NEON_FLAG_W,NEONER,CTDRAW,TRITER,THETA,HELIER,DELHER
,,,,,,,,,,,METERS,DBAR,ITS-90,PSS-78,,PSS-78,,UMOL/KG,,UMOL/KG,,UMOL/KG,,UMOL/KG,,UMOL/KG,,UMOL/KG,,PMOL/KG,,PMOL/KG,,UMOL/KG,,UMOL/KG,,TU,,NMOL/KG,,PERCNT,,/MILLE,,/MILLE,,/MILLE,NMOL/KG,,NMOL/KG,DBAR,TU,DEG C,NMOL/KG,PERCNT
 316N145_11,       I01W,     948,          1,         30,     SIH030,2,19950924,       1809,     8.5000,    72.7833,       2190,     4.1,  28.3910,  35.8935,2,  35.8935,2,    202.5,2,   212.1,2,    2.76,2,    0.12,2,    0.00,2,    0.13,2,   1.626,2,   0.952,2,  1967.9,2,  2344.0,2,-999.0000,9,-999.0000,9, -999.00,9, -999.00,9,  -999.0,9,    -9.0,-999.000,9,-999.000,      35,-999.0000,  28.3900,-999.0000, -999.00
 316N145_11,       I01W,     948,          1,         29,     SIH031,2,19950924,       1809,     8.5000,    72.7833,       2190,    14.1,  28.3954,  35.8920,2,  35.8975,2,    210.8,2,   210.0,2,    2.59,2,    0.12,2,    0.00,2,    0.13,2,-999.000,9,-999.000,9,  1967.9,2,  2341.2,2,-999.0000,9,-999.0000,9, -999.00,9, -999.00,9,  -999.0,9,    -9.0,-999.000,9,-999.000,     134,-999.0000,  28.3921,-999.0000, -999.00
 316N145_11,       I01W,     948,          1,         28,     SIH032,2,19950924,       1809,     8.5000,    72.7833,       2190,    44.4,  27.2640,  36.3311,2,  36.3091,2,    168.5,2,   154.1,2,    4.61,2,    4.60,2,    0.36,2,    0.59,2,-999.000,9,-999.000,9,  2053.6,2,  2369.5,2,-999.0000,9,-999.0000,9, -999.00,9, -999.00,9,  -999.0,9,    -9.0,-999.000,9,-999.000,     437,-999.0000,  27.2537,-999.0000, -999.00
 316N145_11,       I01W,     948,          1,         27,     SIH033,2,19950924,       1809,     8.5000,    72.7833,       2190,    74.1,  21.7189,  35.5409,2,  35.4900,2,     19.3,2,    34.3,2,   15.61,2,   22.65,2,    0.05,2,    1.69,2,-999.000,9,-999.000,9,  2159.0,2,  2324.5,2,-999.0000,9,-999.0000,9, -999.00,9, -999.00,9,  -999.0,9,    -9.0,-999.000,9,-999.000,     734,-999.0000,  21.7044,-999.0000, -999.00
 316N145_11,       I01W,     948,          1,         26,     SIH037,2,19950924,       1809,     8.5000,    72.7833,       2190,   104.1,  17.2509,  35.0274,2,  35.0167,2,     14.7,2,    14.8,2,   24.98,2,   28.04,2,    0.01,2,    2.02,2,   0.714,2,   0.380,2,  2193.6,2,  2305.7,2,-999.0000,9,-999.0000,9, -999.00,9, -999.00,9,  -999.0,9,    -9.0,-999.000,9,-999.000,    1034,-999.0000,  17.2336,-999.0000, -999.00
 316N145_11,       I01W,     948,          1,         25,     SI9446,2,19950924,       1809,     8.5000,    72.7833,       2190,   134.1,  15.7859,  35.0696,2,  35.0681,2,     13.6,2,    16.5,2,   26.64,2,   28.90,2,    0.01,2,    2.09,2,-999.000,9,-999.000,9,  2208.5,2,  2312.1,2,-999.0000,9,-999.0000,9, -999.00,9, -999.00,9,  -999.0,9,    -9.0,-999.000,9,-999.000,    1335,-999.0000,  15.7649,-999.0000, -999.00
 316N145_11,       I01W,     948,          1,         24,     SIH036,2,19950924,       1809,     8.5000,    72.7833,       2190,   164.0,  14.4711,  35.0955,2,  35.0941,2,     20.7,2,    20.5,2,   27.75,2,   29.50,2,    0.01,2,    2.13,2,   0.535,2,   0.276,2,  2220.5,2,  2316.2,2,-999.0000,9,-999.0000,9, -999.00,9, -999.00,9,  -999.0,9,    -9.0,-999.000,9,-999.000,    1634,-999.0000,  14.4468,-999.0000, -999.00
 316N145_11,       I01W,     948,          1,         23,     SIH001,3,19950924,       1809,     8.5000,    72.7833,       2190,   198.8,  13.7421,  35.1463,3,  35.1492,2,     23.4,2,    26.8,2,   26.84,2,   29.29,2,    0.00,2,    2.11,2,-999.000,9,-999.000,9,  2224.1,2,  2319.4,2,-999.0000,9,-999.0000,9, -999.00,9, -999.00,9,  -999.0,9,    -9.0,-999.000,9,-999.000,    1981,-999.0000,  13.7137,-999.0000, -999.00
 316N145_11,       I01W,     948,          1,         22,     SIH019,2,19950924,       1809,     8.5000,    72.7833,       2190,   223.8,  13.1728,  35.1671,2,  35.1536,2,     28.9,2,    28.5,2,   27.58,2,   29.67,2,    0.00,2,    2.14,2,   0.461,2,   0.240,2,  2228.8,2,  2329.1,2,-999.0000,9,-999.0000,9, -999.00,9, -999.00,9,  -999.0,9,    -9.0,-999.000,9,-999.000,    2232,-999.0000,  13.1417,-999.0000, -999.00
 316N145_11,       I01W,     948,          1,         21,     SIH025,2,19950924,       1809,     8.5000,    72.7833,       2190,   274.3,  12.3610,  35.1619,2,  35.1610,2,     36.8,2,    37.6,2,   28.15,2,   29.71,2,    0.01,2,    2.12,2,-999.000,9,-999.000,9,  2230.4,2,  2320.8,2,-999.0000,9,-999.0000,9, -999.00,9, -999.00,9,  -999.0,9,    -9.0,-999.000,9,-999.000,    2737,-999.0000,  12.3244,-999.0000, -999.00
 316N145_11,       I01W,     948,          1,         20,     SIH004,2,19950924,       1809,     8.5000,    72.7833,       2190,   344.4,  11.6939,  35.1606,2,  35.1610,2,     30.8,2,    28.7,2,   32.39,2,   31.56,2,    0.01,2,    2.25,2,   0.276,2,   0.141,2,  2244.4,2,  2322.3,2,-999.0000,9,-999.0000,9, -999.00,9, -999.00,9,  -999.0,9,    -9.0,-999.000,9,-999.000,    3438,-999.0000,  11.6494,-999.0000, -999.00
 316N145_11,       I01W,     948,          1,         19,     SIH005,2,19950924,       1809,     8.5000,    72.7833,       2190,   449.8,  10.9859,  35.1433,2,  35.1425,2,     34.2,2,    33.9,2,   36.26,2,   32.33,2,    0.00,2,    2.30,2,-999.000,9,-999.000,9,  -999.0,9,  -999.0,9,-999.0000,9,-999.0000,9, -999.00,9, -999.00,9,  -999.0,9,    -9.0,-999.000,9,-999.000,    4493,-999.0000,  10.9297,-999.0000, -999.00
 316N145_11,       I01W,     948,          1,         18,     SIH006,2,19950924,       1809,     8.5000,    72.7833,       2190,   549.8,  10.5248,  35.1957,2,  35.1937,2,     21.2,2,    21.0,2,   44.18,2,   33.91,2,    0.00,2,    2.50,2,   0.076,2,   0.036,2,  2265.8,2,  2334.8,2,-999.0000,9,-999.0000,9, -999.00,9, -999.00,9,  -999.0,9,    -9.0,-999.000,9,-999.000,    5493,-999.0000,  10.4576,-999.0000, -999.00
 316N145_11,       I01W,     948,          1,         17,     SIH038,2,19950924,       1809,     8.5000,    72.7833,       2190,   645.5,   9.8848,  35.1933,2,  35.1908,2,     18.3,2,    16.8,2,   53.40,2,   35.00,2,    0.00,2,    2.63,2,-999.000,9,-999.000,9,  -999.0,9,  -999.0,9,-999.0000,9,-999.0000,9, -999.00,9, -999.00,9,  -999.0,9,    -9.0,-999.000,9,-999.000,    6450,-999.0000,   9.8085,-999.0000, -999.00
 316N145_11,       I01W,     948,          1,         16,     SIH008,2,19950924,       1809,     8.5000,    72.7833,       2190,   746.1,   9.1079,  35.1592,2,  35.1587,2,     19.7,2,    19.4,2,   62.43,2,   35.98,2,    0.00,2,    2.70,2,   0.014,2,   0.006,2,  2288.2,2,  2359.1,2,-999.0000,9,-999.0000,9, -999.00,9, -999.00,9,  -999.0,9,    -9.0,-999.000,9,-999.000,    7457,-999.0000,   9.0235,-999.0000, -999.00
 316N145_11,       I01W,     948,          1,         15,     SIH009,2,19950924,       1809,     8.5000,    72.7833,       2190,   847.1,   8.6557,  35.1570,2,  35.1532,2,     23.6,2,    21.5,2,   69.09,2,   36.46,2,    0.00,2,    2.74,2,-999.000,9,-999.000,9,  -999.0,9,  -999.0,9,-999.0000,9,-999.0000,9, -999.00,9, -999.00,9,  -999.0,9,    -9.0,-999.000,9,-999.000,    8468,-999.0000,   8.5621,-999.0000, -999.00
 316N145_11,       I01W,     948,          1,         14,     SIH010,2,19950924,       1809,     8.5000,    72.7833,       2190,   946.4,   7.6956,  35.0925,2,  35.0955,2,     30.7,2,    29.4,2,   78.87,2,   37.17,2,    0.00,2,    2.78,2,   0.003,2,   0.000,2,  2303.4,2,  2366.4,2,-999.0000,9,-999.0000,9, -999.00,9, -999.00,9,  -999.0,9,    -9.0,-999.000,9,-999.000,    9461,-999.0000,   7.5972,-999.0000, -999.00
 316N145_11,       I01W,     948,          1,         13,     SIH011,3,19950924,       1809,     8.5000,    72.7833,       2190,  1047.7,   7.0376,  35.0406,3,  35.0384,2,     38.2,2,    37.5,2,   85.35,2,   37.44,2,    0.00,2,    2.78,2,   0.007,2,   0.000,2,  -999.0,9,  -999.0,9,-999.0000,9,-999.0000,9, -999.00,9, -999.00,9,  -999.0,9,    -9.0,-999.000,9,-999.000,   10474,-999.0000,   6.9331,-999.0000, -999.00
 316N145_11,       I01W,     948,          1,         12,     SIH012,2,19950924,       1809,     8.5000,    72.7833,       2190,  1148.5,   6.4212,  35.0022,2,  35.0024,2,     46.2,2,    44.3,2,   91.84,2,   37.66,2,    0.00,2,    2.79,2,-999.000,9,-999.000,9,  -999.0,9,  -999.0,9,-999.0000,9,-999.0000,9, -999.00,9, -999.00,9,  -999.0,9,    -9.0,-999.000,9,-999.000,   11483,-999.0000,   6.3112,-999.0000, -999.00
 316N145_11,       I01W,     948,          1,         11,     SI9426,2,19950924,       1809,     8.5000,    72.7833,       2190,  1248.7,   5.8358,  34.9612,2,  34.9601,2,     54.6,2,    54.9,2,   97.96,2,   37.60,2,    0.00,2,    2.78,2,-999.000,9,-999.000,9,  2317.0,2,  2386.1,2,-999.0000,9,-999.0000,9, -999.00,9, -999.00,9,  -999.0,9,    -9.0,-999.000,9,-999.000,   12485,-999.0000,   5.7208,-999.0000, -999.00
 316N145_11,       I01W,     948,          1,         10,     SIH014,2,19950924,       1809,     8.5000,    72.7833,       2190,  1344.2,   5.3097,  34.9262,2,  34.9233,2,     63.8,2,    63.5,2,  103.71,2,   37.56,2,    0.00,2,    2.76,2,  -0.003,2,  -0.002,2,  -999.0,9,  -999.0,9,-999.0000,9,-999.0000,9, -999.00,9, -999.00,9,  -999.0,9,    -9.0,-999.000,9,-999.000,   13441,-999.0000,   5.1905,-999.0000, -999.00
 316N145_11,       I01W,     948,          1,          9,     SIH015,2,19950924,       1809,     8.5000,    72.7833,       2190,  1445.2,   4.7303,  34.8955,2,  34.8953,2,     74.2,2,    72.7,2,  110.21,2,   37.39,2,    0.00,2,    2.75,2,-999.000,9,-999.000,9,  -999.0,9,  -999.0,9,-999.0000,9,-999.0000,9, -999.00,9, -999.00,9,  -999.0,9,    -9.0,-999.000,9,-999.000,   14451,-999.0000,   4.6073,-999.0000, -999.00
 316N145_11,       I01W,     948,          1,          8,     SIH016,3,19950924,       1809,     8.5000,    72.7833,       2190,  1546.6,   4.0326,  34.8612,3,  34.8595,2,     88.0,2,    87.3,2,  117.08,2,   36.95,2,    0.00,2,    2.70,2,  -0.001,2,   0.000,2,  2325.0,2,  2416.2,3,-999.0000,9,-999.0000,9, -999.00,9, -999.00,9,  -999.0,9,    -9.0,-999.000,9,-999.000,   15466,-999.0000,   3.9081,-999.0000, -999.00
 316N145_11,       I01W,     948,          1,          7,     SIH017,2,19950924,       1809,     8.5000,    72.7833,       2190,  1648.1,   3.7197,  34.8432,2,  34.8440,2,     94.1,2,    94.6,2,  120.45,2,   36.78,2,    0.01,2,    2.67,2,-999.000,9,-999.000,9,  -999.0,9,  -999.0,9,-999.0000,9,-999.0000,9, -999.00,9, -999.00,9,  -999.0,9,    -9.0,-999.000,9,-999.000,   16481,-999.0000,   3.5896,-999.0000, -999.00
 316N145_11,       I01W,     948,          1,          6,     SIH018,2,19950924,       1809,     8.5000,    72.7833,       2190,  1747.8,   3.3789,  34.8267,2,  34.8263,2,    101.8,2,   102.6,2,  124.37,2,   36.57,2,    0.00,2,    2.65,2,  -0.003,2,  -0.001,2,  -999.0,9,  -999.0,9,-999.0000,9,-999.0000,9, -999.00,9, -999.00,9,  -999.0,9,    -9.0,-999.000,9,-999.000,   17479,-999.0000,   3.2442,-999.0000, -999.00
 316N145_11,       I01W,     948,          1,          5,     SIH002,2,19950924,       1809,     8.5000,    72.7833,       2190,  1847.8,   3.1821,  34.8164,2,  34.8157,2,    107.4,2,   107.3,2,  126.26,2,   36.46,2,    0.00,2,    2.63,2,-999.000,9,-999.000,9,  2325.6,2,  2410.0,2,-999.0000,9,-999.0000,9, -999.00,9, -999.00,9,  -999.0,9,    -9.0,-999.000,9,-999.000,   18479,-999.0000,   3.0412,-999.0000, -999.00
 316N145_11,       I01W,     948,          1,          4,     SIH020,2,19950924,       1809,     8.5000,    72.7833,       2190,  1949.6,   2.8785,  34.7985,2,  34.7986,2,    116.6,2,   116.4,2,  128.71,2,   36.08,2,    0.00,2,    2.59,2,-999.000,9,-999.000,9,  -999.0,9,  -999.0,9,-999.0000,9,-999.0000,9, -999.00,9, -999.00,9,  -999.0,9,    -9.0,-999.000,9,-999.000,   19498,-999.0000,   2.7327,-999.0000, -999.00
 316N145_11,       I01W,     948,          1,          3,     SIH021,2,19950924,       1809,     8.5000,    72.7833,       2190,  2051.1,   2.5720,  34.7824,2,  34.7815,2,    123.4,2,   123.6,2,  132.83,2,   35.92,2,    0.00,2,    2.56,2,-999.000,9,-999.000,9,  -999.0,9,  -999.0,9,-999.0000,9,-999.0000,9, -999.00,9, -999.00,9,  -999.0,9,    -9.0,-999.000,9,-999.000,   20514,-999.0000,   2.4219,-999.0000, -999.00
 316N145_11,       I01W,     948,          1,          2,     SIH022,2,19950924,       1809,     8.5000,    72.7833,       2190,  2152.1,   2.3856,  34.7694,2,  34.7687,2,    128.2,2,   128.4,2,  136.20,2,   35.75,2,    0.00,2,    2.55,2,   0.000,2,   0.000,2,  -999.0,9,  -999.0,9,-999.0000,9,-999.0000,9, -999.00,9, -999.00,9,  -999.0,9,    -9.0,-999.000,9,-999.000,   21524,-999.0000,   2.2296,-999.0000, -999.00
 316N145_11,       I01W,     948,          1,          1,     SIH023,2,19950924,       1809,     8.5000,    72.7833,       2190,  2202.4,   2.3503,  34.7687,2,  34.7685,2,    127.8,2,   129.3,2,  135.30,2,   35.77,2,    0.00,2,    2.54,2,  -0.001,2,   0.000,2,  2327.2,2,  2426.4,2,-999.0000,9,-999.0000,9, -999.00,9, -999.00,9,  -999.0,9,    -9.0,-999.000,9,-999.000,   22028,-999.0000,   2.1904,-999.0000, -999.00