BOTTLE,20211119CCHSIORKP
EXPOCODE,SECT_ID,STNNBR,CASTNO,SAMPNO,BTLNBR,BTLNBR_FLAG_W,DATE,TIME,LATITUDE,LONGITUDE,DEPTH,CTDPRS,CTDTMP,CTDSAL,CTDSAL_FLAG_W,SALNTY,SALNTY_FLAG_W,CTDOXY,CTDOXY_FLAG_W,OXYGEN,OXYGEN_FLAG_W,SILCAT,SILCAT_FLAG_W,NITRAT,NITRAT_FLAG_W,NITRIT,NITRIT_FLAG_W,PHSPHT,PHSPHT_FLAG_W,CFC-11,CFC-11_FLAG_W,CFC-12,CFC-12_FLAG_W,TCARBN,TCARBN_FLAG_W,ALKALI,ALKALI_FLAG_W,TRITUM,TRITUM_FLAG_W,HELIUM,HELIUM_FLAG_W,DELHE3,DELHE3_FLAG_W,DELC13,DELC13_FLAG_W,DELC14,DELC14_FLAG_W,C14ERR,NEON,NEON_FLAG_W,NEONER,CTDRAW,TRITER,THETA,HELIER,DELHER
,,,,,,,,,,,METERS,DBAR,ITS-90,PSS-78,,PSS-78,,UMOL/KG,,UMOL/KG,,UMOL/KG,,UMOL/KG,,UMOL/KG,,UMOL/KG,,PMOL/KG,,PMOL/KG,,UMOL/KG,,UMOL/KG,,TU,,NMOL/KG,,PERCNT,,/MILLE,,/MILLE,,/MILLE,NMOL/KG,,NMOL/KG,DBAR,TU,DEG C,NMOL/KG,PERCNT
 316N145_11,       I01W,     925,          1,         36,     SIH024,2,19950918,       0841,     9.0112,    61.5528,       4380,    10.5,  28.0429,  36.2677,2,-999.0000,9,    218.7,2,  -999.0,9, -999.00,9, -999.00,9, -999.00,9, -999.00,9,-999.000,9,-999.000,9,  -999.0,9,  -999.0,9,-999.0000,9,-999.0000,9, -999.00,9, -999.00,9,  -999.0,9,    -9.0,-999.000,9,-999.000,      98,-999.0000,  28.0405,-999.0000, -999.00
 316N145_11,       I01W,     925,          1,         35,     SIH003,2,19950918,       0841,     9.0112,    61.5528,       4380,    29.7,  27.9404,  36.2658,2,  36.2598,2,    214.2,2,   218.5,2,    1.74,2,    0.08,2,    0.00,2,    0.28,2,   1.681,2,   0.979,2,  2005.7,2,  2365.5,2,-999.0000,9,-999.0000,9, -999.00,9, -999.00,9,  -999.0,9,    -9.0,-999.000,9,-999.000,     290,-999.0000,  27.9334,-999.0000, -999.00
 316N145_11,       I01W,     925,          1,         34,     SIH026,2,19950918,       0841,     9.0112,    61.5528,       4380,    60.1,  27.7227,  36.3290,2,  36.3285,2,    215.6,2,   218.6,2,    1.55,2,    0.12,2,    0.01,2,    0.30,2,-999.000,9,-999.000,9,  2011.3,2,  2373.2,2,-999.0000,9,-999.0000,9, -999.00,9, -999.00,9,  -999.0,9,    -9.0,-999.000,9,-999.000,     595,-999.0000,  27.7086,-999.0000, -999.00
 316N145_11,       I01W,     925,          1,         33,     SIH027,2,19950918,       0841,     9.0112,    61.5528,       4380,    90.3,  27.7283,  36.4082,2,  36.4043,2,    195.1,2,   211.4,2,    1.90,2,    0.12,2,    0.01,2,    0.32,2,   1.693,2,   0.979,2,  2018.2,2,  2386.7,2,-999.0000,9,-999.0000,9, -999.00,9, -999.00,9,  -999.0,9,    -9.0,-999.000,9,-999.000,     897,-999.0000,  27.7071,-999.0000, -999.00
 316N145_11,       I01W,     925,          1,         32,     SIH028,2,19950918,       0841,     9.0112,    61.5528,       4380,   120.8,  26.0166,  36.3696,2,  36.4019,2,     92.9,2,   154.2,2,    3.53,2,    7.87,2,    0.12,2,    0.80,2,-999.000,9,-999.000,9,  2077.0,2,  2374.4,2,-999.0000,9,-999.0000,9, -999.00,9, -999.00,9,  -999.0,9,    -9.0,-999.000,9,-999.000,    1202,-999.0000,  25.9895,-999.0000, -999.00
 316N145_11,       I01W,     925,          1,         31,     SIH029,2,19950918,       0841,     9.0112,    61.5528,       4380,   150.4,  20.3158,  35.6902,2,  35.6891,2,     17.3,2,    25.3,2,   14.80,2,   24.61,2,    0.02,2,    1.92,2,   1.264,2,   0.715,2,  2192.4,2,  2331.4,2,-999.0000,9,-999.0000,9, -999.00,9, -999.00,9,  -999.0,9,    -9.0,-999.000,9,-999.000,    1498,-999.0000,  20.2876,-999.0000, -999.00
 316N145_11,       I01W,     925,          1,         30,     SIH030,2,19950918,       0841,     9.0112,    61.5528,       4380,   200.2,  15.9895,  35.4794,2,  35.4614,2,     27.4,2,    18.5,2,   22.24,2,   26.07,2,    0.01,2,    2.15,2,-999.000,9,-999.000,9,  2225.6,2,  2325.1,2,-999.0000,9,-999.0000,9, -999.00,9, -999.00,9,  -999.0,9,    -9.0,-999.000,9,-999.000,    1995,-999.0000,  15.9577,-999.0000, -999.00
 316N145_11,       I01W,     925,          1,         29,     SIH031,2,19950918,       0841,     9.0112,    61.5528,       4380,   245.4,  13.6207,  35.3077,2,  35.3043,2,     47.6,2,    48.7,2,   23.52,2,   26.50,2,    0.00,2,    1.98,2,   0.739,2,   0.391,2,  2216.1,2,  2320.3,2,-999.0000,9,-999.0000,9, -999.00,9, -999.00,9,  -999.0,9,    -9.0,-999.000,9,-999.000,    2447,-999.0000,  13.5857,-999.0000, -999.00
 316N145_11,       I01W,     925,          1,         28,     SIH032,2,19950918,       0841,     9.0112,    61.5528,       4380,   295.4,  12.4640,  35.2284,2,  35.2266,2,     54.9,2,    58.0,2,   25.15,2,   27.64,2,    0.01,2,    2.00,2,-999.000,9,-999.000,9,  2216.9,2,  2319.4,2,-999.0000,9,-999.0000,9, -999.00,9, -999.00,9,  -999.0,9,    -9.0,-999.000,9,-999.000,    2948,-999.0000,  12.4242,-999.0000, -999.00
 316N145_11,       I01W,     925,          1,         27,     SIH033,2,19950918,       0841,     9.0112,    61.5528,       4380,   395.9,  11.2918,  35.2148,2,  35.2146,2,     47.2,2,    39.6,2,   32.96,2,   31.41,2,    0.00,2,    2.27,2,   0.265,2,   0.139,2,  2242.6,2,  2325.0,2,-999.0000,9,-999.0000,9, -999.00,9, -999.00,9,  -999.0,9,    -9.0,-999.000,9,-999.000,    3953,-999.0000,  11.2416,-999.0000, -999.00
 316N145_11,       I01W,     925,          1,         26,     SIH037,3,19950918,       0841,     9.0112,    61.5528,       4380,   496.3,  10.8649,  35.2341,3,  35.2331,2,     28.0,2,    32.1,2,   38.59,2,   32.65,2,    0.01,2,    2.41,2,-999.000,9,-999.000,9,  2254.5,2,  2330.9,2,-999.0000,9,-999.0000,9, -999.00,9, -999.00,9,  -999.0,9,    -9.0,-999.000,9,-999.000,    4957,-999.0000,  10.8031,-999.0000, -999.00
 316N145_11,       I01W,     925,          1,         25,     SI9446,3,19950918,       0841,     9.0112,    61.5528,       4380,   596.9,  10.4150,  35.2598,3,  35.2609,2,     24.2,2,    27.9,2,   45.31,2,   33.36,2,   -0.01,2,    2.52,2,-999.000,9,-999.000,9,  2263.1,2,  2336.9,2,-999.0000,9,-999.0000,9, -999.00,9, -999.00,9,  -999.0,9,    -9.0,-999.000,9,-999.000,    5964,-999.0000,  10.3424,-999.0000, -999.00
 316N145_11,       I01W,     925,          1,         24,     SIH036,2,19950918,       0841,     9.0112,    61.5528,       4380,   697.5,   9.8042,  35.2561,2,  35.2544,2,     19.1,2,    19.1,2,   54.95,2,   35.05,2,    0.01,2,    2.66,2,   0.034,2,   0.016,2,  2282.1,2,  2349.3,2,-999.0000,9,-999.0000,9, -999.00,9, -999.00,9,  -999.0,9,    -9.0,-999.000,9,-999.000,    6971,-999.0000,   9.7220,-999.0000, -999.00
 316N145_11,       I01W,     925,          1,         23,     SIH001,2,19950918,       0841,     9.0112,    61.5528,       4380,   798.4,   9.1257,  35.2406,2,  35.2410,2,     20.7,2,    20.8,2,   63.30,2,   35.92,2,    0.00,2,    2.72,2,   0.024,2,   0.011,2,  2293.4,2,  2355.4,2,-999.0000,9,-999.0000,9, -999.00,9, -999.00,9,  -999.0,9,    -9.0,-999.000,9,-999.000,    7980,-999.0000,   9.0350,-999.0000, -999.00
 316N145_11,       I01W,     925,          1,         22,     SIH019,2,19950918,       0841,     9.0112,    61.5528,       4380,   899.1,   8.6519,  35.2615,2,  35.2627,2,     23.2,2,    23.2,2,   70.39,2,   36.37,2,   -0.01,2,    2.76,2,-999.000,9,-999.000,9,  2297.5,2,  2363.3,2,-999.0000,9,-999.0000,9, -999.00,9, -999.00,9,  -999.0,9,    -9.0,-999.000,9,-999.000,    8988,-999.0000,   8.5522,-999.0000, -999.00
 316N145_11,       I01W,     925,          1,         21,     SIH025,2,19950918,       0841,     9.0112,    61.5528,       4380,   999.9,   7.2818,  35.0739,2,  35.0734,2,     33.8,2,    35.2,2,   81.49,2,   37.42,2,    0.01,2,    2.79,2,   0.004,6,   0.002,6,  2304.5,2,  2373.1,2,-999.0000,9,-999.0000,9, -999.00,9, -999.00,9,  -999.0,9,    -9.0,-999.000,9,-999.000,    9996,-999.0000,   7.1806,-999.0000, -999.00
 316N145_11,       I01W,     925,          1,         20,     SIH004,2,19950918,       0841,     9.0112,    61.5528,       4380,  1094.8,   7.2458,  35.1413,2,  35.1410,2,     38.9,2,    36.2,2,   83.49,2,   37.12,2,    0.01,2,    2.79,2,-999.000,9,-999.000,9,  -999.0,9,  -999.0,9,-999.0000,9,-999.0000,9, -999.00,9, -999.00,9,  -999.0,9,    -9.0,-999.000,9,-999.000,   10945,-999.0000,   7.1345,-999.0000, -999.00
 316N145_11,       I01W,     925,          1,         19,     SIH005,2,19950918,       0841,     9.0112,    61.5528,       4380,  1195.1,   6.5186,  35.0766,2,  35.0774,2,     45.3,2,    44.5,2,   90.40,2,   37.47,2,    0.01,2,    2.80,2,   0.005,2,   0.002,2,  -999.0,9,  -999.0,9,-999.0000,9,-999.0000,9, -999.00,9, -999.00,9,  -999.0,9,    -9.0,-999.000,9,-999.000,   11949,-999.0000,   6.4028,-999.0000, -999.00
 316N145_11,       I01W,     925,          1,         18,     SIH006,2,19950918,       0841,     9.0112,    61.5528,       4380,  1296.0,   5.9547,  35.0340,2,  35.0348,2,     50.2,2,    51.2,2,   96.23,2,   37.52,2,    0.01,2,    2.80,2,   0.004,2,   0.002,2,  -999.0,9,  -999.0,9,-999.0000,9,-999.0000,9, -999.00,9, -999.00,9,  -999.0,9,    -9.0,-999.000,9,-999.000,   12959,-999.0000,   5.8336,-999.0000, -999.00
 316N145_11,       I01W,     925,          1,         17,     SIH038,2,19950918,       0841,     9.0112,    61.5528,       4380,  1396.9,   5.4286,  34.9900,2,  34.9860,2,     59.9,2,    59.4,2,  101.69,2,   37.63,2,    0.01,2,    2.80,2,-999.000,9,-999.000,9,  -999.0,9,  -999.0,9,-999.0000,9,-999.0000,9, -999.00,9, -999.00,9,  -999.0,9,    -9.0,-999.000,9,-999.000,   13968,-999.0000,   5.3027,-999.0000, -999.00
 316N145_11,       I01W,     925,          1,         16,     SIH008,2,19950918,       0841,     9.0112,    61.5528,       4380,  1600.2,   4.3062,  34.8980,2,  34.8977,2,     82.8,2,    80.7,2,  112.61,2,   37.28,2,    0.01,2,    2.74,2,-999.000,9,-999.000,9,  -999.0,9,  -999.0,9,-999.0000,9,-999.0000,9, -999.00,9, -999.00,9,  -999.0,9,    -9.0,-999.000,9,-999.000,   16002,-999.0000,   4.1732,-999.0000, -999.00
 316N145_11,       I01W,     925,          1,         15,     SIH009,2,19950918,       0841,     9.0112,    61.5528,       4380,  1801.7,   3.3705,  34.8352,2,  34.8334,2,    103.4,2,   104.2,2,  120.98,2,   36.63,2,    0.01,2,    2.65,2,  -0.002,2,   0.000,2,  -999.0,9,  -999.0,9,-999.0000,9,-999.0000,9, -999.00,9, -999.00,9,  -999.0,9,    -9.0,-999.000,9,-999.000,   18018,-999.0000,   3.2310,-999.0000, -999.00
 316N145_11,       I01W,     925,          1,         14,     SIH010,2,19950918,       0841,     9.0112,    61.5528,       4380,  2005.8,   2.8803,  34.8059,2,  34.8033,2,    117.7,2,   117.1,2,  126.27,2,   36.24,2,    0.00,2,    2.60,2,-999.000,9,-999.000,9,  -999.0,9,  -999.0,9,-999.0000,9,-999.0000,9, -999.00,9, -999.00,9,  -999.0,9,    -9.0,-999.000,9,-999.000,   20061,-999.0000,   2.7294,-999.0000, -999.00
 316N145_11,       I01W,     925,          1,         13,     SIH011,3,19950918,       0841,     9.0112,    61.5528,       4380,  2203.8,   2.5159,  34.7858,3,  34.7842,2,    126.3,2,   127.4,2,  130.09,2,   35.90,2,    0.00,2,    2.56,2,-999.000,9,-999.000,9,  -999.0,9,  -999.0,9,-999.0000,9,-999.0000,9, -999.00,9, -999.00,9,  -999.0,9,    -9.0,-999.000,9,-999.000,   22042,-999.0000,   2.3529,-999.0000, -999.00
 316N145_11,       I01W,     925,          1,         12,     SIH012,2,19950918,       0841,     9.0112,    61.5528,       4380,  2395.0,   2.3023,  34.7732,2,  34.7722,2,    132.8,2,   133.2,2,  132.82,2,   35.79,2,    0.00,2,    2.53,2,  -0.002,2,  -0.002,2,  -999.0,9,  -999.0,9,-999.0000,9,-999.0000,9, -999.00,9, -999.00,9,  -999.0,9,    -9.0,-999.000,9,-999.000,   23956,-999.0000,   2.1257,-999.0000, -999.00
 316N145_11,       I01W,     925,          1,         11,     SI9426,2,19950918,       0841,     9.0112,    61.5528,       4380,  2589.3,   2.1210,  34.7625,2,  34.7614,2,    138.0,2,   141.3,2,  133.56,2,   35.29,2,   -0.01,2,    2.50,2,-999.000,9,-999.000,9,  -999.0,9,  -999.0,9,-999.0000,9,-999.0000,9, -999.00,9, -999.00,9,  -999.0,9,    -9.0,-999.000,9,-999.000,   25900,-999.0000,   1.9297,-999.0000, -999.00
 316N145_11,       I01W,     925,          1,         10,     SIH014,2,19950918,       0841,     9.0112,    61.5528,       4380,  2792.4,   1.9843,  34.7543,2,  34.7528,2,    143.8,2,   144.8,2,  135.19,2,   35.24,2,    0.00,2,    2.49,2,-999.000,9,-999.000,9,  -999.0,9,  -999.0,9,-999.0000,9,-999.0000,9, -999.00,9, -999.00,9,  -999.0,9,    -9.0,-999.000,9,-999.000,   27932,-999.0000,   1.7766,-999.0000, -999.00
 316N145_11,       I01W,     925,          1,          9,     SIH015,2,19950918,       0841,     9.0112,    61.5528,       4380,  2993.3,   1.8755,  34.7485,2,  34.7471,2,    147.8,2,   148.3,2,  136.65,2,   35.20,2,    0.00,2,    2.46,2,  -0.002,2,   0.000,2,  -999.0,9,  -999.0,9,-999.0000,9,-999.0000,9, -999.00,9, -999.00,9,  -999.0,9,    -9.0,-999.000,9,-999.000,   29943,-999.0000,   1.6508,-999.0000, -999.00
 316N145_11,       I01W,     925,          1,          8,     SIH016,2,19950918,       0841,     9.0112,    61.5528,       4380,  3194.2,   1.7922,  34.7436,2,  34.7427,2,    150.7,2,   151.5,2,  137.38,2,   35.20,2,    0.00,2,    2.46,2,-999.000,9,-999.000,9,  -999.0,9,  -999.0,9,-999.0000,9,-999.0000,9, -999.00,9, -999.00,9,  -999.0,9,    -9.0,-999.000,9,-999.000,   31953,-999.0000,   1.5495,-999.0000, -999.00
 316N145_11,       I01W,     925,          1,          7,     SIH017,2,19950918,       0841,     9.0112,    61.5528,       4380,  3394.3,   1.7376,  34.7406,2,  34.7396,2,    153.0,2,   153.9,2,  137.38,2,   34.99,2,    0.01,2,    2.44,2,-999.000,9,-999.000,9,  -999.0,9,  -999.0,9,-999.0000,9,-999.0000,9, -999.00,9, -999.00,9,  -999.0,9,    -9.0,-999.000,9,-999.000,   33955,-999.0000,   1.4760,-999.0000, -999.00
 316N145_11,       I01W,     925,          1,          6,     SIH018,2,19950918,       0841,     9.0112,    61.5528,       4380,  3591.7,   1.6864,  34.7390,2,  34.7349,2,    155.9,2,   157.1,2,  138.29,2,   34.78,2,    0.01,2,    2.43,2,-999.000,9,-999.000,9,  -999.0,9,  -999.0,9,-999.0000,9,-999.0000,9, -999.00,9, -999.00,9,  -999.0,9,    -9.0,-999.000,9,-999.000,   35931,-999.0000,   1.4057,-999.0000, -999.00
 316N145_11,       I01W,     925,          1,          5,     SIH002,2,19950918,       0841,     9.0112,    61.5528,       4380,  3795.2,   1.6403,  34.7346,2,  34.7323,2,    159.1,2,   159.7,2,  138.11,2,   34.65,2,    0.00,2,    2.41,2,  -0.001,2,   0.001,2,  -999.0,9,  -999.0,9,-999.0000,9,-999.0000,9, -999.00,9, -999.00,9,  -999.0,9,    -9.0,-999.000,9,-999.000,   37968,-999.0000,   1.3393,-999.0000, -999.00
 316N145_11,       I01W,     925,          1,          4,     SIH020,2,19950918,       0841,     9.0112,    61.5528,       4380,  3989.1,   1.6205,  34.7328,2,  34.7309,2,    162.1,2,   162.5,2,  137.75,2,   34.55,2,    0.00,2,    2.41,2,-999.000,9,-999.000,9,  -999.0,9,  -999.0,9,-999.0000,9,-999.0000,9, -999.00,9, -999.00,9,  -999.0,9,    -9.0,-999.000,9,-999.000,   39908,-999.0000,   1.2991,-999.0000, -999.00
 316N145_11,       I01W,     925,          1,          3,     SIH021,2,19950918,       0841,     9.0112,    61.5528,       4380,  4190.0,   1.6242,  34.7328,2,  34.7298,2,    163.1,2,   164.1,2,  137.57,2,   34.50,2,   -0.01,2,    2.40,2,-999.000,9,-999.000,9,  -999.0,9,  -999.0,9,-999.0000,9,-999.0000,9, -999.00,9, -999.00,9,  -999.0,9,    -9.0,-999.000,9,-999.000,   41919,-999.0000,   1.2805,-999.0000, -999.00
 316N145_11,       I01W,     925,          1,          2,     SIH022,2,19950918,       0841,     9.0112,    61.5528,       4380,  4404.5,   1.6260,  34.7308,2,  34.7294,2,    164.7,2,   165.8,2,  136.84,2,   34.40,2,    0.00,2,    2.40,2,   0.000,6,   0.002,6,  -999.0,9,  -999.0,9,-999.0000,9,-999.0000,9, -999.00,9, -999.00,9,  -999.0,9,    -9.0,-999.000,9,-999.000,   44065,-999.0000,   1.2579,-999.0000, -999.00
 316N145_11,       I01W,     925,          1,          1,     SIH023,2,19950918,       0841,     9.0112,    61.5528,       4380,  4456.3,   1.6239,  34.7309,2,  34.7300,2,    163.8,2,   167.0,2,  136.74,2,   34.37,2,    0.00,2,    2.39,2,   0.010,4,   0.000,2,  -999.0,9,  -999.0,9,-999.0000,9,-999.0000,9, -999.00,9, -999.00,9,  -999.0,9,    -9.0,-999.000,9,-999.000,   44583,-999.0000,   1.2499,-999.0000, -999.00