BOTTLE,20211119CCHSIORKP
EXPOCODE,SECT_ID,STNNBR,CASTNO,SAMPNO,BTLNBR,BTLNBR_FLAG_W,DATE,TIME,LATITUDE,LONGITUDE,DEPTH,CTDPRS,CTDTMP,CTDSAL,CTDSAL_FLAG_W,SALNTY,SALNTY_FLAG_W,CTDOXY,CTDOXY_FLAG_W,OXYGEN,OXYGEN_FLAG_W,SILCAT,SILCAT_FLAG_W,NITRAT,NITRAT_FLAG_W,NITRIT,NITRIT_FLAG_W,PHSPHT,PHSPHT_FLAG_W,CFC-11,CFC-11_FLAG_W,CFC-12,CFC-12_FLAG_W,TCARBN,TCARBN_FLAG_W,ALKALI,ALKALI_FLAG_W,TRITUM,TRITUM_FLAG_W,HELIUM,HELIUM_FLAG_W,DELHE3,DELHE3_FLAG_W,DELC13,DELC13_FLAG_W,DELC14,DELC14_FLAG_W,C14ERR,NEON,NEON_FLAG_W,NEONER,CTDRAW,TRITER,THETA,HELIER,DELHER
,,,,,,,,,,,METERS,DBAR,ITS-90,PSS-78,,PSS-78,,UMOL/KG,,UMOL/KG,,UMOL/KG,,UMOL/KG,,UMOL/KG,,UMOL/KG,,PMOL/KG,,PMOL/KG,,UMOL/KG,,UMOL/KG,,TU,,NMOL/KG,,PERCNT,,/MILLE,,/MILLE,,/MILLE,NMOL/KG,,NMOL/KG,DBAR,TU,DEG C,NMOL/KG,PERCNT
 316N145_11,       I01W,     954,          1,         28,     SIH032,2,19950926,       0024,     8.8000,    74.9972,       2695,    10.2,  28.2357,  35.0183,2,  35.0209,2,    206.1,2,   209.2,2,    2.18,2,    0.12,2,    0.00,2,    0.18,2,   1.625,2,   0.963,2,  1941.0,2,  2295.0,2,-999.0000,9,-999.0000,9, -999.00,9, -999.00,9,  -999.0,9,    -9.0,-999.000,9,-999.000,      90,-999.0000,  28.2333,-999.0000, -999.00
 316N145_11,       I01W,     954,          1,         27,     SIH033,2,19950926,       0024,     8.8000,    74.9972,       2695,    29.5,  28.2430,  35.0216,2,  35.0339,2,    211.2,2,   209.2,2,    2.18,2,    0.15,2,    0.03,2,    0.20,2,-999.000,9,-999.000,9,  1944.1,2,  2292.9,2,-999.0000,9,-999.0000,9, -999.00,9, -999.00,9,  -999.0,9,    -9.0,-999.000,9,-999.000,     283,-999.0000,  28.2360,-999.0000, -999.00
 316N145_11,       I01W,     954,          1,         26,     SIH037,2,19950926,       0024,     8.8000,    74.9972,       2695,    59.9,  22.9395,  35.5003,2,  35.5162,2,     68.3,2,    61.8,2,   11.16,2,   18.83,2,    0.04,2,    1.43,2,   1.320,2,   0.749,2,  2129.7,2,  2323.4,2,-999.0000,9,-999.0000,9, -999.00,9, -999.00,9,  -999.0,9,    -9.0,-999.000,9,-999.000,     588,-999.0000,  22.9273,-999.0000, -999.00
 316N145_11,       I01W,     954,          1,         25,     SI9446,2,19950926,       0024,     8.8000,    74.9972,       2695,    89.6,  19.8298,  35.3163,2,  35.3179,2,     22.2,2,    21.6,2,   17.95,2,   25.23,2,    0.02,2,    1.86,2,-999.000,9,-999.000,9,  2177.1,2,  2317.9,2,-999.0000,9,-999.0000,9, -999.00,9, -999.00,9,  -999.0,9,    -9.0,-999.000,9,-999.000,     884,-999.0000,  19.8133,-999.0000, -999.00
 316N145_11,       I01W,     954,          1,         24,     SIH036,2,19950926,       0024,     8.8000,    74.9972,       2695,   119.3,  17.4114,  35.1930,2,  35.1918,2,     30.4,2,    35.3,2,   20.16,2,   25.73,2,    0.02,2,    1.86,2,   0.930,2,   0.502,2,  2183.5,2,  2314.8,2,-999.0000,9,-999.0000,9, -999.00,9, -999.00,9,  -999.0,9,    -9.0,-999.000,9,-999.000,    1181,-999.0000,  17.3913,-999.0000, -999.00
 316N145_11,       I01W,     954,          1,         23,     SIH001,2,19950926,       0024,     8.8000,    74.9972,       2695,   149.4,  15.3286,  35.1077,2,  35.1134,2,     48.4,2,    30.4,2,   24.56,2,   27.95,2,    0.01,2,    2.02,2,-999.000,9,-999.000,9,  2204.8,2,  2317.5,2,-999.0000,9,-999.0000,9, -999.00,9, -999.00,9,  -999.0,9,    -9.0,-999.000,9,-999.000,    1482,-999.0000,  15.3056,-999.0000, -999.00
 316N145_11,       I01W,     954,          1,         22,     SIH019,2,19950926,       0024,     8.8000,    74.9972,       2695,   199.7,  14.1077,  35.1288,2,  35.1291,2,     25.1,2,    29.1,2,   26.40,2,   29.34,2,    0.01,2,    2.13,2,   0.537,2,   0.281,2,  2221.8,2,  2320.6,2,-999.0000,9,-999.0000,9, -999.00,9, -999.00,9,  -999.0,9,    -9.0,-999.000,9,-999.000,    1986,-999.0000,  14.0786,-999.0000, -999.00
 316N145_11,       I01W,     954,          1,         21,     SIH025,2,19950926,       0024,     8.8000,    74.9972,       2695,   249.7,  13.0016,  35.1150,2,  35.1352,2,     23.5,2,    29.1,2,   28.24,2,   30.29,2,    0.01,2,    2.19,2,-999.000,9,-999.000,9,  2231.8,2,  2321.7,2,-999.0000,9,-999.0000,9, -999.00,9, -999.00,9,  -999.0,9,    -9.0,-999.000,9,-999.000,    2486,-999.0000,  12.9671,-999.0000, -999.00
 316N145_11,       I01W,     954,          1,         20,     SIH004,2,19950926,       0024,     8.8000,    74.9972,       2695,   350.7,  11.6665,  35.1510,2,  35.1526,2,     27.7,2,    26.8,2,   32.83,2,   31.95,2,    0.01,2,    2.30,2,   0.264,2,   0.140,2,  2247.1,2,  2326.4,2,-999.0000,9,-999.0000,9, -999.00,9, -999.00,9,  -999.0,9,    -9.0,-999.000,9,-999.000,    3496,-999.0000,  11.6212,-999.0000, -999.00
 316N145_11,       I01W,     954,          1,         19,     SIH005,2,19950926,       0024,     8.8000,    74.9972,       2695,   450.5,  10.8937,  35.1742,2,  35.1740,2,     20.2,2,    20.6,2,   39.81,2,   33.68,2,    0.00,2,    2.47,2,-999.000,9,-999.000,9,  -999.0,9,  -999.0,9,-999.0000,9,-999.0000,9, -999.00,9, -999.00,9,  -999.0,9,    -9.0,-999.000,9,-999.000,    4495,-999.0000,  10.8377,-999.0000, -999.00
 316N145_11,       I01W,     954,          1,         18,     SIH006,2,19950926,       0024,     8.8000,    74.9972,       2695,   550.6,  10.1603,  35.1748,2,  35.1736,2,     17.5,2,    19.9,2,   48.26,2,   34.79,2,    0.00,2,    2.60,2,   0.050,2,   0.026,2,  2273.3,2,  2341.6,2,-999.0000,9,-999.0000,9, -999.00,9, -999.00,9,  -999.0,9,    -9.0,-999.000,9,-999.000,    5495,-999.0000,  10.0945,-999.0000, -999.00
 316N145_11,       I01W,     954,          1,         17,     SIH038,2,19950926,       0024,     8.8000,    74.9972,       2695,   651.5,   9.3206,  35.1209,2,  35.1209,2,     21.4,2,    22.1,2,   57.45,2,   35.90,2,    0.00,2,    2.68,2,-999.000,9,-999.000,9,  -999.0,9,  -999.0,9,-999.0000,9,-999.0000,9, -999.00,9, -999.00,9,  -999.0,9,    -9.0,-999.000,9,-999.000,    6506,-999.0000,   9.2463,-999.0000, -999.00
 316N145_11,       I01W,     954,          1,         16,     SIH008,2,19950926,       0024,     8.8000,    74.9972,       2695,   752.4,   8.4991,  35.0861,2,  35.0854,2,     24.9,2,    25.3,2,   67.94,2,   36.85,2,    0.00,2,    2.75,2,   0.008,2,   0.005,2,  2294.6,2,  2358.1,2,-999.0000,9,-999.0000,9, -999.00,9, -999.00,9,  -999.0,9,    -9.0,-999.000,9,-999.000,    7514,-999.0000,   8.4173,-999.0000, -999.00
 316N145_11,       I01W,     954,          1,         15,     SIH009,3,19950926,       0024,     8.8000,    74.9972,       2695,   852.3,   7.7985,  35.0346,3,  35.0350,2,     30.3,2,    32.3,2,   75.11,2,   37.30,2,    0.00,2,    2.78,2,-999.000,9,-999.000,9,  2300.6,2,  2361.2,2,-999.0000,9,-999.0000,9, -999.00,9, -999.00,9,  -999.0,9,    -9.0,-999.000,9,-999.000,    8514,-999.0000,   7.7098,-999.0000, -999.00
 316N145_11,       I01W,     954,          1,         14,     SIH010,2,19950926,       0024,     8.8000,    74.9972,       2695,   947.3,   7.2882,  35.0175,2,  35.0175,2,     36.2,2,    35.9,2,   81.01,2,   37.63,2,    0.00,2,    2.80,2,  -0.002,2,  -0.001,2,  -999.0,9,  -999.0,9,-999.0000,9,-999.0000,9, -999.00,9, -999.00,9,  -999.0,9,    -9.0,-999.000,9,-999.000,    9464,-999.0000,   7.1926,-999.0000, -999.00
 316N145_11,       I01W,     954,          1,         13,     SIH011,2,19950926,       0024,     8.8000,    74.9972,       2695,  1049.2,   6.6341,  34.9799,2,  34.9776,2,     43.9,2,    44.1,2,   88.01,2,   37.75,2,    0.00,2,    2.80,2,-999.000,9,-999.000,9,  2309.9,2,  2377.0,2,-999.0000,9,-999.0000,9, -999.00,9, -999.00,9,  -999.0,9,    -9.0,-999.000,9,-999.000,   10484,-999.0000,   6.5327,-999.0000, -999.00
 316N145_11,       I01W,     954,          1,         12,     SIH012,2,19950926,       0024,     8.8000,    74.9972,       2695,  1148.9,   6.1774,  34.9509,2,  34.9510,2,     51.0,2,    50.5,2,   92.62,2,   37.70,2,    0.00,2,    2.79,2,   0.000,2,   0.001,2,  -999.0,9,  -999.0,9,-999.0000,9,-999.0000,9, -999.00,9, -999.00,9,  -999.0,9,    -9.0,-999.000,9,-999.000,   11482,-999.0000,   6.0695,-999.0000, -999.00
 316N145_11,       I01W,     954,          1,         11,     SI9426,2,19950926,       0024,     8.8000,    74.9972,       2695,  1250.6,   5.7721,  34.9380,2,  34.9378,2,     58.2,2,    56.7,2,   96.86,2,   37.76,2,    0.00,2,    2.80,2,-999.000,9,-999.000,9,  -999.0,9,  -999.0,9,-999.0000,9,-999.0000,9, -999.00,9, -999.00,9,  -999.0,9,    -9.0,-999.000,9,-999.000,   12499,-999.0000,   5.6575,-999.0000, -999.00
 316N145_11,       I01W,     954,          1,         10,     SIH014,2,19950926,       0024,     8.8000,    74.9972,       2695,  1355.2,   5.2961,  34.9122,2,  34.9118,2,     65.3,2,    64.7,2,  102.21,2,   37.71,2,    0.00,2,    2.78,2,  -0.001,4,  -0.002,2,  2317.6,2,  2391.4,2,-999.0000,9,-999.0000,9, -999.00,9, -999.00,9,  -999.0,9,    -9.0,-999.000,9,-999.000,   13546,-999.0000,   5.1759,-999.0000, -999.00
 316N145_11,       I01W,     954,          1,          9,     SIH015,2,19950926,       0024,     8.8000,    74.9972,       2695,  1450.9,   4.8227,  34.8976,2,  34.8995,2,     73.2,2,    72.4,2,  107.93,2,   37.60,2,    0.00,2,    2.77,2,-999.000,9,-999.000,9,  -999.0,9,  -999.0,9,-999.0000,9,-999.0000,9, -999.00,9, -999.00,9,  -999.0,9,    -9.0,-999.000,9,-999.000,   14503,-999.0000,   4.6982,-999.0000, -999.00
 316N145_11,       I01W,     954,          1,          8,     SIH016,2,19950926,       0024,     8.8000,    74.9972,       2695,  1552.1,   4.3085,  34.8683,2,  34.8684,2,     82.7,2,    81.8,2,  113.29,2,   37.39,2,    0.00,2,    2.74,2,  -0.003,2,   0.000,2,  -999.0,9,  -999.0,9,-999.0000,9,-999.0000,9, -999.00,9, -999.00,9,  -999.0,9,    -9.0,-999.000,9,-999.000,   15516,-999.0000,   4.1801,-999.0000, -999.00
 316N145_11,       I01W,     954,          1,          7,     SIH017,2,19950926,       0024,     8.8000,    74.9972,       2695,  1698.0,   3.6874,  34.8305,2,  34.8318,2,     96.0,2,    96.6,2,  119.56,2,   36.95,2,   -0.01,2,    2.69,2,-999.000,9,-999.000,9,  2324.8,2,  2407.8,2,-999.0000,9,-999.0000,9, -999.00,9, -999.00,9,  -999.0,9,    -9.0,-999.000,9,-999.000,   16976,-999.0000,   3.5532,-999.0000, -999.00
 316N145_11,       I01W,     954,          1,          6,     SIH018,2,19950926,       0024,     8.8000,    74.9972,       2695,  1900.3,   3.0508,  34.8031,2,  34.8029,2,    109.4,2,   109.2,2,  127.32,2,   36.62,2,    0.00,2,    2.64,2,-999.000,9,-999.000,9,  -999.0,9,  -999.0,9,-999.0000,9,-999.0000,9, -999.00,9, -999.00,9,  -999.0,9,    -9.0,-999.000,9,-999.000,   19000,-999.0000,   2.9069,-999.0000, -999.00
 316N145_11,       I01W,     954,          1,          5,     SIH002,2,19950926,       0024,     8.8000,    74.9972,       2695,  2098.3,   2.5880,  34.7752,2,  34.7754,2,    121.8,2,   122.0,2,  131.94,2,   36.18,2,    0.00,2,    2.58,2,  -0.003,6,   0.000,6,  -999.0,9,  -999.0,9,-999.0000,9,-999.0000,9, -999.00,9, -999.00,9,  -999.0,9,    -9.0,-999.000,9,-999.000,   20981,-999.0000,   2.4334,-999.0000, -999.00
 316N145_11,       I01W,     954,          1,          4,     SIH020,2,19950926,       0024,     8.8000,    74.9972,       2695,  2301.3,   2.3031,  34.7621,2,  34.7618,2,    129.7,2,   128.4,2,  135.46,2,   36.02,2,    0.00,2,    2.57,2,-999.000,9,-999.000,9,  2329.2,2,  2428.8,2,-999.0000,9,-999.0000,9, -999.00,9, -999.00,9,  -999.0,9,    -9.0,-999.000,9,-999.000,   23013,-999.0000,   2.1350,-999.0000, -999.00
 316N145_11,       I01W,     954,          1,          3,     SIH021,2,19950926,       0024,     8.8000,    74.9972,       2695,  2513.2,   2.0834,  34.7502,2,  34.7498,2,    133.8,2,   133.4,2,  139.35,2,   35.86,2,    0.00,2,    2.54,2,-999.000,9,-999.000,9,  -999.0,9,  -999.0,9,-999.0000,9,-999.0000,9, -999.00,9, -999.00,9,  -999.0,9,    -9.0,-999.000,9,-999.000,   25133,-999.0000,   1.9000,-999.0000, -999.00
 316N145_11,       I01W,     954,          1,          2,     SIH022,2,19950926,       0024,     8.8000,    74.9972,       2695,  2665.6,   1.9886,  34.7463,2,  34.7443,2,    140.4,2,   138.3,2,  139.56,2,   35.69,2,    0.00,2,    2.52,2,   0.003,3,   0.003,2,  -999.0,9,  -999.0,9,-999.0000,9,-999.0000,9, -999.00,9, -999.00,9,  -999.0,9,    -9.0,-999.000,9,-999.000,   26658,-999.0000,   1.7929,-999.0000, -999.00
 316N145_11,       I01W,     954,          1,          1,     SIH023,2,19950926,       0024,     8.8000,    74.9972,       2695,  2716.6,   1.9659,  34.7426,2,  34.7418,2,    137.4,2,   137.5,2,  140.65,2,   35.58,2,    0.01,2,    2.52,2,   0.005,3,   0.000,2,  2331.8,2,  2449.8,2,-999.0000,9,-999.0000,9, -999.00,9, -999.00,9,  -999.0,9,    -9.0,-999.000,9,-999.000,   27169,-999.0000,   1.7659,-999.0000, -999.00