BOTTLE,20211119CCHSIORKP
EXPOCODE,SECT_ID,STNNBR,CASTNO,SAMPNO,BTLNBR,BTLNBR_FLAG_W,DATE,TIME,LATITUDE,LONGITUDE,DEPTH,CTDPRS,CTDTMP,CTDSAL,CTDSAL_FLAG_W,SALNTY,SALNTY_FLAG_W,CTDOXY,CTDOXY_FLAG_W,OXYGEN,OXYGEN_FLAG_W,SILCAT,SILCAT_FLAG_W,NITRAT,NITRAT_FLAG_W,NITRIT,NITRIT_FLAG_W,PHSPHT,PHSPHT_FLAG_W,CFC-11,CFC-11_FLAG_W,CFC-12,CFC-12_FLAG_W,TCARBN,TCARBN_FLAG_W,ALKALI,ALKALI_FLAG_W,TRITUM,TRITUM_FLAG_W,HELIUM,HELIUM_FLAG_W,DELHE3,DELHE3_FLAG_W,DELC13,DELC13_FLAG_W,DELC14,DELC14_FLAG_W,C14ERR,NEON,NEON_FLAG_W,NEONER,CTDRAW,TRITER,THETA,HELIER,DELHER
,,,,,,,,,,,METERS,DBAR,ITS-90,PSS-78,,PSS-78,,UMOL/KG,,UMOL/KG,,UMOL/KG,,UMOL/KG,,UMOL/KG,,UMOL/KG,,PMOL/KG,,PMOL/KG,,UMOL/KG,,UMOL/KG,,TU,,NMOL/KG,,PERCNT,,/MILLE,,/MILLE,,/MILLE,NMOL/KG,,NMOL/KG,DBAR,TU,DEG C,NMOL/KG,PERCNT
 316N145_11,       I01W,     918,          1,         27,     SIH033,2,19950916,       1706,     8.6917,    58.6167,       2305,     5.2,  26.8642,  35.8875,2,  35.8892,2,    210.6,2,   224.1,2,    3.40,2,    1.21,2,    0.19,2,    0.34,2,-999.000,9,-999.000,9,  2007.3,2,  2339.9,2,-999.0000,9,-999.0000,9, -999.00,9,    0.99,2,    43.3,2,     3.9,-999.000,9,-999.000,      43,-999.0000,  26.8629,-999.0000, -999.00
 316N145_11,       I01W,     918,          1,         28,     SIH032,2,19950916,       1706,     8.6917,    58.6167,       2305,     5.5,  26.8689,  35.8893,2,-999.0000,9,    210.0,2,   213.5,2, -999.00,9, -999.00,9, -999.00,9, -999.00,9,-999.000,9,-999.000,9,  -999.0,9,  -999.0,9,-999.0000,9,-999.0000,9, -999.00,9, -999.00,9,  -999.0,9,    -9.0,-999.000,9,-999.000,      45,-999.0000,  26.8677,-999.0000, -999.00
 316N145_11,       I01W,     918,          1,         26,     SIH037,3,19950916,       1706,     8.6917,    58.6167,       2305,    30.2,  26.7182,  35.9597,3,  35.9560,2,    213.4,2,   223.8,2,    3.40,2,    1.32,2,    0.23,2,    0.37,2,   1.719,2,   0.996,2,  2011.4,2,  2342.0,2,-999.0000,9,-999.0000,9, -999.00,9, -999.00,9,  -999.0,9,    -9.0,-999.000,9,-999.000,     292,-999.0000,  26.7113,-999.0000, -999.00
 316N145_11,       I01W,     918,          1,         25,     SI9446,3,19950916,       1706,     8.6917,    58.6167,       2305,    60.4,  26.3829,  35.9903,3,  35.9912,2,    206.4,2,   212.6,2,    3.58,2,    1.96,2,    0.41,2,    0.43,2,-999.000,9,-999.000,9,  2019.6,2,  2345.3,2,-999.0000,9,-999.0000,9, -999.00,9,    1.09,2,    55.1,3,     4.3,-999.000,9,-999.000,     595,-999.0000,  26.3693,-999.0000, -999.00
 316N145_11,       I01W,     918,          1,         24,     SIH036,2,19950916,       1706,     8.6917,    58.6167,       2305,    90.2,  26.0874,  35.9241,2,  35.9245,2,    198.9,2,   200.5,2,    3.95,2,    2.95,2,    0.55,2,    0.51,2,-999.000,9,-999.000,9,  2028.8,2,  2341.5,2,-999.0000,9,-999.0000,9, -999.00,9, -999.00,9,  -999.0,9,    -9.0,-999.000,9,-999.000,     892,-999.0000,  26.0671,-999.0000, -999.00
 316N145_11,       I01W,     918,          1,         23,     SIH001,2,19950916,       1706,     8.6917,    58.6167,       2305,   120.7,  25.3744,  35.7858,2,  35.7867,2,    190.1,2,   194.2,2,    4.88,2,    4.95,2,    1.10,2,    0.65,2,   1.774,2,   1.018,2,  2041.9,2,  2333.9,2,-999.0000,9,-999.0000,9, -999.00,9,    1.01,2,    46.2,2,     3.9,-999.000,9,-999.000,    1197,-999.0000,  25.3479,-999.0000, -999.00
 316N145_11,       I01W,     918,          1,         22,     SIH019,2,19950916,       1706,     8.6917,    58.6167,       2305,   150.4,  24.0794,  35.7583,2,  35.7653,2,    156.2,2,   161.9,2,    7.10,2,   10.56,2,    0.16,2,    0.94,2,-999.000,9,-999.000,9,  2079.7,2,  2333.4,2,-999.0000,9,-999.0000,9, -999.00,9, -999.00,9,  -999.0,9,    -9.0,-999.000,9,-999.000,    1495,-999.0000,  24.0475,-999.0000, -999.00
 316N145_11,       I01W,     918,          1,         21,     SIH025,2,19950916,       1706,     8.6917,    58.6167,       2305,   200.4,  19.1452,  35.6959,2,  35.7412,2,     19.8,2,    26.0,2,   17.85,2,   24.21,2,    0.01,2,    2.05,2,-999.000,9,-999.000,9,  2206.4,2,  2333.7,2,-999.0000,9,-999.0000,9, -999.00,9,   -0.10,2,    20.6,2,     4.2,-999.000,9,-999.000,    1995,-999.0000,  19.1091,-999.0000, -999.00
 316N145_11,       I01W,     918,          1,         20,     SIH004,2,19950916,       1706,     8.6917,    58.6167,       2305,   250.5,  14.8490,  35.4947,2,  35.4862,2,     22.0,2,    32.8,2,   24.91,2,   26.58,2,    0.00,2,    2.15,2,   0.689,2,   0.375,2,  2232.7,2,  2324.2,2,-999.0000,9,-999.0000,9, -999.00,9,   -0.05,2,    -3.0,2,     3.1,-999.000,9,-999.000,    2496,-999.0000,  14.8111,-999.0000, -999.00
 316N145_11,       I01W,     918,          1,         19,     SIH005,3,19950916,       1706,     8.6917,    58.6167,       2305,   300.5,  13.4920,  35.4265,3,  35.4285,2,     30.8,2,    35.0,2,   27.15,2,   27.76,2,    0.00,2,    2.16,2,-999.000,9,-999.000,9,  2236.9,2,  2323.7,2,-999.0000,9,-999.0000,9, -999.00,9,   -0.04,2,   -12.8,2,     3.1,-999.000,9,-999.000,    2996,-999.0000,  13.4493,-999.0000, -999.00
 316N145_11,       I01W,     918,          1,         18,     SIH006,2,19950916,       1706,     8.6917,    58.6167,       2305,   400.5,  11.4283,  35.2466,2,  35.2463,2,     46.4,2,    47.7,2,   32.91,2,   30.52,2,    0.01,2,    2.24,2,   0.337,2,   0.171,2,  -999.0,9,  -999.0,9,-999.0000,9,-999.0000,9, -999.00,9,   -0.01,2,   -56.3,2,     3.3,-999.000,9,-999.000,    3996,-999.0000,  11.3771,-999.0000, -999.00
 316N145_11,       I01W,     918,          1,         17,     SIH038,2,19950916,       1706,     8.6917,    58.6167,       2305,   500.9,  11.0098,  35.2767,2,  35.2747,2,     31.4,2,    38.6,3,   39.03,2,   32.16,2,    0.00,2,    2.40,2,-999.000,9,-999.000,9,  -999.0,9,  -999.0,9,-999.0000,9,-999.0000,9, -999.00,9,    0.11,2,   -59.2,2,     3.1,-999.000,9,-999.000,    5000,-999.0000,  10.9469,-999.0000, -999.00
 316N145_11,       I01W,     918,          1,         16,     SIH008,2,19950916,       1706,     8.6917,    58.6167,       2305,   596.4,  10.4511,  35.2834,2,  35.2869,2,     24.5,2,    30.7,3,   47.39,2,   33.66,2,    0.00,2,    2.55,2,   0.089,2,   0.043,2,  -999.0,9,  -999.0,9,-999.0000,9,-999.0000,9, -999.00,9, -999.00,9,  -999.0,9,    -9.0,-999.000,9,-999.000,    5956,-999.0000,  10.3783,-999.0000, -999.00
 316N145_11,       I01W,     918,          1,         15,     SIH009,2,19950916,       1706,     8.6917,    58.6167,       2305,   696.4,   9.8284,  35.2990,2,  35.3015,2,     22.0,2,    26.8,3,   56.69,2,   34.73,2,    0.00,2,    2.65,2,-999.000,9,-999.000,9,  -999.0,9,  -999.0,9,-999.0000,9,-999.0000,9, -999.00,9,   -0.01,2,   -95.8,2,     3.0,-999.000,9,-999.000,    6956,-999.0000,   9.7462,-999.0000, -999.00
 316N145_11,       I01W,     918,          1,         14,     SIH010,2,19950916,       1706,     8.6917,    58.6167,       2305,   796.5,   8.1930,  35.1065,2,  35.1071,2,     26.6,2,    29.9,2,   72.32,2,   37.09,2,    0.00,2,    2.79,2,   0.014,3,   0.002,2,  -999.0,9,  -999.0,9,-999.0000,9,-999.0000,9, -999.00,9,   -0.07,2,  -119.8,2,     3.7,-999.000,9,-999.000,    7958,-999.0000,   8.1081,-999.0000, -999.00
 316N145_11,       I01W,     918,          1,         13,     SIH011,3,19950916,       1706,     8.6917,    58.6167,       2305,   902.1,   8.0141,  35.1209,3,  35.1222,2,     29.0,2,    32.4,2,   75.12,2,   37.15,2,    0.00,2,    2.79,2,-999.000,9,-999.000,9,  -999.0,9,  -999.0,9,-999.0000,9,-999.0000,9, -999.00,9,    0.05,2,  -122.4,2,     3.6,-999.000,9,-999.000,    9015,-999.0000,   7.9184,-999.0000, -999.00
 316N145_11,       I01W,     918,          1,         12,     SIH012,2,19950916,       1706,     8.6917,    58.6167,       2305,  1002.0,   7.7787,  35.1948,2,  35.1973,2,     32.6,2,    33.9,2,   79.59,2,   36.89,2,    0.00,2,    2.80,2,-999.000,9,-999.000,9,  -999.0,9,  -999.0,9,-999.0000,9,-999.0000,9, -999.00,9, -999.00,9,  -999.0,9,    -9.0,-999.000,9,-999.000,   10014,-999.0000,   7.6735,-999.0000, -999.00
 316N145_11,       I01W,     918,          1,         11,     SI9426,2,19950916,       1706,     8.6917,    58.6167,       2305,  1100.8,   7.1150,  35.1247,2,  35.1274,2,     41.6,2,    44.2,3,   85.19,2,   37.30,2,    0.01,2,    2.81,2,-999.000,9,-999.000,9,  -999.0,9,  -999.0,9,-999.0000,9,-999.0000,9, -999.00,9,   -0.15,2,  -135.7,2,     3.7,-999.000,9,-999.000,   11003,-999.0000,   7.0041,-999.0000, -999.00
 316N145_11,       I01W,     918,          1,         10,     SIH014,2,19950916,       1706,     8.6917,    58.6167,       2305,  1200.5,   6.5498,  35.0716,2,  35.0722,2,     46.6,2,    50.1,2,   90.41,2,   37.37,2,    0.00,2,    2.82,2,   0.006,2,   0.001,2,  -999.0,9,  -999.0,9,-999.0000,9,-999.0000,9, -999.00,9, -999.00,9,  -999.0,9,    -9.0,-999.000,9,-999.000,   11999,-999.0000,   6.4332,-999.0000, -999.00
 316N145_11,       I01W,     918,          1,          9,     SIH015,2,19950916,       1706,     8.6917,    58.6167,       2305,  1301.0,   5.9023,  35.0224,2,  35.0248,2,     53.4,2,    59.8,2,   96.76,2,   37.62,2,    0.00,2,    2.82,2,-999.000,9,-999.000,9,  -999.0,9,  -999.0,9,-999.0000,9,-999.0000,9, -999.00,9,   -0.03,2,  -160.3,2,     2.9,-999.000,9,-999.000,   13005,-999.0000,   5.7813,-999.0000, -999.00
 316N145_11,       I01W,     918,          1,          8,     SIH016,2,19950916,       1706,     8.6917,    58.6167,       2305,  1400.4,   5.3547,  34.9727,2,  34.9744,2,     61.0,2,    65.3,2,  102.19,2,   37.57,2,    0.00,2,    2.81,2,-999.000,9,-999.000,9,  -999.0,9,  -999.0,9,-999.0000,9,-999.0000,9, -999.00,9, -999.00,9,  -999.0,9,    -9.0,-999.000,9,-999.000,   14000,-999.0000,   5.2292,-999.0000, -999.00
 316N145_11,       I01W,     918,          1,          7,     SIH017,2,19950916,       1706,     8.6917,    58.6167,       2305,  1499.8,   4.9921,  34.9450,2,  34.9455,2,     69.7,2,    72.1,2,  105.75,2,   37.48,2,    0.00,2,    2.79,2,-999.000,9,-999.000,9,  -999.0,9,  -999.0,9,-999.0000,9,-999.0000,9, -999.00,9, -999.00,9,  -999.0,9,    -9.0,-999.000,9,-999.000,   14994,-999.0000,   4.8609,-999.0000, -999.00
 316N145_11,       I01W,     918,          1,          6,     SIH018,2,19950916,       1706,     8.6917,    58.6167,       2305,  1599.9,   4.4568,  34.9069,2,  34.9079,2,     79.4,2,    80.7,2,  111.91,2,   37.38,2,    0.00,2,    2.77,2,  -0.003,2,  -0.002,2,  -999.0,9,  -999.0,9,-999.0000,9,-999.0000,9, -999.00,9,   -0.12,2,  -176.0,2,     4.2,-999.000,9,-999.000,   15996,-999.0000,   4.3222,-999.0000, -999.00
 316N145_11,       I01W,     918,          1,          5,     SIH002,2,19950916,       1706,     8.6917,    58.6167,       2305,  1799.4,   3.3573,  34.8347,2,  34.8357,2,    103.2,2,   108.1,2,  123.11,2,   36.62,2,    0.00,2,    2.67,2,-999.000,9,-999.000,9,  -999.0,9,  -999.0,9,-999.0000,9,-999.0000,9, -999.00,9, -999.00,9,  -999.0,9,    -9.0,-999.000,9,-999.000,   17992,-999.0000,   3.2182,-999.0000, -999.00
 316N145_11,       I01W,     918,          1,          4,     SIH020,2,19950916,       1706,     8.6917,    58.6167,       2305,  1999.5,   2.8083,  34.8035,2,  34.8047,2,    118.3,2,   116.9,2,  129.48,2,   36.26,2,    0.00,2,    2.63,2,   0.001,2,   0.001,2,  -999.0,9,  -999.0,9,-999.0000,9,-999.0000,9, -999.00,9,    0.03,2,  -180.8,2,     2.9,-999.000,9,-999.000,   19995,-999.0000,   2.6592,-999.0000, -999.00
 316N145_11,       I01W,     918,          1,          3,     SIH021,2,19950916,       1706,     8.6917,    58.6167,       2305,  2199.3,   2.4232,  34.7811,2,  34.7826,2,    130.3,2,   130.7,2,  133.05,2,   35.80,2,    0.00,2,    2.57,2,-999.000,9,-999.000,9,  -999.0,9,  -999.0,9,-999.0000,9,-999.0000,9, -999.00,9, -999.00,9,  -999.0,9,    -9.0,-999.000,9,-999.000,   21994,-999.0000,   2.2623,-999.0000, -999.00
 316N145_11,       I01W,     918,          1,          2,     SIH022,2,19950916,       1706,     8.6917,    58.6167,       2305,  2277.3,   2.3494,  34.7773,2,  34.7779,2,    133.4,2,   132.4,2,  134.00,2,   35.85,2,    0.01,2,    2.58,2,  -0.001,2,  -0.001,2,  -999.0,9,  -999.0,9,-999.0000,9,-999.0000,9, -999.00,9, -999.00,9,  -999.0,9,    -9.0,-999.000,9,-999.000,   22775,-999.0000,   2.1827,-999.0000, -999.00
 316N145_11,       I01W,     918,          1,          1,     SIH023,2,19950916,       1706,     8.6917,    58.6167,       2305,  2325.8,   2.1052,  34.7638,2,  34.7769,4,    137.5,2,   134.3,2,  133.97,2,   35.72,2,    0.00,2,    2.56,2,   0.002,2,  -0.001,2,  -999.0,9,  -999.0,9,-999.0000,9,-999.0000,9, -999.00,9,    0.01,2,  -188.0,2,     2.8,-999.000,9,-999.000,   23260,-999.0000,   1.9383,-999.0000, -999.00