BOTTLE,20211119CCHSIORKP
EXPOCODE,SECT_ID,STNNBR,CASTNO,SAMPNO,BTLNBR,BTLNBR_FLAG_W,DATE,TIME,LATITUDE,LONGITUDE,DEPTH,CTDPRS,CTDTMP,CTDSAL,CTDSAL_FLAG_W,SALNTY,SALNTY_FLAG_W,CTDOXY,CTDOXY_FLAG_W,OXYGEN,OXYGEN_FLAG_W,SILCAT,SILCAT_FLAG_W,NITRAT,NITRAT_FLAG_W,NITRIT,NITRIT_FLAG_W,PHSPHT,PHSPHT_FLAG_W,CFC-11,CFC-11_FLAG_W,CFC-12,CFC-12_FLAG_W,TCARBN,TCARBN_FLAG_W,ALKALI,ALKALI_FLAG_W,TRITUM,TRITUM_FLAG_W,HELIUM,HELIUM_FLAG_W,DELHE3,DELHE3_FLAG_W,DELC13,DELC13_FLAG_W,DELC14,DELC14_FLAG_W,C14ERR,NEON,NEON_FLAG_W,NEONER,CTDRAW,TRITER,THETA,HELIER,DELHER
,,,,,,,,,,,METERS,DBAR,ITS-90,PSS-78,,PSS-78,,UMOL/KG,,UMOL/KG,,UMOL/KG,,UMOL/KG,,UMOL/KG,,UMOL/KG,,PMOL/KG,,PMOL/KG,,UMOL/KG,,UMOL/KG,,TU,,NMOL/KG,,PERCNT,,/MILLE,,/MILLE,,/MILLE,NMOL/KG,,NMOL/KG,DBAR,TU,DEG C,NMOL/KG,PERCNT
 316N145_11,       I01W,     904,          1,         36,     SIH024,2,19950912,       2358,     9.1083,    52.2667,       4540,    11.5,  25.6511,  35.6589,2,  35.6587,2,    211.6,2,   210.1,2,    4.26,2,    3.96,2,    0.29,2,    0.54,2,   1.806,2,   1.030,2,  2025.8,2,  2334.6,2,-999.0000,9,-999.0000,9, -999.00,9, -999.00,9,  -999.0,9,    -9.0,-999.000,9,-999.000,     100,-999.0000,  25.6486,-999.0000, -999.00
 316N145_11,       I01W,     904,          1,         35,     SIH003,2,19950912,       2358,     9.1083,    52.2667,       4540,    31.5,  25.6563,  35.6578,2,  35.6587,2,    211.0,2,   215.3,2,    4.07,2,    4.12,2,    0.28,2,    0.54,2,-999.000,9,-999.000,9,  2025.2,2,  2330.1,2,-999.0000,9,-999.0000,9, -999.00,9, -999.00,9,  -999.0,9,    -9.0,-999.000,9,-999.000,     300,-999.0000,  25.6493,-999.0000, -999.00
 316N145_11,       I01W,     904,          1,         34,     SIH026,2,19950912,       2358,     9.1083,    52.2667,       4540,    61.1,  25.6361,  35.6585,2,  35.6587,2,    211.2,2,   206.8,2,    4.27,2,    4.07,2,    0.28,2,    0.55,2,   1.810,2,   1.044,2,  2023.9,2,  2329.5,2,-999.0000,9,-999.0000,9, -999.00,9, -999.00,9,  -999.0,9,    -9.0,-999.000,9,-999.000,     596,-999.0000,  25.6225,-999.0000, -999.00
 316N145_11,       I01W,     904,          1,         33,     SIH027,2,19950912,       2358,     9.1083,    52.2667,       4540,    88.9,  23.0989,  35.5482,2,  35.5492,2,    157.0,2,   158.9,2,    8.34,2,   11.14,2,    0.04,2,    0.94,2,-999.000,9,-999.000,9,  2075.4,2,  2321.1,2,-999.0000,9,-999.0000,9, -999.00,9, -999.00,9,  -999.0,9,    -9.0,-999.000,9,-999.000,     874,-999.0000,  23.0807,-999.0000, -999.00
 316N145_11,       I01W,     904,          1,         32,     SIH028,2,19950912,       2358,     9.1083,    52.2667,       4540,   119.8,  22.1244,  35.5300,2,  35.5273,2,    145.8,2,   135.5,2,    9.90,2,   13.50,2,    0.02,2,    1.10,2,   1.557,2,   0.879,2,  2092.6,2,  2322.3,2,-999.0000,9,-999.0000,9, -999.00,9, -999.00,9,  -999.0,9,    -9.0,-999.000,9,-999.000,    1184,-999.0000,  22.1005,-999.0000, -999.00
 316N145_11,       I01W,     904,          1,         31,     SIH029,2,19950912,       2358,     9.1083,    52.2667,       4540,   150.3,  19.2081,  35.5618,2,  35.5431,2,    101.9,2,    61.1,2,   15.33,2,   21.39,2,    0.01,2,    1.68,2,-999.000,9,-999.000,9,  2168.0,2,  2313.2,2,-999.0000,9,-999.0000,9, -999.00,9, -999.00,9,  -999.0,9,    -9.0,-999.000,9,-999.000,    1489,-999.0000,  19.1810,-999.0000, -999.00
 316N145_11,       I01W,     904,          1,         30,     SIH030,2,19950912,       2358,     9.1083,    52.2667,       4540,   199.7,  14.9134,  35.2841,2,  35.2828,2,     45.5,2,    79.0,2,   19.21,2,   22.34,2,    0.02,2,    1.66,2,   1.127,2,   0.599,2,  2179.6,3,  2318.9,2,-999.0000,9,-999.0000,9, -999.00,9, -999.00,9,  -999.0,9,    -9.0,-999.000,9,-999.000,    1982,-999.0000,  14.8832,-999.0000, -999.00
 316N145_11,       I01W,     904,          1,         29,     SIH031,2,19950912,       2358,     9.1083,    52.2667,       4540,   250.2,  13.8926,  35.4085,2,  35.4095,2,     60.3,2,    34.5,2,   25.04,2,   27.06,2,    0.00,2,    2.09,2,-999.000,9,-999.000,9,  2227.7,2,  2328.8,3,-999.0000,9,-999.0000,9, -999.00,9, -999.00,9,  -999.0,9,    -9.0,-999.000,9,-999.000,    2488,-999.0000,  13.8564,-999.0000, -999.00
 316N145_11,       I01W,     904,          1,         28,     SIH032,2,19950912,       2358,     9.1083,    52.2667,       4540,   301.0,  12.7552,  35.2848,2,  35.2846,2,     63.7,2,    61.5,2,   25.24,2,   26.69,2,    0.00,2,    1.97,2,   0.713,2,   0.369,2,  2214.5,2,  2321.8,2,-999.0000,9,-999.0000,9, -999.00,9, -999.00,9,  -999.0,9,    -9.0,-999.000,9,-999.000,    2996,-999.0000,  12.7140,-999.0000, -999.00
 316N145_11,       I01W,     904,          1,         27,     SIH033,2,19950912,       2358,     9.1083,    52.2667,       4540,   401.5,  11.7456,  35.2883,2,  35.2926,2,     46.8,2,    49.0,2,   31.64,2,   29.62,2,    0.00,2,    2.17,2,-999.000,9,-999.000,9,  -999.0,9,  -999.0,9,-999.0000,9,-999.0000,9, -999.00,9, -999.00,9,  -999.0,9,    -9.0,-999.000,9,-999.000,    4001,-999.0000,  11.6933,-999.0000, -999.00
 316N145_11,       I01W,     904,          1,         26,     SIH037,3,19950912,       2358,     9.1083,    52.2667,       4540,   502.0,  10.8660,  35.2174,3,  35.2188,2,     50.8,2,    53.1,2,   36.31,2,   30.64,2,    0.00,2,    2.24,2,   0.297,3,   0.148,2,  2238.6,2,  2329.9,2,-999.0000,9,-999.0000,9, -999.00,9, -999.00,9,  -999.0,9,    -9.0,-999.000,9,-999.000,    5007,-999.0000,  10.8035,-999.0000, -999.00
 316N145_11,       I01W,     904,          1,         25,     SI9446,2,19950912,       2358,     9.1083,    52.2667,       4540,   601.3,  11.0772,  35.4799,2,  35.4799,2,     25.1,2,    28.0,2,   46.41,2,   32.24,2,    0.00,2,    2.50,2,-999.000,9,-999.000,9,  -999.0,9,  -999.0,9,-999.0000,9,-999.0000,9, -999.00,9, -999.00,9,  -999.0,9,    -9.0,-999.000,9,-999.000,    6000,-999.0000,  11.0011,-999.0000, -999.00
 316N145_11,       I01W,     904,          1,         24,     SIH036,2,19950912,       2358,     9.1083,    52.2667,       4540,   701.7,  10.4880,  35.5176,2,  35.5137,2,     18.2,2,    20.7,2,   56.12,2,   33.62,2,   -0.01,2,    2.59,2,   0.101,2,   0.052,2,  2277.7,2,  2351.7,2,-999.0000,9,-999.0000,9, -999.00,9, -999.00,9,  -999.0,9,    -9.0,-999.000,9,-999.000,    7004,-999.0000,  10.4016,-999.0000, -999.00
 316N145_11,       I01W,     904,          1,         23,     SIH001,2,19950912,       2358,     9.1083,    52.2667,       4540,   802.3,   9.0686,  35.3093,2,  35.3078,2,     25.1,2,    31.0,2,   65.85,2,   35.34,2,    0.00,2,    2.67,2,-999.000,9,-999.000,9,  -999.0,9,  -999.0,9,-999.0000,9,-999.0000,9, -999.00,9, -999.00,9,  -999.0,9,    -9.0,-999.000,9,-999.000,    8011,-999.0000,   8.9777,-999.0000, -999.00
 316N145_11,       I01W,     904,          1,         22,     SIH019,2,19950912,       2358,     9.1083,    52.2667,       4540,   903.0,   8.5076,  35.2686,2,  35.2647,2,     32.9,2,    33.3,2,   71.69,2,   35.77,2,    0.00,2,    2.70,2,   0.038,2,   0.018,2,  2293.6,2,  2360.2,2,-999.0000,9,-999.0000,9, -999.00,9, -999.00,9,  -999.0,9,    -9.0,-999.000,9,-999.000,    9019,-999.0000,   8.4083,-999.0000, -999.00
 316N145_11,       I01W,     904,          1,         21,     SIH025,2,19950912,       2358,     9.1083,    52.2667,       4540,  1003.3,   7.7596,  35.1814,2,  35.1815,2,     37.5,2,    37.1,2,   78.12,2,   36.52,2,    0.00,2,    2.74,2,-999.000,9,-999.000,9,  -999.0,9,  -999.0,9,-999.0000,9,-999.0000,9, -999.00,9, -999.00,9,  -999.0,9,    -9.0,-999.000,9,-999.000,   10022,-999.0000,   7.6544,-999.0000, -999.00
 316N145_11,       I01W,     904,          1,         20,     SIH004,2,19950912,       2358,     9.1083,    52.2667,       4540,  1097.4,   7.0256,  35.1086,2,  35.1067,2,     44.2,2,    44.4,2,   84.94,2,   36.91,2,   -0.01,2,    2.77,2,   0.015,2,   0.005,2,  2304.6,2,  2374.2,2,-999.0000,9,-999.0000,9, -999.00,9, -999.00,9,  -999.0,9,    -9.0,-999.000,9,-999.000,   10963,-999.0000,   6.9158,-999.0000, -999.00
 316N145_11,       I01W,     904,          1,         19,     SIH005,2,19950912,       2358,     9.1083,    52.2667,       4540,  1200.9,   6.5341,  35.0521,2,  35.0555,2,     52.8,2,    53.1,2,   89.04,2,   37.23,2,   -0.01,2,    2.76,2,-999.000,9,-999.000,9,  -999.0,9,  -999.0,9,-999.0000,9,-999.0000,9, -999.00,9, -999.00,9,  -999.0,9,    -9.0,-999.000,9,-999.000,   11999,-999.0000,   6.4177,-999.0000, -999.00
 316N145_11,       I01W,     904,          1,         18,     SIH006,2,19950912,       2358,     9.1083,    52.2667,       4540,  1402.4,   5.7091,  34.9909,2,  34.9931,2,     62.5,2,    61.7,2,   97.22,2,   37.45,2,   -0.01,2,    2.76,2,   0.005,2,   0.002,2,  2311.4,2,  2384.5,2,-999.0000,9,-999.0000,9, -999.00,9, -999.00,9,  -999.0,9,    -9.0,-999.000,9,-999.000,   14015,-999.0000,   5.5798,-999.0000, -999.00
 316N145_11,       I01W,     904,          1,         17,     SIH038,3,19950912,       2358,     9.1083,    52.2667,       4540,  1600.3,   4.7231,  34.9202,3,  34.9201,2,     79.2,2,    79.7,2,  106.96,2,   37.24,2,    0.00,2,    2.73,2,-999.000,9,-999.000,9,  -999.0,9,  -999.0,9,-999.0000,9,-999.0000,9, -999.00,9, -999.00,9,  -999.0,9,    -9.0,-999.000,9,-999.000,   15995,-999.0000,   4.5851,-999.0000, -999.00
 316N145_11,       I01W,     904,          1,         16,     SIH008,2,19950912,       2358,     9.1083,    52.2667,       4540,  1800.2,   3.7969,  34.8652,2,  34.8648,2,     94.6,2,    95.6,2,  118.46,2,   36.93,2,    0.00,2,    2.69,2,   0.001,2,   0.000,2,  2323.2,2,  2405.7,2,-999.0000,9,-999.0000,9, -999.00,9, -999.00,9,  -999.0,9,    -9.0,-999.000,9,-999.000,   17995,-999.0000,   3.6517,-999.0000, -999.00
 316N145_11,       I01W,     904,          1,         15,     SIH009,2,19950912,       2358,     9.1083,    52.2667,       4540,  2003.1,   3.0257,  34.8186,2,  34.8174,2,    110.0,2,   111.5,2,  127.24,2,   36.45,2,    0.00,2,    2.63,2,-999.000,9,-999.000,9,  -999.0,9,  -999.0,9,-999.0000,9,-999.0000,9, -999.00,9, -999.00,9,  -999.0,9,    -9.0,-999.000,9,-999.000,   20025,-999.0000,   2.8728,-999.0000, -999.00
 316N145_11,       I01W,     904,          1,         14,     SIH010,2,19950912,       2358,     9.1083,    52.2667,       4540,  2200.4,   2.6227,  34.7924,2,  34.7921,2,    123.3,2,   123.5,2,  131.15,2,   36.08,2,    0.00,2,    2.58,2,   0.000,2,   0.000,2,  -999.0,9,  -999.0,9,-999.0000,9,-999.0000,9, -999.00,9, -999.00,9,  -999.0,9,    -9.0,-999.000,9,-999.000,   22000,-999.0000,   2.4582,-999.0000, -999.00
 316N145_11,       I01W,     904,          1,         13,     SIH011,2,19950912,       2358,     9.1083,    52.2667,       4540,  2395.9,   2.2701,  34.7702,2,  34.7703,2,    132.5,2,   134.6,2,  134.29,2,   35.77,2,    0.00,2,    2.53,2,-999.000,9,-999.000,9,  -999.0,9,  -999.0,9,-999.0000,9,-999.0000,9, -999.00,9, -999.00,9,  -999.0,9,    -9.0,-999.000,9,-999.000,   23956,-999.0000,   2.0939,-999.0000, -999.00
 316N145_11,       I01W,     904,          1,         12,     SIH012,2,19950912,       2358,     9.1083,    52.2667,       4540,  2595.6,   2.0588,  34.7586,2,  34.7575,2,    141.7,2,   142.1,2,  135.47,2,   35.40,2,    0.00,2,    2.50,2,   0.000,2,   0.000,2,  -999.0,9,  -999.0,9,-999.0000,9,-999.0000,9, -999.00,9, -999.00,9,  -999.0,9,    -9.0,-999.000,9,-999.000,   25954,-999.0000,   1.8682,-999.0000, -999.00
 316N145_11,       I01W,     904,          1,         11,     SI9426,3,19950912,       2358,     9.1083,    52.2667,       4540,  2797.4,   1.9440,  34.7521,3,  34.7518,2,    144.0,2,   146.3,2,  136.67,2,   35.29,2,    0.00,2,    2.49,2,-999.000,9,-999.000,9,  -999.0,9,  -999.0,9,-999.0000,9,-999.0000,9, -999.00,9, -999.00,9,  -999.0,9,    -9.0,-999.000,9,-999.000,   27974,-999.0000,   1.7367,-999.0000, -999.00
 316N145_11,       I01W,     904,          1,         10,     SIH014,2,19950912,       2358,     9.1083,    52.2667,       4540,  3000.2,   1.8562,  34.7453,2,  34.7447,2,    149.9,2,   151.8,2,  136.49,2,   35.09,2,   -0.01,2,    2.46,2,  -0.002,2,   0.000,2,  -999.0,9,  -999.0,9,-999.0000,9,-999.0000,9, -999.00,9, -999.00,9,  -999.0,9,    -9.0,-999.000,9,-999.000,   30003,-999.0000,   1.6311,-999.0000, -999.00
 316N145_11,       I01W,     904,          1,          9,     SIH015,2,19950912,       2358,     9.1083,    52.2667,       4540,  3202.1,   1.7986,  34.7428,2,  34.7416,2,    153.9,2,   152.9,2,  137.68,2,   35.04,2,   -0.01,2,    2.45,2,-999.000,9,-999.000,9,  -999.0,9,  -999.0,9,-999.0000,9,-999.0000,9, -999.00,9, -999.00,9,  -999.0,9,    -9.0,-999.000,9,-999.000,   32024,-999.0000,   1.5550,-999.0000, -999.00
 316N145_11,       I01W,     904,          1,          8,     SIH016,2,19950912,       2358,     9.1083,    52.2667,       4540,  3401.3,   1.7186,  34.7371,2,  34.7368,2,    159.2,2,   157.7,2,  136.73,2,   34.56,2,    0.00,2,    2.42,2,  -0.001,2,  -0.001,2,  -999.0,9,  -999.0,9,-999.0000,9,-999.0000,9, -999.00,9, -999.00,9,  -999.0,9,    -9.0,-999.000,9,-999.000,   34017,-999.0000,   1.4569,-999.0000, -999.00
 316N145_11,       I01W,     904,          1,          7,     SIH017,3,19950912,       2358,     9.1083,    52.2667,       4540,  3599.7,   1.6039,  34.7308,3,  34.7315,2,    167.5,2,   166.0,2,  135.19,2,   34.39,2,    0.01,2,    2.39,2,-999.000,9,-999.000,9,  -999.0,9,  -999.0,9,-999.0000,9,-999.0000,9, -999.00,9, -999.00,9,  -999.0,9,    -9.0,-999.000,9,-999.000,   36003,-999.0000,   1.3246,-999.0000, -999.00
 316N145_11,       I01W,     904,          1,          6,     SIH018,2,19950912,       2358,     9.1083,    52.2667,       4540,  3797.0,   1.4915,  34.7258,2,  34.7248,2,    173.9,2,   173.1,2,  134.63,2,   33.98,2,    0.00,2,    2.35,2,  -0.001,2,  -0.001,2,  -999.0,9,  -999.0,9,-999.0000,9,-999.0000,9, -999.00,9, -999.00,9,  -999.0,9,    -9.0,-999.000,9,-999.000,   37977,-999.0000,   1.1944,-999.0000, -999.00
 316N145_11,       I01W,     904,          1,          5,     SIH002,2,19950912,       2358,     9.1083,    52.2667,       4540,  3997.9,   1.3962,  34.7216,2,  34.7209,2,    179.0,2,   178.3,2,  135.04,2,   33.67,2,   -0.01,2,    2.33,2,-999.000,9,-999.000,9,  -999.0,9,  -999.0,9,-999.0000,9,-999.0000,9, -999.00,9, -999.00,9,  -999.0,9,    -9.0,-999.000,9,-999.000,   39988,-999.0000,   1.0802,-999.0000, -999.00
 316N145_11,       I01W,     904,          1,          4,     SIH020,3,19950912,       2358,     9.1083,    52.2667,       4540,  4195.3,   1.3492,  34.7185,3,  34.7186,2,    182.2,2,   180.9,2,  135.06,2,   33.61,2,    0.01,2,    2.32,2,-999.000,9,-999.000,9,  -999.0,9,  -999.0,9,-999.0000,9,-999.0000,9, -999.00,9, -999.00,9,  -999.0,9,    -9.0,-999.000,9,-999.000,   41963,-999.0000,   1.0130,-999.0000, -999.00
 316N145_11,       I01W,     904,          1,          3,     SIH021,2,19950912,       2358,     9.1083,    52.2667,       4540,  4405.9,   1.3280,  34.7167,2,  34.7172,2,    185.0,2,   182.1,2,  135.66,2,   33.51,2,   -0.01,2,    2.31,2,-999.000,9,-999.000,9,  -999.0,9,  -999.0,9,-999.0000,9,-999.0000,9, -999.00,9, -999.00,9,  -999.0,9,    -9.0,-999.000,9,-999.000,   44071,-999.0000,   0.9689,-999.0000, -999.00
 316N145_11,       I01W,     904,          1,          2,     SIH022,2,19950912,       2358,     9.1083,    52.2667,       4540,  4559.0,   1.3331,  34.7170,2,  34.7158,2,    185.3,2,   181.9,2,  136.27,2,   33.56,2,    0.01,2,    2.31,2,   0.004,2,   0.003,2,  -999.0,9,  -999.0,9,-999.0000,9,-999.0000,9, -999.00,9, -999.00,9,  -999.0,9,    -9.0,-999.000,9,-999.000,   45602,-999.0000,   0.9564,-999.0000, -999.00
 316N145_11,       I01W,     904,          1,          1,     SIH023,2,19950912,       2358,     9.1083,    52.2667,       4540,  4611.3,   1.3368,  34.7165,2,  34.7176,2,    187.6,2,   183.6,2,  136.01,2,   33.72,2,    0.00,2,    2.32,2,   0.001,2,  -0.001,2,  -999.0,9,  -999.0,9,-999.0000,9,-999.0000,9, -999.00,9, -999.00,9,  -999.0,9,    -9.0,-999.000,9,-999.000,   46126,-999.0000,   0.9539,-999.0000, -999.00