BOTTLE,20211119CCHSIORKP
EXPOCODE,SECT_ID,STNNBR,CASTNO,SAMPNO,BTLNBR,BTLNBR_FLAG_W,DATE,TIME,LATITUDE,LONGITUDE,DEPTH,CTDPRS,CTDTMP,CTDSAL,CTDSAL_FLAG_W,SALNTY,SALNTY_FLAG_W,CTDOXY,CTDOXY_FLAG_W,OXYGEN,OXYGEN_FLAG_W,SILCAT,SILCAT_FLAG_W,NITRAT,NITRAT_FLAG_W,NITRIT,NITRIT_FLAG_W,PHSPHT,PHSPHT_FLAG_W,CFC-11,CFC-11_FLAG_W,CFC-12,CFC-12_FLAG_W,TCARBN,TCARBN_FLAG_W,ALKALI,ALKALI_FLAG_W,TRITUM,TRITUM_FLAG_W,HELIUM,HELIUM_FLAG_W,DELHE3,DELHE3_FLAG_W,DELC13,DELC13_FLAG_W,DELC14,DELC14_FLAG_W,C14ERR,NEON,NEON_FLAG_W,NEONER,CTDRAW,TRITER,THETA,HELIER,DELHER
,,,,,,,,,,,METERS,DBAR,ITS-90,PSS-78,,PSS-78,,UMOL/KG,,UMOL/KG,,UMOL/KG,,UMOL/KG,,UMOL/KG,,UMOL/KG,,PMOL/KG,,PMOL/KG,,UMOL/KG,,UMOL/KG,,TU,,NMOL/KG,,PERCNT,,/MILLE,,/MILLE,,/MILLE,NMOL/KG,,NMOL/KG,DBAR,TU,DEG C,NMOL/KG,PERCNT
 316N145_11,       I01W,     919,          1,         32,     SIH028,2,19950916,       2152,     8.8417,    59.0028,       3150,     5.5,  26.8569,  36.0081,2,  36.0080,2,   -999.0,9,   213.8,2,    2.59,2,    1.45,2,    0.28,2,    0.38,2,   1.742,2,   1.009,2,  2016.3,2,  2347.9,2,-999.0000,9,-999.0000,9, -999.00,9, -999.00,9,  -999.0,9,    -9.0,-999.000,9,-999.000,      42,-999.0000,  26.8556,-999.0000, -999.00
 316N145_11,       I01W,     919,          1,         31,     SIH029,2,19950916,       2152,     8.8417,    59.0028,       3150,    30.9,  26.7296,  36.0164,2,  36.0137,2,    222.5,2,   211.8,2,    2.40,2,    1.45,2,    0.29,2,    0.38,2,-999.000,9,-999.000,9,  2016.0,2,  2348.6,2,-999.0000,9,-999.0000,9, -999.00,9, -999.00,9,  -999.0,9,    -9.0,-999.000,9,-999.000,     296,-999.0000,  26.7226,-999.0000, -999.00
 316N145_11,       I01W,     919,          1,         30,     SIH030,2,19950916,       2152,     8.8417,    59.0028,       3150,    60.8,  26.4118,  35.9971,2,  36.0001,2,    207.8,2,   209.5,2,    2.76,2,    2.01,2,    0.44,2,    0.44,2,   1.743,2,   1.018,2,  2023.0,2,  2348.3,2,-999.0000,9,   1.7570,2,    0.60,2, -999.00,9,  -999.0,9,    -9.0,   6.989,2,   0.140,     596,-999.0000,  26.3980,   0.0090,    0.20
 316N145_11,       I01W,     919,          1,         29,     SIH031,2,19950916,       2152,     8.8417,    59.0028,       3150,    90.2,  26.3519,  36.0026,2,  36.0026,2,    193.3,2,   202.1,2,    2.75,2,    2.10,2,    0.61,2,    0.47,2,-999.000,9,-999.000,9,  2025.0,2,  2347.6,2,-999.0000,9,-999.0000,9, -999.00,9, -999.00,9,  -999.0,9,    -9.0,-999.000,9,-999.000,     889,-999.0000,  26.3315,-999.0000, -999.00
 316N145_11,       I01W,     919,          1,         28,     SIH032,2,19950916,       2152,     8.8417,    59.0028,       3150,   119.9,  25.0204,  35.7696,2,  35.7716,2,    179.9,2,   186.7,2,    4.58,2,    6.85,2,    0.52,2,    0.73,2,   1.760,2,   1.007,2,  2053.5,2,  2334.5,2,-999.0000,9,-999.0000,9, -999.00,9, -999.00,9,  -999.0,9,    -9.0,-999.000,9,-999.000,    1187,-999.0000,  24.9943,-999.0000, -999.00
 316N145_11,       I01W,     919,          1,         27,     SIH033,2,19950916,       2152,     8.8417,    59.0028,       3150,   150.3,  23.4454,  35.7625,2,  35.7622,2,    137.3,2,   138.3,2,    7.14,2,   12.51,2,    0.08,2,    1.07,2,-999.000,9,-999.000,9,  2095.5,2,  2336.5,2,-999.0000,9,-999.0000,9, -999.00,9, -999.00,9,  -999.0,9,    -9.0,-999.000,9,-999.000,    1491,-999.0000,  23.4142,-999.0000, -999.00
 316N145_11,       I01W,     919,          1,         26,     SIH037,2,19950916,       2152,     8.8417,    59.0028,       3150,   200.3,  17.3661,  35.6022,2,  35.5817,2,     20.2,2,    23.7,2,   19.58,2,   25.19,2,    0.01,2,    2.07,2,   0.974,2,   0.550,2,  2217.4,2,  2326.6,2,-999.0000,9,-999.0000,9, -999.00,9, -999.00,9,  -999.0,9,    -9.0,-999.000,9,-999.000,    1991,-999.0000,  17.3324,-999.0000, -999.00
 316N145_11,       I01W,     919,          1,         25,     SI9446,3,19950916,       2152,     8.8417,    59.0028,       3150,   250.2,  14.7494,  35.4729,3,  35.4701,2,     28.5,2,    27.0,2,   23.98,2,   26.52,2,    0.01,2,    2.14,2,-999.000,9,-999.000,9,  2231.4,2,  2324.0,2,-999.0000,9,-999.0000,9, -999.00,9, -999.00,9,  -999.0,9,    -9.0,-999.000,9,-999.000,    2490,-999.0000,  14.7118,-999.0000, -999.00
 316N145_11,       I01W,     919,          1,         24,     SIH036,2,19950916,       2152,     8.8417,    59.0028,       3150,   300.2,  12.6715,  35.3294,2,  35.3194,2,     55.3,2,    45.8,2,   26.36,2,   27.86,2,    0.00,2,    2.09,2,   0.580,2,   0.303,2,  2229.6,2,  2320.0,2,-999.0000,9,-999.0000,9, -999.00,9, -999.00,9,  -999.0,9,    -9.0,-999.000,9,-999.000,    2990,-999.0000,  12.6306,-999.0000, -999.00
 316N145_11,       I01W,     919,          1,         23,     SIH001,2,19950916,       2152,     8.8417,    59.0028,       3150,   399.4,  11.4556,  35.2476,2,  35.2459,2,     42.5,2,    43.5,2,   32.05,2,   30.53,2,    0.00,2,    2.24,2,-999.000,9,-999.000,9,  2240.9,2,  2325.9,2,-999.0000,9,   1.8330,2,    7.30,2, -999.00,9,  -999.0,9,    -9.0,   7.502,2,   0.150,    3982,-999.0000,  11.4046,   0.0090,    0.20
 316N145_11,       I01W,     919,          1,         22,     SIH019,2,19950916,       2152,     8.8417,    59.0028,       3150,   497.6,  10.7352,  35.2626,2,  35.2615,2,     24.8,2,    25.0,2,   42.30,2,   33.15,2,    0.00,2,    2.50,2,   0.102,2,   0.056,2,  -999.0,9,  -999.0,9,-999.0000,9,-999.0000,9, -999.00,9, -999.00,9,  -999.0,9,    -9.0,-999.000,9,-999.000,    4965,-999.0000,  10.6737,-999.0000, -999.00
 316N145_11,       I01W,     919,          1,         21,     SIH025,2,19950916,       2152,     8.8417,    59.0028,       3150,   593.3,  10.4122,  35.2905,2,  35.2895,2,     23.9,2,    23.4,2,   47.62,2,   33.81,2,    0.00,2,    2.56,2,-999.000,9,-999.000,9,  2270.8,2,  2338.0,2,-999.0000,9,-999.0000,9, -999.00,9, -999.00,9,  -999.0,9,    -9.0,-999.000,9,-999.000,    5922,-999.0000,  10.3399,-999.0000, -999.00
 316N145_11,       I01W,     919,          1,         20,     SIH004,2,19950916,       2152,     8.8417,    59.0028,       3150,   695.0,   9.5631,  35.2427,2,  35.2424,2,     21.2,2,    21.9,2,   58.26,2,   35.41,2,    0.00,2,    2.69,2,   0.032,2,   0.016,2,  -999.0,9,  -999.0,9,-999.0000,9,-999.0000,9, -999.00,9, -999.00,9,  -999.0,9,    -9.0,-999.000,9,-999.000,    6939,-999.0000,   9.4823,-999.0000, -999.00
 316N145_11,       I01W,     919,          1,         19,     SIH005,3,19950916,       2152,     8.8417,    59.0028,       3150,   796.6,   9.4882,  35.3526,3,  35.3537,2,     21.6,2,    21.8,2,   62.85,2,   35.20,2,    0.00,2,    2.70,2,-999.000,9,-999.000,9,  -999.0,9,  -999.0,9,-999.0000,9,-999.0000,9, -999.00,9, -999.00,9,  -999.0,9,    -9.0,-999.000,9,-999.000,    7955,-999.0000,   9.3955,-999.0000, -999.00
 316N145_11,       I01W,     919,          1,         18,     SIH006,2,19950916,       2152,     8.8417,    59.0028,       3150,   897.9,   8.8744,  35.3340,2,  35.3206,2,     23.1,2,    24.0,2,   69.27,2,   35.86,2,    0.00,2,    2.74,2,   0.038,2,   0.018,2,  2298.1,2,  2361.8,2,-999.0000,9,-999.0000,9, -999.00,9, -999.00,9,  -999.0,9,    -9.0,-999.000,9,-999.000,    8970,-999.0000,   8.7733,-999.0000, -999.00
 316N145_11,       I01W,     919,          1,         17,     SIH038,2,19950916,       2152,     8.8417,    59.0028,       3150,   998.0,   8.1760,  35.2576,2,  35.2546,2,     30.1,2,    28.2,2,   76.07,2,   36.64,2,    0.00,2,    2.79,2,-999.000,9,-999.000,9,  -999.0,9,  -999.0,9,-999.0000,9,   1.8600,2,   10.20,2, -999.00,9,  -999.0,9,    -9.0,   7.890,2,   0.158,    9970,-999.0000,   8.0683,   0.0090,    0.20
 316N145_11,       I01W,     919,          1,         16,     SIH008,2,19950916,       2152,     8.8417,    59.0028,       3150,  1098.9,   7.5558,  35.1976,2,  35.1935,2,     35.8,2,    34.9,2,   81.77,2,   37.05,2,   -0.01,2,    2.81,2,   0.029,3,   0.010,2,  2308.6,2,  2369.5,2,-999.0000,9,   1.8730,2,   12.40,2, -999.00,9,  -999.0,9,    -9.0,   7.903,2,   0.158,   10980,-999.0000,   7.4414,   0.0090,    0.20
 316N145_11,       I01W,     919,          1,         15,     SIH009,2,19950916,       2152,     8.8417,    59.0028,       3150,  1200.0,   6.8715,  35.1273,2,  35.1256,2,     42.2,2,    41.7,2,   88.02,2,   37.46,2,    0.00,2,    2.82,2,-999.000,9,-999.000,9,  -999.0,9,  -999.0,9,-999.0000,9,   1.8420,2,   15.40,2, -999.00,9,  -999.0,9,    -9.0,   7.917,2,   0.158,   11992,-999.0000,   6.7520,   0.0090,    0.20
 316N145_11,       I01W,     919,          1,         14,     SIH010,2,19950916,       2152,     8.8417,    59.0028,       3150,  1300.4,   6.1051,  35.0576,2,  35.0575,2,     52.6,2,    52.5,2,   95.38,2,   37.62,2,    0.00,2,    2.83,2,-999.000,9,-999.000,9,  -999.0,9,  -999.0,9,-999.0000,9,-999.0000,9, -999.00,9, -999.00,9,  -999.0,9,    -9.0,-999.000,9,-999.000,   12997,-999.0000,   5.9822,-999.0000, -999.00
 316N145_11,       I01W,     919,          1,         13,     SIH011,2,19950916,       2152,     8.8417,    59.0028,       3150,  1396.8,   5.5092,  35.0035,2,  35.0006,2,     63.7,2,    62.9,2,  101.09,2,   37.62,2,    0.00,2,    2.80,2,   0.002,2,   0.001,2,  2322.5,2,  2384.8,2,-999.0000,9,   1.8380,2,   12.90,2, -999.00,9,  -999.0,9,    -9.0,   8.028,2,   0.161,   13961,-999.0000,   5.3824,   0.0090,    0.20
 316N145_11,       I01W,     919,          1,         12,     SIH012,2,19950916,       2152,     8.8417,    59.0028,       3150,  1497.2,   4.9041,  34.9524,2,  34.9528,2,     69.3,2,    71.8,2,  107.35,2,   37.63,2,    0.00,2,    2.79,2,-999.000,9,-999.000,9,  -999.0,9,  -999.0,9,-999.0000,9,   1.8600,2,   15.40,2, -999.00,9,  -999.0,9,    -9.0,   7.974,2,   0.159,   14966,-999.0000,   4.7742,   0.0090,    0.20
 316N145_11,       I01W,     919,          1,         11,     SI9426,2,19950916,       2152,     8.8417,    59.0028,       3150,  1597.8,   4.4046,  34.9111,2,  34.9120,2,     80.6,2,    81.4,2,  112.14,2,   37.37,2,    0.00,2,    2.75,2,-999.000,9,-999.000,9,  2326.3,2,  2394.2,2,-999.0000,9,   1.8640,2,   15.80,2, -999.00,9,  -999.0,9,    -9.0,   8.028,2,   0.161,   15972,-999.0000,   4.2708,   0.0090,    0.20
 316N145_11,       I01W,     919,          1,         10,     SIH014,2,19950916,       2152,     8.8417,    59.0028,       3150,  1795.9,   3.4880,  34.8432,2,  34.8438,2,    100.1,2,   104.9,2,  120.43,2,   36.77,2,    0.00,2,    2.67,2,-999.000,9,-999.000,9,  -999.0,9,  -999.0,9,-999.0000,9,   1.9310,2,   15.60,2, -999.00,9,  -999.0,9,    -9.0,   8.077,2,   0.162,   17954,-999.0000,   3.3474,   0.0100,    0.20
 316N145_11,       I01W,     919,          1,          9,     SIH015,2,19950916,       2152,     8.8417,    59.0028,       3150,  1997.1,   2.8339,  34.8060,2,  34.8062,2,    115.8,2,   118.2,2,  128.18,2,   36.30,2,    0.00,2,    2.62,2,-999.000,9,-999.000,9,  -999.0,9,  -999.0,9,-999.0000,9,   1.9130,2,   15.90,2, -999.00,9,  -999.0,9,    -9.0,   8.206,2,   0.164,   19968,-999.0000,   2.6846,   0.0100,    0.20
 316N145_11,       I01W,     919,          1,          8,     SIH016,2,19950916,       2152,     8.8417,    59.0028,       3150,  2195.1,   2.4072,  34.7801,2,  34.7799,2,    130.5,2,   131.6,2,  132.23,2,   36.04,2,   -0.01,2,    2.57,2,   0.000,2,   0.004,2,  2324.9,2,  2414.4,2,-999.0000,9,   1.9400,2,   14.00,2, -999.00,9,  -999.0,9,    -9.0,   8.345,2,   0.167,   21949,-999.0000,   2.2469,   0.0100,    0.20
 316N145_11,       I01W,     919,          1,          7,     SIH017,2,19950916,       2152,     8.8417,    59.0028,       3150,  2397.6,   2.1907,  34.7670,2,  34.7689,2,    137.0,2,   138.1,2,  133.92,2,   35.62,2,    0.01,2,    2.53,2,-999.000,9,-999.000,9,  -999.0,9,  -999.0,9,-999.0000,9,   1.9670,2,   15.10,2, -999.00,9,  -999.0,9,    -9.0,   8.461,2,   0.169,   23975,-999.0000,   2.0158,   0.0100,    0.20
 316N145_11,       I01W,     919,          1,          6,     SIH018,2,19950916,       2152,     8.8417,    59.0028,       3150,  2598.4,   2.0335,  34.7593,2,  34.7585,2,    141.2,2,   143.7,2,  135.23,2,   35.49,2,   -0.01,2,    2.52,2,-999.000,9,-999.000,9,  2321.9,2,  2416.4,2,-999.0000,9,   1.9490,2,   15.10,2, -999.00,9,  -999.0,9,    -9.0,   8.358,2,   0.167,   25985,-999.0000,   1.8431,   0.0100,    0.20
 316N145_11,       I01W,     919,          1,          5,     SIH002,2,19950916,       2152,     8.8417,    59.0028,       3150,  2799.1,   1.9233,  34.7523,2,  34.7516,2,    144.8,2,   148.7,2,  136.17,2,   35.22,2,    0.01,2,    2.48,2,-999.000,9,-999.000,9,  -999.0,9,  -999.0,9,-999.0000,9,-999.0000,9, -999.00,9, -999.00,9,  -999.0,9,    -9.0,-999.000,9,-999.000,   27994,-999.0000,   1.7163,-999.0000, -999.00
 316N145_11,       I01W,     919,          1,          4,     SIH020,3,19950916,       2152,     8.8417,    59.0028,       3150,  3000.1,   1.8169,  34.7455,3,  34.7471,2,    152.2,2,   151.8,2,  137.29,2,   35.19,2,    0.00,2,    2.48,2,  -0.001,2,   0.001,2,  -999.0,9,  -999.0,9,-999.0000,9,   1.9090,2,   14.80,2, -999.00,9,  -999.0,9,    -9.0,   8.443,2,   0.169,   30005,-999.0000,   1.5927,   0.0100,    0.20
 316N145_11,       I01W,     919,          1,          3,     SIH021,2,19950916,       2152,     8.8417,    59.0028,       3150,  3205.5,   1.7320,  34.7409,2,  34.7410,2,    150.6,2,   153.4,2,  138.04,2,   34.98,2,    0.00,2,    2.46,2,-999.000,9,-999.000,9,  2320.6,2,  2420.0,2,-999.0000,9,   1.9310,2,   15.10,2, -999.00,9,  -999.0,9,    -9.0,   8.438,2,   0.169,   32061,-999.0000,   1.4895,   0.0100,    0.20
 316N145_11,       I01W,     919,          1,          2,     SIH022,2,19950916,       2152,     8.8417,    59.0028,       3150,  3257.6,   1.7228,  34.7403,2,  34.7408,2,    152.3,2,   155.0,2,  138.44,2,   35.12,2,    0.01,2,    2.46,2,   0.000,2,   0.001,2,  -999.0,9,  -999.0,9,-999.0000,9,   1.8960,2,   14.60,2, -999.00,9,  -999.0,9,    -9.0,   8.322,2,   0.166,   32582,-999.0000,   1.4754,   0.0090,    0.20
 316N145_11,       I01W,     919,          1,          1,     SIH023,2,19950916,       2152,     8.8417,    59.0028,       3150,  3309.3,   1.7296,  34.7402,2,  34.7396,2,   -999.0,9,   156.5,2,  138.20,2,   35.03,2,    0.00,2,    2.46,2,  -0.001,2,   0.000,2,  2320.7,2,  2420.6,2,-999.0000,9,   1.9180,2,   14.20,2, -999.00,9,  -999.0,9,    -9.0,   8.425,2,   0.168,   33099,-999.0000,   1.4768,   0.0100,    0.20