BOTTLE,20211119CCHSIORKP
EXPOCODE,SECT_ID,STNNBR,CASTNO,SAMPNO,BTLNBR,BTLNBR_FLAG_W,DATE,TIME,LATITUDE,LONGITUDE,DEPTH,CTDPRS,CTDTMP,CTDSAL,CTDSAL_FLAG_W,SALNTY,SALNTY_FLAG_W,CTDOXY,CTDOXY_FLAG_W,OXYGEN,OXYGEN_FLAG_W,SILCAT,SILCAT_FLAG_W,NITRAT,NITRAT_FLAG_W,NITRIT,NITRIT_FLAG_W,PHSPHT,PHSPHT_FLAG_W,CFC-11,CFC-11_FLAG_W,CFC-12,CFC-12_FLAG_W,TCARBN,TCARBN_FLAG_W,ALKALI,ALKALI_FLAG_W,TRITUM,TRITUM_FLAG_W,HELIUM,HELIUM_FLAG_W,DELHE3,DELHE3_FLAG_W,DELC13,DELC13_FLAG_W,DELC14,DELC14_FLAG_W,C14ERR,NEON,NEON_FLAG_W,NEONER,CTDRAW,TRITER,THETA,HELIER,DELHER
,,,,,,,,,,,METERS,DBAR,ITS-90,PSS-78,,PSS-78,,UMOL/KG,,UMOL/KG,,UMOL/KG,,UMOL/KG,,UMOL/KG,,UMOL/KG,,PMOL/KG,,PMOL/KG,,UMOL/KG,,UMOL/KG,,TU,,NMOL/KG,,PERCNT,,/MILLE,,/MILLE,,/MILLE,NMOL/KG,,NMOL/KG,DBAR,TU,DEG C,NMOL/KG,PERCNT
 316N145_11,       I01W,     947,          1,         27,     SIH033,2,19950924,       1342,     8.5000,    72.4333,       2125,     4.5,  28.3786,  35.7912,2,  35.7904,2,    206.8,2,   206.0,2,    1.93,2,    0.15,2,    0.00,2,    0.11,2,   1.630,2,   0.954,2,  1956.8,2,  2333.0,2,-999.0000,9,-999.0000,9, -999.00,9, -999.00,9,  -999.0,9,    -9.0,-999.000,9,-999.000,      42,-999.0000,  28.3775,-999.0000, -999.00
 316N145_11,       I01W,     947,          1,         26,     SIH037,2,19950924,       1342,     8.5000,    72.4333,       2125,    29.7,  27.8026,  35.9764,2,  35.9947,2,    208.1,2,   206.9,2,    2.28,2,    0.46,2,    0.07,2,    0.20,2,   1.609,2,   0.942,2,  1978.7,2,  2343.2,2,-999.0000,9,-999.0000,9, -999.00,9, -999.00,9,  -999.0,9,    -9.0,-999.000,9,-999.000,     294,-999.0000,  27.7956,-999.0000, -999.00
 316N145_11,       I01W,     947,          1,         25,     SI9446,2,19950924,       1342,     8.5000,    72.4333,       2125,    59.2,  26.4837,  36.0926,2,  36.1458,2,     94.2,2,   142.2,2,    4.98,2,    7.36,2,    0.13,2,    0.69,2,-999.000,9,-999.000,9,  2052.9,2,  2355.8,2,-999.0000,9,-999.0000,9, -999.00,9, -999.00,9,  -999.0,9,    -9.0,-999.000,9,-999.000,     590,-999.0000,  26.4703,-999.0000, -999.00
 316N145_11,       I01W,     947,          1,         24,     SIH036,2,19950924,       1342,     8.5000,    72.4333,       2125,    89.4,  19.4857,  35.1822,2,  35.1719,2,     15.9,2,    20.8,2,   19.54,2,   25.75,2,    0.03,2,    1.87,2,   0.955,3,   0.513,2,  2172.2,2,  2305.7,2,-999.0000,9,-999.0000,9, -999.00,9, -999.00,9,  -999.0,9,    -9.0,-999.000,9,-999.000,     891,-999.0000,  19.4695,-999.0000, -999.00
 316N145_11,       I01W,     947,          1,         23,     SIH001,2,19950924,       1342,     8.5000,    72.4333,       2125,   119.1,  16.8615,  35.0155,2,  35.0482,2,     18.3,2,    15.2,2,   24.58,2,   28.38,2,    0.01,2,    2.05,2,-999.000,9,-999.000,9,  2196.6,2,  2300.9,2,-999.0000,9,-999.0000,9, -999.00,9, -999.00,9,  -999.0,9,    -9.0,-999.000,9,-999.000,    1189,-999.0000,  16.8420,-999.0000, -999.00
 316N145_11,       I01W,     947,          1,         22,     SIH019,2,19950924,       1342,     8.5000,    72.4333,       2125,   149.6,  15.4351,  35.1288,2,  35.1327,2,     20.2,2,    19.1,2,   25.10,2,   28.91,2,    0.01,2,    2.09,2,-999.000,9,-999.000,9,  2210.7,2,  2310.2,2,-999.0000,9,-999.0000,9, -999.00,9, -999.00,9,  -999.0,9,    -9.0,-999.000,9,-999.000,    1493,-999.0000,  15.4120,-999.0000, -999.00
 316N145_11,       I01W,     947,          1,         21,     SIH025,2,19950924,       1342,     8.5000,    72.4333,       2125,   179.6,  14.3745,  35.1301,2,  35.1287,2,     20.1,2,    20.1,2,   26.54,2,   29.57,2,    0.01,2,    2.15,2,   0.526,2,   0.276,2,  2220.0,2,  2312.2,2,-999.0000,9,-999.0000,9, -999.00,9, -999.00,9,  -999.0,9,    -9.0,-999.000,9,-999.000,    1794,-999.0000,  14.3482,-999.0000, -999.00
 316N145_11,       I01W,     947,          1,         20,     SIH004,2,19950924,       1342,     8.5000,    72.4333,       2125,   199.0,  13.8802,  35.1642,2,  35.1575,2,     22.3,2,    28.5,2,   25.81,2,   29.13,2,    0.01,2,    2.10,2,-999.000,9,-999.000,9,  2220.0,2,  2310.9,2,-999.0000,9,-999.0000,9, -999.00,9, -999.00,9,  -999.0,9,    -9.0,-999.000,9,-999.000,    1988,-999.0000,  13.8516,-999.0000, -999.00
 316N145_11,       I01W,     947,          1,         19,     SIH005,2,19950924,       1342,     8.5000,    72.4333,       2125,   249.5,  12.9283,  35.1697,2,  35.1715,2,     33.2,2,    36.3,2,   26.35,2,   29.23,2,    0.01,2,    2.10,2,   0.484,2,   0.255,2,  2224.1,2,  2316.0,2,-999.0000,9,-999.0000,9, -999.00,9, -999.00,9,  -999.0,9,    -9.0,-999.000,9,-999.000,    2493,-999.0000,  12.8939,-999.0000, -999.00
 316N145_11,       I01W,     947,          1,         18,     SIH006,2,19950924,       1342,     8.5000,    72.4333,       2125,   299.5,  12.0123,  35.1542,2,  35.1561,2,     37.1,2,    35.0,2,   29.22,2,   30.58,2,    0.01,2,    2.17,2,   0.368,2,   0.188,2,  2234.2,2,  2317.4,2,-999.0000,9,-999.0000,9, -999.00,9, -999.00,9,  -999.0,9,    -9.0,-999.000,9,-999.000,    2993,-999.0000,  11.9730,-999.0000, -999.00
 316N145_11,       I01W,     947,          1,         17,     SIH038,2,19950924,       1342,     8.5000,    72.4333,       2125,   399.6,  11.1211,  35.1496,2,  35.1488,2,     31.6,2,    32.8,2,   34.61,2,   32.38,2,    0.01,2,    2.30,2,   0.210,2,   0.106,2,  2245.8,2,  2320.8,2,-999.0000,9,-999.0000,9, -999.00,9, -999.00,9,  -999.0,9,    -9.0,-999.000,9,-999.000,    3994,-999.0000,  11.0710,-999.0000, -999.00
 316N145_11,       I01W,     947,          1,         16,     SIH008,2,19950924,       1342,     8.5000,    72.4333,       2125,   500.2,  10.5875,  35.1562,2,  35.1545,2,     25.9,2,    25.4,2,   41.08,2,   33.73,2,    0.01,2,    2.45,2,-999.000,9,-999.000,9,  -999.0,9,  -999.0,9,-999.0000,9,-999.0000,9, -999.00,9, -999.00,9,  -999.0,9,    -9.0,-999.000,9,-999.000,    5000,-999.0000,  10.5264,-999.0000, -999.00
 316N145_11,       I01W,     947,          1,         15,     SIH009,2,19950924,       1342,     8.5000,    72.4333,       2125,   595.4,  10.2383,  35.2165,2,  35.2152,2,     17.7,2,    17.1,2,   48.63,2,   34.67,2,    0.00,2,    2.60,2,   0.050,2,   0.024,2,  2272.5,2,  2337.8,2,-999.0000,9,-999.0000,9, -999.00,9, -999.00,9,  -999.0,9,    -9.0,-999.000,9,-999.000,    5953,-999.0000,  10.1667,-999.0000, -999.00
 316N145_11,       I01W,     947,          1,         14,     SIH010,2,19950924,       1342,     8.5000,    72.4333,       2125,   695.9,   9.6781,  35.2253,2,  35.2162,2,     18.1,2,    16.1,2,   56.35,2,   35.48,2,    0.00,2,    2.67,2,-999.000,9,-999.000,9,  -999.0,9,  -999.0,9,-999.0000,9,-999.0000,9, -999.00,9, -999.00,9,  -999.0,9,    -9.0,-999.000,9,-999.000,    6958,-999.0000,   9.5967,-999.0000, -999.00
 316N145_11,       I01W,     947,          1,         13,     SIH011,2,19950924,       1342,     8.5000,    72.4333,       2125,   796.5,   8.9281,  35.1719,2,  35.1701,2,     20.3,2,    21.3,2,   64.25,2,   36.34,2,    0.00,2,    2.73,2,   0.015,2,   0.007,2,  2290.6,2,  2349.3,2,-999.0000,9,-999.0000,9, -999.00,9, -999.00,9,  -999.0,9,    -9.0,-999.000,9,-999.000,    7965,-999.0000,   8.8388,-999.0000, -999.00
 316N145_11,       I01W,     947,          1,         12,     SIH012,2,19950924,       1342,     8.5000,    72.4333,       2125,   897.3,   8.2290,  35.1329,2,  35.1313,2,     25.7,2,    24.1,2,   72.16,2,   36.99,2,    0.00,2,    2.77,2,-999.000,9,-999.000,9,  -999.0,9,  -999.0,9,-999.0000,9,-999.0000,9, -999.00,9, -999.00,9,  -999.0,9,    -9.0,-999.000,9,-999.000,    8974,-999.0000,   8.1325,-999.0000, -999.00
 316N145_11,       I01W,     947,          1,         11,     SI9426,2,19950924,       1342,     8.5000,    72.4333,       2125,   996.9,   7.4962,  35.0843,2,  35.0827,2,     31.6,2,    30.2,2,   80.08,2,   37.53,2,    0.00,2,    2.80,2,-999.000,9,-999.000,9,  2305.4,2,  2368.9,2,-999.0000,9,-999.0000,9, -999.00,9, -999.00,9,  -999.0,9,    -9.0,-999.000,9,-999.000,    9970,-999.0000,   7.3936,-999.0000, -999.00
 316N145_11,       I01W,     947,          1,         10,     SIH014,2,19950924,       1342,     8.5000,    72.4333,       2125,  1097.8,   6.8586,  35.0393,2,  35.0386,2,     40.2,2,    38.2,2,   86.36,2,   37.75,2,    0.00,2,    2.80,2,-999.000,9,-999.000,9,  -999.0,9,  -999.0,9,-999.0000,9,-999.0000,9, -999.00,9, -999.00,9,  -999.0,9,    -9.0,-999.000,9,-999.000,   10979,-999.0000,   6.7502,-999.0000, -999.00
 316N145_11,       I01W,     947,          1,          9,     SIH015,2,19950924,       1342,     8.5000,    72.4333,       2125,  1193.5,   6.2332,  34.9937,2,  34.9878,2,     49.0,2,    46.9,2,   92.83,2,   37.85,2,    0.00,2,    2.80,2,  -0.001,2,  -0.001,2,  -999.0,9,  -999.0,9,-999.0000,9,-999.0000,9, -999.00,9, -999.00,9,  -999.0,9,    -9.0,-999.000,9,-999.000,   11937,-999.0000,   6.1202,-999.0000, -999.00
 316N145_11,       I01W,     947,          1,          8,     SIH016,2,19950924,       1342,     8.5000,    72.4333,       2125,  1296.2,   5.5860,  34.9467,2,  34.9459,2,     58.2,2,    58.2,2,   99.12,2,   37.85,2,    0.00,2,    2.79,2,-999.000,9,-999.000,9,  -999.0,9,  -999.0,9,-999.0000,9,-999.0000,9, -999.00,9, -999.00,9,  -999.0,9,    -9.0,-999.000,9,-999.000,   12964,-999.0000,   5.4686,-999.0000, -999.00
 316N145_11,       I01W,     947,          1,          7,     SIH017,2,19950924,       1342,     8.5000,    72.4333,       2125,  1396.7,   4.9927,  34.9060,2,  34.9164,3,     68.6,2,    65.6,3,  103.62,2,   37.62,2,    0.00,2,    2.76,2,   0.001,2,   0.001,2,  2318.3,2,  2386.6,2,-999.0000,9,-999.0000,9, -999.00,9, -999.00,9,  -999.0,9,    -9.0,-999.000,9,-999.000,   13970,-999.0000,   4.8715,-999.0000, -999.00
 316N145_11,       I01W,     947,          1,          6,     SIH018,2,19950924,       1342,     8.5000,    72.4333,       2125,  1497.5,   4.4826,  34.8831,2,  34.8821,2,     77.4,2,    78.8,2,  110.44,2,   37.41,2,    0.00,2,    2.74,2,-999.000,9,-999.000,9,  -999.0,9,  -999.0,9,-999.0000,9,-999.0000,9, -999.00,9, -999.00,9,  -999.0,9,    -9.0,-999.000,9,-999.000,   14979,-999.0000,   4.3575,-999.0000, -999.00
 316N145_11,       I01W,     947,          1,          5,     SIH002,3,19950924,       1342,     8.5000,    72.4333,       2125,  1598.6,   3.9933,  34.8580,3,  34.8574,2,     87.3,2,    89.1,2,  116.01,2,   37.13,2,    0.00,2,    2.71,2,  -0.001,2,   0.000,2,  -999.0,9,  -999.0,9,-999.0000,9,-999.0000,9, -999.00,9, -999.00,9,  -999.0,9,    -9.0,-999.000,9,-999.000,   15990,-999.0000,   3.8645,-999.0000, -999.00
 316N145_11,       I01W,     947,          1,          4,     SIH020,2,19950924,       1342,     8.5000,    72.4333,       2125,  1795.1,   3.2283,  34.8186,2,  34.8186,2,    103.7,2,   105.9,2,  124.11,2,   36.64,2,    0.00,2,    2.64,2,-999.000,9,-999.000,9,  2329.4,2,  2409.1,2,-999.0000,9,-999.0000,9, -999.00,9, -999.00,9,  -999.0,9,    -9.0,-999.000,9,-999.000,   17956,-999.0000,   3.0914,-999.0000, -999.00
 316N145_11,       I01W,     947,          1,          3,     SIH021,2,19950924,       1342,     8.5000,    72.4333,       2125,  1997.5,   2.7376,  34.7923,2,  34.7911,2,    118.9,2,   119.8,2,  128.78,2,   36.26,2,    0.00,2,    2.59,2,-999.000,9,-999.000,9,  -999.0,9,  -999.0,9,-999.0000,9,-999.0000,9, -999.00,9, -999.00,9,  -999.0,9,    -9.0,-999.000,9,-999.000,   19981,-999.0000,   2.5897,-999.0000, -999.00
 316N145_11,       I01W,     947,          1,          2,     SIH022,2,19950924,       1342,     8.5000,    72.4333,       2125,  2098.4,   2.5481,  34.7831,2,  34.7834,2,    125.3,2,   124.9,2,  130.40,2,   36.03,2,    0.00,2,    2.57,2,  -0.002,2,   0.001,2,  -999.0,9,  -999.0,9,-999.0000,9,-999.0000,9, -999.00,9, -999.00,9,  -999.0,9,    -9.0,-999.000,9,-999.000,   20991,-999.0000,   2.3941,-999.0000, -999.00
 316N145_11,       I01W,     947,          1,          1,     SIH023,2,19950924,       1342,     8.5000,    72.4333,       2125,  2149.0,   2.5511,  34.7816,2,  34.7793,2,    123.6,2,   126.1,2,  130.22,2,   36.02,2,    0.00,2,    2.57,2,  -0.001,2,   0.002,2,  2323.8,2,  2415.3,2,-999.0000,9,-999.0000,9, -999.00,9, -999.00,9,  -999.0,9,    -9.0,-999.000,9,-999.000,   21497,-999.0000,   2.3925,-999.0000, -999.00