BOTTLE,20211119CCHSIORKP
EXPOCODE,SECT_ID,STNNBR,CASTNO,SAMPNO,BTLNBR,BTLNBR_FLAG_W,DATE,TIME,LATITUDE,LONGITUDE,DEPTH,CTDPRS,CTDTMP,CTDSAL,CTDSAL_FLAG_W,SALNTY,SALNTY_FLAG_W,CTDOXY,CTDOXY_FLAG_W,OXYGEN,OXYGEN_FLAG_W,SILCAT,SILCAT_FLAG_W,NITRAT,NITRAT_FLAG_W,NITRIT,NITRIT_FLAG_W,PHSPHT,PHSPHT_FLAG_W,CFC-11,CFC-11_FLAG_W,CFC-12,CFC-12_FLAG_W,TCARBN,TCARBN_FLAG_W,ALKALI,ALKALI_FLAG_W,TRITUM,TRITUM_FLAG_W,HELIUM,HELIUM_FLAG_W,DELHE3,DELHE3_FLAG_W,DELC13,DELC13_FLAG_W,DELC14,DELC14_FLAG_W,C14ERR,NEON,NEON_FLAG_W,NEONER,CTDRAW,TRITER,THETA,HELIER,DELHER
,,,,,,,,,,,METERS,DBAR,ITS-90,PSS-78,,PSS-78,,UMOL/KG,,UMOL/KG,,UMOL/KG,,UMOL/KG,,UMOL/KG,,UMOL/KG,,PMOL/KG,,PMOL/KG,,UMOL/KG,,UMOL/KG,,TU,,NMOL/KG,,PERCNT,,/MILLE,,/MILLE,,/MILLE,NMOL/KG,,NMOL/KG,DBAR,TU,DEG C,NMOL/KG,PERCNT
 316N145_11,       I01W,     893,          1,         35,     SIH003,2,19950910,       0256,    10.8000,    53.3917,       3905,    11.3,  26.0569,  35.7001,2,  35.6984,2,    204.8,2,   206.3,2,    3.83,2,    3.01,2,    0.45,2,    0.46,2,   1.772,2,   1.015,2,  2013.7,2,  2330.4,2,   0.9412,2,   1.7099,2,   -1.25,2,    1.13,2,    58.0,2,     3.2,   6.730,2,   0.034,      95,   0.0037,  26.0543,   0.0085,    0.14
 316N145_11,       I01W,     893,          1,         34,     SIH026,2,19950910,       0256,    10.8000,    53.3917,       3905,    31.2,  26.0570,  35.6980,2,  35.6982,2,    206.2,2,   207.9,2,    3.84,2,    3.01,2,    0.45,2,    0.46,2,   1.768,2,   1.014,2,  2014.1,2,  2328.1,2,   0.9499,2,   1.7191,2,   -1.42,2, -999.00,9,  -999.0,9,    -9.0,   6.774,2,   0.034,     294,   0.0037,  26.0500,   0.0086,    0.14
 316N145_11,       I01W,     893,          1,         33,     SIH027,2,19950910,       0256,    10.8000,    53.3917,       3905,    60.8,  26.0572,  35.6996,2,  35.6972,2,    209.8,2,   218.6,2,    3.84,2,    3.06,2,    0.46,2,    0.47,2,-999.000,9,-999.000,9,  2014.0,2,  2330.0,2,   0.9385,2,   1.7078,2,   -1.47,2,    1.03,2,    62.2,2,     3.0,   6.733,2,   0.034,     589,   0.0037,  26.0436,   0.0085,    0.14
 316N145_11,       I01W,     893,          1,         32,     SIH028,2,19950910,       0256,    10.8000,    53.3917,       3905,    89.9,  26.0628,  35.6974,2,  35.6974,2,    207.4,2,   206.5,2,    3.84,2,    3.05,2,    0.47,2,    0.47,2,   1.774,2,   1.019,2,  2014.3,2,  2328.4,2,   0.9310,2,   1.7126,2,   -1.33,2, -999.00,9,  -999.0,9,    -9.0,   6.763,2,   0.034,     881,   0.0037,  26.0427,   0.0086,    0.14
 316N145_11,       I01W,     893,          1,         31,     SIH029,2,19950910,       0256,    10.8000,    53.3917,       3905,   120.9,  25.6216,  35.6469,2,  35.6609,2,    198.9,2,   195.1,2,    4.41,2,    4.23,2,    0.46,2,    0.55,2,-999.000,9,-999.000,9,  2024.1,2,  2328.4,2,   0.9387,2,   1.7230,2,   -1.11,2,    1.02,2,    59.7,2,     3.1,   6.809,2,   0.034,    1191,   0.0037,  25.5949,   0.0086,    0.14
 316N145_11,       I01W,     893,          1,         30,     SIH030,2,19950910,       0256,    10.8000,    53.3917,       3905,   150.4,  24.5017,  35.6092,2,  35.6107,2,    180.7,2,   165.1,2,    6.14,2,    8.19,2,    0.16,2,    0.78,2,   1.694,2,   0.963,2,  2053.9,2,  2324.1,2,   0.8925,2,   1.7245,2,   -0.81,2, -999.00,9,  -999.0,9,    -9.0,   6.813,2,   0.034,    1486,   0.0036,  24.4695,   0.0086,    0.14
 316N145_11,       I01W,     893,          1,         29,     SIH031,2,19950910,       0256,    10.8000,    53.3917,       3905,   201.2,  19.2298,  35.4862,2,  35.4898,2,     85.1,2,    59.1,2,   15.17,2,   21.65,2,    0.01,2,    1.68,2,-999.000,9,-999.000,9,  2168.1,2,  2319.1,2,   0.7359,2,   1.7348,2,    2.53,2,    0.16,2,    24.0,2,     3.6,   7.011,2,   0.035,    1994,   0.0034,  19.1935,   0.0087,    0.14
 316N145_11,       I01W,     893,          1,         28,     SIH032,2,19950910,       0256,    10.8000,    53.3917,       3905,   248.4,  15.4895,  35.3051,2,  35.3068,2,     47.5,2,    52.5,2,   20.56,2,   24.90,2,    0.00,2,    1.88,2,   0.954,2,   0.518,2,  2196.9,2,  2317.4,2,   0.5941,2,   1.7668,2,    4.30,2, -999.00,9,  -999.0,9,    -9.0,   7.242,2,   0.036,    2466,   0.0031,  15.4509,   0.0088,    0.14
 316N145_11,       I01W,     893,          1,         27,     SIH033,2,19950910,       0256,    10.8000,    53.3917,       3905,   299.3,  13.8160,  35.2793,2,  35.2771,2,     65.0,2,    65.0,2,   21.90,2,   24.85,2,    0.00,2,    1.87,2,-999.000,9,-999.000,9,  2200.6,2,  2318.8,2,   0.5113,2,   1.7754,2,    4.55,2,    0.24,2,    19.2,2,     2.7,   7.337,2,   0.037,    2975,   0.0030,  13.7729,   0.0089,    0.14
 316N145_11,       I01W,     893,          1,         26,     SIH037,2,19950910,       0256,    10.8000,    53.3917,       3905,   400.1,  12.4634,  35.2946,2,  35.2855,2,     53.2,2,    58.3,2,   26.71,2,   27.57,2,    0.00,2,    2.07,2,   0.624,2,   0.335,2,  2222.3,2,  2320.5,2,   0.3738,2,   1.8044,2,    4.76,2,    0.14,2,   -14.9,2,     2.9,   7.507,2,   0.038,    3983,   0.0028,  12.4093,   0.0090,    0.14
 316N145_11,       I01W,     893,          1,         25,     SI9446,2,19950910,       0256,    10.8000,    53.3917,       3905,   505.2,  11.3586,  35.2701,2,  35.2698,2,     41.9,2,    43.1,2,   34.21,2,   30.92,2,    0.00,2,    2.30,2,-999.000,9,-999.000,9,  -999.0,9,  -999.0,9,   0.2262,2,   1.7935,2,    4.92,2,    0.16,2,   -47.0,2,     3.6,   7.481,2,   0.037,    5034,   0.0026,  11.2939,   0.0090,    0.14
 316N145_11,       I01W,     893,          1,         24,     SIH036,2,19950910,       0256,    10.8000,    53.3917,       3905,   602.5,  10.8444,  35.2921,2,  35.2915,2,     35.4,2,    35.0,2,   40.95,2,   32.25,2,    0.00,2,    2.45,2,   0.177,2,   0.093,2,  2254.9,2,  2331.0,2,-999.0000,9,   1.8016,2,    5.52,2,    0.15,2,   -76.8,2,     2.9,   7.546,2,   0.038,    6008,-999.0000,  10.7691,   0.0090,    0.14
 316N145_11,       I01W,     893,          1,         23,     SIH001,2,19950910,       0256,    10.8000,    53.3917,       3905,   694.0,  10.7015,  35.3486,2,  35.3468,2,     27.2,2,    25.8,2,   45.96,2,   33.00,2,    0.00,2,    2.55,2,-999.000,9,-999.000,9,  -999.0,9,  -999.0,9,-999.0000,9,   1.7958,2,    6.42,2,    0.07,2,   -95.8,2,     3.6,   7.516,2,   0.038,    6924,-999.0000,  10.6152,   0.0090,    0.14
 316N145_11,       I01W,     893,          1,         22,     SIH019,2,19950910,       0256,    10.8000,    53.3917,       3905,   797.8,  10.0745,  35.3481,2,  35.3466,2,     21.6,2,    22.7,2,   55.21,2,   34.44,2,    0.00,2,    2.67,2,   0.064,2,   0.038,2,  2278.2,2,  2346.8,2,   0.0833,2,   1.7909,2,    7.13,2,   -0.01,2,  -104.1,2,     2.7,   7.454,2,   0.037,    7962,   0.0023,   9.9783,   0.0090,    0.14
 316N145_11,       I01W,     893,          1,         21,     SIH025,2,19950910,       0256,    10.8000,    53.3917,       3905,   899.7,   9.9790,  35.4418,2,  35.4393,2,     21.8,2,    22.5,2,   59.44,2,   34.23,2,    0.00,2,    2.67,2,-999.000,9,-999.000,9,  -999.0,9,  -999.0,9,   0.0941,2,   1.8265,2,    8.51,2,   -0.02,2,  -109.2,2,     4.9,   7.578,2,   0.038,    8981,   0.0023,   9.8705,   0.0091,    0.14
 316N145_11,       I01W,     893,          1,         20,     SIH004,2,19950910,       0256,    10.8000,    53.3917,       3905,  1004.7,   9.0386,  35.3105,2,  35.3088,2,     28.9,2,    29.0,2,   66.59,2,   35.30,2,    0.00,2,    2.72,2,   0.052,2,   0.027,2,  2288.8,2,  2356.7,2,   0.0647,2,   1.8051,2,    9.08,2,    0.00,2,  -120.3,2,     3.4,   7.527,2,   0.038,   10032,   0.0023,   8.9238,   0.0090,    0.14
 316N145_11,       I01W,     893,          1,         19,     SIH005,2,19950910,       0256,    10.8000,    53.3917,       3905,  1104.7,   9.1473,  35.4116,2,  35.4123,2,     28.4,2,    26.6,2,   69.67,2,   35.14,2,    0.00,2,    2.74,2,-999.000,9,-999.000,9,  -999.0,9,  -999.0,9,-999.0000,9,-999.0000,9, -999.00,9, -999.00,9,  -999.0,9,    -9.0,-999.000,9,-999.000,   11032,-999.0000,   9.0193,-999.0000, -999.00
 316N145_11,       I01W,     893,          1,         18,     SIH006,2,19950910,       0256,    10.8000,    53.3917,       3905,  1203.3,   7.9024,  35.2730,2,  35.2710,2,     33.1,2,    33.9,2,   80.47,2,   36.48,2,    0.00,2,    2.82,2,   0.035,2,   0.017,2,  -999.0,9,  -999.0,9,-999.0000,9,-999.0000,9, -999.00,9,   -0.10,2,  -136.3,2,     2.5,-999.000,9,-999.000,   12019,-999.0000,   7.7732,-999.0000, -999.00
 316N145_11,       I01W,     893,          1,         17,     SIH038,2,19950910,       0256,    10.8000,    53.3917,       3905,  1301.4,   6.8029,  35.1326,2,  35.1345,2,     48.5,2,    43.9,2,   89.17,2,   37.23,2,    0.00,2,    2.83,2,-999.000,9,-999.000,9,  2312.3,2,  2376.2,2,-999.0000,9,-999.0000,9, -999.00,9, -999.00,9,  -999.0,9,    -9.0,-999.000,9,-999.000,   13001,-999.0000,   6.6730,-999.0000, -999.00
 316N145_11,       I01W,     893,          1,         16,     SIH008,2,19950910,       0256,    10.8000,    53.3917,       3905,  1402.1,   5.9197,  35.0451,2,  35.0492,2,     57.3,2,    55.0,2,   97.48,2,   37.40,2,    0.00,2,    2.83,2,   0.007,2,   0.003,2,  -999.0,9,  -999.0,9,-999.0000,9,-999.0000,9, -999.00,9,   -0.04,2,  -159.1,2,     2.5,-999.000,9,-999.000,   14008,-999.0000,   5.7881,-999.0000, -999.00
 316N145_11,       I01W,     893,          1,         15,     SIH009,2,19950910,       0256,    10.8000,    53.3917,       3905,  1500.4,   4.9132,  34.9700,2,  34.9685,2,     70.4,2,    68.8,2,  108.49,2,   37.46,2,    0.00,2,    2.82,2,-999.000,9,-999.000,9,  -999.0,9,  -999.0,9,-999.0000,9,-999.0000,9, -999.00,9, -999.00,9,  -999.0,9,    -9.0,-999.000,9,-999.000,   14992,-999.0000,   4.7828,-999.0000, -999.00
 316N145_11,       I01W,     893,          1,         14,     SIH010,2,19950910,       0256,    10.8000,    53.3917,       3905,  1587.4,   4.3185,  34.9249,2,  34.9254,2,     76.3,2,    78.2,2,  115.65,2,   37.41,2,    0.00,2,    2.79,2,   0.003,2,   0.010,3,  2330.6,2,  2401.0,2,-999.0000,9,-999.0000,9, -999.00,9,   -0.06,2,  -174.2,2,     2.8,-999.000,9,-999.000,   15862,-999.0000,   4.1865,-999.0000, -999.00
 316N145_11,       I01W,     893,          1,         13,     SIH011,2,19950910,       0256,    10.8000,    53.3917,       3905,  1797.9,   3.5386,  34.8610,2,  34.8603,2,     95.0,2,    97.2,2,  123.20,2,   36.98,2,    0.00,2,    2.73,2,-999.000,9,-999.000,9,  -999.0,9,  -999.0,9,-999.0000,9,-999.0000,9, -999.00,9,   -0.05,2,  -182.5,2,     3.0,-999.000,9,-999.000,   17968,-999.0000,   3.3971,-999.0000, -999.00
 316N145_11,       I01W,     893,          1,         12,     SIH012,2,19950910,       0256,    10.8000,    53.3917,       3905,  2000.1,   2.9662,  34.8223,2,  34.8224,2,    106.7,2,   109.5,2,  130.18,2,   36.67,2,    0.00,2,    2.68,2,   0.000,2,   0.002,2,  2333.4,2,  2414.4,2,-999.0000,9,-999.0000,9, -999.00,9, -999.00,9,  -999.0,9,    -9.0,-999.000,9,-999.000,   19991,-999.0000,   2.8145,-999.0000, -999.00
 316N145_11,       I01W,     893,          1,         11,     SI9426,2,19950910,       0256,    10.8000,    53.3917,       3905,  2200.3,   2.4834,  34.7861,2,  34.7846,2,    126.4,2,   126.0,2,  132.33,2,   35.98,2,    0.00,2,    2.59,2,-999.000,9,-999.000,9,  -999.0,9,  -999.0,9,-999.0000,9,-999.0000,9, -999.00,9, -999.00,9,  -999.0,9,    -9.0,-999.000,9,-999.000,   21995,-999.0000,   2.3212,-999.0000, -999.00
 316N145_11,       I01W,     893,          1,         10,     SIH014,2,19950910,       0256,    10.8000,    53.3917,       3905,  2402.7,   2.2023,  34.7683,2,  34.7667,2,    136.3,2,   135.3,2,  134.48,2,   35.71,2,    0.00,2,    2.55,2,   0.005,3,  -0.001,2,  2325.0,2,  2417.3,2,-999.0000,9,-999.0000,9, -999.00,9, -999.00,9,  -999.0,9,    -9.0,-999.000,9,-999.000,   24020,-999.0000,   2.0267,-999.0000, -999.00
 316N145_11,       I01W,     893,          1,          9,     SIH015,2,19950910,       0256,    10.8000,    53.3917,       3905,  2602.3,   2.0711,  34.7601,2,  34.7592,2,    139.0,2,   140.4,2,  135.29,2,   35.51,2,    0.00,2,    2.53,2,-999.000,9,-999.000,9,  -999.0,9,  -999.0,9,-999.0000,9,-999.0000,9, -999.00,9, -999.00,9,  -999.0,9,    -9.0,-999.000,9,-999.000,   26017,-999.0000,   1.8796,-999.0000, -999.00
 316N145_11,       I01W,     893,          1,          8,     SIH016,2,19950910,       0256,    10.8000,    53.3917,       3905,  2800.9,   1.9640,  34.7559,2,  34.7535,2,    143.3,2,   142.1,2,  137.44,2,   35.56,2,    0.01,2,    2.54,2,  -0.001,2,   0.002,2,  -999.0,9,  -999.0,9,-999.0000,9,-999.0000,9, -999.00,9, -999.00,9,  -999.0,9,    -9.0,-999.000,9,-999.000,   28005,-999.0000,   1.7560,-999.0000, -999.00
 316N145_11,       I01W,     893,          1,          7,     SIH017,2,19950910,       0256,    10.8000,    53.3917,       3905,  3004.1,   1.8778,  34.7498,2,  34.7488,2,    147.4,2,   146.0,2,  137.85,2,   35.30,2,    0.00,2,    2.52,2,-999.000,9,-999.000,9,  2323.4,2,  2421.1,2,-999.0000,9,-999.0000,9, -999.00,9, -999.00,9,  -999.0,9,    -9.0,-999.000,9,-999.000,   30038,-999.0000,   1.6520,-999.0000, -999.00
 316N145_11,       I01W,     893,          1,          6,     SIH018,2,19950910,       0256,    10.8000,    53.3917,       3905,  3202.3,   1.8150,  34.7457,2,  34.7441,2,    150.3,2,   149.3,2,  138.07,2,   35.15,2,    0.00,2,    2.49,2,  -0.002,2,   0.004,2,  -999.0,9,  -999.0,9,-999.0000,9,-999.0000,9, -999.00,9, -999.00,9,  -999.0,9,    -9.0,-999.000,9,-999.000,   32022,-999.0000,   1.5709,-999.0000, -999.00
 316N145_11,       I01W,     893,          1,          5,     SIH002,2,19950910,       0256,    10.8000,    53.3917,       3905,  3396.1,   1.7609,  34.7404,2,  34.7392,2,    155.8,2,   155.9,2,  136.37,2,   34.88,2,    0.00,2,    2.46,2,-999.000,9,-999.000,9,  -999.0,9,  -999.0,9,-999.0000,9,-999.0000,9, -999.00,9, -999.00,9,  -999.0,9,    -9.0,-999.000,9,-999.000,   33962,-999.0000,   1.4985,-999.0000, -999.00
 316N145_11,       I01W,     893,          1,          4,     SIH020,2,19950910,       0256,    10.8000,    53.3917,       3905,  3594.9,   1.7122,  34.7375,2,  34.7372,2,    159.1,2,   158.8,2,  136.40,2,   34.67,2,    0.00,2,    2.45,2,   0.004,2,   0.005,2,  2312.1,2,  2415.7,2,-999.0000,9,-999.0000,9, -999.00,9, -999.00,9,  -999.0,9,    -9.0,-999.000,9,-999.000,   35951,-999.0000,   1.4306,-999.0000, -999.00
 316N145_11,       I01W,     893,          1,          3,     SIH021,2,19950910,       0256,    10.8000,    53.3917,       3905,  3796.9,   1.5883,  34.7308,2,  34.7286,2,    165.9,2,   166.8,2,  136.04,2,   34.30,2,    0.00,2,    2.41,2,-999.000,9,-999.000,9,  -999.0,9,  -999.0,9,-999.0000,9,-999.0000,9, -999.00,9, -999.00,9,  -999.0,9,    -9.0,-999.000,9,-999.000,   37973,-999.0000,   1.2886,-999.0000, -999.00
 316N145_11,       I01W,     893,          1,          2,     SIH022,2,19950910,       0256,    10.8000,    53.3917,       3905,  3900.4,   1.5153,  34.7294,2,  34.7258,2,    169.6,2,   170.5,2,  135.88,2,   34.09,2,   -0.01,2,    2.39,2,   0.001,2,   0.004,2,  -999.0,9,  -999.0,9,-999.0000,9,-999.0000,9, -999.00,9, -999.00,9,  -999.0,9,    -9.0,-999.000,9,-999.000,   39008,-999.0000,   1.2065,-999.0000, -999.00
 316N145_11,       I01W,     893,          1,          1,     SIH023,2,19950910,       0256,    10.8000,    53.3917,       3905,  3981.2,   1.4344,  34.7243,2,  34.7221,2,    172.1,2,   173.5,2,  137.66,2,   34.08,2,    0.00,2,    2.39,2,  -0.001,2,   0.000,2,  2306.9,2,  2414.1,2,-999.0000,9,-999.0000,9, -999.00,9, -999.00,9,  -999.0,9,    -9.0,-999.000,9,-999.000,   39817,-999.0000,   1.1191,-999.0000, -999.00