BOTTLE,20211119CCHSIORKP
EXPOCODE,SECT_ID,STNNBR,CASTNO,SAMPNO,BTLNBR,BTLNBR_FLAG_W,DATE,TIME,LATITUDE,LONGITUDE,DEPTH,CTDPRS,CTDTMP,CTDSAL,CTDSAL_FLAG_W,SALNTY,SALNTY_FLAG_W,CTDOXY,CTDOXY_FLAG_W,OXYGEN,OXYGEN_FLAG_W,SILCAT,SILCAT_FLAG_W,NITRAT,NITRAT_FLAG_W,NITRIT,NITRIT_FLAG_W,PHSPHT,PHSPHT_FLAG_W,CFC-11,CFC-11_FLAG_W,CFC-12,CFC-12_FLAG_W,TCARBN,TCARBN_FLAG_W,ALKALI,ALKALI_FLAG_W,TRITUM,TRITUM_FLAG_W,HELIUM,HELIUM_FLAG_W,DELHE3,DELHE3_FLAG_W,DELC13,DELC13_FLAG_W,DELC14,DELC14_FLAG_W,C14ERR,NEON,NEON_FLAG_W,NEONER,CTDRAW,TRITER,THETA,HELIER,DELHER
,,,,,,,,,,,METERS,DBAR,ITS-90,PSS-78,,PSS-78,,UMOL/KG,,UMOL/KG,,UMOL/KG,,UMOL/KG,,UMOL/KG,,UMOL/KG,,PMOL/KG,,PMOL/KG,,UMOL/KG,,UMOL/KG,,TU,,NMOL/KG,,PERCNT,,/MILLE,,/MILLE,,/MILLE,NMOL/KG,,NMOL/KG,DBAR,TU,DEG C,NMOL/KG,PERCNT
 316N145_11,       I01W,     943,          1,         36,     SIH024,2,19950923,       1626,     8.5000,    70.5833,       4165,     6.3,  28.3122,  36.3185,2,  36.3166,2,    204.9,2,   213.8,2,    3.88,2,    0.17,2,    0.00,2,    0.19,2,   1.323,3,   0.781,3,  1991.8,2,  2373.9,2,-999.0000,9,-999.0000,9, -999.00,9, -999.00,9,  -999.0,9,    -9.0,-999.000,9,-999.000,      55,-999.0000,  28.3107,-999.0000, -999.00
 316N145_11,       I01W,     943,          1,         35,     SIH003,2,19950923,       1626,     8.5000,    70.5833,       4165,    31.4,  28.2458,  36.3100,2,  36.3085,2,    210.9,2,   206.2,2,    3.88,2,    0.17,2,    0.00,2,    0.19,2,   1.650,2,   0.971,2,  1992.1,2,  2371.7,2,-999.0000,9,-999.0000,9, -999.00,9, -999.00,9,  -999.0,9,    -9.0,-999.000,9,-999.000,     305,-999.0000,  28.2383,-999.0000, -999.00
 316N145_11,       I01W,     943,          1,         34,     SIH026,3,19950923,       1626,     8.5000,    70.5833,       4165,    61.0,  25.8757,  36.0014,3,  35.9959,2,     78.6,2,   117.8,2,    8.06,2,   10.73,2,    0.13,2,    0.89,2,   1.478,2,   0.861,2,  2074.3,2,  2348.5,2,-999.0000,9,-999.0000,9, -999.00,9, -999.00,9,  -999.0,9,    -9.0,-999.000,9,-999.000,     602,-999.0000,  25.8621,-999.0000, -999.00
 316N145_11,       I01W,     943,          1,         33,     SIH027,2,19950923,       1626,     8.5000,    70.5833,       4165,    90.7,  22.1702,  35.8153,2,  35.8151,2,     19.1,2,    35.1,2,   13.14,2,   22.90,2,    0.06,2,    1.73,2,-999.000,9,-999.000,9,  2170.7,2,  2335.3,2,-999.0000,9,-999.0000,9, -999.00,9, -999.00,9,  -999.0,9,    -9.0,-999.000,9,-999.000,     898,-999.0000,  22.1521,-999.0000, -999.00
 316N145_11,       I01W,     943,          1,         32,     SIH028,2,19950923,       1626,     8.5000,    70.5833,       4165,   120.5,  17.3702,  35.3232,2,  35.3145,2,      5.8,2,     9.4,2,   22.77,2,   27.43,2,    0.00,2,    2.11,2,   0.779,2,   0.427,2,  2209.7,2,  2317.1,2,-999.0000,9,-999.0000,9, -999.00,9, -999.00,9,  -999.0,9,    -9.0,-999.000,9,-999.000,    1196,-999.0000,  17.3500,-999.0000, -999.00
 316N145_11,       I01W,     943,          1,         31,     SIH029,2,19950923,       1626,     8.5000,    70.5833,       4165,   150.6,  15.0483,  35.2719,2,  35.2585,2,      9.7,2,    12.1,2,   25.86,2,   28.53,2,    0.01,2,    2.20,2,-999.000,9,-999.000,9,  2227.3,2,  2316.6,2,-999.0000,9,-999.0000,9, -999.00,9, -999.00,9,  -999.0,9,    -9.0,-999.000,9,-999.000,    1498,-999.0000,  15.0254,-999.0000, -999.00
 316N145_11,       I01W,     943,          1,         30,     SIH030,2,19950923,       1626,     8.5000,    70.5833,       4165,   201.1,  13.2137,  35.1896,2,  35.1908,2,     44.9,2,    49.9,2,   24.59,2,   27.37,2,    0.02,2,    1.97,2,   0.628,2,   0.330,2,  2213.4,3,  2317.2,2,-999.0000,9,-999.0000,9, -999.00,9, -999.00,9,  -999.0,9,    -9.0,-999.000,9,-999.000,    2003,-999.0000,  13.1857,-999.0000, -999.00
 316N145_11,       I01W,     943,          1,         29,     SIH031,2,19950923,       1626,     8.5000,    70.5833,       4165,   251.1,  12.2594,  35.1925,2,  35.1933,2,     26.7,2,    27.8,2,   29.69,2,   30.64,2,    0.01,2,    2.20,2,-999.000,9,-999.000,9,  2239.5,2,  2319.1,2,-999.0000,9,-999.0000,9, -999.00,9, -999.00,9,  -999.0,9,    -9.0,-999.000,9,-999.000,    2503,-999.0000,  12.2261,-999.0000, -999.00
 316N145_11,       I01W,     943,          1,         28,     SIH032,2,19950923,       1626,     8.5000,    70.5833,       4165,   296.6,  11.7184,  35.1799,2,  35.1796,2,     23.8,2,    31.1,2,   31.51,2,   31.35,2,    0.00,2,    2.23,2,   0.276,2,   0.144,2,  2241.9,2,  2321.3,2,-999.0000,9,-999.0000,9, -999.00,9, -999.00,9,  -999.0,9,    -9.0,-999.000,9,-999.000,    2958,-999.0000,  11.6801,-999.0000, -999.00
 316N145_11,       I01W,     943,          1,         27,     SIH033,2,19950923,       1626,     8.5000,    70.5833,       4165,   396.7,  10.9733,  35.1669,2,  35.1654,2,     27.5,2,    24.7,2,   38.60,2,   33.25,2,    0.01,2,    2.40,2,-999.000,9,-999.000,9,  2255.4,2,  2327.8,2,-999.0000,9,-999.0000,9, -999.00,9, -999.00,9,  -999.0,9,    -9.0,-999.000,9,-999.000,    3959,-999.0000,  10.9240,-999.0000, -999.00
 316N145_11,       I01W,     943,          1,         26,     SIH037,2,19950923,       1626,     8.5000,    70.5833,       4165,   496.7,  10.3979,  35.1734,2,  35.1772,2,     23.5,2,    22.1,2,   45.35,2,   34.00,2,    0.01,2,    2.51,2,   0.073,2,   0.040,2,  2264.6,2,  2335.8,2,-999.0000,9,-999.0000,9, -999.00,9, -999.00,9,  -999.0,9,    -9.0,-999.000,9,-999.000,    4960,-999.0000,  10.3379,-999.0000, -999.00
 316N145_11,       I01W,     943,          1,         25,     SI9446,2,19950923,       1626,     8.5000,    70.5833,       4165,   597.4,   9.7948,  35.1558,2,  35.1524,2,     22.9,2,    22.0,2,   52.81,2,   34.96,2,    0.00,2,    2.60,2,-999.000,9,-999.000,9,  2273.0,2,  2338.5,2,-999.0000,9,-999.0000,9, -999.00,9, -999.00,9,  -999.0,9,    -9.0,-999.000,9,-999.000,    5967,-999.0000,   9.7249,-999.0000, -999.00
 316N145_11,       I01W,     943,          1,         24,     SIH036,2,19950923,       1626,     8.5000,    70.5833,       4165,   697.8,   9.0198,  35.0965,2,  35.0978,2,     23.7,2,    24.3,2,   61.37,2,   35.97,2,   -0.01,2,    2.68,2,   0.018,2,   0.010,2,  2283.9,2,  2345.4,2,-999.0000,9,-999.0000,9, -999.00,9, -999.00,9,  -999.0,9,    -9.0,-999.000,9,-999.000,    6971,-999.0000,   8.9417,-999.0000, -999.00
 316N145_11,       I01W,     943,          1,         23,     SIH001,2,19950923,       1626,     8.5000,    70.5833,       4165,   797.9,   8.3098,  35.0505,2,  35.0441,2,     29.6,2,    28.8,2,   69.40,2,   36.77,2,    0.00,2,    2.72,2,-999.000,9,-999.000,9,  2291.6,2,  2351.8,2,-999.0000,9,-999.0000,9, -999.00,9, -999.00,9,  -999.0,9,    -9.0,-999.000,9,-999.000,    7973,-999.0000,   8.2241,-999.0000, -999.00
 316N145_11,       I01W,     943,          1,         22,     SIH019,2,19950923,       1626,     8.5000,    70.5833,       4165,   898.4,   7.7694,  35.0316,2,  35.0305,2,     31.7,2,    32.0,2,   76.33,2,   37.15,2,    0.02,2,    2.75,2,   0.006,2,   0.001,2,  2299.1,2,  2358.3,2,-999.0000,9,-999.0000,9, -999.00,9, -999.00,9,  -999.0,9,    -9.0,-999.000,9,-999.000,    8979,-999.0000,   7.6759,-999.0000, -999.00
 316N145_11,       I01W,     943,          1,         21,     SIH025,2,19950923,       1626,     8.5000,    70.5833,       4165,   999.5,   7.1501,  34.9963,2,  34.9949,2,     39.3,2,    38.8,2,   82.72,2,   37.27,2,   -0.01,2,    2.76,2,-999.000,9,-999.000,9,  2303.6,2,  2365.4,2,-999.0000,9,-999.0000,9, -999.00,9, -999.00,9,  -999.0,9,    -9.0,-999.000,9,-999.000,    9990,-999.0000,   7.0500,-999.0000, -999.00
 316N145_11,       I01W,     943,          1,         20,     SIH004,2,19950923,       1626,     8.5000,    70.5833,       4165,  1099.9,   6.5795,  34.9685,2,  34.9687,2,     46.2,2,    45.7,2,   89.11,2,   37.52,2,    0.01,2,    2.77,2,   0.003,2,   0.003,2,  -999.0,9,  -999.0,9,-999.0000,9,-999.0000,9, -999.00,9, -999.00,9,  -999.0,9,    -9.0,-999.000,9,-999.000,   10994,-999.0000,   6.4733,-999.0000, -999.00
 316N145_11,       I01W,     943,          1,         19,     SIH005,3,19950923,       1626,     8.5000,    70.5833,       4165,  1199.7,   5.9656,  34.9391,3,-999.0000,9,     57.5,2,    54.6,2,   95.88,2,   37.52,2,   -0.01,2,    2.77,2,-999.000,9,-999.000,9,  -999.0,9,  -999.0,9,-999.0000,9,-999.0000,9, -999.00,9, -999.00,9,  -999.0,9,    -9.0,-999.000,9,-999.000,   11993,-999.0000,   5.8544,-999.0000, -999.00
 316N145_11,       I01W,     943,          1,         18,     SIH006,2,19950923,       1626,     8.5000,    70.5833,       4165,  1301.1,   5.3831,  34.9149,2,  34.9156,2,     66.4,2,    64.0,2,  101.91,2,   37.45,2,    0.02,2,    2.76,2,   0.001,2,   0.000,2,  -999.0,9,  -999.0,9,-999.0000,9,-999.0000,9, -999.00,9, -999.00,9,  -999.0,9,    -9.0,-999.000,9,-999.000,   13007,-999.0000,   5.2673,-999.0000, -999.00
 316N145_11,       I01W,     943,          1,         17,     SIH038,2,19950923,       1626,     8.5000,    70.5833,       4165,  1401.7,   5.1350,  34.9270,2,  34.9242,2,     67.7,2,    66.7,2,  105.21,2,   37.37,2,    0.00,2,    2.75,2,-999.000,9,-999.000,9,  -999.0,9,  -999.0,9,-999.0000,9,-999.0000,9, -999.00,9, -999.00,9,  -999.0,9,    -9.0,-999.000,9,-999.000,   14014,-999.0000,   5.0118,-999.0000, -999.00
 316N145_11,       I01W,     943,          1,         16,     SIH008,2,19950923,       1626,     8.5000,    70.5833,       4165,  1498.4,   4.7795,  34.9103,2,  34.9097,2,     75.9,2,    74.0,2,  108.14,2,   37.31,2,    0.00,2,    2.75,2,-999.000,9,-999.000,9,  2318.8,2,  2390.8,2,-999.0000,9,-999.0000,9, -999.00,9, -999.00,9,  -999.0,9,    -9.0,-999.000,9,-999.000,   14981,-999.0000,   4.6508,-999.0000, -999.00
 316N145_11,       I01W,     943,          1,         15,     SIH009,2,19950923,       1626,     8.5000,    70.5833,       4165,  1598.1,   4.0948,  34.8686,2,  34.8670,2,     89.1,2,    86.0,2,  116.01,2,   36.90,2,    0.01,2,    2.71,2,  -0.003,2,  -0.001,2,  -999.0,9,  -999.0,9,-999.0000,9,-999.0000,9, -999.00,9, -999.00,9,  -999.0,9,    -9.0,-999.000,9,-999.000,   15979,-999.0000,   3.9647,-999.0000, -999.00
 316N145_11,       I01W,     943,          1,         14,     SIH010,2,19950923,       1626,     8.5000,    70.5833,       4165,  1800.5,   3.3330,  34.8233,2,  34.8224,2,    105.1,2,   103.6,2,  124.62,2,   36.45,2,    0.01,2,    2.64,2,-999.000,9,-999.000,9,  -999.0,9,  -999.0,9,-999.0000,9,-999.0000,9, -999.00,9, -999.00,9,  -999.0,9,    -9.0,-999.000,9,-999.000,   18004,-999.0000,   3.1941,-999.0000, -999.00
 316N145_11,       I01W,     943,          1,         13,     SIH011,2,19950923,       1626,     8.5000,    70.5833,       4165,  1998.4,   2.8529,  34.8000,2,  34.7984,2,    115.7,2,   115.8,2,  129.93,2,   36.15,2,    0.01,2,    2.60,2,-999.000,9,-999.000,9,  2325.1,2,  2412.2,2,-999.0000,9,-999.0000,9, -999.00,9, -999.00,9,  -999.0,9,    -9.0,-999.000,9,-999.000,   19984,-999.0000,   2.7032,-999.0000, -999.00
 316N145_11,       I01W,     943,          1,         12,     SIH012,2,19950923,       1626,     8.5000,    70.5833,       4165,  2196.0,   2.4834,  34.7785,2,  34.7799,2,    126.3,2,   127.1,2,  133.61,2,   35.75,2,    0.01,2,    2.56,2,   0.000,2,  -0.001,2,  -999.0,9,  -999.0,9,-999.0000,9,-999.0000,9, -999.00,9, -999.00,9,  -999.0,9,    -9.0,-999.000,9,-999.000,   21962,-999.0000,   2.3217,-999.0000, -999.00
 316N145_11,       I01W,     943,          1,         11,     SI9426,2,19950923,       1626,     8.5000,    70.5833,       4165,  2398.2,   2.2318,  34.7662,2,  34.7665,2,    134.4,2,   133.7,2,  135.82,2,   35.50,2,    0.01,2,    2.52,2,-999.000,9,-999.000,9,  -999.0,9,  -999.0,9,-999.0000,9,-999.0000,9, -999.00,9, -999.00,9,  -999.0,9,    -9.0,-999.000,9,-999.000,   23986,-999.0000,   2.0561,-999.0000, -999.00
 316N145_11,       I01W,     943,          1,         10,     SIH014,2,19950923,       1626,     8.5000,    70.5833,       4165,  2595.3,   2.0332,  34.7561,2,  34.7565,2,    140.3,2,   139.6,2,  138.23,2,   35.19,2,    0.01,2,    2.49,2,-999.000,9,-999.000,9,  2322.8,2,  2419.1,2,-999.0000,9,-999.0000,9, -999.00,9, -999.00,9,  -999.0,9,    -9.0,-999.000,9,-999.000,   25957,-999.0000,   1.8431,-999.0000, -999.00
 316N145_11,       I01W,     943,          1,          9,     SIH015,2,19950923,       1626,     8.5000,    70.5833,       4165,  2798.5,   1.8721,  34.7478,2,  34.7471,2,    145.1,2,   145.5,2,  139.71,2,   35.14,2,    0.01,2,    2.48,2,  -0.002,2,  -0.002,2,  -999.0,9,  -999.0,9,-999.0000,9,-999.0000,9, -999.00,9, -999.00,9,  -999.0,9,    -9.0,-999.000,9,-999.000,   27992,-999.0000,   1.6661,-999.0000, -999.00
 316N145_11,       I01W,     943,          1,          8,     SIH016,3,19950923,       1626,     8.5000,    70.5833,       4165,  2995.8,   1.7864,  34.7425,3,  34.7433,2,    149.6,2,   150.5,2,  140.12,2,   34.93,2,    0.02,2,    2.46,2,-999.000,9,-999.000,9,  2319.7,2,  2422.8,2,-999.0000,9,-999.0000,9, -999.00,9, -999.00,9,  -999.0,9,    -9.0,-999.000,9,-999.000,   29966,-999.0000,   1.5633,-999.0000, -999.00
 316N145_11,       I01W,     943,          1,          7,     SIH017,2,19950923,       1626,     8.5000,    70.5833,       4165,  3193.5,   1.7311,  34.7388,2,  34.7394,2,    153.0,2,   154.6,2,  140.32,2,   34.73,2,    0.02,2,    2.43,2,-999.000,9,-999.000,9,  -999.0,9,  -999.0,9,-999.0000,9,-999.0000,9, -999.00,9, -999.00,9,  -999.0,9,    -9.0,-999.000,9,-999.000,   31944,-999.0000,   1.4899,-999.0000, -999.00
 316N145_11,       I01W,     943,          1,          6,     SIH018,2,19950923,       1626,     8.5000,    70.5833,       4165,  3393.1,   1.6959,  34.7361,2,  34.7353,2,    154.9,2,   147.8,4,  140.35,2,   34.73,2,    0.02,2,    2.43,2,  -0.003,2,  -0.001,2,  2318.0,2,  -999.0,9,-999.0000,9,-999.0000,9, -999.00,9, -999.00,9,  -999.0,9,    -9.0,-999.000,9,-999.000,   33941,-999.0000,   1.4355,-999.0000, -999.00
 316N145_11,       I01W,     943,          1,          5,     SIH002,3,19950923,       1626,     8.5000,    70.5833,       4165,  3596.6,   1.6838,  34.7350,3,  34.7359,2,    156.4,2,   156.6,2,  140.57,2,   34.73,2,    0.02,2,    2.42,2,-999.000,9,-999.000,9,  -999.0,9,  -999.0,9,-999.0000,9,-999.0000,9, -999.00,9, -999.00,9,  -999.0,9,    -9.0,-999.000,9,-999.000,   35978,-999.0000,   1.4028,-999.0000, -999.00
 316N145_11,       I01W,     943,          1,          4,     SIH020,2,19950923,       1626,     8.5000,    70.5833,       4165,  3795.1,   1.6779,  34.7343,2,  34.7360,2,    157.9,2,   157.4,2,  141.14,2,   34.74,2,    0.01,2,    2.42,2,-999.000,9,-999.000,9,  -999.0,9,  -999.0,9,-999.0000,9,-999.0000,9, -999.00,9, -999.00,9,  -999.0,9,    -9.0,-999.000,9,-999.000,   37965,-999.0000,   1.3760,-999.0000, -999.00
 316N145_11,       I01W,     943,          1,          3,     SIH021,2,19950923,       1626,     8.5000,    70.5833,       4165,  3997.6,   1.6700,  34.7336,2,  34.7329,2,    156.7,2,   157.9,2,  141.72,2,   34.73,2,    0.01,2,    2.42,2,   0.001,2,  -0.001,2,  2318.6,2,  -999.0,9,-999.0000,9,-999.0000,9, -999.00,9, -999.00,9,  -999.0,9,    -9.0,-999.000,9,-999.000,   39990,-999.0000,   1.3463,-999.0000, -999.00
 316N145_11,       I01W,     943,          1,          2,     SIH022,2,19950923,       1626,     8.5000,    70.5833,       4165,  4175.9,   1.6721,  34.7331,2,  34.7331,2,    157.5,2,   158.4,2,  141.94,2,   34.74,2,    0.00,2,    2.42,2,   0.001,2,   0.002,2,  -999.0,9,  -999.0,9,-999.0000,9,-999.0000,9, -999.00,9, -999.00,9,  -999.0,9,    -9.0,-999.000,9,-999.000,   41775,-999.0000,   1.3285,-999.0000, -999.00
 316N145_11,       I01W,     943,          1,          1,     SIH023,2,19950923,       1626,     8.5000,    70.5833,       4165,  4226.7,   1.6770,  34.7332,2,  34.7368,3,    156.8,2,   159.1,2,  141.12,2,   34.72,2,    0.01,2,    2.43,2,   0.000,2,  -0.001,2,  -999.0,9,  -999.0,9,-999.0000,9,-999.0000,9, -999.00,9, -999.00,9,  -999.0,9,    -9.0,-999.000,9,-999.000,   42283,-999.0000,   1.3276,-999.0000, -999.00