BOTTLE,20211119CCHSIORKP
EXPOCODE,SECT_ID,STNNBR,CASTNO,SAMPNO,BTLNBR,BTLNBR_FLAG_W,DATE,TIME,LATITUDE,LONGITUDE,DEPTH,CTDPRS,CTDTMP,CTDSAL,CTDSAL_FLAG_W,SALNTY,SALNTY_FLAG_W,CTDOXY,CTDOXY_FLAG_W,OXYGEN,OXYGEN_FLAG_W,SILCAT,SILCAT_FLAG_W,NITRAT,NITRAT_FLAG_W,NITRIT,NITRIT_FLAG_W,PHSPHT,PHSPHT_FLAG_W,CFC-11,CFC-11_FLAG_W,CFC-12,CFC-12_FLAG_W,TCARBN,TCARBN_FLAG_W,ALKALI,ALKALI_FLAG_W,TRITUM,TRITUM_FLAG_W,HELIUM,HELIUM_FLAG_W,DELHE3,DELHE3_FLAG_W,DELC13,DELC13_FLAG_W,DELC14,DELC14_FLAG_W,C14ERR,NEON,NEON_FLAG_W,NEONER,CTDRAW,TRITER,THETA,HELIER,DELHER
,,,,,,,,,,,METERS,DBAR,ITS-90,PSS-78,,PSS-78,,UMOL/KG,,UMOL/KG,,UMOL/KG,,UMOL/KG,,UMOL/KG,,UMOL/KG,,PMOL/KG,,PMOL/KG,,UMOL/KG,,UMOL/KG,,TU,,NMOL/KG,,PERCNT,,/MILLE,,/MILLE,,/MILLE,NMOL/KG,,NMOL/KG,DBAR,TU,DEG C,NMOL/KG,PERCNT
 316N145_11,       I01W,     952,          1,         29,     SIH031,2,19950925,       1348,     8.6528,    74.2500,       2750,     5.2,  28.4169,  35.1761,2,  35.1798,2,    213.9,2,   218.4,2,    1.94,2,    0.11,2,    0.06,2,    0.18,2,   1.618,2,   0.949,2,  1937.7,2,  2301.3,2,-999.0000,9,-999.0000,9, -999.00,9,    0.96,2,    49.1,2,     4.0,-999.000,9,-999.000,      43,-999.0000,  28.4156,-999.0000, -999.00
 316N145_11,       I01W,     952,          1,         28,     SIH032,2,19950925,       1348,     8.6528,    74.2500,       2750,    15.4,  28.4008,  35.1749,2,  35.1693,2,    212.5,2,   212.4,2,    1.94,2,    0.14,2,    0.09,2,    0.18,2,-999.000,9,-999.000,9,  1943.7,2,  2302.1,2,-999.0000,9,-999.0000,9, -999.00,9, -999.00,9,  -999.0,9,    -9.0,-999.000,9,-999.000,     145,-999.0000,  28.3971,-999.0000, -999.00
 316N145_11,       I01W,     952,          1,         27,     SIH033,2,19950925,       1348,     8.6528,    74.2500,       2750,    45.2,  24.2656,  35.3949,2,  35.3949,2,    112.1,2,   102.0,2,    7.42,2,   15.33,2,    0.08,2,    1.20,2,   1.435,2,   0.819,2,  2095.4,2,  2313.5,2,-999.0000,9,   1.7620,2,    2.80,2, -999.00,9,  -999.0,9,    -9.0,   7.033,2,   0.141,     442,-999.0000,  24.2560,   0.0090,    0.20
 316N145_11,       I01W,     952,          1,         26,     SIH037,2,19950925,       1348,     8.6528,    74.2500,       2750,    74.9,  19.9812,  35.0602,2,  35.0762,2,     17.4,2,    12.8,2,   19.87,2,   25.77,2,    0.04,2,    1.88,2,-999.000,9,-999.000,9,  2171.2,2,  2301.1,2,-999.0000,9,-999.0000,9, -999.00,9,   -0.23,3,    39.3,2,     4.2,-999.000,9,-999.000,     740,-999.0000,  19.9674,-999.0000, -999.00
 316N145_11,       I01W,     952,          1,         25,     SI9446,2,19950925,       1348,     8.6528,    74.2500,       2750,   105.1,  18.1568,  35.0500,2,  35.0583,2,     12.8,2,    12.8,2,   22.98,2,   27.31,2,    0.03,2,    2.00,2,   0.801,2,   0.432,2,  2187.6,2,  2305.4,2,-999.0000,9,-999.0000,9, -999.00,9,   -0.07,2,    27.2,2,     4.2,-999.000,9,-999.000,    1041,-999.0000,  18.1387,-999.0000, -999.00
 316N145_11,       I01W,     952,          1,         24,     SIH036,2,19950925,       1348,     8.6528,    74.2500,       2750,   135.5,  16.8938,  35.0339,2,  35.0358,2,      9.4,2,    14.4,2,   25.17,2,   28.32,2,    0.02,2,    2.06,2,-999.000,9,-999.000,9,  2198.4,2,  2305.3,2,-999.0000,9,-999.0000,9, -999.00,9, -999.00,9,  -999.0,9,    -9.0,-999.000,9,-999.000,    1345,-999.0000,  16.8716,-999.0000, -999.00
 316N145_11,       I01W,     952,          1,         23,     SIH001,2,19950925,       1348,     8.6528,    74.2500,       2750,   175.3,  15.0971,  35.1616,2,  35.1624,2,     10.4,2,    12.4,2,   26.45,2,   29.37,2,    0.01,2,    2.19,2,-999.000,9,-999.000,9,  2223.2,2,  2316.4,2,-999.0000,9,-999.0000,9, -999.00,9,   -0.05,2,   -14.2,2,     4.0,-999.000,9,-999.000,    1744,-999.0000,  15.0704,-999.0000, -999.00
 316N145_11,       I01W,     952,          1,         22,     SIH019,2,19950925,       1348,     8.6528,    74.2500,       2750,   225.3,  13.7015,  35.1695,2,  35.1687,2,     16.0,2,    16.2,2,   27.73,2,   30.14,2,    0.01,2,    2.22,2,   0.426,2,   0.227,2,  2233.4,2,  2318.3,2,-999.0000,9,-999.0000,9, -999.00,9,   -0.01,2,   -28.0,2,     3.0,-999.000,9,-999.000,    2244,-999.0000,  13.6694,-999.0000, -999.00
 316N145_11,       I01W,     952,          1,         21,     SIH025,3,19950925,       1348,     8.6528,    74.2500,       2750,   275.5,  12.6952,  35.1793,3,  35.1772,2,     22.8,2,    22.7,2,   28.83,2,   30.58,2,    0.01,2,    2.22,2,-999.000,9,-999.000,9,  2238.9,2,  2321.9,2,-999.0000,9,-999.0000,9, -999.00,9, -999.00,9,  -999.0,9,    -9.0,-999.000,9,-999.000,    2745,-999.0000,  12.6577,-999.0000, -999.00
 316N145_11,       I01W,     952,          1,         20,     SIH004,2,19950925,       1348,     8.6528,    74.2500,       2750,   350.5,  11.5676,  35.1422,2,  35.1427,2,     28.7,2,    28.6,2,   32.86,2,   31.84,2,    0.01,2,    2.28,2,   0.270,2,   0.138,2,  2245.9,2,  2324.2,2,-999.0000,9,-999.0000,9, -999.00,9,    0.08,2,   -53.3,2,     2.8,-999.000,9,-999.000,    3496,-999.0000,  11.5225,-999.0000, -999.00
 316N145_11,       I01W,     952,          1,         19,     SIH005,2,19950925,       1348,     8.6528,    74.2500,       2750,   450.9,  10.6313,  35.1593,2,  35.1579,2,     24.9,2,    24.9,2,   40.73,2,   33.61,2,    0.00,2,    2.45,2,-999.000,9,-999.000,9,  2259.6,2,  2332.4,2,-999.0000,9,   1.8380,2,    6.00,2,    0.06,2,   -85.0,2,     2.8,   7.582,2,   0.152,    4500,-999.0000,  10.5763,   0.0090,    0.20
 316N145_11,       I01W,     952,          1,         18,     SIH006,2,19950925,       1348,     8.6528,    74.2500,       2750,   550.7,   9.8717,  35.1315,2,  35.1317,2,     24.0,2,    23.3,2,   49.54,2,   34.92,2,    0.01,2,    2.58,2,   0.051,2,   0.028,2,  2270.7,2,  2340.4,2,-999.0000,9,-999.0000,9, -999.00,9,    0.07,2,  -109.6,2,     2.8,-999.000,9,-999.000,    5499,-999.0000,   9.8070,-999.0000, -999.00
 316N145_11,       I01W,     952,          1,         17,     SIH038,2,19950925,       1348,     8.6528,    74.2500,       2750,   646.6,   9.3316,  35.1255,2,  35.1272,2,     21.1,2,    19.7,2,   57.60,2,   35.92,2,    0.01,2,    2.68,2,-999.000,9,-999.000,9,  2282.7,2,  2346.6,2,-999.0000,9,-999.0000,9, -999.00,9,    0.01,2,  -127.7,2,     2.8,-999.000,9,-999.000,    6458,-999.0000,   9.2578,-999.0000, -999.00
 316N145_11,       I01W,     952,          1,         16,     SIH008,2,19950925,       1348,     8.6528,    74.2500,       2750,   746.9,   8.6208,  35.0778,2,  35.0772,2,     24.7,2,    23.4,2,   65.86,2,   36.53,2,    0.01,2,    2.73,2,   0.012,6,   0.006,6,  2291.6,2,  2355.2,2,-999.0000,9,-999.0000,9, -999.00,9,    0.00,2,  -141.8,2,     4.2,-999.000,9,-999.000,    7462,-999.0000,   8.5391,-999.0000, -999.00
 316N145_11,       I01W,     952,          1,         15,     SIH009,2,19950925,       1348,     8.6528,    74.2500,       2750,   847.4,   7.9457,  35.0465,2,  35.0472,2,     29.6,2,    28.2,2,   73.75,2,   37.18,2,    0.01,2,    2.76,2,   0.005,2,   0.002,2,  2299.8,2,  2367.0,2,-999.0000,9,-999.0000,9, -999.00,9,   -0.08,2,  -145.3,2,     2.7,-999.000,9,-999.000,    8467,-999.0000,   7.8566,-999.0000, -999.00
 316N145_11,       I01W,     952,          1,         14,     SIH010,2,19950925,       1348,     8.6528,    74.2500,       2750,   948.3,   7.3361,  35.0357,2,  35.0374,2,     34.9,2,    34.5,2,   80.72,2,   37.51,2,    0.01,2,    2.80,2,-999.000,9,-999.000,9,  2306.5,2,  2372.7,2,-999.0000,9,   1.8640,2,    9.50,2,   -0.03,2,  -151.7,2,     2.7,   7.943,2,   0.159,    9477,-999.0000,   7.2402,   0.0090,    0.20
 316N145_11,       I01W,     952,          1,         13,     SIH011,2,19950925,       1348,     8.6528,    74.2500,       2750,  1048.4,   6.7594,  35.0151,2,  35.0169,2,     42.2,2,    39.6,2,   87.33,2,   37.75,2,    0.00,2,    2.81,2,   0.000,2,  -0.001,2,  -999.0,9,  -999.0,9,-999.0000,9,   1.8820,2,   12.00,2, -999.00,9,  -999.0,9,    -9.0,   7.814,2,   0.156,   10478,-999.0000,   6.6570,   0.0090,    0.20
 316N145_11,       I01W,     952,          1,         12,     SIH012,2,19950925,       1348,     8.6528,    74.2500,       2750,  1149.5,   6.3500,  34.9987,2,  35.0012,3,     45.8,2,    44.5,2,   91.56,2,   37.86,2,    0.00,2,    2.81,2,-999.000,9,-999.000,9,  -999.0,9,  -999.0,9,-999.0000,9,   1.9000,2,   11.10,2,   -0.16,2,  -165.7,2,     2.7,   7.921,2,   0.158,   11489,-999.0000,   6.2404,   0.0090,    0.20
 316N145_11,       I01W,     952,          1,         11,     SI9426,2,19950925,       1348,     8.6528,    74.2500,       2750,  1250.3,   5.6984,  34.9443,2,  34.9443,2,     56.9,2,    56.4,2,   98.00,2,   37.42,2,    0.00,2,    2.79,2,   0.005,2,   0.006,2,  2316.9,2,  2388.3,2,-999.0000,9,   1.8780,2,   11.70,2, -999.00,9,  -999.0,9,    -9.0,   8.037,2,   0.161,   12498,-999.0000,   5.5846,   0.0090,    0.20
 316N145_11,       I01W,     952,          1,         10,     SIH014,2,19950925,       1348,     8.6528,    74.2500,       2750,  1351.0,   5.2917,  34.9215,2,  34.9189,2,     62.9,2,    63.5,2,  102.78,2,   37.63,2,    0.00,2,    2.78,2,-999.000,9,-999.000,9,  -999.0,9,  -999.0,9,-999.0000,9,   1.9220,2,   12.70,2,   -0.09,2,  -170.1,2,     4.9,   8.006,2,   0.160,   13506,-999.0000,   5.1720,   0.0100,    0.20
 316N145_11,       I01W,     952,          1,          9,     SIH015,2,19950925,       1348,     8.6528,    74.2500,       2750,  1447.1,   4.7609,  34.8887,2,  34.8871,2,     72.7,2,    73.3,2,  108.12,2,   37.42,2,    0.00,2,    2.75,2,-999.000,9,-999.000,9,  -999.0,9,  -999.0,9,-999.0000,9,   1.9530,2,   13.10,2, -999.00,9,  -999.0,9,    -9.0,   8.135,2,   0.163,   14467,-999.0000,   4.6374,   0.0100,    0.20
 316N145_11,       I01W,     952,          1,          8,     SIH016,3,19950925,       1348,     8.6528,    74.2500,       2750,  1547.7,   4.3052,  34.8651,3,  34.8666,2,     81.9,2,    82.8,2,  112.35,2,   37.20,2,    0.00,2,    2.72,2,  -0.003,3,   0.000,2,  2321.2,2,  2405.7,2,-999.0000,9,   1.9670,2,   15.90,2,   -0.12,2,  -180.0,2,     2.9,   8.300,2,   0.166,   15474,-999.0000,   4.1773,   0.0100,    0.20
 316N145_11,       I01W,     952,          1,          7,     SIH017,2,19950925,       1348,     8.6528,    74.2500,       2750,  1664.0,   3.7720,  34.8385,2,  34.8373,2,     92.5,2,    93.5,2,  118.61,2,   36.92,2,   -0.01,2,    2.69,2,-999.000,9,-999.000,9,  -999.0,9,  -999.0,9,-999.0000,9,   1.9800,2,   16.50,2,   -0.07,2,  -193.3,2,     3.2,   8.247,2,   0.165,   16637,-999.0000,   3.6398,   0.0100,    0.20
 316N145_11,       I01W,     952,          1,          6,     SIH018,2,19950925,       1348,     8.6528,    74.2500,       2750,  1896.7,   2.9888,  34.7978,2,  34.7986,2,    111.5,2,   112.0,2,  126.52,2,   36.38,2,   -0.01,2,    2.62,2,-999.000,9,-999.000,9,  -999.0,9,  -999.0,9,-999.0000,9,   2.0470,2,   14.40,2, -999.00,9,  -999.0,9,    -9.0,   8.273,2,   0.165,   18966,-999.0000,   2.8462,   0.0100,    0.20
 316N145_11,       I01W,     952,          1,          5,     SIH002,2,19950925,       1348,     8.6528,    74.2500,       2750,  2094.3,   2.6181,  34.7777,2,  34.7793,2,    120.5,2,   121.5,2,  131.12,2,   36.10,2,   -0.01,2,    2.58,2,  -0.003,2,   0.001,2,  2326.2,2,  2422.3,2,-999.0000,9,   1.9270,2,   14.10,2, -999.00,9,  -999.0,9,    -9.0,   8.233,2,   0.165,   20943,-999.0000,   2.4634,   0.0100,    0.20
 316N145_11,       I01W,     952,          1,          4,     SIH020,2,19950925,       1348,     8.6528,    74.2500,       2750,  2296.4,   2.2945,  34.7617,2,  34.7626,2,    129.1,2,   128.2,2,  135.18,2,   35.88,2,   -0.01,2,    2.55,2,-999.000,9,-999.000,9,  -999.0,9,  -999.0,9,-999.0000,9,   1.9310,2,   14.30,2, -999.00,9,  -999.0,9,    -9.0,   8.322,2,   0.166,   22966,-999.0000,   2.1270,   0.0100,    0.20
 316N145_11,       I01W,     952,          1,          3,     SIH021,2,19950925,       1348,     8.6528,    74.2500,       2750,  2494.3,   2.0887,  34.7498,2,  34.7506,2,    134.9,2,   133.5,2,  138.32,2,   35.71,2,   -0.01,2,    2.53,2,   0.000,2,   0.001,2,  -999.0,9,  -999.0,9,-999.0000,9,   1.9450,2,   13.20,2, -999.00,9,  -999.0,9,    -9.0,   8.278,2,   0.166,   24946,-999.0000,   1.9068,   0.0100,    0.20
 316N145_11,       I01W,     952,          1,          2,     SIH022,2,19950925,       1348,     8.6528,    74.2500,       2750,  2727.9,   1.9203,  34.7408,2,  34.7423,2,    139.3,2,   138.6,2,  140.55,2,   35.54,2,    0.01,2,    2.50,2,   0.006,2,   0.001,2,  -999.0,9,  -999.0,9,-999.0000,9,   1.9530,2,   14.80,2, -999.00,9,  -999.0,9,    -9.0,   8.398,2,   0.168,   27284,-999.0000,   1.7201,   0.0100,    0.20
 316N145_11,       I01W,     952,          1,          1,     SIH023,2,19950925,       1348,     8.6528,    74.2500,       2750,  2778.9,   1.9170,  34.7405,2,  34.7418,2,    138.7,2,   140.4,2,  140.00,2,   35.50,2,    0.01,2,    2.50,2,   0.003,2,   0.000,2,  2327.9,2,  2437.0,2,-999.0000,9,   1.9400,2,   14.90,2, -999.00,9,  -999.0,9,    -9.0,   8.345,2,   0.167,   27794,-999.0000,   1.7120,   0.0100,    0.20