BOTTLE,20211119CCHSIORKP
EXPOCODE,SECT_ID,STNNBR,CASTNO,SAMPNO,BTLNBR,BTLNBR_FLAG_W,DATE,TIME,LATITUDE,LONGITUDE,DEPTH,CTDPRS,CTDTMP,CTDSAL,CTDSAL_FLAG_W,SALNTY,SALNTY_FLAG_W,CTDOXY,CTDOXY_FLAG_W,OXYGEN,OXYGEN_FLAG_W,SILCAT,SILCAT_FLAG_W,NITRAT,NITRAT_FLAG_W,NITRIT,NITRIT_FLAG_W,PHSPHT,PHSPHT_FLAG_W,CFC-11,CFC-11_FLAG_W,CFC-12,CFC-12_FLAG_W,TCARBN,TCARBN_FLAG_W,ALKALI,ALKALI_FLAG_W,TRITUM,TRITUM_FLAG_W,HELIUM,HELIUM_FLAG_W,DELHE3,DELHE3_FLAG_W,DELC13,DELC13_FLAG_W,DELC14,DELC14_FLAG_W,C14ERR,NEON,NEON_FLAG_W,NEONER,CTDRAW,TRITER,THETA,HELIER,DELHER
,,,,,,,,,,,METERS,DBAR,ITS-90,PSS-78,,PSS-78,,UMOL/KG,,UMOL/KG,,UMOL/KG,,UMOL/KG,,UMOL/KG,,UMOL/KG,,PMOL/KG,,PMOL/KG,,UMOL/KG,,UMOL/KG,,TU,,NMOL/KG,,PERCNT,,/MILLE,,/MILLE,,/MILLE,NMOL/KG,,NMOL/KG,DBAR,TU,DEG C,NMOL/KG,PERCNT
 316N145_11,       I01W,     917,          1,         36,     SIH024,2,19950916,       1156,     8.6167,    58.4028,       3700,     4.5,  26.7663,  35.8521,2,  35.8570,2,    213.5,2,  -999.0,9,    2.44,2,    1.27,2,    0.18,2,    0.35,2,   1.752,2,   1.012,2,  2008.9,2,  2339.4,2,-999.0000,9,-999.0000,9, -999.00,9, -999.00,9,  -999.0,9,    -9.0,-999.000,9,-999.000,      32,-999.0000,  26.7653,-999.0000, -999.00
 316N145_11,       I01W,     917,          1,         35,     SIH003,9,19950916,       1156,     8.6167,    58.4028,       3700,    30.5,  26.2861,  35.9155,9,-999.0000,9,    213.8,2,  -999.0,9, -999.00,9, -999.00,9, -999.00,9, -999.00,9,-999.000,9,-999.000,9,  -999.0,9,  -999.0,9,-999.0000,9,-999.0000,9, -999.00,9, -999.00,9,  -999.0,9,    -9.0,-999.000,9,-999.000,     292,-999.0000,  26.2793,-999.0000, -999.00
 316N145_11,       I01W,     917,          1,         34,     SIH026,2,19950916,       1156,     8.6167,    58.4028,       3700,    60.4,  26.1037,  35.8803,2,  35.8333,2,    202.5,2,   190.4,2,    3.17,2,    3.86,2,    0.79,2,    0.56,2,-999.000,9,-999.000,9,  2033.9,2,  2337.4,2,-999.0000,9,-999.0000,9, -999.00,9, -999.00,9,  -999.0,9,    -9.0,-999.000,9,-999.000,     592,-999.0000,  26.0901,-999.0000, -999.00
 316N145_11,       I01W,     917,          1,         33,     SIH027,2,19950916,       1156,     8.6167,    58.4028,       3700,    90.1,  25.7238,  35.8132,2,  35.8173,2,    186.4,2,   191.9,2,    3.18,2,    4.59,2,    0.82,2,    0.60,2,   1.756,2,   1.011,2,  -999.0,9,  2337.1,2,-999.0000,9,-999.0000,9, -999.00,9, -999.00,9,  -999.0,9,    -9.0,-999.000,9,-999.000,     888,-999.0000,  25.7038,-999.0000, -999.00
 316N145_11,       I01W,     917,          1,         32,     SIH028,2,19950916,       1156,     8.6167,    58.4028,       3700,   120.4,  25.0877,  35.7854,2,  35.7845,2,    177.3,2,   186.0,2,    4.10,2,    6.63,2,    0.57,2,    0.72,2,-999.000,9,-999.000,9,  2051.9,2,  2334.7,2,-999.0000,9,-999.0000,9, -999.00,9, -999.00,9,  -999.0,9,    -9.0,-999.000,9,-999.000,    1191,-999.0000,  25.0614,-999.0000, -999.00
 316N145_11,       I01W,     917,          1,         31,     SIH029,2,19950916,       1156,     8.6167,    58.4028,       3700,   150.1,  23.2421,  35.7913,2,  35.7997,2,    155.0,2,   121.8,2,    7.41,2,   13.99,2,    0.03,2,    1.17,2,-999.000,9,-999.000,9,  2108.3,2,  2337.0,2,-999.0000,9,-999.0000,9, -999.00,9, -999.00,9,  -999.0,9,    -9.0,-999.000,9,-999.000,    1488,-999.0000,  23.2111,-999.0000, -999.00
 316N145_11,       I01W,     917,          1,         30,     SIH030,2,19950916,       1156,     8.6167,    58.4028,       3700,   200.1,  18.1294,  35.6582,2,  35.6571,2,     24.6,2,    18.4,2,   18.44,2,   24.83,2,    0.02,2,    2.08,2,   1.034,2,   0.583,2,  2217.8,2,  2332.3,2,-999.0000,9,-999.0000,9, -999.00,9, -999.00,9,  -999.0,9,    -9.0,-999.000,9,-999.000,    1989,-999.0000,  18.0948,-999.0000, -999.00
 316N145_11,       I01W,     917,          1,         29,     SIH031,2,19950916,       1156,     8.6167,    58.4028,       3700,   249.9,  14.9438,  35.5246,2,  35.5089,2,     26.2,2,    25.0,2,   23.40,2,   26.22,2,    0.01,2,    2.12,2,-999.000,9,-999.000,9,  2231.0,2,  2328.9,2,-999.0000,9,-999.0000,9, -999.00,9, -999.00,9,  -999.0,9,    -9.0,-999.000,9,-999.000,    2487,-999.0000,  14.9058,-999.0000, -999.00
 316N145_11,       I01W,     917,          1,         28,     SIH032,2,19950916,       1156,     8.6167,    58.4028,       3700,   299.2,  13.7641,  35.4616,2,  35.4610,2,     30.5,2,    31.3,2,   25.80,2,   27.34,2,    0.01,2,    2.14,2,-999.000,9,-999.000,9,  2235.9,2,  2328.0,2,-999.0000,9,-999.0000,9, -999.00,9, -999.00,9,  -999.0,9,    -9.0,-999.000,9,-999.000,    2980,-999.0000,  13.7210,-999.0000, -999.00
 316N145_11,       I01W,     917,          1,         27,     SIH033,2,19950916,       1156,     8.6167,    58.4028,       3700,   400.6,  12.0040,  35.3899,2,  35.3748,2,     27.7,2,    28.1,2,   32.61,2,   30.50,2,    0.01,2,    2.31,2,   0.313,2,   0.168,2,  2235.8,2,  2329.7,2,-999.0000,9,-999.0000,9, -999.00,9, -999.00,9,  -999.0,9,    -9.0,-999.000,9,-999.000,    3994,-999.0000,  11.9511,-999.0000, -999.00
 316N145_11,       I01W,     917,          1,         26,     SIH037,2,19950916,       1156,     8.6167,    58.4028,       3700,   495.6,  10.8586,  35.2736,2,  35.2743,2,     28.7,2,    26.1,2,   40.16,2,   32.85,2,    0.01,2,    2.47,2,-999.000,9,-999.000,9,  2260.9,2,  2335.4,2,-999.0000,9,-999.0000,9, -999.00,9, -999.00,9,  -999.0,9,    -9.0,-999.000,9,-999.000,    4945,-999.0000,  10.7969,-999.0000, -999.00
 316N145_11,       I01W,     917,          1,         25,     SI9446,2,19950916,       1156,     8.6167,    58.4028,       3700,   596.7,  10.4067,  35.2751,2,  35.2759,2,     21.3,2,    21.4,2,   46.80,2,   33.92,2,    0.00,2,    2.58,2,-999.000,9,-999.000,9,  2271.3,2,  2335.2,2,-999.0000,9,-999.0000,9, -999.00,9, -999.00,9,  -999.0,9,    -9.0,-999.000,9,-999.000,    5956,-999.0000,  10.3341,-999.0000, -999.00
 316N145_11,       I01W,     917,          1,         24,     SIH036,2,19950916,       1156,     8.6167,    58.4028,       3700,   697.2,   9.7447,  35.2686,2,  35.2737,2,     24.0,2,    21.4,2,   56.01,2,   34.95,2,    0.00,2,    2.66,2,   0.042,2,   0.019,2,  2281.2,2,  2348.5,2,-999.0000,9,-999.0000,9, -999.00,9, -999.00,9,  -999.0,9,    -9.0,-999.000,9,-999.000,    6961,-999.0000,   9.6627,-999.0000, -999.00
 316N145_11,       I01W,     917,          1,         23,     SIH001,2,19950916,       1156,     8.6167,    58.4028,       3700,   797.4,   9.0290,  35.2406,2,  35.2465,2,     25.5,2,    23.0,2,   64.48,2,   35.77,2,    0.00,2,    2.73,2,-999.000,9,-999.000,9,  2291.2,2,  2355.0,2,-999.0000,9,-999.0000,9, -999.00,9, -999.00,9,  -999.0,9,    -9.0,-999.000,9,-999.000,    7964,-999.0000,   8.9391,-999.0000, -999.00
 316N145_11,       I01W,     917,          1,         22,     SIH019,2,19950916,       1156,     8.6167,    58.4028,       3700,   898.1,   8.1812,  35.1442,2,  35.1433,2,     31.1,2,    26.5,2,   72.98,2,   36.94,2,    0.00,2,    2.79,2,-999.000,9,-999.000,9,  2300.9,2,  2361.9,2,-999.0000,9,-999.0000,9, -999.00,9, -999.00,9,  -999.0,9,    -9.0,-999.000,9,-999.000,    8971,-999.0000,   8.0850,-999.0000, -999.00
 316N145_11,       I01W,     917,          1,         21,     SIH025,2,19950916,       1156,     8.6167,    58.4028,       3700,   994.3,   7.9777,  35.2200,2,  35.2164,2,     32.2,2,    29.0,2,   77.22,2,   36.79,2,    0.00,2,    2.79,2,   0.018,2,   0.008,2,  2304.6,2,  2369.4,2,-999.0000,9,-999.0000,9, -999.00,9, -999.00,9,  -999.0,9,    -9.0,-999.000,9,-999.000,    9934,-999.0000,   7.8718,-999.0000, -999.00
 316N145_11,       I01W,     917,          1,         20,     SIH004,2,19950916,       1156,     8.6167,    58.4028,       3700,  1094.3,   6.7792,  35.0907,2,  35.0905,2,     43.2,2,    42.6,2,   87.01,2,   37.36,2,    0.00,2,    2.81,2,-999.000,9,-999.000,9,  -999.0,9,  -999.0,9,-999.0000,9,-999.0000,9, -999.00,9, -999.00,9,  -999.0,9,    -9.0,-999.000,9,-999.000,   10935,-999.0000,   6.6717,-999.0000, -999.00
 316N145_11,       I01W,     917,          1,         19,     SIH005,2,19950916,       1156,     8.6167,    58.4028,       3700,  1195.0,   6.2967,  35.0440,2,  35.0439,2,     52.7,2,    50.2,2,   91.64,2,   37.42,2,    0.00,2,    2.81,2,-999.000,9,-999.000,9,  -999.0,9,  -999.0,9,-999.0000,9,-999.0000,9, -999.00,9, -999.00,9,  -999.0,9,    -9.0,-999.000,9,-999.000,   11942,-999.0000,   6.1829,-999.0000, -999.00
 316N145_11,       I01W,     917,          1,         18,     SIH006,2,19950916,       1156,     8.6167,    58.4028,       3700,  1296.2,   5.9365,  35.0232,2,  35.0181,2,     58.0,2,    55.7,2,   95.53,2,   37.46,2,    0.00,2,    2.81,2,   0.006,2,   0.002,2,  -999.0,9,  -999.0,9,-999.0000,9,-999.0000,9, -999.00,9, -999.00,9,  -999.0,9,    -9.0,-999.000,9,-999.000,   12954,-999.0000,   5.8157,-999.0000, -999.00
 316N145_11,       I01W,     917,          1,         17,     SIH038,2,19950916,       1156,     8.6167,    58.4028,       3700,  1396.6,   5.3520,  34.9768,2,  34.9713,2,     64.6,2,    66.9,2,  101.30,2,   37.46,2,    0.00,2,    2.80,2,-999.000,9,-999.000,9,  -999.0,9,  -999.0,9,-999.0000,9,-999.0000,9, -999.00,9, -999.00,9,  -999.0,9,    -9.0,-999.000,9,-999.000,   13959,-999.0000,   5.2270,-999.0000, -999.00
 316N145_11,       I01W,     917,          1,         16,     SIH008,2,19950916,       1156,     8.6167,    58.4028,       3700,  1497.9,   4.8295,  34.9340,2,  34.9349,2,     73.6,2,    72.5,2,  106.20,2,   37.30,2,    0.00,2,    2.77,2,   0.002,2,   0.000,2,  -999.0,9,  -999.0,9,-999.0000,9,-999.0000,9, -999.00,9, -999.00,9,  -999.0,9,    -9.0,-999.000,9,-999.000,   14972,-999.0000,   4.7003,-999.0000, -999.00
 316N145_11,       I01W,     917,          1,         15,     SIH009,2,19950916,       1156,     8.6167,    58.4028,       3700,  1598.4,   4.3468,  34.8986,2,  34.8967,2,     84.7,2,    82.9,2,  110.68,2,   37.08,2,    0.00,2,    2.74,2,-999.000,9,-999.000,9,  -999.0,9,  -999.0,9,-999.0000,9,-999.0000,9, -999.00,9, -999.00,9,  -999.0,9,    -9.0,-999.000,9,-999.000,   15978,-999.0000,   4.2135,-999.0000, -999.00
 316N145_11,       I01W,     917,          1,         14,     SIH010,2,19950916,       1156,     8.6167,    58.4028,       3700,  1795.2,   3.6625,  34.8525,2,  34.8532,2,    100.9,2,    97.7,2,  118.10,2,   36.76,2,    0.00,2,    2.69,2,  -0.001,2,  -0.001,2,  -999.0,9,  -999.0,9,-999.0000,9,-999.0000,9, -999.00,9, -999.00,9,  -999.0,9,    -9.0,-999.000,9,-999.000,   17947,-999.0000,   3.5197,-999.0000, -999.00
 316N145_11,       I01W,     917,          1,         13,     SIH011,2,19950916,       1156,     8.6167,    58.4028,       3700,  1992.4,   2.9567,  34.8123,2,  34.8133,2,    113.0,2,   113.1,2,  126.31,2,   36.25,2,    0.00,2,    2.63,2,-999.000,9,-999.000,9,  -999.0,9,  -999.0,9,-999.0000,9,-999.0000,9, -999.00,9, -999.00,9,  -999.0,9,    -9.0,-999.000,9,-999.000,   19921,-999.0000,   2.8059,-999.0000, -999.00
 316N145_11,       I01W,     917,          1,         12,     SIH012,2,19950916,       1156,     8.6167,    58.4028,       3700,  2194.8,   2.5809,  34.7904,2,  34.7905,2,    122.8,2,   125.6,2,  129.84,2,   36.00,2,    0.00,2,    2.59,2,  -0.002,2,   0.000,2,  -999.0,9,  -999.0,9,-999.0000,9,-999.0000,9, -999.00,9, -999.00,9,  -999.0,9,    -9.0,-999.000,9,-999.000,   21946,-999.0000,   2.4177,-999.0000, -999.00
 316N145_11,       I01W,     917,          1,         11,     SI9426,2,19950916,       1156,     8.6167,    58.4028,       3700,  2397.4,   2.3019,  34.7741,2,  34.7756,2,    130.1,2,   131.7,2,  132.35,2,   35.69,2,    0.00,2,    2.56,2,-999.000,9,-999.000,9,  -999.0,9,  -999.0,9,-999.0000,9,-999.0000,9, -999.00,9, -999.00,9,  -999.0,9,    -9.0,-999.000,9,-999.000,   23973,-999.0000,   2.1250,-999.0000, -999.00
 316N145_11,       I01W,     917,          1,         10,     SIH014,2,19950916,       1156,     8.6167,    58.4028,       3700,  2594.5,   2.0759,  34.7615,2,  34.7620,2,    142.4,2,   140.3,2,  134.50,2,   35.44,2,    0.00,2,    2.52,2,   0.009,4,  -0.002,2,  -999.0,9,  -999.0,9,-999.0000,9,-999.0000,9, -999.00,9, -999.00,9,  -999.0,9,    -9.0,-999.000,9,-999.000,   25946,-999.0000,   1.8850,-999.0000, -999.00
 316N145_11,       I01W,     917,          1,          9,     SIH015,2,19950916,       1156,     8.6167,    58.4028,       3700,  2797.2,   1.9339,  34.7536,2,  34.7526,2,    145.5,2,   145.6,2,  136.02,2,   35.20,2,    0.00,2,    2.50,2,-999.000,9,-999.000,9,  -999.0,9,  -999.0,9,-999.0000,9,-999.0000,9, -999.00,9, -999.00,9,  -999.0,9,    -9.0,-999.000,9,-999.000,   27974,-999.0000,   1.7268,-999.0000, -999.00
 316N145_11,       I01W,     917,          1,          8,     SIH016,2,19950916,       1156,     8.6167,    58.4028,       3700,  2996.2,   1.8465,  34.7477,2,  34.7480,2,    147.4,2,   150.3,2,  136.42,2,   35.10,2,    0.01,2,    2.48,2,  -0.002,2,   0.000,2,  -999.0,9,  -999.0,9,-999.0000,9,-999.0000,9, -999.00,9, -999.00,9,  -999.0,9,    -9.0,-999.000,9,-999.000,   29965,-999.0000,   1.6221,-999.0000, -999.00
 316N145_11,       I01W,     917,          1,          7,     SIH017,2,19950916,       1156,     8.6167,    58.4028,       3700,  3194.3,   1.7702,  34.7421,2,  34.7421,2,    155.1,2,   153.5,2,  136.64,2,   34.91,2,   -0.01,2,    2.46,2,-999.000,9,-999.000,9,  -999.0,9,  -999.0,9,-999.0000,9,-999.0000,9, -999.00,9, -999.00,9,  -999.0,9,    -9.0,-999.000,9,-999.000,   31948,-999.0000,   1.5280,-999.0000, -999.00
 316N145_11,       I01W,     917,          1,          6,     SIH018,2,19950916,       1156,     8.6167,    58.4028,       3700,  3392.9,   1.7316,  34.7404,2,  34.7400,2,    153.8,2,   156.8,2,  136.30,2,   34.80,2,    0.01,2,    2.45,2,  -0.002,2,  -0.002,2,  -999.0,9,  -999.0,9,-999.0000,9,-999.0000,9, -999.00,9, -999.00,9,  -999.0,9,    -9.0,-999.000,9,-999.000,   33935,-999.0000,   1.4703,-999.0000, -999.00
 316N145_11,       I01W,     917,          1,          5,     SIH002,2,19950916,       1156,     8.6167,    58.4028,       3700,  3597.3,   1.7109,  34.7383,2,  34.7374,2,    159.6,2,   158.6,2,  136.33,2,   34.77,2,   -0.01,2,    2.44,2,-999.000,9,-999.000,9,  -999.0,9,  -999.0,9,-999.0000,9,-999.0000,9, -999.00,9, -999.00,9,  -999.0,9,    -9.0,-999.000,9,-999.000,   35981,-999.0000,   1.4290,-999.0000, -999.00
 316N145_11,       I01W,     917,          1,          4,     SIH020,2,19950916,       1156,     8.6167,    58.4028,       3700,  3796.1,   1.7083,  34.7364,2,  34.7366,2,    161.5,2,   160.6,2,  136.00,2,   34.61,2,   -0.01,2,    2.42,2,   0.002,2,   0.002,2,  -999.0,9,  -999.0,9,-999.0000,9,-999.0000,9, -999.00,9, -999.00,9,  -999.0,9,    -9.0,-999.000,9,-999.000,   37971,-999.0000,   1.4054,-999.0000, -999.00
 316N145_11,       I01W,     917,          1,          3,     SIH021,2,19950916,       1156,     8.6167,    58.4028,       3700,  4000.0,   1.7132,  34.7368,2,  34.7360,2,    159.0,2,   160.6,2,  136.22,2,   34.66,2,    0.01,2,    2.42,2,-999.000,9,-999.000,9,  -999.0,9,  -999.0,9,-999.0000,9,-999.0000,9, -999.00,9, -999.00,9,  -999.0,9,    -9.0,-999.000,9,-999.000,   40011,-999.0000,   1.3880,-999.0000, -999.00
 316N145_11,       I01W,     917,          1,          2,     SIH022,2,19950916,       1156,     8.6167,    58.4028,       3700,  4072.3,   1.7208,  34.7358,2,  34.7362,2,    160.3,2,   160.5,2,  136.25,2,   34.61,2,    0.01,2,    2.44,2,  -0.001,2,   0.001,2,  -999.0,9,  -999.0,9,-999.0000,9,-999.0000,9, -999.00,9, -999.00,9,  -999.0,9,    -9.0,-999.000,9,-999.000,   40735,-999.0000,   1.3874,-999.0000, -999.00
 316N145_11,       I01W,     917,          1,          1,     SIH023,2,19950916,       1156,     8.6167,    58.4028,       3700,  4123.0,   1.7270,  34.7364,2,  34.7362,2,    161.5,2,   161.6,2,  135.66,2,   34.50,2,    0.00,2,    2.42,2,  -0.003,2,  -0.002,2,  -999.0,9,  -999.0,9,-999.0000,9,-999.0000,9, -999.00,9, -999.00,9,  -999.0,9,    -9.0,-999.000,9,-999.000,   41241,-999.0000,   1.3878,-999.0000, -999.00