BOTTLE,20211119CCHSIORKP
EXPOCODE,SECT_ID,STNNBR,CASTNO,SAMPNO,BTLNBR,BTLNBR_FLAG_W,DATE,TIME,LATITUDE,LONGITUDE,DEPTH,CTDPRS,CTDTMP,CTDSAL,CTDSAL_FLAG_W,SALNTY,SALNTY_FLAG_W,CTDOXY,CTDOXY_FLAG_W,OXYGEN,OXYGEN_FLAG_W,SILCAT,SILCAT_FLAG_W,NITRAT,NITRAT_FLAG_W,NITRIT,NITRIT_FLAG_W,PHSPHT,PHSPHT_FLAG_W,CFC-11,CFC-11_FLAG_W,CFC-12,CFC-12_FLAG_W,TCARBN,TCARBN_FLAG_W,ALKALI,ALKALI_FLAG_W,TRITUM,TRITUM_FLAG_W,HELIUM,HELIUM_FLAG_W,DELHE3,DELHE3_FLAG_W,DELC13,DELC13_FLAG_W,DELC14,DELC14_FLAG_W,C14ERR,NEON,NEON_FLAG_W,NEONER,CTDRAW,TRITER,THETA,HELIER,DELHER
,,,,,,,,,,,METERS,DBAR,ITS-90,PSS-78,,PSS-78,,UMOL/KG,,UMOL/KG,,UMOL/KG,,UMOL/KG,,UMOL/KG,,UMOL/KG,,PMOL/KG,,PMOL/KG,,UMOL/KG,,UMOL/KG,,TU,,NMOL/KG,,PERCNT,,/MILLE,,/MILLE,,/MILLE,NMOL/KG,,NMOL/KG,DBAR,TU,DEG C,NMOL/KG,PERCNT
 316N145_11,       I01W,     883,          1,         27,     SIH033,2,19950907,       1513,    13.3417,    49.5972,       1950,     4.5,  31.2013,  36.5208,2,-999.0000,9,    191.4,2,   212.7,2,    1.89,2,    0.06,2,   -0.01,2,    0.23,2,   1.498,2,   0.886,2,  2004.9,2,  2384.9,2,-999.0000,9,   1.6766,2,   -0.96,2,    1.61,2,    48.9,2,     2.7,   6.469,2,   0.032,      22,-999.0000,  31.2002,   0.0084,    0.14
 316N145_11,       I01W,     883,          1,         26,     SIH037,2,19950907,       1513,    13.3417,    49.5972,       1950,    28.3,  28.7490,  36.3206,2,  36.3241,2,    200.7,2,   204.1,2,    2.09,2,    0.12,2,   -0.01,2,    0.31,2,-999.000,9,-999.000,9,  2017.5,2,  2360.0,2,-999.0000,9,-999.0000,9, -999.00,9, -999.00,9,  -999.0,9,    -9.0,-999.000,9,-999.000,     260,-999.0000,  28.7422,-999.0000, -999.00
 316N145_11,       I01W,     883,          1,         25,     SI9446,2,19950907,       1513,    13.3417,    49.5972,       1950,    59.4,  20.4022,  35.7164,2,  35.7252,2,     56.5,2,    55.6,2,   13.27,2,   22.06,2,    0.09,2,    1.70,2,   1.419,2,   0.808,2,  2180.3,2,  2321.0,2,-999.0000,9,-999.0000,9, -999.00,9,    0.09,2,    40.7,2,     4.1,-999.000,9,-999.000,     571,-999.0000,  20.3910,-999.0000, -999.00
 316N145_11,       I01W,     883,          1,         24,     SIH036,2,19950907,       1513,    13.3417,    49.5972,       1950,    88.7,  17.8598,  35.6874,2,  35.6907,2,     21.8,2,    23.0,2,   19.16,2,   25.64,2,    0.04,2,    2.03,2,-999.000,9,-999.000,9,  2221.0,2,  2331.9,2,-999.0000,9,-999.0000,9, -999.00,9, -999.00,9,  -999.0,9,    -9.0,-999.000,9,-999.000,     864,-999.0000,  17.8447,-999.0000, -999.00
 316N145_11,       I01W,     883,          1,         23,     SIH001,2,19950907,       1513,    13.3417,    49.5972,       1950,   118.9,  16.5241,  35.6887,2,  35.6875,2,     19.1,2,    20.5,2,   21.71,2,   26.07,2,    0.04,2,    2.11,2,   0.924,2,   0.518,2,  2232.1,2,  2321.1,2,-999.0000,9,-999.0000,9, -999.00,9,   -0.11,2,     4.2,2,     3.6,-999.000,9,-999.000,    1166,-999.0000,  16.5048,-999.0000, -999.00
 316N145_11,       I01W,     883,          1,         22,     SIH019,2,19950907,       1513,    13.3417,    49.5972,       1950,   149.3,  15.1148,  35.5568,2,  35.5691,2,     27.6,2,    29.2,2,   23.68,2,   26.29,2,    0.03,2,    2.08,2,-999.000,9,-999.000,9,  2233.1,2,  2318.9,2,   0.5100,2,-999.0000,9, -999.00,9, -999.00,9,  -999.0,9,    -9.0,-999.000,9,-999.000,    1470,   0.0030,  15.0920,-999.0000, -999.00
 316N145_11,       I01W,     883,          1,         21,     SIH025,2,19950907,       1513,    13.3417,    49.5972,       1950,   179.1,  14.5310,  35.5816,2,  35.5896,2,     26.8,2,    28.0,2,   25.25,2,   26.69,2,    0.02,2,    2.10,2,   0.732,3,   0.390,2,  2237.0,2,  2320.3,2,   0.4746,2,   1.7700,2,    4.94,2,    0.00,2,   -12.8,2,     2.8,   7.273,2,   0.036,    1768,   0.0029,  14.5043,   0.0089,    0.14
 316N145_11,       I01W,     883,          1,         20,     SIH004,3,19950907,       1513,    13.3417,    49.5972,       1950,   198.8,  14.4226,  35.6506,3,  35.6579,2,     19.9,2,    21.5,2,   26.22,2,   26.91,2,    0.01,2,    2.16,2,-999.000,9,-999.000,9,  2243.3,2,  2337.0,2,   0.4462,2,   1.7727,2,    4.89,2, -999.00,9,  -999.0,9,    -9.0,   7.265,2,   0.036,    1965,   0.0029,  14.3931,   0.0089,    0.14
 316N145_11,       I01W,     883,          1,         19,     SIH005,2,19950907,       1513,    13.3417,    49.5972,       1950,   248.8,  13.9275,  35.6800,2,  35.6853,2,     18.6,2,    21.1,2,   28.38,2,   27.66,2,    0.01,2,    2.21,2,-999.000,9,-999.000,9,  2260.8,2,  2337.8,2,   0.3947,2,   1.7700,2,    5.24,2,   -0.06,2,   -28.4,2,     2.7,   7.293,2,   0.036,    2465,   0.0028,  13.8914,   0.0088,    0.14
 316N145_11,       I01W,     883,          1,         18,     SIH006,2,19950907,       1513,    13.3417,    49.5972,       1950,   299.4,  13.4429,  35.6812,2,  35.6879,2,     19.1,2,    22.7,2,   30.92,2,   28.56,2,    0.00,2,    2.24,2,   0.436,2,   0.245,2,  2252.8,2,  2328.2,2,   0.3344,2,   1.7775,2,    5.67,2,   -0.02,2,   -42.2,2,     2.8,   7.320,2,   0.037,    2972,   0.0027,  13.4004,   0.0089,    0.14
 316N145_11,       I01W,     883,          1,         17,     SIH038,2,19950907,       1513,    13.3417,    49.5972,       1950,   399.5,  12.8728,  35.7653,2,  35.7673,2,     15.2,2,    17.7,2,   37.30,2,   29.02,2,    0.00,2,    2.38,2,   0.273,2,   0.156,2,  -999.0,9,  -999.0,9,   0.2543,2,   1.7692,2,    6.23,2,   -0.07,2,   -66.4,2,     2.8,   7.302,2,   0.037,    3973,   0.0026,  12.8173,   0.0088,    0.14
 316N145_11,       I01W,     883,          1,         16,     SIH008,2,19950907,       1513,    13.3417,    49.5972,       1950,   499.2,  12.7043,  35.9187,2,  35.9103,2,     17.5,2,    18.9,2,   41.33,2,   29.65,2,    0.00,2,    2.38,2,   0.260,2,   0.144,2,  -999.0,9,  -999.0,9,   0.2327,2,   1.7727,2,    7.60,2,   -0.03,2,   -78.1,2,     3.2,   7.294,2,   0.036,    4971,   0.0026,  12.6353,   0.0089,    0.14
 316N145_11,       I01W,     883,          1,         15,     SIH009,2,19950907,       1513,    13.3417,    49.5972,       1950,   599.9,  13.9333,  36.3766,2,  36.3778,2,     20.3,2,    25.8,2,   39.16,2,   28.20,2,    0.00,2,    2.20,2,   0.391,2,   0.219,2,  -999.0,9,  -999.0,9,-999.0000,9,-999.0000,9, -999.00,9,    0.10,2,   -62.9,2,     2.8,-999.000,9,-999.000,    5979,-999.0000,  13.8446,-999.0000, -999.00
 316N145_11,       I01W,     883,          1,         14,     SIH010,2,19950907,       1513,    13.3417,    49.5972,       1950,   700.1,  13.2422,  36.2775,2,  36.2786,2,     19.8,2,    25.3,2,   44.46,2,   29.43,2,    0.00,2,    2.29,2,   0.323,2,   0.178,2,  -999.0,9,  -999.0,9,   0.2682,2,   1.7895,2,   10.73,2,    0.08,2,   -77.4,2,     3.0,   7.329,2,   0.037,    6982,   0.0026,  13.1417,   0.0089,    0.14
 316N145_11,       I01W,     883,          1,         13,     SIH011,2,19950907,       1513,    13.3417,    49.5972,       1950,   800.9,  12.6153,  36.1950,2,  36.2085,2,     19.7,2,    22.6,2,   46.81,2,   29.28,2,    0.00,2,    2.28,2,   0.285,2,   0.159,2,  -999.0,9,  -999.0,9,-999.0000,9,-999.0000,9, -999.00,9,    0.05,2,   -82.1,2,     2.7,-999.000,9,-999.000,    7991,-999.0000,  12.5035,-999.0000, -999.00
 316N145_11,       I01W,     883,          1,         12,     SIH012,2,19950907,       1513,    13.3417,    49.5972,       1950,   895.9,  12.0926,  36.1444,2,  36.1448,2,     20.1,2,    23.7,2,   54.27,2,   31.16,2,    0.00,2,    2.42,2,-999.000,9,-999.000,9,  -999.0,9,  -999.0,9,   0.2204,2,   1.7987,2,   12.14,2,    0.00,2,   -94.6,2,     2.6,   7.350,2,   0.037,    8943,   0.0025,  11.9704,   0.0090,    0.14
 316N145_11,       I01W,     883,          1,         11,     SI9426,2,19950907,       1513,    13.3417,    49.5972,       1950,   996.7,  11.3321,  36.0207,2,  36.0210,2,     21.0,2,    20.9,2,   59.95,2,   32.22,2,    0.00,2,    2.49,2,   0.199,2,   0.109,2,  -999.0,9,  -999.0,9,-999.0000,9,   1.8960,2,   14.60,2,   -0.15,2,  -108.9,2,     3.0,   7.479,2,   0.150,    9952,-999.0000,  11.2011,   0.0090,    0.20
 316N145_11,       I01W,     883,          1,         10,     SIH014,2,19950907,       1513,    13.3417,    49.5972,       1950,  1097.5,   9.9587,  35.7768,2,  35.7811,2,     23.6,2,    25.1,2,   69.38,2,   33.84,2,    0.00,2,    2.61,2,-999.000,9,-999.000,9,  -999.0,9,  -999.0,9,   0.1349,2,   1.8330,2,   12.90,2, -999.00,9,  -999.0,9,    -9.0,   7.595,2,   0.152,   10961,   0.0024,   9.8247,   0.0090,    0.20
 316N145_11,       I01W,     883,          1,          9,     SIH015,2,19950907,       1513,    13.3417,    49.5972,       1950,  1198.7,   8.8163,  35.5850,2,  35.5877,2,     27.3,2,    28.0,2,   78.22,2,   35.03,2,    0.00,2,    2.70,2,   0.336,4,   0.293,4,  -999.0,9,  -999.0,9,-999.0000,9,   1.9090,2,   15.20,2,   -0.22,2,  -141.0,2,     3.1,   7.787,2,   0.156,   11975,-999.0000,   8.6792,   0.0100,    0.20
 316N145_11,       I01W,     883,          1,          8,     SIH016,2,19950907,       1513,    13.3417,    49.5972,       1950,  1299.7,   7.8771,  35.4362,2,  35.4373,2,     32.2,2,    32.8,2,   86.07,2,   35.89,2,    0.00,2,    2.76,2,-999.000,9,-999.000,9,  -999.0,9,  -999.0,9,   0.0726,2,   1.8910,2,   13.70,2, -999.00,9,  -999.0,9,    -9.0,   7.818,2,   0.156,   12987,   0.0023,   7.7367,   0.0090,    0.20
 316N145_11,       I01W,     883,          1,          7,     SIH017,2,19950907,       1513,    13.3417,    49.5972,       1950,  1394.7,   6.7597,  35.2497,2,  35.2536,2,     40.0,2,    41.0,2,   95.31,2,   36.80,2,    0.00,2,    2.81,2,-999.000,9,-999.000,9,  -999.0,9,  -999.0,9,-999.0000,9,   1.9040,2,   12.80,2, -999.00,9,  -999.0,9,    -9.0,   8.037,2,   0.161,   13938,-999.0000,   6.6198,   0.0100,    0.20
 316N145_11,       I01W,     883,          1,          6,     SIH018,2,19950907,       1513,    13.3417,    49.5972,       1950,  1496.4,   6.3533,  35.1941,2,  35.1949,2,     44.0,2,    44.6,2,   99.82,2,   37.08,2,    0.00,2,    2.83,2,   0.023,2,   0.014,2,  -999.0,9,  -999.0,9,   0.0325,2,   1.9620,2,   13.60,2,   -0.13,2,  -157.4,2,     3.0,   8.086,2,   0.162,   14957,   0.0022,   6.2068,   0.0100,    0.20
 316N145_11,       I01W,     883,          1,          5,     SIH002,2,19950907,       1513,    13.3417,    49.5972,       1950,  1597.1,   5.5442,  35.0877,2,  35.0902,2,     51.5,2,    53.3,2,  108.46,2,   37.30,2,    0.00,2,    2.84,2,-999.000,9,-999.000,9,  -999.0,9,  -999.0,9,-999.0000,9,   1.9090,2,   16.40,2, -999.00,9,  -999.0,9,    -9.0,   8.215,2,   0.164,   15966,-999.0000,   5.3964,   0.0100,    0.20
 316N145_11,       I01W,     883,          1,          4,     SIH020,2,19950907,       1513,    13.3417,    49.5972,       1950,  1799.1,   3.9579,  34.9264,2,  34.9282,2,     73.8,2,    74.7,2,  129.27,2,   37.14,2,    0.00,2,    2.80,2,   0.009,2,   0.018,2,  -999.0,9,  -999.0,9,-999.0000,9,   1.9530,2,   18.00,2,   -0.20,2,  -179.9,2,     2.4,   8.010,2,   0.160,   17990,-999.0000,   3.8106,   0.0100,    0.20
 316N145_11,       I01W,     883,          1,          3,     SIH021,2,19950907,       1513,    13.3417,    49.5972,       1950,  1906.4,   3.5891,  34.8927,2,  34.8941,2,     79.9,2,    83.2,2,  133.39,2,   36.94,2,    0.00,2,    2.77,2,   0.004,2,   0.011,2,  -999.0,9,  -999.0,9,-999.0000,9,   1.9580,2,   19.40,2, -999.00,9,  -999.0,9,    -9.0,   8.140,2,   0.163,   19065,-999.0000,   3.4368,   0.0100,    0.20
 316N145_11,       I01W,     883,          1,          2,     SIH022,2,19950907,       1513,    13.3417,    49.5972,       1950,  1956.2,   3.4469,  34.8787,2,  34.8814,2,     83.0,2,    83.5,2,  135.16,2,   36.88,2,    0.00,2,    2.75,2,   0.006,2,   0.013,2,  -999.0,9,  -999.0,9,-999.0000,9,   1.9760,2,   18.10,2, -999.00,9,  -999.0,9,    -9.0,   8.229,2,   0.165,   19564,-999.0000,   3.2919,   0.0100,    0.20
 316N145_11,       I01W,     883,          1,          1,     SIH023,2,19950907,       1513,    13.3417,    49.5972,       1950,  1956.4,   3.4540,  34.8764,2,-999.0000,9,     83.0,2,  -999.0,9,  135.22,2,   36.92,2,    0.00,2,    2.76,2,-999.000,9,-999.000,9,  -999.0,9,  -999.0,9,-999.0000,9,-999.0000,9, -999.00,9, -999.00,9,  -999.0,9,    -9.0,-999.000,9,-999.000,   19566,-999.0000,   3.2989,-999.0000, -999.00