BOTTLE,20211119CCHSIORKP
EXPOCODE,SECT_ID,STNNBR,CASTNO,SAMPNO,BTLNBR,BTLNBR_FLAG_W,DATE,TIME,LATITUDE,LONGITUDE,DEPTH,CTDPRS,CTDTMP,CTDSAL,CTDSAL_FLAG_W,SALNTY,SALNTY_FLAG_W,CTDOXY,CTDOXY_FLAG_W,OXYGEN,OXYGEN_FLAG_W,SILCAT,SILCAT_FLAG_W,NITRAT,NITRAT_FLAG_W,NITRIT,NITRIT_FLAG_W,PHSPHT,PHSPHT_FLAG_W,CFC-11,CFC-11_FLAG_W,CFC-12,CFC-12_FLAG_W,TCARBN,TCARBN_FLAG_W,ALKALI,ALKALI_FLAG_W,TRITUM,TRITUM_FLAG_W,HELIUM,HELIUM_FLAG_W,DELHE3,DELHE3_FLAG_W,DELC13,DELC13_FLAG_W,DELC14,DELC14_FLAG_W,C14ERR,NEON,NEON_FLAG_W,NEONER,CTDRAW,TRITER,THETA,HELIER,DELHER
,,,,,,,,,,,METERS,DBAR,ITS-90,PSS-78,,PSS-78,,UMOL/KG,,UMOL/KG,,UMOL/KG,,UMOL/KG,,UMOL/KG,,UMOL/KG,,PMOL/KG,,PMOL/KG,,UMOL/KG,,UMOL/KG,,TU,,NMOL/KG,,PERCNT,,/MILLE,,/MILLE,,/MILLE,NMOL/KG,,NMOL/KG,DBAR,TU,DEG C,NMOL/KG,PERCNT
 316N145_11,       I01W,     922,          1,         36,     SIH024,2,19950917,       1231,     9.0055,    59.9555,       3540,     5.2,  27.2316,  35.8527,2,  35.8526,2,    219.1,2,   219.6,2,    3.23,2,    2.12,2,    0.19,2,    0.39,2,   1.770,3,   1.013,2,  2014.5,2,  2337.0,2,   0.8690,2,   1.7291,2,   -1.22,2, -999.00,9,  -999.0,9,    -9.0,   6.787,2,   0.034,      41,   0.0036,  27.2303,   0.0086,    0.14
 316N145_11,       I01W,     922,          1,         32,     SIH028,2,19950917,       1231,     9.0055,    59.9555,       3540,    30.9,  26.7693,  35.8706,2,  35.8690,2,    215.5,2,   223.9,2,    2.86,2,    2.01,2,    0.19,2,    0.40,2,-999.000,9,-999.000,9,  2014.4,2,  2344.1,2,   0.8671,2,   1.7448,2,   -1.25,2, -999.00,9,  -999.0,9,    -9.0,   6.855,2,   0.034,     298,   0.0036,  26.7622,   0.0087,    0.14
 316N145_11,       I01W,     922,          1,         31,     SIH029,2,19950917,       1231,     9.0055,    59.9555,       3540,    60.2,  26.3464,  35.9620,2,  35.9615,2,    201.4,2,   207.5,2,    3.05,2,    2.91,2,    0.52,2,    0.51,2,   1.759,2,   1.012,2,  2029.4,2,  2345.4,2,   0.8655,2,   1.7107,2,   -1.23,2, -999.00,9,  -999.0,9,    -9.0,   6.737,2,   0.034,     591,   0.0036,  26.3328,   0.0086,    0.14
 316N145_11,       I01W,     922,          1,         30,     SIH030,2,19950917,       1231,     9.0055,    59.9555,       3540,    90.3,  26.3048,  35.9774,2,  35.9815,2,    192.1,2,   202.1,2,    3.05,2,    3.01,2,    1.08,2,    0.53,2,-999.000,9,-999.000,9,  2032.7,2,  2347.5,2,   0.8717,2,   1.7165,2,   -1.03,2, -999.00,9,  -999.0,9,    -9.0,   6.781,2,   0.034,     891,   0.0036,  26.2844,   0.0086,    0.14
 316N145_11,       I01W,     922,          1,         29,     SIH031,2,19950917,       1231,     9.0055,    59.9555,       3540,   120.2,  25.7208,  36.1039,2,  36.0886,2,    170.1,2,   158.4,2,    4.31,2,    7.94,2,    0.06,2,    0.78,2,   1.695,2,   0.975,2,  2069.0,2,  2353.8,2,   0.8495,2,   1.7222,2,   -0.78,2, -999.00,9,  -999.0,9,    -9.0,   6.803,2,   0.034,    1191,   0.0036,  25.6941,   0.0086,    0.14
 316N145_11,       I01W,     922,          1,         28,     SIH032,2,19950917,       1231,     9.0055,    59.9555,       3540,   147.8,  20.2387,  35.7231,2,  35.7213,2,     79.6,2,    48.2,2,   13.89,2,   21.99,2,    0.03,2,    1.76,2,-999.000,9,-999.000,9,  2180.4,2,  2334.8,2,   0.7162,2,   1.7385,2,    1.96,2, -999.00,9,  -999.0,9,    -9.0,   7.030,2,   0.035,    1467,   0.0034,  20.2111,   0.0087,    0.14
 316N145_11,       I01W,     922,          1,         27,     SIH033,2,19950917,       1231,     9.0055,    59.9555,       3540,   200.3,  16.2835,  35.5418,2,  35.5336,2,     17.6,2,    18.2,2,   22.20,2,   25.88,2,    0.01,2,    2.14,2,   0.803,2,   0.446,2,  2228.3,2,  2330.3,2,   0.5437,2,   1.7634,2,    4.19,2, -999.00,9,  -999.0,9,    -9.0,   7.242,2,   0.036,    1992,   0.0030,  16.2513,   0.0088,    0.14
 316N145_11,       I01W,     922,          1,         26,     SIH037,2,19950917,       1231,     9.0055,    59.9555,       3540,   250.3,  13.9670,  35.4348,2,  35.4364,2,     26.0,2,    29.0,2,   25.64,2,   27.42,2,    0.01,2,    2.14,2,-999.000,9,-999.000,9,  2236.7,2,  2329.9,2,   0.4142,2,   1.7778,2,    4.85,2, -999.00,9,  -999.0,9,    -9.0,   7.379,2,   0.037,    2492,   0.0028,  13.9308,   0.0089,    0.14
 316N145_11,       I01W,     922,          1,         25,     SI9446,2,19950917,       1231,     9.0055,    59.9555,       3540,   300.7,  12.4494,  35.3220,2,  35.3220,2,     35.2,2,    35.4,2,   28.55,2,   29.44,2,    0.01,2,    2.18,2,   0.445,2,   0.236,2,  2238.8,2,  2325.2,2,   0.3164,2,   1.7902,2,    4.77,2, -999.00,9,  -999.0,9,    -9.0,   7.475,2,   0.037,    2996,   0.0027,  12.4089,   0.0090,    0.14
 316N145_11,       I01W,     922,          1,         24,     SIH036,2,19950917,       1231,     9.0055,    59.9555,       3540,   401.0,  11.3135,  35.2564,2,  35.2542,2,     35.1,2,    34.1,2,   34.16,2,   31.30,2,    0.00,2,    2.31,2,-999.000,9,-999.000,9,  -999.0,9,  -999.0,9,   0.1960,2,   1.8170,2,    4.93,2, -999.00,9,  -999.0,9,    -9.0,   7.627,2,   0.038,    3999,   0.0025,  11.2625,   0.0091,    0.14
 316N145_11,       I01W,     922,          1,         23,     SIH001,2,19950917,       1231,     9.0055,    59.9555,       3540,   496.5,  10.9321,  35.3221,2,  35.3260,2,     25.0,2,    24.4,2,   42.12,2,   32.90,2,    0.00,2,    2.48,2,   0.126,2,   0.066,2,  -999.0,9,  -999.0,9,   0.1329,2,   1.7878,2,    5.77,2, -999.00,9,  -999.0,9,    -9.0,   7.489,2,   0.037,    4954,   0.0024,  10.8701,   0.0089,    0.14
 316N145_11,       I01W,     922,          1,         22,     SIH019,2,19950917,       1231,     9.0055,    59.9555,       3540,   602.1,  10.4393,  35.3524,2,  35.3380,2,     21.0,2,    20.6,2,   50.80,2,   34.03,2,    0.01,2,    2.59,2,-999.000,9,-999.000,9,  -999.0,9,  -999.0,9,   0.0883,2,   1.8023,2,    6.80,2, -999.00,9,  -999.0,9,    -9.0,   7.543,2,   0.038,    6011,   0.0023,  10.3658,   0.0090,    0.14
 316N145_11,       I01W,     922,          1,         21,     SIH025,2,19950917,       1231,     9.0055,    59.9555,       3540,   701.5,  10.3812,  35.4516,2,  35.4436,2,     19.9,2,    20.4,2,   55.33,2,   33.83,2,    0.00,2,    2.62,2,   0.082,2,   0.043,2,  -999.0,9,  -999.0,9,   0.0964,2,   1.8215,2,    7.39,2, -999.00,9,  -999.0,9,    -9.0,   7.594,2,   0.038,    7006,   0.0023,  10.2953,   0.0091,    0.14
 316N145_11,       I01W,     922,          1,         20,     SIH004,2,19950917,       1231,     9.0055,    59.9555,       3540,   802.2,   9.1662,  35.2910,2,  35.2909,2,     22.6,2,    22.2,2,   64.93,2,   35.85,2,    0.00,2,    2.71,2,-999.000,9,-999.000,9,  -999.0,9,  -999.0,9,   0.0503,2,-999.0000,9, -999.00,9, -999.00,9,  -999.0,9,    -9.0,-999.000,9,-999.000,    8013,   0.0023,   9.0747,-999.0000, -999.00
 316N145_11,       I01W,     922,          1,         19,     SIH005,3,19950917,       1231,     9.0055,    59.9555,       3540,   897.6,   8.7421,  35.2858,3,  35.2859,2,     26.4,2,    24.3,2,   69.82,2,   36.22,2,    0.00,2,    2.75,2,   0.029,2,   0.015,2,  -999.0,9,  -999.0,9,   0.0486,2,   1.8093,2,    9.35,2, -999.00,9,  -999.0,9,    -9.0,   7.564,2,   0.038,    8967,   0.0023,   8.6419,   0.0090,    0.14
 316N145_11,       I01W,     922,          1,         18,     SIH006,2,19950917,       1231,     9.0055,    59.9555,       3540,   997.3,   8.0652,  35.2291,2,  35.2278,2,     32.6,2,    28.2,2,   76.53,2,   36.84,2,    0.00,2,    2.79,2,-999.000,9,-999.000,9,  -999.0,9,  -999.0,9,   0.0334,2,   1.8072,2,   10.26,2, -999.00,9,  -999.0,9,    -9.0,   7.580,2,   0.038,    9964,   0.0023,   7.9583,   0.0090,    0.14
 316N145_11,       I01W,     922,          1,         17,     SIH038,2,19950917,       1231,     9.0055,    59.9555,       3540,  1098.6,   7.2682,  35.1529,2,  35.1536,2,     38.2,2,    35.7,2,   83.78,2,   37.31,2,    0.00,2,    2.81,2,   0.013,2,   0.005,2,  -999.0,9,  -999.0,9,-999.0000,9,-999.0000,9, -999.00,9, -999.00,9,  -999.0,9,    -9.0,-999.000,9,-999.000,   10978,-999.0000,   7.1562,-999.0000, -999.00
 316N145_11,       I01W,     922,          1,         16,     SIH008,2,19950917,       1231,     9.0055,    59.9555,       3540,  1199.8,   6.7632,  35.1143,2,  35.1144,2,     44.2,2,    40.6,2,   88.68,2,   37.26,2,    0.01,2,    2.81,2,-999.000,9,-999.000,9,  -999.0,9,  -999.0,9,-999.0000,9,-999.0000,9, -999.00,9, -999.00,9,  -999.0,9,    -9.0,-999.000,9,-999.000,   11991,-999.0000,   6.6446,-999.0000, -999.00
 316N145_11,       I01W,     922,          1,         15,     SIH009,2,19950917,       1231,     9.0055,    59.9555,       3540,  1299.8,   6.0592,  35.0507,2,  35.0510,2,     52.2,2,    49.8,2,   95.58,2,   37.58,2,    0.00,2,    2.81,2,-999.000,9,-999.000,9,  -999.0,9,  -999.0,9,-999.0000,9,-999.0000,9, -999.00,9, -999.00,9,  -999.0,9,    -9.0,-999.000,9,-999.000,   12992,-999.0000,   5.9368,-999.0000, -999.00
 316N145_11,       I01W,     922,          1,         14,     SIH010,2,19950917,       1231,     9.0055,    59.9555,       3540,  1400.8,   5.2109,  34.9779,2,  34.9762,2,     65.0,2,    63.3,2,  103.92,2,   37.59,2,    0.00,2,    2.79,2,   0.000,2,   0.000,2,  -999.0,9,  -999.0,9,-999.0000,9,-999.0000,9, -999.00,9, -999.00,9,  -999.0,9,    -9.0,-999.000,9,-999.000,   14002,-999.0000,   5.0870,-999.0000, -999.00
 316N145_11,       I01W,     922,          1,         13,     SIH011,2,19950917,       1231,     9.0055,    59.9555,       3540,  1496.1,   4.7527,  34.9392,2,  34.9368,2,     74.2,2,    73.1,2,  108.46,2,   37.45,2,    0.00,2,    2.77,2,-999.000,9,-999.000,9,  -999.0,9,  -999.0,9,-999.0000,9,-999.0000,9, -999.00,9, -999.00,9,  -999.0,9,    -9.0,-999.000,9,-999.000,   14956,-999.0000,   4.6245,-999.0000, -999.00
 316N145_11,       I01W,     922,          1,         12,     SIH012,2,19950917,       1231,     9.0055,    59.9555,       3540,  1597.9,   4.2149,  34.9010,2,  34.8979,2,     81.6,2,    83.2,2,  113.91,2,   37.40,2,    0.00,2,    2.75,2,  -0.002,2,  -0.001,2,  -999.0,9,  -999.0,9,-999.0000,9,-999.0000,9, -999.00,9, -999.00,9,  -999.0,9,    -9.0,-999.000,9,-999.000,   15974,-999.0000,   4.0833,-999.0000, -999.00
 316N145_11,       I01W,     922,          1,         11,     SI9426,2,19950917,       1231,     9.0055,    59.9555,       3540,  1800.7,   3.3418,  34.8345,2,  34.8348,2,    102.6,2,   105.2,2,  121.54,2,   36.89,2,    0.00,2,    2.66,2,-999.000,9,-999.000,9,  -999.0,9,  -999.0,9,-999.0000,9,-999.0000,9, -999.00,9, -999.00,9,  -999.0,9,    -9.0,-999.000,9,-999.000,   18003,-999.0000,   3.2028,-999.0000, -999.00
 316N145_11,       I01W,     922,          1,         10,     SIH014,2,19950917,       1231,     9.0055,    59.9555,       3540,  1997.9,   2.8149,  34.8012,2,  34.8005,2,    116.5,2,   119.1,2,  126.98,2,   36.38,2,    0.01,2,    2.60,2,-999.000,9,-999.000,9,  -999.0,9,  -999.0,9,-999.0000,9,-999.0000,9, -999.00,9, -999.00,9,  -999.0,9,    -9.0,-999.000,9,-999.000,   19976,-999.0000,   2.6659,-999.0000, -999.00
 316N145_11,       I01W,     922,          1,          9,     SIH015,2,19950917,       1231,     9.0055,    59.9555,       3540,  2195.8,   2.4257,  34.7807,2,  34.7797,2,    130.0,2,   129.5,2,  130.81,2,   35.87,2,    0.00,2,    2.54,2,  -0.001,2,   0.001,2,  -999.0,9,  -999.0,9,-999.0000,9,-999.0000,9, -999.00,9, -999.00,9,  -999.0,9,    -9.0,-999.000,9,-999.000,   21957,-999.0000,   2.2651,-999.0000, -999.00
 316N145_11,       I01W,     922,          1,          8,     SIH016,2,19950917,       1231,     9.0055,    59.9555,       3540,  2393.6,   2.1727,  34.7656,2,  34.7648,2,    136.1,2,   137.7,2,  133.55,2,   35.67,2,   -0.01,2,    2.53,2,-999.000,9,-999.000,9,  -999.0,9,  -999.0,9,-999.0000,9,-999.0000,9, -999.00,9, -999.00,9,  -999.0,9,    -9.0,-999.000,9,-999.000,   23936,-999.0000,   1.9984,-999.0000, -999.00
 316N145_11,       I01W,     922,          1,          7,     SIH017,2,19950917,       1231,     9.0055,    59.9555,       3540,  2596.4,   2.0272,  34.7607,2,  34.7590,2,    140.2,2,   140.5,2,  136.10,2,   35.72,2,    0.01,2,    2.52,2,-999.000,9,-999.000,9,  -999.0,9,  -999.0,9,-999.0000,9,-999.0000,9, -999.00,9, -999.00,9,  -999.0,9,    -9.0,-999.000,9,-999.000,   25965,-999.0000,   1.8371,-999.0000, -999.00
 316N145_11,       I01W,     922,          1,          6,     SIH018,2,19950917,       1231,     9.0055,    59.9555,       3540,  2794.1,   1.8657,  34.7511,2,  34.7494,2,    144.2,2,   145.2,2,  137.19,2,   35.37,2,    0.00,2,    2.49,2,  -0.004,2,  -0.002,2,  -999.0,9,  -999.0,9,-999.0000,9,-999.0000,9, -999.00,9, -999.00,9,  -999.0,9,    -9.0,-999.000,9,-999.000,   27945,-999.0000,   1.6602,-999.0000, -999.00
 316N145_11,       I01W,     922,          1,          5,     SIH002,2,19950917,       1231,     9.0055,    59.9555,       3540,  2997.5,   1.7792,  34.7445,2,  34.7439,2,    149.6,2,   149.7,2,  138.66,2,   35.37,2,    0.01,2,    2.48,2,-999.000,9,-999.000,9,  -999.0,9,  -999.0,9,-999.0000,9,-999.0000,9, -999.00,9, -999.00,9,  -999.0,9,    -9.0,-999.000,9,-999.000,   29980,-999.0000,   1.5561,-999.0000, -999.00
 316N145_11,       I01W,     922,          1,          4,     SIH020,2,19950917,       1231,     9.0055,    59.9555,       3540,  3198.9,   1.7345,  34.7412,2,  34.7406,2,    151.7,2,   152.6,2,  139.03,2,   35.13,2,    0.00,2,    2.46,2,-999.000,9,-999.000,9,  -999.0,9,  -999.0,9,-999.0000,9,-999.0000,9, -999.00,9, -999.00,9,  -999.0,9,    -9.0,-999.000,9,-999.000,   31995,-999.0000,   1.4927,-999.0000, -999.00
 316N145_11,       I01W,     922,          1,          3,     SIH021,3,19950917,       1231,     9.0055,    59.9555,       3540,  3400.6,   1.7152,  34.7403,3,  34.7388,2,    153.4,2,   153.7,2,  138.87,2,   34.91,2,    0.01,2,    2.45,2,-999.000,9,-999.000,9,  -999.0,9,  -999.0,9,-999.0000,9,-999.0000,9, -999.00,9, -999.00,9,  -999.0,9,    -9.0,-999.000,9,-999.000,   34013,-999.0000,   1.4536,-999.0000, -999.00
 316N145_11,       I01W,     922,          1,          2,     SIH022,2,19950917,       1231,     9.0055,    59.9555,       3540,  3439.0,   1.7136,  34.7397,2,  34.7384,2,    153.8,2,   154.4,2,  138.88,2,   34.97,2,    0.01,2,    2.45,2,  -0.001,2,   0.000,2,  -999.0,9,  -999.0,9,-999.0000,9,-999.0000,9, -999.00,9, -999.00,9,  -999.0,9,    -9.0,-999.000,9,-999.000,   34397,-999.0000,   1.4481,-999.0000, -999.00
 316N145_11,       I01W,     922,          1,          1,     SIH023,2,19950917,       1231,     9.0055,    59.9555,       3540,  3488.1,   1.7040,  34.7391,2,  34.7390,2,   -999.0,9,   155.3,2,  138.66,2,   35.02,2,    0.00,2,    2.45,2,   0.000,2,   0.001,2,  -999.0,9,  -999.0,9,-999.0000,9,-999.0000,9, -999.00,9, -999.00,9,  -999.0,9,    -9.0,-999.000,9,-999.000,   34889,-999.0000,   1.4336,-999.0000, -999.00