BOTTLE,20211119CCHSIORKP
EXPOCODE,SECT_ID,STNNBR,CASTNO,SAMPNO,BTLNBR,BTLNBR_FLAG_W,DATE,TIME,LATITUDE,LONGITUDE,DEPTH,CTDPRS,CTDTMP,CTDSAL,CTDSAL_FLAG_W,SALNTY,SALNTY_FLAG_W,CTDOXY,CTDOXY_FLAG_W,OXYGEN,OXYGEN_FLAG_W,SILCAT,SILCAT_FLAG_W,NITRAT,NITRAT_FLAG_W,NITRIT,NITRIT_FLAG_W,PHSPHT,PHSPHT_FLAG_W,CFC-11,CFC-11_FLAG_W,CFC-12,CFC-12_FLAG_W,TCARBN,TCARBN_FLAG_W,ALKALI,ALKALI_FLAG_W,TRITUM,TRITUM_FLAG_W,HELIUM,HELIUM_FLAG_W,DELHE3,DELHE3_FLAG_W,DELC13,DELC13_FLAG_W,DELC14,DELC14_FLAG_W,C14ERR,NEON,NEON_FLAG_W,NEONER,CTDRAW,TRITER,THETA,HELIER,DELHER
,,,,,,,,,,,METERS,DBAR,ITS-90,PSS-78,,PSS-78,,UMOL/KG,,UMOL/KG,,UMOL/KG,,UMOL/KG,,UMOL/KG,,UMOL/KG,,PMOL/KG,,PMOL/KG,,UMOL/KG,,UMOL/KG,,TU,,NMOL/KG,,PERCNT,,/MILLE,,/MILLE,,/MILLE,NMOL/KG,,NMOL/KG,DBAR,TU,DEG C,NMOL/KG,PERCNT
 316N145_11,       I01W,     946,          1,         29,     SIH031,2,19950924,       0855,     8.5000,    72.0945,       2685,     4.7,  28.4514,  35.7851,2,  35.7847,2,    216.8,2,   203.6,2,    1.93,2,    0.14,2,    0.00,2,    0.11,2,   1.666,2,   0.976,2,  1957.9,2,  2334.7,2,-999.0000,9,-999.0000,9, -999.00,9,    1.54,2,    38.1,2,     6.3,-999.000,9,-999.000,      40,-999.0000,  28.4503,-999.0000, -999.00
 316N145_11,       I01W,     946,          1,         28,     SIH032,2,19950924,       0855,     8.5000,    72.0945,       2685,    29.2,  28.1919,  35.8830,2,  35.9423,2,    208.6,2,   204.0,2,    1.92,2,    0.19,2,    0.00,2,    0.13,2,-999.000,9,-999.000,9,  1967.6,2,  2346.2,2,-999.0000,9,-999.0000,9, -999.00,9, -999.00,9,  -999.0,9,    -9.0,-999.000,9,-999.000,     285,-999.0000,  28.1849,-999.0000, -999.00
 316N145_11,       I01W,     946,          1,         27,     SIH033,2,19950924,       0855,     8.5000,    72.0945,       2685,    58.8,  24.9134,  35.7803,2,  35.7645,2,     71.9,2,    82.1,2,    8.19,2,   14.61,2,    0.14,2,    1.12,2,   1.403,2,   0.809,2,  2095.6,2,  2334.6,2,-999.0000,9,-999.0000,9, -999.00,9,    0.41,2,    30.3,2,     4.0,-999.000,9,-999.000,     581,-999.0000,  24.9007,-999.0000, -999.00
 316N145_11,       I01W,     946,          1,         26,     SIH037,3,19950924,       0855,     8.5000,    72.0945,       2685,    88.6,  19.7413,  35.5081,3,  35.4247,2,     14.7,2,    16.6,2,   17.88,2,   25.92,2,    0.04,2,    1.93,2,-999.000,9,-999.000,9,  2187.4,2,  2323.5,2,-999.0000,9,-999.0000,9, -999.00,9, -999.00,9,  -999.0,9,    -9.0,-999.000,9,-999.000,     879,-999.0000,  19.7251,-999.0000, -999.00
 316N145_11,       I01W,     946,          1,         25,     SI9446,2,19950924,       0855,     8.5000,    72.0945,       2685,   118.8,  16.1035,  35.2067,2,  35.2000,2,     11.2,2,    13.1,2,   23.80,2,   28.65,2,    0.01,2,    2.13,2,-999.000,9,-999.000,9,  2213.9,2,  2319.1,2,-999.0000,9,-999.0000,9, -999.00,9,   -0.06,2,   -10.7,2,     4.6,-999.000,9,-999.000,    1182,-999.0000,  16.0846,-999.0000, -999.00
 316N145_11,       I01W,     946,          1,         24,     SIH036,2,19950924,       0855,     8.5000,    72.0945,       2685,   148.8,  14.6867,  35.1358,2,  35.1337,2,     19.5,2,    22.4,2,   25.77,2,   29.29,2,    0.01,2,    2.12,2,   0.570,2,   0.302,2,  2218.4,2,  2318.4,2,-999.0000,9,-999.0000,9, -999.00,9, -999.00,9,  -999.0,9,    -9.0,-999.000,9,-999.000,    1482,-999.0000,  14.6644,-999.0000, -999.00
 316N145_11,       I01W,     946,          1,         23,     SIH001,2,19950924,       0855,     8.5000,    72.0945,       2685,   198.9,  13.5456,  35.1730,2,  35.1679,2,     26.1,2,    27.2,2,   26.12,2,   29.50,2,    0.01,2,    2.14,2,-999.000,9,-999.000,9,  2226.7,2,  2321.3,2,-999.0000,9,-999.0000,9, -999.00,9,    0.03,2,   -20.9,2,     3.9,-999.000,9,-999.000,    1983,-999.0000,  13.5176,-999.0000, -999.00
 316N145_11,       I01W,     946,          1,         22,     SIH019,2,19950924,       0855,     8.5000,    72.0945,       2685,   248.5,  12.5607,  35.1739,2,  35.1725,2,     37.3,2,    35.6,2,   27.02,2,   29.87,2,    0.01,2,    2.13,2,-999.000,9,-999.000,9,  2230.8,2,  2322.0,2,-999.0000,9,-999.0000,9, -999.00,9,    0.15,2,   -38.4,2,     3.8,-999.000,9,-999.000,    2479,-999.0000,  12.5272,-999.0000, -999.00
 316N145_11,       I01W,     946,          1,         21,     SIH025,2,19950924,       0855,     8.5000,    72.0945,       2685,   299.7,  11.9976,  35.1709,2,  35.1707,2,     24.4,2,    24.7,2,   30.24,2,   31.71,2,    0.01,2,    2.26,2,   0.288,2,   0.149,2,  2244.9,2,  2325.6,2,-999.0000,9,-999.0000,9, -999.00,9, -999.00,9,  -999.0,9,    -9.0,-999.000,9,-999.000,    2991,-999.0000,  11.9583,-999.0000, -999.00
 316N145_11,       I01W,     946,          1,         20,     SIH004,2,19950924,       0855,     8.5000,    72.0945,       2685,   349.7,  11.4856,  35.1458,2,  35.1463,2,     32.0,2,    32.7,2,   32.39,2,   31.97,2,    0.01,2,    2.27,2,-999.000,9,-999.000,9,  2244.3,2,  2326.6,2,-999.0000,9,-999.0000,9, -999.00,9,    0.12,2,   -65.1,2,     4.1,-999.000,9,-999.000,    3491,-999.0000,  11.4410,-999.0000, -999.00
 316N145_11,       I01W,     946,          1,         19,     SIH005,2,19950924,       0855,     8.5000,    72.0945,       2685,   450.2,  11.0100,  35.2152,2,  35.2164,2,     22.4,2,    31.5,2,   38.12,2,   33.47,2,    0.01,2,    2.45,2,   0.115,2,   0.064,2,  -999.0,9,  -999.0,9,-999.0000,9,-999.0000,9, -999.00,9,    0.08,2,   -83.6,2,     3.5,-999.000,9,-999.000,    4497,-999.0000,  10.9536,-999.0000, -999.00
 316N145_11,       I01W,     946,          1,         18,     SIH006,2,19950924,       0855,     8.5000,    72.0945,       2685,   549.9,  10.2644,  35.1834,2,  35.1849,2,     21.8,2,    21.2,2,   46.19,2,   34.54,2,    0.01,2,    2.56,2,-999.000,9,-999.000,9,  2269.1,2,  2341.3,2,-999.0000,9,-999.0000,9, -999.00,9,    0.05,2,  -110.0,2,     4.3,-999.000,9,-999.000,    5494,-999.0000,  10.1983,-999.0000, -999.00
 316N145_11,       I01W,     946,          1,         17,     SIH038,2,19950924,       0855,     8.5000,    72.0945,       2685,   650.9,   9.6684,  35.2192,2,  35.2058,2,     18.4,2,    18.0,2,   54.97,2,   35.45,2,    0.01,2,    2.67,2,   0.027,2,   0.013,2,  -999.0,9,  -999.0,9,-999.0000,9,-999.0000,9, -999.00,9,    0.01,2,  -116.9,2,     3.6,-999.000,9,-999.000,    6504,-999.0000,   9.5925,-999.0000, -999.00
 316N145_11,       I01W,     946,          1,         16,     SIH008,2,19950924,       0855,     8.5000,    72.0945,       2685,   745.8,   9.0632,  35.1952,2,  35.1939,2,     20.4,2,    20.5,2,   63.21,2,   36.32,2,    0.00,2,    2.74,2,-999.000,9,-999.000,9,  -999.0,9,  -999.0,9,-999.0000,9,-999.0000,9, -999.00,9,   -0.03,2,  -121.9,2,     3.9,-999.000,9,-999.000,    7454,-999.0000,   8.9791,-999.0000, -999.00
 316N145_11,       I01W,     946,          1,         15,     SIH009,2,19950924,       0855,     8.5000,    72.0945,       2685,   847.0,   8.1974,  35.1028,2,  35.1014,2,     23.7,2,    26.3,2,   71.29,2,   37.12,2,    0.00,2,    2.77,2,   0.010,2,   0.002,2,  -999.0,9,  -999.0,9,-999.0000,9,-999.0000,9, -999.00,9,    0.00,2,  -123.0,2,     4.1,-999.000,9,-999.000,    8467,-999.0000,   8.1069,-999.0000, -999.00
 316N145_11,       I01W,     946,          1,         14,     SIH010,2,19950924,       0855,     8.5000,    72.0945,       2685,   947.4,   7.7499,  35.1064,2,  35.1045,2,     28.9,2,    29.0,2,   77.20,2,   37.43,2,    0.00,2,    2.80,2,-999.000,9,-999.000,9,  2304.8,2,  2372.2,2,-999.0000,9,-999.0000,9, -999.00,9,   -0.02,2,  -123.4,2,     4.4,-999.000,9,-999.000,    9470,-999.0000,   7.6511,-999.0000, -999.00
 316N145_11,       I01W,     946,          1,         13,     SIH011,2,19950924,       0855,     8.5000,    72.0945,       2685,  1047.9,   7.0432,  35.0488,2,  35.0482,2,     37.1,2,    36.7,2,   84.38,2,   37.81,2,    0.00,2,    2.81,2,   0.010,2,   0.002,2,  -999.0,9,  -999.0,9,-999.0000,9,-999.0000,9, -999.00,9, -999.00,9,  -999.0,9,    -9.0,-999.000,9,-999.000,   10476,-999.0000,   6.9387,-999.0000, -999.00
 316N145_11,       I01W,     946,          1,         12,     SIH012,2,19950924,       0855,     8.5000,    72.0945,       2685,  1149.3,   6.5144,  35.0183,2,  35.0213,2,     42.1,2,    41.6,2,   89.94,2,   37.94,2,    0.01,2,    2.83,2,-999.000,9,-999.000,9,  -999.0,9,  -999.0,9,-999.0000,9,-999.0000,9, -999.00,9,   -0.03,2,  -132.0,2,     4.8,-999.000,9,-999.000,   11491,-999.0000,   6.4035,-999.0000, -999.00
 316N145_11,       I01W,     946,          1,         11,     SI9426,2,19950924,       0855,     8.5000,    72.0945,       2685,  1250.3,   5.9664,  34.9803,2,  34.9825,2,     51.7,2,    50.1,2,   96.03,2,   37.94,2,    0.00,2,    2.82,2,   0.001,2,  -0.002,2,  -999.0,9,  -999.0,9,-999.0000,9,-999.0000,9, -999.00,9, -999.00,9,  -999.0,9,    -9.0,-999.000,9,-999.000,   12502,-999.0000,   5.8500,-999.0000, -999.00
 316N145_11,       I01W,     946,          1,         10,     SIH014,2,19950924,       0855,     8.5000,    72.0945,       2685,  1350.8,   5.2837,  34.9359,2,  34.9392,2,     63.0,2,    61.2,2,  102.31,2,   37.93,2,    0.01,2,    2.80,2,-999.000,9,-999.000,9,  2320.8,2,  2394.0,2,-999.0000,9,-999.0000,9, -999.00,9,   -0.04,2,  -148.9,2,     4.7,-999.000,9,-999.000,   13506,-999.0000,   5.1641,-999.0000, -999.00
 316N145_11,       I01W,     946,          1,          9,     SIH015,2,19950924,       0855,     8.5000,    72.0945,       2685,  1447.2,   4.6513,  34.9171,2,  34.8928,2,     73.7,3,    74.2,2,  109.84,2,   37.60,2,    0.01,2,    2.77,2,  -0.002,2,  -0.001,2,  -999.0,9,  -999.0,9,-999.0000,9,-999.0000,9, -999.00,9, -999.00,9,  -999.0,9,    -9.0,-999.000,9,-999.000,   14472,-999.0000,   4.5289,-999.0000, -999.00
 316N145_11,       I01W,     946,          1,          8,     SIH016,3,19950924,       0855,     8.5000,    72.0945,       2685,  1547.6,   4.2439,  34.8735,3,  34.8737,2,     84.9,2,    82.3,2,  113.43,2,   37.38,2,    0.00,2,    2.74,2,-999.000,9,-999.000,9,  -999.0,9,  -999.0,9,-999.0000,9,-999.0000,9, -999.00,9,    0.01,2,  -162.6,2,     4.3,-999.000,9,-999.000,   15475,-999.0000,   4.1167,-999.0000, -999.00
 316N145_11,       I01W,     946,          1,          7,     SIH017,3,19950924,       0855,     8.5000,    72.0945,       2685,  1699.8,   3.6861,  34.8467,3,  34.8464,2,     95.5,2,    93.4,2,  119.89,2,   37.16,2,    0.00,2,    2.71,2,-999.000,9,-999.000,9,  -999.0,9,  -999.0,9,-999.0000,9,-999.0000,9, -999.00,9, -999.00,9,  -999.0,9,    -9.0,-999.000,9,-999.000,   16999,-999.0000,   3.5517,-999.0000, -999.00
 316N145_11,       I01W,     946,          1,          6,     SIH018,2,19950924,       0855,     8.5000,    72.0945,       2685,  1896.5,   3.1067,  34.8124,2,  34.8129,2,    111.5,2,   109.0,2,  124.90,2,   36.61,2,    0.00,2,    2.64,2,   0.000,2,   0.000,2,  2326.3,2,  2416.1,2,-999.0000,9,-999.0000,9, -999.00,9,    0.04,2,  -174.6,2,     4.6,-999.000,9,-999.000,   18967,-999.0000,   2.9623,-999.0000, -999.00
 316N145_11,       I01W,     946,          1,          5,     SIH002,2,19950924,       0855,     8.5000,    72.0945,       2685,  2098.9,   2.5940,  34.7843,2,  34.7834,2,    124.0,2,   123.7,2,  129.57,2,   36.17,2,    0.00,2,    2.59,2,-999.000,9,-999.000,9,  -999.0,9,  -999.0,9,-999.0000,9,-999.0000,9, -999.00,9, -999.00,9,  -999.0,9,    -9.0,-999.000,9,-999.000,   20992,-999.0000,   2.4392,-999.0000, -999.00
 316N145_11,       I01W,     946,          1,          4,     SIH020,2,19950924,       0855,     8.5000,    72.0945,       2685,  2301.4,   2.3251,  34.7717,2,  34.7722,2,    134.3,2,   132.5,2,  131.72,2,   35.84,2,    0.00,2,    2.55,2,-999.000,9,-999.000,9,  -999.0,9,  -999.0,9,-999.0000,9,-999.0000,9, -999.00,9, -999.00,9,  -999.0,9,    -9.0,-999.000,9,-999.000,   23019,-999.0000,   2.1567,-999.0000, -999.00
 316N145_11,       I01W,     946,          1,          3,     SIH021,2,19950924,       0855,     8.5000,    72.0945,       2685,  2499.0,   2.1283,  34.7611,2,  34.7608,2,    140.4,2,   138.6,2,  133.69,2,   35.61,2,    0.00,2,    2.52,2,  -0.003,2,   0.000,2,  -999.0,9,  -999.0,9,-999.0000,9,-999.0000,9, -999.00,9, -999.00,9,  -999.0,9,    -9.0,-999.000,9,-999.000,   24996,-999.0000,   1.9452,-999.0000, -999.00
 316N145_11,       I01W,     946,          1,          2,     SIH022,2,19950924,       0855,     8.5000,    72.0945,       2685,  2691.5,   2.0230,  34.7549,2,  34.7561,2,    142.3,2,   142.9,2,  134.41,2,   35.50,2,    0.00,2,    2.50,2,  -0.003,2,  -0.002,2,  2320.2,2,  2426.5,2,-999.0000,9,-999.0000,9, -999.00,9, -999.00,9,  -999.0,9,    -9.0,-999.000,9,-999.000,   26922,-999.0000,   1.8241,-999.0000, -999.00
 316N145_11,       I01W,     946,          1,          1,     SIH023,2,19950924,       0855,     8.5000,    72.0945,       2685,  2742.0,   1.9285,  34.7510,2,  34.7502,2,    144.8,2,   146.2,2,  135.40,2,   35.32,2,    0.00,2,    2.48,2,   0.000,2,  -0.001,2,  -999.0,9,  -999.0,9,-999.0000,9,-999.0000,9, -999.00,9, -999.00,9,  -999.0,9,    -9.0,-999.000,9,-999.000,   27427,-999.0000,   1.7268,-999.0000, -999.00