BOTTLE,20211119CCHSIORKP
EXPOCODE,SECT_ID,STNNBR,CASTNO,SAMPNO,BTLNBR,BTLNBR_FLAG_W,DATE,TIME,LATITUDE,LONGITUDE,DEPTH,CTDPRS,CTDTMP,CTDSAL,CTDSAL_FLAG_W,SALNTY,SALNTY_FLAG_W,CTDOXY,CTDOXY_FLAG_W,OXYGEN,OXYGEN_FLAG_W,SILCAT,SILCAT_FLAG_W,NITRAT,NITRAT_FLAG_W,NITRIT,NITRIT_FLAG_W,PHSPHT,PHSPHT_FLAG_W,CFC-11,CFC-11_FLAG_W,CFC-12,CFC-12_FLAG_W,TCARBN,TCARBN_FLAG_W,ALKALI,ALKALI_FLAG_W,TRITUM,TRITUM_FLAG_W,HELIUM,HELIUM_FLAG_W,DELHE3,DELHE3_FLAG_W,DELC13,DELC13_FLAG_W,DELC14,DELC14_FLAG_W,C14ERR,NEON,NEON_FLAG_W,NEONER,CTDRAW,TRITER,THETA,HELIER,DELHER
,,,,,,,,,,,METERS,DBAR,ITS-90,PSS-78,,PSS-78,,UMOL/KG,,UMOL/KG,,UMOL/KG,,UMOL/KG,,UMOL/KG,,UMOL/KG,,PMOL/KG,,PMOL/KG,,UMOL/KG,,UMOL/KG,,TU,,NMOL/KG,,PERCNT,,/MILLE,,/MILLE,,/MILLE,NMOL/KG,,NMOL/KG,DBAR,TU,DEG C,NMOL/KG,PERCNT
 316N145_11,       I01W,     896,          1,         36,     SIH024,2,19950910,       1751,    10.1667,    53.6362,       4280,     6.4,  26.0933,  35.7020,2,  35.7035,2,    222.6,2,   208.3,2,    4.00,2,    2.92,2,    0.52,2,    0.45,2,   1.766,2,   1.015,2,  2015.5,2,  2332.3,2,-999.0000,9,-999.0000,9, -999.00,9, -999.00,9,  -999.0,9,    -9.0,-999.000,9,-999.000,      53,-999.0000,  26.0919,-999.0000, -999.00
 316N145_11,       I01W,     896,          1,         35,     SIH003,2,19950910,       1751,    10.1667,    53.6362,       4280,    31.9,  26.1006,  35.7039,2,  35.7029,2,    216.0,2,   213.7,2,    3.82,2,    2.86,2,    0.52,2,    0.45,2,   1.767,2,   1.026,2,  2014.6,2,  2332.7,2,-999.0000,9,-999.0000,9, -999.00,9, -999.00,9,  -999.0,9,    -9.0,-999.000,9,-999.000,     308,-999.0000,  26.0934,-999.0000, -999.00
 316N145_11,       I01W,     896,          1,         34,     SIH026,2,19950910,       1751,    10.1667,    53.6362,       4280,    61.5,  26.0901,  35.7019,2,  35.7013,2,    212.8,2,   204.1,2,    4.01,2,    2.90,2,    0.53,2,    0.45,2,-999.000,9,-999.000,9,  2014.4,2,  2326.8,2,-999.0000,9,-999.0000,9, -999.00,9, -999.00,9,  -999.0,9,    -9.0,-999.000,9,-999.000,     605,-999.0000,  26.0763,-999.0000, -999.00
 316N145_11,       I01W,     896,          1,         33,     SIH027,2,19950910,       1751,    10.1667,    53.6362,       4280,    86.2,  26.0726,  35.6961,2,  35.6990,2,    222.2,2,   210.3,2,    4.02,2,    2.95,2,    0.54,2,    0.46,2,   1.757,2,   1.014,6,  2015.7,2,  2332.1,2,-999.0000,9,-999.0000,9, -999.00,9, -999.00,9,  -999.0,9,    -9.0,-999.000,9,-999.000,     851,-999.0000,  26.0533,-999.0000, -999.00
 316N145_11,       I01W,     896,          1,         32,     SIH028,2,19950910,       1751,    10.1667,    53.6362,       4280,   122.5,  26.0721,  35.7000,2,  35.6986,2,    218.8,2,   202.8,2,    4.22,2,    2.97,2,    0.57,2,    0.47,2,-999.000,9,-999.000,9,  2016.7,2,  2329.8,2,-999.0000,9,-999.0000,9, -999.00,9, -999.00,9,  -999.0,9,    -9.0,-999.000,9,-999.000,    1214,-999.0000,  26.0447,-999.0000, -999.00
 316N145_11,       I01W,     896,          1,         31,     SIH029,2,19950910,       1751,    10.1667,    53.6362,       4280,   146.6,  26.0339,  35.6992,2,  35.6996,2,    210.7,2,   200.7,2,    4.02,2,    3.06,2,    0.60,2,    0.48,2,-999.000,9,-999.000,9,  2018.1,2,  2326.2,2,-999.0000,9,-999.0000,9, -999.00,9, -999.00,9,  -999.0,9,    -9.0,-999.000,9,-999.000,    1455,-999.0000,  26.0010,-999.0000, -999.00
 316N145_11,       I01W,     896,          1,         30,     SIH030,2,19950910,       1751,    10.1667,    53.6362,       4280,   201.7,  20.6689,  35.5305,2,  35.5247,2,    145.0,2,    75.9,2,   13.13,2,   19.41,2,    0.02,2,    1.48,2,-999.000,9,-999.000,9,  2144.6,2,  2317.9,2,-999.0000,9,-999.0000,9, -999.00,9, -999.00,9,  -999.0,9,    -9.0,-999.000,9,-999.000,    2007,-999.0000,  20.6306,-999.0000, -999.00
 316N145_11,       I01W,     896,          1,         29,     SIH031,2,19950910,       1751,    10.1667,    53.6362,       4280,   252.4,  15.6845,  35.3032,2,  35.3090,2,     62.2,2,    67.9,2,   18.93,2,   23.18,2,    0.01,2,    1.72,2,   1.031,2,   0.550,2,  2184.8,2,  2317.2,2,-999.0000,9,-999.0000,9, -999.00,9, -999.00,9,  -999.0,9,    -9.0,-999.000,9,-999.000,    2514,-999.0000,  15.6449,-999.0000, -999.00
 316N145_11,       I01W,     896,          1,         28,     SIH032,2,19950910,       1751,    10.1667,    53.6362,       4280,   301.6,  14.2982,  35.2595,2,  35.2649,2,     74.3,2,    77.5,2,   20.30,2,   23.46,2,    0.01,2,    1.73,2,-999.000,9,-999.000,9,  2189.8,2,  -999.0,9,-999.0000,9,-999.0000,9, -999.00,9, -999.00,9,  -999.0,9,    -9.0,-999.000,9,-999.000,    3006,-999.0000,  14.2537,-999.0000, -999.00
 316N145_11,       I01W,     896,          1,         27,     SIH033,2,19950910,       1751,    10.1667,    53.6362,       4280,   401.8,  12.8399,  35.3032,2,  35.3031,2,     49.2,2,    60.1,2,   25.92,2,   26.85,2,    0.01,2,    2.00,2,-999.000,9,-999.000,9,  2220.1,2,  2319.5,2,-999.0000,9,-999.0000,9, -999.00,9, -999.00,9,  -999.0,9,    -9.0,-999.000,9,-999.000,    4008,-999.0000,  12.7845,-999.0000, -999.00
 316N145_11,       I01W,     896,          1,         26,     SIH037,2,19950910,       1751,    10.1667,    53.6362,       4280,   494.6,  11.9609,  35.3391,2,  35.3396,2,     36.1,2,    40.1,2,   32.11,2,   29.89,2,    0.01,2,    2.22,2,   0.391,2,   0.216,2,  2242.0,2,  2324.6,2,-999.0000,9,-999.0000,9, -999.00,9, -999.00,9,  -999.0,9,    -9.0,-999.000,9,-999.000,    4937,-999.0000,  11.8955,-999.0000, -999.00
 316N145_11,       I01W,     896,          1,         25,     SI9446,2,19950910,       1751,    10.1667,    53.6362,       4280,   601.6,  11.4670,  35.3935,2,  35.3930,2,     33.0,2,    33.1,2,   38.70,2,   31.20,2,    0.01,2,    2.39,2,-999.000,9,-999.000,9,  2255.2,2,  2331.5,2,-999.0000,9,-999.0000,9, -999.00,9, -999.00,9,  -999.0,9,    -9.0,-999.000,9,-999.000,    6007,-999.0000,  11.3892,-999.0000, -999.00
 316N145_11,       I01W,     896,          1,         24,     SIH036,2,19950910,       1751,    10.1667,    53.6362,       4280,   696.2,  10.9700,  35.4213,2,  35.4222,2,     29.1,2,    27.2,2,   45.68,2,   32.30,2,    0.01,2,    2.49,2,-999.000,9,-999.000,9,  2265.4,2,  -999.0,9,-999.0000,9,-999.0000,9, -999.00,9, -999.00,9,  -999.0,9,    -9.0,-999.000,9,-999.000,    6954,-999.0000,  10.8819,-999.0000, -999.00
 316N145_11,       I01W,     896,          1,         23,     SIH001,2,19950910,       1751,    10.1667,    53.6362,       4280,   796.0,  10.3123,  35.3907,2,  35.3890,2,     26.6,2,    26.8,2,   53.04,2,   33.55,2,    0.01,2,    2.57,2,   0.101,2,   0.052,2,  2274.4,2,  2332.5,3,-999.0000,9,-999.0000,9, -999.00,9, -999.00,9,  -999.0,9,    -9.0,-999.000,9,-999.000,    7952,-999.0000,  10.2149,-999.0000, -999.00
 316N145_11,       I01W,     896,          1,         22,     SIH019,2,19950910,       1751,    10.1667,    53.6362,       4280,   896.4,   9.6611,  35.3494,2,  35.3482,2,     30.4,2,    29.0,2,   60.22,2,   34.53,2,    0.01,2,    2.64,2,-999.000,9,-999.000,9,  2283.1,2,  2352.1,2,-999.0000,9,-999.0000,9, -999.00,9, -999.00,9,  -999.0,9,    -9.0,-999.000,9,-999.000,    8957,-999.0000,   9.5551,-999.0000, -999.00
 316N145_11,       I01W,     896,          1,         21,     SIH025,2,19950910,       1751,    10.1667,    53.6362,       4280,   999.4,   9.0442,  35.3138,2,  35.3129,2,     31.3,2,    29.9,2,   66.42,2,   35.30,2,    0.01,2,    2.69,2,-999.000,9,-999.000,9,  2290.4,2,  2356.3,2,-999.0000,9,-999.0000,9, -999.00,9, -999.00,9,  -999.0,9,    -9.0,-999.000,9,-999.000,    9987,-999.0000,   8.9300,-999.0000, -999.00
 316N145_11,       I01W,     896,          1,         20,     SIH004,2,19950910,       1751,    10.1667,    53.6362,       4280,  1099.5,   8.3324,  35.2566,2,  35.2550,2,     34.4,2,    34.9,2,   74.56,2,   36.24,2,    0.00,2,    2.74,2,   0.035,2,   0.018,2,  -999.0,9,  -999.0,9,-999.0000,9,-999.0000,9, -999.00,9, -999.00,9,  -999.0,9,    -9.0,-999.000,9,-999.000,   10989,-999.0000,   8.2116,-999.0000, -999.00
 316N145_11,       I01W,     896,          1,         19,     SIH005,2,19950910,       1751,    10.1667,    53.6362,       4280,  1200.6,   7.8744,  35.2441,2,  35.2426,2,     34.6,2,    36.3,2,   79.80,2,   36.66,2,    0.01,2,    2.77,2,-999.000,9,-999.000,9,  -999.0,9,  -999.0,9,-999.0000,9,-999.0000,9, -999.00,9, -999.00,9,  -999.0,9,    -9.0,-999.000,9,-999.000,   12000,-999.0000,   7.7458,-999.0000, -999.00
 316N145_11,       I01W,     896,          1,         18,     SIH006,2,19950910,       1751,    10.1667,    53.6362,       4280,  1296.4,   6.7599,  35.1301,2,  35.1319,2,     45.3,2,    43.5,2,   90.28,2,   37.27,2,    0.01,2,    2.80,2,   0.015,2,   0.004,2,  -999.0,9,  -999.0,9,-999.0000,9,-999.0000,9, -999.00,9, -999.00,9,  -999.0,9,    -9.0,-999.000,9,-999.000,   12958,-999.0000,   6.6309,-999.0000, -999.00
 316N145_11,       I01W,     896,          1,         17,     SIH038,3,19950910,       1751,    10.1667,    53.6362,       4280,  1397.8,   5.7730,  35.0362,3,  35.0423,2,     52.9,2,    59.1,2,   99.99,2,   37.48,2,    0.01,2,    2.81,2,-999.000,9,-999.000,9,  -999.0,9,  -999.0,9,-999.0000,9,-999.0000,9, -999.00,9, -999.00,9,  -999.0,9,    -9.0,-999.000,9,-999.000,   13973,-999.0000,   5.6434,-999.0000, -999.00
 316N145_11,       I01W,     896,          1,         16,     SIH008,2,19950910,       1751,    10.1667,    53.6362,       4280,  1599.7,   4.1286,  34.8997,2,  34.8995,2,     82.9,2,    86.1,2,  116.67,2,   37.17,2,    0.00,2,    2.78,2,   0.002,2,   0.000,2,  -999.0,9,  -999.0,9,-999.0000,9,-999.0000,9, -999.00,9, -999.00,9,  -999.0,9,    -9.0,-999.000,9,-999.000,   15993,-999.0000,   3.9978,-999.0000, -999.00
 316N145_11,       I01W,     896,          1,         15,     SIH009,2,19950910,       1751,    10.1667,    53.6362,       4280,  1794.8,   3.4100,  34.8505,2,  34.8489,2,    102.3,2,    99.6,2,  124.64,2,   36.89,2,    0.00,2,    2.69,2,-999.000,9,-999.000,9,  -999.0,9,  -999.0,9,-999.0000,9,-999.0000,9, -999.00,9, -999.00,9,  -999.0,9,    -9.0,-999.000,9,-999.000,   17945,-999.0000,   3.2706,-999.0000, -999.00
 316N145_11,       I01W,     896,          1,         14,     SIH010,2,19950910,       1751,    10.1667,    53.6362,       4280,  1998.7,   2.8438,  34.8079,2,  34.8086,2,    117.8,2,   117.0,2,  129.51,2,   36.40,2,    0.00,2,    2.63,2,-999.000,9,-999.000,9,  -999.0,9,  -999.0,9,-999.0000,9,-999.0000,9, -999.00,9, -999.00,9,  -999.0,9,    -9.0,-999.000,9,-999.000,   19986,-999.0000,   2.6942,-999.0000, -999.00
 316N145_11,       I01W,     896,          1,         13,     SIH011,2,19950910,       1751,    10.1667,    53.6362,       4280,  2200.5,   2.4957,  34.7886,2,  34.7897,2,    125.1,2,   122.8,2,  134.76,2,   36.24,2,    0.00,2,    2.60,2,   0.000,2,  -0.002,2,  -999.0,9,  -999.0,9,-999.0000,9,-999.0000,9, -999.00,9, -999.00,9,  -999.0,9,    -9.0,-999.000,9,-999.000,   22005,-999.0000,   2.3334,-999.0000, -999.00
 316N145_11,       I01W,     896,          1,         12,     SIH012,2,19950910,       1751,    10.1667,    53.6362,       4280,  2396.8,   2.2434,  34.7728,2,  34.7722,2,    134.9,2,   133.0,2,  135.73,6,   35.76,6,    0.00,6,    2.55,6,-999.000,9,-999.000,9,  -999.0,9,  -999.0,9,-999.0000,9,-999.0000,9, -999.00,9, -999.00,9,  -999.0,9,    -9.0,-999.000,9,-999.000,   23970,-999.0000,   2.0676,-999.0000, -999.00
 316N145_11,       I01W,     896,          1,         11,     SI9426,2,19950910,       1751,    10.1667,    53.6362,       4280,  2595.7,   2.0617,  34.7622,2,  34.7632,2,    137.8,2,   135.9,2,  139.14,6,   35.75,6,    0.01,6,    2.54,6,-999.000,9,-999.000,9,  -999.0,9,  -999.0,9,-999.0000,9,-999.0000,9, -999.00,9, -999.00,9,  -999.0,9,    -9.0,-999.000,9,-999.000,   25959,-999.0000,   1.8711,-999.0000, -999.00
 316N145_11,       I01W,     896,          1,         10,     SIH014,2,19950910,       1751,    10.1667,    53.6362,       4280,  2798.1,   1.9432,  34.7542,2,  34.7539,2,    144.2,2,   141.7,2,  139.07,2,   35.40,2,    0.01,2,    2.52,2,  -0.001,2,   0.000,2,  -999.0,9,  -999.0,9,-999.0000,9,-999.0000,9, -999.00,9, -999.00,9,  -999.0,9,    -9.0,-999.000,9,-999.000,   27985,-999.0000,   1.7359,-999.0000, -999.00
 316N145_11,       I01W,     896,          1,          9,     SIH015,2,19950910,       1751,    10.1667,    53.6362,       4280,  2995.4,   1.8696,  34.7492,2,  34.7500,2,    148.6,2,   147.4,2,  138.88,2,   35.19,2,    0.00,2,    2.48,2,-999.000,9,-999.000,9,  -999.0,9,  -999.0,9,-999.0000,9,-999.0000,9, -999.00,9, -999.00,9,  -999.0,9,    -9.0,-999.000,9,-999.000,   29960,-999.0000,   1.6447,-999.0000, -999.00
 316N145_11,       I01W,     896,          1,          8,     SIH016,2,19950910,       1751,    10.1667,    53.6362,       4280,  3198.9,   1.8059,  34.7448,2,  34.7443,2,    153.4,2,   151.8,2,  138.90,2,   35.07,2,    0.01,2,    2.47,2,-999.000,9,-999.000,9,  -999.0,9,  -999.0,9,-999.0000,9,-999.0000,9, -999.00,9, -999.00,9,  -999.0,9,    -9.0,-999.000,9,-999.000,   31996,-999.0000,   1.5624,-999.0000, -999.00
 316N145_11,       I01W,     896,          1,          7,     SIH017,2,19950910,       1751,    10.1667,    53.6362,       4280,  3399.1,   1.7408,  34.7400,2,  34.7410,2,    158.3,2,   156.4,2,  137.75,2,   34.85,2,    0.01,2,    2.45,2,  -0.001,2,   0.000,2,  -999.0,9,  -999.0,9,-999.0000,9,-999.0000,9, -999.00,9, -999.00,9,  -999.0,9,    -9.0,-999.000,9,-999.000,   34000,-999.0000,   1.4787,-999.0000, -999.00
 316N145_11,       I01W,     896,          1,          6,     SIH018,2,19950910,       1751,    10.1667,    53.6362,       4280,  3596.0,   1.6792,  34.7353,2,  34.7355,2,    164.8,2,   162.2,2,  136.61,2,   34.53,2,    0.00,2,    2.42,2,-999.000,9,-999.000,9,  -999.0,9,  -999.0,9,-999.0000,9,-999.0000,9, -999.00,9, -999.00,9,  -999.0,9,    -9.0,-999.000,9,-999.000,   35970,-999.0000,   1.3983,-999.0000, -999.00
 316N145_11,       I01W,     896,          1,          5,     SIH002,2,19950910,       1751,    10.1667,    53.6362,       4280,  3794.4,   1.6433,  34.7321,2,  34.7327,2,    168.4,2,   165.9,2,  136.24,2,   34.52,2,    0.01,2,    2.41,2,-999.000,9,-999.000,9,  -999.0,9,  -999.0,9,-999.0000,9,-999.0000,9, -999.00,9, -999.00,9,  -999.0,9,    -9.0,-999.000,9,-999.000,   37956,-999.0000,   1.3423,-999.0000, -999.00
 316N145_11,       I01W,     896,          1,          4,     SIH020,2,19950910,       1751,    10.1667,    53.6362,       4280,  3998.1,   1.5774,  34.7290,2,  34.7298,2,    172.4,2,   171.1,2,  135.67,2,   34.32,2,    0.00,2,    2.38,2,  -0.003,2,   0.001,2,  -999.0,9,  -999.0,9,-999.0000,9,-999.0000,9, -999.00,9, -999.00,9,  -999.0,9,    -9.0,-999.000,9,-999.000,   39994,-999.0000,   1.2563,-999.0000, -999.00
 316N145_11,       I01W,     896,          1,          3,     SIH021,2,19950910,       1751,    10.1667,    53.6362,       4280,  4198.4,   1.4960,  34.7259,2,  34.7250,2,    177.5,2,   173.8,2,  136.07,2,   34.15,2,    0.00,2,    2.37,2,-999.000,9,-999.000,9,  -999.0,9,  -999.0,9,-999.0000,9,-999.0000,9, -999.00,9, -999.00,9,  -999.0,9,    -9.0,-999.000,9,-999.000,   41998,-999.0000,   1.1551,-999.0000, -999.00
 316N145_11,       I01W,     896,          1,          2,     SIH022,2,19950910,       1751,    10.1667,    53.6362,       4280,  4312.5,   1.3674,  34.7199,2,  34.7201,2,    181.5,2,   179.1,2,  137.83,2,   33.97,2,    0.01,2,    2.35,2,   0.004,2,   0.005,2,  -999.0,9,  -999.0,9,-999.0000,9,-999.0000,9, -999.00,9, -999.00,9,  -999.0,9,    -9.0,-999.000,9,-999.000,   43140,-999.0000,   1.0176,-999.0000, -999.00
 316N145_11,       I01W,     896,          1,          1,     SIH023,2,19950910,       1751,    10.1667,    53.6362,       4280,  4362.4,   1.3469,  34.7198,2,  34.7197,2,    181.2,2,   182.2,2,  138.59,6,   33.95,6,    0.00,6,    2.35,6,   0.003,2,   0.000,2,  -999.0,9,  -999.0,9,-999.0000,9,-999.0000,9, -999.00,9, -999.00,9,  -999.0,9,    -9.0,-999.000,9,-999.000,   43639,-999.0000,   0.9921,-999.0000, -999.00