BOTTLE,20211119CCHSIORKP
EXPOCODE,SECT_ID,STNNBR,CASTNO,SAMPNO,BTLNBR,BTLNBR_FLAG_W,DATE,TIME,LATITUDE,LONGITUDE,DEPTH,CTDPRS,CTDTMP,CTDSAL,CTDSAL_FLAG_W,SALNTY,SALNTY_FLAG_W,CTDOXY,CTDOXY_FLAG_W,OXYGEN,OXYGEN_FLAG_W,SILCAT,SILCAT_FLAG_W,NITRAT,NITRAT_FLAG_W,NITRIT,NITRIT_FLAG_W,PHSPHT,PHSPHT_FLAG_W,CFC-11,CFC-11_FLAG_W,CFC-12,CFC-12_FLAG_W,TCARBN,TCARBN_FLAG_W,ALKALI,ALKALI_FLAG_W,TRITUM,TRITUM_FLAG_W,HELIUM,HELIUM_FLAG_W,DELHE3,DELHE3_FLAG_W,DELC13,DELC13_FLAG_W,DELC14,DELC14_FLAG_W,C14ERR,NEON,NEON_FLAG_W,NEONER,CTDRAW,TRITER,THETA,HELIER,DELHER
,,,,,,,,,,,METERS,DBAR,ITS-90,PSS-78,,PSS-78,,UMOL/KG,,UMOL/KG,,UMOL/KG,,UMOL/KG,,UMOL/KG,,UMOL/KG,,PMOL/KG,,PMOL/KG,,UMOL/KG,,UMOL/KG,,TU,,NMOL/KG,,PERCNT,,/MILLE,,/MILLE,,/MILLE,NMOL/KG,,NMOL/KG,DBAR,TU,DEG C,NMOL/KG,PERCNT
 316N145_11,       I01W,     872,          1,         25,     SI9446,2,19950903,       2210,    13.8333,    51.5055,       1790,     5.3,  24.3866,  35.7765,2,  35.7754,2,    258.1,2,   211.1,2,    1.47,2,    4.46,2,    0.22,2,    0.57,2,   1.575,2,   0.895,2,  2055.6,2,  2353.2,2,-999.0000,9,-999.0000,9, -999.00,9, -999.00,9,  -999.0,9,    -9.0,-999.000,9,-999.000,      27,-999.0000,  24.3855,-999.0000, -999.00
 316N145_11,       I01W,     872,          1,         24,     SIH036,2,19950903,       2210,    13.8333,    51.5055,       1790,    29.9,  15.6233,  35.4493,2,  35.4504,2,     60.7,2,    47.8,2,   21.85,2,   25.03,2,    0.08,2,    1.90,2,   0.734,4,   0.395,4,  2210.0,2,  2320.8,2,-999.0000,9,-999.0000,9, -999.00,9, -999.00,9,  -999.0,9,    -9.0,-999.000,9,-999.000,     273,-999.0000,  15.6188,-999.0000, -999.00
 316N145_11,       I01W,     872,          1,         23,     SIH001,2,19950903,       2210,    13.8333,    51.5055,       1790,    60.0,  13.8568,  35.2588,2,  35.2601,2,     87.9,2,    85.4,2,   20.25,2,   22.82,2,    0.02,2,    1.65,2,-999.000,9,-999.000,9,  2187.1,3,  2322.2,2,-999.0000,9,-999.0000,9, -999.00,9, -999.00,9,  -999.0,9,    -9.0,-999.000,9,-999.000,     574,-999.0000,  13.8482,-999.0000, -999.00
 316N145_11,       I01W,     872,          1,         22,     SIH019,2,19950903,       2210,    13.8333,    51.5055,       1790,    89.7,  13.7655,  35.3237,2,  35.3311,2,     83.2,2,    67.1,2,   22.86,2,   24.56,2,    0.02,2,    1.82,2,   0.901,2,   0.477,2,  2204.9,2,  2325.6,2,-999.0000,9,-999.0000,9, -999.00,9, -999.00,9,  -999.0,9,    -9.0,-999.000,9,-999.000,     871,-999.0000,  13.7527,-999.0000, -999.00
 316N145_11,       I01W,     872,          1,         21,     SIH025,2,19950903,       2210,    13.8333,    51.5055,       1790,   119.7,  13.9641,  35.4290,2,  35.4693,2,     38.3,2,    44.2,2,   24.86,2,   25.37,2,    0.02,2,    1.99,2,-999.000,9,-999.000,9,  2225.6,2,  2332.6,2,-999.0000,9,-999.0000,9, -999.00,9, -999.00,9,  -999.0,9,    -9.0,-999.000,9,-999.000,    1172,-999.0000,  13.9469,-999.0000, -999.00
 316N145_11,       I01W,     872,          1,         20,     SIH004,2,19950903,       2210,    13.8333,    51.5055,       1790,   150.2,  13.1490,  35.3008,2,  35.3005,2,     63.7,2,    66.8,2,   23.87,2,   25.39,2,    0.01,2,    1.86,2,   0.830,6,   0.430,6,  2210.1,2,  2325.7,2,-999.0000,9,-999.0000,9, -999.00,9, -999.00,9,  -999.0,9,    -9.0,-999.000,9,-999.000,    1476,-999.0000,  13.1282,-999.0000, -999.00
 316N145_11,       I01W,     872,          1,         19,     SIH005,2,19950903,       2210,    13.8333,    51.5055,       1790,   179.8,  12.6297,  35.2263,2,  35.2375,2,     74.9,2,    75.5,2,   24.06,2,   25.57,2,    0.00,2,    1.83,2,-999.000,9,-999.000,9,  2205.7,2,  2324.0,2,-999.0000,9,-999.0000,9, -999.00,9, -999.00,9,  -999.0,9,    -9.0,-999.000,9,-999.000,    1772,-999.0000,  12.6054,-999.0000, -999.00
 316N145_11,       I01W,     872,          1,         18,     SIH006,2,19950903,       2210,    13.8333,    51.5055,       1790,   200.0,  12.7849,  35.2924,2,  35.2922,2,     62.9,2,    64.0,2,   25.67,2,   26.39,2,    0.00,2,    1.92,2,   0.736,2,   0.385,2,  2215.3,2,  2325.2,2,-999.0000,9,-999.0000,9, -999.00,9, -999.00,9,  -999.0,9,    -9.0,-999.000,9,-999.000,    1974,-999.0000,  12.7576,-999.0000, -999.00
 316N145_11,       I01W,     872,          1,         17,     SIH038,2,19950903,       2210,    13.8333,    51.5055,       1790,   249.5,  12.6451,  35.2956,2,  35.2974,2,     62.2,2,    61.1,2,   26.48,2,   26.76,2,    0.01,2,    1.96,2,-999.000,9,-999.000,9,  2218.7,2,  2325.7,2,-999.0000,9,-999.0000,9, -999.00,9, -999.00,9,  -999.0,9,    -9.0,-999.000,9,-999.000,    2469,-999.0000,  12.6113,-999.0000, -999.00
 316N145_11,       I01W,     872,          1,         16,     SIH008,2,19950903,       2210,    13.8333,    51.5055,       1790,   299.3,  12.2912,  35.3050,2,  35.3072,2,     53.3,2,    55.8,2,   28.89,2,   27.75,2,    0.01,2,    2.04,2,   0.590,2,   0.307,2,  2226.2,2,  2328.0,2,-999.0000,9,-999.0000,9, -999.00,9, -999.00,9,  -999.0,9,    -9.0,-999.000,9,-999.000,    2968,-999.0000,  12.2513,-999.0000, -999.00
 316N145_11,       I01W,     872,          1,         15,     SIH009,2,19950903,       2210,    13.8333,    51.5055,       1790,   398.8,  12.5675,  35.5557,2,  35.5537,2,     23.9,2,    33.5,2,   32.71,2,   29.16,2,    0.00,2,    2.19,2,-999.000,9,-999.000,9,  2244.3,2,  2341.4,2,-999.0000,9,-999.0000,9, -999.00,9, -999.00,9,  -999.0,9,    -9.0,-999.000,9,-999.000,    3963,-999.0000,  12.5131,-999.0000, -999.00
 316N145_11,       I01W,     872,          1,         14,     SIH010,2,19950903,       2210,    13.8333,    51.5055,       1790,   504.1,  11.6395,  35.4876,2,  35.4894,2,     33.7,2,    34.1,2,   39.95,2,   30.85,2,    0.00,2,    2.33,2,   0.269,2,   0.143,2,  2255.5,2,  2329.6,3,-999.0000,9,-999.0000,9, -999.00,9, -999.00,9,  -999.0,9,    -9.0,-999.000,9,-999.000,    5018,-999.0000,  11.5738,-999.0000, -999.00
 316N145_11,       I01W,     872,          1,         13,     SIH011,2,19950903,       2210,    13.8333,    51.5055,       1790,   604.1,  13.6641,  36.1699,2,  36.1711,2,     19.7,2,    19.6,2,   38.74,2,   28.72,2,    0.01,2,    2.25,2,   0.375,2,   0.203,2,  2255.6,2,  2366.4,2,-999.0000,9,-999.0000,9, -999.00,9, -999.00,9,  -999.0,9,    -9.0,-999.000,9,-999.000,    6019,-999.0000,  13.5760,-999.0000, -999.00
 316N145_11,       I01W,     872,          1,         12,     SIH012,2,19950903,       2210,    13.8333,    51.5055,       1790,   702.9,  12.2380,  35.9228,2,  35.9240,2,     19.1,2,    18.3,2,   47.41,2,   30.74,2,    0.00,2,    2.42,2,   0.236,2,   0.127,2,  2270.4,2,  2346.9,3,-999.0000,9,-999.0000,9, -999.00,9, -999.00,9,  -999.0,9,    -9.0,-999.000,9,-999.000,    7007,-999.0000,  12.1423,-999.0000, -999.00
 316N145_11,       I01W,     872,          1,         11,     SI9426,3,19950903,       2210,    13.8333,    51.5055,       1790,   801.3,  11.3861,  35.8026,3,  35.7813,2,     15.9,3,    16.8,2,   55.29,2,   32.38,2,    0.00,2,    2.55,2,   0.154,2,   0.078,2,  2281.0,2,  2366.6,2,-999.0000,9,-999.0000,9, -999.00,9, -999.00,9,  -999.0,9,    -9.0,-999.000,9,-999.000,    7992,-999.0000,  11.2815,-999.0000, -999.00
 316N145_11,       I01W,     872,          1,         10,     SIH014,2,19950903,       2210,    13.8333,    51.5055,       1790,   900.9,  10.3195,  35.6580,2,  35.6542,2,     15.6,2,    16.5,2,   64.78,2,   33.95,2,    0.01,2,    2.67,2,   0.100,2,   0.051,2,  2294.2,2,  2370.1,2,-999.0000,9,-999.0000,9, -999.00,9, -999.00,9,  -999.0,9,    -9.0,-999.000,9,-999.000,    8989,-999.0000,  10.2083,-999.0000, -999.00
 316N145_11,       I01W,     872,          1,          9,     SIH015,2,19950903,       2210,    13.8333,    51.5055,       1790,  1000.4,   9.1603,  35.5092,2,  35.5066,2,     19.6,2,    19.6,2,   73.28,2,   35.65,2,   -0.01,2,    2.76,2,   0.062,2,   0.032,2,  2306.0,2,  2376.9,2,-999.0000,9,-999.0000,9, -999.00,9, -999.00,9,  -999.0,9,    -9.0,-999.000,9,-999.000,    9986,-999.0000,   9.0448,-999.0000, -999.00
 316N145_11,       I01W,     872,          1,          8,     SIH016,2,19950903,       2210,    13.8333,    51.5055,       1790,  1099.4,   8.1192,  35.3522,2,  35.3539,2,     25.6,2,    23.5,2,   81.99,2,   36.84,2,    0.01,2,    2.83,2,   0.031,2,   0.014,2,  -999.0,9,  -999.0,9,-999.0000,9,-999.0000,9, -999.00,9, -999.00,9,  -999.0,9,    -9.0,-999.000,9,-999.000,   10977,-999.0000,   8.0000,-999.0000, -999.00
 316N145_11,       I01W,     872,          1,          7,     SIH017,2,19950903,       2210,    13.8333,    51.5055,       1790,  1197.7,   7.5013,  35.2769,2,  35.2814,2,     32.4,2,    27.6,2,   87.48,2,   37.19,2,    0.00,2,    2.84,2,-999.000,9,-999.000,9,  -999.0,9,  -999.0,9,-999.0000,9,-999.0000,9, -999.00,9, -999.00,9,  -999.0,9,    -9.0,-999.000,9,-999.000,   11962,-999.0000,   7.3762,-999.0000, -999.00
 316N145_11,       I01W,     872,          1,          6,     SIH018,2,19950903,       2210,    13.8333,    51.5055,       1790,  1297.2,   6.6842,  35.1812,2,  35.1851,2,     40.1,2,    35.6,2,   94.79,2,   37.79,2,    0.00,2,    2.86,2,   0.013,2,   0.004,2,  -999.0,9,  -999.0,9,-999.0000,9,-999.0000,9, -999.00,9, -999.00,9,  -999.0,9,    -9.0,-999.000,9,-999.000,   12959,-999.0000,   6.5558,-999.0000, -999.00
 316N145_11,       I01W,     872,          1,          5,     SIH002,2,19950903,       2210,    13.8333,    51.5055,       1790,  1397.9,   5.8675,  35.0950,2,  35.0968,2,     49.9,2,    47.6,2,  103.54,2,   37.79,2,    0.01,2,    2.87,2,-999.000,9,-999.000,9,  -999.0,9,  -999.0,9,-999.0000,9,-999.0000,9, -999.00,9, -999.00,9,  -999.0,9,    -9.0,-999.000,9,-999.000,   13968,-999.0000,   5.7367,-999.0000, -999.00
 316N145_11,       I01W,     872,          1,          4,     SIH020,2,19950903,       2210,    13.8333,    51.5055,       1790,  1493.1,   5.3617,  35.0429,2,  35.0451,2,     55.8,2,    55.9,2,  108.85,2,   37.82,2,    0.00,2,    2.84,2,   0.003,2,   0.001,2,  -999.0,9,  -999.0,9,-999.0000,9,-999.0000,9, -999.00,9, -999.00,9,  -999.0,9,    -9.0,-999.000,9,-999.000,   14921,-999.0000,   5.2268,-999.0000, -999.00
 316N145_11,       I01W,     872,          1,          3,     SIH021,2,19950903,       2210,    13.8333,    51.5055,       1790,  1594.9,   4.7218,  34.9804,2,  34.9841,2,     64.5,2,    64.1,2,  115.98,2,   37.89,2,    0.00,2,    2.83,2,-999.000,9,-999.000,9,  -999.0,9,  -999.0,9,-999.0000,9,-999.0000,9, -999.00,9, -999.00,9,  -999.0,9,    -9.0,-999.000,9,-999.000,   15941,-999.0000,   4.5843,-999.0000, -999.00
 316N145_11,       I01W,     872,          1,          2,     SIH022,2,19950903,       2210,    13.8333,    51.5055,       1790,  1753.1,   4.0245,  34.9299,2,  34.9315,2,     73.4,2,    73.4,2,  128.39,2,   37.30,2,    0.00,2,    2.81,2,   0.005,2,   0.009,2,  -999.0,9,  -999.0,9,-999.0000,9,-999.0000,9, -999.00,9, -999.00,9,  -999.0,9,    -9.0,-999.000,9,-999.000,   17526,-999.0000,   3.8806,-999.0000, -999.00
 316N145_11,       I01W,     872,          1,          1,     SIH023,2,19950903,       2210,    13.8333,    51.5055,       1790,  1803.9,   3.8140,  34.9142,2,  34.9128,2,     75.7,2,    77.4,2,  131.96,2,   37.22,2,    0.00,2,    2.79,2,   0.003,2,   0.007,2,  -999.0,9,  -999.0,9,-999.0000,9,-999.0000,9, -999.00,9, -999.00,9,  -999.0,9,    -9.0,-999.000,9,-999.000,   18035,-999.0000,   3.6681,-999.0000, -999.00
 316N145_11,       I01W,     873,          1,         16,     SIH008,2,19950905,       1818,    12.3555,    43.7000,        300,     2.7,  24.7815,  36.4570,2,  36.4511,2,    275.8,2,   221.8,2,    1.85,2,    2.09,2,    0.15,2,    0.38,2,   1.310,4,   0.753,2,  2034.9,2,  2366.7,2,-999.0000,9,   1.6708,2,    0.63,2, -999.00,9,  -999.0,9,    -9.0,   6.601,2,   0.033,       2,-999.0000,  24.7809,   0.0084,    0.14
 316N145_11,       I01W,     873,          1,         15,     SIH009,2,19950905,       1818,    12.3555,    43.7000,        300,    18.1,  20.0608,  35.7653,2,  35.7515,2,    247.8,2,   134.5,2,    6.04,2,   11.82,2,    0.51,2,    1.36,2,   1.349,2,   0.770,2,  2168.6,2,  2343.6,2,   0.6065,2,   1.7542,2,    3.80,2, -999.00,9,  -999.0,9,    -9.0,   7.077,2,   0.035,     156,   0.0031,  20.0575,   0.0088,    0.14
 316N145_11,       I01W,     873,          1,         14,     SIH010,2,19950905,       1818,    12.3555,    43.7000,        300,    37.9,  17.3125,  35.7002,2,  35.6905,2,     18.4,2,    17.8,2,   21.39,2,   25.59,2,    0.21,2,    2.11,2,   1.004,2,   0.559,2,  2227.3,2,  2329.2,2,   0.6451,2,   1.6955,2,    1.32,2, -999.00,9,  -999.0,9,    -9.0,   6.838,2,   0.034,     354,   0.0032,  17.3061,   0.0085,    0.14
 316N145_11,       I01W,     873,          1,         13,     SIH011,2,19950905,       1818,    12.3555,    43.7000,        300,    57.8,  16.6834,  35.6731,2,  35.6725,2,     19.4,2,    14.1,2,   23.60,2,   25.36,2,    0.34,2,    2.13,2,-999.000,9,-999.000,9,  2233.6,2,  2329.9,2,   0.5879,2,   1.7388,2,    4.33,2, -999.00,9,  -999.0,9,    -9.0,   7.063,2,   0.035,     553,   0.0031,  16.6739,   0.0087,    0.14
 316N145_11,       I01W,     873,          1,         12,     SIH012,2,19950905,       1818,    12.3555,    43.7000,        300,    77.8,  16.4374,  35.6623,2,  35.6625,2,     18.7,2,    19.1,2,   23.03,2,   25.98,2,    0.10,2,    2.11,2,   0.918,2,   0.513,2,  2231.1,2,  2331.1,2,-999.0000,9,-999.0000,9, -999.00,9, -999.00,9,  -999.0,9,    -9.0,-999.000,9,-999.000,     753,-999.0000,  16.4248,-999.0000, -999.00
 316N145_11,       I01W,     873,          1,         11,     SI9426,2,19950905,       1818,    12.3555,    43.7000,        300,    97.3,  16.0323,  35.6669,2,  35.6658,2,     18.9,2,    17.7,2,   24.05,2,   26.21,2,    0.09,2,    2.12,2,   0.861,2,   0.494,2,  2233.6,2,  2328.1,2,   0.5549,2,   1.7528,2,    4.80,2, -999.00,9,  -999.0,9,    -9.0,   7.113,2,   0.036,     948,   0.0030,  16.0168,   0.0088,    0.14
 316N145_11,       I01W,     873,          1,         10,     SIH014,2,19950905,       1818,    12.3555,    43.7000,        300,   122.1,  15.4457,  35.6544,2,  35.6530,2,     21.8,2,    21.1,2,   24.47,2,   26.57,2,    0.05,2,    2.12,2,   0.792,2,   0.438,2,  2235.7,2,  2331.3,2,-999.0000,9,-999.0000,9, -999.00,9, -999.00,9,  -999.0,9,    -9.0,-999.000,9,-999.000,    1196,-999.0000,  15.4268,-999.0000, -999.00
 316N145_11,       I01W,     873,          1,          9,     SIH015,2,19950905,       1818,    12.3555,    43.7000,        300,   142.1,  15.4396,  35.7336,2,  35.7027,2,     22.9,2,    22.9,2,   24.69,2,   26.63,2,    0.04,2,    2.09,2,   0.769,2,   0.424,2,  2234.7,2,  2330.7,2,   0.5089,2,   1.7820,2,    5.46,2, -999.00,9,  -999.0,9,    -9.0,-999.000,9,  -0.045,    1397,   0.0030,  15.4176,   0.0089,    0.14
 316N145_11,       I01W,     873,          1,          8,     SIH016,2,19950905,       1818,    12.3555,    43.7000,        300,   161.9,  15.5196,  35.9428,2,  35.9461,2,     28.8,2,    27.4,2,   24.72,2,   26.09,2,    0.05,2,    2.02,2,   0.754,2,   0.425,2,  2232.4,2,  2337.8,2,-999.0000,9,-999.0000,9, -999.00,9, -999.00,9,  -999.0,9,    -9.0,-999.000,9,-999.000,    1594,-999.0000,  15.4943,-999.0000, -999.00
 316N145_11,       I01W,     873,          1,          7,     SIH017,2,19950905,       1818,    12.3555,    43.7000,        300,   176.4,  15.4015,  35.9349,2,  35.9360,2,     28.6,2,    28.4,2,   24.94,2,   26.11,2,    0.04,2,    2.04,2,   0.738,2,   0.402,2,  2233.3,2,  2340.0,2,   0.4918,2,   1.7828,2,    5.89,2, -999.00,9,  -999.0,9,    -9.0,   7.249,2,   0.036,    1739,   0.0029,  15.3741,   0.0089,    0.14
 316N145_11,       I01W,     873,          1,          6,     SIH018,2,19950905,       1818,    12.3555,    43.7000,        300,   201.2,  14.9842,  35.8769,2,  35.8864,2,     25.8,2,    27.0,2,   26.17,2,   26.60,2,    0.04,2,    2.06,2,   0.675,2,   0.374,2,  2237.8,2,  2336.1,2,-999.0000,9,-999.0000,9, -999.00,9, -999.00,9,  -999.0,9,    -9.0,-999.000,9,-999.000,    1987,-999.0000,  14.9535,-999.0000, -999.00
 316N145_11,       I01W,     873,          1,          5,     SIH002,2,19950905,       1818,    12.3555,    43.7000,        300,   221.0,  14.9124,  35.9158,2,  35.9147,2,     24.0,2,    24.1,2,   26.59,2,   26.98,2,    0.04,2,    2.10,2,   0.641,2,   0.364,2,  2240.8,2,  2339.5,2,   0.4533,2,   1.7631,2,    6.00,2, -999.00,9,  -999.0,9,    -9.0,   7.148,2,   0.036,    2186,   0.0029,  14.8788,   0.0088,    0.14
 316N145_11,       I01W,     873,          1,          4,     SIH020,2,19950905,       1818,    12.3555,    43.7000,        300,   240.8,  14.8714,  35.9422,2,  35.9427,2,     23.4,2,    21.7,2,   27.63,2,   27.16,2,    0.03,2,    2.12,2,   0.624,2,   0.349,2,  2242.4,2,  2340.2,2,-999.0000,9,-999.0000,9, -999.00,9, -999.00,9,  -999.0,9,    -9.0,-999.000,9,-999.000,    2384,-999.0000,  14.8348,-999.0000, -999.00
 316N145_11,       I01W,     873,          1,          3,     SIH021,2,19950905,       1818,    12.3555,    43.7000,        300,   265.4,  15.2099,  36.1095,2,  36.1066,2,     21.9,2,    22.3,2,   27.45,2,   26.67,2,    0.04,2,    2.08,2,   0.641,2,   0.360,2,  2241.9,2,  2342.8,2,-999.0000,9,-999.0000,9, -999.00,9, -999.00,9,  -999.0,9,    -9.0,-999.000,9,-999.000,    2629,-999.0000,  15.1690,-999.0000, -999.00
 316N145_11,       I01W,     873,          1,          2,     SIH022,2,19950905,       1818,    12.3555,    43.7000,        300,   283.7,  15.2013,  36.1312,2,  36.1252,2,     23.5,2,    23.1,2,   27.67,2,   26.73,2,    0.08,2,    2.07,2,   0.634,2,   0.354,2,  2242.1,2,  2344.8,2,-999.0000,9,-999.0000,9, -999.00,9, -999.00,9,  -999.0,9,    -9.0,-999.000,9,-999.000,    2813,-999.0000,  15.1574,-999.0000, -999.00
 316N145_11,       I01W,     873,          1,          1,     SIH023,2,19950905,       1818,    12.3555,    43.7000,        300,   303.4,  15.4423,  36.2358,2,  36.2432,2,     23.7,2,    24.5,2,   27.48,2,   26.25,2,    0.11,2,    2.05,2,   0.671,6,   0.377,6,  2240.4,2,  2347.8,2,-999.0000,9,-999.0000,9, -999.00,9, -999.00,9,  -999.0,9,    -9.0,-999.000,9,-999.000,    3010,-999.0000,  15.3949,-999.0000, -999.00