BOTTLE,20211119CCHSIORKP
EXPOCODE,SECT_ID,STNNBR,CASTNO,SAMPNO,BTLNBR,BTLNBR_FLAG_W,DATE,TIME,LATITUDE,LONGITUDE,DEPTH,CTDPRS,CTDTMP,CTDSAL,CTDSAL_FLAG_W,SALNTY,SALNTY_FLAG_W,CTDOXY,CTDOXY_FLAG_W,OXYGEN,OXYGEN_FLAG_W,SILCAT,SILCAT_FLAG_W,NITRAT,NITRAT_FLAG_W,NITRIT,NITRIT_FLAG_W,PHSPHT,PHSPHT_FLAG_W,CFC-11,CFC-11_FLAG_W,CFC-12,CFC-12_FLAG_W,TCARBN,TCARBN_FLAG_W,ALKALI,ALKALI_FLAG_W,TRITUM,TRITUM_FLAG_W,HELIUM,HELIUM_FLAG_W,DELHE3,DELHE3_FLAG_W,DELC13,DELC13_FLAG_W,DELC14,DELC14_FLAG_W,C14ERR,NEON,NEON_FLAG_W,NEONER,CTDRAW,TRITER,THETA,HELIER,DELHER
,,,,,,,,,,,METERS,DBAR,ITS-90,PSS-78,,PSS-78,,UMOL/KG,,UMOL/KG,,UMOL/KG,,UMOL/KG,,UMOL/KG,,UMOL/KG,,PMOL/KG,,PMOL/KG,,UMOL/KG,,UMOL/KG,,TU,,NMOL/KG,,PERCNT,,/MILLE,,/MILLE,,/MILLE,NMOL/KG,,NMOL/KG,DBAR,TU,DEG C,NMOL/KG,PERCNT
 316N145_11,       I01W,     889,          1,         28,     SIH032,2,19950908,       1457,    14.5000,    50.8333,       1955,     8.9,  20.9674,  35.6285,2,  35.6709,2,     66.7,2,  -999.0,9,    6.80,2,   16.15,2,    0.72,2,    1.63,2,   1.258,3,   0.692,2,  2178.1,2,  2333.2,2,-999.0000,9,-999.0000,9, -999.00,9, -999.00,9,  -999.0,9,    -9.0,-999.000,9,-999.000,      67,-999.0000,  20.9657,-999.0000, -999.00
 316N145_11,       I01W,     889,          1,         26,     SIH037,2,19950908,       1457,    14.5000,    50.8333,       1955,    28.6,  18.0670,  35.6496,2,-999.0000,9,     19.8,2,  -999.0,9,   19.18,2,   25.27,2,    0.23,2,    2.05,2,-999.000,9,-999.000,9,  2223.1,2,  2326.6,2,-999.0000,9,-999.0000,9, -999.00,9, -999.00,9,  -999.0,9,    -9.0,-999.000,9,-999.000,     263,-999.0000,  18.0621,-999.0000, -999.00
 316N145_11,       I01W,     889,          1,         27,     SIH033,2,19950908,       1457,    14.5000,    50.8333,       1955,    28.9,  18.0647,  35.6547,2,  35.6508,2,     20.0,2,  -999.0,9,   19.00,2,   25.22,2,    0.23,2,    2.04,2,-999.000,9,-999.000,9,  -999.0,9,  -999.0,9,-999.0000,9,-999.0000,9, -999.00,9, -999.00,9,  -999.0,9,    -9.0,-999.000,9,-999.000,     267,-999.0000,  18.0598,-999.0000, -999.00
 316N145_11,       I01W,     889,          1,         25,     SI9446,2,19950908,       1457,    14.5000,    50.8333,       1955,    58.7,  16.8437,  35.6318,2,  35.6255,2,     10.8,2,    23.7,2,   22.61,2,   25.52,2,    0.03,2,    2.17,2,-999.000,9,-999.000,9,  2233.0,2,  2326.3,2,-999.0000,9,-999.0000,9, -999.00,9, -999.00,9,  -999.0,9,    -9.0,-999.000,9,-999.000,     565,-999.0000,  16.8341,-999.0000, -999.00
 316N145_11,       I01W,     889,          1,         24,     SIH036,2,19950908,       1457,    14.5000,    50.8333,       1955,    88.2,  15.9062,  35.5736,2,  35.5681,2,     21.7,2,    35.2,2,   23.17,2,   25.99,2,    0.03,2,    2.11,2,   0.884,2,   0.487,2,  2230.9,2,  2327.7,2,-999.0000,9,-999.0000,9, -999.00,9, -999.00,9,  -999.0,9,    -9.0,-999.000,9,-999.000,     860,-999.0000,  15.8923,-999.0000, -999.00
 316N145_11,       I01W,     889,          1,         23,     SIH001,2,19950908,       1457,    14.5000,    50.8333,       1955,   118.8,  15.4277,  35.6072,2,  35.6038,2,     23.4,2,    27.2,2,   24.31,2,   25.94,2,    0.03,2,    2.14,2,-999.000,9,-999.000,9,  2236.2,2,  2335.6,2,-999.0000,9,-999.0000,9, -999.00,9, -999.00,9,  -999.0,9,    -9.0,-999.000,9,-999.000,    1166,-999.0000,  15.4093,-999.0000, -999.00
 316N145_11,       I01W,     889,          1,         22,     SIH019,2,19950908,       1457,    14.5000,    50.8333,       1955,   148.8,  15.1995,  35.6868,2,  35.6773,2,     16.8,2,    23.3,2,   25.82,2,   26.04,2,    0.03,2,    2.19,2,   0.708,2,   0.398,2,  2244.5,2,  2335.4,2,-999.0000,9,-999.0000,9, -999.00,9, -999.00,9,  -999.0,9,    -9.0,-999.000,9,-999.000,    1466,-999.0000,  15.1767,-999.0000, -999.00
 316N145_11,       I01W,     889,          1,         21,     SIH025,2,19950908,       1457,    14.5000,    50.8333,       1955,   178.4,  14.6854,  35.6937,2,  35.6936,2,     22.8,2,    18.8,2,   27.73,2,   26.21,2,    0.01,2,    2.27,2,-999.000,9,-999.000,9,  -999.0,9,  -999.0,9,-999.0000,9,-999.0000,9, -999.00,9, -999.00,9,  -999.0,9,    -9.0,-999.000,9,-999.000,    1763,-999.0000,  14.6586,-999.0000, -999.00
 316N145_11,       I01W,     889,          1,         20,     SIH004,2,19950908,       1457,    14.5000,    50.8333,       1955,   198.9,  14.6038,  35.7078,2,  35.7116,2,     14.4,2,    19.6,2,   27.91,2,   26.58,2,    0.01,2,    2.27,2,-999.000,9,-999.000,9,  2254.0,2,  2337.2,2,-999.0000,9,-999.0000,9, -999.00,9, -999.00,9,  -999.0,9,    -9.0,-999.000,9,-999.000,    1968,-999.0000,  14.5741,-999.0000, -999.00
 316N145_11,       I01W,     889,          1,         19,     SIH005,2,19950908,       1457,    14.5000,    50.8333,       1955,   249.0,  14.1977,  35.7665,2,  35.7624,2,     11.7,2,    18.6,2,   30.19,2,   26.99,2,    0.01,2,    2.34,2,   0.471,2,   0.270,2,  -999.0,9,  -999.0,9,-999.0000,9,-999.0000,9, -999.00,9, -999.00,9,  -999.0,9,    -9.0,-999.000,9,-999.000,    2469,-999.0000,  14.1610,-999.0000, -999.00
 316N145_11,       I01W,     889,          1,         18,     SIH006,2,19950908,       1457,    14.5000,    50.8333,       1955,   298.4,  13.5437,  35.7166,2,  35.7179,2,     11.8,2,    18.3,2,   33.04,2,   27.73,2,    0.01,2,    2.39,2,-999.000,9,-999.000,9,  2264.9,2,  2339.9,2,-999.0000,9,-999.0000,9, -999.00,9, -999.00,9,  -999.0,9,    -9.0,-999.000,9,-999.000,    2962,-999.0000,  13.5012,-999.0000, -999.00
 316N145_11,       I01W,     889,          1,         17,     SIH038,2,19950908,       1457,    14.5000,    50.8333,       1955,   398.1,  12.8499,  35.6932,2,  35.6932,2,     12.3,2,    21.4,2,   37.04,2,   28.67,2,    0.01,2,    2.46,2,   0.265,2,   0.150,2,  -999.0,9,  -999.0,9,-999.0000,9,-999.0000,9, -999.00,9, -999.00,9,  -999.0,9,    -9.0,-999.000,9,-999.000,    3960,-999.0000,  12.7947,-999.0000, -999.00
 316N145_11,       I01W,     889,          1,         16,     SIH008,2,19950908,       1457,    14.5000,    50.8333,       1955,   497.7,  12.2579,  35.6844,2,  35.6855,2,     13.3,2,    20.7,2,   42.37,2,   29.77,2,    0.00,2,    2.52,2,-999.000,9,-999.000,9,  -999.0,9,  -999.0,9,-999.0000,9,-999.0000,9, -999.00,9, -999.00,9,  -999.0,9,    -9.0,-999.000,9,-999.000,    4957,-999.0000,  12.1908,-999.0000, -999.00
 316N145_11,       I01W,     889,          1,         15,     SIH009,2,19950908,       1457,    14.5000,    50.8333,       1955,   597.8,  11.7856,  35.6945,2,  35.6976,2,     14.8,2,    15.8,2,   47.69,2,   30.86,2,    0.00,2,    2.57,2,   0.148,6,   0.079,6,  -999.0,9,  -999.0,9,-999.0000,9,-999.0000,9, -999.00,9, -999.00,9,  -999.0,9,    -9.0,-999.000,9,-999.000,    5959,-999.0000,  11.7066,-999.0000, -999.00
 316N145_11,       I01W,     889,          1,         14,     SIH010,2,19950908,       1457,    14.5000,    50.8333,       1955,   699.6,  10.8577,  35.6382,2,  35.6415,2,     16.3,2,    16.5,2,   57.22,2,   33.11,2,    0.00,2,    2.65,2,-999.000,9,-999.000,9,  -999.0,9,  -999.0,9,-999.0000,9,-999.0000,9, -999.00,9, -999.00,9,  -999.0,9,    -9.0,-999.000,9,-999.000,    6978,-999.0000,  10.7695,-999.0000, -999.00
 316N145_11,       I01W,     889,          1,         13,     SIH011,2,19950908,       1457,    14.5000,    50.8333,       1955,   795.8,  10.2148,  35.5689,2,  35.5675,2,     17.7,2,    19.5,2,   62.74,2,   34.21,2,    0.00,2,    2.71,2,-999.000,9,-999.000,9,  -999.0,9,  -999.0,9,-999.0000,9,-999.0000,9, -999.00,9, -999.00,9,  -999.0,9,    -9.0,-999.000,9,-999.000,    7941,-999.0000,  10.1178,-999.0000, -999.00
 316N145_11,       I01W,     889,          1,         12,     SIH012,2,19950908,       1457,    14.5000,    50.8333,       1955,   896.9,   9.6521,  35.5265,2,  35.5334,2,     19.5,2,    18.3,2,   68.26,2,   34.99,2,    0.00,2,    2.74,2,   0.070,2,   0.032,2,  -999.0,9,  -999.0,9,-999.0000,9,-999.0000,9, -999.00,9, -999.00,9,  -999.0,9,    -9.0,-999.000,9,-999.000,    8954,-999.0000,   9.5458,-999.0000, -999.00
 316N145_11,       I01W,     889,          1,         11,     SI9426,2,19950908,       1457,    14.5000,    50.8333,       1955,   997.9,   9.0231,  35.4549,2,  35.4486,2,     21.5,2,    21.9,2,   73.98,2,   35.88,2,    0.00,2,    2.80,2,-999.000,9,-999.000,9,  -999.0,9,  -999.0,9,-999.0000,9,-999.0000,9, -999.00,9, -999.00,9,  -999.0,9,    -9.0,-999.000,9,-999.000,    9965,-999.0000,   8.9090,-999.0000, -999.00
 316N145_11,       I01W,     889,          1,         10,     SIH014,2,19950908,       1457,    14.5000,    50.8333,       1955,  1098.2,   8.1575,  35.3475,2,  35.3464,2,     25.0,2,    26.7,2,   81.03,2,   36.77,2,    0.00,2,    2.85,2,-999.000,9,-999.000,9,  -999.0,9,  -999.0,9,-999.0000,9,-999.0000,9, -999.00,9, -999.00,9,  -999.0,9,    -9.0,-999.000,9,-999.000,   10970,-999.0000,   8.0383,-999.0000, -999.00
 316N145_11,       I01W,     889,          1,          9,     SIH015,2,19950908,       1457,    14.5000,    50.8333,       1955,  1199.0,   7.3937,  35.2687,2,  35.2591,2,     31.3,2,    33.9,2,   88.08,2,   37.18,2,    0.00,2,    2.88,2,   0.023,2,   0.015,2,  -999.0,9,  -999.0,9,-999.0000,9,-999.0000,9, -999.00,9, -999.00,9,  -999.0,9,    -9.0,-999.000,9,-999.000,   11979,-999.0000,   7.2695,-999.0000, -999.00
 316N145_11,       I01W,     889,          1,          8,     SIH016,2,19950908,       1457,    14.5000,    50.8333,       1955,  1294.8,   6.9728,  35.2445,2,  35.2440,2,     35.7,2,    41.1,2,   92.44,2,   37.14,2,    0.00,2,    2.85,2,-999.000,9,-999.000,9,  -999.0,9,  -999.0,9,-999.0000,9,-999.0000,9, -999.00,9, -999.00,9,  -999.0,9,    -9.0,-999.000,9,-999.000,   12938,-999.0000,   6.8419,-999.0000, -999.00
 316N145_11,       I01W,     889,          1,          7,     SIH017,2,19950908,       1457,    14.5000,    50.8333,       1955,  1396.4,   6.3484,  35.1861,2,  35.1792,2,     42.6,2,    50.6,2,  100.07,2,   37.13,2,    0.00,2,    2.86,2,-999.000,9,-999.000,9,  -999.0,9,  -999.0,9,-999.0000,9,-999.0000,9, -999.00,9, -999.00,9,  -999.0,9,    -9.0,-999.000,9,-999.000,   13956,-999.0000,   6.2126,-999.0000, -999.00
 316N145_11,       I01W,     889,          1,          6,     SIH018,2,19950908,       1457,    14.5000,    50.8333,       1955,  1497.3,   5.5247,  35.0788,2,  35.0762,2,     50.6,2,    56.1,2,  108.64,2,   37.44,2,    0.00,2,    2.87,2,   0.009,2,   0.005,2,  -999.0,9,  -999.0,9,-999.0000,9,-999.0000,9, -999.00,9, -999.00,9,  -999.0,9,    -9.0,-999.000,9,-999.000,   14967,-999.0000,   5.3874,-999.0000, -999.00
 316N145_11,       I01W,     889,          1,          5,     SIH002,2,19950908,       1457,    14.5000,    50.8333,       1955,  1599.2,   4.7919,  34.9974,2,  34.9953,2,     61.4,2,    67.0,2,  116.45,2,   37.50,2,    0.00,2,    2.85,2,-999.000,9,-999.000,9,  -999.0,9,  -999.0,9,-999.0000,9,-999.0000,9, -999.00,9, -999.00,9,  -999.0,9,    -9.0,-999.000,9,-999.000,   15987,-999.0000,   4.6531,-999.0000, -999.00
 316N145_11,       I01W,     889,          1,          4,     SIH020,2,19950908,       1457,    14.5000,    50.8333,       1955,  1795.5,   3.8987,  34.9189,2,  34.9189,2,     74.0,2,    78.5,2,  129.79,2,   37.18,2,    0.00,2,    2.82,2,   0.002,2,   0.006,2,  -999.0,9,  -999.0,9,-999.0000,9,-999.0000,9, -999.00,9, -999.00,9,  -999.0,9,    -9.0,-999.000,9,-999.000,   17955,-999.0000,   3.7524,-999.0000, -999.00
 316N145_11,       I01W,     889,          1,          3,     SIH021,2,19950908,       1457,    14.5000,    50.8333,       1955,  1912.6,   3.4789,  34.8825,2,  34.8790,2,     80.2,2,    82.2,2,  137.40,2,   36.97,2,    0.01,2,    2.82,2,   0.002,2,   0.005,2,  -999.0,9,  -999.0,9,-999.0000,9,-999.0000,9, -999.00,9, -999.00,9,  -999.0,9,    -9.0,-999.000,9,-999.000,   19128,-999.0000,   3.3276,-999.0000, -999.00
 316N145_11,       I01W,     889,          1,          1,     SIH023,2,19950908,       1457,    14.5000,    50.8333,       1955,  1962.5,   3.2920,  34.8629,2,  34.8639,2,     81.3,2,    87.3,2,  141.28,2,   36.80,2,    0.03,2,    2.81,2,   0.008,2,   0.015,2,  -999.0,9,  -999.0,9,-999.0000,9,-999.0000,9, -999.00,9, -999.00,9,  -999.0,9,    -9.0,-999.000,9,-999.000,   19628,-999.0000,   3.1388,-999.0000, -999.00
 316N145_11,       I01W,     889,          1,          2,     SIH022,2,19950908,       1457,    14.5000,    50.8333,       1955,  1962.7,   3.2923,  34.8648,2,-999.0000,9,     81.3,2,  -999.0,9,  141.21,2,   36.73,2,    0.04,2,    2.81,2,-999.000,9,-999.000,9,  -999.0,9,  -999.0,9,-999.0000,9,-999.0000,9, -999.00,9, -999.00,9,  -999.0,9,    -9.0,-999.000,9,-999.000,   19630,-999.0000,   3.1390,-999.0000, -999.00