BOTTLE,20211119CCHSIORKP
EXPOCODE,SECT_ID,STNNBR,CASTNO,SAMPNO,BTLNBR,BTLNBR_FLAG_W,DATE,TIME,LATITUDE,LONGITUDE,DEPTH,CTDPRS,CTDTMP,CTDSAL,CTDSAL_FLAG_W,SALNTY,SALNTY_FLAG_W,CTDOXY,CTDOXY_FLAG_W,OXYGEN,OXYGEN_FLAG_W,SILCAT,SILCAT_FLAG_W,NITRAT,NITRAT_FLAG_W,NITRIT,NITRIT_FLAG_W,PHSPHT,PHSPHT_FLAG_W,CFC-11,CFC-11_FLAG_W,CFC-12,CFC-12_FLAG_W,TCARBN,TCARBN_FLAG_W,ALKALI,ALKALI_FLAG_W,TRITUM,TRITUM_FLAG_W,HELIUM,HELIUM_FLAG_W,DELHE3,DELHE3_FLAG_W,DELC13,DELC13_FLAG_W,DELC14,DELC14_FLAG_W,C14ERR,NEON,NEON_FLAG_W,NEONER,CTDRAW,TRITER,THETA,HELIER,DELHER
,,,,,,,,,,,METERS,DBAR,ITS-90,PSS-78,,PSS-78,,UMOL/KG,,UMOL/KG,,UMOL/KG,,UMOL/KG,,UMOL/KG,,UMOL/KG,,PMOL/KG,,PMOL/KG,,UMOL/KG,,UMOL/KG,,TU,,NMOL/KG,,PERCNT,,/MILLE,,/MILLE,,/MILLE,NMOL/KG,,NMOL/KG,DBAR,TU,DEG C,NMOL/KG,PERCNT
 316N145_11,       I01W,     910,          1,         36,     SIH024,2,19950914,       1729,     8.4888,    54.8250,       4660,     6.4,  26.0745,  35.6617,2,  35.6593,2,    208.0,2,   205.9,2,    2.84,2,    2.68,2,    0.34,2,    0.41,2,   1.835,2,   1.061,2,  2009.7,2,  2329.6,2,-999.0000,9,-999.0000,9, -999.00,9,    1.07,2,    57.8,2,     3.8,-999.000,9,-999.000,      50,-999.0000,  26.0731,-999.0000, -999.00
 316N145_11,       I01W,     910,          1,         35,     SIH003,2,19950914,       1729,     8.4888,    54.8250,       4660,    31.3,  26.0850,  35.6604,2,  35.6595,2,    206.6,2,   211.5,2,    2.98,2,    2.58,2,    0.34,2,    0.41,2,-999.000,9,-999.000,9,  2009.6,2,  2325.3,2,-999.0000,9,-999.0000,9, -999.00,9, -999.00,9,  -999.0,9,    -9.0,-999.000,9,-999.000,     300,-999.0000,  26.0780,-999.0000, -999.00
 316N145_11,       I01W,     910,          1,         34,     SIH026,2,19950914,       1729,     8.4888,    54.8250,       4660,    61.7,  26.0006,  35.6648,2,  35.6636,2,    205.1,2,   205.8,2,    2.94,2,    2.70,2,    0.38,2,    0.42,2,   1.793,2,   1.036,2,  2012.1,2,  2325.8,2,-999.0000,9,-999.0000,9, -999.00,9,    1.11,2,    48.1,2,     3.9,-999.000,9,-999.000,     603,-999.0000,  25.9868,-999.0000, -999.00
 316N145_11,       I01W,     910,          1,         33,     SIH027,2,19950914,       1729,     8.4888,    54.8250,       4660,    91.1,  25.9465,  35.6546,2,  35.6538,2,    201.3,2,   203.3,2,    3.08,2,    2.99,2,    0.39,2,    0.45,2,-999.000,9,-999.000,9,  2014.5,2,  2324.5,2,-999.0000,9,-999.0000,9, -999.00,9, -999.00,9,  -999.0,9,    -9.0,-999.000,9,-999.000,     898,-999.0000,  25.9261,-999.0000, -999.00
 316N145_11,       I01W,     910,          1,         32,     SIH028,2,19950914,       1729,     8.4888,    54.8250,       4660,   121.6,  25.8092,  35.6333,2,  35.6340,2,    200.4,2,   201.0,2,    3.21,2,    3.31,2,    0.48,2,    0.48,2,   1.773,2,   1.024,2,  2016.8,2,  2324.2,2,-999.0000,9,-999.0000,9, -999.00,9,    1.06,2,    51.5,2,     3.6,-999.000,9,-999.000,    1202,-999.0000,  25.7821,-999.0000, -999.00
 316N145_11,       I01W,     910,          1,         31,     SIH029,2,19950914,       1729,     8.4888,    54.8250,       4660,   150.9,  25.2281,  35.5940,2,  35.5926,2,    187.1,2,   186.4,2,    3.89,2,    4.78,2,    0.78,2,    0.58,2,   1.752,2,   1.008,2,  2029.3,2,  2322.2,2,-999.0000,9,-999.0000,9, -999.00,9, -999.00,9,  -999.0,9,    -9.0,-999.000,9,-999.000,    1496,-999.0000,  25.1951,-999.0000, -999.00
 316N145_11,       I01W,     910,          1,         30,     SIH030,2,19950914,       1729,     8.4888,    54.8250,       4660,   201.1,  22.6932,  35.4753,2,  35.4517,2,    146.7,2,   144.3,2,    7.28,2,   11.15,2,    0.03,2,    0.92,2,-999.000,9,-999.000,9,  2029.8,3,  2312.4,2,-999.0000,9,-999.0000,9, -999.00,9,    0.68,2,    40.8,2,     5.6,-999.000,9,-999.000,    1998,-999.0000,  22.6524,-999.0000, -999.00
 316N145_11,       I01W,     910,          1,         29,     SIH031,3,19950914,       1729,     8.4888,    54.8250,       4660,   250.9,  17.4991,  35.6256,3,  35.6289,2,     74.2,2,    32.8,2,   18.79,2,   24.68,2,    0.00,2,    2.03,2,-999.000,9,-999.000,9,  2216.1,2,  2326.1,2,-999.0000,9,-999.0000,9, -999.00,9, -999.00,9,  -999.0,9,    -9.0,-999.000,9,-999.000,    2496,-999.0000,  17.4566,-999.0000, -999.00
 316N145_11,       I01W,     910,          1,         28,     SIH032,2,19950914,       1729,     8.4888,    54.8250,       4660,   301.3,  14.5052,  35.4279,2,  35.4196,2,     33.9,2,    40.4,2,   22.73,2,   26.06,2,    0.00,2,    2.05,2,   0.736,2,   0.400,2,  2223.9,2,  2322.4,2,-999.0000,9,-999.0000,9, -999.00,9,    0.03,2,    -2.9,2,     3.4,-999.000,9,-999.000,    3000,-999.0000,  14.4602,-999.0000, -999.00
 316N145_11,       I01W,     910,          1,         27,     SIH033,2,19950914,       1729,     8.4888,    54.8250,       4660,   401.3,  12.5001,  35.4122,2,  35.4440,2,     48.2,2,    56.8,2,   25.57,2,   25.82,2,    0.05,2,    1.95,2,-999.000,9,-999.000,9,  -999.0,9,  -999.0,9,-999.0000,9,-999.0000,9, -999.00,9,    0.16,2,   -30.5,2,     3.4,-999.000,9,-999.000,    4000,-999.0000,  12.4457,-999.0000, -999.00
 316N145_11,       I01W,     910,          1,         26,     SIH037,2,19950914,       1729,     8.4888,    54.8250,       4660,   496.8,  11.4893,  35.3293,2,  35.3297,2,     36.1,2,    39.4,2,   34.39,2,   30.89,2,    0.00,2,    2.29,2,   0.277,2,   0.156,2,  -999.0,9,  -999.0,9,-999.0000,9,-999.0000,9, -999.00,9,    0.14,2,   -62.6,2,     3.4,-999.000,9,-999.000,    4956,-999.0000,  11.4254,-999.0000, -999.00
 316N145_11,       I01W,     910,          1,         25,     SI9446,3,19950914,       1729,     8.4888,    54.8250,       4660,   597.1,  10.7068,  35.3003,3,  35.2964,2,     28.8,2,    34.9,2,   41.40,2,   32.57,2,    0.00,2,    2.44,2,-999.000,9,-999.000,9,  -999.0,9,  -999.0,9,-999.0000,9,-999.0000,9, -999.00,9,    0.13,2,   -83.3,2,     3.8,-999.000,9,-999.000,    5959,-999.0000,  10.6328,-999.0000, -999.00
 316N145_11,       I01W,     910,          1,         24,     SIH036,2,19950914,       1729,     8.4888,    54.8250,       4660,   698.0,  10.4229,  35.3712,2,  35.3658,2,     25.8,2,    25.1,2,   49.68,2,   33.64,2,    0.01,2,    2.57,2,   0.133,3,   0.041,2,  -999.0,9,  -999.0,9,-999.0000,9,-999.0000,9, -999.00,9,    0.04,2,  -102.8,2,     4.5,-999.000,9,-999.000,    6968,-999.0000,  10.3374,-999.0000, -999.00
 316N145_11,       I01W,     910,          1,         23,     SIH001,2,19950914,       1729,     8.4888,    54.8250,       4660,   798.0,   9.4981,  35.3046,2,  35.3068,2,     28.0,2,    27.5,3,   59.66,2,   35.07,2,    0.00,2,    2.65,2,-999.000,9,-999.000,9,  -999.0,9,  -999.0,9,-999.0000,9,-999.0000,9, -999.00,9,   -0.02,2,  -114.2,2,     3.2,-999.000,9,-999.000,    7969,-999.0000,   9.4052,-999.0000, -999.00
 316N145_11,       I01W,     910,          1,         22,     SIH019,2,19950914,       1729,     8.4888,    54.8250,       4660,   898.2,   8.8534,  35.2675,2,  35.2678,2,     30.2,2,    30.8,3,   67.03,2,   35.92,2,    0.00,2,    2.70,2,   0.029,2,   0.012,2,  -999.0,9,  -999.0,9,-999.0000,9,-999.0000,9, -999.00,9,   -0.03,2,  -119.8,2,     4.2,-999.000,9,-999.000,    8971,-999.0000,   8.7525,-999.0000, -999.00
 316N145_11,       I01W,     910,          1,         21,     SIH025,2,19950914,       1729,     8.4888,    54.8250,       4660,   999.5,   8.1716,  35.2190,2,  35.2188,2,     35.3,2,    35.2,3,   73.59,2,   36.38,2,    0.00,2,    2.73,2,-999.000,9,-999.000,9,  -999.0,9,  -999.0,9,-999.0000,9,-999.0000,9, -999.00,9,    0.04,2,  -131.6,2,     3.2,-999.000,9,-999.000,    9985,-999.0000,   8.0638,-999.0000, -999.00
 316N145_11,       I01W,     910,          1,         20,     SIH004,2,19950914,       1729,     8.4888,    54.8250,       4660,  1200.5,   6.6784,  35.0861,2,  35.0864,2,     52.4,2,    51.5,2,   87.47,2,   37.11,2,    0.00,2,    2.77,2,   0.011,2,   0.006,2,  -999.0,9,  -999.0,9,-999.0000,9,-999.0000,9, -999.00,9,   -0.03,2,  -151.2,2,     3.0,-999.000,9,-999.000,   11996,-999.0000,   6.5605,-999.0000, -999.00
 316N145_11,       I01W,     910,          1,         19,     SIH005,2,19950914,       1729,     8.4888,    54.8250,       4660,  1397.5,   5.5988,  34.9933,2,  34.9943,2,     66.6,2,    65.8,2,   97.43,2,   37.40,2,    0.00,2,    2.78,2,-999.000,9,-999.000,9,  -999.0,9,  -999.0,9,-999.0000,9,-999.0000,9, -999.00,9,   -0.04,2,  -164.4,2,     2.8,-999.000,9,-999.000,   13967,-999.0000,   5.4710,-999.0000, -999.00
 316N145_11,       I01W,     910,          1,         18,     SIH006,2,19950914,       1729,     8.4888,    54.8250,       4660,  1599.5,   4.7230,  34.9445,2,  34.9445,2,     81.0,2,    79.5,2,  107.89,2,   37.31,2,    0.00,2,    2.77,2,  -0.001,2,   0.000,2,  -999.0,9,  -999.0,9,-999.0000,9,-999.0000,9, -999.00,9,   -0.09,2,  -169.3,2,     4.4,-999.000,9,-999.000,   15989,-999.0000,   4.5851,-999.0000, -999.00
 316N145_11,       I01W,     910,          1,         17,     SIH038,2,19950914,       1729,     8.4888,    54.8250,       4660,  1800.2,   3.7351,  34.8711,2,  34.8725,2,     97.2,2,    95.6,2,  118.90,2,   36.81,2,    0.00,2,    2.71,2,-999.000,9,-999.000,9,  -999.0,9,  -999.0,9,-999.0000,9,-999.0000,9, -999.00,9,   -0.01,2,  -174.1,2,     4.5,-999.000,9,-999.000,   17996,-999.0000,   3.5907,-999.0000, -999.00
 316N145_11,       I01W,     910,          1,         16,     SIH008,2,19950914,       1729,     8.4888,    54.8250,       4660,  1997.6,   3.0631,  34.8240,2,  34.8249,2,    111.9,2,   111.8,2,  126.10,2,   36.42,2,    0.00,2,    2.64,2,   0.001,2,   0.001,2,  -999.0,9,  -999.0,9,-999.0000,9,-999.0000,9, -999.00,9, -999.00,9,  -999.0,9,    -9.0,-999.000,9,-999.000,   19971,-999.0000,   2.9102,-999.0000, -999.00
 316N145_11,       I01W,     910,          1,         15,     SIH009,2,19950914,       1729,     8.4888,    54.8250,       4660,  2199.9,   2.5995,  34.7906,2,  34.7921,2,    125.1,2,   126.1,2,  129.16,2,   35.98,2,    0.00,2,    2.58,2,-999.000,9,-999.000,9,  -999.0,9,  -999.0,9,-999.0000,9,-999.0000,9, -999.00,9, -999.00,9,  -999.0,9,    -9.0,-999.000,9,-999.000,   21996,-999.0000,   2.4355,-999.0000, -999.00
 316N145_11,       I01W,     910,          1,         14,     SIH010,2,19950914,       1729,     8.4888,    54.8250,       4660,  2397.3,   2.2946,  34.7709,2,  34.7708,2,    135.7,2,   136.4,2,  131.11,2,   35.59,2,   -0.01,2,    2.54,2,  -0.001,2,  -0.001,2,  -999.0,9,  -999.0,9,-999.0000,9,-999.0000,9, -999.00,9, -999.00,9,  -999.0,9,    -9.0,-999.000,9,-999.000,   23972,-999.0000,   2.1179,-999.0000, -999.00
 316N145_11,       I01W,     910,          1,         13,     SIH011,2,19950914,       1729,     8.4888,    54.8250,       4660,  2594.9,   2.1422,  34.7633,2,  34.7638,2,    141.8,2,   140.4,2,  133.25,2,   35.54,2,    0.00,2,    2.52,2,-999.000,9,-999.000,9,  -999.0,9,  -999.0,9,-999.0000,9,-999.0000,9, -999.00,9, -999.00,9,  -999.0,9,    -9.0,-999.000,9,-999.000,   25949,-999.0000,   1.9500,-999.0000, -999.00
 316N145_11,       I01W,     910,          1,         12,     SIH012,2,19950914,       1729,     8.4888,    54.8250,       4660,  2797.2,   2.0052,  34.7555,2,  34.7549,2,    148.4,2,   146.1,2,  133.77,2,   35.29,2,    0.00,2,    2.48,2,  -0.001,2,  -0.001,2,  -999.0,9,  -999.0,9,-999.0000,9,-999.0000,9, -999.00,9, -999.00,9,  -999.0,9,    -9.0,-999.000,9,-999.000,   27973,-999.0000,   1.7966,-999.0000, -999.00
 316N145_11,       I01W,     910,          1,         11,     SI9426,2,19950914,       1729,     8.4888,    54.8250,       4660,  2995.9,   1.8857,  34.7479,2,  34.7484,2,    154.2,2,   153.6,2,  134.10,2,   35.05,2,    0.00,2,    2.45,2,-999.000,9,-999.000,9,  -999.0,9,  -999.0,9,-999.0000,9,-999.0000,9, -999.00,9, -999.00,9,  -999.0,9,    -9.0,-999.000,9,-999.000,   29962,-999.0000,   1.6605,-999.0000, -999.00
 316N145_11,       I01W,     910,          1,         10,     SIH014,2,19950914,       1729,     8.4888,    54.8250,       4660,  3199.5,   1.8030,  34.7432,2,  34.7439,2,    154.7,2,   156.2,2,  134.80,2,   34.86,2,    0.00,2,    2.44,2,  -0.001,2,  -0.001,2,  -999.0,9,  -999.0,9,-999.0000,9,-999.0000,9, -999.00,9, -999.00,9,  -999.0,9,    -9.0,-999.000,9,-999.000,   31999,-999.0000,   1.5595,-999.0000, -999.00
 316N145_11,       I01W,     910,          1,          9,     SIH015,2,19950914,       1729,     8.4888,    54.8250,       4660,  3396.7,   1.7304,  34.7392,2,  34.7396,2,    156.8,2,   159.4,2,  134.58,2,   34.46,2,    0.00,2,    2.42,2,-999.000,9,-999.000,9,  -999.0,9,  -999.0,9,-999.0000,9,-999.0000,9, -999.00,9, -999.00,9,  -999.0,9,    -9.0,-999.000,9,-999.000,   33972,-999.0000,   1.4687,-999.0000, -999.00
 316N145_11,       I01W,     910,          1,          8,     SIH016,2,19950914,       1729,     8.4888,    54.8250,       4660,  3600.5,   1.6680,  34.7348,2,  34.7351,2,    164.6,2,   162.9,2,  134.38,2,   34.37,2,   -0.01,2,    2.40,2,  -0.002,2,  -0.001,2,  -999.0,9,  -999.0,9,-999.0000,9,-999.0000,9, -999.00,9, -999.00,9,  -999.0,9,    -9.0,-999.000,9,-999.000,   36012,-999.0000,   1.3870,-999.0000, -999.00
 316N145_11,       I01W,     910,          1,          7,     SIH017,2,19950914,       1729,     8.4888,    54.8250,       4660,  3793.8,   1.5815,  34.7299,2,  34.9803,4,    172.1,2,    72.3,4,  101.54,4,   36.97,4,   -0.01,4,    2.75,4,-999.000,9,-999.000,9,  -999.0,9,  -999.0,9,-999.0000,9,-999.0000,9, -999.00,9, -999.00,9,  -999.0,9,    -9.0,-999.000,9,-999.000,   37947,-999.0000,   1.2823,-999.0000, -999.00
 316N145_11,       I01W,     910,          1,          6,     SIH018,2,19950914,       1729,     8.4888,    54.8250,       4660,  3997.4,   1.5047,  34.7263,2,  34.7262,2,    173.4,2,   174.3,2,  132.87,2,   34.03,2,    0.00,2,    2.37,2,  -0.002,2,  -0.002,2,  -999.0,9,  -999.0,9,-999.0000,9,-999.0000,9, -999.00,9, -999.00,9,  -999.0,9,    -9.0,-999.000,9,-999.000,   39984,-999.0000,   1.1857,-999.0000, -999.00
 316N145_11,       I01W,     910,          1,          5,     SIH002,2,19950914,       1729,     8.4888,    54.8250,       4660,  4196.6,   1.4400,  34.7229,2,  34.7231,2,    176.5,2,   178.1,2,  132.84,2,   33.74,2,    0.00,2,    2.35,2,-999.000,9,-999.000,9,  -999.0,9,  -999.0,9,-999.0000,9,-999.0000,9, -999.00,9, -999.00,9,  -999.0,9,    -9.0,-999.000,9,-999.000,   41977,-999.0000,   1.1009,-999.0000, -999.00
 316N145_11,       I01W,     910,          1,          4,     SIH020,2,19950914,       1729,     8.4888,    54.8250,       4660,  4395.9,   1.3908,  34.7205,2,  34.7207,2,    183.7,2,   181.4,2,  132.98,2,   33.50,2,   -0.01,2,    2.33,2,   0.000,2,  -0.001,2,  -999.0,9,  -999.0,9,-999.0000,9,-999.0000,9, -999.00,9, -999.00,9,  -999.0,9,    -9.0,-999.000,9,-999.000,   43971,-999.0000,   1.0309,-999.0000, -999.00
 316N145_11,       I01W,     910,          1,          3,     SIH021,2,19950914,       1729,     8.4888,    54.8250,       4660,  4599.5,   1.3745,  34.7192,2,  34.7193,2,    184.6,2,   183.7,2,  133.32,2,   33.60,2,    0.00,2,    2.34,2,-999.000,9,-999.000,9,  -999.0,9,  -999.0,9,-999.0000,9,-999.0000,9, -999.00,9, -999.00,9,  -999.0,9,    -9.0,-999.000,9,-999.000,   46009,-999.0000,   0.9917,-999.0000, -999.00
 316N145_11,       I01W,     910,          1,          2,     SIH022,2,19950914,       1729,     8.4888,    54.8250,       4660,  4701.4,   1.3769,  34.7186,2,  34.7191,2,    185.1,2,   184.8,2,  133.47,2,   33.56,2,    0.00,2,    2.33,2,   0.002,2,   0.001,2,  -999.0,9,  -999.0,9,-999.0000,9,-999.0000,9, -999.00,9, -999.00,9,  -999.0,9,    -9.0,-999.000,9,-999.000,   47029,-999.0000,   0.9822,-999.0000, -999.00
 316N145_11,       I01W,     910,          1,          1,     SIH023,2,19950914,       1729,     8.4888,    54.8250,       4660,  4752.5,   1.3803,  34.7196,2,  34.7193,2,    186.1,2,   184.4,2,  134.17,2,   33.59,2,    0.00,2,    2.32,2,  -0.002,2,  -0.001,2,  -999.0,9,  -999.0,9,-999.0000,9,-999.0000,9, -999.00,9, -999.00,9,  -999.0,9,    -9.0,-999.000,9,-999.000,   47539,-999.0000,   0.9794,-999.0000, -999.00