BOTTLE,20211119CCHSIORKP
# Original header:
# Original header:
# Original header:
# Changed all fill flags to 9
# Merged parameters: TRITUM, TRITER, DELHER, DELC13_FLAG_W, C14ERR
# THETA  units changed from 'ITS-90'  to 'DEG C',   to conform to Exchange format
# CFC-11 units changed from 'PM/KG'   to 'PMOL/KG', to conform to Exchange format
# CFC-12 units changed from 'PM/KG'   to 'PMOL/KG', to conform to Exchange format
# HELIUM units changed from 'UMOL/KG' to 'NMOL/KG', to correct units to originally submitted units, 2000.10.17_I01W_TRITIUM_HELIUM_JENKINS/heformat.txt
#code : jjward hyd_to_exchange.pl 
#original files copied from HTML directory: June 13, 2005
#original HYD file: i01why.txt   Mon Jun 13 14:27:40 2005
#original SUM file: i01wsu.txt   Tue Jan  8 13:22:58 2002
EXPOCODE,SECT_ID,STNNBR,CASTNO,SAMPNO,BTLNBR,BTLNBR_FLAG_W,DATE,TIME,LATITUDE,LONGITUDE,DEPTH,CTDPRS,CTDTMP,CTDSAL,CTDSAL_FLAG_W,SALNTY,SALNTY_FLAG_W,CTDOXY,CTDOXY_FLAG_W,OXYGEN,OXYGEN_FLAG_W,SILCAT,SILCAT_FLAG_W,NITRAT,NITRAT_FLAG_W,NITRIT,NITRIT_FLAG_W,PHSPHT,PHSPHT_FLAG_W,CFC-11,CFC-11_FLAG_W,CFC-12,CFC-12_FLAG_W,TCARBN,TCARBN_FLAG_W,ALKALI,ALKALI_FLAG_W,TRITUM,TRITUM_FLAG_W,HELIUM,HELIUM_FLAG_W,DELHE3,DELHE3_FLAG_W,DELC13,DELC13_FLAG_W,DELC14,DELC14_FLAG_W,C14ERR,NEON,NEON_FLAG_W,NEONER,CTDRAW,TRITER,THETA,HELIER,DELHER
,,,,,,,,,,,METERS,DBAR,ITS-90,PSS-78,,PSS-78,,UMOL/KG,,UMOL/KG,,UMOL/KG,,UMOL/KG,,UMOL/KG,,UMOL/KG,,PMOL/KG,,PMOL/KG,,UMOL/KG,,UMOL/KG,,TU,,NMOL/KG,,PERCNT,,/MILLE,,/MILLE,,/MILLE,NMOL/KG,,NMOL/KG,DBAR,TU,DEG C,NMOL/KG,PERCNT
 316N145_11,       I01W,     857,          1,         36,     SIH024,2,19950830,       0013,    22.4638,    61.2000,       3215,  3231.6,   1.7847,  34.7420,2,  34.7414,2,    105.3,2,   105.9,2,  156.65,2,   38.34,2,    0.00,2,    2.75,2,   0.180,4,   0.105,2,  -999.0,9,  -999.0,9,-999.0000,9,-999.0000,9, -999.00,9, -999.00,9,  -999.0,9,    -9.0,-999.000,9,-999.000,   32339,-999.0000,   1.5384,-999.0000, -999.00
 316N145_11,       I01W,     857,          1,         35,     SIH003,2,19950830,       0013,    22.4638,    61.2000,       3215,  3231.7,   1.7851,  34.7417,2,  34.7423,2,    105.3,2,   106.3,2,  156.90,2,   38.26,2,    0.00,2,    2.75,2,   0.214,4,   0.103,2,  -999.0,9,  -999.0,9,-999.0000,9,-999.0000,9, -999.00,9, -999.00,9,  -999.0,9,    -9.0,-999.000,9,-999.000,   32338,-999.0000,   1.5388,-999.0000, -999.00
 316N145_11,       I01W,     857,          1,         34,     SIH026,2,19950830,       0013,    22.4638,    61.2000,       3215,  3232.9,   1.7846,  34.7416,2,  34.7414,2,    105.7,2,   104.7,2,  156.96,2,   38.42,2,    0.00,2,    2.75,2,   0.046,2,   0.113,2,  -999.0,9,  -999.0,9,-999.0000,9,-999.0000,9, -999.00,9, -999.00,9,  -999.0,9,    -9.0,-999.000,9,-999.000,   32351,-999.0000,   1.5381,-999.0000, -999.00
 316N145_11,       I01W,     857,          1,         33,     SIH027,2,19950830,       0013,    22.4638,    61.2000,       3215,  3232.9,   1.7846,  34.7416,2,  34.7410,2,    105.7,2,   106.2,2,  156.65,2,   38.39,2,    0.00,2,    2.75,2,   0.032,2,   0.094,2,  -999.0,9,  -999.0,9,-999.0000,9,-999.0000,9, -999.00,9, -999.00,9,  -999.0,9,    -9.0,-999.000,9,-999.000,   32351,-999.0000,   1.5381,-999.0000, -999.00
 316N145_11,       I01W,     857,          1,         32,     SIH028,2,19950830,       0013,    22.4638,    61.2000,       3215,  3232.9,   1.7846,  34.7416,2,  34.7421,2,    105.7,2,   106.2,2,  157.08,2,   38.50,2,    0.00,2,    2.76,2,   0.036,2,   0.110,2,  -999.0,9,  -999.0,9,-999.0000,9,-999.0000,9, -999.00,9, -999.00,9,  -999.0,9,    -9.0,-999.000,9,-999.000,   32351,-999.0000,   1.5381,-999.0000, -999.00
 316N145_11,       I01W,     857,          1,         31,     SIH029,2,19950830,       0013,    22.4638,    61.2000,       3215,  3232.9,   1.7846,  34.7416,2,  34.7414,2,    105.7,2,   106.5,2,  157.14,2,   38.32,2,    0.00,2,    2.75,2,   0.056,3,   0.111,2,  -999.0,9,  -999.0,9,-999.0000,9,-999.0000,9, -999.00,9, -999.00,9,  -999.0,9,    -9.0,-999.000,9,-999.000,   32351,-999.0000,   1.5381,-999.0000, -999.00
 316N145_11,       I01W,     857,          1,         30,     SIH030,2,19950830,       0013,    22.4638,    61.2000,       3215,  3232.9,   1.7846,  34.7416,2,  34.7419,2,    105.7,2,   106.2,2,  157.20,2,   38.44,2,    0.00,2,    2.75,2,-999.000,9,-999.000,9,  -999.0,9,  -999.0,9,-999.0000,9,-999.0000,9, -999.00,9, -999.00,9,  -999.0,9,    -9.0,-999.000,9,-999.000,   32351,-999.0000,   1.5381,-999.0000, -999.00
 316N145_11,       I01W,     857,          1,         29,     SIH031,2,19950830,       0013,    22.4638,    61.2000,       3215,  3232.9,   1.7846,  34.7416,2,  34.7423,2,    105.7,2,   105.3,2,  156.90,2,   38.45,2,    0.00,2,    2.75,2,   0.034,2,   0.109,2,  -999.0,9,  -999.0,9,-999.0000,9,-999.0000,9, -999.00,9, -999.00,9,  -999.0,9,    -9.0,-999.000,9,-999.000,   32351,-999.0000,   1.5381,-999.0000, -999.00
 316N145_11,       I01W,     857,          1,         28,     SIH032,2,19950830,       0013,    22.4638,    61.2000,       3215,  3232.9,   1.7846,  34.7416,2,  34.7433,2,    105.7,2,   105.5,2,  157.14,2,   38.57,2,    0.00,2,    2.75,2,   0.037,2,   0.099,2,  -999.0,9,  -999.0,9,-999.0000,9,-999.0000,9, -999.00,9, -999.00,9,  -999.0,9,    -9.0,-999.000,9,-999.000,   32351,-999.0000,   1.5381,-999.0000, -999.00
 316N145_11,       I01W,     857,          1,         27,     SIH033,2,19950830,       0013,    22.4638,    61.2000,       3215,  3232.9,   1.7846,  34.7416,2,  34.7414,2,    105.7,2,   106.1,2,  157.01,2,   38.49,2,    0.00,2,    2.74,2,   0.036,3,   0.116,2,  -999.0,9,  -999.0,9,-999.0000,9,-999.0000,9, -999.00,9, -999.00,9,  -999.0,9,    -9.0,-999.000,9,-999.000,   32351,-999.0000,   1.5381,-999.0000, -999.00
 316N145_11,       I01W,     857,          1,         26,     SIH037,2,19950830,       0013,    22.4638,    61.2000,       3215,  3232.9,   1.7846,  34.7416,2,  34.7419,2,    105.7,2,   106.5,2,  157.26,2,   38.50,2,    0.00,2,    2.75,2,   0.037,2,   0.120,2,  -999.0,9,  -999.0,9,-999.0000,9,-999.0000,9, -999.00,9, -999.00,9,  -999.0,9,    -9.0,-999.000,9,-999.000,   32351,-999.0000,   1.5381,-999.0000, -999.00
 316N145_11,       I01W,     857,          1,         25,     SI9446,2,19950830,       0013,    22.4638,    61.2000,       3215,  3232.9,   1.7846,  34.7416,2,  34.7402,2,    105.7,2,   105.8,2,  156.95,2,   38.52,2,    0.00,2,    2.75,2,   0.037,2,   0.108,2,  -999.0,9,  -999.0,9,-999.0000,9,-999.0000,9, -999.00,9, -999.00,9,  -999.0,9,    -9.0,-999.000,9,-999.000,   32351,-999.0000,   1.5381,-999.0000, -999.00
 316N145_11,       I01W,     857,          1,         24,     SIH036,2,19950830,       0013,    22.4638,    61.2000,       3215,  3232.9,   1.7846,  34.7416,2,  34.7414,2,    105.7,2,   106.5,2,  157.20,2,   38.58,2,    0.00,2,    2.77,2,   0.039,2,   0.109,2,  -999.0,9,  -999.0,9,-999.0000,9,-999.0000,9, -999.00,9, -999.00,9,  -999.0,9,    -9.0,-999.000,9,-999.000,   32351,-999.0000,   1.5381,-999.0000, -999.00
 316N145_11,       I01W,     857,          1,         23,     SIH001,2,19950830,       0013,    22.4638,    61.2000,       3215,  3232.9,   1.7846,  34.7416,2,  34.7416,2,    105.7,2,   105.6,2,  156.70,2,   38.55,2,    0.00,2,    2.75,2,   0.033,2,   0.097,2,  -999.0,9,  -999.0,9,-999.0000,9,-999.0000,9, -999.00,9, -999.00,9,  -999.0,9,    -9.0,-999.000,9,-999.000,   32351,-999.0000,   1.5381,-999.0000, -999.00
 316N145_11,       I01W,     857,          1,         22,     SIH019,2,19950830,       0013,    22.4638,    61.2000,       3215,  3232.9,   1.7846,  34.7416,2,  34.7390,2,    105.7,2,   106.2,2,  156.58,2,   38.47,2,    0.00,2,    2.75,2,   0.035,2,   0.106,2,  -999.0,9,  -999.0,9,-999.0000,9,-999.0000,9, -999.00,9, -999.00,9,  -999.0,9,    -9.0,-999.000,9,-999.000,   32351,-999.0000,   1.5381,-999.0000, -999.00
 316N145_11,       I01W,     857,          1,         21,     SIH025,2,19950830,       0013,    22.4638,    61.2000,       3215,  3232.9,   1.7846,  34.7455,2,  34.7421,2,    106.2,2,   105.9,2,  156.82,2,   38.34,2,    0.00,2,    2.76,2,   0.037,2,   0.110,2,  -999.0,9,  -999.0,9,-999.0000,9,-999.0000,9, -999.00,9, -999.00,9,  -999.0,9,    -9.0,-999.000,9,-999.000,   32351,-999.0000,   1.5381,-999.0000, -999.00
 316N145_11,       I01W,     857,          1,         20,     SIH004,2,19950830,       0013,    22.4638,    61.2000,       3215,  3232.9,   1.7846,  34.7455,2,  34.7421,2,    106.2,2,   106.5,2,  156.88,2,   38.45,2,    0.00,2,    2.75,2,   0.034,2,   0.098,2,  -999.0,9,  -999.0,9,-999.0000,9,-999.0000,9, -999.00,9, -999.00,9,  -999.0,9,    -9.0,-999.000,9,-999.000,   32351,-999.0000,   1.5381,-999.0000, -999.00
 316N145_11,       I01W,     857,          1,         19,     SIH005,2,19950830,       0013,    22.4638,    61.2000,       3215,  3232.9,   1.7846,  34.7455,2,  34.7418,2,    106.2,2,   106.2,2,  157.13,2,   38.47,2,    0.00,2,    2.75,2,   0.036,2,   0.110,2,  -999.0,9,  -999.0,9,-999.0000,9,-999.0000,9, -999.00,9, -999.00,9,  -999.0,9,    -9.0,-999.000,9,-999.000,   32351,-999.0000,   1.5381,-999.0000, -999.00
 316N145_11,       I01W,     857,          1,         18,     SIH006,2,19950830,       0013,    22.4638,    61.2000,       3215,  3232.9,   1.7846,  34.7455,2,  34.7441,2,    106.2,2,   105.6,2,  157.38,2,   38.49,2,    0.00,2,    2.75,2,   0.035,2,   0.097,2,  -999.0,9,  -999.0,9,-999.0000,9,-999.0000,9, -999.00,9, -999.00,9,  -999.0,9,    -9.0,-999.000,9,-999.000,   32351,-999.0000,   1.5381,-999.0000, -999.00
 316N145_11,       I01W,     857,          1,         17,     SIH038,2,19950830,       0013,    22.4638,    61.2000,       3215,  3232.9,   1.7846,  34.7455,2,  34.7416,2,    106.2,2,   105.6,2,  156.69,2,   38.50,2,    0.00,2,    2.75,2,   0.038,2,   0.103,2,  -999.0,9,  -999.0,9,-999.0000,9,-999.0000,9, -999.00,9, -999.00,9,  -999.0,9,    -9.0,-999.000,9,-999.000,   32351,-999.0000,   1.5381,-999.0000, -999.00
 316N145_11,       I01W,     857,          1,         16,     SIH008,2,19950830,       0013,    22.4638,    61.2000,       3215,  3232.9,   1.7846,  34.7455,2,  34.7418,2,    106.2,2,   106.5,2,  157.12,2,   38.52,2,    0.00,2,    2.76,2,   0.039,2,   0.110,2,  -999.0,9,  -999.0,9,-999.0000,9,-999.0000,9, -999.00,9, -999.00,9,  -999.0,9,    -9.0,-999.000,9,-999.000,   32351,-999.0000,   1.5381,-999.0000, -999.00
 316N145_11,       I01W,     857,          1,         15,     SIH009,2,19950830,       0013,    22.4638,    61.2000,       3215,  3232.9,   1.7846,  34.7455,2,  34.7315,2,    106.2,3,   106.5,2,  156.63,2,   38.54,2,    0.00,2,    2.74,2,   0.035,2,   0.101,2,  -999.0,9,  -999.0,9,-999.0000,9,-999.0000,9, -999.00,9, -999.00,9,  -999.0,9,    -9.0,-999.000,9,-999.000,   32351,-999.0000,   1.5381,-999.0000, -999.00
 316N145_11,       I01W,     857,          1,         14,     SIH010,2,19950830,       0013,    22.4638,    61.2000,       3215,  3232.9,   1.7846,  34.7455,2,  34.7370,2,    106.2,2,   105.5,2,  156.88,2,   38.55,2,    0.00,2,    2.74,2,   0.037,2,   0.108,2,  -999.0,9,  -999.0,9,-999.0000,9,-999.0000,9, -999.00,9, -999.00,9,  -999.0,9,    -9.0,-999.000,9,-999.000,   32351,-999.0000,   1.5381,-999.0000, -999.00
 316N145_11,       I01W,     857,          1,         13,     SIH011,2,19950830,       0013,    22.4638,    61.2000,       3215,  3232.9,   1.7846,  34.7455,2,  34.7419,2,    106.2,2,   106.5,2,  156.94,2,   38.62,2,    0.00,2,    2.74,2,   0.046,2,   0.117,2,  -999.0,9,  -999.0,9,-999.0000,9,-999.0000,9, -999.00,9, -999.00,9,  -999.0,9,    -9.0,-999.000,9,-999.000,   32351,-999.0000,   1.5381,-999.0000, -999.00
 316N145_11,       I01W,     857,          1,         12,     SIH012,2,19950830,       0013,    22.4638,    61.2000,       3215,  3232.9,   1.7846,  34.7455,2,  34.7408,2,    106.2,2,   106.5,2,  157.18,2,   38.59,2,    0.00,2,    2.75,2,   0.036,2,   0.091,2,  -999.0,9,  -999.0,9,-999.0000,9,-999.0000,9, -999.00,9, -999.00,9,  -999.0,9,    -9.0,-999.000,9,-999.000,   32351,-999.0000,   1.5381,-999.0000, -999.00
 316N145_11,       I01W,     857,          1,         11,     SI9426,2,19950830,       0013,    22.4638,    61.2000,       3215,  3232.9,   1.7846,  34.7455,2,  34.7400,2,    106.2,2,   106.5,2,  156.87,2,   38.60,2,    0.00,2,    2.75,2,   0.034,2,   0.102,2,  -999.0,9,  -999.0,9,-999.0000,9,-999.0000,9, -999.00,9, -999.00,9,  -999.0,9,    -9.0,-999.000,9,-999.000,   32351,-999.0000,   1.5381,-999.0000, -999.00
 316N145_11,       I01W,     857,          1,         10,     SIH014,2,19950830,       0013,    22.4638,    61.2000,       3215,  3232.9,   1.7846,  34.7455,2,  34.7372,2,    106.2,2,   105.6,2,  156.74,2,   38.52,2,    0.00,2,    2.75,2,   0.036,2,   0.105,2,  -999.0,9,  -999.0,9,-999.0000,9,-999.0000,9, -999.00,9, -999.00,9,  -999.0,9,    -9.0,-999.000,9,-999.000,   32351,-999.0000,   1.5381,-999.0000, -999.00
 316N145_11,       I01W,     857,          1,          9,     SIH015,2,19950830,       0013,    22.4638,    61.2000,       3215,  3232.9,   1.7846,  34.7455,2,  34.7404,2,    106.2,2,   105.9,2,  157.17,2,   38.64,2,    0.00,2,    2.75,2,   0.034,2,   0.108,2,  -999.0,9,  -999.0,9,-999.0000,9,-999.0000,9, -999.00,9, -999.00,9,  -999.0,9,    -9.0,-999.000,9,-999.000,   32351,-999.0000,   1.5381,-999.0000, -999.00
 316N145_11,       I01W,     857,          1,          8,     SIH016,2,19950830,       0013,    22.4638,    61.2000,       3215,  3232.9,   1.7846,  34.7455,2,  34.7412,2,    106.2,2,   106.4,2,  157.05,2,   38.65,2,    0.00,2,    2.75,2,   0.034,2,   0.107,2,  -999.0,9,  -999.0,9,-999.0000,9,-999.0000,9, -999.00,9, -999.00,9,  -999.0,9,    -9.0,-999.000,9,-999.000,   32351,-999.0000,   1.5381,-999.0000, -999.00
 316N145_11,       I01W,     857,          1,          7,     SIH017,2,19950830,       0013,    22.4638,    61.2000,       3215,  3232.9,   1.7846,  34.7455,2,  34.7419,2,    106.2,2,   105.5,2,  157.30,2,   38.71,2,    0.00,2,    2.75,2,   0.037,2,   0.096,2,  -999.0,9,  -999.0,9,-999.0000,9,-999.0000,9, -999.00,9, -999.00,9,  -999.0,9,    -9.0,-999.000,9,-999.000,   32351,-999.0000,   1.5381,-999.0000, -999.00
 316N145_11,       I01W,     857,          1,          6,     SIH018,2,19950830,       0013,    22.4638,    61.2000,       3215,  3232.9,   1.7846,  34.7455,2,  34.7416,2,    106.2,2,   106.2,2,  156.99,2,   38.72,2,    0.00,2,    2.75,2,   0.075,4,   0.183,4,  -999.0,9,  -999.0,9,-999.0000,9,-999.0000,9, -999.00,9, -999.00,9,  -999.0,9,    -9.0,-999.000,9,-999.000,   32351,-999.0000,   1.5381,-999.0000, -999.00
 316N145_11,       I01W,     857,          1,          5,     SIH002,2,19950830,       0013,    22.4638,    61.2000,       3215,  3232.9,   1.7846,  34.7455,2,  34.7357,2,    106.2,2,   107.2,2,  157.04,2,   38.74,2,    0.00,2,    2.75,2,   0.033,2,   0.097,2,  -999.0,9,  -999.0,9,-999.0000,9,-999.0000,9, -999.00,9, -999.00,9,  -999.0,9,    -9.0,-999.000,9,-999.000,   32351,-999.0000,   1.5381,-999.0000, -999.00
 316N145_11,       I01W,     857,          1,          4,     SIH020,2,19950830,       0013,    22.4638,    61.2000,       3215,  3232.9,   1.7846,  34.7455,2,  34.7412,2,    106.2,2,   106.0,2,  157.29,2,   38.76,2,    0.00,2,    2.75,2,   0.036,2,   0.105,2,  -999.0,9,  -999.0,9,-999.0000,9,-999.0000,9, -999.00,9, -999.00,9,  -999.0,9,    -9.0,-999.000,9,-999.000,   32351,-999.0000,   1.5381,-999.0000, -999.00
 316N145_11,       I01W,     857,          1,          3,     SIH021,2,19950830,       0013,    22.4638,    61.2000,       3215,  3232.9,   1.7846,  34.7455,2,  34.7412,2,    106.2,2,   105.5,2,  157.16,2,   38.77,2,    0.00,2,    2.75,2,   0.037,2,   0.106,2,  -999.0,9,  -999.0,9,-999.0000,9,-999.0000,9, -999.00,9, -999.00,9,  -999.0,9,    -9.0,-999.000,9,-999.000,   32351,-999.0000,   1.5381,-999.0000, -999.00
 316N145_11,       I01W,     857,          1,          2,     SIH022,2,19950830,       0013,    22.4638,    61.2000,       3215,  3232.9,   1.7846,  34.7455,2,  34.7414,2,    106.2,2,   105.6,2,  157.23,2,   38.79,2,    0.00,2,    2.75,2,   0.046,2,   0.111,2,  -999.0,9,  -999.0,9,-999.0000,9,-999.0000,9, -999.00,9, -999.00,9,  -999.0,9,    -9.0,-999.000,9,-999.000,   32351,-999.0000,   1.5381,-999.0000, -999.00
 316N145_11,       I01W,     857,          1,          1,     SIH023,2,19950830,       0013,    22.4638,    61.2000,       3215,  3232.9,   1.7846,  34.7455,2,  34.7416,2,    106.2,2,   105.6,2,  157.13,2,   38.83,2,    0.01,2,    2.75,2,   0.036,2,   0.105,2,  -999.0,9,  -999.0,9,-999.0000,9,-999.0000,9, -999.00,9, -999.00,9,  -999.0,9,    -9.0,-999.000,9,-999.000,   32351,-999.0000,   1.5381,-999.0000, -999.00