BOTTLE,20211119CCHSIORKP
EXPOCODE,SECT_ID,STNNBR,CASTNO,SAMPNO,BTLNBR,BTLNBR_FLAG_W,DATE,TIME,LATITUDE,LONGITUDE,DEPTH,CTDPRS,CTDTMP,CTDSAL,CTDSAL_FLAG_W,SALNTY,SALNTY_FLAG_W,CTDOXY,CTDOXY_FLAG_W,OXYGEN,OXYGEN_FLAG_W,SILCAT,SILCAT_FLAG_W,NITRAT,NITRAT_FLAG_W,NITRIT,NITRIT_FLAG_W,PHSPHT,PHSPHT_FLAG_W,CFC-11,CFC-11_FLAG_W,CFC-12,CFC-12_FLAG_W,TCARBN,TCARBN_FLAG_W,ALKALI,ALKALI_FLAG_W,TRITUM,TRITUM_FLAG_W,HELIUM,HELIUM_FLAG_W,DELHE3,DELHE3_FLAG_W,DELC13,DELC13_FLAG_W,DELC14,DELC14_FLAG_W,C14ERR,NEON,NEON_FLAG_W,NEONER,CTDRAW,TRITER,THETA,HELIER,DELHER
,,,,,,,,,,,METERS,DBAR,ITS-90,PSS-78,,PSS-78,,UMOL/KG,,UMOL/KG,,UMOL/KG,,UMOL/KG,,UMOL/KG,,UMOL/KG,,PMOL/KG,,PMOL/KG,,UMOL/KG,,UMOL/KG,,TU,,NMOL/KG,,PERCNT,,/MILLE,,/MILLE,,/MILLE,NMOL/KG,,NMOL/KG,DBAR,TU,DEG C,NMOL/KG,PERCNT
 316N145_11,       I01W,     920,          1,         33,     SIH027,2,19950917,       0215,     8.9500,    59.2333,       3525,    11.2,  26.7266,  35.9694,2,  35.9700,2,    214.8,2,   218.0,2,    2.71,2,    1.53,2,    0.31,2,    0.38,2,   1.753,2,   1.002,2,  2013.6,2,  2347.9,2,-999.0000,9,-999.0000,9, -999.00,9, -999.00,9,  -999.0,9,    -9.0,-999.000,9,-999.000,     100,-999.0000,  26.7240,-999.0000, -999.00
 316N145_11,       I01W,     920,          1,         32,     SIH028,2,19950917,       0215,     8.9500,    59.2333,       3525,    61.1,  26.5434,  36.0169,2,  36.0151,2,    207.5,2,   210.4,2,    2.71,2,    1.56,2,    0.33,2,    0.40,2,-999.000,9,-999.000,9,  2015.4,2,  2352.9,2,-999.0000,9,-999.0000,9, -999.00,9, -999.00,9,  -999.0,9,    -9.0,-999.000,9,-999.000,     598,-999.0000,  26.5295,-999.0000, -999.00
 316N145_11,       I01W,     920,          1,         31,     SIH029,2,19950917,       0215,     8.9500,    59.2333,       3525,    90.8,  26.4103,  36.0273,2,  36.0275,2,    199.8,2,   201.1,2,    2.89,2,    2.05,2,    0.51,2,    0.47,2,   1.769,3,   1.009,2,  2022.6,2,  2350.5,2,-999.0000,9,-999.0000,9, -999.00,9, -999.00,9,  -999.0,9,    -9.0,-999.000,9,-999.000,     895,-999.0000,  26.3898,-999.0000, -999.00
 316N145_11,       I01W,     920,          1,         30,     SIH030,2,19950917,       0215,     8.9500,    59.2333,       3525,   121.0,  26.1425,  36.0229,2,  36.0222,2,    173.7,2,   193.0,2,    3.08,2,    3.57,2,    0.72,2,    0.55,2,-999.000,9,-999.000,9,  2033.4,2,  2248.8,3,-999.0000,9,-999.0000,9, -999.00,9, -999.00,9,  -999.0,9,    -9.0,-999.000,9,-999.000,    1198,-999.0000,  26.1153,-999.0000, -999.00
 316N145_11,       I01W,     920,          1,         29,     SIH031,2,19950917,       0215,     8.9500,    59.2333,       3525,   150.8,  22.9650,  35.6790,2,  35.7144,2,    145.1,2,   107.8,2,    9.77,2,   16.08,2,    0.06,2,    1.31,2,   1.552,2,   0.876,2,  2122.1,2,  2332.4,2,-999.0000,9,-999.0000,9, -999.00,9, -999.00,9,  -999.0,9,    -9.0,-999.000,9,-999.000,    1496,-999.0000,  22.9342,-999.0000, -999.00
 316N145_11,       I01W,     920,          1,         28,     SIH032,2,19950917,       0215,     8.9500,    59.2333,       3525,   200.9,  17.7433,  35.5967,2,  35.6028,2,     20.4,2,    24.0,2,   19.17,2,   24.97,2,    0.01,2,    2.07,2,-999.000,9,-999.000,9,  2213.1,2,  2332.2,2,-999.0000,9,-999.0000,9, -999.00,9, -999.00,9,  -999.0,9,    -9.0,-999.000,9,-999.000,    1997,-999.0000,  17.7090,-999.0000, -999.00
 316N145_11,       I01W,     920,          1,         27,     SIH033,2,19950917,       0215,     8.9500,    59.2333,       3525,   251.0,  14.7216,  35.4873,2,  35.4762,2,     25.8,2,    25.3,2,   24.79,2,   26.81,2,    0.01,2,    2.16,2,   0.638,2,   0.346,2,  2232.3,2,  2330.9,2,-999.0000,9,-999.0000,9, -999.00,9, -999.00,9,  -999.0,9,    -9.0,-999.000,9,-999.000,    2498,-999.0000,  14.6838,-999.0000, -999.00
 316N145_11,       I01W,     920,          1,         26,     SIH037,3,19950917,       0215,     8.9500,    59.2333,       3525,   300.9,  12.5491,  35.3072,3,  35.3080,2,     32.0,2,    46.1,2,   27.15,2,   28.35,2,    0.01,2,    2.11,2,-999.000,9,-999.000,9,  2227.1,2,  2328.3,2,-999.0000,9,-999.0000,9, -999.00,9, -999.00,9,  -999.0,9,    -9.0,-999.000,9,-999.000,    2997,-999.0000,  12.5084,-999.0000, -999.00
 316N145_11,       I01W,     920,          1,         25,     SI9446,3,19950917,       0215,     8.9500,    59.2333,       3525,   401.2,  11.4843,  35.2551,3,  35.2562,2,     40.9,2,    42.7,2,   32.42,2,   30.71,2,    0.01,2,    2.25,2,   0.334,2,   0.175,2,  2237.8,2,  2336.6,2,-999.0000,9,-999.0000,9, -999.00,9, -999.00,9,  -999.0,9,    -9.0,-999.000,9,-999.000,    4000,-999.0000,  11.4329,-999.0000, -999.00
 316N145_11,       I01W,     920,          1,         24,     SIH036,2,19950917,       0215,     8.9500,    59.2333,       3525,   501.8,  10.9726,  35.2707,2,  35.2716,2,     28.6,2,    32.0,2,   38.76,2,   32.40,2,    0.01,2,    2.41,2,-999.000,9,-999.000,9,  2252.4,2,  2333.9,2,-999.0000,9,-999.0000,9, -999.00,9, -999.00,9,  -999.0,9,    -9.0,-999.000,9,-999.000,    5006,-999.0000,  10.9098,-999.0000, -999.00
 316N145_11,       I01W,     920,          1,         23,     SIH001,2,19950917,       0215,     8.9500,    59.2333,       3525,   601.5,  10.2654,  35.2721,2,  35.2718,2,     22.7,2,    22.9,2,   49.27,2,   34.29,2,    0.01,2,    2.60,2,   0.062,2,   0.031,2,  2269.7,2,  2343.4,2,-999.0000,9,-999.0000,9, -999.00,9, -999.00,9,  -999.0,9,    -9.0,-999.000,9,-999.000,    6004,-999.0000,  10.1929,-999.0000, -999.00
 316N145_11,       I01W,     920,          1,         22,     SIH019,2,19950917,       0215,     8.9500,    59.2333,       3525,   697.3,   9.8775,  35.2899,2,  35.2903,2,     20.2,2,    22.1,2,   55.44,2,   34.91,2,    0.01,2,    2.66,2,-999.000,9,-999.000,9,  2278.5,2,  2349.4,2,-999.0000,9,-999.0000,9, -999.00,9, -999.00,9,  -999.0,9,    -9.0,-999.000,9,-999.000,    6963,-999.0000,   9.7949,-999.0000, -999.00
 316N145_11,       I01W,     920,          1,         21,     SIH025,2,19950917,       0215,     8.9500,    59.2333,       3525,   797.3,  10.0490,  35.4321,2,  35.4366,2,     20.1,2,    21.0,2,   59.79,2,   34.45,2,    0.01,2,    2.67,2,   0.071,2,   0.034,2,  2283.8,2,  2357.8,2,-999.0000,9,-999.0000,9, -999.00,9, -999.00,9,  -999.0,9,    -9.0,-999.000,9,-999.000,    7962,-999.0000,   9.9529,-999.0000, -999.00
 316N145_11,       I01W,     920,          1,         20,     SIH004,2,19950917,       0215,     8.9500,    59.2333,       3525,   899.0,   8.9003,  35.3314,2,  35.3325,2,     24.2,2,    24.4,2,   69.61,2,   35.89,2,    0.01,2,    2.75,2,-999.000,9,-999.000,9,  2295.0,2,  2364.5,2,-999.0000,9,-999.0000,9, -999.00,9, -999.00,9,  -999.0,9,    -9.0,-999.000,9,-999.000,    8980,-999.0000,   8.7989,-999.0000, -999.00
 316N145_11,       I01W,     920,          1,         19,     SIH005,3,19950917,       0215,     8.9500,    59.2333,       3525,   999.6,   7.9435,  35.2353,3,  35.2355,2,     29.0,2,    30.1,2,   78.14,2,   36.83,2,    0.00,2,    2.80,2,   0.017,2,   0.008,2,  2303.4,2,  2375.8,2,-999.0000,9,-999.0000,9, -999.00,9, -999.00,9,  -999.0,9,    -9.0,-999.000,9,-999.000,    9987,-999.0000,   7.8372,-999.0000, -999.00
 316N145_11,       I01W,     920,          1,         18,     SIH006,2,19950917,       0215,     8.9500,    59.2333,       3525,  1099.9,   7.1067,  35.1431,2,  35.1413,2,     34.3,2,    39.0,2,   85.96,2,   37.34,2,    0.01,2,    2.81,2,-999.000,9,-999.000,9,  -999.0,9,  -999.0,9,-999.0000,9,-999.0000,9, -999.00,9, -999.00,9,  -999.0,9,    -9.0,-999.000,9,-999.000,   10990,-999.0000,   6.9959,-999.0000, -999.00
 316N145_11,       I01W,     920,          1,         17,     SIH038,2,19950917,       0215,     8.9500,    59.2333,       3525,  1201.5,   6.3707,  35.0758,2,  35.0754,2,     44.6,2,    48.8,2,   92.51,2,   37.55,2,    0.01,2,    2.83,2,-999.000,9,-999.000,9,  -999.0,9,  -999.0,9,-999.0000,9,-999.0000,9, -999.00,9, -999.00,9,  -999.0,9,    -9.0,-999.000,9,-999.000,   12007,-999.0000,   6.2554,-999.0000, -999.00
 316N145_11,       I01W,     920,          1,         16,     SIH008,2,19950917,       0215,     8.9500,    59.2333,       3525,  1301.8,   5.9697,  35.0509,2,  35.0498,2,     51.5,2,    53.5,2,   97.08,2,   37.57,2,    0.00,2,    2.83,2,   0.005,2,   0.000,2,  -999.0,9,  -999.0,9,-999.0000,9,-999.0000,9, -999.00,9, -999.00,9,  -999.0,9,    -9.0,-999.000,9,-999.000,   13010,-999.0000,   5.8479,-999.0000, -999.00
 316N145_11,       I01W,     920,          1,         15,     SIH009,2,19950917,       0215,     8.9500,    59.2333,       3525,  1402.5,   5.3299,  34.9907,2,  34.9923,2,     59.3,2,    60.5,2,  103.27,2,   37.68,2,    0.00,2,    2.81,2,-999.000,9,-999.000,9,  -999.0,9,  -999.0,9,-999.0000,9,-999.0000,9, -999.00,9, -999.00,9,  -999.0,9,    -9.0,-999.000,9,-999.000,   14018,-999.0000,   5.2045,-999.0000, -999.00
 316N145_11,       I01W,     920,          1,         14,     SIH010,2,19950917,       0215,     8.9500,    59.2333,       3525,  1503.5,   4.7824,  34.9477,2,  34.9412,2,     69.1,2,    72.0,2,  108.75,2,   37.49,2,    0.00,2,    2.79,2,  -0.002,2,  -0.002,2,  -999.0,9,  -999.0,9,-999.0000,9,-999.0000,9, -999.00,9, -999.00,9,  -999.0,9,    -9.0,-999.000,9,-999.000,   15028,-999.0000,   4.6531,-999.0000, -999.00
 316N145_11,       I01W,     920,          1,         13,     SIH011,2,19950917,       0215,     8.9500,    59.2333,       3525,  1598.8,   4.3399,  34.9100,2,  34.9105,2,     79.1,2,    79.1,2,  114.04,2,   37.33,2,    0.00,2,    2.76,2,-999.000,9,-999.000,9,  -999.0,9,  -999.0,9,-999.0000,9,-999.0000,9, -999.00,9, -999.00,9,  -999.0,9,    -9.0,-999.000,9,-999.000,   15982,-999.0000,   4.2067,-999.0000, -999.00
 316N145_11,       I01W,     920,          1,         12,     SIH012,2,19950917,       0215,     8.9500,    59.2333,       3525,  1800.9,   3.5123,  34.8432,2,  34.8444,2,    100.9,2,   100.6,2,  120.06,2,   36.63,2,    0.00,2,    2.68,2,-999.000,9,-999.000,9,  -999.0,9,  -999.0,9,-999.0000,9,-999.0000,9, -999.00,9, -999.00,9,  -999.0,9,    -9.0,-999.000,9,-999.000,   18004,-999.0000,   3.3709,-999.0000, -999.00
 316N145_11,       I01W,     920,          1,         11,     SI9426,2,19950917,       0215,     8.9500,    59.2333,       3525,  1998.1,   2.8793,  34.8047,2,  34.8055,2,    117.1,2,   116.5,2,  126.45,2,   36.17,2,    0.00,2,    2.62,2,-999.000,9,-999.000,9,  -999.0,9,  -999.0,9,-999.0000,9,-999.0000,9, -999.00,9, -999.00,9,  -999.0,9,    -9.0,-999.000,9,-999.000,   19978,-999.0000,   2.7292,-999.0000, -999.00
 316N145_11,       I01W,     920,          1,         10,     SIH014,2,19950917,       0215,     8.9500,    59.2333,       3525,  2201.4,   2.4739,  34.7823,2,  34.7819,2,    128.1,2,   127.7,2,  131.02,2,   35.87,2,    0.00,2,    2.58,2,-999.000,9,-999.000,9,  -999.0,9,  -999.0,9,-999.0000,9,-999.0000,9, -999.00,9, -999.00,9,  -999.0,9,    -9.0,-999.000,9,-999.000,   22012,-999.0000,   2.3118,-999.0000, -999.00
 316N145_11,       I01W,     920,          1,          9,     SIH015,2,19950917,       0215,     8.9500,    59.2333,       3525,  2397.7,   2.2859,  34.7717,2,  34.7720,2,    132.7,2,   132.6,2,  133.23,2,   35.67,2,    0.00,2,    2.55,2,  -0.001,2,   0.000,2,  -999.0,9,  -999.0,9,-999.0000,9,-999.0000,9, -999.00,9, -999.00,9,  -999.0,9,    -9.0,-999.000,9,-999.000,   23976,-999.0000,   2.1092,-999.0000, -999.00
 316N145_11,       I01W,     920,          1,          8,     SIH016,2,19950917,       0215,     8.9500,    59.2333,       3525,  2599.9,   2.0103,  34.7570,2,  34.7569,2,    139.6,2,   140.0,2,  136.35,2,   35.42,2,    0.00,2,    2.52,2,-999.000,9,-999.000,9,  -999.0,9,  -999.0,9,-999.0000,9,-999.0000,9, -999.00,9, -999.00,9,  -999.0,9,    -9.0,-999.000,9,-999.000,   26000,-999.0000,   1.8203,-999.0000, -999.00
 316N145_11,       I01W,     920,          1,          7,     SIH017,2,19950917,       0215,     8.9500,    59.2333,       3525,  2798.4,   1.9408,  34.7530,2,  34.7535,2,    143.3,2,   142.0,2,  137.48,2,   35.37,2,    0.00,2,    2.51,2,-999.000,9,-999.000,9,  -999.0,9,  -999.0,9,-999.0000,9,-999.0000,9, -999.00,9, -999.00,9,  -999.0,9,    -9.0,-999.000,9,-999.000,   27986,-999.0000,   1.7335,-999.0000, -999.00
 316N145_11,       I01W,     920,          1,          6,     SIH018,2,19950917,       0215,     8.9500,    59.2333,       3525,  2996.3,   1.7945,  34.7453,2,  34.7441,2,    149.5,2,   147.9,2,  138.78,2,   35.22,2,    0.00,2,    2.48,2,-999.000,9,-999.000,9,  -999.0,9,  -999.0,9,-999.0000,9,-999.0000,9, -999.00,9, -999.00,9,  -999.0,9,    -9.0,-999.000,9,-999.000,   29967,-999.0000,   1.5712,-999.0000, -999.00
 316N145_11,       I01W,     920,          1,          5,     SIH002,2,19950917,       0215,     8.9500,    59.2333,       3525,  3199.9,   1.7530,  34.7401,2,  34.7416,2,    153.5,2,   150.3,2,  138.98,2,   35.18,2,    0.00,2,    2.47,2,  -0.004,2,  -0.001,2,  -999.0,9,  -999.0,9,-999.0000,9,-999.0000,9, -999.00,9, -999.00,9,  -999.0,9,    -9.0,-999.000,9,-999.000,   32004,-999.0000,   1.5106,-999.0000, -999.00
 316N145_11,       I01W,     920,          1,          4,     SIH020,2,19950917,       0215,     8.9500,    59.2333,       3525,  3398.7,   1.7158,  34.7389,2,  34.7396,2,    154.1,2,   153.3,2,  138.84,2,   35.03,2,    0.00,2,    2.45,2,-999.000,9,-999.000,9,  -999.0,9,  -999.0,9,-999.0000,9,-999.0000,9, -999.00,9, -999.00,9,  -999.0,9,    -9.0,-999.000,9,-999.000,   33993,-999.0000,   1.4544,-999.0000, -999.00
 316N145_11,       I01W,     920,          1,          3,     SIH021,2,19950917,       0215,     8.9500,    59.2333,       3525,  3597.5,   1.7282,  34.7386,2,  34.7380,2,    156.1,2,   153.6,2,  138.87,2,   35.04,2,   -0.01,2,    2.46,2,-999.000,9,-999.000,9,  -999.0,9,  -999.0,9,-999.0000,9,-999.0000,9, -999.00,9, -999.00,9,  -999.0,9,    -9.0,-999.000,9,-999.000,   35983,-999.0000,   1.4459,-999.0000, -999.00
 316N145_11,       I01W,     920,          1,          2,     SIH022,2,19950917,       0215,     8.9500,    59.2333,       3525,  3796.2,   1.7427,  34.7387,2,  34.7388,2,    154.9,2,   154.3,2,  138.71,2,   34.99,2,    0.00,2,    2.46,2,   0.001,2,   0.001,2,  -999.0,9,  -999.0,9,-999.0000,9,-999.0000,9, -999.00,9, -999.00,9,  -999.0,9,    -9.0,-999.000,9,-999.000,   37972,-999.0000,   1.4389,-999.0000, -999.00
 316N145_11,       I01W,     920,          1,          1,     SIH023,2,19950917,       0215,     8.9500,    59.2333,       3525,  3846.8,   1.7464,  34.7389,2,  34.7384,2,    151.3,2,   155.5,2,  138.84,2,   34.93,2,    0.00,2,    2.46,2,  -0.003,2,   0.000,2,  -999.0,9,  -999.0,9,-999.0000,9,-999.0000,9, -999.00,9, -999.00,9,  -999.0,9,    -9.0,-999.000,9,-999.000,   38478,-999.0000,   1.4370,-999.0000, -999.00