BOTTLE,20211119CCHSIORKP
EXPOCODE,SECT_ID,STNNBR,CASTNO,SAMPNO,BTLNBR,BTLNBR_FLAG_W,DATE,TIME,LATITUDE,LONGITUDE,DEPTH,CTDPRS,CTDTMP,CTDSAL,CTDSAL_FLAG_W,SALNTY,SALNTY_FLAG_W,CTDOXY,CTDOXY_FLAG_W,OXYGEN,OXYGEN_FLAG_W,SILCAT,SILCAT_FLAG_W,NITRAT,NITRAT_FLAG_W,NITRIT,NITRIT_FLAG_W,PHSPHT,PHSPHT_FLAG_W,CFC-11,CFC-11_FLAG_W,CFC-12,CFC-12_FLAG_W,TCARBN,TCARBN_FLAG_W,ALKALI,ALKALI_FLAG_W,TRITUM,TRITUM_FLAG_W,HELIUM,HELIUM_FLAG_W,DELHE3,DELHE3_FLAG_W,DELC13,DELC13_FLAG_W,DELC14,DELC14_FLAG_W,C14ERR,NEON,NEON_FLAG_W,NEONER,CTDRAW,TRITER,THETA,HELIER,DELHER
,,,,,,,,,,,METERS,DBAR,ITS-90,PSS-78,,PSS-78,,UMOL/KG,,UMOL/KG,,UMOL/KG,,UMOL/KG,,UMOL/KG,,UMOL/KG,,PMOL/KG,,PMOL/KG,,UMOL/KG,,UMOL/KG,,TU,,NMOL/KG,,PERCNT,,/MILLE,,/MILLE,,/MILLE,NMOL/KG,,NMOL/KG,DBAR,TU,DEG C,NMOL/KG,PERCNT
 316N145_11,       I01W,     902,          1,         26,     SIH037,2,19950912,       1350,     9.4722,    51.8278,       2325,     5.9,  25.7153,  35.5383,2,  35.5364,2,    221.2,2,   214.6,2,    4.02,2,    2.18,2,    0.22,2,    0.37,2,   1.801,2,   1.033,2,  2004.1,2,  2321.2,2,-999.0000,9,-999.0000,9, -999.00,9, -999.00,9,  -999.0,9,    -9.0,-999.000,9,-999.000,      44,-999.0000,  25.7140,-999.0000, -999.00
 316N145_11,       I01W,     902,          1,         25,     SI9446,2,19950912,       1350,     9.4722,    51.8278,       2325,    27.9,  25.7107,  35.5365,2,  35.5354,2,    220.9,2,   214.8,2,    4.02,2,    2.19,2,    0.22,2,    0.37,2,-999.000,9,-999.000,9,  -999.0,9,  2324.3,2,-999.0000,9,-999.0000,9, -999.00,9, -999.00,9,  -999.0,9,    -9.0,-999.000,9,-999.000,     264,-999.0000,  25.7046,-999.0000, -999.00
 316N145_11,       I01W,     902,          1,         24,     SIH036,2,19950912,       1350,     9.4722,    51.8278,       2325,    57.9,  25.5805,  35.5235,2,  35.5212,2,    218.1,2,   218.7,2,    4.02,2,    2.37,2,    0.25,2,    0.39,2,-999.000,9,   1.035,2,  2007.3,2,  2318.7,2,-999.0000,9,-999.0000,9, -999.00,9, -999.00,9,  -999.0,9,    -9.0,-999.000,9,-999.000,     565,-999.0000,  25.5677,-999.0000, -999.00
 316N145_11,       I01W,     902,          1,         23,     SIH001,2,19950912,       1350,     9.4722,    51.8278,       2325,    87.6,  25.2358,  35.5509,2,  35.5494,2,    194.6,2,   165.8,2,    4.42,2,    3.76,2,    0.62,2,    0.51,2,-999.000,9,-999.000,9,  2021.3,2,  2320.8,2,-999.0000,9,-999.0000,9, -999.00,9, -999.00,9,  -999.0,9,    -9.0,-999.000,9,-999.000,     862,-999.0000,  25.2166,-999.0000, -999.00
 316N145_11,       I01W,     902,          1,         22,     SIH019,2,19950912,       1350,     9.4722,    51.8278,       2325,   118.6,  23.7201,  35.5681,2,  35.5608,2,    172.4,2,   167.1,2,    6.91,2,    8.87,2,    0.39,2,    0.82,2,   1.679,2,   0.955,2,  2061.8,2,  2321.3,2,-999.0000,9,-999.0000,9, -999.00,9, -999.00,9,  -999.0,9,    -9.0,-999.000,9,-999.000,    1172,-999.0000,  23.6952,-999.0000, -999.00
 316N145_11,       I01W,     902,          1,         21,     SIH025,2,19950912,       1350,     9.4722,    51.8278,       2325,   147.8,  22.8147,  35.5190,2,  35.5194,2,    169.0,2,   164.1,2,    8.06,2,   10.55,2,    0.52,2,    0.93,2,-999.000,9,-999.000,9,  2076.6,2,  2318.7,2,-999.0000,9,-999.0000,9, -999.00,9, -999.00,9,  -999.0,9,    -9.0,-999.000,9,-999.000,    1464,-999.0000,  22.7846,-999.0000, -999.00
 316N145_11,       I01W,     902,          1,         20,     SIH004,2,19950912,       1350,     9.4722,    51.8278,       2325,   197.1,  17.8638,  35.4267,2,  35.4121,2,     57.3,2,    57.6,2,   17.27,2,   22.85,2,    0.01,2,    1.74,2,   1.169,2,   0.642,2,  2181.4,2,  2318.6,2,-999.0000,9,-999.0000,9, -999.00,9, -999.00,9,  -999.0,9,    -9.0,-999.000,9,-999.000,    1957,-999.0000,  17.8301,-999.0000, -999.00
 316N145_11,       I01W,     902,          1,         19,     SIH005,2,19950912,       1350,     9.4722,    51.8278,       2325,   247.7,  14.3431,  35.3310,2,  35.3228,2,     54.9,2,    58.3,2,   21.88,2,   24.81,2,    0.01,2,    1.88,2,-999.000,9,-999.000,9,  -999.0,9,  -999.0,9,-999.0000,9,-999.0000,9, -999.00,9, -999.00,9,  -999.0,9,    -9.0,-999.000,9,-999.000,    2463,-999.0000,  14.3065,-999.0000, -999.00
 316N145_11,       I01W,     902,          1,         18,     SIH006,2,19950912,       1350,     9.4722,    51.8278,       2325,   298.6,  13.1227,  35.2609,2,  35.2599,2,     73.1,2,    70.4,2,   23.04,2,   25.19,2,    0.01,2,    1.86,2,   0.835,2,   0.442,2,  2205.0,2,  2321.1,2,-999.0000,9,-999.0000,9, -999.00,9, -999.00,9,  -999.0,9,    -9.0,-999.000,9,-999.000,    2972,-999.0000,  13.0812,-999.0000, -999.00
 316N145_11,       I01W,     902,          1,         17,     SIH038,2,19950912,       1350,     9.4722,    51.8278,       2325,   398.5,  12.4617,  35.4919,2,  35.4932,2,     17.5,2,    27.4,2,   33.58,2,   29.61,2,    0.00,2,    2.33,2,-999.000,9,-999.000,9,  2254.7,3,  2332.2,2,-999.0000,9,-999.0000,9, -999.00,9, -999.00,9,  -999.0,9,    -9.0,-999.000,9,-999.000,    3971,-999.0000,  12.4077,-999.0000, -999.00
 316N145_11,       I01W,     902,          1,         16,     SIH008,2,19950912,       1350,     9.4722,    51.8278,       2325,   492.6,  10.9483,  35.3345,2,  35.3323,2,     45.4,2,    37.3,2,   40.31,2,   31.47,2,    0.00,2,    2.40,2,   0.212,6,   0.112,6,  2253.6,2,  2336.2,2,-999.0000,9,-999.0000,9, -999.00,9, -999.00,9,  -999.0,9,    -9.0,-999.000,9,-999.000,    4913,-999.0000,  10.8867,-999.0000, -999.00
 316N145_11,       I01W,     902,          1,         15,     SIH009,2,19950912,       1350,     9.4722,    51.8278,       2325,   598.6,  10.7387,  35.4001,2,  35.4028,2,     26.2,2,    25.6,2,   46.84,2,   32.64,2,    0.00,2,    2.52,2,-999.000,9,-999.000,9,  2268.1,2,  2343.8,2,-999.0000,9,-999.0000,9, -999.00,9, -999.00,9,  -999.0,9,    -9.0,-999.000,9,-999.000,    5973,-999.0000,  10.6643,-999.0000, -999.00
 316N145_11,       I01W,     902,          1,         14,     SIH010,2,19950912,       1350,     9.4722,    51.8278,       2325,   699.5,   9.7772,  35.3307,2,  35.3342,2,     30.3,2,    29.3,2,   56.07,2,   34.03,2,    0.00,2,    2.60,2,   0.085,2,   0.048,2,  2276.4,2,  2347.4,2,-999.0000,9,-999.0000,9, -999.00,9, -999.00,9,  -999.0,9,    -9.0,-999.000,9,-999.000,    6982,-999.0000,   9.6948,-999.0000, -999.00
 316N145_11,       I01W,     902,          1,         13,     SIH011,2,19950912,       1350,     9.4722,    51.8278,       2325,   799.7,   9.0683,  35.2888,2,  35.2859,2,     29.4,2,    26.8,2,   64.90,2,   35.31,2,    0.00,2,    2.68,2,-999.000,9,-999.000,9,  2289.7,2,  2354.7,2,-999.0000,9,-999.0000,9, -999.00,9, -999.00,9,  -999.0,9,    -9.0,-999.000,9,-999.000,    7985,-999.0000,   8.9777,-999.0000, -999.00
 316N145_11,       I01W,     902,          1,         12,     SIH012,2,19950912,       1350,     9.4722,    51.8278,       2325,   894.6,   8.4231,  35.2308,2,  35.2296,2,     35.8,2,    32.6,2,   70.86,2,   35.79,2,    0.00,2,    2.70,2,   0.037,2,   0.017,2,  2293.1,2,  2362.1,2,-999.0000,9,-999.0000,9, -999.00,9, -999.00,9,  -999.0,9,    -9.0,-999.000,9,-999.000,    8934,-999.0000,   8.3254,-999.0000, -999.00
 316N145_11,       I01W,     902,          1,         11,     SI9426,2,19950912,       1350,     9.4722,    51.8278,       2325,   995.8,   8.1082,  35.2238,2,  35.2243,2,     34.0,2,    33.3,2,   74.91,2,   36.17,2,    0.00,2,    2.71,2,-999.000,9,-999.000,9,  2298.1,2,  2366.7,2,-999.0000,9,-999.0000,9, -999.00,9, -999.00,9,  -999.0,9,    -9.0,-999.000,9,-999.000,    9947,-999.0000,   8.0012,-999.0000, -999.00
 316N145_11,       I01W,     902,          1,         10,     SIH014,2,19950912,       1350,     9.4722,    51.8278,       2325,  1097.1,   7.3393,  35.1326,2,  35.1331,2,     42.3,2,    39.8,2,   81.45,2,   36.81,2,    0.00,2,    2.75,2,   0.039,4,   0.007,2,  -999.0,9,  -999.0,9,-999.0000,9,-999.0000,9, -999.00,9, -999.00,9,  -999.0,9,    -9.0,-999.000,9,-999.000,   10960,-999.0000,   7.2271,-999.0000, -999.00
 316N145_11,       I01W,     902,          1,          9,     SIH015,2,19950912,       1350,     9.4722,    51.8278,       2325,  1198.2,   6.8582,  35.0956,2,  35.0909,2,     49.7,2,    46.8,2,   86.06,2,   37.08,2,    0.00,2,    2.77,2,-999.000,9,-999.000,9,  2306.5,2,  2375.5,2,-999.0000,9,-999.0000,9, -999.00,9, -999.00,9,  -999.0,9,    -9.0,-999.000,9,-999.000,   11972,-999.0000,   6.7390,-999.0000, -999.00
 316N145_11,       I01W,     902,          1,          8,     SIH016,2,19950912,       1350,     9.4722,    51.8278,       2325,  1297.7,   6.4508,  35.0624,2,  35.0634,2,     54.8,2,    50.2,2,   90.31,2,   37.18,2,    0.01,2,    2.78,2,   0.009,2,   0.003,2,  -999.0,9,  -999.0,9,-999.0000,9,-999.0000,9, -999.00,9, -999.00,9,  -999.0,9,    -9.0,-999.000,9,-999.000,   12967,-999.0000,   6.3248,-999.0000, -999.00
 316N145_11,       I01W,     902,          1,          7,     SIH017,2,19950912,       1350,     9.4722,    51.8278,       2325,  1400.6,   5.7401,  35.0028,2,  35.0026,2,     60.4,2,    60.4,2,   96.85,2,   37.42,2,    0.00,2,    2.77,2,-999.000,9,-999.000,9,  2314.4,2,  2385.3,2,-999.0000,9,-999.0000,9, -999.00,9, -999.00,9,  -999.0,9,    -9.0,-999.000,9,-999.000,   13997,-999.0000,   5.6106,-999.0000, -999.00
 316N145_11,       I01W,     902,          1,          6,     SIH018,2,19950912,       1350,     9.4722,    51.8278,       2325,  1495.5,   5.2703,  34.9855,2,  34.9846,2,     66.6,2,    66.8,2,  103.20,2,   37.42,2,   -0.01,2,    2.78,2,   0.003,2,   0.005,2,  -999.0,9,  -999.0,9,-999.0000,9,-999.0000,9, -999.00,9, -999.00,9,  -999.0,9,    -9.0,-999.000,9,-999.000,   14947,-999.0000,   5.1363,-999.0000, -999.00
 316N145_11,       I01W,     902,          1,          5,     SIH002,2,19950912,       1350,     9.4722,    51.8278,       2325,  1598.1,   4.5449,  34.9296,2,  34.9280,2,     82.2,2,    78.0,2,  111.29,2,   37.21,2,    0.00,2,    2.77,2,-999.000,9,-999.000,9,  2324.4,2,  2396.7,2,-999.0000,9,-999.0000,9, -999.00,9, -999.00,9,  -999.0,9,    -9.0,-999.000,9,-999.000,   15973,-999.0000,   4.4092,-999.0000, -999.00
 316N145_11,       I01W,     902,          1,          4,     SIH020,2,19950912,       1350,     9.4722,    51.8278,       2325,  1799.4,   3.5461,  33.6002,4,  34.8471,2,    104.9,3,   101.5,2,  119.95,2,   36.41,2,    0.00,2,    2.68,2,   0.001,2,   0.000,2,  -999.0,9,  -999.0,9,-999.0000,9,-999.0000,9, -999.00,9, -999.00,9,  -999.0,9,    -9.0,-999.000,9,-999.000,   17987,-999.0000,   3.4082,-999.0000, -999.00
 316N145_11,       I01W,     902,          1,          3,     SIH021,2,19950912,       1350,     9.4722,    51.8278,       2325,  1996.6,   3.0804,  34.8203,2,  34.8188,2,    114.7,2,   111.8,2,  125.35,2,   36.37,2,    0.00,2,    2.64,2,-999.000,9,-999.000,9,  2325.3,2,  2408.5,2,-999.0000,9,-999.0000,9, -999.00,9, -999.00,9,  -999.0,9,    -9.0,-999.000,9,-999.000,   19961,-999.0000,   2.9273,-999.0000, -999.00
 316N145_11,       I01W,     902,          1,          2,     SIH022,2,19950912,       1350,     9.4722,    51.8278,       2325,  2198.7,   2.5682,  34.7875,2,  34.7876,2,    129.2,2,   125.4,2,  130.36,2,   35.90,2,    0.00,2,    2.58,2,   0.000,2,   0.000,2,  -999.0,9,  -999.0,9,-999.0000,9,-999.0000,9, -999.00,9, -999.00,9,  -999.0,9,    -9.0,-999.000,9,-999.000,   21983,-999.0000,   2.4048,-999.0000, -999.00
 316N145_11,       I01W,     902,          1,          1,     SIH023,2,19950912,       1350,     9.4722,    51.8278,       2325,  2270.3,   2.5747,  34.7898,2,  34.7874,2,    129.3,2,   125.8,2,  130.61,2,   35.84,2,    0.00,2,    2.57,2,  -0.002,2,  -0.002,2,  2324.9,2,  2413.2,2,-999.0000,9,-999.0000,9, -999.00,9, -999.00,9,  -999.0,9,    -9.0,-999.000,9,-999.000,   22700,-999.0000,   2.4047,-999.0000, -999.00