BOTTLE,20211119CCHSIORKP
EXPOCODE,SECT_ID,STNNBR,CASTNO,SAMPNO,BTLNBR,BTLNBR_FLAG_W,DATE,TIME,LATITUDE,LONGITUDE,DEPTH,CTDPRS,CTDTMP,CTDSAL,CTDSAL_FLAG_W,SALNTY,SALNTY_FLAG_W,CTDOXY,CTDOXY_FLAG_W,OXYGEN,OXYGEN_FLAG_W,SILCAT,SILCAT_FLAG_W,NITRAT,NITRAT_FLAG_W,NITRIT,NITRIT_FLAG_W,PHSPHT,PHSPHT_FLAG_W,CFC-11,CFC-11_FLAG_W,CFC-12,CFC-12_FLAG_W,TCARBN,TCARBN_FLAG_W,ALKALI,ALKALI_FLAG_W,TRITUM,TRITUM_FLAG_W,HELIUM,HELIUM_FLAG_W,DELHE3,DELHE3_FLAG_W,DELC13,DELC13_FLAG_W,DELC14,DELC14_FLAG_W,C14ERR,NEON,NEON_FLAG_W,NEONER,CTDRAW,TRITER,THETA,HELIER,DELHER
,,,,,,,,,,,METERS,DBAR,ITS-90,PSS-78,,PSS-78,,UMOL/KG,,UMOL/KG,,UMOL/KG,,UMOL/KG,,UMOL/KG,,UMOL/KG,,PMOL/KG,,PMOL/KG,,UMOL/KG,,UMOL/KG,,TU,,NMOL/KG,,PERCNT,,/MILLE,,/MILLE,,/MILLE,NMOL/KG,,NMOL/KG,DBAR,TU,DEG C,NMOL/KG,PERCNT
 316N145_11,       I01W,     895,          1,         36,     SIH024,2,19950910,       1254,    10.3472,    53.5388,       4185,    10.7,  26.1716,  35.7177,2,  35.7165,2,    206.8,2,   205.7,2,    4.07,2,    2.87,2,    0.51,2,    0.45,2,   1.766,2,   1.014,2,  2012.8,2,  2335.5,2,-999.0000,9,-999.0000,9, -999.00,9, -999.00,9,  -999.0,9,    -9.0,-999.000,9,-999.000,      94,-999.0000,  26.1692,-999.0000, -999.00
 316N145_11,       I01W,     895,          1,         35,     SIH003,2,19950910,       1254,    10.3472,    53.5388,       4185,    31.2,  26.1407,  35.7184,2,  35.7158,2,    213.2,2,   204.7,2,    4.27,2,    2.87,2,    0.51,2,    0.45,2,-999.000,9,-999.000,9,  2013.0,2,  2330.2,2,-999.0000,9,-999.0000,9, -999.00,9, -999.00,9,  -999.0,9,    -9.0,-999.000,9,-999.000,     299,-999.0000,  26.1337,-999.0000, -999.00
 316N145_11,       I01W,     895,          1,         34,     SIH026,2,19950910,       1254,    10.3472,    53.5388,       4185,    60.9,  26.1116,  35.7154,2,  35.7158,2,    201.8,2,   205.0,2,    4.07,2,    2.92,2,    0.52,2,    0.46,2,-999.000,9,-999.000,9,  2014.2,2,  2330.5,2,-999.0000,9,   1.8110,2,   -0.80,2, -999.00,9,  -999.0,9,    -9.0,   7.060,2,   0.141,     596,-999.0000,  26.0979,   0.0090,    0.20
 316N145_11,       I01W,     895,          1,         33,     SIH027,2,19950910,       1254,    10.3472,    53.5388,       4185,    91.2,  26.1099,  35.7156,2,  35.7150,2,    207.9,2,   206.4,2,    4.07,2,    2.91,2,    0.53,2,    0.46,2,-999.000,9,-999.000,9,  2015.2,2,  2329.9,2,-999.0000,9,-999.0000,9, -999.00,9, -999.00,9,  -999.0,9,    -9.0,-999.000,9,-999.000,     900,-999.0000,  26.0894,-999.0000, -999.00
 316N145_11,       I01W,     895,          1,         32,     SIH028,2,19950910,       1254,    10.3472,    53.5388,       4185,   121.4,  26.1165,  35.7139,2,  35.7140,2,    200.1,2,   205.8,2,    4.26,2,    2.96,2,    0.53,2,    0.47,2,-999.000,9,-999.000,9,  2014.9,2,  2330.2,2,-999.0000,9,-999.0000,9, -999.00,9, -999.00,9,  -999.0,9,    -9.0,-999.000,9,-999.000,    1202,-999.0000,  26.0892,-999.0000, -999.00
 316N145_11,       I01W,     895,          1,         31,     SIH029,2,19950910,       1254,    10.3472,    53.5388,       4185,   150.1,  26.1052,  35.7124,2,  35.7122,2,    201.6,2,   200.1,2,    4.26,2,    3.00,2,    0.55,2,    0.47,2,-999.000,9,-999.000,9,  2015.8,2,  2330.6,2,-999.0000,9,-999.0000,9, -999.00,9, -999.00,9,  -999.0,9,    -9.0,-999.000,9,-999.000,    1489,-999.0000,  26.0715,-999.0000, -999.00
 316N145_11,       I01W,     895,          1,         30,     SIH030,2,19950910,       1254,    10.3472,    53.5388,       4185,   202.1,  23.2845,  35.6401,2,  35.6415,2,     69.4,2,   123.5,2,    8.74,2,   13.16,2,    0.04,2,    1.08,2,-999.000,9,-999.000,9,  2093.8,2,  2325.4,2,-999.0000,9,-999.0000,9, -999.00,9, -999.00,9,  -999.0,9,    -9.0,-999.000,9,-999.000,    2008,-999.0000,  23.2428,-999.0000, -999.00
 316N145_11,       I01W,     895,          1,         29,     SIH031,2,19950910,       1254,    10.3472,    53.5388,       4185,   250.7,  17.4502,  35.3980,2,  35.4218,2,     52.1,2,    56.5,2,   17.72,2,   23.00,2,    0.01,2,    1.76,2,-999.000,9,-999.000,9,  2183.8,2,  2319.4,2,-999.0000,9,-999.0000,9, -999.00,9, -999.00,9,  -999.0,9,    -9.0,-999.000,9,-999.000,    2495,-999.0000,  17.4079,-999.0000, -999.00
 316N145_11,       I01W,     895,          1,         28,     SIH032,2,19950910,       1254,    10.3472,    53.5388,       4185,   301.6,  15.0332,  35.3038,2,  35.3035,2,     66.8,2,    66.6,2,   20.25,2,   23.59,2,    0.01,2,    1.76,2,   1.054,3,   0.556,2,  2191.9,2,  2317.4,2,-999.0000,9,-999.0000,9, -999.00,9, -999.00,9,  -999.0,9,    -9.0,-999.000,9,-999.000,    3004,-999.0000,  14.9872,-999.0000, -999.00
 316N145_11,       I01W,     895,          1,         27,     SIH033,2,19950910,       1254,    10.3472,    53.5388,       4185,   401.4,  12.9098,  35.2981,2,  35.2958,2,     56.0,2,    58.2,2,   25.52,2,   26.64,2,    0.01,2,    1.98,2,-999.000,9,-999.000,9,  -999.0,9,  -999.0,9,-999.0000,9,   1.8420,2,    4.50,2, -999.00,9,  -999.0,9,    -9.0,   7.346,2,   0.147,    4002,-999.0000,  12.8543,   0.0090,    0.20
 316N145_11,       I01W,     895,          1,         26,     SIH037,2,19950910,       1254,    10.3472,    53.5388,       4185,   502.0,  12.1647,  35.3856,2,  35.3811,2,     30.6,2,    33.8,2,   32.35,2,   29.96,2,    0.01,2,    2.27,2,-999.000,9,-999.000,9,  -999.0,9,  -999.0,9,-999.0000,9,-999.0000,9, -999.00,9, -999.00,9,  -999.0,9,    -9.0,-999.000,9,-999.000,    5008,-999.0000,  12.0975,-999.0000, -999.00
 316N145_11,       I01W,     895,          1,         25,     SI9446,2,19950910,       1254,    10.3472,    53.5388,       4185,   597.3,  11.6933,  35.4406,2,  35.4409,2,     28.0,2,    27.3,2,   38.20,2,   30.89,2,    0.01,2,    2.39,2,   0.248,2,   0.136,2,  -999.0,9,  -999.0,9,-999.0000,9,-999.0000,9, -999.00,9, -999.00,9,  -999.0,9,    -9.0,-999.000,9,-999.000,    5962,-999.0000,  11.6150,-999.0000, -999.00
 316N145_11,       I01W,     895,          1,         24,     SIH036,2,19950910,       1254,    10.3472,    53.5388,       4185,   697.0,  10.8765,  35.4069,2,  35.4036,2,     29.7,2,    30.0,2,   46.00,2,   32.25,2,    0.01,2,    2.49,2,-999.000,9,-999.000,9,  -999.0,9,  -999.0,9,-999.0000,9,-999.0000,9, -999.00,9, -999.00,9,  -999.0,9,    -9.0,-999.000,9,-999.000,    6960,-999.0000,  10.7888,-999.0000, -999.00
 316N145_11,       I01W,     895,          1,         23,     SIH001,2,19950910,       1254,    10.3472,    53.5388,       4185,   797.5,  10.1146,  35.3736,2,  35.3725,2,     27.8,2,    27.0,2,   54.79,2,   33.89,2,    0.00,2,    2.60,2,-999.000,9,-999.000,9,  -999.0,9,  -999.0,9,-999.0000,9,-999.0000,9, -999.00,9, -999.00,9,  -999.0,9,    -9.0,-999.000,9,-999.000,    7965,-999.0000,  10.0182,-999.0000, -999.00
 316N145_11,       I01W,     895,          1,         22,     SIH019,2,19950910,       1254,    10.3472,    53.5388,       4185,   897.9,   9.7919,  35.3874,2,  35.3869,2,     26.1,2,    26.5,2,   60.06,2,   34.36,2,    0.01,2,    2.64,2,-999.000,9,-999.000,9,  -999.0,9,  -999.0,9,-999.0000,9,-999.0000,9, -999.00,9, -999.00,9,  -999.0,9,    -9.0,-999.000,9,-999.000,    8969,-999.0000,   9.6850,-999.0000, -999.00
 316N145_11,       I01W,     895,          1,         21,     SIH025,2,19950910,       1254,    10.3472,    53.5388,       4185,   999.0,   9.5169,  35.4237,2,  35.4229,2,     28.1,2,    25.0,2,   64.93,2,   34.74,2,    0.01,2,    2.67,2,   0.075,2,   0.040,2,  -999.0,9,  -999.0,9,-999.0000,9,   1.8460,2,    9.60,2, -999.00,9,  -999.0,9,    -9.0,   7.689,2,   0.154,    9981,-999.0000,   9.3991,   0.0090,    0.20
 316N145_11,       I01W,     895,          1,         20,     SIH004,2,19950910,       1254,    10.3472,    53.5388,       4185,  1099.2,   9.0741,  35.4126,2,  35.4113,2,     24.2,2,    24.3,2,   70.80,2,   35.39,2,    0.01,2,    2.73,2,-999.000,9,-999.000,9,  -999.0,9,  -999.0,9,-999.0000,9,   1.8910,2,   10.10,2, -999.00,9,  -999.0,9,    -9.0,   7.729,2,   0.155,   10983,-999.0000,   8.9474,   0.0090,    0.20
 316N145_11,       I01W,     895,          1,         19,     SIH005,2,19950910,       1254,    10.3472,    53.5388,       4185,  1201.8,   7.7040,  35.2285,2,  35.2310,2,     33.6,2,    34.0,2,   81.74,2,   36.71,2,    0.00,2,    2.78,2,-999.000,9,-999.000,9,  -999.0,9,  -999.0,9,-999.0000,9,   1.8780,2,   11.30,2, -999.00,9,  -999.0,9,    -9.0,   7.943,2,   0.159,   12010,-999.0000,   7.5768,   0.0090,    0.20
 316N145_11,       I01W,     895,          1,         18,     SIH006,2,19950910,       1254,    10.3472,    53.5388,       4185,  1301.6,   6.6100,  35.1151,2,  35.1152,2,     45.8,2,    45.2,2,   91.31,2,   37.31,2,    0.00,2,    2.81,2,-999.000,9,-999.000,9,  -999.0,9,  -999.0,9,-999.0000,9,-999.0000,9, -999.00,9, -999.00,9,  -999.0,9,    -9.0,-999.000,9,-999.000,   13008,-999.0000,   6.4819,-999.0000, -999.00
 316N145_11,       I01W,     895,          1,         17,     SIH038,2,19950910,       1254,    10.3472,    53.5388,       4185,  1398.2,   5.5462,  35.0305,2,  35.0128,2,     59.6,2,    60.3,2,  102.46,2,   37.52,2,    0.00,2,    2.80,2,   0.003,2,   0.002,2,  -999.0,9,  -999.0,9,-999.0000,9,   1.9400,2,   13.50,2, -999.00,9,  -999.0,9,    -9.0,   7.979,2,   0.160,   13975,-999.0000,   5.4189,   0.0100,    0.20
 316N145_11,       I01W,     895,          1,         16,     SIH008,2,19950910,       1254,    10.3472,    53.5388,       4185,  1498.5,   4.8037,  34.9572,2,  34.9591,2,     71.5,2,    72.7,2,  109.69,2,   37.41,2,    0.00,2,    2.78,2,   0.000,2,   0.003,2,  -999.0,9,  -999.0,9,-999.0000,9,-999.0000,9, -999.00,9, -999.00,9,  -999.0,9,    -9.0,-999.000,9,-999.000,   14979,-999.0000,   4.6747,-999.0000, -999.00
 316N145_11,       I01W,     895,          1,         15,     SIH009,2,19950910,       1254,    10.3472,    53.5388,       4185,  1594.1,   4.2599,  34.9159,2,  34.9178,2,     80.9,2,    80.0,2,  116.72,2,   37.30,2,    0.00,2,    2.77,2,  -0.001,2,  -0.001,2,  -999.0,9,  -999.0,9,-999.0000,9,   1.8910,2,   16.20,2, -999.00,9,  -999.0,9,    -9.0,   8.082,2,   0.162,   15935,-999.0000,   4.1281,   0.0090,    0.20
 316N145_11,       I01W,     895,          1,         14,     SIH010,2,19950910,       1254,    10.3472,    53.5388,       4185,  1795.9,   3.3772,  34.8495,2,  34.8501,2,     99.2,2,    99.3,2,  126.31,2,   36.91,2,    0.00,2,    2.70,2,-999.000,9,-999.000,9,  -999.0,9,  -999.0,9,-999.0000,9,   1.9270,2,   16.60,2, -999.00,9,  -999.0,9,    -9.0,   8.238,2,   0.165,   17954,-999.0000,   3.2381,   0.0100,    0.20
 316N145_11,       I01W,     895,          1,         13,     SIH011,2,19950910,       1254,    10.3472,    53.5388,       4185,  1999.5,   2.8151,  34.8056,2,  34.8070,2,    116.6,2,   117.6,2,  129.64,2,   36.32,2,    0.00,2,    2.62,2,-999.000,9,-999.000,9,  -999.0,9,  -999.0,9,-999.0000,9,   1.9530,2,   16.00,2, -999.00,9,  -999.0,9,    -9.0,   8.113,2,   0.162,   19991,-999.0000,   2.6659,   0.0100,    0.20
 316N145_11,       I01W,     895,          1,         12,     SIH012,2,19950910,       1254,    10.3472,    53.5388,       4185,  2193.4,   2.4760,  34.7847,2,  34.7864,2,    125.5,2,   125.3,2,  133.16,2,   35.99,2,    0.00,2,    2.58,2,-999.000,9,-999.000,9,  -999.0,9,  -999.0,9,-999.0000,9,   1.9040,2,   15.90,2, -999.00,9,  -999.0,9,    -9.0,   8.367,2,   0.167,   21932,-999.0000,   2.3146,   0.0100,    0.20
 316N145_11,       I01W,     895,          1,         11,     SI9426,2,19950910,       1254,    10.3472,    53.5388,       4185,  2393.5,   2.2771,  34.7755,2,  34.7762,2,    130.7,2,   128.8,2,  137.08,2,   35.82,2,    0.00,2,    2.58,2,  -0.002,2,   0.001,2,  -999.0,9,  -999.0,9,-999.0000,9,   1.9220,2,   15.60,2, -999.00,9,  -999.0,9,    -9.0,   8.264,2,   0.165,   23935,-999.0000,   2.1009,   0.0100,    0.20
 316N145_11,       I01W,     895,          1,         10,     SIH014,2,19950910,       1254,    10.3472,    53.5388,       4185,  2594.9,   2.0815,  34.7638,2,  34.7644,2,    137.9,2,   136.7,2,  138.65,2,   35.76,2,    0.00,2,    2.54,2,  -0.002,2,   0.001,2,  -999.0,9,  -999.0,9,-999.0000,9,   1.9000,2,   15.30,2, -999.00,9,  -999.0,9,    -9.0,   8.291,2,   0.166,   25949,-999.0000,   1.8905,   0.0090,    0.20
 316N145_11,       I01W,     895,          1,          9,     SIH015,2,19950910,       1254,    10.3472,    53.5388,       4185,  2788.5,   1.9407,  34.7531,2,  34.7541,2,    142.4,2,   143.7,2,  138.27,2,   35.49,2,    0.00,2,    2.52,2,  -0.003,2,   0.000,2,  -999.0,9,  -999.0,9,-999.0000,9,   1.9310,2,   15.20,2, -999.00,9,  -999.0,9,    -9.0,   8.380,2,   0.168,   27888,-999.0000,   1.7343,   0.0100,    0.20
 316N145_11,       I01W,     895,          1,          8,     SIH016,2,19950910,       1254,    10.3472,    53.5388,       4185,  2996.7,   1.8757,  34.7494,2,  34.7498,2,    146.7,2,   147.1,2,  138.67,2,   35.37,2,    0.00,2,    2.50,2,-999.000,9,-999.000,9,  -999.0,9,  -999.0,9,-999.0000,9,   1.8730,2,   15.80,2, -999.00,9,  -999.0,9,    -9.0,   8.394,2,   0.168,   29971,-999.0000,   1.6507,   0.0090,    0.20
 316N145_11,       I01W,     895,          1,          7,     SIH017,2,19950910,       1254,    10.3472,    53.5388,       4185,  3195.0,   1.8068,  34.7451,2,  34.7463,2,    149.9,2,   151.6,2,  138.48,2,   35.10,2,    0.00,2,    2.47,2,-999.000,9,-999.000,9,  -999.0,9,  -999.0,9,-999.0000,9,   1.8960,2,   16.30,2, -999.00,9,  -999.0,9,    -9.0,   8.313,2,   0.166,   31955,-999.0000,   1.5637,   0.0090,    0.20
 316N145_11,       I01W,     895,          1,          6,     SIH018,2,19950910,       1254,    10.3472,    53.5388,       4185,  3394.9,   1.7554,  34.7407,2,  34.7406,2,    156.3,2,   156.9,2,  137.51,2,   34.87,2,    0.00,2,    2.45,2,  -0.003,2,  -0.001,2,  -999.0,9,  -999.0,9,-999.0000,9,   1.9090,2,   14.10,2, -999.00,9,  -999.0,9,    -9.0,   8.501,2,   0.170,   33955,-999.0000,   1.4933,   0.0100,    0.20
 316N145_11,       I01W,     895,          1,          5,     SIH002,2,19950910,       1254,    10.3472,    53.5388,       4185,  3594.0,   1.7199,  34.7386,2,  34.7382,2,    157.9,2,   157.5,2,  138.10,2,   34.87,2,    0.00,2,    2.44,2,-999.000,9,-999.000,9,  -999.0,9,  -999.0,9,-999.0000,9,   1.8690,2,   12.70,2, -999.00,9,  -999.0,9,    -9.0,   8.327,2,   0.167,   35948,-999.0000,   1.4382,   0.0090,    0.20
 316N145_11,       I01W,     895,          1,          4,     SIH020,2,19950910,       1254,    10.3472,    53.5388,       4185,  3796.1,   1.6861,  34.7362,2,  34.7359,2,    162.3,2,   162.1,2,  137.14,2,   34.65,2,    0.00,2,    2.43,2,-999.000,9,-999.000,9,  -999.0,9,  -999.0,9,-999.0000,9,   1.9220,2,   12.10,2, -999.00,9,  -999.0,9,    -9.0,   8.420,2,   0.168,   37971,-999.0000,   1.3839,   0.0100,    0.20
 316N145_11,       I01W,     895,          1,          3,     SIH021,2,19950910,       1254,    10.3472,    53.5388,       4185,  3995.6,   1.6059,  34.7310,2,  34.7311,2,    167.5,2,   167.6,2,  136.36,2,   34.37,2,    0.00,2,    2.40,2,  -0.003,2,  -0.002,2,  -999.0,9,  -999.0,9,-999.0000,9,   1.8960,2,   12.00,2, -999.00,9,  -999.0,9,    -9.0,   8.541,2,   0.171,   39967,-999.0000,   1.2843,   0.0090,    0.20
 316N145_11,       I01W,     895,          1,          2,     SIH022,2,19950910,       1254,    10.3472,    53.5388,       4185,  4190.9,   1.3537,  34.7214,2,  34.7207,2,    177.8,2,   177.3,2,  139.30,2,   33.93,2,    0.01,2,    2.36,2,   0.004,2,   0.005,2,  -999.0,9,  -999.0,9,-999.0000,9,-999.0000,9, -999.00,9, -999.00,9,  -999.0,9,    -9.0,-999.000,9,-999.000,   41922,-999.0000,   1.0179,-999.0000, -999.00
 316N145_11,       I01W,     895,          1,          1,     SIH023,2,19950910,       1254,    10.3472,    53.5388,       4185,  4241.4,   1.3572,  34.7206,2,  34.7205,2,    177.3,2,   178.4,2,  138.54,6,   33.91,6,    0.01,6,    2.36,6,   0.001,2,   0.000,2,  -999.0,9,  -999.0,9,-999.0000,9,   1.9530,2,   10.90,2, -999.00,9,  -999.0,9,    -9.0,   8.358,2,   0.167,   42426,-999.0000,   1.0156,   0.0100,    0.20