BOTTLE,20211119CCHSIORKP
EXPOCODE,SECT_ID,STNNBR,CASTNO,SAMPNO,BTLNBR,BTLNBR_FLAG_W,DATE,TIME,LATITUDE,LONGITUDE,DEPTH,CTDPRS,CTDTMP,CTDSAL,CTDSAL_FLAG_W,SALNTY,SALNTY_FLAG_W,CTDOXY,CTDOXY_FLAG_W,OXYGEN,OXYGEN_FLAG_W,SILCAT,SILCAT_FLAG_W,NITRAT,NITRAT_FLAG_W,NITRIT,NITRIT_FLAG_W,PHSPHT,PHSPHT_FLAG_W,CFC-11,CFC-11_FLAG_W,CFC-12,CFC-12_FLAG_W,TCARBN,TCARBN_FLAG_W,ALKALI,ALKALI_FLAG_W,TRITUM,TRITUM_FLAG_W,HELIUM,HELIUM_FLAG_W,DELHE3,DELHE3_FLAG_W,DELC13,DELC13_FLAG_W,DELC14,DELC14_FLAG_W,C14ERR,NEON,NEON_FLAG_W,NEONER,CTDRAW,TRITER,THETA,HELIER,DELHER
,,,,,,,,,,,METERS,DBAR,ITS-90,PSS-78,,PSS-78,,UMOL/KG,,UMOL/KG,,UMOL/KG,,UMOL/KG,,UMOL/KG,,UMOL/KG,,PMOL/KG,,PMOL/KG,,UMOL/KG,,UMOL/KG,,TU,,NMOL/KG,,PERCNT,,/MILLE,,/MILLE,,/MILLE,NMOL/KG,,NMOL/KG,DBAR,TU,DEG C,NMOL/KG,PERCNT
 316N145_11,       I01W,     937,          1,         36,     SIH024,2,19950921,       2253,     8.5000,    67.3833,       4560,    10.1,  28.2657,  36.7486,2,  36.7490,2,    203.5,2,   212.0,2,    1.40,2,    0.03,2,   -0.01,2,    0.26,2,   1.610,3,   0.958,3,  2023.6,2,  2402.5,2,-999.0000,9,-999.0000,9, -999.00,9,    1.41,2,    48.0,2,     3.6,-999.000,9,-999.000,      97,-999.0000,  28.2633,-999.0000, -999.00
 316N145_11,       I01W,     937,          1,         35,     SIH003,2,19950921,       2253,     8.5000,    67.3833,       4560,    30.1,  28.2725,  36.7424,2,  36.7476,2,    205.0,2,   212.2,2,    1.39,2,    0.03,2,   -0.01,2,    0.26,2,   1.586,2,   0.938,2,  2023.9,2,  2399.4,2,-999.0000,9,-999.0000,9, -999.00,9, -999.00,9,  -999.0,9,    -9.0,-999.000,9,-999.000,     298,-999.0000,  28.2653,-999.0000, -999.00
 316N145_11,       I01W,     937,          1,         34,     SIH026,2,19950921,       2253,     8.5000,    67.3833,       4560,    59.8,  28.1520,  36.7363,2,  36.7411,2,    206.0,2,   211.4,2,    1.56,2,    0.08,2,   -0.02,2,    0.27,2,-999.000,9,-999.000,9,  2023.3,2,  2398.8,2,-999.0000,9,   1.7130,2,   -1.00,2,    1.49,2,    41.0,2,     3.7,   6.913,2,   0.138,     594,-999.0000,  28.1378,   0.0090,    0.20
 316N145_11,       I01W,     937,          1,         33,     SIH027,2,19950921,       2253,     8.5000,    67.3833,       4560,    90.0,  25.4956,  36.3716,2,  36.3396,2,    214.9,2,   117.5,2,    4.65,2,   12.83,2,    0.14,2,    1.05,2,-999.000,9,-999.000,9,  2105.1,2,  2369.5,2,-999.0000,9,-999.0000,9, -999.00,9,    0.60,2,    39.7,2,     3.4,-999.000,9,-999.000,     896,-999.0000,  25.4757,-999.0000, -999.00
 316N145_11,       I01W,     937,          1,         32,     SIH028,2,19950921,       2253,     8.5000,    67.3833,       4560,   119.9,  19.3940,  35.5848,2,  35.5766,2,      1.9,2,     8.3,2,   17.88,2,   26.26,2,    0.02,2,    2.08,2,   0.977,2,   0.550,2,  2208.6,2,  2330.1,2,-999.0000,9,-999.0000,9, -999.00,9, -999.00,9,  -999.0,9,    -9.0,-999.000,9,-999.000,    1195,-999.0000,  19.3723,-999.0000, -999.00
 316N145_11,       I01W,     937,          1,         31,     SIH029,2,19950921,       2253,     8.5000,    67.3833,       4560,   150.3,  16.5753,  35.3740,2,  35.3729,2,      4.4,2,     6.3,2,   22.78,2,   27.38,2,    0.01,2,    2.18,2,-999.000,9,-999.000,9,  2223.5,2,  2322.0,2,-999.0000,9,-999.0000,9, -999.00,9,   -0.20,2,    -7.9,2,     3.3,-999.000,9,-999.000,    1499,-999.0000,  16.5509,-999.0000, -999.00
 316N145_11,       I01W,     937,          1,         30,     SIH030,2,19950921,       2253,     8.5000,    67.3833,       4560,   199.7,  14.6093,  35.2588,2,  35.2611,2,      7.4,2,    10.2,2,   26.06,2,   28.86,2,    0.01,2,    2.23,2,   0.440,2,   0.242,2,  2234.4,2,  2321.0,2,-999.0000,9,-999.0000,9, -999.00,9,   -0.10,2,   -26.2,2,     3.3,-999.000,9,-999.000,    1993,-999.0000,  14.5796,-999.0000, -999.00
 316N145_11,       I01W,     937,          1,         29,     SIH031,2,19950921,       2253,     8.5000,    67.3833,       4560,   250.1,  13.4444,  35.2951,2,  35.2962,2,     10.9,2,    13.5,2,   27.33,2,   29.53,2,    0.01,2,    2.25,2,-999.000,9,-999.000,9,  2244.0,2,  2325.0,2,-999.0000,9,-999.0000,9, -999.00,9, -999.00,9,  -999.0,9,    -9.0,-999.000,9,-999.000,    2498,-999.0000,  13.4091,-999.0000, -999.00
 316N145_11,       I01W,     937,          1,         28,     SIH032,2,19950921,       2253,     8.5000,    67.3833,       4560,   300.1,  12.3142,  35.2437,2,  35.2465,2,     30.7,2,    34.1,2,   27.87,2,   29.95,2,    0.01,2,    2.14,2,   0.384,2,   0.202,2,  2236.3,2,  2320.2,2,-999.0000,9,-999.0000,9, -999.00,9,    0.14,2,   -37.6,2,     3.2,-999.000,9,-999.000,    2998,-999.0000,  12.2742,-999.0000, -999.00
 316N145_11,       I01W,     937,          1,         27,     SIH033,2,19950921,       2253,     8.5000,    67.3833,       4560,   400.6,  11.3566,  35.2698,2,  35.2704,2,     23.5,2,    24.7,2,   35.87,2,   32.49,2,    0.00,2,    2.36,2,   0.170,2,   0.083,2,  2254.5,2,  2329.0,2,-999.0000,9,   1.8640,2,    6.50,2,    0.08,2,   -67.4,2,     3.4,   7.667,2,   0.153,    4003,-999.0000,  11.3056,   0.0090,    0.20
 316N145_11,       I01W,     937,          1,         26,     SIH037,2,19950921,       2253,     8.5000,    67.3833,       4560,   501.5,  10.7728,  35.3066,2,  35.2997,2,     17.6,2,    19.6,2,   43.86,2,   33.40,2,    0.01,2,    2.51,2,   0.080,2,   0.043,2,  -999.0,9,  -999.0,9,-999.0000,9,-999.0000,9, -999.00,9,    0.02,2,   -90.2,2,     3.1,-999.000,9,-999.000,    5013,-999.0000,  10.7106,-999.0000, -999.00
 316N145_11,       I01W,     937,          1,         25,     SI9446,3,19950921,       2253,     8.5000,    67.3833,       4560,   601.3,  10.0267,  35.2426,3,  35.2446,2,     16.9,2,    19.2,2,   51.50,2,   34.68,2,    0.01,2,    2.59,2,   0.038,2,   0.018,2,  2276.3,2,  2340.6,2,-999.0000,9,-999.0000,9, -999.00,9,   -2.03,4,  -162.5,4,     3.1,-999.000,9,-999.000,    6011,-999.0000,   9.9551,-999.0000, -999.00
 316N145_11,       I01W,     937,          1,         24,     SIH036,2,19950921,       2253,     8.5000,    67.3833,       4560,   702.1,   9.1867,  35.1810,2,  35.1870,2,     20.6,2,    21.7,2,   61.86,2,   35.96,2,    0.02,2,    2.69,2,-999.000,9,-999.000,9,  -999.0,9,  -999.0,9,-999.0000,9,-999.0000,9, -999.00,9,   -0.21,2,  -125.5,2,     3.2,-999.000,9,-999.000,    7020,-999.0000,   9.1071,-999.0000, -999.00
 316N145_11,       I01W,     937,          1,         23,     SIH001,2,19950921,       2253,     8.5000,    67.3833,       4560,   903.4,   7.5213,  35.0221,2,  35.0234,2,     33.2,2,    35.3,2,   77.87,2,   37.45,2,    0.01,2,    2.75,2,   0.006,3,   0.000,2,  2301.0,2,  2362.3,2,-999.0000,9,   1.8730,2,   11.80,2,   -0.12,2,  -142.4,2,     4.9,   7.876,2,   0.158,    9033,-999.0000,   7.4289,   0.0090,    0.20
 316N145_11,       I01W,     937,          1,         22,     SIH019,2,19950921,       2253,     8.5000,    67.3833,       4560,  1098.4,   6.2393,  34.9381,2,  34.9396,2,     51.5,2,    51.5,2,   91.71,2,   37.72,2,    0.01,2,    2.76,2,-999.000,9,-999.000,9,  2309.7,2,  2373.9,2,-999.0000,9,   1.9180,2,   10.40,2,   -0.07,2,  -161.5,2,     3.0,   7.867,2,   0.157,   10984,-999.0000,   6.1360,   0.0100,    0.20
 316N145_11,       I01W,     937,          1,         21,     SIH025,2,19950921,       2253,     8.5000,    67.3833,       4560,  1300.3,   5.4182,  34.9176,2,  34.9178,2,     66.0,2,    63.5,2,  100.64,2,   37.67,2,    0.01,2,    2.75,2,  -0.001,2,  -0.001,2,  -999.0,9,  -999.0,9,-999.0000,9,   1.9130,2,   10.50,2,   -0.05,2,  -168.4,2,     3.2,   8.001,2,   0.160,   13004,-999.0000,   5.3021,   0.0100,    0.20
 316N145_11,       I01W,     937,          1,         20,     SIH004,2,19950921,       2253,     8.5000,    67.3833,       4560,  1400.7,   5.0550,  34.9126,2,  34.9124,2,     70.4,2,    69.1,2,  104.48,2,   37.54,2,    0.01,2,    2.74,2,  -0.003,2,  -0.001,2,  -999.0,9,  -999.0,9,-999.0000,9,   1.8960,2,   11.50,2, -999.00,9,  -999.0,9,    -9.0,   8.090,2,   0.162,   14009,-999.0000,   4.9328,   0.0090,    0.20
 316N145_11,       I01W,     937,          1,         19,     SIH005,3,19950921,       2253,     8.5000,    67.3833,       4560,  1502.6,   4.6637,  34.9065,3,  34.9097,2,     74.0,2,    74.0,2,  109.04,2,   37.55,2,    0.01,2,    2.74,2,-999.000,9,-999.000,9,  -999.0,9,  -999.0,9,-999.0000,9,   1.8870,2,   13.20,2,   -0.08,2,  -177.2,2,     3.8,   8.153,2,   0.163,   15028,-999.0000,   4.5359,   0.0090,    0.20
 316N145_11,       I01W,     937,          1,         18,     SIH006,2,19950921,       2253,     8.5000,    67.3833,       4560,  1603.0,   4.2061,  34.8810,2,  34.8820,2,     82.1,2,    83.2,2,  113.61,2,   37.25,2,    0.01,2,    2.71,2,  -0.003,2,  -0.001,2,  2323.7,2,  2400.8,2,-999.0000,9,-999.0000,9, -999.00,9, -999.00,9,  -999.0,9,    -9.0,-999.000,9,-999.000,   16033,-999.0000,   4.0742,-999.0000, -999.00
 316N145_11,       I01W,     937,          1,         17,     SIH038,2,19950921,       2253,     8.5000,    67.3833,       4560,  1698.0,   3.7779,  34.8496,2,  34.8526,2,     91.8,2,    92.4,2,  118.36,2,   37.01,2,    0.01,2,    2.69,2,-999.000,9,-999.000,9,  -999.0,9,  -999.0,9,-999.0000,9,   1.9090,2,   13.30,2,   -0.26,3,  -190.2,2,     2.9,   8.247,2,   0.165,   16983,-999.0000,   3.6425,   0.0100,    0.20
 316N145_11,       I01W,     937,          1,         16,     SIH008,2,19950921,       2253,     8.5000,    67.3833,       4560,  1901.0,   3.1160,  34.8131,2,  34.8151,2,    109.4,2,   109.5,2,  124.75,2,   36.51,2,    0.01,2,    2.61,2,  -0.004,2,  -0.002,2,  2323.4,2,  2413.8,2,-999.0000,9,-999.0000,9, -999.00,9,   -0.10,2,  -181.1,2,     3.2,-999.000,9,-999.000,   19015,-999.0000,   2.9711,-999.0000, -999.00
 316N145_11,       I01W,     937,          1,         15,     SIH009,2,19950921,       2253,     8.5000,    67.3833,       4560,  2204.8,   2.5534,  34.7804,2,  34.7822,2,    125.1,2,   124.5,2,  130.97,2,   36.17,2,    0.01,2,    2.56,2,-999.000,9,-999.000,9,  -999.0,9,  -999.0,9,-999.0000,9,   1.9580,2,   13.80,2, -999.00,9,  -999.0,9,    -9.0,   8.238,2,   0.165,   22055,-999.0000,   2.3898,   0.0100,    0.20
 316N145_11,       I01W,     937,          1,         14,     SIH010,2,19950921,       2253,     8.5000,    67.3833,       4560,  2507.6,   2.1777,  34.7626,2,  34.7642,2,    138.0,2,   136.5,2,  134.27,2,   35.72,2,    0.01,2,    2.52,2,  -0.003,2,   0.000,2,  2321.7,2,  2420.9,2,-999.0000,9,   1.9270,2,   13.70,2, -999.00,9,  -999.0,9,    -9.0,   8.349,2,   0.167,   25085,-999.0000,   1.9929,   0.0100,    0.20
 316N145_11,       I01W,     937,          1,         13,     SIH011,2,19950921,       2253,     8.5000,    67.3833,       4560,  2803.0,   1.9184,  34.7486,2,  34.7502,2,    145.9,2,   145.3,2,  136.84,2,   35.38,2,    0.01,2,    2.47,2,-999.000,9,-999.000,9,  -999.0,9,  -999.0,9,-999.0000,9,   1.9530,2,   13.60,2, -999.00,9,  -999.0,9,    -9.0,   8.300,2,   0.166,   28041,-999.0000,   1.7111,   0.0100,    0.20
 316N145_11,       I01W,     937,          1,         12,     SIH012,2,19950921,       2253,     8.5000,    67.3833,       4560,  3102.1,   1.7739,  34.7409,2,  34.7425,2,    153.7,2,   153.6,2,  136.69,2,   35.05,2,    0.00,2,    2.42,2,-999.000,9,-999.000,9,  2314.8,2,  2422.9,2,-999.0000,9,   1.9620,2,   14.60,2, -999.00,9,  -999.0,9,    -9.0,   8.269,2,   0.165,   31034,-999.0000,   1.5407,   0.0100,    0.20
 316N145_11,       I01W,     937,          1,         11,     SI9426,3,19950921,       2253,     8.5000,    67.3833,       4560,  3402.2,   1.7195,  34.7369,3,  34.7370,2,    158.0,2,   156.8,2,  137.25,2,   34.99,2,    0.01,2,    2.42,2,-999.000,9,-999.000,9,  -999.0,9,  -999.0,9,-999.0000,9,   1.9400,2,   13.20,2, -999.00,9,  -999.0,9,    -9.0,   8.363,2,   0.167,   34038,-999.0000,   1.4577,   0.0100,    0.20
 316N145_11,       I01W,     937,          1,         10,     SIH014,2,19950921,       2253,     8.5000,    67.3833,       4560,  3499.4,   1.7117,  34.7357,2,  34.7364,2,    158.4,2,   157.5,2,  137.64,2,   34.90,2,    0.01,2,    2.41,2,   0.002,2,  -0.001,2,  -999.0,9,  -999.0,9,-999.0000,9,   1.9270,2,   13.20,2, -999.00,9,  -999.0,9,    -9.0,   8.349,2,   0.167,   35010,-999.0000,   1.4400,   0.0100,    0.20
 316N145_11,       I01W,     937,          1,          9,     SIH015,2,19950921,       2253,     8.5000,    67.3833,       4560,  3601.0,   1.7085,  34.7353,2,  34.7353,2,    155.9,2,   157.1,2,  137.85,2,   34.92,2,    0.00,2,    2.42,2,-999.000,9,-999.000,9,  2315.8,2,  2425.6,2,-999.0000,9,-999.0000,9, -999.00,9, -999.00,9,  -999.0,9,    -9.0,-999.000,9,-999.000,   36027,-999.0000,   1.4264,-999.0000, -999.00
 316N145_11,       I01W,     937,          1,          8,     SIH016,2,19950921,       2253,     8.5000,    67.3833,       4560,  3696.7,   1.7022,  34.7348,2,  34.7341,2,    158.3,2,   157.6,2,  137.68,2,   34.87,2,    0.01,2,    2.42,2,-999.000,9,-999.000,9,  -999.0,9,  -999.0,9,-999.0000,9,   1.9620,2,   13.40,2, -999.00,9,  -999.0,9,    -9.0,   8.322,2,   0.166,   36985,-999.0000,   1.4101,   0.0100,    0.20
 316N145_11,       I01W,     937,          1,          7,     SIH017,2,19950921,       2253,     8.5000,    67.3833,       4560,  3800.2,   1.6974,  34.7341,2,  34.7345,2,    159.1,2,   158.3,2,  137.89,2,   34.84,2,    0.00,2,    2.41,2,-999.000,9,-999.000,9,  -999.0,9,  -999.0,9,-999.0000,9,-999.0000,9, -999.00,9, -999.00,9,  -999.0,9,    -9.0,-999.000,9,-999.000,   38021,-999.0000,   1.3944,-999.0000, -999.00
 316N145_11,       I01W,     937,          1,          6,     SIH018,2,19950921,       2253,     8.5000,    67.3833,       4560,  3902.0,   1.6939,  34.7329,2,  34.7335,2,    159.8,2,   158.6,2,  138.09,2,   34.89,2,    0.01,2,    2.42,2,  -0.003,2,   0.004,2,  -999.0,9,  -999.0,9,-999.0000,9,   1.9310,2,   13.50,2, -999.00,9,  -999.0,9,    -9.0,   8.416,2,   0.168,   39039,-999.0000,   1.3800,   0.0100,    0.20
 316N145_11,       I01W,     937,          1,          5,     SIH002,2,19950921,       2253,     8.5000,    67.3833,       4560,  3998.2,   1.6881,  34.7326,2,  34.7331,2,    160.5,2,   160.2,2,  138.30,2,   34.70,2,    0.01,2,    2.41,2,-999.000,9,-999.000,9,  2315.8,2,  2427.1,2,-999.0000,9,-999.0000,9, -999.00,9, -999.00,9,  -999.0,9,    -9.0,-999.000,9,-999.000,   40001,-999.0000,   1.3638,-999.0000, -999.00
 316N145_11,       I01W,     937,          1,          4,     SIH020,2,19950921,       2253,     8.5000,    67.3833,       4560,  4096.1,   1.6851,  34.7322,2,  34.7325,2,    159.8,2,   159.9,2,  138.14,2,   34.77,2,    0.01,2,    2.40,2,   0.000,2,   0.003,2,  -999.0,9,  -999.0,9,-999.0000,9,   1.9940,2,   13.00,2, -999.00,9,  -999.0,9,    -9.0,   8.385,2,   0.168,   40982,-999.0000,   1.3501,   0.0100,    0.20
 316N145_11,       I01W,     937,          1,          3,     SIH021,2,19950921,       2253,     8.5000,    67.3833,       4560,  4290.4,   1.6799,  34.7311,2,  34.7305,2,    161.7,2,   161.1,2,  138.16,2,   34.66,2,    0.02,2,    2.40,2,-999.000,9,-999.000,9,  -999.0,9,  -999.0,9,-999.0000,9,   1.9270,2,   13.30,2, -999.00,9,  -999.0,9,    -9.0,   8.519,2,   0.170,   42926,-999.0000,   1.3232,   0.0100,    0.20
 316N145_11,       I01W,     937,          1,          2,     SIH022,2,19950921,       2253,     8.5000,    67.3833,       4560,  4592.1,   1.6668,  34.7294,2,  34.7288,2,    165.2,2,   162.7,2,  138.55,2,   34.69,2,    0.00,2,    2.40,2,  -0.002,2,   0.003,2,  -999.0,9,  -999.0,9,-999.0000,9,   1.9450,2,   12.70,2, -999.00,9,  -999.0,9,    -9.0,   8.380,2,   0.168,   45945,-999.0000,   1.2756,   0.0100,    0.20
 316N145_11,       I01W,     937,          1,          1,     SIH023,2,19950921,       2253,     8.5000,    67.3833,       4560,  4643.1,   1.6730,  34.7290,2,  34.7302,2,    163.0,2,   162.6,2,  138.44,2,   34.67,2,    0.01,2,    2.39,2,   0.001,2,   0.003,2,  2316.3,2,  2428.5,2,-999.0000,9,   1.9890,2,   12.10,2, -999.00,9,  -999.0,9,    -9.0,   8.505,2,   0.170,   46455,-999.0000,   1.2756,   0.0100,    0.20