BOTTLE,20211119CCHSIORKP
EXPOCODE,SECT_ID,STNNBR,CASTNO,SAMPNO,BTLNBR,BTLNBR_FLAG_W,DATE,TIME,LATITUDE,LONGITUDE,DEPTH,CTDPRS,CTDTMP,CTDSAL,CTDSAL_FLAG_W,SALNTY,SALNTY_FLAG_W,CTDOXY,CTDOXY_FLAG_W,OXYGEN,OXYGEN_FLAG_W,SILCAT,SILCAT_FLAG_W,NITRAT,NITRAT_FLAG_W,NITRIT,NITRIT_FLAG_W,PHSPHT,PHSPHT_FLAG_W,CFC-11,CFC-11_FLAG_W,CFC-12,CFC-12_FLAG_W,TCARBN,TCARBN_FLAG_W,ALKALI,ALKALI_FLAG_W,TRITUM,TRITUM_FLAG_W,HELIUM,HELIUM_FLAG_W,DELHE3,DELHE3_FLAG_W,DELC13,DELC13_FLAG_W,DELC14,DELC14_FLAG_W,C14ERR,NEON,NEON_FLAG_W,NEONER,CTDRAW,TRITER,THETA,HELIER,DELHER
,,,,,,,,,,,METERS,DBAR,ITS-90,PSS-78,,PSS-78,,UMOL/KG,,UMOL/KG,,UMOL/KG,,UMOL/KG,,UMOL/KG,,UMOL/KG,,PMOL/KG,,PMOL/KG,,UMOL/KG,,UMOL/KG,,TU,,NMOL/KG,,PERCNT,,/MILLE,,/MILLE,,/MILLE,NMOL/KG,,NMOL/KG,DBAR,TU,DEG C,NMOL/KG,PERCNT
 316N145_11,       I01W,     951,          1,         34,     SIH026,2,19950925,       0818,     8.5667,    73.8333,       2650,     8.8,  28.4343,  34.9659,2,  34.9738,2,    200.4,2,   200.5,2,    1.70,2,    0.11,2,   -0.01,2,    0.21,2,   1.636,2,   0.959,2,  1937.1,2,  2289.9,2,   0.9522,2,   1.7134,2,   -1.42,2, -999.00,9,  -999.0,9,    -9.0,   6.672,2,   0.033,      78,   0.0038,  28.4322,   0.0086,    0.14
 316N145_11,       I01W,     951,          1,         33,     SIH027,2,19950925,       0818,     8.5667,    73.8333,       2650,    29.0,  28.2414,  34.9997,2,  35.0033,2,    199.5,2,   192.3,2,    2.06,2,    0.89,2,    0.10,2,    0.28,2,   1.620,2,   0.948,2,  1950.0,2,  2291.7,2,   0.9379,2,   1.7104,2,   -1.45,2, -999.00,9,  -999.0,9,    -9.0,   6.666,2,   0.033,     281,   0.0037,  28.2345,   0.0086,    0.14
 316N145_11,       I01W,     951,          1,         32,     SIH028,2,19950925,       0818,     8.5667,    73.8333,       2650,    58.8,  21.9882,  35.6790,2,  35.6794,2,     31.1,2,    30.0,2,   13.50,2,   22.30,2,    0.05,2,    1.69,2,   1.205,2,   0.676,2,  2163.1,2,  2327.3,2,   0.7444,2,   1.7262,2,    1.34,2, -999.00,9,  -999.0,9,    -9.0,   6.906,2,   0.035,     578,   0.0034,  21.9765,   0.0086,    0.14
 316N145_11,       I01W,     951,          1,         31,     SIH029,2,19950925,       0818,     8.5667,    73.8333,       2650,    88.9,  18.5642,  35.2532,2,  35.2497,2,     36.1,2,    34.1,2,   18.58,2,   24.80,2,    0.02,2,    1.81,2,-999.000,9,-999.000,9,  2175.2,2,  2311.2,2,   0.6469,2,   1.7707,2,    3.13,2, -999.00,9,  -999.0,9,    -9.0,   7.156,2,   0.036,     879,   0.0032,  18.5486,   0.0089,    0.14
 316N145_11,       I01W,     951,          1,         30,     SIH030,2,19950925,       0818,     8.5667,    73.8333,       2650,   118.5,  16.3513,  35.1039,2,  35.0941,2,     23.1,2,    22.7,2,   24.22,2,   27.81,2,    0.01,2,    2.01,2,-999.000,9,-999.000,9,  2199.5,2,  2307.7,2,   0.5219,2,   1.7756,2,    4.00,2, -999.00,9,  -999.0,9,    -9.0,   7.268,2,   0.036,    1176,   0.0030,  16.3323,   0.0089,    0.14
 316N145_11,       I01W,     951,          1,         29,     SIH031,2,19950925,       0818,     8.5667,    73.8333,       2650,   148.7,  15.2077,  35.0557,2,  35.0620,2,     14.5,2,    14.8,2,   27.50,2,   29.78,2,    0.01,2,    2.16,2,   0.552,2,   0.293,2,  2216.8,2,  2312.3,2,   0.4308,2,   1.7731,2,    4.35,2, -999.00,9,  -999.0,9,    -9.0,   7.272,2,   0.036,    1478,   0.0028,  15.1851,   0.0089,    0.14
 316N145_11,       I01W,     951,          1,         28,     SIH032,2,19950925,       0818,     8.5667,    73.8333,       2650,   199.0,  13.7880,  35.1080,2,  35.1095,2,     27.0,2,    28.5,2,   27.31,2,   29.56,2,    0.01,2,    2.13,2,-999.000,9,-999.000,9,  2222.1,2,  2314.7,2,   0.3909,2,   1.8079,2,    4.41,2, -999.00,9,  -999.0,9,    -9.0,   7.449,2,   0.037,    1981,   0.0028,  13.7595,   0.0090,    0.14
 316N145_11,       I01W,     951,          1,         27,     SIH033,2,19950925,       0818,     8.5667,    73.8333,       2650,   249.3,  13.1110,  35.1444,2,  35.1530,2,     24.5,2,    25.9,2,   27.68,2,   30.22,2,    0.01,2,    2.19,2,   0.425,3,   0.221,2,  2232.6,2,  2317.4,2,   0.3421,2,   1.7922,2,    4.55,2, -999.00,9,  -999.0,9,    -9.0,   7.398,2,   0.037,    2483,   0.0027,  13.0764,   0.0090,    0.14
 316N145_11,       I01W,     951,          1,         26,     SIH037,3,19950925,       0818,     8.5667,    73.8333,       2650,   303.6,  12.3129,  35.1578,3,  35.1589,2,     23.1,2,    27.7,2,   29.50,2,   30.92,2,    0.01,2,    2.22,2,-999.000,9,-999.000,9,  2239.1,2,  2325.2,2,   0.2852,2,   1.8020,2,    4.65,2, -999.00,9,  -999.0,9,    -9.0,   7.455,2,   0.037,    3027,   0.0026,  12.2725,   0.0090,    0.14
 316N145_11,       I01W,     951,          1,         25,     SI9446,2,19950925,       0818,     8.5667,    73.8333,       2650,   396.2,  11.3069,  35.1655,2,  35.1662,2,     21.5,2,    21.4,2,   35.50,2,   32.84,2,    0.01,2,    2.38,2,   0.186,2,   0.096,2,  -999.0,9,  -999.0,9,   0.1740,2,   1.8184,2,    4.53,2, -999.00,9,  -999.0,9,    -9.0,   7.556,2,   0.038,    3954,   0.0025,  11.2566,   0.0091,    0.14
 316N145_11,       I01W,     951,          1,         24,     SIH036,2,19950925,       0818,     8.5667,    73.8333,       2650,   498.4,  10.1366,  35.1341,2,  35.1348,2,     19.9,2,    19.9,2,   47.32,2,   34.60,2,    0.00,2,    2.57,2,-999.000,9,-999.000,9,  -999.0,9,  -999.0,9,   0.0761,2,   1.7903,2,    5.37,2, -999.00,9,  -999.0,9,    -9.0,   7.488,2,   0.037,    4976,   0.0023,  10.0773,   0.0090,    0.14
 316N145_11,       I01W,     951,          1,         23,     SIH001,2,19950925,       0818,     8.5667,    73.8333,       2650,   600.8,   9.4646,  35.1184,2,  35.1173,2,     20.7,2,    20.3,2,   55.51,2,   35.75,2,    0.00,2,    2.67,2,   0.027,2,   0.016,2,  -999.0,9,  -999.0,9,   0.0440,2,   1.8346,2,    6.27,2, -999.00,9,  -999.0,9,    -9.0,   7.635,2,   0.038,    6000,   0.0023,   9.3956,   0.0092,    0.14
 316N145_11,       I01W,     951,          1,         22,     SIH019,2,19950925,       0818,     8.5667,    73.8333,       2650,   700.8,   8.7423,  35.0812,2,  35.0783,2,     24.7,2,    24.9,2,   63.52,2,   36.63,2,    0.00,2,    2.72,2,-999.000,9,-999.000,9,  -999.0,9,  -999.0,9,-999.0000,9,-999.0000,9, -999.00,9, -999.00,9,  -999.0,9,    -9.0,-999.000,9,-999.000,    7001,-999.0000,   8.6651,-999.0000, -999.00
 316N145_11,       I01W,     951,          1,         20,     SIH004,2,19950925,       0818,     8.5667,    73.8333,       2650,   800.7,   8.1492,  35.0434,2,  35.0368,2,     30.3,2,    29.6,2,   70.26,2,   37.06,2,    0.00,2,    2.75,2,   0.011,2,   0.005,2,  -999.0,9,  -999.0,9,-999.0000,9,-999.0000,9, -999.00,9, -999.00,9,  -999.0,9,    -9.0,-999.000,9,-999.000,    8000,-999.0000,   8.0642,-999.0000, -999.00
 316N145_11,       I01W,     951,          1,         21,     SIH025,2,19950925,       0818,     8.5667,    73.8333,       2650,   800.8,   8.1491,  35.0427,2,  35.0398,2,     30.2,2,  -999.0,9, -999.00,9, -999.00,9, -999.00,9, -999.00,9,-999.000,9,-999.000,9,  -999.0,9,  -999.0,9,   0.0163,2,-999.0000,9, -999.00,9, -999.00,9,  -999.0,9,    -9.0,-999.000,9,-999.000,    8000,   0.0022,   8.0641,-999.0000, -999.00
 316N145_11,       I01W,     951,          1,         19,     SIH005,2,19950925,       0818,     8.5667,    73.8333,       2650,   898.1,   7.7935,  35.0725,2,  35.0726,2,     32.8,2,    29.3,2,   75.73,2,   37.29,2,    0.00,2,    2.79,2,-999.000,9,-999.000,9,  -999.0,9,  -999.0,9,-999.0000,9,-999.0000,9, -999.00,9, -999.00,9,  -999.0,9,    -9.0,-999.000,9,-999.000,    8975,-999.0000,   7.6999,-999.0000, -999.00
 316N145_11,       I01W,     951,          1,         18,     SIH006,2,19950925,       0818,     8.5667,    73.8333,       2650,   998.4,   7.0858,  35.0142,2,  35.0124,2,     37.6,2,    37.5,2,   83.20,2,   37.67,2,    0.00,2,    2.80,2,   0.003,2,   0.003,2,  -999.0,9,  -999.0,9,   0.0084,2,   1.8252,2,   10.00,2, -999.00,9,  -999.0,9,    -9.0,   7.646,2,   0.038,    9978,   0.0022,   6.9862,   0.0091,    0.14
 316N145_11,       I01W,     951,          1,         17,     SIH038,2,19950925,       0818,     8.5667,    73.8333,       2650,  1100.0,   6.3413,  34.9586,2,  34.9569,2,     47.6,2,    48.2,2,   90.86,2,   37.78,2,    0.00,2,    2.81,2,-999.000,9,-999.000,9,  -999.0,9,  -999.0,9,-999.0000,9,-999.0000,9, -999.00,9, -999.00,9,  -999.0,9,    -9.0,-999.000,9,-999.000,   10994,-999.0000,   6.2370,-999.0000, -999.00
 316N145_11,       I01W,     951,          1,         16,     SIH008,2,19950925,       0818,     8.5667,    73.8333,       2650,  1196.6,   5.8963,  34.9355,2,  34.9345,2,     54.6,2,    54.1,2,   95.60,2,   37.78,2,    0.00,2,    2.80,2,   0.000,2,   0.000,2,  -999.0,9,  -999.0,9,-999.0000,9,-999.0000,9, -999.00,9, -999.00,9,  -999.0,9,    -9.0,-999.000,9,-999.000,   11961,-999.0000,   5.7861,-999.0000, -999.00
 316N145_11,       I01W,     951,          1,         15,     SIH009,3,19950925,       0818,     8.5667,    73.8333,       2650,  1298.2,   5.5511,  34.9197,3,  34.9189,2,     59.9,2,    59.7,2,   99.08,2,   37.73,2,    0.00,2,    2.79,2,-999.000,9,-999.000,9,  -999.0,9,  -999.0,9,   0.0033,2,   1.8575,2,   11.44,2, -999.00,9,  -999.0,9,    -9.0,   7.791,2,   0.039,   12977,   0.0022,   5.4339,   0.0093,    0.14
 316N145_11,       I01W,     951,          1,         14,     SIH010,2,19950925,       0818,     8.5667,    73.8333,       2650,  1399.5,   5.1248,  34.9116,2,  34.9109,2,     66.5,2,    65.8,2,  103.82,2,   37.67,2,    0.00,2,    2.79,2,  -0.004,2,  -0.001,2,  -999.0,9,  -999.0,9,-999.0000,9,-999.0000,9, -999.00,9, -999.00,9,  -999.0,9,    -9.0,-999.000,9,-999.000,   13991,-999.0000,   5.0020,-999.0000, -999.00
 316N145_11,       I01W,     951,          1,         13,     SIH011,2,19950925,       0818,     8.5667,    73.8333,       2650,  1500.7,   4.5904,  34.8815,2,  34.8796,2,     75.4,2,    77.2,2,  109.12,2,   37.40,2,    0.00,2,    2.76,2,-999.000,9,-999.000,9,  -999.0,9,  -999.0,9,-999.0000,9,-999.0000,9, -999.00,9, -999.00,9,  -999.0,9,    -9.0,-999.000,9,-999.000,   15003,-999.0000,   4.4637,-999.0000, -999.00
 316N145_11,       I01W,     951,          1,         12,     SIH012,2,19950925,       0818,     8.5667,    73.8333,       2650,  1597.6,   4.1620,  34.8588,2,  34.8597,2,     84.4,2,    86.0,2,  113.70,2,   37.24,2,    0.00,2,    2.73,2,  -0.002,2,  -0.001,2,  -999.0,9,  -999.0,9,-999.0000,9,-999.0000,9, -999.00,9, -999.00,9,  -999.0,9,    -9.0,-999.000,9,-999.000,   15973,-999.0000,   4.0311,-999.0000, -999.00
 316N145_11,       I01W,     951,          1,         11,     SI9426,2,19950925,       0818,     8.5667,    73.8333,       2650,  1799.1,   3.3113,  34.8155,2,  34.8155,2,    102.7,2,   103.4,2,  123.01,2,   36.70,2,    0.00,2,    2.67,2,-999.000,9,-999.000,9,  -999.0,9,  -999.0,9,-999.0000,9,-999.0000,9, -999.00,9, -999.00,9,  -999.0,9,    -9.0,-999.000,9,-999.000,   17989,-999.0000,   3.1729,-999.0000, -999.00
 316N145_11,       I01W,     951,          1,         10,     SIH014,2,19950925,       0818,     8.5667,    73.8333,       2650,  2001.1,   2.8580,  34.7909,2,  34.7915,2,    114.8,2,   115.0,2,  128.13,2,   36.43,2,    0.00,2,    2.63,2,  -0.003,2,  -0.002,2,  -999.0,9,  -999.0,9,-999.0000,9,-999.0000,9, -999.00,9, -999.00,9,  -999.0,9,    -9.0,-999.000,9,-999.000,   20010,-999.0000,   2.7079,-999.0000, -999.00
 316N145_11,       I01W,     951,          1,          9,     SIH015,2,19950925,       0818,     8.5667,    73.8333,       2650,  2194.7,   2.5124,  34.7753,2,  34.7750,2,    123.9,2,   124.1,2,  132.34,2,   36.15,2,    0.00,2,    2.59,2,-999.000,9,-999.000,9,  -999.0,9,  -999.0,9,-999.0000,9,-999.0000,9, -999.00,9, -999.00,9,  -999.0,9,    -9.0,-999.000,9,-999.000,   21948,-999.0000,   2.3503,-999.0000, -999.00
 316N145_11,       I01W,     951,          1,          8,     SIH016,2,19950925,       0818,     8.5667,    73.8333,       2650,  2393.1,   2.1986,  34.7559,2,  34.7565,2,    131.7,2,   131.3,2,  136.37,2,   35.94,2,    0.00,2,    2.56,2,  -0.004,2,   0.000,2,  -999.0,9,  -999.0,9,-999.0000,9,-999.0000,9, -999.00,9, -999.00,9,  -999.0,9,    -9.0,-999.000,9,-999.000,   23933,-999.0000,   2.0240,-999.0000, -999.00
 316N145_11,       I01W,     951,          1,          7,     SIH017,2,19950925,       0818,     8.5667,    73.8333,       2650,  2598.7,   2.0239,  34.7468,2,  34.7478,2,    134.3,2,   135.0,2,  138.58,2,   35.71,2,    0.00,2,    2.54,2,-999.000,9,-999.000,9,  -999.0,9,  -999.0,9,-999.0000,9,-999.0000,9, -999.00,9, -999.00,9,  -999.0,9,    -9.0,-999.000,9,-999.000,   25991,-999.0000,   1.8337,-999.0000, -999.00
 316N145_11,       I01W,     951,          1,          6,     SIH018,2,19950925,       0818,     8.5667,    73.8333,       2650,  2650.0,   1.9944,  34.7449,2,  34.7455,2,    136.6,2,   136.6,2,  139.15,2,   35.71,2,    0.00,2,    2.54,2,   0.005,2,  -0.002,2,  -999.0,9,  -999.0,9,-999.0000,9,-999.0000,9, -999.00,9, -999.00,9,  -999.0,9,    -9.0,-999.000,9,-999.000,   26504,-999.0000,   1.8001,-999.0000, -999.00
 316N145_11,       I01W,     951,          1,          3,     SIH021,2,19950925,       0818,     8.5667,    73.8333,       2650,  2700.7,   1.9451,  34.7419,2,  34.7433,2,    135.7,2,  -999.0,9, -999.00,9, -999.00,9, -999.00,9, -999.00,9,-999.000,9,-999.000,9,  -999.0,9,  -999.0,9,-999.0000,9,-999.0000,9, -999.00,9, -999.00,9,  -999.0,9,    -9.0,-999.000,9,-999.000,   27011,-999.0000,   1.7470,-999.0000, -999.00
 316N145_11,       I01W,     951,          1,          2,     SIH022,2,19950925,       0818,     8.5667,    73.8333,       2650,  2700.7,   1.9452,  34.7419,2,  34.7433,2,    135.7,2,  -999.0,9, -999.00,9, -999.00,9, -999.00,9, -999.00,9,-999.000,9,-999.000,9,  -999.0,9,  -999.0,9,-999.0000,9,-999.0000,9, -999.00,9, -999.00,9,  -999.0,9,    -9.0,-999.000,9,-999.000,   27012,-999.0000,   1.7471,-999.0000, -999.00
 316N145_11,       I01W,     951,          1,          1,     SIH023,2,19950925,       0818,     8.5667,    73.8333,       2650,  2701.0,   1.9441,  34.7431,2,  34.7431,2,    135.7,2,  -999.0,9, -999.00,9, -999.00,9, -999.00,9, -999.00,9,-999.000,9,-999.000,9,  -999.0,9,  -999.0,9,-999.0000,9,-999.0000,9, -999.00,9, -999.00,9,  -999.0,9,    -9.0,-999.000,9,-999.000,   27015,-999.0000,   1.7459,-999.0000, -999.00
 316N145_11,       I01W,     951,          1,          5,     SIH002,2,19950925,       0818,     8.5667,    73.8333,       2650,  2701.4,   1.9440,  34.7436,2,  34.7427,2,    135.7,2,   137.6,2,  140.74,2,   35.72,2,    0.00,2,    2.53,2,-999.000,9,-999.000,9,  -999.0,9,  -999.0,9,-999.0000,9,-999.0000,9, -999.00,9, -999.00,9,  -999.0,9,    -9.0,-999.000,9,-999.000,   27018,-999.0000,   1.7459,-999.0000, -999.00
 316N145_11,       I01W,     951,          1,          4,     SIH020,2,19950925,       0818,     8.5667,    73.8333,       2650,  2701.7,   1.9438,  34.7423,2,  34.7435,2,    135.7,2,  -999.0,9, -999.00,9, -999.00,9, -999.00,9, -999.00,9,-999.000,9,-999.000,9,  -999.0,9,  -999.0,9,-999.0000,9,-999.0000,9, -999.00,9, -999.00,9,  -999.0,9,    -9.0,-999.000,9,-999.000,   27022,-999.0000,   1.7456,-999.0000, -999.00