BOTTLE,20211119CCHSIORKP
EXPOCODE,SECT_ID,STNNBR,CASTNO,SAMPNO,BTLNBR,BTLNBR_FLAG_W,DATE,TIME,LATITUDE,LONGITUDE,DEPTH,CTDPRS,CTDTMP,CTDSAL,CTDSAL_FLAG_W,SALNTY,SALNTY_FLAG_W,CTDOXY,CTDOXY_FLAG_W,OXYGEN,OXYGEN_FLAG_W,SILCAT,SILCAT_FLAG_W,NITRAT,NITRAT_FLAG_W,NITRIT,NITRIT_FLAG_W,PHSPHT,PHSPHT_FLAG_W,CFC-11,CFC-11_FLAG_W,CFC-12,CFC-12_FLAG_W,TCARBN,TCARBN_FLAG_W,ALKALI,ALKALI_FLAG_W,TRITUM,TRITUM_FLAG_W,HELIUM,HELIUM_FLAG_W,DELHE3,DELHE3_FLAG_W,DELC13,DELC13_FLAG_W,DELC14,DELC14_FLAG_W,C14ERR,NEON,NEON_FLAG_W,NEONER,CTDRAW,TRITER,THETA,HELIER,DELHER
,,,,,,,,,,,METERS,DBAR,ITS-90,PSS-78,,PSS-78,,UMOL/KG,,UMOL/KG,,UMOL/KG,,UMOL/KG,,UMOL/KG,,UMOL/KG,,PMOL/KG,,PMOL/KG,,UMOL/KG,,UMOL/KG,,TU,,NMOL/KG,,PERCNT,,/MILLE,,/MILLE,,/MILLE,NMOL/KG,,NMOL/KG,DBAR,TU,DEG C,NMOL/KG,PERCNT
 316N145_11,       I01W,     891,          1,         25,     SI9446,2,19950908,       2333,    13.8305,    51.5055,       1825,     7.7,  28.1154,  36.1709,2,  36.1306,2,    202.6,2,   200.9,2,    2.15,2,    1.66,2,    0.10,2,    0.42,2,   1.549,2,   0.900,2,  2029.6,2,  2358.5,2,-999.0000,9,-999.0000,9, -999.00,9, -999.00,9,  -999.0,9,    -9.0,-999.000,9,-999.000,      57,-999.0000,  28.1136,-999.0000, -999.00
 316N145_11,       I01W,     891,          1,         24,     SIH036,2,19950908,       2333,    13.8305,    51.5055,       1825,    27.9,  18.8184,  35.6527,2,  35.6246,2,     72.8,2,    41.4,2,   17.46,2,   23.53,2,    0.33,2,    1.89,2,-999.000,9,-999.000,9,  2197.0,2,  2321.6,2,-999.0000,9,-999.0000,9, -999.00,9, -999.00,9,  -999.0,9,    -9.0,-999.000,9,-999.000,     258,-999.0000,  18.8135,-999.0000, -999.00
 316N145_11,       I01W,     891,          1,         23,     SIH001,2,19950908,       2333,    13.8305,    51.5055,       1825,    57.7,  16.2970,  35.4130,2,  35.4247,2,     46.7,2,    55.2,2,   20.14,2,   23.49,2,    0.06,2,    1.84,2,   1.064,2,   0.590,2,  2194.0,2,  2318.2,2,-999.0000,9,-999.0000,9, -999.00,9, -999.00,9,  -999.0,9,    -9.0,-999.000,9,-999.000,     557,-999.0000,  16.2878,-999.0000, -999.00
 316N145_11,       I01W,     891,          1,         22,     SIH019,2,19950908,       2333,    13.8305,    51.5055,       1825,    87.9,  15.5778,  35.3641,2,  35.3660,2,     65.4,2,    64.2,2,   20.52,2,   23.42,2,    0.03,2,    1.80,2,-999.000,9,-999.000,9,  2192.0,2,  2316.6,2,-999.0000,9,-999.0000,9, -999.00,9, -999.00,9,  -999.0,9,    -9.0,-999.000,9,-999.000,     859,-999.0000,  15.5642,-999.0000, -999.00
 316N145_11,       I01W,     891,          1,         21,     SIH025,2,19950908,       2333,    13.8305,    51.5055,       1825,   117.4,  14.4391,  35.3064,2,  35.3082,2,     69.1,2,    71.4,2,   21.28,2,   23.80,2,    0.02,2,    1.80,2,   0.967,2,   0.511,2,  2194.9,2,  2314.8,2,-999.0000,9,-999.0000,9, -999.00,9, -999.00,9,  -999.0,9,    -9.0,-999.000,9,-999.000,    1154,-999.0000,  14.4217,-999.0000, -999.00
 316N145_11,       I01W,     891,          1,         20,     SIH004,2,19950908,       2333,    13.8305,    51.5055,       1825,   147.9,  13.9815,  35.3959,2,  35.3918,2,     78.1,2,    53.9,2,   24.14,2,   25.55,2,    0.01,2,    1.96,2,-999.000,9,-999.000,9,  2213.4,2,  2316.8,2,-999.0000,9,-999.0000,9, -999.00,9, -999.00,9,  -999.0,9,    -9.0,-999.000,9,-999.000,    1459,-999.0000,  13.9601,-999.0000, -999.00
 316N145_11,       I01W,     891,          1,         19,     SIH005,2,19950908,       2333,    13.8305,    51.5055,       1825,   177.8,  13.4316,  35.3093,2,  35.3198,2,     58.4,2,    63.7,2,   23.76,2,   25.33,2,    0.01,2,    1.92,2,   0.845,2,   0.446,2,  2208.7,2,  2317.3,2,-999.0000,9,-999.0000,9, -999.00,9, -999.00,9,  -999.0,9,    -9.0,-999.000,9,-999.000,    1758,-999.0000,  13.4065,-999.0000, -999.00
 316N145_11,       I01W,     891,          1,         18,     SIH006,2,19950908,       2333,    13.8305,    51.5055,       1825,   197.9,  13.3935,  35.3551,2,  35.3622,2,     62.5,2,    56.6,2,   25.09,2,   25.80,2,    0.02,2,    1.97,2,-999.000,9,-999.000,9,  2215.4,2,  2318.1,2,-999.0000,9,-999.0000,9, -999.00,9, -999.00,9,  -999.0,9,    -9.0,-999.000,9,-999.000,    1960,-999.0000,  13.3656,-999.0000, -999.00
 316N145_11,       I01W,     891,          1,         17,     SIH038,2,19950908,       2333,    13.8305,    51.5055,       1825,   247.9,  13.1377,  35.4476,2,  35.4578,2,     44.5,2,    47.8,2,   27.38,2,   27.08,2,    0.00,2,    2.07,2,   0.645,2,   0.342,2,  2227.5,2,  2322.6,2,-999.0000,9,-999.0000,9, -999.00,9, -999.00,9,  -999.0,9,    -9.0,-999.000,9,-999.000,    2459,-999.0000,  13.1033,-999.0000, -999.00
 316N145_11,       I01W,     891,          1,         16,     SIH008,2,19950908,       2333,    13.8305,    51.5055,       1825,   298.0,  13.6745,  35.6789,2,  35.6869,2,     31.0,2,    28.6,2,   29.48,2,   28.07,2,    0.01,2,    2.19,2,   0.552,2,   0.304,2,  2241.0,2,  2329.2,2,-999.0000,9,-999.0000,9, -999.00,9, -999.00,9,  -999.0,9,    -9.0,-999.000,9,-999.000,    2961,-999.0000,  13.6316,-999.0000, -999.00
 316N145_11,       I01W,     891,          1,         15,     SIH009,2,19950908,       2333,    13.8305,    51.5055,       1825,   398.0,  12.1477,  35.4934,2,  35.5119,2,     32.0,2,    32.0,2,   35.40,2,   29.76,2,    0.00,2,    2.30,2,-999.000,9,-999.000,9,  -999.0,9,  -999.0,9,-999.0000,9,-999.0000,9, -999.00,9, -999.00,9,  -999.0,9,    -9.0,-999.000,9,-999.000,    3961,-999.0000,  12.0946,-999.0000, -999.00
 316N145_11,       I01W,     891,          1,         14,     SIH010,2,19950908,       2333,    13.8305,    51.5055,       1825,   497.2,  13.2757,  35.8551,2,  35.9068,2,     23.6,2,    22.3,2,   36.91,2,   29.29,2,    0.00,2,    2.32,2,   0.353,2,   0.190,2,  2253.6,2,  2341.9,2,-999.0000,9,-999.0000,9, -999.00,9, -999.00,9,  -999.0,9,    -9.0,-999.000,9,-999.000,    4954,-999.0000,  13.2051,-999.0000, -999.00
 316N145_11,       I01W,     891,          1,         13,     SIH011,2,19950908,       2333,    13.8305,    51.5055,       1825,   598.0,  13.6276,  36.1703,2,  36.1876,2,     18.9,2,    19.4,2,   38.43,2,   28.75,2,    0.00,2,    2.30,2,-999.000,9,-999.000,9,  -999.0,9,  -999.0,9,-999.0000,9,-999.0000,9, -999.00,9, -999.00,9,  -999.0,9,    -9.0,-999.000,9,-999.000,    5963,-999.0000,  13.5406,-999.0000, -999.00
 316N145_11,       I01W,     891,          1,         12,     SIH012,2,19950908,       2333,    13.8305,    51.5055,       1825,   698.2,  13.3125,  36.2077,2,  36.2067,2,     17.9,2,    17.5,2,   42.63,2,   29.38,2,    0.00,2,    2.34,2,   0.339,3,   0.176,2,  2260.8,2,  2355.7,2,-999.0000,9,-999.0000,9, -999.00,9, -999.00,9,  -999.0,9,    -9.0,-999.000,9,-999.000,    6967,-999.0000,  13.2120,-999.0000, -999.00
 316N145_11,       I01W,     891,          1,         11,     SI9426,2,19950908,       2333,    13.8305,    51.5055,       1825,   797.2,  11.0531,  35.7325,2,  35.7323,2,     15.9,2,    13.7,2,   56.98,2,   32.87,2,    0.00,2,    2.64,2,-999.000,9,-999.000,9,  -999.0,9,  -999.0,9,-999.0000,9,-999.0000,9, -999.00,9, -999.00,9,  -999.0,9,    -9.0,-999.000,9,-999.000,    7957,-999.0000,  10.9511,-999.0000, -999.00
 316N145_11,       I01W,     891,          1,         10,     SIH014,2,19950908,       2333,    13.8305,    51.5055,       1825,   903.2,   9.5776,  35.5113,2,  35.5123,2,     17.3,2,    13.4,2,   68.65,2,   35.15,2,    0.00,2,    2.77,2,   0.062,2,   0.035,2,  2300.2,2,  2366.3,2,-999.0000,9,-999.0000,9, -999.00,9, -999.00,9,  -999.0,9,    -9.0,-999.000,9,-999.000,    9018,-999.0000,   9.4711,-999.0000, -999.00
 316N145_11,       I01W,     891,          1,          9,     SIH015,2,19950908,       2333,    13.8305,    51.5055,       1825,  1000.4,   8.9241,  35.4473,2,  35.4492,2,     20.3,2,    15.1,2,   74.76,2,   35.83,2,    0.00,2,    2.82,2,-999.000,9,-999.000,9,  -999.0,9,  -999.0,9,-999.0000,9,-999.0000,9, -999.00,9, -999.00,9,  -999.0,9,    -9.0,-999.000,9,-999.000,    9992,-999.0000,   8.8103,-999.0000, -999.00
 316N145_11,       I01W,     891,          1,          8,     SIH016,2,19950908,       2333,    13.8305,    51.5055,       1825,  1097.1,   7.9915,  35.3312,2,  35.3370,2,     23.9,2,    20.6,2,   82.22,2,   36.84,2,    0.00,2,    2.88,2,   0.032,2,   0.015,2,  2315.6,2,  2371.3,2,-999.0000,9,-999.0000,9, -999.00,9, -999.00,9,  -999.0,9,    -9.0,-999.000,9,-999.000,   10960,-999.0000,   7.8736,-999.0000, -999.00
 316N145_11,       I01W,     891,          1,          7,     SIH017,2,19950908,       2333,    13.8305,    51.5055,       1825,  1196.4,   7.3889,  35.2615,2,  35.2656,2,     30.9,2,    27.7,2,   87.76,2,   37.16,2,    0.00,2,    2.88,2,-999.000,9,-999.000,9,  -999.0,9,  -999.0,9,-999.0000,9,-999.0000,9, -999.00,9, -999.00,9,  -999.0,9,    -9.0,-999.000,9,-999.000,   11955,-999.0000,   7.2650,-999.0000, -999.00
 316N145_11,       I01W,     891,          1,          6,     SIH018,2,19950908,       2333,    13.8305,    51.5055,       1825,  1301.4,   6.4993,  35.1581,2,  35.1616,2,     37.6,2,    34.2,2,   96.17,2,   37.84,2,   -0.01,2,    2.92,2,   0.012,2,   0.003,2,  2327.6,2,  2382.9,2,-999.0000,9,-999.0000,9, -999.00,9, -999.00,9,  -999.0,9,    -9.0,-999.000,9,-999.000,   13007,-999.0000,   6.3724,-999.0000, -999.00
 316N145_11,       I01W,     891,          1,          5,     SIH002,2,19950908,       2333,    13.8305,    51.5055,       1825,  1395.5,   6.0174,  35.1056,2,  35.1069,2,     44.3,2,    42.5,2,  100.95,2,   37.74,2,    0.00,2,    2.91,2,-999.000,9,-999.000,9,  -999.0,9,  -999.0,9,-999.0000,9,-999.0000,9, -999.00,9, -999.00,9,  -999.0,9,    -9.0,-999.000,9,-999.000,   13950,-999.0000,   5.8853,-999.0000, -999.00
 316N145_11,       I01W,     891,          1,          4,     SIH020,2,19950908,       2333,    13.8305,    51.5055,       1825,  1497.7,   5.4037,  35.0439,2,  35.0447,2,     51.5,2,    51.1,2,  107.45,2,   37.80,2,    0.00,2,    2.90,2,   0.003,2,   0.002,2,  2333.9,2,  2395.9,2,-999.0000,9,-999.0000,9, -999.00,9, -999.00,9,  -999.0,9,    -9.0,-999.000,9,-999.000,   14973,-999.0000,   5.2678,-999.0000, -999.00
 316N145_11,       I01W,     891,          1,          3,     SIH021,2,19950908,       2333,    13.8305,    51.5055,       1825,  1599.2,   4.5567,  34.9671,2,  34.9677,2,     64.1,2,    64.0,2,  118.92,2,   37.63,2,    0.00,2,    2.87,2,-999.000,9,-999.000,9,  -999.0,9,  -999.0,9,-999.0000,9,-999.0000,9, -999.00,9, -999.00,9,  -999.0,9,    -9.0,-999.000,9,-999.000,   15990,-999.0000,   4.4207,-999.0000, -999.00
 316N145_11,       I01W,     891,          1,          2,     SIH022,2,19950908,       2333,    13.8305,    51.5055,       1825,  1767.4,   3.8843,  34.9170,2,  34.9178,2,     73.6,2,    73.4,2,  129.78,2,   37.17,2,    0.00,2,    2.83,2,-999.000,9,-999.000,9,  -999.0,9,  -999.0,9,-999.0000,9,-999.0000,9, -999.00,9, -999.00,9,  -999.0,9,    -9.0,-999.000,9,-999.000,   17675,-999.0000,   3.7408,-999.0000, -999.00
 316N145_11,       I01W,     891,          1,          1,     SIH023,2,19950908,       2333,    13.8305,    51.5055,       1825,  1816.0,   3.7234,  34.9055,2,  34.9060,2,   -999.0,9,    75.4,2,  132.57,2,   37.10,2,    0.00,2,    2.83,2,   0.002,2,   0.006,2,  2352.9,2,  2425.3,2,-999.0000,9,-999.0000,9, -999.00,9, -999.00,9,  -999.0,9,    -9.0,-999.000,9,-999.000,   18162,-999.0000,   3.5776,-999.0000, -999.00