BOTTLE,20211119CCHSIORKP
EXPOCODE,SECT_ID,STNNBR,CASTNO,SAMPNO,BTLNBR,BTLNBR_FLAG_W,DATE,TIME,LATITUDE,LONGITUDE,DEPTH,CTDPRS,CTDTMP,CTDSAL,CTDSAL_FLAG_W,SALNTY,SALNTY_FLAG_W,CTDOXY,CTDOXY_FLAG_W,OXYGEN,OXYGEN_FLAG_W,SILCAT,SILCAT_FLAG_W,NITRAT,NITRAT_FLAG_W,NITRIT,NITRIT_FLAG_W,PHSPHT,PHSPHT_FLAG_W,CFC-11,CFC-11_FLAG_W,CFC-12,CFC-12_FLAG_W,TCARBN,TCARBN_FLAG_W,ALKALI,ALKALI_FLAG_W,TRITUM,TRITUM_FLAG_W,HELIUM,HELIUM_FLAG_W,DELHE3,DELHE3_FLAG_W,DELC13,DELC13_FLAG_W,DELC14,DELC14_FLAG_W,C14ERR,NEON,NEON_FLAG_W,NEONER,CTDRAW,TRITER,THETA,HELIER,DELHER
,,,,,,,,,,,METERS,DBAR,ITS-90,PSS-78,,PSS-78,,UMOL/KG,,UMOL/KG,,UMOL/KG,,UMOL/KG,,UMOL/KG,,UMOL/KG,,PMOL/KG,,PMOL/KG,,UMOL/KG,,UMOL/KG,,TU,,NMOL/KG,,PERCNT,,/MILLE,,/MILLE,,/MILLE,NMOL/KG,,NMOL/KG,DBAR,TU,DEG C,NMOL/KG,PERCNT
 316N145_11,       I01W,     959,          1,         27,     SIH033,2,19950927,       1648,     6.5500,    79.2972,       2345,     4.3,  28.4307,  35.1252,2,  35.1264,2,    214.8,2,   209.3,2,    1.94,2,    0.13,2,    0.02,2,    0.16,2,   1.602,2,   0.936,2,  1940.2,2,  2298.6,2,   0.9790,2,   1.7019,2,   -1.41,2, -999.00,9,  -999.0,9,    -9.0,   6.632,2,   0.033,      33,   0.0038,  28.4296,   0.0085,    0.14
 316N145_11,       I01W,     959,          1,         26,     SIH037,2,19950927,       1648,     6.5500,    79.2972,       2345,    14.7,  28.4121,  35.1339,2,  35.1276,2,    213.3,2,   215.2,2,    1.94,2,    0.19,2,    0.01,2,    0.17,2,-999.000,9,-999.000,9,  1941.6,2,  2296.6,2,-999.0000,9,-999.0000,9, -999.00,9, -999.00,9,  -999.0,9,    -9.0,-999.000,9,-999.000,     137,-999.0000,  28.4086,-999.0000, -999.00
 316N145_11,       I01W,     959,          1,         25,     SI9446,2,19950927,       1648,     6.5500,    79.2972,       2345,    44.4,  26.7882,  35.3047,2,  35.3092,2,    163.4,2,   161.7,2,    4.62,2,    4.53,2,    0.83,2,    0.52,2,-999.000,9,-999.000,9,  2005.3,2,  2307.3,2,   0.9375,2,   1.7203,2,   -0.64,2, -999.00,9,  -999.0,9,    -9.0,   6.737,2,   0.034,     434,   0.0038,  26.7781,   0.0086,    0.14
 316N145_11,       I01W,     959,          1,         24,     SIH036,2,19950927,       1648,     6.5500,    79.2972,       2345,    74.1,  22.4873,  35.3920,2,  35.3721,2,     71.3,2,    70.9,2,   11.95,2,   17.77,2,    0.25,2,    1.35,2,-999.000,9,-999.000,9,  2118.7,2,  2316.3,2,   0.7970,2,   1.7431,2,    1.31,2, -999.00,9,  -999.0,9,    -9.0,   6.958,2,   0.035,     732,   0.0035,  22.4724,   0.0087,    0.14
 316N145_11,       I01W,     959,          1,         23,     SIH001,3,19950927,       1648,     6.5500,    79.2972,       2345,   104.2,  20.0233,  35.2172,3,  35.2337,2,     59.6,2,    62.8,2,   14.81,2,   20.65,2,    0.04,2,    1.50,2,   1.219,2,   0.671,2,  2139.4,2,  2307.8,2,   0.7408,2,   1.7606,2,    2.17,2, -999.00,9,  -999.0,9,    -9.0,   7.105,2,   0.036,    1032,   0.0034,  20.0040,   0.0088,    0.14
 316N145_11,       I01W,     959,          1,         22,     SIH019,2,19950927,       1648,     6.5500,    79.2972,       2345,   134.4,  17.8903,  35.2155,2,  35.2150,2,     40.8,2,    50.3,2,   17.85,2,   23.64,2,    0.04,2,    1.69,2,-999.000,9,-999.000,9,  2167.1,2,  2308.7,2,   0.6581,2,   1.7838,2,    3.06,2, -999.00,9,  -999.0,9,    -9.0,   7.221,2,   0.036,    1335,   0.0033,  17.8673,   0.0089,    0.14
 316N145_11,       I01W,     959,          1,         21,     SIH025,2,19950927,       1648,     6.5500,    79.2972,       2345,   173.6,  15.2493,  35.1486,2,  35.1457,2,     45.6,2,    43.9,2,   22.14,2,   26.44,2,    0.02,2,    1.88,2,-999.000,9,-999.000,9,  2195.0,2,  2308.8,2,   0.5322,2,   1.7641,2,    4.47,2, -999.00,9,  -999.0,9,    -9.0,   7.255,2,   0.036,    1727,   0.0030,  15.2227,   0.0088,    0.14
 316N145_11,       I01W,     959,          1,         20,     SIH004,2,19950927,       1648,     6.5500,    79.2972,       2345,   223.9,  13.1900,  35.1252,2,  35.1222,2,     39.5,2,    44.1,2,   25.72,2,   28.56,2,    0.02,2,    2.03,2,-999.000,9,-999.000,9,  2216.1,2,  2312.8,2,   0.3921,2,   1.7985,2,    4.62,2, -999.00,9,  -999.0,9,    -9.0,   7.440,2,   0.037,    2230,   0.0028,  13.1588,   0.0090,    0.14
 316N145_11,       I01W,     959,          1,         19,     SIH005,2,19950927,       1648,     6.5500,    79.2972,       2345,   273.9,  12.2246,  35.1195,2,  35.1175,2,     35.8,2,    38.0,2,   28.57,2,   30.31,2,    0.02,2,    2.13,2,   0.411,2,   0.215,2,  2230.3,2,  2317.7,2,   0.3028,2,   1.8126,2,    4.50,2, -999.00,9,  -999.0,9,    -9.0,   7.594,2,   0.038,    2730,   0.0027,  12.1883,   0.0091,    0.14
 316N145_11,       I01W,     959,          1,         18,     SIH006,2,19950927,       1648,     6.5500,    79.2972,       2345,   349.5,  11.4316,  35.1095,2,  35.1085,2,     31.8,2,    32.1,2,   32.86,2,   32.11,2,    0.01,2,    2.26,2,-999.000,9,-999.000,9,  2243.2,2,  2318.0,2,   0.2146,2,   1.8091,2,    4.63,2, -999.00,9,  -999.0,9,    -9.0,   7.532,2,   0.038,    3486,   0.0026,  11.3871,   0.0090,    0.14
 316N145_11,       I01W,     959,          1,         17,     SIH038,2,19950927,       1648,     6.5500,    79.2972,       2345,   450.0,  10.3645,  35.0758,2,  35.0758,2,     15.1,2,    16.4,2,   45.02,2,   35.12,2,    0.00,2,    2.52,2,-999.000,9,-999.000,9,  2269.0,2,  2327.1,2,   0.0932,2,   1.8412,2,    5.27,2, -999.00,9,  -999.0,9,    -9.0,   7.640,2,   0.038,    4492,   0.0023,  10.3104,   0.0092,    0.14
 316N145_11,       I01W,     959,          1,         16,     SIH008,2,19950927,       1648,     6.5500,    79.2972,       2345,   550.3,   9.7021,  35.0618,2,  35.0624,2,     16.3,2,    18.7,2,   51.82,2,   35.88,2,    0.00,2,    2.61,2,   0.041,2,   0.021,2,  2276.9,2,  2334.2,2,   0.0532,2,   1.8227,2,    5.80,2, -999.00,9,  -999.0,9,    -9.0,   7.593,2,   0.038,    5494,   0.0023,   9.6382,   0.0091,    0.14
 316N145_11,       I01W,     959,          1,         15,     SIH009,2,19950927,       1648,     6.5500,    79.2972,       2345,   650.3,   8.8858,  35.0330,2,  35.0327,2,     22.4,2,    22.7,2,   60.57,2,   36.68,2,    0.01,2,    2.67,2,-999.000,9,-999.000,9,  2285.7,2,  2341.7,2,   0.0296,2,   1.8506,2,    6.91,2, -999.00,9,  -999.0,9,    -9.0,   7.695,2,   0.038,    6495,   0.0023,   8.8138,   0.0093,    0.14
 316N145_11,       I01W,     959,          1,         14,     SIH010,2,19950927,       1648,     6.5500,    79.2972,       2345,   750.9,   8.1747,  35.0069,2,  35.0094,2,     26.7,2,    27.0,2,   69.52,2,   36.97,2,    0.00,2,    2.73,2,-999.000,9,-999.000,9,  2295.3,2,  2352.8,2,   0.0159,2,   1.8224,2,    8.11,2, -999.00,9,  -999.0,9,    -9.0,   7.638,2,   0.038,    7502,   0.0022,   8.0951,   0.0091,    0.14
 316N145_11,       I01W,     959,          1,         13,     SIH011,2,19950927,       1648,     6.5500,    79.2972,       2345,   845.9,   7.7051,  35.0056,2,  35.0033,2,     31.9,2,    32.0,2,   74.88,2,   37.30,2,    0.00,2,    2.75,2,   0.004,2,  -0.001,2,  2298.6,2,  2358.2,2,   0.0128,2,-999.0000,9, -999.00,9, -999.00,9,  -999.0,9,    -9.0,-999.000,9,-999.000,    8452,   0.0023,   7.6177,-999.0000, -999.00
 316N145_11,       I01W,     959,          1,         12,     SIH012,2,19950927,       1648,     6.5500,    79.2972,       2345,   947.3,   7.0217,  34.9565,2,  34.9547,2,     40.6,2,    39.5,2,   82.03,2,   37.62,2,    0.00,2,    2.75,2,-999.000,9,-999.000,9,  2304.8,2,  2364.8,2,-999.0000,9,-999.0000,9, -999.00,9, -999.00,9,  -999.0,9,    -9.0,-999.000,9,-999.000,    9466,-999.0000,   6.9281,-999.0000, -999.00
 316N145_11,       I01W,     959,          1,         11,     SI9426,2,19950927,       1648,     6.5500,    79.2972,       2345,  1047.4,   6.3959,  34.9287,2,  34.9298,2,     47.3,2,    47.6,2,   89.01,2,   37.68,2,    0.00,2,    2.76,2,   0.000,2,   0.000,2,  2310.0,2,  2371.4,2,-999.0000,9,   1.8461,2,   10.45,2, -999.00,9,  -999.0,9,    -9.0,   7.732,2,   0.039,   10468,-999.0000,   6.2966,   0.0092,    0.14
 316N145_11,       I01W,     959,          1,         10,     SIH014,2,19950927,       1648,     6.5500,    79.2972,       2345,  1148.4,   5.9497,  34.9112,2,  34.9111,2,     55.1,2,    54.5,2,   94.37,2,   37.57,2,    0.01,2,    2.77,2,-999.000,9,-999.000,9,  -999.0,9,  -999.0,9,-999.0000,9,-999.0000,9, -999.00,9, -999.00,9,  -999.0,9,    -9.0,-999.000,9,-999.000,   11478,-999.0000,   5.8439,-999.0000, -999.00
 316N145_11,       I01W,     959,          1,          9,     SIH015,2,19950927,       1648,     6.5500,    79.2972,       2345,  1249.0,   5.5257,  34.8973,2,  34.8967,2,     61.5,2,    60.4,2,   99.38,2,   37.53,2,    0.00,2,    2.75,2,-999.000,9,-999.000,9,  -999.0,9,  -999.0,9,   0.0013,2,   1.8454,2,   11.44,2, -999.00,9,  -999.0,9,    -9.0,   7.749,2,   0.039,   12485,   0.0022,   5.4137,   0.0092,    0.14
 316N145_11,       I01W,     959,          1,          8,     SIH016,2,19950927,       1648,     6.5500,    79.2972,       2345,  1349.4,   5.1617,  34.8834,2,  34.8831,2,     67.7,2,    66.8,2,  102.77,2,   37.36,2,    0.00,2,    2.74,2,-999.000,9,-999.000,9,  -999.0,9,  -999.0,9,-999.0000,9,-999.0000,9, -999.00,9, -999.00,9,  -999.0,9,    -9.0,-999.000,9,-999.000,   13490,-999.0000,   5.0434,-999.0000, -999.00
 316N145_11,       I01W,     959,          1,          7,     SIH017,2,19950927,       1648,     6.5500,    79.2972,       2345,  1450.6,   4.6539,  34.8610,2,  34.8617,2,     76.3,2,    75.7,2,  107.78,2,   37.42,2,    0.00,2,    2.72,2,-999.000,9,-999.000,9,  -999.0,9,  -999.0,9,-999.0000,9,-999.0000,9, -999.00,9, -999.00,9,  -999.0,9,    -9.0,-999.000,9,-999.000,   14502,-999.0000,   4.5313,-999.0000, -999.00
 316N145_11,       I01W,     959,          1,          6,     SIH018,2,19950927,       1648,     6.5500,    79.2972,       2345,  1550.9,   4.1644,  34.8411,2,  34.8408,2,     85.3,2,    86.1,2,  112.79,2,   37.25,2,   -0.01,2,    2.70,2,-999.000,9,-999.000,9,  2319.9,2,  2397.1,2,-999.0000,9,-999.0000,9, -999.00,9, -999.00,9,  -999.0,9,    -9.0,-999.000,9,-999.000,   15506,-999.0000,   4.0379,-999.0000, -999.00
 316N145_11,       I01W,     959,          1,          5,     SIH002,2,19950927,       1648,     6.5500,    79.2972,       2345,  1702.4,   3.5149,  34.8131,2,  34.8135,2,    100.4,2,   100.0,2,  119.59,2,   36.87,2,   -0.01,2,    2.65,2,  -0.004,2,  -0.001,2,  -999.0,9,  -999.0,9,-999.0000,9,-999.0000,9, -999.00,9, -999.00,9,  -999.0,9,    -9.0,-999.000,9,-999.000,   17021,-999.0000,   3.3826,-999.0000, -999.00
 316N145_11,       I01W,     959,          1,          4,     SIH020,2,19950927,       1648,     6.5500,    79.2972,       2345,  1903.2,   3.0137,  34.7916,2,  34.7925,2,    109.6,2,   110.3,2,  126.38,2,   36.50,2,    0.00,2,    2.62,2,-999.000,9,-999.000,9,  -999.0,9,  -999.0,9,-999.0000,9,-999.0000,9, -999.00,9, -999.00,9,  -999.0,9,    -9.0,-999.000,9,-999.000,   19031,-999.0000,   2.8702,-999.0000, -999.00
 316N145_11,       I01W,     959,          1,          3,     SIH021,2,19950927,       1648,     6.5500,    79.2972,       2345,  2094.2,   2.6800,  34.7747,2,  34.7763,2,    117.9,2,   117.9,2,  130.85,2,   36.11,2,    0.01,2,    2.59,2,-999.000,9,-999.000,9,  2327.7,2,  2413.5,2,-999.0000,9,-999.0000,9, -999.00,9, -999.00,9,  -999.0,9,    -9.0,-999.000,9,-999.000,   20942,-999.0000,   2.5244,-999.0000, -999.00
 316N145_11,       I01W,     959,          1,          2,     SIH022,2,19950927,       1648,     6.5500,    79.2972,       2345,  2307.9,   2.3498,  34.7595,2,  34.7600,2,    126.9,2,   126.7,2,  134.96,2,   35.74,2,    0.00,2,    2.55,2,  -0.002,2,  -0.001,2,  -999.0,9,  -999.0,9,-999.0000,9,-999.0000,9, -999.00,9, -999.00,9,  -999.0,9,    -9.0,-999.000,9,-999.000,   23080,-999.0000,   2.1804,-999.0000, -999.00
 316N145_11,       I01W,     959,          1,          1,     SIH023,2,19950927,       1648,     6.5500,    79.2972,       2345,  2359.1,   2.2570,  34.7574,2,  34.7565,2,    128.8,2,   129.9,2,  135.76,2,   35.76,2,    0.00,2,    2.55,2,  -0.002,2,  -0.001,2,  2328.0,2,  2423.8,2,-999.0000,9,-999.0000,9, -999.00,9, -999.00,9,  -999.0,9,    -9.0,-999.000,9,-999.000,   23593,-999.0000,   2.0845,-999.0000, -999.00