BOTTLE,20211119CCHSIORKP
EXPOCODE,SECT_ID,STNNBR,CASTNO,SAMPNO,BTLNBR,BTLNBR_FLAG_W,DATE,TIME,LATITUDE,LONGITUDE,DEPTH,CTDPRS,CTDTMP,CTDSAL,CTDSAL_FLAG_W,SALNTY,SALNTY_FLAG_W,CTDOXY,CTDOXY_FLAG_W,OXYGEN,OXYGEN_FLAG_W,SILCAT,SILCAT_FLAG_W,NITRAT,NITRAT_FLAG_W,NITRIT,NITRIT_FLAG_W,PHSPHT,PHSPHT_FLAG_W,CFC-11,CFC-11_FLAG_W,CFC-12,CFC-12_FLAG_W,TCARBN,TCARBN_FLAG_W,ALKALI,ALKALI_FLAG_W,TRITUM,TRITUM_FLAG_W,HELIUM,HELIUM_FLAG_W,DELHE3,DELHE3_FLAG_W,DELC13,DELC13_FLAG_W,DELC14,DELC14_FLAG_W,C14ERR,NEON,NEON_FLAG_W,NEONER,CTDRAW,TRITER,THETA,HELIER,DELHER
,,,,,,,,,,,METERS,DBAR,ITS-90,PSS-78,,PSS-78,,UMOL/KG,,UMOL/KG,,UMOL/KG,,UMOL/KG,,UMOL/KG,,UMOL/KG,,PMOL/KG,,PMOL/KG,,UMOL/KG,,UMOL/KG,,TU,,NMOL/KG,,PERCNT,,/MILLE,,/MILLE,,/MILLE,NMOL/KG,,NMOL/KG,DBAR,TU,DEG C,NMOL/KG,PERCNT
 316N145_11,       I01W,     935,          1,         36,     SIH024,2,19950921,       0831,     8.4945,    66.3805,       4530,    11.1,  28.3836,  36.7340,2,  36.7347,2,    213.0,2,   213.3,2,    1.77,2,    0.07,2,   -0.01,2,    0.27,2,   1.624,2,   0.957,2,  2023.1,2,  2395.7,2,-999.0000,9,-999.0000,9, -999.00,9, -999.00,9,  -999.0,9,    -9.0,-999.000,9,-999.000,     105,-999.0000,  28.3810,-999.0000, -999.00
 316N145_11,       I01W,     935,          1,         35,     SIH003,2,19950921,       0831,     8.4945,    66.3805,       4530,    31.5,  28.2110,  36.7192,2,  36.7181,2,    207.1,2,   214.1,2,    1.59,2,    0.02,2,   -0.01,2,    0.26,2,   1.623,2,   0.950,2,  2021.5,2,  2396.4,2,-999.0000,9,-999.0000,9, -999.00,9, -999.00,9,  -999.0,9,    -9.0,-999.000,9,-999.000,     308,-999.0000,  28.2035,-999.0000, -999.00
 316N145_11,       I01W,     935,          1,         34,     SIH026,2,19950921,       0831,     8.4945,    66.3805,       4530,    60.9,  28.0909,  36.7059,2,  36.7060,2,    196.8,2,   202.5,2,    1.77,2,    0.08,2,   -0.01,2,    0.27,2,-999.000,9,-999.000,9,  2023.2,2,  2394.5,2,-999.0000,9,-999.0000,9, -999.00,9, -999.00,9,  -999.0,9,    -9.0,-999.000,9,-999.000,     603,-999.0000,  28.0765,-999.0000, -999.00
 316N145_11,       I01W,     935,          1,         33,     SIH027,2,19950921,       0831,     8.4945,    66.3805,       4530,    91.2,  24.8523,  36.2109,2,  36.2354,2,    109.5,2,   116.7,2,    4.99,2,   13.51,2,    0.08,2,    1.11,2,-999.000,9,-999.000,9,  2108.4,2,  2364.1,2,-999.0000,9,-999.0000,9, -999.00,9, -999.00,9,  -999.0,9,    -9.0,-999.000,9,-999.000,     905,-999.0000,  24.8325,-999.0000, -999.00
 316N145_11,       I01W,     935,          1,         32,     SIH028,2,19950921,       0831,     8.4945,    66.3805,       4530,   121.3,  20.9217,  35.7290,2,  35.6666,2,     15.9,2,    12.4,2,   15.02,2,   24.96,2,    0.04,2,    1.92,2,   1.147,2,   0.647,2,  2189.2,2,  2332.2,2,-999.0000,9,-999.0000,9, -999.00,9, -999.00,9,  -999.0,9,    -9.0,-999.000,9,-999.000,    1206,-999.0000,  20.8985,-999.0000, -999.00
 316N145_11,       I01W,     935,          1,         31,     SIH029,2,19950921,       0831,     8.4945,    66.3805,       4530,   150.9,  17.2031,  35.4383,2,  35.4344,2,      2.8,2,     5.1,2,   21.83,2,   26.92,2,    0.01,2,    2.18,2,-999.000,9,-999.000,9,  2221.6,2,  2326.7,2,-999.0000,9,-999.0000,9, -999.00,9, -999.00,9,  -999.0,9,    -9.0,-999.000,9,-999.000,    1502,-999.0000,  17.1779,-999.0000, -999.00
 316N145_11,       I01W,     935,          1,         30,     SIH030,2,19950921,       0831,     8.4945,    66.3805,       4530,   200.3,  13.8213,  35.2532,2,  35.2542,2,     26.8,2,    28.9,2,   24.52,2,   28.39,2,    0.01,2,    2.10,2,   0.534,2,   0.283,2,  2226.1,2,  2320.6,2,-999.0000,9,-999.0000,9, -999.00,9, -999.00,9,  -999.0,9,    -9.0,-999.000,9,-999.000,    1997,-999.0000,  13.7925,-999.0000, -999.00
 316N145_11,       I01W,     935,          1,         29,     SIH031,2,19950921,       0831,     8.4945,    66.3805,       4530,   249.7,  12.9412,  35.2377,2,  35.2379,2,     32.0,2,    34.1,2,   25.60,2,   29.01,2,    0.01,2,    2.10,2,-999.000,9,-999.000,9,  2228.8,2,  2319.5,2,-999.0000,9,-999.0000,9, -999.00,9, -999.00,9,  -999.0,9,    -9.0,-999.000,9,-999.000,    2491,-999.0000,  12.9068,-999.0000, -999.00
 316N145_11,       I01W,     935,          1,         28,     SIH032,2,19950921,       0831,     8.4945,    66.3805,       4530,   300.0,  12.3145,  35.2243,2,  35.2229,2,     30.8,2,    30.0,2,   27.93,2,   30.48,2,    0.01,2,    2.18,2,-999.000,9,-999.000,9,  2238.3,2,  2324.3,2,-999.0000,9,-999.0000,9, -999.00,9, -999.00,9,  -999.0,9,    -9.0,-999.000,9,-999.000,    2994,-999.0000,  12.2746,-999.0000, -999.00
 316N145_11,       I01W,     935,          1,         27,     SIH033,3,19950921,       0831,     8.4945,    66.3805,       4530,   398.7,  11.3858,  35.2610,3,  35.2588,2,     26.0,2,    27.4,2,   34.57,2,   32.20,2,    0.01,2,    2.34,2,   0.202,2,   0.107,2,  2251.0,2,  2329.8,2,-999.0000,9,-999.0000,9, -999.00,9, -999.00,9,  -999.0,9,    -9.0,-999.000,9,-999.000,    3982,-999.0000,  11.3350,-999.0000, -999.00
 316N145_11,       I01W,     935,          1,         26,     SIH037,2,19950921,       0831,     8.4945,    66.3805,       4530,   498.2,  10.6609,  35.2325,2,  35.2323,2,     21.4,2,    22.4,2,   42.65,2,   33.78,2,    0.01,2,    2.50,2,-999.000,9,-999.000,9,  -999.0,9,  -999.0,9,-999.0000,9,-999.0000,9, -999.00,9, -999.00,9,  -999.0,9,    -9.0,-999.000,9,-999.000,    4977,-999.0000,  10.5998,-999.0000, -999.00
 316N145_11,       I01W,     935,          1,         25,     SI9446,3,19950921,       0831,     8.4945,    66.3805,       4530,   602.7,  10.0197,  35.2544,3,  35.2550,2,     19.8,2,    19.8,2,   51.80,2,   34.74,2,    0.01,2,    2.61,2,-999.000,9,-999.000,9,  2275.4,2,  2344.6,2,-999.0000,9,-999.0000,9, -999.00,9, -999.00,9,  -999.0,9,    -9.0,-999.000,9,-999.000,    6022,-999.0000,   9.9480,-999.0000, -999.00
 316N145_11,       I01W,     935,          1,         24,     SIH036,2,19950921,       0831,     8.4945,    66.3805,       4530,   705.7,   9.0918,  35.1787,2,  35.1772,2,     21.3,2,    21.0,2,   62.03,2,   36.13,2,    0.00,2,    2.71,2,   0.016,2,   0.007,2,  -999.0,9,  -999.0,9,-999.0000,9,-999.0000,9, -999.00,9, -999.00,9,  -999.0,9,    -9.0,-999.000,9,-999.000,    7052,-999.0000,   9.0122,-999.0000, -999.00
 316N145_11,       I01W,     935,          1,         23,     SIH001,2,19950921,       0831,     8.4945,    66.3805,       4530,   804.8,   8.0835,  35.0743,2,  35.0764,2,     28.3,2,    28.8,2,   71.38,2,   37.09,2,    0.01,2,    2.74,2,   0.009,3,   0.003,3,  2295.1,2,  2360.4,2,-999.0000,9,-999.0000,9, -999.00,9, -999.00,9,  -999.0,9,    -9.0,-999.000,9,-999.000,    8043,-999.0000,   7.9983,-999.0000, -999.00
 316N145_11,       I01W,     935,          1,         22,     SIH019,2,19950921,       0831,     8.4945,    66.3805,       4530,   900.9,   7.6119,  35.0700,2,  35.0697,2,     32.2,2,    32.9,2,   77.85,2,   37.41,2,    0.01,2,    2.77,2,   0.007,2,   0.005,2,  -999.0,9,  -999.0,9,-999.0000,9,-999.0000,9, -999.00,9, -999.00,9,  -999.0,9,    -9.0,-999.000,9,-999.000,    9005,-999.0000,   7.5191,-999.0000, -999.00
 316N145_11,       I01W,     935,          1,         21,     SIH025,2,19950921,       0831,     8.4945,    66.3805,       4530,   990.1,   7.2685,  35.0638,2,  35.0651,2,     35.3,2,    33.7,2,   82.17,2,   37.69,2,    0.00,2,    2.80,2,   0.001,2,   0.000,2,  2306.4,2,  2368.5,2,-999.0000,9,-999.0000,9, -999.00,9, -999.00,9,  -999.0,9,    -9.0,-999.000,9,-999.000,    9898,-999.0000,   7.1684,-999.0000, -999.00
 316N145_11,       I01W,     935,          1,         20,     SIH004,2,19950921,       0831,     8.4945,    66.3805,       4530,  1085.8,   6.7760,  35.0278,2,  35.0281,2,     43.2,2,    42.6,2,   87.03,2,   37.80,2,    0.01,2,    2.79,2,   0.001,2,   0.001,2,  2308.7,2,  2373.8,2,-999.0000,9,-999.0000,9, -999.00,9, -999.00,9,  -999.0,9,    -9.0,-999.000,9,-999.000,   10855,-999.0000,   6.6696,-999.0000, -999.00
 316N145_11,       I01W,     935,          1,         19,     SIH005,3,19950921,       0831,     8.4945,    66.3805,       4530,  1192.3,   6.2384,  34.9976,3,  34.9953,2,     50.7,2,    48.2,2,   92.25,2,   37.91,2,    0.00,2,    2.80,2,-999.000,9,-999.000,9,  -999.0,9,  -999.0,9,-999.0000,9,-999.0000,9, -999.00,9, -999.00,9,  -999.0,9,    -9.0,-999.000,9,-999.000,   11921,-999.0000,   6.1255,-999.0000, -999.00
 316N145_11,       I01W,     935,          1,         18,     SIH006,2,19950921,       0831,     8.4945,    66.3805,       4530,  1381.4,   5.5144,  34.9757,2,  34.9744,2,     60.9,2,    59.1,2,   99.99,2,   37.88,2,    0.01,2,    2.79,2,  -0.001,2,   0.002,2,  -999.0,9,  -999.0,9,-999.0000,9,-999.0000,9, -999.00,9, -999.00,9,  -999.0,9,    -9.0,-999.000,9,-999.000,   13813,-999.0000,   5.3892,-999.0000, -999.00
 316N145_11,       I01W,     935,          1,         17,     SIH038,2,19950921,       0831,     8.4945,    66.3805,       4530,  1588.2,   4.3381,  34.8921,2,  34.8906,2,     81.4,2,    80.9,2,  112.41,2,   37.59,2,    0.01,2,    2.75,2,-999.000,9,-999.000,9,  2322.0,2,  2401.5,2,-999.0000,9,-999.0000,9, -999.00,9, -999.00,9,  -999.0,9,    -9.0,-999.000,9,-999.000,   15882,-999.0000,   4.2060,-999.0000, -999.00
 316N145_11,       I01W,     935,          1,         16,     SIH008,2,19950921,       0831,     8.4945,    66.3805,       4530,  1794.1,   3.5081,  34.8351,2,  34.8349,2,    101.8,2,   101.3,2,  119.61,2,   36.84,2,    0.01,2,    2.67,2,  -0.003,2,  -0.001,2,  -999.0,9,  -999.0,9,-999.0000,9,-999.0000,9, -999.00,9, -999.00,9,  -999.0,9,    -9.0,-999.000,9,-999.000,   17942,-999.0000,   3.3675,-999.0000, -999.00
 316N145_11,       I01W,     935,          1,         15,     SIH009,2,19950921,       0831,     8.4945,    66.3805,       4530,  1997.3,   2.9352,  34.8025,2,  34.8013,2,    116.3,2,   115.0,2,  125.74,2,   36.46,2,    0.00,2,    2.61,2,-999.000,9,-999.000,9,  2321.9,2,  2413.5,2,-999.0000,9,-999.0000,9, -999.00,9, -999.00,9,  -999.0,9,    -9.0,-999.000,9,-999.000,   19975,-999.0000,   2.7843,-999.0000, -999.00
 316N145_11,       I01W,     935,          1,         14,     SIH010,2,19950921,       0831,     8.4945,    66.3805,       4530,  2196.9,   2.5769,  34.7835,2,  34.7828,2,    123.7,2,   123.5,2,  130.26,2,   36.36,2,    0.02,2,    2.58,2,  -0.003,2,   0.000,2,  -999.0,9,  -999.0,9,-999.0000,9,-999.0000,9, -999.00,9, -999.00,9,  -999.0,9,    -9.0,-999.000,9,-999.000,   21973,-999.0000,   2.4136,-999.0000, -999.00
 316N145_11,       I01W,     935,          1,         13,     SIH011,3,19950921,       0831,     8.4945,    66.3805,       4530,  2396.0,   2.2707,  34.7696,3,  34.7697,2,    131.3,2,   132.7,2,  133.88,2,   35.99,2,    0.00,2,    2.54,2,-999.000,9,-999.000,9,  -999.0,9,  -999.0,9,-999.0000,9,-999.0000,9, -999.00,9, -999.00,9,  -999.0,9,    -9.0,-999.000,9,-999.000,   23965,-999.0000,   2.0944,-999.0000, -999.00
 316N145_11,       I01W,     935,          1,         12,     SIH012,2,19950921,       0831,     8.4945,    66.3805,       4530,  2600.4,   2.0751,  34.7592,2,  34.7594,2,    137.2,2,   137.8,2,  136.06,2,   35.83,2,    0.02,2,    2.52,2,  -0.002,2,  -0.002,2,  2323.0,2,  2425.7,2,-999.0000,9,-999.0000,9, -999.00,9, -999.00,9,  -999.0,9,    -9.0,-999.000,9,-999.000,   26011,-999.0000,   1.8837,-999.0000, -999.00
 316N145_11,       I01W,     935,          1,         11,     SI9426,2,19950921,       0831,     8.4945,    66.3805,       4530,  2803.0,   1.9246,  34.7503,2,  34.7512,2,    145.7,2,   145.6,2,  136.25,2,   35.43,2,    0.02,2,    2.48,2,-999.000,9,-999.000,9,  -999.0,9,  -999.0,9,-999.0000,9,-999.0000,9, -999.00,9, -999.00,9,  -999.0,9,    -9.0,-999.000,9,-999.000,   28039,-999.0000,   1.7171,-999.0000, -999.00
 316N145_11,       I01W,     935,          1,         10,     SIH014,2,19950921,       0831,     8.4945,    66.3805,       4530,  3006.7,   1.8168,  34.7432,2,  34.7443,2,    148.2,2,   150.3,2,  136.82,2,   35.29,2,    0.02,2,    2.47,2,-999.000,9,-999.000,9,  2316.9,2,  2426.1,2,-999.0000,9,-999.0000,9, -999.00,9, -999.00,9,  -999.0,9,    -9.0,-999.000,9,-999.000,   30077,-999.0000,   1.5920,-999.0000, -999.00
 316N145_11,       I01W,     935,          1,          9,     SIH015,2,19950921,       0831,     8.4945,    66.3805,       4530,  3200.0,   1.7615,  34.7403,2,  34.7394,2,    151.8,2,   153.7,2,  137.38,2,   35.16,2,    0.02,2,    2.45,2,-999.000,9,-999.000,9,  -999.0,9,  -999.0,9,-999.0000,9,-999.0000,9, -999.00,9, -999.00,9,  -999.0,9,    -9.0,-999.000,9,-999.000,   32011,-999.0000,   1.5189,-999.0000, -999.00
 316N145_11,       I01W,     935,          1,          8,     SIH016,2,19950921,       0831,     8.4945,    66.3805,       4530,  3391.9,   1.7282,  34.7385,2,  34.7366,2,    154.8,2,   155.4,2,  137.76,2,   35.13,2,    0.01,2,    2.45,2,  -0.004,3,  -0.001,2,  -999.0,9,  -999.0,9,-999.0000,9,-999.0000,9, -999.00,9, -999.00,9,  -999.0,9,    -9.0,-999.000,9,-999.000,   33932,-999.0000,   1.4670,-999.0000, -999.00
 316N145_11,       I01W,     935,          1,          7,     SIH017,2,19950921,       0831,     8.4945,    66.3805,       4530,  3597.6,   1.7064,  34.7362,2,  34.7357,2,    155.7,2,   157.3,2,  137.96,2,   35.14,2,    0.01,2,    2.44,2,-999.000,9,-999.000,9,  2315.6,2,  2427.0,2,-999.0000,9,-999.0000,9, -999.00,9, -999.00,9,  -999.0,9,    -9.0,-999.000,9,-999.000,   35990,-999.0000,   1.4246,-999.0000, -999.00
 316N145_11,       I01W,     935,          1,          6,     SIH018,2,19950921,       0831,     8.4945,    66.3805,       4530,  3792.3,   1.6932,  34.7345,2,  34.7335,2,    156.4,2,   158.1,2,  138.34,2,   35.10,2,    0.02,2,    2.44,2,-999.000,9,-999.000,9,  -999.0,9,  -999.0,9,-999.0000,9,-999.0000,9, -999.00,9, -999.00,9,  -999.0,9,    -9.0,-999.000,9,-999.000,   37938,-999.0000,   1.3911,-999.0000, -999.00
 316N145_11,       I01W,     935,          1,          5,     SIH002,2,19950921,       0831,     8.4945,    66.3805,       4530,  3997.0,   1.6853,  34.7339,2,  34.7323,2,    159.1,2,   158.7,2,  138.54,2,   34.97,2,    0.00,2,    2.43,2,-999.000,9,-999.000,9,  2315.7,2,  2428.2,2,-999.0000,9,-999.0000,9, -999.00,9, -999.00,9,  -999.0,9,    -9.0,-999.000,9,-999.000,   39987,-999.0000,   1.3613,-999.0000, -999.00
 316N145_11,       I01W,     935,          1,          4,     SIH020,2,19950921,       0831,     8.4945,    66.3805,       4530,  4201.2,   1.6748,  34.7322,2,  34.7323,2,    159.4,2,   159.6,2,  138.39,2,   34.77,2,    0.02,2,    2.43,2,   0.002,2,   0.001,2,  -999.0,9,  -999.0,9,-999.0000,9,-999.0000,9, -999.00,9, -999.00,9,  -999.0,9,    -9.0,-999.000,9,-999.000,   42030,-999.0000,   1.3283,-999.0000, -999.00
 316N145_11,       I01W,     935,          1,          3,     SIH021,2,19950921,       0831,     8.4945,    66.3805,       4530,  4390.0,   1.6668,  34.7320,2,  34.7294,2,    162.3,2,   161.0,2,  138.58,2,   34.68,2,    0.02,2,    2.43,2,-999.000,9,-999.000,9,  -999.0,9,  -999.0,9,-999.0000,9,-999.0000,9, -999.00,9, -999.00,9,  -999.0,9,    -9.0,-999.000,9,-999.000,   43920,-999.0000,   1.2990,-999.0000, -999.00
 316N145_11,       I01W,     935,          1,          2,     SIH022,2,19950921,       0831,     8.4945,    66.3805,       4530,  4555.0,   1.6605,  34.7297,2,  34.7292,2,    162.4,2,   162.6,2,  138.61,2,   34.54,2,    0.01,2,    2.42,2,   0.003,2,   0.001,2,  -999.0,9,  -999.0,9,-999.0000,9,-999.0000,9, -999.00,9, -999.00,9,  -999.0,9,    -9.0,-999.000,9,-999.000,   45570,-999.0000,   1.2739,-999.0000, -999.00
 316N145_11,       I01W,     935,          1,          1,     SIH023,2,19950921,       0831,     8.4945,    66.3805,       4530,  4612.2,   1.6647,  34.7299,2,  34.7304,2,    162.6,2,   162.7,2,  138.47,2,   34.61,2,    0.01,2,    2.40,2,   0.003,2,   0.001,2,  2314.5,2,  2431.6,2,-999.0000,9,-999.0000,9, -999.00,9, -999.00,9,  -999.0,9,    -9.0,-999.000,9,-999.000,   46143,-999.0000,   1.2712,-999.0000, -999.00