BOTTLE,20211119CCHSIORKP
EXPOCODE,SECT_ID,STNNBR,CASTNO,SAMPNO,BTLNBR,BTLNBR_FLAG_W,DATE,TIME,LATITUDE,LONGITUDE,DEPTH,CTDPRS,CTDTMP,CTDSAL,CTDSAL_FLAG_W,SALNTY,SALNTY_FLAG_W,CTDOXY,CTDOXY_FLAG_W,OXYGEN,OXYGEN_FLAG_W,SILCAT,SILCAT_FLAG_W,NITRAT,NITRAT_FLAG_W,NITRIT,NITRIT_FLAG_W,PHSPHT,PHSPHT_FLAG_W,CFC-11,CFC-11_FLAG_W,CFC-12,CFC-12_FLAG_W,TCARBN,TCARBN_FLAG_W,ALKALI,ALKALI_FLAG_W,TRITUM,TRITUM_FLAG_W,HELIUM,HELIUM_FLAG_W,DELHE3,DELHE3_FLAG_W,DELC13,DELC13_FLAG_W,DELC14,DELC14_FLAG_W,C14ERR,NEON,NEON_FLAG_W,NEONER,CTDRAW,TRITER,THETA,HELIER,DELHER
,,,,,,,,,,,METERS,DBAR,ITS-90,PSS-78,,PSS-78,,UMOL/KG,,UMOL/KG,,UMOL/KG,,UMOL/KG,,UMOL/KG,,UMOL/KG,,PMOL/KG,,PMOL/KG,,UMOL/KG,,UMOL/KG,,TU,,NMOL/KG,,PERCNT,,/MILLE,,/MILLE,,/MILLE,NMOL/KG,,NMOL/KG,DBAR,TU,DEG C,NMOL/KG,PERCNT
 316N145_11,       I01W,     936,          1,         36,     SIH024,2,19950921,       1540,     8.5000,    66.8833,       4555,     6.4,  28.4079,  36.7489,2,  36.7456,2,    219.4,2,   217.9,2,    1.57,2,    0.00,2,   -0.03,2,    0.27,2,   1.603,2,   0.947,2,  2023.7,2,  2395.6,2,   0.6875,2,   1.7114,2,   -1.21,2, -999.00,9,  -999.0,9,    -9.0,   6.654,2,   0.033,      57,   0.0033,  28.4064,   0.0086,    0.14
 316N145_11,       I01W,     936,          1,         35,     SIH003,2,19950921,       1540,     8.5000,    66.8833,       4555,    30.8,  28.3048,  36.7473,2,  36.7427,2,    214.8,2,   210.3,2,    1.57,2,    0.00,2,   -0.02,2,    0.27,2,-999.000,9,-999.000,9,  2023.6,2,  2401.3,2,   0.8966,2,   1.7285,2,   -1.23,2, -999.00,9,  -999.0,9,    -9.0,   6.728,2,   0.034,     301,   0.0037,  28.2975,   0.0086,    0.14
 316N145_11,       I01W,     936,          1,         34,     SIH026,2,19950921,       1540,     8.5000,    66.8833,       4555,    60.6,  28.1556,  36.7471,2,  36.7466,2,    216.2,2,   210.4,2,    1.75,2,    0.15,2,   -0.01,2,    0.28,2,   1.605,2,   0.950,2,  2025.6,2,  2399.7,2,   0.8904,2,   1.7019,2,   -1.23,2, -999.00,9,  -999.0,9,    -9.0,   6.625,2,   0.033,     599,   0.0037,  28.1412,   0.0085,    0.14
 316N145_11,       I01W,     936,          1,         33,     SIH027,2,19950921,       1540,     8.5000,    66.8833,       4555,    90.7,  24.8959,  36.2473,2,  36.2335,2,    154.0,2,    99.9,2,    5.91,2,   15.79,2,    0.07,2,    1.24,2,-999.000,9,-999.000,9,  2123.7,2,  2359.9,2,   0.8283,2,   1.7451,2,   -0.19,2, -999.00,9,  -999.0,9,    -9.0,   6.865,2,   0.034,     901,   0.0035,  24.8762,   0.0087,    0.14
 316N145_11,       I01W,     936,          1,         32,     SIH028,3,19950921,       1540,     8.5000,    66.8833,       4555,   120.9,  18.9274,  35.5320,3,  35.5279,2,     19.6,2,    10.8,2,   18.41,2,   26.54,2,    0.00,2,    2.11,2,-999.000,9,-999.000,9,  2210.1,2,  2327.8,2,   0.6201,2,   1.7696,2,    3.13,2, -999.00,9,  -999.0,9,    -9.0,   7.167,2,   0.036,    1202,   0.0032,  18.9058,   0.0088,    0.14
 316N145_11,       I01W,     936,          1,         31,     SIH029,2,19950921,       1540,     8.5000,    66.8833,       4555,   145.9,  16.9871,  35.3693,2,  35.3705,2,      3.4,2,     9.7,2,   21.85,2,   27.20,2,    0.00,2,    2.15,2,   0.723,2,   0.408,2,  2218.9,2,  2321.8,2,   0.5461,2,   1.7944,2,    3.87,2, -999.00,9,  -999.0,9,    -9.0,   7.332,2,   0.037,    1452,   0.0031,  16.9630,   0.0090,    0.14
 316N145_11,       I01W,     936,          1,         30,     SIH030,2,19950921,       1540,     8.5000,    66.8833,       4555,   195.5,  14.4224,  35.2773,2,  35.3711,4,     13.7,2,    18.2,2,   25.12,2,   28.53,2,    0.00,2,    2.21,2,   0.483,2,   0.261,2,  2228.1,2,  2324.0,2,   0.4168,2,   1.7908,2,    4.99,2, -999.00,9,  -999.0,9,    -9.0,   7.375,2,   0.037,    1949,   0.0029,  14.3935,   0.0090,    0.14
 316N145_11,       I01W,     936,          1,         29,     SIH031,3,19950921,       1540,     8.5000,    66.8833,       4555,   245.8,  13.2880,  35.2475,3,  35.2566,2,     32.8,2,    35.8,2,   24.76,2,   28.43,2,   -0.01,2,    2.10,2,   0.511,2,   0.274,2,  2233.5,2,  2324.5,2,   0.3873,2,   1.8006,2,    4.70,2, -999.00,9,  -999.0,9,    -9.0,   7.442,2,   0.037,    2452,   0.0028,  13.2536,   0.0090,    0.14
 316N145_11,       I01W,     936,          1,         28,     SIH032,2,19950921,       1540,     8.5000,    66.8833,       4555,   345.8,  11.7438,  35.2205,2,  35.2312,2,     28.7,2,    30.6,2,   30.74,2,   31.27,2,    0.00,2,    2.25,2,   0.269,2,   0.147,2,  2244.5,2,  2325.2,2,   0.2250,2,   1.8386,2,    4.59,2, -999.00,9,  -999.0,9,    -9.0,   7.647,2,   0.038,    3452,   0.0026,  11.6990,   0.0092,    0.14
 316N145_11,       I01W,     936,          1,         27,     SIH033,3,19950921,       1540,     8.5000,    66.8833,       4555,   446.7,  11.0259,  35.2730,3,  35.2737,2,     22.4,2,    22.0,2,   39.44,2,   32.90,2,    0.00,2,    2.45,2,-999.000,9,-999.000,9,  2260.6,2,  2335.7,2,-999.0000,9,-999.0000,9, -999.00,9, -999.00,9,  -999.0,9,    -9.0,-999.000,9,-999.000,    4462,-999.0000,  10.9700,-999.0000, -999.00
 316N145_11,       I01W,     936,          1,         26,     SIH037,2,19950921,       1540,     8.5000,    66.8833,       4555,   546.6,  10.4471,  35.3003,2,  35.2993,2,     18.5,2,    18.4,2,   48.33,2,   33.97,2,    0.00,2,    2.59,2,   0.064,2,   0.032,2,  2272.7,2,  2342.7,2,   0.0883,2,   1.8391,2,    5.93,2, -999.00,9,  -999.0,9,    -9.0,   7.644,2,   0.038,    5461,   0.0023,  10.3806,   0.0092,    0.14
 316N145_11,       I01W,     936,          1,         25,     SI9446,2,19950921,       1540,     8.5000,    66.8833,       4555,   647.6,   9.3483,  35.1874,2,  35.1851,2,     18.0,2,    20.6,2,   58.50,2,   35.64,2,    0.00,2,    2.69,2,   0.019,2,   0.009,2,  2285.7,2,  2352.1,2,   0.0412,2,   1.8411,2,    6.99,2, -999.00,9,  -999.0,9,    -9.0,   7.658,2,   0.038,    6471,   0.0023,   9.2743,   0.0092,    0.14
 316N145_11,       I01W,     936,          1,         24,     SIH036,2,19950921,       1540,     8.5000,    66.8833,       4555,   748.0,   8.7438,  35.1628,2,  35.1620,2,     20.9,2,    22.0,2,   65.77,2,   36.42,2,    0.00,2,    2.73,2,   0.012,6,   0.006,6,  2293.5,2,  2359.0,2,   0.0283,2,   1.8521,2,    8.03,2, -999.00,9,  -999.0,9,    -9.0,   7.735,2,   0.039,    7476,   0.0022,   8.6612,   0.0093,    0.14
 316N145_11,       I01W,     936,          1,         23,     SIH001,2,19950921,       1540,     8.5000,    66.8833,       4555,   848.3,   7.9831,  35.0926,2,  35.0929,2,     28.1,2,    27.6,2,   73.75,2,   37.13,2,    0.00,2,    2.77,2,-999.000,9,-999.000,9,  2300.6,2,  2364.0,2,   0.0167,2,   1.8462,2,    8.91,2, -999.00,9,  -999.0,9,    -9.0,   7.726,2,   0.039,    8479,   0.0022,   7.8937,   0.0092,    0.14
 316N145_11,       I01W,     936,          1,         22,     SIH019,2,19950921,       1540,     8.5000,    66.8833,       4555,   948.6,   7.2279,  35.0252,2,  35.0258,2,     36.7,2,    37.8,2,   81.21,2,   37.40,2,    0.00,2,    2.78,2,   0.003,2,   0.000,2,  2305.5,2,  2371.0,2,-999.0000,9,-999.0000,9, -999.00,9, -999.00,9,  -999.0,9,    -9.0,-999.000,9,-999.000,    9482,-999.0000,   7.1326,-999.0000, -999.00
 316N145_11,       I01W,     936,          1,         21,     SIH025,2,19950921,       1540,     8.5000,    66.8833,       4555,  1094.8,   6.6223,  35.0056,2,  35.0028,2,     45.5,2,    49.0,2,   87.94,2,   37.61,2,    0.00,2,    2.79,2,  -0.001,2,  -0.001,2,  2311.3,2,  2381.8,2,   0.0089,2,-999.0000,9, -999.00,9, -999.00,9,  -999.0,9,    -9.0,-999.000,9,-999.000,   10945,   0.0022,   6.5162,-999.0000, -999.00
 316N145_11,       I01W,     936,          1,         20,     SIH004,2,19950921,       1540,     8.5000,    66.8833,       4555,  1296.5,   5.7581,  34.9592,2,  34.9618,2,     56.6,2,    54.8,2,   97.20,2,   37.77,2,    0.00,2,    2.80,2,-999.000,9,-999.000,9,  -999.0,9,  -999.0,9,   0.0045,2,   1.8623,2,   11.39,2, -999.00,9,  -999.0,9,    -9.0,   7.844,2,   0.039,   12963,   0.0022,   5.6391,   0.0093,    0.14
 316N145_11,       I01W,     936,          1,         19,     SIH005,2,19950921,       1540,     8.5000,    66.8833,       4555,  1497.5,   4.7753,  34.9157,2,  34.9166,2,     73.4,2,    71.9,2,  106.66,2,   37.48,2,    0.00,2,    2.76,2,   0.002,2,  -0.002,2,  -999.0,9,  -999.0,9,   0.0021,2,   1.8689,2,   12.06,2, -999.00,9,  -999.0,9,    -9.0,   7.896,2,   0.039,   14975,   0.0022,   4.6468,   0.0093,    0.14
 316N145_11,       I01W,     936,          1,         18,     SIH006,2,19950921,       1540,     8.5000,    66.8833,       4555,  1700.1,   3.9238,  34.8631,2,  34.8646,2,     90.8,2,    88.9,2,  116.84,2,   37.19,2,    0.00,2,    2.73,2,-999.000,9,-999.000,9,  -999.0,9,  -999.0,9,-999.0000,9,-999.0000,9, -999.00,9, -999.00,9,  -999.0,9,    -9.0,-999.000,9,-999.000,   17002,-999.0000,   3.7864,-999.0000, -999.00
 316N145_11,       I01W,     936,          1,         17,     SIH038,2,19950921,       1540,     8.5000,    66.8833,       4555,  1896.5,   3.2005,  34.8170,2,  34.8170,2,    109.0,2,   107.2,2,  123.77,2,   36.63,2,    0.00,2,    2.66,2,-999.000,9,-999.000,9,  -999.0,9,  -999.0,9,-999.0000,9,-999.0000,9, -999.00,9, -999.00,9,  -999.0,9,    -9.0,-999.000,9,-999.000,   18967,-999.0000,   3.0549,-999.0000, -999.00
 316N145_11,       I01W,     936,          1,         16,     SIH008,2,19950921,       1540,     8.5000,    66.8833,       4555,  2100.1,   2.7483,  34.7920,2,  34.7923,2,    122.3,2,   121.2,2,  127.42,2,   36.13,2,    0.00,2,    2.59,2,  -0.004,2,  -0.001,2,  -999.0,9,  -999.0,9,-999.0000,9,-999.0000,9, -999.00,9, -999.00,9,  -999.0,9,    -9.0,-999.000,9,-999.000,   21005,-999.0000,   2.5910,-999.0000, -999.00
 316N145_11,       I01W,     936,          1,         15,     SIH009,2,19950921,       1540,     8.5000,    66.8833,       4555,  2297.0,   2.4480,  34.7781,2,  34.7781,2,    129.4,2,   129.3,2,  131.25,2,   35.94,2,    0.00,2,    2.56,2,-999.000,9,-999.000,9,  -999.0,9,  -999.0,9,-999.0000,9,-999.0000,9, -999.00,9, -999.00,9,  -999.0,9,    -9.0,-999.000,9,-999.000,   22975,-999.0000,   2.2778,-999.0000, -999.00
 316N145_11,       I01W,     936,          1,         14,     SIH010,2,19950921,       1540,     8.5000,    66.8833,       4555,  2500.2,   2.1895,  34.7664,2,  34.7644,2,    135.7,2,   136.2,2,  134.17,2,   35.69,2,    0.00,2,    2.53,2,-999.000,9,-999.000,9,  -999.0,9,  -999.0,9,-999.0000,9,-999.0000,9, -999.00,9, -999.00,9,  -999.0,9,    -9.0,-999.000,9,-999.000,   25008,-999.0000,   2.0052,-999.0000, -999.00
 316N145_11,       I01W,     936,          1,         13,     SIH011,2,19950921,       1540,     8.5000,    66.8833,       4555,  2702.6,   2.0242,  34.7566,2,  34.7567,2,    137.9,2,   140.4,2,  136.36,2,   35.55,2,    0.00,2,    2.52,2,-999.000,9,-999.000,9,  -999.0,9,  -999.0,9,-999.0000,9,-999.0000,9, -999.00,9, -999.00,9,  -999.0,9,    -9.0,-999.000,9,-999.000,   27034,-999.0000,   1.8242,-999.0000, -999.00
 316N145_11,       I01W,     936,          1,         12,     SIH012,2,19950921,       1540,     8.5000,    66.8833,       4555,  2900.2,   1.8973,  34.7479,2,  34.7484,2,    148.2,2,   148.9,2,  135.83,2,   35.16,2,    0.00,2,    2.47,2,  -0.003,2,  -0.002,2,  -999.0,9,  -999.0,9,-999.0000,9,-999.0000,9, -999.00,9, -999.00,9,  -999.0,9,    -9.0,-999.000,9,-999.000,   29011,-999.0000,   1.6812,-999.0000, -999.00
 316N145_11,       I01W,     936,          1,         11,     SI9426,2,19950921,       1540,     8.5000,    66.8833,       4555,  3103.7,   1.8085,  34.7435,2,  34.7449,2,    151.5,2,   152.0,2,  136.75,2,   35.01,2,    0.00,2,    2.47,2,-999.000,9,-999.000,9,  -999.0,9,  -999.0,9,-999.0000,9,-999.0000,9, -999.00,9, -999.00,9,  -999.0,9,    -9.0,-999.000,9,-999.000,   31047,-999.0000,   1.5744,-999.0000, -999.00
 316N145_11,       I01W,     936,          1,         10,     SIH014,2,19950921,       1540,     8.5000,    66.8833,       4555,  3302.4,   1.7487,  34.7392,2,  34.7394,2,    154.8,2,   154.7,2,  136.40,2,   34.72,2,    0.00,2,    2.45,2,-999.000,9,-999.000,9,  -999.0,9,  -999.0,9,-999.0000,9,-999.0000,9, -999.00,9, -999.00,9,  -999.0,9,    -9.0,-999.000,9,-999.000,   33036,-999.0000,   1.4962,-999.0000, -999.00
 316N145_11,       I01W,     936,          1,          9,     SIH015,2,19950921,       1540,     8.5000,    66.8833,       4555,  3500.8,   1.7246,  34.7387,2,  34.7376,2,    155.0,2,   155.7,2,  137.69,2,   34.97,2,    0.00,2,    2.45,2,-999.000,9,-999.000,9,  -999.0,9,  -999.0,9,-999.0000,9,-999.0000,9, -999.00,9, -999.00,9,  -999.0,9,    -9.0,-999.000,9,-999.000,   35021,-999.0000,   1.4524,-999.0000, -999.00
 316N145_11,       I01W,     936,          1,          8,     SIH016,2,19950921,       1540,     8.5000,    66.8833,       4555,  3693.6,   1.7057,  34.7366,2,  34.7357,2,    155.3,2,   157.2,2,  138.07,2,   34.83,2,    0.00,2,    2.44,2,  -0.001,3,  -0.002,2,  -999.0,9,  -999.0,9,-999.0000,9,-999.0000,9, -999.00,9, -999.00,9,  -999.0,9,    -9.0,-999.000,9,-999.000,   36951,-999.0000,   1.4138,-999.0000, -999.00
 316N145_11,       I01W,     936,          1,          7,     SIH017,2,19950921,       1540,     8.5000,    66.8833,       4555,  3898.2,   1.6936,  34.7345,2,  34.7364,4,    158.4,2,   158.0,2,  138.27,2,   34.89,2,   -0.01,2,    2.44,2,-999.000,9,-999.000,9,  -999.0,9,  -999.0,9,-999.0000,9,-999.0000,9, -999.00,9, -999.00,9,  -999.0,9,    -9.0,-999.000,9,-999.000,   38999,-999.0000,   1.3801,-999.0000, -999.00
 316N145_11,       I01W,     936,          1,          6,     SIH018,2,19950921,       1540,     8.5000,    66.8833,       4555,  4097.6,   1.6834,  34.7334,2,  34.7327,2,    160.0,2,   160.2,2,  137.92,2,   34.59,2,   -0.01,2,    2.43,2,-999.000,9,-999.000,9,  -999.0,9,  -999.0,9,-999.0000,9,-999.0000,9, -999.00,9, -999.00,9,  -999.0,9,    -9.0,-999.000,9,-999.000,   40994,-999.0000,   1.3482,-999.0000, -999.00
 316N145_11,       I01W,     936,          1,          5,     SIH002,2,19950921,       1540,     8.5000,    66.8833,       4555,  4245.4,   1.6770,  34.7325,2,  34.7317,2,    160.2,2,   160.9,2,  138.29,2,   34.76,2,    0.00,2,    2.43,2,-999.000,9,-999.000,9,  -999.0,9,  -999.0,9,-999.0000,9,-999.0000,9, -999.00,9, -999.00,9,  -999.0,9,    -9.0,-999.000,9,-999.000,   42473,-999.0000,   1.3255,-999.0000, -999.00
 316N145_11,       I01W,     936,          1,          4,     SIH020,2,19950921,       1540,     8.5000,    66.8833,       4555,  4392.9,   1.6679,  34.7307,2,  34.7305,2,    161.7,2,   161.3,2,  138.49,2,   34.81,2,    0.00,2,    2.43,2,   0.000,2,   0.001,2,  -999.0,9,  -999.0,9,-999.0000,9,-999.0000,9, -999.00,9, -999.00,9,  -999.0,9,    -9.0,-999.000,9,-999.000,   43949,-999.0000,   1.2998,-999.0000, -999.00
 316N145_11,       I01W,     936,          1,          3,     SIH021,2,19950921,       1540,     8.5000,    66.8833,       4555,  4495.5,   1.6631,  34.7303,2,  34.7292,2,    163.3,2,   162.5,2,  137.96,2,   34.72,2,   -0.01,2,    2.42,2,-999.000,9,-999.000,9,  -999.0,9,  -999.0,9,-999.0000,9,-999.0000,9, -999.00,9, -999.00,9,  -999.0,9,    -9.0,-999.000,9,-999.000,   44976,-999.0000,   1.2833,-999.0000, -999.00
 316N145_11,       I01W,     936,          1,          2,     SIH022,2,19950921,       1540,     8.5000,    66.8833,       4555,  4597.7,   1.6659,  34.7299,2,  34.7302,2,    164.4,2,   162.3,2,  138.34,2,   34.78,2,   -0.01,2,    2.42,2,   0.004,2,   0.004,2,  -999.0,9,  -999.0,9,-999.0000,9,-999.0000,9, -999.00,9, -999.00,9,  -999.0,9,    -9.0,-999.000,9,-999.000,   45998,-999.0000,   1.2741,-999.0000, -999.00
 316N145_11,       I01W,     936,          1,          1,     SIH023,2,19950921,       1540,     8.5000,    66.8833,       4555,  4648.7,   1.6665,  34.7296,2,  34.7302,2,    163.8,2,   163.2,2,  138.28,2,   34.55,2,    0.00,2,    2.41,2,   0.004,2,   0.001,2,  -999.0,9,  -999.0,9,-999.0000,9,-999.0000,9, -999.00,9, -999.00,9,  -999.0,9,    -9.0,-999.000,9,-999.000,   46508,-999.0000,   1.2686,-999.0000, -999.00