BOTTLE,20211119CCHSIORKP
EXPOCODE,SECT_ID,STNNBR,CASTNO,SAMPNO,BTLNBR,BTLNBR_FLAG_W,DATE,TIME,LATITUDE,LONGITUDE,DEPTH,CTDPRS,CTDTMP,CTDSAL,CTDSAL_FLAG_W,SALNTY,SALNTY_FLAG_W,CTDOXY,CTDOXY_FLAG_W,OXYGEN,OXYGEN_FLAG_W,SILCAT,SILCAT_FLAG_W,NITRAT,NITRAT_FLAG_W,NITRIT,NITRIT_FLAG_W,PHSPHT,PHSPHT_FLAG_W,CFC-11,CFC-11_FLAG_W,CFC-12,CFC-12_FLAG_W,TCARBN,TCARBN_FLAG_W,ALKALI,ALKALI_FLAG_W,TRITUM,TRITUM_FLAG_W,HELIUM,HELIUM_FLAG_W,DELHE3,DELHE3_FLAG_W,DELC13,DELC13_FLAG_W,DELC14,DELC14_FLAG_W,C14ERR,NEON,NEON_FLAG_W,NEONER,CTDRAW,TRITER,THETA,HELIER,DELHER
,,,,,,,,,,,METERS,DBAR,ITS-90,PSS-78,,PSS-78,,UMOL/KG,,UMOL/KG,,UMOL/KG,,UMOL/KG,,UMOL/KG,,UMOL/KG,,PMOL/KG,,PMOL/KG,,UMOL/KG,,UMOL/KG,,TU,,NMOL/KG,,PERCNT,,/MILLE,,/MILLE,,/MILLE,NMOL/KG,,NMOL/KG,DBAR,TU,DEG C,NMOL/KG,PERCNT
 316N145_11,       I01W,     916,          1,         35,     SIH003,2,19950916,       0525,     8.4917,    58.1083,       3905,    11.2,  26.6147,  35.6961,2,  35.6976,2,    219.5,2,   219.2,2,    3.36,2,    2.00,2,    0.14,2,    0.36,2,   1.776,2,   1.024,2,  2007.2,2,  2329.1,2,-999.0000,9,-999.0000,9, -999.00,9, -999.00,9,  -999.0,9,    -9.0,-999.000,9,-999.000,     100,-999.0000,  26.6122,-999.0000, -999.00
 316N145_11,       I01W,     916,          1,         34,     SIH026,2,19950916,       0525,     8.4917,    58.1083,       3905,    31.0,  26.1375,  35.6923,2,  35.6810,2,    214.4,2,   204.2,2,    3.54,2,    2.87,2,    0.28,2,    0.43,2,-999.000,9,-999.000,9,  2014.8,2,  2328.8,2,-999.0000,9,-999.0000,9, -999.00,9, -999.00,9,  -999.0,9,    -9.0,-999.000,9,-999.000,     298,-999.0000,  26.1306,-999.0000, -999.00
 316N145_11,       I01W,     916,          1,         33,     SIH027,2,19950916,       0525,     8.4917,    58.1083,       3905,    61.2,  25.8355,  35.6690,2,  35.6739,2,    203.2,2,   198.3,2,    3.89,2,    3.36,2,    0.61,2,    0.51,2,   1.781,2,   1.020,2,  2023.2,2,  2332.4,2,-999.0000,9,-999.0000,9, -999.00,9, -999.00,9,  -999.0,9,    -9.0,-999.000,9,-999.000,     600,-999.0000,  25.8218,-999.0000, -999.00
 316N145_11,       I01W,     916,          1,         32,     SIH028,2,19950916,       0525,     8.4917,    58.1083,       3905,    91.0,  26.4007,  36.1483,2,  36.1866,2,    166.3,2,   155.5,2,    3.51,2,    5.54,2,    0.06,2,    0.65,2,-999.000,9,-999.000,9,  2055.1,2,  2356.4,2,-999.0000,9,-999.0000,9, -999.00,9, -999.00,9,  -999.0,9,    -9.0,-999.000,9,-999.000,     898,-999.0000,  26.3801,-999.0000, -999.00
 316N145_11,       I01W,     916,          1,         31,     SIH029,2,19950916,       0525,     8.4917,    58.1083,       3905,   121.1,  23.4428,  35.6805,2,  35.6909,2,    140.7,2,   133.5,2,    7.69,2,   11.71,2,    0.03,2,    1.00,2,-999.000,9,-999.000,9,  2085.8,2,  2329.8,2,-999.0000,9,-999.0000,9, -999.00,9, -999.00,9,  -999.0,9,    -9.0,-999.000,9,-999.000,    1199,-999.0000,  23.4177,-999.0000, -999.00
 316N145_11,       I01W,     916,          1,         30,     SIH030,2,19950916,       0525,     8.4917,    58.1083,       3905,   150.6,  22.0408,  35.5274,2,  35.5281,2,    116.4,2,   117.1,2,    9.68,2,   14.37,2,    0.02,2,    1.15,2,   1.542,2,   0.864,2,  2103.5,2,  2319.7,2,-999.0000,9,-999.0000,9, -999.00,9, -999.00,9,  -999.0,9,    -9.0,-999.000,9,-999.000,    1495,-999.0000,  22.0109,-999.0000, -999.00
 316N145_11,       I01W,     916,          1,         29,     SIH031,2,19950916,       0525,     8.4917,    58.1083,       3905,   200.9,  18.0936,  35.2504,2,  35.2629,2,    109.4,2,   109.3,2,   13.32,2,   16.81,2,    0.02,2,    1.25,2,-999.000,9,-999.000,9,  2124.3,2,  2309.1,2,-999.0000,9,-999.0000,9, -999.00,9, -999.00,9,  -999.0,9,    -9.0,-999.000,9,-999.000,    1997,-999.0000,  18.0589,-999.0000, -999.00
 316N145_11,       I01W,     916,          1,         28,     SIH032,2,19950916,       0525,     8.4917,    58.1083,       3905,   250.7,  14.6739,  35.4199,2,  35.4204,2,     47.4,2,    35.2,2,   23.13,2,   25.97,2,    0.01,2,    2.06,2,-999.000,9,-999.000,9,  2221.3,2,  2321.9,2,-999.0000,9,-999.0000,9, -999.00,9, -999.00,9,  -999.0,9,    -9.0,-999.000,9,-999.000,    2496,-999.0000,  14.6363,-999.0000, -999.00
 316N145_11,       I01W,     916,          1,         27,     SIH033,2,19950916,       0525,     8.4917,    58.1083,       3905,   301.1,  13.7706,  35.4617,2,  35.4557,2,     32.1,2,    31.3,2,   26.03,2,   27.28,2,    0.01,2,    2.14,2,   0.629,2,   0.335,2,  2233.9,2,  2327.5,2,-999.0000,9,-999.0000,9, -999.00,9, -999.00,9,  -999.0,9,    -9.0,-999.000,9,-999.000,    3000,-999.0000,  13.7273,-999.0000, -999.00
 316N145_11,       I01W,     916,          1,         26,     SIH037,2,19950916,       0525,     8.4917,    58.1083,       3905,   400.7,  11.6545,  35.3193,2,  35.3190,2,     30.6,2,    29.0,2,   33.86,2,   31.30,2,    0.01,2,    2.33,2,-999.000,9,-999.000,9,  2248.6,2,  2327.9,2,-999.0000,9,-999.0000,9, -999.00,9, -999.00,9,  -999.0,9,    -9.0,-999.000,9,-999.000,    3996,-999.0000,  11.6026,-999.0000, -999.00
 316N145_11,       I01W,     916,          1,         25,     SI9446,2,19950916,       0525,     8.4917,    58.1083,       3905,   501.5,  11.0741,  35.2999,2,  35.3005,2,     25.0,2,    25.1,2,   39.50,2,   32.58,2,    0.01,2,    2.45,2,-999.000,9,-999.000,9,  -999.0,9,  -999.0,9,-999.0000,9,-999.0000,9, -999.00,9, -999.00,9,  -999.0,9,    -9.0,-999.000,9,-999.000,    5005,-999.0000,  11.0110,-999.0000, -999.00
 316N145_11,       I01W,     916,          1,         24,     SIH036,2,19950916,       0525,     8.4917,    58.1083,       3905,   601.3,  10.4333,  35.3041,2,  35.3076,2,     22.2,2,    25.0,2,   47.50,2,   33.66,2,    0.00,2,    2.56,2,   0.091,2,   0.044,2,  2267.6,2,  2341.4,2,-999.0000,9,-999.0000,9, -999.00,9, -999.00,9,  -999.0,9,    -9.0,-999.000,9,-999.000,    6003,-999.0000,  10.3600,-999.0000, -999.00
 316N145_11,       I01W,     916,          1,         23,     SIH001,2,19950916,       0525,     8.4917,    58.1083,       3905,   701.3,   9.8424,  35.2682,2,  35.2686,2,     22.6,2,    20.3,2,   54.97,2,   34.93,2,    0.00,2,    2.66,2,-999.000,9,-999.000,9,  -999.0,9,  -999.0,9,-999.0000,9,-999.0000,9, -999.00,9, -999.00,9,  -999.0,9,    -9.0,-999.000,9,-999.000,    7004,-999.0000,   9.7595,-999.0000, -999.00
 316N145_11,       I01W,     916,          1,         22,     SIH019,2,19950916,       0525,     8.4917,    58.1083,       3905,   800.9,   8.7319,  35.1830,2,  35.1851,2,     26.2,2,    23.3,2,   66.80,2,   36.46,2,    0.00,2,    2.75,2,-999.000,9,-999.000,9,  2291.3,2,  -999.0,9,-999.0000,9,-999.0000,9, -999.00,9, -999.00,9,  -999.0,9,    -9.0,-999.000,9,-999.000,    8000,-999.0000,   8.6432,-999.0000, -999.00
 316N145_11,       I01W,     916,          1,         21,     SIH025,2,19950916,       0525,     8.4917,    58.1083,       3905,   900.8,   8.0894,  35.1752,2,  35.1756,2,     31.4,2,    29.5,2,   74.63,2,   36.82,2,    0.00,2,    2.78,2,   0.014,2,   0.008,2,  -999.0,9,  -999.0,9,-999.0000,9,-999.0000,9, -999.00,9, -999.00,9,  -999.0,9,    -9.0,-999.000,9,-999.000,    9000,-999.0000,   7.9933,-999.0000, -999.00
 316N145_11,       I01W,     916,          1,         20,     SIH004,2,19950916,       0525,     8.4917,    58.1083,       3905,  1000.7,   7.4518,  35.1249,2,  35.1274,2,     38.8,2,    34.4,2,   80.83,2,   37.28,2,    0.00,2,    2.80,2,-999.000,9,-999.000,9,  2304.1,2,  2370.6,2,-999.0000,9,-999.0000,9, -999.00,9, -999.00,9,  -999.0,9,    -9.0,-999.000,9,-999.000,    9999,-999.0000,   7.3491,-999.0000, -999.00
 316N145_11,       I01W,     916,          1,         19,     SIH005,2,19950916,       0525,     8.4917,    58.1083,       3905,  1102.7,   6.7389,  35.0528,2,  35.0549,2,     43.9,2,    41.9,2,   87.93,2,   37.69,2,    0.00,2,    2.83,2,-999.000,9,-999.000,9,  -999.0,9,  -999.0,9,-999.0000,9,-999.0000,9, -999.00,9, -999.00,9,  -999.0,9,    -9.0,-999.000,9,-999.000,   11019,-999.0000,   6.6309,-999.0000, -999.00
 316N145_11,       I01W,     916,          1,         18,     SIH006,2,19950916,       0525,     8.4917,    58.1083,       3905,  1200.9,   6.1953,  35.0242,2,  35.0258,2,     50.1,2,    47.9,2,   93.58,2,   37.85,2,    0.00,2,    2.83,2,   0.002,2,   0.000,2,  2313.9,2,  2380.3,2,-999.0000,9,-999.0000,9, -999.00,9, -999.00,9,  -999.0,9,    -9.0,-999.000,9,-999.000,   12002,-999.0000,   6.0818,-999.0000, -999.00
 316N145_11,       I01W,     916,          1,         17,     SIH038,2,19950916,       0525,     8.4917,    58.1083,       3905,  1301.4,   5.9199,  35.0096,2,  35.0100,2,     56.1,2,    51.9,2,   96.68,2,   37.90,2,    0.00,2,    2.83,2,-999.000,9,-999.000,9,  -999.0,9,  -999.0,9,-999.0000,9,-999.0000,9, -999.00,9, -999.00,9,  -999.0,9,    -9.0,-999.000,9,-999.000,   13008,-999.0000,   5.7987,-999.0000, -999.00
 316N145_11,       I01W,     916,          1,         16,     SIH008,2,19950916,       0525,     8.4917,    58.1083,       3905,  1400.7,   5.3552,  34.9713,2,  34.9736,2,     67.4,2,    62.6,2,  102.15,2,   37.75,2,    0.00,2,    2.81,2,  -0.002,2,  -0.001,2,  -999.0,9,  -999.0,9,-999.0000,9,-999.0000,9, -999.00,9, -999.00,9,  -999.0,9,    -9.0,-999.000,9,-999.000,   14001,-999.0000,   5.2297,-999.0000, -999.00
 316N145_11,       I01W,     916,          1,         15,     SIH009,2,19950916,       0525,     8.4917,    58.1083,       3905,  1501.0,   4.8047,  34.9282,2,  34.9292,2,     76.8,2,    73.1,2,  107.26,2,   37.56,2,    0.00,2,    2.79,2,-999.000,9,-999.000,9,  -999.0,9,  -999.0,9,-999.0000,9,-999.0000,9, -999.00,9, -999.00,9,  -999.0,9,    -9.0,-999.000,9,-999.000,   15004,-999.0000,   4.6756,-999.0000, -999.00
 316N145_11,       I01W,     916,          1,         14,     SIH010,2,19950916,       0525,     8.4917,    58.1083,       3905,  1601.1,   4.3857,  34.9007,2,  34.9016,2,     85.1,2,    80.6,2,  112.37,2,   37.51,2,    0.00,2,    2.77,2,   0.003,2,   0.000,2,  2321.3,2,  2397.0,2,-999.0000,9,-999.0000,9, -999.00,9, -999.00,9,  -999.0,9,    -9.0,-999.000,9,-999.000,   16006,-999.0000,   4.2518,-999.0000, -999.00
 316N145_11,       I01W,     916,          1,         13,     SIH011,2,19950916,       0525,     8.4917,    58.1083,       3905,  1804.4,   3.4796,  34.8427,2,  34.8442,2,    101.2,2,   101.2,2,  122.04,2,   37.05,2,    0.00,2,    2.69,2,-999.000,9,-999.000,9,  -999.0,9,  -999.0,9,-999.0000,9,-999.0000,9, -999.00,9, -999.00,9,  -999.0,9,    -9.0,-999.000,9,-999.000,   18040,-999.0000,   3.3383,-999.0000, -999.00
 316N145_11,       I01W,     916,          1,         12,     SIH012,2,19950916,       0525,     8.4917,    58.1083,       3905,  2004.4,   2.8273,  34.8057,2,  34.8053,2,    116.2,2,   117.2,2,  128.61,2,   36.54,2,    0.00,2,    2.64,2,-999.000,9,-999.000,9,  2323.7,2,  2413.1,2,-999.0000,9,-999.0000,9, -999.00,9, -999.00,9,  -999.0,9,    -9.0,-999.000,9,-999.000,   20042,-999.0000,   2.6775,-999.0000, -999.00
 316N145_11,       I01W,     916,          1,         11,     SI9426,2,19950916,       0525,     8.4917,    58.1083,       3905,  2200.7,   2.4873,  34.7857,2,  34.7860,2,    125.0,2,   126.1,2,  132.99,2,   36.29,2,    0.01,2,    2.60,2,-999.000,9,-999.000,9,  -999.0,9,  -999.0,9,-999.0000,9,-999.0000,9, -999.00,9, -999.00,9,  -999.0,9,    -9.0,-999.000,9,-999.000,   22006,-999.0000,   2.3251,-999.0000, -999.00
 316N145_11,       I01W,     916,          1,         10,     SIH014,2,19950916,       0525,     8.4917,    58.1083,       3905,  2399.5,   2.2162,  34.7685,2,  34.7695,2,    135.6,2,   134.6,2,  135.00,2,   35.95,2,    0.00,2,    2.56,2,  -0.004,2,  -0.002,2,  -999.0,9,  -999.0,9,-999.0000,9,-999.0000,9, -999.00,9, -999.00,9,  -999.0,9,    -9.0,-999.000,9,-999.000,   23995,-999.0000,   2.0406,-999.0000, -999.00
 316N145_11,       I01W,     916,          1,          9,     SIH015,2,19950916,       0525,     8.4917,    58.1083,       3905,  2598.3,   2.0190,  34.7574,2,  34.7585,2,    142.7,2,   142.7,2,  136.64,2,   35.68,2,    0.01,2,    2.53,2,-999.000,9,-999.000,9,  2320.3,2,  2418.7,2,-999.0000,9,-999.0000,9, -999.00,9, -999.00,9,  -999.0,9,    -9.0,-999.000,9,-999.000,   25985,-999.0000,   1.8289,-999.0000, -999.00
 316N145_11,       I01W,     916,          1,          8,     SIH016,2,19950916,       0525,     8.4917,    58.1083,       3905,  2799.3,   1.8773,  34.7486,2,  34.7496,2,    147.6,2,   149.9,2,  136.84,2,   35.33,2,    0.01,2,    2.49,2,  -0.001,2,  -0.001,2,  -999.0,9,  -999.0,9,-999.0000,9,-999.0000,9, -999.00,9, -999.00,9,  -999.0,9,    -9.0,-999.000,9,-999.000,   27996,-999.0000,   1.6712,-999.0000, -999.00
 316N145_11,       I01W,     916,          1,          7,     SIH017,2,19950916,       0525,     8.4917,    58.1083,       3905,  2997.1,   1.7942,  34.7434,2,  34.7473,2,    155.4,2,   153.6,2,  136.29,2,   35.03,2,    0.01,2,    2.46,2,-999.000,9,-999.000,9,  2314.0,2,  2422.3,2,-999.0000,9,-999.0000,9, -999.00,9, -999.00,9,  -999.0,9,    -9.0,-999.000,9,-999.000,   29975,-999.0000,   1.5708,-999.0000, -999.00
 316N145_11,       I01W,     916,          1,          6,     SIH018,2,19950916,       0525,     8.4917,    58.1083,       3905,  3196.8,   1.7666,  34.7425,2,  34.7419,2,    153.8,2,   155.4,2,  136.30,2,   34.93,2,    0.01,2,    2.46,2,-999.000,9,-999.000,9,  -999.0,9,  -999.0,9,-999.0000,9,-999.0000,9, -999.00,9, -999.00,9,  -999.0,9,    -9.0,-999.000,9,-999.000,   31974,-999.0000,   1.5242,-999.0000, -999.00
 316N145_11,       I01W,     916,          1,          5,     SIH002,2,19950916,       0525,     8.4917,    58.1083,       3905,  3390.9,   1.7369,  34.7391,2,  34.7396,2,    155.2,2,   157.3,2,  136.49,2,   34.77,2,    0.01,2,    2.44,2,-999.000,9,-999.000,9,  -999.0,9,  -999.0,9,-999.0000,9,-999.0000,9, -999.00,9, -999.00,9,  -999.0,9,    -9.0,-999.000,9,-999.000,   33917,-999.0000,   1.4756,-999.0000, -999.00
 316N145_11,       I01W,     916,          1,          4,     SIH020,2,19950916,       0525,     8.4917,    58.1083,       3905,  3592.7,   1.6224,  34.7324,2,  34.7339,2,    166.1,2,   164.1,2,  135.58,2,   34.42,2,    0.01,2,    2.41,2,   0.003,2,   0.003,2,  2307.4,2,  2415.7,2,-999.0000,9,-999.0000,9, -999.00,9, -999.00,9,  -999.0,9,    -9.0,-999.000,9,-999.000,   35936,-999.0000,   1.3434,-999.0000, -999.00
 316N145_11,       I01W,     916,          1,          3,     SIH021,2,19950916,       0525,     8.4917,    58.1083,       3905,  3797.2,   1.5776,  34.7303,2,  34.7300,2,    169.5,2,   168.0,2,  135.23,2,   34.16,2,    0.02,2,    2.40,2,-999.000,9,-999.000,9,  -999.0,9,  -999.0,9,-999.0000,9,-999.0000,9, -999.00,9, -999.00,9,  -999.0,9,    -9.0,-999.000,9,-999.000,   37982,-999.0000,   1.2782,-999.0000, -999.00
 316N145_11,       I01W,     916,          1,          2,     SIH022,2,19950916,       0525,     8.4917,    58.1083,       3905,  3898.6,   1.5768,  34.7292,2,  34.7296,2,    168.2,2,   168.4,2,  134.87,2,   34.18,2,    0.01,2,    2.40,2,   0.000,2,   0.001,2,  -999.0,9,  -999.0,9,-999.0000,9,-999.0000,9, -999.00,9, -999.00,9,  -999.0,9,    -9.0,-999.000,9,-999.000,   38998,-999.0000,   1.2665,-999.0000, -999.00
 316N145_11,       I01W,     916,          1,          1,     SIH023,2,19950916,       0525,     8.4917,    58.1083,       3905,  3977.2,   1.5706,  34.7291,2,  34.7298,2,    169.2,2,   170.2,2,  135.01,2,   34.24,2,    0.01,2,    2.40,2,  -0.002,2,   0.001,2,  2302.1,2,  2413.4,2,-999.0000,9,-999.0000,9, -999.00,9, -999.00,9,  -999.0,9,    -9.0,-999.000,9,-999.000,   39783,-999.0000,   1.2519,-999.0000, -999.00