BOTTLE,20211119CCHSIORKP
EXPOCODE,SECT_ID,STNNBR,CASTNO,SAMPNO,BTLNBR,BTLNBR_FLAG_W,DATE,TIME,LATITUDE,LONGITUDE,DEPTH,CTDPRS,CTDTMP,CTDSAL,CTDSAL_FLAG_W,SALNTY,SALNTY_FLAG_W,CTDOXY,CTDOXY_FLAG_W,OXYGEN,OXYGEN_FLAG_W,SILCAT,SILCAT_FLAG_W,NITRAT,NITRAT_FLAG_W,NITRIT,NITRIT_FLAG_W,PHSPHT,PHSPHT_FLAG_W,CFC-11,CFC-11_FLAG_W,CFC-12,CFC-12_FLAG_W,TCARBN,TCARBN_FLAG_W,ALKALI,ALKALI_FLAG_W,TRITUM,TRITUM_FLAG_W,HELIUM,HELIUM_FLAG_W,DELHE3,DELHE3_FLAG_W,DELC13,DELC13_FLAG_W,DELC14,DELC14_FLAG_W,C14ERR,NEON,NEON_FLAG_W,NEONER,CTDRAW,TRITER,THETA,HELIER,DELHER
,,,,,,,,,,,METERS,DBAR,ITS-90,PSS-78,,PSS-78,,UMOL/KG,,UMOL/KG,,UMOL/KG,,UMOL/KG,,UMOL/KG,,UMOL/KG,,PMOL/KG,,PMOL/KG,,UMOL/KG,,UMOL/KG,,TU,,NMOL/KG,,PERCNT,,/MILLE,,/MILLE,,/MILLE,NMOL/KG,,NMOL/KG,DBAR,TU,DEG C,NMOL/KG,PERCNT
 316N145_11,       I01W,     924,          1,         35,     SIH003,2,19950918,       0143,     9.0167,    61.0167,       3965,     9.6,  27.7402,  36.1388,2,  36.1381,2,    217.9,2,   224.6,2,    0.98,2,    0.04,2,    0.00,2,    0.25,2,   1.718,2,   1.004,2,  2004.4,2,  2360.4,2,-999.0000,9,-999.0000,9, -999.00,9,    1.40,2,    46.5,2,     4.4,-999.000,9,-999.000,      90,-999.0000,  27.7380,-999.0000, -999.00
 316N145_11,       I01W,     924,          1,         36,     SIH024,2,19950918,       0143,     9.0167,    61.0167,       3965,    10.2,  27.7408,  36.1382,2,-999.0000,9,    217.9,2,  -999.0,9, -999.00,9, -999.00,9, -999.00,9, -999.00,9,-999.000,9,-999.000,9,  -999.0,9,  -999.0,9,-999.0000,9,-999.0000,9, -999.00,9, -999.00,9,  -999.0,9,    -9.0,-999.000,9,-999.000,      95,-999.0000,  27.7384,-999.0000, -999.00
 316N145_11,       I01W,     924,          1,         34,     SIH026,2,19950918,       0143,     9.0167,    61.0167,       3965,    30.3,  27.6851,  36.1482,2,  36.1476,2,    234.9,2,   227.5,2,    0.80,2,    0.00,2,    0.00,2,    0.26,2,-999.000,9,-999.000,9,  2005.2,2,  2360.0,2,-999.0000,9,-999.0000,9, -999.00,9, -999.00,9,  -999.0,9,    -9.0,-999.000,9,-999.000,     296,-999.0000,  27.6780,-999.0000, -999.00
 316N145_11,       I01W,     924,          1,         33,     SIH027,3,19950918,       0143,     9.0167,    61.0167,       3965,    59.9,  27.4263,  36.2364,3,  36.2356,2,    209.5,2,   206.2,2,    1.88,2,    0.50,2,    0.10,2,    0.38,2,   1.704,2,   0.991,2,  2021.5,2,  2365.8,2,-999.0000,9,   1.7570,2,    0.10,2,    1.29,2,    52.0,2,     5.7,   7.016,2,   0.140,     592,-999.0000,  27.4123,   0.0090,    0.20
 316N145_11,       I01W,     924,          1,         32,     SIH028,2,19950918,       0143,     9.0167,    61.0167,       3965,    89.8,  27.5981,  36.4723,2,  36.3905,2,    195.8,2,   198.3,2,    2.25,2,    0.76,2,    0.78,2,    0.39,2,-999.000,9,-999.000,9,  2029.2,2,  2375.3,2,-999.0000,9,-999.0000,9, -999.00,9, -999.00,9,  -999.0,9,    -9.0,-999.000,9,-999.000,     892,-999.0000,  27.5770,-999.0000, -999.00
 316N145_11,       I01W,     924,          1,         31,     SIH029,2,19950918,       0143,     9.0167,    61.0167,       3965,   120.2,  26.1111,  36.3922,2,  36.3766,2,    178.7,2,   155.8,2,    3.69,2,    7.61,2,    0.08,2,    0.78,2,   1.698,2,   0.966,2,  2075.3,2,  2371.9,2,-999.0000,9,-999.0000,9, -999.00,9,    0.80,2,    48.8,2,     3.6,-999.000,9,-999.000,    1195,-999.0000,  26.0841,-999.0000, -999.00
 316N145_11,       I01W,     924,          1,         30,     SIH030,2,19950918,       0143,     9.0167,    61.0167,       3965,   150.1,  20.3536,  35.6924,2,  35.6859,2,      7.7,2,    21.1,2,   14.77,2,   24.98,2,    0.02,2,    1.96,2,-999.000,9,-999.000,9,  2196.5,2,  2335.2,2,-999.0000,9,-999.0000,9, -999.00,9, -999.00,9,  -999.0,9,    -9.0,-999.000,9,-999.000,    1494,-999.0000,  20.3254,-999.0000, -999.00
 316N145_11,       I01W,     924,          1,         29,     SIH031,2,19950918,       0143,     9.0167,    61.0167,       3965,   199.5,  16.0065,  35.5251,2,  35.5243,2,     14.1,2,    13.1,2,   22.94,2,   26.00,2,    0.01,2,    2.21,2,   0.739,2,   0.420,2,  2233.7,2,  2329.8,2,-999.0000,9,-999.0000,9, -999.00,9,   -0.10,2,    -1.1,2,     4.4,-999.000,9,-999.000,    1989,-999.0000,  15.9748,-999.0000, -999.00
 316N145_11,       I01W,     924,          1,         28,     SIH032,3,19950918,       0143,     9.0167,    61.0167,       3965,   249.3,  13.8450,  35.4517,3,  35.4545,2,     19.6,2,    25.1,2,   25.85,2,   27.36,2,    0.01,2,    2.17,2,-999.000,9,-999.000,9,  2237.5,2,  2331.4,2,-999.0000,9,-999.0000,9, -999.00,9,   -0.13,2,   -18.5,2,     6.3,-999.000,9,-999.000,    2487,-999.0000,  13.8090,-999.0000, -999.00
 316N145_11,       I01W,     924,          1,         27,     SIH033,2,19950918,       0143,     9.0167,    61.0167,       3965,   300.2,  12.9935,  35.4821,2,  35.4760,2,     27.1,2,    25.9,2,   29.30,2,   28.62,2,    0.01,2,    2.24,2,   0.469,2,   0.252,2,  2245.8,2,  2334.2,2,-999.0000,9,-999.0000,9, -999.00,9,    0.02,2,   -28.2,2,     3.8,-999.000,9,-999.000,    2996,-999.0000,  12.9519,-999.0000, -999.00
 316N145_11,       I01W,     924,          1,         26,     SIH037,2,19950918,       0143,     9.0167,    61.0167,       3965,   400.5,  11.5340,  35.3122,2,  35.3159,2,     29.0,2,    30.1,2,   34.56,2,   31.49,2,    0.01,2,    2.35,2,-999.000,9,-999.000,9,  2251.3,2,  2332.1,2,-999.0000,9,   1.8640,2,    7.10,2,    0.10,2,   -59.3,2,     3.7,   7.801,2,   0.156,    3999,-999.0000,  11.4825,   0.0090,    0.20
 316N145_11,       I01W,     924,          1,         25,     SI9446,3,19950918,       0143,     9.0167,    61.0167,       3965,   500.4,  10.8193,  35.2673,3,  35.2674,2,     23.0,2,    26.5,2,   41.11,2,   32.95,2,    0.00,2,    2.47,2,   0.130,2,   0.069,2,  -999.0,9,  -999.0,9,-999.0000,9,-999.0000,9, -999.00,9,    0.11,2,   -82.6,2,     3.9,-999.000,9,-999.000,    4999,-999.0000,  10.7571,-999.0000, -999.00
 316N145_11,       I01W,     924,          1,         24,     SIH036,2,19950918,       0143,     9.0167,    61.0167,       3965,   600.8,  10.4341,  35.2880,2,  35.2893,2,     16.7,2,    20.3,2,   48.19,2,   34.06,2,    0.00,2,    2.59,2,   0.068,2,   0.034,2,  2272.7,2,  2343.9,2,-999.0000,9,-999.0000,9, -999.00,9,    0.02,2,   -97.2,2,     5.3,-999.000,9,-999.000,    6003,-999.0000,  10.3608,-999.0000, -999.00
 316N145_11,       I01W,     924,          1,         23,     SIH001,4,19950918,       0143,     9.0167,    61.0167,       3965,   700.3,   9.9436,  35.2942,4,  35.2201,4,     17.7,2,    33.8,4,   70.19,2,   35.71,2,    0.01,2,    2.72,2,-999.000,9,-999.000,9,  -999.0,9,  -999.0,9,-999.0000,9,-999.0000,9, -999.00,9, -999.00,9,  -999.0,9,    -9.0,-999.000,9,-999.000,    6999,-999.0000,   9.8603,-999.0000, -999.00
 316N145_11,       I01W,     924,          1,         22,     SIH019,4,19950918,       0143,     9.0167,    61.0167,       3965,   801.2,   9.5495,  35.3697,4,  35.2613,4,     19.6,2,    27.0,4,   71.10,2,   36.13,2,    0.00,2,    2.75,2,-999.000,9,-999.000,9,  -999.0,9,  -999.0,9,-999.0000,9,-999.0000,9, -999.00,9, -999.00,9,  -999.0,9,    -9.0,-999.000,9,-999.000,    8008,-999.0000,   9.4559,-999.0000, -999.00
 316N145_11,       I01W,     924,          1,         21,     SIH025,2,19950918,       0143,     9.0167,    61.0167,       3965,   896.7,   8.5240,  35.2356,2,  35.2363,2,     24.0,2,    25.1,2,   71.11,2,   36.43,2,    0.00,2,    2.77,2,   0.024,2,   0.011,2,  2299.5,2,  2365.5,2,-999.0000,9,-999.0000,9, -999.00,9,   -0.06,2,  -138.4,2,     3.4,-999.000,9,-999.000,    8963,-999.0000,   8.4255,-999.0000, -999.00
 316N145_11,       I01W,     924,          1,         20,     SIH004,2,19950918,       0143,     9.0167,    61.0167,       3965,   998.5,   7.7369,  35.1625,2,  35.1549,2,     31.7,2,    33.4,2,   79.29,2,   37.15,2,    0.00,2,    2.80,2,-999.000,9,-999.000,9,  2305.7,2,  2372.7,2,-999.0000,9,   1.8820,2,   10.60,2,   -0.05,2,  -143.2,2,     3.4,   7.823,2,   0.156,    9982,-999.0000,   7.6325,   0.0090,    0.20
 316N145_11,       I01W,     924,          1,         19,     SIH005,2,19950918,       0143,     9.0167,    61.0167,       3965,  1099.4,   7.0808,  35.1366,2,  35.1307,2,     37.6,2,    38.9,2,   85.11,2,   37.26,2,    0.00,2,    2.81,2,   0.015,4,   0.001,2,  -999.0,9,  -999.0,9,-999.0000,9,   1.9040,2,   13.40,2, -999.00,9,  -999.0,9,    -9.0,   7.921,2,   0.158,   10992,-999.0000,   6.9702,   0.0100,    0.20
 316N145_11,       I01W,     924,          1,         18,     SIH006,2,19950918,       0143,     9.0167,    61.0167,       3965,  1200.4,   6.6084,  35.0902,2,  35.0921,2,     43.3,2,    44.5,2,   89.48,2,   37.46,2,    0.00,2,    2.83,2,-999.000,9,-999.000,9,  2313.6,2,  2382.4,2,-999.0000,9,   1.8910,2,   13.10,2,   -0.09,2,  -160.2,2,     3.7,   7.939,2,   0.159,   12002,-999.0000,   6.4912,   0.0090,    0.20
 316N145_11,       I01W,     924,          1,         17,     SIH038,2,19950918,       0143,     9.0167,    61.0167,       3965,  1300.6,   6.0234,  35.0374,2,  35.0384,2,     53.8,2,    52.0,2,   94.95,2,   37.57,2,    0.00,2,    2.83,2,-999.000,9,-999.000,9,  -999.0,9,  -999.0,9,-999.0000,9,   1.8820,2,   13.00,2, -999.00,9,  -999.0,9,    -9.0,   7.841,2,   0.157,   13004,-999.0000,   5.9012,   0.0090,    0.20
 316N145_11,       I01W,     924,          1,         16,     SIH008,2,19950918,       0143,     9.0167,    61.0167,       3965,  1400.4,   5.1740,  34.9657,2,  34.9654,2,     65.9,2,    64.4,2,  103.69,2,   37.58,2,    0.00,2,    2.81,2,  -0.001,2,  -0.002,2,  -999.0,9,  -999.0,9,-999.0000,9,-999.0000,9, -999.00,9,   -0.07,2,  -175.9,2,     4.3,-999.000,9,-999.000,   14003,-999.0000,   5.0504,-999.0000, -999.00
 316N145_11,       I01W,     924,          1,         15,     SIH009,2,19950918,       0143,     9.0167,    61.0167,       3965,  1500.1,   4.6392,  34.9202,2,  34.9203,2,     75.0,2,    73.9,2,  109.16,2,   37.50,2,    0.00,2,    2.79,2,-999.000,9,-999.000,9,  -999.0,9,  -999.0,9,-999.0000,9,-999.0000,9, -999.00,9, -999.00,9,  -999.0,9,    -9.0,-999.000,9,-999.000,   15001,-999.0000,   4.5119,-999.0000, -999.00
 316N145_11,       I01W,     924,          1,         14,     SIH010,3,19950918,       0143,     9.0167,    61.0167,       3965,  1596.0,   4.1927,  34.8884,3,  34.8888,2,     86.3,2,    86.4,2,  113.18,2,   37.25,2,    0.00,2,    2.77,2,  -0.001,2,  -0.001,2,  2323.9,2,  2403.3,2,-999.0000,9,   1.8690,2,   13.40,2,   -0.07,2,  -183.7,2,     4.3,   8.090,2,   0.162,   15960,-999.0000,   4.0616,   0.0090,    0.20
 316N145_11,       I01W,     924,          1,         13,     SIH011,2,19950918,       0143,     9.0167,    61.0167,       3965,  1798.9,   3.3719,  34.8332,2,  34.8330,2,    104.7,2,   105.8,2,  120.65,2,   36.51,2,    0.00,2,    2.66,2,-999.000,9,-999.000,9,  -999.0,9,  -999.0,9,-999.0000,9,   1.9040,2,   14.00,2,    0.01,2,  -191.4,2,     3.3,   8.162,2,   0.163,   17990,-999.0000,   3.2327,   0.0100,    0.20
 316N145_11,       I01W,     924,          1,         12,     SIH012,2,19950918,       0143,     9.0167,    61.0167,       3965,  1996.0,   2.8841,  34.8028,2,  34.8035,2,    120.0,2,   118.8,2,  124.84,2,   36.22,2,   -0.01,2,    2.61,2,-999.000,9,-999.000,9,  2318.0,2,  2412.7,2,-999.0000,9,   1.9620,2,   16.00,2,    0.06,2,  -187.4,2,     4.5,   8.340,2,   0.167,   19963,-999.0000,   2.7341,   0.0100,    0.20
 316N145_11,       I01W,     924,          1,         11,     SI9426,2,19950918,       0143,     9.0167,    61.0167,       3965,  2194.9,   2.5696,  34.7854,2,  34.7862,2,    126.8,2,   126.9,2,  128.49,2,   35.93,2,    0.00,2,    2.58,2,  -0.003,2,  -0.002,2,  -999.0,9,  -999.0,9,-999.0000,9,   1.9580,2,   15.20,2, -999.00,9,  -999.0,9,    -9.0,   8.309,2,   0.166,   21953,-999.0000,   2.4065,   0.0100,    0.20
 316N145_11,       I01W,     924,          1,         10,     SIH014,2,19950918,       0143,     9.0167,    61.0167,       3965,  2397.1,   2.2980,  34.7717,2,  34.7718,2,    133.2,2,   134.4,2,  131.96,2,   35.73,2,    0.00,2,    2.55,2,-999.000,9,-999.000,9,  -999.0,9,  -999.0,9,-999.0000,9,   1.9400,2,   15.60,2, -999.00,9,  -999.0,9,    -9.0,   8.255,2,   0.165,   23977,-999.0000,   2.1212,   0.0100,    0.20
 316N145_11,       I01W,     924,          1,          9,     SIH015,2,19950918,       0143,     9.0167,    61.0167,       3965,  2594.7,   2.1166,  34.7638,2,  34.7622,2,    139.7,2,   138.7,2,  134.89,2,   35.59,2,    0.00,2,    2.53,2,-999.000,9,-999.000,9,  2321.2,2,  2426.1,2,-999.0000,9,-999.0000,9, -999.00,9, -999.00,9,  -999.0,9,    -9.0,-999.000,9,-999.000,   25954,-999.0000,   1.9248,-999.0000, -999.00
 316N145_11,       I01W,     924,          1,          8,     SIH016,2,19950918,       0143,     9.0167,    61.0167,       3965,  2797.8,   1.9602,  34.7543,2,  34.7530,2,    146.3,2,   144.6,2,  135.99,2,   35.40,2,    0.00,2,    2.51,2,   0.000,2,  -0.002,2,  -999.0,9,  -999.0,9,-999.0000,9,   1.9400,2,   14.30,2, -999.00,9,  -999.0,9,    -9.0,   8.300,2,   0.166,   27986,-999.0000,   1.7525,   0.0100,    0.20
 316N145_11,       I01W,     924,          1,          7,     SIH017,2,19950918,       0143,     9.0167,    61.0167,       3965,  2996.2,   1.8268,  34.7465,2,  34.7476,2,    149.5,2,   148.5,2,  137.27,2,   35.30,2,    0.00,2,    2.49,2,-999.000,9,-999.000,9,  2318.8,2,  2424.9,2,-999.0000,9,   1.9090,2,   14.20,2, -999.00,9,  -999.0,9,    -9.0,   8.398,2,   0.168,   29972,-999.0000,   1.6028,   0.0100,    0.20
 316N145_11,       I01W,     924,          1,          6,     SIH018,2,19950918,       0143,     9.0167,    61.0167,       3965,  3199.2,   1.7748,  34.7444,2,  34.7433,2,    152.8,2,   150.5,2,  138.38,2,   35.26,2,   -0.01,2,    2.48,2,-999.000,9,-999.000,9,  -999.0,9,  -999.0,9,-999.0000,9,   1.9760,2,   14.60,2, -999.00,9,  -999.0,9,    -9.0,   8.438,2,   0.169,   32003,-999.0000,   1.5320,   0.0100,    0.20
 316N145_11,       I01W,     924,          1,          5,     SIH002,2,19950918,       0143,     9.0167,    61.0167,       3965,  3396.8,   1.7435,  34.7407,2,  34.7408,2,    153.7,2,   154.0,2,  138.21,2,   35.07,2,   -0.01,2,    2.46,2,-999.000,9,-999.000,9,  -999.0,9,  -999.0,9,-999.0000,9,   1.9450,2,   14.30,2, -999.00,9,  -999.0,9,    -9.0,   8.465,2,   0.169,   33980,-999.0000,   1.4814,   0.0100,    0.20
 316N145_11,       I01W,     924,          1,          4,     SIH020,2,19950918,       0143,     9.0167,    61.0167,       3965,  3596.0,   1.6972,  34.7392,2,  34.7378,2,    157.6,2,   155.8,2,  138.22,2,   35.03,2,   -0.01,2,    2.45,2,  -0.001,2,  -0.001,2,  2317.8,2,  2426.7,2,-999.0000,9,   1.9130,2,   13.70,2, -999.00,9,  -999.0,9,    -9.0,   8.541,2,   0.171,   35974,-999.0000,   1.4158,   0.0100,    0.20
 316N145_11,       I01W,     924,          1,          3,     SIH021,2,19950918,       0143,     9.0167,    61.0167,       3965,  3795.3,   1.6672,  34.7353,2,  34.7355,2,    160.2,2,   159.8,2,  138.23,2,   34.88,2,   -0.01,2,    2.44,2,-999.000,9,-999.000,9,  -999.0,9,  -999.0,9,-999.0000,9,   1.9360,2,   12.00,2, -999.00,9,  -999.0,9,    -9.0,   8.528,2,   0.171,   37969,-999.0000,   1.3655,   0.0100,    0.20
 316N145_11,       I01W,     924,          1,          2,     SIH022,2,19950918,       0143,     9.0167,    61.0167,       3965,  3948.2,   1.6319,  34.7339,2,  34.7329,2,    165.5,2,   163.8,2,  137.52,2,   34.64,2,    0.00,2,    2.42,2,   0.000,2,  -0.001,2,  -999.0,9,  -999.0,9,-999.0000,9,   1.9220,2,   13.00,2, -999.00,9,  -999.0,9,    -9.0,   8.434,2,   0.169,   39499,-999.0000,   1.3147,   0.0100,    0.20
 316N145_11,       I01W,     924,          1,          1,     SIH023,2,19950918,       0143,     9.0167,    61.0167,       3965,  4029.4,   1.6224,  34.7329,2,  34.7315,2,    165.2,2,   165.7,2,  137.61,2,   34.51,2,    0.00,2,    2.42,2,  -0.001,2,  -0.001,2,  2311.5,2,  2427.3,2,-999.0000,9,   1.9800,2,   14.90,2, -999.00,9,  -999.0,9,    -9.0,   8.496,2,   0.170,   40311,-999.0000,   1.2965,   0.0100,    0.20