BOTTLE,20211119CCHSIORKP
EXPOCODE,SECT_ID,STNNBR,CASTNO,SAMPNO,BTLNBR,BTLNBR_FLAG_W,DATE,TIME,LATITUDE,LONGITUDE,DEPTH,CTDPRS,CTDTMP,CTDSAL,CTDSAL_FLAG_W,SALNTY,SALNTY_FLAG_W,CTDOXY,CTDOXY_FLAG_W,OXYGEN,OXYGEN_FLAG_W,SILCAT,SILCAT_FLAG_W,NITRAT,NITRAT_FLAG_W,NITRIT,NITRIT_FLAG_W,PHSPHT,PHSPHT_FLAG_W,CFC-11,CFC-11_FLAG_W,CFC-12,CFC-12_FLAG_W,TCARBN,TCARBN_FLAG_W,ALKALI,ALKALI_FLAG_W,TRITUM,TRITUM_FLAG_W,HELIUM,HELIUM_FLAG_W,DELHE3,DELHE3_FLAG_W,DELC13,DELC13_FLAG_W,DELC14,DELC14_FLAG_W,C14ERR,NEON,NEON_FLAG_W,NEONER,CTDRAW,TRITER,THETA,HELIER,DELHER
,,,,,,,,,,,METERS,DBAR,ITS-90,PSS-78,,PSS-78,,UMOL/KG,,UMOL/KG,,UMOL/KG,,UMOL/KG,,UMOL/KG,,UMOL/KG,,PMOL/KG,,PMOL/KG,,UMOL/KG,,UMOL/KG,,TU,,NMOL/KG,,PERCNT,,/MILLE,,/MILLE,,/MILLE,NMOL/KG,,NMOL/KG,DBAR,TU,DEG C,NMOL/KG,PERCNT
 316N145_11,       I01W,     906,          1,         36,     SIH024,2,19950913,       1410,     8.5167,    53.0695,       5035,     7.7,  27.3929,  35.6606,2,  35.6613,2,    211.3,2,   224.1,2,    2.85,2,    0.09,2,    0.03,2,    0.22,2,   1.694,2,   0.975,2,  1984.6,2,  2328.0,2,-999.0000,9,   1.7083,2,   -1.13,2,    1.33,2,    62.8,2,     3.3,   6.616,2,   0.033,      65,-999.0000,  27.3911,   0.0085,    0.14
 316N145_11,       I01W,     906,          1,         35,     SIH003,2,19950913,       1410,     8.5167,    53.0695,       5035,    33.2,  27.3801,  35.6627,2,  35.6609,2,    212.2,2,   224.9,2,    2.66,2,    0.08,2,    0.04,2,    0.22,2,-999.000,9,-999.000,9,  1984.9,2,  2325.0,2,-999.0000,9,   1.7311,2,   -1.00,2, -999.00,9,  -999.0,9,    -9.0,   6.723,2,   0.034,     321,-999.0000,  27.3724,   0.0087,    0.14
 316N145_11,       I01W,     906,          1,         34,     SIH026,2,19950913,       1410,     8.5167,    53.0695,       5035,    62.4,  26.3597,  35.6940,2,  35.6950,2,    203.7,2,   215.0,2,    3.42,2,    1.89,2,    0.47,2,    0.42,2,-999.000,9,-999.000,9,  2013.8,2,  2329.4,2,-999.0000,9,   1.7042,2,   -0.97,2,    1.21,2,    57.4,2,     3.0,   6.721,2,   0.034,     613,-999.0000,  26.3456,   0.0085,    0.14
 316N145_11,       I01W,     906,          1,         33,     SIH027,2,19950913,       1410,     8.5167,    53.0695,       5035,    91.1,  26.0214,  35.6204,2,  35.6216,2,    201.1,2,   206.6,2,    3.99,2,    2.58,2,    0.41,2,    0.48,2,   1.759,2,   1.006,2,  2017.8,2,  2323.9,2,-999.0000,9,   1.7454,2,   -1.14,2,    1.09,2,    53.5,2,     5.3,   6.794,2,   0.034,     899,-999.0000,  26.0010,   0.0087,    0.14
 316N145_11,       I01W,     906,          1,         32,     SIH028,2,19950913,       1410,     8.5167,    53.0695,       5035,   121.5,  25.5504,  35.6017,2,  35.6026,2,    201.7,2,   211.9,2,    4.38,2,    3.05,2,    1.28,2,    0.52,2,-999.000,9,-999.000,9,  -999.0,9,  2322.6,2,   0.9007,2,   1.7241,2,   -1.00,2,    1.12,2,    50.6,2,     4.5,   6.840,2,   0.034,    1203,   0.0037,  25.5236,   0.0086,    0.14
 316N145_11,       I01W,     906,          1,         31,     SIH029,2,19950913,       1410,     8.5167,    53.0695,       5035,   151.4,  23.2406,  35.6697,2,  35.6707,2,    130.1,2,   133.6,2,    8.23,2,   12.76,2,    0.04,2,    1.05,2,   1.555,2,   0.881,2,  2094.9,2,  2326.1,2,   0.8552,2,   1.7447,2,    0.49,2,    0.50,2,    42.2,2,     4.6,   6.962,2,   0.035,    1503,   0.0035,  23.2093,   0.0087,    0.14
 316N145_11,       I01W,     906,          1,         30,     SIH030,2,19950913,       1410,     8.5167,    53.0695,       5035,   201.0,  15.7919,  35.4920,2,  35.4908,2,     47.2,2,    35.4,2,   22.30,2,   25.74,2,    0.01,2,    2.10,2,-999.000,9,-999.000,9,  2223.5,2,  2322.6,2,   0.5441,2,   1.7667,2,    4.10,2,   -0.07,2,     7.4,2,     3.0,   7.221,2,   0.036,    1999,   0.0030,  15.7603,   0.0088,    0.14
 316N145_11,       I01W,     906,          1,         29,     SIH031,2,19950913,       1410,     8.5167,    53.0695,       5035,   249.7,  13.9868,  35.3804,2,  35.3744,2,     47.5,2,    55.3,2,   23.46,2,   25.85,2,    0.01,2,    2.00,2,   0.787,2,   0.422,2,  2218.9,2,  2318.9,2,   0.4758,2,   1.7925,2,    4.30,2,    0.16,2,    -0.4,2,     2.9,   7.326,2,   0.037,    2486,   0.0029,  13.9506,   0.0090,    0.14
 316N145_11,       I01W,     906,          1,         28,     SIH032,2,19950913,       1410,     8.5167,    53.0695,       5035,   298.7,  12.8019,  35.3195,2,  35.3175,2,     45.4,2,    64.9,2,   25.58,2,   26.55,2,    0.00,2,    2.00,2,-999.000,9,-999.000,9,  2219.9,2,  2321.1,2,   0.4004,2,   1.7817,2,    4.57,2,    0.12,2,   -16.6,2,     2.9,   7.355,2,   0.037,    2976,   0.0028,  12.7609,   0.0089,    0.14
 316N145_11,       I01W,     906,          1,         27,     SIH033,2,19950913,       1410,     8.5167,    53.0695,       5035,   401.7,  11.3052,  35.2455,2,  35.2432,2,     43.2,2,    58.4,2,   32.71,2,   29.92,2,    0.00,2,    2.21,2,   0.371,2,   0.196,2,  -999.0,9,  -999.0,9,   0.2376,2,   1.8057,2,    4.87,2,    0.21,2,   -39.6,2,     3.0,   7.450,2,   0.037,    4007,   0.0026,  11.2542,   0.0090,    0.14
 316N145_11,       I01W,     906,          1,         26,     SIH037,2,19950913,       1410,     8.5167,    53.0695,       5035,   502.3,  10.8975,  35.2857,2,  35.2846,2,     40.2,2,    47.4,2,   38.88,2,   31.36,2,    0.00,2,    2.37,2,-999.000,9,-999.000,9,  2249.8,2,  2330.2,2,   0.1715,2,   1.7956,2,    5.33,2,    0.10,2,   -75.9,2,     2.8,   7.439,2,   0.037,    5013,   0.0024,  10.8349,   0.0090,    0.14
 316N145_11,       I01W,     906,          1,         25,     SI9446,2,19950913,       1410,     8.5167,    53.0695,       5035,   599.2,  10.4549,  35.3131,2,  35.3120,2,     28.1,2,    32.4,2,   46.79,2,   33.07,2,    0.00,2,    2.52,2,   0.105,2,   0.054,2,  -999.0,9,  -999.0,9,   0.1082,2,   1.8316,2,    6.24,2,   -0.36,3,   -97.2,2,     2.7,   7.582,2,   0.038,    5982,   0.0024,  10.3818,   0.0092,    0.14
 316N145_11,       I01W,     906,          1,         24,     SIH036,2,19950913,       1410,     8.5167,    53.0695,       5035,   798.1,   9.0879,  35.2759,2,  35.2749,2,     25.3,2,    35.9,3,   64.34,2,   35.37,2,    0.00,2,    2.70,2,-999.000,9,-999.000,9,  2289.5,2,  2354.7,2,   0.0548,2,   1.8083,2,    8.51,2,   -0.09,2,  -121.2,2,     2.6,   7.510,2,   0.038,    7972,   0.0023,   8.9973,   0.0090,    0.14
 316N145_11,       I01W,     906,          1,         23,     SIH001,2,19950913,       1410,     8.5167,    53.0695,       5035,  1001.3,   8.0137,  35.2096,2,  35.2062,2,     35.0,2,    39.2,3,   75.92,2,   36.23,2,    0.00,2,    2.75,2,   0.027,2,   0.010,2,  -999.0,9,  -999.0,9,   0.0408,2,-999.0000,9, -999.00,9,   -0.13,2,  -137.1,2,     4.0,-999.000,9,-999.000,   10005,   0.0023,   7.9068,-999.0000, -999.00
 316N145_11,       I01W,     906,          1,         22,     SIH019,2,19950913,       1410,     8.5167,    53.0695,       5035,  1199.0,   6.8149,  35.0892,2,  35.0848,2,     46.9,2,    52.2,3,   86.35,2,   36.93,2,    0.00,2,    2.79,2,-999.000,9,-999.000,9,  2307.4,2,  2372.2,2,   0.0214,2,   1.8730,2,   12.70,2,    0.00,2,  -148.9,2,     3.7,   7.627,2,   0.153,   11982,   0.0022,   6.6960,   0.0090,    0.20
 316N145_11,       I01W,     906,          1,         21,     SIH025,2,19950913,       1410,     8.5167,    53.0695,       5035,  1399.3,   5.7596,  35.0210,2,  35.0187,2,     62.8,2,    63.3,2,   97.93,2,   37.46,2,    0.00,2,    2.80,2,   0.004,2,   0.000,2,  -999.0,9,  -999.0,9,   0.0141,2,   1.9090,2,   14.70,2,   -0.08,2,  -155.1,2,     2.6,   8.019,2,   0.160,   13987,   0.0023,   5.6299,   0.0100,    0.20
 316N145_11,       I01W,     906,          1,         20,     SIH004,2,19950913,       1410,     8.5167,    53.0695,       5035,  1604.6,   4.7595,  34.9371,2,  34.9357,2,     76.0,2,    77.9,2,  106.81,2,   37.25,2,    0.00,2,    2.77,2,-999.000,9,-999.000,9,  2320.9,2,  2392.0,2,-999.0000,9,   1.9620,2,   15.20,2,    0.00,2,  -166.6,2,     2.6,   8.041,2,   0.161,   16041,-999.0000,   4.6207,   0.0100,    0.20
 316N145_11,       I01W,     906,          1,         19,     SIH005,2,19950913,       1410,     8.5167,    53.0695,       5035,  1795.9,   3.8098,  34.8652,2,  34.8648,2,     95.5,2,    97.1,2,  117.24,2,   36.94,2,    0.00,2,    2.72,2,   0.000,2,   0.000,2,  -999.0,9,  -999.0,9,-999.0000,9,   1.9670,2,   17.10,2,    0.00,2,  -181.6,2,     2.3,   8.122,2,   0.162,   17955,-999.0000,   3.6648,   0.0100,    0.20
 316N145_11,       I01W,     906,          1,         18,     SIH006,2,19950913,       1410,     8.5167,    53.0695,       5035,  1997.0,   3.1585,  34.8282,2,  34.8292,2,    107.9,2,   109.4,2,  125.94,2,   36.62,2,    0.00,2,    2.67,2,-999.000,9,-999.000,9,  2328.6,2,  2410.1,2,-999.0000,9,   1.9000,2,   16.40,2,   -0.02,2,  -188.7,2,     2.8,   8.478,2,   0.170,   19968,-999.0000,   3.0042,   0.0090,    0.20
 316N145_11,       I01W,     906,          1,         17,     SIH038,2,19950913,       1410,     8.5167,    53.0695,       5035,  2198.5,   2.6091,  34.7927,2,  34.7919,2,    122.4,2,   124.2,2,  131.54,2,   36.20,2,    0.00,2,    2.61,2,  -0.002,2,  -0.002,2,  -999.0,9,  -999.0,9,-999.0000,9,   1.9270,2,   16.10,2,    0.05,2,  -189.5,2,     4.9,   8.224,2,   0.164,   21984,-999.0000,   2.4451,   0.0100,    0.20
 316N145_11,       I01W,     906,          1,         16,     SIH008,2,19950913,       1410,     8.5167,    53.0695,       5035,  2395.6,   2.2235,  34.7691,2,  34.7695,2,    134.2,2,   135.2,2,  134.44,2,   35.72,2,    0.00,2,    2.56,2,-999.000,9,-999.000,9,  2323.9,2,  2420.2,2,-999.0000,9,   1.9180,2,   15.50,2,    0.08,2,  -187.7,2,     3.5,   8.354,2,   0.167,   23956,-999.0000,   2.0481,   0.0100,    0.20
 316N145_11,       I01W,     906,          1,         15,     SIH009,2,19950913,       1410,     8.5167,    53.0695,       5035,  2598.8,   2.0030,  34.7550,2,  34.7549,2,    141.2,2,   143.9,2,  135.80,2,   35.51,2,    0.01,2,    2.50,2,   0.001,2,   0.006,3,  -999.0,9,  -999.0,9,-999.0000,9,   1.8960,2,   15.80,2, -999.00,9,  -999.0,9,    -9.0,   8.461,2,   0.169,   25990,-999.0000,   1.8132,   0.0090,    0.20
 316N145_11,       I01W,     906,          1,         14,     SIH010,2,19950913,       1410,     8.5167,    53.0695,       5035,  2800.5,   1.8807,  34.7488,2,  34.7488,2,    148.4,2,   149.9,2,  136.77,2,   35.24,2,    0.01,2,    2.49,2,-999.000,9,-999.000,9,  -999.0,9,  -999.0,9,-999.0000,9,   1.8870,2,   15.50,2,    0.04,2,  -183.9,2,     3.6,   8.331,2,   0.167,   28008,-999.0000,   1.6744,   0.0090,    0.20
 316N145_11,       I01W,     906,          1,         13,     SIH011,2,19950913,       1410,     8.5167,    53.0695,       5035,  3001.4,   1.7829,  34.7427,2,  34.7404,2,    152.5,2,   155.6,2,  136.78,2,   35.03,2,    0.01,2,    2.47,2,   0.000,2,   0.001,2,  -999.0,9,  -999.0,9,-999.0000,9,   1.8640,2,   15.20,2,    0.15,2,  -178.4,2,     3.6,   8.313,2,   0.166,   30019,-999.0000,   1.5594,   0.0090,    0.20
 316N145_11,       I01W,     906,          1,         12,     SIH012,2,19950913,       1410,     8.5167,    53.0695,       5035,  3201.2,   1.7123,  34.7385,2,  34.7384,2,    157.8,2,   159.6,2,  136.21,2,   34.62,2,    0.00,2,    2.44,2,-999.000,9,-999.000,9,  -999.0,9,  -999.0,9,-999.0000,9,   1.9000,2,   15.40,2,    0.11,2,  -182.1,2,     3.6,   8.309,2,   0.166,   32018,-999.0000,   1.4707,   0.0090,    0.20
 316N145_11,       I01W,     906,          1,         11,     SI9426,2,19950913,       1410,     8.5167,    53.0695,       5035,  3400.8,   1.6382,  34.7333,2,  34.7327,2,    158.3,2,   165.0,2,  135.44,2,   34.46,2,    0.00,2,    2.42,2,  -0.002,2,   0.000,2,  -999.0,9,  -999.0,9,-999.0000,9,   1.8780,2,   14.30,2,    0.23,2,  -188.7,2,     3.7,   8.403,2,   0.168,   34016,-999.0000,   1.3785,   0.0090,    0.20
 316N145_11,       I01W,     906,          1,         10,     SIH014,2,19950913,       1410,     8.5167,    53.0695,       5035,  3601.9,   1.5511,  34.7286,2,  34.7292,2,    169.2,2,   171.3,2,  134.67,2,   34.03,2,    0.00,2,    2.39,2,-999.000,9,-999.000,9,  -999.0,9,  -999.0,9,-999.0000,9,   1.8910,2,   13.80,2, -999.00,9,  -999.0,9,    -9.0,   8.501,2,   0.170,   36028,-999.0000,   1.2730,   0.0090,    0.20
 316N145_11,       I01W,     906,          1,          9,     SIH015,2,19950913,       1410,     8.5167,    53.0695,       5035,  3804.2,   1.4915,  34.7263,2,  34.7243,2,    172.2,2,   174.8,2,  134.67,2,   33.98,2,    0.00,2,    2.38,2,   0.017,4,   0.000,2,  -999.0,9,  -999.0,9,-999.0000,9,   1.9310,2,   14.30,2,    0.20,2,  -179.7,2,     3.6,   8.523,2,   0.170,   38053,-999.0000,   1.1937,   0.0100,    0.20
 316N145_11,       I01W,     906,          1,          8,     SIH016,2,19950913,       1410,     8.5167,    53.0695,       5035,  4002.3,   1.4319,  34.7228,2,  34.7219,2,    176.2,2,   179.9,2,  134.49,2,   33.89,2,    0.00,2,    2.36,2,-999.000,9,-999.000,9,  -999.0,9,  -999.0,9,-999.0000,9,   1.8780,2,   12.80,2,    0.32,2,  -183.1,2,     3.7,   8.594,2,   0.172,   40035,-999.0000,   1.1144,   0.0090,    0.20
 316N145_11,       I01W,     906,          1,          7,     SIH017,2,19950913,       1410,     8.5167,    53.0695,       5035,  4200.3,   1.4071,  34.7209,2,  34.7211,2,    179.5,2,   182.5,2,  134.11,2,   33.78,2,   -0.01,2,    2.36,2,   0.001,2,   0.002,2,  -999.0,9,  -999.0,9,-999.0000,9,   1.9850,2,   12.40,2,    0.27,2,  -179.3,2,     4.9,   8.269,2,   0.165,   42016,-999.0000,   1.0685,   0.0100,    0.20
 316N145_11,       I01W,     906,          1,          6,     SIH018,2,19950913,       1410,     8.5167,    53.0695,       5035,  4399.5,   1.3890,  34.7200,2,  34.7190,2,    180.3,2,   180.3,2,  134.12,2,   33.73,2,    0.00,2,    2.35,2,-999.000,9,-999.000,9,  -999.0,9,  -999.0,9,-999.0000,9,   1.9940,2,   12.40,2,    0.31,2,  -180.9,2,     3.6,   8.322,2,   0.166,   44010,-999.0000,   1.0288,   0.0100,    0.20
 316N145_11,       I01W,     906,          1,          5,     SIH002,2,19950913,       1410,     8.5167,    53.0695,       5035,  4598.0,   1.3837,  34.7187,2,  34.7184,2,    183.1,2,   184.1,2,  133.74,2,   33.67,2,    0.01,2,    2.34,2,-999.000,9,  -0.001,4,  -999.0,9,  -999.0,9,-999.0000,9,   1.9130,2,   13.20,2,    0.37,2,  -171.6,2,     4.6,   8.447,2,   0.169,   45995,-999.0000,   1.0008,   0.0100,    0.20
 316N145_11,       I01W,     906,          1,          4,     SIH020,2,19950913,       1410,     8.5167,    53.0695,       5035,  4790.8,   1.3828,  34.7173,2,  34.7178,2,    184.6,2,   181.3,2,  134.13,2,   33.50,2,    0.01,2,    2.33,2,-999.000,9,-999.000,9,  -999.0,9,  -999.0,9,-999.0000,9,   1.8690,2,   13.40,2,    0.29,2,  -181.7,2,     3.8,   8.519,2,   0.170,   47925,-999.0000,   0.9773,   0.0090,    0.20
 316N145_11,       I01W,     906,          1,          3,     SIH021,2,19950913,       1410,     8.5167,    53.0695,       5035,  4992.6,   1.3873,  34.7164,2,  34.7168,2,    183.3,2,   185.0,2,  134.32,2,   33.36,2,   -0.01,2,    2.32,2,   0.004,2,   0.003,2,  -999.0,9,  -999.0,9,-999.0000,9,   1.9130,2,   11.50,2,    0.23,2,  -171.8,2,     3.8,   8.594,2,   0.172,   49944,-999.0000,   0.9576,   0.0100,    0.20
 316N145_11,       I01W,     906,          1,          2,     SIH022,2,19950913,       1410,     8.5167,    53.0695,       5035,  5091.6,   1.3940,  34.7167,2,  34.7170,2,    185.7,2,   185.3,2,  134.52,2,   33.48,2,   -0.01,2,    2.33,2,   0.001,2,   0.002,2,  -999.0,9,  -999.0,9,-999.0000,9,-999.0000,9, -999.00,9, -999.00,9,  -999.0,9,    -9.0,-999.000,9,-999.000,   50935,-999.0000,   0.9520,-999.0000, -999.00
 316N145_11,       I01W,     906,          1,          1,     SIH023,2,19950913,       1410,     8.5167,    53.0695,       5035,  5150.5,   1.4023,  34.7164,2,  34.7180,2,    185.9,2,   186.0,2,  135.02,2,   33.54,2,    0.00,2,    2.33,2,   0.034,4,   0.044,4,  -999.0,9,  -999.0,9,-999.0000,9,   1.9310,2,   10.80,2,    0.29,2,  -177.5,2,     3.8,   8.358,2,   0.167,   51524,-999.0000,   0.9528,   0.0100,    0.20