BOTTLE,20211119CCHSIORKP
EXPOCODE,SECT_ID,STNNBR,CASTNO,SAMPNO,BTLNBR,BTLNBR_FLAG_W,DATE,TIME,LATITUDE,LONGITUDE,DEPTH,CTDPRS,CTDTMP,CTDSAL,CTDSAL_FLAG_W,SALNTY,SALNTY_FLAG_W,CTDOXY,CTDOXY_FLAG_W,OXYGEN,OXYGEN_FLAG_W,SILCAT,SILCAT_FLAG_W,NITRAT,NITRAT_FLAG_W,NITRIT,NITRIT_FLAG_W,PHSPHT,PHSPHT_FLAG_W,CFC-11,CFC-11_FLAG_W,CFC-12,CFC-12_FLAG_W,TCARBN,TCARBN_FLAG_W,ALKALI,ALKALI_FLAG_W,TRITUM,TRITUM_FLAG_W,HELIUM,HELIUM_FLAG_W,DELHE3,DELHE3_FLAG_W,DELC13,DELC13_FLAG_W,DELC14,DELC14_FLAG_W,C14ERR,NEON,NEON_FLAG_W,NEONER,CTDRAW,TRITER,THETA,HELIER,DELHER
,,,,,,,,,,,METERS,DBAR,ITS-90,PSS-78,,PSS-78,,UMOL/KG,,UMOL/KG,,UMOL/KG,,UMOL/KG,,UMOL/KG,,UMOL/KG,,PMOL/KG,,PMOL/KG,,UMOL/KG,,UMOL/KG,,TU,,NMOL/KG,,PERCNT,,/MILLE,,/MILLE,,/MILLE,NMOL/KG,,NMOL/KG,DBAR,TU,DEG C,NMOL/KG,PERCNT
 316N145_11,       I01W,     926,          1,         36,     SIH024,2,19950918,       1625,     9.0138,    62.0833,       4530,     6.1,  28.1394,  36.3410,2,  36.3479,2,    225.7,2,   214.5,2,    1.44,2,    0.00,2,    0.00,2,    0.28,2,   1.674,2,   0.973,2,  2011.6,2,  2370.9,2,-999.0000,9,-999.0000,9, -999.00,9, -999.00,9,  -999.0,9,    -9.0,-999.000,9,-999.000,      54,-999.0000,  28.1379,-999.0000, -999.00
 316N145_11,       I01W,     926,          1,         35,     SIH003,2,19950918,       1625,     9.0138,    62.0833,       4530,    30.9,  27.9477,  36.3518,2,  36.3489,2,    221.2,2,   212.9,2,    1.44,2,    0.05,2,    0.00,2,    0.29,2,-999.000,9,-999.000,9,  2012.6,2,  2373.4,2,-999.0000,9,-999.0000,9, -999.00,9, -999.00,9,  -999.0,9,    -9.0,-999.000,9,-999.000,     302,-999.0000,  27.9404,-999.0000, -999.00
 316N145_11,       I01W,     926,          1,         34,     SIH026,2,19950918,       1625,     9.0138,    62.0833,       4530,    61.4,  27.6490,  36.3603,2,  36.3586,2,    216.4,2,   213.4,2,    1.44,2,    0.05,2,    0.00,2,    0.30,2,   1.676,2,   0.985,2,  2014.4,2,  2371.2,2,-999.0000,9,-999.0000,9, -999.00,9, -999.00,9,  -999.0,9,    -9.0,-999.000,9,-999.000,     607,-999.0000,  27.6346,-999.0000, -999.00
 316N145_11,       I01W,     926,          1,         33,     SIH027,2,19950918,       1625,     9.0138,    62.0833,       4530,    91.1,  27.4885,  36.3862,2,  36.3853,2,    198.8,2,   207.1,2,    1.81,2,    0.09,2,    0.21,2,    0.36,2,-999.000,9,-999.000,9,  2024.4,2,  2377.9,2,-999.0000,9,-999.0000,9, -999.00,9, -999.00,9,  -999.0,9,    -9.0,-999.000,9,-999.000,     904,-999.0000,  27.4672,-999.0000, -999.00
 316N145_11,       I01W,     926,          1,         32,     SIH028,2,19950918,       1625,     9.0138,    62.0833,       4530,   121.6,  26.0591,  36.4343,2,  36.4319,2,    130.0,2,   162.4,2,    3.26,2,    7.06,2,    0.08,2,    0.74,2,   1.728,2,   0.997,2,  2071.8,2,  2371.9,2,-999.0000,9,-999.0000,9, -999.00,9, -999.00,9,  -999.0,9,    -9.0,-999.000,9,-999.000,    1208,-999.0000,  26.0319,-999.0000, -999.00
 316N145_11,       I01W,     926,          1,         31,     SIH029,2,19950918,       1625,     9.0138,    62.0833,       4530,   151.0,  20.9321,  35.7346,2,  35.7319,2,     25.4,2,    27.8,2,   13.41,2,   23.74,2,    0.02,2,    1.85,2,-999.000,9,-999.000,9,  2185.9,2,  2334.1,2,-999.0000,9,-999.0000,9, -999.00,9, -999.00,9,  -999.0,9,    -9.0,-999.000,9,-999.000,    1502,-999.0000,  20.9032,-999.0000, -999.00
 316N145_11,       I01W,     926,          1,         30,     SIH030,2,19950918,       1625,     9.0138,    62.0833,       4530,   201.3,  15.2194,  35.4026,2,  35.4087,2,     27.8,2,    28.2,2,   22.30,2,   25.87,2,    0.00,2,    2.07,2,   0.768,2,   0.414,2,  2222.0,2,  2326.0,2,-999.0000,9,-999.0000,9, -999.00,9, -999.00,9,  -999.0,9,    -9.0,-999.000,9,-999.000,    2006,-999.0000,  15.1886,-999.0000, -999.00
 316N145_11,       I01W,     926,          1,         29,     SIH031,3,19950918,       1625,     9.0138,    62.0833,       4530,   251.3,  13.5663,  35.3304,3,  35.3340,2,     37.4,2,    43.0,2,   24.12,2,   26.72,2,    0.00,2,    2.03,2,-999.000,9,-999.000,9,  2222.9,2,  2324.7,2,-999.0000,9,-999.0000,9, -999.00,9, -999.00,9,  -999.0,9,    -9.0,-999.000,9,-999.000,    2506,-999.0000,  13.5306,-999.0000, -999.00
 316N145_11,       I01W,     926,          1,         28,     SIH032,2,19950918,       1625,     9.0138,    62.0833,       4530,   301.6,  12.5967,  35.3006,2,  35.2974,2,     37.2,2,    40.1,2,   26.85,2,   28.43,2,    0.00,2,    2.11,2,   0.526,2,   0.275,2,  2231.6,2,  2324.2,2,-999.0000,9,-999.0000,9, -999.00,9, -999.00,9,  -999.0,9,    -9.0,-999.000,9,-999.000,    3009,-999.0000,  12.5558,-999.0000, -999.00
 316N145_11,       I01W,     926,          1,         27,     SIH033,2,19950918,       1625,     9.0138,    62.0833,       4530,   402.2,  11.4959,  35.2318,2,  35.2298,2,     31.6,2,    34.0,2,   32.11,2,   31.26,2,    0.01,2,    2.27,2,-999.000,9,-999.000,9,  2244.5,2,  2326.2,2,-999.0000,9,-999.0000,9, -999.00,9, -999.00,9,  -999.0,9,    -9.0,-999.000,9,-999.000,    4015,-999.0000,  11.4444,-999.0000, -999.00
 316N145_11,       I01W,     926,          1,         26,     SIH037,2,19950918,       1625,     9.0138,    62.0833,       4530,   501.9,  10.7932,  35.2391,2,  35.2359,2,     22.9,2,    25.1,2,   40.28,2,   33.02,2,    0.01,2,    2.46,2,   0.110,2,   0.061,2,  2260.6,2,  2333.2,2,-999.0000,9,-999.0000,9, -999.00,9, -999.00,9,  -999.0,9,    -9.0,-999.000,9,-999.000,    5013,-999.0000,  10.7310,-999.0000, -999.00
 316N145_11,       I01W,     926,          1,         25,     SI9446,2,19950918,       1625,     9.0138,    62.0833,       4530,   596.5,  10.5057,  35.2971,2,  35.2960,2,     18.1,2,    19.7,2,   47.00,2,   33.73,2,    0.00,2,    2.57,2,-999.000,9,-999.000,9,  2271.6,2,  2342.5,2,-999.0000,9,-999.0000,9, -999.00,9, -999.00,9,  -999.0,9,    -9.0,-999.000,9,-999.000,    5959,-999.0000,  10.4327,-999.0000, -999.00
 316N145_11,       I01W,     926,          1,         24,     SIH036,2,19950918,       1625,     9.0138,    62.0833,       4530,   697.6,   9.6580,  35.2395,2,  35.2381,2,     20.5,2,    20.1,2,   55.91,2,   34.94,2,    0.00,2,    2.65,2,   0.035,2,   0.017,2,  2282.4,2,  2349.0,2,-999.0000,9,-999.0000,9, -999.00,9, -999.00,9,  -999.0,9,    -9.0,-999.000,9,-999.000,    6970,-999.0000,   9.5765,-999.0000, -999.00
 316N145_11,       I01W,     926,          1,         23,     SIH001,2,19950918,       1625,     9.0138,    62.0833,       4530,   798.6,   9.1404,  35.2334,2,  35.2320,2,     23.7,2,    22.7,2,   62.46,2,   35.54,2,    0.00,2,    2.70,2,-999.000,9,-999.000,9,  2289.4,2,  2352.6,2,-999.0000,9,-999.0000,9, -999.00,9, -999.00,9,  -999.0,9,    -9.0,-999.000,9,-999.000,    7981,-999.0000,   9.0496,-999.0000, -999.00
 316N145_11,       I01W,     926,          1,         22,     SIH019,2,19950918,       1625,     9.0138,    62.0833,       4530,   899.6,   8.5358,  35.2022,2,  35.2062,2,     25.9,2,    24.5,2,   69.92,2,   36.25,2,    0.00,2,    2.75,2,   0.018,2,   0.008,2,  2297.8,2,  2362.2,2,-999.0000,9,-999.0000,9, -999.00,9, -999.00,9,  -999.0,9,    -9.0,-999.000,9,-999.000,    8992,-999.0000,   8.4368,-999.0000, -999.00
 316N145_11,       I01W,     926,          1,         21,     SIH025,2,19950918,       1625,     9.0138,    62.0833,       4530,   999.5,   7.8291,  35.1502,2,  35.1478,2,     32.9,2,    30.0,2,   76.84,2,   36.71,2,    0.00,2,    2.76,2,   0.012,2,   0.004,2,  2304.2,2,  2370.8,2,-999.0000,9,-999.0000,9, -999.00,9, -999.00,9,  -999.0,9,    -9.0,-999.000,9,-999.000,    9990,-999.0000,   7.7237,-999.0000, -999.00
 316N145_11,       I01W,     926,          1,         20,     SIH004,2,19950918,       1625,     9.0138,    62.0833,       4530,  1100.5,   6.9386,  35.0466,2,  35.0486,2,     41.3,2,    39.2,2,   84.31,2,   37.42,2,    0.00,2,    2.79,2,   0.009,4,   0.001,2,  -999.0,9,  -999.0,9,-999.0000,9,-999.0000,9, -999.00,9, -999.00,9,  -999.0,9,    -9.0,-999.000,9,-999.000,   11001,-999.0000,   6.8293,-999.0000, -999.00
 316N145_11,       I01W,     926,          1,         19,     SIH005,2,19950918,       1625,     9.0138,    62.0833,       4530,  1201.0,   6.2937,  35.0014,2,  35.0012,2,     49.6,2,    47.2,2,   91.41,2,   37.42,2,    0.00,2,    2.78,2,-999.000,9,-999.000,9,  -999.0,9,  -999.0,9,-999.0000,9,-999.0000,9, -999.00,9, -999.00,9,  -999.0,9,    -9.0,-999.000,9,-999.000,   12007,-999.0000,   6.1793,-999.0000, -999.00
 316N145_11,       I01W,     926,          1,         18,     SIH006,2,19950918,       1625,     9.0138,    62.0833,       4530,  1400.8,   5.5264,  34.9945,2,  34.9937,2,     59.4,2,    57.3,2,   99.97,2,   37.38,2,    0.00,2,    2.80,2,  -0.002,2,  -0.002,2,  -999.0,9,  -999.0,9,-999.0000,9,-999.0000,9, -999.00,9, -999.00,9,  -999.0,9,    -9.0,-999.000,9,-999.000,   14006,-999.0000,   5.3991,-999.0000, -999.00
 316N145_11,       I01W,     926,          1,         17,     SIH038,2,19950918,       1625,     9.0138,    62.0833,       4530,  1597.4,   4.3880,  34.9046,2,  34.9038,2,     83.9,2,    77.9,2,  111.45,2,   37.14,2,   -0.01,2,    2.74,2,-999.000,9,-999.000,9,  -999.0,9,  -999.0,9,-999.0000,9,-999.0000,9, -999.00,9, -999.00,9,  -999.0,9,    -9.0,-999.000,9,-999.000,   15973,-999.0000,   4.2544,-999.0000, -999.00
 316N145_11,       I01W,     926,          1,         16,     SIH008,2,19950918,       1625,     9.0138,    62.0833,       4530,  1799.0,   3.5576,  34.8469,2,  34.8477,2,    100.9,2,    98.6,2,  119.30,2,   36.59,2,    0.00,2,    2.68,2,-999.000,9,-999.000,9,  -999.0,9,  -999.0,9,-999.0000,9,-999.0000,9, -999.00,9, -999.00,9,  -999.0,9,    -9.0,-999.000,9,-999.000,   17990,-999.0000,   3.4159,-999.0000, -999.00
 316N145_11,       I01W,     926,          1,         15,     SIH009,2,19950918,       1625,     9.0138,    62.0833,       4530,  1996.6,   2.9553,  34.8106,2,  34.8102,2,    113.6,2,   113.6,2,  125.87,2,   36.03,2,    0.01,2,    2.61,2,  -0.002,2,  -0.002,2,  -999.0,9,  -999.0,9,-999.0000,9,-999.0000,9, -999.00,9, -999.00,9,  -999.0,9,    -9.0,-999.000,9,-999.000,   19967,-999.0000,   2.8041,-999.0000, -999.00
 316N145_11,       I01W,     926,          1,         14,     SIH010,2,19950918,       1625,     9.0138,    62.0833,       4530,  2200.7,   2.5043,  34.7851,2,  34.7836,2,    126.1,2,   124.8,2,  131.17,2,   35.75,2,    0.00,2,    2.56,2,-999.000,9,-999.000,9,  -999.0,9,  -999.0,9,-999.0000,9,-999.0000,9, -999.00,9, -999.00,9,  -999.0,9,    -9.0,-999.000,9,-999.000,   22010,-999.0000,   2.3418,-999.0000, -999.00
 316N145_11,       I01W,     926,          1,         13,     SIH011,2,19950918,       1625,     9.0138,    62.0833,       4530,  2397.1,   2.2278,  34.7703,2,  34.7708,2,    132.4,2,   131.3,2,  134.47,2,   35.56,2,    0.00,2,    2.54,2,-999.000,9,-999.000,9,  -999.0,9,  -999.0,9,-999.0000,9,-999.0000,9, -999.00,9, -999.00,9,  -999.0,9,    -9.0,-999.000,9,-999.000,   23975,-999.0000,   2.0523,-999.0000, -999.00
 316N145_11,       I01W,     926,          1,         12,     SIH012,2,19950918,       1625,     9.0138,    62.0833,       4530,  2595.2,   2.0473,  34.7600,2,  34.7594,2,    137.1,2,   138.7,2,  135.77,2,   35.36,2,    0.00,2,    2.51,2,  -0.001,2,  -0.001,2,  -999.0,9,  -999.0,9,-999.0000,9,-999.0000,9, -999.00,9, -999.00,9,  -999.0,9,    -9.0,-999.000,9,-999.000,   25958,-999.0000,   1.8569,-999.0000, -999.00
 316N145_11,       I01W,     926,          1,         11,     SI9426,2,19950918,       1625,     9.0138,    62.0833,       4530,  2798.2,   1.9030,  34.7507,2,  34.7508,2,    145.1,2,   145.4,2,  135.98,2,   34.81,2,    0.00,2,    2.48,2,-999.000,9,-999.000,9,  -999.0,9,  -999.0,9,-999.0000,9,-999.0000,9, -999.00,9, -999.00,9,  -999.0,9,    -9.0,-999.000,9,-999.000,   27990,-999.0000,   1.6965,-999.0000, -999.00
 316N145_11,       I01W,     926,          1,         10,     SIH014,2,19950918,       1625,     9.0138,    62.0833,       4530,  2996.6,   1.8100,  34.7459,2,  34.7443,2,    149.4,2,   150.4,2,  136.37,2,   34.92,2,    0.00,2,    2.45,2,-999.000,9,-999.000,9,  -999.0,9,  -999.0,9,-999.0000,9,-999.0000,9, -999.00,9, -999.00,9,  -999.0,9,    -9.0,-999.000,9,-999.000,   29975,-999.0000,   1.5863,-999.0000, -999.00
 316N145_11,       I01W,     926,          1,          9,     SIH015,2,19950918,       1625,     9.0138,    62.0833,       4530,  3200.1,   1.7466,  34.7415,2,  34.7400,2,    154.6,2,   153.4,2,  136.94,2,   34.82,2,    0.00,2,    2.45,2,-999.000,9,-999.000,9,  -999.0,9,  -999.0,9,-999.0000,9,-999.0000,9, -999.00,9, -999.00,9,  -999.0,9,    -9.0,-999.000,9,-999.000,   32012,-999.0000,   1.5044,-999.0000, -999.00
 316N145_11,       I01W,     926,          1,          8,     SIH016,2,19950918,       1625,     9.0138,    62.0833,       4530,  3399.0,   1.7192,  34.7390,2,  34.7374,2,    153.9,2,   155.3,2,  137.15,2,   34.73,2,   -0.01,2,    2.44,2,  -0.001,2,  -0.002,2,  -999.0,9,  -999.0,9,-999.0000,9,-999.0000,9, -999.00,9, -999.00,9,  -999.0,9,    -9.0,-999.000,9,-999.000,   34002,-999.0000,   1.4576,-999.0000, -999.00
 316N145_11,       I01W,     926,          1,          7,     SIH017,2,19950918,       1625,     9.0138,    62.0833,       4530,  3597.2,   1.6949,  34.7365,2,  34.7364,2,    155.6,2,   156.7,2,  137.54,2,   34.69,2,    0.00,2,    2.44,2,-999.000,9,-999.000,9,  -999.0,9,  -999.0,9,-999.0000,9,-999.0000,9, -999.00,9, -999.00,9,  -999.0,9,    -9.0,-999.000,9,-999.000,   35985,-999.0000,   1.4134,-999.0000, -999.00
 316N145_11,       I01W,     926,          1,          6,     SIH018,2,19950918,       1625,     9.0138,    62.0833,       4530,  3801.8,   1.6565,  34.7350,2,  34.7333,2,    159.4,2,   158.8,2,  137.74,2,   34.58,2,    0.01,2,    2.42,2,-999.000,9,-999.000,9,  -999.0,9,  -999.0,9,-999.0000,9,-999.0000,9, -999.00,9, -999.00,9,  -999.0,9,    -9.0,-999.000,9,-999.000,   38032,-999.0000,   1.3544,-999.0000, -999.00
 316N145_11,       I01W,     926,          1,          5,     SIH002,2,19950918,       1625,     9.0138,    62.0833,       4530,  4000.3,   1.6398,  34.7330,2,  34.7313,2,    162.5,2,   160.6,2,  137.59,2,   34.38,2,    0.01,2,    2.40,2,-999.000,9,-999.000,9,  -999.0,9,  -999.0,9,-999.0000,9,-999.0000,9, -999.00,9, -999.00,9,  -999.0,9,    -9.0,-999.000,9,-999.000,   40019,-999.0000,   1.3167,-999.0000, -999.00
 316N145_11,       I01W,     926,          1,          4,     SIH020,2,19950918,       1625,     9.0138,    62.0833,       4530,  4194.3,   1.6270,  34.7326,2,  34.7317,2,    162.6,2,   163.9,2,  136.88,2,   34.20,2,   -0.01,2,    2.39,2,  -0.001,2,  -0.003,2,  -999.0,9,  -999.0,9,-999.0000,9,-999.0000,9, -999.00,9, -999.00,9,  -999.0,9,    -9.0,-999.000,9,-999.000,   41960,-999.0000,   1.2827,-999.0000, -999.00
 316N145_11,       I01W,     926,          1,          3,     SIH021,2,19950918,       1625,     9.0138,    62.0833,       4530,  4393.9,   1.6225,  34.7308,2,  34.7290,2,    166.6,2,   165.2,2,  136.55,2,   34.14,2,    0.01,2,    2.40,2,-999.000,9,-999.000,9,  -999.0,9,  -999.0,9,-999.0000,9,-999.0000,9, -999.00,9, -999.00,9,  -999.0,9,    -9.0,-999.000,9,-999.000,   43958,-999.0000,   1.2557,-999.0000, -999.00
 316N145_11,       I01W,     926,          1,          2,     SIH022,2,19950918,       1625,     9.0138,    62.0833,       4530,  4582.3,   1.6247,  34.7287,2,  34.7288,2,    167.4,2,   166.5,2,  136.57,2,   34.06,2,    0.00,2,    2.39,2,   0.005,2,   0.000,2,  -999.0,9,  -999.0,9,-999.0000,9,-999.0000,9, -999.00,9, -999.00,9,  -999.0,9,    -9.0,-999.000,9,-999.000,   45843,-999.0000,   1.2360,-999.0000, -999.00
 316N145_11,       I01W,     926,          1,          1,     SIH023,2,19950918,       1625,     9.0138,    62.0833,       4530,  4633.5,   1.6270,  34.7299,2,  34.7290,2,    166.5,2,   167.0,2,  136.37,2,   34.09,2,    0.00,2,    2.38,2,   0.004,2,  -0.002,2,  -999.0,9,  -999.0,9,-999.0000,9,-999.0000,9, -999.00,9, -999.00,9,  -999.0,9,    -9.0,-999.000,9,-999.000,   46356,-999.0000,   1.2322,-999.0000, -999.00