BOTTLE,20211119CCHSIORKP
EXPOCODE,SECT_ID,STNNBR,CASTNO,SAMPNO,BTLNBR,BTLNBR_FLAG_W,DATE,TIME,LATITUDE,LONGITUDE,DEPTH,CTDPRS,CTDTMP,CTDSAL,CTDSAL_FLAG_W,SALNTY,SALNTY_FLAG_W,CTDOXY,CTDOXY_FLAG_W,OXYGEN,OXYGEN_FLAG_W,SILCAT,SILCAT_FLAG_W,NITRAT,NITRAT_FLAG_W,NITRIT,NITRIT_FLAG_W,PHSPHT,PHSPHT_FLAG_W,CFC-11,CFC-11_FLAG_W,CFC-12,CFC-12_FLAG_W,TCARBN,TCARBN_FLAG_W,ALKALI,ALKALI_FLAG_W,TRITUM,TRITUM_FLAG_W,HELIUM,HELIUM_FLAG_W,DELHE3,DELHE3_FLAG_W,DELC13,DELC13_FLAG_W,DELC14,DELC14_FLAG_W,C14ERR,NEON,NEON_FLAG_W,NEONER,CTDRAW,TRITER,THETA,HELIER,DELHER
,,,,,,,,,,,METERS,DBAR,ITS-90,PSS-78,,PSS-78,,UMOL/KG,,UMOL/KG,,UMOL/KG,,UMOL/KG,,UMOL/KG,,UMOL/KG,,PMOL/KG,,PMOL/KG,,UMOL/KG,,UMOL/KG,,TU,,NMOL/KG,,PERCNT,,/MILLE,,/MILLE,,/MILLE,NMOL/KG,,NMOL/KG,DBAR,TU,DEG C,NMOL/KG,PERCNT
 316N145_11,       I01W,     890,          1,         28,     SIH032,2,19950908,       1933,    14.1583,    51.1833,       2200,     4.3,  29.0259,  36.2167,2,  36.2153,9,    212.3,2,   219.2,9,    1.54,2,    0.20,2,    0.01,2,    0.25,2,   1.511,2,   0.885,2,  2005.1,2,  2363.5,2,-999.0000,9,-999.0000,9, -999.00,9, -999.00,9,  -999.0,9,    -9.0,-999.000,9,-999.000,      23,-999.0000,  29.0249,-999.0000, -999.00
 316N145_11,       I01W,     890,          1,         27,     SIH033,2,19950908,       1933,    14.1583,    51.1833,       2200,    29.1,  19.2902,  35.7096,2,-999.0000,9,     44.4,2,  -999.0,9,   16.18,2,   23.11,2,    0.21,2,    1.86,2,-999.000,9,-999.000,9,  -999.0,9,  -999.0,9,-999.0000,9,-999.0000,9, -999.00,9, -999.00,9,  -999.0,9,    -9.0,-999.000,9,-999.000,     271,-999.0000,  19.2850,-999.0000, -999.00
 316N145_11,       I01W,     890,          1,         26,     SIH037,2,19950908,       1933,    14.1583,    51.1833,       2200,    29.4,  19.2890,  35.7089,2,  35.7039,2,     44.2,2,    47.8,2,   16.18,2,   23.12,2,    0.21,2,    1.85,2,   1.264,2,   0.703,2,  2193.9,2,  2334.5,2,-999.0000,9,-999.0000,9, -999.00,9, -999.00,9,  -999.0,9,    -9.0,-999.000,9,-999.000,     274,-999.0000,  19.2837,-999.0000, -999.00
 316N145_11,       I01W,     890,          1,         25,     SI9446,2,19950908,       1933,    14.1583,    51.1833,       2200,    59.1,  17.1155,  35.7094,2,  35.7108,2,      7.4,2,     9.8,2,   23.80,2,   25.03,2,    0.02,2,    2.26,2,-999.000,9,-999.000,9,  2240.7,2,  2321.8,2,-999.0000,9,-999.0000,9, -999.00,9, -999.00,9,  -999.0,9,    -9.0,-999.000,9,-999.000,     571,-999.0000,  17.1057,-999.0000, -999.00
 316N145_11,       I01W,     890,          1,         24,     SIH036,2,19950908,       1933,    14.1583,    51.1833,       2200,    88.9,  16.6656,  35.6792,2,  35.6796,2,     13.6,2,    17.2,2,   24.00,2,   25.12,2,    0.04,2,    2.22,2,   0.876,2,   0.495,2,  2237.8,2,  2334.3,2,-999.0000,9,-999.0000,9, -999.00,9, -999.00,9,  -999.0,9,    -9.0,-999.000,9,-999.000,     869,-999.0000,  16.6511,-999.0000, -999.00
 316N145_11,       I01W,     890,          1,         23,     SIH001,2,19950908,       1933,    14.1583,    51.1833,       2200,   118.9,  15.6364,  35.5701,2,  35.5849,2,     25.0,2,    27.8,2,   23.81,2,   25.71,2,    0.03,2,    2.13,2,-999.000,9,-999.000,9,  2231.3,2,  2331.8,2,-999.0000,9,-999.0000,9, -999.00,9, -999.00,9,  -999.0,9,    -9.0,-999.000,9,-999.000,    1169,-999.0000,  15.6179,-999.0000, -999.00
 316N145_11,       I01W,     890,          1,         22,     SIH019,2,19950908,       1933,    14.1583,    51.1833,       2200,   148.8,  15.0379,  35.6338,2,  35.6437,2,     22.4,2,    23.3,2,   25.53,2,   25.98,2,    0.02,2,    2.16,2,   0.716,2,   0.396,2,  2240.9,2,  2335.5,2,-999.0000,9,-999.0000,9, -999.00,9, -999.00,9,  -999.0,9,    -9.0,-999.000,9,-999.000,    1468,-999.0000,  15.0153,-999.0000, -999.00
 316N145_11,       I01W,     890,          1,         21,     SIH025,2,19950908,       1933,    14.1583,    51.1833,       2200,   178.0,  14.4578,  35.6442,2,  35.6747,2,     13.1,2,    19.1,2,   27.25,2,   26.52,2,    0.01,2,    2.24,2,-999.000,9,-999.000,9,  -999.0,9,  -999.0,9,-999.0000,9,-999.0000,9, -999.00,9, -999.00,9,  -999.0,9,    -9.0,-999.000,9,-999.000,    1760,-999.0000,  14.4314,-999.0000, -999.00
 316N145_11,       I01W,     890,          1,         20,     SIH004,2,19950908,       1933,    14.1583,    51.1833,       2200,   198.3,  14.2481,  35.6596,2,  35.6634,2,     14.1,2,    20.4,2,   28.39,2,   26.62,2,    0.02,2,    2.24,2,   0.579,2,   0.323,2,  2250.0,2,  2328.9,2,-999.0000,9,-999.0000,9, -999.00,9, -999.00,9,  -999.0,9,    -9.0,-999.000,9,-999.000,    1963,-999.0000,  14.2189,-999.0000, -999.00
 316N145_11,       I01W,     890,          1,         19,     SIH005,2,19950908,       1933,    14.1583,    51.1833,       2200,   301.4,  13.6651,  35.7365,2,  35.7389,2,     10.9,2,    15.9,2,   32.21,2,   27.68,2,    0.01,2,    2.34,2,-999.000,9,-999.000,9,  2259.4,2,  2327.4,2,-999.0000,9,-999.0000,9, -999.00,9, -999.00,9,  -999.0,9,    -9.0,-999.000,9,-999.000,    2995,-999.0000,  13.6218,-999.0000, -999.00
 316N145_11,       I01W,     890,          1,         18,     SIH006,2,19950908,       1933,    14.1583,    51.1833,       2200,   400.8,  13.2226,  35.8003,2,  35.8092,2,     17.6,2,    17.9,2,   35.64,2,   28.62,2,    0.00,2,    2.37,2,   0.326,2,   0.175,2,  -999.0,9,  -999.0,9,-999.0000,9,-999.0000,9, -999.00,9, -999.00,9,  -999.0,9,    -9.0,-999.000,9,-999.000,    3990,-999.0000,  13.1660,-999.0000, -999.00
 316N145_11,       I01W,     890,          1,         17,     SIH038,2,19950908,       1933,    14.1583,    51.1833,       2200,   504.1,  12.9329,  35.8792,2,  35.8811,2,     17.6,2,    19.3,2,   39.26,2,   29.36,2,    0.00,2,    2.39,2,-999.000,9,-999.000,9,  -999.0,9,  -999.0,9,-999.0000,9,-999.0000,9, -999.00,9, -999.00,9,  -999.0,9,    -9.0,-999.000,9,-999.000,    5024,-999.0000,  12.8624,-999.0000, -999.00
 316N145_11,       I01W,     890,          1,         16,     SIH008,2,19950908,       1933,    14.1583,    51.1833,       2200,   601.7,  12.8684,  36.0145,2,  36.0155,2,     19.2,2,    21.0,2,   42.69,2,   29.88,2,   -0.01,2,    2.37,2,   0.283,2,   0.153,2,  -999.0,9,  -999.0,9,-999.0000,9,-999.0000,9, -999.00,9, -999.00,9,  -999.0,9,    -9.0,-999.000,9,-999.000,    6000,-999.0000,  12.7841,-999.0000, -999.00
 316N145_11,       I01W,     890,          1,         15,     SIH009,2,19950908,       1933,    14.1583,    51.1833,       2200,   699.3,  12.1783,  35.9410,2,  35.9425,2,     18.8,2,    22.5,2,   48.60,2,   31.03,2,   -0.01,2,    2.46,2,-999.000,9,-999.000,9,  -999.0,9,  -999.0,9,-999.0000,9,-999.0000,9, -999.00,9, -999.00,9,  -999.0,9,    -9.0,-999.000,9,-999.000,    6977,-999.0000,  12.0834,-999.0000, -999.00
 316N145_11,       I01W,     890,          1,         14,     SIH010,2,19950908,       1933,    14.1583,    51.1833,       2200,   797.1,  12.0823,  36.0345,2,  36.0353,2,     19.6,2,    24.2,2,   52.23,2,   31.25,2,    0.00,2,    2.46,2,   0.227,2,   0.120,2,  -999.0,9,  -999.0,9,-999.0000,9,-999.0000,9, -999.00,9, -999.00,9,  -999.0,9,    -9.0,-999.000,9,-999.000,    7957,-999.0000,  11.9742,-999.0000, -999.00
 316N145_11,       I01W,     890,          1,         13,     SIH011,2,19950908,       1933,    14.1583,    51.1833,       2200,   897.2,  11.5939,  36.0144,2,  36.0163,2,     20.1,2,    23.0,2,   57.19,2,   31.87,2,    0.01,2,    2.49,2,-999.000,9,-999.000,9,  -999.0,9,  -999.0,9,-999.0000,9,-999.0000,9, -999.00,9, -999.00,9,  -999.0,9,    -9.0,-999.000,9,-999.000,    8958,-999.0000,  11.4748,-999.0000, -999.00
 316N145_11,       I01W,     890,          1,         12,     SIH012,2,19950908,       1933,    14.1583,    51.1833,       2200,   996.7,  10.2720,  35.8205,2,  35.8001,2,     21.4,3,    23.8,2,   66.55,2,   33.46,2,    0.00,2,    2.60,2,   0.142,2,   0.071,2,  -999.0,9,  -999.0,9,-999.0000,9,-999.0000,9, -999.00,9, -999.00,9,  -999.0,9,    -9.0,-999.000,9,-999.000,    9955,-999.0000,  10.1487,-999.0000, -999.00
 316N145_11,       I01W,     890,          1,         11,     SI9426,2,19950908,       1933,    14.1583,    51.1833,       2200,  1097.2,   9.5248,  35.6808,2,  35.6873,2,     23.6,2,    25.0,2,   72.28,2,   34.35,2,    0.00,2,    2.67,2,-999.000,9,-999.000,9,  -999.0,9,  -999.0,9,-999.0000,9,-999.0000,9, -999.00,9, -999.00,9,  -999.0,9,    -9.0,-999.000,9,-999.000,   10961,-999.0000,   9.3943,-999.0000, -999.00
 316N145_11,       I01W,     890,          1,         10,     SIH014,2,19950908,       1933,    14.1583,    51.1833,       2200,  1197.1,   7.4623,  35.2768,2,  35.2745,2,     30.6,2,    31.2,2,   87.00,2,   37.14,2,    0.00,2,    2.86,2,   0.023,2,   0.012,2,  -999.0,9,  -999.0,9,-999.0000,9,-999.0000,9, -999.00,9, -999.00,9,  -999.0,9,    -9.0,-999.000,9,-999.000,   11961,-999.0000,   7.3376,-999.0000, -999.00
 316N145_11,       I01W,     890,          1,          9,     SIH015,2,19950908,       1933,    14.1583,    51.1833,       2200,  1296.6,   6.6863,  35.1802,2,  35.1821,2,     38.5,2,    38.9,2,   94.46,2,   37.46,2,    0.00,2,    2.88,2,-999.000,9,-999.000,9,  -999.0,9,  -999.0,9,-999.0000,9,-999.0000,9, -999.00,9, -999.00,9,  -999.0,9,    -9.0,-999.000,9,-999.000,   12959,-999.0000,   6.5579,-999.0000, -999.00
 316N145_11,       I01W,     890,          1,          8,     SIH016,2,19950908,       1933,    14.1583,    51.1833,       2200,  1402.3,   6.4101,  35.2008,2,  35.2024,2,     41.5,2,    43.8,2,   99.05,2,   36.89,2,   -0.01,2,    2.84,2,   0.022,2,   0.013,2,  -999.0,9,  -999.0,9,-999.0000,9,-999.0000,9, -999.00,9, -999.00,9,  -999.0,9,    -9.0,-999.000,9,-999.000,   14017,-999.0000,   6.2731,-999.0000, -999.00
 316N145_11,       I01W,     890,          1,          7,     SIH017,2,19950908,       1933,    14.1583,    51.1833,       2200,  1495.6,   5.5616,  35.0759,2,  35.0762,2,     50.9,2,    53.9,2,  106.90,2,   37.42,2,    0.00,2,    2.85,2,-999.000,9,-999.000,9,  -999.0,9,  -999.0,9,-999.0000,9,-999.0000,9, -999.00,9, -999.00,9,  -999.0,9,    -9.0,-999.000,9,-999.000,   14952,-999.0000,   5.4241,-999.0000, -999.00
 316N145_11,       I01W,     890,          1,          6,     SIH018,2,19950908,       1933,    14.1583,    51.1833,       2200,  1597.3,   4.9799,  35.0183,2,  35.0224,2,     57.4,2,    61.7,2,  115.13,2,   37.27,2,    0.00,2,    2.84,2,   0.005,2,   0.001,2,  -999.0,9,  -999.0,9,-999.0000,9,-999.0000,9, -999.00,9, -999.00,9,  -999.0,9,    -9.0,-999.000,9,-999.000,   15971,-999.0000,   4.8389,-999.0000, -999.00
 316N145_11,       I01W,     890,          1,          5,     SIH002,2,19950908,       1933,    14.1583,    51.1833,       2200,  1798.9,   3.9750,  34.9223,2,  34.9223,2,     72.3,2,    77.6,2,  127.18,2,   37.07,2,    0.00,2,    2.81,2,-999.000,9,-999.000,9,  -999.0,9,  -999.0,9,-999.0000,9,-999.0000,9, -999.00,9, -999.00,9,  -999.0,9,    -9.0,-999.000,9,-999.000,   17991,-999.0000,   3.8274,-999.0000, -999.00
 316N145_11,       I01W,     890,          1,          4,     SIH020,2,19950908,       1933,    14.1583,    51.1833,       2200,  1997.6,   3.2429,  34.8590,2,  34.8609,2,     85.5,2,    89.4,2,  139.23,2,   36.76,2,   -0.01,2,    2.78,2,   0.003,2,   0.007,2,  -999.0,9,  -999.0,9,-999.0000,9,-999.0000,9, -999.00,9, -999.00,9,  -999.0,9,    -9.0,-999.000,9,-999.000,   19982,-999.0000,   3.0872,-999.0000, -999.00
 316N145_11,       I01W,     890,          1,          3,     SIH021,2,19950908,       1933,    14.1583,    51.1833,       2200,  2145.7,   2.9188,  34.8300,2,  34.8308,2,     93.3,2,    96.8,2,  143.27,2,   36.61,2,   -0.01,2,    2.75,2,-999.000,9,-999.000,9,  -999.0,9,  -999.0,9,-999.0000,9,-999.0000,9, -999.00,9, -999.00,9,  -999.0,9,    -9.0,-999.000,9,-999.000,   21465,-999.0000,   2.7544,-999.0000, -999.00
 316N145_11,       I01W,     890,          1,          2,     SIH022,2,19950908,       1933,    14.1583,    51.1833,       2200,  2195.2,   2.8507,  34.8258,2,  34.8255,2,   -999.0,9,    95.3,2,  145.01,2,   36.50,2,    0.00,2,    2.75,2,   0.004,2,   0.009,2,  -999.0,9,  -999.0,9,-999.0000,9,-999.0000,9, -999.00,9, -999.00,9,  -999.0,9,    -9.0,-999.000,9,-999.000,   21962,-999.0000,   2.6830,-999.0000, -999.00
 316N145_11,       I01W,     890,          1,          1,     SIH023,2,19950908,       1933,    14.1583,    51.1833,       2200,  2195.7,   2.8513,  34.8256,2,-999.0000,9,     43.5,4,  -999.0,9,  145.07,2,   36.53,2,    0.01,2,    2.75,2,-999.000,9,-999.000,9,  -999.0,9,  -999.0,9,-999.0000,9,-999.0000,9, -999.00,9, -999.00,9,  -999.0,9,    -9.0,-999.000,9,-999.000,   21967,-999.0000,   2.6835,-999.0000, -999.00