BOTTLE,20211119CCHSIORKP
EXPOCODE,SECT_ID,STNNBR,CASTNO,SAMPNO,BTLNBR,BTLNBR_FLAG_W,DATE,TIME,LATITUDE,LONGITUDE,DEPTH,CTDPRS,CTDTMP,CTDSAL,CTDSAL_FLAG_W,SALNTY,SALNTY_FLAG_W,CTDOXY,CTDOXY_FLAG_W,OXYGEN,OXYGEN_FLAG_W,SILCAT,SILCAT_FLAG_W,NITRAT,NITRAT_FLAG_W,NITRIT,NITRIT_FLAG_W,PHSPHT,PHSPHT_FLAG_W,CFC-11,CFC-11_FLAG_W,CFC-12,CFC-12_FLAG_W,TCARBN,TCARBN_FLAG_W,ALKALI,ALKALI_FLAG_W,TRITUM,TRITUM_FLAG_W,HELIUM,HELIUM_FLAG_W,DELHE3,DELHE3_FLAG_W,DELC13,DELC13_FLAG_W,DELC14,DELC14_FLAG_W,C14ERR,NEON,NEON_FLAG_W,NEONER,CTDRAW,TRITER,THETA,HELIER,DELHER
,,,,,,,,,,,METERS,DBAR,ITS-90,PSS-78,,PSS-78,,UMOL/KG,,UMOL/KG,,UMOL/KG,,UMOL/KG,,UMOL/KG,,UMOL/KG,,PMOL/KG,,PMOL/KG,,UMOL/KG,,UMOL/KG,,TU,,NMOL/KG,,PERCNT,,/MILLE,,/MILLE,,/MILLE,NMOL/KG,,NMOL/KG,DBAR,TU,DEG C,NMOL/KG,PERCNT
 316N145_11,       I01W,     899,          1,         36,     SIH024,2,19950911,       1221,     9.6555,    53.3112,       4580,     7.8,  26.0020,  35.6532,2,  35.6536,2,    209.9,2,   211.6,2,    4.41,2,    3.16,2,    0.36,2,    0.44,2,   1.784,2,   1.022,2,  2011.8,2,  2326.4,2,-999.0000,9,-999.0000,9, -999.00,9, -999.00,9,  -999.0,9,    -9.0,-999.000,9,-999.000,     422,-999.0000,  26.0002,-999.0000, -999.00
 316N145_11,       I01W,     899,          1,         35,     SIH003,2,19950911,       1221,     9.6555,    53.3112,       4580,    32.7,  26.0161,  35.6532,2,  35.6534,2,    211.3,2,   215.3,2,    4.61,2,    3.16,2,    0.36,2,    0.44,2,-999.000,9,-999.000,9,  2012.2,2,  2331.1,2,-999.0000,9,-999.0000,9, -999.00,9, -999.00,9,  -999.0,9,    -9.0,-999.000,9,-999.000,     654,-999.0000,  26.0088,-999.0000, -999.00
 316N145_11,       I01W,     899,          1,         34,     SIH026,2,19950911,       1221,     9.6555,    53.3112,       4580,    62.5,  25.9301,  35.6570,2,  35.6573,2,    206.9,2,   202.9,2,    4.60,2,    3.30,2,    0.39,2,    0.46,2,   1.774,2,   1.021,2,  2014.4,2,  2325.6,2,-999.0000,9,-999.0000,9, -999.00,9, -999.00,9,  -999.0,9,    -9.0,-999.000,9,-999.000,     932,-999.0000,  25.9162,-999.0000, -999.00
 316N145_11,       I01W,     899,          1,         33,     SIH027,2,19950911,       1221,     9.6555,    53.3112,       4580,    91.7,  25.9322,  35.6591,2,  35.6591,2,    207.3,2,   210.3,2,    4.80,2,    3.29,2,    0.40,2,    0.47,2,-999.000,9,-999.000,9,  2014.7,2,  2318.4,2,-999.0000,9,-999.0000,9, -999.00,9, -999.00,9,  -999.0,9,    -9.0,-999.000,9,-999.000,    1204,-999.0000,  25.9117,-999.0000, -999.00
 316N145_11,       I01W,     899,          1,         32,     SIH028,2,19950911,       1221,     9.6555,    53.3112,       4580,   121.9,  25.9226,  35.6576,2,  35.6599,2,    200.9,2,   201.7,2,    4.79,2,    3.27,2,    0.42,2,    0.48,2,   1.774,2,   1.020,2,  2017.0,2,  2326.6,2,-999.0000,9,-999.0000,9, -999.00,9, -999.00,9,  -999.0,9,    -9.0,-999.000,9,-999.000,    1485,-999.0000,  25.8954,-999.0000, -999.00
 316N145_11,       I01W,     899,          1,         31,     SIH029,2,19950911,       1221,     9.6555,    53.3112,       4580,   151.1,  25.7984,  35.6358,2,  35.6382,2,    198.6,2,   196.4,2,    5.19,2,    3.55,2,    0.58,2,    0.50,2,   1.773,2,   1.026,2,  2018.2,2,  2325.7,2,-999.0000,9,-999.0000,9, -999.00,9, -999.00,9,  -999.0,9,    -9.0,-999.000,9,-999.000,    1757,-999.0000,  25.7647,-999.0000, -999.00
 316N145_11,       I01W,     899,          1,         30,     SIH030,2,19950911,       1221,     9.6555,    53.3112,       4580,   202.1,  22.8779,  35.6407,2,  35.6392,2,    114.6,2,   114.6,2,    9.80,2,   14.46,2,    0.02,2,    1.16,2,   1.566,2,   0.892,2,  2104.8,2,  2321.9,2,-999.0000,9,-999.0000,9, -999.00,9, -999.00,9,  -999.0,9,    -9.0,-999.000,9,-999.000,    2233,-999.0000,  22.8366,-999.0000, -999.00
 316N145_11,       I01W,     899,          1,         29,     SIH031,2,19950911,       1221,     9.6555,    53.3112,       4580,   251.9,  16.8004,  35.4057,2,  35.3957,2,     53.2,2,    51.1,2,   19.65,2,   23.74,2,    0.01,2,    1.81,2,-999.000,9,-999.000,9,  2190.9,2,  2310.0,3,-999.0000,9,-999.0000,9, -999.00,9, -999.00,9,  -999.0,9,    -9.0,-999.000,9,-999.000,    2696,-999.0000,  16.7590,-999.0000, -999.00
 316N145_11,       I01W,     899,          1,         28,     SIH032,2,19950911,       1221,     9.6555,    53.3112,       4580,   302.1,  14.9909,  35.4089,2,  35.4176,2,     42.6,2,    38.6,2,   23.26,2,   25.63,2,    0.01,2,    2.01,2,   0.839,2,   0.460,2,  2217.7,2,  -999.0,9,-999.0000,9,-999.0000,9, -999.00,9, -999.00,9,  -999.0,9,    -9.0,-999.000,9,-999.000,    3164,-999.0000,  14.9449,-999.0000, -999.00
 316N145_11,       I01W,     899,          1,         27,     SIH033,2,19950911,       1221,     9.6555,    53.3112,       4580,   402.2,  12.7918,  35.3693,2,  35.3705,2,     33.1,2,    43.7,2,   28.28,2,   27.79,2,    0.01,2,    2.11,2,-999.000,9,-999.000,9,  -999.0,9,  -999.0,9,-999.0000,9,-999.0000,9, -999.00,9, -999.00,9,  -999.0,9,    -9.0,-999.000,9,-999.000,    4096,-999.0000,  12.7365,-999.0000, -999.00
 316N145_11,       I01W,     899,          1,         26,     SIH037,2,19950911,       1221,     9.6555,    53.3112,       4580,   503.3,  12.0717,  35.4916,2,  35.5083,2,     19.3,2,    27.9,2,   36.31,2,   30.01,2,    0.01,2,    2.37,2,-999.000,9,-999.000,9,  -999.0,9,  -999.0,9,-999.0000,9,-999.0000,9, -999.00,9, -999.00,9,  -999.0,9,    -9.0,-999.000,9,-999.000,    5038,-999.0000,  12.0046,-999.0000, -999.00
 316N145_11,       I01W,     899,          1,         25,     SI9446,2,19950911,       1221,     9.6555,    53.3112,       4580,   603.0,  11.1862,  35.4278,2,  35.4298,2,     21.7,2,    29.7,2,   42.54,2,   31.57,2,    0.01,2,    2.44,2,   0.197,2,   0.103,2,  -999.0,9,  -999.0,9,-999.0000,9,-999.0000,9, -999.00,9, -999.00,9,  -999.0,9,    -9.0,-999.000,9,-999.000,    5966,-999.0000,  11.1093,-999.0000, -999.00
 316N145_11,       I01W,     899,          1,         24,     SIH036,2,19950911,       1221,     9.6555,    53.3112,       4580,   703.4,  10.8124,  35.4685,2,  35.4651,2,     24.2,2,    23.2,2,   49.58,2,   32.67,2,    0.00,2,    2.54,2,-999.000,9,-999.000,9,  -999.0,9,  -999.0,9,-999.0000,9,-999.0000,9, -999.00,9, -999.00,9,  -999.0,9,    -9.0,-999.000,9,-999.000,    6901,-999.0000,  10.7242,-999.0000, -999.00
 316N145_11,       I01W,     899,          1,         23,     SIH001,2,19950911,       1221,     9.6555,    53.3112,       4580,   802.5,   9.8737,  35.3595,2,  35.3624,2,     27.1,2,    27.1,2,   57.62,2,   34.02,2,    0.00,2,    2.62,2,-999.000,9,-999.000,9,  -999.0,9,  -999.0,9,-999.0000,9,-999.0000,9, -999.00,9, -999.00,9,  -999.0,9,    -9.0,-999.000,9,-999.000,    7824,-999.0000,   9.7781,-999.0000, -999.00
 316N145_11,       I01W,     899,          1,         22,     SIH019,2,19950911,       1221,     9.6555,    53.3112,       4580,   902.5,   9.3737,  35.3438,2,  35.3439,2,     22.6,2,    23.2,2,   65.06,2,   35.31,2,    0.00,2,    2.70,2,   0.047,2,   0.022,2,  -999.0,9,  -999.0,9,-999.0000,9,-999.0000,9, -999.00,9, -999.00,9,  -999.0,9,    -9.0,-999.000,9,-999.000,    8755,-999.0000,   9.2689,-999.0000, -999.00
 316N145_11,       I01W,     899,          1,         21,     SIH025,2,19950911,       1221,     9.6555,    53.3112,       4580,   997.6,   9.0448,  35.3788,2,  35.3800,2,     25.3,2,    25.6,2,   70.48,2,   35.34,2,    0.01,2,    2.71,2,   0.060,2,   0.029,2,  -999.0,9,  -999.0,9,-999.0000,9,-999.0000,9, -999.00,9, -999.00,9,  -999.0,9,    -9.0,-999.000,9,-999.000,    9640,-999.0000,   8.9307,-999.0000, -999.00
 316N145_11,       I01W,     899,          1,         20,     SIH004,2,19950911,       1221,     9.6555,    53.3112,       4580,  1101.3,   8.4116,  35.2964,2,  35.3047,2,     27.6,2,    29.3,2,   75.31,2,   36.11,2,    0.00,2,    2.74,2,-999.000,9,-999.000,9,  -999.0,9,  -999.0,9,-999.0000,9,-999.0000,9, -999.00,9, -999.00,9,  -999.0,9,    -9.0,-999.000,9,-999.000,   10607,-999.0000,   8.2900,-999.0000, -999.00
 316N145_11,       I01W,     899,          1,         19,     SIH005,2,19950911,       1221,     9.6555,    53.3112,       4580,  1200.5,   8.1009,  35.3098,2,  35.3190,2,     28.1,2,    28.5,2,   80.34,2,   36.20,2,    0.01,2,    2.77,2,   0.042,2,   0.018,2,  -999.0,9,  -999.0,9,-999.0000,9,-999.0000,9, -999.00,9, -999.00,9,  -999.0,9,    -9.0,-999.000,9,-999.000,   11530,-999.0000,   7.9702,-999.0000, -999.00
 316N145_11,       I01W,     899,          1,         18,     SIH006,2,19950911,       1221,     9.6555,    53.3112,       4580,  1400.5,   5.9790,  35.0607,2,  35.0575,2,     50.7,2,    53.3,2,   97.96,6,   37.46,6,    0.00,6,    2.80,6,-999.000,9,-999.000,9,  -999.0,9,  -999.0,9,-999.0000,9,-999.0000,9, -999.00,9, -999.00,9,  -999.0,9,    -9.0,-999.000,9,-999.000,   13392,-999.0000,   5.8469,-999.0000, -999.00
 316N145_11,       I01W,     899,          1,         17,     SIH038,2,19950911,       1221,     9.6555,    53.3112,       4580,  1596.0,   4.6662,  34.9309,2,  34.9329,2,     76.9,2,    76.0,2,  110.13,6,   37.35,6,    0.00,6,    2.75,6,-999.000,9,-999.000,9,  -999.0,9,  -999.0,9,-999.0000,9,-999.0000,9, -999.00,9, -999.00,9,  -999.0,9,    -9.0,-999.000,9,-999.000,   15213,-999.0000,   4.5293,-999.0000, -999.00
 316N145_11,       I01W,     899,          1,         16,     SIH008,2,19950911,       1221,     9.6555,    53.3112,       4580,  1793.5,   3.6138,  34.8595,2,  34.8625,2,     95.1,2,    94.5,2,  123.04,2,   36.90,2,    0.00,2,    2.71,2,   0.000,2,   0.000,2,  -999.0,9,  -999.0,9,-999.0000,9,-999.0000,9, -999.00,9, -999.00,9,  -999.0,9,    -9.0,-999.000,9,-999.000,   17051,-999.0000,   3.4718,-999.0000, -999.00
 316N145_11,       I01W,     899,          1,         15,     SIH009,2,19950911,       1221,     9.6555,    53.3112,       4580,  1997.7,   2.9097,  34.8178,2,  34.8192,2,    107.9,2,   107.9,2,  132.71,2,   36.57,2,    0.00,2,    2.67,2,   0.000,2,   0.002,2,  -999.0,9,  -999.0,9,-999.0000,9,-999.0000,9, -999.00,9, -999.00,9,  -999.0,9,    -9.0,-999.000,9,-999.000,   18952,-999.0000,   2.7590,-999.0000, -999.00
 316N145_11,       I01W,     899,          1,         14,     SIH010,2,19950911,       1221,     9.6555,    53.3112,       4580,  2202.2,   2.4533,  34.7848,2,  34.7862,2,    123.3,2,   122.6,2,  135.93,2,   36.24,2,    0.00,2,    2.61,2,-999.000,9,-999.000,9,  -999.0,9,  -999.0,9,-999.0000,9,-999.0000,9, -999.00,9, -999.00,9,  -999.0,9,    -9.0,-999.000,9,-999.000,   20856,-999.0000,   2.2915,-999.0000, -999.00
 316N145_11,       I01W,     899,          1,         13,     SIH011,2,19950911,       1221,     9.6555,    53.3112,       4580,  2395.2,   2.1031,  34.7603,2,  34.7632,2,    138.4,2,   138.9,2,  136.54,2,   35.53,2,    0.00,2,    2.53,2,-999.000,9,-999.000,9,  -999.0,9,  -999.0,9,-999.0000,9,-999.0000,9, -999.00,9, -999.00,9,  -999.0,9,    -9.0,-999.000,9,-999.000,   22653,-999.0000,   1.9299,-999.0000, -999.00
 316N145_11,       I01W,     899,          1,         12,     SIH012,2,19950911,       1221,     9.6555,    53.3112,       4580,  2597.6,   1.9651,  34.7523,2,  34.7547,2,    141.6,2,   142.3,2,  137.55,2,   35.42,2,    0.00,2,    2.51,2,   0.002,2,   0.001,2,  -999.0,9,  -999.0,9,-999.0000,9,-999.0000,9, -999.00,9, -999.00,9,  -999.0,9,    -9.0,-999.000,9,-999.000,   24537,-999.0000,   1.7762,-999.0000, -999.00
 316N145_11,       I01W,     899,          1,         11,     SI9426,2,19950911,       1221,     9.6555,    53.3112,       4580,  2799.3,   1.8665,  34.7474,2,  34.7490,2,    145.7,2,   147.8,2,  138.77,2,   35.20,2,    0.00,2,    2.49,2,-999.000,9,-999.000,9,  -999.0,9,  -999.0,9,-999.0000,9,-999.0000,9, -999.00,9, -999.00,9,  -999.0,9,    -9.0,-999.000,9,-999.000,   26415,-999.0000,   1.6606,-999.0000, -999.00
 316N145_11,       I01W,     899,          1,         10,     SIH014,2,19950911,       1221,     9.6555,    53.3112,       4580,  3003.5,   1.7725,  34.7409,2,  34.7427,2,    150.7,2,   152.8,2,  138.97,2,   35.08,2,    0.00,2,    2.48,2,   0.001,2,  -0.002,2,  -999.0,9,  -999.0,9,-999.0000,9,-999.0000,9, -999.00,9, -999.00,9,  -999.0,9,    -9.0,-999.000,9,-999.000,   28316,-999.0000,   1.5490,-999.0000, -999.00
 316N145_11,       I01W,     899,          1,          9,     SIH015,2,19950911,       1221,     9.6555,    53.3112,       4580,  3193.6,   1.7103,  34.7364,2,  34.7384,2,    155.2,2,  -999.0,9,  137.97,2,   34.80,2,    0.00,2,    2.44,2,   0.014,3,   0.000,2,  -999.0,9,  -999.0,9,-999.0000,9,-999.0000,9, -999.00,9, -999.00,9,  -999.0,9,    -9.0,-999.000,9,-999.000,   30086,-999.0000,   1.4696,-999.0000, -999.00
 316N145_11,       I01W,     899,          1,          8,     SIH016,2,19950911,       1221,     9.6555,    53.3112,       4580,  3398.6,   1.6384,  34.7333,2,  34.7347,2,    161.6,2,   160.8,2,  137.57,2,   34.63,2,    0.00,2,    2.42,2,-999.000,9,-999.000,9,  -999.0,9,  -999.0,9,-999.0000,9,-999.0000,9, -999.00,9, -999.00,9,  -999.0,9,    -9.0,-999.000,9,-999.000,   31994,-999.0000,   1.3789,-999.0000, -999.00
 316N145_11,       I01W,     899,          1,          7,     SIH017,2,19950911,       1221,     9.6555,    53.3112,       4580,  3591.2,   1.5623,  34.7286,2,  35.1630,4,    166.0,2,    50.0,4,   91.36,4,   36.38,4,    0.00,4,    2.73,4,   0.028,4,   0.013,4,  -999.0,9,  -999.0,9,-999.0000,9,-999.0000,9, -999.00,9, -999.00,9,  -999.0,9,    -9.0,-999.000,9,-999.000,   33787,-999.0000,   1.2850,-999.0000, -999.00
 316N145_11,       I01W,     899,          1,          6,     SIH018,2,19950911,       1221,     9.6555,    53.3112,       4580,  3796.6,   1.4715,  34.7239,2,  34.7252,2,    172.5,2,   172.3,2,  136.72,6,   34.08,6,    0.00,6,    2.36,6,-999.000,9,-999.000,9,  -999.0,9,  -999.0,9,-999.0000,9,-999.0000,9, -999.00,9, -999.00,9,  -999.0,9,    -9.0,-999.000,9,-999.000,   35699,-999.0000,   1.1750,-999.0000, -999.00
 316N145_11,       I01W,     899,          1,          5,     SIH002,2,19950911,       1221,     9.6555,    53.3112,       4580,  3995.7,   1.3693,  34.7200,2,  34.7199,2,    178.5,2,   175.9,2,  135.96,2,   33.86,2,    0.00,2,    2.36,2,-999.000,9,-999.000,9,  -999.0,9,  -999.0,9,-999.0000,9,-999.0000,9, -999.00,9, -999.00,9,  -999.0,9,    -9.0,-999.000,9,-999.000,   37552,-999.0000,   1.0542,-999.0000, -999.00
 316N145_11,       I01W,     899,          1,          4,     SIH020,2,19950911,       1221,     9.6555,    53.3112,       4580,  4195.8,   1.3369,  34.7173,2,  34.7190,2,    179.5,2,   180.1,2,  136.57,2,   33.63,2,    0.00,2,    2.35,2,   0.003,2,   0.001,2,  -999.0,9,  -999.0,9,-999.0000,9,-999.0000,9, -999.00,9, -999.00,9,  -999.0,9,    -9.0,-999.000,9,-999.000,   39415,-999.0000,   1.0010,-999.0000, -999.00
 316N145_11,       I01W,     899,          1,          3,     SIH021,2,19950911,       1221,     9.6555,    53.3112,       4580,  4396.0,   1.3288,  34.7165,2,  34.7176,2,    182.4,2,   180.0,2,  136.17,2,   33.63,2,    0.00,2,    2.35,2,-999.000,9,-999.000,9,  -999.0,9,  -999.0,9,-999.0000,9,-999.0000,9, -999.00,9, -999.00,9,  -999.0,9,    -9.0,-999.000,9,-999.000,   41278,-999.0000,   0.9707,-999.0000, -999.00
 316N145_11,       I01W,     899,          1,          2,     SIH022,2,19950911,       1221,     9.6555,    53.3112,       4580,  4600.2,   1.3388,  34.7161,2,  34.7174,2,    181.7,2,   182.4,2,  136.98,2,   33.73,2,    0.00,2,    2.35,2,   0.002,2,  -0.002,2,  -999.0,9,  -999.0,9,-999.0000,9,-999.0000,9, -999.00,9, -999.00,9,  -999.0,9,    -9.0,-999.000,9,-999.000,   43179,-999.0000,   0.9571,-999.0000, -999.00
 316N145_11,       I01W,     899,          1,          1,     SIH023,2,19950911,       1221,     9.6555,    53.3112,       4580,  4652.6,   1.3408,  34.7166,2,  34.7176,2,    180.5,2,   183.6,2,  137.08,6,   33.70,6,    0.00,6,    2.33,6,   0.003,6,  -0.002,6,  -999.0,9,  -999.0,9,-999.0000,9,-999.0000,9, -999.00,9, -999.00,9,  -999.0,9,    -9.0,-999.000,9,-999.000,   43667,-999.0000,   0.9529,-999.0000, -999.00