BOTTLE,20211119CCHSIORKP
EXPOCODE,SECT_ID,STNNBR,CASTNO,SAMPNO,BTLNBR,BTLNBR_FLAG_W,DATE,TIME,LATITUDE,LONGITUDE,DEPTH,CTDPRS,CTDTMP,CTDSAL,CTDSAL_FLAG_W,SALNTY,SALNTY_FLAG_W,CTDOXY,CTDOXY_FLAG_W,OXYGEN,OXYGEN_FLAG_W,SILCAT,SILCAT_FLAG_W,NITRAT,NITRAT_FLAG_W,NITRIT,NITRIT_FLAG_W,PHSPHT,PHSPHT_FLAG_W,CFC-11,CFC-11_FLAG_W,CFC-12,CFC-12_FLAG_W,TCARBN,TCARBN_FLAG_W,ALKALI,ALKALI_FLAG_W,TRITUM,TRITUM_FLAG_W,HELIUM,HELIUM_FLAG_W,DELHE3,DELHE3_FLAG_W,DELC13,DELC13_FLAG_W,DELC14,DELC14_FLAG_W,C14ERR,NEON,NEON_FLAG_W,NEONER,CTDRAW,TRITER,THETA,HELIER,DELHER
,,,,,,,,,,,METERS,DBAR,ITS-90,PSS-78,,PSS-78,,UMOL/KG,,UMOL/KG,,UMOL/KG,,UMOL/KG,,UMOL/KG,,UMOL/KG,,PMOL/KG,,PMOL/KG,,UMOL/KG,,UMOL/KG,,TU,,NMOL/KG,,PERCNT,,/MILLE,,/MILLE,,/MILLE,NMOL/KG,,NMOL/KG,DBAR,TU,DEG C,NMOL/KG,PERCNT
 316N145_11,       I01W,     914,          1,         36,     SIH024,2,19950915,       1904,     8.5000,    57.1833,       4385,     7.1,  26.4276,  35.6569,2,  35.6575,2,    215.3,2,   211.9,2,    3.27,2,    2.15,2,    0.21,2,    0.37,2,   1.760,2,   1.021,2,  2007.3,2,  2328.4,2,-999.0000,9,-999.0000,9, -999.00,9,    1.20,2,    51.7,2,     3.4,-999.000,9,-999.000,      62,-999.0000,  26.4260,-999.0000, -999.00
 316N145_11,       I01W,     914,          1,         35,     SIH003,2,19950915,       1904,     8.5000,    57.1833,       4385,    27.3,  26.2315,  35.6610,2,  35.6628,2,    215.7,2,   207.2,2,    3.54,2,    2.45,2,    0.34,2,    0.40,2,   1.761,2,   1.022,2,  2010.2,2,  2329.4,2,-999.0000,9,-999.0000,9, -999.00,9, -999.00,9,  -999.0,9,    -9.0,-999.000,9,-999.000,     264,-999.0000,  26.2253,-999.0000, -999.00
 316N145_11,       I01W,     914,          1,         34,     SIH026,2,19950915,       1904,     8.5000,    57.1833,       4385,    57.0,  26.0821,  35.6609,2,  35.6595,2,    205.2,2,   201.9,2,    3.71,2,    2.94,2,    0.33,2,    0.45,2,   1.761,2,   1.018,2,  2015.4,2,  2326.4,2,-999.0000,9,-999.0000,9, -999.00,9,    1.13,2,    51.0,2,     3.9,-999.000,9,-999.000,     561,-999.0000,  26.0693,-999.0000, -999.00
 316N145_11,       I01W,     914,          1,         33,     SIH027,3,19950915,       1904,     8.5000,    57.1833,       4385,    87.1,  24.8142,  35.7402,3,  35.7067,2,    164.2,2,   163.8,2,    5.21,2,    7.77,2,    0.06,2,    0.73,2,-999.000,9,-999.000,9,  2053.0,2,  2331.4,2,-999.0000,9,-999.0000,9, -999.00,9, -999.00,9,  -999.0,9,    -9.0,-999.000,9,-999.000,     862,-999.0000,  24.7954,-999.0000, -999.00
 316N145_11,       I01W,     914,          1,         32,     SIH028,2,19950915,       1904,     8.5000,    57.1833,       4385,   116.3,  23.8182,  35.8644,2,  35.8597,2,    152.3,2,   118.1,2,    7.22,2,   13.06,2,    0.03,2,    1.09,2,   1.548,4,   0.888,2,  2100.4,2,  2337.7,2,-999.0000,9,-999.0000,9, -999.00,9,    0.57,2,    39.2,2,     3.4,-999.000,9,-999.000,    1155,-999.0000,  23.7938,-999.0000, -999.00
 316N145_11,       I01W,     914,          1,         31,     SIH029,2,19950915,       1904,     8.5000,    57.1833,       4385,   146.8,  20.3639,  35.4988,2,  35.5156,2,    106.1,2,    84.0,2,   11.98,2,   18.36,2,    0.02,2,    1.40,2,-999.000,9,-999.000,9,  2135.8,2,  2319.8,2,-999.0000,9,-999.0000,9, -999.00,9, -999.00,9,  -999.0,9,    -9.0,-999.000,9,-999.000,    1460,-999.0000,  20.3364,-999.0000, -999.00
 316N145_11,       I01W,     914,          1,         30,     SIH030,2,19950915,       1904,     8.5000,    57.1833,       4385,   197.3,  17.4453,  35.2502,2,  35.2522,2,    134.9,2,   123.7,2,   12.85,2,   16.02,2,    0.01,2,    1.18,2,   1.494,4,   0.818,2,  2122.8,2,  2312.1,2,-999.0000,9,-999.0000,9, -999.00,9,    0.57,2,    42.7,2,     3.0,-999.000,9,-999.000,    1964,-999.0000,  17.4121,-999.0000, -999.00
 316N145_11,       I01W,     914,          1,         29,     SIH031,2,19950915,       1904,     8.5000,    57.1833,       4385,   247.2,  14.7778,  35.3873,2,  35.3782,2,     51.8,2,    59.0,2,   21.43,2,   24.76,2,    0.01,2,    1.90,2,   0.927,2,   0.498,2,  2207.6,2,  2322.3,2,-999.0000,9,-999.0000,9, -999.00,9, -999.00,9,  -999.0,9,    -9.0,-999.000,9,-999.000,    2463,-999.0000,  14.7405,-999.0000, -999.00
 316N145_11,       I01W,     914,          1,         28,     SIH032,2,19950915,       1904,     8.5000,    57.1833,       4385,   296.6,  12.9548,  35.3231,2,  35.3009,2,     64.6,2,    64.5,2,   24.91,2,   26.66,2,    0.01,2,    1.99,2,-999.000,9,-999.000,9,  2218.1,2,  2321.3,2,-999.0000,9,-999.0000,9, -999.00,9,    0.15,2,   -19.5,2,     2.9,-999.000,9,-999.000,    2958,-999.0000,  12.9138,-999.0000, -999.00
 316N145_11,       I01W,     914,          1,         27,     SIH033,2,19950915,       1904,     8.5000,    57.1833,       4385,   396.8,  11.8193,  35.2781,2,  35.2755,2,     57.2,2,    57.0,2,   29.86,2,   29.13,2,    0.00,2,    2.14,2,-999.000,9,-999.000,9,  2231.9,2,  2325.4,2,-999.0000,9,-999.0000,9, -999.00,9,    0.10,2,   -49.8,2,     3.4,-999.000,9,-999.000,    3961,-999.0000,  11.7675,-999.0000, -999.00
 316N145_11,       I01W,     914,          1,         26,     SIH037,2,19950915,       1904,     8.5000,    57.1833,       4385,   497.6,  10.9972,  35.2793,2,  35.2787,2,     43.4,2,    47.3,2,   37.19,2,   31.19,2,    0.00,2,    2.32,2,   0.258,2,   0.132,2,  2247.5,2,  2332.3,2,-999.0000,9,-999.0000,9, -999.00,9,    0.17,2,   -62.9,2,     4.6,-999.000,9,-999.000,    4968,-999.0000,  10.9348,-999.0000, -999.00
 316N145_11,       I01W,     914,          1,         25,     SI9446,2,19950915,       1904,     8.5000,    57.1833,       4385,   603.4,  10.6181,  35.3034,2,  35.3029,2,     24.7,2,    35.0,2,   44.34,2,   33.19,2,    0.00,2,    2.51,2,-999.000,9,-999.000,9,  -999.0,9,  -999.0,9,-999.0000,9,-999.0000,9, -999.00,9,    0.10,2,   -81.1,2,     2.8,-999.000,9,-999.000,    6028,-999.0000,  10.5437,-999.0000, -999.00
 316N145_11,       I01W,     914,          1,         24,     SIH036,2,19950915,       1904,     8.5000,    57.1833,       4385,   702.6,  10.3349,  35.3612,2,  35.3624,2,     19.8,2,    25.0,2,   51.68,2,   34.11,2,    0.00,2,    2.62,2,   0.070,2,   0.035,2,  -999.0,9,  -999.0,9,-999.0000,9,-999.0000,9, -999.00,9,    0.08,2,   -95.8,2,     3.4,-999.000,9,-999.000,    7019,-999.0000,  10.2493,-999.0000, -999.00
 316N145_11,       I01W,     914,          1,         23,     SIH001,2,19950915,       1904,     8.5000,    57.1833,       4385,   798.9,   9.9012,  35.3802,2,  35.3807,2,     20.7,2,    23.6,2,   58.28,2,   34.78,2,    0.00,2,    2.67,2,-999.000,9,-999.000,9,  2284.5,2,  2353.2,2,-999.0000,9,-999.0000,9, -999.00,9,    0.05,2,  -100.2,2,     2.6,-999.000,9,-999.000,    7983,-999.0000,   9.8058,-999.0000, -999.00
 316N145_11,       I01W,     914,          1,         22,     SIH019,2,19950915,       1904,     8.5000,    57.1833,       4385,   893.2,   9.0705,  35.3665,2,  35.3671,2,     23.5,2,    28.2,3,   68.37,2,   35.55,2,    0.00,2,    2.72,2,   0.048,2,   0.025,2,  -999.0,9,  -999.0,9,-999.0000,9,-999.0000,9, -999.00,9,   -0.03,2,  -118.2,2,     2.7,-999.000,9,-999.000,    8926,-999.0000,   8.9687,-999.0000, -999.00
 316N145_11,       I01W,     914,          1,         21,     SIH025,2,19950915,       1904,     8.5000,    57.1833,       4385,   997.1,   7.7625,  35.1911,2,  35.1841,2,     31.2,2,    43.5,3,   78.49,2,   37.10,2,    0.00,2,    2.77,2,-999.000,9,-999.000,9,  2303.6,2,  2367.9,2,-999.0000,9,-999.0000,9, -999.00,9,   -0.03,2,  -131.6,2,     2.7,-999.000,9,-999.000,    9966,-999.0000,   7.6580,-999.0000, -999.00
 316N145_11,       I01W,     914,          1,         20,     SIH004,2,19950915,       1904,     8.5000,    57.1833,       4385,  1099.2,   6.9445,  35.1135,2,  35.1154,2,     41.8,2,    45.4,2,   86.20,2,   37.35,2,    0.00,2,    2.80,2,   0.013,2,   0.003,2,  -999.0,9,  -999.0,9,-999.0000,9,-999.0000,9, -999.00,9, -999.00,9,  -999.0,9,    -9.0,-999.000,9,-999.000,   10988,-999.0000,   6.8352,-999.0000, -999.00
 316N145_11,       I01W,     914,          1,         19,     SIH005,2,19950915,       1904,     8.5000,    57.1833,       4385,  1201.6,   6.3422,  35.0442,2,  35.0447,2,     50.7,2,    56.2,3,   90.97,2,   37.67,2,    0.00,2,    2.79,2,-999.000,9,-999.000,9,  -999.0,9,  -999.0,9,-999.0000,9,-999.0000,9, -999.00,9,   -0.03,2,  -147.2,2,     2.7,-999.000,9,-999.000,   12012,-999.0000,   6.2272,-999.0000, -999.00
 316N145_11,       I01W,     914,          1,         18,     SIH006,2,19950915,       1904,     8.5000,    57.1833,       4385,  1301.1,   5.9339,  35.0065,2,  35.0081,2,     58.3,2,    58.3,2,   95.21,2,   37.62,2,    0.00,2,    2.80,2,   0.002,2,   0.001,2,  2314.4,2,  2382.2,2,-999.0000,9,-999.0000,9, -999.00,9, -999.00,9,  -999.0,9,    -9.0,-999.000,9,-999.000,   13007,-999.0000,   5.8126,-999.0000, -999.00
 316N145_11,       I01W,     914,          1,         17,     SIH038,2,19950915,       1904,     8.5000,    57.1833,       4385,  1400.9,   5.4751,  34.9755,2,  34.9736,2,     66.6,2,    68.4,2,   99.24,2,   37.67,2,    0.00,2,    2.77,2,-999.000,9,-999.000,9,  -999.0,9,  -999.0,9,-999.0000,9,-999.0000,9, -999.00,9,    0.01,2,  -152.4,2,     6.6,-999.000,9,-999.000,   14006,-999.0000,   5.3484,-999.0000, -999.00
 316N145_11,       I01W,     914,          1,         16,     SIH008,2,19950915,       1904,     8.5000,    57.1833,       4385,  1596.0,   4.5682,  34.9142,2,  34.9130,2,     80.2,2,    80.0,2,  109.35,2,   37.47,2,    0.01,2,    2.76,2,-999.000,9,-999.000,9,  2320.9,2,  2395.3,2,-999.0000,9,-999.0000,9, -999.00,9,    0.01,2,  -171.7,2,     2.9,-999.000,9,-999.000,   15958,-999.0000,   4.4326,-999.0000, -999.00
 316N145_11,       I01W,     914,          1,         15,     SIH009,2,19950915,       1904,     8.5000,    57.1833,       4385,  1797.0,   3.6226,  34.8568,2,  34.8576,2,     94.0,2,   100.7,2,  120.57,2,   36.86,2,    0.00,2,    2.69,2,-999.000,9,-999.000,9,  -999.0,9,  -999.0,9,-999.0000,9,-999.0000,9, -999.00,9,    0.04,2,  -185.3,2,     4.1,-999.000,9,-999.000,   17969,-999.0000,   3.4801,-999.0000, -999.00
 316N145_11,       I01W,     914,          1,         14,     SIH010,2,19950915,       1904,     8.5000,    57.1833,       4385,  1999.1,   3.0815,  34.8228,2,  34.8247,2,    108.7,2,   110.7,2,  126.82,2,   36.77,2,    0.00,2,    2.67,2,  -0.003,2,  -0.002,2,  -999.0,9,  -999.0,9,-999.0000,9,-999.0000,9, -999.00,9, -999.00,9,  -999.0,9,    -9.0,-999.000,9,-999.000,   19992,-999.0000,   2.9281,-999.0000, -999.00
 316N145_11,       I01W,     914,          1,         13,     SIH011,2,19950915,       1904,     8.5000,    57.1833,       4385,  2199.9,   2.5724,  34.7915,2,  34.7927,2,    121.2,2,   125.0,2,  132.16,2,   36.30,2,    0.01,2,    2.59,2,-999.000,9,-999.000,9,  2326.6,2,  2419.6,2,-999.0000,9,-999.0000,9, -999.00,9, -999.00,9,  -999.0,9,    -9.0,-999.000,9,-999.000,   22001,-999.0000,   2.4088,-999.0000, -999.00
 316N145_11,       I01W,     914,          1,         12,     SIH012,2,19950915,       1904,     8.5000,    57.1833,       4385,  2399.5,   2.3438,  34.7764,2,  34.7777,2,    130.7,2,   130.8,2,  133.62,2,   35.90,2,    0.00,2,    2.56,2,   0.011,4,   0.000,2,  -999.0,9,  -999.0,9,-999.0000,9,-999.0000,9, -999.00,9, -999.00,9,  -999.0,9,    -9.0,-999.000,9,-999.000,   23998,-999.0000,   2.1660,-999.0000, -999.00
 316N145_11,       I01W,     914,          1,         11,     SI9426,2,19950915,       1904,     8.5000,    57.1833,       4385,  2600.9,   2.0841,  34.7608,2,  34.7624,2,    139.6,2,   141.1,2,  135.10,2,   35.54,2,    0.00,2,    2.51,2,-999.000,9,-999.000,9,  2320.7,2,  2420.0,2,-999.0000,9,-999.0000,9, -999.00,9, -999.00,9,  -999.0,9,    -9.0,-999.000,9,-999.000,   26013,-999.0000,   1.8925,-999.0000, -999.00
 316N145_11,       I01W,     914,          1,         10,     SIH014,2,19950915,       1904,     8.5000,    57.1833,       4385,  2795.8,   1.9451,  34.7519,2,  34.7532,2,    147.5,2,   147.3,2,  135.47,2,   35.34,2,   -0.01,2,    2.48,2,-999.000,9,-999.000,9,  -999.0,9,  -999.0,9,-999.0000,9,-999.0000,9, -999.00,9, -999.00,9,  -999.0,9,    -9.0,-999.000,9,-999.000,   27964,-999.0000,   1.7379,-999.0000, -999.00
 316N145_11,       I01W,     914,          1,          9,     SIH015,2,19950915,       1904,     8.5000,    57.1833,       4385,  3001.6,   1.8508,  34.7469,2,  34.7467,2,    151.6,2,   152.3,2,  135.65,2,   35.23,2,    0.00,2,    2.48,2,-999.000,9,-999.000,9,  -999.0,9,  -999.0,9,-999.0000,9,-999.0000,9, -999.00,9, -999.00,9,  -999.0,9,    -9.0,-999.000,9,-999.000,   30023,-999.0000,   1.6257,-999.0000, -999.00
 316N145_11,       I01W,     914,          1,          8,     SIH016,2,19950915,       1904,     8.5000,    57.1833,       4385,  3201.5,   1.7757,  34.7420,2,  34.7435,2,    156.0,2,   157.6,2,  135.66,2,   35.04,2,    0.00,2,    2.45,2,  -0.004,2,  -0.002,2,  2312.1,2,  2420.7,2,-999.0000,9,-999.0000,9, -999.00,9, -999.00,9,  -999.0,9,    -9.0,-999.000,9,-999.000,   32024,-999.0000,   1.5326,-999.0000, -999.00
 316N145_11,       I01W,     914,          1,          7,     SIH017,2,19950915,       1904,     8.5000,    57.1833,       4385,  3396.4,   1.7118,  34.7387,2,  34.7400,2,    159.0,2,   162.6,2,  135.47,2,   34.62,2,    0.01,2,    2.45,2,-999.000,9,-999.000,9,  -999.0,9,  -999.0,9,-999.0000,9,-999.0000,9, -999.00,9, -999.00,9,  -999.0,9,    -9.0,-999.000,9,-999.000,   33975,-999.0000,   1.4507,-999.0000, -999.00
 316N145_11,       I01W,     914,          1,          6,     SIH018,2,19950915,       1904,     8.5000,    57.1833,       4385,  3598.3,   1.6461,  34.7349,2,  34.7349,2,    164.3,2,   163.6,2,  135.47,2,   34.67,2,    0.01,2,    2.42,2,  -0.003,2,   0.001,2,  2306.8,2,  2415.2,2,-999.0000,9,-999.0000,9, -999.00,9, -999.00,9,  -999.0,9,    -9.0,-999.000,9,-999.000,   35995,-999.0000,   1.3658,-999.0000, -999.00
 316N145_11,       I01W,     914,          1,          5,     SIH002,2,19950915,       1904,     8.5000,    57.1833,       4385,  3795.9,   1.5485,  34.7285,2,  34.7298,2,    170.4,2,   171.0,2,  134.93,2,   34.32,2,    0.01,2,    2.39,2,-999.000,9,-999.000,9,  -999.0,9,  -999.0,9,-999.0000,9,-999.0000,9, -999.00,9, -999.00,9,  -999.0,9,    -9.0,-999.000,9,-999.000,   37972,-999.0000,   1.2500,-999.0000, -999.00
 316N145_11,       I01W,     914,          1,          4,     SIH020,2,19950915,       1904,     8.5000,    57.1833,       4385,  3997.6,   1.4876,  34.7262,2,  34.7270,2,    175.7,2,   174.0,2,  134.37,2,   34.06,2,    0.01,2,    2.38,2,   0.000,2,   0.000,2,  -999.0,9,  -999.0,9,-999.0000,9,-999.0000,9, -999.00,9, -999.00,9,  -999.0,9,    -9.0,-999.000,9,-999.000,   39991,-999.0000,   1.1690,-999.0000, -999.00
 316N145_11,       I01W,     914,          1,          3,     SIH021,2,19950915,       1904,     8.5000,    57.1833,       4385,  4195.3,   1.4454,  34.7231,2,  34.7227,2,    178.5,2,   178.9,2,  134.01,2,   34.02,2,    0.00,2,    2.36,2,-999.000,9,-999.000,9,  2297.3,2,  2410.5,2,-999.0000,9,-999.0000,9, -999.00,9, -999.00,9,  -999.0,9,    -9.0,-999.000,9,-999.000,   41969,-999.0000,   1.1063,-999.0000, -999.00
 316N145_11,       I01W,     914,          1,          2,     SIH022,2,19950915,       1904,     8.5000,    57.1833,       4385,  4408.3,   1.4536,  34.7222,2,  34.7229,2,    179.8,2,   177.4,2,  133.82,2,   33.92,2,    0.00,2,    2.36,2,  -0.002,2,   0.001,2,  -999.0,9,  -999.0,9,-999.0000,9,-999.0000,9, -999.00,9, -999.00,9,  -999.0,9,    -9.0,-999.000,9,-999.000,   44100,-999.0000,   1.0903,-999.0000, -999.00
 316N145_11,       I01W,     914,          1,          1,     SIH023,2,19950915,       1904,     8.5000,    57.1833,       4385,  4459.0,   1.4476,  34.7219,2,  34.7225,2,   -999.0,9,   180.9,2,  134.04,2,   33.87,2,   -0.01,2,    2.36,2,  -0.003,2,  -0.001,2,  -999.0,9,  2408.1,2,-999.0000,9,-999.0000,9, -999.00,9, -999.00,9,  -999.0,9,    -9.0,-999.000,9,-999.000,   44608,-999.0000,   1.0786,-999.0000, -999.00