BOTTLE,20211119CCHSIORKP
EXPOCODE,SECT_ID,STNNBR,CASTNO,SAMPNO,BTLNBR,BTLNBR_FLAG_W,DATE,TIME,LATITUDE,LONGITUDE,DEPTH,CTDPRS,CTDTMP,CTDSAL,CTDSAL_FLAG_W,SALNTY,SALNTY_FLAG_W,CTDOXY,CTDOXY_FLAG_W,OXYGEN,OXYGEN_FLAG_W,SILCAT,SILCAT_FLAG_W,NITRAT,NITRAT_FLAG_W,NITRIT,NITRIT_FLAG_W,PHSPHT,PHSPHT_FLAG_W,CFC-11,CFC-11_FLAG_W,CFC-12,CFC-12_FLAG_W,TCARBN,TCARBN_FLAG_W,ALKALI,ALKALI_FLAG_W,TRITUM,TRITUM_FLAG_W,HELIUM,HELIUM_FLAG_W,DELHE3,DELHE3_FLAG_W,DELC13,DELC13_FLAG_W,DELC14,DELC14_FLAG_W,C14ERR,NEON,NEON_FLAG_W,NEONER,CTDRAW,TRITER,THETA,HELIER,DELHER
,,,,,,,,,,,METERS,DBAR,ITS-90,PSS-78,,PSS-78,,UMOL/KG,,UMOL/KG,,UMOL/KG,,UMOL/KG,,UMOL/KG,,UMOL/KG,,PMOL/KG,,PMOL/KG,,UMOL/KG,,UMOL/KG,,TU,,NMOL/KG,,PERCNT,,/MILLE,,/MILLE,,/MILLE,NMOL/KG,,NMOL/KG,DBAR,TU,DEG C,NMOL/KG,PERCNT
 316N145_11,       I01W,     862,          1,         29,     SIH031,2,19950831,       2252,    18.0862,    58.0028,       2815,     5.3,  22.2618,  35.6332,2,  35.6364,2,    191.5,2,   191.4,2,    8.54,2,   15.86,2,    0.44,2,    1.43,2,   1.866,2,   1.037,2,  2127.3,2,  2332.9,2,-999.0000,9,-999.0000,9, -999.00,9, -999.00,9,  -999.0,9,    -9.0,-999.000,9,-999.000,      29,-999.0000,  22.2607,-999.0000, -999.00
 316N145_11,       I01W,     862,          1,         28,     SIH032,2,19950831,       2252,    18.0862,    58.0028,       2815,    30.7,  22.0599,  35.6806,2,  35.6506,2,    125.1,2,   167.5,2,    8.94,2,   16.66,2,    0.49,2,    1.46,2,   1.793,2,   0.995,2,  2133.6,2,  2327.1,2,-999.0000,9,-999.0000,9, -999.00,9, -999.00,9,  -999.0,9,    -9.0,-999.000,9,-999.000,     283,-999.0000,  22.0538,-999.0000, -999.00
 316N145_11,       I01W,     862,          1,         27,     SIH033,2,19950831,       2252,    18.0862,    58.0028,       2815,    61.0,  18.9450,  35.5425,2,  35.5492,2,     48.8,2,    49.0,2,   17.07,2,   23.51,2,    0.07,2,    1.79,2,   1.322,2,   0.734,2,  2184.2,2,  2322.2,2,-999.0000,9,-999.0000,9, -999.00,9, -999.00,9,  -999.0,9,    -9.0,-999.000,9,-999.000,     586,-999.0000,  18.9341,-999.0000, -999.00
 316N145_11,       I01W,     862,          1,         26,     SIH037,2,19950831,       2252,    18.0862,    58.0028,       2815,    90.2,  17.9573,  35.5951,2,  35.5957,2,     31.7,2,    34.6,2,   19.98,2,   24.84,2,    0.03,2,    1.97,2,   1.108,3,   0.659,3,  2206.8,2,  2324.8,2,-999.0000,9,-999.0000,9, -999.00,9, -999.00,9,  -999.0,9,    -9.0,-999.000,9,-999.000,     879,-999.0000,  17.9418,-999.0000, -999.00
 316N145_11,       I01W,     862,          1,         25,     SI9446,2,19950831,       2252,    18.0862,    58.0028,       2815,   121.0,  17.0998,  35.6605,2,  35.6609,2,     20.4,2,    25.9,2,   23.28,2,   25.48,2,    0.02,2,    2.11,2,   0.959,2,   0.538,2,  2227.6,2,  2327.4,2,-999.0000,9,-999.0000,9, -999.00,9, -999.00,9,  -999.0,9,    -9.0,-999.000,9,-999.000,    1187,-999.0000,  17.0797,-999.0000, -999.00
 316N145_11,       I01W,     862,          1,         24,     SIH036,2,19950831,       2252,    18.0862,    58.0028,       2815,   150.2,  16.4646,  35.7104,2,  35.7124,2,      9.6,2,    15.2,2,   25.43,2,   25.43,2,    0.02,2,    2.19,2,   0.824,6,   0.482,6,  2238.2,2,  2335.9,2,-999.0000,9,-999.0000,9, -999.00,9, -999.00,9,  -999.0,9,    -9.0,-999.000,9,-999.000,    1479,-999.0000,  16.4404,-999.0000, -999.00
 316N145_11,       I01W,     862,          1,         23,     SIH001,2,19950831,       2252,    18.0862,    58.0028,       2815,   201.1,  15.5895,  35.8193,2,  35.8228,2,      6.2,2,    11.2,2,   27.19,2,   25.25,2,    0.03,2,    2.24,2,   0.658,2,   0.388,2,  2250.4,2,  2338.9,2,-999.0000,9,-999.0000,9, -999.00,9, -999.00,9,  -999.0,9,    -9.0,-999.000,9,-999.000,    1987,-999.0000,  15.5581,-999.0000, -999.00
 316N145_11,       I01W,     862,          1,         22,     SIH019,2,19950831,       2252,    18.0862,    58.0028,       2815,   251.3,  15.0951,  35.8946,2,  35.8973,2,      2.8,2,    11.2,2,   29.72,2,   25.06,2,    0.01,2,    2.31,2,   0.549,2,   0.322,2,  2260.4,2,  2346.0,2,-999.0000,9,-999.0000,9, -999.00,9, -999.00,9,  -999.0,9,    -9.0,-999.000,9,-999.000,    2490,-999.0000,  15.0565,-999.0000, -999.00
 316N145_11,       I01W,     862,          1,         21,     SIH025,2,19950831,       2252,    18.0862,    58.0028,       2815,   301.2,  14.6342,  35.9114,2,  35.9083,2,     -0.7,2,     9.0,2,   32.83,2,   24.12,2,    0.09,2,    2.39,2,   0.409,2,   0.250,2,  2269.1,2,  2349.6,2,-999.0000,9,-999.0000,9, -999.00,9, -999.00,9,  -999.0,9,    -9.0,-999.000,9,-999.000,    2989,-999.0000,  14.5889,-999.0000, -999.00
 316N145_11,       I01W,     862,          1,         20,     SIH004,2,19950831,       2252,    18.0862,    58.0028,       2815,   401.5,  12.9920,  35.7132,2,  35.7154,2,      3.3,2,     5.2,2,   38.27,2,   28.54,2,    0.01,2,    2.46,2,   0.271,2,   0.155,2,  2268.0,2,  2344.8,2,-999.0000,9,-999.0000,9, -999.00,9, -999.00,9,  -999.0,9,    -9.0,-999.000,9,-999.000,    3992,-999.0000,  12.9359,-999.0000, -999.00
 316N145_11,       I01W,     862,          1,         19,     SIH005,2,19950831,       2252,    18.0862,    58.0028,       2815,   501.5,  12.3401,  35.6917,2,  35.6925,2,      4.2,2,     6.0,2,   43.89,2,   29.40,2,    0.01,2,    2.53,2,-999.000,9,-999.000,9,  2272.0,2,  2343.4,2,-999.0000,9,-999.0000,9, -999.00,9, -999.00,9,  -999.0,9,    -9.0,-999.000,9,-999.000,    4993,-999.0000,  12.2723,-999.0000, -999.00
 316N145_11,       I01W,     862,          1,         18,     SIH006,2,19950831,       2252,    18.0862,    58.0028,       2815,   597.5,  11.8249,  35.6716,2,  35.6729,2,      5.0,2,     6.0,2,   49.90,2,   30.37,2,    0.00,2,    2.60,2,   0.120,2,   0.064,2,  2277.6,2,  2347.8,2,-999.0000,9,-999.0000,9, -999.00,9, -999.00,9,  -999.0,9,    -9.0,-999.000,9,-999.000,    5953,-999.0000,  11.7458,-999.0000, -999.00
 316N145_11,       I01W,     862,          1,         17,     SIH038,2,19950831,       2252,    18.0862,    58.0028,       2815,   702.9,  11.1831,  35.6414,2,  35.6419,2,      6.2,2,     5.5,2,   56.49,2,   32.23,2,    0.01,2,    2.66,2,-999.000,9,-999.000,9,  2284.5,2,  2352.4,2,-999.0000,9,-999.0000,9, -999.00,9, -999.00,9,  -999.0,9,    -9.0,-999.000,9,-999.000,    7007,-999.0000,  11.0929,-999.0000, -999.00
 316N145_11,       I01W,     862,          1,         16,     SIH008,2,19950831,       2252,    18.0862,    58.0028,       2815,   798.9,  10.5221,  35.5937,2,  35.5910,2,      7.9,2,     6.6,2,   63.48,2,   33.73,2,    0.01,2,    2.72,2,   0.065,2,   0.032,2,  2291.3,2,  2356.9,2,-999.0000,9,-999.0000,9, -999.00,9, -999.00,9,  -999.0,9,    -9.0,-999.000,9,-999.000,    7967,-999.0000,  10.4230,-999.0000, -999.00
 316N145_11,       I01W,     862,          1,         15,     SIH009,2,19950831,       2252,    18.0862,    58.0028,       2815,   898.8,   9.5356,  35.4977,2,  35.4888,2,      9.9,2,     5.7,2,   72.98,2,   35.66,2,    0.00,2,    2.82,2,-999.000,9,-999.000,9,  2305.3,2,  2363.8,2,-999.0000,9,   1.8600,2,   10.50,2, -999.00,9,  -999.0,9,    -9.0,   7.622,2,   0.152,    8967,-999.0000,   9.4299,   0.0090,    0.20
 316N145_11,       I01W,     862,          1,         14,     SIH010,2,19950831,       2252,    18.0862,    58.0028,       2815,   999.4,   8.6387,  35.3904,2,  35.3902,2,     10.9,2,     7.8,2,   80.94,2,   37.27,2,    0.00,2,    2.91,2,   0.018,2,   0.006,2,  2315.9,2,  2368.6,2,-999.0000,9,   1.8640,2,   10.70,2, -999.00,9,  -999.0,9,    -9.0,   7.751,2,   0.155,    9974,-999.0000,   8.5272,   0.0090,    0.20
 316N145_11,       I01W,     862,          1,         13,     SIH011,2,19950831,       2252,    18.0862,    58.0028,       2815,  1100.2,   8.0880,  35.3299,2,  35.3289,2,     12.7,2,     9.1,2,   85.99,2,   38.06,2,    0.01,2,    2.96,2,-999.000,9,-999.000,9,  2321.5,2,  2375.8,2,-999.0000,9,   1.8330,2,   11.30,2, -999.00,9,  -999.0,9,    -9.0,   7.796,2,   0.156,   10983,-999.0000,   7.9690,   0.0090,    0.20
 316N145_11,       I01W,     862,          1,         12,     SIH012,2,19950831,       2252,    18.0862,    58.0028,       2815,  1201.2,   7.4094,  35.2552,2,  35.2538,2,     17.7,2,    14.3,2,   92.40,2,   38.60,2,    0.00,2,    2.99,2,   0.010,2,   0.004,2,  2328.1,2,  2377.5,2,-999.0000,9,   1.8730,2,   12.20,2, -999.00,9,  -999.0,9,    -9.0,   8.073,2,   0.161,   11993,-999.0000,   7.2849,   0.0090,    0.20
 316N145_11,       I01W,     862,          1,         11,     SI9426,2,19950831,       2252,    18.0862,    58.0028,       2815,  1297.0,   6.7321,  35.1815,2,  35.1807,2,     23.5,2,    20.7,2,   98.64,2,   38.93,2,    0.00,2,    2.98,2,-999.000,9,-999.000,9,  2333.1,2,  2383.3,2,-999.0000,9,   1.9090,2,   12.50,2, -999.00,9,  -999.0,9,    -9.0,   7.921,2,   0.158,   12951,-999.0000,   6.6032,   0.0100,    0.20
 316N145_11,       I01W,     862,          1,         10,     SIH014,2,19950831,       2252,    18.0862,    58.0028,       2815,  1397.4,   5.9077,  35.0939,2,  35.0943,2,     34.5,2,    31.1,2,  107.18,2,   39.30,2,    0.00,2,    2.99,2,   0.003,2,   0.007,2,  2338.8,2,  2392.1,2,-999.0000,9,   1.8870,2,   12.90,2, -999.00,9,  -999.0,9,    -9.0,   8.050,2,   0.161,   13956,-999.0000,   5.7766,   0.0090,    0.20
 316N145_11,       I01W,     862,          1,          9,     SIH015,2,19950831,       2252,    18.0862,    58.0028,       2815,  1499.2,   5.2074,  35.0265,2,  35.0277,2,     43.0,2,    42.2,2,  115.33,2,   39.29,2,    0.01,2,    2.99,2,-999.000,9,-999.000,9,  2344.0,2,  2397.6,2,-999.0000,9,   1.9000,2,   13.20,2, -999.00,9,  -999.0,9,    -9.0,   8.113,2,   0.162,   14974,-999.0000,   5.0737,   0.0090,    0.20
 316N145_11,       I01W,     862,          1,          8,     SIH016,2,19950831,       2252,    18.0862,    58.0028,       2815,  1594.5,   4.6369,  34.9742,2,  34.9738,2,     52.6,2,    53.5,2,  121.54,2,   39.14,2,   -0.01,2,    2.95,2,  -0.001,2,  -0.002,2,  2347.4,2,  2403.1,2,-999.0000,9,   1.8780,2,   13.40,2, -999.00,9,  -999.0,9,    -9.0,   8.157,2,   0.163,   15928,-999.0000,   4.5004,   0.0090,    0.20
 316N145_11,       I01W,     862,          1,          7,     SIH017,2,19950831,       2252,    18.0862,    58.0028,       2815,  1797.5,   3.6772,  34.8877,2,  34.8896,2,     73.6,2,    71.2,2,  132.22,2,   38.71,2,    0.00,2,    2.87,2,-999.000,9,-999.000,9,  2352.6,2,  2414.8,2,-999.0000,9,   1.9180,2,   11.50,2, -999.00,9,  -999.0,9,    -9.0,   8.269,2,   0.165,   17959,-999.0000,   3.5338,   0.0100,    0.20
 316N145_11,       I01W,     862,          1,          6,     SIH018,2,19950831,       2252,    18.0862,    58.0028,       2815,  1999.7,   3.1053,  34.8427,2,  34.8436,2,     84.5,2,    84.8,2,  138.65,2,   38.38,2,    0.01,2,    2.82,2,  -0.001,3,   0.010,2,  2356.1,2,  2423.7,2,-999.0000,9,   1.9450,2,   12.60,2, -999.00,9,  -999.0,9,    -9.0,   8.278,2,   0.166,   19982,-999.0000,   2.9515,   0.0100,    0.20
 316N145_11,       I01W,     862,          1,          5,     SIH002,2,19950831,       2252,    18.0862,    58.0028,       2815,  2197.7,   2.6649,  34.8085,2,  34.8080,2,     97.0,2,    96.2,2,  143.90,2,   37.84,2,    0.00,2,    2.75,2,   0.001,2,   0.006,2,  2356.9,2,  2430.0,2,-999.0000,9,   1.9530,2,   13.40,2, -999.00,9,  -999.0,9,    -9.0,   8.367,2,   0.167,   21963,-999.0000,   2.5000,   0.0100,    0.20
 316N145_11,       I01W,     862,          1,          4,     SIH020,2,19950831,       2252,    18.0862,    58.0028,       2815,  2399.0,   2.3420,  34.7835,2,  34.7821,2,    104.2,2,   103.5,2,  147.81,2,   37.58,2,    0.00,2,    2.70,2,  -0.002,2,   0.006,2,  2359.0,2,  2436.6,2,-999.0000,9,   1.9220,2,   13.00,2, -999.00,9,  -999.0,9,    -9.0,   8.211,2,   0.164,   23978,-999.0000,   2.1642,   0.0100,    0.20
 316N145_11,       I01W,     862,          1,          3,     SIH021,2,19950831,       2252,    18.0862,    58.0028,       2815,  2597.6,   2.1355,  34.7683,2,  34.7675,2,    109.5,2,   108.5,2,  150.55,2,   37.40,2,    0.01,2,    2.68,2,   0.002,2,   0.008,2,  2362.7,2,  2443.6,2,-999.0000,9,   1.8870,2,   13.90,2, -999.00,9,  -999.0,9,    -9.0,   8.474,2,   0.169,   25966,-999.0000,   1.9431,   0.0090,    0.20
 316N145_11,       I01W,     862,          1,          2,     SIH022,2,19950831,       2252,    18.0862,    58.0028,       2815,  2837.3,   1.9795,  34.7563,2,  34.7563,2,    111.3,2,   111.7,2,  153.09,2,   37.14,2,    0.00,2,    2.65,2,   0.004,2,   0.012,2,  2364.9,2,  2448.8,2,-999.0000,9,   1.9040,2,   14.30,2, -999.00,9,  -999.0,9,    -9.0,   8.117,2,   0.162,   28364,-999.0000,   1.7676,   0.0100,    0.20
 316N145_11,       I01W,     862,          1,          1,     SIH023,2,19950831,       2252,    18.0862,    58.0028,       2815,  2886.7,   1.9655,  34.7556,2,  34.7557,2,    110.0,2,   112.4,2,  153.20,2,   37.20,2,    0.00,2,    2.65,2,   0.008,2,   0.018,2,  2365.7,2,  2450.1,2,-999.0000,9,   1.8730,2,   13.70,2, -999.00,9,  -999.0,9,    -9.0,   8.104,2,   0.162,   28859,-999.0000,   1.7492,   0.0090,    0.20