BOTTLE,20211119CCHSIORKP
EXPOCODE,SECT_ID,STNNBR,CASTNO,SAMPNO,BTLNBR,BTLNBR_FLAG_W,DATE,TIME,LATITUDE,LONGITUDE,DEPTH,CTDPRS,CTDTMP,CTDSAL,CTDSAL_FLAG_W,SALNTY,SALNTY_FLAG_W,CTDOXY,CTDOXY_FLAG_W,OXYGEN,OXYGEN_FLAG_W,SILCAT,SILCAT_FLAG_W,NITRAT,NITRAT_FLAG_W,NITRIT,NITRIT_FLAG_W,PHSPHT,PHSPHT_FLAG_W,CFC-11,CFC-11_FLAG_W,CFC-12,CFC-12_FLAG_W,TCARBN,TCARBN_FLAG_W,ALKALI,ALKALI_FLAG_W,TRITUM,TRITUM_FLAG_W,HELIUM,HELIUM_FLAG_W,DELHE3,DELHE3_FLAG_W,DELC13,DELC13_FLAG_W,DELC14,DELC14_FLAG_W,C14ERR,NEON,NEON_FLAG_W,NEONER,CTDRAW,TRITER,THETA,HELIER,DELHER
,,,,,,,,,,,METERS,DBAR,ITS-90,PSS-78,,PSS-78,,UMOL/KG,,UMOL/KG,,UMOL/KG,,UMOL/KG,,UMOL/KG,,UMOL/KG,,PMOL/KG,,PMOL/KG,,UMOL/KG,,UMOL/KG,,TU,,NMOL/KG,,PERCNT,,/MILLE,,/MILLE,,/MILLE,NMOL/KG,,NMOL/KG,DBAR,TU,DEG C,NMOL/KG,PERCNT
 316N145_11,       I01W,     859,          1,         18,     SIH006,2,19950830,       0707,    22.4583,    61.2000,       3190,   800.9,  10.9353,  35.6003,2,  35.5981,2,      5.4,2,     2.7,2,   57.65,2,   30.63,2,    0.02,2,    2.70,2,-999.000,9,-999.000,9,  2293.4,2,  -999.0,9,-999.0000,9,-999.0000,9, -999.00,9, -999.00,9,  -999.0,9,    -9.0,-999.000,9,-999.000,    7993,-999.0000,  10.8336,-999.0000, -999.00
 316N145_11,       I01W,     859,          1,         17,     SIH038,2,19950830,       0707,    22.4583,    61.2000,       3190,   902.3,  10.2245,  35.5442,2,  35.5468,2,      6.7,2,     9.0,2,   64.18,2,   33.07,2,    0.02,2,    2.74,2,   0.045,2,   0.020,2,  2300.7,2,  2362.9,2,-999.0000,9,-999.0000,9, -999.00,9, -999.00,9,  -999.0,9,    -9.0,-999.000,9,-999.000,    9008,-999.0000,  10.1140,-999.0000, -999.00
 316N145_11,       I01W,     859,          1,         16,     SIH008,2,19950830,       0707,    22.4583,    61.2000,       3190,   996.9,   9.4123,  35.4717,2,  35.4699,2,      7.5,2,     6.6,2,   71.46,2,   34.70,2,    0.01,2,    2.80,2,   0.032,2,   0.012,2,  2310.0,2,  2367.4,2,-999.0000,9,-999.0000,9, -999.00,9, -999.00,9,  -999.0,9,    -9.0,-999.000,9,-999.000,    9954,-999.0000,   9.2955,-999.0000, -999.00
 316N145_11,       I01W,     859,          1,         15,     SIH009,2,19950830,       0707,    22.4583,    61.2000,       3190,  1096.9,   8.5619,  35.3777,2,  35.3772,2,     10.0,2,     6.2,2,   79.29,2,   36.10,2,    0.01,2,    2.89,2,-999.000,9,-999.000,9,  2320.6,2,  2379.0,2,-999.0000,9,-999.0000,9, -999.00,9, -999.00,9,  -999.0,9,    -9.0,-999.000,9,-999.000,   10954,-999.0000,   8.4395,-999.0000, -999.00
 316N145_11,       I01W,     859,          1,         14,     SIH010,2,19950830,       0707,    22.4583,    61.2000,       3190,  1197.8,   8.0380,  35.3204,2,  35.3212,2,     10.7,2,     8.7,2,   84.16,2,   36.83,2,    0.01,2,    2.92,2,   0.014,2,   0.010,2,  2326.4,2,  2379.8,2,-999.0000,9,-999.0000,9, -999.00,9, -999.00,9,  -999.0,9,    -9.0,-999.000,9,-999.000,   11963,-999.0000,   7.9082,-999.0000, -999.00
 316N145_11,       I01W,     859,          1,         13,     SIH011,2,19950830,       0707,    22.4583,    61.2000,       3190,  1298.5,   7.1772,  35.2257,2,  35.2272,2,     14.6,2,    14.3,2,   92.19,2,   37.69,2,    0.01,2,    2.97,2,-999.000,9,-999.000,9,  2336.1,2,  2388.1,2,-999.0000,9,-999.0000,9, -999.00,9, -999.00,9,  -999.0,9,    -9.0,-999.000,9,-999.000,   12971,-999.0000,   7.0438,-999.0000, -999.00
 316N145_11,       I01W,     859,          1,         12,     SIH012,2,19950830,       0707,    22.4583,    61.2000,       3190,  1402.7,   6.5372,  35.1617,2,  35.1624,2,     19.8,2,    20.6,2,   98.73,2,   37.95,2,    0.01,2,    2.98,2,   0.003,2,  -0.002,2,  2339.8,2,  2389.5,2,-999.0000,9,-999.0000,9, -999.00,9, -999.00,9,  -999.0,9,    -9.0,-999.000,9,-999.000,   14014,-999.0000,   6.3990,-999.0000, -999.00
 316N145_11,       I01W,     859,          1,         11,     SI9426,2,19950830,       0707,    22.4583,    61.2000,       3190,  1502.1,   5.8814,  35.0926,2,  35.0947,2,     26.9,2,    28.1,2,  105.08,2,   38.09,2,    0.01,2,    2.96,2,-999.000,9,-999.000,9,  2346.5,2,  2398.4,2,-999.0000,9,-999.0000,9, -999.00,9, -999.00,9,  -999.0,9,    -9.0,-999.000,9,-999.000,   15009,-999.0000,   5.7397,-999.0000, -999.00
 316N145_11,       I01W,     859,          1,         10,     SIH014,2,19950830,       0707,    22.4583,    61.2000,       3190,  1606.0,   5.0816,  35.0207,2,  35.0191,2,     39.8,2,    41.8,2,  114.04,2,   38.05,2,    0.01,2,    2.93,2,   0.005,6,   0.008,6,  2351.2,2,  2403.6,2,-999.0000,9,-999.0000,9, -999.00,9, -999.00,9,  -999.0,9,    -9.0,-999.000,9,-999.000,   16048,-999.0000,   4.9386,-999.0000, -999.00
 316N145_11,       I01W,     859,          1,          9,     SIH015,2,19950830,       0707,    22.4583,    61.2000,       3190,  1798.6,   4.2235,  34.9413,2,  34.9388,2,     52.4,2,    56.3,2,  123.01,2,   37.95,2,    0.00,2,    2.87,2,   0.000,2,  -0.004,2,  2356.3,2,  2417.7,2,-999.0000,9,-999.0000,9, -999.00,9, -999.00,9,  -999.0,9,    -9.0,-999.000,9,-999.000,   17975,-999.0000,   4.0725,-999.0000, -999.00
 316N145_11,       I01W,     859,          1,          8,     SIH016,2,19950830,       0707,    22.4583,    61.2000,       3190,  1995.5,   3.3300,  34.8637,2,  34.8615,2,     74.2,2,    77.7,2,  131.79,2,   37.54,2,   -0.01,2,    2.77,2,-999.000,9,-999.000,9,  2359.2,2,  2426.8,2,-999.0000,9,-999.0000,9, -999.00,9, -999.00,9,  -999.0,9,    -9.0,-999.000,9,-999.000,   19946,-999.0000,   3.1731,-999.0000, -999.00
 316N145_11,       I01W,     859,          1,          7,     SIH017,2,19950830,       0707,    22.4583,    61.2000,       3190,  2199.3,   2.8104,  34.8182,2,  34.8161,2,     91.3,2,    91.4,2,  136.67,2,   37.08,2,    0.00,2,    2.69,2,   0.037,3,   0.060,3,  2358.1,2,  2437.0,2,-999.0000,9,-999.0000,9, -999.00,9, -999.00,9,  -999.0,9,    -9.0,-999.000,9,-999.000,   21985,-999.0000,   2.6429,-999.0000, -999.00
 316N145_11,       I01W,     859,          1,          6,     SIH018,2,19950830,       0707,    22.4583,    61.2000,       3190,  2397.3,   2.4189,  34.7895,2,  34.7891,2,    101.9,2,   100.5,2,  141.92,2,   36.90,2,    0.01,2,    2.64,2,-999.000,9,-999.000,9,  2360.8,2,  2440.3,2,-999.0000,9,-999.0000,9, -999.00,9, -999.00,9,  -999.0,9,    -9.0,-999.000,9,-999.000,   23967,-999.0000,   2.2399,-999.0000, -999.00
 316N145_11,       I01W,     859,          1,          5,     SIH002,2,19950830,       0707,    22.4583,    61.2000,       3190,  2597.9,   2.1435,  34.7689,2,  34.7675,2,    108.5,2,   107.7,2,  145.31,2,   36.58,2,    0.01,2,    2.60,2,   0.000,2,   0.005,2,  2362.6,2,  2451.3,2,-999.0000,9,-999.0000,9, -999.00,9, -999.00,9,  -999.0,9,    -9.0,-999.000,9,-999.000,   25974,-999.0000,   1.9510,-999.0000, -999.00
 316N145_11,       I01W,     859,          1,          4,     SIH020,2,19950830,       0707,    22.4583,    61.2000,       3190,  2798.1,   1.9629,  34.7568,2,  34.7567,2,    112.4,2,   110.3,2,  147.76,2,   36.40,2,    0.01,2,    2.60,2,   0.006,2,   0.009,2,  2368.5,2,  2455.8,2,-999.0000,9,-999.0000,9, -999.00,9, -999.00,9,  -999.0,9,    -9.0,-999.000,9,-999.000,   27977,-999.0000,   1.7551,-999.0000, -999.00
 316N145_11,       I01W,     859,          1,          3,     SIH021,3,19950830,       0707,    22.4583,    61.2000,       3190,  2999.6,   1.8392,  34.7472,3,  34.7469,2,    112.9,2,   112.1,2,  151.33,2,   36.17,2,   -0.01,2,    2.59,2,-999.000,9,-999.000,9,  2373.6,2,  2467.6,2,-999.0000,9,-999.0000,9, -999.00,9, -999.00,9,  -999.0,9,    -9.0,-999.000,9,-999.000,   29993,-999.0000,   1.6146,-999.0000, -999.00
 316N145_11,       I01W,     859,          1,          2,     SIH022,2,19950830,       0707,    22.4583,    61.2000,       3190,  3190.9,   1.7942,  34.7437,2,  34.7419,2,    105.5,2,   106.8,2,  154.35,2,   35.81,2,    0.01,2,    2.62,2,-999.000,9,-999.000,9,  2383.5,2,  2473.3,2,-999.0000,9,-999.0000,9, -999.00,9, -999.00,9,  -999.0,9,    -9.0,-999.000,9,-999.000,   31908,-999.0000,   1.5517,-999.0000, -999.00
 316N145_11,       I01W,     859,          1,          1,     SIH023,2,19950830,       0707,    22.4583,    61.2000,       3190,  3240.2,   1.7862,  34.7431,2,  34.7421,2,   -999.0,9,   106.2,2,  155.06,6,   35.84,6,    0.01,6,    2.64,6,   0.037,2,   0.093,2,  2384.8,2,  2471.0,2,-999.0000,9,-999.0000,9, -999.00,9, -999.00,9,  -999.0,9,    -9.0,-999.000,9,-999.000,   32401,-999.0000,   1.5390,-999.0000, -999.00