BOTTLE,20211119CCHSIORKP
EXPOCODE,SECT_ID,STNNBR,CASTNO,SAMPNO,BTLNBR,BTLNBR_FLAG_W,DATE,TIME,LATITUDE,LONGITUDE,DEPTH,CTDPRS,CTDTMP,CTDSAL,CTDSAL_FLAG_W,SALNTY,SALNTY_FLAG_W,CTDOXY,CTDOXY_FLAG_W,OXYGEN,OXYGEN_FLAG_W,SILCAT,SILCAT_FLAG_W,NITRAT,NITRAT_FLAG_W,NITRIT,NITRIT_FLAG_W,PHSPHT,PHSPHT_FLAG_W,CFC-11,CFC-11_FLAG_W,CFC-12,CFC-12_FLAG_W,TCARBN,TCARBN_FLAG_W,ALKALI,ALKALI_FLAG_W,TRITUM,TRITUM_FLAG_W,HELIUM,HELIUM_FLAG_W,DELHE3,DELHE3_FLAG_W,DELC13,DELC13_FLAG_W,DELC14,DELC14_FLAG_W,C14ERR,NEON,NEON_FLAG_W,NEONER,CTDRAW,TRITER,THETA,HELIER,DELHER
,,,,,,,,,,,METERS,DBAR,ITS-90,PSS-78,,PSS-78,,UMOL/KG,,UMOL/KG,,UMOL/KG,,UMOL/KG,,UMOL/KG,,UMOL/KG,,PMOL/KG,,PMOL/KG,,UMOL/KG,,UMOL/KG,,TU,,NMOL/KG,,PERCNT,,/MILLE,,/MILLE,,/MILLE,NMOL/KG,,NMOL/KG,DBAR,TU,DEG C,NMOL/KG,PERCNT
 316N145_11,       I01W,     860,          1,         16,     SIH008,2,19950830,       1538,    21.6000,    60.5805,       3108,   403.4,  14.0732,  35.9568,2,-999.0000,9,      0.9,2,     6.9,2, -999.00,9, -999.00,9, -999.00,9, -999.00,9,-999.000,9,-999.000,9,  -999.0,9,  -999.0,9,-999.0000,9,-999.0000,9, -999.00,9, -999.00,9,  -999.0,9,    -9.0,-999.000,9,-999.000,    4013,-999.0000,  14.0137,-999.0000, -999.00
 316N145_11,       I01W,     860,          1,         20,     SIH004,2,19950830,       1538,    21.6000,    60.5805,       3108,   403.6,  14.0715,  35.9591,2,-999.0000,9,      1.0,2,     4.2,2, -999.00,9, -999.00,9, -999.00,9, -999.00,9,-999.000,9,-999.000,9,  -999.0,9,  -999.0,9,-999.0000,9,-999.0000,9, -999.00,9, -999.00,9,  -999.0,9,    -9.0,-999.000,9,-999.000,    4015,-999.0000,  14.0121,-999.0000, -999.00
 316N145_11,       I01W,     860,          1,          3,     SIH021,2,19950830,       1538,    21.6000,    60.5805,       3108,   403.7,  14.0751,  35.9579,2,  35.9532,2,      1.0,2,  -999.0,9, -999.00,9, -999.00,9, -999.00,9, -999.00,9,-999.000,9,-999.000,9,  -999.0,9,  -999.0,9,-999.0000,9,-999.0000,9, -999.00,9, -999.00,9,  -999.0,9,    -9.0,-999.000,9,-999.000,    4015,-999.0000,  14.0156,-999.0000, -999.00
 316N145_11,       I01W,     860,          1,         19,     SIH005,2,19950830,       1538,    21.6000,    60.5805,       3108,   403.7,  14.0740,  35.9591,2,-999.0000,9,      1.0,2,     2.9,2, -999.00,9, -999.00,9, -999.00,9, -999.00,9,-999.000,9,-999.000,9,  -999.0,9,  -999.0,9,-999.0000,9,-999.0000,9, -999.00,9, -999.00,9,  -999.0,9,    -9.0,-999.000,9,-999.000,    4015,-999.0000,  14.0145,-999.0000, -999.00
 316N145_11,       I01W,     860,          1,         15,     SIH009,2,19950830,       1538,    21.6000,    60.5805,       3108,   403.7,  14.0702,  35.9559,2,  35.9502,2,      1.0,2,  -999.0,9, -999.00,9, -999.00,9, -999.00,9, -999.00,9,-999.000,9,-999.000,9,  -999.0,9,  -999.0,9,-999.0000,9,-999.0000,9, -999.00,9, -999.00,9,  -999.0,9,    -9.0,-999.000,9,-999.000,    4016,-999.0000,  14.0107,-999.0000, -999.00
 316N145_11,       I01W,     860,          1,         11,     SI9426,2,19950830,       1538,    21.6000,    60.5805,       3108,   403.7,  14.0751,  35.9555,2,  35.9546,2,      1.0,2,  -999.0,9, -999.00,9, -999.00,9, -999.00,9, -999.00,9,-999.000,9,-999.000,9,  -999.0,9,  -999.0,9,-999.0000,9,-999.0000,9, -999.00,9, -999.00,9,  -999.0,9,    -9.0,-999.000,9,-999.000,    4016,-999.0000,  14.0156,-999.0000, -999.00
 316N145_11,       I01W,     860,          1,         10,     SIH014,2,19950830,       1538,    21.6000,    60.5805,       3108,   403.8,  14.0721,  35.9530,2,  35.9544,2,      1.0,2,  -999.0,9, -999.00,9, -999.00,9, -999.00,9, -999.00,9,-999.000,9,-999.000,9,  -999.0,9,  -999.0,9,-999.0000,9,-999.0000,9, -999.00,9, -999.00,9,  -999.0,9,    -9.0,-999.000,9,-999.000,    4016,-999.0000,  14.0126,-999.0000, -999.00
 316N145_11,       I01W,     860,          1,         21,     SIH025,2,19950830,       1538,    21.6000,    60.5805,       3108,   403.8,  14.0714,  35.9539,2,-999.0000,9,      1.0,2,    11.9,2, -999.00,9, -999.00,9, -999.00,9, -999.00,9,-999.000,9,-999.000,9,  -999.0,9,  -999.0,9,-999.0000,9,-999.0000,9, -999.00,9, -999.00,9,  -999.0,9,    -9.0,-999.000,9,-999.000,    4017,-999.0000,  14.0119,-999.0000, -999.00
 316N145_11,       I01W,     860,          1,          4,     SIH020,2,19950830,       1538,    21.6000,    60.5805,       3108,   403.9,  14.0742,  35.9582,2,  35.9526,2,      1.0,2,  -999.0,9, -999.00,9, -999.00,9, -999.00,9, -999.00,9,-999.000,9,-999.000,9,  -999.0,9,  -999.0,9,-999.0000,9,-999.0000,9, -999.00,9, -999.00,9,  -999.0,9,    -9.0,-999.000,9,-999.000,    4017,-999.0000,  14.0147,-999.0000, -999.00
 316N145_11,       I01W,     860,          1,          2,     SIH022,2,19950830,       1538,    21.6000,    60.5805,       3108,   403.9,  14.0733,  35.9585,2,  35.9512,2,      1.0,2,  -999.0,9, -999.00,9, -999.00,9, -999.00,9, -999.00,9,-999.000,9,-999.000,9,  -999.0,9,  -999.0,9,-999.0000,9,-999.0000,9, -999.00,9, -999.00,9,  -999.0,9,    -9.0,-999.000,9,-999.000,    4017,-999.0000,  14.0138,-999.0000, -999.00
 316N145_11,       I01W,     860,          1,         35,     SIH003,2,19950830,       1538,    21.6000,    60.5805,       3108,   403.9,  14.0772,  35.9564,2,-999.0000,9,      1.0,2,  -999.0,9, -999.00,9, -999.00,9, -999.00,9, -999.00,9,-999.000,9,-999.000,9,  -999.0,9,  -999.0,9,-999.0000,9,-999.0000,9, -999.00,9, -999.00,9,  -999.0,9,    -9.0,-999.000,9,-999.000,    4018,-999.0000,  14.0177,-999.0000, -999.00
 316N145_11,       I01W,     860,          1,         31,     SIH029,2,19950830,       1538,    21.6000,    60.5805,       3108,   404.0,  14.0747,  35.9548,2,-999.0000,9,      1.0,2,  -999.0,9, -999.00,9, -999.00,9, -999.00,9, -999.00,9,-999.000,9,-999.000,9,  -999.0,9,  -999.0,9,-999.0000,9,-999.0000,9, -999.00,9, -999.00,9,  -999.0,9,    -9.0,-999.000,9,-999.000,    4018,-999.0000,  14.0152,-999.0000, -999.00
 316N145_11,       I01W,     860,          1,          5,     SIH002,2,19950830,       1538,    21.6000,    60.5805,       3108,   404.0,  14.0743,  35.9550,2,  35.9546,2,      1.0,2,  -999.0,9, -999.00,9, -999.00,9, -999.00,9, -999.00,9,-999.000,9,-999.000,9,  -999.0,9,  -999.0,9,-999.0000,9,-999.0000,9, -999.00,9, -999.00,9,  -999.0,9,    -9.0,-999.000,9,-999.000,    4018,-999.0000,  14.0147,-999.0000, -999.00
 316N145_11,       I01W,     860,          1,         34,     SIH026,2,19950830,       1538,    21.6000,    60.5805,       3108,   404.0,  14.0748,  35.9554,2,-999.0000,9,      1.0,2,  -999.0,9, -999.00,9, -999.00,9, -999.00,9, -999.00,9,-999.000,9,-999.000,9,  -999.0,9,  -999.0,9,-999.0000,9,-999.0000,9, -999.00,9, -999.00,9,  -999.0,9,    -9.0,-999.000,9,-999.000,    4019,-999.0000,  14.0152,-999.0000, -999.00
 316N145_11,       I01W,     860,          1,         26,     SIH037,2,19950830,       1538,    21.6000,    60.5805,       3108,   404.1,  14.0699,  35.9545,2,-999.0000,9,      1.0,2,    14.3,2, -999.00,9, -999.00,9, -999.00,9, -999.00,9,-999.000,9,-999.000,9,  -999.0,9,  -999.0,9,-999.0000,9,-999.0000,9, -999.00,9, -999.00,9,  -999.0,9,    -9.0,-999.000,9,-999.000,    4020,-999.0000,  14.0104,-999.0000, -999.00
 316N145_11,       I01W,     860,          1,         25,     SI9446,2,19950830,       1538,    21.6000,    60.5805,       3108,   404.2,  14.0702,  35.9550,2,-999.0000,9,      1.0,2,     3.3,2, -999.00,9, -999.00,9, -999.00,9, -999.00,9,-999.000,9,-999.000,9,  -999.0,9,  -999.0,9,-999.0000,9,-999.0000,9, -999.00,9, -999.00,9,  -999.0,9,    -9.0,-999.000,9,-999.000,    4020,-999.0000,  14.0107,-999.0000, -999.00
 316N145_11,       I01W,     860,          1,         24,     SIH036,2,19950830,       1538,    21.6000,    60.5805,       3108,   404.2,  14.0699,  35.9571,2,-999.0000,9,      1.0,2,     2.9,2, -999.00,9, -999.00,9, -999.00,9, -999.00,9,-999.000,9,-999.000,9,  -999.0,9,  -999.0,9,-999.0000,9,-999.0000,9, -999.00,9, -999.00,9,  -999.0,9,    -9.0,-999.000,9,-999.000,    4020,-999.0000,  14.0103,-999.0000, -999.00
 316N145_11,       I01W,     860,          1,         27,     SIH033,2,19950830,       1538,    21.6000,    60.5805,       3108,   404.2,  14.0696,  35.9605,2,-999.0000,9,      1.0,2,    50.2,2, -999.00,9, -999.00,9, -999.00,9, -999.00,9,-999.000,9,-999.000,9,  -999.0,9,  -999.0,9,-999.0000,9,-999.0000,9, -999.00,9, -999.00,9,  -999.0,9,    -9.0,-999.000,9,-999.000,    4020,-999.0000,  14.0100,-999.0000, -999.00
 316N145_11,       I01W,     860,          1,         28,     SIH032,2,19950830,       1538,    21.6000,    60.5805,       3108,   404.2,  14.0701,  35.9605,2,-999.0000,9,      1.0,2,  -999.0,9, -999.00,9, -999.00,9, -999.00,9, -999.00,9,-999.000,9,-999.000,9,  -999.0,9,  -999.0,9,-999.0000,9,-999.0000,9, -999.00,9, -999.00,9,  -999.0,9,    -9.0,-999.000,9,-999.000,    4021,-999.0000,  14.0106,-999.0000, -999.00
 316N145_11,       I01W,     860,          1,          1,     SIH023,2,19950830,       1538,    21.6000,    60.5805,       3108,   404.2,  14.0671,  35.9478,2,  35.9558,2,      1.0,2,  -999.0,9, -999.00,9, -999.00,9, -999.00,9, -999.00,9,-999.000,9,-999.000,9,  -999.0,9,  -999.0,9,-999.0000,9,-999.0000,9, -999.00,9, -999.00,9,  -999.0,9,    -9.0,-999.000,9,-999.000,    4021,-999.0000,  14.0076,-999.0000, -999.00
 316N145_11,       I01W,     860,          1,         12,     SIH012,2,19950830,       1538,    21.6000,    60.5805,       3108,   404.3,  14.0715,  35.9586,2,  35.9544,2,      1.0,2,  -999.0,9, -999.00,9, -999.00,9, -999.00,9, -999.00,9,-999.000,9,-999.000,9,  -999.0,9,  -999.0,9,-999.0000,9,-999.0000,9, -999.00,9, -999.00,9,  -999.0,9,    -9.0,-999.000,9,-999.000,    4021,-999.0000,  14.0120,-999.0000, -999.00
 316N145_11,       I01W,     860,          1,         23,     SIH001,2,19950830,       1538,    21.6000,    60.5805,       3108,   404.3,  14.0681,  35.9593,2,-999.0000,9,      1.0,2,     1.5,2, -999.00,9, -999.00,9, -999.00,9, -999.00,9,-999.000,9,-999.000,9,  -999.0,9,  -999.0,9,-999.0000,9,-999.0000,9, -999.00,9, -999.00,9,  -999.0,9,    -9.0,-999.000,9,-999.000,    4021,-999.0000,  14.0085,-999.0000, -999.00
 316N145_11,       I01W,     860,          1,         22,     SIH019,2,19950830,       1538,    21.6000,    60.5805,       3108,   404.3,  14.0688,  35.9556,2,-999.0000,9,      1.0,2,     3.0,2, -999.00,9, -999.00,9, -999.00,9, -999.00,9,-999.000,9,-999.000,9,  -999.0,9,  -999.0,9,-999.0000,9,-999.0000,9, -999.00,9, -999.00,9,  -999.0,9,    -9.0,-999.000,9,-999.000,    4021,-999.0000,  14.0092,-999.0000, -999.00
 316N145_11,       I01W,     860,          1,         14,     SIH010,2,19950830,       1538,    21.6000,    60.5805,       3108,   404.3,  14.0689,  35.9538,2,  35.9544,2,      1.0,2,  -999.0,9, -999.00,9, -999.00,9, -999.00,9, -999.00,9,-999.000,9,-999.000,9,  -999.0,9,  -999.0,9,-999.0000,9,-999.0000,9, -999.00,9, -999.00,9,  -999.0,9,    -9.0,-999.000,9,-999.000,    4021,-999.0000,  14.0094,-999.0000, -999.00
 316N145_11,       I01W,     860,          1,          6,     SIH018,2,19950830,       1538,    21.6000,    60.5805,       3108,   404.3,  14.0690,  35.9541,2,  35.9540,2,      1.0,2,  -999.0,9, -999.00,9, -999.00,9, -999.00,9, -999.00,9,-999.000,9,-999.000,9,  -999.0,9,  -999.0,9,-999.0000,9,-999.0000,9, -999.00,9, -999.00,9,  -999.0,9,    -9.0,-999.000,9,-999.000,    4022,-999.0000,  14.0095,-999.0000, -999.00
 316N145_11,       I01W,     860,          1,         32,     SIH028,2,19950830,       1538,    21.6000,    60.5805,       3108,   404.4,  14.0715,  35.9560,2,-999.0000,9,      1.0,2,  -999.0,9, -999.00,9, -999.00,9, -999.00,9, -999.00,9,-999.000,9,-999.000,9,  -999.0,9,  -999.0,9,-999.0000,9,-999.0000,9, -999.00,9, -999.00,9,  -999.0,9,    -9.0,-999.000,9,-999.000,    4022,-999.0000,  14.0119,-999.0000, -999.00
 316N145_11,       I01W,     860,          1,         36,     SIH024,2,19950830,       1538,    21.6000,    60.5805,       3108,   404.4,  14.0713,  35.9584,2,-999.0000,9,      1.0,2,  -999.0,9, -999.00,9, -999.00,9, -999.00,9, -999.00,9,-999.000,9,-999.000,9,  -999.0,9,  -999.0,9,-999.0000,9,-999.0000,9, -999.00,9, -999.00,9,  -999.0,9,    -9.0,-999.000,9,-999.000,    4022,-999.0000,  14.0117,-999.0000, -999.00
 316N145_11,       I01W,     860,          1,          9,     SIH015,2,19950830,       1538,    21.6000,    60.5805,       3108,   404.4,  14.0658,  35.9594,2,  35.9532,2,      1.0,2,  -999.0,9, -999.00,9, -999.00,9, -999.00,9, -999.00,9,-999.000,9,-999.000,9,  -999.0,9,  -999.0,9,-999.0000,9,-999.0000,9, -999.00,9, -999.00,9,  -999.0,9,    -9.0,-999.000,9,-999.000,    4022,-999.0000,  14.0063,-999.0000, -999.00
 316N145_11,       I01W,     860,          1,         13,     SIH011,2,19950830,       1538,    21.6000,    60.5805,       3108,   404.4,  14.0694,  35.9567,2,  35.9540,2,      1.0,2,  -999.0,9, -999.00,9, -999.00,9, -999.00,9, -999.00,9,-999.000,9,-999.000,9,  -999.0,9,  -999.0,9,-999.0000,9,-999.0000,9, -999.00,9, -999.00,9,  -999.0,9,    -9.0,-999.000,9,-999.000,    4023,-999.0000,  14.0098,-999.0000, -999.00
 316N145_11,       I01W,     860,          1,         29,     SIH031,2,19950830,       1538,    21.6000,    60.5805,       3108,   404.5,  14.0701,  35.9492,2,-999.0000,9,      1.0,2,  -999.0,9, -999.00,9, -999.00,9, -999.00,9, -999.00,9,-999.000,9,-999.000,9,  -999.0,9,  -999.0,9,-999.0000,9,-999.0000,9, -999.00,9, -999.00,9,  -999.0,9,    -9.0,-999.000,9,-999.000,    4023,-999.0000,  14.0105,-999.0000, -999.00
 316N145_11,       I01W,     860,          1,         33,     SIH027,2,19950830,       1538,    21.6000,    60.5805,       3108,   404.5,  14.0723,  35.9511,2,-999.0000,9,      1.0,2,  -999.0,9, -999.00,9, -999.00,9, -999.00,9, -999.00,9,-999.000,9,-999.000,9,  -999.0,9,  -999.0,9,-999.0000,9,-999.0000,9, -999.00,9, -999.00,9,  -999.0,9,    -9.0,-999.000,9,-999.000,    4023,-999.0000,  14.0127,-999.0000, -999.00
 316N145_11,       I01W,     860,          1,         30,     SIH030,2,19950830,       1538,    21.6000,    60.5805,       3108,   404.6,  14.0730,  35.9570,2,-999.0000,9,      1.0,2,  -999.0,9, -999.00,9, -999.00,9, -999.00,9, -999.00,9,-999.000,9,-999.000,9,  -999.0,9,  -999.0,9,-999.0000,9,-999.0000,9, -999.00,9, -999.00,9,  -999.0,9,    -9.0,-999.000,9,-999.000,    4024,-999.0000,  14.0134,-999.0000, -999.00
 316N145_11,       I01W,     860,          1,         18,     SIH006,2,19950830,       1538,    21.6000,    60.5805,       3108,   404.6,  14.0646,  35.9575,2,-999.0000,9,      1.0,2,    12.9,2, -999.00,9, -999.00,9, -999.00,9, -999.00,9,-999.000,9,-999.000,9,  -999.0,9,  -999.0,9,-999.0000,9,-999.0000,9, -999.00,9, -999.00,9,  -999.0,9,    -9.0,-999.000,9,-999.000,    4025,-999.0000,  14.0050,-999.0000, -999.00
 316N145_11,       I01W,     860,          1,          7,     SIH017,2,19950830,       1538,    21.6000,    60.5805,       3108,   404.7,  14.0620,  35.9576,2,  35.9552,2,      1.0,2,  -999.0,9, -999.00,9, -999.00,9, -999.00,9, -999.00,9,-999.000,9,-999.000,9,  -999.0,9,  -999.0,9,-999.0000,9,-999.0000,9, -999.00,9, -999.00,9,  -999.0,9,    -9.0,-999.000,9,-999.000,    4025,-999.0000,  14.0024,-999.0000, -999.00
 316N145_11,       I01W,     860,          1,          8,     SIH016,2,19950830,       1538,    21.6000,    60.5805,       3108,   404.8,  14.0576,  35.9594,2,  35.9530,2,      1.1,2,  -999.0,9, -999.00,9, -999.00,9, -999.00,9, -999.00,9,-999.000,9,-999.000,9,  -999.0,9,  -999.0,9,-999.0000,9,-999.0000,9, -999.00,9, -999.00,9,  -999.0,9,    -9.0,-999.000,9,-999.000,    4027,-999.0000,  13.9980,-999.0000, -999.00
 316N145_11,       I01W,     860,          1,         17,     SIH038,2,19950830,       1538,    21.6000,    60.5805,       3108,   405.1,  14.0575,  35.9595,2,-999.0000,9,   -999.0,9,     9.9,2, -999.00,9, -999.00,9, -999.00,9, -999.00,9,-999.000,9,-999.000,9,  -999.0,9,  -999.0,9,-999.0000,9,-999.0000,9, -999.00,9, -999.00,9,  -999.0,9,    -9.0,-999.000,9,-999.000,    4029,-999.0000,  13.9978,-999.0000, -999.00