BOTTLE,20211119CCHSIORKP
EXPOCODE,SECT_ID,STNNBR,CASTNO,SAMPNO,BTLNBR,BTLNBR_FLAG_W,DATE,TIME,LATITUDE,LONGITUDE,DEPTH,CTDPRS,CTDTMP,CTDSAL,CTDSAL_FLAG_W,SALNTY,SALNTY_FLAG_W,CTDOXY,CTDOXY_FLAG_W,OXYGEN,OXYGEN_FLAG_W,SILCAT,SILCAT_FLAG_W,NITRAT,NITRAT_FLAG_W,NITRIT,NITRIT_FLAG_W,PHSPHT,PHSPHT_FLAG_W,CFC-11,CFC-11_FLAG_W,CFC-12,CFC-12_FLAG_W,TCARBN,TCARBN_FLAG_W,ALKALI,ALKALI_FLAG_W,TRITUM,TRITUM_FLAG_W,HELIUM,HELIUM_FLAG_W,DELHE3,DELHE3_FLAG_W,DELC13,DELC13_FLAG_W,DELC14,DELC14_FLAG_W,C14ERR,NEON,NEON_FLAG_W,NEONER,CTDRAW,TRITER,THETA,HELIER,DELHER
,,,,,,,,,,,METERS,DBAR,ITS-90,PSS-78,,PSS-78,,UMOL/KG,,UMOL/KG,,UMOL/KG,,UMOL/KG,,UMOL/KG,,UMOL/KG,,PMOL/KG,,PMOL/KG,,UMOL/KG,,UMOL/KG,,TU,,NMOL/KG,,PERCNT,,/MILLE,,/MILLE,,/MILLE,NMOL/KG,,NMOL/KG,DBAR,TU,DEG C,NMOL/KG,PERCNT
 316N145_11,       I01W,     960,          1,         23,     SIH001,2,19950927,       2017,     6.7000,    79.5055,       1630,     4.5,  28.2576,  35.1243,2,  35.1252,2,    206.3,2,   211.3,2,    2.93,2,    0.06,2,    0.00,2,    0.20,2,   1.633,2,   0.956,2,  1951.1,2,  2299.9,2,-999.0000,9,-999.0000,9, -999.00,9, -999.00,9,  -999.0,9,    -9.0,-999.000,9,-999.000,      33,-999.0000,  28.2566,-999.0000, -999.00
 316N145_11,       I01W,     960,          1,         22,     SIH019,2,19950927,       2017,     6.7000,    79.5055,       1630,    14.9,  28.2672,  35.1226,2,  35.1258,2,    212.1,2,   213.0,2,    3.13,2,    0.06,2,    0.00,2,    0.21,2,-999.000,9,-999.000,9,  1951.3,2,  2301.6,2,-999.0000,9,-999.0000,9, -999.00,9, -999.00,9,  -999.0,9,    -9.0,-999.000,9,-999.000,     138,-999.0000,  28.2636,-999.0000, -999.00
 316N145_11,       I01W,     960,          1,         21,     SIH025,2,19950927,       2017,     6.7000,    79.5055,       1630,    44.7,  27.3919,  35.2414,2,  35.2796,2,    199.8,2,   184.7,2,    4.75,2,    2.43,2,    0.68,2,    0.39,2,-999.000,9,-999.000,9,  1984.5,2,  2307.9,2,-999.0000,9,-999.0000,9, -999.00,9, -999.00,9,  -999.0,9,    -9.0,-999.000,9,-999.000,     436,-999.0000,  27.3815,-999.0000, -999.00
 316N145_11,       I01W,     960,          1,         20,     SIH004,2,19950927,       2017,     6.7000,    79.5055,       1630,    74.0,  24.5125,  35.5779,2,  35.5695,2,     91.3,2,    92.9,2,    9.09,2,   13.66,2,    0.08,2,    1.08,2,   1.442,2,   0.832,2,  2088.0,2,  2323.6,2,-999.0000,9,-999.0000,9, -999.00,9, -999.00,9,  -999.0,9,    -9.0,-999.000,9,-999.000,     729,-999.0000,  24.4967,-999.0000, -999.00
 316N145_11,       I01W,     960,          1,         19,     SIH005,2,19950927,       2017,     6.7000,    79.5055,       1630,   104.5,  20.1150,  35.0751,2,  35.0774,2,     37.8,2,    40.0,2,   18.68,2,   23.19,2,    0.03,2,    1.69,2,-999.000,9,-999.000,9,  2150.1,2,  2301.8,2,-999.0000,9,-999.0000,9, -999.00,9, -999.00,9,  -999.0,9,    -9.0,-999.000,9,-999.000,    1033,-999.0000,  20.0956,-999.0000, -999.00
 316N145_11,       I01W,     960,          1,         18,     SIH006,2,19950927,       2017,     6.7000,    79.5055,       1630,   134.2,  17.1374,  35.0645,2,  35.0522,2,     26.8,2,    28.7,2,   23.58,2,   26.65,2,    0.01,2,    1.92,2,-999.000,9,-999.000,9,  2185.5,2,  2308.0,2,-999.0000,9,-999.0000,9, -999.00,9, -999.00,9,  -999.0,9,    -9.0,-999.000,9,-999.000,    1330,-999.0000,  17.1152,-999.0000, -999.00
 316N145_11,       I01W,     960,          1,         17,     SIH038,2,19950927,       2017,     6.7000,    79.5055,       1630,   174.5,  14.8850,  35.0813,2,  35.0911,2,     12.4,2,    17.2,2,   27.75,2,   29.63,2,    0.02,2,    2.14,2,-999.000,9,-999.000,9,  2218.5,2,  2313.4,2,-999.0000,9,-999.0000,9, -999.00,9, -999.00,9,  -999.0,9,    -9.0,-999.000,9,-999.000,    1733,-999.0000,  14.8587,-999.0000, -999.00
 316N145_11,       I01W,     960,          1,         16,     SIH008,2,19950927,       2017,     6.7000,    79.5055,       1630,   224.8,  12.7047,  35.0977,2,  35.1012,2,     24.1,2,    21.4,2,   31.21,2,   31.28,2,    0.01,2,    2.24,2,   0.371,2,   0.190,2,  2235.7,2,  2320.8,2,-999.0000,9,-999.0000,9, -999.00,9, -999.00,9,  -999.0,9,    -9.0,-999.000,9,-999.000,    2237,-999.0000,  12.6742,-999.0000, -999.00
 316N145_11,       I01W,     960,          1,         15,     SIH009,2,19950927,       2017,     6.7000,    79.5055,       1630,   274.7,  12.0774,  35.0944,2,  35.0951,2,     16.7,2,    15.7,2,   33.58,2,   32.64,2,    0.01,2,    2.32,2,-999.000,9,-999.000,9,  2247.3,2,  2320.0,2,-999.0000,9,-999.0000,9, -999.00,9, -999.00,9,  -999.0,9,    -9.0,-999.000,9,-999.000,    2736,-999.0000,  12.0413,-999.0000, -999.00
 316N145_11,       I01W,     960,          1,         14,     SIH010,2,19950927,       2017,     6.7000,    79.5055,       1630,   350.0,  11.1433,  35.0868,2,  35.0866,2,     12.8,2,    13.7,2,   39.04,2,   34.17,2,    0.00,2,    2.42,2,-999.000,9,-999.000,9,  2259.3,2,  2325.2,2,-999.0000,9,-999.0000,9, -999.00,9, -999.00,9,  -999.0,9,    -9.0,-999.000,9,-999.000,    3489,-999.0000,  11.0994,-999.0000, -999.00
 316N145_11,       I01W,     960,          1,         13,     SIH011,2,19950927,       2017,     6.7000,    79.5055,       1630,   450.1,  10.4478,  35.0938,2,  35.0931,2,     24.4,2,    25.0,2,   43.40,2,   34.11,2,    0.00,2,    2.45,2,-999.000,9,-999.000,9,  2259.7,2,  2330.9,2,-999.0000,9,-999.0000,9, -999.00,9, -999.00,9,  -999.0,9,    -9.0,-999.000,9,-999.000,    4490,-999.0000,  10.3934,-999.0000, -999.00
 316N145_11,       I01W,     960,          1,         12,     SIH012,2,19950927,       2017,     6.7000,    79.5055,       1630,   550.1,   9.6876,  35.0634,2,  35.0618,2,     16.9,2,    16.3,2,   53.58,2,   35.86,2,    0.00,2,    2.62,2,-999.000,9,-999.000,9,  2277.1,2,  2335.7,2,-999.0000,9,-999.0000,9, -999.00,9, -999.00,9,  -999.0,9,    -9.0,-999.000,9,-999.000,    5491,-999.0000,   9.6238,-999.0000, -999.00
 316N145_11,       I01W,     960,          1,         11,     SI9426,2,19950927,       2017,     6.7000,    79.5055,       1630,   649.0,   9.0079,  35.0369,2,  35.0376,2,     22.0,2,    21.7,2,   60.67,2,   36.40,2,    0.00,2,    2.67,2,-999.000,9,-999.000,9,  2283.9,2,  2344.9,2,-999.0000,9,-999.0000,9, -999.00,9, -999.00,9,  -999.0,9,    -9.0,-999.000,9,-999.000,    6481,-999.0000,   8.9355,-999.0000, -999.00
 316N145_11,       I01W,     960,          1,         10,     SIH014,2,19950927,       2017,     6.7000,    79.5055,       1630,   749.2,   8.4082,  35.0226,2,  35.0197,2,     24.7,2,    24.8,2,   68.51,2,   36.95,2,    0.00,2,    2.73,2,   0.006,2,   0.003,2,  2293.0,2,  2354.4,2,-999.0000,9,-999.0000,9, -999.00,9, -999.00,9,  -999.0,9,    -9.0,-999.000,9,-999.000,    7483,-999.0000,   8.3274,-999.0000, -999.00
 316N145_11,       I01W,     960,          1,          9,     SIH015,2,19950927,       2017,     6.7000,    79.5055,       1630,   850.9,   7.7174,  34.9883,2,  34.9833,2,     32.2,2,    31.3,2,   76.35,2,   37.22,2,    0.00,2,    2.75,2,-999.000,9,-999.000,9,  2298.5,2,  2362.8,2,-999.0000,9,-999.0000,9, -999.00,9, -999.00,9,  -999.0,9,    -9.0,-999.000,9,-999.000,    8500,-999.0000,   7.6296,-999.0000, -999.00
 316N145_11,       I01W,     960,          1,          8,     SIH016,2,19950927,       2017,     6.7000,    79.5055,       1630,   952.1,   7.0839,  34.9584,2,  34.9593,2,     39.0,2,    38.2,2,   83.83,2,   37.50,2,    0.00,2,    2.77,2,-999.000,9,-999.000,9,  2305.6,2,  2365.2,2,-999.0000,9,-999.0000,9, -999.00,9, -999.00,9,  -999.0,9,    -9.0,-999.000,9,-999.000,    9513,-999.0000,   6.9893,-999.0000, -999.00
 316N145_11,       I01W,     960,          1,          7,     SIH017,2,19950927,       2017,     6.7000,    79.5055,       1630,  1052.8,   6.4842,  34.9339,2,  34.9335,2,     47.6,2,    46.4,2,   90.40,2,   37.55,2,    0.00,2,    2.77,2,-999.000,9,-999.000,9,  -999.0,9,  -999.0,9,-999.0000,9,-999.0000,9, -999.00,9, -999.00,9,  -999.0,9,    -9.0,-999.000,9,-999.000,   10520,-999.0000,   6.3837,-999.0000, -999.00
 316N145_11,       I01W,     960,          1,          6,     SIH018,2,19950927,       2017,     6.7000,    79.5055,       1630,  1146.7,   5.9662,  34.9165,2,  34.9150,2,     54.1,2,    53.8,2,   96.63,2,   37.65,2,    0.00,2,    2.77,2,  -0.003,2,  -0.001,2,  -999.0,9,  -999.0,9,-999.0000,9,-999.0000,9, -999.00,9, -999.00,9,  -999.0,9,    -9.0,-999.000,9,-999.000,   11460,-999.0000,   5.8604,-999.0000, -999.00
 316N145_11,       I01W,     960,          1,          5,     SIH002,2,19950927,       2017,     6.7000,    79.5055,       1630,  1247.6,   5.4769,  34.8924,2,  34.8920,2,     63.4,2,    62.7,2,  102.12,2,   37.55,2,    0.00,2,    2.77,2,-999.000,9,-999.000,9,  -999.0,9,  -999.0,9,-999.0000,9,-999.0000,9, -999.00,9, -999.00,9,  -999.0,9,    -9.0,-999.000,9,-999.000,   12469,-999.0000,   5.3655,-999.0000, -999.00
 316N145_11,       I01W,     960,          1,          4,     SIH020,2,19950927,       2017,     6.7000,    79.5055,       1630,  1348.1,   5.1302,  34.8795,2,  34.8788,2,     68.8,2,    68.3,2,  105.81,2,   37.32,2,    0.00,2,    2.75,2,-999.000,9,-999.000,9,  -999.0,9,  -999.0,9,-999.0000,9,-999.0000,9, -999.00,9, -999.00,9,  -999.0,9,    -9.0,-999.000,9,-999.000,   13474,-999.0000,   5.0124,-999.0000, -999.00
 316N145_11,       I01W,     960,          1,          3,     SIH021,2,19950927,       2017,     6.7000,    79.5055,       1630,  1454.4,   4.7831,  34.8655,2,  34.8652,2,     75.8,2,    75.4,2,  109.87,2,   37.27,2,    0.00,2,    2.74,2,-999.000,9,-999.000,9,  2319.7,2,  2391.7,2,-999.0000,9,-999.0000,9, -999.00,9, -999.00,9,  -999.0,9,    -9.0,-999.000,9,-999.000,   14539,-999.0000,   4.6587,-999.0000, -999.00
 316N145_11,       I01W,     960,          1,          2,     SIH022,2,19950927,       2017,     6.7000,    79.5055,       1630,  1600.9,   4.0976,  34.8377,2,  34.8377,2,     88.3,2,    87.6,2,  117.01,2,   37.00,2,    0.00,2,    2.69,2,  -0.002,2,  -0.002,2,  -999.0,9,  -999.0,9,-999.0000,9,-999.0000,9, -999.00,9, -999.00,9,  -999.0,9,    -9.0,-999.000,9,-999.000,   16004,-999.0000,   3.9673,-999.0000, -999.00
 316N145_11,       I01W,     960,          1,          1,     SIH023,2,19950927,       2017,     6.7000,    79.5055,       1630,  1655.2,   3.9057,  34.8299,2,  34.8308,2,     92.9,2,    92.3,2,  118.11,2,   36.94,2,    0.00,2,    2.70,2,  -0.003,2,  -0.002,2,  2322.5,2,  2401.8,2,-999.0000,9,-999.0000,9, -999.00,9, -999.00,9,  -999.0,9,    -9.0,-999.000,9,-999.000,   16547,-999.0000,   3.7727,-999.0000, -999.00
 316N145_11,       I01W,     961,          1,         18,     SIH006,2,19950927,       2300,     6.8000,    79.6028,        705,     8.2,  28.1196,  35.1898,2,  35.1906,2,    206.5,2,   206.4,2,    3.71,2,    0.29,2,    0.07,2,    0.29,2,   1.648,2,   0.975,2,  1968.0,2,  2305.9,2,-999.0000,9,-999.0000,9, -999.00,9, -999.00,9,  -999.0,9,    -9.0,-999.000,9,-999.000,      77,-999.0000,  28.1178,-999.0000, -999.00
 316N145_11,       I01W,     961,          1,         16,     SIH008,2,19950927,       2300,     6.8000,    79.6028,        705,    27.8,  28.0979,  35.1920,9,-999.0000,9,    206.1,2,  -999.0,9, -999.00,9, -999.00,9, -999.00,9, -999.00,9,-999.000,9,-999.000,9,  -999.0,9,  -999.0,9,-999.0000,9,-999.0000,9, -999.00,9, -999.00,9,  -999.0,9,    -9.0,-999.000,9,-999.000,     272,-999.0000,  28.0913,-999.0000, -999.00
 316N145_11,       I01W,     961,          1,         17,     SIH038,9,19950927,       2300,     6.8000,    79.6028,        705,    27.9,  28.0858,  35.1881,2,  35.1914,2,    206.2,2,   208.2,2,    3.70,2,    0.47,2,    0.12,2,    0.30,2,   1.621,2,   0.957,2,  1969.2,2,  2306.9,2,-999.0000,9,-999.0000,9, -999.00,9, -999.00,9,  -999.0,9,    -9.0,-999.000,9,-999.000,     274,-999.0000,  28.0792,-999.0000, -999.00
 316N145_11,       I01W,     961,          1,         15,     SIH009,2,19950927,       2300,     6.8000,    79.6028,        705,    58.1,  26.8835,  35.7247,2,  35.7264,2,    142.7,2,   142.8,2,    6.87,2,    7.29,2,    0.15,2,    0.67,2,-999.000,9,-999.000,9,  2037.0,2,  2329.2,2,-999.0000,9,-999.0000,9, -999.00,9, -999.00,9,  -999.0,9,    -9.0,-999.000,9,-999.000,     575,-999.0000,  26.8701,-999.0000, -999.00
 316N145_11,       I01W,     961,          1,         14,     SIH010,2,19950927,       2300,     6.8000,    79.6028,        705,    88.2,  22.3879,  35.2988,2,  35.3021,2,     76.5,2,    67.3,2,   13.05,2,   18.31,2,    0.10,2,    1.36,2,   1.316,2,   0.732,2,  2116.5,2,  2307.4,2,-999.0000,9,-999.0000,9, -999.00,9, -999.00,9,  -999.0,9,    -9.0,-999.000,9,-999.000,     877,-999.0000,  22.3702,-999.0000, -999.00
 316N145_11,       I01W,     961,          1,         13,     SIH011,2,19950927,       2300,     6.8000,    79.6028,        705,   117.6,  18.0269,  35.2038,2,  35.2024,2,     42.5,2,    39.6,2,   19.60,2,   24.75,2,    0.02,2,    1.77,2,-999.000,9,-999.000,9,  2174.8,2,  2309.8,2,-999.0000,9,-999.0000,9, -999.00,9, -999.00,9,  -999.0,9,    -9.0,-999.000,9,-999.000,    1171,-999.0000,  18.0067,-999.0000, -999.00
 316N145_11,       I01W,     961,          1,         12,     SIH012,2,19950927,       2300,     6.8000,    79.6028,        705,   148.2,  15.5587,  35.0638,2,  35.0675,2,     16.7,2,    16.2,2,   26.70,2,   29.09,2,    0.01,2,    2.10,2,   0.615,2,   0.323,2,  2209.4,2,  2307.0,2,-999.0000,9,-999.0000,9, -999.00,9, -999.00,9,  -999.0,9,    -9.0,-999.000,9,-999.000,    1477,-999.0000,  15.5357,-999.0000, -999.00
 316N145_11,       I01W,     961,          1,         11,     SI9426,2,19950927,       2300,     6.8000,    79.6028,        705,   197.8,  13.2715,  35.1023,2,  35.0988,2,     22.9,2,    21.8,2,   29.02,2,   30.77,2,    0.03,2,    2.19,2,-999.000,9,-999.000,9,  2229.4,2,  2316.0,2,-999.0000,9,-999.0000,9, -999.00,9, -999.00,9,  -999.0,9,    -9.0,-999.000,9,-999.000,    1972,-999.0000,  13.2439,-999.0000, -999.00
 316N145_11,       I01W,     961,          1,         10,     SIH014,2,19950927,       2300,     6.8000,    79.6028,        705,   248.5,  11.9136,  35.1166,2,  35.1077,2,     23.1,2,    28.3,2,   31.71,2,   31.76,2,    0.04,2,    2.25,2,-999.000,9,-999.000,9,  2238.8,2,  2315.7,2,-999.0000,9,-999.0000,9, -999.00,9, -999.00,9,  -999.0,9,    -9.0,-999.000,9,-999.000,    2480,-999.0000,  11.8812,-999.0000, -999.00
 316N145_11,       I01W,     961,          1,          9,     SIH015,2,19950927,       2300,     6.8000,    79.6028,        705,   297.8,  11.4885,  35.1082,2,  35.1057,2,     29.1,2,    31.4,2,   33.51,2,   32.22,2,    0.02,2,    2.28,2,-999.000,9,-999.000,9,  2241.9,2,  2320.3,2,-999.0000,9,-999.0000,9, -999.00,9, -999.00,9,  -999.0,9,    -9.0,-999.000,9,-999.000,    2973,-999.0000,  11.4506,-999.0000, -999.00
 316N145_11,       I01W,     961,          1,          8,     SIH016,2,19950927,       2300,     6.8000,    79.6028,        705,   348.6,  11.1117,  35.1068,2,  35.1057,2,     28.3,2,    32.4,2,   35.48,2,   32.61,2,    0.01,2,    2.31,2,   0.235,2,   0.122,2,  -999.0,9,  -999.0,9,-999.0000,9,-999.0000,9, -999.00,9, -999.00,9,  -999.0,9,    -9.0,-999.000,9,-999.000,    3482,-999.0000,  11.0681,-999.0000, -999.00
 316N145_11,       I01W,     961,          1,          7,     SIH017,2,19950927,       2300,     6.8000,    79.6028,        705,   398.6,  10.8654,  35.1021,2,  35.1014,2,     27.6,2,    28.0,2,   38.18,2,   33.33,2,    0.01,2,    2.37,2,-999.000,9,-999.000,9,  -999.0,9,  -999.0,9,-999.0000,9,-999.0000,9, -999.00,9, -999.00,9,  -999.0,9,    -9.0,-999.000,9,-999.000,    3981,-999.0000,  10.8161,-999.0000, -999.00
 316N145_11,       I01W,     961,          1,          6,     SIH018,2,19950927,       2300,     6.8000,    79.6028,        705,   448.8,  10.4148,  35.0848,2,  35.0913,2,     24.1,2,    23.8,2,   42.85,2,   34.38,2,   -0.01,2,    2.47,2,-999.000,9,-999.000,9,  -999.0,9,  -999.0,9,-999.0000,9,-999.0000,9, -999.00,9, -999.00,9,  -999.0,9,    -9.0,-999.000,9,-999.000,    4484,-999.0000,  10.3606,-999.0000, -999.00
 316N145_11,       I01W,     961,          1,          5,     SIH002,2,19950927,       2300,     6.8000,    79.6028,        705,   498.7,   9.9342,  35.0674,2,  35.0689,2,     21.7,2,    20.9,2,   48.42,2,   35.37,2,   -0.01,2,    2.55,2,-999.000,9,-999.000,9,  -999.0,9,  -999.0,9,-999.0000,9,-999.0000,9, -999.00,9, -999.00,9,  -999.0,9,    -9.0,-999.000,9,-999.000,    4983,-999.0000,   9.8756,-999.0000, -999.00
 316N145_11,       I01W,     961,          1,          4,     SIH020,2,19950927,       2300,     6.8000,    79.6028,        705,   600.2,   9.3869,  35.0481,2,  35.0478,2,     22.2,2,    21.2,2,   55.07,2,   36.08,2,    0.01,2,    2.62,2,   0.041,2,   0.020,2,  -999.0,9,  -999.0,9,-999.0000,9,-999.0000,9, -999.00,9, -999.00,9,  -999.0,9,    -9.0,-999.000,9,-999.000,    5998,-999.0000,   9.3186,-999.0000, -999.00
 316N145_11,       I01W,     961,          1,          3,     SIH021,2,19950927,       2300,     6.8000,    79.6028,        705,   701.2,   8.7218,  35.0250,2,  35.0222,2,     24.7,2,    24.0,2,   63.35,2,   36.81,2,    0.00,2,    2.69,2,-999.000,9,-999.000,9,  -999.0,9,  -999.0,9,-999.0000,9,-999.0000,9, -999.00,9, -999.00,9,  -999.0,9,    -9.0,-999.000,9,-999.000,    7008,-999.0000,   8.6448,-999.0000, -999.00
 316N145_11,       I01W,     961,          1,          2,     SIH022,2,19950927,       2300,     6.8000,    79.6028,        705,   730.0,   8.4017,  35.0158,2,  35.0110,2,     25.8,2,    25.8,2,   67.17,2,   37.13,2,    0.01,2,    2.73,2,-999.000,9,-999.000,9,  -999.0,9,  -999.0,9,-999.0000,9,-999.0000,9, -999.00,9, -999.00,9,  -999.0,9,    -9.0,-999.000,9,-999.000,    7297,-999.0000,   8.3231,-999.0000, -999.00
 316N145_11,       I01W,     961,          1,          1,     SIH023,2,19950927,       2300,     6.8000,    79.6028,        705,   831.3,   7.5770,  34.9829,2,  34.9784,2,     30.6,2,    34.3,2,   77.02,2,   37.47,2,    0.00,2,    2.76,2,   0.006,2,   0.002,2,  -999.0,9,  -999.0,9,-999.0000,9,-999.0000,9, -999.00,9, -999.00,9,  -999.0,9,    -9.0,-999.000,9,-999.000,    8310,-999.0000,   7.4920,-999.0000, -999.00