BOTTLE,20211119CCHSIORKP
EXPOCODE,SECT_ID,STNNBR,CASTNO,SAMPNO,BTLNBR,BTLNBR_FLAG_W,DATE,TIME,LATITUDE,LONGITUDE,DEPTH,CTDPRS,CTDTMP,CTDSAL,CTDSAL_FLAG_W,SALNTY,SALNTY_FLAG_W,CTDOXY,CTDOXY_FLAG_W,OXYGEN,OXYGEN_FLAG_W,SILCAT,SILCAT_FLAG_W,NITRAT,NITRAT_FLAG_W,NITRIT,NITRIT_FLAG_W,PHSPHT,PHSPHT_FLAG_W,CFC-11,CFC-11_FLAG_W,CFC-12,CFC-12_FLAG_W,TCARBN,TCARBN_FLAG_W,ALKALI,ALKALI_FLAG_W,TRITUM,TRITUM_FLAG_W,HELIUM,HELIUM_FLAG_W,DELHE3,DELHE3_FLAG_W,DELC13,DELC13_FLAG_W,DELC14,DELC14_FLAG_W,C14ERR,NEON,NEON_FLAG_W,NEONER,CTDRAW,TRITER,THETA,HELIER,DELHER
,,,,,,,,,,,METERS,DBAR,ITS-90,PSS-78,,PSS-78,,UMOL/KG,,UMOL/KG,,UMOL/KG,,UMOL/KG,,UMOL/KG,,UMOL/KG,,PMOL/KG,,PMOL/KG,,UMOL/KG,,UMOL/KG,,TU,,NMOL/KG,,PERCNT,,/MILLE,,/MILLE,,/MILLE,NMOL/KG,,NMOL/KG,DBAR,TU,DEG C,NMOL/KG,PERCNT
 316N145_11,       I01W,     921,          1,         34,     SIH026,2,19950917,       0629,     9.0083,    59.4222,       3615,     9.8,  26.8886,  35.9623,2,-999.0000,9,    216.9,2,  -999.0,9, -999.00,9, -999.00,9, -999.00,9, -999.00,9,-999.000,9,-999.000,9,  -999.0,9,  -999.0,9,-999.0000,9,-999.0000,9, -999.00,9, -999.00,9,  -999.0,9,    -9.0,-999.000,9,-999.000,      91,-999.0000,  26.8863,-999.0000, -999.00
 316N145_11,       I01W,     921,          1,         33,     SIH027,2,19950917,       0629,     9.0083,    59.4222,       3615,    29.9,  26.6829,  35.9733,2,  35.9874,2,    217.6,2,   218.5,2,    2.97,2,    1.45,2,    0.29,2,    0.39,2,   1.761,2,   1.007,2,  2015.8,2,  2342.8,2,-999.0000,9,-999.0000,9, -999.00,9, -999.00,9,  -999.0,9,    -9.0,-999.000,9,-999.000,     293,-999.0000,  26.6761,-999.0000, -999.00
 316N145_11,       I01W,     921,          1,         32,     SIH028,3,19950917,       0629,     9.0083,    59.4222,       3615,    59.8,  26.3491,  35.9828,3,  35.9846,2,    202.5,2,   213.6,2,    3.15,2,    2.06,2,    0.50,2,    0.46,2,   1.762,2,   1.010,2,  2024.0,2,  2344.5,2,-999.0000,9,-999.0000,9, -999.00,9, -999.00,9,  -999.0,9,    -9.0,-999.000,9,-999.000,     591,-999.0000,  26.3356,-999.0000, -999.00
 316N145_11,       I01W,     921,          1,         31,     SIH029,2,19950917,       0629,     9.0083,    59.4222,       3615,    89.6,  26.2532,  36.0064,2,  36.0086,2,    193.7,2,   204.9,2,    3.15,2,    2.63,2,    1.10,2,    0.52,2,-999.000,9,-999.000,9,  2029.4,2,  2343.3,2,-999.0000,9,-999.0000,9, -999.00,9, -999.00,9,  -999.0,9,    -9.0,-999.000,9,-999.000,     889,-999.0000,  26.2330,-999.0000, -999.00
 316N145_11,       I01W,     921,          1,         30,     SIH030,2,19950917,       0629,     9.0083,    59.4222,       3615,   119.8,  25.8178,  36.0082,2,  35.9157,2,    180.4,2,   186.5,2,    4.41,2,    5.68,2,    0.33,2,    0.65,2,   1.745,2,   0.995,2,  2045.3,2,  2340.3,2,-999.0000,9,-999.0000,9, -999.00,9, -999.00,9,  -999.0,9,    -9.0,-999.000,9,-999.000,    1191,-999.0000,  25.7911,-999.0000, -999.00
 316N145_11,       I01W,     921,          1,         29,     SIH031,2,19950917,       0629,     9.0083,    59.4222,       3615,   149.9,  20.8587,  35.6056,2,  35.6161,2,    116.0,2,    78.4,2,   12.34,2,   19.42,2,    0.03,2,    1.52,2,-999.000,9,-999.000,9,  2151.0,2,  2323.3,3,-999.0000,9,-999.0000,9, -999.00,9, -999.00,9,  -999.0,9,    -9.0,-999.000,9,-999.000,    1493,-999.0000,  20.8301,-999.0000, -999.00
 316N145_11,       I01W,     921,          1,         28,     SIH032,2,19950917,       0629,     9.0083,    59.4222,       3615,   200.0,  16.5071,  35.5261,2,  35.5364,2,     22.5,2,    20.3,2,   21.70,2,   25.59,2,    0.02,2,    2.13,2,   0.857,2,   0.481,2,  2225.6,2,  2325.9,2,-999.0000,9,-999.0000,9, -999.00,9, -999.00,9,  -999.0,9,    -9.0,-999.000,9,-999.000,    1994,-999.0000,  16.4747,-999.0000, -999.00
 316N145_11,       I01W,     921,          1,         27,     SIH033,2,19950917,       0629,     9.0083,    59.4222,       3615,   249.7,  14.5748,  35.4730,2,  35.4764,2,     23.5,2,    22.3,2,   24.96,2,   26.73,2,    0.01,2,    2.17,2,-999.000,9,-999.000,9,  2235.8,2,  2325.6,2,-999.0000,9,-999.0000,9, -999.00,9, -999.00,9,  -999.0,9,    -9.0,-999.000,9,-999.000,    2490,-999.0000,  14.5375,-999.0000, -999.00
 316N145_11,       I01W,     921,          1,         26,     SIH037,2,19950917,       0629,     9.0083,    59.4222,       3615,   300.3,  12.9084,  35.3407,2,  35.3435,2,     34.0,2,    34.6,2,   26.94,2,   28.46,2,    0.01,2,    2.15,2,   0.513,2,   0.271,2,  2235.3,2,  2321.0,2,-999.0000,9,-999.0000,9, -999.00,9, -999.00,9,  -999.0,9,    -9.0,-999.000,9,-999.000,    2997,-999.0000,  12.8670,-999.0000, -999.00
 316N145_11,       I01W,     921,          1,         25,     SI9446,2,19950917,       0629,     9.0083,    59.4222,       3615,   399.9,  11.4583,  35.2502,2,  35.2507,2,     37.7,2,    43.3,2,   32.36,2,   30.39,2,    0.01,2,    2.24,2,-999.000,9,-999.000,9,  2240.7,2,  2321.0,2,-999.0000,9,-999.0000,9, -999.00,9, -999.00,9,  -999.0,9,    -9.0,-999.000,9,-999.000,    3993,-999.0000,  11.4072,-999.0000, -999.00
 316N145_11,       I01W,     921,          1,         24,     SIH036,2,19950917,       0629,     9.0083,    59.4222,       3615,   500.5,  10.7402,  35.2762,2,  35.2771,2,     24.7,2,    28.9,2,   41.91,2,   32.94,2,    0.01,2,    2.49,2,   0.132,3,   0.064,2,  -999.0,9,  -999.0,9,-999.0000,9,-999.0000,9, -999.00,9, -999.00,9,  -999.0,9,    -9.0,-999.000,9,-999.000,    5000,-999.0000,  10.6784,-999.0000, -999.00
 316N145_11,       I01W,     921,          1,         23,     SIH001,2,19950917,       0629,     9.0083,    59.4222,       3615,   600.8,  10.2026,  35.2870,2,  35.2893,2,     20.8,2,    20.0,2,   50.57,2,   34.27,2,    0.01,2,    2.62,2,-999.000,9,-999.000,9,  2274.1,2,  2340.1,2,-999.0000,9,-999.0000,9, -999.00,9, -999.00,9,  -999.0,9,    -9.0,-999.000,9,-999.000,    6003,-999.0000,  10.1303,-999.0000, -999.00
 316N145_11,       I01W,     921,          1,         22,     SIH019,2,19950917,       0629,     9.0083,    59.4222,       3615,   700.1,  10.5066,  35.4800,2,  35.4795,2,     19.9,2,    19.0,2,   53.99,2,   33.41,2,    0.01,2,    2.62,2,-999.000,9,-999.000,9,  -999.0,9,  -999.0,9,-999.0000,9,-999.0000,9, -999.00,9, -999.00,9,  -999.0,9,    -9.0,-999.000,9,-999.000,    6996,-999.0000,  10.4203,-999.0000, -999.00
 316N145_11,       I01W,     921,          1,         21,     SIH025,2,19950917,       0629,     9.0083,    59.4222,       3615,   800.9,   9.7001,  35.4359,2,  35.4356,2,     21.1,2,    20.3,2,   63.01,2,   34.73,2,    0.01,2,    2.69,2,   0.067,2,   0.033,2,  2289.1,2,  2357.6,3,-999.0000,9,-999.0000,9, -999.00,9, -999.00,9,  -999.0,9,    -9.0,-999.000,9,-999.000,    8005,-999.0000,   9.6055,-999.0000, -999.00
 316N145_11,       I01W,     921,          1,         20,     SIH004,2,19950917,       0629,     9.0083,    59.4222,       3615,   900.1,   8.8910,  35.3298,2,  35.3287,2,     24.0,2,    23.8,2,   69.33,2,   35.81,2,    0.00,2,    2.75,2,-999.000,9,-999.000,9,  -999.0,9,  -999.0,9,-999.0000,9,-999.0000,9, -999.00,9, -999.00,9,  -999.0,9,    -9.0,-999.000,9,-999.000,    8998,-999.0000,   8.7895,-999.0000, -999.00
 316N145_11,       I01W,     921,          1,         19,     SIH005,3,19950917,       0629,     9.0083,    59.4222,       3615,   999.2,   8.1995,  35.2415,3,  35.2412,2,     29.1,2,    27.6,2,   75.11,2,   36.53,2,    0.00,2,    2.79,2,-999.000,9,-999.000,9,  2301.9,2,  2365.4,2,-999.0000,9,-999.0000,9, -999.00,9, -999.00,9,  -999.0,9,    -9.0,-999.000,9,-999.000,    9988,-999.0000,   8.0915,-999.0000, -999.00
 316N145_11,       I01W,     921,          1,         18,     SIH006,2,19950917,       0629,     9.0083,    59.4222,       3615,  1100.5,   7.5090,  35.1795,2,  35.1805,2,     34.8,2,    32.6,2,   81.98,2,   37.10,2,    0.00,2,    2.82,2,   0.013,2,   0.005,2,  -999.0,9,  -999.0,9,-999.0000,9,-999.0000,9, -999.00,9, -999.00,9,  -999.0,9,    -9.0,-999.000,9,-999.000,   11002,-999.0000,   7.3948,-999.0000, -999.00
 316N145_11,       I01W,     921,          1,         17,     SIH038,2,19950917,       0629,     9.0083,    59.4222,       3615,  1201.0,   6.7711,  35.1167,2,  35.1167,2,     41.7,2,    39.5,2,   89.02,2,   37.56,2,    0.00,2,    2.85,2,-999.000,9,-999.000,9,  2315.5,2,  2376.9,2,-999.0000,9,-999.0000,9, -999.00,9, -999.00,9,  -999.0,9,    -9.0,-999.000,9,-999.000,   12008,-999.0000,   6.6523,-999.0000, -999.00
 316N145_11,       I01W,     921,          1,         16,     SIH008,2,19950917,       0629,     9.0083,    59.4222,       3615,  1301.5,   5.7807,  35.0237,2,  35.0254,2,     53.4,2,    54.8,2,   97.88,2,   37.62,2,    0.00,2,    2.83,2,-999.000,9,-999.000,9,  -999.0,9,  -999.0,9,-999.0000,9,-999.0000,9, -999.00,9, -999.00,9,  -999.0,9,    -9.0,-999.000,9,-999.000,   13013,-999.0000,   5.6608,-999.0000, -999.00
 316N145_11,       I01W,     921,          1,         15,     SIH009,2,19950917,       0629,     9.0083,    59.4222,       3615,  1401.6,   5.0744,  34.9695,2,  34.9687,2,     63.3,2,    65.9,2,  105.12,2,   37.52,2,    0.01,2,    2.81,2,  -0.001,2,   0.000,2,  -999.0,9,  -999.0,9,-999.0000,9,-999.0000,9, -999.00,9, -999.00,9,  -999.0,9,    -9.0,-999.000,9,-999.000,   14015,-999.0000,   4.9518,-999.0000, -999.00
 316N145_11,       I01W,     921,          1,         14,     SIH010,2,19950917,       0629,     9.0083,    59.4222,       3615,  1502.4,   4.5507,  34.9239,2,  34.9246,2,     68.7,2,    75.9,2,  110.36,2,   37.37,2,    0.00,2,    2.77,2,-999.000,9,-999.000,9,  -999.0,9,  -999.0,9,-999.0000,9,-999.0000,9, -999.00,9, -999.00,9,  -999.0,9,    -9.0,-999.000,9,-999.000,   15023,-999.0000,   4.4241,-999.0000, -999.00
 316N145_11,       I01W,     921,          1,         13,     SIH011,2,19950917,       0629,     9.0083,    59.4222,       3615,  1596.5,   4.2652,  34.9041,2,  34.9048,2,     81.5,2,    81.9,2,  113.63,2,   37.26,2,    0.01,2,    2.76,2,-999.000,9,-999.000,9,  2327.0,2,  2395.9,2,-999.0000,9,-999.0000,9, -999.00,9, -999.00,9,  -999.0,9,    -9.0,-999.000,9,-999.000,   15965,-999.0000,   4.1331,-999.0000, -999.00
 316N145_11,       I01W,     921,          1,         12,     SIH012,2,19950917,       0629,     9.0083,    59.4222,       3615,  1798.0,   3.4967,  34.8477,2,  34.8483,2,    101.7,2,    99.4,2,  121.22,2,   36.72,2,    0.00,2,    2.70,2,  -0.001,2,   0.000,2,  -999.0,9,  -999.0,9,-999.0000,9,-999.0000,9, -999.00,9, -999.00,9,  -999.0,9,    -9.0,-999.000,9,-999.000,   17981,-999.0000,   3.3558,-999.0000, -999.00
 316N145_11,       I01W,     921,          1,         11,     SI9426,2,19950917,       0629,     9.0083,    59.4222,       3615,  1999.8,   2.8281,  34.8019,2,  34.8019,2,    120.8,2,   118.1,2,  126.65,2,   36.06,2,   -0.01,2,    2.61,2,-999.000,9,-999.000,9,  2322.6,2,  2409.2,2,-999.0000,9,-999.0000,9, -999.00,9, -999.00,9,  -999.0,9,    -9.0,-999.000,9,-999.000,   20001,-999.0000,   2.6787,-999.0000, -999.00
 316N145_11,       I01W,     921,          1,         10,     SIH014,2,19950917,       0629,     9.0083,    59.4222,       3615,  2201.1,   2.4644,  34.7836,2,  34.7834,2,    130.7,2,   127.1,2,  131.54,2,   35.86,2,    0.00,2,    2.58,2,-999.000,9,-999.000,9,  -999.0,9,  -999.0,9,-999.0000,9,-999.0000,9, -999.00,9, -999.00,9,  -999.0,9,    -9.0,-999.000,9,-999.000,   22015,-999.0000,   2.3025,-999.0000, -999.00
 316N145_11,       I01W,     921,          1,          9,     SIH015,2,19950917,       0629,     9.0083,    59.4222,       3615,  2396.5,   2.2392,  34.7686,2,  34.7687,2,    139.7,2,   135.2,2,  132.65,2,   35.65,2,    0.01,2,    2.54,2,-999.000,9,-999.000,9,  -999.0,9,  -999.0,9,-999.0000,9,-999.0000,9, -999.00,9, -999.00,9,  -999.0,9,    -9.0,-999.000,9,-999.000,   23970,-999.0000,   2.0635,-999.0000, -999.00
 316N145_11,       I01W,     921,          1,          8,     SIH016,2,19950917,       0629,     9.0083,    59.4222,       3615,  2597.8,   2.0928,  34.7610,2,  34.7604,2,    143.1,2,   140.0,2,  135.00,2,   35.57,2,    0.00,2,    2.54,2,  -0.001,2,   0.001,2,  2322.5,2,  2417.4,2,-999.0000,9,-999.0000,9, -999.00,9, -999.00,9,  -999.0,9,    -9.0,-999.000,9,-999.000,   25985,-999.0000,   1.9012,-999.0000, -999.00
 316N145_11,       I01W,     921,          1,          7,     SIH017,3,19950917,       0629,     9.0083,    59.4222,       3615,  2800.3,   1.9815,  34.7542,3,  34.7545,2,    145.6,2,   143.7,2,  136.46,2,   35.41,2,    0.00,2,    2.51,2,-999.000,9,-999.000,9,  -999.0,9,  -999.0,9,-999.0000,9,-999.0000,9, -999.00,9, -999.00,9,  -999.0,9,    -9.0,-999.000,9,-999.000,   28011,-999.0000,   1.7731,-999.0000, -999.00
 316N145_11,       I01W,     921,          1,          6,     SIH018,2,19950917,       0629,     9.0083,    59.4222,       3615,  2999.2,   1.8534,  34.7480,2,  34.7490,2,    149.8,2,   146.9,2,  137.93,2,   35.05,2,    0.01,2,    2.49,2,-999.000,9,-999.000,9,  2323.0,2,  2420.8,2,-999.0000,9,-999.0000,9, -999.00,9, -999.00,9,  -999.0,9,    -9.0,-999.000,9,-999.000,   30001,-999.0000,   1.6285,-999.0000, -999.00
 316N145_11,       I01W,     921,          1,          5,     SIH002,2,19950917,       0629,     9.0083,    59.4222,       3615,  3196.4,   1.7375,  34.7404,2,  34.7406,2,    152.2,2,   151.4,2,  138.84,2,   35.17,2,    0.00,2,    2.48,2,-999.000,9,-999.000,9,  -999.0,9,  -999.0,9,-999.0000,9,-999.0000,9, -999.00,9, -999.00,9,  -999.0,9,    -9.0,-999.000,9,-999.000,   31975,-999.0000,   1.4959,-999.0000, -999.00
 316N145_11,       I01W,     921,          1,          4,     SIH020,2,19950917,       0629,     9.0083,    59.4222,       3615,  3396.7,   1.6833,  34.7379,2,  34.7370,2,    157.3,2,   155.4,2,  138.31,2,   34.86,2,    0.00,2,    2.45,2,  -0.001,2,  -0.001,2,  2318.1,2,  2419.4,2,-999.0000,9,-999.0000,9, -999.00,9, -999.00,9,  -999.0,9,    -9.0,-999.000,9,-999.000,   33979,-999.0000,   1.4229,-999.0000, -999.00
 316N145_11,       I01W,     921,          1,          3,     SIH021,3,19950917,       0629,     9.0083,    59.4222,       3615,  3598.1,   1.6608,  34.7357,3,  34.7353,2,    161.0,2,   158.0,2,  138.14,2,   34.77,2,    0.00,2,    2.44,2,-999.000,9,-999.000,9,  -999.0,9,  -999.0,9,-999.0000,9,-999.0000,9, -999.00,9, -999.00,9,  -999.0,9,    -9.0,-999.000,9,-999.000,   35995,-999.0000,   1.3802,-999.0000, -999.00
 316N145_11,       I01W,     921,          1,          2,     SIH022,2,19950917,       0629,     9.0083,    59.4222,       3615,  3654.4,   1.6664,  34.7360,2,  34.7351,2,    158.8,2,   157.2,2,  137.98,2,   34.72,2,    0.00,2,    2.44,2,  -0.001,2,   0.000,2,  -999.0,9,  -999.0,9,-999.0000,9,-999.0000,9, -999.00,9, -999.00,9,  -999.0,9,    -9.0,-999.000,9,-999.000,   36558,-999.0000,   1.3797,-999.0000, -999.00
 316N145_11,       I01W,     921,          1,          1,     SIH023,2,19950917,       0629,     9.0083,    59.4222,       3615,  3705.9,   1.6713,  34.7360,2,  34.7343,2,    158.1,2,   158.8,2,  138.40,2,   34.78,2,    0.01,2,    2.45,2,  -0.001,2,   0.003,2,  2316.4,2,  2419.5,2,-999.0000,9,-999.0000,9, -999.00,9, -999.00,9,  -999.0,9,    -9.0,-999.000,9,-999.000,   37073,-999.0000,   1.3790,-999.0000, -999.00