BOTTLE,20211119CCHSIORKP
EXPOCODE,SECT_ID,STNNBR,CASTNO,SAMPNO,BTLNBR,BTLNBR_FLAG_W,DATE,TIME,LATITUDE,LONGITUDE,DEPTH,CTDPRS,CTDTMP,CTDSAL,CTDSAL_FLAG_W,SALNTY,SALNTY_FLAG_W,CTDOXY,CTDOXY_FLAG_W,OXYGEN,OXYGEN_FLAG_W,SILCAT,SILCAT_FLAG_W,NITRAT,NITRAT_FLAG_W,NITRIT,NITRIT_FLAG_W,PHSPHT,PHSPHT_FLAG_W,CFC-11,CFC-11_FLAG_W,CFC-12,CFC-12_FLAG_W,TCARBN,TCARBN_FLAG_W,ALKALI,ALKALI_FLAG_W,TRITUM,TRITUM_FLAG_W,HELIUM,HELIUM_FLAG_W,DELHE3,DELHE3_FLAG_W,DELC13,DELC13_FLAG_W,DELC14,DELC14_FLAG_W,C14ERR,NEON,NEON_FLAG_W,NEONER,CTDRAW,TRITER,THETA,HELIER,DELHER
,,,,,,,,,,,METERS,DBAR,ITS-90,PSS-78,,PSS-78,,UMOL/KG,,UMOL/KG,,UMOL/KG,,UMOL/KG,,UMOL/KG,,UMOL/KG,,PMOL/KG,,PMOL/KG,,UMOL/KG,,UMOL/KG,,TU,,NMOL/KG,,PERCNT,,/MILLE,,/MILLE,,/MILLE,NMOL/KG,,NMOL/KG,DBAR,TU,DEG C,NMOL/KG,PERCNT
 316N145_11,       I01W,     866,          1,         28,     SIH032,2,19950902,       1859,    14.5055,    54.0805,       2595,     5.8,  23.9500,  35.8765,2,  35.8740,2,    187.6,2,   184.9,2,    4.38,2,    8.68,2,    0.46,2,    0.96,2,   1.681,2,   0.972,2,  2092.9,2,  2352.0,2,   0.7419,2,   1.7412,2,   -0.78,2, -999.00,9,  -999.0,9,    -9.0,-999.000,9,  -0.045,      37,   0.0034,  23.9488,   0.0087,    0.14
 316N145_11,       I01W,     866,          1,         27,     SIH033,2,19950902,       1859,    14.5055,    54.0805,       2595,    31.0,  23.8510,  35.8636,2,  35.7347,3,    184.5,2,    66.2,3,   14.03,2,   18.86,2,    0.35,2,    1.69,2,   1.323,2,   0.860,4,  2183.6,2,  -999.0,9,   0.6924,2,   1.7447,2,    1.48,2, -999.00,9,  -999.0,9,    -9.0,   7.046,2,   0.035,     289,   0.0033,  23.8445,   0.0087,    0.14
 316N145_11,       I01W,     866,          1,         26,     SIH037,2,19950902,       1859,    14.5055,    54.0805,       2595,    60.4,  20.0792,  35.7272,2,  35.7333,2,     44.4,2,    69.3,2,   14.02,2,   18.83,2,    0.35,2,    1.68,2,   1.325,2,   0.748,2,  2183.2,2,  2332.9,2,   0.6698,2,   1.7497,2,    1.67,2, -999.00,9,  -999.0,9,    -9.0,-999.000,9,  -0.045,     584,   0.0033,  20.0680,   0.0087,    0.14
 316N145_11,       I01W,     866,          1,         25,     SI9446,2,19950902,       1859,    14.5055,    54.0805,       2595,    90.8,  16.7140,  35.5791,2,  35.5657,2,     36.3,2,    30.6,2,   21.55,2,   24.94,2,    0.06,2,    2.02,2,   0.976,6,   0.547,6,  2216.7,2,  2331.8,2,-999.0000,9,   1.7554,2,    3.15,2, -999.00,9,  -999.0,9,    -9.0,   7.312,2,   0.037,     887,-999.0000,  16.6992,   0.0088,    0.14
 316N145_11,       I01W,     866,          1,         24,     SIH036,2,19950902,       1859,    14.5055,    54.0805,       2595,   120.2,  15.8224,  35.5946,2,  35.5965,2,     20.8,2,    22.0,2,   23.82,2,   25.72,2,    0.03,2,    2.13,2,   0.827,2,   0.461,2,  2231.6,2,  2334.2,2,   0.5257,2,   1.7773,2,    3.60,2, -999.00,9,  -999.0,9,    -9.0,-999.000,9,  -0.045,    1181,   0.0030,  15.8035,   0.0089,    0.14
 316N145_11,       I01W,     866,          1,         23,     SIH001,2,19950902,       1859,    14.5055,    54.0805,       2595,   150.6,  15.2036,  35.5887,2,  35.5886,2,     26.4,2,    23.5,2,   24.66,2,   26.08,2,    0.02,2,    2.14,2,-999.000,9,-999.000,9,  2235.8,2,  2334.0,2,   0.4948,2,   1.7816,2,    4.06,2, -999.00,9,  -999.0,9,    -9.0,   7.310,2,   0.037,    1486,   0.0030,  15.1805,   0.0089,    0.14
 316N145_11,       I01W,     866,          1,         22,     SIH019,2,19950902,       1859,    14.5055,    54.0805,       2595,   200.8,  13.1947,  35.3543,2,  35.3599,2,     49.8,2,    52.8,2,   25.57,2,   26.50,2,    0.00,2,    2.00,2,   0.704,2,   0.374,2,  2222.5,3,  2325.1,2,   0.4124,2,   1.7643,2,    4.07,2, -999.00,9,  -999.0,9,    -9.0,-999.000,9,  -0.045,    1988,   0.0028,  13.1667,   0.0088,    0.14
 316N145_11,       I01W,     866,          1,         21,     SIH025,2,19950902,       1859,    14.5055,    54.0805,       2595,   250.4,  12.4801,  35.3523,2,  35.3577,2,     41.1,2,    37.1,2,   29.22,2,   28.99,2,    0.01,2,    2.17,2,-999.000,9,-999.000,9,  2239.4,2,  2327.9,2,   0.3118,2,   1.7853,2,    4.14,2, -999.00,9,  -999.0,9,    -9.0,-999.000,9,  -0.045,    2484,   0.0027,  12.4464,   0.0089,    0.14
 316N145_11,       I01W,     866,          1,         20,     SIH004,2,19950902,       1859,    14.5055,    54.0805,       2595,   301.1,  12.5323,  35.4686,2,  35.4922,2,     34.5,2,    34.9,2,   31.49,2,   28.63,2,    0.01,2,    2.23,2,   0.441,2,   0.228,2,  2245.7,2,  2334.8,2,   0.3046,2,-999.0000,9, -999.00,9, -999.00,9,  -999.0,9,    -9.0,-999.000,9,-999.000,    2991,   0.0027,  12.4916,-999.0000, -999.00
 316N145_11,       I01W,     866,          1,         19,     SIH005,2,19950902,       1859,    14.5055,    54.0805,       2595,   400.6,  12.3523,  35.5995,2,  35.6060,2,     19.5,2,    22.7,2,   37.19,2,   29.78,2,    0.01,2,    2.37,2,-999.000,9,-999.000,9,  2258.1,2,  2342.9,2,   0.2430,2,-999.0000,9, -999.00,9, -999.00,9,  -999.0,9,    -9.0,-999.000,9,-999.000,    3987,   0.0026,  12.2983,-999.0000, -999.00
 316N145_11,       I01W,     866,          1,         18,     SIH006,2,19950902,       1859,    14.5055,    54.0805,       2595,   501.2,  11.4089,  35.5235,2,  35.4584,3,     24.2,2,    33.5,2,   62.39,2,   32.97,2,    0.01,2,    2.58,2,   0.126,3,   0.089,2,  2284.0,3,  2363.3,3,   0.1264,2,-999.0000,9, -999.00,9, -999.00,9,  -999.0,9,    -9.0,-999.000,9,-999.000,    4993,   0.0024,  11.3444,-999.0000, -999.00
 316N145_11,       I01W,     866,          1,         17,     SIH038,2,19950902,       1859,    14.5055,    54.0805,       2595,   600.8,  11.1248,  35.5597,2,  35.5636,2,     18.5,2,    19.1,2,   49.53,2,   32.21,2,    0.00,2,    2.56,2,-999.000,9,-999.000,9,  2274.3,2,  2351.4,2,-999.0000,9,-999.0000,9, -999.00,9, -999.00,9,  -999.0,9,    -9.0,-999.000,9,-999.000,    5989,-999.0000,  11.0484,-999.0000, -999.00
 316N145_11,       I01W,     866,          1,         16,     SIH008,2,19950902,       1859,    14.5055,    54.0805,       2595,   702.5,  11.2330,  35.7204,2,  35.7582,2,     16.7,3,    20.3,2,   52.47,2,   31.96,2,    0.01,2,    2.55,2,   0.164,2,   0.085,2,  2277.0,2,  2358.6,2,   0.1554,2,-999.0000,9, -999.00,9, -999.00,9,  -999.0,9,    -9.0,-999.000,9,-999.000,    7007,   0.0024,  11.1425,-999.0000, -999.00
 316N145_11,       I01W,     866,          1,         15,     SIH009,2,19950902,       1859,    14.5055,    54.0805,       2595,   797.0,  11.3442,  35.8366,2,  35.8402,2,     15.7,2,    16.0,2,   55.88,2,   32.17,2,    0.02,2,    2.55,2,-999.000,9,-999.000,9,  2280.5,2,  2365.1,2,-999.0000,9,-999.0000,9, -999.00,9, -999.00,9,  -999.0,9,    -9.0,-999.000,9,-999.000,    7952,-999.0000,  11.2404,-999.0000, -999.00
 316N145_11,       I01W,     866,          1,         14,     SIH010,2,19950902,       1859,    14.5055,    54.0805,       2595,   897.4,  10.5923,  35.7407,2,  35.7458,2,     17.1,2,    20.5,2,   62.95,2,   33.39,2,    0.01,2,    2.62,2,   0.135,2,   0.067,2,  2289.8,2,  2370.3,2,   0.1331,2,-999.0000,9, -999.00,9, -999.00,9,  -999.0,9,    -9.0,-999.000,9,-999.000,    8956,   0.0024,  10.4798,-999.0000, -999.00
 316N145_11,       I01W,     866,          1,         13,     SIH011,2,19950902,       1859,    14.5055,    54.0805,       2595,   999.0,  10.0600,  35.7307,2,  35.7221,2,     19.3,2,    20.1,2,   68.19,2,   33.96,2,    0.01,2,    2.66,2,-999.000,9,-999.000,9,  2296.8,2,  2376.0,2,-999.0000,9,-999.0000,9, -999.00,9, -999.00,9,  -999.0,9,    -9.0,-999.000,9,-999.000,    9973,-999.0000,   9.9379,-999.0000, -999.00
 316N145_11,       I01W,     866,          1,         12,     SIH012,2,19950902,       1859,    14.5055,    54.0805,       2595,  1101.0,   9.2348,  35.5869,2,  35.5853,2,     21.9,2,    22.6,2,   74.34,2,   34.77,2,    0.00,2,    2.72,2,   0.090,2,   0.042,2,  2304.3,2,  2379.2,2,   0.0946,2,-999.0000,9, -999.00,9, -999.00,9,  -999.0,9,    -9.0,-999.000,9,-999.000,   10994,   0.0023,   9.1062,-999.0000, -999.00
 316N145_11,       I01W,     866,          1,         11,     SI9426,2,19950902,       1859,    14.5055,    54.0805,       2595,  1201.3,   7.8843,  35.3402,2,  35.3459,2,     27.5,2,    26.0,2,   83.24,2,   36.51,2,    0.00,2,    2.82,2,-999.000,9,-999.000,9,  2316.2,2,  2382.7,2,-999.0000,9,-999.0000,9, -999.00,9, -999.00,9,  -999.0,9,    -9.0,-999.000,9,-999.000,   11997,-999.0000,   7.7553,-999.0000, -999.00
 316N145_11,       I01W,     866,          1,         10,     SIH014,2,19950902,       1859,    14.5055,    54.0805,       2595,  1296.5,   7.6850,  35.3682,2,  35.3754,3,     30.9,2,    29.9,2,   86.87,2,   36.15,2,    0.01,2,    2.80,2,   0.048,2,   0.025,2,  -999.0,9,  -999.0,9,   0.0617,2,-999.0000,9, -999.00,9, -999.00,9,  -999.0,9,    -9.0,-999.000,9,-999.000,   12949,   0.0023,   7.5469,-999.0000, -999.00
 316N145_11,       I01W,     866,          1,          9,     SIH015,2,19950902,       1859,    14.5055,    54.0805,       2595,  1398.2,   6.7671,  35.2313,2,  35.2339,2,     38.5,2,    40.3,2,   95.77,2,   36.99,2,    0.02,2,    2.83,2,-999.000,9,-999.000,9,  -999.0,9,  -999.0,9,-999.0000,9,-999.0000,9, -999.00,9, -999.00,9,  -999.0,9,    -9.0,-999.000,9,-999.000,   13967,-999.0000,   6.6268,-999.0000, -999.00
 316N145_11,       I01W,     866,          1,          8,     SIH016,2,19950902,       1859,    14.5055,    54.0805,       2595,  1499.1,   5.6796,  35.0907,2,  35.0900,2,     50.0,2,    50.4,2,  105.79,2,   37.41,2,    0.00,2,    2.86,2,   0.007,2,   0.002,2,  -999.0,9,  -999.0,9,   0.0178,2,-999.0000,9, -999.00,9, -999.00,9,  -999.0,9,    -9.0,-999.000,9,-999.000,   14977,   0.0022,   5.5405,-999.0000, -999.00
 316N145_11,       I01W,     866,          1,          7,     SIH017,2,19950902,       1859,    14.5055,    54.0805,       2595,  1595.1,   5.0042,  35.0051,2,  35.0051,2,     59.9,2,    60.8,2,  111.94,2,   37.56,2,    0.02,2,    2.85,2,-999.000,9,-999.000,9,  -999.0,9,  -999.0,9,-999.0000,9,-999.0000,9, -999.00,9, -999.00,9,  -999.0,9,    -9.0,-999.000,9,-999.000,   15937,-999.0000,   4.8632,-999.0000, -999.00
 316N145_11,       I01W,     866,          1,          6,     SIH018,2,19950902,       1859,    14.5055,    54.0805,       2595,  1797.6,   3.8960,  34.9063,2,  34.9083,2,     78.1,2,    78.7,2,  125.38,2,   37.45,2,    0.01,2,    2.81,2,-999.000,9,-999.000,9,  -999.0,9,  -999.0,9,-999.0000,9,-999.0000,9, -999.00,9, -999.00,9,  -999.0,9,    -9.0,-999.000,9,-999.000,   17963,-999.0000,   3.7496,-999.0000, -999.00
 316N145_11,       I01W,     866,          1,          5,     SIH002,2,19950902,       1859,    14.5055,    54.0805,       2595,  1994.9,   3.1801,  34.8493,2,  34.8503,2,     93.1,2,    94.2,2,  134.25,2,   37.04,2,    0.00,2,    2.73,2,  -0.001,2,  -0.002,2,  -999.0,9,  -999.0,9,-999.0000,9,-999.0000,9, -999.00,9, -999.00,9,  -999.0,9,    -9.0,-999.000,9,-999.000,   19938,-999.0000,   3.0257,-999.0000, -999.00
 316N145_11,       I01W,     866,          1,          4,     SIH020,2,19950902,       1859,    14.5055,    54.0805,       2595,  2187.8,   2.7329,  34.8148,2,  34.8155,2,    106.6,2,   107.3,2,  138.10,2,   36.35,2,    0.00,2,    2.69,2,-999.000,9,-999.000,9,  -999.0,9,  -999.0,9,-999.0000,9,-999.0000,9, -999.00,9, -999.00,9,  -999.0,9,    -9.0,-999.000,9,-999.000,   21868,-999.0000,   2.5678,-999.0000, -999.00
 316N145_11,       I01W,     866,          1,          3,     SIH021,2,19950902,       1859,    14.5055,    54.0805,       2595,  2394.8,   2.2810,  34.7798,2,  34.7815,2,    121.4,2,   120.0,2,  141.93,2,   36.28,2,    0.00,2,    2.62,2,  -0.001,2,  -0.001,2,  -999.0,9,  -999.0,9,-999.0000,9,-999.0000,9, -999.00,9, -999.00,9,  -999.0,9,    -9.0,-999.000,9,-999.000,   23939,-999.0000,   2.1046,-999.0000, -999.00
 316N145_11,       I01W,     866,          1,          2,     SIH022,2,19950902,       1859,    14.5055,    54.0805,       2595,  2567.2,   2.1695,  34.7718,2,  34.7734,2,    123.6,2,   124.7,2,  143.47,2,   36.03,2,    0.00,2,    2.60,2,   0.001,2,   0.003,2,  -999.0,9,  -999.0,9,-999.0000,9,-999.0000,9, -999.00,9, -999.00,9,  -999.0,9,    -9.0,-999.000,9,-999.000,   25664,-999.0000,   1.9793,-999.0000, -999.00
 316N145_11,       I01W,     866,          1,          1,     SIH023,2,19950902,       1859,    14.5055,    54.0805,       2595,  2617.5,   2.1745,  34.7627,2,  34.7722,2,   -999.0,9,   124.6,2,  144.32,2,   35.95,2,    0.01,2,    2.62,2,  -0.002,2,  -0.002,2,  -999.0,9,  -999.0,9,-999.0000,9,-999.0000,9, -999.00,9, -999.00,9,  -999.0,9,    -9.0,-999.000,9,-999.000,   26168,-999.0000,   1.9795,-999.0000, -999.00