BOTTLE,20211119CCHSIORKP
EXPOCODE,SECT_ID,STNNBR,CASTNO,SAMPNO,BTLNBR,BTLNBR_FLAG_W,DATE,TIME,LATITUDE,LONGITUDE,DEPTH,CTDPRS,CTDTMP,CTDSAL,CTDSAL_FLAG_W,SALNTY,SALNTY_FLAG_W,CTDOXY,CTDOXY_FLAG_W,OXYGEN,OXYGEN_FLAG_W,SILCAT,SILCAT_FLAG_W,NITRAT,NITRAT_FLAG_W,NITRIT,NITRIT_FLAG_W,PHSPHT,PHSPHT_FLAG_W,CFC-11,CFC-11_FLAG_W,CFC-12,CFC-12_FLAG_W,TCARBN,TCARBN_FLAG_W,ALKALI,ALKALI_FLAG_W,TRITUM,TRITUM_FLAG_W,HELIUM,HELIUM_FLAG_W,DELHE3,DELHE3_FLAG_W,DELC13,DELC13_FLAG_W,DELC14,DELC14_FLAG_W,C14ERR,NEON,NEON_FLAG_W,NEONER,CTDRAW,TRITER,THETA,HELIER,DELHER
,,,,,,,,,,,METERS,DBAR,ITS-90,PSS-78,,PSS-78,,UMOL/KG,,UMOL/KG,,UMOL/KG,,UMOL/KG,,UMOL/KG,,UMOL/KG,,PMOL/KG,,PMOL/KG,,UMOL/KG,,UMOL/KG,,TU,,NMOL/KG,,PERCNT,,/MILLE,,/MILLE,,/MILLE,NMOL/KG,,NMOL/KG,DBAR,TU,DEG C,NMOL/KG,PERCNT
 316N145_11,       I01W,     929,          1,         36,     SIH024,2,19950919,       1437,     8.8000,    63.5667,       4535,     7.2,  28.4319,  36.5087,2,  36.5159,2,    212.2,2,   207.8,2,    1.63,2,   -0.02,2,    0.00,2,    0.28,2,-999.000,9,-999.000,9,  2016.2,2,  2381.4,2,-999.0000,9,   1.7136,2,   -1.19,2, -999.00,9,  -999.0,9,    -9.0,   6.669,2,   0.033,      63,-999.0000,  28.4302,   0.0086,    0.14
 316N145_11,       I01W,     929,          1,         35,     SIH003,2,19950919,       1437,     8.8000,    63.5667,       4535,    31.9,  28.0809,  36.5570,2,  36.5553,2,    215.1,2,   206.7,2,    1.45,2,    0.03,2,    0.00,2,    0.29,2,   1.649,2,   0.950,2,  2018.4,2,  2383.8,2,   0.8811,2,   1.7232,2,   -1.25,2, -999.00,9,  -999.0,9,    -9.0,   6.685,2,   0.033,     310,   0.0036,  28.0733,   0.0086,    0.14
 316N145_11,       I01W,     929,          1,         34,     SIH026,2,19950919,       1437,     8.8000,    63.5667,       4535,    61.9,  27.7711,  36.5408,2,  36.5353,2,    206.5,2,   208.3,2,    1.45,2,    0.03,2,    0.00,2,    0.30,2,-999.000,9,-999.000,9,  2019.2,2,  2383.1,2,   0.8823,2,   1.7061,2,   -1.03,2,    1.43,2,    60.6,2,     3.9,   6.634,2,   0.033,     610,   0.0036,  27.7565,   0.0085,    0.14
 316N145_11,       I01W,     929,          1,         33,     SIH027,2,19950919,       1437,     8.8000,    63.5667,       4535,    92.0,  27.5346,  36.5025,2,  36.5028,2,    198.5,2,   199.2,2,    1.45,2,    0.12,2,    0.47,2,    0.35,2,   1.674,2,   0.965,2,  2025.9,2,  2383.4,2,   0.8796,2,   1.7325,2,   -1.35,2, -999.00,9,  -999.0,9,    -9.0,   6.748,2,   0.034,     912,   0.0037,  27.5131,   0.0087,    0.14
 316N145_11,       I01W,     929,          1,         32,     SIH028,2,19950919,       1437,     8.8000,    63.5667,       4535,   122.0,  24.8867,  36.3572,2,  36.3334,2,    120.5,2,   124.6,2,    4.72,2,   11.61,2,    0.04,2,    1.02,2,-999.000,9,-999.000,9,  2102.5,2,  2364.4,2,   0.8643,2,   1.7594,2,   -0.61,2, -999.00,9,  -999.0,9,    -9.0,   6.894,2,   0.034,    1211,   0.0036,  24.8601,   0.0088,    0.14
 316N145_11,       I01W,     929,          1,         31,     SIH029,2,19950919,       1437,     8.8000,    63.5667,       4535,   151.8,  19.2061,  35.7203,2,  35.7124,2,      1.5,2,     1.5,2,   18.19,2,   24.77,2,    0.01,2,    2.17,2,   1.018,2,   0.578,2,  2221.4,2,  2335.0,2,   0.6575,2,   1.7798,2,    2.64,2, -999.00,9,  -999.0,9,    -9.0,   7.166,2,   0.036,    1509,   0.0032,  19.1787,   0.0089,    0.14
 316N145_11,       I01W,     929,          1,         30,     SIH030,2,19950919,       1437,     8.8000,    63.5667,       4535,   201.7,  15.1709,  35.4047,2,  35.3699,2,     26.2,2,    26.7,2,   22.56,2,   26.39,2,    0.01,2,    2.05,2,-999.000,9,-999.000,9,  2220.1,2,  2320.9,2,   0.5078,2,   1.7835,2,    4.25,2, -999.00,9,  -999.0,9,    -9.0,   7.307,2,   0.037,    2009,   0.0030,  15.1400,   0.0089,    0.14
 316N145_11,       I01W,     929,          1,         29,     SIH031,2,19950919,       1437,     8.8000,    63.5667,       4535,   252.4,  13.5058,  35.3570,2,  35.3533,2,     29.4,2,    30.8,2,   25.47,2,   27.86,2,    0.00,2,    2.11,2,   0.566,2,   0.301,2,  2232.4,2,  2322.9,2,   0.3946,2,   1.8485,2,    4.45,2, -999.00,9,  -999.0,9,    -9.0,   7.589,2,   0.038,    2516,   0.0028,  13.4700,   0.0092,    0.14
 316N145_11,       I01W,     929,          1,         28,     SIH032,2,19950919,       1437,     8.8000,    63.5667,       4535,   297.2,  12.1987,  35.2493,2,  35.2501,2,     39.5,2,    41.3,2,   27.47,2,   29.27,2,    0.00,2,    2.10,2,-999.000,9,-999.000,9,  2231.4,2,  2320.2,2,   0.3117,2,   1.8231,2,    4.68,2, -999.00,9,  -999.0,9,    -9.0,   7.514,2,   0.038,    2964,   0.0027,  12.1592,   0.0091,    0.14
 316N145_11,       I01W,     929,          1,         27,     SIH033,2,19950919,       1437,     8.8000,    63.5667,       4535,   397.1,  11.3523,  35.2296,2,  35.2321,2,     32.7,2,    29.3,2,   34.21,2,   32.09,2,    0.00,2,    2.30,2,   0.210,2,   0.111,2,  2248.9,2,  2324.0,2,   0.1816,2,   1.8405,2,    4.80,2, -999.00,9,  -999.0,9,    -9.0,   7.613,2,   0.038,    3963,   0.0024,  11.3018,   0.0092,    0.14
 316N145_11,       I01W,     929,          1,         26,     SIH037,2,19950919,       1437,     8.8000,    63.5667,       4535,   498.1,  10.8122,  35.2591,2,  35.2637,2,     22.3,2,    21.0,2,   41.85,2,   33.24,2,    0.00,2,    2.47,2,-999.000,9,-999.000,9,  -999.0,9,  -999.0,9,   0.1072,2,   1.8301,2,    5.11,2, -999.00,9,  -999.0,9,    -9.0,   7.609,2,   0.038,    4974,   0.0024,  10.7504,   0.0092,    0.14
 316N145_11,       I01W,     929,          1,         25,     SI9446,2,19950919,       1437,     8.8000,    63.5667,       4535,   597.7,  10.3983,  35.3314,2,  35.3299,2,     17.7,2,    17.2,2,   50.41,2,   33.83,2,    0.01,2,    2.58,2,   0.063,2,   0.028,2,  2274.6,2,  2341.9,2,-999.0000,9,-999.0000,9, -999.00,9, -999.00,9,  -999.0,9,    -9.0,-999.000,9,-999.000,    5970,-999.0000,  10.3255,-999.0000, -999.00
 316N145_11,       I01W,     929,          1,         24,     SIH036,2,19950919,       1437,     8.8000,    63.5667,       4535,   698.9,   9.1676,  35.1763,2,  35.1770,2,     19.9,2,    20.0,2,   60.98,2,   35.96,2,    0.00,2,    2.68,2,-999.000,9,-999.000,9,  -999.0,9,  -999.0,9,   0.0341,2,   1.8399,2,    7.40,2, -999.00,9,  -999.0,9,    -9.0,   7.654,2,   0.038,    6982,   0.0023,   9.0885,   0.0092,    0.14
 316N145_11,       I01W,     929,          1,         23,     SIH001,2,19950919,       1437,     8.8000,    63.5667,       4535,   799.0,   8.4591,  35.1293,2,  35.1293,2,     25.6,2,    25.0,2,   68.82,2,   36.72,2,    0.00,2,    2.72,2,   0.011,2,   0.002,2,  2293.8,2,  2357.1,2,-999.0000,9,-999.0000,9, -999.00,9, -999.00,9,  -999.0,9,    -9.0,-999.000,9,-999.000,    7984,-999.0000,   8.3723,-999.0000, -999.00
 316N145_11,       I01W,     929,          1,         22,     SIH019,2,19950919,       1437,     8.8000,    63.5667,       4535,   900.3,   7.9259,  35.1100,2,  35.1108,2,     29.9,2,    28.4,2,   75.20,2,   37.01,2,    0.00,2,    2.75,2,-999.000,9,-999.000,9,  -999.0,9,  -999.0,9,   0.0175,2,   1.8566,2,    9.14,2, -999.00,9,  -999.0,9,    -9.0,   7.756,2,   0.039,    8997,   0.0023,   7.8310,   0.0093,    0.14
 316N145_11,       I01W,     929,          1,         21,     SIH025,2,19950919,       1437,     8.8000,    63.5667,       4535,   995.4,   7.6462,  35.1234,2,  35.1230,2,     31.9,2,    30.6,2,   79.21,2,   37.22,2,    0.00,2,    2.77,2,-999.000,9,-999.000,9,  2304.5,2,  2367.0,2,-999.0000,9,-999.0000,9, -999.00,9, -999.00,9,  -999.0,9,    -9.0,-999.000,9,-999.000,    9948,-999.0000,   7.5427,-999.0000, -999.00
 316N145_11,       I01W,     929,          1,         20,     SIH004,2,19950919,       1437,     8.8000,    63.5667,       4535,  1095.6,   6.8953,  35.0702,2,  35.0687,2,     39.2,2,    38.7,2,   86.14,2,   37.52,2,    0.00,2,    2.78,2,   0.005,2,  -0.001,2,  -999.0,9,  -999.0,9,   0.0122,2,-999.0000,9, -999.00,9, -999.00,9,  -999.0,9,    -9.0,-999.000,9,-999.000,   10951,   0.0022,   6.7869,-999.0000, -999.00
 316N145_11,       I01W,     929,          1,         19,     SIH005,2,19950919,       1437,     8.8000,    63.5667,       4535,  1196.9,   6.4390,  35.0375,2,  35.0392,2,     46.9,2,    45.4,2,   90.90,2,   37.52,2,    0.00,2,    2.78,2,-999.000,9,-999.000,9,  2311.7,2,  2377.5,2,-999.0000,9,-999.0000,9, -999.00,9,   -0.10,2,  -165.1,2,     7.9,-999.000,9,-999.000,   11965,-999.0000,   6.3237,-999.0000, -999.00
 316N145_11,       I01W,     929,          1,         18,     SIH006,2,19950919,       1437,     8.8000,    63.5667,       4535,  1398.8,   5.3997,  34.9641,2,  34.9622,2,     60.2,2,    58.8,2,  101.84,2,   37.71,2,    0.01,2,    2.78,2,   0.000,2,  -0.001,2,  -999.0,9,  -999.0,9,   0.0037,2,   1.8678,2,   11.81,2, -999.00,9,  -999.0,9,    -9.0,   7.823,2,   0.039,   13985,   0.0022,   5.2740,   0.0093,    0.14
 316N145_11,       I01W,     929,          1,         17,     SIH038,2,19950919,       1437,     8.8000,    63.5667,       4535,  1600.9,   4.2281,  34.8888,2,  34.8869,2,     78.6,2,    79.4,2,  114.98,2,   37.27,2,    0.00,2,    2.74,2,   0.001,2,  -0.001,2,  2325.6,2,  2400.9,2,   0.0013,2,   1.8626,2,   12.93,2, -999.00,9,  -999.0,9,    -9.0,   7.844,2,   0.039,   16007,   0.0022,   4.0960,   0.0093,    0.14
 316N145_11,       I01W,     929,          1,         16,     SIH008,2,19950919,       1437,     8.8000,    63.5667,       4535,  1801.9,   3.3807,  34.8313,2,  34.8320,2,     97.8,2,   100.4,2,  122.83,2,   36.77,2,    0.00,2,    2.65,2,-999.000,9,-999.000,9,  -999.0,9,  -999.0,9,-999.0000,9,-999.0000,9, -999.00,9,   -0.05,2,  -180.0,2,     3.8,-999.000,9,-999.000,   18019,-999.0000,   3.2411,-999.0000, -999.00
 316N145_11,       I01W,     929,          1,         15,     SIH009,2,19950919,       1437,     8.8000,    63.5667,       4535,  1999.5,   2.8651,  34.8015,2,  34.8011,2,    113.7,2,   113.7,2,  128.13,2,   36.46,2,    0.00,2,    2.61,2,   0.005,4,   0.000,2,  2324.1,2,  2410.8,2,-999.0000,9,-999.0000,9, -999.00,9,   -0.12,2,  -188.7,2,     2.6,-999.000,9,-999.000,   19996,-999.0000,   2.7150,-999.0000, -999.00
 316N145_11,       I01W,     929,          1,         14,     SIH010,2,19950919,       1437,     8.8000,    63.5667,       4535,  2196.5,   2.4912,  34.7810,2,  34.7807,2,    122.4,2,   124.3,2,  132.16,2,   36.02,2,    0.00,2,    2.55,2,-999.000,9,-999.000,9,  -999.0,9,  -999.0,9,-999.0000,9,-999.0000,9, -999.00,9,    0.04,2,  -184.2,2,     3.4,-999.000,9,-999.000,   21967,-999.0000,   2.3293,-999.0000, -999.00
 316N145_11,       I01W,     929,          1,         13,     SIH011,2,19950919,       1437,     8.8000,    63.5667,       4535,  2400.2,   2.2184,  34.7696,2,  34.7697,2,    130.6,2,   129.5,2,  136.36,2,   35.87,2,    0.00,2,    2.55,2,-999.000,9,-999.000,9,  -999.0,9,  -999.0,9,-999.0000,9,-999.0000,9, -999.00,9,   -0.02,2,  -187.9,2,     4.4,-999.000,9,-999.000,   24006,-999.0000,   2.0427,-999.0000, -999.00
 316N145_11,       I01W,     929,          1,         12,     SIH012,2,19950919,       1437,     8.8000,    63.5667,       4535,  2603.2,   2.0095,  34.7571,2,  34.7592,2,    136.7,2,   136.6,2,  138.20,2,   35.52,2,    0.00,2,    2.50,2,   0.001,2,   0.000,2,  2325.9,2,  2426.4,2,-999.0000,9,-999.0000,9, -999.00,9,    0.09,2,  -185.7,2,     3.2,-999.000,9,-999.000,   26037,-999.0000,   1.8192,-999.0000, -999.00
 316N145_11,       I01W,     929,          1,         11,     SI9426,2,19950919,       1437,     8.8000,    63.5667,       4535,  2800.2,   1.8788,  34.7492,2,  34.7488,2,    145.0,2,   145.7,2,  137.50,2,   35.23,2,    0.00,2,    2.47,2,-999.000,9,-999.000,9,  -999.0,9,  -999.0,9,-999.0000,9,-999.0000,9, -999.00,9,   -0.05,2,  -186.2,2,     2.6,-999.000,9,-999.000,   28008,-999.0000,   1.6726,-999.0000, -999.00
 316N145_11,       I01W,     929,          1,         10,     SIH014,2,19950919,       1437,     8.8000,    63.5667,       4535,  2992.8,   1.8037,  34.7440,2,  34.7429,2,    151.6,2,   150.9,2,  137.52,2,   35.06,2,    0.00,2,    2.45,2,-999.000,9,-999.000,9,  2316.4,2,  2423.0,2,-999.0000,9,-999.0000,9, -999.00,9,    0.01,2,  -181.4,2,     3.2,-999.000,9,-999.000,   29936,-999.0000,   1.5805,-999.0000, -999.00
 316N145_11,       I01W,     929,          1,          9,     SIH015,2,19950919,       1437,     8.8000,    63.5667,       4535,  3195.9,   1.7613,  34.7407,2,  34.7402,2,    153.2,2,   152.2,2,  137.71,2,   34.91,2,    0.00,2,    2.44,2,  -0.001,2,   0.000,2,  -999.0,9,  -999.0,9,-999.0000,9,-999.0000,9, -999.00,9, -999.00,9,  -999.0,9,    -9.0,-999.000,9,-999.000,   31968,-999.0000,   1.5191,-999.0000, -999.00
 316N145_11,       I01W,     929,          1,          8,     SIH016,2,19950919,       1437,     8.8000,    63.5667,       4535,  3395.0,   1.7142,  34.7387,2,  34.7372,2,    155.5,2,   154.8,2,  138.64,2,   34.85,2,    0.00,2,    2.43,2,-999.000,9,-999.000,9,  2316.3,2,  2425.3,2,-999.0000,9,-999.0000,9, -999.00,9,    0.17,2,  -179.3,2,     3.6,-999.000,9,-999.000,   33960,-999.0000,   1.4532,-999.0000, -999.00
 316N145_11,       I01W,     929,          1,          7,     SIH017,2,19950919,       1437,     8.8000,    63.5667,       4535,  3598.3,   1.6859,  34.7363,2,  34.7364,2,    158.7,2,   157.1,2,  138.66,2,   34.71,2,    0.00,2,    2.42,2,   0.001,2,   0.002,2,  -999.0,9,  -999.0,9,-999.0000,9,-999.0000,9, -999.00,9,    0.17,2,  -176.3,2,     3.3,-999.000,9,-999.000,   35995,-999.0000,   1.4046,-999.0000, -999.00
 316N145_11,       I01W,     929,          1,          6,     SIH018,2,19950919,       1437,     8.8000,    63.5667,       4535,  3802.6,   1.6618,  34.7344,2,  34.7337,2,    159.8,2,   157.9,2,  139.03,2,   34.71,2,    0.00,2,    2.41,2,-999.000,9,-999.000,9,  -999.0,9,  -999.0,9,-999.0000,9,-999.0000,9, -999.00,9,    0.14,2,  -178.9,2,     3.2,-999.000,9,-999.000,   38039,-999.0000,   1.3595,-999.0000, -999.00
 316N145_11,       I01W,     929,          1,          5,     SIH002,2,19950919,       1437,     8.8000,    63.5667,       4535,  3997.3,   1.6452,  34.7322,2,  34.7473,4,    160.1,2,   157.3,4,  137.58,2,   34.66,2,    0.00,2,    2.41,2,-999.000,9,-999.000,9,  2313.6,2,  2425.2,2,-999.0000,9,-999.0000,9, -999.00,9, -999.00,9,  -999.0,9,    -9.0,-999.000,9,-999.000,   39988,-999.0000,   1.3222,-999.0000, -999.00
 316N145_11,       I01W,     929,          1,          4,     SIH020,2,19950919,       1437,     8.8000,    63.5667,       4535,  4195.3,   1.6302,  34.7304,2,  34.7307,2,    165.0,2,   160.6,2,  138.51,2,   34.50,2,    0.00,2,    2.40,2,-999.000,9,-999.000,9,  -999.0,9,  -999.0,9,-999.0000,9,-999.0000,9, -999.00,9,    0.14,2,  -175.8,2,     2.9,-999.000,9,-999.000,   41969,-999.0000,   1.2857,-999.0000, -999.00
 316N145_11,       I01W,     929,          1,          3,     SIH021,2,19950919,       1437,     8.8000,    63.5667,       4535,  4394.8,   1.6341,  34.7302,2,  34.7298,2,    164.8,2,   164.1,2,  138.35,2,   34.54,2,    0.01,2,    2.38,2,   0.007,2,   0.001,2,  -999.0,9,  -999.0,9,-999.0000,9,-999.0000,9, -999.00,9,    0.21,2,  -183.3,2,     2.8,-999.000,9,-999.000,   43965,-999.0000,   1.2668,-999.0000, -999.00
 316N145_11,       I01W,     929,          1,          2,     SIH022,2,19950919,       1437,     8.8000,    63.5667,       4535,  4577.7,   1.6439,  34.7299,2,  34.7298,2,    167.2,2,   163.9,2,  138.00,2,   34.44,2,    0.01,2,    2.38,2,   0.006,2,  -0.001,2,  -999.0,9,  -999.0,9,-999.0000,9,-999.0000,9, -999.00,9,    0.10,2,  -186.6,2,     2.6,-999.000,9,-999.000,   45796,-999.0000,   1.2551,-999.0000, -999.00
 316N145_11,       I01W,     929,          1,          1,     SIH023,2,19950919,       1437,     8.8000,    63.5667,       4535,  4629.6,   1.6481,  34.7300,2,  34.7313,2,    165.3,2,   164.9,2,  137.83,2,   34.46,2,    0.00,2,    2.38,2,   0.008,6,   0.002,6,  2311.3,2,  2428.5,2,-999.0000,9,-999.0000,9, -999.00,9,    0.28,2,  -182.9,2,     2.7,-999.000,9,-999.000,   46315,-999.0000,   1.2530,-999.0000, -999.00