BOTTLE,20211119CCHSIORKP
EXPOCODE,SECT_ID,STNNBR,CASTNO,SAMPNO,BTLNBR,BTLNBR_FLAG_W,DATE,TIME,LATITUDE,LONGITUDE,DEPTH,CTDPRS,CTDTMP,CTDSAL,CTDSAL_FLAG_W,SALNTY,SALNTY_FLAG_W,CTDOXY,CTDOXY_FLAG_W,OXYGEN,OXYGEN_FLAG_W,SILCAT,SILCAT_FLAG_W,NITRAT,NITRAT_FLAG_W,NITRIT,NITRIT_FLAG_W,PHSPHT,PHSPHT_FLAG_W,CFC-11,CFC-11_FLAG_W,CFC-12,CFC-12_FLAG_W,TCARBN,TCARBN_FLAG_W,ALKALI,ALKALI_FLAG_W,TRITUM,TRITUM_FLAG_W,HELIUM,HELIUM_FLAG_W,DELHE3,DELHE3_FLAG_W,DELC13,DELC13_FLAG_W,DELC14,DELC14_FLAG_W,C14ERR,NEON,NEON_FLAG_W,NEONER,CTDRAW,TRITER,THETA,HELIER,DELHER
,,,,,,,,,,,METERS,DBAR,ITS-90,PSS-78,,PSS-78,,UMOL/KG,,UMOL/KG,,UMOL/KG,,UMOL/KG,,UMOL/KG,,UMOL/KG,,PMOL/KG,,PMOL/KG,,UMOL/KG,,UMOL/KG,,TU,,NMOL/KG,,PERCNT,,/MILLE,,/MILLE,,/MILLE,NMOL/KG,,NMOL/KG,DBAR,TU,DEG C,NMOL/KG,PERCNT
 316N145_11,       I01W,     955,          1,         24,     SIH036,2,19950926,       0506,     8.8583,    75.3362,       1665,     9.0,  28.1522,  34.5530,2,  34.5596,2,    233.4,2,   239.9,2,    2.38,2,    0.06,2,   -0.01,2,    0.18,2,   1.658,2,   0.971,2,  1850.8,2,  2275.4,2,   0.8628,2,   1.7174,2,   -1.28,2, -999.00,9,  -999.0,9,    -9.0,   6.719,2,   0.034,      82,   0.0036,  28.1501,   0.0086,    0.14
 316N145_11,       I01W,     955,          1,         23,     SIH001,2,19950926,       0506,     8.8583,    75.3362,       1665,    28.5,  25.6209,  35.3069,2,  35.3092,2,    115.1,2,   112.7,2,    6.35,2,   12.05,2,    0.13,2,    0.97,2,-999.000,9,-999.000,9,  2059.9,2,  2309.9,2,   0.7704,2,   1.7441,2,   -0.23,2, -999.00,9,  -999.0,9,    -9.0,   6.870,2,   0.034,     278,   0.0037,  25.6147,   0.0087,    0.14
 316N145_11,       I01W,     955,          1,         22,     SIH019,2,19950926,       0506,     8.8583,    75.3362,       1665,    58.7,  22.5453,  35.4504,2,  35.4429,2,     53.2,2,    57.1,2,   12.49,2,   19.64,2,    0.06,2,    1.47,2,-999.000,9,-999.000,9,  2134.7,2,  2316.9,2,   0.7644,2,   1.7333,2,    1.40,2, -999.00,9,  -999.0,9,    -9.0,   6.936,2,   0.035,     579,   0.0034,  22.5335,   0.0087,    0.14
 316N145_11,       I01W,     955,          1,         21,     SIH025,2,19950926,       0506,     8.8583,    75.3362,       1665,    88.9,  19.7356,  35.3687,2,  35.3660,2,     40.7,2,    42.5,2,   15.76,2,   22.47,2,    0.03,2,    1.67,2,-999.000,9,-999.000,9,  2164.5,2,  2319.4,2,-999.0000,9,   1.7833,2,    2.48,2, -999.00,9,  -999.0,9,    -9.0,   7.215,2,   0.036,     881,-999.0000,  19.7193,   0.0089,    0.14
 316N145_11,       I01W,     955,          1,         20,     SIH004,3,19950926,       0506,     8.8583,    75.3362,       1665,   118.4,  17.9851,  35.2796,3,  35.2664,2,     12.8,2,    13.6,2,   20.82,2,   27.11,2,    0.03,2,    2.01,2,-999.000,9,-999.000,9,  2196.3,2,  2313.7,2,   0.5959,2,   1.7673,2,    3.61,2, -999.00,9,  -999.0,9,    -9.0,   7.189,2,   0.036,    1177,   0.0031,  17.9647,   0.0088,    0.14
 316N145_11,       I01W,     955,          1,         19,     SIH005,2,19950926,       0506,     8.8583,    75.3362,       1665,   148.9,  15.6221,  35.1752,2,  35.1721,2,     17.5,2,    22.8,2,   23.55,2,   28.23,2,    0.01,2,    2.05,2,-999.000,9,-999.000,9,  2209.3,2,  2312.9,2,   0.5082,2,   1.7669,2,    4.23,2, -999.00,9,  -999.0,9,    -9.0,   7.285,2,   0.036,    1482,   0.0030,  15.5990,   0.0088,    0.14
 316N145_11,       I01W,     955,          1,         18,     SIH006,2,19950926,       0506,     8.8583,    75.3362,       1665,   179.0,  14.9030,  35.1688,2,  35.1689,2,     39.0,2,    38.5,2,   22.65,2,   27.08,2,    0.01,2,    1.95,2,   0.731,2,   0.384,2,  2204.1,2,  2313.8,2,   0.5091,2,   1.7907,2,    4.24,2, -999.00,9,  -999.0,9,    -9.0,   7.415,2,   0.037,    1783,   0.0030,  14.8760,   0.0090,    0.14
 316N145_11,       I01W,     955,          1,         17,     SIH038,2,19950926,       0506,     8.8583,    75.3362,       1665,   199.0,  14.4036,  35.1796,2,  35.1675,2,     33.6,2,    34.1,2,   23.92,2,   28.08,2,    0.01,2,    2.02,2,-999.000,9,-999.000,9,  2212.1,2,  2313.9,2,   0.4646,2,   1.7553,2,    4.56,2, -999.00,9,  -999.0,9,    -9.0,   7.283,2,   0.036,    1983,   0.0029,  14.3743,   0.0088,    0.14
 316N145_11,       I01W,     955,          1,         16,     SIH008,2,19950926,       0506,     8.8583,    75.3362,       1665,   249.0,  13.0201,  35.1368,2,  35.1362,2,     29.8,2,    33.1,2,   27.19,2,   29.67,2,    0.00,2,    2.12,2,-999.000,9,-999.000,9,  2225.5,2,  2317.4,2,   0.3580,2,   1.7931,2,    4.76,2, -999.00,9,  -999.0,9,    -9.0,   7.456,2,   0.037,    2483,   0.0028,  12.9857,   0.0090,    0.14
 316N145_11,       I01W,     955,          1,         15,     SIH009,2,19950926,       0506,     8.8583,    75.3362,       1665,   298.2,  12.3723,  35.1694,2,  35.1660,2,     24.7,2,    26.8,2,   29.37,2,   30.78,2,    0.00,2,    2.22,2,-999.000,9,-999.000,9,  2239.2,2,  2320.9,2,   0.2911,2,   1.8029,2,    4.67,2, -999.00,9,  -999.0,9,    -9.0,   7.514,2,   0.038,    2975,   0.0026,  12.3323,   0.0090,    0.14
 316N145_11,       I01W,     955,          1,         14,     SIH010,2,19950926,       0506,     8.8583,    75.3362,       1665,   398.4,  11.2403,  35.1556,2,  35.1587,2,     27.1,2,    25.7,2,   35.90,2,   32.86,2,    0.00,2,    2.37,2,   0.182,2,   0.094,2,  2253.0,2,  2326.4,2,   0.1757,2,   1.7956,2,    4.77,2, -999.00,9,  -999.0,9,    -9.0,   7.486,2,   0.037,    3978,   0.0026,  11.1899,   0.0090,    0.14
 316N145_11,       I01W,     955,          1,         13,     SIH011,2,19950926,       0506,     8.8583,    75.3362,       1665,   499.1,  10.4574,  35.1650,2,  35.1632,2,     19.8,2,    18.3,2,   44.79,2,   34.33,2,    0.00,2,    2.54,2,-999.000,9,-999.000,9,  2267.7,2,  2333.9,2,   0.0929,2,   1.8268,2,    5.16,2, -999.00,9,  -999.0,9,    -9.0,   7.619,2,   0.038,    4985,   0.0023,  10.3969,   0.0091,    0.14
 316N145_11,       I01W,     955,          1,         12,     SIH012,3,19950926,       0506,     8.8583,    75.3362,       1665,   599.5,   9.9792,  35.1848,3,  35.1815,2,     17.5,2,    18.0,2,   51.14,2,   34.99,2,    0.01,2,    2.63,2,-999.000,9,-999.000,9,  2277.0,2,  2341.3,2,-999.0000,9,   1.8216,2,    6.05,2, -999.00,9,  -999.0,9,    -9.0,   7.607,2,   0.038,    5989,-999.0000,   9.9081,   0.0091,    0.14
 316N145_11,       I01W,     955,          1,         11,     SI9426,2,19950926,       0506,     8.8583,    75.3362,       1665,   699.5,   9.2571,  35.1496,2,  35.1500,2,     19.8,2,    18.7,2,   59.86,2,   35.88,2,    0.00,2,    2.71,2,-999.000,9,-999.000,9,  2286.2,2,  2350.0,2,-999.0000,9,-999.0000,9, -999.00,9, -999.00,9,  -999.0,9,    -9.0,-999.000,9,-999.000,    6989,-999.0000,   9.1775,-999.0000, -999.00
 316N145_11,       I01W,     955,          1,         10,     SIH014,2,19950926,       0506,     8.8583,    75.3362,       1665,   800.4,   8.5579,  35.1157,2,  35.1163,2,     23.7,2,    25.2,2,   67.85,2,   36.71,2,    0.00,2,    2.76,2,   0.005,3,   0.002,2,  2294.4,2,  2356.8,2,   0.0255,2,-999.0000,9, -999.00,9, -999.00,9,  -999.0,9,    -9.0,-999.000,9,-999.000,    7999,   0.0023,   8.4704,-999.0000, -999.00
 316N145_11,       I01W,     955,          1,          9,     SIH015,2,19950926,       0506,     8.8583,    75.3362,       1665,   905.4,   7.6906,  35.0476,2,  35.0488,2,     31.7,2,    30.2,2,   76.58,2,   37.38,2,    0.00,2,    2.79,2,-999.000,9,-999.000,9,  2300.9,2,  2362.2,2,-999.0000,9,-999.0000,9, -999.00,9, -999.00,9,  -999.0,9,    -9.0,-999.000,9,-999.000,    9049,-999.0000,   7.5968,-999.0000, -999.00
 316N145_11,       I01W,     955,          1,          8,     SIH016,2,19950926,       0506,     8.8583,    75.3362,       1665,  1006.1,   6.9343,  35.0087,2,  35.0100,2,     40.1,2,    39.6,2,   85.32,2,   37.76,2,    0.00,2,    2.81,2,   0.000,2,  -0.002,2,  2307.7,2,  2373.5,2,   0.0064,2,   1.8393,2,   10.30,2, -999.00,9,  -999.0,9,    -9.0,   7.720,2,   0.039,   10057,   0.0022,   6.8351,   0.0092,    0.14
 316N145_11,       I01W,     955,          1,          7,     SIH017,2,19950926,       0506,     8.8583,    75.3362,       1665,  1104.8,   6.2364,  34.9502,2,  34.9500,2,     49.9,2,    50.0,2,   92.24,2,   37.77,2,    0.00,2,    2.80,2,-999.000,9,-999.000,9,  -999.0,9,  -999.0,9,-999.0000,9,-999.0000,9, -999.00,9, -999.00,9,  -999.0,9,    -9.0,-999.000,9,-999.000,   11044,-999.0000,   6.1325,-999.0000, -999.00
 316N145_11,       I01W,     955,          1,          6,     SIH018,2,19950926,       0506,     8.8583,    75.3362,       1665,  1203.4,   5.7552,  34.9287,2,  34.9294,2,     56.5,2,    57.2,2,   97.53,2,   37.78,2,    0.00,2,    2.80,2,-999.000,9,-999.000,9,  2315.0,2,  2381.8,2,   0.0029,2,   1.8558,2,   11.41,2, -999.00,9,  -999.0,9,    -9.0,   7.809,2,   0.039,   12031,   0.0022,   5.6456,   0.0093,    0.14
 316N145_11,       I01W,     955,          1,          5,     SIH002,3,19950926,       0506,     8.8583,    75.3362,       1665,  1302.6,   5.4250,  34.9166,3,  34.9181,2,     63.2,2,    63.1,2,  100.82,2,   37.73,2,    0.00,2,    2.79,2,-999.000,9,-999.000,9,  -999.0,9,  -999.0,9,-999.0000,9,-999.0000,9, -999.00,9, -999.00,9,  -999.0,9,    -9.0,-999.000,9,-999.000,   13024,-999.0000,   5.3086,-999.0000, -999.00
 316N145_11,       I01W,     955,          1,          4,     SIH020,2,19950926,       0506,     8.8583,    75.3362,       1665,  1399.9,   4.7408,  34.8857,2,  34.8859,2,     74.0,2,    73.6,2,  108.30,2,   37.46,2,    0.00,2,    2.76,2,-999.000,9,-999.000,9,  2320.8,2,  2392.7,2,-999.0000,9,-999.0000,9, -999.00,9, -999.00,9,  -999.0,9,    -9.0,-999.000,9,-999.000,   13996,-999.0000,   4.6220,-999.0000, -999.00
 316N145_11,       I01W,     955,          1,          3,     SIH021,2,19950926,       0506,     8.8583,    75.3362,       1665,  1499.1,   4.2242,  34.8567,2,  34.8572,2,     83.5,2,    83.3,2,  113.97,2,   37.20,2,    0.00,2,    2.74,2,   0.000,2,   0.003,2,  -999.0,9,  -999.0,9,-999.0000,9,-999.0000,9, -999.00,9, -999.00,9,  -999.0,9,    -9.0,-999.000,9,-999.000,   14990,-999.0000,   4.1018,-999.0000, -999.00
 316N145_11,       I01W,     955,          1,          2,     SIH022,2,19950926,       0506,     8.8583,    75.3362,       1665,  1620.2,   3.8174,  34.8406,2,  34.8391,2,     91.8,2,    92.3,2,  118.36,2,   37.09,2,    0.00,2,    2.71,2,  -0.002,2,   0.000,2,  -999.0,9,  -999.0,9,    0.001,2,-999.0000,9, -999.00,9, -999.00,9,  -999.0,9,    -9.0,-999.000,9,-999.000,   16201,    0.002,   3.6887,-999.0000, -999.00
 316N145_11,       I01W,     955,          1,          1,     SIH023,3,19950926,       0506,     8.8583,    75.3362,       1665,  1671.5,   3.8069,  34.8371,3,  34.8363,2,     92.3,2,    93.3,2,  118.85,2,   36.98,2,    0.00,2,    2.70,2,  -0.003,2,   0.000,2,  2324.4,2,  2408.3,2,-999.0000,9,-999.0000,9, -999.00,9, -999.00,9,  -999.0,9,    -9.0,-999.000,9,-999.000,   16715,-999.0000,   3.6736,-999.0000, -999.00
 316N145_11,       I01W,     956,          1,         12,     SIH012,2,19950926,       0900,     8.9305,    75.6667,        345,     7.9,  27.0823,  34.1118,2,  34.1546,2,    270.7,2,   252.5,2,    3.74,2,    0.21,2,    0.03,2,    0.13,2,   1.564,2,   0.924,2,  1904.9,2,  2259.8,2,-999.0000,9,-999.0000,9, -999.00,9, -999.00,9,  -999.0,9,    -9.0,-999.000,9,-999.000,      70,-999.0000,  27.0805,-999.0000, -999.00
 316N145_11,       I01W,     956,          1,         11,     SI9426,2,19950926,       0900,     8.9305,    75.6667,        345,    33.6,  24.2244,  35.5908,2,  35.5946,2,     65.9,2,    65.5,2,    9.49,2,   16.71,2,    0.16,2,    1.29,2,-999.000,9,-999.000,9,  -999.0,9,  2325.7,2,-999.0000,9,-999.0000,9, -999.00,9, -999.00,9,  -999.0,9,    -9.0,-999.000,9,-999.000,     327,-999.0000,  24.2172,-999.0000, -999.00
 316N145_11,       I01W,     956,          1,         10,     SIH014,2,19950926,       0900,     8.9305,    75.6667,        345,    62.9,  22.0128,  35.5569,2,  35.5596,2,     41.8,2,    41.5,2,   13.09,2,   21.21,2,    0.06,2,    1.59,2,   1.240,2,   0.698,2,  2149.7,2,  2325.9,2,-999.0000,9,-999.0000,9, -999.00,9, -999.00,9,  -999.0,9,    -9.0,-999.000,9,-999.000,     619,-999.0000,  22.0004,-999.0000, -999.00
 316N145_11,       I01W,     956,          1,          9,     SIH015,2,19950926,       0900,     8.9305,    75.6667,        345,    93.2,  19.4879,  35.3843,2,  35.3760,2,     33.8,2,    34.3,2,   16.68,2,   23.91,2,    0.03,2,    1.77,2,-999.000,9,-999.000,9,  2172.7,2,  2321.4,2,-999.0000,9,-999.0000,9, -999.00,9, -999.00,9,  -999.0,9,    -9.0,-999.000,9,-999.000,     922,-999.0000,  19.4710,-999.0000, -999.00
 316N145_11,       I01W,     956,          1,          8,     SIH016,2,19950926,       0900,     8.9305,    75.6667,        345,   123.5,  18.0346,  35.2373,2,  35.2343,2,     54.4,2,    56.7,2,   17.05,2,   22.72,2,    0.02,2,    1.63,2,   1.117,2,   0.613,2,  2161.8,2,  2314.6,2,-999.0000,9,-999.0000,9, -999.00,9, -999.00,9,  -999.0,9,    -9.0,-999.000,9,-999.000,    1225,-999.0000,  18.0134,-999.0000, -999.00
 316N145_11,       I01W,     956,          1,          7,     SIH017,2,19950926,       0900,     8.9305,    75.6667,        345,   153.6,  17.2407,  35.2230,2,  35.2223,2,     48.3,2,    46.5,2,   18.66,2,   24.30,2,    0.02,2,    1.74,2,   1.014,2,   0.548,2,  2174.5,2,  2315.2,2,-999.0000,9,-999.0000,9, -999.00,9, -999.00,9,  -999.0,9,    -9.0,-999.000,9,-999.000,    1527,-999.0000,  17.2151,-999.0000, -999.00
 316N145_11,       I01W,     956,          1,          6,     SIH018,2,19950926,       0900,     8.9305,    75.6667,        345,   183.5,  15.4924,  35.1768,2,  35.1709,2,     17.9,2,    17.1,2,   24.42,2,   28.75,2,    0.01,2,    2.10,2,-999.000,9,-999.000,9,  2214.8,2,  2317.6,2,-999.0000,9,-999.0000,9, -999.00,9, -999.00,9,  -999.0,9,    -9.0,-999.000,9,-999.000,    1826,-999.0000,  15.4640,-999.0000, -999.00
 316N145_11,       I01W,     956,          1,          5,     SIH002,2,19950926,       0900,     8.9305,    75.6667,        345,   213.8,  14.6099,  35.1392,2,  35.1433,2,     27.1,2,    27.3,2,   24.95,2,   28.60,2,    0.01,2,    2.06,2,   0.615,2,   0.323,2,  2214.1,2,  2319.0,2,-999.0000,9,-999.0000,9, -999.00,9, -999.00,9,  -999.0,9,    -9.0,-999.000,9,-999.000,    2128,-999.0000,  14.5781,-999.0000, -999.00
 316N145_11,       I01W,     956,          1,          4,     SIH020,2,19950926,       0900,     8.9305,    75.6667,        345,   243.8,  13.8305,  35.1426,2,  35.1408,2,     15.8,2,    16.7,2,   28.19,2,   30.28,2,    0.01,2,    2.21,2,-999.000,9,-999.000,9,  2230.9,2,  2319.8,2,-999.0000,9,-999.0000,9, -999.00,9, -999.00,9,  -999.0,9,    -9.0,-999.000,9,-999.000,    2429,-999.0000,  13.7954,-999.0000, -999.00
 316N145_11,       I01W,     956,          1,          3,     SIH021,2,19950926,       0900,     8.9305,    75.6667,        345,   273.8,  13.0790,  35.1655,2,  35.1616,2,     18.8,2,    19.0,2,   28.74,2,   30.60,2,    0.01,2,    2.23,2,   0.387,2,   0.204,2,  2238.6,2,  2322.7,2,-999.0000,9,-999.0000,9, -999.00,9, -999.00,9,  -999.0,9,    -9.0,-999.000,9,-999.000,    2729,-999.0000,  13.0410,-999.0000, -999.00
 316N145_11,       I01W,     956,          1,          2,     SIH022,2,19950926,       0900,     8.9305,    75.6667,        345,   313.7,  11.9524,  35.1482,2,  35.1406,2,     27.9,2,    27.7,2,   31.42,2,   31.36,2,    0.01,2,    2.24,2,   0.322,2,   0.169,2,  2241.5,2,  2325.3,2,-999.0000,9,-999.0000,9, -999.00,9, -999.00,9,  -999.0,9,    -9.0,-999.000,9,-999.000,    3129,-999.0000,  11.9113,-999.0000, -999.00
 316N145_11,       I01W,     956,          1,          1,     SIH023,2,19950926,       0900,     8.9305,    75.6667,        345,   344.2,  11.3923,  35.1461,2,  35.1390,2,     23.3,2,    23.8,2,   35.99,2,   32.25,2,    0.02,2,    2.35,2,   0.237,2,   0.122,2,  2252.0,2,  2330.3,2,-999.0000,9,-999.0000,9, -999.00,9, -999.00,9,  -999.0,9,    -9.0,-999.000,9,-999.000,    3433,-999.0000,  11.3486,-999.0000, -999.00
 316N145_11,       I01W,     957,          1,          5,     SIH002,3,19950926,       1218,     9.0000,    76.0000,         95,     3.6,  27.3878,  33.9502,3,  33.9542,2,    371.5,2,   259.6,2,    3.82,2,    0.02,2,    0.03,2,    0.01,2,   1.587,2,   0.944,2,  1842.3,2,  2244.8,2,-999.0000,9,-999.0000,9, -999.00,9, -999.00,9,  -999.0,9,    -9.0,-999.000,9,-999.000,      24,-999.0000,  27.3869,-999.0000, -999.00
 316N145_11,       I01W,     957,          1,          4,     SIH020,2,19950926,       1218,     9.0000,    76.0000,         95,    13.7,  26.3145,  35.1647,2,  35.1173,2,    126.9,2,   127.3,2,    5.08,2,    6.99,2,    0.78,2,    0.79,2,-999.000,9,-999.000,9,  2040.1,2,  2303.1,2,-999.0000,9,-999.0000,9, -999.00,9, -999.00,9,  -999.0,9,    -9.0,-999.000,9,-999.000,     125,-999.0000,  26.3114,-999.0000, -999.00
 316N145_11,       I01W,     957,          1,          3,     SIH021,2,19950926,       1218,     9.0000,    76.0000,         95,    43.5,  21.6569,  35.2172,2,  35.2115,2,     33.9,2,    34.1,2,   16.94,2,   21.09,2,    0.15,2,    1.62,2,   1.183,2,   0.661,2,  2147.0,2,  2303.4,2,-999.0000,9,-999.0000,9, -999.00,9, -999.00,9,  -999.0,9,    -9.0,-999.000,9,-999.000,     423,-999.0000,  21.6484,-999.0000, -999.00
 316N145_11,       I01W,     957,          1,          2,     SIH022,2,19950926,       1218,     9.0000,    76.0000,         95,    73.6,  19.8249,  35.2685,2,  35.2558,2,     41.2,2,    41.2,2,   17.84,2,   22.10,2,    0.12,2,    1.66,2,-999.000,9,-999.000,9,  2158.5,2,  2311.3,2,-999.0000,9,-999.0000,9, -999.00,9, -999.00,9,  -999.0,9,    -9.0,-999.000,9,-999.000,     725,-999.0000,  19.8114,-999.0000, -999.00
 316N145_11,       I01W,     957,          1,          1,     SIH023,3,19950926,       1218,     9.0000,    76.0000,         95,    93.8,  19.5704,  35.2659,3,  35.2562,2,     41.9,2,    42.0,2,   17.75,2,   22.25,2,    0.13,2,    1.67,2,   1.135,2,   0.628,2,  2160.5,2,  2311.2,2,-999.0000,9,-999.0000,9, -999.00,9, -999.00,9,  -999.0,9,    -9.0,-999.000,9,-999.000,     926,-999.0000,  19.5533,-999.0000, -999.00