BOTTLE,20211119CCHSIORKP
EXPOCODE,SECT_ID,STNNBR,CASTNO,SAMPNO,BTLNBR,BTLNBR_FLAG_W,DATE,TIME,LATITUDE,LONGITUDE,DEPTH,CTDPRS,CTDTMP,CTDSAL,CTDSAL_FLAG_W,SALNTY,SALNTY_FLAG_W,CTDOXY,CTDOXY_FLAG_W,OXYGEN,OXYGEN_FLAG_W,SILCAT,SILCAT_FLAG_W,NITRAT,NITRAT_FLAG_W,NITRIT,NITRIT_FLAG_W,PHSPHT,PHSPHT_FLAG_W,CFC-11,CFC-11_FLAG_W,CFC-12,CFC-12_FLAG_W,TCARBN,TCARBN_FLAG_W,ALKALI,ALKALI_FLAG_W,TRITUM,TRITUM_FLAG_W,HELIUM,HELIUM_FLAG_W,DELHE3,DELHE3_FLAG_W,DELC13,DELC13_FLAG_W,DELC14,DELC14_FLAG_W,C14ERR,NEON,NEON_FLAG_W,NEONER,CTDRAW,TRITER,THETA,HELIER,DELHER
,,,,,,,,,,,METERS,DBAR,ITS-90,PSS-78,,PSS-78,,UMOL/KG,,UMOL/KG,,UMOL/KG,,UMOL/KG,,UMOL/KG,,UMOL/KG,,PMOL/KG,,PMOL/KG,,UMOL/KG,,UMOL/KG,,TU,,NMOL/KG,,PERCNT,,/MILLE,,/MILLE,,/MILLE,NMOL/KG,,NMOL/KG,DBAR,TU,DEG C,NMOL/KG,PERCNT
 316N145_11,       I01W,     930,          1,         36,     SIH024,2,19950919,       2117,     8.6972,    64.0000,       4530,     6.6,  28.3433,  36.5560,2,  36.5521,2,    207.8,2,   202.4,2,    1.53,2,    0.12,2,   -0.01,2,    0.29,2,   1.651,2,   0.967,2,  2020.6,2,  2386.0,2,-999.0000,9,-999.0000,9, -999.00,9, -999.00,9,  -999.0,9,    -9.0,-999.000,9,-999.000,      56,-999.0000,  28.3417,-999.0000, -999.00
 316N145_11,       I01W,     930,          1,         35,     SIH003,2,19950919,       2117,     8.6972,    64.0000,       4530,    32.2,  28.0289,  36.5443,2,  36.5446,2,    203.1,2,   199.9,2,    1.35,2,    0.07,2,   -0.01,2,    0.29,2,-999.000,9,-999.000,9,  2020.1,2,  2385.3,2,-999.0000,9,-999.0000,9, -999.00,9, -999.00,9,  -999.0,9,    -9.0,-999.000,9,-999.000,     313,-999.0000,  28.0213,-999.0000, -999.00
 316N145_11,       I01W,     930,          1,         34,     SIH026,2,19950919,       2117,     8.6972,    64.0000,       4530,    61.9,  27.6873,  36.5218,2,  36.5212,2,    201.4,2,   198.7,2,    1.35,2,    0.02,2,    0.00,2,    0.30,2,   1.657,2,   0.966,2,  2022.1,2,  2384.2,2,-999.0000,9,-999.0000,9, -999.00,9, -999.00,9,  -999.0,9,    -9.0,-999.000,9,-999.000,     610,-999.0000,  27.6728,-999.0000, -999.00
 316N145_11,       I01W,     930,          1,         33,     SIH027,2,19950919,       2117,     8.6972,    64.0000,       4530,    91.9,  27.5071,  36.5217,2,  36.5202,2,    196.3,2,   195.2,2,    1.53,2,    0.19,2,    0.44,2,    0.34,2,-999.000,9,-999.000,9,  2028.0,2,  2382.6,2,-999.0000,9,-999.0000,9, -999.00,9, -999.00,9,  -999.0,9,    -9.0,-999.000,9,-999.000,     910,-999.0000,  27.4856,-999.0000, -999.00
 316N145_11,       I01W,     930,          1,         32,     SIH028,2,19950919,       2117,     8.6972,    64.0000,       4530,   122.2,  22.7714,  35.9345,2,  35.9643,2,     54.7,2,    54.3,2,    9.38,2,   19.95,2,    0.05,2,    1.51,2,   1.431,2,   0.813,2,  2151.9,2,  2345.9,2,-999.0000,9,-999.0000,9, -999.00,9, -999.00,9,  -999.0,9,    -9.0,-999.000,9,-999.000,    1212,-999.0000,  22.7466,-999.0000, -999.00
 316N145_11,       I01W,     930,          1,         31,     SIH029,2,19950919,       2117,     8.6972,    64.0000,       4530,   152.0,  18.0964,  35.6121,2,  35.5725,2,      6.5,2,     5.8,2,   19.62,2,   25.73,2,    0.01,2,    2.14,2,-999.000,9,-999.000,9,  2221.1,2,  2331.7,2,-999.0000,9,-999.0000,9, -999.00,9, -999.00,9,  -999.0,9,    -9.0,-999.000,9,-999.000,    1510,-999.0000,  18.0701,-999.0000, -999.00
 316N145_11,       I01W,     930,          1,         30,     SIH030,2,19950919,       2117,     8.6972,    64.0000,       4530,   201.5,  14.3556,  35.2596,2,  35.2647,2,     25.5,2,    29.3,2,   24.01,2,   27.70,2,    0.01,2,    2.04,2,   0.605,2,   0.326,2,  2222.2,2,  2322.3,2,-999.0000,9,-999.0000,9, -999.00,9, -999.00,9,  -999.0,9,    -9.0,-999.000,9,-999.000,    2006,-999.0000,  14.3259,-999.0000, -999.00
 316N145_11,       I01W,     930,          1,         29,     SIH031,2,19950919,       2117,     8.6972,    64.0000,       4530,   247.0,  12.9307,  35.2553,2,  35.2546,2,     37.4,2,    42.4,2,   25.48,2,   28.26,2,    0.00,2,    2.03,2,-999.000,9,-999.000,9,  2227.2,2,  2324.5,2,-999.0000,9,-999.0000,9, -999.00,9, -999.00,9,  -999.0,9,    -9.0,-999.000,9,-999.000,    2461,-999.0000,  12.8967,-999.0000, -999.00
 316N145_11,       I01W,     930,          1,         28,     SIH032,2,19950919,       2117,     8.6972,    64.0000,       4530,   301.9,  12.1653,  35.2182,2,  35.2199,2,     46.0,2,    44.0,2,   27.31,2,   29.33,2,    0.00,2,    2.07,2,   0.441,2,   0.230,2,  2229.9,2,  2324.1,2,-999.0000,9,-999.0000,9, -999.00,9, -999.00,9,  -999.0,9,    -9.0,-999.000,9,-999.000,    3010,-999.0000,  12.1252,-999.0000, -999.00
 316N145_11,       I01W,     930,          1,         27,     SIH033,3,19950919,       2117,     8.6972,    64.0000,       4530,   402.3,  11.4164,  35.2518,3,  35.2548,2,     35.7,2,    31.8,2,   33.71,2,   31.70,2,    0.00,2,    2.28,2,-999.000,9,-999.000,9,  2248.9,2,  2330.4,2,-999.0000,9,-999.0000,9, -999.00,9, -999.00,9,  -999.0,9,    -9.0,-999.000,9,-999.000,    4015,-999.0000,  11.3650,-999.0000, -999.00
 316N145_11,       I01W,     930,          1,         26,     SIH037,2,19950919,       2117,     8.6972,    64.0000,       4530,   502.3,  10.7276,  35.2799,2,  35.2820,2,     24.0,2,    21.1,2,   43.58,2,   33.36,2,    0.00,2,    2.48,2,   0.088,2,   0.045,2,  2265.8,2,  2337.9,2,-999.0000,9,-999.0000,9, -999.00,9, -999.00,9,  -999.0,9,    -9.0,-999.000,9,-999.000,    5015,-999.0000,  10.6655,-999.0000, -999.00
 316N145_11,       I01W,     930,          1,         25,     SI9446,3,19950919,       2117,     8.6972,    64.0000,       4530,   602.0,   9.9018,  35.2260,3,  35.2288,2,     26.7,2,    25.0,4,   51.27,2,   34.48,2,    0.00,2,    2.55,2,-999.000,9,-999.000,9,  2273.7,2,  2346.5,2,-999.0000,9,-999.0000,9, -999.00,9, -999.00,9,  -999.0,9,    -9.0,-999.000,9,-999.000,    6012,-999.0000,   9.8307,-999.0000, -999.00
 316N145_11,       I01W,     930,          1,         24,     SIH036,2,19950919,       2117,     8.6972,    64.0000,       4530,   700.9,   9.0959,  35.1691,2,  35.1695,2,     26.8,2,    22.2,2,   60.98,2,   35.85,2,    0.00,2,    2.65,2,   0.017,2,   0.009,2,  2287.3,2,  2353.5,2,-999.0000,9,-999.0000,9, -999.00,9, -999.00,9,  -999.0,9,    -9.0,-999.000,9,-999.000,    7001,-999.0000,   9.0169,-999.0000, -999.00
 316N145_11,       I01W,     930,          1,         23,     SIH001,2,19950919,       2117,     8.6972,    64.0000,       4530,   795.5,   8.5477,  35.1361,2,  35.1376,2,     30.7,2,    26.2,2,   67.39,2,   36.46,2,    0.00,2,    2.69,2,-999.000,9,-999.000,9,  2294.1,2,  2361.8,2,-999.0000,9,-999.0000,9, -999.00,9, -999.00,9,  -999.0,9,    -9.0,-999.000,9,-999.000,    7948,-999.0000,   8.4609,-999.0000, -999.00
 316N145_11,       I01W,     930,          1,         22,     SIH019,2,19950919,       2117,     8.6972,    64.0000,       4530,   896.4,   8.0944,  35.1284,2,  35.1319,2,     33.1,2,    27.2,2,   73.25,2,   36.87,2,    0.00,2,    2.73,2,   0.008,2,   0.007,2,  2300.5,2,  -999.0,9,-999.0000,9,-999.0000,9, -999.00,9, -999.00,9,  -999.0,9,    -9.0,-999.000,9,-999.000,    8957,-999.0000,   7.9988,-999.0000, -999.00
 316N145_11,       I01W,     930,          1,         21,     SIH025,2,19950919,       2117,     8.6972,    64.0000,       4530,   998.0,   7.5430,  35.1121,2,  35.1112,2,     37.6,2,    31.8,2,   79.49,2,   37.17,2,    0.00,2,    2.74,2,   0.006,2,   0.001,2,  2306.4,2,  2371.1,2,-999.0000,9,-999.0000,9, -999.00,9, -999.00,9,  -999.0,9,    -9.0,-999.000,9,-999.000,    9974,-999.0000,   7.4400,-999.0000, -999.00
 316N145_11,       I01W,     930,          1,         20,     SIH004,2,19950919,       2117,     8.6972,    64.0000,       4530,  1098.8,   7.0929,  35.0968,2,  35.0984,2,     40.7,2,    39.1,2,   84.26,2,   37.33,2,    0.00,2,    2.75,2,-999.000,9,-999.000,9,  -999.0,9,  -999.0,9,-999.0000,9,-999.0000,9, -999.00,9, -999.00,9,  -999.0,9,    -9.0,-999.000,9,-999.000,   10982,-999.0000,   6.9824,-999.0000, -999.00
 316N145_11,       I01W,     930,          1,         19,     SIH005,2,19950919,       2117,     8.6972,    64.0000,       4530,  1198.2,   6.5052,  35.0474,2,  35.0502,2,     47.2,2,    44.5,2,   89.76,2,   37.48,2,    0.00,2,    2.76,2,   0.003,2,   0.001,2,  -999.0,9,  -999.0,9,-999.0000,9,-999.0000,9, -999.00,9, -999.00,9,  -999.0,9,    -9.0,-999.000,9,-999.000,   11977,-999.0000,   6.3893,-999.0000, -999.00
 316N145_11,       I01W,     930,          1,         18,     SIH006,2,19950919,       2117,     8.6972,    64.0000,       4530,  1400.5,   5.4880,  34.9845,2,  34.9856,2,     59.7,2,    58.7,2,  100.40,2,   37.44,2,    0.00,2,    2.76,2,-999.000,9,-999.000,9,  -999.0,9,  -999.0,9,-999.0000,9,-999.0000,9, -999.00,9, -999.00,9,  -999.0,9,    -9.0,-999.000,9,-999.000,   14001,-999.0000,   5.3611,-999.0000, -999.00
 316N145_11,       I01W,     930,          1,         17,     SIH038,2,19950919,       2117,     8.6972,    64.0000,       4530,  1605.6,   4.2742,  34.8871,2,  34.8888,2,     80.9,2,    79.4,2,  113.42,2,   37.34,2,    0.00,2,    2.71,2,-999.000,9,-999.000,9,  -999.0,9,  -999.0,9,-999.0000,9,-999.0000,9, -999.00,9, -999.00,9,  -999.0,9,    -9.0,-999.000,9,-999.000,   16053,-999.0000,   4.1412,-999.0000, -999.00
 316N145_11,       I01W,     930,          1,         16,     SIH008,2,19950919,       2117,     8.6972,    64.0000,       4530,  1801.7,   3.5536,  34.8396,2,  34.8416,2,     96.9,2,    97.6,2,  120.39,2,   36.80,2,    0.00,2,    2.64,2,   0.005,4,   0.002,2,  -999.0,9,  -999.0,9,-999.0000,9,-999.0000,9, -999.00,9, -999.00,9,  -999.0,9,    -9.0,-999.000,9,-999.000,   18015,-999.0000,   3.4117,-999.0000, -999.00
 316N145_11,       I01W,     930,          1,         15,     SIH009,2,19950919,       2117,     8.6972,    64.0000,       4530,  1995.6,   2.9430,  34.8052,2,  34.8062,2,    111.7,2,   111.5,2,  126.83,2,   36.34,2,    0.01,2,    2.60,2,-999.000,9,-999.000,9,  -999.0,9,  -999.0,9,-999.0000,9,-999.0000,9, -999.00,9, -999.00,9,  -999.0,9,    -9.0,-999.000,9,-999.000,   19956,-999.0000,   2.7921,-999.0000, -999.00
 316N145_11,       I01W,     930,          1,         14,     SIH010,2,19950919,       2117,     8.6972,    64.0000,       4530,  2191.2,   2.6066,  34.7887,2,  34.7897,2,    123.5,2,   122.9,2,  129.96,2,   35.90,2,    0.00,2,    2.54,2,-999.000,9,-999.000,9,  -999.0,9,  -999.0,9,-999.0000,9,-999.0000,9, -999.00,9, -999.00,9,  -999.0,9,    -9.0,-999.000,9,-999.000,   21913,-999.0000,   2.4433,-999.0000, -999.00
 316N145_11,       I01W,     930,          1,         13,     SIH011,2,19950919,       2117,     8.6972,    64.0000,       4530,  2392.4,   2.2861,  34.7703,2,  34.7720,2,    132.4,2,   131.5,2,  133.82,2,   35.64,2,    0.00,2,    2.50,2,  -0.002,2,  -0.002,2,  -999.0,9,  -999.0,9,-999.0000,9,-999.0000,9, -999.00,9, -999.00,9,  -999.0,9,    -9.0,-999.000,9,-999.000,   23926,-999.0000,   2.1099,-999.0000, -999.00
 316N145_11,       I01W,     930,          1,         12,     SIH012,2,19950919,       2117,     8.6972,    64.0000,       4530,  2593.1,   2.0751,  34.7586,2,  34.7596,2,    140.0,2,   139.1,2,  135.30,2,   35.40,2,    0.00,2,    2.48,2,-999.000,9,-999.000,9,  -999.0,9,  -999.0,9,-999.0000,9,-999.0000,9, -999.00,9, -999.00,9,  -999.0,9,    -9.0,-999.000,9,-999.000,   25935,-999.0000,   1.8843,-999.0000, -999.00
 316N145_11,       I01W,     930,          1,         11,     SI9426,2,19950919,       2117,     8.6972,    64.0000,       4530,  2795.7,   1.9124,  34.7489,2,  34.7512,2,    146.5,2,   144.7,2,  136.42,2,   35.20,2,    0.00,2,    2.45,2,-999.000,9,-999.000,9,  -999.0,9,  -999.0,9,-999.0000,9,-999.0000,9, -999.00,9, -999.00,9,  -999.0,9,    -9.0,-999.000,9,-999.000,   27963,-999.0000,   1.7060,-999.0000, -999.00
 316N145_11,       I01W,     930,          1,         10,     SIH014,2,19950919,       2117,     8.6972,    64.0000,       4530,  2998.3,   1.8237,  34.7430,2,  34.7435,2,    151.7,2,   150.7,2,  136.80,2,   34.84,2,    0.01,2,    2.43,2,  -0.002,2,  -0.002,2,  -999.0,9,  -999.0,9,-999.0000,9,-999.0000,9, -999.00,9, -999.00,9,  -999.0,9,    -9.0,-999.000,9,-999.000,   29989,-999.0000,   1.5995,-999.0000, -999.00
 316N145_11,       I01W,     930,          1,          9,     SIH015,2,19950919,       2117,     8.6972,    64.0000,       4530,  3198.8,   1.7668,  34.7404,2,  34.7408,2,    154.2,2,   152.0,2,  137.73,2,   34.90,2,    0.00,2,    2.42,2,-999.000,9,-999.000,9,  -999.0,9,  -999.0,9,-999.0000,9,-999.0000,9, -999.00,9, -999.00,9,  -999.0,9,    -9.0,-999.000,9,-999.000,   31996,-999.0000,   1.5242,-999.0000, -999.00
 316N145_11,       I01W,     930,          1,          8,     SIH016,2,19950919,       2117,     8.6972,    64.0000,       4530,  3390.8,   1.7173,  34.7365,2,  34.7370,2,    156.5,2,   154.8,2,  137.75,2,   34.86,2,    0.00,2,    2.42,2,  -0.003,2,  -0.002,2,  -999.0,9,  -999.0,9,-999.0000,9,-999.0000,9, -999.00,9, -999.00,9,  -999.0,9,    -9.0,-999.000,9,-999.000,   33917,-999.0000,   1.4566,-999.0000, -999.00
 316N145_11,       I01W,     930,          1,          7,     SIH017,2,19950919,       2117,     8.6972,    64.0000,       4530,  3591.3,   1.6855,  34.7347,2,  34.7351,2,    159.5,2,   157.2,2,  138.31,2,   34.50,2,    0.01,2,    2.40,2,-999.000,9,-999.000,9,  -999.0,9,  -999.0,9,-999.0000,9,-999.0000,9, -999.00,9, -999.00,9,  -999.0,9,    -9.0,-999.000,9,-999.000,   35924,-999.0000,   1.4049,-999.0000, -999.00
 316N145_11,       I01W,     930,          1,          6,     SIH018,2,19950919,       2117,     8.6972,    64.0000,       4530,  3795.0,   1.6617,  34.7327,2,  34.7329,2,    159.5,2,   158.5,2,  138.51,2,   34.67,2,    0.00,2,    2.38,2,   0.000,2,   0.000,2,  -999.0,9,  -999.0,9,-999.0000,9,-999.0000,9, -999.00,9, -999.00,9,  -999.0,9,    -9.0,-999.000,9,-999.000,   37963,-999.0000,   1.3602,-999.0000, -999.00
 316N145_11,       I01W,     930,          1,          5,     SIH002,2,19950919,       2117,     8.6972,    64.0000,       4530,  3998.8,   1.6413,  34.7321,2,  34.7313,2,    161.6,2,   161.1,2,  138.52,2,   34.62,2,    0.00,2,    2.39,2,-999.000,9,-999.000,9,  -999.0,9,  -999.0,9,-999.0000,9,-999.0000,9, -999.00,9, -999.00,9,  -999.0,9,    -9.0,-999.000,9,-999.000,   40002,-999.0000,   1.3182,-999.0000, -999.00
 316N145_11,       I01W,     930,          1,          4,     SIH020,2,19950919,       2117,     8.6972,    64.0000,       4530,  4191.6,   1.6353,  34.7304,2,  34.7317,2,    163.9,2,   162.6,2,  137.81,2,   34.52,2,   -0.01,2,    2.38,2,-999.000,9,-999.000,9,  -999.0,9,  -999.0,9,-999.0000,9,-999.0000,9, -999.00,9, -999.00,9,  -999.0,9,    -9.0,-999.000,9,-999.000,   41931,-999.0000,   1.2911,-999.0000, -999.00
 316N145_11,       I01W,     930,          1,          3,     SIH021,2,19950919,       2117,     8.6972,    64.0000,       4530,  4396.9,   1.6419,  34.7291,2,  34.7286,2,    163.5,2,   163.1,2,  137.82,2,   34.47,2,   -0.01,2,    2.38,2,   0.002,2,  -0.002,2,  -999.0,9,  -999.0,9,-999.0000,9,-999.0000,9, -999.00,9, -999.00,9,  -999.0,9,    -9.0,-999.000,9,-999.000,   43986,-999.0000,   1.2741,-999.0000, -999.00
 316N145_11,       I01W,     930,          1,          2,     SIH022,2,19950919,       2117,     8.6972,    64.0000,       4530,  4557.1,   1.6460,  34.7285,2,  34.7305,2,    163.7,2,   164.0,2,  137.47,2,   34.42,2,   -0.01,2,    2.38,2,   0.004,2,   0.000,2,  -999.0,9,  -999.0,9,-999.0000,9,-999.0000,9, -999.00,9, -999.00,9,  -999.0,9,    -9.0,-999.000,9,-999.000,   45589,-999.0000,   1.2595,-999.0000, -999.00
 316N145_11,       I01W,     930,          1,          1,     SIH023,2,19950919,       2117,     8.6972,    64.0000,       4530,  4608.2,   1.6475,  34.7280,2,  34.7272,2,    162.9,2,   165.0,2,  137.40,2,   34.38,2,    0.00,2,    2.37,2,   0.004,2,   0.000,2,  -999.0,9,  -999.0,9,-999.0000,9,-999.0000,9, -999.00,9, -999.00,9,  -999.0,9,    -9.0,-999.000,9,-999.000,   46099,-999.0000,   1.2550,-999.0000, -999.00