BOTTLE,20211119CCHSIORKP
EXPOCODE,SECT_ID,STNNBR,CASTNO,SAMPNO,BTLNBR,BTLNBR_FLAG_W,DATE,TIME,LATITUDE,LONGITUDE,DEPTH,CTDPRS,CTDTMP,CTDSAL,CTDSAL_FLAG_W,SALNTY,SALNTY_FLAG_W,CTDOXY,CTDOXY_FLAG_W,OXYGEN,OXYGEN_FLAG_W,SILCAT,SILCAT_FLAG_W,NITRAT,NITRAT_FLAG_W,NITRIT,NITRIT_FLAG_W,PHSPHT,PHSPHT_FLAG_W,CFC-11,CFC-11_FLAG_W,CFC-12,CFC-12_FLAG_W,TCARBN,TCARBN_FLAG_W,ALKALI,ALKALI_FLAG_W,TRITUM,TRITUM_FLAG_W,HELIUM,HELIUM_FLAG_W,DELHE3,DELHE3_FLAG_W,DELC13,DELC13_FLAG_W,DELC14,DELC14_FLAG_W,C14ERR,NEON,NEON_FLAG_W,NEONER,CTDRAW,TRITER,THETA,HELIER,DELHER
,,,,,,,,,,,METERS,DBAR,ITS-90,PSS-78,,PSS-78,,UMOL/KG,,UMOL/KG,,UMOL/KG,,UMOL/KG,,UMOL/KG,,UMOL/KG,,PMOL/KG,,PMOL/KG,,UMOL/KG,,UMOL/KG,,TU,,NMOL/KG,,PERCNT,,/MILLE,,/MILLE,,/MILLE,NMOL/KG,,NMOL/KG,DBAR,TU,DEG C,NMOL/KG,PERCNT
 316N145_11,       I01W,     908,          1,         36,     SIH024,2,19950914,       0410,     8.4972,    54.2445,       5025,    11.7,  26.7743,  35.6248,2,  35.6194,2,    206.6,2,   214.1,2,    3.26,2,    0.93,2,    0.13,2,    0.29,2,   1.726,2,   1.000,2,  1992.1,2,  2324.9,2,-999.0000,9,-999.0000,9, -999.00,9, -999.00,9,  -999.0,9,    -9.0,-999.000,9,-999.000,     104,-999.0000,  26.7717,-999.0000, -999.00
 316N145_11,       I01W,     908,          1,         35,     SIH003,2,19950914,       0410,     8.4972,    54.2445,       5025,    31.0,  26.5233,  35.6059,2,  35.6060,2,    206.7,2,   211.8,2,    3.09,2,    1.27,2,    0.15,2,    0.31,2,   1.742,2,   1.010,2,  1997.6,2,  2323.5,2,-999.0000,9,-999.0000,9, -999.00,9, -999.00,9,  -999.0,9,    -9.0,-999.000,9,-999.000,     297,-999.0000,  26.5163,-999.0000, -999.00
 316N145_11,       I01W,     908,          1,         34,     SIH026,2,19950914,       0410,     8.4972,    54.2445,       5025,    62.1,  26.1277,  35.6008,2,  35.6009,2,    188.1,2,   212.1,2,    3.46,2,    1.91,2,    0.21,2,    0.37,2,-999.000,9,-999.000,9,  2002.3,2,  2325.1,2,-999.0000,9,-999.0000,9, -999.00,9, -999.00,9,  -999.0,9,    -9.0,-999.000,9,-999.000,     609,-999.0000,  26.1138,-999.0000, -999.00
 316N145_11,       I01W,     908,          1,         33,     SIH027,2,19950914,       0410,     8.4972,    54.2445,       5025,    90.5,  25.9853,  35.6107,2,  35.6119,2,    205.5,2,   217.3,2,    3.47,2,    2.35,2,    0.23,2,    0.40,2,-999.000,9,-999.000,9,  2007.3,2,  2327.4,2,-999.0000,9,-999.0000,9, -999.00,9, -999.00,9,  -999.0,9,    -9.0,-999.000,9,-999.000,     892,-999.0000,  25.9650,-999.0000, -999.00
 316N145_11,       I01W,     908,          1,         32,     SIH028,3,19950914,       0410,     8.4972,    54.2445,       5025,   119.2,  25.6939,  35.5791,3,  35.5811,2,    201.4,2,   206.2,2,    4.02,2,    2.81,2,    0.39,2,    0.45,2,   1.768,2,   1.021,2,  2012.3,2,  2324.8,2,-999.0000,9,-999.0000,9, -999.00,9, -999.00,9,  -999.0,9,    -9.0,-999.000,9,-999.000,    1180,-999.0000,  25.6674,-999.0000, -999.00
 316N145_11,       I01W,     908,          1,         31,     SIH029,2,19950914,       0410,     8.4972,    54.2445,       5025,   149.2,  25.3933,  35.5340,2,  35.5354,2,    193.7,2,   202.1,2,    4.58,2,    3.16,2,    0.36,2,    0.47,2,-999.000,9,-999.000,9,  2015.2,2,  2322.4,2,-999.0000,9,-999.0000,9, -999.00,9, -999.00,9,  -999.0,9,    -9.0,-999.000,9,-999.000,    1480,-999.0000,  25.3605,-999.0000, -999.00
 316N145_11,       I01W,     908,          1,         30,     SIH030,2,19950914,       0410,     8.4972,    54.2445,       5025,   198.6,  22.3091,  35.3512,2,  35.3555,2,    159.9,2,   158.2,2,    8.07,2,    9.89,2,    0.04,2,    0.83,2,-999.000,9,-999.000,9,  2062.3,2,  2316.1,2,-999.0000,9,-999.0000,9, -999.00,9, -999.00,9,  -999.0,9,    -9.0,-999.000,9,-999.000,    1973,-999.0000,  22.2694,-999.0000, -999.00
 316N145_11,       I01W,     908,          1,         29,     SIH031,2,19950914,       0410,     8.4972,    54.2445,       5025,   250.3,  17.8453,  35.4646,2,  35.4661,2,     58.6,2,    53.3,2,   17.81,2,   22.79,2,    0.01,2,    1.79,2,   1.140,2,   0.626,2,  2184.2,2,  2322.1,2,-999.0000,9,-999.0000,9, -999.00,9, -999.00,9,  -999.0,9,    -9.0,-999.000,9,-999.000,    2491,-999.0000,  17.8024,-999.0000, -999.00
 316N145_11,       I01W,     908,          1,         28,     SIH032,2,19950914,       0410,     8.4972,    54.2445,       5025,   300.2,  14.2523,  35.3619,2,  35.3666,2,     49.3,2,    53.9,2,   22.60,2,   25.16,2,    0.01,2,    1.93,2,-999.000,9,-999.000,9,  2210.8,2,  2320.6,2,-999.0000,9,-999.0000,9, -999.00,9, -999.00,9,  -999.0,9,    -9.0,-999.000,9,-999.000,    2990,-999.0000,  14.2081,-999.0000, -999.00
 316N145_11,       I01W,     908,          1,         27,     SIH033,2,19950914,       0410,     8.4972,    54.2445,       5025,   400.1,  12.0366,  35.2803,2,  35.2767,2,     51.2,2,    54.8,2,   28.67,2,   28.41,2,    0.00,2,    2.09,2,   0.534,2,   0.288,2,  2226.2,2,  2322.1,2,-999.0000,9,-999.0000,9, -999.00,9, -999.00,9,  -999.0,9,    -9.0,-999.000,9,-999.000,    3989,-999.0000,  11.9837,-999.0000, -999.00
 316N145_11,       I01W,     908,          1,         26,     SIH037,3,19950914,       0410,     8.4972,    54.2445,       5025,   501.5,  11.0956,  35.2522,3,  35.2536,2,     40.4,2,    43.1,2,   35.49,2,   31.19,2,    0.00,2,    2.29,2,-999.000,9,-999.000,9,  -999.0,9,  2325.1,2,-999.0000,9,-999.0000,9, -999.00,9, -999.00,9,  -999.0,9,    -9.0,-999.000,9,-999.000,    5004,-999.0000,  11.0324,-999.0000, -999.00
 316N145_11,       I01W,     908,          1,         25,     SI9446,3,19950914,       0410,     8.4972,    54.2445,       5025,   600.7,  10.7528,  35.3317,3,  35.3336,2,     24.1,2,    25.2,2,   44.70,2,   32.84,2,   -0.01,2,    2.52,2,   0.119,2,   0.063,2,  -999.0,9,  -999.0,9,-999.0000,9,-999.0000,9, -999.00,9, -999.00,9,  -999.0,9,    -9.0,-999.000,9,-999.000,    5996,-999.0000,  10.6781,-999.0000, -999.00
 316N145_11,       I01W,     908,          1,         24,     SIH036,2,19950914,       0410,     8.4972,    54.2445,       5025,   795.2,   9.6471,  35.3188,2,  35.3169,2,     22.5,2,    23.5,2,   58.88,2,   35.00,2,    0.00,2,    2.66,2,-999.000,9,-999.000,9,  -999.0,9,  -999.0,9,-999.0000,9,-999.0000,9, -999.00,9, -999.00,9,  -999.0,9,    -9.0,-999.000,9,-999.000,    7942,-999.0000,   9.5537,-999.0000, -999.00
 316N145_11,       I01W,     908,          1,         23,     SIH001,2,19950914,       0410,     8.4972,    54.2445,       5025,   997.4,   8.2322,  35.2232,2,  35.2241,2,     30.6,2,    30.6,2,   73.80,2,   36.51,2,    0.00,2,    2.76,2,   0.024,2,   0.010,2,  2297.3,2,  2361.9,2,-999.0000,9,-999.0000,9, -999.00,9, -999.00,9,  -999.0,9,    -9.0,-999.000,9,-999.000,    9965,-999.0000,   8.1241,-999.0000, -999.00
 316N145_11,       I01W,     908,          1,         22,     SIH019,2,19950914,       0410,     8.4972,    54.2445,       5025,  1199.4,   6.6790,  35.0762,2,  35.0785,2,     47.1,2,    46.4,2,   88.20,2,   37.35,2,    0.00,2,    2.79,2,-999.000,9,-999.000,9,  -999.0,9,  -999.0,9,-999.0000,9,-999.0000,9, -999.00,9, -999.00,9,  -999.0,9,    -9.0,-999.000,9,-999.000,   11986,-999.0000,   6.5613,-999.0000, -999.00
 316N145_11,       I01W,     908,          1,         21,     SIH025,2,19950914,       0410,     8.4972,    54.2445,       5025,  1396.4,   5.5956,  35.0108,2,  35.0116,2,     59.1,2,    56.9,2,  100.76,2,   37.66,2,    0.00,2,    2.81,2,   0.003,2,   0.000,2,  -999.0,9,  -999.0,9,-999.0000,9,-999.0000,9, -999.00,9, -999.00,9,  -999.0,9,    -9.0,-999.000,9,-999.000,   13957,-999.0000,   5.4680,-999.0000, -999.00
 316N145_11,       I01W,     908,          1,         20,     SIH004,2,19950914,       0410,     8.4972,    54.2445,       5025,  1598.7,   4.7000,  34.9657,2,  34.9662,3,     73.4,2,    68.6,2,  113.13,2,   37.52,2,   -0.01,2,    2.82,2,-999.000,9,-999.000,9,  2330.1,2,  2401.7,2,-999.0000,9,-999.0000,9, -999.00,9, -999.00,9,  -999.0,9,    -9.0,-999.000,9,-999.000,   15981,-999.0000,   4.5624,-999.0000, -999.00
 316N145_11,       I01W,     908,          1,         19,     SIH005,2,19950914,       0410,     8.4972,    54.2445,       5025,  1796.6,   3.9133,  34.8778,2,  34.8823,2,     80.4,2,    89.2,2,  118.15,2,   37.13,2,    0.00,2,    2.73,2,   0.001,2,   0.000,2,  -999.0,9,  -999.0,9,-999.0000,9,-999.0000,9, -999.00,9, -999.00,9,  -999.0,9,    -9.0,-999.000,9,-999.000,   17961,-999.0000,   3.7668,-999.0000, -999.00
 316N145_11,       I01W,     908,          1,         18,     SIH006,2,19950914,       0410,     8.4972,    54.2445,       5025,  1998.2,   3.0688,  34.8228,2,  34.8210,2,    110.0,2,   111.5,2,  126.31,2,   36.57,2,    0.00,2,    2.65,2,-999.000,9,-999.000,9,  2324.9,2,  2413.0,2,-999.0000,9,-999.0000,9, -999.00,9, -999.00,9,  -999.0,9,    -9.0,-999.000,9,-999.000,   19978,-999.0000,   2.9157,-999.0000, -999.00
 316N145_11,       I01W,     908,          1,         17,     SIH038,2,19950914,       0410,     8.4972,    54.2445,       5025,  2195.5,   2.6754,  34.7939,2,  34.7952,2,    122.9,2,   121.7,2,  129.49,2,   36.12,2,    0.00,2,    2.60,2,  -0.001,2,  -0.002,2,  -999.0,9,  -999.0,9,-999.0000,9,-999.0000,9, -999.00,9, -999.00,9,  -999.0,9,    -9.0,-999.000,9,-999.000,   21953,-999.0000,   2.5106,-999.0000, -999.00
 316N145_11,       I01W,     908,          1,         16,     SIH008,2,19950914,       0410,     8.4972,    54.2445,       5025,  2399.2,   2.3792,  34.7750,2,  34.7766,2,    129.7,2,   131.2,2,  132.67,2,   35.82,2,   -0.01,2,    2.55,2,-999.000,9,-999.000,9,  -999.0,9,  -999.0,9,-999.0000,9,-999.0000,9, -999.00,9, -999.00,9,  -999.0,9,    -9.0,-999.000,9,-999.000,   23992,-999.0000,   2.2008,-999.0000, -999.00
 316N145_11,       I01W,     908,          1,         15,     SIH009,2,19950914,       0410,     8.4972,    54.2445,       5025,  2595.9,   2.1478,  34.7626,2,  34.7638,2,    135.8,2,   138.3,2,  135.10,2,   35.66,2,    0.01,2,    2.53,2,   0.002,2,   0.003,2,  2321.3,2,  2418.8,2,-999.0000,9,-999.0000,9, -999.00,9, -999.00,9,  -999.0,9,    -9.0,-999.000,9,-999.000,   25960,-999.0000,   1.9553,-999.0000, -999.00
 316N145_11,       I01W,     908,          1,         14,     SIH010,2,19950914,       0410,     8.4972,    54.2445,       5025,  2798.5,   2.0025,  34.7538,2,  34.7537,2,    143.6,2,   145.0,2,  135.88,2,   35.06,2,    0.01,2,    2.49,2,-999.000,9,-999.000,9,  -999.0,9,  -999.0,9,-999.0000,9,-999.0000,9, -999.00,9, -999.00,9,  -999.0,9,    -9.0,-999.000,9,-999.000,   27987,-999.0000,   1.7939,-999.0000, -999.00
 316N145_11,       I01W,     908,          1,         13,     SIH011,2,19950914,       0410,     8.4972,    54.2445,       5025,  2996.5,   1.8884,  34.7469,2,  34.7486,2,    149.7,2,   149.0,2,  136.85,2,   35.13,2,   -0.01,2,    2.47,2,   0.003,2,   0.001,2,  2316.1,2,  2417.8,2,-999.0000,9,-999.0000,9, -999.00,9, -999.00,9,  -999.0,9,    -9.0,-999.000,9,-999.000,   29968,-999.0000,   1.6631,-999.0000, -999.00
 316N145_11,       I01W,     908,          1,         12,     SIH012,2,19950914,       0410,     8.4972,    54.2445,       5025,  3196.3,   1.8054,  34.7430,2,  34.7425,2,    153.3,2,   153.0,2,  137.27,2,   35.13,2,    0.01,2,    2.47,2,-999.000,9,-999.000,9,  -999.0,9,  -999.0,9,-999.0000,9,-999.0000,9, -999.00,9, -999.00,9,  -999.0,9,    -9.0,-999.000,9,-999.000,   31968,-999.0000,   1.5622,-999.0000, -999.00
 316N145_11,       I01W,     908,          1,         11,     SI9426,2,19950914,       0410,     8.4972,    54.2445,       5025,  3393.8,   1.7409,  34.7378,2,  34.7396,2,    155.5,2,   157.4,2,  136.58,2,   34.78,2,   -0.01,2,    2.44,2,  -0.003,2,  -0.002,2,  -999.0,9,  -999.0,9,-999.0000,9,-999.0000,9, -999.00,9, -999.00,9,  -999.0,9,    -9.0,-999.000,9,-999.000,   33945,-999.0000,   1.4793,-999.0000, -999.00
 316N145_11,       I01W,     908,          1,         10,     SIH014,2,19950914,       0410,     8.4972,    54.2445,       5025,  3598.4,   1.6625,  34.7331,2,  34.7341,2,    163.2,2,   163.1,2,  135.14,2,   34.59,2,    0.00,2,    2.42,2,-999.000,9,-999.000,9,  2305.5,2,  2413.5,2,-999.0000,9,-999.0000,9, -999.00,9, -999.00,9,  -999.0,9,    -9.0,-999.000,9,-999.000,   35992,-999.0000,   1.3818,-999.0000, -999.00
 316N145_11,       I01W,     908,          1,          9,     SIH015,2,19950914,       0410,     8.4972,    54.2445,       5025,  3796.1,   1.5721,  34.7283,2,  34.7290,2,    169.3,2,   169.9,2,  135.37,2,   34.29,2,    0.01,2,    2.39,2,   0.010,4,  -0.001,2,  -999.0,9,  -999.0,9,-999.0000,9,-999.0000,9, -999.00,9, -999.00,9,  -999.0,9,    -9.0,-999.000,9,-999.000,   37971,-999.0000,   1.2730,-999.0000, -999.00
 316N145_11,       I01W,     908,          1,          8,     SIH016,2,19950914,       0410,     8.4972,    54.2445,       5025,  3994.2,   1.4918,  34.7239,2,  34.7250,2,    171.9,2,   174.7,2,  135.05,2,   33.89,2,    0.00,2,    2.35,2,-999.000,9,-999.000,9,  2298.1,2,  2409.2,2,-999.0000,9,-999.0000,9, -999.00,9, -999.00,9,  -999.0,9,    -9.0,-999.000,9,-999.000,   39953,-999.0000,   1.1736,-999.0000, -999.00
 316N145_11,       I01W,     908,          1,          7,     SIH017,2,19950914,       0410,     8.4972,    54.2445,       5025,  4198.1,   1.4378,  34.7212,2,  34.7221,2,    178.2,2,   178.6,2,  134.54,2,   33.95,2,    0.00,2,    2.35,2,  -0.001,2,   0.001,2,  -999.0,9,  -999.0,9,-999.0000,9,-999.0000,9, -999.00,9, -999.00,9,  -999.0,9,    -9.0,-999.000,9,-999.000,   41993,-999.0000,   1.0986,-999.0000, -999.00
 316N145_11,       I01W,     908,          1,          6,     SIH018,2,19950914,       0410,     8.4972,    54.2445,       5025,  4396.8,   1.3927,  34.7191,2,  34.7193,2,    181.6,2,   180.8,2,  134.76,2,   33.85,2,    0.01,2,    2.34,2,-999.000,9,-999.000,9,  -999.0,9,  -999.0,9,-999.0000,9,-999.0000,9, -999.00,9, -999.00,9,  -999.0,9,    -9.0,-999.000,9,-999.000,   43982,-999.0000,   1.0326,-999.0000, -999.00
 316N145_11,       I01W,     908,          1,          5,     SIH002,2,19950914,       0410,     8.4972,    54.2445,       5025,  4595.5,   1.3822,  34.7179,2,  34.7180,2,    181.4,2,   181.9,2,  134.62,2,   33.70,2,    0.01,2,    2.33,2,   0.003,2,  -0.001,2,  -999.0,9,  -999.0,9,-999.0000,9,-999.0000,9, -999.00,9, -999.00,9,  -999.0,9,    -9.0,-999.000,9,-999.000,   45970,-999.0000,   0.9996,-999.0000, -999.00
 316N145_11,       I01W,     908,          1,          4,     SIH020,2,19950914,       0410,     8.4972,    54.2445,       5025,  4794.9,   1.3865,  34.7174,2,  34.7182,2,    183.9,2,   182.6,2,  135.22,2,   33.67,2,    0.00,2,    2.32,2,-999.000,9,-999.000,9,  2293.8,2,  2404.5,2,-999.0000,9,-999.0000,9, -999.00,9, -999.00,9,  -999.0,9,    -9.0,-999.000,9,-999.000,   47966,-999.0000,   0.9804,-999.0000, -999.00
 316N145_11,       I01W,     908,          1,          3,     SIH021,2,19950914,       0410,     8.4972,    54.2445,       5025,  4979.0,   1.3930,  34.7166,2,  34.7170,2,    182.3,2,   182.8,2,  135.82,2,   33.68,2,    0.00,2,    2.33,2,   0.000,2,   0.002,2,  -999.0,9,  -999.0,9,-999.0000,9,-999.0000,9, -999.00,9, -999.00,9,  -999.0,9,    -9.0,-999.000,9,-999.000,   49808,-999.0000,   0.9647,-999.0000, -999.00
 316N145_11,       I01W,     908,          1,          2,     SIH022,2,19950914,       0410,     8.4972,    54.2445,       5025,  5091.6,   1.3982,  34.7165,2,  34.7174,2,    183.8,2,   182.3,2,  136.60,2,   33.69,2,    0.00,2,    2.33,2,   0.001,2,   0.002,2,  2296.2,2,  2410.8,2,-999.0000,9,-999.0000,9, -999.00,9, -999.00,9,  -999.0,9,    -9.0,-999.000,9,-999.000,   50933,-999.0000,   0.9561,-999.0000, -999.00
 316N145_11,       I01W,     908,          1,          1,     SIH023,2,19950914,       0410,     8.4972,    54.2445,       5025,  5142.3,   1.4044,  34.7163,2,  34.7176,2,    183.9,2,   183.1,2,  136.45,2,   33.66,2,    0.02,2,    2.33,2,  -0.001,2,   0.000,2,  -999.0,9,  -999.0,9,-999.0000,9,-999.0000,9, -999.00,9, -999.00,9,  -999.0,9,    -9.0,-999.000,9,-999.000,   51441,-999.0000,   0.9559,-999.0000, -999.00