BOTTLE,20211119CCHSIORKP
EXPOCODE,SECT_ID,STNNBR,CASTNO,SAMPNO,BTLNBR,BTLNBR_FLAG_W,DATE,TIME,LATITUDE,LONGITUDE,DEPTH,CTDPRS,CTDTMP,CTDSAL,CTDSAL_FLAG_W,SALNTY,SALNTY_FLAG_W,CTDOXY,CTDOXY_FLAG_W,OXYGEN,OXYGEN_FLAG_W,SILCAT,SILCAT_FLAG_W,NITRAT,NITRAT_FLAG_W,NITRIT,NITRIT_FLAG_W,PHSPHT,PHSPHT_FLAG_W,CFC-11,CFC-11_FLAG_W,CFC-12,CFC-12_FLAG_W,TCARBN,TCARBN_FLAG_W,ALKALI,ALKALI_FLAG_W,TRITUM,TRITUM_FLAG_W,HELIUM,HELIUM_FLAG_W,DELHE3,DELHE3_FLAG_W,DELC13,DELC13_FLAG_W,DELC14,DELC14_FLAG_W,C14ERR,NEON,NEON_FLAG_W,NEONER,CTDRAW,TRITER,THETA,HELIER,DELHER
,,,,,,,,,,,METERS,DBAR,ITS-90,PSS-78,,PSS-78,,UMOL/KG,,UMOL/KG,,UMOL/KG,,UMOL/KG,,UMOL/KG,,UMOL/KG,,PMOL/KG,,PMOL/KG,,UMOL/KG,,UMOL/KG,,TU,,NMOL/KG,,PERCNT,,/MILLE,,/MILLE,,/MILLE,NMOL/KG,,NMOL/KG,DBAR,TU,DEG C,NMOL/KG,PERCNT
 316N145_11,       I01W,     897,          1,         36,     SIH024,2,19950910,       2314,     9.9000,    53.8000,       4460,    11.5,  26.0257,  35.6998,2,  35.6972,2,    217.5,2,   213.1,2,    3.90,2,    3.04,2,    0.50,2,    0.46,2,   1.763,2,   1.016,2,  2014.8,2,  2328.7,2,-999.0000,9,-999.0000,9, -999.00,9, -999.00,9,  -999.0,9,    -9.0,-999.000,9,-999.000,     100,-999.0000,  26.0231,-999.0000, -999.00
 316N145_11,       I01W,     897,          1,         35,     SIH003,2,19950910,       2314,     9.9000,    53.8000,       4460,    31.5,  26.0343,  35.6955,2,  35.6885,2,    218.3,2,   213.0,2,    3.90,2,    3.04,2,    0.50,2,    0.46,2,-999.000,9,-999.000,9,  2013.9,2,  2330.4,2,-999.0000,9,-999.0000,9, -999.00,9, -999.00,9,  -999.0,9,    -9.0,-999.000,9,-999.000,     300,-999.0000,  26.0273,-999.0000, -999.00
 316N145_11,       I01W,     897,          1,         34,     SIH026,2,19950910,       2314,     9.9000,    53.8000,       4460,    61.2,  26.0359,  35.6970,2,  35.6970,2,    216.1,2,   215.4,2,    4.09,2,    2.97,2,    0.51,2,    0.46,2,   1.770,2,   1.013,2,  2014.3,2,  2329.1,2,-999.0000,9,-999.0000,9, -999.00,9, -999.00,9,  -999.0,9,    -9.0,-999.000,9,-999.000,     597,-999.0000,  26.0223,-999.0000, -999.00
 316N145_11,       I01W,     897,          1,         33,     SIH027,2,19950910,       2314,     9.9000,    53.8000,       4460,    90.7,  26.0265,  35.7004,2,  35.6088,4,    210.4,2,   138.6,4,    7.76,2,   11.84,2,    0.03,2,    0.98,2,-999.000,9,-999.000,9,  2081.6,4,  2323.6,2,-999.0000,9,-999.0000,9, -999.00,9, -999.00,9,  -999.0,9,    -9.0,-999.000,9,-999.000,     892,-999.0000,  26.0062,-999.0000, -999.00
 316N145_11,       I01W,     897,          1,         32,     SIH028,2,19950910,       2314,     9.9000,    53.8000,       4460,   121.8,  26.0223,  35.6937,2,  35.6938,2,    210.9,2,   214.7,2,    4.10,2,    3.12,2,    0.53,2,    0.48,2,   1.750,2,   1.009,2,  2015.7,2,  2330.1,2,-999.0000,9,-999.0000,9, -999.00,9, -999.00,9,  -999.0,9,    -9.0,-999.000,9,-999.000,    1204,-999.0000,  25.9950,-999.0000, -999.00
 316N145_11,       I01W,     897,          1,         31,     SIH029,2,19950910,       2314,     9.9000,    53.8000,       4460,   151.3,  26.0168,  35.6893,2,  35.6940,2,    209.3,2,   210.7,2,    4.10,2,    3.12,2,    0.53,2,    0.48,2,-999.000,9,-999.000,9,  2017.5,2,  2329.4,2,-999.0000,9,-999.0000,9, -999.00,9, -999.00,9,  -999.0,9,    -9.0,-999.000,9,-999.000,    1498,-999.0000,  25.9829,-999.0000, -999.00
 316N145_11,       I01W,     897,          1,         30,     SIH030,2,19950910,       2314,     9.9000,    53.8000,       4460,   200.4,  23.9118,  35.6676,2,  35.6346,2,    136.9,2,   151.0,2,    7.38,2,   10.73,2,    0.04,2,    0.93,2,   1.628,2,   0.925,2,  2074.4,2,  2324.0,2,-999.0000,9,-999.0000,9, -999.00,9, -999.00,9,  -999.0,9,    -9.0,-999.000,9,-999.000,    1990,-999.0000,  23.8696,-999.0000, -999.00
 316N145_11,       I01W,     897,          1,         29,     SIH031,2,19950910,       2314,     9.9000,    53.8000,       4460,   251.4,  17.6310,  35.4359,2,  35.4450,2,     54.4,2,    55.1,2,   17.41,2,   22.96,2,    0.01,2,    1.77,2,-999.000,9,-999.000,9,  2185.1,2,  2317.1,2,-999.0000,9,-999.0000,9, -999.00,9, -999.00,9,  -999.0,9,    -9.0,-999.000,9,-999.000,    2500,-999.0000,  17.5882,-999.0000, -999.00
 316N145_11,       I01W,     897,          1,         28,     SIH032,2,19950910,       2314,     9.9000,    53.8000,       4460,   301.6,  14.5031,  35.2837,2,  35.2840,2,     67.6,2,    71.2,2,   20.69,2,   23.90,2,    0.00,2,    1.78,2,-999.000,9,-999.000,9,  2196.8,2,  2317.7,2,-999.0000,9,-999.0000,9, -999.00,9, -999.00,9,  -999.0,9,    -9.0,-999.000,9,-999.000,    3002,-999.0000,  14.4581,-999.0000, -999.00
 316N145_11,       I01W,     897,          1,         27,     SIH033,2,19950910,       2314,     9.9000,    53.8000,       4460,   400.8,  13.1785,  35.4029,2,  35.4020,2,     37.6,2,    41.1,2,   27.25,2,   27.81,2,    0.00,2,    2.14,2,   0.580,2,   0.307,2,  -999.0,9,  -999.0,9,-999.0000,9,-999.0000,9, -999.00,9, -999.00,9,  -999.0,9,    -9.0,-999.000,9,-999.000,    3994,-999.0000,  13.1222,-999.0000, -999.00
 316N145_11,       I01W,     897,          1,         26,     SIH037,2,19950910,       2314,     9.9000,    53.8000,       4460,   501.7,  11.6519,  35.2812,2,  35.2792,2,     38.4,2,    42.4,2,   32.46,2,   30.32,2,    0.00,2,    2.23,2,-999.000,9,-999.000,9,  -999.0,9,  -999.0,9,-999.0000,9,-999.0000,9, -999.00,9, -999.00,9,  -999.0,9,    -9.0,-999.000,9,-999.000,    5004,-999.0000,  11.5867,-999.0000, -999.00
 316N145_11,       I01W,     897,          1,         25,     SI9446,2,19950910,       2314,     9.9000,    53.8000,       4460,   603.3,  12.0381,  35.4970,2,  35.4872,2,     18.4,2,    26.5,2,   38.05,2,   30.47,2,    0.00,2,    2.40,2,-999.000,9,-999.000,9,  -999.0,9,  -999.0,9,-999.0000,9,-999.0000,9, -999.00,9, -999.00,9,  -999.0,9,    -9.0,-999.000,9,-999.000,    6020,-999.0000,  11.9575,-999.0000, -999.00
 316N145_11,       I01W,     897,          1,         24,     SIH036,2,19950910,       2314,     9.9000,    53.8000,       4460,   697.3,  11.6594,  35.6084,2,  35.6048,2,     16.0,2,    13.3,2,   45.58,2,   31.23,2,    0.00,2,    2.55,2,   0.143,2,   0.073,2,  -999.0,9,  -999.0,9,-999.0000,9,-999.0000,9, -999.00,9, -999.00,9,  -999.0,9,    -9.0,-999.000,9,-999.000,    6960,-999.0000,  11.5676,-999.0000, -999.00
 316N145_11,       I01W,     897,          1,         23,     SIH001,2,19950910,       2314,     9.9000,    53.8000,       4460,   798.4,  11.0726,  35.5986,2,  35.5983,2,     16.9,2,    16.0,2,   52.33,2,   32.58,2,    0.00,2,    2.60,2,-999.000,9,-999.000,9,  -999.0,9,  -999.0,9,-999.0000,9,-999.0000,9, -999.00,9, -999.00,9,  -999.0,9,    -9.0,-999.000,9,-999.000,    7972,-999.0000,  10.9705,-999.0000, -999.00
 316N145_11,       I01W,     897,          1,         22,     SIH019,2,19950910,       2314,     9.9000,    53.8000,       4460,   899.5,  10.5351,  35.5775,2,  35.5774,2,     19.2,2,    15.9,2,   58.42,2,   33.59,2,    0.00,2,    2.64,2,-999.000,9,-999.000,9,  -999.0,9,  -999.0,9,-999.0000,9,-999.0000,9, -999.00,9, -999.00,9,  -999.0,9,    -9.0,-999.000,9,-999.000,    8983,-999.0000,  10.4228,-999.0000, -999.00
 316N145_11,       I01W,     897,          1,         21,     SIH025,2,19950910,       2314,     9.9000,    53.8000,       4460,  1000.0,   9.4074,  35.4463,2,  35.4458,2,     23.4,2,    21.9,2,   67.21,2,   35.03,2,    0.00,2,    2.71,2,   0.068,2,   0.040,2,  -999.0,9,  -999.0,9,-999.0000,9,-999.0000,9, -999.00,9, -999.00,9,  -999.0,9,    -9.0,-999.000,9,-999.000,    9989,-999.0000,   9.2904,-999.0000, -999.00
 316N145_11,       I01W,     897,          1,         20,     SIH004,2,19950910,       2314,     9.9000,    53.8000,       4460,  1100.3,   8.3011,  35.2687,2,  35.2629,2,     31.2,2,    33.2,2,   74.75,2,   36.12,2, -999.00,9,    2.75,2,-999.000,9,-999.000,9,  -999.0,9,  -999.0,9,-999.0000,9,-999.0000,9, -999.00,9, -999.00,9,  -999.0,9,    -9.0,-999.000,9,-999.000,   10992,-999.0000,   8.1805,-999.0000, -999.00
 316N145_11,       I01W,     897,          1,         19,     SIH005,2,19950910,       2314,     9.9000,    53.8000,       4460,  1195.0,   7.4109,  35.1716,2,  35.1677,2,     40.5,2,    38.9,2,   83.06,2,   36.93,2,    0.00,2,    2.79,2,-999.000,9,-999.000,9,  -999.0,9,  -999.0,9,-999.0000,9,-999.0000,9, -999.00,9, -999.00,9,  -999.0,9,    -9.0,-999.000,9,-999.000,   11940,-999.0000,   7.2872,-999.0000, -999.00
 316N145_11,       I01W,     897,          1,         18,     SIH006,2,19950910,       2314,     9.9000,    53.8000,       4460,  1397.3,   6.1758,  35.0776,2,  35.0768,2,     54.1,2,    50.9,2,   95.62,2,   37.37,2,    0.00,2,    2.81,2,   0.011,2,   0.005,2,  -999.0,9,  -999.0,9,-999.0000,9,-999.0000,9, -999.00,9, -999.00,9,  -999.0,9,    -9.0,-999.000,9,-999.000,   13964,-999.0000,   6.0420,-999.0000, -999.00
 316N145_11,       I01W,     897,          1,         17,     SIH038,2,19950910,       2314,     9.9000,    53.8000,       4460,  1597.8,   4.5070,  34.9272,2,  34.9288,2,     80.6,2,    77.1,2,  112.44,2,   37.26,2,    0.00,2,    2.77,2,-999.000,9,-999.000,9,  -999.0,9,  -999.0,9,-999.0000,9,-999.0000,9, -999.00,9, -999.00,9,  -999.0,9,    -9.0,-999.000,9,-999.000,   15970,-999.0000,   4.3719,-999.0000, -999.00
 316N145_11,       I01W,     897,          1,         16,     SIH008,2,19950910,       2314,     9.9000,    53.8000,       4460,  1794.8,   3.6398,  34.8692,2,  34.8670,2,     94.4,2,    93.2,2,  122.31,2,   36.93,2,    0.00,2,    2.73,2,-999.000,9,-999.000,9,  -999.0,9,  -999.0,9,-999.0000,9,-999.0000,9, -999.00,9, -999.00,9,  -999.0,9,    -9.0,-999.000,9,-999.000,   17941,-999.0000,   3.4973,-999.0000, -999.00
 316N145_11,       I01W,     897,          1,         15,     SIH009,2,19950910,       2314,     9.9000,    53.8000,       4460,  1998.4,   2.9443,  34.8148,2,  34.8133,2,    113.7,2,   113.0,2,  128.12,2,   36.39,2,    0.00,2,    2.64,2,  -0.002,2,  -0.002,2,  -999.0,9,  -999.0,9,-999.0000,9,-999.0000,9, -999.00,9, -999.00,9,  -999.0,9,    -9.0,-999.000,9,-999.000,   19979,-999.0000,   2.7931,-999.0000, -999.00
 316N145_11,       I01W,     897,          1,         14,     SIH010,2,19950910,       2314,     9.9000,    53.8000,       4460,  2194.4,   2.5457,  34.7911,2,  34.7905,2,    122.4,2,   122.4,2,  132.77,2,   36.11,2,    0.00,2,    2.61,2,-999.000,9,-999.000,9,  -999.0,9,  -999.0,9,-999.0000,9,-999.0000,9, -999.00,9, -999.00,9,  -999.0,9,    -9.0,-999.000,9,-999.000,   21940,-999.0000,   2.3831,-999.0000, -999.00
 316N145_11,       I01W,     897,          1,         13,     SIH011,2,19950910,       2314,     9.9000,    53.8000,       4460,  2393.9,   2.2910,  34.7765,2,  34.7748,2,    131.1,2,   130.4,2,  135.30,2,   35.67,2,    0.00,2,    2.57,2,-999.000,9,-999.000,9,  -999.0,9,  -999.0,9,-999.0000,9,-999.0000,9, -999.00,9, -999.00,9,  -999.0,9,    -9.0,-999.000,9,-999.000,   23936,-999.0000,   2.1146,-999.0000, -999.00
 316N145_11,       I01W,     897,          1,         12,     SIH012,2,19950910,       2314,     9.9000,    53.8000,       4460,  2596.0,   2.0544,  34.7582,2,  34.7590,2,    141.7,2,   142.0,2,  135.52,2,   35.45,2,    0.00,2,    2.52,2,   0.001,2,  -0.002,2,  -999.0,9,  -999.0,9,-999.0000,9,-999.0000,9, -999.00,9, -999.00,9,  -999.0,9,    -9.0,-999.000,9,-999.000,   25959,-999.0000,   1.8639,-999.0000, -999.00
 316N145_11,       I01W,     897,          1,         11,     SI9426,2,19950910,       2314,     9.9000,    53.8000,       4460,  2794.8,   1.9515,  34.7533,2,  34.7537,2,    145.3,2,   144.8,2,  136.51,2,   35.22,2,    0.00,2,    2.51,2,-999.000,9,-999.000,9,  -999.0,9,  -999.0,9,-999.0000,9,-999.0000,9, -999.00,9, -999.00,9,  -999.0,9,    -9.0,-999.000,9,-999.000,   27948,-999.0000,   1.7443,-999.0000, -999.00
 316N145_11,       I01W,     897,          1,         10,     SIH014,2,19950910,       2314,     9.9000,    53.8000,       4460,  2996.4,   1.8647,  34.7476,2,  34.7480,2,    149.4,2,   150.1,2,  136.33,2,   35.01,2,    0.00,2,    2.47,2,-999.000,9,-999.000,9,  -999.0,9,  -999.0,9,-999.0000,9,-999.0000,9, -999.00,9, -999.00,9,  -999.0,9,    -9.0,-999.000,9,-999.000,   29965,-999.0000,   1.6398,-999.0000, -999.00
 316N145_11,       I01W,     897,          1,          9,     SIH015,2,19950910,       2314,     9.9000,    53.8000,       4460,  3195.7,   1.8010,  34.7432,2,  34.7439,2,    153.8,2,   153.8,2,  136.73,2,   34.95,2,    0.00,2,    2.46,2,  -0.001,2,  -0.001,2,  -999.0,9,  -999.0,9,-999.0000,9,-999.0000,9, -999.00,9, -999.00,9,  -999.0,9,    -9.0,-999.000,9,-999.000,   31960,-999.0000,   1.5579,-999.0000, -999.00
 316N145_11,       I01W,     897,          1,          8,     SIH016,2,19950910,       2314,     9.9000,    53.8000,       4460,  3397.4,   1.7271,  34.7391,2,  34.7394,2,    157.3,2,   157.7,2,  136.95,2,   34.73,2,    0.00,2,    2.44,2,-999.000,9,-999.000,9,  -999.0,9,  -999.0,9,-999.0000,9,-999.0000,9, -999.00,9, -999.00,9,  -999.0,9,    -9.0,-999.000,9,-999.000,   33979,-999.0000,   1.4654,-999.0000, -999.00
 316N145_11,       I01W,     897,          1,          7,     SIH017,2,19950910,       2314,     9.9000,    53.8000,       4460,  3592.5,   1.6455,  34.7335,2,  34.7337,2,    163.1,2,   163.9,2,  135.62,2,   34.45,2,    0.00,2,    2.42,2,-999.000,9,-999.000,9,  -999.0,9,  -999.0,9,-999.0000,9,-999.0000,9, -999.00,9, -999.00,9,  -999.0,9,    -9.0,-999.000,9,-999.000,   35931,-999.0000,   1.3658,-999.0000, -999.00
 316N145_11,       I01W,     897,          1,          6,     SIH018,2,19950910,       2314,     9.9000,    53.8000,       4460,  3797.6,   1.5728,  34.7291,2,  34.7288,2,    169.3,2,   169.2,2,  135.05,2,   34.18,2,    0.00,2,    2.39,2,  -0.001,2,  -0.004,2,  -999.0,9,  -999.0,9,-999.0000,9,-999.0000,9, -999.00,9, -999.00,9,  -999.0,9,    -9.0,-999.000,9,-999.000,   37984,-999.0000,   1.2734,-999.0000, -999.00
 316N145_11,       I01W,     897,          1,          5,     SIH002,2,19950910,       2314,     9.9000,    53.8000,       4460,  3998.7,   1.4972,  34.7259,2,  34.7248,2,    173.6,2,   173.7,2,  135.07,2,   34.01,2,    0.00,2,    2.37,2,-999.000,9,-999.000,9,  -999.0,9,  -999.0,9,-999.0000,9,-999.0000,9, -999.00,9, -999.00,9,  -999.0,9,    -9.0,-999.000,9,-999.000,   39996,-999.0000,   1.1783,-999.0000, -999.00
 316N145_11,       I01W,     897,          1,          4,     SIH020,2,19950910,       2314,     9.9000,    53.8000,       4460,  4191.7,   1.4063,  34.7216,2,  34.7215,2,    178.7,2,   178.3,2,  134.90,2,   33.85,2,    0.00,2,    2.36,2,   0.003,2,   0.000,2,  -999.0,9,  -999.0,9,-999.0000,9,-999.0000,9, -999.00,9, -999.00,9,  -999.0,9,    -9.0,-999.000,9,-999.000,   41927,-999.0000,   1.0688,-999.0000, -999.00
 316N145_11,       I01W,     897,          1,          3,     SIH021,2,19950910,       2314,     9.9000,    53.8000,       4460,  4408.4,   1.3644,  34.7193,2,  34.7188,2,    182.4,2,   181.3,2,  135.31,2,   33.84,2,    0.00,2,    2.35,2,  -0.003,2,  -0.002,2,  -999.0,9,  -999.0,9,-999.0000,9,-999.0000,9, -999.00,9, -999.00,9,  -999.0,9,    -9.0,-999.000,9,-999.000,   44096,-999.0000,   1.0039,-999.0000, -999.00
 316N145_11,       I01W,     897,          1,          2,     SIH022,2,19950910,       2314,     9.9000,    53.8000,       4460,  4496.4,   1.3472,  34.7195,2,  34.7188,2,    183.0,2,   180.8,2,  136.48,2,   33.84,2,    0.00,2,    2.35,2,   0.002,2,   0.003,2,  -999.0,9,  -999.0,9,-999.0000,9,-999.0000,9, -999.00,9, -999.00,9,  -999.0,9,    -9.0,-999.000,9,-999.000,   44976,-999.0000,   0.9772,-999.0000, -999.00
 316N145_11,       I01W,     897,          1,          1,     SIH023,2,19950910,       2314,     9.9000,    53.8000,       4460,  4546.5,   1.3488,  34.7186,2,  34.7160,2,    180.2,2,   182.5,2,  137.08,2,   33.89,2,    0.00,2,    2.34,2,   0.000,2,  -0.001,2,  -999.0,9,  -999.0,9,-999.0000,9,-999.0000,9, -999.00,9, -999.00,9,  -999.0,9,    -9.0,-999.000,9,-999.000,   45477,-999.0000,   0.9730,-999.0000, -999.00