BOTTLE,20211119CCHSIORKP
EXPOCODE,SECT_ID,STNNBR,CASTNO,SAMPNO,BTLNBR,BTLNBR_FLAG_W,DATE,TIME,LATITUDE,LONGITUDE,DEPTH,CTDPRS,CTDTMP,CTDSAL,CTDSAL_FLAG_W,SALNTY,SALNTY_FLAG_W,CTDOXY,CTDOXY_FLAG_W,OXYGEN,OXYGEN_FLAG_W,SILCAT,SILCAT_FLAG_W,NITRAT,NITRAT_FLAG_W,NITRIT,NITRIT_FLAG_W,PHSPHT,PHSPHT_FLAG_W,CFC-11,CFC-11_FLAG_W,CFC-12,CFC-12_FLAG_W,TCARBN,TCARBN_FLAG_W,ALKALI,ALKALI_FLAG_W,TRITUM,TRITUM_FLAG_W,HELIUM,HELIUM_FLAG_W,DELHE3,DELHE3_FLAG_W,DELC13,DELC13_FLAG_W,DELC14,DELC14_FLAG_W,C14ERR,NEON,NEON_FLAG_W,NEONER,CTDRAW,TRITER,THETA,HELIER,DELHER
,,,,,,,,,,,METERS,DBAR,ITS-90,PSS-78,,PSS-78,,UMOL/KG,,UMOL/KG,,UMOL/KG,,UMOL/KG,,UMOL/KG,,UMOL/KG,,PMOL/KG,,PMOL/KG,,UMOL/KG,,UMOL/KG,,TU,,NMOL/KG,,PERCNT,,/MILLE,,/MILLE,,/MILLE,NMOL/KG,,NMOL/KG,DBAR,TU,DEG C,NMOL/KG,PERCNT
 316N145_11,       I01W,     923,          1,         32,     SIH028,3,19950917,       1900,     9.0138,    60.4888,       3345,     5.6,  27.7819,  36.2486,3,  36.2477,2,    205.0,2,   222.1,2,    1.39,2,   -0.01,2,    0.00,2,    0.28,2,   1.681,2,   0.972,2,  2010.1,2,  2366.2,2,-999.0000,9,-999.0000,9, -999.00,9, -999.00,9,  -999.0,9,    -9.0,-999.000,9,-999.000,      44,-999.0000,  27.7806,-999.0000, -999.00
 316N145_11,       I01W,     923,          1,         31,     SIH029,2,19950917,       1900,     9.0138,    60.4888,       3345,    30.2,  27.4623,  36.2351,2,  36.1883,2,    212.2,2,   212.2,2,    1.02,2,   -0.06,2,    0.00,2,    0.29,2,   1.709,2,   0.984,2,  2009.6,2,  2362.0,2,-999.0000,9,-999.0000,9, -999.00,9, -999.00,9,  -999.0,9,    -9.0,-999.000,9,-999.000,     291,-999.0000,  27.4553,-999.0000, -999.00
 316N145_11,       I01W,     923,          1,         30,     SIH030,2,19950917,       1900,     9.0138,    60.4888,       3345,    60.2,  27.0657,  36.1374,2,  36.1355,2,    207.6,2,   208.3,2,    2.27,2,    1.01,2,    0.29,2,    0.43,2,-999.000,9,-999.000,9,  2024.7,2,  2358.6,2,-999.0000,9,-999.0000,9, -999.00,9, -999.00,9,  -999.0,9,    -9.0,-999.000,9,-999.000,     590,-999.0000,  27.0518,-999.0000, -999.00
 316N145_11,       I01W,     923,          1,         29,     SIH031,2,19950917,       1900,     9.0138,    60.4888,       3345,    90.3,  26.8171,  36.1792,2,  36.1903,2,    190.7,2,   190.8,2,    2.79,2,    2.48,2,    0.89,2,    0.52,2,   1.709,2,   0.986,2,  2038.4,2,  2358.9,2,-999.0000,9,-999.0000,9, -999.00,9, -999.00,9,  -999.0,9,    -9.0,-999.000,9,-999.000,     891,-999.0000,  26.7964,-999.0000, -999.00
 316N145_11,       I01W,     923,          1,         28,     SIH032,3,19950917,       1900,     9.0138,    60.4888,       3345,   120.0,  23.8940,  35.9518,3,  35.9870,2,    145.7,2,   104.1,2,    6.93,2,   14.65,2,    0.04,2,    1.20,2,-999.000,9,-999.000,9,  2116.1,2,  2343.9,2,-999.0000,9,-999.0000,9, -999.00,9, -999.00,9,  -999.0,9,    -9.0,-999.000,9,-999.000,    1188,-999.0000,  23.8688,-999.0000, -999.00
 316N145_11,       I01W,     923,          1,         27,     SIH033,2,19950917,       1900,     9.0138,    60.4888,       3345,   150.4,  20.2095,  35.7127,2,  35.6931,2,     23.8,2,    22.8,2,   14.69,2,   24.42,2,    0.01,2,    1.92,2,   1.230,2,   0.684,2,  2195.2,2,  2331.6,2,-999.0000,9,-999.0000,9, -999.00,9, -999.00,9,  -999.0,9,    -9.0,-999.000,9,-999.000,    1493,-999.0000,  20.1815,-999.0000, -999.00
 316N145_11,       I01W,     923,          1,         26,     SIH037,2,19950917,       1900,     9.0138,    60.4888,       3345,   199.9,  15.7864,  35.3647,2,  35.3920,2,     26.2,2,    26.8,2,   21.73,2,   26.04,2,    0.01,2,    2.06,2,-999.000,9,-999.000,9,  2216.9,2,  2323.1,2,-999.0000,9,-999.0000,9, -999.00,9, -999.00,9,  -999.0,9,    -9.0,-999.000,9,-999.000,    1988,-999.0000,  15.7549,-999.0000, -999.00
 316N145_11,       I01W,     923,          1,         25,     SI9446,2,19950917,       1900,     9.0138,    60.4888,       3345,   250.4,  13.8283,  35.4090,2,  35.4046,2,     28.0,2,    27.4,2,   25.32,2,   27.26,2,    0.02,2,    2.13,2,   0.594,2,   0.313,2,  2233.7,2,  2325.9,2,-999.0000,9,-999.0000,9, -999.00,9, -999.00,9,  -999.0,9,    -9.0,-999.000,9,-999.000,    2493,-999.0000,  13.7922,-999.0000, -999.00
 316N145_11,       I01W,     923,          1,         24,     SIH036,2,19950917,       1900,     9.0138,    60.4888,       3345,   300.4,  12.5599,  35.3276,2,  35.3275,2,     33.1,2,    33.9,2,   28.57,2,   29.14,2,    0.00,2,    2.17,2,-999.000,9,-999.000,9,  2238.9,2,  2324.6,2,-999.0000,9,-999.0000,9, -999.00,9, -999.00,9,  -999.0,9,    -9.0,-999.000,9,-999.000,    2993,-999.0000,  12.5193,-999.0000, -999.00
 316N145_11,       I01W,     923,          1,         23,     SIH001,2,19950917,       1900,     9.0138,    60.4888,       3345,   400.3,  11.2879,  35.2641,2,  35.2706,2,     26.6,2,    31.1,2,   34.89,2,   31.67,2,    0.00,2,    2.34,2,   0.225,2,   0.117,2,  -999.0,9,  -999.0,9,-999.0000,9,-999.0000,9, -999.00,9, -999.00,9,  -999.0,9,    -9.0,-999.000,9,-999.000,    3993,-999.0000,  11.2371,-999.0000, -999.00
 316N145_11,       I01W,     923,          1,         22,     SIH019,2,19950917,       1900,     9.0138,    60.4888,       3345,   496.2,  10.7862,  35.2737,2,  35.2757,2,     25.6,2,    23.9,2,   41.75,2,   33.04,2,    0.00,2,    2.48,2,-999.000,9,-999.000,9,  -999.0,9,  -999.0,9,-999.0000,9,-999.0000,9, -999.00,9, -999.00,9,  -999.0,9,    -9.0,-999.000,9,-999.000,    4952,-999.0000,  10.7247,-999.0000, -999.00
 316N145_11,       I01W,     923,          1,         21,     SIH025,2,19950917,       1900,     9.0138,    60.4888,       3345,   595.7,  10.9835,  35.4617,2,  35.4519,2,     18.6,2,    19.1,2,   47.51,2,   32.53,2,    0.00,2,    2.54,2,   0.121,2,   0.070,2,  -999.0,9,  -999.0,9,-999.0000,9,-999.0000,9, -999.00,9, -999.00,9,  -999.0,9,    -9.0,-999.000,9,-999.000,    5947,-999.0000,  10.9084,-999.0000, -999.00
 316N145_11,       I01W,     923,          1,         20,     SIH004,2,19950917,       1900,     9.0138,    60.4888,       3345,   697.1,   9.5468,  35.2532,2,  35.2522,2,     19.2,2,    19.7,2,   58.18,2,   35.17,2,    0.00,2,    2.67,2,-999.000,9,-999.000,9,  -999.0,9,  -999.0,9,-999.0000,9,-999.0000,9, -999.00,9, -999.00,9,  -999.0,9,    -9.0,-999.000,9,-999.000,    6961,-999.0000,   9.4658,-999.0000, -999.00
 316N145_11,       I01W,     923,          1,         19,     SIH005,2,19950917,       1900,     9.0138,    60.4888,       3345,   796.9,   9.2524,  35.2786,2,  35.2810,2,     20.4,2,    20.1,2,   63.23,2,   35.43,2,    0.00,2,    2.71,2,   0.032,3,   0.012,2,  -999.0,9,  -999.0,9,-999.0000,9,-999.0000,9, -999.00,9, -999.00,9,  -999.0,9,    -9.0,-999.000,9,-999.000,    7960,-999.0000,   9.1610,-999.0000, -999.00
 316N145_11,       I01W,     923,          1,         18,     SIH006,2,19950917,       1900,     9.0138,    60.4888,       3345,   897.7,   8.7033,  35.2668,2,  35.2660,2,     23.9,2,    22.9,2,   69.92,2,   36.08,2,   -0.01,2,    2.75,2,-999.000,9,-999.000,9,  -999.0,9,  -999.0,9,-999.0000,9,-999.0000,9, -999.00,9, -999.00,9,  -999.0,9,    -9.0,-999.000,9,-999.000,    8969,-999.0000,   8.6034,-999.0000, -999.00
 316N145_11,       I01W,     923,          1,         17,     SIH038,2,19950917,       1900,     9.0138,    60.4888,       3345,   998.5,   8.1003,  35.2301,2,  35.2298,2,     28.3,2,    27.7,2,   75.89,2,   36.54,2,    0.00,2,    2.77,2,   0.021,2,   0.009,2,  -999.0,9,  -999.0,9,-999.0000,9,-999.0000,9, -999.00,9, -999.00,9,  -999.0,9,    -9.0,-999.000,9,-999.000,    9977,-999.0000,   7.9930,-999.0000, -999.00
 316N145_11,       I01W,     923,          1,         16,     SIH008,2,19950917,       1900,     9.0138,    60.4888,       3345,  1098.2,   7.3141,  35.1627,2,  35.1632,2,     34.4,2,    33.4,2,   83.48,2,   37.05,2,    0.00,2,    2.80,2,-999.000,9,-999.000,9,  -999.0,9,  -999.0,9,-999.0000,9,-999.0000,9, -999.00,9, -999.00,9,  -999.0,9,    -9.0,-999.000,9,-999.000,   10974,-999.0000,   7.2019,-999.0000, -999.00
 316N145_11,       I01W,     923,          1,         15,     SIH009,2,19950917,       1900,     9.0138,    60.4888,       3345,  1198.5,   6.6252,  35.1004,2,  35.1008,2,     42.8,2,    41.5,2,   90.00,2,   37.25,2,    0.01,2,    2.81,2,-999.000,9,-999.000,9,  -999.0,9,  -999.0,9,-999.0000,9,-999.0000,9, -999.00,9, -999.00,9,  -999.0,9,    -9.0,-999.000,9,-999.000,   11978,-999.0000,   6.5080,-999.0000, -999.00
 316N145_11,       I01W,     923,          1,         14,     SIH010,2,19950917,       1900,     9.0138,    60.4888,       3345,  1299.4,   5.8887,  35.0382,2,  35.0374,2,     54.1,2,    51.0,2,   96.88,2,   37.46,2,    0.00,2,    2.81,2,   0.004,2,   0.006,2,  -999.0,9,  -999.0,9,-999.0000,9,-999.0000,9, -999.00,9, -999.00,9,  -999.0,9,    -9.0,-999.000,9,-999.000,   12988,-999.0000,   5.7679,-999.0000, -999.00
 316N145_11,       I01W,     923,          1,         13,     SIH011,3,19950917,       1900,     9.0138,    60.4888,       3345,  1399.5,   5.1751,  34.9660,3,  34.9654,2,     65.4,2,    65.0,2,  103.04,2,   37.22,2,    0.00,2,    2.79,2,-999.000,9,-999.000,9,  -999.0,9,  -999.0,9,-999.0000,9,-999.0000,9, -999.00,9, -999.00,9,  -999.0,9,    -9.0,-999.000,9,-999.000,   13989,-999.0000,   5.0516,-999.0000, -999.00
 316N145_11,       I01W,     923,          1,         12,     SIH012,2,19950917,       1900,     9.0138,    60.4888,       3345,  1501.1,   4.5804,  34.9194,2,  34.9217,2,     75.5,2,    74.9,2,  109.38,2,   37.21,2,    0.01,2,    2.75,2,-999.000,9,-999.000,9,  -999.0,9,  -999.0,9,-999.0000,9,-999.0000,9, -999.00,9, -999.00,9,  -999.0,9,    -9.0,-999.000,9,-999.000,   15005,-999.0000,   4.4537,-999.0000, -999.00
 316N145_11,       I01W,     923,          1,         11,     SI9426,2,19950917,       1900,     9.0138,    60.4888,       3345,  1596.7,   4.2274,  34.8913,2,  34.8922,2,     81.1,2,    82.0,2,  112.65,2,   37.03,2,   -0.01,2,    2.73,2,-999.000,9,-999.000,9,  -999.0,9,  -999.0,9,-999.0000,9,-999.0000,9, -999.00,9, -999.00,9,  -999.0,9,    -9.0,-999.000,9,-999.000,   15962,-999.0000,   4.0958,-999.0000, -999.00
 316N145_11,       I01W,     923,          1,         10,     SIH014,2,19950917,       1900,     9.0138,    60.4888,       3345,  1798.0,   3.4364,  34.8353,2,  34.8363,2,    100.9,2,   103.5,2,  119.71,2,   36.42,2,    0.00,2,    2.66,2,  -0.001,2,  -0.001,2,  -999.0,9,  -999.0,9,-999.0000,9,-999.0000,9, -999.00,9, -999.00,9,  -999.0,9,    -9.0,-999.000,9,-999.000,   17977,-999.0000,   3.2963,-999.0000, -999.00
 316N145_11,       I01W,     923,          1,          9,     SIH015,2,19950917,       1900,     9.0138,    60.4888,       3345,  1996.4,   2.9273,  34.8060,2,  34.8074,2,    116.4,2,   116.0,2,  125.33,2,   36.02,2,    0.00,2,    2.61,2,-999.000,9,-999.000,9,  -999.0,9,  -999.0,9,-999.0000,9,-999.0000,9, -999.00,9, -999.00,9,  -999.0,9,    -9.0,-999.000,9,-999.000,   19961,-999.0000,   2.7766,-999.0000, -999.00
 316N145_11,       I01W,     923,          1,          8,     SIH016,2,19950917,       1900,     9.0138,    60.4888,       3345,  2198.7,   2.5022,  34.7803,2,  34.7815,2,    129.4,2,   128.2,2,  129.15,2,   35.77,2,    0.00,2,    2.57,2,-999.000,9,-999.000,9,  -999.0,9,  -999.0,9,-999.0000,9,-999.0000,9, -999.00,9, -999.00,9,  -999.0,9,    -9.0,-999.000,9,-999.000,   21986,-999.0000,   2.3399,-999.0000, -999.00
 316N145_11,       I01W,     923,          1,          7,     SIH017,2,19950917,       1900,     9.0138,    60.4888,       3345,  2397.4,   2.2598,  34.7690,2,  34.7687,2,    137.5,2,   136.0,2,  132.24,2,   35.37,2,    0.00,2,    2.52,2,   0.000,2,  -0.001,2,  -999.0,9,  -999.0,9,-999.0000,9,-999.0000,9, -999.00,9, -999.00,9,  -999.0,9,    -9.0,-999.000,9,-999.000,   23975,-999.0000,   2.0836,-999.0000, -999.00
 316N145_11,       I01W,     923,          1,          6,     SIH018,2,19950917,       1900,     9.0138,    60.4888,       3345,  2600.6,   2.0592,  34.7589,2,  34.7592,2,    141.2,2,   144.5,3,  135.50,2,   35.27,2,    0.00,2,    2.50,2,-999.000,9,-999.000,9,  -999.0,9,  -999.0,9,-999.0000,9,-999.0000,9, -999.00,9, -999.00,9,  -999.0,9,    -9.0,-999.000,9,-999.000,   26008,-999.0000,   1.8681,-999.0000, -999.00
 316N145_11,       I01W,     923,          1,          5,     SIH002,2,19950917,       1900,     9.0138,    60.4888,       3345,  2803.6,   1.9035,  34.7503,2,  34.7496,2,    147.0,2,   150.2,3,  136.24,2,   35.08,2,   -0.01,2,    2.47,2,-999.000,9,-999.000,9,  -999.0,9,  -999.0,9,-999.0000,9,-999.0000,9, -999.00,9, -999.00,9,  -999.0,9,    -9.0,-999.000,9,-999.000,   28039,-999.0000,   1.6965,-999.0000, -999.00
 316N145_11,       I01W,     923,          1,          4,     SIH020,2,19950917,       1900,     9.0138,    60.4888,       3345,  2995.1,   1.8224,  34.7456,2,  34.7465,2,    149.0,2,   151.1,2,  137.15,2,   35.03,2,   -0.01,2,    2.48,2,  -0.002,2,  -0.002,2,  -999.0,9,  -999.0,9,-999.0000,9,-999.0000,9, -999.00,9, -999.00,9,  -999.0,9,    -9.0,-999.000,9,-999.000,   29955,-999.0000,   1.5986,-999.0000, -999.00
 316N145_11,       I01W,     923,          1,          3,     SIH021,2,19950917,       1900,     9.0138,    60.4888,       3345,  3193.8,   1.7588,  34.7424,2,  34.7425,2,    152.8,2,   153.3,2,  138.07,2,   34.93,2,    0.00,2,    2.46,2,-999.000,9,-999.000,9,  -999.0,9,  -999.0,9,-999.0000,9,-999.0000,9, -999.00,9, -999.00,9,  -999.0,9,    -9.0,-999.000,9,-999.000,   31944,-999.0000,   1.5169,-999.0000, -999.00
 316N145_11,       I01W,     923,          1,          2,     SIH022,2,19950917,       1900,     9.0138,    60.4888,       3345,  3356.0,   1.7241,  34.7397,2,  34.7408,2,    153.3,2,   155.5,2,  138.44,2,   34.77,2,    0.00,2,    2.46,2,  -0.002,2,  -0.001,2,  -999.0,9,  -999.0,9,-999.0000,9,-999.0000,9, -999.00,9, -999.00,9,  -999.0,9,    -9.0,-999.000,9,-999.000,   33568,-999.0000,   1.4667,-999.0000, -999.00
 316N145_11,       I01W,     923,          1,          1,     SIH023,2,19950917,       1900,     9.0138,    60.4888,       3345,  3407.6,   1.6867,  34.7372,2,  34.7388,2,    155.4,2,   157.1,2,  138.49,2,   34.83,2,    0.00,2,    2.45,2,  -0.003,2,   0.001,2,  -999.0,9,  -999.0,9,-999.0000,9,-999.0000,9, -999.00,9, -999.00,9,  -999.0,9,    -9.0,-999.000,9,-999.000,   34084,-999.0000,   1.4251,-999.0000, -999.00