BOTTLE,20211119CCHSIORKP
EXPOCODE,SECT_ID,STNNBR,CASTNO,SAMPNO,BTLNBR,BTLNBR_FLAG_W,DATE,TIME,LATITUDE,LONGITUDE,DEPTH,CTDPRS,CTDTMP,CTDSAL,CTDSAL_FLAG_W,SALNTY,SALNTY_FLAG_W,CTDOXY,CTDOXY_FLAG_W,OXYGEN,OXYGEN_FLAG_W,SILCAT,SILCAT_FLAG_W,NITRAT,NITRAT_FLAG_W,NITRIT,NITRIT_FLAG_W,PHSPHT,PHSPHT_FLAG_W,CFC-11,CFC-11_FLAG_W,CFC-12,CFC-12_FLAG_W,TCARBN,TCARBN_FLAG_W,ALKALI,ALKALI_FLAG_W,TRITUM,TRITUM_FLAG_W,HELIUM,HELIUM_FLAG_W,DELHE3,DELHE3_FLAG_W,DELC13,DELC13_FLAG_W,DELC14,DELC14_FLAG_W,C14ERR,NEON,NEON_FLAG_W,NEONER,CTDRAW,TRITER,THETA,HELIER,DELHER
,,,,,,,,,,,METERS,DBAR,ITS-90,PSS-78,,PSS-78,,UMOL/KG,,UMOL/KG,,UMOL/KG,,UMOL/KG,,UMOL/KG,,UMOL/KG,,PMOL/KG,,PMOL/KG,,UMOL/KG,,UMOL/KG,,TU,,NMOL/KG,,PERCNT,,/MILLE,,/MILLE,,/MILLE,NMOL/KG,,NMOL/KG,DBAR,TU,DEG C,NMOL/KG,PERCNT
 316N145_11,       I01W,     882,          1,         29,     SIH031,2,19950907,       0952,    13.1750,    48.9138,       2640,     9.1,  27.6346,  36.0118,2,  36.0548,2,    238.0,2,   227.4,2,    1.96,2,    0.37,2,    0.15,2,    0.38,2,   1.562,2,   0.908,2,  2016.5,2,  2358.9,2,-999.0000,9,-999.0000,9, -999.00,9, -999.00,9,  -999.0,9,    -9.0,-999.000,9,-999.000,      63,-999.0000,  27.6325,-999.0000, -999.00
 316N145_11,       I01W,     882,          1,         28,     SIH032,2,19950907,       0952,    13.1750,    48.9138,       2640,    34.2,  19.1536,  35.7356,2,  35.7385,2,     63.6,2,    37.0,2,   16.05,2,   22.87,2,    0.68,2,    1.86,2,   1.238,2,   0.688,2,  2200.3,2,  2333.0,2,-999.0000,9,-999.0000,9, -999.00,9, -999.00,9,  -999.0,9,    -9.0,-999.000,9,-999.000,     314,-999.0000,  19.1475,-999.0000, -999.00
 316N145_11,       I01W,     882,          1,         27,     SIH033,2,19950907,       0952,    13.1750,    48.9138,       2640,    64.3,  17.1504,  35.6315,2,  35.6356,2,     22.2,2,    18.8,2,   20.55,2,   25.84,2,    0.05,2,    2.07,2,-999.000,9,-999.000,9,  2223.4,2,  2328.3,2,-999.0000,9,-999.0000,9, -999.00,9, -999.00,9,  -999.0,9,    -9.0,-999.000,9,-999.000,     615,-999.0000,  17.1397,-999.0000, -999.00
 316N145_11,       I01W,     882,          1,         26,     SIH037,2,19950907,       0952,    13.1750,    48.9138,       2640,    93.8,  16.1447,  35.6289,2,  35.6295,2,     17.7,2,    13.4,2,   22.90,2,   26.41,2,    0.06,2,    2.13,2,   0.910,3,   0.486,2,  2234.5,2,  2329.7,2,-999.0000,9,-999.0000,9, -999.00,9, -999.00,9,  -999.0,9,    -9.0,-999.000,9,-999.000,     910,-999.0000,  16.1298,-999.0000, -999.00
 316N145_11,       I01W,     882,          1,         25,     SI9446,2,19950907,       0952,    13.1750,    48.9138,       2640,   124.1,  15.3791,  35.6178,2,  35.6212,2,     18.8,2,    18.7,2,   24.28,2,   26.52,2,    0.07,2,    2.11,2,-999.000,9,-999.000,9,  2236.7,2,  2331.9,2,-999.0000,9,-999.0000,9, -999.00,9, -999.00,9,  -999.0,9,    -9.0,-999.000,9,-999.000,    1213,-999.0000,  15.3600,-999.0000, -999.00
 316N145_11,       I01W,     882,          1,         24,     SIH036,2,19950907,       0952,    13.1750,    48.9138,       2640,   153.8,  14.9453,  35.6336,2,  35.6378,2,     22.3,2,    23.8,2,   25.07,2,   26.71,2,    0.03,2,    2.10,2,-999.000,9,-999.000,9,  2236.7,2,  2328.8,2,-999.0000,9,-999.0000,9, -999.00,9, -999.00,9,  -999.0,9,    -9.0,-999.000,9,-999.000,    1511,-999.0000,  14.9219,-999.0000, -999.00
 316N145_11,       I01W,     882,          1,         23,     SIH001,2,19950907,       0952,    13.1750,    48.9138,       2640,   203.5,  14.4621,  35.6773,2,  35.6767,2,     22.5,2,    20.3,2,   26.84,2,   27.20,2,    0.02,2,    2.12,2,   0.642,2,   0.357,2,  2241.9,2,  2333.5,2,-999.0000,9,-999.0000,9, -999.00,9, -999.00,9,  -999.0,9,    -9.0,-999.000,9,-999.000,    2007,-999.0000,  14.4319,-999.0000, -999.00
 316N145_11,       I01W,     882,          1,         22,     SIH019,2,19950907,       0952,    13.1750,    48.9138,       2640,   253.5,  14.1971,  35.7638,2,  35.7586,2,     20.2,2,    22.0,2,   28.41,2,   27.74,2,    0.02,2,    2.15,2,-999.000,9,-999.000,9,  2245.7,2,  2336.9,2,-999.0000,9,-999.0000,9, -999.00,9, -999.00,9,  -999.0,9,    -9.0,-999.000,9,-999.000,    2507,-999.0000,  14.1598,-999.0000, -999.00
 316N145_11,       I01W,     882,          1,         21,     SIH025,2,19950907,       0952,    13.1750,    48.9138,       2640,   303.2,  13.8371,  35.7976,2,  35.7993,2,     20.2,2,    19.0,2,   30.37,2,   28.32,2,    0.01,2,    2.20,2,   0.477,2,   0.269,2,  2248.7,2,  2343.1,2,-999.0000,9,-999.0000,9, -999.00,9, -999.00,9,  -999.0,9,    -9.0,-999.000,9,-999.000,    3005,-999.0000,  13.7931,-999.0000, -999.00
 316N145_11,       I01W,     882,          1,         20,     SIH004,2,19950907,       0952,    13.1750,    48.9138,       2640,   402.1,  13.7373,  35.9554,2,  35.9560,2,     19.9,2,    19.6,2,   33.71,2,   28.54,2, -999.00,9,    2.22,2,-999.000,9,-999.000,9,  2251.7,2,  2349.5,2,-999.0000,9,-999.0000,9, -999.00,9, -999.00,9,  -999.0,9,    -9.0,-999.000,9,-999.000,    3995,-999.0000,  13.6790,-999.0000, -999.00
 316N145_11,       I01W,     882,          1,         19,     SIH005,2,19950907,       0952,    13.1750,    48.9138,       2640,   501.5,  12.8539,  35.8782,2,  35.8759,2,     17.2,2,    19.1,2,   39.80,2,   29.42,2,    0.03,2,    2.37,2,   0.276,2,   0.150,2,  2261.8,2,  2350.0,2,-999.0000,9,-999.0000,9, -999.00,9, -999.00,9,  -999.0,9,    -9.0,-999.000,9,-999.000,    4989,-999.0000,  12.7841,-999.0000, -999.00
 316N145_11,       I01W,     882,          1,         18,     SIH006,2,19950907,       0952,    13.1750,    48.9138,       2640,   599.9,  12.4345,  35.8933,2,  35.9054,2,     18.3,2,    17.2,2,   44.91,2,   30.22,2,    0.02,2,    2.40,2,   0.237,2,   0.128,2,  2266.0,2,  2356.7,2,-999.0000,9,-999.0000,9, -999.00,9, -999.00,9,  -999.0,9,    -9.0,-999.000,9,-999.000,    5974,-999.0000,  12.3524,-999.0000, -999.00
 316N145_11,       I01W,     882,          1,         17,     SIH038,2,19950907,       0952,    13.1750,    48.9138,       2640,   698.8,  12.4641,  36.0427,2,  36.0380,2,     17.3,2,    15.6,2,   48.25,2,   30.56,2,    0.00,2,    2.41,2,-999.000,9,-999.000,9,  2269.1,2,  2360.0,2,-999.0000,9,-999.0000,9, -999.00,9, -999.00,9,  -999.0,9,    -9.0,-999.000,9,-999.000,    6964,-999.0000,  12.3678,-999.0000, -999.00
 316N145_11,       I01W,     882,          1,         16,     SIH008,2,19950907,       0952,    13.1750,    48.9138,       2640,   808.1,  12.2170,  36.1634,2,  36.1648,2,     19.6,2,    18.0,2,   53.94,2,   30.72,2,    0.01,2,    2.42,2,-999.000,9,-999.000,9,  2274.5,2,  2368.0,2,-999.0000,9,-999.0000,9, -999.00,9, -999.00,9,  -999.0,9,    -9.0,-999.000,9,-999.000,    8058,-999.0000,  12.1064,-999.0000, -999.00
 316N145_11,       I01W,     882,          1,         15,     SIH009,2,19950907,       0952,    13.1750,    48.9138,       2640,   907.2,  11.0021,  35.9111,2,  35.9137,2,     21.0,2,    18.2,2,   61.03,2,   32.43,2,    0.00,2,    2.52,2,   0.178,2,   0.098,2,  2286.5,2,  2369.3,2,-999.0000,9,-999.0000,9, -999.00,9, -999.00,9,  -999.0,9,    -9.0,-999.000,9,-999.000,    9050,-999.0000,  10.8855,-999.0000, -999.00
 316N145_11,       I01W,     882,          1,         14,     SIH010,2,19950907,       0952,    13.1750,    48.9138,       2640,  1006.2,  10.0951,  35.7769,2,  35.7785,2,     23.0,2,    19.5,2,   68.51,2,   33.58,2,    0.02,2,    2.62,2,-999.000,9,-999.000,9,  2295.4,2,  2372.9,2,-999.0000,9,-999.0000,9, -999.00,9, -999.00,9,  -999.0,9,    -9.0,-999.000,9,-999.000,   10042,-999.0000,   9.9717,-999.0000, -999.00
 316N145_11,       I01W,     882,          1,         13,     SIH011,2,19950907,       0952,    13.1750,    48.9138,       2640,  1105.2,   9.0534,  35.6062,2,  35.6117,2,     26.6,2,    22.9,2,   75.80,2,   34.71,2,    0.00,2,    2.69,2,   0.105,2,   0.053,2,  -999.0,9,  -999.0,9,-999.0000,9,-999.0000,9, -999.00,9, -999.00,9,  -999.0,9,    -9.0,-999.000,9,-999.000,   11033,-999.0000,   8.9259,-999.0000, -999.00
 316N145_11,       I01W,     882,          1,         12,     SIH012,2,19950907,       0952,    13.1750,    48.9138,       2640,  1203.3,   8.0004,  35.4319,2,  35.4375,2,     31.1,2,    28.0,2,   83.88,2,   35.63,2,    0.00,2,    2.75,2,-999.000,9,-999.000,9,  -999.0,9,  -999.0,9,-999.0000,9,-999.0000,9, -999.00,9, -999.00,9,  -999.0,9,    -9.0,-999.000,9,-999.000,   12016,-999.0000,   7.8701,-999.0000, -999.00
 316N145_11,       I01W,     882,          1,         11,     SI9426,2,19950907,       0952,    13.1750,    48.9138,       2640,  1301.8,   7.0658,  35.2910,2,  35.2940,2,     37.2,2,    34.8,2,   91.96,2,   36.37,2,    0.00,2,    2.80,2,   0.037,2,   0.020,2,  -999.0,9,  -999.0,9,-999.0000,9,-999.0000,9, -999.00,9, -999.00,9,  -999.0,9,    -9.0,-999.000,9,-999.000,   13003,-999.0000,   6.9330,-999.0000, -999.00
 316N145_11,       I01W,     882,          1,         10,     SIH014,2,19950907,       0952,    13.1750,    48.9138,       2640,  1400.6,   6.2123,  35.1776,2,  35.1829,2,     44.3,2,    42.2,2,  101.23,2,   36.96,2,    0.00,2,    2.83,2,-999.000,9,-999.000,9,  -999.0,9,  -999.0,9,-999.0000,9,-999.0000,9, -999.00,9, -999.00,9,  -999.0,9,    -9.0,-999.000,9,-999.000,   13992,-999.0000,   6.0775,-999.0000, -999.00
 316N145_11,       I01W,     882,          1,          9,     SIH015,2,19950907,       0952,    13.1750,    48.9138,       2640,  1500.1,   5.4342,  35.0792,2,  35.0821,2,     53.4,2,    50.6,2,  110.31,2,   37.21,2,    0.02,2,    2.84,2,-999.000,9,-999.000,9,  -999.0,9,  -999.0,9,-999.0000,9,-999.0000,9, -999.00,9, -999.00,9,  -999.0,9,    -9.0,-999.000,9,-999.000,   14989,-999.0000,   5.2976,-999.0000, -999.00
 316N145_11,       I01W,     882,          1,          8,     SIH016,2,19950907,       0952,    13.1750,    48.9138,       2640,  1598.6,   4.7529,  35.0048,2,  35.0085,2,     60.0,2,    58.1,2,  119.38,2,   37.24,2,    0.00,2,    2.85,2,   0.005,2,   0.007,2,  -999.0,9,  -999.0,9,-999.0000,9,-999.0000,9, -999.00,9, -999.00,9,  -999.0,9,    -9.0,-999.000,9,-999.000,   15976,-999.0000,   4.6146,-999.0000, -999.00
 316N145_11,       I01W,     882,          1,          7,     SIH017,2,19950907,       0952,    13.1750,    48.9138,       2640,  1797.6,   3.8741,  34.9173,2,  34.9209,2,     75.1,2,    74.3,2,  131.22,2,   37.08,2,    0.01,2,    2.80,2,-999.000,9,-999.000,9,  -999.0,9,  -999.0,9,-999.0000,9,-999.0000,9, -999.00,9, -999.00,9,  -999.0,9,    -9.0,-999.000,9,-999.000,   17970,-999.0000,   3.7279,-999.0000, -999.00
 316N145_11,       I01W,     882,          1,          6,     SIH018,2,19950907,       0952,    13.1750,    48.9138,       2640,  1988.7,   3.3337,  34.8674,2,  34.8694,2,     86.1,2,    83.6,2,  137.76,2,   36.93,2,    0.00,2,    2.79,2,-999.000,9,-999.000,9,  -999.0,9,  -999.0,9,-999.0000,9,-999.0000,9, -999.00,9, -999.00,9,  -999.0,9,    -9.0,-999.000,9,-999.000,   19885,-999.0000,   3.1774,-999.0000, -999.00
 316N145_11,       I01W,     882,          1,          5,     SIH002,2,19950907,       0952,    13.1750,    48.9138,       2640,  2190.9,   3.0317,  34.8409,2,  34.8407,2,     92.5,2,    90.4,2,  141.53,2,   36.59,2,    0.02,2,    2.74,2,   0.003,2,   0.012,2,  -999.0,9,  -999.0,9,-999.0000,9,-999.0000,9, -999.00,9, -999.00,9,  -999.0,9,    -9.0,-999.000,9,-999.000,   21911,-999.0000,   2.8612,-999.0000, -999.00
 316N145_11,       I01W,     882,          1,          4,     SIH020,2,19950907,       0952,    13.1750,    48.9138,       2640,  2394.6,   2.9283,  34.8301,2,  34.8304,2,     95.5,2,    94.2,2,  142.75,2,   36.62,2,    0.00,2,    2.74,2,-999.000,9,-999.000,9,  -999.0,9,  -999.0,9,-999.0000,9,-999.0000,9, -999.00,9, -999.00,9,  -999.0,9,    -9.0,-999.000,9,-999.000,   23953,-999.0000,   2.7403,-999.0000, -999.00
 316N145_11,       I01W,     882,          1,          3,     SIH021,2,19950907,       0952,    13.1750,    48.9138,       2640,  2497.8,   2.9122,  34.8278,2,  34.8287,2,     95.6,2,    95.1,2,  142.38,2,   36.67,2,    0.00,2,    2.74,2,   0.002,2,   0.006,2,  -999.0,9,  -999.0,9,-999.0000,9,-999.0000,9, -999.00,9, -999.00,9,  -999.0,9,    -9.0,-999.000,9,-999.000,   24987,-999.0000,   2.7145,-999.0000, -999.00
 316N145_11,       I01W,     882,          1,          2,     SIH022,2,19950907,       0952,    13.1750,    48.9138,       2640,  2615.8,   2.8982,  34.8241,2,  34.8269,2,     95.6,2,    95.7,2,  142.22,2,   36.62,2,    0.00,2,    2.72,2,   0.003,2,   0.009,2,  -999.0,9,  -999.0,9,-999.0000,9,-999.0000,9, -999.00,9, -999.00,9,  -999.0,9,    -9.0,-999.000,9,-999.000,   26169,-999.0000,   2.6893,-999.0000, -999.00
 316N145_11,       I01W,     882,          1,          1,     SIH023,2,19950907,       0952,    13.1750,    48.9138,       2640,  2667.6,   2.8972,  34.8252,2,  34.8914,4,     95.2,2,    87.6,4,  135.54,2,   36.44,2,    0.00,2,    2.73,2,   0.012,2,   0.012,2,  -999.0,9,  -999.0,9,-999.0000,9,-999.0000,9, -999.00,9, -999.00,9,  -999.0,9,    -9.0,-999.000,9,-999.000,   26688,-999.0000,   2.6831,-999.0000, -999.00