BOTTLE,20211119CCHSIORKP
EXPOCODE,SECT_ID,STNNBR,CASTNO,SAMPNO,BTLNBR,BTLNBR_FLAG_W,DATE,TIME,LATITUDE,LONGITUDE,DEPTH,CTDPRS,CTDTMP,CTDSAL,CTDSAL_FLAG_W,SALNTY,SALNTY_FLAG_W,CTDOXY,CTDOXY_FLAG_W,OXYGEN,OXYGEN_FLAG_W,SILCAT,SILCAT_FLAG_W,NITRAT,NITRAT_FLAG_W,NITRIT,NITRIT_FLAG_W,PHSPHT,PHSPHT_FLAG_W,CFC-11,CFC-11_FLAG_W,CFC-12,CFC-12_FLAG_W,TCARBN,TCARBN_FLAG_W,ALKALI,ALKALI_FLAG_W,TRITUM,TRITUM_FLAG_W,HELIUM,HELIUM_FLAG_W,DELHE3,DELHE3_FLAG_W,DELC13,DELC13_FLAG_W,DELC14,DELC14_FLAG_W,C14ERR,NEON,NEON_FLAG_W,NEONER,CTDRAW,TRITER,THETA,HELIER,DELHER
,,,,,,,,,,,METERS,DBAR,ITS-90,PSS-78,,PSS-78,,UMOL/KG,,UMOL/KG,,UMOL/KG,,UMOL/KG,,UMOL/KG,,UMOL/KG,,PMOL/KG,,PMOL/KG,,UMOL/KG,,UMOL/KG,,TU,,NMOL/KG,,PERCNT,,/MILLE,,/MILLE,,/MILLE,NMOL/KG,,NMOL/KG,DBAR,TU,DEG C,NMOL/KG,PERCNT
 316N145_11,       I01W,     905,          1,         35,     SIH003,2,19950913,       0652,     8.8333,    52.6888,       4900,    11.6,  26.4718,  35.6642,2,  35.6664,2,    205.2,2,   200.0,2,    3.48,2,    1.59,2,    0.37,2,    0.38,2,   1.767,2,   1.014,2,  2006.2,2,  2331.3,2,-999.0000,9,-999.0000,9, -999.00,9, -999.00,9,  -999.0,9,    -9.0,-999.000,9,-999.000,     104,-999.0000,  26.4692,-999.0000, -999.00
 316N145_11,       I01W,     905,          1,         34,     SIH026,2,19950913,       0652,     8.8333,    52.6888,       4900,    31.3,  26.3983,  35.6606,2,  35.6599,2,    203.2,2,   198.5,2,    3.48,2,    1.63,2,    0.39,2,    0.37,2,   1.741,2,   1.000,2,  2006.3,2,  2331.8,2,-999.0000,9,-999.0000,9, -999.00,9, -999.00,9,  -999.0,9,    -9.0,-999.000,9,-999.000,     300,-999.0000,  26.3913,-999.0000, -999.00
 316N145_11,       I01W,     905,          1,         33,     SIH027,2,19950913,       0652,     8.8333,    52.6888,       4900,    61.2,  26.0921,  35.6018,2,  35.5999,2,    205.0,2,   192.9,2,    3.48,2,    1.99,2,    0.51,2,    0.40,2,-999.000,9,-999.000,9,  2008.5,2,  2327.5,2,-999.0000,9,-999.0000,9, -999.00,9, -999.00,9,  -999.0,9,    -9.0,-999.000,9,-999.000,     599,-999.0000,  26.0784,-999.0000, -999.00
 316N145_11,       I01W,     905,          1,         32,     SIH028,2,19950913,       0652,     8.8333,    52.6888,       4900,    91.5,  25.6233,  35.5191,2,  35.5198,2,    200.6,2,   193.5,2,    3.66,2,    2.35,2,    0.63,2,    0.42,2,-999.000,9,-999.000,9,  2010.5,2,  2320.9,2,-999.0000,9,-999.0000,9, -999.00,9, -999.00,9,  -999.0,9,    -9.0,-999.000,9,-999.000,     902,-999.0000,  25.6032,-999.0000, -999.00
 316N145_11,       I01W,     905,          1,         31,     SIH029,2,19950913,       0652,     8.8333,    52.6888,       4900,   119.4,  23.8660,  35.3087,2,  35.3147,2,    184.2,2,   172.3,2,    5.40,2,    5.16,2,    0.60,2,    0.57,2,   1.722,2,   0.973,2,  2026.4,2,  2308.9,3,-999.0000,9,-999.0000,9, -999.00,9, -999.00,9,  -999.0,9,    -9.0,-999.000,9,-999.000,    1182,-999.0000,  23.8409,-999.0000, -999.00
 316N145_11,       I01W,     905,          1,         30,     SIH030,2,19950913,       0652,     8.8333,    52.6888,       4900,   149.7,  19.3280,  35.5147,2,  35.4961,2,     65.9,2,    74.7,2,   14.66,2,   20.41,2,    0.02,2,    1.61,2,-999.000,9,-999.000,9,  2158.8,2,  2320.6,2,-999.0000,9,-999.0000,9, -999.00,9, -999.00,9,  -999.0,9,    -9.0,-999.000,9,-999.000,    1485,-999.0000,  19.3009,-999.0000, -999.00
 316N145_11,       I01W,     905,          1,         29,     SIH031,2,19950913,       0652,     8.8333,    52.6888,       4900,   197.0,  14.7415,  35.3093,2,  35.3190,2,     72.5,2,    55.3,2,   21.02,2,   24.59,2,    0.00,2,    1.88,2,-999.000,9,-999.000,9,  2202.0,2,  2319.4,2,-999.0000,9,-999.0000,9, -999.00,9, -999.00,9,  -999.0,9,    -9.0,-999.000,9,-999.000,    1958,-999.0000,  14.7119,-999.0000, -999.00
 316N145_11,       I01W,     905,          1,         28,     SIH032,2,19950913,       0652,     8.8333,    52.6888,       4900,   249.3,  13.4016,  35.2465,2,  35.2511,2,     60.0,2,    61.1,2,   22.96,2,   25.75,2,    0.00,2,    1.91,2,   0.789,2,   0.416,2,  2208.0,2,  2318.0,2,-999.0000,9,-999.0000,9, -999.00,9, -999.00,9,  -999.0,9,    -9.0,-999.000,9,-999.000,    2481,-999.0000,  13.3664,-999.0000, -999.00
 316N145_11,       I01W,     905,          1,         27,     SIH033,2,19950913,       0652,     8.8333,    52.6888,       4900,   299.2,  12.6351,  35.3101,2,  35.3051,2,     52.1,2,    49.3,2,   26.43,2,   27.56,2,    0.01,2,    2.07,2,-999.000,9,-999.000,9,  2224.9,2,  2321.0,2,-999.0000,9,-999.0000,9, -999.00,9, -999.00,9,  -999.0,9,    -9.0,-999.000,9,-999.000,    2980,-999.0000,  12.5944,-999.0000, -999.00
 316N145_11,       I01W,     905,          1,         26,     SIH037,2,19950913,       0652,     8.8333,    52.6888,       4900,   398.9,  11.5935,  35.2618,2,  35.2633,2,     53.3,2,    51.5,2,   31.05,2,   29.21,2,    0.01,2,    2.17,2,   0.447,2,   0.235,2,  -999.0,9,  -999.0,9,-999.0000,9,-999.0000,9, -999.00,9, -999.00,9,  -999.0,9,    -9.0,-999.000,9,-999.000,    3977,-999.0000,  11.5420,-999.0000, -999.00
 316N145_11,       I01W,     905,          1,         25,     SI9446,3,19950913,       0652,     8.8333,    52.6888,       4900,   498.7,  11.0163,  35.2830,3,  35.2838,2,     41.4,2,    37.2,2,   37.60,2,   31.50,2,    0.01,2,    2.37,2,-999.000,9,-999.000,9,  -999.0,9,  -999.0,9,-999.0000,9,-999.0000,9, -999.00,9, -999.00,9,  -999.0,9,    -9.0,-999.000,9,-999.000,    4975,-999.0000,  10.9537,-999.0000, -999.00
 316N145_11,       I01W,     905,          1,         24,     SIH036,2,19950913,       0652,     8.8333,    52.6888,       4900,   598.9,  10.4814,  35.3031,2,  35.3041,2,     24.6,2,    25.5,2,   46.28,2,   33.41,2,    0.01,2,    2.54,2,   0.101,2,   0.052,2,  2267.2,2,  2337.0,2,-999.0000,9,-999.0000,9, -999.00,9, -999.00,9,  -999.0,9,    -9.0,-999.000,9,-999.000,    5978,-999.0000,  10.4082,-999.0000, -999.00
 316N145_11,       I01W,     905,          1,         23,     SIH001,2,19950913,       0652,     8.8333,    52.6888,       4900,   701.0,  10.4205,  35.4196,2,  35.4196,2,     26.1,2,    24.0,2,   51.86,2,   33.30,2,    0.01,2,    2.59,2,-999.000,9,-999.000,9,  -999.0,9,  -999.0,9,-999.0000,9,-999.0000,9, -999.00,9, -999.00,9,  -999.0,9,    -9.0,-999.000,9,-999.000,    6999,-999.0000,  10.3345,-999.0000, -999.00
 316N145_11,       I01W,     905,          1,         22,     SIH019,2,19950913,       0652,     8.8333,    52.6888,       4900,   801.5,   9.4867,  35.3283,2,  35.3265,2,     25.3,2,    21.1,2,   61.69,2,   35.28,2,    0.01,2,    2.72,2,   0.044,2,   0.024,2,  -999.0,9,  -999.0,9,-999.0000,9,-999.0000,9, -999.00,9, -999.00,9,  -999.0,9,    -9.0,-999.000,9,-999.000,    8004,-999.0000,   9.3934,-999.0000, -999.00
 316N145_11,       I01W,     905,          1,         21,     SIH025,2,19950913,       0652,     8.8333,    52.6888,       4900,   996.2,   8.6908,  35.3450,2,  35.3431,2,     31.7,2,    24.3,2,   72.49,2,   36.08,2,    0.00,2,    2.78,2,-999.000,9,-999.000,9,  2301.3,2,  2365.9,2,-999.0000,9,-999.0000,9, -999.00,9, -999.00,9,  -999.0,9,    -9.0,-999.000,9,-999.000,    9952,-999.0000,   8.5793,-999.0000, -999.00
 316N145_11,       I01W,     905,          1,         20,     SIH004,2,19950913,       0652,     8.8333,    52.6888,       4900,  1192.5,   6.7420,  35.0900,2,  35.0884,2,     42.9,2,    46.5,2,   87.73,2,   37.04,2,    0.00,2,    2.81,2,   0.012,2,   0.005,2,  -999.0,9,  -999.0,9,-999.0000,9,-999.0000,9, -999.00,9, -999.00,9,  -999.0,9,    -9.0,-999.000,9,-999.000,   11917,-999.0000,   6.6244,-999.0000, -999.00
 316N145_11,       I01W,     905,          1,         19,     SIH005,2,19950913,       0652,     8.8333,    52.6888,       4900,  1395.0,   5.6379,  34.9974,2,  34.9972,2,     61.8,2,    61.0,2,   98.13,2,   37.47,2,    0.00,2,    2.81,2,-999.000,9,-999.000,9,  -999.0,9,  -999.0,9,-999.0000,9,-999.0000,9, -999.00,9, -999.00,9,  -999.0,9,    -9.0,-999.000,9,-999.000,   13943,-999.0000,   5.5101,-999.0000, -999.00
 316N145_11,       I01W,     905,          1,         18,     SIH006,2,19950913,       0652,     8.8333,    52.6888,       4900,  1596.5,   4.6751,  34.9344,2,  34.9303,2,     77.7,2,    76.4,2,  108.92,2,   37.41,2,    0.00,2,    2.79,2,   0.001,2,  -0.001,2,  2320.8,2,  2394.1,2,-999.0000,9,-999.0000,9, -999.00,9, -999.00,9,  -999.0,9,    -9.0,-999.000,9,-999.000,   15959,-999.0000,   4.5381,-999.0000, -999.00
 316N145_11,       I01W,     905,          1,         17,     SIH038,2,19950913,       0652,     8.8333,    52.6888,       4900,  1797.3,   3.7456,  34.8674,2,  34.8684,2,     95.3,2,    92.8,2,  120.11,2,   37.09,2,    0.00,2,    2.74,2,-999.000,9,-999.000,9,  -999.0,9,  -999.0,9,-999.0000,9,-999.0000,9, -999.00,9, -999.00,9,  -999.0,9,    -9.0,-999.000,9,-999.000,   17969,-999.0000,   3.6013,-999.0000, -999.00
 316N145_11,       I01W,     905,          1,         16,     SIH008,2,19950913,       0652,     8.8333,    52.6888,       4900,  1998.3,   3.0884,  34.8240,2,  34.8249,2,    112.3,2,   108.1,2,  127.04,2,   36.66,2,    0.00,2,    2.68,2,   0.001,2,   0.003,2,  2327.9,2,  2411.5,2,-999.0000,9,-999.0000,9, -999.00,9, -999.00,9,  -999.0,9,    -9.0,-999.000,9,-999.000,   19980,-999.0000,   2.9350,-999.0000, -999.00
 316N145_11,       I01W,     905,          1,         15,     SIH009,2,19950913,       0652,     8.8333,    52.6888,       4900,  2196.4,   2.6063,  34.7984,2,  34.7994,2,    121.3,2,   115.2,2,  134.74,2,   36.55,2, -999.00,9,    2.66,2,-999.000,9,-999.000,9,  -999.0,9,  -999.0,9,-999.0000,9,-999.0000,9, -999.00,9, -999.00,9,  -999.0,9,    -9.0,-999.000,9,-999.000,   21962,-999.0000,   2.4424,-999.0000, -999.00
 316N145_11,       I01W,     905,          1,         14,     SIH010,2,19950913,       0652,     8.8333,    52.6888,       4900,  2399.0,   2.2263,  34.7712,2,  34.7712,2,    130.7,2,   130.4,2,  136.08,2,   36.02,2,    0.00,2,    2.59,2,  -0.001,2,   0.000,2,  -999.0,9,  -999.0,9,-999.0000,9,-999.0000,9, -999.00,9, -999.00,9,  -999.0,9,    -9.0,-999.000,9,-999.000,   23989,-999.0000,   2.0506,-999.0000, -999.00
 316N145_11,       I01W,     905,          1,         13,     SIH011,3,19950913,       0652,     8.8333,    52.6888,       4900,  2601.6,   2.0234,  34.7563,3,  34.7561,2,    141.0,2,   140.0,2,  135.88,2,   35.53,2,    0.01,2,    2.54,2,-999.000,9,-999.000,9,  2320.7,2,  2419.9,2,-999.0000,9,-999.0000,9, -999.00,9, -999.00,9,  -999.0,9,    -9.0,-999.000,9,-999.000,   26016,-999.0000,   1.8330,-999.0000, -999.00
 316N145_11,       I01W,     905,          1,         12,     SIH012,2,19950913,       0652,     8.8333,    52.6888,       4900,  2797.5,   1.9183,  34.7515,2,  34.7520,2,    146.0,2,   142.9,2,  137.41,2,   35.42,2,    0.01,2,    2.52,2,   0.002,2,  -0.002,2,  -999.0,9,  -999.0,9,-999.0000,9,-999.0000,9, -999.00,9, -999.00,9,  -999.0,9,    -9.0,-999.000,9,-999.000,   27977,-999.0000,   1.7115,-999.0000, -999.00
 316N145_11,       I01W,     905,          1,         11,     SI9426,2,19950913,       0652,     8.8333,    52.6888,       4900,  2999.1,   1.8167,  34.7441,2,  34.7461,2,    151.7,2,   151.5,2,  135.28,2,   35.04,2,    0.01,2,    2.48,2,-999.000,9,-999.000,9,  2313.2,2,  2416.7,2,-999.0000,9,-999.0000,9, -999.00,9, -999.00,9,  -999.0,9,    -9.0,-999.000,9,-999.000,   29995,-999.0000,   1.5926,-999.0000, -999.00
 316N145_11,       I01W,     905,          1,         10,     SIH014,2,19950913,       0652,     8.8333,    52.6888,       4900,  3195.3,   1.7457,  34.7400,2,  34.7402,2,    156.2,2,   156.8,2,  135.27,2,   34.82,2,    0.01,2,    2.45,2,   0.019,4,  -0.001,2,  -999.0,9,  -999.0,9,-999.0000,9,-999.0000,9, -999.00,9, -999.00,9,  -999.0,9,    -9.0,-999.000,9,-999.000,   31958,-999.0000,   1.5040,-999.0000, -999.00
 316N145_11,       I01W,     905,          1,          9,     SIH015,2,19950913,       0652,     8.8333,    52.6888,       4900,  3397.9,   1.6522,  34.7339,2,  34.7345,2,    163.4,2,   162.5,2,  134.68,2,   34.50,2,    0.01,2,    2.41,2,-999.000,9,-999.000,9,  -999.0,9,  -999.0,9,-999.0000,9,-999.0000,9, -999.00,9, -999.00,9,  -999.0,9,    -9.0,-999.000,9,-999.000,   33985,-999.0000,   1.3925,-999.0000, -999.00
 316N145_11,       I01W,     905,          1,          8,     SIH016,2,19950913,       0652,     8.8333,    52.6888,       4900,  3594.6,   1.5794,  34.7292,2,  34.7315,2,    168.2,2,   167.0,2,  134.09,2,   34.19,2,    0.00,2,    2.39,2,  -0.002,2,  -0.001,2,  2302.7,2,  2411.4,2,-999.0000,9,-999.0000,9, -999.00,9, -999.00,9,  -999.0,9,    -9.0,-999.000,9,-999.000,   35954,-999.0000,   1.3013,-999.0000, -999.00
 316N145_11,       I01W,     905,          1,          7,     SIH017,2,19950913,       0652,     8.8333,    52.6888,       4900,  3792.9,   1.4940,  34.7257,2,  34.7258,2,    171.2,2,   171.5,2,  134.08,2,   33.97,2,    0.00,2,    2.37,2,-999.000,9,-999.000,9,  -999.0,9,  -999.0,9,-999.0000,9,-999.0000,9, -999.00,9, -999.00,9,  -999.0,9,    -9.0,-999.000,9,-999.000,   37939,-999.0000,   1.1973,-999.0000, -999.00
 316N145_11,       I01W,     905,          1,          6,     SIH018,2,19950913,       0652,     8.8333,    52.6888,       4900,  3995.5,   1.4284,  34.7225,2,  34.7225,2,    177.5,2,   176.8,2,  134.07,2,   33.92,2,    0.00,2,    2.36,2,  -0.001,2,  -0.002,2,  2297.0,2,  2407.0,2,-999.0000,9,-999.0000,9, -999.00,9, -999.00,9,  -999.0,9,    -9.0,-999.000,9,-999.000,   39966,-999.0000,   1.1116,-999.0000, -999.00
 316N145_11,       I01W,     905,          1,          5,     SIH002,2,19950913,       0652,     8.8333,    52.6888,       4900,  4202.8,   1.3696,  34.7195,2,  34.7199,2,    179.7,2,   179.0,2,  134.06,2,   33.69,2,    0.01,2,    2.35,2,-999.000,9,-999.000,9,  -999.0,9,  -999.0,9,-999.0000,9,-999.0000,9, -999.00,9, -999.00,9,  -999.0,9,    -9.0,-999.000,9,-999.000,   42040,-999.0000,   1.0319,-999.0000, -999.00
 316N145_11,       I01W,     905,          1,          4,     SIH020,2,19950913,       0652,     8.8333,    52.6888,       4900,  4401.0,   1.3576,  34.7185,2,  34.7186,2,    182.2,2,   181.9,2,  134.05,2,   33.49,2,    0.00,2,    2.33,2,   0.003,2,   0.002,2,  2293.8,2,  2405.5,2,-999.0000,9,-999.0000,9, -999.00,9, -999.00,9,  -999.0,9,    -9.0,-999.000,9,-999.000,   44024,-999.0000,   0.9982,-999.0000, -999.00
 316N145_11,       I01W,     905,          1,          3,     SIH021,2,19950913,       0652,     8.8333,    52.6888,       4900,  4591.4,   1.3619,  34.7181,2,  34.7174,2,    184.5,2,   183.1,2,  134.23,2,   33.52,2,    0.01,2,    2.35,2,-999.000,9,-999.000,9,  -999.0,9,  -999.0,9,-999.0000,9,-999.0000,9, -999.00,9, -999.00,9,  -999.0,9,    -9.0,-999.000,9,-999.000,   45929,-999.0000,   0.9805,-999.0000, -999.00
 316N145_11,       I01W,     905,          1,          2,     SIH022,2,19950913,       0652,     8.8333,    52.6888,       4900,  4798.8,   1.3658,  34.7166,2,  34.7180,2,    183.5,2,   185.6,2,  133.64,2,   33.52,2,    0.01,2,    2.33,2,   0.000,2,   0.000,2,  2292.0,2,  2403.1,2,-999.0000,9,-999.0000,9, -999.00,9, -999.00,9,  -999.0,9,    -9.0,-999.000,9,-999.000,   48004,-999.0000,   0.9600,-999.0000, -999.00
 316N145_11,       I01W,     905,          1,          1,     SIH023,2,19950913,       0652,     8.8333,    52.6888,       4900,  4896.4,   1.3710,  34.7172,2,  34.7172,2,    186.3,2,   184.8,2,  134.02,2,   33.55,2,    0.00,2,    2.34,2,   0.004,2,  -0.001,2,  -999.0,9,  -999.0,9,-999.0000,9,-999.0000,9, -999.00,9, -999.00,9,  -999.0,9,    -9.0,-999.000,9,-999.000,   48981,-999.0000,   0.9534,-999.0000, -999.00