BOTTLE,20211119CCHSIORKP
EXPOCODE,SECT_ID,STNNBR,CASTNO,SAMPNO,BTLNBR,BTLNBR_FLAG_W,DATE,TIME,LATITUDE,LONGITUDE,DEPTH,CTDPRS,CTDTMP,CTDSAL,CTDSAL_FLAG_W,SALNTY,SALNTY_FLAG_W,CTDOXY,CTDOXY_FLAG_W,OXYGEN,OXYGEN_FLAG_W,SILCAT,SILCAT_FLAG_W,NITRAT,NITRAT_FLAG_W,NITRIT,NITRIT_FLAG_W,PHSPHT,PHSPHT_FLAG_W,CFC-11,CFC-11_FLAG_W,CFC-12,CFC-12_FLAG_W,TCARBN,TCARBN_FLAG_W,ALKALI,ALKALI_FLAG_W,TRITUM,TRITUM_FLAG_W,HELIUM,HELIUM_FLAG_W,DELHE3,DELHE3_FLAG_W,DELC13,DELC13_FLAG_W,DELC14,DELC14_FLAG_W,C14ERR,NEON,NEON_FLAG_W,NEONER,CTDRAW,TRITER,THETA,HELIER,DELHER
,,,,,,,,,,,METERS,DBAR,ITS-90,PSS-78,,PSS-78,,UMOL/KG,,UMOL/KG,,UMOL/KG,,UMOL/KG,,UMOL/KG,,UMOL/KG,,PMOL/KG,,PMOL/KG,,UMOL/KG,,UMOL/KG,,TU,,NMOL/KG,,PERCNT,,/MILLE,,/MILLE,,/MILLE,NMOL/KG,,NMOL/KG,DBAR,TU,DEG C,NMOL/KG,PERCNT
 316N145_11,       I01W,     898,          1,         36,     SIH024,2,19950911,       0422,     9.6333,    53.9305,       4580,    10.0,  26.0079,  35.6894,2,  35.6881,2,    224.6,2,   215.8,2,    3.97,2,    3.10,2,    0.41,2,    0.46,2,   1.771,2,   1.024,2,  2013.3,2,  2331.4,2,-999.0000,9,-999.0000,9, -999.00,9, -999.00,9,  -999.0,9,    -9.0,-999.000,9,-999.000,      88,-999.0000,  26.0056,-999.0000, -999.00
 316N145_11,       I01W,     898,          1,         35,     SIH003,2,19950911,       0422,     9.6333,    53.9305,       4580,    30.3,  25.9808,  35.6881,2,  35.6873,2,    218.2,2,   218.1,2,    4.16,2,    3.14,2,    0.42,2,    0.46,2,   1.761,2,   1.013,2,  2014.0,2,  2328.9,2,-999.0000,9,-999.0000,9, -999.00,9, -999.00,9,  -999.0,9,    -9.0,-999.000,9,-999.000,     291,-999.0000,  25.9740,-999.0000, -999.00
 316N145_11,       I01W,     898,          1,         34,     SIH026,2,19950911,       0422,     9.6333,    53.9305,       4580,    60.2,  25.9832,  35.6886,2,  35.6873,2,    217.9,2,   218.3,2,    4.16,2,    3.09,2,    0.42,2,    0.46,2,-999.000,9,-999.000,9,  2013.9,2,  2329.9,2,-999.0000,9,-999.0000,9, -999.00,9, -999.00,9,  -999.0,9,    -9.0,-999.000,9,-999.000,     591,-999.0000,  25.9697,-999.0000, -999.00
 316N145_11,       I01W,     898,          1,         33,     SIH027,2,19950911,       0422,     9.6333,    53.9305,       4580,    89.9,  25.9826,  35.6870,2,  35.6859,2,    217.6,2,   225.0,2,    4.37,2,    3.03,2,    0.42,2,    0.46,2,   1.773,2,   1.024,2,  2014.4,2,  2329.4,2,-999.0000,9,-999.0000,9, -999.00,9, -999.00,9,  -999.0,9,    -9.0,-999.000,9,-999.000,     887,-999.0000,  25.9625,-999.0000, -999.00
 316N145_11,       I01W,     898,          1,         32,     SIH028,2,19950911,       0422,     9.6333,    53.9305,       4580,   118.5,  25.9848,  35.6865,2,  35.6857,2,    212.7,2,   217.3,2,    4.26,2,    3.12,2,    0.42,2,    0.46,2,-999.000,9,-999.000,9,  2013.9,2,  2332.2,2,-999.0000,9,-999.0000,9, -999.00,9, -999.00,9,  -999.0,9,    -9.0,-999.000,9,-999.000,    1173,-999.0000,  25.9583,-999.0000, -999.00
 316N145_11,       I01W,     898,          1,         31,     SIH029,2,19950911,       0422,     9.6333,    53.9305,       4580,   148.3,  25.9442,  35.6770,2,  35.6776,2,    213.6,2,   212.4,2,    4.26,2,    3.26,2,    0.46,2,    0.48,2,-999.000,9,-999.000,9,  2016.7,2,  2328.2,2,-999.0000,9,-999.0000,9, -999.00,9, -999.00,9,  -999.0,9,    -9.0,-999.000,9,-999.000,    1472,-999.0000,  25.9111,-999.0000, -999.00
 316N145_11,       I01W,     898,          1,         30,     SIH030,2,19950911,       0422,     9.6333,    53.9305,       4580,   197.8,  23.2562,  35.6174,2,  35.6514,2,    148.4,2,   135.5,2,    8.88,2,   13.07,2,    0.03,2,    1.07,2,-999.000,9,-999.000,9,  2092.2,2,  2325.9,2,-999.0000,9,-999.0000,9, -999.00,9, -999.00,9,  -999.0,9,    -9.0,-999.000,9,-999.000,    1967,-999.0000,  23.2153,-999.0000, -999.00
 316N145_11,       I01W,     898,          1,         29,     SIH031,2,19950911,       0422,     9.6333,    53.9305,       4580,   246.9,  17.7872,  35.4251,2,  35.4590,2,     52.3,2,    52.6,2,   17.89,2,   23.00,2,    0.01,2,    1.80,2,   1.178,2,   0.654,2,  2185.9,2,  2318.4,2,-999.0000,9,-999.0000,9, -999.00,9, -999.00,9,  -999.0,9,    -9.0,-999.000,9,-999.000,    2458,-999.0000,  17.7450,-999.0000, -999.00
 316N145_11,       I01W,     898,          1,         28,     SIH032,2,19950911,       0422,     9.6333,    53.9305,       4580,   299.4,  14.9594,  35.3076,2,  35.2982,2,     61.9,2,    64.8,2,   20.63,2,   23.88,2,    0.00,2,    1.78,2,-999.000,9,-999.000,9,  2190.9,2,  2316.2,2,-999.0000,9,-999.0000,9, -999.00,9, -999.00,9,  -999.0,9,    -9.0,-999.000,9,-999.000,    2983,-999.0000,  14.9139,-999.0000, -999.00
 316N145_11,       I01W,     898,          1,         27,     SIH033,2,19950911,       0422,     9.6333,    53.9305,       4580,   398.8,  13.1320,  35.4031,2,  35.4028,2,     40.9,2,    35.7,2,   27.88,2,   28.07,2,    0.00,2,    2.15,2,-999.000,9,-999.000,9,  2234.6,2,  2323.9,2,-999.0000,9,-999.0000,9, -999.00,9, -999.00,9,  -999.0,9,    -9.0,-999.000,9,-999.000,    3977,-999.0000,  13.0762,-999.0000, -999.00
 316N145_11,       I01W,     898,          1,         26,     SIH037,2,19950911,       0422,     9.6333,    53.9305,       4580,   500.0,  12.2706,  35.4612,2,  35.4496,2,     28.2,2,    30.6,2,   33.95,2,   29.63,2,    0.01,2,    2.29,2,   0.360,2,   0.197,2,  -999.0,9,  -999.0,9,-999.0000,9,-999.0000,9, -999.00,9, -999.00,9,  -999.0,9,    -9.0,-999.000,9,-999.000,    4989,-999.0000,  12.2033,-999.0000, -999.00
 316N145_11,       I01W,     898,          1,         25,     SI9446,2,19950911,       0422,     9.6333,    53.9305,       4580,   600.5,  11.3421,  35.4327,2,  35.4271,2,     29.5,2,    29.9,2,   41.59,2,   31.37,2,    0.00,2,    2.43,2,-999.000,9,-999.000,9,  2258.6,2,  2334.1,2,-999.0000,9,-999.0000,9, -999.00,9, -999.00,9,  -999.0,9,    -9.0,-999.000,9,-999.000,    5995,-999.0000,  11.2649,-999.0000, -999.00
 316N145_11,       I01W,     898,          1,         24,     SIH036,2,19950911,       0422,     9.6333,    53.9305,       4580,   700.3,  10.5665,  35.3797,2,  35.3782,2,     31.7,2,    30.3,2,   48.64,2,   32.61,2,    0.00,2,    2.51,2,-999.000,9,-999.000,9,  -999.0,9,  -999.0,9,-999.0000,9,-999.0000,9, -999.00,9, -999.00,9,  -999.0,9,    -9.0,-999.000,9,-999.000,    6993,-999.0000,  10.4799,-999.0000, -999.00
 316N145_11,       I01W,     898,          1,         23,     SIH001,2,19950911,       0422,     9.6333,    53.9305,       4580,   795.2,  10.3131,  35.4721,2,  35.4851,2,     26.4,2,    22.0,2,   56.86,2,   33.52,2,    0.00,2,    2.61,2,   0.098,2,   0.051,2,  2278.0,2,  2350.9,2,-999.0000,9,-999.0000,9, -999.00,9, -999.00,9,  -999.0,9,    -9.0,-999.000,9,-999.000,    7943,-999.0000,  10.2158,-999.0000, -999.00
 316N145_11,       I01W,     898,          1,         22,     SIH019,2,19950911,       0422,     9.6333,    53.9305,       4580,   897.7,   9.4195,  35.3746,2,  35.3760,2,     28.9,2,    26.3,2,   64.30,2,   34.70,2,    0.00,2,    2.66,2,-999.000,9,-999.000,9,  -999.0,9,  -999.0,9,-999.0000,9,-999.0000,9, -999.00,9, -999.00,9,  -999.0,9,    -9.0,-999.000,9,-999.000,    8968,-999.0000,   9.3150,-999.0000, -999.00
 316N145_11,       I01W,     898,          1,         21,     SIH025,2,19950911,       0422,     9.6333,    53.9305,       4580,   997.9,   8.7764,  35.3309,2,  35.3315,2,     30.6,2,    27.5,2,   71.55,2,   35.56,2,    0.00,2,    2.72,2,-999.000,9,-999.000,9,  2294.8,2,  2361.7,2,-999.0000,9,-999.0000,9, -999.00,9, -999.00,9,  -999.0,9,    -9.0,-999.000,9,-999.000,    9971,-999.0000,   8.6641,-999.0000, -999.00
 316N145_11,       I01W,     898,          1,         20,     SIH004,2,19950911,       0422,     9.6333,    53.9305,       4580,  1099.0,   7.9319,  35.2299,2,  35.2544,2,     33.9,3,    33.1,2,   78.21,2,   36.20,2,    0.00,2,    2.76,2,   0.035,2,   0.018,2,  -999.0,9,  -999.0,9,-999.0000,9,-999.0000,9, -999.00,9, -999.00,9,  -999.0,9,    -9.0,-999.000,9,-999.000,   10983,-999.0000,   7.8144,-999.0000, -999.00
 316N145_11,       I01W,     898,          1,         19,     SIH005,2,19950911,       0422,     9.6333,    53.9305,       4580,  1195.8,   7.2841,  35.1719,2,  35.1847,2,     37.4,2,    37.2,2,   84.88,2,   36.84,2,    0.00,2,    2.79,2,-999.000,9,-999.000,9,  2306.6,2,  2371.3,2,-999.0000,9,-999.0000,9, -999.00,9, -999.00,9,  -999.0,9,    -9.0,-999.000,9,-999.000,   11951,-999.0000,   7.1613,-999.0000, -999.00
 316N145_11,       I01W,     898,          1,         18,     SIH006,2,19950911,       0422,     9.6333,    53.9305,       4580,  1397.1,   5.6084,  35.0204,2,  35.0216,2,     59.9,2,    59.1,2,  101.33,2,   37.32,2,    0.00,2,    2.81,2,-999.000,9,-999.000,9,  2318.3,2,  2385.3,2,-999.0000,9,-999.0000,9, -999.00,9, -999.00,9,  -999.0,9,    -9.0,-999.000,9,-999.000,   13965,-999.0000,   5.4805,-999.0000, -999.00
 316N145_11,       I01W,     898,          1,         17,     SIH038,2,19950911,       0422,     9.6333,    53.9305,       4580,  1598.7,   4.3931,  34.9247,2,  34.9252,2,     83.3,2,    78.7,2,  114.85,2,   37.24,2,    0.01,2,    2.77,2,   0.002,2,   0.004,2,  -999.0,9,  -999.0,9,-999.0000,9,-999.0000,9, -999.00,9, -999.00,9,  -999.0,9,    -9.0,-999.000,9,-999.000,   15982,-999.0000,   4.2593,-999.0000, -999.00
 316N145_11,       I01W,     898,          1,         16,     SIH008,2,19950911,       0422,     9.6333,    53.9305,       4580,  1795.1,   3.4919,  34.8474,2,  34.8501,2,     97.8,2,   100.7,2,  122.89,2,   36.65,2,    0.00,2,    2.69,2,-999.000,9,-999.000,9,  2324.8,2,  2405.1,2,-999.0000,9,-999.0000,9, -999.00,9, -999.00,9,  -999.0,9,    -9.0,-999.000,9,-999.000,   17948,-999.0000,   3.3514,-999.0000, -999.00
 316N145_11,       I01W,     898,          1,         15,     SIH009,2,19950911,       0422,     9.6333,    53.9305,       4580,  1996.5,   2.8010,  34.7986,2,  34.7990,2,    116.4,2,   121.9,3,  127.59,2,   36.03,2,    0.00,2,    2.60,2,-999.000,9,-999.000,9,  -999.0,9,  -999.0,9,-999.0000,9,-999.0000,9, -999.00,9, -999.00,9,  -999.0,9,    -9.0,-999.000,9,-999.000,   19962,-999.0000,   2.6523,-999.0000, -999.00
 316N145_11,       I01W,     898,          1,         14,     SIH010,2,19950911,       0422,     9.6333,    53.9305,       4580,  2195.7,   2.5311,  34.7896,2,  34.7903,2,    125.2,2,   124.9,2,  133.66,2,   36.02,2,    0.00,2,    2.60,2,   0.001,2,  -0.001,2,  2326.3,2,  2416.8,2,-999.0000,9,-999.0000,9, -999.00,9, -999.00,9,  -999.0,9,    -9.0,-999.000,9,-999.000,   21956,-999.0000,   2.3686,-999.0000, -999.00
 316N145_11,       I01W,     898,          1,         13,     SIH011,2,19950911,       0422,     9.6333,    53.9305,       4580,  2398.0,   2.2295,  34.7682,2,  34.7689,2,    135.5,2,   136.8,2,  134.64,2,   35.63,2,    0.00,2,    2.54,2,-999.000,9,-999.000,9,  -999.0,9,  -999.0,9,-999.0000,9,-999.0000,9, -999.00,9, -999.00,9,  -999.0,9,    -9.0,-999.000,9,-999.000,   23980,-999.0000,   2.0539,-999.0000, -999.00
 316N145_11,       I01W,     898,          1,         12,     SIH012,2,19950911,       0422,     9.6333,    53.9305,       4580,  2594.5,   2.0542,  34.7582,2,  34.7587,2,    141.3,2,   141.5,2,  136.01,2,   35.40,2,    0.00,2,    2.52,2,-999.000,9,-999.000,9,  2318.4,2,  2415.0,2,-999.0000,9,-999.0000,9, -999.00,9, -999.00,9,  -999.0,9,    -9.0,-999.000,9,-999.000,   25947,-999.0000,   1.8638,-999.0000, -999.00
 316N145_11,       I01W,     898,          1,         11,     SI9426,2,19950911,       0422,     9.6333,    53.9305,       4580,  2799.1,   1.9396,  34.7521,2,  34.7522,2,    146.3,2,   146.4,2,  136.99,2,   35.06,2,    0.00,2,    2.49,2,   0.020,4,   0.000,2,  -999.0,9,  -999.0,9,-999.0000,9,-999.0000,9, -999.00,9, -999.00,9,  -999.0,9,    -9.0,-999.000,9,-999.000,   27994,-999.0000,   1.7323,-999.0000, -999.00
 316N145_11,       I01W,     898,          1,         10,     SIH014,2,19950911,       0422,     9.6333,    53.9305,       4580,  2995.3,   1.8434,  34.7472,2,  34.7471,2,    149.7,2,   148.8,2,  138.75,2,   35.11,2,    0.00,2,    2.48,2,-999.000,9,-999.000,9,  2319.1,2,  2419.7,2,-999.0000,9,-999.0000,9, -999.00,9, -999.00,9,  -999.0,9,    -9.0,-999.000,9,-999.000,   29958,-999.0000,   1.6191,-999.0000, -999.00
 316N145_11,       I01W,     898,          1,          9,     SIH015,2,19950911,       0422,     9.6333,    53.9305,       4580,  3194.2,   1.7669,  34.7429,2,  34.7408,2,    154.2,2,   154.4,2,  138.55,2,   34.93,2,    0.00,2,    2.47,2,-999.000,9,-999.000,9,  -999.0,9,  -999.0,9,-999.0000,9,-999.0000,9, -999.00,9, -999.00,9,  -999.0,9,    -9.0,-999.000,9,-999.000,   31949,-999.0000,   1.5248,-999.0000, -999.00
 316N145_11,       I01W,     898,          1,          8,     SIH016,2,19950911,       0422,     9.6333,    53.9305,       4580,  3398.9,   1.6846,  34.7361,2,  34.7353,2,    159.9,2,   160.8,2,  136.79,2,   34.59,2,    0.00,2,    2.43,2,  -0.002,2,   0.001,2,  -999.0,9,  -999.0,9,-999.0000,9,-999.0000,9, -999.00,9, -999.00,9,  -999.0,9,    -9.0,-999.000,9,-999.000,   33997,-999.0000,   1.4239,-999.0000, -999.00
 316N145_11,       I01W,     898,          1,          7,     SIH017,2,19950911,       0422,     9.6333,    53.9305,       4580,  3595.6,   1.6149,  34.7329,2,  34.7313,2,    164.9,2,   165.7,2,  137.38,2,   34.41,2,    0.00,2,    2.41,2,-999.000,9,-999.000,9,  2306.5,2,  2413.2,2,-999.0000,9,-999.0000,9, -999.00,9, -999.00,9,  -999.0,9,    -9.0,-999.000,9,-999.000,   35965,-999.0000,   1.3357,-999.0000, -999.00
 316N145_11,       I01W,     898,          1,          6,     SIH018,2,19950911,       0422,     9.6333,    53.9305,       4580,  3794.5,   1.5388,  34.7290,2,  34.7270,2,    171.0,2,   171.2,2,  136.01,2,   34.24,2,    0.00,2,    2.39,2,-999.000,9,-999.000,9,  -999.0,9,  -999.0,9,-999.0000,9,-999.0000,9, -999.00,9, -999.00,9,  -999.0,9,    -9.0,-999.000,9,-999.000,   37956,-999.0000,   1.2407,-999.0000, -999.00
 316N145_11,       I01W,     898,          1,          5,     SIH002,2,19950911,       0422,     9.6333,    53.9305,       4580,  3995.3,   1.4693,  34.7239,2,  34.7243,2,    175.1,2,   175.1,2,  135.81,2,   33.85,2,    0.00,2,    2.36,2,   0.000,2,   0.004,2,  2298.4,2,  2407.6,2,-999.0000,9,-999.0000,9, -999.00,9, -999.00,9,  -999.0,9,    -9.0,-999.000,9,-999.000,   39965,-999.0000,   1.1516,-999.0000, -999.00
 316N145_11,       I01W,     898,          1,          4,     SIH020,2,19950911,       0422,     9.6333,    53.9305,       4580,  4194.0,   1.3746,  34.7206,2,  34.7201,2,    181.0,2,   180.5,2,  135.61,2,   33.84,2,    0.00,2,    2.35,2,-999.000,9,-999.000,9,  -999.0,9,  -999.0,9,-999.0000,9,-999.0000,9, -999.00,9, -999.00,9,  -999.0,9,    -9.0,-999.000,9,-999.000,   41953,-999.0000,   1.0378,-999.0000, -999.00
 316N145_11,       I01W,     898,          1,          3,     SIH021,2,19950911,       0422,     9.6333,    53.9305,       4580,  4392.5,   1.3519,  34.7199,2,  34.7176,2,    183.0,2,   182.4,2,  136.00,2,   33.71,2,    0.00,2,    2.33,2,   0.001,2,   0.001,2,  -999.0,9,  -999.0,9,-999.0000,9,-999.0000,9, -999.00,9, -999.00,9,  -999.0,9,    -9.0,-999.000,9,-999.000,   43939,-999.0000,   0.9936,-999.0000, -999.00
 316N145_11,       I01W,     898,          1,          2,     SIH022,2,19950911,       0422,     9.6333,    53.9305,       4580,  4597.8,   1.3487,  34.7187,2,  34.7174,2,    182.8,2,   181.1,2,  137.97,2,   33.76,2,    0.00,2,    2.34,2,   0.002,2,   0.003,2,  2297.0,2,  2411.5,2,-999.0000,9,-999.0000,9, -999.00,9, -999.00,9,  -999.0,9,    -9.0,-999.000,9,-999.000,   45994,-999.0000,   0.9670,-999.0000, -999.00
 316N145_11,       I01W,     898,          1,          1,     SIH023,2,19950911,       0422,     9.6333,    53.9305,       4580,  4675.2,   1.3472,  34.7175,2,  34.7162,2,    182.8,2,   183.3,2,  136.95,2,   33.63,2,    0.00,2,    2.33,2,   0.004,2,   0.001,2,  -999.0,9,  -999.0,9,-999.0000,9,-999.0000,9, -999.00,9, -999.00,9,  -999.0,9,    -9.0,-999.000,9,-999.000,   46768,-999.0000,   0.9565,-999.0000, -999.00