BOTTLE,20211119CCHSIORKP
EXPOCODE,SECT_ID,STNNBR,CASTNO,SAMPNO,BTLNBR,BTLNBR_FLAG_W,DATE,TIME,LATITUDE,LONGITUDE,DEPTH,CTDPRS,CTDTMP,CTDSAL,CTDSAL_FLAG_W,SALNTY,SALNTY_FLAG_W,CTDOXY,CTDOXY_FLAG_W,OXYGEN,OXYGEN_FLAG_W,SILCAT,SILCAT_FLAG_W,NITRAT,NITRAT_FLAG_W,NITRIT,NITRIT_FLAG_W,PHSPHT,PHSPHT_FLAG_W,CFC-11,CFC-11_FLAG_W,CFC-12,CFC-12_FLAG_W,TCARBN,TCARBN_FLAG_W,ALKALI,ALKALI_FLAG_W,TRITUM,TRITUM_FLAG_W,HELIUM,HELIUM_FLAG_W,DELHE3,DELHE3_FLAG_W,DELC13,DELC13_FLAG_W,DELC14,DELC14_FLAG_W,C14ERR,NEON,NEON_FLAG_W,NEONER,CTDRAW,TRITER,THETA,HELIER,DELHER
,,,,,,,,,,,METERS,DBAR,ITS-90,PSS-78,,PSS-78,,UMOL/KG,,UMOL/KG,,UMOL/KG,,UMOL/KG,,UMOL/KG,,UMOL/KG,,PMOL/KG,,PMOL/KG,,UMOL/KG,,UMOL/KG,,TU,,NMOL/KG,,PERCNT,,/MILLE,,/MILLE,,/MILLE,NMOL/KG,,NMOL/KG,DBAR,TU,DEG C,NMOL/KG,PERCNT
 316N145_11,       I01W,     881,          1,         27,     SIH033,2,19950907,       0447,    13.0000,    48.3333,       1995,     8.8,  29.7363,  36.2130,2,  36.1601,2,    211.6,2,   212.3,2,    1.28,2,   -0.01,2,    0.01,2,    0.31,2,   1.517,2,   0.893,2,  1999.3,2,  2370.4,2,-999.0000,9,-999.0000,9, -999.00,9, -999.00,9,  -999.0,9,    -9.0,-999.000,9,-999.000,      63,-999.0000,  29.7342,-999.0000, -999.00
 316N145_11,       I01W,     881,          1,         26,     SIH037,2,19950907,       0447,    13.0000,    48.3333,       1995,    28.7,  23.4648,  35.7361,2,  35.7582,2,    164.7,2,   166.8,2,    5.81,2,    4.78,2,    0.31,2,    0.97,2,-999.000,9,-999.000,9,  2097.8,2,  -999.0,9,-999.0000,9,-999.0000,9, -999.00,9, -999.00,9,  -999.0,9,    -9.0,-999.000,9,-999.000,     262,-999.0000,  23.4588,-999.0000, -999.00
 316N145_11,       I01W,     881,          1,         25,     SI9446,2,19950907,       0447,    13.0000,    48.3333,       1995,    58.7,  17.7270,  35.6519,2,  35.6573,2,     17.3,2,    16.9,2,   19.79,2,   25.76,2,    0.06,2,    2.04,2,   1.104,2,   0.615,2,  2222.0,2,  2330.3,2,-999.0000,9,-999.0000,9, -999.00,9, -999.00,9,  -999.0,9,    -9.0,-999.000,9,-999.000,     562,-999.0000,  17.7170,-999.0000, -999.00
 316N145_11,       I01W,     881,          1,         24,     SIH036,2,19950907,       0447,    13.0000,    48.3333,       1995,    88.7,  16.4500,  35.6359,2,  35.6287,2,     15.6,2,    14.8,2,   22.54,2,   26.21,2,    0.04,2,    2.12,2,-999.000,9,-999.000,9,  2231.8,2,  -999.0,9,-999.0000,9,-999.0000,9, -999.00,9, -999.00,9,  -999.0,9,    -9.0,-999.000,9,-999.000,     862,-999.0000,  16.4356,-999.0000, -999.00
 316N145_11,       I01W,     881,          1,         23,     SIH001,2,19950907,       0447,    13.0000,    48.3333,       1995,   118.9,  15.3209,  35.5868,2,  35.5916,2,     16.6,2,    19.4,2,   24.52,2,   26.42,2,    0.04,2,    2.11,2,   0.795,2,   0.440,2,  2235.2,2,  2335.1,2,-999.0000,9,-999.0000,9, -999.00,9, -999.00,9,  -999.0,9,    -9.0,-999.000,9,-999.000,    1164,-999.0000,  15.3025,-999.0000, -999.00
 316N145_11,       I01W,     881,          1,         22,     SIH019,2,19950907,       0447,    13.0000,    48.3333,       1995,   148.9,  14.7725,  35.6276,2,  35.6311,2,     17.5,2,    18.8,2,   25.71,2,   26.94,2,    0.01,2,    2.13,2,-999.000,9,-999.000,9,  2240.2,2,  2334.6,2,-999.0000,9,-999.0000,9, -999.00,9, -999.00,9,  -999.0,9,    -9.0,-999.000,9,-999.000,    1464,-999.0000,  14.7501,-999.0000, -999.00
 316N145_11,       I01W,     881,          1,         21,     SIH025,2,19950907,       0447,    13.0000,    48.3333,       1995,   178.9,  14.4944,  35.6575,2,  35.6579,2,     18.4,2,    18.3,2,   26.69,2,   27.26,2,    0.01,2,    2.14,2,-999.000,9,-999.000,9,  -999.0,9,  -999.0,9,-999.0000,9,-999.0000,9, -999.00,9, -999.00,9,  -999.0,9,    -9.0,-999.000,9,-999.000,    1765,-999.0000,  14.4678,-999.0000, -999.00
 316N145_11,       I01W,     881,          1,         20,     SIH004,2,19950907,       0447,    13.0000,    48.3333,       1995,   198.8,  14.2744,  35.6727,2,  35.6668,2,     18.4,2,    18.1,2,   26.89,2,   27.47,2,    0.01,2,    2.17,2,-999.000,9,-999.000,9,  2244.8,2,  2339.3,2,-999.0000,9,-999.0000,9, -999.00,9, -999.00,9,  -999.0,9,    -9.0,-999.000,9,-999.000,    1963,-999.0000,  14.2451,-999.0000, -999.00
 316N145_11,       I01W,     881,          1,         19,     SIH005,2,19950907,       0447,    13.0000,    48.3333,       1995,   249.3,  14.3039,  35.7984,2,  35.8038,2,     18.2,2,    16.8,2,   28.08,2,   27.74,2,    0.02,2,    2.17,2,   0.560,2,   0.312,2,  -999.0,9,  -999.0,9,-999.0000,9,-999.0000,9, -999.00,9, -999.00,9,  -999.0,9,    -9.0,-999.000,9,-999.000,    2469,-999.0000,  14.2670,-999.0000, -999.00
 316N145_11,       I01W,     881,          1,         18,     SIH006,2,19950907,       0447,    13.0000,    48.3333,       1995,   299.1,  14.3298,  35.9171,2,  35.9149,2,     18.9,2,    18.0,2,   29.26,2,   27.85,2,    0.01,2,    2.16,2,-999.000,9,-999.000,9,  2245.6,2,  2345.3,2,-999.0000,9,-999.0000,9, -999.00,9, -999.00,9,  -999.0,9,    -9.0,-999.000,9,-999.000,    2967,-999.0000,  14.2854,-999.0000, -999.00
 316N145_11,       I01W,     881,          1,         17,     SIH038,2,19950907,       0447,    13.0000,    48.3333,       1995,   398.9,  13.6838,  35.9424,2,  35.9378,2,     18.4,2,    17.7,2,   33.99,2,   28.55,2,    0.00,2,    2.25,2,   0.393,2,   0.219,2,  2253.4,2,  2350.0,2,-999.0000,9,-999.0000,9, -999.00,9, -999.00,9,  -999.0,9,    -9.0,-999.000,9,-999.000,    3965,-999.0000,  13.6261,-999.0000, -999.00
 316N145_11,       I01W,     881,          1,         16,     SIH008,2,19950907,       0447,    13.0000,    48.3333,       1995,   499.1,  13.3966,  36.0224,2,  36.0412,2,     18.1,2,    17.5,2,   37.74,2,   28.87,2,    0.00,2,    2.29,2,-999.000,9,-999.000,9,  2256.4,2,  2355.8,2,-999.0000,9,-999.0000,9, -999.00,9, -999.00,9,  -999.0,9,    -9.0,-999.000,9,-999.000,    4969,-999.0000,  13.3251,-999.0000, -999.00
 316N145_11,       I01W,     881,          1,         15,     SIH009,2,19950907,       0447,    13.0000,    48.3333,       1995,   600.1,  13.6665,  36.2715,2,  36.2723,2,     18.4,2,    18.3,2,   40.10,2,   28.70,2,    0.01,2,    2.27,2,-999.000,9,-999.000,9,  2257.3,2,  2366.8,2,-999.0000,9,-999.0000,9, -999.00,9, -999.00,9,  -999.0,9,    -9.0,-999.000,9,-999.000,    5980,-999.0000,  13.5789,-999.0000, -999.00
 316N145_11,       I01W,     881,          1,         14,     SIH010,2,19950907,       0447,    13.0000,    48.3333,       1995,   650.4,  14.1591,  36.4839,2,  36.4810,2,     18.2,2,    20.5,2,   39.90,2,   27.90,2,    0.01,2,    2.19,2,   0.406,2,   0.226,2,  -999.0,9,  -999.0,9,-999.0000,9,-999.0000,9, -999.00,9, -999.00,9,  -999.0,9,    -9.0,-999.000,9,-999.000,    6482,-999.0000,  14.0618,-999.0000, -999.00
 316N145_11,       I01W,     881,          1,         13,     SIH011,2,19950907,       0447,    13.0000,    48.3333,       1995,   700.4,  13.8603,  36.4455,2,  36.4535,2,     18.4,2,    20.9,2,   42.07,2,   28.28,2,    0.00,2,    2.21,2,-999.000,9,-999.000,9,  2256.0,2,  2372.1,2,-999.0000,9,-999.0000,9, -999.00,9, -999.00,9,  -999.0,9,    -9.0,-999.000,9,-999.000,    6983,-999.0000,  13.7567,-999.0000, -999.00
 316N145_11,       I01W,     881,          1,         12,     SIH012,2,19950907,       0447,    13.0000,    48.3333,       1995,   795.9,  12.6880,  36.2387,2,  36.2337,2,     18.3,2,    19.0,2,   50.56,2,   30.27,2,    0.00,2,    2.37,2,   0.282,2,   0.158,2,  2269.3,2,  2375.2,2,-999.0000,9,-999.0000,9, -999.00,9, -999.00,9,  -999.0,9,    -9.0,-999.000,9,-999.000,    7940,-999.0000,  12.5765,-999.0000, -999.00
 316N145_11,       I01W,     881,          1,         11,     SI9426,2,19950907,       0447,    13.0000,    48.3333,       1995,   896.4,  10.9949,  35.9224,2,  35.9251,2,     18.9,2,    16.3,2,   61.23,2,   32.53,2,    0.01,2,    2.55,2,-999.000,9,-999.000,9,  2286.0,2,  2375.2,2,-999.0000,9,-999.0000,9, -999.00,9, -999.00,9,  -999.0,9,    -9.0,-999.000,9,-999.000,    8946,-999.0000,  10.8797,-999.0000, -999.00
 316N145_11,       I01W,     881,          1,         10,     SIH014,2,19950907,       0447,    13.0000,    48.3333,       1995,   997.5,  10.1483,  35.7864,2,  35.7908,2,     20.4,2,    18.1,2,   68.15,2,   33.70,2,    0.02,2,    2.62,2,   0.166,3,   0.076,2,  2294.9,2,  2379.0,2,-999.0000,9,-999.0000,9, -999.00,9, -999.00,9,  -999.0,9,    -9.0,-999.000,9,-999.000,    9958,-999.0000,  10.0257,-999.0000, -999.00
 316N145_11,       I01W,     881,          1,          9,     SIH015,2,19950907,       0447,    13.0000,    48.3333,       1995,  1097.9,   8.6831,  35.5430,2,  35.5401,2,     23.9,2,    22.5,2,   78.82,2,   35.29,2,    0.00,2,    2.73,2,-999.000,9,-999.000,9,  -999.0,9,  -999.0,9,-999.0000,9,-999.0000,9, -999.00,9, -999.00,9,  -999.0,9,    -9.0,-999.000,9,-999.000,   10963,-999.0000,   8.5593,-999.0000, -999.00
 316N145_11,       I01W,     881,          1,          8,     SIH016,2,19950907,       0447,    13.0000,    48.3333,       1995,  1198.8,   7.6216,  35.3689,2,  35.3669,2,     28.6,2,    27.8,2,   87.13,2,   36.11,2,    0.00,2,    2.79,2,   0.051,4,   0.028,4,  -999.0,9,  -999.0,9,-999.0000,9,-999.0000,9, -999.00,9, -999.00,9,  -999.0,9,    -9.0,-999.000,9,-999.000,   11974,-999.0000,   7.4952,-999.0000, -999.00
 316N145_11,       I01W,     881,          1,          7,     SIH017,2,19950907,       0447,    13.0000,    48.3333,       1995,  1294.7,   6.9385,  35.2720,2,  35.2698,2,     33.4,2,    34.5,2,   93.65,2,   36.80,2,    0.01,2,    2.84,2,-999.000,9,-999.000,9,  -999.0,9,  -999.0,9,-999.0000,9,-999.0000,9, -999.00,9, -999.00,9,  -999.0,9,    -9.0,-999.000,9,-999.000,   12934,-999.0000,   6.8079,-999.0000, -999.00
 316N145_11,       I01W,     881,          1,          6,     SIH018,2,19950907,       0447,    13.0000,    48.3333,       1995,  1395.8,   6.1504,  35.1626,2,  35.1642,2,     40.4,2,    41.5,2,  101.58,2,   37.17,2,    0.02,2,    2.85,2,-999.000,9,-999.000,9,  2330.3,2,  2399.0,2,-999.0000,9,-999.0000,9, -999.00,9, -999.00,9,  -999.0,9,    -9.0,-999.000,9,-999.000,   13947,-999.0000,   6.0169,-999.0000, -999.00
 316N145_11,       I01W,     881,          1,          5,     SIH002,2,19950907,       0447,    13.0000,    48.3333,       1995,  1496.8,   5.4146,  35.0735,2,  35.0754,2,     49.5,2,    50.0,2,  110.48,2,   37.25,2,    0.00,2,    2.85,2,   0.010,2,   0.013,2,  -999.0,9,  -999.0,9,-999.0000,9,-999.0000,9, -999.00,9, -999.00,9,  -999.0,9,    -9.0,-999.000,9,-999.000,   14959,-999.0000,   5.2786,-999.0000, -999.00
 316N145_11,       I01W,     881,          1,          4,     SIH020,2,19950907,       0447,    13.0000,    48.3333,       1995,  1598.3,   4.6370,  34.9907,2,  34.9923,2,     61.3,2,    60.4,2,  120.18,2,   37.25,2,    0.00,2,    2.83,2,-999.000,9,-999.000,9,  -999.0,9,  -999.0,9,-999.0000,9,-999.0000,9, -999.00,9, -999.00,9,  -999.0,9,    -9.0,-999.000,9,-999.000,   15976,-999.0000,   4.5001,-999.0000, -999.00
 316N145_11,       I01W,     881,          1,          3,     SIH021,2,19950907,       0447,    13.0000,    48.3333,       1995,  1795.1,   3.7423,  34.9088,2,  34.9091,2,     84.5,2,    72.9,2,  133.24,2,   37.14,2,    0.01,2,    2.82,2,   0.004,2,   0.011,2,  2355.4,2,  2432.4,2,-999.0000,9,-999.0000,9, -999.00,9, -999.00,9,  -999.0,9,    -9.0,-999.000,9,-999.000,   17948,-999.0000,   3.5982,-999.0000, -999.00
 316N145_11,       I01W,     881,          1,          2,     SIH022,2,19950907,       0447,    13.0000,    48.3333,       1995,  1916.9,   3.3814,  34.8744,2,  34.8737,2,    101.3,2,    80.1,2,  138.59,2,   36.92,2,    0.01,2,    2.79,2,   0.005,2,   0.011,2,  -999.0,9,  -999.0,9,-999.0000,9,-999.0000,9, -999.00,9, -999.00,9,  -999.0,9,    -9.0,-999.000,9,-999.000,   19168,-999.0000,   3.2311,-999.0000, -999.00
 316N145_11,       I01W,     881,          1,          1,     SIH023,2,19950907,       0447,    13.0000,    48.3333,       1995,  2025.1,   3.1789,  34.8540,2,  34.8566,2,   -999.0,9,    83.1,2,  140.99,2,   36.76,2,    0.00,2,    2.77,2,   0.007,2,   0.017,2,  -999.0,9,  -999.0,9,-999.0000,9,-999.0000,9, -999.00,9, -999.00,9,  -999.0,9,    -9.0,-999.000,9,-999.000,   20252,-999.0000,   3.0217,-999.0000, -999.00