BOTTLE,20211119CCHSIORKP
EXPOCODE,SECT_ID,STNNBR,CASTNO,SAMPNO,BTLNBR,BTLNBR_FLAG_W,DATE,TIME,LATITUDE,LONGITUDE,DEPTH,CTDPRS,CTDTMP,CTDSAL,CTDSAL_FLAG_W,SALNTY,SALNTY_FLAG_W,CTDOXY,CTDOXY_FLAG_W,OXYGEN,OXYGEN_FLAG_W,SILCAT,SILCAT_FLAG_W,NITRAT,NITRAT_FLAG_W,NITRIT,NITRIT_FLAG_W,PHSPHT,PHSPHT_FLAG_W,CFC-11,CFC-11_FLAG_W,CFC-12,CFC-12_FLAG_W,TCARBN,TCARBN_FLAG_W,ALKALI,ALKALI_FLAG_W,TRITUM,TRITUM_FLAG_W,HELIUM,HELIUM_FLAG_W,DELHE3,DELHE3_FLAG_W,DELC13,DELC13_FLAG_W,DELC14,DELC14_FLAG_W,C14ERR,NEON,NEON_FLAG_W,NEONER,CTDRAW,TRITER,THETA,HELIER,DELHER
,,,,,,,,,,,METERS,DBAR,ITS-90,PSS-78,,PSS-78,,UMOL/KG,,UMOL/KG,,UMOL/KG,,UMOL/KG,,UMOL/KG,,UMOL/KG,,PMOL/KG,,PMOL/KG,,UMOL/KG,,UMOL/KG,,TU,,NMOL/KG,,PERCNT,,/MILLE,,/MILLE,,/MILLE,NMOL/KG,,NMOL/KG,DBAR,TU,DEG C,NMOL/KG,PERCNT
 316N145_11,       I01W,     903,          1,         34,     SIH026,2,19950912,       1757,     9.3417,    51.9888,       3650,     6.2,  25.7286,  35.5347,2,  35.5342,2,    218.6,2,   223.9,2,    4.31,2,    1.84,2,    0.16,2,    0.34,2,-999.000,9,-999.000,9,  2004.6,2,  2322.2,2,-999.0000,9,   1.7303,2,   -1.16,2, -999.00,9,  -999.0,9,    -9.0,   6.852,2,   0.034,      46,-999.0000,  25.7273,   0.0087,    0.14
 316N145_11,       I01W,     903,          1,         33,     SIH027,2,19950912,       1757,     9.3417,    51.9888,       3650,    30.8,  25.7291,  35.5333,2,  35.5342,2,    214.9,2,   219.9,2,    3.93,2,    1.84,2,    0.16,2,    0.35,2,   1.779,2,   1.026,2,  2005.1,2,  2318.4,2,-999.0000,9,   1.7226,2,   -0.95,2, -999.00,9,  -999.0,9,    -9.0,   6.771,2,   0.034,     292,-999.0000,  25.7223,   0.0086,    0.14
 316N145_11,       I01W,     903,          1,         32,     SIH028,2,19950912,       1757,     9.3417,    51.9888,       3650,    60.6,  25.4319,  35.5219,2,  35.5269,2,    218.9,2,   220.4,2,    4.12,2,    2.44,2,    0.20,2,    0.42,2,-999.000,9,-999.000,9,  2011.7,2,  2317.9,2,-999.0000,9,   1.7127,2,   -0.74,2, -999.00,9,  -999.0,9,    -9.0,   6.783,2,   0.034,     590,-999.0000,  25.4186,   0.0086,    0.14
 316N145_11,       I01W,     903,          1,         31,     SIH029,2,19950912,       1757,     9.3417,    51.9888,       3650,    91.0,  24.9772,  35.6285,2,  35.6378,2,    211.8,2,   207.7,2,    4.88,2,    5.05,2,    0.84,2,    0.62,2,   1.750,2,   1.009,2,  2037.2,2,  2332.9,3,-999.0000,9,   1.7196,2,   -1.02,2, -999.00,9,  -999.0,9,    -9.0,   6.825,2,   0.034,     894,-999.0000,  24.9575,   0.0086,    0.14
 316N145_11,       I01W,     903,          1,         30,     SIH030,2,19950912,       1757,     9.3417,    51.9888,       3650,   121.3,  23.5268,  35.5182,2,  35.5336,2,    183.6,2,   188.5,2,    6.99,2,    8.18,2,    0.60,2,    0.78,2,-999.000,9,-999.000,9,  2060.2,2,  2324.1,2,-999.0000,9,   1.7367,2,   -0.60,2, -999.00,9,  -999.0,9,    -9.0,   6.941,2,   0.035,    1198,-999.0000,  23.5015,   0.0087,    0.14
 316N145_11,       I01W,     903,          1,         29,     SIH031,2,19950912,       1757,     9.3417,    51.9888,       3650,   147.6,  22.4100,  35.5008,2,  35.5024,2,    163.7,2,   160.3,2,    8.53,2,   11.50,2,    0.21,2,    0.96,2,   1.651,2,   0.938,2,  2084.5,2,  2263.0,3,   0.8295,2,   1.7238,2,    0.08,2, -999.00,9,  -999.0,9,    -9.0,   6.896,2,   0.034,    1461,   0.0035,  22.3803,   0.0086,    0.14
 316N145_11,       I01W,     903,          1,         28,     SIH032,2,19950912,       1757,     9.3417,    51.9888,       3650,   201.1,  17.8116,  35.4620,2,  35.4596,2,     58.9,2,    53.7,2,   17.92,2,   23.65,2,    0.01,2,    1.83,2,-999.000,9,-999.000,9,  2190.9,2,  2321.6,2,   0.6357,2,   1.7525,2,    3.24,2, -999.00,9,  -999.0,9,    -9.0,   7.150,2,   0.036,    1996,   0.0032,  17.7772,   0.0088,    0.14
 316N145_11,       I01W,     903,          1,         27,     SIH033,2,19950912,       1757,     9.3417,    51.9888,       3650,   251.6,  14.5834,  35.3635,2,  35.3614,2,     54.5,2,    58.1,2,   22.14,2,   24.88,2,    0.01,2,    1.91,2,   0.896,2,   0.482,2,  -999.0,9,  -999.0,9,-999.0000,9,   1.7739,2,    4.46,2, -999.00,9,  -999.0,9,    -9.0,   7.314,2,   0.037,    2501,-999.0000,  14.5459,   0.0089,    0.14
 316N145_11,       I01W,     903,          1,         26,     SIH037,2,19950912,       1757,     9.3417,    51.9888,       3650,   301.2,  13.3243,  35.3117,2,  35.3137,2,     60.9,2,    64.4,2,   24.06,2,   25.85,2,    0.01,2,    1.93,2,-999.000,9,-999.000,9,  2215.9,2,  2320.3,2,   0.4564,2,   1.7929,2,    4.75,2, -999.00,9,  -999.0,9,    -9.0,   7.433,2,   0.037,    2997,   0.0029,  13.2819,   0.0090,    0.14
 316N145_11,       I01W,     903,          1,         25,     SI9446,3,19950912,       1757,     9.3417,    51.9888,       3650,   397.1,  11.9833,  35.3056,3,  35.3051,2,     49.5,2,    54.1,2,   30.20,2,   28.79,2,    0.01,2,    2.13,2,   0.473,2,   0.246,2,  2234.3,2,  2322.2,2,-999.0000,9,   1.8110,2,    4.96,2, -999.00,9,  -999.0,9,    -9.0,   7.489,2,   0.037,    3956,-999.0000,  11.9310,   0.0091,    0.14
 316N145_11,       I01W,     903,          1,         24,     SIH036,2,19950912,       1757,     9.3417,    51.9888,       3650,   497.4,  12.1072,  35.5747,2,  35.5669,2,     17.0,2,    24.7,2,   39.01,2,   30.29,2,    0.01,2,    2.43,2,-999.000,9,-999.000,9,  -999.0,9,  -999.0,9,   0.2084,2,   1.7975,2,    5.91,2, -999.00,9,  -999.0,9,    -9.0,   7.428,2,   0.037,    4960,   0.0025,  12.0407,   0.0090,    0.14
 316N145_11,       I01W,     903,          1,         23,     SIH001,2,19950912,       1757,     9.3417,    51.9888,       3650,   596.9,  10.4452,  35.3518,2,  35.3634,2,     30.7,2,    31.1,2,   48.99,2,   33.03,2,    0.00,2,    2.52,2,   0.131,3,   0.061,2,  2269.6,2,  2343.7,2,   0.1136,2,   1.8110,2,    6.55,2, -999.00,9,  -999.0,9,    -9.0,   7.523,2,   0.038,    5955,   0.0024,  10.3724,   0.0091,    0.14
 316N145_11,       I01W,     903,          1,         22,     SIH019,2,19950912,       1757,     9.3417,    51.9888,       3650,   696.3,  10.0172,  35.4037,2,  35.4016,2,     24.6,2,    29.3,2,   57.25,2,   34.16,2,    0.00,2,    2.61,2,-999.000,9,-999.000,9,  -999.0,9,  -999.0,9,   0.0902,2,   1.8011,2,    8.10,2, -999.00,9,  -999.0,9,    -9.0,   7.473,2,   0.037,    6950,   0.0023,   9.9338,   0.0090,    0.14
 316N145_11,       I01W,     903,          1,         21,     SIH025,2,19950912,       1757,     9.3417,    51.9888,       3650,   797.5,   9.1053,  35.3109,2,  35.2982,2,     29.5,2,    30.6,2,   65.31,2,   35.35,2,    0.00,2,    2.67,2,   0.048,2,   0.026,2,  2290.4,2,  2355.2,2,   0.0647,2,-999.0000,9, -999.00,9, -999.00,9,  -999.0,9,    -9.0,-999.000,9,-999.000,    7962,   0.0024,   9.0147,-999.0000, -999.00
 316N145_11,       I01W,     903,          1,         20,     SIH004,2,19950912,       1757,     9.3417,    51.9888,       3650,   899.0,   8.4186,  35.2456,2,  35.2430,2,     34.9,2,    37.4,3,   71.46,2,   35.93,2,    0.01,2,    2.70,2,-999.000,9,-999.000,9,  -999.0,9,  -999.0,9,   0.0501,2,   1.8277,2,    9.50,2, -999.00,9,  -999.0,9,    -9.0,   7.641,2,   0.038,    8977,   0.0023,   8.3205,   0.0091,    0.14
 316N145_11,       I01W,     903,          1,         19,     SIH005,3,19950912,       1757,     9.3417,    51.9888,       3650,   997.8,   7.9388,  35.1960,3,  35.1943,2,     38.3,2,    40.5,3,   76.27,2,   36.53,2,    0.01,2,    2.72,2,   0.029,2,   0.016,2,  2300.3,2,  2364.4,2,   0.0438,2,   1.8156,2,   10.11,2, -999.00,9,  -999.0,9,    -9.0,   7.602,2,   0.038,    9966,   0.0023,   7.8328,   0.0091,    0.14
 316N145_11,       I01W,     903,          1,         18,     SIH006,2,19950912,       1757,     9.3417,    51.9888,       3650,  1100.4,   7.1513,  35.1112,2,  35.1152,2,     47.1,2,    47.3,3,   82.80,2,   37.13,2,    0.01,2,    2.76,2,-999.000,9,-999.000,9,  -999.0,9,  -999.0,9,-999.0000,9,-999.0000,9, -999.00,9, -999.00,9,  -999.0,9,    -9.0,-999.000,9,-999.000,   10992,-999.0000,   7.0401,-999.0000, -999.00
 316N145_11,       I01W,     903,          1,         17,     SIH038,2,19950912,       1757,     9.3417,    51.9888,       3650,  1200.1,   6.5554,  35.0497,2,  35.0510,2,     53.9,2,    54.0,2,   88.38,2,   37.37,2,    0.00,2,    2.77,2,   0.011,2,   0.005,2,  2309.2,2,  2375.3,2,-999.0000,9,-999.0000,9, -999.00,9, -999.00,9,  -999.0,9,    -9.0,-999.000,9,-999.000,   11990,-999.0000,   6.4389,-999.0000, -999.00
 316N145_11,       I01W,     903,          1,         16,     SIH008,2,19950912,       1757,     9.3417,    51.9888,       3650,  1299.7,   6.1628,  35.0204,2,  35.0226,2,     57.4,2,    58.9,2,   92.04,2,   37.38,2,    0.00,2,    2.76,2,-999.000,9,-999.000,9,  -999.0,9,  -999.0,9,-999.0000,9,-999.0000,9, -999.00,9, -999.00,9,  -999.0,9,    -9.0,-999.000,9,-999.000,   12987,-999.0000,   6.0395,-999.0000, -999.00
 316N145_11,       I01W,     903,          1,         15,     SIH009,2,19950912,       1757,     9.3417,    51.9888,       3650,  1400.5,   5.6064,  34.9952,2,  34.9898,2,     63.3,2,    63.9,2,   98.38,2,   37.44,2,    0.00,2,    2.78,2,   0.005,2,   0.001,2,  2316.6,2,  2384.0,2,-999.0000,9,-999.0000,9, -999.00,9, -999.00,9,  -999.0,9,    -9.0,-999.000,9,-999.000,   13995,-999.0000,   5.4783,-999.0000, -999.00
 316N145_11,       I01W,     903,          1,         14,     SIH010,2,19950912,       1757,     9.3417,    51.9888,       3650,  1500.7,   5.1478,  34.9621,2,  34.9608,2,     71.5,2,    71.1,2,  103.39,2,   37.40,2,    0.00,2,    2.76,2,-999.000,9,-999.000,9,  -999.0,9,  -999.0,9,-999.0000,9,-999.0000,9, -999.00,9, -999.00,9,  -999.0,9,    -9.0,-999.000,9,-999.000,   14997,-999.0000,   5.0147,-999.0000, -999.00
 316N145_11,       I01W,     903,          1,         13,     SIH011,2,19950912,       1757,     9.3417,    51.9888,       3650,  1600.3,   4.7395,  34.9365,2,  34.9361,2,     78.3,2,    77.9,2,  108.58,2,   37.30,2,    0.00,2,    2.75,2,   0.001,2,  -0.001,2,  2322.7,2,  2393.1,2,-999.0000,9,-999.0000,9, -999.00,9, -999.00,9,  -999.0,9,    -9.0,-999.000,9,-999.000,   15994,-999.0000,   4.6013,-999.0000, -999.00
 316N145_11,       I01W,     903,          1,         12,     SIH012,2,19950912,       1757,     9.3417,    51.9888,       3650,  1796.6,   3.7906,  34.8600,2,  34.8607,2,     99.2,2,    99.9,2,  117.25,2,   36.82,2,    0.00,2,    2.68,2,-999.000,9,-999.000,9,  -999.0,9,  -999.0,9,-999.0000,9,-999.0000,9, -999.00,9, -999.00,9,  -999.0,9,    -9.0,-999.000,9,-999.000,   17959,-999.0000,   3.6458,-999.0000, -999.00
 316N145_11,       I01W,     903,          1,         11,     SI9426,2,19950912,       1757,     9.3417,    51.9888,       3650,  1997.6,   3.1170,  34.8256,2,  34.8263,2,    110.8,2,   107.6,2,  126.86,2,   36.57,2,    0.00,2,    2.65,2,   0.001,2,  -0.001,2,  2329.7,2,  2411.7,2,-999.0000,9,-999.0000,9, -999.00,9, -999.00,9,  -999.0,9,    -9.0,-999.000,9,-999.000,   19970,-999.0000,   2.9632,-999.0000, -999.00
 316N145_11,       I01W,     903,          1,         10,     SIH014,2,19950912,       1757,     9.3417,    51.9888,       3650,  2196.6,   2.6725,  34.7939,2,  34.7938,2,    124.8,2,   124.0,2,  129.96,2,   36.09,2,    0.00,2,    2.58,2,-999.000,9,-999.000,9,  -999.0,9,  -999.0,9,-999.0000,9,-999.0000,9, -999.00,9, -999.00,9,  -999.0,9,    -9.0,-999.000,9,-999.000,   21961,-999.0000,   2.5075,-999.0000, -999.00
 316N145_11,       I01W,     903,          1,          9,     SIH015,2,19950912,       1757,     9.3417,    51.9888,       3650,  2398.4,   2.3640,  34.7757,2,  34.7754,2,    132.7,2,   132.7,2,  132.85,2,   35.78,2,    0.00,2,    2.55,2,  -0.003,2,   0.000,2,  2324.2,2,  2415.7,2,-999.0000,9,-999.0000,9, -999.00,9, -999.00,9,  -999.0,9,    -9.0,-999.000,9,-999.000,   23980,-999.0000,   2.1859,-999.0000, -999.00
 316N145_11,       I01W,     903,          1,          8,     SIH016,2,19950912,       1757,     9.3417,    51.9888,       3650,  2594.4,   2.1400,  34.7631,2,  34.7624,2,    139.7,2,   140.4,2,  135.36,2,   35.58,2,    0.00,2,    2.52,2,-999.000,9,-999.000,9,  -999.0,9,  -999.0,9,-999.0000,9,-999.0000,9, -999.00,9, -999.00,9,  -999.0,9,    -9.0,-999.000,9,-999.000,   25942,-999.0000,   1.9479,-999.0000, -999.00
 316N145_11,       I01W,     903,          1,          7,     SIH017,2,19950912,       1757,     9.3417,    51.9888,       3650,  2797.2,   1.9973,  34.7529,2,  34.7547,2,    146.5,2,   146.7,2,  135.57,2,   35.32,2,    0.00,2,    2.49,2,   0.001,2,  -0.002,2,  2319.9,2,  2416.9,2,-999.0000,9,-999.0000,9, -999.00,9, -999.00,9,  -999.0,9,    -9.0,-999.000,9,-999.000,   27971,-999.0000,   1.7890,-999.0000, -999.00
 316N145_11,       I01W,     903,          1,          6,     SIH018,2,19950912,       1757,     9.3417,    51.9888,       3650,  2998.2,   1.8730,  34.7459,2,  34.7465,2,    151.5,2,   150.5,2,  136.35,2,   35.12,2,    0.00,2,    2.46,2,-999.000,9,-999.000,9,  -999.0,9,  -999.0,9,-999.0000,9,-999.0000,9, -999.00,9, -999.00,9,  -999.0,9,    -9.0,-999.000,9,-999.000,   29983,-999.0000,   1.6478,-999.0000, -999.00
 316N145_11,       I01W,     903,          1,          5,     SIH002,2,19950912,       1757,     9.3417,    51.9888,       3650,  3197.4,   1.7867,  34.7417,2,  34.7419,2,    155.0,2,   155.6,2,  136.56,2,   34.91,2,    0.00,2,    2.44,2,  -0.004,2,   0.001,2,  2315.3,2,  2416.3,2,-999.0000,9,-999.0000,9, -999.00,9, -999.00,9,  -999.0,9,    -9.0,-999.000,9,-999.000,   31976,-999.0000,   1.5438,-999.0000, -999.00
 316N145_11,       I01W,     903,          1,          4,     SIH020,2,19950912,       1757,     9.3417,    51.9888,       3650,  3395.5,   1.7178,  34.7370,2,  34.7380,2,    162.2,2,   160.8,2,  136.19,2,   34.64,2,    0.01,2,    2.42,2,-999.000,9,-999.000,9,  -999.0,9,  -999.0,9,-999.0000,9,-999.0000,9, -999.00,9, -999.00,9,  -999.0,9,    -9.0,-999.000,9,-999.000,   33959,-999.0000,   1.4567,-999.0000, -999.00
 316N145_11,       I01W,     903,          1,          3,     SIH021,2,19950912,       1757,     9.3417,    51.9888,       3650,  3599.4,   1.6195,  34.7310,2,  34.7323,2,    167.2,2,   165.6,2,  135.44,2,   34.29,2,    0.00,2,    2.38,2,  -0.001,2,  -0.001,2,  2307.7,2,  2412.7,2,-999.0000,9,-999.0000,9, -999.00,9, -999.00,9,  -999.0,9,    -9.0,-999.000,9,-999.000,   35999,-999.0000,   1.3398,-999.0000, -999.00
 316N145_11,       I01W,     903,          1,          2,     SIH022,2,19950912,       1757,     9.3417,    51.9888,       3650,  3633.7,   1.6014,  34.7320,2,  34.7315,2,    167.2,2,   167.7,2,  135.64,2,   34.24,2,    0.00,2,    2.38,2,  -0.001,2,   0.003,2,  -999.0,9,  -999.0,9,-999.0000,9,-999.0000,9, -999.00,9, -999.00,9,  -999.0,9,    -9.0,-999.000,9,-999.000,   36342,-999.0000,   1.3186,-999.0000, -999.00
 316N145_11,       I01W,     903,          1,          1,     SIH023,2,19950912,       1757,     9.3417,    51.9888,       3650,  3684.5,   1.5842,  34.7304,2,  34.7305,2,    169.4,2,   168.6,2,  135.76,2,   34.35,2,    0.00,2,    2.39,2,  -0.002,2,  -0.001,2,  2306.5,2,  2410.6,2,-999.0000,9,-999.0000,9, -999.00,9, -999.00,9,  -999.0,9,    -9.0,-999.000,9,-999.000,   36851,-999.0000,   1.2965,-999.0000, -999.00