BOTTLE,20211119CCHSIORKP
EXPOCODE,SECT_ID,STNNBR,CASTNO,SAMPNO,BTLNBR,BTLNBR_FLAG_W,DATE,TIME,LATITUDE,LONGITUDE,DEPTH,CTDPRS,CTDTMP,CTDSAL,CTDSAL_FLAG_W,SALNTY,SALNTY_FLAG_W,CTDOXY,CTDOXY_FLAG_W,OXYGEN,OXYGEN_FLAG_W,SILCAT,SILCAT_FLAG_W,NITRAT,NITRAT_FLAG_W,NITRIT,NITRIT_FLAG_W,PHSPHT,PHSPHT_FLAG_W,CFC-11,CFC-11_FLAG_W,CFC-12,CFC-12_FLAG_W,TCARBN,TCARBN_FLAG_W,ALKALI,ALKALI_FLAG_W,TRITUM,TRITUM_FLAG_W,HELIUM,HELIUM_FLAG_W,DELHE3,DELHE3_FLAG_W,DELC13,DELC13_FLAG_W,DELC14,DELC14_FLAG_W,C14ERR,NEON,NEON_FLAG_W,NEONER,CTDRAW,TRITER,THETA,HELIER,DELHER
,,,,,,,,,,,METERS,DBAR,ITS-90,PSS-78,,PSS-78,,UMOL/KG,,UMOL/KG,,UMOL/KG,,UMOL/KG,,UMOL/KG,,UMOL/KG,,PMOL/KG,,PMOL/KG,,UMOL/KG,,UMOL/KG,,TU,,NMOL/KG,,PERCNT,,/MILLE,,/MILLE,,/MILLE,NMOL/KG,,NMOL/KG,DBAR,TU,DEG C,NMOL/KG,PERCNT
 316N145_11,       I01W,     884,          1,         26,     SIH037,2,19950907,       1957,    13.4862,    50.2555,       1955,     7.1,  30.8573,  36.5094,2,  36.5046,2,    203.7,2,   197.4,2,    2.62,2,    0.08,2,    0.00,2,    0.25,2,   1.492,2,   0.878,2,  2004.9,2,  2377.7,2,-999.0000,9,-999.0000,9, -999.00,9, -999.00,9,  -999.0,9,    -9.0,-999.000,9,-999.000,      50,-999.0000,  30.8555,-999.0000, -999.00
 316N145_11,       I01W,     884,          1,         25,     SI9446,2,19950907,       1957,    13.4862,    50.2555,       1955,    31.8,  29.6519,  36.4582,2,  36.4669,2,    196.4,2,   199.6,2,    2.61,2,    0.23,2,    0.00,2,    0.28,2,   1.503,2,   0.880,2,  2011.6,2,  2380.3,2,-999.0000,9,-999.0000,9, -999.00,9, -999.00,9,  -999.0,9,    -9.0,-999.000,9,-999.000,     297,-999.0000,  29.6441,-999.0000, -999.00
 316N145_11,       I01W,     884,          1,         24,     SIH036,2,19950907,       1957,    13.4862,    50.2555,       1955,    61.6,  21.8115,  35.8160,2,  35.8151,2,     59.1,2,    75.1,2,   11.21,2,   18.59,2,    0.22,2,    1.47,2,-999.000,9,-999.000,9,  2154.5,2,  2334.9,2,-999.0000,9,-999.0000,9, -999.00,9, -999.00,9,  -999.0,9,    -9.0,-999.000,9,-999.000,     595,-999.0000,  21.7993,-999.0000, -999.00
 316N145_11,       I01W,     884,          1,         23,     SIH001,2,19950907,       1957,    13.4862,    50.2555,       1955,    86.7,  17.7970,  35.6420,2,  35.6368,2,     32.4,2,    33.4,2,   19.82,2,   24.91,2,    0.03,2,    1.96,2,   1.117,2,   0.619,2,  2211.6,2,  2332.5,2,-999.0000,9,-999.0000,9, -999.00,9, -999.00,9,  -999.0,9,    -9.0,-999.000,9,-999.000,     846,-999.0000,  17.7822,-999.0000, -999.00
 316N145_11,       I01W,     884,          1,         22,     SIH019,2,19950907,       1957,    13.4862,    50.2555,       1955,   121.6,  16.0663,  35.5912,2,  35.5877,2,     20.8,2,    25.9,2,   22.95,2,   26.23,2,    0.01,2,    2.09,2,-999.000,9,-999.000,9,  2229.7,2,  2326.8,2,-999.0000,9,-999.0000,9, -999.00,9, -999.00,9,  -999.0,9,    -9.0,-999.000,9,-999.000,    1195,-999.0000,  16.0470,-999.0000, -999.00
 316N145_11,       I01W,     884,          1,         21,     SIH025,2,19950907,       1957,    13.4862,    50.2555,       1955,   146.4,  14.5182,  35.3986,2,  35.4222,2,     56.5,2,    52.7,2,   23.35,2,   25.32,2,    0.00,2,    1.92,2,   0.888,2,   0.475,2,  2213.9,2,  2321.4,2,-999.0000,9,-999.0000,9, -999.00,9, -999.00,9,  -999.0,9,    -9.0,-999.000,9,-999.000,    1443,-999.0000,  14.4965,-999.0000, -999.00
 316N145_11,       I01W,     884,          1,         20,     SIH004,2,19950907,       1957,    13.4862,    50.2555,       1955,   181.3,  14.8701,  35.6719,2,  35.6747,2,     24.3,2,    27.1,2,   26.09,2,   26.84,2,    0.00,2,    2.09,2,-999.000,9,-999.000,9,  2237.0,2,  2332.1,2,-999.0000,9,-999.0000,9, -999.00,9, -999.00,9,  -999.0,9,    -9.0,-999.000,9,-999.000,    1792,-999.0000,  14.8427,-999.0000, -999.00
 316N145_11,       I01W,     884,          1,         19,     SIH005,2,19950907,       1957,    13.4862,    50.2555,       1955,   196.7,  14.6143,  35.6877,2,  35.6921,2,     24.5,2,    26.5,2,   26.49,2,   26.90,2,    0.00,2,    2.10,2,   0.674,2,   0.371,2,  2239.4,2,  2337.9,2,-999.0000,9,-999.0000,9, -999.00,9, -999.00,9,  -999.0,9,    -9.0,-999.000,9,-999.000,    1946,-999.0000,  14.5849,-999.0000, -999.00
 316N145_11,       I01W,     884,          1,         18,     SIH006,2,19950907,       1957,    13.4862,    50.2555,       1955,   251.7,  14.6163,  35.8514,2,  35.8520,2,     22.2,2,    26.1,2,   28.06,2,   27.38,2,    0.00,2,    2.11,2,-999.000,9,-999.000,9,  2241.0,2,  2342.0,2,-999.0000,9,-999.0000,9, -999.00,9, -999.00,9,  -999.0,9,    -9.0,-999.000,9,-999.000,    2496,-999.0000,  14.5785,-999.0000, -999.00
 316N145_11,       I01W,     884,          1,         17,     SIH038,2,19950907,       1957,    13.4862,    50.2555,       1955,   296.3,  14.3124,  35.9281,2,  35.9208,2,     22.8,2,    22.6,2,   29.82,2,   27.93,2,    0.00,2,    2.15,2,-999.000,9,-999.000,9,  2247.6,2,  2340.8,2,-999.0000,9,-999.0000,9, -999.00,9, -999.00,9,  -999.0,9,    -9.0,-999.000,9,-999.000,    2943,-999.0000,  14.2684,-999.0000, -999.00
 316N145_11,       I01W,     884,          1,         16,     SIH008,2,19950907,       1957,    13.4862,    50.2555,       1955,   396.7,  13.8350,  35.9867,2,  35.9933,2,     19.5,2,    20.9,2,   33.36,2,   28.31,2,    0.00,2,    2.21,2,   0.415,2,   0.228,2,  -999.0,9,  -999.0,9,-999.0000,9,-999.0000,9, -999.00,9, -999.00,9,  -999.0,9,    -9.0,-999.000,9,-999.000,    3948,-999.0000,  13.7772,-999.0000, -999.00
 316N145_11,       I01W,     884,          1,         15,     SIH009,2,19950907,       1957,    13.4862,    50.2555,       1955,   497.2,  12.6370,  35.7980,2,  35.8017,2,     17.0,2,    19.6,2,   40.81,2,   29.87,2,    0.01,2,    2.39,2,-999.000,9,-999.000,9,  -999.0,9,  -999.0,9,-999.0000,9,-999.0000,9, -999.00,9, -999.00,9,  -999.0,9,    -9.0,-999.000,9,-999.000,    4953,-999.0000,  12.5686,-999.0000, -999.00
 316N145_11,       I01W,     884,          1,         14,     SIH010,2,19950907,       1957,    13.4862,    50.2555,       1955,   597.3,  13.5975,  36.2211,2,  36.2360,2,     19.8,2,    24.8,2,   40.81,2,   28.62,2,    0.01,2,    2.25,2,   0.374,3,   0.192,2,  -999.0,9,  -999.0,9,-999.0000,9,-999.0000,9, -999.00,9, -999.00,9,  -999.0,9,    -9.0,-999.000,9,-999.000,    5955,-999.0000,  13.5108,-999.0000, -999.00
 316N145_11,       I01W,     884,          1,         13,     SIH011,2,19950907,       1957,    13.4862,    50.2555,       1955,   698.0,  13.8071,  36.3993,2,  36.3528,2,     20.8,3,    22.3,2,   41.41,2,   28.48,2,    0.00,2,    2.23,2,-999.000,9,-999.000,9,  -999.0,9,  -999.0,9,-999.0000,9,-999.0000,9, -999.00,9, -999.00,9,  -999.0,9,    -9.0,-999.000,9,-999.000,    6964,-999.0000,  13.7042,-999.0000, -999.00
 316N145_11,       I01W,     884,          1,         12,     SIH012,2,19950907,       1957,    13.4862,    50.2555,       1955,   798.3,  12.4560,  36.1013,2,  36.0865,2,     19.4,2,    25.3,2,   50.26,2,   30.60,2,    0.00,2,    2.39,2,-999.000,9,-999.000,9,  -999.0,9,  -999.0,9,-999.0000,9,-999.0000,9, -999.00,9, -999.00,9,  -999.0,9,    -9.0,-999.000,9,-999.000,    7968,-999.0000,  12.3456,-999.0000, -999.00
 316N145_11,       I01W,     884,          1,         11,     SI9426,2,19950907,       1957,    13.4862,    50.2555,       1955,   899.4,  12.6709,  36.2788,2,  36.2663,2,     20.4,2,    23.0,2,   51.83,2,   30.21,2,    0.01,2,    2.35,2,   0.287,2,   0.160,2,  -999.0,9,  -999.0,9,-999.0000,9,-999.0000,9, -999.00,9, -999.00,9,  -999.0,9,    -9.0,-999.000,9,-999.000,    8980,-999.0000,  12.5444,-999.0000, -999.00
 316N145_11,       I01W,     884,          1,         10,     SIH014,2,19950907,       1957,    13.4862,    50.2555,       1955,  1000.4,  11.4727,  36.0410,2,  36.0471,2,     21.3,2,    23.1,2,   59.31,2,   31.85,2,    0.00,2,    2.47,2,-999.000,9,-999.000,9,  -999.0,9,  -999.0,9,-999.0000,9,-999.0000,9, -999.00,9, -999.00,9,  -999.0,9,    -9.0,-999.000,9,-999.000,    9991,-999.0000,  11.3402,-999.0000, -999.00
 316N145_11,       I01W,     884,          1,          9,     SIH015,2,19950907,       1957,    13.4862,    50.2555,       1955,  1095.8,   9.6769,  35.6975,2,  35.7025,2,     23.7,2,    24.5,2,   72.10,2,   34.42,2,   -0.01,2,    2.66,2,   0.120,2,   0.063,2,  -999.0,9,  -999.0,9,-999.0000,9,-999.0000,9, -999.00,9, -999.00,9,  -999.0,9,    -9.0,-999.000,9,-999.000,   10947,-999.0000,   9.5454,-999.0000, -999.00
 316N145_11,       I01W,     884,          1,          8,     SIH016,2,19950907,       1957,    13.4862,    50.2555,       1955,  1196.9,   8.8372,  35.5726,2,  35.5691,2,     27.6,2,    26.2,2,   78.61,2,   35.17,2,    0.01,2,    2.71,2,-999.000,9,-999.000,9,  -999.0,9,  -999.0,9,-999.0000,9,-999.0000,9, -999.00,9, -999.00,9,  -999.0,9,    -9.0,-999.000,9,-999.000,   11959,-999.0000,   8.7001,-999.0000, -999.00
 316N145_11,       I01W,     884,          1,          7,     SIH017,2,19950907,       1957,    13.4862,    50.2555,       1955,  1297.7,   7.8204,  35.4099,2,  35.4030,2,     32.9,2,    31.7,2,   87.09,2,   36.06,2,    0.00,2,    2.79,2,   0.062,2,   0.027,2,  -999.0,9,  -999.0,9,-999.0000,9,-999.0000,9, -999.00,9, -999.00,9,  -999.0,9,    -9.0,-999.000,9,-999.000,   12969,-999.0000,   7.6809,-999.0000, -999.00
 316N145_11,       I01W,     884,          1,          6,     SIH018,3,19950907,       1957,    13.4862,    50.2555,       1955,  1398.9,   6.8772,  35.2687,3,  35.2723,2,     38.5,2,    37.8,2,   94.99,2,   36.61,2,    0.00,2,    2.82,2,-999.000,9,-999.000,9,  -999.0,9,  -999.0,9,-999.0000,9,-999.0000,9, -999.00,9, -999.00,9,  -999.0,9,    -9.0,-999.000,9,-999.000,   13982,-999.0000,   6.7357,-999.0000, -999.00
 316N145_11,       I01W,     884,          1,          5,     SIH002,2,19950907,       1957,    13.4862,    50.2555,       1955,  1499.5,   6.1042,  35.1650,2,  35.1652,2,     43.4,2,    47.4,2,  103.88,2,   37.00,2,   -0.02,2,    2.83,2,-999.000,9,-999.000,9,  -999.0,9,  -999.0,9,-999.0000,9,-999.0000,9, -999.00,9, -999.00,9,  -999.0,9,    -9.0,-999.000,9,-999.000,   14990,-999.0000,   5.9603,-999.0000, -999.00
 316N145_11,       I01W,     884,          1,          4,     SIH020,2,19950907,       1957,    13.4862,    50.2555,       1955,  1600.6,   5.3956,  35.0750,2,  35.0825,2,     53.3,2,    55.2,2,  111.20,2,   37.17,2,    0.00,2,    2.85,2,   0.010,2,   0.009,2,  -999.0,9,  -999.0,9,-999.0000,9,-999.0000,9, -999.00,9, -999.00,9,  -999.0,9,    -9.0,-999.000,9,-999.000,   16003,-999.0000,   5.2493,-999.0000, -999.00
 316N145_11,       I01W,     884,          1,          3,     SIH021,2,19950907,       1957,    13.4862,    50.2555,       1955,  1800.8,   3.9861,  34.9282,2,  34.9286,2,     73.7,2,    77.4,2,  129.74,2,   37.23,2,    0.00,2,    2.82,2,-999.000,9,-999.000,9,  -999.0,9,  -999.0,9,-999.0000,9,-999.0000,9, -999.00,9, -999.00,9,  -999.0,9,    -9.0,-999.000,9,-999.000,   18008,-999.0000,   3.8382,-999.0000, -999.00
 316N145_11,       I01W,     884,          1,          2,     SIH022,2,19950907,       1957,    13.4862,    50.2555,       1955,  1964.0,   3.3934,  34.8733,2,  34.8772,2,     85.5,2,    85.9,2,  137.85,2,   36.97,2,   -0.01,2,    2.79,2,-999.000,9,-999.000,9,  -999.0,9,  -999.0,9,-999.0000,9,-999.0000,9, -999.00,9, -999.00,9,  -999.0,9,    -9.0,-999.000,9,-999.000,   19644,-999.0000,   3.2386,-999.0000, -999.00
 316N145_11,       I01W,     884,          1,          1,     SIH023,2,19950907,       1957,    13.4862,    50.2555,       1955,  2015.5,   3.3714,  34.8709,2,  34.8733,2,   -999.0,9,    85.6,2,  138.45,2,   36.84,2,    0.01,2,    2.77,2,   0.003,2,   0.003,2,  -999.0,9,  -999.0,9,-999.0000,9,-999.0000,9, -999.00,9, -999.00,9,  -999.0,9,    -9.0,-999.000,9,-999.000,   20160,-999.0000,   3.2120,-999.0000, -999.00