BOTTLE,20211119CCHSIORKP
EXPOCODE,SECT_ID,STNNBR,CASTNO,SAMPNO,BTLNBR,BTLNBR_FLAG_W,DATE,TIME,LATITUDE,LONGITUDE,DEPTH,CTDPRS,CTDTMP,CTDSAL,CTDSAL_FLAG_W,SALNTY,SALNTY_FLAG_W,CTDOXY,CTDOXY_FLAG_W,OXYGEN,OXYGEN_FLAG_W,SILCAT,SILCAT_FLAG_W,NITRAT,NITRAT_FLAG_W,NITRIT,NITRIT_FLAG_W,PHSPHT,PHSPHT_FLAG_W,CFC-11,CFC-11_FLAG_W,CFC-12,CFC-12_FLAG_W,TCARBN,TCARBN_FLAG_W,ALKALI,ALKALI_FLAG_W,TRITUM,TRITUM_FLAG_W,HELIUM,HELIUM_FLAG_W,DELHE3,DELHE3_FLAG_W,DELC13,DELC13_FLAG_W,DELC14,DELC14_FLAG_W,C14ERR,NEON,NEON_FLAG_W,NEONER,CTDRAW,TRITER,THETA,HELIER,DELHER
,,,,,,,,,,,METERS,DBAR,ITS-90,PSS-78,,PSS-78,,UMOL/KG,,UMOL/KG,,UMOL/KG,,UMOL/KG,,UMOL/KG,,UMOL/KG,,PMOL/KG,,PMOL/KG,,UMOL/KG,,UMOL/KG,,TU,,NMOL/KG,,PERCNT,,/MILLE,,/MILLE,,/MILLE,NMOL/KG,,NMOL/KG,DBAR,TU,DEG C,NMOL/KG,PERCNT
 316N145_11,       I01W,     928,          1,         36,     SIH024,2,19950919,       0712,     8.8917,    63.1417,       4535,     8.9,  28.0144,  36.2364,2,  36.2637,2,    207.4,2,   208.6,2,    0.98,2,    0.01,2,    0.01,2,    0.26,2,   1.687,2,   0.989,2,  2006.8,2,  2364.4,2,-999.0000,9,-999.0000,9, -999.00,9, -999.00,9,  -999.0,9,    -9.0,-999.000,9,-999.000,      82,-999.0000,  28.0123,-999.0000, -999.00
 316N145_11,       I01W,     928,          1,         35,     SIH003,2,19950919,       0712,     8.8917,    63.1417,       4535,    29.3,  27.7566,  36.2955,2,  36.3087,2,    226.0,2,   208.4,2,    1.16,2,    0.00,2,   -0.01,2,    0.27,2,-999.000,9,-999.000,9,  2009.0,2,  2370.7,2,-999.0000,9,-999.0000,9, -999.00,9, -999.00,9,  -999.0,9,    -9.0,-999.000,9,-999.000,     285,-999.0000,  27.7498,-999.0000, -999.00
 316N145_11,       I01W,     928,          1,         34,     SIH026,2,19950919,       0712,     8.8917,    63.1417,       4535,    58.9,  27.5147,  36.3964,2,  36.4016,2,    211.6,2,   197.2,2,    1.51,2,    0.06,2,    0.01,2,    0.33,2,   1.678,2,   0.975,2,  2020.7,2,  2374.8,2,-999.0000,9,-999.0000,9, -999.00,9, -999.00,9,  -999.0,9,    -9.0,-999.000,9,-999.000,     581,-999.0000,  27.5010,-999.0000, -999.00
 316N145_11,       I01W,     928,          1,         33,     SIH027,2,19950919,       0712,     8.8917,    63.1417,       4535,    89.1,  27.4756,  36.4146,2,  36.4164,2,    206.2,2,   191.1,2,    1.70,2,    0.02,2,    0.65,2,    0.35,2,-999.000,9,-999.000,9,  2026.3,2,  2376.6,2,-999.0000,9,-999.0000,9, -999.00,9, -999.00,9,  -999.0,9,    -9.0,-999.000,9,-999.000,     883,-999.0000,  27.4548,-999.0000, -999.00
 316N145_11,       I01W,     928,          1,         32,     SIH028,2,19950919,       0712,     8.8917,    63.1417,       4535,   118.8,  24.5296,  36.1860,2,  36.1676,2,     70.8,2,   102.2,2,    5.86,2,   14.39,2,    0.06,2,    1.18,2,   1.644,2,   0.941,2,  2116.2,2,  2351.0,2,-999.0000,9,-999.0000,9, -999.00,9, -999.00,9,  -999.0,9,    -9.0,-999.000,9,-999.000,    1181,-999.0000,  24.5041,-999.0000, -999.00
 316N145_11,       I01W,     928,          1,         31,     SIH029,2,19950919,       0712,     8.8917,    63.1417,       4535,   148.7,  19.0420,  35.5771,2,  35.5731,2,      8.5,2,     8.8,2,   17.64,2,   26.17,2,    0.01,2,    2.07,2,-999.000,9,-999.000,9,  2208.2,2,  2327.2,2,-999.0000,9,-999.0000,9, -999.00,9, -999.00,9,  -999.0,9,    -9.0,-999.000,9,-999.000,    1480,-999.0000,  19.0153,-999.0000, -999.00
 316N145_11,       I01W,     928,          1,         30,     SIH030,2,19950919,       0712,     8.8917,    63.1417,       4535,   198.8,  15.8863,  35.3709,2,  35.3744,2,     15.7,2,    19.9,2,   22.19,2,   26.88,2,    0.00,2,    2.11,2,   0.747,2,   0.411,2,  2220.7,2,  2323.9,2,-999.0000,9,-999.0000,9, -999.00,9, -999.00,9,  -999.0,9,    -9.0,-999.000,9,-999.000,    1981,-999.0000,  15.8548,-999.0000, -999.00
 316N145_11,       I01W,     928,          1,         29,     SIH031,2,19950919,       0712,     8.8917,    63.1417,       4535,   249.3,  14.1166,  35.4007,2,  35.4149,2,     31.9,2,    19.8,2,   25.26,2,   27.79,2,    0.00,2,    2.21,2,-999.000,9,-999.000,9,  2239.1,2,  2328.7,2,-999.0000,9,-999.0000,9, -999.00,9, -999.00,9,  -999.0,9,    -9.0,-999.000,9,-999.000,    2486,-999.0000,  14.0801,-999.0000, -999.00
 316N145_11,       I01W,     928,          1,         28,     SIH032,2,19950919,       0712,     8.8917,    63.1417,       4535,   299.4,  12.9929,  35.3663,2,  35.3612,2,     32.8,2,    29.6,2,   27.44,2,   29.04,2,    0.00,2,    2.19,2,   0.482,2,   0.254,2,  2240.1,2,  2328.0,2,-999.0000,9,-999.0000,9, -999.00,9, -999.00,9,  -999.0,9,    -9.0,-999.000,9,-999.000,    2987,-999.0000,  12.9514,-999.0000, -999.00
 316N145_11,       I01W,     928,          1,         27,     SIH033,2,19950919,       0712,     8.8917,    63.1417,       4535,   399.5,  11.3932,  35.2311,2,  35.2316,2,     30.3,2,    31.8,2,   33.25,2,   31.96,2,    0.00,2,    2.31,2,-999.000,9,-999.000,9,  2247.0,2,  2326.0,2,-999.0000,9,-999.0000,9, -999.00,9, -999.00,9,  -999.0,9,    -9.0,-999.000,9,-999.000,    3988,-999.0000,  11.3423,-999.0000, -999.00
 316N145_11,       I01W,     928,          1,         26,     SIH037,2,19950919,       0712,     8.8917,    63.1417,       4535,   501.2,  10.8289,  35.2850,2,  35.2869,2,     21.7,2,    21.7,2,   42.32,2,   33.34,2,    0.01,2,    2.51,2,   0.101,2,   0.054,2,  2263.2,2,  2338.9,2,-999.0000,9,-999.0000,9, -999.00,9, -999.00,9,  -999.0,9,    -9.0,-999.000,9,-999.000,    5006,-999.0000,  10.7666,-999.0000, -999.00
 316N145_11,       I01W,     928,          1,         25,     SI9446,2,19950919,       0712,     8.8917,    63.1417,       4535,   600.5,  10.1043,  35.2491,2,  35.2487,2,     22.3,2,    20.4,2,   50.85,2,   34.62,2,   -0.01,2,    2.62,2,-999.000,9,-999.000,9,  2274.5,2,  2344.0,2,-999.0000,9,-999.0000,9, -999.00,9, -999.00,9,  -999.0,9,    -9.0,-999.000,9,-999.000,    5999,-999.0000,  10.0325,-999.0000, -999.00
 316N145_11,       I01W,     928,          1,         24,     SIH036,2,19950919,       0712,     8.8917,    63.1417,       4535,   696.2,   9.1569,  35.1760,2,  35.1750,2,     21.6,2,    20.8,2,   60.85,2,   36.17,2,    0.00,2,    2.72,2,   0.019,2,   0.012,2,  2286.4,2,  2351.5,2,-999.0000,9,-999.0000,9, -999.00,9, -999.00,9,  -999.0,9,    -9.0,-999.000,9,-999.000,    6957,-999.0000,   9.0781,-999.0000, -999.00
 316N145_11,       I01W,     928,          1,         23,     SIH001,2,19950919,       0712,     8.8917,    63.1417,       4535,   797.2,   8.4480,  35.1294,2,  35.1303,2,     24.8,2,    24.4,2,   68.85,2,   36.88,2,    0.00,2,    2.77,2,-999.000,9,-999.000,9,  2295.7,2,  2360.0,2,-999.0000,9,-999.0000,9, -999.00,9, -999.00,9,  -999.0,9,    -9.0,-999.000,9,-999.000,    7967,-999.0000,   8.3614,-999.0000, -999.00
 316N145_11,       I01W,     928,          1,         22,     SIH019,2,19950919,       0712,     8.8917,    63.1417,       4535,   897.4,   7.9127,  35.1124,2,  35.1116,2,     29.9,2,    29.1,2,   75.57,2,   37.27,2,    0.01,2,    2.80,2,   0.009,2,   0.004,2,  2301.3,2,  2366.8,2,-999.0000,9,-999.0000,9, -999.00,9, -999.00,9,  -999.0,9,    -9.0,-999.000,9,-999.000,    8970,-999.0000,   7.8182,-999.0000, -999.00
 316N145_11,       I01W,     928,          1,         21,     SIH025,2,19950919,       0712,     8.8917,    63.1417,       4535,   997.7,   7.3670,  35.0945,2,  35.0939,2,     35.2,2,    33.5,2,   81.57,2,   37.47,2,    0.01,2,    2.81,2,   0.005,2,   0.003,2,  2307.9,2,  2372.4,2,-999.0000,9,-999.0000,9, -999.00,9, -999.00,9,  -999.0,9,    -9.0,-999.000,9,-999.000,    9973,-999.0000,   7.2654,-999.0000, -999.00
 316N145_11,       I01W,     928,          1,         20,     SIH004,2,19950919,       0712,     8.8917,    63.1417,       4535,  1098.1,   6.9071,  35.0742,2,  35.0738,2,     41.0,2,    39.2,2,   86.30,2,   37.58,2,   -0.01,2,    2.81,2,-999.000,9,-999.000,9,  -999.0,9,  -999.0,9,-999.0000,9,-999.0000,9, -999.00,9, -999.00,9,  -999.0,9,    -9.0,-999.000,9,-999.000,   10978,-999.0000,   6.7984,-999.0000, -999.00
 316N145_11,       I01W,     928,          1,         19,     SIH005,2,19950919,       0712,     8.8917,    63.1417,       4535,  1198.4,   6.5100,  35.0537,2,  35.0551,2,     47.2,2,    44.1,2,   89.95,2,   37.63,2,   -0.01,2,    2.82,2,   0.003,2,   0.002,2,  -999.0,9,  -999.0,9,-999.0000,9,-999.0000,9, -999.00,9, -999.00,9,  -999.0,9,    -9.0,-999.000,9,-999.000,   11981,-999.0000,   6.3940,-999.0000, -999.00
 316N145_11,       I01W,     928,          1,         18,     SIH006,2,19950919,       0712,     8.8917,    63.1417,       4535,  1399.5,   5.3232,  34.9547,2,  34.9553,2,     62.6,2,    60.1,2,  102.13,2,   37.83,2,    0.01,2,    2.81,2,  -0.001,2,   0.000,2,  -999.0,9,  -999.0,9,-999.0000,9,-999.0000,9, -999.00,9, -999.00,9,  -999.0,9,    -9.0,-999.000,9,-999.000,   13993,-999.0000,   5.1983,-999.0000, -999.00
 316N145_11,       I01W,     928,          1,         17,     SIH038,2,19950919,       0712,     8.8917,    63.1417,       4535,  1595.2,   4.4468,  34.9009,2,  34.9002,2,     78.0,2,    76.2,2,  112.14,2,   37.44,2,   -0.01,2,    2.77,2,-999.000,9,-999.000,9,  -999.0,9,  -999.0,9,-999.0000,9,-999.0000,9, -999.00,9, -999.00,9,  -999.0,9,    -9.0,-999.000,9,-999.000,   15951,-999.0000,   4.3127,-999.0000, -999.00
 316N145_11,       I01W,     928,          1,         16,     SIH008,2,19950919,       0712,     8.8917,    63.1417,       4535,  1797.8,   3.5608,  34.8428,2,  34.8430,2,     97.0,2,    96.4,2,  121.43,2,   37.04,2,    0.00,2,    2.70,2,-999.000,9,-999.000,9,  -999.0,9,  -999.0,9,-999.0000,9,-999.0000,9, -999.00,9, -999.00,9,  -999.0,9,    -9.0,-999.000,9,-999.000,   17978,-999.0000,   3.4192,-999.0000, -999.00
 316N145_11,       I01W,     928,          1,         15,     SIH009,2,19950919,       0712,     8.8917,    63.1417,       4535,  1999.1,   2.9323,  34.8084,2,  34.8070,2,    113.6,2,   113.8,2,  126.90,2,   36.48,2,    0.01,2,    2.63,2,-999.000,9,  -0.002,2,  -999.0,9,  -999.0,9,-999.0000,9,-999.0000,9, -999.00,9, -999.00,9,  -999.0,9,    -9.0,-999.000,9,-999.000,   19993,-999.0000,   2.7812,-999.0000, -999.00
 316N145_11,       I01W,     928,          1,         14,     SIH010,2,19950919,       0712,     8.8917,    63.1417,       4535,  2196.1,   2.5414,  34.7856,2,  34.7846,2,    123.9,2,   125.3,2,  130.74,2,   36.02,2,    0.01,2,    2.57,2,-999.000,9,-999.000,9,  -999.0,9,  -999.0,9,-999.0000,9,-999.0000,9, -999.00,9, -999.00,9,  -999.0,9,    -9.0,-999.000,9,-999.000,   21964,-999.0000,   2.3787,-999.0000, -999.00
 316N145_11,       I01W,     928,          1,         13,     SIH011,2,19950919,       0712,     8.8917,    63.1417,       4535,  2398.2,   2.2517,  34.7703,2,  34.7705,2,    133.0,2,   132.2,2,  134.21,2,   35.63,2,    0.01,2,    2.53,2,-999.000,9,-999.000,9,  -999.0,9,  -999.0,9,-999.0000,9,-999.0000,9, -999.00,9, -999.00,9,  -999.0,9,    -9.0,-999.000,9,-999.000,   23987,-999.0000,   2.0756,-999.0000, -999.00
 316N145_11,       I01W,     928,          1,         12,     SIH012,2,19950919,       0712,     8.8917,    63.1417,       4535,  2599.1,   2.0545,  34.7603,2,  34.7608,2,    135.7,2,   135.1,2,  137.68,2,   35.68,2,    0.01,2,    2.53,2,-999.000,9,-999.000,9,  -999.0,9,  -999.0,9,-999.0000,9,-999.0000,9, -999.00,9, -999.00,9,  -999.0,9,    -9.0,-999.000,9,-999.000,   25997,-999.0000,   1.8637,-999.0000, -999.00
 316N145_11,       I01W,     928,          1,         11,     SI9426,2,19950919,       0712,     8.8917,    63.1417,       4535,  2795.9,   1.9069,  34.7504,2,  34.7512,2,    145.3,2,   143.9,2,  137.33,2,   35.39,2,   -0.01,2,    2.50,2,  -0.003,2,  -0.001,2,  -999.0,9,  -999.0,9,-999.0000,9,-999.0000,9, -999.00,9, -999.00,9,  -999.0,9,    -9.0,-999.000,9,-999.000,   27966,-999.0000,   1.7005,-999.0000, -999.00
 316N145_11,       I01W,     928,          1,         10,     SIH014,2,19950919,       0712,     8.8917,    63.1417,       4535,  2997.9,   1.7985,  34.7440,2,  34.7431,2,    151.1,2,   150.8,2,  136.99,2,   34.93,2,    0.01,2,    2.46,2,-999.000,9,-999.000,9,  -999.0,9,  -999.0,9,-999.0000,9,-999.0000,9, -999.00,9, -999.00,9,  -999.0,9,    -9.0,-999.000,9,-999.000,   29988,-999.0000,   1.5750,-999.0000, -999.00
 316N145_11,       I01W,     928,          1,          9,     SIH015,2,19950919,       0712,     8.8917,    63.1417,       4535,  3197.5,   1.7560,  34.7402,2,  34.7400,2,    153.8,2,   152.8,2,  137.55,2,   34.94,2,   -0.01,2,    2.45,2,-999.000,9,-999.000,9,  -999.0,9,  -999.0,9,-999.0000,9,-999.0000,9, -999.00,9, -999.00,9,  -999.0,9,    -9.0,-999.000,9,-999.000,   31985,-999.0000,   1.5138,-999.0000, -999.00
 316N145_11,       I01W,     928,          1,          8,     SIH016,3,19950919,       0712,     8.8917,    63.1417,       4535,  3398.5,   1.7271,  34.7391,3,  34.7386,2,    156.2,2,   153.7,2,  137.75,2,   34.93,2,    0.01,2,    2.44,2,-999.000,9,-999.000,9,  -999.0,9,  -999.0,9,-999.0000,9,-999.0000,9, -999.00,9, -999.00,9,  -999.0,9,    -9.0,-999.000,9,-999.000,   33996,-999.0000,   1.4653,-999.0000, -999.00
 316N145_11,       I01W,     928,          1,          7,     SIH017,2,19950919,       0712,     8.8917,    63.1417,       4535,  3595.1,   1.7018,  34.7371,2,  34.7368,2,    157.5,2,   155.5,2,  137.95,2,   34.89,2,   -0.01,2,    2.44,2,  -0.002,2,  -0.001,2,  -999.0,9,  -999.0,9,-999.0000,9,-999.0000,9, -999.00,9, -999.00,9,  -999.0,9,    -9.0,-999.000,9,-999.000,   35964,-999.0000,   1.4204,-999.0000, -999.00
 316N145_11,       I01W,     928,          1,          6,     SIH018,2,19950919,       0712,     8.8917,    63.1417,       4535,  3793.1,   1.6783,  34.7358,2,  34.7343,2,    159.0,2,   156.1,2,  138.15,2,   34.75,2,   -0.01,2,    2.42,2,-999.000,9,-999.000,9,  -999.0,9,  -999.0,9,-999.0000,9,-999.0000,9, -999.00,9, -999.00,9,  -999.0,9,    -9.0,-999.000,9,-999.000,   37945,-999.0000,   1.3765,-999.0000, -999.00
 316N145_11,       I01W,     928,          1,          5,     SIH002,3,19950919,       0712,     8.8917,    63.1417,       4535,  3993.8,   1.6546,  34.7338,3,  34.7329,2,    159.8,2,   160.6,2,  137.99,2,   34.55,2,    0.00,2,    2.41,2,-999.000,9,-999.000,9,  -999.0,9,  -999.0,9,-999.0000,9,-999.0000,9, -999.00,9, -999.00,9,  -999.0,9,    -9.0,-999.000,9,-999.000,   39954,-999.0000,   1.3318,-999.0000, -999.00
 316N145_11,       I01W,     928,          1,          4,     SIH020,2,19950919,       0712,     8.8917,    63.1417,       4535,  4193.9,   1.6358,  34.7319,2,  34.7315,2,    163.4,2,   161.9,2,  138.01,2,   34.54,2,    0.01,2,    2.40,2,   0.002,2,   0.000,2,  -999.0,9,  -999.0,9,-999.0000,9,-999.0000,9, -999.00,9, -999.00,9,  -999.0,9,    -9.0,-999.000,9,-999.000,   41956,-999.0000,   1.2913,-999.0000, -999.00
 316N145_11,       I01W,     928,          1,          3,     SIH021,3,19950919,       0712,     8.8917,    63.1417,       4535,  4394.4,   1.6228,  34.7304,3,  34.7294,2,    166.7,2,   164.0,2,  137.11,2,   34.35,2,    0.00,2,    2.38,2,   0.003,2,  -0.002,2,  -999.0,9,  -999.0,9,-999.0000,9,-999.0000,9, -999.00,9, -999.00,9,  -999.0,9,    -9.0,-999.000,9,-999.000,   43963,-999.0000,   1.2559,-999.0000, -999.00
 316N145_11,       I01W,     928,          1,          2,     SIH022,2,19950919,       0712,     8.8917,    63.1417,       4535,  4572.9,   1.6317,  34.7308,2,  34.7290,2,    164.3,2,   165.0,2,  137.31,2,   34.29,2,    0.01,2,    2.39,2,   0.005,2,   0.000,2,  -999.0,9,  -999.0,9,-999.0000,9,-999.0000,9, -999.00,9, -999.00,9,  -999.0,9,    -9.0,-999.000,9,-999.000,   45749,-999.0000,   1.2438,-999.0000, -999.00
 316N145_11,       I01W,     928,          1,          1,     SIH023,2,19950919,       0712,     8.8917,    63.1417,       4535,  4625.1,   1.6350,  34.7294,2,  34.7286,2,    165.2,2,   165.8,2,  137.42,2,   34.36,2,    0.00,2,    2.40,2,   0.016,3,   0.001,2,  -999.0,9,  -999.0,9,-999.0000,9,-999.0000,9, -999.00,9, -999.00,9,  -999.0,9,    -9.0,-999.000,9,-999.000,   46271,-999.0000,   1.2409,-999.0000, -999.00