BOTTLE,20211119CCHSIORKP
EXPOCODE,SECT_ID,STNNBR,CASTNO,SAMPNO,BTLNBR,BTLNBR_FLAG_W,DATE,TIME,LATITUDE,LONGITUDE,DEPTH,CTDPRS,CTDTMP,CTDSAL,CTDSAL_FLAG_W,SALNTY,SALNTY_FLAG_W,CTDOXY,CTDOXY_FLAG_W,OXYGEN,OXYGEN_FLAG_W,SILCAT,SILCAT_FLAG_W,NITRAT,NITRAT_FLAG_W,NITRIT,NITRIT_FLAG_W,PHSPHT,PHSPHT_FLAG_W,CFC-11,CFC-11_FLAG_W,CFC-12,CFC-12_FLAG_W,TCARBN,TCARBN_FLAG_W,ALKALI,ALKALI_FLAG_W,TRITUM,TRITUM_FLAG_W,HELIUM,HELIUM_FLAG_W,DELHE3,DELHE3_FLAG_W,DELC13,DELC13_FLAG_W,DELC14,DELC14_FLAG_W,C14ERR,NEON,NEON_FLAG_W,NEONER,CTDRAW,TRITER,THETA,HELIER,DELHER
,,,,,,,,,,,METERS,DBAR,ITS-90,PSS-78,,PSS-78,,UMOL/KG,,UMOL/KG,,UMOL/KG,,UMOL/KG,,UMOL/KG,,UMOL/KG,,PMOL/KG,,PMOL/KG,,UMOL/KG,,UMOL/KG,,TU,,NMOL/KG,,PERCNT,,/MILLE,,/MILLE,,/MILLE,NMOL/KG,,NMOL/KG,DBAR,TU,DEG C,NMOL/KG,PERCNT
 316N145_11,       I01W,     885,          1,         28,     SIH032,2,19950908,       0049,    13.6612,    50.8388,       2470,     8.1,  30.0996,  36.4232,2,  36.3930,2,    193.0,2,   207.6,2,    3.60,2,    0.20,2,    0.00,2,    0.28,2,   1.421,2,   0.796,2,  2005.6,2,  2377.7,2,-999.0000,9,-999.0000,9, -999.00,9, -999.00,9,  -999.0,9,    -9.0,-999.000,9,-999.000,      61,-999.0000,  30.0976,-999.0000, -999.00
 316N145_11,       I01W,     885,          1,         27,     SIH033,2,19950908,       0049,    13.6612,    50.8388,       2470,    28.0,  21.8362,  35.8499,2,  35.8360,2,     73.6,2,    72.2,2,   11.57,2,   16.58,2,    1.42,2,    1.49,2,-999.000,9,-999.000,9,  2157.8,2,  2340.5,2,-999.0000,9,-999.0000,9, -999.00,9, -999.00,9,  -999.0,9,    -9.0,-999.000,9,-999.000,     260,-999.0000,  21.8307,-999.0000, -999.00
 316N145_11,       I01W,     885,          1,         26,     SIH037,2,19950908,       0049,    13.6612,    50.8388,       2470,    58.0,  17.6586,  35.5953,2,  35.6064,2,     27.4,2,    24.4,2,   19.95,2,   24.78,2,    0.04,2,    2.01,2,   1.083,2,   0.608,2,  2214.6,2,  2332.9,2,-999.0000,9,   1.7750,2,    5.00,2, -999.00,9,  -999.0,9,    -9.0,   7.176,2,   0.144,     560,-999.0000,  17.6488,   0.0090,    0.20
 316N145_11,       I01W,     885,          1,         25,     SI9446,2,19950908,       0049,    13.6612,    50.8388,       2470,    87.8,  17.0595,  35.7324,2,  35.7343,2,     11.8,2,     8.4,2,   22.93,2,   24.89,2,    0.03,2,    2.20,2,-999.000,9,-999.000,9,  2237.8,2,  2340.9,2,-999.0000,9,-999.0000,9, -999.00,9, -999.00,9,  -999.0,9,    -9.0,-999.000,9,-999.000,     858,-999.0000,  17.0449,-999.0000, -999.00
 316N145_11,       I01W,     885,          1,         24,     SIH036,2,19950908,       0049,    13.6612,    50.8388,       2470,   118.0,  16.4774,  35.6891,2,  35.6628,2,     12.2,2,    17.0,2,   23.73,2,   24.91,2,    0.01,2,    2.15,2,   0.852,2,   0.479,2,  2233.1,2,  2337.6,2,-999.0000,9,-999.0000,9, -999.00,9, -999.00,9,  -999.0,9,    -9.0,-999.000,9,-999.000,    1161,-999.0000,  16.4583,-999.0000, -999.00
 316N145_11,       I01W,     885,          1,         23,     SIH001,2,19950908,       0049,    13.6612,    50.8388,       2470,   148.1,  15.0422,  35.6365,2,  35.6380,2,     32.5,2,    21.2,2,   25.74,2,   26.60,2,    0.04,2,    2.12,2,-999.000,9,-999.000,9,  2235.1,2,  2335.3,2,-999.0000,9,-999.0000,9, -999.00,9, -999.00,9,  -999.0,9,    -9.0,-999.000,9,-999.000,    1462,-999.0000,  15.0196,-999.0000, -999.00
 316N145_11,       I01W,     885,          1,         22,     SIH019,2,19950908,       0049,    13.6612,    50.8388,       2470,   198.6,  13.5586,  35.4554,2,  35.4573,2,     29.5,2,    40.7,2,   26.74,2,   26.69,2,    0.00,2,    2.04,2,   0.714,3,   0.380,2,  2227.3,2,  2330.8,2,-999.0000,9,-999.0000,9, -999.00,9, -999.00,9,  -999.0,9,    -9.0,-999.000,9,-999.000,    1966,-999.0000,  13.5305,-999.0000, -999.00
 316N145_11,       I01W,     885,          1,         21,     SIH025,2,19950908,       0049,    13.6612,    50.8388,       2470,   247.8,  12.9482,  35.4247,2,  35.4237,2,     44.7,2,    44.6,2,   28.74,2,   27.43,2,    0.01,2,    2.08,2,-999.000,9,-999.000,9,  2228.6,2,  2330.4,2,-999.0000,9,-999.0000,9, -999.00,9, -999.00,9,  -999.0,9,    -9.0,-999.000,9,-999.000,    2459,-999.0000,  12.9140,-999.0000, -999.00
 316N145_11,       I01W,     885,          1,         20,     SIH004,2,19950908,       0049,    13.6612,    50.8388,       2470,   298.3,  12.7892,  35.4854,2,  35.4884,2,     34.5,2,    35.1,2,   31.53,2,   28.51,2,    0.00,2,    2.17,2,   0.501,6,   0.272,6,  2239.4,2,  2334.0,2,-999.0000,9,-999.0000,9, -999.00,9, -999.00,9,  -999.0,9,    -9.0,-999.000,9,-999.000,    2964,-999.0000,  12.7483,-999.0000, -999.00
 316N145_11,       I01W,     885,          1,         19,     SIH005,3,19950908,       0049,    13.6612,    50.8388,       2470,   398.4,  14.1258,  36.0557,3,  36.0572,2,     21.9,2,    20.7,2,   33.32,2,   28.17,2,    0.01,2,    2.20,2,-999.000,9,-999.000,9,  -999.0,9,  -999.0,9,-999.0000,9,-999.0000,9, -999.00,9, -999.00,9,  -999.0,9,    -9.0,-999.000,9,-999.000,    3966,-999.0000,  14.0669,-999.0000, -999.00
 316N145_11,       I01W,     885,          1,         18,     SIH006,2,19950908,       0049,    13.6612,    50.8388,       2470,   498.3,  12.7189,  35.8385,2,  35.8461,2,     22.4,2,    20.7,2,   40.11,2,   29.62,2,    0.01,2,    2.32,2,   0.318,2,   0.172,2,  2256.7,2,  2351.5,2,-999.0000,9,   1.8290,2,    8.20,2, -999.00,9,  -999.0,9,    -9.0,   7.404,2,   0.148,    4965,-999.0000,  12.6501,   0.0090,    0.20
 316N145_11,       I01W,     885,          1,         17,     SIH038,2,19950908,       0049,    13.6612,    50.8388,       2470,   599.0,  13.7569,  36.2627,2,  36.2612,2,     20.3,2,    20.0,2,   39.90,2,   28.44,2,    0.00,2,    2.25,2,-999.000,9,-999.000,9,  -999.0,9,  -999.0,9,-999.0000,9,-999.0000,9, -999.00,9, -999.00,9,  -999.0,9,    -9.0,-999.000,9,-999.000,    5973,-999.0000,  13.6691,-999.0000, -999.00
 316N145_11,       I01W,     885,          1,         16,     SIH008,2,19950908,       0049,    13.6612,    50.8388,       2470,   699.3,  12.9726,  36.1728,2,  36.1723,2,     19.4,2,    17.0,2,   46.68,2,   29.92,2,    0.01,2,    2.35,2,   0.295,2,   0.160,2,  2262.4,2,  2366.7,2,-999.0000,9,-999.0000,9, -999.00,9, -999.00,9,  -999.0,9,    -9.0,-999.000,9,-999.000,    6978,-999.0000,  12.8737,-999.0000, -999.00
 316N145_11,       I01W,     885,          1,         15,     SIH009,2,19950908,       0049,    13.6612,    50.8388,       2470,   795.7,  12.4550,  36.1125,2,  36.1175,2,     19.5,2,    17.3,2,   50.67,2,   30.58,2,    0.00,2,    2.41,2,-999.000,9,-999.000,9,  -999.0,9,  -999.0,9,-999.0000,9,-999.0000,9, -999.00,9, -999.00,9,  -999.0,9,    -9.0,-999.000,9,-999.000,    7943,-999.0000,  12.3450,-999.0000, -999.00
 316N145_11,       I01W,     885,          1,         14,     SIH010,2,19950908,       0049,    13.6612,    50.8388,       2470,   895.5,  11.9400,  36.0850,2,  36.0795,2,     20.3,2,    18.1,2,   55.67,2,   31.27,2,   -0.01,2,    2.46,2,   0.232,2,   0.121,2,  2275.1,2,  2375.5,2,-999.0000,9,-999.0000,9, -999.00,9, -999.00,9,  -999.0,9,    -9.0,-999.000,9,-999.000,    8941,-999.0000,  11.8190,-999.0000, -999.00
 316N145_11,       I01W,     885,          1,         13,     SIH011,2,19950908,       0049,    13.6612,    50.8388,       2470,   996.5,  10.9905,  35.9367,2,  35.9356,2,     21.7,2,    17.6,2,   63.66,2,   32.72,2,    0.00,2,    2.56,2,-999.000,9,-999.000,9,  -999.0,9,  -999.0,9,-999.0000,9,   1.8420,2,    9.80,2, -999.00,9,  -999.0,9,    -9.0,   7.586,2,   0.152,    9953,-999.0000,  10.8619,   0.0090,    0.20
 316N145_11,       I01W,     885,          1,         12,     SIH012,2,19950908,       0049,    13.6612,    50.8388,       2470,  1097.5,   9.8102,  35.7295,2,  35.7319,2,     24.5,2,    20.3,2,   71.66,2,   34.16,2,    0.01,2,    2.66,2,   0.129,2,   0.069,2,  2296.5,2,  2378.3,2,-999.0000,9,-999.0000,9, -999.00,9, -999.00,9,  -999.0,9,    -9.0,-999.000,9,-999.000,   10964,-999.0000,   9.6775,-999.0000, -999.00
 316N145_11,       I01W,     885,          1,         11,     SI9426,2,19950908,       0049,    13.6612,    50.8388,       2470,  1197.9,   8.4222,  35.4866,2,  35.4888,2,     29.6,2,    23.8,2,   82.25,2,   35.58,2,    0.00,2,    2.76,2,-999.000,9,-999.000,9,  -999.0,9,  -999.0,9,-999.0000,9,   1.8870,2,   12.40,2, -999.00,9,  -999.0,9,    -9.0,   7.582,2,   0.152,   11970,-999.0000,   8.2888,   0.0090,    0.20
 316N145_11,       I01W,     885,          1,         10,     SIH014,2,19950908,       0049,    13.6612,    50.8388,       2470,  1299.0,   7.7690,  35.4024,2,  35.4107,2,     32.5,2,    28.8,2,   88.46,2,   36.00,2,    0.00,2,    2.79,2,   0.055,2,   0.026,2,  2315.1,2,  2387.0,2,-999.0000,9,-999.0000,9, -999.00,9, -999.00,9,  -999.0,9,    -9.0,-999.000,9,-999.000,   12983,-999.0000,   7.6298,-999.0000, -999.00
 316N145_11,       I01W,     885,          1,          9,     SIH015,2,19950908,       0049,    13.6612,    50.8388,       2470,  1394.4,   6.2966,  35.1615,2,  35.1632,2,     46.0,2,    40.4,2,  101.25,2,   37.24,2,    0.00,2,    2.86,2,-999.000,9,-999.000,9,  -999.0,9,  -999.0,9,-999.0000,9,   1.8960,2,   12.00,2, -999.00,9,  -999.0,9,    -9.0,   7.966,2,   0.159,   13938,-999.0000,   6.1617,   0.0090,    0.20
 316N145_11,       I01W,     885,          1,          8,     SIH016,2,19950908,       0049,    13.6612,    50.8388,       2470,  1495.6,   5.3495,  35.0384,2,  35.0402,2,     54.8,2,    52.6,2,  111.26,2,   37.61,2,    0.00,2,    2.88,2,   0.003,2,   0.001,2,  2333.9,2,  2401.4,2,-999.0000,9,-999.0000,9, -999.00,9, -999.00,9,  -999.0,9,    -9.0,-999.000,9,-999.000,   14952,-999.0000,   5.2145,-999.0000, -999.00
 316N145_11,       I01W,     885,          1,          7,     SIH017,2,19950908,       0049,    13.6612,    50.8388,       2470,  1595.9,   4.8998,  34.9960,2,  34.9980,2,     61.0,2,    59.6,2,  116.07,2,   37.56,2,    0.00,2,    2.85,2,-999.000,9,-999.000,9,  -999.0,9,  -999.0,9,-999.0000,9,   1.9450,2,   14.30,2, -999.00,9,  -999.0,9,    -9.0,   8.037,2,   0.161,   15957,-999.0000,   4.7601,   0.0100,    0.20
 316N145_11,       I01W,     885,          1,          6,     SIH018,2,19950908,       0049,    13.6612,    50.8388,       2470,  1793.4,   4.2058,  34.9434,2,  34.9445,2,     70.3,2,    70.0,2,  128.07,2,   37.03,2,    0.00,2,    2.83,2,   0.002,2,   0.004,2,  2345.4,2,  2403.7,2,-999.0000,9,   1.9760,2,   17.70,2, -999.00,9,  -999.0,9,    -9.0,   8.046,2,   0.161,   17936,-999.0000,   4.0556,   0.0100,    0.20
 316N145_11,       I01W,     885,          1,          5,     SIH002,2,19950908,       0049,    13.6612,    50.8388,       2470,  1995.7,   3.3550,  34.8671,2,  34.8692,2,     84.9,2,    82.6,2,  140.47,2,   36.81,2,    0.00,2,    2.78,2,-999.000,9,-999.000,9,  -999.0,9,  -999.0,9,-999.0000,9,   1.9670,2,   20.60,2, -999.00,9,  -999.0,9,    -9.0,   8.028,2,   0.161,   19963,-999.0000,   3.1977,   0.0100,    0.20
 316N145_11,       I01W,     885,          1,          4,     SIH020,2,19950908,       0049,    13.6612,    50.8388,       2470,  2194.5,   2.8614,  34.8254,2,  34.8273,2,     96.9,2,    94.4,2,  146.28,2,   36.54,2,    0.00,2,    2.74,2,   0.001,2,   0.005,2,  2354.8,2,  2424.9,2,-999.0000,9,   1.9490,2,   18.00,2, -999.00,9,  -999.0,9,    -9.0,   8.407,2,   0.168,   21955,-999.0000,   2.6936,   0.0100,    0.20
 316N145_11,       I01W,     885,          1,          3,     SIH021,2,19950908,       0049,    13.6612,    50.8388,       2470,  2397.3,   2.6836,  34.8109,2,  34.8080,2,    102.7,2,    99.5,2,  149.50,2,   36.54,2,   -0.01,2,    2.72,2,-999.000,9,-999.000,9,  -999.0,9,  -999.0,9,-999.0000,9,   1.9270,2,   16.50,2, -999.00,9,  -999.0,9,    -9.0,   8.376,2,   0.168,   23987,-999.0000,   2.4998,   0.0100,    0.20
 316N145_11,       I01W,     885,          1,          2,     SIH022,2,19950908,       0049,    13.6612,    50.8388,       2470,  2447.6,   2.6627,  34.8077,2,  34.8074,2,    103.0,2,    99.5,2,  149.91,2,   36.53,2,   -0.01,2,    2.72,2,   0.003,2,   0.007,2,  -999.0,9,  -999.0,9,-999.0000,9,-999.0000,9, -999.00,9, -999.00,9,  -999.0,9,    -9.0,-999.000,9,-999.000,   24491,-999.0000,   2.4745,-999.0000, -999.00
 316N145_11,       I01W,     885,          1,          1,     SIH023,2,19950908,       0049,    13.6612,    50.8388,       2470,  2503.3,   2.6251,  34.8046,2,  34.8043,2,   -999.0,9,   100.5,2,  150.24,2,   36.53,2,    0.00,2,    2.73,2,   0.000,2,   0.008,2,  2356.1,2,  2443.0,2,   -0.002,2,   1.9710,2,   15.80,2, -999.00,9,  -999.0,9,    -9.0,   8.501,2,   0.170,   25049,    0.002,   2.4323,   0.0100,    0.20
 316N145_11,       I01W,     886,          1,          8,     SIH016,2,19950908,       0835,    14.9167,    50.8305,        190,     8.1,  22.1517,  35.6006,2,  35.6123,2,    275.3,2,   276.8,2,    1.87,2,    1.34,2,    0.08,2,    0.71,2,   1.381,2,   0.784,2,  2009.6,2,  2342.2,2,-999.0000,9,-999.0000,9, -999.00,9, -999.00,9,  -999.0,9,    -9.0,-999.000,9,-999.000,      53,-999.0000,  22.1501,-999.0000, -999.00
 316N145_11,       I01W,     886,          1,          7,     SIH017,2,19950908,       0835,    14.9167,    50.8305,        190,    28.4,  18.7396,  35.6020,2,  35.5981,2,     66.2,2,    57.7,2,   16.49,2,   19.83,2,    1.11,2,    1.80,2,-999.000,9,-999.000,9,  2190.8,2,  2330.1,2,-999.0000,9,-999.0000,9, -999.00,9, -999.00,9,  -999.0,9,    -9.0,-999.000,9,-999.000,     257,-999.0000,  18.7345,-999.0000, -999.00
 316N145_11,       I01W,     886,          1,          6,     SIH018,2,19950908,       0835,    14.9167,    50.8305,        190,    53.3,  16.9180,  35.5976,2,  35.5969,2,     29.0,2,    26.9,2,   22.00,2,   24.44,2,    0.27,2,    2.08,2,   0.979,2,   0.544,2,  2222.6,2,  2326.9,2,-999.0000,9,-999.0000,9, -999.00,9, -999.00,9,  -999.0,9,    -9.0,-999.000,9,-999.000,     505,-999.0000,  16.9092,-999.0000, -999.00
 316N145_11,       I01W,     886,          1,          5,     SIH002,2,19950908,       0835,    14.9167,    50.8305,        190,    78.5,  16.0568,  35.5903,2,  35.5912,2,     24.4,2,    22.3,2,   24.47,2,   24.63,2,    0.33,2,    2.15,2,   0.881,2,   0.496,2,  2231.4,2,  2328.1,2,-999.0000,9,-999.0000,9, -999.00,9, -999.00,9,  -999.0,9,    -9.0,-999.000,9,-999.000,     758,-999.0000,  16.0444,-999.0000, -999.00
 316N145_11,       I01W,     886,          1,          4,     SIH020,2,19950908,       0835,    14.9167,    50.8305,        190,   103.9,  15.2986,  35.4966,2,  35.4918,2,     39.9,2,    43.0,2,   23.14,2,   24.79,2,    0.08,2,    2.00,2,-999.000,9,-999.000,9,  2218.1,2,  2324.0,2,-999.0000,9,-999.0000,9, -999.00,9, -999.00,9,  -999.0,9,    -9.0,-999.000,9,-999.000,    1012,-999.0000,  15.2826,-999.0000, -999.00
 316N145_11,       I01W,     886,          1,          3,     SIH021,2,19950908,       0835,    14.9167,    50.8305,        190,   134.0,  14.5179,  35.4024,2,  35.4070,2,     52.2,2,    53.0,2,   23.34,2,   24.69,2,    0.08,2,    1.94,2,   0.889,2,   0.481,2,  2211.4,2,  2323.0,2,-999.0000,9,-999.0000,9, -999.00,9, -999.00,9,  -999.0,9,    -9.0,-999.000,9,-999.000,    1314,-999.0000,  14.4980,-999.0000, -999.00
 316N145_11,       I01W,     886,          1,          2,     SIH022,2,19950908,       0835,    14.9167,    50.8305,        190,   163.7,  14.0480,  35.3909,2,  35.3979,2,     52.3,2,    53.1,2,   24.47,2,   24.93,2,    0.09,2,    1.95,2,   0.842,2,   0.445,2,  2214.0,2,  2322.4,2,-999.0000,9,-999.0000,9, -999.00,9, -999.00,9,  -999.0,9,    -9.0,-999.000,9,-999.000,    1610,-999.0000,  14.0243,-999.0000, -999.00
 316N145_11,       I01W,     886,          1,          1,     SIH023,2,19950908,       0835,    14.9167,    50.8305,        190,   193.4,  13.7409,  35.4274,2,  35.4285,2,   -999.0,9,    48.9,2,   25.85,2,   25.27,2,    0.10,2,    2.00,2,   0.758,2,   0.409,2,  2220.3,2,  2323.1,2,-999.0000,9,-999.0000,9, -999.00,9, -999.00,9,  -999.0,9,    -9.0,-999.000,9,-999.000,    1908,-999.0000,  13.7132,-999.0000, -999.00