BOTTLE,20211119CCHSIORKP
EXPOCODE,SECT_ID,STNNBR,CASTNO,SAMPNO,BTLNBR,BTLNBR_FLAG_W,DATE,TIME,LATITUDE,LONGITUDE,DEPTH,CTDPRS,CTDTMP,CTDSAL,CTDSAL_FLAG_W,SALNTY,SALNTY_FLAG_W,CTDOXY,CTDOXY_FLAG_W,OXYGEN,OXYGEN_FLAG_W,SILCAT,SILCAT_FLAG_W,NITRAT,NITRAT_FLAG_W,NITRIT,NITRIT_FLAG_W,PHSPHT,PHSPHT_FLAG_W,CFC-11,CFC-11_FLAG_W,CFC-12,CFC-12_FLAG_W,TCARBN,TCARBN_FLAG_W,ALKALI,ALKALI_FLAG_W,TRITUM,TRITUM_FLAG_W,HELIUM,HELIUM_FLAG_W,DELHE3,DELHE3_FLAG_W,DELC13,DELC13_FLAG_W,DELC14,DELC14_FLAG_W,C14ERR,NEON,NEON_FLAG_W,NEONER,CTDRAW,TRITER,THETA,HELIER,DELHER
,,,,,,,,,,,METERS,DBAR,ITS-90,PSS-78,,PSS-78,,UMOL/KG,,UMOL/KG,,UMOL/KG,,UMOL/KG,,UMOL/KG,,UMOL/KG,,PMOL/KG,,PMOL/KG,,UMOL/KG,,UMOL/KG,,TU,,NMOL/KG,,PERCNT,,/MILLE,,/MILLE,,/MILLE,NMOL/KG,,NMOL/KG,DBAR,TU,DEG C,NMOL/KG,PERCNT
 316N145_11,       I01W,     953,          1,         29,     SIH031,2,19950925,       1926,     8.7333,    74.6667,       2750,     4.9,  28.2603,  35.1226,2,  35.1244,2,    205.4,2,   215.1,2,    2.35,2,    0.06,2,    0.00,2,    0.17,2,   1.620,2,   0.950,2,  1946.9,2,  2294.8,2,-999.0000,9,-999.0000,9, -999.00,9, -999.00,9,  -999.0,9,    -9.0,-999.000,9,-999.000,      39,-999.0000,  28.2591,-999.0000, -999.00
 316N145_11,       I01W,     953,          1,         28,     SIH032,2,19950925,       1926,     8.7333,    74.6667,       2750,    29.8,  28.2125,  35.1206,2,  35.1161,2,    208.7,2,   215.1,2,    2.34,2,    0.21,2,    0.06,2,    0.19,2,   1.614,2,   0.949,2,  1950.6,2,  2293.2,2,-999.0000,9,-999.0000,9, -999.00,9, -999.00,9,  -999.0,9,    -9.0,-999.000,9,-999.000,     288,-999.0000,  28.2054,-999.0000, -999.00
 316N145_11,       I01W,     953,          1,         27,     SIH033,2,19950925,       1926,     8.7333,    74.6667,       2750,    59.9,  23.9957,  35.4832,2,  35.4632,2,     93.0,2,    90.5,2,    8.76,2,   16.05,2,    0.05,2,    1.25,2,-999.000,9,-999.000,9,  2106.9,2,  2314.0,2,-999.0000,9,-999.0000,9, -999.00,9, -999.00,9,  -999.0,9,    -9.0,-999.000,9,-999.000,     589,-999.0000,  23.9831,-999.0000, -999.00
 316N145_11,       I01W,     953,          1,         26,     SIH037,3,19950925,       1926,     8.7333,    74.6667,       2750,    90.2,  18.8623,  35.2195,3,  35.2124,2,     22.8,2,    23.1,2,   19.59,2,   25.78,2,    0.02,2,    1.87,2,   0.935,3,   0.509,2,  2178.7,2,  2307.5,2,-999.0000,9,-999.0000,9, -999.00,9, -999.00,9,  -999.0,9,    -9.0,-999.000,9,-999.000,     892,-999.0000,  18.8463,-999.0000, -999.00
 316N145_11,       I01W,     953,          1,         25,     SI9446,2,19950925,       1926,     8.7333,    74.6667,       2750,   120.1,  17.4889,  35.1740,2,  35.1287,2,     29.4,2,    25.0,2,   22.71,2,   27.07,2,    0.01,2,    1.95,2,-999.000,9,-999.000,9,  2190.6,2,  2306.2,2,-999.0000,9,-999.0000,9, -999.00,9, -999.00,9,  -999.0,9,    -9.0,-999.000,9,-999.000,    1190,-999.0000,  17.4687,-999.0000, -999.00
 316N145_11,       I01W,     953,          1,         24,     SIH036,2,19950925,       1926,     8.7333,    74.6667,       2750,   150.1,  15.1000,  35.0250,2,  35.0453,2,     12.7,2,    11.8,2,   28.41,2,   30.15,2,    0.01,2,    2.18,2,   0.510,2,   0.267,2,  2216.8,2,  2307.1,2,-999.0000,9,-999.0000,9, -999.00,9, -999.00,9,  -999.0,9,    -9.0,-999.000,9,-999.000,    1491,-999.0000,  15.0771,-999.0000, -999.00
 316N145_11,       I01W,     953,          1,         23,     SIH001,2,19950925,       1926,     8.7333,    74.6667,       2750,   200.4,  13.9409,  35.1157,2,  35.1189,2,     18.5,2,    20.5,2,   27.67,2,   30.00,2,    0.00,2,    2.16,2,-999.000,9,-999.000,9,  2223.6,2,  2313.5,2,-999.0000,9,-999.0000,9, -999.00,9, -999.00,9,  -999.0,9,    -9.0,-999.000,9,-999.000,    1994,-999.0000,  13.9120,-999.0000, -999.00
 316N145_11,       I01W,     953,          1,         22,     SIH019,2,19950925,       1926,     8.7333,    74.6667,       2750,   250.0,  13.3401,  35.1886,2,  35.1928,2,     20.3,2,    17.8,2,   28.22,2,   30.32,2,    0.01,2,    2.23,2,   0.379,2,   0.204,2,  2236.7,2,  2317.9,2,-999.0000,9,-999.0000,9, -999.00,9, -999.00,9,  -999.0,9,    -9.0,-999.000,9,-999.000,    2490,-999.0000,  13.3050,-999.0000, -999.00
 316N145_11,       I01W,     953,          1,         21,     SIH025,3,19950925,       1926,     8.7333,    74.6667,       2750,   300.4,  12.0915,  35.1546,3,  35.1591,2,     20.7,2,    26.0,2,   30.61,2,   31.37,2,    0.00,2,    2.24,2,-999.000,9,-999.000,9,  2242.4,2,  2320.0,2,-999.0000,9,-999.0000,9, -999.00,9, -999.00,9,  -999.0,9,    -9.0,-999.000,9,-999.000,    2994,-999.0000,  12.0519,-999.0000, -999.00
 316N145_11,       I01W,     953,          1,         20,     SIH004,2,19950925,       1926,     8.7333,    74.6667,       2750,   395.6,  11.1182,  35.1407,2,  35.1398,2,     23.9,2,    23.9,2,   37.41,2,   32.98,2,    0.00,2,    2.38,2,   0.189,2,   0.098,2,  2253.2,2,  2324.9,2,-999.0000,9,-999.0000,9, -999.00,9, -999.00,9,  -999.0,9,    -9.0,-999.000,9,-999.000,    3947,-999.0000,  11.0685,-999.0000, -999.00
 316N145_11,       I01W,     953,          1,         19,     SIH005,2,19950925,       1926,     8.7333,    74.6667,       2750,   496.1,  10.6754,  35.2138,2,  35.2000,2,     15.3,2,    18.0,2,   43.66,2,   34.08,2,    0.00,2,    2.53,2,-999.000,9,-999.000,9,  2274.6,2,  2330.6,2,-999.0000,9,-999.0000,9, -999.00,9, -999.00,9,  -999.0,9,    -9.0,-999.000,9,-999.000,    4952,-999.0000,  10.6145,-999.0000, -999.00
 316N145_11,       I01W,     953,          1,         18,     SIH006,2,19950925,       1926,     8.7333,    74.6667,       2750,   596.4,   9.8728,  35.1647,2,  35.1664,2,     18.4,2,    18.3,2,   51.76,2,   35.18,2,    0.00,2,    2.63,2,   0.038,2,   0.019,2,  2275.6,2,  2337.3,2,-999.0000,9,-999.0000,9, -999.00,9, -999.00,9,  -999.0,9,    -9.0,-999.000,9,-999.000,    5955,-999.0000,   9.8026,-999.0000, -999.00
 316N145_11,       I01W,     953,          1,         17,     SIH038,2,19950925,       1926,     8.7333,    74.6667,       2750,   696.9,   8.9925,  35.0904,2,  35.0909,2,     22.1,2,    22.5,2,   61.14,2,   36.34,2,    0.00,2,    2.69,2,-999.000,9,-999.000,9,  2284.7,2,  2346.0,2,-999.0000,9,-999.0000,9, -999.00,9, -999.00,9,  -999.0,9,    -9.0,-999.000,9,-999.000,    6960,-999.0000,   8.9146,-999.0000, -999.00
 316N145_11,       I01W,     953,          1,         16,     SIH008,2,19950925,       1926,     8.7333,    74.6667,       2750,   797.6,   8.4278,  35.0941,2,  35.0935,2,     23.3,2,    24.2,2,   69.23,2,   36.90,2,    0.00,2,    2.75,2,   0.009,2,   0.006,2,  2293.4,2,  2355.0,2,-999.0000,9,-999.0000,9, -999.00,9, -999.00,9,  -999.0,9,    -9.0,-999.000,9,-999.000,    7968,-999.0000,   8.3414,-999.0000, -999.00
 316N145_11,       I01W,     953,          1,         15,     SIH009,2,19950925,       1926,     8.7333,    74.6667,       2750,   897.8,   7.6057,  35.0368,2,  35.0295,2,     31.9,2,    31.3,2,   77.89,2,   37.44,2,    0.00,2,    2.78,2,-999.000,9,-999.000,9,  2300.6,2,  2362.5,2,-999.0000,9,-999.0000,9, -999.00,9, -999.00,9,  -999.0,9,    -9.0,-999.000,9,-999.000,    8970,-999.0000,   7.5133,-999.0000, -999.00
 316N145_11,       I01W,     953,          1,         14,     SIH010,2,19950925,       1926,     8.7333,    74.6667,       2750,   998.9,   6.9633,  34.9877,2,  34.9882,2,     39.2,2,    38.6,2,   85.07,2,   37.67,2,    0.00,2,    2.79,2,  -0.001,2,   0.002,2,  2307.0,2,  2367.7,2,-999.0000,9,-999.0000,9, -999.00,9, -999.00,9,  -999.0,9,    -9.0,-999.000,9,-999.000,    9982,-999.0000,   6.8647,-999.0000, -999.00
 316N145_11,       I01W,     953,          1,         13,     SIH011,2,19950925,       1926,     8.7333,    74.6667,       2750,  1099.1,   6.4493,  34.9541,2,-999.0000,9,     47.3,2,    45.4,2,   90.42,2,   37.72,2,    0.00,2,    2.79,2,-999.000,9,-999.000,9,  -999.0,9,  -999.0,9,-999.0000,9,-999.0000,9, -999.00,9, -999.00,9,  -999.0,9,    -9.0,-999.000,9,-999.000,   10984,-999.0000,   6.3442,-999.0000, -999.00
 316N145_11,       I01W,     953,          1,         12,     SIH012,2,19950925,       1926,     8.7333,    74.6667,       2750,  1200.1,   5.9170,  34.9277,2,-999.0000,9,     55.2,2,    54.1,2,   96.14,2,   37.83,2,    0.00,2,    2.79,2,  -0.001,2,   0.000,2,  -999.0,9,  -999.0,9,-999.0000,9,-999.0000,9, -999.00,9, -999.00,9,  -999.0,9,    -9.0,-999.000,9,-999.000,   11995,-999.0000,   5.8062,-999.0000, -999.00
 316N145_11,       I01W,     953,          1,         11,     SI9426,2,19950925,       1926,     8.7333,    74.6667,       2750,  1295.8,   5.5950,  34.9326,2,-999.0000,9,     60.5,2,    58.5,2,   99.46,2,   37.78,2,    0.00,2,    2.78,2,-999.000,9,-999.000,9,  2315.7,2,  2382.9,2,-999.0000,9,-999.0000,9, -999.00,9, -999.00,9,  -999.0,9,    -9.0,-999.000,9,-999.000,   12952,-999.0000,   5.4776,-999.0000, -999.00
 316N145_11,       I01W,     953,          1,         10,     SIH014,2,19950925,       1926,     8.7333,    74.6667,       2750,  1396.6,   5.2258,  34.9134,2,-999.0000,9,     66.3,2,    64.0,2,  103.72,2,   37.72,2,    0.00,2,    2.79,2,  -0.003,2,  -0.001,2,  -999.0,9,  -999.0,9,-999.0000,9,-999.0000,9, -999.00,9, -999.00,9,  -999.0,9,    -9.0,-999.000,9,-999.000,   13961,-999.0000,   5.1023,-999.0000, -999.00
 316N145_11,       I01W,     953,          1,          9,     SIH015,2,19950925,       1926,     8.7333,    74.6667,       2750,  1497.3,   4.6402,  34.8859,2,  34.8869,2,     76.6,2,    74.3,2,  109.98,2,   37.28,2,    0.00,2,    2.76,2,-999.000,9,-999.000,9,  -999.0,9,  -999.0,9,-999.0000,9,-999.0000,9, -999.00,9, -999.00,9,  -999.0,9,    -9.0,-999.000,9,-999.000,   14968,-999.0000,   4.5133,-999.0000, -999.00
 316N145_11,       I01W,     953,          1,          8,     SIH016,2,19950925,       1926,     8.7333,    74.6667,       2750,  1598.1,   4.1182,  34.8537,2,  34.8519,2,     87.3,2,    87.6,2,  114.79,2,   37.23,2,    0.00,2,    2.72,2,  -0.002,2,   0.001,2,  2302.2,3,  2397.9,2,-999.0000,9,-999.0000,9, -999.00,9, -999.00,9,  -999.0,9,    -9.0,-999.000,9,-999.000,   15977,-999.0000,   3.9878,-999.0000, -999.00
 316N145_11,       I01W,     953,          1,          7,     SIH017,2,19950925,       1926,     8.7333,    74.6667,       2750,  1795.5,   3.2759,  34.8115,2,  34.8257,4,    104.6,2,    98.4,4,  121.07,2,   36.84,2,    0.00,2,    2.67,2,-999.000,9,-999.000,9,  -999.0,9,  -999.0,9,-999.0000,9,-999.0000,9, -999.00,9, -999.00,9,  -999.0,9,    -9.0,-999.000,9,-999.000,   17952,-999.0000,   3.1384,-999.0000, -999.00
 316N145_11,       I01W,     953,          1,          6,     SIH018,2,19950925,       1926,     8.7333,    74.6667,       2750,  1997.4,   2.7769,  34.7850,2,  34.7856,2,    117.4,2,   116.7,2,  129.93,2,   36.35,2,    0.00,2,    2.60,2,-999.000,9,-999.000,9,  -999.0,9,  -999.0,9,-999.0000,9,-999.0000,9, -999.00,9, -999.00,9,  -999.0,9,    -9.0,-999.000,9,-999.000,   19973,-999.0000,   2.6285,-999.0000, -999.00
 316N145_11,       I01W,     953,          1,          5,     SIH002,3,19950925,       1926,     8.7333,    74.6667,       2750,  2195.2,   2.4859,  34.7708,3,  34.7728,2,    124.8,2,   125.0,2,  133.09,2,   36.02,2,    0.00,2,    2.57,2,-999.000,9,-999.000,9,  2325.0,2,  2415.1,2,-999.0000,9,-999.0000,9, -999.00,9, -999.00,9,  -999.0,9,    -9.0,-999.000,9,-999.000,   21952,-999.0000,   2.3243,-999.0000, -999.00
 316N145_11,       I01W,     953,          1,          4,     SIH020,2,19950925,       1926,     8.7333,    74.6667,       2750,  2396.9,   2.1953,  34.7553,2,  34.7559,2,    133.2,2,   134.4,3,  136.61,2,   35.80,2,    0.00,2,    2.54,2,-999.000,9,-999.000,9,  -999.0,9,  -999.0,9,-999.0000,9,-999.0000,9, -999.00,9, -999.00,9,  -999.0,9,    -9.0,-999.000,9,-999.000,   23970,-999.0000,   2.0204,-999.0000, -999.00
 316N145_11,       I01W,     953,          1,          3,     SIH021,2,19950925,       1926,     8.7333,    74.6667,       2750,  2594.8,   2.0467,  34.7466,2,  34.7482,2,    138.5,2,   135.4,2,  138.65,2,   35.74,2,    0.00,2,    2.52,2,-999.000,9,-999.000,9,  -999.0,9,  -999.0,9,-999.0000,9,-999.0000,9, -999.00,9, -999.00,9,  -999.0,9,    -9.0,-999.000,9,-999.000,   25951,-999.0000,   1.8564,-999.0000, -999.00
 316N145_11,       I01W,     953,          1,          2,     SIH022,2,19950925,       1926,     8.7333,    74.6667,       2750,  2726.7,   1.9502,  34.7426,2,  34.7425,2,    141.8,2,   135.2,2,  141.80,2,   35.74,2,    0.00,2,    2.52,2,   0.013,2,   0.001,2,  -999.0,9,  -999.0,9,-999.0000,9,-999.0000,9, -999.00,9, -999.00,9,  -999.0,9,    -9.0,-999.000,9,-999.000,   27271,-999.0000,   1.7495,-999.0000, -999.00
 316N145_11,       I01W,     953,          1,          1,     SIH023,2,19950925,       1926,     8.7333,    74.6667,       2750,  2777.6,   1.9408,  34.7409,2,  34.7423,2,    139.0,2,   138.0,2,  141.27,2,   35.63,2,    0.00,2,    2.51,2,   0.014,2,   0.001,2,  2330.4,2,  2430.0,2,-999.0000,9,-999.0000,9, -999.00,9, -999.00,9,  -999.0,9,    -9.0,-999.000,9,-999.000,   27781,-999.0000,   1.7355,-999.0000, -999.00