BOTTLE,20211119CCHSIORKP
EXPOCODE,SECT_ID,STNNBR,CASTNO,SAMPNO,BTLNBR,BTLNBR_FLAG_W,DATE,TIME,LATITUDE,LONGITUDE,DEPTH,CTDPRS,CTDTMP,CTDSAL,CTDSAL_FLAG_W,SALNTY,SALNTY_FLAG_W,CTDOXY,CTDOXY_FLAG_W,OXYGEN,OXYGEN_FLAG_W,SILCAT,SILCAT_FLAG_W,NITRAT,NITRAT_FLAG_W,NITRIT,NITRIT_FLAG_W,PHSPHT,PHSPHT_FLAG_W,CFC-11,CFC-11_FLAG_W,CFC-12,CFC-12_FLAG_W,TCARBN,TCARBN_FLAG_W,ALKALI,ALKALI_FLAG_W,TRITUM,TRITUM_FLAG_W,HELIUM,HELIUM_FLAG_W,DELHE3,DELHE3_FLAG_W,DELC13,DELC13_FLAG_W,DELC14,DELC14_FLAG_W,C14ERR,NEON,NEON_FLAG_W,NEONER,CTDRAW,TRITER,THETA,HELIER,DELHER
,,,,,,,,,,,METERS,DBAR,ITS-90,PSS-78,,PSS-78,,UMOL/KG,,UMOL/KG,,UMOL/KG,,UMOL/KG,,UMOL/KG,,UMOL/KG,,PMOL/KG,,PMOL/KG,,UMOL/KG,,UMOL/KG,,TU,,NMOL/KG,,PERCNT,,/MILLE,,/MILLE,,/MILLE,NMOL/KG,,NMOL/KG,DBAR,TU,DEG C,NMOL/KG,PERCNT
 316N145_11,       I01W,     911,          1,         36,     SIH024,2,19950915,       0034,     8.4805,    55.4138,       4730,    11.7,  26.1130,  35.6775,2,  35.6776,2,    213.7,2,   211.0,2,    3.18,2,    2.58,2,    0.32,2,    0.41,2,   1.781,2,   1.031,2,  2011.0,2,  2328.4,2,-999.0000,9,-999.0000,9, -999.00,9, -999.00,9,  -999.0,9,    -9.0,-999.000,9,-999.000,     107,-999.0000,  26.1104,-999.0000, -999.00
 316N145_11,       I01W,     911,          1,         35,     SIH003,2,19950915,       0034,     8.4805,    55.4138,       4730,    31.6,  26.1156,  35.6770,2,  35.6773,2,    216.8,2,   210.3,2,    2.99,2,    2.57,2,    0.33,2,    0.41,2,   1.792,2,   1.031,2,  2009.7,2,  2328.5,2,-999.0000,9,-999.0000,9, -999.00,9, -999.00,9,  -999.0,9,    -9.0,-999.000,9,-999.000,     306,-999.0000,  26.1086,-999.0000, -999.00
 316N145_11,       I01W,     911,          1,         34,     SIH026,2,19950915,       0034,     8.4805,    55.4138,       4730,    61.3,  26.0299,  35.6730,2,  35.6725,2,    211.4,2,   209.4,2,    3.16,2,    2.74,2,    0.36,2,    0.43,2,-999.000,9,-999.000,9,  2013.0,2,  2328.5,2,-999.0000,9,-999.0000,9, -999.00,9, -999.00,9,  -999.0,9,    -9.0,-999.000,9,-999.000,     603,-999.0000,  26.0162,-999.0000, -999.00
 316N145_11,       I01W,     911,          1,         33,     SIH027,2,19950915,       0034,     8.4805,    55.4138,       4730,    91.3,  25.7585,  35.6354,2,  35.6398,2,    204.1,2,   212.5,2,    3.53,2,    3.33,2,    0.44,2,    0.49,2,   1.790,2,   1.031,2,  2019.5,2,  2327.8,2,-999.0000,9,-999.0000,9, -999.00,9, -999.00,9,  -999.0,9,    -9.0,-999.000,9,-999.000,     903,-999.0000,  25.7382,-999.0000, -999.00
 316N145_11,       I01W,     911,          1,         32,     SIH028,2,19950915,       0034,     8.4805,    55.4138,       4730,   121.0,  25.2018,  35.6021,2,  35.6021,2,    192.2,2,   189.0,2,    4.42,2,    5.06,2,    0.71,2,    0.59,2,-999.000,9,-999.000,9,  2033.0,2,  2322.9,2,-999.0000,9,-999.0000,9, -999.00,9, -999.00,9,  -999.0,9,    -9.0,-999.000,9,-999.000,    1201,-999.0000,  25.1753,-999.0000, -999.00
 316N145_11,       I01W,     911,          1,         31,     SIH029,2,19950915,       0034,     8.4805,    55.4138,       4730,   151.3,  24.9802,  35.5948,2,  35.5959,2,    188.7,2,   188.3,2,    4.60,2,    5.12,2,    1.01,2,    0.61,2,-999.000,9,-999.000,9,  2036.5,2,  2326.2,2,-999.0000,9,-999.0000,9, -999.00,9, -999.00,9,  -999.0,9,    -9.0,-999.000,9,-999.000,    1503,-999.0000,  24.9473,-999.0000, -999.00
 316N145_11,       I01W,     911,          1,         30,     SIH030,2,19950915,       0034,     8.4805,    55.4138,       4730,   201.3,  20.8445,  35.2963,2,  35.2897,2,    148.7,2,   133.9,2,    9.70,2,   12.09,2,    0.03,2,    0.96,2,-999.000,9,-999.000,9,  2082.6,2,  2309.2,2,-999.0000,9,-999.0000,9, -999.00,9, -999.00,9,  -999.0,9,    -9.0,-999.000,9,-999.000,    2003,-999.0000,  20.8061,-999.0000, -999.00
 316N145_11,       I01W,     911,          1,         29,     SIH031,2,19950915,       0034,     8.4805,    55.4138,       4730,   249.9,  16.1951,  35.4067,2,  35.4062,2,     46.5,2,    48.4,2,   19.72,2,   24.04,2,    0.02,2,    1.85,2,   1.020,2,   0.550,2,  2198.8,2,  2319.3,2,-999.0000,9,-999.0000,9, -999.00,9, -999.00,9,  -999.0,9,    -9.0,-999.000,9,-999.000,    2490,-999.0000,  16.1550,-999.0000, -999.00
 316N145_11,       I01W,     911,          1,         28,     SIH032,2,19950915,       0034,     8.4805,    55.4138,       4730,   301.2,  14.1592,  35.3536,2,  35.3664,2,     40.2,2,    55.2,2,   22.27,2,   24.82,2,    0.01,2,    1.90,2,-999.000,9,-999.000,9,  2210.3,2,  2320.2,2,-999.0000,9,-999.0000,9, -999.00,9, -999.00,9,  -999.0,9,    -9.0,-999.000,9,-999.000,    3003,-999.0000,  14.1151,-999.0000, -999.00
 316N145_11,       I01W,     911,          1,         27,     SIH033,2,19950915,       0034,     8.4805,    55.4138,       4730,   402.1,  12.2079,  35.3337,2,  35.3309,2,     37.5,2,    48.5,2,   29.39,2,   28.48,2,    0.00,2,    2.13,2,   0.512,2,   0.273,2,  2233.0,2,  2322.6,2,-999.0000,9,-999.0000,9, -999.00,9, -999.00,9,  -999.0,9,    -9.0,-999.000,9,-999.000,    4012,-999.0000,  12.1542,-999.0000, -999.00
 316N145_11,       I01W,     911,          1,         26,     SIH037,2,19950915,       0034,     8.4805,    55.4138,       4730,   502.1,  11.4292,  35.3124,2,  35.3108,2,     30.7,2,    37.8,2,   34.67,2,   30.99,2,    0.00,2,    2.30,2,-999.000,9,-999.000,9,  2247.2,2,  2325.4,2,-999.0000,9,-999.0000,9, -999.00,9, -999.00,9,  -999.0,9,    -9.0,-999.000,9,-999.000,    5013,-999.0000,  11.3646,-999.0000, -999.00
 316N145_11,       I01W,     911,          1,         25,     SI9446,3,19950915,       0034,     8.4805,    55.4138,       4730,   601.3,  10.6557,  35.3133,3,  35.3122,2,     26.2,2,    30.8,2,   43.98,2,   32.84,2,    0.01,2,    2.47,2,   0.128,2,   0.067,2,  -999.0,9,  -999.0,9,-999.0000,9,-999.0000,9, -999.00,9, -999.00,9,  -999.0,9,    -9.0,-999.000,9,-999.000,    6005,-999.0000,  10.5815,-999.0000, -999.00
 316N145_11,       I01W,     911,          1,         24,     SIH036,2,19950915,       0034,     8.4805,    55.4138,       4730,   700.6,  10.0868,  35.3230,2,  35.3230,2,     21.1,2,    24.6,2,   52.93,2,   34.15,2,    0.02,2,    2.60,2,-999.000,9,-999.000,9,  -999.0,9,  -999.0,9,-999.0000,9,-999.0000,9, -999.00,9, -999.00,9,  -999.0,9,    -9.0,-999.000,9,-999.000,    6998,-999.0000,  10.0026,-999.0000, -999.00
 316N145_11,       I01W,     911,          1,         23,     SIH001,2,19950915,       0034,     8.4805,    55.4138,       4730,   801.7,   9.7323,  35.3643,2,  35.3662,2,     20.5,2,    20.2,2,   60.06,2,   34.75,2,    0.00,2,    2.66,2,   0.052,2,   0.025,2,  2283.6,2,  2351.5,2,-999.0000,9,-999.0000,9, -999.00,9, -999.00,9,  -999.0,9,    -9.0,-999.000,9,-999.000,    8010,-999.0000,   9.6376,-999.0000, -999.00
 316N145_11,       I01W,     911,          1,         22,     SIH019,2,19950915,       0034,     8.4805,    55.4138,       4730,   901.0,   8.6992,  35.2648,2,  35.2647,2,     24.5,2,    26.7,2,   69.94,2,   36.19,2,    0.00,2,    2.73,2,-999.000,9,-999.000,9,  -999.0,9,  -999.0,9,-999.0000,9,-999.0000,9, -999.00,9, -999.00,9,  -999.0,9,    -9.0,-999.000,9,-999.000,    9003,-999.0000,   8.5990,-999.0000, -999.00
 316N145_11,       I01W,     911,          1,         21,     SIH025,2,19950915,       0034,     8.4805,    55.4138,       4730,  1001.5,   7.8202,  35.1848,2,  35.1835,2,     34.9,2,    33.5,2,   77.45,2,   36.81,2,    0.00,2,    2.76,2,   0.018,2,   0.008,2,  2301.7,2,  2362.3,2,-999.0000,9,-999.0000,9, -999.00,9, -999.00,9,  -999.0,9,    -9.0,-999.000,9,-999.000,   10008,-999.0000,   7.7147,-999.0000, -999.00
 316N145_11,       I01W,     911,          1,         20,     SIH004,2,19950915,       0034,     8.4805,    55.4138,       4730,  1201.6,   6.6846,  35.0797,2,  35.0776,2,     46.8,2,    45.7,2,   87.89,2,   37.41,2,    0.02,2,    2.78,2,-999.000,9,-999.000,9,  -999.0,9,  -999.0,9,-999.0000,9,-999.0000,9, -999.00,9, -999.00,9,  -999.0,9,    -9.0,-999.000,9,-999.000,   12011,-999.0000,   6.5666,-999.0000, -999.00
 316N145_11,       I01W,     911,          1,         19,     SIH005,2,19950915,       0034,     8.4805,    55.4138,       4730,  1400.1,   5.5395,  34.9871,2,  34.9868,2,     63.2,2,    63.5,2,   99.07,2,   37.39,2,    0.00,2,    2.76,2,   0.000,2,  -0.001,2,  -999.0,9,  -999.0,9,-999.0000,9,-999.0000,9, -999.00,9, -999.00,9,  -999.0,9,    -9.0,-999.000,9,-999.000,   13997,-999.0000,   5.4121,-999.0000, -999.00
 316N145_11,       I01W,     911,          1,         18,     SIH006,3,19950915,       0034,     8.4805,    55.4138,       4730,  1599.9,   4.5440,  34.9109,3,  34.9105,2,     82.7,2,    81.1,2,  108.97,2,   37.19,2,    0.00,2,    2.72,2,-999.000,9,-999.000,9,  2319.9,2,  2391.0,2,-999.0000,9,-999.0000,9, -999.00,9, -999.00,9,  -999.0,9,    -9.0,-999.000,9,-999.000,   15996,-999.0000,   4.4083,-999.0000, -999.00
 316N145_11,       I01W,     911,          1,         17,     SIH038,2,19950915,       0034,     8.4805,    55.4138,       4730,  1799.0,   3.8571,  34.8871,2,  34.8875,2,     87.3,2,    87.6,2,  120.34,2,   37.22,2,    0.02,2,    2.72,2,   0.001,2,   0.001,2,  -999.0,9,  -999.0,9,-999.0000,9,-999.0000,9, -999.00,9, -999.00,9,  -999.0,9,    -9.0,-999.000,9,-999.000,   17988,-999.0000,   3.7112,-999.0000, -999.00
 316N145_11,       I01W,     911,          1,         16,     SIH008,3,19950915,       0034,     8.4805,    55.4138,       4730,  1999.6,   3.0963,  34.8236,3,  34.8251,2,    112.1,2,   109.0,2,  126.23,2,   36.48,2,    0.00,2,    2.62,2,-999.000,9,-999.000,9,  2327.3,2,  2409.5,2,-999.0000,9,-999.0000,9, -999.00,9, -999.00,9,  -999.0,9,    -9.0,-999.000,9,-999.000,   19996,-999.0000,   2.9427,-999.0000, -999.00
 316N145_11,       I01W,     911,          1,         15,     SIH009,2,19950915,       0034,     8.4805,    55.4138,       4730,  2195.8,   2.5874,  34.7893,2,  34.7887,2,    124.9,2,   124.5,2,  129.74,2,   35.98,2,    0.00,2,    2.56,2,  -0.001,2,   0.002,2,  -999.0,9,  -999.0,9,-999.0000,9,-999.0000,9, -999.00,9, -999.00,9,  -999.0,9,    -9.0,-999.000,9,-999.000,   21959,-999.0000,   2.4240,-999.0000, -999.00
 316N145_11,       I01W,     911,          1,         14,     SIH010,2,19950915,       0034,     8.4805,    55.4138,       4730,  2397.8,   2.3302,  34.7753,2,  34.7756,2,    129.9,2,   131.1,2,  133.44,2,   35.92,2,    0.01,2,    2.54,2,-999.000,9,-999.000,9,  -999.0,9,  -999.0,9,-999.0000,9,-999.0000,9, -999.00,9, -999.00,9,  -999.0,9,    -9.0,-999.000,9,-999.000,   23981,-999.0000,   2.1528,-999.0000, -999.00
 316N145_11,       I01W,     911,          1,         13,     SIH011,3,19950915,       0034,     8.4805,    55.4138,       4730,  2595.4,   2.1042,  34.7615,3,  34.7618,2,    137.1,2,   140.4,2,  134.20,2,   35.37,2,    0.00,2,    2.49,2,   0.001,2,   0.000,2,  2320.6,2,  2416.5,2,-999.0000,9,-999.0000,9, -999.00,9, -999.00,9,  -999.0,9,    -9.0,-999.000,9,-999.000,   25958,-999.0000,   1.9126,-999.0000, -999.00
 316N145_11,       I01W,     911,          1,         12,     SIH012,2,19950915,       0034,     8.4805,    55.4138,       4730,  2797.2,   1.9388,  34.7521,2,  34.7520,2,    141.8,2,   145.2,2,  136.43,2,   35.31,2,    0.01,2,    2.48,2,-999.000,9,-999.000,9,  -999.0,9,  -999.0,9,-999.0000,9,-999.0000,9, -999.00,9, -999.00,9,  -999.0,9,    -9.0,-999.000,9,-999.000,   27977,-999.0000,   1.7316,-999.0000, -999.00
 316N145_11,       I01W,     911,          1,         11,     SI9426,2,19950915,       0034,     8.4805,    55.4138,       4730,  2999.2,   1.8283,  34.7454,2,  34.7469,2,    149.4,2,   152.3,2,  135.73,2,   34.97,2,    0.00,2,    2.44,2,  -0.002,2,  -0.001,2,  2316.3,2,  2416.7,2,-999.0000,9,-999.0000,9, -999.00,9, -999.00,9,  -999.0,9,    -9.0,-999.000,9,-999.000,   29999,-999.0000,   1.6040,-999.0000, -999.00
 316N145_11,       I01W,     911,          1,         10,     SIH014,2,19950915,       0034,     8.4805,    55.4138,       4730,  3196.0,   1.7605,  34.7418,2,  34.7414,2,    152.5,2,   155.3,2,  136.13,2,   34.91,2,    0.01,2,    2.43,2,-999.000,9,-999.000,9,  -999.0,9,  -999.0,9,-999.0000,9,-999.0000,9, -999.00,9, -999.00,9,  -999.0,9,    -9.0,-999.000,9,-999.000,   31968,-999.0000,   1.5184,-999.0000, -999.00
 316N145_11,       I01W,     911,          1,          9,     SIH015,2,19950915,       0034,     8.4805,    55.4138,       4730,  3397.9,   1.6770,  34.7368,2,  34.7360,2,    157.3,2,   160.8,2,  135.61,2,   34.57,2,    0.00,2,    2.40,2,   0.009,3,  -0.002,2,  -999.0,9,  -999.0,9,-999.0000,9,-999.0000,9, -999.00,9, -999.00,9,  -999.0,9,    -9.0,-999.000,9,-999.000,   33989,-999.0000,   1.4166,-999.0000, -999.00
 316N145_11,       I01W,     911,          1,          8,     SIH016,2,19950915,       0034,     8.4805,    55.4138,       4730,  3599.6,   1.5914,  34.7316,2,  34.7305,2,    166.0,2,   168.0,2,  134.35,2,   34.35,2,    0.01,2,    2.38,2,-999.000,9,-999.000,9,  2304.2,2,  2411.4,2,-999.0000,9,-999.0000,9, -999.00,9, -999.00,9,  -999.0,9,    -9.0,-999.000,9,-999.000,   36007,-999.0000,   1.3124,-999.0000, -999.00
 316N145_11,       I01W,     911,          1,          7,     SIH017,3,19950915,       0034,     8.4805,    55.4138,       4730,  3797.3,   1.5015,  34.7265,3,  34.7268,2,    170.7,2,   173.2,2,  134.38,2,   34.00,2,    0.01,2,    2.34,2,  -0.001,2,   0.000,2,  -999.0,9,  -999.0,9,-999.0000,9,-999.0000,9, -999.00,9, -999.00,9,  -999.0,9,    -9.0,-999.000,9,-999.000,   37985,-999.0000,   1.2042,-999.0000, -999.00
 316N145_11,       I01W,     911,          1,          6,     SIH018,2,19950915,       0034,     8.4805,    55.4138,       4730,  3994.5,   1.4412,  34.7242,2,  34.7233,2,    175.2,2,   176.3,2,  133.86,2,   33.81,2,    0.00,2,    2.33,2,-999.000,9,-999.000,9,  2297.7,2,  2403.7,2,-999.0000,9,-999.0000,9, -999.00,9, -999.00,9,  -999.0,9,    -9.0,-999.000,9,-999.000,   39959,-999.0000,   1.1242,-999.0000, -999.00
 316N145_11,       I01W,     911,          1,          5,     SIH002,2,19950915,       0034,     8.4805,    55.4138,       4730,  4194.7,   1.3870,  34.7216,2,  34.7207,2,    180.7,2,   179.6,2,  133.89,2,   33.75,2,    0.01,2,    2.32,2,  -0.001,2,  -0.002,2,  -999.0,9,  -999.0,9,-999.0000,9,-999.0000,9, -999.00,9, -999.00,9,  -999.0,9,    -9.0,-999.000,9,-999.000,   41962,-999.0000,   1.0496,-999.0000, -999.00
 316N145_11,       I01W,     911,          1,          4,     SIH020,2,19950915,       0034,     8.4805,    55.4138,       4730,  4394.5,   1.3699,  34.7197,2,  34.7190,2,    183.7,2,   181.5,2,  133.92,2,   33.60,2,    0.01,2,    2.32,2,-999.000,9,-999.000,9,  -999.0,9,  -999.0,9,-999.0000,9,-999.0000,9, -999.00,9, -999.00,9,  -999.0,9,    -9.0,-999.000,9,-999.000,   43962,-999.0000,   1.0108,-999.0000, -999.00
 316N145_11,       I01W,     911,          1,          3,     SIH021,2,19950915,       0034,     8.4805,    55.4138,       4730,  4600.1,   1.3668,  34.7190,2,  34.7186,2,    183.7,2,   182.6,2,  134.14,2,   33.60,2,    0.01,2,    2.31,2,  -0.002,2,   0.001,2,  2294.2,2,  2407.3,2,-999.0000,9,-999.0000,9, -999.00,9, -999.00,9,  -999.0,9,    -9.0,-999.000,9,-999.000,   46019,-999.0000,   0.9842,-999.0000, -999.00
 316N145_11,       I01W,     911,          1,          2,     SIH022,2,19950915,       0034,     8.4805,    55.4138,       4730,  4747.4,   1.3664,  34.7180,2,  34.7174,2,    185.5,2,   183.1,2,  135.09,2,   33.56,2,    0.01,2,    2.31,2,   0.000,2,   0.000,2,  -999.0,9,  -999.0,9,-999.0000,9,-999.0000,9, -999.00,9, -999.00,9,  -999.0,9,    -9.0,-999.000,9,-999.000,   47493,-999.0000,   0.9666,-999.0000, -999.00
 316N145_11,       I01W,     911,          1,          1,     SIH023,2,19950915,       0034,     8.4805,    55.4138,       4730,  4831.1,   1.3723,  34.7181,2,  34.7174,2,    182.6,2,   183.6,2,  135.25,2,   33.63,2,    0.01,2,    2.32,2,  -0.001,2,  -0.002,2,  2295.6,2,  2406.3,2,-999.0000,9,-999.0000,9, -999.00,9, -999.00,9,  -999.0,9,    -9.0,-999.000,9,-999.000,   48330,-999.0000,   0.9624,-999.0000, -999.00