BOTTLE,20211119CCHSIORKP
EXPOCODE,SECT_ID,STNNBR,CASTNO,SAMPNO,BTLNBR,BTLNBR_FLAG_W,DATE,TIME,LATITUDE,LONGITUDE,DEPTH,CTDPRS,CTDTMP,CTDSAL,CTDSAL_FLAG_W,SALNTY,SALNTY_FLAG_W,CTDOXY,CTDOXY_FLAG_W,OXYGEN,OXYGEN_FLAG_W,SILCAT,SILCAT_FLAG_W,NITRAT,NITRAT_FLAG_W,NITRIT,NITRIT_FLAG_W,PHSPHT,PHSPHT_FLAG_W,CFC-11,CFC-11_FLAG_W,CFC-12,CFC-12_FLAG_W,TCARBN,TCARBN_FLAG_W,ALKALI,ALKALI_FLAG_W,TRITUM,TRITUM_FLAG_W,HELIUM,HELIUM_FLAG_W,DELHE3,DELHE3_FLAG_W,DELC13,DELC13_FLAG_W,DELC14,DELC14_FLAG_W,C14ERR,NEON,NEON_FLAG_W,NEONER,CTDRAW,TRITER,THETA,HELIER,DELHER
,,,,,,,,,,,METERS,DBAR,ITS-90,PSS-78,,PSS-78,,UMOL/KG,,UMOL/KG,,UMOL/KG,,UMOL/KG,,UMOL/KG,,UMOL/KG,,PMOL/KG,,PMOL/KG,,UMOL/KG,,UMOL/KG,,TU,,NMOL/KG,,PERCNT,,/MILLE,,/MILLE,,/MILLE,NMOL/KG,,NMOL/KG,DBAR,TU,DEG C,NMOL/KG,PERCNT
 316N145_11,       I01W,     931,          1,         36,     SIH024,2,19950920,       0358,     8.6000,    64.4333,       4560,     9.7,  28.5842,  36.5925,2,  36.5947,2,    200.6,2,   202.4,2,    1.88,2,    0.03,2,    0.00,2,    0.25,2,   1.617,2,   0.955,2,  2017.5,2,  2389.8,2,-999.0000,9,-999.0000,9, -999.00,9, -999.00,9,  -999.0,9,    -9.0,-999.000,9,-999.000,      87,-999.0000,  28.5818,-999.0000, -999.00
 316N145_11,       I01W,     931,          1,         35,     SIH003,2,19950920,       0358,     8.6000,    64.4333,       4560,    30.4,  28.4617,  36.6142,2,  36.6152,2,    200.7,2,   204.1,2,    1.70,2,    0.08,2,    0.00,2,    0.26,2,-999.000,9,-999.000,9,  2020.0,2,  2390.8,2,-999.0000,9,-999.0000,9, -999.00,9, -999.00,9,  -999.0,9,    -9.0,-999.000,9,-999.000,     294,-999.0000,  28.4544,-999.0000, -999.00
 316N145_11,       I01W,     931,          1,         34,     SIH026,2,19950920,       0358,     8.6000,    64.4333,       4560,    60.3,  28.1079,  36.6054,2,  36.6094,2,    200.5,2,   200.7,2,    1.34,2,    0.13,2,    0.00,2,    0.29,2,-999.000,9,-999.000,9,  2021.4,2,  2392.1,2,-999.0000,9,   1.7390,2,    0.50,2, -999.00,9,  -999.0,9,    -9.0,   6.904,2,   0.138,     594,-999.0000,  28.0936,   0.0090,    0.20
 316N145_11,       I01W,     931,          1,         33,     SIH027,2,19950920,       0358,     8.6000,    64.4333,       4560,    89.8,  27.5899,  36.5695,2,  36.5240,2,    182.7,2,   182.0,2,    2.24,2,    2.04,2,    0.48,2,    0.45,2,   1.624,2,   0.942,2,  2040.2,2,  2386.1,2,-999.0000,9,-999.0000,9, -999.00,9, -999.00,9,  -999.0,9,    -9.0,-999.000,9,-999.000,     889,-999.0000,  27.5689,-999.0000, -999.00
 316N145_11,       I01W,     931,          1,         32,     SIH028,2,19950920,       0358,     8.6000,    64.4333,       4560,   119.6,  21.4037,  35.7196,2,  35.7053,2,     22.0,2,    26.8,2,   13.28,2,   23.52,2,    0.05,2,    1.79,2,-999.000,9,-999.000,9,  2175.1,2,  2333.7,2,-999.0000,9,-999.0000,9, -999.00,9, -999.00,9,  -999.0,9,    -9.0,-999.000,9,-999.000,    1186,-999.0000,  21.3804,-999.0000, -999.00
 316N145_11,       I01W,     931,          1,         31,     SIH029,3,19950920,       0358,     8.6000,    64.4333,       4560,   149.6,  17.8964,  35.5629,3,  35.4922,2,     -1.5,2,     7.0,2,   21.44,2,   26.21,2,    0.01,2,    2.22,2,   0.764,2,   0.434,2,  2225.8,2,  2327.4,2,-999.0000,9,-999.0000,9, -999.00,9, -999.00,9,  -999.0,9,    -9.0,-999.000,9,-999.000,    1487,-999.0000,  17.8707,-999.0000, -999.00
 316N145_11,       I01W,     931,          1,         30,     SIH030,2,19950920,       0358,     8.6000,    64.4333,       4560,   199.8,  13.9281,  35.2637,2,  35.2406,2,     20.8,2,    27.5,2,   24.53,2,   28.66,2,    0.02,2,    2.14,2,-999.000,9,-999.000,9,  2226.8,2,  2322.7,2,-999.0000,9,-999.0000,9, -999.00,9, -999.00,9,  -999.0,9,    -9.0,-999.000,9,-999.000,    1989,-999.0000,  13.8993,-999.0000, -999.00
 316N145_11,       I01W,     931,          1,         29,     SIH031,2,19950920,       0358,     8.6000,    64.4333,       4560,   250.3,  13.0660,  35.2427,2,  35.2404,2,     30.5,2,    39.8,2,   25.07,2,   28.42,2,    0.01,2,    2.08,2,   0.528,2,   0.280,2,  2225.8,2,  2324.0,2,-999.0000,9,-999.0000,9, -999.00,9, -999.00,9,  -999.0,9,    -9.0,-999.000,9,-999.000,    2493,-999.0000,  13.0313,-999.0000, -999.00
 316N145_11,       I01W,     931,          1,         28,     SIH032,3,19950920,       0358,     8.6000,    64.4333,       4560,   300.4,  12.2337,  35.2654,3,  35.2572,2,     40.1,2,    41.8,2,   27.80,2,   29.62,2,    0.01,2,    2.15,2,-999.000,9,-999.000,9,  2234.9,2,  2321.6,2,-999.0000,9,-999.0000,9, -999.00,9, -999.00,9,  -999.0,9,    -9.0,-999.000,9,-999.000,    2995,-999.0000,  12.1937,-999.0000, -999.00
 316N145_11,       I01W,     931,          1,         27,     SIH033,2,19950920,       0358,     8.6000,    64.4333,       4560,   400.6,  11.2266,  35.2333,2,  35.2314,2,     29.7,2,    29.8,2,   35.06,2,   32.42,2,    0.01,2,    2.36,2,   0.177,2,   0.097,2,  2251.2,2,  2325.5,2,-999.0000,9,   1.8730,2,    4.40,2, -999.00,9,  -999.0,9,    -9.0,   7.582,2,   0.152,    3997,-999.0000,  11.1760,   0.0090,    0.20
 316N145_11,       I01W,     931,          1,         26,     SIH037,2,19950920,       0358,     8.6000,    64.4333,       4560,   500.9,  10.6526,  35.2387,2,  35.2369,2,     28.4,2,    26.4,2,   41.94,2,   33.48,2,    0.00,2,    2.49,2,-999.000,9,-999.000,9,  -999.0,9,  -999.0,9,-999.0000,9,-999.0000,9, -999.00,9, -999.00,9,  -999.0,9,    -9.0,-999.000,9,-999.000,    5001,-999.0000,  10.5911,-999.0000, -999.00
 316N145_11,       I01W,     931,          1,         25,     SI9446,2,19950920,       0358,     8.6000,    64.4333,       4560,   601.6,  10.0974,  35.2276,2,  35.2292,2,     26.0,2,    25.9,2,   49.20,2,   34.49,2,    0.00,2,    2.59,2,   0.053,2,   0.031,2,  2271.2,2,  2340.8,2,-999.0000,9,-999.0000,9, -999.00,9, -999.00,9,  -999.0,9,    -9.0,-999.000,9,-999.000,    6008,-999.0000,  10.0255,-999.0000, -999.00
 316N145_11,       I01W,     931,          1,         24,     SIH036,2,19950920,       0358,     8.6000,    64.4333,       4560,   701.9,   9.4713,  35.1972,2,  35.1991,2,     28.0,2,    23.4,2,   57.01,2,   35.54,2,    0.00,2,    2.68,2,-999.000,9,-999.000,9,  -999.0,9,  -999.0,9,-999.0000,9,-999.0000,9, -999.00,9, -999.00,9,  -999.0,9,    -9.0,-999.000,9,-999.000,    7011,-999.0000,   9.3902,-999.0000, -999.00
 316N145_11,       I01W,     931,          1,         23,     SIH001,2,19950920,       0358,     8.6000,    64.4333,       4560,   802.5,   8.7002,  35.1609,2,  35.1642,2,     30.6,2,    27.7,2,   65.73,2,   36.40,2,    0.00,2,    2.75,2,   0.019,2,   0.010,2,  2290.5,2,  2357.6,2,-999.0000,9,-999.0000,9, -999.00,9, -999.00,9,  -999.0,9,    -9.0,-999.000,9,-999.000,    8018,-999.0000,   8.6115,-999.0000, -999.00
 316N145_11,       I01W,     931,          1,         22,     SIH019,2,19950920,       0358,     8.6000,    64.4333,       4560,   903.0,   8.1067,  35.1400,2,  35.1396,2,     33.4,2,    32.2,2,   73.18,2,   36.95,2,    0.00,2,    2.78,2,-999.000,9,-999.000,9,  -999.0,9,  -999.0,9,-999.0000,9,-999.0000,9, -999.00,9, -999.00,9,  -999.0,9,    -9.0,-999.000,9,-999.000,    9024,-999.0000,   8.0103,-999.0000, -999.00
 316N145_11,       I01W,     931,          1,         21,     SIH025,2,19950920,       0358,     8.6000,    64.4333,       4560,   998.8,   7.5369,  35.1159,2,  35.1159,2,     36.0,2,    35.3,2,   79.55,2,   37.40,2,    0.01,2,    2.82,2,   0.005,2,   0.004,2,  2304.8,2,  2367.0,2,-999.0000,9,   1.8820,2,   12.20,2, -999.00,9,  -999.0,9,    -9.0,   7.832,2,   0.157,    9982,-999.0000,   7.4338,   0.0090,    0.20
 316N145_11,       I01W,     931,          1,         20,     SIH004,2,19950920,       0358,     8.6000,    64.4333,       4560,  1098.5,   7.0025,  35.0849,2,  35.0837,2,     40.3,2,    39.1,2,   85.36,2,   37.51,2,    0.01,2,    2.81,2,-999.000,9,-999.000,9,  -999.0,9,  -999.0,9,-999.0000,9,-999.0000,9, -999.00,9, -999.00,9,  -999.0,9,    -9.0,-999.000,9,-999.000,   10979,-999.0000,   6.8928,-999.0000, -999.00
 316N145_11,       I01W,     931,          1,         19,     SIH005,2,19950920,       0358,     8.6000,    64.4333,       4560,  1200.0,   6.4462,  35.0430,2,  35.0445,2,     46.9,2,    47.3,2,   90.46,2,   37.67,2,    0.01,2,    2.81,2,   0.005,4,  -0.001,2,  2312.3,2,  2379.0,2,-999.0000,9,   1.8690,2,   11.80,2, -999.00,9,  -999.0,9,    -9.0,   7.970,2,   0.159,   11995,-999.0000,   6.3305,   0.0090,    0.20
 316N145_11,       I01W,     931,          1,         18,     SIH006,2,19950920,       0358,     8.6000,    64.4333,       4560,  1401.6,   5.3161,  34.9531,2,  34.9532,2,     60.8,2,    62.6,2,  102.29,2,   37.73,2,    0.00,2,    2.80,2,-999.000,9,-999.000,9,  -999.0,9,  -999.0,9,-999.0000,9,   1.8820,2,   13.20,2, -999.00,9,  -999.0,9,    -9.0,   8.068,2,   0.161,   14012,-999.0000,   5.1911,   0.0090,    0.20
 316N145_11,       I01W,     931,          1,         17,     SIH038,2,19950920,       0358,     8.6000,    64.4333,       4560,  1597.5,   4.3709,  34.8952,2,  34.8943,2,     77.9,2,    78.0,2,  112.66,2,   37.63,2,    0.01,2,    2.78,2,-999.000,9,-999.000,9,  2325.9,2,  2399.3,2,-999.0000,9,   1.9220,2,   13.60,2, -999.00,9,  -999.0,9,    -9.0,   8.082,2,   0.162,   15972,-999.0000,   4.2375,   0.0100,    0.20
 316N145_11,       I01W,     931,          1,         16,     SIH008,2,19950920,       0358,     8.6000,    64.4333,       4560,  1800.2,   3.5457,  34.8439,2,  34.8428,2,     96.9,2,    97.6,2,  120.85,2,   37.04,2,    0.01,2,    2.71,2,-999.000,9,-999.000,9,  -999.0,9,  -999.0,9,-999.0000,9,   1.8960,2,   14.70,2, -999.00,9,  -999.0,9,    -9.0,   8.247,2,   0.165,   18000,-999.0000,   3.4040,   0.0090,    0.20
 316N145_11,       I01W,     931,          1,         15,     SIH009,2,19950920,       0358,     8.6000,    64.4333,       4560,  2002.7,   2.8795,  34.8032,2,  34.8019,2,    116.6,2,   118.7,2,  126.14,2,   36.26,2,    0.00,2,    2.60,2,  -0.002,2,  -0.001,2,  2321.2,2,  2413.8,2,-999.0000,9,   1.9490,2,   14.60,2, -999.00,9,  -999.0,9,    -9.0,   8.300,2,   0.166,   20027,-999.0000,   2.7289,   0.0100,    0.20
 316N145_11,       I01W,     931,          1,         14,     SIH010,2,19950920,       0358,     8.6000,    64.4333,       4560,  2200.0,   2.5255,  34.7832,2,  34.7824,2,    128.0,2,   128.1,2,  129.98,2,   36.02,2,    0.00,2,    2.58,2,-999.000,9,-999.000,9,  -999.0,9,  -999.0,9,-999.0000,9,   1.9800,2,   15.00,2, -999.00,9,  -999.0,9,    -9.0,   8.358,2,   0.167,   22001,-999.0000,   2.3627,   0.0100,    0.20
 316N145_11,       I01W,     931,          1,         13,     SIH011,3,19950920,       0358,     8.6000,    64.4333,       4560,  2396.6,   2.2472,  34.7679,3,  34.7675,2,    137.3,2,   137.2,2,  131.82,2,   35.52,2,    0.00,2,    2.53,2,-999.000,9,-999.000,9,  -999.0,9,  -999.0,9,-999.0000,9,   2.0200,2,   15.80,2, -999.00,9,  -999.0,9,    -9.0,   8.260,2,   0.165,   23968,-999.0000,   2.0713,   0.0100,    0.20
 316N145_11,       I01W,     931,          1,         12,     SIH012,2,19950920,       0358,     8.6000,    64.4333,       4560,  2600.4,   2.0446,  34.7560,2,  34.7567,2,    142.0,2,   143.7,2,  134.38,2,   35.42,2,    0.01,2,    2.50,2,-999.000,9,-999.000,9,  2318.5,2,  2423.0,2,-999.0000,9,   1.9270,2,   13.40,2, -999.00,9,  -999.0,9,    -9.0,   8.385,2,   0.168,   26008,-999.0000,   1.8538,   0.0100,    0.20
 316N145_11,       I01W,     931,          1,         11,     SI9426,2,19950920,       0358,     8.6000,    64.4333,       4560,  2797.1,   1.9270,  34.7499,2,  34.7512,2,    145.1,2,   147.3,2,  136.03,2,   35.03,2,    0.00,2,    2.48,2,  -0.002,2,   0.000,2,  -999.0,9,  -999.0,9,-999.0000,9,   1.9090,2,   15.30,2, -999.00,9,  -999.0,9,    -9.0,   8.291,2,   0.166,   27976,-999.0000,   1.7201,   0.0100,    0.20
 316N145_11,       I01W,     931,          1,         10,     SIH014,2,19950920,       0358,     8.6000,    64.4333,       4560,  3000.8,   1.8392,  34.7447,2,  34.7449,2,    149.3,2,   151.3,2,  136.96,2,   35.17,2,    0.02,2,    2.47,2,-999.000,9,-999.000,9,  2318.5,2,  2423.5,2,-999.0000,9,   1.9850,2,   14.30,2, -999.00,9,  -999.0,9,    -9.0,   8.394,2,   0.168,   30014,-999.0000,   1.6145,   0.0100,    0.20
 316N145_11,       I01W,     931,          1,          9,     SIH015,2,19950920,       0358,     8.6000,    64.4333,       4560,  3198.7,   1.7713,  34.7404,2,  34.7410,2,    154.2,2,   154.8,2,  137.53,2,   35.15,2,    0.00,2,    2.47,2,-999.000,9,-999.000,9,  -999.0,9,  -999.0,9,-999.0000,9,   1.9310,2,   11.00,2, -999.00,9,  -999.0,9,    -9.0,   8.363,2,   0.167,   31995,-999.0000,   1.5286,   0.0100,    0.20
 316N145_11,       I01W,     931,          1,          8,     SIH016,2,19950920,       0358,     8.6000,    64.4333,       4560,  3402.6,   1.7165,  34.7379,2,  34.7368,2,    155.4,2,   156.6,2,  138.09,2,   35.05,2,   -0.01,2,    2.46,2,-999.000,9,-999.000,9,  -999.0,9,  -999.0,9,-999.0000,9,   1.9090,2,   14.50,2, -999.00,9,  -999.0,9,    -9.0,   8.478,2,   0.170,   34036,-999.0000,   1.4547,   0.0100,    0.20
 316N145_11,       I01W,     931,          1,          7,     SIH017,2,19950920,       0358,     8.6000,    64.4333,       4560,  3600.7,   1.6826,  34.7351,2,  34.7372,2,    157.6,2,   157.8,2,  137.93,2,   34.80,2,    0.00,2,    2.44,2,   0.004,2,   0.003,2,  2316.1,2,  2425.4,2,-999.0000,9,   1.9180,2,   15.00,2, -999.00,9,  -999.0,9,    -9.0,   8.318,2,   0.166,   36018,-999.0000,   1.4011,   0.0100,    0.20
 316N145_11,       I01W,     931,          1,          6,     SIH018,2,19950920,       0358,     8.6000,    64.4333,       4560,  3794.9,   1.6665,  34.7343,2,  34.7327,2,    162.2,2,   159.4,2,  138.32,2,   34.91,2,    0.00,2,    2.44,2,-999.000,9,-999.000,9,  -999.0,9,  -999.0,9,-999.0000,9,   1.9670,2,   15.60,2, -999.00,9,  -999.0,9,    -9.0,   8.554,2,   0.171,   37961,-999.0000,   1.3649,   0.0100,    0.20
 316N145_11,       I01W,     931,          1,          5,     SIH002,2,19950920,       0358,     8.6000,    64.4333,       4560,  3998.2,   1.6571,  34.7323,2,  34.7327,2,    159.6,2,   161.0,2,  137.61,2,   34.77,2,    0.00,2,    2.43,2,   0.000,2,   0.001,2,  2314.9,2,  2428.7,2,-999.0000,9,   1.9490,2,   14.80,2, -999.00,9,  -999.0,9,    -9.0,   8.523,2,   0.170,   39996,-999.0000,   1.3337,   0.0100,    0.20
 316N145_11,       I01W,     931,          1,          4,     SIH020,2,19950920,       0358,     8.6000,    64.4333,       4560,  4197.9,   1.6422,  34.7310,2,  34.7305,2,    162.8,2,   163.9,2,  137.81,2,   34.62,2,    0.00,2,    2.42,2,-999.000,9,-999.000,9,  -999.0,9,  -999.0,9,-999.0000,9,   1.9670,2,   14.50,2, -999.00,9,  -999.0,9,    -9.0,   8.447,2,   0.169,   41994,-999.0000,   1.2970,   0.0100,    0.20
 316N145_11,       I01W,     931,          1,          3,     SIH021,2,19950920,       0358,     8.6000,    64.4333,       4560,  4391.9,   1.6408,  34.7295,2,  34.7294,2,    162.9,2,   164.6,2,  137.46,2,   34.53,2,    0.00,2,    2.41,2,   0.003,2,  -0.001,2,  -999.0,9,  -999.0,9,-999.0000,9,   1.9850,2,   14.50,2, -999.00,9,  -999.0,9,    -9.0,   8.376,2,   0.168,   43935,-999.0000,   1.2736,   0.0100,    0.20
 316N145_11,       I01W,     931,          1,          2,     SIH022,2,19950920,       0358,     8.6000,    64.4333,       4560,  4596.8,   1.6424,  34.7279,2,  34.7307,2,    164.2,2,   164.7,2,  137.48,2,   34.48,2,    0.00,2,    2.41,2,   0.011,3,   0.000,2,  2313.3,2,  2426.9,2,-999.0000,9,-999.0000,9, -999.00,9, -999.00,9,  -999.0,9,    -9.0,-999.000,9,-999.000,   45986,-999.0000,   1.2514,-999.0000, -999.00
 316N145_11,       I01W,     931,          1,          1,     SIH023,2,19950920,       0358,     8.6000,    64.4333,       4560,  4647.7,   1.6478,  34.7289,2,  34.7305,2,    163.3,2,   165.4,2,  137.56,2,   34.53,2,    0.00,2,    2.41,2,   0.011,3,   0.003,2,  -999.0,9,  -999.0,9,-999.0000,9,   1.9450,2,   13.30,2, -999.00,9,  -999.0,9,    -9.0,   8.474,2,   0.169,   46495,-999.0000,   1.2506,   0.0100,    0.20