BOTTLE,20211119CCHSIORKP
EXPOCODE,SECT_ID,STNNBR,CASTNO,SAMPNO,BTLNBR,BTLNBR_FLAG_W,DATE,TIME,LATITUDE,LONGITUDE,DEPTH,CTDPRS,CTDTMP,CTDSAL,CTDSAL_FLAG_W,SALNTY,SALNTY_FLAG_W,CTDOXY,CTDOXY_FLAG_W,OXYGEN,OXYGEN_FLAG_W,SILCAT,SILCAT_FLAG_W,NITRAT,NITRAT_FLAG_W,NITRIT,NITRIT_FLAG_W,PHSPHT,PHSPHT_FLAG_W,CFC-11,CFC-11_FLAG_W,CFC-12,CFC-12_FLAG_W,TCARBN,TCARBN_FLAG_W,ALKALI,ALKALI_FLAG_W,TRITUM,TRITUM_FLAG_W,HELIUM,HELIUM_FLAG_W,DELHE3,DELHE3_FLAG_W,DELC13,DELC13_FLAG_W,DELC14,DELC14_FLAG_W,C14ERR,NEON,NEON_FLAG_W,NEONER,CTDRAW,TRITER,THETA,HELIER,DELHER
,,,,,,,,,,,METERS,DBAR,ITS-90,PSS-78,,PSS-78,,UMOL/KG,,UMOL/KG,,UMOL/KG,,UMOL/KG,,UMOL/KG,,UMOL/KG,,PMOL/KG,,PMOL/KG,,UMOL/KG,,UMOL/KG,,TU,,NMOL/KG,,PERCNT,,/MILLE,,/MILLE,,/MILLE,NMOL/KG,,NMOL/KG,DBAR,TU,DEG C,NMOL/KG,PERCNT
 316N145_11,       I01W,     863,          1,         35,     SIH003,2,19950901,       1556,    16.2667,    56.5555,       3710,    39.8,  18.6047,  35.6268,2,  35.6084,2,     93.9,1,    42.5,2,   18.26,2,   21.67,2,    0.77,2,    1.86,2,   1.238,2,   0.831,4,  -999.0,9,  -999.0,9,-999.0000,9,-999.0000,9, -999.00,9, -999.00,9,  -999.0,9,    -9.0,-999.000,9,-999.000,     374,-999.0000,  18.5977,-999.0000, -999.00
 316N145_11,       I01W,     863,          1,         34,     SIH026,2,19950901,       1556,    16.2667,    56.5555,       3710,    70.1,  17.0562,  35.5760,2,  35.6400,2,     10.2,1,    24.1,2,   23.78,2,   25.39,2,    0.05,2,    2.07,2,-999.000,9,-999.000,9,  -999.0,9,  -999.0,9,-999.0000,9,-999.0000,9, -999.00,9, -999.00,9,  -999.0,9,    -9.0,-999.000,9,-999.000,     677,-999.0000,  17.0446,-999.0000, -999.00
 316N145_11,       I01W,     863,          1,         33,     SIH027,2,19950901,       1556,    16.2667,    56.5555,       3710,    96.6,  16.6039,  35.6178,2,  35.6208,2,     16.7,1,    24.3,2,   25.05,2,   25.75,2,    0.02,2,    2.11,2,   0.948,2,   0.534,2,  -999.0,9,  -999.0,9,-999.0000,9,-999.0000,9, -999.00,9, -999.00,9,  -999.0,9,    -9.0,-999.000,9,-999.000,     941,-999.0000,  16.5881,-999.0000, -999.00
 316N145_11,       I01W,     863,          1,         32,     SIH028,2,19950901,       1556,    16.2667,    56.5555,       3710,   126.2,  16.1115,  35.5676,2,  35.6863,2,      9.7,1,    13.8,2,   26.54,2,   25.86,2,    0.01,2,    2.19,2,-999.000,9,-999.000,9,  -999.0,9,  -999.0,9,-999.0000,9,-999.0000,9, -999.00,9, -999.00,9,  -999.0,9,    -9.0,-999.000,9,-999.000,    1238,-999.0000,  16.0913,-999.0000, -999.00
 316N145_11,       I01W,     863,          1,         31,     SIH029,2,19950901,       1556,    16.2667,    56.5555,       3710,   160.0,  15.5160,  35.6794,2,  35.6719,2,      9.1,1,    15.3,2,   27.81,2,   26.07,2,    0.01,2,    2.19,2,   0.760,2,   0.721,4,  -999.0,9,  -999.0,9,-999.0000,9,-999.0000,9, -999.00,9, -999.00,9,  -999.0,9,    -9.0,-999.000,9,-999.000,    1575,-999.0000,  15.4911,-999.0000, -999.00
 316N145_11,       I01W,     863,          1,         30,     SIH030,2,19950901,       1556,    16.2667,    56.5555,       3710,   206.4,  14.6079,  35.7011,2,  35.6767,2,      8.6,1,    17.4,2,   30.15,2,   26.95,2,    0.00,2,    2.20,2,-999.000,9,-999.000,9,  -999.0,9,  -999.0,9,-999.0000,9,-999.0000,9, -999.00,9, -999.00,9,  -999.0,9,    -9.0,-999.000,9,-999.000,    2039,-999.0000,  14.5770,-999.0000, -999.00
 316N145_11,       I01W,     863,          1,         29,     SIH031,2,19950901,       1556,    16.2667,    56.5555,       3710,   260.0,  14.1818,  35.7950,2,  35.8026,2,      3.7,1,     6.9,2,   32.90,2,   26.28,2,    0.00,2,    2.34,2,   0.462,2,   0.269,2,  -999.0,9,  -999.0,9,-999.0000,9,-999.0000,9, -999.00,9, -999.00,9,  -999.0,9,    -9.0,-999.000,9,-999.000,    2575,-999.0000,  14.1435,-999.0000, -999.00
 316N145_11,       I01W,     863,          1,         28,     SIH032,2,19950901,       1556,    16.2667,    56.5555,       3710,   310.7,  13.6696,  35.7837,2,  35.8325,2,      1.6,1,     7.1,2,   36.52,2,   25.56,2,    0.00,2,    2.42,2,-999.000,9,-999.000,9,  -999.0,9,  -999.0,9,-999.0000,9,-999.0000,9, -999.00,9, -999.00,9,  -999.0,9,    -9.0,-999.000,9,-999.000,    3083,-999.0000,  13.6249,-999.0000, -999.00
 316N145_11,       I01W,     863,          1,         27,     SIH033,2,19950901,       1556,    16.2667,    56.5555,       3710,   409.5,  12.8870,  35.7714,2,  35.7701,2,      1.9,1,     6.0,2,   42.90,2,   26.54,2,    0.00,2,    2.52,2,   0.199,2,   0.119,2,  -999.0,9,  -999.0,9,-999.0000,9,-999.0000,9, -999.00,9, -999.00,9,  -999.0,9,    -9.0,-999.000,9,-999.000,    4071,-999.0000,  12.8301,-999.0000, -999.00
 316N145_11,       I01W,     863,          1,         26,     SIH037,2,19950901,       1556,    16.2667,    56.5555,       3710,   506.0,  12.1009,  35.6883,2,  35.6852,2,      3.1,1,     4.5,2,   48.86,2,   28.60,2,    0.00,2,    2.60,2,-999.000,9,-999.000,9,  -999.0,9,  -999.0,9,-999.0000,9,-999.0000,9, -999.00,9, -999.00,9,  -999.0,9,    -9.0,-999.000,9,-999.000,    5037,-999.0000,  12.0332,-999.0000, -999.00
 316N145_11,       I01W,     863,          1,         25,     SI9446,2,19950901,       1556,    16.2667,    56.5555,       3710,   606.6,  11.4028,  35.6273,2,  35.6251,2,      8.7,1,     8.2,2,   54.40,2,   31.91,2,    0.00,2,    2.62,2,   0.100,6,   0.049,6,  -999.0,9,  -999.0,9,-999.0000,9,-999.0000,9, -999.00,9, -999.00,9,  -999.0,9,    -9.0,-999.000,9,-999.000,    6043,-999.0000,  11.3243,-999.0000, -999.00
 316N145_11,       I01W,     863,          1,         24,     SIH036,2,19950901,       1556,    16.2667,    56.5555,       3710,   708.3,  10.7701,  35.6086,2,  35.6143,2,      9.6,1,     9.3,2,   61.43,2,   33.32,2,    0.00,2,    2.67,2,-999.000,9,-999.000,9,  -999.0,9,  -999.0,9,-999.0000,9,-999.0000,9, -999.00,9, -999.00,9,  -999.0,9,    -9.0,-999.000,9,-999.000,    7060,-999.0000,  10.6813,-999.0000, -999.00
 316N145_11,       I01W,     863,          1,         23,     SIH001,2,19950901,       1556,    16.2667,    56.5555,       3710,   809.8,   9.7552,  35.5042,2,  35.5271,2,     11.4,3,    12.5,2,   70.80,2,   34.94,2,    0.00,2,    2.75,2,   0.049,3,   0.031,2,  -999.0,9,  -999.0,9,-999.0000,9,-999.0000,9, -999.00,9, -999.00,9,  -999.0,9,    -9.0,-999.000,9,-999.000,    8077,-999.0000,   9.6591,-999.0000, -999.00
 316N145_11,       I01W,     863,          1,         22,     SIH019,2,19950901,       1556,    16.2667,    56.5555,       3710,   908.9,   9.0992,  35.4521,2,  35.4513,2,     16.3,1,    16.3,2,   77.19,2,   36.18,2,    0.00,2,    2.79,2,-999.000,9,-999.000,9,  -999.0,9,  -999.0,9,-999.0000,9,-999.0000,9, -999.00,9, -999.00,9,  -999.0,9,    -9.0,-999.000,9,-999.000,    9068,-999.0000,   8.9951,-999.0000, -999.00
 316N145_11,       I01W,     863,          1,         21,     SIH025,2,19950901,       1556,    16.2667,    56.5555,       3710,  1007.3,   8.4843,  35.3954,2,  35.3946,2,     20.2,1,    19.7,2,   83.58,2,   36.77,2,    0.00,2,    2.83,2,   0.043,2,   0.022,2,  -999.0,9,  -999.0,9,-999.0000,9,-999.0000,9, -999.00,9, -999.00,9,  -999.0,9,    -9.0,-999.000,9,-999.000,   10053,-999.0000,   8.3729,-999.0000, -999.00
 316N145_11,       I01W,     863,          1,         20,     SIH004,2,19950901,       1556,    16.2667,    56.5555,       3710,  1112.5,   7.7349,  35.2999,2,  35.3125,2,     25.7,1,    25.1,2,   89.54,2,   37.30,2,    0.00,2,    2.85,2,-999.000,9,-999.000,9,  -999.0,9,  -999.0,9,-999.0000,9,-999.0000,9, -999.00,9, -999.00,9,  -999.0,9,    -9.0,-999.000,9,-999.000,   11107,-999.0000,   7.6174,-999.0000, -999.00
 316N145_11,       I01W,     863,          1,         19,     SIH005,2,19950901,       1556,    16.2667,    56.5555,       3710,  1210.6,   7.0814,  35.2254,2,  35.2257,2,     34.0,1,    32.7,2,   96.36,2,   37.72,2,    0.00,2,    2.87,2,   0.020,2,   0.008,2,  -999.0,9,  -999.0,9,-999.0000,9,-999.0000,9, -999.00,9, -999.00,9,  -999.0,9,    -9.0,-999.000,9,-999.000,   12089,-999.0000,   6.9586,-999.0000, -999.00
 316N145_11,       I01W,     863,          1,         18,     SIH006,2,19950901,       1556,    16.2667,    56.5555,       3710,  1319.5,   6.3399,  35.1352,2,  35.1543,2,     40.5,1,    37.9,2,  103.39,2,   38.25,2,    0.00,2,    2.88,2,-999.000,9,-999.000,9,  -999.0,9,  -999.0,9,-999.0000,9,-999.0000,9, -999.00,9, -999.00,9,  -999.0,9,    -9.0,-999.000,9,-999.000,   13180,-999.0000,   6.2125,-999.0000, -999.00
 316N145_11,       I01W,     863,          1,         17,     SIH038,2,19950901,       1556,    16.2667,    56.5555,       3710,  1417.4,   5.6155,  35.0606,2,  35.0667,2,     51.4,1,    48.6,2,  111.28,2,   38.25,2,    0.00,2,    2.87,2,-999.000,9,-999.000,9,  -999.0,9,  -999.0,9,-999.0000,9,-999.0000,9, -999.00,9, -999.00,9,  -999.0,9,    -9.0,-999.000,9,-999.000,   14161,-999.0000,   5.4854,-999.0000, -999.00
 316N145_11,       I01W,     863,          1,         16,     SIH008,2,19950901,       1556,    16.2667,    56.5555,       3710,  1515.4,   4.9515,  34.9956,2,  34.9980,2,     63.1,1,    60.1,2,  118.52,2,   38.23,2,    0.01,2,    2.85,2,   0.003,2,  -0.001,2,  -999.0,9,  -999.0,9,-999.0000,9,-999.0000,9, -999.00,9, -999.00,9,  -999.0,9,    -9.0,-999.000,9,-999.000,   15142,-999.0000,   4.8190,-999.0000, -999.00
 316N145_11,       I01W,     863,          1,         15,     SIH009,2,19950901,       1556,    16.2667,    56.5555,       3710,  1615.0,   4.5263,  34.9584,2,  34.9563,2,     70.2,1,    68.0,2,  124.27,2,   38.21,2,    0.01,2,    2.83,2,-999.000,9,-999.000,9,  -999.0,9,  -999.0,9,-999.0000,9,-999.0000,9, -999.00,9, -999.00,9,  -999.0,9,    -9.0,-999.000,9,-999.000,   16140,-999.0000,   4.3891,-999.0000, -999.00
 316N145_11,       I01W,     863,          1,         14,     SIH010,2,19950901,       1556,    16.2667,    56.5555,       3710,  1817.8,   3.8494,  34.8995,2,  34.8961,2,     85.6,1,    83.3,2,  130.23,2, -999.00,9,    0.01,2,    2.78,2,  -0.001,2,  -0.001,2,  -999.0,9,  -999.0,9,-999.0000,9,-999.0000,9, -999.00,9, -999.00,9,  -999.0,9,    -9.0,-999.000,9,-999.000,   18172,-999.0000,   3.7017,-999.0000, -999.00
 316N145_11,       I01W,     863,          1,         13,     SIH011,3,19950901,       1556,    16.2667,    56.5555,       3710,  2022.4,   3.1085,  34.8381,3,  34.8383,2,    103.3,1,    98.3,2,  140.46,2,   37.49,2,    0.01,2,    2.70,2,-999.000,9,-999.000,9,  -999.0,9,  -999.0,9,-999.0000,9,-999.0000,9, -999.00,9, -999.00,9,  -999.0,9,    -9.0,-999.000,9,-999.000,   20222,-999.0000,   2.9525,-999.0000, -999.00
 316N145_11,       I01W,     863,          1,         12,     SIH012,2,19950901,       1556,    16.2667,    56.5555,       3710,  2224.1,   2.6836,  34.8062,2,  34.8125,2,    105.7,1,    99.5,2,  148.77,2,   37.64,2,    0.01,2,    2.71,2,   0.000,2,   0.000,2,  -999.0,9,  -999.0,9,-999.0000,9,-999.0000,9, -999.00,9, -999.00,9,  -999.0,9,    -9.0,-999.000,9,-999.000,   22244,-999.0000,   2.5159,-999.0000, -999.00
 316N145_11,       I01W,     863,          1,         11,     SI9426,2,19950901,       1556,    16.2667,    56.5555,       3710,  2426.9,   2.3530,  34.7815,2,  34.7868,2,    114.4,1,   106.9,2,  153.45,2,   37.40,2,    0.01,2,    2.67,2,-999.000,9,-999.000,9,  -999.0,9,  -999.0,9,-999.0000,9,-999.0000,9, -999.00,9, -999.00,9,  -999.0,9,    -9.0,-999.000,9,-999.000,   24276,-999.0000,   2.1724,-999.0000, -999.00
 316N145_11,       I01W,     863,          1,         10,     SIH014,2,19950901,       1556,    16.2667,    56.5555,       3710,  2628.4,   2.0977,  34.7703,2,  34.7659,2,    122.4,1,   115.5,2,  156.43,2,   37.07,2,    0.01,2,    2.63,2,   0.002,2,   0.005,2,  -999.0,9,  -999.0,9,-999.0000,9,-999.0000,9, -999.00,9, -999.00,9,  -999.0,9,    -9.0,-999.000,9,-999.000,   26296,-999.0000,   1.9030,-999.0000, -999.00
 316N145_11,       I01W,     863,          1,          9,     SIH015,2,19950901,       1556,    16.2667,    56.5555,       3710,  2834.7,   1.9006,  34.7524,2,  34.7559,2,    128.1,1,   120.5,2,  159.61,2,   36.94,2,    0.01,2,    2.61,2,-999.000,9,-999.000,9,  -999.0,9,  -999.0,9,-999.0000,9,-999.0000,9, -999.00,9, -999.00,9,  -999.0,9,    -9.0,-999.000,9,-999.000,   28363,-999.0000,   1.6905,-999.0000, -999.00
 316N145_11,       I01W,     863,          1,          8,     SIH016,2,19950901,       1556,    16.2667,    56.5555,       3710,  3033.5,   1.7941,  34.7457,2,  34.7439,2,    134.9,1,   126.4,2,  159.60,2,   36.55,2,    0.01,2,    2.58,2,   0.014,3,   0.025,3,  -999.0,9,  -999.0,9,-999.0000,9,-999.0000,9, -999.00,9, -999.00,9,  -999.0,9,    -9.0,-999.000,9,-999.000,   30356,-999.0000,   1.5670,-999.0000, -999.00
 316N145_11,       I01W,     863,          1,          7,     SIH017,2,19950901,       1556,    16.2667,    56.5555,       3710,  3237.9,   1.7385,  34.7408,2,  34.7406,2,    140.6,1,   131.6,2,  159.60,2,   36.50,2,    0.01,2,    2.55,2,   0.008,2,   0.007,2,  -999.0,9,  -999.0,9,-999.0000,9,-999.0000,9, -999.00,9, -999.00,9,  -999.0,9,    -9.0,-999.000,9,-999.000,   32404,-999.0000,   1.4925,-999.0000, -999.00
 316N145_11,       I01W,     863,          1,          6,     SIH018,2,19950901,       1556,    16.2667,    56.5555,       3710,  3441.2,   1.7163,  34.7393,2,  34.7376,2,    145.8,1,   136.0,2,  157.88,2,   36.05,2,    0.01,2,    2.52,2,-999.000,9,-999.000,9,  -999.0,9,  -999.0,9,-999.0000,9,-999.0000,9, -999.00,9, -999.00,9,  -999.0,9,    -9.0,-999.000,9,-999.000,   34442,-999.0000,   1.4504,-999.0000, -999.00
 316N145_11,       I01W,     863,          1,          5,     SIH002,2,19950901,       1556,    16.2667,    56.5555,       3710,  3647.3,   1.7170,  34.7383,2,  34.7368,2,    147.5,1,   139.6,2,  157.87,2,   35.93,2,    0.01,2,    2.52,2,   0.007,2,   0.005,2,  -999.0,9,  -999.0,9,-999.0000,9,-999.0000,9, -999.00,9, -999.00,9,  -999.0,9,    -9.0,-999.000,9,-999.000,   36507,-999.0000,   1.4296,-999.0000, -999.00
 316N145_11,       I01W,     863,          1,          4,     SIH020,2,19950901,       1556,    16.2667,    56.5555,       3710,  3716.3,   1.7176,  34.7374,2,  34.7378,2,    148.5,1,   140.6,2,  158.05,2,   35.90,2,    0.01,2,    2.52,2,-999.000,9,-999.000,9,  -999.0,9,  -999.0,9,-999.0000,9,-999.0000,9, -999.00,9, -999.00,9,  -999.0,9,    -9.0,-999.000,9,-999.000,   37198,-999.0000,   1.4229,-999.0000, -999.00
 316N145_11,       I01W,     863,          1,          3,     SIH021,2,19950901,       1556,    16.2667,    56.5555,       3710,  3716.3,   1.7176,  34.7374,2,  34.7370,2,    148.5,1,   140.5,2,  157.86,2,   35.92,2,    0.01,2,    2.52,2,   0.013,2,   0.008,2,  -999.0,9,  -999.0,9,-999.0000,9,-999.0000,9, -999.00,9, -999.00,9,  -999.0,9,    -9.0,-999.000,9,-999.000,   37198,-999.0000,   1.4229,-999.0000, -999.00
 316N145_11,       I01W,     863,          1,          2,     SIH022,2,19950901,       1556,    16.2667,    56.5555,       3710,  3760.2,   1.7122,  34.7379,2,  34.7366,2,    149.3,1,   141.8,2,  157.84,2,   35.89,2,    0.01,2,    2.52,2,   0.006,2,   0.006,2,  -999.0,9,  -999.0,9,-999.0000,9,-999.0000,9, -999.00,9, -999.00,9,  -999.0,9,    -9.0,-999.000,9,-999.000,   37638,-999.0000,   1.4130,-999.0000, -999.00
 316N145_11,       I01W,     863,          1,          1,     SIH023,2,19950901,       1556,    16.2667,    56.5555,       3710,  3760.2,   1.7122,  34.7379,2,  34.7353,2,    149.3,1,   142.7,2,  157.61,2,   35.88,2,    0.01,2,    2.52,2,   0.006,2,  -0.001,2,  -999.0,9,  -999.0,9,-999.0000,9,-999.0000,9, -999.00,9, -999.00,9,  -999.0,9,    -9.0,-999.000,9,-999.000,   37638,-999.0000,   1.4130,-999.0000, -999.00