BOTTLE,20211119CCHSIORKP
EXPOCODE,SECT_ID,STNNBR,CASTNO,SAMPNO,BTLNBR,BTLNBR_FLAG_W,DATE,TIME,LATITUDE,LONGITUDE,DEPTH,CTDPRS,CTDTMP,CTDSAL,CTDSAL_FLAG_W,SALNTY,SALNTY_FLAG_W,CTDOXY,CTDOXY_FLAG_W,OXYGEN,OXYGEN_FLAG_W,SILCAT,SILCAT_FLAG_W,NITRAT,NITRAT_FLAG_W,NITRIT,NITRIT_FLAG_W,PHSPHT,PHSPHT_FLAG_W,CFC-11,CFC-11_FLAG_W,CFC-12,CFC-12_FLAG_W,TCARBN,TCARBN_FLAG_W,ALKALI,ALKALI_FLAG_W,TRITUM,TRITUM_FLAG_W,HELIUM,HELIUM_FLAG_W,DELHE3,DELHE3_FLAG_W,DELC13,DELC13_FLAG_W,DELC14,DELC14_FLAG_W,C14ERR,NEON,NEON_FLAG_W,NEONER,CTDRAW,TRITER,THETA,HELIER,DELHER
,,,,,,,,,,,METERS,DBAR,ITS-90,PSS-78,,PSS-78,,UMOL/KG,,UMOL/KG,,UMOL/KG,,UMOL/KG,,UMOL/KG,,UMOL/KG,,PMOL/KG,,PMOL/KG,,UMOL/KG,,UMOL/KG,,TU,,NMOL/KG,,PERCNT,,/MILLE,,/MILLE,,/MILLE,NMOL/KG,,NMOL/KG,DBAR,TU,DEG C,NMOL/KG,PERCNT
 316N145_11,       I01W,     887,          1,         17,     SIH038,2,19950908,       1000,    14.8167,    50.8305,        560,     7.1,  21.9208,  35.7536,2,  35.7410,2,    175.7,2,   149.1,2,   10.36,2,   11.53,2,    0.28,2,    1.19,2,-999.000,9,-999.000,9,  2114.0,2,  2335.7,2,-999.0000,9,-999.0000,9, -999.00,9, -999.00,9,  -999.0,9,    -9.0,-999.000,9,-999.000,      48,-999.0000,  21.9194,-999.0000, -999.00
 316N145_11,       I01W,     887,          1,         16,     SIH008,2,19950908,       1000,    14.8167,    50.8305,        560,    17.4,  19.9782,  35.6783,2,  35.6808,2,    111.1,2,    52.0,2,   13.03,2,   20.16,2,    0.64,2,    1.73,2,   1.284,3,   0.700,2,  2192.6,2,  2325.8,2,-999.0000,9,   1.7370,2,    2.27,2, -999.00,9,  -999.0,9,    -9.0,   6.986,2,   0.035,     151,-999.0000,  19.9749,   0.0087,    0.14
 316N145_11,       I01W,     887,          1,         15,     SIH009,2,19950908,       1000,    14.8167,    50.8305,        560,    37.7,  17.8550,  35.6507,2,  35.6534,2,     15.1,2,     9.9,2,   20.43,2,   25.60,2,    0.22,2,    2.14,2,-999.000,9,-999.000,9,  2230.0,2,  2325.1,2,-999.0000,9,-999.0000,9, -999.00,9, -999.00,9,  -999.0,9,    -9.0,-999.000,9,-999.000,     354,-999.0000,  17.8486,-999.0000, -999.00
 316N145_11,       I01W,     887,          1,         14,     SIH010,2,19950908,       1000,    14.8167,    50.8305,        560,    57.6,  16.7288,  35.6245,2,  35.6222,2,     15.4,2,    14.7,2,   22.33,2,   25.84,2,    0.08,2,    2.17,2,-999.000,9,-999.000,9,  2231.9,2,  2325.7,2,-999.0000,9,   1.7433,2,    3.63,2, -999.00,9,  -999.0,9,    -9.0,   7.068,2,   0.035,     553,-999.0000,  16.7194,   0.0087,    0.14
 316N145_11,       I01W,     887,          1,         13,     SIH011,2,19950908,       1000,    14.8167,    50.8305,        560,    82.5,  15.9127,  35.5592,2,  35.5048,2,     28.9,2,    37.3,2,   22.33,2,   24.85,2,    0.04,2,    2.01,2,-999.000,9,-999.000,9,  2218.7,2,  2322.0,2,-999.0000,9,-999.0000,9, -999.00,9, -999.00,9,  -999.0,9,    -9.0,-999.000,9,-999.000,     802,-999.0000,  15.8996,-999.0000, -999.00
 316N145_11,       I01W,     887,          1,         12,     SIH012,2,19950908,       1000,    14.8167,    50.8305,        560,   107.9,  14.6524,  35.3129,2,  35.3254,2,     59.0,2,    60.7,2,   21.20,2,   24.30,2,    0.03,2,    1.83,2,-999.000,9,-999.000,9,  2199.8,2,  2314.6,2,-999.0000,9,   1.7657,2,    4.14,2, -999.00,9,  -999.0,9,    -9.0,   7.196,2,   0.036,    1056,-999.0000,  14.6363,   0.0088,    0.14
 316N145_11,       I01W,     887,          1,         11,     SI9426,2,19950908,       1000,    14.8167,    50.8305,        560,   138.3,  14.2162,  35.3906,2,  35.3662,2,     54.8,2,    57.6,2,   22.72,2,   24.91,2,    0.03,2,    1.89,2,-999.000,9,-999.000,9,  2208.8,2,  2318.9,2,-999.0000,9,-999.0000,9, -999.00,9, -999.00,9,  -999.0,9,    -9.0,-999.000,9,-999.000,    1360,-999.0000,  14.1959,-999.0000, -999.00
 316N145_11,       I01W,     887,          1,          9,     SIH015,2,19950908,       1000,    14.8167,    50.8305,        560,   167.9,  13.7858,  35.3754,2,  35.3520,2,     63.7,2,    59.6,2,   23.67,2,   25.33,2,    0.02,2,    1.92,2,-999.000,9,-999.000,9,  2212.6,2,  2318.2,2,-999.0000,9,-999.0000,9, -999.00,9, -999.00,9,  -999.0,9,    -9.0,-999.000,9,-999.000,    1656,-999.0000,  13.7618,-999.0000, -999.00
 316N145_11,       I01W,     887,          1,         10,     SIH014,2,19950908,       1000,    14.8167,    50.8305,        560,   168.2,  13.7571,  35.3665,2,-999.0000,9,     63.7,2,  -999.0,9, -999.00,9, -999.00,9, -999.00,9, -999.00,9,-999.000,9,-999.000,9,  -999.0,9,  -999.0,9,-999.0000,9,   1.7678,2,    4.37,2, -999.00,9,  -999.0,9,    -9.0,   7.264,2,   0.036,    1659,-999.0000,  13.7330,   0.0088,    0.14
 316N145_11,       I01W,     887,          1,          8,     SIH016,2,19950908,       1000,    14.8167,    50.8305,        560,   198.3,  13.4848,  35.3880,2,  35.4222,2,     50.3,2,    48.8,2,   25.38,2,   26.32,2,    0.02,2,    2.01,2,-999.000,9,-999.000,9,  2222.8,2,  2322.8,2,-999.0000,9,-999.0000,9, -999.00,9, -999.00,9,  -999.0,9,    -9.0,-999.000,9,-999.000,    1960,-999.0000,  13.4567,-999.0000, -999.00
 316N145_11,       I01W,     887,          1,          7,     SIH017,2,19950908,       1000,    14.8167,    50.8305,        560,   248.3,  13.9221,  35.7132,2,  35.7061,2,     20.4,2,    19.0,2,   29.37,2,   27.85,2,    0.02,2,    2.23,2,   0.519,2,   0.292,2,  -999.0,9,  -999.0,9,   0.3849,2,   1.7791,2,    5.61,2, -999.00,9,  -999.0,9,    -9.0,   7.297,2,   0.036,    2460,   0.0028,  13.8861,   0.0089,    0.14
 316N145_11,       I01W,     887,          1,          6,     SIH018,2,19950908,       1000,    14.8167,    50.8305,        560,   298.8,  13.2445,  35.6341,2,  35.6198,2,     21.7,2,    18.8,2,   31.83,2,   28.22,2,    0.02,2,    2.30,2,-999.000,9,-999.000,9,  2255.1,2,  2332.9,2,   0.3268,2,   1.7828,2,    5.43,2, -999.00,9,  -999.0,9,    -9.0,   7.322,2,   0.037,    2966,   0.0027,  13.2025,   0.0089,    0.14
 316N145_11,       I01W,     887,          1,          5,     SIH002,2,19950908,       1000,    14.8167,    50.8305,        560,   348.6,  13.1104,  35.7231,2,  35.7264,2,     12.5,2,    11.4,2,   36.01,2,   28.43,2,    0.01,2,    2.43,2,   0.303,2,   0.171,2,  -999.0,9,  -999.0,9,   0.2842,2,   1.7500,2,    5.90,2, -999.00,9,  -999.0,9,    -9.0,   7.167,2,   0.036,    3464,   0.0026,  13.0616,   0.0088,    0.14
 316N145_11,       I01W,     887,          1,          4,     SIH020,2,19950908,       1000,    14.8167,    50.8305,        560,   398.6,  12.8398,  35.7138,2,  35.7150,2,     13.0,2,    11.3,2,   37.72,2,   28.78,2,    0.02,2,    2.45,2,-999.000,9,-999.000,9,  2267.6,2,  2339.5,2,   0.2593,2,   1.7436,2,    5.88,2, -999.00,9,  -999.0,9,    -9.0,   7.186,2,   0.036,    3964,   0.0026,  12.7846,   0.0087,    0.14
 316N145_11,       I01W,     887,          1,          3,     SIH021,2,19950908,       1000,    14.8167,    50.8305,        560,   454.2,  12.4445,  35.6985,2,  35.7000,2,     12.8,2,     8.0,2,   41.52,2,   29.28,2,    0.04,2,    2.50,2,   0.206,2,   0.112,2,  -999.0,9,  -999.0,9,   0.2201,2,   1.7736,2,    6.64,2, -999.00,9,  -999.0,9,    -9.0,   7.238,2,   0.036,    4521,   0.0025,  12.3828,   0.0089,    0.14
 316N145_11,       I01W,     887,          1,          2,     SIH022,2,19950908,       1000,    14.8167,    50.8305,        560,   499.3,  12.2521,  35.6919,2,  35.6925,2,     13.3,2,    10.0,2,   43.24,2,   29.58,2,    0.04,2,    2.53,2,   0.181,2,   0.104,2,  2274.6,2,  2344.9,2,   0.1978,2,   1.7716,2,    6.74,2, -999.00,9,  -999.0,9,    -9.0,   7.236,2,   0.036,    4972,   0.0025,  12.1848,   0.0089,    0.14
 316N145_11,       I01W,     887,          1,          1,     SIH023,2,19950908,       1000,    14.8167,    50.8305,        560,   564.6,  11.8669,  35.6746,2,  35.6757,2,     14.3,2,     8.2,2,   46.96,2,   30.17,2,    0.05,2,    2.57,2,   0.143,2,   0.075,2,  -999.0,9,  -999.0,9,-999.0000,9,-999.0000,9, -999.00,9, -999.00,9,  -999.0,9,    -9.0,-999.000,9,-999.000,    5626,-999.0000,  11.7921,-999.0000, -999.00
 316N145_11,       I01W,     888,          1,         24,     SIH036,2,19950908,       1201,    14.6638,    50.8278,       1230,     7.1,  21.0145,  35.7862,2,  35.7193,2,    120.9,2,    97.6,2,   12.63,2,   16.21,2,    0.24,2,    1.45,2,   1.380,2,   0.770,2,  2149.2,2,  2340.3,2,-999.0000,9,-999.0000,9, -999.00,9, -999.00,9,  -999.0,9,    -9.0,-999.000,9,-999.000,      49,-999.0000,  21.0131,-999.0000, -999.00
 316N145_11,       I01W,     888,          1,         23,     SIH001,2,19950908,       1201,    14.6638,    50.8278,       1230,    26.7,  18.5305,  35.5928,2,  35.5898,2,     56.1,2,    47.7,2,   17.16,2,   23.01,2,    0.24,2,    1.83,2,-999.000,9,-999.000,9,  2191.2,2,  2329.0,2,-999.0000,9,-999.0000,9, -999.00,9, -999.00,9,  -999.0,9,    -9.0,-999.000,9,-999.000,     245,-999.0000,  18.5258,-999.0000, -999.00
 316N145_11,       I01W,     888,          1,         22,     SIH019,2,19950908,       1201,    14.6638,    50.8278,       1230,    26.8,  18.5483,  35.5758,2,  35.5869,2,     55.8,2,  -999.0,9, -999.00,9, -999.00,9, -999.00,9, -999.00,9,-999.000,9,-999.000,9,  -999.0,9,  -999.0,9,-999.0000,9,-999.0000,9, -999.00,9, -999.00,9,  -999.0,9,    -9.0,-999.000,9,-999.000,     246,-999.0000,  18.5436,-999.0000, -999.00
 316N145_11,       I01W,     888,          1,         20,     SIH004,2,19950908,       1201,    14.6638,    50.8278,       1230,    57.4,  16.8121,  35.5507,2,  35.5176,2,     32.0,2,  -999.0,9, -999.00,9, -999.00,9, -999.00,9, -999.00,9,-999.000,9,-999.000,9,  -999.0,9,  -999.0,9,-999.0000,9,-999.0000,9, -999.00,9, -999.00,9,  -999.0,9,    -9.0,-999.000,9,-999.000,     552,-999.0000,  16.8027,-999.0000, -999.00
 316N145_11,       I01W,     888,          1,         21,     SIH025,2,19950908,       1201,    14.6638,    50.8278,       1230,    57.6,  16.8069,  35.5560,2,  35.5364,2,     31.9,2,    29.3,2,   21.12,2,   25.30,2,    0.03,2,    2.02,2,-999.000,9,-999.000,9,  2215.7,2,  2328.6,2,-999.0000,9,-999.0000,9, -999.00,9, -999.00,9,  -999.0,9,    -9.0,-999.000,9,-999.000,     554,-999.0000,  16.7975,-999.0000, -999.00
 316N145_11,       I01W,     888,          1,         19,     SIH005,2,19950908,       1201,    14.6638,    50.8278,       1230,    87.4,  15.5800,  35.4821,2,  35.4559,2,     44.0,2,    44.1,2,   22.07,2,   24.90,2,    0.02,2,    1.97,2,   0.934,2,   0.508,2,  2213.5,2,  2329.1,2,-999.0000,9,-999.0000,9, -999.00,9, -999.00,9,  -999.0,9,    -9.0,-999.000,9,-999.000,     852,-999.0000,  15.5664,-999.0000, -999.00
 316N145_11,       I01W,     888,          1,         18,     SIH006,2,19950908,       1201,    14.6638,    50.8278,       1230,   117.3,  14.6267,  35.4291,2,  35.4383,2,     45.5,2,    46.1,2,   23.57,2,   25.54,2,    0.01,2,    1.99,2,-999.000,9,-999.000,9,  2216.5,2,  2327.3,2,-999.0000,9,-999.0000,9, -999.00,9, -999.00,9,  -999.0,9,    -9.0,-999.000,9,-999.000,    1151,-999.0000,  14.6092,-999.0000, -999.00
 316N145_11,       I01W,     888,          1,         17,     SIH038,2,19950908,       1201,    14.6638,    50.8278,       1230,   147.7,  14.0271,  35.4361,2,  35.4525,2,     41.3,2,    38.6,2,   25.46,2,   26.41,2,    0.01,2,    2.06,2,-999.000,9,-999.000,9,  2225.4,2,  2328.3,2,-999.0000,9,-999.0000,9, -999.00,9, -999.00,9,  -999.0,9,    -9.0,-999.000,9,-999.000,    1455,-999.0000,  14.0057,-999.0000, -999.00
 316N145_11,       I01W,     888,          1,         16,     SIH008,2,19950908,       1201,    14.6638,    50.8278,       1230,   177.8,  14.5801,  35.6783,2,  35.6703,2,     22.7,2,    20.4,2,   26.97,2,   27.08,2,    0.01,2,    2.18,2,-999.000,9,-999.000,9,  2242.3,2,  2336.3,2,-999.0000,9,-999.0000,9, -999.00,9, -999.00,9,  -999.0,9,    -9.0,-999.000,9,-999.000,    1756,-999.0000,  14.5535,-999.0000, -999.00
 316N145_11,       I01W,     888,          1,         15,     SIH009,2,19950908,       1201,    14.6638,    50.8278,       1230,   197.5,  14.1413,  35.6152,2,  35.6129,2,     29.3,2,    26.1,2,   27.53,2,   27.35,2,    0.00,2,    2.15,2,-999.000,9,-999.000,9,  2237.5,2,  2333.8,2,-999.0000,9,-999.0000,9, -999.00,9, -999.00,9,  -999.0,9,    -9.0,-999.000,9,-999.000,    1954,-999.0000,  14.1124,-999.0000, -999.00
 316N145_11,       I01W,     888,          1,         14,     SIH010,2,19950908,       1201,    14.6638,    50.8278,       1230,   222.5,  13.8566,  35.5977,2,  35.6145,2,     28.3,2,    27.7,2,   28.30,2,   27.71,2,    0.01,2,    2.16,2,-999.000,9,-999.000,9,  -999.0,9,  -999.0,9,-999.0000,9,-999.0000,9, -999.00,9, -999.00,9,  -999.0,9,    -9.0,-999.000,9,-999.000,    2203,-999.0000,  13.8245,-999.0000, -999.00
 316N145_11,       I01W,     888,          1,         13,     SIH011,2,19950908,       1201,    14.6638,    50.8278,       1230,   247.8,  13.9885,  35.7099,2,  35.7088,2,     28.1,2,    25.6,2,   28.48,2,   27.81,2,    0.01,2,    2.16,2,   0.575,2,   0.313,2,  2240.9,2,  2337.0,2,-999.0000,9,-999.0000,9, -999.00,9, -999.00,9,  -999.0,9,    -9.0,-999.000,9,-999.000,    2456,-999.0000,  13.9525,-999.0000, -999.00
 316N145_11,       I01W,     888,          1,         12,     SIH012,2,19950908,       1201,    14.6638,    50.8278,       1230,   273.1,  13.9753,  35.7695,2,  35.7718,2,     20.4,2,    19.0,2,   29.61,2,   28.08,2,    0.00,2,    2.23,2,-999.000,9,-999.000,9,  -999.0,9,  -999.0,9,-999.0000,9,-999.0000,9, -999.00,9, -999.00,9,  -999.0,9,    -9.0,-999.000,9,-999.000,    2710,-999.0000,  13.9356,-999.0000, -999.00
 316N145_11,       I01W,     888,          1,         11,     SI9426,2,19950908,       1201,    14.6638,    50.8278,       1230,   297.4,  14.0740,  35.8214,2,  35.8378,2,     20.3,2,    20.1,2,   29.99,2,   28.17,2,    0.00,2,    2.21,2,-999.000,9,-999.000,9,  2247.3,2,  2342.8,2,-999.0000,9,-999.0000,9, -999.00,9, -999.00,9,  -999.0,9,    -9.0,-999.000,9,-999.000,    2953,-999.0000,  14.0304,-999.0000, -999.00
 316N145_11,       I01W,     888,          1,         10,     SIH014,2,19950908,       1201,    14.6638,    50.8278,       1230,   398.0,  13.2301,  35.8138,2,  35.8141,2,     15.5,2,    16.1,2,   35.84,2,   28.75,2,    0.00,2,    2.37,2,   0.326,2,   0.179,2,  -999.0,9,  -999.0,9,-999.0000,9,-999.0000,9, -999.00,9, -999.00,9,  -999.0,9,    -9.0,-999.000,9,-999.000,    3960,-999.0000,  13.1739,-999.0000, -999.00
 316N145_11,       I01W,     888,          1,          9,     SIH015,2,19950908,       1201,    14.6638,    50.8278,       1230,   489.0,  12.3361,  35.6889,2,-999.0000,9,     12.3,2,  -999.0,9, -999.00,9, -999.00,9, -999.00,9, -999.00,9,-999.000,9,-999.000,9,  -999.0,9,  -999.0,9,-999.0000,9,-999.0000,9, -999.00,9, -999.00,9,  -999.0,9,    -9.0,-999.000,9,-999.000,    4870,-999.0000,  12.2700,-999.0000, -999.00
 316N145_11,       I01W,     888,          1,          8,     SIH016,2,19950908,       1201,    14.6638,    50.8278,       1230,   589.7,  11.9533,  35.7250,2,  35.7268,2,     14.0,2,    10.5,2,   46.79,2,   30.56,2,    0.00,2,    2.54,2,-999.000,9,-999.000,9,  2273.1,2,  2355.9,2,-999.0000,9,   1.8127,2,    7.27,2, -999.00,9,  -999.0,9,    -9.0,   7.430,2,   0.037,    5878,-999.0000,  11.8747,   0.0091,    0.14
 316N145_11,       I01W,     888,          1,          7,     SIH017,2,19950908,       1201,    14.6638,    50.8278,       1230,   695.4,  11.1879,  35.6795,2,  35.7187,2,     14.8,3,    13.8,2,   52.64,2,   31.97,2,    0.00,2,    2.59,2,-999.000,9,-999.000,9,  -999.0,9,  -999.0,9,-999.0000,9,   1.7978,2,    8.19,2, -999.00,9,  -999.0,9,    -9.0,   7.405,2,   0.037,    6937,-999.0000,  11.0986,   0.0090,    0.14
 316N145_11,       I01W,     888,          1,          6,     SIH018,2,19950908,       1201,    14.6638,    50.8278,       1230,   795.8,  10.4835,  35.6158,2,  35.6135,2,     16.3,2,    12.6,2,   60.95,2,   33.68,2,    0.00,2,    2.68,2,-999.000,9,-999.000,9,  2289.8,2,  2365.4,2,-999.0000,9,   1.8093,2,    9.15,2, -999.00,9,  -999.0,9,    -9.0,   7.444,2,   0.037,    7941,-999.0000,  10.3850,   0.0090,    0.14
 316N145_11,       I01W,     888,          1,          5,     SIH002,2,19950908,       1201,    14.6638,    50.8278,       1230,   896.0,   9.7634,  35.5344,2,  35.5352,2,     18.2,2,    13.6,2,   67.00,2,   34.87,2,    0.00,2,    2.73,2,-999.000,9,-999.000,9,  -999.0,9,  -999.0,9,-999.0000,9,-999.0000,9, -999.00,9, -999.00,9,  -999.0,9,    -9.0,-999.000,9,-999.000,    8945,-999.0000,   9.6565,-999.0000, -999.00
 316N145_11,       I01W,     888,          1,          4,     SIH020,2,19950908,       1201,    14.6638,    50.8278,       1230,   996.9,   9.0206,  35.4599,2,  35.4565,2,     20.2,2,    15.6,2,   73.80,2,   35.74,2,    0.01,2,    2.80,2,-999.000,9,-999.000,9,  2306.8,2,  2378.8,2,-999.0000,9,   1.8318,2,   10.53,2, -999.00,9,  -999.0,9,    -9.0,   7.537,2,   0.038,    9955,-999.0000,   8.9066,   0.0092,    0.14
 316N145_11,       I01W,     888,          1,          3,     SIH021,2,19950908,       1201,    14.6638,    50.8278,       1230,  1097.4,   8.3265,  35.3756,2,  35.3756,2,     24.0,2,    22.9,2,   80.61,2,   36.37,2,    0.01,2,    2.83,2,   0.040,2,   0.017,2,  -999.0,9,  -999.0,9,-999.0000,9,-999.0000,9, -999.00,9, -999.00,9,  -999.0,9,    -9.0,-999.000,9,-999.000,   10961,-999.0000,   8.2058,-999.0000, -999.00
 316N145_11,       I01W,     888,          1,          2,     SIH022,2,19950908,       1201,    14.6638,    50.8278,       1230,  1198.9,   7.5970,  35.2893,2,  35.2895,2,     29.3,2,    26.0,2,   86.29,2,   37.05,2,    0.01,2,    2.85,2,   0.026,2,   0.010,2,  2318.4,2,  2382.7,2,-999.0000,9,   1.8597,2,   11.37,2, -999.00,9,  -999.0,9,    -9.0,   7.676,2,   0.038,   11978,-999.0000,   7.4709,   0.0093,    0.14
 316N145_11,       I01W,     888,          1,          1,     SIH023,2,19950908,       1201,    14.6638,    50.8278,       1230,  1249.0,   7.1361,  35.2424,2,  35.2412,2,     33.6,2,    31.4,2,   90.85,2,   37.05,2,    0.01,2,    2.87,2,   0.024,2,   0.017,2,  -999.0,9,  -999.0,9,-999.0000,9,-999.0000,9, -999.00,9, -999.00,9,  -999.0,9,    -9.0,-999.000,9,-999.000,   12479,-999.0000,   7.0086,-999.0000, -999.00