BOTTLE,20211119CCHSIORKP
EXPOCODE,SECT_ID,STNNBR,CASTNO,SAMPNO,BTLNBR,BTLNBR_FLAG_W,DATE,TIME,LATITUDE,LONGITUDE,DEPTH,CTDPRS,CTDTMP,CTDSAL,CTDSAL_FLAG_W,SALNTY,SALNTY_FLAG_W,CTDOXY,CTDOXY_FLAG_W,OXYGEN,OXYGEN_FLAG_W,SILCAT,SILCAT_FLAG_W,NITRAT,NITRAT_FLAG_W,NITRIT,NITRIT_FLAG_W,PHSPHT,PHSPHT_FLAG_W,CFC-11,CFC-11_FLAG_W,CFC-12,CFC-12_FLAG_W,TCARBN,TCARBN_FLAG_W,ALKALI,ALKALI_FLAG_W,TRITUM,TRITUM_FLAG_W,HELIUM,HELIUM_FLAG_W,DELHE3,DELHE3_FLAG_W,DELC13,DELC13_FLAG_W,DELC14,DELC14_FLAG_W,C14ERR,NEON,NEON_FLAG_W,NEONER,CTDRAW,TRITER,THETA,HELIER,DELHER
,,,,,,,,,,,METERS,DBAR,ITS-90,PSS-78,,PSS-78,,UMOL/KG,,UMOL/KG,,UMOL/KG,,UMOL/KG,,UMOL/KG,,UMOL/KG,,PMOL/KG,,PMOL/KG,,UMOL/KG,,UMOL/KG,,TU,,NMOL/KG,,PERCNT,,/MILLE,,/MILLE,,/MILLE,NMOL/KG,,NMOL/KG,DBAR,TU,DEG C,NMOL/KG,PERCNT
 316N145_11,       I01W,     940,          1,         36,     SIH024,2,19950922,       2016,     8.4972,    68.9000,       4590,     6.2,  28.3679,  36.5528,2,  36.5513,2,    211.9,2,   216.2,2,    2.74,2,    0.00,2,   -0.01,2,    0.19,2,   1.621,2,   0.952,2,  2010.0,2,  2389.9,2,-999.0000,9,-999.0000,9, -999.00,9, -999.00,9,  -999.0,9,    -9.0,-999.000,9,-999.000,      54,-999.0000,  28.3664,-999.0000, -999.00
 316N145_11,       I01W,     940,          1,         35,     SIH003,2,19950922,       2016,     8.4972,    68.9000,       4590,    30.9,  28.3653,  36.5481,2,  36.5503,2,    209.4,2,   207.1,2,    2.93,2,    0.03,2,   -0.01,2,    0.20,2,-999.000,9,-999.000,9,  2010.5,2,  2387.8,2,-999.0000,9,-999.0000,9, -999.00,9, -999.00,9,  -999.0,9,    -9.0,-999.000,9,-999.000,     301,-999.0000,  28.3579,-999.0000, -999.00
 316N145_11,       I01W,     940,          1,         34,     SIH026,2,19950922,       2016,     8.4972,    68.9000,       4590,    60.8,  27.5480,  36.4851,2,  36.4863,2,    195.3,2,   187.9,2,    3.30,2,    1.90,2,    0.44,2,    0.38,2,   1.613,2,   0.947,2,  2035.2,2,  2386.0,2,-999.0000,9,-999.0000,9, -999.00,9, -999.00,9,  -999.0,9,    -9.0,-999.000,9,-999.000,     600,-999.0000,  27.5338,-999.0000, -999.00
 316N145_11,       I01W,     940,          1,         33,     SIH027,2,19950922,       2016,     8.4972,    68.9000,       4590,    90.8,  23.8552,  36.1599,2,  36.1144,2,     74.6,2,    59.0,2,    8.98,2,   19.73,2,    0.07,2,    1.51,2,   1.480,2,   0.835,2,  2155.6,2,  2353.5,2,-999.0000,9,-999.0000,9, -999.00,9, -999.00,9,  -999.0,9,    -9.0,-999.000,9,-999.000,     900,-999.0000,  23.8361,-999.0000, -999.00
 316N145_11,       I01W,     940,          1,         32,     SIH028,2,19950922,       2016,     8.4972,    68.9000,       4590,   120.4,  18.6098,  35.5325,2,  35.5279,2,      1.3,2,     6.5,2,   20.17,2,   26.04,2,    0.02,2,    2.12,2,-999.000,9,-999.000,9,  2214.9,2,  2330.2,2,-999.0000,9,-999.0000,9, -999.00,9, -999.00,9,  -999.0,9,    -9.0,-999.000,9,-999.000,    1197,-999.0000,  18.5886,-999.0000, -999.00
 316N145_11,       I01W,     940,          1,         31,     SIH029,2,19950922,       2016,     8.4972,    68.9000,       4590,   151.0,  16.1568,  35.3759,2,  35.3804,2,      1.4,2,     5.2,2,   24.58,2,   26.90,2,    0.02,2,    2.22,2,   0.571,2,   0.321,2,  2233.1,2,  2327.1,2,-999.0000,9,-999.0000,9, -999.00,9, -999.00,9,  -999.0,9,    -9.0,-999.000,9,-999.000,    1503,-999.0000,  16.1327,-999.0000, -999.00
 316N145_11,       I01W,     940,          1,         30,     SIH030,2,19950922,       2016,     8.4972,    68.9000,       4590,   200.6,  13.6079,  35.2837,2,  35.2857,2,     14.7,2,    17.8,2,   26.96,2,   28.98,2,    0.02,2,    2.20,2,-999.000,9,-999.000,9,  2241.8,2,  2322.9,2,-999.0000,9,-999.0000,9, -999.00,9, -999.00,9,  -999.0,9,    -9.0,-999.000,9,-999.000,    1999,-999.0000,  13.5794,-999.0000, -999.00
 316N145_11,       I01W,     940,          1,         29,     SIH031,2,19950922,       2016,     8.4972,    68.9000,       4590,   250.7,  12.3866,  35.2266,2,  35.2258,2,     28.2,2,    29.6,2,   28.43,2,   30.21,2,    0.00,2,    2.17,2,   0.355,6,   0.187,6,  2240.8,2,  2324.0,2,-999.0000,9,-999.0000,9, -999.00,9, -999.00,9,  -999.0,9,    -9.0,-999.000,9,-999.000,    2500,-999.0000,  12.3530,-999.0000, -999.00
 316N145_11,       I01W,     940,          1,         28,     SIH032,2,19950922,       2016,     8.4972,    68.9000,       4590,   300.8,  11.9051,  35.2447,2,  35.2452,2,     24.4,2,    27.7,2,   30.64,2,   30.91,2,    0.01,2,    2.22,2,-999.000,9,-999.000,9,  2246.8,2,  2325.9,2,-999.0000,9,-999.0000,9, -999.00,9, -999.00,9,  -999.0,9,    -9.0,-999.000,9,-999.000,    3001,-999.0000,  11.8658,-999.0000, -999.00
 316N145_11,       I01W,     940,          1,         27,     SIH033,2,19950922,       2016,     8.4972,    68.9000,       4590,   401.1,  10.8065,  35.1606,2,  35.1646,2,     24.2,2,    25.8,2,   39.08,2,   33.14,2,    0.01,2,    2.38,2,   0.122,2,   0.066,2,  2258.1,2,  2332.0,2,-999.0000,9,-999.0000,9, -999.00,9, -999.00,9,  -999.0,9,    -9.0,-999.000,9,-999.000,    4004,-999.0000,  10.7570,-999.0000, -999.00
 316N145_11,       I01W,     940,          1,         26,     SIH037,2,19950922,       2016,     8.4972,    68.9000,       4590,   500.1,  10.2804,  35.1807,2,  35.1768,2,     22.0,2,    26.4,2,   45.33,2,   33.86,2,    0.00,2,    2.48,2,   0.073,2,   0.039,2,  2266.0,2,  2337.3,2,-999.0000,9,-999.0000,9, -999.00,9, -999.00,9,  -999.0,9,    -9.0,-999.000,9,-999.000,    4995,-999.0000,  10.2203,-999.0000, -999.00
 316N145_11,       I01W,     940,          1,         25,     SI9446,3,19950922,       2016,     8.4972,    68.9000,       4590,   601.0,   9.4562,  35.1365,3,  35.1376,2,     22.1,2,    24.0,2,   55.79,2,   35.28,2,    0.00,2,    2.62,2,-999.000,9,-999.000,9,  2280.7,2,  2347.1,2,-999.0000,9,-999.0000,9, -999.00,9, -999.00,9,  -999.0,9,    -9.0,-999.000,9,-999.000,    6004,-999.0000,   9.3873,-999.0000, -999.00
 316N145_11,       I01W,     940,          1,         24,     SIH036,2,19950922,       2016,     8.4972,    68.9000,       4590,   696.5,   9.0106,  35.1422,2,  35.1402,2,     25.7,2,    26.4,2,   61.30,2,   35.63,2,    0.01,2,    2.65,2,   0.019,2,   0.011,2,  2285.4,2,  2354.2,2,-999.0000,9,-999.0000,9, -999.00,9, -999.00,9,  -999.0,9,    -9.0,-999.000,9,-999.000,    6959,-999.0000,   8.9327,-999.0000, -999.00
 316N145_11,       I01W,     940,          1,         23,     SIH001,2,19950922,       2016,     8.4972,    68.9000,       4590,   797.1,   8.3476,  35.0903,2,  35.0892,2,     28.3,2,    28.6,2,   69.39,2,   36.36,2,    0.00,2,    2.70,2,-999.000,9,-999.000,9,  2295.0,2,  2359.2,2,-999.0000,9,-999.0000,9, -999.00,9, -999.00,9,  -999.0,9,    -9.0,-999.000,9,-999.000,    7966,-999.0000,   8.2616,-999.0000, -999.00
 316N145_11,       I01W,     940,          1,         22,     SIH019,2,19950922,       2016,     8.4972,    68.9000,       4590,   898.7,   7.8712,  35.0732,2,  35.0726,2,     31.6,2,    32.3,2,   75.08,2,   36.96,2,    0.00,2,    2.73,2,   0.006,2,   0.002,2,  2299.8,2,  2364.9,2,-999.0000,9,-999.0000,9, -999.00,9, -999.00,9,  -999.0,9,    -9.0,-999.000,9,-999.000,    8983,-999.0000,   7.7769,-999.0000, -999.00
 316N145_11,       I01W,     940,          1,         21,     SIH025,2,19950922,       2016,     8.4972,    68.9000,       4590,   999.0,   7.0963,  35.0028,2,  34.9970,2,     39.9,2,    40.3,2,   82.81,2,   37.13,2,    0.00,2,    2.74,2,-999.000,9,-999.000,9,  2305.8,2,  2369.1,2,-999.0000,9,-999.0000,9, -999.00,9, -999.00,9,  -999.0,9,    -9.0,-999.000,9,-999.000,    9985,-999.0000,   6.9967,-999.0000, -999.00
 316N145_11,       I01W,     940,          1,         20,     SIH004,2,19950922,       2016,     8.4972,    68.9000,       4590,  1099.4,   6.5731,  34.9858,2,  34.9866,2,     45.4,2,    45.4,2,   88.88,2,   37.29,2,    0.00,2,    2.75,2,   0.001,2,   0.000,2,  -999.0,9,  -999.0,9,-999.0000,9,-999.0000,9, -999.00,9, -999.00,9,  -999.0,9,    -9.0,-999.000,9,-999.000,   10990,-999.0000,   6.4670,-999.0000, -999.00
 316N145_11,       I01W,     940,          1,         19,     SIH005,2,19950922,       2016,     8.4972,    68.9000,       4590,  1299.5,   5.7387,  34.9576,2,  34.9573,2,     58.1,2,    56.7,2,   98.07,2,   37.30,2,    0.00,2,    2.76,2,-999.000,9,-999.000,9,  -999.0,9,  -999.0,9,-999.0000,9,-999.0000,9, -999.00,9, -999.00,9,  -999.0,9,    -9.0,-999.000,9,-999.000,   12993,-999.0000,   5.6196,-999.0000, -999.00
 316N145_11,       I01W,     940,          1,         18,     SIH006,2,19950922,       2016,     8.4972,    68.9000,       4590,  1494.9,   4.9048,  34.9411,2,  34.9406,2,     64.9,2,    64.7,2,  108.55,2,   37.51,2,    0.00,2,    2.78,2,  -0.003,2,  -0.002,2,  -999.0,9,  -999.0,9,-999.0000,9,-999.0000,9, -999.00,9, -999.00,9,  -999.0,9,    -9.0,-999.000,9,-999.000,   14948,-999.0000,   4.7751,-999.0000, -999.00
 316N145_11,       I01W,     940,          1,         17,     SIH038,2,19950922,       2016,     8.4972,    68.9000,       4590,  1696.4,   3.8010,  34.8574,2,  34.8578,2,     91.5,2,    90.7,2,  119.22,2,   37.06,2,    0.00,2,    2.69,2,-999.000,9,-999.000,9,  -999.0,9,  -999.0,9,-999.0000,9,-999.0000,9, -999.00,9, -999.00,9,  -999.0,9,    -9.0,-999.000,9,-999.000,   16964,-999.0000,   3.6655,-999.0000, -999.00
 316N145_11,       I01W,     940,          1,         16,     SIH008,2,19950922,       2016,     8.4972,    68.9000,       4590,  1894.9,   3.2082,  34.8223,2,  34.8231,2,    108.2,2,   105.9,2,  125.12,2,   36.61,2,    0.00,2,    2.63,2,  -0.002,2,   0.000,2,  -999.0,9,  -999.0,9,-999.0000,9,-999.0000,9, -999.00,9, -999.00,9,  -999.0,9,    -9.0,-999.000,9,-999.000,   18950,-999.0000,   3.0626,-999.0000, -999.00
 316N145_11,       I01W,     940,          1,         15,     SIH009,2,19950922,       2016,     8.4972,    68.9000,       4590,  2098.5,   2.6949,  34.7910,2,  34.7913,2,    121.8,2,   120.4,2,  130.09,2,   36.06,2,    0.00,2,    2.56,2,-999.000,9,-999.000,9,  -999.0,9,  -999.0,9,-999.0000,9,-999.0000,9, -999.00,9, -999.00,9,  -999.0,9,    -9.0,-999.000,9,-999.000,   20987,-999.0000,   2.5386,-999.0000, -999.00
 316N145_11,       I01W,     940,          1,         14,     SIH010,2,19950922,       2016,     8.4972,    68.9000,       4590,  2298.6,   2.3801,  34.7736,2,  34.7730,2,    131.7,2,   130.8,2,  133.05,2,   35.67,2,    0.00,2,    2.52,2,  -0.004,2,  -0.001,2,  -999.0,9,  -999.0,9,-999.0000,9,-999.0000,9, -999.00,9, -999.00,9,  -999.0,9,    -9.0,-999.000,9,-999.000,   22989,-999.0000,   2.2110,-999.0000, -999.00
 316N145_11,       I01W,     940,          1,         13,     SIH011,3,19950922,       2016,     8.4972,    68.9000,       4590,  2496.6,   2.1510,  34.7614,3,  34.7618,2,    138.1,2,   137.4,2,  135.64,2,   35.42,2,   -0.01,2,    2.49,2,-999.000,9,-999.000,9,  -999.0,9,  -999.0,9,-999.0000,9,-999.0000,9, -999.00,9, -999.00,9,  -999.0,9,    -9.0,-999.000,9,-999.000,   24971,-999.0000,   1.9677,-999.0000, -999.00
 316N145_11,       I01W,     940,          1,         12,     SIH012,2,19950922,       2016,     8.4972,    68.9000,       4590,  2693.8,   1.9747,  34.7522,2,  34.7528,2,    143.0,2,   143.7,2,  136.93,2,   35.22,2,   -0.01,2,    2.46,2,-999.000,9,-999.000,9,  -999.0,9,  -999.0,9,-999.0000,9,-999.0000,9, -999.00,9, -999.00,9,  -999.0,9,    -9.0,-999.000,9,-999.000,   26944,-999.0000,   1.7766,-999.0000, -999.00
 316N145_11,       I01W,     940,          1,         11,     SI9426,2,19950922,       2016,     8.4972,    68.9000,       4590,  2892.6,   1.8531,  34.7458,2,  34.7475,2,    147.1,2,   148.0,2,  138.23,2,   34.88,2,    0.00,2,    2.45,2,-999.000,9,-999.000,9,  -999.0,9,  -999.0,9,-999.0000,9,-999.0000,9, -999.00,9, -999.00,9,  -999.0,9,    -9.0,-999.000,9,-999.000,   28934,-999.0000,   1.6386,-999.0000, -999.00
 316N145_11,       I01W,     940,          1,         10,     SIH014,2,19950922,       2016,     8.4972,    68.9000,       4590,  3096.4,   1.7742,  34.7406,2,  34.7400,2,    150.5,2,   152.8,2,  138.80,2,   34.89,2,   -0.01,2,    2.42,2,  -0.002,2,   0.001,2,  -999.0,9,  -999.0,9,-999.0000,9,-999.0000,9, -999.00,9, -999.00,9,  -999.0,9,    -9.0,-999.000,9,-999.000,   30973,-999.0000,   1.5416,-999.0000, -999.00
 316N145_11,       I01W,     940,          1,          9,     SIH015,2,19950922,       2016,     8.4972,    68.9000,       4590,  3296.2,   1.7285,  34.7385,2,  34.7388,2,    154.1,2,   156.1,2,  138.45,2,   34.79,2,    0.00,2,    2.42,2,-999.000,9,-999.000,9,  -999.0,9,  -999.0,9,-999.0000,9,-999.0000,9, -999.00,9, -999.00,9,  -999.0,9,    -9.0,-999.000,9,-999.000,   32973,-999.0000,   1.4771,-999.0000, -999.00
 316N145_11,       I01W,     940,          1,          8,     SIH016,3,19950922,       2016,     8.4972,    68.9000,       4590,  3494.1,   1.7101,  34.7359,3,  34.7376,2,    155.2,2,   156.9,2,  138.83,2,   34.44,2,   -0.01,2,    2.40,2,-999.000,9,-999.000,9,  -999.0,9,  -999.0,9,-999.0000,9,-999.0000,9, -999.00,9, -999.00,9,  -999.0,9,    -9.0,-999.000,9,-999.000,   34953,-999.0000,   1.4390,-999.0000, -999.00
 316N145_11,       I01W,     940,          1,          7,     SIH017,2,19950922,       2016,     8.4972,    68.9000,       4590,  3697.7,   1.6976,  34.7351,2,  34.7359,2,    156.6,2,   157.9,2,  139.39,2,   34.76,2,    0.00,2,    2.40,2,-999.000,9,-999.000,9,  -999.0,9,  -999.0,9,-999.0000,9,-999.0000,9, -999.00,9, -999.00,9,  -999.0,9,    -9.0,-999.000,9,-999.000,   36991,-999.0000,   1.4055,-999.0000, -999.00
 316N145_11,       I01W,     940,          1,          6,     SIH018,2,19950922,       2016,     8.4972,    68.9000,       4590,  3896.3,   1.6873,  34.7339,2,  34.7329,2,    157.4,2,   158.6,2,  140.32,2,   34.66,2,    0.00,2,    2.39,2,  -0.004,2,  -0.001,2,  -999.0,9,  -999.0,9,-999.0000,9,-999.0000,9, -999.00,9, -999.00,9,  -999.0,9,    -9.0,-999.000,9,-999.000,   38978,-999.0000,   1.3742,-999.0000, -999.00
 316N145_11,       I01W,     940,          1,          5,     SIH002,3,19950922,       2016,     8.4972,    68.9000,       4590,  4094.3,   1.6844,  34.7334,3,  34.7331,2,    158.9,2,   158.9,2,  140.16,2,   34.57,2,   -0.01,2,    2.39,2,-999.000,9,-999.000,9,  -999.0,9,  -999.0,9,-999.0000,9,-999.0000,9, -999.00,9, -999.00,9,  -999.0,9,    -9.0,-999.000,9,-999.000,   40960,-999.0000,   1.3496,-999.0000, -999.00
 316N145_11,       I01W,     940,          1,          4,     SIH020,2,19950922,       2016,     8.4972,    68.9000,       4590,  4293.8,   1.6762,  34.7324,2,  34.7327,2,    162.0,2,   160.9,2,  139.79,2,   34.42,2,    0.00,2,    2.39,2,-999.000,9,-999.000,9,  -999.0,9,  -999.0,9,-999.0000,9,-999.0000,9, -999.00,9, -999.00,9,  -999.0,9,    -9.0,-999.000,9,-999.000,   42956,-999.0000,   1.3192,-999.0000, -999.00
 316N145_11,       I01W,     940,          1,          3,     SIH021,2,19950922,       2016,     8.4972,    68.9000,       4590,  4498.4,   1.6685,  34.7313,2,  34.7296,2,    160.9,2,   161.2,2,  140.18,2,   34.48,2,    0.00,2,    2.38,2,-999.000,9,-999.000,9,  -999.0,9,  -999.0,9,-999.0000,9,-999.0000,9, -999.00,9, -999.00,9,  -999.0,9,    -9.0,-999.000,9,-999.000,   45003,-999.0000,   1.2882,-999.0000, -999.00
 316N145_11,       I01W,     940,          1,          2,     SIH022,2,19950922,       2016,     8.4972,    68.9000,       4590,  4631.7,   1.6756,  34.7308,2,  34.7302,2,    160.9,2,   161.5,2,  140.37,2,   34.48,2,   -0.02,2,    2.38,2,   0.000,2,   0.005,2,  -999.0,9,  -999.0,9,-999.0000,9,-999.0000,9, -999.00,9, -999.00,9,  -999.0,9,    -9.0,-999.000,9,-999.000,   46337,-999.0000,   1.2794,-999.0000, -999.00
 316N145_11,       I01W,     940,          1,          1,     SIH023,3,19950922,       2016,     8.4972,    68.9000,       4590,  4683.0,   1.6790,  34.7303,3,  34.7304,2,    161.6,2,   162.8,2,  139.60,2,   34.52,2,    0.00,2,    2.38,2,   0.001,2,   0.003,2,  -999.0,9,  -999.0,9,-999.0000,9,-999.0000,9, -999.00,9, -999.00,9,  -999.0,9,    -9.0,-999.000,9,-999.000,   46850,-999.0000,   1.2767,-999.0000, -999.00