BOTTLE,20211119CCHSIORKP
EXPOCODE,SECT_ID,STNNBR,CASTNO,SAMPNO,BTLNBR,BTLNBR_FLAG_W,DATE,TIME,LATITUDE,LONGITUDE,DEPTH,CTDPRS,CTDTMP,CTDSAL,CTDSAL_FLAG_W,SALNTY,SALNTY_FLAG_W,CTDOXY,CTDOXY_FLAG_W,OXYGEN,OXYGEN_FLAG_W,SILCAT,SILCAT_FLAG_W,NITRAT,NITRAT_FLAG_W,NITRIT,NITRIT_FLAG_W,PHSPHT,PHSPHT_FLAG_W,CFC-11,CFC-11_FLAG_W,CFC-12,CFC-12_FLAG_W,TCARBN,TCARBN_FLAG_W,ALKALI,ALKALI_FLAG_W,TRITUM,TRITUM_FLAG_W,HELIUM,HELIUM_FLAG_W,DELHE3,DELHE3_FLAG_W,DELC13,DELC13_FLAG_W,DELC14,DELC14_FLAG_W,C14ERR,NEON,NEON_FLAG_W,NEONER,CTDRAW,TRITER,THETA,HELIER,DELHER
,,,,,,,,,,,METERS,DBAR,ITS-90,PSS-78,,PSS-78,,UMOL/KG,,UMOL/KG,,UMOL/KG,,UMOL/KG,,UMOL/KG,,UMOL/KG,,PMOL/KG,,PMOL/KG,,UMOL/KG,,UMOL/KG,,TU,,NMOL/KG,,PERCNT,,/MILLE,,/MILLE,,/MILLE,NMOL/KG,,NMOL/KG,DBAR,TU,DEG C,NMOL/KG,PERCNT
 316N145_11,       I01W,     927,          1,         36,     SIH024,2,19950918,       2347,     9.0167,    62.6167,       4345,    10.4,  27.9212,  36.3073,2,  36.3077,2,    218.6,2,   216.7,2,    1.00,2,    0.09,2,    0.01,2,    0.28,2,   1.682,2,   0.976,2,  2009.3,2,  2371.3,2,-999.0000,9,-999.0000,9, -999.00,9, -999.00,9,  -999.0,9,    -9.0,-999.000,9,-999.000,      98,-999.0000,  27.9188,-999.0000, -999.00
 316N145_11,       I01W,     927,          1,         35,     SIH003,2,19950918,       2347,     9.0167,    62.6167,       4345,    30.0,  27.8086,  36.3035,2,  36.3097,2,    220.3,2,   217.7,2,    1.17,2,    0.09,2,    0.01,2,    0.29,2,   1.698,2,   0.990,2,  2009.3,2,  2369.4,2,-999.0000,9,-999.0000,9, -999.00,9, -999.00,9,  -999.0,9,    -9.0,-999.000,9,-999.000,     293,-999.0000,  27.8016,-999.0000, -999.00
 316N145_11,       I01W,     927,          1,         34,     SIH026,2,19950918,       2347,     9.0167,    62.6167,       4345,    60.7,  27.6444,  36.4108,2,  36.4111,2,    213.5,2,   213.6,2,    1.52,2,    0.05,2,    0.00,2,    0.30,2,-999.000,9,-999.000,9,  2019.1,2,  2374.6,2,-999.0000,9,-999.0000,9, -999.00,9, -999.00,9,  -999.0,9,    -9.0,-999.000,9,-999.000,     600,-999.0000,  27.6302,-999.0000, -999.00
 316N145_11,       I01W,     927,          1,         33,     SIH027,2,19950918,       2347,     9.0167,    62.6167,       4345,    90.8,  27.6631,  36.4907,2,  36.4893,2,    206.0,2,   203.9,2,    1.51,2,    0.20,2,    0.45,2,    0.34,2,   1.657,2,   0.961,2,  2026.3,2,  2384.8,2,-999.0000,9,-999.0000,9, -999.00,9, -999.00,9,  -999.0,9,    -9.0,-999.000,9,-999.000,     901,-999.0000,  27.6419,-999.0000, -999.00
 316N145_11,       I01W,     927,          1,         32,     SIH028,2,19950918,       2347,     9.0167,    62.6167,       4345,   120.3,  24.9484,  36.2579,2,  36.2505,2,    145.6,2,   125.1,2,    4.95,2,   12.68,2,    0.04,2,    1.07,2,-999.000,9,-999.000,9,  2105.7,2,  2361.7,2,-999.0000,9,-999.0000,9, -999.00,9, -999.00,9,  -999.0,9,    -9.0,-999.000,9,-999.000,    1196,-999.0000,  24.9222,-999.0000, -999.00
 316N145_11,       I01W,     927,          1,         31,     SIH029,2,19950918,       2347,     9.0167,    62.6167,       4345,   150.2,  20.2800,  35.6889,2,  35.6875,2,     10.5,2,    15.8,2,   14.56,2,   25.38,2,    0.02,2,    1.96,2,   1.175,2,   0.646,2,  2196.6,2,  2330.3,2,-999.0000,9,-999.0000,9, -999.00,9, -999.00,9,  -999.0,9,    -9.0,-999.000,9,-999.000,    1496,-999.0000,  20.2518,-999.0000, -999.00
 316N145_11,       I01W,     927,          1,         30,     SIH030,2,19950918,       2347,     9.0167,    62.6167,       4345,   200.2,  15.9251,  35.4219,2,  35.4279,2,     24.1,2,    17.1,2,   22.18,2,   26.46,2,    0.01,2,    2.14,2,-999.000,9,-999.000,9,  2226.1,2,  2325.1,2,-999.0000,9,-999.0000,9, -999.00,9, -999.00,9,  -999.0,9,    -9.0,-999.000,9,-999.000,    1996,-999.0000,  15.8934,-999.0000, -999.00
 316N145_11,       I01W,     927,          1,         29,     SIH031,2,19950918,       2347,     9.0167,    62.6167,       4345,   250.4,  13.8376,  35.3556,2,  35.3577,2,     38.4,2,    38.4,2,   23.99,2,   27.02,2,    0.01,2,    2.07,2,   0.664,2,   0.351,2,  2225.6,2,  2323.7,2,-999.0000,9,-999.0000,9, -999.00,9, -999.00,9,  -999.0,9,    -9.0,-999.000,9,-999.000,    2498,-999.0000,  13.8015,-999.0000, -999.00
 316N145_11,       I01W,     927,          1,         28,     SIH032,2,19950918,       2347,     9.0167,    62.6167,       4345,   300.5,  12.7090,  35.2894,2,  35.2913,2,     34.2,2,    42.9,2,   26.16,2,   28.24,2,    0.00,2,    2.08,2,-999.000,9,-999.000,9,  2229.0,2,  2322.9,2,-999.0000,9,-999.0000,9, -999.00,9, -999.00,9,  -999.0,9,    -9.0,-999.000,9,-999.000,    2999,-999.0000,  12.6681,-999.0000, -999.00
 316N145_11,       I01W,     927,          1,         27,     SIH033,2,19950918,       2347,     9.0167,    62.6167,       4345,   401.0,  11.2052,  35.2225,2,  35.2253,2,     29.1,2,    32.7,2,   34.69,2,   32.25,2,    0.01,2,    2.34,2,   0.189,2,   0.100,2,  -999.0,9,  -999.0,9,-999.0000,9,-999.0000,9, -999.00,9, -999.00,9,  -999.0,9,    -9.0,-999.000,9,-999.000,    4004,-999.0000,  11.1545,-999.0000, -999.00
 316N145_11,       I01W,     927,          1,         26,     SIH037,2,19950918,       2347,     9.0167,    62.6167,       4345,   501.0,  10.6979,  35.2381,2,  35.2375,2,     28.9,2,    33.5,2,   40.15,2,   32.78,2,    0.00,2,    2.42,2,-999.000,9,-999.000,9,  2256.8,2,  2331.1,2,-999.0000,9,-999.0000,9, -999.00,9, -999.00,9,  -999.0,9,    -9.0,-999.000,9,-999.000,    5005,-999.0000,  10.6362,-999.0000, -999.00
 316N145_11,       I01W,     927,          1,         25,     SI9446,3,19950918,       2347,     9.0167,    62.6167,       4345,   596.8,  10.3358,  35.2596,3,  35.2639,2,     19.0,2,    21.3,2,   47.40,2,   34.08,2,    0.01,2,    2.58,2,   0.063,2,   0.032,2,  -999.0,9,  -999.0,9,-999.0000,9,-999.0000,9, -999.00,9, -999.00,9,  -999.0,9,    -9.0,-999.000,9,-999.000,    5963,-999.0000,  10.2635,-999.0000, -999.00
 316N145_11,       I01W,     927,          1,         24,     SIH036,2,19950918,       2347,     9.0167,    62.6167,       4345,   696.7,   9.8218,  35.2717,2,  35.2637,2,     17.6,2,    19.3,2,   55.77,2,   35.01,2,    0.00,2,    2.65,2,-999.000,9,-999.000,9,  2282.8,2,  2347.7,2,-999.0000,9,-999.0000,9, -999.00,9, -999.00,9,  -999.0,9,    -9.0,-999.000,9,-999.000,    6962,-999.0000,   9.7396,-999.0000, -999.00
 316N145_11,       I01W,     927,          1,         23,     SIH001,2,19950918,       2347,     9.0167,    62.6167,       4345,   797.5,   9.0881,  35.2316,2,  35.2735,2,     21.3,3,    22.0,2,   63.40,2,   35.90,2,    0.01,2,    2.71,2,   0.022,2,   0.011,2,  -999.0,9,  -999.0,9,-999.0000,9,-999.0000,9, -999.00,9, -999.00,9,  -999.0,9,    -9.0,-999.000,9,-999.000,    7971,-999.0000,   8.9977,-999.0000, -999.00
 316N145_11,       I01W,     927,          1,         22,     SIH019,2,19950918,       2347,     9.0167,    62.6167,       4345,   898.0,   8.6590,  35.2618,2,  35.2629,2,     22.3,2,    23.5,2,   70.12,2,   36.37,2,    0.00,2,    2.76,2,   0.023,2,   0.008,2,  -999.0,9,  -999.0,9,-999.0000,9,-999.0000,9, -999.00,9, -999.00,9,  -999.0,9,    -9.0,-999.000,9,-999.000,    8976,-999.0000,   8.5594,-999.0000, -999.00
 316N145_11,       I01W,     927,          1,         21,     SIH025,2,19950918,       2347,     9.0167,    62.6167,       4345,   998.8,   7.8841,  35.2036,2,  35.1992,2,     28.8,2,    31.0,2,   77.59,2,   36.83,2,    0.01,2,    2.77,2,   0.018,4,   0.006,2,  2304.9,2,  2367.7,2,-999.0000,9,-999.0000,9, -999.00,9, -999.00,9,  -999.0,9,    -9.0,-999.000,9,-999.000,    9985,-999.0000,   7.7784,-999.0000, -999.00
 316N145_11,       I01W,     927,          1,         20,     SIH004,2,19950918,       2347,     9.0167,    62.6167,       4345,  1099.5,   7.3142,  35.1411,2,  35.1423,2,     37.4,2,    37.0,2,   82.50,2,   37.16,2,    0.00,2,    2.79,2,   0.012,2,   0.005,2,  2308.2,2,  2371.8,2,-999.0000,9,-999.0000,9, -999.00,9, -999.00,9,  -999.0,9,    -9.0,-999.000,9,-999.000,   10992,-999.0000,   7.2019,-999.0000, -999.00
 316N145_11,       I01W,     927,          1,         19,     SIH005,2,19950918,       2347,     9.0167,    62.6167,       4345,  1200.4,   6.6097,  35.0561,2,  35.0563,2,     45.5,2,    44.2,2,   88.52,2,   37.51,2,    0.01,2,    2.80,2,-999.000,9,-999.000,9,  -999.0,9,  -999.0,9,-999.0000,9,-999.0000,9, -999.00,9, -999.00,9,  -999.0,9,    -9.0,-999.000,9,-999.000,   12002,-999.0000,   6.4925,-999.0000, -999.00
 316N145_11,       I01W,     927,          1,         18,     SIH006,2,19950918,       2347,     9.0167,    62.6167,       4345,  1395.9,   5.5074,  34.9702,2,  34.9711,2,     62.1,2,    58.8,2,   99.63,2,   37.73,2,    0.00,2,    2.79,2,-999.000,9,-999.000,9,  2319.5,2,  2386.2,2,-999.0000,9,-999.0000,9, -999.00,9, -999.00,9,  -999.0,9,    -9.0,-999.000,9,-999.000,   13958,-999.0000,   5.3808,-999.0000, -999.00
 316N145_11,       I01W,     927,          1,         17,     SIH038,2,19950918,       2347,     9.0167,    62.6167,       4345,  1598.8,   4.3535,  34.8977,2,  34.8983,2,     79.8,2,    78.2,2,  112.56,2,   37.60,2,    0.00,2,    2.77,2,-999.000,9,-999.000,9,  -999.0,9,  -999.0,9,-999.0000,9,-999.0000,9, -999.00,9, -999.00,9,  -999.0,9,    -9.0,-999.000,9,-999.000,   15988,-999.0000,   4.2201,-999.0000, -999.00
 316N145_11,       I01W,     927,          1,         16,     SIH008,2,19950918,       2347,     9.0167,    62.6167,       4345,  1795.2,   3.5499,  34.8427,2,  34.8428,2,     96.3,2,    96.8,2,  120.58,2,   36.94,2,    0.01,2,    2.69,2,  -0.003,2,   0.000,2,  -999.0,9,  -999.0,9,-999.0000,9,-999.0000,9, -999.00,9, -999.00,9,  -999.0,9,    -9.0,-999.000,9,-999.000,   17953,-999.0000,   3.4087,-999.0000, -999.00
 316N145_11,       I01W,     927,          1,         15,     SIH009,2,19950918,       2347,     9.0167,    62.6167,       4345,  1997.3,   3.0056,  34.8115,2,  34.8106,2,    113.3,2,   114.6,2,  124.60,2,   36.36,2,    0.00,2,    2.62,2,-999.000,9,-999.000,9,  -999.0,9,  -999.0,9,-999.0000,9,-999.0000,9, -999.00,9, -999.00,9,  -999.0,9,    -9.0,-999.000,9,-999.000,   19976,-999.0000,   2.8536,-999.0000, -999.00
 316N145_11,       I01W,     927,          1,         14,     SIH010,2,19950918,       2347,     9.0167,    62.6167,       4345,  2200.1,   2.5375,  34.7847,2,  34.7846,2,    126.4,2,   126.9,2,  129.35,2,   35.96,2,    0.01,2,    2.57,2,-999.000,9,-999.000,9,  2322.0,2,  2414.9,2,-999.0000,9,-999.0000,9, -999.00,9, -999.00,9,  -999.0,9,    -9.0,-999.000,9,-999.000,   22005,-999.0000,   2.3745,-999.0000, -999.00
 316N145_11,       I01W,     927,          1,         13,     SIH011,2,19950918,       2347,     9.0167,    62.6167,       4345,  2397.5,   2.2843,  34.7705,2,  34.7703,2,    133.1,2,   134.7,2,  132.10,2,   35.61,2,    0.01,2,    2.53,2,  -0.002,2,  -0.002,2,  -999.0,9,  -999.0,9,-999.0000,9,-999.0000,9, -999.00,9, -999.00,9,  -999.0,9,    -9.0,-999.000,9,-999.000,   23980,-999.0000,   2.1077,-999.0000, -999.00
 316N145_11,       I01W,     927,          1,         12,     SIH012,2,19950918,       2347,     9.0167,    62.6167,       4345,  2595.3,   2.0646,  34.7595,2,  34.7592,2,    140.0,2,   141.4,2,  134.48,2,   35.43,2,    0.01,2,    2.50,2,-999.000,9,-999.000,9,  2320.9,2,  2420.3,2,-999.0000,9,-999.0000,9, -999.00,9, -999.00,9,  -999.0,9,    -9.0,-999.000,9,-999.000,   25960,-999.0000,   1.8739,-999.0000, -999.00
 316N145_11,       I01W,     927,          1,         11,     SI9426,2,19950918,       2347,     9.0167,    62.6167,       4345,  2798.0,   1.8909,  34.7477,2,  34.7492,2,    146.3,2,   148.8,2,  135.41,2,   35.24,2,    0.00,2,    2.47,2,-999.000,9,-999.000,9,  -999.0,9,  -999.0,9,-999.0000,9,-999.0000,9, -999.00,9, -999.00,9,  -999.0,9,    -9.0,-999.000,9,-999.000,   27988,-999.0000,   1.6847,-999.0000, -999.00
 316N145_11,       I01W,     927,          1,         10,     SIH014,2,19950918,       2347,     9.0167,    62.6167,       4345,  2996.2,   1.8212,  34.7442,2,  34.7441,2,    148.8,2,   150.8,2,  135.97,2,   35.25,2,    0.00,2,    2.47,2,-999.000,9,-999.000,9,  -999.0,9,  -999.0,9,-999.0000,9,-999.0000,9, -999.00,9, -999.00,9,  -999.0,9,    -9.0,-999.000,9,-999.000,   29971,-999.0000,   1.5973,-999.0000, -999.00
 316N145_11,       I01W,     927,          1,          9,     SIH015,2,19950918,       2347,     9.0167,    62.6167,       4345,  3194.2,   1.7655,  34.7408,2,  34.7402,2,    152.8,2,   154.7,2,  136.54,2,   35.12,2,    0.00,2,    2.45,2,  -0.001,2,   0.000,2,  2317.7,2,  2420.9,2,-999.0000,9,-999.0000,9, -999.00,9, -999.00,9,  -999.0,9,    -9.0,-999.000,9,-999.000,   31953,-999.0000,   1.5234,-999.0000, -999.00
 316N145_11,       I01W,     927,          1,          8,     SIH016,2,19950918,       2347,     9.0167,    62.6167,       4345,  3398.6,   1.7268,  34.7380,2,  34.7376,2,    154.3,2,   156.2,2,  136.92,2,   34.86,2,    0.01,2,    2.44,2,-999.000,9,-999.000,9,  -999.0,9,  -999.0,9,-999.0000,9,-999.0000,9, -999.00,9, -999.00,9,  -999.0,9,    -9.0,-999.000,9,-999.000,   33999,-999.0000,   1.4650,-999.0000, -999.00
 316N145_11,       I01W,     927,          1,          7,     SIH017,2,19950918,       2347,     9.0167,    62.6167,       4345,  3596.4,   1.7035,  34.7358,2,  34.7370,2,    157.8,2,   157.9,2,  136.93,2,   34.88,2,    0.00,2,    2.43,2,-999.000,9,-999.000,9,  2316.5,2,  2425.2,2,-999.0000,9,-999.0000,9, -999.00,9, -999.00,9,  -999.0,9,    -9.0,-999.000,9,-999.000,   35978,-999.0000,   1.4220,-999.0000, -999.00
 316N145_11,       I01W,     927,          1,          6,     SIH018,2,19950918,       2347,     9.0167,    62.6167,       4345,  3795.4,   1.6839,  34.7348,2,  34.7333,2,    160.7,2,   159.9,2,  137.50,2,   34.83,2,    0.01,2,    2.44,2,-999.000,9,-999.000,9,  -999.0,9,  -999.0,9,-999.0000,9,-999.0000,9, -999.00,9, -999.00,9,  -999.0,9,    -9.0,-999.000,9,-999.000,   37970,-999.0000,   1.3818,-999.0000, -999.00
 316N145_11,       I01W,     927,          1,          5,     SIH002,2,19950918,       2347,     9.0167,    62.6167,       4345,  3994.5,   1.6634,  34.7326,2,  34.7319,2,    159.3,2,   160.8,2,  137.51,2,   34.79,2,   -0.01,2,    2.43,2,  -0.004,2,  -0.001,2,  -999.0,9,  -999.0,9,-999.0000,9,-999.0000,9, -999.00,9, -999.00,9,  -999.0,9,    -9.0,-999.000,9,-999.000,   39962,-999.0000,   1.3402,-999.0000, -999.00
 316N145_11,       I01W,     927,          1,          4,     SIH020,2,19950918,       2347,     9.0167,    62.6167,       4345,  4193.2,   1.6344,  34.7312,2,  34.7307,2,    161.6,2,   163.8,2,  136.79,2,   34.66,2,    0.00,2,    2.41,2,-999.000,9,-999.000,9,  2312.3,2,  2423.0,2,-999.0000,9,-999.0000,9, -999.00,9, -999.00,9,  -999.0,9,    -9.0,-999.000,9,-999.000,   41950,-999.0000,   1.2900,-999.0000, -999.00
 316N145_11,       I01W,     927,          1,          3,     SIH021,2,19950918,       2347,     9.0167,    62.6167,       4345,  4392.8,   1.6278,  34.7290,2,  34.7282,2,    166.1,2,   164.7,2,  136.27,2,   34.61,2,    0.01,2,    2.40,2,-999.000,9,-999.000,9,  -999.0,9,  -999.0,9,-999.0000,9,-999.0000,9, -999.00,9, -999.00,9,  -999.0,9,    -9.0,-999.000,9,-999.000,   43947,-999.0000,   1.2610,-999.0000, -999.00
 316N145_11,       I01W,     927,          1,          2,     SIH022,2,19950918,       2347,     9.0167,    62.6167,       4345,  4585.9,   1.6272,  34.7279,2,  34.7290,2,    166.6,2,   166.4,2,  136.65,2,   34.47,2,   -0.01,2,    2.39,2,   0.007,2,   0.001,2,  -999.0,9,  -999.0,9,-999.0000,9,-999.0000,9, -999.00,9, -999.00,9,  -999.0,9,    -9.0,-999.000,9,-999.000,   45879,-999.0000,   1.2380,-999.0000, -999.00
 316N145_11,       I01W,     927,          1,          1,     SIH023,2,19950918,       2347,     9.0167,    62.6167,       4345,  4637.1,   1.6304,  34.7277,2,  34.7296,2,    164.8,2,   167.1,2,  136.70,2,   34.40,2,    0.00,2,    2.39,2,   0.008,2,   0.002,2,  2310.3,2,  2423.1,2,-999.0000,9,-999.0000,9, -999.00,9, -999.00,9,  -999.0,9,    -9.0,-999.000,9,-999.000,   46392,-999.0000,   1.2351,-999.0000, -999.00