BOTTLE,20211119CCHSIORKP
EXPOCODE,SECT_ID,STNNBR,CASTNO,SAMPNO,BTLNBR,BTLNBR_FLAG_W,DATE,TIME,LATITUDE,LONGITUDE,DEPTH,CTDPRS,CTDTMP,CTDSAL,CTDSAL_FLAG_W,SALNTY,SALNTY_FLAG_W,CTDOXY,CTDOXY_FLAG_W,OXYGEN,OXYGEN_FLAG_W,SILCAT,SILCAT_FLAG_W,NITRAT,NITRAT_FLAG_W,NITRIT,NITRIT_FLAG_W,PHSPHT,PHSPHT_FLAG_W,CFC-11,CFC-11_FLAG_W,CFC-12,CFC-12_FLAG_W,TCARBN,TCARBN_FLAG_W,ALKALI,ALKALI_FLAG_W,TRITUM,TRITUM_FLAG_W,HELIUM,HELIUM_FLAG_W,DELHE3,DELHE3_FLAG_W,DELC13,DELC13_FLAG_W,DELC14,DELC14_FLAG_W,C14ERR,NEON,NEON_FLAG_W,NEONER,CTDRAW,TRITER,THETA,HELIER,DELHER
,,,,,,,,,,,METERS,DBAR,ITS-90,PSS-78,,PSS-78,,UMOL/KG,,UMOL/KG,,UMOL/KG,,UMOL/KG,,UMOL/KG,,UMOL/KG,,PMOL/KG,,PMOL/KG,,UMOL/KG,,UMOL/KG,,TU,,NMOL/KG,,PERCNT,,/MILLE,,/MILLE,,/MILLE,NMOL/KG,,NMOL/KG,DBAR,TU,DEG C,NMOL/KG,PERCNT
 316N145_11,       I01W,     950,          1,         25,     SI9446,3,19950925,       0325,     8.4972,    73.4778,       1910,     8.7,  28.2676,  35.5037,3,  35.5060,2,    205.0,2,   207.9,2,    2.02,2,    0.18,2,   -0.01,2,    0.25,2,   1.636,2,   0.955,2,  1961.3,2,  2333.1,2,-999.0000,9,-999.0000,9, -999.00,9, -999.00,9,  -999.0,9,    -9.0,-999.000,9,-999.000,      82,-999.0000,  28.2656,-999.0000, -999.00
 316N145_11,       I01W,     950,          1,         24,     SIH036,2,19950925,       0325,     8.4972,    73.4778,       1910,    28.7,  27.8733,  35.9152,2,  35.8832,2,    198.8,2,   198.8,2,    2.39,2,    0.45,2,    0.11,2,    0.26,2,-999.000,9,-999.000,9,  1990.2,2,  2352.1,2,-999.0000,9,-999.0000,9, -999.00,9, -999.00,9,  -999.0,9,    -9.0,-999.000,9,-999.000,     282,-999.0000,  27.8665,-999.0000, -999.00
 316N145_11,       I01W,     950,          1,         23,     SIH001,2,19950925,       0325,     8.4972,    73.4778,       1910,    58.3,  23.4961,  35.9425,2,  35.9398,2,     54.0,2,    52.7,2,   10.04,2,   19.36,2,    0.12,2,    1.50,2,   1.362,2,   0.774,2,  2146.7,2,  2347.1,2,-999.0000,9,-999.0000,9, -999.00,9, -999.00,9,  -999.0,9,    -9.0,-999.000,9,-999.000,     578,-999.0000,  23.4840,-999.0000, -999.00
 316N145_11,       I01W,     950,          1,         22,     SIH019,2,19950925,       0325,     8.4972,    73.4778,       1910,    88.6,  19.0723,  35.3246,2,  35.3025,2,     18.7,2,    21.0,2,   19.32,2,   26.04,2,    0.02,2,    1.93,2,   0.948,3,   0.520,2,  2185.1,2,  2318.2,2,-999.0000,9,-999.0000,9, -999.00,9, -999.00,9,  -999.0,9,    -9.0,-999.000,9,-999.000,     881,-999.0000,  19.0564,-999.0000, -999.00
 316N145_11,       I01W,     950,          1,         21,     SIH025,3,19950925,       0325,     8.4972,    73.4778,       1910,   118.5,  16.6579,  35.1413,3,  35.1339,2,     22.0,2,    22.1,2,   23.69,2,   27.96,2,    0.01,2,    2.04,2,   0.731,2,   0.396,2,  2201.1,2,  2314.4,2,-999.0000,9,-999.0000,9, -999.00,9, -999.00,9,  -999.0,9,    -9.0,-999.000,9,-999.000,    1181,-999.0000,  16.6386,-999.0000, -999.00
 316N145_11,       I01W,     950,          1,         20,     SIH004,2,19950925,       0325,     8.4972,    73.4778,       1910,   148.5,  15.2636,  35.0834,2,  35.0862,2,     23.5,2,    23.0,2,   26.25,2,   29.12,2,    0.01,2,    2.11,2,-999.000,9,-999.000,9,  2211.3,2,  2317.4,2,-999.0000,9,-999.0000,9, -999.00,9, -999.00,9,  -999.0,9,    -9.0,-999.000,9,-999.000,    1480,-999.0000,  15.2409,-999.0000, -999.00
 316N145_11,       I01W,     950,          1,         19,     SIH005,2,19950925,       0325,     8.4972,    73.4778,       1910,   178.1,  14.1333,  35.0828,2,  35.0815,2,     17.3,2,    17.0,2,   28.81,2,   30.49,2,    0.01,2,    2.21,2,   0.467,2,   0.247,2,  2226.9,2,  2317.4,2,-999.0000,9,-999.0000,9, -999.00,9, -999.00,9,  -999.0,9,    -9.0,-999.000,9,-999.000,    1777,-999.0000,  14.1074,-999.0000, -999.00
 316N145_11,       I01W,     950,          1,         18,     SIH006,2,19950925,       0325,     8.4972,    73.4778,       1910,   198.2,  13.7140,  35.1006,2,  35.0955,2,     21.2,2,    19.5,2,   28.81,2,   30.65,2,    0.01,2,    2.21,2,   0.447,2,   0.235,2,  2228.8,2,  2319.6,2,-999.0000,9,-999.0000,9, -999.00,9, -999.00,9,  -999.0,9,    -9.0,-999.000,9,-999.000,    1978,-999.0000,  13.6858,-999.0000, -999.00
 316N145_11,       I01W,     950,          1,         17,     SIH038,2,19950925,       0325,     8.4972,    73.4778,       1910,   249.1,  12.9746,  35.1586,2,  35.1585,2,     39.1,2,    40.3,2,   26.08,2,   29.06,2,    0.01,2,    2.08,2,-999.000,9,-999.000,9,  2223.3,2,  2324.4,2,-999.0000,9,-999.0000,9, -999.00,9, -999.00,9,  -999.0,9,    -9.0,-999.000,9,-999.000,    2487,-999.0000,  12.9402,-999.0000, -999.00
 316N145_11,       I01W,     950,          1,         16,     SIH008,2,19950925,       0325,     8.4972,    73.4778,       1910,   298.6,  12.3356,  35.1819,2,  35.1823,2,     34.3,2,    29.4,2,   28.81,2,   30.65,2,    0.01,2,    2.21,2,   0.354,2,   0.188,2,  2237.6,2,  2325.1,2,-999.0000,9,-999.0000,9, -999.00,9, -999.00,9,  -999.0,9,    -9.0,-999.000,9,-999.000,    2982,-999.0000,  12.2957,-999.0000, -999.00
 316N145_11,       I01W,     950,          1,         15,     SIH009,2,19950925,       0325,     8.4972,    73.4778,       1910,   348.7,  11.7101,  35.2126,2,  35.2124,2,     16.4,2,    16.4,2,   34.27,2,   32.61,2,    0.01,2,    2.40,2,-999.000,9,-999.000,9,  -999.0,9,  -999.0,9,-999.0000,9,-999.0000,9, -999.00,9, -999.00,9,  -999.0,9,    -9.0,-999.000,9,-999.000,    3484,-999.0000,  11.6650,-999.0000, -999.00
 316N145_11,       I01W,     950,          1,         14,     SIH010,2,19950925,       0325,     8.4972,    73.4778,       1910,   449.4,  10.6997,  35.1831,2,  35.1823,2,     23.6,2,    22.3,2,   41.20,2,   33.82,2,    0.01,2,    2.49,2,   0.094,2,   0.046,2,  -999.0,9,  -999.0,9,-999.0000,9,-999.0000,9, -999.00,9, -999.00,9,  -999.0,9,    -9.0,-999.000,9,-999.000,    4490,-999.0000,  10.6445,-999.0000, -999.00
 316N145_11,       I01W,     950,          1,         13,     SIH011,2,19950925,       0325,     8.4972,    73.4778,       1910,   549.0,  10.0578,  35.1601,2,  35.1597,2,     22.8,2,    24.3,2,   48.49,2,   34.74,2,    0.01,2,    2.58,2,-999.000,9,-999.000,9,  2270.7,2,  2343.6,2,-999.0000,9,-999.0000,9, -999.00,9, -999.00,9,  -999.0,9,    -9.0,-999.000,9,-999.000,    5487,-999.0000,   9.9926,-999.0000, -999.00
 316N145_11,       I01W,     950,          1,         12,     SIH012,2,19950925,       0325,     8.4972,    73.4778,       1910,   650.5,   9.0560,  35.0773,2,  35.0789,2,     28.6,2,    30.2,2,   58.52,2,   35.96,2,    0.01,2,    2.66,2,   0.026,2,   0.012,2,  -999.0,9,  -999.0,9,-999.0000,9,-999.0000,9, -999.00,9, -999.00,9,  -999.0,9,    -9.0,-999.000,9,-999.000,    6502,-999.0000,   8.9831,-999.0000, -999.00
 316N145_11,       I01W,     950,          1,         11,     SI9426,2,19950925,       0325,     8.4972,    73.4778,       1910,   750.8,   8.3146,  35.0332,2,  35.0342,2,     30.9,2,    30.3,2,   67.63,2,   36.89,2,    0.01,2,    2.72,2,-999.000,9,-999.000,9,  2290.3,2,  2359.6,2,-999.0000,9,-999.0000,9, -999.00,9, -999.00,9,  -999.0,9,    -9.0,-999.000,9,-999.000,    7506,-999.0000,   8.2341,-999.0000, -999.00
 316N145_11,       I01W,     950,          1,         10,     SIH014,2,19950925,       0325,     8.4972,    73.4778,       1910,   851.1,   7.7065,  35.0279,2,  35.0295,2,     34.1,2,    33.1,2,   75.65,2,   37.27,2,    0.01,2,    2.78,2,   0.003,2,  -0.001,2,  -999.0,9,  -999.0,9,-999.0000,9,-999.0000,9, -999.00,9, -999.00,9,  -999.0,9,    -9.0,-999.000,9,-999.000,    8509,-999.0000,   7.6186,-999.0000, -999.00
 316N145_11,       I01W,     950,          1,          9,     SIH015,2,19950925,       0325,     8.4972,    73.4778,       1910,   951.3,   7.3033,  35.0063,2,  35.0053,2,     38.1,2,    37.1,2,   80.22,2,   37.49,2,    0.00,2,    2.79,2,-999.000,9,-999.000,9,  2302.7,2,  2371.6,2,-999.0000,9,-999.0000,9, -999.00,9, -999.00,9,  -999.0,9,    -9.0,-999.000,9,-999.000,    9512,-999.0000,   7.2073,-999.0000, -999.00
 316N145_11,       I01W,     950,          1,          8,     SIH016,3,19950925,       0325,     8.4972,    73.4778,       1910,  1051.3,   6.9260,  35.0111,3,  35.0110,2,     42.0,2,    41.3,2,   84.96,2,   37.66,2,    0.00,2,    2.81,2,   0.002,2,   0.000,2,  -999.0,9,  -999.0,9,-999.0000,9,-999.0000,9, -999.00,9, -999.00,9,  -999.0,9,    -9.0,-999.000,9,-999.000,   10512,-999.0000,   6.8221,-999.0000, -999.00
 316N145_11,       I01W,     950,          1,          7,     SIH017,2,19950925,       0325,     8.4972,    73.4778,       1910,  1146.5,   6.2769,  34.9652,2,  34.9636,2,     51.2,2,    52.4,2,   91.53,2,   37.77,2,    0.00,2,    2.80,2,-999.000,9,-999.000,9,  2310.7,2,  2382.5,2,-999.0000,9,-999.0000,9, -999.00,9, -999.00,9,  -999.0,9,    -9.0,-999.000,9,-999.000,   11464,-999.0000,   6.1684,-999.0000, -999.00
 316N145_11,       I01W,     950,          1,          6,     SIH018,2,19950925,       0325,     8.4972,    73.4778,       1910,  1197.8,   5.9226,  34.9466,2,  34.9455,2,     55.9,2,    54.9,2,   95.54,2,   37.77,2,    0.00,2,    2.80,2,-999.000,9,-999.000,9,  -999.0,9,  -999.0,9,-999.0000,9,-999.0000,9, -999.00,9, -999.00,9,  -999.0,9,    -9.0,-999.000,9,-999.000,   11978,-999.0000,   5.8120,-999.0000, -999.00
 316N145_11,       I01W,     950,          1,          5,     SIH002,3,19950925,       0325,     8.4972,    73.4778,       1910,  1351.0,   5.1821,  34.9053,3,  34.9044,2,     67.1,2,    68.8,2,  102.85,2,   37.60,2,    0.00,2,    2.78,2,  -0.002,2,  -0.001,2,  -999.0,9,  -999.0,9,-999.0000,9,-999.0000,9, -999.00,9, -999.00,9,  -999.0,9,    -9.0,-999.000,9,-999.000,   13511,-999.0000,   5.0634,-999.0000, -999.00
 316N145_11,       I01W,     950,          1,          4,     SIH020,2,19950925,       0325,     8.4972,    73.4778,       1910,  1497.2,   4.6235,  34.8901,2,  34.8898,2,     76.3,2,    76.0,2,  109.60,2,   37.50,2,    0.00,2,    2.77,2,-999.000,9,-999.000,9,  2321.4,2,  2402.3,2,-999.0000,9,-999.0000,9, -999.00,9, -999.00,9,  -999.0,9,    -9.0,-999.000,9,-999.000,   14974,-999.0000,   4.4967,-999.0000, -999.00
 316N145_11,       I01W,     950,          1,          3,     SIH021,2,19950925,       0325,     8.4972,    73.4778,       1910,  1694.1,   3.7338,  34.8456,2,  34.8442,2,     96.9,2,    96.4,2,  118.55,2,   37.00,2,    0.00,2,    2.71,2,-999.000,9,-999.000,9,  -999.0,9,  -999.0,9,-999.0000,9,-999.0000,9, -999.00,9, -999.00,9,  -999.0,9,    -9.0,-999.000,9,-999.000,   16944,-999.0000,   3.5994,-999.0000, -999.00
 316N145_11,       I01W,     950,          1,          2,     SIH022,2,19950925,       0325,     8.4972,    73.4778,       1910,  1879.9,   3.0113,  34.8067,2,  34.8080,2,    114.2,2,   112.3,2,  126.73,2,   36.54,2,    0.01,2,    2.63,2,  -0.001,2,   0.001,2,  2324.6,2,  2417.9,2,-999.0000,9,-999.0000,9, -999.00,9, -999.00,9,  -999.0,9,    -9.0,-999.000,9,-999.000,   18802,-999.0000,   2.8698,-999.0000, -999.00
 316N145_11,       I01W,     950,          1,          1,     SIH023,2,19950925,       0325,     8.4972,    73.4778,       1910,  1966.2,   2.9090,  34.7995,2,  34.7999,2,    117.3,2,   118.8,2,  127.70,2,   36.43,2,    0.00,2,    2.63,2,  -0.001,2,   0.001,2,  -999.0,9,  -999.0,9,-999.0000,9,-999.0000,9, -999.00,9, -999.00,9,  -999.0,9,    -9.0,-999.000,9,-999.000,   19667,-999.0000,   2.7613,-999.0000, -999.00