BOTTLE,20211119CCHSIORKP
EXPOCODE,SECT_ID,STNNBR,CASTNO,SAMPNO,BTLNBR,BTLNBR_FLAG_W,DATE,TIME,LATITUDE,LONGITUDE,DEPTH,CTDPRS,CTDTMP,CTDSAL,CTDSAL_FLAG_W,SALNTY,SALNTY_FLAG_W,CTDOXY,CTDOXY_FLAG_W,OXYGEN,OXYGEN_FLAG_W,SILCAT,SILCAT_FLAG_W,NITRAT,NITRAT_FLAG_W,NITRIT,NITRIT_FLAG_W,PHSPHT,PHSPHT_FLAG_W,CFC-11,CFC-11_FLAG_W,CFC-12,CFC-12_FLAG_W,TCARBN,TCARBN_FLAG_W,ALKALI,ALKALI_FLAG_W,TRITUM,TRITUM_FLAG_W,HELIUM,HELIUM_FLAG_W,DELHE3,DELHE3_FLAG_W,DELC13,DELC13_FLAG_W,DELC14,DELC14_FLAG_W,C14ERR,NEON,NEON_FLAG_W,NEONER,CTDRAW,TRITER,THETA,HELIER,DELHER
,,,,,,,,,,,METERS,DBAR,ITS-90,PSS-78,,PSS-78,,UMOL/KG,,UMOL/KG,,UMOL/KG,,UMOL/KG,,UMOL/KG,,UMOL/KG,,PMOL/KG,,PMOL/KG,,UMOL/KG,,UMOL/KG,,TU,,NMOL/KG,,PERCNT,,/MILLE,,/MILLE,,/MILLE,NMOL/KG,,NMOL/KG,DBAR,TU,DEG C,NMOL/KG,PERCNT
 316N145_11,       I01W,     942,          1,         36,     SIH024,2,19950923,       1006,     8.5000,    70.0000,       4465,    11.6,  28.2015,  36.4454,2,  36.4461,2,    203.9,2,   208.5,2,    1.65,2,    0.13,2,   -0.01,2,    0.25,2,   1.628,2,   0.961,2,  2002.8,2,  2379.6,2,-999.0000,9,-999.0000,9, -999.00,9,    1.44,2,    48.3,2,     3.5,-999.000,9,-999.000,     108,-999.0000,  28.1988,-999.0000, -999.00
 316N145_11,       I01W,     942,          1,         35,     SIH003,2,19950923,       1006,     8.5000,    70.0000,       4465,    31.8,  28.1298,  36.5172,2,  36.5200,2,    212.3,2,   194.9,2,    1.65,2,    0.18,2,   -0.01,2,    0.26,2,-999.000,9,-999.000,9,  2006.4,2,  2385.6,2,-999.0000,9,-999.0000,9, -999.00,9, -999.00,9,  -999.0,9,    -9.0,-999.000,9,-999.000,     310,-999.0000,  28.1223,-999.0000, -999.00
 316N145_11,       I01W,     942,          1,         34,     SIH026,2,19950923,       1006,     8.5000,    70.0000,       4465,    62.3,  27.8300,  36.5731,2,  36.5706,2,    192.0,2,   181.4,2,    2.01,2,    0.43,2,    0.30,2,    0.34,2,   1.628,2,   0.954,2,  2023.7,2,  2384.8,2,-999.0000,9,-999.0000,9, -999.00,9,    1.34,2,    51.6,2,     4.0,-999.000,9,-999.000,     615,-999.0000,  27.8153,-999.0000, -999.00
 316N145_11,       I01W,     942,          1,         33,     SIH027,2,19950923,       1006,     8.5000,    70.0000,       4465,    92.1,  23.1237,  35.9245,2,  35.9789,2,     80.5,2,    52.4,2,    9.01,2,   20.20,2,    0.08,2,    1.57,2,   1.425,2,   0.808,2,  2150.3,2,  2345.2,2,-999.0000,9,-999.0000,9, -999.00,9,    0.11,2,    35.1,2,     3.8,-999.000,9,-999.000,     912,-999.0000,  23.1048,-999.0000, -999.00
 316N145_11,       I01W,     942,          1,         32,     SIH028,2,19950923,       1006,     8.5000,    70.0000,       4465,   121.7,  18.7694,  35.4120,2,  35.4200,2,      7.8,2,     9.9,2,   19.06,2,   27.02,2,    0.01,2,    2.08,2,-999.000,9,-999.000,9,  2200.6,2,  2320.7,2,-999.0000,9,-999.0000,9, -999.00,9, -999.00,9,  -999.0,9,    -9.0,-999.000,9,-999.000,    1209,-999.0000,  18.7478,-999.0000, -999.00
 316N145_11,       I01W,     942,          1,         31,     SIH029,2,19950923,       1006,     8.5000,    70.0000,       4465,   151.9,  15.3010,  35.2843,2,  35.2950,2,      4.7,2,     9.5,2,   24.27,2,   28.43,2,    0.00,2,    2.25,2,   0.561,2,   0.309,2,  2227.5,2,  2321.2,2,-999.0000,9,-999.0000,9, -999.00,9,   -0.10,2,   -20.5,2,     3.4,-999.000,9,-999.000,    1511,-999.0000,  15.2776,-999.0000, -999.00
 316N145_11,       I01W,     942,          1,         30,     SIH030,2,19950923,       1006,     8.5000,    70.0000,       4465,   201.6,  13.5955,  35.2301,2,  35.2278,2,     23.0,2,    25.0,2,   25.35,2,   29.38,2,    0.00,2,    2.19,2,-999.000,9,-999.000,9,  2230.6,2,  2321.0,2,-999.0000,9,-999.0000,9, -999.00,9,    0.04,2,   -30.8,2,     3.3,-999.000,9,-999.000,    2008,-999.0000,  13.5668,-999.0000, -999.00
 316N145_11,       I01W,     942,          1,         29,     SIH031,2,19950923,       1006,     8.5000,    70.0000,       4465,   251.5,  12.6835,  35.2491,2,  35.2475,2,     21.7,2,    22.8,2,   27.15,2,   30.58,2,    0.00,2,    2.26,2,   0.351,2,   0.186,2,  2241.2,2,  2325.5,2,-999.0000,9,-999.0000,9, -999.00,9,    0.01,2,   -46.6,2,     3.5,-999.000,9,-999.000,    2507,-999.0000,  12.6493,-999.0000, -999.00
 316N145_11,       I01W,     942,          1,         28,     SIH032,2,19950923,       1006,     8.5000,    70.0000,       4465,   296.5,  12.1201,  35.2548,2,  35.2526,2,     20.3,2,    20.5,2,   29.85,2,   31.63,2,    0.00,2,    2.32,2,-999.000,9,-999.000,9,  2247.8,2,  2327.9,2,-999.0000,9,-999.0000,9, -999.00,9,    0.02,2,   -54.3,2,     3.6,-999.000,9,-999.000,    2957,-999.0000,  12.0809,-999.0000, -999.00
 316N145_11,       I01W,     942,          1,         27,     SIH033,2,19950923,       1006,     8.5000,    70.0000,       4465,   347.0,  11.4841,  35.2126,2,  35.2124,2,     17.4,2,    20.8,2,   33.44,2,   32.78,2,    0.00,2,    2.39,2,   0.183,2,   0.097,2,  2253.0,2,  2327.4,2,-999.0000,9,-999.0000,9, -999.00,9,    0.02,2,   -68.0,2,     3.2,-999.000,9,-999.000,    3462,-999.0000,  11.4398,-999.0000, -999.00
 316N145_11,       I01W,     942,          1,         26,     SIH037,2,19950923,       1006,     8.5000,    70.0000,       4465,   447.2,  10.6799,  35.1961,2,  35.1937,2,     19.1,2,    20.0,2,   41.70,2,   34.08,2,    0.00,2,    2.55,2,-999.000,9,-999.000,9,  2264.4,2,  2336.1,2,-999.0000,9,-999.0000,9, -999.00,9,    0.04,2,   -88.6,2,     3.2,-999.000,9,-999.000,    4465,-999.0000,  10.6250,-999.0000, -999.00
 316N145_11,       I01W,     942,          1,         25,     SI9446,3,19950923,       1006,     8.5000,    70.0000,       4465,   537.7,  10.0038,  35.1655,3,  35.1624,2,     20.2,2,    20.5,2,   49.07,2,   35.09,2,    0.00,2,    2.63,2,   0.046,2,   0.024,2,  2272.0,2,  2342.3,2,-999.0000,9,-999.0000,9, -999.00,9,   -0.01,2,  -106.8,2,     2.6,-999.000,9,-999.000,    5370,-999.0000,   9.9402,-999.0000, -999.00
 316N145_11,       I01W,     942,          1,         24,     SIH036,2,19950923,       1006,     8.5000,    70.0000,       4465,   628.2,   9.1999,  35.0792,2,  35.0791,2,     26.7,2,    27.7,2,   55.72,2,   35.94,2,    0.00,2,    2.67,2,-999.000,9,-999.000,9,  2277.5,2,  2346.8,2,-999.0000,9,-999.0000,9, -999.00,9,   -0.04,2,  -118.0,2,     3.3,-999.000,9,-999.000,    6276,-999.0000,   9.1289,-999.0000, -999.00
 316N145_11,       I01W,     942,          1,         23,     SIH001,2,19950923,       1006,     8.5000,    70.0000,       4465,   748.9,   8.8637,  35.1283,2,  35.1278,2,     23.3,2,    23.6,2,   62.72,2,   36.53,2,    0.00,2,    2.76,2,   0.012,2,   0.005,2,  2288.2,2,  2354.7,2,-999.0000,9,-999.0000,9, -999.00,9,   -0.05,2,  -118.6,2,     4.0,-999.000,9,-999.000,    7483,-999.0000,   8.7804,-999.0000, -999.00
 316N145_11,       I01W,     942,          1,         22,     SIH019,2,19950923,       1006,     8.5000,    70.0000,       4465,   849.8,   8.3693,  35.1062,2,  35.1061,2,     26.8,2,    25.6,2,   68.84,2,   37.04,2,    0.00,2,    2.79,2,-999.000,9,-999.000,9,  2294.4,2,  2362.3,2,-999.0000,9,-999.0000,9, -999.00,9,   -0.05,2,  -133.4,2,     3.1,-999.000,9,-999.000,    8492,-999.0000,   8.2773,-999.0000, -999.00
 316N145_11,       I01W,     942,          1,         21,     SIH025,3,19950923,       1006,     8.5000,    70.0000,       4465,   949.7,   7.7760,  35.0850,3,  35.0835,2,     31.3,2,    29.3,2,   76.02,2,   37.49,2,    0.00,2,    2.82,2,   0.003,2,   0.002,2,  2302.4,2,  2368.5,2,-999.0000,9,-999.0000,9, -999.00,9,   -0.02,2,  -143.2,2,     3.4,-999.000,9,-999.000,    9492,-999.0000,   7.6768,-999.0000, -999.00
 316N145_11,       I01W,     942,          1,         20,     SIH004,2,19950923,       1006,     8.5000,    70.0000,       4465,  1051.2,   7.0850,  35.0373,2,  35.0392,2,     38.3,2,    36.7,2,   83.21,2,   37.85,2,    0.00,2,    2.83,2,   0.002,2,   0.000,2,  -999.0,9,  -999.0,9,-999.0000,9,-999.0000,9, -999.00,9,   -0.01,2,  -151.4,2,     2.8,-999.000,9,-999.000,   10508,-999.0000,   6.9798,-999.0000, -999.00
 316N145_11,       I01W,     942,          1,         19,     SIH005,2,19950923,       1006,     8.5000,    70.0000,       4465,  1146.2,   6.4661,  35.0016,2,  35.0008,2,     46.8,2,    44.9,2,   89.51,2,   38.00,2,    0.00,2,    2.83,2,   0.000,2,  -0.001,2,  -999.0,9,  -999.0,9,-999.0000,9,-999.0000,9, -999.00,9,   -0.03,2,  -159.8,2,     2.9,-999.000,9,-999.000,   11457,-999.0000,   6.3561,-999.0000, -999.00
 316N145_11,       I01W,     942,          1,         18,     SIH006,2,19950923,       1006,     8.5000,    70.0000,       4465,  1298.1,   5.7927,  34.9688,2,  34.9689,2,     56.7,2,    53.8,2,   96.70,2,   38.00,2,    0.00,2,    2.83,2,-999.000,9,-999.000,9,  2316.9,2,  2389.1,2,-999.0000,9,-999.0000,9, -999.00,9,   -0.02,2,  -152.5,2,     5.5,-999.000,9,-999.000,   12977,-999.0000,   5.6732,-999.0000, -999.00
 316N145_11,       I01W,     942,          1,         17,     SIH038,2,19950923,       1006,     8.5000,    70.0000,       4465,  1499.7,   4.8000,  34.9229,2,  34.9201,2,     69.5,2,    68.0,2,  108.75,2,   38.01,2,    0.00,2,    2.82,2,  -0.001,2,  -0.002,2,  -999.0,9,  -999.0,9,-999.0000,9,-999.0000,9, -999.00,9,   -0.20,3,  -170.6,2,     4.7,-999.000,9,-999.000,   14995,-999.0000,   4.6711,-999.0000, -999.00
 316N145_11,       I01W,     942,          1,         16,     SIH008,2,19950923,       1006,     8.5000,    70.0000,       4465,  1696.9,   3.7817,  34.8516,2,  34.8572,2,     91.3,2,    90.8,2,  118.47,2,   37.41,2,    0.00,2,    2.75,2,-999.000,9,-999.000,9,  -999.0,9,  -999.0,9,-999.0000,9,-999.0000,9, -999.00,9,   -0.03,2,  -171.7,2,     4.5,-999.000,9,-999.000,   16968,-999.0000,   3.6464,-999.0000, -999.00
 316N145_11,       I01W,     942,          1,         15,     SIH009,2,19950923,       1006,     8.5000,    70.0000,       4465,  1898.9,   3.1092,  34.8116,2,  34.8106,2,    110.3,2,   108.1,2,  124.94,2,   36.86,2,    0.00,2,    2.67,2,  -0.003,2,  -0.002,2,  2325.4,2,  2417.1,2,-999.0000,9,-999.0000,9, -999.00,9,    0.01,2,  -172.6,2,     3.7,-999.000,9,-999.000,   18989,-999.0000,   2.9646,-999.0000, -999.00
 316N145_11,       I01W,     942,          1,         14,     SIH010,2,19950923,       1006,     8.5000,    70.0000,       4465,  2096.5,   2.6398,  34.7865,2,  34.7846,2,    123.0,2,   122.0,2,  129.09,2,   36.32,2,    0.00,2,    2.61,2,-999.000,9,-999.000,9,  -999.0,9,  -999.0,9,-999.0000,9,-999.0000,9, -999.00,9,    0.00,2,  -176.3,2,     3.0,-999.000,9,-999.000,   20967,-999.0000,   2.4846,-999.0000, -999.00
 316N145_11,       I01W,     942,          1,         13,     SIH011,3,19950923,       1006,     8.5000,    70.0000,       4465,  2299.3,   2.3324,  34.7749,3,  34.7712,2,    129.3,2,   130.9,2,  132.16,2,   36.07,2,    0.00,2,    2.57,2,-999.000,9,-999.000,9,  -999.0,9,  -999.0,9,-999.0000,9,-999.0000,9, -999.00,9, -999.00,9,  -999.0,9,    -9.0,-999.000,9,-999.000,   22995,-999.0000,   2.1640,-999.0000, -999.00
 316N145_11,       I01W,     942,          1,         12,     SIH012,2,19950923,       1006,     8.5000,    70.0000,       4465,  2496.6,   2.1083,  34.7600,2,  34.7612,2,    137.6,2,   130.7,4,  134.33,2,   35.62,2,    0.00,2,    2.53,2,-999.000,9,-999.000,9,  2321.4,2,  2423.4,2,-999.0000,9,-999.0000,9, -999.00,9,    0.09,2,  -178.6,2,     3.3,-999.000,9,-999.000,   24970,-999.0000,   1.9258,-999.0000, -999.00
 316N145_11,       I01W,     942,          1,         11,     SI9426,2,19950923,       1006,     8.5000,    70.0000,       4465,  2698.1,   1.9196,  34.7492,2,  34.7506,2,    143.4,2,   142.4,2,  135.95,2,   35.38,2,    0.00,2,    2.51,2,  -0.001,2,  -0.002,2,  -999.0,9,  -999.0,9,-999.0000,9,-999.0000,9, -999.00,9,    0.11,2,  -175.1,2,     3.1,-999.000,9,-999.000,   26986,-999.0000,   1.7222,-999.0000, -999.00
 316N145_11,       I01W,     942,          1,         10,     SIH014,2,19950923,       1006,     8.5000,    70.0000,       4465,  2896.9,   1.8132,  34.7441,2,  34.7441,2,    148.1,2,   149.6,2,  136.51,2,   35.38,2,    0.00,2,    2.49,2,-999.000,9,-999.000,9,  2319.2,2,  2431.9,2,-999.0000,9,-999.0000,9, -999.00,9,    0.16,2,  -177.8,2,     3.6,-999.000,9,-999.000,   28976,-999.0000,   1.5990,-999.0000, -999.00
 316N145_11,       I01W,     942,          1,          9,     SIH015,2,19950923,       1006,     8.5000,    70.0000,       4465,  3095.3,   1.7560,  34.7406,2,  34.7396,2,    152.1,2,   151.4,2,  137.06,2,   35.09,2,    0.00,2,    2.48,2,-999.000,9,-999.000,9,  -999.0,9,  -999.0,9,-999.0000,9,-999.0000,9, -999.00,9,    0.14,2,  -185.0,2,     3.6,-999.000,9,-999.000,   30962,-999.0000,   1.5239,-999.0000, -999.00
 316N145_11,       I01W,     942,          1,          8,     SIH016,2,19950923,       1006,     8.5000,    70.0000,       4465,  3299.3,   1.7090,  34.7372,2,  34.7384,2,    154.6,2,   156.2,2,  137.07,2,   35.09,2,    0.00,2,    2.46,2,-999.000,9,-999.000,9,  -999.0,9,  -999.0,9,-999.0000,9,-999.0000,9, -999.00,9,    0.21,2,  -180.6,2,     2.8,-999.000,9,-999.000,   33003,-999.0000,   1.4578,-999.0000, -999.00
 316N145_11,       I01W,     942,          1,          7,     SIH017,3,19950923,       1006,     8.5000,    70.0000,       4465,  3502.2,   1.6970,  34.7360,3,  34.7362,2,    155.3,2,   155.9,2,  137.26,2,   35.09,2,    0.00,2,    2.46,2,  -0.001,2,   0.000,2,  -999.0,9,  -999.0,9,-999.0000,9,-999.0000,9, -999.00,9,    0.25,2,  -178.8,2,     2.8,-999.000,9,-999.000,   35033,-999.0000,   1.4254,-999.0000, -999.00
 316N145_11,       I01W,     942,          1,          6,     SIH018,2,19950923,       1006,     8.5000,    70.0000,       4465,  3706.6,   1.6902,  34.7357,2,  34.7349,2,    156.0,2,   157.3,2,  138.00,2,   35.09,2,    0.00,2,    2.45,2,-999.000,9,-999.000,9,  2318.2,2,  2431.9,2,-999.0000,9,-999.0000,9, -999.00,9,    0.12,2,  -175.0,2,     2.8,-999.000,9,-999.000,   37079,-999.0000,   1.3973,-999.0000, -999.00
 316N145_11,       I01W,     942,          1,          5,     SIH002,3,19950923,       1006,     8.5000,    70.0000,       4465,  3900.0,   1.6868,  34.7346,3,  34.7353,2,    156.7,2,   157.8,2,  138.19,2,   35.09,2,    0.00,2,    2.44,2,-999.000,9,-999.000,9,  -999.0,9,  -999.0,9,-999.0000,9,-999.0000,9, -999.00,9, -999.00,9,  -999.0,9,    -9.0,-999.000,9,-999.000,   39014,-999.0000,   1.3733,-999.0000, -999.00
 316N145_11,       I01W,     942,          1,          4,     SIH020,2,19950923,       1006,     8.5000,    70.0000,       4465,  4097.6,   1.6778,  34.7333,2,  34.7343,2,    158.6,2,   158.4,2,  138.56,2,   35.10,2,    0.00,2,    2.44,2,-999.000,9,-999.000,9,  -999.0,9,  -999.0,9,-999.0000,9,-999.0000,9, -999.00,9,    0.10,2,  -179.6,2,     2.9,-999.000,9,-999.000,   40991,-999.0000,   1.3428,-999.0000, -999.00
 316N145_11,       I01W,     942,          1,          3,     SIH021,2,19950923,       1006,     8.5000,    70.0000,       4465,  4291.9,   1.6730,  34.7334,2,  34.7329,2,    159.8,2,   158.4,2,  138.39,2,   34.95,2,    0.00,2,    2.44,2,  -0.002,2,  -0.001,2,  -999.0,9,  -999.0,9,-999.0000,9,-999.0000,9, -999.00,9,    0.23,2,  -181.0,2,     2.8,-999.000,9,-999.000,   42936,-999.0000,   1.3163,-999.0000, -999.00
 316N145_11,       I01W,     942,          1,          2,     SIH022,2,19950923,       1006,     8.5000,    70.0000,       4465,  4496.6,   1.6869,  34.7321,2,  34.7333,2,    160.7,2,   159.2,2,  138.22,2,   34.95,2,    0.00,2,    2.44,2,  -0.002,2,  -0.002,2,  2317.6,2,  2437.9,2,-999.0000,9,-999.0000,9, -999.00,9,    0.17,2,  -176.7,2,     2.8,-999.000,9,-999.000,   44984,-999.0000,   1.3062,-999.0000, -999.00
 316N145_11,       I01W,     942,          1,          1,     SIH023,2,19950923,       1006,     8.5000,    70.0000,       4465,  4568.3,   1.6842,  34.7308,2,  34.7319,2,    159.3,2,   160.9,2,  138.55,2,   35.01,2,    0.00,2,    2.45,2,  -0.001,2,   0.000,2,  -999.0,9,  -999.0,9,-999.0000,9,-999.0000,9, -999.00,9,    0.13,2,  -181.1,2,     2.8,-999.000,9,-999.000,   45701,-999.0000,   1.2953,-999.0000, -999.00