BOTTLE,20211119CCHSIORKP
EXPOCODE,SECT_ID,STNNBR,CASTNO,SAMPNO,BTLNBR,BTLNBR_FLAG_W,DATE,TIME,LATITUDE,LONGITUDE,DEPTH,CTDPRS,CTDTMP,CTDSAL,CTDSAL_FLAG_W,SALNTY,SALNTY_FLAG_W,CTDOXY,CTDOXY_FLAG_W,OXYGEN,OXYGEN_FLAG_W,SILCAT,SILCAT_FLAG_W,NITRAT,NITRAT_FLAG_W,NITRIT,NITRIT_FLAG_W,PHSPHT,PHSPHT_FLAG_W,CFC-11,CFC-11_FLAG_W,CFC-12,CFC-12_FLAG_W,TCARBN,TCARBN_FLAG_W,ALKALI,ALKALI_FLAG_W,TRITUM,TRITUM_FLAG_W,HELIUM,HELIUM_FLAG_W,DELHE3,DELHE3_FLAG_W,DELC13,DELC13_FLAG_W,DELC14,DELC14_FLAG_W,C14ERR,NEON,NEON_FLAG_W,NEONER,CTDRAW,TRITER,THETA,HELIER,DELHER
,,,,,,,,,,,METERS,DBAR,ITS-90,PSS-78,,PSS-78,,UMOL/KG,,UMOL/KG,,UMOL/KG,,UMOL/KG,,UMOL/KG,,UMOL/KG,,PMOL/KG,,PMOL/KG,,UMOL/KG,,UMOL/KG,,TU,,NMOL/KG,,PERCNT,,/MILLE,,/MILLE,,/MILLE,NMOL/KG,,NMOL/KG,DBAR,TU,DEG C,NMOL/KG,PERCNT
 316N145_11,       I01W,     871,          1,         27,     SIH033,2,19950903,       1616,    13.9917,    52.1750,       2195,     4.3,  22.7591,  35.7588,2,  35.7622,2,    218.2,2,   166.0,2,    6.91,2,   10.86,2,    0.38,2,    1.05,2,   1.555,2,   0.886,2,  2104.9,2,  2341.8,2,-999.0000,9,-999.0000,9, -999.00,9, -999.00,9,  -999.0,9,    -9.0,-999.000,9,-999.000,      16,-999.0000,  22.7583,-999.0000, -999.00
 316N145_11,       I01W,     871,          1,         26,     SIH037,2,19950903,       1616,    13.9917,    52.1750,       2195,    29.6,  16.5427,  35.5266,2,  35.5435,2,    148.4,2,    32.7,2,   21.98,2,   25.05,2,    0.05,2,    2.00,2,   0.969,2,   0.535,2,  2219.1,2,  2324.2,2,-999.0000,9,-999.0000,9, -999.00,9, -999.00,9,  -999.0,9,    -9.0,-999.000,9,-999.000,     269,-999.0000,  16.5379,-999.0000, -999.00
 316N145_11,       I01W,     871,          1,         25,     SI9446,2,19950903,       1616,    13.9917,    52.1750,       2195,    59.0,  16.0783,  35.6575,2,  35.6542,2,     20.5,2,    20.6,2,   25.07,2,   25.40,2,    0.08,2,    2.17,2,   0.837,2,   0.466,2,  2239.8,2,  2335.6,2,-999.0000,9,-999.0000,9, -999.00,9, -999.00,9,  -999.0,9,    -9.0,-999.000,9,-999.000,     563,-999.0000,  16.0689,-999.0000, -999.00
 316N145_11,       I01W,     871,          1,         24,     SIH036,2,19950903,       1616,    13.9917,    52.1750,       2195,    89.3,  15.7569,  35.6206,2,  35.6220,2,     20.8,2,    23.5,2,   25.06,2,   25.41,2,    0.06,2,    2.15,2,-999.000,9,-999.000,9,  2236.8,2,  2329.9,2,-999.0000,9,-999.0000,9, -999.00,9, -999.00,9,  -999.0,9,    -9.0,-999.000,9,-999.000,     866,-999.0000,  15.7428,-999.0000, -999.00
 316N145_11,       I01W,     871,          1,         23,     SIH001,2,19950903,       1616,    13.9917,    52.1750,       2195,   119.9,  15.4351,  35.6618,2,  35.6634,2,     18.1,2,    20.0,2,   25.67,2,   25.49,2,    0.04,2,    2.16,2,   0.741,2,   0.414,2,  2242.2,2,  2334.1,2,-999.0000,9,-999.0000,9, -999.00,9, -999.00,9,  -999.0,9,    -9.0,-999.000,9,-999.000,    1172,-999.0000,  15.4165,-999.0000, -999.00
 316N145_11,       I01W,     871,          1,         22,     SIH019,2,19950903,       1616,    13.9917,    52.1750,       2195,   148.8,  14.6542,  35.5831,2,  35.5865,2,     26.7,2,    31.2,2,   25.66,2,   25.66,2,    0.03,2,    2.10,2,   0.715,2,   0.393,2,  2235.4,2,  2331.6,2,-999.0000,9,-999.0000,9, -999.00,9, -999.00,9,  -999.0,9,    -9.0,-999.000,9,-999.000,    1461,-999.0000,  14.6319,-999.0000, -999.00
 316N145_11,       I01W,     871,          1,         21,     SIH025,2,19950903,       1616,    13.9917,    52.1750,       2195,   199.5,  14.4561,  35.6876,2,  35.6911,2,     12.7,2,    17.3,2,   28.74,2,   26.49,2,    0.02,2,    2.25,2,   0.573,2,   0.320,2,  2252.4,2,  2336.4,2,-999.0000,9,-999.0000,9, -999.00,9, -999.00,9,  -999.0,9,    -9.0,-999.000,9,-999.000,    1968,-999.0000,  14.4265,-999.0000, -999.00
 316N145_11,       I01W,     871,          1,         20,     SIH004,2,19950903,       1616,    13.9917,    52.1750,       2195,   249.7,  14.2387,  35.7129,2,  35.7122,2,     12.0,2,    13.7,2,   29.97,2,   26.93,2,    0.02,2,    2.29,2,-999.000,9,-999.000,9,  2257.2,2,  2335.9,2,-999.0000,9,-999.0000,9, -999.00,9, -999.00,9,  -999.0,9,    -9.0,-999.000,9,-999.000,    2471,-999.0000,  14.2019,-999.0000, -999.00
 316N145_11,       I01W,     871,          1,         19,     SIH005,2,19950903,       1616,    13.9917,    52.1750,       2195,   299.0,  13.4931,  35.6872,2,  35.6850,2,     11.7,2,    14.9,2,   32.45,2,   28.19,2,    0.02,2,    2.32,2,   0.409,6,   0.223,6,  2258.7,2,  2336.1,2,-999.0000,9,-999.0000,9, -999.00,9, -999.00,9,  -999.0,9,    -9.0,-999.000,9,-999.000,    2964,-999.0000,  13.4505,-999.0000, -999.00
 316N145_11,       I01W,     871,          1,         18,     SIH006,2,19950903,       1616,    13.9917,    52.1750,       2195,   399.5,  13.1470,  35.7060,2,  35.7077,2,     12.6,2,    17.0,2,   34.92,2,   28.74,2,    0.01,2,    2.36,2,-999.000,9,-999.000,9,  2262.8,2,  2338.3,2,-999.0000,9,-999.0000,9, -999.00,9, -999.00,9,  -999.0,9,    -9.0,-999.000,9,-999.000,    3970,-999.0000,  13.0909,-999.0000, -999.00
 316N145_11,       I01W,     871,          1,         17,     SIH038,2,19950903,       1616,    13.9917,    52.1750,       2195,   499.3,  12.7648,  35.7675,2,  35.7570,2,     14.3,2,    17.3,2,   39.05,2,   29.47,2,    0.00,2,    2.40,2,   0.265,2,   0.135,2,  2264.8,2,  2343.6,2,-999.0000,9,-999.0000,9, -999.00,9, -999.00,9,  -999.0,9,    -9.0,-999.000,9,-999.000,    4968,-999.0000,  12.6958,-999.0000, -999.00
 316N145_11,       I01W,     871,          1,         16,     SIH008,2,19950903,       1616,    13.9917,    52.1750,       2195,   598.5,  12.1061,  35.7799,2,  35.7805,2,     14.4,2,    15.6,2,   46.89,2,   30.77,2,    0.01,2,    2.50,2,-999.000,9,-999.000,9,  2272.4,2,  2351.3,2,-999.0000,9,-999.0000,9, -999.00,9, -999.00,9,  -999.0,9,    -9.0,-999.000,9,-999.000,    5961,-999.0000,  12.0257,-999.0000, -999.00
 316N145_11,       I01W,     871,          1,         15,     SIH009,2,19950903,       1616,    13.9917,    52.1750,       2195,   702.8,  10.9340,  35.6345,2,  35.6370,2,     16.3,2,    17.3,2,   55.77,2,   32.93,2,   -0.01,2,    2.59,2,   0.115,2,   0.057,2,  2283.0,2,  2358.9,2,-999.0000,9,-999.0000,9, -999.00,9, -999.00,9,  -999.0,9,    -9.0,-999.000,9,-999.000,    7006,-999.0000,  10.8451,-999.0000, -999.00
 316N145_11,       I01W,     871,          1,         14,     SIH010,2,19950903,       1616,    13.9917,    52.1750,       2195,   794.4,  10.2298,  35.5921,2,  35.5949,2,     15.6,2,    16.3,2,   63.83,2,   34.28,2,    0.01,2,    2.69,2,-999.000,9,-999.000,9,  2293.8,2,  2362.1,2,-999.0000,9,-999.0000,9, -999.00,9, -999.00,9,  -999.0,9,    -9.0,-999.000,9,-999.000,    7922,-999.0000,  10.1330,-999.0000, -999.00
 316N145_11,       I01W,     871,          1,         13,     SIH011,2,19950903,       1616,    13.9917,    52.1750,       2195,   893.2,   9.2253,  35.4808,2,  35.4817,2,     19.2,2,    18.7,2,   72.51,2,   35.77,2,    0.01,2,    2.76,2,   0.053,2,   0.026,2,  2304.4,2,  2368.3,2,-999.0000,9,-999.0000,9, -999.00,9, -999.00,9,  -999.0,9,    -9.0,-999.000,9,-999.000,    8911,-999.0000,   9.1223,-999.0000, -999.00
 316N145_11,       I01W,     871,          1,         12,     SIH012,2,19950903,       1616,    13.9917,    52.1750,       2195,   992.4,   8.6067,  35.4195,2,-999.0000,9,     21.9,2,  -999.0,9,   78.72,2,   36.38,2,    0.01,2,    2.81,2,-999.000,9,-999.000,9,  -999.0,9,  -999.0,9,-999.0000,9,-999.0000,9, -999.00,9, -999.00,9,  -999.0,9,    -9.0,-999.000,9,-999.000,    9905,-999.0000,   8.4963,-999.0000, -999.00
 316N145_11,       I01W,     871,          1,         11,     SI9426,2,19950903,       1616,    13.9917,    52.1750,       2195,  1000.6,   8.5469,  35.4133,2,  35.4149,2,     22.3,2,    21.4,2,   79.12,2,   36.43,2,    0.01,2,    2.81,2,-999.000,9,-999.000,9,  2311.5,2,  2374.1,2,-999.0000,9,-999.0000,9, -999.00,9, -999.00,9,  -999.0,9,    -9.0,-999.000,9,-999.000,    9987,-999.0000,   8.4359,-999.0000, -999.00
 316N145_11,       I01W,     871,          1,         10,     SIH014,2,19950903,       1616,    13.9917,    52.1750,       2195,  1099.2,   7.7831,  35.3113,2,  35.3151,2,     30.2,2,    28.3,2,   84.70,2,   36.98,2,    0.01,2,    2.83,2,   0.028,2,   0.009,2,  -999.0,9,  -999.0,9,-999.0000,9,-999.0000,9, -999.00,9, -999.00,9,  -999.0,9,    -9.0,-999.000,9,-999.000,   10974,-999.0000,   7.6668,-999.0000, -999.00
 316N145_11,       I01W,     871,          1,          9,     SIH015,2,19950903,       1616,    13.9917,    52.1750,       2195,  1201.4,   6.8982,  35.2044,2,  35.2079,2,     39.2,2,    34.6,2,   92.98,2,   37.58,2,    0.01,2,    2.86,2,-999.000,9,-999.000,9,  -999.0,9,  -999.0,9,-999.0000,9,-999.0000,9, -999.00,9, -999.00,9,  -999.0,9,    -9.0,-999.000,9,-999.000,   11998,-999.0000,   6.7781,-999.0000, -999.00
 316N145_11,       I01W,     871,          1,          8,     SIH016,2,19950903,       1616,    13.9917,    52.1750,       2195,  1301.2,   6.3168,  35.1463,2,  35.1476,2,     44.4,2,    42.3,2,   99.60,2,   37.63,2,    0.01,2,    2.87,2,   0.010,2,   0.002,2,  -999.0,9,  -999.0,9,-999.0000,9,-999.0000,9, -999.00,9, -999.00,9,  -999.0,9,    -9.0,-999.000,9,-999.000,   12998,-999.0000,   6.1915,-999.0000, -999.00
 316N145_11,       I01W,     871,          1,          7,     SIH017,2,19950903,       1616,    13.9917,    52.1750,       2195,  1398.6,   5.6104,  35.0663,2,  35.0683,2,     52.9,2,    50.4,2,  106.85,2,   37.90,2,    0.01,2,    2.87,2,-999.000,9,-999.000,9,  -999.0,9,  -999.0,9,-999.0000,9,-999.0000,9, -999.00,9, -999.00,9,  -999.0,9,    -9.0,-999.000,9,-999.000,   13973,-999.0000,   5.4823,-999.0000, -999.00
 316N145_11,       I01W,     871,          1,          6,     SIH018,2,19950903,       1616,    13.9917,    52.1750,       2195,  1497.2,   5.1496,  35.0197,2,  35.0228,2,     58.4,2,    57.3,2,  112.65,2,   38.07,2,    0.01,2,    2.86,2,   0.003,2,   0.003,2,  -999.0,9,  -999.0,9,-999.0000,9,-999.0000,9, -999.00,9, -999.00,9,  -999.0,9,    -9.0,-999.000,9,-999.000,   14961,-999.0000,   5.0166,-999.0000, -999.00
 316N145_11,       I01W,     871,          1,          5,     SIH002,2,19950903,       1616,    13.9917,    52.1750,       2195,  1599.3,   4.6831,  34.9878,2,  34.9902,2,     65.4,2,    65.1,2,  118.86,2,   37.80,2,    0.00,2,    2.83,2,-999.000,9,-999.000,9,  -999.0,9,  -999.0,9,-999.0000,9,-999.0000,9, -999.00,9, -999.00,9,  -999.0,9,    -9.0,-999.000,9,-999.000,   15984,-999.0000,   4.5456,-999.0000, -999.00
 316N145_11,       I01W,     871,          1,          4,     SIH020,2,19950903,       1616,    13.9917,    52.1750,       2195,  1798.9,   3.6793,  34.8904,2,  34.8924,2,     84.1,2,    86.6,2,  129.42,2,   37.47,2,    0.00,2,    2.77,2,   0.000,2,   0.006,2,  -999.0,9,  -999.0,9,-999.0000,9,-999.0000,9, -999.00,9, -999.00,9,  -999.0,9,    -9.0,-999.000,9,-999.000,   17984,-999.0000,   3.5359,-999.0000, -999.00
 316N145_11,       I01W,     871,          1,          3,     SIH021,2,19950903,       1616,    13.9917,    52.1750,       2195,  1997.1,   3.1132,  34.8456,2,  34.8464,2,     95.3,2,   100.1,2,  136.87,2,   37.13,2,    0.01,2,    2.73,2,   0.002,2,   0.001,2,  -999.0,9,  -999.0,9,-999.0000,9,-999.0000,9, -999.00,9, -999.00,9,  -999.0,9,    -9.0,-999.000,9,-999.000,   19969,-999.0000,   2.9595,-999.0000, -999.00
 316N145_11,       I01W,     871,          1,          2,     SIH022,2,19950903,       1616,    13.9917,    52.1750,       2195,  2162.2,   2.8411,  34.8250,2,  34.8241,2,    103.7,2,   104.5,2,  138.94,2,   36.90,2,    0.01,2,    2.69,2,   0.002,2,   0.001,2,  -999.0,9,  -999.0,9,-999.0000,9,-999.0000,9, -999.00,9, -999.00,9,  -999.0,9,    -9.0,-999.000,9,-999.000,   21624,-999.0000,   2.6766,-999.0000, -999.00
 316N145_11,       I01W,     871,          1,          1,     SIH023,2,19950903,       1616,    13.9917,    52.1750,       2195,  2213.1,   2.7078,  34.8138,2,  34.8143,2,    107.2,2,   108.6,2,  141.32,2,   36.82,2,    0.01,2,    2.68,2,  -0.001,2,  -0.001,2,  -999.0,9,  -999.0,9,-999.0000,9,-999.0000,9, -999.00,9, -999.00,9,  -999.0,9,    -9.0,-999.000,9,-999.000,   22134,-999.0000,   2.5408,-999.0000, -999.00