BOTTLE,20211119CCHSIORKP
EXPOCODE,SECT_ID,STNNBR,CASTNO,SAMPNO,BTLNBR,BTLNBR_FLAG_W,DATE,TIME,LATITUDE,LONGITUDE,DEPTH,CTDPRS,CTDTMP,CTDSAL,CTDSAL_FLAG_W,SALNTY,SALNTY_FLAG_W,CTDOXY,CTDOXY_FLAG_W,OXYGEN,OXYGEN_FLAG_W,SILCAT,SILCAT_FLAG_W,NITRAT,NITRAT_FLAG_W,NITRIT,NITRIT_FLAG_W,PHSPHT,PHSPHT_FLAG_W,CFC-11,CFC-11_FLAG_W,CFC-12,CFC-12_FLAG_W,TCARBN,TCARBN_FLAG_W,ALKALI,ALKALI_FLAG_W,TRITUM,TRITUM_FLAG_W,HELIUM,HELIUM_FLAG_W,DELHE3,DELHE3_FLAG_W,DELC13,DELC13_FLAG_W,DELC14,DELC14_FLAG_W,C14ERR,NEON,NEON_FLAG_W,NEONER,CTDRAW,TRITER,THETA,HELIER,DELHER
,,,,,,,,,,,METERS,DBAR,ITS-90,PSS-78,,PSS-78,,UMOL/KG,,UMOL/KG,,UMOL/KG,,UMOL/KG,,UMOL/KG,,UMOL/KG,,PMOL/KG,,PMOL/KG,,UMOL/KG,,UMOL/KG,,TU,,NMOL/KG,,PERCNT,,/MILLE,,/MILLE,,/MILLE,NMOL/KG,,NMOL/KG,DBAR,TU,DEG C,NMOL/KG,PERCNT
 316N145_11,       I01W,     864,          1,         27,     SIH033,2,19950902,       0620,    14.8333,    55.4195,       2450,     7.8,  25.2778,  35.6746,2,  35.6725,2,    108.7,2,   214.4,2,    5.09,2,    4.22,2,    0.21,2,    0.52,2,   1.796,2,   0.934,4,  2028.4,2,  2332.7,2,-999.0000,9,-999.0000,9, -999.00,9,    0.83,2,    42.1,2,     3.9,-999.000,9,-999.000,     430,-999.0000,  25.2761,-999.0000, -999.00
 316N145_11,       I01W,     864,          1,         26,     SIH037,2,19950902,       0620,    14.8333,    55.4195,       2450,    32.5,  25.1450,  35.6809,2,  35.6842,2,    106.1,2,   150.6,2,    5.27,2,    4.74,2,    0.22,2,    0.55,2,   1.776,2,   1.001,4,  2034.0,2,  2336.2,2,-999.0000,9,-999.0000,9, -999.00,9,    0.67,2,    32.8,2,     3.7,-999.000,9,-999.000,     661,-999.0000,  25.1379,-999.0000, -999.00
 316N145_11,       I01W,     864,          1,         25,     SI9446,2,19950902,       0620,    14.8333,    55.4195,       2450,    62.7,  22.9292,  35.5465,2,  35.5450,2,     83.4,2,    83.4,2,    9.89,2,   11.31,2,    0.11,2,    0.92,2,   1.607,2,   0.948,4,  2080.0,2,  2325.4,2,-999.0000,9,-999.0000,9, -999.00,9,    0.51,2,    32.4,2,     4.0,-999.000,9,-999.000,     942,-999.0000,  22.9164,-999.0000, -999.00
 316N145_11,       I01W,     864,          1,         24,     SIH036,2,19950902,       0620,    14.8333,    55.4195,       2450,    92.8,  20.3880,  35.5314,2,  35.5261,2,     64.8,2,    54.5,2,   14.08,2,   19.09,2,    0.03,2,    1.42,2,   1.415,2,   0.791,2,  2144.9,2,  2319.2,2,-999.0000,9,-999.0000,9, -999.00,9,    0.08,6,    22.8,6,     3.7,-999.000,9,-999.000,    1222,-999.0000,  20.3706,-999.0000, -999.00
 316N145_11,       I01W,     864,          1,         23,     SIH001,2,19950902,       0620,    14.8333,    55.4195,       2450,   117.8,  18.4652,  35.4519,2,  35.4567,2,     43.1,2,    19.6,2,   17.85,2,   23.00,2,    0.02,2,    1.69,2,-999.000,9,-999.000,9,  2178.0,2,  2324.7,2,-999.0000,9,-999.0000,9, -999.00,9, -999.00,9,  -999.0,9,    -9.0,-999.000,9,-999.000,    1455,-999.0000,  18.4446,-999.0000, -999.00
 316N145_11,       I01W,     864,          1,         22,     SIH019,2,19950902,       0620,    14.8333,    55.4195,       2450,   148.3,  17.4950,  35.6957,2,  35.6909,2,     16.4,2,     5.9,2,   21.81,2,   25.08,2,    0.03,2,    2.05,2,   0.990,2,   0.557,2,  2225.0,2,  2338.2,2,-999.0000,9,-999.0000,9, -999.00,9,   -0.37,3,     1.1,2,     4.0,-999.000,9,-999.000,    1739,-999.0000,  17.4700,-999.0000, -999.00
 316N145_11,       I01W,     864,          1,         21,     SIH025,2,19950902,       0620,    14.8333,    55.4195,       2450,   198.4,  15.4295,  35.4279,2,  35.4255,2,      7.5,2,    21.8,2,   27.25,2,   26.71,2,    0.02,2,    2.24,2,-999.000,9,-999.000,9,  2240.8,2,  2330.7,2,-999.0000,9,-999.0000,9, -999.00,9,   -0.17,2,   -15.6,2,     4.5,-999.000,9,-999.000,    2207,-999.0000,  15.3988,-999.0000, -999.00
 316N145_11,       I01W,     864,          1,         20,     SIH004,2,19950902,       0620,    14.8333,    55.4195,       2450,   249.5,  15.1050,  35.5658,2,  35.5754,2,     17.1,2,    37.6,3,   25.75,2,   26.16,2,    0.01,2,    2.10,2,   0.787,3,   0.421,2,  2235.2,2,  2332.3,2,-999.0000,9,-999.0000,9, -999.00,9,   -0.09,2,   -10.4,2,     4.8,-999.000,9,-999.000,    2682,-999.0000,  15.0668,-999.0000, -999.00
 316N145_11,       I01W,     864,          1,         19,     SIH005,2,19950902,       0620,    14.8333,    55.4195,       2450,   297.9,  13.8234,  35.4537,2,  35.4545,2,     27.0,2,    17.5,2,   26.78,2,   26.67,2,    0.03,2,    2.03,2,-999.000,9,-999.000,9,  -999.0,9,  -999.0,9,-999.0000,9,-999.0000,9, -999.00,9,   -0.35,3,   -20.7,2,     3.6,-999.000,9,-999.000,    3134,-999.0000,  13.7804,-999.0000, -999.00
 316N145_11,       I01W,     864,          1,         18,     SIH006,2,19950902,       0620,    14.8333,    55.4195,       2450,   396.5,  13.2002,  35.6226,2,  35.6202,2,     15.7,2,    19.2,2,   33.24,2,   28.78,2,    0.00,2,    2.27,2,   0.416,2,   0.232,2,  2254.9,2,  2341.1,2,-999.0000,9,-999.0000,9, -999.00,9,   -0.34,3,   -47.8,2,     3.4,-999.000,9,-999.000,    4052,-999.0000,  13.1443,-999.0000, -999.00
 316N145_11,       I01W,     864,          1,         17,     SIH038,2,19950902,       0620,    14.8333,    55.4195,       2450,   498.6,  12.2324,  35.5851,2,  35.5884,2,     18.8,2,    19.1,2,   39.72,2,   30.43,2,    0.02,2,    2.35,2,-999.000,9,-999.000,9,  -999.0,9,  -999.0,9,-999.0000,9,-999.0000,9, -999.00,9,   -0.19,3,   -78.3,2,     4.5,-999.000,9,-999.000,    5003,-999.0000,  12.1653,-999.0000, -999.00
 316N145_11,       I01W,     864,          1,         16,     SIH008,2,19950902,       0620,    14.8333,    55.4195,       2450,   598.9,  11.6922,  35.6255,2,  35.6261,2,     15.4,2,    15.7,2,   47.01,2,   31.34,2,    0.01,2,    2.48,2,   0.167,2,   0.088,2,  2270.2,2,  2351.2,2,-999.0000,9,-999.0000,9, -999.00,9, -999.00,9,  -999.0,9,    -9.0,-999.000,9,-999.000,    5936,-999.0000,  11.6135,-999.0000, -999.00
 316N145_11,       I01W,     864,          1,         15,     SIH009,2,19950902,       0620,    14.8333,    55.4195,       2450,   701.7,  11.2458,  35.6374,2,  35.6362,2,     14.6,2,    14.4,2,   53.25,2,   32.52,2,    0.00,2,    2.53,2,   0.137,6,   0.070,6,  -999.0,9,  -999.0,9,-999.0000,9,-999.0000,9, -999.00,9,   -0.43,3,  -105.6,2,     3.2,-999.000,9,-999.000,    6894,-999.0000,  11.1555,-999.0000, -999.00
 316N145_11,       I01W,     864,          1,         14,     SIH010,2,19950902,       0620,    14.8333,    55.4195,       2450,   800.6,  10.4803,  35.5927,2,  35.5944,2,     15.6,2,    14.0,2,   61.38,2,   33.96,2,    0.00,2,    2.61,2,-999.000,9,-999.000,9,  2287.5,2,  2364.2,2,-999.0000,9,-999.0000,9, -999.00,9,   -0.03,2,  -109.7,2,     3.4,-999.000,9,-999.000,    7814,-999.0000,  10.3811,-999.0000, -999.00
 316N145_11,       I01W,     864,          1,         13,     SIH011,2,19950902,       0620,    14.8333,    55.4195,       2450,   901.7,   9.8657,  35.5628,2,  35.5511,2,     16.7,2,    16.7,2,   68.24,2,   34.91,2,    0.00,2,    2.65,2,-999.000,9,-999.000,9,  -999.0,9,  -999.0,9,-999.0000,9,-999.0000,9, -999.00,9, -999.00,9,  -999.0,9,    -9.0,-999.000,9,-999.000,    8756,-999.0000,   9.7575,-999.0000, -999.00
 316N145_11,       I01W,     864,          1,         12,     SIH012,2,19950902,       0620,    14.8333,    55.4195,       2450,  1000.9,   8.7892,  35.4151,2,  35.4137,2,     21.3,2,    19.6,2,   76.14,2,   36.03,2,    0.00,2,    2.72,2,   0.051,2,   0.025,2,  2304.1,2,  2375.5,2,-999.0000,9,   1.8780,2,   12.50,2,   -0.41,3,  -135.6,2,     3.4,   7.743,2,   0.155,    9679,-999.0000,   8.6764,   0.0090,    0.20
 316N145_11,       I01W,     864,          1,         11,     SI9426,2,19950902,       0620,    14.8333,    55.4195,       2450,  1197.7,   7.5811,  35.2830,2,  35.2838,2,     25.9,2,    27.6,2,   88.01,2,   37.30,2,    0.00,2,    2.81,2,-999.000,9,-999.000,9,  -999.0,9,  -999.0,9,-999.0000,9,   1.8510,2,   13.40,2, -999.00,9,  -999.0,9,    -9.0,   7.649,2,   0.153,   11512,-999.0000,   7.4553,   0.0090,    0.20
 316N145_11,       I01W,     864,          1,         10,     SIH014,2,19950902,       0620,    14.8333,    55.4195,       2450,  1298.3,   6.7698,  35.1885,2,  35.1900,2,     34.4,2,    35.2,2,   95.48,2,   37.71,2,    0.00,2,    2.83,2,   0.014,2,   0.008,2,  2323.4,2,  2389.1,2,-999.0000,9,   1.8690,2,   14.80,2,   -0.51,3,  -162.6,2,     3.3,   7.863,2,   0.157,   12449,-999.0000,   6.6404,   0.0090,    0.20
 316N145_11,       I01W,     864,          1,          9,     SIH015,2,19950902,       0620,    14.8333,    55.4195,       2450,  1399.8,   6.0495,  35.1068,2,  35.1095,2,     42.8,2,    42.5,2,  102.52,2,   37.85,2,    0.01,2,    2.84,2,-999.000,9,-999.000,9,  -999.0,9,  -999.0,9,-999.0000,9,   1.8910,2,   14.90,2, -999.00,9,  -999.0,9,    -9.0,   7.854,2,   0.157,   13393,-999.0000,   5.9167,   0.0090,    0.20
 316N145_11,       I01W,     864,          1,          8,     SIH016,2,19950902,       0620,    14.8333,    55.4195,       2450,  1495.6,   5.3150,  35.0379,2,  35.0384,2,     51.6,2,    52.8,2,  110.80,2,   37.94,2,    0.01,2,    2.85,2,   0.003,2,   0.002,2,  2335.0,2,  2403.1,2,-999.0000,9,   1.9040,2,   15.30,2, -999.00,9,  -999.0,9,    -9.0,   8.077,2,   0.162,   14285,-999.0000,   5.1804,   0.0100,    0.20
 316N145_11,       I01W,     864,          1,          7,     SIH017,2,19950902,       0620,    14.8333,    55.4195,       2450,  1597.5,   4.7294,  34.9791,2,  34.9809,2,     60.8,2,    60.8,2,  117.62,2,   37.87,2,    0.01,2,    2.82,2,-999.000,9,-999.000,9,  -999.0,9,  -999.0,9,-999.0000,9,   1.8640,2,   15.00,2,   -0.49,3,  -175.3,2,     3.2,   7.952,2,   0.159,   15234,-999.0000,   4.5915,   0.0090,    0.20
 316N145_11,       I01W,     864,          1,          6,     SIH018,2,19950902,       0620,    14.8333,    55.4195,       2450,  1798.7,   3.7704,  34.8970,2,  34.8967,2,     80.3,2,    80.3,2,  129.44,2,   37.54,2, -999.00,9,    2.75,2,   0.000,2,   0.000,2,  2343.9,2,  2424.0,2,-999.0000,9,   1.9220,2,   15.20,2, -999.00,9,  -999.0,9,    -9.0,   8.059,2,   0.161,   17107,-999.0000,   3.6256,   0.0100,    0.20
 316N145_11,       I01W,     864,          1,          5,     SIH002,2,19950902,       0620,    14.8333,    55.4195,       2450,  2000.2,   3.1059,  34.8451,2,  34.8438,2,     94.5,2,   100.9,2,  137.91,2,   37.14,2,    0.01,2,    2.70,2,-999.000,9,-999.000,9,  -999.0,9,  -999.0,9,-999.0000,9,   1.8960,2,   16.00,2, -999.00,9,  -999.0,9,    -9.0,   8.180,2,   0.164,   18982,-999.0000,   2.9521,   0.0090,    0.20
 316N145_11,       I01W,     864,          1,          4,     SIH020,2,19950902,       0620,    14.8333,    55.4195,       2450,  2192.7,   2.6335,  34.8083,2,  34.8072,2,    109.6,2,   108.8,2,  143.03,2,   36.80,2,    0.01,2,    2.64,2,   0.001,4,  -0.002,4,  2346.5,2,  2435.6,2,-999.0000,9,   1.9310,2,   15.30,2, -999.00,9,  -999.0,9,    -9.0,   8.425,2,   0.168,   20773,-999.0000,   2.4696,   0.0100,    0.20
 316N145_11,       I01W,     864,          1,          3,     SIH021,2,19950902,       0620,    14.8333,    55.4195,       2450,  2395.0,   2.4091,  34.7903,2,  34.7874,2,    114.5,2,   114.9,2,  145.44,2,   36.51,2,    0.00,2,    2.61,2,   0.001,2,  -0.001,2,  -999.0,9,  -999.0,9,-999.0000,9,   1.9000,2,   14.20,2, -999.00,9,  -999.0,9,    -9.0,   8.309,2,   0.166,   22656,-999.0000,   2.2305,   0.0090,    0.20
 316N145_11,       I01W,     864,          1,          2,     SIH022,2,19950902,       0620,    14.8333,    55.4195,       2450,  2485.3,   2.3403,  34.7846,2,  34.7858,2,    117.9,2,   118.2,2,  144.99,2,   36.42,2,    0.01,2,    2.59,2,   0.002,2,   0.006,2,  -999.0,9,  -999.0,9,-999.0000,9,   1.8820,2,   13.80,2, -999.00,9,  -999.0,9,    -9.0,   8.131,2,   0.163,   23496,-999.0000,   2.1545,   0.0090,    0.20
 316N145_11,       I01W,     864,          1,          1,     SIH023,2,19950902,       0620,    14.8333,    55.4195,       2450,  2536.2,   2.2703,  34.7803,2,-999.0000,9,    119.4,2,   119.6,2, -999.00,9, -999.00,9, -999.00,9, -999.00,9,   0.003,2,   0.003,2,  2343.8,2,  2438.9,2,-999.0000,9,   1.9090,2,   13.40,2, -999.00,9,  -999.0,9,    -9.0,   8.269,2,   0.165,   23969,-999.0000,   2.0811,   0.0100,    0.20