BOTTLE,20211119CCHSIORKP
EXPOCODE,SECT_ID,STNNBR,CASTNO,SAMPNO,BTLNBR,BTLNBR_FLAG_W,DATE,TIME,LATITUDE,LONGITUDE,DEPTH,CTDPRS,CTDTMP,CTDSAL,CTDSAL_FLAG_W,SALNTY,SALNTY_FLAG_W,CTDOXY,CTDOXY_FLAG_W,OXYGEN,OXYGEN_FLAG_W,SILCAT,SILCAT_FLAG_W,NITRAT,NITRAT_FLAG_W,NITRIT,NITRIT_FLAG_W,PHSPHT,PHSPHT_FLAG_W,CFC-11,CFC-11_FLAG_W,CFC-12,CFC-12_FLAG_W,TCARBN,TCARBN_FLAG_W,ALKALI,ALKALI_FLAG_W,TRITUM,TRITUM_FLAG_W,HELIUM,HELIUM_FLAG_W,DELHE3,DELHE3_FLAG_W,DELC13,DELC13_FLAG_W,DELC14,DELC14_FLAG_W,C14ERR,NEON,NEON_FLAG_W,NEONER,CTDRAW,TRITER,THETA,HELIER,DELHER
,,,,,,,,,,,METERS,DBAR,ITS-90,PSS-78,,PSS-78,,UMOL/KG,,UMOL/KG,,UMOL/KG,,UMOL/KG,,UMOL/KG,,UMOL/KG,,PMOL/KG,,PMOL/KG,,UMOL/KG,,UMOL/KG,,TU,,NMOL/KG,,PERCNT,,/MILLE,,/MILLE,,/MILLE,NMOL/KG,,NMOL/KG,DBAR,TU,DEG C,NMOL/KG,PERCNT
 316N145_11,       I01W,     894,          1,         36,     SIH024,2,19950910,       0751,    10.5695,    53.4500,       4020,    10.4,  26.1742,  35.7167,2,  35.7154,2,    203.5,2,   206.5,2,    3.85,2,    2.79,2,    0.47,2,    0.45,2,   1.769,2,   1.026,2,  2013.2,2,  2331.5,2,-999.0000,9,-999.0000,9, -999.00,9, -999.00,9,  -999.0,9,    -9.0,-999.000,9,-999.000,      87,-999.0000,  26.1719,-999.0000, -999.00
 316N145_11,       I01W,     894,          1,         35,     SIH003,2,19950910,       0751,    10.5695,    53.4500,       4020,    30.3,  26.1348,  35.7119,2,  35.7140,2,    206.2,2,   209.7,2,    3.46,2,    2.89,2,    0.48,2,    0.46,2,-999.000,9,-999.000,9,  2013.4,2,  2330.1,2,-999.0000,9,-999.0000,9, -999.00,9, -999.00,9,  -999.0,9,    -9.0,-999.000,9,-999.000,     286,-999.0000,  26.1281,-999.0000, -999.00
 316N145_11,       I01W,     894,          1,         34,     SIH026,2,19950910,       0751,    10.5695,    53.4500,       4020,    60.7,  26.1089,  35.7149,2,  35.7132,2,    206.0,2,   201.8,2,    3.85,2,    2.87,2,    0.50,2,    0.46,2,-999.000,9,-999.000,9,  2015.1,2,  2337.9,2,-999.0000,9,-999.0000,9, -999.00,9, -999.00,9,  -999.0,9,    -9.0,-999.000,9,-999.000,     590,-999.0000,  26.0953,-999.0000, -999.00
 316N145_11,       I01W,     894,          1,         33,     SIH027,2,19950910,       0751,    10.5695,    53.4500,       4020,    90.8,  26.1149,  35.7139,2,  35.7126,2,    204.9,2,   207.3,2,    3.65,2,    2.83,2,    0.49,2,    0.47,2,-999.000,9,-999.000,9,  2014.6,2,  2331.5,2,-999.0000,9,-999.0000,9, -999.00,9, -999.00,9,  -999.0,9,    -9.0,-999.000,9,-999.000,     891,-999.0000,  26.0945,-999.0000, -999.00
 316N145_11,       I01W,     894,          1,         32,     SIH028,2,19950910,       0751,    10.5695,    53.4500,       4020,   120.9,  26.1121,  35.7147,2,  35.7124,2,    204.1,2,   201.4,2,    3.65,2,    2.93,2,    0.50,2,    0.47,2,   1.762,2,   1.016,2,  2016.1,2,  2329.1,2,-999.0000,9,-999.0000,9, -999.00,9, -999.00,9,  -999.0,9,    -9.0,-999.000,9,-999.000,    1192,-999.0000,  26.0850,-999.0000, -999.00
 316N145_11,       I01W,     894,          1,         31,     SIH029,2,19950910,       0751,    10.5695,    53.4500,       4020,   149.7,  25.8277,  35.6794,2,  35.6806,2,    195.6,2,   191.6,2,    4.23,2,    4.02,2,    0.63,2,    0.54,2,-999.000,9,-999.000,9,  2023.4,2,  2325.8,2,-999.0000,9,-999.0000,9, -999.00,9, -999.00,9,  -999.0,9,    -9.0,-999.000,9,-999.000,    1480,-999.0000,  25.7944,-999.0000, -999.00
 316N145_11,       I01W,     894,          1,         30,     SIH030,2,19950910,       0751,    10.5695,    53.4500,       4020,   199.8,  21.6664,  35.6056,2,  35.6101,2,    112.3,2,    85.2,2,   11.15,2,   17.80,2,    0.02,2,    1.39,2,-999.000,9,-999.000,9,  2132.3,2,  2321.4,2,-999.0000,9,-999.0000,9, -999.00,9, -999.00,9,  -999.0,9,    -9.0,-999.000,9,-999.000,    1982,-999.0000,  21.6271,-999.0000, -999.00
 316N145_11,       I01W,     894,          1,         29,     SIH031,2,19950910,       0751,    10.5695,    53.4500,       4020,   254.6,  15.7805,  35.3493,2,  35.3441,2,     56.5,2,    59.1,2,   19.43,2,   23.52,2,    0.01,2,    1.80,2,-999.000,9,-999.000,9,  2190.9,2,  2315.1,2,-999.0000,9,-999.0000,9, -999.00,9, -999.00,9,  -999.0,9,    -9.0,-999.000,9,-999.000,    2530,-999.0000,  15.7404,-999.0000, -999.00
 316N145_11,       I01W,     894,          1,         28,     SIH032,2,19950910,       0751,    10.5695,    53.4500,       4020,   302.7,  13.9422,  35.2478,2,  35.2495,2,     69.4,2,    75.4,2,   20.78,2,   23.80,2,    0.01,2,    1.76,2,   0.982,2,   0.517,2,  2193.3,2,  2316.5,2,-999.0000,9,-999.0000,9, -999.00,9, -999.00,9,  -999.0,9,    -9.0,-999.000,9,-999.000,    3011,-999.0000,  13.8983,-999.0000, -999.00
 316N145_11,       I01W,     894,          1,         27,     SIH033,2,19950910,       0751,    10.5695,    53.4500,       4020,   401.5,  12.4058,  35.2879,2,  35.2850,2,     62.8,2,    56.3,2,   27.33,2,   27.73,2,    0.01,2,    2.07,2,-999.000,9,-999.000,9,  -999.0,9,  -999.0,9,-999.0000,9,-999.0000,9, -999.00,9, -999.00,9,  -999.0,9,    -9.0,-999.000,9,-999.000,    4000,-999.0000,  12.3517,-999.0000, -999.00
 316N145_11,       I01W,     894,          1,         26,     SIH037,2,19950910,       0751,    10.5695,    53.4500,       4020,   502.3,  11.2646,  35.2576,2,  35.2572,2,     45.1,2,    43.0,2,   34.45,2,   30.85,2,    0.01,2,    2.29,2,   0.309,2,   0.164,2,  -999.0,9,  -999.0,9,-999.0000,9,-999.0000,9, -999.00,9, -999.00,9,  -999.0,9,    -9.0,-999.000,9,-999.000,    5008,-999.0000,  11.2007,-999.0000, -999.00
 316N145_11,       I01W,     894,          1,         25,     SI9446,2,19950910,       0751,    10.5695,    53.4500,       4020,   602.5,  11.0440,  35.3446,2,  35.3488,2,     38.5,2,    27.7,2,   41.38,2,   32.25,2,    0.01,2,    2.48,2,-999.000,9,-999.000,9,  -999.0,9,  -999.0,9,-999.0000,9,-999.0000,9, -999.00,9, -999.00,9,  -999.0,9,    -9.0,-999.000,9,-999.000,    6010,-999.0000,  10.9680,-999.0000, -999.00
 316N145_11,       I01W,     894,          1,         24,     SIH036,2,19950910,       0751,    10.5695,    53.4500,       4020,   700.4,  10.9473,  35.4487,2,  35.4472,2,     24.1,2,    23.7,2,   46.97,2,   32.46,2,    0.01,2,    2.55,2,   0.135,2,   0.073,2,  -999.0,9,  -999.0,9,-999.0000,9,-999.0000,9, -999.00,9, -999.00,9,  -999.0,9,    -9.0,-999.000,9,-999.000,    6989,-999.0000,  10.8588,-999.0000, -999.00
 316N145_11,       I01W,     894,          1,         23,     SIH001,2,19950910,       0751,    10.5695,    53.4500,       4020,   799.6,  10.5217,  35.4517,2,  35.4498,2,     25.0,2,    26.7,2,   52.16,2,   33.11,2,    0.01,2,    2.60,2,-999.000,9,-999.000,9,  -999.0,9,  -999.0,9,-999.0000,9,-999.0000,9, -999.00,9, -999.00,9,  -999.0,9,    -9.0,-999.000,9,-999.000,    7982,-999.0000,  10.4226,-999.0000, -999.00
 316N145_11,       I01W,     894,          1,         22,     SIH019,2,19950910,       0751,    10.5695,    53.4500,       4020,   898.9,   9.7858,  35.3690,2,  35.3697,2,     28.6,2,    26.9,2,   58.91,2,   34.35,2,    0.01,2,    2.66,2,   0.073,2,   0.036,2,  -999.0,9,  -999.0,9,-999.0000,9,-999.0000,9, -999.00,9, -999.00,9,  -999.0,9,    -9.0,-999.000,9,-999.000,    8976,-999.0000,   9.6787,-999.0000, -999.00
 316N145_11,       I01W,     894,          1,         21,     SIH025,2,19950910,       0751,    10.5695,    53.4500,       4020,  1000.4,   9.1472,  35.3225,2,  35.3196,2,     31.0,2,    29.0,2,   65.47,2,   35.11,2,    0.00,2,    2.71,2,-999.000,9,-999.000,9,  -999.0,9,  -999.0,9,-999.0000,9,-999.0000,9, -999.00,9, -999.00,9,  -999.0,9,    -9.0,-999.000,9,-999.000,    9990,-999.0000,   9.0320,-999.0000, -999.00
 316N145_11,       I01W,     894,          1,         20,     SIH004,2,19950910,       0751,    10.5695,    53.4500,       4020,  1102.8,   8.8811,  35.3900,2,  35.3928,2,     27.8,2,    27.4,2,   71.82,2,   35.36,2,    0.01,2,    2.74,2,   0.064,2,   0.031,2,  -999.0,9,  -999.0,9,-999.0000,9,-999.0000,9, -999.00,9, -999.00,9,  -999.0,9,    -9.0,-999.000,9,-999.000,   11015,-999.0000,   8.7554,-999.0000, -999.00
 316N145_11,       I01W,     894,          1,         19,     SIH005,2,19950910,       0751,    10.5695,    53.4500,       4020,  1201.2,   8.0127,  35.2719,2,  35.2777,2,     34.2,2,    32.8,2,   78.76,2,   36.33,2,    0.01,2,    2.79,2,-999.000,9,-999.000,9,  -999.0,9,  -999.0,9,-999.0000,9,-999.0000,9, -999.00,9, -999.00,9,  -999.0,9,    -9.0,-999.000,9,-999.000,   11999,-999.0000,   7.8828,-999.0000, -999.00
 316N145_11,       I01W,     894,          1,         18,     SIH006,2,19950910,       0751,    10.5695,    53.4500,       4020,  1304.2,   6.8946,  35.1370,2,  35.1453,2,     40.5,2,    43.0,2,   88.21,2,   37.05,2,    0.00,2,    2.81,2,-999.000,9,-999.000,9,  -999.0,9,  -999.0,9,-999.0000,9,-999.0000,9, -999.00,9, -999.00,9,  -999.0,9,    -9.0,-999.000,9,-999.000,   13030,-999.0000,   6.7636,-999.0000, -999.00
 316N145_11,       I01W,     894,          1,         17,     SIH038,2,19950910,       0751,    10.5695,    53.4500,       4020,  1401.6,   5.6299,  35.0261,2,  35.0240,2,     59.2,2,    58.8,2,   99.98,2,   37.31,2,    0.01,2,    2.82,2,-999.000,9,-999.000,9,  -999.0,9,  -999.0,9,-999.0000,9,-999.0000,9, -999.00,9, -999.00,9,  -999.0,9,    -9.0,-999.000,9,-999.000,   14005,-999.0000,   5.5014,-999.0000, -999.00
 316N145_11,       I01W,     894,          1,         16,     SIH008,2,19950910,       0751,    10.5695,    53.4500,       4020,  1496.1,   4.8130,  34.9499,2,  34.9492,2,     70.7,2,    74.0,2,  108.08,2,   37.26,2,    0.01,2,    2.80,2,   0.000,2,   0.000,2,  -999.0,9,  -999.0,9,-999.0000,9,-999.0000,9, -999.00,9, -999.00,9,  -999.0,9,    -9.0,-999.000,9,-999.000,   14951,-999.0000,   4.6841,-999.0000, -999.00
 316N145_11,       I01W,     894,          1,         15,     SIH009,2,19950910,       0751,    10.5695,    53.4500,       4020,  1600.9,   4.2943,  34.9154,2,  34.9154,2,     83.0,2,    81.8,2,  114.65,2,   37.15,2,    0.00,2,    2.78,2,-999.000,9,-999.000,9,  -999.0,9,  -999.0,9,-999.0000,9,-999.0000,9, -999.00,9, -999.00,9,  -999.0,9,    -9.0,-999.000,9,-999.000,   15999,-999.0000,   4.1614,-999.0000, -999.00
 316N145_11,       I01W,     894,          1,         14,     SIH010,2,19950910,       0751,    10.5695,    53.4500,       4020,  1807.3,   3.4576,  34.8532,2,  34.8554,2,     98.8,2,    97.7,2,  124.11,2,   36.83,2,    0.00,2,    2.73,2,   0.002,2,   0.004,2,  -999.0,9,  -999.0,9,-999.0000,9,-999.0000,9, -999.00,9, -999.00,9,  -999.0,9,    -9.0,-999.000,9,-999.000,   18065,-999.0000,   3.3164,-999.0000, -999.00
 316N145_11,       I01W,     894,          1,         13,     SIH011,2,19950910,       0751,    10.5695,    53.4500,       4020,  2009.5,   2.8196,  34.8063,2,  34.8070,2,    116.1,2,   116.0,2,  128.90,2,   35.76,2,    0.00,2,    2.63,2,-999.000,9,-999.000,9,  -999.0,9,  -999.0,9,-999.0000,9,-999.0000,9, -999.00,9, -999.00,9,  -999.0,9,    -9.0,-999.000,9,-999.000,   20087,-999.0000,   2.6694,-999.0000, -999.00
 316N145_11,       I01W,     894,          1,         12,     SIH012,2,19950910,       0751,    10.5695,    53.4500,       4020,  2192.2,   2.4899,  34.7853,2,  34.7842,2,    126.7,2,   125.9,2,  131.84,2,   35.92,2,    0.00,2,    2.59,2,   0.000,2,  -0.001,2,  -999.0,9,  -999.0,9,-999.0000,9,-999.0000,9, -999.00,9, -999.00,9,  -999.0,9,    -9.0,-999.000,9,-999.000,   21916,-999.0000,   2.3284,-999.0000, -999.00
 316N145_11,       I01W,     894,          1,         11,     SI9426,2,19950910,       0751,    10.5695,    53.4500,       4020,  2393.6,   2.2240,  34.7714,2,  34.7705,2,    133.1,2,   132.2,2,  134.93,2,   35.64,2,    0.00,2,    2.56,2,-999.000,9,-999.000,9,  -999.0,9,  -999.0,9,-999.0000,9,-999.0000,9, -999.00,9, -999.00,9,  -999.0,9,    -9.0,-999.000,9,-999.000,   23932,-999.0000,   2.0488,-999.0000, -999.00
 316N145_11,       I01W,     894,          1,         10,     SIH014,2,19950910,       0751,    10.5695,    53.4500,       4020,  2591.1,   2.0618,  34.7616,2,  34.7602,2,    137.8,2,   137.2,2,  137.06,2,   35.42,2,    0.01,2,    2.54,2,   0.005,3,  -0.002,2,  -999.0,9,  -999.0,9,-999.0000,9,-999.0000,9, -999.00,9, -999.00,9,  -999.0,9,    -9.0,-999.000,9,-999.000,   25908,-999.0000,   1.8715,-999.0000, -999.00
 316N145_11,       I01W,     894,          1,          9,     SIH015,2,19950910,       0751,    10.5695,    53.4500,       4020,  2788.9,   1.9134,  34.7519,2,  34.7512,2,    145.0,2,   145.2,2,  136.89,2,   35.26,2,    0.00,2,    2.52,2,-999.000,9,-999.000,9,  -999.0,9,  -999.0,9,-999.0000,9,-999.0000,9, -999.00,9, -999.00,9,  -999.0,9,    -9.0,-999.000,9,-999.000,   27888,-999.0000,   1.7075,-999.0000, -999.00
 316N145_11,       I01W,     894,          1,          8,     SIH016,2,19950910,       0751,    10.5695,    53.4500,       4020,  2997.1,   1.8239,  34.7466,2,  34.7473,2,    149.3,2,   149.3,2,  137.86,2,   35.10,2,    0.00,2,    2.50,2,  -0.002,2,   0.000,2,  2321.1,2,  2421.2,2,-999.0000,9,-999.0000,9, -999.00,9, -999.00,9,  -999.0,9,    -9.0,-999.000,9,-999.000,   29971,-999.0000,   1.5998,-999.0000, -999.00
 316N145_11,       I01W,     894,          1,          7,     SIH017,2,19950910,       0751,    10.5695,    53.4500,       4020,  3201.6,   1.7981,  34.7451,2,  34.7443,2,    149.1,2,   148.5,2,  139.23,2,   35.20,2,    0.00,2,    2.50,2,-999.000,9,-999.000,9,  -999.0,9,  -999.0,9,-999.0000,9,-999.0000,9, -999.00,9, -999.00,9,  -999.0,9,    -9.0,-999.000,9,-999.000,   32018,-999.0000,   1.5545,-999.0000, -999.00
 316N145_11,       I01W,     894,          1,          6,     SIH018,2,19950910,       0751,    10.5695,    53.4500,       4020,  3395.2,   1.7630,  34.7425,2,  34.7408,2,    153.0,2,   152.9,2,  138.85,2,   35.09,2,    0.01,2,    2.48,2,  -0.002,2,   0.000,2,  -999.0,9,  -999.0,9,-999.0000,9,-999.0000,9, -999.00,9, -999.00,9,  -999.0,9,    -9.0,-999.000,9,-999.000,   33955,-999.0000,   1.5006,-999.0000, -999.00
 316N145_11,       I01W,     894,          1,          5,     SIH002,2,19950910,       0751,    10.5695,    53.4500,       4020,  3586.5,   1.7462,  34.7408,2,  34.7390,2,    156.2,2,   155.6,2,  138.09,2,   34.88,2,    0.00,2,    2.47,2,-999.000,9,-999.000,9,  -999.0,9,  -999.0,9,-999.0000,9,-999.0000,9, -999.00,9, -999.00,9,  -999.0,9,    -9.0,-999.000,9,-999.000,   35869,-999.0000,   1.4645,-999.0000, -999.00
 316N145_11,       I01W,     894,          1,          4,     SIH020,2,19950910,       0751,    10.5695,    53.4500,       4020,  3792.1,   1.7006,  34.7360,2,  34.7364,3,    161.9,2,   160.5,2,  136.37,2,   34.64,2,    0.00,2,    2.43,2,   0.000,2,   0.000,2,  -999.0,9,  -999.0,9,-999.0000,9,-999.0000,9, -999.00,9, -999.00,9,  -999.0,9,    -9.0,-999.000,9,-999.000,   37926,-999.0000,   1.3983,-999.0000, -999.00
 316N145_11,       I01W,     894,          1,          3,     SIH021,2,19950910,       0751,    10.5695,    53.4500,       4020,  3996.2,   1.4646,  34.7256,2,  34.7235,2,    173.6,2,   172.8,2,  135.80,2,   34.01,2,    0.00,2,    2.38,2,-999.000,9,-999.000,9,  -999.0,9,  -999.0,9,-999.0000,9,-999.0000,9, -999.00,9, -999.00,9,  -999.0,9,    -9.0,-999.000,9,-999.000,   39968,-999.0000,   1.1469,-999.0000, -999.00
 316N145_11,       I01W,     894,          1,          2,     SIH022,2,19950910,       0751,    10.5695,    53.4500,       4020,  4043.4,   1.4174,  34.7236,2,  34.7217,2,    176.2,2,   176.8,2,  135.23,2,   33.94,2,    0.01,2,    2.37,2,   0.000,2,  -0.001,2,  -999.0,9,  -999.0,9,-999.0000,9,-999.0000,9, -999.00,9, -999.00,9,  -999.0,9,    -9.0,-999.000,9,-999.000,   40441,-999.0000,   1.0958,-999.0000, -999.00
 316N145_11,       I01W,     894,          1,          1,     SIH023,2,19950910,       0751,    10.5695,    53.4500,       4020,  4095.0,   1.3912,  34.7227,2,  34.7193,2,    176.8,2,   177.2,2,  137.12,2,   33.82,2,    0.01,2,    2.37,2,   0.001,2,  -0.001,2,  -999.0,9,  -999.0,9,-999.0000,9,-999.0000,9, -999.00,9, -999.00,9,  -999.0,9,    -9.0,-999.000,9,-999.000,   40958,-999.0000,   1.0647,-999.0000, -999.00