BOTTLE,20211119CCHSIORKP
EXPOCODE,SECT_ID,STNNBR,CASTNO,SAMPNO,BTLNBR,BTLNBR_FLAG_W,DATE,TIME,LATITUDE,LONGITUDE,DEPTH,CTDPRS,CTDTMP,CTDSAL,CTDSAL_FLAG_W,SALNTY,SALNTY_FLAG_W,CTDOXY,CTDOXY_FLAG_W,OXYGEN,OXYGEN_FLAG_W,SILCAT,SILCAT_FLAG_W,NITRAT,NITRAT_FLAG_W,NITRIT,NITRIT_FLAG_W,PHSPHT,PHSPHT_FLAG_W,CFC-11,CFC-11_FLAG_W,CFC-12,CFC-12_FLAG_W,TCARBN,TCARBN_FLAG_W,ALKALI,ALKALI_FLAG_W,TRITUM,TRITUM_FLAG_W,HELIUM,HELIUM_FLAG_W,DELHE3,DELHE3_FLAG_W,DELC13,DELC13_FLAG_W,DELC14,DELC14_FLAG_W,C14ERR,NEON,NEON_FLAG_W,NEONER,CTDRAW,TRITER,THETA,HELIER,DELHER
,,,,,,,,,,,METERS,DBAR,ITS-90,PSS-78,,PSS-78,,UMOL/KG,,UMOL/KG,,UMOL/KG,,UMOL/KG,,UMOL/KG,,UMOL/KG,,PMOL/KG,,PMOL/KG,,UMOL/KG,,UMOL/KG,,TU,,NMOL/KG,,PERCNT,,/MILLE,,/MILLE,,/MILLE,NMOL/KG,,NMOL/KG,DBAR,TU,DEG C,NMOL/KG,PERCNT
 316N145_11,       I01W,     878,          1,         32,     SIH028,2,19950906,       1430,    12.5000,    46.4167,       1770,     5.9,  29.3069,  36.5238,2,  36.5228,2,    188.4,2,   205.5,2,    1.47,2,   -0.01,2,    0.01,2,    0.24,2,   1.545,2,   0.909,2,  -999.0,9,  -999.0,9,-999.0000,9,-999.0000,9, -999.00,9,    1.72,2,    49.5,2,     3.4,-999.000,9,-999.000,      34,-999.0000,  29.3055,-999.0000, -999.00
 316N145_11,       I01W,     878,          1,         31,     SIH029,2,19950906,       1430,    12.5000,    46.4167,       1770,     5.9,  29.3072,  36.5252,2,  36.5222,2,    188.4,2,   204.5,2,    1.47,2,   -0.07,2,    0.01,2,    0.24,2,-999.000,9,-999.000,9,  2009.5,2,  2373.2,2,-999.0000,9,-999.0000,9, -999.00,9, -999.00,9,  -999.0,9,    -9.0,-999.000,9,-999.000,      34,-999.0000,  29.3057,-999.0000, -999.00
 316N145_11,       I01W,     878,          1,         30,     SIH030,2,19950906,       1430,    12.5000,    46.4167,       1770,    27.6,  28.7587,  36.3335,2,  36.3479,2,    184.7,2,   183.4,2,    2.82,2,    2.18,2,    0.11,2,    0.43,2,-999.000,9,-999.000,9,  2032.8,2,  2371.4,2,-999.0000,9,-999.0000,9, -999.00,9, -999.00,9,  -999.0,9,    -9.0,-999.000,9,-999.000,     251,-999.0000,  28.7521,-999.0000, -999.00
 316N145_11,       I01W,     878,          1,         29,     SIH031,2,19950906,       1430,    12.5000,    46.4167,       1770,    27.9,  28.7403,  36.3985,2,  36.3734,2,    183.9,2,   189.3,2,    2.04,2,    1.29,2,    0.09,2,    0.36,2,-999.000,9,-999.000,9,  -999.0,9,  -999.0,9,-999.0000,9,-999.0000,9, -999.00,9, -999.00,9,  -999.0,9,    -9.0,-999.000,9,-999.000,     254,-999.0000,  28.7335,-999.0000, -999.00
 316N145_11,       I01W,     878,          1,         28,     SIH032,2,19950906,       1430,    12.5000,    46.4167,       1770,    56.9,  18.5964,  35.6918,2,  35.7090,2,     21.7,2,    28.8,2,   17.36,2,   24.55,2,    0.12,2,    1.95,2,-999.000,9,-999.000,9,  2210.0,2,  2332.9,2,-999.0000,9,-999.0000,9, -999.00,9,   -0.05,2,    30.1,2,     3.4,-999.000,9,-999.000,     544,-999.0000,  18.5864,-999.0000, -999.00
 316N145_11,       I01W,     878,          1,         27,     SIH033,2,19950906,       1430,    12.5000,    46.4167,       1770,    87.5,  16.5750,  35.6896,2,  35.6891,2,      9.7,2,    19.0,2,   22.01,2,   26.05,2,    0.02,2,    2.11,2,-999.000,9,-999.000,9,  -999.0,9,  -999.0,9,-999.0000,9,-999.0000,9, -999.00,9, -999.00,9,  -999.0,9,    -9.0,-999.000,9,-999.000,     850,-999.0000,  16.5608,-999.0000, -999.00
 316N145_11,       I01W,     878,          1,         26,     SIH037,2,19950906,       1430,    12.5000,    46.4167,       1770,   117.7,  15.6882,  35.6838,2,  35.6927,2,      9.9,2,    22.5,2,   23.57,2,   26.27,2,    0.01,2,    2.09,2,   0.810,2,   0.446,2,  2234.9,2,  2341.1,2,-999.0000,9,-999.0000,9, -999.00,9,   -0.20,2,    -7.9,2,     7.1,-999.000,9,-999.000,    1152,-999.0000,  15.6698,-999.0000, -999.00
 316N145_11,       I01W,     878,          1,         25,     SI9446,2,19950906,       1430,    12.5000,    46.4167,       1770,   147.9,  15.4375,  35.7391,2,  35.7473,2,     14.0,2,    24.6,2,   24.34,2,   26.27,2,    0.01,2,    2.07,2,-999.000,9,-999.000,9,  -999.0,9,  -999.0,9,-999.0000,9,-999.0000,9, -999.00,9, -999.00,9,  -999.0,9,    -9.0,-999.000,9,-999.000,    1455,-999.0000,  15.4145,-999.0000, -999.00
 316N145_11,       I01W,     878,          1,         24,     SIH036,2,19950906,       1430,    12.5000,    46.4167,       1770,   178.2,  15.4170,  35.8695,2,  35.8728,2,     18.0,2,    25.2,2,   24.53,2,   26.17,2,    0.01,2,    2.03,2,-999.000,9,-999.000,9,  -999.0,9,  -999.0,9,-999.0000,9,-999.0000,9, -999.00,9,   -0.02,2,    -0.1,2,     3.7,-999.000,9,-999.000,    1758,-999.0000,  15.3893,-999.0000, -999.00
 316N145_11,       I01W,     878,          1,         23,     SIH001,2,19950906,       1430,    12.5000,    46.4167,       1770,   178.2,  15.4179,  35.8708,2,  35.8773,2,     18.0,2,    26.8,2,   24.53,2,   26.17,2,    0.01,2,    2.04,2,-999.000,9,-999.000,9,  2233.6,2,  2339.9,2,-999.0000,9,-999.0000,9, -999.00,9, -999.00,9,  -999.0,9,    -9.0,-999.000,9,-999.000,    1758,-999.0000,  15.3902,-999.0000, -999.00
 316N145_11,       I01W,     878,          1,         22,     SIH019,2,19950906,       1430,    12.5000,    46.4167,       1770,   198.3,  15.6134,  36.0161,2,  36.0198,2,     21.4,2,    27.4,2,   24.33,2,   25.64,2,    0.01,2,    1.99,2,   0.754,4,   0.411,4,  -999.0,9,  -999.0,9,-999.0000,9,-999.0000,9, -999.00,9, -999.00,9,  -999.0,9,    -9.0,-999.000,9,-999.000,    1958,-999.0000,  15.5823,-999.0000, -999.00
 316N145_11,       I01W,     878,          1,         21,     SIH025,2,19950906,       1430,    12.5000,    46.4167,       1770,   247.9,  15.6787,  36.1977,2,  36.2208,2,     23.1,2,    28.1,2,   25.11,2,   25.79,2,    0.01,2,    1.99,2,-999.000,9,-999.000,9,  2232.6,2,  2352.0,2,-999.0000,9,-999.0000,9, -999.00,9,    0.05,2,    -4.0,2,     3.1,-999.000,9,-999.000,    2454,-999.0000,  15.6395,-999.0000, -999.00
 316N145_11,       I01W,     878,          1,         20,     SIH004,2,19950906,       1430,    12.5000,    46.4167,       1770,   298.0,  15.6891,  36.3490,2,  36.3548,2,     24.7,2,    30.2,2,   25.88,2,   25.69,2,    0.01,2,    1.98,2,   0.675,2,   0.381,2,  -999.0,9,  -999.0,9,-999.0000,9,-999.0000,9, -999.00,9,    0.06,2,   -15.9,2,     3.3,-999.000,9,-999.000,    2955,-999.0000,  15.6419,-999.0000, -999.00
 316N145_11,       I01W,     878,          1,         19,     SIH005,2,19950906,       1430,    12.5000,    46.4167,       1770,   398.4,  15.3535,  36.4513,2,  36.6461,3,     24.6,2,    28.7,2,   29.18,2,   26.17,2,    0.01,2,    2.02,2,   0.582,2,   0.331,2,  2238.4,2,  2357.9,2,-999.0000,9,-999.0000,9, -999.00,9,    0.10,2,   -29.0,2,     3.0,-999.000,9,-999.000,    3961,-999.0000,  15.2912,-999.0000, -999.00
 316N145_11,       I01W,     878,          1,         17,     SIH038,2,19950906,       1430,    12.5000,    46.4167,       1770,   498.8,  15.4879,  36.6469,2,  36.6433,2,     23.8,2,    30.1,2,   30.54,2,   25.85,2,    0.01,2,    2.01,2,-999.000,9,-999.000,9,  -999.0,9,  -999.0,9,-999.0000,9,-999.0000,9, -999.00,9, -999.00,9,  -999.0,9,    -9.0,-999.000,9,-999.000,    4966,-999.0000,  15.4090,-999.0000, -999.00
 316N145_11,       I01W,     878,          1,         18,     SIH006,2,19950906,       1430,    12.5000,    46.4167,       1770,   499.0,  15.4953,  36.6507,2,  36.6463,2,     23.8,2,    30.7,2,   30.34,2,   25.80,2,    0.01,2,    2.01,2,-999.000,9,-999.000,9,  -999.0,9,  -999.0,9,-999.0000,9,-999.0000,9, -999.00,9,    0.15,2,   -33.8,2,     2.7,-999.000,9,-999.000,    4967,-999.0000,  15.4163,-999.0000, -999.00
 316N145_11,       I01W,     878,          1,         16,     SIH008,2,19950906,       1430,    12.5000,    46.4167,       1770,   599.0,  15.3154,  36.6893,2,  36.6729,2,     29.3,2,    28.5,2,   33.26,2,   26.28,2,    0.01,2,    2.04,2,   0.532,2,   0.296,2,  2241.1,2,  2367.1,2,-999.0000,9,-999.0000,9, -999.00,9,    0.01,2,   -43.3,2,     2.7,-999.000,9,-999.000,    5968,-999.0000,  15.2211,-999.0000, -999.00
 316N145_11,       I01W,     878,          1,         15,     SIH009,2,19950906,       1430,    12.5000,    46.4167,       1770,   699.6,  14.9114,  36.7179,2,  36.7086,2,     25.3,2,    26.8,2,   37.54,2,   26.88,2,    0.01,2,    2.09,2,-999.000,9,-999.000,9,  -999.0,9,  -999.0,9,-999.0000,9,-999.0000,9, -999.00,9,    0.10,2,   -59.0,2,     3.9,-999.000,9,-999.000,    6975,-999.0000,  14.8028,-999.0000, -999.00
 316N145_11,       I01W,     878,          1,         14,     SIH010,2,19950906,       1430,    12.5000,    46.4167,       1770,   800.2,  13.4765,  36.4045,2,  36.4087,2,     20.2,2,    23.9,2,   45.32,2,   29.09,2,    0.00,2,    2.27,2,   0.354,2,   0.214,2,  2262.8,2,  2370.1,2,-999.0000,9,-999.0000,9, -999.00,9,    0.05,2,   -71.2,2,     2.5,-999.000,9,-999.000,    7982,-999.0000,  13.3599,-999.0000, -999.00
 316N145_11,       I01W,     878,          1,         13,     SIH011,2,19950906,       1430,    12.5000,    46.4167,       1770,   896.1,  12.6754,  36.2908,2,  36.2934,2,     18.7,2,    21.9,2,   51.56,2,   30.21,2,    0.01,2,    2.36,2,-999.000,9,-999.000,9,  -999.0,9,  -999.0,9,-999.0000,9,-999.0000,9, -999.00,9,   -0.02,2,   -83.1,2,     3.6,-999.000,9,-999.000,    8942,-999.0000,  12.5494,-999.0000, -999.00
 316N145_11,       I01W,     878,          1,         11,     SI9426,2,19950906,       1430,    12.5000,    46.4167,       1770,   996.5,  11.5420,  36.0773,2,  36.0784,2,     18.6,2,    17.7,2,   59.17,2,   31.77,2,    0.01,2,    2.49,2,-999.000,9,-999.000,9,  -999.0,9,  -999.0,9,-999.0000,9,-999.0000,9, -999.00,9, -999.00,9,  -999.0,9,    -9.0,-999.000,9,-999.000,    9948,-999.0000,  11.4095,-999.0000, -999.00
 316N145_11,       I01W,     878,          1,         12,     SIH012,2,19950906,       1430,    12.5000,    46.4167,       1770,   996.5,  11.5417,  36.0768,2,  36.0792,2,     18.6,2,    18.4,2,   58.97,2,   31.71,2,    0.01,2,    2.48,2,   0.220,2,   0.119,2,  2282.6,2,  2377.1,2,-999.0000,9,-999.0000,9, -999.00,9, -999.00,9,  -999.0,9,    -9.0,-999.000,9,-999.000,    9948,-999.0000,  11.4092,-999.0000, -999.00
 316N145_11,       I01W,     878,          1,         10,     SIH014,2,19950906,       1430,    12.5000,    46.4167,       1770,  1098.0,  11.0336,  36.0162,2,  36.0143,2,     20.7,2,    19.6,2,   63.46,2,   32.31,2,    0.01,2,    2.52,2,-999.000,9,-999.000,9,  -999.0,9,  -999.0,9,-999.0000,9,-999.0000,9, -999.00,9,   -0.08,2,   -97.8,2,     4.6,-999.000,9,-999.000,   10965,-999.0000,  10.8909,-999.0000, -999.00
 316N145_11,       I01W,     878,          1,          9,     SIH015,2,19950906,       1430,    12.5000,    46.4167,       1770,  1198.9,   9.5951,  35.7261,2,  35.7464,2,     22.3,3,    21.1,2,   72.83,2,   34.05,2,    0.00,2,    2.66,2,   0.130,2,   0.070,2,  2300.2,2,  2386.8,2,-999.0000,9,-999.0000,9, -999.00,9, -999.00,9,  -999.0,9,    -9.0,-999.000,9,-999.000,   11975,-999.0000,   9.4512,-999.0000, -999.00
 316N145_11,       I01W,     878,          1,          8,     SIH016,2,19950906,       1430,    12.5000,    46.4167,       1770,  1299.7,   7.9827,  35.4448,2,  35.4529,2,     27.7,2,    26.2,2,   85.33,2,   35.66,2,    0.01,2,    2.77,2,-999.000,9,-999.000,9,  -999.0,9,  -999.0,9,-999.0000,9,-999.0000,9, -999.00,9,   -0.19,2,  -138.8,2,     2.4,-999.000,9,-999.000,   12985,-999.0000,   7.8413,-999.0000, -999.00
 316N145_11,       I01W,     878,          1,          7,     SIH017,2,19950906,       1430,    12.5000,    46.4167,       1770,  1396.0,   7.3258,  35.3603,2,  35.3474,2,     32.0,2,    31.1,2,   91.19,2,   36.36,2,   -0.01,2,    2.81,2,-999.000,9,-999.000,9,  2322.3,2,  2382.8,2,-999.0000,9,-999.0000,9, -999.00,9, -999.00,9,  -999.0,9,    -9.0,-999.000,9,-999.000,   13949,-999.0000,   7.1799,-999.0000, -999.00
 316N145_11,       I01W,     878,          1,          6,     SIH018,2,19950906,       1430,    12.5000,    46.4167,       1770,  1496.8,   5.9667,  35.1512,2,  35.1530,2,     43.2,2,    42.5,2,  105.25,2,   37.01,2,    0.01,2,    2.87,2,   0.019,2,   0.014,2,  -999.0,9,  -999.0,9,-999.0000,9,-999.0000,9, -999.00,9,   -0.13,2,  -157.0,2,     2.4,-999.000,9,-999.000,   14959,-999.0000,   5.8245,-999.0000, -999.00
 316N145_11,       I01W,     878,          1,          5,     SIH002,2,19950906,       1430,    12.5000,    46.4167,       1770,  1496.8,   5.9682,  35.1514,2,  35.1524,2,     43.2,2,    42.2,2,  105.47,2,   36.90,2,    0.01,2,    2.86,2,-999.000,9,-999.000,9,  -999.0,9,  -999.0,9,-999.0000,9,-999.0000,9, -999.00,9, -999.00,9,  -999.0,9,    -9.0,-999.000,9,-999.000,   14959,-999.0000,   5.8259,-999.0000, -999.00
 316N145_11,       I01W,     878,          1,          3,     SIH021,2,19950906,       1430,    12.5000,    46.4167,       1770,  1597.7,   5.1573,  35.0498,2,  35.0522,2,     51.4,2,    52.2,2,  114.87,2,   37.41,2,   -0.01,2,    2.87,2,-999.000,9,-999.000,9,  -999.0,9,  -999.0,9,-999.0000,9,-999.0000,9, -999.00,9, -999.00,9,  -999.0,9,    -9.0,-999.000,9,-999.000,   15970,-999.0000,   5.0142,-999.0000, -999.00
 316N145_11,       I01W,     878,          1,          4,     SIH020,2,19950906,       1430,    12.5000,    46.4167,       1770,  1597.7,   5.1544,  35.0518,2,  35.0545,2,     51.4,2,    52.6,2,  115.24,2,   37.29,2,    0.01,2,    2.87,2,   0.014,2,   0.009,2,  2342.2,2,  2407.0,2,-999.0000,9,-999.0000,9, -999.00,9, -999.00,9,  -999.0,9,    -9.0,-999.000,9,-999.000,   15970,-999.0000,   5.0113,-999.0000, -999.00
 316N145_11,       I01W,     878,          1,          1,     SIH023,2,19950906,       1430,    12.5000,    46.4167,       1770,  1729.0,   4.3234,  34.9654,2,  34.9669,2,     63.2,2,    62.1,2,  127.61,2,   37.09,2,    0.00,2,    2.86,2,-999.000,9,-999.000,9,  -999.0,9,  -999.0,9,-999.0000,9,-999.0000,9, -999.00,9, -999.00,9,  -999.0,9,    -9.0,-999.000,9,-999.000,   17285,-999.0000,   4.1778,-999.0000, -999.00
 316N145_11,       I01W,     878,          1,          2,     SIH022,2,19950906,       1430,    12.5000,    46.4167,       1770,  1729.1,   4.3239,  34.9637,2,  34.9658,2,     63.2,2,    61.2,2,  127.78,2,   37.25,2,   -0.01,2,    2.88,2,   0.009,2,   0.016,2,  2355.2,2,  2424.0,2,-999.0000,9,-999.0000,9, -999.00,9,   -0.28,2,  -170.4,2,     4.1,-999.000,9,-999.000,   17287,-999.0000,   4.1782,-999.0000, -999.00
 316N145_11,       I01W,     878,          1,         35,     SIH003,2,19950906,       1430,    12.5000,    46.4167,       1770,  1779.6,   4.1759,  34.9506,2,  34.9508,2,     65.6,2,    62.7,2,  130.58,2,   37.00,2,    0.01,2,    2.87,2,-999.000,9,-999.000,9,  -999.0,9,  -999.0,9,-999.0000,9,-999.0000,9, -999.00,9, -999.00,9,  -999.0,9,    -9.0,-999.000,9,-999.000,   17793,-999.0000,   4.0274,-999.0000, -999.00
 316N145_11,       I01W,     878,          1,         36,     SIH024,2,19950906,       1430,    12.5000,    46.4167,       1770,  1780.0,   4.1683,  34.9545,2,  34.9506,2,     65.6,2,    62.7,2,  130.56,2,   37.00,2,    0.01,2,    2.85,2,   0.008,2,   0.017,2,  2357.4,2,  2426.8,2,-999.0000,9,-999.0000,9, -999.00,9, -999.00,9,  -999.0,9,    -9.0,-999.000,9,-999.000,   17797,-999.0000,   4.0198,-999.0000, -999.00