BOTTLE,20211119CCHSIORKP
EXPOCODE,SECT_ID,STNNBR,CASTNO,SAMPNO,BTLNBR,BTLNBR_FLAG_W,DATE,TIME,LATITUDE,LONGITUDE,DEPTH,CTDPRS,CTDTMP,CTDSAL,CTDSAL_FLAG_W,SALNTY,SALNTY_FLAG_W,CTDOXY,CTDOXY_FLAG_W,OXYGEN,OXYGEN_FLAG_W,SILCAT,SILCAT_FLAG_W,NITRAT,NITRAT_FLAG_W,NITRIT,NITRIT_FLAG_W,PHSPHT,PHSPHT_FLAG_W,CFC-11,CFC-11_FLAG_W,CFC-12,CFC-12_FLAG_W,TCARBN,TCARBN_FLAG_W,ALKALI,ALKALI_FLAG_W,TRITUM,TRITUM_FLAG_W,HELIUM,HELIUM_FLAG_W,DELHE3,DELHE3_FLAG_W,DELC13,DELC13_FLAG_W,DELC14,DELC14_FLAG_W,C14ERR,NEON,NEON_FLAG_W,NEONER,CTDRAW,TRITER,THETA,HELIER,DELHER
,,,,,,,,,,,METERS,DBAR,ITS-90,PSS-78,,PSS-78,,UMOL/KG,,UMOL/KG,,UMOL/KG,,UMOL/KG,,UMOL/KG,,UMOL/KG,,PMOL/KG,,PMOL/KG,,UMOL/KG,,UMOL/KG,,TU,,NMOL/KG,,PERCNT,,/MILLE,,/MILLE,,/MILLE,NMOL/KG,,NMOL/KG,DBAR,TU,DEG C,NMOL/KG,PERCNT
 316N145_11,       I01W,     913,          1,         36,     SIH024,2,19950915,       1314,     8.4917,    56.5917,       4380,     6.4,  26.1747,  35.6364,2,  35.6402,2,    222.8,2,   211.9,2,    3.38,2,    2.71,2,    0.26,2,    0.41,2,   1.782,2,   1.026,2,  2008.6,2,  2321.9,2,   0.9090,2,   1.7053,2,   -1.25,2, -999.00,9,  -999.0,9,    -9.0,   6.713,2,   0.034,      56,   0.0037,  26.1732,   0.0085,    0.14
 316N145_11,       I01W,     913,          1,         34,     SIH026,2,19950915,       1314,     8.4917,    56.5917,       4380,    29.7,  25.5975,  35.6257,2,-999.0000,9,    219.0,2,  -999.0,9,    3.55,2,    3.25,2,    0.28,2,    0.45,2,-999.000,9,-999.000,9,  -999.0,9,  -999.0,9,-999.0000,9,-999.0000,9, -999.00,9, -999.00,9,  -999.0,9,    -9.0,-999.000,9,-999.000,     289,-999.0000,  25.5909,-999.0000, -999.00
 316N145_11,       I01W,     913,          1,         35,     SIH003,2,19950915,       1314,     8.4917,    56.5917,       4380,    30.1,  25.5882,  35.6261,2,  35.6222,2,    218.8,2,   214.6,2,    3.73,2,    3.25,2,    0.28,2,    0.46,2,-999.000,9,-999.000,9,  2014.1,2,  2323.4,2,   0.9048,2,   1.7061,2,   -1.06,2, -999.00,9,  -999.0,9,    -9.0,   6.693,2,   0.033,     292,   0.0037,  25.5816,   0.0085,    0.14
 316N145_11,       I01W,     913,          1,         33,     SIH027,2,19950915,       1314,     8.4917,    56.5917,       4380,    60.3,  25.2379,  35.5979,2,  35.5985,2,    208.4,2,   195.3,2,    4.27,2,    4.27,2,    0.55,2,    0.54,2,   1.759,2,   1.007,2,  2025.5,2,  2322.9,2,   0.9073,2,   1.7121,2,   -1.24,2, -999.00,9,  -999.0,9,    -9.0,   6.753,2,   0.034,     595,   0.0036,  25.2247,   0.0086,    0.14
 316N145_11,       I01W,     913,          1,         32,     SIH028,2,19950915,       1314,     8.4917,    56.5917,       4380,    90.0,  24.8790,  35.5704,2,  35.5758,2,    195.6,2,   188.7,2,    4.81,2,    5.09,2,    0.69,2,    0.60,2,-999.000,9,-999.000,9,  2032.3,2,  2322.2,2,   0.8883,2,   1.7123,2,   -0.97,2, -999.00,9,  -999.0,9,    -9.0,   6.755,2,   0.034,     892,   0.0036,  24.8595,   0.0086,    0.14
 316N145_11,       I01W,     913,          1,         31,     SIH029,2,19950915,       1314,     8.4917,    56.5917,       4380,   120.0,  23.7918,  35.5555,2,  35.5573,2,    175.7,2,   166.7,2,    6.26,2,    8.82,2,    0.27,2,    0.81,2,-999.000,9,-999.000,9,  2058.6,2,  2321.4,2,   0.8104,2,   1.7272,2,   -0.44,2, -999.00,9,  -999.0,9,    -9.0,   6.819,2,   0.034,    1192,   0.0034,  23.7666,   0.0086,    0.14
 316N145_11,       I01W,     913,          1,         30,     SIH030,2,19950915,       1314,     8.4917,    56.5917,       4380,   149.4,  21.4767,  35.5544,2,  35.5588,2,    147.3,2,   108.2,2,   10.06,2,   15.49,2,    0.03,2,    1.25,2,   1.524,2,   0.851,2,  2115.1,2,  2317.1,3,   0.7918,2,   1.7345,2,    0.85,2, -999.00,9,  -999.0,9,    -9.0,   6.925,2,   0.035,    1485,   0.0034,  21.4476,   0.0087,    0.14
 316N145_11,       I01W,     913,          1,         29,     SIH031,2,19950915,       1314,     8.4917,    56.5917,       4380,   199.8,  16.6001,  35.3801,2,  35.3890,2,     61.4,2,    53.7,2,   18.58,2,   23.56,2,    0.01,2,    1.82,2,-999.000,9,-999.000,9,  2191.2,2,  2318.8,2,   0.6242,2,   1.7626,2,    3.47,2, -999.00,9,  -999.0,9,    -9.0,   7.171,2,   0.036,    1990,   0.0032,  16.5675,   0.0088,    0.14
 316N145_11,       I01W,     913,          1,         28,     SIH032,2,19950915,       1314,     8.4917,    56.5917,       4380,   249.6,  14.1893,  35.3371,2,  35.3443,2,     48.7,2,    58.4,2,   22.03,2,   25.01,2,    0.00,2,    1.91,2,   0.878,2,   0.465,2,  2207.8,2,  2319.5,2,   0.5125,2,   1.7893,2,    4.37,2, -999.00,9,  -999.0,9,    -9.0,   7.339,2,   0.037,    2488,   0.0030,  14.1527,   0.0089,    0.14
 316N145_11,       I01W,     913,          1,         27,     SIH033,2,19950915,       1314,     8.4917,    56.5917,       4380,   300.1,  13.1608,  35.3486,2,  35.3415,2,     52.3,2,    52.3,2,   24.75,2,   26.63,2,    0.01,2,    2.01,2,-999.000,9,-999.000,9,  2220.3,2,  2320.8,2,   0.4192,2,   1.7708,2,    4.87,2, -999.00,9,  -999.0,9,    -9.0,   7.275,2,   0.036,    2993,   0.0028,  13.1189,   0.0089,    0.14
 316N145_11,       I01W,     913,          1,         26,     SIH037,2,19950915,       1314,     8.4917,    56.5917,       4380,   400.4,  11.7183,  35.2584,2,  35.2580,2,     53.1,2,    53.6,2,   29.83,2,   29.09,2,    0.01,2,    2.14,2,   0.480,3,   0.241,2,  2230.7,2,  2320.7,2,   0.2830,2,   1.8273,2,    5.08,2, -999.00,9,  -999.0,9,    -9.0,   7.512,2,   0.038,    3996,   0.0026,  11.6663,   0.0091,    0.14
 316N145_11,       I01W,     913,          1,         25,     SI9446,2,19950915,       1314,     8.4917,    56.5917,       4380,   500.8,  11.0335,  35.2787,2,  35.2781,2,     41.4,2,    59.5,2,   36.90,2,   31.09,2,    0.00,2,    2.33,2,-999.000,9,-999.000,9,  2246.8,2,  2326.5,2,   0.1864,2,   1.8286,2,    5.63,2, -999.00,9,  -999.0,9,    -9.0,   7.494,2,   0.037,    5001,   0.0025,  10.9706,   0.0091,    0.14
 316N145_11,       I01W,     913,          1,         24,     SIH036,2,19950915,       1314,     8.4917,    56.5917,       4380,   601.1,  10.5692,  35.3123,2,  35.3143,2,     28.0,2,    28.4,2,   45.07,2,   32.98,2,    0.00,2,    2.52,2,   0.122,2,   0.063,2,  2263.6,2,  2336.4,2,   0.1182,2,   1.8085,2,    6.13,2, -999.00,9,  -999.0,9,    -9.0,   7.469,2,   0.037,    6004,   0.0024,  10.4953,   0.0090,    0.14
 316N145_11,       I01W,     913,          1,         23,     SIH001,2,19950915,       1314,     8.4917,    56.5917,       4380,   701.8,  10.0472,  35.3256,2,  35.3285,2,     22.5,2,    22.2,2,   53.42,2,   34.36,2,   -0.01,2,    2.64,2,-999.000,9,-999.000,9,  2277.2,2,  2345.1,2,   0.0813,2,   1.8083,2,    7.08,2, -999.00,9,  -999.0,9,    -9.0,   7.494,2,   0.037,    7011,   0.0023,   9.9631,   0.0090,    0.14
 316N145_11,       I01W,     913,          1,         22,     SIH019,2,19950915,       1314,     8.4917,    56.5917,       4380,   797.1,   9.6109,  35.3591,2,  35.3561,2,     20.0,2,    20.9,2,   60.68,2,   35.19,2,    0.00,2,    2.72,2,   0.046,2,   0.022,2,  2286.6,2,  2352.9,2,   0.0672,2,-999.0000,9, -999.00,9, -999.00,9,  -999.0,9,    -9.0,-999.000,9,-999.000,    7965,   0.0023,   9.5174,-999.0000, -999.00
 316N145_11,       I01W,     913,          1,         21,     SIH025,2,19950915,       1314,     8.4917,    56.5917,       4380,   897.6,   9.2543,  35.3846,2,  35.3843,2,     23.5,2,    22.5,2,   66.30,2,   35.44,2,    0.00,2,    2.74,2,-999.000,9,-999.000,9,  2293.5,2,  2358.2,2,   0.0683,2,   1.8030,2,    9.00,2, -999.00,9,  -999.0,9,    -9.0,   7.499,2,   0.037,    8971,   0.0023,   9.1507,   0.0090,    0.14
 316N145_11,       I01W,     913,          1,         20,     SIH004,2,19950915,       1314,     8.4917,    56.5917,       4380,   998.2,   8.4570,  35.2902,2,  35.3003,2,     28.2,2,    26.3,2,   73.39,2,   36.26,2,    0.01,2,    2.78,2,   0.037,2,   0.018,2,  2301.1,2,  2370.6,2,   0.0509,2,   1.8780,2,   12.60,2, -999.00,9,  -999.0,9,    -9.0,   7.658,2,   0.153,    9977,   0.0023,   8.3470,   0.0090,    0.20
 316N145_11,       I01W,     913,          1,         19,     SIH005,2,19950915,       1314,     8.4917,    56.5917,       4380,  1098.5,   7.3340,  35.1474,2,  35.1459,2,     39.4,2,    37.6,2,   82.12,2,   36.99,2,    0.00,2,    2.80,2,-999.000,9,-999.000,9,  -999.0,9,  -999.0,9,-999.0000,9,   1.8910,2,   14.80,2, -999.00,9,  -999.0,9,    -9.0,   7.894,2,   0.158,   10980,-999.0000,   7.2216,   0.0090,    0.20
 316N145_11,       I01W,     913,          1,         18,     SIH006,2,19950915,       1314,     8.4917,    56.5917,       4380,  1200.0,   6.7283,  35.0971,2,  35.0994,2,     43.8,2,    45.1,2,   88.12,2,   37.36,2,   -0.01,2,    2.82,2,   0.008,2,   0.005,2,  -999.0,9,  -999.0,9,-999.0000,9,   1.8690,2,   14.10,2, -999.00,9,  -999.0,9,    -9.0,   7.876,2,   0.158,   11996,-999.0000,   6.6100,   0.0090,    0.20
 316N145_11,       I01W,     913,          1,         17,     SIH038,2,19950915,       1314,     8.4917,    56.5917,       4380,  1300.1,   6.0871,  35.0362,2,  35.0346,2,     52.6,2,    53.2,2,   93.40,2,   37.57,2,    0.00,2,    2.82,2,-999.000,9,-999.000,9,  -999.0,9,  -999.0,9,-999.0000,9,   1.8960,2,   14.00,2, -999.00,9,  -999.0,9,    -9.0,   8.077,2,   0.162,   12997,-999.0000,   5.9645,   0.0090,    0.20
 316N145_11,       I01W,     913,          1,         16,     SIH008,2,19950915,       1314,     8.4917,    56.5917,       4380,  1396.3,   5.6667,  35.0180,2,  35.0203,2,     59.0,2,    57.6,2,   98.67,2,   37.62,2,    0.01,2,    2.83,2,-999.000,9,-999.000,9,  -999.0,9,  -999.0,9,-999.0000,9,   1.9220,2,   16.30,2, -999.00,9,  -999.0,9,    -9.0,   8.073,2,   0.161,   13960,-999.0000,   5.5385,   0.0100,    0.20
 316N145_11,       I01W,     913,          1,         15,     SIH009,2,19950915,       1314,     8.4917,    56.5917,       4380,  1496.6,   4.9332,  34.9595,2,  34.9589,2,     69.3,2,    69.8,2,  106.50,2,   37.38,2,    0.00,2,    2.80,2,   0.001,2,   0.000,2,  -999.0,9,  -999.0,9,-999.0000,9,-999.0000,9, -999.00,9, -999.00,9,  -999.0,9,    -9.0,-999.000,9,-999.000,   14963,-999.0000,   4.8028,-999.0000, -999.00
 316N145_11,       I01W,     913,          1,         14,     SIH010,2,19950915,       1314,     8.4917,    56.5917,       4380,  1599.1,   4.6978,  34.9559,2,  34.9538,2,     72.0,2,    70.4,2,  110.86,2,   37.59,2,    0.00,2,    2.83,2,-999.000,9,-999.000,9,  -999.0,9,  -999.0,9,-999.0000,9,   1.8870,2,   15.70,2, -999.00,9,  -999.0,9,    -9.0,   8.099,2,   0.162,   15989,-999.0000,   4.5601,   0.0090,    0.20
 316N145_11,       I01W,     913,          1,         13,     SIH011,2,19950915,       1314,     8.4917,    56.5917,       4380,  1795.8,   3.5871,  34.8565,2,  34.8572,2,     96.9,2,    97.6,2,  120.51,2,   36.99,2,    0.00,2,    2.73,2,  -0.001,2,   0.000,2,  -999.0,9,  -999.0,9,-999.0000,9,   1.9360,2,   15.00,2, -999.00,9,  -999.0,9,    -9.0,   8.242,2,   0.165,   17957,-999.0000,   3.4453,   0.0100,    0.20
 316N145_11,       I01W,     913,          1,         12,     SIH012,2,19950915,       1314,     8.4917,    56.5917,       4380,  1998.1,   3.0359,  34.8202,2,  34.8204,2,    109.2,2,   110.8,2,  126.34,2,   36.53,2,   -0.01,2,    2.67,2,-999.000,9,-999.000,9,  -999.0,9,  -999.0,9,-999.0000,9,   1.9490,2,   14.70,2, -999.00,9,  -999.0,9,    -9.0,   8.358,2,   0.167,   19981,-999.0000,   2.8834,   0.0100,    0.20
 316N145_11,       I01W,     913,          1,         11,     SI9426,2,19950915,       1314,     8.4917,    56.5917,       4380,  2199.9,   2.5471,  34.7868,2,  34.7878,2,    123.9,2,   125.8,2,  129.98,2,   35.72,2,    0.00,2,    2.62,2,  -0.002,2,   0.000,2,  -999.0,9,  -999.0,9,-999.0000,9,   1.9310,2,   14.60,2, -999.00,9,  -999.0,9,    -9.0,   8.238,2,   0.165,   22001,-999.0000,   2.3839,   0.0100,    0.20
 316N145_11,       I01W,     913,          1,         10,     SIH014,2,19950915,       1314,     8.4917,    56.5917,       4380,  2393.2,   2.2227,  34.7680,2,  34.7681,2,    133.9,2,   137.1,2,  132.54,2,   35.73,2,    0.00,2,    2.56,2,-999.000,9,-999.000,9,  -999.0,9,  -999.0,9,-999.0000,9,   1.9530,2,   14.90,2, -999.00,9,  -999.0,9,    -9.0,   8.434,2,   0.169,   23935,-999.0000,   2.0476,   0.0100,    0.20
 316N145_11,       I01W,     913,          1,          9,     SIH015,2,19950915,       1314,     8.4917,    56.5917,       4380,  2595.4,   2.0814,  34.7595,2,  34.7594,2,    139.8,2,   142.5,2,  133.09,2,   35.38,2,    0.00,2,    2.53,2,  -0.002,2,   0.001,2,  -999.0,9,  -999.0,9,-999.0000,9,-999.0000,9, -999.00,9, -999.00,9,  -999.0,9,    -9.0,-999.000,9,-999.000,   25959,-999.0000,   1.8903,-999.0000, -999.00
 316N145_11,       I01W,     913,          1,          8,     SIH016,2,19950915,       1314,     8.4917,    56.5917,       4380,  2799.1,   1.9733,  34.7539,2,  34.7537,2,    146.3,2,   146.1,2,  134.55,2,   35.49,2,    0.00,2,    2.51,2,-999.000,9,-999.000,9,  -999.0,9,  -999.0,9,-999.0000,9,   1.9130,2,   14.00,2, -999.00,9,  -999.0,9,    -9.0,   8.371,2,   0.167,   27997,-999.0000,   1.7652,   0.0100,    0.20
 316N145_11,       I01W,     913,          1,          7,     SIH017,2,19950915,       1314,     8.4917,    56.5917,       4380,  2997.2,   1.8765,  34.7481,2,  34.7486,2,    150.9,2,   150.8,2,  135.29,2,   35.19,2,   -0.01,2,    2.50,2,  -0.002,2,   0.005,3,  -999.0,9,  -999.0,9,-999.0000,9,   1.8960,2,   14.50,2, -999.00,9,  -999.0,9,    -9.0,   8.300,2,   0.166,   29979,-999.0000,   1.6514,   0.0090,    0.20
 316N145_11,       I01W,     913,          1,          6,     SIH018,2,19950915,       1314,     8.4917,    56.5917,       4380,  3195.7,   1.7754,  34.7426,2,  34.7423,2,    155.4,2,   155.6,2,  134.94,2,   34.88,2,    0.00,2,    2.46,2,-999.000,9,-999.000,9,  -999.0,9,  -999.0,9,-999.0000,9,   1.9180,2,   15.00,2, -999.00,9,  -999.0,9,    -9.0,   8.398,2,   0.168,   31966,-999.0000,   1.5329,   0.0100,    0.20
 316N145_11,       I01W,     913,          1,          5,     SIH002,2,19950915,       1314,     8.4917,    56.5917,       4380,  3398.9,   1.7033,  34.7379,2,  34.7376,2,    157.8,2,   160.8,2,  134.40,2,   34.42,2,   -0.01,2,    2.42,2,  -0.003,2,  -0.001,2,  -999.0,9,  -999.0,9,-999.0000,9,   1.9310,2,   13.80,2, -999.00,9,  -999.0,9,    -9.0,   8.519,2,   0.170,   33999,-999.0000,   1.4421,   0.0100,    0.20
 316N145_11,       I01W,     913,          1,          3,     SIH021,2,19950915,       1314,     8.4917,    56.5917,       4380,  3632.5,   1.5832,  34.7319,2,-999.0000,9,    166.1,2,  -999.0,9,  134.64,2,   34.38,2,    0.00,2,    2.40,2,-999.000,9,-999.000,9,  -999.0,9,  -999.0,9,-999.0000,9,-999.0000,9, -999.00,9, -999.00,9,  -999.0,9,    -9.0,-999.000,9,-999.000,   36337,-999.0000,   1.3010,-999.0000, -999.00
 316N145_11,       I01W,     913,          1,          4,     SIH020,2,19950915,       1314,     8.4917,    56.5917,       4380,  3632.9,   1.5836,  34.7320,2,  34.7319,2,    166.2,2,   167.6,2,  134.43,2,   34.38,2,    0.00,2,    2.41,2,   0.003,2,   0.004,2,  -999.0,9,  -999.0,9,-999.0000,9,   1.9090,2,   12.00,2, -999.00,9,  -999.0,9,    -9.0,   8.461,2,   0.169,   36342,-999.0000,   1.3013,   0.0100,    0.20
 316N145_11,       I01W,     913,          1,          1,     SIH023,2,19950915,       1314,     8.4917,    56.5917,       4380,  3683.9,   1.5747,  34.7312,2,-999.0000,9,    167.5,2,  -999.0,9,  134.42,2,   34.33,2,    0.00,2,    2.40,2,-999.000,9,-999.000,9,  -999.0,9,  -999.0,9,-999.0000,9,-999.0000,9, -999.00,9, -999.00,9,  -999.0,9,    -9.0,-999.000,9,-999.000,   36851,-999.0000,   1.2874,-999.0000, -999.00
 316N145_11,       I01W,     913,          1,          2,     SIH022,2,19950915,       1314,     8.4917,    56.5917,       4380,  3684.0,   1.5743,  34.7310,2,  34.7317,2,    167.4,2,   168.2,2,  134.36,2,   34.36,2,    0.00,2,    2.40,2,  -0.002,2,   0.000,2,  -999.0,9,  -999.0,9,    0.002,2,   1.9130,2,   12.50,2, -999.00,9,  -999.0,9,    -9.0,   8.470,2,   0.169,   36852,    0.002,   1.2869,   0.0100,    0.20