BOTTLE,20211119CCHSIORKP
EXPOCODE,SECT_ID,STNNBR,CASTNO,SAMPNO,BTLNBR,BTLNBR_FLAG_W,DATE,TIME,LATITUDE,LONGITUDE,DEPTH,CTDPRS,CTDTMP,CTDSAL,CTDSAL_FLAG_W,SALNTY,SALNTY_FLAG_W,CTDOXY,CTDOXY_FLAG_W,OXYGEN,OXYGEN_FLAG_W,SILCAT,SILCAT_FLAG_W,NITRAT,NITRAT_FLAG_W,NITRIT,NITRIT_FLAG_W,PHSPHT,PHSPHT_FLAG_W,CFC-11,CFC-11_FLAG_W,CFC-12,CFC-12_FLAG_W,TCARBN,TCARBN_FLAG_W,ALKALI,ALKALI_FLAG_W,TRITUM,TRITUM_FLAG_W,HELIUM,HELIUM_FLAG_W,DELHE3,DELHE3_FLAG_W,DELC13,DELC13_FLAG_W,DELC14,DELC14_FLAG_W,C14ERR,NEON,NEON_FLAG_W,NEONER,CTDRAW,TRITER,THETA,HELIER,DELHER
,,,,,,,,,,,METERS,DBAR,ITS-90,PSS-78,,PSS-78,,UMOL/KG,,UMOL/KG,,UMOL/KG,,UMOL/KG,,UMOL/KG,,UMOL/KG,,PMOL/KG,,PMOL/KG,,UMOL/KG,,UMOL/KG,,TU,,NMOL/KG,,PERCNT,,/MILLE,,/MILLE,,/MILLE,NMOL/KG,,NMOL/KG,DBAR,TU,DEG C,NMOL/KG,PERCNT
 316N145_11,       I01W,     900,          1,         21,     SIH025,2,19950912,       0656,     9.7083,    51.5112,        760,     8.3,  25.5999,  35.8211,2,  35.6372,2,    211.8,2,   212.8,2,    4.50,2,    3.05,2,    0.36,2,    0.45,2,   1.789,2,   1.028,2,  2014.3,2,  2325.8,2,-999.0000,9,-999.0000,9, -999.00,9, -999.00,9,  -999.0,9,    -9.0,-999.000,9,-999.000,      69,-999.0000,  25.5981,-999.0000, -999.00
 316N145_11,       I01W,     900,          1,         20,     SIH004,2,19950912,       0656,     9.7083,    51.5112,        760,    28.1,  25.8091,  35.6426,2,  35.6370,2,    211.4,2,   216.8,2,    4.70,2,    3.11,2,    0.36,2,    0.45,2,-999.000,9,-999.000,9,  2014.2,2,  2326.3,2,-999.0000,9,-999.0000,9, -999.00,9, -999.00,9,  -999.0,9,    -9.0,-999.000,9,-999.000,     267,-999.0000,  25.8028,-999.0000, -999.00
 316N145_11,       I01W,     900,          1,         19,     SIH005,2,19950912,       0656,     9.7083,    51.5112,        760,    58.3,  25.8022,  35.6380,2,  35.6360,2,    211.0,2,   212.2,2,    4.90,2,    3.11,2,    0.37,2,    0.46,2,   1.825,3,   1.026,2,  -999.0,9,  -999.0,9,-999.0000,9,-999.0000,9, -999.00,9, -999.00,9,  -999.0,9,    -9.0,-999.000,9,-999.000,     569,-999.0000,  25.7892,-999.0000, -999.00
 316N145_11,       I01W,     900,          1,         18,     SIH006,2,19950912,       0656,     9.7083,    51.5112,        760,    88.2,  25.0063,  35.6034,2,  35.6023,2,    212.6,2,   191.8,2,    5.87,2,    4.75,2,    0.63,2,    0.58,2,-999.000,9,-999.000,9,  2031.5,2,  2324.6,2,-999.0000,9,-999.0000,9, -999.00,9, -999.00,9,  -999.0,9,    -9.0,-999.000,9,-999.000,     869,-999.0000,  24.9872,-999.0000, -999.00
 316N145_11,       I01W,     900,          1,         17,     SIH038,2,19950912,       0656,     9.7083,    51.5112,        760,   118.8,  23.5358,  35.5076,2,  35.5578,2,    178.0,2,   172.5,2,    7.81,2,    9.01,2,    0.66,2,    0.84,2,   1.712,2,   0.969,2,  2063.9,2,  2323.9,2,-999.0000,9,-999.0000,9, -999.00,9, -999.00,9,  -999.0,9,    -9.0,-999.000,9,-999.000,    1174,-999.0000,  23.5111,-999.0000, -999.00
 316N145_11,       I01W,     900,          1,         16,     SIH008,2,19950912,       0656,     9.7083,    51.5112,        760,   148.2,  23.1955,  35.4955,2,  35.5369,2,    166.3,2,   171.7,2,    8.02,2,    9.69,2,    0.57,2,    0.88,2,   1.706,2,   0.968,2,  2068.9,2,  2322.2,2,-999.0000,9,-999.0000,9, -999.00,9, -999.00,9,  -999.0,9,    -9.0,-999.000,9,-999.000,    1469,-999.0000,  23.1650,-999.0000, -999.00
 316N145_11,       I01W,     900,          1,         15,     SIH009,2,19950912,       0656,     9.7083,    51.5112,        760,   178.5,  19.8058,  35.3260,2,  35.3776,2,    101.0,2,    99.0,2,   13.26,2,   16.92,2,    0.01,2,    1.29,2,   1.428,2,   0.798,2,  2124.6,2,  2315.1,2,-999.0000,9,-999.0000,9, -999.00,9, -999.00,9,  -999.0,9,    -9.0,-999.000,9,-999.000,    1771,-999.0000,  19.7731,-999.0000, -999.00
 316N145_11,       I01W,     900,          1,         14,     SIH010,2,19950912,       0656,     9.7083,    51.5112,        760,   198.9,  16.4686,  35.3761,2,  35.3768,2,     57.5,2,    55.9,2,   19.46,2,   23.45,2,    0.01,2,    1.77,2,   1.094,2,   0.598,2,  2189.5,2,  2319.0,2,-999.0000,9,-999.0000,9, -999.00,9, -999.00,9,  -999.0,9,    -9.0,-999.000,9,-999.000,    1975,-999.0000,  16.4365,-999.0000, -999.00
 316N145_11,       I01W,     900,          1,         13,     SIH011,2,19950912,       0656,     9.7083,    51.5112,        760,   224.1,  14.6519,  35.0514,4,  35.2897,2,     67.5,3,    72.2,2,   20.63,2,   23.35,2,    0.01,2,    1.72,2,-999.000,9,-999.000,9,  -999.0,9,  -999.0,9,-999.0000,9,-999.0000,9, -999.00,9, -999.00,9,  -999.0,9,    -9.0,-999.000,9,-999.000,    2228,-999.0000,  14.6184,-999.0000, -999.00
 316N145_11,       I01W,     900,          1,         12,     SIH012,2,19950912,       0656,     9.7083,    51.5112,        760,   248.6,  13.3822,  34.9812,4,  35.2235,2,     86.1,3,    84.9,2,   21.04,2,   23.52,2,    0.01,2,    1.71,2,   1.015,2,   0.536,2,  2189.4,2,  2317.8,2,-999.0000,9,-999.0000,9, -999.00,9, -999.00,9,  -999.0,9,    -9.0,-999.000,9,-999.000,    2473,-999.0000,  13.3472,-999.0000, -999.00
 316N145_11,       I01W,     900,          1,         11,     SI9426,2,19950912,       0656,     9.7083,    51.5112,        760,   273.4,  12.9563,  34.8706,4,  35.2266,2,     84.7,3,    85.8,2,   22.21,2,   23.78,2,    0.01,2,    1.74,2,-999.000,9,-999.000,9,  -999.0,9,  -999.0,9,-999.0000,9,-999.0000,9, -999.00,9, -999.00,9,  -999.0,9,    -9.0,-999.000,9,-999.000,    2720,-999.0000,  12.9187,-999.0000, -999.00
 316N145_11,       I01W,     900,          1,         10,     SIH014,2,19950912,       0656,     9.7083,    51.5112,        760,   298.9,  12.4954,  32.3366,4,  35.2635,2,     72.3,3,    72.3,2,   25.13,2,   25.54,2,    0.01,2,    1.89,2,   0.822,2,   0.431,2,  2208.2,2,  2318.8,2,-999.0000,9,-999.0000,9, -999.00,9, -999.00,9,  -999.0,9,    -9.0,-999.000,9,-999.000,    2976,-999.0000,  12.4562,-999.0000, -999.00
 316N145_11,       I01W,     900,          1,          9,     SIH015,2,19950912,       0656,     9.7083,    51.5112,        760,   325.1,  12.0080,  35.2962,2,  35.3021,2,     72.5,2,    50.8,2,   30.38,2,   28.63,2,    0.01,2,    2.12,2,-999.000,9,-999.000,9,  -999.0,9,  -999.0,9,-999.0000,9,-999.0000,9, -999.00,9, -999.00,9,  -999.0,9,    -9.0,-999.000,9,-999.000,    3238,-999.0000,  11.9652,-999.0000, -999.00
 316N145_11,       I01W,     900,          1,          8,     SIH016,2,19950912,       0656,     9.7083,    51.5112,        760,   349.4,  11.6541,  35.1720,2,  35.2696,2,     55.6,2,    54.5,2,   31.18,2,   28.96,2, -999.00,9,    2.12,2,   0.480,2,   0.252,2,  -999.0,9,  -999.0,9,-999.0000,9,-999.0000,9, -999.00,9, -999.00,9,  -999.0,9,    -9.0,-999.000,9,-999.000,    3481,-999.0000,  11.6090,-999.0000, -999.00
 316N145_11,       I01W,     900,          1,          7,     SIH017,2,19950912,       0656,     9.7083,    51.5112,        760,   398.6,  10.9995,  35.2235,2,  35.2394,2,     56.7,2,    53.2,2,   36.43,2,   30.30,2,    0.00,2,    2.22,2,-999.000,9,-999.000,9,  2238.3,2,  2325.6,2,-999.0000,9,-999.0000,9, -999.00,9, -999.00,9,  -999.0,9,    -9.0,-999.000,9,-999.000,    3973,-999.0000,  10.9498,-999.0000, -999.00
 316N145_11,       I01W,     900,          1,          6,     SIH018,2,19950912,       0656,     9.7083,    51.5112,        760,   498.6,  10.3193,  35.3010,2,  35.2363,2,     52.4,2,    46.9,2,   43.44,2,   31.84,2,    0.00,2,    2.35,2,-999.000,9,-999.000,9,  -999.0,9,  -999.0,9,-999.0000,9,-999.0000,9, -999.00,9, -999.00,9,  -999.0,9,    -9.0,-999.000,9,-999.000,    4974,-999.0000,  10.2591,-999.0000, -999.00
 316N145_11,       I01W,     900,          1,          5,     SIH002,2,19950912,       0656,     9.7083,    51.5112,        760,   498.8,  10.3819,  35.2394,2,  35.2970,2,     51.2,2,    37.8,2,   51.22,2,   33.07,2,    0.00,2,    2.48,2,   0.140,2,   0.072,2,  2266.7,2,  2341.4,2,-999.0000,9,-999.0000,9, -999.00,9, -999.00,9,  -999.0,9,    -9.0,-999.000,9,-999.000,    4976,-999.0000,  10.3216,-999.0000, -999.00
 316N145_11,       I01W,     900,          1,          4,     SIH020,2,19950912,       0656,     9.7083,    51.5112,        760,   598.0,   9.2892,  35.1775,2,  35.1451,2,     52.1,3,    50.0,2,   53.00,2,   33.35,2,    0.00,2,    2.46,2,   0.126,2,   0.062,2,  2262.1,2,  2337.9,2,-999.0000,9,-999.0000,9, -999.00,9, -999.00,9,  -999.0,9,    -9.0,-999.000,9,-999.000,    5968,-999.0000,   9.2213,-999.0000, -999.00
 316N145_11,       I01W,     900,          1,          3,     SIH021,2,19950912,       0656,     9.7083,    51.5112,        760,   699.7,  10.1099,  35.4189,2,  35.4125,2,     25.3,2,    23.8,2,   56.89,2,   33.88,2,    0.00,2,    2.58,2,   0.089,2,   0.043,2,  2278.3,2,  2349.6,2,-999.0000,9,-999.0000,9, -999.00,9, -999.00,9,  -999.0,9,    -9.0,-999.000,9,-999.000,    6986,-999.0000,  10.0256,-999.0000, -999.00
 316N145_11,       I01W,     900,          1,          2,     SIH022,2,19950912,       0656,     9.7083,    51.5112,        760,   743.1,   9.8900,  35.4072,2,  35.3892,2,     26.6,2,    23.7,2,   58.67,2,   34.15,2,    0.00,2,    2.60,2,   0.078,2,   0.038,2,  -999.0,9,  -999.0,9,-999.0000,9,-999.0000,9, -999.00,9, -999.00,9,  -999.0,9,    -9.0,-999.000,9,-999.000,    7420,-999.0000,   9.8015,-999.0000, -999.00
 316N145_11,       I01W,     900,          1,          1,     SIH023,2,19950912,       0656,     9.7083,    51.5112,        760,   791.7,   9.6629,  35.3779,2,  35.3573,2,     27.5,3,    24.6,2,   60.89,2,   34.54,2,    0.00,2,    2.61,2,   0.069,2,   0.037,2,  2283.5,2,  2354.3,2,-999.0000,9,-999.0000,9, -999.00,9, -999.00,9,  -999.0,9,    -9.0,-999.000,9,-999.000,    7906,-999.0000,   9.5698,-999.0000, -999.00
 316N145_11,       I01W,     901,          1,         22,     SIH019,2,19950912,       1014,     9.5833,    51.6612,       1480,     8.1,  25.8834,  35.7114,2,  35.6552,2,    216.0,2,   212.0,2,    4.40,2,    3.01,2,    0.33,2,    0.43,2,-999.000,9,-999.000,9,  2011.4,2,  2327.2,2,-999.0000,9,-999.0000,9, -999.00,9, -999.00,9,  -999.0,9,    -9.0,-999.000,9,-999.000,      65,-999.0000,  25.8816,-999.0000, -999.00
 316N145_11,       I01W,     901,          1,         21,     SIH025,2,19950912,       1014,     9.5833,    51.6612,       1480,    33.1,  25.6529,  35.4588,2,  35.6544,2,    219.6,2,   210.1,2,    4.38,2,    3.06,2,    0.34,2,    0.43,2,   1.779,2,   1.026,2,  2011.4,2,  2292.9,3,-999.0000,9,-999.0000,9, -999.00,9, -999.00,9,  -999.0,9,    -9.0,-999.000,9,-999.000,     315,-999.0000,  25.6455,-999.0000, -999.00
 316N145_11,       I01W,     901,          1,         20,     SIH004,2,19950912,       1014,     9.5833,    51.6612,       1480,    61.5,  25.8767,  35.6527,2,  35.6528,2,    199.3,2,   203.2,2,    4.55,2,    3.20,2,    0.35,2,    0.45,2,-999.000,9,-999.000,9,  2013.3,2,  2260.1,3,-999.0000,9,-999.0000,9, -999.00,9, -999.00,9,  -999.0,9,    -9.0,-999.000,9,-999.000,     600,-999.0000,  25.8630,-999.0000, -999.00
 316N145_11,       I01W,     901,          1,         19,     SIH005,2,19950912,       1014,     9.5833,    51.6612,       1480,    92.9,  25.4886,  35.8397,2,  35.6315,2,    206.9,3,   199.1,2,    4.73,2,    3.24,2,    0.42,2,    0.46,2,   1.784,2,   1.028,2,  2015.1,2,  2325.4,2,-999.0000,9,-999.0000,9, -999.00,9, -999.00,9,  -999.0,9,    -9.0,-999.000,9,-999.000,     913,-999.0000,  25.4681,-999.0000, -999.00
 316N145_11,       I01W,     901,          1,         18,     SIH006,2,19950912,       1014,     9.5833,    51.6612,       1480,   123.2,  24.7172,  35.5795,2,  35.5815,2,    195.1,2,   187.6,2,    5.68,2,    6.22,2,    0.50,2,    0.63,2,-999.000,9,-999.000,9,  2038.6,2,  2322.9,2,-999.0000,9,-999.0000,9, -999.00,9, -999.00,9,  -999.0,9,    -9.0,-999.000,9,-999.000,    1217,-999.0000,  24.6906,-999.0000, -999.00
 316N145_11,       I01W,     901,          1,         17,     SIH038,2,19950912,       1014,     9.5833,    51.6612,       1480,   153.1,  22.9108,  35.5311,2,  35.5275,2,    157.9,2,   163.8,2,    8.35,2,   10.48,2,    0.46,2,    0.90,2,   1.696,2,   0.957,2,  2074.6,2,  2320.8,2,-999.0000,9,-999.0000,9, -999.00,9, -999.00,9,  -999.0,9,    -9.0,-999.000,9,-999.000,    1516,-999.0000,  22.8796,-999.0000, -999.00
 316N145_11,       I01W,     901,          1,         16,     SIH008,2,19950912,       1014,     9.5833,    51.6612,       1480,   183.6,  21.4594,  35.2300,2,  35.5314,2,    131.0,3,   113.3,2,   11.04,2,   15.55,2,    0.04,2,    1.18,2,-999.000,9,-999.000,9,  2112.8,2,  2318.4,2,-999.0000,9,-999.0000,9, -999.00,9, -999.00,9,  -999.0,9,    -9.0,-999.000,9,-999.000,    1821,-999.0000,  21.4238,-999.0000, -999.00
 316N145_11,       I01W,     901,          1,         15,     SIH009,2,19950912,       1014,     9.5833,    51.6612,       1480,   203.1,  17.9742,  35.9494,2,  35.4821,2,     66.5,3,    51.4,2,   17.00,2,   22.59,2,    0.02,2,    1.72,2,   1.174,2,   0.655,2,  2181.0,2,  2317.9,2,-999.0000,9,-999.0000,9, -999.00,9, -999.00,9,  -999.0,9,    -9.0,-999.000,9,-999.000,    2016,-999.0000,  17.9391,-999.0000, -999.00
 316N145_11,       I01W,     901,          1,         14,     SIH010,2,19950912,       1014,     9.5833,    51.6612,       1480,   253.4,  14.2085,  33.8242,4,  35.3047,2,     53.1,3,    53.7,2,   22.20,2,   25.34,2,    0.02,2,    1.85,2,-999.000,9,-999.000,9,  -999.0,9,  -999.0,9,-999.0000,9,-999.0000,9, -999.00,9, -999.00,9,  -999.0,9,    -9.0,-999.000,9,-999.000,    2518,-999.0000,  14.1718,-999.0000, -999.00
 316N145_11,       I01W,     901,          1,         13,     SIH011,2,19950912,       1014,     9.5833,    51.6612,       1480,   302.9,  13.1128,  35.3237,2,  35.3360,2,     41.8,2,    51.5,2,   25.46,2,   26.67,2,    0.01,2,    1.97,2,-999.000,9,-999.000,9,  2221.9,2,  2269.6,4,-999.0000,9,-999.0000,9, -999.00,9, -999.00,9,  -999.0,9,    -9.0,-999.000,9,-999.000,    3014,-999.0000,  13.0706,-999.0000, -999.00
 316N145_11,       I01W,     901,          1,         12,     SIH012,2,19950912,       1014,     9.5833,    51.6612,       1480,   403.9,  11.9113,  34.3670,4,  35.3912,2,     41.7,3,    33.3,2,   34.04,2,   29.94,2,    0.01,2,    2.22,2,   0.340,2,   0.186,2,  2244.9,2,  2327.7,2,-999.0000,9,-999.0000,9, -999.00,9, -999.00,9,  -999.0,9,    -9.0,-999.000,9,-999.000,    4024,-999.0000,  11.8589,-999.0000, -999.00
 316N145_11,       I01W,     901,          1,         11,     SI9426,2,19950912,       1014,     9.5833,    51.6612,       1480,   498.1,  10.3098,  34.1243,4,  35.1691,2,     54.1,3,    54.7,2,   40.87,2,   31.43,2,    0.00,2,    2.27,2,-999.000,9,-999.000,9,  2244.1,2,  2329.7,2,-999.0000,9,-999.0000,9, -999.00,9, -999.00,9,  -999.0,9,    -9.0,-999.000,9,-999.000,    4966,-999.0000,  10.2506,-999.0000, -999.00
 316N145_11,       I01W,     901,          1,         10,     SIH014,2,19950912,       1014,     9.5833,    51.6612,       1480,   597.0,   9.8516,  35.1875,2,  35.1866,2,     49.7,2,    49.8,2,   47.22,2,   32.44,2,   -0.01,2,    2.37,2,-999.000,9,-999.000,9,  2253.8,2,  2339.7,2,   0.1167,2,   1.8221,2,    6.39,2, -999.00,9,  -999.0,9,    -9.0,   7.620,2,   0.038,    5956,   0.0024,   9.7815,   0.0091,    0.14
 316N145_11,       I01W,     901,          1,          9,     SIH015,2,19950912,       1014,     9.5833,    51.6612,       1480,   703.9,  10.1872,  35.4741,2,  35.4129,2,     24.3,3,    24.0,2,   55.11,2,   33.64,2,    0.00,2,    2.54,2,   0.090,2,   0.045,2,  2275.6,2,  2349.9,2,   0.1002,2,   1.8247,2,    7.42,2, -999.00,9,  -999.0,9,    -9.0,   7.615,2,   0.038,    7026,   0.0024,  10.1019,   0.0091,    0.14
 316N145_11,       I01W,     901,          1,          8,     SIH016,2,19950912,       1014,     9.5833,    51.6612,       1480,   808.0,   9.3694,  34.2494,4,  35.3364,2,     29.2,3,    27.3,2,   63.39,2,   34.80,2,    0.01,2,    2.60,2,   0.058,2,   0.032,2,  2285.9,2,  2353.2,2,   0.0705,2,-999.0000,9, -999.00,9, -999.00,9,  -999.0,9,    -9.0,-999.000,9,-999.000,    8066,   0.0023,   9.2773,-999.0000, -999.00
 316N145_11,       I01W,     901,          1,          7,     SIH017,2,19950912,       1014,     9.5833,    51.6612,       1480,   903.2,   8.5054,  35.5345,4,  35.2727,2,     33.3,3,    30.9,2,   68.02,2,   35.34,2,    0.00,2,    2.62,2,-999.000,9,-999.000,9,  2291.8,2,  2360.2,2,   0.0600,2,   1.8455,2,    8.88,2, -999.00,9,  -999.0,9,    -9.0,   7.712,2,   0.039,    9019,   0.0023,   8.4058,   0.0092,    0.14
 316N145_11,       I01W,     901,          1,          6,     SIH018,2,19950912,       1014,     9.5833,    51.6612,       1480,  1002.3,   7.7139,  34.2112,4,  35.2266,2,     35.0,3,    32.7,2,   73.73,2,   35.93,2,    0.00,2,    2.62,2,   0.030,2,   0.015,2,  2297.0,2,  2362.3,2,   0.0461,2,   1.8545,2,    9.69,2, -999.00,9,  -999.0,9,    -9.0,   7.778,2,   0.039,   10010,   0.0023,   7.6106,   0.0093,    0.14
 316N145_11,       I01W,     901,          1,          5,     SIH002,2,19950912,       1014,     9.5833,    51.6612,       1480,  1101.2,   7.7976,  35.1935,2,  35.1983,2,     36.8,2,    35.1,2,   78.81,2,   36.55,2,    0.00,2,    2.70,2,-999.000,9,-999.000,9,  -999.0,9,  -999.0,9,   0.0356,2,   1.8765,2,    9.83,2, -999.00,9,  -999.0,9,    -9.0,   7.872,2,   0.039,   11001,   0.0023,   7.6811,   0.0094,    0.14
 316N145_11,       I01W,     901,          1,          4,     SIH020,2,19950912,       1014,     9.5833,    51.6612,       1480,  1195.5,   6.8798,  35.1310,2,  35.1100,2,     46.9,3,    44.1,2,   86.90,2,   36.92,2,    0.00,2,    2.72,2,   0.014,2,   0.006,2,  2308.8,2,  2372.1,2,-999.0000,9,-999.0000,9, -999.00,9, -999.00,9,  -999.0,9,    -9.0,-999.000,9,-999.000,   11944,-999.0000,   6.7607,-999.0000, -999.00
 316N145_11,       I01W,     901,          1,          3,     SIH021,2,19950912,       1014,     9.5833,    51.6612,       1480,  1297.6,   6.2315,  35.0436,2,  35.0516,2,     54.8,2,    51.5,2,   93.07,2,   37.08,2,   -0.01,2,    2.72,2,-999.000,9,-999.000,9,  -999.0,9,  -999.0,9,-999.0000,9,-999.0000,9, -999.00,9, -999.00,9,  -999.0,9,    -9.0,-999.000,9,-999.000,   12966,-999.0000,   6.1076,-999.0000, -999.00
 316N145_11,       I01W,     901,          1,          2,     SIH022,2,19950912,       1014,     9.5833,    51.6612,       1480,  1398.5,   5.3093,  34.9772,2,  34.9752,2,     71.2,2,    69.3,2,  102.15,2,   37.18,2,   -0.01,2,    2.70,2,   0.006,2,   0.006,2,  2316.8,2,  2385.4,2,-999.0000,9,-999.0000,9, -999.00,9, -999.00,9,  -999.0,9,    -9.0,-999.000,9,-999.000,   13975,-999.0000,   5.1846,-999.0000, -999.00
 316N145_11,       I01W,     901,          1,          1,     SIH023,2,19950912,       1014,     9.5833,    51.6612,       1480,  1460.4,   4.9736,  35.2038,2,  34.9626,2,     73.1,3,    69.7,2,  103.52,2,   37.08,2,    0.00,2,    2.69,2,   0.004,2,   0.002,2,  -999.0,9,  -999.0,9,-999.0000,9,-999.0000,9, -999.00,9, -999.00,9,  -999.0,9,    -9.0,-999.000,9,-999.000,   14594,-999.0000,   4.8457,-999.0000, -999.00