BOTTLE,20211119CCHSIORKP
EXPOCODE,SECT_ID,STNNBR,CASTNO,SAMPNO,BTLNBR,BTLNBR_FLAG_W,DATE,TIME,LATITUDE,LONGITUDE,DEPTH,CTDPRS,CTDTMP,CTDSAL,CTDSAL_FLAG_W,SALNTY,SALNTY_FLAG_W,CTDOXY,CTDOXY_FLAG_W,OXYGEN,OXYGEN_FLAG_W,SILCAT,SILCAT_FLAG_W,NITRAT,NITRAT_FLAG_W,NITRIT,NITRIT_FLAG_W,PHSPHT,PHSPHT_FLAG_W,CFC-11,CFC-11_FLAG_W,CFC-12,CFC-12_FLAG_W,TCARBN,TCARBN_FLAG_W,ALKALI,ALKALI_FLAG_W,TRITUM,TRITUM_FLAG_W,HELIUM,HELIUM_FLAG_W,DELHE3,DELHE3_FLAG_W,DELC13,DELC13_FLAG_W,DELC14,DELC14_FLAG_W,C14ERR,NEON,NEON_FLAG_W,NEONER,CTDRAW,TRITER,THETA,HELIER,DELHER
,,,,,,,,,,,METERS,DBAR,ITS-90,PSS-78,,PSS-78,,UMOL/KG,,UMOL/KG,,UMOL/KG,,UMOL/KG,,UMOL/KG,,UMOL/KG,,PMOL/KG,,PMOL/KG,,UMOL/KG,,UMOL/KG,,TU,,NMOL/KG,,PERCNT,,/MILLE,,/MILLE,,/MILLE,NMOL/KG,,NMOL/KG,DBAR,TU,DEG C,NMOL/KG,PERCNT
 316N145_11,       I01W,     909,          1,         36,     SIH024,2,19950914,       1038,     8.9305,    54.4167,       4800,     5.2,  26.1769,  35.6493,2,  35.6496,2,    207.9,2,   213.5,2,    3.26,2,    2.71,2,    0.36,2,    0.42,2,   1.773,2,   1.020,2,  2008.2,2,  2326.4,2,-999.0000,9,-999.0000,9, -999.00,9, -999.00,9,  -999.0,9,    -9.0,-999.000,9,-999.000,      51,-999.0000,  26.1757,-999.0000, -999.00
 316N145_11,       I01W,     909,          1,         35,     SIH003,2,19950914,       1038,     8.9305,    54.4167,       4800,    29.5,  26.0095,  35.6494,2,  35.6500,2,    214.5,2,   213.6,2,    3.44,2,    2.69,2,    0.38,2,    0.42,2,   1.779,2,   1.028,2,  2008.8,2,  2325.2,2,-999.0000,9,-999.0000,9, -999.00,9, -999.00,9,  -999.0,9,    -9.0,-999.000,9,-999.000,     294,-999.0000,  26.0029,-999.0000, -999.00
 316N145_11,       I01W,     909,          1,         34,     SIH026,2,19950914,       1038,     8.9305,    54.4167,       4800,    59.6,  25.9986,  35.6511,2,  35.6518,2,    212.9,2,   215.8,2,    3.44,2,    2.71,2,    0.41,2,    0.43,2,-999.000,9,-999.000,9,  2011.6,2,  2325.8,2,-999.0000,9,-999.0000,9, -999.00,9, -999.00,9,  -999.0,9,    -9.0,-999.000,9,-999.000,     595,-999.0000,  25.9852,-999.0000, -999.00
 316N145_11,       I01W,     909,          1,         33,     SIH027,2,19950914,       1038,     8.9305,    54.4167,       4800,    89.1,  25.9353,  35.6469,2,  35.6469,2,    208.9,2,   211.7,2,    3.44,2,    2.99,2,    0.48,2,    0.47,2,   1.766,2,   1.020,2,  2016.1,2,  2325.7,2,-999.0000,9,-999.0000,9, -999.00,9, -999.00,9,  -999.0,9,    -9.0,-999.000,9,-999.000,     890,-999.0000,  25.9154,-999.0000, -999.00
 316N145_11,       I01W,     909,          1,         32,     SIH028,2,19950914,       1038,     8.9305,    54.4167,       4800,   120.3,  25.8439,  35.6388,2,  35.6392,2,    205.7,2,   209.4,2,    3.81,2,    3.15,2,    0.52,2,    0.49,2,-999.000,9,-999.000,9,  2017.2,2,  2324.9,2,-999.0000,9,-999.0000,9, -999.00,9, -999.00,9,  -999.0,9,    -9.0,-999.000,9,-999.000,    1202,-999.0000,  25.8171,-999.0000, -999.00
 316N145_11,       I01W,     909,          1,         31,     SIH029,3,19950914,       1038,     8.9305,    54.4167,       4800,   149.3,  25.7959,  35.6441,3,  35.6443,2,    203.8,2,   200.9,2,    4.17,2,    3.37,2,    0.81,2,    0.51,2,-999.000,9,-999.000,9,  2019.9,2,  2325.2,2,-999.0000,9,-999.0000,9, -999.00,9, -999.00,9,  -999.0,9,    -9.0,-999.000,9,-999.000,    1493,-999.0000,  25.7627,-999.0000, -999.00
 316N145_11,       I01W,     909,          1,         30,     SIH030,2,19950914,       1038,     8.9305,    54.4167,       4800,   199.9,  22.3372,  35.3569,2,  35.3656,2,    159.0,2,   154.2,2,    7.80,2,   10.00,2,    0.03,2,    0.83,2,   1.678,3,   0.933,2,  2063.6,2,  2315.2,2,-999.0000,9,-999.0000,9, -999.00,9, -999.00,9,  -999.0,9,    -9.0,-999.000,9,-999.000,    1999,-999.0000,  22.2971,-999.0000, -999.00
 316N145_11,       I01W,     909,          1,         29,     SIH031,2,19950914,       1038,     8.9305,    54.4167,       4800,   249.8,  17.3040,  35.3676,2,  35.3735,2,     57.5,2,    61.3,2,   16.85,2,   22.54,2,    0.01,2,    1.70,2,-999.000,9,-999.000,9,  2177.4,2,  2317.8,2,-999.0000,9,-999.0000,9, -999.00,9, -999.00,9,  -999.0,9,    -9.0,-999.000,9,-999.000,    2498,-999.0000,  17.2622,-999.0000, -999.00
 316N145_11,       I01W,     909,          1,         28,     SIH032,2,19950914,       1038,     8.9305,    54.4167,       4800,   299.9,  14.9210,  35.4439,2,  35.4606,2,     35.2,2,    29.7,2,   22.84,2,   26.11,2,    0.00,2,    2.09,2,-999.000,9,-999.000,9,  2226.4,2,  2328.9,3,-999.0000,9,-999.0000,9, -999.00,9, -999.00,9,  -999.0,9,    -9.0,-999.000,9,-999.000,    2999,-999.0000,  14.8754,-999.0000, -999.00
 316N145_11,       I01W,     909,          1,         27,     SIH033,2,19950914,       1038,     8.9305,    54.4167,       4800,   400.2,  12.3453,  35.3054,2,  35.3072,2,     58.2,2,    53.2,2,   27.55,2,   28.05,2,   -0.01,2,    2.09,2,   0.577,2,   0.307,2,  -999.0,9,  -999.0,9,-999.0000,9,-999.0000,9, -999.00,9, -999.00,9,  -999.0,9,    -9.0,-999.000,9,-999.000,    4003,-999.0000,  12.2915,-999.0000, -999.00
 316N145_11,       I01W,     909,          1,         26,     SIH037,3,19950914,       1038,     8.9305,    54.4167,       4800,   500.7,  11.5288,  35.3805,3,  35.3790,2,     33.7,2,    36.9,2,   36.25,2,   30.74,2,    0.00,2,    2.34,2,-999.000,9,-999.000,9,  -999.0,9,  -999.0,9,-999.0000,9,-999.0000,9, -999.00,9, -999.00,9,  -999.0,9,    -9.0,-999.000,9,-999.000,    5008,-999.0000,  11.4640,-999.0000, -999.00
 316N145_11,       I01W,     909,          1,         25,     SI9446,3,19950914,       1038,     8.9305,    54.4167,       4800,   595.7,  11.1983,  35.4428,3,  35.4415,2,     26.7,2,    28.1,2,   42.96,2,   31.66,2,    0.00,2,    2.47,2,-999.000,9,-999.000,9,  -999.0,9,  -999.0,9,-999.0000,9,-999.0000,9, -999.00,9, -999.00,9,  -999.0,9,    -9.0,-999.000,9,-999.000,    5958,-999.0000,  11.1223,-999.0000, -999.00
 316N145_11,       I01W,     909,          1,         24,     SIH036,2,19950914,       1038,     8.9305,    54.4167,       4800,   696.9,  10.6450,  35.4513,2,  35.4507,2,     24.1,2,    22.7,2,   50.58,2,   32.99,2,    0.00,2,    2.54,2,   0.116,2,   0.058,2,  -999.0,9,  -999.0,9,-999.0000,9,-999.0000,9, -999.00,9, -999.00,9,  -999.0,9,    -9.0,-999.000,9,-999.000,    6971,-999.0000,  10.5585,-999.0000, -999.00
 316N145_11,       I01W,     909,          1,         23,     SIH001,2,19950914,       1038,     8.9305,    54.4167,       4800,   797.2,   9.3387,  35.2768,2,  35.2745,2,     25.4,2,    25.6,2,   60.75,2,   35.23,2,    0.00,2,    2.66,2,-999.000,9,-999.000,9,  -999.0,9,  -999.0,9,-999.0000,9,-999.0000,9, -999.00,9, -999.00,9,  -999.0,9,    -9.0,-999.000,9,-999.000,    7974,-999.0000,   9.2468,-999.0000, -999.00
 316N145_11,       I01W,     909,          1,         22,     SIH019,2,19950914,       1038,     8.9305,    54.4167,       4800,   897.5,   8.9905,  35.2820,2,  35.2816,2,     26.9,2,    26.0,2,   65.84,2,   35.69,2,    0.01,2,    2.69,2,-999.000,9,-999.000,9,  -999.0,9,  -999.0,9,-999.0000,9,-999.0000,9, -999.00,9, -999.00,9,  -999.0,9,    -9.0,-999.000,9,-999.000,    8977,-999.0000,   8.8889,-999.0000, -999.00
 316N145_11,       I01W,     909,          1,         21,     SIH025,2,19950914,       1038,     8.9305,    54.4167,       4800,   998.7,   8.3241,  35.2376,2,  35.2375,2,     30.9,2,    29.3,2,   72.91,2,   36.25,2,    0.01,2,    2.74,2,   0.026,6,   0.014,6,  -999.0,9,  -999.0,9,-999.0000,9,-999.0000,9, -999.00,9, -999.00,9,  -999.0,9,    -9.0,-999.000,9,-999.000,    9990,-999.0000,   8.2151,-999.0000, -999.00
 316N145_11,       I01W,     909,          1,         20,     SIH004,2,19950914,       1038,     8.9305,    54.4167,       4800,  1199.9,   6.9614,  35.1163,2,  35.1152,2,     45.2,2,    44.1,2,   85.27,2,   37.13,2,    0.00,2,    2.77,2,-999.000,9,-999.000,9,  -999.0,9,  -999.0,9,-999.0000,9,-999.0000,9, -999.00,9, -999.00,9,  -999.0,9,    -9.0,-999.000,9,-999.000,   12003,-999.0000,   6.8412,-999.0000, -999.00
 316N145_11,       I01W,     909,          1,         19,     SIH005,2,19950914,       1038,     8.9305,    54.4167,       4800,  1395.2,   5.5917,  35.0217,2,  35.0195,2,     60.8,2,    59.0,2,   98.90,2,   37.59,2,    0.00,2,    2.80,2,-999.000,9,-999.000,9,  -999.0,9,  -999.0,9,-999.0000,9,-999.0000,9, -999.00,9, -999.00,9,  -999.0,9,    -9.0,-999.000,9,-999.000,   13957,-999.0000,   5.4642,-999.0000, -999.00
 316N145_11,       I01W,     909,          1,         18,     SIH006,2,19950914,       1038,     8.9305,    54.4167,       4800,  1598.2,   4.4038,  34.9055,2,  34.9058,2,     83.7,2,    82.2,2,  109.62,2,   37.19,2,    0.00,2,    2.73,2,  -0.001,2,  -0.002,2,  -999.0,9,  -999.0,9,-999.0000,9,-999.0000,9, -999.00,9, -999.00,9,  -999.0,9,    -9.0,-999.000,9,-999.000,   15988,-999.0000,   4.2699,-999.0000, -999.00
 316N145_11,       I01W,     909,          1,         17,     SIH038,2,19950914,       1038,     8.9305,    54.4167,       4800,  1796.1,   3.6677,  34.8529,2,  34.8536,2,    101.4,2,    99.9,2,  117.44,2,   36.89,2,    0.00,2,    2.69,2,-999.000,9,-999.000,9,  -999.0,9,  -999.0,9,-999.0000,9,-999.0000,9, -999.00,9, -999.00,9,  -999.0,9,    -9.0,-999.000,9,-999.000,   17968,-999.0000,   3.5248,-999.0000, -999.00
 316N145_11,       I01W,     909,          1,         16,     SIH008,2,19950914,       1038,     8.9305,    54.4167,       4800,  1997.8,   3.0633,  34.8181,2,  34.8192,2,    112.7,2,   110.9,2,  125.26,2,   36.43,2,    0.00,2,    2.64,2,-999.000,9,-999.000,9,  -999.0,9,  -999.0,9,-999.0000,9,-999.0000,9, -999.00,9, -999.00,9,  -999.0,9,    -9.0,-999.000,9,-999.000,   19987,-999.0000,   2.9104,-999.0000, -999.00
 316N145_11,       I01W,     909,          1,         15,     SIH009,2,19950914,       1038,     8.9305,    54.4167,       4800,  2195.0,   2.6898,  34.7925,2,  34.7933,2,    124.6,2,   123.2,2,  128.19,2,   36.19,2,    0.00,2,    2.58,2,  -0.001,2,  -0.001,2,  -999.0,9,  -999.0,9,-999.0000,9,-999.0000,9, -999.00,9, -999.00,9,  -999.0,9,    -9.0,-999.000,9,-999.000,   21960,-999.0000,   2.5248,-999.0000, -999.00
 316N145_11,       I01W,     909,          1,         14,     SIH010,2,19950914,       1038,     8.9305,    54.4167,       4800,  2398.3,   2.3389,  34.7766,2,  34.7754,2,    131.6,2,   129.8,2,  133.11,2,   35.99,2,    0.00,2,    2.56,2,-999.000,9,-999.000,9,  -999.0,9,  -999.0,9,-999.0000,9,-999.0000,9, -999.00,9, -999.00,9,  -999.0,9,    -9.0,-999.000,9,-999.000,   23994,-999.0000,   2.1613,-999.0000, -999.00
 316N145_11,       I01W,     909,          1,         13,     SIH011,2,19950914,       1038,     8.9305,    54.4167,       4800,  2595.7,   2.0931,  34.7618,2,  34.7618,2,    139.6,2,   138.9,2,  135.12,2,   35.63,2,    0.00,2,    2.52,2,-999.000,9,-999.000,9,  -999.0,9,  -999.0,9,-999.0000,9,-999.0000,9, -999.00,9, -999.00,9,  -999.0,9,    -9.0,-999.000,9,-999.000,   25969,-999.0000,   1.9017,-999.0000, -999.00
 316N145_11,       I01W,     909,          1,         12,     SIH012,2,19950914,       1038,     8.9305,    54.4167,       4800,  2793.2,   1.9626,  34.7529,2,  34.7532,2,    146.6,2,   144.9,2,  135.49,2,   35.37,2,    0.01,2,    2.48,2,  -0.001,2,  -0.002,2,  -999.0,9,  -999.0,9,-999.0000,9,-999.0000,9, -999.00,9, -999.00,9,  -999.0,9,    -9.0,-999.000,9,-999.000,   27947,-999.0000,   1.7553,-999.0000, -999.00
 316N145_11,       I01W,     909,          1,         11,     SI9426,2,19950914,       1038,     8.9305,    54.4167,       4800,  2990.9,   1.8743,  34.7477,2,  34.7486,2,    151.0,2,   148.6,2,  136.24,2,   34.91,2,    0.01,2,    2.47,2,-999.000,9,-999.000,9,  -999.0,9,  -999.0,9,-999.0000,9,-999.0000,9, -999.00,9, -999.00,9,  -999.0,9,    -9.0,-999.000,9,-999.000,   29924,-999.0000,   1.6498,-999.0000, -999.00
 316N145_11,       I01W,     909,          1,         10,     SIH014,2,19950914,       1038,     8.9305,    54.4167,       4800,  3194.9,   1.7938,  34.7426,2,  34.7429,2,    154.7,2,   153.5,2,  135.89,2,   34.92,2,    0.01,2,    2.44,2,-999.000,9,-999.000,9,  -999.0,9,  -999.0,9,-999.0000,9,-999.0000,9, -999.00,9, -999.00,9,  -999.0,9,    -9.0,-999.000,9,-999.000,   31966,-999.0000,   1.5510,-999.0000, -999.00
 316N145_11,       I01W,     909,          1,          9,     SIH015,2,19950914,       1038,     8.9305,    54.4167,       4800,  3394.0,   1.7159,  34.7383,2,  34.7380,2,    160.2,2,   158.8,2,  135.54,2,   34.68,2,    0.00,2,    2.41,2,  -0.003,2,  -0.001,2,  -999.0,9,  -999.0,9,-999.0000,9,-999.0000,9, -999.00,9, -999.00,9,  -999.0,9,    -9.0,-999.000,9,-999.000,   33959,-999.0000,   1.4549,-999.0000, -999.00
 316N145_11,       I01W,     909,          1,          8,     SIH016,2,19950914,       1038,     8.9305,    54.4167,       4800,  3597.3,   1.6448,  34.7353,2,  34.7335,2,    165.1,2,   164.2,2,  134.64,2,   34.47,2,   -0.01,2,    2.39,2,-999.000,9,-999.000,9,  -999.0,9,  -999.0,9,-999.0000,9,-999.0000,9, -999.00,9, -999.00,9,  -999.0,9,    -9.0,-999.000,9,-999.000,   35993,-999.0000,   1.3646,-999.0000, -999.00
 316N145_11,       I01W,     909,          1,          7,     SIH017,2,19950914,       1038,     8.9305,    54.4167,       4800,  3796.4,   1.5613,  34.7297,2,  34.7292,2,    171.7,2,   169.2,2,  134.12,2,   34.12,2,    0.00,2,    2.37,2,-999.000,9,-999.000,9,  -999.0,9,  -999.0,9,-999.0000,9,-999.0000,9, -999.00,9, -999.00,9,  -999.0,9,    -9.0,-999.000,9,-999.000,   37986,-999.0000,   1.2624,-999.0000, -999.00
 316N145_11,       I01W,     909,          1,          6,     SIH018,2,19950914,       1038,     8.9305,    54.4167,       4800,  3994.6,   1.4896,  34.7246,2,  34.7256,2,    175.7,2,   174.2,2,  133.76,2,   34.12,2,    0.00,2,    2.35,2,  -0.003,2,  -0.002,2,  -999.0,9,  -999.0,9,-999.0000,9,-999.0000,9, -999.00,9, -999.00,9,  -999.0,9,    -9.0,-999.000,9,-999.000,   39968,-999.0000,   1.1714,-999.0000, -999.00
 316N145_11,       I01W,     909,          1,          5,     SIH002,2,19950914,       1038,     8.9305,    54.4167,       4800,  4194.0,   1.4168,  34.7226,2,  34.7223,2,    179.5,2,   178.3,2,  133.60,2,   33.81,2,    0.01,2,    2.33,2,-999.000,9,-999.000,9,  -999.0,9,  -999.0,9,-999.0000,9,-999.0000,9, -999.00,9, -999.00,9,  -999.0,9,    -9.0,-999.000,9,-999.000,   41964,-999.0000,   1.0786,-999.0000, -999.00
 316N145_11,       I01W,     909,          1,          4,     SIH020,2,19950914,       1038,     8.9305,    54.4167,       4800,  4394.3,   1.3822,  34.7197,2,  34.7199,2,    181.7,2,   180.9,2,  133.98,2,   33.62,2,    0.00,2,    2.32,2,-999.000,9,-999.000,9,  -999.0,9,  -999.0,9,-999.0000,9,-999.0000,9, -999.00,9, -999.00,9,  -999.0,9,    -9.0,-999.000,9,-999.000,   43968,-999.0000,   1.0227,-999.0000, -999.00
 316N145_11,       I01W,     909,          1,          3,     SIH021,2,19950914,       1038,     8.9305,    54.4167,       4800,  4593.4,   1.3659,  34.7182,2,  34.7184,2,    184.8,2,   181.8,2,  134.18,2,   33.62,2,    0.00,2,    2.31,2,   0.001,2,   0.000,2,  -999.0,9,  -999.0,9,-999.0000,9,-999.0000,9, -999.00,9, -999.00,9,  -999.0,9,    -9.0,-999.000,9,-999.000,   45960,-999.0000,   0.9842,-999.0000, -999.00
 316N145_11,       I01W,     909,          1,          2,     SIH022,2,19950914,       1038,     8.9305,    54.4167,       4800,  4797.9,   1.3720,  34.7179,2,  34.7180,2,    185.1,2,   182.9,2,  134.37,2,   33.61,2,    0.01,2,    2.31,2,  -0.001,2,   0.003,2,  -999.0,9,  -999.0,9,-999.0000,9,-999.0000,9, -999.00,9, -999.00,9,  -999.0,9,    -9.0,-999.000,9,-999.000,   48007,-999.0000,   0.9661,-999.0000, -999.00
 316N145_11,       I01W,     909,          1,          1,     SIH023,2,19950914,       1038,     8.9305,    54.4167,       4800,  4905.7,   1.3775,  34.7179,2,  34.7188,2,    184.5,2,   182.2,2,  135.17,2,   33.63,2,    0.01,2,    2.32,2,   0.001,2,   0.000,2,  -999.0,9,  -999.0,9,-999.0000,9,-999.0000,9, -999.00,9, -999.00,9,  -999.0,9,    -9.0,-999.000,9,-999.000,   49086,-999.0000,   0.9585,-999.0000, -999.00