BOTTLE,20211119CCHSIORKP
EXPOCODE,SECT_ID,STNNBR,CASTNO,SAMPNO,BTLNBR,BTLNBR_FLAG_W,DATE,TIME,LATITUDE,LONGITUDE,DEPTH,CTDPRS,CTDTMP,CTDSAL,CTDSAL_FLAG_W,SALNTY,SALNTY_FLAG_W,CTDOXY,CTDOXY_FLAG_W,OXYGEN,OXYGEN_FLAG_W,SILCAT,SILCAT_FLAG_W,NITRAT,NITRAT_FLAG_W,NITRIT,NITRIT_FLAG_W,PHSPHT,PHSPHT_FLAG_W,CFC-11,CFC-11_FLAG_W,CFC-12,CFC-12_FLAG_W,TCARBN,TCARBN_FLAG_W,ALKALI,ALKALI_FLAG_W,TRITUM,TRITUM_FLAG_W,HELIUM,HELIUM_FLAG_W,DELHE3,DELHE3_FLAG_W,DELC13,DELC13_FLAG_W,DELC14,DELC14_FLAG_W,C14ERR,NEON,NEON_FLAG_W,NEONER,CTDRAW,TRITER,THETA,HELIER,DELHER
,,,,,,,,,,,METERS,DBAR,ITS-90,PSS-78,,PSS-78,,UMOL/KG,,UMOL/KG,,UMOL/KG,,UMOL/KG,,UMOL/KG,,UMOL/KG,,PMOL/KG,,PMOL/KG,,UMOL/KG,,UMOL/KG,,TU,,NMOL/KG,,PERCNT,,/MILLE,,/MILLE,,/MILLE,NMOL/KG,,NMOL/KG,DBAR,TU,DEG C,NMOL/KG,PERCNT
 316N145_11,       I01W,     941,          1,         36,     SIH024,2,19950923,       0327,     8.5000,    69.4167,       4615,    10.3,  28.3862,  36.4327,2,  36.4344,2,    210.5,2,   209.3,2,    2.00,2,    0.14,2,    0.01,2,    0.18,2,   1.624,2,   0.949,2,  1996.1,2,  2384.8,2,-999.0000,9,-999.0000,9, -999.00,9, -999.00,9,  -999.0,9,    -9.0,-999.000,9,-999.000,      96,-999.0000,  28.3838,-999.0000, -999.00
 316N145_11,       I01W,     941,          1,         35,     SIH003,2,19950923,       0327,     8.5000,    69.4167,       4615,    30.0,  28.3801,  36.4580,2,  36.4671,2,    208.2,2,   208.7,2,    2.00,2,    0.10,2,    0.00,2,    0.18,2,   1.632,3,   0.951,2,  1999.9,2,  2384.1,2,-999.0000,9,-999.0000,9, -999.00,9, -999.00,9,  -999.0,9,    -9.0,-999.000,9,-999.000,     292,-999.0000,  28.3729,-999.0000, -999.00
 316N145_11,       I01W,     941,          1,         34,     SIH026,2,19950923,       0327,     8.5000,    69.4167,       4615,    60.2,  28.1253,  36.6215,2,  36.6096,2,    210.3,2,   195.3,2,    2.00,2,    0.44,2,    0.06,2,    0.28,2,-999.000,9,-999.000,9,  2018.2,2,  2392.6,2,-999.0000,9,-999.0000,9, -999.00,9, -999.00,9,  -999.0,9,    -9.0,-999.000,9,-999.000,     595,-999.0000,  28.1111,-999.0000, -999.00
 316N145_11,       I01W,     941,          1,         33,     SIH027,2,19950923,       0327,     8.5000,    69.4167,       4615,    90.3,  24.8157,  36.1866,2,  36.1490,2,     62.2,2,    87.9,2,    6.90,2,   15.84,2,    0.16,2,    1.27,2,-999.000,9,-999.000,9,  2123.2,2,  2356.2,2,-999.0000,9,-999.0000,9, -999.00,9, -999.00,9,  -999.0,9,    -9.0,-999.000,9,-999.000,     895,-999.0000,  24.7961,-999.0000, -999.00
 316N145_11,       I01W,     941,          1,         32,     SIH028,2,19950923,       0327,     8.5000,    69.4167,       4615,   120.2,  19.3797,  35.5521,2,  35.5624,2,      1.4,2,     4.7,2,   17.99,2,   26.54,2,    0.03,2,    2.10,2,   0.999,2,   0.558,2,  2204.8,2,  2332.5,2,-999.0000,9,-999.0000,9, -999.00,9, -999.00,9,  -999.0,9,    -9.0,-999.000,9,-999.000,    1194,-999.0000,  19.3581,-999.0000, -999.00
 316N145_11,       I01W,     941,          1,         31,     SIH029,2,19950923,       0327,     8.5000,    69.4167,       4615,   150.0,  16.4570,  35.3877,2,  35.3819,2,      3.4,2,     7.3,2,   23.45,2,   27.27,2,    0.02,2,    2.26,2,-999.000,9,-999.000,9,  2224.6,2,  2323.1,2,-999.0000,9,-999.0000,9, -999.00,9, -999.00,9,  -999.0,9,    -9.0,-999.000,9,-999.000,    1493,-999.0000,  16.4328,-999.0000, -999.00
 316N145_11,       I01W,     941,          1,         30,     SIH030,2,19950923,       0327,     8.5000,    69.4167,       4615,   200.3,  13.9090,  35.3079,2,  35.3037,2,     13.0,2,    15.2,2,   26.17,2,   29.09,2,    0.01,2,    2.24,2,   0.425,2,   0.229,2,  2237.9,2,  2325.8,2,-999.0000,9,-999.0000,9, -999.00,9, -999.00,9,  -999.0,9,    -9.0,-999.000,9,-999.000,    1996,-999.0000,  13.8800,-999.0000, -999.00
 316N145_11,       I01W,     941,          1,         29,     SIH031,2,19950923,       0327,     8.5000,    69.4167,       4615,   250.2,  12.5324,  35.2429,2,  35.2424,2,     31.4,2,    33.5,2,   26.91,2,   30.01,2,    0.01,2,    2.18,2,-999.000,9,-999.000,9,  2233.6,2,  2324.2,2,-999.0000,9,-999.0000,9, -999.00,9, -999.00,9,  -999.0,9,    -9.0,-999.000,9,-999.000,    2495,-999.0000,  12.4986,-999.0000, -999.00
 316N145_11,       I01W,     941,          1,         28,     SIH032,2,19950923,       0327,     8.5000,    69.4167,       4615,   299.9,  11.7036,  35.1791,2,  35.1827,2,     26.4,2,    28.0,2,   31.27,2,   31.93,2,    0.01,2,    2.28,2,   0.264,2,   0.138,2,  2244.0,2,  2324.2,2,-999.0000,9,-999.0000,9, -999.00,9, -999.00,9,  -999.0,9,    -9.0,-999.000,9,-999.000,    2992,-999.0000,  11.6648,-999.0000, -999.00
 316N145_11,       I01W,     941,          1,         27,     SIH033,2,19950923,       0327,     8.5000,    69.4167,       4615,   401.0,  10.8468,  35.1693,2,  35.1673,2,     26.3,2,    28.2,2,   38.36,2,   33.55,2,    0.01,2,    2.42,2,-999.000,9,-999.000,9,  2253.7,2,  2330.3,2,-999.0000,9,-999.0000,9, -999.00,9, -999.00,9,  -999.0,9,    -9.0,-999.000,9,-999.000,    4004,-999.0000,  10.7972,-999.0000, -999.00
 316N145_11,       I01W,     941,          1,         26,     SIH037,2,19950923,       0327,     8.5000,    69.4167,       4615,   501.4,  10.3044,  35.1820,2,  35.1805,2,     22.4,2,    24.8,2,   45.64,2,   34.68,2,    0.01,2,    2.58,2,   0.065,2,   0.039,2,  -999.0,9,  -999.0,9,-999.0000,9,-999.0000,9, -999.00,9, -999.00,9,  -999.0,9,    -9.0,-999.000,9,-999.000,    5008,-999.0000,  10.2440,-999.0000, -999.00
 316N145_11,       I01W,     941,          1,         25,     SI9446,2,19950923,       0327,     8.5000,    69.4167,       4615,   601.5,   9.8238,  35.1894,2,  35.1900,2,     24.5,2,    26.7,3,   51.46,2,   34.93,2,    0.01,2,    2.61,2,   0.046,2,   0.025,2,  2271.8,2,  2344.0,2,-999.0000,9,-999.0000,9, -999.00,9, -999.00,9,  -999.0,9,    -9.0,-999.000,9,-999.000,    6009,-999.0000,   9.7532,-999.0000, -999.00
 316N145_11,       I01W,     941,          1,         24,     SIH036,2,19950923,       0327,     8.5000,    69.4167,       4615,   702.1,   9.0948,  35.1489,2,  35.1486,2,     22.1,2,    23.3,2,   61.10,2,   36.25,2,    0.01,2,    2.71,2,-999.000,9,-999.000,9,  -999.0,9,  -999.0,9,-999.0000,9,-999.0000,9, -999.00,9, -999.00,9,  -999.0,9,    -9.0,-999.000,9,-999.000,    7016,-999.0000,   9.0157,-999.0000, -999.00
 316N145_11,       I01W,     941,          1,         23,     SIH001,2,19950923,       0327,     8.5000,    69.4167,       4615,   798.3,   8.4894,  35.1099,2,  35.1091,2,     27.0,2,    28.3,2,   67.28,2,   36.82,2,    0.01,2,    2.75,2,   0.010,2,   0.005,2,  2289.6,2,  2359.4,2,-999.0000,9,-999.0000,9, -999.00,9, -999.00,9,  -999.0,9,    -9.0,-999.000,9,-999.000,    7978,-999.0000,   8.4025,-999.0000, -999.00
 316N145_11,       I01W,     941,          1,         22,     SIH019,2,19950923,       0327,     8.5000,    69.4167,       4615,   898.4,   7.7062,  35.0477,2,  35.0411,2,     33.0,2,    33.9,2,   75.85,2,   37.43,2,    0.01,2,    2.79,2,-999.000,9,-999.000,9,  -999.0,9,  -999.0,9,-999.0000,9,-999.0000,9, -999.00,9, -999.00,9,  -999.0,9,    -9.0,-999.000,9,-999.000,    8979,-999.0000,   7.6130,-999.0000, -999.00
 316N145_11,       I01W,     941,          1,         21,     SIH025,2,19950923,       0327,     8.5000,    69.4167,       4615,   999.3,   7.1735,  35.0192,2,  35.0183,2,     37.9,2,    38.0,2,   82.03,2,   37.80,2,    0.01,2,    2.81,2,-999.000,9,-999.000,9,  2302.4,2,  2370.5,2,-999.0000,9,-999.0000,9, -999.00,9, -999.00,9,  -999.0,9,    -9.0,-999.000,9,-999.000,    9989,-999.0000,   7.0731,-999.0000, -999.00
 316N145_11,       I01W,     941,          1,         20,     SIH004,2,19950923,       0327,     8.5000,    69.4167,       4615,  1200.5,   6.4444,  35.0098,2,  35.0118,2,     46.9,2,    46.0,2,   90.41,2,   38.06,2,    0.01,2,    2.84,2,   0.003,2,   0.001,2,  2310.8,2,  2381.8,2,-999.0000,9,-999.0000,9, -999.00,9, -999.00,9,  -999.0,9,    -9.0,-999.000,9,-999.000,   12002,-999.0000,   6.3288,-999.0000, -999.00
 316N145_11,       I01W,     941,          1,         19,     SIH005,2,19950923,       0327,     8.5000,    69.4167,       4615,  1397.4,   5.3276,  34.9352,2,  34.9408,2,     65.6,2,    62.7,2,  101.33,2,   38.03,2,    0.00,2,    2.82,2,-999.000,9,-999.000,9,  -999.0,9,  -999.0,9,-999.0000,9,-999.0000,9, -999.00,9, -999.00,9,  -999.0,9,    -9.0,-999.000,9,-999.000,   13972,-999.0000,   5.2029,-999.0000, -999.00
 316N145_11,       I01W,     941,          1,         18,     SIH006,2,19950923,       0327,     8.5000,    69.4167,       4615,  1598.8,   4.3456,  34.8924,2,  34.8936,2,     81.4,2,    78.5,2,  113.17,2,   37.89,2,    0.00,2,    2.79,2,  -0.001,2,   0.002,2,  2324.2,2,  2402.1,2,-999.0000,9,-999.0000,9, -999.00,9, -999.00,9,  -999.0,9,    -9.0,-999.000,9,-999.000,   15987,-999.0000,   4.2123,-999.0000, -999.00
 316N145_11,       I01W,     941,          1,         17,     SIH038,2,19950923,       0327,     8.5000,    69.4167,       4615,  1800.2,   3.4349,  34.8365,2,  34.8371,2,     98.9,2,    98.9,2,  122.64,2,   37.29,2,    0.00,2,    2.71,2,-999.000,9,-999.000,9,  -999.0,9,  -999.0,9,-999.0000,9,-999.0000,9, -999.00,9, -999.00,9,  -999.0,9,    -9.0,-999.000,9,-999.000,   18003,-999.0000,   3.2947,-999.0000, -999.00
 316N145_11,       I01W,     941,          1,         16,     SIH008,2,19950923,       0327,     8.5000,    69.4167,       4615,  2000.5,   2.8046,  34.7945,2,  34.7960,2,    117.8,2,   118.4,2,  128.29,2,   36.54,2,    0.00,2,    2.62,2,  -0.002,2,   0.000,2,  2323.1,2,  2416.3,2,-999.0000,9,-999.0000,9, -999.00,9, -999.00,9,  -999.0,9,    -9.0,-999.000,9,-999.000,   20007,-999.0000,   2.6555,-999.0000, -999.00
 316N145_11,       I01W,     941,          1,         15,     SIH009,2,19950923,       0327,     8.5000,    69.4167,       4615,  2202.5,   2.4747,  34.7794,2,  34.7809,2,    127.7,2,   127.0,2,  131.77,2,   36.30,2,    0.00,2,    2.60,2,-999.000,9,-999.000,9,  -999.0,9,  -999.0,9,-999.0000,9,-999.0000,9, -999.00,9, -999.00,9,  -999.0,9,    -9.0,-999.000,9,-999.000,   22028,-999.0000,   2.3125,-999.0000, -999.00
 316N145_11,       I01W,     941,          1,         14,     SIH010,2,19950923,       0327,     8.5000,    69.4167,       4615,  2411.2,   2.1980,  34.7644,2,  34.7653,2,    135.3,2,   135.3,2,  134.14,2,   36.10,2,    0.01,2,    2.56,2,  -0.002,2,  -0.002,2,  -999.0,9,  -999.0,9,-999.0000,9,-999.0000,9, -999.00,9, -999.00,9,  -999.0,9,    -9.0,-999.000,9,-999.000,   24116,-999.0000,   2.0217,-999.0000, -999.00
 316N145_11,       I01W,     941,          1,         13,     SIH011,3,19950923,       0327,     8.5000,    69.4167,       4615,  2603.6,   2.0183,  34.7550,3,  34.7579,2,    141.9,2,   142.0,2,  135.61,2,   35.82,2,    0.00,2,    2.53,2,-999.000,9,-999.000,9,  2319.9,2,  2424.7,2,-999.0000,9,-999.0000,9, -999.00,9, -999.00,9,  -999.0,9,    -9.0,-999.000,9,-999.000,   26042,-999.0000,   1.8277,-999.0000, -999.00
 316N145_11,       I01W,     941,          1,         12,     SIH012,2,19950923,       0327,     8.5000,    69.4167,       4615,  2802.4,   1.8670,  34.7468,2,  34.7478,2,    147.8,2,   148.3,2,  137.25,2,   35.53,2,    0.00,2,    2.49,2,-999.000,9,-999.000,9,  -999.0,9,  -999.0,9,-999.0000,9,-999.0000,9, -999.00,9, -999.00,9,  -999.0,9,    -9.0,-999.000,9,-999.000,   28031,-999.0000,   1.6608,-999.0000, -999.00
 316N145_11,       I01W,     941,          1,         11,     SI9426,2,19950923,       0327,     8.5000,    69.4167,       4615,  3000.2,   1.7932,  34.7420,2,  34.7471,4,    151.7,2,   151.5,2,  137.44,2,   35.48,2,    0.00,2,    2.47,2,  -0.002,2,  -0.001,2,  2317.9,2,  2429.4,2,-999.0000,9,-999.0000,9, -999.00,9, -999.00,9,  -999.0,9,    -9.0,-999.000,9,-999.000,   30011,-999.0000,   1.5696,-999.0000, -999.00
 316N145_11,       I01W,     941,          1,         10,     SIH014,2,19950923,       0327,     8.5000,    69.4167,       4615,  3198.8,   1.7382,  34.7388,2,  34.7390,2,    154.4,2,   154.2,2,  137.45,2,   35.39,2,    0.00,2,    2.46,2,-999.000,9,-999.000,9,  -999.0,9,  -999.0,9,-999.0000,9,-999.0000,9, -999.00,9, -999.00,9,  -999.0,9,    -9.0,-999.000,9,-999.000,   31998,-999.0000,   1.4963,-999.0000, -999.00
 316N145_11,       I01W,     941,          1,          9,     SIH015,2,19950923,       0327,     8.5000,    69.4167,       4615,  3398.2,   1.7050,  34.7362,2,  34.7362,2,    154.9,2,   156.2,2,  137.64,2,   35.24,2,    0.00,2,    2.44,2,-999.000,9,-999.000,9,  -999.0,9,  -999.0,9,-999.0000,9,-999.0000,9, -999.00,9, -999.00,9,  -999.0,9,    -9.0,-999.000,9,-999.000,   33994,-999.0000,   1.4439,-999.0000, -999.00
 316N145_11,       I01W,     941,          1,          8,     SIH016,2,19950923,       0327,     8.5000,    69.4167,       4615,  3601.8,   1.6975,  34.7352,2,  34.7355,2,    156.4,2,   158.5,2,  137.83,2,   35.25,2,    0.00,2,    2.46,2,  -0.002,2,  -0.001,2,  2315.8,2,  2427.8,2,-999.0000,9,-999.0000,9, -999.00,9, -999.00,9,  -999.0,9,    -9.0,-999.000,9,-999.000,   36031,-999.0000,   1.4155,-999.0000, -999.00
 316N145_11,       I01W,     941,          1,          7,     SIH017,2,19950923,       0327,     8.5000,    69.4167,       4615,  3800.8,   1.6855,  34.7340,2,  34.7360,2,    158.3,2,   158.6,2,  138.39,2,   35.15,2,    0.02,2,    2.45,2,-999.000,9,-999.000,9,  -999.0,9,  -999.0,9,-999.0000,9,-999.0000,9, -999.00,9, -999.00,9,  -999.0,9,    -9.0,-999.000,9,-999.000,   38023,-999.0000,   1.3827,-999.0000, -999.00
 316N145_11,       I01W,     941,          1,          6,     SIH018,2,19950923,       0327,     8.5000,    69.4167,       4615,  3999.5,   1.6722,  34.7338,2,  34.7331,3,    157.1,2,   160.5,3,  138.76,2,   35.07,2,    0.00,2,    2.45,2,-999.000,9,-999.000,9,  2314.8,2,  2428.5,2,-999.0000,9,-999.0000,9, -999.00,9, -999.00,9,  -999.0,9,    -9.0,-999.000,9,-999.000,   40011,-999.0000,   1.3482,-999.0000, -999.00
 316N145_11,       I01W,     941,          1,          5,     SIH002,3,19950923,       0327,     8.5000,    69.4167,       4615,  4199.4,   1.6672,  34.7327,3,  34.7347,2,    159.6,2,   160.7,2,  138.41,2,   35.08,2,    0.00,2,    2.44,2,-999.000,9,-999.000,9,  -999.0,9,  -999.0,9,-999.0000,9,-999.0000,9, -999.00,9, -999.00,9,  -999.0,9,    -9.0,-999.000,9,-999.000,   42011,-999.0000,   1.3212,-999.0000, -999.00
 316N145_11,       I01W,     941,          1,          4,     SIH020,2,19950923,       0327,     8.5000,    69.4167,       4615,  4398.7,   1.6647,  34.7306,2,  34.7327,2,    160.5,2,   161.9,2,  138.78,2,   34.98,2,    0.01,2,    2.44,2,-999.000,9,-999.000,9,  -999.0,9,  -999.0,9,-999.0000,9,-999.0000,9, -999.00,9, -999.00,9,  -999.0,9,    -9.0,-999.000,9,-999.000,   44006,-999.0000,   1.2961,-999.0000, -999.00
 316N145_11,       I01W,     941,          1,          3,     SIH021,2,19950923,       0327,     8.5000,    69.4167,       4615,  4597.7,   1.6779,  34.7304,2,  34.7304,2,    161.0,2,   162.5,2,  138.79,2,   34.89,2,    0.00,2,    2.43,2,   0.000,2,   0.000,2,  -999.0,9,  -999.0,9,-999.0000,9,-999.0000,9, -999.00,9, -999.00,9,  -999.0,9,    -9.0,-999.000,9,-999.000,   45997,-999.0000,   1.2857,-999.0000, -999.00
 316N145_11,       I01W,     941,          1,          2,     SIH022,2,19950923,       0327,     8.5000,    69.4167,       4615,  4654.3,   1.6832,  34.7302,2,  34.7315,2,    160.8,2,   162.2,2,  138.80,2,   34.95,2,    0.00,2,    2.43,2,   0.000,2,  -0.002,2,  -999.0,9,  -999.0,9,-999.0000,9,-999.0000,9, -999.00,9, -999.00,9,  -999.0,9,    -9.0,-999.000,9,-999.000,   46564,-999.0000,   1.2842,-999.0000, -999.00
 316N145_11,       I01W,     941,          1,          1,     SIH023,2,19950923,       0327,     8.5000,    69.4167,       4615,  4706.2,   1.6894,  34.7306,2,  34.7292,2,    159.6,2,   163.1,2,  138.88,2,   34.99,2,    0.00,2,    2.43,2,   0.001,6,   0.001,6,  2317.1,2,  2431.7,2,-999.0000,9,-999.0000,9, -999.00,9, -999.00,9,  -999.0,9,    -9.0,-999.000,9,-999.000,   47083,-999.0000,   1.2839,-999.0000, -999.00