BOTTLE,20211119CCHSIORKP
EXPOCODE,SECT_ID,STNNBR,CASTNO,SAMPNO,BTLNBR,BTLNBR_FLAG_W,DATE,TIME,LATITUDE,LONGITUDE,DEPTH,CTDPRS,CTDTMP,CTDSAL,CTDSAL_FLAG_W,SALNTY,SALNTY_FLAG_W,CTDOXY,CTDOXY_FLAG_W,OXYGEN,OXYGEN_FLAG_W,SILCAT,SILCAT_FLAG_W,NITRAT,NITRAT_FLAG_W,NITRIT,NITRIT_FLAG_W,PHSPHT,PHSPHT_FLAG_W,CFC-11,CFC-11_FLAG_W,CFC-12,CFC-12_FLAG_W,TCARBN,TCARBN_FLAG_W,ALKALI,ALKALI_FLAG_W,TRITUM,TRITUM_FLAG_W,HELIUM,HELIUM_FLAG_W,DELHE3,DELHE3_FLAG_W,DELC13,DELC13_FLAG_W,DELC14,DELC14_FLAG_W,C14ERR,NEON,NEON_FLAG_W,NEONER,CTDRAW,TRITER,THETA,HELIER,DELHER
,,,,,,,,,,,METERS,DBAR,ITS-90,PSS-78,,PSS-78,,UMOL/KG,,UMOL/KG,,UMOL/KG,,UMOL/KG,,UMOL/KG,,UMOL/KG,,PMOL/KG,,PMOL/KG,,UMOL/KG,,UMOL/KG,,TU,,NMOL/KG,,PERCNT,,/MILLE,,/MILLE,,/MILLE,NMOL/KG,,NMOL/KG,DBAR,TU,DEG C,NMOL/KG,PERCNT
 316N145_11,       I01W,     934,          1,         36,     SIH024,2,19950921,       0128,     8.5000,    65.8833,       4525,    10.0,  28.4061,  36.7294,2,  36.7304,2,    195.5,2,   207.8,2,    1.70,2,    0.07,2,    0.00,2,    0.27,2,   1.633,2,   0.949,2,  2024.2,2,  2401.2,2,-999.0000,9,-999.0000,9, -999.00,9, -999.00,9,  -999.0,9,    -9.0,-999.000,9,-999.000,      93,-999.0000,  28.4037,-999.0000, -999.00
 316N145_11,       I01W,     934,          1,         35,     SIH003,2,19950921,       0128,     8.5000,    65.8833,       4525,    30.3,  28.2807,  36.7265,2,  36.7264,2,    201.0,2,   201.8,2,    1.51,2,    0.07,2,    0.00,2,    0.27,2,-999.000,9,-999.000,9,  2023.8,2,  2400.8,2,-999.0000,9,-999.0000,9, -999.00,9, -999.00,9,  -999.0,9,    -9.0,-999.000,9,-999.000,     297,-999.0000,  28.2734,-999.0000, -999.00
 316N145_11,       I01W,     934,          1,         34,     SIH026,2,19950921,       0128,     8.5000,    65.8833,       4525,    60.6,  28.1725,  36.7119,2,  36.7111,2,    204.7,2,   203.1,2,    1.70,2,    0.07,2,    0.00,2,    0.27,2,   1.619,2,   0.945,2,  2023.8,2,  2401.0,2,-999.0000,9,-999.0000,9, -999.00,9, -999.00,9,  -999.0,9,    -9.0,-999.000,9,-999.000,     599,-999.0000,  28.1581,-999.0000, -999.00
 316N145_11,       I01W,     934,          1,         33,     SIH027,2,19950921,       0128,     8.5000,    65.8833,       4525,    90.8,  27.5363,  36.5741,2,  36.6017,2,    191.1,2,   177.8,2,    2.41,2,    3.20,2,    0.52,2,    0.51,2,-999.000,9,-999.000,9,  2049.6,2,  2389.1,2,-999.0000,9,-999.0000,9, -999.00,9, -999.00,9,  -999.0,9,    -9.0,-999.000,9,-999.000,     902,-999.0000,  27.5150,-999.0000, -999.00
 316N145_11,       I01W,     934,          1,         32,     SIH028,2,19950921,       0128,     8.5000,    65.8833,       4525,   120.2,  22.3755,  35.9799,2,  35.9384,2,     44.2,2,    27.7,2,   11.09,2,   23.12,2,    0.04,2,    1.78,2,-999.000,9,-999.000,9,  2178.0,2,  2345.1,2,-999.0000,9,-999.0000,9, -999.00,9, -999.00,9,  -999.0,9,    -9.0,-999.000,9,-999.000,    1196,-999.0000,  22.3513,-999.0000, -999.00
 316N145_11,       I01W,     934,          1,         31,     SIH029,2,19950921,       0128,     8.5000,    65.8833,       4525,   150.3,  17.8431,  35.5619,2,  35.5557,2,      1.2,2,     3.5,2,   21.03,2,   25.30,2,    0.01,2,    2.22,2,   0.794,2,   0.467,2,  2226.7,2,  2335.8,3,-999.0000,9,-999.0000,9, -999.00,9, -999.00,9,  -999.0,9,    -9.0,-999.000,9,-999.000,    1497,-999.0000,  17.8174,-999.0000, -999.00
 316N145_11,       I01W,     934,          1,         30,     SIH030,2,19950921,       0128,     8.5000,    65.8833,       4525,   199.8,  14.7218,  35.3087,2,  35.3056,2,     28.5,2,    28.3,2,   23.03,2,   27.29,2,    0.01,2,    2.08,2,-999.000,9,-999.000,9,  2222.6,2,  2326.4,2,-999.0000,9,-999.0000,9, -999.00,9, -999.00,9,  -999.0,9,    -9.0,-999.000,9,-999.000,    1991,-999.0000,  14.6918,-999.0000, -999.00
 316N145_11,       I01W,     934,          1,         29,     SIH031,2,19950921,       0128,     8.5000,    65.8833,       4525,   250.7,  13.1472,  35.2633,2,  35.2552,2,     46.9,2,    45.6,2,   24.11,2,   27.50,2,    0.00,2,    2.01,2,   0.606,2,   0.318,2,  2220.5,2,  2324.7,2,-999.0000,9,-999.0000,9, -999.00,9, -999.00,9,  -999.0,9,    -9.0,-999.000,9,-999.000,    2501,-999.0000,  13.1124,-999.0000, -999.00
 316N145_11,       I01W,     934,          1,         28,     SIH032,2,19950921,       0128,     8.5000,    65.8833,       4525,   301.0,  12.4129,  35.2353,2,  35.2414,2,     34.8,2,    46.5,2,   26.11,2,   28.67,2,    0.01,2,    2.07,2,   0.498,2,   0.259,2,  2228.1,2,  2323.1,2,-999.0000,9,-999.0000,9, -999.00,9, -999.00,9,  -999.0,9,    -9.0,-999.000,9,-999.000,    3004,-999.0000,  12.3725,-999.0000, -999.00
 316N145_11,       I01W,     934,          1,         27,     SIH033,2,19950921,       0128,     8.5000,    65.8833,       4525,   400.4,  11.5270,  35.2913,2,  35.2980,2,     25.1,2,    26.6,2,   34.43,2,   31.87,2,    0.01,2,    2.35,2,-999.000,9,-999.000,9,  2253.0,2,  2335.5,2,-999.0000,9,-999.0000,9, -999.00,9, -999.00,9,  -999.0,9,    -9.0,-999.000,9,-999.000,    3998,-999.0000,  11.4755,-999.0000, -999.00
 316N145_11,       I01W,     934,          1,         26,     SIH037,2,19950921,       0128,     8.5000,    65.8833,       4525,   501.1,  10.7813,  35.3028,2,  35.3053,2,     23.2,2,    24.2,2,   43.47,2,   33.14,2,    0.01,2,    2.51,2,   0.100,2,   0.053,2,  2265.9,2,  2342.4,2,-999.0000,9,-999.0000,9, -999.00,9, -999.00,9,  -999.0,9,    -9.0,-999.000,9,-999.000,    5005,-999.0000,  10.7192,-999.0000, -999.00
 316N145_11,       I01W,     934,          1,         25,     SI9446,2,19950921,       0128,     8.5000,    65.8833,       4525,   601.8,   9.8141,  35.2030,2,  35.2075,2,     21.8,2,    22.0,2,   52.54,2,   35.03,2,    0.01,2,    2.63,2,   0.032,2,   0.018,2,  2277.7,2,  2348.0,2,-999.0000,9,-999.0000,9, -999.00,9, -999.00,9,  -999.0,9,    -9.0,-999.000,9,-999.000,    6014,-999.0000,   9.7436,-999.0000, -999.00
 316N145_11,       I01W,     934,          1,         24,     SIH036,2,19950921,       0128,     8.5000,    65.8833,       4525,   702.0,   9.0761,  35.1658,2,  35.1632,2,     21.8,2,    23.2,2,   61.41,2,   36.10,2,    0.01,2,    2.70,2,   0.020,3,   0.006,2,  2288.6,2,  2355.7,2,-999.0000,9,-999.0000,9, -999.00,9, -999.00,9,  -999.0,9,    -9.0,-999.000,9,-999.000,    7016,-999.0000,   8.9970,-999.0000, -999.00
 316N145_11,       I01W,     934,          1,         23,     SIH001,2,19950921,       0128,     8.5000,    65.8833,       4525,   798.3,   8.4609,  35.1490,2,  35.1478,2,     24.7,2,    24.7,2,   69.56,2,   36.72,2,    0.01,2,    2.75,2,-999.000,9,-999.000,9,  2296.9,2,  2361.9,2,-999.0000,9,-999.0000,9, -999.00,9, -999.00,9,  -999.0,9,    -9.0,-999.000,9,-999.000,    7979,-999.0000,   8.3741,-999.0000, -999.00
 316N145_11,       I01W,     934,          1,         22,     SIH019,2,19950921,       0128,     8.5000,    65.8833,       4525,   897.6,   7.7724,  35.0962,2,  35.0945,2,     32.7,2,    31.9,2,   76.26,2,   37.08,2,    0.00,2,    2.77,2,   0.007,2,   0.003,2,  2302.0,2,  2369.4,2,-999.0000,9,-999.0000,9, -999.00,9, -999.00,9,  -999.0,9,    -9.0,-999.000,9,-999.000,    8973,-999.0000,   7.6790,-999.0000, -999.00
 316N145_11,       I01W,     934,          1,         21,     SIH025,2,19950921,       0128,     8.5000,    65.8833,       4525,   998.8,   6.9786,  35.0252,2,  35.0211,2,     40.9,2,    40.8,2,   84.25,2,   37.59,2,    0.01,2,    2.79,2,-999.000,9,-999.000,9,  2308.4,2,  2375.4,2,-999.0000,9,-999.0000,9, -999.00,9, -999.00,9,  -999.0,9,    -9.0,-999.000,9,-999.000,    9985,-999.0000,   6.8797,-999.0000, -999.00
 316N145_11,       I01W,     934,          1,         20,     SIH004,2,19950921,       0128,     8.5000,    65.8833,       4525,  1099.6,   6.5047,  34.9985,2,  34.9976,2,     47.3,2,    46.7,2,   89.15,2,   37.70,2,    0.01,2,    2.80,2,   0.003,2,   0.000,2,  -999.0,9,  -999.0,9,-999.0000,9,-999.0000,9, -999.00,9, -999.00,9,  -999.0,9,    -9.0,-999.000,9,-999.000,   10994,-999.0000,   6.3991,-999.0000, -999.00
 316N145_11,       I01W,     934,          1,         19,     SIH005,2,19950921,       0128,     8.5000,    65.8833,       4525,  1200.6,   6.1927,  35.0106,2,  35.0122,2,     50.8,2,    51.1,2,   92.41,2,   37.54,2,    0.01,2,    2.79,2,-999.000,9,-999.000,9,  -999.0,9,  -999.0,9,-999.0000,9,-999.0000,9, -999.00,9, -999.00,9,  -999.0,9,    -9.0,-999.000,9,-999.000,   12004,-999.0000,   6.0792,-999.0000, -999.00
 316N145_11,       I01W,     934,          1,         18,     SIH006,2,19950921,       0128,     8.5000,    65.8833,       4525,  1397.5,   5.4134,  34.9686,2,  34.9683,2,     63.5,2,    61.1,2,  100.40,2,   37.51,2,    0.00,2,    2.78,2,  -0.002,2,  -0.001,2,  -999.0,9,  -999.0,9,-999.0000,9,-999.0000,9, -999.00,9, -999.00,9,  -999.0,9,    -9.0,-999.000,9,-999.000,   13974,-999.0000,   5.2876,-999.0000, -999.00
 316N145_11,       I01W,     934,          1,         17,     SIH038,2,19950921,       0128,     8.5000,    65.8833,       4525,  1598.3,   4.3356,  34.8933,2,  34.8916,2,     81.4,2,    81.4,2,  111.65,2,   37.30,2,    0.01,2,    2.73,2,  -0.002,2,  -0.001,2,  -999.0,9,  -999.0,9,-999.0000,9,-999.0000,9, -999.00,9, -999.00,9,  -999.0,9,    -9.0,-999.000,9,-999.000,   15983,-999.0000,   4.2025,-999.0000, -999.00
 316N145_11,       I01W,     934,          1,         16,     SIH008,2,19950921,       0128,     8.5000,    65.8833,       4525,  1800.9,   3.5472,  34.8404,2,  34.8401,2,    101.0,2,   101.2,2,  118.91,2,   36.66,2,    0.00,2,    2.66,2,-999.000,9,-999.000,9,  -999.0,9,  -999.0,9,-999.0000,9,-999.0000,9, -999.00,9, -999.00,9,  -999.0,9,    -9.0,-999.000,9,-999.000,   18011,-999.0000,   3.4055,-999.0000, -999.00
 316N145_11,       I01W,     934,          1,         15,     SIH009,2,19950921,       0128,     8.5000,    65.8833,       4525,  2002.6,   2.9865,  34.8052,2,  34.8060,2,    114.9,2,   112.6,2,  125.45,2,   36.36,2,    0.00,2,    2.61,2,  -0.003,2,  -0.001,2,  -999.0,9,  -999.0,9,-999.0000,9,-999.0000,9, -999.00,9, -999.00,9,  -999.0,9,    -9.0,-999.000,9,-999.000,   20028,-999.0000,   2.8343,-999.0000, -999.00
 316N145_11,       I01W,     934,          1,         14,     SIH010,2,19950921,       0128,     8.5000,    65.8833,       4525,  2199.7,   2.5962,  34.7858,2,  34.7852,2,    124.2,2,   124.4,2,  129.46,2,   36.10,2, -999.00,9,    2.58,2,-999.000,9,-999.000,9,  -999.0,9,  -999.0,9,-999.0000,9,-999.0000,9, -999.00,9, -999.00,9,  -999.0,9,    -9.0,-999.000,9,-999.000,   22001,-999.0000,   2.4322,-999.0000, -999.00
 316N145_11,       I01W,     934,          1,         13,     SIH011,2,19950921,       0128,     8.5000,    65.8833,       4525,  2397.4,   2.3268,  34.7726,2,  34.7732,2,    131.7,2,   131.8,2,  132.73,2,   35.75,2, -999.00,9,    2.55,2,-999.000,9,-999.000,9,  -999.0,9,  -999.0,9,-999.0000,9,-999.0000,9, -999.00,9, -999.00,9,  -999.0,9,    -9.0,-999.000,9,-999.000,   23980,-999.0000,   2.1496,-999.0000, -999.00
 316N145_11,       I01W,     934,          1,         12,     SIH012,2,19950921,       0128,     8.5000,    65.8833,       4525,  2599.7,   2.1095,  34.7608,2,  34.7612,2,    138.3,2,   139.2,2,  134.02,2,   35.50,2, -999.00,9,    2.51,2,-999.000,9,-999.000,9,  -999.0,9,  -999.0,9,-999.0000,9,-999.0000,9, -999.00,9, -999.00,9,  -999.0,9,    -9.0,-999.000,9,-999.000,   26003,-999.0000,   1.9175,-999.0000, -999.00
 316N145_11,       I01W,     934,          1,         11,     SI9426,2,19950921,       0128,     8.5000,    65.8833,       4525,  2797.7,   1.9388,  34.7510,2,  34.7532,2,    144.6,2,   146.4,2,  134.76,2,   35.19,2,    0.01,2,    2.48,2,  -0.001,2,  -0.001,2,  -999.0,9,  -999.0,9,-999.0000,9,-999.0000,9, -999.00,9, -999.00,9,  -999.0,9,    -9.0,-999.000,9,-999.000,   27985,-999.0000,   1.7316,-999.0000, -999.00
 316N145_11,       I01W,     934,          1,         10,     SIH014,2,19950921,       0128,     8.5000,    65.8833,       4525,  3002.1,   1.8571,  34.7471,2,  34.7461,2,    148.6,2,   150.0,2,  136.23,2,   35.14,2,    0.02,2,    2.46,2,-999.000,9,-999.000,9,  -999.0,9,  -999.0,9,-999.0000,9,-999.0000,9, -999.00,9, -999.00,9,  -999.0,9,    -9.0,-999.000,9,-999.000,   30031,-999.0000,   1.6318,-999.0000, -999.00
 316N145_11,       I01W,     934,          1,          9,     SIH015,2,19950921,       0128,     8.5000,    65.8833,       4525,  3199.4,   1.7879,  34.7426,2,  34.7419,2,    153.6,2,   153.6,2,  136.61,2,   34.99,2,    0.01,2,    2.44,2,-999.000,9,-999.000,9,  -999.0,9,  -999.0,9,-999.0000,9,-999.0000,9, -999.00,9, -999.00,9,  -999.0,9,    -9.0,-999.000,9,-999.000,   32005,-999.0000,   1.5448,-999.0000, -999.00
 316N145_11,       I01W,     934,          1,          8,     SIH016,2,19950921,       0128,     8.5000,    65.8833,       4525,  3398.7,   1.7383,  34.7396,2,  34.7390,2,    155.3,2,   155.5,2,  137.16,2,   34.95,2,    0.00,2,    2.45,2,-999.000,9,-999.000,9,  -999.0,9,  -999.0,9,-999.0000,9,-999.0000,9, -999.00,9, -999.00,9,  -999.0,9,    -9.0,-999.000,9,-999.000,   34000,-999.0000,   1.4763,-999.0000, -999.00
 316N145_11,       I01W,     934,          1,          7,     SIH017,2,19950921,       0128,     8.5000,    65.8833,       4525,  3597.1,   1.7145,  34.7387,2,  34.7398,4,    155.0,2,   156.4,2,  137.55,2,   34.91,2,    0.00,2,    2.44,2,   0.000,2,   0.000,2,  -999.0,9,  -999.0,9,-999.0000,9,-999.0000,9, -999.00,9, -999.00,9,  -999.0,9,    -9.0,-999.000,9,-999.000,   35985,-999.0000,   1.4325,-999.0000, -999.00
 316N145_11,       I01W,     934,          1,          6,     SIH018,2,19950921,       0128,     8.5000,    65.8833,       4525,  3800.7,   1.6988,  34.7364,2,  34.7353,2,    157.8,2,   157.5,2,  138.10,2,   34.95,2,    0.01,2,    2.44,2,-999.000,9,-999.000,9,  -999.0,9,  -999.0,9,-999.0000,9,-999.0000,9, -999.00,9, -999.00,9,  -999.0,9,    -9.0,-999.000,9,-999.000,   38023,-999.0000,   1.3956,-999.0000, -999.00
 316N145_11,       I01W,     934,          1,          5,     SIH002,2,19950921,       0128,     8.5000,    65.8833,       4525,  4000.5,   1.6945,  34.7344,2,  34.7347,2,    158.3,2,   159.5,2,  138.30,2,   34.80,2,    0.01,2,    2.43,2,-999.000,9,-999.000,9,  -999.0,9,  -999.0,9,-999.0000,9,-999.0000,9, -999.00,9, -999.00,9,  -999.0,9,    -9.0,-999.000,9,-999.000,   40022,-999.0000,   1.3697,-999.0000, -999.00
 316N145_11,       I01W,     934,          1,          4,     SIH020,2,19950921,       0128,     8.5000,    65.8833,       4525,  4199.0,   1.6840,  34.7338,2,  34.7333,2,    160.0,2,   160.2,2,  138.49,2,   34.66,2,    0.01,2,    2.42,2,-999.000,9,-999.000,9,  -999.0,9,  -999.0,9,-999.0000,9,-999.0000,9, -999.00,9, -999.00,9,  -999.0,9,    -9.0,-999.000,9,-999.000,   42008,-999.0000,   1.3375,-999.0000, -999.00
 316N145_11,       I01W,     934,          1,          3,     SIH021,2,19950921,       0128,     8.5000,    65.8833,       4525,  4397.5,   1.6695,  34.7322,2,  34.7317,2,    162.6,2,   161.2,2,  138.51,2,   34.67,2,    0.00,2,    2.41,2,  -0.003,2,  -0.001,2,  -999.0,9,  -999.0,9,-999.0000,9,-999.0000,9, -999.00,9, -999.00,9,  -999.0,9,    -9.0,-999.000,9,-999.000,   43995,-999.0000,   1.3008,-999.0000, -999.00
 316N145_11,       I01W,     934,          1,          2,     SIH022,2,19950921,       0128,     8.5000,    65.8833,       4525,  4582.5,   1.6632,  34.7313,2,  34.7309,2,    163.1,2,   162.1,2,  138.35,2,   34.67,2,    0.00,2,    2.42,2,   0.003,2,   0.002,2,  -999.0,9,  -999.0,9,-999.0000,9,-999.0000,9, -999.00,9, -999.00,9,  -999.0,9,    -9.0,-999.000,9,-999.000,   45846,-999.0000,   1.2732,-999.0000, -999.00
 316N145_11,       I01W,     934,          1,          1,     SIH023,2,19950921,       0128,     8.5000,    65.8833,       4525,  4633.6,   1.6669,  34.7306,2,  34.7307,2,    162.6,2,   162.9,2,  138.08,2,   34.56,2,    0.01,2,    2.41,2,   0.003,2,   0.001,2,  -999.0,9,  -999.0,9,-999.0000,9,-999.0000,9, -999.00,9, -999.00,9,  -999.0,9,    -9.0,-999.000,9,-999.000,   46358,-999.0000,   1.2708,-999.0000, -999.00