BOTTLE,20211119CCHSIORKP
EXPOCODE,SECT_ID,STNNBR,CASTNO,SAMPNO,BTLNBR,BTLNBR_FLAG_W,DATE,TIME,LATITUDE,LONGITUDE,DEPTH,CTDPRS,CTDTMP,CTDSAL,CTDSAL_FLAG_W,SALNTY,SALNTY_FLAG_W,CTDOXY,CTDOXY_FLAG_W,OXYGEN,OXYGEN_FLAG_W,SILCAT,SILCAT_FLAG_W,NITRAT,NITRAT_FLAG_W,NITRIT,NITRIT_FLAG_W,PHSPHT,PHSPHT_FLAG_W,CFC-11,CFC-11_FLAG_W,CFC-12,CFC-12_FLAG_W,TCARBN,TCARBN_FLAG_W,ALKALI,ALKALI_FLAG_W,TRITUM,TRITUM_FLAG_W,HELIUM,HELIUM_FLAG_W,DELHE3,DELHE3_FLAG_W,DELC13,DELC13_FLAG_W,DELC14,DELC14_FLAG_W,C14ERR,NEON,NEON_FLAG_W,NEONER,CTDRAW,TRITER,THETA,HELIER,DELHER
,,,,,,,,,,,METERS,DBAR,ITS-90,PSS-78,,PSS-78,,UMOL/KG,,UMOL/KG,,UMOL/KG,,UMOL/KG,,UMOL/KG,,UMOL/KG,,PMOL/KG,,PMOL/KG,,UMOL/KG,,UMOL/KG,,TU,,NMOL/KG,,PERCNT,,/MILLE,,/MILLE,,/MILLE,NMOL/KG,,NMOL/KG,DBAR,TU,DEG C,NMOL/KG,PERCNT
 316N145_11,       I01W,     939,          1,         36,     SIH024,2,19950922,       1309,     8.5000,    68.3833,       4575,    12.1,  28.4796,  36.6100,2,  36.6112,2,    207.7,2,   207.9,2,    1.77,2,    0.06,2,   -0.05,2,    0.22,2,   1.608,2,   0.939,2,  2011.5,2,  2390.3,2,-999.0000,9,-999.0000,9, -999.00,9, -999.00,9,  -999.0,9,    -9.0,-999.000,9,-999.000,     112,-999.0000,  28.4767,-999.0000, -999.00
 316N145_11,       I01W,     939,          1,         35,     SIH003,2,19950922,       1309,     8.5000,    68.3833,       4575,    31.9,  28.3148,  36.6255,2,  36.6308,2,    207.9,2,   210.7,2,    1.77,2,    0.01,2,   -0.04,2,    0.23,2,   1.618,2,   0.946,2,  2012.9,2,  2389.9,2,-999.0000,9,-999.0000,9, -999.00,9, -999.00,9,  -999.0,9,    -9.0,-999.000,9,-999.000,     311,-999.0000,  28.3072,-999.0000, -999.00
 316N145_11,       I01W,     939,          1,         34,     SIH026,2,19950922,       1309,     8.5000,    68.3833,       4575,    62.1,  28.1217,  36.7003,2,  36.7000,2,    207.4,2,   209.9,2,    1.76,2,    0.01,2,   -0.03,2,    0.27,2,-999.000,9,-999.000,9,  2022.3,2,  2393.6,2,-999.0000,9,-999.0000,9, -999.00,9, -999.00,9,  -999.0,9,    -9.0,-999.000,9,-999.000,     612,-999.0000,  28.1071,-999.0000, -999.00
 316N145_11,       I01W,     939,          1,         33,     SIH027,2,19950922,       1309,     8.5000,    68.3833,       4575,    92.0,  24.4141,  36.0168,2,  36.0414,2,    145.6,2,    89.1,2,    7.96,2,   15.64,2,    0.06,2,    1.24,2,-999.000,9,-999.000,9,  2118.4,2,  2350.7,2,-999.0000,9,-999.0000,9, -999.00,9, -999.00,9,  -999.0,9,    -9.0,-999.000,9,-999.000,     911,-999.0000,  24.3944,-999.0000, -999.00
 316N145_11,       I01W,     939,          1,         32,     SIH028,2,19950922,       1309,     8.5000,    68.3833,       4575,   121.7,  19.2570,  35.5930,2,  35.5703,2,      2.0,2,     2.8,2,   18.18,2,   26.02,2,    0.01,2,    2.10,2,   0.965,2,   0.539,2,  2207.7,2,  2328.6,2,-999.0000,9,-999.0000,9, -999.00,9, -999.00,9,  -999.0,9,    -9.0,-999.000,9,-999.000,    1209,-999.0000,  19.2351,-999.0000, -999.00
 316N145_11,       I01W,     939,          1,         31,     SIH029,2,19950922,       1309,     8.5000,    68.3833,       4575,   152.1,  16.1654,  35.3317,2,  35.3512,2,      1.3,2,     3.6,2,   24.57,2,   27.30,2,    0.00,2,    2.25,2,-999.000,9,-999.000,9,  2229.9,2,  2323.0,2,-999.0000,9,-999.0000,9, -999.00,9, -999.00,9,  -999.0,9,    -9.0,-999.000,9,-999.000,    1512,-999.0000,  16.1412,-999.0000, -999.00
 316N145_11,       I01W,     939,          1,         30,     SIH030,2,19950922,       1309,     8.5000,    68.3833,       4575,   202.0,  14.1867,  35.3199,2,  35.3159,2,      9.7,2,    16.4,2,   25.30,2,   28.29,2,    0.01,2,    2.20,2,   0.475,2,   0.257,2,  2235.9,2,  2321.3,2,-999.0000,9,-999.0000,9, -999.00,9, -999.00,9,  -999.0,9,    -9.0,-999.000,9,-999.000,    2012,-999.0000,  14.1572,-999.0000, -999.00
 316N145_11,       I01W,     939,          1,         29,     SIH031,2,19950922,       1309,     8.5000,    68.3833,       4575,   246.8,  12.6084,  35.2170,2,  35.2304,2,     25.4,2,    28.0,2,   27.13,2,   29.87,2,    0.00,2,    2.17,2,-999.000,9,-999.000,9,  2236.6,2,  2321.4,2,-999.0000,9,-999.0000,9, -999.00,9, -999.00,9,  -999.0,9,    -9.0,-999.000,9,-999.000,    2460,-999.0000,  12.5750,-999.0000, -999.00
 316N145_11,       I01W,     939,          1,         28,     SIH032,2,19950922,       1309,     8.5000,    68.3833,       4575,   297.4,  11.8896,  35.2071,2,  35.2130,2,     24.9,2,    24.6,2,   30.60,2,   31.59,2,    0.00,2,    2.26,2,   0.250,2,   0.137,2,  2246.3,2,  2320.9,2,-999.0000,9,-999.0000,9, -999.00,9, -999.00,9,  -999.0,9,    -9.0,-999.000,9,-999.000,    2966,-999.0000,  11.8509,-999.0000, -999.00
 316N145_11,       I01W,     939,          1,         27,     SIH033,2,19950922,       1309,     8.5000,    68.3833,       4575,   396.6,  10.8903,  35.1995,2,  35.2008,2,     22.2,2,    22.8,2,   38.82,2,   33.25,2,    0.00,2,    2.45,2,-999.000,9,-999.000,9,  2259.7,2,  2328.1,2,-999.0000,9,-999.0000,9, -999.00,9, -999.00,9,  -999.0,9,    -9.0,-999.000,9,-999.000,    3958,-999.0000,  10.8412,-999.0000, -999.00
 316N145_11,       I01W,     939,          1,         26,     SIH037,2,19950922,       1309,     8.5000,    68.3833,       4575,   497.5,  10.2476,  35.2047,2,  35.2020,2,     20.7,2,    20.8,2,   46.86,2,   34.16,2,    0.00,2,    2.56,2,   0.049,2,   0.027,2,  -999.0,9,  -999.0,9,-999.0000,9,-999.0000,9, -999.00,9, -999.00,9,  -999.0,9,    -9.0,-999.000,9,-999.000,    4967,-999.0000,  10.1880,-999.0000, -999.00
 316N145_11,       I01W,     939,          1,         25,     SI9446,2,19950922,       1309,     8.5000,    68.3833,       4575,   597.9,   9.6693,  35.1688,2,  35.1699,2,     21.7,2,    21.2,2,   53.63,2,   35.22,2,    0.00,2,    2.63,2,   0.030,2,   0.015,2,  2277.8,2,  2342.1,2,-999.0000,9,-999.0000,9, -999.00,9, -999.00,9,  -999.0,9,    -9.0,-999.000,9,-999.000,    5972,-999.0000,   9.5998,-999.0000, -999.00
 316N145_11,       I01W,     939,          1,         24,     SIH036,2,19950922,       1309,     8.5000,    68.3833,       4575,   699.0,   8.9920,  35.1381,2,  35.1386,2,     24.4,2,    25.1,2,   61.50,2,   35.82,2,    0.01,2,    2.69,2,-999.000,9,-999.000,9,  -999.0,9,  -999.0,9,-999.0000,9,-999.0000,9, -999.00,9, -999.00,9,  -999.0,9,    -9.0,-999.000,9,-999.000,    6984,-999.0000,   8.9139,-999.0000, -999.00
 316N145_11,       I01W,     939,          1,         23,     SIH001,2,19950922,       1309,     8.5000,    68.3833,       4575,   799.0,   8.3427,  35.1109,2,  35.1065,2,     28.4,2,    28.0,2,   68.63,2,   36.54,2,    0.00,2,    2.74,2,   0.007,2,   0.003,2,  2293.1,2,  2357.0,2,-999.0000,9,-999.0000,9, -999.00,9, -999.00,9,  -999.0,9,    -9.0,-999.000,9,-999.000,    7984,-999.0000,   8.2566,-999.0000, -999.00
 316N145_11,       I01W,     939,          1,         22,     SIH019,2,19950922,       1309,     8.5000,    68.3833,       4575,   899.9,   7.7946,  35.0636,2,  35.0663,2,     31.6,2,    31.6,2,   75.22,2,   37.10,2,    0.00,2,    2.77,2,   0.003,2,   0.002,2,  -999.0,9,  -999.0,9,-999.0000,9,-999.0000,9, -999.00,9, -999.00,9,  -999.0,9,    -9.0,-999.000,9,-999.000,    8993,-999.0000,   7.7008,-999.0000, -999.00
 316N145_11,       I01W,     939,          1,         21,     SIH025,2,19950922,       1309,     8.5000,    68.3833,       4575,   999.9,   7.2300,  35.0263,2,  35.0262,2,     37.7,2,    36.2,2,   81.63,2,   37.40,2,    0.01,2,    2.78,2,   0.000,2,   0.001,2,  2305.5,2,  2366.8,2,-999.0000,9,-999.0000,9, -999.00,9, -999.00,9,  -999.0,9,    -9.0,-999.000,9,-999.000,    9994,-999.0000,   7.1292,-999.0000, -999.00
 316N145_11,       I01W,     939,          1,         20,     SIH004,2,19950922,       1309,     8.5000,    68.3833,       4575,  1101.2,   6.6820,  34.9896,2,  34.9876,2,     46.2,2,    43.8,2,   87.14,2,   37.47,2,    0.00,2,    2.79,2,-999.000,9,-999.000,9,  -999.0,9,  -999.0,9,-999.0000,9,-999.0000,9, -999.00,9, -999.00,9,  -999.0,9,    -9.0,-999.000,9,-999.000,   11007,-999.0000,   6.5748,-999.0000, -999.00
 316N145_11,       I01W,     939,          1,         19,     SIH005,2,19950922,       1309,     8.5000,    68.3833,       4575,  1196.3,   6.4124,  35.0095,2,  35.0055,2,     48.2,2,    45.5,2,   91.16,2,   37.72,2,    0.00,2,    2.82,2,  -0.002,2,  -0.001,2,  2313.1,2,  2376.1,2,-999.0000,9,-999.0000,9, -999.00,9, -999.00,9,  -999.0,9,    -9.0,-999.000,9,-999.000,   11959,-999.0000,   6.2974,-999.0000, -999.00
 316N145_11,       I01W,     939,          1,         18,     SIH006,2,19950922,       1309,     8.5000,    68.3833,       4575,  1399.0,   5.4067,  34.9490,2,  34.9490,2,     63.2,2,    59.9,2,  101.24,2,   37.56,2,    0.01,2,    2.80,2,-999.000,9,-999.000,9,  -999.0,9,  -999.0,9,-999.0000,9,-999.0000,9, -999.00,9, -999.00,9,  -999.0,9,    -9.0,-999.000,9,-999.000,   13986,-999.0000,   5.2809,-999.0000, -999.00
 316N145_11,       I01W,     939,          1,         17,     SIH038,2,19950922,       1309,     8.5000,    68.3833,       4575,  1599.8,   4.3201,  34.8899,2,  34.8937,2,     75.7,2,    76.6,2,  114.08,2,   37.42,2,    0.01,2,    2.78,2,  -0.003,2,  -0.002,2,  2327.6,2,  2402.3,2,-999.0000,9,-999.0000,9, -999.00,9, -999.00,9,  -999.0,9,    -9.0,-999.000,9,-999.000,   15996,-999.0000,   4.1870,-999.0000, -999.00
 316N145_11,       I01W,     939,          1,         16,     SIH008,2,19950922,       1309,     8.5000,    68.3833,       4575,  1797.5,   3.4429,  34.8304,2,  34.8320,2,    100.5,2,   100.1,2,  121.96,2,   36.77,2,    0.01,2,    2.68,2,-999.000,9,-999.000,9,  -999.0,9,  -999.0,9,-999.0000,9,-999.0000,9, -999.00,9, -999.00,9,  -999.0,9,    -9.0,-999.000,9,-999.000,   17974,-999.0000,   3.3028,-999.0000, -999.00
 316N145_11,       I01W,     939,          1,         15,     SIH009,2,19950922,       1309,     8.5000,    68.3833,       4575,  1999.3,   2.9150,  34.8024,2,  34.8025,2,    114.2,2,   113.2,2,  127.10,2,   36.38,2,    0.00,2,    2.64,2,  -0.001,2,  -0.001,2,  2324.4,2,  2415.9,2,-999.0000,9,-999.0000,9, -999.00,9, -999.00,9,  -999.0,9,    -9.0,-999.000,9,-999.000,   19994,-999.0000,   2.7642,-999.0000, -999.00
 316N145_11,       I01W,     939,          1,         14,     SIH010,2,19950922,       1309,     8.5000,    68.3833,       4575,  2196.6,   2.5316,  34.7798,2,  34.7801,2,    124.6,2,   124.1,2,  131.52,2,   35.98,2,    0.00,2,    2.59,2,-999.000,9,-999.000,9,  -999.0,9,  -999.0,9,-999.0000,9,-999.0000,9, -999.00,9, -999.00,9,  -999.0,9,    -9.0,-999.000,9,-999.000,   21968,-999.0000,   2.3690,-999.0000, -999.00
 316N145_11,       I01W,     939,          1,         13,     SIH011,2,19950922,       1309,     8.5000,    68.3833,       4575,  2399.1,   2.2385,  34.7655,2,  34.7655,2,    134.8,2,   134.7,2,  133.73,2,   35.58,2,    0.00,2,    2.54,2,  -0.004,2,  -0.002,2,  -999.0,9,  -999.0,9,-999.0000,9,-999.0000,9, -999.00,9, -999.00,9,  -999.0,9,    -9.0,-999.000,9,-999.000,   23995,-999.0000,   2.0626,-999.0000, -999.00
 316N145_11,       I01W,     939,          1,         12,     SIH012,2,19950922,       1309,     8.5000,    68.3833,       4575,  2597.8,   2.0488,  34.7570,2,  34.7563,2,    140.3,2,   139.5,2,  135.77,2,   35.48,2,    0.00,2,    2.52,2,-999.000,9,-999.000,9,  2321.7,2,  2421.9,2,-999.0000,9,-999.0000,9, -999.00,9, -999.00,9,  -999.0,9,    -9.0,-999.000,9,-999.000,   25983,-999.0000,   1.8582,-999.0000, -999.00
 316N145_11,       I01W,     939,          1,         11,     SI9426,3,19950922,       1309,     8.5000,    68.3833,       4575,  2795.6,   1.9047,  34.7477,3,  34.7484,2,    146.8,2,   146.6,2,  136.33,2,   35.19,2,    0.00,2,    2.49,2,-999.000,9,-999.000,9,  -999.0,9,  -999.0,9,-999.0000,9,-999.0000,9, -999.00,9, -999.00,9,  -999.0,9,    -9.0,-999.000,9,-999.000,   27962,-999.0000,   1.6984,-999.0000, -999.00
 316N145_11,       I01W,     939,          1,         10,     SIH014,2,19950922,       1309,     8.5000,    68.3833,       4575,  2998.3,   1.8102,  34.7432,2,  34.7427,2,    150.8,2,   151.0,2,  137.45,2,   35.09,2,    0.00,2,    2.48,2,-999.000,9,-999.000,9,  2318.5,2,  2428.3,2,-999.0000,9,-999.0000,9, -999.00,9, -999.00,9,  -999.0,9,    -9.0,-999.000,9,-999.000,   29991,-999.0000,   1.5863,-999.0000, -999.00
 316N145_11,       I01W,     939,          1,          9,     SIH015,2,19950922,       1309,     8.5000,    68.3833,       4575,  3197.1,   1.7556,  34.7386,2,  34.7384,2,    152.4,2,   152.5,2,  137.64,2,   34.99,2,    0.00,2,    2.46,2,  -0.001,2,   0.004,2,  -999.0,9,  -999.0,9,-999.0000,9,-999.0000,9, -999.00,9, -999.00,9,  -999.0,9,    -9.0,-999.000,9,-999.000,   31980,-999.0000,   1.5134,-999.0000, -999.00
 316N145_11,       I01W,     939,          1,          8,     SIH016,2,19950922,       1309,     8.5000,    68.3833,       4575,  3399.7,   1.7168,  34.7360,2,  34.7362,2,    156.6,2,   156.3,2,  138.03,2,   34.78,2,    0.00,2,    2.44,2,-999.000,9,-999.000,9,  -999.0,9,  -999.0,9,-999.0000,9,-999.0000,9, -999.00,9, -999.00,9,  -999.0,9,    -9.0,-999.000,9,-999.000,   34008,-999.0000,   1.4553,-999.0000, -999.00
 316N145_11,       I01W,     939,          1,          7,     SIH017,2,19950922,       1309,     8.5000,    68.3833,       4575,  3598.8,   1.7055,  34.7348,2,  34.7353,2,    157.5,2,   156.8,2,  138.23,2,   34.74,2,   -0.01,2,    2.43,2,-999.000,9,-999.000,9,  2316.1,2,  2430.4,2,-999.0000,9,-999.0000,9, -999.00,9, -999.00,9,  -999.0,9,    -9.0,-999.000,9,-999.000,   36000,-999.0000,   1.4237,-999.0000, -999.00
 316N145_11,       I01W,     939,          1,          6,     SIH018,2,19950922,       1309,     8.5000,    68.3833,       4575,  3796.7,   1.6956,  34.7342,2,  34.7335,2,    157.6,2,   158.4,2,  138.61,2,   34.75,2,   -0.01,2,    2.44,2,-999.000,9,-999.000,9,  -999.0,9,  -999.0,9,-999.0000,9,-999.0000,9, -999.00,9, -999.00,9,  -999.0,9,    -9.0,-999.000,9,-999.000,   37981,-999.0000,   1.3930,-999.0000, -999.00
 316N145_11,       I01W,     939,          1,          5,     SIH002,3,19950922,       1309,     8.5000,    68.3833,       4575,  4001.5,   1.6911,  34.7328,3,  34.7357,3,    158.8,2,   157.3,3,  138.45,2,   34.75,2,   -0.01,2,    2.44,2,  -0.003,2,  -0.001,2,  2316.5,2,  2428.6,2,-999.0000,9,-999.0000,9, -999.00,9, -999.00,9,  -999.0,9,    -9.0,-999.000,9,-999.000,   40030,-999.0000,   1.3663,-999.0000, -999.00
 316N145_11,       I01W,     939,          1,          4,     SIH020,2,19950922,       1309,     8.5000,    68.3833,       4575,  4200.1,   1.6866,  34.7324,2,  34.7325,2,    159.7,2,   158.8,2,  138.83,2,   34.70,2,   -0.01,2,    2.44,2,-999.000,9,-999.000,9,  -999.0,9,  -999.0,9,-999.0000,9,-999.0000,9, -999.00,9, -999.00,9,  -999.0,9,    -9.0,-999.000,9,-999.000,   42017,-999.0000,   1.3399,-999.0000, -999.00
 316N145_11,       I01W,     939,          1,          3,     SIH021,2,19950922,       1309,     8.5000,    68.3833,       4575,  4395.1,   1.6805,  34.7315,2,  34.7307,2,    161.5,2,   159.9,2,  139.02,2,   34.60,2,   -0.01,2,    2.42,2,-999.000,9,-999.000,9,  -999.0,9,  -999.0,9,-999.0000,9,-999.0000,9, -999.00,9, -999.00,9,  -999.0,9,    -9.0,-999.000,9,-999.000,   43969,-999.0000,   1.3118,-999.0000, -999.00
 316N145_11,       I01W,     939,          1,          2,     SIH022,2,19950922,       1309,     8.5000,    68.3833,       4575,  4619.8,   1.6767,  34.7298,2,  34.7296,2,    160.8,2,   160.5,2,  139.04,2,   34.65,2,    0.01,2,    2.42,2,  -0.001,2,   0.001,2,  -999.0,9,  -999.0,9,-999.0000,9,-999.0000,9, -999.00,9, -999.00,9,  -999.0,9,    -9.0,-999.000,9,-999.000,   46217,-999.0000,   1.2820,-999.0000, -999.00
 316N145_11,       I01W,     939,          1,          1,     SIH023,3,19950922,       1309,     8.5000,    68.3833,       4575,  4671.7,   1.6829,  34.7297,3,  34.7331,3,    160.9,2,   160.9,2,  139.09,2,   34.65,2,    0.01,2,    2.43,2,   0.001,2,   0.003,2,  2318.5,2,  2436.3,2,-999.0000,9,-999.0000,9, -999.00,9, -999.00,9,  -999.0,9,    -9.0,-999.000,9,-999.000,   46736,-999.0000,   1.2818,-999.0000, -999.00