BOTTLE,20211119CCHSIORKP
EXPOCODE,SECT_ID,STNNBR,CASTNO,SAMPNO,BTLNBR,BTLNBR_FLAG_W,DATE,TIME,LATITUDE,LONGITUDE,DEPTH,CTDPRS,CTDTMP,CTDSAL,CTDSAL_FLAG_W,SALNTY,SALNTY_FLAG_W,CTDOXY,CTDOXY_FLAG_W,OXYGEN,OXYGEN_FLAG_W,SILCAT,SILCAT_FLAG_W,NITRAT,NITRAT_FLAG_W,NITRIT,NITRIT_FLAG_W,PHSPHT,PHSPHT_FLAG_W,CFC-11,CFC-11_FLAG_W,CFC-12,CFC-12_FLAG_W,TCARBN,TCARBN_FLAG_W,ALKALI,ALKALI_FLAG_W,TRITUM,TRITUM_FLAG_W,HELIUM,HELIUM_FLAG_W,DELHE3,DELHE3_FLAG_W,DELC13,DELC13_FLAG_W,DELC14,DELC14_FLAG_W,C14ERR,NEON,NEON_FLAG_W,NEONER,CTDRAW,TRITER,THETA,HELIER,DELHER
,,,,,,,,,,,METERS,DBAR,ITS-90,PSS-78,,PSS-78,,UMOL/KG,,UMOL/KG,,UMOL/KG,,UMOL/KG,,UMOL/KG,,UMOL/KG,,PMOL/KG,,PMOL/KG,,UMOL/KG,,UMOL/KG,,TU,,NMOL/KG,,PERCNT,,/MILLE,,/MILLE,,/MILLE,NMOL/KG,,NMOL/KG,DBAR,TU,DEG C,NMOL/KG,PERCNT
 316N145_11,       I01W,     861,          1,         32,     SIH028,2,19950831,       1202,    19.0833,    58.8000,       3285,     6.0,  23.4150,  35.6701,2,  35.6713,2,    153.5,2,   204.6,2,    5.00,2,   12.01,2,    0.24,2,    1.17,2,   1.937,2,   1.054,2,  2102.4,2,  -999.0,9,-999.0000,9,-999.0000,9, -999.00,9, -999.00,9,  -999.0,9,    -9.0,-999.000,9,-999.000,      35,-999.0000,  23.4137,-999.0000, -999.00
 316N145_11,       I01W,     861,          1,         31,     SIH029,2,19950831,       1202,    19.0833,    58.8000,       3285,    30.0,  20.7544,  35.7069,2,  35.6984,2,     96.4,2,    57.4,2,   14.20,2,   20.84,2,    0.20,2,    1.61,2,   1.446,2,   0.802,2,  2171.0,2,  2330.1,2,-999.0000,9,-999.0000,9, -999.00,9, -999.00,9,  -999.0,9,    -9.0,-999.000,9,-999.000,     275,-999.0000,  20.7487,-999.0000, -999.00
 316N145_11,       I01W,     861,          1,         30,     SIH030,2,19950831,       1202,    19.0833,    58.8000,       3285,    60.3,  19.1311,  35.5832,2,  35.5744,2,     46.2,2,    47.3,2,   16.85,2,   22.49,2,    0.05,2,    1.71,2,-999.000,9,-999.000,9,  2183.7,2,  2323.5,2,-999.0000,9,-999.0000,9, -999.00,9, -999.00,9,  -999.0,9,    -9.0,-999.000,9,-999.000,     578,-999.0000,  19.1202,-999.0000, -999.00
 316N145_11,       I01W,     861,          1,         29,     SIH031,2,19950831,       1202,    19.0833,    58.8000,       3285,    89.4,  17.6556,  35.5721,2,  35.5754,2,     31.0,2,    29.0,2,   20.05,2,   24.14,2,    0.02,2,    1.91,2,   1.124,2,   0.639,2,  2210.2,2,  -999.0,9,-999.0000,9,-999.0000,9, -999.00,9, -999.00,9,  -999.0,9,    -9.0,-999.000,9,-999.000,     870,-999.0000,  17.6404,-999.0000, -999.00
 316N145_11,       I01W,     861,          1,         28,     SIH032,2,19950831,       1202,    19.0833,    58.8000,       3285,   119.7,  17.2805,  35.7444,2,  35.7462,2,     10.4,2,    14.0,2,   22.70,2,   24.37,2,    0.01,2,    2.08,2,-999.000,9,-999.000,9,  2233.8,2,  2342.1,3,-999.0000,9,-999.0000,9, -999.00,9, -999.00,9,  -999.0,9,    -9.0,-999.000,9,-999.000,    1173,-999.0000,  17.2604,-999.0000, -999.00
 316N145_11,       I01W,     861,          1,         27,     SIH033,2,19950831,       1202,    19.0833,    58.8000,       3285,   150.2,  16.2433,  35.6747,2,  35.6715,2,     14.2,2,    16.3,2,   24.21,2,   24.91,2,    0.02,2,    2.07,2,   0.822,2,   0.490,2,  2237.0,2,  2334.0,2,-999.0000,9,-999.0000,9, -999.00,9, -999.00,9,  -999.0,9,    -9.0,-999.000,9,-999.000,    1477,-999.0000,  16.2191,-999.0000, -999.00
 316N145_11,       I01W,     861,          1,         26,     SIH037,2,19950831,       1202,    19.0833,    58.8000,       3285,   200.9,  15.4869,  35.7872,2,  35.7981,2,      4.0,2,     7.7,2,   27.99,2,   24.01,2,    0.00,2,    2.20,2,-999.000,9,-999.000,9,  2256.2,2,  2343.7,2,-999.0000,9,-999.0000,9, -999.00,9, -999.00,9,  -999.0,9,    -9.0,-999.000,9,-999.000,    1985,-999.0000,  15.4555,-999.0000, -999.00
 316N145_11,       I01W,     861,          1,         25,     SI9446,2,19950831,       1202,    19.0833,    58.8000,       3285,   250.5,  14.8897,  35.8226,2,  35.8244,2,      2.3,2,     6.3,2,   29.33,2,   24.51,2,    0.00,2,    2.23,2,   0.536,2,   0.310,2,  2261.1,2,  2351.1,2,-999.0000,9,-999.0000,9, -999.00,9, -999.00,9,  -999.0,9,    -9.0,-999.000,9,-999.000,    2481,-999.0000,  14.8516,-999.0000, -999.00
 316N145_11,       I01W,     861,          1,         24,     SIH036,2,19950831,       1202,    19.0833,    58.8000,       3285,   301.1,  14.1950,  35.7857,2,  35.7898,2,      3.1,2,     4.3,2,   31.60,2,   25.27,2,    0.01,2,    2.27,2,-999.000,9,-999.000,9,  2265.2,2,  2344.4,2,-999.0000,9,-999.0000,9, -999.00,9, -999.00,9,  -999.0,9,    -9.0,-999.000,9,-999.000,    2987,-999.0000,  14.1506,-999.0000, -999.00
 316N145_11,       I01W,     861,          1,         23,     SIH001,2,19950831,       1202,    19.0833,    58.8000,       3285,   400.9,  13.3941,  35.7838,2,  35.7843,2,      2.0,2,     3.8,2,   36.32,2,   26.23,2,    0.00,2,    2.36,2,-999.000,9,-999.000,9,  -999.0,9,  -999.0,9,-999.0000,9,-999.0000,9, -999.00,9, -999.00,9,  -999.0,9,    -9.0,-999.000,9,-999.000,    3985,-999.0000,  13.3370,-999.0000, -999.00
 316N145_11,       I01W,     861,          1,         22,     SIH019,2,19950831,       1202,    19.0833,    58.8000,       3285,   495.8,  12.5956,  35.6986,2,  35.7041,2,      4.1,2,     6.3,2,   41.05,2,   27.95,2,    0.00,2,    2.42,2,   0.213,4,   0.117,4,  2272.2,2,  2350.4,2,-999.0000,9,-999.0000,9, -999.00,9, -999.00,9,  -999.0,9,    -9.0,-999.000,9,-999.000,    4935,-999.0000,  12.5276,-999.0000, -999.00
 316N145_11,       I01W,     861,          1,         21,     SIH025,2,19950831,       1202,    19.0833,    58.8000,       3285,   601.7,  11.8615,  35.6725,2,  35.6719,2,      5.1,2,     6.5,2,   48.42,2,   28.95,2,    0.00,2,    2.50,2,-999.000,9,-999.000,9,  -999.0,9,  -999.0,9,-999.0000,9,-999.0000,9, -999.00,9, -999.00,9,  -999.0,9,    -9.0,-999.000,9,-999.000,    5994,-999.0000,  11.7817,-999.0000, -999.00
 316N145_11,       I01W,     861,          1,         20,     SIH004,2,19950831,       1202,    19.0833,    58.8000,       3285,   698.3,  11.2479,  35.6440,2,  35.6453,2,      6.9,2,     8.4,2,   55.04,2,   31.08,2,    0.00,2,    2.56,2,   0.097,2,   0.050,2,  2285.4,2,  2356.4,2,-999.0000,9,-999.0000,9, -999.00,9, -999.00,9,  -999.0,9,    -9.0,-999.000,9,-999.000,    6960,-999.0000,  11.1579,-999.0000, -999.00
 316N145_11,       I01W,     861,          1,         19,     SIH005,2,19950831,       1202,    19.0833,    58.8000,       3285,   799.3,  10.5506,  35.5980,2,  35.5991,2,      8.1,2,     7.9,2,   62.04,2,   32.56,2,   -0.01,2,    2.60,2,-999.000,9,-999.000,9,  -999.0,9,  -999.0,9,-999.0000,9,-999.0000,9, -999.00,9, -999.00,9,  -999.0,9,    -9.0,-999.000,9,-999.000,    7971,-999.0000,  10.4512,-999.0000, -999.00
 316N145_11,       I01W,     861,          1,         18,     SIH006,2,19950831,       1202,    19.0833,    58.8000,       3285,   899.3,   9.8538,  35.5391,2,  35.5385,2,      9.8,2,     9.0,2,   68.30,2,   33.89,2,    0.00,2,    2.65,2,-999.000,9,-999.000,9,  2301.4,2,  2370.1,2,-999.0000,9,-999.0000,9, -999.00,9, -999.00,9,  -999.0,9,    -9.0,-999.000,9,-999.000,    8971,-999.0000,   9.7461,-999.0000, -999.00
 316N145_11,       I01W,     861,          1,         17,     SIH038,2,19950831,       1202,    19.0833,    58.8000,       3285,   999.5,   9.1683,  35.4606,2,  35.4659,2,     11.3,2,    11.1,2,   74.55,2,   34.92,2,    0.00,2,    2.72,2,   0.043,2,   0.016,2,  2309.7,2,  2370.0,2,-999.0000,9,-999.0000,9, -999.00,9, -999.00,9,  -999.0,9,    -9.0,-999.000,9,-999.000,    9973,-999.0000,   9.0529,-999.0000, -999.00
 316N145_11,       I01W,     861,          1,         16,     SIH008,2,19950831,       1202,    19.0833,    58.8000,       3285,  1098.9,   8.4094,  35.3741,2,  35.3754,2,     14.3,2,    13.1,2,   81.76,2,   36.05,2,    0.01,2,    2.79,2,-999.000,9,-999.000,9,  -999.0,9,  -999.0,9,-999.0000,9,-999.0000,9, -999.00,9, -999.00,9,  -999.0,9,    -9.0,-999.000,9,-999.000,   10968,-999.0000,   8.2879,-999.0000, -999.00
 316N145_11,       I01W,     861,          1,         15,     SIH009,2,19950831,       1202,    19.0833,    58.8000,       3285,  1199.6,   7.8068,  35.3088,2,  35.3096,2,     17.9,2,    17.0,2,   87.09,2,   36.69,2,    0.00,2,    2.81,2,   0.023,2,   0.006,2,  -999.0,9,  -999.0,9,-999.0000,9,-999.0000,9, -999.00,9, -999.00,9,  -999.0,9,    -9.0,-999.000,9,-999.000,   11976,-999.0000,   7.6789,-999.0000, -999.00
 316N145_11,       I01W,     861,          1,         14,     SIH010,2,19950831,       1202,    19.0833,    58.8000,       3285,  1301.1,   7.0135,  35.2173,2,  35.2176,2,     23.5,2,    23.0,2,   94.12,2,   37.28,2,    0.00,2,    2.83,2,-999.000,9,-999.000,9,  2329.2,2,  2387.8,2,-999.0000,9,-999.0000,9, -999.00,9, -999.00,9,  -999.0,9,    -9.0,-999.000,9,-999.000,   12991,-999.0000,   6.8814,-999.0000, -999.00
 316N145_11,       I01W,     861,          1,         13,     SIH011,2,19950831,       1202,    19.0833,    58.8000,       3285,  1402.6,   6.3362,  35.1409,2,  35.1433,2,     29.8,2,    31.1,2,  100.77,2,   37.51,2,    0.00,2,    2.83,2,-999.000,9,-999.000,9,  -999.0,9,  -999.0,9,-999.0000,9,-999.0000,9, -999.00,9, -999.00,9,  -999.0,9,    -9.0,-999.000,9,-999.000,   14007,-999.0000,   6.2000,-999.0000, -999.00
 316N145_11,       I01W,     861,          1,         12,     SIH012,2,19950831,       1202,    19.0833,    58.8000,       3285,  1497.7,   5.7140,  35.0770,2,  35.0764,2,     36.9,2,    38.7,2,  107.43,2,   37.73,2,    0.01,2,    2.84,2,   0.005,2,   0.004,2,  -999.0,9,  -999.0,9,-999.0000,9,-999.0000,9, -999.00,9, -999.00,9,  -999.0,9,    -9.0,-999.000,9,-999.000,   14958,-999.0000,   5.5747,-999.0000, -999.00
 316N145_11,       I01W,     861,          1,         11,     SI9426,2,19950831,       1202,    19.0833,    58.8000,       3285,  1601.3,   5.1280,  35.0208,2,  35.0193,2,     43.2,2,    48.1,2,  113.91,2,   37.73,2,    0.01,2,    2.83,2,-999.000,9,-999.000,9,  2345.2,2,  2401.8,2,-999.0000,9,-999.0000,9, -999.00,9, -999.00,9,  -999.0,9,    -9.0,-999.000,9,-999.000,   15995,-999.0000,   4.9849,-999.0000, -999.00
 316N145_11,       I01W,     861,          1,         10,     SIH014,2,19950831,       1202,    19.0833,    58.8000,       3285,  1797.6,   3.9387,  34.9136,2,  34.9124,2,     62.9,2,    67.0,2,  127.00,2,   37.57,2,    0.00,2,    2.77,2,   0.000,2,   0.000,2,  -999.0,9,  -999.0,9,-999.0000,9,-999.0000,9, -999.00,9, -999.00,9,  -999.0,9,    -9.0,-999.000,9,-999.000,   17959,-999.0000,   3.7917,-999.0000, -999.00
 316N145_11,       I01W,     861,          1,          9,     SIH015,2,19950831,       1202,    19.0833,    58.8000,       3285,  2001.2,   3.2196,  34.8515,2,  34.8524,2,     79.9,2,    82.6,2,  134.82,2,   37.07,2,   -0.01,2,    2.70,2,-999.000,9,-999.000,9,  2355.3,2,  2429.1,2,-999.0000,9,-999.0000,9, -999.00,9, -999.00,9,  -999.0,9,    -9.0,-999.000,9,-999.000,   19996,-999.0000,   3.0640,-999.0000, -999.00
 316N145_11,       I01W,     861,          1,          8,     SIH016,2,19950831,       1202,    19.0833,    58.8000,       3285,  2198.0,   2.7181,  34.8110,2,  34.8121,2,     93.3,2,    93.1,2,  140.56,2,   36.84,2,   -0.01,2,    2.65,2,  -0.002,2,  -0.001,2,  -999.0,9,  -999.0,9,-999.0000,9,-999.0000,9, -999.00,9, -999.00,9,  -999.0,9,    -9.0,-999.000,9,-999.000,   21966,-999.0000,   2.5523,-999.0000, -999.00
 316N145_11,       I01W,     861,          1,          7,     SIH017,3,19950831,       1202,    19.0833,    58.8000,       3285,  2399.7,   2.4138,  34.7904,3,  34.7899,2,    101.4,2,   101.5,2,  144.02,2,   36.52,2,    0.00,2,    2.60,2,-999.000,9,-999.000,9,  2360.6,2,  2439.2,2,-999.0000,9,-999.0000,9, -999.00,9, -999.00,9,  -999.0,9,    -9.0,-999.000,9,-999.000,   23984,-999.0000,   2.2347,-999.0000, -999.00
 316N145_11,       I01W,     861,          1,          6,     SIH018,2,19950831,       1202,    19.0833,    58.8000,       3285,  2597.7,   2.1624,  34.7705,2,  34.7703,2,    106.1,2,   105.7,2,  147.86,2,   36.33,2,    0.01,2,    2.58,2,   0.001,3,   0.015,2,  -999.0,9,  -999.0,9,-999.0000,9,-999.0000,9, -999.00,9, -999.00,9,  -999.0,9,    -9.0,-999.000,9,-999.000,   25966,-999.0000,   1.9694,-999.0000, -999.00
 316N145_11,       I01W,     861,          1,          5,     SIH002,2,19950831,       1202,    19.0833,    58.8000,       3285,  2800.3,   1.9745,  34.7573,2,  34.7563,2,    111.5,2,   111.6,2,  150.39,2,   36.11,2,    0.00,2,    2.55,2,-999.000,9,-999.000,9,  2366.4,2,  2457.1,2,-999.0000,9,-999.0000,9, -999.00,9, -999.00,9,  -999.0,9,    -9.0,-999.000,9,-999.000,   27994,-999.0000,   1.7662,-999.0000, -999.00
 316N145_11,       I01W,     861,          1,          4,     SIH020,2,19950831,       1202,    19.0833,    58.8000,       3285,  2998.3,   1.8805,  34.7489,2,  34.7504,2,    113.1,2,   115.1,2,  151.96,2,   35.84,2,   -0.01,2,    2.54,2,   0.010,2,   0.028,2,  2367.4,2,  2459.1,2,-999.0000,9,-999.0000,9, -999.00,9, -999.00,9,  -999.0,9,    -9.0,-999.000,9,-999.000,   29975,-999.0000,   1.6552,-999.0000, -999.00
 316N145_11,       I01W,     861,          1,          3,     SIH021,2,19950831,       1202,    19.0833,    58.8000,       3285,  3200.3,   1.6982,  34.7385,2,  34.7370,2,    125.8,2,   123.2,2,  152.71,2,   35.54,2,    0.00,2,    2.50,2,   0.020,2,   0.042,2,  -999.0,9,  -999.0,9,-999.0000,9,-999.0000,9, -999.00,9, -999.00,9,  -999.0,9,    -9.0,-999.000,9,-999.000,   31997,-999.0000,   1.4571,-999.0000, -999.00
 316N145_11,       I01W,     861,          1,          2,     SIH022,2,19950831,       1202,    19.0833,    58.8000,       3285,  3284.9,   1.7042,  34.7382,2,  34.7382,2,    122.4,2,   123.3,2,  155.12,2,   35.60,2,    0.01,2,    2.49,2,   0.024,2,   0.041,2,  -999.0,9,  -999.0,9,-999.0000,9,-999.0000,9, -999.00,9, -999.00,9,  -999.0,9,    -9.0,-999.000,9,-999.000,   32843,-999.0000,   1.4546,-999.0000, -999.00
 316N145_11,       I01W,     861,          1,          1,     SIH023,2,19950831,       1202,    19.0833,    58.8000,       3285,  3335.5,   1.7076,  34.7384,2,  34.7410,2,   -999.0,9,   123.9,2,  155.36,2,   35.51,2,    0.00,2,    2.50,2,   0.028,2,   0.049,2,  2366.3,2,  2468.6,2,-999.0000,9,-999.0000,9, -999.00,9, -999.00,9,  -999.0,9,    -9.0,-999.000,9,-999.000,   33349,-999.0000,   1.4528,-999.0000, -999.00