BOTTLE,20211119CCHSIORKP
EXPOCODE,SECT_ID,STNNBR,CASTNO,SAMPNO,BTLNBR,BTLNBR_FLAG_W,DATE,TIME,LATITUDE,LONGITUDE,DEPTH,CTDPRS,CTDTMP,CTDSAL,CTDSAL_FLAG_W,SALNTY,SALNTY_FLAG_W,CTDOXY,CTDOXY_FLAG_W,OXYGEN,OXYGEN_FLAG_W,SILCAT,SILCAT_FLAG_W,NITRAT,NITRAT_FLAG_W,NITRIT,NITRIT_FLAG_W,PHSPHT,PHSPHT_FLAG_W,CFC-11,CFC-11_FLAG_W,CFC-12,CFC-12_FLAG_W,TCARBN,TCARBN_FLAG_W,ALKALI,ALKALI_FLAG_W,TRITUM,TRITUM_FLAG_W,HELIUM,HELIUM_FLAG_W,DELHE3,DELHE3_FLAG_W,DELC13,DELC13_FLAG_W,DELC14,DELC14_FLAG_W,C14ERR,NEON,NEON_FLAG_W,NEONER,CTDRAW,TRITER,THETA,HELIER,DELHER
,,,,,,,,,,,METERS,DBAR,ITS-90,PSS-78,,PSS-78,,UMOL/KG,,UMOL/KG,,UMOL/KG,,UMOL/KG,,UMOL/KG,,UMOL/KG,,PMOL/KG,,PMOL/KG,,UMOL/KG,,UMOL/KG,,TU,,NMOL/KG,,PERCNT,,/MILLE,,/MILLE,,/MILLE,NMOL/KG,,NMOL/KG,DBAR,TU,DEG C,NMOL/KG,PERCNT
 316N145_11,       I01W,     892,          1,         36,     SIH024,2,19950909,       0319,    13.7167,    51.5667,       4000,    10.1,  27.6645,  36.1459,2,  36.1458,2,    178.7,2,   221.9,2,    2.08,2,    1.08,2,    0.09,2,    0.42,2,   1.570,3,   0.910,2,  -999.0,9,  -999.0,9,   0.8051,2,   1.6919,2,   -0.90,2,    1.55,2,    33.9,2,     4.5,   6.581,2,   0.033,      81,   0.0034,  27.6622,   0.0085,    0.14
 316N145_11,       I01W,     892,          1,         35,     SIH003,2,19950909,       0319,    13.7167,    51.5667,       4000,    30.4,  18.2401,  35.5448,2,  35.5373,2,     72.8,2,    50.9,2,   17.74,2,   23.67,2,    0.21,2,    1.84,2,   1.213,2,   0.670,2,  -999.0,9,  -999.0,9,   0.6796,2,   1.7597,2,    2.73,2, -999.00,9,  -999.0,9,    -9.0,   7.090,2,   0.035,     284,   0.0032,  18.2348,   0.0088,    0.14
 316N145_11,       I01W,     892,          1,         34,     SIH026,2,19950909,       0319,    13.7167,    51.5667,       4000,    60.0,  16.4265,  35.4016,2,  35.4022,2,     67.6,2,    64.7,2,   19.47,2,   22.73,2,    0.09,2,    1.75,2,-999.000,9,-999.000,9,  -999.0,9,  -999.0,9,   0.6245,2,   1.7530,2,    3.49,2,    0.14,2,    16.7,2,     3.2,   7.113,2,   0.036,     580,   0.0032,  16.4168,   0.0088,    0.14
 316N145_11,       I01W,     892,          1,         33,     SIH027,2,19950909,       0319,    13.7167,    51.5667,       4000,    90.0,  15.8567,  35.3726,2,  35.3758,2,     64.3,2,    64.1,2,   20.25,2,   23.33,2,    0.02,2,    1.79,2,   1.029,2,   0.562,2,  -999.0,9,  -999.0,9,   0.5968,2,   1.7697,2,    3.85,2, -999.00,9,  -999.0,9,    -9.0,   7.183,2,   0.036,     880,   0.0031,  15.8425,   0.0088,    0.14
 316N145_11,       I01W,     892,          1,         32,     SIH028,2,19950909,       0319,    13.7167,    51.5667,       4000,   120.3,  14.5317,  35.3059,2,  35.3411,2,     64.6,2,    66.4,2,   21.79,2,   23.99,2,    0.05,2,    1.82,2,-999.000,9,-999.000,9,  -999.0,9,  -999.0,9,   0.5524,2,   1.7608,2,    4.17,2,    0.19,2,    17.5,2,     5.8,   7.190,2,   0.036,    1183,   0.0030,  14.5138,   0.0088,    0.14
 316N145_11,       I01W,     892,          1,         31,     SIH029,2,19950909,       0319,    13.7167,    51.5667,       4000,   150.3,  13.3896,  35.2542,2,  35.2542,2,     81.3,2,    78.5,2,   22.57,2,   24.41,2,    0.01,2,    1.81,2,   0.941,2,   0.498,2,  -999.0,9,  -999.0,9,   0.5037,2,   1.7684,2,    4.23,2, -999.00,9,  -999.0,9,    -9.0,   7.262,2,   0.036,    1483,   0.0030,  13.3685,   0.0088,    0.14
 316N145_11,       I01W,     892,          1,         30,     SIH030,2,19950909,       0319,    13.7167,    51.5667,       4000,   200.4,  12.8694,  35.2787,2,  35.2859,2,     55.9,2,    66.9,2,   24.86,2,   25.83,2,    0.02,2,    1.91,2,   0.779,2,   0.410,2,  -999.0,9,  -999.0,9,   0.4320,2,   1.7854,2,    4.44,2,    0.13,2,   -12.4,2,     3.3,   7.337,2,   0.037,    1984,   0.0028,  12.8419,   0.0089,    0.14
 316N145_11,       I01W,     892,          1,         29,     SIH031,2,19950909,       0319,    13.7167,    51.5667,       4000,   249.8,  13.1393,  35.5241,2,  35.5046,2,     33.7,2,    42.3,2,   28.50,2,   27.75,2,    0.01,2,    2.10,2,-999.000,9,-999.000,9,  -999.0,9,  -999.0,9,   0.3832,2,   1.7639,2,    5.47,2, -999.00,9,  -999.0,9,    -9.0,   7.231,2,   0.036,    2479,   0.0028,  13.1046,   0.0088,    0.14
 316N145_11,       I01W,     892,          1,         28,     SIH032,2,19950909,       0319,    13.7167,    51.5667,       4000,   299.9,  13.8220,  35.7589,2,  35.7598,2,     25.5,2,    24.3,2,   29.47,2,   28.18,2,    0.01,2,    2.17,2,-999.000,9,-999.000,9,  -999.0,9,  -999.0,9,-999.0000,9,   1.7709,2,    6.14,2,    0.04,2,   -25.3,2,     3.5,   7.159,2,   0.036,    2980,-999.0000,  13.7786,   0.0089,    0.14
 316N145_11,       I01W,     892,          1,         27,     SIH033,2,19950909,       0319,    13.7167,    51.5667,       4000,   399.6,  14.1513,  36.0245,2,  36.0238,2,     21.6,2,    20.7,2,   31.77,2,   28.28,2,    0.01,2,    2.20,2,   0.473,2,   0.260,2,  -999.0,9,  -999.0,9,   0.3482,2,   1.7942,2,    6.93,2,    0.03,2,   -39.4,2,     3.2,   7.281,2,   0.036,    3977,   0.0027,  14.0922,   0.0090,    0.14
 316N145_11,       I01W,     892,          1,         26,     SIH037,2,19950909,       0319,    13.7167,    51.5667,       4000,   505.8,  11.3279,  35.4678,2,  35.4726,2,     29.8,2,    29.1,2,   42.51,2,   31.38,2,    0.01,2,    2.41,2,-999.000,9,-999.000,9,  -999.0,9,  -999.0,9,   0.1752,2,   1.7871,2,    6.52,2,    0.13,2,   -77.1,2,     5.3,   7.378,2,   0.037,    5041,   0.0024,  11.2631,   0.0089,    0.14
 316N145_11,       I01W,     892,          1,         25,     SI9446,2,19950909,       0319,    13.7167,    51.5667,       4000,   551.1,  11.6866,  35.5646,2,  35.5912,2,     23.9,3,    27.7,2,   43.09,2,   31.17,2,    0.00,2,    2.43,2,-999.000,9,-999.000,9,  -999.0,9,  -999.0,9,-999.0000,9,-999.0000,9, -999.00,9,    0.07,2,   -75.5,2,     3.9,-999.000,9,-999.000,    5494,-999.0000,  11.6145,-999.0000, -999.00
 316N145_11,       I01W,     892,          1,         24,     SIH036,2,19950909,       0319,    13.7167,    51.5667,       4000,   596.2,  13.3376,  36.1015,2,  36.1041,2,     19.3,2,    19.6,2,   39.47,2,   29.08,2,    0.01,2,    2.30,2,   0.348,2,   0.187,2,  -999.0,9,  -999.0,9,   0.2784,2,   1.7831,2,    8.45,2,    0.05,2,   -69.2,2,     3.6,   7.316,2,   0.037,    5945,   0.0026,  13.2521,   0.0089,    0.14
 316N145_11,       I01W,     892,          1,         23,     SIH001,2,19950909,       0319,    13.7167,    51.5667,       4000,   697.0,  13.5682,  36.2789,2,  36.2818,2,     18.3,2,    19.1,2,   42.15,2,   29.03,2,    0.00,2,    2.29,2,-999.000,9,-999.000,9,  -999.0,9,  -999.0,9,-999.0000,9,-999.0000,9, -999.00,9,    0.09,2,   -68.4,2,     3.9,-999.000,9,-999.000,    6954,-999.0000,  13.4667,-999.0000, -999.00
 316N145_11,       I01W,     892,          1,         22,     SIH019,2,19950909,       0319,    13.7167,    51.5667,       4000,   796.8,  13.1144,  36.2544,2,  36.2533,2,     18.1,2,    20.0,2,   46.95,2,   29.56,2,    0.00,2,    2.35,2,   0.311,2,   0.167,2,  -999.0,9,  -999.0,9,   0.2558,2,   1.7662,2,   11.28,2,   -0.20,2,   -80.5,2,     2.8,   7.288,2,   0.036,    7953,   0.0026,  13.0004,   0.0088,    0.14
 316N145_11,       I01W,     892,          1,         21,     SIH025,2,19950909,       0319,    13.7167,    51.5667,       4000,   897.9,  10.9919,  35.7920,2,  35.5338,2,     17.6,3,    14.7,2,   59.44,2,   32.87,2,    0.01,2,    2.59,2,-999.000,9,-999.000,9,  -999.0,9,  -999.0,9,-999.0000,9,-999.0000,9, -999.00,9,   -0.17,2,  -109.7,2,     4.5,-999.000,9,-999.000,    8966,-999.0000,  10.8767,-999.0000, -999.00
 316N145_11,       I01W,     892,          1,         20,     SIH004,2,19950909,       0319,    13.7167,    51.5667,       4000,   998.3,   9.2153,  35.4716,2,  35.4730,2,     18.9,2,    16.6,2,   72.48,2,   35.65,2,    0.01,2,    2.79,2,   0.062,2,   0.034,2,  -999.0,9,  -999.0,9,   0.0675,2,   1.8150,2,   11.20,2, -999.00,9,  -999.0,9,    -9.0,   7.569,2,   0.151,    9971,   0.0023,   9.0996,   0.0090,    0.20
 316N145_11,       I01W,     892,          1,         19,     SIH005,2,19950909,       0319,    13.7167,    51.5667,       4000,  1098.7,   8.6234,  35.4160,2,  35.4158,2,     21.8,2,    19.2,2,   77.29,2,   36.14,2,    0.00,2,    2.81,2,-999.000,9,-999.000,9,  -999.0,9,  -999.0,9,-999.0000,9,   1.8380,2,   12.50,2,   -0.17,2,  -144.1,2,     3.8,   7.667,2,   0.153,   10977,-999.0000,   8.5003,   0.0090,    0.20
 316N145_11,       I01W,     892,          1,         18,     SIH006,2,19950909,       0319,    13.7167,    51.5667,       4000,  1194.8,   7.6076,  35.2869,2,  35.2796,2,     29.1,2,    25.4,2,   85.95,2,   36.99,2,    0.00,2,    2.85,2,   0.036,2,   0.017,2,  -999.0,9,  -999.0,9,   0.0380,2,   1.8690,2,   14.00,2, -999.00,9,  -999.0,9,    -9.0,   7.832,2,   0.157,   11939,   0.0024,   7.4819,   0.0090,    0.20
 316N145_11,       I01W,     892,          1,         17,     SIH038,2,19950909,       0319,    13.7167,    51.5667,       4000,  1296.2,   6.7825,  35.1893,2,  35.1880,2,     38.3,2,    34.9,2,   93.65,2,   37.42,2,    0.00,2,    2.88,2,-999.000,9,-999.000,9,  -999.0,9,  -999.0,9,-999.0000,9,   1.9000,2,   15.10,2,   -0.10,2,  -161.2,2,     3.3,   7.743,2,   0.155,   12955,-999.0000,   6.6532,   0.0090,    0.20
 316N145_11,       I01W,     892,          1,         16,     SIH008,2,19950909,       0319,    13.7167,    51.5667,       4000,  1396.7,   6.0455,  35.1092,2,  35.1108,2,     46.1,2,    43.8,2,  101.16,2,   37.74,2,    0.01,2,    2.88,2,   0.013,2,   0.007,2,  2329.2,2,  2386.5,2,-999.0000,9,   1.8820,2,   14.50,2, -999.00,9,  -999.0,9,    -9.0,   7.867,2,   0.157,   13961,-999.0000,   5.9131,   0.0090,    0.20
 316N145_11,       I01W,     892,          1,         15,     SIH009,2,19950909,       0319,    13.7167,    51.5667,       4000,  1594.7,   4.5807,  34.9681,2,  34.9677,2,     67.2,2,    65.6,2,  118.26,2,   37.75,2,    0.00,2,    2.85,2,   0.003,2,   0.002,2,  -999.0,9,  -999.0,9,-999.0000,9,   1.9360,2,   16.10,2,   -0.15,2,  -184.4,2,     2.6,   7.992,2,   0.160,   15945,-999.0000,   4.4449,   0.0100,    0.20
 316N145_11,       I01W,     892,          1,         14,     SIH010,2,19950909,       0319,    13.7167,    51.5667,       4000,  1796.2,   3.8719,  34.9134,2,  34.9056,2,     78.0,2,    76.1,2,  128.85,2,   37.38,2,    0.00,2,    2.82,2,-999.000,9,-999.000,9,  2347.8,2,  2414.8,2,-999.0000,9,   1.9710,2,   17.00,2, -999.00,9,  -999.0,9,    -9.0,   8.077,2,   0.162,   17964,-999.0000,   3.7259,   0.0100,    0.20
 316N145_11,       I01W,     892,          1,         13,     SIH011,2,19950909,       0319,    13.7167,    51.5667,       4000,  1994.1,   2.9998,  34.8358,2,  34.8298,2,     95.5,2,    95.1,2,  139.06,2,   36.83,2,    0.01,2,    2.75,2,   0.004,2,   0.011,2,  -999.0,9,  -999.0,9,-999.0000,9,   1.9580,2,   17.90,2,   -0.13,2,  -193.7,2,     2.6,   8.233,2,   0.165,   19947,-999.0000,   2.8481,   0.0100,    0.20
 316N145_11,       I01W,     892,          1,         12,     SIH012,2,19950909,       0319,    13.7167,    51.5667,       4000,  2191.9,   2.7317,  34.8106,2,  34.8115,2,    105.3,2,   104.0,2,  140.06,2,   36.79,2,    0.01,2,    2.72,2,   0.003,2,   0.002,2,  2348.4,2,  2426.1,2,-999.0000,9,   1.9270,2,   17.70,2, -999.00,9,  -999.0,9,    -9.0,   8.412,2,   0.168,   21929,-999.0000,   2.5663,   0.0100,    0.20
 316N145_11,       I01W,     892,          1,         11,     SI9426,2,19950909,       0319,    13.7167,    51.5667,       4000,  2399.5,   2.5717,  34.7990,2,  34.7999,2,    109.1,2,   107.8,2,  142.03,2,   36.64,2,    0.00,2,    2.69,2,-999.000,9,-999.000,9,  -999.0,9,  -999.0,9,-999.0000,9,   1.9400,2,   17.30,2, -999.00,9,  -999.0,9,    -9.0,   8.238,2,   0.165,   24010,-999.0000,   2.3897,   0.0100,    0.20
 316N145_11,       I01W,     892,          1,         10,     SIH014,2,19950909,       0319,    13.7167,    51.5667,       4000,  2596.8,   2.4757,  34.7915,2,  34.7789,2,    111.6,3,   110.5,2,  143.79,2,   36.43,2,    0.00,2,    2.68,2,   0.000,2,   0.002,2,  2349.2,2,  2429.8,2,-999.0000,9,   1.9090,2,   17.10,2, -999.00,9,  -999.0,9,    -9.0,   8.197,2,   0.164,   25987,-999.0000,   2.2769,   0.0100,    0.20
 316N145_11,       I01W,     892,          1,          9,     SIH015,2,19950909,       0319,    13.7167,    51.5667,       4000,  2795.0,   2.4110,  34.7851,2,  34.7862,2,    113.1,2,   112.8,2,  143.83,2,   36.37,2,    0.01,2,    2.67,2,-999.000,9,-999.000,9,  -999.0,9,  -999.0,9,-999.0000,9,   1.9220,2,   16.20,2, -999.00,9,  -999.0,9,    -9.0,   8.206,2,   0.164,   27973,-999.0000,   2.1942,   0.0100,    0.20
 316N145_11,       I01W,     892,          1,          8,     SIH016,2,19950909,       0319,    13.7167,    51.5667,       4000,  2993.5,   2.3720,  34.7814,2,  34.7815,2,    114.8,2,   112.8,2,  145.40,2,   36.44,2,    0.00,2,    2.67,2,   0.001,2,   0.001,2,  2350.6,2,  2433.7,2,-999.0000,9,   1.8870,2,   16.00,2, -999.00,9,  -999.0,9,    -9.0,   8.251,2,   0.165,   29962,-999.0000,   2.1363,   0.0090,    0.20
 316N145_11,       I01W,     892,          1,          7,     SIH017,2,19950909,       0319,    13.7167,    51.5667,       4000,  3197.2,   2.3571,  34.7803,2,  34.7799,2,    114.8,2,   114.2,2,  145.83,2,   36.21,2,    0.01,2,    2.65,2,-999.000,9,-999.000,9,  -999.0,9,  -999.0,9,-999.0000,9,   1.9270,2,   15.50,2, -999.00,9,  -999.0,9,    -9.0,   8.434,2,   0.169,   32003,-999.0000,   2.1010,   0.0100,    0.20
 316N145_11,       I01W,     892,          1,          6,     SIH018,2,19950909,       0319,    13.7167,    51.5667,       4000,  3394.8,   2.3433,  34.7757,2,  34.7740,2,    114.8,2,   114.8,2,  146.83,2,   36.32,2,    0.01,2,    2.66,2,   0.000,2,   0.004,2,  2351.8,2,  2438.3,2,-999.0000,9,   1.9090,2,   16.10,2, -999.00,9,  -999.0,9,    -9.0,   8.563,2,   0.171,   33983,-999.0000,   2.0668,   0.0100,    0.20
 316N145_11,       I01W,     892,          1,          5,     SIH002,2,19950909,       0319,    13.7167,    51.5667,       4000,  3593.1,   2.3447,  34.7753,2,  34.7740,2,    114.9,2,   114.0,2,  147.44,2,   36.43,2,    0.01,2,    2.67,2,-999.000,9,-999.000,9,  -999.0,9,  -999.0,9,-999.0000,9,   1.8960,2,   15.60,2, -999.00,9,  -999.0,9,    -9.0,   8.269,2,   0.165,   35970,-999.0000,   2.0469,   0.0090,    0.20
 316N145_11,       I01W,     892,          1,          4,     SIH020,2,19950909,       0319,    13.7167,    51.5667,       4000,  3796.8,   2.3595,  34.7745,2,  34.7742,2,    114.1,2,   114.2,2,  147.86,2,   36.38,2,    0.01,2,    2.67,2,   0.000,2,   0.000,2,  2353.0,2,  2437.5,2,-999.0000,9,   1.9130,2,   16.20,2, -999.00,9,  -999.0,9,    -9.0,   8.345,2,   0.167,   38011,-999.0000,   2.0389,   0.0100,    0.20
 316N145_11,       I01W,     892,          1,          3,     SIH021,2,19950909,       0319,    13.7167,    51.5667,       4000,  3990.4,   2.3802,  34.7737,2,  34.7714,2,    114.2,2,   114.2,2,  147.72,2,   36.39,2,    0.00,2,    2.65,2,-999.000,9,-999.000,9,  -999.0,9,  -999.0,9,-999.0000,9,   1.8910,2,   16.60,2, -999.00,9,  -999.0,9,    -9.0,   8.197,2,   0.164,   39950,-999.0000,   2.0372,   0.0090,    0.20
 316N145_11,       I01W,     892,          1,          2,     SIH022,2,19950909,       0319,    13.7167,    51.5667,       4000,  4194.8,   2.4000,  34.7737,2,  34.7734,2,    113.7,2,   113.8,2,  147.36,2,   36.44,2,    0.01,2,    2.67,2,   0.001,2,   0.002,2,  2353.1,2,  2437.3,2,-999.0000,9,   1.9180,2,   17.20,2, -999.00,9,  -999.0,9,    -9.0,   8.260,2,   0.165,   41996,-999.0000,   2.0329,   0.0100,    0.20
 316N145_11,       I01W,     892,          1,          1,     SIH023,2,19950909,       0319,    13.7167,    51.5667,       4000,  4297.8,   2.4120,  34.7730,2,  34.7718,2,    112.8,2,   114.8,2,  147.18,2,   36.45,2,    0.00,2,    2.65,2,   0.001,2,   0.000,2,  -999.0,9,  -999.0,9,-999.0000,9,   1.9040,2,   17.10,2, -999.00,9,  -999.0,9,    -9.0,   8.349,2,   0.167,   43029,-999.0000,   2.0324,   0.0100,    0.20