BOTTLE,20211119CCHSIORKP
EXPOCODE,SECT_ID,STNNBR,CASTNO,SAMPNO,BTLNBR,BTLNBR_FLAG_W,DATE,TIME,LATITUDE,LONGITUDE,DEPTH,CTDPRS,CTDTMP,CTDSAL,CTDSAL_FLAG_W,SALNTY,SALNTY_FLAG_W,CTDOXY,CTDOXY_FLAG_W,OXYGEN,OXYGEN_FLAG_W,SILCAT,SILCAT_FLAG_W,NITRAT,NITRAT_FLAG_W,NITRIT,NITRIT_FLAG_W,PHSPHT,PHSPHT_FLAG_W,CFC-11,CFC-11_FLAG_W,CFC-12,CFC-12_FLAG_W,TCARBN,TCARBN_FLAG_W,ALKALI,ALKALI_FLAG_W,TRITUM,TRITUM_FLAG_W,HELIUM,HELIUM_FLAG_W,DELHE3,DELHE3_FLAG_W,DELC13,DELC13_FLAG_W,DELC14,DELC14_FLAG_W,C14ERR,NEON,NEON_FLAG_W,NEONER,CTDRAW,TRITER,THETA,HELIER,DELHER
,,,,,,,,,,,METERS,DBAR,ITS-90,PSS-78,,PSS-78,,UMOL/KG,,UMOL/KG,,UMOL/KG,,UMOL/KG,,UMOL/KG,,UMOL/KG,,PMOL/KG,,PMOL/KG,,UMOL/KG,,UMOL/KG,,TU,,NMOL/KG,,PERCNT,,/MILLE,,/MILLE,,/MILLE,NMOL/KG,,NMOL/KG,DBAR,TU,DEG C,NMOL/KG,PERCNT
 316N145_11,       I01W,     876,          1,         20,     SIH004,2,19950906,       0507,    12.1638,    45.0695,        815,     8.0,  27.7712,  36.2006,2,  36.1286,2,    188.3,2,   209.2,2,    2.10,2,    1.30,2,    0.12,2,    0.42,2,   1.619,2,   0.940,2,  2009.4,2,  2370.7,2,-999.0000,9,-999.0000,9, -999.00,9, -999.00,9,  -999.0,9,    -9.0,-999.000,9,-999.000,      55,-999.0000,  27.7694,-999.0000, -999.00
 316N145_11,       I01W,     876,          1,         19,     SIH005,2,19950906,       0507,    12.1638,    45.0695,        815,    27.8,  20.0638,  35.7633,2,  35.7545,2,     52.0,2,    48.1,2,   12.82,2,   19.29,2,    0.67,2,    1.85,2,-999.000,9,-999.000,9,  2204.1,2,  -999.0,9,-999.0000,9,-999.0000,9, -999.00,9, -999.00,9,  -999.0,9,    -9.0,-999.000,9,-999.000,     253,-999.0000,  20.0587,-999.0000, -999.00
 316N145_11,       I01W,     876,          1,         18,     SIH006,2,19950906,       0507,    12.1638,    45.0695,        815,    58.0,  17.9204,  35.7223,2,  35.7152,2,     14.5,2,    14.8,2,   19.65,2,   25.14,2,    0.26,2,    2.05,2,-999.000,9,-999.000,9,  2222.4,2,  2328.3,2,-999.0000,9,-999.0000,9, -999.00,9, -999.00,9,  -999.0,9,    -9.0,-999.000,9,-999.000,     555,-999.0000,  17.9104,-999.0000, -999.00
 316N145_11,       I01W,     876,          1,         17,     SIH038,2,19950906,       0507,    12.1638,    45.0695,        815,    87.5,  16.6044,  35.6891,2,  35.6887,2,     10.5,2,    11.5,2,   22.58,2,   25.79,2,    0.04,2,    2.15,2,   0.902,2,   0.493,2,  2232.1,2,  2340.3,3,-999.0000,9,-999.0000,9, -999.00,9, -999.00,9,  -999.0,9,    -9.0,-999.000,9,-999.000,     850,-999.0000,  16.5901,-999.0000, -999.00
 316N145_11,       I01W,     876,          1,         16,     SIH008,2,19950906,       0507,    12.1638,    45.0695,        815,   122.4,  16.0412,  35.6965,2,  35.6917,2,     13.9,2,    15.6,2,   23.17,2,   26.07,2,    0.04,2,    2.12,2,-999.000,9,-999.000,9,  2233.8,2,  2329.6,2,-999.0000,9,-999.0000,9, -999.00,9, -999.00,9,  -999.0,9,    -9.0,-999.000,9,-999.000,    1199,-999.0000,  16.0219,-999.0000, -999.00
 316N145_11,       I01W,     876,          1,         15,     SIH009,2,19950906,       0507,    12.1638,    45.0695,        815,   152.1,  15.3631,  35.6687,2,  35.6769,2,     17.5,2,    19.0,2,   24.15,2,   26.41,2,    0.03,2,    2.11,2,   0.783,2,   0.430,2,  2233.1,2,  2331.1,2,-999.0000,9,-999.0000,9, -999.00,9, -999.00,9,  -999.0,9,    -9.0,-999.000,9,-999.000,    1496,-999.0000,  15.3396,-999.0000, -999.00
 316N145_11,       I01W,     876,          1,         14,     SIH010,2,19950906,       0507,    12.1638,    45.0695,        815,   182.0,  14.8110,  35.7174,2,  35.7201,2,     21.6,2,    21.0,2,   25.32,2,   26.96,2,    0.02,2,    2.11,2,   0.698,2,   0.386,2,  2236.5,2,  2330.1,2,-999.0000,9,-999.0000,9, -999.00,9, -999.00,9,  -999.0,9,    -9.0,-999.000,9,-999.000,    1795,-999.0000,  14.7836,-999.0000, -999.00
 316N145_11,       I01W,     876,          1,         13,     SIH011,2,19950906,       0507,    12.1638,    45.0695,        815,   201.8,  14.8480,  35.8424,2,  35.8420,2,     20.7,2,    20.8,2,   26.31,2,   26.92,2,    0.00,2,    2.10,2,-999.000,9,-999.000,9,  2237.5,2,  2334.7,2,-999.0000,9,-999.0000,9, -999.00,9, -999.00,9,  -999.0,9,    -9.0,-999.000,9,-999.000,    1993,-999.0000,  14.8175,-999.0000, -999.00
 316N145_11,       I01W,     876,          1,         12,     SIH012,2,19950906,       0507,    12.1638,    45.0695,        815,   221.8,  14.7015,  35.8396,2,  35.8301,2,     20.5,2,    19.7,2,   26.90,2,   27.08,2,    0.01,2,    2.12,2,   0.628,2,   0.344,2,  2239.2,2,  2336.8,2,-999.0000,9,-999.0000,9, -999.00,9, -999.00,9,  -999.0,9,    -9.0,-999.000,9,-999.000,    2193,-999.0000,  14.6681,-999.0000, -999.00
 316N145_11,       I01W,     876,          1,         11,     SI9426,2,19950906,       0507,    12.1638,    45.0695,        815,   247.0,  14.2112,  35.7683,2,  35.7738,2,     18.3,2,    17.1,2,   27.88,2,   27.89,2,    0.01,2,    2.16,2,-999.000,9,-999.000,9,  2243.3,2,  2340.1,2,-999.0000,9,-999.0000,9, -999.00,9, -999.00,9,  -999.0,9,    -9.0,-999.000,9,-999.000,    2445,-999.0000,  14.1748,-999.0000, -999.00
 316N145_11,       I01W,     876,          1,         10,     SIH014,2,19950906,       0507,    12.1638,    45.0695,        815,   272.4,  14.0130,  35.8033,2,  35.8013,2,     16.9,2,    16.1,2,   29.44,2,   28.38,2,    0.01,2,    2.20,2,-999.000,9,-999.000,9,  2245.6,2,  2338.4,2,-999.0000,9,-999.0000,9, -999.00,9, -999.00,9,  -999.0,9,    -9.0,-999.000,9,-999.000,    2700,-999.0000,  13.9732,-999.0000, -999.00
 316N145_11,       I01W,     876,          1,          9,     SIH015,2,19950906,       0507,    12.1638,    45.0695,        815,   298.1,  13.7113,  35.8211,2,  35.8194,2,     16.0,2,    15.5,2,   31.21,2,   28.76,2,    0.00,2,    2.23,2,-999.000,9,-999.000,9,  2248.9,2,  2339.2,2,-999.0000,9,-999.0000,9, -999.00,9, -999.00,9,  -999.0,9,    -9.0,-999.000,9,-999.000,    2957,-999.0000,  13.6684,-999.0000, -999.00
 316N145_11,       I01W,     876,          1,          8,     SIH016,2,19950906,       0507,    12.1638,    45.0695,        815,   348.3,  13.6962,  35.9477,2,  35.9481,2,     15.7,2,    14.4,2,   33.36,2,   28.77,2,    0.00,2,    2.25,2,-999.000,9,-999.000,9,  -999.0,9,  -999.0,9,-999.0000,9,-999.0000,9, -999.00,9, -999.00,9,  -999.0,9,    -9.0,-999.000,9,-999.000,    3459,-999.0000,  13.6460,-999.0000, -999.00
 316N145_11,       I01W,     876,          1,          7,     SIH017,2,19950906,       0507,    12.1638,    45.0695,        815,   398.6,  14.3412,  36.2340,2,  36.2449,2,     21.5,2,    20.0,2,   32.77,2,   27.60,2,    0.00,2,    2.17,2,-999.000,9,-999.000,9,  -999.0,9,  -999.0,9,-999.0000,9,-999.0000,9, -999.00,9, -999.00,9,  -999.0,9,    -9.0,-999.000,9,-999.000,    3962,-999.0000,  14.2816,-999.0000, -999.00
 316N145_11,       I01W,     876,          1,          6,     SIH018,2,19950906,       0507,    12.1638,    45.0695,        815,   448.5,  14.1024,  36.2374,2,  36.2354,2,     19.6,2,    19.6,2,   35.32,2,   27.77,2,    0.00,2,    2.19,2,-999.000,9,-999.000,9,  -999.0,9,  -999.0,9,-999.0000,9,-999.0000,9, -999.00,9, -999.00,9,  -999.0,9,    -9.0,-999.000,9,-999.000,    4462,-999.0000,  14.0360,-999.0000, -999.00
 316N145_11,       I01W,     876,          1,          5,     SIH002,2,19950906,       0507,    12.1638,    45.0695,        815,   502.9,  13.9558,  36.3372,2,  36.3495,2,     19.7,2,    19.0,2,   38.25,2,   28.19,2,    0.00,2,    2.22,2,-999.000,9,-999.000,9,  -999.0,9,  -999.0,9,-999.0000,9,-999.0000,9, -999.00,9, -999.00,9,  -999.0,9,    -9.0,-999.000,9,-999.000,    5006,-999.0000,  13.8817,-999.0000, -999.00
 316N145_11,       I01W,     876,          1,          4,     SIH020,2,19950906,       0507,    12.1638,    45.0695,        815,   600.8,  13.5946,  36.3046,2,  36.3071,2,     18.5,2,    17.6,2,   41.76,2,   28.68,2,    0.00,2,    2.26,2,-999.000,9,-999.000,9,  -999.0,9,  -999.0,9,-999.0000,9,-999.0000,9, -999.00,9, -999.00,9,  -999.0,9,    -9.0,-999.000,9,-999.000,    5986,-999.0000,  13.5073,-999.0000, -999.00
 316N145_11,       I01W,     876,          1,          3,     SIH021,2,19950906,       0507,    12.1638,    45.0695,        815,   695.4,  12.7522,  36.2209,2,  36.2149,2,     17.5,2,    17.1,2,   49.19,2,   30.18,2,    0.01,2,    2.37,2,   0.285,2,   0.163,2,  -999.0,9,  -999.0,9,-999.0000,9,-999.0000,9, -999.00,9, -999.00,9,  -999.0,9,    -9.0,-999.000,9,-999.000,    6934,-999.0000,  12.6550,-999.0000, -999.00
 316N145_11,       I01W,     876,          1,          2,     SIH022,2,19950906,       0507,    12.1638,    45.0695,        815,   797.0,  12.5511,  36.2497,2,  36.2497,2,     18.6,2,    17.3,2,   51.54,2,   30.29,2,    0.01,2,    2.38,2,-999.000,9,-999.000,9,  -999.0,9,  -999.0,9,-999.0000,9,-999.0000,9, -999.00,9, -999.00,9,  -999.0,9,    -9.0,-999.000,9,-999.000,    7951,-999.0000,  12.4402,-999.0000, -999.00
 316N145_11,       I01W,     876,          1,          1,     SIH023,2,19950906,       0507,    12.1638,    45.0695,        815,   822.6,  12.3621,  36.2085,2,  36.2206,2,     18.6,2,    17.7,2,   52.87,2,   30.44,2,    0.01,2,    2.40,2,   0.266,2,   0.146,2,  -999.0,9,  -999.0,9,-999.0000,9,-999.0000,9, -999.00,9, -999.00,9,  -999.0,9,    -9.0,-999.000,9,-999.000,    8207,-999.0000,  12.2487,-999.0000, -999.00
 316N145_11,       I01W,     877,          1,         24,     SIH036,2,19950906,       0936,    12.3333,    45.7750,       1390,     7.2,  28.2817,  36.5158,2,-999.0000,9,    197.7,2,  -999.0,9, -999.00,9, -999.00,9, -999.00,9, -999.00,9,-999.000,9,-999.000,9,  -999.0,9,  -999.0,9,-999.0000,9,-999.0000,9, -999.00,9, -999.00,9,  -999.0,9,    -9.0,-999.000,9,-999.000,      46,-999.0000,  28.2800,-999.0000, -999.00
 316N145_11,       I01W,     877,          1,         23,     SIH001,2,19950906,       0936,    12.3333,    45.7750,       1390,    33.4,  21.1027,  35.8501,2,  35.8295,2,     26.9,2,    39.6,2,   12.78,2,   21.41,2,    0.83,2,    1.75,2,   1.404,2,   0.781,2,  2187.6,2,  2337.4,2,-999.0000,9,   1.7309,2,    1.74,2, -999.00,9,  -999.0,9,    -9.0,   6.986,2,   0.035,     308,-999.0000,  21.0963,   0.0087,    0.14
 316N145_11,       I01W,     877,          1,         22,     SIH019,2,19950906,       0936,    12.3333,    45.7750,       1390,    63.2,  17.6940,  35.7330,2,  35.7456,2,     16.1,2,    15.6,2,   19.43,2,   25.69,2,    0.05,2,    2.07,2,   1.074,2,   0.593,2,  2223.9,2,  2335.2,2,-999.0000,9,   1.7448,2,    4.12,2, -999.00,9,  -999.0,9,    -9.0,   7.095,2,   0.035,     606,-999.0000,  17.6833,   0.0087,    0.14
 316N145_11,       I01W,     877,          1,         21,     SIH025,2,19950906,       0936,    12.3333,    45.7750,       1390,    93.0,  16.3483,  35.7019,2,  35.6921,2,     15.8,2,    15.2,2,   22.35,2,   26.04,2,    0.02,2,    2.12,2,   0.896,2,   0.492,2,  2232.4,2,  2335.4,2,-999.0000,9,   1.7512,2,    4.78,2, -999.00,9,  -999.0,9,    -9.0,   7.161,2,   0.036,     904,-999.0000,  16.3333,   0.0088,    0.14
 316N145_11,       I01W,     877,          1,         20,     SIH004,2,19950906,       0936,    12.3333,    45.7750,       1390,   123.0,  15.4491,  35.7519,2,  35.7454,2,     22.9,2,    22.5,2,   23.92,2,   26.11,2,    0.01,2,    2.07,2,-999.000,9,-999.000,9,  -999.0,9,  -999.0,9,-999.0000,9,   1.7619,2,    5.46,2, -999.00,9,  -999.0,9,    -9.0,   7.229,2,   0.036,    1204,-999.0000,  15.4300,   0.0088,    0.14
 316N145_11,       I01W,     877,          1,         19,     SIH005,2,19950906,       0936,    12.3333,    45.7750,       1390,   153.0,  15.8417,  36.0496,2,  36.0586,2,     27.5,2,    26.8,2,   23.33,2,   25.15,2,    0.01,2,    1.97,2,   0.788,4,   0.435,4,  2229.7,2,  2347.1,2,-999.0000,9,   1.7818,2,    6.79,2, -999.00,9,  -999.0,9,    -9.0,   7.263,2,   0.036,    1505,-999.0000,  15.8175,   0.0089,    0.14
 316N145_11,       I01W,     877,          1,         18,     SIH006,2,19950906,       0936,    12.3333,    45.7750,       1390,   177.7,  15.7335,  36.0968,2,  36.0916,2,     25.8,2,    25.9,2,   23.91,2,   25.43,2,    0.01,2,    1.99,2,-999.000,9,-999.000,9,  -999.0,9,  -999.0,9,-999.0000,9,   1.7551,2,    6.59,2, -999.00,9,  -999.0,9,    -9.0,   7.191,2,   0.036,    1752,-999.0000,  15.7054,   0.0088,    0.14
 316N145_11,       I01W,     877,          1,         17,     SIH038,2,19950906,       0936,    12.3333,    45.7750,       1390,   202.1,  15.4704,  36.0602,2,  36.0556,2,     24.2,2,    24.5,2,   24.89,2,   25.90,2,    0.01,2,    2.02,2,   0.708,6,   0.396,6,  2234.6,2,  2348.1,2,-999.0000,9,   1.7541,2,    6.31,2, -999.00,9,  -999.0,9,    -9.0,   7.181,2,   0.036,    1996,-999.0000,  15.4389,   0.0088,    0.14
 316N145_11,       I01W,     877,          1,         16,     SIH008,2,19950906,       0936,    12.3333,    45.7750,       1390,   251.6,  15.6146,  36.2423,2,  36.2444,2,     24.4,2,    26.0,2,   25.47,2,   25.75,2,    0.01,2,    2.00,2,   0.679,2,   0.379,2,  -999.0,9,  -999.0,9,-999.0000,9,   1.7514,2,    6.74,2, -999.00,9,  -999.0,9,    -9.0,   7.143,2,   0.036,    2490,-999.0000,  15.5750,   0.0088,    0.14
 316N145_11,       I01W,     877,          1,         15,     SIH009,2,19950906,       0936,    12.3333,    45.7750,       1390,   301.0,  14.9317,  36.1455,2,  36.1506,2,     22.6,2,    22.2,2,   27.63,2,   26.76,2,    0.01,2,    2.03,2,   0.590,2,   0.334,2,  2240.4,2,  2351.0,2,   0.4184,2,   1.7752,2,    6.54,2, -999.00,9,  -999.0,9,    -9.0,   7.246,2,   0.036,    2985,   0.0028,  14.8857,   0.0089,    0.14
 316N145_11,       I01W,     877,          1,         14,     SIH010,2,19950906,       0936,    12.3333,    45.7750,       1390,   350.6,  14.7807,  36.1907,2,-999.0000,9,     26.5,2,    22.8,2,   28.80,2,   26.82,2,    0.01,2,    2.04,2,   0.552,2,   0.309,2,  -999.0,9,  -999.0,9,   0.3974,2,   1.7610,2,    7.01,2, -999.00,9,  -999.0,9,    -9.0,   7.200,2,   0.036,    3482,   0.0028,  14.7274,   0.0088,    0.14
 316N145_11,       I01W,     877,          1,         13,     SIH011,2,19950906,       0936,    12.3333,    45.7750,       1390,   400.4,  16.3241,  36.7037,2,  36.7002,2,     29.2,2,    30.6,2,   25.67,2,   24.65,2,    0.01,2,    1.91,2,-999.000,9,-999.000,9,  2228.9,2,  2353.3,2,   0.4697,2,   1.7579,2,    7.84,2, -999.00,9,  -999.0,9,    -9.0,   7.145,2,   0.036,    3979,   0.0029,  16.2587,   0.0088,    0.14
 316N145_11,       I01W,     877,          1,         12,     SIH012,2,19950906,       0936,    12.3333,    45.7750,       1390,   449.9,  15.5940,  36.5808,2,  36.5765,2,     24.3,2,    26.2,2,   28.99,2,   25.72,2,    0.01,2,    2.00,2,   0.594,2,   0.333,2,  -999.0,9,  -999.0,9,   0.4204,2,   1.7551,2,    7.98,2, -999.00,9,  -999.0,9,    -9.0,   7.133,2,   0.036,    4475,   0.0028,  15.5226,   0.0088,    0.14
 316N145_11,       I01W,     877,          1,         11,     SI9426,2,19950906,       0936,    12.3333,    45.7750,       1390,   499.5,  15.1872,  36.5238,2,  36.5264,2,     25.5,2,    25.6,2,   30.75,2,   26.20,2,    0.01,2,    2.06,2,   0.544,2,   0.306,2,  -999.0,9,  -999.0,9,   0.3931,2,   1.7464,2,    8.43,2, -999.00,9,  -999.0,9,    -9.0,   7.113,2,   0.036,    4972,   0.0028,  15.1093,   0.0087,    0.14
 316N145_11,       I01W,     877,          1,         10,     SIH014,2,19950906,       0936,    12.3333,    45.7750,       1390,   599.7,  15.6237,  36.8156,2,  36.8155,2,     26.0,2,    27.4,2,   31.92,2,   25.46,2,    0.01,2,    1.99,2,   0.574,2,   0.324,2,  2237.7,2,  2360.8,2,-999.0000,9,-999.0000,9, -999.00,9, -999.00,9,  -999.0,9,    -9.0,-999.000,9,-999.000,    5974,-999.0000,  15.5280,-999.0000, -999.00
 316N145_11,       I01W,     877,          1,          9,     SIH015,2,19950906,       0936,    12.3333,    45.7750,       1390,   699.7,  15.2505,  36.8213,2,  36.8238,2,     24.9,2,    26.1,2,   35.24,2,   26.06,2,    0.00,2,    2.04,2,   0.520,2,   0.290,2,  -999.0,9,  -999.0,9,   0.3782,2,   1.7491,2,   11.70,2, -999.00,9,  -999.0,9,    -9.0,   7.107,2,   0.036,    6975,   0.0029,  15.1402,   0.0087,    0.14
 316N145_11,       I01W,     877,          1,          8,     SIH016,2,19950906,       0936,    12.3333,    45.7750,       1390,   800.0,  15.8409,  37.1038,2,  37.1046,2,     27.9,2,    29.9,2,   34.45,2,   25.05,2,    0.00,2,    1.94,2,-999.000,9,-999.000,9,  2238.3,2,  2370.1,2,-999.0000,9,-999.0000,9, -999.00,9, -999.00,9,  -999.0,9,    -9.0,-999.000,9,-999.000,    7979,-999.0000,  15.7110,-999.0000, -999.00
 316N145_11,       I01W,     877,          1,          7,     SIH017,2,19950906,       0936,    12.3333,    45.7750,       1390,   900.4,  13.6206,  36.5524,2,  36.5432,2,     21.5,2,    21.7,2,   48.73,2,   28.62,2,    0.00,2,    2.24,2,   0.366,2,   0.209,2,  -999.0,9,  -999.0,9,   0.2930,2,   1.7755,2,   14.01,2, -999.00,9,  -999.0,9,    -9.0,   7.230,2,   0.036,    8984,   0.0026,  13.4881,   0.0089,    0.14
 316N145_11,       I01W,     877,          1,          6,     SIH018,2,19950906,       0936,    12.3333,    45.7750,       1390,   999.8,  12.5412,  36.3832,2,  36.3861,2,     19.7,2,    19.7,2,   54.40,2,   29.95,2,    0.00,2,    2.36,2,-999.000,9,-999.000,9,  2274.1,2,  2382.9,2,-999.0000,9,-999.0000,9, -999.00,9, -999.00,9,  -999.0,9,    -9.0,-999.000,9,-999.000,    9980,-999.0000,  12.4010,-999.0000, -999.00
 316N145_11,       I01W,     877,          1,          5,     SIH002,2,19950906,       0936,    12.3333,    45.7750,       1390,  1099.4,   9.6623,  35.7421,2,  35.7466,2,     21.5,2,    19.8,2,   71.83,2,   33.90,2,    0.00,2,    2.65,2,   0.128,2,   0.069,2,  -999.0,9,  -999.0,9,-999.0000,9,   1.8222,2,   12.89,2, -999.00,9,  -999.0,9,    -9.0,   7.545,2,   0.038,   10977,-999.0000,   9.5304,   0.0091,    0.14
 316N145_11,       I01W,     877,          1,          4,     SIH020,2,19950906,       0936,    12.3333,    45.7750,       1390,  1199.7,   8.8499,  35.6023,2,  35.6052,2,     23.5,2,    22.0,2,   77.71,2,   34.81,2,    0.00,2,    2.71,2,-999.000,9,-999.000,9,  2307.4,2,  -999.0,9,-999.0000,9,-999.0000,9, -999.00,9, -999.00,9,  -999.0,9,    -9.0,-999.000,9,-999.000,   11982,-999.0000,   8.7124,-999.0000, -999.00
 316N145_11,       I01W,     877,          1,          3,     SIH021,2,19950906,       0936,    12.3333,    45.7750,       1390,  1299.3,   8.0434,  35.4633,2,  35.4663,2,     27.4,2,    26.2,2,   84.57,2,   35.57,2,    0.00,2,    2.78,2,   0.069,2,   0.042,2,  2316.0,2,  2394.1,2,-999.0000,9,-999.0000,9, -999.00,9, -999.00,9,  -999.0,9,    -9.0,-999.000,9,-999.000,   12979,-999.0000,   7.9014,-999.0000, -999.00
 316N145_11,       I01W,     877,          1,          2,     SIH022,2,19950906,       0936,    12.3333,    45.7750,       1390,  1348.8,   7.7479,  35.4127,2,  35.4131,2,     28.7,2,    27.9,2,   87.12,2,   35.84,2,    0.00,2,    2.80,2,   0.057,2,   0.030,2,  -999.0,9,  -999.0,9,-999.0000,9,-999.0000,9, -999.00,9, -999.00,9,  -999.0,9,    -9.0,-999.000,9,-999.000,   13476,-999.0000,   7.6032,-999.0000, -999.00
 316N145_11,       I01W,     877,          1,          1,     SIH023,2,19950906,       0936,    12.3333,    45.7750,       1390,  1412.8,   6.0177,  35.1585,2,  35.1601,2,     40.6,2,    41.6,2,  104.74,2,   36.79,2,    0.01,2,    2.88,2,   0.022,2,   0.012,2,  2335.6,2,  2392.7,2,-999.0000,9,-999.0000,9, -999.00,9, -999.00,9,  -999.0,9,    -9.0,-999.000,9,-999.000,   14116,-999.0000,   5.8837,-999.0000, -999.00