BOTTLE,20211119CCHSIORKP
EXPOCODE,SECT_ID,STNNBR,CASTNO,SAMPNO,BTLNBR,BTLNBR_FLAG_W,DATE,TIME,LATITUDE,LONGITUDE,DEPTH,CTDPRS,CTDTMP,CTDSAL,CTDSAL_FLAG_W,SALNTY,SALNTY_FLAG_W,CTDOXY,CTDOXY_FLAG_W,OXYGEN,OXYGEN_FLAG_W,SILCAT,SILCAT_FLAG_W,NITRAT,NITRAT_FLAG_W,NITRIT,NITRIT_FLAG_W,PHSPHT,PHSPHT_FLAG_W,CFC-11,CFC-11_FLAG_W,CFC-12,CFC-12_FLAG_W,TCARBN,TCARBN_FLAG_W,ALKALI,ALKALI_FLAG_W,TRITUM,TRITUM_FLAG_W,HELIUM,HELIUM_FLAG_W,DELHE3,DELHE3_FLAG_W,DELC13,DELC13_FLAG_W,DELC14,DELC14_FLAG_W,C14ERR,NEON,NEON_FLAG_W,NEONER,CTDRAW,TRITER,THETA,HELIER,DELHER
,,,,,,,,,,,METERS,DBAR,ITS-90,PSS-78,,PSS-78,,UMOL/KG,,UMOL/KG,,UMOL/KG,,UMOL/KG,,UMOL/KG,,UMOL/KG,,PMOL/KG,,PMOL/KG,,UMOL/KG,,UMOL/KG,,TU,,NMOL/KG,,PERCNT,,/MILLE,,/MILLE,,/MILLE,NMOL/KG,,NMOL/KG,DBAR,TU,DEG C,NMOL/KG,PERCNT
 316N145_11,       I01W,     868,          1,         30,     SIH030,2,19950903,       0226,    14.3333,    53.4167,       2960,     8.9,  23.8134,  35.7655,2,  35.7665,2,    197.7,2,   198.0,2,    1.47,2,    5.72,2,    0.50,2,    0.84,2,   1.720,2,   0.989,2,  2064.2,2,  2348.4,2,-999.0000,9,-999.0000,9, -999.00,9,    0.65,2,    18.6,2,     4.4,-999.000,9,-999.000,      69,-999.0000,  23.8115,-999.0000, -999.00
 316N145_11,       I01W,     868,          1,         29,     SIH031,2,19950903,       0226,    14.3333,    53.4167,       2960,    28.5,  17.1308,  35.4889,2,  35.4908,2,     30.8,2,    38.9,2,   19.69,2,   24.88,2,    0.05,2,    1.91,2,-999.000,9,-999.000,9,  2203.1,2,  2322.2,2,-999.0000,9,-999.0000,9, -999.00,9, -999.00,9,  -999.0,9,    -9.0,-999.000,9,-999.000,     265,-999.0000,  17.1261,-999.0000, -999.00
 316N145_11,       I01W,     868,          1,         28,     SIH032,2,19950903,       0226,    14.3333,    53.4167,       2960,    58.7,  16.0475,  35.5440,2,  35.5405,2,     27.5,2,    28.4,2,   22.28,2,   25.52,2,    0.04,2,    2.03,2,   0.918,2,   0.509,2,  2221.6,2,  2326.3,2,-999.0000,9,-999.0000,9, -999.00,9,   -0.04,2,     5.2,2,     3.2,-999.000,9,-999.000,     568,-999.0000,  16.0381,-999.0000, -999.00
 316N145_11,       I01W,     868,          1,         27,     SIH033,2,19950903,       0226,    14.3333,    53.4167,       2960,    89.1,  15.0801,  35.5216,2,  35.5247,2,     27.5,2,    29.1,2,   24.21,2,   26.05,2,    0.02,2,    2.06,2,-999.000,9,-999.000,9,  2226.5,2,  2325.6,2,-999.0000,9,-999.0000,9, -999.00,9,   -0.14,2,    -0.9,2,     3.2,-999.000,9,-999.000,     871,-999.0000,  15.0665,-999.0000, -999.00
 316N145_11,       I01W,     868,          1,         26,     SIH037,2,19950903,       0226,    14.3333,    53.4167,       2960,   119.5,  14.6487,  35.5645,2,  35.5687,2,     25.8,2,    23.8,2,   25.70,2,   26.55,2,    0.04,2,    2.12,2,   0.726,2,   0.400,2,  2235.0,2,  2328.7,2,-999.0000,9,-999.0000,9, -999.00,9, -999.00,9,  -999.0,9,    -9.0,-999.000,9,-999.000,    1176,-999.0000,  14.6308,-999.0000, -999.00
 316N145_11,       I01W,     868,          1,         25,     SI9446,2,19950903,       0226,    14.3333,    53.4167,       2960,   149.2,  13.7832,  35.4858,2,  35.4902,2,     23.1,2,    52.6,2,   27.20,2,   27.44,2,    0.01,2,    2.11,2,-999.000,9,-999.000,9,  2233.2,2,  2327.4,2,-999.0000,9,-999.0000,9, -999.00,9,    0.00,2,   -13.2,2,     3.0,-999.000,9,-999.000,    1473,-999.0000,  13.7618,-999.0000, -999.00
 316N145_11,       I01W,     868,          1,         24,     SIH036,2,19950903,       0226,    14.3333,    53.4167,       2960,   198.7,  13.3772,  35.5309,2,  35.5247,2,     29.4,2,    23.6,2,   29.12,2,   28.31,2,    0.01,2,    2.20,2,   0.521,2,   0.277,2,  2245.2,2,  -999.0,9,-999.0000,9,-999.0000,9, -999.00,9,    0.01,2,   -26.6,2,     5.1,-999.000,9,-999.000,    1968,-999.0000,  13.3492,-999.0000, -999.00
 316N145_11,       I01W,     868,          1,         23,     SIH001,2,19950903,       0226,    14.3333,    53.4167,       2960,   248.3,  12.9061,  35.5424,2,  35.5354,2,     22.7,2,    22.3,2,   32.13,2,   29.23,2,    0.01,2,    2.26,2,-999.000,9,-999.000,9,  2249.6,2,  2331.4,2,-999.0000,9,-999.0000,9, -999.00,9,    0.01,2,   -38.3,2,     4.3,-999.000,9,-999.000,    2463,-999.0000,  12.8719,-999.0000, -999.00
 316N145_11,       I01W,     868,          1,         22,     SIH019,2,19950903,       0226,    14.3333,    53.4167,       2960,   299.8,  13.0936,  35.6934,2,  35.6929,2,     21.4,2,     8.3,2,   34.69,2,   28.57,2,    0.01,2,    2.41,2,   0.316,2,   0.180,6,  2264.4,2,  2340.4,2,-999.0000,9,-999.0000,9, -999.00,9,   -0.13,2,  -999.0,5,    -9.0,-999.000,9,-999.000,    2979,-999.0000,  13.0517,-999.0000, -999.00
 316N145_11,       I01W,     868,          1,         21,     SIH025,2,19950903,       0226,    14.3333,    53.4167,       2960,   399.3,  12.7513,  35.7671,2,  35.7681,2,     10.4,2,    11.4,2,   40.07,2,   29.54,2,    0.01,2,    2.43,2,-999.000,9,-999.000,9,  2265.3,2,  2344.1,2,-999.0000,9,-999.0000,9, -999.00,9,   -0.27,3,   -69.8,2,     3.6,-999.000,9,-999.000,    3975,-999.0000,  12.6963,-999.0000, -999.00
 316N145_11,       I01W,     868,          1,         20,     SIH004,2,19950903,       0226,    14.3333,    53.4167,       2960,   497.7,  12.8156,  35.9026,2,  35.9186,2,     11.3,2,    13.6,2,   41.77,2,   29.80,2,    0.02,2,    2.38,2,   0.278,2,   0.149,2,  2263.3,2,  2350.3,2,-999.0000,9,-999.0000,9, -999.00,9,    0.05,2,   -77.0,2,     3.3,-999.000,9,-999.000,    4959,-999.0000,  12.7465,-999.0000, -999.00
 316N145_11,       I01W,     868,          1,         19,     SIH005,2,19950903,       0226,    14.3333,    53.4167,       2960,   600.4,  11.4584,  35.6886,2,  35.6865,2,      8.1,2,     7.7,2,   52.98,2,   31.73,2,    0.01,2,    2.62,2,-999.000,9,-999.000,9,  -999.0,9,  -999.0,9,-999.0000,9,-999.0000,9, -999.00,9,   -0.04,2,  -100.3,2,     2.7,-999.000,9,-999.000,    5986,-999.0000,  11.3806,-999.0000, -999.00
 316N145_11,       I01W,     868,          1,         18,     SIH006,2,19950903,       0226,    14.3333,    53.4167,       2960,   695.6,  12.4189,  36.0649,2,  36.0653,2,     16.5,2,    17.4,2,   49.90,2,   31.01,2,    0.01,2,    2.39,2,   0.267,2,   0.142,2,  2268.0,2,  2362.1,2,-999.0000,9,-999.0000,9, -999.00,9,    0.05,2,   -84.6,2,     2.9,-999.000,9,-999.000,    6939,-999.0000,  12.3233,-999.0000, -999.00
 316N145_11,       I01W,     868,          1,         17,     SIH038,2,19950903,       0226,    14.3333,    53.4167,       2960,   797.4,  11.1761,  35.8350,2,  35.8311,2,     16.5,2,    15.0,2,   58.09,2,   32.92,2,    0.01,2,    2.55,2,-999.000,9,-999.000,9,  -999.0,9,  -999.0,9,-999.0000,9,-999.0000,9, -999.00,9, -999.00,9,  -999.0,9,    -9.0,-999.000,9,-999.000,    7957,-999.0000,  11.0732,-999.0000, -999.00
 316N145_11,       I01W,     868,          1,         16,     SIH008,2,19950903,       0226,    14.3333,    53.4167,       2960,   897.4,  10.4543,  35.7620,2,  35.7434,2,     18.1,2,    16.6,2,   64.96,2,   33.95,2,    0.01,2,    2.61,2,   0.134,2,   0.070,2,  2289.5,2,  2367.1,2,-999.0000,9,-999.0000,9, -999.00,9,   -0.48,3,  -120.8,2,     3.6,-999.000,9,-999.000,    8957,-999.0000,  10.3426,-999.0000, -999.00
 316N145_11,       I01W,     868,          1,         15,     SIH009,2,19950903,       0226,    14.3333,    53.4167,       2960,   998.0,   9.4521,  35.5968,2,  35.5685,2,     20.6,3,    17.3,2,   72.48,2,   35.34,2,    0.00,2,    2.72,2,-999.000,9,-999.000,9,  -999.0,9,  -999.0,9,-999.0000,9,   1.8690,2,   12.20,2, -999.00,9,  -999.0,9,    -9.0,   7.827,2,   0.157,    9963,-999.0000,   9.3348,   0.0090,    0.20
 316N145_11,       I01W,     868,          1,         14,     SIH010,2,19950903,       0226,    14.3333,    53.4167,       2960,  1099.0,   8.1673,  35.3767,2,  35.3679,2,     26.6,2,    23.0,2,   82.80,2,   36.96,2,    0.00,2,    2.80,2,   0.042,2,   0.021,2,  2312.8,2,  2374.1,2,-999.0000,9,   1.8510,2,   12.70,2,   -0.11,2,  -137.7,2,     2.8,   7.917,2,   0.158,   10975,-999.0000,   8.0478,   0.0090,    0.20
 316N145_11,       I01W,     868,          1,         13,     SIH011,2,19950903,       0226,    14.3333,    53.4167,       2960,  1199.4,   7.2930,  35.2705,2,  35.2686,2,     33.2,2,    29.7,2,   89.87,2,   37.22,2,    0.01,2,    2.84,2,-999.000,9,-999.000,9,  -999.0,9,  -999.0,9,-999.0000,9,   1.8730,2,   14.20,2, -999.00,9,  -999.0,9,    -9.0,   7.769,2,   0.155,   11979,-999.0000,   7.1697,   0.0090,    0.20
 316N145_11,       I01W,     868,          1,         12,     SIH012,2,19950903,       0226,    14.3333,    53.4167,       2960,  1299.5,   6.6944,  35.1989,2,  35.2199,2,     36.7,3,    36.1,2,   96.51,2,   37.49,2,    0.01,2,    2.84,2,   0.022,2,   0.013,2,  2324.1,2,  2386.6,2,-999.0000,9,   1.8510,2,   14.40,2, -999.00,9,  -999.0,9,    -9.0,   7.894,2,   0.158,   12980,-999.0000,   6.5657,   0.0090,    0.20
 316N145_11,       I01W,     868,          1,         11,     SI9426,2,19950903,       0226,    14.3333,    53.4167,       2960,  1401.1,   6.4628,  35.2027,2,  35.1983,2,     39.2,2,    39.5,2,  100.56,2,   37.43,2,    0.00,2,    2.83,2,-999.000,9,-999.000,9,  -999.0,9,  -999.0,9,-999.0000,9,   1.8640,2,   14.50,2,   -0.27,2,  -148.8,2,     3.8,   7.988,2,   0.160,   13997,-999.0000,   6.3255,   0.0090,    0.20
 316N145_11,       I01W,     868,          1,         10,     SIH014,2,19950903,       0226,    14.3333,    53.4167,       2960,  1495.1,   5.3903,  35.0538,2,  35.0508,2,     53.6,2,    51.7,2,  109.13,2,   37.98,2,    0.01,2,    2.84,2,   0.005,2,   0.003,2,  2332.6,2,  2396.1,2,-999.0000,9,   1.9220,2,   14.90,2, -999.00,9,  -999.0,9,    -9.0,   7.903,2,   0.158,   14938,-999.0000,   5.2548,   0.0100,    0.20
 316N145_11,       I01W,     868,          1,          9,     SIH015,2,19950903,       0226,    14.3333,    53.4167,       2960,  1596.1,   4.6683,  34.9849,2,  34.9797,2,     65.9,2,    64.6,2,  117.04,2,   37.61,2,    0.01,2,    2.83,2,-999.000,9,-999.000,9,  -999.0,9,  -999.0,9,-999.0000,9,   1.8690,2,   14.60,2, -999.00,9,  -999.0,9,    -9.0,   8.197,2,   0.164,   15948,-999.0000,   4.5313,   0.0090,    0.20
 316N145_11,       I01W,     868,          1,          8,     SIH016,2,19950903,       0226,    14.3333,    53.4167,       2960,  1795.6,   3.9088,  34.9083,2,  34.9081,2,     80.2,2,    78.5,2,  125.38,2,   37.49,2, -999.00,9,    2.78,2,   0.000,2,   0.003,2,  2341.2,2,  2412.7,2,-999.0000,9,   1.9180,2,   17.10,2,   -0.22,2,  -171.8,2,     2.9,   8.113,2,   0.162,   17945,-999.0000,   3.7625,   0.0100,    0.20
 316N145_11,       I01W,     868,          1,          7,     SIH017,2,19950903,       0226,    14.3333,    53.4167,       2960,  1997.6,   3.1982,  34.8522,2,  34.8509,2,     94.6,2,    94.6,2,  133.50,2,   37.13,2,    0.00,2,    2.72,2,-999.000,9,-999.000,9,  -999.0,9,  -999.0,9,-999.0000,9,   1.9090,2,   17.10,2, -999.00,9,  -999.0,9,    -9.0,   8.264,2,   0.165,   19966,-999.0000,   3.0433,   0.0100,    0.20
 316N145_11,       I01W,     868,          1,          6,     SIH018,2,19950903,       0226,    14.3333,    53.4167,       2960,  2193.2,   2.6911,  34.8129,2,  34.8121,2,    108.8,2,   107.1,2,  139.45,2,   36.81,2,    0.01,2,    2.65,2,  -0.001,2,  -0.001,2,  2344.2,2,  2430.3,2,-999.0000,9,   1.9130,2,   15.30,2, -999.00,9,  -999.0,9,    -9.0,   8.425,2,   0.168,   21923,-999.0000,   2.5262,   0.0100,    0.20
 316N145_11,       I01W,     868,          1,          5,     SIH002,2,19950903,       0226,    14.3333,    53.4167,       2960,  2395.9,   2.3067,  34.7850,2,  34.7826,2,    119.4,2,   118.1,2,  143.26,2,   36.34,2,    0.00,2,    2.61,2,-999.000,9,-999.000,9,  -999.0,9,  -999.0,9,-999.0000,9,   1.8640,2,   15.20,2, -999.00,9,  -999.0,9,    -9.0,   8.215,2,   0.164,   23952,-999.0000,   2.1299,   0.0090,    0.20
 316N145_11,       I01W,     868,          1,          4,     SIH020,2,19950903,       0226,    14.3333,    53.4167,       2960,  2601.0,   2.0074,  34.7629,2,  34.7626,2,    127.7,2,   126.0,2,  147.27,2,   36.08,2,    0.00,2,    2.56,2,   0.001,2,   0.004,2,  2344.6,2,  2436.9,2,-999.0000,9,   1.8820,2,   15.00,2, -999.00,9,  -999.0,9,    -9.0,   8.345,2,   0.167,   26004,-999.0000,   1.8173,   0.0090,    0.20
 316N145_11,       I01W,     868,          1,          3,     SIH021,2,19950903,       0226,    14.3333,    53.4167,       2960,  2802.7,   1.9365,  34.7574,2,  34.7561,2,    130.5,2,   128.6,2,  148.06,2,   35.96,2,    0.00,2,    2.55,2,   0.003,2,   0.001,2,  -999.0,9,  -999.0,9,-999.0000,9,   1.9130,2,   14.50,2, -999.00,9,  -999.0,9,    -9.0,   8.438,2,   0.169,   28023,-999.0000,   1.7289,   0.0100,    0.20
 316N145_11,       I01W,     868,          1,          2,     SIH022,2,19950903,       0226,    14.3333,    53.4167,       2960,  2971.2,   1.9376,  34.7565,2,  34.7543,2,    130.3,2,   129.2,2,  147.98,2,   35.81,2,    0.01,2,    2.54,2,   0.002,2,   0.006,2,  -999.0,9,  -999.0,9,-999.0000,9,   1.8960,2,   14.80,2, -999.00,9,  -999.0,9,    -9.0,   8.296,2,   0.166,   29709,-999.0000,   1.7136,   0.0090,    0.20
 316N145_11,       I01W,     868,          1,          1,     SIH023,2,19950903,       0226,    14.3333,    53.4167,       2960,  3022.9,   1.9399,  34.7559,2,  34.7541,2,    128.8,2,   129.5,2,  147.56,2,   35.72,2,    0.01,2,    2.55,2,   0.002,2,   0.008,2,  2345.0,2,  2440.2,2,-999.0000,9,   1.9000,2,   15.10,2, -999.00,9,  -999.0,9,    -9.0,   8.367,2,   0.167,   30226,-999.0000,   1.7109,   0.0090,    0.20