BOTTLE,20211119CCHSIORKP
EXPOCODE,SECT_ID,STNNBR,CASTNO,SAMPNO,BTLNBR,BTLNBR_FLAG_W,DATE,TIME,LATITUDE,LONGITUDE,DEPTH,CTDPRS,CTDTMP,CTDSAL,CTDSAL_FLAG_W,SALNTY,SALNTY_FLAG_W,CTDOXY,CTDOXY_FLAG_W,OXYGEN,OXYGEN_FLAG_W,SILCAT,SILCAT_FLAG_W,NITRAT,NITRAT_FLAG_W,NITRIT,NITRIT_FLAG_W,PHSPHT,PHSPHT_FLAG_W,CFC-11,CFC-11_FLAG_W,CFC-12,CFC-12_FLAG_W,TCARBN,TCARBN_FLAG_W,ALKALI,ALKALI_FLAG_W,TRITUM,TRITUM_FLAG_W,HELIUM,HELIUM_FLAG_W,DELHE3,DELHE3_FLAG_W,DELC13,DELC13_FLAG_W,DELC14,DELC14_FLAG_W,C14ERR,NEON,NEON_FLAG_W,NEONER,CTDRAW,TRITER,THETA,HELIER,DELHER
,,,,,,,,,,,METERS,DBAR,ITS-90,PSS-78,,PSS-78,,UMOL/KG,,UMOL/KG,,UMOL/KG,,UMOL/KG,,UMOL/KG,,UMOL/KG,,PMOL/KG,,PMOL/KG,,UMOL/KG,,UMOL/KG,,TU,,NMOL/KG,,PERCNT,,/MILLE,,/MILLE,,/MILLE,NMOL/KG,,NMOL/KG,DBAR,TU,DEG C,NMOL/KG,PERCNT
 316N145_11,       I01W,     958,          1,         28,     SIH032,2,19950927,       1305,     6.4167,    79.1000,       2685,     5.3,  28.4334,  35.2635,2,  35.2617,2,    206.5,2,   201.1,2,    2.15,2,    0.84,2,    0.07,2,    0.26,2,   1.645,2,   0.959,2,  1959.4,2,  2306.5,2,-999.0000,9,-999.0000,9, -999.00,9, -999.00,9,  -999.0,9,    -9.0,-999.000,9,-999.000,      42,-999.0000,  28.4321,-999.0000, -999.00
 316N145_11,       I01W,     958,          1,         27,     SIH033,2,19950927,       1305,     6.4167,    79.1000,       2685,    28.8,  28.1378,  35.2604,2,  35.2513,2,    203.4,2,   200.3,2,    2.33,2,    1.98,2,    0.17,2,    0.38,2,   1.652,3,   0.962,2,  1981.1,2,  2305.3,2,-999.0000,9,-999.0000,9, -999.00,9, -999.00,9,  -999.0,9,    -9.0,-999.000,9,-999.000,     277,-999.0000,  28.1310,-999.0000, -999.00
 316N145_11,       I01W,     958,          1,         26,     SIH037,3,19950927,       1305,     6.4167,    79.1000,       2685,    58.7,  21.8440,  35.2029,3,  35.1191,2,     38.2,2,    26.0,2,   17.00,2,   23.40,2,    0.17,2,    1.73,2,-999.000,9,-999.000,9,  2150.9,2,  2300.6,2,-999.0000,9,-999.0000,9, -999.00,9, -999.00,9,  -999.0,9,    -9.0,-999.000,9,-999.000,     576,-999.0000,  21.8325,-999.0000, -999.00
 316N145_11,       I01W,     958,          1,         25,     SI9446,2,19950927,       1305,     6.4167,    79.1000,       2685,    88.7,  19.5352,  35.1950,2,  35.1898,2,     17.4,2,    49.4,2,   16.46,2,   22.56,2,    0.03,2,    1.62,2,-999.000,9,-999.000,9,  2152.7,2,  2306.1,2,-999.0000,9,-999.0000,9, -999.00,9, -999.00,9,  -999.0,9,    -9.0,-999.000,9,-999.000,     877,-999.0000,  19.5190,-999.0000, -999.00
 316N145_11,       I01W,     958,          1,         24,     SIH036,2,19950927,       1305,     6.4167,    79.1000,       2685,   119.0,  18.1113,  35.2220,2,  35.2193,2,     42.2,2,    46.9,2,   17.90,2,   23.77,2,    0.01,2,    1.71,2,-999.000,9,-999.000,9,  2168.5,2,  2308.6,2,-999.0000,9,-999.0000,9, -999.00,9, -999.00,9,  -999.0,9,    -9.0,-999.000,9,-999.000,    1179,-999.0000,  18.0908,-999.0000, -999.00
 316N145_11,       I01W,     958,          1,         23,     SIH001,2,19950927,       1305,     6.4167,    79.1000,       2685,   149.1,  16.9078,  35.1596,2,  35.1644,2,     44.4,2,    45.5,2,   20.06,2,   25.03,2,    0.01,2,    1.78,2,-999.000,9,-999.000,9,  2180.0,2,  2309.8,2,-999.0000,9,-999.0000,9, -999.00,9, -999.00,9,  -999.0,9,    -9.0,-999.000,9,-999.000,    1481,-999.0000,  16.8833,-999.0000, -999.00
 316N145_11,       I01W,     958,          1,         22,     SIH019,2,19950927,       1305,     6.4167,    79.1000,       2685,   198.6,  13.6222,  35.0977,2,  35.0886,2,     21.5,2,    18.9,2,   28.66,2,   30.69,2,    0.01,2,    2.20,2,   0.450,2,   0.235,2,  2229.8,2,  2313.5,2,-999.0000,9,-999.0000,9, -999.00,9, -999.00,9,  -999.0,9,    -9.0,-999.000,9,-999.000,    1976,-999.0000,  13.5940,-999.0000, -999.00
 316N145_11,       I01W,     958,          1,         21,     SIH025,2,19950927,       1305,     6.4167,    79.1000,       2685,   249.0,  12.5555,  35.1141,2,  35.1134,2,     32.9,2,    30.7,2,   28.84,2,   30.58,2,    0.01,2,    2.18,2,-999.000,9,-999.000,9,  2232.3,2,  2317.7,2,-999.0000,9,-999.0000,9, -999.00,9, -999.00,9,  -999.0,9,    -9.0,-999.000,9,-999.000,    2480,-999.0000,  12.5219,-999.0000, -999.00
 316N145_11,       I01W,     958,          1,         20,     SIH004,2,19950927,       1305,     6.4167,    79.1000,       2685,   299.2,  11.7987,  35.1132,2,  35.1124,2,     34.9,2,    30.8,2,   31.18,2,   31.62,2,    0.01,2,    2.24,2,-999.000,9,-999.000,9,  2240.8,2,  2319.7,2,-999.0000,9,-999.0000,9, -999.00,9, -999.00,9,  -999.0,9,    -9.0,-999.000,9,-999.000,    2982,-999.0000,  11.7599,-999.0000, -999.00
 316N145_11,       I01W,     958,          1,         19,     SIH005,2,19950927,       1305,     6.4167,    79.1000,       2685,   399.7,  10.8687,  35.0974,2,  35.0961,2,     21.9,2,    22.4,2,   38.18,2,   33.93,2,    0.00,2,    2.41,2,   0.160,2,   0.081,2,  2256.9,2,  2325.7,2,-999.0000,9,-999.0000,9, -999.00,9, -999.00,9,  -999.0,9,    -9.0,-999.000,9,-999.000,    3987,-999.0000,  10.8193,-999.0000, -999.00
 316N145_11,       I01W,     958,          1,         18,     SIH006,2,19950927,       1305,     6.4167,    79.1000,       2685,   499.8,  10.0767,  35.0913,2,  35.0921,2,     27.5,2,    28.0,2,   45.00,2,   34.53,2,    0.00,2,    2.50,2,-999.000,9,-999.000,9,  2263.8,2,  2333.7,2,-999.0000,9,-999.0000,9, -999.00,9, -999.00,9,  -999.0,9,    -9.0,-999.000,9,-999.000,    4989,-999.0000,  10.0174,-999.0000, -999.00
 316N145_11,       I01W,     958,          1,         17,     SIH038,2,19950927,       1305,     6.4167,    79.1000,       2685,   600.4,   9.2135,  35.0499,2,  35.0484,2,     23.6,2,    22.6,2,   56.13,2,   36.33,2,    0.00,2,    2.65,2,   0.032,2,   0.015,2,  2280.8,2,  2345.9,2,-999.0000,9,-999.0000,9, -999.00,9, -999.00,9,  -999.0,9,    -9.0,-999.000,9,-999.000,    5995,-999.0000,   9.1458,-999.0000, -999.00
 316N145_11,       I01W,     958,          1,         16,     SIH008,2,19950927,       1305,     6.4167,    79.1000,       2685,   700.6,   8.6095,  35.0164,2,  35.0163,2,     25.9,2,    25.9,2,   62.95,2,   36.99,2,    0.00,2,    2.70,2,-999.000,9,-999.000,9,  2287.3,2,  2349.9,2,-999.0000,9,-999.0000,9, -999.00,9, -999.00,9,  -999.0,9,    -9.0,-999.000,9,-999.000,    6997,-999.0000,   8.5333,-999.0000, -999.00
 316N145_11,       I01W,     958,          1,         15,     SIH009,2,19950927,       1305,     6.4167,    79.1000,       2685,   800.9,   7.8991,  34.9981,2,  34.9957,2,     29.4,2,    28.9,2,   72.29,2,   37.54,2,    0.00,2,    2.76,2,   0.009,2,   0.002,2,  2298.7,2,  2362.1,2,-999.0000,9,-999.0000,9, -999.00,9, -999.00,9,  -999.0,9,    -9.0,-999.000,9,-999.000,    8001,-999.0000,   7.8154,-999.0000, -999.00
 316N145_11,       I01W,     958,          1,         14,     SIH010,2,19950927,       1305,     6.4167,    79.1000,       2685,   901.8,   7.3392,  34.9709,2,  34.9709,2,     36.7,2,    34.9,2,   78.60,2,   37.82,2,    0.00,2,    2.78,2,-999.000,9,-999.000,9,  2302.5,2,  2368.0,2,-999.0000,9,-999.0000,9, -999.00,9, -999.00,9,  -999.0,9,    -9.0,-999.000,9,-999.000,    9010,-999.0000,   7.2483,-999.0000, -999.00
 316N145_11,       I01W,     958,          1,         13,     SIH011,2,19950927,       1305,     6.4167,    79.1000,       2685,   997.1,   6.7423,  34.9470,2,  34.9465,2,     44.5,2,    43.1,2,   85.43,2,   37.76,2,    0.01,2,    2.78,2,   0.001,2,   0.000,2,  2309.3,2,  2374.7,2,-999.0000,9,-999.0000,9, -999.00,9, -999.00,9,  -999.0,9,    -9.0,-999.000,9,-999.000,    9964,-999.0000,   6.6455,-999.0000, -999.00
 316N145_11,       I01W,     958,          1,         12,     SIH012,2,19950927,       1305,     6.4167,    79.1000,       2685,  1098.1,   6.2233,  34.9214,2,  34.9207,2,     51.7,2,    50.6,2,   91.20,2,   37.78,2,   -0.01,2,    2.77,2,-999.000,9,-999.000,9,  -999.0,9,  -999.0,9,-999.0000,9,-999.0000,9, -999.00,9, -999.00,9,  -999.0,9,    -9.0,-999.000,9,-999.000,   10974,-999.0000,   6.1202,-999.0000, -999.00
 316N145_11,       I01W,     958,          1,         11,     SI9426,2,19950927,       1305,     6.4167,    79.1000,       2685,  1199.2,   5.7602,  34.8996,2,  34.9002,2,     59.8,2,    58.5,2,   95.71,2,   37.77,2,    0.01,2,    2.77,2,-999.000,9,-999.000,9,  -999.0,9,  -999.0,9,-999.0000,9,-999.0000,9, -999.00,9, -999.00,9,  -999.0,9,    -9.0,-999.000,9,-999.000,   11985,-999.0000,   5.6510,-999.0000, -999.00
 316N145_11,       I01W,     958,          1,         10,     SIH014,2,19950927,       1305,     6.4167,    79.1000,       2685,  1299.9,   5.3559,  34.8863,2,  34.8865,2,     65.5,2,    63.8,2,  100.40,2,   37.68,2,   -0.01,2,    2.75,2,  -0.001,2,  -0.001,2,  -999.0,9,  -999.0,9,-999.0000,9,-999.0000,9, -999.00,9, -999.00,9,  -999.0,9,    -9.0,-999.000,9,-999.000,   12993,-999.0000,   5.2406,-999.0000, -999.00
 316N145_11,       I01W,     958,          1,          9,     SIH015,2,19950927,       1305,     6.4167,    79.1000,       2685,  1400.2,   4.9509,  34.8736,2,  34.8741,2,     71.4,2,    69.9,2,  105.45,2,   37.57,2,    0.01,2,    2.76,2,-999.000,9,-999.000,9,  -999.0,9,  -999.0,9,-999.0000,9,-999.0000,9, -999.00,9, -999.00,9,  -999.0,9,    -9.0,-999.000,9,-999.000,   13997,-999.0000,   4.8299,-999.0000, -999.00
 316N145_11,       I01W,     958,          1,          8,     SIH016,2,19950927,       1305,     6.4167,    79.1000,       2685,  1500.7,   4.4113,  34.8520,2,  34.8513,2,     80.6,2,    82.5,2,  111.41,2,   37.36,2,   -0.01,2,    2.73,2,-999.000,9,-999.000,9,  2323.2,2,  2399.7,2,-999.0000,9,-999.0000,9, -999.00,9, -999.00,9,  -999.0,9,    -9.0,-999.000,9,-999.000,   15002,-999.0000,   4.2867,-999.0000, -999.00
 316N145_11,       I01W,     958,          1,          7,     SIH017,2,19950927,       1305,     6.4167,    79.1000,       2685,  1596.5,   3.9941,  34.8355,2,  34.8357,2,     88.7,2,    88.9,2,  115.03,2,   36.99,2,    0.00,2,    2.70,2,   0.001,2,   0.000,2,  -999.0,9,  -999.0,9,-999.0000,9,-999.0000,9, -999.00,9, -999.00,9,  -999.0,9,    -9.0,-999.000,9,-999.000,   15961,-999.0000,   3.8656,-999.0000, -999.00
 316N145_11,       I01W,     958,          1,          6,     SIH018,2,19950927,       1305,     6.4167,    79.1000,       2685,  1798.0,   3.2076,  34.8010,2,  34.8001,2,    106.0,2,   106.4,2,  124.04,2,   36.82,2,    0.01,2,    2.65,2,-999.000,9,-999.000,9,  -999.0,9,  -999.0,9,-999.0000,9,-999.0000,9, -999.00,9, -999.00,9,  -999.0,9,    -9.0,-999.000,9,-999.000,   17977,-999.0000,   3.0709,-999.0000, -999.00
 316N145_11,       I01W,     958,          1,          5,     SIH002,2,19950927,       1305,     6.4167,    79.1000,       2685,  1994.9,   2.7989,  34.7822,2,  34.7830,2,    115.0,2,   116.1,2,  128.75,2,   36.45,2,    0.01,2,    2.62,2,-999.000,9,-999.000,9,  2326.1,2,  2418.6,2,-999.0000,9,-999.0000,9, -999.00,9, -999.00,9,  -999.0,9,    -9.0,-999.000,9,-999.000,   19948,-999.0000,   2.6504,-999.0000, -999.00
 316N145_11,       I01W,     958,          1,          4,     SIH020,2,19950927,       1305,     6.4167,    79.1000,       2685,  2198.8,   2.4741,  34.7664,2,  34.7671,2,    124.1,2,   124.4,2,  132.56,2,   36.12,2,    0.01,2,    2.58,2,-999.000,9,   0.000,2,  -999.0,9,  -999.0,9,-999.0000,9,-999.0000,9, -999.00,9, -999.00,9,  -999.0,9,    -9.0,-999.000,9,-999.000,   21988,-999.0000,   2.3124,-999.0000, -999.00
 316N145_11,       I01W,     958,          1,          3,     SIH021,2,19950927,       1305,     6.4167,    79.1000,       2685,  2396.2,   2.2576,  34.7566,2,  34.7551,2,    131.1,2,   130.7,2,  134.93,2,   35.85,2,    0.01,2,    2.55,2,-999.000,9,-999.000,9,  -999.0,9,  -999.0,9,-999.0000,9,-999.0000,9, -999.00,9, -999.00,9,  -999.0,9,    -9.0,-999.000,9,-999.000,   23963,-999.0000,   2.0816,-999.0000, -999.00
 316N145_11,       I01W,     958,          1,          2,     SIH022,2,19950927,       1305,     6.4167,    79.1000,       2685,  2660.0,   1.9678,  34.7427,2,  34.7419,2,    140.1,2,   140.1,2,  138.55,2,   35.59,2,    0.01,2,    2.51,2,   0.000,2,   0.007,3,  -999.0,9,  -999.0,9,-999.0000,9,-999.0000,9, -999.00,9, -999.00,9,  -999.0,9,    -9.0,-999.000,9,-999.000,   26603,-999.0000,   1.7730,-999.0000, -999.00
 316N145_11,       I01W,     958,          1,          1,     SIH023,2,19950927,       1305,     6.4167,    79.1000,       2685,  2710.3,   1.8093,  34.7377,2,  34.7370,2,    145.2,2,   146.2,2,  139.24,2,   35.34,2,    0.01,2,    2.50,2,   0.004,2,   0.001,2,  2326.2,2,  2442.3,2,-999.0000,9,-999.0000,9, -999.00,9, -999.00,9,  -999.0,9,    -9.0,-999.000,9,-999.000,   27107,-999.0000,   1.6129,-999.0000, -999.00