BOTTLE,20211119CCHSIORKP
EXPOCODE,SECT_ID,STNNBR,CASTNO,SAMPNO,BTLNBR,BTLNBR_FLAG_W,DATE,TIME,LATITUDE,LONGITUDE,DEPTH,CTDPRS,CTDTMP,CTDSAL,CTDSAL_FLAG_W,SALNTY,SALNTY_FLAG_W,CTDOXY,CTDOXY_FLAG_W,OXYGEN,OXYGEN_FLAG_W,SILCAT,SILCAT_FLAG_W,NITRAT,NITRAT_FLAG_W,NITRIT,NITRIT_FLAG_W,PHSPHT,PHSPHT_FLAG_W,CFC-11,CFC-11_FLAG_W,CFC-12,CFC-12_FLAG_W,TCARBN,TCARBN_FLAG_W,ALKALI,ALKALI_FLAG_W,TRITUM,TRITUM_FLAG_W,HELIUM,HELIUM_FLAG_W,DELHE3,DELHE3_FLAG_W,DELC13,DELC13_FLAG_W,DELC14,DELC14_FLAG_W,C14ERR,NEON,NEON_FLAG_W,NEONER,CTDRAW,TRITER,THETA,HELIER,DELHER
,,,,,,,,,,,METERS,DBAR,ITS-90,PSS-78,,PSS-78,,UMOL/KG,,UMOL/KG,,UMOL/KG,,UMOL/KG,,UMOL/KG,,UMOL/KG,,PMOL/KG,,PMOL/KG,,UMOL/KG,,UMOL/KG,,TU,,NMOL/KG,,PERCNT,,/MILLE,,/MILLE,,/MILLE,NMOL/KG,,NMOL/KG,DBAR,TU,DEG C,NMOL/KG,PERCNT
 316N145_11,       I01W,     912,          1,         34,     SIH026,2,19950915,       0715,     8.4722,    56.0055,       3800,     6.6,  26.2010,  35.6580,2,  35.6589,2,    213.6,2,   207.7,2,    3.13,2,    2.72,2,    0.34,2,    0.42,2,   1.777,2,   1.023,2,  2010.3,2,  2331.3,2,-999.0000,9,-999.0000,9, -999.00,9, -999.00,9,  -999.0,9,    -9.0,-999.000,9,-999.000,      55,-999.0000,  26.1995,-999.0000, -999.00
 316N145_11,       I01W,     912,          1,         33,     SIH027,2,19950915,       0715,     8.4722,    56.0055,       3800,    30.9,  26.0167,  35.6562,2,  35.6567,2,    215.1,2,   208.5,2,    3.30,2,    2.71,2,    0.35,2,    0.42,2,-999.000,9,-999.000,9,  2011.3,2,  2332.7,2,-999.0000,9,-999.0000,9, -999.00,9, -999.00,9,  -999.0,9,    -9.0,-999.000,9,-999.000,     297,-999.0000,  26.0098,-999.0000, -999.00
 316N145_11,       I01W,     912,          1,         32,     SIH028,2,19950915,       0715,     8.4722,    56.0055,       3800,    59.1,  25.8649,  35.6469,2,  35.6463,2,    209.6,2,   204.6,2,    3.49,2,    3.09,2,    0.38,2,    0.45,2,-999.000,9,-999.000,9,  2015.4,2,  2330.4,2,-999.0000,9,-999.0000,9, -999.00,9, -999.00,9,  -999.0,9,    -9.0,-999.000,9,-999.000,     579,-999.0000,  25.8517,-999.0000, -999.00
 316N145_11,       I01W,     912,          1,         31,     SIH029,2,19950915,       0715,     8.4722,    56.0055,       3800,    89.9,  25.1720,  35.6237,2,  35.6184,2,    198.8,2,   192.2,2,    4.39,2,    4.61,2,    1.03,2,    0.59,2,   1.781,2,   1.021,2,  2032.7,2,  2331.0,2,-999.0000,9,-999.0000,9, -999.00,9, -999.00,9,  -999.0,9,    -9.0,-999.000,9,-999.000,     888,-999.0000,  25.1524,-999.0000, -999.00
 316N145_11,       I01W,     912,          1,         30,     SIH030,3,19950915,       0715,     8.4722,    56.0055,       3800,   120.1,  24.6530,  35.5866,3,  35.5875,2,    183.0,2,   184.1,2,    5.11,2,    6.06,2,    0.89,2,    0.67,2,-999.000,9,-999.000,9,  2041.6,2,  2327.0,2,-999.0000,9,-999.0000,9, -999.00,9, -999.00,9,  -999.0,9,    -9.0,-999.000,9,-999.000,    1189,-999.0000,  24.6271,-999.0000, -999.00
 316N145_11,       I01W,     912,          1,         29,     SIH031,2,19950915,       0715,     8.4722,    56.0055,       3800,   150.2,  23.6633,  35.5865,2,  35.5731,2,    174.5,2,   147.0,2,    6.92,2,   10.30,2,    0.16,2,    0.89,2,-999.000,9,-999.000,9,  2070.3,2,  2321.4,2,-999.0000,9,-999.0000,9, -999.00,9, -999.00,9,  -999.0,9,    -9.0,-999.000,9,-999.000,    1491,-999.0000,  23.6319,-999.0000, -999.00
 316N145_11,       I01W,     912,          1,         28,     SIH032,2,19950915,       0715,     8.4722,    56.0055,       3800,   200.2,  18.2609,  35.3987,2,  35.4129,2,     91.2,2,    69.2,2,   15.07,2,   21.13,2,    0.01,2,    1.60,2,   1.288,2,   0.711,2,  2162.4,2,  2318.5,2,-999.0000,9,-999.0000,9, -999.00,9, -999.00,9,  -999.0,9,    -9.0,-999.000,9,-999.000,    1991,-999.0000,  18.2261,-999.0000, -999.00
 316N145_11,       I01W,     912,          1,         27,     SIH033,2,19950915,       0715,     8.4722,    56.0055,       3800,   250.1,  15.3480,  35.3104,2,  35.3112,2,     70.7,2,    70.9,2,   18.52,2,   22.77,2,    0.01,2,    1.72,2,-999.000,9,-999.000,9,  2184.6,2,  2318.2,2,-999.0000,9,-999.0000,9, -999.00,9, -999.00,9,  -999.0,9,    -9.0,-999.000,9,-999.000,    2489,-999.0000,  15.3094,-999.0000, -999.00
 316N145_11,       I01W,     912,          1,         26,     SIH037,3,19950915,       0715,     8.4722,    56.0055,       3800,   300.1,  14.1662,  35.4413,3,  35.4433,2,     36.6,2,    36.9,2,   24.15,2,   26.25,2,    0.01,2,    2.06,2,   0.728,2,   0.398,2,  2226.1,2,  2326.1,2,-999.0000,9,-999.0000,9, -999.00,9, -999.00,9,  -999.0,9,    -9.0,-999.000,9,-999.000,    2990,-999.0000,  14.1222,-999.0000, -999.00
 316N145_11,       I01W,     912,          1,         25,     SI9446,3,19950915,       0715,     8.4722,    56.0055,       3800,   403.5,  12.5774,  35.3921,3,  35.3928,2,     35.1,2,    37.9,2,   28.69,2,   28.60,2,    0.00,2,    2.17,2,-999.000,9,-999.000,9,  2238.6,2,  2327.1,2,-999.0000,9,-999.0000,9, -999.00,9, -999.00,9,  -999.0,9,    -9.0,-999.000,9,-999.000,    4024,-999.0000,  12.5224,-999.0000, -999.00
 316N145_11,       I01W,     912,          1,         24,     SIH036,2,19950915,       0715,     8.4722,    56.0055,       3800,   501.5,  11.1017,  35.2365,2,  35.2369,2,     42.1,2,    44.5,2,   34.32,2,   31.02,2,    0.00,2,    2.27,2,   0.292,2,   0.153,2,  2242.1,2,  2326.1,2,-999.0000,9,-999.0000,9, -999.00,9, -999.00,9,  -999.0,9,    -9.0,-999.000,9,-999.000,    5005,-999.0000,  11.0386,-999.0000, -999.00
 316N145_11,       I01W,     912,          1,         23,     SIH001,3,19950915,       0715,     8.4722,    56.0055,       3800,   596.4,  10.6935,  35.3505,3,  35.3543,2,     25.4,2,    24.0,2,   44.85,2,   33.05,2,    0.01,2,    2.54,2,-999.000,9,-999.000,9,  2267.0,2,  2341.0,2,-999.0000,9,-999.0000,9, -999.00,9, -999.00,9,  -999.0,9,    -9.0,-999.000,9,-999.000,    5954,-999.0000,  10.6197,-999.0000, -999.00
 316N145_11,       I01W,     912,          1,         22,     SIH019,2,19950915,       0715,     8.4722,    56.0055,       3800,   697.5,  10.1757,  35.3615,2,  35.3620,2,     22.2,2,    21.5,2,   53.21,2,   34.13,2,    0.00,2,    2.63,2,   0.094,3,   0.038,2,  2278.3,2,  2347.7,2,-999.0000,9,-999.0000,9, -999.00,9, -999.00,9,  -999.0,9,    -9.0,-999.000,9,-999.000,    6966,-999.0000,  10.0914,-999.0000, -999.00
 316N145_11,       I01W,     912,          1,         21,     SIH025,2,19950915,       0715,     8.4722,    56.0055,       3800,   802.3,   9.4953,  35.3233,2,  35.3246,2,     22.9,2,    21.3,2,   60.85,2,   35.32,2,    0.00,2,    2.70,2,-999.000,9,-999.000,9,  2288.2,2,  2357.3,2,-999.0000,9,-999.0000,9, -999.00,9, -999.00,9,  -999.0,9,    -9.0,-999.000,9,-999.000,    8014,-999.0000,   9.4019,-999.0000, -999.00
 316N145_11,       I01W,     912,          1,         20,     SIH004,2,19950915,       0715,     8.4722,    56.0055,       3800,   901.1,   9.1263,  35.3638,2,  35.3644,2,     25.2,2,    23.0,2,   67.05,2,   35.57,2,    0.01,2,    2.73,2,   0.052,2,   0.029,2,  2295.0,2,  2363.4,2,-999.0000,9,-999.0000,9, -999.00,9, -999.00,9,  -999.0,9,    -9.0,-999.000,9,-999.000,    9003,-999.0000,   9.0231,-999.0000, -999.00
 316N145_11,       I01W,     912,          1,         19,     SIH005,2,19950915,       0715,     8.4722,    56.0055,       3800,  1000.7,   8.3478,  35.2835,2,  35.2871,2,     27.9,2,    28.1,2,   74.14,2,   36.34,2,    0.01,2,    2.77,2,-999.000,9,-999.000,9,  2301.3,2,  2368.4,2,-999.0000,9,-999.0000,9, -999.00,9, -999.00,9,  -999.0,9,    -9.0,-999.000,9,-999.000,    9999,-999.0000,   8.2383,-999.0000, -999.00
 316N145_11,       I01W,     912,          1,         18,     SIH006,2,19950915,       0715,     8.4722,    56.0055,       3800,  1098.9,   7.8540,  35.2459,2,  35.2465,2,     32.2,2,    30.7,2,   79.25,2,   36.72,2,    0.00,2,    2.79,2,   0.028,2,   0.011,2,  -999.0,9,  -999.0,9,-999.0000,9,-999.0000,9, -999.00,9, -999.00,9,  -999.0,9,    -9.0,-999.000,9,-999.000,   10982,-999.0000,   7.7372,-999.0000, -999.00
 316N145_11,       I01W,     912,          1,         17,     SIH038,2,19950915,       0715,     8.4722,    56.0055,       3800,  1201.5,   6.5941,  35.0718,2,  35.0709,2,     45.7,2,    44.9,2,   88.37,2,   37.53,2,    0.01,2,    2.82,2,-999.000,9,-999.000,9,  -999.0,9,  -999.0,9,-999.0000,9,-999.0000,9, -999.00,9, -999.00,9,  -999.0,9,    -9.0,-999.000,9,-999.000,   12007,-999.0000,   6.4769,-999.0000, -999.00
 316N145_11,       I01W,     912,          1,         16,     SIH008,2,19950915,       0715,     8.4722,    56.0055,       3800,  1300.3,   6.0762,  35.0360,2,  35.0352,2,     55.9,2,    53.1,2,   93.48,2,   37.40,2,    0.00,2,    2.79,2,   0.006,2,   0.004,2,  -999.0,9,  -999.0,9,-999.0000,9,-999.0000,9, -999.00,9, -999.00,9,  -999.0,9,    -9.0,-999.000,9,-999.000,   12996,-999.0000,   5.9537,-999.0000, -999.00
 316N145_11,       I01W,     912,          1,         15,     SIH009,2,19950915,       0715,     8.4722,    56.0055,       3800,  1396.4,   5.5050,  34.9834,2,  34.9837,2,     63.7,2,    61.4,2,   98.42,2,   37.50,2,    0.01,2,    2.79,2,-999.000,9,-999.000,9,  -999.0,9,  -999.0,9,-999.0000,9,-999.0000,9, -999.00,9, -999.00,9,  -999.0,9,    -9.0,-999.000,9,-999.000,   13957,-999.0000,   5.3784,-999.0000, -999.00
 316N145_11,       I01W,     912,          1,         14,     SIH010,2,19950915,       0715,     8.4722,    56.0055,       3800,  1498.4,   5.0907,  34.9498,2,  34.9500,2,     71.1,2,    68.4,2,  102.81,2,   37.36,2,    0.00,2,    2.77,2,-999.000,9,-999.000,9,  -999.0,9,  -999.0,9,-999.0000,9,-999.0000,9, -999.00,9, -999.00,9,  -999.0,9,    -9.0,-999.000,9,-999.000,   14978,-999.0000,   4.9584,-999.0000, -999.00
 316N145_11,       I01W,     912,          1,         13,     SIH011,2,19950915,       0715,     8.4722,    56.0055,       3800,  1603.5,   4.5478,  34.9128,2,  34.9113,2,     80.5,2,    78.9,2,  108.30,2,   37.31,2,    0.00,2,    2.76,2,   0.000,2,   0.001,2,  -999.0,9,  -999.0,9,-999.0000,9,-999.0000,9, -999.00,9, -999.00,9,  -999.0,9,    -9.0,-999.000,9,-999.000,   16030,-999.0000,   4.4117,-999.0000, -999.00
 316N145_11,       I01W,     912,          1,         12,     SIH012,2,19950915,       0715,     8.4722,    56.0055,       3800,  1800.5,   3.7763,  34.8656,2,  34.8654,2,     94.2,2,    93.5,2,  117.43,2,   36.96,2,    0.00,2,    2.71,2,-999.000,9,-999.000,9,  -999.0,9,  -999.0,9,-999.0000,9,-999.0000,9, -999.00,9, -999.00,9,  -999.0,9,    -9.0,-999.000,9,-999.000,   18002,-999.0000,   3.6314,-999.0000, -999.00
 316N145_11,       I01W,     912,          1,         11,     SI9426,2,19950915,       0715,     8.4722,    56.0055,       3800,  2002.8,   3.0231,  34.8161,2,  34.8163,2,    111.2,2,   111.1,2,  125.12,2,   36.49,2,    0.01,2,    2.64,2,  -0.002,2,  -0.001,2,  -999.0,9,  -999.0,9,-999.0000,9,-999.0000,9, -999.00,9, -999.00,9,  -999.0,9,    -9.0,-999.000,9,-999.000,   20026,-999.0000,   2.8703,-999.0000, -999.00
 316N145_11,       I01W,     912,          1,         10,     SIH014,2,19950915,       0715,     8.4722,    56.0055,       3800,  2201.1,   2.5648,  34.7899,2,  34.7889,2,    124.5,2,   124.5,2,  129.52,2,   36.00,2,    0.00,2,    2.58,2,-999.000,9,-999.000,9,  -999.0,9,  -999.0,9,-999.0000,9,-999.0000,9, -999.00,9, -999.00,9,  -999.0,9,    -9.0,-999.000,9,-999.000,   22010,-999.0000,   2.4013,-999.0000, -999.00
 316N145_11,       I01W,     912,          1,          9,     SIH015,2,19950915,       0715,     8.4722,    56.0055,       3800,  2396.5,   2.2779,  34.7699,2,  34.7689,2,    135.7,2,   133.7,2,  131.91,2,   35.79,2,    0.01,2,    2.56,2,  -0.003,6,  -0.001,6,  -999.0,9,  -999.0,9,-999.0000,9,-999.0000,9, -999.00,9, -999.00,9,  -999.0,9,    -9.0,-999.000,9,-999.000,   23965,-999.0000,   2.1015,-999.0000, -999.00
 316N145_11,       I01W,     912,          1,          8,     SIH016,2,19950915,       0715,     8.4722,    56.0055,       3800,  2603.6,   2.1152,  34.7612,2,  34.7616,2,    141.7,2,   141.0,2,  133.40,2,   35.54,2,    0.01,2,    2.51,2,-999.000,9,-999.000,9,  -999.0,9,  -999.0,9,-999.0000,9,-999.0000,9, -999.00,9, -999.00,9,  -999.0,9,    -9.0,-999.000,9,-999.000,   26038,-999.0000,   1.9226,-999.0000, -999.00
 316N145_11,       I01W,     912,          1,          7,     SIH017,2,19950915,       0715,     8.4722,    56.0055,       3800,  2807.7,   1.9670,  34.7536,2,  34.7547,2,    144.8,2,   142.1,2,  135.80,2,   35.40,2,   -0.01,2,    2.50,2,  -0.002,2,  -0.001,2,  -999.0,9,  -999.0,9,-999.0000,9,-999.0000,9, -999.00,9, -999.00,9,  -999.0,9,    -9.0,-999.000,9,-999.000,   28080,-999.0000,   1.7582,-999.0000, -999.00
 316N145_11,       I01W,     912,          1,          6,     SIH018,2,19950915,       0715,     8.4722,    56.0055,       3800,  3016.5,   1.8835,  34.7493,2,  34.7484,2,    149.4,2,   146.8,2,  136.20,2,   35.19,2,    0.01,2,    2.48,2,-999.000,9,-999.000,9,  -999.0,9,  -999.0,9,-999.0000,9,-999.0000,9, -999.00,9, -999.00,9,  -999.0,9,    -9.0,-999.000,9,-999.000,   30169,-999.0000,   1.6563,-999.0000, -999.00
 316N145_11,       I01W,     912,          1,          5,     SIH002,2,19950915,       0715,     8.4722,    56.0055,       3800,  3223.0,   1.7705,  34.7418,2,  34.7418,2,    155.1,2,   155.3,2,  135.13,2,   34.94,2,    0.01,2,    2.45,2,  -0.003,2,   0.000,2,  -999.0,9,  -999.0,9,-999.0000,9,-999.0000,9, -999.00,9, -999.00,9,  -999.0,9,    -9.0,-999.000,9,-999.000,   32236,-999.0000,   1.5254,-999.0000, -999.00
 316N145_11,       I01W,     912,          1,          4,     SIH020,2,19950915,       0715,     8.4722,    56.0055,       3800,  3428.7,   1.6807,  34.7363,2,  34.7359,2,    161.7,2,   160.3,2,  134.99,2,   34.64,2,    0.01,2,    2.42,2,-999.000,9,-999.000,9,  -999.0,9,  -999.0,9,-999.0000,9,-999.0000,9, -999.00,9, -999.00,9,  -999.0,9,    -9.0,-999.000,9,-999.000,   34295,-999.0000,   1.4171,-999.0000, -999.00
 316N145_11,       I01W,     912,          1,          3,     SIH021,2,19950915,       0715,     8.4722,    56.0055,       3800,  3623.4,   1.6257,  34.7329,2,  34.7317,2,    166.2,2,   164.5,2,  134.28,2,   34.44,2,    0.00,2,    2.39,2,  -0.003,2,   0.001,2,  -999.0,9,  -999.0,9,-999.0000,9,-999.0000,9, -999.00,9, -999.00,9,  -999.0,9,    -9.0,-999.000,9,-999.000,   36243,-999.0000,   1.3434,-999.0000, -999.00
 316N145_11,       I01W,     912,          1,          2,     SIH022,2,19950915,       0715,     8.4722,    56.0055,       3800,  3802.2,   1.5594,  34.7294,2,  34.7292,2,    169.9,2,   168.6,2,  133.76,2,   34.19,2,    0.00,2,    2.37,2,  -0.001,2,   0.003,2,  -999.0,9,  -999.0,9,-999.0000,9,-999.0000,9, -999.00,9, -999.00,9,  -999.0,9,    -9.0,-999.000,9,-999.000,   38033,-999.0000,   1.2599,-999.0000, -999.00
 316N145_11,       I01W,     912,          1,          1,     SIH023,2,19950915,       0715,     8.4722,    56.0055,       3800,  3859.1,   1.5574,  34.7290,2,  34.7274,2,   -999.0,9,   168.9,2,  133.99,2,   34.27,2,    0.00,2,    2.38,2,  -0.003,2,   0.000,2,  -999.0,9,  -999.0,9,-999.0000,9,-999.0000,9, -999.00,9, -999.00,9,  -999.0,9,    -9.0,-999.000,9,-999.000,   38602,-999.0000,   1.2519,-999.0000, -999.00