BOTTLE,20211119CCHSIORKP
EXPOCODE,SECT_ID,STNNBR,CASTNO,SAMPNO,BTLNBR,BTLNBR_FLAG_W,DATE,TIME,LATITUDE,LONGITUDE,DEPTH,CTDPRS,CTDTMP,CTDSAL,CTDSAL_FLAG_W,SALNTY,SALNTY_FLAG_W,CTDOXY,CTDOXY_FLAG_W,OXYGEN,OXYGEN_FLAG_W,SILCAT,SILCAT_FLAG_W,NITRAT,NITRAT_FLAG_W,NITRIT,NITRIT_FLAG_W,PHSPHT,PHSPHT_FLAG_W,CFC-11,CFC-11_FLAG_W,CFC-12,CFC-12_FLAG_W,TCARBN,TCARBN_FLAG_W,ALKALI,ALKALI_FLAG_W,TRITUM,TRITUM_FLAG_W,HELIUM,HELIUM_FLAG_W,DELHE3,DELHE3_FLAG_W,DELC13,DELC13_FLAG_W,DELC14,DELC14_FLAG_W,C14ERR,NEON,NEON_FLAG_W,NEONER,CTDRAW,TRITER,THETA,HELIER,DELHER
,,,,,,,,,,,METERS,DBAR,ITS-90,PSS-78,,PSS-78,,UMOL/KG,,UMOL/KG,,UMOL/KG,,UMOL/KG,,UMOL/KG,,UMOL/KG,,PMOL/KG,,PMOL/KG,,UMOL/KG,,UMOL/KG,,TU,,NMOL/KG,,PERCNT,,/MILLE,,/MILLE,,/MILLE,NMOL/KG,,NMOL/KG,DBAR,TU,DEG C,NMOL/KG,PERCNT
 316N145_11,       I01W,     944,          1,         36,     SIH024,2,19950923,       2239,     8.5000,    71.1667,       3910,     9.9,  28.2875,  36.3067,2,  36.3037,2,    204.3,2,   207.5,2,    2.19,2,    0.13,2,   -0.01,2,    0.19,2,   1.633,2,   0.956,2,  1990.3,2,  2372.6,2,   0.9794,2,   1.7158,2,   -1.53,2, -999.00,9,  -999.0,9,    -9.0,   6.689,2,   0.033,      91,   0.0038,  28.2852,   0.0086,    0.14
 316N145_11,       I01W,     944,          1,         35,     SIH003,2,19950923,       2239,     8.5000,    71.1667,       3910,    29.7,  28.2982,  36.3020,2,  36.3027,2,    209.6,2,   209.7,2,    2.19,2,    0.21,2,    0.02,2,    0.19,2,-999.000,9,-999.000,9,  1990.6,2,  2375.5,2,   0.9806,2,   1.7106,2,   -1.39,2, -999.00,9,  -999.0,9,    -9.0,   6.656,2,   0.033,     289,   0.0038,  28.2911,   0.0086,    0.14
 316N145_11,       I01W,     944,          1,         34,     SIH026,2,19950923,       2239,     8.5000,    71.1667,       3910,    59.9,  27.3806,  36.4474,2,  36.4372,2,    208.5,2,   172.3,2,    3.44,2,    3.25,2,    0.36,2,    0.51,2,-999.000,9,-999.000,9,  2045.4,2,  2381.4,2,   0.9294,2,   1.6424,2,   -0.47,2, -999.00,9,  -999.0,9,    -9.0,   6.612,2,   0.033,     592,   0.0037,  27.3666,   0.0082,    0.14
 316N145_11,       I01W,     944,          1,         33,     SIH027,2,19950923,       2239,     8.5000,    71.1667,       3910,    90.0,  20.8087,  35.6213,2,  35.6230,2,     49.7,2,    23.0,2,   15.12,2,   24.77,2,    0.06,2,    1.90,2,   1.126,2,   0.626,2,  2182.5,2,  2333.7,2,   0.7157,2,   1.7634,2,    2.24,2, -999.00,9,  -999.0,9,    -9.0,   7.051,2,   0.035,     893,   0.0034,  20.7915,   0.0088,    0.14
 316N145_11,       I01W,     944,          1,         32,     SIH028,2,19950923,       2239,     8.5000,    71.1667,       3910,   119.6,  17.0696,  35.3443,2,  35.3421,2,      9.7,2,    10.0,2,   22.48,2,   27.25,2,    0.00,2,    2.17,2,-999.000,9,-999.000,9,  2214.2,2,  2327.9,2,   0.5594,2,   1.7621,2,    4.17,2, -999.00,9,  -999.0,9,    -9.0,   7.165,2,   0.036,    1189,   0.0030,  17.0498,   0.0088,    0.14
 316N145_11,       I01W,     944,          1,         31,     SIH029,2,19950923,       2239,     8.5000,    71.1667,       3910,   149.6,  15.3841,  35.2676,2,  35.2666,2,     18.7,2,    19.3,2,   23.73,2,   27.91,2,    0.02,2,    2.16,2,   0.612,2,   0.327,2,  2220.4,2,  2325.1,2,   0.4926,2,   1.7892,2,    4.78,2, -999.00,9,  -999.0,9,    -9.0,   7.321,2,   0.037,    1489,   0.0030,  15.3610,   0.0089,    0.14
 316N145_11,       I01W,     944,          1,         30,     SIH030,2,19950923,       2239,     8.5000,    71.1667,       3910,   199.6,  13.4724,  35.2481,2,  35.2119,2,     28.0,2,    27.9,2,   26.06,2,   29.05,2,    0.01,2,    2.16,2,-999.000,9,-999.000,9,  2228.4,2,  2326.3,2,   0.3863,2,   1.7760,2,    5.02,2, -999.00,9,  -999.0,9,    -9.0,   7.319,2,   0.037,    1989,   0.0028,  13.4442,   0.0089,    0.14
 316N145_11,       I01W,     944,          1,         29,     SIH031,2,19950923,       2239,     8.5000,    71.1667,       3910,   249.5,  12.5108,  35.1829,2,  35.1837,2,     35.1,2,    37.0,2,   27.31,2,   29.83,2,    0.02,2,    2.17,2,-999.000,9,-999.000,9,  2231.1,2,  2326.2,2,   0.3202,2,   1.8052,2,    4.74,2, -999.00,9,  -999.0,9,    -9.0,   7.446,2,   0.037,    2488,   0.0027,  12.4772,   0.0090,    0.14
 316N145_11,       I01W,     944,          1,         28,     SIH032,2,19950923,       2239,     8.5000,    71.1667,       3910,   349.8,  11.3338,  35.1648,2,  35.1652,2,     44.2,2,    41.9,2,   31.43,2,   30.97,2,    0.00,2,    2.23,2,   0.276,2,   0.142,2,  2236.8,2,  2330.0,2,   0.2171,2,   1.8447,2,    4.59,2, -999.00,9,  -999.0,9,    -9.0,   7.603,2,   0.038,    3491,   0.0025,  11.2895,   0.0092,    0.14
 316N145_11,       I01W,     944,          1,         27,     SIH033,2,19950923,       2239,     8.5000,    71.1667,       3910,   449.9,  10.6808,  35.1652,2,  35.1691,2,     25.2,2,    28.4,2,   40.59,2,   33.42,2,    0.01,2,    2.47,2,-999.000,9,-999.000,9,  2258.2,2,  2336.9,2,   0.1130,2,   1.8385,2,    5.07,2, -999.00,9,  -999.0,9,    -9.0,   7.597,2,   0.038,    4492,   0.0024,  10.6256,   0.0092,    0.14
 316N145_11,       I01W,     944,          1,         26,     SIH037,2,19950923,       2239,     8.5000,    71.1667,       3910,   551.1,  10.0098,  35.1685,2,  35.1608,2,     24.0,2,    25.3,2,   49.56,2,   34.92,2,    0.00,2,    2.60,2,   0.045,2,   0.021,2,  2271.0,2,  2344.5,2,   0.0618,2,   1.8056,2,    6.06,2, -999.00,9,  -999.0,9,    -9.0,   7.495,2,   0.037,    5505,   0.0023,   9.9445,   0.0090,    0.14
 316N145_11,       I01W,     944,          1,         25,     SI9446,3,19950923,       2239,     8.5000,    71.1667,       3910,   651.8,   9.2274,  35.1118,3,  35.1165,2,     26.0,2,    27.3,2,   57.45,2,   35.97,2,    0.01,2,    2.68,2,-999.000,9,-999.000,9,  2279.1,2,  2349.9,2,-999.0000,9,-999.0000,9, -999.00,9, -999.00,9,  -999.0,9,    -9.0,-999.000,9,-999.000,    6512,-999.0000,   9.1535,-999.0000, -999.00
 316N145_11,       I01W,     944,          1,         24,     SIH036,2,19950923,       2239,     8.5000,    71.1667,       3910,   752.1,   8.9046,  35.1480,2,  35.1490,2,     21.7,2,    22.3,2,   63.91,2,   36.44,2,    0.01,2,    2.76,2,   0.013,2,   0.004,2,  -999.0,9,  2358.5,2,   0.0300,2,   1.9000,2,   11.50,2, -999.00,9,  -999.0,9,    -9.0,   7.850,2,   0.157,    7516,   0.0023,   8.8206,   0.0090,    0.20
 316N145_11,       I01W,     944,          1,         23,     SIH001,2,19950923,       2239,     8.5000,    71.1667,       3910,   851.4,   8.2775,  35.1261,2,  35.1256,2,     23.4,2,    26.0,2,   71.80,2,   37.02,2,    0.00,2,    2.79,2,   0.006,2,   0.003,2,  2296.9,2,  2363.9,2,-999.0000,9,-999.0000,9, -999.00,9, -999.00,9,  -999.0,9,    -9.0,-999.000,9,-999.000,    8509,-999.0000,   8.1859,-999.0000, -999.00
 316N145_11,       I01W,     944,          1,         22,     SIH019,2,19950923,       2239,     8.5000,    71.1667,       3910,   877.3,   7.7268,  35.0386,2,  35.0348,2,     31.7,2,    35.2,2,   75.56,2,   37.44,2,    0.01,2,    2.79,2,   0.015,2,   0.007,2,  2298.2,2,  2364.7,2,   0.0118,2,   1.8820,2,   12.90,2, -999.00,9,  -999.0,9,    -9.0,   7.899,2,   0.158,    8768,   0.0022,   7.6360,   0.0090,    0.20
 316N145_11,       I01W,     944,          1,         21,     SIH025,2,19950923,       2239,     8.5000,    71.1667,       3910,   901.7,   7.6334,  35.0323,2,  35.0342,2,     34.9,2,    34.9,2,   76.80,2,   37.42,2,    0.01,2,    2.80,2,   0.005,2,  -0.001,2,  2299.4,2,  2367.6,2,-999.0000,9,   1.9090,2,   12.60,2, -999.00,9,  -999.0,9,    -9.0,   7.823,2,   0.156,    9012,-999.0000,   7.5404,   0.0100,    0.20
 316N145_11,       I01W,     944,          1,         20,     SIH004,2,19950923,       2239,     8.5000,    71.1667,       3910,   947.1,   7.7806,  35.1044,2,  35.1061,2,     28.6,2,    29.4,2,   76.97,2,   37.35,2,    0.01,2,    2.83,2,   0.007,2,   0.001,2,  2303.7,2,  2371.0,2,-999.0000,9,   1.9040,2,   12.10,2, -999.00,9,  -999.0,9,    -9.0,   7.859,2,   0.157,    9466,-999.0000,   7.6816,   0.0100,    0.20
 316N145_11,       I01W,     944,          1,         19,     SIH005,3,19950923,       2239,     8.5000,    71.1667,       3910,  1048.6,   6.9550,  35.0280,3,  35.0309,2,     37.7,2,    43.4,2,   84.67,2,   37.66,2,    0.01,2,    2.83,2,-999.000,9,-999.000,9,  -999.0,9,  -999.0,9,   0.0151,2,   1.8910,2,   10.80,2, -999.00,9,  -999.0,9,    -9.0,   7.930,2,   0.159,   10482,   0.0025,   6.8512,   0.0090,    0.20
 316N145_11,       I01W,     944,          1,         18,     SIH006,2,19950923,       2239,     8.5000,    71.1667,       3910,  1149.3,   6.2649,  34.9722,2,  34.9740,2,     48.5,2,    49.6,2,   91.85,2,   37.76,2,    0.01,2,    2.82,2,   0.002,2,  -0.002,2,  2311.4,2,  2385.8,2,-999.0000,9,   1.8730,2,   10.80,2, -999.00,9,  -999.0,9,    -9.0,   7.934,2,   0.159,   11489,-999.0000,   6.1562,   0.0090,    0.20
 316N145_11,       I01W,     944,          1,         17,     SIH038,2,19950923,       2239,     8.5000,    71.1667,       3910,  1249.4,   5.8147,  34.9504,2,  34.9496,2,     55.2,2,    58.5,2,   96.32,2,   37.80,2,    0.01,2,    2.82,2,-999.000,9,-999.000,9,  -999.0,9,  -999.0,9,   0.0026,2,   1.8409,2,   11.43,2, -999.00,9,  -999.0,9,    -9.0,   7.694,2,   0.038,   12491,   0.0022,   5.6999,   0.0092,    0.14
 316N145_11,       I01W,     944,          1,         16,     SIH008,2,19950923,       2239,     8.5000,    71.1667,       3910,  1350.6,   5.3129,  34.9253,2,  34.9262,2,     66.9,2,    65.0,2,  101.68,2,   37.73,2,    0.01,2,    2.81,2,   0.003,2,   0.001,2,  -999.0,9,  -999.0,9,-999.0000,9,   1.8780,2,   11.60,2, -999.00,9,  -999.0,9,    -9.0,   8.126,2,   0.163,   13503,-999.0000,   5.1930,   0.0090,    0.20
 316N145_11,       I01W,     944,          1,         15,     SIH009,2,19950923,       2239,     8.5000,    71.1667,       3910,  1502.2,   4.6747,  34.8968,2,  34.8989,2,     77.6,2,    77.3,2,  107.77,2,   37.52,2,    0.00,2,    2.77,2,-999.000,9,-999.000,9,  2320.4,2,  2399.3,2,   0.0018,2,   1.9220,2,   13.10,2, -999.00,9,  -999.0,9,    -9.0,   8.189,2,   0.164,   15021,   0.0022,   4.5469,   0.0100,    0.20
 316N145_11,       I01W,     944,          1,         14,     SIH010,2,19950923,       2239,     8.5000,    71.1667,       3910,  1704.0,   3.7575,  34.8443,2,  34.8456,2,     95.3,2,    93.6,2,  118.70,2,   37.13,2,    0.00,2,    2.73,2,-999.000,9,-999.000,9,  -999.0,9,  -999.0,9,-999.0000,9,   1.9090,2,   12.90,2, -999.00,9,  -999.0,9,    -9.0,   8.122,2,   0.162,   17040,-999.0000,   3.6219,   0.0100,    0.20
 316N145_11,       I01W,     944,          1,         13,     SIH011,3,19950923,       2239,     8.5000,    71.1667,       3910,  1900.9,   3.1158,  34.8107,3,  34.8123,2,    113.1,2,   111.5,2,  123.36,2,   36.53,2,    0.00,2,    2.66,2,-999.000,9,-999.000,9,  2321.9,2,  2411.8,2,-999.0000,9,   2.0160,2,   14.40,2, -999.00,9,  -999.0,9,    -9.0,   8.108,2,   0.162,   19010,-999.0000,   2.9709,   0.0100,    0.20
 316N145_11,       I01W,     944,          1,         12,     SIH012,2,19950923,       2239,     8.5000,    71.1667,       3910,  2102.8,   2.6635,  34.7880,2,  34.7870,2,    125.3,2,   123.7,2,  128.18,2,   36.20,2,    0.00,2,    2.60,2,   0.001,2,   0.000,2,  -999.0,9,  -999.0,9,-999.0000,9,   2.0030,2,   15.00,2, -999.00,9,  -999.0,9,    -9.0,   8.287,2,   0.166,   21030,-999.0000,   2.5072,   0.0100,    0.20
 316N145_11,       I01W,     944,          1,         11,     SI9426,2,19950923,       2239,     8.5000,    71.1667,       3910,  2301.1,   2.3342,  34.7710,2,  34.7732,2,    133.1,2,   132.2,2,  131.75,2,   35.86,2,    0.01,2,    2.56,2,-999.000,9,-999.000,9,  -999.0,9,  -999.0,9,-999.0000,9,   1.9530,2,   15.30,2, -999.00,9,  -999.0,9,    -9.0,   8.251,2,   0.165,   23014,-999.0000,   2.1656,   0.0100,    0.20
 316N145_11,       I01W,     944,          1,         10,     SIH014,2,19950923,       2239,     8.5000,    71.1667,       3910,  2503.8,   2.1028,  34.7593,2,  34.7606,2,    139.9,2,   139.4,2,  134.43,2,   35.69,2,    0.00,2,    2.54,2,-999.000,9,-999.000,9,  2321.2,2,  2425.3,2,-999.0000,9,   1.9400,2,   15.20,2, -999.00,9,  -999.0,9,    -9.0,   8.318,2,   0.166,   25043,-999.0000,   1.9198,   0.0100,    0.20
 316N145_11,       I01W,     944,          1,          9,     SIH015,2,19950923,       2239,     8.5000,    71.1667,       3910,  2700.6,   1.9437,  34.7509,2,  34.7510,2,    146.1,2,   145.1,2,  135.48,2,   35.41,2,    0.01,2,    2.50,2,-999.000,9,-999.000,9,  -999.0,9,  -999.0,9,-999.0000,9,   1.9710,2,   15.50,2, -999.00,9,  -999.0,9,    -9.0,   8.434,2,   0.169,   27013,-999.0000,   1.7455,   0.0100,    0.20
 316N145_11,       I01W,     944,          1,          8,     SIH016,2,19950923,       2239,     8.5000,    71.1667,       3910,  2903.1,   1.8143,  34.7444,2,  34.7445,2,    151.5,2,   150.9,2,  136.54,2,   35.14,2,    0.00,2,    2.47,2,   0.000,2,  -0.002,2,  -999.0,9,  -999.0,9,-999.0000,9,   1.9490,2,   14.10,2, -999.00,9,  -999.0,9,    -9.0,   8.478,2,   0.170,   29039,-999.0000,   1.5996,   0.0100,    0.20
 316N145_11,       I01W,     944,          1,          7,     SIH017,2,19950923,       2239,     8.5000,    71.1667,       3910,  3102.3,   1.7578,  34.7411,2,  34.7425,2,    153.0,2,   153.5,2,  136.87,2,   35.02,2,    0.00,2,    2.48,2,   0.002,2,  -0.001,2,  2317.5,2,  2427.9,2,-999.0000,9,   1.9760,2,   13.70,2, -999.00,9,  -999.0,9,    -9.0,   8.349,2,   0.167,   31033,-999.0000,   1.5250,   0.0100,    0.20
 316N145_11,       I01W,     944,          1,          6,     SIH018,2,19950923,       2239,     8.5000,    71.1667,       3910,  3301.2,   1.7089,  34.7371,2,  34.7368,2,    156.5,2,   156.8,2,  137.21,2,   35.01,2,    0.00,2,    2.46,2,-999.000,9,-999.000,9,  -999.0,9,  -999.0,9,-999.0000,9,   1.9180,2,   12.10,2, -999.00,9,  -999.0,9,    -9.0,   8.519,2,   0.170,   33023,-999.0000,   1.4576,   0.0100,    0.20
 316N145_11,       I01W,     944,          1,          5,     SIH002,2,19950923,       2239,     8.5000,    71.1667,       3910,  3504.0,   1.6993,  34.7352,2,  34.7360,2,    158.6,2,   158.3,2,  137.55,2,   34.94,2,    0.00,2,    2.45,2,-999.000,9,-999.000,9,  -999.0,9,  -999.0,9,-999.0000,9,   1.9670,2,   12.20,2, -999.00,9,  -999.0,9,    -9.0,   8.412,2,   0.168,   35053,-999.0000,   1.4275,   0.0100,    0.20
 316N145_11,       I01W,     944,          1,          4,     SIH020,2,19950923,       2239,     8.5000,    71.1667,       3910,  3698.0,   1.7025,  34.7357,2,  34.7362,2,    157.9,2,   158.3,2,  137.71,2,   34.87,2,    0.01,2,    2.44,2,-999.000,9,-999.000,9,  -999.0,9,  -999.0,9,-999.0000,9,   1.9580,2,   14.00,2, -999.00,9,  -999.0,9,    -9.0,   8.474,2,   0.169,   36994,-999.0000,   1.4103,   0.0100,    0.20
 316N145_11,       I01W,     944,          1,          3,     SIH021,2,19950923,       2239,     8.5000,    71.1667,       3910,  3820.3,   1.7020,  34.7351,2,  34.7353,2,    158.0,2,   157.8,2,  138.41,2,   34.97,2,    0.00,2,    2.46,2,  -0.001,2,  -0.001,2,  -999.0,9,  -999.0,9,-999.0000,9,   1.9530,2,   11.50,2, -999.00,9,  -999.0,9,    -9.0,   8.367,2,   0.167,   38217,-999.0000,   1.3967,   0.0100,    0.20
 316N145_11,       I01W,     944,          1,          2,     SIH022,2,19950923,       2239,     8.5000,    71.1667,       3910,  3922.2,   1.6972,  34.7342,2,  34.7366,2,    158.0,2,   157.4,2,  138.75,2,   35.01,2,    0.00,2,    2.46,2,   0.002,2,  -0.002,2,  2319.1,2,  2434.8,2,-999.0000,9,-999.0000,9, -999.00,9, -999.00,9,  -999.0,9,    -9.0,-999.000,9,-999.000,   39237,-999.0000,   1.3810,-999.0000, -999.00
 316N145_11,       I01W,     944,          1,          1,     SIH023,2,19950923,       2239,     8.5000,    71.1667,       3910,  3972.6,   1.6953,  34.7355,2,  34.7335,2,    154.2,2,   157.1,2,  139.40,2,   35.00,2,    0.00,2,    2.46,2,   0.000,2,   0.001,2,  -999.0,9,  -999.0,9,-999.0000,9,   1.9710,2,   11.90,2, -999.00,9,  -999.0,9,    -9.0,   8.385,2,   0.168,   39742,-999.0000,   1.3736,   0.0100,    0.20