BOTTLE,20211119CCHSIORKP
EXPOCODE,SECT_ID,STNNBR,CASTNO,SAMPNO,BTLNBR,BTLNBR_FLAG_W,DATE,TIME,LATITUDE,LONGITUDE,DEPTH,CTDPRS,CTDTMP,CTDSAL,CTDSAL_FLAG_W,SALNTY,SALNTY_FLAG_W,CTDOXY,CTDOXY_FLAG_W,OXYGEN,OXYGEN_FLAG_W,SILCAT,SILCAT_FLAG_W,NITRAT,NITRAT_FLAG_W,NITRIT,NITRIT_FLAG_W,PHSPHT,PHSPHT_FLAG_W,CFC-11,CFC-11_FLAG_W,CFC-12,CFC-12_FLAG_W,TCARBN,TCARBN_FLAG_W,ALKALI,ALKALI_FLAG_W,TRITUM,TRITUM_FLAG_W,HELIUM,HELIUM_FLAG_W,DELHE3,DELHE3_FLAG_W,DELC13,DELC13_FLAG_W,DELC14,DELC14_FLAG_W,C14ERR,NEON,NEON_FLAG_W,NEONER,CTDRAW,TRITER,THETA,HELIER,DELHER
,,,,,,,,,,,METERS,DBAR,ITS-90,PSS-78,,PSS-78,,UMOL/KG,,UMOL/KG,,UMOL/KG,,UMOL/KG,,UMOL/KG,,UMOL/KG,,PMOL/KG,,PMOL/KG,,UMOL/KG,,UMOL/KG,,TU,,NMOL/KG,,PERCNT,,/MILLE,,/MILLE,,/MILLE,NMOL/KG,,NMOL/KG,DBAR,TU,DEG C,NMOL/KG,PERCNT
 316N145_11,       I01W,     879,          1,         28,     SIH032,2,19950906,       1919,    12.6667,    47.0195,       2005,     4.7,  30.2769,  36.5241,2,  36.5262,2,    200.4,2,   203.8,2,    2.04,2,    0.04,2,    0.00,2,    0.25,2,   1.501,2,   0.894,2,  2007.6,2,  2386.0,2,-999.0000,9,-999.0000,9, -999.00,9, -999.00,9,  -999.0,9,    -9.0,-999.000,9,-999.000,      19,-999.0000,  30.2757,-999.0000, -999.00
 316N145_11,       I01W,     879,          1,         27,     SIH033,2,19950906,       1919,    12.6667,    47.0195,       2005,    28.3,  29.6601,  36.5281,2,  36.5232,2,    194.6,2,   195.5,2,    2.43,2,    0.03,2,    0.01,2,    0.27,2,   1.556,3,   0.891,2,  2012.0,2,  2384.1,2,-999.0000,9,-999.0000,9, -999.00,9, -999.00,9,  -999.0,9,    -9.0,-999.000,9,-999.000,     255,-999.0000,  29.6531,-999.0000, -999.00
 316N145_11,       I01W,     879,          1,         26,     SIH037,2,19950906,       1919,    12.6667,    47.0195,       2005,    59.3,  20.0824,  35.7747,2,  35.7703,2,     35.5,2,    54.5,2,   14.50,2,   21.61,2,    0.13,2,    1.72,2,   1.303,2,   0.743,2,  2184.4,2,  2334.2,2,-999.0000,9,-999.0000,9, -999.00,9, -999.00,9,  -999.0,9,    -9.0,-999.000,9,-999.000,     565,-999.0000,  20.0713,-999.0000, -999.00
 316N145_11,       I01W,     879,          1,         25,     SI9446,2,19950906,       1919,    12.6667,    47.0195,       2005,    89.2,  16.6116,  35.6496,2,  35.6646,2,     10.2,2,    22.2,2,   21.13,2,   25.87,2,    0.05,2,    2.09,2,   0.961,2,   0.536,2,  2228.6,2,  2331.8,2,-999.0000,9,-999.0000,9, -999.00,9, -999.00,9,  -999.0,9,    -9.0,-999.000,9,-999.000,     864,-999.0000,  16.5970,-999.0000, -999.00
 316N145_11,       I01W,     879,          1,         24,     SIH036,2,19950906,       1919,    12.6667,    47.0195,       2005,   119.4,  15.7696,  35.6354,2,  35.6336,2,     10.7,2,    23.8,2,   23.08,2,   26.26,2,    0.03,2,    2.11,2,-999.000,9,-999.000,9,  -999.0,9,  -999.0,9,-999.0000,9,-999.0000,9, -999.00,9, -999.00,9,  -999.0,9,    -9.0,-999.000,9,-999.000,    1167,-999.0000,  15.7508,-999.0000, -999.00
 316N145_11,       I01W,     879,          1,         23,     SIH001,2,19950906,       1919,    12.6667,    47.0195,       2005,   148.2,  15.6528,  35.7473,2,  35.7479,2,     18.9,2,    26.8,2,   23.27,2,   25.49,2,    0.01,2,    2.06,2,-999.000,9,-999.000,9,  2232.9,2,  2336.1,2,-999.0000,9,-999.0000,9, -999.00,9, -999.00,9,  -999.0,9,    -9.0,-999.000,9,-999.000,    1454,-999.0000,  15.6296,-999.0000, -999.00
 316N145_11,       I01W,     879,          1,         22,     SIH019,2,19950906,       1919,    12.6667,    47.0195,       2005,   178.3,  15.2839,  35.8092,2,  35.8117,2,     22.6,2,    27.8,2,   24.45,2,   25.69,2,    0.01,2,    2.06,2,   0.736,2,   0.412,2,  -999.0,9,  -999.0,9,-999.0000,9,-999.0000,9, -999.00,9, -999.00,9,  -999.0,9,    -9.0,-999.000,9,-999.000,    1756,-999.0000,  15.2564,-999.0000, -999.00
 316N145_11,       I01W,     879,          1,         21,     SIH025,2,19950906,       1919,    12.6667,    47.0195,       2005,   198.9,  14.8502,  35.8350,2,  35.8433,2,     22.0,2,    25.2,2,   25.82,2,   26.76,2,    0.01,2,    2.07,2,-999.000,9,-999.000,9,  2239.2,2,  2341.2,2,-999.0000,9,-999.0000,9, -999.00,9, -999.00,9,  -999.0,9,    -9.0,-999.000,9,-999.000,    1962,-999.0000,  14.8201,-999.0000, -999.00
 316N145_11,       I01W,     879,          1,         20,     SIH004,2,19950906,       1919,    12.6667,    47.0195,       2005,   249.4,  15.0222,  36.0161,2,  36.0256,2,     23.6,2,    26.4,2,   26.22,2,   26.54,2,    0.01,2,    2.06,2,   0.633,2,   0.349,2,  -999.0,9,  -999.0,9,-999.0000,9,-999.0000,9, -999.00,9, -999.00,9,  -999.0,9,    -9.0,-999.000,9,-999.000,    2467,-999.0000,  14.9840,-999.0000, -999.00
 316N145_11,       I01W,     879,          1,         19,     SIH005,2,19950906,       1919,    12.6667,    47.0195,       2005,   299.5,  14.9360,  36.1132,2,  36.1142,2,     24.7,2,    27.8,2,   27.58,2,   26.75,2,    0.01,2,    2.06,2,-999.000,9,-999.000,9,  2241.2,2,  2380.0,4,-999.0000,9,-999.0000,9, -999.00,9, -999.00,9,  -999.0,9,    -9.0,-999.000,9,-999.000,    2967,-999.0000,  14.8903,-999.0000, -999.00
 316N145_11,       I01W,     879,          1,         18,     SIH006,2,19950906,       1919,    12.6667,    47.0195,       2005,   399.5,  15.0747,  36.3522,2,  36.3659,2,     28.1,2,    28.4,2,   28.95,2,   26.32,2,    0.01,2,    2.04,2,-999.000,9,-999.000,9,  -999.0,9,  -999.0,9,-999.0000,9,-999.0000,9, -999.00,9, -999.00,9,  -999.0,9,    -9.0,-999.000,9,-999.000,    3968,-999.0000,  15.0129,-999.0000, -999.00
 316N145_11,       I01W,     879,          1,         17,     SIH038,2,19950906,       1919,    12.6667,    47.0195,       2005,   499.7,  15.0784,  36.5192,2,  36.5278,2,     31.1,2,    29.9,2,   31.49,2,   26.28,2, -999.00,9,    2.06,2,   0.529,2,   0.292,2,  2242.2,2,  2364.7,2,-999.0000,9,-999.0000,9, -999.00,9, -999.00,9,  -999.0,9,    -9.0,-999.000,9,-999.000,    4971,-999.0000,  15.0008,-999.0000, -999.00
 316N145_11,       I01W,     879,          1,         16,     SIH008,2,19950906,       1919,    12.6667,    47.0195,       2005,   599.8,  14.2181,  36.4104,2,  36.4134,2,     26.4,2,    26.3,2,   36.76,2,   27.55,2, -999.00,9,    2.17,2,-999.000,9,-999.000,9,  -999.0,9,  -999.0,9,-999.0000,9,-999.0000,9, -999.00,9, -999.00,9,  -999.0,9,    -9.0,-999.000,9,-999.000,    5973,-999.0000,  14.1283,-999.0000, -999.00
 316N145_11,       I01W,     879,          1,         15,     SIH009,2,19950906,       1919,    12.6667,    47.0195,       2005,   700.2,  13.4671,  36.3197,2,  36.3221,2,     22.3,2,    24.3,2,   42.83,2,   28.87,2, -999.00,9,    2.27,2,-999.000,9,-999.000,9,  2260.3,2,  2370.6,2,-999.0000,9,-999.0000,9, -999.00,9, -999.00,9,  -999.0,9,    -9.0,-999.000,9,-999.000,    6978,-999.0000,  13.3655,-999.0000, -999.00
 316N145_11,       I01W,     879,          1,         14,     SIH010,2,19950906,       1919,    12.6667,    47.0195,       2005,   800.1,  12.9841,  36.3056,2,  36.3045,2,     22.0,2,    24.4,2,   47.91,2,   29.67,2,    0.00,2,    2.33,2,-999.000,9,-999.000,9,  -999.0,9,  -999.0,9,-999.0000,9,-999.0000,9, -999.00,9, -999.00,9,  -999.0,9,    -9.0,-999.000,9,-999.000,    7979,-999.0000,  12.8703,-999.0000, -999.00
 316N145_11,       I01W,     879,          1,         13,     SIH011,2,19950906,       1919,    12.6667,    47.0195,       2005,   899.7,  12.4063,  36.2437,2,  36.2444,2,     22.0,2,    24.6,2,   53.00,2,   30.40,2,    0.00,2,    2.38,2,   0.268,2,   0.144,2,  2274.2,2,  2362.7,2,-999.0000,9,-999.0000,9, -999.00,9, -999.00,9,  -999.0,9,    -9.0,-999.000,9,-999.000,    8975,-999.0000,  12.2816,-999.0000, -999.00
 316N145_11,       I01W,     879,          1,         12,     SIH012,2,19950906,       1919,    12.6667,    47.0195,       2005,   999.4,   9.8941,  35.6988,2,  35.6994,2,     20.3,2,    23.6,2,   68.08,2,   33.97,2,    0.00,2,    2.65,2,-999.000,9,-999.000,9,  -999.0,9,  -999.0,9,-999.0000,9,-999.0000,9, -999.00,9, -999.00,9,  -999.0,9,    -9.0,-999.000,9,-999.000,    9974,-999.0000,   9.7733,-999.0000, -999.00
 316N145_11,       I01W,     879,          1,         11,     SI9426,2,19950906,       1919,    12.6667,    47.0195,       2005,  1104.5,  10.1626,  35.8322,2,  35.8364,2,     23.5,2,    25.0,2,   68.09,2,   33.33,2,    0.00,2,    2.60,2,   0.151,2,   0.080,2,  2295.5,2,  2367.2,2,-999.0000,9,-999.0000,9, -999.00,9, -999.00,9,  -999.0,9,    -9.0,-999.000,9,-999.000,   11026,-999.0000,  10.0260,-999.0000, -999.00
 316N145_11,       I01W,     879,          1,         10,     SIH014,2,19950906,       1919,    12.6667,    47.0195,       2005,  1203.5,   9.1598,  35.6529,2,  35.6607,2,     26.3,2,    25.9,2,   75.35,2,   34.39,2,    0.00,2,    2.69,2,-999.000,9,-999.000,9,  -999.0,9,  -999.0,9,-999.0000,9,-999.0000,9, -999.00,9, -999.00,9,  -999.0,9,    -9.0,-999.000,9,-999.000,   12018,-999.0000,   9.0191,-999.0000, -999.00
 316N145_11,       I01W,     879,          1,          9,     SIH015,2,19950906,       1919,    12.6667,    47.0195,       2005,  1302.2,   8.2664,  35.4982,2,  35.5001,2,     30.2,2,    29.6,2,   82.41,2,   35.29,2,    0.00,2,    2.75,2,   0.075,2,   0.040,2,  2313.5,2,  2386.2,2,-999.0000,9,-999.0000,9, -999.00,9, -999.00,9,  -999.0,9,    -9.0,-999.000,9,-999.000,   13006,-999.0000,   8.1220,-999.0000, -999.00
 316N145_11,       I01W,     879,          1,          8,     SIH016,2,19950906,       1919,    12.6667,    47.0195,       2005,  1401.4,   7.2403,  35.3307,2,  35.3323,2,     35.7,2,    36.7,2,   91.44,2,   36.10,2,    0.00,2,    2.81,2,   0.041,2,   0.021,2,  -999.0,9,  -999.0,9,-999.0000,9,-999.0000,9, -999.00,9, -999.00,9,  -999.0,9,    -9.0,-999.000,9,-999.000,   14000,-999.0000,   7.0946,-999.0000, -999.00
 316N145_11,       I01W,     879,          1,          7,     SIH017,2,19950906,       1919,    12.6667,    47.0195,       2005,  1500.7,   5.9490,  35.1416,2,  35.1494,2,     45.3,2,    47.7,2,  104.40,2,   36.84,2,    0.00,2,    2.85,2,-999.000,9,-999.000,9,  2333.8,2,  2388.4,2,-999.0000,9,-999.0000,9, -999.00,9, -999.00,9,  -999.0,9,    -9.0,-999.000,9,-999.000,   14995,-999.0000,   5.8065,-999.0000, -999.00
 316N145_11,       I01W,     879,          1,          6,     SIH018,2,19950906,       1919,    12.6667,    47.0195,       2005,  1599.6,   5.1117,  35.0450,2,  35.0482,2,     55.3,2,    56.3,2,  115.20,2,   37.00,2,    0.00,2,    2.86,2,-999.000,9,-999.000,9,  -999.0,9,  -999.0,9,-999.0000,9,-999.0000,9, -999.00,9, -999.00,9,  -999.0,9,    -9.0,-999.000,9,-999.000,   15986,-999.0000,   4.9689,-999.0000, -999.00
 316N145_11,       I01W,     879,          1,          5,     SIH002,2,19950906,       1919,    12.6667,    47.0195,       2005,  1800.0,   3.8924,  34.9216,2,  34.9221,2,     71.9,2,    75.0,2,  131.88,2,   36.90,2,    0.00,2,    2.82,2,-999.000,9,-999.000,9,  2356.7,2,  2428.8,2,-999.0000,9,-999.0000,9, -999.00,9, -999.00,9,  -999.0,9,    -9.0,-999.000,9,-999.000,   17994,-999.0000,   3.7457,-999.0000, -999.00
 316N145_11,       I01W,     879,          1,          3,     SIH021,2,19950906,       1919,    12.6667,    47.0195,       2005,  1950.4,   3.4214,  34.8780,2,  34.8786,2,     79.9,2,    80.5,2,  138.81,2,   36.64,2,    0.00,2,    2.81,2,-999.000,9,-999.000,9,  -999.0,9,  -999.0,9,-999.0000,9,-999.0000,9, -999.00,9, -999.00,9,  -999.0,9,    -9.0,-999.000,9,-999.000,   19501,-999.0000,   3.2674,-999.0000, -999.00
 316N145_11,       I01W,     879,          1,          4,     SIH020,2,19950906,       1919,    12.6667,    47.0195,       2005,  1950.5,   3.4302,  34.8775,2,  34.8774,2,     79.9,2,    81.2,2,  138.77,2,   36.64,2,    0.00,2,    2.81,2,   0.003,2,   0.013,2,  -999.0,9,  -999.0,9,-999.0000,9,-999.0000,9, -999.00,9, -999.00,9,  -999.0,9,    -9.0,-999.000,9,-999.000,   19502,-999.0000,   3.2760,-999.0000, -999.00
 316N145_11,       I01W,     879,          1,          1,     SIH023,2,19950906,       1919,    12.6667,    47.0195,       2005,  1994.3,   3.3904,  34.8746,2,  34.8755,2,     81.4,2,    82.7,2,  139.60,2,   36.73,2,    0.00,2,    2.80,2,-999.000,9,-999.000,9,  -999.0,9,  -999.0,9,-999.0000,9,-999.0000,9, -999.00,9, -999.00,9,  -999.0,9,    -9.0,-999.000,9,-999.000,   19941,-999.0000,   3.2328,-999.0000, -999.00
 316N145_11,       I01W,     879,          1,          2,     SIH022,2,19950906,       1919,    12.6667,    47.0195,       2005,  1994.6,   3.3875,  34.8738,2,  34.8751,2,     81.4,2,    81.9,2,  139.24,2,   36.69,2,    0.00,2,    2.81,2,   0.004,2,   0.011,2,  2362.1,2,  2422.3,2,-999.0000,9,-999.0000,9, -999.00,9, -999.00,9,  -999.0,9,    -9.0,-999.000,9,-999.000,   19943,-999.0000,   3.2298,-999.0000, -999.00