BOTTLE,20211119CCHSIORKP
EXPOCODE,SECT_ID,STNNBR,CASTNO,SAMPNO,BTLNBR,BTLNBR_FLAG_W,DATE,TIME,LATITUDE,LONGITUDE,DEPTH,CTDPRS,CTDTMP,CTDSAL,CTDSAL_FLAG_W,SALNTY,SALNTY_FLAG_W,CTDOXY,CTDOXY_FLAG_W,OXYGEN,OXYGEN_FLAG_W,SILCAT,SILCAT_FLAG_W,NITRAT,NITRAT_FLAG_W,NITRIT,NITRIT_FLAG_W,PHSPHT,PHSPHT_FLAG_W,CFC-11,CFC-11_FLAG_W,CFC-12,CFC-12_FLAG_W,TCARBN,TCARBN_FLAG_W,ALKALI,ALKALI_FLAG_W,TRITUM,TRITUM_FLAG_W,HELIUM,HELIUM_FLAG_W,DELHE3,DELHE3_FLAG_W,DELC13,DELC13_FLAG_W,DELC14,DELC14_FLAG_W,C14ERR,NEON,NEON_FLAG_W,NEONER,CTDRAW,TRITER,THETA,HELIER,DELHER
,,,,,,,,,,,METERS,DBAR,ITS-90,PSS-78,,PSS-78,,UMOL/KG,,UMOL/KG,,UMOL/KG,,UMOL/KG,,UMOL/KG,,UMOL/KG,,PMOL/KG,,PMOL/KG,,UMOL/KG,,UMOL/KG,,TU,,NMOL/KG,,PERCNT,,/MILLE,,/MILLE,,/MILLE,NMOL/KG,,NMOL/KG,DBAR,TU,DEG C,NMOL/KG,PERCNT
 316N145_11,       I01W,     938,          1,         36,     SIH024,2,19950922,       0553,     8.5000,    67.8833,       4575,     5.5,  28.4905,  36.7354,2,  36.7441,2,    205.2,2,   209.8,2,    1.80,2,    0.08,2,    0.00,2,    0.26,2,   1.617,2,   0.951,2,  2021.0,2,  2403.1,2,-999.0000,9,-999.0000,9, -999.00,9, -999.00,9,  -999.0,9,    -9.0,-999.000,9,-999.000,      49,-999.0000,  28.4892,-999.0000, -999.00
 316N145_11,       I01W,     938,          1,         35,     SIH003,2,19950922,       0553,     8.5000,    67.8833,       4575,    30.1,  28.2685,  36.7464,2,  36.7458,2,    211.2,2,   209.5,2,    1.61,2,    0.00,2,    0.00,2,    0.26,2,-999.000,9,-999.000,9,  2021.5,2,  2402.7,2,-999.0000,9,-999.0000,9, -999.00,9, -999.00,9,  -999.0,9,    -9.0,-999.000,9,-999.000,     294,-999.0000,  28.2613,-999.0000, -999.00
 316N145_11,       I01W,     938,          1,         34,     SIH026,2,19950922,       0553,     8.5000,    67.8833,       4575,    59.0,  28.0650,  36.7565,2,  36.7353,2,    207.5,2,   208.6,2,    1.61,2,    0.03,2,    0.00,2,    0.28,2,   1.621,2,   0.958,2,  2024.3,2,  2400.6,2,-999.0000,9,-999.0000,9, -999.00,9, -999.00,9,  -999.0,9,    -9.0,-999.000,9,-999.000,     583,-999.0000,  28.0510,-999.0000, -999.00
 316N145_11,       I01W,     938,          1,         33,     SIH027,2,19950922,       0553,     8.5000,    67.8833,       4575,    89.9,  27.6405,  36.6670,2,  36.5852,2,    137.4,2,   164.9,2,    2.88,2,    4.65,2,    0.57,2,    0.60,2,   1.624,2,   0.953,2,  2057.5,3,  2386.5,2,-999.0000,9,-999.0000,9, -999.00,9, -999.00,9,  -999.0,9,    -9.0,-999.000,9,-999.000,     892,-999.0000,  27.6194,-999.0000, -999.00
 316N145_11,       I01W,     938,          1,         32,     SIH028,2,19950922,       0553,     8.5000,    67.8833,       4575,   119.4,  20.2085,  35.7301,2,  35.6607,2,      1.3,2,     4.9,2,   16.66,2,   25.94,2,    0.00,2,    2.09,2,-999.000,9,-999.000,9,  2205.1,2,  2333.4,2,-999.0000,9,-999.0000,9, -999.00,9, -999.00,9,  -999.0,9,    -9.0,-999.000,9,-999.000,    1188,-999.0000,  20.1863,-999.0000, -999.00
 316N145_11,       I01W,     938,          1,         31,     SIH029,2,19950922,       0553,     8.5000,    67.8833,       4575,   149.1,  16.9010,  35.4074,2,  35.4064,2,      0.9,2,     2.3,2,   23.38,2,   26.60,2,    0.00,2,    2.25,2,   0.639,2,   0.370,2,  2226.2,2,  2327.9,2,-999.0000,9,-999.0000,9, -999.00,9, -999.00,9,  -999.0,9,    -9.0,-999.000,9,-999.000,    1485,-999.0000,  16.8765,-999.0000, -999.00
 316N145_11,       I01W,     938,          1,         30,     SIH030,2,19950922,       0553,     8.5000,    67.8833,       4575,   199.3,  14.3331,  35.3241,2,  35.3248,2,     15.1,2,    15.7,2,   25.19,2,   28.18,2,   -0.01,2,    2.21,2,-999.000,9,-999.000,9,  2234.1,2,  2326.7,2,-999.0000,9,-999.0000,9, -999.00,9, -999.00,9,  -999.0,9,    -9.0,-999.000,9,-999.000,    1987,-999.0000,  14.3037,-999.0000, -999.00
 316N145_11,       I01W,     938,          1,         29,     SIH031,2,19950922,       0553,     8.5000,    67.8833,       4575,   250.0,  12.8536,  35.2881,2,  35.2836,2,     17.6,2,    17.0,2,   28.10,2,   30.25,2,   -0.01,2,    2.26,2,   0.334,2,   0.183,2,  2245.4,2,  2328.4,2,-999.0000,9,-999.0000,9, -999.00,9, -999.00,9,  -999.0,9,    -9.0,-999.000,9,-999.000,    2494,-999.0000,  12.8193,-999.0000, -999.00
 316N145_11,       I01W,     938,          1,         28,     SIH032,3,19950922,       0553,     8.5000,    67.8833,       4575,   299.6,  11.9126,  35.2268,3,  35.2351,2,     29.7,2,    31.6,2,   29.92,2,   30.81,2,    0.00,2,    2.23,2,   0.310,2,   0.164,2,  2241.1,2,  2328.4,2,-999.0000,9,-999.0000,9, -999.00,9, -999.00,9,  -999.0,9,    -9.0,-999.000,9,-999.000,    2990,-999.0000,  11.8734,-999.0000, -999.00
 316N145_11,       I01W,     938,          1,         27,     SIH033,3,19950922,       0553,     8.5000,    67.8833,       4575,   350.1,  11.4473,  35.2317,3,  35.2310,2,     26.9,2,    27.6,2,   33.73,2,   32.12,2,   -0.01,2,    2.33,2,-999.000,9,-999.000,9,  2248.6,2,  2330.7,2,-999.0000,9,-999.0000,9, -999.00,9, -999.00,9,  -999.0,9,    -9.0,-999.000,9,-999.000,    3495,-999.0000,  11.4026,-999.0000, -999.00
 316N145_11,       I01W,     938,          1,         26,     SIH037,2,19950922,       0553,     8.5000,    67.8833,       4575,   449.6,  10.7264,  35.2348,2,  35.2355,2,     20.0,2,    20.9,2,   42.08,2,   33.60,2,   -0.01,2,    2.51,2,-999.000,9,-999.000,9,  2262.8,2,  2339.3,2,-999.0000,9,-999.0000,9, -999.00,9, -999.00,9,  -999.0,9,    -9.0,-999.000,9,-999.000,    4491,-999.0000,  10.6710,-999.0000, -999.00
 316N145_11,       I01W,     938,          1,         25,     SI9446,3,19950922,       0553,     8.5000,    67.8833,       4575,   546.1,  10.2664,  35.2452,3,  35.2471,2,     19.3,2,    20.0,2,   48.62,2,   34.41,2,    0.00,2,    2.59,2,   0.051,2,   0.029,2,  2271.6,2,  2346.6,2,-999.0000,9,-999.0000,9, -999.00,9, -999.00,9,  -999.0,9,    -9.0,-999.000,9,-999.000,    5456,-999.0000,  10.2008,-999.0000, -999.00
 316N145_11,       I01W,     938,          1,         24,     SIH036,2,19950922,       0553,     8.5000,    67.8833,       4575,   646.6,   9.2609,  35.1497,2,  35.1490,2,     21.8,2,    22.1,2,   58.79,2,   35.67,2,    0.00,2,    2.69,2,   0.018,2,   0.008,2,  2282.5,2,  2353.3,2,-999.0000,9,-999.0000,9, -999.00,9, -999.00,9,  -999.0,9,    -9.0,-999.000,9,-999.000,    6462,-999.0000,   9.1874,-999.0000, -999.00
 316N145_11,       I01W,     938,          1,         23,     SIH001,2,19950922,       0553,     8.5000,    67.8833,       4575,   746.8,   8.6761,  35.1216,2,  35.1203,2,     26.9,2,    26.6,2,   65.33,2,   36.34,2,    0.00,2,    2.73,2,-999.000,9,-999.000,9,  2289.5,2,  2358.8,2,-999.0000,9,-999.0000,9, -999.00,9, -999.00,9,  -999.0,9,    -9.0,-999.000,9,-999.000,    7464,-999.0000,   8.5940,-999.0000, -999.00
 316N145_11,       I01W,     938,          1,         22,     SIH019,2,19950922,       0553,     8.5000,    67.8833,       4575,   848.0,   7.8761,  35.0542,2,  35.0577,2,     32.0,2,    31.4,2,   73.87,2,   37.00,2,    0.00,2,    2.77,2,   0.002,2,   0.001,2,  2298.8,2,  2365.8,2,-999.0000,9,-999.0000,9, -999.00,9, -999.00,9,  -999.0,9,    -9.0,-999.000,9,-999.000,    8476,-999.0000,   7.7874,-999.0000, -999.00
 316N145_11,       I01W,     938,          1,         21,     SIH025,3,19950922,       0553,     8.5000,    67.8833,       4575,   948.2,   7.4309,  35.0783,3,  35.0677,2,     37.5,2,    34.0,2,   80.23,2,   37.25,2,    0.01,2,    2.80,2,-999.000,9,-999.000,9,  2305.8,2,  2376.3,2,-999.0000,9,-999.0000,9, -999.00,9, -999.00,9,  -999.0,9,    -9.0,-999.000,9,-999.000,    9479,-999.0000,   7.3341,-999.0000, -999.00
 316N145_11,       I01W,     938,          1,         20,     SIH004,2,19950922,       0553,     8.5000,    67.8833,       4575,  1098.9,   6.4073,  34.9676,2,  34.9642,2,     48.7,2,    48.0,2,   90.05,2,   37.47,2,    0.01,2,    2.81,2,   0.001,2,   0.000,2,  -999.0,9,  -999.0,9,-999.0000,9,-999.0000,9, -999.00,9, -999.00,9,  -999.0,9,    -9.0,-999.000,9,-999.000,   10986,-999.0000,   6.3026,-999.0000, -999.00
 316N145_11,       I01W,     938,          1,         19,     SIH005,3,19950922,       0553,     8.5000,    67.8833,       4575,  1300.6,   5.7301,  34.9658,3,  34.9628,2,     56.2,2,    55.8,2,   97.69,2,   37.47,2,    0.01,2,    2.81,2,-999.000,9,-999.000,9,  -999.0,9,  -999.0,9,-999.0000,9,-999.0000,9, -999.00,9, -999.00,9,  -999.0,9,    -9.0,-999.000,9,-999.000,   13005,-999.0000,   5.6110,-999.0000, -999.00
 316N145_11,       I01W,     938,          1,         18,     SIH006,2,19950922,       0553,     8.5000,    67.8833,       4575,  1498.1,   4.8452,  34.9238,2,  34.9244,2,     69.4,2,    68.4,2,  107.33,2,   37.44,2,    0.00,2,    2.79,2,   0.005,2,  -0.001,2,  -999.0,9,  -999.0,9,-999.0000,9,-999.0000,9, -999.00,9, -999.00,9,  -999.0,9,    -9.0,-999.000,9,-999.000,   14981,-999.0000,   4.7158,-999.0000, -999.00
 316N145_11,       I01W,     938,          1,         17,     SIH038,2,19950922,       0553,     8.5000,    67.8833,       4575,  1699.3,   3.7282,  34.8502,2,  34.8485,2,     92.5,2,    93.4,2,  118.60,2,   36.87,2,    0.01,2,    2.72,2,-999.000,9,-999.000,9,  -999.0,9,  -999.0,9,-999.0000,9,-999.0000,9, -999.00,9, -999.00,9,  -999.0,9,    -9.0,-999.000,9,-999.000,   16994,-999.0000,   3.5933,-999.0000, -999.00
 316N145_11,       I01W,     938,          1,         16,     SIH008,2,19950922,       0553,     8.5000,    67.8833,       4575,  1901.6,   3.1792,  34.8184,2,  34.8161,2,    107.8,2,   107.8,2,  124.62,2,   36.39,2,    0.00,2,    2.66,2,-999.000,9,-999.000,9,  -999.0,9,  -999.0,9,-999.0000,9,-999.0000,9, -999.00,9, -999.00,9,  -999.0,9,    -9.0,-999.000,9,-999.000,   19018,-999.0000,   3.0334,-999.0000, -999.00
 316N145_11,       I01W,     938,          1,         15,     SIH009,2,19950922,       0553,     8.5000,    67.8833,       4575,  2098.8,   2.7153,  34.7908,2,  34.7893,2,    121.1,2,   119.4,2,  128.81,2,   36.14,2,    0.00,2,    2.62,2,  -0.002,2,   0.002,2,  -999.0,9,  -999.0,9,-999.0000,9,-999.0000,9, -999.00,9, -999.00,9,  -999.0,9,    -9.0,-999.000,9,-999.000,   20991,-999.0000,   2.5588,-999.0000, -999.00
 316N145_11,       I01W,     938,          1,         14,     SIH010,2,19950922,       0553,     8.5000,    67.8833,       4575,  2295.6,   2.3812,  34.7723,2,  34.7714,2,    131.3,2,   130.4,2,  131.37,2,   35.72,2,    0.02,2,    2.57,2,-999.000,9,-999.000,9,  -999.0,9,  -999.0,9,-999.0000,9,-999.0000,9, -999.00,9, -999.00,9,  -999.0,9,    -9.0,-999.000,9,-999.000,   22960,-999.0000,   2.2123,-999.0000, -999.00
 316N145_11,       I01W,     938,          1,         13,     SIH011,3,19950922,       0553,     8.5000,    67.8833,       4575,  2498.9,   2.1723,  34.7625,3,  34.7638,2,    137.0,2,   136.1,2,  134.46,2,   35.33,2,    0.01,2,    2.54,2,-999.000,9,-999.000,9,  -999.0,9,  -999.0,9,-999.0000,9,-999.0000,9, -999.00,9, -999.00,9,  -999.0,9,    -9.0,-999.000,9,-999.000,   24995,-999.0000,   1.9884,-999.0000, -999.00
 316N145_11,       I01W,     938,          1,         12,     SIH012,2,19950922,       0553,     8.5000,    67.8833,       4575,  2696.2,   1.9707,  34.7520,2,  34.7528,2,    143.4,2,   143.6,2,  136.30,2,   35.23,2,    0.01,2,    2.51,2,-999.000,9,-999.000,9,  -999.0,9,  -999.0,9,-999.0000,9,-999.0000,9, -999.00,9, -999.00,9,  -999.0,9,    -9.0,-999.000,9,-999.000,   26970,-999.0000,   1.7724,-999.0000, -999.00
 316N145_11,       I01W,     938,          1,         11,     SI9426,2,19950922,       0553,     8.5000,    67.8833,       4575,  2896.5,   1.8428,  34.7454,2,  34.7455,2,    148.6,2,   149.7,2,  136.68,2,   34.98,2,    0.02,2,    2.48,2,  -0.001,2,   0.000,2,  -999.0,9,  -999.0,9,-999.0000,9,-999.0000,9, -999.00,9, -999.00,9,  -999.0,9,    -9.0,-999.000,9,-999.000,   28974,-999.0000,   1.6281,-999.0000, -999.00
 316N145_11,       I01W,     938,          1,         10,     SIH014,2,19950922,       0553,     8.5000,    67.8833,       4575,  3094.5,   1.7756,  34.7411,2,  34.7406,2,    152.6,2,   152.6,2,  137.41,2,   34.90,2,    0.00,2,    2.46,2,-999.000,9,-999.000,9,  -999.0,9,  -999.0,9,-999.0000,9,-999.0000,9, -999.00,9, -999.00,9,  -999.0,9,    -9.0,-999.000,9,-999.000,   30956,-999.0000,   1.5431,-999.0000, -999.00
 316N145_11,       I01W,     938,          1,          9,     SIH015,2,19950922,       0553,     8.5000,    67.8833,       4575,  3194.9,   1.7540,  34.7401,2,  34.7388,2,    153.6,2,   153.8,2,  137.42,2,   34.75,2,    0.01,2,    2.47,2,-999.000,9,-999.000,9,  -999.0,9,  -999.0,9,-999.0000,9,-999.0000,9, -999.00,9, -999.00,9,  -999.0,9,    -9.0,-999.000,9,-999.000,   31960,-999.0000,   1.5121,-999.0000, -999.00
 316N145_11,       I01W,     938,          1,          8,     SIH016,2,19950922,       0553,     8.5000,    67.8833,       4575,  3397.8,   1.7204,  34.7365,2,  34.7357,2,    155.6,2,   156.3,2,  137.80,2,   34.77,2,    0.00,2,    2.46,2,-999.000,9,-999.000,9,  -999.0,9,  -999.0,9,-999.0000,9,-999.0000,9, -999.00,9, -999.00,9,  -999.0,9,    -9.0,-999.000,9,-999.000,   33991,-999.0000,   1.4589,-999.0000, -999.00
 316N145_11,       I01W,     938,          1,          7,     SIH017,2,19950922,       0553,     8.5000,    67.8833,       4575,  3698.3,   1.7040,  34.7351,2,  34.7360,2,    157.4,2,   157.1,2,  138.17,2,   34.81,2,    0.01,2,    2.46,2,   0.004,3,  -0.002,2,  -999.0,9,  -999.0,9,-999.0000,9,-999.0000,9, -999.00,9, -999.00,9,  -999.0,9,    -9.0,-999.000,9,-999.000,   36998,-999.0000,   1.4117,-999.0000, -999.00
 316N145_11,       I01W,     938,          1,          6,     SIH018,2,19950922,       0553,     8.5000,    67.8833,       4575,  3904.0,   1.6966,  34.7344,2,  34.7337,2,    158.9,2,   157.6,2,  138.73,2,   34.86,2,    0.01,2,    2.45,2,-999.000,9,-999.000,9,  -999.0,9,  -999.0,9,-999.0000,9,-999.0000,9, -999.00,9, -999.00,9,  -999.0,9,    -9.0,-999.000,9,-999.000,   39056,-999.0000,   1.3824,-999.0000, -999.00
 316N145_11,       I01W,     938,          1,          5,     SIH002,2,19950922,       0553,     8.5000,    67.8833,       4575,  4102.6,   1.6822,  34.7324,2,  34.7329,2,    160.6,2,   159.0,2,  138.74,2,   34.83,2,    0.00,2,    2.45,2,-999.000,9,-999.000,9,  -999.0,9,  -999.0,9,-999.0000,9,-999.0000,9, -999.00,9, -999.00,9,  -999.0,9,    -9.0,-999.000,9,-999.000,   41043,-999.0000,   1.3465,-999.0000, -999.00
 316N145_11,       I01W,     938,          1,          4,     SIH020,2,19950922,       0553,     8.5000,    67.8833,       4575,  4301.6,   1.6778,  34.7320,2,  34.7317,2,    161.6,2,   160.3,2,  138.75,2,   34.73,2,    0.01,2,    2.44,2,   0.003,2,   0.000,2,  -999.0,9,  -999.0,9,-999.0000,9,-999.0000,9, -999.00,9, -999.00,9,  -999.0,9,    -9.0,-999.000,9,-999.000,   43035,-999.0000,   1.3198,-999.0000, -999.00
 316N145_11,       I01W,     938,          1,          3,     SIH021,2,19950922,       0553,     8.5000,    67.8833,       4575,  4496.6,   1.6715,  34.7309,2,  34.7302,2,    162.1,2,   161.3,2,  138.77,2,   34.69,2,    0.00,2,    2.44,2,-999.000,9,-999.000,9,  -999.0,9,  -999.0,9,-999.0000,9,-999.0000,9, -999.00,9, -999.00,9,  -999.0,9,    -9.0,-999.000,9,-999.000,   44986,-999.0000,   1.2913,-999.0000, -999.00
 316N145_11,       I01W,     938,          1,          2,     SIH022,2,19950922,       0553,     8.5000,    67.8833,       4575,  4612.7,   1.6696,  34.7306,2,  34.7296,2,    163.2,2,   161.3,2,  138.78,2,   34.70,2,   -0.01,2,    2.43,2,   0.008,2,   0.002,2,  -999.0,9,  -999.0,9,-999.0000,9,-999.0000,9, -999.00,9, -999.00,9,  -999.0,9,    -9.0,-999.000,9,-999.000,   46148,-999.0000,   1.2759,-999.0000, -999.00
 316N145_11,       I01W,     938,          1,          1,     SIH023,2,19950922,       0553,     8.5000,    67.8833,       4575,  4661.6,   1.6742,  34.7299,2,  34.7296,2,    162.3,2,   162.5,2,  138.82,2,   34.63,2,    0.00,2,    2.43,2,   0.007,2,  -0.001,2,  -999.0,9,  -999.0,9,-999.0000,9,-999.0000,9, -999.00,9, -999.00,9,  -999.0,9,    -9.0,-999.000,9,-999.000,   46637,-999.0000,   1.2746,-999.0000, -999.00