BOTTLE,20211119CCHSIORKP
EXPOCODE,SECT_ID,STNNBR,CASTNO,SAMPNO,BTLNBR,BTLNBR_FLAG_W,DATE,TIME,LATITUDE,LONGITUDE,DEPTH,CTDPRS,CTDTMP,CTDSAL,CTDSAL_FLAG_W,SALNTY,SALNTY_FLAG_W,CTDOXY,CTDOXY_FLAG_W,OXYGEN,OXYGEN_FLAG_W,SILCAT,SILCAT_FLAG_W,NITRAT,NITRAT_FLAG_W,NITRIT,NITRIT_FLAG_W,PHSPHT,PHSPHT_FLAG_W,CFC-11,CFC-11_FLAG_W,CFC-12,CFC-12_FLAG_W,TCARBN,TCARBN_FLAG_W,ALKALI,ALKALI_FLAG_W,TRITUM,TRITUM_FLAG_W,HELIUM,HELIUM_FLAG_W,DELHE3,DELHE3_FLAG_W,DELC13,DELC13_FLAG_W,DELC14,DELC14_FLAG_W,C14ERR,NEON,NEON_FLAG_W,NEONER,CTDRAW,TRITER,THETA,HELIER,DELHER
,,,,,,,,,,,METERS,DBAR,ITS-90,PSS-78,,PSS-78,,UMOL/KG,,UMOL/KG,,UMOL/KG,,UMOL/KG,,UMOL/KG,,UMOL/KG,,PMOL/KG,,PMOL/KG,,UMOL/KG,,UMOL/KG,,TU,,NMOL/KG,,PERCNT,,/MILLE,,/MILLE,,/MILLE,NMOL/KG,,NMOL/KG,DBAR,TU,DEG C,NMOL/KG,PERCNT
 316N145_11,       I01W,     932,          1,         36,     SIH024,2,19950920,       1108,     8.4972,    64.8612,       4550,     8.2,  28.8047,  36.6404,2,  36.6386,2,    206.0,2,   205.2,2,    1.87,2,    0.09,2,   -0.01,2,    0.26,2,   1.616,2,   0.952,2,  2019.4,2,  2391.7,2,-999.0000,9,-999.0000,9, -999.00,9, -999.00,9,  -999.0,9,    -9.0,-999.000,9,-999.000,      73,-999.0000,  28.8027,-999.0000, -999.00
 316N145_11,       I01W,     932,          1,         35,     SIH003,2,19950920,       1108,     8.4972,    64.8612,       4550,    27.1,  28.4243,  36.6013,2,  36.6041,2,    210.3,2,   207.7,2,    1.70,2,    0.04,2,    0.00,2,    0.29,2,-999.000,9,-999.000,9,  2018.7,2,  2386.8,2,-999.0000,9,-999.0000,9, -999.00,9, -999.00,9,  -999.0,9,    -9.0,-999.000,9,-999.000,     262,-999.0000,  28.4178,-999.0000, -999.00
 316N145_11,       I01W,     932,          1,         34,     SIH026,2,19950920,       1108,     8.4972,    64.8612,       4550,    57.4,  28.3031,  36.6328,2,  36.6342,2,    207.5,2,   208.8,2,    1.79,2,    0.06,2,    0.00,2,    0.27,2,   1.625,2,   0.955,2,  2021.7,2,  2395.6,2,-999.0000,9,-999.0000,9, -999.00,9, -999.00,9,  -999.0,9,    -9.0,-999.000,9,-999.000,     565,-999.0000,  28.2894,-999.0000, -999.00
 316N145_11,       I01W,     932,          1,         33,     SIH027,2,19950920,       1108,     8.4972,    64.8612,       4550,    91.7,  27.2001,  36.5616,2,  36.5123,2,    174.9,2,   167.5,2,    2.95,2,    4.83,2,    0.14,2,    0.60,2,-999.000,9,-999.000,9,  2060.8,2,  2379.7,2,-999.0000,9,-999.0000,9, -999.00,9, -999.00,9,  -999.0,9,    -9.0,-999.000,9,-999.000,     908,-999.0000,  27.1788,-999.0000, -999.00
 316N145_11,       I01W,     932,          1,         32,     SIH028,2,19950920,       1108,     8.4972,    64.8612,       4550,   121.9,  22.1558,  35.8594,2,  35.8734,2,     30.0,2,    28.2,2,   11.73,2,   23.51,2,    0.04,2,    1.82,2,-999.000,9,-999.000,9,  2182.1,2,  2343.1,2,-999.0000,9,-999.0000,9, -999.00,9, -999.00,9,  -999.0,9,    -9.0,-999.000,9,-999.000,    1209,-999.0000,  22.1315,-999.0000, -999.00
 316N145_11,       I01W,     932,          1,         31,     SIH029,2,19950920,       1108,     8.4972,    64.8612,       4550,   147.3,  17.4789,  35.4883,2,  35.4679,2,      1.3,2,     6.0,2,   21.58,2,   26.73,2,    0.01,2,    2.19,2,   0.764,2,   0.432,2,  2224.7,2,  2326.6,2,-999.0000,9,-999.0000,9, -999.00,9, -999.00,9,  -999.0,9,    -9.0,-999.000,9,-999.000,    1464,-999.0000,  17.4541,-999.0000, -999.00
 316N145_11,       I01W,     932,          1,         30,     SIH030,3,19950920,       1108,     8.4972,    64.8612,       4550,   202.2,  14.2659,  35.2710,3,  35.2731,2,     27.7,2,    29.8,2,   23.38,2,   27.73,2,    0.01,2,    2.07,2,-999.000,9,-999.000,9,  2222.9,2,  2326.8,2,-999.0000,9,-999.0000,9, -999.00,9, -999.00,9,  -999.0,9,    -9.0,-999.000,9,-999.000,    2013,-999.0000,  14.2362,-999.0000, -999.00
 316N145_11,       I01W,     932,          1,         29,     SIH031,2,19950920,       1108,     8.4972,    64.8612,       4550,   246.9,  13.0221,  35.2519,2,  35.2511,2,     45.7,2,    43.3,2,   24.64,2,   27.98,2,    0.01,2,    2.04,2,-999.000,9,-999.000,9,  2223.9,2,  2324.6,2,-999.0000,9,-999.0000,9, -999.00,9, -999.00,9,  -999.0,9,    -9.0,-999.000,9,-999.000,    2460,-999.0000,  12.9879,-999.0000, -999.00
 316N145_11,       I01W,     932,          1,         28,     SIH032,2,19950920,       1108,     8.4972,    64.8612,       4550,   297.4,  12.1170,  35.2247,2,  35.2251,2,     38.0,2,    39.3,2,   27.86,2,   30.02,2,    0.01,2,    2.14,2,   0.398,2,   0.209,2,  2235.0,2,  2326.3,2,-999.0000,9,-999.0000,9, -999.00,9, -999.00,9,  -999.0,9,    -9.0,-999.000,9,-999.000,    2965,-999.0000,  12.0777,-999.0000, -999.00
 316N145_11,       I01W,     932,          1,         27,     SIH033,3,19950920,       1108,     8.4972,    64.8612,       4550,   397.7,  11.2394,  35.2628,3,  35.2617,2,     26.7,2,    26.9,2,   35.93,2,   32.31,2,    0.01,2,    2.38,2,-999.000,9,-999.000,9,  2254.3,2,  2334.3,2,-999.0000,9,-999.0000,9, -999.00,9, -999.00,9,  -999.0,9,    -9.0,-999.000,9,-999.000,    3968,-999.0000,  11.1890,-999.0000, -999.00
 316N145_11,       I01W,     932,          1,         26,     SIH037,2,19950920,       1108,     8.4972,    64.8612,       4550,   498.2,  10.5752,  35.2490,2,  35.2473,2,     23.0,2,    23.3,2,   44.00,2,   33.80,2,    0.01,2,    2.52,2,   0.074,2,   0.038,2,  2264.3,2,  2340.6,2,-999.0000,9,-999.0000,9, -999.00,9, -999.00,9,  -999.0,9,    -9.0,-999.000,9,-999.000,    4973,-999.0000,  10.5142,-999.0000, -999.00
 316N145_11,       I01W,     932,          1,         25,     SI9446,2,19950920,       1108,     8.4972,    64.8612,       4550,   598.5,   9.9827,  35.2311,2,  35.2318,2,     25.0,2,    21.7,2,   51.00,2,   34.76,2,    0.00,2,    2.61,2,-999.000,9,-999.000,9,  2275.9,2,  2347.4,2,-999.0000,9,-999.0000,9, -999.00,9, -999.00,9,  -999.0,9,    -9.0,-999.000,9,-999.000,    5977,-999.0000,   9.9117,-999.0000, -999.00
 316N145_11,       I01W,     932,          1,         24,     SIH036,2,19950920,       1108,     8.4972,    64.8612,       4550,   698.9,   9.5394,  35.2259,2,  35.2233,2,     28.3,2,    24.0,2,   56.56,2,   35.20,2,    0.01,2,    2.64,2,   0.040,2,   0.017,2,  2281.3,2,  2351.2,2,-999.0000,9,-999.0000,9, -999.00,9, -999.00,9,  -999.0,9,    -9.0,-999.000,9,-999.000,    6982,-999.0000,   9.4583,-999.0000, -999.00
 316N145_11,       I01W,     932,          1,         23,     SIH001,2,19950920,       1108,     8.4972,    64.8612,       4550,   799.4,   8.8004,  35.1721,2,  35.1736,2,     27.6,2,    23.0,2,   65.36,2,   36.35,2,    0.01,2,    2.73,2,-999.000,9,-999.000,9,  2292.8,2,  2360.3,2,-999.0000,9,-999.0000,9, -999.00,9, -999.00,9,  -999.0,9,    -9.0,-999.000,9,-999.000,    7987,-999.0000,   8.7115,-999.0000, -999.00
 316N145_11,       I01W,     932,          1,         22,     SIH019,2,19950920,       1108,     8.4972,    64.8612,       4550,   899.7,   7.9732,  35.1048,2,  35.1041,2,     33.5,2,    29.2,2,   74.33,2,   37.25,2,    0.01,2,    2.78,2,   0.008,2,   0.003,2,  2301.6,2,  2367.0,2,-999.0000,9,-999.0000,9, -999.00,9, -999.00,9,  -999.0,9,    -9.0,-999.000,9,-999.000,    8990,-999.0000,   7.8781,-999.0000, -999.00
 316N145_11,       I01W,     932,          1,         21,     SIH025,2,19950920,       1108,     8.4972,    64.8612,       4550,  1000.3,   7.3238,  35.0671,2,  35.0669,2,     38.6,2,    35.7,2,   80.98,2,   37.55,2,    0.01,2,    2.80,2,-999.000,9,-999.000,9,  2306.3,2,  2378.7,2,-999.0000,9,-999.0000,9, -999.00,9, -999.00,9,  -999.0,9,    -9.0,-999.000,9,-999.000,    9997,-999.0000,   7.2223,-999.0000, -999.00
 316N145_11,       I01W,     932,          1,         20,     SIH004,2,19950920,       1108,     8.4972,    64.8612,       4550,  1101.1,   6.6857,  35.0244,2,  35.0254,2,     44.2,2,    42.7,2,   87.62,2,   37.80,2,    0.01,2,    2.81,2,   0.002,3,  -0.001,3,  -999.0,9,  -999.0,9,-999.0000,9,-999.0000,9, -999.00,9, -999.00,9,  -999.0,9,    -9.0,-999.000,9,-999.000,   11005,-999.0000,   6.5784,-999.0000, -999.00
 316N145_11,       I01W,     932,          1,         19,     SIH005,2,19950920,       1108,     8.4972,    64.8612,       4550,  1196.2,   6.3680,  35.0264,2,  35.0266,2,     48.5,2,    46.6,2,   91.22,2,   37.81,2,    0.00,2,    2.81,2,-999.000,9,-999.000,9,  -999.0,9,  -999.0,9,-999.0000,9,-999.0000,9, -999.00,9, -999.00,9,  -999.0,9,    -9.0,-999.000,9,-999.000,   11956,-999.0000,   6.2534,-999.0000, -999.00
 316N145_11,       I01W,     932,          1,         18,     SIH006,2,19950920,       1108,     8.4972,    64.8612,       4550,  1398.2,   5.3591,  34.9609,2,  34.9614,2,     60.1,2,    60.6,2,  101.64,2,   37.86,2,    0.00,2,    2.81,2,  -0.002,2,  -0.002,2,  -999.0,9,  -999.0,9,-999.0000,9,-999.0000,9, -999.00,9, -999.00,9,  -999.0,9,    -9.0,-999.000,9,-999.000,   13978,-999.0000,   5.2339,-999.0000, -999.00
 316N145_11,       I01W,     932,          1,         17,     SIH038,2,19950920,       1108,     8.4972,    64.8612,       4550,  1600.8,   4.3050,  34.8962,2,  34.8953,2,     79.9,2,    81.5,2,  112.06,2,   37.41,2,    0.01,2,    2.76,2,-999.000,9,-999.000,9,  -999.0,9,  -999.0,9,-999.0000,9,-999.0000,9, -999.00,9, -999.00,9,  -999.0,9,    -9.0,-999.000,9,-999.000,   16005,-999.0000,   4.1720,-999.0000, -999.00
 316N145_11,       I01W,     932,          1,         16,     SIH008,2,19950920,       1108,     8.4972,    64.8612,       4550,  1802.0,   3.4529,  34.8375,2,  34.8375,2,    100.3,2,   100.7,2,  120.70,2,   36.86,2,    0.01,2,    2.68,2,   0.001,2,  -0.002,2,  -999.0,9,  -999.0,9,-999.0000,9,-999.0000,9, -999.00,9, -999.00,9,  -999.0,9,    -9.0,-999.000,9,-999.000,   18019,-999.0000,   3.3123,-999.0000, -999.00
 316N145_11,       I01W,     932,          1,         15,     SIH009,2,19950920,       1108,     8.4972,    64.8612,       4550,  1995.6,   2.8731,  34.8000,2,  34.8011,2,    117.8,2,   118.1,2,  125.56,2,   36.27,2,    0.01,2,    2.60,2,-999.000,9,-999.000,9,  -999.0,9,  -999.0,9,-999.0000,9,-999.0000,9, -999.00,9, -999.00,9,  -999.0,9,    -9.0,-999.000,9,-999.000,   19956,-999.0000,   2.7233,-999.0000, -999.00
 316N145_11,       I01W,     932,          1,         14,     SIH010,2,19950920,       1108,     8.4972,    64.8612,       4550,  2196.6,   2.5092,  34.7818,2,  34.7807,2,    127.6,2,   128.4,2,  129.70,2,   35.93,2,   -0.01,2,    2.56,2,  -0.004,2,  -0.002,2,  -999.0,9,  -999.0,9,-999.0000,9,-999.0000,9, -999.00,9, -999.00,9,  -999.0,9,    -9.0,-999.000,9,-999.000,   21967,-999.0000,   2.3470,-999.0000, -999.00
 316N145_11,       I01W,     932,          1,         13,     SIH011,2,19950920,       1108,     8.4972,    64.8612,       4550,  2394.7,   2.2614,  34.7683,2,  34.7677,2,    135.5,2,   135.5,2,  131.87,2,   35.42,2,    0.01,2,    2.53,2,-999.000,9,-999.000,9,  -999.0,9,  -999.0,9,-999.0000,9,-999.0000,9, -999.00,9, -999.00,9,  -999.0,9,    -9.0,-999.000,9,-999.000,   23950,-999.0000,   2.0855,-999.0000, -999.00
 316N145_11,       I01W,     932,          1,         12,     SIH012,2,19950920,       1108,     8.4972,    64.8612,       4550,  2598.3,   2.0919,  34.7580,2,  34.7585,2,    141.2,2,   141.6,2,  133.50,2,   35.48,2,   -0.01,2,    2.50,2,   0.000,2,   0.000,2,  -999.0,9,  -999.0,9,-999.0000,9,-999.0000,9, -999.00,9, -999.00,9,  -999.0,9,    -9.0,-999.000,9,-999.000,   25987,-999.0000,   1.9003,-999.0000, -999.00
 316N145_11,       I01W,     932,          1,         11,     SI9426,2,19950920,       1108,     8.4972,    64.8612,       4550,  2795.6,   1.9622,  34.7515,2,  34.7514,2,    144.3,2,   146.1,2,  135.13,2,   35.27,2,    0.01,2,    2.50,2,-999.000,9,-999.000,9,  -999.0,9,  -999.0,9,-999.0000,9,-999.0000,9, -999.00,9, -999.00,9,  -999.0,9,    -9.0,-999.000,9,-999.000,   27961,-999.0000,   1.7547,-999.0000, -999.00
 316N145_11,       I01W,     932,          1,         10,     SIH014,2,19950920,       1108,     8.4972,    64.8612,       4550,  3000.1,   1.8614,  34.7469,2,  34.7455,2,    149.1,2,   148.7,2,  136.40,2,   35.23,2,   -0.01,2,    2.47,2,-999.000,9,-999.000,9,  -999.0,9,  -999.0,9,-999.0000,9,-999.0000,9, -999.00,9, -999.00,9,  -999.0,9,    -9.0,-999.000,9,-999.000,   30007,-999.0000,   1.6362,-999.0000, -999.00
 316N145_11,       I01W,     932,          1,          9,     SIH015,2,19950920,       1108,     8.4972,    64.8612,       4550,  3200.8,   1.7987,  34.7429,2,  34.7418,2,    152.2,2,   151.0,2,  137.14,2,   34.92,2,    0.01,2,    2.47,2,-999.000,9,-999.000,9,  -999.0,9,  -999.0,9,-999.0000,9,-999.0000,9, -999.00,9, -999.00,9,  -999.0,9,    -9.0,-999.000,9,-999.000,   32016,-999.0000,   1.5552,-999.0000, -999.00
 316N145_11,       I01W,     932,          1,          8,     SIH016,2,19950920,       1108,     8.4972,    64.8612,       4550,  3400.2,   1.7381,  34.7401,2,  34.7380,2,    153.9,2,   154.2,2,  137.87,2,   34.97,2,    0.01,2,    2.45,2,  -0.002,2,  -0.001,2,  -999.0,9,  -999.0,9,-999.0000,9,-999.0000,9, -999.00,9, -999.00,9,  -999.0,9,    -9.0,-999.000,9,-999.000,   34012,-999.0000,   1.4759,-999.0000, -999.00
 316N145_11,       I01W,     932,          1,          7,     SIH017,2,19950920,       1108,     8.4972,    64.8612,       4550,  3603.0,   1.7068,  34.7371,2,  34.7359,2,    156.6,2,   155.0,2,  137.89,2,   34.98,2,   -0.01,2,    2.44,2,-999.000,9,-999.000,9,  -999.0,9,  -999.0,9,-999.0000,9,-999.0000,9, -999.00,9, -999.00,9,  -999.0,9,    -9.0,-999.000,9,-999.000,   36041,-999.0000,   1.4245,-999.0000, -999.00
 316N145_11,       I01W,     932,          1,          6,     SIH018,2,19950920,       1108,     8.4972,    64.8612,       4550,  3786.1,   1.6798,  34.7350,2,  34.7331,2,    158.6,2,   157.5,2,  138.07,2,   34.83,2,    0.00,2,    2.44,2,-999.000,9,-999.000,9,  -999.0,9,  -999.0,9,-999.0000,9,-999.0000,9, -999.00,9, -999.00,9,  -999.0,9,    -9.0,-999.000,9,-999.000,   37873,-999.0000,   1.3788,-999.0000, -999.00
 316N145_11,       I01W,     932,          1,          5,     SIH002,2,19950920,       1108,     8.4972,    64.8612,       4550,  4000.8,   1.6623,  34.7331,2,  34.7313,2,    159.8,2,   158.9,2,  137.91,2,   34.78,2,    0.00,2,    2.43,2,-999.000,9,-999.000,9,  -999.0,9,  -999.0,9,-999.0000,9,-999.0000,9, -999.00,9, -999.00,9,  -999.0,9,    -9.0,-999.000,9,-999.000,   40022,-999.0000,   1.3385,-999.0000, -999.00
 316N145_11,       I01W,     932,          1,          4,     SIH020,2,19950920,       1108,     8.4972,    64.8612,       4550,  4194.4,   1.6663,  34.7329,2,  34.7319,2,    161.0,2,   160.8,2,  137.75,2,   34.78,2,    0.00,2,    2.42,2,   0.005,4,  -0.001,2,  -999.0,9,  -999.0,9,-999.0000,9,-999.0000,9, -999.00,9, -999.00,9,  -999.0,9,    -9.0,-999.000,9,-999.000,   41959,-999.0000,   1.3208,-999.0000, -999.00
 316N145_11,       I01W,     932,          1,          3,     SIH021,2,19950920,       1108,     8.4972,    64.8612,       4550,  4397.8,   1.6579,  34.7311,2,  34.7298,2,    162.5,2,   161.3,2,  137.76,2,   34.73,2,    0.01,2,    2.42,2,  -0.001,2,  -0.001,2,  -999.0,9,  -999.0,9,-999.0000,9,-999.0000,9, -999.00,9, -999.00,9,  -999.0,9,    -9.0,-999.000,9,-999.000,   43995,-999.0000,   1.2896,-999.0000, -999.00
 316N145_11,       I01W,     932,          1,          2,     SIH022,2,19950920,       1108,     8.4972,    64.8612,       4550,  4591.4,   1.6671,  34.7305,2,  34.7298,2,    162.2,2,   161.9,2,  137.96,2,   34.59,2,    0.00,2,    2.40,2,   0.002,2,   0.000,2,  -999.0,9,  -999.0,9,-999.0000,9,-999.0000,9, -999.00,9, -999.00,9,  -999.0,9,    -9.0,-999.000,9,-999.000,   45932,-999.0000,   1.2759,-999.0000, -999.00
 316N145_11,       I01W,     932,          1,          1,     SIH023,3,19950920,       1108,     8.4972,    64.8612,       4550,  4640.2,   1.6612,  34.7298,3,  34.7286,2,   -999.0,9,   163.6,2,  137.61,2,   34.49,2,    0.00,2,    2.41,2,   0.005,2,  -0.002,2,  -999.0,9,  -999.0,9,-999.0000,9,-999.0000,9, -999.00,9, -999.00,9,  -999.0,9,    -9.0,-999.000,9,-999.000,   46420,-999.0000,   1.2645,-999.0000, -999.00