BOTTLE,20211119CCHSIORKP
EXPOCODE,SECT_ID,STNNBR,CASTNO,SAMPNO,BTLNBR,BTLNBR_FLAG_W,DATE,TIME,LATITUDE,LONGITUDE,DEPTH,CTDPRS,CTDTMP,CTDSAL,CTDSAL_FLAG_W,SALNTY,SALNTY_FLAG_W,CTDOXY,CTDOXY_FLAG_W,OXYGEN,OXYGEN_FLAG_W,SILCAT,SILCAT_FLAG_W,NITRAT,NITRAT_FLAG_W,NITRIT,NITRIT_FLAG_W,PHSPHT,PHSPHT_FLAG_W,CFC-11,CFC-11_FLAG_W,CFC-12,CFC-12_FLAG_W,TCARBN,TCARBN_FLAG_W,ALKALI,ALKALI_FLAG_W,TRITUM,TRITUM_FLAG_W,HELIUM,HELIUM_FLAG_W,DELHE3,DELHE3_FLAG_W,DELC13,DELC13_FLAG_W,DELC14,DELC14_FLAG_W,C14ERR,NEON,NEON_FLAG_W,NEONER,CTDRAW,TRITER,THETA,HELIER,DELHER
,,,,,,,,,,,METERS,DBAR,ITS-90,PSS-78,,PSS-78,,UMOL/KG,,UMOL/KG,,UMOL/KG,,UMOL/KG,,UMOL/KG,,UMOL/KG,,PMOL/KG,,PMOL/KG,,UMOL/KG,,UMOL/KG,,TU,,NMOL/KG,,PERCNT,,/MILLE,,/MILLE,,/MILLE,NMOL/KG,,NMOL/KG,DBAR,TU,DEG C,NMOL/KG,PERCNT
 316N145_11,       I01W,     865,          1,         27,     SIH033,2,19950902,       1252,    14.6695,    54.7500,       2205,     4.8,  25.3684,  35.6955,2,  35.6996,2,    207.3,2,   208.5,2,    3.87,2,    4.16,2,    0.23,2,    0.50,2,   1.794,2,   1.021,2,  2028.4,2,  2334.1,2,-999.0000,9,-999.0000,9, -999.00,9, -999.00,9,  -999.0,9,    -9.0,-999.000,9,-999.000,      24,-999.0000,  25.3674,-999.0000, -999.00
 316N145_11,       I01W,     865,          1,         26,     SIH037,2,19950902,       1252,    14.6695,    54.7500,       2205,    29.8,  25.2936,  35.6892,2,  35.6936,2,    206.5,2,   208.4,2,    3.64,2,    4.33,2,    0.23,2,    0.52,2,-999.000,9,-999.000,9,  2029.1,2,  2331.8,2,-999.0000,9,-999.0000,9, -999.00,9, -999.00,9,  -999.0,9,    -9.0,-999.000,9,-999.000,     274,-999.0000,  25.2871,-999.0000, -999.00
 316N145_11,       I01W,     865,          1,         25,     SI9446,2,19950902,       1252,    14.6695,    54.7500,       2205,    59.3,  22.3900,  35.8053,2,  35.8026,2,    110.2,2,    98.8,2,   10.43,2,   16.76,2,    0.04,2,    1.31,2,   1.552,2,   0.887,2,  2129.4,2,  2333.4,2,-999.0000,9,-999.0000,9, -999.00,9, -999.00,9,  -999.0,9,    -9.0,-999.000,9,-999.000,     569,-999.0000,  22.3781,-999.0000, -999.00
 316N145_11,       I01W,     865,          1,         24,     SIH036,2,19950902,       1252,    14.6695,    54.7500,       2205,    89.4,  19.6490,  35.5048,2,  35.5594,2,     61.6,2,    56.4,2,   15.46,2,   22.24,2,    0.01,2,    1.66,2,-999.000,9,-999.000,9,  2169.3,2,  2324.0,2,-999.0000,9,-999.0000,9, -999.00,9, -999.00,9,  -999.0,9,    -9.0,-999.000,9,-999.000,     871,-999.0000,  19.6326,-999.0000, -999.00
 316N145_11,       I01W,     865,          1,         23,     SIH001,2,19950902,       1252,    14.6695,    54.7500,       2205,   119.3,  17.8550,  35.4136,2,  35.4227,2,     49.3,2,    53.2,2,   17.86,2,   23.37,2,    0.00,2,    1.73,2,-999.000,9,-999.000,9,  2182.0,2,  2322.6,2,-999.0000,9,-999.0000,9, -999.00,9, -999.00,9,  -999.0,9,    -9.0,-999.000,9,-999.000,    1169,-999.0000,  17.8346,-999.0000, -999.00
 316N145_11,       I01W,     865,          1,         22,     SIH019,2,19950902,       1252,    14.6695,    54.7500,       2205,   145.3,  17.2034,  35.6580,2,  35.6640,2,     22.8,2,    23.0,2,   21.57,2,   25.31,2,    0.01,2,    2.08,2,   0.999,2,   0.567,2,  2224.0,2,  2332.5,2,-999.0000,9,-999.0000,9, -999.00,9, -999.00,9,  -999.0,9,    -9.0,-999.000,9,-999.000,    1429,-999.0000,  17.1791,-999.0000, -999.00
 316N145_11,       I01W,     865,          1,         21,     SIH025,2,19950902,       1252,    14.6695,    54.7500,       2205,   179.5,  15.8457,  35.6597,2,  35.6405,2,     17.2,2,    18.5,2,   24.84,2,   25.74,2,    0.01,2,    2.14,2,-999.000,9,-999.000,9,  2236.2,2,  2330.9,2,-999.0000,9,-999.0000,9, -999.00,9, -999.00,9,  -999.0,9,    -9.0,-999.000,9,-999.000,    1772,-999.0000,  15.8174,-999.0000, -999.00
 316N145_11,       I01W,     865,          1,         20,     SIH004,2,19950902,       1252,    14.6695,    54.7500,       2205,   200.3,  15.2884,  35.5912,2,  35.5942,2,     20.2,2,    21.3,2,   24.83,2,   26.00,2,    0.00,2,    2.13,2,-999.000,9,-999.000,9,  2236.7,2,  2331.4,2,-999.0000,9,-999.0000,9, -999.00,9, -999.00,9,  -999.0,9,    -9.0,-999.000,9,-999.000,    1980,-999.0000,  15.2575,-999.0000, -999.00
 316N145_11,       I01W,     865,          1,         19,     SIH005,2,19950902,       1252,    14.6695,    54.7500,       2205,   248.8,  14.2612,  35.5157,2,  35.5314,2,     27.8,2,    25.7,2,   26.35,2,   26.83,2,    0.00,2,    2.12,2,   0.660,2,   0.364,2,  2233.9,2,  2328.3,2,-999.0000,9,-999.0000,9, -999.00,9, -999.00,9,  -999.0,9,    -9.0,-999.000,9,-999.000,    2465,-999.0000,  14.2246,-999.0000, -999.00
 316N145_11,       I01W,     865,          1,         18,     SIH006,2,19950902,       1252,    14.6695,    54.7500,       2205,   299.0,  13.3844,  35.4973,2,  35.4979,2,     24.2,2,    26.1,2,   29.18,2,   28.27,2,    0.00,2,    2.18,2,-999.000,9,-999.000,9,  2243.0,2,  2327.6,2,-999.0000,9,-999.0000,9, -999.00,9, -999.00,9,  -999.0,9,    -9.0,-999.000,9,-999.000,    2967,-999.0000,  13.3421,-999.0000, -999.00
 316N145_11,       I01W,     865,          1,         17,     SIH038,2,19950902,       1252,    14.6695,    54.7500,       2205,   400.5,  12.2564,  35.4371,2,  35.4399,2,     28.8,2,    29.5,2,   34.20,2,   30.04,2,    0.00,2,    2.27,2,   0.366,2,   0.191,2,  2249.0,2,  2329.3,2,-999.0000,9,-999.0000,9, -999.00,9, -999.00,9,  -999.0,9,    -9.0,-999.000,9,-999.000,    3982,-999.0000,  12.2028,-999.0000, -999.00
 316N145_11,       I01W,     865,          1,         16,     SIH008,2,19950902,       1252,    14.6695,    54.7500,       2205,   501.0,  12.3410,  35.6254,2,  35.6145,2,     18.1,2,    19.6,2,   39.43,2,   30.46,2,   -0.01,2,    2.40,2,-999.000,9,-999.000,9,  2260.6,2,  2339.4,2,-999.0000,9,-999.0000,9, -999.00,9, -999.00,9,  -999.0,9,    -9.0,-999.000,9,-999.000,    4988,-999.0000,  12.2733,-999.0000, -999.00
 316N145_11,       I01W,     865,          1,         15,     SIH009,2,19950902,       1252,    14.6695,    54.7500,       2205,   600.5,  12.7587,  35.8990,2,  35.8937,2,     13.5,2,    13.6,2,   42.47,2,   29.98,2,    0.01,2,    2.39,2,   0.264,2,   0.138,2,  2264.4,2,  2349.6,2,-999.0000,9,-999.0000,9, -999.00,9, -999.00,9,  -999.0,9,    -9.0,-999.000,9,-999.000,    5983,-999.0000,  12.6752,-999.0000, -999.00
 316N145_11,       I01W,     865,          1,         14,     SIH010,2,19950902,       1252,    14.6695,    54.7500,       2205,   702.3,  12.2825,  35.9178,2,  35.9255,2,     14.2,2,    14.5,2,   48.80,2,   30.92,2,   -0.01,2,    2.44,2,-999.000,9,-999.000,9,  2270.5,2,  2358.1,2,-999.0000,9,-999.0000,9, -999.00,9, -999.00,9,  -999.0,9,    -9.0,-999.000,9,-999.000,    7001,-999.0000,  12.1867,-999.0000, -999.00
 316N145_11,       I01W,     865,          1,         13,     SIH011,2,19950902,       1252,    14.6695,    54.7500,       2205,   796.9,  11.1896,  35.7365,2,  35.7408,2,     12.7,2,    11.7,2,   56.43,2,   32.73,2,    0.01,2,    2.59,2,   0.138,2,   0.065,2,  2281.4,2,  2359.2,2,-999.0000,9,-999.0000,9, -999.00,9, -999.00,9,  -999.0,9,    -9.0,-999.000,9,-999.000,    7947,-999.0000,  11.0868,-999.0000, -999.00
 316N145_11,       I01W,     865,          1,         12,     SIH012,2,19950902,       1252,    14.6695,    54.7500,       2205,   898.6,  10.2733,  35.6208,2,  35.6255,2,     13.5,2,    13.3,2,   64.29,2,   34.32,2,    0.01,2,    2.69,2,-999.000,9,-999.000,9,  2293.0,2,  2363.0,2,-999.0000,9,-999.0000,9, -999.00,9, -999.00,9,  -999.0,9,    -9.0,-999.000,9,-999.000,    8965,-999.0000,  10.1629,-999.0000, -999.00
 316N145_11,       I01W,     865,          1,         11,     SI9426,2,19950902,       1252,    14.6695,    54.7500,       2205,   999.4,   9.4066,  35.5043,2,  35.5062,2,     16.3,2,    15.3,2,   71.26,2,   35.37,2,    0.00,2,    2.75,2,   0.059,2,   0.027,2,  2302.7,2,  2366.0,2,-999.0000,9,-999.0000,9, -999.00,9, -999.00,9,  -999.0,9,    -9.0,-999.000,9,-999.000,    9974,-999.0000,   9.2895,-999.0000, -999.00
 316N145_11,       I01W,     865,          1,         10,     SIH014,2,19950902,       1252,    14.6695,    54.7500,       2205,  1098.4,   8.4457,  35.3973,2,  35.4003,2,     19.9,2,    17.8,2,   80.20,2,   36.47,2,    0.00,2,    2.83,2,-999.000,9,-999.000,9,  -999.0,9,  -999.0,9,-999.0000,9,-999.0000,9, -999.00,9, -999.00,9,  -999.0,9,    -9.0,-999.000,9,-999.000,   10964,-999.0000,   8.3239,-999.0000, -999.00
 316N145_11,       I01W,     865,          1,          9,     SIH015,2,19950902,       1252,    14.6695,    54.7500,       2205,  1200.1,   7.7547,  35.3464,2,  35.3413,2,     28.0,2,    27.5,2,   86.74,2,   36.55,2,    0.00,2,    2.81,2,   0.038,2,   0.016,2,  -999.0,9,  -999.0,9,-999.0000,9,-999.0000,9, -999.00,9, -999.00,9,  -999.0,9,    -9.0,-999.000,9,-999.000,   11982,-999.0000,   7.6272,-999.0000, -999.00
 316N145_11,       I01W,     865,          1,          8,     SIH016,2,19950902,       1252,    14.6695,    54.7500,       2205,  1300.4,   6.8810,  35.2088,2,  35.2087,2,     37.8,2,    35.2,2,   93.05,2,   37.29,2,    0.01,2,    2.84,2,-999.000,9,-999.000,9,  -999.0,9,  -999.0,9,-999.0000,9,-999.0000,9, -999.00,9, -999.00,9,  -999.0,9,    -9.0,-999.000,9,-999.000,   12985,-999.0000,   6.7505,-999.0000, -999.00
 316N145_11,       I01W,     865,          1,          7,     SIH017,2,19950902,       1252,    14.6695,    54.7500,       2205,  1397.9,   5.9339,  35.0847,2,  35.0862,2,     48.7,2,    49.4,2,  101.55,2,   37.50,2,    0.00,2,    2.84,2,-999.000,9,-999.000,9,  -999.0,9,  -999.0,9,-999.0000,9,-999.0000,9, -999.00,9, -999.00,9,  -999.0,9,    -9.0,-999.000,9,-999.000,   13961,-999.0000,   5.8025,-999.0000, -999.00
 316N145_11,       I01W,     865,          1,          6,     SIH018,2,19950902,       1252,    14.6695,    54.7500,       2205,  1498.7,   5.4594,  35.0411,2,  35.0437,2,     54.0,2,    56.5,2,  106.56,2,   37.47,2,    0.00,2,    2.83,2,   0.009,2,   0.006,2,  -999.0,9,  -999.0,9,-999.0000,9,-999.0000,9, -999.00,9, -999.00,9,  -999.0,9,    -9.0,-999.000,9,-999.000,   14970,-999.0000,   5.3228,-999.0000, -999.00
 316N145_11,       I01W,     865,          1,          5,     SIH002,2,19950902,       1252,    14.6695,    54.7500,       2205,  1599.2,   4.8248,  34.9860,2,  34.9880,2,     60.4,2,    62.1,2,  115.26,2,   37.62,2,    0.00,2,    2.85,2,-999.000,9,-999.000,9,  -999.0,9,  -999.0,9,-999.0000,9,-999.0000,9, -999.00,9, -999.00,9,  -999.0,9,    -9.0,-999.000,9,-999.000,   15975,-999.0000,   4.6857,-999.0000, -999.00
 316N145_11,       I01W,     865,          1,          4,     SIH020,2,19950902,       1252,    14.6695,    54.7500,       2205,  1796.8,   3.8343,  34.9006,2,  34.9040,2,     78.0,2,    80.2,2,  126.81,2,   37.26,2,    0.00,2,    2.76,2,-999.000,9,-999.000,9,  -999.0,9,  -999.0,9,-999.0000,9,-999.0000,9, -999.00,9, -999.00,9,  -999.0,9,    -9.0,-999.000,9,-999.000,   17952,-999.0000,   3.6889,-999.0000, -999.00
 316N145_11,       I01W,     865,          1,          3,     SIH021,2,19950902,       1252,    14.6695,    54.7500,       2205,  1999.9,   3.1673,  34.8467,2,  34.8491,2,     93.1,2,    93.0,2,  135.08,2,   36.67,2,    0.01,2,    2.73,2,   0.000,2,  -0.002,2,  -999.0,9,  -999.0,9,-999.0000,9,-999.0000,9, -999.00,9, -999.00,9,  -999.0,9,    -9.0,-999.000,9,-999.000,   19985,-999.0000,   3.0126,-999.0000, -999.00
 316N145_11,       I01W,     865,          1,          2,     SIH022,2,19950902,       1252,    14.6695,    54.7500,       2205,  2181.5,   2.6873,  34.8102,2,  34.8119,2,    105.1,2,   105.6,2,  139.63,2,   36.42,2,    0.00,2,    2.69,2,-999.000,9,-999.000,9,  -999.0,9,  -999.0,9,-999.0000,9,-999.0000,9, -999.00,9, -999.00,9,  -999.0,9,    -9.0,-999.000,9,-999.000,   21802,-999.0000,   2.5235,-999.0000, -999.00
 316N145_11,       I01W,     865,          1,          1,     SIH023,2,19950902,       1252,    14.6695,    54.7500,       2205,  2233.4,   2.5969,  34.8012,2,  34.8041,2,   -999.0,9,   108.6,2,  140.67,2,   36.33,2,    0.00,2,    2.67,2,   0.001,2,   0.000,2,  -999.0,9,  -999.0,9,-999.0000,9,-999.0000,9, -999.00,9, -999.00,9,  -999.0,9,    -9.0,-999.000,9,-999.000,   22321,-999.0000,   2.4298,-999.0000, -999.00