BOTTLE,20211119CCHSIORKP
EXPOCODE,SECT_ID,STNNBR,CASTNO,SAMPNO,BTLNBR,BTLNBR_FLAG_W,DATE,TIME,LATITUDE,LONGITUDE,DEPTH,CTDPRS,CTDTMP,CTDSAL,CTDSAL_FLAG_W,SALNTY,SALNTY_FLAG_W,CTDOXY,CTDOXY_FLAG_W,OXYGEN,OXYGEN_FLAG_W,SILCAT,SILCAT_FLAG_W,NITRAT,NITRAT_FLAG_W,NITRIT,NITRIT_FLAG_W,PHSPHT,PHSPHT_FLAG_W,CFC-11,CFC-11_FLAG_W,CFC-12,CFC-12_FLAG_W,TCARBN,TCARBN_FLAG_W,ALKALI,ALKALI_FLAG_W,TRITUM,TRITUM_FLAG_W,HELIUM,HELIUM_FLAG_W,DELHE3,DELHE3_FLAG_W,DELC13,DELC13_FLAG_W,DELC14,DELC14_FLAG_W,C14ERR,NEON,NEON_FLAG_W,NEONER,CTDRAW,TRITER,THETA,HELIER,DELHER
,,,,,,,,,,,METERS,DBAR,ITS-90,PSS-78,,PSS-78,,UMOL/KG,,UMOL/KG,,UMOL/KG,,UMOL/KG,,UMOL/KG,,UMOL/KG,,PMOL/KG,,PMOL/KG,,UMOL/KG,,UMOL/KG,,TU,,NMOL/KG,,PERCNT,,/MILLE,,/MILLE,,/MILLE,NMOL/KG,,NMOL/KG,DBAR,TU,DEG C,NMOL/KG,PERCNT
 316N145_11,       I01W,     870,          1,         26,     SIH037,2,19950903,       1020,    14.1638,    52.7722,       1895,     7.9,  24.9015,  35.8414,2,  35.8404,2,    204.9,2,   204.7,2,    1.26,2,    6.66,2,    0.39,2,    0.76,2,   1.725,2,   0.987,2,  2061.4,2,  2349.9,2,-999.0000,9,-999.0000,9, -999.00,9, -999.00,9,  -999.0,9,    -9.0,-999.000,9,-999.000,      57,-999.0000,  24.8998,-999.0000, -999.00
 316N145_11,       I01W,     870,          1,         25,     SI9446,2,19950903,       1020,    14.1638,    52.7722,       1895,    33.0,  18.1721,  35.7914,2,  35.7867,2,      1.2,2,     6.1,2,   20.74,2,   24.67,2,    0.41,2,    2.18,2,   1.041,2,   0.593,2,  2232.8,2,  2341.9,2,-999.0000,9,-999.0000,9, -999.00,9, -999.00,9,  -999.0,9,    -9.0,-999.000,9,-999.000,     308,-999.0000,  18.1664,-999.0000, -999.00
 316N145_11,       I01W,     870,          1,         24,     SIH036,2,19950903,       1020,    14.1638,    52.7722,       1895,    62.6,  16.7103,  35.8393,2,  35.8463,2,      7.5,2,     7.6,2,   23.82,2,   24.81,2,    0.05,2,    2.21,2,   0.836,2,   0.482,2,  2242.6,2,  2344.6,2,-999.0000,9,-999.0000,9, -999.00,9, -999.00,9,  -999.0,9,    -9.0,-999.000,9,-999.000,     604,-999.0000,  16.7000,-999.0000, -999.00
 316N145_11,       I01W,     870,          1,         23,     SIH001,2,19950903,       1020,    14.1638,    52.7722,       1895,    92.5,  16.0239,  35.8866,2,  35.8987,2,      5.6,2,     8.0,2,   25.66,2,   24.82,2,    0.03,2,    2.23,2,   0.708,2,   0.411,2,  2249.7,2,  2349.0,2,-999.0000,9,-999.0000,9, -999.00,9, -999.00,9,  -999.0,9,    -9.0,-999.000,9,-999.000,     903,-999.0000,  16.0092,-999.0000, -999.00
 316N145_11,       I01W,     870,          1,         22,     SIH019,2,19950903,       1020,    14.1638,    52.7722,       1895,   122.3,  15.2470,  35.8400,2,  35.8408,2,      7.2,2,     7.7,2,   27.09,2,   25.89,2,    0.02,2,    2.23,2,   0.638,4,   0.367,4,  2254.1,2,  2346.6,2,-999.0000,9,-999.0000,9, -999.00,9, -999.00,9,  -999.0,9,    -9.0,-999.000,9,-999.000,    1201,-999.0000,  15.2281,-999.0000, -999.00
 316N145_11,       I01W,     870,          1,         21,     SIH025,2,19950903,       1020,    14.1638,    52.7722,       1895,   151.5,  15.1464,  35.9411,2,  35.9433,2,      4.0,2,     3.6,2,   28.73,2,   25.34,2,    0.02,2,    2.29,2,-999.000,9,-999.000,9,  2261.0,2,  2354.2,2,-999.0000,9,-999.0000,9, -999.00,9, -999.00,9,  -999.0,9,    -9.0,-999.000,9,-999.000,    1493,-999.0000,  15.1231,-999.0000, -999.00
 316N145_11,       I01W,     870,          1,         20,     SIH004,2,19950903,       1020,    14.1638,    52.7722,       1895,   182.2,  14.3900,  35.8412,2,  35.8410,2,      5.3,2,     5.3,2,   30.57,2,   26.43,2,    0.03,2,    2.32,2,   0.482,2,   0.277,2,  2262.0,2,  2348.1,2,-999.0000,9,-999.0000,9, -999.00,9, -999.00,9,  -999.0,9,    -9.0,-999.000,9,-999.000,    1800,-999.0000,  14.3630,-999.0000, -999.00
 316N145_11,       I01W,     870,          1,         19,     SIH005,2,19950903,       1020,    14.1638,    52.7722,       1895,   203.0,  14.0546,  35.8294,2,  35.8327,2,      5.1,2,     4.6,2,   31.59,2,   26.73,2,    0.01,2,    2.33,2,-999.000,9,-999.000,9,  2263.9,2,  2350.9,2,-999.0000,9,-999.0000,9, -999.00,9, -999.00,9,  -999.0,9,    -9.0,-999.000,9,-999.000,    2009,-999.0000,  14.0250,-999.0000, -999.00
 316N145_11,       I01W,     870,          1,         18,     SIH006,2,19950903,       1020,    14.1638,    52.7722,       1895,   251.4,  13.6156,  35.8144,2,  35.8143,2,      4.4,2,     6.1,2,   34.25,2,   27.10,2,    0.02,2,    2.40,2,   0.346,2,   0.200,2,  2266.9,2,  2351.0,2,-999.0000,9,-999.0000,9, -999.00,9, -999.00,9,  -999.0,9,    -9.0,-999.000,9,-999.000,    2493,-999.0000,  13.5796,-999.0000, -999.00
 316N145_11,       I01W,     870,          1,         17,     SIH038,2,19950903,       1020,    14.1638,    52.7722,       1895,   302.2,  12.9744,  35.7438,2,  35.7422,2,      7.9,2,    13.0,2,   36.71,2,   28.77,2,    0.00,2,    2.40,2,-999.000,9,-999.000,9,  2264.4,2,  2348.0,2,-999.0000,9,-999.0000,9, -999.00,9, -999.00,9,  -999.0,9,    -9.0,-999.000,9,-999.000,    3001,-999.0000,  12.9325,-999.0000, -999.00
 316N145_11,       I01W,     870,          1,         16,     SIH008,2,19950903,       1020,    14.1638,    52.7722,       1895,   400.6,  11.9309,  35.6023,2,  35.6030,2,     14.1,2,    18.0,2,   41.84,2,   30.86,2,    0.01,2,    2.44,2,   0.202,2,   0.111,2,  2265.3,2,  2347.4,2,-999.0000,9,-999.0000,9, -999.00,9, -999.00,9,  -999.0,9,    -9.0,-999.000,9,-999.000,    3986,-999.0000,  11.8780,-999.0000, -999.00
 316N145_11,       I01W,     870,          1,         15,     SIH009,2,19950903,       1020,    14.1638,    52.7722,       1895,   501.7,  12.0135,  35.7805,2,  35.7780,2,     12.8,2,    14.5,2,   46.35,2,   30.98,2,   -0.01,2,    2.46,2,-999.000,9,-999.000,9,  2270.6,2,  2356.9,2,-999.0000,9,-999.0000,9, -999.00,9, -999.00,9,  -999.0,9,    -9.0,-999.000,9,-999.000,    4997,-999.0000,  11.9466,-999.0000, -999.00
 316N145_11,       I01W,     870,          1,         14,     SIH010,2,19950903,       1020,    14.1638,    52.7722,       1895,   599.6,  11.3561,  35.7195,2,  35.7246,2,     11.3,2,    11.0,2,   53.33,2,   32.45,2,    0.01,2,    2.57,2,   0.138,2,   0.065,2,  2279.6,2,  2361.3,2,-999.0000,9,-999.0000,9, -999.00,9, -999.00,9,  -999.0,9,    -9.0,-999.000,9,-999.000,    5978,-999.0000,  11.2787,-999.0000, -999.00
 316N145_11,       I01W,     870,          1,         13,     SIH011,2,19950903,       1020,    14.1638,    52.7722,       1895,   697.5,  10.6902,  35.6605,2,  35.6634,2,     13.4,2,    10.9,2,   59.07,2,   33.51,2,   -0.01,2,    2.62,2,-999.000,9,-999.000,9,  2288.2,2,  2364.2,2,-999.0000,9,-999.0000,9, -999.00,9, -999.00,9,  -999.0,9,    -9.0,-999.000,9,-999.000,    6958,-999.0000,  10.6032,-999.0000, -999.00
 316N145_11,       I01W,     870,          1,         12,     SIH012,2,19950903,       1020,    14.1638,    52.7722,       1895,   801.8,   9.8263,  35.5523,2,  35.5529,2,     14.2,2,    13.8,2,   66.87,2,   35.00,2,    0.01,2,    2.72,2,   0.073,6,   0.036,6,  2297.8,2,  2370.1,2,-999.0000,9,-999.0000,9, -999.00,9, -999.00,9,  -999.0,9,    -9.0,-999.000,9,-999.000,    8002,-999.0000,   9.7308,-999.0000, -999.00
 316N145_11,       I01W,     870,          1,         11,     SI9426,2,19950903,       1020,    14.1638,    52.7722,       1895,   902.7,   9.6810,  35.6367,2,  35.6295,2,     17.7,2,    18.2,2,   69.74,2,   34.90,2,    0.00,2,    2.67,2,-999.000,9,-999.000,9,  2299.0,2,  2375.8,2,-999.0000,9,-999.0000,9, -999.00,9, -999.00,9,  -999.0,9,    -9.0,-999.000,9,-999.000,    9012,-999.0000,   9.5738,-999.0000, -999.00
 316N145_11,       I01W,     870,          1,         10,     SIH014,2,19950903,       1020,    14.1638,    52.7722,       1895,  1002.3,   8.4711,  35.4210,2,  35.4342,2,     21.0,2,    19.1,2,   80.02,2,   36.50,2,    0.00,2,    2.80,2,   0.050,2,   0.023,2,  2313.3,2,  2390.0,2,-999.0000,9,-999.0000,9, -999.00,9, -999.00,9,  -999.0,9,    -9.0,-999.000,9,-999.000,   10009,-999.0000,   8.3604,-999.0000, -999.00
 316N145_11,       I01W,     870,          1,          9,     SIH015,2,19950903,       1020,    14.1638,    52.7722,       1895,  1099.5,   7.5016,  35.3038,2,  35.3062,2,     27.2,2,    26.5,2,   88.02,2,   37.43,2,    0.01,2,    2.84,2,-999.000,9,-999.000,9,  -999.0,9,  -999.0,9,-999.0000,9,-999.0000,9, -999.00,9, -999.00,9,  -999.0,9,    -9.0,-999.000,9,-999.000,   10983,-999.0000,   7.3874,-999.0000, -999.00
 316N145_11,       I01W,     870,          1,          8,     SIH016,2,19950903,       1020,    14.1638,    52.7722,       1895,  1192.8,   7.0413,  35.2769,2,  35.2816,2,     36.1,2,    33.5,2,   92.96,2,   37.06,2,    0.00,2,    2.81,2,   0.031,2,   0.017,2,  -999.0,9,  -999.0,9,-999.0000,9,-999.0000,9, -999.00,9, -999.00,9,  -999.0,9,    -9.0,-999.000,9,-999.000,   11916,-999.0000,   6.9207,-999.0000, -999.00
 316N145_11,       I01W,     870,          1,          7,     SIH017,2,19950903,       1020,    14.1638,    52.7722,       1895,  1289.7,   6.2882,  35.1782,2,  35.1807,2,     42.0,2,    40.6,2,  100.35,2,   37.50,2,    0.00,2,    2.82,2,-999.000,9,-999.000,9,  -999.0,9,  -999.0,9,-999.0000,9,-999.0000,9, -999.00,9, -999.00,9,  -999.0,9,    -9.0,-999.000,9,-999.000,   12888,-999.0000,   6.1643,-999.0000, -999.00
 316N145_11,       I01W,     870,          1,          6,     SIH018,2,19950903,       1020,    14.1638,    52.7722,       1895,  1394.9,   5.4009,  35.0580,2,  35.0618,2,     51.6,2,    52.8,2,  108.58,2,   37.79,2,   -0.01,2,    2.84,2,   0.005,2,   0.004,2,  -999.0,9,  -999.0,9,-999.0000,9,-999.0000,9, -999.00,9, -999.00,9,  -999.0,9,    -9.0,-999.000,9,-999.000,   13941,-999.0000,   5.2753,-999.0000, -999.00
 316N145_11,       I01W,     870,          1,          5,     SIH002,2,19950903,       1020,    14.1638,    52.7722,       1895,  1483.0,   4.9397,  35.0157,2,  35.0179,2,     58.2,2,    58.5,2,  114.33,2,   37.67,2,    0.01,2,    2.83,2,-999.000,9,-999.000,9,  -999.0,9,  -999.0,9,-999.0000,9,-999.0000,9, -999.00,9, -999.00,9,  -999.0,9,    -9.0,-999.000,9,-999.000,   14824,-999.0000,   4.8105,-999.0000, -999.00
 316N145_11,       I01W,     870,          1,          4,     SIH020,3,19950903,       1020,    14.1638,    52.7722,       1895,  1584.8,   4.4473,  34.9604,3,  34.9618,2,     66.3,2,    68.1,2,  118.85,2,   37.74,2,   -0.01,2,    2.80,2,   0.000,2,   0.001,2,  -999.0,9,  -999.0,9,-999.0000,9,-999.0000,9, -999.00,9, -999.00,9,  -999.0,9,    -9.0,-999.000,9,-999.000,   15844,-999.0000,   4.3141,-999.0000, -999.00
 316N145_11,       I01W,     870,          1,          3,     SIH021,2,19950903,       1020,    14.1638,    52.7722,       1895,  1796.0,   3.4825,  34.8736,2,  34.8755,2,     86.3,2,    88.1,2,  129.96,2,   37.40,2,    0.01,2,    2.74,2,  -0.002,2,   0.001,2,  -999.0,9,  -999.0,9,-999.0000,9,-999.0000,9, -999.00,9, -999.00,9,  -999.0,9,    -9.0,-999.000,9,-999.000,   17960,-999.0000,   3.3419,-999.0000, -999.00
 316N145_11,       I01W,     870,          1,          2,     SIH022,2,19950903,       1020,    14.1638,    52.7722,       1895,  1842.1,   3.3514,  34.8634,2,  34.8648,2,     90.6,2,    89.3,2,  130.98,2,   37.35,2,    0.01,2,    2.73,2,   0.000,2,   0.002,2,  -999.0,9,  -999.0,9,-999.0000,9,-999.0000,9, -999.00,9, -999.00,9,  -999.0,9,    -9.0,-999.000,9,-999.000,   18422,-999.0000,   3.2084,-999.0000, -999.00
 316N145_11,       I01W,     870,          1,          1,     SIH023,3,19950903,       1020,    14.1638,    52.7722,       1895,  1893.2,   3.3246,  34.8629,3,  34.8627,2,     92.6,2,    90.5,2,  132.15,2,   37.31,2,    0.00,2,    2.72,2,  -0.001,2,   0.001,2,  -999.0,9,  -999.0,9,-999.0000,9,-999.0000,9, -999.00,9, -999.00,9,  -999.0,9,    -9.0,-999.000,9,-999.000,   18934,-999.0000,   3.1773,-999.0000, -999.00