BOTTLE,20211119CCHSIORKP
EXPOCODE,SECT_ID,STNNBR,CASTNO,SAMPNO,BTLNBR,BTLNBR_FLAG_W,DATE,TIME,LATITUDE,LONGITUDE,DEPTH,CTDPRS,CTDTMP,CTDSAL,CTDSAL_FLAG_W,SALNTY,SALNTY_FLAG_W,CTDOXY,CTDOXY_FLAG_W,OXYGEN,OXYGEN_FLAG_W,SILCAT,SILCAT_FLAG_W,NITRAT,NITRAT_FLAG_W,NITRIT,NITRIT_FLAG_W,PHSPHT,PHSPHT_FLAG_W,CFC-11,CFC-11_FLAG_W,CFC-12,CFC-12_FLAG_W,TCARBN,TCARBN_FLAG_W,ALKALI,ALKALI_FLAG_W,TRITUM,TRITUM_FLAG_W,HELIUM,HELIUM_FLAG_W,DELHE3,DELHE3_FLAG_W,DELC13,DELC13_FLAG_W,DELC14,DELC14_FLAG_W,C14ERR,NEON,NEON_FLAG_W,NEONER,CTDRAW,TRITER,THETA,HELIER,DELHER
,,,,,,,,,,,METERS,DBAR,ITS-90,PSS-78,,PSS-78,,UMOL/KG,,UMOL/KG,,UMOL/KG,,UMOL/KG,,UMOL/KG,,UMOL/KG,,PMOL/KG,,PMOL/KG,,UMOL/KG,,UMOL/KG,,TU,,NMOL/KG,,PERCNT,,/MILLE,,/MILLE,,/MILLE,NMOL/KG,,NMOL/KG,DBAR,TU,DEG C,NMOL/KG,PERCNT
 316N145_11,       I01W,     907,          1,         36,     SIH024,2,19950913,       2127,     8.5083,    53.6667,       4970,     8.2,  27.3474,  35.6511,2,  35.6510,2,    210.2,2,   212.0,2,    2.47,2,    0.12,2,    0.06,2,    0.21,2,   1.687,2,   0.982,2,  1984.4,2,  2330.1,2,-999.0000,9,-999.0000,9, -999.00,9, -999.00,9,  -999.0,9,    -9.0,-999.000,9,-999.000,      70,-999.0000,  27.3455,-999.0000, -999.00
 316N145_11,       I01W,     907,          1,         35,     SIH003,2,19950913,       2127,     8.5083,    53.6667,       4970,    28.1,  27.3470,  35.6503,2,  35.6512,2,    213.9,2,   218.3,2,    2.46,2,    0.12,2,    0.06,2,    0.22,2,-999.000,9,-999.000,9,  1985.1,2,  2330.2,2,-999.0000,9,-999.0000,9, -999.00,9, -999.00,9,  -999.0,9,    -9.0,-999.000,9,-999.000,     270,-999.0000,  27.3405,-999.0000, -999.00
 316N145_11,       I01W,     907,          1,         34,     SIH026,2,19950913,       2127,     8.5083,    53.6667,       4970,    62.8,  27.1757,  35.6528,2,  35.6532,2,    210.6,2,   205.7,2,    2.64,2,    0.54,2,    0.16,2,    0.27,2,   1.669,2,   0.965,2,  1991.2,2,  2330.4,2,-999.0000,9,-999.0000,9, -999.00,9, -999.00,9,  -999.0,9,    -9.0,-999.000,9,-999.000,     616,-999.0000,  27.1612,-999.0000, -999.00
 316N145_11,       I01W,     907,          1,         33,     SIH027,2,19950913,       2127,     8.5083,    53.6667,       4970,    92.1,  26.2321,  35.5530,2,  35.5533,2,    212.3,2,   212.0,2,    3.02,2,    1.80,2,    0.25,2,    0.37,2,-999.000,9,-999.000,9,  2004.5,2,  2324.3,2,-999.0000,9,-999.0000,9, -999.00,9, -999.00,9,  -999.0,9,    -9.0,-999.000,9,-999.000,     910,-999.0000,  26.2114,-999.0000, -999.00
 316N145_11,       I01W,     907,          1,         32,     SIH028,2,19950913,       2127,     8.5083,    53.6667,       4970,   121.3,  25.9513,  35.5789,2,  35.5748,2,    201.1,2,   197.1,2,    3.39,2,    2.39,2,    0.65,2,    0.43,2,-999.000,9,-999.000,9,  2013.0,2,  2321.2,2,-999.0000,9,-999.0000,9, -999.00,9, -999.00,9,  -999.0,9,    -9.0,-999.000,9,-999.000,    1202,-999.0000,  25.9242,-999.0000, -999.00
 316N145_11,       I01W,     907,          1,         31,     SIH029,2,19950913,       2127,     8.5083,    53.6667,       4970,   150.4,  25.9563,  35.6735,2,  35.6769,2,    194.3,2,   188.9,2,    3.56,2,    3.22,2,    0.92,2,    0.49,2,   1.734,2,   1.003,2,  2023.7,2,  2328.5,2,-999.0000,9,-999.0000,9, -999.00,9, -999.00,9,  -999.0,9,    -9.0,-999.000,9,-999.000,    1493,-999.0000,  25.9227,-999.0000, -999.00
 316N145_11,       I01W,     907,          1,         29,     SIH031,2,19950913,       2127,     8.5083,    53.6667,       4970,   295.6,  14.0852,  35.4062,2,  35.4046,2,     35.2,2,    44.2,2,   23.49,2,   25.77,2,    0.01,2,    1.99,2,-999.000,9,-999.000,9,  2221.1,2,  2322.4,2,-999.0000,9,-999.0000,9, -999.00,9, -999.00,9,  -999.0,9,    -9.0,-999.000,9,-999.000,    2945,-999.0000,  14.0420,-999.0000, -999.00
 316N145_11,       I01W,     907,          1,         30,     SIH030,2,19950913,       2127,     8.5083,    53.6667,       4970,   295.7,  14.0860,  35.4041,2,  35.4056,2,     35.2,2,    44.2,2,   23.49,2,   25.76,2,    0.01,2,    1.98,2,-999.000,9,-999.000,9,  -999.0,9,  -999.0,9,-999.0000,9,-999.0000,9, -999.00,9, -999.00,9,  -999.0,9,    -9.0,-999.000,9,-999.000,    2946,-999.0000,  14.0428,-999.0000, -999.00
 316N145_11,       I01W,     907,          1,         28,     SIH032,2,19950913,       2127,     8.5083,    53.6667,       4970,   296.6,  14.0827,  35.4062,2,  35.4050,2,     34.9,2,    45.6,2,   23.67,2,   25.78,2,    0.00,2,    1.99,2,   0.780,2,   0.422,2,  2220.1,2,  2322.9,2,-999.0000,9,-999.0000,9, -999.00,9, -999.00,9,  -999.0,9,    -9.0,-999.000,9,-999.000,    2955,-999.0000,  14.0394,-999.0000, -999.00
 316N145_11,       I01W,     907,          1,         27,     SIH033,2,19950913,       2127,     8.5083,    53.6667,       4970,   397.0,  11.6143,  35.2237,2,  35.2253,2,     58.8,2,    59.9,2,   29.23,2,   28.55,2,    0.01,2,    2.07,2,-999.000,9,-999.000,9,  -999.0,9,  -999.0,9,-999.0000,9,-999.0000,9, -999.00,9, -999.00,9,  -999.0,9,    -9.0,-999.000,9,-999.000,    3959,-999.0000,  11.5630,-999.0000, -999.00
 316N145_11,       I01W,     907,          1,         26,     SIH037,2,19950913,       2127,     8.5083,    53.6667,       4970,   498.3,  10.9206,  35.2425,2,  35.2412,2,     44.7,2,    49.7,2,   34.60,2,   30.38,2,    0.01,2,    2.23,2,   0.324,2,   0.171,2,  2241.1,2,  2324.6,2,-999.0000,9,-999.0000,9, -999.00,9, -999.00,9,  -999.0,9,    -9.0,-999.000,9,-999.000,    4973,-999.0000,  10.8585,-999.0000, -999.00
 316N145_11,       I01W,     907,          1,         25,     SI9446,2,19950913,       2127,     8.5083,    53.6667,       4970,   598.2,  10.5738,  35.3077,2,  35.3074,2,     29.0,2,    33.9,2,   45.14,2,   32.93,2,    0.01,2,    2.49,2,-999.000,9,-999.000,9,  -999.0,9,  -999.0,9,-999.0000,9,-999.0000,9, -999.00,9, -999.00,9,  -999.0,9,    -9.0,-999.000,9,-999.000,    5972,-999.0000,  10.5002,-999.0000, -999.00
 316N145_11,       I01W,     907,          1,         24,     SIH036,2,19950913,       2127,     8.5083,    53.6667,       4970,   698.5,  10.0453,  35.3169,2,  35.3127,2,     24.0,2,    25.9,2,   52.80,2,   33.93,2,    0.01,2,    2.58,2,   0.067,2,   0.035,2,  2276.8,2,  2343.4,2,-999.0000,9,-999.0000,9, -999.00,9, -999.00,9,  -999.0,9,    -9.0,-999.000,9,-999.000,    6975,-999.0000,   9.9616,-999.0000, -999.00
 316N145_11,       I01W,     907,          1,         23,     SIH001,2,19950913,       2127,     8.5083,    53.6667,       4970,   800.0,   9.3911,  35.2960,2,  35.2984,2,     25.1,2,    25.0,2,   60.67,2,   34.84,2,    0.00,2,    2.65,2,   0.044,2,   0.020,2,  -999.0,9,  -999.0,9,-999.0000,9,-999.0000,9, -999.00,9, -999.00,9,  -999.0,9,    -9.0,-999.000,9,-999.000,    7991,-999.0000,   9.2987,-999.0000, -999.00
 316N145_11,       I01W,     907,          1,         22,     SIH019,2,19950913,       2127,     8.5083,    53.6667,       4970,   995.9,   8.2289,  35.2144,2,  35.2176,2,     32.1,2,    30.9,2,   73.72,2,   36.15,2,    0.00,2,    2.73,2,-999.000,9,-999.000,9,  2300.3,2,  2348.2,3,-999.0000,9,-999.0000,9, -999.00,9, -999.00,9,  -999.0,9,    -9.0,-999.000,9,-999.000,    9951,-999.0000,   8.1211,-999.0000, -999.00
 316N145_11,       I01W,     907,          1,         21,     SIH025,2,19950913,       2127,     8.5083,    53.6667,       4970,  1197.2,   6.7529,  35.0826,2,  35.0813,2,     47.8,2,    44.7,2,   87.54,2,   37.20,2,    0.00,2,    2.79,2,   0.006,2,   0.003,2,  -999.0,9,  -999.0,9,-999.0000,9,-999.0000,9, -999.00,9, -999.00,9,  -999.0,9,    -9.0,-999.000,9,-999.000,   11965,-999.0000,   6.6347,-999.0000, -999.00
 316N145_11,       I01W,     907,          1,         20,     SIH004,2,19950913,       2127,     8.5083,    53.6667,       4970,  1399.2,   5.5233,  34.9811,2,  34.9813,2,     63.6,2,    62.8,2,   98.68,2,   37.36,2,    0.01,2,    2.75,2,-999.000,9,-999.000,9,  2317.2,2,  2380.1,2,-999.0000,9,-999.0000,9, -999.00,9, -999.00,9,  -999.0,9,    -9.0,-999.000,9,-999.000,   13986,-999.0000,   5.3963,-999.0000, -999.00
 316N145_11,       I01W,     907,          1,         19,     SIH005,2,19950913,       2127,     8.5083,    53.6667,       4970,  1599.6,   4.4957,  34.9084,2,  34.9075,2,     82.8,2,    81.1,2,  109.25,2,   36.95,2,    0.01,2,    2.72,2,  -0.001,2,   0.000,2,  -999.0,9,  -999.0,9,-999.0000,9,-999.0000,9, -999.00,9, -999.00,9,  -999.0,9,    -9.0,-999.000,9,-999.000,   15991,-999.0000,   4.3606,-999.0000, -999.00
 316N145_11,       I01W,     907,          1,         18,     SIH006,2,19950913,       2127,     8.5083,    53.6667,       4970,  1796.2,   3.6289,  34.8515,2,  34.8534,2,     95.7,2,    98.6,2,  119.23,2,   36.66,2,    0.00,2,    2.67,2,-999.000,9,-999.000,9,  2324.7,2,  2401.6,2,-999.0000,9,-999.0000,9, -999.00,9, -999.00,9,  -999.0,9,    -9.0,-999.000,9,-999.000,   17958,-999.0000,   3.4864,-999.0000, -999.00
 316N145_11,       I01W,     907,          1,         17,     SIH038,2,19950913,       2127,     8.5083,    53.6667,       4970,  1998.5,   3.0978,  34.8172,2,  34.8170,2,    110.9,2,   112.1,2,  124.24,2,   36.29,2,    0.01,2,    2.62,2,   0.000,2,  -0.001,2,  -999.0,9,  -999.0,9,-999.0000,9,-999.0000,9, -999.00,9, -999.00,9,  -999.0,9,    -9.0,-999.000,9,-999.000,   19983,-999.0000,   2.9443,-999.0000, -999.00
 316N145_11,       I01W,     907,          1,         16,     SIH008,2,19950913,       2127,     8.5083,    53.6667,       4970,  2195.3,   2.6687,  34.7899,2,  34.7907,2,    123.5,2,   125.0,2,  128.28,2,   35.78,2,    0.00,2,    2.57,2,-999.000,9,-999.000,9,  2322.8,2,  2396.8,3,-999.0000,9,-999.0000,9, -999.00,9, -999.00,9,  -999.0,9,    -9.0,-999.000,9,-999.000,   21952,-999.0000,   2.5040,-999.0000, -999.00
 316N145_11,       I01W,     907,          1,         15,     SIH009,2,19950913,       2127,     8.5083,    53.6667,       4970,  2397.5,   2.3223,  34.7718,2,  34.7724,2,    132.1,2,   132.4,2,  132.69,2,   35.67,2,    0.01,2,    2.54,2,  -0.001,2,   0.002,2,  -999.0,9,  -999.0,9,-999.0000,9,-999.0000,9, -999.00,9, -999.00,9,  -999.0,9,    -9.0,-999.000,9,-999.000,   23976,-999.0000,   2.1451,-999.0000, -999.00
 316N145_11,       I01W,     907,          1,         14,     SIH010,2,19950913,       2127,     8.5083,    53.6667,       4970,  2595.3,   2.1263,  34.7628,2,  34.7630,2,    136.4,2,   137.9,2,  134.82,2,   35.27,2,    0.00,2,    2.51,2,-999.000,9,-999.000,9,  -999.0,9,  -999.0,9,-999.0000,9,-999.0000,9, -999.00,9, -999.00,9,  -999.0,9,    -9.0,-999.000,9,-999.000,   25955,-999.0000,   1.9343,-999.0000, -999.00
 316N145_11,       I01W,     907,          1,         13,     SIH011,2,19950913,       2127,     8.5083,    53.6667,       4970,  2797.7,   1.9714,  34.7533,2,  34.7528,2,    143.4,2,   144.5,2,  136.16,2,   35.22,2,    0.00,2,    2.49,2,  -0.001,2,   0.000,2,  -999.0,9,  -999.0,9,-999.0000,9,-999.0000,9, -999.00,9, -999.00,9,  -999.0,9,    -9.0,-999.000,9,-999.000,   27980,-999.0000,   1.7635,-999.0000, -999.00
 316N145_11,       I01W,     907,          1,         12,     SIH012,2,19950913,       2127,     8.5083,    53.6667,       4970,  2995.4,   1.8489,  34.7458,2,  34.7453,2,    149.9,2,   151.8,2,  135.79,2,   35.01,2,    0.01,2,    2.46,2,-999.000,9,-999.000,9,  -999.0,9,  -999.0,9,-999.0000,9,-999.0000,9, -999.00,9, -999.00,9,  -999.0,9,    -9.0,-999.000,9,-999.000,   29959,-999.0000,   1.6245,-999.0000, -999.00
 316N145_11,       I01W,     907,          1,         11,     SI9426,2,19950913,       2127,     8.5083,    53.6667,       4970,  3188.4,   1.7374,  34.7384,2,  34.7394,2,    156.6,2,   159.7,2,  135.59,2,   34.66,2,    0.00,2,    2.43,2,   0.000,2,  -0.001,2,  -999.0,9,  -999.0,9,-999.0000,9,-999.0000,9, -999.00,9, -999.00,9,  -999.0,9,    -9.0,-999.000,9,-999.000,   31890,-999.0000,   1.4965,-999.0000, -999.00
 316N145_11,       I01W,     907,          1,         10,     SIH014,2,19950913,       2127,     8.5083,    53.6667,       4970,  3392.0,   1.6435,  34.7342,2,  34.7331,2,    162.9,2,   164.8,2,  135.21,2,   34.55,2,    0.01,2,    2.40,2,-999.000,9,-999.000,9,  -999.0,9,  -999.0,9,-999.0000,9,-999.0000,9, -999.00,9, -999.00,9,  -999.0,9,    -9.0,-999.000,9,-999.000,   33928,-999.0000,   1.3845,-999.0000, -999.00
 316N145_11,       I01W,     907,          1,          9,     SIH015,2,19950913,       2127,     8.5083,    53.6667,       4970,  3595.2,   1.5732,  34.7292,2,  34.7296,2,    168.4,2,   170.9,2,  134.45,2,   34.20,2,    0.00,2,    2.38,2,   0.014,4,  -0.001,2,  -999.0,9,  -999.0,9,-999.0000,9,-999.0000,9, -999.00,9, -999.00,9,  -999.0,9,    -9.0,-999.000,9,-999.000,   35961,-999.0000,   1.2951,-999.0000, -999.00
 316N145_11,       I01W,     907,          1,          8,     SIH016,2,19950913,       2127,     8.5083,    53.6667,       4970,  3799.2,   1.5003,  34.7256,2,  34.7256,2,    173.7,2,   173.7,2,  134.07,2,   34.05,2,    0.00,2,    2.36,2,-999.000,9,-999.000,9,  -999.0,9,  -999.0,9,-999.0000,9,-999.0000,9, -999.00,9, -999.00,9,  -999.0,9,    -9.0,-999.000,9,-999.000,   38003,-999.0000,   1.2028,-999.0000, -999.00
 316N145_11,       I01W,     907,          1,          7,     SIH017,2,19950913,       2127,     8.5083,    53.6667,       4970,  3991.5,   1.4496,  34.7224,2,  34.7227,2,    175.1,2,   176.9,2,  134.26,2,   33.90,2,    0.01,2,    2.34,2,   0.002,2,   0.001,2,  -999.0,9,  -999.0,9,-999.0000,9,-999.0000,9, -999.00,9, -999.00,9,  -999.0,9,    -9.0,-999.000,9,-999.000,   39926,-999.0000,   1.1327,-999.0000, -999.00
 316N145_11,       I01W,     907,          1,          6,     SIH018,2,19950913,       2127,     8.5083,    53.6667,       4970,  4196.5,   1.3952,  34.7206,2,  34.7197,2,    178.5,2,   182.0,2,  133.31,2,   33.64,2,    0.00,2,    2.32,2,-999.000,9,-999.000,9,  -999.0,9,  -999.0,9,-999.0000,9,-999.0000,9, -999.00,9, -999.00,9,  -999.0,9,    -9.0,-999.000,9,-999.000,   41978,-999.0000,   1.0574,-999.0000, -999.00
 316N145_11,       I01W,     907,          1,          5,     SIH002,2,19950913,       2127,     8.5083,    53.6667,       4970,  4391.4,   1.3801,  34.7184,2,  34.7184,2,    182.4,2,   182.1,2,  134.08,2,   33.70,2,    0.00,2,    2.33,2,   0.003,2,  -0.001,2,  -999.0,9,  -999.0,9,-999.0000,9,-999.0000,9, -999.00,9, -999.00,9,  -999.0,9,    -9.0,-999.000,9,-999.000,   43928,-999.0000,   1.0210,-999.0000, -999.00
 316N145_11,       I01W,     907,          1,          4,     SIH020,2,19950913,       2127,     8.5083,    53.6667,       4970,  4595.5,   1.3728,  34.7179,2,  34.7191,2,    184.1,2,   183.9,2,  133.70,2,   33.50,2,    0.01,2,    2.31,2,-999.000,9,-999.000,9,  -999.0,9,  -999.0,9,-999.0000,9,-999.0000,9, -999.00,9, -999.00,9,  -999.0,9,    -9.0,-999.000,9,-999.000,   45971,-999.0000,   0.9905,-999.0000, -999.00
 316N145_11,       I01W,     907,          1,          3,     SIH021,2,19950913,       2127,     8.5083,    53.6667,       4970,  4795.7,   1.3736,  34.7168,2,  34.7170,2,    183.2,2,   197.6,4,  133.51,2,   33.46,2,    0.00,2,    2.31,2,   0.000,2,  -0.002,2,  -999.0,9,  -999.0,9,-999.0000,9,-999.0000,9, -999.00,9, -999.00,9,  -999.0,9,    -9.0,-999.000,9,-999.000,   47974,-999.0000,   0.9679,-999.0000, -999.00
 316N145_11,       I01W,     907,          1,          2,     SIH022,2,19950913,       2127,     8.5083,    53.6667,       4970,  5030.6,   1.3867,  34.7163,2,  34.7170,2,    186.8,2,   186.6,2,  133.51,2,   33.51,2,    0.00,2,    2.31,2,   0.000,2,   0.000,2,  -999.0,9,  -999.0,9,-999.0000,9,-999.0000,9, -999.00,9, -999.00,9,  -999.0,9,    -9.0,-999.000,9,-999.000,   50325,-999.0000,   0.9523,-999.0000, -999.00
 316N145_11,       I01W,     907,          1,          1,     SIH023,2,19950913,       2127,     8.5083,    53.6667,       4970,  5080.9,   1.3931,  34.7154,2,  34.7176,2,    185.5,2,   184.6,2,  135.61,2,   33.53,2,    0.01,2,    2.32,2,   0.003,2,  -0.001,2,  -999.0,9,  -999.0,9,-999.0000,9,-999.0000,9, -999.00,9, -999.00,9,  -999.0,9,    -9.0,-999.000,9,-999.000,   50828,-999.0000,   0.9525,-999.0000, -999.00