BOTTLE,20211119CCHSIORKP
EXPOCODE,SECT_ID,STNNBR,CASTNO,SAMPNO,BTLNBR,BTLNBR_FLAG_W,DATE,TIME,LATITUDE,LONGITUDE,DEPTH,CTDPRS,CTDTMP,CTDSAL,CTDSAL_FLAG_W,SALNTY,SALNTY_FLAG_W,CTDOXY,CTDOXY_FLAG_W,OXYGEN,OXYGEN_FLAG_W,SILCAT,SILCAT_FLAG_W,NITRAT,NITRAT_FLAG_W,NITRIT,NITRIT_FLAG_W,PHSPHT,PHSPHT_FLAG_W,CFC-11,CFC-11_FLAG_W,CFC-12,CFC-12_FLAG_W,TCARBN,TCARBN_FLAG_W,ALKALI,ALKALI_FLAG_W,TRITUM,TRITUM_FLAG_W,HELIUM,HELIUM_FLAG_W,DELHE3,DELHE3_FLAG_W,DELC13,DELC13_FLAG_W,DELC14,DELC14_FLAG_W,C14ERR,NEON,NEON_FLAG_W,NEONER,CTDRAW,TRITER,THETA,HELIER,DELHER
,,,,,,,,,,,METERS,DBAR,ITS-90,PSS-78,,PSS-78,,UMOL/KG,,UMOL/KG,,UMOL/KG,,UMOL/KG,,UMOL/KG,,UMOL/KG,,PMOL/KG,,PMOL/KG,,UMOL/KG,,UMOL/KG,,TU,,NMOL/KG,,PERCNT,,/MILLE,,/MILLE,,/MILLE,NMOL/KG,,NMOL/KG,DBAR,TU,DEG C,NMOL/KG,PERCNT
 316N145_11,       I01W,     915,          1,         30,     SIH030,2,19950916,       0007,     8.4945,    57.5750,       3105,    10.5,  26.5299,  35.6736,2,  35.6761,2,    221.9,2,   218.5,2,    2.87,2,    2.00,2,    0.16,2,    0.36,2,   1.779,2,   1.029,2,  2005.6,2,  2329.8,2,-999.0000,9,-999.0000,9, -999.00,9, -999.00,9,  -999.0,9,    -9.0,-999.000,9,-999.000,      96,-999.0000,  26.5275,-999.0000, -999.00
 316N145_11,       I01W,     915,          1,         29,     SIH031,2,19950916,       0007,     8.4945,    57.5750,       3105,    30.8,  26.4786,  35.6745,2,  35.6751,2,    217.4,2,   218.6,2,    3.21,2,    1.96,2,    0.15,2,    0.36,2,-999.000,9,-999.000,9,  2006.7,2,  2329.4,2,-999.0000,9,-999.0000,9, -999.00,9, -999.00,9,  -999.0,9,    -9.0,-999.000,9,-999.000,     299,-999.0000,  26.4716,-999.0000, -999.00
 316N145_11,       I01W,     915,          1,         28,     SIH032,2,19950916,       0007,     8.4945,    57.5750,       3105,    61.0,  25.9870,  35.6496,2,  35.6599,2,    200.1,2,   200.9,2,    3.73,2,    3.33,2,    0.57,2,    0.48,2,-999.000,9,-999.000,9,  2019.6,2,  2326.4,2,-999.0000,9,-999.0000,9, -999.00,9, -999.00,9,  -999.0,9,    -9.0,-999.000,9,-999.000,     601,-999.0000,  25.9733,-999.0000, -999.00
 316N145_11,       I01W,     915,          1,         27,     SIH033,2,19950916,       0007,     8.4945,    57.5750,       3105,    90.7,  24.8599,  35.7516,2,  35.7448,2,    158.1,2,   159.1,2,    5.71,2,    8.06,2,    0.04,2,    0.75,2,-999.000,9,-999.000,9,  2058.2,2,  2334.8,2,-999.0000,9,-999.0000,9, -999.00,9, -999.00,9,  -999.0,9,    -9.0,-999.000,9,-999.000,     899,-999.0000,  24.8403,-999.0000, -999.00
 316N145_11,       I01W,     915,          1,         26,     SIH037,2,19950916,       0007,     8.4945,    57.5750,       3105,   120.3,  23.2278,  35.5668,2,  35.5693,2,    151.0,2,   143.3,2,    7.87,2,   11.43,2,    0.04,2,    0.96,2,   1.613,2,   0.919,2,  2079.4,2,  2324.0,2,-999.0000,9,-999.0000,9, -999.00,9, -999.00,9,  -999.0,9,    -9.0,-999.000,9,-999.000,    1194,-999.0000,  23.2030,-999.0000, -999.00
 316N145_11,       I01W,     915,          1,         25,     SI9446,2,19950916,       0007,     8.4945,    57.5750,       3105,   149.8,  21.7748,  35.6289,2,  35.6265,2,     86.4,2,    83.0,2,   11.31,2,   17.69,2,    0.02,2,    1.38,2,-999.000,9,-999.000,9,  2132.4,2,  -999.0,9,-999.0000,9,-999.0000,9, -999.00,9, -999.00,9,  -999.0,9,    -9.0,-999.000,9,-999.000,    1490,-999.0000,  21.7453,-999.0000, -999.00
 316N145_11,       I01W,     915,          1,         24,     SIH036,2,19950916,       0007,     8.4945,    57.5750,       3105,   200.6,  16.8638,  35.2402,2,  35.2580,2,    117.3,2,   121.1,2,   13.30,2,   16.42,2,    0.02,2,    1.22,2,-999.000,9,-999.000,9,  2128.7,2,  2311.0,2,-999.0000,9,-999.0000,9, -999.00,9, -999.00,9,  -999.0,9,    -9.0,-999.000,9,-999.000,    1998,-999.0000,  16.8308,-999.0000, -999.00
 316N145_11,       I01W,     915,          1,         23,     SIH001,2,19950916,       0007,     8.4945,    57.5750,       3105,   249.5,  14.6147,  35.3642,2,  35.3474,2,     55.6,2,    55.8,2,   21.48,2,   24.62,2,    0.01,2,    1.87,2,   0.915,3,   0.479,2,  2204.8,2,  2319.4,2,-999.0000,9,-999.0000,9, -999.00,9, -999.00,9,  -999.0,9,    -9.0,-999.000,9,-999.000,    2487,-999.0000,  14.5774,-999.0000, -999.00
 316N145_11,       I01W,     915,          1,         22,     SIH019,2,19950916,       0007,     8.4945,    57.5750,       3105,   300.2,  12.7876,  35.2452,2,  35.2501,2,     60.6,2,    69.2,2,   23.47,2,   25.67,2,    0.00,2,    1.89,2,-999.000,9,-999.000,9,  2206.7,2,  2315.6,2,-999.0000,9,-999.0000,9, -999.00,9, -999.00,9,  -999.0,9,    -9.0,-999.000,9,-999.000,    2994,-999.0000,  12.7465,-999.0000, -999.00
 316N145_11,       I01W,     915,          1,         21,     SIH025,2,19950916,       0007,     8.4945,    57.5750,       3105,   400.7,  11.5298,  35.1895,2,  35.1861,2,     62.0,2,    60.5,2,   28.56,2,   28.83,2,    0.01,2,    2.06,2,-999.000,9,-999.000,9,  2223.2,2,  2316.3,2,-999.0000,9,-999.0000,9, -999.00,9, -999.00,9,  -999.0,9,    -9.0,-999.000,9,-999.000,    3999,-999.0000,  11.4783,-999.0000, -999.00
 316N145_11,       I01W,     915,          1,         20,     SIH004,2,19950916,       0007,     8.4945,    57.5750,       3105,   500.9,  11.3027,  35.3153,2,  35.3149,2,     29.2,2,    28.1,2,   37.30,2,   31.97,2,    0.00,2,    2.39,2,   0.200,2,   0.106,2,  2253.5,2,  2328.4,2,-999.0000,9,-999.0000,9, -999.00,9, -999.00,9,  -999.0,9,    -9.0,-999.000,9,-999.000,    5002,-999.0000,  11.2388,-999.0000, -999.00
 316N145_11,       I01W,     915,          1,         19,     SIH005,2,19950916,       0007,     8.4945,    57.5750,       3105,   601.7,  11.0582,  35.3951,2,  35.3914,2,     21.1,2,    20.6,2,   43.49,2,   32.53,2,    0.01,2,    2.52,2,-999.000,9,-999.000,9,  2264.7,2,  2333.3,2,-999.0000,9,-999.0000,9, -999.00,9, -999.00,9,  -999.0,9,    -9.0,-999.000,9,-999.000,    6010,-999.0000,  10.9821,-999.0000, -999.00
 316N145_11,       I01W,     915,          1,         18,     SIH006,2,19950916,       0007,     8.4945,    57.5750,       3105,   696.8,  10.3212,  35.3755,2,  35.3784,2,     20.3,2,    19.3,2,   52.43,2,   33.93,2,    0.00,2,    2.61,2,-999.000,9,-999.000,9,  2275.6,2,  2341.9,2,-999.0000,9,-999.0000,9, -999.00,9, -999.00,9,  -999.0,9,    -9.0,-999.000,9,-999.000,    6962,-999.0000,  10.2363,-999.0000, -999.00
 316N145_11,       I01W,     915,          1,         17,     SIH038,2,19950916,       0007,     8.4945,    57.5750,       3105,   798.0,   9.4453,  35.3474,2,  35.3464,2,     21.1,2,    20.1,2,   63.01,2,   35.32,2,    0.00,2,    2.71,2,-999.000,9,-999.000,9,  2289.4,2,  2353.6,2,-999.0000,9,-999.0000,9, -999.00,9, -999.00,9,  -999.0,9,    -9.0,-999.000,9,-999.000,    7974,-999.0000,   9.3527,-999.0000, -999.00
 316N145_11,       I01W,     915,          1,         16,     SIH008,2,19950916,       0007,     8.4945,    57.5750,       3105,   898.1,   8.3428,  35.2248,2,  35.2264,2,     27.3,2,    28.2,2,   72.33,2,   36.44,2,    0.01,2,    2.76,2,-999.000,9,-999.000,9,  2296.5,2,  2359.7,2,-999.0000,9,-999.0000,9, -999.00,9, -999.00,9,  -999.0,9,    -9.0,-999.000,9,-999.000,    8976,-999.0000,   8.2453,-999.0000, -999.00
 316N145_11,       I01W,     915,          1,         15,     SIH009,2,19950916,       0007,     8.4945,    57.5750,       3105,   998.2,   7.6394,  35.1731,2,  35.1721,2,     34.7,2,    35.5,2,   79.08,2,   36.77,2,    0.00,2,    2.77,2,   0.017,2,   0.006,2,  2302.4,2,  2366.1,2,-999.0000,9,-999.0000,9, -999.00,9, -999.00,9,  -999.0,9,    -9.0,-999.000,9,-999.000,    9977,-999.0000,   7.5355,-999.0000, -999.00
 316N145_11,       I01W,     915,          1,         14,     SIH010,2,19950916,       0007,     8.4945,    57.5750,       3105,  1099.5,   6.8042,  35.0936,2,  35.0943,2,     43.9,2,    44.0,2,   87.13,2,   37.29,2,    0.00,2,    2.80,2,-999.000,9,-999.000,9,  -999.0,9,  -999.0,9,-999.0000,9,-999.0000,9, -999.00,9, -999.00,9,  -999.0,9,    -9.0,-999.000,9,-999.000,   10990,-999.0000,   6.6959,-999.0000, -999.00
 316N145_11,       I01W,     915,          1,         13,     SIH011,2,19950916,       0007,     8.4945,    57.5750,       3105,  1199.9,   6.0567,  35.0320,2,  35.0276,2,     51.0,2,    54.9,2,   93.90,2,   37.45,2,    0.01,2,    2.80,2,-999.000,9,-999.000,9,  -999.0,9,  -999.0,9,-999.0000,9,-999.0000,9, -999.00,9, -999.00,9,  -999.0,9,    -9.0,-999.000,9,-999.000,   11995,-999.0000,   5.9446,-999.0000, -999.00
 316N145_11,       I01W,     915,          1,         12,     SIH012,2,19950916,       0007,     8.4945,    57.5750,       3105,  1300.3,   5.7483,  34.9947,2,  34.9955,2,     61.2,2,    60.6,2,   96.82,2,   37.40,2,    0.01,2,    2.77,2,-999.000,9,-999.000,9,  -999.0,9,  -999.0,9,-999.0000,9,-999.0000,9, -999.00,9, -999.00,9,  -999.0,9,    -9.0,-999.000,9,-999.000,   13000,-999.0000,   5.6289,-999.0000, -999.00
 316N145_11,       I01W,     915,          1,         11,     SI9426,2,19950916,       0007,     8.4945,    57.5750,       3105,  1402.0,   5.4320,  34.9784,2,  34.9784,2,     66.4,2,    62.6,2,  100.29,2,   37.47,2,   -0.01,2,    2.78,2,-999.000,9,-999.000,9,  -999.0,9,  -999.0,9,-999.0000,9,-999.0000,9, -999.00,9, -999.00,9,  -999.0,9,    -9.0,-999.000,9,-999.000,   14017,-999.0000,   5.3056,-999.0000, -999.00
 316N145_11,       I01W,     915,          1,         10,     SIH014,2,19950916,       0007,     8.4945,    57.5750,       3105,  1597.3,   4.3904,  34.9013,2,  34.9040,2,     82.5,2,    82.7,2,  110.92,2,   37.27,2,    0.00,2,    2.74,2,-999.000,9,-999.000,9,  -999.0,9,  -999.0,9,-999.0000,9,-999.0000,9, -999.00,9, -999.00,9,  -999.0,9,    -9.0,-999.000,9,-999.000,   15971,-999.0000,   4.2569,-999.0000, -999.00
 316N145_11,       I01W,     915,          1,          9,     SIH015,2,19950916,       0007,     8.4945,    57.5750,       3105,  1797.1,   3.4351,  34.8377,2,  34.8383,2,    103.2,2,   104.4,2,  120.63,2,   36.61,2,    0.01,2,    2.67,2,-999.000,9,-999.000,9,  -999.0,9,  -999.0,9,-999.0000,9,-999.0000,9, -999.00,9, -999.00,9,  -999.0,9,    -9.0,-999.000,9,-999.000,   17971,-999.0000,   3.2951,-999.0000, -999.00
 316N145_11,       I01W,     915,          1,          8,     SIH016,2,19950916,       0007,     8.4945,    57.5750,       3105,  1997.1,   2.8789,  34.8036,2,  34.8051,2,    118.1,2,   117.9,2,  126.31,2,   36.21,2,    0.00,2,    2.60,2,  -0.002,2,   0.000,2,  -999.0,9,  -999.0,9,-999.0000,9,-999.0000,9, -999.00,9, -999.00,9,  -999.0,9,    -9.0,-999.000,9,-999.000,   19972,-999.0000,   2.7288,-999.0000, -999.00
 316N145_11,       I01W,     915,          1,          7,     SIH017,2,19950916,       0007,     8.4945,    57.5750,       3105,  2198.8,   2.4506,  34.7819,2,  34.7840,2,    128.3,2,   129.3,2,  131.07,2,   35.81,2,    0.00,2,    2.56,2,-999.000,9,-999.000,9,  -999.0,9,  -999.0,9,-999.0000,9,-999.0000,9, -999.00,9, -999.00,9,  -999.0,9,    -9.0,-999.000,9,-999.000,   21990,-999.0000,   2.2893,-999.0000, -999.00
 316N145_11,       I01W,     915,          1,          6,     SIH018,2,19950916,       0007,     8.4945,    57.5750,       3105,  2400.0,   2.2182,  34.7677,2,  34.7683,2,    137.9,2,   137.3,2,  132.55,2,   35.61,2,    0.00,2,    2.53,2,-999.000,9,-999.000,9,  -999.0,9,  -999.0,9,-999.0000,9,-999.0000,9, -999.00,9, -999.00,9,  -999.0,9,    -9.0,-999.000,9,-999.000,   24003,-999.0000,   2.0426,-999.0000, -999.00
 316N145_11,       I01W,     915,          1,          5,     SIH002,2,19950916,       0007,     8.4945,    57.5750,       3105,  2596.7,   1.9954,  34.7554,2,  34.7553,2,    145.7,2,   146.1,2,  134.39,2,   35.36,2,    0.00,2,    2.50,2,-999.000,9,-999.000,9,  -999.0,9,  -999.0,9,-999.0000,9,-999.0000,9, -999.00,9, -999.00,9,  -999.0,9,    -9.0,-999.000,9,-999.000,   25972,-999.0000,   1.8060,-999.0000, -999.00
 316N145_11,       I01W,     915,          1,          4,     SIH020,2,19950916,       0007,     8.4945,    57.5750,       3105,  2798.4,   1.9547,  34.7522,2,  34.7530,2,    147.1,2,   148.8,2,  134.75,2,   35.26,2,    0.00,2,    2.49,2,-999.000,9,-999.000,9,  -999.0,9,  -999.0,9,-999.0000,9,-999.0000,9, -999.00,9, -999.00,9,  -999.0,9,    -9.0,-999.000,9,-999.000,   27990,-999.0000,   1.7471,-999.0000, -999.00
 316N145_11,       I01W,     915,          1,          3,     SIH021,2,19950916,       0007,     8.4945,    57.5750,       3105,  2996.8,   1.8533,  34.7461,2,  34.7467,2,    150.0,2,   151.9,2,  135.31,2,   35.07,2,   -0.01,2,    2.47,2,-999.000,9,-999.000,9,  -999.0,9,  -999.0,9,-999.0000,9,-999.0000,9, -999.00,9, -999.00,9,  -999.0,9,    -9.0,-999.000,9,-999.000,   29976,-999.0000,   1.6287,-999.0000, -999.00
 316N145_11,       I01W,     915,          1,          2,     SIH022,2,19950916,       0007,     8.4945,    57.5750,       3105,  3097.7,   1.8271,  34.7449,2,  34.7451,2,    151.6,2,   154.3,2,  135.13,2,   34.97,2,   -0.01,2,    2.46,2,   0.000,2,  -0.001,2,  -999.0,9,  -999.0,9,-999.0000,9,-999.0000,9, -999.00,9, -999.00,9,  -999.0,9,    -9.0,-999.000,9,-999.000,   30986,-999.0000,   1.5931,-999.0000, -999.00
 316N145_11,       I01W,     915,          1,          1,     SIH023,2,19950916,       0007,     8.4945,    57.5750,       3105,  3180.0,   1.7836,  34.7423,2,  34.7425,2,   -999.0,9,   156.8,2,  135.40,2,   34.78,2,    0.00,2,    2.44,2,  -0.002,2,  -0.002,2,  -999.0,9,  -999.0,9,-999.0000,9,-999.0000,9, -999.00,9, -999.00,9,  -999.0,9,    -9.0,-999.000,9,-999.000,   31809,-999.0000,   1.5425,-999.0000, -999.00