BOTTLE,20211119CCHSIORKP
EXPOCODE,SECT_ID,STNNBR,CASTNO,SAMPNO,BTLNBR,BTLNBR_FLAG_W,DATE,TIME,LATITUDE,LONGITUDE,DEPTH,CTDPRS,CTDTMP,CTDSAL,CTDSAL_FLAG_W,SALNTY,SALNTY_FLAG_W,CTDOXY,CTDOXY_FLAG_W,OXYGEN,OXYGEN_FLAG_W,SILCAT,SILCAT_FLAG_W,NITRAT,NITRAT_FLAG_W,NITRIT,NITRIT_FLAG_W,PHSPHT,PHSPHT_FLAG_W,CFC-11,CFC-11_FLAG_W,CFC-12,CFC-12_FLAG_W,TCARBN,TCARBN_FLAG_W,ALKALI,ALKALI_FLAG_W,TRITUM,TRITUM_FLAG_W,HELIUM,HELIUM_FLAG_W,DELHE3,DELHE3_FLAG_W,DELC13,DELC13_FLAG_W,DELC14,DELC14_FLAG_W,C14ERR,NEON,NEON_FLAG_W,NEONER,CTDRAW,TRITER,THETA,HELIER,DELHER
,,,,,,,,,,,METERS,DBAR,ITS-90,PSS-78,,PSS-78,,UMOL/KG,,UMOL/KG,,UMOL/KG,,UMOL/KG,,UMOL/KG,,UMOL/KG,,PMOL/KG,,PMOL/KG,,UMOL/KG,,UMOL/KG,,TU,,NMOL/KG,,PERCNT,,/MILLE,,/MILLE,,/MILLE,NMOL/KG,,NMOL/KG,DBAR,TU,DEG C,NMOL/KG,PERCNT
 316N145_11,       I01W,     949,          1,         27,     SIH033,2,19950924,       2249,     8.5000,    73.1333,       2250,     8.8,  28.2147,  35.7826,2,  35.7829,2,    206.1,2,   209.1,2,    1.94,2,    0.08,2,    0.00,2,    0.17,2,   1.624,2,   0.955,2,  1966.9,2,  2339.4,2,-999.0000,9,-999.0000,9, -999.00,9, -999.00,9,  -999.0,9,    -9.0,-999.000,9,-999.000,      83,-999.0000,  28.2126,-999.0000, -999.00
 316N145_11,       I01W,     949,          1,         26,     SIH037,2,19950924,       2249,     8.5000,    73.1333,       2250,    28.6,  28.1797,  35.8123,2,  35.8783,2,    201.5,2,   202.1,2,    1.94,2,    0.19,2,    0.01,2,    0.18,2,   1.635,3,   0.954,2,  1975.2,2,  2348.2,2,-999.0000,9,-999.0000,9, -999.00,9, -999.00,9,  -999.0,9,    -9.0,-999.000,9,-999.000,     280,-999.0000,  28.1729,-999.0000, -999.00
 316N145_11,       I01W,     949,          1,         25,     SI9446,2,19950924,       2249,     8.5000,    73.1333,       2250,    59.1,  22.7489,  35.8158,2,  35.7627,2,     50.3,2,    49.6,2,   11.82,2,   20.30,2,    0.08,2,    1.54,2,-999.000,9,-999.000,9,  2149.7,2,  2334.3,2,-999.0000,9,-999.0000,9, -999.00,9, -999.00,9,  -999.0,9,    -9.0,-999.000,9,-999.000,     585,-999.0000,  22.7369,-999.0000, -999.00
 316N145_11,       I01W,     949,          1,         24,     SIH036,2,19950924,       2249,     8.5000,    73.1333,       2250,    88.4,  18.1832,  35.0276,2,  35.0346,2,     18.3,2,    18.3,2,   22.63,2,   27.16,2,    0.02,2,    1.97,2,-999.000,9,-999.000,9,  2183.8,2,  2303.9,2,-999.0000,9,-999.0000,9, -999.00,9, -999.00,9,  -999.0,9,    -9.0,-999.000,9,-999.000,     879,-999.0000,  18.1679,-999.0000, -999.00
 316N145_11,       I01W,     949,          1,         23,     SIH001,3,19950924,       2249,     8.5000,    73.1333,       2250,   119.0,  17.0360,  35.1732,3,  35.1569,2,     20.7,2,    21.4,2,   22.99,2,   27.70,2,    0.02,2,    2.02,2,-999.000,9,-999.000,9,  2199.3,2,  2311.5,2,-999.0000,9,-999.0000,9, -999.00,9, -999.00,9,  -999.0,9,    -9.0,-999.000,9,-999.000,    1184,-999.0000,  17.0164,-999.0000, -999.00
 316N145_11,       I01W,     949,          1,         22,     SIH019,2,19950924,       2249,     8.5000,    73.1333,       2250,   148.7,  14.9830,  35.0480,2,  35.0494,2,     17.5,2,    15.7,2,   28.30,2,   30.02,2,    0.01,2,    2.17,2,   0.515,2,   0.266,2,  2218.9,2,  2309.4,2,-999.0000,9,-999.0000,9, -999.00,9, -999.00,9,  -999.0,9,    -9.0,-999.000,9,-999.000,    1482,-999.0000,  14.9606,-999.0000, -999.00
 316N145_11,       I01W,     949,          1,         21,     SIH025,2,19950924,       2249,     8.5000,    73.1333,       2250,   198.6,  13.6134,  35.1329,2,  35.1319,2,     22.1,2,    25.8,2,   27.20,2,   29.79,2,    0.01,2,    2.14,2,-999.000,9,-999.000,9,  2225.5,2,  2315.9,2,-999.0000,9,-999.0000,9, -999.00,9, -999.00,9,  -999.0,9,    -9.0,-999.000,9,-999.000,    1981,-999.0000,  13.5852,-999.0000, -999.00
 316N145_11,       I01W,     949,          1,         20,     SIH004,2,19950924,       2249,     8.5000,    73.1333,       2250,   248.9,  12.9006,  35.1423,2,  35.1475,2,     26.2,2,    31.4,2,   28.11,2,   30.23,2,    0.01,2,    2.16,2,   0.419,2,   0.219,2,  2232.1,2,  2318.4,2,-999.0000,9,-999.0000,9, -999.00,9, -999.00,9,  -999.0,9,    -9.0,-999.000,9,-999.000,    2484,-999.0000,  12.8664,-999.0000, -999.00
 316N145_11,       I01W,     949,          1,         19,     SIH005,2,19950924,       2249,     8.5000,    73.1333,       2250,   299.5,  11.9912,  35.1605,2,  35.1610,2,     31.8,2,    44.8,2,   28.11,2,   29.90,2,    0.01,2,    2.11,2,-999.000,9,-999.000,9,  2230.5,2,  2317.6,2,-999.0000,9,-999.0000,9, -999.00,9, -999.00,9,  -999.0,9,    -9.0,-999.000,9,-999.000,    2990,-999.0000,  11.9520,-999.0000, -999.00
 316N145_11,       I01W,     949,          1,         18,     SIH006,2,19950924,       2249,     8.5000,    73.1333,       2250,   399.5,  11.2452,  35.1517,2,  35.1522,2,     36.2,2,    37.1,2,   33.42,2,   31.86,2,    0.01,2,    2.26,2,   0.240,2,   0.122,2,  2244.1,2,  2322.9,2,-999.0000,9,-999.0000,9, -999.00,9, -999.00,9,  -999.0,9,    -9.0,-999.000,9,-999.000,    3990,-999.0000,  11.1947,-999.0000, -999.00
 316N145_11,       I01W,     949,          1,         17,     SIH038,2,19950924,       2249,     8.5000,    73.1333,       2250,   500.0,  10.5809,  35.1811,2,  35.1800,2,     23.9,2,    24.8,2,   42.22,2,   33.78,2,    0.01,2,    2.48,2,-999.000,9,-999.000,9,  -999.0,9,  -999.0,9,-999.0000,9,-999.0000,9, -999.00,9, -999.00,9,  -999.0,9,    -9.0,-999.000,9,-999.000,    4996,-999.0000,  10.5197,-999.0000, -999.00
 316N145_11,       I01W,     949,          1,         16,     SIH008,2,19950924,       2249,     8.5000,    73.1333,       2250,   599.9,  10.0917,  35.1990,2,  35.1977,2,     19.0,2,    20.1,2,   49.92,2,   34.76,2,    0.01,2,    2.60,2,   0.040,2,   0.019,2,  2274.9,2,  2340.4,2,-999.0000,9,-999.0000,9, -999.00,9, -999.00,9,  -999.0,9,    -9.0,-999.000,9,-999.000,    5995,-999.0000,  10.0201,-999.0000, -999.00
 316N145_11,       I01W,     949,          1,         15,     SIH009,3,19950924,       2249,     8.5000,    73.1333,       2250,   700.8,   9.3185,  35.1676,3,  35.1691,2,     19.2,2,    19.7,2,   59.44,2,   35.81,2,    0.00,2,    2.69,2,-999.000,9,-999.000,9,  -999.0,9,  -999.0,9,-999.0000,9,-999.0000,9, -999.00,9, -999.00,9,  -999.0,9,    -9.0,-999.000,9,-999.000,    7005,-999.0000,   9.2383,-999.0000, -999.00
 316N145_11,       I01W,     949,          1,         14,     SIH010,2,19950924,       2249,     8.5000,    73.1333,       2250,   801.3,   8.6568,  35.1428,2,  35.1410,2,     24.6,2,    23.6,2,   67.16,2,   36.58,2,    0.00,2,    2.73,2,   0.006,2,   0.000,2,  2294.2,2,  2351.7,2,-999.0000,9,-999.0000,9, -999.00,9, -999.00,9,  -999.0,9,    -9.0,-999.000,9,-999.000,    8010,-999.0000,   8.5685,-999.0000, -999.00
 316N145_11,       I01W,     949,          1,         13,     SIH011,3,19950924,       2249,     8.5000,    73.1333,       2250,   901.7,   8.1519,  35.1119,3,  35.1130,2,     26.8,2,    27.6,2,   73.02,2,   37.01,2,    0.00,2,    2.77,2,-999.000,9,-999.000,9,  -999.0,9,  -999.0,9,-999.0000,9,-999.0000,9, -999.00,9, -999.00,9,  -999.0,9,    -9.0,-999.000,9,-999.000,    9014,-999.0000,   8.0555,-999.0000, -999.00
 316N145_11,       I01W,     949,          1,         12,     SIH012,2,19950924,       2249,     8.5000,    73.1333,       2250,   997.2,   7.2891,  35.0494,2,  35.0449,2,     35.4,2,    35.4,2,   81.65,2,   37.50,2,    0.00,2,    2.79,2,   0.005,2,  -0.001,2,  2306.0,2,  2367.4,2,-999.0000,9,-999.0000,9, -999.00,9, -999.00,9,  -999.0,9,    -9.0,-999.000,9,-999.000,    9969,-999.0000,   7.1881,-999.0000, -999.00
 316N145_11,       I01W,     949,          1,         11,     SI9426,2,19950924,       2249,     8.5000,    73.1333,       2250,  1098.5,   6.3673,  34.9653,2,  34.9658,2,     48.3,2,    48.5,2,   90.46,2,   37.67,2,    0.00,2,    2.79,2,-999.000,9,-999.000,9,  -999.0,9,  -999.0,9,-999.0000,9,-999.0000,9, -999.00,9, -999.00,9,  -999.0,9,    -9.0,-999.000,9,-999.000,   10983,-999.0000,   6.2629,-999.0000, -999.00
 316N145_11,       I01W,     949,          1,         10,     SIH014,2,19950924,       2249,     8.5000,    73.1333,       2250,  1199.2,   5.9218,  34.9437,2,  34.9433,2,     54.5,2,    55.2,2,   95.42,2,   37.78,2,    0.00,2,    2.79,2,  -0.002,2,  -0.001,2,  2314.9,2,  2378.4,2,-999.0000,9,-999.0000,9, -999.00,9, -999.00,9,  -999.0,9,    -9.0,-999.000,9,-999.000,   11991,-999.0000,   5.8110,-999.0000, -999.00
 316N145_11,       I01W,     949,          1,          9,     SIH015,2,19950924,       2249,     8.5000,    73.1333,       2250,  1300.0,   5.5427,  34.9251,2,  34.9248,2,     60.6,2,    61.4,2,   99.46,2,   37.67,2,    0.00,2,    2.78,2,-999.000,9,-999.000,9,  -999.0,9,  -999.0,9,-999.0000,9,-999.0000,9, -999.00,9, -999.00,9,  -999.0,9,    -9.0,-999.000,9,-999.000,   12999,-999.0000,   5.4254,-999.0000, -999.00
 316N145_11,       I01W,     949,          1,          8,     SIH016,3,19950924,       2249,     8.5000,    73.1333,       2250,  1400.9,   5.0353,  34.8996,3,  34.9002,2,     70.0,2,    70.2,2,  104.98,2,   37.51,2,    0.00,2,    2.76,2,  -0.003,2,  -0.002,2,  -999.0,9,  -999.0,9,-999.0000,9,-999.0000,9, -999.00,9, -999.00,9,  -999.0,9,    -9.0,-999.000,9,-999.000,   14009,-999.0000,   4.9133,-999.0000, -999.00
 316N145_11,       I01W,     949,          1,          7,     SIH017,2,19950924,       2249,     8.5000,    73.1333,       2250,  1501.4,   4.5451,  34.8783,2,  34.8806,2,     79.1,2,    78.9,2,  110.49,2,   37.34,2,    0.00,2,    2.74,2,-999.000,9,-999.000,9,  2323.2,2,  2397.1,2,-999.0000,9,-999.0000,9, -999.00,9, -999.00,9,  -999.0,9,    -9.0,-999.000,9,-999.000,   15015,-999.0000,   4.4188,-999.0000, -999.00
 316N145_11,       I01W,     949,          1,          6,     SIH018,2,19950924,       2249,     8.5000,    73.1333,       2250,  1602.3,   3.9887,  34.8571,2,  34.8580,2,     89.0,2,    88.8,2,  116.55,2,   37.12,2,    0.00,2,    2.71,2,-999.000,9,-999.000,9,  -999.0,9,  -999.0,9,-999.0000,9,-999.0000,9, -999.00,9, -999.00,9,  -999.0,9,    -9.0,-999.000,9,-999.000,   16024,-999.0000,   3.8596,-999.0000, -999.00
 316N145_11,       I01W,     949,          1,          5,     SIH002,2,19950924,       2249,     8.5000,    73.1333,       2250,  1798.3,   3.0690,  34.8073,2,  34.8082,2,    110.2,2,   111.4,2,  125.20,2,   36.42,2,    0.00,2,    2.62,2,-999.000,9,-999.000,9,  -999.0,9,  -999.0,9,-999.0000,9,-999.0000,9, -999.00,9, -999.00,9,  -999.0,9,    -9.0,-999.000,9,-999.000,   17985,-999.0000,   2.9340,-999.0000, -999.00
 316N145_11,       I01W,     949,          1,          4,     SIH020,2,19950924,       2249,     8.5000,    73.1333,       2250,  2001.5,   2.7841,  34.7915,2,  34.7919,2,    119.5,2,   119.1,2,  128.51,2,   36.19,2,    0.00,2,    2.59,2,   0.000,2,   0.000,2,  2323.8,2,  2414.7,2,-999.0000,9,-999.0000,9, -999.00,9, -999.00,9,  -999.0,9,    -9.0,-999.000,9,-999.000,   20019,-999.0000,   2.6352,-999.0000, -999.00
 316N145_11,       I01W,     949,          1,          3,     SIH021,2,19950924,       2249,     8.5000,    73.1333,       2250,  2148.7,   2.5792,  34.7815,2,  34.7815,2,    124.7,2,   123.4,2,  131.27,2,   36.13,2,    0.00,2,    2.58,2,-999.000,9,-999.000,9,  -999.0,9,  -999.0,9,-999.0000,9,-999.0000,9, -999.00,9, -999.00,9,  -999.0,9,    -9.0,-999.000,9,-999.000,   21492,-999.0000,   2.4202,-999.0000, -999.00
 316N145_11,       I01W,     949,          1,          2,     SIH022,2,19950924,       2249,     8.5000,    73.1333,       2250,  2219.6,   2.3168,  34.7667,2,  34.7644,2,    129.3,2,   128.4,2,  134.95,2,   35.92,2,    0.00,2,    2.55,2,  -0.001,2,   0.001,2,  -999.0,9,  -999.0,9,-999.0000,9,-999.0000,9, -999.00,9, -999.00,9,  -999.0,9,    -9.0,-999.000,9,-999.000,   22201,-999.0000,   2.1559,-999.0000, -999.00
 316N145_11,       I01W,     949,          1,          1,     SIH023,2,19950924,       2249,     8.5000,    73.1333,       2250,  2269.9,   2.2793,  34.7617,2,  34.7626,2,    130.2,2,   130.9,2,  135.49,2,   35.86,2,    0.00,2,    2.55,2,   0.001,2,   0.005,2,  2327.6,2,  2421.2,2,-999.0000,9,-999.0000,9, -999.00,9, -999.00,9,  -999.0,9,    -9.0,-999.000,9,-999.000,   22705,-999.0000,   2.1144,-999.0000, -999.00