BOTTLE,20211119CCHSIORKP
EXPOCODE,SECT_ID,STNNBR,CASTNO,SAMPNO,BTLNBR,BTLNBR_FLAG_W,DATE,TIME,LATITUDE,LONGITUDE,DEPTH,CTDPRS,CTDTMP,CTDSAL,CTDSAL_FLAG_W,SALNTY,SALNTY_FLAG_W,CTDOXY,CTDOXY_FLAG_W,OXYGEN,OXYGEN_FLAG_W,SILCAT,SILCAT_FLAG_W,NITRAT,NITRAT_FLAG_W,NITRIT,NITRIT_FLAG_W,PHSPHT,PHSPHT_FLAG_W,CFC-11,CFC-11_FLAG_W,CFC-12,CFC-12_FLAG_W,TCARBN,TCARBN_FLAG_W,ALKALI,ALKALI_FLAG_W,TRITUM,TRITUM_FLAG_W,HELIUM,HELIUM_FLAG_W,DELHE3,DELHE3_FLAG_W,DELC13,DELC13_FLAG_W,DELC14,DELC14_FLAG_W,C14ERR,NEON,NEON_FLAG_W,NEONER,CTDRAW,TRITER,THETA,HELIER,DELHER
,,,,,,,,,,,METERS,DBAR,ITS-90,PSS-78,,PSS-78,,UMOL/KG,,UMOL/KG,,UMOL/KG,,UMOL/KG,,UMOL/KG,,UMOL/KG,,PMOL/KG,,PMOL/KG,,UMOL/KG,,UMOL/KG,,TU,,NMOL/KG,,PERCNT,,/MILLE,,/MILLE,,/MILLE,NMOL/KG,,NMOL/KG,DBAR,TU,DEG C,NMOL/KG,PERCNT
 316N145_11,       I01W,     945,          1,         33,     SIH027,2,19950924,       0438,     8.5000,    71.7500,       3475,    10.0,  28.2738,  36.0475,2,  36.0489,2,    200.9,2,   203.8,2,    2.16,2,    0.17,2,    0.00,2,    0.13,2,   1.631,2,   0.953,2,  1971.7,2,  2353.5,2,-999.0000,9,-999.0000,9, -999.00,9, -999.00,9,  -999.0,9,    -9.0,-999.000,9,-999.000,      91,-999.0000,  28.2714,-999.0000, -999.00
 316N145_11,       I01W,     945,          1,         32,     SIH028,2,19950924,       0438,     8.5000,    71.7500,       3475,    30.5,  28.2232,  36.0481,2,  36.0481,2,    208.3,2,   196.9,2,    1.97,2,    0.17,2,    0.00,2,    0.14,2,   1.636,4,   0.971,4,  1971.0,2,  2354.1,2,-999.0000,9,-999.0000,9, -999.00,9, -999.00,9,  -999.0,9,    -9.0,-999.000,9,-999.000,     296,-999.0000,  28.2160,-999.0000, -999.00
 316N145_11,       I01W,     945,          1,         31,     SIH029,2,19950924,       0438,     8.5000,    71.7500,       3475,    59.6,  27.9364,  36.4534,2,  36.4509,2,    194.0,2,   196.9,2,    1.97,2,    0.21,2,    0.01,2,    0.23,2,-999.000,9,-999.000,9,  2004.9,2,  2384.1,2,-999.0000,9,-999.0000,9, -999.00,9, -999.00,9,  -999.0,9,    -9.0,-999.000,9,-999.000,     587,-999.0000,  27.9223,-999.0000, -999.00
 316N145_11,       I01W,     945,          1,         30,     SIH030,2,19950924,       0438,     8.5000,    71.7500,       3475,    90.1,  21.0272,  35.6775,2,  35.6553,2,     16.0,2,    11.4,2,   15.64,2,   24.79,2,    0.03,2,    1.93,2,-999.000,9,-999.000,9,  2188.0,2,  2330.8,2,-999.0000,9,-999.0000,9, -999.00,9, -999.00,9,  -999.0,9,    -9.0,-999.000,9,-999.000,     892,-999.0000,  21.0099,-999.0000, -999.00
 316N145_11,       I01W,     945,          1,         29,     SIH031,3,19950924,       0438,     8.5000,    71.7500,       3475,   120.0,  16.4837,  35.3044,3,  35.2850,2,      6.2,2,    10.6,2,   22.47,2,   27.94,2,    0.01,2,    2.13,2,   0.711,2,   0.387,2,  2212.1,2,  2317.2,2,-999.0000,9,-999.0000,9, -999.00,9, -999.00,9,  -999.0,9,    -9.0,-999.000,9,-999.000,    1191,-999.0000,  16.4643,-999.0000, -999.00
 316N145_11,       I01W,     945,          1,         28,     SIH032,3,19950924,       0438,     8.5000,    71.7500,       3475,   149.8,  15.1503,  35.2131,3,  35.1945,2,     15.2,2,    15.8,2,   25.00,2,   29.03,2,    0.00,2,    2.15,2,-999.000,9,-999.000,9,  2219.8,2,  2314.6,2,-999.0000,9,-999.0000,9, -999.00,9, -999.00,9,  -999.0,9,    -9.0,-999.000,9,-999.000,    1490,-999.0000,  15.1274,-999.0000, -999.00
 316N145_11,       I01W,     945,          1,         27,     SIH033,2,19950924,       0438,     8.5000,    71.7500,       3475,   199.5,  13.3139,  35.1800,2,  35.1782,2,     39.6,2,    33.8,2,   25.55,2,   28.91,2,    0.01,2,    2.09,2,-999.000,9,-999.000,9,  2221.9,2,  2316.5,2,-999.0000,9,-999.0000,9, -999.00,9, -999.00,9,  -999.0,9,    -9.0,-999.000,9,-999.000,    1987,-999.0000,  13.2859,-999.0000, -999.00
 316N145_11,       I01W,     945,          1,         26,     SIH037,2,19950924,       0438,     8.5000,    71.7500,       3475,   250.7,  12.3178,  35.1499,2,  35.1532,2,     44.9,2,    40.6,2,   26.81,2,   29.47,2,    0.00,2,    2.10,2,   0.452,2,   0.238,2,  2225.1,2,  2316.5,2,-999.0000,9,-999.0000,9, -999.00,9, -999.00,9,  -999.0,9,    -9.0,-999.000,9,-999.000,    2499,-999.0000,  12.2845,-999.0000, -999.00
 316N145_11,       I01W,     945,          1,         25,     SI9446,2,19950924,       0438,     8.5000,    71.7500,       3475,   300.1,  11.8903,  35.1586,2,  35.1565,2,     51.2,2,    45.7,2,   27.90,2,   29.78,2,    0.01,2,    2.11,2,-999.000,9,-999.000,9,  2227.9,2,  2319.1,2,-999.0000,9,-999.0000,9, -999.00,9, -999.00,9,  -999.0,9,    -9.0,-999.000,9,-999.000,    2993,-999.0000,  11.8512,-999.0000, -999.00
 316N145_11,       I01W,     945,          1,         24,     SIH036,2,19950924,       0438,     8.5000,    71.7500,       3475,   400.7,  11.0424,  35.1595,2,  35.1579,2,     29.1,2,    28.1,2,   35.82,2,   32.86,2,    0.00,2,    2.35,2,   0.168,2,   0.091,2,  2251.0,2,  2324.6,2,-999.0000,9,-999.0000,9, -999.00,9, -999.00,9,  -999.0,9,    -9.0,-999.000,9,-999.000,    3999,-999.0000,  10.9924,-999.0000, -999.00
 316N145_11,       I01W,     945,          1,         23,     SIH001,2,19950924,       0438,     8.5000,    71.7500,       3475,   500.5,  10.3058,  35.1353,2,  35.1348,2,     27.9,2,    27.4,2,   43.39,2,   33.99,2,    0.00,2,    2.48,2,-999.000,9,-999.000,9,  2260.2,2,  2332.9,2,-999.0000,9,-999.0000,9, -999.00,9, -999.00,9,  -999.0,9,    -9.0,-999.000,9,-999.000,    4997,-999.0000,  10.2456,-999.0000, -999.00
 316N145_11,       I01W,     945,          1,         22,     SIH019,2,19950924,       0438,     8.5000,    71.7500,       3475,   600.1,   9.5052,  35.0960,2,  35.0947,2,     28.4,2,    27.8,2,   52.23,2,   35.18,2,    0.00,2,    2.59,2,-999.000,9,-999.000,9,  2269.4,2,  2336.1,2,-999.0000,9,-999.0000,9, -999.00,9, -999.00,9,  -999.0,9,    -9.0,-999.000,9,-999.000,    5994,-999.0000,   9.4362,-999.0000, -999.00
 316N145_11,       I01W,     945,          1,         21,     SIH025,2,19950924,       0438,     8.5000,    71.7500,       3475,   701.2,   8.9211,  35.0903,2,  35.0888,2,     25.8,2,    25.8,2,   60.71,2,   36.09,2,    0.00,2,    2.67,2,   0.018,2,   0.007,2,  -999.0,9,  -999.0,9,-999.0000,9,-999.0000,9, -999.00,9, -999.00,9,  -999.0,9,    -9.0,-999.000,9,-999.000,    7006,-999.0000,   8.8430,-999.0000, -999.00
 316N145_11,       I01W,     945,          1,         20,     SIH004,2,19950924,       0438,     8.5000,    71.7500,       3475,   796.6,   8.8403,  35.1443,2,  35.1437,2,     24.0,2,    22.3,2,   63.78,2,   36.26,2,    0.00,2,    2.73,2,   0.017,2,   0.007,2,  2289.1,2,  2353.7,2,-999.0000,9,-999.0000,9, -999.00,9, -999.00,9,  -999.0,9,    -9.0,-999.000,9,-999.000,    7960,-999.0000,   8.7515,-999.0000, -999.00
 316N145_11,       I01W,     945,          1,         19,     SIH005,2,19950924,       0438,     8.5000,    71.7500,       3475,   897.9,   8.4054,  35.1462,2,  35.1457,2,     23.3,2,    22.6,2,   70.11,2,   36.47,2,    0.00,2,    2.77,2,   0.010,2,   0.004,2,  -999.0,9,  -999.0,9,-999.0000,9,-999.0000,9, -999.00,9, -999.00,9,  -999.0,9,    -9.0,-999.000,9,-999.000,    8973,-999.0000,   8.3076,-999.0000, -999.00
 316N145_11,       I01W,     945,          1,         18,     SIH006,2,19950924,       0438,     8.5000,    71.7500,       3475,   998.6,   7.6692,  35.0911,2,  35.0911,2,     29.1,2,    28.9,2,   77.69,2,   37.29,2,    0.00,2,    2.79,2,-999.000,9,-999.000,9,  2303.5,2,  2368.3,2,-999.0000,9,-999.0000,9, -999.00,9, -999.00,9,  -999.0,9,    -9.0,-999.000,9,-999.000,    9981,-999.0000,   7.5652,-999.0000, -999.00
 316N145_11,       I01W,     945,          1,         17,     SIH038,2,19950924,       0438,     8.5000,    71.7500,       3475,  1099.1,   6.7995,  35.0333,2,  35.0327,2,     39.1,2,    38.6,2,   87.08,2,   37.78,2,    0.00,2,    2.82,2,-999.000,9,-999.000,9,  -999.0,9,  -999.0,9,-999.0000,9,-999.0000,9, -999.00,9, -999.00,9,  -999.0,9,    -9.0,-999.000,9,-999.000,   10986,-999.0000,   6.6914,-999.0000, -999.00
 316N145_11,       I01W,     945,          1,         16,     SIH008,2,19950924,       0438,     8.5000,    71.7500,       3475,  1199.4,   6.2129,  34.9991,2,  34.9970,2,     46.7,2,    46.1,2,   93.42,2,   37.84,2,    0.00,2,    2.81,2,-999.000,9,-999.000,9,  -999.0,9,  -999.0,9,-999.0000,9,-999.0000,9, -999.00,9, -999.00,9,  -999.0,9,    -9.0,-999.000,9,-999.000,   11990,-999.0000,   6.0995,-999.0000, -999.00
 316N145_11,       I01W,     945,          1,         15,     SIH009,2,19950924,       0438,     8.5000,    71.7500,       3475,  1301.2,   5.6073,  34.9414,2,  34.9439,2,     54.5,2,    57.2,2,   98.86,2,   37.78,2,    0.01,2,    2.79,2,-999.000,9,-999.000,9,  -999.0,9,  -999.0,9,-999.0000,9,-999.0000,9, -999.00,9, -999.00,9,  -999.0,9,    -9.0,-999.000,9,-999.000,   13008,-999.0000,   5.4893,-999.0000, -999.00
 316N145_11,       I01W,     945,          1,         14,     SIH010,2,19950924,       0438,     8.5000,    71.7500,       3475,  1401.9,   5.2155,  34.9416,2,  34.9386,2,     62.5,2,    62.8,2,  103.74,2,   37.73,2,    0.01,2,    2.79,2,-999.000,9,-999.000,9,  -999.0,9,  -999.0,9,-999.0000,9,-999.0000,9, -999.00,9, -999.00,9,  -999.0,9,    -9.0,-999.000,9,-999.000,   14016,-999.0000,   5.0916,-999.0000, -999.00
 316N145_11,       I01W,     945,          1,         13,     SIH011,2,19950924,       0438,     8.5000,    71.7500,       3475,  1502.9,   4.6228,  34.8919,2,  34.8916,2,     76.4,2,    75.6,2,  109.55,2,   37.42,2,    0.00,2,    2.76,2,-999.000,9,-999.000,9,  2322.4,2,  2395.7,2,-999.0000,9,-999.0000,9, -999.00,9, -999.00,9,  -999.0,9,    -9.0,-999.000,9,-999.000,   15026,-999.0000,   4.4954,-999.0000, -999.00
 316N145_11,       I01W,     945,          1,         12,     SIH012,2,19950924,       0438,     8.5000,    71.7500,       3475,  1598.9,   4.1841,  34.8705,2,  34.8686,2,     86.2,2,    84.7,2,  114.09,2,   37.26,2,   -0.01,2,    2.74,2,   0.000,2,   0.000,2,  -999.0,9,  -999.0,9,-999.0000,9,-999.0000,9, -999.00,9, -999.00,9,  -999.0,9,    -9.0,-999.000,9,-999.000,   15988,-999.0000,   4.0528,-999.0000, -999.00
 316N145_11,       I01W,     945,          1,         11,     SI9426,2,19950924,       0438,     8.5000,    71.7500,       3475,  1795.6,   3.4078,  34.8333,2,  34.8310,2,    102.9,2,    99.9,2,  122.24,2,   36.88,2,    0.01,2,    2.68,2,-999.000,9,-999.000,9,  -999.0,9,  -999.0,9,-999.0000,9,-999.0000,9, -999.00,9, -999.00,9,  -999.0,9,    -9.0,-999.000,9,-999.000,   17955,-999.0000,   3.2683,-999.0000, -999.00
 316N145_11,       I01W,     945,          1,         10,     SIH014,2,19950924,       0438,     8.5000,    71.7500,       3475,  1997.6,   2.8180,  34.7968,2,  34.7935,2,    121.7,2,   117.5,2,  126.78,2,   36.08,2,    0.00,2,    2.59,2,-999.000,9,-999.000,9,  2322.2,2,  2414.7,2,-999.0000,9,-999.0000,9, -999.00,9, -999.00,9,  -999.0,9,    -9.0,-999.000,9,-999.000,   19976,-999.0000,   2.6689,-999.0000, -999.00
 316N145_11,       I01W,     945,          1,          9,     SIH015,2,19950924,       0438,     8.5000,    71.7500,       3475,  2200.5,   2.4156,  34.7784,2,  34.7754,2,    128.7,2,   126.5,2,  131.69,2,   35.93,2,    0.00,2,    2.57,2,-999.000,9,-999.000,9,  -999.0,9,  -999.0,9,-999.0000,9,-999.0000,9, -999.00,9, -999.00,9,  -999.0,9,    -9.0,-999.000,9,-999.000,   22007,-999.0000,   2.2547,-999.0000, -999.00
 316N145_11,       I01W,     945,          1,          8,     SIH016,3,19950924,       0438,     8.5000,    71.7500,       3475,  2397.9,   2.2038,  34.7667,3,  34.7663,2,    134.6,2,   135.3,2,  133.70,2,   35.82,2,    0.01,2,    2.53,2,  -0.001,2,   0.000,2,  -999.0,9,  -999.0,9,-999.0000,9,-999.0000,9, -999.00,9, -999.00,9,  -999.0,9,    -9.0,-999.000,9,-999.000,   23982,-999.0000,   2.0287,-999.0000, -999.00
 316N145_11,       I01W,     945,          1,          7,     SIH017,2,19950924,       0438,     8.5000,    71.7500,       3475,  2600.4,   1.9895,  34.7546,2,  34.7541,2,    143.4,2,   141.4,2,  135.73,2,   35.45,2,   -0.01,2,    2.50,2,-999.000,9,-999.000,9,  -999.0,9,  -999.0,9,-999.0000,9,-999.0000,9, -999.00,9, -999.00,9,  -999.0,9,    -9.0,-999.000,9,-999.000,   26009,-999.0000,   1.7998,-999.0000, -999.00
 316N145_11,       I01W,     945,          1,          6,     SIH018,2,19950924,       0438,     8.5000,    71.7500,       3475,  2798.7,   1.8640,  34.7475,2,  34.7465,2,    148.1,2,   145.0,2,  136.11,2,   35.29,2,    0.00,2,    2.48,2,-999.000,9,-999.000,9,  -999.0,9,  -999.0,9,-999.0000,9,-999.0000,9, -999.00,9, -999.00,9,  -999.0,9,    -9.0,-999.000,9,-999.000,   27994,-999.0000,   1.6582,-999.0000, -999.00
 316N145_11,       I01W,     945,          1,          5,     SIH002,3,19950924,       0438,     8.5000,    71.7500,       3475,  3001.9,   1.7581,  34.7407,3,  34.7425,2,    153.9,2,   154.5,2,  136.32,2,   34.97,2,    0.00,2,    2.43,2,-999.000,9,-999.000,9,  2316.4,2,  2423.9,2,-999.0000,9,-999.0000,9, -999.00,9, -999.00,9,  -999.0,9,    -9.0,-999.000,9,-999.000,   30026,-999.0000,   1.5351,-999.0000, -999.00
 316N145_11,       I01W,     945,          1,          4,     SIH020,2,19950924,       0438,     8.5000,    71.7500,       3475,  3199.3,   1.7169,  34.7382,2,  34.7386,2,    156.3,2,   155.8,2,  137.08,2,   34.92,2,    0.00,2,    2.44,2,-999.000,9,-999.000,9,  -999.0,9,  -999.0,9,-999.0000,9,-999.0000,9, -999.00,9, -999.00,9,  -999.0,9,    -9.0,-999.000,9,-999.000,   32002,-999.0000,   1.4755,-999.0000, -999.00
 316N145_11,       I01W,     945,          1,          3,     SIH021,2,19950924,       0438,     8.5000,    71.7500,       3475,  3403.8,   1.6895,  34.7366,2,  34.7370,2,    156.8,2,   158.4,2,  137.28,2,   34.97,2,    0.01,2,    2.43,2,-999.000,9,-999.000,9,  2317.3,2,  2429.8,2,-999.0000,9,-999.0000,9, -999.00,9, -999.00,9,  -999.0,9,    -9.0,-999.000,9,-999.000,   34049,-999.0000,   1.4282,-999.0000, -999.00
 316N145_11,       I01W,     945,          1,          2,     SIH022,2,19950924,       0438,     8.5000,    71.7500,       3475,  3464.4,   1.6938,  34.7363,2,  34.7368,2,    157.5,2,   158.0,2,  137.67,2,   34.93,2,    0.00,2,    2.43,2,  -0.001,2,   0.000,2,  -999.0,9,  -999.0,9,-999.0000,9,-999.0000,9, -999.00,9, -999.00,9,  -999.0,9,    -9.0,-999.000,9,-999.000,   34655,-999.0000,   1.4262,-999.0000, -999.00
 316N145_11,       I01W,     945,          1,          1,     SIH023,2,19950924,       0438,     8.5000,    71.7500,       3475,  3515.6,   1.6986,  34.7367,2,  34.7364,2,    154.1,2,   158.2,2,  137.59,2,   34.96,2,    0.00,2,    2.43,2,  -0.001,2,  -0.001,2,  -999.0,9,  -999.0,9,   -0.002,2,-999.0000,9, -999.00,9, -999.00,9,  -999.0,9,    -9.0,-999.000,9,-999.000,   35168,    0.002,   1.4255,-999.0000, -999.00