BOTTLE,20211119CCHSIORKP
EXPOCODE,SECT_ID,STNNBR,CASTNO,SAMPNO,BTLNBR,BTLNBR_FLAG_W,DATE,TIME,LATITUDE,LONGITUDE,DEPTH,CTDPRS,CTDTMP,CTDSAL,CTDSAL_FLAG_W,SALNTY,SALNTY_FLAG_W,CTDOXY,CTDOXY_FLAG_W,OXYGEN,OXYGEN_FLAG_W,SILCAT,SILCAT_FLAG_W,NITRAT,NITRAT_FLAG_W,NITRIT,NITRIT_FLAG_W,PHSPHT,PHSPHT_FLAG_W,CFC-11,CFC-11_FLAG_W,CFC-12,CFC-12_FLAG_W,TCARBN,TCARBN_FLAG_W,ALKALI,ALKALI_FLAG_W,TRITUM,TRITUM_FLAG_W,HELIUM,HELIUM_FLAG_W,DELHE3,DELHE3_FLAG_W,DELC13,DELC13_FLAG_W,DELC14,DELC14_FLAG_W,C14ERR,NEON,NEON_FLAG_W,NEONER,CTDRAW,TRITER,THETA,HELIER,DELHER
,,,,,,,,,,,METERS,DBAR,ITS-90,PSS-78,,PSS-78,,UMOL/KG,,UMOL/KG,,UMOL/KG,,UMOL/KG,,UMOL/KG,,UMOL/KG,,PMOL/KG,,PMOL/KG,,UMOL/KG,,UMOL/KG,,TU,,NMOL/KG,,PERCNT,,/MILLE,,/MILLE,,/MILLE,NMOL/KG,,NMOL/KG,DBAR,TU,DEG C,NMOL/KG,PERCNT
 316N145_11,       I01W,     880,          1,         27,     SIH033,2,19950906,       2357,    12.8195,    47.6667,       2350,     8.1,  30.0829,  36.5267,2,  36.5216,2,    203.5,2,   201.2,2,    2.24,2,    0.00,2,    0.00,2,    0.26,2,   1.510,2,   0.893,2,  2006.5,2,  2385.2,2,-999.0000,9,   1.6631,2,   -1.19,2,    1.61,2,    42.0,2,     3.3,   6.458,2,   0.032,      58,-999.0000,  30.0808,   0.0083,    0.14
 316N145_11,       I01W,     880,          1,         26,     SIH037,2,19950906,       2357,    12.8195,    47.6667,       2350,    28.2,  29.3995,  36.4778,2,  36.4840,2,    189.8,2,   190.3,2,    2.82,2,    0.64,2,   -0.01,2,    0.32,2,-999.000,9,-999.000,9,  2016.8,2,  2377.3,2,-999.0000,9,   1.6965,2,   -0.99,2, -999.00,9,  -999.0,9,    -9.0,   6.565,2,   0.033,     259,-999.0000,  29.3926,   0.0085,    0.14
 316N145_11,       I01W,     880,          1,         25,     SI9446,2,19950906,       2357,    12.8195,    47.6667,       2350,    58.2,  23.9481,  36.0150,2,  36.0196,2,    104.3,2,    97.4,2,    7.15,2,   12.16,2,    1.60,2,    1.19,2,-999.000,9,-999.000,9,  2133.3,2,  2343.4,2,-999.0000,9,   1.7021,2,    0.42,2,    0.50,2,    36.0,2,     3.0,   6.757,2,   0.034,     559,-999.0000,  23.9358,   0.0085,    0.14
 316N145_11,       I01W,     880,          1,         24,     SIH036,2,19950906,       2357,    12.8195,    47.6667,       2350,    88.2,  17.1212,  35.6658,2,  35.6514,2,     19.2,2,    21.6,2,   20.52,2,   25.47,2,    0.06,2,    2.05,2,   1.024,2,   0.571,2,  2220.9,2,  2326.0,2,-999.0000,9,   1.7532,2,    3.88,2, -999.00,9,  -999.0,9,    -9.0,   7.132,2,   0.036,     859,-999.0000,  17.1065,   0.0088,    0.14
 316N145_11,       I01W,     880,          1,         23,     SIH001,2,19950906,       2357,    12.8195,    47.6667,       2350,   118.2,  15.9419,  35.5944,2,  35.5967,2,     17.1,2,    16.1,2,   23.28,2,   25.93,2,    0.03,2,    2.12,2,-999.000,9,-999.000,9,  2231.5,2,  2325.0,2,-999.0000,9,   1.7503,2,    4.37,2, -999.00,9,  -999.0,9,    -9.0,   7.162,2,   0.036,    1159,-999.0000,  15.9232,   0.0088,    0.14
 316N145_11,       I01W,     880,          1,         22,     SIH019,2,19950906,       2357,    12.8195,    47.6667,       2350,   148.6,  15.3802,  35.5961,2,  35.5969,2,     18.1,2,    17.4,2,   24.46,2,   26.20,2,    0.04,2,    2.14,2,   0.782,2,   0.435,2,  2235.0,2,  2327.4,2,-999.0000,9,   1.7578,2,    4.34,2,   -0.07,2,     0.2,2,     4.0,   7.203,2,   0.036,    1463,-999.0000,  15.3572,   0.0088,    0.14
 316N145_11,       I01W,     880,          1,         21,     SIH025,2,19950906,       2357,    12.8195,    47.6667,       2350,   198.4,  14.6761,  35.6725,2,  35.6707,2,     22.0,2,    21.2,2,   25.64,2,   26.97,2,    0.02,2,    2.12,2,-999.000,9,-999.000,9,  2238.9,2,  2330.6,2,-999.0000,9,   1.7635,2,    5.26,2,   -0.02,2,   -10.4,2,     3.0,   7.244,2,   0.036,    1962,-999.0000,  14.6463,   0.0088,    0.14
 316N145_11,       I01W,     880,          1,         20,     SIH004,2,19950906,       2357,    12.8195,    47.6667,       2350,   297.8,  14.2881,  35.9065,2,-999.0000,9,     22.6,2,    19.2,2,   28.79,2,   27.89,2,    0.01,2,    2.16,2,   0.531,2,   0.297,2,  2244.3,2,  2339.1,2,-999.0000,9,   1.7718,2,    6.07,2,   -0.06,2,   -33.8,2,     3.2,   7.280,2,   0.036,    2956,-999.0000,  14.2439,   0.0089,    0.14
 316N145_11,       I01W,     880,          1,         19,     SIH005,2,19950906,       2357,    12.8195,    47.6667,       2350,   398.1,  13.3800,  35.8960,2,  35.9032,2,     21.7,2,    16.0,2,   35.10,2,   28.43,2,    0.01,2,    2.29,2,-999.000,9,-999.000,9,  -999.0,9,  -999.0,9,-999.0000,9,   1.7760,2,    6.55,2,    0.04,2,   -52.5,2,     5.7,   7.291,2,   0.036,    3960,-999.0000,  13.3233,   0.0089,    0.14
 316N145_11,       I01W,     880,          1,         18,     SIH006,2,19950906,       2357,    12.8195,    47.6667,       2350,   498.9,  13.2386,  35.9863,2,  35.9825,2,     21.8,2,    17.3,2,   38.44,2,   29.25,2,    0.00,2,    2.32,2,   0.323,2,   0.174,2,  2256.6,2,  2348.7,2,-999.0000,9,   1.7898,2,    7.41,2,    0.00,2,   -66.0,2,     2.9,   7.342,2,   0.037,    4968,-999.0000,  13.1677,   0.0089,    0.14
 316N145_11,       I01W,     880,          1,         17,     SIH038,2,19950906,       2357,    12.8195,    47.6667,       2350,   548.9,  12.7090,  35.8994,2,  35.9186,2,     21.3,2,    14.3,2,   41.60,2,   29.84,2,    0.00,2,    2.39,2,-999.000,9,-999.000,9,  -999.0,9,  -999.0,9,-999.0000,9,-999.0000,9, -999.00,9, -999.00,9,  -999.0,9,    -9.0,-999.000,9,-999.000,    5469,-999.0000,  12.6330,-999.0000, -999.00
 316N145_11,       I01W,     880,          1,         16,     SIH008,2,19950906,       2357,    12.8195,    47.6667,       2350,   599.4,  13.1072,  36.0808,2,  36.0754,2,     21.0,2,    15.2,2,   42.40,2,   29.34,2,    0.01,2,    2.35,2,   0.299,2,   0.167,2,  2262.5,2,  2356.5,2,   0.2516,2,   1.7905,2,    8.32,2,    0.05,2,   -62.2,2,     3.0,   7.352,2,   0.037,    5974,   0.0026,  13.0222,   0.0090,    0.14
 316N145_11,       I01W,     880,          1,         15,     SIH009,2,19950906,       2357,    12.8195,    47.6667,       2350,   649.5,  14.0658,  36.4235,2,  36.4224,2,     21.9,2,    21.3,2,   39.44,2,   27.83,2,    0.01,2,    2.19,2,-999.000,9,-999.000,9,  -999.0,9,  -999.0,9,-999.0000,9,-999.0000,9, -999.00,9,    0.11,2,   -78.9,2,     5.7,-999.000,9,-999.000,    6476,-999.0000,  13.9691,-999.0000, -999.00
 316N145_11,       I01W,     880,          1,         14,     SIH010,2,19950906,       2357,    12.8195,    47.6667,       2350,   700.1,  13.7016,  36.4045,2,  36.3920,2,     21.3,2,    20.8,2,   42.60,2,   28.43,2,    0.01,2,    2.24,2,   0.368,2,   0.206,2,  2257.3,2,  2365.1,2,-999.0000,9,   1.7762,2,   10.67,2,    0.14,2,   -60.1,2,     2.9,   7.239,2,   0.036,    6982,-999.0000,  13.5989,   0.0089,    0.14
 316N145_11,       I01W,     880,          1,         13,     SIH011,2,19950906,       2357,    12.8195,    47.6667,       2350,   800.2,  12.9528,  36.3208,2,  36.3212,2,     19.8,2,    18.5,2,   48.92,2,   29.62,2,    0.01,2,    2.33,2,-999.000,9,-999.000,9,  -999.0,9,  -999.0,9,   0.2622,2,   1.7938,2,   12.34,2,    0.06,2,   -75.4,2,     3.9,   7.315,2,   0.037,    7984,   0.0026,  12.8392,   0.0090,    0.14
 316N145_11,       I01W,     880,          1,         12,     SIH012,2,19950906,       2357,    12.8195,    47.6667,       2350,   900.8,  12.1204,  36.1973,2,  36.2000,2,     18.9,2,    18.3,2,   55.44,2,   30.80,2,    0.01,2,    2.41,2,   0.256,2,   0.143,2,  2276.2,2,  2372.0,2,-999.0000,9,-999.0000,9, -999.00,9,   -0.02,2,   -81.6,2,     2.7,-999.000,9,-999.000,    8992,-999.0000,  11.9972,-999.0000, -999.00
 316N145_11,       I01W,     880,          1,         11,     SI9426,2,19950906,       2357,    12.8195,    47.6667,       2350,  1001.2,  10.7797,  35.9431,2,  35.9469,2,     19.3,2,    17.9,2,   64.33,2,   32.37,2,    0.01,2,    2.54,2,-999.000,9,-999.000,9,  -999.0,9,  -999.0,9,   0.1677,2,   1.8025,2,   13.15,2, -999.00,9,  -999.0,9,    -9.0,   7.415,2,   0.037,    9997,   0.0024,  10.6519,   0.0090,    0.14
 316N145_11,       I01W,     880,          1,         10,     SIH014,2,19950906,       2357,    12.8195,    47.6667,       2350,  1101.3,   9.7003,  35.7459,2,  35.7501,2,     20.6,2,    18.8,2,   71.65,2,   33.84,2,    0.00,2,    2.63,2,   0.138,2,   0.081,2,  2298.3,2,  2376.5,2,-999.0000,9,-999.0000,9, -999.00,9,   -0.06,2,  -114.5,2,     3.1,-999.000,9,-999.000,   10999,-999.0000,   9.5679,-999.0000, -999.00
 316N145_11,       I01W,     880,          1,          9,     SIH015,2,19950906,       2357,    12.8195,    47.6667,       2350,  1201.5,   7.8717,  35.3997,2,  35.4007,2,     24.5,2,    25.2,2,   84.72,2,   36.01,2,   -0.01,2,    2.77,2,-999.000,9,-999.000,9,  -999.0,9,  -999.0,9,   0.0642,2,   1.8960,2,   15.70,2, -999.00,9,  -999.0,9,    -9.0,   7.720,2,   0.154,   12003,   0.0023,   7.7428,   0.0090,    0.20
 316N145_11,       I01W,     880,          1,          8,     SIH016,2,19950906,       2357,    12.8195,    47.6667,       2350,  1300.9,   7.2385,  35.3067,2,  35.3084,2,     28.0,2,    31.2,2,   89.47,2,   36.66,2,    0.00,2,    2.82,2,   0.038,2,   0.022,2,  2320.3,2,  2381.4,2,-999.0000,9,   1.8640,2,   16.00,2,   -0.10,2,  -145.1,2,     2.9,   7.925,2,   0.159,   12999,-999.0000,   7.1042,   0.0090,    0.20
 316N145_11,       I01W,     880,          1,          7,     SIH017,2,19950906,       2357,    12.8195,    47.6667,       2350,  1400.9,   6.0040,  35.1330,2,  35.1366,2,     35.7,2,    43.7,2,  101.35,2,   37.31,2,    0.00,2,    2.85,2,-999.000,9,-999.000,9,  -999.0,9,  -999.0,9,   0.0259,2,   1.8820,2,   16.30,2, -999.00,9,  -999.0,9,    -9.0,   8.015,2,   0.160,   14000,   0.0022,   5.8714,   0.0090,    0.20
 316N145_11,       I01W,     880,          1,          6,     SIH018,2,19950906,       2357,    12.8195,    47.6667,       2350,  1600.6,   4.7138,  34.9972,2,  34.9990,2,     50.0,2,    59.1,2,  118.78,2,   37.31,2,    0.01,2,    2.84,2,   0.004,2,   0.007,2,  2343.2,2,  2407.5,2,-999.0000,9,   1.9270,2,   18.10,2,   -0.10,2,  -175.6,2,     2.8,   8.046,2,   0.161,   16001,-999.0000,   4.5758,   0.0100,    0.20
 316N145_11,       I01W,     880,          1,          5,     SIH002,2,19950906,       2357,    12.8195,    47.6667,       2350,  1800.1,   3.8337,  34.9168,2,  34.9152,2,     65.8,2,    71.1,2,  132.06,2,   37.00,2,    0.00,2,    2.81,2,-999.000,9,-999.000,9,  -999.0,9,  -999.0,9,-999.0000,9,   1.9800,2,   21.50,2,   -0.09,2,  -177.1,2,     2.8,   7.992,2,   0.160,   18000,-999.0000,   3.6879,   0.0100,    0.20
 316N145_11,       I01W,     880,          1,          4,     SIH020,2,19950906,       2357,    12.8195,    47.6667,       2350,  2000.4,   3.2670,  34.8636,2,  34.8656,2,     81.6,2,    80.8,2,  139.80,2,   36.89,2,   -0.01,2,    2.78,2,   0.004,2,   0.014,2,  2359.5,2,  2432.6,2,-999.0000,9,   1.9360,2,   23.30,2, -999.00,9,  -999.0,9,    -9.0,   8.166,2,   0.163,   20007,-999.0000,   3.1108,   0.0100,    0.20
 316N145_11,       I01W,     880,          1,          3,     SIH021,2,19950906,       2357,    12.8195,    47.6667,       2350,  2195.3,   3.1046,  34.8475,2,  34.8448,2,     91.7,2,    86.7,2,  140.43,2,   36.83,2,    0.01,2,    2.76,2,-999.000,9,-999.000,9,  -999.0,9,  -999.0,9,-999.0000,9,   1.9130,2,   22.70,2, -999.00,9,  -999.0,9,    -9.0,   8.313,2,   0.166,   21960,-999.0000,   2.9326,   0.0100,    0.20
 316N145_11,       I01W,     880,          1,          2,     SIH022,2,19950906,       2357,    12.8195,    47.6667,       2350,  2245.7,   3.0898,  34.8450,2,  34.8446,2,     93.2,2,    86.3,2,  141.05,2,   36.41,2,    0.00,2,    2.75,2,   0.003,2,   0.012,2,  -999.0,9,  -999.0,9,-999.0000,9,-999.0000,9, -999.00,9, -999.00,9,  -999.0,9,    -9.0,-999.000,9,-999.000,   22465,-999.0000,   2.9132,-999.0000, -999.00
 316N145_11,       I01W,     880,          1,          1,     SIH023,2,19950906,       2357,    12.8195,    47.6667,       2350,  2316.6,   3.0423,  34.8421,2,  34.8407,2,     95.7,2,    87.9,2,  141.39,2,   36.72,2,   -0.01,2,    2.76,2,   0.002,2,   0.009,2,  2358.7,2,  2433.0,2,-999.0000,9,   1.9670,2,   22.00,2, -999.00,9,  -999.0,9,    -9.0,   8.412,2,   0.168,   23176,-999.0000,   2.8597,   0.0100,    0.20