BOTTLE,20211119CCHSIORKP
EXPOCODE,SECT_ID,STNNBR,CASTNO,SAMPNO,BTLNBR,BTLNBR_FLAG_W,DATE,TIME,LATITUDE,LONGITUDE,DEPTH,CTDPRS,CTDTMP,CTDSAL,CTDSAL_FLAG_W,SALNTY,SALNTY_FLAG_W,CTDOXY,CTDOXY_FLAG_W,OXYGEN,OXYGEN_FLAG_W,SILCAT,SILCAT_FLAG_W,NITRAT,NITRAT_FLAG_W,NITRIT,NITRIT_FLAG_W,PHSPHT,PHSPHT_FLAG_W,CFC-11,CFC-11_FLAG_W,CFC-12,CFC-12_FLAG_W,TCARBN,TCARBN_FLAG_W,ALKALI,ALKALI_FLAG_W,TRITUM,TRITUM_FLAG_W,HELIUM,HELIUM_FLAG_W,DELHE3,DELHE3_FLAG_W,DELC13,DELC13_FLAG_W,DELC14,DELC14_FLAG_W,C14ERR,NEON,NEON_FLAG_W,NEONER,CTDRAW,TRITER,THETA,HELIER,DELHER
,,,,,,,,,,,METERS,DBAR,ITS-90,PSS-78,,PSS-78,,UMOL/KG,,UMOL/KG,,UMOL/KG,,UMOL/KG,,UMOL/KG,,UMOL/KG,,PMOL/KG,,PMOL/KG,,UMOL/KG,,UMOL/KG,,TU,,NMOL/KG,,PERCNT,,/MILLE,,/MILLE,,/MILLE,NMOL/KG,,NMOL/KG,DBAR,TU,DEG C,NMOL/KG,PERCNT
 316N145_11,       I01W,     933,          1,         35,     SIH003,2,19950920,       1819,     8.4972,    65.3805,       4535,    31.3,  28.2565,  36.6010,2,  36.6031,2,    200.8,2,   216.0,2,    1.36,2,    0.07,2,    0.00,2,    0.28,2,   1.620,2,   0.948,2,  2020.3,2,  2389.7,2,-999.0000,9,-999.0000,9, -999.00,9,    1.57,2,    55.5,2,     4.2,-999.000,9,-999.000,     308,-999.0000,  28.2490,-999.0000, -999.00
 316N145_11,       I01W,     933,          1,         34,     SIH026,2,19950920,       1819,     8.4972,    65.3805,       4535,    61.4,  27.9522,  36.5832,2,  36.5823,2,    192.1,2,   202.4,2,    1.53,2,    0.13,2,    0.00,2,    0.29,2,-999.000,9,-999.000,9,  2020.9,2,  2388.9,2,-999.0000,9,-999.0000,9, -999.00,9, -999.00,9,  -999.0,9,    -9.0,-999.000,9,-999.000,     609,-999.0000,  27.9377,-999.0000, -999.00
 316N145_11,       I01W,     933,          1,         33,     SIH027,2,19950920,       1819,     8.4972,    65.3805,       4535,    91.5,  26.9973,  36.5155,2,  36.4838,2,    187.5,2,   164.5,2,    2.78,2,    6.17,2,    0.14,2,    0.66,2,   1.642,2,   0.954,2,  2064.8,2,  2376.4,2,-999.0000,9,-999.0000,9, -999.00,9,    0.99,2,    49.4,2,     3.8,-999.000,9,-999.000,     910,-999.0000,  26.9762,-999.0000, -999.00
 316N145_11,       I01W,     933,          1,         32,     SIH028,2,19950920,       1819,     8.4972,    65.3805,       4535,   121.4,  20.3999,  35.6680,2,  35.6650,2,     66.0,2,    14.4,2,   15.19,2,   25.14,2,    0.03,2,    1.94,2,   1.148,2,   0.638,2,  2193.3,2,  2329.7,2,-999.0000,9,-999.0000,9, -999.00,9, -999.00,9,  -999.0,9,    -9.0,-999.000,9,-999.000,    1210,-999.0000,  20.3771,-999.0000, -999.00
 316N145_11,       I01W,     933,          1,         31,     SIH029,2,19950920,       1819,     8.4972,    65.3805,       4535,   151.5,  16.8095,  35.4141,2,  35.4141,2,     -2.4,2,     6.9,2,   22.03,2,   26.88,2,    0.01,2,    2.16,2,-999.000,9,-999.000,9,  2221.9,2,  2323.5,2,-999.0000,9,-999.0000,9, -999.00,9,   -0.11,2,     7.8,2,     3.0,-999.000,9,-999.000,    1510,-999.0000,  16.7846,-999.0000, -999.00
 316N145_11,       I01W,     933,          1,         30,     SIH030,2,19950920,       1819,     8.4972,    65.3805,       4535,   201.6,  14.3281,  35.2669,2,  35.2696,2,     24.3,2,    28.9,2,   23.47,2,   27.64,2,    0.01,2,    2.06,2,   0.610,2,   0.326,2,  2220.0,2,  2322.3,2,-999.0000,9,-999.0000,9, -999.00,9,    0.05,2,     4.9,2,     2.9,-999.000,9,-999.000,    2012,-999.0000,  14.2984,-999.0000, -999.00
 316N145_11,       I01W,     933,          1,         29,     SIH031,2,19950920,       1819,     8.4972,    65.3805,       4535,   251.4,  13.0742,  35.2530,2,  35.2572,2,     47.2,2,    46.2,2,   24.00,2,   27.40,2,    0.00,2,    1.99,2,-999.000,9,-999.000,9,  2220.1,2,  2320.7,2,-999.0000,9,-999.0000,9, -999.00,9, -999.00,9,  -999.0,9,    -9.0,-999.000,9,-999.000,    2510,-999.0000,  13.0394,-999.0000, -999.00
 316N145_11,       I01W,     933,          1,         28,     SIH032,2,19950920,       1819,     8.4972,    65.3805,       4535,   296.9,  12.3047,  35.2202,2,  35.2197,2,     42.1,2,    44.5,2,   26.52,2,   28.86,2,    0.01,2,    2.06,2,   0.471,2,   0.240,2,  2227.1,2,  2320.1,2,-999.0000,9,-999.0000,9, -999.00,9,    0.16,2,   -17.7,2,     2.8,-999.000,9,-999.000,    2965,-999.0000,  12.2652,-999.0000, -999.00
 316N145_11,       I01W,     933,          1,         27,     SIH033,2,19950920,       1819,     8.4972,    65.3805,       4535,   396.5,  11.4949,  35.2846,2,  35.2848,2,     23.3,2,    24.8,2,   34.61,2,   31.93,2,    0.01,2,    2.33,2,   0.208,2,   0.112,2,  2252.2,2,  2328.0,2,-999.0000,9,-999.0000,9, -999.00,9,    0.08,2,   -60.2,2,     3.5,-999.000,9,-999.000,    3961,-999.0000,  11.4441,-999.0000, -999.00
 316N145_11,       I01W,     933,          1,         26,     SIH037,3,19950920,       1819,     8.4972,    65.3805,       4535,   496.5,  10.8226,  35.2930,3,  35.2930,2,     19.3,2,    21.0,2,   42.35,2,   32.99,2,    0.01,2,    2.48,2,   0.098,2,   0.049,2,  -999.0,9,  -999.0,9,-999.0000,9,-999.0000,9, -999.00,9,    0.06,2,   -84.3,2,     3.0,-999.000,9,-999.000,    4962,-999.0000,  10.7610,-999.0000, -999.00
 316N145_11,       I01W,     933,          1,         25,     SI9446,2,19950920,       1819,     8.4972,    65.3805,       4535,   597.7,  10.0135,  35.2539,2,  35.2597,2,     20.5,2,    18.7,2,   51.89,2,   34.50,2,    0.01,2,    2.60,2,   0.046,3,   0.022,2,  2276.5,2,  2341.7,2,-999.0000,9,-999.0000,9, -999.00,9,   -0.15,2,  -105.6,2,     3.8,-999.000,9,-999.000,    5974,-999.0000,   9.9425,-999.0000, -999.00
 316N145_11,       I01W,     933,          1,         24,     SIH036,2,19950920,       1819,     8.4972,    65.3805,       4535,   698.5,   9.2636,  35.2073,2,  35.2091,2,     18.0,2,    20.3,2,   61.07,2,   35.72,2,    0.00,2,    2.67,2,-999.000,9,-999.000,9,  -999.0,9,  -999.0,9,-999.0000,9,-999.0000,9, -999.00,9,    0.03,2,  -129.2,2,     3.1,-999.000,9,-999.000,    6982,-999.0000,   9.1840,-999.0000, -999.00
 316N145_11,       I01W,     933,          1,         23,     SIH001,2,19950920,       1819,     8.4972,    65.3805,       4535,   798.2,   8.4692,  35.1384,2,  35.1398,2,     22.2,2,    25.5,2,   68.29,2,   36.43,2,    0.01,2,    2.71,2,   0.011,2,   0.005,2,  2293.7,2,  2355.6,2,-999.0000,9,-999.0000,9, -999.00,9,    0.01,2,  -134.2,2,     3.4,-999.000,9,-999.000,    7980,-999.0000,   8.3823,-999.0000, -999.00
 316N145_11,       I01W,     933,          1,         22,     SIH019,2,19950920,       1819,     8.4972,    65.3805,       4535,   898.9,   7.9805,  35.1194,2,  35.1183,2,     27.0,2,    28.9,2,   74.23,2,   36.94,2,    0.00,2,    2.75,2,-999.000,9,-999.000,9,  -999.0,9,  -999.0,9,-999.0000,9,-999.0000,9, -999.00,9,   -0.04,2,  -139.9,2,     3.0,-999.000,9,-999.000,    8988,-999.0000,   7.8854,-999.0000, -999.00
 316N145_11,       I01W,     933,          1,         21,     SIH025,2,19950920,       1819,     8.4972,    65.3805,       4535,   998.9,   7.1949,  35.0539,2,  35.0561,2,     28.8,2,    36.3,2,   82.16,2,   37.19,2,    0.01,2,    2.76,2,   0.001,2,   0.001,2,  2306.9,2,  2369.1,2,-999.0000,9,-999.0000,9, -999.00,9,   -0.10,2,  -151.3,2,     2.8,-999.000,9,-999.000,    9987,-999.0000,   7.0944,-999.0000, -999.00
 316N145_11,       I01W,     933,          1,         20,     SIH004,2,19950920,       1819,     8.4972,    65.3805,       4535,  1099.2,   6.8438,  35.0588,2,  35.0620,2,     37.7,2,    40.7,2,   86.31,2,   37.40,2,    0.00,2,    2.77,2,-999.000,9,-999.000,9,  -999.0,9,  -999.0,9,-999.0000,9,-999.0000,9, -999.00,9, -999.00,9,  -999.0,9,    -9.0,-999.000,9,-999.000,   10991,-999.0000,   6.7353,-999.0000, -999.00
 316N145_11,       I01W,     933,          1,         19,     SIH005,3,19950920,       1819,     8.4972,    65.3805,       4535,  1199.4,   6.4450,  35.0461,3,  35.0480,2,     42.3,2,    45.5,2,   90.28,2,   37.35,2,    0.01,2,    2.77,2,   0.003,2,   0.000,2,  2312.2,2,  2377.0,2,-999.0000,9,-999.0000,9, -999.00,9,   -0.11,2,  -164.8,2,     2.7,-999.000,9,-999.000,   11994,-999.0000,   6.3294,-999.0000, -999.00
 316N145_11,       I01W,     933,          1,         18,     SIH006,2,19950920,       1819,     8.4972,    65.3805,       4535,  1397.0,   5.4513,  34.9700,2,  34.9707,2,     56.7,2,    60.6,2,   99.66,2,   37.47,2,    0.00,2,    2.76,2,-999.000,9,-999.000,9,  -999.0,9,  -999.0,9,-999.0000,9,-999.0000,9, -999.00,9,   -0.03,2,  -162.0,2,     2.8,-999.000,9,-999.000,   13971,-999.0000,   5.3252,-999.0000, -999.00
 316N145_11,       I01W,     933,          1,         17,     SIH038,2,19950920,       1819,     8.4972,    65.3805,       4535,  1598.6,   4.3524,  34.8927,2,  34.8912,2,     77.9,2,    79.8,2,  112.10,2,   37.26,2,    0.00,2,    2.72,2,-999.000,9,-999.000,9,  2323.4,2,  2397.8,2,-999.0000,9,-999.0000,9, -999.00,9,   -0.23,3,  -174.5,2,     2.8,-999.000,9,-999.000,   15988,-999.0000,   4.2191,-999.0000, -999.00
 316N145_11,       I01W,     933,          1,         16,     SIH008,2,19950920,       1819,     8.4972,    65.3805,       4535,  1800.5,   3.5059,  34.8351,2,  34.8373,2,     96.8,2,   101.1,2,  119.32,2,   36.51,2,    0.01,2,    2.63,2,  -0.001,2,  -0.002,2,  -999.0,9,  -999.0,9,-999.0000,9,-999.0000,9, -999.00,9,    0.02,2,  -167.1,2,     3.0,-999.000,9,-999.000,   18008,-999.0000,   3.3647,-999.0000, -999.00
 316N145_11,       I01W,     933,          1,         15,     SIH009,2,19950920,       1819,     8.4972,    65.3805,       4535,  1997.6,   2.9548,  34.8032,2,  34.8041,2,    112.1,2,   114.4,2,  125.65,2,   36.21,2,    0.01,2,    2.59,2,-999.000,9,-999.000,9,  2322.6,2,  2409.8,2,-999.0000,9,-999.0000,9, -999.00,9, -999.00,9,  -999.0,9,    -9.0,-999.000,9,-999.000,   19981,-999.0000,   2.8036,-999.0000, -999.00
 316N145_11,       I01W,     933,          1,         14,     SIH010,2,19950920,       1819,     8.4972,    65.3805,       4535,  2195.2,   2.5444,  34.7820,2,  34.7840,2,    126.5,2,   126.8,2,  129.25,2,   35.76,2,    0.01,2,    2.54,2,-999.000,9,-999.000,9,  -999.0,9,  -999.0,9,-999.0000,9,-999.0000,9, -999.00,9, -999.00,9,  -999.0,9,    -9.0,-999.000,9,-999.000,   21958,-999.0000,   2.3818,-999.0000, -999.00
 316N145_11,       I01W,     933,          1,         13,     SIH011,2,19950920,       1819,     8.4972,    65.3805,       4535,  2398.7,   2.2414,  34.7659,2,  34.7681,2,    134.6,2,   135.8,2,  132.33,2,   35.53,2,    0.00,2,    2.50,2,  -0.002,2,  -0.002,2,  -999.0,9,  -999.0,9,-999.0000,9,-999.0000,9, -999.00,9, -999.00,9,  -999.0,9,    -9.0,-999.000,9,-999.000,   23994,-999.0000,   2.0655,-999.0000, -999.00
 316N145_11,       I01W,     933,          1,         12,     SIH012,2,19950920,       1819,     8.4972,    65.3805,       4535,  2595.3,   2.0715,  34.7579,2,  34.7598,2,    140.4,2,   140.1,2,  134.50,2,   35.32,2,    0.00,2,    2.48,2,-999.000,9,-999.000,9,  2319.9,2,  2420.9,2,-999.0000,9,-999.0000,9, -999.00,9, -999.00,9,  -999.0,9,    -9.0,-999.000,9,-999.000,   25962,-999.0000,   1.8806,-999.0000, -999.00
 316N145_11,       I01W,     933,          1,         11,     SI9426,2,19950920,       1819,     8.4972,    65.3805,       4535,  2798.6,   1.9467,  34.7500,2,  34.7524,2,    146.3,2,   142.7,3,  136.03,2,   35.23,2,    0.00,2,    2.45,2,-999.000,9,-999.000,9,  -999.0,9,  -999.0,9,-999.0000,9,-999.0000,9, -999.00,9, -999.00,9,  -999.0,9,    -9.0,-999.000,9,-999.000,   27996,-999.0000,   1.7393,-999.0000, -999.00
 316N145_11,       I01W,     933,          1,         10,     SIH014,2,19950920,       1819,     8.4972,    65.3805,       4535,  2996.4,   1.8426,  34.7438,2,  34.7453,2,    150.5,2,   149.4,2,  136.69,2,   35.12,2,    0.01,2,    2.44,2,-999.000,9,-999.000,9,  2317.5,2,  2422.2,2,-999.0000,9,-999.0000,9, -999.00,9, -999.00,9,  -999.0,9,    -9.0,-999.000,9,-999.000,   29976,-999.0000,   1.6182,-999.0000, -999.00
 316N145_11,       I01W,     933,          1,          9,     SIH015,2,19950920,       1819,     8.4972,    65.3805,       4535,  3200.0,   1.7646,  34.7398,2,  34.7406,2,    154.0,2,   153.8,2,  137.05,2,   34.82,2,    0.01,2,    2.42,2,  -0.004,2,  -0.002,2,  -999.0,9,  -999.0,9,-999.0000,9,-999.0000,9, -999.00,9, -999.00,9,  -999.0,9,    -9.0,-999.000,9,-999.000,   32013,-999.0000,   1.5220,-999.0000, -999.00
 316N145_11,       I01W,     933,          1,          8,     SIH016,2,19950920,       1819,     8.4972,    65.3805,       4535,  3398.5,   1.7319,  34.7371,2,  34.7372,2,    155.0,2,   155.6,2,  137.06,2,   34.83,2,    0.00,2,    2.42,2,-999.000,9,-999.000,9,  -999.0,9,  -999.0,9,-999.0000,9,-999.0000,9, -999.00,9, -999.00,9,  -999.0,9,    -9.0,-999.000,9,-999.000,   34000,-999.0000,   1.4700,-999.0000, -999.00
 316N145_11,       I01W,     933,          1,          7,     SIH017,2,19950920,       1819,     8.4972,    65.3805,       4535,  3601.2,   1.7110,  34.7354,2,  34.7366,2,    156.4,2,   156.0,2,  137.43,2,   34.74,2,   -0.01,2,    2.40,2,-999.000,9,-999.000,9,  2315.6,2,  2423.7,2,-999.0000,9,-999.0000,9, -999.00,9, -999.00,9,  -999.0,9,    -9.0,-999.000,9,-999.000,   36028,-999.0000,   1.4287,-999.0000, -999.00
 316N145_11,       I01W,     933,          1,          6,     SIH018,2,19950920,       1819,     8.4972,    65.3805,       4535,  3800.4,   1.6972,  34.7335,2,  34.7349,2,    157.0,2,   157.7,2,  137.61,2,   34.79,2,    0.00,2,    2.41,2,  -0.002,2,   0.001,2,  -999.0,9,  -999.0,9,-999.0000,9,-999.0000,9, -999.00,9, -999.00,9,  -999.0,9,    -9.0,-999.000,9,-999.000,   38022,-999.0000,   1.3941,-999.0000, -999.00
 316N145_11,       I01W,     933,          1,          5,     SIH002,2,19950920,       1819,     8.4972,    65.3805,       4535,  3998.8,   1.6910,  34.7325,2,  34.7357,2,    158.2,2,   158.1,2,  138.16,2,   34.75,2,    0.00,2,    2.41,2,-999.000,9,-999.000,9,  2315.8,2,  2425.0,2,-999.0000,9,-999.0000,9, -999.00,9, -999.00,9,  -999.0,9,    -9.0,-999.000,9,-999.000,   40006,-999.0000,   1.3666,-999.0000, -999.00
 316N145_11,       I01W,     933,          1,          4,     SIH020,2,19950920,       1819,     8.4972,    65.3805,       4535,  4198.6,   1.6795,  34.7312,2,  34.7337,2,    159.8,2,   159.3,2,  137.99,2,   34.60,2,   -0.01,2,    2.40,2,-999.000,9,-999.000,9,  -999.0,9,  -999.0,9,-999.0000,9,-999.0000,9, -999.00,9, -999.00,9,  -999.0,9,    -9.0,-999.000,9,-999.000,   42007,-999.0000,   1.3332,-999.0000, -999.00
 316N145_11,       I01W,     933,          1,          3,     SIH021,2,19950920,       1819,     8.4972,    65.3805,       4535,  4398.8,   1.6705,  34.7306,2,  34.7296,3,    160.4,2,   160.8,2,  137.82,2,   34.65,2,    0.00,2,    2.40,2,  -0.004,2,  -0.001,2,  -999.0,9,  -999.0,9,-999.0000,9,-999.0000,9, -999.00,9, -999.00,9,  -999.0,9,    -9.0,-999.000,9,-999.000,   44010,-999.0000,   1.3016,-999.0000, -999.00
 316N145_11,       I01W,     933,          1,          2,     SIH022,2,19950920,       1819,     8.4972,    65.3805,       4535,  4577.1,   1.6600,  34.7293,2,  34.7300,2,    161.2,2,   161.7,2,  138.18,2,   34.50,2,    0.00,2,    2.39,2,   0.004,2,   0.000,2,  -999.0,9,  -999.0,9,-999.0000,9,-999.0000,9, -999.00,9, -999.00,9,  -999.0,9,    -9.0,-999.000,9,-999.000,   45793,-999.0000,   1.2707,-999.0000, -999.00
 316N145_11,       I01W,     933,          1,          1,     SIH023,2,19950920,       1819,     8.4972,    65.3805,       4535,  4628.2,   1.6603,  34.7287,2,  34.7296,2,    161.3,2,   162.7,2,  138.20,2,   34.51,2,    0.01,2,    2.39,2,   0.008,2,   0.004,2,  2317.0,2,  2432.2,2,-999.0000,9,-999.0000,9, -999.00,9, -999.00,9,  -999.0,9,    -9.0,-999.000,9,-999.000,   46305,-999.0000,   1.2651,-999.0000, -999.00