BOTTLE,20211119CCHSIORKP
EXPOCODE,SECT_ID,STNNBR,CASTNO,SAMPNO,BTLNBR,BTLNBR_FLAG_W,DATE,TIME,LATITUDE,LONGITUDE,DEPTH,CTDPRS,CTDTMP,CTDSAL,CTDSAL_FLAG_W,SALNTY,SALNTY_FLAG_W,CTDOXY,CTDOXY_FLAG_W,OXYGEN,OXYGEN_FLAG_W,SILCAT,SILCAT_FLAG_W,NITRAT,NITRAT_FLAG_W,NITRIT,NITRIT_FLAG_W,PHSPHT,PHSPHT_FLAG_W,CFC-11,CFC-11_FLAG_W,CFC-12,CFC-12_FLAG_W,TCARBN,TCARBN_FLAG_W,ALKALI,ALKALI_FLAG_W,TRITUM,TRITUM_FLAG_W,HELIUM,HELIUM_FLAG_W,DELHE3,DELHE3_FLAG_W,DELC13,DELC13_FLAG_W,DELC14,DELC14_FLAG_W,C14ERR,NEON,NEON_FLAG_W,NEONER,CTDRAW,TRITER,THETA,HELIER,DELHER
,,,,,,,,,,,METERS,DBAR,ITS-90,PSS-78,,PSS-78,,UMOL/KG,,UMOL/KG,,UMOL/KG,,UMOL/KG,,UMOL/KG,,UMOL/KG,,PMOL/KG,,PMOL/KG,,UMOL/KG,,UMOL/KG,,TU,,NMOL/KG,,PERCNT,,/MILLE,,/MILLE,,/MILLE,NMOL/KG,,NMOL/KG,DBAR,TU,DEG C,NMOL/KG,PERCNT
 316N145_11,       I01W,     874,          1,         18,     SIH006,2,19950905,       2103,    12.1612,    44.0000,        495,     2.5,  23.9515,  35.8276,2,  35.8285,2,    266.1,2,   266.0,2,    1.48,2,    0.24,2,    0.02,2,    0.39,2,-999.000,9,-999.000,9,  2008.0,2,  2362.6,2,-999.0000,9,-999.0000,9, -999.00,9, -999.00,9,  -999.0,9,    -9.0,-999.000,9,-999.000,       0,-999.0000,  23.9509,-999.0000, -999.00
 316N145_11,       I01W,     874,          1,         17,     SIH038,2,19950905,       2103,    12.1612,    44.0000,        495,    27.6,  18.0949,  35.7328,2,  35.7278,2,     20.8,2,    21.7,2,   19.16,2,   25.34,2,    0.16,2,    2.04,2,   1.107,2,   0.614,2,  2220.9,2,  2328.8,2,-999.0000,9,-999.0000,9, -999.00,9, -999.00,9,  -999.0,9,    -9.0,-999.000,9,-999.000,     250,-999.0000,  18.0902,-999.0000, -999.00
 316N145_11,       I01W,     874,          1,         16,     SIH008,2,19950905,       2103,    12.1612,    44.0000,        495,    57.6,  16.7746,  35.7062,2,  35.7025,2,     16.9,2,    17.1,2,   22.30,2,   26.27,2,    0.09,2,    2.13,2,-999.000,9,-999.000,9,  2231.1,2,  2329.0,2,-999.0000,9,-999.0000,9, -999.00,9, -999.00,9,  -999.0,9,    -9.0,-999.000,9,-999.000,     550,-999.0000,  16.7652,-999.0000, -999.00
 316N145_11,       I01W,     874,          1,         15,     SIH009,2,19950905,       2103,    12.1612,    44.0000,        495,    87.5,  16.0965,  35.6771,2,  35.6784,2,     19.5,2,    20.3,2,   23.67,2,   26.27,2,    0.03,2,    2.11,2,-999.000,9,-999.000,9,  2231.4,2,  2329.4,2,-999.0000,9,-999.0000,9, -999.00,9, -999.00,9,  -999.0,9,    -9.0,-999.000,9,-999.000,     849,-999.0000,  16.0825,-999.0000, -999.00
 316N145_11,       I01W,     874,          1,         14,     SIH010,2,19950905,       2103,    12.1612,    44.0000,        495,   117.5,  15.7555,  35.7019,2,  35.7043,2,     22.5,2,    21.0,2,   23.85,2,   26.44,2,    0.02,2,    2.10,2,   0.860,3,   0.457,2,  2232.5,2,  2332.7,2,-999.0000,9,-999.0000,9, -999.00,9, -999.00,9,  -999.0,9,    -9.0,-999.000,9,-999.000,    1149,-999.0000,  15.7370,-999.0000, -999.00
 316N145_11,       I01W,     874,          1,         13,     SIH011,2,19950905,       2103,    12.1612,    44.0000,        495,   147.5,  15.4297,  35.7581,2,  35.7612,2,     26.7,2,    27.3,2,   24.44,2,   26.44,2,    0.02,2,    2.06,2,-999.000,9,-999.000,9,  2232.1,2,  2332.8,2,-999.0000,9,-999.0000,9, -999.00,9, -999.00,9,  -999.0,9,    -9.0,-999.000,9,-999.000,    1449,-999.0000,  15.4068,-999.0000, -999.00
 316N145_11,       I01W,     874,          1,         12,     SIH012,2,19950905,       2103,    12.1612,    44.0000,        495,   177.4,  15.1465,  35.7867,2,  35.7947,2,     27.2,2,    26.0,2,   25.60,2,   26.56,2,    0.00,2,    2.05,2,-999.000,9,-999.000,9,  2233.8,2,  2333.6,2,-999.0000,9,-999.0000,9, -999.00,9, -999.00,9,  -999.0,9,    -9.0,-999.000,9,-999.000,    1749,-999.0000,  15.1193,-999.0000, -999.00
 316N145_11,       I01W,     874,          1,         11,     SI9426,2,19950905,       2103,    12.1612,    44.0000,        495,   207.4,  15.3116,  35.9867,2,  35.9981,2,     29.3,2,    30.5,2,   25.19,2,   26.39,2,    0.01,2,    2.02,2,   0.705,2,   0.391,2,  2233.5,2,  2339.7,2,-999.0000,9,-999.0000,9, -999.00,9, -999.00,9,  -999.0,9,    -9.0,-999.000,9,-999.000,    2049,-999.0000,  15.2795,-999.0000, -999.00
 316N145_11,       I01W,     874,          1,         10,     SIH014,2,19950905,       2103,    12.1612,    44.0000,        495,   237.4,  15.6050,  36.1607,2,  36.1521,2,     29.9,2,    30.3,2,   25.19,2,   25.90,2,    0.01,2,    1.98,2,-999.000,9,-999.000,9,  2230.8,2,  2344.2,2,-999.0000,9,-999.0000,9, -999.00,9, -999.00,9,  -999.0,9,    -9.0,-999.000,9,-999.000,    2349,-999.0000,  15.5676,-999.0000, -999.00
 316N145_11,       I01W,     874,          1,          9,     SIH015,2,19950905,       2103,    12.1612,    44.0000,        495,   267.6,  15.1331,  36.0980,2,  36.0932,2,     27.0,2,    28.8,2,   26.95,2,   26.82,2,    0.00,2,    2.05,2,-999.000,9,-999.000,9,  2236.8,2,  2342.8,2,-999.0000,9,   1.7953,2,    6.15,2, -999.00,9,  -999.0,9,    -9.0,   7.282,2,   0.036,    2650,-999.0000,  15.0919,   0.0090,    0.14
 316N145_11,       I01W,     874,          1,          8,     SIH016,2,19950905,       2103,    12.1612,    44.0000,        495,   297.6,  14.6886,  36.0149,2,  36.0082,2,     24.8,2,    22.7,2,   28.51,2,   27.57,2,    0.01,2,    2.11,2,   0.569,2,   0.324,2,  2242.9,2,  2340.4,2,   0.3925,2,   1.7784,2,    6.46,2, -999.00,9,  -999.0,9,    -9.0,   7.212,2,   0.036,    2951,   0.0028,  14.6437,   0.0089,    0.14
 316N145_11,       I01W,     874,          1,          7,     SIH017,2,19950905,       2103,    12.1612,    44.0000,        495,   327.7,  14.7326,  36.1035,2,  36.1039,2,     26.3,2,    25.6,2,   29.10,2,   27.14,2,    0.00,2,    2.09,2,-999.000,9,-999.000,9,  2241.1,2,  2343.2,2,   0.3946,2,   1.7664,2,    6.54,2, -999.00,9,  -999.0,9,    -9.0,   7.178,2,   0.036,    3252,   0.0028,  14.6829,   0.0088,    0.14
 316N145_11,       I01W,     874,          1,          6,     SIH018,2,19950905,       2103,    12.1612,    44.0000,        495,   357.6,  14.8655,  36.2094,2,  36.2125,2,     27.5,2,    26.6,2,   29.28,2,   27.24,2,    0.01,2,    2.08,2,-999.000,9,-999.000,9,  2239.4,2,  2347.8,2,   0.3947,2,   1.7907,2,    6.73,2, -999.00,9,  -999.0,9,    -9.0,   7.273,2,   0.036,    3551,   0.0028,  14.8109,   0.0090,    0.14
 316N145_11,       I01W,     874,          1,          5,     SIH002,2,19950905,       2103,    12.1612,    44.0000,        495,   392.8,  14.8884,  36.2657,2,  36.2695,2,     28.3,2,    27.4,2,   30.05,2,   26.97,2,    0.00,2,    2.07,2,   0.545,2,   0.309,2,  2239.8,2,  2352.9,2,   0.4035,2,   1.7706,2,    7.24,2, -999.00,9,  -999.0,9,    -9.0,   7.202,2,   0.036,    3904,   0.0028,  14.8282,   0.0089,    0.14
 316N145_11,       I01W,     874,          1,          4,     SIH020,2,19950905,       2103,    12.1612,    44.0000,        495,   422.8,  14.8052,  36.2709,2,  36.2742,2,     27.9,2,    28.9,2,   30.24,2,   27.24,2,    0.01,2,    2.10,2,-999.000,9,-999.000,9,  2241.4,2,  2352.2,2,   0.3867,2,   1.7998,2,    7.12,2, -999.00,9,  -999.0,9,    -9.0,   7.310,2,   0.037,    4204,   0.0028,  14.7407,   0.0090,    0.14
 316N145_11,       I01W,     874,          1,          3,     SIH021,2,19950905,       2103,    12.1612,    44.0000,        495,   448.4,  15.6490,  36.5518,2,  36.4945,2,     27.9,2,    29.7,2,   29.24,2,   26.22,2,    0.00,2,    2.01,2,-999.000,9,-999.000,9,  2236.9,2,  2355.3,2,   0.4277,2,   1.7751,2,    7.60,2, -999.00,9,  -999.0,9,    -9.0,   7.166,2,   0.036,    4460,   0.0028,  15.5778,   0.0089,    0.14
 316N145_11,       I01W,     874,          1,          2,     SIH022,2,19950905,       2103,    12.1612,    44.0000,        495,   478.7,  16.9012,  37.0189,2,  37.0233,2,     37.4,2,    37.7,2,   24.72,2,   23.75,2,    0.00,2,    1.81,2,   0.800,2,   0.459,2,  2223.4,2,  2375.7,3,   0.5315,2,   1.7568,2,    8.86,2, -999.00,9,  -999.0,9,    -9.0,-999.000,9,  -0.045,    4763,   0.0030,  16.8209,   0.0088,    0.14
 316N145_11,       I01W,     874,          1,          1,     SIH023,2,19950905,       2103,    12.1612,    44.0000,        495,   488.5,  16.8732,  37.0242,2,  37.0684,2,     38.7,2,    37.2,2,   25.17,2,   23.48,2,    0.01,2,    1.79,2,   0.800,2,   0.452,2,  2222.9,2,  2373.6,3,-999.0000,9,-999.0000,9, -999.00,9, -999.00,9,  -999.0,9,    -9.0,-999.000,9,-999.000,    4861,-999.0000,  16.7913,-999.0000, -999.00
 316N145_11,       I01W,     875,          1,         25,     SI9446,2,19950906,       0043,    11.9945,    44.4858,       1410,     8.0,  24.9857,  35.9173,2,  35.9170,2,    201.4,2,   200.5,2,    2.72,2,    3.33,2,    0.62,2,    0.60,2,   1.623,2,   0.930,2,  2043.4,2,  2356.5,2,-999.0000,9,-999.0000,9, -999.00,9,    1.17,2,    29.0,2,     6.1,-999.000,9,-999.000,      52,-999.0000,  24.9839,-999.0000, -999.00
 316N145_11,       I01W,     875,          1,         24,     SIH036,2,19950906,       0043,    11.9945,    44.4858,       1410,    27.9,  19.2191,  35.7330,2,  35.7308,2,     31.7,2,    25.0,2,   16.60,2,   23.50,2,    0.79,2,    1.93,2,   1.247,2,   0.695,2,  2208.4,2,  2332.6,2,-999.0000,9,-999.0000,9, -999.00,9, -999.00,9,  -999.0,9,    -9.0,-999.000,9,-999.000,     251,-999.0000,  19.2141,-999.0000, -999.00
 316N145_11,       I01W,     875,          1,         23,     SIH001,2,19950906,       0043,    11.9945,    44.4858,       1410,    57.7,  17.2150,  35.6754,2,  35.6731,2,     16.9,2,    15.6,2,   20.96,2,   25.43,2,    0.15,2,    2.08,2,-999.000,9,-999.000,9,  2225.5,2,  2334.1,2,-999.0000,9,-999.0000,9, -999.00,9,   -0.28,3,    10.9,2,     4.0,-999.000,9,-999.000,     549,-999.0000,  17.2054,-999.0000, -999.00
 316N145_11,       I01W,     875,          1,         22,     SIH019,2,19950906,       0043,    11.9945,    44.4858,       1410,    87.8,  16.2315,  35.6444,2,  35.6476,2,     13.4,2,    12.7,2,   22.55,2,   26.69,2,    0.02,2,    2.14,2,-999.000,9,-999.000,9,  2234.6,2,  2331.8,2,-999.0000,9,-999.0000,9, -999.00,9, -999.00,9,  -999.0,9,    -9.0,-999.000,9,-999.000,     850,-999.0000,  16.2175,-999.0000, -999.00
 316N145_11,       I01W,     875,          1,         21,     SIH025,2,19950906,       0043,    11.9945,    44.4858,       1410,   122.6,  15.3273,  35.6450,2,  35.6457,2,     17.6,2,    19.3,2,   23.73,2,   26.75,2,    0.01,2,    2.12,2,   1.173,4,   0.440,2,  2235.6,2,  2333.4,2,-999.0000,9,-999.0000,9, -999.00,9,   -0.05,2,     9.0,2,     2.8,-999.000,9,-999.000,    1198,-999.0000,  15.3084,-999.0000, -999.00
 316N145_11,       I01W,     875,          1,         20,     SIH004,2,19950906,       0043,    11.9945,    44.4858,       1410,   152.6,  15.0180,  35.7168,2,  35.7331,2,     21.2,2,    20.6,2,   24.73,2,   26.66,2,    0.00,2,    2.08,2,-999.000,9,-999.000,9,  2237.1,2,  2338.6,2,-999.0000,9,-999.0000,9, -999.00,9, -999.00,9,  -999.0,9,    -9.0,-999.000,9,-999.000,    1499,-999.0000,  14.9947,-999.0000, -999.00
 316N145_11,       I01W,     875,          1,         19,     SIH005,2,19950906,       0043,    11.9945,    44.4858,       1410,   178.0,  15.0069,  35.8523,2,  35.8591,2,     21.8,2,    22.2,2,   25.52,2,   26.70,2,    0.01,2,    2.08,2,-999.000,9,-999.000,9,  2237.5,2,  2347.0,2,-999.0000,9,-999.0000,9, -999.00,9,    0.02,2,    -3.3,2,     2.8,-999.000,9,-999.000,    1752,-999.0000,  14.9798,-999.0000, -999.00
 316N145_11,       I01W,     875,          1,         18,     SIH006,2,19950906,       0043,    11.9945,    44.4858,       1410,   202.8,  15.2635,  36.0486,2,  36.0536,2,     22.7,2,    22.2,2,   25.90,2,   26.49,2,    0.01,2,    2.05,2,   0.666,2,   0.371,2,  2237.2,2,  2348.3,2,-999.0000,9,-999.0000,9, -999.00,9, -999.00,9,  -999.0,9,    -9.0,-999.000,9,-999.000,    2001,-999.0000,  15.2321,-999.0000, -999.00
 316N145_11,       I01W,     875,          1,         17,     SIH038,2,19950906,       0043,    11.9945,    44.4858,       1410,   222.8,  15.2915,  36.1277,2,  36.1381,2,     23.0,2,    23.0,2,   25.90,2,   26.44,2,    0.00,2,    2.05,2,-999.000,9,-999.000,9,  2237.3,2,  2350.8,2,-999.0000,9,-999.0000,9, -999.00,9, -999.00,9,  -999.0,9,    -9.0,-999.000,9,-999.000,    2201,-999.0000,  15.2570,-999.0000, -999.00
 316N145_11,       I01W,     875,          1,         16,     SIH008,2,19950906,       0043,    11.9945,    44.4858,       1410,   247.6,  15.0749,  36.1244,2,  36.1090,2,     22.7,2,    21.4,2,   27.09,2,   26.86,2,    0.01,2,    2.08,2,-999.000,9,-999.000,9,  2240.8,2,  2349.4,2,-999.0000,9,-999.0000,9, -999.00,9,   -0.07,2,    -8.9,2,     4.2,-999.000,9,-999.000,    2449,-999.0000,  15.0368,-999.0000, -999.00
 316N145_11,       I01W,     875,          1,         15,     SIH009,2,19950906,       0043,    11.9945,    44.4858,       1410,   297.8,  15.0102,  36.1837,2,  36.1808,2,     22.4,2,    23.2,2,   28.08,2,   26.76,2,    0.01,2,    2.08,2,-999.000,9,-999.000,9,  2240.5,2,  2352.5,2,-999.0000,9,-999.0000,9, -999.00,9,   -0.12,2,   -26.9,2,     2.7,-999.000,9,-999.000,    2950,-999.0000,  14.9645,-999.0000, -999.00
 316N145_11,       I01W,     875,          1,         14,     SIH010,2,19950906,       0043,    11.9945,    44.4858,       1410,   398.6,  15.3218,  36.4287,2,  36.4332,2,     23.4,2,    23.7,2,   28.87,2,   26.49,2,    0.00,2,    2.05,2,   0.576,2,   0.328,2,  -999.0,9,  -999.0,9,-999.0000,9,-999.0000,9, -999.00,9,    0.05,2,   -30.7,2,     3.0,-999.000,9,-999.000,    3960,-999.0000,  15.2594,-999.0000, -999.00
 316N145_11,       I01W,     875,          1,         13,     SIH011,2,19950906,       0043,    11.9945,    44.4858,       1410,   448.7,  15.5281,  36.5695,2,  36.5638,2,     25.1,2,    25.7,2,   29.26,2,   25.89,2,    0.01,2,    2.02,2,   0.583,2,   0.323,2,  2238.8,2,  2365.5,3,-999.0000,9,-999.0000,9, -999.00,9,    0.07,2,   -14.4,2,     3.7,-999.000,9,-999.000,    4460,-999.0000,  15.4571,-999.0000, -999.00
 316N145_11,       I01W,     875,          1,         12,     SIH012,2,19950906,       0043,    11.9945,    44.4858,       1410,   498.7,  14.0452,  36.2071,2,  36.2103,2,     19.9,2,    19.1,2,   35.03,2,   28.12,2,    0.00,2,    2.22,2,   0.419,2,   0.230,2,  -999.0,9,  -999.0,9,-999.0000,9,-999.0000,9, -999.00,9, -999.00,9,  -999.0,9,    -9.0,-999.000,9,-999.000,    4961,-999.0000,  13.9714,-999.0000, -999.00
 316N145_11,       I01W,     875,          1,         11,     SI9426,2,19950906,       0043,    11.9945,    44.4858,       1410,   549.0,  13.5020,  36.1222,2,  36.1248,2,     16.0,2,    15.8,2,   38.61,2,   28.97,2,    0.01,2,    2.30,2,   0.343,2,   0.183,2,  2258.8,2,  2360.2,2,-999.0000,9,-999.0000,9, -999.00,9,    0.05,2,   -49.9,2,     3.6,-999.000,9,-999.000,    5465,-999.0000,  13.4227,-999.0000, -999.00
 316N145_11,       I01W,     875,          1,         10,     SIH014,2,19950906,       0043,    11.9945,    44.4858,       1410,   599.1,  14.2418,  36.4177,2,  36.4400,2,     20.0,3,    20.1,2,   37.41,2,   27.74,2,    0.00,2,    2.19,2,   0.427,2,   0.238,2,  -999.0,9,  -999.0,9,-999.0000,9,-999.0000,9, -999.00,9, -999.00,9,  -999.0,9,    -9.0,-999.000,9,-999.000,    5966,-999.0000,  14.1519,-999.0000, -999.00
 316N145_11,       I01W,     875,          1,          9,     SIH015,2,19950906,       0043,    11.9945,    44.4858,       1410,   699.3,  13.9239,  36.4840,2,  36.4836,2,     20.0,2,    19.3,2,   42.17,2,   28.23,2,    0.00,2,    2.23,2,-999.000,9,-999.000,9,  2257.5,2,  2374.0,2,-999.0000,9,-999.0000,9, -999.00,9,   -0.13,2,   -64.7,2,     4.7,-999.000,9,-999.000,    6969,-999.0000,  13.8201,-999.0000, -999.00
 316N145_11,       I01W,     875,          1,          8,     SIH016,2,19950906,       0043,    11.9945,    44.4858,       1410,   799.8,  13.5927,  36.4995,2,  36.5129,2,     19.2,2,    19.1,2,   46.14,2,   28.55,2,    0.00,2,    2.26,2,   0.367,2,   0.207,2,  -999.0,9,  -999.0,9,-999.0000,9,-999.0000,9, -999.00,9,   -0.09,2,   -66.1,2,     3.3,-999.000,9,-999.000,    7975,-999.0000,  13.4755,-999.0000, -999.00
 316N145_11,       I01W,     875,          1,          7,     SIH017,2,19950906,       0043,    11.9945,    44.4858,       1410,   900.0,  15.1618,  37.0852,2,  37.0797,2,     23.8,2,    24.4,2,   40.96,2,   25.86,2,    0.00,2,    2.04,2,-999.000,9,-999.000,9,  2250.5,2,  2389.8,2,-999.0000,9,-999.0000,9, -999.00,9,    0.01,2,   -56.8,2,     4.4,-999.000,9,-999.000,    8978,-999.0000,  15.0193,-999.0000, -999.00
 316N145_11,       I01W,     875,          1,          6,     SIH018,2,19950906,       0043,    11.9945,    44.4858,       1410,  1000.2,  16.4496,  37.5256,2,  37.5240,2,     24.4,2,    25.3,2,   36.59,2,   23.59,2,    0.00,2,    1.88,2,   0.598,2,   0.348,2,  -999.0,9,  -999.0,9,-999.0000,9,-999.0000,9, -999.00,9,    0.12,2,   -31.5,2,     2.6,-999.000,9,-999.000,    9982,-999.0000,  16.2818,-999.0000, -999.00
 316N145_11,       I01W,     875,          1,          5,     SIH002,2,19950906,       0043,    11.9945,    44.4858,       1410,  1100.8,  17.1073,  37.7643,2,  37.7642,2,     16.8,2,    16.3,2,   39.75,2,   22.04,2,    0.00,2,    1.85,2,-999.000,9,-999.000,9,  2248.8,2,  2407.8,4,-999.0000,9,-999.0000,9, -999.00,9,    0.04,2,   -26.8,2,     3.4,-999.000,9,-999.000,   10989,-999.0000,  16.9173,-999.0000, -999.00
 316N145_11,       I01W,     875,          1,          4,     SIH020,2,19950906,       0043,    11.9945,    44.4858,       1410,  1195.9,  16.9307,  37.7078,2,  37.7062,2,     16.5,2,    17.9,2,   40.15,2,   22.30,2,   -0.01,2,    1.88,2,   0.571,2,   0.349,2,  -999.0,9,  -999.0,9,-999.0000,9,-999.0000,9, -999.00,9,    0.07,2,   -29.5,2,     2.8,-999.000,9,-999.000,   11942,-999.0000,  16.7254,-999.0000, -999.00
 316N145_11,       I01W,     875,          1,          3,     SIH021,2,19950906,       0043,    11.9945,    44.4858,       1410,  1297.0,  16.8518,  37.6758,2,  37.6743,2,     17.3,2,    16.9,2,   40.75,2,   22.58,2,   -0.01,2,    1.88,2,-999.000,9,-999.000,9,  -999.0,9,  -999.0,9,-999.0000,9,-999.0000,9, -999.00,9, -999.00,9,  -999.0,9,    -9.0,-999.000,9,-999.000,   12955,-999.0000,  16.6292,-999.0000, -999.00
 316N145_11,       I01W,     875,          1,          2,     SIH022,2,19950906,       0043,    11.9945,    44.4858,       1410,  1397.9,  16.8007,  37.6541,2,  37.6528,2,     17.2,2,    17.3,2,   41.15,2,   22.68,2,   -0.01,2,    1.89,2,   0.563,2,   0.341,2,  2247.1,2,  2404.2,2,-999.0000,9,-999.0000,9, -999.00,9,    0.14,2,   -24.0,2,     2.8,-999.000,9,-999.000,   13965,-999.0000,  16.5607,-999.0000, -999.00
 316N145_11,       I01W,     875,          1,          1,     SIH023,2,19950906,       0043,    11.9945,    44.4858,       1410,  1453.1,  16.7568,  37.6370,2,  37.6345,2,     17.3,2,    16.7,2,   41.14,2,   22.62,2,    0.02,2,    1.90,2,   0.568,2,   0.341,2,  -999.0,9,  -999.0,9,-999.0000,9,-999.0000,9, -999.00,9, -999.00,9,  -999.0,9,    -9.0,-999.000,9,-999.000,   14518,-999.0000,  16.5074,-999.0000, -999.00