BOTTLE,20211117CCHSIORKP
EXPOCODE,SECT_ID,STNNBR,CASTNO,SAMPNO,BTLNBR,BTLNBR_FLAG_W,DATE,TIME,LATITUDE,LONGITUDE,DEPTH,CTDPRS,CTDTMP,CTDSAL,CTDSAL_FLAG_W,SALNTY,SALNTY_FLAG_W,CTDOXY,CTDOXY_FLAG_W,OXYGEN,OXYGEN_FLAG_W,SILCAT,SILCAT_FLAG_W,PHSPHT,PHSPHT_FLAG_W
,,,,,,,,,,,METERS,DBAR,ITS-90,PSS-78,,PSS-78,,UMOL/KG,,UMOL/KG,,UMOL/KG,,UMOL/KG,
   09FA0394,       PR11,      28,          1,          1,         11,2,19940322,       2003,   -33.0857,   172.3773,       1876,     1.9,  21.8130,  35.8800,2,  35.8770,2,-999.0000,9,   216.3,2,    1.56,2,    0.12,2
   09FA0394,       PR11,      28,          1,          2,          5,2,19940322,       2003,   -33.0857,   172.3773,       1876,    50.3,  21.8190,  35.8790,2,  35.8770,2,-999.0000,9,   217.5,2,    1.46,2,    0.12,2
   09FA0394,       PR11,      28,          1,          3,         17,2,19940322,       2003,   -33.0857,   172.3773,       1876,   101.9,  19.6140,  35.6600,2,  35.6640,2,-999.0000,9,   208.6,2,    1.86,2,    0.29,2
   09FA0394,       PR11,      28,          1,          4,         24,2,19940322,       2003,   -33.0857,   172.3773,       1876,   153.7,  18.0140,  35.6340,2,  35.5860,2,-999.0000,9,   200.1,2,    2.44,2,    0.48,2
   09FA0394,       PR11,      28,          1,          5,          2,2,19940322,       2003,   -33.0857,   172.3773,       1876,   153.7,  18.0140,  35.6340,2,  35.5870,2,-999.0000,9,   200.1,2,    2.44,2,    0.51,2
   09FA0394,       PR11,      28,          1,          6,        449,2,19940322,       2003,   -33.0857,   172.3773,       1876,   250.0,  15.0280,  35.3540,2,  35.4090,2,-999.0000,9,   194.0,2,    3.61,2,    0.69,2
   09FA0394,       PR11,      28,          1,          7,         23,2,19940322,       2003,   -33.0857,   172.3773,       1876,   299.3,  13.9400,  35.2620,2,  35.3340,2,-999.0000,9,   199.9,2,    4.10,2,    0.79,2
   09FA0394,       PR11,      28,          1,          8,         20,2,19940322,       2003,   -33.0857,   172.3773,       1876,   299.3,  13.9400,  35.2620,2,  35.3340,2,-999.0000,9,   199.9,2,    4.10,2,    0.77,2
   09FA0394,       PR11,      28,          1,          9,         21,2,19940322,       2003,   -33.0857,   172.3773,       1876,   497.6,  10.3870,  34.8460,2,  34.8660,2,-999.0000,9,   194.4,2,    8.89,2,    1.17,2
   09FA0394,       PR11,      28,          1,         10,          9,2,19940322,       2003,   -33.0857,   172.3773,       1876,   497.6,  10.3870,  34.8460,2,  34.8660,2,-999.0000,9,   193.8,2,    8.99,2,    1.19,2
   09FA0394,       PR11,      28,          1,         11,         10,2,19940322,       2003,   -33.0857,   172.3773,       1876,   692.4,   7.7610,  34.5760,2,  34.5890,2,-999.0000,9,   192.1,2,   17.89,2,    1.66,2
   09FA0394,       PR11,      28,          1,         12,         14,2,19940322,       2003,   -33.0857,   172.3773,       1876,   792.5,   7.0460,  34.5180,2,  34.5020,2,-999.0000,9,   193.8,2,   21.99,2,    1.81,2
   09FA0394,       PR11,      28,          1,         13,          3,2,19940322,       2003,   -33.0857,   172.3773,       1876,   792.5,   7.0460,  34.5180,2,  34.5050,2,-999.0000,9,   193.6,2,   22.09,2,    1.83,2
   09FA0394,       PR11,      28,          1,         14,          6,2,19940322,       2003,   -33.0857,   172.3773,       1876,  1190.5,   4.6920,  34.5060,2,  34.5070,2,-999.0000,9,   173.5,2,   55.33,2,    2.26,2
   09FA0394,       PR11,      28,          1,         15,          4,2,19940322,       2003,   -33.0857,   172.3773,       1876,  1190.5,   4.6920,  34.5060,2,  34.5070,2,-999.0000,9,   172.6,2,   55.92,2,    2.22,2
   09FA0394,       PR11,      28,          1,         16,          1,2,19940322,       2003,   -33.0857,   172.3773,       1876,  1594.9,   3.1080,  34.5890,2,  34.5870,2,-999.0000,9,   160.6,2,   90.03,2,    2.42,2
   09FA0394,       PR11,      28,          1,         17,          7,2,19940322,       2003,   -33.0857,   172.3773,       1876,  1876.4,   2.4780,  34.6280,2,  34.6240,2,-999.0000,9,   157.1,2,  106.15,2,    2.48,2
   09FA0394,       PR11,      29,          1,          1,         11,2,19940323,       0237,   -32.0212,   172.4513,       1341,    50.6,  21.4470,  35.8560,2,  35.8220,2,-999.0000,9,   221.0,2,    1.76,2,    0.17,2
   09FA0394,       PR11,      29,          1,          2,         24,2,19940323,       0237,   -32.0212,   172.4513,       1341,   100.2,  18.4190,  35.6560,2,  35.6600,2,-999.0000,9,   206.1,2,    2.15,2,    0.37,2
   09FA0394,       PR11,      29,          1,          3,          2,2,19940323,       0237,   -32.0212,   172.4513,       1341,   148.7,  16.8450,  35.5310,2,  35.5420,2,-999.0000,9,   198.4,2,    2.93,2,    0.58,2
   09FA0394,       PR11,      29,          1,          4,        449,2,19940323,       0237,   -32.0212,   172.4513,       1341,   199.7,  15.6810,  35.4360,2,  35.4470,2,-999.0000,9,   204.7,2,    3.42,2,    0.67,2
   09FA0394,       PR11,      29,          1,          5,         23,2,19940323,       0237,   -32.0212,   172.4513,       1341,   250.0,  15.0040,  35.3880,2,  35.3560,2,-999.0000,9,   206.7,2,    4.01,2,    0.76,2
   09FA0394,       PR11,      29,          1,          6,         20,2,19940323,       0237,   -32.0212,   172.4513,       1341,   297.3,  14.3250,  35.3110,2,  35.2510,2,-999.0000,9,   201.8,2,    4.49,2,    0.85,2
   09FA0394,       PR11,      29,          1,          7,         21,2,19940323,       0237,   -32.0212,   172.4513,       1341,   397.0,  12.2500,  35.0760,2,  35.0690,2,-999.0000,9,   196.1,2,    6.84,2,    1.07,2
   09FA0394,       PR11,      29,          1,          8,          9,2,19940323,       0237,   -32.0212,   172.4513,       1341,   397.0,  12.2500,  35.0760,2,  35.0700,2,-999.0000,9,   196.7,2,    6.84,2,    1.07,2
   09FA0394,       PR11,      29,          1,          9,         10,2,19940323,       0237,   -32.0212,   172.4513,       1341,   596.5,   9.1270,  34.7100,2,  34.7320,2,-999.0000,9,   191.0,2,   13.49,2,    1.51,2
   09FA0394,       PR11,      29,          1,         10,         14,2,19940323,       0237,   -32.0212,   172.4513,       1341,   695.0,   7.9240,  34.5840,2,  34.6020,2,-999.0000,9,   191.6,2,   17.40,2,    1.72,2
   09FA0394,       PR11,      29,          1,         11,          3,2,19940323,       0237,   -32.0212,   172.4513,       1341,   795.7,   6.8190,  34.5230,2,  34.5340,2,-999.0000,9,   187.0,2,   26.98,2,    1.94,2
   09FA0394,       PR11,      29,          1,         12,          6,2,19940323,       0237,   -32.0212,   172.4513,       1341,   995.0,   5.7840,  34.5070,2,  34.5100,2,-999.0000,9,   180.2,2,   41.15,2,    2.20,2
   09FA0394,       PR11,      29,          1,         13,          4,2,19940323,       0237,   -32.0212,   172.4513,       1341,   995.0,   5.7840,  34.5070,2,  34.5110,2,-999.0000,9,   180.4,2,   40.37,2,    2.06,2
   09FA0394,       PR11,      29,          1,         14,          1,2,19940323,       0237,   -32.0212,   172.4513,       1341,  1319.5,   3.8640,  34.5350,2,  34.5350,2,-999.0000,9,   166.9,2,   74.39,2,    2.37,2
   09FA0394,       PR11,      29,          1,         15,          7,2,19940323,       0237,   -32.0212,   172.4513,       1341,  1319.5,   3.8640,  34.5350,2,  34.5390,2,-999.0000,9,   166.9,2,   73.31,2,    2.36,2
   09FA0394,       PR11,      30,          1,          1,         11,2,19940323,       0659,   -31.3753,   172.5303,       1266,     2.7,  21.3170,  35.8150,2,  35.8210,2,-999.0000,9,   221.9,2,    1.46,2,    0.16,2
   09FA0394,       PR11,      30,          1,          2,          2,2,19940323,       0659,   -31.3753,   172.5303,       1266,    48.8,  21.2850,  35.8250,2,  35.8340,2,-999.0000,9,   222.7,2,    1.37,2,    0.39,2
   09FA0394,       PR11,      30,          1,          3,        449,2,19940323,       0659,   -31.3753,   172.5303,       1266,    99.8,  18.2230,  35.6250,2,  35.5650,2,-999.0000,9,   198.7,2,    2.54,2,    0.53,2
   09FA0394,       PR11,      30,          1,          4,         23,2,19940323,       0659,   -31.3753,   172.5303,       1266,   149.5,  16.4730,  35.5000,2,  35.4840,2,-999.0000,9,   195.2,2,    3.13,2,    0.63,2
   09FA0394,       PR11,      30,          1,          5,         20,2,19940323,       0659,   -31.3753,   172.5303,       1266,   197.8,  15.4300,  35.4030,2,  35.3870,2,-999.0000,9,   196.9,2,    3.71,2,    0.71,2
   09FA0394,       PR11,      30,          1,          6,         21,2,19940323,       0659,   -31.3753,   172.5303,       1266,   247.1,  14.4320,  35.3010,2,  35.2860,2,-999.0000,9,   195.2,2,    4.40,2,    0.83,2
   09FA0394,       PR11,      30,          1,          7,         10,2,19940323,       0659,   -31.3753,   172.5303,       1266,   398.3,  11.7060,  34.9880,2,  35.0030,2,-999.0000,9,   193.0,2,    6.74,2,    1.10,2
   09FA0394,       PR11,      30,          1,          8,         14,2,19940323,       0659,   -31.3753,   172.5303,       1266,   496.2,  10.0370,  34.7920,2,  34.8020,2,-999.0000,9,   192.4,2,    9.38,2,    1.32,2
   09FA0394,       PR11,      30,          1,          9,          3,2,19940323,       0659,   -31.3753,   172.5303,       1266,   592.0,   8.9030,  34.6630,2,  34.6670,2,-999.0000,9,   195.3,2,   11.73,2,    1.50,2
   09FA0394,       PR11,      30,          1,         10,          6,2,19940323,       0659,   -31.3753,   172.5303,       1266,   693.7,   7.4400,  34.5170,2,  34.5210,2,-999.0000,9,   201.1,2,   15.45,2,    1.70,2
   09FA0394,       PR11,      30,          1,         11,          4,2,19940323,       0659,   -31.3753,   172.5303,       1266,   797.1,   6.5270,  34.4550,2,  34.4680,2,-999.0000,9,   198.0,2,   21.12,2,    1.86,2
   09FA0394,       PR11,      30,          1,         12,          1,2,19940323,       0659,   -31.3753,   172.5303,       1266,   995.2,   5.2900,  34.4680,2,  34.4720,2,-999.0000,9,   181.8,2,   40.86,2,    2.11,2
   09FA0394,       PR11,      30,          1,         13,          7,2,19940323,       0659,   -31.3753,   172.5303,       1266,  1297.3,   4.2480,  34.5100,2,  34.5120,2,-999.0000,9,   170.7,2,   61.59,2,    2.31,2
   09FA0394,       PR11,      31,          1,          1,         11,2,19940323,       1119,   -30.7272,   172.5983,       1332,     3.1,  21.5870,  35.7510,2,  35.7520,2,-999.0000,9,   220.7,2,    1.46,2,    0.20,2
   09FA0394,       PR11,      31,          1,          2,          5,2,19940323,       1119,   -30.7272,   172.5983,       1332,    50.7,  20.1270,  35.6690,2,  35.7000,2,-999.0000,9,   230.8,2,    1.47,2,    0.27,2
   09FA0394,       PR11,      31,          1,          3,         17,2,19940323,       1119,   -30.7272,   172.5983,       1332,   100.3,  16.3000,  35.4800,2,  35.4770,2,-999.0000,9,   221.9,2,    2.34,2,    0.47,2
   09FA0394,       PR11,      31,          1,          4,        449,2,19940323,       1119,   -30.7272,   172.5983,       1332,   149.3,  15.5860,  35.4470,2,  35.4240,2,-999.0000,9,   211.6,2,    2.83,2,    0.61,2
   09FA0394,       PR11,      31,          1,          5,         23,2,19940323,       1119,   -30.7272,   172.5983,       1332,   198.1,  14.6090,  35.3480,2,  35.3480,2,-999.0000,9,   206.7,2,    3.52,2,    0.71,2
   09FA0394,       PR11,      31,          1,          6,         20,2,19940323,       1119,   -30.7272,   172.5983,       1332,   248.4,  13.9549,  35.2700,2,  35.2740,2,-999.0000,9,   202.4,2,    4.10,2,    0.78,2
   09FA0394,       PR11,      31,          1,          7,         21,2,19940323,       1119,   -30.7272,   172.5983,       1332,   298.9,  12.6690,  35.1050,2,  35.0850,2,-999.0000,9,   194.1,2,    5.67,2,    1.01,2
   09FA0394,       PR11,      31,          1,          8,         10,2,19940323,       1119,   -30.7272,   172.5983,       1332,   497.6,   9.0850,  34.6900,2,  34.6710,2,-999.0000,9,   193.9,2,   12.32,2,    1.54,2
   09FA0394,       PR11,      31,          1,          9,         14,2,19940323,       1119,   -30.7272,   172.5983,       1332,   595.0,   8.0320,  34.5840,2,  34.5770,2,-999.0000,9,   196.8,2,   15.05,2,    1.69,2
   09FA0394,       PR11,      31,          1,         10,          3,2,19940323,       1119,   -30.7272,   172.5983,       1332,   696.3,   7.1770,  34.5200,2,  34.5240,2,-999.0000,9,   194.4,2,   21.80,2, -999.00,9
   09FA0394,       PR11,      31,          1,         11,          6,2,19940323,       1119,   -30.7272,   172.5983,       1332,   796.1,   6.3900,  34.4700,2,  34.4680,2,-999.0000,9,   194.1,2,   26.98,2,    1.98,2
   09FA0394,       PR11,      31,          1,         12,          4,2,19940323,       1119,   -30.7272,   172.5983,       1332,   990.9,   5.1060,  34.4650,2,  34.4690,2,-999.0000,9,   180.9,2,   45.46,2,    2.24,2
   09FA0394,       PR11,      31,          1,         13,          1,2,19940323,       1119,   -30.7272,   172.5983,       1332,  1194.6,   4.1970,  34.4950,2,  34.5010,2,-999.0000,9,   170.4,2,   64.91,2,    2.37,2
   09FA0394,       PR11,      31,          1,         14,          7,2,19940323,       1119,   -30.7272,   172.5983,       1332,  1323.0,   3.4950,  34.5390,2,  34.5380,2,-999.0000,9,   165.5,2,   75.37,2,    2.39,2
   09FA0394,       PR11,      32,          1,          1,         11,2,19940323,       1559,   -30.0732,   172.6735,       1853,     3.2,  21.6800,  35.7200,2,  35.7220,2,-999.0000,9,   218.7,2,    1.47,2,    0.18,2
   09FA0394,       PR11,      32,          1,          2,          8,2,19940323,       1559,   -30.0732,   172.6735,       1853,    49.5,  21.6770,  35.7280,2,  35.7250,2,-999.0000,9,   220.7,2,    1.37,2,    0.20,2
   09FA0394,       PR11,      32,          1,          3,         24,2,19940323,       1559,   -30.0732,   172.6735,       1853,    99.7,  17.0350,  35.5230,2,  35.5830,2,-999.0000,9,   232.5,2,    1.76,2,    0.26,2
   09FA0394,       PR11,      32,          1,          4,          5,2,19940323,       1559,   -30.0732,   172.6735,       1853,   149.4,  15.5300,  35.4440,2,  35.4490,2,-999.0000,9,   208.7,2,    2.83,2,    0.57,2
   09FA0394,       PR11,      32,          1,          5,         17,2,19940323,       1559,   -30.0732,   172.6735,       1853,   198.0,  14.7340,  35.3610,2,  35.3650,2,-999.0000,9,   207.0,2,    3.52,2,    0.68,2
   09FA0394,       PR11,      32,          1,          6,        449,2,19940323,       1559,   -30.0732,   172.6735,       1853,   250.9,  13.8990,  35.2610,2,  35.2500,2,-999.0000,9,   200.7,2,    4.49,2,    0.84,2
   09FA0394,       PR11,      32,          1,          7,         23,2,19940323,       1559,   -30.0732,   172.6735,       1853,   300.0,  13.3070,  35.1850,2,  35.1360,2,-999.0000,9,   194.3,2,    5.37,2,    0.96,2
   09FA0394,       PR11,      32,          1,          8,         20,2,19940323,       1559,   -30.0732,   172.6735,       1853,   399.3,  11.6070,  34.9710,2,  34.9250,2,-999.0000,9,   191.8,2,    8.89,2,    1.33,2
   09FA0394,       PR11,      32,          1,          9,         21,2,19940323,       1559,   -30.0732,   172.6735,       1853,   497.2,   9.9300,  34.7910,2,  34.7740,2,-999.0000,9,   191.9,2,   11.34,2,    1.43,2
   09FA0394,       PR11,      32,          1,         10,          9,2,19940323,       1559,   -30.0732,   172.6735,       1853,   497.2,   9.9300,  34.7910,2,  34.7740,2,-999.0000,9,   191.9,2,   11.24,2,    1.43,2
   09FA0394,       PR11,      32,          1,         11,         10,2,19940323,       1559,   -30.0732,   172.6735,       1853,   698.1,   7.2830,  34.5480,2,  34.5320,2,-999.0000,9,   191.3,2,   22.58,2,    1.84,2
   09FA0394,       PR11,      32,          1,         12,         14,2,19940323,       1559,   -30.0732,   172.6735,       1853,   798.1,   6.2090,  34.4790,2,  34.4780,2,-999.0000,9,   187.3,2,   30.89,2,    2.02,2
   09FA0394,       PR11,      32,          1,         13,          3,2,19940323,       1559,   -30.0732,   172.6735,       1853,   996.5,   4.7909,  34.4680,2,  34.4750,2,-999.0000,9,   176.6,2,   47.41,2,    2.23,2
   09FA0394,       PR11,      32,          1,         14,          6,2,19940323,       1559,   -30.0732,   172.6735,       1853,  1194.7,   3.8810,  34.5120,2,  34.5120,2,-999.0000,9,   168.9,2, -999.00,9, -999.00,9
   09FA0394,       PR11,      32,          1,         15,          1,2,19940323,       1559,   -30.0732,   172.6735,       1853,  1592.1,   2.8540,  34.5870,2,  34.5890,2,-999.0000,9,   158.0,2, -999.00,9, -999.00,9
   09FA0394,       PR11,      32,          1,         16,          7,2,19940323,       1559,   -30.0732,   172.6735,       1853,  1854.1,   2.4570,  34.6260,2,  34.6260,2,-999.0000,9,   155.7,2,  104.78,2,    2.50,2