BOTTLE,20211117CCHSIORKP
EXPOCODE,SECT_ID,STNNBR,CASTNO,SAMPNO,BTLNBR,BTLNBR_FLAG_W,DATE,TIME,LATITUDE,LONGITUDE,DEPTH,CTDPRS,CTDTMP,CTDSAL,CTDSAL_FLAG_W,SALNTY,SALNTY_FLAG_W,CTDOXY,CTDOXY_FLAG_W,OXYGEN,OXYGEN_FLAG_W,SILCAT,SILCAT_FLAG_W,PHSPHT,PHSPHT_FLAG_W
,,,,,,,,,,,METERS,DBAR,ITS-90,PSS-78,,PSS-78,,UMOL/KG,,UMOL/KG,,UMOL/KG,,UMOL/KG,
   09FA0394,       PR11,      42,          1,          1,         11,2,19940326,       1136,   -30.0885,   161.5048,       1180,     4.1,  23.4760,  35.7600,2,  35.7630,2,-999.0000,9,   211.8,2,    1.17,2,    0.21,2
   09FA0394,       PR11,      42,          1,          2,         20,2,19940326,       1136,   -30.0885,   161.5048,       1180,    49.5,  23.4840,  35.7590,2,  35.7620,2,-999.0000,9,   213.8,2,    1.07,2,    0.27,2
   09FA0394,       PR11,      42,          1,          3,         18,2,19940326,       1136,   -30.0885,   161.5048,       1180,   100.2,  21.0040,  35.7210,2,  35.7320,2,-999.0000,9,   197.8,2,    1.37,2,    0.37,2
   09FA0394,       PR11,      42,          1,          4,         12,2,19940326,       1136,   -30.0885,   161.5048,       1180,   150.1,  19.3750,  35.6430,2,  35.6770,2,-999.0000,9,   190.3,2,    1.56,2,    0.46,2
   09FA0394,       PR11,      42,          1,          5,         19,2,19940326,       1136,   -30.0885,   161.5048,       1180,   197.7,  18.0630,  35.5910,2,  35.6120,2,-999.0000,9,   190.0,2,    1.95,2,    0.54,2
   09FA0394,       PR11,      42,          1,          6,         21,2,19940326,       1136,   -30.0885,   161.5048,       1180,   249.0,  16.4920,  35.4540,2,  35.4540,2,-999.0000,9,   176.5,2,    3.22,2,    0.75,2
   09FA0394,       PR11,      42,          1,          7,          9,2,19940326,       1136,   -30.0885,   161.5048,       1180,   297.8,  15.1250,  35.3460,2,  35.3530,2,-999.0000,9,   182.0,2,    4.01,2,    0.85,2
   09FA0394,       PR11,      42,          1,          8,         14,2,19940326,       1136,   -30.0885,   161.5048,       1180,   496.2,  10.8090,  34.8940,2,  34.9290,2,-999.0000,9,   190.4,2,    7.23,2,    1.27,2
   09FA0394,       PR11,      42,          1,          9,          3,2,19940326,       1136,   -30.0885,   161.5048,       1180,   595.9,   9.2110,  34.6930,2,  34.7110,2,-999.0000,9,   191.3,2,   10.36,2,    1.56,2
   09FA0394,       PR11,      42,          1,         10,          6,2,19940326,       1136,   -30.0885,   161.5048,       1180,   697.1,   8.1000,  34.5900,2,  34.6100,2,-999.0000,9,   191.0,2,   14.08,2,    1.72,2
   09FA0394,       PR11,      42,          1,         11,          4,2,19940326,       1136,   -30.0885,   161.5048,       1180,   796.8,   7.1100,  34.5170,2,  34.5260,2,-999.0000,9,   190.1,2,   20.14,2,    1.91,2
   09FA0394,       PR11,      42,          1,         12,          1,2,19940326,       1136,   -30.0885,   161.5048,       1180,   996.3,   5.4090,  34.4620,2,  34.4670,2,-999.0000,9,   182.1,2,   42.82,2,    2.07,2
   09FA0394,       PR11,      42,          1,         13,          7,2,19940326,       1136,   -30.0885,   161.5048,       1180,  1172.0,   4.4370,  34.4950,2,  34.5000,2,-999.0000,9,   169.2,2,   69.99,2,    2.21,2
   09FA0394,       PR11,      43,          1,          1,         11,2,19940328,       1253,   -30.0842,   153.5922,        987,     3.0,  24.4980,  35.2470,2,  35.2970,2,-999.0000,9,   210.4,2,    1.47,2,    0.21,2
   09FA0394,       PR11,      43,          1,          2,         20,2,19940328,       1253,   -30.0842,   153.5922,        987,    51.4,  20.3730,  35.4870,2,  35.6160,2,-999.0000,9,   188.6,2,    2.93,2,    0.41,2
   09FA0394,       PR11,      43,          1,          3,         18,2,19940328,       1253,   -30.0842,   153.5922,        987,    99.7,  15.0320,  35.3400,2,  35.3000,2,-999.0000,9,   183.0,2,    4.79,2,    0.84,2
   09FA0394,       PR11,      43,          1,          4,         12,2,19940328,       1253,   -30.0842,   153.5922,        987,   148.5,  13.5470,  35.1980,2,  35.1570,2,-999.0000,9,   186.1,2,    5.76,2,    0.98,2
   09FA0394,       PR11,      43,          1,          5,         19,2,19940328,       1253,   -30.0842,   153.5922,        987,   199.2,  12.1720,  35.0330,2,  35.0330,2,-999.0000,9,   185.0,2,    7.04,2,    1.07,2
   09FA0394,       PR11,      43,          1,          6,         21,2,19940328,       1253,   -30.0842,   153.5922,        987,   249.4,  11.5050,  34.9690,2,  34.9510,2,-999.0000,9,   187.3,2,    7.72,2,    1.18,2
   09FA0394,       PR11,      43,          1,          7,          9,2,19940328,       1253,   -30.0842,   153.5922,        987,   298.1,  10.7970,  34.8730,2,  34.8750,2,-999.0000,9,   188.7,2,    9.19,2,    1.23,2
   09FA0394,       PR11,      43,          1,          8,         10,2,19940328,       1253,   -30.0842,   153.5922,        987,   397.2,   9.3830,  34.7170,2,  34.7150,2,-999.0000,9,   191.4,2,   11.04,2,    1.50,2
   09FA0394,       PR11,      43,          1,          9,         14,2,19940328,       1253,   -30.0842,   153.5922,        987,   497.1,   8.2280,  34.5990,2,  34.6030,2,-999.0000,9,   192.3,2,   15.64,2,    1.56,2
   09FA0394,       PR11,      43,          1,         10,          3,2,19940328,       1253,   -30.0842,   153.5922,        987,   594.8,   7.3280,  34.5250,2,  34.5340,2,-999.0000,9,   191.7,2,   19.55,2,    1.74,2
   09FA0394,       PR11,      43,          1,         11,          6,2,19940328,       1253,   -30.0842,   153.5922,        987,   696.4,   6.6230,  34.4870,2,  34.4900,2,-999.0000,9,   190.5,2,   24.93,2,    1.93,2
   09FA0394,       PR11,      43,          1,         12,          4,2,19940328,       1253,   -30.0842,   153.5922,        987,   801.3,   5.7930,  34.4640,2,  34.4660,2,-999.0000,9,   184.5,2,   34.41,2,    2.02,2
   09FA0394,       PR11,      43,          1,         13,          1,2,19940328,       1253,   -30.0842,   153.5922,        987,   896.2,   5.2430,  34.4620,2,  34.4630,2,-999.0000,9,   179.3,2,   43.50,2,    2.14,2
   09FA0394,       PR11,      43,          1,         14,          7,2,19940328,       1253,   -30.0842,   153.5922,        987,   981.0,   4.8480,  34.4710,2,  34.4770,2,-999.0000,9,   169.9,2,   47.90,2,    2.25,2
   09FA0394,       PR11,      44,          1,          1,         11,2,19940328,       1415,   -30.0835,   153.5212,        124,     5.5,  25.4130,  35.3110,2,  35.3160,2,-999.0000,9,   205.8,2,    1.17,2,    0.21,2
   09FA0394,       PR11,      44,          1,          2,          1,2,19940328,       1415,   -30.0835,   153.5212,        124,    51.0,  20.8610,  35.5370,2,  35.5660,2,-999.0000,9,   179.7,2,    3.03,2,    0.52,2
   09FA0394,       PR11,      44,          1,          3,          7,2,19940328,       1415,   -30.0835,   153.5212,        124,   113.4,  14.0820,  35.2420,2,  35.2410,2,-999.0000,9,   184.9,2,    4.89,2,    0.99,2
   09FA0394,       PR11,      45,          1,          1,         11,2,19940328,       1457,   -30.0858,   153.4808,         90,     3.3,  25.2850,  35.2920,2,  35.2880,2,-999.0000,9,   205.7,2,    0.98,2,    0.15,2
   09FA0394,       PR11,      45,          1,          2,          1,2,19940328,       1457,   -30.0858,   153.4808,         90,    40.6,  23.2410,  35.4290,2,  35.4510,2,-999.0000,9,   210.7,2,    1.07,2,    0.20,2
   09FA0394,       PR11,      45,          1,          3,          7,2,19940328,       1457,   -30.0858,   153.4808,         90,    80.8,  14.5000,  35.2650,2,  35.2730,2,-999.0000,9,   181.5,2,    4.69,2,    0.94,2
   09FA0394,       PR11,      46,          1,          1,         11,2,19940329,       0902,   -30.1038,   153.9903,       4454,     1.2,  25.6370,  35.3880,2,  35.4090,2,-999.0000,9,   210.5,2,    1.17,2,    0.18,2
   09FA0394,       PR11,      46,          1,          2,          6,2,19940329,       0902,   -30.1038,   153.9903,       4454,    97.3,  22.6440,  35.6210,2,  35.5840,2,-999.0000,9,   219.3,2,    1.56,2,    0.33,2
   09FA0394,       PR11,      46,          1,          3,         23,2,19940329,       0902,   -30.1038,   153.9903,       4454,   194.8,  16.6990,  35.4300,2,  35.4140,2,-999.0000,9,   179.5,2,    3.61,2,    0.70,2
   09FA0394,       PR11,      46,          1,          4,          3,2,19940329,       0902,   -30.1038,   153.9903,       4454,   396.8,  10.7120,  34.8370,2,  34.8350,2,-999.0000,9,   186.6,2,    9.19,2,    1.31,2
   09FA0394,       PR11,      46,          1,          5,          9,2,19940329,       0902,   -30.1038,   153.9903,       4454,   596.9,   7.8300,  34.5550,2,  34.5770,2,-999.0000,9,   193.6,2,   15.44,2,    1.62,2
   09FA0394,       PR11,      46,          1,          6,          5,2,19940329,       0902,   -30.1038,   153.9903,       4454,   796.0,   6.1550,  34.4650,2,  34.4730,2,-999.0000,9,   190.4,2,   28.45,2,    1.92,2
   09FA0394,       PR11,      46,          1,          7,        449,2,19940329,       0902,   -30.1038,   153.9903,       4454,   994.8,   4.8630,  34.4620,2,  34.4680,2,-999.0000,9,   176.9,2,   47.71,2,    2.12,2
   09FA0394,       PR11,      46,          1,          8,         21,2,19940329,       0902,   -30.1038,   153.9903,       4454,  1193.5,   4.0160,  34.5030,2,  34.5040,2,-999.0000,9,   166.7,2,   65.30,2,    2.29,2
   09FA0394,       PR11,      46,          1,          9,         19,2,19940329,       0902,   -30.1038,   153.9903,       4454,  1395.2,   3.3240,  34.5540,2,  34.5520,2,-999.0000,9,   157.6,2,   82.40,2,    2.40,2
   09FA0394,       PR11,      46,          1,         10,         14,2,19940329,       0902,   -30.1038,   153.9903,       4454,  1596.7,   2.8170,  34.5990,2,  34.6010,2,-999.0000,9,   157.0,2,   91.30,2,    2.43,2
   09FA0394,       PR11,      46,          1,         11,         10,2,19940329,       0902,   -30.1038,   153.9903,       4454,  1793.5,   2.4890,  34.6390,2,  34.6370,2,-999.0000,9,   161.4,2,   94.13,2,    2.42,2
   09FA0394,       PR11,      46,          1,         12,         24,2,19940329,       0902,   -30.1038,   153.9903,       4454,  1995.2,   2.2870,  34.6690,2,  34.6680,2,-999.0000,9,   170.2,2,   93.54,2,    2.36,2
   09FA0394,       PR11,      46,          1,         13,         12,2,19940329,       0902,   -30.1038,   153.9903,       4454,  2197.3,   2.1340,  34.6940,2,  34.6900,2,-999.0000,9,   174.3,2,   92.76,2,    2.22,2
   09FA0394,       PR11,      46,          1,         14,         18,2,19940329,       0902,   -30.1038,   153.9903,       4454,  2395.5,   2.0190,  34.7080,2,  34.7050,2,-999.0000,9,   180.7,2,  107.12,2,    2.20,2
   09FA0394,       PR11,      46,          1,         15,         17,2,19940329,       0902,   -30.1038,   153.9903,       4454,  2792.7,   1.7590,  34.7230,2,  34.7220,2,-999.0000,9,   189.2,2,  124.62,2,    2.04,2
   09FA0394,       PR11,      46,          1,         16,         16,2,19940329,       0902,   -30.1038,   153.9903,       4454,  3196.7,   1.4260,  34.7210,2,  34.7220,2,-999.0000,9,   196.0,2, -999.00,9, -999.00,9
   09FA0394,       PR11,      46,          1,         17,          8,2,19940329,       0902,   -30.1038,   153.9903,       4454,  3394.9,   1.2980,  34.7180,2,  34.7190,2,-999.0000,9,   195.7,2, -999.00,9, -999.00,9
   09FA0394,       PR11,      46,          1,         18,         13,2,19940329,       0902,   -30.1038,   153.9903,       4454,  3600.3,   1.2020,  34.7150,2,  34.7140,2,-999.0000,9,   196.6,2,  124.32,2,    2.16,2
   09FA0394,       PR11,      46,          1,         19,         20,2,19940329,       0902,   -30.1038,   153.9903,       4454,  3802.6,   1.1610,  34.7130,2,  34.7140,2,-999.0000,9,   198.0,2, -999.00,9, -999.00,9
   09FA0394,       PR11,      46,          1,         20,          4,2,19940329,       0902,   -30.1038,   153.9903,       4454,  3994.5,   1.1370,  34.7120,2,  34.7130,2,-999.0000,9,   197.7,2,  129.41,2,    2.15,2
   09FA0394,       PR11,      46,          1,         21,          1,2,19940329,       0902,   -30.1038,   153.9903,       4454,  4295.8,   1.1320,  34.7120,2,  34.7120,2,-999.0000,9,   199.2,2,  125.20,2,    2.21,2
   09FA0394,       PR11,      46,          1,         22,          7,2,19940329,       0902,   -30.1038,   153.9903,       4454,  4520.5,   1.1190,  34.7110,2,  34.7130,2,-999.0000,9,   198.3,2,  123.05,2,    2.20,2
   09FA0394,       PR11,      47,          1,          1,         11,2,19940329,       1305,   -30.1085,   153.9122,       2774,     6.7,  25.5150,  35.4240,2,  35.4420,2,-999.0000,9,   207.0,2,    1.27,2,    0.08,2
   09FA0394,       PR11,      47,          1,          2,          3,2,19940329,       1305,   -30.1085,   153.9122,       2774,    52.8,  25.4350,  35.4770,2,  35.5280,2,-999.0000,9,   206.7,2,    1.37,2,    0.04,2
   09FA0394,       PR11,      47,          1,          3,          9,2,19940329,       1305,   -30.1085,   153.9122,       2774,    97.2,  23.3700,  35.5860,2,  35.5720,2,-999.0000,9,   182.1,2,    1.76,2,    0.25,2
   09FA0394,       PR11,      47,          1,          4,          5,2,19940329,       1305,   -30.1085,   153.9122,       2774,   148.0,  18.2540,  35.4940,2,  35.4700,2,-999.0000,9,   168.9,2,    3.61,2,    0.63,2
   09FA0394,       PR11,      47,          1,          5,        449,2,19940329,       1305,   -30.1085,   153.9122,       2774,   199.5,  14.9540,  35.2580,2,  35.1660,2,-999.0000,9,   171.6,2,    5.96,2,    0.96,2
   09FA0394,       PR11,      47,          1,          6,         21,2,19940329,       1305,   -30.1085,   153.9122,       2774,   298.0,  11.8860,  34.9700,2,  34.9560,2,-999.0000,9,   181.6,2,    7.62,2,    1.14,2
   09FA0394,       PR11,      47,          1,          7,         19,2,19940329,       1305,   -30.1085,   153.9122,       2774,   399.1,  10.1410,  34.7840,2,  34.7850,2,-999.0000,9,   188.9,2,    9.58,2,    1.32,2
   09FA0394,       PR11,      47,          1,          8,         14,2,19940329,       1305,   -30.1085,   153.9122,       2774,   498.1,   8.8620,  34.6550,2,  34.6390,2,-999.0000,9,   192.5,2,   12.41,2,    1.52,2
   09FA0394,       PR11,      47,          1,          9,         10,2,19940329,       1305,   -30.1085,   153.9122,       2774,   599.3,   7.7270,  34.5510,2,  34.5480,2,-999.0000,9,   190.4,2,   17.11,2,    1.63,2
   09FA0394,       PR11,      47,          1,         10,         24,2,19940329,       1305,   -30.1085,   153.9122,       2774,   698.8,   6.7840,  34.4830,2,  34.4960,2,-999.0000,9,   190.1,2,   22.58,2,    1.83,2
   09FA0394,       PR11,      47,          1,         11,         12,2,19940329,       1305,   -30.1085,   153.9122,       2774,   799.1,   6.1230,  34.4630,2,  34.4650,2,-999.0000,9,   186.3,2,   30.21,2,    1.93,2
   09FA0394,       PR11,      47,          1,         12,         18,2,19940329,       1305,   -30.1085,   153.9122,       2774,   998.0,   4.8230,  34.4650,2,  34.4780,2,-999.0000,9,   176.1,2,   47.31,2,    2.02,2
   09FA0394,       PR11,      47,          1,         13,         15,2,19940329,       1305,   -30.1085,   153.9122,       2774,  1200.1,   3.8220,  34.5160,2,  34.5200,2,-999.0000,9,   162.6,2,   69.89,2,    2.27,2
   09FA0394,       PR11,      47,          1,         14,         17,2,19940329,       1305,   -30.1085,   153.9122,       2774,  1396.3,   3.2030,  34.5630,2,  34.5660,2,-999.0000,9,   155.5,2,   87.10,2,    2.32,2
   09FA0394,       PR11,      47,          1,         15,          2,2,19940329,       1305,   -30.1085,   153.9122,       2774,  1597.4,   2.7800,  34.6040,2,  34.6040,2,-999.0000,9,   154.3,2,   94.03,2,    2.36,2
   09FA0394,       PR11,      47,          1,         16,         16,2,19940329,       1305,   -30.1085,   153.9122,       2774,  1794.9,   2.4640,  34.6430,2,  34.6410,2,-999.0000,9,   162.0,2,   93.93,2,    2.29,2
   09FA0394,       PR11,      47,          1,         17,          8,2,19940329,       1305,   -30.1085,   153.9122,       2774,  1996.6,   2.2690,  34.6700,2,  34.6720,2,-999.0000,9,   168.7,2, -999.00,9, -999.00,9
   09FA0394,       PR11,      47,          1,         18,         20,2,19940329,       1305,   -30.1085,   153.9122,       2774,  2394.9,   1.9830,  34.7100,2,  34.7100,2,-999.0000,9,   180.1,2,   95.79,2,    2.26,2
   09FA0394,       PR11,      47,          1,         19,          4,2,19940329,       1305,   -30.1085,   153.9122,       2774,  2594.5,   1.8960,  34.7160,2,  34.7160,2,-999.0000,9,   183.4,2,   97.84,2,    2.24,2
   09FA0394,       PR11,      47,          1,         20,          1,2,19940329,       1305,   -30.1085,   153.9122,       2774,  2695.3,   1.8780,  34.7180,2,  34.7140,2,-999.0000,9,   184.8,2,   98.33,2,    2.23,2
   09FA0394,       PR11,      47,          1,         21,          7,2,19940329,       1305,   -30.1085,   153.9122,       2774,  2789.6,   1.8440,  34.7200,2,  34.7200,2,-999.0000,9,   183.9,2,   99.99,2,    2.24,2