BOTTLE,20211117CCHSIORKP
EXPOCODE,SECT_ID,STNNBR,CASTNO,SAMPNO,BTLNBR,BTLNBR_FLAG_W,DATE,TIME,LATITUDE,LONGITUDE,DEPTH,CTDPRS,CTDTMP,CTDSAL,CTDSAL_FLAG_W,SALNTY,SALNTY_FLAG_W,CTDOXY,CTDOXY_FLAG_W,OXYGEN,OXYGEN_FLAG_W,SILCAT,SILCAT_FLAG_W,PHSPHT,PHSPHT_FLAG_W
,,,,,,,,,,,METERS,DBAR,ITS-90,PSS-78,,PSS-78,,UMOL/KG,,UMOL/KG,,UMOL/KG,,UMOL/KG,
   09FA0394,       PR11,      37,          1,          1,         11,2,19940324,       1245,   -30.0808,   170.0027,       2945,     2.7,  22.3660,  35.9170,2,  35.9160,2,-999.0000,9,   214.9,2,    0.98,2,    0.13,2
   09FA0394,       PR11,      37,          1,          2,          8,2,19940324,       1245,   -30.0808,   170.0027,       2945,    50.1,  22.3770,  35.9140,2,  35.9120,2,-999.0000,9,   217.3,2,    0.98,2,    0.12,2
   09FA0394,       PR11,      37,          1,          3,          2,2,19940324,       1245,   -30.0808,   170.0027,       2945,    99.5,  19.8910,  35.7510,2,  35.7650,2,-999.0000,9,   219.3,2,    1.07,2,    0.17,2
   09FA0394,       PR11,      37,          1,          4,         15,2,19940324,       1245,   -30.0808,   170.0027,       2945,   148.9,  18.6330,  35.7020,2,  35.6970,2,-999.0000,9,   211.5,2,    1.37,2,    0.27,2
   09FA0394,       PR11,      37,          1,          5,         13,2,19940324,       1245,   -30.0808,   170.0027,       2945,   199.6,  17.8800,  35.6350,2,  35.6080,2,-999.0000,9,   201.8,2,    1.76,2,    0.37,2
   09FA0394,       PR11,      37,          1,          6,          5,2,19940324,       1245,   -30.0808,   170.0027,       2945,   248.9,  16.9880,  35.5450,2,  35.5360,2,-999.0000,9,   194.3,2,    2.15,2,    0.44,2
   09FA0394,       PR11,      37,          1,          7,         17,2,19940324,       1245,   -30.0808,   170.0027,       2945,   297.5,  16.1100,  35.4620,2,  35.4370,2,-999.0000,9,   194.9,2,    2.64,2,    0.54,2
   09FA0394,       PR11,      37,          1,          8,         24,2,19940324,       1245,   -30.0808,   170.0027,       2945,   394.9,  13.8790,  35.2200,2,  35.2220,2,-999.0000,9,   191.5,2,    3.91,2,    0.75,2
   09FA0394,       PR11,      37,          1,          9,        449,2,19940324,       1245,   -30.0808,   170.0027,       2945,   496.8,  11.8050,  34.9830,2,  34.9800,2,-999.0000,9,   189.0,2,    5.57,2,    1.02,2
   09FA0394,       PR11,      37,          1,         10,         23,2,19940324,       1245,   -30.0808,   170.0027,       2945,   595.7,  10.3970,  34.8310,2,  34.8210,2,-999.0000,9,   191.3,2,    7.72,2,    1.22,2
   09FA0394,       PR11,      37,          1,         11,         20,2,19940324,       1245,   -30.0808,   170.0027,       2945,   695.7,   9.0650,  34.6840,2,  34.6800,2,-999.0000,9,   193.0,2,   10.07,2,    1.40,2
   09FA0394,       PR11,      37,          1,         12,         18,2,19940324,       1245,   -30.0808,   170.0027,       2945,   795.4,   7.6060,  34.5410,2,  34.5460,2,-999.0000,9,   198.2,2,   13.49,2,    1.50,2
   09FA0394,       PR11,      37,          1,         13,         19,2,19940324,       1245,   -30.0808,   170.0027,       2945,  1194.5,   4.8950,  34.4600,2,  34.4680,2,-999.0000,9,   179.3,2,   39.98,2,    2.08,2
   09FA0394,       PR11,      37,          1,         14,         21,2,19940324,       1245,   -30.0808,   170.0027,       2945,  1394.4,   3.8050,  34.5230,2,  34.5200,2,-999.0000,9,   166.9,2,   60.31,2,    2.28,2
   09FA0394,       PR11,      37,          1,         15,          9,2,19940324,       1245,   -30.0808,   170.0027,       2945,  1594.4,   3.1060,  34.5740,2,  34.5730,2,-999.0000,9,   160.3,2,   76.93,2,    2.37,2
   09FA0394,       PR11,      37,          1,         16,         10,2,19940324,       1245,   -30.0808,   170.0027,       2945,  1794.7,   2.7150,  34.6050,2,  34.6020,2,-999.0000,9,   156.6,2,   87.58,2,    2.40,2
   09FA0394,       PR11,      37,          1,         17,         14,2,19940324,       1245,   -30.0808,   170.0027,       2945,  1995.1,   2.4150,  34.6300,2,  34.6260,2,-999.0000,9,   155.1,2,   95.20,2,    2.43,2
   09FA0394,       PR11,      37,          1,         18,          3,2,19940324,       1245,   -30.0808,   170.0027,       2945,  2183.6,   2.2030,  34.6470,2,  34.6440,2,-999.0000,9,   154.5,2,  101.17,2,    2.46,2
   09FA0394,       PR11,      37,          1,         19,          6,2,19940324,       1245,   -30.0808,   170.0027,       2945,  2396.5,   2.0590,  34.6590,2,  34.6570,2,-999.0000,9,   154.2,2,  105.86,2,    2.48,2
   09FA0394,       PR11,      37,          1,         20,          4,2,19940324,       1245,   -30.0808,   170.0027,       2945,  2608.5,   1.9900,  34.6660,2,  34.6640,2,-999.0000,9,   153.7,2,  107.71,2,    2.47,2
   09FA0394,       PR11,      37,          1,         21,          1,2,19940324,       1245,   -30.0808,   170.0027,       2945,  2798.9,   1.9500,  34.6700,2,  34.6680,2,-999.0000,9,   153.7,2,  108.49,2,    2.47,2
   09FA0394,       PR11,      37,          1,         22,          7,2,19940324,       1245,   -30.0808,   170.0027,       2945,  2958.8,   1.9080,  34.6740,2,  34.6730,2,-999.0000,9,   154.2,2,  111.72,2,    2.48,2
   09FA0394,       PR11,      38,          1,          1,         11,2,19940324,       1943,   -30.0818,   169.0165,       3113,     2.2,  22.4390,  35.9350,2,  35.9410,2,-999.0000,9,   213.2,2,    1.07,2,    0.13,2
   09FA0394,       PR11,      38,          1,          2,         16,2,19940324,       1943,   -30.0818,   169.0165,       3113,    50.5,  22.4450,  35.9300,2,  35.9380,2,-999.0000,9,   214.3,2,    0.98,2,    0.12,2
   09FA0394,       PR11,      38,          1,          3,          8,2,19940324,       1943,   -30.0818,   169.0165,       3113,    99.0,  19.7210,  35.6870,2,  35.6830,2,-999.0000,9,   197.5,2,    1.47,2,    0.32,2
   09FA0394,       PR11,      38,          1,          4,          2,2,19940324,       1943,   -30.0818,   169.0165,       3113,   150.1,  17.9460,  35.6040,2,  35.6180,2,-999.0000,9,   194.9,2,    1.86,2,    0.41,2
   09FA0394,       PR11,      38,          1,          5,         15,2,19940324,       1943,   -30.0818,   169.0165,       3113,   200.3,  16.9340,  35.5650,2,  35.5970,2,-999.0000,9,   204.9,2,    1.86,2,    0.43,2
   09FA0394,       PR11,      38,          1,          6,         13,2,19940324,       1943,   -30.0818,   169.0165,       3113,   249.1,  15.9630,  35.4660,2,  35.4820,2,-999.0000,9,   201.2,2,    2.54,2,    0.55,2
   09FA0394,       PR11,      38,          1,          7,          5,2,19940324,       1943,   -30.0818,   169.0165,       3113,   300.1,  14.8880,  35.3510,2,  35.3750,2,-999.0000,9,   197.0,2,    3.32,2,    0.66,2
   09FA0394,       PR11,      38,          1,          8,         17,2,19940324,       1943,   -30.0818,   169.0165,       3113,   399.7,  12.8610,  35.1230,2,  35.1560,2,-999.0000,9,   193.3,2,    5.18,2,    0.90,2
   09FA0394,       PR11,      38,          1,          9,         24,2,19940324,       1943,   -30.0818,   169.0165,       3113,   502.7,  11.0490,  34.9090,2,  34.9080,2,-999.0000,9,   190.7,2,    7.92,2,    1.18,2
   09FA0394,       PR11,      38,          1,         10,        449,2,19940324,       1943,   -30.0818,   169.0165,       3113,   597.6,   9.6990,  34.7530,2,  34.7090,2,-999.0000,9,   192.4,2,   11.34,2,    1.45,2
   09FA0394,       PR11,      38,          1,         11,         23,2,19940324,       1943,   -30.0818,   169.0165,       3113,   694.2,   8.2950,  34.6000,2,  34.5950,2,-999.0000,9,   196.5,2,   13.68,2,    1.55,2
   09FA0394,       PR11,      38,          1,         12,         20,2,19940324,       1943,   -30.0818,   169.0165,       3113,   799.1,   7.2280,  34.5000,2,  34.5030,2,-999.0000,9,   198.2,2,   17.30,2,    1.70,2
   09FA0394,       PR11,      38,          1,         13,         18,2,19940324,       1943,   -30.0818,   169.0165,       3113,   993.7,   5.6990,  34.4470,2,  34.4590,2,-999.0000,9,   191.6,2,   31.09,2,    1.93,2
   09FA0394,       PR11,      38,          1,         14,         19,2,19940324,       1943,   -30.0818,   169.0165,       3113,  1393.9,   3.7840,  34.5150,2,  34.5180,2,-999.0000,9,   168.9,2,   69.80,2,    2.27,2
   09FA0394,       PR11,      38,          1,         15,         21,2,19940324,       1943,   -30.0818,   169.0165,       3113,  1595.5,   3.2410,  34.5560,2,  34.5640,2,-999.0000,9,   161.4,2,   86.12,2,    2.36,2
   09FA0394,       PR11,      38,          1,         16,          9,2,19940324,       1943,   -30.0818,   169.0165,       3113,  1793.3,   2.7670,  34.5970,2,  34.5990,2,-999.0000,9,   156.6,2,   98.63,2,    2.40,2
   09FA0394,       PR11,      38,          1,         17,         10,2,19940324,       1943,   -30.0818,   169.0165,       3113,  1993.8,   2.4840,  34.6240,2,  34.6240,2,-999.0000,9,   155.7,2,  105.57,2,    2.42,2
   09FA0394,       PR11,      38,          1,         18,         14,2,19940324,       1943,   -30.0818,   169.0165,       3113,  2194.7,   2.2600,  34.6420,2,  34.6420,2,-999.0000,9,   154.8,2,  114.46,2,    2.43,2
   09FA0394,       PR11,      38,          1,         19,          3,2,19940324,       1943,   -30.0818,   169.0165,       3113,  2393.5,   2.1110,  34.6550,2,  34.6560,2,-999.0000,9,   154.2,2,  116.51,2,    2.43,2
   09FA0394,       PR11,      38,          1,         20,          6,2,19940324,       1943,   -30.0818,   169.0165,       3113,  2597.3,   2.0040,  34.6650,2,  34.6630,2,-999.0000,9,   153.9,2, -999.00,9, -999.00,9
   09FA0394,       PR11,      38,          1,         21,          4,2,19940324,       1943,   -30.0818,   169.0165,       3113,  2796.5,   1.9670,  34.6690,2,  34.6700,2,-999.0000,9,   154.2,2,  121.98,2,    2.44,2
   09FA0394,       PR11,      38,          1,         22,          1,2,19940324,       1943,   -30.0818,   169.0165,       3113,  2996.2,   1.9480,  34.6720,2,  34.6710,2,-999.0000,9,   155.1,2,  124.82,2,    2.44,2
   09FA0394,       PR11,      38,          1,         23,          7,2,19940324,       1943,   -30.0818,   169.0165,       3113,  3148.4,   1.9230,  34.6750,2,  34.6720,2,-999.0000,9,   153.9,2,  124.72,2,    2.44,2
   09FA0394,       PR11,      39,          1,          1,         11,2,19940325,       0229,   -30.0838,   168.0115,       1291,     2.7,  22.6840,  35.9670,2,  35.9700,2,-999.0000,9,   214.7,2,    0.78,2,    0.26,2
   09FA0394,       PR11,      39,          1,          2,         20,2,19940325,       0229,   -30.0838,   168.0115,       1291,    49.5,  22.6920,  35.9650,2,  35.9670,2,-999.0000,9,   216.8,2,    0.68,2,    0.24,2
   09FA0394,       PR11,      39,          1,          3,         18,2,19940325,       0229,   -30.0838,   168.0115,       1291,    99.0,  20.0360,  35.6780,2,  35.6750,2,-999.0000,9,   195.3,2,    1.27,2,    0.44,2
   09FA0394,       PR11,      39,          1,          4,         12,2,19940325,       0229,   -30.0838,   168.0115,       1291,   149.4,  18.4770,  35.6330,2,  35.6190,2,-999.0000,9,   194.8,2,    1.66,2,    0.52,2
   09FA0394,       PR11,      39,          1,          5,         19,2,19940325,       0229,   -30.0838,   168.0115,       1291,   198.4,  17.4320,  35.5800,2,  35.5760,2,-999.0000,9,   195.9,2,    1.86,2,    0.57,2
   09FA0394,       PR11,      39,          1,          6,         21,2,19940325,       0229,   -30.0838,   168.0115,       1291,   248.1,  16.1720,  35.4590,2,  35.4650,2,-999.0000,9,   189.6,2,    2.64,2,    0.69,2
   09FA0394,       PR11,      39,          1,          7,          9,2,19940325,       0229,   -30.0838,   168.0115,       1291,   299.2,  14.7370,  35.3140,2,  35.3490,2,-999.0000,9,   188.3,2,    3.42,2,    0.82,2
   09FA0394,       PR11,      39,          1,          8,         10,2,19940325,       0229,   -30.0838,   168.0115,       1291,   397.2,  13.2000,  35.1670,2,  35.1260,2,-999.0000,9,   193.5,2,    5.08,2,    1.03,2
   09FA0394,       PR11,      39,          1,          9,         14,2,19940325,       0229,   -30.0838,   168.0115,       1291,   497.5,  10.8510,  34.8750,2,  34.8330,2,-999.0000,9,   187.1,2, -999.00,9, -999.00,9
   09FA0394,       PR11,      39,          1,         10,          3,2,19940325,       0229,   -30.0838,   168.0115,       1291,   594.0,   9.4930,  34.7140,2,  34.7150,2,-999.0000,9,   190.0,2,   10.36,2,    1.44,2
   09FA0394,       PR11,      39,          1,         11,          6,2,19940325,       0229,   -30.0838,   168.0115,       1291,   695.2,   8.3590,  34.6140,2,  34.6140,2,-999.0000,9,   191.5,2, -999.00,9, -999.00,9
   09FA0394,       PR11,      39,          1,         12,          4,2,19940325,       0229,   -30.0838,   168.0115,       1291,   805.4,   7.2190,  34.5310,2,  34.5340,2,-999.0000,9,   188.1,2,   20.92,2,    1.81,2
   09FA0394,       PR11,      39,          1,         13,          1,2,19940325,       0229,   -30.0838,   168.0115,       1291,   994.2,   6.0480,  34.4810,2,  34.4830,2,-999.0000,9,   185.0,2,   32.26,2,    1.99,2
   09FA0394,       PR11,      39,          1,         14,          7,2,19940325,       0229,   -30.0838,   168.0115,       1291,  1246.6,   3.8170,  34.5140,2,  34.5150,2,-999.0000,9,   166.0,2,   68.53,2,    2.27,2
   09FA0394,       PR11,      40,          1,          1,         11,2,19940326,       0332,   -30.0815,   162.8397,       1150,     3.5,  23.1229,  35.8470,2,  35.8480,2,-999.0000,9,   214.9,2,    1.66,2,    0.20,2
   09FA0394,       PR11,      40,          1,          2,         20,2,19940326,       0332,   -30.0815,   162.8397,       1150,    50.8,  23.1249,  35.8470,2,  35.8460,2,-999.0000,9,   214.4,2,    1.66,2,    0.18,2
   09FA0394,       PR11,      40,          1,          3,         18,2,19940326,       0332,   -30.0815,   162.8397,       1150,    99.1,  19.8620,  35.7170,2,  35.7060,2,-999.0000,9,   219.8,2,    1.76,2,    0.26,2
   09FA0394,       PR11,      40,          1,          4,         12,2,19940326,       0332,   -30.0815,   162.8397,       1150,   148.4,  18.4360,  35.6590,2,  35.6570,2,-999.0000,9,   202.7,2,    2.15,2,    0.39,2
   09FA0394,       PR11,      40,          1,          5,         19,2,19940326,       0332,   -30.0815,   162.8397,       1150,   198.2,  17.6140,  35.5900,2,  35.5800,2,-999.0000,9,   195.7,2,    2.44,2,    0.48,2
   09FA0394,       PR11,      40,          1,          6,         21,2,19940326,       0332,   -30.0815,   162.8397,       1150,   247.4,  16.6030,  35.5020,2,  35.4900,2,-999.0000,9,   193.2,2,    3.13,2,    0.59,2
   09FA0394,       PR11,      40,          1,          7,          9,2,19940326,       0332,   -30.0815,   162.8397,       1150,   297.9,  15.4400,  35.3730,2,  35.3540,2,-999.0000,9,   186.3,2,    3.91,2,    0.73,2
   09FA0394,       PR11,      40,          1,          8,         10,2,19940326,       0332,   -30.0815,   162.8397,       1150,   397.3,  13.0400,  35.1170,2,  35.0750,2,-999.0000,9,   186.3,2,    5.76,2,    1.03,2
   09FA0394,       PR11,      40,          1,          9,         14,2,19940326,       0332,   -30.0815,   162.8397,       1150,   495.7,  10.9840,  34.8840,2,  34.8600,2,-999.0000,9,   187.5,2,    8.31,2,    1.21,2
   09FA0394,       PR11,      40,          1,         10,          3,2,19940326,       0332,   -30.0815,   162.8397,       1150,   595.5,   9.2870,  34.7080,2,  34.7020,2,-999.0000,9,   191.6,2,   11.04,2,    1.35,2
   09FA0394,       PR11,      40,          1,         11,          6,2,19940326,       0332,   -30.0815,   162.8397,       1150,   695.2,   7.9380,  34.5720,2,  34.5750,2,-999.0000,9,   191.9,2,   15.74,2,    1.59,2
   09FA0394,       PR11,      40,          1,         12,          4,2,19940326,       0332,   -30.0815,   162.8397,       1150,   786.6,   7.2030,  34.5220,2,  34.5230,2,-999.0000,9,   190.4,2,   19.65,2,    1.72,2
   09FA0394,       PR11,      40,          1,         13,          1,2,19940326,       0332,   -30.0815,   162.8397,       1150,   786.6,   7.2030,  34.5220,2,  34.5260,2,-999.0000,9,   191.9,2,   19.65,2,    1.71,2
   09FA0394,       PR11,      40,          1,         14,          7,2,19940326,       0332,   -30.0815,   162.8397,       1150,  1138.9,   4.6410,  34.4860,2,  34.4890,2,-999.0000,9,   171.5,2,   53.57,2,    2.07,2
   09FA0394,       PR11,      41,          1,          1,         11,2,19940326,       0736,   -30.0820,   162.1657,       1154,     2.0,  23.2600,  35.9130,2,  35.9110,2,-999.0000,9,   214.1,2,    1.27,2,    0.21,2
   09FA0394,       PR11,      41,          1,          2,         20,2,19940326,       0736,   -30.0820,   162.1657,       1154,    51.8,  23.1910,  35.9230,2,  35.9090,2,-999.0000,9,   212.7,2,    1.07,2,    0.21,2
   09FA0394,       PR11,      41,          1,          3,         18,2,19940326,       0736,   -30.0820,   162.1657,       1154,    99.8,  20.1580,  35.6860,2,  35.7380,2,-999.0000,9,   218.1,2,    1.27,2,    0.26,2
   09FA0394,       PR11,      41,          1,          4,         12,2,19940326,       0736,   -30.0820,   162.1657,       1154,   150.9,  18.9110,  35.6520,2,  35.6750,2,-999.0000,9,   198.1,2,    1.47,2,    0.43,2
   09FA0394,       PR11,      41,          1,          5,         19,2,19940326,       0736,   -30.0820,   162.1657,       1154,   197.6,  17.7400,  35.5850,2,  35.6120,2,-999.0000,9,   195.2,2,    1.95,2,    0.52,2
   09FA0394,       PR11,      41,          1,          6,         21,2,19940326,       0736,   -30.0820,   162.1657,       1154,   249.2,  16.6830,  35.4960,2,  35.5190,2,-999.0000,9,   192.6,2,    2.44,2,    0.63,2
   09FA0394,       PR11,      41,          1,          7,          9,2,19940326,       0736,   -30.0820,   162.1657,       1154,   296.9,  15.4720,  35.3650,2,  35.4060,2,-999.0000,9,   188.6,2,    3.22,2,    0.76,2
   09FA0394,       PR11,      41,          1,          8,         10,2,19940326,       0736,   -30.0820,   162.1657,       1154,   396.2,  13.6120,  35.1710,2,  35.1790,2,-999.0000,9,   184.7,2,    4.69,2,    1.01,2
   09FA0394,       PR11,      41,          1,          9,         14,2,19940326,       0736,   -30.0820,   162.1657,       1154,   497.5,  11.1190,  34.8960,2,  34.9040,2,-999.0000,9,   185.8,2,    7.52,2,    1.31,2
   09FA0394,       PR11,      41,          1,         10,          3,2,19940326,       0736,   -30.0820,   162.1657,       1154,   598.7,   9.4520,  34.7270,2,  34.7300,2,-999.0000,9,   191.0,2,   10.46,2,    1.54,2
   09FA0394,       PR11,      41,          1,         11,          6,2,19940326,       0736,   -30.0820,   162.1657,       1154,   694.5,   8.1110,  34.5960,2,  34.6000,2,-999.0000,9,   190.1,2,   15.25,2,    1.75,2
   09FA0394,       PR11,      41,          1,         12,          4,2,19940326,       0736,   -30.0820,   162.1657,       1154,   798.9,   7.0710,  34.5220,2,-999.0000,9,-999.0000,9,   189.5,2,   21.02,2,    1.92,2
   09FA0394,       PR11,      41,          1,         13,          1,2,19940326,       0736,   -30.0820,   162.1657,       1154,   992.4,   5.6410,  34.4570,2,  34.4600,2,-999.0000,9,   185.0,2,   33.92,2,    2.13,2
   09FA0394,       PR11,      41,          1,         14,          7,2,19940326,       0736,   -30.0820,   162.1657,       1154,  1146.0,   4.6150,  34.4890,2,  34.4930,2,-999.0000,9,   168.9,2,   53.37,2,    2.34,2