BOTTLE,20211117CCHSIORKP
EXPOCODE,SECT_ID,STNNBR,CASTNO,SAMPNO,BTLNBR,BTLNBR_FLAG_W,DATE,TIME,LATITUDE,LONGITUDE,DEPTH,CTDPRS,CTDTMP,CTDSAL,CTDSAL_FLAG_W,SALNTY,SALNTY_FLAG_W,CTDOXY,CTDOXY_FLAG_W,OXYGEN,OXYGEN_FLAG_W,SILCAT,SILCAT_FLAG_W,PHSPHT,PHSPHT_FLAG_W
,,,,,,,,,,,METERS,DBAR,ITS-90,PSS-78,,PSS-78,,UMOL/KG,,UMOL/KG,,UMOL/KG,,UMOL/KG,
   09FA0394,      PR13N,       9,          1,          1,          7,2,19940314,       0237,   -43.2467,   150.1103,       3084,     4.2,  13.0410,  34.8800,2,  34.8800,2,-999.0000,9,   257.0,2,    1.17,2,    0.58,2
   09FA0394,      PR13N,       9,          1,          2,         17,2,19940314,       0237,   -43.2467,   150.1103,       3084,    49.3,  13.0440,  34.8810,2,  34.9050,2,-999.0000,9,   254.5,2,    1.27,2,    0.58,2
   09FA0394,      PR13N,       9,          1,          3,          5,2,19940314,       0237,   -43.2467,   150.1103,       3084,    49.3,  13.0440,  34.8810,2,  34.9000,2,-999.0000,9,   257.3,2,    1.27,2,    0.60,2
   09FA0394,      PR13N,       9,          1,          4,          8,2,19940314,       0237,   -43.2467,   150.1103,       3084,   149.5,  12.1560,  35.1270,2,  35.0820,2,-999.0000,9,   232.4,2,    3.71,2,    0.88,2
   09FA0394,      PR13N,       9,          1,          5,         24,2,19940314,       0237,   -43.2467,   150.1103,       3084,   199.1,  11.4520,  35.0240,2,  35.0010,2,-999.0000,9,   238.5,2,    3.81,2,    0.94,2
   09FA0394,      PR13N,       9,          1,          6,         20,2,19940314,       0237,   -43.2467,   150.1103,       3084,   247.0,  10.9500,  34.9440,2,  34.9520,2,-999.0000,9,   242.7,2,    4.01,2,    0.98,2
   09FA0394,      PR13N,       9,          1,          7,         23,2,19940314,       0237,   -43.2467,   150.1103,       3084,   296.8,  10.5680,  34.8850,2,  34.8810,2,-999.0000,9,   243.3,2,    4.20,2,    0.99,2
   09FA0394,      PR13N,       9,          1,          8,         49,2,19940314,       0237,   -43.2467,   150.1103,       3084,   296.8,  10.5680,  34.8850,2,  34.8840,2,-999.0000,9,   243.3,2,    4.20,2,    1.01,2
   09FA0394,      PR13N,       9,          1,          9,         18,2,19940314,       0237,   -43.2467,   150.1103,       3084,   396.1,   9.5350,  34.7150,2,  34.7320,2,-999.0000,9,   243.6,2,    4.98,2,    1.19,2
   09FA0394,      PR13N,       9,          1,         10,         16,2,19940314,       0237,   -43.2467,   150.1103,       3084,   594.6,   8.5160,  34.5830,2,  34.5780,2,-999.0000,9,   234.1,2,    6.94,2,    1.39,2
   09FA0394,      PR13N,       9,          1,         11,         13,2,19940314,       0237,   -43.2467,   150.1103,       3084,   594.6,   8.5160,  34.5830,2,  34.5790,2,-999.0000,9,   234.4,2,    7.33,2,    1.43,2
   09FA0394,      PR13N,       9,          1,         12,         19,2,19940314,       0237,   -43.2467,   150.1103,       3084,   695.2,   7.8370,  34.5370,2,  34.5550,2,-999.0000,9,   212.8,2,   10.95,2,    1.58,2
   09FA0394,      PR13N,       9,          1,         13,         12,2,19940314,       0237,   -43.2467,   150.1103,       3084,   795.2,   6.9170,  34.4800,2,  34.5120,2,-999.0000,9,   197.1,2,   17.30,2,    1.86,2
   09FA0394,      PR13N,       9,          1,         14,          6,2,19940314,       0237,   -43.2467,   150.1103,       3084,   995.7,   5.1090,  34.3990,2,  34.3970,2,-999.0000,9,   197.7,2,   31.19,2,    2.13,2
   09FA0394,      PR13N,       9,          1,         15,          3,2,19940314,       0237,   -43.2467,   150.1103,       3084,  1193.5,   3.8770,  34.4160,2,  34.4130,2,-999.0000,9,   189.6,2,   46.05,2,    2.29,2
   09FA0394,      PR13N,       9,          1,         16,         14,2,19940314,       0237,   -43.2467,   150.1103,       3084,  1394.8,   3.2710,  34.5170,2,  34.5150,2,-999.0000,9,   167.4,2,   67.94,2,    2.47,2
   09FA0394,      PR13N,       9,          1,         17,         10,2,19940314,       0237,   -43.2467,   150.1103,       3084,  1593.9,   2.7340,  34.5790,2,  34.5700,2,-999.0000,9,   168.2,2,   75.46,2,    2.50,2
   09FA0394,      PR13N,       9,          1,         18,          9,2,19940314,       0237,   -43.2467,   150.1103,       3084,  1795.9,   2.5090,  34.6310,2,  34.6260,2,-999.0000,9,   168.8,2,   78.49,2,    2.47,2
   09FA0394,      PR13N,       9,          1,         19,         21,2,19940314,       0237,   -43.2467,   150.1103,       3084,  1996.7,   2.3410,  34.6730,2,  34.6730,2,-999.0000,9,   177.7,2,   81.52,2,    2.42,2
   09FA0394,      PR13N,       9,          1,         20,         15,2,19940314,       0237,   -43.2467,   150.1103,       3084,  2195.6,   2.1900,  34.7060,2,  34.7040,2,-999.0000,9,   182.2,2,   82.49,2,    2.34,2
   09FA0394,      PR13N,       9,          1,         21,          4,2,19940314,       0237,   -43.2467,   150.1103,       3084,  2397.9,   2.0050,  34.7250,2,  34.7270,2,-999.0000,9,   187.6,2,   90.02,2,    2.35,2
   09FA0394,      PR13N,       9,          1,         22,          2,2,19940314,       0237,   -43.2467,   150.1103,       3084,  2812.0,   1.5970,  34.7310,2,  34.7300,2,-999.0000,9,   195.4,2,   98.62,2,    2.30,2
   09FA0394,      PR13N,       9,          1,         23,          1,2,19940314,       0237,   -43.2467,   150.1103,       3084,  3000.1,   1.4440,  34.7280,2,  34.7250,2,-999.0000,9,   202.7,2,  109.96,2,    2.39,2
   09FA0394,      PR13N,      10,          1,          1,          1,2,19940314,       0850,   -43.2530,   150.8958,       3581,     2.5,  15.2780,  35.3140,2,  35.3190,2,-999.0000,9,   241.8,2,    0.00,2,    0.40,2
   09FA0394,      PR13N,      10,          1,          2,         11,2,19940314,       0850,   -43.2530,   150.8958,       3581,    49.8,  15.3000,  35.3120,2,  35.3200,2,-999.0000,9,   241.8,2,    1.37,2,    0.31,2
   09FA0394,      PR13N,      10,          1,          3,          7,2,19940314,       0850,   -43.2530,   150.8958,       3581,   102.1,  12.6870,  35.0860,2,  35.0530,2,-999.0000,9,   242.7,2,    1.95,2,    0.55,2
   09FA0394,      PR13N,      10,          1,          4,         17,2,19940314,       0850,   -43.2530,   150.8958,       3581,   146.7,  11.8240,  35.0750,2,  35.1770,2,-999.0000,9,   232.4,2,    2.83,2,    0.61,2
   09FA0394,      PR13N,      10,          1,          5,          5,2,19940314,       0850,   -43.2530,   150.8958,       3581,   146.7,  11.8240,  35.0750,2,  35.1780,2,-999.0000,9,   227.0,2,    2.83,2,    0.63,2
   09FA0394,      PR13N,      10,          1,          6,          8,2,19940314,       0850,   -43.2530,   150.8958,       3581,   247.0,  10.3670,  34.8520,2,  34.9600,2,-999.0000,9,   245.6,2,    3.81,2,    0.79,2
   09FA0394,      PR13N,      10,          1,          7,         24,2,19940314,       0850,   -43.2530,   150.8958,       3581,   298.0,   9.6980,  34.7420,2,  34.8390,2,-999.0000,9,   244.7,2,    4.40,2,    0.88,2
   09FA0394,      PR13N,      10,          1,          8,         20,2,19940314,       0850,   -43.2530,   150.8958,       3581,   395.9,   8.9980,  34.6250,2,  34.6440,2,-999.0000,9,   244.5,2,    5.28,2,    1.07,2
   09FA0394,      PR13N,      10,          1,          9,         23,2,19940314,       0850,   -43.2530,   150.8958,       3581,   499.1,   8.5830,  34.5880,2,  34.5910,2,-999.0000,9,   230.7,2,    7.33,2,    1.24,2
   09FA0394,      PR13N,      10,          1,         10,         49,2,19940314,       0850,   -43.2530,   150.8958,       3581,   499.1,   8.5830,  34.5880,2,  34.5920,2,-999.0000,9,   230.7,2,    7.23,2,    1.25,2
   09FA0394,      PR13N,      10,          1,         11,         18,2,19940314,       0850,   -43.2530,   150.8958,       3581,   700.2,   7.2770,  34.4810,2,  34.4780,2,-999.0000,9,   204.7,2,   15.45,2,    1.70,2
   09FA0394,      PR13N,      10,          1,         12,         16,2,19940314,       0850,   -43.2530,   150.8958,       3581,   796.9,   6.4710,  34.4360,2,  34.4310,2,-999.0000,9,   200.8,2,   21.12,2,    1.93,2
   09FA0394,      PR13N,      10,          1,         13,         13,2,19940314,       0850,   -43.2530,   150.8958,       3581,   796.9,   6.4710,  34.4360,2,  34.4300,2,-999.0000,9,   200.8,2,   20.82,2,    1.95,2
   09FA0394,      PR13N,      10,          1,         14,         19,2,19940314,       0850,   -43.2530,   150.8958,       3581,   993.1,   4.8900,  34.3920,2,  34.4300,2,-999.0000,9,   186.1,2,   39.20,2,    2.09,2
   09FA0394,      PR13N,      10,          1,         15,         12,2,19940314,       0850,   -43.2530,   150.8958,       3581,  1197.0,   3.7080,  34.4360,2,  34.4760,2,-999.0000,9,   174.7,2,   58.56,2,    2.39,2
   09FA0394,      PR13N,      10,          1,         16,          6,2,19940314,       0850,   -43.2530,   150.8958,       3581,  1397.2,   2.9880,  34.5070,2,  34.5200,2,-999.0000,9,   171.3,2,   69.50,2,    2.45,2
   09FA0394,      PR13N,      10,          1,         17,          3,2,19940314,       0850,   -43.2530,   150.8958,       3581,  1597.8,   2.6530,  34.5830,2,  34.6000,2,-999.0000,9,   169.3,2,   78.00,2,    2.44,2
   09FA0394,      PR13N,      10,          1,         18,         14,2,19940314,       0850,   -43.2530,   150.8958,       3581,  1796.8,   2.4360,  34.6450,2,  34.6520,2,-999.0000,9,   171.8,2,   82.69,2,    2.42,2
   09FA0394,      PR13N,      10,          1,         19,         10,2,19940314,       0850,   -43.2530,   150.8958,       3581,  2300.3,   2.0320,  34.7220,2,  34.7230,2,-999.0000,9,   185.3,2,   90.31,2,    2.32,2
   09FA0394,      PR13N,      10,          1,         20,          9,2,19940314,       0850,   -43.2530,   150.8958,       3581,  2300.3,   2.0320,  34.7220,2,  34.7240,2,-999.0000,9,   183.7,2,   90.12,2,    2.33,2
   09FA0394,      PR13N,      10,          1,         21,         21,2,19940314,       0850,   -43.2530,   150.8958,       3581,  2599.8,   1.7900,  34.7310,2,  34.7320,2,-999.0000,9,   188.1,2,   93.83,2,    2.31,2
   09FA0394,      PR13N,      10,          1,         22,         15,2,19940314,       0850,   -43.2530,   150.8958,       3581,  2887.4,   1.6270,  34.7300,2,  34.7320,2,-999.0000,9,   192.1,2,  102.23,2,    2.27,2
   09FA0394,      PR13N,      10,          1,         23,          4,2,19940314,       0850,   -43.2530,   150.8958,       3581,  3198.8,   1.3990,  34.7240,2,  34.7270,2,-999.0000,9,   198.2,2,  107.22,2,    2.27,2
   09FA0394,      PR13N,      10,          1,         24,          2,2,19940314,       0850,   -43.2530,   150.8958,       3581,  3498.2,   1.0880,  34.7130,2,  34.7140,2,-999.0000,9,   204.1,2,  114.94,2,    2.33,2
   09FA0394,      PR13N,      11,          1,          1,         11,2,19940314,       1523,   -43.2697,   151.6935,       4288,     2.8,  15.8220,  35.5370,2,  35.5410,2,-999.0000,9,   236.5,2,    1.56,2,    0.26,2
   09FA0394,      PR13N,      11,          1,          2,         17,2,19940314,       1523,   -43.2697,   151.6935,       4288,    98.8,  14.1250,  35.4810,2,  35.5310,2,-999.0000,9,   236.8,2,    1.56,2,    0.31,2
   09FA0394,      PR13N,      11,          1,          3,          5,2,19940314,       1523,   -43.2697,   151.6935,       4288,   197.1,  13.2600,  35.3290,2,  35.3720,2,-999.0000,9,   233.4,2,    2.74,2,    0.59,2
   09FA0394,      PR13N,      11,          1,          4,          8,2,19940314,       1523,   -43.2697,   151.6935,       4288,   397.8,  11.6250,  35.0530,2,  35.0320,2,-999.0000,9,   227.6,2,    4.30,2,    0.87,2
   09FA0394,      PR13N,      11,          1,          5,         24,2,19940314,       1523,   -43.2697,   151.6935,       4288,   597.3,   9.0220,  34.6480,2,  34.6640,2,-999.0000,9,   234.1,2,    5.96,2,    1.21,2
   09FA0394,      PR13N,      11,          1,          6,         20,2,19940314,       1523,   -43.2697,   151.6935,       4288,   796.6,   7.4620,  34.5300,2,  34.5250,2,-999.0000,9,   191.8,2,   16.72,2,    1.73,2
   09FA0394,      PR13N,      11,          1,          7,         23,2,19940314,       1523,   -43.2697,   151.6935,       4288,   995.8,   5.6550,  34.4400,2,  34.4400,2,-999.0000,9,   185.9,2,   31.67,2,    2.06,2
   09FA0394,      PR13N,      11,          1,          8,        449,2,19940314,       1523,   -43.2697,   151.6935,       4288,  1196.8,   4.3530,  34.4610,2,  34.4410,2,-999.0000,9,   185.1,2,   32.46,2,    2.11,2
   09FA0394,      PR13N,      11,          1,          9,         18,2,19940314,       1523,   -43.2697,   151.6935,       4288,  1399.1,   3.3790,  34.4970,2,-999.0000,9,-999.0000,9,   180.8,2,   48.98,2,    2.34,2
   09FA0394,      PR13N,      11,          1,         10,         16,2,19940314,       1523,   -43.2697,   151.6935,       4288,  1599.3,   2.8750,  34.5690,2,  34.5770,2,-999.0000,9,   162.9,2,   78.88,2,    2.50,2
   09FA0394,      PR13N,      11,          1,         11,         13,2,19940314,       1523,   -43.2697,   151.6935,       4288,  1599.3,   2.8750,  34.5690,2,  34.5750,2,-999.0000,9,   162.4,2,   79.47,2,    2.53,2
   09FA0394,      PR13N,      11,          1,         12,         19,2,19940314,       1523,   -43.2697,   151.6935,       4288,  1798.5,   2.5420,  34.6260,2,  34.6340,2,-999.0000,9,   165.1,2,   83.77,2,    2.43,2
   09FA0394,      PR13N,      11,          1,         13,          6,2,19940314,       1523,   -43.2697,   151.6935,       4288,  2198.8,   2.2070,  34.7000,2,  34.7070,2,-999.0000,9,   179.9,2,   86.50,2,    2.38,2
   09FA0394,      PR13N,      11,          1,         14,          3,2,19940314,       1523,   -43.2697,   151.6935,       4288,  2402.1,   2.0720,  34.7220,2,  34.7170,2,-999.0000,9,   183.7,2,   87.09,2,    2.32,2
   09FA0394,      PR13N,      11,          1,         15,         14,2,19940314,       1523,   -43.2697,   151.6935,       4288,  2600.7,   1.9430,  34.7310,2,  34.7270,2,-999.0000,9,   187.0,2,   92.75,2,    2.34,2
   09FA0394,      PR13N,      11,          1,         16,         10,2,19940314,       1523,   -43.2697,   151.6935,       4288,  2803.8,   1.7850,  34.7330,2,  34.7280,2,-999.0000,9,   192.1,2,   99.50,2,    2.30,2
   09FA0394,      PR13N,      11,          1,         17,          9,2,19940314,       1523,   -43.2697,   151.6935,       4288,  3004.1,   1.6750,  34.7340,2,  34.7300,2,-999.0000,9,   191.5,2,   98.81,2,    2.32,2
   09FA0394,      PR13N,      11,          1,         18,         15,2,19940314,       1523,   -43.2697,   151.6935,       4288,  3400.5,   1.4000,  34.7260,2,  34.7240,2,-999.0000,9,   196.7,2,  106.14,2,    2.30,2
   09FA0394,      PR13N,      11,          1,         19,          4,2,19940314,       1523,   -43.2697,   151.6935,       4288,  3604.4,   1.2040,  34.7190,2,  34.7170,2,-999.0000,9,   200.5,2,  115.63,2,    2.38,2
   09FA0394,      PR13N,      11,          1,         20,          2,2,19940314,       1523,   -43.2697,   151.6935,       4288,  3998.7,   0.9880,  34.7100,2,  34.7130,2,-999.0000,9,   202.1,2,  116.60,2,    2.39,2
   09FA0394,      PR13N,      11,          1,         21,          1,2,19940314,       1523,   -43.2697,   151.6935,       4288,  4290.4,   0.9380,  34.7060,2,  34.7050,2,-999.0000,9,   202.1,2,  111.23,2,    2.33,2