BOTTLE,20211117CCHSIORKP
# Original header:
# Changed all fill flags to 9
#code : jjward hyd_to_exchange.pl 
#original files copied from HTML directory: 20010427
#original HYD file: pr11_ghy.txt   Tue Apr  3 13:41:49 2001
#original SUM file: pr11_gsu.txt   Tue Apr  3 13:39:37 2001
EXPOCODE,SECT_ID,STNNBR,CASTNO,SAMPNO,BTLNBR,BTLNBR_FLAG_W,DATE,TIME,LATITUDE,LONGITUDE,DEPTH,CTDPRS,CTDTMP,CTDSAL,CTDSAL_FLAG_W,SALNTY,SALNTY_FLAG_W,CTDOXY,CTDOXY_FLAG_W,OXYGEN,OXYGEN_FLAG_W,SILCAT,SILCAT_FLAG_W,PHSPHT,PHSPHT_FLAG_W
,,,,,,,,,,,METERS,DBAR,ITS-90,PSS-78,,PSS-78,,UMOL/KG,,UMOL/KG,,UMOL/KG,,UMOL/KG,
   09FA0394,      PR13N,       2,          1,          1,          8,2,19940310,       0419,   -43.2175,   148.0757,        124,    41.4,  16.9190,  35.4410,2,  35.2910,2,-999.0000,9,   236.9,2,    1.07,2,    0.26,2
   09FA0394,      PR13N,       2,          1,          2,          3,2,19940310,       0419,   -43.2175,   148.0757,        124,    41.4,  16.9190,  35.4410,2,  35.2900,2,-999.0000,9,   240.9,2,    0.98,2,    0.24,2
   09FA0394,      PR13N,       2,          1,          3,          2,2,19940310,       0419,   -43.2175,   148.0757,        124,   116.8,  14.8070,  35.2680,2,  35.2650,2,-999.0000,9,   218.0,2,    2.44,2,    0.53,2
   09FA0394,      PR13N,       3,          1,          1,         11,2,19940310,       0507,   -43.2352,   148.1163,        166,    41.7,  16.9500,  35.4280,2,  35.4240,2,-999.0000,9,   234.3,2,    1.07,2,    0.21,2
   09FA0394,      PR13N,       3,          1,          2,         15,2,19940310,       0507,   -43.2352,   148.1163,        166,    80.1,  16.5770,  35.3740,2,  35.3770,2,-999.0000,9,   226.7,2,    1.37,2,    0.28,2
   09FA0394,      PR13N,       3,          1,          3,          8,2,19940310,       0507,   -43.2352,   148.1163,        166,   121.6,  13.9750,  35.1860,2,  35.2140,2,-999.0000,9,   210.8,2,    3.32,2,    0.65,2
   09FA0394,      PR13N,       3,          1,          4,          3,2,19940310,       0507,   -43.2352,   148.1163,        166,   163.3,  13.0710,  35.1490,2,  35.1520,2,-999.0000,9,   211.0,2,    3.91,2,    0.80,2
   09FA0394,      PR13N,       4,          1,          1,          3,2,19940310,       0604,   -43.2545,   148.2117,        466,    52.4,  16.5780,  35.4230,2,  35.4320,2,-999.0000,9,   211.8,2,    1.86,2,    0.42,2
   09FA0394,      PR13N,       4,          1,          2,         10,2,19940310,       0604,   -43.2545,   148.2117,        466,   148.9,  13.7800,  35.3050,2,  35.3080,2,-999.0000,9,   207.0,2,    3.52,2,    0.74,2
   09FA0394,      PR13N,       4,          1,          3,          9,2,19940310,       0604,   -43.2545,   148.2117,        466,   198.0,  12.3650,  35.1180,2,  35.1190,2,-999.0000,9,   202.8,2,    5.08,2,    0.96,2
   09FA0394,      PR13N,       4,          1,          4,         21,2,19940310,       0604,   -43.2545,   148.2117,        466,   250.8,  11.4549,  34.9980,2,  35.0030,2,-999.0000,9,   197.5,2,    5.96,2,    1.10,2
   09FA0394,      PR13N,       4,          1,          5,         15,2,19940310,       0604,   -43.2545,   148.2117,        466,   298.8,  10.8420,  34.9140,2,  34.9130,2,-999.0000,9,   201.8,2,    6.45,2,    1.20,2
   09FA0394,      PR13N,       4,          1,          6,          4,2,19940310,       0604,   -43.2545,   148.2117,        466,   399.3,   9.3920,  34.7190,2,  34.7740,2,-999.0000,9,   216.5,2,    6.74,2,    1.30,2
   09FA0394,      PR13N,       4,          1,          7,          8,2,19940310,       0604,   -43.2545,   148.2117,        466,   461.1,   8.3950,  34.6060,2,  34.6050,2,-999.0000,9,   206.1,2,   11.05,2,    1.59,2
   09FA0394,      PR13N,       5,          1,          1,         13,2,19940310,       1121,   -43.2595,   148.2580,       1114,     2.4,  18.4440,  35.5830,2,  35.5970,2,-999.0000,9,   233.2,2,    0.98,2,    0.22,2
   09FA0394,      PR13N,       5,          1,          2,         19,2,19940310,       1121,   -43.2595,   148.2580,       1114,    50.5,  17.1940,  35.4520,2,  35.4740,2,-999.0000,9,   217.2,2,    1.47,2,    0.37,2
   09FA0394,      PR13N,       5,          1,          3,         12,2,19940310,       1121,   -43.2595,   148.2580,       1114,    98.9,  15.3840,  35.3680,2,  35.3550,2,-999.0000,9,   188.9,2,    3.61,2,    0.76,2
   09FA0394,      PR13N,       5,          1,          4,          6,2,19940310,       1121,   -43.2595,   148.2580,       1114,   150.0,  13.9280,  35.3000,2,  35.2410,2,-999.0000,9,   201.5,2,    4.20,2,    0.87,2
   09FA0394,      PR13N,       5,          1,          5,          3,2,19940310,       1121,   -43.2595,   148.2580,       1114,   198.9,  12.4810,  35.1400,2,  35.1760,2,-999.0000,9,   223.7,2,    3.71,2,    0.85,2
   09FA0394,      PR13N,       5,          1,          6,         14,2,19940310,       1121,   -43.2595,   148.2580,       1114,   249.0,  11.5910,  35.0250,2,-999.0000,9,-999.0000,9,   219.7,2,    4.20,2,    0.95,2
   09FA0394,      PR13N,       5,          1,          7,          9,2,19940310,       1121,   -43.2595,   148.2580,       1114,   497.5,   8.9050,  34.6480,2,  34.6660,2,-999.0000,9,   214.1,2,    8.02,2,    1.45,2
   09FA0394,      PR13N,       5,          1,          8,         21,2,19940310,       1121,   -43.2595,   148.2580,       1114,   497.5,   8.9050,  34.6480,2,  34.6640,2,-999.0000,9,   213.6,2,    8.02,2,    1.47,2
   09FA0394,      PR13N,       5,          1,          9,         15,2,19940310,       1121,   -43.2595,   148.2580,       1114,   697.2,   7.1540,  34.5130,2,  34.5370,2,-999.0000,9,   190.9,2,   16.81,2,    1.82,2
   09FA0394,      PR13N,       5,          1,         10,          2,2,19940310,       1121,   -43.2595,   148.2580,       1114,   697.2,   7.1540,  34.5130,2,  34.5370,2,-999.0000,9,   190.0,2,   16.72,2,    1.82,2
   09FA0394,      PR13N,       5,          1,         11,          4,2,19940310,       1121,   -43.2595,   148.2580,       1114,   795.7,   6.2790,  34.4650,2,  34.4750,2,-999.0000,9,   174.9,2,   47.02,2,    2.21,2
   09FA0394,      PR13N,       5,          1,         12,          8,2,19940310,       1121,   -43.2595,   148.2580,       1114,  1099.1,   3.7840,  34.5100,2,-999.0000,9,-999.0000,9,   165.8,2,   61.88,2,    2.30,2
   09FA0394,      PR13N,       6,          1,          1,         23,2,19940310,       1354,   -43.2753,   148.3363,       2028,    51.2,  16.7760,  35.4570,2,  35.4580,2,-999.0000,9,   182.2,2,    2.54,2,    0.56,2
   09FA0394,      PR13N,       6,          1,          2,        449,2,19940310,       1354,   -43.2753,   148.3363,       2028,    51.2,  16.7760,  35.4570,2,  35.4590,2,-999.0000,9,  -999.0,9, -999.00,9, -999.00,9
   09FA0394,      PR13N,       6,          1,          3,         18,2,19940310,       1354,   -43.2753,   148.3363,       2028,   101.1,  14.5640,  35.3800,2,  35.3760,2,-999.0000,9,   206.5,2,    3.13,2,    0.67,2
   09FA0394,      PR13N,       6,          1,          4,         13,2,19940310,       1354,   -43.2753,   148.3363,       2028,   202.3,  12.6820,  35.1910,2,  35.2160,2,-999.0000,9,   218.6,2,    3.52,2,    0.80,2
   09FA0394,      PR13N,       6,          1,          5,         19,2,19940310,       1354,   -43.2753,   148.3363,       2028,   250.5,  12.2100,  35.1430,2,  35.1370,2,-999.0000,9,   227.7,2,    3.32,2,    0.82,2
   09FA0394,      PR13N,       6,          1,          6,         12,2,19940310,       1354,   -43.2753,   148.3363,       2028,   299.6,  11.4370,  35.0190,2,  35.0720,2,-999.0000,9,   231.1,2,    3.42,2,    0.87,2
   09FA0394,      PR13N,       6,          1,          7,          6,2,19940310,       1354,   -43.2753,   148.3363,       2028,   398.2,  10.2770,  34.8380,2,  34.8560,2,-999.0000,9,   245.0,2,    3.81,2,    1.02,2
   09FA0394,      PR13N,       6,          1,          8,          3,2,19940310,       1354,   -43.2753,   148.3363,       2028,   499.4,   9.2290,  34.6770,2,  34.6790,2,-999.0000,9,   242.9,2,    4.98,2,    1.23,2
   09FA0394,      PR13N,       6,          1,          9,         14,2,19940310,       1354,   -43.2753,   148.3363,       2028,   594.8,   8.5870,  34.6180,2,  34.6110,2,-999.0000,9,   213.6,2,    8.70,2,    1.53,2
   09FA0394,      PR13N,       6,          1,         10,         10,2,19940310,       1354,   -43.2753,   148.3363,       2028,   795.5,   6.7350,  34.4870,2,  34.5020,2,-999.0000,9,   193.1,2,   18.08,2,    1.83,2
   09FA0394,      PR13N,       6,          1,         11,          9,2,19940310,       1354,   -43.2753,   148.3363,       2028,   996.0,   5.3370,  34.4520,2,  34.4570,2,-999.0000,9,   183.4,2,   34.31,2,    2.08,2
   09FA0394,      PR13N,       6,          1,         12,         21,2,19940310,       1354,   -43.2753,   148.3363,       2028,   996.0,   5.3370,  34.4520,2,  34.4590,2,-999.0000,9,   184.2,2,   34.41,2,    2.07,2
   09FA0394,      PR13N,       6,          1,         13,         15,2,19940310,       1354,   -43.2753,   148.3363,       2028,  1194.9,   3.9480,  34.4860,2,  34.4800,2,-999.0000,9,   173.2,2,   54.25,2,    2.21,2
   09FA0394,      PR13N,       6,          1,         14,          2,2,19940310,       1354,   -43.2753,   148.3363,       2028,  1394.4,   3.0380,  34.5610,2,  34.5510,2,-999.0000,9,   162.1,2,   74.09,2,    2.29,2
   09FA0394,      PR13N,       6,          1,         15,          4,2,19940310,       1354,   -43.2753,   148.3363,       2028,  1596.1,   2.5520,  34.6260,2,  34.6260,2,-999.0000,9,   169.0,2,   79.27,2,    2.27,2
   09FA0394,      PR13N,       6,          1,         16,          8,2,19940310,       1354,   -43.2753,   148.3363,       2028,  2048.0,   2.1050,  34.7160,2,  34.7130,2,-999.0000,9,   180.7,2,   84.15,2,    2.21,2
   09FA0394,      PR13N,       7,          1,          1,         11,2,19940310,       1706,   -43.2623,   148.5480,       2998,     2.2,  18.7780,  35.6340,2,  35.6100,2,-999.0000,9,   227.6,2,    1.27,2,    0.25,2
   09FA0394,      PR13N,       7,          1,          2,         17,2,19940310,       1706,   -43.2623,   148.5480,       2998,    49.5,  16.6630,  35.4570,2,  35.4560,2,-999.0000,9,   231.3,2,    1.27,2,    0.31,2
   09FA0394,      PR13N,       7,          1,          3,          5,2,19940310,       1706,   -43.2623,   148.5480,       2998,    49.5,  16.6630,  35.4570,2,  35.4590,2,-999.0000,9,   233.2,2,    1.07,2,    0.32,2
   09FA0394,      PR13N,       7,          1,          4,         18,2,19940310,       1706,   -43.2623,   148.5480,       2998,   148.3,  13.2380,  35.2670,2,  35.2520,2,-999.0000,9,   198.8,2,    4.40,2,    0.83,2
   09FA0394,      PR13N,       7,          1,          5,         24,2,19940310,       1706,   -43.2623,   148.5480,       2998,   197.5,  12.5650,  35.1950,2,  35.2250,2,-999.0000,9,   218.0,2,    3.91,2,    0.80,2
   09FA0394,      PR13N,       7,          1,          6,         20,2,19940310,       1706,   -43.2623,   148.5480,       2998,   247.7,  12.0980,  35.1310,2,  35.1700,2,-999.0000,9,   230.0,2,    3.71,2,    0.79,2
   09FA0394,      PR13N,       7,          1,          7,         23,2,19940310,       1706,   -43.2623,   148.5480,       2998,   296.3,  11.4440,  35.0240,2,  35.0750,2,-999.0000,9,   226.8,2,    4.20,2,    0.88,2
   09FA0394,      PR13N,       7,          1,          8,         49,2,19940310,       1706,   -43.2623,   148.5480,       2998,   296.3,  11.4440,  35.0240,2,  35.0760,2,-999.0000,9,   227.1,2,    4.10,2,    0.89,2
   09FA0394,      PR13N,       7,          1,          9,         18,2,19940310,       1706,   -43.2623,   148.5480,       2998,   395.9,  10.4390,  34.8670,2,  34.8930,2,-999.0000,9,   227.9,2,    5.08,2,    1.08,2
   09FA0394,      PR13N,       7,          1,         10,         16,2,19940310,       1706,   -43.2623,   148.5480,       2998,   495.8,   9.2890,  34.6790,2,  34.7300,2,-999.0000,9,   231.6,2,    5.77,2,    1.22,2
   09FA0394,      PR13N,       7,          1,         11,         13,2,19940310,       1706,   -43.2623,   148.5480,       2998,   594.4,   8.7340,  34.6080,2,  34.6100,2,-999.0000,9,   233.8,2,    6.55,2,    1.33,2
   09FA0394,      PR13N,       7,          1,         12,         19,2,19940310,       1706,   -43.2623,   148.5480,       2998,   694.2,   8.1650,  34.5720,2,  34.5760,2,-999.0000,9,   205.0,2,   11.44,2,    1.58,2
   09FA0394,      PR13N,       7,          1,         13,         12,2,19940310,       1706,   -43.2623,   148.5480,       2998,   794.7,   7.2830,  34.5130,2,  34.5220,2,-999.0000,9,   194.6,2,   16.23,2,    1.72,2
   09FA0394,      PR13N,       7,          1,         14,          6,2,19940310,       1706,   -43.2623,   148.5480,       2998,   995.7,   5.7730,  34.4540,2,  34.4580,2,-999.0000,9,   185.1,2,   31.58,2,    2.08,2
   09FA0394,      PR13N,       7,          1,         15,         14,2,19940310,       1706,   -43.2623,   148.5480,       2998,  1394.9,   3.4230,  34.5230,2,  34.5230,2,-999.0000,9,   164.4,2,   70.87,2,    2.46,2
   09FA0394,      PR13N,       7,          1,         16,          9,2,19940310,       1706,   -43.2623,   148.5480,       2998,  1795.1,   2.4990,  34.6360,2,  34.6430,2,-999.0000,9,   170.6,2,   80.74,2,    2.24,2
   09FA0394,      PR13N,       7,          1,         17,         21,2,19940310,       1706,   -43.2623,   148.5480,       2998,  1997.3,   2.3200,  34.6820,2,  34.6820,2,-999.0000,9,   175.2,2,   84.55,2,    2.29,2
   09FA0394,      PR13N,       7,          1,         18,         15,2,19940310,       1706,   -43.2623,   148.5480,       2998,  2395.7,   2.0480,  34.7290,2,  34.7320,2,-999.0000,9,   184.7,2,   90.90,2,    2.23,2
   09FA0394,      PR13N,       7,          1,         19,          2,2,19940310,       1706,   -43.2623,   148.5480,       2998,  2395.7,   2.0480,  34.7290,2,  34.7320,2,-999.0000,9,   184.1,2,   90.99,2,    2.24,2
   09FA0394,      PR13N,       7,          1,         20,          4,2,19940310,       1706,   -43.2623,   148.5480,       2998,  2795.4,   1.7500,  34.7370,2,  34.7390,2,-999.0000,9,   188.7,2,  102.04,2,    2.23,2
   09FA0394,      PR13N,       7,          1,         21,          1,2,19940310,       1706,   -43.2623,   148.5480,       2998,  3010.0,   1.6260,  34.7360,2,  34.7360,2,-999.0000,9,   193.8,2,  105.07,2,    2.26,2
   09FA0394,      PR13N,       8,          1,          1,          7,2,19940310,       2038,   -43.2487,   148.9210,       3392,  1092.2,   5.0890,  34.4260,2,  34.4440,2,-999.0000,9,  -999.0,9, -999.00,9, -999.00,9
   09FA0394,      PR13N,       8,          1,          2,         11,2,19940310,       2038,   -43.2487,   148.9210,       3392,  1092.2,   5.0890,  34.4260,2,  34.4270,2,-999.0000,9,  -999.0,9, -999.00,9, -999.00,9
   09FA0394,      PR13N,       8,          1,          3,         17,2,19940310,       2038,   -43.2487,   148.9210,       3392,  1092.2,   5.0890,  34.4260,2,  34.4270,2,-999.0000,9,  -999.0,9, -999.00,9, -999.00,9
   09FA0394,      PR13N,       8,          1,          4,          5,2,19940310,       2038,   -43.2487,   148.9210,       3392,  1092.2,   5.0890,  34.4260,2,  34.4270,2,-999.0000,9,  -999.0,9, -999.00,9, -999.00,9
   09FA0394,      PR13N,       8,          1,          5,         18,2,19940310,       2038,   -43.2487,   148.9210,       3392,  1092.2,   5.0890,  34.4260,2,  34.4270,2,-999.0000,9,  -999.0,9, -999.00,9, -999.00,9
   09FA0394,      PR13N,       8,          1,          6,         24,2,19940310,       2038,   -43.2487,   148.9210,       3392,  1092.2,   5.0890,  34.4260,2,  34.4270,2,-999.0000,9,  -999.0,9, -999.00,9, -999.00,9
   09FA0394,      PR13N,       8,          1,          7,         20,2,19940310,       2038,   -43.2487,   148.9210,       3392,  1092.2,   5.0890,  34.4260,2,  34.4280,2,-999.0000,9,  -999.0,9, -999.00,9, -999.00,9
   09FA0394,      PR13N,       8,          1,          8,         23,2,19940310,       2038,   -43.2487,   148.9210,       3392,  1092.2,   5.0890,  34.4260,2,  34.4270,2,-999.0000,9,  -999.0,9, -999.00,9, -999.00,9
   09FA0394,      PR13N,       8,          1,          9,        449,2,19940310,       2038,   -43.2487,   148.9210,       3392,  1092.2,   5.0890,  34.4260,2,  34.4270,2,-999.0000,9,  -999.0,9, -999.00,9, -999.00,9
   09FA0394,      PR13N,       8,          1,         10,         18,2,19940310,       2038,   -43.2487,   148.9210,       3392,  1092.2,   5.0890,  34.4260,2,  34.4270,2,-999.0000,9,  -999.0,9, -999.00,9, -999.00,9
   09FA0394,      PR13N,       8,          1,         11,         16,2,19940310,       2038,   -43.2487,   148.9210,       3392,  1092.2,   5.0890,  34.4260,2,  34.4270,2,-999.0000,9,  -999.0,9, -999.00,9, -999.00,9
   09FA0394,      PR13N,       8,          1,         12,         13,2,19940310,       2038,   -43.2487,   148.9210,       3392,  1092.2,   5.0890,  34.4260,2,  34.4270,2,-999.0000,9,  -999.0,9, -999.00,9, -999.00,9
   09FA0394,      PR13N,       8,          1,         13,         19,2,19940310,       2038,   -43.2487,   148.9210,       3392,  1092.2,   5.0890,  34.4260,2,  34.4270,2,-999.0000,9,  -999.0,9, -999.00,9, -999.00,9
   09FA0394,      PR13N,       8,          1,         14,         12,2,19940310,       2038,   -43.2487,   148.9210,       3392,  1092.2,   5.0890,  34.4260,2,  34.4300,2,-999.0000,9,  -999.0,9, -999.00,9, -999.00,9
   09FA0394,      PR13N,       8,          1,         15,          6,2,19940310,       2038,   -43.2487,   148.9210,       3392,  1092.2,   5.0890,  34.4260,2,  34.4270,2,-999.0000,9,  -999.0,9, -999.00,9, -999.00,9
   09FA0394,      PR13N,       8,          1,         16,          3,2,19940310,       2038,   -43.2487,   148.9210,       3392,  1092.2,   5.0890,  34.4260,2,  34.4280,2,-999.0000,9,  -999.0,9, -999.00,9, -999.00,9
   09FA0394,      PR13N,       8,          1,         17,         14,2,19940310,       2038,   -43.2487,   148.9210,       3392,  1092.2,   5.0890,  34.4260,2,  34.4280,2,-999.0000,9,  -999.0,9, -999.00,9, -999.00,9
   09FA0394,      PR13N,       8,          1,         18,         10,2,19940310,       2038,   -43.2487,   148.9210,       3392,  1092.2,   5.0890,  34.4260,2,  34.4280,2,-999.0000,9,  -999.0,9, -999.00,9, -999.00,9
   09FA0394,      PR13N,       8,          1,         19,          9,2,19940310,       2038,   -43.2487,   148.9210,       3392,  1092.2,   5.0890,  34.4260,2,  34.4270,2,-999.0000,9,  -999.0,9, -999.00,9, -999.00,9
   09FA0394,      PR13N,       8,          1,         20,         21,2,19940310,       2038,   -43.2487,   148.9210,       3392,  1092.2,   5.0890,  34.4260,2,  34.4280,2,-999.0000,9,  -999.0,9, -999.00,9, -999.00,9
   09FA0394,      PR13N,       8,          1,         21,         15,2,19940310,       2038,   -43.2487,   148.9210,       3392,  1092.2,   5.0890,  34.4260,2,  34.4280,2,-999.0000,9,  -999.0,9, -999.00,9, -999.00,9
   09FA0394,      PR13N,       8,          1,         22,          2,2,19940310,       2038,   -43.2487,   148.9210,       3392,  1092.2,   5.0890,  34.4260,2,  34.4280,2,-999.0000,9,  -999.0,9, -999.00,9, -999.00,9
   09FA0394,      PR13N,       8,          1,         23,          4,2,19940310,       2038,   -43.2487,   148.9210,       3392,  1092.2,   5.0890,  34.4260,2,  34.4280,2,-999.0000,9,  -999.0,9, -999.00,9, -999.00,9
   09FA0394,      PR13N,       8,          1,         24,          1,2,19940310,       2038,   -43.2487,   148.9210,       3392,  1092.2,   5.0890,  34.4260,2,  34.4270,2,-999.0000,9,  -999.0,9, -999.00,9, -999.00,9