BOTTLE,20211117CCHSIORKP
EXPOCODE,SECT_ID,STNNBR,CASTNO,SAMPNO,BTLNBR,BTLNBR_FLAG_W,DATE,TIME,LATITUDE,LONGITUDE,DEPTH,CTDPRS,CTDTMP,CTDSAL,CTDSAL_FLAG_W,SALNTY,SALNTY_FLAG_W,CTDOXY,CTDOXY_FLAG_W,OXYGEN,OXYGEN_FLAG_W,SILCAT,SILCAT_FLAG_W,PHSPHT,PHSPHT_FLAG_W
,,,,,,,,,,,METERS,DBAR,ITS-90,PSS-78,,PSS-78,,UMOL/KG,,UMOL/KG,,UMOL/KG,,UMOL/KG,
   09FA0394,      PR13N,      20,          1,          1,         11,2,19940317,       0631,   -43.2502,   160.0092,       5028,     3.5,  15.2280,  34.8350,2,  34.8380,2,-999.0000,9,   244.4,2,    0.98,2,    0.35,2
   09FA0394,      PR13N,      20,          1,          2,          7,2,19940317,       0631,   -43.2502,   160.0092,       5028,   100.1,  12.2290,  35.0590,2,  35.1130,2,-999.0000,9,   229.1,2,    3.22,2,    0.75,2
   09FA0394,      PR13N,      20,          1,          3,         17,2,19940317,       0631,   -43.2502,   160.0092,       5028,   196.9,  10.9930,  34.9150,2,  34.9260,2,-999.0000,9,   237.1,2,    3.91,2,    0.91,2
   09FA0394,      PR13N,      20,          1,          4,          5,2,19940317,       0631,   -43.2502,   160.0092,       5028,   399.5,   8.9410,  34.6250,2,  34.6610,2,-999.0000,9,   236.8,2,    5.67,2,    1.23,2
   09FA0394,      PR13N,      20,          1,          5,          8,2,19940317,       0631,   -43.2502,   160.0092,       5028,   594.0,   8.0240,  34.5370,2,  34.5510,2,-999.0000,9,   221.9,2,    9.58,2,    1.48,2
   09FA0394,      PR13N,      20,          1,          6,         24,2,19940317,       0631,   -43.2502,   160.0092,       5028,   794.9,   6.7100,  34.4640,2,  34.4700,2,-999.0000,9,   190.0,2,   21.41,2,    1.82,2
   09FA0394,      PR13N,      20,          1,          7,         20,2,19940317,       0631,   -43.2502,   160.0092,       5028,   995.0,   5.1030,  34.4160,2,  34.4210,2,-999.0000,9,   185.9,2,   34.80,2,    2.08,2
   09FA0394,      PR13N,      20,          1,          8,         23,2,19940317,       0631,   -43.2502,   160.0092,       5028,  1194.4,   4.0250,  34.4350,2,  34.4330,2,-999.0000,9,   179.5,2,   50.05,2,    2.24,2
   09FA0394,      PR13N,      20,          1,          9,        449,2,19940317,       0631,   -43.2502,   160.0092,       5028,  1393.9,   3.2640,  34.5030,2,-999.0000,9,-999.0000,9,   176.3,2,   77.32,2,    2.37,2
   09FA0394,      PR13N,      20,          1,         10,         18,2,19940317,       0631,   -43.2502,   160.0092,       5028,  1592.8,   2.8100,  34.5670,2,  34.5700,2,-999.0000,9,   160.7,2,   79.67,2,    2.40,2
   09FA0394,      PR13N,      20,          1,         11,         16,2,19940317,       0631,   -43.2502,   160.0092,       5028,  1592.8,   2.8100,  34.5670,2,-999.0000,9,-999.0000,9,   161.6,2,   79.28,2,    2.39,2
   09FA0394,      PR13N,      20,          1,         12,         13,2,19940317,       0631,   -43.2502,   160.0092,       5028,  1795.4,   2.5620,  34.6240,2,  34.6210,2,-999.0000,9,   162.7,2,   84.16,2,    2.38,2
   09FA0394,      PR13N,      20,          1,         13,         19,2,19940317,       0631,   -43.2502,   160.0092,       5028,  1996.5,   2.3730,  34.6640,2,  34.6650,2,-999.0000,9,   169.5,2,   84.45,2,    2.19,2
   09FA0394,      PR13N,      20,          1,         14,         12,2,19940317,       0631,   -43.2502,   160.0092,       5028,  2396.7,   2.0520,  34.7140,2,  34.7120,2,-999.0000,9,   179.7,2,   91.29,2,    2.20,2
   09FA0394,      PR13N,      20,          1,         15,          3,2,19940317,       0631,   -43.2502,   160.0092,       5028,  2595.9,   1.8860,  34.7240,2,  34.7240,2,-999.0000,9,   185.9,2,  100.67,2,    2.25,2
   09FA0394,      PR13N,      20,          1,         16,         14,2,19940317,       0631,   -43.2502,   160.0092,       5028,  2801.1,   1.7230,  34.7260,2,  34.7260,2,-999.0000,9,   185.9,2,  102.14,2,    2.24,2
   09FA0394,      PR13N,      20,          1,         17,         10,2,19940317,       0631,   -43.2502,   160.0092,       5028,  2997.9,   1.5760,  34.7260,2,  34.7210,2,-999.0000,9,   190.9,2,  113.28,2,    2.23,2
   09FA0394,      PR13N,      20,          1,         18,          9,2,19940317,       0631,   -43.2502,   160.0092,       5028,  3297.9,   1.3980,  34.7230,2,  34.7170,2,-999.0000,9,   192.3,2,  114.84,2,    2.24,2
   09FA0394,      PR13N,      20,          1,         19,         21,2,19940317,       0631,   -43.2502,   160.0092,       5028,  3598.3,   1.2630,  34.7190,2,  34.7150,2,-999.0000,9,   193.7,2,  117.19,2,    2.26,2
   09FA0394,      PR13N,      20,          1,         20,         15,2,19940317,       0631,   -43.2502,   160.0092,       5028,  3897.9,   1.1840,  34.7160,2,  34.7150,2,-999.0000,9,   195.2,2,  119.14,2,    2.25,2
   09FA0394,      PR13N,      20,          1,         21,          4,2,19940317,       0631,   -43.2502,   160.0092,       5028,  4199.8,   1.1510,  34.7140,2,  34.7120,2,-999.0000,9,   195.2,2,  121.98,2,    2.25,2
   09FA0394,      PR13N,      20,          1,         22,          2,2,19940317,       0631,   -43.2502,   160.0092,       5028,  4800.1,   1.0820,  34.7100,2,  34.7080,2,-999.0000,9,   198.1,2,  121.20,2,    2.28,2
   09FA0394,      PR13N,      20,          1,         23,          1,2,19940317,       0631,   -43.2502,   160.0092,       5028,  5112.0,   1.0860,  34.7090,2,  34.7060,2,-999.0000,9,   199.3,2,  123.64,2,    2.27,2
   09FA0394,      PR13N,      21,          1,          1,         11,2,19940317,       1327,   -43.2468,   160.9152,       4876,     4.4,  14.7760,  34.7270,2,  34.6960,2,-999.0000,9,   248.3,2,    1.08,2,    0.46,2
   09FA0394,      PR13N,      21,          1,          2,          7,2,19940317,       1327,   -43.2468,   160.9152,       4876,   101.0,  11.4980,  34.9200,2,  34.7190,2,-999.0000,9,   246.5,2,    3.03,2,    0.85,2
   09FA0394,      PR13N,      21,          1,          3,         17,2,19940317,       1327,   -43.2468,   160.9152,       4876,   199.3,  10.0370,  34.7390,2,  34.7300,2,-999.0000,9,   248.0,2,    4.20,2,    1.06,2
   09FA0394,      PR13N,      21,          1,          4,          5,2,19940317,       1327,   -43.2468,   160.9152,       4876,   395.4,   8.8550,  34.6070,2,  34.6200,2,-999.0000,9,   239.7,2,    5.86,2,    1.32,2
   09FA0394,      PR13N,      21,          1,          5,          8,2,19940317,       1327,   -43.2468,   160.9152,       4876,   598.4,   8.0060,  34.5300,2,  34.5380,2,-999.0000,9,   213.0,2,   11.44,2,    1.58,2
   09FA0394,      PR13N,      21,          1,          6,         24,2,19940317,       1327,   -43.2468,   160.9152,       4876,   793.6,   6.3900,  34.4350,2,  34.4360,2,-999.0000,9,   196.0,2,   21.90,2,    1.86,2
   09FA0394,      PR13N,      21,          1,          7,         20,2,19940317,       1327,   -43.2468,   160.9152,       4876,   996.1,   4.9200,  34.3930,2,  34.4000,2,-999.0000,9,   189.8,2,   36.95,2,    2.11,2
   09FA0394,      PR13N,      21,          1,          8,         23,2,19940317,       1327,   -43.2468,   160.9152,       4876,  1194.1,   3.8330,  34.4280,2,  34.4350,2,-999.0000,9,   180.7,2,   51.13,2,    2.28,2
   09FA0394,      PR13N,      21,          1,          9,         18,2,19940317,       1327,   -43.2468,   160.9152,       4876,  1596.5,   2.7450,  34.5750,2,  34.5760,2,-999.0000,9,   163.6,2,   80.64,2,    2.47,2
   09FA0394,      PR13N,      21,          1,         10,         19,2,19940317,       1327,   -43.2468,   160.9152,       4876,  1995.5,   2.3660,  34.6590,2,  34.6660,2,-999.0000,9,   168.9,2,   83.67,2,    2.21,2
   09FA0394,      PR13N,      21,          1,         11,          6,2,19940317,       1327,   -43.2468,   160.9152,       4876,  2395.1,   2.0530,  34.7120,2,  34.7130,2,-999.0000,9,   182.1,2,   90.41,2,    2.20,2
   09FA0394,      PR13N,      21,          1,         12,         14,2,19940317,       1327,   -43.2468,   160.9152,       4876,  2796.6,   1.6930,  34.7220,2,  34.7240,2,-999.0000,9,   187.7,2,   98.13,2,    2.23,2
   09FA0394,      PR13N,      21,          1,         13,         10,2,19940317,       1327,   -43.2468,   160.9152,       4876,  2998.9,   1.5460,  34.7220,2,  34.7220,2,-999.0000,9,   190.7,2,  106.24,2,    2.24,2
   09FA0394,      PR13N,      21,          1,         14,          9,2,19940317,       1327,   -43.2468,   160.9152,       4876,  3197.5,   1.4080,  34.7190,2,  34.7190,2,-999.0000,9,   193.6,2,  111.03,2,    2.27,2
   09FA0394,      PR13N,      21,          1,         15,         21,2,19940317,       1327,   -43.2468,   160.9152,       4876,  3499.0,   1.2570,  34.7160,2,  34.7180,2,-999.0000,9,   195.1,2,  113.08,2,    2.28,2
   09FA0394,      PR13N,      21,          1,         16,         15,2,19940317,       1327,   -43.2468,   160.9152,       4876,  3800.7,   1.1890,  34.7130,2,  34.7150,2,-999.0000,9,   196.3,2,  116.31,2,    2.28,2
   09FA0394,      PR13N,      21,          1,         17,          4,2,19940317,       1327,   -43.2468,   160.9152,       4876,  4101.0,   1.1490,  34.7110,2,  34.7110,2,-999.0000,9,   196.0,2,  113.67,2,    2.28,2
   09FA0394,      PR13N,      21,          1,         18,          2,2,19940317,       1327,   -43.2468,   160.9152,       4876,  4699.3,   1.0910,  34.7080,2,  34.7090,2,-999.0000,9,   198.0,2,  117.09,2,    2.27,2
   09FA0394,      PR13N,      21,          1,         19,          1,2,19940317,       1327,   -43.2468,   160.9152,       4876,  4965.7,   1.0770,  34.7060,2,  34.7090,2,-999.0000,9,   198.9,2,  115.43,2,    2.24,2
   09FA0394,      PR13N,      22,          1,          1,         11,2,19940319,       1215,   -43.2508,   163.0958,       4862,     4.9,  14.6780,  34.6610,2,  34.6530,2,-999.0000,9,   249.1,2,    1.08,2,    0.42,2
   09FA0394,      PR13N,      22,          1,          2,          7,2,19940319,       1215,   -43.2508,   163.0958,       4862,   100.1,  11.0560,  34.8320,2,  34.8610,2,-999.0000,9,   247.4,2,    2.54,2,    0.79,2
   09FA0394,      PR13N,      22,          1,          3,         17,2,19940319,       1215,   -43.2508,   163.0958,       4862,   198.8,  10.0690,  34.7790,2,  34.7810,2,-999.0000,9,   241.1,2,    4.10,2,    1.05,2
   09FA0394,      PR13N,      22,          1,          4,          5,2,19940319,       1215,   -43.2508,   163.0958,       4862,   395.9,   8.6920,  34.5840,2,  34.5820,2,-999.0000,9,   245.9,2,    5.47,2,    1.30,2
   09FA0394,      PR13N,      22,          1,          5,          8,2,19940319,       1215,   -43.2508,   163.0958,       4862,   595.4,   8.0590,  34.5460,2,  34.5330,2,-999.0000,9,   214.5,2,   10.75,2,    1.61,2
   09FA0394,      PR13N,      22,          1,          6,         24,2,19940319,       1215,   -43.2508,   163.0958,       4862,   795.8,   6.3840,  34.4490,2,  34.4510,2,-999.0000,9,   195.4,2,   21.90,2,    1.94,2
   09FA0394,      PR13N,      22,          1,          7,         20,2,19940319,       1215,   -43.2508,   163.0958,       4862,   994.5,   5.1220,  34.4070,2,  34.4080,2,-999.0000,9,   190.7,2,   36.07,2,    2.15,2
   09FA0394,      PR13N,      22,          1,          8,         23,2,19940319,       1215,   -43.2508,   163.0958,       4862,  1192.1,   3.9790,  34.4330,2,  34.4410,2,-999.0000,9,   180.7,2,   51.52,2,    2.29,2
   09FA0394,      PR13N,      22,          1,          9,        449,2,19940319,       1215,   -43.2508,   163.0958,       4862,  1192.1,   3.9790,  34.4330,2,  34.4420,2,-999.0000,9,   178.9,2,   51.62,2,    2.30,2
   09FA0394,      PR13N,      22,          1,         10,         18,2,19940319,       1215,   -43.2508,   163.0958,       4862,  1392.6,   3.1730,  34.5070,2,  34.5000,2,-999.0000,9,   169.8,2,   64.81,2,    2.38,2
   09FA0394,      PR13N,      22,          1,         11,         16,2,19940319,       1215,   -43.2508,   163.0958,       4862,  1792.5,   2.5560,  34.6270,2,  34.6170,2,-999.0000,9,   163.3,2,   82.50,2,    2.40,2
   09FA0394,      PR13N,      22,          1,         12,         13,2,19940319,       1215,   -43.2508,   163.0958,       4862,  1792.5,   2.5560,  34.6270,2,  34.6200,2,-999.0000,9,   163.0,2,   82.40,2,    2.38,2
   09FA0394,      PR13N,      22,          1,         13,         19,2,19940319,       1215,   -43.2508,   163.0958,       4862,  1993.5,   2.3450,  34.6690,2,  34.6640,2,-999.0000,9,   170.4,2,   87.19,2,    2.24,2
   09FA0394,      PR13N,      22,          1,         14,          6,2,19940319,       1215,   -43.2508,   163.0958,       4862,  2394.6,   2.0320,  34.7140,2,  34.7140,2,-999.0000,9,   180.6,2,   91.58,2,    2.27,2
   09FA0394,      PR13N,      22,          1,         15,          3,2,19940319,       1215,   -43.2508,   163.0958,       4862,  2595.3,   1.8460,  34.7240,2,  34.7230,2,-999.0000,9,   188.5,2,   98.42,2,    2.29,2
   09FA0394,      PR13N,      22,          1,         16,         10,2,19940319,       1215,   -43.2508,   163.0958,       4862,  2997.7,   1.5340,  34.7250,2,  34.7230,2,-999.0000,9,   192.7,2,  106.73,2,    2.27,2
   09FA0394,      PR13N,      22,          1,         17,          9,2,19940319,       1215,   -43.2508,   163.0958,       4862,  3199.4,   1.4080,  34.7230,2,  34.7190,2,-999.0000,9,   195.1,2,  109.86,2,    2.28,2
   09FA0394,      PR13N,      22,          1,         18,         21,2,19940319,       1215,   -43.2508,   163.0958,       4862,  3501.2,   1.2750,  34.7190,2,  34.7160,2,-999.0000,9,   196.6,2,  112.99,2,    2.30,2
   09FA0394,      PR13N,      22,          1,         19,         15,2,19940319,       1215,   -43.2508,   163.0958,       4862,  3800.8,   1.1940,  34.7170,2,  34.7160,2,-999.0000,9,   196.6,2,  113.57,2,    2.29,2
   09FA0394,      PR13N,      22,          1,         20,          4,2,19940319,       1215,   -43.2508,   163.0958,       4862,  4100.5,   1.1600,  34.7160,2,  34.7150,2,-999.0000,9,   197.1,2,  115.82,2,    2.29,2
   09FA0394,      PR13N,      22,          1,         21,          2,2,19940319,       1215,   -43.2508,   163.0958,       4862,  4700.4,   1.1270,  34.7130,2,  34.7150,2,-999.0000,9,   197.7,2,  116.51,2,    2.30,2
   09FA0394,      PR13N,      22,          1,         22,          1,2,19940319,       1215,   -43.2508,   163.0958,       4862,  4930.6,   1.1080,  34.7110,2,  34.7110,2,-999.0000,9,  -999.0,9,  117.09,2,    2.30,2
   09FA0394,       PR11,      24,          1,          1,         11,2,19940322,       1032,   -34.3138,   172.6500,         89,     2.0,  18.6530,  35.5340,2,  35.5290,2,-999.0000,9,   231.6,2,    2.83,2,    0.31,2
   09FA0394,       PR11,      24,          1,          2,          1,2,19940322,       1032,   -34.3138,   172.6500,         89,    50.6,  16.1790,  35.3150,2,-999.0000,9,-999.0000,9,   232.2,2,    2.93,2,    0.34,2
   09FA0394,       PR11,      24,          1,          3,          7,2,19940322,       1032,   -34.3138,   172.6500,         89,    79.9,  15.2000,  35.2530,2,  35.2560,2,-999.0000,9,   203.1,2,    5.86,2,    0.79,2
   09FA0394,       PR11,      25,          1,          1,         11,2,19940322,       1156,   -34.1212,   172.6075,        102,     1.4,  17.5620,  35.4090,2,  35.4070,2,-999.0000,9,   233.1,2,    3.42,2,    0.40,2
   09FA0394,       PR11,      25,          1,          2,          1,2,19940322,       1156,   -34.1212,   172.6075,        102,     1.4,  17.5620,  35.4090,2,  35.4060,2,-999.0000,9,   233.1,2,    3.42,2,    0.40,2
   09FA0394,       PR11,      25,          1,          3,          7,2,19940322,       1156,   -34.1212,   172.6075,        102,    89.4,  14.9520,  35.2510,2,  35.2540,2,-999.0000,9,   207.8,2,    5.28,2,    0.75,2
   09FA0394,       PR11,      26,          1,          1,         21,2,19940322,       1309,   -33.9820,   172.5903,        586,    50.4,  18.3440,  35.4720,2,  35.4920,2,-999.0000,9,   226.0,2,    2.15,2,    0.35,2
   09FA0394,       PR11,      26,          1,          2,          9,2,19940322,       1309,   -33.9820,   172.5903,        586,   101.1,  15.8310,  35.2740,2,-999.0000,9,-999.0000,9,   223.4,2,    2.74,2,    0.43,2
   09FA0394,       PR11,      26,          1,          3,         10,2,19940322,       1309,   -33.9820,   172.5903,        586,   149.8,  14.3030,  35.1770,2,  35.1560,2,-999.0000,9,   204.3,2,    6.94,2,    0.92,2
   09FA0394,       PR11,      26,          1,          4,         14,2,19940322,       1309,   -33.9820,   172.5903,        586,   199.7,  13.4360,  35.1310,2,  35.0870,2,-999.0000,9,   200.5,2,    7.82,2,    1.06,2
   09FA0394,       PR11,      26,          1,          5,          3,2,19940322,       1309,   -33.9820,   172.5903,        586,   199.7,  13.4360,  35.1310,2,  35.0880,2,-999.0000,9,   200.5,2,    7.72,2,    1.06,2
   09FA0394,       PR11,      26,          1,          6,          6,2,19940322,       1309,   -33.9820,   172.5903,        586,   298.2,  11.2170,  34.9480,2,  34.9510,2,-999.0000,9,   195.0,2,    8.60,2,    1.25,2
   09FA0394,       PR11,      26,          1,          7,         11,2,19940322,       1309,   -33.9820,   172.5903,        586,   402.2,  10.5880,  34.8810,2,  34.8680,2,-999.0000,9,   192.9,2,   10.07,2,    1.38,2
   09FA0394,       PR11,      26,          1,          8,          1,2,19940322,       1309,   -33.9820,   172.5903,        586,   402.2,  10.5880,  34.8810,2,  34.8660,2,-999.0000,9,   192.3,2,   10.07,2,    1.39,2
   09FA0394,       PR11,      26,          1,          9,          7,2,19940322,       1309,   -33.9820,   172.5903,        586,   562.1,   8.8750,  34.7030,2,  34.7140,2,-999.0000,9,   190.6,2,   14.37,2,    1.62,2