BOTTLE,20211117CCHSIORKP
EXPOCODE,SECT_ID,STNNBR,CASTNO,SAMPNO,BTLNBR,BTLNBR_FLAG_W,DATE,TIME,LATITUDE,LONGITUDE,DEPTH,CTDPRS,CTDTMP,CTDSAL,CTDSAL_FLAG_W,SALNTY,SALNTY_FLAG_W,CTDOXY,CTDOXY_FLAG_W,OXYGEN,OXYGEN_FLAG_W,SILCAT,SILCAT_FLAG_W,PHSPHT,PHSPHT_FLAG_W
,,,,,,,,,,,METERS,DBAR,ITS-90,PSS-78,,PSS-78,,UMOL/KG,,UMOL/KG,,UMOL/KG,,UMOL/KG,
   09FA0394,      PR13N,      16,          1,          1,         11,2,19940316,       0315,   -43.2668,   156.2988,       4692,     2.4,  15.0470,  34.7130,2,  34.6850,2,-999.0000,9,   249.7,2,    0.98,2,    0.26,2
   09FA0394,      PR13N,      16,          1,          2,          7,2,19940316,       0315,   -43.2668,   156.2988,       4692,   100.7,  12.6470,  35.1660,2,  35.1010,2,-999.0000,9,   227.0,2,    3.52,2,    0.70,2
   09FA0394,      PR13N,      16,          1,          3,         17,2,19940316,       0315,   -43.2668,   156.2988,       4692,   201.5,  10.8170,  34.8920,2,  34.8370,2,-999.0000,9,   232.6,2,    4.89,2,    0.99,2
   09FA0394,      PR13N,      16,          1,          4,          5,2,19940316,       0315,   -43.2668,   156.2988,       4692,   398.2,   8.7930,  34.5800,2,  34.5780,2,-999.0000,9,   253.3,2,    5.08,2,    1.17,2
   09FA0394,      PR13N,      16,          1,          5,          8,2,19940316,       0315,   -43.2668,   156.2988,       4692,   596.4,   8.0690,  34.5140,2,  34.5250,2,-999.0000,9,   224.1,2,    9.19,2,    1.43,2
   09FA0394,      PR13N,      16,          1,          6,         24,2,19940316,       0315,   -43.2668,   156.2988,       4692,   798.6,   6.5560,  34.4400,2,  34.4250,2,-999.0000,9,   200.3,2,   20.53,2,    1.79,2
   09FA0394,      PR13N,      16,          1,          7,         20,2,19940316,       0315,   -43.2668,   156.2988,       4692,   995.6,   5.0150,  34.3930,2,  34.3960,2,-999.0000,9,   193.0,2, -999.00,9, -999.00,9
   09FA0394,      PR13N,      16,          1,          8,         23,2,19940316,       0315,   -43.2668,   156.2988,       4692,  1196.3,   3.8410,  34.4060,2,  34.4140,2,-999.0000,9,   184.2,2, -999.00,9, -999.00,9
   09FA0394,      PR13N,      16,          1,          9,        449,2,19940316,       0315,   -43.2668,   156.2988,       4692,  1196.3,   3.8410,  34.4060,2,  34.4150,2,-999.0000,9,   183.6,2, -999.00,9, -999.00,9
   09FA0394,      PR13N,      16,          1,         10,         18,2,19940316,       0315,   -43.2668,   156.2988,       4692,  1596.0,   2.7370,  34.5620,2,  34.5580,2,-999.0000,9,   167.3,2, -999.00,9, -999.00,9
   09FA0394,      PR13N,      16,          1,         11,         16,2,19940316,       0315,   -43.2668,   156.2988,       4692,  1798.2,   2.4990,  34.6260,2,  34.6190,2,-999.0000,9,   168.5,2, -999.00,9, -999.00,9
   09FA0394,      PR13N,      16,          1,         12,         13,2,19940316,       0315,   -43.2668,   156.2988,       4692,  1798.2,   2.4990,  34.6260,2,  34.6190,2,-999.0000,9,   172.3,2,   82.01,2,    2.26,2
   09FA0394,      PR13N,      16,          1,         13,         19,2,19940316,       0315,   -43.2668,   156.2988,       4692,  1995.7,   2.3180,  34.6730,2,  34.6680,2,-999.0000,9,   173.2,2,   86.60,2,    2.13,2
   09FA0394,      PR13N,      16,          1,         14,         12,2,19940316,       0315,   -43.2668,   156.2988,       4692,  2196.6,   2.1890,  34.6980,2,  34.6880,2,-999.0000,9,   178.8,2,   86.79,2,    2.15,2
   09FA0394,      PR13N,      16,          1,         15,          6,2,19940316,       0315,   -43.2668,   156.2988,       4692,  2396.0,   2.0200,  34.7170,2,  34.7160,2,-999.0000,9,   182.1,2,   93.34,2,    2.14,2
   09FA0394,      PR13N,      16,          1,         16,          3,2,19940316,       0315,   -43.2668,   156.2988,       4692,  2598.3,   1.8460,  34.7240,2,  34.7240,2,-999.0000,9,   188.8,2,  104.68,2,    2.14,2
   09FA0394,      PR13N,      16,          1,         17,         10,2,19940316,       0315,   -43.2668,   156.2988,       4692,  2997.7,   1.5790,  34.7250,2,  34.7200,2,-999.0000,9,   192.9,2,  112.11,2,    2.18,2
   09FA0394,      PR13N,      16,          1,         18,         21,2,19940316,       0315,   -43.2668,   156.2988,       4692,  3399.7,   1.3220,  34.7170,2,  34.7170,2,-999.0000,9,   195.0,2,  115.63,2,    2.17,2
   09FA0394,      PR13N,      16,          1,         19,         15,2,19940316,       0315,   -43.2668,   156.2988,       4692,  3701.5,   1.1730,  34.7120,2,  34.7090,2,-999.0000,9,   197.3,2,  119.05,2,    2.17,2
   09FA0394,      PR13N,      16,          1,         20,          4,2,19940316,       0315,   -43.2668,   156.2988,       4692,  3999.1,   1.0980,  34.7080,2,  34.7090,2,-999.0000,9,   198.2,2,  122.37,2,    2.22,2
   09FA0394,      PR13N,      16,          1,         21,          2,2,19940316,       0315,   -43.2668,   156.2988,       4692,  4598.3,   1.0130,  34.7030,2,  34.7080,2,-999.0000,9,   200.6,2,  124.81,2,    2.23,2
   09FA0394,      PR13N,      16,          1,         22,          1,2,19940316,       0315,   -43.2668,   156.2988,       4692,  4742.1,   1.0040,  34.7030,2,  34.7010,2,-999.0000,9,   202.9,2,  125.21,2,    2.21,2
   09FA0394,      PR13N,      17,          1,          1,         11,2,19940316,       0948,   -43.2522,   157.2292,       4783,     2.7,  16.5780,  35.3130,2,  35.2860,2,-999.0000,9,   241.0,2,    0.98,2,    0.17,2
   09FA0394,      PR13N,      17,          1,          2,          7,2,19940316,       0948,   -43.2522,   157.2292,       4783,   100.3,  13.4060,  35.1490,2,  35.2390,2,-999.0000,9,   220.5,2,    3.03,2,    0.63,2
   09FA0394,      PR13N,      17,          1,          3,         17,2,19940316,       0948,   -43.2522,   157.2292,       4783,   198.6,  11.6060,  35.0180,2,  35.0000,2,-999.0000,9,   225.2,2,    4.40,2,    0.86,2
   09FA0394,      PR13N,      17,          1,          4,          5,2,19940316,       0948,   -43.2522,   157.2292,       4783,   397.0,   9.3450,  34.6880,2,  34.6900,2,-999.0000,9,   228.5,2,    6.16,2,    1.18,2
   09FA0394,      PR13N,      17,          1,          5,          8,2,19940316,       0948,   -43.2522,   157.2292,       4783,   594.6,   8.1320,  34.5530,2,  34.5570,2,-999.0000,9,   207.9,2,   11.24,2,    1.50,2
   09FA0394,      PR13N,      17,          1,          6,         24,2,19940316,       0948,   -43.2522,   157.2292,       4783,   797.6,   6.5900,  34.4440,2,-999.0000,9,-999.0000,9,   194.1,2,   21.41,2,    1.81,2
   09FA0394,      PR13N,      17,          1,          7,         20,2,19940316,       0948,   -43.2522,   157.2292,       4783,   995.9,   5.0150,  34.3960,2,  34.4080,2,-999.0000,9,   190.6,2,   34.22,2,    1.99,2
   09FA0394,      PR13N,      17,          1,          8,         23,2,19940316,       0948,   -43.2522,   157.2292,       4783,  1195.5,   3.9350,  34.4110,2,  34.4180,2,-999.0000,9,   183.9,2,   51.13,2,    2.19,2
   09FA0394,      PR13N,      17,          1,          9,        449,2,19940316,       0948,   -43.2522,   157.2292,       4783,  1195.5,   3.9350,  34.4110,2,  34.4160,2,-999.0000,9,   182.7,2,   50.84,2,    2.18,2
   09FA0394,      PR13N,      17,          1,         10,         18,2,19940316,       0948,   -43.2522,   157.2292,       4783,  1595.2,   2.8500,  34.5550,2,  34.5630,2,-999.0000,9,   164.4,2,   79.96,2,    2.34,2
   09FA0394,      PR13N,      17,          1,         11,         16,2,19940316,       0948,   -43.2522,   157.2292,       4783,  1796.7,   2.5710,  34.6120,2,  34.6110,2,-999.0000,9,   167.6,2,   85.24,2,    2.30,2
   09FA0394,      PR13N,      17,          1,         12,         13,2,19940316,       0948,   -43.2522,   157.2292,       4783,  1796.7,   2.5710,  34.6120,2,  34.6200,2,-999.0000,9,   166.5,2,   85.53,2,    2.31,2
   09FA0394,      PR13N,      17,          1,         13,         19,2,19940316,       0948,   -43.2522,   157.2292,       4783,  2197.5,   2.2010,  34.6970,2,  34.7000,2,-999.0000,9,   177.0,2,   91.88,2,    2.10,2
   09FA0394,      PR13N,      17,          1,         14,          6,2,19940316,       0948,   -43.2522,   157.2292,       4783,  2399.3,   2.0580,  34.7150,2,  34.7160,2,-999.0000,9,   181.5,2,   95.88,2,    2.28,2
   09FA0394,      PR13N,      17,          1,         15,          3,2,19940316,       0948,   -43.2522,   157.2292,       4783,  2597.8,   1.9350,  34.7250,2,  34.7250,2,-999.0000,9,   187.1,2,  104.68,2,    2.18,2
   09FA0394,      PR13N,      17,          1,         16,         10,2,19940316,       0948,   -43.2522,   157.2292,       4783,  3001.2,   1.6280,  34.7280,2,  34.7240,2,-999.0000,9,   191.8,2,  112.69,2,    2.17,2
   09FA0394,      PR13N,      17,          1,         17,          9,2,19940316,       0948,   -43.2522,   157.2292,       4783,  3198.3,   1.5110,  34.7260,2,  34.7240,2,-999.0000,9,   192.9,2,  116.60,2,    2.21,2
   09FA0394,      PR13N,      17,          1,         18,         21,2,19940316,       0948,   -43.2522,   157.2292,       4783,  3400.5,   1.3780,  34.7220,2,  34.7170,2,-999.0000,9,   195.6,2,  121.20,2,    2.22,2
   09FA0394,      PR13N,      17,          1,         19,         15,2,19940316,       0948,   -43.2522,   157.2292,       4783,  3698.1,   1.2230,  34.7160,2,  34.7170,2,-999.0000,9,   197.3,2,  124.42,2,    2.21,2
   09FA0394,      PR13N,      17,          1,         20,          4,2,19940316,       0948,   -43.2522,   157.2292,       4783,  3996.1,   1.1390,  34.7130,2,  34.7140,2,-999.0000,9,   196.7,2,  124.52,2,    2.21,2
   09FA0394,      PR13N,      17,          1,         21,          2,2,19940316,       0948,   -43.2522,   157.2292,       4783,  4601.4,   1.0560,  34.7080,2,  34.7130,2,-999.0000,9,   198.5,2,  126.48,2,    2.24,2
   09FA0394,      PR13N,      17,          1,         22,          1,2,19940316,       0948,   -43.2522,   157.2292,       4783,  4865.8,   1.0520,  34.7070,2,  34.7080,2,-999.0000,9,   200.0,2,  129.41,2,    2.21,2
   09FA0394,      PR13N,      18,          1,          1,          7,2,19940316,       1638,   -43.2500,   158.1293,       4836,    98.4,  13.4430,  35.2550,2,  35.1960,2,-999.0000,9,   219.0,2, -999.00,9,    0.70,2
   09FA0394,      PR13N,      18,          1,          2,         17,2,19940316,       1638,   -43.2500,   158.1293,       4836,   199.6,  11.2420,  34.9630,2,  34.9490,2,-999.0000,9,   224.7,2,    4.50,2,    0.84,2
   09FA0394,      PR13N,      18,          1,          3,          5,2,19940316,       1638,   -43.2500,   158.1293,       4836,   398.7,   9.0070,  34.6290,2,  34.6230,2,-999.0000,9,   241.4,2,    5.28,2,    1.10,2
   09FA0394,      PR13N,      18,          1,          4,          8,2,19940316,       1638,   -43.2500,   158.1293,       4836,   595.4,   8.1920,  34.5580,2,  34.5490,2,-999.0000,9,   207.9,2,   10.95,2,    1.45,2
   09FA0394,      PR13N,      18,          1,          5,         24,2,19940316,       1638,   -43.2500,   158.1293,       4836,   797.0,   6.4630,  34.4540,2,  34.4650,2,-999.0000,9,   191.8,2,   20.53,2,    1.76,2
   09FA0394,      PR13N,      18,          1,          6,         20,2,19940316,       1638,   -43.2500,   158.1293,       4836,   994.8,   4.9270,  34.3930,2,  34.3960,2,-999.0000,9,   191.2,2,   34.61,2,    2.06,2
   09FA0394,      PR13N,      18,          1,          7,         23,2,19940316,       1638,   -43.2500,   158.1293,       4836,  1192.5,   4.0690,  34.4400,2,  34.4390,2,-999.0000,9,   178.2,2,   53.28,2,    2.24,2
   09FA0394,      PR13N,      18,          1,          8,         49,2,19940316,       1638,   -43.2500,   158.1293,       4836,  1192.5,   4.0690,  34.4400,2,  34.4390,2,-999.0000,9,   177.0,2,   53.47,2,    2.24,2
   09FA0394,      PR13N,      18,          1,          9,         18,2,19940316,       1638,   -43.2500,   158.1293,       4836,  1593.8,   2.8350,  34.5660,2,  34.5560,2,-999.0000,9,   162.1,2,   80.06,2,    2.40,2
   09FA0394,      PR13N,      18,          1,         10,         16,2,19940316,       1638,   -43.2500,   158.1293,       4836,  1794.1,   2.5580,  34.6180,2,  34.6100,2,-999.0000,9,   165.3,2,   84.36,2,    2.36,2
   09FA0394,      PR13N,      18,          1,         11,         13,2,19940316,       1638,   -43.2500,   158.1293,       4836,  1794.1,   2.5580,  34.6180,2,  34.6140,2,-999.0000,9,   164.7,2,   84.84,2,    2.38,2
   09FA0394,      PR13N,      18,          1,         12,         19,2,19940316,       1638,   -43.2500,   158.1293,       4836,  2194.2,   2.2150,  34.6940,2,  34.6840,2,-999.0000,9,   175.5,2,   88.36,2,    2.12,2
   09FA0394,      PR13N,      18,          1,         13,          6,2,19940316,       1638,   -43.2500,   158.1293,       4836,  2395.0,   2.0640,  34.7150,2,  34.7120,2,-999.0000,9,  -999.0,9, -999.00,9, -999.00,9
   09FA0394,      PR13N,      18,          1,         14,          3,2,19940316,       1638,   -43.2500,   158.1293,       4836,  2595.9,   1.9050,  34.7260,2,  34.7260,2,-999.0000,9,   187.7,2,  101.55,2,    2.21,2
   09FA0394,      PR13N,      18,          1,         15,         10,2,19940316,       1638,   -43.2500,   158.1293,       4836,  2996.7,   1.6330,  34.7270,2,  34.7220,2,-999.0000,9,   192.3,2,  110.54,2,    2.18,2
   09FA0394,      PR13N,      18,          1,         16,          9,2,19940316,       1638,   -43.2500,   158.1293,       4836,  3197.9,   1.4810,  34.7230,2,  34.7150,2,-999.0000,9,   195.0,2,  114.65,2,    2.27,2
   09FA0394,      PR13N,      18,          1,         17,         21,2,19940316,       1638,   -43.2500,   158.1293,       4836,  3498.8,   1.2960,  34.7180,2,  34.7160,2,-999.0000,9,   195.0,2,  117.29,2,    2.21,2
   09FA0394,      PR13N,      18,          1,         18,         15,2,19940316,       1638,   -43.2500,   158.1293,       4836,  3799.3,   1.1790,  34.7140,2,  34.7120,2,-999.0000,9,   196.2,2,  117.87,2,    2.29,2
   09FA0394,      PR13N,      18,          1,         19,          4,2,19940316,       1638,   -43.2500,   158.1293,       4836,  4098.9,   1.1200,  34.7100,2,  34.7100,2,-999.0000,9,   197.3,2,  120.02,2,    2.29,2
   09FA0394,      PR13N,      18,          1,         20,          2,2,19940316,       1638,   -43.2500,   158.1293,       4836,  4402.7,   1.0710,  34.7080,2,  34.7070,2,-999.0000,9,   199.1,2,  125.11,2,    2.30,2
   09FA0394,      PR13N,      18,          1,         21,          1,2,19940316,       1638,   -43.2500,   158.1293,       4836,  4700.6,   1.0550,  34.7070,2,  34.7050,2,-999.0000,9,   200.0,2,  122.47,2,    2.27,2
   09FA0394,      PR13N,      18,          1,         22,         11,2,19940316,       1638,   -43.2500,   158.1293,       4836,  4937.2,   1.0720,  34.7060,2,  34.7050,2,-999.0000,9,   200.0,2,  121.30,2,    2.15,2
   09FA0394,      PR13N,      19,          1,          1,         11,2,19940316,       2322,   -43.2387,   159.0667,       4800,     3.5,  15.8990,  34.9350,2,  34.9100,2,-999.0000,9,   244.4,2,    0.78,2,    0.20,2
   09FA0394,      PR13N,      19,          1,          2,          7,2,19940316,       2322,   -43.2387,   159.0667,       4800,   102.4,  11.8500,  34.9290,2,  34.9430,2,-999.0000,9,   240.9,2,    2.44,2,    0.60,2
   09FA0394,      PR13N,      19,          1,          3,         17,2,19940316,       2322,   -43.2387,   159.0667,       4800,   203.7,  10.5820,  34.8520,2,  34.8680,2,-999.0000,9,   238.6,2,    3.52,2,    0.74,2
   09FA0394,      PR13N,      19,          1,          4,          5,2,19940316,       2322,   -43.2387,   159.0667,       4800,   402.5,   8.8720,  34.6170,2,  34.6360,2,-999.0000,9,   230.1,2,    5.96,2,    1.12,2
   09FA0394,      PR13N,      19,          1,          5,          8,2,19940316,       2322,   -43.2387,   159.0667,       4800,   599.6,   7.8960,  34.5320,2,  34.5350,2,-999.0000,9,   204.9,2,   12.22,2,    1.49,2
   09FA0394,      PR13N,      19,          1,          6,         24,2,19940316,       2322,   -43.2387,   159.0667,       4800,   799.1,   6.4170,  34.4540,2,  34.4590,2,-999.0000,9,   188.9,2,   22.88,2,    1.80,2
   09FA0394,      PR13N,      19,          1,          7,         20,2,19940316,       2322,   -43.2387,   159.0667,       4800,   996.5,   5.0540,  34.4180,2,  34.4240,2,-999.0000,9,   184.5,2,   36.56,2,    2.02,2
   09FA0394,      PR13N,      19,          1,          8,         23,2,19940316,       2322,   -43.2387,   159.0667,       4800,  1193.5,   4.0430,  34.4330,2,  34.4400,2,-999.0000,9,   176.3,2,   54.06,2,    2.24,2
   09FA0394,      PR13N,      19,          1,          9,         18,2,19940316,       2322,   -43.2387,   159.0667,       4800,  1595.7,   2.8310,  34.5670,2,  34.5660,2,-999.0000,9,   162.5,2,   82.21,2,    2.42,2
   09FA0394,      PR13N,      19,          1,         10,         16,2,19940316,       2322,   -43.2387,   159.0667,       4800,  1796.9,   2.5380,  34.6230,2,  34.6170,2,-999.0000,9,   165.4,2,   88.17,2,    2.39,2
   09FA0394,      PR13N,      19,          1,         11,         13,2,19940316,       2322,   -43.2387,   159.0667,       4800,  1996.0,   2.3700,  34.6620,2,-999.0000,9,-999.0000,9,  -999.0,9,   85.53,2,    2.35,2
   09FA0394,      PR13N,      19,          1,         12,          6,2,19940316,       2322,   -43.2387,   159.0667,       4800,  2397.8,   2.0140,  34.7150,2,  34.7180,2,-999.0000,9,   182.7,2,   94.22,2,    2.26,2
   09FA0394,      PR13N,      19,          1,         13,          3,2,19940316,       2322,   -43.2387,   159.0667,       4800,  2598.5,   1.8530,  34.7240,2,  34.7220,2,-999.0000,9,   185.9,2,   98.52,2,    2.26,2
   09FA0394,      PR13N,      19,          1,         14,         14,2,19940316,       2322,   -43.2387,   159.0667,       4800,  2792.9,   1.6890,  34.7240,2,  34.7250,2,-999.0000,9,   187.4,2,  106.05,2,    2.30,2
   09FA0394,      PR13N,      19,          1,         15,         10,2,19940316,       2322,   -43.2387,   159.0667,       4800,  2998.1,   1.5410,  34.7220,2,  34.7200,2,-999.0000,9,   190.3,2,  114.06,2,    2.35,2
   09FA0394,      PR13N,      19,          1,         16,          9,2,19940316,       2322,   -43.2387,   159.0667,       4800,  3198.9,   1.4060,  34.7190,2,  34.7200,2,-999.0000,9,   192.0,2,  121.78,2,    2.43,2
   09FA0394,      PR13N,      19,          1,         17,         21,2,19940316,       2322,   -43.2387,   159.0667,       4800,  3397.5,   1.3090,  34.7160,2,  34.7150,2,-999.0000,9,   193.1,2,  121.59,2,    2.33,2
   09FA0394,      PR13N,      19,          1,         18,         15,2,19940316,       2322,   -43.2387,   159.0667,       4800,  3701.0,   1.2060,  34.7130,2,  34.7150,2,-999.0000,9,   194.3,2,  120.22,2,    2.35,2
   09FA0394,      PR13N,      19,          1,         19,          4,2,19940316,       2322,   -43.2387,   159.0667,       4800,  3999.8,   1.1500,  34.7110,2,  34.7040,2,-999.0000,9,   193.4,2,  120.90,2,    2.41,2
   09FA0394,      PR13N,      19,          1,         20,          2,2,19940316,       2322,   -43.2387,   159.0667,       4800,  4598.6,   1.0660,  34.7060,2,  34.7110,2,-999.0000,9,   196.9,2,  137.13,2,    2.61,2
   09FA0394,      PR13N,      19,          1,         21,          1,2,19940316,       2322,   -43.2387,   159.0667,       4800,  4903.3,   1.0570,  34.7050,2,  34.7080,2,-999.0000,9,   199.3,2,  129.99,2,    2.38,2