BOTTLE,20211117CCHSIORKP
EXPOCODE,SECT_ID,STNNBR,CASTNO,SAMPNO,BTLNBR,BTLNBR_FLAG_W,DATE,TIME,LATITUDE,LONGITUDE,DEPTH,CTDPRS,CTDTMP,CTDSAL,CTDSAL_FLAG_W,SALNTY,SALNTY_FLAG_W,CTDOXY,CTDOXY_FLAG_W,OXYGEN,OXYGEN_FLAG_W,SILCAT,SILCAT_FLAG_W,PHSPHT,PHSPHT_FLAG_W
,,,,,,,,,,,METERS,DBAR,ITS-90,PSS-78,,PSS-78,,UMOL/KG,,UMOL/KG,,UMOL/KG,,UMOL/KG,
   09FA0394,      PR13N,      12,          1,          1,         11,2,19940314,       2223,   -43.2360,   152.5960,       4613,     2.6,  13.5190,  34.7010,2,  34.6820,2,-999.0000,9,   255.1,2,    0.98,2,    0.50,2
   09FA0394,      PR13N,      12,          1,          2,          7,2,19940314,       2223,   -43.2360,   152.5960,       4613,    99.3,  10.7650,  34.7870,2,  34.8110,2,-999.0000,9,   249.2,2,    2.54,2,    0.83,2
   09FA0394,      PR13N,      12,          1,          3,         17,2,19940314,       2223,   -43.2360,   152.5960,       4613,   197.8,   9.6770,  34.7120,2,  34.7050,2,-999.0000,9,   255.4,2,    3.81,2,    0.98,2
   09FA0394,      PR13N,      12,          1,          4,          5,2,19940314,       2223,   -43.2360,   152.5960,       4613,   396.5,   8.7160,  34.5770,2,  34.5740,2,-999.0000,9,   256.0,2,    4.40,2,    1.15,2
   09FA0394,      PR13N,      12,          1,          5,          8,2,19940314,       2223,   -43.2360,   152.5960,       4613,   596.4,   8.1390,  34.5200,2,  34.5140,2,-999.0000,9,   231.3,2,    7.82,2,    1.41,2
   09FA0394,      PR13N,      12,          1,          6,         24,2,19940314,       2223,   -43.2360,   152.5960,       4613,   796.4,   6.8820,  34.4640,2,  34.4530,2,-999.0000,9,   195.9,2, -999.00,9, -999.00,9
   09FA0394,      PR13N,      12,          1,          7,         20,2,19940314,       2223,   -43.2360,   152.5960,       4613,   994.7,   5.0210,  34.4000,2,  34.4060,2,-999.0000,9,   190.2,2,   34.80,2,    2.16,2
   09FA0394,      PR13N,      12,          1,          8,         23,2,19940314,       2223,   -43.2360,   152.5960,       4613,  1193.6,   3.9110,  34.3940,2,  34.3960,2,-999.0000,9,   190.0,2,   47.12,2,    2.26,2
   09FA0394,      PR13N,      12,          1,          9,        449,2,19940314,       2223,   -43.2360,   152.5960,       4613,  1193.6,   3.9110,  34.3940,2,  34.3970,2,-999.0000,9,   189.5,2,   45.75,2,    2.27,2
   09FA0394,      PR13N,      12,          1,         10,         18,2,19940314,       2223,   -43.2360,   152.5960,       4613,  1594.5,   2.9110,  34.5670,2,  34.5630,2,-999.0000,9,   160.7,2,   82.40,2,    2.40,2
   09FA0394,      PR13N,      12,          1,         11,         16,2,19940314,       2223,   -43.2360,   152.5960,       4613,  1594.5,   2.9110,  34.5670,2,  34.5660,2,-999.0000,9,   160.2,2,   80.55,2,    2.44,2
   09FA0394,      PR13N,      12,          1,         12,         13,2,19940314,       2223,   -43.2360,   152.5960,       4613,  1797.1,   2.5770,  34.6230,2,  34.6210,2,-999.0000,9,   162.5,2,   86.31,2,    2.41,2
   09FA0394,      PR13N,      12,          1,         13,         19,2,19940314,       2223,   -43.2360,   152.5960,       4613,  1997.0,   2.3720,  34.6660,2,  34.6680,2,-999.0000,9,   170.9,2,   85.72,2,    2.27,2
   09FA0394,      PR13N,      12,          1,         14,         12,2,19940314,       2223,   -43.2360,   152.5960,       4613,  2195.8,   2.2400,  34.6960,2,  34.6960,2,-999.0000,9,   178.2,2,   86.31,2,    2.29,2
   09FA0394,      PR13N,      12,          1,         15,          6,2,19940314,       2223,   -43.2360,   152.5960,       4613,  2598.2,   1.9660,  34.7280,2,  34.7270,2,-999.0000,9,   182.4,2,   91.97,2,    2.26,2
   09FA0394,      PR13N,      12,          1,         16,          3,2,19940314,       2223,   -43.2360,   152.5960,       4613,  2798.1,   1.8490,  34.7350,2,  34.7310,2,-999.0000,9,   188.5,2,   99.11,2,    2.21,2
   09FA0394,      PR13N,      12,          1,         17,         14,2,19940314,       2223,   -43.2360,   152.5960,       4613,  3000.2,   1.7040,  34.7340,2,  34.7270,2,-999.0000,9,   188.0,2,   96.66,2,    2.21,2
   09FA0394,      PR13N,      12,          1,         18,         10,2,19940314,       2223,   -43.2360,   152.5960,       4613,  3200.9,   1.5590,  34.7320,2,  34.7300,2,-999.0000,9,   191.4,2,  101.55,2,    2.22,2
   09FA0394,      PR13N,      12,          1,         19,          9,2,19940314,       2223,   -43.2360,   152.5960,       4613,  3402.4,   1.4280,  34.7270,2,  34.7300,2,-999.0000,9,   193.3,2,  105.36,2,    2.25,2
   09FA0394,      PR13N,      12,          1,         20,         21,2,19940314,       2223,   -43.2360,   152.5960,       4613,  3599.5,   1.2940,  34.7230,2,  34.7260,2,-999.0000,9,   196.2,2,  107.90,2,    2.28,2
   09FA0394,      PR13N,      12,          1,         21,         15,2,19940314,       2223,   -43.2360,   152.5960,       4613,  3800.0,   1.1700,  34.7180,2,  34.7210,2,-999.0000,9,   198.4,2,  111.72,2,    2.25,2
   09FA0394,      PR13N,      12,          1,         22,          4,2,19940314,       2223,   -43.2360,   152.5960,       4613,  4103.7,   1.0720,  34.7130,2,  34.7170,2,-999.0000,9,   199.2,2,  114.94,2,    2.26,2
   09FA0394,      PR13N,      12,          1,         23,          2,2,19940314,       2223,   -43.2360,   152.5960,       4613,  4399.0,   1.0280,  34.7100,2,  34.7100,2,-999.0000,9,   200.9,2,  117.58,2,    2.29,2
   09FA0394,      PR13N,      12,          1,         24,          1,2,19940314,       2223,   -43.2360,   152.5960,       4613,  4696.4,   0.9800,  34.7070,2,  34.7100,2,-999.0000,9,   203.1,2,  119.24,2,    2.28,2
   09FA0394,      PR13N,      13,          1,          1,         11,2,19940315,       0525,   -43.2490,   153.5115,       4657,     2.8,  14.5930,  34.8630,2,  34.8390,2,-999.0000,9,   251.2,2,    0.78,2,    0.37,2
   09FA0394,      PR13N,      13,          1,          2,          7,2,19940315,       0525,   -43.2490,   153.5115,       4657,   100.2,  10.9330,  34.7810,2,  34.7400,2,-999.0000,9,   252.8,2,    2.44,2,    0.86,2
   09FA0394,      PR13N,      13,          1,          3,         17,2,19940315,       0525,   -43.2490,   153.5115,       4657,   197.4,   9.9690,  34.7480,2,  34.8300,2,-999.0000,9,   238.9,2,    4.10,2,    0.97,2
   09FA0394,      PR13N,      13,          1,          4,          5,2,19940315,       0525,   -43.2490,   153.5115,       4657,   396.9,   8.9350,  34.6140,2,  34.6380,2,-999.0000,9,   242.8,2,    4.99,2,    1.15,2
   09FA0394,      PR13N,      13,          1,          5,          8,2,19940315,       0525,   -43.2490,   153.5115,       4657,   596.3,   8.4560,  34.5780,2,  34.5550,2,-999.0000,9,   217.5,2,    8.99,2,    1.43,2
   09FA0394,      PR13N,      13,          1,          6,         24,2,19940315,       0525,   -43.2490,   153.5115,       4657,   792.8,   7.1910,  34.4970,2,  34.4890,2,-999.0000,9,   193.4,2,   17.60,2,    1.76,2
   09FA0394,      PR13N,      13,          1,          7,         20,2,19940315,       0525,   -43.2490,   153.5115,       4657,   995.8,   4.8030,  34.4130,2,  34.4180,2,-999.0000,9,   185.5,2, -999.00,9, -999.00,9
   09FA0394,      PR13N,      13,          1,          8,         23,2,19940315,       0525,   -43.2490,   153.5115,       4657,  1193.6,   3.8020,  34.4490,2,  34.4510,2,-999.0000,9,   176.7,2,   41.35,2,    2.13,2
   09FA0394,      PR13N,      13,          1,          9,        449,2,19940315,       0525,   -43.2490,   153.5115,       4657,  1395.9,   3.2750,  34.5200,2,  34.5160,2,-999.0000,9,  -999.0,9,   68.23,2,    2.30,2
   09FA0394,      PR13N,      13,          1,         10,         18,2,19940315,       0525,   -43.2490,   153.5115,       4657,  1591.3,   2.8360,  34.5860,2,  34.5810,2,-999.0000,9,   158.2,2,   85.53,2,    2.43,2
   09FA0394,      PR13N,      13,          1,         11,         16,2,19940315,       0525,   -43.2490,   153.5115,       4657,  1794.0,   2.5410,  34.6310,2,  34.6290,2,-999.0000,9,   162.9,2,   88.26,2,    2.38,2
   09FA0394,      PR13N,      13,          1,         12,         13,2,19940315,       0525,   -43.2490,   153.5115,       4657,  1794.0,   2.5410,  34.6310,2,  34.6300,2,-999.0000,9,   163.5,2,   88.36,2,    2.38,2
   09FA0394,      PR13N,      13,          1,         13,         19,2,19940315,       0525,   -43.2490,   153.5115,       4657,  1997.4,   2.3670,  34.6650,2,  34.6700,2,-999.0000,9,   170.9,2,   89.53,2,    2.23,2
   09FA0394,      PR13N,      13,          1,         14,         12,2,19940315,       0525,   -43.2490,   153.5115,       4657,  2196.0,   2.2010,  34.6970,2,  34.6940,2,-999.0000,9,   176.7,2,   89.04,2,    2.21,2
   09FA0394,      PR13N,      13,          1,         15,          6,2,19940315,       0525,   -43.2490,   153.5115,       4657,  2397.5,   2.0620,  34.7160,2,  34.7140,2,-999.0000,9,   180.1,2,   93.54,2,    2.22,2
   09FA0394,      PR13N,      13,          1,         16,          3,2,19940315,       0525,   -43.2490,   153.5115,       4657,  2595.9,   1.9200,  34.7270,2,  34.7250,2,-999.0000,9,   184.9,2,   97.45,2,    2.20,2
   09FA0394,      PR13N,      13,          1,         17,         14,2,19940315,       0525,   -43.2490,   153.5115,       4657,  2797.7,   1.7830,  34.7300,2,  34.7290,2,-999.0000,9,   188.2,2,  102.14,2,    2.20,2
   09FA0394,      PR13N,      13,          1,         18,         10,2,19940315,       0525,   -43.2490,   153.5115,       4657,  2997.3,   1.6560,  34.7290,2,  34.7290,2,-999.0000,9,   189.6,2,  105.36,2,    2.21,2
   09FA0394,      PR13N,      13,          1,         19,          9,2,19940315,       0525,   -43.2490,   153.5115,       4657,  3196.5,   1.5110,  34.7280,2,  34.7270,2,-999.0000,9,   191.9,2,  109.47,2,    2.24,2
   09FA0394,      PR13N,      13,          1,         20,         21,2,19940315,       0525,   -43.2490,   153.5115,       4657,  3394.8,   1.3610,  34.7230,2,  34.7230,2,-999.0000,9,   195.0,2,  112.89,2,    2.19,2
   09FA0394,      PR13N,      13,          1,         21,         15,2,19940315,       0525,   -43.2490,   153.5115,       4657,  3698.5,   1.1960,  34.7170,2,  34.7170,2,-999.0000,9,   196.2,2,  117.48,2,    2.21,2
   09FA0394,      PR13N,      13,          1,         22,          4,2,19940315,       0525,   -43.2490,   153.5115,       4657,  3999.7,   1.1210,  34.7140,2,  34.7120,2,-999.0000,9,   198.4,2,  122.37,2,    2.25,2
   09FA0394,      PR13N,      13,          1,         23,          2,2,19940315,       0525,   -43.2490,   153.5115,       4657,  4597.9,   1.0070,  34.7080,2,  34.7100,2,-999.0000,9,   200.4,2,  120.61,2,    2.25,2
   09FA0394,      PR13N,      13,          1,         24,          1,2,19940315,       0525,   -43.2490,   153.5115,       4657,  4720.9,   0.9840,  34.7070,2,  34.7010,2,-999.0000,9,   203.1,2,  124.03,2,    2.21,2
   09FA0394,      PR13N,      14,          1,          1,         11,2,19940315,       1228,   -43.2417,   154.4347,       4614,     3.6,  13.6770,  34.5940,2,  34.5930,2,-999.0000,9,   252.4,2,    1.08,2,    0.54,2
   09FA0394,      PR13N,      14,          1,          2,          7,2,19940315,       1228,   -43.2417,   154.4347,       4614,   100.2,  11.5400,  34.9800,2,  34.9390,2,-999.0000,9,   242.2,2,    3.22,2,    0.88,2
   09FA0394,      PR13N,      14,          1,          3,         17,2,19940315,       1228,   -43.2417,   154.4347,       4614,   198.3,   9.5850,  34.7040,2,  34.6960,2,-999.0000,9,   250.3,2,    4.30,2,    1.12,2
   09FA0394,      PR13N,      14,          1,          4,          5,2,19940315,       1228,   -43.2417,   154.4347,       4614,   396.5,   8.5780,  34.5530,2,  34.5500,2,-999.0000,9,   260.8,2,    4.79,2,    1.26,2
   09FA0394,      PR13N,      14,          1,          5,          8,2,19940315,       1228,   -43.2417,   154.4347,       4614,   596.9,   7.9900,  34.5160,2,  34.5240,2,-999.0000,9,   221.1,2,    9.68,2,    1.54,2
   09FA0394,      PR13N,      14,          1,          6,         24,2,19940315,       1228,   -43.2417,   154.4347,       4614,   797.2,   6.4170,  34.4350,2,  34.4410,2,-999.0000,9,   196.2,2,   20.24,2,    1.87,2
   09FA0394,      PR13N,      14,          1,          7,         20,2,19940315,       1228,   -43.2417,   154.4347,       4614,   993.9,   4.8110,  34.3940,2,  34.3950,2,-999.0000,9,   192.2,2,   34.02,2,    2.09,2
   09FA0394,      PR13N,      14,          1,          8,         18,2,19940315,       1228,   -43.2417,   154.4347,       4614,  1396.5,   3.1390,  34.4960,2,  34.5020,2,-999.0000,9,   169.2,2,   71.46,2,    2.32,2
   09FA0394,      PR13N,      14,          1,          9,         16,2,19940315,       1228,   -43.2417,   154.4347,       4614,  1795.9,   2.4880,  34.6330,2,  34.6280,2,-999.0000,9,   169.2,2,   83.08,2,    2.32,2
   09FA0394,      PR13N,      14,          1,         10,         13,2,19940315,       1228,   -43.2417,   154.4347,       4614,  1795.9,   2.4880,  34.6330,2,  34.6260,2,-999.0000,9,   169.2,2,   83.57,2,    2.35,2
   09FA0394,      PR13N,      14,          1,         11,         19,2,19940315,       1228,   -43.2417,   154.4347,       4614,  1995.5,   2.3190,  34.6740,2,  34.6760,2,-999.0000,9,   172.2,2,   87.38,2,    2.20,2
   09FA0394,      PR13N,      14,          1,         12,          6,2,19940315,       1228,   -43.2417,   154.4347,       4614,  2397.8,   2.0180,  34.7180,2,  34.7170,2,-999.0000,9,   181.2,2,   94.12,2,    2.21,2
   09FA0394,      PR13N,      14,          1,         13,         14,2,19940315,       1228,   -43.2417,   154.4347,       4614,  2798.6,   1.7590,  34.7290,2,  34.7270,2,-999.0000,9,   187.2,2,  102.43,2,    2.19,2
   09FA0394,      PR13N,      14,          1,         14,         10,2,19940315,       1228,   -43.2417,   154.4347,       4614,  3001.3,   1.6220,  34.7290,2,  34.7260,2,-999.0000,9,   193.3,2,  110.15,2,    2.21,2
   09FA0394,      PR13N,      14,          1,         15,          9,2,19940315,       1228,   -43.2417,   154.4347,       4614,  3200.0,   1.4950,  34.7270,2,  34.7210,2,-999.0000,9,   195.6,2,  113.96,2,    2.23,2
   09FA0394,      PR13N,      14,          1,         16,         21,2,19940315,       1228,   -43.2417,   154.4347,       4614,  3399.5,   1.3440,  34.7220,2,  34.7230,2,-999.0000,9,   194.7,2,  114.45,2,    2.21,2
   09FA0394,      PR13N,      14,          1,         17,         15,2,19940315,       1228,   -43.2417,   154.4347,       4614,  3601.0,   1.2310,  34.7170,2,  34.7180,2,-999.0000,9,   196.2,2,  116.90,2,    2.24,2
   09FA0394,      PR13N,      14,          1,         18,          4,2,19940315,       1228,   -43.2417,   154.4347,       4614,  3899.5,   1.1330,  34.7130,2,  34.7150,2,-999.0000,9,   197.8,2,  119.73,2,    2.24,2
   09FA0394,      PR13N,      14,          1,         19,          2,2,19940315,       1228,   -43.2417,   154.4347,       4614,  4499.4,   1.0610,  34.7090,2,  34.7120,2,-999.0000,9,   198.4,2,  121.10,2,    2.25,2
   09FA0394,      PR13N,      14,          1,         20,          1,2,19940315,       1228,   -43.2417,   154.4347,       4614,  4681.2,   1.0100,  34.7070,2,  34.7040,2,-999.0000,9,   201.7,2,  121.00,2,    2.23,2
   09FA0394,      PR13N,      15,          1,          1,         11,2,19940315,       2030,   -43.2390,   155.3837,       4524,     0.0,  14.7620,  34.6940,2,  34.6840,2,-999.0000,9,   248.6,2,    0.68,2,    0.38,2
   09FA0394,      PR13N,      15,          1,          2,          7,2,19940315,       2030,   -43.2390,   155.3837,       4524,    99.0,  11.1430,  34.8870,2,  34.8710,2,-999.0000,9,   241.4,2,    2.93,2,    0.87,2
   09FA0394,      PR13N,      15,          1,          3,         17,2,19940315,       2030,   -43.2390,   155.3837,       4524,   195.8,   9.3480,  34.6370,2,  34.6070,2,-999.0000,9,   258.2,2,    3.91,2,    1.08,2
   09FA0394,      PR13N,      15,          1,          4,          5,2,19940315,       2030,   -43.2390,   155.3837,       4524,   395.5,   8.6400,  34.5710,2,  34.5760,2,-999.0000,9,   244.4,2,    5.38,2,    1.26,2
   09FA0394,      PR13N,      15,          1,          5,          8,2,19940315,       2030,   -43.2390,   155.3837,       4524,   594.4,   7.6800,  34.4880,2,  34.4970,2,-999.0000,9,   220.0,2,   10.75,2,    1.56,2
   09FA0394,      PR13N,      15,          1,          6,         24,2,19940315,       2030,   -43.2390,   155.3837,       4524,   792.4,   6.1470,  34.4090,2,  34.4080,2,-999.0000,9,   201.8,2,   21.41,2,    1.88,2
   09FA0394,      PR13N,      15,          1,          7,         20,2,19940315,       2030,   -43.2390,   155.3837,       4524,   993.2,   4.4520,  34.3540,2,  34.3590,2,-999.0000,9,   201.8,2,   34.71,2,    2.22,2
   09FA0394,      PR13N,      15,          1,          8,         23,2,19940315,       2030,   -43.2390,   155.3837,       4524,  1190.9,   3.4760,  34.3950,2,  34.4000,2,-999.0000,9,   189.2,2,   51.13,2,    2.24,2
   09FA0394,      PR13N,      15,          1,          9,        449,2,19940315,       2030,   -43.2390,   155.3837,       4524,  1190.9,   3.4760,  34.3950,2,  34.3980,2,-999.0000,9,   189.2,2,   51.23,2,    2.26,2
   09FA0394,      PR13N,      15,          1,         10,         18,2,19940315,       2030,   -43.2390,   155.3837,       4524,  1393.7,   3.1310,  34.5080,2,  34.5070,2,-999.0000,9,   166.5,2,   71.56,2,    2.36,2
   09FA0394,      PR13N,      15,          1,         11,         16,2,19940315,       2030,   -43.2390,   155.3837,       4524,  1793.0,   2.5100,  34.6300,2,  34.6300,2,-999.0000,9,   166.8,2,   86.31,2,    2.34,2
   09FA0394,      PR13N,      15,          1,         12,         13,2,19940315,       2030,   -43.2390,   155.3837,       4524,  1793.0,   2.5100,  34.6300,2,  34.6300,2,-999.0000,9,   166.2,2,   86.60,2,    2.33,2
   09FA0394,      PR13N,      15,          1,         13,         19,2,19940315,       2030,   -43.2390,   155.3837,       4524,  1992.4,   2.3310,  34.6700,2,  34.6740,2,-999.0000,9,   167.0,2,   90.41,2,    2.15,2
   09FA0394,      PR13N,      15,          1,         14,          6,2,19940315,       2030,   -43.2390,   155.3837,       4524,  2393.1,   2.0420,  34.7180,2,  34.7140,2,-999.0000,9,   181.2,2,   95.30,2,    2.18,2
   09FA0394,      PR13N,      15,          1,         15,          3,2,19940315,       2030,   -43.2390,   155.3837,       4524,  2593.0,   1.9150,  34.7260,2,-999.0000,9,-999.0000,9,   188.8,2,  102.92,2,    2.16,2
   09FA0394,      PR13N,      15,          1,         16,         14,2,19940315,       2030,   -43.2390,   155.3837,       4524,  2593.0,   1.9150,  34.7260,2,  34.7290,2,-999.0000,9,   188.5,2,  102.92,2,    2.17,2
   09FA0394,      PR13N,      15,          1,         17,         10,2,19940315,       2030,   -43.2390,   155.3837,       4524,  2995.2,   1.6080,  34.7270,2,  34.7230,2,-999.0000,9,   192.3,2,  111.81,2,    2.18,2
   09FA0394,      PR13N,      15,          1,         18,         21,2,19940315,       2030,   -43.2390,   155.3837,       4524,  3398.5,   1.3300,  34.7190,2,  34.7170,2,-999.0000,9,   196.7,2,  118.46,2,    2.18,2
   09FA0394,      PR13N,      15,          1,         19,          4,2,19940315,       2030,   -43.2390,   155.3837,       4524,  3796.4,   1.1440,  34.7130,2,  34.7110,2,-999.0000,9,   199.1,2,  120.12,2,    2.22,2
   09FA0394,      PR13N,      15,          1,         20,          2,2,19940315,       2030,   -43.2390,   155.3837,       4524,  4298.3,   1.0130,  34.7060,2,  34.7070,2,-999.0000,9,   199.7,2,  122.76,2,    2.22,2
   09FA0394,      PR13N,      15,          1,         21,          1,2,19940315,       2030,   -43.2390,   155.3837,       4524,  4587.8,   0.9760,  34.7040,2,  34.7010,2,-999.0000,9,   204.4,2,  126.67,2,    2.23,2