BOTTLE,20211117CCHSIORKP
EXPOCODE,SECT_ID,STNNBR,CASTNO,SAMPNO,BTLNBR,BTLNBR_FLAG_W,DATE,TIME,LATITUDE,LONGITUDE,DEPTH,CTDPRS,CTDTMP,CTDSAL,CTDSAL_FLAG_W,SALNTY,SALNTY_FLAG_W,CTDOXY,CTDOXY_FLAG_W,OXYGEN,OXYGEN_FLAG_W,SILCAT,SILCAT_FLAG_W,PHSPHT,PHSPHT_FLAG_W
,,,,,,,,,,,METERS,DBAR,ITS-90,PSS-78,,PSS-78,,UMOL/KG,,UMOL/KG,,UMOL/KG,,UMOL/KG,
   09FA0394,       PR11,      48,          1,          1,         11,2,19940329,       1637,   -30.0858,   153.6743,       2445,     5.9,  25.0940,  35.3720,2,  35.3390,2,-999.0000,9,   206.4,2,    1.27,2,    0.17,2
   09FA0394,       PR11,      48,          1,          2,          5,2,19940329,       1637,   -30.0858,   153.6743,       2445,    49.7,  23.9470,  35.2380,2,  35.5340,2,-999.0000,9,   172.2,2,    2.25,2,    0.47,2
   09FA0394,       PR11,      48,          1,          3,        449,2,19940329,       1637,   -30.0858,   153.6743,       2445,   100.2,  14.6470,  35.2380,2,  35.2560,2,-999.0000,9,   175.1,2,    4.69,2,    0.91,2
   09FA0394,       PR11,      48,          1,          4,         21,2,19940329,       1637,   -30.0858,   153.6743,       2445,   148.4,  13.3840,  35.1420,2,  35.1180,2,-999.0000,9,   180.1,2,    5.76,2,    1.07,2
   09FA0394,       PR11,      48,          1,          5,         14,2,19940329,       1637,   -30.0858,   153.6743,       2445,   249.9,  11.5820,  34.9820,2,  34.9400,2,-999.0000,9,   189.5,2,    7.04,2,    1.30,2
   09FA0394,       PR11,      48,          1,          6,         10,2,19940329,       1637,   -30.0858,   153.6743,       2445,   302.7,  10.4410,  34.8380,2,  34.8150,2,-999.0000,9,   187.4,2,    8.70,2,    1.45,2
   09FA0394,       PR11,      48,          1,          7,         24,2,19940329,       1637,   -30.0858,   153.6743,       2445,   396.4,   9.6110,  34.7330,2,  34.7120,2,-999.0000,9,   190.7,2,   10.26,2,    1.59,2
   09FA0394,       PR11,      48,          1,          8,         18,2,19940329,       1637,   -30.0858,   153.6743,       2445,   596.2,   7.2970,  34.5180,2,-999.0000,9,-999.0000,9,   189.5,2,   18.38,2,    1.88,2
   09FA0394,       PR11,      48,          1,          9,         15,2,19940329,       1637,   -30.0858,   153.6743,       2445,   696.8,   6.4600,  34.4730,2,  34.4810,2,-999.0000,9,   186.9,2,   24.93,2,    1.97,2
   09FA0394,       PR11,      48,          1,         10,         17,2,19940329,       1637,   -30.0858,   153.6743,       2445,   794.7,   5.7880,  34.4570,2,  34.4640,2,-999.0000,9,   184.0,2,   32.75,2,    2.09,2
   09FA0394,       PR11,      48,          1,         11,          2,2,19940329,       1637,   -30.0858,   153.6743,       2445,   994.9,   4.6110,  34.4760,2,  34.4770,2,-999.0000,9,   171.4,2,   52.69,2,    2.28,2
   09FA0394,       PR11,      48,          1,         12,         16,2,19940329,       1637,   -30.0858,   153.6743,       2445,  1192.6,   3.7210,  34.5250,2,  34.5310,2,-999.0000,9,   158.8,2,   73.90,2,    2.43,2
   09FA0394,       PR11,      48,          1,         13,          8,2,19940329,       1637,   -30.0858,   153.6743,       2445,  1393.7,   3.0380,  34.5800,2,-999.0000,9,-999.0000,9,   152.0,2,   91.59,2,    2.48,2
   09FA0394,       PR11,      48,          1,         14,         13,2,19940329,       1637,   -30.0858,   153.6743,       2445,  1594.0,   2.7040,  34.6140,2,  34.6170,2,-999.0000,9,   152.9,2,   95.99,2,    2.46,2
   09FA0394,       PR11,      48,          1,         15,         20,2,19940329,       1637,   -30.0858,   153.6743,       2445,  1793.8,   2.4560,  34.6460,2,  34.6460,2,-999.0000,9,   159.6,2,   96.57,2,    2.43,2
   09FA0394,       PR11,      48,          1,         16,          4,2,19940329,       1637,   -30.0858,   153.6743,       2445,  1985.4,   2.3180,  34.6660,2,  34.6650,2,-999.0000,9,   165.5,2,   93.34,2,    2.38,2
   09FA0394,       PR11,      48,          1,         17,          1,2,19940329,       1637,   -30.0858,   153.6743,       2445,  2194.8,   2.2000,  34.6850,2,  34.6830,2,-999.0000,9,   169.9,2,   93.25,2,    2.33,2
   09FA0394,       PR11,      48,          1,         18,          7,2,19940329,       1637,   -30.0858,   153.6743,       2445,  2458.8,   2.0420,  34.7050,2,  34.7030,2,-999.0000,9,   176.9,2,   94.32,2,    2.26,2
   09FA0394,       PR11,      49,          1,          1,         11,2,19940330,       1112,   -30.0950,   154.4932,       4581,     1.0,  24.8230,  35.4860,2,  35.5530,2,-999.0000,9,   208.7,2,    1.07,2,    0.14,2
   09FA0394,       PR11,      49,          1,          2,         23,2,19940330,       1112,   -30.0950,   154.4932,       4581,    98.9,  23.2980,  35.6410,2,  35.6640,2,-999.0000,9,   179.8,2,    1.47,2,    0.36,2
   09FA0394,       PR11,      49,          1,          3,          6,2,19940330,       1112,   -30.0950,   154.4932,       4581,   197.2,  20.7730,  35.7190,2,  35.7240,2,-999.0000,9,   190.1,2, -999.00,9, -999.00,9
   09FA0394,       PR11,      49,          1,          4,          3,2,19940330,       1112,   -30.0950,   154.4932,       4581,   395.7,  14.8210,  35.2470,2,  35.2280,2,-999.0000,9,   175.8,2,    4.89,2,    0.90,2
   09FA0394,       PR11,      49,          1,          5,          9,2,19940330,       1112,   -30.0950,   154.4932,       4581,   595.0,   9.7899,  34.7530,2,  34.7690,2,-999.0000,9,   189.9,2,    9.28,2,    1.32,2
   09FA0394,       PR11,      49,          1,          6,          5,2,19940330,       1112,   -30.0950,   154.4932,       4581,   793.8,   7.4010,  34.5260,2,  34.5360,2,-999.0000,9,   193.5,2,   17.40,2,    1.74,2
   09FA0394,       PR11,      49,          1,          7,        449,2,19940330,       1112,   -30.0950,   154.4932,       4581,   994.5,   5.5510,  34.4550,2,  34.4660,2,-999.0000,9,   184.1,2,   35.68,2,    2.06,2
   09FA0394,       PR11,      49,          1,          8,         21,2,19940330,       1112,   -30.0950,   154.4932,       4581,  1193.9,   4.4900,  34.4790,2,  34.4880,2,-999.0000,9,   171.1,2,   56.50,2,    2.27,2
   09FA0394,       PR11,      49,          1,          9,         14,2,19940330,       1112,   -30.0950,   154.4932,       4581,  1595.3,   2.9790,  34.5850,2,  34.5950,2,-999.0000,9,   154.9,2,   91.79,2,    2.49,2
   09FA0394,       PR11,      49,          1,         10,         10,2,19940330,       1112,   -30.0950,   154.4932,       4581,  1795.0,   2.5090,  34.6390,2,  34.6410,2,-999.0000,9,   162.0,2,   94.32,2,    2.41,2
   09FA0394,       PR11,      49,          1,         11,         24,2,19940330,       1112,   -30.0950,   154.4932,       4581,  1995.4,   2.2680,  34.6750,2,  34.6790,2,-999.0000,9,   171.3,2,   93.34,2,    2.34,2
   09FA0394,       PR11,      49,          1,         12,         12,2,19940330,       1112,   -30.0950,   154.4932,       4581,  2194.6,   2.0960,  34.7040,2,  34.7060,2,-999.0000,9,   179.6,2,   92.85,2,    2.18,2
   09FA0394,       PR11,      49,          1,         13,         18,2,19940330,       1112,   -30.0950,   154.4932,       4581,  2397.1,   2.0160,  34.7140,2,  34.7100,2,-999.0000,9,   181.4,2,   94.03,2,    2.29,2
   09FA0394,       PR11,      49,          1,         14,         15,2,19940330,       1112,   -30.0950,   154.4932,       4581,  2596.8,   1.9480,  34.7210,2,  34.7220,2,-999.0000,9,   184.0,2,   95.88,2,    2.23,2
   09FA0394,       PR11,      49,          1,         15,         17,2,19940330,       1112,   -30.0950,   154.4932,       4581,  2797.7,   1.7690,  34.7260,2,  34.7240,2,-999.0000,9,   188.7,2,  100.87,2,    2.21,2
   09FA0394,       PR11,      49,          1,         16,          2,2,19940330,       1112,   -30.0950,   154.4932,       4581,  2997.4,   1.5260,  34.7240,2,  34.7280,2,-999.0000,9,   188.4,2,  102.53,2,    2.21,2
   09FA0394,       PR11,      49,          1,         17,         16,2,19940330,       1112,   -30.0950,   154.4932,       4581,  3198.7,   1.3660,  34.7220,2,  34.7240,2,-999.0000,9,   193.4,2,  107.51,2,    2.24,2
   09FA0394,       PR11,      49,          1,         18,          8,2,19940330,       1112,   -30.0950,   154.4932,       4581,  3398.3,   1.2340,  34.7190,2,  34.7170,2,-999.0000,9,   194.9,2,  111.23,2,    2.26,2
   09FA0394,       PR11,      49,          1,         19,         13,2,19940330,       1112,   -30.0950,   154.4932,       4581,  3597.3,   1.1800,  34.7170,2,  34.7170,2,-999.0000,9,   196.9,2,  117.19,2,    2.27,2
   09FA0394,       PR11,      49,          1,         20,         20,2,19940330,       1112,   -30.0950,   154.4932,       4581,  3899.0,   1.1460,  34.7160,2,  34.7160,2,-999.0000,9,   197.5,2,  116.70,2,    2.28,2
   09FA0394,       PR11,      49,          1,         21,          1,2,19940330,       1112,   -30.0950,   154.4932,       4581,  4499.3,   1.1180,  34.7130,2,  34.7230,2,-999.0000,9,   198.4,2,  118.75,2,    2.28,2
   09FA0394,       PR11,      49,          1,         22,          7,2,19940330,       1112,   -30.0950,   154.4932,       4581,  4651.0,-999.0000,-999.0000,9,  34.7150,2,-999.0000,9,   197.8,2,  119.05,2,    2.27,2