BOTTLE,20211117CCHSIORKP
EXPOCODE,SECT_ID,STNNBR,CASTNO,SAMPNO,BTLNBR,BTLNBR_FLAG_W,DATE,TIME,LATITUDE,LONGITUDE,DEPTH,CTDPRS,CTDTMP,CTDSAL,CTDSAL_FLAG_W,SALNTY,SALNTY_FLAG_W,CTDOXY,CTDOXY_FLAG_W,OXYGEN,OXYGEN_FLAG_W,SILCAT,SILCAT_FLAG_W,PHSPHT,PHSPHT_FLAG_W
,,,,,,,,,,,METERS,DBAR,ITS-90,PSS-78,,PSS-78,,UMOL/KG,,UMOL/KG,,UMOL/KG,,UMOL/KG,
   09FA0394,       PR11,      33,          1,          1,         11,2,19940323,       2056,   -30.0725,   172.0062,       2706,     1.7,  21.5790,  35.8690,2,  35.8670,2,-999.0000,9,   217.5,2,    1.37,2,    0.15,2
   09FA0394,       PR11,      33,          1,          2,         12,2,19940323,       2056,   -30.0725,   172.0062,       2706,    50.4,  21.5980,  35.8690,2,  35.8700,2,-999.0000,9,   220.1,2,    1.37,2,    0.14,2
   09FA0394,       PR11,      33,          1,          3,         13,2,19940323,       2056,   -30.0725,   172.0062,       2706,   100.0,  19.4570,  35.7040,2,  35.7130,2,-999.0000,9,   218.1,2,    1.56,2,    0.26,2
   09FA0394,       PR11,      33,          1,          4,         19,2,19940323,       2056,   -30.0725,   172.0062,       2706,   148.7,  18.0210,  35.6340,2,  35.6460,2,-999.0000,9,   205.8,2,    1.95,2,    0.41,2
   09FA0394,       PR11,      33,          1,          5,         16,2,19940323,       2056,   -30.0725,   172.0062,       2706,   197.3,  17.1400,  35.5620,2,  35.5700,2,-999.0000,9,   201.8,2,    2.44,2,    0.54,2
   09FA0394,       PR11,      33,          1,          6,          2,2,19940323,       2056,   -30.0725,   172.0062,       2706,   248.3,  15.7340,  35.4250,2,  35.4330,2,-999.0000,9,   194.0,2,    3.42,2,    0.71,2
   09FA0394,       PR11,      33,          1,          7,          8,2,19940323,       2056,   -30.0725,   172.0062,       2706,   299.3,  14.3550,  35.2850,2,  35.2630,2,-999.0000,9,   191.5,2,    4.49,2,    0.91,2
   09FA0394,       PR11,      33,          1,          8,         24,2,19940323,       2056,   -30.0725,   172.0062,       2706,   395.8,  12.2110,  35.0690,2,  35.0780,2,-999.0000,9,   196.1,2,    6.25,2,    1.14,2
   09FA0394,       PR11,      33,          1,          9,          5,2,19940323,       2056,   -30.0725,   172.0062,       2706,   498.0,  10.2440,  34.8340,2,  34.8550,2,-999.0000,9,   192.7,2,    9.19,2,    1.34,2
   09FA0394,       PR11,      33,          1,         10,         17,2,19940323,       2056,   -30.0725,   172.0062,       2706,   596.1,   9.0720,  34.7050,2,  34.7300,2,-999.0000,9,   191.9,2,   12.32,2,    1.50,2
   09FA0394,       PR11,      33,          1,         11,        449,2,19940323,       2056,   -30.0725,   172.0062,       2706,   695.3,   7.9310,  34.6000,2,  34.6040,2,-999.0000,9,   189.0,2,   18.47,2,    1.75,2
   09FA0394,       PR11,      33,          1,         12,         23,2,19940323,       2056,   -30.0725,   172.0062,       2706,   795.2,   7.0010,  34.5270,2,  34.5370,2,-999.0000,9,   188.5,2,   22.97,2,    1.83,2
   09FA0394,       PR11,      33,          1,         13,         20,2,19940323,       2056,   -30.0725,   172.0062,       2706,   995.1,   5.6890,  34.4830,2,  34.4820,2,-999.0000,9,   181.5,2,   38.32,2,    2.01,2
   09FA0394,       PR11,      33,          1,         14,         21,2,19940323,       2056,   -30.0725,   172.0062,       2706,  1194.6,   4.4730,  34.4910,2,  34.5040,2,-999.0000,9,   170.1,2,   57.38,2,    2.27,2
   09FA0394,       PR11,      33,          1,         15,          9,2,19940323,       2056,   -30.0725,   172.0062,       2706,  1194.6,   4.4730,  34.4910,2,  34.5040,2,-999.0000,9,   169.8,2,   57.48,2,    2.26,2
   09FA0394,       PR11,      33,          1,         16,         10,2,19940323,       2056,   -30.0725,   172.0062,       2706,  1595.7,   3.0090,  34.5860,2,  34.5860,2,-999.0000,9,   158.8,2,   84.65,2,    2.38,2
   09FA0394,       PR11,      33,          1,         17,         14,2,19940323,       2056,   -30.0725,   172.0062,       2706,  1795.0,   2.5840,  34.6170,2,  34.6190,2,-999.0000,9,   155.4,2,  101.36,2,    2.46,2
   09FA0394,       PR11,      33,          1,         18,          3,2,19940323,       2056,   -30.0725,   172.0062,       2706,  1995.0,   2.2870,  34.6400,2,  34.6390,2,-999.0000,9,   153.9,2,  107.71,2,    2.49,2
   09FA0394,       PR11,      33,          1,         19,          6,2,19940323,       2056,   -30.0725,   172.0062,       2706,  2197.8,   2.0950,  34.6550,2,  34.6570,2,-999.0000,9,   153.7,2,  115.53,2,    2.49,2
   09FA0394,       PR11,      33,          1,         20,          4,2,19940323,       2056,   -30.0725,   172.0062,       2706,  2410.7,   1.9960,  34.6640,2,  34.6660,2,-999.0000,9,   153.7,2,  118.07,2,    2.52,2
   09FA0394,       PR11,      33,          1,         21,          1,2,19940323,       2056,   -30.0725,   172.0062,       2706,  2597.9,   1.9350,  34.6710,2,  34.6720,2,-999.0000,9,   154.5,2,  121.40,2,    2.51,2
   09FA0394,       PR11,      33,          1,         22,          7,2,19940323,       2056,   -30.0725,   172.0062,       2706,  2695.1,   1.9100,  34.6730,2,  34.6720,2,-999.0000,9,   153.1,2,  121.40,2,    2.51,2
   09FA0394,       PR11,      34,          1,          1,         11,2,19940324,       0119,   -30.0760,   171.4998,       2262,     2.0,  22.0620,  35.9030,2,  35.9100,2,-999.0000,9,   215.8,2,    1.46,2,    0.16,2
   09FA0394,       PR11,      34,          1,          2,         16,2,19940324,       0119,   -30.0760,   171.4998,       2262,    50.0,  22.0510,  35.9000,2,  35.9070,2,-999.0000,9,   218.1,2,    2.15,2,    0.18,2
   09FA0394,       PR11,      34,          1,          3,          2,2,19940324,       0119,   -30.0760,   171.4998,       2262,   100.3,  19.4340,  35.7330,2,  35.7530,2,-999.0000,9,   219.8,2,    1.46,2,    0.21,2
   09FA0394,       PR11,      34,          1,          4,          8,2,19940324,       0119,   -30.0760,   171.4998,       2262,   149.0,  18.0450,  35.6780,2,  35.6790,2,-999.0000,9,   207.0,2,    1.95,2,    0.42,2
   09FA0394,       PR11,      34,          1,          5,         24,2,19940324,       0119,   -30.0760,   171.4998,       2262,   197.4,  17.2760,  35.5940,2,  35.6180,2,-999.0000,9,   203.0,2,    2.15,2,    0.60,2
   09FA0394,       PR11,      34,          1,          6,          5,2,19940324,       0119,   -30.0760,   171.4998,       2262,   248.9,  16.3930,  35.4880,2,  35.4890,2,-999.0000,9,   192.9,2,    3.22,2,    0.73,2
   09FA0394,       PR11,      34,          1,          7,         17,2,19940324,       0119,   -30.0760,   171.4998,       2262,   297.6,  15.4960,  35.4030,2,  35.4080,2,-999.0000,9,   195.5,2,    3.52,2,    0.75,2
   09FA0394,       PR11,      34,          1,          8,        449,2,19940324,       0119,   -30.0760,   171.4998,       2262,   396.8,  13.4790,  35.1870,2,  35.1780,2,-999.0000,9,   190.3,2,    5.37,2,    1.02,2
   09FA0394,       PR11,      34,          1,          9,         23,2,19940324,       0119,   -30.0760,   171.4998,       2262,   495.2,  11.3820,  34.9550,2,  34.9720,2,-999.0000,9,   191.8,2,    7.23,2,    1.26,2
   09FA0394,       PR11,      34,          1,         10,         20,2,19940324,       0119,   -30.0760,   171.4998,       2262,   594.7,   9.6770,  34.7410,2,  34.7640,2,-999.0000,9,   190.4,2,    9.38,2,    1.48,2
   09FA0394,       PR11,      34,          1,         11,         21,2,19940324,       0119,   -30.0760,   171.4998,       2262,   695.2,   8.1740,  34.5920,2,  34.5990,2,-999.0000,9,   193.1,2,   14.86,2,    1.72,2
   09FA0394,       PR11,      34,          1,         12,          9,2,19940324,       0119,   -30.0760,   171.4998,       2262,   795.2,   7.4160,  34.5330,2,  34.5390,2,-999.0000,9,   192.8,2,   18.87,2,    1.85,2
   09FA0394,       PR11,      34,          1,         13,         10,2,19940324,       0119,   -30.0760,   171.4998,       2262,   994.6,   5.9270,  34.4760,2,  34.4820,2,-999.0000,9,   185.2,2,   31.67,2,    2.06,2
   09FA0394,       PR11,      34,          1,         14,         14,2,19940324,       0119,   -30.0760,   171.4998,       2262,  1195.1,   4.5400,  34.4700,2,  34.4740,2,-999.0000,9,   175.5,2,   68.33,2,    3.30,2
   09FA0394,       PR11,      34,          1,         15,          3,2,19940324,       0119,   -30.0760,   171.4998,       2262,  1393.6,   3.6840,  34.5180,2,  34.5140,2,-999.0000,9,   167.2,2,   90.52,2,    3.53,2
   09FA0394,       PR11,      34,          1,         16,          6,2,19940324,       0119,   -30.0760,   171.4998,       2262,  1594.7,   3.0250,  34.5830,2,  34.5830,2,-999.0000,9,   158.3,2,   97.85,2,    2.78,2
   09FA0394,       PR11,      34,          1,         17,          4,2,19940324,       0119,   -30.0760,   171.4998,       2262,  1792.7,   2.6770,  34.6110,2,  34.6120,2,-999.0000,9,   155.4,2,   97.75,2,    2.51,2
   09FA0394,       PR11,      34,          1,         18,          1,2,19940324,       0119,   -30.0760,   171.4998,       2262,  1995.8,   2.4030,  34.6330,2,  34.6310,2,-999.0000,9,   153.7,2,  107.72,2,    2.56,2
   09FA0394,       PR11,      34,          1,         19,          7,2,19940324,       0119,   -30.0760,   171.4998,       2262,  2258.2,   2.1020,  34.6560,2,  34.6560,2,-999.0000,9,   153.9,2,  115.63,2,    2.60,2
   09FA0394,       PR11,      35,          1,          1,         11,2,19940324,       0351,   -30.0810,   171.2785,        579,     3.3,  22.0630,  35.9020,2,  35.9030,2,-999.0000,9,   217.5,2,    1.27,2,    0.13,2
   09FA0394,       PR11,      35,          1,          2,         21,2,19940324,       0351,   -30.0810,   171.2785,        579,    49.9,  22.0450,  35.9020,2,  35.9020,2,-999.0000,9,   218.1,2,    1.17,2,    0.12,2
   09FA0394,       PR11,      35,          1,          3,          9,2,19940324,       0351,   -30.0810,   171.2785,        579,   100.7,  19.4420,  35.7090,2,  35.7280,2,-999.0000,9,   213.5,2,    1.27,2,    0.20,2
   09FA0394,       PR11,      35,          1,          4,         10,2,19940324,       0351,   -30.0810,   171.2785,        579,   148.8,  18.4250,  35.6850,2,  35.6770,2,-999.0000,9,   202.1,2,    1.66,2,    0.30,2
   09FA0394,       PR11,      35,          1,          5,         14,2,19940324,       0351,   -30.0810,   171.2785,        579,   197.9,  17.8880,  35.6770,2,  35.6820,2,-999.0000,9,   207.5,2,    1.56,2,    0.31,2
   09FA0394,       PR11,      35,          1,          6,          3,2,19940324,       0351,   -30.0810,   171.2785,        579,   248.7,  17.1620,  35.5870,2,  35.5860,2,-999.0000,9,   201.2,2,    2.05,2,    0.41,2
   09FA0394,       PR11,      35,          1,          7,          6,2,19940324,       0351,   -30.0810,   171.2785,        579,   299.0,  15.9110,  35.4470,2,  35.4500,2,-999.0000,9,   195.2,2,    2.83,2,    0.55,2
   09FA0394,       PR11,      35,          1,          8,          4,2,19940324,       0351,   -30.0810,   171.2785,        579,   404.0,  14.3060,  35.2710,2,  35.2710,2,-999.0000,9,   190.3,2,    3.81,2,    0.73,2
   09FA0394,       PR11,      35,          1,          9,          1,2,19940324,       0351,   -30.0810,   171.2785,        579,   496.1,  11.9910,  35.0100,2,  34.9710,2,-999.0000,9,   190.1,2,    6.45,2,    1.07,2
   09FA0394,       PR11,      35,          1,         10,          7,2,19940324,       0351,   -30.0810,   171.2785,        579,   565.9,  10.5340,  34.8440,2,  34.8470,2,-999.0000,9,   190.4,2,    7.72,2,    1.24,2
   09FA0394,       PR11,      36,          1,          1,         11,2,19940324,       0622,   -30.0818,   170.9980,       2154,     2.0,  21.9830,  35.8930,2,  35.8880,2,-999.0000,9,   214.9,2,    1.17,2,    0.14,2
   09FA0394,       PR11,      36,          1,          2,          5,2,19940324,       0622,   -30.0818,   170.9980,       2154,    50.9,  21.9870,  35.8810,2,  35.8890,2,-999.0000,9,   215.8,2,    1.17,2,    0.13,2
   09FA0394,       PR11,      36,          1,          3,         17,2,19940324,       0622,   -30.0818,   170.9980,       2154,   100.1,  19.4000,  35.6990,2,  35.7120,2,-999.0000,9,   208.6,2,    1.27,2,    0.23,2
   09FA0394,       PR11,      36,          1,          4,         24,2,19940324,       0622,   -30.0818,   170.9980,       2154,   149.6,  18.1870,  35.6780,2,  35.6780,2,-999.0000,9,   203.4,2,    1.56,2,    0.29,2
   09FA0394,       PR11,      36,          1,          5,        449,2,19940324,       0622,   -30.0818,   170.9980,       2154,   196.4,  17.7420,  35.6670,2,  35.6630,2,-999.0000,9,   207.6,2,    1.56,2,    0.32,2
   09FA0394,       PR11,      36,          1,          6,         23,2,19940324,       0622,   -30.0818,   170.9980,       2154,   248.7,  16.9630,  35.5750,2,  35.5860,2,-999.0000,9,   203.3,2,    1.86,2,    0.39,2
   09FA0394,       PR11,      36,          1,          7,         20,2,19940324,       0622,   -30.0818,   170.9980,       2154,   296.0,  16.1950,  35.4820,2,  35.4700,2,-999.0000,9,   197.8,2,    2.44,2,    0.51,2
   09FA0394,       PR11,      36,          1,          8,         18,2,19940324,       0622,   -30.0818,   170.9980,       2154,   397.8,  14.3550,  35.2760,2,  35.2280,2,-999.0000,9,   195.5,2,    3.91,2,    0.76,2
   09FA0394,       PR11,      36,          1,          9,         12,2,19940324,       0622,   -30.0818,   170.9980,       2154,   495.5,  12.4450,  35.0700,2,  35.0390,2,-999.0000,9,   191.8,2,    5.47,2,    0.97,2
   09FA0394,       PR11,      36,          1,         10,         19,2,19940324,       0622,   -30.0818,   170.9980,       2154,   595.0,  10.2000,  34.8040,2,  34.7990,2,-999.0000,9,   191.3,2,    8.11,2,    1.22,2
   09FA0394,       PR11,      36,          1,         11,         21,2,19940324,       0622,   -30.0818,   170.9980,       2154,   694.7,   8.8440,  34.6570,2,  34.6440,2,-999.0000,9,   192.2,2,   11.24,2,    1.45,2
   09FA0394,       PR11,      36,          1,         12,          9,2,19940324,       0622,   -30.0818,   170.9980,       2154,   793.8,   7.6720,  34.5500,2,  34.5420,2,-999.0000,9,   193.6,2,   15.35,2,    1.54,2
   09FA0394,       PR11,      36,          1,         13,         10,2,19940324,       0622,   -30.0818,   170.9980,       2154,   993.4,   6.0780,  34.4780,2,  34.4820,2,-999.0000,9,   185.2,2,   29.33,2,    1.88,2
   09FA0394,       PR11,      36,          1,         14,         14,2,19940324,       0622,   -30.0818,   170.9980,       2154,  1192.9,   4.8110,  34.4650,2,  34.4700,2,-999.0000,9,   177.2,2,   42.72,2,    2.09,2
   09FA0394,       PR11,      36,          1,         15,          3,2,19940324,       0622,   -30.0818,   170.9980,       2154,  1393.5,   3.7460,  34.5230,2,  34.5210,2,-999.0000,9,   166.6,2,   64.32,2,    2.24,2
   09FA0394,       PR11,      36,          1,         16,          6,2,19940324,       0622,   -30.0818,   170.9980,       2154,  1594.8,   3.0520,  34.5780,2,  34.5760,2,-999.0000,9,   159.7,2,   81.82,2,    2.33,2
   09FA0394,       PR11,      36,          1,         17,          4,2,19940324,       0622,   -30.0818,   170.9980,       2154,  1798.6,   2.6500,  34.6100,2,  34.6100,2,-999.0000,9,   156.3,2,   94.62,2,    2.36,2
   09FA0394,       PR11,      36,          1,         18,          1,2,19940324,       0622,   -30.0818,   170.9980,       2154,  1995.4,   2.3780,  34.6330,2,  34.6330,2,-999.0000,9,   154.5,2,  102.73,2,    2.39,2
   09FA0394,       PR11,      36,          1,         19,          7,2,19940324,       0622,   -30.0818,   170.9980,       2154,  2151.3,   2.3100,  34.6390,2,  34.6380,2,-999.0000,9,   154.2,2,  103.81,2,    2.41,2