BOTTLE,20211117CCHSIORKP
EXPOCODE,SECT_ID,STNNBR,CASTNO,SAMPNO,BTLNBR,BTLNBR_FLAG_W,DATE,TIME,LATITUDE,LONGITUDE,DEPTH,CTDPRS,CTDTMP,CTDSAL,CTDSAL_FLAG_W,SALNTY,SALNTY_FLAG_W,OXYGEN,OXYGEN_FLAG_W
,,,,,,,,,,,METERS,DBAR,ITS-90,PSS-78,,PSS-78,,UMOL/KG,
   06MT15_1,       AR15,      27,         27,        904,         15,2,19910107,       0530,   -29.9413,   -41.9885,       3873,    24.7,  22.3200,  36.2498,2,  36.2505,2,   221.3,2
   06MT15_1,       AR15,      27,         27,        193,         17,2,19910107,       0530,   -29.9413,   -41.9885,       3873,    24.7,  22.3200,  36.2498,2,  36.2505,2,  -999.0,9
   06MT15_1,       AR15,      27,         27,        192,         13,2,19910107,       0530,   -29.9413,   -41.9885,       3873,    94.8,  18.0361,  35.9281,2,-999.0000,9,   232.8,2
   06MT15_1,       AR15,      27,         27,        191,         11,2,19910107,       0530,   -29.9413,   -41.9885,       3873,   488.9,  10.2815,  34.8457,2,-999.0000,9,   209.2,2
   06MT15_1,       AR15,      27,         27,        190,          9,2,19910107,       0530,   -29.9413,   -41.9885,       3873,   990.6,   3.6017,  34.2921,2,-999.0000,9,   223.3,4
   06MT15_1,       AR15,      27,         27,        189,          7,2,19910107,       0530,   -29.9413,   -41.9885,       3873,  1992.8,   3.4109,  34.9017,2,  34.9035,2,   233.9,2
   06MT15_1,       AR15,      27,         27,        188,          5,2,19910107,       0530,   -29.9413,   -41.9885,       3873,  2992.5,   2.8274,  34.9246,2,  34.9195,2,   248.7,2
   06MT15_1,       AR15,      27,         27,        186,          1,2,19910107,       0530,   -29.9413,   -41.9885,       3873,  3754.1,   1.2562,-999.0000,9,  34.6945,2,  -999.0,9
   06MT15_1,       AR15,      27,         27,        187,          3,2,19910107,       0530,   -29.9413,   -41.9885,       3873,  3808.2,  -0.4020,-999.0000,9,  34.6945,2,  -999.0,9
   06MT15_1,       AR15,      28,         28,        201,         15,2,19910107,       1544,   -30.0977,   -41.6930,       3782,    29.2,  22.1741,  36.2182,2,  35.9184,4,   237.4,2
   06MT15_1,       AR15,      28,         28,        905,         17,2,19910107,       1544,   -30.0977,   -41.6930,       3782,    29.2,  22.1741,  36.2182,2,  36.2174,2,   224.3,2
   06MT15_1,       AR15,      28,         28,        200,         13,2,19910107,       1544,   -30.0977,   -41.6930,       3782,    89.5,  18.5538,  35.9070,2,-999.0000,9,   236.7,2
   06MT15_1,       AR15,      28,         28,        199,         11,2,19910107,       1544,   -30.0977,   -41.6930,       3782,   467.1,  10.8320,  34.9283,2,-999.0000,9,   206.2,2
   06MT15_1,       AR15,      28,         28,        198,          9,2,19910107,       1544,   -30.0977,   -41.6930,       3782,   988.0,   3.6137,  34.2846,2,-999.0000,9,   224.6,3
   06MT15_1,       AR15,      28,         28,        197,          7,2,19910107,       1544,   -30.0977,   -41.6930,       3782,  1982.8,   3.2740,  34.7064,2,-999.0000,9,   230.0,2
   06MT15_1,       AR15,      28,         28,        196,          5,2,19910107,       1544,   -30.0977,   -41.6930,       3782,  2965.7,   2.7874,  34.9166,2,  34.9154,2,   249.6,2
   06MT15_1,       AR15,      28,         28,        195,          3,2,19910107,       1544,   -30.0977,   -41.6930,       3782,  3829.1,   0.5373,  34.6959,2,  34.6954,2,   217.5,2
   06MT15_1,       AR15,      28,         28,        194,          1,2,19910107,       1544,   -30.0977,   -41.6930,       3782,  3837.4,   0.5353,  34.6969,2,  34.6964,2,   217.9,2
   06MT15_1,       AR15,      29,         29,        209,         15,2,19910107,       1905,   -30.2083,   -41.5195,       3842,    29.1,  22.1401,  35.8699,2,  35.8682,2,   224.4,2
   06MT15_1,       AR15,      29,         29,        906,         17,2,19910107,       1905,   -30.2083,   -41.5195,       3842,    29.1,  22.1401,  35.8699,2,  35.8682,2,   224.8,2
   06MT15_1,       AR15,      29,         29,        211,         23,2,19910107,       1905,   -30.2083,   -41.5195,       3842,    29.1,  22.1401,  35.8699,2,-999.0000,9,  -999.0,9
   06MT15_1,       AR15,      29,         29,        207,         11,2,19910107,       1905,   -30.2083,   -41.5195,       3842,   493.3,  10.5573,  34.9006,2,-999.0000,9,   227.0,4
   06MT15_1,       AR15,      29,         29,        206,          9,2,19910107,       1905,   -30.2083,   -41.5195,       3842,   990.1,   3.8125,  34.2998,2,-999.0000,9,   220.7,4
   06MT15_1,       AR15,      29,         29,        208,         13,2,19910107,       1905,   -30.2083,   -41.5195,       3842,  1460.4,-999.0000,-999.0000,9,-999.0000,9,  -999.0,9
   06MT15_1,       AR15,      29,         29,        205,          7,2,19910107,       1905,   -30.2083,   -41.5195,       3842,  1996.2,   3.3020,  34.8801,2,  34.8772,2,   229.1,2
   06MT15_1,       AR15,      29,         29,        204,          5,2,19910107,       1905,   -30.2083,   -41.5195,       3842,  2996.1,   2.7824,  34.9191,2,  34.9152,2,   249.6,2
   06MT15_1,       AR15,      29,         29,        202,          1,2,19910107,       1905,   -30.2083,   -41.5195,       3842,  3889.4,   0.5303,  34.6947,2,  34.6962,2,   217.8,2
   06MT15_1,       AR15,      29,         29,        203,          3,2,19910107,       1905,   -30.2083,   -41.5195,       3842,  3889.4,   0.5303,  34.6947,2,  34.6952,2,   217.8,2
   06MT15_1,       AR15,      30,         30,        217,         13,2,19910107,       2326,   -30.3345,   -41.2845,       3874,    15.7,  21.9292,  35.8458,2,  35.8481,2,   224.4,2
   06MT15_1,       AR15,      30,         30,        218,         23,2,19910107,       2326,   -30.3345,   -41.2845,       3874,    15.7,  21.9292,  35.8458,2,  35.8491,2,   224.4,2
   06MT15_1,       AR15,      30,         30,        216,         11,2,19910107,       2326,   -30.3345,   -41.2845,       3874,    94.3,  17.8693,  35.8118,2,-999.0000,9,   238.9,4
   06MT15_1,       AR15,      30,         30,        215,          9,2,19910107,       2326,   -30.3345,   -41.2845,       3874,   492.7,  10.5792,  34.9061,2,-999.0000,9,   210.1,2
   06MT15_1,       AR15,      30,         30,        214,          7,2,19910107,       2326,   -30.3345,   -41.2845,       3874,   988.0,   3.7975,  34.2939,2,-999.0000,9,  -999.0,9
   06MT15_1,       AR15,      30,         30,        213,          5,2,19910107,       2326,   -30.3345,   -41.2845,       3874,  1990.3,   3.3959,  34.8952,2,-999.0000,9,  -999.0,9
   06MT15_1,       AR15,      30,         30,        212,          3,2,19910107,       2326,   -30.3345,   -41.2845,       3874,  2992.2,   2.8593,  34.9223,2,  34.9201,2,   248.7,2
   06MT15_1,       AR15,      30,         30,        210,          1,2,19910107,       2326,   -30.3345,   -41.2845,       3874,  3941.8,   0.5423,  34.6979,2,  34.6961,2,   217.8,2
   06MT15_1,       AR15,      31,         31,        225,         15,2,19910108,       0400,   -30.4638,   -41.0477,       3714,    12.7,  21.8083,  35.8404,2,  35.8410,2,   224.8,2
   06MT15_1,       AR15,      31,         31,        226,         17,2,19910108,       0400,   -30.4638,   -41.0477,       3714,    12.7,  21.8083,  35.8404,2,  35.8400,2,   224.8,2
   06MT15_1,       AR15,      31,         31,        224,         13,2,19910108,       0400,   -30.4638,   -41.0477,       3714,    98.1,  17.7513,  35.8358,2,-999.0000,9,   235.4,2
   06MT15_1,       AR15,      31,         31,        223,         11,2,19910108,       0400,   -30.4638,   -41.0477,       3714,   496.5,  10.2815,  34.8567,2,-999.0000,9,  -999.0,9
   06MT15_1,       AR15,      31,         31,        222,          9,2,19910108,       0400,   -30.4638,   -41.0477,       3714,   988.6,   3.8395,  34.3010,2,-999.0000,9,   219.9,4
   06MT15_1,       AR15,      31,         31,        221,          7,2,19910108,       0400,   -30.4638,   -41.0477,       3714,  1991.3,   3.3889,  34.8909,2,  34.8950,2,   232.2,2
   06MT15_1,       AR15,      31,         31,        220,          5,2,19910108,       0400,   -30.4638,   -41.0477,       3714,  2993.7,   2.8414,  34.9227,2,  34.9190,2,   249.6,2
   06MT15_1,       AR15,      31,         31,        907,          1,2,19910108,       0400,   -30.4638,   -41.0477,       3714,  3751.4,   0.8623,  34.7231,2,  34.7210,2,   218.0,2
   06MT15_1,       AR15,      31,         31,        219,          3,2,19910108,       0400,   -30.4638,   -41.0477,       3714,  3759.4,   0.8613,  34.7206,2,  34.7190,2,   217.5,2
   06MT15_1,       AR15,      32,         32,        234,         13,2,19910108,       1208,   -30.5723,   -40.7858,       3736,    14.7,  21.9053,  35.8337,2,  35.8350,2,   224.8,2
   06MT15_1,       AR15,      32,         32,        232,         15,2,19910108,       1208,   -30.5723,   -40.7858,       3736,    14.7,  21.9053,  35.8337,2,  35.8320,2,   225.3,2
   06MT15_1,       AR15,      32,         32,        231,         11,2,19910108,       1208,   -30.5723,   -40.7858,       3736,    96.3,  17.7783,  36.2982,2,-999.0000,9,   238.8,2
   06MT15_1,       AR15,      32,         32,        230,          9,2,19910108,       1208,   -30.5723,   -40.7858,       3736,   492.5,  10.6462,  34.9088,2,-999.0000,9,   209.6,2
   06MT15_1,       AR15,      32,         32,        229,          7,2,19910108,       1208,   -30.5723,   -40.7858,       3736,   990.5,   3.8295,  34.2950,2,-999.0000,9,   222.9,2
   06MT15_1,       AR15,      32,         32,        228,          5,2,19910108,       1208,   -30.5723,   -40.7858,       3736,  1987.7,   3.2510,  34.8631,2,-999.0000,9,   225.7,2
   06MT15_1,       AR15,      32,         32,        908,          3,2,19910108,       1208,   -30.5723,   -40.7858,       3736,  2991.2,   2.8503,  34.9227,2,  34.9200,2,   249.2,2
   06MT15_1,       AR15,      32,         32,        227,          1,2,19910108,       1208,   -30.5723,   -40.7858,       3736,  3735.9,   0.9463,  34.7271,2,  34.7290,2,   218.4,2
   06MT15_1,       AR15,      37,         37,        249,         19,2,19910109,       1835,   -31.1572,   -39.4455,       4321,    30.5,  20.0137,  37.1169,2,-999.0000,9,   226.7,2
   06MT15_1,       AR15,      37,         37,        250,         21,2,19910109,       1835,   -31.1572,   -39.4455,       4321,    30.5,  20.0137,  37.1169,2,-999.0000,9,  -999.0,9
   06MT15_1,       AR15,      37,         37,        248,         15,2,19910109,       1835,   -31.1572,   -39.4455,       4321,    95.9,  17.3556,  35.7671,2,-999.0000,9,   238.9,2
   06MT15_1,       AR15,      37,         37,        246,         13,2,19910109,       1835,   -31.1572,   -39.4455,       4321,   500.5,  10.4574,  34.8778,2,-999.0000,9,   209.2,2
   06MT15_1,       AR15,      37,         37,        247,         11,2,19910109,       1835,   -31.1572,   -39.4455,       4321,   992.2,   3.8125,  34.3033,2,-999.0000,9,   221.2,2
   06MT15_1,       AR15,      37,         37,        910,          9,2,19910109,       1835,   -31.1572,   -39.4455,       4321,  1993.6,   3.1771,  34.8545,2,-999.0000,9,   224.4,2
   06MT15_1,       AR15,      37,         37,        245,          7,2,19910109,       1835,   -31.1572,   -39.4455,       4321,  2996.3,   2.8304,  34.9209,2,  34.9180,2,  -999.0,9
   06MT15_1,       AR15,      37,         37,        244,          5,2,19910109,       1835,   -31.1572,   -39.4455,       4321,  3980.1,   0.7133,  34.7056,2,  34.7060,2,   216.1,2
   06MT15_1,       AR15,      37,         37,        242,          1,2,19910109,       1835,   -31.1572,   -39.4455,       4321,  4388.9,   0.1502,  34.6656,2,  34.6660,2,   218.7,2
   06MT15_1,       AR15,      37,         37,        243,          3,2,19910109,       1835,   -31.1572,   -39.4455,       4321,  4388.9,   0.1502,  34.6656,2,  34.6650,2,   219.1,2
   06MT15_1,       AR15,      46,         44,        271,         21,2,19910112,       1951,   -31.1772,   -39.0770,       4207,    32.5,  21.5855,  35.7863,2,-999.0000,9,  -999.0,9
   06MT15_1,       AR15,      46,         44,        913,         23,2,19910112,       1951,   -31.1772,   -39.0770,       4207,    32.5,  21.5855,  35.7863,2,  35.7870,2,   223.9,3
   06MT15_1,       AR15,      46,         44,        270,         19,2,19910112,       1951,   -31.1772,   -39.0770,       4207,    99.9,  17.6794,  35.8125,2,-999.0000,9,   233.7,2
   06MT15_1,       AR15,      46,         44,        269,         17,2,19910112,       1951,   -31.1772,   -39.0770,       4207,   193.7,  15.2482,  35.5825,2,-999.0000,9,   220.9,2
   06MT15_1,       AR15,      46,         44,        268,         15,2,19910112,       1951,   -31.1772,   -39.0770,       4207,   790.8,   4.9414,  34.2967,2,-999.0000,9,   236.1,2
   06MT15_1,       AR15,      46,         44,        267,         13,2,19910112,       1951,   -31.1772,   -39.0770,       4207,  1492.9,   2.8653,  34.5981,2,-999.0000,9,   189.5,2
   06MT15_1,       AR15,      46,         44,        266,         11,2,19910112,       1951,   -31.1772,   -39.0770,       4207,  1994.3,   3.2750,  34.8853,2,  34.8860,2,   230.9,2
   06MT15_1,       AR15,      46,         44,        265,          9,2,19910112,       1951,   -31.1772,   -39.0770,       4207,  2397.9,   3.1141,  34.9276,2,-999.0000,9,   246.8,2
   06MT15_1,       AR15,      46,         44,        263,          7,2,19910112,       1951,   -31.1772,   -39.0770,       4207,  3004.1,   2.7964,  34.9207,2,  34.9230,2,   248.7,2
   06MT15_1,       AR15,      46,         44,        264,          5,2,19910112,       1951,   -31.1772,   -39.0770,       4207,  3991.4,   1.4181,  34.7882,2,-999.0000,9,   229.3,2
   06MT15_1,       AR15,      46,         44,        262,          1,2,19910112,       1951,   -31.1772,   -39.0770,       4207,  4202.3,   0.8303,  34.7250,2,  34.7250,2,   219.7,2
   06MT15_1,       AR15,      46,         44,        912,          3,2,19910112,       1951,   -31.1772,   -39.0770,       4207,  4202.3,   0.8303,  34.7250,2,  34.7260,2,   220.1,2
   06MT15_1,       AR15,      53,         51,        914,         21,2,19910113,       1445,   -31.0825,   -39.6345,       4268,    41.7,  21.5385,  35.9532,2,  35.9500,2,   226.5,2
   06MT15_1,       AR15,      53,         51,        282,         23,2,19910113,       1445,   -31.0825,   -39.6345,       4268,    42.7,  21.7114,  35.9342,2,  35.9350,2,   224.8,2
   06MT15_1,       AR15,      53,         51,        281,         19,2,19910113,       1445,   -31.0825,   -39.6345,       4268,   104.1,  16.5292,  36.1177,2,-999.0000,9,   235.7,2
   06MT15_1,       AR15,      53,         51,        280,         17,2,19910113,       1445,   -31.0825,   -39.6345,       4268,   234.1,  14.7636,  35.5628,2,-999.0000,9,   216.5,2
   06MT15_1,       AR15,      53,         51,        279,         15,2,19910113,       1445,   -31.0825,   -39.6345,       4268,   498.4,  10.2396,  34.8432,2,-999.0000,9,   208.8,2
   06MT15_1,       AR15,      53,         51,        278,         13,2,19910113,       1445,   -31.0825,   -39.6345,       4268,   772.3,   5.1342,  34.3090,2,-999.0000,9,   235.3,2
   06MT15_1,       AR15,      53,         51,        277,         11,2,19910113,       1445,   -31.0825,   -39.6345,       4268,  1498.2,   2.8663,  34.5814,2,-999.0000,9,   188.7,2
   06MT15_1,       AR15,      53,         51,        276,          9,2,19910113,       1445,   -31.0825,   -39.6345,       4268,  1805.0,   3.0172,  34.7615,2,-999.0000,9,   205.2,2
   06MT15_1,       AR15,      53,         51,        275,          7,2,19910113,       1445,   -31.0825,   -39.6345,       4268,  2513.2,   3.1022,  34.9264,2,  34.9300,2,   246.2,2
   06MT15_1,       AR15,      53,         51,        274,          5,2,19910113,       1445,   -31.0825,   -39.6345,       4268,  2787.3,   2.9443,  34.9282,2,  34.9260,2,   247.2,2
   06MT15_1,       AR15,      53,         51,        273,          3,2,19910113,       1445,   -31.0825,   -39.6345,       4268,  3207.1,   2.6925,  34.9166,2,  34.9150,2,   248.9,2
   06MT15_1,       AR15,      53,         51,        272,          1,2,19910113,       1445,   -31.0825,   -39.6345,       4268,  4329.8,   0.1582,  34.6739,2,  34.6730,2,   219.6,2
   06MT15_1,       AR15,      56,         52,        288,         11,2,19910115,       1847,   -24.4665,   -42.6330,       1549,    21.1,  25.8485,  36.8879,2,  36.8830,2,  -999.0,9
   06MT15_1,       AR15,      56,         52,        289,         13,2,19910115,       1847,   -24.4665,   -42.6330,       1549,    21.1,  25.8485,  36.8879,2,-999.0000,9,  -999.0,9
   06MT15_1,       AR15,      56,         52,        287,          9,2,19910115,       1847,   -24.4665,   -42.6330,       1549,    96.0,  20.4224,  36.4098,2,-999.0000,9,  -999.0,9
   06MT15_1,       AR15,      56,         52,        286,          7,2,19910115,       1847,   -24.4665,   -42.6330,       1549,   495.5,   9.2276,  34.7345,2,-999.0000,9,  -999.0,9
   06MT15_1,       AR15,      56,         52,        285,          5,2,19910115,       1847,   -24.4665,   -42.6330,       1549,   994.3,   3.6387,  34.3800,2,-999.0000,9,  -999.0,9
   06MT15_1,       AR15,      56,         52,        283,          1,2,19910115,       1847,   -24.4665,   -42.6330,       1549,  1515.6,   3.6687,  34.7575,2,-999.0000,9,  -999.0,9
   06MT15_1,       AR15,      56,         52,        284,          3,2,19910115,       1847,   -24.4665,   -42.6330,       1549,  1515.6,   3.6687,  34.7575,2,-999.0000,9,  -999.0,9
   06MT15_2,       AR15,      61,         57,        293,         11,2,19910119,       1110,   -23.7967,   -41.3683,        963,    16.5,  25.3068,  36.7399,2,  36.7390,2,   213.1,2
   06MT15_2,       AR15,      61,         57,        292,          5,2,19910119,       1110,   -23.7967,   -41.3683,        963,   494.8,   9.8949,  34.8096,2,-999.0000,9,   204.0,2
   06MT15_2,       AR15,      61,         57,        291,          3,2,19910119,       1110,   -23.7967,   -41.3683,        963,   955.9,   4.0113,  34.3461,2,-999.0000,9,  -999.0,9
   06MT15_2,       AR15,      61,         57,        290,          1,2,19910119,       1110,   -23.7967,   -41.3683,        963,   956.0,   4.0143,  34.3430,2,-999.0000,9,   211.2,2