BOTTLE,20211117CCHSIORKP
EXPOCODE,SECT_ID,STNNBR,CASTNO,SAMPNO,BTLNBR,BTLNBR_FLAG_W,DATE,TIME,LATITUDE,LONGITUDE,DEPTH,CTDPRS,CTDTMP,CTDSAL,CTDSAL_FLAG_W,SALNTY,SALNTY_FLAG_W,OXYGEN,OXYGEN_FLAG_W
,,,,,,,,,,,METERS,DBAR,ITS-90,PSS-78,,PSS-78,,UMOL/KG,
   06MT15_2,       AR15,      62,         58,        303,         21,2,19910119,       1359,   -23.9132,   -41.3017,       1417,    16.1,  25.1409,  36.7510,2,  36.7460,2,   215.3,2
   06MT15_2,       AR15,      62,         58,        304,         23,2,19910119,       1359,   -23.9132,   -41.3017,       1417,    16.1,  25.1409,  36.7510,2,-999.0000,9,  -999.0,9
   06MT15_2,       AR15,      62,         58,        301,         17,2,19910119,       1359,   -23.9132,   -41.3017,       1417,    96.3,  21.3277,  36.5711,2,-999.0000,9,   225.0,2
   06MT15_2,       AR15,      62,         58,        302,         19,2,19910119,       1359,   -23.9132,   -41.3017,       1417,    96.3,  21.3277,  36.5711,2,-999.0000,9,  -999.0,9
   06MT15_2,       AR15,      62,         58,        299,         13,2,19910119,       1359,   -23.9132,   -41.3017,       1417,   494.0,   9.7691,  34.7947,2,-999.0000,9,   198.8,2
   06MT15_2,       AR15,      62,         58,        300,         15,2,19910119,       1359,   -23.9132,   -41.3017,       1417,   494.0,   9.7691,  34.7947,2,-999.0000,9,  -999.0,9
   06MT15_2,       AR15,      62,         58,        297,          9,2,19910119,       1359,   -23.9132,   -41.3017,       1417,   993.7,   3.7426,  34.3641,2,-999.0000,9,   202.5,2
   06MT15_2,       AR15,      62,         58,        298,         11,2,19910119,       1359,   -23.9132,   -41.3017,       1417,   993.7,   3.7426,  34.3641,2,-999.0000,9,  -999.0,9
   06MT15_2,       AR15,      62,         58,        915,          1,2,19910119,       1359,   -23.9132,   -41.3017,       1417,  1399.9,   3.3539,  34.5493,2,-999.0000,9,   190.5,2
   06MT15_2,       AR15,      62,         58,        294,          3,2,19910119,       1359,   -23.9132,   -41.3017,       1417,  1399.9,   3.3539,  34.5493,2,-999.0000,9,  -999.0,9
   06MT15_2,       AR15,      62,         58,        295,          5,2,19910119,       1359,   -23.9132,   -41.3017,       1417,  1399.9,   3.3539,  34.5493,2,-999.0000,9,  -999.0,9
   06MT15_2,       AR15,      62,         58,        296,          7,2,19910119,       1359,   -23.9132,   -41.3017,       1417,  1399.9,   3.3539,  34.5493,2,-999.0000,9,   190.9,2
   06MT15_2,       AR15,      63,         59,        314,         21,2,19910119,       1506,   -24.0500,   -41.2500,       2019,     6.3,  25.2489,  36.7699,2,  36.7690,2,   209.7,2
   06MT15_2,       AR15,      63,         59,        315,         23,2,19910119,       1506,   -24.0500,   -41.2500,       2019,     6.7,  25.2619,  36.7667,2,  36.7680,2,   209.2,2
   06MT15_2,       AR15,      63,         59,        313,         19,2,19910119,       1506,   -24.0500,   -41.2500,       2019,    95.9,  21.8183,  36.6843,2,-999.0000,9,   215.9,2
   06MT15_2,       AR15,      63,         59,        312,         17,2,19910119,       1506,   -24.0500,   -41.2500,       2019,   196.4,  16.5142,  35.6983,2,-999.0000,9,   202.6,2
   06MT15_2,       AR15,      63,         59,        311,         15,2,19910119,       1506,   -24.0500,   -41.2500,       2019,   347.7,  13.5385,  35.3284,2,-999.0000,9,   210.3,2
   06MT15_2,       AR15,      63,         59,        310,         13,2,19910119,       1506,   -24.0500,   -41.2500,       2019,   538.1,   9.0089,  34.7083,2,-999.0000,9,   198.3,2
   06MT15_2,       AR15,      63,         59,        309,         11,2,19910119,       1506,   -24.0500,   -41.2500,       2019,   816.8,   4.6837,  34.3360,2,-999.0000,9,   216.2,2
   06MT15_2,       AR15,      63,         59,        308,          9,2,19910119,       1506,   -24.0500,   -41.2500,       2019,  1090.3,   3.4718,  34.4089,2,-999.0000,9,   194.7,2
   06MT15_2,       AR15,      63,         59,        307,          7,2,19910119,       1506,   -24.0500,   -41.2500,       2019,  1391.4,   3.6197,  34.6883,2,-999.0000,9,   193.9,2
   06MT15_2,       AR15,      63,         59,        306,          5,2,19910119,       1506,   -24.0500,   -41.2500,       2019,  1791.1,   3.7756,  34.8907,2,-999.0000,9,   223.3,2
   06MT15_2,       AR15,      63,         59,        305,          1,2,19910119,       1506,   -24.0500,   -41.2500,       2019,  2023.0,   3.6677,  34.9276,2,-999.0000,9,   235.6,4
   06MT15_2,       AR15,      63,         59,        916,          3,2,19910119,       1506,   -24.0500,   -41.2500,       2019,  2023.0,   3.6677,  34.9276,2,  34.9240,2,   235.6,4
   06MT15_2,       AR15,      64,         60,        321,         13,2,19910119,       1815,   -24.2667,   -41.1167,       2400,    11.5,  24.8411,  36.6065,2,  36.5910,4,   215.3,2
   06MT15_2,       AR15,      64,         60,        322,         15,2,19910119,       1815,   -24.2667,   -41.1167,       2400,    11.5,  24.8411,  36.6065,2,  36.5980,4,   215.3,2
   06MT15_2,       AR15,      64,         60,        323,         23,2,19910119,       1815,   -24.2667,   -41.1167,       2400,    11.5,  24.8411,  36.6065,2,-999.0000,9,  -999.0,9
   06MT15_2,       AR15,      64,         60,        320,         11,2,19910119,       1815,   -24.2667,   -41.1167,       2400,    97.0,  21.5925,  36.6170,2,-999.0000,9,   221.1,2
   06MT15_2,       AR15,      64,         60,        319,          9,2,19910119,       1815,   -24.2667,   -41.1167,       2400,   494.7,   9.6032,  34.7761,2,-999.0000,9,   182.3,2
   06MT15_2,       AR15,      64,         60,        318,          7,2,19910119,       1815,   -24.2667,   -41.1167,       2400,   990.2,   3.6567,  34.3851,2,-999.0000,9,   196.9,2
   06MT15_2,       AR15,      64,         60,        316,          3,2,19910119,       1815,   -24.2667,   -41.1167,       2400,  1995.6,   3.5957,  34.9475,2,  34.9470,2,   243.8,2
   06MT15_2,       AR15,      64,         60,        917,          5,2,19910119,       1815,   -24.2667,   -41.1167,       2400,  1995.6,   3.5957,  34.9475,2,-999.0000,9,  -999.0,9
   06MT15_2,       AR15,      64,         60,        317,          1,2,19910119,       1815,   -24.2667,   -41.1167,       2400,  2388.7,   2.9113,  34.9291,2,  34.9280,2,   249.8,2
   06MT15_2,       AR15,      65,         61,        330,         24,2,19910119,       2215,   -24.4983,   -40.9700,       2674,    17.4,  24.9411,  36.6206,2,  36.5760,4,   211.4,2
   06MT15_2,       AR15,      65,         61,        329,         23,2,19910119,       2215,   -24.4983,   -40.9700,       2674,    96.8,  20.6802,  36.4187,2,-999.0000,9,  -999.0,9
   06MT15_2,       AR15,      65,         61,        919,         22,2,19910119,       2215,   -24.4983,   -40.9700,       2674,   245.6,  15.4890,  35.5467,2,-999.0000,9,  -999.0,9
   06MT15_2,       AR15,      65,         61,        328,         21,2,19910119,       2215,   -24.4983,   -40.9700,       2674,   493.8,  10.1067,  34.8353,2,-999.0000,9,  -999.0,9
   06MT15_2,       AR15,      65,         61,        327,         20,2,19910119,       2215,   -24.4983,   -40.9700,       2674,   793.4,   4.9244,  34.3532,2,-999.0000,9,   211.0,2
   06MT15_2,       AR15,      65,         61,        326,         19,2,19910119,       2215,   -24.4983,   -40.9700,       2674,  1493.1,   3.6617,  34.7880,2,-999.0000,9,   204.6,2
   06MT15_2,       AR15,      65,         61,        325,         18,2,19910119,       2215,   -24.4983,   -40.9700,       2674,  1991.9,   3.5678,  34.9549,2,-999.0000,9,   247.2,2
   06MT15_2,       AR15,      65,         61,        918,         17,2,19910119,       2215,   -24.4983,   -40.9700,       2674,  2295.4,   3.2920,  34.9505,2,-999.0000,9,  -999.0,9
   06MT15_2,       AR15,      65,         61,        324,          1,2,19910119,       2215,   -24.4983,   -40.9700,       2674,  2662.2,   2.6785,  34.9163,2,  34.9160,2,   251.6,2
   06MT15_2,       AR15,      66,         62,        340,         24,2,19910120,       0522,   -25.3172,   -40.5515,       3178,    17.4,  24.4854,  36.4788,2,  36.4760,2,   206.6,4
   06MT15_2,       AR15,      66,         62,        339,         23,2,19910120,       0522,   -25.3172,   -40.5515,       3178,    91.1,  21.3237,  36.5974,2,-999.0000,9,  -999.0,9
   06MT15_2,       AR15,      66,         62,        338,         22,2,19910120,       0522,   -25.3172,   -40.5515,       3178,   245.1,  14.7316,  35.4238,2,-999.0000,9,   204.3,2
   06MT15_2,       AR15,      66,         62,        337,         21,2,19910120,       0522,   -25.3172,   -40.5515,       3178,   490.0,  10.0608,  34.8280,2,-999.0000,9,   202.2,2
   06MT15_2,       AR15,      66,         62,        336,         20,2,19910120,       0522,   -25.3172,   -40.5515,       3178,   792.0,   4.8375,  34.3367,2,-999.0000,9,   217.5,2
   06MT15_2,       AR15,      66,         62,        335,         19,2,19910120,       0522,   -25.3172,   -40.5515,       3178,  1490.6,   3.6177,  34.7866,2,-999.0000,9,   204.6,2
   06MT15_2,       AR15,      66,         62,        334,         18,2,19910120,       0522,   -25.3172,   -40.5515,       3178,  1991.5,   3.5608,  34.9492,2,-999.0000,9,   245.1,2
   06MT15_2,       AR15,      66,         62,        333,         17,2,19910120,       0522,   -25.3172,   -40.5515,       3178,  2293.1,   3.3140,  34.9507,2,  34.9490,2,   242.6,2
   06MT15_2,       AR15,      66,         62,        331,          1,2,19910120,       0522,   -25.3172,   -40.5515,       3178,  3156.4,   2.6555,  34.9118,2,  34.9120,2,   235.7,2
   06MT15_2,       AR15,      66,         62,        332,          2,2,19910120,       0522,   -25.3172,   -40.5515,       3178,  3156.4,   2.6555,  34.9118,2,  34.9110,2,   225.0,4
   06MT15_2,       AR15,      67,         63,        347,         20,2,19910120,       1525,   -26.5840,   -39.7500,       4279,    21.0,  23.9557,  36.2506,2,  36.2930,4,   213.1,2
   06MT15_2,       AR15,      67,         63,        348,         23,2,19910120,       1525,   -26.5840,   -39.7500,       4279,    21.0,  23.9557,  36.2506,2,-999.0000,9,  -999.0,9
   06MT15_2,       AR15,      67,         63,        346,         19,2,19910120,       1525,   -26.5840,   -39.7500,       4279,    95.6,  20.4184,  36.3846,2,-999.0000,9,   221.5,2
   06MT15_2,       AR15,      67,         63,        345,         18,2,19910120,       1525,   -26.5840,   -39.7500,       4279,   486.7,  10.5353,  34.8837,2,-999.0000,9,   198.8,2
   06MT15_2,       AR15,      67,         63,        344,         17,2,19910120,       1525,   -26.5840,   -39.7500,       4279,   890.4,   4.1962,  34.3038,2,-999.0000,9,   222.1,2
   06MT15_2,       AR15,      67,         63,        343,         16,2,19910120,       1525,   -26.5840,   -39.7500,       4279,  1389.3,   3.1012,  34.6113,2,-999.0000,9,   190.5,2
   06MT15_2,       AR15,      67,         63,        342,         15,2,19910120,       1525,   -26.5840,   -39.7500,       4279,  2388.1,   3.1831,  34.9455,2,  34.9440,2,   251.5,2
   06MT15_2,       AR15,      67,         63,        341,         14,2,19910120,       1525,   -26.5840,   -39.7500,       4279,  3540.8,   1.9609,  34.8487,2,  34.8500,2,   243.0,2
   06MT15_2,       AR15,      67,         63,        920,         13,2,19910120,       1525,   -26.5840,   -39.7500,       4279,  4350.1,   0.4753,  34.7180,2,  34.6940,4,   217.8,2
   06MT15_2,       AR15,      68,         64,        368,         24,2,19910121,       0348,   -27.9167,   -38.8350,       4243,    22.7,  23.6480,  35.9448,2,  35.9480,2,  -999.0,9
   06MT15_2,       AR15,      68,         64,        367,         23,2,19910121,       0348,   -27.9167,   -38.8350,       4243,    52.8,  21.8963,  36.5922,2,-999.0000,9,  -999.0,9
   06MT15_2,       AR15,      68,         64,        366,         22,2,19910121,       0348,   -27.9167,   -38.8350,       4243,    92.6,  20.5873,  36.4052,2,-999.0000,9,  -999.0,9
   06MT15_2,       AR15,      68,         64,        365,         21,2,19910121,       0348,   -27.9167,   -38.8350,       4243,   187.7,  17.3117,  35.8096,2,-999.0000,9,  -999.0,9
   06MT15_2,       AR15,      68,         64,        364,         20,2,19910121,       0348,   -27.9167,   -38.8350,       4243,   289.9,  14.6457,  35.4284,2,-999.0000,9,  -999.0,9
   06MT15_2,       AR15,      68,         64,        363,         19,2,19910121,       0348,   -27.9167,   -38.8350,       4243,   393.3,  13.2728,  35.2909,2,-999.0000,9,  -999.0,9
   06MT15_2,       AR15,      68,         64,        362,         18,2,19910121,       0348,   -27.9167,   -38.8350,       4243,   493.4,  11.2266,  34.9860,2,-999.0000,9,   205.7,2
   06MT15_2,       AR15,      68,         64,        922,         17,2,19910121,       0348,   -27.9167,   -38.8350,       4243,   591.5,   8.7272,  34.6725,2,-999.0000,9,  -999.0,9
   06MT15_2,       AR15,      68,         64,        361,         16,2,19910121,       0348,   -27.9167,   -38.8350,       4243,   691.0,   6.8343,  34.4769,2,-999.0000,9,  -999.0,9
   06MT15_2,       AR15,      68,         64,        360,         15,2,19910121,       0348,   -27.9167,   -38.8350,       4243,   789.4,   5.3540,  34.3525,2,-999.0000,9,   224.0,2
   06MT15_2,       AR15,      68,         64,        359,         14,2,19910121,       0348,   -27.9167,   -38.8350,       4243,   887.3,   4.3230,  34.3087,2,-999.0000,9,   192.3,4
   06MT15_2,       AR15,      68,         64,        358,         13,2,19910121,       0348,   -27.9167,   -38.8350,       4243,  1090.5,   3.4788,  34.3539,2,-999.0000,9,   199.0,2
   06MT15_2,       AR15,      68,         64,        357,         12,2,19910121,       0348,   -27.9167,   -38.8350,       4243,  1491.3,   2.9852,  34.6369,2,-999.0000,9,  -999.0,9
   06MT15_2,       AR15,      68,         64,        356,         11,2,19910121,       0348,   -27.9167,   -38.8350,       4243,  1777.4,   3.3350,  34.8416,2,-999.0000,9,  -999.0,9
   06MT15_2,       AR15,      68,         64,        355,         10,2,19910121,       0348,   -27.9167,   -38.8350,       4243,  1995.0,   3.2700,  34.8886,2,-999.0000,9,  -999.0,9
   06MT15_2,       AR15,      68,         64,        354,          9,2,19910121,       0348,   -27.9167,   -38.8350,       4243,  2268.2,   3.1881,  34.9765,2,  34.9280,4,   216.4,4
   06MT15_2,       AR15,      68,         64,        353,          8,2,19910121,       0348,   -27.9167,   -38.8350,       4243,  2453.6,   3.1931,  34.9437,2,-999.0000,9,   249.7,2
   06MT15_2,       AR15,      68,         64,        921,          7,2,19910121,       0348,   -27.9167,   -38.8350,       4243,  2992.4,   2.8404,  34.9245,2,  34.9240,2,   249.6,2
   06MT15_2,       AR15,      68,         64,        351,          6,2,19910121,       0348,   -27.9167,   -38.8350,       4243,  3171.2,   2.7015,  34.9163,2,-999.0000,9,   250.7,2
   06MT15_2,       AR15,      68,         64,        352,          3,2,19910121,       0348,   -27.9167,   -38.8350,       4243,  3796.2,   1.0293,  34.7481,2,-999.0000,9,   223.5,2
   06MT15_2,       AR15,      68,         64,        350,          2,2,19910121,       0348,   -27.9167,   -38.8350,       4243,  3989.6,   0.7573,  34.7190,2,  34.7180,2,   220.3,2
   06MT15_2,       AR15,      68,         64,        349,          1,2,19910121,       0348,   -27.9167,   -38.8350,       4243,  4308.4,   0.3493,  34.6823,2,  34.6820,2,   218.7,2
   06MT15_2,       AR15,      69,         65,        387,         22,2,19910121,       1412,   -29.1333,   -38.9983,       4686,    15.2,  23.7959,  36.2815,2,  36.2830,2,   219.2,2
   06MT15_2,       AR15,      69,         65,        388,         23,2,19910121,       1412,   -29.1333,   -38.9983,       4686,    15.3,  23.7999,  36.2813,2,-999.0000,9,  -999.0,9
   06MT15_2,       AR15,      69,         65,        386,         21,2,19910121,       1412,   -29.1333,   -38.9983,       4686,    95.6,  18.9005,  36.1563,2,-999.0000,9,  -999.0,9
   06MT15_2,       AR15,      69,         65,        385,         20,2,19910121,       1412,   -29.1333,   -38.9983,       4686,   192.6,  15.7288,  35.5726,2,-999.0000,9,  -999.0,9
   06MT15_2,       AR15,      69,         65,        384,         19,2,19910121,       1412,   -29.1333,   -38.9983,       4686,   282.3,  14.2520,  35.4254,2,-999.0000,9,  -999.0,9
   06MT15_2,       AR15,      69,         65,        383,         18,2,19910121,       1412,   -29.1333,   -38.9983,       4686,   386.6,  12.6703,  35.2049,2,-999.0000,9,  -999.0,9
   06MT15_2,       AR15,      69,         65,        382,         17,2,19910121,       1412,   -29.1333,   -38.9983,       4686,   486.3,  10.6402,  34.9163,2,-999.0000,9,   209.6,2
   06MT15_2,       AR15,      69,         65,        381,         16,2,19910121,       1412,   -29.1333,   -38.9983,       4686,   585.9,   8.0379,  34.6000,2,-999.0000,9,  -999.0,9
   06MT15_2,       AR15,      69,         65,        924,         15,2,19910121,       1412,   -29.1333,   -38.9983,       4686,   688.1,   6.3089,  34.4237,2,-999.0000,9,  -999.0,9
   06MT15_2,       AR15,      69,         65,        380,         14,2,19910121,       1412,   -29.1333,   -38.9983,       4686,   790.1,   5.0912,  34.3271,2,-999.0000,9,  -999.0,9
   06MT15_2,       AR15,      69,         65,        379,         13,2,19910121,       1412,   -29.1333,   -38.9983,       4686,   882.3,   4.4199,  34.3010,2,-999.0000,9,  -999.0,9
   06MT15_2,       AR15,      69,         65,        378,         12,2,19910121,       1412,   -29.1333,   -38.9983,       4686,   998.1,   3.7286,  34.3146,2,-999.0000,9,   216.8,2
   06MT15_2,       AR15,      69,         65,        377,         11,2,19910121,       1412,   -29.1333,   -38.9983,       4686,  1236.1,   3.1921,  34.4673,2,-999.0000,9,  -999.0,9
   06MT15_2,       AR15,      69,         65,        376,         10,2,19910121,       1412,   -29.1333,   -38.9983,       4686,  1486.2,   2.9802,  34.6240,2,-999.0000,9,   193.8,2
   06MT15_2,       AR15,      69,         65,        375,          9,2,19910121,       1412,   -29.1333,   -38.9983,       4686,  1987.2,   3.3190,  34.8893,2,-999.0000,9,  -999.0,9
   06MT15_2,       AR15,      69,         65,        374,          8,2,19910121,       1412,   -29.1333,   -38.9983,       4686,  2774.1,   2.9912,  34.9327,2,  34.9360,2,   250.2,2
   06MT15_2,       AR15,      69,         65,        373,          7,2,19910121,       1412,   -29.1333,   -38.9983,       4686,  3194.8,   2.7005,  34.9163,2,-999.0000,9,  -999.0,9
   06MT15_2,       AR15,      69,         65,        372,          6,2,19910121,       1412,   -29.1333,   -38.9983,       4686,  3391.5,   2.5256,  34.9007,2,-999.0000,9,  -999.0,9
   06MT15_2,       AR15,      69,         65,        371,          5,2,19910121,       1412,   -29.1333,   -38.9983,       4686,  3597.2,   2.2008,  34.8716,2,-999.0000,9,  -999.0,9
   06MT15_2,       AR15,      69,         65,        923,          4,2,19910121,       1412,   -29.1333,   -38.9983,       4686,  3791.4,   1.7790,  34.8271,2,  34.8260,2,   238.0,2
   06MT15_2,       AR15,      69,         65,        369,          1,2,19910121,       1412,   -29.1333,   -38.9983,       4686,  4841.1,   0.2603,  34.6739,2,  34.6750,2,  -999.0,9
   06MT15_2,       AR15,      69,         65,        370,          2,2,19910121,       1412,   -29.1333,   -38.9983,       4686,  4841.1,   0.2603,  34.6739,2,-999.0000,9,   219.5,2