BOTTLE,20211117CCHSIORKP
EXPOCODE,SECT_ID,STNNBR,CASTNO,SAMPNO,BTLNBR,BTLNBR_FLAG_W,DATE,TIME,LATITUDE,LONGITUDE,DEPTH,CTDPRS,CTDTMP,CTDSAL,CTDSAL_FLAG_W,SALNTY,SALNTY_FLAG_W,OXYGEN,OXYGEN_FLAG_W
,,,,,,,,,,,METERS,DBAR,ITS-90,PSS-78,,PSS-78,,UMOL/KG,
   06MT15_1,       AR15,      15,         15,        100,         15,2,19910104,       0106,   -28.4498,   -44.6350,       3596,    29.1,  23.4831,  36.7030,2,  36.7041,2,   216.9,2
   06MT15_1,       AR15,      15,         15,        101,         17,2,19910104,       0106,   -28.4498,   -44.6350,       3596,    29.1,  23.4831,  36.7030,2,  36.7031,2,   217.8,2
   06MT15_1,       AR15,      15,         15,        893,         13,2,19910104,       0106,   -28.4498,   -44.6350,       3596,    96.0,  20.7671,  36.5034,2,-999.0000,9,   218.1,2
   06MT15_1,       AR15,      15,         15,         99,         11,2,19910104,       0106,   -28.4498,   -44.6350,       3596,   493.5,  10.5463,  34.8863,2,-999.0000,9,   202.3,2
   06MT15_1,       AR15,      15,         15,         98,          9,2,19910104,       0106,   -28.4498,   -44.6350,       3596,   990.5,   3.8695,  34.3225,2,-999.0000,9,   215.5,2
   06MT15_1,       AR15,      15,         15,         97,          7,2,19910104,       0106,   -28.4498,   -44.6350,       3596,  1990.0,   3.5318,  34.9176,2,-999.0000,9,   236.5,2
   06MT15_1,       AR15,      15,         15,         96,          5,2,19910104,       0106,   -28.4498,   -44.6350,       3596,  2994.3,   2.7814,  34.9179,2,  34.9151,2,   250.0,2
   06MT15_1,       AR15,      15,         15,        892,          1,2,19910104,       0106,   -28.4498,   -44.6350,       3596,  3597.6,   0.7783,  34.7193,2,  34.7191,2,   220.7,2
   06MT15_1,       AR15,      15,         15,         95,          3,2,19910104,       0106,   -28.4498,   -44.6350,       3596,  3597.6,   0.7783,  34.7193,2,  34.7191,2,   219.8,2
   06MT15_1,       AR15,      16,         16,        108,         15,2,19910104,       0520,   -28.4835,   -44.4833,       3634,    25.5,  23.6570,  36.7114,2,  36.7149,2,   214.8,2
   06MT15_1,       AR15,      16,         16,        109,         17,2,19910104,       0520,   -28.4835,   -44.4833,       3634,    25.5,  23.6570,  36.7114,2,  36.7109,2,  -999.0,9
   06MT15_1,       AR15,      16,         16,        107,         13,2,19910104,       0520,   -28.4835,   -44.4833,       3634,    96.8,  20.8571,  36.5048,2,-999.0000,9,   219.8,2
   06MT15_1,       AR15,      16,         16,        894,         11,2,19910104,       0520,   -28.4835,   -44.4833,       3634,   492.7,  10.9778,  34.9412,2,-999.0000,9,  -999.0,9
   06MT15_1,       AR15,      16,         16,        106,          9,2,19910104,       0520,   -28.4835,   -44.4833,       3634,   987.4,   3.9314,  34.3191,2,-999.0000,9,  -999.0,9
   06MT15_1,       AR15,      16,         16,        105,          7,2,19910104,       0520,   -28.4835,   -44.4833,       3634,  1991.1,   3.5228,  34.9174,2,-999.0000,9,   236.0,2
   06MT15_1,       AR15,      16,         16,        104,          5,2,19910104,       0520,   -28.4835,   -44.4833,       3634,  2992.4,   2.8084,  34.9206,2,  34.9179,2,   249.2,2
   06MT15_1,       AR15,      16,         16,        102,          1,2,19910104,       0520,   -28.4835,   -44.4833,       3634,  3674.6,   0.5233,  34.6949,2,  34.6959,2,   218.5,2
   06MT15_1,       AR15,      16,         16,        103,          3,2,19910104,       0520,   -28.4835,   -44.4833,       3634,  3674.6,   0.5233,  34.6949,2,  34.6949,2,   218.0,2
   06MT15_1,       AR15,      17,         17,        116,         15,2,19910104,       1736,   -28.6167,   -44.2380,       3699,    25.3,  24.5303,  36.8158,2,  36.8188,2,   215.2,2
   06MT15_1,       AR15,      17,         17,        117,         17,2,19910104,       1736,   -28.6167,   -44.2380,       3699,    25.3,  24.5303,  36.8158,2,  36.8218,2,  -999.0,9
   06MT15_1,       AR15,      17,         17,        118,         23,2,19910104,       1736,   -28.6167,   -44.2380,       3699,    25.3,  24.5303,  36.8158,2,-999.0000,9,  -999.0,9
   06MT15_1,       AR15,      17,         17,        895,         13,2,19910104,       1736,   -28.6167,   -44.2380,       3699,    96.9,  20.1536,  36.3651,2,-999.0000,9,  -999.0,9
   06MT15_1,       AR15,      17,         17,        115,         11,2,19910104,       1736,   -28.6167,   -44.2380,       3699,   491.3,  10.8320,  34.9238,2,-999.0000,9,  -999.0,9
   06MT15_1,       AR15,      17,         17,        114,          9,2,19910104,       1736,   -28.6167,   -44.2380,       3699,   991.1,   3.8855,  34.3346,2,-999.0000,9,   208.6,2
   06MT15_1,       AR15,      17,         17,        113,          7,2,19910104,       1736,   -28.6167,   -44.2380,       3699,  1991.7,   3.5718,  34.9216,2,-999.0000,9,   236.5,2
   06MT15_1,       AR15,      17,         17,        112,          5,2,19910104,       1736,   -28.6167,   -44.2380,       3699,  3111.6,   3.0002,-999.0000,9,  34.9208,2,  -999.0,9
   06MT15_1,       AR15,      17,         17,        110,          1,2,19910104,       1736,   -28.6167,   -44.2380,       3699,  3733.6,   0.4703,  34.6934,2,  34.6928,2,   217.1,2
   06MT15_1,       AR15,      17,         17,        111,          3,2,19910104,       1736,   -28.6167,   -44.2380,       3699,  3733.6,   0.4703,  34.6934,2,  34.6968,2,   218.4,2
   06MT15_1,       AR15,      18,         18,        896,         23,2,19910104,       2315,   -28.7733,   -44.0017,       3772,    18.4,  25.1329,  36.4483,2,  36.9037,4,  -999.0,9
   06MT15_1,       AR15,      18,         18,        124,         11,2,19910104,       2315,   -28.7733,   -44.0017,       3772,    19.2,  24.7732,  36.8971,2,  36.9017,2,   213.1,4
   06MT15_1,       AR15,      18,         18,        123,          9,2,19910104,       2315,   -28.7733,   -44.0017,       3772,    96.3,  21.0459,  36.5569,2,-999.0000,9,   202.0,2
   06MT15_1,       AR15,      18,         18,        122,          7,2,19910104,       2315,   -28.7733,   -44.0017,       3772,   493.3,  10.8540,  34.9323,2,-999.0000,9,   201.8,2
   06MT15_1,       AR15,      18,         18,        121,          5,2,19910104,       2315,   -28.7733,   -44.0017,       3772,   990.2,   3.9474,  34.3607,2,-999.0000,9,   237.6,4
   06MT15_1,       AR15,      18,         18,        120,          3,2,19910104,       2315,   -28.7733,   -44.0017,       3772,  1986.9,   3.7796,  34.9372,2,-999.0000,9,   236.5,2
   06MT15_1,       AR15,      18,         18,        119,          1,2,19910104,       2315,   -28.7733,   -44.0017,       3772,  3811.3,   0.4703,  34.6920,2,  34.6927,2,   217.9,2
   06MT15_1,       AR15,      19,         19,        132,         15,2,19910105,       0332,   -28.8350,   -43.7570,       3805,    26.7,  24.8102,  36.9613,2,  36.9605,2,   210.9,2
   06MT15_1,       AR15,      19,         19,        133,         23,2,19910105,       0332,   -28.8350,   -43.7570,       3805,    26.7,  24.8102,  36.9613,2,-999.0000,9,  -999.0,9
   06MT15_1,       AR15,      19,         19,        131,         13,2,19910105,       0332,   -28.8350,   -43.7570,       3805,    95.8,  21.1318,  36.4918,2,-999.0000,9,   224.2,2
   06MT15_1,       AR15,      19,         19,        130,         11,2,19910105,       0332,   -28.8350,   -43.7570,       3805,   494.4,  10.9569,  34.9462,2,-999.0000,9,   201.8,2
   06MT15_1,       AR15,      19,         19,        129,          9,2,19910105,       0332,   -28.8350,   -43.7570,       3805,   993.8,   3.8925,  34.3254,2,-999.0000,9,   207.8,2
   06MT15_1,       AR15,      19,         19,        128,          7,2,19910105,       0332,   -28.8350,   -43.7570,       3805,  1991.6,   3.6976,  34.9210,2,  34.9165,2,   233.5,2
   06MT15_1,       AR15,      19,         19,        127,          5,2,19910105,       0332,   -28.8350,   -43.7570,       3805,  2996.4,   2.8074,  34.9208,2,  34.9165,2,   249.6,2
   06MT15_1,       AR15,      19,         19,        125,          1,2,19910105,       0332,   -28.8350,   -43.7570,       3805,  3845.5,   0.4043,  34.6854,2,  34.6855,2,   218.7,2
   06MT15_1,       AR15,      19,         19,        126,          3,2,19910105,       0332,   -28.8350,   -43.7570,       3805,  3845.5,   0.4043,  34.6854,2,  34.6855,2,   217.9,2
   06MT15_1,       AR15,      20,         20,        140,         15,2,19910105,       1551,   -29.0478,   -43.5172,       3922,    23.5,  24.7362,  36.9121,2,  36.9114,2,   211.3,2
   06MT15_1,       AR15,      20,         20,        139,         13,2,19910105,       1551,   -29.0478,   -43.5172,       3922,    93.3,  21.5146,  36.5861,2,-999.0000,9,   222.0,2
   06MT15_1,       AR15,      20,         20,        138,         11,2,19910105,       1551,   -29.0478,   -43.5172,       3922,   494.2,  11.2466,  34.9880,2,-999.0000,9,   205.3,2
   06MT15_1,       AR15,      20,         20,        137,          9,2,19910105,       1551,   -29.0478,   -43.5172,       3922,   994.3,   3.8425,  34.3313,2,-999.0000,9,  -999.0,9
   06MT15_1,       AR15,      20,         20,        136,          7,2,19910105,       1551,   -29.0478,   -43.5172,       3922,  1988.7,   3.5608,  34.9106,2,-999.0000,9,   233.5,2
   06MT15_1,       AR15,      20,         20,        135,          5,2,19910105,       1551,   -29.0478,   -43.5172,       3922,  2993.4,   2.8663,  34.9248,2,  34.9194,2,  -999.0,9
   06MT15_1,       AR15,      20,         20,        134,          1,2,19910105,       1551,   -29.0478,   -43.5172,       3922,  3988.7,   0.3993,  34.6851,2,  34.6834,2,   217.3,2
   06MT15_1,       AR15,      20,         20,        897,          3,2,19910105,       1551,   -29.0478,   -43.5172,       3922,  3988.7,   0.3993,  34.6851,2,  34.6844,2,   217.3,2
   06MT15_1,       AR15,      21,         21,        147,         15,2,19910105,       1957,   -29.1745,   -43.3148,       4020,    28.5,  23.7979,  36.7010,2,-999.0000,9,  -999.0,9
   06MT15_1,       AR15,      21,         21,        146,         13,2,19910105,       1957,   -29.1745,   -43.3148,       4020,    97.3,  20.5533,  36.4360,2,-999.0000,9,   224.1,2
   06MT15_1,       AR15,      21,         21,        145,         11,2,19910105,       1957,   -29.1745,   -43.3148,       4020,   462.2,  12.1278,  35.1167,2,-999.0000,9,   207.9,2
   06MT15_1,       AR15,      21,         21,        144,          9,2,19910105,       1957,   -29.1745,   -43.3148,       4020,   989.5,   3.7896,  34.3168,2,-999.0000,9,   214.7,2
   06MT15_1,       AR15,      21,         21,        143,          7,2,19910105,       1957,   -29.1745,   -43.3148,       4020,  1996.2,   3.5368,  34.9100,2,  34.9053,2,   232.6,2
   06MT15_1,       AR15,      21,         21,        142,          5,2,19910105,       1957,   -29.1745,   -43.3148,       4020,  2997.6,   2.9023,  34.9247,2,  34.9233,2,   250.0,2
   06MT15_1,       AR15,      21,         21,        141,          1,2,19910105,       1957,   -29.1745,   -43.3148,       4020,  4065.3,   0.4693,  34.6888,2,  34.6893,2,   218.5,2
   06MT15_1,       AR15,      21,         21,        898,          3,2,19910105,       1957,   -29.1745,   -43.3148,       4020,  4065.3,   0.4693,  34.6888,2,  34.6893,2,   217.7,2
   06MT15_1,       AR15,      22,         22,        153,         13,2,19910106,       0010,   -29.2898,   -43.1187,       4019,    27.9,  22.1411,  36.2299,2,  36.2211,4,   223.9,2
   06MT15_1,       AR15,      22,         22,        154,         15,2,19910106,       0010,   -29.2898,   -43.1187,       4019,    27.9,  22.1411,  36.2299,2,  36.2211,4,   224.8,2
   06MT15_1,       AR15,      22,         22,        152,         11,2,19910106,       0010,   -29.2898,   -43.1187,       4019,    96.3,  18.1700,  36.5367,2,-999.0000,9,   231.8,2
   06MT15_1,       AR15,      22,         22,        151,          9,2,19910106,       0010,   -29.2898,   -43.1187,       4019,   493.9,  10.8070,  34.9225,2,-999.0000,9,   204.0,2
   06MT15_1,       AR15,      22,         22,        899,          7,2,19910106,       0010,   -29.2898,   -43.1187,       4019,   988.8,   3.8555,  34.3104,2,-999.0000,9,   217.7,2
   06MT15_1,       AR15,      22,         22,        150,          5,2,19910106,       0010,   -29.2898,   -43.1187,       4019,  1988.3,   3.5698,  34.9089,2,-999.0000,9,   233.0,2
   06MT15_1,       AR15,      22,         22,        149,          3,2,19910106,       0010,   -29.2898,   -43.1187,       4019,  2992.1,   2.8853,  34.9262,2,  34.9201,2,   249.2,2
   06MT15_1,       AR15,      22,         22,        148,          1,2,19910106,       0010,   -29.2898,   -43.1187,       4019,  4069.2,   0.4583,  34.6917,2,  34.6871,2,   218.1,2
   06MT15_1,       AR15,      23,         23,        161,         15,2,19910106,       0450,   -29.4070,   -42.9175,       4021,    31.0,  22.4229,  36.2273,2,  36.2370,4,  -999.0,9
   06MT15_1,       AR15,      23,         23,        162,         17,2,19910106,       0450,   -29.4070,   -42.9175,       4021,    31.0,  22.4229,  36.2273,2,  36.2340,2,  -999.0,9
   06MT15_1,       AR15,      23,         23,        160,         13,2,19910106,       0450,   -29.4070,   -42.9175,       4021,    93.9,  18.8485,  36.1190,2,-999.0000,9,   223.2,2
   06MT15_1,       AR15,      23,         23,        159,         11,2,19910106,       0450,   -29.4070,   -42.9175,       4021,   492.5,  11.0448,  34.9600,2,-999.0000,9,   206.2,2
   06MT15_1,       AR15,      23,         23,        900,          9,2,19910106,       0450,   -29.4070,   -42.9175,       4021,   990.5,   3.9334,  34.3114,2,-999.0000,9,   215.5,2
   06MT15_1,       AR15,      23,         23,        158,          7,2,19910106,       0450,   -29.4070,   -42.9175,       4021,  1996.1,   3.4778,  34.8280,2,  34.9050,4,   232.2,2
   06MT15_1,       AR15,      23,         23,        157,          5,2,19910106,       0450,   -29.4070,   -42.9175,       4021,  2994.7,   2.8863,  34.9253,2,-999.0000,9,  -999.0,9
   06MT15_1,       AR15,      23,         23,        155,          1,2,19910106,       0450,   -29.4070,   -42.9175,       4021,  4075.6,   0.4543,  34.6922,2,  34.7000,3,   218.1,2
   06MT15_1,       AR15,      23,         23,        156,          3,2,19910106,       0450,   -29.4070,   -42.9175,       4021,  4075.6,   0.4543,  34.6922,2,  34.6990,2,   218.1,2
   06MT15_1,       AR15,      24,         24,        169,         15,2,19910106,       1644,   -29.5493,   -42.7065,       4022,    21.3,  22.4349,  36.2279,2,  36.2269,2,   223.5,2
   06MT15_1,       AR15,      24,         24,        170,         17,2,19910106,       1644,   -29.5493,   -42.7065,       4022,    21.3,  22.4349,  36.2279,2,  36.2259,2,  -999.0,9
   06MT15_1,       AR15,      24,         24,        168,         13,2,19910106,       1644,   -29.5493,   -42.7065,       4022,    94.2,  18.6387,  36.1025,2,-999.0000,9,   225.4,2
   06MT15_1,       AR15,      24,         24,        167,         11,2,19910106,       1644,   -29.5493,   -42.7065,       4022,   493.2,  10.5263,  34.8894,2,-999.0000,9,  -999.0,9
   06MT15_1,       AR15,      24,         24,        901,          9,2,19910106,       1644,   -29.5493,   -42.7065,       4022,   990.0,   3.8205,  34.3051,2,-999.0000,9,   219.9,2
   06MT15_1,       AR15,      24,         24,        166,          7,2,19910106,       1644,   -29.5493,   -42.7065,       4022,  1993.1,   3.4768,  34.9100,2,  34.9129,2,   236.5,2
   06MT15_1,       AR15,      24,         24,        165,          5,2,19910106,       1644,   -29.5493,   -42.7065,       4022,  2994.3,   2.8543,  34.9248,2,  34.9189,2,   249.6,2
   06MT15_1,       AR15,      24,         24,        163,          1,2,19910106,       1644,   -29.5493,   -42.7065,       4022,  4071.4,   0.4093,  34.6872,2,  34.6839,2,   217.2,2
   06MT15_1,       AR15,      24,         24,        164,          3,2,19910106,       1644,   -29.5493,   -42.7065,       4022,  4071.4,   0.4093,  34.6872,2,  34.6839,2,  -999.0,9
   06MT15_1,       AR15,      25,         25,        178,         17,2,19910106,       2034,   -29.6718,   -42.4723,       4020,    26.3,  22.2410,  36.2033,2,  36.1778,4,   221.3,3
   06MT15_1,       AR15,      25,         25,        177,         15,2,19910106,       2034,   -29.6718,   -42.4723,       4020,    91.8,  18.5767,  36.0918,2,-999.0000,9,   228.0,2
   06MT15_1,       AR15,      25,         25,        176,         13,2,19910106,       2034,   -29.6718,   -42.4723,       4020,   498.3,  10.1217,  34.8350,2,-999.0000,9,   200.5,2
   06MT15_1,       AR15,      25,         25,        175,         11,2,19910106,       2034,   -29.6718,   -42.4723,       4020,   990.4,   3.7676,  34.3210,2,-999.0000,9,  -999.0,9
   06MT15_1,       AR15,      25,         25,        902,          9,2,19910106,       2034,   -29.6718,   -42.4723,       4020,   990.5,   3.7556,  34.3204,2,-999.0000,9,   213.8,2
   06MT15_1,       AR15,      25,         25,        174,          7,2,19910106,       2034,   -29.6718,   -42.4723,       4020,  1992.4,   3.3010,  34.8886,2,  34.8908,2,   233.0,2
   06MT15_1,       AR15,      25,         25,        173,          5,2,19910106,       2034,   -29.6718,   -42.4723,       4020,  2994.6,   2.8434,  34.9232,2,  34.9228,2,   249.2,2
   06MT15_1,       AR15,      25,         25,        171,          1,2,19910106,       2034,   -29.6718,   -42.4723,       4020,  4073.8,   0.5093,  34.6920,2,  34.6988,2,   217.2,2
   06MT15_1,       AR15,      25,         25,        172,          3,2,19910106,       2034,   -29.6718,   -42.4723,       4020,  4073.8,   0.5093,  34.6920,2,  34.6978,2,  -999.0,9
   06MT15_1,       AR15,      26,         26,        185,         15,2,19910107,       0106,   -29.8082,   -42.2342,       3938,    22.7,  22.3349,  36.2088,2,  36.2136,2,   220.9,2
   06MT15_1,       AR15,      26,         26,        184,         13,2,19910107,       0106,   -29.8082,   -42.2342,       3938,    93.9,  18.5937,  36.0948,2,-999.0000,9,   227.6,4
   06MT15_1,       AR15,      26,         26,        903,         11,2,19910107,       0106,   -29.8082,   -42.2342,       3938,   496.0,  10.3714,  34.8657,2,-999.0000,9,   200.9,2
   06MT15_1,       AR15,      26,         26,        183,          9,2,19910107,       0106,   -29.8082,   -42.2342,       3938,  1492.0,   3.0542,  34.6266,2,-999.0000,9,  -999.0,9
   06MT15_1,       AR15,      26,         26,        182,          7,2,19910107,       0106,   -29.8082,   -42.2342,       3938,  2193.4,   3.3569,  34.9323,2,  34.9386,2,   244.0,2
   06MT15_1,       AR15,      26,         26,        181,          5,2,19910107,       0106,   -29.8082,   -42.2342,       3938,  2994.8,   2.8424,  34.9208,2,  34.9226,2,   248.3,2
   06MT15_1,       AR15,      26,         26,        179,          1,2,19910107,       0106,   -29.8082,   -42.2342,       3938,  3980.2,   0.4593,  34.6922,2,  34.6926,2,   218.2,2
   06MT15_1,       AR15,      26,         26,        180,          3,2,19910107,       0106,   -29.8082,   -42.2342,       3938,  3980.2,   0.4593,  34.6922,2,  34.6916,2,   217.8,2