BOTTLE,20211117CCHSIORKP
EXPOCODE,SECT_ID,STNNBR,CASTNO,SAMPNO,BTLNBR,BTLNBR_FLAG_W,DATE,TIME,LATITUDE,LONGITUDE,DEPTH,CTDPRS,CTDTMP,CTDSAL,CTDSAL_FLAG_W,SALNTY,SALNTY_FLAG_W,OXYGEN,OXYGEN_FLAG_W
,,,,,,,,,,,METERS,DBAR,ITS-90,PSS-78,,PSS-78,,UMOL/KG,
   06MT15_2,       AR15,     110,        105,        788,          8,2,19910203,       2200,   -28.1147,   -31.8178,       4785,  4303.7,   1.2412,  34.7640,2,-999.0000,9,   226.0,2
   06MT15_2,       AR15,     110,        105,        789,          9,2,19910203,       2200,   -28.1147,   -31.8178,       4785,  4303.7,   1.2412,  34.7640,2,-999.0000,9,   226.0,2
   06MT15_2,       AR15,     110,        105,        787,          7,2,19910203,       2200,   -28.1147,   -31.8178,       4785,  4446.7,   1.2032,  34.7590,2,-999.0000,9,   225.9,2
   06MT15_2,       AR15,     110,        105,        786,          6,2,19910203,       2200,   -28.1147,   -31.8178,       4785,  4597.2,   1.1692,  34.7535,2,-999.0000,9,   225.3,2
   06MT15_2,       AR15,     110,        105,        785,          4,2,19910203,       2200,   -28.1147,   -31.8178,       4785,  4597.4,   1.1402,  34.7829,2,-999.0000,9,   224.0,2
   06MT15_2,       AR15,     110,        105,        784,          3,2,19910203,       2200,   -28.1147,   -31.8178,       4785,  4743.2,   1.1332,  34.7477,2,-999.0000,9,   224.8,2
   06MT15_2,       AR15,     110,        105,        782,          1,2,19910203,       2200,   -28.1147,   -31.8178,       4785,  4870.6,   1.1032,  34.7448,2,-999.0000,9,   224.2,2
   06MT15_2,       AR15,     110,        105,        783,          2,2,19910203,       2200,   -28.1147,   -31.8178,       4785,  4870.6,   1.1032,  34.7448,2,-999.0000,9,   223.8,2
   06MT15_2,       AR15,     112,        106,        811,         24,2,19910206,       0322,   -21.7800,   -37.8367,       3657,    20.9,  27.1319,  36.9371,2,  36.9370,2,  -999.0,9
   06MT15_2,       AR15,     112,        106,        810,         23,2,19910206,       0322,   -21.7800,   -37.8367,       3657,   101.0,  24.0966,  37.1397,2,-999.0000,9,   212.1,2
   06MT15_2,       AR15,     112,        106,        809,         22,2,19910206,       0322,   -21.7800,   -37.8367,       3657,   198.9,  20.9330,  36.5290,2,-999.0000,9,  -999.0,9
   06MT15_2,       AR15,     112,        106,        808,         21,2,19910206,       0322,   -21.7800,   -37.8367,       3657,   295.4,  15.9527,  35.5848,2,-999.0000,9,   203.8,2
   06MT15_2,       AR15,     112,        106,        807,         20,2,19910206,       0322,   -21.7800,   -37.8367,       3657,   390.5,  13.3647,  35.2292,2,-999.0000,9,  -999.0,9
   06MT15_2,       AR15,     112,        106,        806,         19,2,19910206,       0322,   -21.7800,   -37.8367,       3657,   497.6,  10.5473,  34.8787,2,-999.0000,9,   182.7,2
   06MT15_2,       AR15,     112,        106,        805,         18,2,19910206,       0322,   -21.7800,   -37.8367,       3657,   593.6,   7.9500,  34.6097,2,-999.0000,9,  -999.0,9
   06MT15_2,       AR15,     112,        106,        804,         17,2,19910206,       0322,   -21.7800,   -37.8367,       3657,   740.8,   5.3669,  34.4080,2,-999.0000,9,   191.1,2
   06MT15_2,       AR15,     112,        106,        946,         16,2,19910206,       0322,   -21.7800,   -37.8367,       3657,   890.2,   4.0693,  34.3851,2,-999.0000,9,  -999.0,9
   06MT15_2,       AR15,     112,        106,        802,         14,2,19910206,       0322,   -21.7800,   -37.8367,       3657,  1193.4,   3.4948,  34.5682,2,-999.0000,9,  -999.0,9
   06MT15_2,       AR15,     112,        106,        803,         15,2,19910206,       0322,   -21.7800,   -37.8367,       3657,  1259.8,   2.1088,-999.0000,9,-999.0000,9,  -999.0,9
   06MT15_2,       AR15,     112,        106,        801,         13,2,19910206,       0322,   -21.7800,   -37.8367,       3657,  1341.1,   3.7346,  34.6963,2,-999.0000,9,   194.0,2
   06MT15_2,       AR15,     112,        106,        800,         12,2,19910206,       0322,   -21.7800,   -37.8367,       3657,  1492.3,   3.9054,  34.8222,2,-999.0000,9,  -999.0,9
   06MT15_2,       AR15,     112,        106,        799,         11,2,19910206,       0322,   -21.7800,   -37.8367,       3657,  1642.0,   3.9214,  34.9113,2,-999.0000,9,   227.3,2
   06MT15_2,       AR15,     112,        106,        798,         10,2,19910206,       0322,   -21.7800,   -37.8367,       3657,  1790.1,   3.7506,  34.9404,2,-999.0000,9,  -999.0,9
   06MT15_2,       AR15,     112,        106,        797,          9,2,19910206,       0322,   -21.7800,   -37.8367,       3657,  1992.0,   3.4678,  34.9498,2,  34.9502,2,   248.9,2
   06MT15_2,       AR15,     112,        106,        796,          8,2,19910206,       0322,   -21.7800,   -37.8367,       3657,  2184.4,   3.2570,  34.9448,2,  34.9446,2,  -999.0,9
   06MT15_2,       AR15,     112,        106,        795,          7,2,19910206,       0322,   -21.7800,   -37.8367,       3657,  2389.9,   3.0852,  34.9381,2,  34.9378,2,   249.8,2
   06MT15_2,       AR15,     112,        106,        794,          6,2,19910206,       0322,   -21.7800,   -37.8367,       3657,  2683.8,   2.8673,  34.9236,2,  34.9234,2,  -999.0,9
   06MT15_2,       AR15,     112,        106,        793,          5,2,19910206,       0322,   -21.7800,   -37.8367,       3657,  2999.2,   2.6545,  34.9109,2,  34.9106,2,   250.9,2
   06MT15_2,       AR15,     112,        106,        792,          4,2,19910206,       0322,   -21.7800,   -37.8367,       3657,  3293.1,   2.3417,  34.8847,2,  34.8845,2,  -999.0,9
   06MT15_2,       AR15,     112,        106,        791,          3,2,19910206,       0322,   -21.7800,   -37.8367,       3657,  3587.4,   1.5751,  34.8051,2,  34.8052,2,   236.1,2
   06MT15_2,       AR15,     114,        108,        812,          1,2,19910206,       1335,   -21.1128,   -38.9160,       2491,  2500.1,   2.6875,  34.9135,2,  34.9136,2,  -999.0,9