BOTTLE,20211117CCHSIORKP
# Original header:
# Changed all fill flags to 9
#code : jjward hyd_to_exchange.pl 
#original files copied from HTML directory: 20010822
#original HYD file: ar15_chy.txt   Wed Aug 22 11:49:28 2001
#original SUM file: ar15_csu.txt   Wed Aug 22 11:48:29 2001
EXPOCODE,SECT_ID,STNNBR,CASTNO,SAMPNO,BTLNBR,BTLNBR_FLAG_W,DATE,TIME,LATITUDE,LONGITUDE,DEPTH,CTDPRS,CTDTMP,CTDSAL,CTDSAL_FLAG_W,SALNTY,SALNTY_FLAG_W,OXYGEN,OXYGEN_FLAG_W
,,,,,,,,,,,METERS,DBAR,ITS-90,PSS-78,,PSS-78,,UMOL/KG,
   06MT15_1,       AR15,       1,          1,          7,         19,2,19910101,       1208,   -27.8967,   -46.7080,       1150,    28.4,  24.7542,  36.9068,2,  36.9059,2,   212.6,2
   06MT15_1,       AR15,       1,          1,          8,         21,2,19910101,       1208,   -27.8967,   -46.7080,       1150,    28.4,  24.7542,  36.9068,2,-999.0000,9,   216.6,2
   06MT15_1,       AR15,       1,          1,          9,         23,2,19910101,       1208,   -27.8967,   -46.7080,       1150,    28.4,  24.7542,  36.9068,2,-999.0000,9,   210.9,2
   06MT15_1,       AR15,       1,          1,          6,         16,2,19910101,       1208,   -27.8967,   -46.7080,       1150,    97.2,  21.6185,  36.6956,2,-999.0000,9,   215.9,2
   06MT15_1,       AR15,       1,          1,          5,         13,2,19910101,       1208,   -27.8967,   -46.7080,       1150,   196.9,  16.6162,  35.7500,2,-999.0000,9,   198.3,2
   06MT15_1,       AR15,       1,          1,          4,         10,2,19910101,       1208,   -27.8967,   -46.7080,       1150,   493.7,   9.4564,  34.7528,2,-999.0000,9,   197.0,2
   06MT15_1,       AR15,       1,          1,          2,          7,2,19910101,       1208,   -27.8967,   -46.7080,       1150,   796.7,   4.5768,  34.3090,2,-999.0000,9,   220.5,2
   06MT15_1,       AR15,       1,          1,          3,          8,2,19910101,       1208,   -27.8967,   -46.7080,       1150,   796.7,   4.5768,  34.3090,2,-999.0000,9,   219.2,2
   06MT15_1,       AR15,       1,          1,          1,          4,2,19910101,       1208,   -27.8967,   -46.7080,       1150,   981.3,   3.5218,  34.3405,2,-999.0000,9,   203.0,2
   06MT15_1,       AR15,       1,          1,        880,          1,2,19910101,       1208,   -27.8967,   -46.7080,       1150,  1096.1,   3.3050,  34.4005,2,-999.0000,9,   194.7,2
   06MT15_1,       AR15,       2,          2,         16,         19,2,19910101,       1607,   -27.8332,   -46.9192,        646,    16.6,  25.1040,  36.9225,2,  36.9227,2,   209.2,2
   06MT15_1,       AR15,       2,          2,         17,         20,2,19910101,       1607,   -27.8332,   -46.9192,        646,    16.6,  25.1040,  36.9225,2,  36.9227,2,   210.0,2
   06MT15_1,       AR15,       2,          2,         15,         16,2,19910101,       1607,   -27.8332,   -46.9192,        646,    54.1,  23.7409,  36.9525,2,-999.0000,9,  -999.0,9
   06MT15_1,       AR15,       2,          2,         14,         13,2,19910101,       1607,   -27.8332,   -46.9192,        646,   202.9,  15.8357,  35.6012,2,-999.0000,9,  -999.0,9
   06MT15_1,       AR15,       2,          2,         13,         11,2,19910101,       1607,   -27.8332,   -46.9192,        646,   286.0,  13.8383,  35.3320,2,-999.0000,9,   217.3,2
   06MT15_1,       AR15,       2,          2,         12,          7,2,19910101,       1607,   -27.8332,   -46.9192,        646,   383.5,  12.0129,  35.0801,2,-999.0000,9,  -999.0,9
   06MT15_1,       AR15,       2,          2,         11,          4,2,19910101,       1607,   -27.8332,   -46.9192,        646,   489.3,   9.3785,  34.7418,2,-999.0000,9,  -999.0,9
   06MT15_1,       AR15,       2,          2,         10,          1,2,19910101,       1607,   -27.8332,   -46.9192,        646,   612.2,   6.4587,  34.4369,2,-999.0000,9,   215.5,2
   06MT15_1,       AR15,       2,          2,        881,          2,2,19910101,       1607,   -27.8332,   -46.9192,        646,   612.2,   6.4587,  34.4369,2,-999.0000,9,   214.7,2
   06MT15_1,       AR15,       3,          3,         22,         17,2,19910101,       1835,   -27.7833,   -47.1033,        500,    30.7,  24.0936,  36.7262,2,-999.0000,9,  -999.0,9
   06MT15_1,       AR15,       3,          3,         23,         22,2,19910101,       1835,   -27.7833,   -47.1033,        500,    30.7,  24.0936,  36.7262,2,  36.7256,2,   214.4,2
   06MT15_1,       AR15,       3,          3,         24,         24,2,19910101,       1835,   -27.7833,   -47.1033,        500,    30.7,  24.0936,  36.7262,2,  36.7246,2,   214.4,2
   06MT15_1,       AR15,       3,          3,         20,          9,2,19910101,       1835,   -27.7833,   -47.1033,        500,   218.7,  15.1493,  35.4854,2,-999.0000,9,  -999.0,9
   06MT15_1,       AR15,       3,          3,         21,         10,2,19910101,       1835,   -27.7833,   -47.1033,        500,   218.7,  15.1493,  35.4854,2,-999.0000,9,   206.1,2
   06MT15_1,       AR15,       3,          3,         18,          1,2,19910101,       1835,   -27.7833,   -47.1033,        500,   356.6,  11.3035,-999.0000,9,-999.0000,9,  -999.0,9
   06MT15_1,       AR15,       3,          3,         19,          2,2,19910101,       1835,   -27.7833,   -47.1033,        500,   356.6,  11.3035,-999.0000,9,-999.0000,9,  -999.0,9
   06MT15_1,       AR15,       3,          3,        882,          3,2,19910101,       1835,   -27.7833,   -47.1033,        500,   356.6,  11.3035,-999.0000,9,-999.0000,9,  -999.0,9
   06MT15_1,       AR15,       4,          4,         30,         17,2,19910101,       2132,   -27.7350,   -47.2525,        254,    17.3,  24.2585,  36.7812,2,-999.0000,9,  -999.0,9
   06MT15_1,       AR15,       4,          4,         31,         19,2,19910101,       2132,   -27.7350,   -47.2525,        254,    17.3,  24.2585,  36.7812,2,  36.7825,2,   211.8,2
   06MT15_1,       AR15,       4,          4,         32,         22,2,19910101,       2132,   -27.7350,   -47.2525,        254,    17.3,  24.2585,  36.7812,2,  36.7805,2,   211.8,2
   06MT15_1,       AR15,       4,          4,        883,          9,2,19910101,       2132,   -27.7350,   -47.2525,        254,    87.6,  20.6042,  36.4568,2,-999.0000,9,  -999.0,9
   06MT15_1,       AR15,       4,          4,         28,         12,2,19910101,       2132,   -27.7350,   -47.2525,        254,    87.6,  20.6042,  36.4568,2,-999.0000,9,   209.4,2
   06MT15_1,       AR15,       4,          4,         29,         15,2,19910101,       2132,   -27.7350,   -47.2525,        254,    87.6,  20.6042,  36.4568,2,-999.0000,9,   209.4,2
   06MT15_1,       AR15,       4,          4,         25,          1,2,19910101,       2132,   -27.7350,   -47.2525,        254,   202.5,  15.2532,  35.5264,2,-999.0000,9,  -999.0,9
   06MT15_1,       AR15,       4,          4,         26,          4,2,19910101,       2132,   -27.7350,   -47.2525,        254,   202.5,  15.2532,  35.5264,2,-999.0000,9,   199.1,2
   06MT15_1,       AR15,       4,          4,         27,          7,2,19910101,       2132,   -27.7350,   -47.2525,        254,   202.5,  15.2532,  35.5264,2,-999.0000,9,   196.9,2
   06MT15_1,       AR15,       5,          5,         38,         10,2,19910101,       2345,   -27.7050,   -47.3467,        193,    25.2,  24.3475,  36.7005,2,-999.0000,9,  -999.0,9
   06MT15_1,       AR15,       5,          5,         37,          7,2,19910101,       2345,   -27.7050,   -47.3467,        193,    37.1,  24.3565,  36.7587,2,  36.7294,4,   215.2,2
   06MT15_1,       AR15,       5,          5,         36,          4,2,19910101,       2345,   -27.7050,   -47.3467,        193,    93.7,  20.0017,  36.3647,2,-999.0000,9,   203.2,2
   06MT15_1,       AR15,       5,          5,        884,          5,2,19910101,       2345,   -27.7050,   -47.3467,        193,    93.7,  20.0017,  36.3647,2,-999.0000,9,  -999.0,9
   06MT15_1,       AR15,       5,          5,         35,          3,2,19910101,       2345,   -27.7050,   -47.3467,        193,   145.8,  15.6889,  35.6104,2,-999.0000,9,  -999.0,9
   06MT15_1,       AR15,       5,          5,         33,          1,2,19910101,       2345,   -27.7050,   -47.3467,        193,   146.0,  15.6099,  35.6087,2,-999.0000,9,   205.7,2
   06MT15_1,       AR15,       5,          5,         34,          2,2,19910101,       2345,   -27.7050,   -47.3467,        193,   146.0,  15.6099,  35.6087,2,-999.0000,9,   215.7,2
   06MT15_1,       AR15,       6,          6,         42,         21,2,19910102,       0257,   -27.6673,   -47.5000,        142,    14.0,  24.6273,  36.1588,2,  36.1602,2,   211.9,2
   06MT15_1,       AR15,       6,          6,         43,         22,2,19910102,       0257,   -27.6673,   -47.5000,        142,    14.0,  24.6273,  36.1588,2,-999.0000,9,   211.9,2
   06MT15_1,       AR15,       6,          6,         39,          9,2,19910102,       0257,   -27.6673,   -47.5000,        142,   122.4,  14.5048,  35.4871,2,-999.0000,9,   201.3,2
   06MT15_1,       AR15,       6,          6,         40,         10,2,19910102,       0257,   -27.6673,   -47.5000,        142,   122.4,  14.5048,  35.4871,2,-999.0000,9,   202.6,2
   06MT15_1,       AR15,       6,          6,         41,         15,2,19910102,       0257,   -27.6673,   -47.5000,        142,   127.8,  14.1231,  35.7161,2,-999.0000,9,  -999.0,9
   06MT15_1,       AR15,       7,          7,         49,         18,2,19910102,       0908,   -27.9495,   -46.4695,       1735,    22.2,  24.8631,  36.8247,2,  36.8621,4,   210.5,2
   06MT15_1,       AR15,       7,          7,        886,         16,2,19910102,       0908,   -27.9495,   -46.4695,       1735,    97.2,  21.2018,  36.6230,2,-999.0000,9,   212.4,2
   06MT15_1,       AR15,       7,          7,         48,         13,2,19910102,       0908,   -27.9495,   -46.4695,       1735,   489.6,   9.6811,  34.7798,2,-999.0000,9,   197.9,2
   06MT15_1,       AR15,       7,          7,         47,         11,2,19910102,       0908,   -27.9495,   -46.4695,       1735,   791.2,   4.7496,  34.3278,2,-999.0000,9,   217.1,2
   06MT15_1,       AR15,       7,          7,         45,          9,2,19910102,       0908,   -27.9495,   -46.4695,       1735,   888.6,   4.1542,  34.3317,2,-999.0000,9,  -999.0,9
   06MT15_1,       AR15,       7,          7,         44,          7,2,19910102,       0908,   -27.9495,   -46.4695,       1735,   992.0,   3.7636,  34.3467,2,-999.0000,9,   203.9,2
   06MT15_1,       AR15,       7,          7,         46,          5,2,19910102,       0908,   -27.9495,   -46.4695,       1735,  1090.9,   3.4339,  34.4007,2,-999.0000,9,   195.5,2
   06MT15_1,       AR15,       7,          7,        885,          1,2,19910102,       0908,   -27.9495,   -46.4695,       1735,  1702.2,   3.7256,  34.7883,2,-999.0000,9,   204.0,2
   06MT15_1,       AR15,       8,          8,         55,         11,2,19910102,       1423,   -27.9767,   -46.2800,       2248,    97.2,  21.2947,  36.6001,2,-999.0000,9,   197.2,4
   06MT15_1,       AR15,       8,          8,         54,          9,2,19910102,       1423,   -27.9767,   -46.2800,       2248,   494.2,   9.3815,  34.7469,2,-999.0000,9,   217.4,4
   06MT15_1,       AR15,       8,          8,         53,          7,2,19910102,       1423,   -27.9767,   -46.2800,       2248,   995.5,   3.7876,  34.3323,2,-999.0000,9,   235.0,4
   06MT15_1,       AR15,       8,          8,         52,          5,2,19910102,       1423,   -27.9767,   -46.2800,       2248,  1994.9,   3.7386,  34.9217,2,  34.9450,4,   245.1,2
   06MT15_1,       AR15,       8,          8,         50,          1,2,19910102,       1423,   -27.9767,   -46.2800,       2248,  2191.1,   3.5198,  34.9434,2,  34.9440,2,   245.7,2
   06MT15_1,       AR15,       8,          8,         51,          3,2,19910102,       1423,   -27.9767,   -46.2800,       2248,  2191.1,   3.5198,  34.9434,2,  34.9450,2,   244.9,2
   06MT15_1,       AR15,       9,          9,         61,         13,2,19910102,       2025,   -28.0665,   -46.0362,       2488,    39.4,  25.0170,  36.9722,2,  36.9738,2,   209.6,2
   06MT15_1,       AR15,       9,          9,         62,         15,2,19910102,       2025,   -28.0665,   -46.0362,       2488,    39.4,  25.0170,  36.9722,2,  36.9728,2,   209.1,2
   06MT15_1,       AR15,       9,          9,         60,         11,2,19910102,       2025,   -28.0665,   -46.0362,       2488,    95.8,  21.8203,  36.7645,2,-999.0000,9,   210.7,2
   06MT15_1,       AR15,       9,          9,         59,          9,2,19910102,       2025,   -28.0665,   -46.0362,       2488,   496.2,   9.0568,  34.7132,2,-999.0000,9,   195.3,2
   06MT15_1,       AR15,       9,          9,         58,          7,2,19910102,       2025,   -28.0665,   -46.0362,       2488,   993.6,   4.2921,  34.3239,2,-999.0000,9,   212.1,2
   06MT15_1,       AR15,       9,          9,         57,          5,2,19910102,       2025,   -28.0665,   -46.0362,       2488,  1993.1,   3.8035,  34.9232,2,-999.0000,9,   231.7,2
   06MT15_1,       AR15,       9,          9,        887,          3,2,19910102,       2025,   -28.0665,   -46.0362,       2488,  2495.0,   2.9513,  34.9239,2,  34.9248,2,  -999.0,9
   06MT15_1,       AR15,       9,          9,         56,          1,2,19910102,       2025,   -28.0665,   -46.0362,       2488,  2502.6,   2.8863,  34.9196,2,  34.9258,2,   249.2,2
   06MT15_1,       AR15,      10,         10,         68,         13,2,19910103,       0034,   -28.1167,   -45.8067,       2734,    32.2,  25.0880,  36.9720,2,  36.9687,2,   209.6,2
   06MT15_1,       AR15,      10,         10,         69,         15,2,19910103,       0034,   -28.1167,   -45.8067,       2734,    32.2,  25.0880,  36.9720,2,  36.9697,2,   208.7,2
   06MT15_1,       AR15,      10,         10,         67,         11,2,19910103,       0034,   -28.1167,   -45.8067,       2734,    98.1,  21.5395,  36.6742,2,-999.0000,9,   215.9,2
   06MT15_1,       AR15,      10,         10,         66,          9,2,19910103,       0034,   -28.1167,   -45.8067,       2734,   492.5,   9.8829,  34.8099,2,-999.0000,9,   197.0,2
   06MT15_1,       AR15,      10,         10,         65,          7,2,19910103,       0034,   -28.1167,   -45.8067,       2734,   992.3,   4.0423,  34.3253,2,-999.0000,9,   212.1,2
   06MT15_1,       AR15,      10,         10,         64,          5,2,19910103,       0034,   -28.1167,   -45.8067,       2734,  1977.0,   3.6896,  34.9189,2,-999.0000,9,   235.6,2
   06MT15_1,       AR15,      10,         10,        888,          1,2,19910103,       0034,   -28.1167,   -45.8067,       2734,  2665.7,   2.8603,  34.9190,2,  34.9177,2,   251.6,2
   06MT15_1,       AR15,      10,         10,         63,          3,2,19910103,       0034,   -28.1167,   -45.8067,       2734,  2681.1,   2.8354,  34.9192,2,  34.9167,2,   249.1,2
   06MT15_1,       AR15,      11,         11,         75,         13,2,19910103,       0532,   -28.1850,   -45.5502,       2863,    22.2,  25.0560,  36.9966,2,  36.9966,2,   208.7,2
   06MT15_1,       AR15,      11,         11,         76,         23,2,19910103,       0532,   -28.1850,   -45.5502,       2863,    22.2,  25.0560,  36.9966,2,-999.0000,9,  -999.0,9
   06MT15_1,       AR15,      11,         11,         74,         11,2,19910103,       0532,   -28.1850,   -45.5502,       2863,    95.8,  21.8723,  36.7764,2,-999.0000,9,   209.8,2
   06MT15_1,       AR15,      11,         11,         73,          9,2,19910103,       0532,   -28.1850,   -45.5502,       2863,   494.0,  11.1906,  34.9709,2,-999.0000,9,   201.4,2
   06MT15_1,       AR15,      11,         11,         71,          7,2,19910103,       0532,   -28.1850,   -45.5502,       2863,   993.0,   3.9914,  34.3276,2,-999.0000,9,   209.5,2
   06MT15_1,       AR15,      11,         11,         72,          5,2,19910103,       0532,   -28.1850,   -45.5502,       2863,  1993.4,   3.6457,  34.9153,2,  34.9176,2,   232.6,2
   06MT15_1,       AR15,      11,         11,         70,          1,2,19910103,       0532,   -28.1850,   -45.5502,       2863,  2856.6,   2.4946,  34.8935,2,-999.0000,9,  -999.0,9
   06MT15_1,       AR15,      11,         11,        889,          3,2,19910103,       0532,   -28.1850,   -45.5502,       2863,  2856.6,   2.4946,  34.8935,2,  34.8946,2,   247.6,2
   06MT15_1,       AR15,      12,         12,         82,         13,2,19910103,       1405,   -28.2680,   -45.2148,       3273,    30.8,  24.3315,  36.6723,2,  36.6684,2,   211.8,2
   06MT15_1,       AR15,      12,         12,         83,         15,2,19910103,       1405,   -28.2680,   -45.2148,       3273,    30.8,  24.3315,  36.6723,2,  36.6674,2,   212.2,2
   06MT15_1,       AR15,      12,         12,         81,         11,2,19910103,       1405,   -28.2680,   -45.2148,       3273,    95.8,  21.6225,  36.6352,2,-999.0000,9,   222.0,2
   06MT15_1,       AR15,      12,         12,         80,          9,2,19910103,       1405,   -28.2680,   -45.2148,       3273,   491.9,  11.2226,  34.9737,2,-999.0000,9,   204.0,2
   06MT15_1,       AR15,      12,         12,         79,          7,2,19910103,       1405,   -28.2680,   -45.2148,       3273,   991.5,   3.9484,  34.3191,2,-999.0000,9,   213.0,2
   06MT15_1,       AR15,      12,         12,        890,          5,2,19910103,       1405,   -28.2680,   -45.2148,       3273,  1988.5,   3.7866,  34.9316,2,-999.0000,9,   234.8,2
   06MT15_1,       AR15,      12,         12,         77,          1,2,19910103,       1405,   -28.2680,   -45.2148,       3273,  3307.9,   0.9993,  34.7435,2,  34.7474,2,   224.0,2
   06MT15_1,       AR15,      12,         12,         78,          3,2,19910103,       1405,   -28.2680,   -45.2148,       3273,  3307.9,   0.9993,  34.7435,2,  34.7444,2,   224.0,2
   06MT15_1,       AR15,      13,         13,         87,          9,2,19910103,       1700,   -28.3163,   -45.1007,       3369,   493.8,  11.0308,  34.9483,2,-999.0000,9,   202.3,2
   06MT15_1,       AR15,      13,         13,        891,          7,2,19910103,       1700,   -28.3163,   -45.1007,       3369,   990.8,   3.9644,  34.3411,2,-999.0000,9,   206.0,2
   06MT15_1,       AR15,      13,         13,         86,          5,2,19910103,       1700,   -28.3163,   -45.1007,       3369,  1989.6,   3.6217,  34.9242,2,-999.0000,9,   235.6,2
   06MT15_1,       AR15,      13,         13,         84,          1,2,19910103,       1700,   -28.3163,   -45.1007,       3369,  3410.4,   1.1452,  34.7538,2,  34.7593,2,   224.7,2
   06MT15_1,       AR15,      13,         13,         85,          3,2,19910103,       1700,   -28.3163,   -45.1007,       3369,  3410.4,   1.1452,  34.7538,2,  34.7583,2,   224.7,2
   06MT15_1,       AR15,      14,         14,         94,         13,2,19910103,       2058,   -28.3655,   -44.8635,       3445,    18.4,  24.0397,  36.7869,2,  36.7832,2,   213.0,2
   06MT15_1,       AR15,      14,         14,         93,         11,2,19910103,       2058,   -28.3655,   -44.8635,       3445,    97.1,  21.0119,  36.5356,2,-999.0000,9,   219.4,2
   06MT15_1,       AR15,      14,         14,         92,          9,2,19910103,       2058,   -28.3655,   -44.8635,       3445,   495.8,  11.1127,  34.9586,2,-999.0000,9,   200.5,2
   06MT15_1,       AR15,      14,         14,         91,          7,2,19910103,       2058,   -28.3655,   -44.8635,       3445,   892.1,   4.5248,  34.3494,2,-999.0000,9,   214.4,2
   06MT15_1,       AR15,      14,         14,         90,          5,2,19910103,       2058,   -28.3655,   -44.8635,       3445,  1980.2,   3.6207,  34.9206,2,-999.0000,9,   235.6,2
   06MT15_1,       AR15,      14,         14,         88,          1,2,19910103,       2058,   -28.3655,   -44.8635,       3445,  3483.0,   1.0552,  34.7448,2,  34.7592,4,   223.8,2
   06MT15_1,       AR15,      14,         14,         89,          3,2,19910103,       2058,   -28.3655,   -44.8635,       3445,  3483.0,   1.0552,  34.7448,2,  34.7482,2,   222.9,2