BOTTLE,20090923WHPSIOMYS
EXPOCODE,SECT_ID,STNNBR,CASTNO,SAMPNO,BTLNBR,BTLNBR_FLAG_W,DATE,TIME,LATITUDE,LONGITUDE,DEPTH,CTDRAW,CTDPRS,CTDTMP,CTDSAL,CTDSAL_FLAG_W,SALNTY,SALNTY_FLAG_W,CTDOXY,CTDOXY_FLAG_W,THETA,OXYGEN,OXYGEN_FLAG_W,SILCAT,SILCAT_FLAG_W,NO2+NO3,NO2+NO3_FLAG_W,PHSPHT,PHSPHT_FLAG_W,REVPRS,REVTMP
,,,,,,,,,,,,,DBAR,ITS-90,PSS-78,,PSS-78,,UMOL/KG,,ITS-90,UMOL/KG,,UMOL/KG,,UMOL/KG,,UMOL/KG,,DBAR,DEG C
     33KB192_1,  PRS2,     2,  3,     24,   8024,2,20070609,1405, 22.7502,-158.0003, 4738,      7,      7.4,  25.4961,  34.8990,2,  34.9002,2,    207.8,2, 25.4945,    206.8,2,     1.11,2,     0.09,2,     0.09,2,  -999.0,-999.000
     33KB192_1,  PRS2,     2,  3,     23,   8023,2,20070609,1405, 22.7502,-158.0003, 4738,    499,    499.4,   7.9959,  34.0949,2,  34.0950,2,    125.5,2,  7.9450,    125.8,2,    38.29,2,    26.73,2,     1.94,2,  -999.0,-999.000
     33KB192_1,  PRS2,     2,  3,     22,   8022,2,20070609,1405, 22.7502,-158.0003, 4738,    749,    750.7,   4.9146,  34.2683,2,  34.2697,2,     28.9,2,  4.8541,     26.1,2,    89.67,2,    41.09,2,     2.95,2,  -999.0,-999.000
     33KB192_1,  PRS2,     2,  3,     21,   8021,2,20070609,1405, 22.7502,-158.0003, 4738,   1000,   1000.7,   4.1395,  34.4631,2,  34.4646,2,     38.2,2,  4.0628,     37.7,2,   104.44,3,    41.76,2,     3.06,2,  -999.0,-999.000
     33KB192_1,  PRS2,     2,  3,     20,   8020,2,20070609,1405, 22.7502,-158.0003, 4738,   1200,   1200.9,   3.5289,  34.5214,2,  34.5219,2,     51.4,2,  3.4406,     51.4,2,   117.27,3,    41.60,2,     2.97,2,  -999.0,-999.000
     33KB192_1,  PRS2,     2,  3,     19,   8019,2,20070609,1405, 22.7502,-158.0003, 4738,   1399,   1399.9,   3.0751,  34.5572,2,  34.5576,2,     60.5,2,  2.9748,     60.8,2,   128.83,2,    40.52,2,     2.91,2,  -999.0,-999.000
     33KB192_1,  PRS2,     2,  3,     18,   8018,2,20070609,1405, 22.7502,-158.0003, 4738,   1599,   1600.2,   2.6951,  34.5804,2,  34.5806,2,     70.3,2,  2.5826,     70.7,2,   138.16,2,    40.85,2,     2.88,2,  -999.0,-999.000
     33KB192_1,  PRS2,     2,  3,     17,   8017,2,20070609,1405, 22.7502,-158.0003, 4738,   1799,   1800.1,   2.3856,  34.6016,2,  34.6012,2,     79.3,2,  2.2604,     81.4,2,   145.27,2,    40.43,2,     2.90,2,  -999.0,-999.000
     33KB192_1,  PRS2,     2,  3,     16,   8016,2,20070609,1405, 22.7502,-158.0003, 4738,   2001,   2001.5,   2.1377,  34.6202,2,  34.6201,2,     88.1,2,  1.9991,     88.4,2,   150.47,2,    39.98,2,     2.84,2,  -999.0,-999.000
     33KB192_1,  PRS2,     2,  3,     15,   8015,2,20070609,1405, 22.7502,-158.0003, 4738,   2201,   2201.8,   1.9637,  34.6337,2,  34.6333,2,     95.6,2,  1.8107,     95.4,2,   153.60,2,    39.60,2,     2.83,2,  -999.0,-999.000
     33KB192_1,  PRS2,     2,  3,     14,   8014,2,20070609,1405, 22.7502,-158.0003, 4738,   2401,   2400.2,   1.7969,  34.6468,2,  34.6464,2,    103.5,2,  1.6293,    108.0,4,   157.32,2,    39.20,2,     2.78,2,  -999.0,-999.000
     33KB192_1,  PRS2,     2,  3,     13,   8025,2,20070609,1405, 22.7502,-158.0003, 4738,   2599,   2600.8,   1.6686,  34.6576,2,  34.6576,2,    110.8,2,  1.4855,    111.4,2,   160.23,2,    38.79,2,     2.74,2,  -999.0,-999.000
     33KB192_1,  PRS2,     2,  3,     12,   8012,2,20070609,1405, 22.7502,-158.0003, 4738,   2799,   2800.9,   1.5827,  34.6666,2,  34.6677,2,    118.9,2,  1.3829,    119.2,2,   159.48,2,    38.12,2,     2.72,4,  -999.0,-999.000
     33KB192_1,  PRS2,     2,  3,     11,   8011,2,20070609,1405, 22.7502,-158.0003, 4738,   3000,   3000.8,   1.5337,  34.6726,2,  34.6730,2,    125.6,2,  1.3161,    125.2,2,   159.21,2,    37.53,2,     2.63,2,  -999.0,-999.000
     33KB192_1,  PRS2,     2,  3,     10,   8010,2,20070609,1405, 22.7502,-158.0003, 4738,   3200,   3199.8,   1.4983,  34.6775,2,  34.6781,2,    131.7,2,  1.2622,    136.6,4,   157.60,2,    37.16,2,     2.62,2,  -999.0,-999.000
     33KB192_1,  PRS2,     2,  3,      9,   8009,2,20070609,1405, 22.7502,-158.0003, 4738,   3400,   3401.0,   1.4734,  34.6814,2,  34.6818,2,    137.0,2,  1.2180,    119.5,4,   155.67,2,    36.79,2,     2.57,2,  -999.0,-999.000
     33KB192_1,  PRS2,     2,  3,      8,   8008,2,20070609,1405, 22.7502,-158.0003, 4738,   3598,   3599.4,   1.4595,  34.6845,2,  34.6851,2,    141.5,2,  1.1842,    141.1,2,   154.37,2,    36.63,2,     2.57,2,  -999.0,-999.000
     33KB192_1,  PRS2,     2,  3,      7,   8026,2,20070609,1405, 22.7502,-158.0003, 4738,   3799,   3799.9,   1.4520,  34.6870,2,  34.6873,2,    145.4,2,  1.1559,    145.1,2,   152.66,2,    36.18,2,     2.54,2,  -999.0,-999.000
     33KB192_1,  PRS2,     2,  3,      6,   8006,2,20070609,1405, 22.7502,-158.0003, 4738,   3999,   3999.3,   1.4553,  34.6887,2,  34.6893,2,    147.9,2,  1.1377,    147.4,2,   151.62,2,    36.02,2,     2.52,2,  -999.0,-999.000
     33KB192_1,  PRS2,     2,  3,      5,   8005,2,20070609,1405, 22.7502,-158.0003, 4738,   4198,   4199.2,   1.4649,  34.6898,2,  34.6899,2,    149.8,2,  1.1250,    149.6,2,   151.25,2,    35.86,2,     2.50,2,  -999.0,-999.000
     33KB192_1,  PRS2,     2,  3,      4,   8004,2,20070609,1405, 22.7502,-158.0003, 4738,   4400,   4401.0,   1.4800,  34.6905,2,  34.6903,2,    151.1,2,  1.1170,    150.6,2,   150.12,2,    35.80,2,     2.51,2,  -999.0,-999.000
     33KB192_1,  PRS2,     2,  3,      3,   8003,2,20070609,1405, 22.7502,-158.0003, 4738,   4501,   4500.8,   1.4896,  34.6907,2,  34.6914,2,    151.4,2,  1.1148,    151.8,2,   149.95,2,    35.82,2,     2.50,2,  -999.0,-999.000
     33KB192_1,  PRS2,     2,  3,      2,   8002,2,20070609,1405, 22.7502,-158.0003, 4738,   4600,   4599.7,   1.4978,  34.6911,2,  34.6916,2,    151.9,2,  1.1113,    152.2,2,   149.98,2,    35.65,2,     2.50,2,  -999.0,-999.000
     33KB192_1,  PRS2,     2,  3,      1,   8001,2,20070609,1405, 22.7502,-158.0003, 4738,   4801,   4800.9,   1.5046,  34.6924,2,  34.6926,2,    154.0,2,  1.0941,    154.6,2,   148.40,2,    35.67,2,     2.49,2,  -999.0,-999.000
     33KB192_1,  PRS2,     2,  4,     24,   8024,2,20070609,2103, 22.7502,-158.0000, 4748,      7,      6.6,  25.4763,  34.9344,2,  34.9343,2,    207.2,2, 25.4748,    207.7,2,     1.20,2,     0.05,2,     0.06,2,  -999.0,-999.000
     33KB192_1,  PRS2,     2,  4,     23,   8023,2,20070609,2103, 22.7502,-158.0000, 4748,     33,     33.1,  24.5016,  34.9639,2,  34.9642,2,    215.1,2, 24.4945,    225.7,4,     1.14,2,     0.06,2,     0.05,2,  -999.0,-999.000
     33KB192_1,  PRS2,     2,  4,     22,   8022,2,20070609,2103, 22.7502,-158.0000, 4748,     95,     95.0,  23.6732,  35.0921,2,  35.0990,2,    218.2,2, 23.6534,    218.6,2,     1.12,2,     0.04,2,     0.03,2,  -999.0,-999.000
     33KB192_1,  PRS2,     2,  4,     21,   8021,2,20070609,2103, 22.7502,-158.0000, 4748,    127,    128.1,  22.8812,  35.1779,2,  35.1744,2,    216.9,2, 22.8551,    224.7,4,     1.16,2,     0.12,2,     0.03,2,  -999.0,-999.000
     33KB192_1,  PRS2,     2,  4,     20,   8020,2,20070609,2103, 22.7502,-158.0000, 4748,    160,    160.2,  22.0330,  35.2071,2,  35.2075,2,    215.2,2, 22.0012,    217.7,2,     1.27,2,     0.08,2,     0.05,2,  -999.0,-999.000
     33KB192_1,  PRS2,     2,  4,     19,   8019,2,20070609,2103, 22.7502,-158.0000, 4748,    225,    225.0,  19.1703,  34.9824,2,  34.9789,2,    193.4,2, 19.1299,    193.4,2,     1.89,3,     2.56,2,     0.21,2,  -999.0,-999.000
     33KB192_1,  PRS2,     2,  4,     18,   8018,2,20070609,2103, 22.7502,-158.0000, 4748,    284,    284.5,  16.0227,  34.5680,2,  34.5675,2,    193.8,2, 15.9776,    194.5,2,     4.05,3,     5.42,2,     0.41,2,  -999.0,-999.000
     33KB192_1,  PRS2,     2,  4,     17,   8017,2,20070609,2103, 22.7502,-158.0000, 4748,    345,    345.1,  12.2372,  34.2310,2,  34.2317,2,    203.8,2, 12.1917,    203.3,2,     9.88,2,    11.08,2,     0.78,2,  -999.0,-999.000
     33KB192_1,  PRS2,     2,  4,     16,   8016,2,20070609,2103, 22.7502,-158.0000, 4748,    395,    395.6,  10.8646,  34.1747,2,  34.1756,2,    202.0,2, 10.8162,    201.5,2,    14.80,2,    14.36,2,     0.99,2,  -999.0,-999.000
     33KB192_1,  PRS2,     2,  4,     15,   8015,2,20070609,2103, 22.7502,-158.0000, 4748,    430,    430.4,   9.8022,  34.1329,2,  34.1332,2,    186.4,2,  9.7528,    187.9,2,    20.65,2,    17.94,2,     1.24,2,  -999.0,-999.000
     33KB192_1,  PRS2,     2,  4,     14,   8014,2,20070609,2103, 22.7502,-158.0000, 4748,    463,    464.5,   9.1341,  34.1124,2,  34.1127,2,    170.5,2,  9.0830,    168.7,2,    26.14,2,    21.14,2,     1.47,2,  -999.0,-999.000
     33KB192_1,  PRS2,     2,  4,     13,   8025,2,20070609,2103, 22.7502,-158.0000, 4748,    530,    531.6,   7.5711,  34.0971,2,  34.0972,2,    109.6,2,  7.5186,    110.0,2,    43.22,2,    29.72,2,     2.11,2,  -999.0,-999.000
     33KB192_1,  PRS2,     2,  4,     12,   8012,2,20070609,2103, 22.7502,-158.0000, 4748,    572,    572.3,   6.8520,  34.0870,2,  34.0891,2,     91.8,2,  6.7984,     92.0,2,    52.00,2,    32.38,2,     2.32,2,  -999.0,-999.000
     33KB192_1,  PRS2,     2,  4,     11,   8011,2,20070609,2103, 22.7502,-158.0000, 4748,    622,    621.0,   6.0680,  34.1136,2,  34.1121,2,     64.5,2,  6.0133,     65.5,2,    64.79,2,    36.21,2,     2.59,2,  -999.0,-999.000
     33KB192_1,  PRS2,     2,  4,     10,   8010,2,20070609,2103, 22.7502,-158.0000, 4748,    669,    669.8,   5.8085,  34.1802,2,  34.1805,2,     48.3,2,  5.7505,     47.0,2,    71.45,2,    38.24,2,     2.76,2,  -999.0,-999.000
     33KB192_1,  PRS2,     2,  4,      9,   8009,2,20070609,2103, 22.7502,-158.0000, 4748,    721,    721.8,   5.1537,  34.1970,2,  34.1942,2,     33.5,2,  5.0946,     32.7,2,    84.02,2,    40.75,2,     2.93,2,  -999.0,-999.000
     33KB192_1,  PRS2,     2,  4,      8,   8008,2,20070609,2103, 22.7502,-158.0000, 4748,    757,    757.5,   4.9868,  34.2850,2,  34.2834,2,     28.7,2,  4.9254,     28.7,2,    89.37,2,    41.43,2,     2.99,2,  -999.0,-999.000
     33KB192_1,  PRS2,     2,  4,      7,   8026,2,20070609,2103, 22.7502,-158.0000, 4748,    791,    791.5,   4.7773,  34.3066,2,  34.3042,2,     25.4,2,  4.7142,     25.3,2,    93.99,2,    42.14,3,     3.03,2,  -999.0,-999.000
     33KB192_1,  PRS2,     2,  4,      6,   8006,2,20070609,2103, 22.7502,-158.0000, 4748,    832,    831.7,   4.7011,  34.3713,2,  34.3735,2,     29.6,2,  4.6349,     30.5,2,    95.85,2,    42.07,2,     3.03,2,  -999.0,-999.000
     33KB192_1,  PRS2,     2,  4,      5,   8005,2,20070609,2103, 22.7502,-158.0000, 4748,    868,    869.8,   4.5996,  34.4111,2,  34.4088,2,     31.6,2,  4.5308,     31.3,2,    97.89,2,    42.35,3,     3.04,2,  -999.0,-999.000
     33KB192_1,  PRS2,     2,  4,      4,   8004,2,20070609,2103, 22.7502,-158.0000, 4748,    909,    909.9,   4.5347,  34.4376,2,  34.4375,2,     33.0,2,  4.4628,     35.4,3,    99.06,2,    42.17,2,     3.03,2,  -999.0,-999.000
     33KB192_1,  PRS2,     2,  4,      3,   8003,2,20070609,2103, 22.7502,-158.0000, 4748,    943,    943.9,   4.2609,  34.4349,2,  34.4347,2,     32.9,2,  4.1881,     32.9,2,   104.81,2,    42.67,3,     2.98,2,  -999.0,-999.000
     33KB192_1,  PRS2,     2,  4,      2,   8002,2,20070609,2103, 22.7502,-158.0000, 4748,    984,    983.4,   4.2117,  34.4586,2,  34.4587,2,     38.0,2,  4.1359,     40.2,2,   105.21,2,    42.18,2,     3.02,2,  -999.0,-999.000
     33KB192_1,  PRS2,     2,  4,      1,   8001,2,20070609,2103, 22.7502,-158.0000, 4748,   1020,   1020.4,   4.0757,  34.4714,2,  34.4716,2,     39.3,2,  3.9978,     39.5,2,   108.19,2,    42.23,2,     3.02,2,  -999.0,-999.000
     33KB192_1,  PRS2,     2,  5,     20,   8020,2,20070610,0204, 22.7497,-158.0000, 4743,      6,      7.2,  25.5248,  35.0261,2,  35.0264,2,    215.7,1, 25.5232,   -999.0,9,  -999.00,9,  -999.00,9,  -999.00,9,  -999.0,-999.000
     33KB192_1,  PRS2,     2,  5,     19,   8019,2,20070610,0204, 22.7497,-158.0000, 4743,     25,     25.7,  24.7488,  34.8985,2,  34.9195,3,    215.5,1, 24.7433,   -999.0,9,  -999.00,9,  -999.00,9,  -999.00,9,  -999.0,-999.000
     33KB192_1,  PRS2,     2,  5,     18,   8018,2,20070610,0204, 22.7497,-158.0000, 4743,     45,     45.4,  24.5717,  35.1155,2,  35.1154,2,    213.9,1, 24.5619,   -999.0,9,  -999.00,9,  -999.00,9,  -999.00,9,  -999.0,-999.000
     33KB192_1,  PRS2,     2,  5,     17,   8017,2,20070610,0204, 22.7497,-158.0000, 4743,     73,     75.4,  23.9014,  35.0911,2,  35.0902,2,    216.7,1, 23.8856,   -999.0,9,  -999.00,9,  -999.00,9,  -999.00,9,  -999.0,-999.000
     33KB192_1,  PRS2,     2,  5,     16,   8016,2,20070610,0204, 22.7497,-158.0000, 4743,    100,    101.1,  23.4444,  35.1880,2,-999.0000,5,    218.2,1, 23.4235,   -999.0,9,  -999.00,9,  -999.00,9,  -999.00,9,  -999.0,-999.000
     33KB192_1,  PRS2,     2,  5,     15,   8015,2,20070610,0204, 22.7497,-158.0000, 4743,    100,    101.1,  23.4444,  35.1882,2,  35.1876,2,    218.3,1, 23.4234,   -999.0,9,  -999.00,9,  -999.00,9,  -999.00,9,  -999.0,-999.000
     33KB192_1,  PRS2,     2,  5,     14,   8014,2,20070610,0204, 22.7497,-158.0000, 4743,    125,    125.3,  22.8306,  35.2010,2,-999.0000,5,    217.6,1, 22.8051,   -999.0,9,  -999.00,9,  -999.00,9,  -999.00,9,  -999.0,-999.000
     33KB192_1,  PRS2,     2,  5,     13,   8025,2,20070610,0204, 22.7497,-158.0000, 4743,    124,    125.3,  22.8303,  35.2008,2,  35.2022,2,    217.6,1, 22.8048,   -999.0,9,  -999.00,9,  -999.00,9,  -999.00,9,  -999.0,-999.000
     33KB192_1,  PRS2,     2,  5,     12,   8012,2,20070610,0204, 22.7497,-158.0000, 4743,    150,    151.1,  22.0572,  35.2133,2,-999.0000,5,    214.3,1, 22.0273,   -999.0,9,  -999.00,9,  -999.00,9,  -999.00,9,  -999.0,-999.000
     33KB192_1,  PRS2,     2,  5,     11,   8011,2,20070610,0204, 22.7497,-158.0000, 4743,    151,    151.2,  22.0514,  35.2134,2,  35.2125,2,    214.2,1, 22.0214,   -999.0,9,  -999.00,9,  -999.00,9,  -999.00,9,  -999.0,-999.000
     33KB192_1,  PRS2,     2,  5,      9,   8009,2,20070610,0204, 22.7497,-158.0000, 4743,    200,    200.6,  19.9861,  35.0772,2,-999.0000,5,    191.4,1, 19.9490,   -999.0,9,  -999.00,9,  -999.00,9,  -999.00,9,  -999.0,-999.000
     33KB192_1,  PRS2,     2,  5,     10,   8010,2,20070610,0204, 22.7497,-158.0000, 4743,    199,    200.7,  19.9904,  35.0776,2,-999.0000,5,    191.4,1, 19.9532,   -999.0,9,  -999.00,9,  -999.00,9,  -999.00,9,  -999.0,-999.000
     33KB192_1,  PRS2,     2,  5,      8,   8008,2,20070610,0204, 22.7497,-158.0000, 4743,    250,    250.5,  17.2664,  34.7232,2,  34.7243,2,    193.3,1, 17.2247,   -999.0,9,  -999.00,9,  -999.00,9,  -999.00,9,  -999.0,-999.000
     33KB192_1,  PRS2,     2,  5,      7,   8026,2,20070610,0204, 22.7497,-158.0000, 4743,    299,    300.1,  14.5373,  34.3932,2,-999.0000,5,    196.6,1, 14.4929,   -999.0,9,  -999.00,9,  -999.00,9,  -999.00,9,  -999.0,-999.000
     33KB192_1,  PRS2,     2,  5,      6,   8006,2,20070610,0204, 22.7497,-158.0000, 4743,    301,    300.1,  14.5316,  34.3931,2,-999.0000,5,    196.7,1, 14.4872,   -999.0,9,  -999.00,9,  -999.00,9,  -999.00,9,  -999.0,-999.000
     33KB192_1,  PRS2,     2,  5,      5,   8005,2,20070610,0204, 22.7497,-158.0000, 4743,    349,    349.1,  11.8647,  34.2139,2,  34.2140,2,    204.3,1, 11.8196,   -999.0,9,  -999.00,9,  -999.00,9,  -999.00,9,  -999.0,-999.000
     33KB192_1,  PRS2,     2,  5,      4,   8004,2,20070610,0204, 22.7497,-158.0000, 4743,    500,    501.0,   7.9026,  34.1024,2,-999.0000,5,    118.8,1,  7.8519,   -999.0,9,  -999.00,9,  -999.00,9,  -999.00,9,  -999.0,-999.000
     33KB192_1,  PRS2,     2,  5,      3,   8003,2,20070610,0204, 22.7497,-158.0000, 4743,    580,    580.6,   6.6110,  34.0923,2,  34.0964,2,     86.8,1,  6.5576,   -999.0,9,  -999.00,9,  -999.00,9,  -999.00,9,  -999.0,-999.000
     33KB192_1,  PRS2,     2,  5,      2,   8002,2,20070610,0204, 22.7497,-158.0000, 4743,    770,    770.2,   4.7375,  34.3024,2,-999.0000,5,     25.2,1,  4.6764,   -999.0,9,  -999.00,9,  -999.00,9,  -999.00,9,  -999.0,-999.000
     33KB192_1,  PRS2,     2,  5,      1,   8001,2,20070610,0204, 22.7497,-158.0000, 4743,   1020,   1020.7,   4.1163,  34.4813,2,  34.4828,2,     42.0,1,  4.0380,   -999.0,9,  -999.00,9,  -999.00,9,  -999.00,9,  -999.0,-999.000