BOTTLE,20090923WHPSIOMYS
EXPOCODE,SECT_ID,STNNBR,CASTNO,SAMPNO,BTLNBR,BTLNBR_FLAG_W,DATE,TIME,LATITUDE,LONGITUDE,DEPTH,CTDRAW,CTDPRS,CTDTMP,CTDSAL,CTDSAL_FLAG_W,SALNTY,SALNTY_FLAG_W,CTDOXY,CTDOXY_FLAG_W,THETA,OXYGEN,OXYGEN_FLAG_W,SILCAT,SILCAT_FLAG_W,NO2+NO3,NO2+NO3_FLAG_W,PHSPHT,PHSPHT_FLAG_W,REVPRS,REVTMP
,,,,,,,,,,,,,DBAR,ITS-90,PSS-78,,PSS-78,,UMOL/KG,,ITS-90,UMOL/KG,,UMOL/KG,,UMOL/KG,,UMOL/KG,,DBAR,DEG C
     33KB192_1,  PRS2,     2,  6,     23,   8023,2,20070610,0447, 22.7490,-158.0007, 4744,      6,      6.4,  25.4444,  35.0128,2,  35.0157,2,    208.3,1, 25.4430,   -999.0,9,  -999.00,9,  -999.00,9,  -999.00,9,  -999.0,-999.000
     33KB192_1,  PRS2,     2,  6,     24,   8024,2,20070610,0447, 22.7490,-158.0007, 4744,      6,      6.7,  25.4431,  35.0129,2,-999.0000,5,    208.3,1, 25.4416,   -999.0,9,  -999.00,9,  -999.00,9,  -999.00,9,  -999.0,-999.000
     33KB192_1,  PRS2,     2,  6,     22,   8022,2,20070610,0447, 22.7490,-158.0007, 4744,     14,     14.8,  25.4483,  35.0127,2,  35.0132,2,    208.2,1, 25.4450,   -999.0,9,  -999.00,9,  -999.00,9,  -999.00,9,  -999.0,-999.000
     33KB192_1,  PRS2,     2,  6,     21,   8021,2,20070610,0447, 22.7490,-158.0007, 4744,     25,     25.5,  25.4462,  35.0116,2,-999.0000,5,    208.1,1, 25.4406,   -999.0,9,  -999.00,9,  -999.00,9,  -999.00,9,  -999.0,-999.000
     33KB192_1,  PRS2,     2,  6,     20,   8020,2,20070610,0447, 22.7490,-158.0007, 4744,     24,     25.5,  25.4467,  35.0116,2,  35.0114,2,    208.1,1, 25.4411,   -999.0,9,  -999.00,9,  -999.00,9,  -999.00,9,  -999.0,-999.000
     33KB192_1,  PRS2,     2,  6,     19,   8019,2,20070610,0447, 22.7490,-158.0007, 4744,     35,     35.4,  25.3716,  35.0034,2,  34.9970,2,    208.6,1, 25.3639,   -999.0,9,  -999.00,9,  -999.00,9,  -999.00,9,  -999.0,-999.000
     33KB192_1,  PRS2,     2,  6,     18,   8018,2,20070610,0447, 22.7490,-158.0007, 4744,     35,     35.4,  25.3698,  35.0032,2,  34.9957,2,    208.6,1, 25.3621,   -999.0,9,  -999.00,9,  -999.00,9,  -999.00,9,  -999.0,-999.000
     33KB192_1,  PRS2,     2,  6,     16,   8016,2,20070610,0447, 22.7490,-158.0007, 4744,     45,     45.8,  24.7664,  35.0791,2,-999.0000,5,    214.5,1, 24.7565,   -999.0,9,  -999.00,9,  -999.00,9,  -999.00,9,  -999.0,-999.000
     33KB192_1,  PRS2,     2,  6,     15,   8015,2,20070610,0447, 22.7490,-158.0007, 4744,     45,     45.8,  24.7619,  35.0800,2,  35.0742,2,    214.5,1, 24.7520,   -999.0,9,  -999.00,9,  -999.00,9,  -999.00,9,  -999.0,-999.000
     33KB192_1,  PRS2,     2,  6,     17,   8017,2,20070610,0447, 22.7490,-158.0007, 4744,     45,     46.0,  24.7608,  35.0820,2,-999.0000,5,    214.5,1, 24.7509,   -999.0,9,  -999.00,9,  -999.00,9,  -999.00,9,  -999.0,-999.000
     33KB192_1,  PRS2,     2,  6,     14,   8014,2,20070610,0447, 22.7490,-158.0007, 4744,     59,     60.4,  24.5481,  35.0997,2,  35.1000,2,    214.1,1, 24.5352,   -999.0,9,  -999.00,9,  -999.00,9,  -999.00,9,  -999.0,-999.000
     33KB192_1,  PRS2,     2,  6,     11,   8011,2,20070610,0447, 22.7490,-158.0007, 4744,     75,     74.9,  24.1280,  35.0884,2,  35.0884,2,    216.8,1, 24.1122,   -999.0,9,  -999.00,9,  -999.00,9,  -999.00,9,  -999.0,-999.000
     33KB192_1,  PRS2,     2,  6,     13,   8025,2,20070610,0447, 22.7490,-158.0007, 4744,     75,     75.0,  24.1287,  35.0885,2,-999.0000,5,    216.8,1, 24.1128,   -999.0,9,  -999.00,9,  -999.00,9,  -999.00,9,  -999.0,-999.000
     33KB192_1,  PRS2,     2,  6,     12,   8012,2,20070610,0447, 22.7490,-158.0007, 4744,     75,     75.0,  24.1282,  35.0886,2,-999.0000,5,    216.8,1, 24.1123,   -999.0,9,  -999.00,9,  -999.00,9,  -999.00,9,  -999.0,-999.000
     33KB192_1,  PRS2,     2,  6,     10,   8010,2,20070610,0447, 22.7490,-158.0007, 4744,    100,    100.4,  23.2927,  35.1820,2,-999.0000,5,    217.5,1, 23.2720,   -999.0,9,  -999.00,9,  -999.00,9,  -999.00,9,  -999.0,-999.000
     33KB192_1,  PRS2,     2,  6,      9,   8009,2,20070610,0447, 22.7490,-158.0007, 4744,     99,    100.4,  23.2916,  35.1765,2,  35.1711,2,    217.4,1, 23.2709,   -999.0,9,  -999.00,9,  -999.00,9,  -999.00,9,  -999.0,-999.000
     33KB192_1,  PRS2,     2,  6,      8,   8008,2,20070610,0447, 22.7490,-158.0007, 4744,    124,    124.5,  22.5850,  35.2018,2,-999.0000,5,    217.6,1, 22.5599,   -999.0,9,  -999.00,9,  -999.00,9,  -999.00,9,  -999.0,-999.000
     33KB192_1,  PRS2,     2,  6,      7,   8026,2,20070610,0447, 22.7490,-158.0007, 4744,    124,    124.5,  22.5863,  35.2018,2,  35.2046,2,    217.5,1, 22.5612,   -999.0,9,  -999.00,9,  -999.00,9,  -999.00,9,  -999.0,-999.000
     33KB192_1,  PRS2,     2,  6,      6,   8006,2,20070610,0447, 22.7490,-158.0007, 4744,    149,    150.6,  21.9488,  35.2141,2,-999.0000,5,    214.3,1, 21.9191,   -999.0,9,  -999.00,9,  -999.00,9,  -999.00,9,  -999.0,-999.000
     33KB192_1,  PRS2,     2,  6,      5,   8005,2,20070610,0447, 22.7490,-158.0007, 4744,    151,    150.7,  21.9500,  35.2137,2,  35.2282,3,    214.0,1, 21.9202,   -999.0,9,  -999.00,9,  -999.00,9,  -999.00,9,  -999.0,-999.000
     33KB192_1,  PRS2,     2,  6,      3,   8003,2,20070610,0447, 22.7490,-158.0007, 4744,    175,    176.0,  21.3397,  35.2047,2,  35.2016,2,    207.4,1, 21.3056,   -999.0,9,  -999.00,9,  -999.00,9,  -999.00,9,  -999.0,-999.000
     33KB192_1,  PRS2,     2,  6,      4,   8004,2,20070610,0447, 22.7490,-158.0007, 4744,    176,    176.1,  21.3362,  35.2036,2,-999.0000,5,    207.6,1, 21.3020,   -999.0,9,  -999.00,9,  -999.00,9,  -999.00,9,  -999.0,-999.000
     33KB192_1,  PRS2,     2,  6,      2,   8002,2,20070610,0447, 22.7490,-158.0007, 4744,    480,    481.2,   8.4986,  34.0928,2,  34.0919,2,    157.2,1,  8.4479,   -999.0,9,  -999.00,9,  -999.00,9,  -999.00,9,  -999.0,-999.000
     33KB192_1,  PRS2,     2,  6,      1,   8001,2,20070610,0447, 22.7490,-158.0007, 4744,   1020,   1020.7,   4.2095,  34.4755,2,  34.4756,2,     41.0,1,  4.1306,   -999.0,9,  -999.00,9,  -999.00,9,  -999.00,9,  -999.0,-999.000