BOTTLE,20090923WHPSIOMYS
#code : jjward hyd_to_exchange.pl 
#original files copied from HTML directory: 20090923
#original HYD file: 33KB192_1_hy.txt   Wed Sep 23 18:01:05 2009
#original SUM file: ../33KB192_1su.txt   Wed Sep 23 18:01:05 2009
EXPOCODE,SECT_ID,STNNBR,CASTNO,SAMPNO,BTLNBR,BTLNBR_FLAG_W,DATE,TIME,LATITUDE,LONGITUDE,DEPTH,CTDRAW,CTDPRS,CTDTMP,CTDSAL,CTDSAL_FLAG_W,SALNTY,SALNTY_FLAG_W,CTDOXY,CTDOXY_FLAG_W,THETA,OXYGEN,OXYGEN_FLAG_W,SILCAT,SILCAT_FLAG_W,NO2+NO3,NO2+NO3_FLAG_W,PHSPHT,PHSPHT_FLAG_W,REVPRS,REVTMP
,,,,,,,,,,,,,DBAR,ITS-90,PSS-78,,PSS-78,,UMOL/KG,,ITS-90,UMOL/KG,,UMOL/KG,,UMOL/KG,,UMOL/KG,,DBAR,DEG C
     33KB192_1,  PRS2,     1,  1,     24,   8024,2,20070608,2250, 21.3435,-158.2730, 1559,      6,      6.3,  26.1290,  34.9410,2,  34.9384,2,    205.6,2, 26.1276,    205.6,2,  -999.00,9,  -999.00,9,  -999.00,9,  -999.0,-999.000
     33KB192_1,  PRS2,     1,  1,     23,   8023,2,20070608,2250, 21.3435,-158.2730, 1559,      7,      6.3,  26.1247,  34.9410,2,  34.9380,2,    206.0,2, 26.1233,    205.8,2,  -999.00,9,  -999.00,9,  -999.00,9,  -999.0,-999.000
     33KB192_1,  PRS2,     1,  1,     22,   8022,2,20070608,2250, 21.3435,-158.2730, 1559,     26,     26.2,  25.9589,  34.9388,2,  34.9378,2,    207.0,2, 25.9530,    206.2,2,  -999.00,9,  -999.00,9,  -999.00,9,  -999.0,-999.000
     33KB192_1,  PRS2,     1,  1,     21,   8021,2,20070608,2250, 21.3435,-158.2730, 1559,     46,     46.0,  25.8151,  34.9453,2,  34.9512,2,    208.3,2, 25.8049,    208.8,2,  -999.00,9,  -999.00,9,  -999.00,9,  -999.0,-999.000
     33KB192_1,  PRS2,     1,  1,     20,   8020,2,20070608,2250, 21.3435,-158.2730, 1559,     60,     59.8,  25.0515,  35.0065,2,  35.1264,4,    213.4,3, 25.0385,    212.3,2,  -999.00,9,  -999.00,9,  -999.00,9,  -999.0,-999.000
     33KB192_1,  PRS2,     1,  1,     19,   8019,2,20070608,2250, 21.3435,-158.2730, 1559,     75,     75.5,  23.7351,  35.1221,2,  35.1219,2,    213.0,2, 23.7194,    212.1,2,  -999.00,9,  -999.00,9,  -999.00,9,  -999.0,-999.000
     33KB192_1,  PRS2,     1,  1,     18,   8018,2,20070608,2250, 21.3435,-158.2730, 1559,     99,     99.2,  22.4424,  35.0901,2,  35.0931,2,    203.5,2, 22.4225,    203.6,2,  -999.00,9,  -999.00,9,  -999.00,9,  -999.0,-999.000
     33KB192_1,  PRS2,     1,  1,     17,   8017,2,20070608,2250, 21.3435,-158.2730, 1559,    114,    114.2,  21.4805,  35.0628,2,  35.0622,2,    192.2,2, 21.4583,    194.0,2,  -999.00,9,  -999.00,9,  -999.00,9,  -999.0,-999.000
     33KB192_1,  PRS2,     1,  1,     16,   8016,2,20070608,2250, 21.3435,-158.2730, 1559,    124,    125.1,  20.3090,  35.0194,2,  35.0110,2,    190.9,2, 20.2857,    190.7,2,  -999.00,9,  -999.00,9,  -999.00,9,  -999.0,-999.000
     33KB192_1,  PRS2,     1,  1,     15,   8015,2,20070608,2250, 21.3435,-158.2730, 1559,    149,    150.5,  19.4767,  34.9915,2,  34.9876,2,    194.7,2, 19.4494,    194.7,2,  -999.00,9,  -999.00,9,  -999.00,9,  -999.0,-999.000
     33KB192_1,  PRS2,     1,  1,     14,   8014,2,20070608,2250, 21.3435,-158.2730, 1559,    174,    175.0,  17.9978,  34.8067,2,  34.8462,4,    190.0,3, 17.9678,    191.0,2,  -999.00,9,  -999.00,9,  -999.00,9,  -999.0,-999.000
     33KB192_1,  PRS2,     1,  1,     13,   8025,2,20070608,2250, 21.3435,-158.2730, 1559,    200,    199.9,  17.1299,  34.6907,2,  34.6840,2,    185.5,2, 17.0968,    186.8,2,  -999.00,9,  -999.00,9,  -999.00,9,  -999.0,-999.000
     33KB192_1,  PRS2,     1,  1,     12,   8012,2,20070608,2250, 21.3435,-158.2730, 1559,    224,    225.0,  15.8721,  34.5723,2,  34.5688,2,    194.2,2, 15.8368,    194.1,2,  -999.00,9,  -999.00,9,  -999.00,9,  -999.0,-999.000
     33KB192_1,  PRS2,     1,  1,     11,   8011,2,20070608,2250, 21.3435,-158.2730, 1559,    250,    250.5,  14.4902,  34.4063,2,  34.3955,2,    194.2,2, 14.4532,    195.9,2,  -999.00,9,  -999.00,9,  -999.00,9,  -999.0,-999.000
     33KB192_1,  PRS2,     1,  1,     10,   8010,2,20070608,2250, 21.3435,-158.2730, 1559,    299,    299.8,  12.4572,  34.2558,2,  34.2577,2,    197.8,2, 12.4172,    196.4,2,  -999.00,9,  -999.00,9,  -999.00,9,  -999.0,-999.000
     33KB192_1,  PRS2,     1,  1,      9,   8009,2,20070608,2250, 21.3435,-158.2730, 1559,    350,    350.4,  10.4339,  34.1833,2,  34.1809,2,    159.3,2, 10.3922,    158.5,2,  -999.00,9,  -999.00,9,  -999.00,9,  -999.0,-999.000
     33KB192_1,  PRS2,     1,  1,      8,   8008,2,20070608,2250, 21.3435,-158.2730, 1559,    400,    400.7,   9.2292,  34.1517,2,  34.1509,2,    142.0,2,  9.1850,    142.3,2,  -999.00,9,  -999.00,9,  -999.00,9,  -999.0,-999.000
     33KB192_1,  PRS2,     1,  1,      7,   8026,2,20070608,2250, 21.3435,-158.2730, 1559,    500,    500.2,   7.1160,  34.1506,2,  34.1495,2,     90.5,2,  7.0684,     88.4,2,  -999.00,9,  -999.00,9,  -999.00,9,  -999.0,-999.000
     33KB192_1,  PRS2,     1,  1,      6,   8006,2,20070608,2250, 21.3435,-158.2730, 1559,    600,    600.7,   6.1576,  34.2119,2,  34.2107,2,     50.8,2,  6.1042,     50.5,2,  -999.00,9,  -999.00,9,  -999.00,9,  -999.0,-999.000
     33KB192_1,  PRS2,     1,  1,      5,   8005,2,20070608,2250, 21.3435,-158.2730, 1559,    699,    699.8,   5.2696,  34.3427,2,  34.3450,2,     34.4,2,  5.2115,     33.9,2,  -999.00,9,  -999.00,9,  -999.00,9,  -999.0,-999.000
     33KB192_1,  PRS2,     1,  1,      4,   8004,2,20070608,2250, 21.3435,-158.2730, 1559,    750,    750.0,   4.9532,  34.3902,2,  34.3886,2,     35.5,2,  4.8925,     36.8,2,  -999.00,9,  -999.00,9,  -999.00,9,  -999.0,-999.000
     33KB192_1,  PRS2,     1,  1,      3,   8003,2,20070608,2250, 21.3435,-158.2730, 1559,    800,    799.7,   4.7646,  34.4214,2,  34.4208,2,     38.3,2,  4.7007,     38.7,2,  -999.00,9,  -999.00,9,  -999.00,9,  -999.0,-999.000
     33KB192_1,  PRS2,     1,  1,      2,   8002,2,20070608,2250, 21.3435,-158.2730, 1559,    900,    900.4,   4.3734,  34.4739,2,  34.4738,2,     44.4,2,  4.3034,     44.8,2,  -999.00,9,  -999.00,9,  -999.00,9,  -999.0,-999.000
     33KB192_1,  PRS2,     1,  1,      1,   8001,2,20070608,2250, 21.3435,-158.2730, 1559,   1021,   1020.6,   3.9770,  34.5050,2,  34.5040,2,     48.0,2,  3.8998,     47.9,2,  -999.00,9,  -999.00,9,  -999.00,9,  -999.0,-999.000
     33KB192_1,  PRS2,     2,  1,     21,   8021,2,20070609,0918, 22.7505,-158.0003, 4743,      7,      7.1,  25.5743,  34.9011,2,-999.0000,9,    207.6,1, 25.5727,   -999.0,9,  -999.00,9,  -999.00,9,  -999.00,9,  -999.0,-999.000
     33KB192_1,  PRS2,     2,  1,     24,   8024,2,20070609,0918, 22.7505,-158.0003, 4743,      7,      7.3,  25.5746,  34.9011,2,-999.0000,9,    207.6,1, 25.5729,   -999.0,9,  -999.00,9,  -999.00,9,  -999.00,9,  -999.0,-999.000
     33KB192_1,  PRS2,     2,  1,     22,   8022,2,20070609,0918, 22.7505,-158.0003, 4743,      6,      7.3,  25.5749,  34.9010,2,-999.0000,9,    207.6,1, 25.5733,   -999.0,9,  -999.00,9,  -999.00,9,  -999.00,9,  -999.0,-999.000
     33KB192_1,  PRS2,     2,  1,     20,   8020,2,20070609,0918, 22.7505,-158.0003, 4743,      6,      7.3,  25.5739,  34.9009,2,-999.0000,9,    207.6,1, 25.5723,   -999.0,9,  -999.00,9,  -999.00,9,  -999.00,9,  -999.0,-999.000
     33KB192_1,  PRS2,     2,  1,     19,   8019,2,20070609,0918, 22.7505,-158.0003, 4743,      6,      7.3,  25.5727,  34.9013,2,-999.0000,9,    207.7,1, 25.5711,   -999.0,9,  -999.00,9,  -999.00,9,  -999.00,9,  -999.0,-999.000
     33KB192_1,  PRS2,     2,  1,     17,   8017,2,20070609,0918, 22.7505,-158.0003, 4743,      7,      7.3,  25.5720,  34.9014,2,-999.0000,9,    207.7,1, 25.5703,   -999.0,9,  -999.00,9,  -999.00,9,  -999.00,9,  -999.0,-999.000
     33KB192_1,  PRS2,     2,  1,     23,   8023,2,20070609,0918, 22.7505,-158.0003, 4743,      7,      7.4,  25.5748,  34.9010,2,-999.0000,9,    207.6,1, 25.5732,   -999.0,9,  -999.00,9,  -999.00,9,  -999.00,9,  -999.0,-999.000
     33KB192_1,  PRS2,     2,  1,     18,   8018,2,20070609,0918, 22.7505,-158.0003, 4743,      8,      7.4,  25.5726,  34.9012,2,-999.0000,9,    207.7,1, 25.5710,   -999.0,9,  -999.00,9,  -999.00,9,  -999.00,9,  -999.0,-999.000
     33KB192_1,  PRS2,     2,  1,     16,   8016,2,20070609,0918, 22.7505,-158.0003, 4743,      8,      7.4,  25.5716,  34.9012,2,-999.0000,9,    207.8,1, 25.5700,   -999.0,9,  -999.00,9,  -999.00,9,  -999.00,9,  -999.0,-999.000
     33KB192_1,  PRS2,     2,  1,     12,   8012,2,20070609,0918, 22.7505,-158.0003, 4743,     24,     24.9,  25.5741,  34.9006,2,-999.0000,9,    208.1,1, 25.5686,   -999.0,9,  -999.00,9,  -999.00,9,  -999.00,9,  -999.0,-999.000
     33KB192_1,  PRS2,     2,  1,     11,   8011,2,20070609,0918, 22.7505,-158.0003, 4743,     25,     25.0,  25.5733,  34.9007,2,-999.0000,9,    208.1,1, 25.5678,   -999.0,9,  -999.00,9,  -999.00,9,  -999.00,9,  -999.0,-999.000
     33KB192_1,  PRS2,     2,  1,     15,   8015,2,20070609,0918, 22.7505,-158.0003, 4743,     25,     25.1,  25.5757,  34.9006,2,-999.0000,9,    207.8,1, 25.5702,   -999.0,9,  -999.00,9,  -999.00,9,  -999.00,9,  -999.0,-999.000
     33KB192_1,  PRS2,     2,  1,     13,   8025,2,20070609,0918, 22.7505,-158.0003, 4743,     24,     25.1,  25.5782,  34.9008,2,-999.0000,9,    208.0,1, 25.5726,   -999.0,9,  -999.00,9,  -999.00,9,  -999.00,9,  -999.0,-999.000
     33KB192_1,  PRS2,     2,  1,     14,   8014,2,20070609,0918, 22.7505,-158.0003, 4743,     24,     25.2,  25.5779,  34.9007,2,-999.0000,9,    207.9,1, 25.5724,   -999.0,9,  -999.00,9,  -999.00,9,  -999.00,9,  -999.0,-999.000
     33KB192_1,  PRS2,     2,  1,     10,   8010,2,20070609,0918, 22.7505,-158.0003, 4743,     24,     25.3,  25.5742,  34.9005,2,-999.0000,9,    208.1,1, 25.5686,   -999.0,9,  -999.00,9,  -999.00,9,  -999.00,9,  -999.0,-999.000
     33KB192_1,  PRS2,     2,  1,      9,   8009,2,20070609,0918, 22.7505,-158.0003, 4743,     25,     25.3,  25.5723,  34.9002,2,-999.0000,9,    208.1,1, 25.5668,   -999.0,9,  -999.00,9,  -999.00,9,  -999.00,9,  -999.0,-999.000
     33KB192_1,  PRS2,     2,  1,      6,   8006,2,20070609,0918, 22.7505,-158.0003, 4743,     45,     45.9,  24.9331,  34.9320,2,-999.0000,9,    212.6,1, 24.9231,   -999.0,9,  -999.00,9,  -999.00,9,  -999.00,9,  -999.0,-999.000
     33KB192_1,  PRS2,     2,  1,      5,   8005,2,20070609,0918, 22.7505,-158.0003, 4743,     46,     45.9,  24.9323,  34.9323,2,-999.0000,9,    212.6,1, 24.9224,   -999.0,9,  -999.00,9,  -999.00,9,  -999.00,9,  -999.0,-999.000
     33KB192_1,  PRS2,     2,  1,      4,   8004,2,20070609,0918, 22.7505,-158.0003, 4743,     45,     45.9,  24.9331,  34.9320,2,-999.0000,9,    212.6,1, 24.9232,   -999.0,9,  -999.00,9,  -999.00,9,  -999.00,9,  -999.0,-999.000
     33KB192_1,  PRS2,     2,  1,      7,   8026,2,20070609,0918, 22.7505,-158.0003, 4743,     45,     46.0,  24.9312,  34.9327,2,-999.0000,9,    212.5,1, 24.9213,   -999.0,9,  -999.00,9,  -999.00,9,  -999.00,9,  -999.0,-999.000
     33KB192_1,  PRS2,     2,  1,      3,   8003,2,20070609,0918, 22.7505,-158.0003, 4743,     46,     46.0,  24.9335,  34.9320,2,-999.0000,9,    212.6,1, 24.9235,   -999.0,9,  -999.00,9,  -999.00,9,  -999.00,9,  -999.0,-999.000
     33KB192_1,  PRS2,     2,  1,      2,   8002,2,20070609,0918, 22.7505,-158.0003, 4743,     46,     46.0,  24.9249,  34.9330,2,-999.0000,9,    212.7,1, 24.9150,   -999.0,9,  -999.00,9,  -999.00,9,  -999.00,9,  -999.0,-999.000
     33KB192_1,  PRS2,     2,  1,      8,   8008,2,20070609,0918, 22.7505,-158.0003, 4743,     46,     46.1,  24.9296,  34.9320,2,-999.0000,9,    212.5,1, 24.9196,   -999.0,9,  -999.00,9,  -999.00,9,  -999.00,9,  -999.0,-999.000
     33KB192_1,  PRS2,     2,  1,      1,   8001,2,20070609,0918, 22.7505,-158.0003, 4743,    150,    151.2,  22.1668,  35.2099,2,-999.0000,9,    216.7,1, 22.1367,   -999.0,9,  -999.00,9,  -999.00,9,  -999.00,9,  -999.0,-999.000
     33KB192_1,  PRS2,     2,  2,     24,   8024,2,20070609,1107, 22.7498,-158.0002, 4743,     44,     45.3,  24.8172,  35.0138,2,-999.0000,9,    212.6,1, 24.8074,   -999.0,9,  -999.00,9,  -999.00,9,  -999.00,9,  -999.0,-999.000
     33KB192_1,  PRS2,     2,  2,     23,   8023,2,20070609,1107, 22.7498,-158.0002, 4743,     45,     45.3,  24.8169,  35.0110,2,-999.0000,9,    212.7,1, 24.8072,   -999.0,9,  -999.00,9,  -999.00,9,  -999.00,9,  -999.0,-999.000
     33KB192_1,  PRS2,     2,  2,     18,   8018,2,20070609,1107, 22.7498,-158.0002, 4743,     75,     75.7,  23.6576,  35.0282,2,-999.0000,9,    217.9,1, 23.6418,   -999.0,9,  -999.00,9,  -999.00,9,  -999.00,9,  -999.0,-999.000
     33KB192_1,  PRS2,     2,  2,     16,   8016,2,20070609,1107, 22.7498,-158.0002, 4743,     76,     75.7,  23.6572,  35.0283,2,-999.0000,9,    217.6,1, 23.6414,   -999.0,9,  -999.00,9,  -999.00,9,  -999.00,9,  -999.0,-999.000
     33KB192_1,  PRS2,     2,  2,     22,   8022,2,20070609,1107, 22.7498,-158.0002, 4743,     75,     75.8,  23.6530,  35.0285,2,-999.0000,9,    218.3,1, 23.6373,   -999.0,9,  -999.00,9,  -999.00,9,  -999.00,9,  -999.0,-999.000
     33KB192_1,  PRS2,     2,  2,     21,   8021,2,20070609,1107, 22.7498,-158.0002, 4743,     75,     75.8,  23.6532,  35.0279,2,-999.0000,9,    218.3,1, 23.6374,   -999.0,9,  -999.00,9,  -999.00,9,  -999.00,9,  -999.0,-999.000
     33KB192_1,  PRS2,     2,  2,     20,   8020,2,20070609,1107, 22.7498,-158.0002, 4743,     75,     75.8,  23.6523,  35.0282,2,-999.0000,9,    218.1,1, 23.6365,   -999.0,9,  -999.00,9,  -999.00,9,  -999.00,9,  -999.0,-999.000
     33KB192_1,  PRS2,     2,  2,     19,   8019,2,20070609,1107, 22.7498,-158.0002, 4743,     75,     75.8,  23.6545,  35.0283,2,-999.0000,9,    218.0,1, 23.6387,   -999.0,9,  -999.00,9,  -999.00,9,  -999.00,9,  -999.0,-999.000
     33KB192_1,  PRS2,     2,  2,     17,   8017,2,20070609,1107, 22.7498,-158.0002, 4743,     75,     75.8,  23.6561,  35.0281,2,-999.0000,9,    217.8,1, 23.6403,   -999.0,9,  -999.00,9,  -999.00,9,  -999.00,9,  -999.0,-999.000
     33KB192_1,  PRS2,     2,  2,     15,   8015,2,20070609,1107, 22.7498,-158.0002, 4743,     99,    100.3,  23.0855,  35.1299,2,-999.0000,9,    216.6,1, 23.0649,   -999.0,9,  -999.00,9,  -999.00,9,  -999.00,9,  -999.0,-999.000
     33KB192_1,  PRS2,     2,  2,     14,   8014,2,20070609,1107, 22.7498,-158.0002, 4743,     99,    100.3,  23.0805,  35.1319,2,-999.0000,9,    216.6,1, 23.0600,   -999.0,9,  -999.00,9,  -999.00,9,  -999.00,9,  -999.0,-999.000
     33KB192_1,  PRS2,     2,  2,     13,   8025,2,20070609,1107, 22.7498,-158.0002, 4743,    100,    100.4,  23.0807,  35.1318,2,-999.0000,9,    216.5,1, 23.0601,   -999.0,9,  -999.00,9,  -999.00,9,  -999.00,9,  -999.0,-999.000
     33KB192_1,  PRS2,     2,  2,     11,   8011,2,20070609,1107, 22.7498,-158.0002, 4743,    100,    100.4,  23.0829,  35.1310,2,-999.0000,9,    216.3,1, 23.0624,   -999.0,9,  -999.00,9,  -999.00,9,  -999.00,9,  -999.0,-999.000
     33KB192_1,  PRS2,     2,  2,     12,   8012,2,20070609,1107, 22.7498,-158.0002, 4743,    100,    100.5,  23.0809,  35.1319,2,-999.0000,9,    216.4,1, 23.0603,   -999.0,9,  -999.00,9,  -999.00,9,  -999.00,9,  -999.0,-999.000
     33KB192_1,  PRS2,     2,  2,      9,   8009,2,20070609,1107, 22.7498,-158.0002, 4743,     99,    100.5,  23.0852,  35.1301,2,-999.0000,9,    216.5,1, 23.0646,   -999.0,9,  -999.00,9,  -999.00,9,  -999.00,9,  -999.0,-999.000
     33KB192_1,  PRS2,     2,  2,     10,   8010,2,20070609,1107, 22.7498,-158.0002, 4743,     99,    100.6,  23.0835,  35.1308,2,-999.0000,9,    216.3,1, 23.0629,   -999.0,9,  -999.00,9,  -999.00,9,  -999.00,9,  -999.0,-999.000
     33KB192_1,  PRS2,     2,  2,      6,   8006,2,20070609,1107, 22.7498,-158.0002, 4743,    125,    125.5,  22.6137,  35.1912,2,-999.0000,9,    218.8,1, 22.5883,   -999.0,9,  -999.00,9,  -999.00,9,  -999.00,9,  -999.0,-999.000
     33KB192_1,  PRS2,     2,  2,      5,   8005,2,20070609,1107, 22.7498,-158.0002, 4743,    125,    125.5,  22.6079,  35.1915,2,-999.0000,9,    218.9,1, 22.5826,   -999.0,9,  -999.00,9,  -999.00,9,  -999.00,9,  -999.0,-999.000
     33KB192_1,  PRS2,     2,  2,      4,   8004,2,20070609,1107, 22.7498,-158.0002, 4743,    125,    125.5,  22.6064,  35.1916,2,-999.0000,9,    218.9,1, 22.5811,   -999.0,9,  -999.00,9,  -999.00,9,  -999.00,9,  -999.0,-999.000
     33KB192_1,  PRS2,     2,  2,      3,   8003,2,20070609,1107, 22.7498,-158.0002, 4743,    125,    125.5,  22.6047,  35.1917,2,-999.0000,9,    218.9,1, 22.5794,   -999.0,9,  -999.00,9,  -999.00,9,  -999.00,9,  -999.0,-999.000
     33KB192_1,  PRS2,     2,  2,      2,   8002,2,20070609,1107, 22.7498,-158.0002, 4743,    124,    125.5,  22.6030,  35.1916,2,-999.0000,9,    218.9,1, 22.5777,   -999.0,9,  -999.00,9,  -999.00,9,  -999.00,9,  -999.0,-999.000
     33KB192_1,  PRS2,     2,  2,      8,   8008,2,20070609,1107, 22.7498,-158.0002, 4743,    125,    125.6,  22.6119,  35.1911,2,-999.0000,9,    218.8,1, 22.5866,   -999.0,9,  -999.00,9,  -999.00,9,  -999.00,9,  -999.0,-999.000
     33KB192_1,  PRS2,     2,  2,      7,   8026,2,20070609,1107, 22.7498,-158.0002, 4743,    125,    125.6,  22.6122,  35.1913,2,-999.0000,9,    218.8,1, 22.5869,   -999.0,9,  -999.00,9,  -999.00,9,  -999.00,9,  -999.0,-999.000
     33KB192_1,  PRS2,     2,  2,      1,   8001,2,20070609,1107, 22.7498,-158.0002, 4743,    150,    150.5,  22.0007,  35.2084,2,-999.0000,9,    215.4,1, 21.9708,   -999.0,9,  -999.00,9,  -999.00,9,  -999.00,9,  -999.0,-999.000