BOTTLE,20211110CCHSIORKP
EXPOCODE,SECT_ID,STNNBR,CASTNO,SAMPNO,BTLNBR,BTLNBR_FLAG_W,DATE,TIME,LATITUDE,LONGITUDE,DEPTH,CTDPRS,CTDTMP,CTDSAL,CTDSAL_FLAG_W,SALNTY,SALNTY_FLAG_W,CTDOXY,CTDOXY_FLAG_W,OXYGEN,OXYGEN_FLAG_W,SILCAT,SILCAT_FLAG_W,PHSPHT,PHSPHT_FLAG_W,NO2+NO3,NO2+NO3_FLAG_W,THETA
,,,,,,,,,,,METERS,DBAR,ITS-90,PSS-78,,PSS-78,,UMOL/KG,,UMOL/KG,,UMOL/KG,,UMOL/KG,,UMOL/KG,,ITS-90
49EWBO9401_1,       P02C,      31,          1,          0,          0,2,19940124,       1723,    29.9830,   152.0820,       6022,     0.0,-999.0000,-999.0000,9,  34.8197,2,   -999.0,9,  -999.0,9,    0.00,3,    0.11,4,    0.00,3,     -999.0
49EWBO9401_1,       P02C,      31,          1,         23,         23,2,19940124,       1723,    29.9830,   152.0820,       6022,    50.2,  19.2935,  34.7835,2,  34.7925,3,    204.6,2,   223.4,2,    0.20,3,    0.10,4,    0.00,3,    19.2845
49EWBO9401_1,       P02C,      31,          1,         22,         22,2,19940124,       1723,    29.9830,   152.0820,       6022,   101.3,  18.9877,  34.7968,2,  34.8163,2,    203.4,2,   220.8,2,    0.70,3,    0.11,4,    0.42,3,    18.9697
49EWBO9401_1,       P02C,      31,          1,         21,         21,2,19940124,       1723,    29.9830,   152.0820,       6022,   198.1,  18.8092,  34.7984,2,  34.8187,2,    202.8,2,   221.2,2,    0.70,3,    0.15,4,    0.54,3,    18.7741
49EWBO9401_1,       P02C,      31,          1,         20,         20,2,19940124,       1723,    29.9830,   152.0820,       6022,   301.5,  17.1767,  34.7720,2,  34.7909,2,    195.8,2,   205.4,2,    2.20,3,    0.32,4,    3.89,3,    17.1265
49EWBO9401_1,       P02C,      31,          1,         19,         19,2,19940124,       1723,    29.9830,   152.0820,       6022,   399.8,  15.6729,  34.6517,2,  34.6736,2,    188.8,2,   185.4,2,    7.50,3,    0.55,4,    8.25,3,    15.6103
49EWBO9401_1,       P02C,      31,          1,         18,         18,2,19940124,       1723,    29.9830,   152.0820,       6022,   500.1,  12.8894,  34.4536,2,  34.4796,3,    176.3,2,   174.2,2,   16.80,3,    0.91,4,   13.90,3,    12.8206
49EWBO9401_1,       P02C,      31,          1,         17,         17,2,19940124,       1723,    29.9830,   152.0820,       6022,   599.4,  10.3295,  34.3191,2,  34.3371,2,    165.3,2,   148.7,2,   34.00,3,    1.39,4,   20.73,3,    10.2577
49EWBO9401_1,       P02C,      31,          1,         16,         16,2,19940124,       1723,    29.9830,   152.0820,       6022,   699.6,   6.4574,  33.9872,2,  34.0123,2,    148.7,2,   155.6,2,   52.30,3,    1.89,4,   27.34,3,     6.3934
49EWBO9401_1,       P02C,      31,          1,         15,         15,2,19940124,       1723,    29.9830,   152.0820,       6022,   800.9,   4.7665,  34.0005,2,  34.0182,2,    142.4,2,   109.5,2,   77.90,3,    2.37,4,   34.33,3,     4.7030
49EWBO9401_1,       P02C,      31,          1,         14,         14,2,19940124,       1723,    29.9830,   152.0820,       6022,   901.4,   4.4498,  34.1464,2,  34.1624,2,    141.9,2,    68.8,2,   97.20,3,    2.60,4,   38.10,3,     4.3797
49EWBO9401_1,       P02C,      31,          1,         13,         13,2,19940124,       1723,    29.9830,   152.0820,       6022,  1000.6,   3.9597,  34.2336,2,  34.2480,2,    140.5,2,    51.0,2,  112.80,3,    2.72,4,   40.07,3,     3.8847
49EWBO9401_1,       P02C,      31,          1,         12,         12,2,19940124,       1723,    29.9830,   152.0820,       6022,  1248.4,   3.0690,  34.3859,2,  34.4018,2,    138.1,2,    35.7,2,  139.40,3,    2.88,4,   42.27,3,     2.9814
49EWBO9401_1,       P02C,      31,          1,         11,         11,2,19940124,       1723,    29.9830,   152.0820,       6022,  1502.7,   2.5700,  34.4698,2,  34.4818,3,    136.9,2,    33.8,2,  154.50,3,    2.91,4,   42.88,3,     2.4671
49EWBO9401_1,       P02C,      31,          1,         10,         10,2,19940124,       1723,    29.9830,   152.0820,       6022,  1750.6,   2.2463,  34.5313,2,  34.5474,2,    136.4,2,    46.5,2,  162.90,3,    2.89,4,   42.27,3,     2.1272
49EWBO9401_1,       P02C,      31,          1,          9,          9,2,19940124,       1723,    29.9830,   152.0820,       6022,  2000.5,   2.0162,  34.5775,2,  34.5936,2,    136.1,2,    66.4,2,  164.90,3,    2.83,4,   41.19,3,     1.8796
49EWBO9401_1,       P02C,      31,          1,          8,          8,2,19940124,       1723,    29.9830,   152.0820,       6022,  2501.7,   1.6828,  34.6325,2,  34.6463,3,    135.9,2,   105.9,2,  161.80,3,    2.60,4,   39.02,3,     1.5083
49EWBO9401_1,       P02C,      31,          1,          7,          7,2,19940124,       1723,    29.9830,   152.0820,       6022,  2997.4,   1.5638,  34.6538,2,  34.6615,2,    136.3,2,   124.5,2,  157.10,3,    2.48,4,   37.56,3,     1.3459
49EWBO9401_1,       P02C,      31,          1,          6,          6,2,19940124,       1723,    29.9830,   152.0820,       6022,  3498.9,   1.5062,  34.6655,2,  34.6783,2,    137.0,2,   137.6,2,  153.90,3,    2.43,4,   36.66,3,     1.2400
49EWBO9401_1,       P02C,      31,          1,          5,          5,2,19940124,       1723,    29.9830,   152.0820,       6022,  4000.9,   1.4752,  34.6737,2,  34.6850,2,    137.6,2,   148.1,2,  150.80,3,    2.39,4,   36.20,3,     1.1569
49EWBO9401_1,       P02C,      31,          1,          4,          4,2,19940124,       1723,    29.9830,   152.0820,       6022,  4498.3,   1.4793,  34.6786,2,  34.6897,2,    138.4,2,   154.4,2,  148.70,3,    2.36,4,   35.58,3,     1.1051
49EWBO9401_1,       P02C,      31,          1,          3,          3,2,19940124,       1723,    29.9830,   152.0820,       6022,  5001.0,   1.5049,  34.6816,2,  34.6920,2,    139.2,2,   160.8,2,  145.00,3,    2.33,4,   35.19,3,     1.0704
49EWBO9401_1,       P02C,      31,          1,          2,          2,2,19940124,       1723,    29.9830,   152.0820,       6022,  5499.9,   1.5396,  34.6840,2,  34.6950,2,    140.0,2,   163.7,2,  141.90,3,    2.30,4,   34.78,3,     1.0416
49EWBO9401_1,       P02C,      31,          1,          1,          1,2,19940124,       1723,    29.9830,   152.0820,       6022,  5777.4,   1.5661,  34.6851,2,  34.7020,2,    140.5,2,   168.6,2,  139.80,3,    2.30,4,   34.40,3,     1.0311
49EWBO9401_1,       P02C,      30,          1,          0,          0,2,19940125,       0050,    29.9830,   151.5000,       6001,     0.0,-999.0000,-999.0000,9,  34.8340,2,   -999.0,9,   223.5,2,    0.00,3,    0.07,4,    0.10,3,     -999.0
49EWBO9401_1,       P02C,      30,          1,         23,         23,2,19940125,       0050,    29.9830,   151.5000,       6001,    47.4,  19.2035,  34.8100,2,  34.8284,2,    204.4,2,   221.6,2,    0.00,3,    0.04,4,    0.13,3,    19.1950
49EWBO9401_1,       P02C,      30,          1,         22,         22,2,19940125,       0050,    29.9830,   151.5000,       6001,    99.2,  19.2156,  34.8093,2,  34.8276,2,    204.5,2,   221.0,2,    0.50,3,    0.01,4,    0.17,3,    19.1978
49EWBO9401_1,       P02C,      30,          1,         21,         21,2,19940125,       0050,    29.9830,   151.5000,       6001,   199.3,  18.0851,  34.8129,2,  34.8247,2,    199.8,2,   200.9,2,    1.10,3,    0.17,4,    2.73,3,    18.0508
49EWBO9401_1,       P02C,      30,          1,         20,         20,2,19940125,       0050,    29.9830,   151.5000,       6001,   298.8,  17.0932,  34.7628,2,  34.7808,2,    195.4,2,   202.5,2,    2.10,3,    0.23,4,    4.08,3,    17.0436
49EWBO9401_1,       P02C,      30,          1,         19,         19,2,19940125,       0050,    29.9830,   151.5000,       6001,   397.7,  15.6753,  34.6522,2,  34.6769,2,    188.9,2,   186.4,2,    6.20,3,    0.48,4,    7.82,3,    15.6130
49EWBO9401_1,       P02C,      30,          1,         18,         18,2,19940125,       0050,    29.9830,   151.5000,       6001,   498.6,  13.2234,  34.4790,2,  34.4981,2,    177.8,2,   175.3,2,   15.00,3,    0.83,4,   12.77,3,    13.1536
49EWBO9401_1,       P02C,      30,          1,         17,         17,2,19940125,       0050,    29.9830,   151.5000,       6001,   598.7,   9.5565,  34.2156,2,  34.2308,2,    161.7,2,   168.0,2,   31.60,3,    1.33,4,   19.40,3,     9.4882
49EWBO9401_1,       P02C,      30,          1,         16,         16,2,19940125,       0050,    29.9830,   151.5000,       6001,   699.4,   5.8391,  33.9061,2,  33.9202,2,    146.0,2,   167.5,2,   52.20,3,    1.89,4,   26.24,3,     5.7785
49EWBO9401_1,       P02C,      30,          1,         15,         15,2,19940125,       0050,    29.9830,   151.5000,       6001,   799.0,   4.8834,  34.0240,2,  34.0385,2,    142.9,2,   107.3,2,   77.60,3,    2.31,4,   32.89,3,     4.8193
49EWBO9401_1,       P02C,      30,          1,         14,         14,2,19940125,       0050,    29.9830,   151.5000,       6001,   897.3,   4.4255,  34.1319,2,  34.1398,2,    141.7,2,    93.8,2,   95.70,3,    2.55,4,   36.40,3,     4.3559
49EWBO9401_1,       P02C,      30,          1,         13,         13,2,19940125,       0050,    29.9830,   151.5000,       6001,   995.9,   3.9026,  34.2448,2,-999.0000,9,    140.3,2,    52.7,2,  112.20,3,    2.66,4,   38.40,3,     3.8282
49EWBO9401_1,       P02C,      30,          1,         12,         12,2,19940125,       0050,    29.9830,   151.5000,       6001,  1251.8,   3.0643,  34.3890,2,  34.3945,3,    138.1,2,    35.4,2,  138.10,3,    2.83,4,   40.76,3,     2.9765
49EWBO9401_1,       P02C,      30,          1,         11,         11,2,19940125,       0050,    29.9830,   151.5000,       6001,  1500.1,   2.5865,  34.4678,2,  34.4734,2,    137.0,2,    33.7,2,  153.10,3,    2.95,4,   41.34,3,     2.4837
49EWBO9401_1,       P02C,      30,          1,         10,         10,2,19940125,       0050,    29.9830,   151.5000,       6001,  1746.9,   2.2421,  34.5402,2,  34.5523,2,    136.4,2,    52.4,2,  159.80,3,    2.91,4,   40.40,3,     2.1234
49EWBO9401_1,       P02C,      30,          1,          9,          9,2,19940125,       0050,    29.9830,   151.5000,       6001,  1996.7,   1.9851,  34.5832,2,  34.5929,2,    136.0,2,    72.4,2,  162.40,3,    2.81,4,   39.79,3,     1.8493
49EWBO9401_1,       P02C,      30,          1,          8,          8,2,19940125,       0050,    29.9830,   151.5000,       6001,  2493.6,   1.7001,  34.6311,2,  34.6421,2,    135.9,2,   105.7,2,  158.20,3,    2.66,4,   37.47,3,     1.5260
49EWBO9401_1,       P02C,      30,          1,          7,          7,2,19940125,       0050,    29.9830,   151.5000,       6001,  2999.1,   1.5729,  34.6535,2,  34.6633,2,    136.4,2,   127.6,2,  153.60,3,    2.52,4,   36.15,3,     1.3546
49EWBO9401_1,       P02C,      30,          1,          6,          6,2,19940125,       0050,    29.9830,   151.5000,       6001,  3500.0,   1.5081,  34.6650,2,  34.6765,2,    137.0,2,   137.7,2,  152.60,3,    2.44,4,   35.50,3,     1.2418
49EWBO9401_1,       P02C,      30,          1,          5,          5,2,19940125,       0050,    29.9830,   151.5000,       6001,  3999.0,   1.4743,  34.6733,2,  34.6764,3,    137.6,2,   147.6,2,  150.00,3,    2.42,4,   34.94,3,     1.1563
49EWBO9401_1,       P02C,      30,          1,          4,          4,2,19940125,       0050,    29.9830,   151.5000,       6001,  4498.3,   1.4776,  34.6782,2,  34.6833,2,    138.4,2,   153.6,2,  148.00,3,    2.41,4,   34.41,3,     1.1035
49EWBO9401_1,       P02C,      30,          1,          3,          3,2,19940125,       0050,    29.9830,   151.5000,       6001,  5000.0,   1.5036,  34.6811,2,  34.6793,2,    139.2,2,   158.7,3,  143.80,3,    2.36,4,   33.95,3,     1.0693
49EWBO9401_1,       P02C,      30,          1,          2,          2,2,19940125,       0050,    29.9830,   151.5000,       6001,  5498.8,   1.5427,  34.6835,2,  34.6848,3,    140.1,2,   157.2,2,  141.80,3,    2.41,4,   34.36,3,     1.0448
49EWBO9401_1,       P02C,      30,          1,          1,          1,2,19940125,       0050,    29.9830,   151.5000,       6001,  5845.1,   1.5750,  34.6845,2,  34.6904,2,    140.6,2,   168.0,2,  138.70,3,    2.31,4,   33.24,3,     1.0308
49EWBO9401_1,       P02C,      29,          1,          0,          0,2,19940125,       0838,    29.9830,   150.9170,       5983,     0.0,-999.0000,-999.0000,9,  34.8379,2,   -999.0,9,   222.4,2,    0.00,3,    0.16,4,    0.07,3,     -999.0
49EWBO9401_1,       P02C,      29,          1,         23,         23,2,19940125,       0838,    29.9830,   150.9170,       5983,    48.8,  19.2171,  34.8049,2,  34.8189,2,    204.4,2,   221.6,2,    0.00,3,    0.18,4,    0.03,3,    19.2084
49EWBO9401_1,       P02C,      29,          1,         22,         22,2,19940125,       0838,    29.9830,   150.9170,       5983,    99.9,  19.1969,  34.8046,2,  34.8147,2,    204.4,2,  -999.0,9,    0.00,3,    0.21,4,    0.10,3,    19.1790
49EWBO9401_1,       P02C,      29,          1,         21,         21,2,19940125,       0838,    29.9830,   150.9170,       5983,   197.7,  18.2204,  34.8150,2,  34.8395,3,    200.3,2,   199.6,2,    1.40,3,    0.36,4,    2.75,3,    18.1862
49EWBO9401_1,       P02C,      29,          1,         20,         20,2,19940125,       0838,    29.9830,   150.9170,       5983,   297.8,  17.2648,  34.7770,2,  34.7885,2,    196.1,2,   207.6,2,    0.90,3,    0.45,4,    3.48,3,    17.2151
49EWBO9401_1,       P02C,      29,          1,         19,         19,2,19940125,       0838,    29.9830,   150.9170,       5983,   400.7,  15.8416,  34.6655,2,  34.6838,3,    189.7,2,   187.1,2,    5.50,3,    0.70,4,    7.74,3,    15.7784
49EWBO9401_1,       P02C,      29,          1,         18,         18,2,19940125,       0838,    29.9830,   150.9170,       5983,   499.4,  13.6690,  34.5074,2,  34.5217,2,    179.8,2,   175.2,2,   13.80,3,    1.02,4,   12.54,3,    13.5975
49EWBO9401_1,       P02C,      29,          1,         17,         17,2,19940125,       0838,    29.9830,   150.9170,       5983,   599.1,  10.6330,  34.3056,2,  34.3281,3,    166.5,2,   161.7,2,   26.20,3,    1.54,4,   18.90,3,    10.5599
49EWBO9401_1,       P02C,      29,          1,         16,         16,2,19940125,       0838,    29.9830,   150.9170,       5983,   697.8,   6.9241,  34.0312,2,  34.0434,2,    150.7,2,   155.3,2,   47.40,3,    2.08,4,   26.21,3,     6.8578
49EWBO9401_1,       P02C,      29,          1,         15,         15,2,19940125,       0838,    29.9830,   150.9170,       5983,   797.7,   5.3035,  33.9872,2,  33.9995,2,    144.4,2,   125.0,2,   66.60,3,    2.59,4,   31.79,3,     5.2370
49EWBO9401_1,       P02C,      29,          1,         14,         14,2,19940125,       0838,    29.9830,   150.9170,       5983,   890.4,   4.5782,  34.0949,2,  34.1002,3,    142.1,2,    81.1,2,   88.80,3,    2.25,4,   36.55,3,     4.5082
49EWBO9401_1,       P02C,      29,          1,         13,         13,2,19940125,       0838,    29.9830,   150.9170,       5983,   999.6,   4.0975,  34.1993,2,  34.2057,2,    140.9,2,    55.4,2,  104.80,3,    2.42,4,   39.28,3,     4.0216
49EWBO9401_1,       P02C,      29,          1,         12,         12,2,19940125,       0838,    29.9830,   150.9170,       5983,  1247.6,   3.1849,  34.3721,2,  34.3779,3,    138.5,2,    28.8,2,  133.20,3,    2.63,4,   41.95,3,     3.0963
49EWBO9401_1,       P02C,      29,          1,         11,         11,2,19940125,       0838,    29.9830,   150.9170,       5983,  1495.3,   2.7036,  34.4649,2,  34.4773,3,    137.4,2,    33.5,2,  149.20,3,    2.69,4,   42.51,3,     2.5998
49EWBO9401_1,       P02C,      29,          1,         10,         10,2,19940125,       0838,    29.9830,   150.9170,       5983,  1747.6,   2.2622,  34.5363,2,  34.5447,2,    136.4,2,    49.7,2,  159.00,3,    2.63,4,   41.84,3,     2.1432
49EWBO9401_1,       P02C,      29,          1,          9,          9,2,19940125,       0838,    29.9830,   150.9170,       5983,  2000.1,   2.0135,  34.5768,2,  34.5818,2,    136.1,2,    66.7,2,  163.20,3,    2.57,4,   40.86,3,     1.8770
49EWBO9401_1,       P02C,      29,          1,          8,          8,2,19940125,       0838,    29.9830,   150.9170,       5983,  2433.8,   1.7529,  34.6215,2,  34.6258,2,    136.0,2,    95.9,2,  158.60,3,    2.47,4,   39.25,3,     1.5832
49EWBO9401_1,       P02C,      29,          1,          7,          7,2,19940125,       0838,    29.9830,   150.9170,       5983,  2996.4,   1.5837,  34.6504,2,  34.6517,2,    136.4,2,   121.4,2,  155.50,3,    2.32,4,   37.52,3,     1.3655
49EWBO9401_1,       P02C,      29,          1,          6,          6,2,19940125,       0838,    29.9830,   150.9170,       5983,  3498.9,   1.5064,  34.6651,2,  34.6689,2,    137.0,2,   138.9,2,  150.90,3,    2.24,4,   36.32,3,     1.2403
49EWBO9401_1,       P02C,      29,          1,          5,          5,2,19940125,       0838,    29.9830,   150.9170,       5983,  3999.0,   1.4823,  34.6724,2,  34.6792,2,    137.7,2,   146.9,2,  148.90,3,    2.22,4,   35.80,3,     1.1640
49EWBO9401_1,       P02C,      29,          1,          4,          4,2,19940125,       0838,    29.9830,   150.9170,       5983,  4499.8,   1.4845,  34.6775,2,  34.6838,2,    138.4,2,   154.0,2,  146.30,3,    2.20,4,   35.33,3,     1.1101
49EWBO9401_1,       P02C,      29,          1,          3,          3,2,19940125,       0838,    29.9830,   150.9170,       5983,  4999.1,   1.5065,  34.6807,2,  34.6865,2,    139.2,2,   158.1,2,  144.80,3,    2.19,4,   34.99,3,     1.0722
49EWBO9401_1,       P02C,      29,          1,          2,          2,2,19940125,       0838,    29.9830,   150.9170,       5983,  5499.7,   1.5384,  34.6833,2,  34.6816,3,    140.0,2,   163.1,2,  141.20,3,    2.15,4,   34.53,3,     1.0405
49EWBO9401_1,       P02C,      29,          1,          1,          1,2,19940125,       0838,    29.9830,   150.9170,       5983,  5823.1,   1.5677,  34.6844,2,  34.6912,2,    140.6,2,   166.8,2,  138.10,3,    2.18,4,   34.28,3,     1.0267