BOTTLE,20211110CCHSIORKP
EXPOCODE,SECT_ID,STNNBR,CASTNO,SAMPNO,BTLNBR,BTLNBR_FLAG_W,DATE,TIME,LATITUDE,LONGITUDE,DEPTH,CTDPRS,CTDTMP,CTDSAL,CTDSAL_FLAG_W,SALNTY,SALNTY_FLAG_W,CTDOXY,CTDOXY_FLAG_W,OXYGEN,OXYGEN_FLAG_W,SILCAT,SILCAT_FLAG_W,PHSPHT,PHSPHT_FLAG_W,NO2+NO3,NO2+NO3_FLAG_W,THETA
,,,,,,,,,,,METERS,DBAR,ITS-90,PSS-78,,PSS-78,,UMOL/KG,,UMOL/KG,,UMOL/KG,,UMOL/KG,,UMOL/KG,,ITS-90
49EWBO9401_1,       P02C,      28,          1,          0,          0,2,19940125,       1340,    30.0000,   150.3333,       5999,     0.0,-999.0000,-999.0000,9,  34.8377,2,   -999.0,9,   222.7,2,    0.00,3,    0.08,4,    0.00,3,     -999.0
49EWBO9401_1,       P02C,      28,          1,         23,         23,2,19940125,       1340,    30.0000,   150.3333,       5999,    48.7,  19.7439,  34.8209,2,  34.8359,2,    206.9,2,   221.4,2,    0.00,3,    0.14,4,    0.18,3,    19.7350
49EWBO9401_1,       P02C,      28,          1,         22,         22,2,19940125,       1340,    30.0000,   150.3333,       5999,   100.4,  19.7131,  34.8161,2,  34.8318,2,    206.8,2,   220.0,2,    0.00,3,    0.13,4,    0.03,3,    19.6948
49EWBO9401_1,       P02C,      28,          1,         21,         21,2,19940125,       1340,    30.0000,   150.3333,       5999,   201.2,  18.3497,  34.8174,2,  34.8340,2,    200.9,2,   198.9,2,    1.40,3,    0.28,4,    2.77,3,    18.3147
49EWBO9401_1,       P02C,      28,          1,         20,         20,2,19940125,       1340,    30.0000,   150.3333,       5999,   298.7,  17.1857,  34.7685,2,  34.7854,2,    195.8,2,   203.3,2,    0.90,3,    0.36,4,    4.07,3,    17.1360
49EWBO9401_1,       P02C,      28,          1,         19,         19,2,19940125,       1340,    30.0000,   150.3333,       5999,   403.0,  15.5796,  34.6450,2,  34.6667,3,    188.4,2,   184.7,2,    5.50,3,    0.57,4,    8.29,3,    15.5168
49EWBO9401_1,       P02C,      28,          1,         18,         18,2,19940125,       1340,    30.0000,   150.3333,       5999,   499.8,  12.9146,  34.4663,2,  34.4814,2,    176.5,2,   166.2,2,   13.80,3,    1.05,4,   14.52,3,    12.8457
49EWBO9401_1,       P02C,      28,          1,         17,         17,2,19940125,       1340,    30.0000,   150.3333,       5999,   598.6,  10.0729,  34.2441,2,  34.2594,2,    163.9,2,   169.8,2,   26.20,3,    1.33,4,   18.78,3,    10.0023
49EWBO9401_1,       P02C,      28,          1,         16,         16,2,19940125,       1340,    30.0000,   150.3333,       5999,   699.5,   7.6630,  34.0571,2,  34.0699,2,    153.7,2,   163.0,2,   47.40,3,    1.71,4,   23.56,3,     7.5927
49EWBO9401_1,       P02C,      28,          1,         15,         15,2,19940125,       1340,    30.0000,   150.3333,       5999,   802.2,   5.4342,  33.9818,2,  33.9927,2,    144.9,2,   130.8,2,   66.60,3,    2.26,4,   31.05,3,     5.3665
49EWBO9401_1,       P02C,      28,          1,         14,         14,2,19940125,       1340,    30.0000,   150.3333,       5999,   901.5,   4.7303,  34.0724,2,  34.0819,2,    142.7,2,    89.3,2,   88.80,3,    2.60,4,   35.72,3,     4.6583
49EWBO9401_1,       P02C,      28,          1,         13,         13,2,19940125,       1340,    30.0000,   150.3333,       5999,  1000.6,   4.1948,  34.1886,2,  34.2005,2,    141.2,2,    55.0,2,  104.80,3,    2.82,4,   39.17,3,     4.1181
49EWBO9401_1,       P02C,      28,          1,         12,         12,2,19940125,       1340,    30.0000,   150.3333,       5999,  1251.9,   3.2317,  34.3639,2,  34.3726,2,    138.6,2,    32.7,2,  133.20,3,    3.02,4,   41.91,3,     3.1423
49EWBO9401_1,       P02C,      28,          1,         11,         11,2,19940125,       1340,    30.0000,   150.3333,       5999,  1497.2,   2.6762,  34.4522,2,  34.4628,2,    137.3,2,    35.2,2,  149.20,3,    3.01,4,   42.19,3,     2.5726
49EWBO9401_1,       P02C,      28,          1,         10,         10,2,19940125,       1340,    30.0000,   150.3333,       5999,  1747.4,   2.3016,  34.5227,2,  34.5323,2,    136.6,2,    45.8,2,  159.00,3,    2.98,4,   41.86,3,     2.1821
49EWBO9401_1,       P02C,      28,          1,          9,          9,2,19940125,       1340,    30.0000,   150.3333,       5999,  1997.9,   2.0470,  34.5685,2,  34.5775,2,    136.2,2,    60.3,2,  163.20,3,    2.93,4,   41.02,3,     1.9102
49EWBO9401_1,       P02C,      28,          1,          8,          8,2,19940125,       1340,    30.0000,   150.3333,       5999,  2499.4,   1.7337,  34.6236,2,  34.6332,2,    136.1,2,   100.1,2,  158.60,3,    2.72,4,   38.77,3,     1.5585
49EWBO9401_1,       P02C,      28,          1,          7,          7,2,19940125,       1340,    30.0000,   150.3333,       5999,  2999.5,   1.5758,  34.6503,2,  34.6596,2,    136.4,2,   121.0,2,  155.50,3,    2.59,4,   37.24,3,     1.3575
49EWBO9401_1,       P02C,      28,          1,          6,          6,2,19940125,       1340,    30.0000,   150.3333,       5999,  3498.9,   1.5065,  34.6637,2,  34.6722,2,    136.9,2,   135.1,2,  150.90,3,    2.51,4,   36.41,3,     1.2404
49EWBO9401_1,       P02C,      28,          1,          5,          5,2,19940125,       1340,    30.0000,   150.3333,       5999,  4002.6,   1.4707,  34.6725,2,  34.6785,2,    137.6,2,   145.7,2,  148.90,3,    2.42,4,   35.63,3,     1.1524
49EWBO9401_1,       P02C,      28,          1,          4,          4,2,19940125,       1340,    30.0000,   150.3333,       5999,  4497.3,   1.4831,  34.6771,2,  34.6825,2,    138.4,2,   151.8,2,  146.30,3,    2.37,4,   35.19,3,     1.1090
49EWBO9401_1,       P02C,      28,          1,          3,          3,2,19940125,       1340,    30.0000,   150.3333,       5999,  4998.2,   1.5046,  34.6806,2,  34.6845,3,    139.2,2,   158.3,2,  144.80,3,    2.33,4,   34.70,3,     1.0705
49EWBO9401_1,       P02C,      28,          1,          2,          2,2,19940125,       1340,    30.0000,   150.3333,       5999,  5497.3,   1.5346,  34.6833,2,  34.6935,2,    140.0,2,   164.8,2,  141.20,3, -999.00,9, -999.00,9,     1.0371
49EWBO9401_1,       P02C,      28,          1,          1,          1,2,19940125,       1340,    30.0000,   150.3333,       5999,  5840.6,   1.5704,  34.6842,2,  34.6928,2,    140.6,2,  -999.0,9,  138.10,3,    2.27,4,   34.03,3,     1.0270
49EWBO9401_1,       P02C,      27,          1,          0,          0,2,19940125,       1945,    29.9830,   149.7500,       6102,     0.0,-999.0000,-999.0000,9,  34.9858,2,   -999.0,9,   215.9,2,    0.90,3,    0.01,4,    0.00,3,     -999.0
49EWBO9401_1,       P02C,      27,          1,         23,         23,2,19940125,       1945,    29.9830,   149.7500,       6102,    51.0,  20.3939,  34.9463,2,  34.9668,2,    210.4,2,   217.9,2,    1.40,3,    0.02,4,    0.00,3,    20.3844
49EWBO9401_1,       P02C,      27,          1,         22,         22,2,19940125,       1945,    29.9830,   149.7500,       6102,   101.3,  20.3676,  34.9370,2,  34.9615,2,    210.3,2,   222.3,2,    0.40,3,    0.01,4,    0.00,3,    20.3487
49EWBO9401_1,       P02C,      27,          1,         21,         21,2,19940125,       1945,    29.9830,   149.7500,       6102,   200.6,  17.6864,  34.8036,2,  34.8254,2,    197.9,2,   206.6,2,    2.00,3,    0.21,4,    2.79,3,    17.6524
49EWBO9401_1,       P02C,      27,          1,         20,         20,2,19940125,       1945,    29.9830,   149.7500,       6102,   300.7,  16.9131,  34.7535,2,  34.7727,2,    194.5,2,   201.0,2,    3.60,3,    0.32,4,    4.70,3,    16.8636
49EWBO9401_1,       P02C,      27,          1,         19,         19,2,19940125,       1945,    29.9830,   149.7500,       6102,   399.8,  15.3463,  34.6260,2,  34.6468,2,    187.3,2,   187.9,3,    7.80,3,    0.56,4,    8.54,3,    15.2846
49EWBO9401_1,       P02C,      27,          1,         18,         18,2,19940125,       1945,    29.9830,   149.7500,       6102,   500.7,  13.1034,  34.4600,2,  34.4784,2,    177.2,2,   181.2,2,   15.80,3,    0.84,4,   13.01,3,    13.0337
49EWBO9401_1,       P02C,      27,          1,         17,         17,2,19940125,       1945,    29.9830,   149.7500,       6102,   599.4,  10.1880,  34.2436,2,  34.2698,3,    164.5,2,   174.9,2,   27.40,3,    1.23,4,   18.57,3,    10.1168
49EWBO9401_1,       P02C,      27,          1,         16,         16,2,19940125,       1945,    29.9830,   149.7500,       6102,   700.2,   7.1450,  34.0412,2,  34.0574,2,    151.6,2,   156.4,2,   47.40,3,    1.77,4,   26.22,3,     7.0773
49EWBO9401_1,       P02C,      27,          1,         15,         15,2,19940125,       1945,    29.9830,   149.7500,       6102,   800.4,   5.3485,  34.0047,2,  34.0192,2,    144.6,2,   120.7,2,   68.40,3,    2.23,4,   32.61,3,     5.2815
49EWBO9401_1,       P02C,      27,          1,         14,         14,2,19940125,       1945,    29.9830,   149.7500,       6102,   900.5,   4.6052,  34.1108,2,  34.1256,2,    142.3,2,    77.3,2,   90.10,3,    2.55,4,   37.64,3,     4.5341
49EWBO9401_1,       P02C,      27,          1,         13,         13,4,19940125,       1945,    29.9830,   149.7500,       6102,  1000.5,   4.0643,  34.2113,2,  34.4052,3,    140.7,2,    48.3,2,  105.90,3,    2.70,4,   40.25,3,     3.9883
49EWBO9401_1,       P02C,      27,          1,         12,         12,4,19940125,       1945,    29.9830,   149.7500,       6102,  1251.6,   3.1649,  34.3706,2,  34.4742,2,    138.3,2,    37.1,2,  132.80,3,    2.84,4,   42.25,3,     3.0759
49EWBO9401_1,       P02C,      27,          1,         11,         11,4,19940125,       1945,    29.9830,   149.7500,       6102,  1500.9,   2.6167,  34.4611,2,  34.4758,2,    137.1,2,    34.8,2,  148.70,3,    2.87,4,   43.17,3,     2.5135
49EWBO9401_1,       P02C,      27,          1,         10,         10,4,19940125,       1945,    29.9830,   149.7500,       6102,  1750.1,   2.2471,  34.5324,2,  34.4743,2,    136.4,2,    35.3,2,  147.20,4,    2.87,4,   43.18,3,     2.1283
49EWBO9401_1,       P02C,      27,          1,          9,          9,2,19940125,       1945,    29.9830,   149.7500,       6102,  2000.3,   1.9962,  34.5771,2,  34.5924,2,    136.0,2,    67.0,2,  157.80,3,    2.74,4,   41.55,3,     1.8599
49EWBO9401_1,       P02C,      27,          1,          8,          8,2,19940125,       1945,    29.9830,   149.7500,       6102,  2499.0,   1.7028,  34.6283,2,  34.6424,2,    135.9,2,   101.7,2,  155.80,3,    2.58,4,   39.26,3,     1.5282
49EWBO9401_1,       P02C,      27,          1,          7,          7,2,19940125,       1945,    29.9830,   149.7500,       6102,  2999.5,   1.5791,  34.6522,2,  34.6655,2,    136.4,2,   126.4,2,  148.50,3,    2.43,4,   37.78,3,     1.3607
49EWBO9401_1,       P02C,      27,          1,          6,          6,2,19940125,       1945,    29.9830,   149.7500,       6102,  3500.7,   1.5190,  34.6632,2,  34.6752,2,    137.0,2,   137.0,2,  147.00,3,    2.39,4,   37.06,3,     1.2523
49EWBO9401_1,       P02C,      27,          1,          5,          5,2,19940125,       1945,    29.9830,   149.7500,       6102,  4000.0,   1.4828,  34.6719,2,  34.6841,2,    137.7,2,   146.3,2,  144.50,3,    2.34,4,   36.46,3,     1.1644
49EWBO9401_1,       P02C,      27,          1,          4,          4,2,19940125,       1945,    29.9830,   149.7500,       6102,  4500.3,   1.4829,  34.6772,2,  34.6867,2,    138.4,2,   153.8,2,  142.40,3,    2.30,4,   35.76,3,     1.1084
49EWBO9401_1,       P02C,      27,          1,          3,          3,2,19940125,       1945,    29.9830,   149.7500,       6102,  5002.1,   1.5098,  34.6802,2,  34.6903,3,    139.2,2,   157.2,2,  139.90,3,    2.28,4,   35.46,3,     1.0750
49EWBO9401_1,       P02C,      27,          1,          2,          2,2,19940125,       1945,    29.9830,   149.7500,       6102,  5502.7,   1.5486,  34.6824,2,  34.6933,2,    140.1,2,   162.5,2,  145.30,3,    2.29,4,   35.04,3,     1.0499
49EWBO9401_1,       P02C,      27,          1,          1,          1,2,19940125,       1945,    29.9830,   149.7500,       6102,  5891.7,   1.5882,  34.6833,2,  34.6965,2,    140.7,2,   166.4,2,  134.30,3,    2.26,4,   34.50,3,     1.0373
49EWBO9401_1,       P02C,      26,          1,          0,          0,2,19940126,       0035,    29.9830,   149.2500,       6160,     0.0,-999.0000,-999.0000,9,  34.8377,2,   -999.0,9,   222.7,2,    0.50,3,    0.75,4,    0.00,3,     -999.0
49EWBO9401_1,       P02C,      26,          1,         23,         23,2,19940126,       0035,    29.9830,   149.2500,       6160,    50.5,  20.0002,  34.9071,2,  34.9293,2,    208.4,2,   218.0,2,    1.10,3,    0.74,4,    0.00,3,    19.9909
49EWBO9401_1,       P02C,      26,          1,         22,         22,2,19940126,       0035,    29.9830,   149.2500,       6160,    99.8,  19.9027,  34.9201,2,  34.9398,2,    208.1,2,  -999.0,9,    1.10,3,    0.72,4,    0.00,3,    19.8843
49EWBO9401_1,       P02C,      26,          1,         21,         21,2,19940126,       0035,    29.9830,   149.2500,       6160,   200.4,  17.6635,  34.8013,2,  34.8241,2,    197.8,2,   206.0,2,    2.60,3,    0.86,4,    2.76,3,    17.6296
49EWBO9401_1,       P02C,      26,          1,         20,         20,2,19940126,       0035,    29.9830,   149.2500,       6160,   299.7,  16.8135,  34.7434,2,  34.7688,2,    194.0,2,   198.0,2,    4.20,3,    0.98,4,    5.00,3,    16.7644
49EWBO9401_1,       P02C,      26,          1,         19,         19,2,19940126,       0035,    29.9830,   149.2500,       6160,   399.4,  14.9091,  34.5942,2,  34.6156,2,    185.3,2,   183.9,2,   10.50,3,    1.23,4,    9.45,3,    14.8487
49EWBO9401_1,       P02C,      26,          1,         18,         18,2,19940126,       0035,    29.9830,   149.2500,       6160,   499.6,  12.7873,  34.4398,2,  34.4547,3,    175.8,2,   183.2,2,   17.30,3,    1.46,4,   13.22,3,    12.7189
49EWBO9401_1,       P02C,      26,          1,         17,         17,2,19940126,       0035,    29.9830,   149.2500,       6160,   598.8,   9.6593,  34.1955,2,  34.2078,2,    162.1,2,   176.4,2,   30.90,3,    1.85,4,   19.05,3,     9.5906
49EWBO9401_1,       P02C,      26,          1,         16,         16,2,19940126,       0035,    29.9830,   149.2500,       6160,   699.4,   6.6695,  34.0239,2,  34.0467,2,    149.7,2,   149.6,2,   52.80,3,    2.41,4,   27.16,3,     6.6044
49EWBO9401_1,       P02C,      26,          1,         15,         15,2,19940126,       0035,    29.9830,   149.2500,       6160,   799.1,   5.1536,  34.0367,2,  34.0467,4,    144.0,2,   102.1,2,   77.90,3,    2.86,4,   34.25,3,     5.0878
49EWBO9401_1,       P02C,      26,          1,         14,         14,2,19940126,       0035,    29.9830,   149.2500,       6160,   898.8,   4.4545,  34.1379,2,  34.1524,2,    141.8,2,    65.6,2,   98.80,3,    3.13,4,   38.55,3,     4.3846
49EWBO9401_1,       P02C,      26,          1,         13,         13,2,19940126,       0035,    29.9830,   149.2500,       6160,   997.9,   3.9936,  34.2242,2,  34.2378,2,    140.6,2,    46.0,2,  114.00,3,    3.23,4,   40.45,3,     3.9186
49EWBO9401_1,       P02C,      26,          1,         12,         12,2,19940126,       0035,    29.9830,   149.2500,       6160,  1248.8,   3.1511,  34.3756,2,  34.3889,2,    138.4,2,    34.4,2,  139.50,3,    3.32,4,   42.47,3,     3.0627
49EWBO9401_1,       P02C,      26,          1,         11,         11,2,19940126,       0035,    29.9830,   149.2500,       6160,  1501.0,   2.5875,  34.4697,2,  34.4837,2,    137.0,2,    34.3,2,  156.30,3,    3.30,4,   42.96,3,     2.4846
49EWBO9401_1,       P02C,      26,          1,         10,         10,2,19940126,       0035,    29.9830,   149.2500,       6160,  1747.0,   2.2459,  34.5303,2,  34.5475,2,    136.3,2,    47.3,2,  163.10,3,    3.23,4,   42.22,3,     2.1271
49EWBO9401_1,       P02C,      26,          1,          9,          9,2,19940126,       0035,    29.9830,   149.2500,       6160,  2000.0,   2.0134,  34.5757,2,  34.5946,2,    136.1,2,    67.6,2,  164.60,3,    3.15,4,   41.30,3,     1.8769
49EWBO9401_1,       P02C,      26,          1,          8,          8,2,19940126,       0035,    29.9830,   149.2500,       6160,  2499.9,   1.7372,  34.6276,2,  34.6404,2,    136.1,2,   106.7,2,  157.80,3,    2.94,4,   38.63,3,     1.5619
49EWBO9401_1,       P02C,      26,          1,          7,          7,2,19940126,       0035,    29.9830,   149.2500,       6160,  3001.2,   1.6039,  34.6493,2,  34.6581,3,    136.4,2,   124.8,2,  155.80,3,    2.82,4,   37.48,3,     1.3848
49EWBO9401_1,       P02C,      26,          1,          6,          6,2,19940126,       0035,    29.9830,   149.2500,       6160,  3499.2,   1.5344,  34.6615,2,  34.6740,2,    137.1,2,   135.5,2,  154.20,3,    2.75,4,   36.70,3,     1.2675
49EWBO9401_1,       P02C,      26,          1,          5,          5,2,19940126,       0035,    29.9830,   149.2500,       6160,  3996.5,   1.4996,  34.6703,2,  34.6756,2,    137.7,2,   145.8,2,  151.10,3,    2.65,4,   36.14,3,     1.1811
49EWBO9401_1,       P02C,      26,          1,          4,          4,2,19940126,       0035,    29.9830,   149.2500,       6160,  4496.2,   1.4930,  34.6759,2,  34.6895,2,    138.4,2,   151.7,2,  149.00,3,    2.58,4,   35.56,3,     1.1187
49EWBO9401_1,       P02C,      26,          1,          3,          3,2,19940126,       0035,    29.9830,   149.2500,       6160,  4999.2,   1.5144,  34.6795,2,  34.6940,2,    139.2,2,   159.1,2,  146.40,3,    2.53,4,   35.07,3,     1.0797
49EWBO9401_1,       P02C,      26,          1,          2,          2,2,19940126,       0035,    29.9830,   149.2500,       6160,  5499.4,   1.5504,  34.6819,2,  34.6916,3,    140.1,2,   159.7,2,  143.30,3,    2.53,4,   35.09,3,     1.0521
49EWBO9401_1,       P02C,      26,          1,          1,          1,2,19940126,       0035,    29.9830,   149.2500,       6160,  5859.4,   1.5863,  34.6829,2,  34.6956,2,    140.6,2,   166.9,2,  140.70,3,    2.41,4,   34.15,3,     1.0398