BOTTLE,20211110CCHSIORKP
EXPOCODE,SECT_ID,STNNBR,CASTNO,SAMPNO,BTLNBR,BTLNBR_FLAG_W,DATE,TIME,LATITUDE,LONGITUDE,DEPTH,CTDPRS,CTDTMP,CTDSAL,CTDSAL_FLAG_W,SALNTY,SALNTY_FLAG_W,CTDOXY,CTDOXY_FLAG_W,OXYGEN,OXYGEN_FLAG_W,SILCAT,SILCAT_FLAG_W,PHSPHT,PHSPHT_FLAG_W,NO2+NO3,NO2+NO3_FLAG_W,THETA
,,,,,,,,,,,METERS,DBAR,ITS-90,PSS-78,,PSS-78,,UMOL/KG,,UMOL/KG,,UMOL/KG,,UMOL/KG,,UMOL/KG,,ITS-90
49EWBO9401_1,       P02C,      25,          1,          0,          0,2,19940126,       0705,    30.0000,   148.5830,       6189,     0.0,-999.0000,-999.0000,9,  34.9646,2,   -999.0,9,   220.0,2,    0.70,3,    0.07,4,    0.00,4,     -999.0
49EWBO9401_1,       P02C,      25,          1,         23,         23,2,19940126,       0705,    30.0000,   148.5830,       6189,    50.7,  19.8964,  34.9210,2,  34.9421,2,    208.0,2,   218.0,2,    0.70,3,    0.08,4,    0.00,4,    19.8871
49EWBO9401_1,       P02C,      25,          1,         22,         22,2,19940126,       0705,    30.0000,   148.5830,       6189,   101.4,  19.9215,  34.8896,2,  34.9104,2,    208.1,2,   218.4,2,    1.20,3,    0.12,4,    0.00,4,    19.9028
49EWBO9401_1,       P02C,      25,          1,         21,         21,2,19940126,       0705,    30.0000,   148.5830,       6189,   201.0,  17.6281,  34.7988,2,  34.8217,2,    197.7,2,   205.6,3,    2.20,3,    0.26,4,    3.23,4,    17.5941
49EWBO9401_1,       P02C,      25,          1,         20,         20,2,19940126,       0705,    30.0000,   148.5830,       6189,   299.4,  16.5281,  34.7196,2,  34.7407,2,    192.7,2,   195.2,2,    4.80,3,    0.43,4,    6.48,4,    16.4796
49EWBO9401_1,       P02C,      25,          1,         19,         19,2,19940126,       0705,    30.0000,   148.5830,       6189,   398.5,  14.9738,  34.5958,2,  34.6189,2,    185.6,2,   183.6,2,    9.90,3,    0.63,4,   10.14,4,    14.9133
49EWBO9401_1,       P02C,      25,          1,         18,         18,2,19940126,       0705,    30.0000,   148.5830,       6189,   498.4,  12.6115,  34.4287,2,  34.4468,2,    175.0,2,   181.1,2,   17.60,3,    0.90,4,   14.74,4,    12.5439
49EWBO9401_1,       P02C,      25,          1,         17,         17,2,19940126,       0705,    30.0000,   148.5830,       6189,   600.5,   9.2387,  34.1584,2,  34.1929,3,    160.2,2,   180.7,2,   30.00,3,    1.29,4,   20.45,4,     9.1716
49EWBO9401_1,       P02C,      25,          1,         16,         16,2,19940126,       0705,    30.0000,   148.5830,       6189,   699.6,   6.4036,  34.0069,2,  34.0258,2,    148.5,2,   146.8,2,   55.20,3,    1.94,4,   30.00,4,     6.3399
49EWBO9401_1,       P02C,      25,          1,         15,         15,2,19940126,       0705,    30.0000,   148.5830,       6189,   800.3,   4.8526,  34.0177,2,  34.0352,2,    142.8,2,   105.2,2,   78.90,3,    2.39,4,   36.94,4,     4.7886
49EWBO9401_1,       P02C,      25,          1,         14,         14,2,19940126,       0705,    30.0000,   148.5830,       6189,   900.7,   4.3539,  34.1556,2,  34.1725,2,    141.5,2,    64.4,2,   99.00,3,    2.66,4,   41.07,4,     4.2845
49EWBO9401_1,       P02C,      25,          1,         13,         13,2,19940126,       0705,    30.0000,   148.5830,       6189,   998.4,   3.9371,  34.2363,2,  34.2408,3,    140.4,2,    49.1,2,  110.80,3,    2.77,4,   42.77,4,     3.8625
49EWBO9401_1,       P02C,      25,          1,         12,         12,2,19940126,       0705,    30.0000,   148.5830,       6189,  1250.1,   3.1147,  34.3782,2,  34.3920,2,    138.2,2,    34.7,2,  136.60,3,    2.92,4,   44.96,4,     3.0265
49EWBO9401_1,       P02C,      25,          1,         11,         11,2,19940126,       0705,    30.0000,   148.5830,       6189,  1499.5,   2.5667,  34.4749,2,  34.4880,2,    136.9,2,    35.5,2,  151.50,3,    2.93,4,   45.24,4,     2.4641
49EWBO9401_1,       P02C,      25,          1,         10,         10,2,19940126,       0705,    30.0000,   148.5830,       6189,  1750.1,   2.2405,  34.5375,2,  34.5540,2,    136.4,2,    51.6,2,  157.70,3,    2.85,4,   44.66,4,     2.1215
49EWBO9401_1,       P02C,      25,          1,          9,          9,2,19940126,       0705,    30.0000,   148.5830,       6189,  1999.8,   2.0101,  34.5838,2,  34.5972,2,    136.1,2,    77.7,2,  156.20,3,    2.74,4,   42.78,4,     1.8736
49EWBO9401_1,       P02C,      25,          1,          8,          8,2,19940126,       0705,    30.0000,   148.5830,       6189,  2498.5,   1.7373,  34.6275,2,  34.6375,2,    136.1,2,   106.7,2,  153.60,3,    2.59,4,   40.69,4,     1.5621
49EWBO9401_1,       P02C,      25,          1,          7,          7,2,19940126,       0705,    30.0000,   148.5830,       6189,  2999.0,   1.6071,  34.6493,2,  34.6610,2,    136.5,2,   124.9,2,  150.50,3,    2.51,4,   39.30,4,     1.3881
49EWBO9401_1,       P02C,      25,          1,          6,          6,2,19940126,       0705,    30.0000,   148.5830,       6189,  3500.3,   1.5381,  34.6613,2,  34.6767,2,    137.1,2,   137.0,2,  149.00,3,    2.44,4,   38.57,4,     1.2710
49EWBO9401_1,       P02C,      25,          1,          5,          5,2,19940126,       0705,    30.0000,   148.5830,       6189,  3999.8,   1.5001,  34.6703,2,  34.6885,2,    137.7,2,   145.5,2,  147.40,3,    2.40,4,   37.84,4,     1.1812
49EWBO9401_1,       P02C,      25,          1,          4,          4,2,19940126,       0705,    30.0000,   148.5830,       6189,  4500.4,   1.4970,  34.6757,2,  34.6902,2,    138.4,2,   163.5,2,  144.30,3,    2.40,4,   37.04,4,     1.1221
49EWBO9401_1,       P02C,      25,          1,          3,          3,2,19940126,       0705,    30.0000,   148.5830,       6189,  4998.7,   1.5185,  34.6790,2,  34.6946,2,    139.2,2,   157.5,2,  141.80,3,    2.41,4,   36.57,4,     1.0838
49EWBO9401_1,       P02C,      25,          1,          2,          2,2,19940126,       0705,    30.0000,   148.5830,       6189,  5496.9,   1.5544,  34.6814,2,  34.6938,3,    140.1,2,   160.5,2,  139.20,3,    2.36,4,   36.24,4,     1.0562
49EWBO9401_1,       P02C,      25,          1,          1,          1,2,19940126,       0705,    30.0000,   148.5830,       6189,  5882.1,   1.5885,  34.6828,2,  34.6967,2,    140.7,2,   165.5,2,  136.10,3,    2.29,4,   35.12,4,     1.0389
49EWBO9401_1,       P02C,      24,          1,          0,          0,2,19940126,       1200,    29.9830,   147.9830,       6204,     0.0,-999.0000,-999.0000,9,  34.9986,2,   -999.0,9,   215.6,2,    0.00,3,    0.00,4,    0.00,3,     -999.0
49EWBO9401_1,       P02C,      24,          1,         23,         23,2,19940126,       1200,    29.9830,   147.9830,       6204,    49.4,  20.3649,  34.9566,2,  35.0677,2,    210.3,2,   218.4,2,    1.00,3,    0.02,4,    0.00,3,    20.3557
49EWBO9401_1,       P02C,      24,          1,         22,         22,2,19940126,       1200,    29.9830,   147.9830,       6204,   100.1,  20.2222,  34.9417,2,  34.9660,2,    209.7,2,   218.0,2,    1.00,3,    0.04,4,    0.00,3,    20.2036
49EWBO9401_1,       P02C,      24,          1,         21,         21,2,19940126,       1200,    29.9830,   147.9830,       6204,   198.9,  17.9174,  34.8156,2,  34.8373,2,    199.0,2,   203.6,3, -999.00,9,    0.21,4,    2.44,3,    17.8834
49EWBO9401_1,       P02C,      24,          1,         20,         20,2,19940126,       1200,    29.9830,   147.9830,       6204,   300.5,  16.8152,  34.7487,2,  34.7783,2,    194.0,2,   202.1,2,    2.00,3,    0.31,4,    4.54,3,    16.7659
49EWBO9401_1,       P02C,      24,          1,         19,         19,2,19940126,       1200,    29.9830,   147.9830,       6204,   400.7,  14.7093,  34.5704,2,  34.5950,2,    184.4,2,   188.1,2,    4.10,3,    0.59,4,    9.22,3,    14.6492
49EWBO9401_1,       P02C,      24,          1,         18,         18,2,19940126,       1200,    29.9830,   147.9830,       6204,   499.7,  12.4176,  34.3969,2,  34.4194,2,    174.1,2,   185.4,2,    9.30,3,    0.84,4,   13.30,3,    12.3505
49EWBO9401_1,       P02C,      24,          1,         17,         17,3,19940126,       1200,    29.9830,   147.9830,       6204,   600.0,   9.7240,  34.2063,2,  34.2352,2,    162.4,2,   174.2,2,   16.60,3,    1.23,4,   19.05,3,     9.6548
49EWBO9401_1,       P02C,      24,          1,         16,         16,2,19940126,       1200,    29.9830,   147.9830,       6204,   700.1,   7.1689,  34.0484,2,  34.0703,2,    151.7,2,   154.4,2,   29.70,3,    1.72,4,   25.57,3,     7.1011
49EWBO9401_1,       P02C,      24,          1,         15,         15,2,19940126,       1200,    29.9830,   147.9830,       6204,   800.3,   5.4151,  34.0162,2,  34.0349,2,    145.0,2,   117.5,2,   49.00,3,    2.18,4,   32.12,3,     5.3477
49EWBO9401_1,       P02C,      24,          1,         14,         14,2,19940126,       1200,    29.9830,   147.9830,       6204,   899.9,   4.5835,  34.1097,2,  34.1279,2,    142.2,2,    78.5,2,   72.10,3,    2.50,4,   37.15,3,     4.5126
49EWBO9401_1,       P02C,      24,          1,         13,         13,2,19940126,       1200,    29.9830,   147.9830,       6204,  1000.4,   4.0539,  34.2191,2,  34.2372,2,    140.8,2,    50.0,2,   94.00,3,    2.67,4,   39.69,3,     3.9782
49EWBO9401_1,       P02C,      24,          1,         12,         12,2,19940126,       1200,    29.9830,   147.9830,       6204,  1250.4,   3.0805,  34.3878,2,  34.4094,2,    138.1,2,    30.7,2,  111.30,3,    2.85,4,   42.42,3,     2.9926
49EWBO9401_1,       P02C,      24,          1,         11,         11,3,19940126,       1200,    29.9830,   147.9830,       6204,  1500.9,   2.6243,  34.4715,2,  34.4940,2,    137.2,2,    35.0,2,  142.20,3,    2.84,4,   42.54,3,     2.5209
49EWBO9401_1,       P02C,      24,          1,         10,         10,2,19940126,       1200,    29.9830,   147.9830,       6204,  1748.8,   2.2443,  34.5395,2,  34.5988,2,    136.4,2,    52.9,2,  154.20,3,    2.77,4,   41.64,3,     2.1253
49EWBO9401_1,       P02C,      24,          1,          9,          9,2,19940126,       1200,    29.9830,   147.9830,       6204,  1998.4,   1.9864,  34.5820,2,-999.0000,9,    136.0,2,    71.7,2,  161.50,3,    2.71,4,   40.53,3,     1.8503
49EWBO9401_1,       P02C,      24,          1,          8,          8,2,19940126,       1200,    29.9830,   147.9830,       6204,  2500.4,   1.7143,  34.6296,2,  34.6415,2,    136.0,2,   107.4,2,  164.20,3,    2.53,4,   38.35,3,     1.5394
49EWBO9401_1,       P02C,      24,          1,          7,          7,2,19940126,       1200,    29.9830,   147.9830,       6204,  2999.9,   1.5947,  34.6501,2,  34.6557,3,    136.4,2,   125.4,2,  154.70,3,    2.42,4,   36.95,3,     1.3759
49EWBO9401_1,       P02C,      24,          1,          6,          6,2,19940126,       1200,    29.9830,   147.9830,       6204,  3499.7,   1.5319,  34.6618,2,  34.6739,2,    137.0,2,   136.6,2,  154.20,3,    2.37,4,   36.40,3,     1.2650
49EWBO9401_1,       P02C,      24,          1,          5,          5,2,19940126,       1200,    29.9830,   147.9830,       6204,  4000.4,   1.5079,  34.6695,2,  34.6826,2,    137.8,2,  -999.0,9,  151.10,3,    2.32,4,   35.84,3,     1.1887
49EWBO9401_1,       P02C,      24,          1,          4,          4,3,19940126,       1200,    29.9830,   147.9830,       6204,  4499.8,   1.5005,  34.6752,2,  34.6944,2,    138.4,2,   151.6,2,  149.00,3,    2.29,4,   35.25,3,     1.1255
49EWBO9401_1,       P02C,      24,          1,          3,          3,2,19940126,       1200,    29.9830,   147.9830,       6204,  4999.2,   1.5191,  34.6789,2,  34.6944,2,    139.3,2,   157.7,2,  145.80,3,    2.26,4,   34.82,3,     1.0843
49EWBO9401_1,       P02C,      24,          1,          2,          2,2,19940126,       1200,    29.9830,   147.9830,       6204,  5501.6,   1.5544,  34.6814,2,  34.6987,2,    140.1,2,   160.7,2,  143.20,3,    2.25,4,   34.67,3,     1.0556
49EWBO9401_1,       P02C,      24,          1,          1,          1,2,19940126,       1200,    29.9830,   147.9830,       6204,  5888.2,   1.5904,  34.6831,2,  34.7013,2,    140.7,2,  -999.0,9,  140.10,3,    2.22,4,   34.00,3,     1.0398
49EWBO9401_1,       P02C,      23,          1,          0,          0,2,19940126,       1755,    29.9830,   147.4140,       6232,     0.0,-999.0000,-999.0000,9,  35.0344,2,   -999.0,9,   215.7,2,    0.50,3,    0.00,4,    0.00,4,     -999.0
49EWBO9401_1,       P02C,      23,          1,         23,         23,2,19940126,       1755,    29.9830,   147.4140,       6232,    49.6,  21.0922,  34.9985,2,  35.0321,3,    213.8,2,   214.4,3,    0.50,3,    0.00,4,    0.00,4,    21.0827
49EWBO9401_1,       P02C,      23,          1,         22,         22,2,19940126,       1755,    29.9830,   147.4140,       6232,   100.8,  21.0952,  34.9964,2,  35.0172,2,    213.9,2,   225.9,2,    1.00,3,    0.00,4,    0.00,4,    21.0759
49EWBO9401_1,       P02C,      23,          1,         21,         21,2,19940126,       1755,    29.9830,   147.4140,       6232,   200.6,  17.7110,  34.7991,2,  34.8157,3,    198.0,2,   204.5,2,    2.60,3,    0.20,4,    3.10,4,    17.6770
49EWBO9401_1,       P02C,      23,          1,         20,         20,2,19940126,       1755,    29.9830,   147.4140,       6232,   301.7,  16.6367,  34.7292,2,  34.7553,2,    193.2,2,   196.1,2,    4.70,3,    0.38,4,    5.80,4,    16.5876
49EWBO9401_1,       P02C,      23,          1,         19,         19,2,19940126,       1755,    29.9830,   147.4140,       6232,   400.2,  14.7913,  34.5865,2,  34.6072,3,    184.8,2,   184.8,3,   10.30,3,    0.64,4,   10.22,4,    14.7311
49EWBO9401_1,       P02C,      23,          1,         18,         18,2,19940126,       1755,    29.9830,   147.4140,       6232,   500.2,  12.1064,  34.3805,2,  34.4074,2,    172.7,2,   185.8,2,   18.10,3,    0.88,4,   14.73,4,    12.0404
49EWBO9401_1,       P02C,      23,          1,         17,         17,2,19940126,       1755,    29.9830,   147.4140,       6232,   599.3,   9.8201,  34.2134,2,  34.2388,2,    162.8,2,   172.7,2,   29.50,3,    1.25,4,   20.17,4,     9.7506
49EWBO9401_1,       P02C,      23,          1,         16,         16,2,19940126,       1755,    29.9830,   147.4140,       6232,   700.1,   6.2210,  33.9949,2,  34.0162,2,    147.8,2,   146.7,2,   56.90,3,    1.93,4,   29.60,4,     6.1582
49EWBO9401_1,       P02C,      23,          1,         15,         15,2,19940126,       1755,    29.9830,   147.4140,       6232,   799.9,   4.9979,  34.0382,2,  34.0585,2,    143.4,2,   100.8,2,   79.10,3,    2.37,4,   35.98,4,     4.9330
49EWBO9401_1,       P02C,      23,          1,         14,         14,2,19940126,       1755,    29.9830,   147.4140,       6232,   900.0,   4.4187,  34.1399,2,  34.1419,3,    141.7,2,  -999.0,9,   97.80,3,    2.60,4,   39.75,4,     4.3489
49EWBO9401_1,       P02C,      23,          1,         13,         13,2,19940126,       1755,    29.9830,   147.4140,       6232,  1001.5,   3.9615,  34.2311,2,  34.2531,2,    140.5,2,    46.7,2,  112.20,3,    2.75,4,   41.98,4,     3.8864
49EWBO9401_1,       P02C,      23,          1,         12,         12,2,19940126,       1755,    29.9830,   147.4140,       6232,  1249.8,   3.0040,  34.4016,2,  34.4163,2,    137.9,2,    31.3,2,  141.20,3,    2.93,4,   44.64,4,     2.9169
49EWBO9401_1,       P02C,      23,          1,         11,         11,2,19940126,       1755,    29.9830,   147.4140,       6232,  1500.6,   2.6312,  34.4840,2,  34.4941,2,    137.2,2,    41.3,2,  149.50,3,    2.86,4,   44.08,4,     2.5278
49EWBO9401_1,       P02C,      23,          1,         10,         10,2,19940126,       1755,    29.9830,   147.4140,       6232,  1749.5,   2.2742,  34.5420,2,  34.5551,2,    136.5,2,    57.0,2,  156.20,3,    2.76,4,   43.08,4,     2.1548
49EWBO9401_1,       P02C,      23,          1,          9,          9,2,19940126,       1755,    29.9830,   147.4140,       6232,  2001.7,   2.0144,  34.5821,2,  34.5978,2,    136.1,2,    74.9,2,  158.80,3,    2.68,4,   41.90,4,     1.8777
49EWBO9401_1,       P02C,      23,          1,          8,          8,2,19940126,       1755,    29.9830,   147.4140,       6232,  2500.3,   1.7457,  34.6278,2,  34.6420,2,    136.1,2,   108.6,2,  153.60,3,    2.53,4,   39.71,4,     1.5702
49EWBO9401_1,       P02C,      23,          1,          7,          7,3,19940126,       1755,    29.9830,   147.4140,       6232,  3001.5,   1.6263,  34.6472,2,  34.6480,3,    136.5,2,   118.1,3,  152.10,3,    2.48,4,   39.00,4,     1.4067
49EWBO9401_1,       P02C,      23,          1,          6,          6,2,19940126,       1755,    29.9830,   147.4140,       6232,  3500.6,   1.5389,  34.6615,2,  34.6748,2,    137.1,2,   135.5,2,  151.60,3,    2.46,4,   38.01,4,     1.2718
49EWBO9401_1,       P02C,      23,          1,          5,          5,2,19940126,       1755,    29.9830,   147.4140,       6232,  3999.4,   1.5041,  34.6698,2,  34.6845,2,    137.7,2,   144.6,2,  149.50,3,    2.41,4,   37.57,4,     1.1852
49EWBO9401_1,       P02C,      23,          1,          4,          4,2,19940126,       1755,    29.9830,   147.4140,       6232,  4498.9,   1.4991,  34.6755,2,  34.6872,2,    138.4,2,   151.7,2,  146.90,3,    2.45,4,   36.86,4,     1.1243
49EWBO9401_1,       P02C,      23,          1,          3,          3,2,19940126,       1755,    29.9830,   147.4140,       6232,  4999.2,   1.5137,  34.6797,2,  34.6908,2,    139.2,2,   157.4,2,  143.90,3,    2.41,4,   36.27,4,     1.0791
49EWBO9401_1,       P02C,      23,          1,          2,          2,2,19940126,       1755,    29.9830,   147.4140,       6232,  5501.1,   1.5532,  34.6817,2,  34.6876,3,    140.1,2,   158.3,3,  141.80,3,    2.35,4,   36.26,4,     1.0546
49EWBO9401_1,       P02C,      23,          1,          1,          1,2,19940126,       1755,    29.9830,   147.4140,       6232,  5849.7,   1.5856,  34.6830,2,  34.6958,2,    140.6,2,   165.1,2,  138.70,3,    2.34,4,   35.21,4,     1.0404