BOTTLE,20211110CCHSIORKP
# Original header:
# Changed all fill flags to 9
#code : jjward hyd_to_exchange.pl 
#original files copied from HTML directory: Feb. 2, 2004
#original HYD file: p02chy.txt   Mon Feb  2 09:53:56 2004
#original SUM file: p02csu.txt   Thu Apr 15 10:30:45 1999
EXPOCODE,SECT_ID,STNNBR,CASTNO,SAMPNO,BTLNBR,BTLNBR_FLAG_W,DATE,TIME,LATITUDE,LONGITUDE,DEPTH,CTDPRS,CTDTMP,CTDSAL,CTDSAL_FLAG_W,SALNTY,SALNTY_FLAG_W,CTDOXY,CTDOXY_FLAG_W,OXYGEN,OXYGEN_FLAG_W,SILCAT,SILCAT_FLAG_W,PHSPHT,PHSPHT_FLAG_W,NO2+NO3,NO2+NO3_FLAG_W,THETA
,,,,,,,,,,,METERS,DBAR,ITS-90,PSS-78,,PSS-78,,UMOL/KG,,UMOL/KG,,UMOL/KG,,UMOL/KG,,UMOL/KG,,ITS-90
49EWBO9401_1,       P02C,      34,          1,          0,          0,2,19940123,       2020,    29.9830,   154.1690,       5803,     0.0,-999.0000,-999.0000,9,  34.8172,2,   -999.0,9,   227.6,2, -999.00,9,    0.00,4,    0.33,3,     -999.0
49EWBO9401_1,       P02C,      34,          1,         23,         23,2,19940123,       2020,    29.9830,   154.1690,       5803,    49.5,  19.2092,  34.8262,2,  34.8371,2,    204.5,2,    91.8,5, -999.00,9,    0.01,4,    0.36,3,    19.2003
49EWBO9401_1,       P02C,      34,          1,         22,         22,2,19940123,       2020,    29.9830,   154.1690,       5803,   101.7,  19.2208,  34.8259,2,  34.8387,2,    204.6,2,   221.8,5, -999.00,9,    0.00,4,    0.42,3,    19.2026
49EWBO9401_1,       P02C,      34,          1,         21,         21,2,19940123,       2020,    29.9830,   154.1690,       5803,   200.9,  17.5631,  34.7913,2,  34.8062,2,    197.3,2,   205.4,3, -999.00,9,    0.20,4,    3.42,3,    17.5292
49EWBO9401_1,       P02C,      34,          1,         20,         20,2,19940123,       2020,    29.9830,   154.1690,       5803,   300.2,  16.6235,  34.7275,2,  34.7477,2,    193.1,2,   194.6,3, -999.00,9,    0.37,4,    5.95,3,    16.5747
49EWBO9401_1,       P02C,      34,          1,         19,         19,2,19940123,       2020,    29.9830,   154.1690,       5803,   400.3,  14.4338,  34.5629,2,  34.5810,2,    183.1,2,   179.9,3, -999.00,9,    0.72,4,   10.89,3,    14.3746
49EWBO9401_1,       P02C,      34,          1,         18,         18,2,19940123,       2020,    29.9830,   154.1690,       5803,   500.1,  11.0812,  34.3293,2,  34.3510,2,    168.2,2,   170.3,3, -999.00,9,    1.19,4,   17.27,3,    11.0188
49EWBO9401_1,       P02C,      34,          1,         17,         17,2,19940123,       2020,    29.9830,   154.1690,       5803,   599.6,   8.3346,  34.1502,2,  34.1727,2,    156.6,2,   156.6,3, -999.00,9,    1.68,4,   23.37,3,     8.2716
49EWBO9401_1,       P02C,      34,          1,         16,         16,2,19940123,       2020,    29.9830,   154.1690,       5803,   700.5,   5.6548,  34.0168,2,  34.0328,2,    145.7,2,   133.8,3, -999.00,9,    2.28,4,   30.79,3,     5.5950
49EWBO9401_1,       P02C,      34,          1,         15,         15,2,19940123,       2020,    29.9830,   154.1690,       5803,   800.8,   4.6080,  34.0917,2,  34.1019,3,    142.1,2,    84.1,3, -999.00,9,    2.64,4,   36.58,3,     4.5454
49EWBO9401_1,       P02C,      34,          1,         14,         14,2,19940123,       2020,    29.9830,   154.1690,       5803,   900.6,   4.1036,  34.2139,2,  34.2264,2,    140.8,2,    56.3,3, -999.00,9,    2.84,4,   39.28,3,     4.0358
49EWBO9401_1,       P02C,      34,          1,         13,         13,2,19940123,       2020,    29.9830,   154.1690,       5803,  1000.8,   3.6355,  34.2896,2,  34.3050,2,    139.5,2,    47.4,3, -999.00,9,    2.93,4,   40.62,3,     3.5629
49EWBO9401_1,       P02C,      34,          1,         12,         12,2,19940123,       2020,    29.9830,   154.1690,       5803,  1249.7,   3.0147,  34.4039,2,  34.4194,2,    138.0,2,    42.1,3, -999.00,9,    3.01,4,   41.65,3,     2.9275
49EWBO9401_1,       P02C,      34,          1,         11,         11,2,19940123,       2020,    29.9830,   154.1690,       5803,  1500.2,   2.4793,  34.4862,2,  34.4995,2,    136.6,2,    41.5,3, -999.00,9,    3.05,4,   42.13,3,     2.3776
49EWBO9401_1,       P02C,      34,          1,         10,         10,2,19940123,       2020,    29.9830,   154.1690,       5803,  1749.9,   2.2210,  34.5363,2,  34.5524,2,    136.3,2,    53.5,3, -999.00,9,    3.00,4,   41.69,3,     2.1023
49EWBO9401_1,       P02C,      34,          1,          9,          9,2,19940123,       2020,    29.9830,   154.1690,       5803,  2000.6,   1.9325,  34.5914,2,  34.6055,2,    135.9,2,    76.3,3, -999.00,9,    2.88,4,   40.51,3,     1.7971
49EWBO9401_1,       P02C,      34,          1,          8,          8,2,19940123,       2020,    29.9830,   154.1690,       5803,  2500.2,   1.6559,  34.6373,2,  34.6475,2,    135.8,2,   110.5,3, -999.00,9,    2.72,4,   38.31,3,     1.4820
49EWBO9401_1,       P02C,      34,          1,          7,          7,2,19940123,       2020,    29.9830,   154.1690,       5803,  2998.8,   1.5488,  34.6564,2,  34.6355,3,    136.3,2,   114.9,3, -999.00,9,    2.67,4,   37.71,3,     1.3312
49EWBO9401_1,       P02C,      34,          1,          6,          6,2,19940123,       2020,    29.9830,   154.1690,       5803,  3498.0,   1.4856,  34.6681,2,  34.6811,2,    136.9,2,   141.2,3, -999.00,9,    2.54,4,   36.46,3,     1.2200
49EWBO9401_1,       P02C,      34,          1,          5,          5,2,19940123,       2020,    29.9830,   154.1690,       5803,  3998.7,   1.4546,  34.6761,2,  34.6862,2,    137.6,2,   151.9,3, -999.00,9,    2.50,4,   35.82,3,     1.1371
49EWBO9401_1,       P02C,      34,          1,          4,          4,2,19940123,       2020,    29.9830,   154.1690,       5803,  4499.1,   1.4675,  34.6805,2,  34.6852,2,    138.4,2,   156.1,3, -999.00,9,    2.46,4,   35.25,3,     1.0937
49EWBO9401_1,       P02C,      34,          1,          3,          3,2,19940123,       2020,    29.9830,   154.1690,       5803,  5000.6,   1.4924,  34.6836,2,  34.6930,2,    139.2,2,   163.2,3, -999.00,9,    2.41,4,   34.81,3,     1.0583
49EWBO9401_1,       P02C,      34,          1,          2,          2,2,19940123,       2020,    29.9830,   154.1690,       5803,  5496.8,   1.5328,  34.6855,2,  34.7009,4,    140.0,2,   168.3,3, -999.00,9,    2.36,4,   34.41,3,     1.0354
49EWBO9401_1,       P02C,      34,          1,          1,          1,2,19940123,       2020,    29.9830,   154.1690,       5803,  5586.4,   1.5417,  34.6858,2,  34.6932,2,    140.1,2,   170.7,3, -999.00,9,    2.38,4,   34.39,3,     1.0325
49EWBO9401_1,       P02C,      33,          1,          0,          0,2,19940124,       0350,    29.9830,   153.2500,       5803,     0.0,-999.0000,-999.0000,9,  34.8496,2,   -999.0,9,   222.5,3,    0.00,3,    0.12,4,    0.00,3,     -999.0
49EWBO9401_1,       P02C,      33,          1,         23,         23,2,19940124,       0350,    29.9830,   153.2500,       5803,    51.4,  19.0520,  34.7927,2,  34.8135,2,    203.6,2,   226.7,2,    0.00,3,    0.12,4,    0.00,3,    19.0429
49EWBO9401_1,       P02C,      33,          1,         22,         22,2,19940124,       0350,    29.9830,   153.2500,       5803,    99.5,  19.0633,  34.7967,2,  34.8129,2,    203.8,2,   225.8,2,    0.00,3,    0.10,4,    0.00,3,    19.0456
49EWBO9401_1,       P02C,      33,          1,         21,         21,2,19940124,       0350,    29.9830,   153.2500,       5803,   200.0,  17.6618,  34.8001,2,  34.8163,2,    197.8,2,   206.8,2,    0.90,3,    0.28,4,    3.04,3,    17.6279
49EWBO9401_1,       P02C,      33,          1,         20,         20,2,19940124,       0350,    29.9830,   153.2500,       5803,   300.9,  16.6805,  34.7332,2,  34.7517,2,    193.4,2,   196.1,2,    1.40,3,    0.43,4,    5.68,3,    16.6314
49EWBO9401_1,       P02C,      33,          1,         19,         19,2,19940124,       0350,    29.9830,   153.2500,       5803,   402.4,  13.5484,  34.5036,2,  34.5193,2,    179.1,2,   182.1,2,   12.70,3,    0.84,4,   12.15,3,    13.4913
49EWBO9401_1,       P02C,      33,          1,         18,         18,2,19940124,       0350,    29.9830,   153.2500,       5803,   504.6,  10.8719,  34.3557,2,  34.3700,2,    167.5,2,   155.4,2,   28.10,3,    1.32,4,   19.29,3,    10.8097
49EWBO9401_1,       P02C,      33,          1,         17,         17,2,19940124,       0350,    29.9830,   153.2500,       5803,   603.6,   8.3507,  34.2381,2,  34.2474,3,    157.0,2,   131.2,2,   48.00,3,    1.78,4,   25.95,3,     8.2871
49EWBO9401_1,       P02C,      33,          1,         16,         16,2,19940124,       0350,    29.9830,   153.2500,       5803,   698.3,   6.7092,  34.2340,2,  34.2494,2,    150.6,2,   103.2,2,   67.50,3,    2.17,4,   31.42,3,     6.6438
49EWBO9401_1,       P02C,      33,          1,         15,         15,2,19940124,       0350,    29.9830,   153.2500,       5803,   796.4,   5.7587,  34.2444,2,  34.2567,2,    147.1,2,    81.3,2,   81.30,3,    2.37,4,   34.49,3,     5.6892
49EWBO9401_1,       P02C,      33,          1,         14,         14,2,19940124,       0350,    29.9830,   153.2500,       5803,   901.7,   5.2292,  34.2621,2,  34.2742,2,    145.3,2,    78.4,2,   90.00,3,    2.49,4,   36.15,3,     5.1535
49EWBO9401_1,       P02C,      33,          1,         13,         13,2,19940124,       0350,    29.9830,   153.2500,       5803,  1003.5,   4.8582,  34.2797,2,  34.2918,2,    144.1,2,    75.8,2,   96.60,3,    2.56,4,   37.11,3,     4.7760
49EWBO9401_1,       P02C,      33,          1,         12,         12,2,19940124,       0350,    29.9830,   153.2500,       5803,  1250.9,   4.0491,  34.3363,2,  34.3455,2,    141.7,2,    62.1,2,  108.40,3,    2.70,4,   39.01,3,     3.9520
49EWBO9401_1,       P02C,      33,          1,         11,         11,2,19940124,       0350,    29.9830,   153.2500,       5803,  1500.6,   2.7438,  34.4434,2,  34.4513,2,    137.5,2,    40.9,2,  143.70,3,    2.92,4,   42.49,3,     2.6392
49EWBO9401_1,       P02C,      33,          1,         10,         10,2,19940124,       0350,    29.9830,   153.2500,       5803,  1749.8,   2.3227,  34.5175,2,  34.5346,2,    136.6,2,    48.1,2,  156.00,3,    2.89,4,   42.31,3,     2.2027
49EWBO9401_1,       P02C,      33,          1,          9,          9,2,19940124,       0350,    29.9830,   153.2500,       5803,  1999.7,   1.9995,  34.5758,2,  34.5828,2,    136.0,2,    64.7,2,  161.70,3,    2.80,4,   41.58,3,     1.8633
49EWBO9401_1,       P02C,      33,          1,          8,          8,2,19940124,       0350,    29.9830,   153.2500,       5803,  2250.0,   1.8494,  34.6077,2,  34.6159,2,    136.0,2,    88.4,2,  159.10,3,    2.69,4,   39.98,3,     1.6942
49EWBO9401_1,       P02C,      33,          1,          7,          7,2,19940124,       0350,    29.9830,   153.2500,       5803,  2497.9,   1.7293,  34.6278,2,  34.6390,2,    136.0,2,   102.8,2,  157.00,3,    2.63,4,   38.93,3,     1.5543
49EWBO9401_1,       P02C,      33,          1,          6,          6,2,19940124,       0350,    29.9830,   153.2500,       5803,  2996.9,   1.5617,  34.6546,2,  34.6626,2,    136.3,2,   127.9,2,  152.40,3,    2.50,4,   37.36,3,     1.3439
49EWBO9401_1,       P02C,      33,          1,          5,          5,2,19940124,       0350,    29.9830,   153.2500,       5803,  3498.1,   1.5007,  34.6663,2,  34.6770,2,    136.9,2,   139.5,2,  149.90,3,    2.45,4,   36.68,3,     1.2348
49EWBO9401_1,       P02C,      33,          1,          4,          4,2,19940124,       0350,    29.9830,   153.2500,       5803,  4000.9,   1.4787,  34.6737,2,  34.6823,2,    137.7,2,   148.8,2,  147.30,3,    2.39,4,   36.12,3,     1.1603
49EWBO9401_1,       P02C,      33,          1,          3,          3,2,19940124,       0350,    29.9830,   153.2500,       5803,  4498.2,   1.4744,  34.6797,2,-999.0000,9,    138.4,2,   154.8,2,  144.20,3,    2.34,4,   35.56,3,     1.1004
49EWBO9401_1,       P02C,      33,          1,          2,          2,2,19940124,       0350,    29.9830,   153.2500,       5803,  4995.7,   1.4936,  34.6831,2,  34.6886,2,    139.2,2,   161.9,2,  141.70,3,    2.30,4,   35.01,3,     1.0601
49EWBO9401_1,       P02C,      33,          1,          1,          1,2,19940124,       0350,    29.9830,   153.2500,       5803,  5496.5,   1.5293,  34.6858,2,  34.6933,2,    140.0,2,   167.6,2,  136.00,3,    2.27,4,   34.40,3,     1.0321
49EWBO9401_1,       P02C,      32,          1,          0,          0,2,19940124,       1008,    29.9830,   152.6667,       6001,     0.0,-999.0000,-999.0000,9,  34.8050,2,   -999.0,9,   226.6,2,    2.40,3,    0.09,4,    0.39,3,     -999.0
49EWBO9401_1,       P02C,      32,          1,         23,         23,2,19940124,       1008,    29.9830,   152.6667,       6001,    47.9,  19.0230,  34.7982,2,  34.8166,2,    203.5,2,   223.9,2,    1.90,3,    0.09,4,    0.30,3,    19.0145
49EWBO9401_1,       P02C,      32,          1,         22,         22,2,19940124,       1008,    29.9830,   152.6667,       6001,    98.7,  19.0311,  34.8010,2,  34.8205,2,    203.7,2,   223.2,2,    1.30,3,    0.10,4,    0.36,3,    19.0135
49EWBO9401_1,       P02C,      32,          1,         21,         21,2,19940124,       1008,    29.9830,   152.6667,       6001,   198.3,  18.0478,  34.8160,2,  34.8353,2,    199.6,2,   202.2,2,    2.90,3,    0.23,4,    2.48,3,    18.0137
49EWBO9401_1,       P02C,      32,          1,         20,         20,2,19940124,       1008,    29.9830,   152.6667,       6001,   300.7,  17.0577,  34.7681,2,  34.7861,2,    195.2,2,   205.5,2,    2.90,3,    0.31,4,    3.78,3,    17.0079
49EWBO9401_1,       P02C,      32,          1,         19,         19,2,19940124,       1008,    29.9830,   152.6667,       6001,   404.0,  15.4196,  34.6361,2,  34.6544,2,    187.7,2,   185.4,2,    9.20,3,    0.60,4,    8.46,3,    15.3570
49EWBO9401_1,       P02C,      32,          1,         18,         18,2,19940124,       1008,    29.9830,   152.6667,       6001,   507.2,  13.0434,  34.4668,2,  34.4854,2,    177.0,2,   184.2,2,   16.60,3,    0.91,4,   12.70,3,    12.9730
49EWBO9401_1,       P02C,      32,          1,         17,         17,2,19940124,       1008,    29.9830,   152.6667,       6001,   603.2,  10.6804,  34.3438,2,  34.3697,2,    166.9,2,   152.6,2,   33.00,3,    1.38,4,   19.45,3,    10.6066
49EWBO9401_1,       P02C,      32,          1,         16,         16,2,19940124,       1008,    29.9830,   152.6667,       6001,   703.6,   7.8192,  34.1072,2,  34.1307,3,    154.5,2,   155.8,2,   45.60,3,    1.71,4,   24.14,3,     7.7475
49EWBO9401_1,       P02C,      32,          1,         15,         15,2,19940124,       1008,    29.9830,   152.6667,       6001,   798.9,   5.3567,  34.0205,2,  34.0347,2,    144.7,2,   121.8,2,   69.40,3,    2.31,4,   32.06,3,     5.2897
49EWBO9401_1,       P02C,      32,          1,         14,         14,2,19940124,       1008,    29.9830,   152.6667,       6001,   903.4,   4.6519,  34.1348,2,  34.1485,2,    142.6,2,    77.7,2,   93.60,3,    2.63,4,   36.69,3,     4.5802
49EWBO9401_1,       P02C,      32,          1,         13,         13,2,19940124,       1008,    29.9830,   152.6667,       6001,  1005.5,   4.0091,  34.2412,2,  34.2549,2,    140.7,2,    55.4,2,  111.00,3,    2.81,4,   39.26,3,     3.9333
49EWBO9401_1,       P02C,      32,          1,         12,         12,2,19940124,       1008,    29.9830,   152.6667,       6001,  1250.6,   3.0869,  34.3828,2,  34.3944,2,    138.1,2,    37.7,2,  138.40,3,    2.98,4,   41.72,3,     2.9989
49EWBO9401_1,       P02C,      32,          1,         11,         11,2,19940124,       1008,    29.9830,   152.6667,       6001,  1500.5,   2.6735,  34.4725,2,  34.4864,2,    137.4,2,    35.7,2,  151.10,3,    3.00,4,   42.37,3,     2.5696
49EWBO9401_1,       P02C,      32,          1,         10,         10,2,19940124,       1008,    29.9830,   152.6667,       6001,  1752.8,   2.2481,  34.5397,2,  34.5513,2,    136.4,2,    55.9,2,  161.10,3,    2.94,4,   41.70,3,     2.1288
49EWBO9401_1,       P02C,      32,          1,          9,          9,2,19940124,       1008,    29.9830,   152.6667,       6001,  1998.6,   2.0069,  34.5793,2,  34.5916,2,    136.1,2,    68.4,2,  164.30,3,    2.86,4,   40.72,3,     1.8706
49EWBO9401_1,       P02C,      32,          1,          8,          8,2,19940124,       1008,    29.9830,   152.6667,       6001,  2249.9,   1.8210,  34.6112,2,  34.6237,2,    135.9,2,    96.0,2,  162.70,3,    2.77,4,   39.49,3,     1.6662
49EWBO9401_1,       P02C,      32,          1,          7,          7,2,19940124,       1008,    29.9830,   152.6667,       6001,  2497.3,   1.7191,  34.6304,2,  34.6343,3,    136.0,2,   108.3,2,  157.40,3,    2.66,4,   38.16,3,     1.5444
49EWBO9401_1,       P02C,      32,          1,          6,          6,2,19940124,       1008,    29.9830,   152.6667,       6001,  2999.2,   1.5866,  34.6516,2,  34.6633,2,    136.4,2,   123.0,2,  156.90,3,    2.58,4,   37.38,3,     1.3680
49EWBO9401_1,       P02C,      32,          1,          5,          5,2,19940124,       1008,    29.9830,   152.6667,       6001,  3499.8,   1.5067,  34.6654,2,  34.6760,2,    137.0,2,   134.5,2,  153.70,3,    2.50,4,   36.38,3,     1.2404
49EWBO9401_1,       P02C,      32,          1,          4,          4,2,19940124,       1008,    29.9830,   152.6667,       6001,  3997.4,   1.4750,  34.6736,2,  34.6851,2,    137.6,2,   146.0,2,  150.10,3,    2.42,4,   35.40,3,     1.1571
49EWBO9401_1,       P02C,      32,          1,          3,          3,2,19940124,       1008,    29.9830,   152.6667,       6001,  4496.5,   1.4786,  34.6788,2,  34.6841,3,    138.4,2,   151.9,2,  149.00,3,    2.40,4,   35.32,3,     1.1047
49EWBO9401_1,       P02C,      32,          1,          2,          2,3,19940124,       1008,    29.9830,   152.6667,       6001,  4997.3,   1.4903,  34.6832,2,-999.0000,9,    139.1,2,   162.4,2, -999.00,9, -999.00,9, -999.00,9,     1.0566
49EWBO9401_1,       P02C,      32,          1,          1,          1,2,19940124,       1008,    29.9830,   152.6667,       6001,  5500.0,   1.5309,  34.6851,2,  34.7026,3,    140.0,2,   168.0,3,  140.90,3,    2.32,4,   34.26,3,     1.0331