BOTTLE,20211110CCHSIORKP
EXPOCODE,SECT_ID,STNNBR,CASTNO,SAMPNO,BTLNBR,BTLNBR_FLAG_W,DATE,TIME,LATITUDE,LONGITUDE,DEPTH,CTDPRS,CTDTMP,CTDSAL,CTDSAL_FLAG_W,SALNTY,SALNTY_FLAG_W,CTDOXY,CTDOXY_FLAG_W,OXYGEN,OXYGEN_FLAG_W,SILCAT,SILCAT_FLAG_W,PHSPHT,PHSPHT_FLAG_W,NO2+NO3,NO2+NO3_FLAG_W,THETA
,,,,,,,,,,,METERS,DBAR,ITS-90,PSS-78,,PSS-78,,UMOL/KG,,UMOL/KG,,UMOL/KG,,UMOL/KG,,UMOL/KG,,ITS-90
49EWBO9401_1,       P02C,      19,          1,          0,          0,2,19940127,       2136,    29.9830,   145.0830,       5951,     0.0,-999.0000,-999.0000,9,  34.9364,2,   -999.0,9,   218.7,2,    0.00,3,    0.00,4,    0.00,3,     -999.0
49EWBO9401_1,       P02C,      19,          1,         23,         23,2,19940127,       2136,    29.9830,   145.0830,       5951,    48.7,  19.7231,  34.8994,2,  34.9209,2,    207.1,2,   219.6,2,    0.40,3,    0.00,4,    0.00,3,    19.7142
49EWBO9401_1,       P02C,      19,          1,         22,         22,2,19940127,       2136,    29.9830,   145.0830,       5951,    99.8,  19.7311,  34.8988,2,  34.9193,2,    207.3,2,   219.2,2,    0.90,3,    0.01,4,    0.00,3,    19.7129
49EWBO9401_1,       P02C,      19,          1,         21,         21,2,19940127,       2136,    29.9830,   145.0830,       5951,   199.7,  18.0492,  34.8163,2,  34.8399,2,    199.6,2,   203.3,2,    1.90,3,    0.18,4,    2.39,3,    18.0149
49EWBO9401_1,       P02C,      19,          1,         20,         20,2,19940127,       2136,    29.9830,   145.0830,       5951,   299.6,  17.0924,  34.7641,2,  34.7903,2,    195.4,2,   205.4,2,    2.50,3,    0.26,4,    3.83,3,    17.0427
49EWBO9401_1,       P02C,      19,          1,         19,         19,2,19940127,       2136,    29.9830,   145.0830,       5951,   399.1,  15.6672,  34.6436,2,  34.6737,3,    188.8,2,   185.7,2,    7.60,3,    0.52,4,    7.82,3,    15.6047
49EWBO9401_1,       P02C,      19,          1,         18,         18,2,19940127,       2136,    29.9830,   145.0830,       5951,   499.4,  12.9013,  34.4339,2,  34.4534,2,    176.3,2,   180.1,2,   15.30,3,    0.85,4,   12.66,3,    12.8325
49EWBO9401_1,       P02C,      19,          1,         17,         17,2,19940127,       2136,    29.9830,   145.0830,       5951,   599.5,  10.1809,  34.2520,2,  34.2713,2,    164.4,2,   168.5,2,   28.10,3,    1.27,4,   18.16,3,    10.1098
49EWBO9401_1,       P02C,      19,          1,         16,         16,2,19940127,       2136,    29.9830,   145.0830,       5951,   700.2,   7.0081,  34.0271,2,  34.0527,3,    151.0,2,   156.9,2,   48.10,3,    1.79,4,   24.68,3,     6.9411
49EWBO9401_1,       P02C,      19,          1,         15,         15,2,19940127,       2136,    29.9830,   145.0830,       5951,   799.5,   5.0890,  34.0113,2,  34.0329,2,    143.6,2,   112.1,2,   74.80,3,    2.33,4,   31.99,3,     5.0236
49EWBO9401_1,       P02C,      19,          1,         14,         14,2,19940127,       2136,    29.9830,   145.0830,       5951,   899.8,   4.3859,  34.1317,2,  34.1472,2,    141.6,2,    67.8,2,   97.40,3,    2.66,4,   36.53,3,     4.3164
49EWBO9401_1,       P02C,      19,          1,         13,         13,2,19940127,       2136,    29.9830,   145.0830,       5951,  1000.2,   3.9898,  34.2213,2,  34.2406,2,    140.6,2,    43.3,2,  110.70,3,    2.79,4,   38.39,3,     3.9146
49EWBO9401_1,       P02C,      19,          1,         12,         12,2,19940127,       2136,    29.9830,   145.0830,       5951,  1249.8,   3.2014,  34.3654,2,  34.3935,2,    138.5,2,    33.8,2,  134.90,3,    2.94,4,   40.63,3,     3.1124
49EWBO9401_1,       P02C,      19,          1,         11,         11,2,19940127,       2136,    29.9830,   145.0830,       5951,  1500.1,   2.6493,  34.4625,2,  34.4736,3,    137.2,2,    34.7,2,  149.80,3,    2.96,4,   41.08,3,     2.5458
49EWBO9401_1,       P02C,      19,          1,         10,         10,2,19940127,       2136,    29.9830,   145.0830,       5951,  1749.6,   2.3135,  34.5324,2,  34.5426,2,    136.6,2,    54.9,3,  154.40,3,    2.86,4,   40.24,3,     2.1936
49EWBO9401_1,       P02C,      19,          1,          9,          9,2,19940127,       2136,    29.9830,   145.0830,       5951,  1998.5,   2.0354,  34.5739,2,  34.5902,2,    136.1,2,    71.6,2,  157.60,3,    2.78,4,   39.19,3,     1.8987
49EWBO9401_1,       P02C,      19,          1,          8,          8,2,19940127,       2136,    29.9830,   145.0830,       5951,  2498.7,   1.7021,  34.6252,2,  34.6421,2,    135.9,2,   103.7,2,  157.60,3,    2.62,4,   37.27,3,     1.5275
49EWBO9401_1,       P02C,      19,          1,          7,          7,2,19940127,       2136,    29.9830,   145.0830,       5951,  2999.1,   1.5814,  34.6477,2,  34.6650,2,    136.4,2,   126.2,2,  151.50,3,    2.50,4,   35.92,3,     1.3630
49EWBO9401_1,       P02C,      19,          1,          6,          6,2,19940127,       2136,    29.9830,   145.0830,       5951,  3499.9,   1.5102,  34.6602,2,  34.6728,2,    137.0,2,   137.6,2,  150.00,3,    2.44,4,   35.35,3,     1.2439
49EWBO9401_1,       P02C,      19,          1,          5,          5,2,19940127,       2136,    29.9830,   145.0830,       5951,  3999.9,   1.4781,  34.6683,2,  34.6891,2,    137.6,2,   146.7,2,  147.50,3,    2.39,4,   34.88,3,     1.1598
49EWBO9401_1,       P02C,      19,          1,          4,          4,2,19940127,       2136,    29.9830,   145.0830,       5951,  4500.0,   1.4801,  34.6736,2,  34.6910,2,    138.4,2,   153.4,2,  143.90,3,    2.36,4,   34.26,3,     1.1057
49EWBO9401_1,       P02C,      19,          1,          3,          3,2,19940127,       2136,    29.9830,   145.0830,       5951,  4999.3,   1.5066,  34.6765,2,  34.6878,3,    139.2,2,   158.3,2,  141.40,3,    2.33,4,   34.07,3,     1.0722
49EWBO9401_1,       P02C,      19,          1,          2,          2,2,19940127,       2136,    29.9830,   145.0830,       5951,  5499.7,   1.5517,  34.6780,2,  34.6927,3,    140.1,2,   167.9,3,  140.40,3,    2.31,4,   33.93,3,     1.0533
49EWBO9401_1,       P02C,      19,          1,          1,          1,2,19940127,       2136,    29.9830,   145.0830,       5951,  5802.3,   1.5852,  34.6785,2,  34.6970,2,    140.6,2,   166.1,2,  138.40,3,    2.31,4,   33.86,3,     1.0462
49EWBO9401_1,       P02C,      18,          1,          0,          0,2,19940128,       0350,    29.9830,   144.5000,       5848,     0.0,-999.0000,-999.0000,9,  34.9050,2,   -999.0,9,   221.6,2,    1.00,3,    0.05,4,    0.00,3,     -999.0
49EWBO9401_1,       P02C,      18,          1,         23,         23,2,19940128,       0350,    29.9830,   144.5000,       5848,    49.2,  19.1603,  34.8627,2,  34.8857,2,    204.4,2,   219.9,2,    1.00,3,    0.08,4,    0.00,3,    19.1515
49EWBO9401_1,       P02C,      18,          1,         22,         22,2,19940128,       0350,    29.9830,   144.5000,       5848,   100.7,  18.8969,  34.8371,2,  34.8574,2,    203.3,2,   211.9,2,    1.50,3,    0.14,4,    0.93,3,    18.8791
49EWBO9401_1,       P02C,      18,          1,         21,         21,2,19940128,       0350,    29.9830,   144.5000,       5848,   200.5,  17.5099,  34.7888,2,  34.8098,2,    197.1,2,   206.8,2,    2.50,3,    0.26,4,    3.00,3,    17.4762
49EWBO9401_1,       P02C,      18,          1,         20,         20,2,19940128,       0350,    29.9830,   144.5000,       5848,   299.8,  16.7108,  34.7289,2,  34.7484,2,    193.5,2,   193.7,2,    5.00,3,    0.41,4,    5.55,3,    16.6619
49EWBO9401_1,       P02C,      18,          1,         19,         19,2,19940128,       0350,    29.9830,   144.5000,       5848,   398.3,  15.1087,  34.6046,2,-999.0000,9,    186.1,2,   182.8,2,    9.10,3,    0.64,4,    9.03,3,    15.0479
49EWBO9401_1,       P02C,      18,          1,         18,         18,3,19940128,       0350,    29.9830,   144.5000,       5848,   499.3,  12.7519,  34.4424,2,  34.6262,3,    175.6,2,   174.5,3,   17.60,3,    0.97,4,   13.45,3,    12.6836
49EWBO9401_1,       P02C,      18,          1,         17,         17,3,19940128,       0350,    29.9830,   144.5000,       5848,   601.0,   9.6820,  34.2293,2,  34.7447,3,    162.2,2,   208.7,2,    9.10,4,    0.40,4,    4.86,4,     9.6124
49EWBO9401_1,       P02C,      18,          1,         16,         16,9,19940128,       0350,    29.9830,   144.5000,       5848,   700.3,   6.5881,  34.0364,2,-999.0000,9,    149.3,2,  -999.0,9, -999.00,9, -999.00,9, -999.00,9,     6.5225
49EWBO9401_1,       P02C,      18,          1,         15,         15,3,19940128,       0350,    29.9830,   144.5000,       5848,   797.3,   5.3889,  34.0477,2,  34.7929,3,    144.9,2,   193.8,2,    9.60,4,    0.39,4,    4.23,4,     5.3209
49EWBO9401_1,       P02C,      18,          1,         14,         14,3,19940128,       0350,    29.9830,   144.5000,       5848,   901.2,   4.5128,  34.1368,2,-999.0000,9,    142.1,2,   173.2,2,   31.20,4,    0.94,4,   12.37,4,     4.4421
49EWBO9401_1,       P02C,      18,          1,         13,         13,2,19940128,       0350,    29.9830,   144.5000,       5848,   999.6,   4.0190,  34.2251,2,  34.2501,2,    140.7,2,    57.0,2,  103.60,3,    2.76,4,   37.58,3,     3.9436
49EWBO9401_1,       P02C,      18,          1,         12,         12,2,19940128,       0350,    29.9830,   144.5000,       5848,  1249.9,   3.1823,  34.3744,2,  34.3951,2,    138.5,2,    35.3,2,  131.80,3,    2.99,4,   40.98,3,     3.0935
49EWBO9401_1,       P02C,      18,          1,         11,         11,3,19940128,       0350,    29.9830,   144.5000,       5848,  1498.9,   2.5873,  34.4718,2,  34.5571,2,    137.0,2,    74.1,2,  106.10,4,    2.21,4,   31.46,4,     2.4844
49EWBO9401_1,       P02C,      18,          1,         10,         10,2,19940128,       0350,    29.9830,   144.5000,       5848,  1750.7,   2.2035,  34.5369,2,  34.5468,2,    136.3,2,    54.0,3,  152.90,3,    2.90,4,   40.17,3,     2.0850
49EWBO9401_1,       P02C,      18,          1,          9,          9,2,19940128,       0350,    29.9830,   144.5000,       5848,  1999.1,   2.0098,  34.5759,2,  34.4426,3,    136.1,2,    59.5,2,   73.00,4,    2.24,4,   30.72,4,     1.8739
49EWBO9401_1,       P02C,      18,          1,          8,          8,2,19940128,       0350,    29.9830,   144.5000,       5848,  2499.0,   1.7171,  34.6254,2,  34.6366,2,    136.0,2,   108.6,2,   86.10,4,    2.35,4,   32.36,4,     1.5423
49EWBO9401_1,       P02C,      18,          1,          7,          7,2,19940128,       0350,    29.9830,   144.5000,       5848,  2998.7,   1.5929,  34.6462,2,  34.6565,2,    136.4,2,   124.6,2,  149.00,3,    2.56,4,   36.52,3,     1.3743
49EWBO9401_1,       P02C,      18,          1,          6,          6,2,19940128,       0350,    29.9830,   144.5000,       5848,  3499.1,   1.5201,  34.6588,2,  34.6785,3,    136.9,2,   136.1,2,  147.50,3,    2.50,4,   35.77,3,     1.2536
49EWBO9401_1,       P02C,      18,          1,          5,          5,2,19940128,       0350,    29.9830,   144.5000,       5848,  3997.3,   1.4875,  34.6672,2,  34.6793,3,    137.7,2,   145.3,2,  144.50,3,    2.45,4,   35.19,3,     1.1693
49EWBO9401_1,       P02C,      18,          1,          4,          4,3,19940128,       0350,    29.9830,   144.5000,       5848,  4497.9,   1.4825,  34.6732,2,  34.6773,2,    138.4,2,   152.8,2,  140.50,3,    2.39,4,   34.41,3,     1.1084
49EWBO9401_1,       P02C,      18,          1,          3,          3,2,19940128,       0350,    29.9830,   144.5000,       5848,  4998.9,   1.5082,  34.6766,2,  34.6908,2,    139.2,2,   157.4,2,  140.10,3,    2.38,4,   34.46,3,     1.0738
49EWBO9401_1,       P02C,      18,          1,          2,          2,2,19940128,       0350,    29.9830,   144.5000,       5848,  5500.1,   1.5542,  34.6779,2,  34.6934,2,    140.1,2,   161.1,2,  137.60,3,    2.33,4,   34.39,3,     1.0556
49EWBO9401_1,       P02C,      18,          1,          1,          1,2,19940128,       0350,    29.9830,   144.5000,       5848,  5833.9,   1.5900,  34.6785,2,  34.6946,2,    140.6,2,   164.4,2,  135.60,3,    2.33,4,   33.88,3,     1.0467
49EWBO9401_1,       P02C,      17,          1,          0,          0,2,19940128,       1007,    30.0000,   143.9170,       5680,     0.0,-999.0000,-999.0000,9,  34.9412,2,   -999.0,9,   221.3,3,    1.10,3,    0.05,4,    0.00,3,     -999.0
49EWBO9401_1,       P02C,      17,          1,         23,         23,2,19940128,       1007,    30.0000,   143.9170,       5680,    50.2,  19.3499,  34.8794,2,  34.9032,2,    205.4,2,   226.4,3,    1.10,3,    0.06,4,    0.00,3,    19.3409
49EWBO9401_1,       P02C,      17,          1,         22,         22,2,19940128,       1007,    30.0000,   143.9170,       5680,   100.2,  19.2228,  34.8644,2,  34.8914,2,    204.9,2,   223.1,3,    1.60,3,    0.07,4,    0.05,3,    19.2048
49EWBO9401_1,       P02C,      17,          1,         21,         21,2,19940128,       1007,    30.0000,   143.9170,       5680,   200.5,  19.0084,  34.8456,2,  34.8632,3,    204.0,2,   215.6,3,    3.20,3,    0.13,4,    0.79,3,    18.9726
49EWBO9401_1,       P02C,      17,          1,         20,         20,2,19940128,       1007,    30.0000,   143.9170,       5680,   300.2,  17.0118,  34.7580,2,  34.7865,2,    194.9,2,   204.3,2,    7.50,3,    0.34,4,    4.22,3,    16.9622
49EWBO9401_1,       P02C,      17,          1,         19,         19,2,19940128,       1007,    30.0000,   143.9170,       5680,   400.8,  15.4033,  34.6269,2,  34.6586,3,    187.6,2,   192.2,2,   16.60,3,    0.57,4,    7.76,3,    15.3413
49EWBO9401_1,       P02C,      17,          1,         18,         18,2,19940128,       1007,    30.0000,   143.9170,       5680,   500.8,  13.0354,  34.4512,2,  34.4844,3,    176.9,2,   176.1,2,   33.20,3,    0.94,4,   13.17,3,    12.9660
49EWBO9401_1,       P02C,      17,          1,         17,         17,2,19940128,       1007,    30.0000,   143.9170,       5680,   601.3,   9.4422,  34.1942,2,  34.2189,2,    161.2,2,   167.1,2,   53.60,3,    1.47,4,   20.06,3,     9.3741
49EWBO9401_1,       P02C,      17,          1,         16,         16,2,19940128,       1007,    30.0000,   143.9170,       5680,   699.9,   6.9520,  34.0565,2,  34.0779,2,    150.9,2,   144.0,2,   81.90,3,    1.97,4,   26.74,3,     6.8853
49EWBO9401_1,       P02C,      17,          1,         15,         15,2,19940128,       1007,    30.0000,   143.9170,       5680,   800.1,   5.0548,  34.0578,2,  34.0793,2,    143.7,2,    97.2,2,   98.00,3,    2.50,4,   34.00,3,     4.9895
49EWBO9401_1,       P02C,      17,          1,         14,         14,2,19940128,       1007,    30.0000,   143.9170,       5680,   900.0,   4.4681,  34.1238,2,  34.1459,2,    141.9,2,    70.7,2,  112.50,3,    2.71,4,   37.04,3,     4.3980
49EWBO9401_1,       P02C,      17,          1,         13,         13,2,19940128,       1007,    30.0000,   143.9170,       5680,  1000.7,   4.0184,  34.2249,2,  34.2475,2,    140.7,2,    50.2,2,  140.90,3,    2.85,4,   39.26,3,     3.9430
49EWBO9401_1,       P02C,      17,          1,         12,         12,2,19940128,       1007,    30.0000,   143.9170,       5680,  1250.2,   3.0979,  34.3816,2,  34.4048,2,    138.2,2,    34.2,2,  154.30,3,    3.01,4,   41.40,3,     3.0098
49EWBO9401_1,       P02C,      17,          1,         11,         11,2,19940128,       1007,    30.0000,   143.9170,       5680,  1499.6,   2.5791,  34.4818,2,  34.5030,2,    137.0,2,    42.0,2,  159.10,3,    2.99,4,   41.39,3,     2.4763
49EWBO9401_1,       P02C,      17,          1,         10,         10,2,19940128,       1007,    30.0000,   143.9170,       5680,  1750.2,   2.2540,  34.5358,2,  34.5548,2,    136.4,2,    56.6,2,  164.00,3,    2.92,4,   40.80,3,     2.1349
49EWBO9401_1,       P02C,      17,          1,          9,          9,2,19940128,       1007,    30.0000,   143.9170,       5680,  2000.9,   1.9939,  34.5758,2,  34.5958,2,    136.0,2,    72.1,2,  161.30,3,    2.84,4,   39.77,3,     1.8576
49EWBO9401_1,       P02C,      17,          1,          8,          8,2,19940128,       1007,    30.0000,   143.9170,       5680,  2500.0,   1.7083,  34.6241,2,  34.6444,2,    135.9,2,   102.9,2,  152.20,4,    2.68,4,   37.89,3,     1.5335
49EWBO9401_1,       P02C,      17,          1,          7,          7,2,19940128,       1007,    30.0000,   143.9170,       5680,  3000.8,   1.5597,  34.6479,2,  34.6426,2,    136.3,2,   120.3,2,  155.50,3,    2.54,4,   36.68,3,     1.3417
49EWBO9401_1,       P02C,      17,          1,          6,          6,2,19940128,       1007,    30.0000,   143.9170,       5680,  3501.8,   1.4920,  34.6607,2,  34.6831,3,    136.9,2,   136.9,2,  152.30,3,    2.49,4,   35.54,3,     1.2259
49EWBO9401_1,       P02C,      17,          1,          5,          5,2,19940128,       1007,    30.0000,   143.9170,       5680,  4000.2,   1.4645,  34.6689,2,  34.6891,2,    137.6,2,   147.1,2,  149.10,3,    2.42,4,   35.06,3,     1.1466
49EWBO9401_1,       P02C,      17,          1,          4,          4,2,19940128,       1007,    30.0000,   143.9170,       5680,  4499.6,   1.4705,  34.6738,2,  34.6948,2,    138.4,2,   155.1,2,  145.40,3,    2.41,4,   34.69,3,     1.0964
49EWBO9401_1,       P02C,      17,          1,          3,          3,2,19940128,       1007,    30.0000,   143.9170,       5680,  5000.5,   1.4990,  34.6768,2,  34.6962,2,    139.2,2,   159.2,2,  143.30,3,    2.37,4,   33.68,3,     1.0647
49EWBO9401_1,       P02C,      17,          1,          2,          2,2,19940128,       1007,    30.0000,   143.9170,       5680,  5499.7,   1.5499,  34.6778,2,  34.6960,3,    140.1,2,   161.6,2,  143.30,3,    2.35,4,   33.93,3,     1.0515
49EWBO9401_1,       P02C,      17,          1,          1,          1,2,19940128,       1007,    30.0000,   143.9170,       5680,  5726.0,   1.5735,  34.6785,2,  34.6984,2,    140.4,2,   163.7,2,  141.20,3,    2.34,4,   33.76,3,     1.0450