BOTTLE,20211110CCHSIORKP
EXPOCODE,SECT_ID,STNNBR,CASTNO,SAMPNO,BTLNBR,BTLNBR_FLAG_W,DATE,TIME,LATITUDE,LONGITUDE,DEPTH,CTDPRS,CTDTMP,CTDSAL,CTDSAL_FLAG_W,SALNTY,SALNTY_FLAG_W,CTDOXY,CTDOXY_FLAG_W,OXYGEN,OXYGEN_FLAG_W,SILCAT,SILCAT_FLAG_W,PHSPHT,PHSPHT_FLAG_W,NO2+NO3,NO2+NO3_FLAG_W,THETA
,,,,,,,,,,,METERS,DBAR,ITS-90,PSS-78,,PSS-78,,UMOL/KG,,UMOL/KG,,UMOL/KG,,UMOL/KG,,UMOL/KG,,ITS-90
49EWBO9401_1,       P02C,      22,          1,          0,          0,2,19940127,       0120,    29.9830,   146.8170,       6220,     0.0,-999.0000,-999.0000,9,  34.9443,2,   -999.0,9,   222.6,2,    1.40,3,    0.12,4,    0.00,3,     -999.0
49EWBO9401_1,       P02C,      22,          1,         23,         23,2,19940127,       0120,    29.9830,   146.8170,       6220,    48.6,  19.6502,  34.9039,2,  34.9244,2,    206.8,2,   219.8,2,    1.40,3,    0.00,4,    0.00,3,    19.6413
49EWBO9401_1,       P02C,      22,          1,         22,         22,2,19940127,       0120,    29.9830,   146.8170,       6220,    97.2,  19.6394,  34.9022,2,  34.9221,2,    206.9,2,   201.4,2,    1.40,3,    0.00,4,    0.00,3,    19.6217
49EWBO9401_1,       P02C,      22,          1,         21,         21,2,19940127,       0120,    29.9830,   146.8170,       6220,   196.8,  17.8543,  34.8032,2,  34.8265,2,    198.6,2,   201.1,2,    3.00,3,    0.19,4,    3.05,3,    17.8207
49EWBO9401_1,       P02C,      22,          1,         20,         20,2,19940127,       0120,    29.9830,   146.8170,       6220,   300.0,  16.6423,  34.7305,2,  34.7520,2,    193.2,2,   195.9,2,    4.60,3,    0.34,4,    5.41,3,    16.5935
49EWBO9401_1,       P02C,      22,          1,         19,         19,2,19940127,       0120,    29.9830,   146.8170,       6220,   399.7,  14.7989,  34.5879,2,  34.6128,2,    184.8,2,   180.3,2,   11.50,3,    0.66,4,    9.96,3,    14.7387
49EWBO9401_1,       P02C,      22,          1,         18,         18,2,19940127,       0120,    29.9830,   146.8170,       6220,   500.1,  11.8980,  34.3847,2,  34.4129,3,    171.9,2,   179.0,2,   21.70,3,    1.00,4,   14.71,3,    11.8327
49EWBO9401_1,       P02C,      22,          1,         17,         17,2,19940127,       0120,    29.9830,   146.8170,       6220,   601.8,   9.1423,  34.1784,2,  34.1968,2,    159.9,2,   168.2,2,   36.60,3,    1.45,4,   20.42,3,     9.0755
49EWBO9401_1,       P02C,      22,          1,         16,         16,2,19940127,       0120,    29.9830,   146.8170,       6220,   702.8,   6.2569,  33.9995,2,  34.0180,2,    148.0,2,   146.9,2,   58.60,3,    2.01,4,   27.83,3,     6.1937
49EWBO9401_1,       P02C,      22,          1,         15,         15,2,19940127,       0120,    29.9830,   146.8170,       6220,   805.6,   4.7842,  34.0264,2,  34.0390,2,    142.6,2,   100.3,2,   84.30,3,    2.49,4,   34.58,3,     4.7202
49EWBO9401_1,       P02C,      22,          1,         14,         14,2,19940127,       0120,    29.9830,   146.8170,       6220,   902.3,   4.2646,  34.1660,2,  34.1805,2,    141.2,2,    61.7,2,  106.20,3,    2.75,4,   38.34,3,     4.1956
49EWBO9401_1,       P02C,      22,          1,         13,         13,2,19940127,       0120,    29.9830,   146.8170,       6220,  1003.7,   3.8366,  34.2536,2,  34.2738,3,    140.1,2,    58.8,3,  118.00,3,    2.81,4,   39.59,3,     3.7623
49EWBO9401_1,       P02C,      22,          1,         12,         12,2,19940127,       0120,    29.9830,   146.8170,       6220,  1254.8,   3.0073,  34.3955,2,  34.4094,2,    137.9,2,    31.3,2,  145.80,3,    2.99,4,   42.13,3,     2.9197
49EWBO9401_1,       P02C,      22,          1,         11,         11,2,19940127,       0120,    29.9830,   146.8170,       6220,  1506.0,   2.5797,  34.4856,2,  34.4972,3,    137.0,2,    39.4,2,  156.40,3,    2.97,4,   41.96,3,     2.4764
49EWBO9401_1,       P02C,      22,          1,         10,         10,2,19940127,       0120,    29.9830,   146.8170,       6220,  1749.5,   2.2622,  34.5381,2,  34.5486,2,    136.5,2,    52.8,2,  162.90,3,    2.91,4,   41.31,3,     2.1430
49EWBO9401_1,       P02C,      22,          1,          9,          9,2,19940127,       0120,    29.9830,   146.8170,       6220,  1998.9,   1.9970,  34.5814,2,  34.5947,2,    136.0,2,    74.1,2,  165.00,3,    2.81,4,   40.07,3,     1.8608
49EWBO9401_1,       P02C,      22,          1,          8,          8,2,19940127,       0120,    29.9830,   146.8170,       6220,  2249.0,   1.8579,  34.6084,2,  34.6231,2,    136.0,2,    93.3,2,  161.20,3,    2.73,4,   38.93,3,     1.7026
49EWBO9401_1,       P02C,      22,          1,          7,          7,2,19940127,       0120,    29.9830,   146.8170,       6220,  2500.0,   1.7590,  34.6257,2,  34.6221,3,    136.1,2,   106.3,2,  157.50,3,    2.62,4,   37.82,3,     1.5833
49EWBO9401_1,       P02C,      22,          1,          6,          6,2,19940127,       0120,    29.9830,   146.8170,       6220,  2999.5,   1.6171,  34.6480,2,  34.6641,2,    136.5,2,   123.2,2,  158.00,3,    2.57,4,   36.99,3,     1.3978
49EWBO9401_1,       P02C,      22,          1,          5,          5,2,19940127,       0120,    29.9830,   146.8170,       6220,  3499.6,   1.5512,  34.6604,2,  34.6727,3,    137.1,2,   134.6,2,  155.80,3,    2.52,4,   36.38,3,     1.2839
49EWBO9401_1,       P02C,      22,          1,          4,          4,2,19940127,       0120,    29.9830,   146.8170,       6220,  4000.4,   1.5177,  34.6686,2,  34.6832,2,    137.8,2,   142.5,2,  154.20,3,    2.47,4,   35.86,3,     1.1983
49EWBO9401_1,       P02C,      22,          1,          3,          3,2,19940127,       0120,    29.9830,   146.8170,       6220,  4495.6,   1.5092,  34.6745,2,  34.6867,3,    138.5,2,   149.8,2,  152.00,3,    2.42,4,   35.30,3,     1.1345
49EWBO9401_1,       P02C,      22,          1,          2,          2,2,19940127,       0120,    29.9830,   146.8170,       6220,  4995.1,   1.5221,  34.6786,2,  34.6935,2,    139.3,2,   156.3,2,  148.80,3,    2.39,4,   34.78,3,     1.0877
49EWBO9401_1,       P02C,      22,          1,          1,          1,2,19940127,       0120,    29.9830,   146.8170,       6220,  5592.5,   1.5649,  34.6814,2,  34.6925,3,    140.2,2,  -999.0,9,  145.10,3,    2.38,4,   34.55,3,     1.0541
49EWBO9401_1,       P02C,      21,          1,          0,          0,2,19940127,       0715,    30.0000,   146.2500,       6094,     0.0,-999.0000,-999.0000,9,  34.9754,2,   -999.0,9,   216.9,2,    1.20,3, -999.00,9, -999.00,9,     -999.0
49EWBO9401_1,       P02C,      21,          1,         23,         23,2,19940127,       0715,    30.0000,   146.2500,       6094,    50.0,  19.4950,  34.8983,2,  34.9265,2,    206.1,2,   224.0,2,    1.30,3, -999.00,9, -999.00,9,    19.4859
49EWBO9401_1,       P02C,      21,          1,         22,         22,2,19940127,       0715,    30.0000,   146.2500,       6094,    99.7,  19.5042,  34.8970,2,  34.9259,2,    206.3,2,   231.3,2,    1.30,3, -999.00,9, -999.00,9,    19.4861
49EWBO9401_1,       P02C,      21,          1,         21,         21,2,19940127,       0715,    30.0000,   146.2500,       6094,   200.6,  17.6923,  34.7945,2,  34.8279,2,    197.9,2,   203.6,2,    1.30,3, -999.00,9, -999.00,9,    17.6583
49EWBO9401_1,       P02C,      21,          1,         20,         20,2,19940127,       0715,    30.0000,   146.2500,       6094,   299.3,  16.7063,  34.7290,2,  34.7581,2,    193.5,2,   196.6,2,    1.30,3, -999.00,9, -999.00,9,    16.6574
49EWBO9401_1,       P02C,      21,          1,         19,         19,2,19940127,       0715,    30.0000,   146.2500,       6094,   401.0,  14.7712,  34.5863,2,  34.6238,3,    184.7,2,   190.2,2,   10.20,3, -999.00,9, -999.00,9,    14.7109
49EWBO9401_1,       P02C,      21,          1,         18,         18,2,19940127,       0715,    30.0000,   146.2500,       6094,   501.3,  12.0354,  34.3908,2,  34.4194,2,    172.5,2,   177.4,2,   21.80,3, -999.00,9, -999.00,9,    11.9695
49EWBO9401_1,       P02C,      21,          1,         17,         17,2,19940127,       0715,    30.0000,   146.2500,       6094,   600.7,   8.9310,  34.1472,2,  34.1757,2,    158.9,2,   171.7,2,   36.50,3, -999.00,9, -999.00,9,     8.8653
49EWBO9401_1,       P02C,      21,          1,         16,         16,2,19940127,       0715,    30.0000,   146.2500,       6094,   700.3,   6.1139,  33.9691,2,  33.9960,2,    147.3,2,   152.3,2,   58.00,3, -999.00,9, -999.00,9,     6.0517
49EWBO9401_1,       P02C,      21,          1,         15,         15,2,19940127,       0715,    30.0000,   146.2500,       6094,   800.7,   4.8958,  34.0352,2,  34.0592,2,    143.0,2,   100.4,2,   81.60,3, -999.00,9, -999.00,9,     4.8315
49EWBO9401_1,       P02C,      21,          1,         14,         14,2,19940127,       0715,    30.0000,   146.2500,       6094,   900.2,   4.3666,  34.1490,2,  34.1727,2,    141.6,2,    64.6,2,  101.00,3, -999.00,9, -999.00,9,     4.2971
49EWBO9401_1,       P02C,      21,          1,         13,         13,2,19940127,       0715,    30.0000,   146.2500,       6094,  1001.5,   3.9297,  34.2315,2,  34.2570,2,    140.4,2,    48.7,2,  114.10,3, -999.00,9, -999.00,9,     3.8549
49EWBO9401_1,       P02C,      21,          1,         12,         12,2,19940127,       0715,    30.0000,   146.2500,       6094,  1250.5,   3.0750,  34.3849,2,  34.4102,2,    138.1,2,    35.2,2,  140.30,3, -999.00,9, -999.00,9,     2.9871
49EWBO9401_1,       P02C,      21,          1,         11,         11,2,19940127,       0715,    30.0000,   146.2500,       6094,  1499.4,   2.5831,  34.4777,2,  34.5042,2,    137.0,2,    38.2,3,  152.50,3, -999.00,9, -999.00,9,     2.4803
49EWBO9401_1,       P02C,      21,          1,         10,         10,2,19940127,       0715,    30.0000,   146.2500,       6094,  1749.4,   2.2251,  34.5437,2,  34.5634,2,    136.3,2,    60.5,2,  157.80,3, -999.00,9, -999.00,9,     2.1064
49EWBO9401_1,       P02C,      21,          1,          9,          9,2,19940127,       0715,    30.0000,   146.2500,       6094,  1997.9,   1.9962,  34.5815,2,  34.6047,2,    136.0,2,    78.5,2,  158.90,3, -999.00,9, -999.00,9,     1.8601
49EWBO9401_1,       P02C,      21,          1,          8,          8,2,19940127,       0715,    30.0000,   146.2500,       6094,  2499.9,   1.7419,  34.6243,2,  34.6457,2,    136.1,2,   106.4,2,  154.20,3, -999.00,9, -999.00,9,     1.5665
49EWBO9401_1,       P02C,      21,          1,          7,          7,2,19940127,       0715,    30.0000,   146.2500,       6094,  2998.3,   1.6178,  34.6449,2,  34.6577,2,    136.5,2,   123.6,2,  150.10,3, -999.00,9, -999.00,9,     1.3987
49EWBO9401_1,       P02C,      21,          1,          6,          6,2,19940127,       0715,    30.0000,   146.2500,       6094,  3497.2,   1.5315,  34.6586,2,  34.6776,2,    137.0,2,   139.4,2,  150.70,3, -999.00,9, -999.00,9,     1.2649
49EWBO9401_1,       P02C,      21,          1,          5,          5,2,19940127,       0715,    30.0000,   146.2500,       6094,  3998.9,   1.4919,  34.6673,2,  34.6924,3,    137.7,2,   148.6,2,  149.20,3, -999.00,9, -999.00,9,     1.1733
49EWBO9401_1,       P02C,      21,          1,          4,          4,2,19940127,       0715,    30.0000,   146.2500,       6094,  4498.3,   1.4890,  34.6728,2,  34.6937,2,    138.4,2,   152.0,2,  147.70,3, -999.00,9, -999.00,9,     1.1145
49EWBO9401_1,       P02C,      21,          1,          3,          3,2,19940127,       0715,    30.0000,   146.2500,       6094,  4998.4,   1.5113,  34.6761,2,  34.6958,2,    139.2,2,   157.9,2,  143.50,3, -999.00,9, -999.00,9,     1.0768
49EWBO9401_1,       P02C,      21,          1,          2,          2,3,19940127,       0715,    30.0000,   146.2500,       6094,  5500.5,   1.5486,  34.6786,2,  34.6653,2,    140.1,2,   164.9,2,  139.40,3, -999.00,9, -999.00,9,     1.0504
49EWBO9401_1,       P02C,      21,          1,          1,          1,2,19940127,       0715,    30.0000,   146.2500,       6094,  5785.2,   1.5737,  34.6796,2,  34.6971,2,    140.5,2,   165.6,2,  138.40,3, -999.00,9, -999.00,9,     1.0374
49EWBO9401_1,       P02C,      20,          1,          0,          0,2,19940127,       1745,    29.9830,   145.6670,       5885,     0.0,-999.0000,-999.0000,9,  34.9430,2,   -999.0,9,   220.9,2,    0.00,3,    0.00,4,    0.00,3,     -999.0
49EWBO9401_1,       P02C,      20,          1,         23,         23,2,19940127,       1745,    29.9830,   145.6670,       5885,    49.6,  19.4450,  34.9030,2,  34.9280,2,    205.9,2,   221.4,2,    0.20,3,    0.00,4,    0.00,3,    19.4360
49EWBO9401_1,       P02C,      20,          1,         22,         22,2,19940127,       1745,    29.9830,   145.6670,       5885,    99.0,  19.4500,  34.9020,2,  34.9310,2,    206.0,2,   221.3,2,    0.00,3,    0.00,4,    0.00,3,    19.4321
49EWBO9401_1,       P02C,      20,          1,         21,         21,2,19940127,       1745,    29.9830,   145.6670,       5885,   199.9,  17.4830,  34.7870,2,  34.8250,3,    197.0,2,   205.7,2,    1.80,3,    0.17,4,    3.25,3,    17.4494
49EWBO9401_1,       P02C,      20,          1,         20,         20,2,19940127,       1745,    29.9830,   145.6670,       5885,   300.9,  16.6420,  34.7280,2,  34.7550,2,    193.2,2,   195.7,2,    3.80,3,    0.29,4,    5.49,3,    16.5930
49EWBO9401_1,       P02C,      20,          1,         19,         19,2,19940127,       1745,    29.9830,   145.6670,       5885,   400.5,  14.9580,  34.5910,2,  34.6230,2,    185.5,2,   185.4,2,    7.90,3,    0.53,4,    9.16,3,    14.8973
49EWBO9401_1,       P02C,      20,          1,         18,         18,2,19940127,       1745,    29.9830,   145.6670,       5885,   500.4,  12.2670,  34.3980,2,  34.4240,2,    173.4,2,   175.8,2,   18.50,3,    0.88,4,   14.44,3,    12.2004
49EWBO9401_1,       P02C,      20,          1,         17,         17,2,19940127,       1745,    29.9830,   145.6670,       5885,   600.1,   9.2580,  34.1920,2,  34.2170,2,    160.5,2,   163.9,2,   34.60,3,    1.35,4,   20.57,3,     9.1908
49EWBO9401_1,       P02C,      20,          1,         16,         16,2,19940127,       1745,    29.9830,   145.6670,       5885,   699.6,   6.5350,  34.0260,2,  34.0490,2,    149.1,2,   143.6,2,   53.90,3,    1.86,4,   27.43,3,     6.4706
49EWBO9401_1,       P02C,      20,          1,         15,         15,2,19940127,       1745,    29.9830,   145.6670,       5885,   800.1,   4.9350,  34.0590,2,  34.0790,3,    143.2,2,    92.7,2,   80.60,3,    2.37,4,   34.83,3,     4.8705
49EWBO9401_1,       P02C,      20,          1,         14,         14,2,19940127,       1745,    29.9830,   145.6670,       5885,   900.6,   4.4430,  34.1330,2,  34.1540,2,    141.8,2,    70.3,2,   94.80,3,    2.57,4,   37.61,3,     4.3730
49EWBO9401_1,       P02C,      20,          1,         13,         13,2,19940127,       1745,    29.9830,   145.6670,       5885,  1001.0,   4.0400,  34.2120,2,  34.2330,2,    140.7,2,    52.8,2,  107.40,3,    2.68,4,   39.39,3,     3.9644
49EWBO9401_1,       P02C,      20,          1,         12,         12,2,19940127,       1745,    29.9830,   145.6670,       5885,  1249.3,   3.1420,  34.3840,2,  34.4040,2,    138.4,2,    32.9,2,  134.20,3,    2.88,4,   41.93,3,     3.0536
49EWBO9401_1,       P02C,      20,          1,         11,         11,2,19940127,       1745,    29.9830,   145.6670,       5885,  1500.2,   2.6170,  34.4820,2,  34.5020,2,    137.2,2,    42.1,2,  146.40,3,    2.87,4,   41.80,3,     2.5137
49EWBO9401_1,       P02C,      20,          1,         10,         10,2,19940127,       1745,    29.9830,   145.6670,       5885,  1750.3,   2.3160,  34.5270,2,  34.5460,2,    136.6,2,    51.6,2,  153.00,3,    2.84,4,   41.35,3,     2.1960
49EWBO9401_1,       P02C,      20,          1,          9,          9,2,19940127,       1745,    29.9830,   145.6670,       5885,  1998.4,   2.0390,  34.5670,2,  34.5870,2,    136.2,2,    64.6,2,  158.50,3,    2.77,4,   40.58,3,     1.9023
49EWBO9401_1,       P02C,      20,          1,          8,          8,2,19940127,       1745,    29.9830,   145.6670,       5885,  2500.6,   1.7300,  34.6220,2,  34.6420,2,    136.0,2,   100.4,2,  155.60,3,    2.64,4,   38.40,3,     1.5547
49EWBO9401_1,       P02C,      20,          1,          7,          7,2,19940127,       1745,    29.9830,   145.6670,       5885,  2999.5,   1.5910,  34.6460,2,  34.6610,3,    136.4,2,   120.3,2,  149.00,3,    2.52,4,   36.98,3,     1.3723
49EWBO9401_1,       P02C,      20,          1,          6,          6,2,19940127,       1745,    29.9830,   145.6670,       5885,  3500.8,   1.5250,  34.6580,2,  34.6760,2,    137.0,2,   134.3,2,  149.60,3,    2.47,4,   36.26,3,     1.2582
49EWBO9401_1,       P02C,      20,          1,          5,          5,2,19940127,       1745,    29.9830,   145.6670,       5885,  4000.3,   1.4890,  34.6670,2,  34.6870,2,    137.7,2,   144.9,2,  145.60,3,    2.41,4,   35.72,3,     1.1704
49EWBO9401_1,       P02C,      20,          1,          4,          4,2,19940127,       1745,    29.9830,   145.6670,       5885,  4500.0,   1.4850,  34.6730,2,  34.6950,2,    138.4,2,   164.5,2,  143.10,3,    2.36,4,   35.22,3,     1.1104
49EWBO9401_1,       P02C,      20,          1,          3,          3,2,19940127,       1745,    29.9830,   145.6670,       5885,  4998.9,   1.5050,  34.6770,2,  34.6940,3,    139.2,2,   156.9,2,  140.10,3,    2.33,4,   34.86,3,     1.0707
49EWBO9401_1,       P02C,      20,          1,          2,          2,2,19940127,       1745,    29.9830,   145.6670,       5885,  5499.1,   1.5520,  34.6780,2,  34.7000,2,    140.1,2,   162.4,2,  137.10,3,    2.29,4,   34.43,3,     1.0536
49EWBO9401_1,       P02C,      20,          1,          1,          1,2,19940127,       1745,    29.9830,   145.6670,       5885,  5796.9,   1.5830,  34.6790,2,  34.7000,3,    140.5,2,   163.1,2,  135.20,3,    2.29,4,   34.20,3,     1.0448