BOTTLE,20211110CCHSIORKP
EXPOCODE,SECT_ID,STNNBR,CASTNO,SAMPNO,BTLNBR,BTLNBR_FLAG_W,DATE,TIME,LATITUDE,LONGITUDE,DEPTH,CTDPRS,CTDTMP,CTDSAL,CTDSAL_FLAG_W,SALNTY,SALNTY_FLAG_W,CTDOXY,CTDOXY_FLAG_W,OXYGEN,OXYGEN_FLAG_W,SILCAT,SILCAT_FLAG_W,PHSPHT,PHSPHT_FLAG_W,NO2+NO3,NO2+NO3_FLAG_W,THETA
,,,,,,,,,,,METERS,DBAR,ITS-90,PSS-78,,PSS-78,,UMOL/KG,,UMOL/KG,,UMOL/KG,,UMOL/KG,,UMOL/KG,,ITS-90
49EWBO9401_1,       P02C,      16,          1,          0,          0,2,19940128,       1825,    29.9830,   143.3330,       5854,     0.0,-999.0000,-999.0000,9,  34.9809,2,   -999.0,9,   221.0,2,    0.50,3,    0.00,4,    0.00,3,     -999.0
49EWBO9401_1,       P02C,      16,          1,         23,         23,2,19940128,       1825,    29.9830,   143.3330,       5854,    50.0,  19.4300,  34.9000,2,  34.9255,2,    205.9,2,   221.1,2,    0.50,3,    0.00,4,    0.00,3,    19.4210
49EWBO9401_1,       P02C,      16,          1,         22,         22,2,19940128,       1825,    29.9830,   143.3330,       5854,   100.2,  19.0100,  34.8600,2,  34.8889,2,    203.9,2,   220.9,2,    1.00,3,    0.03,4,    0.17,3,    18.9922
49EWBO9401_1,       P02C,      16,          1,         21,         21,2,19940128,       1825,    29.9830,   143.3330,       5854,   201.5,  17.6500,  34.7900,2,  34.8225,3,    197.7,2,   204.8,2,    2.50,3,    0.21,4,    3.19,3,    17.6159
49EWBO9401_1,       P02C,      16,          1,         20,         20,2,19940128,       1825,    29.9830,   143.3330,       5854,   300.1,  16.9900,  34.7600,2,  34.7887,2,    194.9,2,   208.3,2,    2.50,3,    0.27,4,    3.98,3,    16.9404
49EWBO9401_1,       P02C,      16,          1,         19,         19,2,19940128,       1825,    29.9830,   143.3330,       5854,   401.4,  15.2700,  34.6200,2,  34.6365,3,    187.0,2,   186.0,2,    8.10,3,    0.55,4,    8.87,3,    15.2083
49EWBO9401_1,       P02C,      16,          1,         18,         18,2,19940128,       1825,    29.9830,   143.3330,       5854,   500.0,  12.5600,  34.4200,2,  34.4448,2,    174.8,2,   175.4,2,   17.60,3,    0.92,4,   14.46,3,    12.4924
49EWBO9401_1,       P02C,      16,          1,         17,         17,2,19940128,       1825,    29.9830,   143.3330,       5854,   600.5,  10.1200,  34.2700,2,  34.2952,3,    164.3,2,   159.9,2,   31.60,3,    1.34,4,   20.16,3,    10.0490
49EWBO9401_1,       P02C,      16,          1,         16,         16,2,19940128,       1825,    29.9830,   143.3330,       5854,   701.0,   7.0780,  34.0600,2,  34.0783,2,    151.4,2,   149.7,2,   49.70,3,    1.83,4,   26.65,3,     7.0105
49EWBO9401_1,       P02C,      16,          1,         15,         15,2,19940128,       1825,    29.9830,   143.3330,       5854,   799.3,   5.4100,  34.0300,2,  34.0604,3,    145.0,2,   110.4,2,   70.70,3,    2.30,4,   33.04,3,     5.3426
49EWBO9401_1,       P02C,      16,          1,         14,         14,2,19940128,       1825,    29.9830,   143.3330,       5854,   901.9,   4.6720,  34.1100,2,  34.1284,2,    142.6,2,    76.6,2,   88.80,3,    2.59,4,   37.16,3,     4.6003
49EWBO9401_1,       P02C,      16,          1,         13,         13,2,19940128,       1825,    29.9830,   143.3330,       5854,  1001.0,   4.1450,  34.2000,2,  34.2189,2,    141.1,2,    54.0,2,  104.40,3,    2.77,4,   39.43,3,     4.0686
49EWBO9401_1,       P02C,      16,          1,         12,         12,2,19940128,       1825,    29.9830,   143.3330,       5854,  1251.0,   3.2390,  34.3700,2,  34.3924,3,    138.7,2,    33.2,2,  130.40,3,    2.94,4,   42.19,3,     3.1495
49EWBO9401_1,       P02C,      16,          1,         11,         11,2,19940128,       1825,    29.9830,   143.3330,       5854,  1501.0,   2.6880,  34.4600,2,  34.4821,2,    137.4,2,    37.1,2,  144.50,3,    2.93,4,   42.54,3,     2.5839
49EWBO9401_1,       P02C,      16,          1,         10,         10,2,19940128,       1825,    29.9830,   143.3330,       5854,  1752.0,   2.3100,  34.5200,2,  34.5443,2,    136.6,2,    48.1,2,  152.60,3,    2.89,4,   42.25,3,     2.1900
49EWBO9401_1,       P02C,      16,          1,          9,          9,2,19940128,       1825,    29.9830,   143.3330,       5854,  2001.0,   2.0410,  34.5700,2,  34.5882,2,    136.2,2,    64.5,2,  156.60,3,    2.81,4,   41.16,3,     1.9040
49EWBO9401_1,       P02C,      16,          1,          8,          8,2,19940128,       1825,    29.9830,   143.3330,       5854,  2501.0,   1.7440,  34.6200,2,  34.6366,3,    136.1,2,    98.6,2,  154.10,3,    2.64,4,   39.42,3,     1.5685
49EWBO9401_1,       P02C,      16,          1,          7,          7,2,19940128,       1825,    29.9830,   143.3330,       5854,  3000.0,   1.5970,  34.6400,2,  34.6587,3,    136.4,2,   118.4,2,  149.70,3,    2.53,4,   38.16,3,     1.3782
49EWBO9401_1,       P02C,      16,          1,          6,          6,2,19940128,       1825,    29.9830,   143.3330,       5854,  3501.0,   1.5180,  34.6600,2,  34.6775,2,    137.0,2,   135.0,2,  147.20,3,    2.44,4,   36.93,3,     1.2513
49EWBO9401_1,       P02C,      16,          1,          5,          5,2,19940128,       1825,    29.9830,   143.3330,       5854,  4000.0,   1.4810,  34.6700,2,  34.6857,2,    137.6,2,   145.2,2,  145.20,3,    2.40,4,   36.18,3,     1.1626
49EWBO9401_1,       P02C,      16,          1,          4,          4,2,19940128,       1825,    29.9830,   143.3330,       5854,  4499.0,   1.4850,  34.6700,2,  34.6909,2,    138.4,2,   152.4,2,  142.20,3,    2.38,4,   35.55,3,     1.1106
49EWBO9401_1,       P02C,      16,          1,          3,          3,2,19940128,       1825,    29.9830,   143.3330,       5854,  5002.0,   1.5100,  34.6800,2,  34.6948,2,    139.2,2,   156.3,2,  139.80,3,    2.35,4,   35.01,3,     1.0751
49EWBO9401_1,       P02C,      16,          1,          2,          2,2,19940128,       1825,    29.9830,   143.3330,       5854,  5501.0,   1.5550,  34.6800,2,  34.6957,2,    140.1,2,   160.7,2,  137.30,3,    2.32,4,   34.30,3,     1.0563
49EWBO9401_1,       P02C,      16,          1,          1,          1,2,19940128,       1825,    29.9830,   143.3330,       5854,  5764.0,   1.5830,  34.6800,2,  34.6965,2,    140.5,2,   161.6,2,  135.80,3,    2.31,4,   34.32,3,     1.0491
49EWBO9401_1,       P02C,      15,          1,          0,          0,2,19940131,       1358,    30.0000,   142.7500,       6181,     0.0,-999.0000,-999.0000,9,  34.8114,2,   -999.0,9,   220.9,2,    0.50,3,    0.00,4,    0.00,3,     -999.0
49EWBO9401_1,       P02C,      15,          1,         23,         23,2,19940131,       1358,    30.0000,   142.7500,       6181,    50.5,  19.7540,  34.9417,2,  34.9649,3,    207.5,2,   220.5,2,    1.00,3,    0.00,4,    0.00,3,    19.7448
49EWBO9401_1,       P02C,      15,          1,         22,         22,2,19940131,       1358,    30.0000,   142.7500,       6181,   100.2,  19.4894,  34.9135,2,  34.9320,2,    206.3,2,   217.3,2,    1.00,3,    0.00,4,    0.07,3,    19.4712
49EWBO9401_1,       P02C,      15,          1,         21,         21,2,19940131,       1358,    30.0000,   142.7500,       6181,   198.8,  17.6535,  34.7986,2,  34.8172,2,    197.8,2,   210.2,2,    2.60,3,    0.09,4,    2.68,3,    17.6199
49EWBO9401_1,       P02C,      15,          1,         20,         20,2,19940131,       1358,    30.0000,   142.7500,       6181,   300.5,  16.7932,  34.7396,2,  34.5777,2,    193.9,2,   203.1,2,    3.60,3,    0.25,4,    4.74,3,    16.7440
49EWBO9401_1,       P02C,      15,          1,         19,         19,2,19940131,       1358,    30.0000,   142.7500,       6181,   399.7,  15.1833,  34.6086,2,  34.6341,3,    186.6,2,   192.9,2,    7.80,3,    0.54,4,    8.26,3,    15.1221
49EWBO9401_1,       P02C,      15,          1,         18,         18,2,19940131,       1358,    30.0000,   142.7500,       6181,   496.7,  12.7471,  34.4114,2,  34.4311,2,    175.5,2,   191.2,3,   14.70,3,    0.81,4,   12.29,3,    12.6793
49EWBO9401_1,       P02C,      15,          1,         17,         17,2,19940131,       1358,    30.0000,   142.7500,       6181,   599.8,  10.5545,  34.2599,2,  34.2788,2,    166.0,2,   191.5,2,   25.20,3,    1.16,4,   17.09,3,    10.4817
49EWBO9401_1,       P02C,      15,          1,         16,         16,2,19940131,       1358,    30.0000,   142.7500,       6181,   699.5,   8.0569,  34.1409,2,  34.1604,2,    155.6,2,   149.8,2,   46.90,3,    1.70,4,   24.21,3,     7.9844
49EWBO9401_1,       P02C,      15,          1,         15,         15,2,19940131,       1358,    30.0000,   142.7500,       6181,   800.8,   6.0896,  34.0776,2,  34.0967,2,    147.8,2,   117.7,2,   68.50,3,    2.18,4,   30.60,3,     6.0179
49EWBO9401_1,       P02C,      15,          1,         14,         14,2,19940131,       1358,    30.0000,   142.7500,       6181,   899.3,   4.9294,  34.1196,2,  34.1348,3,    143.6,2,    86.1,3,   90.20,3,    2.54,4,   35.30,3,     4.8562
49EWBO9401_1,       P02C,      15,          1,         13,         13,2,19940131,       1358,    30.0000,   142.7500,       6181,   998.2,   4.2974,  34.1890,2,  34.2077,2,    141.6,2,    63.2,2,  105.50,3,    2.71,4,   38.00,3,     4.2201
49EWBO9401_1,       P02C,      15,          1,         12,         12,2,19940131,       1358,    30.0000,   142.7500,       6181,  1248.7,   3.2665,  34.3617,2,  34.3737,2,    138.8,2,    40.5,2,  136.60,3,    2.95,4,   40.75,3,     3.1770
49EWBO9401_1,       P02C,      15,          1,         11,         11,2,19940131,       1358,    30.0000,   142.7500,       6181,  1499.2,   2.7313,  34.4559,2,  34.4687,2,    137.5,2,    43.2,2,  151.40,3,    2.95,4,   41.19,3,     2.6269
49EWBO9401_1,       P02C,      15,          1,         10,         10,2,19940131,       1358,    30.0000,   142.7500,       6181,  1748.2,   2.3190,  34.5196,2,  34.5398,2,    136.6,2,    55.0,2,  160.90,3,    2.91,4,   41.03,3,     2.1992
49EWBO9401_1,       P02C,      15,          1,          9,          9,2,19940131,       1358,    30.0000,   142.7500,       6181,  1999.4,   2.0529,  34.5665,2,  34.5817,2,    136.2,2,    71.7,2,  164.10,3,    2.79,4,   39.85,3,     1.9159
49EWBO9401_1,       P02C,      15,          1,          8,          8,2,19940131,       1358,    30.0000,   142.7500,       6181,  2501.7,   1.7368,  34.6201,2,  34.6363,2,    136.1,2,   108.1,2,  162.00,3,    2.62,4,   37.87,3,     1.5613
49EWBO9401_1,       P02C,      15,          1,          7,          7,2,19940131,       1358,    30.0000,   142.7500,       6181,  2998.3,   1.5961,  34.6441,2,  34.6568,2,    136.4,2,   127.7,2,  157.80,3,    2.51,4,   36.74,3,     1.3774
49EWBO9401_1,       P02C,      15,          1,          6,          6,2,19940131,       1358,    30.0000,   142.7500,       6181,  3501.1,   1.5275,  34.6571,2,  34.6652,3,    137.0,2,   139.3,2,  156.20,3,    2.45,4,   35.99,3,     1.2607
49EWBO9401_1,       P02C,      15,          1,          5,          5,2,19940131,       1358,    30.0000,   142.7500,       6181,  4001.1,   1.5002,  34.6648,2,  34.6818,2,    137.7,2,   148.1,2,  154.10,3,    2.39,4,   35.12,3,     1.1812
49EWBO9401_1,       P02C,      15,          1,          4,          4,2,19940131,       1358,    30.0000,   142.7500,       6181,  4502.7,   1.4952,  34.6707,2,  34.6893,2,    138.4,2,   155.1,9,  151.50,3,    2.36,4,   34.77,3,     1.1200
49EWBO9401_1,       P02C,      15,          1,          3,          3,2,19940131,       1358,    30.0000,   142.7500,       6181,  4997.8,   1.5210,  34.6739,2,  34.6873,3,    139.2,2,   158.7,2,  149.90,3,    2.35,4,   34.69,3,     1.0863
49EWBO9401_1,       P02C,      15,          1,          2,          2,2,19940131,       1358,    30.0000,   142.7500,       6181,  5500.1,   1.5679,  34.6756,2,  34.6921,2,    140.1,2,   162.9,2,  147.80,3,    2.33,4,   34.45,3,     1.0688
49EWBO9401_1,       P02C,      15,          1,          1,          1,2,19940131,       1358,    30.0000,   142.7500,       6181,  5821.8,   1.6056,  34.6759,2,  34.6915,2,    140.7,2,   164.3,2,  146.70,3,    2.32,4,   34.04,3,     1.0633
49EWBO9401_1,       P02C,      14,          1,          0,          0,2,19940131,       2150,    29.9830,   142.1670,       4918,     0.0,-999.0000,-999.0000,9,  34.9754,2,   -999.0,9,   216.9,2,    1.20,3,    0.02,4,    0.00,3,     -999.0
49EWBO9401_1,       P02C,      14,          1,         23,         23,2,19940131,       2150,    29.9830,   142.1670,       4918,    50.1,  19.7656,  34.9336,2,  34.9558,2,    207.5,2,   218.3,2,    1.20,3,    0.02,4,    0.00,3,    19.7564
49EWBO9401_1,       P02C,      14,          1,         22,         22,2,19940131,       2150,    29.9830,   142.1670,       4918,    99.1,  19.7241,  34.9271,2,  34.9506,2,    207.4,2,   217.6,2,    1.80,3,    0.04,4,    0.00,3,    19.7060
49EWBO9401_1,       P02C,      14,          1,         21,         21,2,19940131,       2150,    29.9830,   142.1670,       4918,   200.6,  18.0430,  34.8122,2,  34.8351,2,    199.5,2,   203.1,2,    2.70,3,    0.22,4,    2.68,3,    18.0085
49EWBO9401_1,       P02C,      14,          1,         20,         20,2,19940131,       2150,    29.9830,   142.1670,       4918,   300.7,  16.9670,  34.7529,2,  34.7746,2,    194.7,2,   204.0,2,    3.70,3,    0.32,4,    4.39,3,    16.9174
49EWBO9401_1,       P02C,      14,          1,         19,         19,2,19940131,       2150,    29.9830,   142.1670,       4918,   400.2,  15.0387,  34.5977,2,  34.6219,2,    185.9,2,   189.2,2,    9.10,3,    0.60,4,    8.79,3,    14.9778
49EWBO9401_1,       P02C,      14,          1,         18,         18,2,19940131,       2150,    29.9830,   142.1670,       4918,   500.1,  13.0702,  34.4550,2,  34.4803,2,    177.1,2,   178.0,2,   14.50,3,    0.87,4,   12.95,3,    13.0007
49EWBO9401_1,       P02C,      14,          1,         17,         17,2,19940131,       2150,    29.9830,   142.1670,       4918,   600.3,  10.6118,  34.2776,2,  34.3028,2,    166.3,2,   172.1,2,   25.80,3,    1.21,4,   17.49,3,    10.5387
49EWBO9401_1,       P02C,      14,          1,         16,         16,2,19940131,       2150,    29.9830,   142.1670,       4918,   700.0,   8.3718,  34.1613,2,  34.1808,3,    157.0,2,   151.2,2,   41.50,3,    1.66,4,   23.38,3,     8.2976
49EWBO9401_1,       P02C,      14,          1,         15,         15,2,19940131,       2150,    29.9830,   142.1670,       4918,   800.4,   6.1648,  34.0987,2,  34.1164,4,    148.2,2,   116.2,3,   64.50,3,    2.18,4,   30.51,3,     6.0927
49EWBO9401_1,       P02C,      14,          1,         14,         14,2,19940131,       2150,    29.9830,   142.1670,       4918,   899.4,   5.0706,  34.1331,2,  34.1537,2,    144.2,2,    85.8,2,   81.60,3,    2.40,4,   34.71,3,     4.9964
49EWBO9401_1,       P02C,      14,          1,         13,         13,2,19940131,       2150,    29.9830,   142.1670,       4918,  1000.4,   4.3639,  34.1886,2,  34.2085,2,    141.9,2,    64.0,2,   96.30,3,    2.71,4,   37.39,3,     4.2859
49EWBO9401_1,       P02C,      14,          1,         12,         12,2,19940131,       2150,    29.9830,   142.1670,       4918,  1250.9,   3.2192,  34.3606,2,  34.3754,2,    138.6,2,    35.2,2,  127.10,3,    2.99,4,   41.19,3,     3.1300
49EWBO9401_1,       P02C,      14,          1,         11,         11,2,19940131,       2150,    29.9830,   142.1670,       4918,  1499.9,   2.6467,  34.4583,2,  34.4731,3,    137.2,2,    38.2,2,  142.30,3,    3.02,4,   41.54,3,     2.5432
49EWBO9401_1,       P02C,      14,          1,         10,         10,2,19940131,       2150,    29.9830,   142.1670,       4918,  1750.4,   2.2551,  34.5283,2,  34.5437,2,    136.4,2,    52.4,2,  150.10,3,    2.95,4,   40.73,3,     2.1360
49EWBO9401_1,       P02C,      14,          1,          9,          9,2,19940131,       2150,    29.9830,   142.1670,       4918,  1999.7,   2.0357,  34.5685,2,  34.5849,2,    136.2,2,    69.8,2,  152.10,3,    2.85,4,   40.32,3,     1.8989
49EWBO9401_1,       P02C,      14,          1,          8,          8,2,19940131,       2150,    29.9830,   142.1670,       4918,  2250.1,   1.8479,  34.6004,2,  34.6160,2,    136.0,2,    89.0,2,  151.20,3,    2.75,4,   39.02,3,     1.6927
49EWBO9401_1,       P02C,      14,          1,          7,          7,2,19940131,       2150,    29.9830,   142.1670,       4918,  2500.3,   1.7222,  34.6215,2,  34.6394,2,    136.0,2,   104.6,2,  149.30,3,    2.67,4,   38.06,3,     1.5471
49EWBO9401_1,       P02C,      14,          1,          6,          6,2,19940131,       2150,    29.9830,   142.1670,       4918,  2748.5,   1.6420,  34.6364,2,  34.6543,2,    136.1,2,   120.5,2,  144.90,3,    2.60,4,   37.01,3,     1.4459
49EWBO9401_1,       P02C,      14,          1,          5,          5,2,19940131,       2150,    29.9830,   142.1670,       4918,  3000.1,   1.5784,  34.6464,2,  34.6599,3,    136.4,2,   126.7,2,  144.90,3,    2.58,4,   36.72,3,     1.3599
49EWBO9401_1,       P02C,      14,          1,          4,          4,2,19940131,       2150,    29.9830,   142.1670,       4918,  3502.9,   1.5007,  34.6594,2,  34.6754,2,    136.9,2,   139.1,2,  143.50,3,    2.48,4,   35.89,3,     1.2343
49EWBO9401_1,       P02C,      14,          1,          3,          3,2,19940131,       2150,    29.9830,   142.1670,       4918,  4001.5,   1.4725,  34.6679,2,  34.6793,3,    137.6,2,   147.8,2,  141.10,3,    2.42,4,   35.17,3,     1.1542
49EWBO9401_1,       P02C,      14,          1,          2,          2,2,19940131,       2150,    29.9830,   142.1670,       4918,  4501.2,   1.4707,  34.6731,2,  34.6891,2,    138.4,2,   155.8,2,  138.20,3,    2.36,4,   34.68,3,     1.0965
49EWBO9401_1,       P02C,      14,          1,          1,          1,2,19940131,       2150,    29.9830,   142.1670,       4918,  4957.9,   1.5051,  34.6752,2,  34.6905,2,    139.1,2,   159.0,2,  136.80,3,    2.35,4,   34.24,3,     1.0758