BOTTLE,20181005JHS,,,,,,,,,,,,,,,,,,,,,,,,,,,,,,,,,,,,,,
EXPOCODE,SECT_ID,STNNBR,CASTNO,SAMPNO,BTLNBR,BTLNBR_FLAG_W,DATE,TIME,LATITUDE,LONGITUDE,DEPTH,CTDPRS,CTDTMP,CTDSAL,CTDSAL_FLAG_W,SALNTY,SALNTY_FLAG_W,CTDOXY,CTDOXY_FLAG_W,OXYGEN,OXYGEN_FLAG_W,SILCAT,SILCAT_FLAG_W,NITRAT,NITRAT_FLAG_W,NITRIT,NITRIT_FLAG_W,PHSPHT,PHSPHT_FLAG_W,CFC-11,CFC-11_FLAG_W,CFC-12,CFC-12_FLAG_W,SF6,SF6_FLAG_W,TCARBN,TCARBN_FLAG_W,ALKALI,ALKALI_FLAG_W
,,,,,,,,,,,,DBAR,ITS-90,PSS-78,,PSS-78,,UMOL/KG,,UMOL/KG,,UMOL/KG,,UMOL/KG,,UMOL/KG,,UMOL/KG,,PMOL/KG,,PMOL/KG,,FMOL/KG,,UMOL/KG,,UMOL/KG,
  90KDIOFFE6_1,  S04P,782,1,24,24,2,19920326,401,-66.7135,173.1772,3186,10.3,-0.272,33.8188,2,33.8181,2,-999,9,336,2,54.51,2,22.65,2,0.11,2,1.7,2,6.01,2,2.761,3,-999,9,2148.8,2,-999,9
  90KDIOFFE6_1,  S04P,782,1,23,23,2,19920326,401,-66.7135,173.1772,3186,46.3,-0.3038,33.8304,2,33.8249,2,-999,9,335.1,2,54.5,2,22.74,2,0.11,2,1.7,2,6.104,2,2.777,3,-999,9,2149.2,2,-999,9
  90KDIOFFE6_1,  S04P,782,1,22,22,2,19920326,401,-66.7135,173.1772,3186,76.4,-1.3208,34.289,2,34.2949,2,-999,9,276.3,2,73.1,2,29.52,2,0.13,2,2.19,2,3.985,2,1.764,3,-999,9,-999,9,-999,9
  90KDIOFFE6_1,  S04P,782,1,21,21,2,19920326,401,-66.7135,173.1772,3186,105.7,-0.0875,34.4635,2,34.4372,2,-999,9,236.9,2,79.87,2,31.19,2,0.12,2,2.27,2,2.504,2,1.126,3,-999,9,-999,9,-999,9
  90KDIOFFE6_1,  S04P,782,1,20,20,2,19920326,401,-66.7135,173.1772,3186,155.9,1.1747,34.6438,2,34.6435,2,-999,9,192.7,2,90.48,2,32.16,2,0.03,2,2.31,2,0.752,2,0.331,3,-999,9,-999,9,-999,9
  90KDIOFFE6_1,  S04P,782,1,30,30,2,19920326,401,-66.7135,173.1772,3186,206.3,1.3578,34.6851,2,34.6847,2,-999,9,188.8,2,94.09,2,31.81,2,0.02,2,2.29,2,0.414,2,0.161,3,-999,9,-999,9,-999,9
  90KDIOFFE6_1,  S04P,782,1,18,18,2,19920326,401,-66.7135,173.1772,3186,247.6,1.366,34.6986,2,34.6988,2,-999,9,188.8,2,95.36,2,31.61,2,0.02,2,2.28,2,0.365,2,0.13,3,-999,9,-999,9,-999,9
  90KDIOFFE6_1,  S04P,782,1,17,17,2,19920326,401,-66.7135,173.1772,3186,295.3,1.3548,34.7065,2,34.7075,2,-999,9,190,2,97.07,2,31.55,2,0.02,2,2.26,2,0.271,2,0.103,3,-999,9,-999,9,-999,9
  90KDIOFFE6_1,  S04P,782,1,16,16,2,19920326,401,-66.7135,173.1772,3186,396.5,1.2979,34.7141,2,34.7142,2,-999,9,193.7,2,98.56,2,31.35,2,0.01,2,2.24,2,0.284,2,0.1,3,-999,9,-999,9,-999,9
  90KDIOFFE6_1,  S04P,782,1,15,15,2,19920326,401,-66.7135,173.1772,3186,497.8,1.2531,34.7197,2,34.7202,2,-999,9,194.3,2,102.19,2,31.2,2,0,2,2.23,2,0.177,2,0.062,3,-999,9,-999,9,-999,9
  90KDIOFFE6_1,  S04P,782,1,14,14,2,19920326,401,-66.7135,173.1772,3186,594.4,1.1832,34.7192,2,34.7193,2,-999,9,196,2,104.76,2,31.24,2,0,2,2.24,2,0.148,2,0.054,3,-999,9,-999,9,-999,9
  90KDIOFFE6_1,  S04P,782,1,13,13,2,19920326,401,-66.7135,173.1772,3186,695.4,1.1096,34.7193,2,34.7183,2,-999,9,194.9,2,109.05,2,31.43,2,0,2,2.26,2,0.16,2,0.063,3,-999,9,-999,9,-999,9
  90KDIOFFE6_1,  S04P,782,1,12,12,2,19920326,401,-66.7135,173.1772,3186,796.9,1.0502,34.7169,2,34.7173,2,-999,9,196.5,2,110.98,2,31.37,2,0,2,2.25,2,0.077,6,0.026,3,-999,9,-999,9,-999,9
  90KDIOFFE6_1,  S04P,782,1,26,26,2,19920326,401,-66.7135,173.1772,3186,896.2,0.9962,34.715,2,34.7158,2,-999,9,198.2,2,112.06,2,31.4,2,0,2,2.25,2,0.091,2,0.029,3,-999,9,-999,9,-999,9
  90KDIOFFE6_1,  S04P,782,1,10,10,2,19920326,401,-66.7135,173.1772,3186,1148.4,0.8657,34.7118,2,34.712,2,-999,9,200.4,2,117.89,2,31.59,2,0,2,2.26,2,0.048,2,0.011,3,-999,9,-999,9,-999,9
  90KDIOFFE6_1,  S04P,782,1,27,27,2,19920326,401,-66.7135,173.1772,3186,1395,0.7435,34.7081,2,34.7077,2,-999,9,203.6,2,122.45,2,31.58,2,0,2,2.27,2,0.031,6,0.006,3,-999,9,-999,9,-999,9
  90KDIOFFE6_1,  S04P,782,1,8,8,2,19920326,401,-66.7135,173.1772,3186,1644.5,0.6282,34.704,2,34.704,2,-999,9,206,2,124.19,2,31.57,2,0,2,2.27,2,0.076,2,0.026,3,-999,9,-999,9,-999,9
  90KDIOFFE6_1,  S04P,782,1,7,7,2,19920326,401,-66.7135,173.1772,3186,1896.4,0.5405,34.7024,2,34.7024,2,-999,9,207.8,2,127.24,2,31.76,2,0,2,2.28,2,0.06,2,0.019,3,-999,9,-999,9,-999,9
  90KDIOFFE6_1,  S04P,782,1,6,6,2,19920326,401,-66.7135,173.1772,3186,2198.3,0.4377,34.701,2,34.7003,2,-999,9,210.4,2,128.99,2,31.8,2,0,2,2.29,2,0.102,2,0.026,3,-999,9,-999,9,-999,9
  90KDIOFFE6_1,  S04P,782,1,29,29,2,19920326,401,-66.7135,173.1772,3186,2496.7,0.3359,34.6992,2,34.6985,2,-999,9,213.5,2,128.98,2,31.79,2,0,2,2.29,2,0.21,2,0.071,3,-999,9,-999,9,-999,9
  90KDIOFFE6_1,  S04P,782,1,28,28,2,19920326,401,-66.7135,173.1772,3186,2747.6,0.2481,34.6973,2,34.6974,2,-999,9,216.5,2,125.92,2,31.53,2,0,2,2.27,2,0.362,6,0.139,3,-999,9,-999,9,-999,9
  90KDIOFFE6_1,  S04P,782,1,3,3,2,19920326,401,-66.7135,173.1772,3186,2996.2,0.1578,34.6955,2,34.6954,2,-999,9,220.7,2,121.56,2,31.42,2,0,2,2.27,2,0.575,2,0.243,3,-999,9,-999,9,-999,9
  90KDIOFFE6_1,  S04P,782,1,2,2,2,19920326,401,-66.7135,173.1772,3186,3197.1,0.0733,34.6945,2,34.6948,2,-999,9,224.4,2,116.13,2,31.31,2,0,2,2.26,2,0.885,2,0.39,3,-999,9,-999,9,-999,9
  90KDIOFFE6_1,  S04P,782,1,1,1,2,19920326,401,-66.7135,173.1772,3186,3254.1,0.034,34.6956,2,34.6966,2,-999,9,225.9,2,113.75,2,30.96,2,0,2,2.26,2,1.085,2,0.481,3,-999,9,-999,9,-999,9
  90KDIOFFE6_1,  S04P,783,1,24,24,2,19920326,947,-66.4502,172.1132,3181,14.1,-0.248,33.8361,2,33.8369,2,323.2,3,337.1,2,53.1,2,22.46,2,0.13,2,1.69,2,-999,9,-999,9,-999,9,2150.1,2,-999,9
  90KDIOFFE6_1,  S04P,783,1,23,23,2,19920326,947,-66.4502,172.1132,3181,47.2,-0.2435,33.8358,2,33.8372,2,310.8,3,337.4,2,52.88,2,22.58,2,0.13,2,1.69,2,-999,9,-999,9,-999,9,2150.2,2,-999,9
  90KDIOFFE6_1,  S04P,783,1,22,22,2,19920326,947,-66.4502,172.1132,3181,79.6,-0.9318,34.3477,2,34.3474,2,264,2,267.9,2,77.29,2,29.92,2,0.16,2,2.2,2,-999,9,-999,9,-999,9,2219.8,2,-999,9
  90KDIOFFE6_1,  S04P,783,1,21,21,2,19920326,947,-66.4502,172.1132,3181,109.4,0.3539,34.5381,2,34.5534,2,211.9,2,215.4,2,86.95,2,31.62,2,0.04,2,2.29,2,-999,9,-999,9,-999,9,2240.9,2,-999,9
  90KDIOFFE6_1,  S04P,783,1,20,20,2,19920326,947,-66.4502,172.1132,3181,159.7,1.1677,34.664,2,34.666,2,195.3,2,194,2,92.75,2,31.68,2,0.02,2,2.3,2,-999,9,-999,9,-999,9,2252.1,2,-999,9
  90KDIOFFE6_1,  S04P,783,1,30,30,2,19920326,947,-66.4502,172.1132,3181,209.7,1.2119,34.6858,2,34.6891,2,191.5,2,193.7,2,95.1,2,31.44,2,0.01,2,2.29,2,-999,9,-999,9,-999,9,2255.3,2,-999,9
  90KDIOFFE6_1,  S04P,783,1,18,18,2,19920326,947,-66.4502,172.1132,3181,249.9,1.2868,34.7035,2,34.7062,2,189.4,2,192.6,2,97.25,2,31.28,2,0.01,2,2.28,2,0.333,2,0.122,3,-999,9,2252.6,2,-999,9
  90KDIOFFE6_1,  S04P,783,1,17,17,2,19920326,947,-66.4502,172.1132,3181,297,1.3443,34.7148,2,34.716,2,194,2,189.2,2,100.48,2,31.34,2,0.01,2,2.28,2,-999,9,-999,9,-999,9,2255.8,2,-999,9
  90KDIOFFE6_1,  S04P,783,1,16,16,2,19920326,947,-66.4502,172.1132,3181,399.7,1.2757,34.7186,2,34.7199,2,190.9,2,190.3,2,104.14,2,31.4,2,0,2,2.28,2,0.149,2,0.046,3,-999,9,2257.7,2,-999,9
  90KDIOFFE6_1,  S04P,783,1,15,15,2,19920326,947,-66.4502,172.1132,3181,498,1.2065,34.7193,2,34.7201,2,193.3,2,191.3,2,106.51,2,31.6,2,0,2,2.28,2,-999,9,-999,9,-999,9,2256.7,2,-999,9
  90KDIOFFE6_1,  S04P,783,1,14,14,2,19920326,947,-66.4502,172.1132,3181,597,1.1439,34.7193,2,34.7203,2,194,2,193,2,109.32,2,31.3,2,0,2,2.28,2,0.078,2,0.023,3,-999,9,2258.8,2,-999,9
  90KDIOFFE6_1,  S04P,783,1,13,13,2,19920326,947,-66.4502,172.1132,3181,698.6,1.0768,34.7175,2,34.7183,2,194.2,2,194.3,2,112.13,2,31.5,2,0,2,2.28,2,-999,9,-999,9,-999,9,2257.4,2,-999,9
  90KDIOFFE6_1,  S04P,783,1,12,12,2,19920326,947,-66.4502,172.1132,3181,798.3,1.0151,34.7162,2,34.7173,2,196.6,2,196.3,2,113.2,2,31.5,2,0,2,2.28,2,-999,9,-999,9,-999,9,2257.3,2,-999,9
  90KDIOFFE6_1,  S04P,783,1,26,26,2,19920326,947,-66.4502,172.1132,3181,899.5,0.9598,34.7142,2,34.7153,2,199.6,2,197.5,2,115.8,2,31.55,2,0,2,2.28,2,-999,9,-999,9,-999,9,2259,2,-999,9
  90KDIOFFE6_1,  S04P,783,1,10,10,2,19920326,947,-66.4502,172.1132,3181,1148.3,0.8198,34.7098,2,34.7104,2,200.6,2,201.3,2,120.59,2,31.6,2,0,2,2.29,2,0.024,2,0.006,3,-999,9,2259.2,2,-999,9
  90KDIOFFE6_1,  S04P,783,1,27,27,2,19920326,947,-66.4502,172.1132,3181,1396.8,0.7051,34.706,2,34.7067,2,201.6,2,203.9,2,123.71,2,31.63,2,0,2,2.3,2,-999,9,-999,9,-999,9,2258.4,2,-999,9
  90KDIOFFE6_1,  S04P,783,1,8,8,2,19920326,947,-66.4502,172.1132,3181,1645.5,0.6013,34.7021,2,34.7034,2,205.5,2,206.7,2,125.6,2,31.6,2,0,2,2.3,2,0.054,2,0.017,3,-999,9,2259.6,2,-999,9
  90KDIOFFE6_1,  S04P,783,1,7,7,2,19920326,947,-66.4502,172.1132,3181,1896.6,0.5075,34.7015,2,34.7026,2,207.9,2,208.4,2,128.3,2,31.73,2,0,2,2.32,2,-999,9,-999,9,-999,9,2260.4,2,-999,9
  90KDIOFFE6_1,  S04P,783,1,6,6,2,19920326,947,-66.4502,172.1132,3181,2197.5,0.3908,34.6981,2,34.699,2,213.3,2,212.1,2,128.5,2,31.77,2,0,2,2.3,2,0.172,2,0.046,3,-999,9,2262.9,2,-999,9
  90KDIOFFE6_1,  S04P,783,1,29,29,2,19920326,947,-66.4502,172.1132,3181,2495.5,0.3158,34.6983,2,34.699,2,215.5,2,214.1,2,128.93,2,31.77,2,0,2,2.3,2,0.208,2,0.077,3,-999,9,2259.3,2,-999,9
  90KDIOFFE6_1,  S04P,783,1,28,28,2,19920326,947,-66.4502,172.1132,3181,2745,0.2347,34.6965,2,34.697,2,217.8,2,217.4,2,125.61,2,31.67,2,0,2,2.29,2,0.404,2,0.153,3,-999,9,2258.9,2,-999,9
  90KDIOFFE6_1,  S04P,783,1,3,3,2,19920326,947,-66.4502,172.1132,3181,3000,0.1483,34.6941,2,34.6955,2,222.8,2,221.2,2,120.91,2,31.69,2,0,2,2.3,2,0.623,2,0.274,3,-999,9,2256.3,2,-999,9
  90KDIOFFE6_1,  S04P,783,1,2,2,2,19920326,947,-66.4502,172.1132,3181,3196.6,0.0137,34.6952,2,34.696,2,227.9,2,226.7,2,113.15,2,31.27,2,0,2,2.27,2,1.09,2,0.476,3,-999,9,2254.5,2,-999,9
  90KDIOFFE6_1,  S04P,783,1,1,1,2,19920326,947,-66.4502,172.1132,3181,3212.3,0.002,34.6953,2,34.6978,2,227.8,2,227.1,2,112.6,2,31.48,2,0,2,2.28,2,1.159,2,0.508,3,-999,9,2257.2,2,-999,9
  90KDIOFFE6_1,  S04P,784,1,24,24,2,19920326,1535,-66.1617,171.0475,3167,6.6,0.0543,33.8365,2,33.837,2,301.9,3,334.3,2,49.49,2,22.2,2,0.17,2,1.63,2,6.108,2,2.745,3,-999,9,2148.5,2,-999,9
  90KDIOFFE6_1,  S04P,784,1,23,23,2,19920326,1535,-66.1617,171.0475,3167,47.2,0.0143,33.8893,2,33.89,2,325.2,3,326.1,2,52.42,2,22.98,2,0.17,2,1.71,2,5.66,2,2.575,3,-999,9,2158.1,2,-999,9
  90KDIOFFE6_1,  S04P,784,1,22,22,2,19920326,1535,-66.1617,171.0475,3167,72.6,-1.0868,34.2958,2,34.316,2,278.1,2,272.5,2,79.19,2,30.21,2,0.22,2,2.19,2,3.668,2,1.666,3,-999,9,2218.6,2,-999,9
  90KDIOFFE6_1,  S04P,784,1,21,21,2,19920326,1535,-66.1617,171.0475,3167,104.2,0.2751,34.5303,2,34.526,2,220.6,2,223.8,2,86.41,2,31.57,2,0.07,2,2.3,2,1.926,2,0.842,3,-999,9,-999,9,-999,9
  90KDIOFFE6_1,  S04P,784,1,20,20,2,19920326,1535,-66.1617,171.0475,3167,158.1,1.1824,34.6664,2,34.664,2,193.3,2,197.3,2,90.51,2,31.47,2,0.06,2,2.31,2,0.773,2,0.327,3,-999,9,-999,9,-999,9
  90KDIOFFE6_1,  S04P,784,1,30,30,2,19920326,1535,-66.1617,171.0475,3167,205.9,1.2704,34.6893,2,-999,9,203.2,2,196.4,2,92.56,2,31.08,2,0.04,2,2.28,2,0.562,2,0.237,3,-999,9,-999,9,-999,9
  90KDIOFFE6_1,  S04P,784,1,18,18,2,19920326,1535,-66.1617,171.0475,3167,260.4,1.1844,34.6926,2,34.693,2,197.7,2,197.7,2,95.1,2,30.98,2,0.03,2,2.27,2,0.53,2,0.208,3,-999,9,-999,9,-999,9
  90KDIOFFE6_1,  S04P,784,1,17,17,2,19920326,1535,-66.1617,171.0475,3167,313.7,1.2234,34.7041,2,34.705,2,197.4,2,197.3,2,97.45,2,31.08,2,0.01,2,2.26,2,0.382,2,0.151,3,-999,9,-999,9,-999,9
  90KDIOFFE6_1,  S04P,784,1,16,16,2,19920326,1535,-66.1617,171.0475,3167,397.2,1.1764,34.7103,2,34.712,2,196.4,2,194.7,2,102.14,2,31.47,2,0.01,2,2.27,2,0.291,2,0.107,3,-999,9,-999,9,-999,9
  90KDIOFFE6_1,  S04P,784,1,15,15,2,19920326,1535,-66.1617,171.0475,3167,500.2,1.1405,34.7151,2,34.716,2,196.1,2,194.7,2,105.56,2,31.37,2,0.01,2,2.26,2,0.177,2,0.066,3,-999,9,-999,9,-999,9
  90KDIOFFE6_1,  S04P,784,1,14,14,2,19920326,1535,-66.1617,171.0475,3167,598.2,1.0745,34.7141,2,34.715,2,196.6,2,196.8,2,107.42,2,31.37,2,0.01,2,2.26,2,0.168,2,0.065,3,-999,9,-999,9,-999,9
  90KDIOFFE6_1,  S04P,784,1,13,13,2,19920326,1535,-66.1617,171.0475,3167,696.8,1.0235,34.7132,2,34.715,2,196.5,2,197.7,2,109.76,2,31.37,2,0.01,2,2.26,2,0.134,2,0.046,3,-999,9,-999,9,-999,9
  90KDIOFFE6_1,  S04P,784,1,12,12,2,19920326,1535,-66.1617,171.0475,3167,849.8,0.9326,34.7122,2,34.713,2,199.8,2,199.4,2,113.38,2,31.37,2,0.01,2,2.27,2,0.099,2,0.033,3,-999,9,-999,9,-999,9
  90KDIOFFE6_1,  S04P,784,1,26,26,2,19920326,1535,-66.1617,171.0475,3167,995.9,0.8387,34.7088,2,34.71,2,202,2,202.5,2,116.21,2,31.57,2,0,2,2.27,2,0.084,6,0.03,3,-999,9,-999,9,-999,9
  90KDIOFFE6_1,  S04P,784,1,10,10,2,19920326,1535,-66.1617,171.0475,3167,1193.6,0.7348,34.7043,2,34.706,2,203,2,203.8,2,120.9,2,31.57,2,0,2,2.28,2,0.055,6,0.017,3,-999,9,-999,9,-999,9
  90KDIOFFE6_1,  S04P,784,1,27,27,2,19920326,1535,-66.1617,171.0475,3167,1443.6,0.6208,34.7031,2,34.703,2,202.8,2,205.9,2,124.62,2,31.67,2,0,2,2.3,2,0.059,2,0.02,3,-999,9,-999,9,-999,9
  90KDIOFFE6_1,  S04P,784,1,8,8,2,19920326,1535,-66.1617,171.0475,3167,1693.9,0.5259,34.701,2,34.703,2,205.4,2,208.1,2,127.16,2,31.86,2,0,2,2.3,2,0.053,2,0.015,3,-999,9,-999,9,-999,9
  90KDIOFFE6_1,  S04P,784,1,7,7,2,19920326,1535,-66.1617,171.0475,3167,1944.9,0.416,34.698,2,34.699,2,209.7,2,210.7,2,127.84,2,31.96,2,0,2,2.3,2,0.116,2,0.043,3,-999,9,-999,9,-999,9
  90KDIOFFE6_1,  S04P,784,1,6,6,2,19920326,1535,-66.1617,171.0475,3167,2191.9,0.3181,34.6951,2,34.697,2,213.3,2,213.8,2,126.87,2,31.96,2,0,2,2.3,2,0.254,2,0.086,3,-999,9,-999,9,-999,9
  90KDIOFFE6_1,  S04P,784,1,29,29,2,19920326,1535,-66.1617,171.0475,3167,2441.7,0.2341,34.6956,2,34.697,2,218.1,2,216.8,2,126.18,2,31.77,2,0,2,2.29,2,0.333,2,0.13,3,-999,9,-999,9,-999,9
  90KDIOFFE6_1,  S04P,784,1,28,28,2,19920326,1535,-66.1617,171.0475,3167,2694,0.1322,34.6937,2,34.694,2,220,2,221.2,2,120.03,2,31.77,2,0,2,2.28,2,0.651,2,0.272,3,-999,9,-999,9,-999,9
  90KDIOFFE6_1,  S04P,784,1,3,3,2,19920326,1535,-66.1617,171.0475,3167,2893.7,0.0443,34.6938,2,34.695,2,226.7,2,225.1,2,114.36,2,31.57,2,0,2,2.27,2,0.929,2,0.402,3,-999,9,-999,9,-999,9
  90KDIOFFE6_1,  S04P,784,1,2,2,2,19920326,1535,-66.1617,171.0475,3167,3073.1,-0.0407,34.6966,2,34.697,2,229.1,2,228.5,2,108.98,2,31.37,2,0,2,2.26,2,1.277,2,0.555,3,-999,9,-999,9,-999,9
  90KDIOFFE6_1,  S04P,784,1,1,1,2,19920326,1535,-66.1617,171.0475,3167,3215.7,-0.1036,34.6951,2,34.696,2,234,2,231.6,2,105.46,2,30.89,2,0,2,2.26,2,1.559,2,0.687,3,-999,9,-999,9,-999,9
  90KDIOFFE6_1,  S04P,785,1,24,24,2,19920326,2111,-65.8795,169.9875,3162,10,0.1217,33.745,2,33.7444,2,336.7,2,334.7,2,47.55,2,21.62,2,0.16,2,1.58,2,-999,9,-999,9,-999,9,2139.3,2,-999,9
  90KDIOFFE6_1,  S04P,785,1,23,23,2,19920326,2111,-65.8795,169.9875,3162,44.4,0.0649,33.7527,2,33.7684,2,324.1,2,333,2,48.84,2,22.06,2,0.16,2,1.61,2,-999,9,-999,9,-999,9,2144.7,2,-999,9
  90KDIOFFE6_1,  S04P,785,1,22,22,2,19920326,2111,-65.8795,169.9875,3162,69.5,-1.5369,34.2165,2,34.234,2,318.1,2,292.6,2,71.97,2,28.7,2,0.17,2,2.17,2,-999,9,-999,9,-999,9,2208.2,2,-999,9
  90KDIOFFE6_1,  S04P,785,1,21,21,2,19920326,2111,-65.8795,169.9875,3162,106.2,-0.0677,34.477,2,34.4595,2,240.6,2,237.9,2,82.82,2,31.08,2,0.09,2,2.26,2,-999,9,-999,9,-999,9,2233,2,-999,9
  90KDIOFFE6_1,  S04P,785,1,20,20,2,19920326,2111,-65.8795,169.9875,3162,155.7,1.0983,34.6457,2,34.6454,2,189.7,2,194.3,2,90.92,2,31.94,2,0.03,2,2.33,2,0.068,4,0.02,4,-999,9,2253.6,2,-999,9
  90KDIOFFE6_1,  S04P,785,1,30,30,2,19920326,2111,-65.8795,169.9875,3162,205.8,1.316,34.6927,2,34.693,2,191.1,2,190.5,2,94.55,2,31.45,2,0.02,2,2.29,2,-999,9,-999,9,-999,9,2254.6,2,-999,9
  90KDIOFFE6_1,  S04P,785,1,18,18,2,19920326,2111,-65.8795,169.9875,3162,256,1.2528,34.6959,2,34.6973,2,189.5,2,193.3,2,96.04,2,31.29,2,0.02,2,2.28,2,-999,9,-999,9,-999,9,2253.6,2,-999,9
  90KDIOFFE6_1,  S04P,785,1,17,17,2,19920326,2111,-65.8795,169.9875,3162,320.9,1.2217,34.7071,2,34.7066,2,192.3,2,193.9,2,98.61,2,31.14,2,0.01,2,2.28,2,-999,9,-999,9,-999,9,2256.2,2,-999,9
  90KDIOFFE6_1,  S04P,785,1,16,16,2,19920326,2111,-65.8795,169.9875,3162,398.7,1.2689,34.7193,2,34.7197,2,192.8,2,189.7,2,104.41,2,31.37,2,0.01,2,2.28,2,-999,9,-999,9,-999,9,2255.7,2,-999,9
  90KDIOFFE6_1,  S04P,785,1,15,15,2,19920326,2111,-65.8795,169.9875,3162,495.4,1.1925,34.72,2,34.7197,2,191.9,2,190.5,2,107.64,2,31.55,2,0.01,2,2.28,2,-999,9,-999,9,-999,9,2259,2,-999,9
  90KDIOFFE6_1,  S04P,785,1,14,14,2,19920326,2111,-65.8795,169.9875,3162,597.6,1.1009,34.7165,2,34.7183,2,193.5,2,197.6,2,106.34,2,31.19,2,0.01,2,2.25,2,-999,9,-999,9,-999,9,2256.8,2,-999,9
  90KDIOFFE6_1,  S04P,785,1,13,13,2,19920326,2111,-65.8795,169.9875,3162,698.8,1.01,34.7146,2,34.7144,2,201.2,2,198.3,2,109.36,2,31.37,2,0.01,2,2.27,2,-999,9,-999,9,-999,9,2257.5,2,-999,9
  90KDIOFFE6_1,  S04P,785,1,12,12,2,19920326,2111,-65.8795,169.9875,3162,848.1,0.9284,34.7133,2,34.713,2,197.8,2,199.9,2,113.68,2,31.31,2,0,2,2.28,2,-999,9,-999,9,-999,9,2258.9,2,-999,9
  90KDIOFFE6_1,  S04P,785,1,26,26,2,19920326,2111,-65.8795,169.9875,3162,999.7,0.8294,34.7088,2,34.7087,2,200.9,2,201.9,2,-999,5,-999,5,-999,5,-999,5,0.081,2,0.026,3,-999,9,2260.5,2,-999,9
  90KDIOFFE6_1,  S04P,785,1,10,10,2,19920326,2111,-65.8795,169.9875,3162,1199,0.7345,34.7066,2,34.7059,2,205.3,2,203.8,2,119.98,2,31.49,2,0,2,2.28,2,-999,9,-999,9,-999,9,-999,9,-999,9
  90KDIOFFE6_1,  S04P,785,1,27,27,2,19920326,2111,-65.8795,169.9875,3162,1446.1,0.6104,34.7032,2,34.7024,2,206.1,2,206.5,2,123.91,2,31.76,2,0,2,2.29,2,0.07,2,0.02,3,-999,9,-999,9,-999,9
  90KDIOFFE6_1,  S04P,785,1,8,8,2,19920326,2111,-65.8795,169.9875,3162,1699,0.4935,34.7006,2,34.7004,2,209.4,2,209,2,126.31,2,31.7,2,0,2,2.29,2,0.089,2,0.032,3,-999,9,-999,9,-999,9
  90KDIOFFE6_1,  S04P,785,1,7,7,2,19920326,2111,-65.8795,169.9875,3162,1948,0.3789,34.6981,2,34.698,2,211.6,2,211.8,2,126.74,2,31.87,2,0,2,2.29,2,-999,9,-999,9,-999,9,-999,9,-999,9
  90KDIOFFE6_1,  S04P,785,1,6,6,2,19920326,2111,-65.8795,169.9875,3162,2198.7,0.2975,34.6975,2,34.6976,2,214.6,2,214.2,2,126.96,2,31.86,2,0,2,2.29,2,-999,9,-999,9,-999,9,-999,9,-999,9
  90KDIOFFE6_1,  S04P,785,1,29,29,2,19920326,2111,-65.8795,169.9875,3162,2448.1,0.2165,34.6969,2,34.6972,2,216.2,2,217.4,2,124.33,2,31.75,2,0,2,2.29,2,-999,9,-999,9,-999,9,-999,9,-999,9
  90KDIOFFE6_1,  S04P,785,1,28,28,2,19920326,2111,-65.8795,169.9875,3162,2698.2,0.1073,34.6955,2,34.6957,2,221.4,2,221.8,2,118.21,2,31.73,2,0,2,2.28,2,-999,9,-999,9,-999,9,-999,9,-999,9
  90KDIOFFE6_1,  S04P,785,1,3,3,2,19920326,2111,-65.8795,169.9875,3162,2898.4,0.0169,34.697,2,34.6968,2,227.1,2,225.8,2,113.64,2,31.57,2,0,2,2.28,2,0.967,2,0.422,3,-999,9,-999,9,-999,9
  90KDIOFFE6_1,  S04P,785,1,2,2,2,19920326,2111,-65.8795,169.9875,3162,3073,-0.0456,34.6966,2,34.6959,2,227.4,2,229.1,2,107.13,2,31.27,2,0,2,2.26,2,1.334,2,0.583,3,-999,9,-999,9,-999,9
  90KDIOFFE6_1,  S04P,785,1,1,1,2,19920326,2111,-65.8795,169.9875,3162,3193,-0.1053,34.6968,2,34.6966,2,233.6,2,231.5,2,104.97,2,31.15,2,0.01,2,2.26,2,1.531,2,0.672,3,-999,9,-999,9,-999,9