BOTTLE,20181005JHS,,,,,,,,,,,,,,,,,,,,,,,,,,,,,,,,,,,,,,
EXPOCODE,SECT_ID,STNNBR,CASTNO,SAMPNO,BTLNBR,BTLNBR_FLAG_W,DATE,TIME,LATITUDE,LONGITUDE,DEPTH,CTDPRS,CTDTMP,CTDSAL,CTDSAL_FLAG_W,SALNTY,SALNTY_FLAG_W,CTDOXY,CTDOXY_FLAG_W,OXYGEN,OXYGEN_FLAG_W,SILCAT,SILCAT_FLAG_W,NITRAT,NITRAT_FLAG_W,NITRIT,NITRIT_FLAG_W,PHSPHT,PHSPHT_FLAG_W,CFC-11,CFC-11_FLAG_W,CFC-12,CFC-12_FLAG_W,SF6,SF6_FLAG_W,TCARBN,TCARBN_FLAG_W,ALKALI,ALKALI_FLAG_W
,,,,,,,,,,,,DBAR,ITS-90,PSS-78,,PSS-78,,UMOL/KG,,UMOL/KG,,UMOL/KG,,UMOL/KG,,UMOL/KG,,UMOL/KG,,PMOL/KG,,PMOL/KG,,FMOL/KG,,UMOL/KG,,UMOL/KG,
  90KDIOFFE6_1,  S04P,728,1,24,24,2,19920308,629,-66.9962,-130.6778,4463,11.8,0.345,33.4421,2,33.4404,2,354.6,2,349.5,2,33.54,2,24.22,2,0.29,2,1.68,2,6.474,2,2.851,3,-999,9,2119.5,2,-999,9
  90KDIOFFE6_1,  S04P,728,1,23,23,2,19920308,629,-66.9962,-130.6778,4463,52.7,0.06,33.5123,2,33.5132,2,339.7,2,346.7,2,47.09,2,25.59,2,0.26,2,1.83,2,6.476,2,2.853,3,-999,9,2138,2,-999,9
  90KDIOFFE6_1,  S04P,728,1,22,22,2,19920308,629,-66.9962,-130.6778,4463,103,-1.5282,33.9772,2,33.9821,2,328.4,2,333.1,2,48.38,2,28.15,2,0.27,2,2.01,2,6.187,2,2.711,3,-999,9,2172.6,2,-999,9
  90KDIOFFE6_1,  S04P,728,1,21,21,2,19920308,629,-66.9962,-130.6778,4463,153,-0.8746,34.1304,2,34.1383,2,296.9,2,294.5,2,57.34,2,29.74,2,0.06,2,2.14,2,4.864,2,2.108,3,-999,9,-999,9,-999,9
  90KDIOFFE6_1,  S04P,728,1,20,20,2,19920308,629,-66.9962,-130.6778,4463,203.2,0.3836,34.3512,2,34.3531,2,232.3,2,241.7,2,69.95,2,31.9,2,0.01,2,2.26,2,2.898,6,1.235,3,-999,9,-999,9,-999,9
  90KDIOFFE6_1,  S04P,728,1,19,19,2,19920308,629,-66.9962,-130.6778,4463,251.3,0.9443,34.4726,2,34.4756,2,204.1,2,212.7,2,76.65,2,32.55,2,0.01,2,2.3,2,1.846,2,0.755,3,-999,9,-999,9,-999,9
  90KDIOFFE6_1,  S04P,728,1,18,18,2,19920308,629,-66.9962,-130.6778,4463,298.9,1.4098,34.5586,2,34.556,2,190.8,2,194.8,2,80.47,2,32.95,2,0.01,2,2.33,2,1.161,2,0.469,3,-999,9,-999,9,-999,9
  90KDIOFFE6_1,  S04P,728,1,17,17,2,19920308,629,-66.9962,-130.6778,4463,397.4,1.8422,34.6562,2,34.656,2,176.8,2,178.1,2,85.26,2,32.68,2,0,2,2.31,2,0.362,2,0.132,3,-999,9,-999,9,-999,9
  90KDIOFFE6_1,  S04P,728,1,16,16,2,19920308,629,-66.9962,-130.6778,4463,496.5,1.8609,34.6876,2,34.6866,2,179.9,2,179.2,2,87.36,2,31.97,2,0,2,2.27,2,0.222,2,0.073,3,-999,9,-999,9,-999,9
  90KDIOFFE6_1,  S04P,728,1,15,15,2,19920308,629,-66.9962,-130.6778,4463,594.9,1.8298,34.705,2,34.7047,2,182.7,2,181.6,2,89.27,2,31.41,2,0,2,2.23,2,0.157,2,0.05,3,-999,9,-999,9,-999,9
  90KDIOFFE6_1,  S04P,728,1,14,14,2,19920308,629,-66.9962,-130.6778,4463,696.1,1.7736,34.7173,2,34.7164,2,184.6,2,183.8,2,91.38,2,31.28,2,0,2,2.22,2,0.113,6,0.038,3,-999,9,-999,9,-999,9
  90KDIOFFE6_1,  S04P,728,1,13,13,2,19920308,629,-66.9962,-130.6778,4463,900.8,1.6135,34.728,2,34.7278,2,190.4,2,189.2,2,96.6,2,30.86,2,0,2,2.19,2,0.072,2,0.025,3,-999,9,-999,9,-999,9
  90KDIOFFE6_1,  S04P,728,1,12,12,2,19920308,629,-66.9962,-130.6778,4463,1154.2,1.4262,34.7292,2,34.7288,2,194,2,193,2,102.62,2,30.78,2,0,2,2.2,2,0.04,2,0.01,3,-999,9,-999,9,-999,9
  90KDIOFFE6_1,  S04P,728,1,26,26,2,19920308,629,-66.9962,-130.6778,4463,1399.3,1.2593,34.7258,2,34.7243,2,197.2,2,195.9,2,107.69,2,31.52,2,0,2,2.2,2,0.032,2,0.008,3,-999,9,-999,9,-999,9
  90KDIOFFE6_1,  S04P,728,1,10,10,2,19920308,629,-66.9962,-130.6778,4463,1701.8,1.0711,34.7193,2,34.718,2,198.4,2,200.3,2,113.57,2,31.54,2,0,2,2.2,2,0.026,2,0.009,3,-999,9,-999,9,-999,9
  90KDIOFFE6_1,  S04P,728,1,27,27,2,19920308,629,-66.9962,-130.6778,4463,2009.2,0.923,34.7133,2,34.7125,2,201.9,2,203.2,2,119.1,2,31.75,2,0,2,2.22,2,0.032,3,0.007,3,-999,9,-999,9,-999,9
  90KDIOFFE6_1,  S04P,728,1,8,8,2,19920308,629,-66.9962,-130.6778,4463,2320.8,0.7855,34.708,2,34.7078,2,204,2,205.5,2,124.27,2,31.77,2,0,2,2.22,2,0.02,2,0.005,3,-999,9,-999,9,-999,9
  90KDIOFFE6_1,  S04P,728,1,7,7,2,19920308,629,-66.9962,-130.6778,4463,2632.6,0.6682,34.7048,2,34.7043,2,206.7,2,207.8,2,127.46,2,31.93,2,0,2,2.23,2,0.031,2,0.009,3,-999,9,-999,9,-999,9
  90KDIOFFE6_1,  S04P,728,1,6,6,2,19920308,629,-66.9962,-130.6778,4463,2937,0.5538,34.7027,2,34.7021,2,209.2,2,210.1,2,130.06,2,31.71,2,0,2,2.24,2,0.027,2,0.007,3,-999,9,-999,9,-999,9
  90KDIOFFE6_1,  S04P,728,1,5,5,2,19920308,629,-66.9962,-130.6778,4463,3293.1,0.4392,34.7011,2,34.7007,2,210.8,2,212.6,2,133.28,2,32.06,2,0,2,2.24,2,0.028,2,0.008,3,-999,9,-999,9,-999,9
  90KDIOFFE6_1,  S04P,728,1,4,4,2,19920308,629,-66.9962,-130.6778,4463,3654.5,0.37,34.7006,2,34.7007,2,214.1,2,214.5,2,136.73,2,32.27,2,0,2,2.25,2,0.027,2,0.011,3,-999,9,-999,9,-999,9
  90KDIOFFE6_1,  S04P,728,1,3,3,2,19920308,629,-66.9962,-130.6778,4463,4012.7,0.3267,34.7006,2,34.7005,2,217,2,215.9,2,139.99,2,32.24,2,0,2,2.25,2,0.046,2,0.016,3,-999,9,-999,9,-999,9
  90KDIOFFE6_1,  S04P,728,1,2,2,2,19920308,629,-66.9962,-130.6778,4463,4370.7,0.2916,34.6999,2,34.6998,2,220.4,2,218.6,2,137.09,2,32.11,2,0,2,2.25,2,0.101,2,0.04,3,-999,9,-999,9,-999,9
  90KDIOFFE6_1,  S04P,728,1,1,1,2,19920308,629,-66.9962,-130.6778,4463,4530,0.2717,34.6995,2,34.7003,2,222,2,219.6,2,136.26,2,31.79,2,0,2,2.25,2,0.155,2,0.064,3,-999,9,-999,9,-999,9
  90KDIOFFE6_1,  S04P,729,1,24,24,2,19920308,1348,-66.9973,-131.9613,4561,11.7,0.3524,33.4058,2,33.4028,2,350.3,2,350.6,2,31.07,2,24.3,2,0.3,2,1.67,2,-999,9,-999,9,-999,9,2117.9,2,-999,9
  90KDIOFFE6_1,  S04P,729,1,23,23,2,19920308,1348,-66.9973,-131.9613,4561,42,0.2193,33.4347,2,33.4379,2,349.9,2,350.3,2,32.93,2,24.61,2,0.29,2,1.69,2,-999,9,-999,9,-999,9,2119.6,2,-999,9
  90KDIOFFE6_1,  S04P,729,1,22,22,2,19920308,1348,-66.9973,-131.9613,4561,76.8,-1.5181,33.8812,2,33.882,2,344.6,2,344.8,2,42.69,2,27.29,2,0.26,2,1.96,2,-999,9,-999,9,-999,9,2163.6,2,-999,9
  90KDIOFFE6_1,  S04P,729,1,21,21,2,19920308,1348,-66.9973,-131.9613,4561,122.6,-1.5191,33.958,2,33.9526,2,337.9,2,335.3,2,45.87,2,28.06,2,0.26,2,2.02,2,-999,9,-999,9,-999,9,2175.5,2,-999,9
  90KDIOFFE6_1,  S04P,729,1,20,20,2,19920308,1348,-66.9973,-131.9613,4561,178.1,-0.3546,34.1521,2,34.1314,2,296.5,2,293.8,2,54.88,2,30.45,2,0.01,2,2.15,2,-999,9,-999,9,-999,9,2197.7,2,-999,9
  90KDIOFFE6_1,  S04P,729,1,19,19,2,19920308,1348,-66.9973,-131.9613,4561,252.4,1.4417,34.4717,2,34.4704,2,207.6,2,205.3,2,74.67,2,33.49,2,0.01,2,2.36,2,-999,9,-999,9,-999,9,2243.8,2,-999,9
  90KDIOFFE6_1,  S04P,729,1,18,18,2,19920308,1348,-66.9973,-131.9613,4561,302.9,1.6504,34.5309,2,34.5302,2,190,2,193.4,2,77.68,2,33.67,2,0,2,2.37,2,-999,9,-999,9,-999,9,2247.2,2,-999,9
  90KDIOFFE6_1,  S04P,729,1,17,17,2,19920308,1348,-66.9973,-131.9613,4561,402.4,1.8403,34.6082,2,34.6073,2,182.4,2,183.2,2,81.45,2,33.05,2,0,2,2.33,2,-999,9,-999,9,-999,9,2253.1,2,-999,9
  90KDIOFFE6_1,  S04P,729,1,16,16,2,19920308,1348,-66.9973,-131.9613,4561,505.4,1.9206,34.6593,2,34.6577,2,182.1,2,180.3,2,84.66,2,32.39,2,0,2,2.29,2,-999,9,-999,9,-999,9,2255,2,-999,9
  90KDIOFFE6_1,  S04P,729,1,15,15,2,19920308,1348,-66.9973,-131.9613,4561,605,1.9152,34.6894,2,34.6887,2,182.5,2,181.3,2,86.73,2,31.91,2,0,2,2.26,2,-999,9,-999,9,-999,9,2253.4,2,-999,9
  90KDIOFFE6_1,  S04P,729,1,14,14,2,19920308,1348,-66.9973,-131.9613,4561,705.8,1.8685,34.7082,2,34.7079,2,185.2,2,183.5,2,88.81,2,31.62,2,0,2,2.22,2,-999,9,-999,9,-999,9,2252.6,2,-999,9
  90KDIOFFE6_1,  S04P,729,1,13,13,2,19920308,1348,-66.9973,-131.9613,4561,908.3,1.7223,34.7254,2,34.725,2,187.3,2,188.8,2,93.56,2,31.19,2,0,2,2.19,2,-999,9,-999,9,-999,9,2251.6,2,-999,9
  90KDIOFFE6_1,  S04P,729,1,12,12,2,19920308,1348,-66.9973,-131.9613,4561,1160.8,1.528,34.7304,2,34.7299,2,193.2,2,193.2,2,99.29,2,31.09,2,0,2,2.18,2,-999,9,-999,9,-999,9,-999,9,-999,9
  90KDIOFFE6_1,  S04P,729,1,26,26,2,19920308,1348,-66.9973,-131.9613,4561,1412.9,1.3298,34.7277,2,34.7265,2,195.4,2,196.2,2,105.63,2,31.26,2,0,2,2.19,2,-999,9,-999,9,-999,9,-999,9,-999,9
  90KDIOFFE6_1,  S04P,729,1,10,10,2,19920308,1348,-66.9973,-131.9613,4561,1715.5,1.143,34.7213,2,34.7208,2,199.1,2,199.1,2,111.81,2,31.39,2,0,2,2.21,2,-999,9,-999,9,-999,9,-999,9,-999,9
  90KDIOFFE6_1,  S04P,729,1,27,27,2,19920308,1348,-66.9973,-131.9613,4561,2019,0.9789,34.7151,2,34.7144,2,200.8,2,202.1,2,117.42,2,31.49,2,0,2,2.21,2,-999,9,-999,9,-999,9,-999,9,-999,9
  90KDIOFFE6_1,  S04P,729,1,8,8,2,19920308,1348,-66.9973,-131.9613,4561,2319,0.8383,34.7092,2,34.7071,2,204.6,2,204.8,2,122.54,2,31.77,2,0,2,2.23,2,-999,9,-999,9,-999,9,-999,9,-999,9
  90KDIOFFE6_1,  S04P,729,1,7,7,2,19920308,1348,-66.9973,-131.9613,4561,2676.6,0.7006,34.7049,2,34.7049,2,205.7,2,207.2,2,127.08,2,31.94,2,0,2,2.24,2,-999,9,-999,9,-999,9,-999,9,-999,9
  90KDIOFFE6_1,  S04P,729,1,6,6,2,19920308,1348,-66.9973,-131.9613,4561,3035.9,0.5624,34.7024,2,34.7024,2,210.3,2,210.1,2,130.11,2,31.93,2,0,2,2.24,2,0.038,2,0.013,3,-999,9,-999,9,-999,9
  90KDIOFFE6_1,  S04P,729,1,5,5,2,19920308,1348,-66.9973,-131.9613,4561,3393.5,0.4474,34.7013,2,34.701,2,211.4,2,212.7,2,133.7,2,32.1,2,0,2,2.25,2,0.03,2,0.01,3,-999,9,-999,9,-999,9
  90KDIOFFE6_1,  S04P,729,1,4,4,2,19920308,1348,-66.9973,-131.9613,4561,3751.1,0.3827,34.7007,2,34.7,2,214.9,2,214.5,2,136.63,2,32.23,2,0,2,2.25,2,0.031,2,0.011,3,-999,9,-999,9,-999,9
  90KDIOFFE6_1,  S04P,729,1,3,3,2,19920308,1348,-66.9973,-131.9613,4561,4108.6,0.3369,34.7006,2,34.7002,2,216.2,2,216.5,2,137.22,2,32.12,2,0,2,2.25,2,0.062,2,0.019,3,-999,9,-999,9,-999,9
  90KDIOFFE6_1,  S04P,729,1,2,2,2,19920308,1348,-66.9973,-131.9613,4561,4467.2,0.3139,34.6995,2,34.7008,2,219.3,2,217.7,2,139.43,2,32.06,2,0,2,2.25,2,0.079,2,0.03,3,-999,9,-999,9,-999,9
  90KDIOFFE6_1,  S04P,729,1,1,1,2,19920308,1348,-66.9973,-131.9613,4561,4643.1,0.2793,34.6999,2,34.6998,2,221,2,219.7,2,137.18,2,32.23,2,0,2,2.25,2,0.172,6,0.063,3,-999,9,-999,9,-999,9
  90KDIOFFE6_1,  S04P,730,1,24,24,2,19920308,2018,-67.0007,-133.224,4609,14.6,0.6033,33.4047,2,33.403,2,342.3,3,349.8,2,26.55,2,23.87,2,0.31,2,1.62,2,6.247,2,2.843,3,-999,9,2112.7,2,-999,9
  90KDIOFFE6_1,  S04P,730,1,23,23,2,19920308,2018,-67.0007,-133.224,4609,53.9,-1.275,33.8197,2,33.8193,2,357.2,3,347.8,2,40.28,2,26.69,2,0.27,2,1.94,2,6.503,2,2.846,3,-999,9,2156.6,2,-999,9
  90KDIOFFE6_1,  S04P,730,1,22,22,2,19920308,2018,-67.0007,-133.224,4609,104.3,-1.3839,33.9073,2,33.9092,2,343.9,2,338.4,2,44.22,2,27.86,2,0.27,2,2,2,6.168,2,2.745,3,-999,9,2168.1,2,-999,9
  90KDIOFFE6_1,  S04P,730,1,21,21,2,19920308,2018,-67.0007,-133.224,4609,155.1,-0.9171,34.0246,2,34.0251,2,312.2,2,318.1,2,49.28,2,29.45,2,0.05,2,2.07,2,5.65,2,2.491,3,-999,9,-999,9,-999,9
  90KDIOFFE6_1,  S04P,730,1,20,20,2,19920308,2018,-67.0007,-133.224,4609,205.4,0.2191,34.2402,2,34.2396,2,253.2,2,264.8,2,62.28,2,31.81,2,0.01,2,2.24,2,3.792,2,1.639,3,-999,9,-999,9,-999,9
  90KDIOFFE6_1,  S04P,730,1,19,19,2,19920308,2018,-67.0007,-133.224,4609,255.8,1.3292,34.4606,2,34.4606,2,207.4,2,210.1,2,74.55,2,33.32,2,0.01,2,2.36,2,1.798,2,0.752,3,-999,9,-999,9,-999,9
  90KDIOFFE6_1,  S04P,730,1,18,18,2,19920308,2018,-67.0007,-133.224,4609,305.6,1.7196,34.5604,2,34.5598,2,190.4,2,188.9,2,79.65,2,33.35,2,0.01,2,2.37,2,0.943,2,0.379,3,-999,9,-999,9,-999,9
  90KDIOFFE6_1,  S04P,730,1,17,17,2,19920308,2018,-67.0007,-133.224,4609,405.2,1.8769,34.6327,2,34.6332,2,182.2,2,181.3,2,83.23,2,32.73,2,0.01,2,2.31,2,0.482,2,0.18,3,-999,9,-999,9,-999,9
  90KDIOFFE6_1,  S04P,730,1,16,16,2,19920308,2018,-67.0007,-133.224,4609,507.2,1.9159,34.671,2,34.6714,2,183.2,2,180.5,2,85.49,2,32.11,2,0,2,2.27,2,0.279,2,0.1,3,-999,9,-999,9,-999,9
  90KDIOFFE6_1,  S04P,730,1,15,15,2,19920308,2018,-67.0007,-133.224,4609,608.2,1.8952,34.6963,2,34.6967,2,183,2,182.1,2,87.75,2,31.82,2,0,2,2.24,2,0.175,2,0.06,3,-999,9,-999,9,-999,9
  90KDIOFFE6_1,  S04P,730,1,14,14,2,19920308,2018,-67.0007,-133.224,4609,808.7,1.7743,34.7213,2,34.7209,2,188.8,2,187.1,2,92.12,2,31.07,2,0,2,2.2,2,0.099,2,0.03,3,-999,9,-999,9,-999,9
  90KDIOFFE6_1,  S04P,730,1,13,13,2,19920308,2018,-67.0007,-133.224,4609,1010.3,1.6249,34.7291,2,34.7291,2,192.8,2,191.7,2,96.51,2,30.87,2,0,2,2.18,2,0.066,2,0.021,3,-999,9,-999,9,-999,9
  90KDIOFFE6_1,  S04P,730,1,12,12,2,19920308,2018,-67.0007,-133.224,4609,1312.6,1.3915,34.7285,2,34.7281,2,197,2,195.6,2,103.99,2,30.99,2,0,2,2.19,2,0.047,6,0.014,3,-999,9,-999,9,-999,9
  90KDIOFFE6_1,  S04P,730,1,26,26,2,19920308,2018,-67.0007,-133.224,4609,1615.2,1.187,34.7228,2,34.7224,2,198.4,2,198.7,2,110.36,2,31.29,2,0,2,2.2,2,0.034,6,0.008,3,-999,9,-999,9,-999,9
  90KDIOFFE6_1,  S04P,730,1,10,10,2,19920308,2018,-67.0007,-133.224,4609,1878.1,1.0391,34.7174,2,34.7155,2,200.9,2,201.3,2,115.16,2,31.16,2,0,2,2.21,2,0.027,2,0.009,3,-999,9,-999,9,-999,9
  90KDIOFFE6_1,  S04P,730,1,27,27,2,19920308,2018,-67.0007,-133.224,4609,2222.6,0.8703,34.7101,2,34.7102,2,202.9,2,204.5,2,121.47,2,31.63,2,0,2,2.22,2,-999,9,-999,9,-999,9,-999,9,-999,9
  90KDIOFFE6_1,  S04P,730,1,8,8,2,19920308,2018,-67.0007,-133.224,4609,2529.1,0.7457,34.706,2,34.7053,2,205.4,2,206.9,2,126.2,2,31.75,2,0,2,2.24,2,0.032,2,0.009,3,-999,9,-999,9,-999,9
  90KDIOFFE6_1,  S04P,730,1,7,7,2,19920308,2018,-67.0007,-133.224,4609,2834.3,0.6342,34.7021,2,34.7016,2,206.1,2,209,2,128.36,2,31.87,2,0,2,2.25,2,0.038,6,0.012,3,-999,9,-999,9,-999,9
  90KDIOFFE6_1,  S04P,730,1,6,6,2,19920308,2018,-67.0007,-133.224,4609,3191,0.5046,34.7014,2,34.7014,2,209.9,2,211.5,2,131.54,2,31.77,2,0,2,2.25,2,0.03,2,0.009,3,-999,9,-999,9,-999,9
  90KDIOFFE6_1,  S04P,730,1,5,5,2,19920308,2018,-67.0007,-133.224,4609,3549.7,0.4043,34.7006,2,34.7004,2,212.4,2,213.8,2,135.33,2,31.61,2,0,2,2.25,2,0.036,2,0.013,3,-999,9,-999,9,-999,9
  90KDIOFFE6_1,  S04P,730,1,4,4,2,19920308,2018,-67.0007,-133.224,4609,3908.9,0.3402,34.6998,2,34.7,2,215.9,2,216,2,137.12,2,31.41,3,0,2,2.25,2,0.044,2,0.016,3,-999,9,-999,9,-999,9
  90KDIOFFE6_1,  S04P,730,1,3,3,2,19920308,2018,-67.0007,-133.224,4609,4268.7,0.3036,34.6995,2,34.6998,2,218.3,2,218.1,2,137.71,2,31.35,3,0,2,2.26,2,0.079,2,0.03,3,-999,9,-999,9,-999,9
  90KDIOFFE6_1,  S04P,730,1,2,2,2,19920308,2018,-67.0007,-133.224,4609,4577.6,0.2762,34.6989,2,34.6992,2,221.3,2,220.1,2,134.85,2,31.47,3,0,2,2.25,2,0.146,2,0.054,3,-999,9,-999,9,-999,9
  90KDIOFFE6_1,  S04P,730,1,1,1,2,19920308,2018,-67.0007,-133.224,4609,4684.3,0.2642,34.699,2,34.6996,2,222.6,2,220.5,2,135.23,2,31.68,3,0.01,2,2.25,2,0.213,6,0.075,3,-999,9,-999,9,-999,9
  90KDIOFFE6_1,  S04P,731,1,24,24,2,19920309,215,-66.9997,-134.5083,4613,15.2,0.6655,33.4261,2,33.4246,2,353.3,2,348.9,2,26.27,2,23.61,2,0.3,2,1.61,2,-999,9,-999,9,-999,9,2116.4,2,-999,9
  90KDIOFFE6_1,  S04P,731,1,23,23,2,19920309,215,-66.9997,-134.5083,4613,34.5,0.6275,33.4379,2,33.4369,2,342.4,2,348.5,2,26.25,2,23.76,2,0.3,2,1.62,2,-999,9,-999,9,-999,9,2117.9,2,-999,9
  90KDIOFFE6_1,  S04P,731,1,22,22,2,19920309,215,-66.9997,-134.5083,4613,65.6,-1.1148,33.776,2,33.7339,2,350.2,2,350.3,2,27.17,2,25.9,2,0.26,2,1.88,2,-999,9,-999,9,-999,9,2145.5,2,-999,9
  90KDIOFFE6_1,  S04P,731,1,21,21,2,19920309,215,-66.9997,-134.5083,4613,96.2,-1.4674,33.889,2,33.8865,2,343.9,2,341.7,2,43.35,2,27.33,2,0.27,2,1.98,2,-999,9,-999,9,-999,9,2168.5,2,-999,9
  90KDIOFFE6_1,  S04P,731,1,20,20,2,19920309,215,-66.9997,-134.5083,4613,156.5,-0.8963,34.0432,2,34.033,2,316.8,2,317.6,2,49.62,2,29.45,2,0.03,2,2.08,2,-999,9,-999,9,-999,9,2183.8,2,-999,9
  90KDIOFFE6_1,  S04P,731,1,19,19,2,19920309,215,-66.9997,-134.5083,4613,221.4,0.6994,34.3354,2,34.3407,2,242,2,240.9,2,67.74,2,32.77,2,0.01,2,2.3,2,-999,9,-999,9,-999,9,2226.9,2,-999,9
  90KDIOFFE6_1,  S04P,731,1,18,18,2,19920309,215,-66.9997,-134.5083,4613,305.8,1.6489,34.5477,2,34.5487,2,191.6,2,191.4,2,78.83,2,33.7,2,0,2,2.37,2,-999,9,-999,9,-999,9,2252.3,2,-999,9
  90KDIOFFE6_1,  S04P,731,1,17,17,2,19920309,215,-66.9997,-134.5083,4613,407.3,1.8424,34.6208,2,34.6214,2,183.1,2,182.4,2,82.46,2,33,2,0,2,2.32,2,-999,9,-999,9,-999,9,2258.6,2,-999,9
  90KDIOFFE6_1,  S04P,731,1,16,16,2,19920309,215,-66.9997,-134.5083,4613,609,1.8889,34.7001,2,34.6997,2,181,2,182.3,2,88.02,2,31.74,2,0,2,2.24,2,-999,9,-999,9,-999,9,2256.1,2,-999,9
  90KDIOFFE6_1,  S04P,731,1,15,15,2,19920309,215,-66.9997,-134.5083,4613,810.1,1.7748,34.7211,2,34.7217,2,189.1,2,186.8,2,92.06,2,31.24,2,0,2,2.21,2,-999,9,-999,9,-999,9,2253.3,2,-999,9
  90KDIOFFE6_1,  S04P,731,1,14,14,2,19920309,215,-66.9997,-134.5083,4613,1012,1.6079,34.7289,2,34.7281,2,193.3,2,191,2,96.69,2,30.93,2,0,2,2.19,2,-999,9,-999,9,-999,9,2253.4,2,-999,9
  90KDIOFFE6_1,  S04P,731,1,13,13,2,19920309,215,-66.9997,-134.5083,4613,1314.6,1.3639,34.7279,2,34.7271,2,195.5,2,195.3,2,104.07,2,31,2,0,2,2.19,2,-999,9,-999,9,-999,9,2257.2,2,-999,9
  90KDIOFFE6_1,  S04P,731,1,12,12,2,19920309,215,-66.9997,-134.5083,4613,1618.7,1.1619,34.7217,2,34.7209,2,198.5,2,198.8,2,110.31,2,31.16,2,0,2,2.21,2,-999,9,-999,9,-999,9,2256,2,-999,9
  90KDIOFFE6_1,  S04P,731,1,26,26,2,19920309,215,-66.9997,-134.5083,4613,1822.1,1.0361,34.7173,2,34.7167,2,201,2,201.1,2,114.83,2,31.33,2,0,2,2.21,2,-999,9,-999,9,-999,9,2260.3,2,-999,9
  90KDIOFFE6_1,  S04P,731,1,10,10,2,19920309,215,-66.9997,-134.5083,4613,2124.3,0.8804,34.7108,2,34.71,2,202.7,2,203.9,2,120.56,2,31.54,2,0,2,2.23,2,-999,9,-999,9,-999,9,2260.9,2,-999,9
  90KDIOFFE6_1,  S04P,731,1,27,27,2,19920309,215,-66.9997,-134.5083,4613,2429.5,0.7536,34.706,2,34.7041,2,205.3,2,206,2,125.33,2,31.56,2,0,2,2.25,2,-999,9,-999,9,-999,9,2262.8,2,-999,9
  90KDIOFFE6_1,  S04P,731,1,8,8,2,19920309,215,-66.9997,-134.5083,4613,2734.6,0.6466,34.7028,2,34.7024,2,207,2,208.5,2,127.72,2,31.87,2,0,2,2.24,2,-999,9,-999,9,-999,9,2262.4,2,-999,9
  90KDIOFFE6_1,  S04P,731,1,7,7,2,19920309,215,-66.9997,-134.5083,4613,3041.1,0.523,34.7009,2,34.7008,2,209.1,2,210.4,2,129.91,2,31.98,2,0,2,2.26,2,-999,9,-999,9,-999,9,2262.2,2,-999,9
  90KDIOFFE6_1,  S04P,731,1,6,6,2,19920309,215,-66.9997,-134.5083,4613,3348.3,0.4316,34.7001,2,34.7002,2,211.7,2,213.1,2,131.91,2,31.96,2,0,2,2.26,2,0.042,6,0.013,3,-999,9,2262.6,2,-999,9
  90KDIOFFE6_1,  S04P,731,1,5,5,2,19920309,215,-66.9997,-134.5083,4613,3657.3,0.3593,34.6994,2,34.7,2,214.7,2,215.4,2,133.52,2,32.31,3,0,2,2.26,2,0.044,2,0.015,3,-999,9,2259.1,2,-999,9
  90KDIOFFE6_1,  S04P,731,1,4,4,2,19920309,215,-66.9997,-134.5083,4613,3965,0.3109,34.6999,2,34.6996,2,216.8,2,216.9,2,135.74,2,32.19,3,0,2,2.26,2,0.059,2,0.022,3,-999,9,2263.1,2,-999,9
  90KDIOFFE6_1,  S04P,731,1,3,3,2,19920309,215,-66.9997,-134.5083,4613,4271.6,0.2767,34.6989,2,34.6996,2,219.6,2,218.8,2,135.31,2,32.21,3,0,2,2.26,2,0.114,2,0.041,3,-999,9,2262,2,-999,9
  90KDIOFFE6_1,  S04P,731,1,2,2,2,19920309,215,-66.9997,-134.5083,4613,4465.9,0.2466,34.6983,2,34.6988,2,222.2,2,221.1,2,130.03,2,31.95,2,0,2,2.25,2,0.207,2,0.079,3,-999,9,2258.2,2,-999,9
  90KDIOFFE6_1,  S04P,731,1,1,1,2,19920309,215,-66.9997,-134.5083,4613,4692.4,0.2222,34.698,2,34.6986,2,224.7,2,223.1,2,124.98,2,31.78,2,0,2,2.25,2,0.351,2,0.13,3,-999,9,2261,2,-999,9