BOTTLE,20181005JHS,,,,,,,,,,,,,,,,,,,,,,,,,,,,,,,,,,,,,,
EXPOCODE,SECT_ID,STNNBR,CASTNO,SAMPNO,BTLNBR,BTLNBR_FLAG_W,DATE,TIME,LATITUDE,LONGITUDE,DEPTH,CTDPRS,CTDTMP,CTDSAL,CTDSAL_FLAG_W,SALNTY,SALNTY_FLAG_W,CTDOXY,CTDOXY_FLAG_W,OXYGEN,OXYGEN_FLAG_W,SILCAT,SILCAT_FLAG_W,NITRAT,NITRAT_FLAG_W,NITRIT,NITRIT_FLAG_W,PHSPHT,PHSPHT_FLAG_W,CFC-11,CFC-11_FLAG_W,CFC-12,CFC-12_FLAG_W,SF6,SF6_FLAG_W,TCARBN,TCARBN_FLAG_W,ALKALI,ALKALI_FLAG_W
,,,,,,,,,,,,DBAR,ITS-90,PSS-78,,PSS-78,,UMOL/KG,,UMOL/KG,,UMOL/KG,,UMOL/KG,,UMOL/KG,,UMOL/KG,,PMOL/KG,,PMOL/KG,,FMOL/KG,,UMOL/KG,,UMOL/KG,
  90KDIOFFE6_1,  S04P,768,1,24,24,2,19920321,206,-67.0493,174.3192,3131,16,-0.2338,33.7593,2,33.7599,2,357.7,3,337.4,2,54.24,2,22.94,2,0.12,2,1.66,2,6.113,4,2.837,4,-999,9,2147.5,2,-999,9
  90KDIOFFE6_1,  S04P,768,1,23,23,2,19920321,206,-67.0493,174.3192,3131,46.8,-0.2402,33.7613,2,33.7612,2,338.1,2,337.4,2,54.23,2,23.09,2,0.12,2,1.66,2,5.966,2,2.735,3,-999,9,2146.9,2,-999,9
  90KDIOFFE6_1,  S04P,768,1,22,22,2,19920321,206,-67.0493,174.3192,3131,81.4,-1.2067,34.3279,2,34.3309,2,260.8,2,272.1,2,76.23,2,29.45,2,0.11,2,2.17,2,3.81,2,1.703,3,-999,9,2220.7,2,-999,9
  90KDIOFFE6_1,  S04P,768,1,21,21,2,19920321,206,-67.0493,174.3192,3131,107.7,0.5464,34.5735,2,34.5404,2,196.5,2,215.4,2,87.17,2,31.63,2,0.14,2,2.27,2,1.661,2,0.725,3,-999,9,-999,9,-999,9
  90KDIOFFE6_1,  S04P,768,1,20,20,2,19920321,206,-67.0493,174.3192,3131,160.3,1.2703,34.6767,2,34.6777,2,188.6,2,189.9,2,95.09,2,31.93,2,0.02,2,2.27,2,0.481,2,0.192,3,-999,9,-999,9,-999,9
  90KDIOFFE6_1,  S04P,768,1,19,19,2,19920321,206,-67.0493,174.3192,3131,208,1.3329,34.6968,2,34.6962,2,187.6,2,190.1,2,97.31,2,31.63,2,0.02,2,2.26,2,0.319,2,0.124,3,-999,9,-999,9,-999,9
  90KDIOFFE6_1,  S04P,768,1,18,18,2,19920321,206,-67.0493,174.3192,3131,257.3,1.338,34.7074,2,34.7076,2,188.2,2,188.8,2,99.54,2,31.53,2,0.01,2,2.25,2,0.283,2,0.09,3,-999,9,-999,9,-999,9
  90KDIOFFE6_1,  S04P,768,1,17,17,2,19920321,206,-67.0493,174.3192,3131,308.9,1.3194,34.7126,2,34.7136,2,189.1,2,188.8,2,101.36,2,31.52,2,0.01,2,2.25,2,0.179,2,0.066,3,-999,9,-999,9,-999,9
  90KDIOFFE6_1,  S04P,768,1,16,16,2,19920321,206,-67.0493,174.3192,3131,401.8,1.2726,34.7167,2,34.7181,2,189.7,2,189.6,2,104.83,2,31.62,2,0.01,2,2.24,2,0.136,2,0.043,3,-999,9,-999,9,-999,9
  90KDIOFFE6_1,  S04P,768,1,15,15,2,19920321,206,-67.0493,174.3192,3131,503.7,1.2014,34.7183,2,34.7193,2,190.7,2,190.7,2,107.89,2,31.61,2,0,2,2.25,2,0.097,2,0.034,3,-999,9,-999,9,-999,9
  90KDIOFFE6_1,  S04P,768,1,14,14,2,19920321,206,-67.0493,174.3192,3131,597.3,1.1423,34.7181,2,34.7187,2,191.9,2,192.9,2,110.13,2,31.61,2,0,2,2.24,2,0.074,2,0.03,3,-999,9,-999,9,-999,9
  90KDIOFFE6_1,  S04P,768,1,13,13,2,19920321,206,-67.0493,174.3192,3131,693,1.0822,34.7169,2,34.7179,2,194.3,2,194,2,111.97,2,31.6,2,0,2,2.24,2,0.057,2,0.021,3,-999,9,-999,9,-999,9
  90KDIOFFE6_1,  S04P,768,1,12,12,2,19920321,206,-67.0493,174.3192,3131,780.7,1.0312,34.7167,2,34.7169,2,195.9,2,195.7,2,114.21,2,31.5,2,0,2,2.25,2,0.042,2,0.012,3,-999,9,-999,9,-999,9
  90KDIOFFE6_1,  S04P,768,1,26,26,2,19920321,206,-67.0493,174.3192,3131,950.4,0.9491,34.7137,2,34.7157,2,197.4,2,197.9,2,117.09,2,31.59,2,0,2,2.25,2,0.03,2,0.01,3,-999,9,-999,9,-999,9
  90KDIOFFE6_1,  S04P,768,1,10,10,2,19920321,206,-67.0493,174.3192,3131,1132.2,0.8424,34.7105,2,34.7081,3,199.5,2,203,3,123.51,3,31.58,3,0,3,2.26,3,0.028,2,0.012,3,-999,9,-999,9,-999,9
  90KDIOFFE6_1,  S04P,768,1,27,27,2,19920321,206,-67.0493,174.3192,3131,1406.5,0.7275,34.7073,2,34.7075,2,202.5,2,204,2,124.11,2,31.78,2,0,2,2.26,2,0.021,2,0.006,3,-999,9,-999,9,-999,9
  90KDIOFFE6_1,  S04P,768,1,8,8,2,19920321,206,-67.0493,174.3192,3131,1679.1,0.6234,34.7042,2,34.7057,2,205.6,2,207.2,2,127.02,2,31.82,2,0,2,2.26,2,0.027,6,0.012,3,-999,9,-999,9,-999,9
  90KDIOFFE6_1,  S04P,768,1,7,7,2,19920321,206,-67.0493,174.3192,3131,1938.3,0.5226,34.7014,2,34.7028,2,208.4,2,210,2,128.88,2,31.91,2,0,2,2.26,2,0.039,2,0.012,3,-999,9,-999,9,-999,9
  90KDIOFFE6_1,  S04P,768,1,6,6,2,19920321,206,-67.0493,174.3192,3131,2202.7,0.4245,34.7001,2,34.701,2,211.2,2,211,2,130.12,2,31.91,2,0,2,2.26,2,0.102,2,0.027,3,-999,9,-999,9,-999,9
  90KDIOFFE6_1,  S04P,768,1,29,29,2,19920321,206,-67.0493,174.3192,3131,2476.3,0.3373,34.6978,2,34.6984,2,213.4,2,214.3,2,128.62,2,31.85,2,0,2,2.26,2,0.204,2,0.078,3,-999,9,-999,9,-999,9
  90KDIOFFE6_1,  S04P,768,1,28,28,2,19920321,206,-67.0493,174.3192,3131,2743.7,0.2439,34.6954,2,34.6965,2,217.8,2,218,2,124.62,2,31.69,2,0,2,2.26,2,0.422,6,0.168,3,-999,9,-999,9,-999,9
  90KDIOFFE6_1,  S04P,768,1,3,3,2,19920321,206,-67.0493,174.3192,3131,2971,0.1607,34.6949,2,34.6951,2,220.9,2,221,2,121.27,2,31.63,2,0,2,2.25,2,0.583,2,0.243,3,-999,9,-999,9,-999,9
  90KDIOFFE6_1,  S04P,768,1,2,2,2,19920321,206,-67.0493,174.3192,3131,3130.7,0.0896,34.6947,2,34.6949,2,223.7,2,223.7,2,117.72,2,31.63,2,0,2,2.25,2,0.764,2,0.335,3,-999,9,-999,9,-999,9
  90KDIOFFE6_1,  S04P,768,1,1,1,2,19920321,206,-67.0493,174.3192,3131,3215.5,0.0534,34.6955,2,34.6956,2,226.3,2,226.1,2,114.59,2,31.36,2,0,2,2.25,2,0.971,2,0.413,3,-999,9,-999,9,-999,9
  90KDIOFFE6_1,  S04P,769,1,24,24,2,19920321,824,-67.4687,173.5733,3272,14.9,-0.3684,33.8185,2,33.817,2,337.8,2,337.4,2,57.41,2,22.69,2,0.11,2,1.68,2,-999,9,-999,9,-999,9,2148.5,2,-999,9
  90KDIOFFE6_1,  S04P,769,1,23,23,2,19920321,824,-67.4687,173.5733,3272,56.4,-0.9559,34.1461,2,33.84,2,279.8,2,334.3,2,58.19,2,23.08,2,0.11,2,1.71,2,-999,9,-999,9,-999,9,2153.4,2,-999,9
  90KDIOFFE6_1,  S04P,769,1,22,22,2,19920321,824,-67.4687,173.5733,3272,76.4,-0.4713,34.4283,2,34.425,2,243.4,2,247.3,2,80.95,2,30.4,2,0.15,2,2.22,2,-999,9,-999,9,-999,9,2230.6,2,-999,9
  90KDIOFFE6_1,  S04P,769,1,21,21,2,19920321,824,-67.4687,173.5733,3272,105.7,0.6678,34.5852,2,34.599,2,206.7,2,202.5,2,89.54,2,31.67,2,0.07,2,2.29,2,-999,9,-999,9,-999,9,2251.6,2,-999,9
  90KDIOFFE6_1,  S04P,769,1,20,20,2,19920321,824,-67.4687,173.5733,3272,156,1.2044,34.6665,2,34.664,2,191.6,2,192.1,2,93.25,2,31.57,2,0.03,2,2.29,2,-999,9,-999,9,-999,9,2252.7,2,-999,9
  90KDIOFFE6_1,  S04P,769,1,19,19,2,19920321,824,-67.4687,173.5733,3272,206.4,1.3423,34.6976,2,34.697,2,190.2,2,192.1,2,96.47,2,31.28,2,0.02,2,2.26,2,-999,9,-999,9,-999,9,2254.6,2,-999,9
  90KDIOFFE6_1,  S04P,769,1,18,18,2,19920321,824,-67.4687,173.5733,3272,256.9,1.3393,34.7072,2,34.707,2,189.8,2,190.3,2,98.13,2,31.28,2,0.01,2,2.26,2,-999,9,-999,9,-999,9,2255.4,2,-999,9
  90KDIOFFE6_1,  S04P,769,1,17,17,2,19920321,824,-67.4687,173.5733,3272,306.6,1.3393,34.7166,2,34.716,2,189,2,189.9,2,100.38,2,31.37,2,0.01,2,2.25,2,-999,9,-999,9,-999,9,2257.4,2,-999,9
  90KDIOFFE6_1,  S04P,769,1,16,16,2,19920321,824,-67.4687,173.5733,3272,404.1,1.2804,34.7204,2,34.719,2,189.8,2,191.2,2,104.09,2,31.37,2,0.01,2,2.25,2,-999,9,-999,9,-999,9,2258.1,2,-999,9
  90KDIOFFE6_1,  S04P,769,1,15,15,2,19920321,824,-67.4687,173.5733,3272,503,1.2084,34.7202,2,34.719,2,194.2,2,192.9,2,105.56,2,31.18,2,0.01,2,2.25,2,-999,9,-999,9,-999,9,2257.5,2,-999,9
  90KDIOFFE6_1,  S04P,769,1,14,14,2,19920321,824,-67.4687,173.5733,3272,697.6,1.0965,34.7205,2,34.718,2,196,2,194.2,2,110.93,2,31.37,2,0.01,2,2.25,2,-999,9,-999,9,-999,9,2259,2,-999,9
  90KDIOFFE6_1,  S04P,769,1,13,13,2,19920321,824,-67.4687,173.5733,3272,898.3,0.9646,34.7151,2,34.715,2,198.6,2,197.7,2,115.04,2,31.37,2,0,2,2.25,2,-999,9,-999,9,-999,9,2260.9,2,-999,9
  90KDIOFFE6_1,  S04P,769,1,12,12,2,19920321,824,-67.4687,173.5733,3272,1107,0.8487,34.7121,2,34.711,2,201,2,200.7,2,119.24,2,31.57,2,0,2,2.25,2,-999,9,-999,9,-999,9,2259.7,2,-999,9
  90KDIOFFE6_1,  S04P,769,1,26,26,2,19920321,824,-67.4687,173.5733,3272,1314.6,0.7467,34.7085,2,34.709,2,205,2,202.9,2,122.96,2,31.77,2,0,2,2.26,2,-999,9,-999,9,-999,9,-999,9,-999,9
  90KDIOFFE6_1,  S04P,769,1,10,10,3,19920321,824,-67.4687,173.5733,3272,1518.3,0.6568,34.7068,2,34.702,4,206.9,2,210.3,4,125.69,4,31.37,4,0,4,2.27,4,-999,9,-999,9,-999,9,-999,9,-999,9
  90KDIOFFE6_1,  S04P,769,1,27,27,2,19920321,824,-67.4687,173.5733,3272,1719,0.5789,34.7052,2,34.701,2,207.6,2,-999,5,126.77,2,31.67,2,0,2,2.27,2,-999,9,-999,9,-999,9,-999,9,-999,9
  90KDIOFFE6_1,  S04P,769,1,8,8,2,19920321,824,-67.4687,173.5733,3272,1970.2,0.4819,34.701,2,34.701,2,209.6,2,209.9,2,128.24,2,31.86,2,0,2,2.27,2,-999,9,-999,9,-999,9,-999,9,-999,9
  90KDIOFFE6_1,  S04P,769,1,7,7,2,19920321,824,-67.4687,173.5733,3272,2264.5,0.382,34.6996,2,34.699,2,213.5,2,212,2,128.63,2,31.77,2,0,2,2.27,2,0.143,2,0.049,3,-999,9,-999,9,-999,9
  90KDIOFFE6_1,  S04P,769,1,6,6,2,19920321,824,-67.4687,173.5733,3272,2504.5,0.2981,34.6993,2,34.698,2,214.6,2,215.5,2,126.97,2,31.67,2,0,2,2.27,2,0.217,4,0.075,4,-999,9,-999,9,-999,9
  90KDIOFFE6_1,  S04P,769,1,29,29,2,19920321,824,-67.4687,173.5733,3272,2831.1,0.1882,34.6975,2,34.697,2,218.2,2,219.4,2,122.27,2,31.67,2,0,2,2.27,2,0.513,2,0.207,3,-999,9,-999,9,-999,9
  90KDIOFFE6_1,  S04P,769,1,28,28,2,19920321,824,-67.4687,173.5733,3272,2990.6,0.1232,34.6967,2,34.697,2,222.9,2,222,2,118.56,2,31.57,2,0,2,2.26,2,0.734,2,0.304,3,-999,9,-999,9,-999,9
  90KDIOFFE6_1,  S04P,769,1,3,3,2,19920321,824,-67.4687,173.5733,3272,3137.4,0.0583,34.6963,2,34.696,2,224.9,2,225.1,2,114.36,2,31.37,2,0,2,2.25,2,1.026,2,0.409,3,-999,9,-999,9,-999,9
  90KDIOFFE6_1,  S04P,769,1,2,2,2,19920321,824,-67.4687,173.5733,3272,3239.8,0.0183,34.6967,2,34.697,2,227.6,2,227.2,2,110.84,2,31.18,2,0.01,2,2.24,2,1.143,2,0.497,3,-999,9,-999,9,-999,9
  90KDIOFFE6_1,  S04P,769,1,1,1,2,19920321,824,-67.4687,173.5733,3272,3295.2,0.0013,34.6982,2,34.697,2,228.2,2,227.7,2,109.76,2,31.18,2,0,2,2.24,2,1.233,2,0.527,3,-999,9,-999,9,-999,9
  90KDIOFFE6_1,  S04P,770,1,24,24,2,19920321,1406,-67.8947,172.914,3318,11.5,-0.9131,33.8084,2,33.8079,2,343.2,3,339.9,2,61.57,2,24.71,2,0.11,2,1.8,2,6.163,6,2.755,3,-999,9,2157.9,2,-999,9
  90KDIOFFE6_1,  S04P,770,1,23,23,2,19920321,1406,-67.8947,172.914,3318,52,-0.952,33.886,2,33.8158,2,275.3,3,339.3,2,61.74,2,24.74,2,0.11,2,1.81,2,5.979,2,2.69,3,-999,9,2158.7,2,-999,9
  90KDIOFFE6_1,  S04P,770,1,22,22,2,19920321,1406,-67.8947,172.914,3318,60.9,-1.0065,34.3184,2,34.2977,2,279.9,2,278.3,2,75.39,2,29.21,2,0.15,2,2.13,2,3.884,2,1.715,3,-999,9,2214.8,2,-999,9
  90KDIOFFE6_1,  S04P,770,1,21,21,2,19920321,1406,-67.8947,172.914,3318,102.4,0.8181,34.6097,2,34.6036,2,205.9,2,204.5,2,89.7,2,31.55,2,0.05,2,2.28,2,1.165,2,0.497,3,-999,9,-999,9,-999,9
  90KDIOFFE6_1,  S04P,770,1,20,20,2,19920321,1406,-67.8947,172.914,3318,151.5,1.2351,34.6734,2,34.6715,2,189.2,2,190.8,2,93.73,2,31.65,2,0.03,2,2.28,2,0.533,2,0.213,3,-999,9,-999,9,-999,9
  90KDIOFFE6_1,  S04P,770,1,19,19,2,19920321,1406,-67.8947,172.914,3318,202,1.3473,34.7001,2,34.7,2,186.9,2,188.1,2,96.75,2,31.64,2,0.01,2,2.27,2,0.298,2,0.112,3,-999,9,-999,9,-999,9
  90KDIOFFE6_1,  S04P,770,1,18,18,2,19920321,1406,-67.8947,172.914,3318,252.5,1.3515,34.7098,2,34.7094,2,186.1,2,188.3,2,98.97,2,31.51,2,0.01,2,2.26,2,0.253,2,0.078,4,-999,9,-999,9,-999,9
  90KDIOFFE6_1,  S04P,770,1,17,17,2,19920321,1406,-67.8947,172.914,3318,350.9,1.2533,34.713,2,34.7125,2,186.7,2,191.6,2,101.6,2,31.43,2,0,2,2.25,2,0.214,2,0.079,3,-999,9,-999,9,-999,9
  90KDIOFFE6_1,  S04P,770,1,16,16,2,19920321,1406,-67.8947,172.914,3318,437.3,1.2217,34.7179,2,34.717,2,190.7,2,191.8,2,104.85,2,31.4,2,0,2,2.25,2,0.155,2,0.053,3,-999,9,-999,9,-999,9
  90KDIOFFE6_1,  S04P,770,1,15,15,2,19920321,1406,-67.8947,172.914,3318,603,1.1159,34.7177,2,34.7168,2,193.1,2,194.5,2,108.11,2,31.32,2,0,2,2.25,2,0.114,2,0.039,3,-999,9,-999,9,-999,9
  90KDIOFFE6_1,  S04P,770,1,14,14,2,19920321,1406,-67.8947,172.914,3318,804.7,1.0101,34.717,2,34.7151,2,196.6,2,196,2,113.85,2,31.5,2,0,2,2.25,2,0.037,2,0.013,3,-999,9,-999,9,-999,9
  90KDIOFFE6_1,  S04P,770,1,13,13,2,19920321,1406,-67.8947,172.914,3318,1002.1,0.8951,34.7134,2,34.7129,2,198.9,2,199.2,2,117.34,2,31.42,2,0,2,2.26,2,-999,9,-999,9,-999,9,-999,9,-999,9
  90KDIOFFE6_1,  S04P,770,1,12,12,2,19920321,1406,-67.8947,172.914,3318,1200.2,0.7921,34.7096,2,34.7094,2,202.5,2,202,2,120.22,2,31.7,2,0,2,2.26,2,0.036,2,0.014,3,-999,9,-999,9,-999,9
  90KDIOFFE6_1,  S04P,770,1,26,26,2,19920321,1406,-67.8947,172.914,3318,1402.5,0.6934,34.7067,2,34.706,2,205.7,2,204.5,2,123.52,2,31.67,2,0,2,2.26,2,0.029,2,0.012,3,-999,9,-999,9,-999,9
  90KDIOFFE6_1,  S04P,770,1,10,10,2,19920321,1406,-67.8947,172.914,3318,1611.1,0.5949,34.7036,2,34.7029,2,208.4,2,206.8,2,124.97,2,31.69,2,0,2,2.27,2,0.055,2,0.02,3,-999,9,-999,9,-999,9
  90KDIOFFE6_1,  S04P,770,1,27,27,2,19920321,1406,-67.8947,172.914,3318,1858.3,0.5259,34.7016,2,34.7013,2,210.8,2,208.7,2,126.41,2,31.76,2,0,2,2.27,2,0.067,2,0.023,3,-999,9,-999,9,-999,9
  90KDIOFFE6_1,  S04P,770,1,8,8,2,19920321,1406,-67.8947,172.914,3318,2096.3,0.4404,34.7009,2,34.7003,2,212.9,2,210.8,2,128.9,2,31.78,2,0,2,2.27,2,0.069,2,0.024,3,-999,9,-999,9,-999,9
  90KDIOFFE6_1,  S04P,770,1,7,7,2,19920321,1406,-67.8947,172.914,3318,2317.2,0.3589,34.6993,2,34.699,2,214.8,2,213,2,127.63,2,31.65,2,0,2,2.27,2,0.181,2,0.068,3,-999,9,-999,9,-999,9
  90KDIOFFE6_1,  S04P,770,1,6,6,2,19920321,1406,-67.8947,172.914,3318,2515.4,0.2981,34.6979,2,34.6976,2,217.5,2,215.3,2,125.73,2,31.62,2,0,2,2.27,2,0.344,2,0.118,3,-999,9,-999,9,-999,9
  90KDIOFFE6_1,  S04P,770,1,29,29,2,19920321,1406,-67.8947,172.914,3318,2706.9,0.2463,34.6965,2,34.6956,2,218.3,2,217.5,2,123.42,2,31.54,2,0,2,2.26,2,0.44,2,0.175,3,-999,9,-999,9,-999,9
  90KDIOFFE6_1,  S04P,770,1,28,28,2,19920321,1406,-67.8947,172.914,3318,2941.1,0.1652,34.6943,2,34.6909,3,221.1,2,220.8,2,120.49,2,31.51,2,0,2,2.26,2,0.613,2,0.242,3,-999,9,-999,9,-999,9
  90KDIOFFE6_1,  S04P,770,1,3,3,2,19920321,1406,-67.8947,172.914,3318,3187.2,0.0688,34.6931,2,34.6923,2,224.7,2,225.2,2,113.86,2,31.22,2,0,2,2.25,2,0.93,2,0.392,3,-999,9,-999,9,-999,9
  90KDIOFFE6_1,  S04P,770,1,2,2,2,19920321,1406,-67.8947,172.914,3318,3304.8,0.0432,34.6944,2,34.6941,2,225.2,2,226.5,2,111.37,2,31.35,2,0,2,2.25,2,1.088,2,0.475,3,-999,9,-999,9,-999,9
  90KDIOFFE6_1,  S04P,770,1,1,1,2,19920321,1406,-67.8947,172.914,3318,3369.3,0.0264,34.6954,2,34.6947,2,225.5,2,227.9,2,110.32,2,31.37,2,0,2,2.25,2,1.145,2,0.487,3,-999,9,-999,9,-999,9
  90KDIOFFE6_1,  S04P,771,1,24,24,2,19920321,1939,-68.2948,172.093,3336,11.3,-1.0029,33.8774,2,33.8759,2,2100.9,3,337.6,2,62.92,2,24.67,3,0.1,2,1.82,2,-999,9,-999,9,-999,9,2164.6,2,-999,9
  90KDIOFFE6_1,  S04P,771,1,23,23,2,19920321,1939,-68.2948,172.093,3336,52.9,-0.901,33.9418,2,33.9498,2,325.5,3,326.1,2,64.94,2,25.17,3,0.1,2,1.87,2,-999,9,-999,9,-999,9,2171.3,2,-999,9
  90KDIOFFE6_1,  S04P,771,1,22,22,2,19920321,1939,-68.2948,172.093,3336,83.1,0.2311,34.5267,2,34.5261,2,215.9,2,223.1,2,90.51,2,30.64,3,0.11,2,2.24,2,-999,9,-999,9,-999,9,2239.9,2,-999,9
  90KDIOFFE6_1,  S04P,771,1,21,21,2,19920321,1939,-68.2948,172.093,3336,123.9,1.0215,34.6457,2,34.6448,2,196.2,2,197.5,2,95.18,2,31.19,3,0.05,2,2.27,2,-999,9,-999,9,-999,9,2251.7,2,-999,9
  90KDIOFFE6_1,  S04P,771,1,20,20,2,19920321,1939,-68.2948,172.093,3336,173.3,1.2544,34.6878,2,34.6876,2,191.6,2,191.2,2,98.65,2,31.19,3,0.01,2,2.26,2,-999,9,-999,9,-999,9,2253.4,2,-999,9
  90KDIOFFE6_1,  S04P,771,1,19,19,2,19920321,1939,-68.2948,172.093,3336,234.4,1.3003,34.7059,2,34.7061,2,191.7,2,191.6,2,101.32,2,31.03,3,0,2,2.26,2,-999,9,-999,9,-999,9,2254.3,2,-999,9
  90KDIOFFE6_1,  S04P,771,1,18,18,2,19920321,1939,-68.2948,172.093,3336,305.5,1.2853,34.7143,2,34.7153,2,190.7,2,189.7,2,104.19,2,31.11,3,0,2,2.25,2,-999,9,-999,9,-999,9,2257.9,2,-999,9
  90KDIOFFE6_1,  S04P,771,1,17,17,2,19920321,1939,-68.2948,172.093,3336,405.3,1.2324,34.7177,2,34.7173,2,191.1,2,190.7,2,106.46,2,31.07,3,0,2,2.25,2,-999,9,-999,9,-999,9,2257.9,2,-999,9
  90KDIOFFE6_1,  S04P,771,1,16,16,2,19920321,1939,-68.2948,172.093,3336,506.9,1.1544,34.7175,2,34.7175,2,192.4,2,192.9,2,108.94,2,31.03,3,0,2,2.25,2,-999,9,-999,9,-999,9,2259,2,-999,9
  90KDIOFFE6_1,  S04P,771,1,14,14,2,19920321,1939,-68.2948,172.093,3336,709.1,1.0275,34.7172,2,34.716,2,198,2,196.2,2,113.69,2,30.98,3,0,2,2.26,2,-999,9,-999,9,-999,9,2259.7,2,-999,9
  90KDIOFFE6_1,  S04P,771,1,13,13,2,19920321,1939,-68.2948,172.093,3336,910.7,0.9176,34.7139,2,34.7132,2,198.7,2,198.3,2,118.25,2,31.18,3,0,2,2.26,2,0.032,2,0.01,3,-999,9,2263.8,2,-999,9
  90KDIOFFE6_1,  S04P,771,1,12,12,2,19920321,1939,-68.2948,172.093,3336,1110.9,0.8097,34.7105,2,34.7093,2,201.4,2,201.1,2,121.79,2,31.08,3,0,2,2.26,2,0.03,2,0.011,3,-999,9,2261.1,2,-999,9
  90KDIOFFE6_1,  S04P,771,1,26,26,2,19920321,1939,-68.2948,172.093,3336,1312,0.7318,34.7083,2,34.7064,2,202.5,2,203,2,124.31,2,31.21,3,0,2,2.26,2,0.027,2,0.007,3,-999,9,2262.3,2,-999,9
  90KDIOFFE6_1,  S04P,771,1,10,10,2,19920321,1939,-68.2948,172.093,3336,1515.6,0.6558,34.7066,2,34.7056,2,203.6,2,205,2,126.22,2,31.4,3,0,2,2.27,2,-999,9,-999,9,-999,9,2259.7,2,-999,9
  90KDIOFFE6_1,  S04P,771,1,27,27,2,19920321,1939,-68.2948,172.093,3336,1768.2,0.5619,34.7029,2,34.7014,2,207.6,2,207.5,2,127.91,2,31.42,3,0,2,2.27,2,-999,9,-999,9,-999,9,2263.9,2,-999,9
  90KDIOFFE6_1,  S04P,771,1,8,8,2,19920321,1939,-68.2948,172.093,3336,2022.6,0.4709,34.7024,2,34.701,2,209.8,2,210,2,129.2,2,31.37,3,0,2,2.27,2,-999,9,-999,9,-999,9,2260.7,2,-999,9
  90KDIOFFE6_1,  S04P,771,1,7,7,2,19920321,1939,-68.2948,172.093,3336,2274.8,0.384,34.701,2,34.6998,2,211.3,2,212.5,2,130.48,2,31.33,3,0,2,2.27,2,-999,9,-999,9,-999,9,2260.7,2,-999,9
  90KDIOFFE6_1,  S04P,771,1,6,6,2,19920321,1939,-68.2948,172.093,3336,2525.9,0.3011,34.6993,2,34.6973,2,213.8,2,215.2,2,127.58,2,31.29,3,0,2,2.27,2,-999,9,-999,9,-999,9,2261.2,2,-999,9
  90KDIOFFE6_1,  S04P,771,1,29,29,2,19920321,1939,-68.2948,172.093,3336,2782.7,0.2141,34.6963,2,34.6944,2,218.2,2,218.8,2,124.27,2,31.24,3,0,2,2.27,2,-999,9,-999,9,-999,9,2261,2,-999,9
  90KDIOFFE6_1,  S04P,771,1,28,28,2,19920321,1939,-68.2948,172.093,3336,3031.4,0.1372,34.6936,2,34.693,2,223,2,222.2,2,118.69,2,31.14,3,0,2,2.27,2,0.775,2,0.316,3,-999,9,2257.8,2,-999,9
  90KDIOFFE6_1,  S04P,771,1,3,3,2,19920321,1939,-68.2948,172.093,3336,3181.9,0.0772,34.6927,2,34.6932,2,226.4,2,224.8,2,115.61,2,31.16,3,0,2,2.25,2,0.941,2,0.389,3,-999,9,2257.2,2,-999,9
  90KDIOFFE6_1,  S04P,771,1,2,2,2,19920321,1939,-68.2948,172.093,3336,3281.2,0.0543,34.6954,2,34.6946,2,225.6,2,226.2,2,112.75,2,31.06,3,0,2,2.25,2,1.099,2,0.462,3,-999,9,2256.2,2,-999,9
  90KDIOFFE6_1,  S04P,771,1,1,1,2,19920321,1939,-68.2948,172.093,3336,3389.1,-0.0237,34.6994,2,34.6978,2,231.3,2,229.9,2,109.07,2,30.67,3,0,2,2.23,2,1.343,2,0.576,3,-999,9,2257.3,2,-999,9