BOTTLE,20181005JHS,,,,,,,,,,,,,,,,,,,,,,,,,,,,,,,,,,,,,,
EXPOCODE,SECT_ID,STNNBR,CASTNO,SAMPNO,BTLNBR,BTLNBR_FLAG_W,DATE,TIME,LATITUDE,LONGITUDE,DEPTH,CTDPRS,CTDTMP,CTDSAL,CTDSAL_FLAG_W,SALNTY,SALNTY_FLAG_W,CTDOXY,CTDOXY_FLAG_W,OXYGEN,OXYGEN_FLAG_W,SILCAT,SILCAT_FLAG_W,NITRAT,NITRAT_FLAG_W,NITRIT,NITRIT_FLAG_W,PHSPHT,PHSPHT_FLAG_W,CFC-11,CFC-11_FLAG_W,CFC-12,CFC-12_FLAG_W,SF6,SF6_FLAG_W,TCARBN,TCARBN_FLAG_W,ALKALI,ALKALI_FLAG_W
,,,,,,,,,,,,DBAR,ITS-90,PSS-78,,PSS-78,,UMOL/KG,,UMOL/KG,,UMOL/KG,,UMOL/KG,,UMOL/KG,,UMOL/KG,,PMOL/KG,,PMOL/KG,,FMOL/KG,,UMOL/KG,,UMOL/KG,
  90KDIOFFE6_1,  S04P,712,1,24,24,2,19920303,48,-66.996,-103.453,4715,15.5,1.1185,33.8266,2,33.8265,2,335.5,3,339.7,2,18.22,2,24.73,2,0.25,2,1.72,2,6.424,2,2.773,3,-999,9,2135.4,2,-999,9
  90KDIOFFE6_1,  S04P,712,1,23,23,2,19920303,48,-66.996,-103.453,4715,56,1.0765,33.8293,2,33.8345,2,330.2,3,339.7,2,18.6,2,24.96,2,0.25,2,1.76,2,6.402,2,2.779,3,-999,9,2135.4,2,-999,9
  90KDIOFFE6_1,  S04P,712,1,21,21,2,19920303,48,-66.996,-103.453,4715,120.4,0.1732,33.9973,2,33.9993,2,337,2,332.2,2,31.28,2,28.14,2,0.22,2,1.99,2,5.929,2,2.526,3,-999,9,-999,9,-999,9
  90KDIOFFE6_1,  S04P,712,1,20,20,2,19920303,48,-66.996,-103.453,4715,156.6,0.1962,34.0252,2,34.0258,2,321.1,2,326.9,2,33.21,2,28.92,2,0.03,2,2.01,2,5.94,2,2.538,3,-999,9,-999,9,-999,9
  90KDIOFFE6_1,  S04P,712,1,19,19,2,19920303,48,-66.996,-103.453,4715,206.3,0.8846,34.131,2,34.1371,2,278.1,2,287.5,2,42.77,2,30.75,2,0,2,2.14,2,4.39,6,1.911,3,-999,9,-999,9,-999,9
  90KDIOFFE6_1,  S04P,712,1,18,18,2,19920303,48,-66.996,-103.453,4715,256.5,1.5522,34.2677,2,34.2724,2,244.7,2,242.4,2,55.85,2,33.03,2,0,2,2.28,2,2.845,2,1.164,3,-999,9,-999,9,-999,9
  90KDIOFFE6_1,  S04P,712,1,17,17,2,19920303,48,-66.996,-103.453,4715,307.3,1.737,34.3393,2,34.3441,2,223.7,2,221,2,62.1,2,33.81,2,0,2,2.33,2,2.1,2,0.887,3,-999,9,-999,9,-999,9
  90KDIOFFE6_1,  S04P,712,1,16,16,2,19920303,48,-66.996,-103.453,4715,456.7,2.0428,34.4907,2,34.4893,2,188.5,2,187.4,2,73.45,2,34.12,2,0,2,2.38,2,0.896,2,0.353,3,-999,9,-999,9,-999,9
  90KDIOFFE6_1,  S04P,712,1,15,15,2,19920303,48,-66.996,-103.453,4715,542.6,1.9949,34.5361,2,34.5356,2,185.4,2,184.7,2,77.17,2,34.1,2,0,2,2.36,2,0.794,2,0.317,3,-999,9,-999,9,-999,9
  90KDIOFFE6_1,  S04P,712,1,14,14,2,19920303,48,-66.996,-103.453,4715,609,2.0038,34.5718,2,34.5715,2,183.2,2,181.4,2,79.32,2,33.8,2,0,2,2.34,2,0.623,2,0.245,3,-999,9,-999,9,-999,9
  90KDIOFFE6_1,  S04P,712,1,13,13,2,19920303,48,-66.996,-103.453,4715,810,2.0468,34.6552,2,34.655,2,179.4,2,178.9,2,84.23,2,32.7,2,0,2,2.27,2,0.251,2,0.09,3,-999,9,-999,9,-999,9
  90KDIOFFE6_1,  S04P,712,1,12,12,2,19920303,48,-66.996,-103.453,4715,1012.1,1.9899,34.6984,2,34.6988,2,185,2,182.6,2,87.96,2,31.98,2,0,2,2.21,2,0.105,6,0.031,3,-999,9,-999,9,-999,9
  90KDIOFFE6_1,  S04P,712,1,26,26,2,19920303,48,-66.996,-103.453,4715,1416,1.7011,34.7289,2,34.7278,2,197.5,2,191.1,2,96.66,2,31.17,2,0,2,2.16,2,0.056,2,0.014,3,-999,9,-999,9,-999,9
  90KDIOFFE6_1,  S04P,712,1,10,10,2,19920303,48,-66.996,-103.453,4715,1821,1.4023,34.7274,2,34.7276,2,197.6,2,196.2,2,105.41,2,31.15,2,0,2,2.17,2,0.037,2,0.008,3,-999,9,-999,9,-999,9
  90KDIOFFE6_1,  S04P,712,1,27,27,2,19920303,48,-66.996,-103.453,4715,2226.7,1.1405,34.7192,2,34.7198,2,195.9,2,200.9,2,113.82,2,31.46,2,0,2,2.18,2,0.036,2,0.007,3,-999,9,-999,9,-999,9
  90KDIOFFE6_1,  S04P,712,1,8,8,2,19920303,48,-66.996,-103.453,4715,2531.8,0.9726,34.7121,2,34.7135,2,200.7,2,203.4,2,119.67,2,31.68,2,0,2,2.2,2,0.022,2,0.004,3,-999,9,-999,9,-999,9
  90KDIOFFE6_1,  S04P,712,1,7,7,2,19920303,48,-66.996,-103.453,4715,2836.4,0.8457,34.7091,2,34.7088,2,210.8,2,206,2,124.34,2,31.85,2,0,2,2.2,2,0.02,2,0.004,3,-999,9,-999,9,-999,9
  90KDIOFFE6_1,  S04P,712,1,6,6,2,19920303,48,-66.996,-103.453,4715,3142.4,0.7238,34.7044,2,34.7053,2,202.9,2,208.5,2,127.8,2,31.87,2,0,2,2.22,2,0.029,2,0.008,3,-999,9,-999,9,-999,9
  90KDIOFFE6_1,  S04P,712,1,5,5,2,19920303,48,-66.996,-103.453,4715,3552.1,0.5539,34.7013,2,34.7023,2,213.7,2,211.5,2,131.7,2,31.9,2,0,2,2.23,2,0.034,2,0.009,3,-999,9,-999,9,-999,9
  90KDIOFFE6_1,  S04P,712,1,4,4,2,19920303,48,-66.996,-103.453,4715,3961,0.424,34.7,2,34.7015,2,215.8,2,214.6,2,135.61,2,32.21,2,0,2,2.24,2,0.035,2,0.01,3,-999,9,-999,9,-999,9
  90KDIOFFE6_1,  S04P,712,1,3,3,2,19920303,48,-66.996,-103.453,4715,4372.7,0.364,34.6995,2,34.7007,2,215.9,2,216.8,2,138.3,2,32.24,2,0,2,2.24,2,0.047,2,0.013,3,-999,9,-999,9,-999,9
  90KDIOFFE6_1,  S04P,712,1,2,2,2,19920303,48,-66.996,-103.453,4715,4732,0.354,34.7001,2,34.7003,2,215.5,2,217.3,2,142.26,2,32.27,2,0,2,2.24,2,0.07,2,0.027,3,-999,9,-999,9,-999,9
  90KDIOFFE6_1,  S04P,712,1,1,1,2,19920303,48,-66.996,-103.453,4715,4802.3,0.356,34.6994,2,34.7007,2,216.9,2,-999,5,144.15,2,32.3,2,0,2,2.24,2,0.086,2,0.031,3,-999,9,-999,9,-999,9
  90KDIOFFE6_1,  S04P,713,1,23,23,2,19920303,804,-66.9857,-105.1675,4700,23.7,1.0555,33.8504,2,33.8505,2,331.4,3,339.7,2,18.46,2,24.71,2,0.26,2,1.71,2,-999,9,-999,9,-999,9,2135.6,2,-999,9
  90KDIOFFE6_1,  S04P,713,1,22,22,2,19920303,804,-66.9857,-105.1675,4700,104,0.1732,33.9624,2,33.9596,2,338.6,2,337.7,2,28.78,2,26.79,2,0.26,2,1.94,2,-999,9,-999,9,-999,9,2154.8,2,-999,9
  90KDIOFFE6_1,  S04P,713,1,21,21,2,19920303,804,-66.9857,-105.1675,4700,145.1,0.1282,34.0087,2,34.0107,2,331.9,2,329.3,2,34.23,2,28.27,2,0.16,2,1.98,2,-999,9,-999,9,-999,9,2163.8,2,-999,9
  90KDIOFFE6_1,  S04P,713,1,20,20,2,19920303,804,-66.9857,-105.1675,4700,204.7,0.7437,34.1253,2,34.1126,2,301,2,296.6,2,42.02,2,30.26,2,0.01,2,2.09,2,-999,9,-999,9,-999,9,2183.5,2,-999,9
  90KDIOFFE6_1,  S04P,713,1,19,19,2,19920303,804,-66.9857,-105.1675,4700,255.3,1.5452,34.2671,2,34.2634,2,245.5,2,244.7,2,54.29,2,32.53,2,0.01,2,2.25,2,-999,9,-999,9,-999,9,2212.6,2,-999,9
  90KDIOFFE6_1,  S04P,713,1,18,18,2,19920303,804,-66.9857,-105.1675,4700,305.7,1.78,34.3363,2,34.3374,2,222.2,2,221.6,2,60.52,2,33.44,2,0.01,2,2.31,2,-999,9,-999,9,-999,9,2225.3,2,-999,9
  90KDIOFFE6_1,  S04P,713,1,17,17,2,19920303,804,-66.9857,-105.1675,4700,355.4,1.9179,34.4006,2,34.407,2,193.5,2,203.5,2,65.97,2,33.89,2,0,2,2.35,2,-999,9,-999,9,-999,9,2235.2,2,-999,9
  90KDIOFFE6_1,  S04P,713,1,16,16,2,19920303,804,-66.9857,-105.1675,4700,456,2.0328,34.4883,2,34.4909,2,186.9,2,187.8,2,72.8,2,33.95,2,0,2,2.36,2,-999,9,-999,9,-999,9,2246.5,2,-999,9
  90KDIOFFE6_1,  S04P,713,1,15,15,2,19920303,804,-66.9857,-105.1675,4700,557.3,2.1138,34.5609,2,34.5589,2,180,2,179.3,2,77.67,2,33.73,2,0,2,2.34,2,-999,9,-999,9,-999,9,2252,2,-999,9
  90KDIOFFE6_1,  S04P,713,1,14,14,2,19920303,804,-66.9857,-105.1675,4700,706.7,2.0858,34.6171,2,34.6162,2,178.2,2,177.7,2,81.38,2,33.18,2,0,2,2.3,2,-999,9,-999,9,-999,9,2254.9,2,-999,9
  90KDIOFFE6_1,  S04P,713,1,13,13,2,19920303,804,-66.9857,-105.1675,4700,906.3,2.0308,34.6687,2,34.6692,2,177.6,2,179.3,2,84.69,2,32.31,2,0,2,2.24,2,-999,9,-999,9,-999,9,2255.2,2,-999,9
  90KDIOFFE6_1,  S04P,713,1,12,12,2,19920303,804,-66.9857,-105.1675,4700,1208.5,1.8609,34.7172,2,34.7184,2,186.2,2,186.3,2,91.16,2,31.25,2,0,2,2.18,2,-999,9,-999,9,-999,9,-999,9,-999,9
  90KDIOFFE6_1,  S04P,713,1,26,26,2,19920303,804,-66.9857,-105.1675,4700,1512.1,1.6261,34.7289,2,34.7292,2,194.7,2,192.5,2,98.45,2,31.09,2,0,2,2.14,2,-999,9,-999,9,-999,9,-999,9,-999,9
  90KDIOFFE6_1,  S04P,713,1,10,10,2,19920303,804,-66.9857,-105.1675,4700,1813,1.4153,34.7262,2,34.7266,2,197.9,2,195.7,2,104.98,2,31.11,2,0,2,2.17,2,-999,9,-999,9,-999,9,-999,9,-999,9
  90KDIOFFE6_1,  S04P,713,1,27,27,2,19920303,804,-66.9857,-105.1675,4700,2107.7,1.2364,34.7222,2,34.7217,2,199.1,2,198.8,2,110.74,2,31.36,2,0,2,2.17,2,-999,9,-999,9,-999,9,-999,9,-999,9
  90KDIOFFE6_1,  S04P,713,1,8,8,2,19920303,804,-66.9857,-105.1675,4700,2410.6,1.0605,34.7162,2,34.7164,2,201,2,202,2,116.11,2,31.48,2,0,2,2.2,2,-999,9,-999,9,-999,9,-999,9,-999,9
  90KDIOFFE6_1,  S04P,713,1,7,7,2,19920303,804,-66.9857,-105.1675,4700,2770,0.8866,34.709,2,34.7096,2,203.3,2,205.2,2,122.36,2,31.77,2,0,2,2.21,2,-999,9,-999,9,-999,9,-999,9,-999,9
  90KDIOFFE6_1,  S04P,713,1,6,6,2,19920303,804,-66.9857,-105.1675,4700,3127.6,0.7338,34.7055,2,34.7051,2,206.7,2,208.2,2,126.81,2,31.82,2,0,2,2.22,2,0.029,2,0.008,3,-999,9,-999,9,-999,9
  90KDIOFFE6_1,  S04P,713,1,5,5,2,19920303,804,-66.9857,-105.1675,4700,3488.9,0.5809,34.702,2,34.7027,2,204.4,2,211.2,2,130.25,2,31.99,2,0,2,2.24,2,0.032,2,0.006,3,-999,9,-999,9,-999,9
  90KDIOFFE6_1,  S04P,713,1,4,4,2,19920303,804,-66.9857,-105.1675,4700,3856.5,0.448,34.7012,2,34.7017,2,216,2,213.8,2,134.53,2,32.19,2,0,2,2.24,2,0.028,2,0.009,3,-999,9,-999,9,-999,9
  90KDIOFFE6_1,  S04P,713,1,3,3,2,19920303,804,-66.9857,-105.1675,4700,4219.3,0.379,34.6996,2,34.7009,2,214.3,2,216,2,137.04,2,32.21,2,0,2,2.25,2,0.054,4,0.012,3,-999,9,-999,9,-999,9
  90KDIOFFE6_1,  S04P,713,1,2,2,2,19920303,804,-66.9857,-105.1675,4700,4578.6,0.361,34.7006,2,34.7009,2,220.1,2,217,2,140.48,2,32.23,2,0,2,2.25,2,0.045,2,0.015,3,-999,9,-999,9,-999,9
  90KDIOFFE6_1,  S04P,713,1,1,1,2,19920303,804,-66.9857,-105.1675,4700,4791.6,0.359,34.7005,2,34.7013,2,222.2,2,217.2,2,144.21,2,32.25,2,0,2,2.25,2,0.078,6,0.023,3,-999,9,-999,9,-999,9
  90KDIOFFE6_1,  S04P,714,1,24,24,2,19920303,1529,-67.018,-106.8563,4177,12.8,0.8488,33.7436,2,33.7433,2,330.1,3,344.7,2,25.96,2,24.79,2,0.29,2,1.68,2,6.525,2,2.867,3,-999,9,2137.3,2,-999,9
  90KDIOFFE6_1,  S04P,714,1,23,23,2,19920303,1529,-67.018,-106.8563,4177,62.4,0.4649,33.8062,2,33.79,2,353.9,3,347,2,29.81,2,25.4,2,0.27,2,1.74,2,6.467,2,2.887,3,-999,9,2142.1,2,-999,9
  90KDIOFFE6_1,  S04P,714,1,22,22,2,19920303,1529,-67.018,-106.8563,4177,123.1,-0.7431,33.991,2,33.9925,2,330.9,2,328.4,2,42,2,28.88,2,0.05,2,2,2,5.942,2,2.643,3,-999,9,2171.9,2,-999,9
  90KDIOFFE6_1,  S04P,714,1,21,21,2,19920303,1529,-67.018,-106.8563,4177,182.7,0.0129,34.1479,2,34.1453,2,290.4,2,289.7,2,51.67,2,30.81,2,0.01,2,2.13,2,4.57,2,2.025,3,-999,9,-999,9,-999,9
  90KDIOFFE6_1,  S04P,714,1,20,20,2,19920303,1529,-67.018,-106.8563,4177,243.4,1.1054,34.3264,2,34.3202,2,207.4,2,239.3,2,63.28,2,32.74,2,0.01,2,2.28,2,2.769,2,1.22,3,-999,9,-999,9,-999,9
  90KDIOFFE6_1,  S04P,714,1,19,19,2,19920303,1529,-67.018,-106.8563,4177,302.6,1.7151,34.4579,2,34.4417,2,202.3,2,206.1,2,71.03,2,33.7,2,0.01,2,2.33,2,1.583,2,0.689,3,-999,9,-999,9,-999,9
  90KDIOFFE6_1,  S04P,714,1,18,18,2,19920303,1529,-67.018,-106.8563,4177,343.3,1.8748,34.503,2,34.4938,2,202.6,2,193.4,2,74.12,2,33.74,2,0,2,2.34,2,1.145,2,0.482,3,-999,9,-999,9,-999,9
  90KDIOFFE6_1,  S04P,714,1,17,17,2,19920303,1529,-67.018,-106.8563,4177,415.3,1.9881,34.5693,2,34.5689,2,185.7,2,181.7,2,78.38,2,33.4,2,0,2,2.33,2,0.627,2,0.251,3,-999,9,-999,9,-999,9
  90KDIOFFE6_1,  S04P,714,1,16,16,2,19920303,1529,-67.018,-106.8563,4177,506.1,1.8323,34.6034,2,34.6044,2,175.8,2,183.5,2,81.67,2,33.12,2,0,2,2.31,2,0.614,2,0.25,3,-999,9,-999,9,-999,9
  90KDIOFFE6_1,  S04P,714,1,15,15,2,19920303,1529,-67.018,-106.8563,4177,656.4,1.9426,34.6604,2,34.6603,2,175.9,2,179.5,2,84.38,2,32.22,2,0,2,2.25,2,0.336,2,0.126,3,-999,9,-999,9,-999,9
  90KDIOFFE6_1,  S04P,714,1,14,14,2,19920303,1529,-67.018,-106.8563,4177,805.4,1.9319,34.6921,2,34.6925,2,189.8,2,180.4,2,86.9,2,31.98,2,0,2,2.22,2,0.169,2,0.06,3,-999,9,-999,9,-999,9
  90KDIOFFE6_1,  S04P,714,1,13,13,2,19920303,1529,-67.018,-106.8563,4177,1004.2,1.8456,34.7175,2,34.7182,2,187.7,2,186.1,2,90.4,2,31.14,2,0,2,2.17,2,0.089,2,0.029,3,-999,9,-999,9,-999,9
  90KDIOFFE6_1,  S04P,714,1,12,12,2,19920303,1529,-67.018,-106.8563,4177,1252.8,1.6288,34.7296,2,34.7298,2,194.8,2,191.7,2,97.05,2,30.72,2,0,2,2.15,2,0.052,2,0.014,3,-999,9,-999,9,-999,9
  90KDIOFFE6_1,  S04P,714,1,26,26,2,19920303,1529,-67.018,-106.8563,4177,1498.1,1.4413,34.7289,2,34.7288,2,195,2,194.5,2,102.95,2,30.75,2,0,2,2.15,2,0.037,2,0.011,3,-999,9,-999,9,-999,9
  90KDIOFFE6_1,  S04P,714,1,10,10,2,19920303,1529,-67.018,-106.8563,4177,1749.6,1.2973,34.7252,2,34.7249,2,197.1,2,196.8,2,107.68,2,30.98,2,0,2,2.17,2,0.028,2,0.01,3,-999,9,-999,9,-999,9
  90KDIOFFE6_1,  S04P,714,1,27,27,2,19920303,1529,-67.018,-106.8563,4177,2005,1.1432,34.7198,2,34.7198,2,199.3,2,200.1,2,112.04,2,31.01,2,0,2,2.17,2,0.103,4,0.02,4,-999,9,-999,9,-999,9
  90KDIOFFE6_1,  S04P,714,1,8,8,2,19920303,1529,-67.018,-106.8563,4177,2258,0.9999,34.7145,2,34.7151,2,202.2,2,202.4,2,117.41,2,31.33,2,0,2,2.19,2,0.012,2,0.005,3,-999,9,-999,9,-999,9
  90KDIOFFE6_1,  S04P,714,1,7,7,2,19920303,1529,-67.018,-106.8563,4177,2511.7,0.9074,34.711,2,34.7113,2,206.7,2,204.4,2,120.4,2,31.51,2,0,2,2.2,2,0.026,2,0.01,3,-999,9,-999,9,-999,9
  90KDIOFFE6_1,  S04P,714,1,6,6,2,19920303,1529,-67.018,-106.8563,4177,2767.8,0.8129,34.7071,2,34.7076,2,205.1,2,206.3,2,124.21,2,31.5,2,0,2,2.21,2,0.031,2,0.012,3,-999,9,-999,9,-999,9
  90KDIOFFE6_1,  S04P,714,1,5,5,2,19920303,1529,-67.018,-106.8563,4177,3023.2,0.7293,34.7043,2,34.7043,2,206.5,2,207.9,2,127.03,2,31.72,2,0,2,2.22,2,0.032,2,0.012,3,-999,9,-999,9,-999,9
  90KDIOFFE6_1,  S04P,714,1,4,4,2,19920303,1529,-67.018,-106.8563,4177,3379.1,0.582,34.7021,2,34.7025,2,213.4,2,210.6,2,130.05,2,31.85,2,0,2,2.23,2,0.028,2,0.011,3,-999,9,-999,9,-999,9
  90KDIOFFE6_1,  S04P,714,1,3,3,2,19920303,1529,-67.018,-106.8563,4177,3736.9,0.4731,34.7008,2,34.7013,2,207.5,2,213.1,2,133.3,2,31.98,2,0,2,2.24,2,0.042,2,0.011,3,-999,9,-999,9,-999,9
  90KDIOFFE6_1,  S04P,714,1,2,2,2,19920303,1529,-67.018,-106.8563,4177,4044.2,0.3573,34.7005,2,34.7011,2,216.2,2,216,2,136.77,2,32.02,2,0,2,2.25,2,0.039,2,0.019,3,-999,9,-999,9,-999,9
  90KDIOFFE6_1,  S04P,714,1,1,1,2,19920303,1529,-67.018,-106.8563,4177,4209.3,0.3522,34.7007,2,34.7013,2,218.2,2,216.5,2,138.6,2,32.1,2,0,2,2.25,2,0.039,2,0.016,3,-999,9,-999,9,-999,9
  90KDIOFFE6_1,  S04P,715,1,24,24,2,19920304,148,-67.0073,-108.546,4561,14.9,0.4137,33.7607,2,33.7602,2,341.8,2,345.4,2,41.08,2,26.21,2,0.26,2,1.82,2,-999,9,-999,9,-999,9,2145,2,-999,9
  90KDIOFFE6_1,  S04P,715,1,23,23,2,19920304,148,-67.0073,-108.546,4561,44.8,0.3605,33.7869,2,33.7831,2,345.2,2,345.6,2,42.41,2,26.62,2,0.25,2,1.83,2,-999,9,-999,9,-999,9,2152.8,2,-999,9
  90KDIOFFE6_1,  S04P,715,1,22,22,2,19920304,148,-67.0073,-108.546,4561,105.6,-1.1439,34.0142,2,34.0102,2,343.6,2,324.9,2,50.21,2,29.07,2,0.2,2,2.05,2,-999,9,-999,9,-999,9,2182.5,2,-999,9
  90KDIOFFE6_1,  S04P,715,1,21,21,2,19920304,148,-67.0073,-108.546,4561,156,-0.848,34.1205,2,34.1176,2,293.7,2,300.6,2,56.49,2,30.52,2,0.01,2,2.14,2,-999,9,-999,9,-999,9,2198.5,2,-999,9
  90KDIOFFE6_1,  S04P,715,1,20,20,2,19920304,148,-67.0073,-108.546,4561,205.8,0.0539,34.2668,2,34.2601,2,273.3,2,264.9,2,62.97,2,31.92,2,0.01,2,2.23,2,-999,9,-999,9,-999,9,2216.8,2,-999,9
  90KDIOFFE6_1,  S04P,715,1,19,19,2,19920304,148,-67.0073,-108.546,4561,305.9,1.5899,34.5135,2,34.5138,2,198.3,2,196.8,2,76.92,2,33.7,2,0.01,2,2.35,2,-999,9,-999,9,-999,9,2248.5,2,-999,9
  90KDIOFFE6_1,  S04P,715,1,18,18,2,19920304,148,-67.0073,-108.546,4561,406.7,1.8705,34.6061,2,34.6063,2,186.7,2,182.7,2,81.71,2,33.31,2,0.01,2,2.33,2,-999,9,-999,9,-999,9,2253.1,2,-999,9
  90KDIOFFE6_1,  S04P,715,1,17,17,2,19920304,148,-67.0073,-108.546,4561,507.7,1.9838,34.655,2,34.6556,2,178,2,179.5,2,83.62,2,32.69,2,0,2,2.29,2,-999,9,-999,9,-999,9,2255.8,2,-999,9
  90KDIOFFE6_1,  S04P,715,1,16,16,2,19920304,148,-67.0073,-108.546,4561,608.5,1.9656,34.6783,2,34.6793,2,180,2,180.5,2,85.34,2,32.3,2,0,2,2.25,2,-999,9,-999,9,-999,9,2253.2,2,-999,9
  90KDIOFFE6_1,  S04P,715,1,15,15,2,19920304,148,-67.0073,-108.546,4561,707.8,1.9218,34.6983,2,34.6983,2,178.7,2,181.9,2,87.3,2,31.9,2,0.01,2,2.23,2,-999,9,-999,9,-999,9,2256.3,2,-999,9
  90KDIOFFE6_1,  S04P,715,1,14,14,2,19920304,148,-67.0073,-108.546,4561,807.7,1.8721,34.7121,2,34.7128,2,181.3,2,184.6,2,89.36,2,31.53,2,0,2,2.21,2,-999,9,-999,9,-999,9,2253.6,2,-999,9
  90KDIOFFE6_1,  S04P,715,1,13,13,2,19920304,148,-67.0073,-108.546,4561,1006.2,1.7363,34.7263,2,34.7271,2,194.2,2,189,2,93.8,2,31.33,2,0,2,2.19,2,-999,9,-999,9,-999,9,2253,2,-999,9
  90KDIOFFE6_1,  S04P,715,1,12,12,2,19920304,148,-67.0073,-108.546,4561,1308.1,1.5134,34.7297,2,34.7296,2,195.2,2,193.6,2,100.77,2,31.22,2,0,2,2.18,2,-999,9,-999,9,-999,9,2256.5,2,-999,9
  90KDIOFFE6_1,  S04P,715,1,26,26,2,19920304,148,-67.0073,-108.546,4561,1614.3,1.2963,34.7254,2,34.7252,2,204.8,2,197.1,2,107.59,2,31.33,2,0,2,2.19,2,-999,9,-999,9,-999,9,2258.3,2,-999,9
  90KDIOFFE6_1,  S04P,715,1,10,10,2,19920304,148,-67.0073,-108.546,4561,1917.8,1.1196,34.7196,2,34.7191,2,202.9,2,200.1,2,112.97,2,31.43,2,0,2,2.2,2,-999,9,-999,9,-999,9,2257.9,2,-999,9
  90KDIOFFE6_1,  S04P,715,1,27,27,2,19920304,148,-67.0073,-108.546,4561,2221.2,0.9587,34.7138,2,34.7136,2,208.4,2,203.1,2,118.4,2,31.89,2,0,2,2.21,2,-999,9,-999,9,-999,9,2259.9,2,-999,9
  90KDIOFFE6_1,  S04P,715,1,8,8,2,19920304,148,-67.0073,-108.546,4561,2524.6,0.8328,34.7092,2,34.7092,2,211,2,205.2,2,123.36,2,31.92,2,0,2,2.23,2,-999,9,-999,9,-999,9,2260.5,2,-999,9
  90KDIOFFE6_1,  S04P,715,1,7,7,2,19920304,148,-67.0073,-108.546,4561,2824.4,0.7012,34.7051,2,34.7055,2,208.2,2,207.7,2,127.55,2,32.13,2,0,2,2.23,2,-999,9,-999,9,-999,9,2262.2,2,-999,9
  90KDIOFFE6_1,  S04P,715,1,6,6,2,19920304,148,-67.0073,-108.546,4561,3125.7,0.5748,34.7022,2,34.7027,2,210.8,2,210.9,2,129.55,2,32.15,2,0,2,2.24,2,0.041,2,0.014,3,-999,9,2262,2,-999,9
  90KDIOFFE6_1,  S04P,715,1,5,5,2,19920304,148,-67.0073,-108.546,4561,3434.5,0.4644,34.7014,2,34.7017,2,212.3,2,213.1,2,132.9,2,32.05,2,0,2,2.24,2,0.027,2,0.011,3,-999,9,2263,2,-999,9
  90KDIOFFE6_1,  S04P,715,1,4,4,2,19920304,148,-67.0073,-108.546,4561,3747.2,0.3858,34.7007,2,34.7011,2,213.8,2,215.2,2,134.59,2,32.21,2,0,2,2.25,2,0.081,4,0.021,4,-999,9,2260.7,2,-999,9
  90KDIOFFE6_1,  S04P,715,1,3,3,2,19920304,148,-67.0073,-108.546,4561,4055.7,0.3447,34.7005,2,34.6999,2,216.5,2,216.2,2,138.04,2,32.28,2,0,2,2.26,2,0.04,2,0.016,3,-999,9,2263,2,-999,9
  90KDIOFFE6_1,  S04P,715,1,2,2,2,19920304,148,-67.0073,-108.546,4561,4364.5,0.3313,34.7,2,34.7006,2,217.1,2,216.8,2,141.92,2,32.22,2,0,2,2.25,2,0.047,2,0.02,3,-999,9,2263.3,2,-999,9
  90KDIOFFE6_1,  S04P,715,1,1,1,2,19920304,148,-67.0073,-108.546,4561,4645.5,0.3171,34.6999,2,34.7006,2,220.9,2,218.4,2,140.47,2,32.1,2,0,2,2.25,2,0.109,2,0.042,3,-999,9,2262.5,2,-999,9