BOTTLE,20181005JHS,,,,,,,,,,,,,,,,,,,,,,,,,,,,,,,,,,,,,,
EXPOCODE,SECT_ID,STNNBR,CASTNO,SAMPNO,BTLNBR,BTLNBR_FLAG_W,DATE,TIME,LATITUDE,LONGITUDE,DEPTH,CTDPRS,CTDTMP,CTDSAL,CTDSAL_FLAG_W,SALNTY,SALNTY_FLAG_W,CTDOXY,CTDOXY_FLAG_W,OXYGEN,OXYGEN_FLAG_W,SILCAT,SILCAT_FLAG_W,NITRAT,NITRAT_FLAG_W,NITRIT,NITRIT_FLAG_W,PHSPHT,PHSPHT_FLAG_W,CFC-11,CFC-11_FLAG_W,CFC-12,CFC-12_FLAG_W,SF6,SF6_FLAG_W,TCARBN,TCARBN_FLAG_W,ALKALI,ALKALI_FLAG_W
,,,,,,,,,,,,DBAR,ITS-90,PSS-78,,PSS-78,,UMOL/KG,,UMOL/KG,,UMOL/KG,,UMOL/KG,,UMOL/KG,,UMOL/KG,,PMOL/KG,,PMOL/KG,,FMOL/KG,,UMOL/KG,,UMOL/KG,
  90KDIOFFE6_1,  S04P,790,1,24,24,2,19920329,22,-66.0222,164.8027,2765,9.5,-1.0523,33.8657,2,33.8658,2,343.1,2,340.7,2,63.41,2,24.27,2,0.14,2,1.73,2,5.905,2,2.732,3,-999,9,2159.5,2,-999,9
  90KDIOFFE6_1,  S04P,790,1,23,23,2,19920329,22,-66.0222,164.8027,2765,33.4,-1.0595,33.8668,2,33.8681,2,338.4,2,340.4,2,63.4,2,24.26,2,0.14,2,1.73,2,5.952,2,2.762,3,-999,9,2162.1,2,-999,9
  90KDIOFFE6_1,  S04P,790,1,22,22,2,19920329,22,-66.0222,164.8027,2765,56,-1.2707,34.1356,2,34.2375,2,295.5,2,297.8,2,77.65,2,27.98,2,0.18,2,2.05,2,4.396,2,1.991,3,-999,9,2206.2,2,-999,9
  90KDIOFFE6_1,  S04P,790,1,21,21,2,19920329,22,-66.0222,164.8027,2765,97,-0.4552,34.5275,2,34.5297,2,263.2,2,247.8,2,90.69,2,31.09,2,0.04,2,2.22,2,2.528,2,1.131,3,-999,9,-999,9,-999,9
  90KDIOFFE6_1,  S04P,790,1,20,20,2,19920329,22,-66.0222,164.8027,2765,147.3,0.6872,34.6509,2,34.6509,2,196.6,2,206.5,2,96.16,2,31.71,2,0.02,2,2.27,2,0.972,2,0.419,3,-999,9,-999,9,-999,9
  90KDIOFFE6_1,  S04P,790,1,30,30,2,19920329,22,-66.0222,164.8027,2765,198,0.8808,34.678,2,34.677,2,202.6,2,202.2,2,98.89,2,31.85,2,0.02,2,2.26,2,0.713,2,0.297,3,-999,9,-999,9,-999,9
  90KDIOFFE6_1,  S04P,790,1,18,18,2,19920329,22,-66.0222,164.8027,2765,245.3,0.9699,34.6924,2,34.6931,2,206.9,2,198.7,2,100.99,2,31.69,2,0.02,2,2.26,2,0.515,2,0.196,3,-999,9,-999,9,-999,9
  90KDIOFFE6_1,  S04P,790,1,17,17,2,19920329,22,-66.0222,164.8027,2765,294.2,0.9696,34.6977,2,34.6978,2,198.3,2,198.7,2,102.88,2,31.54,2,0.02,2,2.26,2,0.417,2,0.162,3,-999,9,-999,9,-999,9
  90KDIOFFE6_1,  S04P,790,1,16,16,2,19920329,22,-66.0222,164.8027,2765,395.6,0.9538,34.7016,2,34.7007,2,199.5,2,200.1,2,105.63,2,31.59,2,0.01,2,2.25,2,0.359,2,0.136,3,-999,9,-999,9,-999,9
  90KDIOFFE6_1,  S04P,790,1,15,15,2,19920329,22,-66.0222,164.8027,2765,499.2,1.0175,34.7141,2,34.7149,2,197.8,2,197.2,2,108.8,2,31.53,2,0.01,2,2.25,2,0.148,2,0.054,3,-999,9,-999,9,-999,9
  90KDIOFFE6_1,  S04P,790,1,14,14,2,19920329,22,-66.0222,164.8027,2765,596.7,0.9645,34.7137,2,34.7151,2,201.9,2,198.4,2,111.12,2,31.67,2,0.01,2,2.26,2,0.109,2,0.034,3,-999,9,-999,9,-999,9
  90KDIOFFE6_1,  S04P,790,1,13,13,2,19920329,22,-66.0222,164.8027,2765,693.5,0.9163,34.7129,2,34.7141,2,198.9,2,198.9,2,113.88,2,31.75,2,0.01,2,2.26,2,0.081,2,0.028,3,-999,9,-999,9,-999,9
  90KDIOFFE6_1,  S04P,790,1,12,12,2,19920329,22,-66.0222,164.8027,2765,849.3,0.8065,34.7093,2,34.71,2,202,2,201.4,2,116.86,2,31.51,2,0.01,2,2.26,2,0.083,2,0.025,3,-999,9,-999,9,-999,9
  90KDIOFFE6_1,  S04P,790,1,26,26,2,19920329,22,-66.0222,164.8027,2765,999.1,0.7226,34.7068,2,34.7072,2,201.6,2,203.4,2,119.63,2,31.88,2,0.01,2,2.26,2,0.07,2,0.021,3,-999,9,-999,9,-999,9
  90KDIOFFE6_1,  S04P,790,1,10,10,2,19920329,22,-66.0222,164.8027,2765,1193.1,0.6147,34.7024,2,34.7031,2,204.2,2,205.6,2,122.4,2,31.77,2,0,2,2.27,2,0.088,2,0.027,3,-999,9,-999,9,-999,9
  90KDIOFFE6_1,  S04P,790,1,27,27,2,19920329,22,-66.0222,164.8027,2765,1393.5,0.5252,34.7012,2,34.7005,2,208.4,2,207.6,2,124.32,2,31.86,2,0,2,2.28,2,0.098,2,0.035,3,-999,9,-999,9,-999,9
  90KDIOFFE6_1,  S04P,790,1,8,8,2,19920329,22,-66.0222,164.8027,2765,1596.7,0.4334,34.6996,2,34.6998,2,211.4,2,210,2,125.59,2,31.89,2,0,2,2.28,2,0.137,2,0.05,3,-999,9,-999,9,-999,9
  90KDIOFFE6_1,  S04P,790,1,7,7,2,19920329,22,-66.0222,164.8027,2765,1790.6,0.3559,34.698,2,34.6984,2,213.3,2,212.4,2,126,2,31.84,2,0,2,2.28,2,0.193,6,0.072,3,-999,9,-999,9,-999,9
  90KDIOFFE6_1,  S04P,790,1,6,6,2,19920329,22,-66.0222,164.8027,2765,1999.1,0.2751,34.6971,2,34.6982,2,213.6,2,214.7,2,124.69,2,31.31,2,0,2,2.28,2,0.326,2,0.119,3,-999,9,-999,9,-999,9
  90KDIOFFE6_1,  S04P,790,1,29,29,2,19920329,22,-66.0222,164.8027,2765,2200.1,0.1946,34.6972,2,34.6976,2,217.3,2,217.9,2,120.58,2,31.25,2,0,2,2.27,2,0.516,2,0.206,3,-999,9,-999,9,-999,9
  90KDIOFFE6_1,  S04P,790,1,28,28,2,19920329,22,-66.0222,164.8027,2765,2396.5,0.1073,34.6954,2,34.6962,2,220.5,2,221.7,2,115.63,2,31.29,2,0,2,2.27,2,0.781,2,0.334,3,-999,9,-999,9,-999,9
  90KDIOFFE6_1,  S04P,790,1,3,3,2,19920329,22,-66.0222,164.8027,2765,2599.7,0.0368,34.6956,2,34.696,2,225.7,2,224.8,2,111.55,2,31.28,2,0,2,2.26,2,0.997,2,0.434,3,-999,9,-999,9,-999,9
  90KDIOFFE6_1,  S04P,790,1,2,2,2,19920329,22,-66.0222,164.8027,2765,2695.3,0.0101,34.697,2,34.697,2,226.6,2,226,2,109.82,2,31.32,2,0,2,2.27,2,1.118,2,0.473,3,-999,9,-999,9,-999,9
  90KDIOFFE6_1,  S04P,790,1,1,1,2,19920329,22,-66.0222,164.8027,2765,2767.2,-0.0315,34.6978,2,34.6974,2,227.6,2,227.4,2,108.52,2,31.2,2,0.01,2,2.26,2,1.229,6,0.529,3,-999,9,-999,9,-999,9
  90KDIOFFE6_1,  S04P,791,1,24,24,2,19920329,715,-66.2498,163.7243,2441,7.5,-1.3625,33.8993,2,33.8992,2,338.4,2,347.7,2,72.22,2,23.05,2,0.12,2,1.68,2,-999,9,-999,9,-999,9,2162.3,2,-999,9
  90KDIOFFE6_1,  S04P,791,1,23,23,2,19920329,715,-66.2498,163.7243,2441,32.1,-1.3729,33.9127,2,33.9135,2,345.2,2,346.9,2,72.63,2,22.89,2,0.12,2,1.69,2,-999,9,-999,9,-999,9,2160.6,2,-999,9
  90KDIOFFE6_1,  S04P,791,1,22,22,2,19920329,715,-66.2498,163.7243,2441,51.5,-1.3813,33.9228,2,33.9309,2,341.2,2,345.1,2,73.03,2,23.4,2,0.13,2,1.71,2,-999,9,-999,9,-999,9,2165.6,2,-999,9
  90KDIOFFE6_1,  S04P,791,1,21,21,2,19920329,715,-66.2498,163.7243,2441,97.9,-1.5513,34.4191,2,34.4217,2,306.5,2,288.4,2,84.71,2,29.83,2,0.21,2,2.17,2,-999,9,-999,9,-999,9,2222.8,2,-999,9
  90KDIOFFE6_1,  S04P,791,1,20,20,2,19920329,715,-66.2498,163.7243,2441,148.1,-0.3828,34.5411,2,34.5407,2,246.2,2,245.7,2,91.51,2,30.94,2,0.01,2,2.22,2,-999,9,-999,9,-999,9,2237.2,2,-999,9
  90KDIOFFE6_1,  S04P,791,1,30,30,2,19920329,715,-66.2498,163.7243,2441,195.6,0.3167,34.6146,2,34.614,2,219.5,2,222,2,94.69,2,31.21,2,0.01,2,2.24,2,-999,9,-999,9,-999,9,2245,2,-999,9
  90KDIOFFE6_1,  S04P,791,1,18,18,2,19920329,715,-66.2498,163.7243,2441,244.1,0.6541,34.656,2,34.6576,2,210.4,2,210,2,98.73,2,31.19,2,0.01,2,2.25,2,-999,9,-999,9,-999,9,2248.9,2,-999,9
  90KDIOFFE6_1,  S04P,791,1,17,17,2,19920329,715,-66.2498,163.7243,2441,294.4,0.7656,34.6752,2,34.6756,2,207.9,2,206.4,2,100.85,2,31.42,2,0.01,2,2.25,2,-999,9,-999,9,-999,9,2247.3,2,-999,9
  90KDIOFFE6_1,  S04P,791,1,16,16,2,19920329,715,-66.2498,163.7243,2441,399.5,0.8067,34.6856,2,34.6862,2,204.3,2,205.6,2,104.26,2,31.35,2,0,2,2.25,2,0.539,2,0.224,3,-999,9,2249.8,2,-999,9
  90KDIOFFE6_1,  S04P,791,1,15,15,2,19920329,715,-66.2498,163.7243,2441,495.7,0.8311,34.6949,2,34.6958,2,202.4,2,203.7,2,107.22,2,31.31,2,0,2,2.25,2,-999,9,-999,9,-999,9,2255.9,2,-999,9
  90KDIOFFE6_1,  S04P,791,1,14,14,2,19920329,715,-66.2498,163.7243,2441,599,0.8433,34.7022,2,34.7021,2,201.6,2,202.2,2,109.98,2,31.39,2,0,2,2.26,2,0.258,2,0.098,3,-999,9,2254.3,2,-999,9
  90KDIOFFE6_1,  S04P,791,1,13,13,2,19920329,715,-66.2498,163.7243,2441,700.7,0.7883,34.7001,2,34.7021,2,202.3,2,203.6,2,112.35,2,31.54,2,0,2,2.25,2,-999,9,-999,9,-999,9,2260,2,-999,9
  90KDIOFFE6_1,  S04P,791,1,12,12,2,19920329,715,-66.2498,163.7243,2441,848.6,0.728,34.7016,2,34.7029,2,203.8,2,204.2,2,116.43,2,31.67,2,0,2,2.27,2,0.171,2,0.06,3,-999,9,2258.4,2,-999,9
  90KDIOFFE6_1,  S04P,791,1,26,26,2,19920329,715,-66.2498,163.7243,2441,996.3,0.6574,34.7012,2,34.7021,2,205.4,2,205.3,2,119,2,31.61,2,0,2,2.27,2,-999,9,-999,9,-999,9,2259.8,2,-999,9
  90KDIOFFE6_1,  S04P,791,1,10,10,2,19920329,715,-66.2498,163.7243,2441,1198.6,0.5705,34.6995,2,34.7003,2,206.2,2,207.1,2,121.57,2,31.73,2,0,2,2.27,2,0.143,2,0.047,3,-999,9,2261.6,2,-999,9
  90KDIOFFE6_1,  S04P,791,1,27,27,2,19920329,715,-66.2498,163.7243,2441,1397.2,0.4717,34.6983,2,34.6992,2,208.7,2,209.1,2,123.71,2,31.76,2,0,2,2.28,2,-999,9,-999,9,-999,9,2259.9,2,-999,9
  90KDIOFFE6_1,  S04P,791,1,8,8,2,19920329,715,-66.2498,163.7243,2441,1597.2,0.387,34.6979,2,34.6972,2,209.9,2,211.1,2,124.98,2,31.94,2,0,2,2.29,2,0.195,2,0.064,3,-999,9,2258.7,2,-999,9
  90KDIOFFE6_1,  S04P,791,1,7,7,2,19920329,715,-66.2498,163.7243,2441,1798.7,0.2976,34.6973,2,34.6966,2,214.2,2,213.7,2,124.08,2,31.82,2,0,2,2.29,2,-999,9,-999,9,-999,9,2258.8,2,-999,9
  90KDIOFFE6_1,  S04P,791,1,6,6,2,19920329,715,-66.2498,163.7243,2441,1995,0.2255,34.6969,2,34.6982,2,215.9,2,216.1,2,123.61,2,31.85,2,0,2,2.29,2,0.428,2,0.161,3,-999,9,2254.2,2,-999,9
  90KDIOFFE6_1,  S04P,791,1,29,29,2,19920329,715,-66.2498,163.7243,2441,2199.5,0.1438,34.6974,2,34.6976,2,218.5,2,219.4,2,119.45,2,31.84,2,0,2,2.28,2,-999,9,-999,9,-999,9,2258.3,2,-999,9
  90KDIOFFE6_1,  S04P,791,1,28,28,2,19920329,715,-66.2498,163.7243,2441,2397.2,0.0277,34.6973,2,34.6978,2,223.7,2,224.4,2,112.5,2,31.63,2,0,2,2.26,2,1.008,2,0.431,3,-999,9,2253.4,2,-999,9
  90KDIOFFE6_1,  S04P,791,1,3,3,2,19920329,715,-66.2498,163.7243,2441,2456.4,-0.0107,34.6975,2,34.6966,2,225.6,2,224.8,2,111.39,2,31.55,2,0.01,2,2.26,2,1.114,2,0.475,3,-999,9,2256.8,2,-999,9
  90KDIOFFE6_1,  S04P,791,1,2,2,2,19920329,715,-66.2498,163.7243,2441,2458.3,-0.0115,34.698,2,34.697,2,225.5,2,225,2,111.36,2,31.63,2,0.01,2,2.26,2,1.113,2,0.472,3,-999,9,2256.4,2,-999,9
  90KDIOFFE6_1,  S04P,791,1,1,1,2,19920329,715,-66.2498,163.7243,2441,2459.2,-0.0116,34.698,2,34.6974,2,225.5,2,224.7,2,111.33,2,31.56,2,0.01,2,2.26,2,1.119,2,0.488,3,-999,9,2255.4,2,-999,9
  90KDIOFFE6_1,  S04P,792,1,18,18,2,19920329,1407,-66.3948,162.8973,1641,5.9,-1.6426,33.6947,2,33.6945,2,348.2,3,349.7,2,71.28,2,22.56,2,0.12,2,1.69,2,6.325,2,2.848,3,-999,9,2146.7,2,-999,9
  90KDIOFFE6_1,  S04P,792,1,17,17,2,19920329,1407,-66.3948,162.8973,1641,40.4,-1.6462,33.6956,2,33.6982,2,352.7,3,349.8,2,71.05,2,22.6,2,0.12,2,1.68,2,6.305,2,2.864,3,-999,9,2145.3,2,-999,9
  90KDIOFFE6_1,  S04P,792,1,16,16,2,19920329,1407,-66.3948,162.8973,1641,72.6,-1.4491,33.7904,2,33.7947,2,339,3,347.9,2,71.23,2,23.3,2,0.13,2,1.73,2,6.184,2,2.884,3,-999,9,2156.3,2,-999,9
  90KDIOFFE6_1,  S04P,792,1,15,15,2,19920329,1407,-66.3948,162.8973,1641,98.1,-1.2574,33.9618,2,33.9746,2,325.1,2,317.9,2,75.64,2,25.36,2,0.14,2,1.9,2,5.03,2,2.284,3,-999,9,2178.2,2,-999,9
  90KDIOFFE6_1,  S04P,792,1,14,14,2,19920329,1407,-66.3948,162.8973,1641,146.8,-1.2885,34.3744,2,34.3714,2,268.5,2,288.1,2,78.7,2,29.25,2,0.16,2,2.11,2,3.952,2,1.783,3,-999,9,2216.4,2,-999,9
  90KDIOFFE6_1,  S04P,792,1,13,13,2,19920329,1407,-66.3948,162.8973,1641,197.2,-1.1021,34.4386,2,34.4353,2,268.4,2,278.6,2,82.56,2,29.74,2,0.14,2,2.15,2,3.542,2,1.601,3,-999,9,2221.1,2,-999,9
  90KDIOFFE6_1,  S04P,792,1,12,12,2,19920329,1407,-66.3948,162.8973,1641,244.6,-0.1897,34.553,2,34.5548,2,236.6,2,240.3,2,91.65,2,30.63,2,0.07,2,2.21,2,2.108,2,0.923,3,-999,9,2239.2,2,-999,9
  90KDIOFFE6_1,  S04P,792,1,26,26,2,19920329,1407,-66.3948,162.8973,1641,295.7,0.2281,34.6103,2,34.6084,2,228.8,2,225.6,2,95.87,2,30.86,2,0.02,2,2.23,2,1.464,2,0.646,3,-999,9,2245.3,2,-999,9
  90KDIOFFE6_1,  S04P,792,1,10,10,2,19920329,1407,-66.3948,162.8973,1641,393,0.5845,34.6548,2,34.6539,2,210.7,2,213.2,2,99.68,2,31.16,2,0,2,2.24,2,0.932,2,0.402,3,-999,9,2247.5,2,-999,9
  90KDIOFFE6_1,  S04P,792,1,27,27,2,19920329,1407,-66.3948,162.8973,1641,495.3,0.7226,34.6746,2,34.6739,2,203.8,2,208.1,2,102.21,2,31.35,2,0,2,2.25,2,0.663,2,0.279,3,-999,9,2252.6,2,-999,9
  90KDIOFFE6_1,  S04P,792,1,8,8,2,19920329,1407,-66.3948,162.8973,1641,645.4,0.8031,34.6906,2,34.6904,2,205.6,2,205.1,2,106.45,2,31.24,2,0,2,2.25,2,0.448,2,0.175,3,-999,9,2255.8,2,-999,9
  90KDIOFFE6_1,  S04P,792,1,7,7,2,19920329,1407,-66.3948,162.8973,1641,796.4,0.7845,34.6975,2,34.697,2,205.4,2,204.3,2,110.49,2,31.24,2,0,2,2.25,2,0.315,2,0.122,3,-999,9,2258.5,2,-999,9
  90KDIOFFE6_1,  S04P,792,1,6,6,2,19920329,1407,-66.3948,162.8973,1641,998.6,0.6841,34.6997,2,34.6996,2,202.7,2,205.2,2,116.05,2,31.42,2,0,2,2.26,2,0.241,2,0.078,3,-999,9,2257.8,2,-999,9
  90KDIOFFE6_1,  S04P,792,1,29,29,2,19920329,1407,-66.3948,162.8973,1641,1197.7,0.5964,34.7001,2,34.6994,2,207.1,2,206.5,2,119.89,2,31.51,2,0,2,2.27,2,0.164,2,0.06,3,-999,9,2256.1,2,-999,9
  90KDIOFFE6_1,  S04P,792,1,28,28,2,19920329,1407,-66.3948,162.8973,1641,1400.3,0.4892,34.699,2,34.6978,2,210.9,2,208.7,2,122.46,2,31.7,2,0,2,2.28,2,0.178,2,0.06,3,-999,9,2257.4,2,-999,9
  90KDIOFFE6_1,  S04P,792,1,3,3,2,19920329,1407,-66.3948,162.8973,1641,1595.7,0.3856,34.6982,2,34.6966,2,210.4,2,211.1,2,123.29,2,31.64,2,0,2,2.28,2,0.239,2,0.084,3,-999,9,2260.6,2,-999,9
  90KDIOFFE6_1,  S04P,792,1,1,1,2,19920329,1407,-66.3948,162.8973,1641,1754.3,0.2929,34.6977,2,34.6968,2,212.9,2,213.3,2,123.48,2,31.58,2,0,2,2.29,2,0.332,2,0.126,3,-999,9,2260.5,2,-999,9
  90KDIOFFE6_1,  S04P,793,1,15,15,2,19920329,2022,-66.4003,162.7418,984,6.5,-1.5198,33.7507,2,33.7514,2,348.6,2,349.4,2,71.77,2,23.31,2,0.13,2,1.73,2,-999,9,-999,9,-999,9,2153.6,2,-999,9
  90KDIOFFE6_1,  S04P,793,1,14,14,2,19920329,2022,-66.4003,162.7418,984,36.8,-1.4641,33.7982,2,33.7958,2,342.4,2,347.9,2,71.75,2,23.55,2,0.13,2,1.73,2,6.021,2,2.741,3,-999,9,2154.6,2,-999,9
  90KDIOFFE6_1,  S04P,793,1,13,13,2,19920329,2022,-66.4003,162.7418,984,68.9,-1.4131,33.866,2,33.8673,2,339.9,2,337.5,2,72.78,2,24.02,2,0.14,2,1.78,2,5.465,2,2.49,3,-999,9,2162.6,2,-999,9
  90KDIOFFE6_1,  S04P,793,1,12,12,2,19920329,2022,-66.4003,162.7418,984,96.2,-1.2161,34.0563,2,34.0382,2,310.3,2,313.9,2,77.61,2,26.15,2,0.14,2,1.93,2,4.867,2,2.218,3,-999,9,-999,9,-999,9
  90KDIOFFE6_1,  S04P,793,1,26,26,2,19920329,2022,-66.4003,162.7418,984,143.7,-1.2063,34.37,2,34.3693,2,285,2,283.1,2,80.95,2,29.22,2,0.22,2,2.13,2,3.678,2,1.671,3,-999,9,-999,9,-999,9
  90KDIOFFE6_1,  S04P,793,1,10,10,2,19920329,2022,-66.4003,162.7418,984,198.4,-1.1064,34.4503,2,34.451,2,268.4,2,273.7,2,84.95,2,30.25,2,0.15,2,2.16,2,3.344,2,1.523,3,-999,9,-999,9,-999,9
  90KDIOFFE6_1,  S04P,793,1,27,27,2,19920329,2022,-66.4003,162.7418,984,248.2,-0.3558,34.5392,2,34.538,2,246.1,2,246.2,2,91.07,2,30.83,2,0.06,2,2.2,2,2.298,2,1.917,4,-999,9,-999,9,-999,9
  90KDIOFFE6_1,  S04P,793,1,8,8,2,19920329,2022,-66.4003,162.7418,984,294.8,0.1077,34.5936,2,34.593,2,233,2,230.1,2,95.07,2,30.93,2,0.04,2,2.22,2,1.627,2,0.712,3,-999,9,-999,9,-999,9
  90KDIOFFE6_1,  S04P,793,1,7,7,2,19920329,2022,-66.4003,162.7418,984,394.3,0.5857,34.6542,2,34.6532,2,211.8,2,213.7,2,99.73,2,31.15,2,0.01,2,2.24,2,0.9,2,0.394,3,-999,9,-999,9,-999,9
  90KDIOFFE6_1,  S04P,793,1,6,6,2,19920329,2022,-66.4003,162.7418,984,498.2,0.6678,34.6709,2,34.671,2,206.3,2,210,2,103.76,2,31.29,2,0.01,2,2.24,2,0.714,2,0.288,3,-999,9,-999,9,-999,9
  90KDIOFFE6_1,  S04P,793,1,29,29,2,19920329,2022,-66.4003,162.7418,984,642.6,0.7625,34.6868,2,34.6859,2,206,2,206.4,2,106.3,2,31.23,2,0.01,2,2.24,2,0.488,2,0.199,3,-999,9,-999,9,-999,9
  90KDIOFFE6_1,  S04P,793,1,28,28,2,19920329,2022,-66.4003,162.7418,984,794.4,0.7921,34.6983,2,34.6951,2,205,2,204.5,2,110.34,2,31.38,2,0,2,2.25,2,0.318,2,0.117,3,-999,9,-999,9,-999,9
  90KDIOFFE6_1,  S04P,793,1,3,3,2,19920329,2022,-66.4003,162.7418,984,997.6,0.7089,34.6997,2,34.6991,2,203.4,2,205,2,115.04,2,31.51,2,0,2,2.35,3,0.224,2,0.082,3,-999,9,-999,9,-999,9
  90KDIOFFE6_1,  S04P,793,1,1,1,2,19920329,2022,-66.4003,162.7418,984,1133.1,0.6763,34.6999,2,34.6998,2,206.2,2,205.7,2,116.53,2,31.51,2,0,2,2.27,2,0.217,2,0.077,3,-999,9,-999,9,-999,9
  90KDIOFFE6_1,  S04P,794,1,10,10,2,19920329,2327,-66.4193,162.686,408,9.2,-1.5044,33.7846,2,33.7847,2,352,2,349.7,2,71.72,2,23.45,2,0.13,2,1.73,2,6.099,2,2.814,3,-999,9,2154.1,2,-999,9
  90KDIOFFE6_1,  S04P,794,1,27,27,2,19920329,2327,-66.4193,162.686,408,39.4,-1.4443,33.8336,2,33.8279,2,342.3,2,345.9,2,71.92,2,23.57,2,0.13,2,1.74,2,5.953,2,2.762,3,-999,9,2159.4,2,-999,9
  90KDIOFFE6_1,  S04P,794,1,8,8,2,19920329,2327,-66.4193,162.686,408,70.5,-1.2899,33.9948,2,33.9946,2,317.7,2,319.7,2,76.78,2,25.64,2,0.13,2,1.9,2,-999,9,-999,9,-999,9,2172.6,2,-999,9
  90KDIOFFE6_1,  S04P,794,1,7,7,2,19920329,2327,-66.4193,162.686,408,95.6,-1.168,34.1222,2,34.0975,2,304.7,2,306.7,2,78.46,2,26.63,2,0.14,2,1.97,2,4.6,2,2.251,3,-999,9,2189.4,2,-999,9
  90KDIOFFE6_1,  S04P,794,1,6,6,2,19920329,2327,-66.4193,162.686,408,147.9,-1.2622,34.3928,2,34.3872,2,280.8,2,284.5,2,81.4,2,29.23,2,0.19,2,2.14,2,3.76,2,1.701,3,-999,9,2216.1,2,-999,9
  90KDIOFFE6_1,  S04P,794,1,29,29,2,19920329,2327,-66.4193,162.686,408,196.2,-0.696,34.4879,2,34.4859,2,254,2,261.4,2,87.12,2,30.28,2,0.13,2,2.18,2,2.844,2,1.285,3,-999,9,2231,2,-999,9
  90KDIOFFE6_1,  S04P,794,1,28,28,2,19920329,2327,-66.4193,162.686,408,260.7,-0.0387,34.5701,2,34.5663,2,233.9,2,237.8,2,92.21,2,30.85,2,0.07,2,2.21,2,1.954,2,0.858,3,-999,9,2238.9,2,-999,9
  90KDIOFFE6_1,  S04P,794,1,3,3,2,19920329,2327,-66.4193,162.686,408,318.3,0.3012,34.6158,2,34.6136,2,224.7,2,224.3,2,96.24,2,30.96,2,0.02,2,2.23,2,1.422,2,0.619,3,-999,9,2246.2,2,-999,9
  90KDIOFFE6_1,  S04P,794,1,1,1,2,19920329,2327,-66.4193,162.686,408,368.7,0.3146,34.6166,2,34.6155,2,224.6,2,223.7,2,96.23,2,31.12,2,0.02,2,2.24,2,1.364,2,0.603,3,-999,9,2244.3,2,-999,9