BOTTLE,20181005JHS,,,,,,,,,,,,,,,,,,,,,,,,,,,,,,,,,,,,,,
#BOTTLE,20040112WHPSIOSA,,,,,,,,,,,,,,,,,,,,,,,,,,,,,,,,,,,,,,
EXPOCODE,SECT_ID,STNNBR,CASTNO,SAMPNO,BTLNBR,BTLNBR_FLAG_W,DATE,TIME,LATITUDE,LONGITUDE,DEPTH,CTDPRS,CTDTMP,CTDSAL,CTDSAL_FLAG_W,SALNTY,SALNTY_FLAG_W,CTDOXY,CTDOXY_FLAG_W,OXYGEN,OXYGEN_FLAG_W,SILCAT,SILCAT_FLAG_W,NITRAT,NITRAT_FLAG_W,NITRIT,NITRIT_FLAG_W,PHSPHT,PHSPHT_FLAG_W,CFC-11,CFC-11_FLAG_W,CFC-12,CFC-12_FLAG_W,SF6,SF6_FLAG_W,TCARBN,TCARBN_FLAG_W,ALKALI,ALKALI_FLAG_W
,,,,,,,,,,,,DBAR,ITS-90,PSS-78,,PSS-78,,UMOL/KG,,UMOL/KG,,UMOL/KG,,UMOL/KG,,UMOL/KG,,UMOL/KG,,PMOL/KG,,PMOL/KG,,FMOL/KG,,UMOL/KG,,UMOL/KG,
  90KDIOFFE6_1,  S04P,682,1,8,8,2,19920222,2033,-67.4678,-70.0892,228,13.2,-0.0896,33.3128,2,33.3142,2,331.3,2,349.8,2,63.4,2,21.43,2,0.15,2,1.55,2,8.257,4,2.776,3,-999,9,2120.5,2,-999,9
  90KDIOFFE6_1,  S04P,682,1,7,7,2,19920222,2033,-67.4678,-70.0892,228,33.4,-0.0077,33.6091,2,33.611,2,307.8,2,336.9,2,62.31,2,23.28,2,0.13,2,1.69,2,7.568,4,2.686,3,-999,9,2147.1,2,-999,9
  90KDIOFFE6_1,  S04P,682,1,6,6,2,19920222,2033,-67.4678,-70.0892,228,53.2,-1.1118,33.7673,2,33.7587,2,308.6,2,307.3,2,71.89,2,25.63,2,0.19,2,1.86,2,5.899,3,2.167,3,-999,9,2169.1,2,-999,9
  90KDIOFFE6_1,  S04P,682,1,5,5,2,19920222,2033,-67.4678,-70.0892,228,78.7,-1.4715,33.9073,2,33.9139,2,289,2,298.6,2,74.23,2,27.38,2,0.23,2,1.94,2,5.576,3,2.063,3,-999,9,2192.7,2,-999,9
  90KDIOFFE6_1,  S04P,682,1,4,4,2,19920222,2033,-67.4678,-70.0892,228,103.2,-1.5325,34.0166,2,34.025,2,288.2,2,289.8,2,77.06,2,28.65,2,0.09,2,1.99,2,5.274,3,1.969,3,-999,9,2202.6,2,-999,9
  90KDIOFFE6_1,  S04P,682,1,3,3,2,19920222,2033,-67.4678,-70.0892,228,153.5,-0.2005,34.3359,2,34.3321,2,232.3,2,233.5,2,91.41,2,31.09,2,0.05,2,2.14,2,2.654,2,1.124,3,-999,9,-999,9,-999,9
  90KDIOFFE6_1,  S04P,682,1,2,2,2,19920222,2033,-67.4678,-70.0892,228,194.1,0.6388,34.517,2,34.5205,2,203.2,2,200.9,2,99.9,2,31.87,2,0.03,2,2.24,2,1.276,6,0.533,3,-999,9,2251.1,2,-999,9
  90KDIOFFE6_1,  S04P,682,1,1,1,2,19920222,2033,-67.4678,-70.0892,228,218.4,0.9796,34.5945,2,34.593,2,187.4,2,190,2,104.3,2,32.06,2,0.03,2,2.24,2,0.785,2,0.326,3,-999,9,2264.7,2,-999,9
  90KDIOFFE6_1,  S04P,683,1,19,19,2,19920222,2344,-67.1657,-71.1207,439,13.4,0.2621,33.5255,2,33.5226,2,335.9,2,342.6,2,58.26,2,22.01,2,0.13,2,1.58,2,6.168,2,2.796,3,-999,9,2128.9,2,-999,9
  90KDIOFFE6_1,  S04P,683,1,18,18,2,19920222,2344,-67.1657,-71.1207,439,29.2,0.0673,33.677,2,33.7018,2,337.9,2,332.7,2,58.46,2,23.76,2,0.13,2,1.67,2,5.752,2,2.534,3,-999,9,2149.1,2,-999,9
  90KDIOFFE6_1,  S04P,683,1,17,17,2,19920222,2344,-67.1657,-71.1207,439,59.4,-1.6933,33.9317,2,33.9365,2,299.3,2,297.7,2,72.15,2,27.54,2,0.24,2,1.94,2,4.676,2,2.094,3,-999,9,2189.1,2,-999,9
  90KDIOFFE6_1,  S04P,683,1,16,16,2,19920222,2344,-67.1657,-71.1207,439,78.3,-1.6334,33.9649,2,33.9666,2,295.6,2,295.3,2,73.67,2,28.16,2,0.22,2,1.94,2,4.608,2,2.05,3,-999,9,2192.7,2,-999,9
  90KDIOFFE6_1,  S04P,683,1,15,15,2,19920222,2344,-67.1657,-71.1207,439,104.2,-1.5425,34.0481,2,34.0477,2,283.3,2,286.4,2,75.17,2,28.76,2,0.03,2,1.98,2,4.419,2,1.948,3,-999,9,2203.2,2,-999,9
  90KDIOFFE6_1,  S04P,683,1,14,14,2,19920222,2344,-67.1657,-71.1207,439,153.8,-0.5792,34.2397,2,34.2544,2,247.7,2,246.5,2,85.63,2,30.69,2,0.01,2,2.13,2,3.005,2,1.319,3,-999,9,2228.3,2,-999,9
  90KDIOFFE6_1,  S04P,683,1,13,13,2,19920222,2344,-67.1657,-71.1207,439,204.8,0.3021,34.4413,2,34.4328,2,209.3,2,210.9,2,94.13,2,32.17,2,0.01,2,2.23,2,1.634,2,0.692,3,-999,9,2243.1,2,-999,9
  90KDIOFFE6_1,  S04P,683,1,12,12,2,19920222,2344,-67.1657,-71.1207,439,254.5,0.9116,34.5701,2,34.5685,2,186,2,186.8,2,99.81,2,32.87,2,0.01,2,2.26,2,0.763,2,0.321,3,-999,9,2252.3,2,-999,9
  90KDIOFFE6_1,  S04P,683,1,11,11,2,19920222,2344,-67.1657,-71.1207,439,305,1.2174,34.6447,2,34.6453,2,180.9,2,180.4,2,102.87,2,32.5,2,0.01,2,2.24,2,0.391,2,0.148,3,-999,9,2263.5,2,-999,9
  90KDIOFFE6_1,  S04P,683,1,10,10,2,19920222,2344,-67.1657,-71.1207,439,380.7,1.2943,34.6779,2,34.6824,2,180.6,2,179,2,107.92,2,32.38,2,0.01,2,2.23,2,0.223,2,0.079,3,-999,9,2265.9,2,-999,9
  90KDIOFFE6_1,  S04P,683,1,9,9,2,19920222,2344,-67.1657,-71.1207,439,438.7,1.3213,34.7026,2,34.7051,2,175,2,176,2,116.74,2,32.28,2,0.04,2,2.26,2,0.116,2,0.036,3,-999,9,2268.2,2,-999,9
  90KDIOFFE6_1,  S04P,684,1,11,11,2,19920223,1054,-66.8945,-71.9983,432,10.8,-0.1756,33.5477,2,33.5462,2,375.8,3,339.9,2,64.36,2,22.45,2,0.14,2,1.66,2,6.16,6,2.709,3,-999,9,2136,2,-999,9
  90KDIOFFE6_1,  S04P,684,1,10,10,2,19920223,1054,-66.8945,-71.9983,432,46.3,-1.4635,33.8814,2,33.8675,2,300.9,2,293.9,2,74.37,2,27.1,2,0.22,2,1.96,2,4.334,2,1.907,3,-999,9,2181.5,2,-999,9
  90KDIOFFE6_1,  S04P,684,1,9,9,2,19920223,1054,-66.8945,-71.9983,432,71,-1.5844,33.958,2,33.9573,2,280.8,2,288,2,77.16,2,28.27,2,0.19,2,2.05,2,4.316,2,1.902,3,-999,9,2192.1,2,-999,9
  90KDIOFFE6_1,  S04P,684,1,8,8,2,19920223,1054,-66.8945,-71.9983,432,91.8,-1.6454,33.9881,2,33.9899,2,292.2,2,291.3,2,74.49,2,28.52,2,0.09,2,2.06,2,4.551,2,2.038,3,-999,9,2195.6,2,-999,9
  90KDIOFFE6_1,  S04P,684,1,7,7,2,19920223,1054,-66.8945,-71.9983,432,126.4,-1.2377,34.0953,2,34.0906,2,270.7,2,265.7,2,84.51,2,29.47,2,0.02,2,2.12,2,3.621,2,1.583,3,-999,9,2211.2,2,-999,9
  90KDIOFFE6_1,  S04P,684,1,6,6,2,19920223,1054,-66.8945,-71.9983,432,162.4,-0.7071,34.2295,2,34.2079,3,251.8,2,253.5,2,83.58,2,30.42,2,0.01,2,2.18,2,3.285,2,1.431,3,-999,9,2221.1,2,-999,9
  90KDIOFFE6_1,  S04P,684,1,5,5,2,19920223,1054,-66.8945,-71.9983,432,202,0.1222,34.4024,2,34.3998,2,217.8,2,216.3,2,91.64,2,31.9,2,0.01,2,2.28,2,1.882,2,0.794,3,-999,9,2242.4,2,-999,9
  90KDIOFFE6_1,  S04P,684,1,4,4,2,19920223,1054,-66.8945,-71.9983,432,252.8,0.7847,34.5429,2,34.5445,2,194.5,2,191.6,2,99.72,2,32.79,2,0.01,2,2.34,2,0.93,6,0.375,3,-999,9,2255.4,2,-999,9
  90KDIOFFE6_1,  S04P,684,1,3,3,2,19920223,1054,-66.8945,-71.9983,432,302.8,1.1355,34.6304,2,34.6278,2,179.9,2,180.1,2,103.63,2,32.88,2,0.01,2,2.33,2,-999,9,-999,9,-999,9,2264.2,2,-999,9
  90KDIOFFE6_1,  S04P,684,1,2,2,2,19920223,1054,-66.8945,-71.9983,432,363,1.2564,34.6676,2,34.6611,3,175.1,2,179.7,2,107.99,2,32.38,2,0.01,2,2.3,2,0.272,2,0.1,3,-999,9,2261.1,2,-999,9
  90KDIOFFE6_1,  S04P,684,1,1,1,2,19920223,1054,-66.8945,-71.9983,432,417.2,1.2913,34.6819,2,34.6819,2,171.4,2,170.6,2,119.47,2,32.85,2,0.03,2,2.37,2,0.479,3,0.073,3,-999,9,2268.3,2,-999,9
  90KDIOFFE6_1,  S04P,685,1,14,14,2,19920223,1912,-66.814,-72.261,808,12.8,0.462,33.5877,2,33.5875,2,337.6,2,341.9,2,59.75,2,23.51,2,0.15,2,1.68,2,5.996,2,2.684,3,-999,9,2138.8,2,-999,9
  90KDIOFFE6_1,  S04P,685,1,13,13,2,19920223,1912,-66.814,-72.261,808,42.6,-0.0766,33.796,2,33.783,2,336.7,2,333.5,2,58.86,2,25.86,2,0.13,2,1.84,2,-999,9,-999,9,-999,9,2158.8,2,-999,9
  90KDIOFFE6_1,  S04P,685,1,12,12,2,19920223,1912,-66.814,-72.261,808,99.1,-1.4196,34.0642,2,34.0624,2,286.5,2,284.7,2,70.67,2,29.23,2,0.16,2,2.1,2,4.139,2,1.839,3,-999,9,2207.3,2,-999,9
  90KDIOFFE6_1,  S04P,685,1,11,11,2,19920223,1912,-66.814,-72.261,808,153.9,-0.6742,34.246,2,34.2428,2,246.8,2,248.4,2,84.24,2,30.79,2,0.01,2,2.17,2,-999,9,-999,9,-999,9,-999,9,-999,9
  90KDIOFFE6_1,  S04P,685,1,10,10,2,19920223,1912,-66.814,-72.261,808,204.5,0.2441,34.4144,2,34.4122,2,215.4,2,217.4,2,87.01,2,31.81,2,0.01,2,2.25,2,1.754,2,0.749,3,-999,9,-999,9,-999,9
  90KDIOFFE6_1,  S04P,685,1,9,9,2,19920223,1912,-66.814,-72.261,808,253.1,1.0775,34.5466,2,34.5443,2,195.3,2,195.2,2,88.06,2,32.44,2,0.01,2,2.29,2,-999,9,-999,9,-999,9,-999,9,-999,9
  90KDIOFFE6_1,  S04P,685,1,8,8,2,19920223,1912,-66.814,-72.261,808,313.4,1.5502,34.6418,2,34.6408,2,181.4,2,183.4,2,90.4,2,32.28,2,0.01,2,2.27,2,0.388,2,0.147,3,-999,9,2251.7,2,-999,9
  90KDIOFFE6_1,  S04P,685,1,7,7,2,19920223,1912,-66.814,-72.261,808,378.1,1.5382,34.6799,2,34.6786,2,183.2,2,183.5,2,95.57,2,31.78,2,0.02,2,2.26,2,-999,9,-999,9,-999,9,-999,9,-999,9
  90KDIOFFE6_1,  S04P,685,1,6,6,2,19920223,1912,-66.814,-72.261,808,454,1.6021,34.7092,2,34.7088,2,187.1,2,188.8,2,96.62,2,31.38,2,0.01,2,2.24,2,0.107,2,0.034,3,-999,9,2255.3,2,-999,9
  90KDIOFFE6_1,  S04P,685,1,5,5,2,19920223,1912,-66.814,-72.261,808,529.6,1.5232,34.7202,2,34.7211,2,189.8,2,188.8,2,99.2,2,31.14,2,0.01,2,2.22,2,0.014,3,0.007,3,-999,9,-999,9,-999,9
  90KDIOFFE6_1,  S04P,685,1,4,4,2,19920223,1912,-66.814,-72.261,808,605.1,1.3153,34.72,2,34.7217,2,194.7,2,193.3,2,105.9,2,31.03,2,0.01,2,2.21,2,0.036,2,0.008,3,-999,9,2253.5,2,-999,9
  90KDIOFFE6_1,  S04P,685,1,3,3,2,19920223,1912,-66.814,-72.261,808,681.2,1.0905,34.7175,2,34.7146,2,198.1,2,198.1,2,111.76,2,31.03,2,0,2,2.2,2,-999,9,-999,9,-999,9,-999,9,-999,9
  90KDIOFFE6_1,  S04P,685,1,2,2,2,19920223,1912,-66.814,-72.261,808,755.6,1.0865,34.7169,2,34.7173,2,199,2,198.6,2,112.95,2,31.31,2,0,2,2.23,2,0.018,2,0.001,3,-999,9,2260.6,2,-999,9
  90KDIOFFE6_1,  S04P,685,1,1,1,2,19920223,1912,-66.814,-72.261,808,811.6,1.0765,34.7169,2,34.7171,2,196.9,2,199,2,113.13,2,31.3,2,0,2,2.22,2,0.026,2,0.004,3,-999,9,2253.5,2,-999,9
  90KDIOFFE6_1,  S04P,686,1,18,18,2,19920223,2206,-66.7817,-72.2643,1536,14.4,0.402,33.579,2,33.5857,2,342.1,3,342.2,2,60.29,2,23.23,2,0.13,2,1.68,2,6.272,2,2.77,3,-999,9,2140.2,2,-999,9
  90KDIOFFE6_1,  S04P,686,1,17,17,2,19920223,2206,-66.7817,-72.2643,1536,44.8,0.2771,33.7855,2,33.7843,2,333.2,2,334.9,2,57.29,2,25.77,2,0.14,2,1.84,2,5.88,6,2.636,3,-999,9,2158.9,2,-999,9
  90KDIOFFE6_1,  S04P,686,1,16,16,2,19920223,2206,-66.7817,-72.2643,1536,88.3,-1.4895,34.046,2,34.0432,2,283.3,2,285.4,2,70.89,2,29.11,2,0.16,2,2.05,2,4.233,2,1.851,3,-999,9,-999,9,-999,9
  90KDIOFFE6_1,  S04P,686,1,15,15,2,19920223,2206,-66.7817,-72.2643,1536,125.8,-1.0009,34.1814,2,34.1805,2,263,2,262.9,2,75.01,2,30.26,2,0.03,2,2.12,2,3.445,2,1.492,3,-999,9,-999,9,-999,9
  90KDIOFFE6_1,  S04P,686,1,14,14,2,19920223,2206,-66.7817,-72.2643,1536,192.3,0.5919,34.439,2,34.4379,2,219.9,2,212.1,2,81.29,2,32.39,2,0.01,2,2.25,2,1.652,2,0.694,3,-999,9,2240.5,2,-999,9
  90KDIOFFE6_1,  S04P,686,1,12,12,2,19920223,2206,-66.7817,-72.2643,1536,356.3,1.732,34.6789,2,34.6816,2,180.1,2,179.9,2,90.18,2,32.1,2,0.01,2,2.24,2,0.207,6,0.073,3,-999,9,2256.9,2,-999,9
  90KDIOFFE6_1,  S04P,686,1,11,11,2,19920223,2206,-66.7817,-72.2643,1536,429.8,1.735,34.7018,2,34.7037,2,182.5,2,182.2,2,91.94,2,31.68,2,0.01,2,2.21,2,0.135,2,0.039,3,-999,9,-999,9,-999,9
  90KDIOFFE6_1,  S04P,686,1,10,10,2,19920223,2206,-66.7817,-72.2643,1536,503.8,1.6741,34.7117,2,34.7131,2,184.1,2,184.4,2,94.57,2,31.36,2,0,2,2.18,2,0.093,2,0.03,3,-999,9,2254.1,2,-999,9
  90KDIOFFE6_1,  S04P,686,1,9,9,2,19920223,2206,-66.7817,-72.2643,1536,598.6,1.5931,34.7194,2,34.718,2,187,2,187.4,2,97.21,2,31.13,2,0,2,2.18,2,0.065,2,0.024,3,-999,9,-999,9,-999,9
  90KDIOFFE6_1,  S04P,686,1,8,8,2,19920223,2206,-66.7817,-72.2643,1536,695.3,1.4882,34.7211,2,34.7197,2,189.9,2,189.8,2,100.28,2,31.06,2,0,2,2.17,2,0.048,2,0.018,3,-999,9,2259.2,2,-999,9
  90KDIOFFE6_1,  S04P,686,1,7,7,2,19920223,2206,-66.7817,-72.2643,1536,790.3,1.4123,34.7212,2,34.722,2,192.1,2,191.7,2,102.48,2,31.09,2,0,2,2.18,2,0.044,2,0.013,3,-999,9,-999,9,-999,9
  90KDIOFFE6_1,  S04P,686,1,6,6,2,19920223,2206,-66.7817,-72.2643,1536,885,1.2824,34.7202,2,34.7224,2,195.8,2,194.8,2,106.65,2,31.17,2,0,2,2.18,2,0.034,2,0.004,4,-999,9,2256.7,2,-999,9
  90KDIOFFE6_1,  S04P,686,1,5,5,2,19920223,2206,-66.7817,-72.2643,1536,1029.5,1.1235,34.7174,2,34.7198,2,198.8,2,198.4,2,111.49,2,31.25,2,0,2,2.18,2,-999,9,-999,9,-999,9,-999,9,-999,9
  90KDIOFFE6_1,  S04P,686,1,4,4,2,19920223,2206,-66.7817,-72.2643,1536,1176.2,1.0345,34.7146,2,34.7166,2,200.1,2,199.9,2,114.15,2,31.33,2,0,2,2.19,2,0.026,2,0.006,3,-999,9,-999,9,-999,9
  90KDIOFFE6_1,  S04P,686,1,3,3,2,19920223,2206,-66.7817,-72.2643,1536,1324,0.9626,34.7136,2,34.7127,2,201.1,2,201.6,2,116.59,2,31.26,2,0,2,2.19,2,0.033,3,0.005,3,-999,9,2258,2,-999,9
  90KDIOFFE6_1,  S04P,686,1,2,2,2,19920223,2206,-66.7817,-72.2643,1536,1426,0.9086,34.7105,2,34.7117,2,203.8,2,203.1,2,118.38,2,31.28,2,0,2,2.2,2,0.016,2,0.004,3,-999,9,2262,2,-999,9
  90KDIOFFE6_1,  S04P,686,1,1,1,2,19920223,2206,-66.7817,-72.2643,1536,1524.3,0.8667,34.7105,2,34.7105,2,202.9,2,203.2,2,119.95,2,31.36,2,0,2,2.2,2,0.017,2,0.004,3,-999,9,2258.8,2,-999,9
  90KDIOFFE6_1,  S04P,687,2,21,21,2,19920224,247,-66.7318,-72.2375,2387,12.7,0.363,33.5654,2,33.5628,2,-999,9,342.7,2,60.36,2,23.12,2,0.12,2,1.68,2,-999,9,-999,9,-999,9,2139.1,2,-999,9
  90KDIOFFE6_1,  S04P,687,2,20,20,2,19920224,247,-66.7318,-72.2375,2387,32.1,0.6968,33.7743,2,33.7737,2,-999,9,338.2,2,54.09,2,25.67,2,0.17,2,1.82,2,-999,9,-999,9,-999,9,2153.8,2,-999,9
  90KDIOFFE6_1,  S04P,687,2,19,19,2,19920224,247,-66.7318,-72.2375,2387,57.7,-1.1188,33.9147,2,33.9056,2,-999,9,325.8,2,51.47,2,27.32,2,0.13,2,1.96,2,-999,9,-999,9,-999,9,-999,9,-999,9
  90KDIOFFE6_1,  S04P,687,2,18,18,2,19920224,247,-66.7318,-72.2375,2387,82.2,-1.3546,34.008,2,34.0071,2,-999,9,307.9,2,52.93,2,28.89,2,0.21,2,2.05,2,-999,9,-999,9,-999,9,-999,9,-999,9
  90KDIOFFE6_1,  S04P,687,2,17,17,2,19920224,247,-66.7318,-72.2375,2387,150.7,0.7877,34.3828,2,34.3816,2,-999,9,218.7,2,71.72,2,32.33,2,0.01,2,2.28,2,-999,9,-999,9,-999,9,2234.2,2,-999,9
  90KDIOFFE6_1,  S04P,687,2,16,16,2,19920224,247,-66.7318,-72.2375,2387,198.2,1.6831,34.5448,2,34.5428,2,-999,9,185.9,2,79.61,2,33.15,2,0.01,2,2.34,2,-999,9,-999,9,-999,9,-999,9,-999,9
  90KDIOFFE6_1,  S04P,687,2,15,15,2,19920224,247,-66.7318,-72.2375,2387,247.5,1.6861,34.5902,2,34.5893,2,-999,9,182,2,83.21,2,32.78,2,0.01,2,2.31,2,-999,9,-999,9,-999,9,2259,2,-999,9
  90KDIOFFE6_1,  S04P,687,2,14,14,2,19920224,247,-66.7318,-72.2375,2387,287.2,1.9039,34.6335,2,34.6374,2,-999,9,176.8,2,84.45,2,32.66,2,0.01,2,2.29,2,-999,9,-999,9,-999,9,-999,9,-999,9
  90KDIOFFE6_1,  S04P,687,2,13,13,2,19920224,247,-66.7318,-72.2375,2387,347.7,1.74,34.659,2,34.6588,2,-999,9,179.6,2,88.49,2,32.09,2,0.01,2,2.26,2,-999,9,-999,9,-999,9,2255.7,2,-999,9
  90KDIOFFE6_1,  S04P,687,2,12,12,2,19920224,247,-66.7318,-72.2375,2387,449.6,1.776,34.6976,2,34.6977,2,-999,9,180.8,2,91.45,2,31.52,2,0.01,2,2.23,2,-999,9,-999,9,-999,9,-999,9,-999,9
  90KDIOFFE6_1,  S04P,687,2,11,11,2,19920224,247,-66.7318,-72.2375,2387,603.2,1.6741,34.7191,2,34.7174,2,-999,9,185.6,2,95.71,2,30.9,2,0.01,2,2.18,2,-999,9,-999,9,-999,9,2255.1,2,-999,9
  90KDIOFFE6_1,  S04P,687,2,10,10,2,19920224,247,-66.7318,-72.2375,2387,757,1.5332,34.7235,2,34.7241,2,-999,9,189.5,2,99.97,2,30.83,2,0.01,2,2.17,2,-999,9,-999,9,-999,9,-999,9,-999,9
  90KDIOFFE6_1,  S04P,687,2,9,9,2,19920224,247,-66.7318,-72.2375,2387,909.8,1.4073,34.7253,2,34.7258,2,-999,9,192.9,2,104.03,2,30.86,2,0,2,2.17,2,-999,9,-999,9,-999,9,2256.7,2,-999,9
  90KDIOFFE6_1,  S04P,687,2,8,8,3,19920224,247,-66.7318,-72.2375,2387,1059.7,1.2873,34.7266,2,34.7244,2,-999,9,195.8,2,107.66,2,30.79,2,0,2,2.1,3,-999,9,-999,9,-999,9,-999,9,-999,9
  90KDIOFFE6_1,  S04P,687,2,7,7,2,19920224,247,-66.7318,-72.2375,2387,1207.4,1.1614,34.7224,2,34.7273,3,-999,9,198,2,111.51,2,30.97,2,0,2,2.17,2,-999,9,-999,9,-999,9,2255.2,2,-999,9
  90KDIOFFE6_1,  S04P,687,2,6,6,2,19920224,247,-66.7318,-72.2375,2387,1356.8,1.0535,34.7185,2,34.7194,2,-999,9,200,2,114.94,2,31.09,2,0,2,2.18,2,0.016,2,0.004,3,-999,9,-999,9,-999,9
  90KDIOFFE6_1,  S04P,687,2,5,5,2,19920224,247,-66.7318,-72.2375,2387,1612.6,0.9276,34.7142,2,34.7133,2,-999,9,202.7,2,118.37,2,31.26,2,0,2,2.2,2,0.011,2,0.003,3,-999,9,2260.3,2,-999,9
  90KDIOFFE6_1,  S04P,687,2,4,4,2,19920224,247,-66.7318,-72.2375,2387,1814.7,0.8127,34.7102,2,34.7111,2,-999,9,204.7,2,122.47,2,31.49,2,0,2,2.19,2,-999,9,-999,9,-999,9,-999,9,-999,9
  90KDIOFFE6_1,  S04P,687,2,3,3,2,19920224,247,-66.7318,-72.2375,2387,2017.2,0.6648,34.7065,2,34.7058,2,-999,9,207.5,2,126.8,2,31.51,2,0,2,2.21,2,0.021,3,0.005,3,-999,9,2259.1,2,-999,9
  90KDIOFFE6_1,  S04P,687,2,2,2,2,19920224,247,-66.7318,-72.2375,2387,2220.8,0.5619,34.704,2,34.7038,2,-999,9,209.2,2,129.6,2,31.49,2,0,2,2.18,2,0.013,2,0.005,3,-999,9,2263.3,2,-999,9
  90KDIOFFE6_1,  S04P,687,2,1,1,2,19920224,247,-66.7318,-72.2375,2387,2410.4,0.4749,34.7038,2,34.6995,3,-999,9,210.9,2,132.85,2,31.81,2,0,2,2.21,2,0.019,2,0.008,3,-999,9,2261.8,2,-999,9