BOTTLE,20181005JHS,,,,,,,,,,,,,,,,,,,,,,,,,,,,,,,,,,,,,,
EXPOCODE,SECT_ID,STNNBR,CASTNO,SAMPNO,BTLNBR,BTLNBR_FLAG_W,DATE,TIME,LATITUDE,LONGITUDE,DEPTH,CTDPRS,CTDTMP,CTDSAL,CTDSAL_FLAG_W,SALNTY,SALNTY_FLAG_W,CTDOXY,CTDOXY_FLAG_W,OXYGEN,OXYGEN_FLAG_W,SILCAT,SILCAT_FLAG_W,NITRAT,NITRAT_FLAG_W,NITRIT,NITRIT_FLAG_W,PHSPHT,PHSPHT_FLAG_W,CFC-11,CFC-11_FLAG_W,CFC-12,CFC-12_FLAG_W,SF6,SF6_FLAG_W,TCARBN,TCARBN_FLAG_W,ALKALI,ALKALI_FLAG_W
,,,,,,,,,,,,DBAR,ITS-90,PSS-78,,PSS-78,,UMOL/KG,,UMOL/KG,,UMOL/KG,,UMOL/KG,,UMOL/KG,,UMOL/KG,,PMOL/KG,,PMOL/KG,,FMOL/KG,,UMOL/KG,,UMOL/KG,
  90KDIOFFE6_1,  S04P,786,1,24,24,2,19920327,310,-65.5897,168.9792,3238,9,-0.247,33.7321,2,33.7313,2,327.8,2,339.5,2,46.99,2,21.98,2,0.14,2,1.56,2,6.012,2,2.797,3,-999,9,2137.9,2,-999,9
  90KDIOFFE6_1,  S04P,786,1,23,23,2,19920327,310,-65.5897,168.9792,3238,41.7,-0.4032,33.7579,2,33.7388,2,351.3,2,339.9,2,47.4,2,22.22,2,0.14,2,1.56,2,6.056,2,2.801,3,-999,9,2141.8,2,-999,9
  90KDIOFFE6_1,  S04P,786,1,22,22,2,19920327,310,-65.5897,168.9792,3238,68.8,-1.444,34.2843,2,34.2865,2,324.2,2,290,2,75.7,2,29.31,2,0.17,2,2.17,2,4.301,2,1.962,3,-999,9,-999,9,-999,9
  90KDIOFFE6_1,  S04P,786,1,21,21,2,19920327,310,-65.5897,168.9792,3238,107.3,0.3033,34.5445,2,34.5427,2,226.1,2,222.5,2,87.56,2,31.46,2,0.04,2,2.3,2,1.834,2,0.818,3,-999,9,-999,9,-999,9
  90KDIOFFE6_1,  S04P,786,1,20,20,2,19920327,310,-65.5897,168.9792,3238,157.9,1.137,34.6707,2,34.6711,2,192.9,2,195.2,2,93.71,2,31.62,2,0.02,2,2.31,2,0.64,2,0.279,3,-999,9,-999,9,-999,9
  90KDIOFFE6_1,  S04P,786,1,30,30,2,19920327,310,-65.5897,168.9792,3238,201.9,1.2216,34.6944,2,34.6918,2,193.2,2,193.8,2,95.64,2,31.5,2,0.01,2,2.3,2,0.457,2,0.187,3,-999,9,-999,9,-999,9
  90KDIOFFE6_1,  S04P,786,1,18,18,2,19920327,310,-65.5897,168.9792,3238,253.5,1.2025,34.7026,2,34.7045,2,191.9,2,193.6,2,97.76,2,31.5,2,0.01,2,2.3,2,0.437,2,0.147,3,-999,9,-999,9,-999,9
  90KDIOFFE6_1,  S04P,786,1,17,17,2,19920327,310,-65.5897,168.9792,3238,313.9,1.2258,34.7129,2,34.7128,2,200,2,192.8,2,101.36,2,31.25,2,0.01,2,2.28,2,0.24,2,0.092,3,-999,9,-999,9,-999,9
  90KDIOFFE6_1,  S04P,786,1,16,16,2,19920327,310,-65.5897,168.9792,3238,394.5,1.1801,34.7152,2,34.7157,2,196.4,2,193.8,2,103.09,2,31.46,2,0,2,2.28,2,0.204,2,0.073,3,-999,9,-999,9,-999,9
  90KDIOFFE6_1,  S04P,786,1,15,15,2,19920327,310,-65.5897,168.9792,3238,493.5,1.1147,34.7171,2,34.7169,2,194.6,2,195.5,2,106.69,2,31.26,2,0,2,2.28,2,0.156,2,0.056,3,-999,9,-999,9,-999,9
  90KDIOFFE6_1,  S04P,786,1,14,14,2,19920327,310,-65.5897,168.9792,3238,595.1,1.0445,34.716,2,34.7161,2,198,2,197,2,109.68,2,31.35,2,0,2,2.28,2,0.118,2,0.042,3,-999,9,-999,9,-999,9
  90KDIOFFE6_1,  S04P,786,1,13,13,2,19920327,310,-65.5897,168.9792,3238,698.3,0.9813,34.7155,2,34.7155,2,196.5,2,197.6,2,112.68,2,31.5,2,0,2,2.29,2,0.064,3,0.017,4,-999,9,-999,9,-999,9
  90KDIOFFE6_1,  S04P,786,1,12,12,2,19920327,310,-65.5897,168.9792,3238,843,0.8941,34.7124,2,34.7118,2,200.4,2,199.9,2,115.26,2,31.31,2,0,2,2.28,2,0.075,2,0.026,3,-999,9,-999,9,-999,9
  90KDIOFFE6_1,  S04P,786,1,26,26,2,19920327,310,-65.5897,168.9792,3238,999.5,0.801,34.7098,2,34.7075,2,202.2,2,201.8,2,118.7,2,31.55,2,0,2,2.3,2,0.062,2,0.014,3,-999,9,-999,9,-999,9
  90KDIOFFE6_1,  S04P,786,1,10,10,2,19920327,310,-65.5897,168.9792,3238,1196,0.6874,34.7055,2,34.7044,2,203,2,204.1,2,121.59,2,31.85,2,0,2,2.28,2,0.058,2,0.02,3,-999,9,-999,9,-999,9
  90KDIOFFE6_1,  S04P,786,1,27,27,2,19920327,310,-65.5897,168.9792,3238,1449.6,0.5747,34.7028,2,34.7013,2,207.3,2,207.5,2,124.53,2,31.79,2,0,2,2.3,2,0.08,6,0.027,3,-999,9,-999,9,-999,9
  90KDIOFFE6_1,  S04P,786,1,8,8,2,19920327,310,-65.5897,168.9792,3238,1697.3,0.4754,34.7,2,34.6987,2,206.8,2,209.8,2,126.26,2,31.89,2,0,2,2.3,2,0.096,2,0.035,3,-999,9,-999,9,-999,9
  90KDIOFFE6_1,  S04P,786,1,7,7,2,19920327,310,-65.5897,168.9792,3238,1945.3,0.3632,34.697,2,34.6966,2,211.4,2,212.7,2,126.9,2,31.79,2,0,2,2.31,2,0.179,2,0.065,3,-999,9,-999,9,-999,9
  90KDIOFFE6_1,  S04P,786,1,6,6,2,19920327,310,-65.5897,168.9792,3238,2199.1,0.2783,34.6973,2,34.6964,2,212.9,2,215.2,2,125.59,2,31.74,2,0,2,2.31,2,0.312,2,0.121,3,-999,9,-999,9,-999,9
  90KDIOFFE6_1,  S04P,786,1,29,29,2,19920327,310,-65.5897,168.9792,3238,2445.6,0.1821,34.6948,2,34.6958,2,217.6,2,219.3,2,119.51,2,31.41,2,0,2,2.29,2,0.609,2,0.247,3,-999,9,-999,9,-999,9
  90KDIOFFE6_1,  S04P,786,1,28,28,2,19920327,310,-65.5897,168.9792,3238,2702.2,0.082,34.6943,2,34.6942,2,222.7,2,223.5,2,115.18,2,31.46,2,0,2,2.29,2,0.819,2,0.362,3,-999,9,-999,9,-999,9
  90KDIOFFE6_1,  S04P,786,1,3,3,2,19920327,310,-65.5897,168.9792,3238,2896.4,0.0005,34.6971,2,34.697,2,230.4,2,226.9,2,111.08,2,31.31,2,0,2,2.28,2,1.043,2,0.461,3,-999,9,-999,9,-999,9
  90KDIOFFE6_1,  S04P,786,1,2,2,2,19920327,310,-65.5897,168.9792,3238,3072.7,-0.0584,34.6977,2,34.698,2,230.7,2,229.7,2,107.36,2,31.17,2,0,2,2.27,2,1.314,2,0.587,3,-999,9,-999,9,-999,9
  90KDIOFFE6_1,  S04P,786,1,1,1,2,19920327,310,-65.5897,168.9792,3238,3252.9,-0.1063,34.6973,2,34.6976,2,234.5,2,232.1,2,104.41,2,31.16,2,0.01,2,2.26,2,1.536,6,0.682,3,-999,9,-999,9,-999,9
  90KDIOFFE6_1,  S04P,787,1,24,24,2,19920327,851,-65.327,167.9867,3116,8.5,-0.1736,33.7098,2,33.712,2,337.7,2,337.9,2,46.75,2,21.62,2,0.15,2,1.55,2,-999,9,-999,9,-999,9,2138.7,2,-999,9
  90KDIOFFE6_1,  S04P,787,1,23,23,2,19920327,851,-65.327,167.9867,3116,41,-0.3264,33.7744,2,33.735,2,329.7,2,335.7,2,48.02,2,22.01,2,0.15,2,1.56,2,-999,9,-999,9,-999,9,2141.5,2,-999,9
  90KDIOFFE6_1,  S04P,787,1,22,22,2,19920327,851,-65.327,167.9867,3116,68.3,-1.6154,34.2165,2,34.22,2,290.7,2,299.9,2,73.23,2,28.84,2,0.18,2,2.13,2,-999,9,-999,9,-999,9,2204.2,2,-999,9
  90KDIOFFE6_1,  S04P,787,1,21,21,2,19920327,851,-65.327,167.9867,3116,105.6,0.0613,34.5182,2,34.519,2,241.1,2,228.1,2,86.61,2,31.18,2,0.04,2,2.27,2,-999,9,-999,9,-999,9,2239.5,2,-999,9
  90KDIOFFE6_1,  S04P,787,1,20,20,2,19920327,851,-65.327,167.9867,3116,158.8,1.1025,34.6649,2,34.669,2,197,2,196.4,2,93.83,2,31.86,2,0.02,2,2.29,2,-999,9,-999,9,-999,9,2251.4,2,-999,9
  90KDIOFFE6_1,  S04P,787,1,30,30,2,19920327,851,-65.327,167.9867,3116,206.9,1.0935,34.6851,2,34.685,2,197.3,2,196.4,2,96.47,2,31.57,2,0.01,2,2.28,2,-999,9,-999,9,-999,9,2253.4,2,-999,9
  90KDIOFFE6_1,  S04P,787,1,18,18,2,19920327,851,-65.327,167.9867,3116,258.2,1.1634,34.7005,2,34.701,2,198.9,2,195.5,2,98.52,2,31.37,2,0.01,2,2.28,2,-999,9,-999,9,-999,9,2251.5,2,-999,9
  90KDIOFFE6_1,  S04P,787,1,17,17,3,19920327,851,-65.327,167.9867,3116,317.5,1.1994,34.7105,2,34.711,2,200.5,2,197.3,4,101.06,2,31.28,2,0,2,2.28,2,-999,9,-999,9,-999,9,2253.6,2,-999,9
  90KDIOFFE6_1,  S04P,787,1,16,16,3,19920327,851,-65.327,167.9867,3116,396.7,1.1654,34.7138,2,34.714,2,200.9,2,197.3,4,103.21,2,31.37,2,0,2,2.26,2,-999,9,-999,9,-999,9,2255.4,2,-999,9
  90KDIOFFE6_1,  S04P,787,1,15,15,3,19920327,851,-65.327,167.9867,3116,497.9,1.0795,34.7136,2,34.714,2,200.2,2,209,4,-999,9,-999,9,-999,9,-999,9,-999,9,-999,9,-999,9,2249.8,2,-999,9
  90KDIOFFE6_1,  S04P,787,1,14,14,3,19920327,851,-65.327,167.9867,3116,596.4,1.0255,34.7131,2,34.714,2,203,2,210.7,4,108.98,2,31.28,2,0,2,2.26,2,-999,9,-999,9,-999,9,-999,9,-999,9
  90KDIOFFE6_1,  S04P,787,1,13,13,3,19920327,851,-65.327,167.9867,3116,696.9,0.9686,34.7138,2,34.714,2,202.9,2,201.2,4,111.81,2,31.47,2,0,2,2.26,2,-999,9,-999,9,-999,9,2255.4,2,-999,9
  90KDIOFFE6_1,  S04P,787,1,12,12,2,19920327,851,-65.327,167.9867,3116,846.7,0.8667,34.7113,2,34.711,2,204.7,2,201.2,2,114.75,2,31.47,2,0,2,2.27,2,-999,9,-999,9,-999,9,2258.7,2,-999,9
  90KDIOFFE6_1,  S04P,787,1,26,26,2,19920327,851,-65.327,167.9867,3116,999.9,0.7727,34.7052,2,34.708,2,204.5,2,202.9,2,117.97,2,31.67,2,0,2,2.27,2,0.081,2,0.027,3,-999,9,2260.4,2,-999,9
  90KDIOFFE6_1,  S04P,787,1,10,10,2,19920327,851,-65.327,167.9867,3116,1197.8,0.6828,34.7042,2,34.705,2,206.1,2,204.6,2,121.69,2,31.57,2,0,2,2.28,2,-999,9,-999,9,-999,9,2258.3,2,-999,9
  90KDIOFFE6_1,  S04P,787,1,27,27,2,19920327,851,-65.327,167.9867,3116,1443.5,0.5819,34.7038,2,34.701,2,206.2,2,207.3,2,124.72,2,31.67,2,0,2,2.29,2,0.07,2,0.022,3,-999,9,2259.8,2,-999,9
  90KDIOFFE6_1,  S04P,787,1,8,8,2,19920327,851,-65.327,167.9867,3116,1697.9,0.464,34.6978,2,34.699,2,209.6,2,209.9,2,126.67,2,31.67,2,0,2,2.29,2,-999,9,-999,9,-999,9,2261.7,2,-999,9
  90KDIOFFE6_1,  S04P,787,1,7,7,2,19920327,851,-65.327,167.9867,3116,1948.7,0.366,34.6971,2,34.698,2,211.1,2,212,2,127.26,2,31.77,2,0,2,2.29,2,0.148,2,0.054,3,-999,9,2258.8,2,-999,9
  90KDIOFFE6_1,  S04P,787,1,6,6,2,19920327,851,-65.327,167.9867,3116,2197,0.2541,34.6961,2,34.695,2,214.5,2,215.9,2,126.18,2,31.57,2,0,2,2.29,2,-999,9,-999,9,-999,9,2257.1,2,-999,9
  90KDIOFFE6_1,  S04P,787,1,29,29,2,19920327,851,-65.327,167.9867,3116,2442,0.1532,34.6945,2,34.694,2,218.9,2,219.8,2,121.98,2,31.57,2,0,2,2.29,2,0.488,2,0.204,3,-999,9,2258.2,2,-999,9
  90KDIOFFE6_1,  S04P,787,1,28,28,2,19920327,851,-65.327,167.9867,3116,2696.3,0.0673,34.6945,2,34.695,2,222.9,2,223.8,2,115.92,2,31.18,2,0,2,2.27,2,-999,9,-999,9,-999,9,2254.7,2,-999,9
  90KDIOFFE6_1,  S04P,787,1,3,3,2,19920327,851,-65.327,167.9867,3116,2895.5,-0.0067,34.6974,2,34.697,2,228.5,2,226.8,2,111.82,2,31.18,2,0,2,2.27,2,1.057,2,0.453,3,-999,9,2254.9,2,-999,9
  90KDIOFFE6_1,  S04P,787,1,2,2,2,19920327,851,-65.327,167.9867,3116,2998.3,-0.0277,34.699,2,34.699,2,229.2,2,227.7,2,110.45,2,31.18,2,0,2,2.26,2,1.122,2,0.496,3,-999,9,2254.8,2,-999,9
  90KDIOFFE6_1,  S04P,787,1,1,1,2,19920327,851,-65.327,167.9867,3116,3119.2,-0.0497,34.6985,2,34.7,2,228.3,2,229,2,109.18,2,31.08,2,0,2,2.26,2,1.233,2,0.54,3,-999,9,2254.9,2,-999,9
  90KDIOFFE6_1,  S04P,788,1,24,24,2,19920327,2300,-65.4835,166.9028,3263,11.9,-0.4983,33.7586,2,33.759,2,337.7,2,340.4,2,46.95,2,22.3,2,0.14,2,1.55,2,5.881,2,2.736,3,-999,9,2139.9,2,-999,9
  90KDIOFFE6_1,  S04P,788,1,23,23,2,19920327,2300,-65.4835,166.9028,3263,30.1,-0.5473,33.7792,2,33.786,2,329.4,2,337.4,2,50.47,2,22.59,2,0.14,2,1.57,2,5.938,2,2.722,3,-999,9,2145.1,2,-999,9
  90KDIOFFE6_1,  S04P,788,1,22,22,2,19920327,2300,-65.4835,166.9028,3263,53.5,-1.5514,34.2632,2,34.255,2,297.3,2,298.1,2,74.7,2,29.23,2,0.16,2,2.15,2,4.504,2,2.035,3,-999,9,2209,2,-999,9
  90KDIOFFE6_1,  S04P,788,1,21,21,2,19920327,2300,-65.4835,166.9028,3263,93.4,0.0133,34.5003,2,34.498,2,225.4,2,235.1,2,85.73,2,31.57,2,0.05,2,2.26,2,2.3,2,1.034,3,-999,9,-999,9,-999,9
  90KDIOFFE6_1,  S04P,788,1,20,20,2,19920327,2300,-65.4835,166.9028,3263,145.8,0.7917,34.6511,2,34.65,2,193.1,2,204.7,2,94.32,2,31.96,2,0.01,2,2.28,2,0.933,2,0.404,3,-999,9,-999,9,-999,9
  90KDIOFFE6_1,  S04P,788,1,30,30,2,19920327,2300,-65.4835,166.9028,3263,196,1.1025,34.6931,2,34.694,2,194.7,2,194.7,2,97.74,2,31.67,2,0.01,2,2.28,2,0.468,2,0.191,3,-999,9,-999,9,-999,9
  90KDIOFFE6_1,  S04P,788,1,18,18,2,19920327,2300,-65.4835,166.9028,3263,244.7,1.1704,34.7045,2,34.706,2,193.7,2,193.4,2,100.09,2,31.47,2,0.01,2,2.28,2,0.392,2,0.125,3,-999,9,-999,9,-999,9
  90KDIOFFE6_1,  S04P,788,1,17,17,2,19920327,2300,-65.4835,166.9028,3263,298,1.1405,34.7092,2,34.71,2,192.3,2,193.8,2,102.14,2,31.47,2,0,2,2.28,2,0.274,2,0.107,3,-999,9,-999,9,-999,9
  90KDIOFFE6_1,  S04P,788,1,16,16,2,19920327,2300,-65.4835,166.9028,3263,391.7,1.1245,34.7148,2,34.716,2,196.1,2,194.7,2,105.36,2,31.37,2,0,2,2.27,2,0.181,2,0.062,3,-999,9,-999,9,-999,9
  90KDIOFFE6_1,  S04P,788,1,15,15,2,19920327,2300,-65.4835,166.9028,3263,489.5,1.0535,34.7126,2,34.714,2,195.3,2,196.4,2,107.71,2,31.47,2,0,2,2.27,2,0.16,2,0.057,3,-999,9,-999,9,-999,9
  90KDIOFFE6_1,  S04P,788,1,14,14,2,19920327,2300,-65.4835,166.9028,3263,598.2,0.9906,34.7124,2,34.714,2,194.2,2,197.3,2,110.64,2,31.47,2,0,2,2.27,2,0.128,2,0.046,3,-999,9,-999,9,-999,9
  90KDIOFFE6_1,  S04P,788,1,13,13,2,19920327,2300,-65.4835,166.9028,3263,693,0.9416,34.7126,2,34.713,2,196.7,2,198.1,2,112.79,2,31.57,2,0,2,2.28,2,0.106,2,0.041,3,-999,9,-999,9,-999,9
  90KDIOFFE6_1,  S04P,788,1,12,12,2,19920327,2300,-65.4835,166.9028,3263,845.2,0.8537,34.7086,2,34.71,2,201.1,2,200.7,2,115.53,2,31.77,2,0,2,2.28,2,0.087,2,0.025,3,-999,9,-999,9,-999,9
  90KDIOFFE6_1,  S04P,788,1,26,26,2,19920327,2300,-65.4835,166.9028,3263,995,0.7707,34.7075,2,34.708,2,203.2,2,202.9,2,118.56,2,31.67,2,0,2,2.28,2,0.074,2,0.022,3,-999,9,-999,9,-999,9
  90KDIOFFE6_1,  S04P,788,1,10,10,3,19920327,2300,-65.4835,166.9028,3263,1197.8,0.6608,34.7028,2,34.702,4,204.4,2,207.3,4,122.86,4,31.86,4,0,4,2.29,4,0.101,4,0.036,4,-999,9,-999,9,-999,9
  90KDIOFFE6_1,  S04P,788,1,27,27,2,19920327,2300,-65.4835,166.9028,3263,1446.3,0.5449,34.6982,2,34.699,2,206,2,207.7,2,124.33,2,31.96,2,0,2,2.29,2,0.095,6,0.032,3,-999,9,-999,9,-999,9
  90KDIOFFE6_1,  S04P,788,1,8,8,2,19920327,2300,-65.4835,166.9028,3263,1695.8,0.449,34.6975,2,34.699,2,210.4,2,209.9,2,126.48,2,32.06,2,0,2,2.29,2,0.11,2,0.036,3,-999,9,-999,9,-999,9
  90KDIOFFE6_1,  S04P,788,1,7,7,2,19920327,2300,-65.4835,166.9028,3263,1948.7,0.342,34.6966,2,34.697,2,214.2,2,212.5,2,127.16,2,31.96,2,0,2,2.28,2,0.176,2,0.062,3,-999,9,-999,9,-999,9
  90KDIOFFE6_1,  S04P,788,1,6,6,2,19920327,2300,-65.4835,166.9028,3263,2195.8,0.2591,34.6963,2,34.696,2,217.6,2,215.5,2,125.6,2,31.86,2,0,2,2.28,2,0.304,2,0.107,3,-999,9,-999,9,-999,9
  90KDIOFFE6_1,  S04P,788,1,29,29,2,19920327,2300,-65.4835,166.9028,3263,2445.4,0.1672,34.6941,2,34.695,2,219.8,2,219,2,121.49,2,31.86,2,0,2,2.28,2,0.483,2,0.204,3,-999,9,-999,9,-999,9
  90KDIOFFE6_1,  S04P,788,1,28,28,2,19920327,2300,-65.4835,166.9028,3263,2699.3,0.0643,34.695,2,34.695,2,224.6,2,223.3,2,115.82,2,31.77,2,0,2,2.28,2,0.786,2,0.326,3,-999,9,-999,9,-999,9
  90KDIOFFE6_1,  S04P,788,1,3,3,2,19920327,2300,-65.4835,166.9028,3263,2897.8,-0.0037,34.6969,2,34.697,2,226.3,2,226.8,2,112.21,2,31.67,2,0,2,2.27,2,1.015,6,0.444,3,-999,9,-999,9,-999,9
  90KDIOFFE6_1,  S04P,788,1,2,2,2,19920327,2300,-65.4835,166.9028,3263,3098.6,-0.0377,34.6991,2,34.698,2,226.9,2,228.5,2,109.57,2,31.57,2,0,2,2.26,2,1.15,2,0.517,3,-999,9,-999,9,-999,9
  90KDIOFFE6_1,  S04P,788,1,1,1,2,19920327,2300,-65.4835,166.9028,3263,3254,-0.0577,34.6986,2,34.699,2,229.4,2,229.4,2,108.49,2,31.57,2,0,2,2.26,2,1.356,2,0.591,3,-999,9,-999,9,-999,9
  90KDIOFFE6_1,  S04P,789,1,24,24,2,19920328,1838,-65.7707,165.8828,3035,7.7,-1.0173,33.817,2,33.8169,2,343.3,2,343.3,2,61.26,2,23.75,2,0.13,2,1.67,2,-999,9,-999,9,-999,9,2150.5,2,-999,9
  90KDIOFFE6_1,  S04P,789,1,23,23,2,19920328,1838,-65.7707,165.8828,3035,28,-1.0143,33.8172,2,33.8181,2,343.1,2,344.2,2,61.26,2,23.73,2,0.13,2,1.67,2,-999,9,-999,9,-999,9,2153.5,2,-999,9
  90KDIOFFE6_1,  S04P,789,1,22,22,2,19920328,1838,-65.7707,165.8828,3035,57.9,-1.3761,34.325,2,34.335,2,288.1,2,281,2,80.07,2,29.6,2,0.13,2,2.18,2,-999,9,-999,9,-999,9,2219.2,2,-999,9
  90KDIOFFE6_1,  S04P,789,1,21,21,2,19920328,1838,-65.7707,165.8828,3035,97,0.139,34.5802,2,34.5848,2,217.1,2,220.6,2,91.73,2,31.77,2,0.03,2,2.27,2,-999,9,-999,9,-999,9,2245.7,2,-999,9
  90KDIOFFE6_1,  S04P,789,1,20,20,2,19920328,1838,-65.7707,165.8828,3035,146.8,1.1528,34.6908,2,34.6938,2,191.3,2,193.9,2,96.83,2,31.81,2,0.01,2,2.28,2,-999,9,-999,9,-999,9,2253.1,2,-999,9
  90KDIOFFE6_1,  S04P,789,1,30,30,2,19920328,1838,-65.7707,165.8828,3035,194.5,1.1639,34.701,2,34.7007,2,193.9,2,193.5,2,98.54,2,31.77,2,0.01,2,2.27,2,-999,9,-999,9,-999,9,2254.6,2,-999,9
  90KDIOFFE6_1,  S04P,789,1,18,18,2,19920328,1838,-65.7707,165.8828,3035,247.6,1.1921,34.7114,2,34.7115,2,195.9,2,193.2,2,101.31,2,31.5,2,0,2,2.27,2,-999,9,-999,9,-999,9,2255.4,2,-999,9
  90KDIOFFE6_1,  S04P,789,1,17,17,2,19920328,1838,-65.7707,165.8828,3035,298.6,1.1725,34.7135,2,34.714,2,194.7,2,193.7,2,102.8,2,31.57,2,0,2,2.27,2,-999,9,-999,9,-999,9,2254.6,2,-999,9
  90KDIOFFE6_1,  S04P,789,1,16,16,2,19920328,1838,-65.7707,165.8828,3035,394.8,1.1174,34.7146,2,34.7154,2,196.4,2,195,2,105.58,2,31.44,2,0,2,2.26,2,-999,9,-999,9,-999,9,2256.1,2,-999,9
  90KDIOFFE6_1,  S04P,789,1,15,15,2,19920328,1838,-65.7707,165.8828,3035,493.2,1.0545,34.7145,2,34.7154,2,197.8,2,196.7,2,107.93,2,31.45,2,0,2,2.25,2,-999,9,-999,9,-999,9,2256.8,2,-999,9
  90KDIOFFE6_1,  S04P,789,1,14,14,2,19920328,1838,-65.7707,165.8828,3035,595.8,0.992,34.7136,2,34.714,2,198.2,2,198.1,2,110.5,2,31.37,2,0,2,2.26,2,-999,9,-999,9,-999,9,2256.6,2,-999,9
  90KDIOFFE6_1,  S04P,789,1,13,13,2,19920328,1838,-65.7707,165.8828,3035,693.2,0.9409,34.7129,2,34.7132,2,198.1,2,198.8,2,112.86,2,31.58,2,0,2,2.27,2,-999,9,-999,9,-999,9,2258.4,2,-999,9
  90KDIOFFE6_1,  S04P,789,1,12,12,2,19920328,1838,-65.7707,165.8828,3035,849.7,0.8511,34.7103,2,34.711,2,200,2,200.8,2,116.09,2,31.54,2,0,2,2.27,2,0.082,2,0.029,3,-999,9,2258.9,2,-999,9
  90KDIOFFE6_1,  S04P,789,1,26,26,2,19920328,1838,-65.7707,165.8828,3035,996.1,0.7691,34.7073,2,34.7077,2,202.6,2,202.6,2,118.67,2,31.6,2,0,2,2.27,2,0.074,2,0.022,3,-999,9,2261.2,2,-999,9
  90KDIOFFE6_1,  S04P,789,1,10,10,2,19920328,1838,-65.7707,165.8828,3035,1201.3,0.6624,34.704,2,34.7038,3,205.8,2,206.2,3,123.43,3,31.57,2,0,2,2.28,2,0.075,2,0.024,3,-999,9,-999,9,-999,9
  90KDIOFFE6_1,  S04P,789,1,27,27,2,19920328,1838,-65.7707,165.8828,3035,1447.5,0.5508,34.7014,2,34.7014,2,207.8,2,207.3,2,125.16,2,31.82,2,0,2,2.28,2,0.088,2,0.03,3,-999,9,2257,2,-999,9
  90KDIOFFE6_1,  S04P,789,1,8,8,2,19920328,1838,-65.7707,165.8828,3035,1699.2,0.4411,34.6984,2,34.699,2,209.3,2,210,2,126.9,2,31.74,2,0,2,2.29,2,0.117,2,0.04,3,-999,9,2260.2,2,-999,9
  90KDIOFFE6_1,  S04P,789,1,7,7,2,19920328,1838,-65.7707,165.8828,3035,1947,0.3531,34.6991,2,34.6994,2,212.5,2,212.4,2,126.46,2,31.66,2,0,2,2.29,2,-999,9,-999,9,-999,9,2261.3,2,-999,9
  90KDIOFFE6_1,  S04P,789,1,6,6,2,19920328,1838,-65.7707,165.8828,3035,2197.9,0.2548,34.6978,2,34.6976,2,215.6,2,215.8,2,123.85,2,31.58,2,0,2,2.29,2,0.431,2,0.163,3,-999,9,2258.5,2,-999,9
  90KDIOFFE6_1,  S04P,789,1,29,29,2,19920328,1838,-65.7707,165.8828,3035,2396.3,0.1751,34.6956,2,34.6947,2,219.4,2,219.1,2,119.95,2,31.54,2,0,2,2.28,2,-999,9,-999,9,-999,9,2255.8,2,-999,9
  90KDIOFFE6_1,  S04P,789,1,28,28,2,19920328,1838,-65.7707,165.8828,3035,2599.2,0.0979,34.6939,2,34.6937,2,223.1,2,222.4,2,115.63,2,31.32,2,0,2,2.27,2,0.838,2,0.355,3,-999,9,2254.3,2,-999,9
  90KDIOFFE6_1,  S04P,789,1,3,3,2,19920328,1838,-65.7707,165.8828,3035,2798.4,0.0052,34.6951,2,34.6949,2,226.5,2,226.4,2,110.9,2,31.33,2,0,2,2.27,2,1.138,2,0.488,3,-999,9,2253.6,2,-999,9
  90KDIOFFE6_1,  S04P,789,1,2,2,2,19920328,1838,-65.7707,165.8828,3035,2966.4,-0.0745,34.6965,2,34.6962,2,229.4,2,229.7,2,107.04,2,31.16,2,0,2,2.26,2,1.363,2,0.598,3,-999,9,2249,2,-999,9
  90KDIOFFE6_1,  S04P,789,1,1,1,2,19920328,1838,-65.7707,165.8828,3035,3128.4,-0.1181,34.6967,2,34.6968,2,232.5,2,231.4,2,105.54,2,31.12,2,0.01,2,2.25,2,1.549,2,0.672,3,-999,9,2252.1,2,-999,9