BOTTLE,20181005JHS,,,,,,,,,,,,,,,,,,,,,,,,,,,,,,,,,,,,,,
EXPOCODE,SECT_ID,STNNBR,CASTNO,SAMPNO,BTLNBR,BTLNBR_FLAG_W,DATE,TIME,LATITUDE,LONGITUDE,DEPTH,CTDPRS,CTDTMP,CTDSAL,CTDSAL_FLAG_W,SALNTY,SALNTY_FLAG_W,CTDOXY,CTDOXY_FLAG_W,OXYGEN,OXYGEN_FLAG_W,SILCAT,SILCAT_FLAG_W,NITRAT,NITRAT_FLAG_W,NITRIT,NITRIT_FLAG_W,PHSPHT,PHSPHT_FLAG_W,CFC-11,CFC-11_FLAG_W,CFC-12,CFC-12_FLAG_W,SF6,SF6_FLAG_W,TCARBN,TCARBN_FLAG_W,ALKALI,ALKALI_FLAG_W
,,,,,,,,,,,,DBAR,ITS-90,PSS-78,,PSS-78,,UMOL/KG,,UMOL/KG,,UMOL/KG,,UMOL/KG,,UMOL/KG,,UMOL/KG,,PMOL/KG,,PMOL/KG,,FMOL/KG,,UMOL/KG,,UMOL/KG,
  90KDIOFFE6_1,  S04P,772,1,24,24,2,19920322,413,-68.7035,171.4415,3265,15.4,-1.1731,33.8735,2,33.874,2,656.5,3,339.2,2,67.48,2,26.22,2,0.15,2,1.87,2,5.858,2,2.643,3,-999,9,2170.9,2,-999,9
  90KDIOFFE6_1,  S04P,772,1,23,23,2,19920322,413,-68.7035,171.4415,3265,45.7,-1.1623,33.8814,2,33.9086,3,332.8,3,333.1,2,68.27,2,26.5,2,0.14,2,1.89,2,5.617,2,2.541,3,-999,9,2172.4,2,-999,9
  90KDIOFFE6_1,  S04P,772,1,22,22,2,19920322,413,-68.7035,171.4415,3265,75.6,0.4649,34.5699,2,34.574,2,210.3,2,215.1,2,89.74,2,31.2,2,0.04,2,2.25,2,1.557,2,0.645,3,-999,9,2244.1,2,-999,9
  90KDIOFFE6_1,  S04P,772,1,21,21,2,19920322,413,-68.7035,171.4415,3265,104.5,0.9455,34.6428,2,34.6442,2,195.9,2,200.5,2,93.62,2,31.55,2,0.01,2,2.27,2,0.859,2,0.362,3,-999,9,-999,9,-999,9
  90KDIOFFE6_1,  S04P,772,1,20,20,2,19920322,413,-68.7035,171.4415,3265,155.4,1.2504,34.6926,2,34.6936,2,190.4,2,191.7,2,97.92,2,31.54,2,0.01,2,2.26,2,0.382,2,0.143,3,-999,9,-999,9,-999,9
  90KDIOFFE6_1,  S04P,772,1,19,19,2,19920322,413,-68.7035,171.4415,3265,206,1.2577,34.7051,2,34.7042,2,189.8,2,191.7,2,99.53,2,31.59,2,0.01,2,2.25,2,0.296,2,0.114,3,-999,9,-999,9,-999,9
  90KDIOFFE6_1,  S04P,772,1,18,18,2,19920322,413,-68.7035,171.4415,3265,257.2,1.2777,34.7125,2,34.7128,2,188.5,2,190.2,2,102.6,2,31.52,2,0,2,2.25,2,0.241,2,0.069,3,-999,9,-999,9,-999,9
  90KDIOFFE6_1,  S04P,772,1,17,17,2,19920322,413,-68.7035,171.4415,3265,307.1,1.2548,34.716,2,34.7167,2,190.9,2,190.1,2,104.43,2,31.73,2,0.01,2,2.24,2,0.148,2,0.049,3,-999,9,-999,9,-999,9
  90KDIOFFE6_1,  S04P,772,1,16,16,2,19920322,413,-68.7035,171.4415,3265,407,1.1961,34.718,2,34.7187,2,193.4,2,191.1,2,107.3,2,31.61,2,0,2,2.25,2,0.116,2,0.035,3,-999,9,-999,9,-999,9
  90KDIOFFE6_1,  S04P,772,1,15,15,2,19920322,413,-68.7035,171.4415,3265,609.3,1.0732,34.7177,2,34.7165,2,195.1,2,194.3,2,112.26,2,31.54,2,0,2,2.24,2,0.355,4,0.133,4,-999,9,-999,9,-999,9
  90KDIOFFE6_1,  S04P,772,1,14,14,2,19920322,413,-68.7035,171.4415,3265,810.6,0.9529,34.7142,2,34.7145,2,198.9,2,197.5,2,115.98,2,31.59,2,0,2,2.25,2,0.056,6,0.016,3,-999,9,-999,9,-999,9
  90KDIOFFE6_1,  S04P,772,1,13,13,2,19920322,413,-68.7035,171.4415,3265,1012,0.8385,34.7106,2,34.7106,2,199.8,2,200.7,2,119.5,2,31.63,2,0,2,2.26,2,0.042,2,0.014,3,-999,9,-999,9,-999,9
  90KDIOFFE6_1,  S04P,772,1,12,12,2,19920322,413,-68.7035,171.4415,3265,1213,0.755,34.7084,2,34.708,2,202.2,2,202.9,2,122.61,2,31.73,2,0,2,2.26,2,0.034,2,0.01,3,-999,9,-999,9,-999,9
  90KDIOFFE6_1,  S04P,772,1,26,26,2,19920322,413,-68.7035,171.4415,3265,1415.3,0.6645,34.7056,2,34.705,2,205.1,2,205.4,2,124.67,2,31.88,2,0,2,2.26,2,0.049,6,0.015,3,-999,9,-999,9,-999,9
  90KDIOFFE6_1,  S04P,772,1,10,10,2,19920322,413,-68.7035,171.4415,3265,1615.7,0.5974,34.7046,2,34.7034,2,206.4,2,206.7,2,126.74,2,31.86,2,0,2,2.27,2,0.043,2,0.014,3,-999,9,-999,9,-999,9
  90KDIOFFE6_1,  S04P,772,1,27,27,2,19920322,413,-68.7035,171.4415,3265,1815.9,0.5301,34.7031,2,34.7028,2,208.4,2,208.4,2,127.97,2,32.01,2,0,2,2.27,2,0.062,2,0.018,3,-999,9,-999,9,-999,9
  90KDIOFFE6_1,  S04P,772,1,8,8,2,19920322,413,-68.7035,171.4415,3265,2018.9,0.4471,34.7014,2,34.7017,2,211.2,2,210.4,2,129.41,2,31.83,2,0,2,2.27,2,0.103,2,0.033,3,-999,9,-999,9,-999,9
  90KDIOFFE6_1,  S04P,772,1,7,7,2,19920322,413,-68.7035,171.4415,3265,2220.6,0.3728,34.7001,2,34.7003,2,212.7,2,213.5,2,128.95,2,31.82,2,0,2,2.27,2,0.168,2,0.06,3,-999,9,-999,9,-999,9
  90KDIOFFE6_1,  S04P,772,1,6,6,2,19920322,413,-68.7035,171.4415,3265,2424.8,0.3005,34.698,2,34.6975,2,216.2,2,215.2,2,125.95,2,31.75,2,0,2,2.27,2,0.338,2,0.13,3,-999,9,-999,9,-999,9
  90KDIOFFE6_1,  S04P,772,1,29,29,2,19920322,413,-68.7035,171.4415,3265,2630.8,0.2383,34.6955,2,34.6953,2,218,2,218,2,122.76,2,31.79,2,0,2,2.26,2,0.498,2,0.203,3,-999,9,-999,9,-999,9
  90KDIOFFE6_1,  S04P,772,1,28,28,2,19920322,413,-68.7035,171.4415,3265,2835.2,0.1789,34.6942,2,34.6939,2,220.6,2,221.7,2,119.58,2,31.77,2,0,2,2.26,2,0.661,2,0.274,3,-999,9,-999,9,-999,9
  90KDIOFFE6_1,  S04P,772,1,3,3,2,19920322,413,-68.7035,171.4415,3265,3088.9,0.0999,34.6953,2,34.6947,2,224.3,2,223.8,2,113.91,2,31.64,2,0,2,2.25,2,0.957,2,0.411,3,-999,9,-999,9,-999,9
  90KDIOFFE6_1,  S04P,772,1,2,2,2,19920322,413,-68.7035,171.4415,3265,3191.2,0.0536,34.6949,2,34.6945,2,226.2,2,225.8,2,111.79,2,31.35,2,0,2,2.24,2,1.092,2,0.468,3,-999,9,-999,9,-999,9
  90KDIOFFE6_1,  S04P,772,1,1,1,2,19920322,413,-68.7035,171.4415,3265,3298.7,0.0217,34.6954,2,34.6955,2,227,2,226.9,2,110.93,2,31.34,2,0,2,2.24,2,1.183,2,0.504,3,-999,9,-999,9,-999,9
  90KDIOFFE6_1,  S04P,773,1,24,24,2,19920322,917,-69.1383,170.7685,2751,12.7,-1.1916,34.0157,2,34.0144,2,-999,9,341.4,2,70.01,2,26.9,2,0.14,2,1.94,2,-999,9,-999,9,-999,9,2176.4,2,-999,9
  90KDIOFFE6_1,  S04P,773,1,23,23,2,19920322,917,-69.1383,170.7685,2751,74.6,-1.1613,34.0331,2,34.0315,2,-999,9,339,2,70.21,2,27.07,2,0.14,2,1.95,2,-999,9,-999,9,-999,9,2182.7,2,-999,9
  90KDIOFFE6_1,  S04P,773,1,22,22,2,19920322,917,-69.1383,170.7685,2751,115.2,-1.4087,34.4063,2,34.4057,2,-999,9,279.6,2,80.62,2,29.68,2,0.11,2,2.15,2,-999,9,-999,9,-999,9,2224.2,2,-999,9
  90KDIOFFE6_1,  S04P,773,1,21,21,2,19920322,917,-69.1383,170.7685,2751,154.2,0.0484,34.5522,2,34.5417,2,-999,9,234.1,2,89.02,2,30.77,2,0.04,2,2.22,2,-999,9,-999,9,-999,9,2240,2,-999,9
  90KDIOFFE6_1,  S04P,773,1,20,20,2,19920322,917,-69.1383,170.7685,2751,204.5,0.5862,34.6372,2,34.6353,2,-999,9,212.6,2,96.83,2,31.12,2,0.01,2,2.24,2,-999,9,-999,9,-999,9,2251.7,2,-999,9
  90KDIOFFE6_1,  S04P,773,1,19,19,2,19920322,917,-69.1383,170.7685,2751,254.8,0.787,34.6691,2,34.6689,2,-999,9,204.7,2,100.55,2,31.28,2,0.01,2,2.24,2,-999,9,-999,9,-999,9,2254.9,2,-999,9
  90KDIOFFE6_1,  S04P,773,1,18,18,2,19920322,917,-69.1383,170.7685,2751,305.2,0.9298,34.688,2,34.6856,2,-999,9,200.1,2,102.62,2,31.39,2,0.01,2,2.25,2,-999,9,-999,9,-999,9,2254.5,2,-999,9
  90KDIOFFE6_1,  S04P,773,1,17,17,2,19920322,917,-69.1383,170.7685,2751,405.6,0.9384,34.6974,2,34.6962,2,-999,9,199.6,2,106.56,2,31.33,2,0.01,2,2.26,2,-999,9,-999,9,-999,9,2258.5,2,-999,9
  90KDIOFFE6_1,  S04P,773,1,16,16,2,19920322,917,-69.1383,170.7685,2751,506.7,0.9183,34.7024,2,34.7019,2,-999,9,199.3,2,109.47,2,31.54,2,0.01,2,2.25,2,-999,9,-999,9,-999,9,2258.7,2,-999,9
  90KDIOFFE6_1,  S04P,773,1,15,15,2,19920322,917,-69.1383,170.7685,2751,708.6,0.7856,34.7017,2,34.701,2,-999,9,202.4,2,114.68,2,31.33,2,0.01,2,2.26,2,-999,9,-999,9,-999,9,2258.1,2,-999,9
  90KDIOFFE6_1,  S04P,773,1,14,14,2,19920322,917,-69.1383,170.7685,2751,908.5,0.6774,34.7,2,34.6996,2,-999,9,204.8,2,118.87,2,31.59,2,0.01,2,2.26,2,-999,9,-999,9,-999,9,2260,2,-999,9
  90KDIOFFE6_1,  S04P,773,1,13,13,2,19920322,917,-69.1383,170.7685,2751,1110.9,0.5718,34.6974,2,34.6969,2,-999,9,207.6,2,121.19,2,31.64,2,0.01,2,2.26,2,-999,9,-999,9,-999,9,2258.9,2,-999,9
  90KDIOFFE6_1,  S04P,773,1,12,12,2,19920322,917,-69.1383,170.7685,2751,1312.6,0.4905,34.6985,2,34.6985,2,-999,9,209.1,2,124.35,2,31.37,2,0.01,2,2.27,2,-999,9,-999,9,-999,9,-999,9,-999,9
  90KDIOFFE6_1,  S04P,773,1,26,26,2,19920322,917,-69.1383,170.7685,2751,1514.1,0.4134,34.7007,2,34.6995,2,-999,9,210.7,2,127.52,2,31.37,2,0.01,2,2.27,2,-999,9,-999,9,-999,9,-999,9,-999,9
  90KDIOFFE6_1,  S04P,773,1,10,10,2,19920322,917,-69.1383,170.7685,2751,1716.6,0.3325,34.6991,2,34.6985,2,-999,9,213.1,2,127.11,2,31.37,2,0.01,2,2.27,2,0.235,2,0.082,3,-999,9,-999,9,-999,9
  90KDIOFFE6_1,  S04P,773,1,27,27,2,19920322,917,-69.1383,170.7685,2751,1817.7,0.266,34.6972,2,34.6958,2,-999,9,215.7,2,123.95,2,31.26,2,0,2,2.26,2,-999,9,-999,9,-999,9,-999,9,-999,9
  90KDIOFFE6_1,  S04P,773,1,8,8,2,19920322,917,-69.1383,170.7685,2751,1920.1,0.2273,34.6964,2,34.6956,2,-999,9,216.9,2,122.91,2,31.52,2,0,2,2.26,2,0.458,2,0.187,3,-999,9,-999,9,-999,9
  90KDIOFFE6_1,  S04P,773,1,7,7,2,19920322,917,-69.1383,170.7685,2751,2123.6,0.1382,34.695,2,34.6939,2,-999,9,220.2,2,117.88,2,31.47,2,0,2,2.26,2,-999,9,-999,9,-999,9,-999,9,-999,9
  90KDIOFFE6_1,  S04P,773,1,6,6,2,19920322,917,-69.1383,170.7685,2751,2326.3,0.0527,34.6946,2,34.6933,2,-999,9,223.3,2,115.38,2,31.46,2,0,2,2.26,2,0.888,2,0.367,3,-999,9,-999,9,-999,9
  90KDIOFFE6_1,  S04P,773,1,29,29,2,19920322,917,-69.1383,170.7685,2751,2429.6,0.0044,34.6952,2,34.694,2,-999,9,225.3,2,113.3,2,31.35,2,0,2,2.25,2,-999,9,-999,9,-999,9,-999,9,-999,9
  90KDIOFFE6_1,  S04P,773,1,28,28,2,19920322,917,-69.1383,170.7685,2751,2529.8,-0.0179,34.6958,2,34.6944,2,-999,9,226.6,2,111.85,2,31.29,2,0,2,2.24,2,1.106,2,0.468,3,-999,9,-999,9,-999,9
  90KDIOFFE6_1,  S04P,773,1,3,3,2,19920322,917,-69.1383,170.7685,2751,2634.3,-0.0483,34.6999,2,34.6997,2,-999,9,228.6,2,108.11,2,31.13,2,0,2,2.24,2,1.313,2,0.557,3,-999,9,-999,9,-999,9
  90KDIOFFE6_1,  S04P,773,1,2,2,2,19920322,917,-69.1383,170.7685,2751,2734.6,-0.109,34.7047,2,34.7038,2,-999,9,231.6,2,104.8,2,30.97,2,0,2,2.22,2,1.544,2,0.656,3,-999,9,-999,9,-999,9
  90KDIOFFE6_1,  S04P,773,1,1,1,2,19920322,917,-69.1383,170.7685,2751,2782.8,-0.1363,34.7071,2,34.7068,2,-999,9,233.1,2,103.15,2,30.76,2,0,2,2.22,2,1.651,2,0.697,3,-999,9,-999,9,-999,9
  90KDIOFFE6_1,  S04P,774,1,24,24,2,19920322,1450,-69.5822,169.977,2767,11.4,-1.5993,34.0645,2,34.0684,2,-999,9,353.6,2,72.48,2,27.5,2,0.12,2,1.99,2,6.299,2,2.868,3,-999,9,2184.4,2,-999,9
  90KDIOFFE6_1,  S04P,774,1,23,23,2,19920322,1450,-69.5822,169.977,2767,87.6,-1.5319,34.1245,2,34.1273,2,-999,9,355,2,72.67,2,27.58,2,0.11,2,2.01,2,6.391,2,2.881,3,-999,9,2189.3,2,-999,9
  90KDIOFFE6_1,  S04P,774,1,22,22,2,19920322,1450,-69.5822,169.977,2767,143.7,-1.5528,34.1827,2,34.188,2,-999,9,354.6,2,73.27,2,27.66,2,0.11,2,2.02,2,6.367,2,2.851,3,-999,9,-999,9,-999,9
  90KDIOFFE6_1,  S04P,774,1,21,21,2,19920322,1450,-69.5822,169.977,2767,213.5,-1.1321,34.3423,2,34.3441,2,-999,9,309.4,2,78.56,2,28.69,2,0.08,2,2.09,2,4.65,2,2.123,3,-999,9,-999,9,-999,9
  90KDIOFFE6_1,  S04P,774,1,20,20,2,19920322,1450,-69.5822,169.977,2767,253.7,-0.4722,34.4922,2,34.4917,2,-999,9,259.9,2,87.15,2,30.51,2,0.05,2,2.16,2,2.883,2,1.253,3,-999,9,-999,9,-999,9
  90KDIOFFE6_1,  S04P,774,1,19,19,2,19920322,1450,-69.5822,169.977,2767,303.7,0.1311,34.5857,2,34.5864,2,-999,9,229.8,2,93.92,2,31.13,2,0.03,2,2.21,2,1.753,2,0.751,3,-999,9,-999,9,-999,9
  90KDIOFFE6_1,  S04P,774,1,18,18,2,19920322,1450,-69.5822,169.977,2767,353.7,0.5911,34.6468,2,34.6474,2,-999,9,211.1,2,98.65,2,31.59,2,0,2,2.24,2,0.996,2,0.425,3,-999,9,-999,9,-999,9
  90KDIOFFE6_1,  S04P,774,1,17,17,2,19920322,1450,-69.5822,169.977,2767,404,0.5912,34.6522,2,34.6533,2,-999,9,210.7,2,100.09,2,31.65,2,0.01,2,2.24,2,0.967,2,0.406,3,-999,9,-999,9,-999,9
  90KDIOFFE6_1,  S04P,774,1,16,16,2,19920322,1450,-69.5822,169.977,2767,506.4,0.6814,34.6719,2,34.6725,2,-999,9,206.9,2,104.21,2,31.62,2,0,2,2.24,2,0.733,2,0.293,3,-999,9,-999,9,-999,9
  90KDIOFFE6_1,  S04P,774,1,15,15,2,19920322,1450,-69.5822,169.977,2767,606.2,0.7947,34.6921,2,34.6925,2,-999,9,202.7,2,109.81,2,31.69,2,0,2,2.24,2,0.405,2,0.165,3,-999,9,-999,9,-999,9
  90KDIOFFE6_1,  S04P,774,1,14,14,2,19920322,1450,-69.5822,169.977,2767,707.5,0.7661,34.6929,2,34.6933,2,-999,9,203.4,2,111.05,2,31.81,2,0,2,2.24,2,0.384,2,0.152,3,-999,9,-999,9,-999,9
  90KDIOFFE6_1,  S04P,774,1,13,13,2,19920322,1450,-69.5822,169.977,2767,806.9,0.6751,34.6906,2,34.6913,2,-999,9,205.5,2,113.12,2,31.67,2,0,2,2.24,2,0.392,2,0.16,3,-999,9,-999,9,-999,9
  90KDIOFFE6_1,  S04P,774,1,12,12,2,19920322,1450,-69.5822,169.977,2767,1008.3,0.5924,34.6939,2,34.6954,2,-999,9,207.2,2,117.71,2,31.64,2,0,2,2.25,2,0.318,2,0.13,3,-999,9,-999,9,-999,9
  90KDIOFFE6_1,  S04P,774,1,26,26,2,19920322,1450,-69.5822,169.977,2767,1205.6,0.4207,34.6868,2,34.6882,2,-999,9,212.9,2,116.44,2,31.7,2,0.01,2,2.25,2,0.55,2,0.22,3,-999,9,-999,9,-999,9
  90KDIOFFE6_1,  S04P,774,1,10,10,2,19920322,1450,-69.5822,169.977,2767,1366.3,0.3514,34.6905,2,34.6907,2,-999,9,214.6,2,116.64,2,31.71,2,0.01,2,2.25,2,0.596,6,0.244,3,-999,9,-999,9,-999,9
  90KDIOFFE6_1,  S04P,774,1,27,27,2,19920322,1450,-69.5822,169.977,2767,1508.5,0.2939,34.6945,2,34.6949,2,-999,9,215.7,2,117.67,2,31.58,2,0,2,2.25,2,0.611,2,0.248,3,-999,9,-999,9,-999,9
  90KDIOFFE6_1,  S04P,774,1,8,8,2,19920322,1450,-69.5822,169.977,2767,1660.7,0.2203,34.6982,2,34.6986,2,-999,9,218.5,2,113.9,2,31.55,2,0,2,2.25,2,0.81,2,0.327,3,-999,9,-999,9,-999,9
  90KDIOFFE6_1,  S04P,774,1,7,7,2,19920322,1450,-69.5822,169.977,2767,1813.8,0.1311,34.6978,2,34.6982,2,-999,9,222.3,2,110.76,2,31.45,2,0.01,2,2.24,2,1.02,2,0.436,3,-999,9,-999,9,-999,9
  90KDIOFFE6_1,  S04P,774,1,6,6,2,19920322,1450,-69.5822,169.977,2767,2019,0.017,34.6994,2,34.7001,2,-999,9,226.4,2,106.8,2,31.26,2,0.01,2,2.24,2,1.298,2,0.542,3,-999,9,-999,9,-999,9
  90KDIOFFE6_1,  S04P,774,1,29,29,2,19920322,1450,-69.5822,169.977,2767,2223.4,-0.0874,34.7065,2,34.7072,2,-999,9,230.6,2,103.89,2,31.23,2,0.01,2,2.22,2,1.577,2,0.658,3,-999,9,-999,9,-999,9
  90KDIOFFE6_1,  S04P,774,1,28,28,2,19920322,1450,-69.5822,169.977,2767,2427.4,-0.2425,34.7097,2,34.7102,2,-999,9,236.8,2,99.74,2,30.78,2,0.01,2,2.21,2,1.854,2,0.786,3,-999,9,-999,9,-999,9
  90KDIOFFE6_1,  S04P,774,1,3,3,2,19920322,1450,-69.5822,169.977,2767,2631.4,-0.3943,34.7177,2,34.7178,2,-999,9,241.9,2,97.46,2,30.59,2,0.01,2,2.2,2,2.134,2,0.908,3,-999,9,-999,9,-999,9
  90KDIOFFE6_1,  S04P,774,1,2,2,2,19920322,1450,-69.5822,169.977,2767,2733.2,-0.5043,34.7221,2,34.7223,2,-999,9,246.4,2,95.39,2,30.5,2,0.02,2,2.2,2,2.333,2,0.979,3,-999,9,-999,9,-999,9
  90KDIOFFE6_1,  S04P,774,1,1,1,2,19920322,1450,-69.5822,169.977,2767,2792.8,-0.6139,34.726,2,34.7261,2,-999,9,250.6,2,93.32,2,30.56,2,0.03,2,2.19,2,2.538,2,1.066,3,-999,9,-999,9,-999,9
  90KDIOFFE6_1,  S04P,775,1,24,24,2,19920322,1944,-69.933,169.3437,2682,11.4,-1.5435,34.238,2,34.2391,2,-999,9,351,2,73.32,2,27.9,2,0.1,2,2.03,2,-999,9,-999,9,-999,9,2198.6,2,-999,9
  90KDIOFFE6_1,  S04P,775,1,23,23,2,19920322,1944,-69.933,169.3437,2682,61.2,-1.5365,34.2369,2,34.2387,2,-999,9,351.1,2,73.32,2,27.97,2,0.1,2,2.03,2,-999,9,-999,9,-999,9,2196.9,2,-999,9
  90KDIOFFE6_1,  S04P,775,1,22,22,2,19920322,1944,-69.933,169.3437,2682,122.3,-1.5235,34.2384,2,34.2405,2,-999,9,350.9,2,73.53,2,27.98,2,0.1,2,2.03,2,-999,9,-999,9,-999,9,2200.2,2,-999,9
  90KDIOFFE6_1,  S04P,775,1,21,21,2,19920322,1944,-69.933,169.3437,2682,182.9,-1.4705,34.254,2,34.255,2,-999,9,349,2,73.73,2,28.04,2,0.1,2,2.03,2,-999,9,-999,9,-999,9,2198,2,-999,9
  90KDIOFFE6_1,  S04P,775,1,20,20,2,19920322,1944,-69.933,169.3437,2682,242.7,-1.2987,34.3028,2,34.2998,2,-999,9,332.6,2,75.99,2,28.26,2,0.09,2,2.06,2,-999,9,-999,9,-999,9,2205.4,2,-999,9
  90KDIOFFE6_1,  S04P,775,1,30,30,2,19920322,1944,-69.933,169.3437,2682,272.5,-0.7161,34.4805,2,34.475,2,-999,9,269.1,2,85.66,2,29.86,2,0.08,2,2.16,2,-999,9,-999,9,-999,9,2230,2,-999,9
  90KDIOFFE6_1,  S04P,775,1,18,18,2,19920322,1944,-69.933,169.3437,2682,333.6,-0.4623,34.5391,2,34.5392,2,-999,9,252.6,2,88.96,2,30.09,2,0.05,2,2.18,2,-999,9,-999,9,-999,9,2235.8,2,-999,9
  90KDIOFFE6_1,  S04P,775,1,17,17,2,19920322,1944,-69.933,169.3437,2682,403.8,-0.0676,34.5867,2,34.5886,2,-999,9,236.8,2,93.3,2,30.32,2,0.03,2,2.2,2,-999,9,-999,9,-999,9,2241.9,2,-999,9
  90KDIOFFE6_1,  S04P,775,1,16,16,2,19920322,1944,-69.933,169.3437,2682,505,0.435,34.6571,2,34.6549,2,-999,9,215.2,2,102.62,2,31.22,2,0.01,2,2.23,2,-999,9,-999,9,-999,9,2251.5,2,-999,9
  90KDIOFFE6_1,  S04P,775,1,15,15,2,19920322,1944,-69.933,169.3437,2682,605.5,0.5789,34.6798,2,34.6794,2,-999,9,208.6,2,109.08,2,31.24,2,0,2,2.24,2,-999,9,-999,9,-999,9,2255.2,2,-999,9
  90KDIOFFE6_1,  S04P,775,1,14,14,2,19920322,1944,-69.933,169.3437,2682,756.3,0.5839,34.6925,2,34.6926,2,-999,9,206.8,2,116.62,2,31.24,2,0,2,2.25,2,-999,9,-999,9,-999,9,2257.2,2,-999,9
  90KDIOFFE6_1,  S04P,775,1,13,13,2,19920322,1944,-69.933,169.3437,2682,908,0.454,34.6874,2,34.6902,2,-999,9,210,2,118.3,2,31.45,2,0,2,2.25,2,-999,9,-999,9,-999,9,2257.2,2,-999,9
  90KDIOFFE6_1,  S04P,775,1,12,12,2,19920322,1944,-69.933,169.3437,2682,1059.9,0.1882,34.673,2,34.6744,2,-999,9,221.2,2,110.96,2,31.12,2,0.03,2,2.23,2,-999,9,-999,9,-999,9,2253.8,2,-999,9
  90KDIOFFE6_1,  S04P,775,1,26,26,2,19920322,1944,-69.933,169.3437,2682,1210,0.2091,34.6841,2,34.6826,2,-999,9,219.4,2,112.63,2,31.09,2,0.02,2,2.24,2,0.876,2,0.358,3,-999,9,2253.2,2,-999,9
  90KDIOFFE6_1,  S04P,775,1,10,10,2,19920322,1944,-69.933,169.3437,2682,1362.8,0.1992,34.6979,2,34.6965,2,-999,9,219.2,2,111.8,2,31.05,2,0.01,2,2.24,2,-999,9,-999,9,-999,9,2256.5,2,-999,9
  90KDIOFFE6_1,  S04P,775,1,27,27,2,19920322,1944,-69.933,169.3437,2682,1512.1,0.1472,34.7026,2,34.7016,2,-999,9,221.5,2,108.45,2,31,2,0.01,2,2.24,2,1.107,2,0.457,3,-999,9,2255.3,2,-999,9
  90KDIOFFE6_1,  S04P,775,1,8,8,2,19920322,1944,-69.933,169.3437,2682,1712.2,-0.0367,34.7066,2,34.705,2,-999,9,227.3,2,106.57,2,30.71,2,0.01,2,2.23,2,-999,9,-999,9,-999,9,2251.2,2,-999,9
  90KDIOFFE6_1,  S04P,775,1,7,7,2,19920322,1944,-69.933,169.3437,2682,1910.1,-0.1716,34.7053,2,34.7052,2,-999,9,233.9,2,102.83,2,30.56,2,0.02,2,2.21,2,1.661,2,0.699,3,-999,9,2252.3,2,-999,9
  90KDIOFFE6_1,  S04P,775,1,6,6,2,19920322,1944,-69.933,169.3437,2682,2112.9,-0.3155,34.718,2,34.7164,2,-999,9,238.2,2,99.92,2,30.41,2,0.02,2,2.2,2,-999,9,-999,9,-999,9,2250.1,2,-999,9
  90KDIOFFE6_1,  S04P,775,1,29,29,2,19920322,1944,-69.933,169.3437,2682,2266.4,-0.4304,34.7188,2,34.7193,2,-999,9,243.6,2,97.01,2,30.26,2,0.03,2,2.2,2,2.211,2,0.921,3,-999,9,2250.6,2,-999,9
  90KDIOFFE6_1,  S04P,775,1,28,28,2,19920322,1944,-69.933,169.3437,2682,2419.3,-0.4783,34.722,2,34.7213,2,-999,9,245.7,2,95.98,2,30.41,2,0.03,2,2.19,2,-999,9,-999,9,-999,9,2250.1,2,-999,9
  90KDIOFFE6_1,  S04P,775,1,3,3,2,19920322,1944,-69.933,169.3437,2682,2567.2,-0.4783,34.7225,2,34.7215,2,-999,9,245.9,2,95.98,2,30.32,2,0.03,2,2.2,2,2.351,2,0.981,3,-999,9,2249,2,-999,9
  90KDIOFFE6_1,  S04P,775,1,2,2,2,19920322,1944,-69.933,169.3437,2682,2657.2,-0.4913,34.7241,2,34.7231,2,-999,9,246.4,2,95.36,2,30.52,2,0.03,2,2.19,2,2.337,2,0.99,3,-999,9,2251,2,-999,9
  90KDIOFFE6_1,  S04P,775,1,1,1,2,19920322,1944,-69.933,169.3437,2682,2706.9,-0.5163,34.7256,2,34.7241,2,-999,9,247.1,2,95.36,2,30.38,2,0.03,2,2.19,2,2.367,2,0.987,3,-999,9,2249.3,2,-999,9