BOTTLE,20181005JHS,,,,,,,,,,,,,,,,,,,,,,,,,,,,,,,,,,,,,,
EXPOCODE,SECT_ID,STNNBR,CASTNO,SAMPNO,BTLNBR,BTLNBR_FLAG_W,DATE,TIME,LATITUDE,LONGITUDE,DEPTH,CTDPRS,CTDTMP,CTDSAL,CTDSAL_FLAG_W,SALNTY,SALNTY_FLAG_W,CTDOXY,CTDOXY_FLAG_W,OXYGEN,OXYGEN_FLAG_W,SILCAT,SILCAT_FLAG_W,NITRAT,NITRAT_FLAG_W,NITRIT,NITRIT_FLAG_W,PHSPHT,PHSPHT_FLAG_W,CFC-11,CFC-11_FLAG_W,CFC-12,CFC-12_FLAG_W,SF6,SF6_FLAG_W,TCARBN,TCARBN_FLAG_W,ALKALI,ALKALI_FLAG_W
,,,,,,,,,,,,DBAR,ITS-90,PSS-78,,PSS-78,,UMOL/KG,,UMOL/KG,,UMOL/KG,,UMOL/KG,,UMOL/KG,,UMOL/KG,,PMOL/KG,,PMOL/KG,,FMOL/KG,,UMOL/KG,,UMOL/KG,
  90KDIOFFE6_1,  S04P,724,1,24,24,2,19920306,2217,-66.985,-123.8358,4375,14.5,0.2351,33.4773,2,33.4765,2,-999,9,345.4,2,49.05,2,26.21,2,0.29,2,1.82,2,6.392,2,2.844,3,-999,9,2134.2,2,-999,9
  90KDIOFFE6_1,  S04P,724,1,23,23,2,19920306,2217,-66.985,-123.8358,4375,55.2,-0.0716,33.6602,2,33.6186,2,-999,9,341.3,2,56.89,2,27.1,2,0.25,2,1.88,2,6.268,2,2.739,3,-999,9,2148.8,2,-999,9
  90KDIOFFE6_1,  S04P,724,1,22,22,2,19920306,2217,-66.985,-123.8358,4375,106,-0.915,34.1768,2,34.1545,2,-999,9,292.4,2,60.88,2,30.13,2,0.13,2,2.12,2,4.583,2,1.979,3,-999,9,2202.9,2,-999,9
  90KDIOFFE6_1,  S04P,724,1,21,21,2,19920306,2217,-66.985,-123.8358,4375,146.5,-0.3005,34.2919,2,34.2894,2,-999,9,258.7,2,66.81,2,31.45,2,0.04,2,2.21,2,3.465,2,1.481,3,-999,9,-999,9,-999,9
  90KDIOFFE6_1,  S04P,724,1,20,20,2,19920306,2217,-66.985,-123.8358,4375,185.9,-0.1006,34.3558,2,34.3455,2,-999,9,249.4,2,70.26,2,31.91,2,0.02,2,2.22,2,3.099,2,1.34,3,-999,9,-999,9,-999,9
  90KDIOFFE6_1,  S04P,724,1,19,19,2,19920306,2217,-66.985,-123.8358,4375,256.5,1.1594,34.5314,2,34.5395,2,-999,9,-999,5,79.67,2,33.06,2,0.02,2,2.31,2,1.309,2,0.542,3,-999,9,-999,9,-999,9
  90KDIOFFE6_1,  S04P,724,1,18,18,2,19920306,2217,-66.985,-123.8358,4375,316.5,1.725,34.6404,2,34.6376,2,-999,9,179.8,2,85.06,2,33.05,2,0.01,2,2.32,2,0.503,6,0.193,3,-999,9,-999,9,-999,9
  90KDIOFFE6_1,  S04P,724,1,17,17,2,19920306,2217,-66.985,-123.8358,4375,407.2,1.85,34.686,2,34.6868,2,-999,9,178.4,2,87.56,2,32.35,2,0.01,2,2.28,2,0.225,2,0.08,3,-999,9,-999,9,-999,9
  90KDIOFFE6_1,  S04P,724,1,16,16,2,19920306,2217,-66.985,-123.8358,4375,507.6,1.82,34.7048,2,34.7041,2,-999,9,180.6,2,89.48,2,32.03,2,0.01,2,2.23,2,0.146,2,0.048,3,-999,9,-999,9,-999,9
  90KDIOFFE6_1,  S04P,724,1,15,15,2,19920306,2217,-66.985,-123.8358,4375,606.6,1.774,34.716,2,34.716,2,-999,9,183.2,2,91.22,2,31.61,2,0.01,2,2.23,2,0.108,2,0.035,3,-999,9,-999,9,-999,9
  90KDIOFFE6_1,  S04P,724,1,14,14,2,19920306,2217,-66.985,-123.8358,4375,804.1,1.6261,34.7267,2,34.7268,2,-999,9,187.6,2,96.26,2,31.42,2,0.01,2,2.18,2,0.079,2,0.024,3,-999,9,-999,9,-999,9
  90KDIOFFE6_1,  S04P,724,1,13,13,2,19920306,2217,-66.985,-123.8358,4375,1004.1,1.4782,34.7284,2,34.7282,2,-999,9,191.2,2,100.73,2,31.14,2,0.01,2,2.18,2,0.047,2,0.013,3,-999,9,-999,9,-999,9
  90KDIOFFE6_1,  S04P,724,1,12,12,2,19920306,2217,-66.985,-123.8358,4375,1208.8,1.3193,34.7271,2,34.7261,2,-999,9,193.9,2,105.81,2,31.36,2,0.01,2,2.19,2,0.025,2,0.01,3,-999,9,-999,9,-999,9
  90KDIOFFE6_1,  S04P,724,1,26,26,2,19920306,2217,-66.985,-123.8358,4375,1514,1.1235,34.7204,2,34.72,2,-999,9,198.6,2,111.71,2,31.4,2,0,2,2.19,2,0.024,2,0.007,3,-999,9,-999,9,-999,9
  90KDIOFFE6_1,  S04P,724,1,10,10,2,19920306,2217,-66.985,-123.8358,4375,1814.1,0.9696,34.7153,2,34.7164,2,-999,9,201.1,2,117.44,2,31.58,2,0,2,2.21,2,0.009,4,0.001,4,-999,9,-999,9,-999,9
  90KDIOFFE6_1,  S04P,724,1,27,27,2,19920306,2217,-66.985,-123.8358,4375,2117,0.8237,34.7106,2,34.7096,2,-999,9,204.2,2,122.21,2,31.8,2,0,2,2.22,2,0.018,2,0.003,3,-999,9,-999,9,-999,9
  90KDIOFFE6_1,  S04P,724,1,8,8,2,19920306,2217,-66.985,-123.8358,4375,2412.1,0.7098,34.7059,2,34.7058,2,-999,9,207.3,2,125.61,2,31.84,2,0,2,2.22,2,0.017,6,0.003,3,-999,9,-999,9,-999,9
  90KDIOFFE6_1,  S04P,724,1,7,7,2,19920306,2217,-66.985,-123.8358,4375,2715.6,0.5999,34.7034,2,34.7037,2,-999,9,208.9,2,128.62,2,32.02,2,0,2,2.23,2,0.019,2,0.008,3,-999,9,-999,9,-999,9
  90KDIOFFE6_1,  S04P,724,1,6,6,2,19920306,2217,-66.985,-123.8358,4375,3021.9,0.4889,34.7026,2,34.7021,2,-999,9,210.9,2,132.05,2,31.97,2,0,2,2.24,2,0.015,2,0.007,3,-999,9,-999,9,-999,9
  90KDIOFFE6_1,  S04P,724,1,5,5,2,19920306,2217,-66.985,-123.8358,4375,3332,0.423,34.7013,2,34.7005,2,-999,9,212.7,2,134.89,2,32.05,2,0,2,2.25,2,0.019,2,0.006,3,-999,9,-999,9,-999,9
  90KDIOFFE6_1,  S04P,724,1,4,4,2,19920306,2217,-66.985,-123.8358,4375,3643.4,0.368,34.701,2,34.7007,2,-999,9,213.9,2,137.53,2,32.18,2,0,2,2.25,2,0.019,2,0.01,3,-999,9,-999,9,-999,9
  90KDIOFFE6_1,  S04P,724,1,3,3,2,19920306,2217,-66.985,-123.8358,4375,3949.5,0.3321,34.6997,2,34.6998,2,-999,9,215.5,2,138.55,2,32.31,2,0,2,2.24,2,0.039,2,0.014,3,-999,9,-999,9,-999,9
  90KDIOFFE6_1,  S04P,724,1,2,2,2,19920306,2217,-66.985,-123.8358,4375,4257.4,0.3081,34.6993,2,34.7001,2,-999,9,216.7,2,141.01,2,32.26,2,0,2,2.25,2,0.057,2,0.026,3,-999,9,-999,9,-999,9
  90KDIOFFE6_1,  S04P,724,1,1,1,2,19920306,2217,-66.985,-123.8358,4375,4450.6,0.2901,34.6997,2,34.7,2,-999,9,218,2,140.58,2,32.39,2,0.01,2,2.25,2,0.115,2,0.045,3,-999,9,-999,9,-999,9
  90KDIOFFE6_1,  S04P,725,1,24,24,2,19920307,441,-67.0065,-125.5788,4363,13.3,0.5969,33.4906,2,33.4902,2,341.5,2,345.5,2,42.8,2,25.68,2,0.3,2,1.76,2,-999,9,-999,9,-999,9,2132.3,2,-999,9
  90KDIOFFE6_1,  S04P,725,1,23,23,2,19920307,441,-67.0065,-125.5788,4363,44.7,-0.5613,33.76,2,33.7251,2,347.8,2,345.1,2,42.79,2,26.24,2,0.22,2,1.82,2,-999,9,-999,9,-999,9,2148.8,2,-999,9
  90KDIOFFE6_1,  S04P,725,1,21,21,2,19920307,441,-67.0065,-125.5788,4363,105.2,-1.2177,34.0685,2,34.0684,2,316.1,2,310.1,2,53.54,2,29.45,2,0.11,2,2.07,2,-999,9,-999,9,-999,9,2189,2,-999,9
  90KDIOFFE6_1,  S04P,725,1,20,20,2,19920307,441,-67.0065,-125.5788,4363,155.8,-0.4074,34.2034,2,34.2091,2,272,2,276.1,2,61.36,2,31.16,2,0.02,2,2.17,2,-999,9,-999,9,-999,9,2207.8,2,-999,9
  90KDIOFFE6_1,  S04P,725,1,19,19,2,19920307,441,-67.0065,-125.5788,4363,205.3,0.9776,34.4349,2,34.445,2,226.1,2,217.9,2,74.05,2,33.02,2,0.01,2,2.31,2,-999,9,-999,9,-999,9,2235,2,-999,9
  90KDIOFFE6_1,  S04P,725,1,18,18,2,19920307,441,-67.0065,-125.5788,4363,255.4,1.3953,34.5452,2,34.5475,2,203.1,2,196.5,2,79.43,2,33.31,2,0.01,2,2.32,2,-999,9,-999,9,-999,9,2249.8,2,-999,9
  90KDIOFFE6_1,  S04P,725,1,17,17,2,19920307,441,-67.0065,-125.5788,4363,305.5,1.7051,34.6157,2,34.6181,2,177.5,2,182.5,2,83.38,2,33.21,2,0,2,2.31,2,-999,9,-999,9,-999,9,2253.8,2,-999,9
  90KDIOFFE6_1,  S04P,725,1,16,16,2,19920307,441,-67.0065,-125.5788,4363,406.2,1.8719,34.6725,2,34.6725,2,179.3,2,180.5,2,86.07,2,32.43,2,0,2,2.26,2,-999,9,-999,9,-999,9,2253.4,2,-999,9
  90KDIOFFE6_1,  S04P,725,1,15,15,2,19920307,441,-67.0065,-125.5788,4363,607.3,1.82,34.7105,2,34.7086,2,182.1,2,183,2,90.12,2,31.75,2,0,2,2.2,2,-999,9,-999,9,-999,9,2254.3,2,-999,9
  90KDIOFFE6_1,  S04P,725,1,14,14,2,19920307,441,-67.0065,-125.5788,4363,808.2,1.6991,34.725,2,34.7255,2,189.3,2,187.7,2,93.35,2,31.38,2,0,2,2.17,2,-999,9,-999,9,-999,9,2254.2,2,-999,9
  90KDIOFFE6_1,  S04P,725,1,13,13,2,19920307,441,-67.0065,-125.5788,4363,1007.7,1.5012,34.729,2,34.7294,2,192.3,2,192.1,2,99.95,2,31.26,2,0,2,2.17,2,-999,9,-999,9,-999,9,2255.1,2,-999,9
  90KDIOFFE6_1,  S04P,725,1,12,12,2,19920307,441,-67.0065,-125.5788,4363,1313.2,1.3093,34.7261,2,34.7259,2,197.5,2,196.3,2,105.61,2,31.13,2,0,2,2.17,2,-999,9,-999,9,-999,9,-999,9,-999,9
  90KDIOFFE6_1,  S04P,725,1,26,26,2,19920307,441,-67.0065,-125.5788,4363,1618,1.0995,34.721,2,34.7184,2,199.5,2,199.8,2,112.67,2,31.51,2,0,2,2.19,2,-999,9,-999,9,-999,9,-999,9,-999,9
  90KDIOFFE6_1,  S04P,725,1,10,10,2,19920307,441,-67.0065,-125.5788,4363,1922.7,0.9416,34.7139,2,34.7135,2,202.4,2,202.5,2,117.99,2,31.84,2,0,2,2.2,2,-999,9,-999,9,-999,9,-999,9,-999,9
  90KDIOFFE6_1,  S04P,725,1,27,27,2,19920307,441,-67.0065,-125.5788,4363,2224.7,0.7967,34.7085,2,34.708,2,204.2,2,205.3,2,123.15,2,31.9,2,0,2,2.22,2,-999,9,-999,9,-999,9,-999,9,-999,9
  90KDIOFFE6_1,  S04P,725,1,8,8,2,19920307,441,-67.0065,-125.5788,4363,2528.5,0.6988,34.706,2,34.7053,2,206.4,2,207.3,2,126.33,2,32.01,2,0,2,2.22,2,-999,9,-999,9,-999,9,-999,9,-999,9
  90KDIOFFE6_1,  S04P,725,1,7,7,2,19920307,441,-67.0065,-125.5788,4363,2837.3,0.5729,34.7032,2,34.7027,2,207.4,2,209.7,2,129.72,2,32.11,2,0,2,2.23,2,-999,9,-999,9,-999,9,-999,9,-999,9
  90KDIOFFE6_1,  S04P,725,1,6,6,2,19920307,441,-67.0065,-125.5788,4363,3043.2,0.4839,34.703,2,34.7015,2,211.6,2,211.8,2,130.89,2,32.06,2,0,2,2.23,2,0.033,2,0.012,3,-999,9,-999,9,-999,9
  90KDIOFFE6_1,  S04P,725,1,5,5,2,19920307,441,-67.0065,-125.5788,4363,3348.1,0.412,34.702,2,34.7013,2,213.4,2,213.5,2,134.32,2,32.18,2,0,2,2.23,2,0.028,6,0.009,3,-999,9,-999,9,-999,9
  90KDIOFFE6_1,  S04P,725,1,4,4,2,19920307,441,-67.0065,-125.5788,4363,3655.4,0.359,34.7002,2,34.7001,2,214.7,2,215,2,134.9,2,32.32,2,0,2,2.24,2,0.035,2,0.015,3,-999,9,-999,9,-999,9
  90KDIOFFE6_1,  S04P,725,1,3,3,2,19920307,441,-67.0065,-125.5788,4363,3962.5,0.3191,34.7005,2,34.6996,2,217.7,2,217,2,136.29,2,32.33,2,0,2,2.24,2,0.056,2,0.019,3,-999,9,-999,9,-999,9
  90KDIOFFE6_1,  S04P,725,1,2,2,2,19920307,441,-67.0065,-125.5788,4363,4270.2,0.2921,34.6998,2,34.6994,2,219.1,2,218.3,2,138.71,2,32.3,2,0,2,2.24,2,0.084,2,0.035,3,-999,9,-999,9,-999,9
  90KDIOFFE6_1,  S04P,725,1,1,1,2,19920307,441,-67.0065,-125.5788,4363,4443.7,0.2911,34.7003,2,34.7,2,219.6,2,218.4,2,139.29,2,32.08,2,0,2,2.24,2,0.107,2,0.042,3,-999,9,-999,9,-999,9
  90KDIOFFE6_1,  S04P,726,1,24,24,2,19920307,1342,-66.9823,-127.2357,4434,12.2,0.4536,33.4743,2,33.4733,2,345.8,2,344.2,2,50.74,2,26.11,2,0.28,2,1.84,2,6.458,2,2.864,3,-999,9,2132.7,2,-999,9
  90KDIOFFE6_1,  S04P,726,1,23,23,2,19920307,1342,-66.9823,-127.2357,4434,41.9,0.2193,33.5083,2,33.5096,2,340.9,2,344.4,2,51.09,2,26.31,2,0.26,2,1.85,2,5.131,4,2.482,4,-999,9,2137.5,2,-999,9
  90KDIOFFE6_1,  S04P,726,1,22,22,2,19920307,1342,-66.9823,-127.2357,4434,82.8,-1.5978,33.984,2,33.9912,2,326.4,2,332,2,50.28,2,27.87,2,0.22,2,1.97,2,5.966,2,2.609,3,-999,9,2173.2,2,-999,9
  90KDIOFFE6_1,  S04P,726,1,21,21,2,19920307,1342,-66.9823,-127.2357,4434,113.2,-1.5803,34.0335,2,34.0355,2,311.4,2,319,2,53.13,2,28.57,2,0.2,2,2.03,2,5.469,2,2.375,3,-999,9,-999,9,-999,9
  90KDIOFFE6_1,  S04P,726,1,20,20,2,19920307,1342,-66.9823,-127.2357,4434,153.7,-0.7461,34.1814,2,34.183,2,271.9,2,280.8,2,60.95,2,30.69,2,0.08,2,2.16,2,4.36,2,1.889,3,-999,9,-999,9,-999,9
  90KDIOFFE6_1,  S04P,726,1,19,19,2,19920307,1342,-66.9823,-127.2357,4434,204.3,0.3533,34.3549,2,34.356,2,232.8,2,241.4,2,70.12,2,32.14,2,0.01,2,2.26,2,2.786,2,1.182,3,-999,9,-999,9,-999,9
  90KDIOFFE6_1,  S04P,726,1,18,18,2,19920307,1342,-66.9823,-127.2357,4434,254,1.2809,34.5321,2,34.5353,2,199.9,2,199.1,2,79.6,2,33.02,2,0.01,2,2.32,2,1.31,2,0.532,3,-999,9,-999,9,-999,9
  90KDIOFFE6_1,  S04P,726,1,17,17,2,19920307,1342,-66.9823,-127.2357,4434,305.5,1.733,34.6241,2,34.6232,2,184.1,2,181.9,2,84.29,2,33.05,2,0.01,2,2.33,2,0.586,2,0.223,3,-999,9,-999,9,-999,9
  90KDIOFFE6_1,  S04P,726,1,16,16,2,19920307,1342,-66.9823,-127.2357,4434,405.2,1.8589,34.6791,2,34.6783,2,179.9,2,179,2,87.09,2,32.29,2,0.01,2,2.27,2,0.256,2,0.091,3,-999,9,-999,9,-999,9
  90KDIOFFE6_1,  S04P,726,1,15,15,2,19920307,1342,-66.9823,-127.2357,4434,606.4,1.8045,34.7161,2,34.7152,2,187.1,2,185,2,90.92,2,31.29,2,0.01,2,2.2,2,0.113,2,0.036,3,-999,9,-999,9,-999,9
  90KDIOFFE6_1,  S04P,726,1,14,14,2,19920307,1342,-66.9823,-127.2357,4434,806.7,1.6592,34.7269,2,34.7258,2,188.2,2,188.8,2,95.54,2,30.76,2,0.01,2,2.18,2,0.08,2,0.023,3,-999,9,-999,9,-999,9
  90KDIOFFE6_1,  S04P,726,1,13,13,2,19920307,1342,-66.9823,-127.2357,4434,1008.4,1.4935,34.7285,2,34.7289,2,191.7,2,190.3,2,101.34,2,30.84,2,0.01,2,2.2,2,0.044,2,0.013,3,-999,9,-999,9,-999,9
  90KDIOFFE6_1,  S04P,726,1,12,12,2,19920307,1342,-66.9823,-127.2357,4434,1311.6,1.2702,34.7258,2,34.7252,2,194.8,2,195.7,2,107.76,2,30.97,2,0,2,2.19,2,0.032,2,0.008,3,-999,9,-999,9,-999,9
  90KDIOFFE6_1,  S04P,726,1,26,26,2,19920307,1342,-66.9823,-127.2357,4434,1611.8,1.0824,34.7198,2,34.7184,2,198.1,2,199.1,2,113.82,2,31.24,2,0,2,2.22,2,0.023,2,0.003,3,-999,9,-999,9,-999,9
  90KDIOFFE6_1,  S04P,726,1,10,10,2,19920307,1342,-66.9823,-127.2357,4434,1912.3,0.9301,34.7134,2,34.7135,2,199.3,2,202.5,2,119.13,2,31.36,2,0,2,2.22,2,0.015,2,0.004,3,-999,9,-999,9,-999,9
  90KDIOFFE6_1,  S04P,726,1,27,27,2,19920307,1342,-66.9823,-127.2357,4434,2214.9,0.793,34.7082,2,34.7072,2,203.7,2,205.4,2,123.67,2,31.63,2,0,2,2.21,2,0.022,2,0.004,3,-999,9,-999,9,-999,9
  90KDIOFFE6_1,  S04P,726,1,8,8,2,19920307,1342,-66.9823,-127.2357,4434,2512.3,0.6717,34.7047,2,34.7046,2,205.6,2,208.1,2,127.44,2,31.94,2,0,2,2.22,2,0.021,2,0.008,3,-999,9,-999,9,-999,9
  90KDIOFFE6_1,  S04P,726,1,7,7,2,19920307,1342,-66.9823,-127.2357,4434,2801.4,0.5674,34.7033,2,34.7025,2,207.9,2,209.8,2,130.02,2,32.02,2,0,2,2.23,2,0.022,2,0.004,3,-999,9,-999,9,-999,9
  90KDIOFFE6_1,  S04P,726,1,6,6,2,19920307,1342,-66.9823,-127.2357,4434,3087.4,0.4734,34.7018,2,34.7013,2,210.5,2,211.4,2,133.42,2,32.05,2,0,2,2.24,2,0.017,2,0.005,3,-999,9,-999,9,-999,9
  90KDIOFFE6_1,  S04P,726,1,5,5,2,19920307,1342,-66.9823,-127.2357,4434,3389.5,0.4217,34.7014,2,34.7009,2,212.9,2,212.6,2,136.23,2,31.98,2,0,2,2.24,2,0.013,2,0.005,3,-999,9,-999,9,-999,9
  90KDIOFFE6_1,  S04P,726,1,4,4,2,19920307,1342,-66.9823,-127.2357,4434,3701.7,0.3786,34.7005,2,34.6997,2,215.9,2,213.9,2,137.61,2,31.92,2,0,2,2.25,2,0.02,2,0.007,3,-999,9,-999,9,-999,9
  90KDIOFFE6_1,  S04P,726,1,3,3,2,19920307,1342,-66.9823,-127.2357,4434,4008.6,0.3455,34.7003,2,34.7003,2,217.3,2,215.5,2,138.39,2,32.04,2,0,2,2.24,2,0.041,2,0.013,3,-999,9,-999,9,-999,9
  90KDIOFFE6_1,  S04P,726,1,2,2,2,19920307,1342,-66.9823,-127.2357,4434,4318.7,0.318,34.6999,2,34.6992,2,218.3,2,217.1,2,139.99,2,32.03,2,0,2,2.24,2,0.063,6,0.025,3,-999,9,-999,9,-999,9
  90KDIOFFE6_1,  S04P,726,1,1,1,2,19920307,1342,-66.9823,-127.2357,4434,4547.4,0.3074,34.6993,2,34.7003,2,220.2,2,218.2,2,139.33,2,32.11,2,0,2,2.24,2,0.112,2,0.04,3,-999,9,-999,9,-999,9
  90KDIOFFE6_1,  S04P,727,1,24,24,2,19920308,8,-66.9977,-128.972,4421,12.3,0.6492,33.5052,2,33.5042,2,350.3,2,347.7,2,30.86,2,24.26,2,0.31,2,1.66,2,-999,9,-999,9,-999,9,2122.9,2,-999,9
  90KDIOFFE6_1,  S04P,727,1,23,23,2,19920308,8,-66.9977,-128.972,4421,42.8,-0.853,33.8046,2,33.736,2,346.9,2,351.9,2,34.65,2,25.56,2,0.27,2,1.85,2,-999,9,-999,9,-999,9,2141.6,2,-999,9
  90KDIOFFE6_1,  S04P,727,1,22,22,2,19920308,8,-66.9977,-128.972,4421,65,-1.3557,33.9056,2,33.9058,2,346,2,344.4,2,42.62,2,27.1,2,0.27,2,1.95,2,-999,9,-999,9,-999,9,2163.9,2,-999,9
  90KDIOFFE6_1,  S04P,727,1,21,21,2,19920308,8,-66.9977,-128.972,4421,105.3,-1.1462,33.9856,2,33.9868,2,335.8,2,328.7,2,46.03,2,28.65,2,0.12,2,2.02,2,-999,9,-999,9,-999,9,2177.1,2,-999,9
  90KDIOFFE6_1,  S04P,727,1,20,20,2,19920308,8,-66.9977,-128.972,4421,156.3,-0.1256,34.1782,2,34.1782,2,285.2,2,283.4,2,56.87,2,30.82,2,0.01,2,2.16,2,-999,9,-999,9,-999,9,2202.4,2,-999,9
  90KDIOFFE6_1,  S04P,727,1,19,19,2,19920308,8,-66.9977,-128.972,4421,206,1.0809,34.3986,2,34.402,2,228.1,2,223.9,2,70.77,2,33.08,2,0.01,2,2.32,2,-999,9,-999,9,-999,9,2232.6,2,-999,9
  90KDIOFFE6_1,  S04P,727,1,18,18,2,19920308,8,-66.9977,-128.972,4421,255.8,1.5871,34.5117,2,34.5106,2,196.1,2,197.4,2,76.88,2,33.6,2,0,2,2.36,2,-999,9,-999,9,-999,9,2248.1,2,-999,9
  90KDIOFFE6_1,  S04P,727,1,17,17,2,19920308,8,-66.9977,-128.972,4421,306.1,1.76,34.5713,2,34.5704,2,186.5,2,187.1,2,79.75,2,33.32,2,0,2,2.34,2,-999,9,-999,9,-999,9,2251,2,-999,9
  90KDIOFFE6_1,  S04P,727,1,16,16,2,19920308,8,-66.9977,-128.972,4421,406.4,1.8809,34.6296,2,34.6295,2,179.7,2,181.4,2,82.62,2,32.89,2,0,2,2.3,2,-999,9,-999,9,-999,9,2251.5,2,-999,9
  90KDIOFFE6_1,  S04P,727,1,15,15,2,19920308,8,-66.9977,-128.972,4421,608.2,1.8984,34.6967,2,34.6958,2,183.9,2,182.4,2,87.42,2,31.76,2,0,2,2.22,2,-999,9,-999,9,-999,9,2251.9,2,-999,9
  90KDIOFFE6_1,  S04P,727,1,14,14,2,19920308,8,-66.9977,-128.972,4421,809.4,1.7746,34.7218,2,34.7211,2,187.9,2,187.2,2,92.04,2,31.01,2,0,2,2.18,2,-999,9,-999,9,-999,9,2254,2,-999,9
  90KDIOFFE6_1,  S04P,727,1,13,13,2,19920308,8,-66.9977,-128.972,4421,1010.7,1.6096,34.7293,2,34.7297,2,192.4,2,191.6,2,96.68,2,30.78,2,0,2,2.16,2,-999,9,-999,9,-999,9,2254.2,2,-999,9
  90KDIOFFE6_1,  S04P,727,1,12,12,2,19920308,8,-66.9977,-128.972,4421,1315.3,1.3597,34.7282,2,34.7277,2,196.8,2,195.9,2,104.25,2,30.97,2,0,2,2.17,2,-999,9,-999,9,-999,9,2257,2,-999,9
  90KDIOFFE6_1,  S04P,727,1,26,26,2,19920308,8,-66.9977,-128.972,4421,1619.9,1.1575,34.7223,2,34.7201,2,199.6,2,199.4,2,111.1,2,31.11,2,0,2,2.19,2,-999,9,-999,9,-999,9,2258,2,-999,9
  90KDIOFFE6_1,  S04P,727,1,10,10,2,19920308,8,-66.9977,-128.972,4421,1923.6,0.9877,34.7153,2,34.7146,2,201.1,2,202,2,116.81,2,31.2,2,0,2,2.2,2,-999,9,-999,9,-999,9,2258.4,2,-999,9
  90KDIOFFE6_1,  S04P,727,1,27,27,2,19920308,8,-66.9977,-128.972,4421,2228.7,0.8479,34.7102,2,34.7085,2,204.7,2,204.7,2,121.77,2,31.16,2,0,2,2.21,2,-999,9,-999,9,-999,9,2257,2,-999,9
  90KDIOFFE6_1,  S04P,727,1,8,8,2,19920308,8,-66.9977,-128.972,4421,2535.4,0.7265,34.7053,2,34.7051,2,206.5,2,207.2,2,123.97,2,31.44,2,0,2,2.22,2,-999,9,-999,9,-999,9,2262.1,2,-999,9
  90KDIOFFE6_1,  S04P,727,1,7,7,2,19920308,8,-66.9977,-128.972,4421,2840.1,0.6071,34.7028,2,34.7022,2,209.1,2,209.6,2,128.38,2,31.63,2,0,2,2.23,2,-999,9,-999,9,-999,9,2261.7,2,-999,9
  90KDIOFFE6_1,  S04P,727,1,6,6,2,19920308,8,-66.9977,-128.972,4421,3146.1,0.4942,34.7016,2,34.7008,2,211.7,2,211.9,2,131,2,31.72,2,0,2,2.23,2,0.049,3,0.014,3,-999,9,2262.2,2,-999,9
  90KDIOFFE6_1,  S04P,727,1,5,5,2,19920308,8,-66.9977,-128.972,4421,3451.3,0.4092,34.7012,2,34.7,2,213.6,2,213.6,2,135.05,2,31.77,2,0,2,2.24,2,0.027,2,0.009,3,-999,9,2262.8,2,-999,9
  90KDIOFFE6_1,  S04P,727,1,4,4,2,19920308,8,-66.9977,-128.972,4421,3750.4,0.3605,34.7004,2,34.6998,2,214.6,2,215,2,136.48,2,31.63,2,0,2,2.25,2,0.032,2,0.01,3,-999,9,2261.7,2,-999,9
  90KDIOFFE6_1,  S04P,727,1,3,3,2,19920308,8,-66.9977,-128.972,4421,4066.3,0.3261,34.7004,2,34.7,2,216.3,2,216.4,2,138.74,2,31.77,2,0,2,2.25,2,0.053,2,0.019,3,-999,9,2263.1,2,-999,9
  90KDIOFFE6_1,  S04P,727,1,2,2,2,19920308,8,-66.9977,-128.972,4421,4370.7,0.3082,34.6998,2,34.6996,2,219.2,2,217.8,2,139.56,2,31.87,2,0,2,2.25,2,0.075,2,0.029,3,-999,9,2262,2,-999,9
  90KDIOFFE6_1,  S04P,727,1,1,1,2,19920308,8,-66.9977,-128.972,4421,4494.3,0.2609,34.6998,2,34.6988,2,220.1,2,220,2,136.71,2,31.87,2,0,2,2.25,2,0.167,6,0.062,3,-999,9,2262.3,2,-999,9