BOTTLE,20181005JHS,,,,,,,,,,,,,,,,,,,,,,,,,,,,,,,,,,,,,,
EXPOCODE,SECT_ID,STNNBR,CASTNO,SAMPNO,BTLNBR,BTLNBR_FLAG_W,DATE,TIME,LATITUDE,LONGITUDE,DEPTH,CTDPRS,CTDTMP,CTDSAL,CTDSAL_FLAG_W,SALNTY,SALNTY_FLAG_W,CTDOXY,CTDOXY_FLAG_W,OXYGEN,OXYGEN_FLAG_W,SILCAT,SILCAT_FLAG_W,NITRAT,NITRAT_FLAG_W,NITRIT,NITRIT_FLAG_W,PHSPHT,PHSPHT_FLAG_W,CFC-11,CFC-11_FLAG_W,CFC-12,CFC-12_FLAG_W,SF6,SF6_FLAG_W,TCARBN,TCARBN_FLAG_W,ALKALI,ALKALI_FLAG_W
,,,,,,,,,,,,DBAR,ITS-90,PSS-78,,PSS-78,,UMOL/KG,,UMOL/KG,,UMOL/KG,,UMOL/KG,,UMOL/KG,,UMOL/KG,,PMOL/KG,,PMOL/KG,,FMOL/KG,,UMOL/KG,,UMOL/KG,
  90KDIOFFE6_1,  S04P,696,1,24,24,2,19920226,810,-67.0087,-79.6068,4011,14.4,0.7967,33.6994,2,33.6993,2,357.2,3,338.7,2,41.43,2,25.92,2,0.26,2,1.83,2,6.239,2,2.778,3,-999,9,2137.6,2,-999,9
  90KDIOFFE6_1,  S04P,696,1,23,23,2,19920226,810,-67.0087,-79.6068,4011,54.1,0.6648,33.7109,2,33.7122,2,338.4,2,338.9,2,44.43,2,25.87,2,0.24,2,1.84,2,5.838,2,2.653,3,-999,9,2143.1,2,-999,9
  90KDIOFFE6_1,  S04P,696,1,22,22,2,19920226,810,-67.0087,-79.6068,4011,104.8,-1.3706,34.0274,2,34.0234,2,304.9,2,307.2,2,52.2,2,29.24,2,0.25,2,2.07,2,5.076,2,2.206,3,-999,9,2183.4,2,-999,9
  90KDIOFFE6_1,  S04P,696,1,21,21,2,19920226,810,-67.0087,-79.6068,4011,135,-0.5273,34.1327,2,34.1215,2,305.1,2,286.6,2,55.19,2,30.49,2,0.03,2,2.15,2,4.336,2,1.885,3,-999,9,2194,2,-999,9
  90KDIOFFE6_1,  S04P,696,1,20,20,2,19920226,810,-67.0087,-79.6068,4011,175.4,0.8966,34.332,2,34.3441,2,243.2,2,228.7,2,66.21,2,32.77,2,0.01,2,2.3,2,2.482,2,1.056,3,-999,9,2223.6,2,-999,9
  90KDIOFFE6_1,  S04P,696,1,19,19,2,19920226,810,-67.0087,-79.6068,4011,205.1,1.2124,34.4225,2,34.4272,2,209.9,2,207.8,2,71.6,2,33.25,2,0.01,2,2.33,2,1.687,2,-0.003,4,-999,9,2235.3,2,-999,9
  90KDIOFFE6_1,  S04P,696,1,18,18,2,19920226,810,-67.0087,-79.6068,4011,255.1,1.4472,34.491,2,34.4852,2,194.2,2,197.3,2,75.9,2,33.42,2,0.01,2,2.34,2,1.337,6,0.556,3,-999,9,2243,2,-999,9
  90KDIOFFE6_1,  S04P,696,1,17,17,2,19920226,810,-67.0087,-79.6068,4011,305.7,1.722,34.5543,2,34.5562,2,183.6,2,184.4,2,79.77,2,33.48,2,0.01,2,2.35,2,0.817,2,0.332,3,-999,9,2248,2,-999,9
  90KDIOFFE6_1,  S04P,696,1,16,16,2,19920226,810,-67.0087,-79.6068,4011,406.6,1.9089,34.627,2,34.6268,2,177.1,2,177,2,83.64,2,33.14,2,0,2,2.32,2,0.384,2,0.153,3,-999,9,2252.3,2,-999,9
  90KDIOFFE6_1,  S04P,696,1,15,15,2,19920226,810,-67.0087,-79.6068,4011,506.7,1.9419,34.6625,2,34.6624,2,176.5,2,177.5,2,85.78,2,32.55,2,0,2,2.28,2,0.252,2,0.09,3,-999,9,2253.8,2,-999,9
  90KDIOFFE6_1,  S04P,696,1,14,14,2,19920226,810,-67.0087,-79.6068,4011,607.7,1.9139,34.6879,2,34.6877,2,180.8,2,179.2,2,87.91,2,32.16,2,0,2,2.24,2,0.167,2,0.06,3,-999,9,2252.1,2,-999,9
  90KDIOFFE6_1,  S04P,696,1,13,13,2,19920226,810,-67.0087,-79.6068,4011,758.7,1.839,34.7086,2,34.7108,2,181.4,2,-999,5,90.7,2,31.72,2,0,2,2.22,2,0.107,2,0.035,3,-999,9,2253.2,2,-999,9
  90KDIOFFE6_1,  S04P,696,1,12,12,2,19920226,810,-67.0087,-79.6068,4011,1011,1.6791,34.7277,2,34.7297,2,190.1,2,190,2,96.11,2,30.93,2,0,2,2.17,2,-999,9,0.014,2,-999,9,-999,9,-999,9
  90KDIOFFE6_1,  S04P,696,1,11,11,2,19920226,810,-67.0087,-79.6068,4011,1263.5,1.4992,34.7291,2,34.7287,2,192.8,2,193.3,2,101.75,2,31.1,2,0,2,2.17,2,-999,9,-999,9,-999,9,-999,9,-999,9
  90KDIOFFE6_1,  S04P,696,1,10,10,2,19920226,810,-67.0087,-79.6068,4011,1517.1,1.3103,34.7254,2,34.725,2,197.5,2,196.2,2,107.84,2,31.02,2,0,2,2.18,2,0.029,2,0.003,3,-999,9,-999,9,-999,9
  90KDIOFFE6_1,  S04P,696,1,9,9,2,19920226,810,-67.0087,-79.6068,4011,1767.9,1.1524,34.7202,2,34.7209,2,198.5,2,198.9,2,112.41,2,31.29,2,0,2,2.19,2,0.014,2,0.003,3,-999,9,-999,9,-999,9
  90KDIOFFE6_1,  S04P,696,1,8,8,2,19920226,810,-67.0087,-79.6068,4011,2021.7,1.0115,34.716,2,34.716,2,201.7,2,201.7,2,117.43,2,31.46,2,0,2,2.2,2,0.012,2,0.002,3,-999,9,-999,9,-999,9
  90KDIOFFE6_1,  S04P,696,1,7,7,2,19920226,810,-67.0087,-79.6068,4011,2324.3,0.8527,34.7104,2,34.7119,2,206.4,2,204.8,2,122.69,2,31.53,2,0,2,2.21,2,-0.005,3,0,3,-999,9,-999,9,-999,9
  90KDIOFFE6_1,  S04P,696,1,6,6,2,19920226,810,-67.0087,-79.6068,4011,2627,0.7208,34.7061,2,34.7068,2,207.9,2,207.2,2,126.86,2,31.54,2,0,2,2.22,2,-0.001,3,0.003,3,-999,9,-999,9,-999,9
  90KDIOFFE6_1,  S04P,696,1,5,5,2,19920226,810,-67.0087,-79.6068,4011,2930.5,0.5709,34.7039,2,34.7033,2,209.7,2,210.1,2,130.6,2,31.86,2,0,2,2.23,2,0.01,2,0.004,3,-999,9,-999,9,-999,9
  90KDIOFFE6_1,  S04P,696,1,4,4,2,19920226,810,-67.0087,-79.6068,4011,3235.6,0.4709,34.7017,2,34.7011,2,213.1,2,212,2,134.57,2,32.03,2,0,2,2.24,2,0.012,2,0.007,3,-999,9,-999,9,-999,9
  90KDIOFFE6_1,  S04P,696,1,3,3,2,19920226,810,-67.0087,-79.6068,4011,3544.8,0.423,34.7013,2,34.7019,2,212.2,2,213.1,2,137.21,2,31.95,2,0,2,2.25,2,0.02,3,0.001,4,-999,9,-999,9,-999,9
  90KDIOFFE6_1,  S04P,696,1,2,2,2,19920226,810,-67.0087,-79.6068,4011,3855,0.393,34.7008,2,34.7015,2,212.4,2,214.1,2,140.08,2,32.01,2,0,2,2.25,2,-0.001,3,0.003,3,-999,9,-999,9,-999,9
  90KDIOFFE6_1,  S04P,696,1,1,1,2,19920226,810,-67.0087,-79.6068,4011,4071.4,0.362,34.7012,2,34.7021,2,213.6,2,214.2,2,144.54,2,31.98,2,0,2,2.26,2,0.028,2,0.01,3,-999,9,-999,9,-999,9
  90KDIOFFE6_1,  S04P,697,1,24,24,2,19920226,1329,-66.9813,-80.8638,4173,14.2,0.433,33.5708,2,33.5698,2,337.6,2,341.4,2,43.11,2,25.18,2,0.22,2,1.79,2,-999,9,-999,9,-999,9,2134,2,-999,9
  90KDIOFFE6_1,  S04P,697,1,23,23,2,19920226,1329,-66.9813,-80.8638,4173,44.2,0.1612,33.7102,2,33.719,2,337.5,2,337.3,2,45.02,2,26,2,0.19,2,1.85,2,-999,9,-999,9,-999,9,2145.5,2,-999,9
  90KDIOFFE6_1,  S04P,697,1,22,22,2,19920226,1329,-66.9813,-80.8638,4173,94,-1.3486,34.0353,2,34.0355,2,274.4,2,298.1,2,53.81,2,29.54,2,0.23,2,2.09,2,-999,9,-999,9,-999,9,-999,9,-999,9
  90KDIOFFE6_1,  S04P,697,1,21,21,2,19920226,1329,-66.9813,-80.8638,4173,144.5,0.0133,34.2506,2,34.2606,2,251.3,2,247.4,2,63.69,2,31.89,2,0.02,2,2.24,2,-999,9,-999,9,-999,9,-999,9,-999,9
  90KDIOFFE6_1,  S04P,697,1,20,20,2,19920226,1329,-66.9813,-80.8638,4173,185,1.0385,34.4182,2,34.4145,2,209.8,2,212,2,72.06,2,32.99,2,0.01,2,2.31,2,-999,9,-999,9,-999,9,-999,9,-999,9
  90KDIOFFE6_1,  S04P,697,1,19,19,2,19920226,1329,-66.9813,-80.8638,4173,244.5,1.711,34.5471,2,34.5482,2,186.9,2,186.3,2,78.72,2,33.38,2,0.01,2,2.34,2,-999,9,-999,9,-999,9,-999,9,-999,9
  90KDIOFFE6_1,  S04P,697,1,18,18,2,19920226,1329,-66.9813,-80.8638,4173,304.6,1.842,34.5949,2,34.5946,2,180.4,2,179.8,2,81.5,2,33.27,2,0.01,2,2.32,2,0.584,2,0.227,3,-999,9,-999,9,-999,9
  90KDIOFFE6_1,  S04P,697,1,17,17,2,19920226,1329,-66.9813,-80.8638,4173,405.4,1.9069,34.6487,2,34.6464,2,171.8,2,177,2,84.71,2,32.76,2,0.01,2,2.3,2,0.334,6,0.125,3,-999,9,-999,9,-999,9
  90KDIOFFE6_1,  S04P,697,1,16,16,2,19920226,1329,-66.9813,-80.8638,4173,505.3,1.9399,34.6792,2,34.6793,2,179,2,178.1,2,86.2,2,32.2,2,0,2,2.25,2,0.188,2,0.062,3,-999,9,-999,9,-999,9
  90KDIOFFE6_1,  S04P,697,1,15,15,2,19920226,1329,-66.9813,-80.8638,4173,606.1,1.9049,34.6974,2,34.6982,2,176.7,2,180.3,2,88.12,2,31.69,2,0,2,2.23,2,0.138,2,0.045,3,-999,9,-999,9,-999,9
  90KDIOFFE6_1,  S04P,697,1,14,14,2,19920226,1329,-66.9813,-80.8638,4173,805,1.789,34.7189,2,34.7189,2,188.2,2,185.1,2,91.99,2,31.18,2,0,2,2.19,2,0.076,2,0.023,3,-999,9,-999,9,-999,9
  90KDIOFFE6_1,  S04P,697,1,13,13,2,19920226,1329,-66.9813,-80.8638,4173,1004.2,1.6561,34.7264,2,34.7264,2,189.5,2,189.2,2,95.87,2,31.07,2,0,2,2.17,2,0.059,2,0.015,3,-999,9,-999,9,-999,9
  90KDIOFFE6_1,  S04P,697,1,12,12,2,19920226,1329,-66.9813,-80.8638,4173,1204.9,1.5112,34.7285,2,34.7289,2,191.7,2,191.6,2,100.62,2,30.86,2,0,2,2.17,2,-999,9,-999,9,-999,9,-999,9,-999,9
  90KDIOFFE6_1,  S04P,697,1,11,11,2,19920226,1329,-66.9813,-80.8638,4173,1404.3,1.3683,34.7267,2,34.7267,2,192.3,2,194.9,2,104.94,2,30.85,2,0,2,2.17,2,-999,9,-999,9,-999,9,-999,9,-999,9
  90KDIOFFE6_1,  S04P,697,1,10,10,2,19920226,1329,-66.9813,-80.8638,4173,1703.2,1.1854,34.7229,2,34.7222,2,196.9,2,198.3,2,110.81,2,31.1,2,0,2,2.19,2,-999,9,-999,9,-999,9,-999,9,-999,9
  90KDIOFFE6_1,  S04P,697,1,9,9,2,19920226,1329,-66.9813,-80.8638,4173,2004.1,1.0175,34.7159,2,34.7155,2,200.3,2,201.5,2,116.47,2,31.19,2,0,2,2.2,2,-999,9,-999,9,-999,9,-999,9,-999,9
  90KDIOFFE6_1,  S04P,697,1,8,8,2,19920226,1329,-66.9813,-80.8638,4173,2305.9,0.8706,34.7113,2,34.7104,2,206.1,2,204.4,2,121.5,2,31.23,2,0,2,2.21,2,-999,9,-999,9,-999,9,-999,9,-999,9
  90KDIOFFE6_1,  S04P,697,1,7,7,2,19920226,1329,-66.9813,-80.8638,4173,2613.3,0.7338,34.7063,2,34.7062,2,205.5,2,206.7,2,126.1,2,31.42,2,0,2,2.22,2,-999,9,-999,9,-999,9,-999,9,-999,9
  90KDIOFFE6_1,  S04P,697,1,6,6,2,19920226,1329,-66.9813,-80.8638,4173,2920.6,0.6068,34.7037,2,34.7032,2,208.9,2,209.5,2,129.17,2,31.51,2,0,2,2.23,2,-999,9,-999,9,-999,9,-999,9,-999,9
  90KDIOFFE6_1,  S04P,697,1,5,5,2,19920226,1329,-66.9813,-80.8638,4173,3228,0.4949,34.7019,2,34.7026,2,213.5,2,211.5,2,133.13,2,31.7,2,0,2,2.23,2,-999,9,-999,9,-999,9,-999,9,-999,9
  90KDIOFFE6_1,  S04P,697,1,4,4,2,19920226,1329,-66.9813,-80.8638,4173,3536.5,0.427,34.702,2,34.701,2,215,2,213,2,136.45,2,31.74,2,0,2,2.24,2,-999,9,-999,9,-999,9,-999,9,-999,9
  90KDIOFFE6_1,  S04P,697,1,3,3,2,19920226,1329,-66.9813,-80.8638,4173,3794.5,0.4,34.7012,2,34.701,2,215.1,2,213.8,2,138.2,2,31.73,2,0,2,2.25,2,-999,9,-999,9,-999,9,-999,9,-999,9
  90KDIOFFE6_1,  S04P,697,1,2,2,2,19920226,1329,-66.9813,-80.8638,4173,4053.2,0.367,34.7,2,34.7006,2,215.8,2,214.2,2,142.88,2,31.72,2,0,2,2.26,2,-999,9,-999,9,-999,9,-999,9,-999,9
  90KDIOFFE6_1,  S04P,697,1,1,1,2,19920226,1329,-66.9813,-80.8638,4173,4248.3,0.356,34.7007,2,34.7002,2,211.6,2,215.6,2,144.2,2,32.11,2,0,2,2.26,2,-999,9,-999,9,-999,9,-999,9,-999,9
  90KDIOFFE6_1,  S04P,698,1,24,24,4,19920226,1908,-66.9978,-82.2332,4228,45.6,0.6698,33.7558,2,33.7563,2,338.8,2,343.2,2,28.71,2,25.48,2,0.28,2,1.8,2,6.522,2,2.876,3,-999,9,-999,9,-999,9
  90KDIOFFE6_1,  S04P,698,1,23,23,4,19920226,1908,-66.9978,-82.2332,4228,95.4,-1.3466,33.8988,2,33.8925,2,350.2,2,352.2,2,34.68,2,26.96,2,0.19,2,1.93,2,6.615,2,2.953,3,-999,9,-999,9,-999,9
  90KDIOFFE6_1,  S04P,698,1,22,22,4,19920226,1908,-66.9978,-82.2332,4228,146.6,-0.7341,34.0098,2,34.0198,2,324.4,2,323.4,2,42.16,2,29.06,2,0.03,2,2.05,2,5.78,2,2.532,3,-999,9,-999,9,-999,9
  90KDIOFFE6_1,  S04P,698,1,21,21,4,19920226,1908,-66.9978,-82.2332,4228,186.1,-0.0437,34.1026,2,34.1231,2,296.1,2,295.2,2,49.42,2,30.42,2,0.01,2,2.14,2,4.662,2,2.075,3,-999,9,-999,9,-999,9
  90KDIOFFE6_1,  S04P,698,1,20,20,4,19920226,1908,-66.9978,-82.2332,4228,246.4,1.0056,34.2735,2,34.2736,2,249.5,2,250,2,59.69,2,32.21,2,0.01,2,2.26,2,3.294,2,1.428,3,-999,9,-999,9,-999,9
  90KDIOFFE6_1,  S04P,698,1,19,19,4,19920226,1908,-66.9978,-82.2332,4228,306,1.6251,34.385,2,34.3898,2,214.2,2,214,2,67.18,2,33.26,2,0,2,2.34,2,1.835,2,0.796,3,-999,9,-999,9,-999,9
  90KDIOFFE6_1,  S04P,698,1,18,18,4,19920226,1908,-66.9978,-82.2332,4228,407,1.9719,34.5095,2,34.5103,2,186.6,2,186.7,2,74.88,2,33.66,2,0,2,2.36,2,0.886,2,0.358,3,-999,9,-999,9,-999,9
  90KDIOFFE6_1,  S04P,698,1,17,17,4,19920226,1908,-66.9978,-82.2332,4228,507.9,1.9739,34.5608,2,34.5613,2,179.5,2,182.2,2,78.51,2,33.31,2,0,2,2.34,2,0.655,2,0.269,3,-999,9,-999,9,-999,9
  90KDIOFFE6_1,  S04P,698,1,16,16,4,19920226,1908,-66.9978,-82.2332,4228,608.2,1.9879,34.6097,2,34.6089,2,176.7,2,179.9,2,81.49,2,32.85,2,0,2,2.31,2,0.46,2,0.187,3,-999,9,-999,9,-999,9
  90KDIOFFE6_1,  S04P,698,1,15,15,4,19920226,1908,-66.9978,-82.2332,4228,809.4,2.0268,34.6785,2,34.6795,2,180.8,2,179,2,86.2,2,31.9,2,0.01,2,2.23,2,0.147,2,0.053,3,-999,9,-999,9,-999,9
  90KDIOFFE6_1,  S04P,698,1,14,14,4,19920226,1908,-66.9978,-82.2332,4228,1011.8,1.9099,34.7108,2,34.7107,2,184.3,2,183.5,2,89.83,2,31.3,2,0,2,2.18,2,0.082,4,0.027,3,-999,9,-999,9,-999,9
  90KDIOFFE6_1,  S04P,698,1,13,13,4,19920226,1908,-66.9978,-82.2332,4228,1213.2,1.771,34.724,2,34.7244,2,188.1,2,188.1,2,94.34,2,31,2,0,2,2.16,2,0.058,2,0.019,3,-999,9,-999,9,-999,9
  90KDIOFFE6_1,  S04P,698,1,12,12,4,19920226,1908,-66.9978,-82.2332,4228,1414.6,1.6071,34.7295,2,34.7295,2,193,2,191.9,2,98.85,2,31,2,0,2,2.16,2,0.04,6,0.013,3,-999,9,-999,9,-999,9
  90KDIOFFE6_1,  S04P,698,1,11,11,4,19920226,1908,-66.9978,-82.2332,4228,1719.4,1.3793,34.7258,2,34.7255,2,199.2,2,195.5,2,106.42,2,31.15,2,0,2,2.17,2,0.024,2,0.007,3,-999,9,-999,9,-999,9
  90KDIOFFE6_1,  S04P,698,1,10,10,4,19920226,1908,-66.9978,-82.2332,4228,2025.4,1.1914,34.7198,2,34.7212,2,200.2,2,198.9,2,112.28,2,31.2,2,0,2,2.18,2,0.011,3,0.007,3,-999,9,-999,9,-999,9
  90KDIOFFE6_1,  S04P,698,1,9,9,4,19920226,1908,-66.9978,-82.2332,4228,2329.9,1.0175,34.7136,2,34.7145,2,204.1,2,202.4,2,117.72,2,31.4,2,0,2,2.19,2,0.007,3,0.006,3,-999,9,-999,9,-999,9
  90KDIOFFE6_1,  S04P,698,1,8,8,4,19920226,1908,-66.9978,-82.2332,4228,2635.3,0.8537,34.7091,2,34.7103,2,206.5,2,205.2,2,123.39,2,31.59,2,0,2,2.2,2,0.013,2,0.005,3,-999,9,-999,9,-999,9
  90KDIOFFE6_1,  S04P,698,1,7,7,4,19920226,1908,-66.9978,-82.2332,4228,2941.8,0.7178,34.7058,2,34.7062,2,206.8,2,207.9,2,127.55,2,31.59,2,0,2,2.24,2,0.011,2,0.005,3,-999,9,-999,9,-999,9
  90KDIOFFE6_1,  S04P,698,1,6,6,4,19920226,1908,-66.9978,-82.2332,4228,3248.2,0.5729,34.7028,2,34.7038,2,210.7,2,210.8,2,131.28,2,31.79,2,0,2,2.22,2,0.009,2,0.005,3,-999,9,-999,9,-999,9
  90KDIOFFE6_1,  S04P,698,1,5,5,4,19920226,1908,-66.9978,-82.2332,4228,3554.3,0.4749,34.7026,2,34.702,2,212.2,2,212.7,2,135.24,2,31.89,2,0,2,2.23,2,0.009,2,0.003,3,-999,9,-999,9,-999,9
  90KDIOFFE6_1,  S04P,698,1,4,4,4,19920226,1908,-66.9978,-82.2332,4228,3810.3,0.441,34.7003,2,34.7002,2,213.5,2,213.6,2,137.88,2,32.19,2,0,2,2.23,2,0.008,2,0.003,3,-999,9,-999,9,-999,9
  90KDIOFFE6_1,  S04P,698,1,3,3,4,19920226,1908,-66.9978,-82.2332,4228,4066.9,0.413,34.7011,2,34.7006,2,214.8,2,214.3,2,140.08,2,32.09,2,0,2,2.24,2,0.02,3,0.005,3,-999,9,-999,9,-999,9
  90KDIOFFE6_1,  S04P,698,1,1,1,4,19920226,1908,-66.9978,-82.2332,4228,4295.5,0.377,34.6995,2,34.7006,2,213.8,2,215.1,2,144.5,2,32.18,2,0,2,2.25,2,0.026,2,0.01,3,-999,9,-999,9,-999,9
  90KDIOFFE6_1,  S04P,698,1,2,2,4,19920226,1908,-66.9978,-82.2332,4228,4296.1,0.375,34.7002,2,34.6996,2,213.8,2,214.8,2,144.54,2,32.19,2,0,2,2.25,2,0.02,2,0.013,3,-999,9,-999,9,-999,9
  90KDIOFFE6_1,  S04P,699,1,24,24,2,19920227,14,-66.9967,-83.4367,4239,15.1,0.7767,33.6819,2,33.6796,2,367.7,3,341.4,2,33.1,2,25.74,2,0.31,2,1.85,2,-999,9,-999,9,-999,9,2134.9,2,-999,9
  90KDIOFFE6_1,  S04P,699,1,23,23,2,19920227,14,-66.9967,-83.4367,4239,45.4,0.7647,33.681,2,33.6839,2,341.1,2,341.7,2,33.08,2,25.76,2,0.3,2,1.86,2,-999,9,-999,9,-999,9,2136.7,2,-999,9
  90KDIOFFE6_1,  S04P,699,1,22,22,2,19920227,14,-66.9967,-83.4367,4239,96.2,-1.4545,33.9121,2,33.9133,2,343.5,2,345.4,2,37.14,2,27.23,2,0.22,2,1.97,2,-999,9,-999,9,-999,9,2163.4,2,-999,9
  90KDIOFFE6_1,  S04P,699,1,21,21,2,19920227,14,-66.9967,-83.4367,4239,146,-0.7391,34.0549,2,34.0541,2,315.4,2,-999,5,45.49,2,29.32,2,0.03,2,2.09,2,-999,9,-999,9,-999,9,2183.9,2,-999,9
  90KDIOFFE6_1,  S04P,699,1,20,20,2,19920227,14,-66.9967,-83.4367,4239,186.3,0.6018,34.2097,2,34.2105,2,275.2,2,269.5,2,54.49,2,31.24,2,0.01,2,2.22,2,-999,9,-999,9,-999,9,2206.5,2,-999,9
  90KDIOFFE6_1,  S04P,699,1,19,19,2,19920227,14,-66.9967,-83.4367,4239,246.8,1.5542,34.3648,2,34.3699,2,217.5,2,218.2,2,65,2,32.95,2,0.01,2,2.34,2,-999,9,-999,9,-999,9,2231.2,2,-999,9
  90KDIOFFE6_1,  S04P,699,1,18,18,2,19920227,14,-66.9967,-83.4367,4239,306.9,1.776,34.4368,2,34.4383,2,200.2,2,200.8,2,69.5,2,33.37,2,0.01,2,2.37,2,-999,9,-999,9,-999,9,2239.1,2,-999,9
  90KDIOFFE6_1,  S04P,699,1,17,17,2,19920227,14,-66.9967,-83.4367,4239,407.5,1.9919,34.5262,2,34.5244,2,183.6,2,184.3,2,75.08,2,33.33,2,0.01,2,2.37,2,-999,9,-999,9,-999,9,2248.8,2,-999,9
  90KDIOFFE6_1,  S04P,699,1,16,16,2,19920227,14,-66.9967,-83.4367,4239,508.3,2.0408,34.5802,2,34.5811,2,179.3,2,179.4,2,78.73,2,33.04,2,0.01,2,2.34,2,-999,9,-999,9,-999,9,2249.6,2,-999,9
  90KDIOFFE6_1,  S04P,699,1,15,15,2,19920227,14,-66.9967,-83.4367,4239,608.9,2.0298,34.6272,2,34.6238,2,179.9,2,179,2,81.29,2,32.5,2,0.01,2,2.31,2,-999,9,-999,9,-999,9,2254.2,2,-999,9
  90KDIOFFE6_1,  S04P,699,1,14,14,2,19920227,14,-66.9967,-83.4367,4239,810.4,1.9919,34.6799,2,34.6792,2,179.9,2,179.5,2,85.59,2,31.71,2,0.01,2,2.26,2,-999,9,-999,9,-999,9,2253.5,2,-999,9
  90KDIOFFE6_1,  S04P,699,1,13,13,2,19920227,14,-66.9967,-83.4367,4239,1012.8,1.8929,34.7137,2,34.7129,2,184.9,2,184.8,2,89.47,2,31.12,2,0.01,2,2.2,2,-999,9,-999,9,-999,9,2253.1,2,-999,9
  90KDIOFFE6_1,  S04P,699,1,12,12,2,19920227,14,-66.9967,-83.4367,4239,1214.6,1.751,34.725,2,34.7251,2,188.1,2,188.4,2,94,2,30.63,2,0.01,2,2.19,2,-999,9,-999,9,-999,9,2252.6,2,-999,9
  90KDIOFFE6_1,  S04P,699,1,11,11,2,19920227,14,-66.9967,-83.4367,4239,1416.6,1.5971,34.7293,2,34.7282,2,193.4,2,192.2,2,99.19,2,30.64,2,0.01,2,2.18,2,-999,9,-999,9,-999,9,2251.9,2,-999,9
  90KDIOFFE6_1,  S04P,699,1,10,10,2,19920227,14,-66.9967,-83.4367,4239,1720.3,1.3643,34.7241,2,34.7247,2,196.3,2,195.9,2,106.79,2,30.8,2,0.01,2,2.2,2,-999,9,-999,9,-999,9,2255.2,2,-999,9
  90KDIOFFE6_1,  S04P,699,1,9,9,2,19920227,14,-66.9967,-83.4367,4239,2024.6,1.2014,34.7206,2,34.7208,2,199.4,2,199.2,2,111.58,2,30.86,2,0.01,2,2.2,2,-999,9,-999,9,-999,9,2255.2,2,-999,9
  90KDIOFFE6_1,  S04P,699,1,8,8,2,19920227,14,-66.9967,-83.4367,4239,2327.9,1.0085,34.7155,2,34.7143,2,202.7,2,202.5,2,117.7,2,31.18,2,0.01,2,2.21,2,-999,9,-999,9,-999,9,2261.1,2,-999,9
  90KDIOFFE6_1,  S04P,699,1,7,7,2,19920227,14,-66.9967,-83.4367,4239,2632.1,0.8577,34.7088,2,34.7094,2,204.5,2,205.5,2,123.19,2,31.39,2,0.01,2,2.22,2,-999,9,-999,9,-999,9,2258.5,2,-999,9
  90KDIOFFE6_1,  S04P,699,1,6,6,2,19920227,14,-66.9967,-83.4367,4239,2936.3,0.7168,34.7057,2,34.7054,2,207.5,2,208.1,2,127.15,2,31.61,2,0,2,2.24,2,0.01,2,0.002,4,-999,9,2258,2,-999,9
  90KDIOFFE6_1,  S04P,699,1,5,5,2,19920227,14,-66.9967,-83.4367,4239,3240.3,0.5739,34.7028,2,34.7031,2,211.9,2,210.9,2,131.35,2,31.77,2,0,2,2.24,2,0.008,2,0.005,3,-999,9,2262,2,-999,9
  90KDIOFFE6_1,  S04P,699,1,4,4,2,19920227,14,-66.9967,-83.4367,4239,3546.8,0.4729,34.7019,2,34.7013,2,213.6,2,212.8,2,135.34,2,31.78,2,0,2,2.25,2,0.008,2,0.005,3,-999,9,2261.2,2,-999,9
  90KDIOFFE6_1,  S04P,699,1,3,3,2,19920227,14,-66.9967,-83.4367,4239,3802.5,0.437,34.7018,2,34.7019,2,214.1,2,213.6,2,137.34,2,31.89,2,0,2,2.26,2,0.015,3,0.004,3,-999,9,2260.7,2,-999,9
  90KDIOFFE6_1,  S04P,699,1,2,2,2,19920227,14,-66.9967,-83.4367,4239,4059.8,0.413,34.7004,2,34.7003,2,216.3,2,214.5,2,139.79,2,32.01,2,0,2,2.27,2,0.01,2,0.009,3,-999,9,2260.3,2,-999,9
  90KDIOFFE6_1,  S04P,699,1,1,1,2,19920227,14,-66.9967,-83.4367,4239,4308.2,0.394,34.701,2,34.7007,2,213,2,214.6,2,143.82,2,32.17,2,0,2,2.27,2,0.023,2,0.013,3,-999,9,2262.2,2,-999,9