BOTTLE,20181005JHS,,,,,,,,,,,,,,,,,,,,,,,,,,,,,,,,,,,,,,
EXPOCODE,SECT_ID,STNNBR,CASTNO,SAMPNO,BTLNBR,BTLNBR_FLAG_W,DATE,TIME,LATITUDE,LONGITUDE,DEPTH,CTDPRS,CTDTMP,CTDSAL,CTDSAL_FLAG_W,SALNTY,SALNTY_FLAG_W,CTDOXY,CTDOXY_FLAG_W,OXYGEN,OXYGEN_FLAG_W,SILCAT,SILCAT_FLAG_W,NITRAT,NITRAT_FLAG_W,NITRIT,NITRIT_FLAG_W,PHSPHT,PHSPHT_FLAG_W,CFC-11,CFC-11_FLAG_W,CFC-12,CFC-12_FLAG_W,SF6,SF6_FLAG_W,TCARBN,TCARBN_FLAG_W,ALKALI,ALKALI_FLAG_W
,,,,,,,,,,,,DBAR,ITS-90,PSS-78,,PSS-78,,UMOL/KG,,UMOL/KG,,UMOL/KG,,UMOL/KG,,UMOL/KG,,UMOL/KG,,PMOL/KG,,PMOL/KG,,FMOL/KG,,UMOL/KG,,UMOL/KG,
  90KDIOFFE6_1,  S04P,756,1,24,24,2,19920317,1809,-66.9978,-170.5768,3413,11.1,0.3122,33.8235,2,33.8242,2,340.2,2,340.7,2,45.44,2,23.77,2,0.21,2,1.58,2,6.162,2,2.784,3,-999,9,2143.9,2,-999,9
  90KDIOFFE6_1,  S04P,756,1,23,23,2,19920317,1809,-66.9978,-170.5768,3413,57.2,0.2042,33.8707,2,33.8609,2,335,2,335.5,2,46.43,2,23.87,2,0.2,2,1.64,2,6.105,2,2.761,3,-999,9,2150.5,2,-999,9
  90KDIOFFE6_1,  S04P,756,1,22,22,2,19920317,1809,-66.9978,-170.5768,3413,77.7,-1.509,34.1813,2,34.1863,2,295.9,2,304.5,2,66.61,2,28.44,2,0.18,2,2.08,2,4.761,2,2.111,3,-999,9,2200,2,-999,9
  90KDIOFFE6_1,  S04P,756,1,21,21,2,19920317,1809,-66.9978,-170.5768,3413,101.7,-1.2048,34.2467,2,34.2489,2,285.6,2,284.7,2,70.21,2,29.59,2,0.2,2,2.12,2,4.092,2,1.822,3,-999,9,2208,2,-999,9
  90KDIOFFE6_1,  S04P,756,1,20,20,2,19920317,1809,-66.9978,-170.5768,3413,152.4,0.2805,34.4857,2,34.4897,2,233.1,2,225.2,2,81.83,2,31.48,2,0.02,2,2.23,2,1.962,6,0.859,3,-999,9,-999,9,-999,9
  90KDIOFFE6_1,  S04P,756,1,19,19,2,19920317,1809,-66.9978,-170.5768,3413,203,1.1071,34.6244,2,34.6278,2,196,2,197.8,2,88.46,2,31.96,2,0.01,2,2.27,2,0.904,2,0.387,3,-999,9,-999,9,-999,9
  90KDIOFFE6_1,  S04P,756,1,18,18,2,19920317,1809,-66.9978,-170.5768,3413,253.2,1.3406,34.6773,2,34.6804,2,191,2,192.9,2,91.08,2,31.62,2,0.01,2,2.24,2,0.529,2,0.217,3,-999,9,-999,9,-999,9
  90KDIOFFE6_1,  S04P,756,1,17,17,2,19920317,1809,-66.9978,-170.5768,3413,302.3,1.3963,34.7028,2,34.7034,2,191.8,2,193,2,93.09,2,31.45,2,0.01,2,2.22,2,0.352,2,0.14,3,-999,9,-999,9,-999,9
  90KDIOFFE6_1,  S04P,756,1,16,16,2,19920317,1809,-66.9978,-170.5768,3413,404.5,1.3668,34.7172,2,34.7167,2,195.2,2,194.3,2,96.73,2,31.17,2,0.01,2,2.2,2,0.232,2,0.091,3,-999,9,-999,9,-999,9
  90KDIOFFE6_1,  S04P,756,1,15,15,2,19920317,1809,-66.9978,-170.5768,3413,504.2,1.3089,34.7214,2,34.7212,2,198,2,195.5,2,99.77,2,30.99,2,0.01,2,2.2,2,0.176,2,0.065,3,-999,9,-999,9,-999,9
  90KDIOFFE6_1,  S04P,756,1,14,14,2,19920317,1809,-66.9978,-170.5768,3413,603.6,1.2412,34.7215,2,34.7212,2,198.3,2,196.3,2,102.61,2,31.14,2,0.01,2,2.2,2,0.147,2,0.055,3,-999,9,-999,9,-999,9
  90KDIOFFE6_1,  S04P,756,1,13,13,2,19920317,1809,-66.9978,-170.5768,3413,756,1.1283,34.7198,2,34.7195,2,200.6,2,197.8,2,106.88,2,31.13,2,0,2,2.21,2,0.107,2,0.021,4,-999,9,-999,9,-999,9
  90KDIOFFE6_1,  S04P,756,1,12,12,2,19920317,1809,-66.9978,-170.5768,3413,906.6,1.0225,34.7171,2,34.7165,2,201.9,2,200.7,2,110.14,2,31.28,2,0,2,2.21,2,0.092,2,0.03,3,-999,9,-999,9,-999,9
  90KDIOFFE6_1,  S04P,756,1,26,26,2,19920317,1809,-66.9978,-170.5768,3413,1104.2,0.9004,34.7128,2,34.7118,2,203.9,2,202.8,2,114.24,2,31.32,2,0,2,2.22,2,0.073,2,0.027,3,-999,9,-999,9,-999,9
  90KDIOFFE6_1,  S04P,756,1,10,10,2,19920317,1809,-66.9978,-170.5768,3413,1303.2,0.7741,34.7081,2,34.7071,2,203.7,2,205.1,2,117.94,2,31.47,2,0,2,2.23,2,0.073,2,0.027,3,-999,9,-999,9,-999,9
  90KDIOFFE6_1,  S04P,756,1,27,27,2,19920317,1809,-66.9978,-170.5768,3413,1504.9,0.6726,34.7044,2,34.703,2,206.2,2,207.3,2,120.82,2,31.61,2,0,2,2.24,2,0.083,2,0.023,3,-999,9,-999,9,-999,9
  90KDIOFFE6_1,  S04P,756,1,8,8,2,19920317,1809,-66.9978,-170.5768,3413,1705.6,0.5806,34.7006,2,34.6997,2,206.9,2,209.1,2,123.3,2,31.76,2,0,2,2.24,2,0.111,2,0.037,3,-999,9,-999,9,-999,9
  90KDIOFFE6_1,  S04P,756,1,7,7,2,19920317,1809,-66.9978,-170.5768,3413,1907.7,0.5009,34.6988,2,34.6979,2,210,2,210.6,2,124.75,2,31.8,2,0,2,2.24,2,0.129,2,0.049,3,-999,9,-999,9,-999,9
  90KDIOFFE6_1,  S04P,756,1,6,6,2,19920317,1809,-66.9978,-170.5768,3413,2110.2,0.417,34.6973,2,34.6966,2,210.7,2,212.5,2,125.79,2,31.73,2,0,2,2.24,2,0.17,6,0.065,3,-999,9,-999,9,-999,9
  90KDIOFFE6_1,  S04P,756,1,5,5,2,19920317,1809,-66.9978,-170.5768,3413,2410.7,0.3129,34.6975,2,34.6968,2,213.9,2,214.8,2,127.45,2,31.83,2,0,2,2.26,2,0.205,2,0.079,3,-999,9,-999,9,-999,9
  90KDIOFFE6_1,  S04P,756,1,28,28,2,19920317,1809,-66.9978,-170.5768,3413,2709.4,0.2244,34.6956,2,34.6946,2,215.8,2,218.5,2,123.71,2,31.76,2,0,2,2.25,2,0.403,2,0.166,3,-999,9,-999,9,-999,9
  90KDIOFFE6_1,  S04P,756,1,3,3,2,19920317,1809,-66.9978,-170.5768,3413,3012.8,0.207,34.6952,2,34.6956,2,220.5,2,219.6,2,123.08,2,31.58,2,0,2,2.24,2,0.473,2,0.188,3,-999,9,-999,9,-999,9
  90KDIOFFE6_1,  S04P,756,1,2,2,2,19920317,1809,-66.9978,-170.5768,3413,3265.2,0.2069,34.6952,2,34.6948,2,221.4,2,220.5,2,122.67,2,31.68,2,0,2,2.24,2,0.501,2,0.206,3,-999,9,-999,9,-999,9
  90KDIOFFE6_1,  S04P,756,1,1,1,2,19920317,1809,-66.9978,-170.5768,3413,3470.8,0.2051,34.6954,2,34.695,2,222.8,2,221,2,121.83,2,31.77,2,0,2,2.24,2,0.548,2,0.219,3,-999,9,-999,9,-999,9
  90KDIOFFE6_1,  S04P,757,1,24,24,2,19920318,3,-67.0027,-171.8608,4230,13.1,0.4889,33.7802,2,33.7792,2,340,2,339.8,2,42.16,2,23.08,2,0.21,2,1.53,2,-999,9,-999,9,-999,9,2139.5,2,-999,9
  90KDIOFFE6_1,  S04P,757,1,23,23,2,19920318,3,-67.0027,-171.8608,4230,48.3,0.4007,33.8012,2,33.8064,2,335.3,2,337.6,2,43.95,2,23.38,2,0.21,2,1.57,2,-999,9,-999,9,-999,9,2143.9,2,-999,9
  90KDIOFFE6_1,  S04P,757,1,22,22,2,19920318,3,-67.0027,-171.8608,4230,73.1,-1.1868,34.2113,2,34.2197,2,309.6,2,293.8,2,68.46,2,29,2,0.17,2,2.09,2,-999,9,-999,9,-999,9,2206.3,2,-999,9
  90KDIOFFE6_1,  S04P,757,1,21,21,2,19920318,3,-67.0027,-171.8608,4230,113.8,0.0205,34.4494,2,34.4458,2,236.9,2,238.5,2,80.14,2,31.33,2,0.03,2,2.22,2,-999,9,-999,9,-999,9,2231.6,2,-999,9
  90KDIOFFE6_1,  S04P,757,1,20,20,2,19920318,3,-67.0027,-171.8608,4230,161.7,1.0224,34.6213,2,34.6195,2,201.2,2,200.4,2,88.63,2,32.06,2,0.02,2,2.28,2,-999,9,-999,9,-999,9,2251.3,2,-999,9
  90KDIOFFE6_1,  S04P,757,1,19,19,2,19920318,3,-67.0027,-171.8608,4230,223.9,1.284,34.685,2,34.6837,2,193.4,2,194.1,2,92.69,2,31.59,2,0.02,2,2.24,2,-999,9,-999,9,-999,9,2252.6,2,-999,9
  90KDIOFFE6_1,  S04P,757,1,18,18,2,19920318,3,-67.0027,-171.8608,4230,304.5,1.3403,34.7059,2,34.7056,2,195.3,2,194,2,95.33,2,31.46,2,0.01,2,2.22,2,-999,9,-999,9,-999,9,2252,2,-999,9
  90KDIOFFE6_1,  S04P,757,1,17,17,2,19920318,3,-67.0027,-171.8608,4230,404.4,1.3236,34.7171,2,34.717,2,195.6,2,194.5,2,98.79,2,31.21,2,0.01,2,2.2,2,-999,9,-999,9,-999,9,2254.4,2,-999,9
  90KDIOFFE6_1,  S04P,757,1,16,16,2,19920318,3,-67.0027,-171.8608,4230,504.4,1.2688,34.7209,2,34.7202,2,196.1,2,195.5,2,101.65,2,31.18,2,0.01,2,2.2,2,-999,9,-999,9,-999,9,2255.1,2,-999,9
  90KDIOFFE6_1,  S04P,757,1,15,15,2,19920318,3,-67.0027,-171.8608,4230,704.4,1.1317,34.7211,2,34.7196,2,199.5,2,198.9,2,106.98,2,31.42,2,0.01,2,2.2,2,-999,9,-999,9,-999,9,2254.9,2,-999,9
  90KDIOFFE6_1,  S04P,757,1,14,14,2,19920318,3,-67.0027,-171.8608,4230,904.3,0.9922,34.7169,2,34.7153,2,200.2,2,201.4,2,111.3,2,31.28,2,0.01,2,2.21,2,-999,9,-999,9,-999,9,2258.8,2,-999,9
  90KDIOFFE6_1,  S04P,757,1,13,13,2,19920318,3,-67.0027,-171.8608,4230,1104.4,0.8695,34.7119,2,34.7113,2,202.7,2,203.4,2,115.43,2,31.62,2,0,2,2.22,2,0.068,2,0.026,3,-999,9,2258.7,2,-999,9
  90KDIOFFE6_1,  S04P,757,1,12,12,2,19920318,3,-67.0027,-171.8608,4230,1353.5,0.7234,34.7063,2,34.706,2,205.6,2,206.2,2,119.99,2,31.64,2,0,2,2.23,2,-999,9,-999,9,-999,9,-999,9,-999,9
  90KDIOFFE6_1,  S04P,757,1,26,26,2,19920318,3,-67.0027,-171.8608,4230,1650.3,0.5891,34.7008,2,34.7005,2,208.5,2,208.9,2,123.32,2,31.82,2,0,2,2.24,2,0.108,2,0.043,3,-999,9,-999,9,-999,9
  90KDIOFFE6_1,  S04P,757,1,10,10,2,19920318,3,-67.0027,-171.8608,4230,1856.3,0.4995,34.699,2,34.6982,2,210.5,2,210.9,2,124.58,2,31.9,2,0,2,2.24,2,-999,9,-999,9,-999,9,-999,9,-999,9
  90KDIOFFE6_1,  S04P,757,1,27,27,2,19920318,3,-67.0027,-171.8608,4230,2108,0.4089,34.6977,2,34.6972,2,211.6,2,212.4,2,126.26,2,31.97,2,0,2,2.25,2,0.166,2,0.065,3,-999,9,-999,9,-999,9
  90KDIOFFE6_1,  S04P,757,1,8,8,2,19920318,3,-67.0027,-171.8608,4230,2360.5,0.3243,34.6969,2,34.6962,2,214.2,2,214.7,2,127.52,2,32.04,2,0,2,2.25,2,-999,9,-999,9,-999,9,-999,9,-999,9
  90KDIOFFE6_1,  S04P,757,1,7,7,2,19920318,3,-67.0027,-171.8608,4230,2614.5,0.2528,34.6955,2,34.6949,2,216.4,2,217.5,2,125.65,2,31.96,2,0,2,2.25,2,0.337,2,0.138,3,-999,9,-999,9,-999,9
  90KDIOFFE6_1,  S04P,757,1,6,6,2,19920318,3,-67.0027,-171.8608,4230,2920.7,0.2128,34.6955,2,34.6943,2,219.3,2,219.4,2,123.77,2,31.92,2,0,2,2.25,2,-999,9,-999,9,-999,9,-999,9,-999,9
  90KDIOFFE6_1,  S04P,757,1,5,5,2,19920318,3,-67.0027,-171.8608,4230,3229.5,0.2166,34.6952,2,34.6941,2,220.3,2,220.1,2,123.36,2,31.83,2,0,2,2.25,2,0.493,2,0.204,3,-999,9,-999,9,-999,9
  90KDIOFFE6_1,  S04P,757,1,28,28,2,19920318,3,-67.0027,-171.8608,4230,3537.4,0.2298,34.6952,2,34.6949,2,220.8,2,220.7,2,123.16,2,31.8,2,0,2,2.24,2,-999,9,-999,9,-999,9,-999,9,-999,9
  90KDIOFFE6_1,  S04P,757,1,3,3,2,19920318,3,-67.0027,-171.8608,4230,3843.6,0.2511,34.6955,2,34.6949,2,221.4,2,221.1,2,122.75,2,31.82,2,0,2,2.24,2,0.544,2,0.228,3,-999,9,-999,9,-999,9
  90KDIOFFE6_1,  S04P,757,1,2,2,2,19920318,3,-67.0027,-171.8608,4230,4049.9,0.2699,34.6953,2,34.6947,2,221.9,2,221,2,122.75,2,31.89,2,0,2,2.24,2,-999,9,-999,9,-999,9,-999,9,-999,9
  90KDIOFFE6_1,  S04P,757,1,1,1,2,19920318,3,-67.0027,-171.8608,4230,4152.4,0.2806,34.6953,2,34.6958,2,222.4,2,221.3,2,122.76,2,31.96,2,0,2,2.25,2,0.536,2,0.229,3,-999,9,-999,9,-999,9
  90KDIOFFE6_1,  S04P,758,1,24,24,2,19920318,549,-67.0047,-173.1245,3423,15.3,0.0982,33.7085,2,33.7075,2,338.3,2,341.3,2,44.2,2,23.77,2,0.19,2,1.54,2,6.163,2,2.767,3,-999,9,2140,2,-999,9
  90KDIOFFE6_1,  S04P,758,1,23,23,2,19920318,549,-67.0047,-173.1245,3423,44.6,-0.0378,33.7415,2,33.795,2,339.2,2,336.1,2,47.63,2,24.55,2,0.18,2,1.64,2,5.837,2,2.624,3,-999,9,2149.3,2,-999,9
  90KDIOFFE6_1,  S04P,758,1,22,22,2,19920318,549,-67.0047,-173.1245,3423,70.4,-1.5434,34.1981,2,34.1915,2,306.5,2,309.6,2,66.41,2,28.68,2,0.19,2,2.06,2,4.868,2,2.13,3,-999,9,2200.1,2,-999,9
  90KDIOFFE6_1,  S04P,758,1,21,21,2,19920318,549,-67.0047,-173.1245,3423,105.4,-0.7612,34.3209,2,34.3204,2,263.6,2,267,2,72.67,2,30.54,2,0.09,2,2.16,2,3.515,2,1.567,3,-999,9,-999,9,-999,9
  90KDIOFFE6_1,  S04P,758,1,20,20,2,19920318,549,-67.0047,-173.1245,3423,155.7,0.8585,34.5882,2,34.585,2,203.2,2,204.8,2,86.45,2,32.29,2,0.01,2,2.29,2,1.269,2,0.55,3,-999,9,-999,9,-999,9
  90KDIOFFE6_1,  S04P,758,1,19,19,2,19920318,549,-67.0047,-173.1245,3423,205.6,1.2866,34.6706,2,34.6707,2,194.3,2,192.9,2,90.51,2,32.05,2,0.02,2,2.28,2,0.634,2,0.258,3,-999,9,-999,9,-999,9
  90KDIOFFE6_1,  S04P,758,1,18,18,2,19920318,549,-67.0047,-173.1245,3423,255.6,1.3099,34.6912,2,34.6909,2,193.6,2,193.8,2,93.56,2,31.84,2,0.01,2,2.25,2,0.476,6,0.194,3,-999,9,-999,9,-999,9
  90KDIOFFE6_1,  S04P,758,1,17,17,2,19920318,549,-67.0047,-173.1245,3423,306.6,1.355,34.7071,2,34.7075,2,192.8,2,192.3,2,96,2,31.66,2,0,2,2.22,2,0.306,2,0.126,3,-999,9,-999,9,-999,9
  90KDIOFFE6_1,  S04P,758,1,16,16,2,19920318,549,-67.0047,-173.1245,3423,406.6,1.302,34.7141,2,34.7138,2,195.6,2,194.9,2,98.45,2,31.35,2,0,2,2.21,2,0.269,2,0.104,3,-999,9,-999,9,-999,9
  90KDIOFFE6_1,  S04P,758,1,15,15,2,19920318,549,-67.0047,-173.1245,3423,506.7,1.2443,34.7178,2,34.7175,2,197.2,2,196.4,2,101.1,2,31.3,2,0,2,2.21,2,0.224,2,0.091,3,-999,9,-999,9,-999,9
  90KDIOFFE6_1,  S04P,758,1,14,14,2,19920318,549,-67.0047,-173.1245,3423,606.6,1.1867,34.719,2,34.7189,2,197.1,2,197.8,2,103.76,2,31.3,2,0,2,2.21,2,0.174,2,0.068,3,-999,9,-999,9,-999,9
  90KDIOFFE6_1,  S04P,758,1,13,13,2,19920318,549,-67.0047,-173.1245,3423,808.9,1.0479,34.7175,2,34.7167,2,199.9,2,199.2,2,109.71,2,31.44,2,0,2,2.21,2,0.107,2,0.04,3,-999,9,-999,9,-999,9
  90KDIOFFE6_1,  S04P,758,1,12,12,2,19920318,549,-67.0047,-173.1245,3423,1011.6,0.9224,34.7139,2,34.7136,2,201.5,2,201.3,2,114.87,2,31.67,2,0,2,2.22,2,0.068,2,0.023,3,-999,9,-999,9,-999,9
  90KDIOFFE6_1,  S04P,758,1,26,26,2,19920318,549,-67.0047,-173.1245,3423,1213.4,0.7962,34.7091,2,34.7071,2,205.3,2,204.6,2,117.76,2,31.67,2,0,2,2.22,2,0.069,2,0.026,3,-999,9,-999,9,-999,9
  90KDIOFFE6_1,  S04P,758,1,10,10,2,19920318,549,-67.0047,-173.1245,3423,1415.2,0.6835,34.7048,2,34.704,2,205.3,2,206.9,2,121.08,2,31.72,2,0,2,2.24,2,0.078,2,0.031,3,-999,9,-999,9,-999,9
  90KDIOFFE6_1,  S04P,758,1,27,27,2,19920318,549,-67.0047,-173.1245,3423,1668.4,0.5673,34.7007,2,34.7,2,208.1,2,209.3,2,123.57,2,31.9,2,0,2,2.25,2,-999,9,-999,9,-999,9,-999,9,-999,9
  90KDIOFFE6_1,  S04P,758,1,8,8,2,19920318,549,-67.0047,-173.1245,3423,1923.6,0.4611,34.6986,2,34.6986,2,210.9,2,211.5,2,126.07,2,31.9,2,0,2,2.25,2,0.137,2,0.046,3,-999,9,-999,9,-999,9
  90KDIOFFE6_1,  S04P,758,1,7,7,2,19920318,549,-67.0047,-173.1245,3423,2176.8,0.3582,34.6963,2,34.6959,2,214,2,214.2,2,125.65,2,31.9,2,0,2,2.25,2,0.231,2,0.092,3,-999,9,-999,9,-999,9
  90KDIOFFE6_1,  S04P,758,1,6,6,2,19920318,549,-67.0047,-173.1245,3423,2430.4,0.2828,34.696,2,34.6949,2,216.1,2,216.5,2,125.2,2,31.95,2,0,2,2.25,2,0.305,2,0.125,3,-999,9,-999,9,-999,9
  90KDIOFFE6_1,  S04P,758,1,5,5,2,19920318,549,-67.0047,-173.1245,3423,2685.2,0.2394,34.695,2,34.6943,2,218.8,2,218.2,2,123.94,2,31.9,2,0,2,2.25,2,0.406,2,0.168,3,-999,9,-999,9,-999,9
  90KDIOFFE6_1,  S04P,758,1,28,28,2,19920318,549,-67.0047,-173.1245,3423,2937.3,0.218,34.695,2,34.6943,2,219.1,2,219.5,2,123.72,2,31.86,2,0,2,2.25,2,0.472,2,0.196,3,-999,9,-999,9,-999,9
  90KDIOFFE6_1,  S04P,758,1,3,3,2,19920318,549,-67.0047,-173.1245,3423,3195.4,0.206,34.6951,2,34.6945,2,222.4,2,220.5,2,123.08,2,32,2,0,2,2.25,2,0.52,2,0.217,3,-999,9,-999,9,-999,9
  90KDIOFFE6_1,  S04P,758,1,2,2,2,19920318,549,-67.0047,-173.1245,3423,3398.2,0.2096,34.695,2,34.6947,2,221.2,2,220.8,2,123.07,2,32,2,0,2,2.25,2,0.537,2,0.222,3,-999,9,-999,9,-999,9
  90KDIOFFE6_1,  S04P,758,1,1,1,2,19920318,549,-67.0047,-173.1245,3423,3491.5,0.2129,34.6951,2,34.6958,2,220.5,2,221,2,123.07,2,32.04,2,0,2,2.26,2,0.546,6,0.23,3,-999,9,-999,9,-999,9
  90KDIOFFE6_1,  S04P,759,1,24,24,2,19920318,1134,-66.992,-174.3972,3763,11.8,0.4763,33.7828,2,33.7819,2,336.9,3,334.6,2,42.56,2,23.53,2,0.19,2,1.55,2,-999,9,-999,9,-999,9,2140.9,2,-999,9
  90KDIOFFE6_1,  S04P,759,1,23,23,2,19920318,1134,-66.992,-174.3972,3763,53.6,0.3879,33.7908,2,33.7903,2,328.3,3,334.4,2,41.33,2,23.17,2,0.17,2,1.54,2,-999,9,-999,9,-999,9,2145,2,-999,9
  90KDIOFFE6_1,  S04P,759,1,22,22,2,19920318,1134,-66.992,-174.3972,3763,88.9,-1.3044,34.2362,2,34.2211,2,282.1,2,290.2,2,72.13,2,29.63,2,0.27,2,2.11,2,-999,9,-999,9,-999,9,2207,2,-999,9
  90KDIOFFE6_1,  S04P,759,1,21,21,2,19920318,1134,-66.992,-174.3972,3763,127.7,0.1348,34.4714,2,34.4624,2,234.1,2,232.6,2,81.13,2,31.68,2,0.03,2,2.23,2,-999,9,-999,9,-999,9,2232.9,2,-999,9
  90KDIOFFE6_1,  S04P,759,1,20,20,2,19920318,1134,-66.992,-174.3972,3763,164.8,0.8495,34.588,2,34.5746,2,205.1,2,206.7,2,85.72,2,32.28,2,0.01,2,2.28,2,-999,9,-999,9,-999,9,2246.5,2,-999,9
  90KDIOFFE6_1,  S04P,759,1,19,19,2,19920318,1134,-66.992,-174.3972,3763,204,1.1258,34.6428,2,34.6409,2,194.7,2,197,2,89.12,2,32.22,2,0.01,2,2.28,2,-999,9,-999,9,-999,9,2251.1,2,-999,9
  90KDIOFFE6_1,  S04P,759,1,18,18,2,19920318,1134,-66.992,-174.3972,3763,253.6,1.3102,34.6819,2,34.6801,2,192.9,2,192.8,2,91.5,2,32.01,2,0.01,2,2.25,2,-999,9,-999,9,-999,9,2251.8,2,-999,9
  90KDIOFFE6_1,  S04P,759,1,17,17,2,19920318,1134,-66.992,-174.3972,3763,304.7,1.3623,34.7016,2,34.7001,2,195.4,2,193,2,93.69,2,31.54,2,0.01,2,2.22,2,-999,9,-999,9,-999,9,2253.5,2,-999,9
  90KDIOFFE6_1,  S04P,759,1,16,16,2,19920318,1134,-66.992,-174.3972,3763,405.9,1.3372,34.712,2,34.7117,2,194.4,2,194.1,2,96.7,2,31.48,2,0.01,2,2.2,2,-999,9,-999,9,-999,9,2252,2,-999,9
  90KDIOFFE6_1,  S04P,759,1,15,15,2,19920318,1134,-66.992,-174.3972,3763,506.5,1.3007,34.7183,2,34.7182,2,196.2,2,196.3,2,98.69,2,31.23,2,0.01,2,2.19,2,-999,9,-999,9,-999,9,2251.2,2,-999,9
  90KDIOFFE6_1,  S04P,759,1,14,14,2,19920318,1134,-66.992,-174.3972,3763,705.4,1.1833,34.7213,2,34.7208,2,197.4,2,196.5,2,105.37,2,31.5,2,0.01,2,2.2,2,-999,9,-999,9,-999,9,2255.7,2,-999,9
  90KDIOFFE6_1,  S04P,759,1,13,13,2,19920318,1134,-66.992,-174.3972,3763,907,1.0534,34.7188,2,34.718,2,201.2,2,200.2,2,109.82,2,31.44,2,0,2,2.2,2,-999,9,-999,9,-999,9,2254.2,2,-999,9
  90KDIOFFE6_1,  S04P,759,1,12,12,2,19920318,1134,-66.992,-174.3972,3763,1108.1,0.9159,34.7133,2,34.7125,2,202,2,203.2,2,113.89,2,31.48,2,0,2,2.21,2,-999,9,-999,9,-999,9,2256.5,2,-999,9
  90KDIOFFE6_1,  S04P,759,1,26,26,2,19920318,1134,-66.992,-174.3972,3763,1362.9,0.7681,34.7082,2,34.7072,2,204.4,2,205.6,2,118.58,2,31.74,2,0,2,2.23,2,-999,9,-999,9,-999,9,2258.5,2,-999,9
  90KDIOFFE6_1,  S04P,759,1,10,10,2,19920318,1134,-66.992,-174.3972,3763,1617,0.6466,34.7032,2,34.7023,2,206.9,2,207.8,2,122.06,2,31.91,2,0,2,2.24,2,0.089,2,0.031,3,-999,9,2256.9,2,-999,9
  90KDIOFFE6_1,  S04P,759,1,27,27,2,19920318,1134,-66.992,-174.3972,3763,1869.7,0.5323,34.6995,2,34.6988,2,208.3,2,209.9,2,124.72,2,31.9,2,0,2,2.24,2,-999,9,-999,9,-999,9,2259,2,-999,9
  90KDIOFFE6_1,  S04P,759,1,8,8,2,19920318,1134,-66.992,-174.3972,3763,2124.9,0.4141,34.6959,2,34.6958,2,210.9,2,212.9,2,125.3,2,32.16,2,0,2,2.25,2,0.199,2,0.071,3,-999,9,2258.1,2,-999,9
  90KDIOFFE6_1,  S04P,759,1,7,7,2,19920318,1134,-66.992,-174.3972,3763,2377.9,0.3215,34.695,2,34.6952,2,214.5,2,215.3,2,125.27,2,32.2,2,0,2,2.25,2,-999,9,-999,9,-999,9,2260,2,-999,9
  90KDIOFFE6_1,  S04P,759,1,6,6,2,19920318,1134,-66.992,-174.3972,3763,2628.2,0.254,34.6939,2,34.6947,2,216,2,217.6,2,124.2,2,32.09,2,0,2,2.25,2,0.379,2,0.156,3,-999,9,2256.8,2,-999,9
  90KDIOFFE6_1,  S04P,759,1,5,5,2,19920318,1134,-66.992,-174.3972,3763,2885.1,0.2081,34.6934,2,34.6941,2,219.7,2,219.5,2,122.71,2,32.08,2,0,2,2.24,2,-999,9,-999,9,-999,9,2259.2,2,-999,9
  90KDIOFFE6_1,  S04P,759,1,28,28,2,19920318,1134,-66.992,-174.3972,3763,3138.8,0.1981,34.6938,2,34.6937,2,221,2,220.2,2,121.85,2,32.06,2,0,2,2.24,2,0.536,2,0.221,3,-999,9,2258.3,2,-999,9
  90KDIOFFE6_1,  S04P,759,1,3,3,2,19920318,1134,-66.992,-174.3972,3763,3343.8,0.2002,34.6939,2,34.6945,2,221.5,2,220.9,2,121.61,2,31.91,2,0,2,2.24,2,0.559,2,0.228,3,-999,9,2258,2,-999,9
  90KDIOFFE6_1,  S04P,759,1,2,2,2,19920318,1134,-66.992,-174.3972,3763,3548.9,0.2096,34.6936,2,34.6949,2,222.7,2,221.2,2,121.57,2,31.89,2,0,2,2.24,2,0.578,2,0.24,3,-999,9,2258.5,2,-999,9
  90KDIOFFE6_1,  S04P,759,1,1,1,2,19920318,1134,-66.992,-174.3972,3763,3721.8,0.2207,34.694,2,34.6951,2,222.8,2,221.1,2,121.33,2,31.97,2,0,2,2.25,2,0.589,2,0.242,3,-999,9,2258.7,2,-999,9