BOTTLE,20181005JHS,,,,,,,,,,,,,,,,,,,,,,,,,,,,,,,,,,,,,,
EXPOCODE,SECT_ID,STNNBR,CASTNO,SAMPNO,BTLNBR,BTLNBR_FLAG_W,DATE,TIME,LATITUDE,LONGITUDE,DEPTH,CTDPRS,CTDTMP,CTDSAL,CTDSAL_FLAG_W,SALNTY,SALNTY_FLAG_W,CTDOXY,CTDOXY_FLAG_W,OXYGEN,OXYGEN_FLAG_W,SILCAT,SILCAT_FLAG_W,NITRAT,NITRAT_FLAG_W,NITRIT,NITRIT_FLAG_W,PHSPHT,PHSPHT_FLAG_W,CFC-11,CFC-11_FLAG_W,CFC-12,CFC-12_FLAG_W,SF6,SF6_FLAG_W,TCARBN,TCARBN_FLAG_W,ALKALI,ALKALI_FLAG_W
,,,,,,,,,,,,DBAR,ITS-90,PSS-78,,PSS-78,,UMOL/KG,,UMOL/KG,,UMOL/KG,,UMOL/KG,,UMOL/KG,,UMOL/KG,,PMOL/KG,,PMOL/KG,,FMOL/KG,,UMOL/KG,,UMOL/KG,
  90KDIOFFE6_1,  S04P,748,1,24,24,2,19920315,1059,-66.9828,-160.2898,4137,9.9,0.2997,33.8828,2,33.8834,2,343.9,2,338.9,2,64.46,2,26.07,2,0.19,2,1.82,2,6.463,2,2.839,3,-999,9,2164.2,2,-999,9
  90KDIOFFE6_1,  S04P,748,1,23,23,2,19920315,1059,-66.9828,-160.2898,4137,51.1,0.2889,33.8846,2,33.8828,2,334.9,2,338.9,2,64.44,2,26.13,2,0.19,2,1.82,2,6.41,2,2.851,3,-999,9,2165.1,2,-999,9
  90KDIOFFE6_1,  S04P,748,1,22,22,2,19920315,1059,-66.9828,-160.2898,4137,75.4,-1.6335,34.1867,2,34.1925,2,303.5,2,310.9,2,68.64,2,28.07,2,0.13,2,2.01,2,5.016,2,2.188,3,-999,9,2201.5,2,-999,9
  90KDIOFFE6_1,  S04P,748,1,21,21,2,19920315,1059,-66.9828,-160.2898,4137,122.9,-0.6712,34.3882,2,34.3844,2,250.7,2,253.2,2,76.91,2,30.45,2,0.16,2,2.17,2,3.059,2,1.323,3,-999,9,-999,9,-999,9
  90KDIOFFE6_1,  S04P,748,1,20,20,2,19920315,1059,-66.9828,-160.2898,4137,203.8,1.0966,34.6548,2,34.6516,2,186.7,2,190.1,2,94.75,2,32.22,2,0.01,2,2.29,2,0.644,2,0.265,3,-999,9,-999,9,-999,9
  90KDIOFFE6_1,  S04P,748,1,19,19,2,19920315,1059,-66.9828,-160.2898,4137,253.3,1.3495,34.7087,2,34.707,2,180.9,2,181.7,2,100.64,2,32.37,2,0,2,2.29,2,0.207,2,0.074,3,-999,9,-999,9,-999,9
  90KDIOFFE6_1,  S04P,748,1,18,18,2,19920315,1059,-66.9828,-160.2898,4137,303.5,1.369,34.7216,2,34.7219,2,184,2,181.4,2,103.27,2,32.27,2,0,2,2.28,2,0.088,2,0.031,3,-999,9,-999,9,-999,9
  90KDIOFFE6_1,  S04P,748,1,17,17,2,19920315,1059,-66.9828,-160.2898,4137,403.8,1.2945,34.7251,2,34.7252,2,184.5,2,182.5,2,106.98,2,32.38,2,0,2,2.26,2,0.04,2,0.013,3,-999,9,-999,9,-999,9
  90KDIOFFE6_1,  S04P,748,1,16,16,2,19920315,1059,-66.9828,-160.2898,4137,506,1.2226,34.7246,2,34.7244,2,186.3,2,184.6,2,109.61,2,32.27,2,0,2,2.26,2,0.023,2,0.009,3,-999,9,-999,9,-999,9
  90KDIOFFE6_1,  S04P,748,1,15,15,2,19920315,1059,-66.9828,-160.2898,4137,605.9,1.1562,34.7232,2,34.7234,2,189.7,2,187.5,2,111.63,2,32.16,2,0,2,2.25,2,0.016,2,0.004,3,-999,9,-999,9,-999,9
  90KDIOFFE6_1,  S04P,748,1,14,14,2,19920315,1059,-66.9828,-160.2898,4137,807.3,1.0245,34.7188,2,34.7175,2,194,2,192.4,2,115.1,2,31.65,2,0,2,2.25,2,0.01,2,0,3,-999,9,-999,9,-999,9
  90KDIOFFE6_1,  S04P,748,1,13,13,2,19920315,1059,-66.9828,-160.2898,4137,1008.3,0.8999,34.7144,2,34.7144,2,198.5,2,197.5,2,119.18,2,31.94,2,0,2,2.25,2,0.006,6,0.001,3,-999,9,-999,9,-999,9
  90KDIOFFE6_1,  S04P,748,1,12,12,2,19920315,1059,-66.9828,-160.2898,4137,1211.2,0.7939,34.71,2,34.7103,2,201.1,2,201.9,2,121.89,2,31.74,2,0,2,2.24,2,0.006,6,0.002,3,-999,9,-999,9,-999,9
  90KDIOFFE6_1,  S04P,748,1,26,26,2,19920315,1059,-66.9828,-160.2898,4137,1413.2,0.7042,34.7066,2,34.7057,2,202,2,203.9,2,125.15,2,31.93,2,0,2,2.26,2,0.008,2,0,3,-999,9,-999,9,-999,9
  90KDIOFFE6_1,  S04P,748,1,10,10,2,19920315,1059,-66.9828,-160.2898,4137,1717,0.5839,34.7029,2,34.702,2,205.9,2,207.6,2,127.27,2,31.89,2,0,2,2.25,2,0.011,2,0.002,3,-999,9,-999,9,-999,9
  90KDIOFFE6_1,  S04P,748,1,27,27,2,19920315,1059,-66.9828,-160.2898,4137,2022.7,0.4697,34.7004,2,34.6998,2,208.2,2,210.1,2,129.68,2,31.97,2,0,2,2.25,2,0.024,2,0.006,3,-999,9,-999,9,-999,9
  90KDIOFFE6_1,  S04P,748,1,8,8,2,19920315,1059,-66.9828,-160.2898,4137,2328.5,0.3721,34.6998,2,34.6994,2,210.7,2,212.8,2,131.75,2,31.97,2,0,2,2.26,2,0.044,2,0.009,3,-999,9,-999,9,-999,9
  90KDIOFFE6_1,  S04P,748,1,7,7,2,19920315,1059,-66.9828,-160.2898,4137,2630.4,0.2906,34.6987,2,34.6988,2,213.2,2,214.1,2,132.76,2,32.12,2,0,2,2.26,2,0.066,2,0.024,3,-999,9,-999,9,-999,9
  90KDIOFFE6_1,  S04P,748,1,6,6,2,19920315,1059,-66.9828,-160.2898,4137,2936,0.2127,34.6979,2,34.6978,2,216.4,2,217.4,2,131.25,2,32.06,2,0,2,2.25,2,0.156,2,0.06,3,-999,9,-999,9,-999,9
  90KDIOFFE6_1,  S04P,748,1,5,5,2,19920315,1059,-66.9828,-160.2898,4137,3236,0.124,34.6963,2,34.6955,2,221.6,2,222.4,2,123.47,2,31.85,2,0,2,2.24,2,0.414,2,0.175,3,-999,9,-999,9,-999,9
  90KDIOFFE6_1,  S04P,748,1,28,28,2,19920315,1059,-66.9828,-160.2898,4137,3582.1,0.0948,34.6957,2,34.6961,2,224.3,2,224.9,2,119.28,2,31.85,2,0,2,2.24,2,0.591,2,0.247,3,-999,9,-999,9,-999,9
  90KDIOFFE6_1,  S04P,748,1,3,3,2,19920315,1059,-66.9828,-160.2898,4137,3831.6,0.1087,34.6957,2,34.6961,2,225.1,2,225.3,2,119.04,2,31.84,2,0,2,2.24,2,0.617,2,0.253,3,-999,9,-999,9,-999,9
  90KDIOFFE6_1,  S04P,748,1,2,2,2,19920315,1059,-66.9828,-160.2898,4137,4034,0.1276,34.696,2,34.6953,2,226.4,2,225.2,2,119,2,31.83,2,0,2,2.23,2,0.62,2,0.266,3,-999,9,-999,9,-999,9
  90KDIOFFE6_1,  S04P,748,1,1,1,2,19920315,1059,-66.9828,-160.2898,4137,4200.8,0.1443,34.6962,2,34.6964,2,227.1,2,225.5,2,119.17,2,31.63,2,0,2,2.24,2,0.628,2,0.265,3,-999,9,-999,9,-999,9
  90KDIOFFE6_1,  S04P,749,1,24,24,2,19920315,1800,-66.9717,-161.5407,3364,10.9,0.2941,33.9109,2,33.9117,2,338.8,2,338.5,2,62.21,2,25.26,2,0.19,2,1.76,2,-999,9,-999,9,-999,9,2167.8,2,-999,9
  90KDIOFFE6_1,  S04P,749,1,23,23,2,19920315,1800,-66.9717,-161.5407,3364,51.1,0.3071,33.917,2,33.9152,2,337.9,2,338.4,2,61.42,2,25.22,2,0.19,2,1.75,2,-999,9,-999,9,-999,9,2165.3,2,-999,9
  90KDIOFFE6_1,  S04P,749,1,22,22,2,19920315,1800,-66.9717,-161.5407,3364,80.7,-1.6054,34.2064,2,34.2068,2,303.1,2,304.4,2,67.04,2,27.32,2,0.08,2,1.97,2,-999,9,-999,9,-999,9,2202.7,2,-999,9
  90KDIOFFE6_1,  S04P,749,1,21,21,2,19920315,1800,-66.9717,-161.5407,3364,131,-0.4154,34.4218,2,34.4069,2,246.6,2,246.2,2,78.11,2,30.46,2,0.11,2,2.17,2,-999,9,-999,9,-999,9,2231.1,2,-999,9
  90KDIOFFE6_1,  S04P,749,1,20,20,2,19920315,1800,-66.9717,-161.5407,3364,202,1.0036,34.6346,2,34.6322,2,188.8,2,192.8,2,93.27,2,32.03,2,0.02,2,2.27,2,-999,9,-999,9,-999,9,2253.6,2,-999,9
  90KDIOFFE6_1,  S04P,749,1,19,19,2,19920315,1800,-66.9717,-161.5407,3364,272.6,1.3783,34.7156,2,34.716,2,180.2,2,181.2,2,101.42,2,32.3,2,0.01,2,2.27,2,-999,9,-999,9,-999,9,2252.7,2,-999,9
  90KDIOFFE6_1,  S04P,749,1,18,18,2,19920315,1800,-66.9717,-161.5407,3364,354.5,1.3423,34.7233,2,34.7234,2,182.8,2,181.6,2,104.71,2,32.15,2,0.01,2,2.26,2,-999,9,-999,9,-999,9,2258,2,-999,9
  90KDIOFFE6_1,  S04P,749,1,17,17,2,19920315,1800,-66.9717,-161.5407,3364,455.1,1.2644,34.7235,2,34.725,2,184.2,2,183.7,2,108.62,2,32,2,0.01,2,2.25,2,-999,9,-999,9,-999,9,2264.4,2,-999,9
  90KDIOFFE6_1,  S04P,749,1,16,16,2,19920315,1800,-66.9717,-161.5407,3364,556.9,1.1904,34.7241,2,34.723,2,187.3,2,186.2,2,110.9,2,32.31,2,0.01,2,2.25,2,-999,9,-999,9,-999,9,2264.5,2,-999,9
  90KDIOFFE6_1,  S04P,749,1,15,15,2,19920315,1800,-66.9717,-161.5407,3364,656.7,1.1265,34.7214,2,34.7207,2,189.7,2,189.8,2,112.57,2,32.01,2,0.01,2,2.25,2,0.017,2,0.005,3,-999,9,2265.7,2,-999,9
  90KDIOFFE6_1,  S04P,749,1,14,14,2,19920315,1800,-66.9717,-161.5407,3364,756.4,1.0635,34.7193,2,34.7197,2,193.5,2,192.2,2,114.24,2,32.07,2,0,2,2.24,2,-999,9,-999,9,-999,9,2263.4,2,-999,9
  90KDIOFFE6_1,  S04P,749,1,13,13,2,19920315,1800,-66.9717,-161.5407,3364,857.6,1.0006,34.7168,2,34.7163,2,194.8,2,195.5,2,115.71,2,31.97,2,0,2,2.24,2,0.013,2,0.003,3,-999,9,2262.6,2,-999,9
  90KDIOFFE6_1,  S04P,749,1,12,12,2,19920315,1800,-66.9717,-161.5407,3364,1008.5,0.9016,34.7139,2,34.7138,2,198.5,2,198.9,2,118.42,2,31.92,2,0,2,2.24,2,0.011,2,0.004,3,-999,9,-999,9,-999,9
  90KDIOFFE6_1,  S04P,749,1,26,26,2,19920315,1800,-66.9717,-161.5407,3364,1208.9,0.8057,34.7094,2,34.7093,2,201,2,201.8,2,121.36,2,31.83,2,0,2,2.25,2,0.01,2,0.002,3,-999,9,-999,9,-999,9
  90KDIOFFE6_1,  S04P,749,1,10,10,2,19920315,1800,-66.9717,-161.5407,3364,1412.1,0.7118,34.7065,2,34.7057,2,204,2,204.3,2,124.71,2,31.83,2,0,2,2.25,2,0.011,2,0.002,3,-999,9,-999,9,-999,9
  90KDIOFFE6_1,  S04P,749,1,27,27,2,19920315,1800,-66.9717,-161.5407,3364,1613,0.6288,34.7032,2,34.7036,2,206.3,2,205.8,2,126.83,2,31.93,2,0,2,2.25,2,-999,9,-999,9,-999,9,-999,9,-999,9
  90KDIOFFE6_1,  S04P,749,1,8,8,2,19920315,1800,-66.9717,-161.5407,3364,1810.4,0.5509,34.7002,2,34.7016,2,208.3,2,208.3,2,128.12,2,31.99,2,0,2,2.25,2,0.038,3,0.008,3,-999,9,-999,9,-999,9
  90KDIOFFE6_1,  S04P,749,1,7,7,2,19920315,1800,-66.9717,-161.5407,3364,2008,0.4859,34.7008,2,34.7002,2,208.1,2,209.1,2,129.4,2,31.99,2,0,2,2.25,2,-999,9,-999,9,-999,9,-999,9,-999,9
  90KDIOFFE6_1,  S04P,749,1,6,6,2,19920315,1800,-66.9717,-161.5407,3364,2205.2,0.414,34.6992,2,34.6996,2,209.8,2,210.8,2,130.9,2,32.04,2,0,2,2.26,2,0.028,2,0.008,3,-999,9,-999,9,-999,9
  90KDIOFFE6_1,  S04P,749,1,5,5,2,19920315,1800,-66.9717,-161.5407,3364,2399.3,0.352,34.6985,2,34.6998,2,211.5,2,212.3,2,131.99,2,32,2,0,2,2.26,2,0.044,2,0.014,3,-999,9,-999,9,-999,9
  90KDIOFFE6_1,  S04P,749,1,28,28,2,19920315,1800,-66.9717,-161.5407,3364,2687.7,0.2701,34.699,2,34.6978,2,214.6,2,214.9,2,132.01,2,32,2,0,2,2.26,2,0.107,2,0.042,3,-999,9,-999,9,-999,9
  90KDIOFFE6_1,  S04P,749,1,3,3,2,19920315,1800,-66.9717,-161.5407,3364,2966,0.1772,34.6975,2,34.6963,2,218.3,2,219,2,128.47,2,31.75,2,0,2,2.26,2,0.26,2,0.106,3,-999,9,-999,9,-999,9
  90KDIOFFE6_1,  S04P,749,1,2,2,2,19920315,1800,-66.9717,-161.5407,3364,3205,0.0922,34.697,2,34.6957,2,224.9,2,223.5,2,121.38,2,31.61,2,0,2,2.25,2,0.527,2,0.216,3,-999,9,-999,9,-999,9
  90KDIOFFE6_1,  S04P,749,1,1,1,2,19920315,1800,-66.9717,-161.5407,3364,3400.2,0.0683,34.6958,2,34.6956,2,226.4,2,224.8,2,118.7,2,31.66,2,0,2,2.25,2,0.667,2,0.291,3,-999,9,-999,9,-999,9
  90KDIOFFE6_1,  S04P,750,1,24,24,2,19920316,6,-66.9957,-162.7753,3771,13.9,0.4073,33.9074,2,33.9072,2,338.1,2,338.7,2,56.95,2,24.47,2,0.19,2,1.7,2,6.322,2,2.826,3,-999,9,2161.9,2,-999,9
  90KDIOFFE6_1,  S04P,750,1,23,23,2,19920316,6,-66.9957,-162.7753,3771,54.3,0.3593,33.9085,2,33.9172,2,335.6,2,337.9,2,57.13,2,24.55,2,0.19,2,1.71,2,6.226,2,2.814,3,-999,9,2162.5,2,-999,9
  90KDIOFFE6_1,  S04P,750,1,22,22,2,19920316,6,-66.9957,-162.7753,3771,104.2,-1.6706,34.2361,2,34.2379,2,297.8,2,296.5,2,71.13,2,28.57,2,0.17,2,2.06,2,4.39,2,1.929,3,-999,9,2205.9,2,-999,9
  90KDIOFFE6_1,  S04P,750,1,21,21,2,19920316,6,-66.9957,-162.7753,3771,154.5,-0.3019,34.4394,2,34.4472,2,237.9,2,235.9,2,82.16,2,30.63,2,0.05,2,2.2,2,2.49,2,1.076,3,-999,9,-999,9,-999,9
  90KDIOFFE6_1,  S04P,750,1,20,20,2,19920316,6,-66.9957,-162.7753,3771,204.6,0.9304,34.6397,2,34.6268,2,190.6,2,194.1,2,92.83,2,31.74,2,0.02,2,2.27,2,0.852,2,0.355,3,-999,9,-999,9,-999,9
  90KDIOFFE6_1,  S04P,750,1,19,19,2,19920316,6,-66.9957,-162.7753,3771,254.3,1.3487,34.7009,2,34.7021,2,183.1,2,181.9,2,98.88,2,32.17,2,0.01,2,2.27,2,0.243,2,0.091,3,-999,9,-999,9,-999,9
  90KDIOFFE6_1,  S04P,750,1,18,18,2,19920316,6,-66.9957,-162.7753,3771,304.4,1.3833,34.7194,2,34.7202,2,181.4,2,182.1,2,102.11,2,31.84,2,0,2,2.26,2,0.101,2,0.036,3,-999,9,-999,9,-999,9
  90KDIOFFE6_1,  S04P,750,1,17,17,2,19920316,6,-66.9957,-162.7753,3771,403.9,1.3094,34.7244,2,34.7251,2,183.3,2,183,2,105.96,2,32.06,2,0,2,2.25,2,0.048,2,0.013,3,-999,9,-999,9,-999,9
  90KDIOFFE6_1,  S04P,750,1,16,16,2,19920316,6,-66.9957,-162.7753,3771,503.3,1.2429,34.724,2,34.7241,2,185.2,2,185.4,2,108.39,2,32.03,2,0,2,2.24,2,0.03,2,0.011,3,-999,9,-999,9,-999,9
  90KDIOFFE6_1,  S04P,750,1,15,15,2,19920316,6,-66.9957,-162.7753,3771,601.5,1.1747,34.7232,2,34.7229,2,189.4,2,188,2,110.62,2,31.95,2,0,2,2.24,2,0.023,2,0.005,3,-999,9,-999,9,-999,9
  90KDIOFFE6_1,  S04P,750,1,14,14,2,19920316,6,-66.9957,-162.7753,3771,800.6,1.0446,34.7189,2,34.719,2,194.3,2,193.4,2,114.29,2,31.87,2,0,2,2.24,2,0.014,6,0.004,3,-999,9,-999,9,-999,9
  90KDIOFFE6_1,  S04P,750,1,13,13,2,19920316,6,-66.9957,-162.7753,3771,1001.7,0.9109,34.7135,2,34.7137,2,197.7,2,197.6,2,117.98,2,31.69,2,0,2,2.24,2,0.008,2,0.002,3,-999,9,-999,9,-999,9
  90KDIOFFE6_1,  S04P,750,1,12,12,2,19920316,6,-66.9957,-162.7753,3771,1199.8,0.8052,34.7098,2,34.71,2,201.1,2,201.1,2,121.05,2,31.71,2,0,2,2.24,2,0.01,2,0.002,3,-999,9,-999,9,-999,9
  90KDIOFFE6_1,  S04P,750,1,26,26,2,19920316,6,-66.9957,-162.7753,3771,1399.2,0.7217,34.7068,2,34.7066,2,204.6,2,203.6,2,124.14,2,31.73,2,0,2,2.24,2,0.013,2,0.005,3,-999,9,-999,9,-999,9
  90KDIOFFE6_1,  S04P,750,1,10,10,2,19920316,6,-66.9957,-162.7753,3771,1599.8,0.6347,34.7034,2,34.7035,2,204.6,2,205.8,2,126.2,2,31.8,2,0,2,2.24,2,0.015,2,0.003,3,-999,9,-999,9,-999,9
  90KDIOFFE6_1,  S04P,750,1,27,27,2,19920316,6,-66.9957,-162.7753,3771,1802.4,0.5609,34.7016,2,34.7011,2,206.3,2,207.4,2,127.64,2,31.92,2,0,2,2.24,2,0.028,3,0.006,3,-999,9,-999,9,-999,9
  90KDIOFFE6_1,  S04P,750,1,8,8,2,19920316,6,-66.9957,-162.7753,3771,2004.9,0.4786,34.7002,2,34.7,2,208.5,2,209.5,2,128.87,2,31.88,2,0,2,2.25,2,0.033,2,0.008,3,-999,9,-999,9,-999,9
  90KDIOFFE6_1,  S04P,750,1,7,7,2,19920316,6,-66.9957,-162.7753,3771,2306.3,0.3771,34.6993,2,34.6992,2,211.3,2,211.8,2,130.73,2,31.8,2,0,2,2.25,2,0.052,2,0.014,3,-999,9,-999,9,-999,9
  90KDIOFFE6_1,  S04P,750,1,6,6,2,19920316,6,-66.9957,-162.7753,3771,2611.8,0.2887,34.6978,2,34.6984,2,214.4,2,214.7,2,130.92,2,31.87,2,0,2,2.25,2,0.118,2,0.038,3,-999,9,-999,9,-999,9
  90KDIOFFE6_1,  S04P,750,1,5,5,2,19920316,6,-66.9957,-162.7753,3771,2918.1,0.2124,34.6973,2,34.6968,2,217.5,2,217.8,2,129.22,2,31.69,2,0,2,2.24,2,0.209,6,0.081,3,-999,9,-999,9,-999,9
  90KDIOFFE6_1,  S04P,750,1,28,28,2,19920316,6,-66.9957,-162.7753,3771,3221.8,0.1194,34.6955,2,34.6956,2,222.6,2,222.7,2,121.7,2,31.66,2,0,2,2.23,2,0.516,2,0.217,3,-999,9,-999,9,-999,9
  90KDIOFFE6_1,  S04P,750,1,3,3,2,19920316,6,-66.9957,-162.7753,3771,3530.1,0.092,34.6948,2,34.696,2,225.3,2,225.2,2,118.16,2,31.63,2,0,2,2.23,2,0.68,2,0.289,3,-999,9,-999,9,-999,9
  90KDIOFFE6_1,  S04P,750,1,2,2,2,19920316,6,-66.9957,-162.7753,3771,3737.6,0.107,34.695,2,34.6951,2,226.9,2,225.2,2,117.93,2,31.55,2,0,2,2.23,2,0.693,2,0.297,3,-999,9,-999,9,-999,9
  90KDIOFFE6_1,  S04P,750,1,1,1,2,19920316,6,-66.9957,-162.7753,3771,3846.1,0.1122,34.6953,2,34.6958,2,226.3,2,225.3,2,117.7,2,31.62,2,0,2,2.24,2,0.721,2,0.308,3,-999,9,-999,9,-999,9
  90KDIOFFE6_1,  S04P,751,1,24,24,2,19920316,615,-67.0105,-164.0823,3647,14.3,0.542,33.8484,2,33.8486,2,351.1,3,338.6,2,51.39,2,24.05,2,0.19,2,1.62,2,-999,9,-999,9,-999,9,2153,2,-999,9
  90KDIOFFE6_1,  S04P,751,1,23,23,2,19920316,615,-67.0105,-164.0823,3647,55.4,0.3031,33.8901,2,33.9041,2,334.2,2,335.4,2,54,2,24.66,2,0.18,2,1.69,2,-999,9,-999,9,-999,9,2160.6,2,-999,9
  90KDIOFFE6_1,  S04P,751,1,22,22,2,19920316,615,-67.0105,-164.0823,3647,96,-1.4886,34.2625,2,34.2567,2,263.2,2,288.8,2,72.61,2,29.24,2,0.18,2,2.08,2,-999,9,-999,9,-999,9,2211.3,2,-999,9
  90KDIOFFE6_1,  S04P,751,1,21,21,2,19920316,615,-67.0105,-164.0823,3647,157.2,0.3381,34.5322,2,34.5296,2,203.8,2,214.5,2,87.63,2,31.73,2,0.03,2,2.24,2,-999,9,-999,9,-999,9,2233.8,2,-999,9
  90KDIOFFE6_1,  S04P,751,1,20,20,2,19920316,615,-67.0105,-164.0823,3647,205.7,1.1158,34.6594,2,34.662,2,182.4,2,187.1,2,95.98,2,32.41,2,0.01,2,2.29,2,-999,9,-999,9,-999,9,2257.8,2,-999,9
  90KDIOFFE6_1,  S04P,751,1,19,19,2,19920316,615,-67.0105,-164.0823,3647,255.6,1.3433,34.7077,2,34.7093,2,182.2,2,181,2,100.88,2,32.5,2,0.01,2,2.28,2,-999,9,-999,9,-999,9,2260.4,2,-999,9
  90KDIOFFE6_1,  S04P,751,1,18,18,2,19920316,615,-67.0105,-164.0823,3647,306.6,1.327,34.7176,2,34.7189,2,182.3,2,179.9,2,104.35,2,32.51,2,0.01,2,2.28,2,-999,9,-999,9,-999,9,2264.6,2,-999,9
  90KDIOFFE6_1,  S04P,751,1,17,17,2,19920316,615,-67.0105,-164.0823,3647,356.7,1.315,34.7234,2,34.7234,2,179.6,2,182,2,105.98,2,32.35,2,0,2,2.27,2,-999,9,-999,9,-999,9,2262.9,2,-999,9
  90KDIOFFE6_1,  S04P,751,1,16,16,2,19920316,615,-67.0105,-164.0823,3647,406.8,1.2824,34.7245,2,34.7251,2,182.7,2,182.7,2,107.4,2,32.4,2,0,2,2.26,2,-999,9,-999,9,-999,9,2264.9,2,-999,9
  90KDIOFFE6_1,  S04P,751,1,15,15,2,19920316,615,-67.0105,-164.0823,3647,507.9,1.2071,34.7235,2,34.7243,2,184,2,185.2,2,109.85,2,32.2,2,0,2,2.26,2,-999,9,-999,9,-999,9,2264.1,2,-999,9
  90KDIOFFE6_1,  S04P,751,1,14,14,2,19920316,615,-67.0105,-164.0823,3647,608.9,1.1456,34.7224,2,34.7229,2,185.9,2,186.8,2,111.9,2,32.25,2,0,2,2.26,2,-999,9,-999,9,-999,9,2260.8,2,-999,9
  90KDIOFFE6_1,  S04P,751,1,13,13,2,19920316,615,-67.0105,-164.0823,3647,810.5,1.0093,34.7178,2,34.7186,2,193.2,2,193,2,115.61,2,32.09,2,0,2,2.25,2,-999,9,-999,9,-999,9,2255.9,2,-999,9
  90KDIOFFE6_1,  S04P,751,1,12,12,2,19920316,615,-67.0105,-164.0823,3647,1012.6,0.8932,34.7139,2,34.7143,2,198,2,197.4,2,118.91,2,32.04,2,0,2,2.25,2,-999,9,-999,9,-999,9,2261.8,2,-999,9
  90KDIOFFE6_1,  S04P,751,1,26,26,2,19920316,615,-67.0105,-164.0823,3647,1214.5,0.7838,34.7096,2,34.7105,2,199.9,2,201.5,2,122.44,2,32.04,2,0,2,2.24,2,-999,9,-999,9,-999,9,2261.6,2,-999,9
  90KDIOFFE6_1,  S04P,751,1,10,10,2,19920316,615,-67.0105,-164.0823,3647,1416.8,0.6953,34.7064,2,34.7068,2,200.9,2,203.8,2,124.91,2,31.86,2,0,2,2.2,3,-999,9,-999,9,-999,9,2259.5,2,-999,9
  90KDIOFFE6_1,  S04P,751,1,27,27,2,19920316,615,-67.0105,-164.0823,3647,1721.6,0.5682,34.702,2,34.7021,2,207.2,2,207,2,127.21,2,32.14,2,0,2,2.25,2,-999,9,-999,9,-999,9,2260.4,2,-999,9
  90KDIOFFE6_1,  S04P,751,1,8,8,2,19920316,615,-67.0105,-164.0823,3647,2025.7,0.4528,34.6997,2,34.7007,2,205,2,209.8,2,129.08,2,32.08,2,0,2,2.26,2,-999,9,-999,9,-999,9,2261.1,2,-999,9
  90KDIOFFE6_1,  S04P,751,1,7,7,2,19920316,615,-67.0105,-164.0823,3647,2328.2,0.3539,34.699,2,34.6995,2,211.7,2,212.5,2,130.95,2,32.08,2,0,2,2.26,2,-999,9,-999,9,-999,9,2263.8,2,-999,9
  90KDIOFFE6_1,  S04P,751,1,6,6,2,19920316,615,-67.0105,-164.0823,3647,2634.5,0.2617,34.6972,2,34.6987,2,215.8,2,215.7,2,130.72,2,32.03,2,0,2,2.26,2,0.144,2,0.053,3,-999,9,2261.3,2,-999,9
  90KDIOFFE6_1,  S04P,751,1,5,5,2,19920316,615,-67.0105,-164.0823,3647,2936.4,0.1669,34.6963,2,34.6965,2,219.8,2,219.8,2,126.7,2,31.97,2,0,2,2.25,2,0.316,2,0.13,3,-999,9,2254.8,2,-999,9
  90KDIOFFE6_1,  S04P,751,1,28,28,2,19920316,615,-67.0105,-164.0823,3647,3245.8,0.0788,34.6954,2,34.6959,2,223.5,2,224.5,2,118.74,2,31.87,2,0,2,2.24,2,0.658,2,0.272,3,-999,9,2259.7,2,-999,9
  90KDIOFFE6_1,  S04P,751,1,3,3,2,19920316,615,-67.0105,-164.0823,3647,3452.1,0.0854,34.6953,2,34.6953,2,225.3,2,224.9,2,118.3,2,31.87,2,0,2,2.24,2,0.674,2,0.277,3,-999,9,2258.3,2,-999,9
  90KDIOFFE6_1,  S04P,751,1,2,2,2,19920316,615,-67.0105,-164.0823,3647,3604,0.0977,34.6952,2,34.6955,2,225.8,2,225.1,2,118.48,2,31.86,2,0,2,2.24,2,0.699,2,0.297,3,-999,9,2260.3,2,-999,9
  90KDIOFFE6_1,  S04P,751,1,1,1,2,19920316,615,-67.0105,-164.0823,3647,3692.8,0.1061,34.6953,2,34.6962,2,226.1,2,224.8,2,118.67,2,31.86,2,0,2,2.24,2,0.689,6,0.282,3,-999,9,2253.8,2,-999,9