BOTTLE,20181005JHS,,,,,,,,,,,,,,,,,,,,,,,,,,,,,,,,,,,,,,
EXPOCODE,SECT_ID,STNNBR,CASTNO,SAMPNO,BTLNBR,BTLNBR_FLAG_W,DATE,TIME,LATITUDE,LONGITUDE,DEPTH,CTDPRS,CTDTMP,CTDSAL,CTDSAL_FLAG_W,SALNTY,SALNTY_FLAG_W,CTDOXY,CTDOXY_FLAG_W,OXYGEN,OXYGEN_FLAG_W,SILCAT,SILCAT_FLAG_W,NITRAT,NITRAT_FLAG_W,NITRIT,NITRIT_FLAG_W,PHSPHT,PHSPHT_FLAG_W,CFC-11,CFC-11_FLAG_W,CFC-12,CFC-12_FLAG_W,SF6,SF6_FLAG_W,TCARBN,TCARBN_FLAG_W,ALKALI,ALKALI_FLAG_W
,,,,,,,,,,,,DBAR,ITS-90,PSS-78,,PSS-78,,UMOL/KG,,UMOL/KG,,UMOL/KG,,UMOL/KG,,UMOL/KG,,UMOL/KG,,PMOL/KG,,PMOL/KG,,FMOL/KG,,UMOL/KG,,UMOL/KG,
  90KDIOFFE6_1,  S04P,752,1,24,24,2,19920316,1246,-67.0103,-165.3402,3706,12.3,0.3827,33.8007,2,33.7999,2,338,3,339.6,2,46.24,2,23.13,2,0.18,2,1.54,2,6.251,2,2.792,3,-999,9,2145.7,2,-999,9
  90KDIOFFE6_1,  S04P,752,1,23,23,2,19920316,1246,-67.0103,-165.3402,3706,41.8,0.3764,33.8051,2,33.803,3,337.9,2,338.8,2,46.22,2,23.16,2,0.18,2,1.54,2,6.193,2,2.784,3,-999,9,2146.6,2,-999,9
  90KDIOFFE6_1,  S04P,752,1,22,22,2,19920316,1246,-67.0103,-165.3402,3706,67.2,-1.6067,34.2033,2,34.1901,2,294.3,2,298.5,2,68.48,2,27.94,2,0.11,2,2.04,2,4.457,2,1.952,3,-999,9,2199.1,2,-999,9
  90KDIOFFE6_1,  S04P,752,1,21,21,2,19920316,1246,-67.0103,-165.3402,3706,82.4,-1.7023,34.2349,2,34.2353,2,284.7,2,290.9,2,71.5,2,28.89,2,0.18,2,2.07,2,4.3,2,1.888,3,-999,9,2207.6,2,-999,9
  90KDIOFFE6_1,  S04P,752,1,20,20,2,19920316,1246,-67.0103,-165.3402,3706,119.1,-0.8208,34.3664,2,34.3889,2,254,2,248.9,2,79.81,2,30.52,2,0.04,2,2.16,2,2.855,2,1.24,3,-999,9,-999,9,-999,9
  90KDIOFFE6_1,  S04P,752,1,19,19,2,19920316,1246,-67.0103,-165.3402,3706,189.1,0.9509,34.6411,2,34.6457,2,186.6,2,187.6,2,96.1,2,32.47,2,0.01,2,2.29,2,0.625,2,0.256,3,-999,9,-999,9,-999,9
  90KDIOFFE6_1,  S04P,752,1,18,18,2,19920316,1246,-67.0103,-165.3402,3706,263.9,1.3316,34.7202,2,34.7208,2,179.8,2,179.3,2,103.67,2,32.39,2,0.01,2,2.28,2,0.087,2,0.033,3,-999,9,-999,9,-999,9
  90KDIOFFE6_1,  S04P,752,1,17,17,2,19920316,1246,-67.0103,-165.3402,3706,305,1.3188,34.7241,2,34.7244,2,180.5,2,180.4,2,105.29,2,32.21,2,0.02,2,2.27,2,0.054,2,0.018,3,-999,9,-999,9,-999,9
  90KDIOFFE6_1,  S04P,752,1,16,16,2,19920316,1246,-67.0103,-165.3402,3706,404.6,1.2556,34.7248,2,34.7253,2,183.6,2,182.8,2,107.95,2,32.4,2,0,2,2.26,2,0.031,2,0.002,4,-999,9,-999,9,-999,9
  90KDIOFFE6_1,  S04P,752,1,15,15,2,19920316,1246,-67.0103,-165.3402,3706,505.7,1.1785,34.724,2,34.7241,2,186.7,2,185.7,2,110.41,2,32.22,2,0,2,2.26,2,0.021,2,0.006,3,-999,9,-999,9,-999,9
  90KDIOFFE6_1,  S04P,752,1,14,14,2,19920316,1246,-67.0103,-165.3402,3706,605.6,1.1182,34.7222,2,34.7224,2,189.7,2,188.5,2,112.46,2,32.25,2,0,2,2.25,2,0.014,2,0.005,3,-999,9,-999,9,-999,9
  90KDIOFFE6_1,  S04P,752,1,13,13,2,19920316,1246,-67.0103,-165.3402,3706,806.4,0.9777,34.7175,2,34.7178,2,196.4,2,194.8,2,116.17,2,31.91,2,0,2,2.24,2,0.008,2,0.003,3,-999,9,-999,9,-999,9
  90KDIOFFE6_1,  S04P,752,1,12,12,2,19920316,1246,-67.0103,-165.3402,3706,1008.7,0.8606,34.713,2,34.7133,2,199.5,2,198.8,2,119.48,2,31.94,2,0,2,2.24,2,0.01,2,0.003,3,-999,9,-999,9,-999,9
  90KDIOFFE6_1,  S04P,752,1,26,26,2,19920316,1246,-67.0103,-165.3402,3706,1313,0.718,34.7075,2,34.707,2,200.2,2,203.1,2,123.85,2,31.91,2,0,2,2.25,2,0.009,2,0.003,3,-999,9,-999,9,-999,9
  90KDIOFFE6_1,  S04P,752,1,10,10,2,19920316,1246,-67.0103,-165.3402,3706,1616.3,0.5922,34.7034,2,34.7036,2,203.5,2,-999,5,126.76,2,31.89,2,0,2,2.25,2,0.014,6,0.004,3,-999,9,-999,9,-999,9
  90KDIOFFE6_1,  S04P,752,1,27,27,2,19920316,1246,-67.0103,-165.3402,3706,1919.4,0.4749,34.7008,2,34.7009,2,207.3,2,209.1,2,128.63,2,32.03,2,0,2,2.25,2,0.035,2,0.01,3,-999,9,-999,9,-999,9
  90KDIOFFE6_1,  S04P,752,1,8,8,2,19920316,1246,-67.0103,-165.3402,3706,2177,0.3758,34.6998,2,34.7001,2,209.2,2,211.7,2,130.51,2,32,2,0,2,2.24,2,0.068,2,0.017,3,-999,9,-999,9,-999,9
  90KDIOFFE6_1,  S04P,752,1,7,7,2,19920316,1246,-67.0103,-165.3402,3706,2431.4,0.3019,34.6989,2,34.6993,2,212.6,2,213.8,2,130.7,2,32.29,2,0,2,2.24,2,0.097,2,0.033,3,-999,9,-999,9,-999,9
  90KDIOFFE6_1,  S04P,752,1,6,6,2,19920316,1246,-67.0103,-165.3402,3706,2684.8,0.227,34.6977,2,34.6981,2,216.6,2,217,2,129.2,2,32.16,2,0,2,2.25,2,0.189,2,0.076,3,-999,9,-999,9,-999,9
  90KDIOFFE6_1,  S04P,752,1,5,5,2,19920316,1246,-67.0103,-165.3402,3706,2937.4,0.1437,34.696,2,34.6969,2,221.2,2,220.9,2,123.93,2,31.77,2,0,2,2.24,2,0.4,2,0.158,3,-999,9,-999,9,-999,9
  90KDIOFFE6_1,  S04P,752,1,28,28,2,19920316,1246,-67.0103,-165.3402,3706,3188.2,0.0966,34.6961,2,34.6961,2,223.1,2,223.7,2,119.94,2,31.75,2,0,2,2.23,2,0.578,2,0.228,3,-999,9,-999,9,-999,9
  90KDIOFFE6_1,  S04P,752,1,3,3,2,19920316,1246,-67.0103,-165.3402,3706,3436.8,0.0938,34.6959,2,34.6959,2,225.4,2,225,2,118.47,2,31.77,2,0,2,2.23,2,0.648,2,0.273,3,-999,9,-999,9,-999,9
  90KDIOFFE6_1,  S04P,752,1,2,2,2,19920316,1246,-67.0103,-165.3402,3706,3642.8,0.1062,34.6958,2,34.6961,2,227.6,2,225.1,2,118.24,2,31.7,2,0,2,2.23,2,0.687,2,0.296,3,-999,9,-999,9,-999,9
  90KDIOFFE6_1,  S04P,752,1,1,1,2,19920316,1246,-67.0103,-165.3402,3706,3775.6,0.1164,34.6955,2,34.6964,2,226.8,2,225.4,2,118.43,2,31.88,2,0,2,2.24,2,0.69,6,0.287,3,-999,9,-999,9,-999,9
  90KDIOFFE6_1,  S04P,753,1,24,24,2,19920316,1900,-67.0122,-166.5947,3680,11.3,0.0346,33.7072,2,33.7075,2,340.8,2,339.5,2,45.1,2,22.52,2,0.16,2,1.51,2,-999,9,-999,9,-999,9,2138.6,2,-999,9
  90KDIOFFE6_1,  S04P,753,1,23,23,2,19920316,1900,-67.0122,-166.5947,3680,45,-0.6925,33.929,2,33.7903,2,334.2,2,332.2,2,49.09,2,23.51,2,0.15,2,1.63,2,-999,9,-999,9,-999,9,2148.3,2,-999,9
  90KDIOFFE6_1,  S04P,753,1,22,22,2,19920316,1900,-67.0122,-166.5947,3680,59.9,-1.6112,34.1966,2,34.1991,2,293.3,2,294.1,2,68.13,2,28.26,2,0.07,2,2.08,2,-999,9,-999,9,-999,9,2196.7,2,-999,9
  90KDIOFFE6_1,  S04P,753,1,21,21,2,19920316,1900,-67.0122,-166.5947,3680,111.1,-0.6684,34.3977,2,34.3989,2,236.3,2,246,2,79.17,2,30.73,2,0.09,2,2.18,2,-999,9,-999,9,-999,9,2222.6,2,-999,9
  90KDIOFFE6_1,  S04P,753,1,20,20,2,19920316,1900,-67.0122,-166.5947,3680,151.4,0.532,34.5732,2,34.5714,2,199.4,2,205.6,2,90.26,2,31.92,2,0.02,2,2.25,2,-999,9,-999,9,-999,9,2247.2,2,-999,9
  90KDIOFFE6_1,  S04P,753,1,19,19,2,19920316,1900,-67.0122,-166.5947,3680,193.2,1.1647,34.662,2,34.6644,2,188.4,2,190.8,2,93.5,2,32.11,2,0.02,2,2.25,2,-999,9,-999,9,-999,9,2250.3,2,-999,9
  90KDIOFFE6_1,  S04P,753,1,18,18,2,19920316,1900,-67.0122,-166.5947,3680,243,1.3962,34.7124,2,34.713,2,186.5,2,185.6,2,98.36,2,31.93,2,0.02,2,2.24,2,-999,9,-999,9,-999,9,2248.7,2,-999,9
  90KDIOFFE6_1,  S04P,753,1,17,17,2,19920316,1900,-67.0122,-166.5947,3680,303.1,1.3696,34.7214,2,34.7223,2,185.8,2,185.6,2,101.42,2,31.92,2,0.01,2,2.24,2,-999,9,-999,9,-999,9,2256.7,2,-999,9
  90KDIOFFE6_1,  S04P,753,1,16,16,2,19920316,1900,-67.0122,-166.5947,3680,403.3,1.2857,34.7234,2,34.7246,2,188.6,2,186.6,2,105.5,2,32,2,0.01,2,2.24,2,-999,9,-999,9,-999,9,2260.6,2,-999,9
  90KDIOFFE6_1,  S04P,753,1,15,15,2,19920316,1900,-67.0122,-166.5947,3680,501.5,1.2161,34.7227,2,34.724,2,189.4,2,189,2,107.75,2,31.88,2,0.01,2,2.23,2,-999,9,-999,9,-999,9,2257.9,2,-999,9
  90KDIOFFE6_1,  S04P,753,1,14,14,2,19920316,1900,-67.0122,-166.5947,3680,603.6,1.1581,34.7221,2,34.7224,2,192,2,189.4,2,110.21,2,32.01,2,0.01,2,2.24,2,-999,9,-999,9,-999,9,2258.2,2,-999,9
  90KDIOFFE6_1,  S04P,753,1,13,13,2,19920316,1900,-67.0122,-166.5947,3680,756.4,1.0433,34.7183,2,34.7195,2,193.6,2,194.4,2,113.5,2,31.94,2,0,2,2.23,2,-999,9,-999,9,-999,9,2257.1,2,-999,9
  90KDIOFFE6_1,  S04P,753,1,12,12,2,19920316,1900,-67.0122,-166.5947,3680,906.2,0.9498,34.7149,2,34.7159,2,198.1,2,197.2,2,115.97,2,31.82,2,0,2,2.23,2,-999,9,-999,9,-999,9,2258.4,2,-999,9
  90KDIOFFE6_1,  S04P,753,1,26,26,2,19920316,1900,-67.0122,-166.5947,3680,1105.8,0.8288,34.7103,2,34.711,2,201.5,2,201.5,2,118.87,2,31.8,2,0,2,2.23,2,0.029,2,0.006,3,-999,9,-999,9,-999,9
  90KDIOFFE6_1,  S04P,753,1,10,10,2,19920316,1900,-67.0122,-166.5947,3680,1306.6,0.7255,34.7062,2,34.7069,2,203.2,2,203.8,2,122.81,2,31.73,2,0,2,2.24,2,-999,9,-999,9,-999,9,-999,9,-999,9
  90KDIOFFE6_1,  S04P,753,1,27,27,2,19920316,1900,-67.0122,-166.5947,3680,1499.5,0.6476,34.7031,2,34.7043,2,204.3,2,205.6,2,124.68,2,31.71,2,0,2,2.23,2,0.036,2,0.01,3,-999,9,-999,9,-999,9
  90KDIOFFE6_1,  S04P,753,1,8,8,2,19920316,1900,-67.0122,-166.5947,3680,1702.2,0.5686,34.7013,2,34.7022,2,206.3,2,207.2,2,126.15,2,31.89,2,0,2,2.24,2,-999,9,-999,9,-999,9,-999,9,-999,9
  90KDIOFFE6_1,  S04P,753,1,7,7,2,19920316,1900,-67.0122,-166.5947,3680,2002.6,0.4496,34.699,2,34.6996,2,208.4,2,210.1,2,128.24,2,31.98,2,0,2,2.24,2,0.053,2,0.017,3,-999,9,-999,9,-999,9
  90KDIOFFE6_1,  S04P,753,1,6,6,2,19920316,1900,-67.0122,-166.5947,3680,2296.8,0.3413,34.6978,2,34.6986,2,210.9,2,213.1,2,129.71,2,31.9,2,0,2,2.24,2,-999,9,-999,9,-999,9,-999,9,-999,9
  90KDIOFFE6_1,  S04P,753,1,5,5,2,19920316,1900,-67.0122,-166.5947,3680,2586.1,0.235,34.6964,2,34.6972,2,215.1,2,216.9,2,127.83,2,32.14,2,0,2,2.24,2,0.251,2,0.099,3,-999,9,-999,9,-999,9
  90KDIOFFE6_1,  S04P,753,1,28,28,2,19920316,1900,-67.0122,-166.5947,3680,2877,0.1489,34.6945,2,34.6951,2,220.8,2,220.9,2,122.21,2,32.02,2,0,2,2.24,2,-999,9,-999,9,-999,9,-999,9,-999,9
  90KDIOFFE6_1,  S04P,753,1,3,3,2,19920316,1900,-67.0122,-166.5947,3680,3155.5,0.1157,34.6936,2,34.6951,2,223.7,2,223,2,119.51,2,31.74,2,0,2,2.23,2,0.684,2,0.287,3,-999,9,-999,9,-999,9
  90KDIOFFE6_1,  S04P,753,1,2,2,2,19920316,1900,-67.0122,-166.5947,3680,3338.6,0.1251,34.6936,2,34.6943,2,224.8,2,223.3,2,119.51,2,31.77,2,0,2,2.23,2,0.678,2,0.284,3,-999,9,-999,9,-999,9
  90KDIOFFE6_1,  S04P,753,1,1,1,2,19920316,1900,-67.0122,-166.5947,3680,3542.4,0.1358,34.694,2,34.6958,2,226.4,2,223.7,2,119.31,2,31.8,2,0,2,2.23,2,0.692,2,0.289,3,-999,9,-999,9,-999,9
  90KDIOFFE6_1,  S04P,754,1,24,24,2,19920317,440,-66.9925,-167.9068,3381,18.8,0.3018,33.8333,2,33.8355,2,340.4,2,339.8,2,49.45,2,24.16,2,0.2,2,1.63,2,6.004,2,2.693,3,-999,9,2146.9,2,-999,9
  90KDIOFFE6_1,  S04P,754,1,23,23,2,19920317,440,-66.9925,-167.9068,3381,47.4,0.1918,33.8774,2,33.8777,2,336.2,2,337.4,2,50.63,2,24.58,2,0.2,2,1.67,2,5.894,2,2.683,3,-999,9,2151.5,2,-999,9
  90KDIOFFE6_1,  S04P,754,1,22,22,2,19920317,440,-66.9925,-167.9068,3381,78.1,-1.3007,34.2427,2,34.2463,2,284,2,281,2,70.19,2,29.36,2,0.17,2,2.12,2,3.95,6,1.779,3,-999,9,2203.6,2,-999,9
  90KDIOFFE6_1,  S04P,754,1,21,21,2,19920317,440,-66.9925,-167.9068,3381,108.5,-0.4896,34.376,2,34.368,2,249.4,2,251.9,2,76.02,2,30.66,2,0.11,2,2.18,2,2.98,2,1.288,3,-999,9,-999,9,-999,9
  90KDIOFFE6_1,  S04P,754,1,20,20,2,19920317,440,-66.9925,-167.9068,3381,159.3,0.7501,34.5657,2,34.5687,2,209.3,2,206.4,2,85.92,2,31.87,2,0.02,2,2.26,2,1.284,2,0.543,3,-999,9,-999,9,-999,9
  90KDIOFFE6_1,  S04P,754,1,19,19,2,19920317,440,-66.9925,-167.9068,3381,210.4,1.2949,34.6591,2,34.6585,2,191.4,2,191.4,2,90.56,2,31.89,2,0.02,2,2.26,2,0.586,2,0.161,4,-999,9,-999,9,-999,9
  90KDIOFFE6_1,  S04P,754,1,18,18,2,19920317,440,-66.9925,-167.9068,3381,259.4,1.4494,34.6936,2,34.6938,2,187.6,2,188.3,2,92.97,2,31.81,2,0.01,2,2.25,2,-999,9,-999,9,-999,9,-999,9,-999,9
  90KDIOFFE6_1,  S04P,754,1,17,17,2,19920317,440,-66.9925,-167.9068,3381,308,1.4716,34.7086,2,34.7093,2,186.9,2,188.4,2,94.97,2,31.78,2,0.01,2,2.23,2,-999,9,-999,9,-999,9,-999,9,-999,9
  90KDIOFFE6_1,  S04P,754,1,16,16,2,19920317,440,-66.9925,-167.9068,3381,410.3,1.4032,34.7211,2,34.7219,2,191.7,2,189.7,2,99.63,2,31.58,2,0.01,2,2.22,2,0.148,2,0.054,3,-999,9,-999,9,-999,9
  90KDIOFFE6_1,  S04P,754,1,15,15,2,19920317,440,-66.9925,-167.9068,3381,510.7,1.3392,34.7234,2,34.7236,2,189.8,2,190.6,2,102.46,2,31.55,2,0.01,2,2.23,2,0.11,2,0.042,3,-999,9,-999,9,-999,9
  90KDIOFFE6_1,  S04P,754,1,14,14,2,19920317,440,-66.9925,-167.9068,3381,612.8,1.2691,34.7229,2,34.7238,2,191.6,2,192.1,2,104.89,2,31.3,2,0.01,2,2.22,2,0.093,2,0.032,3,-999,9,-999,9,-999,9
  90KDIOFFE6_1,  S04P,754,1,13,13,2,19920317,440,-66.9925,-167.9068,3381,813.3,1.131,34.7205,2,34.7207,2,196.5,2,195.4,2,109.78,2,31.43,2,0.01,2,2.22,2,0.062,2,0.023,3,-999,9,-999,9,-999,9
  90KDIOFFE6_1,  S04P,754,1,12,12,2,19920317,440,-66.9925,-167.9068,3381,1013.3,0.9988,34.7163,2,34.7161,2,198.7,2,198.3,2,114.08,2,31.67,2,0.01,2,2.23,2,0.042,2,0.015,3,-999,9,-999,9,-999,9
  90KDIOFFE6_1,  S04P,754,1,26,26,2,19920317,440,-66.9925,-167.9068,3381,1213.6,0.8849,34.7122,2,34.7122,2,202.4,2,201,2,118.18,2,31.58,2,0,2,2.24,2,0.033,2,0.011,3,-999,9,-999,9,-999,9
  90KDIOFFE6_1,  S04P,754,1,10,10,2,19920317,440,-66.9925,-167.9068,3381,1414.3,0.7788,34.7087,2,34.7089,2,202.1,2,203.1,2,121.67,2,31.66,2,0,2,2.24,2,0.021,2,0.008,3,-999,9,-999,9,-999,9
  90KDIOFFE6_1,  S04P,754,1,27,27,2,19920317,440,-66.9925,-167.9068,3381,1616.6,0.6816,34.7043,2,34.7049,2,205,2,205.7,2,124.35,2,31.68,2,0,2,2.24,2,0.045,2,0.011,3,-999,9,-999,9,-999,9
  90KDIOFFE6_1,  S04P,754,1,8,8,2,19920317,440,-66.9925,-167.9068,3381,1818.4,0.5743,34.6998,2,34.7004,2,208.8,2,208.7,2,125.14,2,31.7,2,0,2,2.24,2,0.142,4,0.046,4,-999,9,-999,9,-999,9
  90KDIOFFE6_1,  S04P,754,1,7,7,2,19920317,440,-66.9925,-167.9068,3381,2122.1,0.4591,34.6988,2,34.6992,2,209,2,211.2,2,127.61,2,31.89,2,0,2,2.25,2,0.096,2,0.035,3,-999,9,-999,9,-999,9
  90KDIOFFE6_1,  S04P,754,1,6,6,2,19920317,440,-66.9925,-167.9068,3381,2425.5,0.3473,34.697,2,34.698,2,214.3,2,213.9,2,128.62,2,32.02,2,0,2,2.26,2,0.165,2,0.061,3,-999,9,-999,9,-999,9
  90KDIOFFE6_1,  S04P,754,1,5,5,2,19920317,440,-66.9925,-167.9068,3381,2725.1,0.2413,34.6962,2,34.6965,2,215,2,217.3,2,127.32,2,31.99,2,0,2,2.25,2,0.303,2,0.121,3,-999,9,-999,9,-999,9
  90KDIOFFE6_1,  S04P,754,1,28,28,2,19920317,440,-66.9925,-167.9068,3381,3028.1,0.1568,34.6952,2,34.6955,2,220.5,2,220.9,2,122.69,2,31.9,2,0,2,2.25,2,0.517,2,0.216,3,-999,9,-999,9,-999,9
  90KDIOFFE6_1,  S04P,754,1,3,3,2,19920317,440,-66.9925,-167.9068,3381,3181.3,0.153,34.6945,2,34.6955,2,221.2,2,221.9,2,122.02,2,31.76,2,0,2,2.25,2,0.563,2,0.228,3,-999,9,-999,9,-999,9
  90KDIOFFE6_1,  S04P,754,1,2,2,2,19920317,440,-66.9925,-167.9068,3381,3336.8,0.1614,34.6949,2,34.6953,2,223.8,2,222.2,2,121.78,2,31.78,2,0,2,2.25,2,0.574,6,0.242,3,-999,9,-999,9,-999,9
  90KDIOFFE6_1,  S04P,754,1,1,1,2,19920317,440,-66.9925,-167.9068,3381,3422.5,0.1642,34.6957,2,34.6954,2,225,2,222,2,121.53,2,31.74,2,0,2,2.23,2,0.582,6,0.246,3,-999,9,-999,9,-999,9
  90KDIOFFE6_1,  S04P,755,1,24,24,2,19920317,1029,-67.0245,-169.2502,3418,13.1,0.363,33.8702,2,33.87,2,342,2,340.4,2,47.92,2,23.96,2,0.22,2,1.62,2,-999,9,-999,9,-999,9,2148.5,2,-999,9
  90KDIOFFE6_1,  S04P,755,1,23,23,2,19920317,1029,-67.0245,-169.2502,3418,53.3,0.2491,33.8996,2,33.903,2,333.2,2,335.2,2,50.07,2,24.55,2,0.21,2,1.7,2,-999,9,-999,9,-999,9,2155.8,2,-999,9
  90KDIOFFE6_1,  S04P,755,1,22,22,2,19920317,1029,-67.0245,-169.2502,3418,98.5,-1.1298,34.2667,2,34.268,2,289.6,2,279,2,70.88,2,29.43,2,0.18,2,2.12,2,-999,9,-999,9,-999,9,2212.3,2,-999,9
  90KDIOFFE6_1,  S04P,755,1,21,21,2,19920317,1029,-67.0245,-169.2502,3418,128.7,-0.2475,34.4191,2,34.402,2,254.7,2,245.5,2,77.72,2,30.8,2,0.07,2,2.2,2,-999,9,-999,9,-999,9,2227.1,2,-999,9
  90KDIOFFE6_1,  S04P,755,1,20,20,2,19920317,1029,-67.0245,-169.2502,3418,154.4,0.3301,34.5102,2,34.518,2,210.2,2,218.6,2,83.77,2,31.48,2,0.03,2,2.24,2,-999,9,-999,9,-999,9,2239.1,2,-999,9
  90KDIOFFE6_1,  S04P,755,1,19,19,2,19920317,1029,-67.0245,-169.2502,3418,204.9,1.1125,34.6289,2,34.634,2,196.7,2,196.4,2,89.63,2,31.77,2,0.02,2,2.27,2,-999,9,-999,9,-999,9,2231.9,2,-999,9
  90KDIOFFE6_1,  S04P,755,1,18,18,2,19920317,1029,-67.0245,-169.2502,3418,254.3,1.3873,34.6845,2,34.686,2,188.8,2,189.9,2,92.37,2,31.67,2,0.01,2,2.25,2,-999,9,-999,9,-999,9,2250.3,2,-999,9
  90KDIOFFE6_1,  S04P,755,1,17,17,2,19920317,1029,-67.0245,-169.2502,3418,305,1.4522,34.7042,2,34.706,2,188.9,2,187.7,2,94.81,2,31.47,2,0.01,2,2.25,2,-999,9,-999,9,-999,9,2237.4,2,-999,9
  90KDIOFFE6_1,  S04P,755,1,16,16,2,19920317,1029,-67.0245,-169.2502,3418,403.8,1.3493,34.7164,2,34.716,2,190.4,2,193.8,2,97.45,2,31.28,2,0,2,2.22,2,-999,9,-999,9,-999,9,2249,2,-999,9
  90KDIOFFE6_1,  S04P,755,1,15,15,2,19920317,1029,-67.0245,-169.2502,3418,503.8,1.3123,34.7203,2,34.721,2,194.7,2,194.7,2,100.08,2,31.18,2,0,2,2.2,2,-999,9,-999,9,-999,9,2252.7,2,-999,9
  90KDIOFFE6_1,  S04P,755,1,14,14,2,19920317,1029,-67.0245,-169.2502,3418,600.5,1.2474,34.7217,2,34.722,2,196.1,2,195.5,2,103.11,2,31.18,2,0,2,2.21,2,-999,9,-999,9,-999,9,2251.5,2,-999,9
  90KDIOFFE6_1,  S04P,755,1,13,13,2,19920317,1029,-67.0245,-169.2502,3418,802.1,1.1065,34.7202,2,34.72,2,199.8,2,198.6,2,108.2,2,31.28,2,0,2,2.22,2,-999,9,-999,9,-999,9,2254.3,2,-999,9
  90KDIOFFE6_1,  S04P,755,1,12,12,2,19920317,1029,-67.0245,-169.2502,3418,1002.7,0.9746,34.7145,2,34.716,2,201.4,2,200.7,2,112.69,2,31.47,2,0,2,2.22,2,0.067,2,0.022,3,-999,9,2255.9,2,-999,9
  90KDIOFFE6_1,  S04P,755,1,26,26,2,19920317,1029,-67.0245,-169.2502,3418,1258.5,0.8147,34.7095,2,34.71,2,204.2,2,203.8,2,118.27,2,31.57,2,0,2,2.24,2,-999,9,-999,9,-999,9,2248.3,2,-999,9
  90KDIOFFE6_1,  S04P,755,1,10,10,2,19920317,1029,-67.0245,-169.2502,3418,1514.6,0.6818,34.705,2,34.705,2,206,2,206,2,123.05,2,31.67,2,0,2,2.25,2,0.048,2,0.016,3,-999,9,2259.7,2,-999,9
  90KDIOFFE6_1,  S04P,755,1,27,27,3,19920317,1029,-67.0245,-169.2502,3418,1768.6,0.5779,34.7014,2,34.7,4,208,2,214.2,4,125.5,4,31.67,4,0,4,2.26,4,-999,9,-999,9,-999,9,-999,9,-999,9
  90KDIOFFE6_1,  S04P,755,1,8,8,2,19920317,1029,-67.0245,-169.2502,3418,2020.5,0.4719,34.6995,2,34.7,2,210,2,210.3,2,127.36,2,31.86,2,0,2,2.26,2,0.094,2,0.027,3,-999,9,2257.3,2,-999,9
  90KDIOFFE6_1,  S04P,755,1,7,7,2,19920317,1029,-67.0245,-169.2502,3418,2271.7,0.385,34.6985,2,34.699,2,211.9,2,212.9,2,127.84,2,31.96,2,0,2,2.26,2,-999,9,-999,9,-999,9,2256.1,2,-999,9
  90KDIOFFE6_1,  S04P,755,1,6,6,2,19920317,1029,-67.0245,-169.2502,3418,2524.8,0.3021,34.6971,2,34.698,2,215,2,215.1,2,127.36,2,31.77,2,0,2,2.27,2,0.225,2,0.09,3,-999,9,2257.4,2,-999,9
  90KDIOFFE6_1,  S04P,755,1,5,5,2,19920317,1029,-67.0245,-169.2502,3418,2779.2,0.2281,34.6951,2,34.696,2,218.5,2,218.5,2,124.91,2,31.77,2,0,2,2.26,2,-999,9,-999,9,-999,9,2258.6,2,-999,9
  90KDIOFFE6_1,  S04P,755,1,28,28,2,19920317,1029,-67.0245,-169.2502,3418,3032.3,0.2002,34.6956,2,34.696,2,220.9,2,219.8,2,122.96,2,31.96,2,0,2,2.26,2,0.474,2,0.19,3,-999,9,2248.5,2,-999,9
  90KDIOFFE6_1,  S04P,755,1,3,3,2,19920317,1029,-67.0245,-169.2502,3418,3185.4,0.1982,34.6954,2,34.696,2,221.3,2,220.3,2,122.57,2,31.96,2,0,2,2.26,2,-999,9,-999,9,-999,9,2257.3,2,-999,9
  90KDIOFFE6_1,  S04P,755,1,2,2,2,19920317,1029,-67.0245,-169.2502,3418,3336.9,0.1912,34.6958,2,34.695,2,222.2,2,221.2,2,121.79,2,31.96,2,0,2,2.25,2,0.544,2,0.221,3,-999,9,2252.2,2,-999,9
  90KDIOFFE6_1,  S04P,755,1,1,1,2,19920317,1029,-67.0245,-169.2502,3418,3469,0.1992,34.6948,2,34.696,2,222.2,2,221.2,2,121.49,2,31.86,2,0,2,2.25,2,0.559,2,0.22,3,-999,9,2254.6,2,-999,9