BOTTLE,20181005JHS,,,,,,,,,,,,,,,,,,,,,,,,,,,,,,,,,,,,,,
EXPOCODE,SECT_ID,STNNBR,CASTNO,SAMPNO,BTLNBR,BTLNBR_FLAG_W,DATE,TIME,LATITUDE,LONGITUDE,DEPTH,CTDPRS,CTDTMP,CTDSAL,CTDSAL_FLAG_W,SALNTY,SALNTY_FLAG_W,CTDOXY,CTDOXY_FLAG_W,OXYGEN,OXYGEN_FLAG_W,SILCAT,SILCAT_FLAG_W,NITRAT,NITRAT_FLAG_W,NITRIT,NITRIT_FLAG_W,PHSPHT,PHSPHT_FLAG_W,CFC-11,CFC-11_FLAG_W,CFC-12,CFC-12_FLAG_W,SF6,SF6_FLAG_W,TCARBN,TCARBN_FLAG_W,ALKALI,ALKALI_FLAG_W
,,,,,,,,,,,,DBAR,ITS-90,PSS-78,,PSS-78,,UMOL/KG,,UMOL/KG,,UMOL/KG,,UMOL/KG,,UMOL/KG,,UMOL/KG,,PMOL/KG,,PMOL/KG,,FMOL/KG,,UMOL/KG,,UMOL/KG,
  90KDIOFFE6_1,  S04P,692,1,24,24,2,19920225,336,-66.284,-75.6615,3644,14,0.6398,33.715,2,33.7177,2,-999,9,339.2,2,44.5,2,25.72,2,0.22,2,1.83,2,-999,9,-999,9,-999,9,2142.5,2,-999,9
  90KDIOFFE6_1,  S04P,692,1,23,23,2,19920225,336,-66.284,-75.6615,3644,33.3,0.6378,33.7149,2,33.7128,2,-999,9,339.6,2,44.5,2,25.72,2,0.22,2,1.81,2,-999,9,-999,9,-999,9,2142.2,2,-999,9
  90KDIOFFE6_1,  S04P,692,1,22,22,2,19920225,336,-66.284,-75.6615,3644,84.7,-1.3726,33.9721,2,33.9732,2,-999,9,317.8,2,49.58,2,28.46,2,0.2,2,2.01,2,-999,9,-999,9,-999,9,-999,9,-999,9
  90KDIOFFE6_1,  S04P,692,1,21,21,2,19920225,336,-66.284,-75.6615,3644,126,-0.833,34.1002,2,34.1023,2,-999,9,288.2,2,55.64,2,30.31,2,0.09,2,2.12,2,-999,9,-999,9,-999,9,-999,9,-999,9
  90KDIOFFE6_1,  S04P,692,1,20,20,2,19920225,336,-66.284,-75.6615,3644,179.1,1.5062,34.4296,2,34.427,2,-999,9,207.7,2,71.56,2,33.43,2,0.01,2,2.33,2,-999,9,-999,9,-999,9,-999,9,-999,9
  90KDIOFFE6_1,  S04P,692,1,19,19,2,19920225,336,-66.284,-75.6615,3644,199.7,1.1405,34.4229,2,34.427,2,-999,9,208.6,2,72.83,2,33.24,2,0.01,2,2.31,2,-999,9,-999,9,-999,9,-999,9,-999,9
  90KDIOFFE6_1,  S04P,692,1,18,18,2,19920225,336,-66.284,-75.6615,3644,255,1.7011,34.5407,2,34.5392,2,-999,9,186.9,2,78.98,2,33.63,2,0.01,2,2.34,2,-999,9,-999,9,-999,9,-999,9,-999,9
  90KDIOFFE6_1,  S04P,692,1,16,16,2,19920225,336,-66.284,-75.6615,3644,406.6,1.9389,34.6481,2,34.6459,2,-999,9,176.9,2,85.23,2,32.65,2,0.01,2,2.29,2,-999,9,-999,9,-999,9,-999,9,-999,9
  90KDIOFFE6_1,  S04P,692,1,15,15,2,19920225,336,-66.284,-75.6615,3644,507.1,1.9319,34.6781,2,34.6783,2,-999,9,177.7,2,87.19,2,32.16,2,0.01,2,2.23,2,-999,9,-999,9,-999,9,-999,9,-999,9
  90KDIOFFE6_1,  S04P,692,1,14,14,2,19920225,336,-66.284,-75.6615,3644,654.8,1.8679,34.7082,2,34.7075,2,-999,9,181.6,2,90.31,2,31.57,2,0.01,2,2.19,2,-999,9,-999,9,-999,9,-999,9,-999,9
  90KDIOFFE6_1,  S04P,692,1,13,13,2,19920225,336,-66.284,-75.6615,3644,807,1.762,34.7222,2,34.7216,2,-999,9,186,2,93.63,2,31.08,2,0.01,2,2.16,2,-999,9,-999,9,-999,9,-999,9,-999,9
  90KDIOFFE6_1,  S04P,692,1,12,12,2,19920225,336,-66.284,-75.6615,3644,1010.9,1.5881,34.7279,2,34.7281,2,-999,9,189.4,2,99.11,2,30.98,2,0.01,2,2.16,2,-999,9,-999,9,-999,9,-999,9,-999,9
  90KDIOFFE6_1,  S04P,692,1,11,11,2,19920225,336,-66.284,-75.6615,3644,1260.9,1.4143,34.7277,2,34.7268,2,-999,9,194.2,2,104.68,2,30.98,2,0,2,2.15,2,-999,9,-999,9,-999,9,-999,9,-999,9
  90KDIOFFE6_1,  S04P,692,1,10,10,2,19920225,336,-66.284,-75.6615,3644,1512.2,1.2344,34.724,2,34.7221,2,-999,9,196.8,2,110.54,2,31.08,2,0,2,2.18,2,-999,9,-999,9,-999,9,-999,9,-999,9
  90KDIOFFE6_1,  S04P,692,1,9,9,2,19920225,336,-66.284,-75.6615,3644,1748.5,1.0705,34.7188,2,34.7177,2,-999,9,199.9,2,115.23,2,31.28,2,0,2,2.18,2,-999,9,-999,9,-999,9,-999,9,-999,9
  90KDIOFFE6_1,  S04P,692,1,8,8,2,19920225,336,-66.284,-75.6615,3644,1996.1,0.9246,34.7139,2,34.7128,2,-999,9,202.9,2,119.54,2,31.37,2,0,2,2.19,2,-999,9,-999,9,-999,9,-999,9,-999,9
  90KDIOFFE6_1,  S04P,692,1,7,7,3,19920225,336,-66.284,-75.6615,3644,2260.2,0.7757,34.7086,2,33.8603,4,-999,9,317.4,4,50.17,4,27.09,4,0.19,4,1.91,4,-999,9,-999,9,-999,9,-999,9,-999,9
  90KDIOFFE6_1,  S04P,692,1,6,6,2,19920225,336,-66.284,-75.6615,3644,2527.4,0.6348,34.7054,2,34.705,2,-999,9,208.1,2,128.04,2,31.47,2,0,2,2.21,2,0.012,2,0.008,3,-999,9,-999,9,-999,9
  90KDIOFFE6_1,  S04P,692,1,5,5,2,19920225,336,-66.284,-75.6615,3644,2786.3,0.5199,34.7018,2,34.7033,2,-999,9,210.7,2,131.66,2,31.67,2,0,2,2.23,2,0.014,2,0.009,3,-999,9,-999,9,-999,9
  90KDIOFFE6_1,  S04P,692,1,4,4,2,19920225,336,-66.284,-75.6615,3644,3032.1,0.446,34.7015,2,34.7009,2,-999,9,212,2,135.08,2,31.77,2,0,2,2.23,2,0.017,2,0.005,3,-999,9,-999,9,-999,9
  90KDIOFFE6_1,  S04P,692,1,3,3,2,19920225,336,-66.284,-75.6615,3644,3288.3,0.397,34.7017,2,34.7015,2,-999,9,213.3,2,137.62,2,31.77,2,0,2,2.24,2,0.026,3,0.004,3,-999,9,-999,9,-999,9
  90KDIOFFE6_1,  S04P,692,1,2,2,2,19920225,336,-66.284,-75.6615,3644,3547.7,0.369,34.7016,2,34.7013,2,-999,9,214.2,2,139.18,2,31.86,2,0,2,2.24,2,0.013,2,0.01,3,-999,9,-999,9,-999,9
  90KDIOFFE6_1,  S04P,692,1,1,1,2,19920225,336,-66.284,-75.6615,3644,3694.9,0.339,34.7017,2,34.6952,3,-999,9,214.6,2,143.09,2,31.96,2,0,2,2.25,2,0.019,2,0.008,3,-999,9,-999,9,-999,9
  90KDIOFFE6_1,  S04P,693,1,24,24,2,19920225,821,-66.6333,-76.4053,3338,13.8,0.2951,33.7323,2,33.7309,2,343.8,2,338.9,2,54.53,2,25.56,2,0.14,2,1.76,2,-999,9,-999,9,-999,9,2149.1,2,-999,9
  90KDIOFFE6_1,  S04P,693,1,23,23,2,19920225,821,-66.6333,-76.4053,3338,39.1,0.2911,33.7321,2,33.7325,2,332.7,2,339.1,2,54.29,2,25.54,2,0.14,2,1.76,2,-999,9,-999,9,-999,9,2149.4,2,-999,9
  90KDIOFFE6_1,  S04P,693,1,22,22,2,19920225,821,-66.6333,-76.4053,3338,75.1,-1.3946,34.006,2,34.008,2,299,2,303.4,2,54.26,2,29.05,2,0.22,2,2.02,2,-999,9,-999,9,-999,9,-999,9,-999,9
  90KDIOFFE6_1,  S04P,693,1,21,21,2,19920225,821,-66.6333,-76.4053,3338,104.1,-0.9889,34.1166,2,34.1044,2,276.9,2,278.5,2,61.54,2,30.09,2,0.1,2,2.09,2,-999,9,-999,9,-999,9,-999,9,-999,9
  90KDIOFFE6_1,  S04P,693,1,20,20,2,19920225,821,-66.6333,-76.4053,3338,155.5,0.7797,34.3813,2,34.3815,2,225,2,218.5,2,70.81,2,32.8,2,0.02,2,2.25,2,-999,9,-999,9,-999,9,-999,9,-999,9
  90KDIOFFE6_1,  S04P,693,1,19,19,2,19920225,821,-66.6333,-76.4053,3338,204.6,1.6551,34.5442,2,34.5434,2,187.6,2,186.1,2,79.2,2,33.46,2,0.01,2,2.31,2,-999,9,-999,9,-999,9,-999,9,-999,9
  90KDIOFFE6_1,  S04P,693,1,18,18,2,19920225,821,-66.6333,-76.4053,3338,255.1,1.8559,34.599,2,34.5977,2,178.3,2,179,2,82.29,2,33.38,2,0.01,2,2.3,2,-999,9,-999,9,-999,9,-999,9,-999,9
  90KDIOFFE6_1,  S04P,693,1,17,17,2,19920225,821,-66.6333,-76.4053,3338,304.5,1.9149,34.6319,2,34.6317,2,176.4,2,176.7,2,84.27,2,32.98,2,0.01,2,2.27,2,-999,9,-999,9,-999,9,-999,9,-999,9
  90KDIOFFE6_1,  S04P,693,1,16,16,2,19920225,821,-66.6333,-76.4053,3338,354.5,1.9249,34.654,2,34.6548,2,177.6,2,176.7,2,85.36,2,32.63,2,0.01,2,2.25,2,-999,9,-999,9,-999,9,-999,9,-999,9
  90KDIOFFE6_1,  S04P,693,1,15,15,2,19920225,821,-66.6333,-76.4053,3338,456.5,1.9069,34.685,2,34.6847,2,179,2,180.2,2,87.78,2,32.24,2,0.01,2,2.22,2,-999,9,-999,9,-999,9,-999,9,-999,9
  90KDIOFFE6_1,  S04P,693,1,14,14,2,19920225,821,-66.6333,-76.4053,3338,605.1,1.818,34.7127,2,34.7133,2,181.2,2,183,2,91.76,2,31.57,2,0.01,2,2.18,2,0.105,2,0.032,3,-999,9,-999,9,-999,9
  90KDIOFFE6_1,  S04P,693,1,13,13,2,19920225,821,-66.6333,-76.4053,3338,701.5,1.753,34.7213,2,34.7155,2,187.8,2,184.2,2,92.63,2,31.28,2,0.01,2,2.16,2,-999,9,-999,9,-999,9,-999,9,-999,9
  90KDIOFFE6_1,  S04P,693,1,12,12,2,19920225,821,-66.6333,-76.4053,3338,801.1,1.6801,34.7259,2,34.7261,2,188.3,2,188.3,2,95.72,2,30.94,2,0.01,2,2.15,2,0.062,2,0.019,3,-999,9,-999,9,-999,9
  90KDIOFFE6_1,  S04P,693,1,11,11,2,19920225,821,-66.6333,-76.4053,3338,905.9,1.5831,34.7279,2,34.7284,2,191.3,2,190.9,2,99.04,2,30.81,2,0.01,2,2.14,2,-999,9,-999,9,-999,9,-999,9,-999,9
  90KDIOFFE6_1,  S04P,693,1,10,10,2,19920225,821,-66.6333,-76.4053,3338,1160.3,1.3693,34.7277,2,34.727,2,192.2,2,194.5,2,105.5,2,30.99,2,0.01,2,2.14,2,0.024,2,0.008,3,-999,9,-999,9,-999,9
  90KDIOFFE6_1,  S04P,693,1,9,9,2,19920225,821,-66.6333,-76.4053,3338,1411.1,1.2014,34.7226,2,34.7225,2,197,2,197.5,2,110.85,2,31.02,2,0.01,2,2.16,2,-999,9,-999,9,-999,9,-999,9,-999,9
  90KDIOFFE6_1,  S04P,693,1,8,8,2,19920225,821,-66.6333,-76.4053,3338,1666.7,1.0355,34.7174,2,34.7174,2,200.5,2,200.8,2,115.31,2,31.16,2,0.01,2,2.17,2,0.011,2,0.004,3,-999,9,-999,9,-999,9
  90KDIOFFE6_1,  S04P,693,1,7,7,2,19920225,821,-66.6333,-76.4053,3338,1917.8,0.8966,34.7124,2,34.7113,2,205.3,2,203.5,2,120.46,2,31.29,2,0.01,2,2.19,2,-999,9,-999,9,-999,9,-999,9,-999,9
  90KDIOFFE6_1,  S04P,693,1,6,6,2,19920225,821,-66.6333,-76.4053,3338,2168.6,0.7737,34.7075,2,34.7086,2,205.3,2,206,2,124.5,2,31.42,2,0.01,2,2.2,2,0.009,2,0.005,3,-999,9,-999,9,-999,9
  90KDIOFFE6_1,  S04P,693,1,5,5,2,19920225,821,-66.6333,-76.4053,3338,2423.1,0.6488,34.7062,2,34.7052,2,208.8,2,208.2,2,127.88,2,31.6,2,0.01,2,2.2,2,-999,9,-999,9,-999,9,-999,9,-999,9
  90KDIOFFE6_1,  S04P,693,1,4,4,2,19920225,821,-66.6333,-76.4053,3338,2680.2,0.5189,34.7024,2,34.7025,2,209.3,2,210.5,2,131.71,2,31.58,2,0.01,2,2.22,2,0.013,6,0.004,3,-999,9,-999,9,-999,9
  90KDIOFFE6_1,  S04P,693,1,3,3,2,19920225,821,-66.6333,-76.4053,3338,2935,0.438,34.7019,2,34.7,2,214.3,2,211.7,2,134.65,2,31.76,2,0.01,2,2.23,2,-999,9,-999,9,-999,9,-999,9,-999,9
  90KDIOFFE6_1,  S04P,693,1,2,2,2,19920225,821,-66.6333,-76.4053,3338,3193.3,0.392,34.702,2,34.7003,2,213.5,2,213.1,2,138.27,2,31.9,2,0,2,2.23,2,0.011,2,0.006,3,-999,9,-999,9,-999,9
  90KDIOFFE6_1,  S04P,693,1,1,1,2,19920225,821,-66.6333,-76.4053,3338,3371.5,0.386,34.7018,2,34.7056,3,214.1,2,213.5,2,139.85,2,31.92,2,0,2,2.24,2,0.021,6,0.004,3,-999,9,-999,9,-999,9
  90KDIOFFE6_1,  S04P,694,1,24,24,2,19920225,1319,-67.0062,-77.0287,3715,12.1,0.413,33.6996,2,33.6985,2,339.3,2,339.5,2,55.71,2,25.44,2,0.13,2,1.78,2,6.161,2,2.696,3,-999,9,2149.6,2,-999,9
  90KDIOFFE6_1,  S04P,694,1,23,23,2,19920225,1319,-67.0062,-77.0287,3715,48.1,0.0852,33.7652,2,33.7962,2,330.6,2,331.1,2,53.05,2,26.23,2,0.12,2,1.85,2,5.772,2,2.53,3,-999,9,2159.3,2,-999,9
  90KDIOFFE6_1,  S04P,694,1,22,22,2,19920225,1319,-67.0062,-77.0287,3715,78.5,-1.4905,34.0125,2,34.0113,2,289.2,2,296.1,2,64.93,2,28.26,2,0.16,2,2,2,4.481,2,1.962,3,-999,9,2195,2,-999,9
  90KDIOFFE6_1,  S04P,694,1,21,21,2,19920225,1319,-67.0062,-77.0287,3715,102.9,-1.1788,34.0942,2,34.0927,2,266.6,2,279.2,2,63.59,2,29.94,2,0.14,2,2.08,2,4.063,2,1.776,3,-999,9,2204.8,2,-999,9
  90KDIOFFE6_1,  S04P,694,1,20,20,2,19920225,1319,-67.0062,-77.0287,3715,152.7,0.4999,34.3596,2,34.3558,2,217.6,2,223.5,2,71.52,2,32.5,2,0.02,2,2.26,2,2.243,2,0.958,3,-999,9,2234.3,2,-999,9
  90KDIOFFE6_1,  S04P,694,1,19,19,2,19920225,1319,-67.0062,-77.0287,3715,177.7,1.1484,34.4577,2,34.4556,2,201.1,2,203.9,2,75.7,2,33.33,2,0.01,2,2.31,2,1.54,2,0.641,3,-999,9,2246.4,2,-999,9
  90KDIOFFE6_1,  S04P,694,1,18,18,2,19920225,1319,-67.0062,-77.0287,3715,252.5,1.839,34.5965,2,34.5962,2,180.6,2,178.3,2,81.88,2,33.54,2,0.01,2,2.33,2,0.551,2,0.22,3,-999,9,2260.1,2,-999,9
  90KDIOFFE6_1,  S04P,694,1,17,17,2,19920225,1319,-67.0062,-77.0287,3715,353.3,1.9129,34.6553,2,34.6556,2,176.4,2,176.4,2,85.64,2,32.81,2,0.01,2,2.28,2,0.28,2,0.1,3,-999,9,2261.6,2,-999,9
  90KDIOFFE6_1,  S04P,694,1,16,16,2,19920225,1319,-67.0062,-77.0287,3715,452.8,1.8989,34.6883,2,34.6878,2,178.2,2,178.4,2,-999,5,-999,5,-999,5,-999,5,0.165,2,0.058,3,-999,9,2261.8,2,-999,9
  90KDIOFFE6_1,  S04P,694,1,15,15,2,19920225,1319,-67.0062,-77.0287,3715,604.3,1.817,34.7118,2,34.71,2,181.4,2,182.1,2,91.17,2,31.61,2,0.01,2,2.21,2,0.099,2,0.032,3,-999,9,2257.7,2,-999,9
  90KDIOFFE6_1,  S04P,694,1,14,14,2,19920225,1319,-67.0062,-77.0287,3715,803.7,1.6831,34.7263,2,34.7257,2,190.5,2,188.1,2,95.61,2,31.15,2,0.01,2,2.17,2,0.06,2,0.017,3,-999,9,2253,2,-999,9
  90KDIOFFE6_1,  S04P,694,1,13,13,2,19920225,1319,-67.0062,-77.0287,3715,1005.9,1.5072,34.7299,2,34.7286,2,193.3,2,192.2,2,100.95,2,30.99,2,0.01,2,2.16,2,0.034,2,0.008,3,-999,9,2252.3,2,-999,9
  90KDIOFFE6_1,  S04P,694,1,12,12,2,19920225,1319,-67.0062,-77.0287,3715,1207.5,1.3573,34.7279,2,34.727,2,194.7,2,195.1,2,105.86,2,31.09,2,0.01,2,2.17,2,0.032,2,0.011,3,-999,9,2253.8,2,-999,9
  90KDIOFFE6_1,  S04P,694,1,11,11,2,19920225,1319,-67.0062,-77.0287,3715,1409.3,1.2304,34.7247,2,34.7231,2,195.7,2,196.7,2,110.34,2,31.25,2,0.01,2,2.19,2,0.016,2,0.004,3,-999,9,2258.4,2,-999,9
  90KDIOFFE6_1,  S04P,694,1,10,10,2,19920225,1319,-67.0062,-77.0287,3715,1611.9,1.0895,34.72,2,34.7184,2,200,2,199.4,2,114.37,2,31.35,2,0.01,2,2.19,2,0.011,2,0,3,-999,9,2258.3,2,-999,9
  90KDIOFFE6_1,  S04P,694,1,9,9,2,19920225,1319,-67.0062,-77.0287,3715,1815.5,0.9796,34.7151,2,34.7145,2,200.1,2,202.1,2,117.75,2,31.46,2,0.01,2,2.2,2,0.016,3,0.003,3,-999,9,2257.2,2,-999,9
  90KDIOFFE6_1,  S04P,694,1,8,8,2,19920225,1319,-67.0062,-77.0287,3715,2067.6,0.8537,34.7119,2,34.708,2,203.4,2,204.2,2,122.03,2,31.61,2,0.01,2,2.2,2,0.012,2,0.003,3,-999,9,2252.8,2,-999,9
  90KDIOFFE6_1,  S04P,694,1,7,7,2,19920225,1319,-67.0062,-77.0287,3715,2320.2,0.7318,34.7075,2,34.7072,2,206.1,2,206.6,2,126.11,2,31.67,2,0.01,2,2.22,2,0.009,6,0.003,3,-999,9,2254.5,2,-999,9
  90KDIOFFE6_1,  S04P,694,1,6,6,2,19920225,1319,-67.0062,-77.0287,3715,2573.4,0.6138,34.7057,2,34.7045,2,208.3,2,208.7,2,129.29,2,31.77,2,0.01,2,2.22,2,0.01,2,0.004,3,-999,9,2255.7,2,-999,9
  90KDIOFFE6_1,  S04P,694,1,5,5,2,19920225,1319,-67.0062,-77.0287,3715,2827.8,0.5099,34.7029,2,34.7025,2,212.1,2,210.9,2,132.48,2,31.87,2,0.01,2,2.22,2,0.008,2,0.003,3,-999,9,2258.8,2,-999,9
  90KDIOFFE6_1,  S04P,694,1,4,4,2,19920225,1319,-67.0062,-77.0287,3715,3080.1,0.442,34.7022,2,34.7015,2,211.8,2,212.2,2,135.68,2,31.88,2,0,2,2.24,2,0.017,3,0.004,3,-999,9,2258.4,2,-999,9
  90KDIOFFE6_1,  S04P,694,1,3,3,2,19920225,1319,-67.0062,-77.0287,3715,3334.9,0.405,34.7019,2,34.7011,2,212.6,2,213.1,2,137.97,2,31.98,2,0,2,2.24,2,0.017,3,0.003,3,-999,9,2257.8,2,-999,9
  90KDIOFFE6_1,  S04P,694,1,2,2,2,19920225,1319,-67.0062,-77.0287,3715,3590.6,0.373,34.7018,2,34.7009,2,213.9,2,214,2,140.27,2,31.93,2,0,2,2.24,2,0.008,2,0.006,3,-999,9,2263.5,2,-999,9
  90KDIOFFE6_1,  S04P,694,1,1,1,2,19920225,1319,-67.0062,-77.0287,3715,3797.8,0.337,34.7009,2,34.7003,2,215.8,2,214.2,2,144.65,2,32.09,2,0,2,2.25,2,0.026,2,0.009,3,-999,9,2261,2,-999,9
  90KDIOFFE6_1,  S04P,695,1,24,24,2,19920226,244,-66.9988,-78.3133,3867,13.9,0.6678,33.695,2,33.695,2,339.1,2,339.6,2,44.41,2,25.82,2,0.23,2,1.83,2,-999,9,-999,9,-999,9,2140.8,2,-999,9
  90KDIOFFE6_1,  S04P,695,1,23,23,2,19920226,244,-66.9988,-78.3133,3867,43.4,0.441,33.7248,2,33.723,2,336.6,2,340,2,47.05,2,25.82,2,0.19,2,1.83,2,-999,9,-999,9,-999,9,2147.8,2,-999,9
  90KDIOFFE6_1,  S04P,695,1,22,22,3,19920226,244,-66.9988,-78.3133,3867,84.8,-1.4116,34.0123,2,34.394,4,296.6,2,217.3,4,73.32,4,32.07,4,0.04,4,2.24,4,-999,9,-999,9,-999,9,-999,9,-999,9
  90KDIOFFE6_1,  S04P,695,1,21,21,3,19920226,244,-66.9988,-78.3133,3867,124.8,-0.7071,34.1399,2,34.123,4,258.5,2,282.1,4,56.91,4,30.8,4,0.04,4,2.15,4,-999,9,-999,9,-999,9,-999,9,-999,9
  90KDIOFFE6_1,  S04P,695,1,20,20,2,19920226,244,-66.9988,-78.3133,3867,164.2,0.6268,34.3341,2,34.344,2,231.8,2,228.6,2,68.14,2,32.65,2,0.01,2,2.29,2,-999,9,-999,9,-999,9,-999,9,-999,9
  90KDIOFFE6_1,  S04P,695,1,19,19,2,19920226,244,-66.9988,-78.3133,3867,203.9,1.2983,34.4538,2,34.47,2,198.6,2,199.9,2,74.69,2,33.43,2,0.01,2,2.35,2,-999,9,-999,9,-999,9,-999,9,-999,9
  90KDIOFFE6_1,  S04P,695,1,18,18,2,19920226,244,-66.9988,-78.3133,3867,254.5,1.786,34.5551,2,34.557,2,186,2,183.4,2,78.98,2,33.63,2,0.01,2,2.35,2,-999,9,-999,9,-999,9,-999,9,-999,9
  90KDIOFFE6_1,  S04P,695,1,17,17,2,19920226,244,-66.9988,-78.3133,3867,305,1.8739,34.5936,2,34.593,2,180.5,2,179.5,2,81.13,2,33.23,2,0.01,2,2.35,2,-999,9,-999,9,-999,9,-999,9,-999,9
  90KDIOFFE6_1,  S04P,695,1,16,16,2,19920226,244,-66.9988,-78.3133,3867,406.6,1.9519,34.6465,2,34.643,2,177.9,2,177.3,2,83.77,2,32.65,2,0.01,2,2.3,2,-999,9,-999,9,-999,9,-999,9,-999,9
  90KDIOFFE6_1,  S04P,695,1,15,15,2,19920226,244,-66.9988,-78.3133,3867,506.7,1.9459,34.6769,2,34.678,2,174,2,178.6,2,85.52,2,31.96,2,0,2,2.26,2,-999,9,-999,9,-999,9,-999,9,-999,9
  90KDIOFFE6_1,  S04P,695,1,14,14,2,19920226,244,-66.9988,-78.3133,3867,655.1,1.8799,34.7037,2,34.704,2,182,2,181.2,2,89.04,2,31.47,2,0,2,2.22,2,-999,9,-999,9,-999,9,-999,9,-999,9
  90KDIOFFE6_1,  S04P,695,1,13,13,2,19920226,244,-66.9988,-78.3133,3867,802.2,1.782,34.7193,2,34.718,2,186.7,2,185.1,2,92.07,2,31.08,2,0.01,2,2.2,2,-999,9,-999,9,-999,9,-999,9,-999,9
  90KDIOFFE6_1,  S04P,695,1,12,12,2,19920226,244,-66.9988,-78.3133,3867,999.7,1.6211,34.7281,2,34.728,2,190.1,2,189.9,2,97.15,2,30.98,2,0.01,2,2.18,2,-999,9,-999,9,-999,9,-999,9,-999,9
  90KDIOFFE6_1,  S04P,695,1,11,11,2,19920226,244,-66.9988,-78.3133,3867,1257.4,1.4233,34.7285,2,34.729,2,198.2,2,193.8,2,103.41,2,30.69,2,0.01,2,2.19,2,-999,9,-999,9,-999,9,-999,9,-999,9
  90KDIOFFE6_1,  S04P,695,1,10,10,2,19920226,244,-66.9988,-78.3133,3867,1515.8,1.2404,34.7231,2,34.724,2,197,2,197.7,2,108.69,2,30.89,2,0,2,2.19,2,-999,9,-999,9,-999,9,-999,9,-999,9
  90KDIOFFE6_1,  S04P,695,1,9,9,2,19920226,244,-66.9988,-78.3133,3867,1770.3,1.0975,34.7197,2,34.719,2,200,2,200.3,2,113.18,2,31.18,2,0,2,2.19,2,-999,9,-999,9,-999,9,-999,9,-999,9
  90KDIOFFE6_1,  S04P,695,1,8,8,2,19920226,244,-66.9988,-78.3133,3867,2024.5,0.9536,34.7134,2,34.714,2,202.5,2,202.9,2,117.97,2,31.37,2,0,2,2.21,2,-999,9,-999,9,-999,9,-999,9,-999,9
  90KDIOFFE6_1,  S04P,695,1,7,7,2,19920226,244,-66.9988,-78.3133,3867,2277.1,0.8427,34.7107,2,34.71,2,200.6,2,205.1,2,121.78,2,31.28,2,0,2,2.21,2,-999,9,-999,9,-999,9,-999,9,-999,9
  90KDIOFFE6_1,  S04P,695,1,6,6,2,19920226,244,-66.9988,-78.3133,3867,2526.2,0.7318,34.7068,2,34.707,2,207.7,2,206.8,2,125.11,2,31.37,2,0,2,2.22,2,0.011,6,0.004,3,-999,9,-999,9,-999,9
  90KDIOFFE6_1,  S04P,695,1,5,5,2,19920226,244,-66.9988,-78.3133,3867,2773.8,0.6158,34.7048,2,34.707,3,212.4,2,209.4,2,128.72,2,31.57,2,0,2,2.23,2,0.009,2,0.006,3,-999,9,-999,9,-999,9
  90KDIOFFE6_1,  S04P,695,1,4,4,2,19920226,244,-66.9988,-78.3133,3867,3023.5,0.5039,34.7021,2,34.703,2,210.3,2,211.2,2,132.34,2,31.77,2,0,2,2.24,2,0.015,3,0.006,3,-999,9,-999,9,-999,9
  90KDIOFFE6_1,  S04P,695,1,3,3,2,19920226,244,-66.9988,-78.3133,3867,3324.9,0.433,34.7014,2,34.702,2,214.8,2,212.9,2,135.66,2,31.77,2,0,2,2.25,2,0.018,3,0.005,3,-999,9,-999,9,-999,9
  90KDIOFFE6_1,  S04P,695,1,2,2,2,19920226,244,-66.9988,-78.3133,3867,3631,0.396,34.7016,2,34.701,2,212.1,2,213.8,2,138.21,2,31.86,2,0,2,2.26,2,0.01,2,0.007,3,-999,9,-999,9,-999,9
  90KDIOFFE6_1,  S04P,695,1,1,1,2,19920226,244,-66.9988,-78.3133,3867,3921.7,0.349,34.7013,2,34.701,2,214.5,2,214.2,2,143.19,2,31.86,2,0,2,2.26,2,0.024,2,0.006,3,-999,9,-999,9,-999,9