BOTTLE,20181005JHS,,,,,,,,,,,,,,,,,,,,,,,,,,,,,,,,,,,,,,
EXPOCODE,SECT_ID,STNNBR,CASTNO,SAMPNO,BTLNBR,BTLNBR_FLAG_W,DATE,TIME,LATITUDE,LONGITUDE,DEPTH,CTDPRS,CTDTMP,CTDSAL,CTDSAL_FLAG_W,SALNTY,SALNTY_FLAG_W,CTDOXY,CTDOXY_FLAG_W,OXYGEN,OXYGEN_FLAG_W,SILCAT,SILCAT_FLAG_W,NITRAT,NITRAT_FLAG_W,NITRIT,NITRIT_FLAG_W,PHSPHT,PHSPHT_FLAG_W,CFC-11,CFC-11_FLAG_W,CFC-12,CFC-12_FLAG_W,SF6,SF6_FLAG_W,TCARBN,TCARBN_FLAG_W,ALKALI,ALKALI_FLAG_W
,,,,,,,,,,,,DBAR,ITS-90,PSS-78,,PSS-78,,UMOL/KG,,UMOL/KG,,UMOL/KG,,UMOL/KG,,UMOL/KG,,UMOL/KG,,PMOL/KG,,PMOL/KG,,FMOL/KG,,UMOL/KG,,UMOL/KG,
  90KDIOFFE6_1,  S04P,736,1,24,24,2,19920310,1556,-66.9907,-140.9507,4140,12.5,0.7367,33.6258,2,33.6247,2,342.9,2,344.7,2,29.53,2,22.58,2,0.29,2,1.55,2,6.448,2,2.867,3,-999,9,2126.9,2,-999,9
  90KDIOFFE6_1,  S04P,736,1,23,23,2,19920310,1556,-66.9907,-140.9507,4140,52.5,0.5969,33.6377,2,33.6362,2,345.1,2,344.6,2,30.67,2,22.76,2,0.29,2,1.6,2,6.488,2,2.887,3,-999,9,2131.9,2,-999,9
  90KDIOFFE6_1,  S04P,736,1,22,22,2,19920310,1556,-66.9907,-140.9507,4140,83.8,-1.6803,33.9129,2,33.9096,2,347.3,2,346.4,2,48.13,2,26.62,2,0.31,2,1.95,2,6.649,2,2.928,3,-999,9,2169.3,2,-999,9
  90KDIOFFE6_1,  S04P,736,1,21,21,2,19920310,1556,-66.9907,-140.9507,4140,113.3,-1.7343,33.9781,2,33.9839,2,332.8,2,334.5,2,54.59,2,27.42,2,0.3,2,1.99,2,6.214,2,2.738,3,-999,9,2179.4,2,-999,9
  90KDIOFFE6_1,  S04P,736,1,20,20,2,19920310,1556,-66.9907,-140.9507,4140,154.2,-0.7061,34.1785,2,34.1692,2,303.9,2,296.8,2,62.2,2,29.73,2,0.01,2,2.11,2,4.848,2,2.133,3,-999,9,-999,9,-999,9
  90KDIOFFE6_1,  S04P,736,1,19,19,2,19920310,1556,-66.9907,-140.9507,4140,193.2,0.463,34.4352,2,34.4346,2,229.9,2,234.4,2,77.07,2,32.24,2,0.01,2,2.28,2,2.597,2,1.103,3,-999,9,-999,9,-999,9
  90KDIOFFE6_1,  S04P,736,1,18,18,2,19920310,1556,-66.9907,-140.9507,4140,253.8,1.5452,34.625,2,34.624,2,186.3,2,187.4,2,85.11,2,32.84,2,0.01,2,2.31,2,0.745,2,0.288,3,-999,9,-999,9,-999,9
  90KDIOFFE6_1,  S04P,736,1,17,17,2,19920310,1556,-66.9907,-140.9507,4140,353.9,1.725,34.6934,2,34.6928,2,185.9,2,183.6,2,88.95,2,31.87,2,0,2,2.25,2,0.281,2,0.097,3,-999,9,-999,9,-999,9
  90KDIOFFE6_1,  S04P,736,1,16,16,2,19920310,1556,-66.9907,-140.9507,4140,453.3,1.6531,34.7146,2,34.7146,2,188.2,2,186.4,2,92.81,2,31.42,2,0,2,2.22,2,0.181,2,0.06,3,-999,9,-999,9,-999,9
  90KDIOFFE6_1,  S04P,736,1,15,15,2,19920310,1556,-66.9907,-140.9507,4140,604.4,1.5232,34.7265,2,34.725,2,191.2,2,189.5,2,98.22,2,31.26,2,0,2,2.2,2,0.1,2,0.034,3,-999,9,-999,9,-999,9
  90KDIOFFE6_1,  S04P,736,1,14,14,2,19920310,1556,-66.9907,-140.9507,4140,753.3,1.3943,34.7278,2,34.7275,2,191.4,2,192.5,2,102.49,2,31.28,2,0,2,2.19,2,0.067,2,0.02,3,-999,9,-999,9,-999,9
  90KDIOFFE6_1,  S04P,736,1,13,13,2,19920310,1556,-66.9907,-140.9507,4140,903.6,1.2714,34.7262,2,34.7258,2,190.9,2,193.8,2,107.17,2,31.36,2,0,2,2.2,2,0.049,2,0.014,3,-999,9,-999,9,-999,9
  90KDIOFFE6_1,  S04P,736,1,12,12,2,19920310,1556,-66.9907,-140.9507,4140,1103.5,1.1345,34.7224,2,34.7214,2,196.4,2,193.3,3,112.07,2,31.67,2,0,2,2.23,2,0.033,2,0.009,3,-999,9,-999,9,-999,9
  90KDIOFFE6_1,  S04P,736,1,26,26,2,19920310,1556,-66.9907,-140.9507,4140,1304.9,1.0115,34.7176,2,34.7163,2,198.9,2,198.3,2,116.01,2,31.56,2,0,2,2.22,2,0.022,2,0.005,3,-999,9,-999,9,-999,9
  90KDIOFFE6_1,  S04P,736,1,10,10,2,19920310,1556,-66.9907,-140.9507,4140,1610.7,0.8427,34.7118,2,34.7102,2,201.9,2,202.4,2,121.36,2,31.73,2,0,2,2.23,2,0.019,2,0.008,3,-999,9,-999,9,-999,9
  90KDIOFFE6_1,  S04P,736,1,27,27,2,19920310,1556,-66.9907,-140.9507,4140,1915.9,0.7158,34.7068,2,34.7053,2,203.4,2,205.2,2,125.75,2,31.8,2,0,2,2.23,2,0.029,3,0.004,3,-999,9,-999,9,-999,9
  90KDIOFFE6_1,  S04P,736,1,8,8,2,19920310,1556,-66.9907,-140.9507,4140,2222.2,0.6038,34.7033,2,34.7026,2,206.1,2,208.3,2,128.16,2,31.93,2,0,2,2.24,2,0.023,6,0.006,3,-999,9,-999,9,-999,9
  90KDIOFFE6_1,  S04P,736,1,7,7,2,19920310,1556,-66.9907,-140.9507,4140,2526.9,0.4879,34.7007,2,34.7002,2,209.9,2,210.8,2,130.18,2,31.95,2,0,2,2.25,2,0.021,6,0.005,3,-999,9,-999,9,-999,9
  90KDIOFFE6_1,  S04P,736,1,6,6,2,19920310,1556,-66.9907,-140.9507,4140,2833.5,0.394,34.7005,2,34.7,2,211.8,2,212.2,2,132.81,2,31.98,2,0,2,2.25,2,0.026,2,0.009,3,-999,9,-999,9,-999,9
  90KDIOFFE6_1,  S04P,736,1,5,5,2,19920310,1556,-66.9907,-140.9507,4140,3190.4,0.3061,34.7002,2,34.6996,2,213.8,2,214.9,2,134.44,2,32.05,2,0,2,2.25,2,0.037,2,0.017,3,-999,9,-999,9,-999,9
  90KDIOFFE6_1,  S04P,736,1,28,28,2,19920310,1556,-66.9907,-140.9507,4140,3550,0.2221,34.6988,2,34.6984,2,218.8,2,219.3,2,131.81,2,31.94,2,0,2,2.25,2,0.143,2,0.051,3,-999,9,-999,9,-999,9
  90KDIOFFE6_1,  S04P,736,1,3,3,2,19920310,1556,-66.9907,-140.9507,4140,3857.3,0.1562,34.698,2,34.6978,2,223.9,2,222.7,2,124.19,2,31.68,2,0,2,2.24,2,0.316,2,0.109,3,-999,9,-999,9,-999,9
  90KDIOFFE6_1,  S04P,736,1,2,2,2,19920310,1556,-66.9907,-140.9507,4140,4062.4,0.1482,34.6986,2,34.6976,2,224.9,2,223.8,2,122.4,2,31.66,2,0,2,2.23,2,0.367,2,0.14,3,-999,9,-999,9,-999,9
  90KDIOFFE6_1,  S04P,736,1,1,1,2,19920310,1556,-66.9907,-140.9507,4140,4222.5,0.1542,34.6974,2,34.6972,2,226.3,2,224,2,122.01,2,31.64,2,0,2,2.23,2,0.38,2,0.143,3,-999,9,-999,9,-999,9
  90KDIOFFE6_1,  S04P,737,1,24,24,2,19920310,2201,-67.0045,-142.195,3748,11,1.2174,33.6812,2,33.6794,2,343.8,2,340.6,2,27.77,2,22.29,2,0.34,2,1.55,2,-999,9,-999,9,-999,9,2130.7,2,-999,9
  90KDIOFFE6_1,  S04P,737,1,23,23,2,19920310,2201,-67.0045,-142.195,3748,56.2,1.1814,33.6861,2,33.6843,2,336.2,2,340.4,2,27.75,2,22.24,2,0.34,2,1.55,2,-999,9,-999,9,-999,9,2132,2,-999,9
  90KDIOFFE6_1,  S04P,737,1,22,22,2,19920310,2201,-67.0045,-142.195,3748,86.8,-1.1648,33.8639,2,33.8662,2,353.1,2,353.3,2,50.07,2,25.15,2,0.34,2,1.92,2,-999,9,-999,9,-999,9,2162.5,2,-999,9
  90KDIOFFE6_1,  S04P,737,1,21,21,2,19920310,2201,-67.0045,-142.195,3748,116.5,-1.6274,33.9247,2,33.9241,2,352,2,348.8,2,51,2,26.24,2,0.35,2,1.93,2,-999,9,-999,9,-999,9,2169.8,2,-999,9
  90KDIOFFE6_1,  S04P,737,1,20,20,2,19920310,2201,-67.0045,-142.195,3748,161.9,-0.9749,34.1069,2,34.1111,2,310.6,2,314.5,2,60.74,2,28.75,2,0.03,2,2.05,2,-999,9,-999,9,-999,9,2193.9,2,-999,9
  90KDIOFFE6_1,  S04P,737,1,19,19,2,19920310,2201,-67.0045,-142.195,3748,202,0.348,34.4523,2,34.4579,2,235.7,2,235.3,2,79.52,2,31.83,2,0.02,2,2.27,2,-999,9,-999,9,-999,9,2237.7,2,-999,9
  90KDIOFFE6_1,  S04P,737,1,18,18,2,19920310,2201,-67.0045,-142.195,3748,277.6,1.4912,34.6491,2,34.6485,2,181.9,2,188.2,2,87.22,2,32.4,2,0.02,2,2.29,2,-999,9,-999,9,-999,9,2253.1,2,-999,9
  90KDIOFFE6_1,  S04P,737,1,17,17,2,19920310,2201,-67.0045,-142.195,3748,353.4,1.5971,34.6941,2,34.6935,2,187.4,2,185.8,2,90.69,2,31.83,2,0.01,2,2.24,2,-999,9,-999,9,-999,9,2255.1,2,-999,9
  90KDIOFFE6_1,  S04P,737,1,16,16,2,19920310,2201,-67.0045,-142.195,3748,429,1.6461,34.7184,2,34.718,2,188.6,2,187.4,2,93.01,2,31.39,2,0.01,2,2.2,2,-999,9,-999,9,-999,9,2255.6,2,-999,9
  90KDIOFFE6_1,  S04P,737,1,15,15,2,19920310,2201,-67.0045,-142.195,3748,528,1.5582,34.7261,2,34.7261,2,190.6,2,190.2,2,96.51,2,31.2,2,0.01,2,2.2,2,-999,9,-999,9,-999,9,2254.9,2,-999,9
  90KDIOFFE6_1,  S04P,737,1,14,14,2,19920310,2201,-67.0045,-142.195,3748,654.7,1.4033,34.725,2,34.7249,3,190.7,2,189.4,3,101.57,2,31.53,2,0.01,2,2.23,2,-999,9,-999,9,-999,9,2258,2,-999,9
  90KDIOFFE6_1,  S04P,737,1,13,13,2,19920310,2201,-67.0045,-142.195,3748,805.1,1.2913,34.7272,2,34.7261,2,193.1,2,192.8,2,105.88,2,31.34,2,0.01,2,2.21,2,-999,9,-999,9,-999,9,2259.7,2,-999,9
  90KDIOFFE6_1,  S04P,737,1,12,12,2,19920310,2201,-67.0045,-142.195,3748,956.6,1.1774,34.7241,2,34.7235,2,196.2,2,196.1,2,109.02,2,31.34,2,0.01,2,2.2,2,-999,9,-999,9,-999,9,2262.5,2,-999,9
  90KDIOFFE6_1,  S04P,737,1,26,26,2,19920310,2201,-67.0045,-142.195,3748,1106.7,1.0755,34.7207,2,34.7198,2,197,2,196.9,2,112.57,2,31.58,2,0.01,2,2.22,2,-999,9,-999,9,-999,9,2255.6,2,-999,9
  90KDIOFFE6_1,  S04P,737,1,10,10,2,19920310,2201,-67.0045,-142.195,3748,1305.7,0.9506,34.7168,2,34.7151,2,200.4,2,199.7,2,116.73,2,31.67,2,0.01,2,2.22,2,-999,9,-999,9,-999,9,2261.3,2,-999,9
  90KDIOFFE6_1,  S04P,737,1,27,27,2,19920310,2201,-67.0045,-142.195,3748,1506.8,0.8357,34.7123,2,34.7106,2,201.5,2,202.3,2,120.52,2,31.67,2,0.01,2,2.23,2,-999,9,-999,9,-999,9,2260.4,2,-999,9
  90KDIOFFE6_1,  S04P,737,1,8,8,2,19920310,2201,-67.0045,-142.195,3748,1809.9,0.7038,34.7062,2,34.7047,2,203.1,2,205.3,2,125.93,2,31.91,2,0.01,2,2.24,2,-999,9,-999,9,-999,9,2260.9,2,-999,9
  90KDIOFFE6_1,  S04P,737,1,7,7,2,19920310,2201,-67.0045,-142.195,3748,2109.5,0.5909,34.7022,2,34.7015,2,208.4,2,207.6,2,128.15,2,32.1,2,0,2,2.24,2,-999,9,-999,9,-999,9,2258.9,2,-999,9
  90KDIOFFE6_1,  S04P,737,1,6,6,2,19920310,2201,-67.0045,-142.195,3748,2412.7,0.4689,34.7017,2,34.7003,2,210.2,2,209.9,2,129.97,2,32,2,0,2,2.25,2,0.024,6,0.006,3,-999,9,2260.8,2,-999,9
  90KDIOFFE6_1,  S04P,737,1,5,5,2,19920310,2201,-67.0045,-142.195,3748,2711.6,0.37,34.7018,2,34.7,2,211.4,2,212.3,2,132.41,2,32.09,2,0,2,2.26,2,0.026,2,0.007,3,-999,9,2263.8,2,-999,9
  90KDIOFFE6_1,  S04P,737,1,28,28,2,19920310,2201,-67.0045,-142.195,3748,3017.7,0.2911,34.7003,2,34.6984,2,215.9,2,214.6,2,133.44,2,32.09,2,0,2,2.26,2,0.05,2,0.016,3,-999,9,2260.5,2,-999,9
  90KDIOFFE6_1,  S04P,737,1,3,3,2,19920310,2201,-67.0045,-142.195,3748,3324.7,0.2191,34.699,2,34.6988,2,218.9,2,218,2,132.83,2,32.09,2,0,2,2.26,2,0.117,2,0.041,3,-999,9,2262.4,2,-999,9
  90KDIOFFE6_1,  S04P,737,1,2,2,2,19920310,2201,-67.0045,-142.195,3748,3632.9,0.1372,34.6987,2,34.6978,2,222,2,222.7,2,124.55,2,31.8,2,0,2,2.25,2,0.308,2,0.115,3,-999,9,2260.1,2,-999,9
  90KDIOFFE6_1,  S04P,737,1,1,1,2,19920310,2201,-67.0045,-142.195,3748,3796.1,0.1272,34.6983,2,34.6974,2,223.9,2,223.4,2,122.94,2,31.65,2,0,2,2.25,2,0.359,2,0.138,3,-999,9,2258.9,2,-999,9
  90KDIOFFE6_1,  S04P,738,1,24,24,2,19920311,510,-67.002,-143.8895,4389,14.8,0.9516,33.6663,2,33.6651,2,345.8,2,342.9,2,34.23,2,22.73,2,0.31,2,1.55,2,6.343,2,2.847,3,-999,9,2134.3,2,-999,9
  90KDIOFFE6_1,  S04P,738,1,23,23,2,19920311,510,-67.002,-143.8895,4389,52.6,0.9236,33.6707,2,33.6684,2,337,2,343.2,2,34.43,2,22.71,2,0.31,2,1.55,2,6.268,2,2.799,3,-999,9,2135.3,2,-999,9
  90KDIOFFE6_1,  S04P,738,1,22,22,2,19920311,510,-67.002,-143.8895,4389,94.8,-1.7233,33.9467,2,33.9495,2,349.1,2,345.7,2,52.97,2,26.65,2,0.03,2,1.94,2,6.52,2,2.88,3,-999,9,2167.9,2,-999,9
  90KDIOFFE6_1,  S04P,738,1,21,21,2,19920311,510,-67.002,-143.8895,4389,155.6,-0.931,34.1465,2,34.1604,2,325.4,2,302.7,2,64.79,2,29.17,2,0.02,2,2.08,2,5.033,2,2.199,3,-999,9,-999,9,-999,9
  90KDIOFFE6_1,  S04P,738,1,20,20,2,19920311,510,-67.002,-143.8895,4389,205.2,0.1832,34.434,2,34.4363,2,248.8,2,242.1,2,81.75,2,30.96,2,0.02,2,2.22,2,2.757,6,1.174,3,-999,9,-999,9,-999,9
  90KDIOFFE6_1,  S04P,738,1,19,19,2,19920311,510,-67.002,-143.8895,4389,256.2,1.0675,34.632,2,34.6293,2,191.4,2,198.9,2,93.43,2,31.66,2,0.02,2,2.26,2,0.962,2,0.382,3,-999,9,-999,9,-999,9
  90KDIOFFE6_1,  S04P,738,1,18,18,2,19920311,510,-67.002,-143.8895,4389,306.2,1.3723,34.704,2,34.6995,2,184,2,187.4,2,98.34,2,31.59,2,0.01,2,2.25,2,0.325,6,0.113,3,-999,9,-999,9,-999,9
  90KDIOFFE6_1,  S04P,738,1,17,17,2,19920311,510,-67.002,-143.8895,4389,404.9,1.3693,34.7242,2,34.7234,2,188.6,2,188.1,2,102.86,2,31.15,2,0.01,2,2.22,2,0.109,2,0.036,3,-999,9,-999,9,-999,9
  90KDIOFFE6_1,  S04P,738,1,16,16,2,19920311,510,-67.002,-143.8895,4389,506,1.2844,34.7245,2,34.727,2,191.1,2,187.7,2,106.77,2,31.33,2,0,2,2.23,2,0.067,2,0.018,3,-999,9,-999,9,-999,9
  90KDIOFFE6_1,  S04P,738,1,15,15,2,19920311,510,-67.002,-143.8895,4389,606.3,1.2144,34.7243,2,34.7258,2,194.5,2,188.7,2,107.57,2,31.41,2,0,2,2.24,2,0.045,2,0.014,3,-999,9,-999,9,-999,9
  90KDIOFFE6_1,  S04P,738,1,14,14,2,19920311,510,-67.002,-143.8895,4389,809,1.0775,34.7216,2,34.7199,2,194.3,2,193.2,2,113.78,2,31.44,2,0,2,2.23,2,0.03,2,0.005,3,-999,9,-999,9,-999,9
  90KDIOFFE6_1,  S04P,738,1,13,13,2,19920311,510,-67.002,-143.8895,4389,1010.1,0.9526,34.7168,2,34.7152,2,196.4,2,197.3,2,117.51,2,31.62,2,0,2,2.24,2,0.021,2,0.004,3,-999,9,-999,9,-999,9
  90KDIOFFE6_1,  S04P,738,1,12,12,2,19920311,510,-67.002,-143.8895,4389,1296.9,0.7947,34.7107,2,34.7093,2,200.7,2,202.4,2,122.3,2,31.85,2,0,2,2.24,2,0.02,2,0.005,3,-999,9,-999,9,-999,9
  90KDIOFFE6_1,  S04P,738,1,26,26,2,19920311,510,-67.002,-143.8895,4389,1604.7,0.6708,34.7062,2,34.7032,2,202.7,2,206.6,2,126.48,2,31.88,2,0,2,2.25,2,0.022,2,0.003,3,-999,9,-999,9,-999,9
  90KDIOFFE6_1,  S04P,738,1,10,10,2,19920311,510,-67.002,-143.8895,4389,1907.5,0.5649,34.7032,2,34.7016,2,205,2,207.4,2,128.35,2,32.01,2,0,2,2.25,2,0.019,2,0.004,3,-999,9,-999,9,-999,9
  90KDIOFFE6_1,  S04P,738,1,27,27,2,19920311,510,-67.002,-143.8895,4389,2211.4,0.441,34.701,2,34.7,2,209.1,2,210.1,2,130.43,2,32.14,2,0,2,2.25,2,0.023,2,0.007,3,-999,9,-999,9,-999,9
  90KDIOFFE6_1,  S04P,738,1,8,8,2,19920311,510,-67.002,-143.8895,4389,2519.1,0.35,34.7011,2,34.7002,2,209.7,2,212.7,2,132.95,2,31.9,2,0,2,2.25,2,0.025,2,0.007,3,-999,9,-999,9,-999,9
  90KDIOFFE6_1,  S04P,738,1,7,7,2,19920311,510,-67.002,-143.8895,4389,2834.9,0.2681,34.701,2,34.699,2,212.2,2,215.1,2,134.61,2,31.93,2,0,2,2.25,2,0.089,3,0.017,3,-999,9,-999,9,-999,9
  90KDIOFFE6_1,  S04P,738,1,6,6,2,19920311,510,-67.002,-143.8895,4389,3145.2,0.1852,34.6992,2,34.6988,2,218.6,2,218.7,2,131.81,2,31.9,2,0,2,2.25,2,0.141,2,0.054,3,-999,9,-999,9,-999,9
  90KDIOFFE6_1,  S04P,738,1,5,5,2,19920311,510,-67.002,-143.8895,4389,3449.2,0.1222,34.6972,2,34.6976,2,222.6,2,222.8,2,122.92,2,31.47,2,0,2,2.24,2,0.365,2,0.14,3,-999,9,-999,9,-999,9
  90KDIOFFE6_1,  S04P,738,1,28,28,2,19920311,510,-67.002,-143.8895,4389,3757.2,0.1162,34.6972,2,34.6966,2,222.6,2,224.3,2,120.99,2,31.54,2,0,2,2.24,2,0.431,2,0.166,3,-999,9,-999,9,-999,9
  90KDIOFFE6_1,  S04P,738,1,3,3,2,19920311,510,-67.002,-143.8895,4389,4064.1,0.1372,34.6984,2,34.6972,2,222.8,2,224.5,2,121.17,2,31.62,2,0,2,2.24,2,0.441,2,0.172,3,-999,9,-999,9,-999,9
  90KDIOFFE6_1,  S04P,738,1,2,2,2,19920311,510,-67.002,-143.8895,4389,4368.8,0.1712,34.6973,2,34.6968,2,225.9,2,224.4,2,120.93,2,31.8,2,0,2,2.24,2,0.428,2,0.17,3,-999,9,-999,9,-999,9
  90KDIOFFE6_1,  S04P,738,1,1,1,2,19920311,510,-67.002,-143.8895,4389,4467.8,0.1822,34.6979,2,34.6972,2,225.6,2,224.4,2,121.11,2,31.31,2,0,2,2.24,2,0.373,2,0.133,3,-999,9,-999,9,-999,9
  90KDIOFFE6_1,  S04P,739,1,24,24,2,19920311,1410,-66.9875,-145.6155,4183,12,1.0459,33.7237,2,33.7229,2,326.5,3,342.1,2,39.01,2,23.2,2,0.28,2,1.58,2,-999,9,-999,9,-999,9,2139.7,2,-999,9
  90KDIOFFE6_1,  S04P,739,1,23,23,2,19920311,1410,-66.9875,-145.6155,4183,58,0.7399,33.7636,2,33.7528,2,343.2,3,345.2,2,41.82,2,23.56,2,0.25,2,1.62,2,-999,9,-999,9,-999,9,2142.7,2,-999,9
  90KDIOFFE6_1,  S04P,739,1,22,22,2,19920311,1410,-66.9875,-145.6155,4183,83.1,-1.6479,34.0346,2,34.0357,2,339.2,2,337,2,60.02,2,27.29,2,0.22,2,1.99,2,-999,9,-999,9,-999,9,2184.5,2,-999,9
  90KDIOFFE6_1,  S04P,739,1,21,21,2,19920311,1410,-66.9875,-145.6155,4183,112.7,-1.5229,34.1196,2,34.1357,2,322.7,2,310.2,2,65.06,2,28.57,2,0.09,2,2.04,2,-999,9,-999,9,-999,9,2200.2,2,-999,9
  90KDIOFFE6_1,  S04P,739,1,20,20,2,19920311,1410,-66.9875,-145.6155,4183,179.7,0.4956,34.5354,2,34.5314,2,226.5,2,217.4,2,90.46,2,31.71,2,0.02,2,2.25,2,-999,9,-999,9,-999,9,2245.6,2,-999,9
  90KDIOFFE6_1,  S04P,739,1,19,19,2,19920311,1410,-66.9875,-145.6155,4183,254.2,1.3222,34.7121,2,34.7129,2,177.8,2,181.1,2,103.15,2,32.51,2,0.01,2,2.28,2,-999,9,-999,9,-999,9,2263.1,2,-999,9
  90KDIOFFE6_1,  S04P,739,1,18,18,2,19920311,1410,-66.9875,-145.6155,4183,304.2,1.3271,34.7224,2,34.7227,2,184.2,2,180.3,2,105.6,2,32.59,2,0.01,2,2.27,2,-999,9,-999,9,-999,9,2265.9,2,-999,9
  90KDIOFFE6_1,  S04P,739,1,17,17,2,19920311,1410,-66.9875,-145.6155,4183,405,1.2573,34.7241,2,34.725,2,186.4,2,181.7,2,109.29,2,32.42,2,0,2,2.27,2,-999,9,-999,9,-999,9,2264.8,2,-999,9
  90KDIOFFE6_1,  S04P,739,1,16,16,2,19920311,1410,-66.9875,-145.6155,4183,506.1,1.1737,34.7226,2,34.7236,2,186.8,2,186.3,2,111.34,2,32.24,2,0,2,2.26,2,-999,9,-999,9,-999,9,2264,2,-999,9
  90KDIOFFE6_1,  S04P,739,1,15,15,2,19920311,1410,-66.9875,-145.6155,4183,606.6,1.1081,34.7208,2,34.7219,2,189.9,2,188.8,2,113.6,2,32.17,2,0,2,2.25,2,-999,9,-999,9,-999,9,2265.6,2,-999,9
  90KDIOFFE6_1,  S04P,739,1,14,14,2,19920311,1410,-66.9875,-145.6155,4183,807.3,0.9877,34.7168,2,34.7175,2,194.6,2,193.5,2,117.11,2,31.99,2,0,2,2.24,2,-999,9,-999,9,-999,9,2262.9,2,-999,9
  90KDIOFFE6_1,  S04P,739,1,13,13,2,19920311,1410,-66.9875,-145.6155,4183,1007.9,0.868,34.7124,2,34.7134,2,196,2,197.9,2,120.43,2,31.77,2,0,2,2.24,2,-999,9,-999,9,-999,9,2263.2,2,-999,9
  90KDIOFFE6_1,  S04P,739,1,12,12,2,19920311,1410,-66.9875,-145.6155,4183,1311.5,0.7187,34.7065,2,34.7075,2,203.6,2,202.6,2,124.81,2,31.59,2,0,2,2.24,2,-999,9,-999,9,-999,9,-999,9,-999,9
  90KDIOFFE6_1,  S04P,739,1,26,26,2,19920311,1410,-66.9875,-145.6155,4183,1615.7,0.6079,34.703,2,34.7034,2,205.9,2,205.8,2,127.52,2,31.57,2,0,2,2.25,2,-999,9,-999,9,-999,9,-999,9,-999,9
  90KDIOFFE6_1,  S04P,739,1,10,10,2,19920311,1410,-66.9875,-145.6155,4183,1920.1,0.4907,34.7004,2,34.7008,2,207.3,2,208.8,2,129.18,2,31.44,2,0,2,2.25,2,0.016,2,0.004,3,-999,9,-999,9,-999,9
  90KDIOFFE6_1,  S04P,739,1,27,27,2,19920311,1410,-66.9875,-145.6155,4183,2223.3,0.3817,34.6993,2,34.699,2,209.4,2,211.3,2,131.7,2,31.86,2,0,2,2.25,2,0.028,2,0.004,3,-999,9,-999,9,-999,9
  90KDIOFFE6_1,  S04P,739,1,8,8,2,19920311,1410,-66.9875,-145.6155,4183,2528.3,0.2969,34.6982,2,34.6988,2,211.4,2,214.4,2,132.31,2,31.65,2,0,2,2.26,2,0.051,2,0.015,3,-999,9,-999,9,-999,9
  90KDIOFFE6_1,  S04P,739,1,7,7,2,19920311,1410,-66.9875,-145.6155,4183,2836.7,0.2041,34.6974,2,34.6978,2,216.5,2,218,2,130.22,2,31.69,2,0,2,2.25,2,0.155,2,0.05,3,-999,9,-999,9,-999,9
  90KDIOFFE6_1,  S04P,739,1,6,6,2,19920311,1410,-66.9875,-145.6155,4183,3144.6,0.1249,34.6963,2,34.6975,2,220.9,2,221.9,2,123.63,2,31.7,2,0,2,2.25,2,0.362,2,0.136,3,-999,9,-999,9,-999,9
  90KDIOFFE6_1,  S04P,739,1,5,5,2,19920311,1410,-66.9875,-145.6155,4183,3450.7,0.1057,34.6959,2,34.6969,2,224.3,2,223.9,2,120.73,2,31.31,2,0,2,2.24,2,0.468,2,0.176,3,-999,9,-999,9,-999,9
  90KDIOFFE6_1,  S04P,739,1,28,28,2,19920311,1410,-66.9875,-145.6155,4183,3656.7,0.1128,34.6956,2,34.697,2,224.9,2,224.2,2,120.86,2,31.66,2,0,2,2.25,2,0.487,2,0.189,3,-999,9,-999,9,-999,9
  90KDIOFFE6_1,  S04P,739,1,3,3,2,19920311,1410,-66.9875,-145.6155,4183,3860.2,0.1248,34.6958,2,34.6968,2,225.7,2,224.4,2,120.42,2,31.43,2,0,2,2.24,2,0.481,2,0.188,3,-999,9,-999,9,-999,9
  90KDIOFFE6_1,  S04P,739,1,2,2,2,19920311,1410,-66.9875,-145.6155,4183,4065.3,0.1412,34.6958,2,34.697,2,226.2,2,224.6,2,119.98,2,31.31,2,0,2,2.24,2,0.481,2,0.191,3,-999,9,-999,9,-999,9
  90KDIOFFE6_1,  S04P,739,1,1,1,2,19920311,1410,-66.9875,-145.6155,4183,4249,0.1553,34.6961,2,34.697,2,226.6,2,224.9,2,119.96,2,31.03,2,0,2,2.25,2,0.498,6,0.194,3,-999,9,-999,9,-999,9