BOTTLE,20181005JHS,,,,,,,,,,,,,,,,,,,,,,,,,,,,,,,,,,,,,,
EXPOCODE,SECT_ID,STNNBR,CASTNO,SAMPNO,BTLNBR,BTLNBR_FLAG_W,DATE,TIME,LATITUDE,LONGITUDE,DEPTH,CTDPRS,CTDTMP,CTDSAL,CTDSAL_FLAG_W,SALNTY,SALNTY_FLAG_W,CTDOXY,CTDOXY_FLAG_W,OXYGEN,OXYGEN_FLAG_W,SILCAT,SILCAT_FLAG_W,NITRAT,NITRAT_FLAG_W,NITRIT,NITRIT_FLAG_W,PHSPHT,PHSPHT_FLAG_W,CFC-11,CFC-11_FLAG_W,CFC-12,CFC-12_FLAG_W,SF6,SF6_FLAG_W,TCARBN,TCARBN_FLAG_W,ALKALI,ALKALI_FLAG_W
,,,,,,,,,,,,DBAR,ITS-90,PSS-78,,PSS-78,,UMOL/KG,,UMOL/KG,,UMOL/KG,,UMOL/KG,,UMOL/KG,,UMOL/KG,,PMOL/KG,,PMOL/KG,,FMOL/KG,,UMOL/KG,,UMOL/KG,
  90KDIOFFE6_1,  S04P,732,1,24,24,2,19920309,920,-66.9997,-135.8338,4634,11.8,0.7974,33.4801,2,33.4785,2,348.5,2,346.2,2,25.43,2,23.5,2,0.31,2,1.59,2,-999,9,-999,9,-999,9,2113.1,2,-999,9
  90KDIOFFE6_1,  S04P,732,1,23,23,2,19920309,920,-66.9997,-135.8338,4634,46.8,0.7313,33.4991,2,33.496,2,343,2,346.1,2,25.42,2,23.44,2,0.3,2,1.6,2,6.397,6,2.838,3,-999,9,2121.6,2,-999,9
  90KDIOFFE6_1,  S04P,732,1,22,22,2,19920309,920,-66.9997,-135.8338,4634,92.4,-1.5826,33.925,2,33.9252,2,341.7,2,341.6,2,45.16,2,27.62,2,0.34,2,1.98,2,6.42,2,2.816,3,-999,9,2172.3,2,-999,9
  90KDIOFFE6_1,  S04P,732,1,21,21,2,19920309,920,-66.9997,-135.8338,4634,133.5,-1.1648,34.0164,2,34.0173,2,324.7,2,325.2,2,48.57,2,29.1,2,0.01,2,2.04,2,5.898,2,2.591,3,-999,9,-999,9,-999,9
  90KDIOFFE6_1,  S04P,732,1,20,20,2,19920309,920,-66.9997,-135.8338,4634,153.4,-0.7466,34.0919,2,34.0968,2,297.7,2,305.8,2,53.12,2,30.2,2,0,2,2.11,2,5.293,2,2.301,3,-999,9,-999,9,-999,9
  90KDIOFFE6_1,  S04P,732,1,19,19,2,19920309,920,-66.9997,-135.8338,4634,202.8,0.9392,34.4131,2,34.4044,2,229,2,229.5,2,71.76,2,33.12,2,0,2,2.32,2,2.513,2,1.054,3,-999,9,-999,9,-999,9
  90KDIOFFE6_1,  S04P,732,1,18,18,2,19920309,920,-66.9997,-135.8338,4634,253.8,1.5156,34.5345,2,34.5334,2,196.2,2,196.2,2,78.04,2,33.71,2,0,2,2.36,2,1.259,2,0.515,3,-999,9,-999,9,-999,9
  90KDIOFFE6_1,  S04P,732,1,17,17,2,19920309,920,-66.9997,-135.8338,4634,303.5,1.7145,34.5867,2,34.5872,2,186.9,2,186.5,2,80.7,2,33.45,2,0,2,2.35,2,0.833,2,0.319,3,-999,9,-999,9,-999,9
  90KDIOFFE6_1,  S04P,732,1,16,16,2,19920309,920,-66.9997,-135.8338,4634,403.4,1.8607,34.652,2,34.6525,2,181.7,2,180.9,2,83.93,2,32.72,2,0,2,2.3,2,0.407,2,0.148,3,-999,9,-999,9,-999,9
  90KDIOFFE6_1,  S04P,732,1,15,15,2,19920309,920,-66.9997,-135.8338,4634,501.5,1.8719,34.6888,2,34.6886,2,183.6,2,181.7,2,86.79,2,32.04,2,0,2,2.25,2,0.223,2,0.073,3,-999,9,-999,9,-999,9
  90KDIOFFE6_1,  S04P,732,1,14,14,2,19920309,920,-66.9997,-135.8338,4634,603.4,1.8393,34.7057,2,34.7054,2,184.7,2,183.4,2,88.88,2,31.6,2,0,2,2.22,2,0.162,2,0.052,3,-999,9,-999,9,-999,9
  90KDIOFFE6_1,  S04P,732,1,13,13,2,19920309,920,-66.9997,-135.8338,4634,806.1,1.7155,34.7241,2,34.7239,2,190.3,2,188.1,2,93.1,2,31.2,2,0,2,2.19,2,0.102,2,0.031,3,-999,9,-999,9,-999,9
  90KDIOFFE6_1,  S04P,732,1,12,12,2,19920309,920,-66.9997,-135.8338,4634,1007.9,1.5344,34.7297,2,34.7292,2,191.3,2,193.1,2,98.67,2,31.04,2,0,2,2.18,2,0.067,2,0.018,3,-999,9,-999,9,-999,9
  90KDIOFFE6_1,  S04P,732,1,26,26,2,19920309,920,-66.9997,-135.8338,4634,1310.1,1.3012,34.7269,2,34.7261,2,196.3,2,196.5,2,105.64,2,31.34,2,0,2,2.19,2,0.049,2,0.01,3,-999,9,-999,9,-999,9
  90KDIOFFE6_1,  S04P,732,1,10,10,2,19920309,920,-66.9997,-135.8338,4634,1666.6,1.07,34.719,2,34.7182,2,199.1,2,201.2,2,112.65,2,31.41,2,0,2,2.2,2,0.042,2,0.011,3,-999,9,-999,9,-999,9
  90KDIOFFE6_1,  S04P,732,1,27,27,2,19920309,920,-66.9997,-135.8338,4634,2021.9,0.8836,34.7108,2,34.7104,2,203,2,204.4,2,119.91,2,31.53,2,0,2,2.22,2,0.03,2,0.007,3,-999,9,-999,9,-999,9
  90KDIOFFE6_1,  S04P,732,1,8,8,2,19920309,920,-66.9997,-135.8338,4634,2376.2,0.7434,34.7058,2,34.7056,2,205.1,2,207,2,125.04,2,31.6,2,0,2,2.23,2,0.03,2,0.007,3,-999,9,-999,9,-999,9
  90KDIOFFE6_1,  S04P,732,1,7,7,2,19920309,920,-66.9997,-135.8338,4634,2731.1,0.6102,34.7025,2,34.7021,2,208.1,2,209.4,2,128.01,2,31.81,2,0,2,2.25,2,0.033,2,0.009,3,-999,9,-999,9,-999,9
  90KDIOFFE6_1,  S04P,732,1,6,6,2,19920309,920,-66.9997,-135.8338,4634,3086.1,0.4781,34.7008,2,34.7005,2,210.3,2,211.8,2,130.6,2,31.79,2,0,2,2.25,2,0.024,2,0.005,3,-999,9,-999,9,-999,9
  90KDIOFFE6_1,  S04P,732,1,5,5,2,19920309,920,-66.9997,-135.8338,4634,3442.6,0.3826,34.7003,2,34.7,2,211.4,2,214.3,2,133.19,2,31.81,2,0,2,2.26,2,0.044,2,0.014,3,-999,9,-999,9,-999,9
  90KDIOFFE6_1,  S04P,732,1,4,4,2,19920309,920,-66.9997,-135.8338,4634,3802.1,0.3085,34.6998,2,34.6998,2,217.2,2,216.6,2,135.18,2,31.83,2,0,2,2.26,2,0.054,2,0.016,3,-999,9,-999,9,-999,9
  90KDIOFFE6_1,  S04P,732,1,3,3,2,19920309,920,-66.9997,-135.8338,4634,4163.7,0.2599,34.699,2,34.6992,2,219.9,2,218.5,2,133.14,2,32,2,0,2,2.25,2,0.129,6,0.041,3,-999,9,-999,9,-999,9
  90KDIOFFE6_1,  S04P,732,1,2,2,2,19920309,920,-66.9997,-135.8338,4634,4523.8,0.2205,34.6982,2,34.6984,2,223,2,221.6,2,126.1,2,31.84,2,0,2,2.25,2,0.274,2,0.103,3,-999,9,-999,9,-999,9
  90KDIOFFE6_1,  S04P,732,1,1,1,2,19920309,920,-66.9997,-135.8338,4634,4719.8,0.2153,34.698,2,34.6982,2,224.1,2,222.8,2,123.69,2,31.9,2,0,2,2.25,2,0.36,2,0.137,3,-999,9,-999,9,-999,9
  90KDIOFFE6_1,  S04P,733,1,24,24,2,19920309,1705,-66.9907,-137.1367,4522,13.7,0.6229,33.5482,2,33.5468,2,338.8,3,346.2,2,28.41,2,22.92,2,0.28,2,1.58,2,-999,9,-999,9,-999,9,2123.2,2,-999,9
  90KDIOFFE6_1,  S04P,733,1,23,23,2,19920309,1705,-66.9907,-137.1367,4522,50,-0.0437,33.6533,2,33.6229,2,341.1,3,346.3,2,34.1,2,23.67,2,0.27,2,1.69,2,-999,9,-999,9,-999,9,2133.9,2,-999,9
  90KDIOFFE6_1,  S04P,733,1,22,22,2,19920309,1705,-66.9907,-137.1367,4522,74.1,-1.7092,33.9295,2,33.9291,2,342.5,2,344.2,2,46.03,2,27.01,2,0.27,2,1.97,2,-999,9,-999,9,-999,9,2168.3,2,-999,9
  90KDIOFFE6_1,  S04P,733,1,21,21,2,19920309,1705,-66.9907,-137.1367,4522,114.4,-1.7131,33.9856,2,33.9825,2,334.8,2,335.9,2,50.2,2,27.76,2,0.31,2,2,2,-999,9,-999,9,-999,9,2175.2,2,-999,9
  90KDIOFFE6_1,  S04P,733,1,20,20,2,19920309,1705,-66.9907,-137.1367,4522,155.2,-1.2917,34.0712,2,34.0668,2,314.3,2,316.7,2,54.36,2,29.15,2,0.02,2,2.07,2,-999,9,-999,9,-999,9,2182.8,2,-999,9
  90KDIOFFE6_1,  S04P,733,1,19,19,2,19920309,1705,-66.9907,-137.1367,4522,204.9,0.5964,34.3814,2,34.3724,2,244.8,2,239.7,2,71.27,2,31.74,2,0.01,2,2.28,2,-999,9,-999,9,-999,9,2227.5,2,-999,9
  90KDIOFFE6_1,  S04P,733,1,18,18,2,19920309,1705,-66.9907,-137.1367,4522,254.8,1.4287,34.5428,2,34.5396,2,194.7,2,197.9,2,80.03,2,33.12,2,0.01,2,2.37,2,-999,9,-999,9,-999,9,2249.3,2,-999,9
  90KDIOFFE6_1,  S04P,733,1,17,17,2,19920309,1705,-66.9907,-137.1367,4522,302.9,1.7072,34.6148,2,34.6147,2,183.7,2,184.8,2,83.45,2,32.84,2,0.01,2,2.33,2,-999,9,-999,9,-999,9,2253.6,2,-999,9
  90KDIOFFE6_1,  S04P,733,1,16,16,2,19920309,1705,-66.9907,-137.1367,4522,404.4,1.8194,34.6649,2,34.6714,2,181.8,2,181,2,86.89,2,32.09,2,0,2,2.28,2,-999,9,-999,9,-999,9,2252.5,2,-999,9
  90KDIOFFE6_1,  S04P,733,1,15,15,2,19920309,1705,-66.9907,-137.1367,4522,504.1,1.8078,34.6969,2,34.6973,2,184.6,2,182.2,2,88.98,2,31.68,2,0,2,2.24,2,-999,9,-999,9,-999,9,2250.8,2,-999,9
  90KDIOFFE6_1,  S04P,733,1,14,14,2,19920309,1705,-66.9907,-137.1367,4522,703.7,1.7034,34.7237,2,34.7234,2,188.5,2,188,2,93.97,2,31.12,2,0,2,2.19,2,-999,9,-999,9,-999,9,2253.1,2,-999,9
  90KDIOFFE6_1,  S04P,733,1,13,13,2,19920309,1705,-66.9907,-137.1367,4522,902,1.5281,34.7292,2,34.7287,2,193.4,2,191.7,2,98.97,2,31.06,2,0,2,2.19,2,-999,9,-999,9,-999,9,2254.4,2,-999,9
  90KDIOFFE6_1,  S04P,733,1,12,12,2,19920309,1705,-66.9907,-137.1367,4522,1198.3,1.2894,34.7262,2,34.7254,2,194,2,192.9,2,107.3,2,31.34,2,0,2,2.22,2,-999,9,-999,9,-999,9,-999,9,-999,9
  90KDIOFFE6_1,  S04P,733,1,26,26,2,19920309,1705,-66.9907,-137.1367,4522,1498.5,1.0785,34.7199,2,34.7191,2,196.3,2,198,2,113.93,2,31.33,2,0,2,2.23,2,-999,9,-999,9,-999,9,-999,9,-999,9
  90KDIOFFE6_1,  S04P,733,1,10,10,2,19920309,1705,-66.9907,-137.1367,4522,1797.5,0.9224,34.7129,2,34.7128,2,201,2,201,2,119.42,2,31.47,2,0,2,2.23,2,-999,9,-999,9,-999,9,-999,9,-999,9
  90KDIOFFE6_1,  S04P,733,1,27,27,2,19920309,1705,-66.9907,-137.1367,4522,2101,0.7877,34.7078,2,34.7073,2,203.6,2,204.3,2,124.16,2,31.74,2,0,2,2.24,2,-999,9,-999,9,-999,9,-999,9,-999,9
  90KDIOFFE6_1,  S04P,733,1,8,8,2,19920309,1705,-66.9907,-137.1367,4522,2405.4,0.6811,34.7039,2,34.7037,2,204.3,2,206.6,2,127.53,2,31.83,2,0,2,2.24,2,-999,9,-999,9,-999,9,-999,9,-999,9
  90KDIOFFE6_1,  S04P,733,1,7,7,2,19920309,1705,-66.9907,-137.1367,4522,2709.1,0.5631,34.7014,2,34.701,2,209,2,209.1,2,129.52,2,32.01,2,0,2,2.25,2,-999,9,-999,9,-999,9,-999,9,-999,9
  90KDIOFFE6_1,  S04P,733,1,6,6,2,19920309,1705,-66.9907,-137.1367,4522,3013.4,0.4589,34.7009,2,34.7018,2,211.2,2,211.7,2,131.71,2,31.92,2,0,2,2.26,2,0.036,2,0.01,3,-999,9,-999,9,-999,9
  90KDIOFFE6_1,  S04P,733,1,5,5,2,19920309,1705,-66.9907,-137.1367,4522,3365.8,0.3653,34.7001,2,34.7,2,213.2,2,214,2,134.32,2,32.05,2,0,2,2.26,2,0.029,2,0.008,3,-999,9,-999,9,-999,9
  90KDIOFFE6_1,  S04P,733,1,4,4,2,19920309,1705,-66.9907,-137.1367,4522,3769.6,0.2886,34.7004,2,34.6998,2,216.9,2,216.7,2,136.93,2,32.05,2,0,2,2.26,2,0.053,2,0.016,3,-999,9,-999,9,-999,9
  90KDIOFFE6_1,  S04P,733,1,3,3,2,19920309,1705,-66.9907,-137.1367,4522,4129.6,0.2166,34.6986,2,34.6982,2,221.3,2,221.1,2,128.45,2,31.86,2,0,2,2.25,2,0.229,6,0.081,3,-999,9,-999,9,-999,9
  90KDIOFFE6_1,  S04P,733,1,2,2,2,19920309,1705,-66.9907,-137.1367,4522,4437.2,0.1971,34.6978,2,34.6978,2,224.9,2,223.4,2,125.84,2,31.48,2,0,2,2.24,2,0.331,2,0.127,3,-999,9,-999,9,-999,9
  90KDIOFFE6_1,  S04P,733,1,1,1,2,19920309,1705,-66.9907,-137.1367,4522,4589,0.2089,34.698,2,34.6984,2,225.2,2,223.7,2,125.43,2,31.25,2,0,2,2.24,2,0.344,2,0.132,3,-999,9,-999,9,-999,9
  90KDIOFFE6_1,  S04P,734,1,24,24,2,19920310,252,-67.0075,-138.3975,4429,14.5,0.9063,33.5144,2,33.5136,2,352.3,3,345.8,2,25.08,2,22.82,2,0.3,2,1.53,2,6.309,2,2.845,3,-999,9,2116.5,2,-999,9
  90KDIOFFE6_1,  S04P,734,1,23,23,2,19920310,252,-67.0075,-138.3975,4429,44.4,0.8326,33.5232,2,33.5249,2,343.1,2,346,2,25.63,2,22.9,2,0.3,2,1.56,2,6.403,6,2.847,3,-999,9,2119.8,2,-999,9
  90KDIOFFE6_1,  S04P,734,1,22,22,2,19920310,252,-67.0075,-138.3975,4429,88.7,-1.6252,33.8882,2,33.8931,2,342.3,2,347.5,2,45.17,2,26.63,2,0.31,2,1.96,2,6.713,2,2.936,3,-999,9,2163,2,-999,9
  90KDIOFFE6_1,  S04P,734,1,21,21,2,19920310,252,-67.0075,-138.3975,4429,155.1,-0.9579,34.0648,2,34.0711,2,320.8,2,316.2,2,52.95,2,29.35,2,0.01,2,2.07,2,5.576,2,2.431,3,-999,9,-999,9,-999,9
  90KDIOFFE6_1,  S04P,734,1,20,20,2,19920310,252,-67.0075,-138.3975,4429,205,0.5431,34.3903,2,34.4028,2,244.6,2,236.2,2,74.07,2,32.4,2,0.01,2,2.29,2,2.736,2,1.149,3,-999,9,-999,9,-999,9
  90KDIOFFE6_1,  S04P,734,1,19,19,2,19920310,252,-67.0075,-138.3975,4429,254.6,1.4274,34.5657,2,34.5638,2,196.4,2,195.8,2,81.71,2,33.19,2,0.01,2,2.34,2,1.182,2,0.475,3,-999,9,-999,9,-999,9
  90KDIOFFE6_1,  S04P,734,1,18,18,2,19920310,252,-67.0075,-138.3975,4429,304.4,1.6974,34.6315,2,34.6312,2,181.4,2,184.3,2,84.38,2,32.8,2,0.01,2,2.31,2,0.623,2,0.239,3,-999,9,-999,9,-999,9
  90KDIOFFE6_1,  S04P,734,1,17,17,2,19920310,252,-67.0075,-138.3975,4429,404.1,1.7911,34.6803,2,34.6803,2,181.1,2,182.4,2,87.45,2,32.31,2,0.01,2,2.27,2,0.319,2,0.118,3,-999,9,-999,9,-999,9
  90KDIOFFE6_1,  S04P,734,1,16,16,2,19920310,252,-67.0075,-138.3975,4429,503.8,1.7705,34.7077,2,34.7068,2,186.4,2,184.1,2,90.51,2,31.78,2,0.01,2,2.22,2,0.182,2,0.063,3,-999,9,-999,9,-999,9
  90KDIOFFE6_1,  S04P,734,1,15,15,2,19920310,252,-67.0075,-138.3975,4429,604.6,1.7196,34.7197,2,34.7187,2,186.8,2,186.2,2,93.21,2,31.53,2,0.01,2,2.2,2,0.127,2,0.039,3,-999,9,-999,9,-999,9
  90KDIOFFE6_1,  S04P,734,1,14,14,2,19920310,252,-67.0075,-138.3975,4429,805.1,1.5417,34.7282,2,34.7279,2,193.4,2,190.5,2,98.42,2,31.24,2,0.01,2,2.19,2,0.091,6,0.026,3,-999,9,-999,9,-999,9
  90KDIOFFE6_1,  S04P,734,1,13,13,2,19920310,252,-67.0075,-138.3975,4429,1007.2,1.3809,34.7288,2,34.7285,2,193.9,2,193.4,2,103.66,2,31.32,2,0.01,2,2.19,2,0.054,2,0.016,3,-999,9,-999,9,-999,9
  90KDIOFFE6_1,  S04P,734,1,12,12,2,19920310,252,-67.0075,-138.3975,4429,1311,1.1609,34.7228,2,34.7228,2,194.3,2,195.2,2,111.47,2,31.5,2,0.01,2,2.21,2,0.031,2,0.009,3,-999,9,-999,9,-999,9
  90KDIOFFE6_1,  S04P,734,1,26,26,2,19920310,252,-67.0075,-138.3975,4429,1611.9,0.9674,34.7156,2,34.7146,2,195.5,2,200,2,117.37,2,31.58,2,0,2,2.22,2,0.02,2,0.006,3,-999,9,-999,9,-999,9
  90KDIOFFE6_1,  S04P,734,1,10,10,2,19920310,252,-67.0075,-138.3975,4429,1914.4,0.8242,34.7099,2,34.7094,2,203.2,2,203.5,2,122.52,2,31.75,2,0,2,2.23,2,0.018,2,0.006,3,-999,9,-999,9,-999,9
  90KDIOFFE6_1,  S04P,734,1,27,27,2,19920310,252,-67.0075,-138.3975,4429,2217.6,0.6984,34.705,2,34.7047,2,205.4,2,206.3,2,126.7,2,31.79,2,0,2,2.24,2,0.028,2,0.008,3,-999,9,-999,9,-999,9
  90KDIOFFE6_1,  S04P,734,1,8,8,2,19920310,252,-67.0075,-138.3975,4429,2521,0.5868,34.7024,2,34.7022,2,207.6,2,208.6,2,128.71,2,31.78,2,0,2,2.24,2,0.029,2,0.009,3,-999,9,-999,9,-999,9
  90KDIOFFE6_1,  S04P,734,1,7,7,2,19920310,252,-67.0075,-138.3975,4429,2825.3,0.4785,34.7009,2,34.701,2,210.3,2,210.9,2,130.92,2,31.91,2,0,2,2.24,2,0.027,2,0.008,3,-999,9,-999,9,-999,9
  90KDIOFFE6_1,  S04P,734,1,6,6,2,19920310,252,-67.0075,-138.3975,4429,3136.2,0.3865,34.7003,2,34.7004,2,212.4,2,213.4,2,133.34,2,31.94,2,0,2,2.25,2,0.032,2,0.008,3,-999,9,-999,9,-999,9
  90KDIOFFE6_1,  S04P,734,1,5,5,2,19920310,252,-67.0075,-138.3975,4429,3441.8,0.3049,34.7005,2,34.7,2,213.8,2,216,2,134.96,2,31.98,2,0,2,2.25,2,0.043,2,0.017,3,-999,9,-999,9,-999,9
  90KDIOFFE6_1,  S04P,734,1,4,4,2,19920310,252,-67.0075,-138.3975,4429,3747,0.2583,34.7,2,34.6998,2,217.9,2,218.2,2,134.95,2,31.96,2,0,2,2.25,2,0.092,2,0.033,3,-999,9,-999,9,-999,9
  90KDIOFFE6_1,  S04P,734,1,3,3,2,19920310,252,-67.0075,-138.3975,4429,4052.7,0.189,34.6986,2,34.698,2,222.4,2,222.5,2,126.28,2,31.81,2,0,2,2.24,2,0.279,2,0.102,3,-999,9,-999,9,-999,9
  90KDIOFFE6_1,  S04P,734,1,2,2,2,19920310,252,-67.0075,-138.3975,4429,4357.8,0.1757,34.6979,2,34.698,2,224.5,2,224,2,122.88,2,31.66,2,0,2,2.24,2,0.369,6,0.141,3,-999,9,-999,9,-999,9
  90KDIOFFE6_1,  S04P,734,1,1,1,2,19920310,252,-67.0075,-138.3975,4429,4508,0.1914,34.6983,2,34.6984,2,225.9,2,224.2,2,122.68,2,31.55,2,0,2,2.23,2,0.363,2,0.14,3,-999,9,-999,9,-999,9
  90KDIOFFE6_1,  S04P,735,1,24,24,2,19920310,925,-67.0072,-139.6542,4328,12.5,0.7028,33.6187,2,33.6192,2,345.3,2,345.1,2,30.02,2,22.67,2,0.27,2,1.55,2,-999,9,-999,9,-999,9,2126.1,2,-999,9
  90KDIOFFE6_1,  S04P,735,1,23,23,2,19920310,925,-67.0072,-139.6542,4328,52.3,0.6068,33.6322,2,33.6331,2,342.1,2,345.1,2,31.15,2,22.75,2,0.27,2,1.56,2,-999,9,-999,9,-999,9,2131.2,2,-999,9
  90KDIOFFE6_1,  S04P,735,1,22,22,2,19920310,925,-67.0072,-139.6542,4328,88.3,-1.7203,33.9224,2,33.9182,2,341.2,2,346.3,2,49.63,2,26.69,2,0.31,2,1.95,2,-999,9,-999,9,-999,9,2171.8,2,-999,9
  90KDIOFFE6_1,  S04P,735,1,21,21,2,19920310,925,-67.0072,-139.6542,4328,139.6,-1.7783,34.0049,2,34.0066,2,327.9,2,333.2,2,52.86,2,27.9,2,0.17,2,1.99,2,-999,9,-999,9,-999,9,2179.1,2,-999,9
  90KDIOFFE6_1,  S04P,735,1,20,20,2,19920310,925,-67.0072,-139.6542,4328,163.5,-1.3656,34.0796,2,34.0768,2,307.6,2,315.6,2,56.85,2,28.89,2,0.02,2,2.05,2,-999,9,-999,9,-999,9,2191.9,2,-999,9
  90KDIOFFE6_1,  S04P,735,1,19,19,2,19920310,925,-67.0072,-139.6542,4328,204.8,0.3331,34.4045,2,34.3978,2,247.2,2,243.8,2,75.76,2,31.83,2,0.01,2,2.27,2,-999,9,-999,9,-999,9,2231,2,-999,9
  90KDIOFFE6_1,  S04P,735,1,18,18,2,19920310,925,-67.0072,-139.6542,4328,254.4,1.0435,34.5659,2,34.5675,2,206.6,2,205.2,2,84.58,2,32.46,2,0.01,2,2.3,2,-999,9,-999,9,-999,9,2249.4,2,-999,9
  90KDIOFFE6_1,  S04P,735,1,17,17,2,19920310,925,-67.0072,-139.6542,4328,304.7,1.5791,34.6647,2,34.6627,2,182,2,186.5,2,88.41,2,32.1,2,0.01,2,2.29,2,-999,9,-999,9,-999,9,2253.7,2,-999,9
  90KDIOFFE6_1,  S04P,735,1,16,16,2,19920310,925,-67.0072,-139.6542,4328,404.2,1.6821,34.7157,2,34.7155,2,186.8,2,185.7,2,92.84,2,31.54,2,0.01,2,2.22,2,-999,9,-999,9,-999,9,2253.1,2,-999,9
  90KDIOFFE6_1,  S04P,735,1,15,15,2,19920310,925,-67.0072,-139.6542,4328,506,1.5681,34.7225,2,34.7215,2,190.3,2,188.1,2,96.32,2,31.27,2,0.01,2,2.21,2,-999,9,-999,9,-999,9,2256.2,2,-999,9
  90KDIOFFE6_1,  S04P,735,1,14,14,2,19920310,925,-67.0072,-139.6542,4328,606.1,1.4832,34.7252,2,34.7239,2,186.8,2,189.3,2,99.22,2,31.14,2,0.01,2,2.21,2,-999,9,-999,9,-999,9,2255.1,2,-999,9
  90KDIOFFE6_1,  S04P,735,1,13,13,2,19920310,925,-67.0072,-139.6542,4328,705.6,1.3973,34.7271,2,34.727,2,192.5,2,191.1,2,102.71,2,31.26,2,0,2,2.21,2,-999,9,-999,9,-999,9,2257.2,2,-999,9
  90KDIOFFE6_1,  S04P,735,1,12,12,2,19920310,925,-67.0072,-139.6542,4328,906,1.2614,34.7257,2,34.7253,2,196.2,2,193,2,107.38,2,31.37,2,0,2,2.23,2,-999,9,-999,9,-999,9,2259.4,2,-999,9
  90KDIOFFE6_1,  S04P,735,1,26,26,2,19920310,925,-67.0072,-139.6542,4328,1109.1,1.1345,34.7219,2,34.7217,2,197.3,2,196.6,2,111.49,2,31.43,2,0,2,2.21,2,-999,9,-999,9,-999,9,2257.6,2,-999,9
  90KDIOFFE6_1,  S04P,735,1,10,10,2,19920310,925,-67.0072,-139.6542,4328,1408,0.9546,34.7146,2,34.7151,2,198.4,2,199.8,2,117.6,2,31.63,2,0,2,2.23,2,-999,9,-999,9,-999,9,2258.3,2,-999,9
  90KDIOFFE6_1,  S04P,735,1,27,27,2,19920310,925,-67.0072,-139.6542,4328,1713.5,0.8007,34.7101,2,34.7088,2,202.8,2,203,2,122.95,2,31.79,2,0,2,2.24,2,-999,9,-999,9,-999,9,2259,2,-999,9
  90KDIOFFE6_1,  S04P,735,1,8,8,2,19920310,925,-67.0072,-139.6542,4328,2068.6,0.6718,34.7045,2,34.7039,2,205.4,2,206,2,127.14,2,31.76,2,0,2,2.24,2,-999,9,-999,9,-999,9,2261.9,2,-999,9
  90KDIOFFE6_1,  S04P,735,1,7,7,2,19920310,925,-67.0072,-139.6542,4328,2425.5,0.5369,34.7013,2,34.7009,2,208.4,2,208.9,2,129.34,2,31.92,2,0,2,2.25,2,-999,9,-999,9,-999,9,2260.3,2,-999,9
  90KDIOFFE6_1,  S04P,735,1,6,6,2,19920310,925,-67.0072,-139.6542,4328,2782.3,0.407,34.701,2,34.7003,2,210,2,211.7,2,132.55,2,32.07,2,0,2,2.26,2,0.027,2,0.009,3,-999,9,2264.2,2,-999,9
  90KDIOFFE6_1,  S04P,735,1,5,5,2,19920310,925,-67.0072,-139.6542,4328,3139.2,0.3211,34.6991,2,34.7001,2,212.6,2,214.2,2,134.98,2,31.99,2,0,2,2.26,2,0.035,2,0.01,3,-999,9,2262.4,2,-999,9
  90KDIOFFE6_1,  S04P,735,1,4,4,2,19920310,925,-67.0072,-139.6542,4328,3497.9,0.2531,34.7004,2,34.6994,2,216.6,2,216.8,2,136.19,2,31.91,2,0,2,2.25,2,0.069,2,0.023,3,-999,9,2262.5,2,-999,9
  90KDIOFFE6_1,  S04P,735,1,3,3,2,19920310,925,-67.0072,-139.6542,4328,3859,0.1642,34.6974,2,34.6982,2,222.9,2,222.1,2,125.48,2,31.69,2,0,2,2.24,2,0.281,2,0.1,3,-999,9,2258.7,2,-999,9
  90KDIOFFE6_1,  S04P,735,1,2,2,2,19920310,925,-67.0072,-139.6542,4328,4219.3,0.1582,34.6982,2,34.698,2,223.8,2,-999,5,122.88,2,31.61,2,0,2,2.24,2,0.364,2,0.141,3,-999,9,2258.1,2,-999,9
  90KDIOFFE6_1,  S04P,735,1,1,1,2,19920310,925,-67.0072,-139.6542,4328,4402.8,0.1742,34.6974,2,34.6982,2,225.7,2,223.8,2,122.86,2,31.72,2,0,2,2.25,2,0.378,2,0.141,3,-999,9,2258.9,2,-999,9