BOTTLE,20181005JHS,,,,,,,,,,,,,,,,,,,,,,,,,,,,,,,,,,,,,,
EXPOCODE,SECT_ID,STNNBR,CASTNO,SAMPNO,BTLNBR,BTLNBR_FLAG_W,DATE,TIME,LATITUDE,LONGITUDE,DEPTH,CTDPRS,CTDTMP,CTDSAL,CTDSAL_FLAG_W,SALNTY,SALNTY_FLAG_W,CTDOXY,CTDOXY_FLAG_W,OXYGEN,OXYGEN_FLAG_W,SILCAT,SILCAT_FLAG_W,NITRAT,NITRAT_FLAG_W,NITRIT,NITRIT_FLAG_W,PHSPHT,PHSPHT_FLAG_W,CFC-11,CFC-11_FLAG_W,CFC-12,CFC-12_FLAG_W,SF6,SF6_FLAG_W,TCARBN,TCARBN_FLAG_W,ALKALI,ALKALI_FLAG_W
,,,,,,,,,,,,DBAR,ITS-90,PSS-78,,PSS-78,,UMOL/KG,,UMOL/KG,,UMOL/KG,,UMOL/KG,,UMOL/KG,,UMOL/KG,,PMOL/KG,,PMOL/KG,,FMOL/KG,,UMOL/KG,,UMOL/KG,
  90KDIOFFE6_1,  S04P,740,1,24,24,2,19920312,105,-67.0073,-147.4833,4426,12.6,0.6848,33.7303,2,33.729,2,346.2,3,343.5,2,40.88,2,23.38,2,0.22,2,1.61,2,6.731,2,2.945,3,-999,9,2140.7,2,-999,9
  90KDIOFFE6_1,  S04P,740,1,23,23,2,19920312,105,-67.0073,-147.4833,4426,53.1,0.6158,33.7531,2,33.75,2,340.9,3,343.9,2,41.47,2,23.18,2,0.22,2,1.63,2,6.505,2,2.868,3,-999,9,2142.6,2,-999,9
  90KDIOFFE6_1,  S04P,740,1,22,22,2,19920312,105,-67.0073,-147.4833,4426,85.2,-1.7283,33.9808,2,33.976,2,347.2,2,345.2,2,54.28,2,26.4,2,0.26,2,1.95,2,6.483,2,2.86,3,-999,9,2169.5,2,-999,9
  90KDIOFFE6_1,  S04P,740,1,21,21,2,19920312,105,-67.0073,-147.4833,4426,125.8,-1.6644,34.0651,2,34.067,2,329.4,2,327.3,2,61.9,2,27.67,2,0.19,2,2,2,5.852,2,2.562,3,-999,9,-999,9,-999,9
  90KDIOFFE6_1,  S04P,740,1,20,20,2,19920312,105,-67.0073,-147.4833,4426,176,-0.4034,34.3177,2,34.331,2,264.2,2,265.1,2,76.55,2,30.6,2,0.02,2,2.16,2,3.531,2,1.521,3,-999,9,-999,9,-999,9
  90KDIOFFE6_1,  S04P,740,1,19,19,2,19920312,105,-67.0073,-147.4833,4426,236,0.9596,34.639,2,34.635,2,192.9,2,195.5,2,97.06,2,32.45,2,0.02,2,2.27,2,0.873,2,0.351,3,-999,9,-999,9,-999,9
  90KDIOFFE6_1,  S04P,740,1,18,18,2,19920312,105,-67.0073,-147.4833,4426,306.3,1.3023,34.7176,2,34.718,2,183.8,2,182.5,2,105.27,2,32.35,2,0.01,2,2.27,2,0.146,2,0.047,3,-999,9,-999,9,-999,9
  90KDIOFFE6_1,  S04P,740,1,17,17,2,19920312,105,-67.0073,-147.4833,4426,406.9,1.2554,34.7255,2,34.724,2,184.9,2,182.5,2,108.98,2,32.25,2,0.01,2,2.27,2,0.062,2,0.001,4,-999,9,-999,9,-999,9
  90KDIOFFE6_1,  S04P,740,1,16,16,2,19920312,105,-67.0073,-147.4833,4426,507.5,1.1834,34.7243,2,34.724,2,188.3,2,185.1,2,111.42,2,32.25,2,0.01,2,2.26,2,0.037,2,0.01,3,-999,9,-999,9,-999,9
  90KDIOFFE6_1,  S04P,740,1,15,15,2,19920312,105,-67.0073,-147.4833,4426,607.1,1.1155,34.7222,2,34.722,2,188.3,2,189.4,2,112.99,2,31.77,2,0.01,2,2.25,2,0.029,6,0.007,3,-999,9,-999,9,-999,9
  90KDIOFFE6_1,  S04P,740,1,14,14,2,19920312,105,-67.0073,-147.4833,4426,807,0.9906,34.7178,2,34.718,2,196.1,2,194.7,2,116.11,2,31.77,2,0.01,2,2.24,2,0.017,2,0.003,3,-999,9,-999,9,-999,9
  90KDIOFFE6_1,  S04P,740,1,13,13,2,19920312,105,-67.0073,-147.4833,4426,1010.5,0.8697,34.7122,2,34.713,2,198.2,2,198.6,2,119.63,2,31.67,2,0.01,2,2.24,2,0.01,2,0.003,3,-999,9,-999,9,-999,9
  90KDIOFFE6_1,  S04P,740,1,12,12,2,19920312,105,-67.0073,-147.4833,4426,1312.4,0.7318,34.709,2,34.709,2,202.5,2,203.8,2,124.03,2,31.67,2,0.01,2,2.24,2,0.01,6,0.004,3,-999,9,-999,9,-999,9
  90KDIOFFE6_1,  S04P,740,1,26,26,3,19920312,105,-67.0073,-147.4833,4426,1618.2,0.6208,34.7041,2,34.702,4,203.3,2,207.7,4,127.94,4,31.67,4,0.01,4,2.24,4,0.019,3,0.002,3,-999,9,-999,9,-999,9
  90KDIOFFE6_1,  S04P,740,1,10,10,2,19920312,105,-67.0073,-147.4833,4426,1924.4,0.5059,34.7017,2,34.701,2,209,2,208.6,2,128.72,2,31.57,2,0.01,2,2.25,2,0.02,2,0.005,3,-999,9,-999,9,-999,9
  90KDIOFFE6_1,  S04P,740,1,27,27,2,19920312,105,-67.0073,-147.4833,4426,2228.3,0.397,34.701,2,34.7,2,209.4,2,211.6,2,130.97,2,31.86,2,0.01,2,2.25,2,0.024,2,0.004,3,-999,9,-999,9,-999,9
  90KDIOFFE6_1,  S04P,740,1,8,8,2,19920312,105,-67.0073,-147.4833,4426,2531.1,0.3141,34.6987,2,34.7,2,212.1,2,213.8,2,132.83,2,31.77,2,0.01,2,2.25,2,0.041,2,0.01,3,-999,9,-999,9,-999,9
  90KDIOFFE6_1,  S04P,740,1,7,7,2,19920312,105,-67.0073,-147.4833,4426,2835.1,0.2431,34.6988,2,34.699,2,214.1,2,216.4,2,131.95,2,31.77,2,0.01,2,2.25,2,0.085,2,0.026,3,-999,9,-999,9,-999,9
  90KDIOFFE6_1,  S04P,740,1,6,6,2,19920312,105,-67.0073,-147.4833,4426,3144.3,0.1592,34.6986,2,34.698,2,217.9,2,219.8,2,127.65,2,31.47,2,0.01,2,2.25,2,0.223,2,0.082,3,-999,9,-999,9,-999,9
  90KDIOFFE6_1,  S04P,740,1,5,5,2,19920312,105,-67.0073,-147.4833,4426,3448.7,0.1062,34.697,2,34.697,2,223,2,223.8,2,121,2,31.67,2,0.01,2,2.25,2,0.4,2,0.155,3,-999,9,-999,9,-999,9
  90KDIOFFE6_1,  S04P,740,1,28,28,2,19920312,105,-67.0073,-147.4833,4426,3753,0.1042,34.6968,2,34.697,2,223.9,2,224.6,2,119.83,2,31.77,2,0.01,2,2.25,2,0.458,2,0.175,3,-999,9,-999,9,-999,9
  90KDIOFFE6_1,  S04P,740,1,3,3,2,19920312,105,-67.0073,-147.4833,4426,4058.6,0.1242,34.6971,2,34.699,3,225,2,224.6,2,120.03,2,31.86,2,0.01,2,2.25,2,0.465,2,0.184,3,-999,9,-999,9,-999,9
  90KDIOFFE6_1,  S04P,740,1,2,2,2,19920312,105,-67.0073,-147.4833,4426,4365.4,0.1502,34.6974,2,34.697,2,227.1,2,225.1,2,120.81,2,31.86,2,0.01,2,2.25,2,0.49,2,0.2,3,-999,9,-999,9,-999,9
  90KDIOFFE6_1,  S04P,740,1,1,1,2,19920312,105,-67.0073,-147.4833,4426,4497.7,0.1642,34.6971,2,34.697,2,226.1,2,224.6,2,120.91,2,31.77,2,0.01,2,2.24,2,0.498,2,0.195,3,-999,9,-999,9,-999,9
  90KDIOFFE6_1,  S04P,741,1,24,24,2,19920312,850,-67.0118,-149.2117,4439,11.4,0.7208,33.7916,2,33.791,2,345.9,2,342.2,2,44.8,2,24.45,2,0.22,2,1.7,2,-999,9,-999,9,-999,9,2149.2,2,-999,9
  90KDIOFFE6_1,  S04P,741,1,23,23,2,19920312,850,-67.0118,-149.2117,4439,51.8,0.7258,33.8089,2,33.808,2,335.4,2,342.6,2,45.19,2,24.45,2,0.22,2,1.72,2,-999,9,-999,9,-999,9,2149.6,2,-999,9
  90KDIOFFE6_1,  S04P,741,1,22,22,2,19920312,850,-67.0118,-149.2117,4439,94,-1.6134,34.1558,2,34.16,2,315.1,2,313.4,2,59.45,2,27.57,2,0.08,2,1.98,2,-999,9,-999,9,-999,9,2187,2,-999,9
  90KDIOFFE6_1,  S04P,741,1,21,21,2,19920312,850,-67.0118,-149.2117,4439,123.9,-1.5175,34.2066,2,34.202,2,301.3,2,299.5,2,63.85,2,28.75,2,0.14,2,2.05,2,-999,9,-999,9,-999,9,2203.2,2,-999,9
  90KDIOFFE6_1,  S04P,741,1,20,20,2,19920312,850,-67.0118,-149.2117,4439,171.9,0.1552,34.4617,2,34.461,2,225.2,2,229.9,2,79.97,2,31.18,2,0.02,2,2.2,2,-999,9,-999,9,-999,9,2238.8,2,-999,9
  90KDIOFFE6_1,  S04P,741,1,19,19,2,19920312,850,-67.0118,-149.2117,4439,220.3,1.0645,34.6359,2,34.635,2,187.5,2,194.2,2,93.93,2,32.16,2,0.01,2,2.27,2,-999,9,-999,9,-999,9,2251.5,2,-999,9
  90KDIOFFE6_1,  S04P,741,1,18,18,2,19920312,850,-67.0118,-149.2117,4439,260.3,1.3783,34.7075,2,34.709,2,185.5,2,184.7,2,99.21,2,31.96,2,0.01,2,2.25,2,-999,9,-999,9,-999,9,2260.1,2,-999,9
  90KDIOFFE6_1,  S04P,741,1,17,17,2,19920312,850,-67.0118,-149.2117,4439,302.7,1.3823,34.7205,2,34.721,2,185.7,2,183.8,2,101.84,2,31.77,2,0.01,2,2.25,2,-999,9,-999,9,-999,9,2261.8,2,-999,9
  90KDIOFFE6_1,  S04P,741,1,16,16,2,19920312,850,-67.0118,-149.2117,4439,402,1.3023,34.7248,2,34.724,2,186.4,2,180.3,2,106.44,2,32.16,2,0.01,2,2.28,2,-999,9,-999,9,-999,9,2264.7,2,-999,9
  90KDIOFFE6_1,  S04P,741,1,15,15,2,19920312,850,-67.0118,-149.2117,4439,505.3,1.2414,34.7253,2,34.725,2,187.7,2,186,2,108.59,2,31.86,2,0.01,2,2.25,2,0.034,2,0.011,3,-999,9,2263.5,2,-999,9
  90KDIOFFE6_1,  S04P,741,1,14,14,2,19920312,850,-67.0118,-149.2117,4439,706.4,1.1035,34.7225,2,34.722,2,190.4,2,191.2,2,112.5,2,31.67,2,0.01,2,2.24,2,0.019,2,0.003,3,-999,9,2263.4,2,-999,9
  90KDIOFFE6_1,  S04P,741,1,13,13,2,19920312,850,-67.0118,-149.2117,4439,909.2,0.9706,34.7172,2,34.717,2,192.9,2,194.2,2,116.8,2,31.67,2,0.01,2,2.25,2,0.01,2,0.004,3,-999,9,2261.7,2,-999,9
  90KDIOFFE6_1,  S04P,741,1,12,12,2,19920312,850,-67.0118,-149.2117,4439,1209.6,0.8037,34.71,2,34.711,2,198.7,2,200.7,2,121.3,2,31.47,2,0.01,2,2.24,2,0.031,2,0.009,3,-999,9,2259.2,2,-999,9
  90KDIOFFE6_1,  S04P,741,1,26,26,3,19920312,850,-67.0118,-149.2117,4439,1508.9,0.6738,34.7053,2,34.703,4,202.9,2,210.3,4,127.16,4,31.47,4,0.01,4,2.25,4,0.029,2,0.007,3,-999,9,-999,9,-999,9
  90KDIOFFE6_1,  S04P,741,1,10,10,2,19920312,850,-67.0118,-149.2117,4439,1813.3,0.5609,34.703,2,34.703,2,204.7,2,207.3,2,127.36,2,31.37,2,0.01,2,2.25,2,-999,9,-999,9,-999,9,2261.4,2,-999,9
  90KDIOFFE6_1,  S04P,741,1,27,27,2,19920312,850,-67.0118,-149.2117,4439,2120.9,0.442,34.7013,2,34.7,2,206.5,2,209.9,2,128.82,2,31.57,2,0,2,2.26,2,-999,9,-999,9,-999,9,2260.3,2,-999,9
  90KDIOFFE6_1,  S04P,741,1,8,8,2,19920312,850,-67.0118,-149.2117,4439,2474.6,0.3331,34.6996,2,34.699,2,211,2,212.9,2,131.75,2,31.77,2,0,2,2.27,2,-999,9,-999,9,-999,9,2256.4,2,-999,9
  90KDIOFFE6_1,  S04P,741,1,7,7,2,19920312,850,-67.0118,-149.2117,4439,2833.6,0.2481,34.6992,2,34.7,2,214.4,2,215.9,2,131.95,2,31.86,2,0,2,2.26,2,-999,9,-999,9,-999,9,2260.7,2,-999,9
  90KDIOFFE6_1,  S04P,741,1,6,6,2,19920312,850,-67.0118,-149.2117,4439,3192.4,0.1512,34.6974,2,34.698,2,219.9,2,220.7,2,125.4,2,31.86,2,0,2,2.25,2,0.274,2,0.103,3,-999,9,2254.6,2,-999,9
  90KDIOFFE6_1,  S04P,741,1,5,5,2,19920312,850,-67.0118,-149.2117,4439,3550.3,0.1022,34.6968,2,34.696,2,222.8,2,224.2,2,119.73,2,31.77,2,0,2,2.24,2,0.452,2,0.176,3,-999,9,2260.2,2,-999,9
  90KDIOFFE6_1,  S04P,741,1,28,28,2,19920312,850,-67.0118,-149.2117,4439,3908.6,0.1152,34.6981,2,34.697,2,225.6,2,224.6,2,119.34,2,31.77,2,0,2,2.24,2,0.496,2,0.197,3,-999,9,2254.9,2,-999,9
  90KDIOFFE6_1,  S04P,741,1,3,3,2,19920312,850,-67.0118,-149.2117,4439,4165.7,0.1382,34.6962,2,34.697,2,227.1,2,225.1,2,119.34,2,31.57,2,0,2,2.24,2,0.506,2,0.192,3,-999,9,2258.4,2,-999,9
  90KDIOFFE6_1,  S04P,741,1,2,2,2,19920312,850,-67.0118,-149.2117,4439,4369.8,0.1582,34.6971,2,34.697,2,227.9,2,224.6,2,119.44,2,31.47,2,0,2,2.24,2,0.508,2,0.197,3,-999,9,2257.7,2,-999,9
  90KDIOFFE6_1,  S04P,741,1,1,1,2,19920312,850,-67.0118,-149.2117,4439,4515.3,0.1712,34.6974,2,34.699,2,228.5,2,224.6,2,119.83,2,31.37,2,0,2,2.24,2,0.492,2,0.19,3,-999,9,2258.4,2,-999,9
  90KDIOFFE6_1,  S04P,742,1,24,24,2,19920312,1718,-66.9778,-150.9643,4354,11.7,0.6798,33.8141,2,33.813,2,345.6,2,343.9,2,44.4,2,24.94,2,0.2,2,1.66,2,6.324,2,2.819,3,-999,9,2148.5,2,-999,9
  90KDIOFFE6_1,  S04P,742,1,23,23,2,19920312,1718,-66.9778,-150.9643,4354,52.7,0.6718,33.8155,2,33.814,2,346.6,2,343.9,2,44.4,2,24.84,2,0.2,2,1.66,2,6.418,2,2.877,3,-999,9,2149.8,2,-999,9
  90KDIOFFE6_1,  S04P,742,1,22,22,2,19920312,1718,-66.9778,-150.9643,4354,72,-1.5275,34.1266,2,34.127,2,311.4,2,319.5,2,60.43,2,27.87,2,0.09,2,1.98,2,5.096,2,2.267,3,-999,9,2189.4,2,-999,9
  90KDIOFFE6_1,  S04P,742,1,21,21,2,19920312,1718,-66.9778,-150.9643,4354,97.8,-1.6723,34.1962,2,34.203,2,303.8,2,300.8,2,64.24,2,29.14,2,0.17,2,2.05,2,4.735,2,2.069,3,-999,9,2202.3,2,-999,9
  90KDIOFFE6_1,  S04P,742,1,20,20,2,19920312,1718,-66.9778,-150.9643,4354,129.3,-0.4673,34.3718,2,34.373,2,262.9,2,252.5,2,74.2,2,30.8,2,0.03,2,2.16,2,2.987,2,1.311,3,-999,9,-999,9,-999,9
  90KDIOFFE6_1,  S04P,742,1,19,19,2,19920312,1718,-66.9778,-150.9643,4354,163.9,0.6228,34.5376,2,34.526,2,214.9,2,215.5,2,84.07,2,31.57,2,0.01,2,2.24,2,-999,9,-999,9,-999,9,-999,9,-999,9
  90KDIOFFE6_1,  S04P,742,1,18,18,2,19920312,1718,-66.9778,-150.9643,4354,253.7,1.4512,34.7019,2,34.701,2,181.3,2,183.8,2,95.2,2,32.25,2,0.01,2,2.25,2,0.253,2,0.086,3,-999,9,-999,9,-999,9
  90KDIOFFE6_1,  S04P,742,1,17,17,2,19920312,1718,-66.9778,-150.9643,4354,350.5,1.4073,34.7225,2,34.721,2,184.1,2,183.8,2,101.16,2,31.37,2,0.01,2,2.25,2,0.103,2,0.017,4,-999,9,-999,9,-999,9
  90KDIOFFE6_1,  S04P,742,1,16,16,2,19920312,1718,-66.9778,-150.9643,4354,450.8,1.3353,34.7253,2,34.724,2,186,2,183.8,2,105.07,2,31.67,2,0.01,2,2.25,2,0.055,2,0.017,3,-999,9,-999,9,-999,9
  90KDIOFFE6_1,  S04P,742,1,15,15,2,19920312,1718,-66.9778,-150.9643,4354,553,1.2604,34.7255,2,34.724,2,186.2,2,185.5,2,107.9,2,31.37,2,0.01,2,2.25,2,0.034,2,0.009,3,-999,9,-999,9,-999,9
  90KDIOFFE6_1,  S04P,742,1,14,14,2,19920312,1718,-66.9778,-150.9643,4354,705.3,1.1594,34.7239,2,34.722,2,190.8,2,189,2,111.13,2,31.57,2,0.01,2,2.25,2,0.02,6,0.004,3,-999,9,-999,9,-999,9
  90KDIOFFE6_1,  S04P,742,1,13,13,2,19920312,1718,-66.9778,-150.9643,4354,909.6,1.0085,34.7198,2,34.717,2,194.8,2,195.1,2,115.23,2,31.37,2,0.01,2,2.24,2,0.009,2,0.002,3,-999,9,-999,9,-999,9
  90KDIOFFE6_1,  S04P,742,1,12,12,2,19920312,1718,-66.9778,-150.9643,4354,1110.8,0.8976,34.7155,2,34.713,2,197.5,2,199.4,2,118.07,2,31.47,2,0.01,2,2.24,2,0.006,2,-0.001,3,-999,9,-999,9,-999,9
  90KDIOFFE6_1,  S04P,742,1,26,26,3,19920312,1718,-66.9778,-150.9643,4354,1413.4,0.7447,34.7079,2,34.703,4,202.3,2,206.4,4,124.23,4,31.67,4,0.01,4,2.25,4,0.258,4,0.092,4,-999,9,-999,9,-999,9
  90KDIOFFE6_1,  S04P,742,1,10,10,2,19920312,1718,-66.9778,-150.9643,4354,1714.7,0.6298,34.7046,2,34.703,2,203.1,2,206.8,2,126.38,2,31.96,2,0.01,2,2.25,2,0.009,2,0.001,3,-999,9,-999,9,-999,9
  90KDIOFFE6_1,  S04P,742,1,27,27,2,19920312,1718,-66.9778,-150.9643,4354,2019.9,0.5129,34.7021,2,34.699,3,206.1,2,211.6,3,126.97,2,31.67,2,0.01,2,2.25,2,0.183,4,0.059,4,-999,9,-999,9,-999,9
  90KDIOFFE6_1,  S04P,742,1,8,8,2,19920312,1718,-66.9778,-150.9643,4354,2324,0.41,34.701,2,34.699,2,206.2,2,214.6,3,130.09,2,31.86,2,0,2,2.27,2,0.023,2,0.007,3,-999,9,-999,9,-999,9
  90KDIOFFE6_1,  S04P,742,1,7,7,2,19920312,1718,-66.9778,-150.9643,4354,2629.8,0.3211,34.6998,2,34.698,2,213.2,2,218.1,3,131.95,2,32.16,2,0,2,2.26,2,0.05,2,0.015,3,-999,9,-999,9,-999,9
  90KDIOFFE6_1,  S04P,742,1,6,6,2,19920312,1718,-66.9778,-150.9643,4354,2987.5,0.2291,34.6994,2,34.699,2,215.1,2,216.8,2,131.46,2,32.06,2,0,2,2.25,2,0.116,2,0.037,3,-999,9,-999,9,-999,9
  90KDIOFFE6_1,  S04P,742,1,5,5,2,19920312,1718,-66.9778,-150.9643,4354,3346.7,0.1262,34.6983,2,34.697,2,220.3,2,222.5,2,123.15,2,31.67,2,0,2,2.25,2,0.36,2,0.132,3,-999,9,-999,9,-999,9
  90KDIOFFE6_1,  S04P,742,1,28,28,2,19920312,1718,-66.9778,-150.9643,4354,3704.7,0.1032,34.6968,2,34.696,2,224.8,2,224.6,2,119.15,2,31.67,2,0,2,2.24,2,0.52,2,0.201,3,-999,9,-999,9,-999,9
  90KDIOFFE6_1,  S04P,742,1,3,3,2,19920312,1718,-66.9778,-150.9643,4354,4059.1,0.1242,34.6969,2,34.697,2,224.8,2,225.1,2,118.76,2,31.57,2,0,2,2.24,2,0.545,2,0.212,3,-999,9,-999,9,-999,9
  90KDIOFFE6_1,  S04P,742,1,2,2,2,19920312,1718,-66.9778,-150.9643,4354,4307.4,0.1442,34.6958,2,34.697,2,225.3,2,225.5,2,118.27,2,31.86,2,0,2,2.25,2,0.552,2,0.223,3,-999,9,-999,9,-999,9
  90KDIOFFE6_1,  S04P,742,1,1,1,2,19920312,1718,-66.9778,-150.9643,4354,4453.4,0.1572,34.6968,2,34.698,2,227.3,2,225.5,2,118.27,2,31.86,2,0,2,2.25,2,0.567,6,0.221,3,-999,9,-999,9,-999,9
  90KDIOFFE6_1,  S04P,743,1,24,24,2,19920313,13,-66.9937,-152.548,3692,15,0.5949,33.8012,2,33.801,2,353.5,3,340.5,2,51.74,2,25.04,2,0.2,2,1.74,2,-999,9,-999,9,-999,9,2156.3,2,-999,9
  90KDIOFFE6_1,  S04P,743,1,23,23,2,19920313,13,-66.9937,-152.548,3692,43.9,0.5909,33.8027,2,33.802,2,347.9,3,340.4,2,51.74,2,25.04,2,0.2,2,1.74,2,-999,9,-999,9,-999,9,2155.9,2,-999,9
  90KDIOFFE6_1,  S04P,743,1,22,22,2,19920313,13,-66.9937,-152.548,3692,75.4,-1.6524,34.1611,2,34.158,2,314,2,314.2,2,57.4,2,27.08,2,0.08,2,1.93,2,-999,9,-999,9,-999,9,2190.5,2,-999,9
  90KDIOFFE6_1,  S04P,743,1,21,21,2,19920313,13,-66.9937,-152.548,3692,90.7,-1.6893,34.1911,2,34.194,2,297.6,2,302.5,2,63.85,2,28.36,2,0.16,2,2.03,2,-999,9,-999,9,-999,9,2203.4,2,-999,9
  90KDIOFFE6_1,  S04P,743,1,20,20,3,19920313,13,-66.9937,-152.548,3692,122.2,-0.7601,34.3325,2,34.318,4,253.2,2,267.7,4,71.27,4,30.01,2,0.1,2,2.13,2,-999,9,-999,9,-999,9,2219.6,2,-999,9
  90KDIOFFE6_1,  S04P,743,1,19,19,2,19920313,13,-66.9937,-152.548,3692,194.8,1.2024,34.6377,2,34.643,2,189.2,2,190.3,2,90.8,2,32.16,2,0.02,2,2.27,2,-999,9,-999,9,-999,9,2254,2,-999,9
  90KDIOFFE6_1,  S04P,743,1,18,18,2,19920313,13,-66.9937,-152.548,3692,253.5,1.4832,34.7099,2,34.71,2,184.3,2,183.8,2,96.57,2,32.06,2,0.01,2,2.26,2,-999,9,-999,9,-999,9,2258.8,2,-999,9
  90KDIOFFE6_1,  S04P,743,1,17,17,2,19920313,13,-66.9937,-152.548,3692,305.2,1.4432,34.7204,2,34.72,2,185.2,2,184.7,2,99.4,2,32.06,2,0.01,2,2.24,2,-999,9,-999,9,-999,9,2261,2,-999,9
  90KDIOFFE6_1,  S04P,743,1,16,16,2,19920313,13,-66.9937,-152.548,3692,400.2,1.3663,34.7239,2,34.725,2,184.4,2,184.7,2,103.21,2,31.67,2,0,2,2.24,2,-999,9,-999,9,-999,9,2261.8,2,-999,9
  90KDIOFFE6_1,  S04P,743,1,15,15,2,19920313,13,-66.9937,-152.548,3692,593.6,1.2134,34.725,2,34.725,2,190.2,2,187.7,2,109.57,2,31.77,2,0,2,2.24,2,-999,9,-999,9,-999,9,2255.1,2,-999,9
  90KDIOFFE6_1,  S04P,743,1,14,14,2,19920313,13,-66.9937,-152.548,3692,782.7,1.0815,34.7217,2,34.721,2,190.9,2,192.5,2,113.48,2,31.77,2,0,2,2.24,2,-999,9,-999,9,-999,9,2260,2,-999,9
  90KDIOFFE6_1,  S04P,743,1,13,13,2,19920313,13,-66.9937,-152.548,3692,977.7,0.9536,34.7158,2,34.716,2,198,2,196.8,2,116.99,2,31.57,2,0,2,2.24,2,-999,9,-999,9,-999,9,2259.2,2,-999,9
  90KDIOFFE6_1,  S04P,743,1,12,12,2,19920313,13,-66.9937,-152.548,3692,1173.2,0.8297,34.7115,2,34.711,2,200.5,2,200.3,2,120.12,2,31.57,2,0,2,2.24,2,0.007,2,0.001,3,-999,9,2261.7,2,-999,9
  90KDIOFFE6_1,  S04P,743,1,26,26,3,19920313,13,-66.9937,-152.548,3692,1349.6,0.7457,34.708,2,34.705,4,201.7,2,204.6,4,125.5,4,31.77,4,0,4,2.24,4,0.023,3,0.004,3,-999,9,-999,9,-999,9
  90KDIOFFE6_1,  S04P,743,1,10,10,2,19920313,13,-66.9937,-152.548,3692,1536.5,0.6548,34.7051,2,34.704,2,205,2,205.1,2,125.69,2,31.86,2,0,2,2.24,2,0.014,2,0,3,-999,9,2258.9,2,-999,9
  90KDIOFFE6_1,  S04P,743,1,27,27,2,19920313,13,-66.9937,-152.548,3692,1702,0.5909,34.703,2,34.703,2,207,2,206.8,2,126.96,2,31.67,2,0,2,2.25,2,0.021,6,0.005,3,-999,9,2261.7,2,-999,9
  90KDIOFFE6_1,  S04P,743,1,8,8,2,19920313,13,-66.9937,-152.548,3692,1887.3,0.4999,34.7019,2,34.701,2,208.9,2,208.6,2,128.14,2,31.47,2,0,2,2.25,2,0.021,2,0.003,3,-999,9,2264.7,2,-999,9
  90KDIOFFE6_1,  S04P,743,1,7,7,2,19920313,13,-66.9937,-152.548,3692,2199.5,0.443,34.7023,2,34.702,2,208.7,2,210.3,2,133.22,3,31.77,2,0,2,2.26,2,-0.001,2,-0.002,3,-999,9,2260.2,2,-999,9
  90KDIOFFE6_1,  S04P,743,1,6,6,2,19920313,13,-66.9937,-152.548,3692,2516.9,0.426,34.7033,2,34.703,2,210.3,2,210.7,2,134.2,3,31.86,2,0,2,2.27,2,0,2,-0.002,3,-999,9,2262.5,2,-999,9
  90KDIOFFE6_1,  S04P,743,1,5,5,2,19920313,13,-66.9937,-152.548,3692,2827.1,0.343,34.6994,2,34.7,2,213.6,2,213.3,2,132.15,2,32.06,2,0,2,2.26,2,0.051,2,0.017,3,-999,9,2262.7,2,-999,9
  90KDIOFFE6_1,  S04P,743,1,28,28,2,19920313,13,-66.9937,-152.548,3692,3128,0.2531,34.6995,2,34.699,2,217.4,2,216.4,2,131.46,2,31.96,2,0,2,2.26,2,0.119,2,0.04,3,-999,9,2260.8,2,-999,9
  90KDIOFFE6_1,  S04P,743,1,3,3,2,19920313,13,-66.9937,-152.548,3692,3444.2,0.1672,34.6977,2,34.698,2,221.4,2,221.2,2,125.6,2,31.86,2,0,2,2.25,2,0.3,2,0.116,3,-999,9,2259.3,2,-999,9
  90KDIOFFE6_1,  S04P,743,1,2,2,2,19920313,13,-66.9937,-152.548,3692,3655.7,0.1142,34.6981,2,34.697,2,224.7,2,224.2,2,119.93,2,31.86,2,0,2,2.24,2,0.464,2,0.185,3,-999,9,2258.3,2,-999,9
  90KDIOFFE6_1,  S04P,743,1,1,1,2,19920313,13,-66.9937,-152.548,3692,3812.6,0.0902,34.698,2,34.698,2,225.8,2,225.5,2,118.75,2,31.86,2,0,2,2.24,2,0.576,2,0.229,3,-999,9,2258.7,2,-999,9