BOTTLE,20181005JHS,,,,,,,,,,,,,,,,,,,,,,,,,,,,,,,,,,,,,,
EXPOCODE,SECT_ID,STNNBR,CASTNO,SAMPNO,BTLNBR,BTLNBR_FLAG_W,DATE,TIME,LATITUDE,LONGITUDE,DEPTH,CTDPRS,CTDTMP,CTDSAL,CTDSAL_FLAG_W,SALNTY,SALNTY_FLAG_W,CTDOXY,CTDOXY_FLAG_W,OXYGEN,OXYGEN_FLAG_W,SILCAT,SILCAT_FLAG_W,NITRAT,NITRAT_FLAG_W,NITRIT,NITRIT_FLAG_W,PHSPHT,PHSPHT_FLAG_W,CFC-11,CFC-11_FLAG_W,CFC-12,CFC-12_FLAG_W,SF6,SF6_FLAG_W,TCARBN,TCARBN_FLAG_W,ALKALI,ALKALI_FLAG_W
,,,,,,,,,,,,DBAR,ITS-90,PSS-78,,PSS-78,,UMOL/KG,,UMOL/KG,,UMOL/KG,,UMOL/KG,,UMOL/KG,,UMOL/KG,,PMOL/KG,,PMOL/KG,,FMOL/KG,,UMOL/KG,,UMOL/KG,
  90KDIOFFE6_1,  S04P,744,1,24,24,2,19920313,738,-66.967,-154.3278,4217,12.2,0.46,33.7799,2,33.779,2,338.1,2,339.1,2,54.67,2,25.23,2,0.22,2,1.8,2,6.346,2,2.807,3,-999,9,2156.7,2,-999,9
  90KDIOFFE6_1,  S04P,744,1,23,23,2,19920313,738,-66.967,-154.3278,4217,42.4,0.46,33.7802,2,33.779,2,316.5,2,338.7,2,54.87,2,25.33,2,0.22,2,1.8,2,6.251,2,2.774,3,-999,9,2158.2,2,-999,9
  90KDIOFFE6_1,  S04P,744,1,22,22,2,19920313,738,-66.967,-154.3278,4217,76.8,-1.4375,34.1752,2,34.184,2,301.6,2,300.3,2,61.31,2,27.67,2,0.08,2,1.98,2,4.483,2,1.947,3,-999,9,2197.3,2,-999,9
  90KDIOFFE6_1,  S04P,744,1,21,21,2,19920313,738,-66.967,-154.3278,4217,122.9,-0.1676,34.4004,2,34.394,2,250.3,2,243.8,2,75.38,2,30.5,2,0.06,2,2.16,2,2.707,2,1.152,3,-999,9,-999,9,-999,9
  90KDIOFFE6_1,  S04P,744,1,20,20,2,19920313,738,-66.967,-154.3278,4217,162.7,0.7747,34.5637,2,34.559,2,202.6,2,206.8,2,85.53,2,31.28,2,0.03,2,2.24,2,1.37,2,0.563,3,-999,9,-999,9,-999,9
  90KDIOFFE6_1,  S04P,744,1,19,19,2,19920313,738,-66.967,-154.3278,4217,203.4,1.3353,34.6709,2,34.67,2,187.6,2,187.7,2,92.66,2,31.67,2,0.01,2,2.26,2,0.496,6,0.191,3,-999,9,-999,9,-999,9
  90KDIOFFE6_1,  S04P,744,1,18,18,2,19920313,738,-66.967,-154.3278,4217,250.6,1.4672,34.7077,2,34.707,2,184.6,2,183.8,2,96.57,2,31.67,2,0.01,2,2.25,2,0.223,2,0.057,4,-999,9,-999,9,-999,9
  90KDIOFFE6_1,  S04P,744,1,17,17,2,19920313,738,-66.967,-154.3278,4217,298.8,1.4452,34.7193,2,34.719,2,185.4,2,184.2,2,99.3,2,31.67,2,0.01,2,2.24,2,0.144,2,0.048,3,-999,9,-999,9,-999,9
  90KDIOFFE6_1,  S04P,744,1,16,16,2,19920313,738,-66.967,-154.3278,4217,401,1.3663,34.7247,2,34.724,2,186.5,2,185.1,2,103.41,2,31.37,2,0,2,2.24,2,0.08,6,0.027,3,-999,9,-999,9,-999,9
  90KDIOFFE6_1,  S04P,744,1,15,15,2,19920313,738,-66.967,-154.3278,4217,498.4,1.3003,34.7265,2,34.726,2,188,2,186,2,106.24,2,31.67,2,0,2,2.24,2,0.05,2,0.013,3,-999,9,-999,9,-999,9
  90KDIOFFE6_1,  S04P,744,1,14,14,2,19920313,738,-66.967,-154.3278,4217,594.2,1.2344,34.7256,2,34.725,2,189.9,2,187.3,2,108.98,2,31.77,2,0,2,2.24,2,0.033,2,0.009,3,-999,9,-999,9,-999,9
  90KDIOFFE6_1,  S04P,744,1,13,13,2,19920313,738,-66.967,-154.3278,4217,781.1,1.1015,34.7222,2,34.722,2,193.6,2,192,2,112.6,2,31.47,2,0,2,2.23,2,0.065,4,0.02,4,-999,9,-999,9,-999,9
  90KDIOFFE6_1,  S04P,744,1,12,12,2,19920313,738,-66.967,-154.3278,4217,978.9,0.9806,34.7172,2,34.718,2,197.4,2,196,2,116.11,2,31.57,2,0,2,2.24,2,0.019,2,0.003,3,-999,9,-999,9,-999,9
  90KDIOFFE6_1,  S04P,744,1,26,26,3,19920313,738,-66.967,-154.3278,4217,1291.9,0.7997,34.7105,2,34.702,4,201.5,2,206.8,4,122.76,4,31.47,4,0,4,2.24,4,0.1,4,0.035,4,-999,9,-999,9,-999,9
  90KDIOFFE6_1,  S04P,744,1,10,10,2,19920313,738,-66.967,-154.3278,4217,1602.4,0.6708,34.7048,2,34.702,2,204.4,2,207.7,4,128.43,3,31.67,2,0,2,2.24,2,0.018,2,0.003,3,-999,9,-999,9,-999,9
  90KDIOFFE6_1,  S04P,744,1,27,27,2,19920313,738,-66.967,-154.3278,4217,1901.2,0.5609,34.7019,2,34.702,2,207.5,2,207.7,2,127.94,2,31.47,2,0,2,2.24,2,0.023,2,0.002,3,-999,9,-999,9,-999,9
  90KDIOFFE6_1,  S04P,744,1,8,8,3,19920313,738,-66.967,-154.3278,4217,2200.4,0.447,34.7013,2,34.699,4,210.9,2,215.1,4,126.87,4,31.47,4,0,4,2.24,4,0.123,4,0.041,4,-999,9,-999,9,-999,9
  90KDIOFFE6_1,  S04P,744,1,7,7,2,19920313,738,-66.967,-154.3278,4217,2557.1,0.34,34.6995,2,34.699,2,214.6,2,213.3,2,131.85,2,31.67,2,0,2,2.25,2,0.065,2,0.009,3,-999,9,-999,9,-999,9
  90KDIOFFE6_1,  S04P,744,1,6,6,2,19920313,738,-66.967,-154.3278,4217,2907.4,0.2541,34.6991,2,34.699,2,216.8,2,216.4,2,132.05,2,31.67,2,0,2,2.24,2,0.113,2,0.042,3,-999,9,-999,9,-999,9
  90KDIOFFE6_1,  S04P,744,1,5,5,2,19920313,738,-66.967,-154.3278,4217,3245.7,0.1742,34.6983,2,34.698,2,220.8,2,220.3,2,127.84,2,31.67,2,0,2,2.24,2,0.251,2,0.091,3,-999,9,-999,9,-999,9
  90KDIOFFE6_1,  S04P,744,1,28,28,2,19920313,738,-66.967,-154.3278,4217,3578.9,0.1042,34.6968,2,34.696,2,225.2,2,224.6,2,119.44,2,31.37,2,0,2,2.23,2,0.517,2,0.202,3,-999,9,-999,9,-999,9
  90KDIOFFE6_1,  S04P,744,1,3,3,2,19920313,738,-66.967,-154.3278,4217,3851.8,0.0982,34.6973,2,34.696,2,226.8,2,225.9,2,118.17,2,31.37,2,0,2,2.24,2,0.576,2,0.226,3,-999,9,-999,9,-999,9
  90KDIOFFE6_1,  S04P,744,1,2,2,2,19920313,738,-66.967,-154.3278,4217,4065.1,0.1142,34.6975,2,34.696,2,226.6,2,225.9,2,118.07,2,31.47,2,0,2,2.23,2,0.582,2,0.238,3,-999,9,-999,9,-999,9
  90KDIOFFE6_1,  S04P,744,1,1,1,2,19920313,738,-66.967,-154.3278,4217,4285.6,0.1362,34.6973,2,34.697,2,227,2,225.5,2,118.66,2,31.37,2,0,2,2.23,2,0.582,2,0.239,3,-999,9,-999,9,-999,9
  90KDIOFFE6_1,  S04P,745,1,24,24,2,19920313,1628,-67.026,-156.0837,3863,23.5,0.415,33.8418,2,33.841,2,337.1,2,339.1,2,59.59,2,25.85,2,0.18,2,1.81,2,-999,9,-999,9,-999,9,2161.9,2,-999,9
  90KDIOFFE6_1,  S04P,745,1,23,23,2,19920313,1628,-67.026,-156.0837,3863,53.1,0.2213,33.8747,2,33.9203,2,331.6,2,333.6,2,59.97,2,26.05,2,0.15,2,1.82,2,-999,9,-999,9,-999,9,2163.4,2,-999,9
  90KDIOFFE6_1,  S04P,745,1,22,22,2,19920313,1628,-67.026,-156.0837,3863,79.7,-1.3383,34.2352,2,34.2415,2,292.4,2,287.9,2,66.62,2,28.28,2,0.09,2,2.02,2,-999,9,-999,9,-999,9,2207.8,2,-999,9
  90KDIOFFE6_1,  S04P,745,1,21,21,2,19920313,1628,-67.026,-156.0837,3863,113.7,-0.4628,34.3902,2,34.368,2,252.9,2,254,2,73.88,2,29.83,2,0.19,2,2.14,2,-999,9,-999,9,-999,9,2221.4,2,-999,9
  90KDIOFFE6_1,  S04P,745,1,20,20,4,19920313,1628,-67.026,-156.0837,3863,186.6,1.0294,34.6289,2,34.6317,2,192.6,2,193.3,2,90.72,2,31.57,2,0.03,2,2.26,2,-999,9,-999,9,-999,9,2253.4,2,-999,9
  90KDIOFFE6_1,  S04P,745,1,19,19,2,19920313,1628,-67.026,-156.0837,3863,255.9,1.4149,34.7102,2,34.7102,2,182.3,2,183.2,2,98.66,2,31.58,2,0.01,2,2.26,2,-999,9,-999,9,-999,9,2260.3,2,-999,9
  90KDIOFFE6_1,  S04P,745,1,18,18,2,19920313,1628,-67.026,-156.0837,3863,356.9,1.3773,34.7237,2,34.7243,2,185.7,2,183.4,2,103.15,2,31.58,2,0.01,2,2.24,2,-999,9,-999,9,-999,9,2263.7,2,-999,9
  90KDIOFFE6_1,  S04P,745,1,17,17,2,19920313,1628,-67.026,-156.0837,3863,459,1.2892,34.7255,2,34.7253,2,185.9,2,185.3,2,106.62,2,31.43,2,0,2,2.24,2,-999,9,-999,9,-999,9,2264.7,2,-999,9
  90KDIOFFE6_1,  S04P,745,1,16,16,2,19920313,1628,-67.026,-156.0837,3863,607.5,1.1882,34.7237,2,34.7241,2,189.1,2,188.4,2,110.31,2,31.53,2,0,2,2.24,2,-999,9,-999,9,-999,9,2263.4,2,-999,9
  90KDIOFFE6_1,  S04P,745,1,15,15,2,19920313,1628,-67.026,-156.0837,3863,760.1,1.0798,34.7208,2,34.7211,2,193,2,192.8,2,112.98,2,31.32,2,0,2,2.23,2,-999,9,-999,9,-999,9,2257.8,2,-999,9
  90KDIOFFE6_1,  S04P,745,1,14,14,2,19920313,1628,-67.026,-156.0837,3863,910.1,0.9773,34.7175,2,34.717,2,194.2,2,196.1,2,115.65,2,31.42,2,0,2,2.23,2,0.019,2,-0.001,3,-999,9,2264,2,-999,9
  90KDIOFFE6_1,  S04P,745,1,13,13,2,19920313,1628,-67.026,-156.0837,3863,1111,0.8687,34.7136,2,34.7131,2,199.8,2,199.5,2,119.16,2,31.58,2,0,2,2.24,2,0.013,2,0.002,3,-999,9,2259.4,2,-999,9
  90KDIOFFE6_1,  S04P,745,1,12,12,2,19920313,1628,-67.026,-156.0837,3863,1314.3,0.7703,34.7095,2,34.7096,2,200.8,2,202.3,2,122.27,2,31.63,2,0,2,2.24,2,0.011,2,-0.001,3,-999,9,2261.9,2,-999,9
  90KDIOFFE6_1,  S04P,745,1,26,26,2,19920313,1628,-67.026,-156.0837,3863,1516.5,0.6815,34.7058,2,34.7056,2,204.5,2,204.5,2,124.96,2,31.57,2,0,2,2.24,2,0.019,2,0.004,3,-999,9,2263.2,2,-999,9
  90KDIOFFE6_1,  S04P,745,1,10,10,2,19920313,1628,-67.026,-156.0837,3863,1719.8,0.5997,34.7037,2,34.7029,2,206.5,2,206.6,2,126.83,2,31.41,2,0,2,2.24,2,-999,9,-999,9,-999,9,2261.9,2,-999,9
  90KDIOFFE6_1,  S04P,745,1,27,27,2,19920313,1628,-67.026,-156.0837,3863,1919.8,0.5184,34.6988,2,34.7007,2,208.8,2,208.4,2,128.07,2,31.51,2,0,2,2.24,2,0.035,2,0.004,3,-999,9,2262.9,2,-999,9
  90KDIOFFE6_1,  S04P,745,1,8,8,2,19920313,1628,-67.026,-156.0837,3863,2209.6,0.4169,34.7004,2,34.7001,2,212.3,2,210.7,2,129.98,2,31.78,2,0,2,2.25,2,-999,9,-999,9,-999,9,2263.4,2,-999,9
  90KDIOFFE6_1,  S04P,745,1,7,7,2,19920313,1628,-67.026,-156.0837,3863,2475.8,0.341,34.6998,2,34.7021,3,213.5,2,212.8,2,131.65,2,31.78,2,0,2,2.25,2,0.062,2,0.017,3,-999,9,2262.4,2,-999,9
  90KDIOFFE6_1,  S04P,745,1,6,6,2,19920313,1628,-67.026,-156.0837,3863,2732.1,0.2726,34.6988,2,34.699,2,216.5,2,215.1,2,131.8,2,31.76,2,0,2,2.25,2,0.115,2,0.033,3,-999,9,2259.4,2,-999,9
  90KDIOFFE6_1,  S04P,745,1,5,5,2,19920313,1628,-67.026,-156.0837,3863,2978,0.2053,34.6985,2,34.6984,2,217.8,2,217.9,2,129.88,2,31.6,2,0,2,2.24,2,0.204,2,0.069,3,-999,9,2260.2,2,-999,9
  90KDIOFFE6_1,  S04P,745,1,28,28,2,19920313,1628,-67.026,-156.0837,3863,3268.2,0.1251,34.6974,2,34.6966,2,223.3,2,222.3,2,122.52,2,31.55,2,0,2,2.24,2,0.443,2,0.168,3,-999,9,2258.3,2,-999,9
  90KDIOFFE6_1,  S04P,745,1,3,3,2,19920313,1628,-67.026,-156.0837,3863,3547.5,0.0891,34.6961,2,34.6966,2,224.8,2,225,2,118.33,2,31.49,2,0,2,2.24,2,0.636,2,0.247,3,-999,9,2259.5,2,-999,9
  90KDIOFFE6_1,  S04P,745,1,2,2,2,19920313,1628,-67.026,-156.0837,3863,3761.8,0.0933,34.6959,2,34.6962,2,225,2,225.5,2,117.69,2,31.38,2,0,2,2.23,2,0.67,2,0.264,3,-999,9,2257.2,2,-999,9
  90KDIOFFE6_1,  S04P,745,1,1,1,2,19920313,1628,-67.026,-156.0837,3863,3972.9,0.1068,34.6968,2,34.6962,2,224.7,2,225.4,2,118.08,2,31.48,2,0,2,2.24,2,0.662,2,0.253,3,-999,9,2259.3,2,-999,9
  90KDIOFFE6_1,  S04P,746,1,24,24,2,19920314,1835,-66.9537,-157.6938,3875,11.8,0.3502,33.8442,2,33.8464,2,340.1,2,339.2,2,60.9,2,25.68,2,0.19,2,1.79,2,6.421,2,2.831,3,-999,9,2150,2,-999,9
  90KDIOFFE6_1,  S04P,746,1,23,23,2,19920314,1835,-66.9537,-157.6938,3875,52.4,0.1959,33.8749,2,33.9029,2,336.4,2,334.3,2,61.89,2,26.09,2,0.17,2,1.82,2,6.183,2,2.697,3,-999,9,2168.7,2,-999,9
  90KDIOFFE6_1,  S04P,746,1,22,22,2,19920314,1835,-66.9537,-157.6938,3875,68.2,-1.4517,34.201,2,34.2234,2,302.9,2,296.9,2,68.12,2,28.41,2,0.11,2,2.02,2,4.466,2,1.933,3,-999,9,2204.6,2,-999,9
  90KDIOFFE6_1,  S04P,746,1,21,21,2,19920314,1835,-66.9537,-157.6938,3875,119.4,0.3895,34.5252,2,34.5301,2,214.2,2,214.2,2,87.32,2,31.74,2,0.05,2,2.24,2,1.654,2,0.716,3,-999,9,-999,9,-999,9
  90KDIOFFE6_1,  S04P,746,1,20,20,2,19920314,1835,-66.9537,-157.6938,3875,183.3,1.2832,34.6857,2,34.685,2,182.9,2,184,2,97.48,2,32.43,2,0.01,2,2.28,2,0.361,2,0.14,3,-999,9,-999,9,-999,9
  90KDIOFFE6_1,  S04P,746,1,19,19,2,19920314,1835,-66.9537,-157.6938,3875,245.8,1.3751,34.7168,2,34.7205,2,183.2,2,181.2,2,102.57,2,32.29,2,0.01,2,2.27,2,0.099,2,0.039,3,-999,9,-999,9,-999,9
  90KDIOFFE6_1,  S04P,746,1,18,18,2,19920314,1835,-66.9537,-157.6938,3875,303.1,1.3343,34.7221,2,34.7248,2,183.2,2,181.4,2,105.22,2,32.5,2,0.01,2,2.26,2,0.056,2,0.018,3,-999,9,-999,9,-999,9
  90KDIOFFE6_1,  S04P,746,1,17,17,2,19920314,1835,-66.9537,-157.6938,3875,403.3,1.2616,34.723,2,34.7256,2,183.9,2,184,2,108.28,2,32.42,2,0,2,2.26,2,0.028,2,0.009,3,-999,9,-999,9,-999,9
  90KDIOFFE6_1,  S04P,746,1,16,16,2,19920314,1835,-66.9537,-157.6938,3875,503,1.1879,34.7217,2,34.7246,2,184.7,2,185.9,2,111.15,2,32.4,2,0,2,2.25,2,0.023,2,0.006,3,-999,9,-999,9,-999,9
  90KDIOFFE6_1,  S04P,746,1,15,15,2,19920314,1835,-66.9537,-157.6938,3875,603,1.1288,34.7199,2,34.7226,2,189.7,2,188,2,113.2,2,32.43,2,0,2,2.25,2,0.017,2,0.006,3,-999,9,-999,9,-999,9
  90KDIOFFE6_1,  S04P,746,1,14,14,2,19920314,1835,-66.9537,-157.6938,3875,703.4,1.0473,34.7169,2,34.7205,2,191.2,2,191.4,2,115.25,2,32.35,2,0,2,2.25,2,0.01,6,0,3,-999,9,-999,9,-999,9
  90KDIOFFE6_1,  S04P,746,1,13,13,2,19920314,1835,-66.9537,-157.6938,3875,897,0.9359,34.7153,2,34.716,2,194.9,2,195.8,2,117.92,2,32.27,2,0,2,2.25,2,0.006,2,0,3,-999,9,-999,9,-999,9
  90KDIOFFE6_1,  S04P,746,1,12,12,2,19920314,1835,-66.9537,-157.6938,3875,1094.5,0.8358,34.7114,2,34.7122,2,199.4,2,199.3,2,121.23,2,32.19,2,0,2,2.25,2,0.004,2,-0.002,3,-999,9,-999,9,-999,9
  90KDIOFFE6_1,  S04P,746,1,26,26,2,19920314,1835,-66.9537,-157.6938,3875,1297.2,0.7412,34.7074,2,34.7085,2,201.4,2,202.1,2,123.93,2,32.22,2,0,2,2.25,2,0.007,2,-0.001,3,-999,9,-999,9,-999,9
  90KDIOFFE6_1,  S04P,746,1,10,10,2,19920314,1835,-66.9537,-157.6938,3875,1500.7,0.6541,34.7039,2,34.7055,2,203.5,2,204.5,2,126.63,2,32.42,2,0,2,2.25,2,0.008,2,0,3,-999,9,-999,9,-999,9
  90KDIOFFE6_1,  S04P,746,1,27,27,2,19920314,1835,-66.9537,-157.6938,3875,1748.3,0.5606,34.702,2,34.7014,3,205.4,2,206.8,2,128.08,2,32.28,2,0,2,2.25,2,0.014,2,0.001,3,-999,9,-999,9,-999,9
  90KDIOFFE6_1,  S04P,746,1,8,8,2,19920314,1835,-66.9537,-157.6938,3875,1989.9,0.4734,34.7006,2,34.701,2,208.2,2,209.1,2,129.74,2,32.37,3,0,2,2.25,2,0.013,2,0.004,3,-999,9,-999,9,-999,9
  90KDIOFFE6_1,  S04P,746,1,7,7,2,19920314,1835,-66.9537,-157.6938,3875,2222.2,0.3838,34.6994,2,34.7002,2,210.9,2,211.1,2,131.62,2,32.51,3,0,2,2.26,2,0.024,2,0.009,3,-999,9,-999,9,-999,9
  90KDIOFFE6_1,  S04P,746,1,6,6,2,19920314,1835,-66.9537,-157.6938,3875,2503.7,0.312,34.6989,2,34.7,2,212.9,2,213.3,2,132.65,2,32.43,3,0,2,2.26,2,0.049,2,0.013,3,-999,9,-999,9,-999,9
  90KDIOFFE6_1,  S04P,746,1,5,5,2,19920314,1835,-66.9537,-157.6938,3875,2771,0.243,34.698,2,34.6992,2,216.9,2,216,2,132.43,2,32.07,2,0,2,2.26,2,0.099,2,0.037,3,-999,9,-999,9,-999,9
  90KDIOFFE6_1,  S04P,746,1,28,28,2,19920314,1835,-66.9537,-157.6938,3875,3086.6,0.1572,34.6971,2,34.6974,2,220.5,2,219.8,2,127.78,2,32.1,2,0,2,2.25,2,0.242,2,0.071,3,-999,9,-999,9,-999,9
  90KDIOFFE6_1,  S04P,746,1,3,3,2,19920314,1835,-66.9537,-157.6938,3875,3395.8,0.0899,34.6961,2,34.6964,2,224.9,2,224.1,2,120.25,2,31.91,2,0,2,2.24,2,0.499,2,0.213,3,-999,9,-999,9,-999,9
  90KDIOFFE6_1,  S04P,746,1,2,2,2,19920314,1835,-66.9537,-157.6938,3875,3684,0.0902,34.6957,2,34.6962,2,226.2,2,225.1,2,119.41,2,31.94,2,0,2,2.24,2,0.573,6,0.247,3,-999,9,-999,9,-999,9
  90KDIOFFE6_1,  S04P,746,1,1,1,2,19920314,1835,-66.9537,-157.6938,3875,3907.1,0.1084,34.6955,2,34.6972,2,226,2,226.3,2,119.18,2,31.86,2,0,2,2.25,2,0.637,2,0.263,3,-999,9,-999,9,-999,9
  90KDIOFFE6_1,  S04P,747,1,24,24,2,19920315,455,-66.9843,-158.9793,3967,15.3,0.3095,33.8594,2,33.8593,2,338.3,2,338.9,2,62.44,2,25.93,2,0.19,2,1.84,2,-999,9,-999,9,-999,9,2154.2,2,-999,9
  90KDIOFFE6_1,  S04P,747,1,23,23,2,19920315,455,-66.9843,-158.9793,3967,44.5,0.3069,33.8605,2,33.8589,2,338.9,2,339.1,2,62.43,2,26.09,2,0.19,2,1.83,2,-999,9,-999,9,-999,9,2164.3,2,-999,9
  90KDIOFFE6_1,  S04P,747,1,22,22,2,19920315,455,-66.9843,-158.9793,3967,85,-1.4453,34.2402,2,34.2383,2,295.3,2,292.6,2,68.96,2,28.72,2,0.12,2,2.04,2,-999,9,-999,9,-999,9,2204.2,2,-999,9
  90KDIOFFE6_1,  S04P,747,1,21,21,2,19920315,455,-66.9843,-158.9793,3967,104.8,-0.8833,34.3363,2,34.3286,2,269.1,2,266.7,2,74.68,2,30.19,2,0.17,2,2.13,2,-999,9,-999,9,-999,9,2220.1,2,-999,9
  90KDIOFFE6_1,  S04P,747,1,20,20,2,19920315,455,-66.9843,-158.9793,3967,154.6,0.4855,34.5468,2,34.5436,2,215.1,2,212.3,2,88.01,2,31.84,2,0.03,2,2.25,2,-999,9,-999,9,-999,9,2246.6,2,-999,9
  90KDIOFFE6_1,  S04P,747,1,19,19,2,19920315,455,-66.9843,-158.9793,3967,206.4,1.2082,34.6724,2,34.6735,2,183.7,2,185.9,2,96.86,2,32.55,2,0.01,2,2.29,2,-999,9,-999,9,-999,9,2258.7,2,-999,9
  90KDIOFFE6_1,  S04P,747,1,18,18,2,19920315,455,-66.9843,-158.9793,3967,257.2,1.389,34.7157,2,34.7153,2,181.1,2,181.7,2,101.39,2,32.51,2,0.01,2,2.27,2,-999,9,-999,9,-999,9,2261.7,2,-999,9
  90KDIOFFE6_1,  S04P,747,1,17,17,2,19920315,455,-66.9843,-158.9793,3967,306.7,1.3621,34.7227,2,34.7219,2,183.6,2,182.1,2,104.08,2,32.44,2,0.01,2,2.27,2,0.072,2,0.027,3,-999,9,2263.6,2,-999,9
  90KDIOFFE6_1,  S04P,747,1,16,16,2,19920315,455,-66.9843,-158.9793,3967,407.2,1.2891,34.7249,2,34.7243,2,184.8,2,183.8,2,107.36,2,32.32,2,0,2,2.25,2,-999,9,-999,9,-999,9,2263.1,2,-999,9
  90KDIOFFE6_1,  S04P,747,1,15,15,2,19920315,455,-66.9843,-158.9793,3967,507.3,1.2234,34.7244,2,34.7237,2,186.6,2,185.5,2,109.84,2,32.61,2,0,2,2.29,2,0.026,2,0.006,3,-999,9,2258.5,2,-999,9
  90KDIOFFE6_1,  S04P,747,1,14,14,2,19920315,455,-66.9843,-158.9793,3967,607.9,1.1454,34.7225,2,34.7219,2,191.3,2,189.6,2,112.11,2,32.49,2,0,2,2.26,2,-999,9,-999,9,-999,9,2258.6,2,-999,9
  90KDIOFFE6_1,  S04P,747,1,13,13,2,19920315,455,-66.9843,-158.9793,3967,809,1.0098,34.7181,2,34.7178,2,193.3,2,193.3,2,116.47,2,32.47,2,0,2,2.26,2,0.007,2,0.002,3,-999,9,2260.4,2,-999,9
  90KDIOFFE6_1,  S04P,747,1,12,12,2,19920315,455,-66.9843,-158.9793,3967,1112.5,0.8354,34.7111,2,34.7106,2,198.6,2,199.9,2,120.87,2,32,2,0,2,2.24,2,-999,9,-999,9,-999,9,2257.8,2,-999,9
  90KDIOFFE6_1,  S04P,747,1,26,26,2,19920315,455,-66.9843,-158.9793,3967,1415.1,0.7002,34.7062,2,34.7053,2,203.6,2,203.8,2,125.26,2,32.08,2,0,2,2.25,2,0.009,2,0.001,3,-999,9,2259.8,2,-999,9
  90KDIOFFE6_1,  S04P,747,1,10,10,2,19920315,455,-66.9843,-158.9793,3967,1718.3,0.5811,34.7022,2,34.7021,2,205.9,2,206.4,2,127.76,2,32.54,3,0,2,2.26,2,-999,9,-999,9,-999,9,2258.4,2,-999,9
  90KDIOFFE6_1,  S04P,747,1,27,27,2,19920315,455,-66.9843,-158.9793,3967,2024.1,0.4584,34.7005,2,34.699,2,208.2,2,209.5,2,129.63,2,32.68,3,0,2,2.27,2,0.021,2,0.004,3,-999,9,2259.3,2,-999,9
  90KDIOFFE6_1,  S04P,747,1,8,8,2,19920315,455,-66.9843,-158.9793,3967,2328.5,0.3592,34.6994,2,34.6986,2,210.9,2,212.1,2,131.94,2,32.61,3,0,2,2.27,2,-999,9,-999,9,-999,9,2256.3,2,-999,9
  90KDIOFFE6_1,  S04P,747,1,7,7,2,19920315,455,-66.9843,-158.9793,3967,2636.5,0.2752,34.6985,2,34.6982,2,215,2,214.8,2,132.55,2,32.59,3,0,2,2.25,2,0.072,2,0.024,3,-999,9,2261.9,2,-999,9
  90KDIOFFE6_1,  S04P,747,1,6,6,2,19920315,455,-66.9843,-158.9793,3967,2938.3,0.1904,34.6972,2,34.6974,2,215.7,2,218.4,2,130.4,2,32.42,3,0,2,2.25,2,0.175,2,0.071,3,-999,9,2261.8,2,-999,9
  90KDIOFFE6_1,  S04P,747,1,5,5,2,19920315,455,-66.9843,-158.9793,3967,3244.8,0.1057,34.6959,2,34.696,2,223.6,2,223.3,2,122.56,2,32.29,3,0,2,2.25,2,0.402,2,0.174,3,-999,9,2257.7,2,-999,9
  90KDIOFFE6_1,  S04P,747,1,28,28,2,19920315,455,-66.9843,-158.9793,3967,3554.2,0.0852,34.6955,2,34.6952,2,225.2,2,224.8,2,119.59,2,32.07,2,0,2,2.25,2,0.576,6,0.246,3,-999,9,2250.7,2,-999,9
  90KDIOFFE6_1,  S04P,747,1,3,3,2,19920315,455,-66.9843,-158.9793,3967,3757,0.0972,34.6954,2,34.6945,2,225.8,2,225.2,2,118.94,2,32.05,2,0,2,2.24,2,0.615,2,0.26,3,-999,9,2256.1,2,-999,9
  90KDIOFFE6_1,  S04P,747,1,2,2,2,19920315,455,-66.9843,-158.9793,3967,3960.6,0.1161,34.6958,2,34.6954,2,226.1,2,225.1,2,119.33,2,32.24,3,0,2,2.25,2,0.59,2,0.255,3,-999,9,2255.7,2,-999,9
  90KDIOFFE6_1,  S04P,747,1,1,1,2,19920315,455,-66.9843,-158.9793,3967,4063.7,0.127,34.6959,2,34.696,2,225.7,2,224.8,2,119.3,2,31.86,2,0,2,2.24,2,0.604,2,0.259,3,-999,9,2258.2,2,-999,9