BOTTLE,20181005JHS,,,,,,,,,,,,,,,,,,,,,,,,,,,,,,,,,,,,,,
EXPOCODE,SECT_ID,STNNBR,CASTNO,SAMPNO,BTLNBR,BTLNBR_FLAG_W,DATE,TIME,LATITUDE,LONGITUDE,DEPTH,CTDPRS,CTDTMP,CTDSAL,CTDSAL_FLAG_W,SALNTY,SALNTY_FLAG_W,CTDOXY,CTDOXY_FLAG_W,OXYGEN,OXYGEN_FLAG_W,SILCAT,SILCAT_FLAG_W,NITRAT,NITRAT_FLAG_W,NITRIT,NITRIT_FLAG_W,PHSPHT,PHSPHT_FLAG_W,CFC-11,CFC-11_FLAG_W,CFC-12,CFC-12_FLAG_W,SF6,SF6_FLAG_W,TCARBN,TCARBN_FLAG_W,ALKALI,ALKALI_FLAG_W
,,,,,,,,,,,,DBAR,ITS-90,PSS-78,,PSS-78,,UMOL/KG,,UMOL/KG,,UMOL/KG,,UMOL/KG,,UMOL/KG,,UMOL/KG,,PMOL/KG,,PMOL/KG,,FMOL/KG,,UMOL/KG,,UMOL/KG,
  90KDIOFFE6_1,  S04P,704,1,24,24,2,19920229,107,-67.0047,-89.7873,4391,16.9,0.9426,33.7831,2,33.781,2,332.4,3,342.6,2,22.59,2,25.04,2,0.3,2,1.76,2,6.402,2,2.828,3,-999,9,2132.7,2,-999,9
  90KDIOFFE6_1,  S04P,704,1,23,23,2,19920229,107,-67.0047,-89.7873,4391,57.7,0.6388,33.8085,2,33.799,2,340.9,3,343.5,2,23.67,2,25.23,2,0.29,2,1.79,2,6.457,2,2.833,3,-999,9,2135.5,2,-999,9
  90KDIOFFE6_1,  S04P,704,1,22,22,2,19920229,107,-67.0047,-89.7873,4391,116.9,-0.4673,33.9639,2,33.96,2,340,2,339.5,2,34.91,2,28.07,2,0.19,2,1.98,2,6.41,2,2.873,3,-999,9,2158.5,2,-999,9
  90KDIOFFE6_1,  S04P,704,1,21,21,2,19920229,107,-67.0047,-89.7873,4391,157.3,-0.3544,34.0069,2,34.006,2,327,2,332.1,2,37.45,2,28.95,2,0.03,2,2.01,2,5.954,2,2.677,3,-999,9,2163.8,2,-999,9
  90KDIOFFE6_1,  S04P,704,1,20,20,3,19920229,107,-67.0047,-89.7873,4391,208.8,-0.4593,34.0557,2,34.291,4,301.1,2,214.3,4,61.69,4,32.07,4,0.01,4,2.23,4,0.705,4,0.291,4,-999,9,-999,9,-999,9
  90KDIOFFE6_1,  S04P,704,1,19,19,2,19920229,107,-67.0047,-89.7873,4391,307.3,1.4502,34.3321,2,34.332,2,223.8,2,229.5,2,62.08,2,33.34,2,0.01,2,2.33,2,2.392,2,1.041,3,-999,9,2219.4,2,-999,9
  90KDIOFFE6_1,  S04P,704,1,18,18,2,19920229,107,-67.0047,-89.7873,4391,404.6,1.825,34.4627,2,34.464,2,194.5,2,197.3,2,72.05,2,34.02,2,0.01,2,2.38,2,1.269,2,0.536,3,-999,9,2239.7,2,-999,9
  90KDIOFFE6_1,  S04P,704,1,17,17,2,19920229,107,-67.0047,-89.7873,4391,489.9,1.9319,34.5378,2,34.538,2,182.9,2,185.6,2,76.74,2,33.92,2,0.01,2,2.37,2,0.831,2,0.347,3,-999,9,2247,2,-999,9
  90KDIOFFE6_1,  S04P,704,1,16,16,2,19920229,107,-67.0047,-89.7873,4391,602.4,2.0368,34.6033,2,34.606,2,181.8,2,179.9,2,80.45,2,33.23,2,0.01,2,2.33,2,0.451,2,0.179,3,-999,9,2250.8,2,-999,9
  90KDIOFFE6_1,  S04P,704,1,15,15,2,19920229,107,-67.0047,-89.7873,4391,803.4,2.0168,34.6653,2,34.665,2,181.5,2,182.9,2,84.74,2,32.35,2,0.01,2,2.26,2,0.282,2,0.125,3,-999,9,2251.9,2,-999,9
  90KDIOFFE6_1,  S04P,704,1,14,14,2,19920229,107,-67.0047,-89.7873,4391,1004.7,1.9479,34.7045,2,34.703,2,184.6,2,182.5,2,88.16,2,31.67,2,0,2,2.21,2,0.104,2,0.034,3,-999,9,2249.9,2,-999,9
  90KDIOFFE6_1,  S04P,704,1,13,13,2,19920229,107,-67.0047,-89.7873,4391,1205,1.815,34.723,2,34.722,2,190.8,2,187.7,2,92.56,2,31.18,2,0,2,2.18,2,0.059,6,0.016,3,-999,9,-999,9,-999,9
  90KDIOFFE6_1,  S04P,704,1,12,12,2,19920229,107,-67.0047,-89.7873,4391,1405.7,1.6601,34.729,2,34.729,2,193.7,2,191.6,2,96.86,2,31.08,2,0.01,2,2.18,2,0.046,2,0.016,3,-999,9,-999,9,-999,9
  90KDIOFFE6_1,  S04P,704,1,11,11,2,19920229,107,-67.0047,-89.7873,4391,1605.5,1.4922,34.7284,2,34.728,2,194.8,2,194.7,2,102.33,2,31.18,2,0,2,2.18,2,0.031,2,0.006,3,-999,9,-999,9,-999,9
  90KDIOFFE6_1,  S04P,704,1,10,10,2,19920229,107,-67.0047,-89.7873,4391,1804.5,1.3483,34.7257,2,34.725,2,196.6,2,196.4,2,106.93,2,31.28,2,0,2,2.18,2,0.022,2,0.009,3,-999,9,-999,9,-999,9
  90KDIOFFE6_1,  S04P,704,1,9,9,2,19920229,107,-67.0047,-89.7873,4391,2013.8,1.2154,34.7222,2,34.719,2,195.6,2,199.4,2,110.54,2,31.37,2,0,2,2.19,2,0.025,2,0.004,3,-999,9,-999,9,-999,9
  90KDIOFFE6_1,  S04P,704,1,8,8,2,19920229,107,-67.0047,-89.7873,4391,2319.3,1.0475,34.7164,2,34.717,2,200.4,2,201.6,2,116.51,2,31.67,2,0,2,2.2,2,0.015,3,0.005,3,-999,9,-999,9,-999,9
  90KDIOFFE6_1,  S04P,704,1,1,1,2,19920229,107,-67.0047,-89.7873,4391,2618.4,0.8986,34.7113,2,34.716,4,204.8,2,204.6,2,121.78,2,31.86,2,0,2,2.22,2,0.022,6,0.004,3,-999,9,-999,9,-999,9
  90KDIOFFE6_1,  S04P,704,1,6,6,2,19920229,107,-67.0047,-89.7873,4391,2903.7,0.7757,34.7064,2,34.706,2,204.7,2,207.3,2,125.79,2,32.06,2,0,2,2.22,2,0.019,2,0.005,3,-999,9,-999,9,-999,9
  90KDIOFFE6_1,  S04P,704,1,5,5,2,19920229,107,-67.0047,-89.7873,4391,3185.2,0.6538,34.7036,2,34.703,2,207.6,2,209.9,2,128.82,2,32.06,2,0,2,2.23,2,0.019,2,0.005,3,-999,9,-999,9,-999,9
  90KDIOFFE6_1,  S04P,704,1,4,4,2,19920229,107,-67.0047,-89.7873,4391,3472.9,0.5319,34.7019,2,34.702,2,210.7,2,212,2,131.95,2,32.16,2,0,2,2.24,2,0.021,2,0.007,3,-999,9,-999,9,-999,9
  90KDIOFFE6_1,  S04P,704,1,3,3,2,19920229,107,-67.0047,-89.7873,4391,3769.3,0.451,34.7014,2,34.701,2,211.7,2,213.8,2,135.47,2,32.25,2,0,2,2.24,2,0.025,3,0.005,3,-999,9,-999,9,-999,9
  90KDIOFFE6_1,  S04P,704,1,2,2,2,19920229,107,-67.0047,-89.7873,4391,4183.8,0.387,34.7,2,34.703,3,216.2,2,215.9,2,139.48,2,32.35,2,0,2,2.26,2,0.018,2,0.007,3,-999,9,-999,9,-999,9
  90KDIOFFE6_1,  S04P,704,1,7,7,2,19920229,107,-67.0047,-89.7873,4391,4463.4,0.349,34.7002,2,34.701,2,217.7,2,216.4,2,146.02,2,32.55,2,0,2,2.26,2,0.045,2,0.014,3,-999,9,-999,9,-999,9
  90KDIOFFE6_1,  S04P,705,1,24,24,4,19920229,806,-67.0263,-91.4862,4636,63.5,0.6268,33.813,2,33.8132,2,334.1,3,345.7,2,28.27,2,25.72,2,0.26,2,1.8,2,-999,9,-999,9,-999,9,2139.6,2,-999,9
  90KDIOFFE6_1,  S04P,705,1,23,23,4,19920229,806,-67.0263,-91.4862,4636,106,-0.5613,33.963,2,33.9559,2,350.6,2,341.3,2,35.99,2,27.97,2,0.2,2,1.98,2,-999,9,-999,9,-999,9,2160.5,2,-999,9
  90KDIOFFE6_1,  S04P,705,1,22,22,4,19920229,806,-67.0263,-91.4862,4636,175.2,0.0832,34.0697,2,34.0704,2,313.2,2,313.9,2,41.56,2,29.82,2,0,2,2.07,2,-999,9,-999,9,-999,9,-999,9,-999,9
  90KDIOFFE6_1,  S04P,705,1,21,21,4,19920229,806,-67.0263,-91.4862,4636,235.2,0.7098,34.2096,2,34.2113,2,253.4,2,268.6,2,54.17,2,31.78,2,0,2,2.22,2,-999,9,-999,9,-999,9,-999,9,-999,9
  90KDIOFFE6_1,  S04P,705,1,20,20,3,19920229,806,-67.0263,-91.4862,4636,305.2,1.4742,34.3528,2,34.5836,4,204.6,2,186.9,4,82.79,4,32.94,4,0,4,2.3,4,-999,9,-999,9,-999,9,-999,9,-999,9
  90KDIOFFE6_1,  S04P,705,1,19,19,4,19920229,806,-67.0263,-91.4862,4636,404.2,1.8859,34.4618,2,34.4619,2,193.1,2,195.6,2,71.56,2,34.12,2,0,2,2.37,2,-999,9,-999,9,-999,9,-999,9,-999,9
  90KDIOFFE6_1,  S04P,705,1,18,18,3,19920229,806,-67.0263,-91.4862,4636,504.7,1.9869,34.5422,2,34.6578,4,180.5,2,182.5,4,86.21,4,32.35,4,0,4,2.26,4,-999,9,-999,9,-999,9,-999,9,-999,9
  90KDIOFFE6_1,  S04P,705,1,17,17,4,19920229,806,-67.0263,-91.4862,4636,605.6,2.0548,34.5933,2,34.5934,2,175.9,2,179.5,2,79.96,2,33.53,2,0,2,2.34,2,-999,9,-999,9,-999,9,-999,9,-999,9
  90KDIOFFE6_1,  S04P,705,1,16,16,4,19920229,806,-67.0263,-91.4862,4636,803.8,2.0078,34.6586,2,34.6589,2,180.3,2,179.5,2,84.25,2,32.65,2,0,2,2.28,2,-999,9,-999,9,-999,9,-999,9,-999,9
  90KDIOFFE6_1,  S04P,705,1,15,15,4,19920229,806,-67.0263,-91.4862,4636,997.6,1.9569,34.701,2,34.7005,2,180.9,2,182.5,2,87.77,2,31.77,2,0,2,2.21,2,-999,9,-999,9,-999,9,-999,9,-999,9
  90KDIOFFE6_1,  S04P,705,1,14,14,4,19920229,806,-67.0263,-91.4862,4636,1239.3,1.798,34.7245,2,34.7243,2,188.1,2,188.6,2,92.95,2,31.18,2,0,2,2.19,2,-999,9,-999,9,-999,9,-999,9,-999,9
  90KDIOFFE6_1,  S04P,705,1,13,13,4,19920229,806,-67.0263,-91.4862,4636,1490.1,1.6271,34.7294,2,34.7294,2,192.1,2,192.1,2,98.13,2,31.08,2,0,2,2.18,2,-999,9,-999,9,-999,9,-999,9,-999,9
  90KDIOFFE6_1,  S04P,705,1,12,12,4,19920229,806,-67.0263,-91.4862,4636,1746.6,1.4382,34.7279,2,34.7294,2,192.8,2,-999,9,104.48,2,31.18,2,0,2,2.17,2,-999,9,-999,9,-999,9,-999,9,-999,9
  90KDIOFFE6_1,  S04P,705,1,11,11,4,19920229,806,-67.0263,-91.4862,4636,1998.8,1.2684,34.7237,2,34.7237,2,198.9,2,-999,9,109.47,2,31.37,2,0,2,2.19,2,-999,9,-999,9,-999,9,-999,9,-999,9
  90KDIOFFE6_1,  S04P,705,1,10,10,4,19920229,806,-67.0263,-91.4862,4636,2301,1.0965,34.7176,2,34.7178,2,201,2,201.2,2,-999,9,-999,9,-999,9,-999,9,-999,9,-999,9,-999,9,-999,9,-999,9
  90KDIOFFE6_1,  S04P,705,1,8,8,4,19920229,806,-67.0263,-91.4862,4636,2915.5,0.8017,34.7079,2,34.707,2,206.5,2,-999,9,125.3,2,31.77,2,0,2,2.23,2,-999,9,-999,9,-999,9,-999,9,-999,9
  90KDIOFFE6_1,  S04P,705,1,1,1,4,19920229,806,-67.0263,-91.4862,4636,3213.1,0.6758,34.7034,2,34.7041,2,209,2,209.4,2,128.53,2,31.96,2,0,2,2.24,2,-999,9,-999,9,-999,9,-999,9,-999,9
  90KDIOFFE6_1,  S04P,705,1,6,6,4,19920229,806,-67.0263,-91.4862,4636,3500.2,0.5609,34.7023,2,34.7031,2,211.8,2,211.6,2,131.27,2,32.06,2,0,2,2.24,2,0.019,2,0.005,3,-999,9,-999,9,-999,9
  90KDIOFFE6_1,  S04P,705,1,5,5,4,19920229,806,-67.0263,-91.4862,4636,3942.4,0.427,34.7013,2,34.7011,2,215,2,214.6,2,135.47,2,32.16,2,0,2,2.26,2,0.019,2,0.007,3,-999,9,-999,9,-999,9
  90KDIOFFE6_1,  S04P,705,1,4,4,4,19920229,806,-67.0263,-91.4862,4636,4189.9,0.394,34.6999,2,34.7,2,216.5,2,215.9,2,138.11,2,32.16,2,0,2,2.26,2,0.022,2,0.005,3,-999,9,-999,9,-999,9
  90KDIOFFE6_1,  S04P,705,1,3,3,4,19920229,806,-67.0263,-91.4862,4636,4376.4,0.383,34.7002,2,34.7005,2,216.6,2,216.4,2,139.96,2,32.25,2,0,2,2.26,2,0.038,2,0.009,3,-999,9,-999,9,-999,9
  90KDIOFFE6_1,  S04P,705,1,2,2,4,19920229,806,-67.0263,-91.4862,4636,4719.6,0.363,34.7007,2,34.7007,2,217.5,2,216.8,2,146.9,2,32.45,2,0,2,2.27,2,0.054,6,0.016,3,-999,9,-999,9,-999,9
  90KDIOFFE6_1,  S04P,705,1,7,7,4,19920229,806,-67.0263,-91.4862,4636,4720.3,0.363,34.7004,2,34.7009,2,217.5,2,216.4,2,146.71,2,32.35,2,0,2,2.28,2,0.054,2,0.024,3,-999,9,-999,9,-999,9
  90KDIOFFE6_1,  S04P,706,1,24,24,2,19920229,1559,-67.0358,-93.2105,4613,13.8,0.6788,33.792,2,33.79,2,344.2,2,345.2,2,28.17,2,25.63,2,0.27,2,1.78,2,6.274,2,2.829,3,-999,9,2140.7,2,-999,9
  90KDIOFFE6_1,  S04P,706,1,23,23,2,19920229,1559,-67.0358,-93.2105,4613,59.8,0.6478,33.7961,2,33.796,2,343.8,2,344.8,2,28.07,2,25.72,2,0.26,2,1.8,2,6.33,2,2.864,3,-999,9,2141.9,2,-999,9
  90KDIOFFE6_1,  S04P,706,1,22,22,2,19920229,1559,-67.0358,-93.2105,4613,114.5,-0.4334,33.9836,2,33.98,2,338,2,336.5,2,36.09,2,28.56,2,0.18,2,2,2,6.164,2,2.794,3,-999,9,2164.6,2,-999,9
  90KDIOFFE6_1,  S04P,706,1,21,21,2,19920229,1559,-67.0358,-93.2105,4613,163.4,-0.1965,34.0653,2,34.056,2,317,2,317.3,2,42.93,2,29.73,2,0.01,2,2.08,2,5.455,2,2.445,3,-999,9,2180.1,2,-999,9
  90KDIOFFE6_1,  S04P,706,1,20,20,2,19920229,1559,-67.0358,-93.2105,4613,213.5,0.5499,34.2016,2,34.203,2,289.2,2,271.2,2,54.36,2,31.97,2,0.01,2,2.22,2,3.802,2,1.694,3,-999,9,2202.8,2,-999,9
  90KDIOFFE6_1,  S04P,706,1,19,19,2,19920229,1559,-67.0358,-93.2105,4613,265.5,1.3633,34.3241,2,34.327,2,231.6,2,232.1,2,62.38,2,33.14,2,0.01,2,2.33,2,2.445,2,1.084,3,-999,9,2223.7,2,-999,9
  90KDIOFFE6_1,  S04P,706,1,18,18,2,19920229,1559,-67.0358,-93.2105,4613,366,1.769,34.4449,2,34.447,2,194.8,2,200.8,2,71.27,2,33.92,2,0.01,2,2.39,2,1.412,2,0.603,3,-999,9,2231.4,2,-999,9
  90KDIOFFE6_1,  S04P,706,1,17,17,2,19920229,1559,-67.0358,-93.2105,4613,454.4,1.9059,34.5246,2,34.522,2,180.9,2,187.7,2,76.44,2,33.92,2,0.01,2,2.38,2,0.915,2,0.385,3,-999,9,-999,9,-999,9
  90KDIOFFE6_1,  S04P,706,1,16,16,2,19920229,1559,-67.0358,-93.2105,4613,546.8,1.9749,34.583,2,34.581,2,181.3,2,181.7,2,79.86,2,33.63,2,0.01,2,2.35,2,0.576,2,0.234,3,-999,9,2245.1,2,-999,9
  90KDIOFFE6_1,  S04P,706,1,15,15,2,19920229,1559,-67.0358,-93.2105,4613,700.4,1.9969,34.6475,2,34.647,2,177.4,2,179.5,2,83.77,2,32.84,2,0.01,2,2.3,2,0.319,2,0.126,3,-999,9,2236.4,2,-999,9
  90KDIOFFE6_1,  S04P,706,1,14,14,2,19920229,1559,-67.0358,-93.2105,4613,905.1,1.9529,34.6968,2,34.698,2,182.3,2,182.1,2,87.67,2,31.96,2,0.01,2,2.24,2,0.136,2,0.049,3,-999,9,2249.6,2,-999,9
  90KDIOFFE6_1,  S04P,706,1,13,13,2,19920229,1559,-67.0358,-93.2105,4613,1101.8,1.849,34.7187,2,34.719,2,188.5,2,186.8,2,91.58,2,31.37,2,0.01,2,2.2,2,0.074,6,0.023,3,-999,9,-999,9,-999,9
  90KDIOFFE6_1,  S04P,706,1,12,12,2,19920229,1559,-67.0358,-93.2105,4613,1397.7,1.6261,34.7289,2,34.729,2,192.7,2,192.5,2,98.03,2,31.08,2,0.01,2,2.19,2,0.047,2,0.01,3,-999,9,-999,9,-999,9
  90KDIOFFE6_1,  S04P,706,1,26,26,2,19920229,1559,-67.0358,-93.2105,4613,1693.8,1.4123,34.7282,2,34.726,2,194.5,2,195.5,2,104.58,2,31.28,2,0.01,2,2.19,2,0.038,2,0.011,3,-999,9,-999,9,-999,9
  90KDIOFFE6_1,  S04P,706,1,10,10,2,19920229,1559,-67.0358,-93.2105,4613,1990.7,1.2314,34.7228,2,34.722,2,198.4,2,198.6,2,110.74,2,31.37,2,0.01,2,2.2,2,0.024,2,0.007,3,-999,9,-999,9,-999,9
  90KDIOFFE6_1,  S04P,706,1,25,25,2,19920229,1559,-67.0358,-93.2105,4613,2292,1.0545,34.7161,2,34.714,2,201.9,2,202,2,116.41,2,31.57,2,0.01,2,2.22,2,0.024,2,-0.001,4,-999,9,-999,9,-999,9
  90KDIOFFE6_1,  S04P,706,1,7,7,2,19920229,1559,-67.0358,-93.2105,4613,2894.2,0.7887,34.7069,2,34.706,2,206.6,2,206.8,2,126.18,2,31.96,2,0.01,2,2.24,2,0.017,2,0.002,4,-999,9,-999,9,-999,9
  90KDIOFFE6_1,  S04P,706,1,8,8,4,19920229,1559,-67.0358,-93.2105,4613,2894.2,0.7887,34.7069,2,34.707,2,206.6,2,207.7,2,126.38,2,31.86,2,0.01,2,2.24,2,0.018,2,0.007,3,-999,9,-999,9,-999,9
  90KDIOFFE6_1,  S04P,706,1,6,6,2,19920229,1559,-67.0358,-93.2105,4613,3199.1,0.6698,34.7038,2,34.704,2,206.5,2,209.4,2,128.63,2,32.06,2,0.01,2,2.24,2,0.02,2,0.007,3,-999,9,-999,9,-999,9
  90KDIOFFE6_1,  S04P,706,1,5,5,2,19920229,1559,-67.0358,-93.2105,4613,3604.5,0.5119,34.7017,2,34.7,2,213.4,2,212.5,2,133.32,2,32.16,2,0,2,2.26,2,0.02,2,0.004,3,-999,9,-999,9,-999,9
  90KDIOFFE6_1,  S04P,706,1,4,4,2,19920229,1559,-67.0358,-93.2105,4613,3982,0.421,34.7017,2,34.701,2,214.8,2,214.6,2,136.84,2,32.35,2,0,2,2.26,2,0.019,2,0.009,3,-999,9,-999,9,-999,9
  90KDIOFFE6_1,  S04P,706,1,3,3,2,19920229,1559,-67.0358,-93.2105,4613,4441.9,0.367,34.6999,2,34.7,2,219.2,2,217.2,2,140.45,2,32.35,2,0,2,2.27,2,0.042,2,0.015,3,-999,9,-999,9,-999,9
  90KDIOFFE6_1,  S04P,706,1,2,2,2,19920229,1559,-67.0358,-93.2105,4613,4625.4,0.365,34.6997,2,34.7,2,217,2,217.2,2,144.07,2,32.35,2,0,2,2.27,2,0.04,2,0.016,3,-999,9,-999,9,-999,9
  90KDIOFFE6_1,  S04P,706,1,1,1,2,19920229,1559,-67.0358,-93.2105,4613,4719.4,0.367,34.7002,2,34.701,2,218.3,2,216.4,2,145.63,2,32.45,2,0,2,2.28,2,0.052,2,0.017,3,-999,9,-999,9,-999,9
  90KDIOFFE6_1,  S04P,707,1,24,24,2,19920301,518,-66.9927,-94.9193,4589,15.6,0.6448,33.784,2,33.7817,2,343.2,2,344,2,28.53,2,25.52,2,0.26,2,1.77,2,-999,9,-999,9,-999,9,2143.4,2,-999,9
  90KDIOFFE6_1,  S04P,707,1,23,23,2,19920301,518,-66.9927,-94.9193,4589,67.7,0.6418,33.7928,2,33.7909,2,343.6,2,344.4,2,27.76,2,25.52,2,0.26,2,1.78,2,-999,9,-999,9,-999,9,2141.9,2,-999,9
  90KDIOFFE6_1,  S04P,707,1,22,22,2,19920301,518,-66.9927,-94.9193,4589,136.7,-0.4813,34.005,2,34.0066,2,325.2,2,329.8,2,40.83,2,28.87,2,0.09,2,2.02,2,-999,9,-999,9,-999,9,2168.9,2,-999,9
  90KDIOFFE6_1,  S04P,707,1,21,21,2,19920301,518,-66.9927,-94.9193,4589,177.6,-0.6072,34.0743,2,34.0709,2,299,2,314.1,2,48.53,2,29.92,2,0.03,2,2.09,2,-999,9,-999,9,-999,9,2187.4,2,-999,9
  90KDIOFFE6_1,  S04P,707,1,20,20,2,19920301,518,-66.9927,-94.9193,4589,225.3,0.9286,34.2688,2,34.2655,2,248.7,2,251.7,2,58.34,2,32.5,2,0,2,2.26,2,-999,9,-999,9,-999,9,2214.3,2,-999,9
  90KDIOFFE6_1,  S04P,707,1,19,19,2,19920301,518,-66.9927,-94.9193,4589,305.1,1.741,34.4256,2,34.4208,2,206.9,2,206.2,2,68.93,2,33.78,2,0,2,2.35,2,-999,9,-999,9,-999,9,2238.2,2,-999,9
  90KDIOFFE6_1,  S04P,707,1,18,18,2,19920301,518,-66.9927,-94.9193,4589,406.2,1.8979,34.5253,2,34.5249,2,188,2,187.7,2,76.45,2,33.77,2,0,2,2.35,2,-999,9,-999,9,-999,9,2249.1,2,-999,9
  90KDIOFFE6_1,  S04P,707,1,17,17,2,19920301,518,-66.9927,-94.9193,4589,506.8,1.9299,34.583,2,34.583,2,181.3,2,182.5,2,80.11,2,33.3,2,0,2,2.33,2,-999,9,-999,9,-999,9,2253.8,2,-999,9
  90KDIOFFE6_1,  S04P,707,1,16,16,2,19920301,518,-66.9927,-94.9193,4589,607.6,2.0198,34.6326,2,34.6332,2,181.9,2,179.2,2,82.61,2,32.84,2,0,2,2.3,2,-999,9,-999,9,-999,9,2253.7,2,-999,9
  90KDIOFFE6_1,  S04P,707,1,15,15,2,19920301,518,-66.9927,-94.9193,4589,707.3,1.9599,34.6615,2,34.661,2,179.5,2,178.8,2,85.12,2,32.56,2,0,2,2.27,2,-999,9,-999,9,-999,9,2255.4,2,-999,9
  90KDIOFFE6_1,  S04P,707,1,14,14,2,19920301,518,-66.9927,-94.9193,4589,807.3,1.9699,34.688,2,34.6865,2,181.2,2,180.8,2,86.66,2,32.05,2,0,2,2.24,2,-999,9,-999,9,-999,9,2253.8,2,-999,9
  90KDIOFFE6_1,  S04P,707,1,13,13,2,19920301,518,-66.9927,-94.9193,4589,1009.5,1.8679,34.7152,2,34.6865,4,181.4,2,184.9,2,90.53,2,31.45,2,0,2,2.19,2,-999,9,-999,9,-999,9,-999,9,-999,9
  90KDIOFFE6_1,  S04P,707,1,12,12,2,19920301,518,-66.9927,-94.9193,4589,1263.2,1.6921,34.7283,2,34.7283,2,189.7,2,190.4,2,95.77,2,31.12,2,0,2,2.18,2,-999,9,-999,9,-999,9,2252.8,2,-999,9
  90KDIOFFE6_1,  S04P,707,1,26,26,2,19920301,518,-66.9927,-94.9193,4589,1511.7,1.5102,34.7289,2,34.7295,2,192.6,2,193.6,2,101.04,2,31.12,2,0,2,2.17,2,-999,9,-999,9,-999,9,2255.8,2,-999,9
  90KDIOFFE6_1,  S04P,707,1,10,10,2,19920301,518,-66.9927,-94.9193,4589,1809.9,1.3123,34.7257,2,34.7285,2,197.1,2,196.7,2,107.7,2,31.3,2,0,2,2.19,2,-999,9,-999,9,-999,9,2260.4,2,-999,9
  90KDIOFFE6_1,  S04P,707,1,25,25,3,19920301,518,-66.9927,-94.9193,4589,2161.3,1.1025,34.7191,2,34.721,4,200.6,2,189.1,4,96.51,4,31.34,4,0,4,2.18,4,-999,9,-999,9,-999,9,-999,9,-999,9
  90KDIOFFE6_1,  S04P,707,1,8,8,2,19920301,518,-66.9927,-94.9193,4589,2571.4,0.9066,34.7104,2,34.7114,2,205.5,2,204.4,2,121.15,2,31.65,2,0,2,2.21,2,-999,9,-999,9,-999,9,2261.3,2,-999,9
  90KDIOFFE6_1,  S04P,707,1,7,7,2,19920301,518,-66.9927,-94.9193,4589,2923.9,0.7567,34.7048,2,34.7057,2,206.7,2,207.5,2,126.14,2,31.92,2,0,2,2.22,2,-999,9,-999,9,-999,9,2263,2,-999,9
  90KDIOFFE6_1,  S04P,707,1,6,6,2,19920301,518,-66.9927,-94.9193,4589,3231.1,0.6438,34.7032,2,34.7039,2,210.8,2,209.7,2,128.74,2,32.05,2,0,2,2.22,2,0.021,2,0.005,3,-999,9,2260.2,2,-999,9
  90KDIOFFE6_1,  S04P,707,1,5,5,2,19920301,518,-66.9927,-94.9193,4589,3585.4,0.5109,34.7014,2,34.7022,2,211.5,2,212.4,2,132.57,2,32.09,2,0,2,2.23,2,0.018,2,0.004,3,-999,9,2262.3,2,-999,9
  90KDIOFFE6_1,  S04P,707,1,4,4,2,19920301,518,-66.9927,-94.9193,4589,3939.9,0.428,34.7,2,34.7012,2,216,2,214.2,2,136.42,2,32.22,2,0,2,2.24,2,0.02,6,0.004,3,-999,9,2263.4,2,-999,9
  90KDIOFFE6_1,  S04P,707,1,3,3,2,19920301,518,-66.9927,-94.9193,4589,4295.5,0.378,34.701,2,34.701,2,212.5,2,216,2,139.27,2,32.17,2,0,2,2.24,2,0.036,2,0.007,3,-999,9,2263.3,2,-999,9
  90KDIOFFE6_1,  S04P,707,1,2,2,2,19920301,518,-66.9927,-94.9193,4589,4635.8,0.364,34.7002,2,34.7031,3,217.6,2,215.9,2,146.7,2,32.4,2,0,2,2.25,2,0.042,2,0.011,3,-999,9,2262.3,2,-999,9
  90KDIOFFE6_1,  S04P,707,1,1,1,2,19920301,518,-66.9927,-94.9193,4589,4676.2,0.366,34.699,2,34.7007,2,217.1,2,215.9,2,147.93,2,32.44,2,0,2,2.25,2,0.049,2,0.015,3,-999,9,2266,2,-999,9