BOTTLE,20181005JHS,,,,,,,,,,,,,,,,,,,,,,,,,,,,,,,,,,,,,,
EXPOCODE,SECT_ID,STNNBR,CASTNO,SAMPNO,BTLNBR,BTLNBR_FLAG_W,DATE,TIME,LATITUDE,LONGITUDE,DEPTH,CTDPRS,CTDTMP,CTDSAL,CTDSAL_FLAG_W,SALNTY,SALNTY_FLAG_W,CTDOXY,CTDOXY_FLAG_W,OXYGEN,OXYGEN_FLAG_W,SILCAT,SILCAT_FLAG_W,NITRAT,NITRAT_FLAG_W,NITRIT,NITRIT_FLAG_W,PHSPHT,PHSPHT_FLAG_W,CFC-11,CFC-11_FLAG_W,CFC-12,CFC-12_FLAG_W,SF6,SF6_FLAG_W,TCARBN,TCARBN_FLAG_W,ALKALI,ALKALI_FLAG_W
,,,,,,,,,,,,DBAR,ITS-90,PSS-78,,PSS-78,,UMOL/KG,,UMOL/KG,,UMOL/KG,,UMOL/KG,,UMOL/KG,,UMOL/KG,,PMOL/KG,,PMOL/KG,,FMOL/KG,,UMOL/KG,,UMOL/KG,
  90KDIOFFE6_1,  S04P,688,1,24,24,2,19920224,711,-66.685,-72.2647,3054,15.5,0.7024,33.7571,2,33.7563,2,-999,9,338.5,2,49.23,2,25.99,2,0.19,2,1.8,2,6.187,6,2.74,3,-999,9,2146.2,2,-999,9
  90KDIOFFE6_1,  S04P,688,1,23,23,2,19920224,711,-66.685,-72.2647,3054,45.2,0.6848,33.7749,2,33.7749,2,-999,9,338.1,2,51.14,2,26.03,2,0.18,2,1.83,2,-999,9,-999,9,-999,9,2148.4,2,-999,9
  90KDIOFFE6_1,  S04P,688,1,22,22,2,19920224,711,-66.685,-72.2647,3054,76.1,-1.2508,33.9948,2,33.9942,2,-999,9,308.2,2,55.18,2,28.87,2,0.19,2,2.04,2,-999,9,-999,9,-999,9,-999,9,-999,9
  90KDIOFFE6_1,  S04P,688,1,21,21,2,19920224,711,-66.685,-72.2647,3054,115.9,-0.3581,34.1954,2,34.2009,2,-999,9,259.8,2,65.19,2,31.24,2,0.02,2,2.17,2,3.36,2,1.462,3,-999,9,2209.8,2,-999,9
  90KDIOFFE6_1,  S04P,688,1,20,20,2,19920224,711,-66.685,-72.2647,3054,155.8,0.4639,34.3595,2,34.357,2,-999,9,225.3,2,73.29,2,32.4,2,0,2,2.25,2,-999,9,-999,9,-999,9,-999,9,-999,9
  90KDIOFFE6_1,  S04P,688,1,19,19,2,19920224,711,-66.685,-72.2647,3054,206.3,1.4499,34.5128,2,34.5138,2,-999,9,192.4,2,78.62,2,33.5,2,0,2,2.32,2,1.086,2,0.445,3,-999,9,2247.7,2,-999,9
  90KDIOFFE6_1,  S04P,688,1,18,18,2,19920224,711,-66.685,-72.2647,3054,256.6,1.703,34.5807,2,34.5822,2,-999,9,182.5,2,81.82,2,33.29,2,0,2,2.31,2,-999,9,-999,9,-999,9,-999,9,-999,9
  90KDIOFFE6_1,  S04P,688,1,17,17,2,19920224,711,-66.685,-72.2647,3054,306.2,1.819,34.6221,2,34.6218,2,-999,9,179.5,2,83.74,2,33.08,2,0,2,2.3,2,-999,9,-999,9,-999,9,2252.9,2,-999,9
  90KDIOFFE6_1,  S04P,688,1,16,16,2,19920224,711,-66.685,-72.2647,3054,380.5,1.8922,34.6645,2,34.6642,2,-999,9,178.2,2,85.87,2,32.52,2,0,2,2.26,2,-999,9,-999,9,-999,9,-999,9,-999,9
  90KDIOFFE6_1,  S04P,688,1,15,15,2,19920224,711,-66.685,-72.2647,3054,455.9,1.9079,34.6932,2,34.6926,2,-999,9,180.1,2,87.58,2,32.02,2,0,2,2.22,2,0.146,2,0.055,3,-999,9,2253.1,2,-999,9
  90KDIOFFE6_1,  S04P,688,1,14,14,2,19920224,711,-66.685,-72.2647,3054,530.9,1.8692,34.7075,2,34.706,2,-999,9,182.1,2,89.5,2,31.61,2,0,2,2.19,2,-999,9,-999,9,-999,9,-999,9,-999,9
  90KDIOFFE6_1,  S04P,688,1,13,13,2,19920224,711,-66.685,-72.2647,3054,606.1,1.7936,34.7158,2,34.7164,2,-999,9,184.1,2,91.63,2,31.5,2,0,2,2.19,2,0.083,2,0.025,3,-999,9,2253.7,2,-999,9
  90KDIOFFE6_1,  S04P,688,1,12,12,2,19920224,711,-66.685,-72.2647,3054,756.6,1.6748,34.7261,2,34.7262,2,-999,9,188.1,2,95.49,2,31.14,2,0,2,2.16,2,-999,9,-999,9,-999,9,-999,9,-999,9
  90KDIOFFE6_1,  S04P,688,1,11,11,2,19920224,711,-66.685,-72.2647,3054,906.8,1.5434,34.7284,2,34.7287,2,-999,9,191.7,2,99.14,2,31.08,2,0,2,2.15,2,-999,9,-999,9,-999,9,2253.7,2,-999,9
  90KDIOFFE6_1,  S04P,688,1,10,10,2,19920224,711,-66.685,-72.2647,3054,1109.5,1.3585,34.7268,2,34.7267,2,-999,9,195.2,2,104.73,2,31.06,2,0,2,2.16,2,-999,9,-999,9,-999,9,-999,9,-999,9
  90KDIOFFE6_1,  S04P,688,1,9,9,2,19920224,711,-66.685,-72.2647,3054,1310.1,1.2063,34.7228,2,34.7228,2,-999,9,197.6,2,109.7,2,31.24,2,0,2,2.17,2,0.013,2,0.001,4,-999,9,2258.6,2,-999,9
  90KDIOFFE6_1,  S04P,688,1,8,8,2,19920224,711,-66.685,-72.2647,3054,1511.5,1.0706,34.7188,2,34.7189,2,-999,9,199.9,2,114.24,2,31.37,2,0,2,2.18,2,-999,9,-999,9,-999,9,-999,9,-999,9
  90KDIOFFE6_1,  S04P,688,1,7,7,2,19920224,711,-66.685,-72.2647,3054,1711.9,0.9381,34.7148,2,34.7141,2,-999,9,202.5,2,118.14,2,31.44,2,0,2,2.18,2,0.008,2,0.004,3,-999,9,2259.8,2,-999,9
  90KDIOFFE6_1,  S04P,688,1,6,6,2,19920224,711,-66.685,-72.2647,3054,1913,0.8071,34.71,2,34.71,2,-999,9,204.8,2,122.49,2,31.57,2,0,2,2.19,2,-999,9,-999,9,-999,9,-999,9,-999,9
  90KDIOFFE6_1,  S04P,688,1,5,5,2,19920224,711,-66.685,-72.2647,3054,2166,0.6546,34.7064,2,34.7057,2,-999,9,207.7,2,127.08,2,31.65,2,0,2,2.2,2,0.011,6,0.004,3,-999,9,2263.2,2,-999,9
  90KDIOFFE6_1,  S04P,688,1,4,4,2,19920224,711,-66.685,-72.2647,3054,2420.3,0.5113,34.7035,2,34.7031,2,-999,9,210.4,2,131.68,2,31.92,2,0,2,2.21,2,0.01,2,0.006,3,-999,9,-999,9,-999,9
  90KDIOFFE6_1,  S04P,688,1,3,3,2,19920224,711,-66.685,-72.2647,3054,2674.5,0.4333,34.7017,2,34.7008,2,-999,9,212.1,2,134.76,2,31.9,2,0.01,2,2.18,3,0.023,3,0.005,3,-999,9,2263.3,2,-999,9
  90KDIOFFE6_1,  S04P,688,1,2,2,2,19920224,711,-66.685,-72.2647,3054,2932.6,0.4009,34.7011,2,34.7008,2,-999,9,212.5,2,137.18,2,32.03,2,0,2,2.22,2,0.016,2,0.009,3,-999,9,2263.5,2,-999,9
  90KDIOFFE6_1,  S04P,688,1,1,1,2,19920224,711,-66.685,-72.2647,3054,3086.6,0.4032,34.7011,2,34.7009,2,-999,9,212.7,2,137.84,2,31.87,2,0,2,2.23,2,0.023,2,0.003,4,-999,9,2265.7,2,-999,9
  90KDIOFFE6_1,  S04P,689,1,24,24,2,19920224,1225,-66.5032,-73.2435,3707,15,0.8627,33.7465,2,33.7448,2,-999,9,338.3,2,42.64,2,26.41,2,0.27,2,1.87,2,6.101,2,2.735,3,-999,9,2144.5,2,-999,9
  90KDIOFFE6_1,  S04P,689,1,23,23,2,19920224,1225,-66.5032,-73.2435,3707,45,0.8627,33.747,2,33.7438,2,-999,9,337.4,2,42.35,2,26.02,2,0.27,2,1.88,2,6.188,2,2.807,3,-999,9,2141.1,2,-999,9
  90KDIOFFE6_1,  S04P,689,1,22,22,2,19920224,1225,-66.5032,-73.2435,3707,84.7,-1.3696,33.9293,2,33.927,2,-999,9,339.1,2,44.3,2,27.58,2,0.21,2,2.04,2,6.033,2,2.683,3,-999,9,-999,9,-999,9
  90KDIOFFE6_1,  S04P,689,1,21,21,2,19920224,1225,-66.5032,-73.2435,3707,124.6,-1.1668,34.0578,2,34.0582,2,-999,9,293.4,2,56.62,2,29.73,2,0.19,2,2.12,2,4.549,2,1.989,3,-999,9,-999,9,-999,9
  90KDIOFFE6_1,  S04P,689,1,20,20,2,19920224,1225,-66.5032,-73.2435,3707,164.1,0.3061,34.2628,2,34.2669,2,-999,9,249,2,62.38,2,32.07,2,0.02,2,2.23,2,-999,9,-999,9,-999,9,-999,9,-999,9
  90KDIOFFE6_1,  S04P,689,1,19,19,2,19920224,1225,-66.5032,-73.2435,3707,203.9,1.3363,34.4227,2,34.4169,2,-999,9,209.9,2,70.68,2,33.43,2,0.02,2,2.34,2,1.808,2,0.782,3,-999,9,-999,9,-999,9
  90KDIOFFE6_1,  S04P,689,1,18,18,2,19920224,1225,-66.5032,-73.2435,3707,252.9,1.6481,34.5068,2,34.5034,2,-999,9,192.5,2,75.56,2,33.73,2,0.01,2,2.35,2,-999,9,-999,9,-999,9,-999,9,-999,9
  90KDIOFFE6_1,  S04P,689,1,17,17,2,19920224,1225,-66.5032,-73.2435,3707,302.5,1.775,34.5691,2,34.5634,2,-999,9,183,2,79.47,2,33.43,2,0.01,2,2.38,2,0.73,2,0.303,3,-999,9,-999,9,-999,9
  90KDIOFFE6_1,  S04P,689,1,16,16,2,19920224,1225,-66.5032,-73.2435,3707,402.8,1.9279,34.6301,2,34.6291,2,-999,9,178.2,2,82.89,2,33.14,2,0.01,2,2.33,2,0.397,2,0.155,3,-999,9,-999,9,-999,9
  90KDIOFFE6_1,  S04P,689,1,15,15,2,19920224,1225,-66.5032,-73.2435,3707,503,1.9579,34.6675,2,34.6628,2,-999,9,177.7,2,85.04,2,32.55,2,0.01,2,2.25,2,0.238,2,0.082,3,-999,9,-999,9,-999,9
  90KDIOFFE6_1,  S04P,689,1,14,14,2,19920224,1225,-66.5032,-73.2435,3707,654.1,1.8979,34.7,2,34.6993,2,-999,9,180.3,2,88.26,2,31.96,2,0.01,2,2.23,2,-999,9,-999,9,-999,9,-999,9,-999,9
  90KDIOFFE6_1,  S04P,689,1,13,13,2,19920224,1225,-66.5032,-73.2435,3707,806,1.802,34.7183,2,34.7173,2,-999,9,184.7,2,91.68,2,31.57,2,0.01,2,2.19,2,0.086,2,0.031,3,-999,9,-999,9,-999,9
  90KDIOFFE6_1,  S04P,689,1,12,12,2,19920224,1225,-66.5032,-73.2435,3707,1009.8,1.6501,34.729,2,34.7281,2,-999,9,189.9,2,96.47,2,31.08,2,0.01,2,2.17,2,-999,9,-999,9,-999,9,-999,9,-999,9
  90KDIOFFE6_1,  S04P,689,1,11,11,2,19920224,1225,-66.5032,-73.2435,3707,1261.3,1.4612,34.7294,2,34.7224,4,-999,9,193.8,2,101.84,2,31.28,2,0,2,2.16,2,0.035,2,0.013,3,-999,9,-999,9,-999,9
  90KDIOFFE6_1,  S04P,689,1,10,10,2,19920224,1225,-66.5032,-73.2435,3707,1512.9,1.2764,34.726,2,34.7002,4,-999,9,196.4,2,108,2,31.37,2,0,2,2.19,2,0.017,2,0.005,3,-999,9,-999,9,-999,9
  90KDIOFFE6_1,  S04P,689,1,9,9,2,19920224,1225,-66.5032,-73.2435,3707,1764.6,1.1215,34.7208,2,34.6855,4,-999,9,199.9,2,112.99,2,31.57,2,0,2,2.18,2,0.014,2,0.006,3,-999,9,-999,9,-999,9
  90KDIOFFE6_1,  S04P,689,1,8,8,2,19920224,1225,-66.5032,-73.2435,3707,2016.2,0.9796,34.7162,2,34.6867,4,-999,9,202.5,2,117.78,2,31.57,2,0,2,2.19,2,0.008,2,0.004,3,-999,9,-999,9,-999,9
  90KDIOFFE6_1,  S04P,689,1,7,7,2,19920224,1225,-66.5032,-73.2435,3707,2270.1,0.8397,34.7115,2,34.7061,4,-999,9,204.6,2,122.66,2,31.86,2,0,2,2.2,2,0.007,3,0.004,3,-999,9,-999,9,-999,9
  90KDIOFFE6_1,  S04P,689,1,6,6,2,19920224,1225,-66.5032,-73.2435,3707,2526.5,0.7088,34.708,2,34.7026,4,-999,9,206.8,2,126.38,2,31.67,2,0.01,2,2.2,2,0.013,2,0.003,3,-999,9,-999,9,-999,9
  90KDIOFFE6_1,  S04P,689,1,5,5,2,19920224,1225,-66.5032,-73.2435,3707,2781.3,0.5809,34.7042,2,34.6882,4,-999,9,209.4,2,129.7,2,31.67,2,0,2,2.22,2,0.015,2,0.005,3,-999,9,-999,9,-999,9
  90KDIOFFE6_1,  S04P,689,1,4,4,2,19920224,1225,-66.5032,-73.2435,3707,3038.6,0.4879,34.7026,2,34.7018,2,-999,9,211.2,2,133.51,2,31.86,2,0.01,2,2.22,2,0.021,2,0.008,3,-999,9,-999,9,-999,9
  90KDIOFFE6_1,  S04P,689,1,3,3,2,19920224,1225,-66.5032,-73.2435,3707,3294.9,0.443,34.7011,2,34.7033,2,-999,9,212.5,2,135.96,2,31.86,2,0.01,2,2.23,2,0.026,3,0.009,3,-999,9,-999,9,-999,9
  90KDIOFFE6_1,  S04P,689,1,2,2,2,19920224,1225,-66.5032,-73.2435,3707,3552.6,0.407,34.7016,2,34.7017,2,-999,9,213.3,2,138.21,2,31.86,2,0.01,2,2.23,2,0.017,2,0.006,3,-999,9,-999,9,-999,9
  90KDIOFFE6_1,  S04P,689,1,1,1,2,19920224,1225,-66.5032,-73.2435,3707,3767.5,0.389,34.7015,2,34.7007,2,-999,9,213.8,2,140.06,2,31.96,2,0.01,2,2.23,2,0.016,2,0.004,3,-999,9,-999,9,-999,9
  90KDIOFFE6_1,  S04P,690,1,24,24,2,19920224,1713,-66.27,-73.9958,3894,15.1,0.6848,33.7352,2,33.7333,2,-999,9,338.8,2,47.24,2,25.94,2,0.2,2,1.79,2,-999,9,-999,9,-999,9,2142.8,2,-999,9
  90KDIOFFE6_1,  S04P,690,1,23,23,2,19920224,1713,-66.27,-73.9958,3894,54.1,0.2161,33.7659,2,33.7671,2,-999,9,337.7,2,52.35,2,26.04,2,0.14,2,1.83,2,-999,9,-999,9,-999,9,2149.1,2,-999,9
  90KDIOFFE6_1,  S04P,690,1,22,22,2,19920224,1713,-66.27,-73.9958,3894,105.1,-1.1728,34.0515,2,34.0482,2,-999,9,296.8,2,54.89,2,29.64,2,0.19,2,2.07,2,-999,9,-999,9,-999,9,2189.3,2,-999,9
  90KDIOFFE6_1,  S04P,690,1,21,21,2,19920224,1713,-66.27,-73.9958,3894,135.6,-0.6842,34.1394,2,34.14,2,-999,9,275.4,2,58.94,2,30.73,2,0.04,2,2.14,2,-999,9,-999,9,-999,9,2200.7,2,-999,9
  90KDIOFFE6_1,  S04P,690,1,20,20,2,19920224,1713,-66.27,-73.9958,3894,165.3,0.3181,34.2914,2,34.2823,2,-999,9,242.8,2,65.12,2,31.99,2,0.01,2,2.22,2,-999,9,-999,9,-999,9,2215.9,2,-999,9
  90KDIOFFE6_1,  S04P,690,1,19,19,2,19920224,1713,-66.27,-73.9958,3894,205.9,1.2664,34.4659,2,34.4648,2,-999,9,201.9,2,74.72,2,33.28,2,0,2,2.32,2,-999,9,-999,9,-999,9,2236.3,2,-999,9
  90KDIOFFE6_1,  S04P,690,1,18,18,2,19920224,1713,-66.27,-73.9958,3894,256,1.6211,34.5365,2,34.534,2,-999,9,188.2,2,78.35,2,33.47,2,0,2,2.33,2,-999,9,-999,9,-999,9,2246.3,2,-999,9
  90KDIOFFE6_1,  S04P,690,1,17,17,2,19920224,1713,-66.27,-73.9958,3894,330.6,1.812,34.5938,2,34.592,2,-999,9,180.4,2,81.34,2,33.22,2,0,2,2.31,2,-999,9,-999,9,-999,9,2248.8,2,-999,9
  90KDIOFFE6_1,  S04P,690,1,16,16,2,19920224,1713,-66.27,-73.9958,3894,405.1,1.8909,34.646,2,34.6442,2,-999,9,178,2,84.12,2,32.71,2,0,2,2.28,2,-999,9,-999,9,-999,9,2252.7,2,-999,9
  90KDIOFFE6_1,  S04P,690,1,15,15,2,19920224,1713,-66.27,-73.9958,3894,506.3,1.9209,34.6816,2,34.6799,2,-999,9,178.5,2,86.47,2,32.21,2,0,2,2.24,2,-999,9,-999,9,-999,9,2259,2,-999,9
  90KDIOFFE6_1,  S04P,690,1,14,14,2,19920224,1713,-66.27,-73.9958,3894,607.4,1.9029,34.7061,2,34.704,2,-999,9,181.7,2,88.4,2,31.66,2,0,2,2.2,2,-999,9,-999,9,-999,9,2252.4,2,-999,9
  90KDIOFFE6_1,  S04P,690,1,13,13,2,19920224,1713,-66.27,-73.9958,3894,808.8,1.755,34.7224,2,34.7226,2,-999,9,186,2,92.91,2,31.2,2,0,2,2.16,2,-999,9,-999,9,-999,9,2253.1,2,-999,9
  90KDIOFFE6_1,  S04P,690,1,12,12,2,19920224,1713,-66.27,-73.9958,3894,1010.3,1.5562,34.7265,2,34.7252,2,-999,9,188.7,2,98.5,2,31.25,2,0,2,2.18,2,-999,9,-999,9,-999,9,2257.2,2,-999,9
  90KDIOFFE6_1,  S04P,690,1,11,11,2,19920224,1713,-66.27,-73.9958,3894,1212.6,1.4262,34.7289,2,34.7267,2,-999,9,193,2,102.82,2,31.04,2,0,2,2.16,2,-999,9,-999,9,-999,9,-999,9,-999,9
  90KDIOFFE6_1,  S04P,690,1,10,10,2,19920224,1713,-66.27,-73.9958,3894,1416,1.2824,34.7272,2,34.7252,2,-999,9,195.8,2,107.79,2,31.19,2,0,2,2.17,2,-999,9,-999,9,-999,9,-999,9,-999,9
  90KDIOFFE6_1,  S04P,690,1,9,9,2,19920224,1713,-66.27,-73.9958,3894,1670,1.1275,34.7199,2,34.72,2,-999,9,199.4,2,112.78,2,31.18,2,0,2,2.18,2,-999,9,-999,9,-999,9,-999,9,-999,9
  90KDIOFFE6_1,  S04P,690,1,8,8,2,19920224,1713,-66.27,-73.9958,3894,1923.9,0.9846,34.7143,2,34.7163,2,-999,9,202.4,2,117.35,2,31.27,2,0,2,2.17,2,0.013,2,0.005,3,-999,9,-999,9,-999,9
  90KDIOFFE6_1,  S04P,690,1,7,7,2,19920224,1713,-66.27,-73.9958,3894,2228.2,0.8357,34.7097,2,34.7108,2,-999,9,206.5,2,122.37,2,31.51,2,0,2,2.2,2,0.007,2,0.003,3,-999,9,-999,9,-999,9
  90KDIOFFE6_1,  S04P,690,1,6,6,2,19920224,1713,-66.27,-73.9958,3894,2533.8,0.6958,34.7066,2,34.7069,2,-999,9,207.6,2,126.54,2,31.66,2,0,2,2.2,2,0.013,2,0.004,3,-999,9,-999,9,-999,9
  90KDIOFFE6_1,  S04P,690,1,5,5,2,19920224,1713,-66.27,-73.9958,3894,2838.8,0.5649,34.7034,2,34.7041,2,-999,9,210.2,2,130.72,2,31.7,2,0,2,2.22,2,0.017,2,0.005,3,-999,9,-999,9,-999,9
  90KDIOFFE6_1,  S04P,690,1,4,4,2,19920224,1713,-66.27,-73.9958,3894,3143.7,0.4669,34.7019,2,34.7018,2,-999,9,-999,5,134.26,2,31.94,2,0,2,2.22,2,0.014,2,0.003,3,-999,9,-999,9,-999,9
  90KDIOFFE6_1,  S04P,690,1,3,3,3,19920224,1713,-66.27,-73.9958,3894,3452.2,0.424,34.7017,2,34.7025,3,-999,9,212.3,3,136.25,2,31.74,2,0,2,2.22,2,-999,9,-999,9,-999,9,-999,9,-999,9
  90KDIOFFE6_1,  S04P,690,1,2,2,2,19920224,1713,-66.27,-73.9958,3894,3758.5,0.389,34.7011,2,34.6976,3,-999,9,214.5,2,139.36,2,31.98,2,0,2,2.24,2,0.009,3,0.006,3,-999,9,-999,9,-999,9
  90KDIOFFE6_1,  S04P,690,1,1,1,2,19920224,1713,-66.27,-73.9958,3894,3950.6,0.367,34.7017,2,34.7004,2,-999,9,214.6,2,142.49,2,32.12,2,0,2,2.24,2,0.028,2,0.006,3,-999,9,-999,9,-999,9
  90KDIOFFE6_1,  S04P,691,1,24,24,2,19920224,2241,-65.906,-75.0127,4000,17.4,0.8677,33.6928,2,33.6929,2,338.4,2,339,2,36.31,2,25.71,2,0.28,2,1.84,2,6.304,2,2.773,3,-999,9,2134.3,2,-999,9
  90KDIOFFE6_1,  S04P,691,1,23,23,2,19920224,2241,-65.906,-75.0127,4000,47,0.0852,33.7579,2,33.7305,2,341.5,2,341.6,2,37.84,2,25.88,2,0.25,2,1.86,2,6.27,2,2.741,3,-999,9,2139,2,-999,9
  90KDIOFFE6_1,  S04P,691,1,22,22,2,19920224,2241,-65.906,-75.0127,4000,87.4,-1.3346,33.9822,2,33.9811,2,325.9,2,326.4,2,46.39,2,28.13,2,0.19,2,2.03,2,5.792,2,2.531,3,-999,9,2173,2,-999,9
  90KDIOFFE6_1,  S04P,691,1,21,21,2,19920224,2241,-65.906,-75.0127,4000,128.4,-0.894,34.0891,2,34.0907,2,300.4,2,301.5,2,52.53,2,29.87,2,0.08,2,2.11,2,5.034,2,2.208,3,-999,9,2185.9,2,-999,9
  90KDIOFFE6_1,  S04P,691,1,20,20,2,19920224,2241,-65.906,-75.0127,4000,168.3,0.2471,34.2297,2,34.2175,2,272.3,2,265.9,2,58.67,2,31.33,2,0.02,2,2.21,2,3.691,2,1.647,3,-999,9,2207.2,2,-999,9
  90KDIOFFE6_1,  S04P,691,1,19,19,2,19920224,2241,-65.906,-75.0127,4000,208.2,1.2524,34.3653,2,34.3683,2,229.3,2,223.3,2,66.8,2,32.89,2,0.01,2,2.32,2,2.239,2,0.964,3,-999,9,2224.9,2,-999,9
  90KDIOFFE6_1,  S04P,691,1,18,18,2,19920224,2241,-65.906,-75.0127,4000,258.7,1.5672,34.4437,2,34.4428,2,202.9,2,206,2,71.64,2,33.44,2,0.01,2,2.35,2,1.626,2,0.69,3,-999,9,2232.6,2,-999,9
  90KDIOFFE6_1,  S04P,691,1,17,17,2,19920224,2241,-65.906,-75.0127,4000,309,1.855,34.5142,2,34.5137,2,189.3,2,189.2,2,75.82,2,34,2,0.01,2,2.36,2,0.987,2,0.418,3,-999,9,2237.4,2,-999,9
  90KDIOFFE6_1,  S04P,691,1,16,16,2,19920224,2241,-65.906,-75.0127,4000,409.6,1.9769,34.5901,2,34.5892,2,182,2,181.1,2,80.45,2,33.55,2,0.01,2,2.34,2,0.551,2,0.22,3,-999,9,2240.9,2,-999,9
  90KDIOFFE6_1,  S04P,691,1,15,15,2,19920224,2241,-65.906,-75.0127,4000,510.5,2.0398,34.6349,2,34.6349,2,176.7,2,178,2,82.87,2,33.09,2,0.01,2,2.3,2,0.309,2,0.113,3,-999,9,2241.3,2,-999,9
  90KDIOFFE6_1,  S04P,691,1,14,14,2,19920224,2241,-65.906,-75.0127,4000,659.4,2.0078,34.6768,2,34.6767,2,179.6,2,179.3,2,85.74,2,32.43,2,0.01,2,2.25,2,0.167,2,0.059,3,-999,9,2246.7,2,-999,9
  90KDIOFFE6_1,  S04P,691,1,13,13,2,19920224,2241,-65.906,-75.0127,4000,810.9,1.9159,34.7036,2,34.7036,2,182.9,2,183.2,2,88.83,2,31.87,2,0.01,2,2.23,2,0.112,2,0.039,3,-999,9,2245.9,2,-999,9
  90KDIOFFE6_1,  S04P,691,1,12,12,2,19920224,2241,-65.906,-75.0127,4000,1012.2,1.776,34.7227,2,34.7191,3,187.7,2,187.6,2,93.7,2,31.32,2,0.01,2,2.19,2,0.063,2,0.02,3,-999,9,2246.2,2,-999,9
  90KDIOFFE6_1,  S04P,691,1,11,11,2,19920224,2241,-65.906,-75.0127,4000,1262.8,1.5781,34.7287,2,34.7269,3,193.3,2,192.1,2,99.47,2,31.18,2,0,2,2.17,2,0.042,2,0.01,3,-999,9,2246.6,2,-999,9
  90KDIOFFE6_1,  S04P,691,1,10,10,2,19920224,2241,-65.906,-75.0127,4000,1515.6,1.3803,34.7279,2,34.7238,3,196,2,195.8,2,105.7,2,31.31,2,0,2,2.19,2,0.026,2,0.011,3,-999,9,2249.7,2,-999,9
  90KDIOFFE6_1,  S04P,691,1,9,9,2,19920224,2241,-65.906,-75.0127,4000,1770.4,1.2124,34.7229,2,34.7177,3,198.4,2,198.4,2,111.06,2,31.39,2,0,2,2.19,2,0.016,2,0.007,3,-999,9,2246.7,2,-999,9
  90KDIOFFE6_1,  S04P,691,1,8,8,2,19920224,2241,-65.906,-75.0127,4000,2023.9,1.0615,34.7172,2,34.7143,3,201.1,2,201.3,2,116.21,2,31.63,2,0,2,2.21,2,0.012,2,0.006,3,-999,9,2258.6,2,-999,9
  90KDIOFFE6_1,  S04P,691,1,6,6,2,19920224,2241,-65.906,-75.0127,4000,2635.4,0.7517,34.7063,2,34.7037,3,207.8,2,207.1,2,126.12,2,31.92,2,0,2,2.22,2,0.02,3,0.005,3,-999,9,2257.3,2,-999,9
  90KDIOFFE6_1,  S04P,691,1,5,5,2,19920224,2241,-65.906,-75.0127,4000,2940,0.6118,34.703,2,34.6992,3,210.2,2,210,2,129.97,2,32.1,2,0,2,2.23,2,0.017,2,0.008,3,-999,9,2254.5,2,-999,9
  90KDIOFFE6_1,  S04P,691,1,4,4,2,19920224,2241,-65.906,-75.0127,4000,3241.9,0.4849,34.7025,2,34.6974,3,212.4,2,212.3,2,133.61,2,32.12,2,0,2,2.25,2,0.018,2,0.006,3,-999,9,2259.7,2,-999,9
  90KDIOFFE6_1,  S04P,691,1,3,3,2,19920224,2241,-65.906,-75.0127,4000,3546.4,0.421,34.7015,2,34.6959,3,213.6,2,213.4,2,137.71,2,32.04,2,0,2,2.25,2,0.025,3,0.005,3,-999,9,2258.2,2,-999,9
  90KDIOFFE6_1,  S04P,691,1,2,2,2,19920224,2241,-65.906,-75.0127,4000,3848.6,0.39,34.7006,2,34.7004,2,214.6,2,214.8,2,139.55,2,32.07,2,0,2,2.27,2,0.012,3,0.007,3,-999,9,2256.5,2,-999,9
  90KDIOFFE6_1,  S04P,691,1,1,1,2,19920224,2241,-65.906,-75.0127,4000,4065.8,0.36,34.7008,2,34.6968,3,214.6,2,215.2,2,142.53,2,32.14,2,0,2,2.26,2,0.025,2,0.007,3,-999,9,2260.1,2,-999,9