BOTTLE,20181005JHS,,,,,,,,,,,,,,,,,,,,,,,,,,,,,,,,,,,,,,
EXPOCODE,SECT_ID,STNNBR,CASTNO,SAMPNO,BTLNBR,BTLNBR_FLAG_W,DATE,TIME,LATITUDE,LONGITUDE,DEPTH,CTDPRS,CTDTMP,CTDSAL,CTDSAL_FLAG_W,SALNTY,SALNTY_FLAG_W,CTDOXY,CTDOXY_FLAG_W,OXYGEN,OXYGEN_FLAG_W,SILCAT,SILCAT_FLAG_W,NITRAT,NITRAT_FLAG_W,NITRIT,NITRIT_FLAG_W,PHSPHT,PHSPHT_FLAG_W,CFC-11,CFC-11_FLAG_W,CFC-12,CFC-12_FLAG_W,SF6,SF6_FLAG_W,TCARBN,TCARBN_FLAG_W,ALKALI,ALKALI_FLAG_W
,,,,,,,,,,,,DBAR,ITS-90,PSS-78,,PSS-78,,UMOL/KG,,UMOL/KG,,UMOL/KG,,UMOL/KG,,UMOL/KG,,UMOL/KG,,PMOL/KG,,PMOL/KG,,FMOL/KG,,UMOL/KG,,UMOL/KG,
  90KDIOFFE6_1,  S04P,776,1,24,24,2,19920323,246,-70.1722,168.9152,2496,14.6,-1.6164,34.1382,2,34.1404,2,-999,9,352.8,2,72.92,2,27.38,2,0.12,2,2,2,6.408,2,2.918,3,-999,9,2187.2,2,-999,9
  90KDIOFFE6_1,  S04P,776,1,23,23,2,19920323,246,-70.1722,168.9152,2496,55.2,-1.4315,34.1879,2,34.188,2,-999,9,345.8,2,73.53,2,27.36,2,0.11,2,2.01,2,5.916,2,2.724,3,-999,9,2191.3,2,-999,9
  90KDIOFFE6_1,  S04P,776,1,22,22,2,19920323,246,-70.1722,168.9152,2496,104.5,-1.4715,34.2425,2,34.2434,2,-999,9,348.5,2,73.74,2,27.93,2,0.11,2,2.04,2,5.975,2,2.786,3,-999,9,2194.3,2,-999,9
  90KDIOFFE6_1,  S04P,776,1,21,21,2,19920323,246,-70.1722,168.9152,2496,154.7,-1.4046,34.265,2,34.2657,2,-999,9,346.4,2,73.75,2,28.01,2,0.11,2,2.04,2,5.875,2,2.716,3,-999,9,2197.4,2,-999,9
  90KDIOFFE6_1,  S04P,776,1,20,20,2,19920323,246,-70.1722,168.9152,2496,204.2,-0.825,34.3966,2,34.4003,2,-999,9,303.2,2,79.43,2,28.25,2,0.09,2,2.08,2,4.349,2,1.995,3,-999,9,2212.1,2,-999,9
  90KDIOFFE6_1,  S04P,776,1,30,30,2,19920323,246,-70.1722,168.9152,2496,255.7,-1.8102,34.407,2,34.4097,2,-999,9,293.8,2,78.63,2,29.93,2,0.01,2,2.13,2,3.812,2,1.758,3,-999,9,2216.9,2,-999,9
  90KDIOFFE6_1,  S04P,776,1,18,18,2,19920323,246,-70.1722,168.9152,2496,305.8,-1.5894,34.4309,2,34.4354,2,-999,9,285,2,80.26,2,30.08,2,0.04,2,2.14,2,3.718,2,1.698,3,-999,9,2221.2,2,-999,9
  90KDIOFFE6_1,  S04P,776,1,17,17,2,19920323,246,-70.1722,168.9152,2496,355.9,-1.0119,34.4863,2,34.4911,2,-999,9,265,2,84.34,2,30.57,2,0.02,2,2.17,2,3.072,2,1.35,3,-999,9,2227.2,2,-999,9
  90KDIOFFE6_1,  S04P,776,1,16,16,2,19920323,246,-70.1722,168.9152,2496,406.3,-0.0537,34.5867,2,34.5919,2,-999,9,230.9,2,92.71,2,31.25,2,0.01,2,2.21,2,1.786,2,0.759,3,-999,9,2239.2,2,-999,9
  90KDIOFFE6_1,  S04P,776,1,15,15,2,19920323,246,-70.1722,168.9152,2496,506.8,0.7008,34.6723,2,34.6721,2,-999,9,206.8,2,102.14,2,31.72,2,0,2,2.24,2,0.677,2,0.283,3,-999,9,2250.6,2,-999,9
  90KDIOFFE6_1,  S04P,776,1,14,14,2,19920323,246,-70.1722,168.9152,2496,607.6,0.6668,34.6829,2,34.6831,2,-999,9,205.8,2,107.51,2,31.7,2,0,2,2.25,2,0.544,2,0.223,3,-999,9,2251.3,2,-999,9
  90KDIOFFE6_1,  S04P,776,1,13,13,2,19920323,246,-70.1722,168.9152,2496,708.4,0.6358,34.6879,2,34.6886,2,-999,9,206.5,2,111.65,2,31.82,2,0,2,2.25,2,0.429,2,0.172,3,-999,9,2254.9,2,-999,9
  90KDIOFFE6_1,  S04P,776,1,12,12,2,19920323,246,-70.1722,168.9152,2496,809,0.4899,34.6828,2,34.6788,2,-999,9,211.5,2,112.29,2,31.45,2,0,2,2.25,2,0.56,2,0.234,3,-999,9,2250.4,2,-999,9
  90KDIOFFE6_1,  S04P,776,1,26,26,2,19920323,246,-70.1722,168.9152,2496,911.4,0.5659,34.6943,2,34.6954,2,-999,9,207.1,2,118.74,2,31.92,2,0,2,2.27,2,0.236,2,0.085,3,-999,9,2257.9,2,-999,9
  90KDIOFFE6_1,  S04P,776,1,10,10,2,19920323,246,-70.1722,168.9152,2496,1062.6,0.391,34.6873,2,34.6888,2,-999,9,212.5,2,117.71,2,31.99,2,0,2,2.25,2,0.453,2,0.178,3,-999,9,2259.1,2,-999,9
  90KDIOFFE6_1,  S04P,776,1,27,27,2,19920323,246,-70.1722,168.9152,2496,1212.5,0.2801,34.6856,2,34.6848,2,-999,9,216.8,2,114.61,2,31.8,2,0.02,2,2.25,2,0.687,2,0.287,3,-999,9,2256.6,2,-999,9
  90KDIOFFE6_1,  S04P,776,1,8,8,2,19920323,246,-70.1722,168.9152,2496,1366,0.2491,34.6925,2,34.6933,2,-999,9,216.7,2,115.04,2,31.79,2,0,2,2.25,2,0.663,2,0.278,3,-999,9,2258.5,2,-999,9
  90KDIOFFE6_1,  S04P,776,1,7,7,2,19920323,246,-70.1722,168.9152,2496,1566.8,0.1472,34.6951,2,34.6943,2,-999,9,220.8,2,111.93,2,31.67,2,0,2,2.25,2,0.911,2,0.389,3,-999,9,2258,2,-999,9
  90KDIOFFE6_1,  S04P,776,1,6,6,2,19920323,246,-70.1722,168.9152,2496,1770,0.0513,34.6989,2,34.699,2,-999,9,224.3,2,110.08,2,31.5,2,0,2,2.24,2,1.199,2,0.497,3,-999,9,2254.2,2,-999,9
  90KDIOFFE6_1,  S04P,776,1,29,29,2,19920323,246,-70.1722,168.9152,2496,1973.2,-0.0926,34.7002,2,34.6986,2,-999,9,229.4,2,103.69,2,31.29,2,0,2,2.23,2,1.479,2,0.634,3,-999,9,2253.7,2,-999,9
  90KDIOFFE6_1,  S04P,776,1,28,28,2,19920323,246,-70.1722,168.9152,2496,2176.4,-0.1476,34.7083,2,34.7072,2,-999,9,232.9,2,101.85,2,31.21,2,0,2,2.22,2,1.557,2,0.667,3,-999,9,2253.1,2,-999,9
  90KDIOFFE6_1,  S04P,776,1,3,3,2,19920323,246,-70.1722,168.9152,2496,2380.3,-0.2455,34.7145,2,34.7129,2,-999,9,236.2,2,99.8,2,30.99,2,0,2,2.21,2,1.759,2,0.761,3,-999,9,2252.5,2,-999,9
  90KDIOFFE6_1,  S04P,776,1,2,2,2,19920323,246,-70.1722,168.9152,2496,2480.4,-0.3934,34.718,2,34.7176,2,-999,9,241.5,2,97.34,2,30.9,2,0.02,2,2.21,2,2.076,2,0.885,3,-999,9,2251.5,2,-999,9
  90KDIOFFE6_1,  S04P,776,1,1,1,2,19920323,246,-70.1722,168.9152,2496,2520,-0.4563,34.7181,2,34.7174,2,-999,9,243.9,2,96.74,2,30.82,2,0.02,2,2.21,2,2.266,2,0.961,3,-999,9,2249.6,2,-999,9
  90KDIOFFE6_1,  S04P,777,1,24,24,2,19920323,1031,-70.411,168.4957,1683,12.1,-1.735,34.1092,2,34.104,2,-999,9,355,2,75.7,2,28.05,2,0.13,2,2.05,2,6.377,2,2.91,3,-999,9,2182,2,-999,9
  90KDIOFFE6_1,  S04P,777,1,23,23,2,19920323,1031,-70.411,168.4957,1683,52.5,-1.5166,34.1645,2,34.1674,2,-999,9,351.5,2,75.48,2,28.21,2,0.11,2,2.06,2,6.221,2,2.856,3,-999,9,2189.2,2,-999,9
  90KDIOFFE6_1,  S04P,777,1,22,22,2,19920323,1031,-70.411,168.4957,1683,102.7,-1.4563,34.2242,2,34.2238,2,-999,9,349.4,2,75.88,2,28.16,2,0.11,2,2.05,2,6.134,2,2.826,3,-999,9,2192.4,2,-999,9
  90KDIOFFE6_1,  S04P,777,1,21,21,2,19920323,1031,-70.411,168.4957,1683,152.8,-1.2842,34.28,2,34.281,2,-999,9,341,2,76.29,2,28,2,0.11,2,2.05,2,5.571,2,2.621,3,-999,9,2199.3,2,-999,9
  90KDIOFFE6_1,  S04P,777,1,20,20,2,19920323,1031,-70.411,168.4957,1683,203,-1.183,34.3068,2,34.3113,2,-999,9,331.7,2,76.27,2,27.64,2,0.1,2,2.02,2,5.115,2,2.426,3,-999,9,2201.8,2,-999,9
  90KDIOFFE6_1,  S04P,777,1,30,30,2,19920323,1031,-70.411,168.4957,1683,252.6,-1.0982,34.3625,2,34.3638,2,-999,9,316.9,2,77.72,2,27.49,2,0.1,2,2.03,2,4.65,2,2.18,3,-999,9,2206.4,2,-999,9
  90KDIOFFE6_1,  S04P,777,1,18,18,2,19920323,1031,-70.411,168.4957,1683,333.7,-1.2649,34.4439,2,34.4279,2,-999,9,291.2,2,81.06,2,29.74,2,0.04,2,2.12,2,3.918,2,1.782,3,-999,9,2220.9,2,-999,9
  90KDIOFFE6_1,  S04P,777,1,17,17,2,19920323,1031,-70.411,168.4957,1683,374.5,-0.7961,34.4759,2,34.4849,2,-999,9,283.5,2,84.4,2,28.98,2,0.08,2,2.12,2,3.61,2,1.645,3,-999,9,2223.4,2,-999,9
  90KDIOFFE6_1,  S04P,777,1,16,16,2,19920323,1031,-70.411,168.4957,1683,404.3,-0.5771,34.5185,2,34.5188,2,-999,9,273.7,2,86.27,2,29.39,2,0.07,2,2.13,2,3.24,2,1.461,3,-999,9,2227.2,2,-999,9
  90KDIOFFE6_1,  S04P,777,1,15,15,2,19920323,1031,-70.411,168.4957,1683,503.6,-0.3925,34.5756,2,34.5771,2,-999,9,258.9,2,91.72,2,29.69,2,0.07,2,2.16,2,2.727,2,1.205,3,-999,9,2236.1,2,-999,9
  90KDIOFFE6_1,  S04P,777,1,14,14,2,19920323,1031,-70.411,168.4957,1683,561.9,-0.0909,34.6195,2,34.6192,2,-999,9,241.1,2,98.86,2,30.35,2,0.06,2,2.19,2,1.998,2,0.86,3,-999,9,2243.8,2,-999,9
  90KDIOFFE6_1,  S04P,777,1,13,13,2,19920323,1031,-70.411,168.4957,1683,647.8,0.2895,34.6656,2,34.6675,2,-999,9,217.5,2,110.48,2,31.26,2,0,2,2.24,2,0.788,2,0.341,3,-999,9,2252.3,2,-999,9
  90KDIOFFE6_1,  S04P,777,1,12,12,2,19920323,1031,-70.411,168.4957,1683,694.3,0.2783,34.6697,2,34.6714,2,-999,9,219.1,2,111.96,2,31.28,2,0.02,2,2.24,2,0.806,2,0.353,3,-999,9,2254.5,2,-999,9
  90KDIOFFE6_1,  S04P,777,1,26,26,2,19920323,1031,-70.411,168.4957,1683,838.4,-0.1,34.6483,2,34.6492,2,-999,9,237.3,2,103.04,2,30.69,2,0.04,2,2.2,2,1.729,2,0.753,3,-999,9,2248.6,2,-999,9
  90KDIOFFE6_1,  S04P,777,1,10,10,2,19920323,1031,-70.411,168.4957,1683,940.6,-0.0764,34.6652,2,34.6669,2,-999,9,233.8,2,105.14,2,30.99,2,0.03,2,2.22,2,1.571,2,0.679,3,-999,9,2250.2,2,-999,9
  90KDIOFFE6_1,  S04P,777,1,27,27,2,19920323,1031,-70.411,168.4957,1683,1046.7,-0.124,34.6716,2,34.6728,2,-999,9,234.6,2,103.43,2,30.78,2,0.03,2,2.22,2,1.616,2,0.695,3,-999,9,2250.2,2,-999,9
  90KDIOFFE6_1,  S04P,777,1,8,8,2,19920323,1031,-70.411,168.4957,1683,1157.3,-0.2737,34.6619,2,34.6619,2,-999,9,242.9,2,100.67,2,30.82,2,0.04,2,2.23,2,2.051,2,0.881,3,-999,9,2248.8,2,-999,9
  90KDIOFFE6_1,  S04P,777,1,7,7,2,19920323,1031,-70.411,168.4957,1683,1251,-0.1551,34.6798,2,34.6796,2,-999,9,235.4,2,-999,5,-999,5,-999,5,-999,5,1.671,2,0.72,3,-999,9,2250.8,2,-999,9
  90KDIOFFE6_1,  S04P,777,1,6,6,2,19920323,1031,-70.411,168.4957,1683,1309.7,-0.2653,34.6708,2,34.6708,2,-999,9,241.3,2,99.39,2,30.66,2,0.04,2,2.2,2,2.024,2,0.857,3,-999,9,2249.7,2,-999,9
  90KDIOFFE6_1,  S04P,777,1,29,29,2,19920323,1031,-70.411,168.4957,1683,1410.7,-0.1589,34.6849,2,34.6859,2,-999,9,235.5,2,102.33,2,30.9,2,0.03,2,2.22,2,1.695,2,0.725,3,-999,9,2255.6,2,-999,9
  90KDIOFFE6_1,  S04P,777,1,28,28,2,19920323,1031,-70.411,168.4957,1683,1510.1,-0.1825,34.6904,2,34.6912,2,-999,9,235.9,2,102.11,2,30.89,2,0.03,2,2.23,2,1.745,2,0.745,3,-999,9,2251.6,2,-999,9
  90KDIOFFE6_1,  S04P,777,1,3,3,2,19920323,1031,-70.411,168.4957,1683,1610.4,-0.2083,34.7009,2,34.7006,2,-999,9,235.8,2,101.25,2,30.78,2,0.03,2,2.23,2,1.758,2,0.743,3,-999,9,2252.7,2,-999,9
  90KDIOFFE6_1,  S04P,777,1,2,2,2,19920323,1031,-70.411,168.4957,1683,1641.7,-0.2129,34.7017,2,34.7011,2,-999,9,236,2,101.24,2,30.67,2,0.03,2,2.23,2,1.732,2,0.746,3,-999,9,2254.5,2,-999,9
  90KDIOFFE6_1,  S04P,777,1,1,1,2,19920323,1031,-70.411,168.4957,1683,1694.6,-0.3052,34.7022,2,34.7015,2,-999,9,240.5,2,100.59,2,30.76,2,0.03,2,2.23,2,1.967,2,0.827,3,-999,9,2255.7,2,-999,9
  90KDIOFFE6_1,  S04P,778,1,14,14,2,19920323,1615,-70.4507,168.414,1030,11.4,-1.6394,34.1611,4,34.216,2,-999,9,351.6,2,73.23,2,27.57,2,0.11,2,2.01,2,6.02,2,2.841,3,-999,9,-999,9,-999,9
  90KDIOFFE6_1,  S04P,778,1,13,13,2,19920323,1615,-70.4507,168.414,1030,51.1,-1.3886,34.2667,2,34.268,2,-999,9,347.2,2,74.89,2,28.06,2,0.11,2,2.03,2,5.701,2,2.7,3,-999,9,2199.8,2,-999,9
  90KDIOFFE6_1,  S04P,778,1,12,12,2,19920323,1615,-70.4507,168.414,1030,111.9,-1.3146,34.2893,2,34.292,2,-999,9,346.8,2,75.28,2,28.06,2,0.11,2,2.04,2,5.554,2,2.606,3,-999,9,2200.1,2,-999,9
  90KDIOFFE6_1,  S04P,778,1,26,26,2,19920323,1615,-70.4507,168.414,1030,172.3,-1.3186,34.3204,2,34.327,3,-999,9,334.2,3,75.28,3,27.08,3,0.1,3,2.01,3,5.181,2,2.485,3,-999,9,2203.5,2,-999,9
  90KDIOFFE6_1,  S04P,778,1,10,10,2,19920323,1615,-70.4507,168.414,1030,242.5,-1.2197,34.3442,2,34.397,4,-999,9,334.6,2,77.04,2,27.67,2,0.1,2,2.05,2,4.941,2,2.349,3,-999,9,-999,9,-999,9
  90KDIOFFE6_1,  S04P,778,1,27,27,2,19920323,1615,-70.4507,168.414,1030,302.5,-1.1907,34.3544,2,34.358,2,-999,9,332.5,2,77.23,2,27.86,2,0.1,2,2.06,2,4.916,2,2.355,3,-999,9,2209.1,2,-999,9
  90KDIOFFE6_1,  S04P,778,1,8,8,2,19920323,1615,-70.4507,168.414,1030,362.1,-0.9929,34.416,2,34.415,2,-999,9,319.4,2,80.56,2,28.55,2,0.1,2,2.09,2,4.47,2,2.125,3,-999,9,2216.7,2,-999,9
  90KDIOFFE6_1,  S04P,778,1,7,7,2,19920323,1615,-70.4507,168.414,1030,440,-0.925,34.478,2,34.487,2,-999,9,307.2,2,82.41,2,29.13,2,0.09,2,2.12,2,4.065,2,1.926,3,-999,9,2222.6,2,-999,9
  90KDIOFFE6_1,  S04P,778,1,6,6,2,19920323,1615,-70.4507,168.414,1030,548.5,-0.843,34.5284,2,34.528,2,-999,9,289.8,2,84.56,2,29.13,2,0.08,2,2.13,2,3.698,2,1.688,3,-999,9,2228.3,2,-999,9
  90KDIOFFE6_1,  S04P,778,1,29,29,2,19920323,1615,-70.4507,168.414,1030,628.1,-0.6172,34.5683,2,34.567,2,-999,9,273.3,2,88.66,2,29.42,2,0.07,2,2.15,2,3.069,2,1.394,3,-999,9,2234.8,2,-999,9
  90KDIOFFE6_1,  S04P,778,1,28,28,2,19920323,1615,-70.4507,168.414,1030,696.3,-0.5573,34.603,2,34.601,2,-999,9,265,2,92.47,2,29.81,2,0.06,2,2.18,2,2.854,2,1.263,3,-999,9,2236.1,2,-999,9
  90KDIOFFE6_1,  S04P,778,1,3,3,2,19920323,1615,-70.4507,168.414,1030,794.6,-0.2525,34.6359,2,34.638,2,-999,9,245.9,2,98.33,2,30.4,2,0.05,2,2.2,2,2.113,2,0.918,3,-999,9,2245.7,2,-999,9
  90KDIOFFE6_1,  S04P,778,1,2,2,2,19920323,1615,-70.4507,168.414,1030,904.9,-0.5043,34.6195,2,34.623,2,-999,9,259.4,2,93.54,2,30.2,2,0.05,2,2.18,2,2.686,2,1.177,3,-999,9,2239.4,2,-999,9
  90KDIOFFE6_1,  S04P,778,1,1,1,2,19920323,1615,-70.4507,168.414,1030,1011.3,-0.4334,34.644,2,34.643,2,-999,9,253.7,2,95.01,2,30.2,2,0.05,2,2.18,2,2.401,2,1.057,3,-999,9,2244.1,2,-999,9
  90KDIOFFE6_1,  S04P,779,1,17,17,2,19920323,1935,-70.493,168.308,373,10.5,-1.6134,34.2109,2,34.2166,2,-999,9,333.8,2,72.99,2,25.53,2,0.09,2,1.96,2,-999,9,-999,9,-999,9,-999,9,-999,9
  90KDIOFFE6_1,  S04P,779,1,15,15,2,19920323,1935,-70.493,168.308,373,40.7,-1.5834,34.2167,2,34.2205,2,-999,9,333.5,2,73.2,2,25.75,2,0.09,2,1.97,2,-999,9,-999,9,-999,9,-999,9,-999,9
  90KDIOFFE6_1,  S04P,779,1,13,13,2,19920323,1935,-70.493,168.308,373,70.7,-1.3946,34.2474,2,34.2485,2,-999,9,328.4,2,73.4,2,25.93,2,0.09,2,1.97,2,5.126,2,2.388,3,-999,9,2195.2,2,-999,9
  90KDIOFFE6_1,  S04P,779,1,26,26,2,19920323,1935,-70.493,168.308,373,101.3,-1.3786,34.2634,2,34.2698,2,-999,9,329.2,2,73.61,2,26.1,2,0.09,2,1.97,2,-999,9,-999,9,-999,9,-999,9,-999,9
  90KDIOFFE6_1,  S04P,779,1,27,27,2,19920323,1935,-70.493,168.308,373,151,-1.3017,34.291,2,34.2906,2,-999,9,328.6,2,74.23,2,26.33,2,0.09,2,1.99,2,5.009,2,2.363,3,-999,9,2198.1,2,-999,9
  90KDIOFFE6_1,  S04P,779,1,7,7,2,19920323,1935,-70.493,168.308,373,205.9,-1.1298,34.3311,2,34.3306,2,-999,9,319.8,2,75.47,2,26.66,2,0.09,2,2.01,2,4.837,2,2.262,3,-999,9,2205.1,2,-999,9
  90KDIOFFE6_1,  S04P,779,1,29,29,2,19920323,1935,-70.493,168.308,373,261.2,-1.0489,34.3489,2,34.3468,2,-999,9,320.5,2,76.72,2,27.07,2,0.09,2,2.03,2,4.721,2,2.188,3,-999,9,2205.6,2,-999,9
  90KDIOFFE6_1,  S04P,779,1,3,3,2,19920323,1935,-70.493,168.308,373,320.9,-1.0758,34.3482,2,34.348,2,-999,9,322.6,2,77.34,2,27.29,2,0.09,2,2.06,2,4.828,2,2.251,3,-999,9,2206.7,2,-999,9
  90KDIOFFE6_1,  S04P,779,1,1,1,2,19920323,1935,-70.493,168.308,373,368.2,-1.1098,34.3565,2,34.3554,2,-999,9,325.6,2,78.17,2,27.81,2,0.09,2,2.07,2,4.849,2,2.262,3,-999,9,2208.3,2,-999,9
  90KDIOFFE6_1,  S04P,780,1,7,7,2,19920323,2241,-70.6478,168.0665,201,10.6,-1.4789,34.2785,2,34.2818,2,-999,9,339.4,2,74.02,2,26.62,2,0.1,2,1.98,2,5.44,2,2.499,3,-999,9,2195,2,-999,9
  90KDIOFFE6_1,  S04P,780,1,6,6,2,19920323,2241,-70.6478,168.0665,201,40.8,-1.2941,34.3046,2,34.3041,2,-999,9,327.5,2,74.23,2,26.09,2,0.09,2,1.98,2,5.056,2,2.3,3,-999,9,2200.7,2,-999,9
  90KDIOFFE6_1,  S04P,780,1,29,29,2,19920323,2241,-70.6478,168.0665,201,66.6,-1.2029,34.3253,2,34.3255,2,-999,9,327,2,75.68,2,26.92,2,0.09,2,2.02,2,4.677,2,2.18,3,-999,9,2203.3,2,-999,9
  90KDIOFFE6_1,  S04P,780,1,28,28,2,19920323,2241,-70.6478,168.0665,201,100.9,-1.1951,34.3277,2,34.3284,2,-999,9,326.7,2,75.89,2,27.09,2,0.09,2,2.02,2,4.972,2,2.306,3,-999,9,2203.3,2,-999,9
  90KDIOFFE6_1,  S04P,780,1,3,3,2,19920323,2241,-70.6478,168.0665,201,131.6,-1.144,34.3349,2,34.3351,2,-999,9,324.9,2,76.09,2,26.98,2,0.09,2,2.02,2,4.783,2,2.229,3,-999,9,2205.9,2,-999,9
  90KDIOFFE6_1,  S04P,780,1,2,2,2,19920323,2241,-70.6478,168.0665,201,171.9,-1.1503,34.3452,2,34.3449,2,-999,9,327.7,2,77.13,2,27.49,2,0.09,2,2.05,2,4.862,2,2.308,3,-999,9,2207,2,-999,9
  90KDIOFFE6_1,  S04P,780,1,1,1,2,19920323,2241,-70.6478,168.0665,201,192.7,-1.0925,34.3667,2,34.3678,2,-999,9,330.2,2,79.41,2,28.53,2,0.1,2,2.09,2,4.863,2,2.282,3,-999,9,2209.9,2,-999,9
  90KDIOFFE6_1,  S04P,781,1,24,24,2,19920325,1851,-67.0043,174.225,3157,10.4,-0.3181,33.7651,2,33.7655,2,-999,9,338,2,52.82,2,22.75,2,0.12,2,1.68,2,6.191,2,2.796,3,-999,9,2146.7,2,-999,9
  90KDIOFFE6_1,  S04P,781,1,23,23,2,19920325,1851,-67.0043,174.225,3157,44.9,-0.3132,33.7658,2,33.7665,2,-999,9,338,2,52.81,2,22.88,2,0.12,2,1.68,2,6.228,2,2.823,3,-999,9,2144.9,2,-999,9
  90KDIOFFE6_1,  S04P,781,1,22,22,2,19920325,1851,-67.0043,174.225,3157,73.6,-1.3646,34.2984,2,34.3009,2,-999,9,278.9,2,74.41,2,29.32,2,0.09,2,2.19,2,4.029,2,1.789,3,-999,9,2215.3,2,-999,9
  90KDIOFFE6_1,  S04P,781,1,21,21,2,19920325,1851,-67.0043,174.225,3157,101.3,0.767,34.6003,2,34.5991,2,-999,9,201.2,2,89.85,2,32.19,2,0.07,2,2.32,2,1.178,2,0.509,3,-999,9,2252.9,2,-999,9
  90KDIOFFE6_1,  S04P,781,1,20,20,2,19920325,1851,-67.0043,174.225,3157,152.6,1.2148,34.6708,2,34.6718,2,-999,9,190,2,94.34,2,32.02,2,0.03,2,2.3,2,-999,9,-999,9,-999,9,2252.5,2,-999,9
  90KDIOFFE6_1,  S04P,781,1,30,30,2,19920325,1851,-67.0043,174.225,3157,203.4,1.3118,34.6958,2,34.6957,2,-999,9,189.2,2,97.33,2,31.97,2,0.01,2,2.28,2,0.363,2,0.146,3,-999,9,2257.3,2,-999,9
  90KDIOFFE6_1,  S04P,781,1,18,18,2,19920325,1851,-67.0043,174.225,3157,264.3,1.3384,34.7109,2,34.7104,2,-999,9,188,2,99.68,2,31.61,2,0.01,2,2.27,2,-999,9,-999,9,-999,9,2255.8,2,-999,9
  90KDIOFFE6_1,  S04P,781,1,17,17,2,19920325,1851,-67.0043,174.225,3157,293,1.331,34.7127,2,34.713,2,-999,9,189.2,2,100.74,2,31.6,2,0.01,2,2.27,2,0.208,2,0.076,3,-999,9,2256.4,2,-999,9
  90KDIOFFE6_1,  S04P,781,1,16,16,2,19920325,1851,-67.0043,174.225,3157,394.8,1.2734,34.7169,2,34.7181,2,-999,9,188.8,2,104.15,2,31.48,2,0,2,2.26,2,-999,9,-999,9,-999,9,2258.8,2,-999,9
  90KDIOFFE6_1,  S04P,781,1,15,15,2,19920325,1851,-67.0043,174.225,3157,492.8,1.221,34.7186,2,34.7202,2,-999,9,189.8,2,107.82,2,31.58,2,0,2,2.27,2,0.085,2,0.028,3,-999,9,2258.1,2,-999,9
  90KDIOFFE6_1,  S04P,781,1,14,14,2,19920325,1851,-67.0043,174.225,3157,593.5,1.1593,34.7182,2,34.7194,2,-999,9,190.8,2,109.96,2,31.76,2,0,2,2.27,2,-999,9,-999,9,-999,9,2261.9,2,-999,9
  90KDIOFFE6_1,  S04P,781,1,13,13,2,19920325,1851,-67.0043,174.225,3157,682.9,1.0893,34.7163,2,34.7178,2,-999,9,193.4,2,112.32,2,31.69,2,0,2,2.27,2,0.068,2,0.014,3,-999,9,2260.9,2,-999,9
  90KDIOFFE6_1,  S04P,781,1,12,12,2,19920325,1851,-67.0043,174.225,3157,774.5,1.037,34.7153,2,34.717,2,-999,9,194.2,2,114.03,2,31.68,2,0,2,2.27,2,0.042,2,0.012,3,-999,9,2259.2,2,-999,9
  90KDIOFFE6_1,  S04P,781,1,26,26,2,19920325,1851,-67.0043,174.225,3157,942.5,0.9232,34.7127,2,34.7137,2,-999,9,197.6,2,117.27,2,31.61,2,0,2,2.27,2,0.034,2,0.01,3,-999,9,2265,2,-999,9
  90KDIOFFE6_1,  S04P,781,1,10,10,2,19920325,1851,-67.0043,174.225,3157,1122.8,0.8445,34.7104,2,34.7111,2,-999,9,200.1,2,119.86,2,31.6,2,0,2,2.27,2,-999,9,-999,9,-999,9,2261.5,2,-999,9
  90KDIOFFE6_1,  S04P,781,1,27,27,2,19920325,1851,-67.0043,174.225,3157,1390.6,0.7207,34.707,2,34.7079,2,-999,9,203.1,2,124.09,2,31.61,2,0,2,2.27,2,0.022,2,0.003,3,-999,9,2260.9,2,-999,9
  90KDIOFFE6_1,  S04P,781,1,8,8,2,19920325,1851,-67.0043,174.225,3157,1674,0.6131,34.7037,2,34.7046,2,-999,9,205.8,2,127.02,2,31.61,2,0,2,2.28,2,-999,9,-999,9,-999,9,2261.3,2,-999,9
  90KDIOFFE6_1,  S04P,781,1,7,7,2,19920325,1851,-67.0043,174.225,3157,1923.8,0.5104,34.7016,2,34.7026,2,-999,9,208.1,2,128.52,2,31.79,2,0,2,2.28,2,0.074,2,0.018,3,-999,9,2261.3,2,-999,9
  90KDIOFFE6_1,  S04P,781,1,6,6,2,19920325,1851,-67.0043,174.225,3157,2192.5,0.4158,34.7004,2,34.7006,2,-999,9,210.6,2,129.54,2,31.79,2,0,2,2.29,2,-999,9,-999,9,-999,9,2264.1,2,-999,9
  90KDIOFFE6_1,  S04P,781,1,29,29,2,19920325,1851,-67.0043,174.225,3157,2468.5,0.3314,34.6981,2,34.6989,2,-999,9,213.7,2,129.12,2,31.76,2,0,2,2.28,2,0.203,2,0.076,3,-999,9,2262,2,-999,9
  90KDIOFFE6_1,  S04P,781,1,28,28,2,19920325,1851,-67.0043,174.225,3157,2739,0.2397,34.6965,2,34.6965,2,-999,9,217.3,2,124.69,2,31.69,2,0,2,2.27,2,-999,9,-999,9,-999,9,2259.1,2,-999,9
  90KDIOFFE6_1,  S04P,781,1,3,3,2,19920325,1851,-67.0043,174.225,3157,2963.4,0.1482,34.6944,2,34.6947,2,-999,9,221.1,2,120.73,2,31.63,2,0,2,2.27,2,0.636,2,0.276,3,-999,9,2259.3,2,-999,9
  90KDIOFFE6_1,  S04P,781,1,2,2,2,19920325,1851,-67.0043,174.225,3157,3125.9,0.0734,34.6947,2,34.6947,2,-999,9,224.2,2,116.34,2,31.52,2,0,2,2.26,2,-999,9,-999,9,-999,9,2258.7,2,-999,9
  90KDIOFFE6_1,  S04P,781,1,1,1,2,19920325,1851,-67.0043,174.225,3157,3194.2,0.0198,34.6947,2,34.6951,2,-999,9,226.8,2,112.61,2,31.41,2,0,2,2.26,2,1.114,2,0.479,3,-999,9,2256,2,-999,9