BOTTLE,20181005JHS,,,,,,,,,,,,,,,,,,,,,,,,,,,,,,,,,,,,,,
EXPOCODE,SECT_ID,STNNBR,CASTNO,SAMPNO,BTLNBR,BTLNBR_FLAG_W,DATE,TIME,LATITUDE,LONGITUDE,DEPTH,CTDPRS,CTDTMP,CTDSAL,CTDSAL_FLAG_W,SALNTY,SALNTY_FLAG_W,CTDOXY,CTDOXY_FLAG_W,OXYGEN,OXYGEN_FLAG_W,SILCAT,SILCAT_FLAG_W,NITRAT,NITRAT_FLAG_W,NITRIT,NITRIT_FLAG_W,PHSPHT,PHSPHT_FLAG_W,CFC-11,CFC-11_FLAG_W,CFC-12,CFC-12_FLAG_W,SF6,SF6_FLAG_W,TCARBN,TCARBN_FLAG_W,ALKALI,ALKALI_FLAG_W
,,,,,,,,,,,,DBAR,ITS-90,PSS-78,,PSS-78,,UMOL/KG,,UMOL/KG,,UMOL/KG,,UMOL/KG,,UMOL/KG,,UMOL/KG,,PMOL/KG,,PMOL/KG,,FMOL/KG,,UMOL/KG,,UMOL/KG,
  90KDIOFFE6_1,  S04P,708,1,24,24,2,19920301,1410,-67.0338,-96.7025,4671,11.9,0.6918,33.801,2,33.799,2,344.6,3,343.9,2,23.57,2,25.33,2,0.26,2,1.71,2,6.421,2,2.828,3,-999,9,2137.4,2,-999,9
  90KDIOFFE6_1,  S04P,708,1,23,23,2,19920301,1410,-67.0338,-96.7025,4671,22.6,0.6918,33.8012,2,33.799,2,342.7,2,343.9,2,23.38,2,25.14,2,0.25,2,1.73,2,6.534,2,2.891,3,-999,9,2136.4,2,-999,9
  90KDIOFFE6_1,  S04P,708,1,22,22,2,19920301,1410,-67.0338,-96.7025,4671,72.2,0.5959,33.8222,2,33.82,2,346,2,345.2,2,24.35,2,25.53,2,0.25,2,1.78,2,6.277,2,2.795,3,-999,9,2143.8,2,-999,9
  90KDIOFFE6_1,  S04P,708,1,21,21,2,19920301,1410,-67.0338,-96.7025,4671,132.5,-0.0896,33.9463,2,33.947,2,338.2,2,338.2,2,33.93,2,27.38,2,0.21,2,1.96,2,6.219,6,2.782,3,-999,9,-999,9,-999,9
  90KDIOFFE6_1,  S04P,708,1,20,20,2,19920301,1410,-67.0338,-96.7025,4671,183.1,-0.0127,34.0527,2,34.051,2,315.4,2,317.3,2,40.78,2,29.73,2,0.04,2,2.05,2,5.514,2,2.431,3,-999,9,-999,9,-999,9
  90KDIOFFE6_1,  S04P,708,1,19,19,2,19920301,1410,-67.0338,-96.7025,4671,233.8,1.0016,34.2313,2,34.227,2,260,2,259.9,2,53.39,2,32.17,2,0.01,2,2.23,2,3.499,6,1.523,3,-999,9,-999,9,-999,9
  90KDIOFFE6_1,  S04P,708,1,18,18,2,19920301,1410,-67.0338,-96.7025,4671,282.9,1.2374,34.3206,2,34.319,2,225,2,235.6,2,61.59,2,33.05,2,0,2,2.3,2,2.692,2,1.142,3,-999,9,-999,9,-999,9
  90KDIOFFE6_1,  S04P,708,1,17,17,2,19920301,1410,-67.0338,-96.7025,4671,324,1.4392,34.3688,2,34.373,2,225.6,2,220.4,2,65.4,2,33.53,2,0,2,2.33,2,2.082,2,0.904,3,-999,9,-999,9,-999,9
  90KDIOFFE6_1,  S04P,708,1,16,16,2,19920301,1410,-67.0338,-96.7025,4671,363.4,1.736,34.4357,2,34.432,2,200.3,2,204.3,2,69.61,2,33.92,2,0,2,2.36,2,1.534,2,0.657,3,-999,9,-999,9,-999,9
  90KDIOFFE6_1,  S04P,708,1,15,15,2,19920301,1410,-67.0338,-96.7025,4671,464,1.9719,34.5288,2,34.527,2,187.6,2,185.6,2,75.76,2,34.02,3,0,2,2.37,2,0.794,2,0.333,3,-999,9,-999,9,-999,9
  90KDIOFFE6_1,  S04P,708,1,14,14,2,19920301,1410,-67.0338,-96.7025,4671,564.2,1.9139,34.5834,2,34.582,2,183,2,183,2,79.76,2,33.63,2,0,2,2.34,2,0.658,2,0.268,3,-999,9,-999,9,-999,9
  90KDIOFFE6_1,  S04P,708,1,13,13,2,19920301,1410,-67.0338,-96.7025,4671,704.5,2.0328,34.651,2,34.65,2,177.5,2,179,2,83.47,2,32.74,2,0,2,2.28,2,0.276,2,0.097,3,-999,9,-999,9,-999,9
  90KDIOFFE6_1,  S04P,708,1,12,12,2,19920301,1410,-67.0338,-96.7025,4671,904.3,1.9839,34.6947,2,34.694,2,177.5,2,181.6,2,86.89,2,31.96,2,0,2,2.23,2,0.135,2,0.044,3,-999,9,-999,9,-999,9
  90KDIOFFE6_1,  S04P,708,1,26,26,2,19920301,1410,-67.0338,-96.7025,4671,1202.6,1.79,34.7252,2,34.723,2,186.5,2,188.1,2,93.15,2,31.37,2,0,2,2.17,2,0.071,2,0.02,3,-999,9,-999,9,-999,9
  90KDIOFFE6_1,  S04P,708,1,10,10,2,19920301,1410,-67.0338,-96.7025,4671,1601.4,1.4852,34.7293,2,34.728,2,195.7,2,194.7,2,102.14,2,31.28,2,0,2,2.17,2,0.041,2,0.009,3,-999,9,-999,9,-999,9
  90KDIOFFE6_1,  S04P,708,1,25,25,3,19920301,1410,-67.0338,-96.7025,4671,1998.7,1.2134,34.722,2,34.712,4,196.7,2,188.6,4,95.69,4,31.28,4,0,4,2.19,4,0.083,4,0.019,4,-999,9,-999,9,-999,9
  90KDIOFFE6_1,  S04P,708,1,8,8,2,19920301,1410,-67.0338,-96.7025,4671,2390.9,1.0085,34.7146,2,34.714,2,197.3,2,202.5,2,117.68,2,31.67,2,0,2,2.19,2,0.02,2,0.006,3,-999,9,-999,9,-999,9
  90KDIOFFE6_1,  S04P,708,1,7,7,2,19920301,1410,-67.0338,-96.7025,4671,2790,0.8497,34.7094,2,34.707,2,204.3,2,206,2,123.45,2,31.86,2,0,2,2.21,2,0.021,2,0.005,3,-999,9,-999,9,-999,9
  90KDIOFFE6_1,  S04P,708,1,6,6,2,19920301,1410,-67.0338,-96.7025,4671,3203.6,0.6788,34.7033,2,34.704,2,207.8,2,209,2,127.84,2,32.06,2,0,2,2.22,2,0.03,2,0.011,3,-999,9,-999,9,-999,9
  90KDIOFFE6_1,  S04P,708,1,5,5,2,19920301,1410,-67.0338,-96.7025,4671,3612.2,0.5029,34.7017,2,34.701,2,213.5,2,212.5,2,132.73,2,32.25,2,0,2,2.23,2,0.027,2,0.011,3,-999,9,-999,9,-999,9
  90KDIOFFE6_1,  S04P,708,1,4,4,2,19920301,1410,-67.0338,-96.7025,4671,4007.5,0.408,34.7009,2,34.701,2,214.5,2,-999,5,136.25,2,32.25,2,0,2,2.23,2,0.028,2,0.007,3,-999,9,-999,9,-999,9
  90KDIOFFE6_1,  S04P,708,1,3,3,2,19920301,1410,-67.0338,-96.7025,4671,4292,0.367,34.7005,2,34.704,3,217.8,2,216.4,2,137.42,2,32.35,2,0,2,2.24,2,0.052,2,0.013,3,-999,9,-999,9,-999,9
  90KDIOFFE6_1,  S04P,708,1,2,2,2,19920301,1410,-67.0338,-96.7025,4671,4554.3,0.353,34.7006,2,34.701,2,216.7,2,217.2,2,140.36,2,32.35,2,0,2,2.25,2,0.055,2,0.024,3,-999,9,-999,9,-999,9
  90KDIOFFE6_1,  S04P,708,1,1,1,2,19920301,1410,-67.0338,-96.7025,4671,4756.3,0.349,34.7007,2,34.701,2,218.6,2,217.7,2,143.29,2,32.35,2,0,2,2.24,2,0.091,2,0.032,3,-999,9,-999,9,-999,9
  90KDIOFFE6_1,  S04P,709,1,24,24,2,19920302,131,-67.01,-98.3647,4639,13,0.6258,-999,9,33.8144,2,-999,9,343,2,23.99,2,25.34,2,0.26,2,1.74,2,-999,9,-999,9,-999,9,2144.2,2,-999,9
  90KDIOFFE6_1,  S04P,709,1,23,23,2,19920302,131,-67.01,-98.3647,4639,66,0.6258,-999,9,33.8144,2,-999,9,343.2,2,23.59,2,25.36,2,0.26,2,1.74,2,-999,9,-999,9,-999,9,2139.5,2,-999,9
  90KDIOFFE6_1,  S04P,709,1,22,22,2,19920302,131,-67.01,-98.3647,4639,107,-0.2995,-999,9,33.8934,2,-999,9,342.5,2,37.82,2,26.98,2,0.21,2,1.91,2,-999,9,-999,9,-999,9,2157.4,2,-999,9
  90KDIOFFE6_1,  S04P,709,1,21,21,2,19920302,131,-67.01,-98.3647,4639,173,-0.3994,-999,9,34.06,2,-999,9,312.3,2,42.81,2,29.79,2,0.01,2,2.06,2,-999,9,-999,9,-999,9,2179,2,-999,9
  90KDIOFFE6_1,  S04P,709,1,20,20,2,19920302,131,-67.01,-98.3647,4639,203,0.3001,-999,9,34.1318,2,-999,9,291,2,50.2,2,31.23,2,0.01,2,2.14,2,-999,9,-999,9,-999,9,2193.8,2,-999,9
  90KDIOFFE6_1,  S04P,709,1,19,19,2,19920302,131,-67.01,-98.3647,4639,238,1.1005,-999,9,34.2896,2,-999,9,240.9,2,58,2,33.39,3,0.01,2,2.28,2,-999,9,-999,9,-999,9,2214.8,2,-999,9
  90KDIOFFE6_1,  S04P,709,1,18,18,2,19920302,131,-67.01,-98.3647,4639,303,1.4302,-999,9,34.3792,2,-999,9,220.7,2,66.47,2,34.01,3,0,2,2.33,2,-999,9,-999,9,-999,9,2230.3,2,-999,9
  90KDIOFFE6_1,  S04P,709,1,17,17,2,19920302,131,-67.01,-98.3647,4639,403,1.82,-999,9,34.4989,2,-999,9,193,2,74.38,2,34.4,3,0,2,2.36,2,-999,9,-999,9,-999,9,2245.6,2,-999,9
  90KDIOFFE6_1,  S04P,709,1,16,16,2,19920302,131,-67.01,-98.3647,4639,503,2.0208,-999,9,34.5824,2,-999,9,180.3,2,78.81,2,34.1,3,0,2,2.33,2,-999,9,-999,9,-999,9,2253.9,2,-999,9
  90KDIOFFE6_1,  S04P,709,1,15,15,2,19920302,131,-67.01,-98.3647,4639,654,1.9799,-999,9,34.6364,2,-999,9,179.4,2,82.29,2,33.35,3,0,2,2.28,2,-999,9,-999,9,-999,9,2257.3,2,-999,9
  90KDIOFFE6_1,  S04P,709,1,14,14,2,19920302,131,-67.01,-98.3647,4639,804,2.0008,-999,9,34.6794,2,-999,9,180,2,85.76,2,32.78,3,0,2,2.24,2,-999,9,-999,9,-999,9,2255.7,2,-999,9
  90KDIOFFE6_1,  S04P,709,1,13,13,2,19920302,131,-67.01,-98.3647,4639,1003,1.9049,-999,9,34.7117,2,-999,9,185,2,89.05,2,31.84,3,0,2,2.19,2,-999,9,-999,9,-999,9,2251.9,2,-999,9
  90KDIOFFE6_1,  S04P,709,1,12,12,2,19920302,131,-67.01,-98.3647,4639,1300,1.7001,-999,9,34.7282,2,-999,9,190.8,2,96.04,2,31.53,3,0,2,2.16,2,-999,9,-999,9,-999,9,-999,9,-999,9
  90KDIOFFE6_1,  S04P,709,1,26,26,2,19920302,131,-67.01,-98.3647,4639,1600,1.4502,-999,9,34.7284,2,-999,9,194.3,2,102.29,2,31.32,3,0,2,2.16,2,-999,9,-999,9,-999,9,-999,9,-999,9
  90KDIOFFE6_1,  S04P,709,1,10,10,2,19920302,131,-67.01,-98.3647,4639,1900,1.2504,-999,9,34.7237,2,-999,9,197.1,2,109.17,2,31.71,3,0,2,2.18,2,-999,9,-999,9,-999,9,-999,9,-999,9
  90KDIOFFE6_1,  S04P,709,1,25,25,2,19920302,131,-67.01,-98.3647,4639,2200,1.0905,-999,9,34.7172,2,-999,9,201.1,2,115.1,2,31.73,3,0,2,2.19,2,-999,9,-999,9,-999,9,-999,9,-999,9
  90KDIOFFE6_1,  S04P,709,1,8,8,2,19920302,131,-67.01,-98.3647,4639,2500,0.9406,-999,9,34.7121,2,-999,9,203.9,2,120.07,2,31.89,3,0,2,2.2,2,-999,9,-999,9,-999,9,-999,9,-999,9
  90KDIOFFE6_1,  S04P,709,1,7,7,2,19920302,131,-67.01,-98.3647,4639,2800,0.8307,-999,9,34.708,2,-999,9,206.1,2,124.27,2,32,2,0,2,2.2,2,-999,9,-999,9,-999,9,-999,9,-999,9
  90KDIOFFE6_1,  S04P,709,1,6,6,2,19920302,131,-67.01,-98.3647,4639,3095,0.6908,-999,9,34.7045,2,-999,9,208.3,2,128.08,2,32.07,2,0,2,2.21,2,0.027,2,0.006,3,-999,9,-999,9,-999,9
  90KDIOFFE6_1,  S04P,709,1,5,5,2,19920302,131,-67.01,-98.3647,4639,3395,0.5599,-999,9,34.7019,2,-999,9,211.3,2,131.1,2,32.05,2,0,2,2.23,2,0.021,6,0.007,3,-999,9,-999,9,-999,9
  90KDIOFFE6_1,  S04P,709,1,4,4,2,19920302,131,-67.01,-98.3647,4639,3745,0.4709,-999,9,34.7013,2,-999,9,213.5,2,134.55,2,32.21,2,0,2,2.23,2,0.025,2,0.007,3,-999,9,-999,9,-999,9
  90KDIOFFE6_1,  S04P,709,1,3,3,2,19920302,131,-67.01,-98.3647,4639,4040,0.422,-999,9,34.7007,2,-999,9,215,2,135.96,2,32.23,2,0,2,2.24,2,0.043,2,0.011,3,-999,9,-999,9,-999,9
  90KDIOFFE6_1,  S04P,709,1,2,2,2,19920302,131,-67.01,-98.3647,4639,4504.1,0.331,34.7,2,34.7,2,217.3,2,217.3,2,143.36,2,32.39,2,0,2,2.24,2,0.067,2,0.026,3,-999,9,-999,9,-999,9
  90KDIOFFE6_1,  S04P,709,1,1,1,2,19920302,131,-67.01,-98.3647,4639,4721.2,0.349,34.6997,2,34.7005,2,217.8,2,217.6,2,142.93,2,32.32,2,0,2,2.24,2,0.082,2,0.028,3,-999,9,-999,9,-999,9
  90KDIOFFE6_1,  S04P,710,1,24,24,2,19920302,1011,-66.9865,-99.9797,4692,13.3,0.7702,33.8135,2,33.8126,2,427.6,3,342.1,2,22.67,2,25.06,2,0.27,2,1.74,2,6.352,2,2.767,3,-999,9,2136,2,-999,9
  90KDIOFFE6_1,  S04P,710,1,23,23,2,19920302,1011,-66.9865,-99.9797,4692,54.3,0.6347,33.8111,2,33.8097,2,340.5,3,343.2,2,24.38,2,25.2,2,0.26,2,1.75,2,6.513,2,2.841,3,-999,9,2139.5,2,-999,9
  90KDIOFFE6_1,  S04P,710,1,22,22,2,19920302,1011,-66.9865,-99.9797,4692,84.3,0.1653,33.8745,2,33.8429,2,334.9,3,343.7,2,25.53,2,25.73,2,0.25,2,1.81,2,6.52,2,2.828,3,-999,9,-999,9,-999,9
  90KDIOFFE6_1,  S04P,710,1,21,21,2,19920302,1011,-66.9865,-99.9797,4692,129.3,-0.3907,33.9938,2,33.9894,2,339.9,2,334,2,34.89,2,28.57,2,0.07,2,1.99,2,6.218,6,2.742,3,-999,9,-999,9,-999,9
  90KDIOFFE6_1,  S04P,710,1,20,20,2,19920302,1011,-66.9865,-99.9797,4692,184.5,0.0813,34.096,2,34.0943,2,313.7,2,303.9,2,44.45,2,30.13,2,0,2,2.1,2,4.877,2,2.183,3,-999,9,-999,9,-999,9
  90KDIOFFE6_1,  S04P,710,1,19,19,2,19920302,1011,-66.9865,-99.9797,4692,255.6,1.695,34.3436,2,34.3418,2,229.5,2,222.9,2,60.34,2,33.28,2,0,2,2.31,2,2.182,2,0.924,3,-999,9,-999,9,-999,9
  90KDIOFFE6_1,  S04P,710,1,18,18,2,19920302,1011,-66.9865,-99.9797,4692,355.9,1.8645,34.4677,2,34.4662,2,189.4,2,196.1,2,70.71,2,33.8,2,0,2,2.36,2,1.249,2,0.523,3,-999,9,-999,9,-999,9
  90KDIOFFE6_1,  S04P,710,1,17,17,2,19920302,1011,-66.9865,-99.9797,4692,455.4,1.9161,34.5456,2,34.5451,2,175.8,2,185.4,2,76.49,2,33.63,2,0,2,2.36,2,0.8,2,0.324,3,-999,9,-999,9,-999,9
  90KDIOFFE6_1,  S04P,710,1,16,16,2,19920302,1011,-66.9865,-99.9797,4692,555.9,1.91,34.5926,2,34.5911,2,184.6,2,183,2,79.77,2,33.41,2,0,2,2.34,2,0.636,6,0.253,3,-999,9,-999,9,-999,9
  90KDIOFFE6_1,  S04P,710,1,15,15,2,19920302,1011,-66.9865,-99.9797,4692,656.2,1.9979,34.6412,2,34.6384,2,181.8,2,179.2,2,82.13,2,32.8,2,0,2,2.29,2,0.339,2,0.124,3,-999,9,-999,9,-999,9
  90KDIOFFE6_1,  S04P,710,1,14,14,2,19920302,1011,-66.9865,-99.9797,4692,756,2.0106,34.6704,2,34.6683,2,183.9,2,180,2,83.84,2,32.25,2,0,2,2.26,2,0.224,2,0.079,3,-999,9,-999,9,-999,9
  90KDIOFFE6_1,  S04P,710,1,13,13,2,19920302,1011,-66.9865,-99.9797,4692,903.3,1.9475,34.6984,2,34.6969,2,183.9,2,182.7,2,86.79,2,31.79,2,0,2,2.21,2,0.146,2,0.048,3,-999,9,-999,9,-999,9
  90KDIOFFE6_1,  S04P,710,1,12,12,2,19920302,1011,-66.9865,-99.9797,4692,1195.3,1.7496,34.7258,2,34.7258,2,190.4,2,189.2,2,93.02,2,31.09,2,0,2,2.16,2,0.072,2,0.02,3,-999,9,-999,9,-999,9
  90KDIOFFE6_1,  S04P,710,1,26,26,2,19920302,1011,-66.9865,-99.9797,4692,1488.3,1.5324,34.729,2,34.7285,2,193.4,2,193.7,2,100.07,2,31.11,2,0,2,2.15,2,0.042,2,0.008,3,-999,9,-999,9,-999,9
  90KDIOFFE6_1,  S04P,710,1,10,10,2,19920302,1011,-66.9865,-99.9797,4692,1840.9,1.3073,34.7249,2,34.7248,2,197.8,2,197.2,2,106.98,2,31.39,2,0,2,2.18,2,0.029,2,0.006,3,-999,9,-999,9,-999,9
  90KDIOFFE6_1,  S04P,710,1,25,25,2,19920302,1011,-66.9865,-99.9797,4692,2202.4,1.1046,34.7183,2,34.717,2,199.1,2,202.1,2,113.52,2,31.62,2,0,2,2.18,2,0.024,2,0.006,3,-999,9,-999,9,-999,9
  90KDIOFFE6_1,  S04P,710,1,8,8,2,19920302,1011,-66.9865,-99.9797,4692,2563.4,0.9204,34.7114,2,34.7119,2,203.9,2,204.5,2,120.11,2,31.74,2,0,2,2.19,2,0.038,3,0.005,3,-999,9,-999,9,-999,9
  90KDIOFFE6_1,  S04P,710,1,7,7,2,19920302,1011,-66.9865,-99.9797,4692,2919.5,0.7722,34.706,2,34.706,2,206.8,2,207.2,2,125.14,2,32.02,2,0,2,2.22,2,0.14,4,0.022,4,-999,9,-999,9,-999,9
  90KDIOFFE6_1,  S04P,710,1,6,6,2,19920302,1011,-66.9865,-99.9797,4692,3271.4,0.6296,34.7031,2,34.7029,2,213.2,2,210,2,128.39,2,32.09,2,0,2,2.22,2,0.037,3,0.01,3,-999,9,-999,9,-999,9
  90KDIOFFE6_1,  S04P,710,1,5,5,2,19920302,1011,-66.9865,-99.9797,4692,3628.7,0.5045,34.7016,2,34.7015,2,212.6,2,212.3,2,132.95,2,32.07,2,0,2,2.24,2,0.021,2,0.01,3,-999,9,-999,9,-999,9
  90KDIOFFE6_1,  S04P,710,1,4,4,2,19920302,1011,-66.9865,-99.9797,4692,3988.1,0.4348,34.7008,2,34.7013,2,216,2,214.1,2,136.79,2,32.15,2,0,2,2.25,2,0.018,2,0.005,3,-999,9,-999,9,-999,9
  90KDIOFFE6_1,  S04P,710,1,3,3,2,19920302,1011,-66.9865,-99.9797,4692,4298,0.3909,34.6997,2,34.6999,2,216,2,215.4,2,138.66,2,32.18,2,0,2,2.24,2,0.03,2,0.008,3,-999,9,-999,9,-999,9
  90KDIOFFE6_1,  S04P,710,1,2,2,2,19920302,1011,-66.9865,-99.9797,4692,4617.3,0.3536,34.6993,2,34.7005,2,216.3,2,216,2,146.59,2,32.34,2,0,2,2.25,2,0.049,2,0.017,3,-999,9,-999,9,-999,9
  90KDIOFFE6_1,  S04P,710,1,1,1,2,19920302,1011,-66.9865,-99.9797,4692,4780.2,0.3569,34.6997,2,34.7007,2,219.1,2,217.2,2,144.32,2,32.27,2,0,2,2.24,2,0.087,2,0.029,3,-999,9,-999,9,-999,9
  90KDIOFFE6_1,  S04P,711,1,24,24,2,19920302,1744,-66.9887,-101.8392,4719,14.3,0.8782,33.8409,3,33.8206,2,-999,5,342,2,22.84,2,25.08,2,0.26,2,1.71,2,-999,9,-999,9,-999,9,2140.7,2,-999,9
  90KDIOFFE6_1,  S04P,711,1,23,23,2,19920302,1744,-66.9887,-101.8392,4719,74.2,0.8727,33.8424,3,33.824,2,-999,5,341.5,2,22.23,2,25.04,2,0.26,2,1.72,2,-999,9,-999,9,-999,9,2138.7,2,-999,9
  90KDIOFFE6_1,  S04P,711,1,22,22,2,19920302,1744,-66.9887,-101.8392,4719,115.1,-0.2319,33.9438,3,33.9242,2,-999,5,339.9,2,34.78,2,27.06,2,0.22,2,1.95,2,-999,9,-999,9,-999,9,2161.4,2,-999,9
  90KDIOFFE6_1,  S04P,711,1,21,21,2,19920302,1744,-66.9887,-101.8392,4719,155.8,-0.3669,34.0414,3,34.016,2,-999,5,326.1,2,40.36,2,29.17,2,0.01,2,2.01,2,-999,9,-999,9,-999,9,2171.8,2,-999,9
  90KDIOFFE6_1,  S04P,711,1,20,20,2,19920302,1744,-66.9887,-101.8392,4719,195.5,-0.1658,34.1267,3,34.1271,2,-999,5,293.2,2,50.19,2,30.56,2,0.01,2,2.13,2,-999,9,-999,9,-999,9,2192.3,2,-999,9
  90KDIOFFE6_1,  S04P,711,1,19,19,2,19920302,1744,-66.9887,-101.8392,4719,225.5,0.794,34.2542,3,34.2367,2,-999,5,259.2,2,56.92,2,32.17,2,0.01,2,2.23,2,-999,9,-999,9,-999,9,2212,2,-999,9
  90KDIOFFE6_1,  S04P,711,1,18,18,2,19920302,1744,-66.9887,-101.8392,4719,274.5,1.5284,34.3835,3,34.3631,2,-999,5,222,2,64.88,2,33.52,2,0,2,2.31,2,-999,9,-999,9,-999,9,2228.8,2,-999,9
  90KDIOFFE6_1,  S04P,711,1,17,17,2,19920302,1744,-66.9887,-101.8392,4719,303.5,1.5282,34.4132,3,34.3987,2,-999,5,214.8,2,68.46,2,33.66,2,0,2,2.34,2,-999,9,-999,9,-999,9,2233.5,2,-999,9
  90KDIOFFE6_1,  S04P,711,1,16,16,2,19920302,1744,-66.9887,-101.8392,4719,352.2,1.6836,34.4801,3,34.4605,2,-999,5,201,2,72.88,2,34.05,2,0,2,2.34,2,-999,9,-999,9,-999,9,2243.3,2,-999,9
  90KDIOFFE6_1,  S04P,711,1,15,15,2,19920302,1744,-66.9887,-101.8392,4719,478.1,1.8551,34.5717,3,34.5552,2,-999,5,186.5,2,79,2,33.73,2,0,2,2.34,2,-999,9,-999,9,-999,9,2253.3,2,-999,9
  90KDIOFFE6_1,  S04P,711,1,14,14,2,19920302,1744,-66.9887,-101.8392,4719,592.1,1.9035,34.6276,3,34.6115,2,-999,5,181.9,2,82.25,2,33.33,2,0,2,2.32,2,-999,9,-999,9,-999,9,2254.3,2,-999,9
  90KDIOFFE6_1,  S04P,711,1,13,13,2,19920302,1744,-66.9887,-101.8392,4719,786.9,1.976,34.6941,3,34.6817,2,-999,5,180.6,2,86.29,2,32.28,2,0,2,2.23,2,-999,9,-999,9,-999,9,2253.7,2,-999,9
  90KDIOFFE6_1,  S04P,711,1,12,12,2,19920302,1744,-66.9887,-101.8392,4719,1097.3,1.8007,34.7367,3,34.7213,2,-999,5,187.9,2,92.49,2,31.27,2,0,2,2.17,2,-999,9,-999,9,-999,9,2254.8,2,-999,9
  90KDIOFFE6_1,  S04P,711,1,26,26,2,19920302,1744,-66.9887,-101.8392,4719,1409.9,1.5726,34.7466,3,34.729,2,-999,5,193.2,2,100.08,2,31.13,2,0,2,2.16,2,-999,9,-999,9,-999,9,2255.6,2,-999,9
  90KDIOFFE6_1,  S04P,711,1,10,10,2,19920302,1744,-66.9887,-101.8392,4719,1715.5,1.3474,34.7381,3,34.7261,2,-999,5,196.7,2,107.12,2,31.26,2,0,2,2.17,2,-999,9,-999,9,-999,9,2259.4,2,-999,9
  90KDIOFFE6_1,  S04P,711,1,25,25,3,19920302,1744,-66.9887,-101.8392,4719,2015.5,1.1594,34.7292,3,34.615,4,-999,5,189.1,4,86.68,4,32.88,4,0,4,2.27,4,-999,9,-999,9,-999,9,-999,9,-999,9
  90KDIOFFE6_1,  S04P,711,1,8,8,2,19920302,1744,-66.9887,-101.8392,4719,2414.9,0.9633,34.7168,3,34.7135,2,-999,5,203.7,2,119.74,2,31.65,2,0,2,2.2,2,-999,9,-999,9,-999,9,2260.7,2,-999,9
  90KDIOFFE6_1,  S04P,711,1,7,7,2,19920302,1744,-66.9887,-101.8392,4719,2823.9,0.8058,34.7154,3,34.7078,2,-999,5,206.3,2,125.51,2,31.91,2,0,2,2.21,2,-999,9,-999,9,-999,9,2262.1,2,-999,9
  90KDIOFFE6_1,  S04P,711,1,6,6,2,19920302,1744,-66.9887,-101.8392,4719,3235.2,0.6416,34.7101,3,34.7039,2,-999,5,209.6,2,129.49,2,32.12,2,0,2,2.22,2,0.032,2,0.01,3,-999,9,2260.9,2,-999,9
  90KDIOFFE6_1,  S04P,711,1,5,5,2,19920302,1744,-66.9887,-101.8392,4719,3645.2,0.4934,34.7077,3,34.7015,2,-999,5,212.7,2,133.91,2,32.12,2,0,2,2.23,2,0.022,2,0.005,3,-999,9,2262,2,-999,9
  90KDIOFFE6_1,  S04P,711,1,4,4,2,19920302,1744,-66.9887,-101.8392,4719,4002.4,0.4137,34.6989,3,34.7007,2,-999,5,215,2,135.69,2,32.21,2,0,2,2.24,2,0.03,6,0.009,3,-999,9,2262.6,2,-999,9
  90KDIOFFE6_1,  S04P,711,1,3,3,2,19920302,1744,-66.9887,-101.8392,4719,4361.7,0.3686,34.7005,3,34.7007,2,-999,5,216.5,2,138.91,2,32.25,2,0,2,2.24,2,0.045,2,0.013,3,-999,9,2261.1,2,-999,9
  90KDIOFFE6_1,  S04P,711,1,2,2,2,19920302,1744,-66.9887,-101.8392,4719,4621.2,0.3574,34.7005,3,34.7005,2,-999,5,217.3,2,142.98,2,32.33,2,0,2,2.24,2,0.051,2,0.018,3,-999,9,2263.6,2,-999,9
  90KDIOFFE6_1,  S04P,711,1,1,1,2,19920302,1744,-66.9887,-101.8392,4719,4807.9,0.3586,34.7004,3,34.7003,2,-999,5,217.4,2,143.95,2,32.28,2,0,2,2.25,2,0.083,2,0.027,3,-999,9,2264.5,2,-999,9