BOTTLE,20181005JHS,,,,,,,,,,,,,,,,,,,,,,,,,,,,,,,,,,,,,,
EXPOCODE,SECT_ID,STNNBR,CASTNO,SAMPNO,BTLNBR,BTLNBR_FLAG_W,DATE,TIME,LATITUDE,LONGITUDE,DEPTH,CTDPRS,CTDTMP,CTDSAL,CTDSAL_FLAG_W,SALNTY,SALNTY_FLAG_W,CTDOXY,CTDOXY_FLAG_W,OXYGEN,OXYGEN_FLAG_W,SILCAT,SILCAT_FLAG_W,NITRAT,NITRAT_FLAG_W,NITRIT,NITRIT_FLAG_W,PHSPHT,PHSPHT_FLAG_W,CFC-11,CFC-11_FLAG_W,CFC-12,CFC-12_FLAG_W,SF6,SF6_FLAG_W,TCARBN,TCARBN_FLAG_W,ALKALI,ALKALI_FLAG_W
,,,,,,,,,,,,DBAR,ITS-90,PSS-78,,PSS-78,,UMOL/KG,,UMOL/KG,,UMOL/KG,,UMOL/KG,,UMOL/KG,,UMOL/KG,,PMOL/KG,,PMOL/KG,,FMOL/KG,,UMOL/KG,,UMOL/KG,
  90KDIOFFE6_1,  S04P,700,1,24,24,2,19920227,544,-67.0102,-84.704,4335,13.3,0.6818,33.6308,2,33.627,2,344.9,2,345.7,2,35.7,2,24.06,2,0.26,2,1.71,2,6.062,2,2.754,3,-999,9,2125.5,2,-999,9
  90KDIOFFE6_1,  S04P,700,1,23,23,2,19920227,544,-67.0102,-84.704,4335,43.1,0.5309,33.7362,2,33.746,2,341.7,2,346.1,2,31.98,2,25.53,2,0.25,2,1.82,2,6.377,2,2.87,3,-999,9,2140.5,2,-999,9
  90KDIOFFE6_1,  S04P,700,1,22,22,2,19920227,544,-67.0102,-84.704,4335,93.4,-0.9619,33.9472,2,33.945,2,330.3,2,342.1,2,36.28,2,27.77,2,0.22,2,1.98,2,-0.009,4,2.815,3,-999,9,-999,9,-999,9
  90KDIOFFE6_1,  S04P,700,1,21,21,2,19920227,544,-67.0102,-84.704,4335,153.5,-0.3135,34.0822,2,34.089,2,308.3,2,306.5,2,46.84,2,30.12,2,0.02,2,2.11,2,-999,9,-999,9,-999,9,-999,9,-999,9
  90KDIOFFE6_1,  S04P,700,1,20,20,2,19920227,544,-67.0102,-84.704,4335,253.7,1.2784,34.3334,2,34.334,2,230.9,2,231.2,2,63.94,2,33.14,2,0.01,2,2.32,2,2.412,2,1.063,3,-999,9,-999,9,-999,9
  90KDIOFFE6_1,  S04P,700,1,19,19,2,19920227,544,-67.0102,-84.704,4335,354,1.8979,34.4846,2,34.486,2,191.7,2,191.2,2,73.71,2,33.82,2,0.01,2,2.38,2,1.04,2,0.442,3,-999,9,-999,9,-999,9
  90KDIOFFE6_1,  S04P,700,1,18,18,2,19920227,544,-67.0102,-84.704,4335,455.3,1.9659,34.5627,2,34.562,2,182.1,2,183.4,2,78.3,2,33.43,2,0.01,2,2.35,2,0.671,2,0.279,3,-999,9,-999,9,-999,9
  90KDIOFFE6_1,  S04P,700,1,17,17,2,19920227,544,-67.0102,-84.704,4335,556,2.0138,34.6041,2,34.606,2,177.3,2,179.5,2,80.84,2,33.04,2,0.01,2,2.33,2,0.44,2,0.18,3,-999,9,-999,9,-999,9
  90KDIOFFE6_1,  S04P,700,1,16,16,2,19920227,544,-67.0102,-84.704,4335,656.5,2.0148,34.6422,2,34.642,2,179.8,2,179,2,83.28,2,32.65,2,0.01,2,2.29,2,0.311,2,0.125,3,-999,9,-999,9,-999,9
  90KDIOFFE6_1,  S04P,700,1,15,15,2,19920227,544,-67.0102,-84.704,4335,755.7,2.0068,34.6723,2,34.67,2,180.3,2,179,2,85.04,2,32.16,2,0.01,2,2.26,2,0.203,2,0.083,3,-999,9,-999,9,-999,9
  90KDIOFFE6_1,  S04P,700,1,14,14,2,19920227,544,-67.0102,-84.704,4335,854.6,1.9809,34.6914,2,34.692,2,181.5,2,180.8,2,86.79,2,31.77,2,0.01,2,2.23,2,0.13,2,0.047,3,-999,9,-999,9,-999,9
  90KDIOFFE6_1,  S04P,700,1,13,13,2,19920227,544,-67.0102,-84.704,4335,1003,1.9029,34.7119,2,34.693,4,187.5,2,184.2,2,89.34,2,31.18,2,0.01,2,2.2,2,0.083,2,0.026,3,-999,9,-999,9,-999,9
  90KDIOFFE6_1,  S04P,700,1,12,12,2,19920227,544,-67.0102,-84.704,4335,1207.1,1.772,34.7249,2,34.723,2,188.9,2,188.6,2,93.54,2,30.98,2,0.01,2,2.17,2,0.059,2,0.023,3,-999,9,-999,9,-999,9
  90KDIOFFE6_1,  S04P,700,1,11,11,2,19920227,544,-67.0102,-84.704,4335,1407.1,1.6081,34.7298,2,34.729,2,191,2,192.1,2,98.62,2,30.79,2,0.01,2,2.17,2,0.039,2,0.014,3,-999,9,-999,9,-999,9
  90KDIOFFE6_1,  S04P,700,1,10,10,2,19920227,544,-67.0102,-84.704,4335,1706.8,1.3983,34.7267,2,34.726,2,193.1,2,195.5,2,105.36,2,30.89,2,0.01,2,2.18,2,0.024,2,0.009,3,-999,9,-999,9,-999,9
  90KDIOFFE6_1,  S04P,700,1,9,9,2,19920227,544,-67.0102,-84.704,4335,2005.5,1.2124,34.7221,2,34.721,2,197.3,2,198.6,2,111.13,2,31.08,2,0.01,2,2.2,2,0.018,2,0.005,3,-999,9,-999,9,-999,9
  90KDIOFFE6_1,  S04P,700,1,8,8,2,19920227,544,-67.0102,-84.704,4335,2306.8,1.0335,34.7165,2,34.716,2,199.7,2,201.6,2,117.09,2,31.37,2,0.01,2,2.21,2,0.011,2,0.007,3,-999,9,-999,9,-999,9
  90KDIOFFE6_1,  S04P,700,1,7,7,2,19920227,544,-67.0102,-84.704,4335,2610.3,0.8806,34.7096,2,34.71,2,203.2,2,204.6,2,122.66,2,31.57,2,0.01,2,2.21,2,0.011,2,0.005,3,-999,9,-999,9,-999,9
  90KDIOFFE6_1,  S04P,700,1,6,6,2,19920227,544,-67.0102,-84.704,4335,2915.5,0.7397,34.7045,2,34.706,2,205.6,2,207.3,2,126.96,2,31.77,2,0,2,2.23,2,0.015,3,0.005,3,-999,9,-999,9,-999,9
  90KDIOFFE6_1,  S04P,700,1,5,5,2,19920227,544,-67.0102,-84.704,4335,3224.1,0.6058,34.7035,2,34.704,2,209.4,2,209.9,2,130.48,2,31.86,2,0,2,2.24,2,0.009,2,0.007,3,-999,9,-999,9,-999,9
  90KDIOFFE6_1,  S04P,700,1,4,4,2,19920227,544,-67.0102,-84.704,4335,3532,0.4949,34.7012,2,34.702,2,212.1,2,212,2,134.78,2,31.86,2,0,2,2.25,2,0.009,2,0.006,3,-999,9,-999,9,-999,9
  90KDIOFFE6_1,  S04P,700,1,3,3,2,19920227,544,-67.0102,-84.704,4335,3838.7,0.441,34.7016,2,34.702,2,214.5,2,213.3,2,137.52,2,31.86,2,0,2,2.25,2,0.018,3,0.006,3,-999,9,-999,9,-999,9
  90KDIOFFE6_1,  S04P,700,1,2,2,2,19920227,544,-67.0102,-84.704,4335,4147.1,0.407,34.7006,2,34.699,2,216,2,214.2,2,140.06,2,31.96,2,0,2,2.25,2,0.008,2,0.004,3,-999,9,-999,9,-999,9
  90KDIOFFE6_1,  S04P,700,1,1,1,2,19920227,544,-67.0102,-84.704,4335,4407.3,0.382,34.7008,2,34.699,2,215.1,2,214.2,2,146.22,2,32.06,2,0,2,2.27,2,0.035,2,0.012,3,-999,9,-999,9,-999,9
  90KDIOFFE6_1,  S04P,701,1,24,24,2,19920227,1224,-67.0128,-85.8822,4306,23.8,0.6678,33.728,2,33.7282,2,338.8,2,343.9,2,29.44,2,25.35,2,0.29,2,1.78,2,-999,9,-999,9,-999,9,2137.1,2,-999,9
  90KDIOFFE6_1,  S04P,701,1,23,23,2,19920227,1224,-67.0128,-85.8822,4306,52.5,-0.3384,33.8418,2,33.8495,2,348.5,2,350.9,2,29.86,2,26.11,2,0.21,2,1.86,2,-999,9,-999,9,-999,9,2146.1,2,-999,9
  90KDIOFFE6_1,  S04P,701,1,22,22,2,19920227,1224,-67.0128,-85.8822,4306,101.6,-0.7461,33.9672,2,33.9663,2,332.3,2,339.1,2,34.58,2,27.88,2,0.24,2,1.98,2,-999,9,-999,9,-999,9,2162.2,2,-999,9
  90KDIOFFE6_1,  S04P,701,1,21,21,2,19920227,1224,-67.0128,-85.8822,4306,153.7,-0.1466,34.0739,2,34.0729,2,315.6,2,311.2,2,42.72,2,29.62,2,0,2,2.09,2,-999,9,-999,9,-999,9,2180.1,2,-999,9
  90KDIOFFE6_1,  S04P,701,1,20,20,2,19920227,1224,-67.0128,-85.8822,4306,204.1,0.8307,34.233,2,34.233,2,280.7,2,261.4,2,54.36,2,31.75,2,0,2,2.18,2,3.516,2,1.558,3,-999,9,2206.4,2,-999,9
  90KDIOFFE6_1,  S04P,701,1,19,19,2,19920227,1224,-67.0128,-85.8822,4306,253.7,1.3693,34.3243,2,34.3252,2,236.2,2,232,2,60.82,2,32.64,2,0,2,2.3,2,-999,9,-999,9,-999,9,2222.1,2,-999,9
  90KDIOFFE6_1,  S04P,701,1,18,18,2,19920227,1224,-67.0128,-85.8822,4306,301.8,1.741,34.4086,2,34.4089,2,208.7,2,207.7,2,66.41,2,33.08,2,0,2,2.35,2,1.612,2,0.697,3,-999,9,2234.9,2,-999,9
  90KDIOFFE6_1,  S04P,701,1,17,17,2,19920227,1224,-67.0128,-85.8822,4306,352.6,1.9289,34.4642,2,34.4598,2,196.5,2,194.8,2,69.85,2,33.53,2,0,2,2.36,2,-999,9,-999,9,-999,9,2240.3,2,-999,9
  90KDIOFFE6_1,  S04P,701,1,16,16,2,19920227,1224,-67.0128,-85.8822,4306,402.3,1.8719,34.4894,2,34.4884,2,189.4,2,191.8,2,72.65,2,33.53,2,0,2,2.36,2,1.043,2,0.455,3,-999,9,2242.1,2,-999,9
  90KDIOFFE6_1,  S04P,701,1,15,15,2,19920227,1224,-67.0128,-85.8822,4306,504.6,2.0038,34.565,2,34.5649,2,179.7,2,181.8,2,76.95,2,33.29,2,0,2,2.34,2,0.618,2,0.261,3,-999,9,2249.9,2,-999,9
  90KDIOFFE6_1,  S04P,701,1,14,14,2,19920227,1224,-67.0128,-85.8822,4306,607.4,2.0378,34.6144,2,34.6145,2,178,2,179.3,2,79.96,2,32.75,2,0,2,2.31,2,0.395,2,0.163,3,-999,9,2250.6,2,-999,9
  90KDIOFFE6_1,  S04P,701,1,13,13,2,19920227,1224,-67.0128,-85.8822,4306,805.6,2.0378,34.6749,2,34.6751,2,179.8,2,179.2,2,83.85,2,31.82,2,0,2,2.24,2,0.158,2,0.064,3,-999,9,2251.7,2,-999,9
  90KDIOFFE6_1,  S04P,701,1,12,12,2,19920227,1224,-67.0128,-85.8822,4306,1008.1,1.9419,34.7079,2,34.7073,2,183.2,2,183.1,2,87.52,2,31.19,2,0,2,2.2,2,-999,9,-999,9,-999,9,2251.8,2,-999,9
  90KDIOFFE6_1,  S04P,701,1,11,11,2,19920227,1224,-67.0128,-85.8822,4306,1210.7,1.788,34.7243,2,34.7238,2,191.3,2,187.9,2,91.63,2,30.8,2,0,2,2.17,2,-999,9,-999,9,-999,9,-999,9,-999,9
  90KDIOFFE6_1,  S04P,701,1,10,10,2,19920227,1224,-67.0128,-85.8822,4306,1405.2,1.6421,34.7289,2,34.7285,2,194.7,2,191.9,2,95.96,2,30.61,2,0,2,2.16,2,-999,9,-999,9,-999,9,-999,9,-999,9
  90KDIOFFE6_1,  S04P,701,1,9,9,2,19920227,1224,-67.0128,-85.8822,4306,1600.5,1.4892,34.7267,2,34.7265,2,191.8,2,194.2,2,100.95,2,30.66,2,0,2,2.17,2,-999,9,-999,9,-999,9,-999,9,-999,9
  90KDIOFFE6_1,  S04P,701,1,8,8,2,19920227,1224,-67.0128,-85.8822,4306,1792.2,1.3553,34.7244,2,34.7249,2,196.1,2,195.9,2,106.17,2,30.91,2,0,2,2.17,2,-999,9,-999,9,-999,9,-999,9,-999,9
  90KDIOFFE6_1,  S04P,701,1,7,7,2,19920227,1224,-67.0128,-85.8822,4306,1980.3,1.2454,34.7216,2,34.7224,2,199.1,2,198,2,109.44,2,30.97,2,0,2,2.18,2,-999,9,-999,9,-999,9,-999,9,-999,9
  90KDIOFFE6_1,  S04P,701,1,6,6,2,19920227,1224,-67.0128,-85.8822,4306,2171,1.1395,34.7181,2,34.719,2,200.6,2,200,2,112.28,2,31.02,2,0,2,2.19,2,-999,9,-999,9,-999,9,-999,9,-999,9
  90KDIOFFE6_1,  S04P,701,1,5,5,2,19920227,1224,-67.0128,-85.8822,4306,2464.1,0.9856,34.7136,2,34.7137,2,202.6,2,202.9,2,117.32,2,31.22,2,0,2,2.2,2,-999,9,-999,9,-999,9,-999,9,-999,9
  90KDIOFFE6_1,  S04P,701,1,4,4,2,19920227,1224,-67.0128,-85.8822,4306,2764.9,0.8417,34.7087,2,34.7084,2,206.3,2,205.2,2,121.94,2,31.32,2,0,2,2.22,2,-999,9,-999,9,-999,9,-999,9,-999,9
  90KDIOFFE6_1,  S04P,701,1,3,3,2,19920227,1224,-67.0128,-85.8822,4306,3074.4,0.6918,34.7054,2,34.7053,2,209.6,2,208.2,2,126.57,2,31.48,2,0,2,2.24,2,-999,9,-999,9,-999,9,-999,9,-999,9
  90KDIOFFE6_1,  S04P,701,1,2,2,2,19920227,1224,-67.0128,-85.8822,4306,3362.1,0.5649,34.703,2,34.7027,2,208.3,2,210.8,2,130.55,2,31.53,2,0,2,2.24,2,-999,9,-999,9,-999,9,-999,9,-999,9
  90KDIOFFE6_1,  S04P,701,1,1,1,2,19920227,1224,-67.0128,-85.8822,4306,3662.3,0.4719,34.7026,2,34.7013,2,211.4,2,212.8,2,133.44,2,31.73,2,0,2,2.24,2,-999,9,-999,9,-999,9,-999,9,-999,9
  90KDIOFFE6_1,  S04P,702,2,24,24,2,19920228,405,-66.9907,-87.2907,4413,31.6,0.6568,33.714,2,33.71,2,339.3,3,344.4,2,31.89,2,25.43,2,0.28,2,1.79,2,6.239,2,2.799,3,-999,9,2134.4,2,-999,9
  90KDIOFFE6_1,  S04P,702,2,23,23,2,19920228,405,-66.9907,-87.2907,4413,72,0.0712,33.8527,2,33.85,2,347.3,2,349.1,2,29.54,2,25.92,2,0.22,2,1.84,2,6.506,2,2.911,3,-999,9,2146.8,2,-999,9
  90KDIOFFE6_1,  S04P,702,2,22,22,2,19920228,405,-66.9907,-87.2907,4413,113.5,-0.7781,33.9736,2,33.97,2,340.3,2,338.6,2,38.14,2,28.07,2,0.2,2,1.98,2,6.384,2,2.829,3,-999,9,-999,9,-999,9
  90KDIOFFE6_1,  S04P,702,2,21,21,2,19920228,405,-66.9907,-87.2907,4413,144.6,-0.5822,34.0349,2,34.028,2,327.5,2,324.7,2,42.93,2,29.24,2,0.01,2,2.03,2,5.784,2,2.584,3,-999,9,-999,9,-999,9
  90KDIOFFE6_1,  S04P,702,2,20,20,3,19920228,405,-66.9907,-87.2907,4413,212.4,0.8726,34.2432,2,34.561,4,263.3,2,182.9,4,84.55,4,32.26,4,0,4,2.25,4,0.17,4,0.066,4,-999,9,-999,9,-999,9
  90KDIOFFE6_1,  S04P,702,2,19,19,2,19920228,405,-66.9907,-87.2907,4413,263.6,0.8647,34.2905,2,34.285,2,243.2,2,247.3,2,61.6,2,32.36,2,0,2,2.26,2,3.089,2,1.359,3,-999,9,-999,9,-999,9
  90KDIOFFE6_1,  S04P,702,2,18,18,2,19920228,405,-66.9907,-87.2907,4413,313.1,1.6481,34.4222,2,34.42,2,209.2,2,206.9,2,69.61,2,33.73,2,0,2,2.35,2,1.623,2,0.702,3,-999,9,-999,9,-999,9
  90KDIOFFE6_1,  S04P,702,2,17,17,2,19920228,405,-66.9907,-87.2907,4413,413.6,1.8909,34.5168,2,34.515,2,184.9,2,188.6,2,75.86,2,33.73,2,0,2,2.35,2,0.962,2,0.411,3,-999,9,-999,9,-999,9
  90KDIOFFE6_1,  S04P,702,2,16,16,2,19920228,405,-66.9907,-87.2907,4413,564.7,2.0298,34.6063,2,34.605,2,179.1,2,179,2,81.03,2,33.04,2,0,2,2.32,2,0.447,2,0.184,3,-999,9,-999,9,-999,9
  90KDIOFFE6_1,  S04P,702,2,15,15,2,19920228,405,-66.9907,-87.2907,4413,712.9,2.0158,34.6567,2,34.655,2,178.1,2,179,2,84.06,2,32.35,2,0,2,2.26,2,0.261,6,0.102,3,-999,9,-999,9,-999,9
  90KDIOFFE6_1,  S04P,702,2,14,14,2,19920228,405,-66.9907,-87.2907,4413,814.1,2.0068,34.6808,2,34.681,2,182.4,2,179.9,2,85.92,2,31.86,2,0,2,2.24,2,0.17,2,0.062,3,-999,9,-999,9,-999,9
  90KDIOFFE6_1,  S04P,702,2,13,13,2,19920228,405,-66.9907,-87.2907,4413,1016,1.9009,34.7139,2,34.712,2,185.5,2,184.2,2,89.82,2,31.28,2,0,2,2.18,2,0.091,2,0.036,3,-999,9,-999,9,-999,9
  90KDIOFFE6_1,  S04P,702,2,12,12,2,19920228,405,-66.9907,-87.2907,4413,1268.1,1.726,34.7281,2,34.727,2,189.4,2,189.4,2,95,2,30.89,2,0,2,2.16,2,0.053,2,0.02,3,-999,9,-999,9,-999,9
  90KDIOFFE6_1,  S04P,702,2,11,11,2,19920228,405,-66.9907,-87.2907,4413,1522.6,1.5102,34.7301,2,34.728,2,195,2,193.8,2,101.75,2,30.98,2,0,2,2.16,2,0.036,2,0.009,3,-999,9,-999,9,-999,9
  90KDIOFFE6_1,  S04P,702,2,10,10,2,19920228,405,-66.9907,-87.2907,4413,1776,1.3543,34.727,2,34.726,2,196.7,2,196,2,106.73,2,30.98,2,0,2,2.17,2,0.028,2,0.009,3,-999,9,-999,9,-999,9
  90KDIOFFE6_1,  S04P,702,2,9,9,2,19920228,405,-66.9907,-87.2907,4413,2027.2,1.1944,34.7213,2,34.721,2,198.9,2,199,2,111.52,2,31.08,2,0,2,2.18,2,0.023,2,0.007,3,-999,9,-999,9,-999,9
  90KDIOFFE6_1,  S04P,702,2,8,8,2,19920228,405,-66.9907,-87.2907,4413,2326.2,1.0195,34.7151,2,34.715,2,200.7,2,202,2,117.68,2,31.37,2,0,2,2.19,2,0.016,2,0.004,3,-999,9,-999,9,-999,9
  90KDIOFFE6_1,  S04P,702,2,7,7,2,19920228,405,-66.9907,-87.2907,4413,2628.5,0.8806,34.7102,2,34.71,2,200.7,2,204.6,2,122.47,2,31.47,2,0,2,2.21,2,0.015,2,-0.002,3,-999,9,-999,9,-999,9
  90KDIOFFE6_1,  S04P,702,2,6,6,2,19920228,405,-66.9907,-87.2907,4413,2934.3,0.7407,34.7065,2,34.705,2,203.6,2,207.3,2,126.87,2,31.67,2,0,2,2.22,2,0.017,2,0.007,3,-999,9,-999,9,-999,9
  90KDIOFFE6_1,  S04P,702,2,5,5,2,19920228,405,-66.9907,-87.2907,4413,3237.7,0.6088,34.7034,2,34.703,2,206.5,2,209.9,2,129.51,2,31.86,2,0,2,2.23,2,0.015,2,0.004,3,-999,9,-999,9,-999,9
  90KDIOFFE6_1,  S04P,702,2,4,4,2,19920228,405,-66.9907,-87.2907,4413,3545,0.4979,34.7028,2,34.701,2,209.8,2,212.5,2,133.71,2,31.77,2,0,2,2.24,2,0.012,2,0.009,4,-999,9,-999,9,-999,9
  90KDIOFFE6_1,  S04P,702,2,3,3,2,19920228,405,-66.9907,-87.2907,4413,3847.8,0.437,34.7013,2,34.701,2,212,2,213.8,2,137.91,2,31.96,2,0,2,2.24,2,0.022,3,0.004,3,-999,9,-999,9,-999,9
  90KDIOFFE6_1,  S04P,702,2,2,2,2,19920228,405,-66.9907,-87.2907,4413,4159.4,0.398,34.7018,2,34.701,2,214.7,2,214.6,2,139.87,2,31.96,2,0,2,2.25,2,0.014,2,0.008,3,-999,9,-999,9,-999,9
  90KDIOFFE6_1,  S04P,702,2,1,1,2,19920228,405,-66.9907,-87.2907,4413,4440.7,0.363,34.7016,2,34.7,2,217.6,2,215.5,2,144.56,2,31.96,2,0,2,2.24,2,0.037,2,0.015,3,-999,9,-999,9,-999,9
  90KDIOFFE6_1,  S04P,703,1,24,24,2,19920228,1416,-67.0007,-88.5335,4406,52,0.7357,33.7838,2,33.7849,2,262.8,3,344.4,2,28.07,2,25.63,2,0.28,2,1.8,2,-999,9,-999,9,-999,9,2133.4,2,-999,9
  90KDIOFFE6_1,  S04P,703,1,23,23,2,19920228,1416,-67.0007,-88.5335,4406,103.9,-1.1108,33.9509,2,33.946,2,337.5,3,342.6,2,38.92,2,28.07,2,0.2,2,1.99,2,-999,9,-999,9,-999,9,2165.4,2,-999,9
  90KDIOFFE6_1,  S04P,703,1,22,22,2,19920228,1416,-67.0007,-88.5335,4406,155.5,-0.4843,34.08,2,34.076,2,322.8,2,310.8,2,47.43,2,30.22,2,0.02,2,2.1,2,-999,9,-999,9,-999,9,2178.3,2,-999,9
  90KDIOFFE6_1,  S04P,703,1,21,21,2,19920228,1416,-67.0007,-88.5335,4406,204.1,0.5489,34.2161,2,34.2132,2,252.5,2,269.5,2,55.54,2,32.07,2,0,2,2.24,2,-999,9,-999,9,-999,9,2207.6,2,-999,9
  90KDIOFFE6_1,  S04P,703,1,20,20,3,19920228,1416,-67.0007,-88.5335,4406,204.2,0.5659,34.2167,2,34.3406,4,252.5,2,192.5,4,68.73,4,33.44,4,0,4,2.31,4,-999,9,-999,9,-999,9,-999,9,-999,9
  90KDIOFFE6_1,  S04P,703,1,19,19,2,19920228,1416,-67.0007,-88.5335,4406,278.9,1.5012,34.3713,2,34.3745,2,192,2,219.1,2,66.38,2,33.92,2,0,2,2.34,2,-999,9,-999,9,-999,9,2232.8,2,-999,9
  90KDIOFFE6_1,  S04P,703,1,18,18,2,19920228,1416,-67.0007,-88.5335,4406,353.8,1.8709,34.4802,2,34.4797,2,182.6,2,192.5,2,72.93,2,34.31,2,0,2,2.37,2,-999,9,-999,9,-999,9,2245,2,-999,9
  90KDIOFFE6_1,  S04P,703,1,17,17,2,19920228,1416,-67.0007,-88.5335,4406,455.2,1.9059,34.5554,2,34.5546,2,186.6,2,184.7,2,78.3,2,33.92,2,0,2,2.35,2,-999,9,-999,9,-999,9,2251.6,2,-999,9
  90KDIOFFE6_1,  S04P,703,1,16,16,2,19920228,1416,-67.0007,-88.5335,4406,606.4,1.9849,34.6376,2,34.6364,2,180,2,179.5,2,82.59,2,33.23,2,0,2,2.29,2,-999,9,-999,9,-999,9,2251.8,2,-999,9
  90KDIOFFE6_1,  S04P,703,1,15,15,2,19920228,1416,-67.0007,-88.5335,4406,806.2,1.9709,34.6888,2,34.6884,2,182.6,2,180.8,2,86.4,2,32.16,2,0,2,2.23,2,-999,9,-999,9,-999,9,2253.6,2,-999,9
  90KDIOFFE6_1,  S04P,703,1,14,14,2,19920228,1416,-67.0007,-88.5335,4406,1007.5,1.8629,34.7168,2,34.7153,2,184.9,2,185.1,2,90.51,2,31.67,2,0,2,2.19,2,-999,9,-999,9,-999,9,2252.9,2,-999,9
  90KDIOFFE6_1,  S04P,703,1,13,13,2,19920228,1416,-67.0007,-88.5335,4406,1212.5,1.721,34.7263,2,34.7264,2,189.2,2,189,2,94.71,2,31.37,2,0,2,2.17,2,-999,9,-999,9,-999,9,2252.9,2,-999,9
  90KDIOFFE6_1,  S04P,703,1,12,12,2,19920228,1416,-67.0007,-88.5335,4406,1415.1,1.5691,34.7292,2,34.729,2,193.4,2,192.1,2,99.2,2,31.18,2,0,2,2.16,2,-999,9,-999,9,-999,9,2252.3,2,-999,9
  90KDIOFFE6_1,  S04P,703,1,11,11,2,19920228,1416,-67.0007,-88.5335,4406,1617.9,1.4322,34.7283,2,34.7274,2,195,2,195.1,2,103.8,2,31.28,2,0,2,2.16,2,-999,9,-999,9,-999,9,2255.8,2,-999,9
  90KDIOFFE6_1,  S04P,703,1,10,10,2,19920228,1416,-67.0007,-88.5335,4406,1819.3,1.2943,34.7241,2,34.7245,2,196.6,2,197.3,2,108.29,2,31.37,2,0,2,2.18,2,-999,9,-999,9,-999,9,2256.9,2,-999,9
  90KDIOFFE6_1,  S04P,703,1,9,9,2,19920228,1416,-67.0007,-88.5335,4406,2024.5,1.1704,34.7204,2,34.7202,2,199.1,2,199,2,112.2,2,31.57,2,0,2,2.18,2,-999,9,-999,9,-999,9,2259.4,2,-999,9
  90KDIOFFE6_1,  S04P,703,1,8,8,2,19920228,1416,-67.0007,-88.5335,4406,2329.8,1.0006,34.7145,2,34.7143,2,201,2,203.3,2,117.78,2,31.77,2,0,2,2.2,2,-999,9,-999,9,-999,9,2260.1,2,-999,9
  90KDIOFFE6_1,  S04P,703,1,1,1,2,19920228,1416,-67.0007,-88.5335,4406,2635.7,0.8697,34.7092,2,34.7094,2,204.3,2,205.1,2,122.17,2,31.77,2,0,2,2.2,2,0.021,2,0.005,4,-999,9,2265.1,2,-999,9
  90KDIOFFE6_1,  S04P,703,1,6,6,2,19920228,1416,-67.0007,-88.5335,4406,2939.8,0.7397,34.7056,2,34.7056,2,207.3,2,208.1,2,126.08,2,31.96,2,0,2,2.21,2,0.015,2,0.008,3,-999,9,2261.6,2,-999,9
  90KDIOFFE6_1,  S04P,703,1,5,5,2,19920228,1416,-67.0007,-88.5335,4406,3247.5,0.5959,34.7022,2,34.7027,2,210.5,2,210.3,2,129.6,2,32.16,2,0,2,2.21,2,-999,9,-999,9,-999,9,2260.6,2,-999,9
  90KDIOFFE6_1,  S04P,703,1,4,4,2,19920228,1416,-67.0007,-88.5335,4406,3549.8,0.5019,34.702,2,34.7015,2,213.2,2,212.5,2,133.32,2,32.45,2,0,2,2.24,2,0.009,2,0.004,3,-999,9,2264.4,2,-999,9
  90KDIOFFE6_1,  S04P,703,1,3,3,2,19920228,1416,-67.0007,-88.5335,4406,3857.6,0.432,34.7004,2,34.7,2,214.2,2,214.6,2,135.96,2,32.45,2,0,2,2.23,2,0.017,3,0.005,3,-999,9,2263.7,2,-999,9
  90KDIOFFE6_1,  S04P,703,1,2,2,2,19920228,1416,-67.0007,-88.5335,4406,4166.7,0.394,34.6998,2,34.7005,2,215.8,2,215.5,2,137.23,2,32.35,2,0,2,2.23,2,0.016,2,0.01,3,-999,9,2262.5,2,-999,9
  90KDIOFFE6_1,  S04P,703,1,7,7,2,19920228,1416,-67.0007,-88.5335,4406,4477.5,0.362,34.7004,2,34.7001,2,216.2,2,215.9,2,144.36,2,32.65,2,0,2,2.24,2,0.031,6,0.019,3,-999,9,2261.4,2,-999,9