BOTTLE,20181005JHS,,,,,,,,,,,,,,,,,,,,,,,,,,,,,,,,,,,,,,
EXPOCODE,SECT_ID,STNNBR,CASTNO,SAMPNO,BTLNBR,BTLNBR_FLAG_W,DATE,TIME,LATITUDE,LONGITUDE,DEPTH,CTDPRS,CTDTMP,CTDSAL,CTDSAL_FLAG_W,SALNTY,SALNTY_FLAG_W,CTDOXY,CTDOXY_FLAG_W,OXYGEN,OXYGEN_FLAG_W,SILCAT,SILCAT_FLAG_W,NITRAT,NITRAT_FLAG_W,NITRIT,NITRIT_FLAG_W,PHSPHT,PHSPHT_FLAG_W,CFC-11,CFC-11_FLAG_W,CFC-12,CFC-12_FLAG_W,SF6,SF6_FLAG_W,TCARBN,TCARBN_FLAG_W,ALKALI,ALKALI_FLAG_W
,,,,,,,,,,,,DBAR,ITS-90,PSS-78,,PSS-78,,UMOL/KG,,UMOL/KG,,UMOL/KG,,UMOL/KG,,UMOL/KG,,UMOL/KG,,PMOL/KG,,PMOL/KG,,FMOL/KG,,UMOL/KG,,UMOL/KG,
  90KDIOFFE6_1,  S04P,760,1,24,24,2,19920318,1809,-66.9732,-175.6278,2782,11.9,0.6198,33.7891,2,33.7888,2,333.3,2,334.5,2,43.44,2,23.92,2,0.21,2,1.58,2,5.848,2,2.655,3,-999,9,2142.1,2,-999,9
  90KDIOFFE6_1,  S04P,760,1,23,23,2,19920318,1809,-66.9732,-175.6278,2782,51.8,0.2388,33.816,2,33.8312,2,329.4,2,330.7,2,43.85,2,23.82,2,0.17,2,1.6,2,5.755,2,2.617,3,-999,9,2149.9,2,-999,9
  90KDIOFFE6_1,  S04P,760,1,22,22,2,19920318,1809,-66.9732,-175.6278,2782,85.9,-1.4378,34.228,2,34.2287,2,281.6,2,283.1,2,65.19,2,29.24,2,0.13,2,2.11,2,3.76,2,1.675,3,-999,9,2205.2,2,-999,9
  90KDIOFFE6_1,  S04P,760,1,21,21,2,19920318,1809,-66.9732,-175.6278,2782,128.4,0.097,34.4539,2,34.4338,2,234.6,2,231.9,2,78,2,31.71,2,0.04,2,2.23,2,2.287,2,1.005,3,-999,9,-999,9,-999,9
  90KDIOFFE6_1,  S04P,760,1,20,20,2,19920318,1809,-66.9732,-175.6278,2782,182.8,0.9865,34.5861,2,34.5828,2,201.5,2,200,2,85.03,2,32.47,2,0.02,2,2.28,2,1.079,2,0.463,3,-999,9,-999,9,-999,9
  90KDIOFFE6_1,  S04P,760,1,19,19,2,19920318,1809,-66.9732,-175.6278,2782,242.1,1.4411,34.6748,2,34.676,2,189.6,2,186.6,2,90.47,2,32.28,2,0.01,2,2.26,2,0.421,2,0.168,3,-999,9,-999,9,-999,9
  90KDIOFFE6_1,  S04P,760,1,18,18,2,19920318,1809,-66.9732,-175.6278,2782,323.6,1.5238,34.7054,2,34.7062,2,184.5,2,186.2,2,93.31,2,32.09,2,0,2,2.24,2,0.241,2,0.091,3,-999,9,-999,9,-999,9
  90KDIOFFE6_1,  S04P,760,1,17,17,2,19920318,1809,-66.9732,-175.6278,2782,403.4,1.492,34.7166,2,34.7174,2,187.5,2,186.9,2,96.15,2,31.85,2,0,2,2.23,2,0.157,2,0.057,3,-999,9,-999,9,-999,9
  90KDIOFFE6_1,  S04P,760,1,16,16,2,19920318,1809,-66.9732,-175.6278,2782,502.8,1.3897,34.7179,2,34.7179,2,191.2,2,191.9,2,97.58,2,31.7,2,0,2,2.2,2,0.189,2,0.075,3,-999,9,-999,9,-999,9
  90KDIOFFE6_1,  S04P,760,1,15,15,2,19920318,1809,-66.9732,-175.6278,2782,603.1,1.2564,34.7135,2,34.7142,2,196.7,2,196.5,2,99.41,2,31.56,2,0,2,2.2,2,0.246,2,0.093,3,-999,9,-999,9,-999,9
  90KDIOFFE6_1,  S04P,760,1,14,14,2,19920318,1809,-66.9732,-175.6278,2782,702.2,1.2042,34.7161,2,34.7166,2,194.9,2,196.9,2,102.07,2,31.55,2,0,2,2.2,2,0.2,2,0.071,3,-999,9,-999,9,-999,9
  90KDIOFFE6_1,  S04P,760,1,13,13,2,19920318,1809,-66.9732,-175.6278,2782,800.7,1.1438,34.7178,2,34.7189,2,198,2,197.8,2,105.33,2,31.59,2,0,2,2.2,2,0.142,2,0.051,3,-999,9,-999,9,-999,9
  90KDIOFFE6_1,  S04P,760,1,12,12,2,19920318,1809,-66.9732,-175.6278,2782,898.5,1.098,34.7182,2,34.7193,2,201.4,2,199.6,2,108,2,31.53,2,0,2,2.2,2,0.098,2,0.032,3,-999,9,-999,9,-999,9
  90KDIOFFE6_1,  S04P,760,1,26,26,2,19920318,1809,-66.9732,-175.6278,2782,997.2,1.0261,34.717,2,34.7175,2,201.8,2,200.6,2,110.46,2,31.67,2,0,2,2.21,2,0.072,6,0.025,3,-999,9,-999,9,-999,9
  90KDIOFFE6_1,  S04P,760,1,10,10,2,19920318,1809,-66.9732,-175.6278,2782,1145.1,0.9543,34.714,2,34.7148,2,202.1,2,201.7,2,113.14,2,31.66,2,0,2,2.21,2,0.07,6,0.019,3,-999,9,-999,9,-999,9
  90KDIOFFE6_1,  S04P,760,1,27,27,2,19920318,1809,-66.9732,-175.6278,2782,1296.1,0.8554,34.7098,2,34.7102,2,204,2,204.2,2,115.42,2,31.75,2,0,2,2.22,2,0.08,2,0.026,3,-999,9,-999,9,-999,9
  90KDIOFFE6_1,  S04P,760,1,8,8,2,19920318,1809,-66.9732,-175.6278,2782,1494.4,0.7418,34.7057,2,34.7059,2,207,2,206.3,2,119.34,2,31.97,2,0,2,2.23,2,0.08,2,0.027,3,-999,9,-999,9,-999,9
  90KDIOFFE6_1,  S04P,760,1,7,7,2,19920318,1809,-66.9732,-175.6278,2782,1695.6,0.6199,34.7013,2,34.7016,2,208.3,2,208.2,2,122.46,2,32.15,2,0,2,2.24,2,0.094,2,0.032,3,-999,9,-999,9,-999,9
  90KDIOFFE6_1,  S04P,760,1,6,6,2,19920318,1809,-66.9732,-175.6278,2782,1893.1,0.542,34.6987,2,34.6994,2,208.9,2,209.6,2,124.76,2,32.24,2,0,2,2.24,2,0.108,2,0.037,3,-999,9,-999,9,-999,9
  90KDIOFFE6_1,  S04P,760,1,5,5,2,19920318,1809,-66.9732,-175.6278,2782,2091.3,0.4977,34.6985,2,34.6982,2,209.4,2,210.8,2,125.81,2,32.23,2,0,2,2.24,2,0.111,2,0.04,3,-999,9,-999,9,-999,9
  90KDIOFFE6_1,  S04P,760,1,28,28,2,19920318,1809,-66.9732,-175.6278,2782,2287.1,0.4059,34.6966,2,34.6966,2,214.1,2,213,2,126.04,2,32.32,2,0,2,2.25,2,0.181,2,0.067,3,-999,9,-999,9,-999,9
  90KDIOFFE6_1,  S04P,760,1,3,3,2,19920318,1809,-66.9732,-175.6278,2782,2479.7,0.3238,34.6956,2,34.6955,2,215.6,2,215.2,2,126.48,2,32.21,2,0,2,2.25,2,0.256,2,0.097,3,-999,9,-999,9,-999,9
  90KDIOFFE6_1,  S04P,760,1,2,2,2,19920318,1809,-66.9732,-175.6278,2782,2674.7,0.2424,34.6953,2,34.6951,2,217.8,2,217.8,2,124.83,2,32.11,2,0,2,2.24,2,0.383,2,0.154,3,-999,9,-999,9,-999,9
  90KDIOFFE6_1,  S04P,760,1,1,1,2,19920318,1809,-66.9732,-175.6278,2782,2837.3,0.2152,34.6949,2,34.6947,2,218.4,2,219.2,2,123.81,2,32.11,2,0,2,2.24,2,0.431,2,0.178,3,-999,9,-999,9,-999,9
  90KDIOFFE6_1,  S04P,761,1,24,24,2,19920319,443,-66.984,-176.9135,4193,16.3,1.1457,33.7983,2,33.7984,2,376,3,330,2,44.41,2,24.54,2,0.22,2,1.67,2,-999,9,-999,9,-999,9,2142.2,2,-999,9
  90KDIOFFE6_1,  S04P,761,1,23,23,2,19920319,443,-66.984,-176.9135,4193,33.8,1.1395,33.7984,2,33.7987,2,368.5,3,329.7,2,44.39,2,24.47,2,0.22,2,1.77,3,-999,9,-999,9,-999,9,2141.4,2,-999,9
  90KDIOFFE6_1,  S04P,761,1,22,22,2,19920319,443,-66.984,-176.9135,4193,79.8,-0.8914,34.1311,2,34.1269,2,299.8,3,298.2,2,67.39,2,28.08,2,0.19,2,2.06,2,-999,9,-999,9,-999,9,2195.1,2,-999,9
  90KDIOFFE6_1,  S04P,761,1,21,21,2,19920319,443,-66.984,-176.9135,4193,103,-0.9657,34.2468,2,34.2442,2,272.1,2,279.7,2,72.62,2,29.6,2,0.19,2,2.14,2,-999,9,-999,9,-999,9,2210.9,2,-999,9
  90KDIOFFE6_1,  S04P,761,1,20,20,2,19920319,443,-66.984,-176.9135,4193,155,0.2312,34.487,2,34.4802,2,222.7,2,228.4,2,82.92,2,31.53,2,0.07,2,2.25,2,-999,9,-999,9,-999,9,2234.7,2,-999,9
  90KDIOFFE6_1,  S04P,761,1,19,19,2,19920319,443,-66.984,-176.9135,4193,201.4,1.2262,34.618,2,34.6195,2,192.4,2,192.6,2,86.34,2,32.28,2,0.04,2,2.31,2,-999,9,-999,9,-999,9,2251.3,2,-999,9
  90KDIOFFE6_1,  S04P,761,1,18,18,2,19920319,443,-66.984,-176.9135,4193,247.7,1.0712,34.6442,2,34.6442,2,202.7,2,199.4,2,89.77,2,31.82,2,0.04,2,2.27,2,-999,9,-999,9,-999,9,2252.6,2,-999,9
  90KDIOFFE6_1,  S04P,761,1,17,17,2,19920319,443,-66.984,-176.9135,4193,294.4,1.1953,34.679,2,34.6793,2,206.6,2,197,2,92.39,2,31.61,2,0.03,2,2.23,2,-999,9,-999,9,-999,9,2251,2,-999,9
  90KDIOFFE6_1,  S04P,761,1,16,16,2,19920319,443,-66.984,-176.9135,4193,336.3,1.2377,34.69,2,34.6895,2,204.1,2,197,2,93.58,2,31.45,2,0.02,2,2.23,2,-999,9,-999,9,-999,9,2253.4,2,-999,9
  90KDIOFFE6_1,  S04P,761,1,15,15,2,19920319,443,-66.984,-176.9135,4193,381.1,1.3046,34.7046,2,34.7048,2,204.8,2,194.4,2,96,2,31.44,2,0.01,2,2.22,2,-999,9,-999,9,-999,9,2257.2,2,-999,9
  90KDIOFFE6_1,  S04P,761,1,14,14,2,19920319,443,-66.984,-176.9135,4193,563.4,1.2016,34.7135,2,34.7142,2,199.6,2,197.2,2,100.68,2,31.38,2,0.01,2,2.22,2,-999,9,-999,9,-999,9,2256.9,2,-999,9
  90KDIOFFE6_1,  S04P,761,1,13,13,2,19920319,443,-66.984,-176.9135,4193,753,1.1086,34.7163,2,34.7163,2,201.2,2,198.9,2,105.78,2,31.36,2,0.01,2,2.21,2,-999,9,-999,9,-999,9,2256.7,2,-999,9
  90KDIOFFE6_1,  S04P,761,1,12,12,2,19920319,443,-66.984,-176.9135,4193,937.6,1.0034,34.7148,2,34.7138,2,205.1,2,201,2,110.48,2,31.34,2,0,2,2.22,2,0.141,2,0.042,3,-999,9,2258.2,2,-999,9
  90KDIOFFE6_1,  S04P,761,1,26,26,2,19920319,443,-66.984,-176.9135,4193,1222.8,0.8517,34.7109,2,34.7104,2,205.3,2,204.6,2,115.82,2,31.37,2,0,2,2.22,2,0.079,2,0.028,3,-999,9,2259,2,-999,9
  90KDIOFFE6_1,  S04P,761,1,10,10,2,19920319,443,-66.984,-176.9135,4193,1518.6,0.7296,34.7068,2,34.7049,2,203.1,2,205.2,2,122.44,2,31.8,2,0,2,2.24,2,0.035,2,0.009,3,-999,9,2262.4,2,-999,9
  90KDIOFFE6_1,  S04P,761,1,27,27,2,19920319,443,-66.984,-176.9135,4193,1864.6,0.5947,34.7015,2,34.7012,2,207.9,2,208.2,2,125.33,2,32.03,2,0,2,2.25,2,0.119,4,0.028,4,-999,9,2261,2,-999,9
  90KDIOFFE6_1,  S04P,761,1,8,8,2,19920319,443,-66.984,-176.9135,4193,2216.9,0.4829,34.7012,2,34.7008,2,207.9,2,209.8,2,129.92,2,32.2,2,0,2,2.25,2,0.042,2,0.014,3,-999,9,2260.4,2,-999,9
  90KDIOFFE6_1,  S04P,761,1,7,7,2,19920319,443,-66.984,-176.9135,4193,2621.7,0.3561,34.6981,2,34.6978,2,212,2,213.5,2,129.88,2,32.23,2,0,2,2.25,2,0.136,2,0.051,3,-999,9,2259.8,2,-999,9
  90KDIOFFE6_1,  S04P,761,1,6,6,2,19920319,443,-66.984,-176.9135,4193,3034.6,0.2231,34.6934,2,34.6943,2,219.4,2,219.7,2,122.73,2,31.77,2,0,2,2.24,2,0.49,2,0.2,3,-999,9,2258.7,2,-999,9
  90KDIOFFE6_1,  S04P,761,1,5,5,2,19920319,443,-66.984,-176.9135,4193,3347.8,0.1464,34.6935,2,34.6941,2,223.7,2,222.7,2,120.62,2,31.8,2,0,2,2.24,2,0.643,2,0.283,3,-999,9,2256.9,2,-999,9
  90KDIOFFE6_1,  S04P,761,1,28,28,2,19920319,443,-66.984,-176.9135,4193,3664.4,0.1016,34.6941,2,34.6943,2,227.2,2,225.2,2,116.85,2,31.68,2,0,2,2.23,2,0.849,2,0.362,3,-999,9,2256.3,2,-999,9
  90KDIOFFE6_1,  S04P,761,1,3,3,2,19920319,443,-66.984,-176.9135,4193,3979.7,0.1076,34.6942,2,34.6939,2,225.7,2,226.3,2,115.57,2,31.71,2,0,2,2.23,2,0.92,2,0.391,3,-999,9,2257.7,2,-999,9
  90KDIOFFE6_1,  S04P,761,1,2,2,2,19920319,443,-66.984,-176.9135,4193,4184.8,0.0788,34.6904,2,34.6904,2,227.6,2,227.8,2,113.89,2,31.59,2,0,2,2.22,2,0.986,2,0.428,3,-999,9,2254.6,2,-999,9
  90KDIOFFE6_1,  S04P,761,1,1,1,2,19920319,443,-66.984,-176.9135,4193,4267.7,0.0568,34.6884,2,34.6896,2,229.5,2,228.8,2,113.03,2,31.47,2,0,2,2.22,2,1.073,2,0.461,3,-999,9,2256.4,2,-999,9
  90KDIOFFE6_1,  S04P,762,1,24,24,2,19920319,1102,-66.9753,-178.1627,4077,11.4,-0.4753,33.7161,2,33.7153,2,342.5,2,342,2,50.8,2,25.41,2,0.16,2,1.7,2,6.447,2,2.877,3,-999,9,2148.7,2,-999,9
  90KDIOFFE6_1,  S04P,762,1,23,23,2,19920319,1102,-66.9753,-178.1627,4077,42.5,-0.5405,33.7277,2,33.7616,2,336.4,2,335.8,2,52.18,2,25.81,2,0.15,2,1.75,2,5.878,2,2.63,3,-999,9,2152.8,2,-999,9
  90KDIOFFE6_1,  S04P,762,1,22,22,2,19920319,1102,-66.9753,-178.1627,4077,59.5,-1.5158,34.2236,2,34.2099,2,286.3,2,286.6,2,63.19,2,28.74,2,0.08,2,2.09,2,3.902,2,1.713,3,-999,9,2202.7,2,-999,9
  90KDIOFFE6_1,  S04P,762,1,21,21,2,19920319,1102,-66.9753,-178.1627,4077,124,0.08,34.4461,2,34.4432,2,218.7,2,225.5,2,78.87,2,31.62,2,0.02,2,2.22,2,1.98,2,0.857,3,-999,9,-999,9,-999,9
  90KDIOFFE6_1,  S04P,762,1,20,20,2,19920319,1102,-66.9753,-178.1627,4077,206.3,1.3008,34.6402,2,34.6358,2,189.8,2,190,2,88.94,2,32.16,2,0.01,2,2.26,2,0.637,2,0.261,3,-999,9,-999,9,-999,9
  90KDIOFFE6_1,  S04P,762,1,19,19,2,19920319,1102,-66.9753,-178.1627,4077,255.7,1.4945,34.6871,2,34.688,2,184.7,2,185,2,92.77,2,32.09,2,0.01,2,2.24,2,0.309,2,0.134,3,-999,9,-999,9,-999,9
  90KDIOFFE6_1,  S04P,762,1,17,17,2,19920319,1102,-66.9753,-178.1627,4077,454.5,1.463,34.7231,2,34.7231,2,186.6,2,186.5,2,99.25,2,31.69,2,0,2,2.22,2,0.088,2,0.031,3,-999,9,-999,9,-999,9
  90KDIOFFE6_1,  S04P,762,1,16,16,2,19920319,1102,-66.9753,-178.1627,4077,776.6,1.2231,34.725,2,34.7243,2,192.2,2,190.7,2,108.63,2,31.83,2,0,2,2.22,2,0.025,2,0.015,3,-999,9,-999,9,-999,9
  90KDIOFFE6_1,  S04P,762,1,15,15,2,19920319,1102,-66.9753,-178.1627,4077,860.3,1.1607,34.7229,2,34.7229,2,192.9,2,192.3,2,110.87,2,31.77,2,0,2,2.22,2,0.016,2,0.009,3,-999,9,-999,9,-999,9
  90KDIOFFE6_1,  S04P,762,1,14,14,2,19920319,1102,-66.9753,-178.1627,4077,1109,0.9984,34.7175,2,34.7176,2,196.7,2,196.8,2,115.37,2,31.81,2,0,2,2.22,2,0.011,2,0.009,3,-999,9,-999,9,-999,9
  90KDIOFFE6_1,  S04P,762,1,13,13,2,19920319,1102,-66.9753,-178.1627,4077,1361.3,0.8661,34.713,2,34.7123,2,201,2,200.5,2,119.49,2,31.8,2,0,2,2.23,2,0.006,2,-0.008,4,-999,9,-999,9,-999,9
  90KDIOFFE6_1,  S04P,762,1,12,12,2,19920319,1102,-66.9753,-178.1627,4077,1619,0.762,34.7085,2,34.709,2,203.8,2,203.2,2,123.41,2,31.59,2,0,2,2.24,2,0.009,2,0.001,3,-999,9,-999,9,-999,9
  90KDIOFFE6_1,  S04P,762,1,26,26,2,19920319,1102,-66.9753,-178.1627,4077,1918.8,0.6464,34.7052,2,34.7056,2,205.1,2,205.9,2,126.73,2,31.88,2,0,2,2.24,2,0.014,2,0.004,3,-999,9,-999,9,-999,9
  90KDIOFFE6_1,  S04P,762,1,10,10,2,19920319,1102,-66.9753,-178.1627,4077,2221,0.5244,34.703,2,34.7029,2,208.1,2,208.6,2,129.43,2,31.97,2,0,2,2.24,2,0.025,2,0.01,3,-999,9,-999,9,-999,9
  90KDIOFFE6_1,  S04P,762,1,27,27,2,19920319,1102,-66.9753,-178.1627,4077,2528.9,0.4258,34.7014,2,34.7009,2,210.1,2,211,2,131.3,2,32.06,2,0,2,2.26,2,0.062,2,0.037,3,-999,9,-999,9,-999,9
  90KDIOFFE6_1,  S04P,762,1,8,8,2,19920319,1102,-66.9753,-178.1627,4077,2829.3,0.3406,34.6995,2,34.6994,2,214.1,2,213.6,2,131.49,2,32.04,2,0,2,2.26,2,0.143,2,0.056,3,-999,9,-999,9,-999,9
  90KDIOFFE6_1,  S04P,762,1,7,7,2,19920319,1102,-66.9753,-178.1627,4077,3128.2,0.2609,34.6976,2,34.6964,2,217,2,216.7,2,129.8,2,31.98,2,0,2,2.26,2,0.248,2,0.066,4,-999,9,-999,9,-999,9
  90KDIOFFE6_1,  S04P,762,1,6,6,2,19920319,1102,-66.9753,-178.1627,4077,3430.6,0.1654,34.6944,2,34.6943,2,221.4,2,221.4,2,123.31,2,31.92,2,0,2,2.24,2,0.533,2,0.234,3,-999,9,-999,9,-999,9
  90KDIOFFE6_1,  S04P,762,1,5,5,2,19920319,1102,-66.9753,-178.1627,4077,3627.7,0.0946,34.6922,2,34.6917,2,224.1,2,225.1,2,117.5,2,31.81,2,0,2,2.23,2,0.786,2,0.323,3,-999,9,-999,9,-999,9
  90KDIOFFE6_1,  S04P,762,1,28,28,2,19920319,1102,-66.9753,-178.1627,4077,3780.2,0.0729,34.6912,2,34.6903,2,225.5,2,226.4,2,115.21,2,31.75,2,0,2,2.23,2,0.894,2,0.372,3,-999,9,-999,9,-999,9
  90KDIOFFE6_1,  S04P,762,1,3,3,2,19920319,1102,-66.9753,-178.1627,4077,3925.3,0.0492,34.6902,2,34.6899,2,229.1,2,227.8,2,113.55,2,31.6,2,0,2,2.22,2,0.99,2,0.428,3,-999,9,-999,9,-999,9
  90KDIOFFE6_1,  S04P,762,1,2,2,2,19920319,1102,-66.9753,-178.1627,4077,4066.3,0.0199,34.6876,2,34.6864,2,230.2,2,229.5,2,111.68,2,31.54,2,0,2,2.22,2,1.086,2,0.48,3,-999,9,-999,9,-999,9
  90KDIOFFE6_1,  S04P,762,1,1,1,2,19920319,1102,-66.9753,-178.1627,4077,4160.1,0.0098,34.6874,2,34.6872,2,230.8,2,230.1,2,110.84,2,31.57,2,0,2,2.22,2,1.171,2,0.498,3,-999,9,-999,9,-999,9
  90KDIOFFE6_1,  S04P,763,1,24,24,2,19920319,1836,-66.9833,-179.4272,3706,12.6,0.3173,33.7906,2,33.7888,2,325.9,2,334.6,2,45.04,2,23.19,2,0.17,2,1.59,2,-999,9,-999,9,-999,9,2146.9,2,-999,9
  90KDIOFFE6_1,  S04P,763,1,23,23,2,19920319,1836,-66.9833,-179.4272,3706,51.7,-0.1967,33.866,2,33.8611,2,326.1,2,325.9,2,49.62,2,24.47,2,0.17,2,1.69,2,-999,9,-999,9,-999,9,2155.4,2,-999,9
  90KDIOFFE6_1,  S04P,763,1,22,22,2,19920319,1836,-66.9833,-179.4272,3706,71.3,-1.3679,34.2211,2,34.2154,2,281.7,2,289.1,2,70.21,2,29.02,2,0.19,2,2.12,2,-999,9,-999,9,-999,9,2203.5,2,-999,9
  90KDIOFFE6_1,  S04P,763,1,21,21,2,19920319,1836,-66.9833,-179.4272,3706,112.3,0.1547,34.4554,2,34.4444,2,228.1,2,228.2,2,80.03,2,31.39,2,0.05,2,2.23,2,-999,9,-999,9,-999,9,2234.5,2,-999,9
  90KDIOFFE6_1,  S04P,763,1,20,20,2,19920319,1836,-66.9833,-179.4272,3706,181.5,1.173,34.6207,2,34.6189,2,194.2,2,194.3,2,87.26,2,32.36,2,0.07,2,2.29,2,-999,9,-999,9,-999,9,2249.8,2,-999,9
  90KDIOFFE6_1,  S04P,763,1,19,19,2,19920319,1836,-66.9833,-179.4272,3706,211.1,1.4199,34.6661,2,34.6656,2,197.5,2,187,2,90.27,2,31.75,2,0.02,2,2.27,2,-999,9,-999,9,-999,9,2254,2,-999,9
  90KDIOFFE6_1,  S04P,763,1,18,18,2,19920319,1836,-66.9833,-179.4272,3706,244.5,1.3848,34.6805,2,34.6789,2,187.8,2,189.2,2,90.87,2,31.73,2,0.02,2,2.26,2,-999,9,-999,9,-999,9,2253.8,2,-999,9
  90KDIOFFE6_1,  S04P,763,1,17,17,2,19920319,1836,-66.9833,-179.4272,3706,318,1.3476,34.6979,2,34.6975,2,195.7,2,193.6,2,93.09,2,31.27,2,0.02,2,2.23,2,-999,9,-999,9,-999,9,2250.4,2,-999,9
  90KDIOFFE6_1,  S04P,763,1,16,16,2,19920319,1836,-66.9833,-179.4272,3706,395.7,1.364,34.7097,2,34.7093,2,196.8,2,195.4,2,94.7,2,30.87,2,0.01,2,2.2,2,-999,9,-999,9,-999,9,2251.1,2,-999,9
  90KDIOFFE6_1,  S04P,763,1,15,15,2,19920319,1836,-66.9833,-179.4272,3706,483.2,1.3214,34.7184,2,34.7177,2,195.7,2,196.2,2,98.14,2,30.91,2,0.01,2,2.2,2,-999,9,-999,9,-999,9,2251.5,2,-999,9
  90KDIOFFE6_1,  S04P,763,1,14,14,2,19920319,1836,-66.9833,-179.4272,3706,568,1.2768,34.7214,2,34.7207,2,196.6,2,196.7,2,100.77,2,30.86,2,0.01,2,2.19,2,-999,9,-999,9,-999,9,2253.3,2,-999,9
  90KDIOFFE6_1,  S04P,763,1,13,13,2,19920319,1836,-66.9833,-179.4272,3706,728,1.1512,34.7212,2,34.7216,2,196.4,2,199.4,2,105.25,2,30.94,2,0.01,2,2.2,2,-999,9,-999,9,-999,9,2253.2,2,-999,9
  90KDIOFFE6_1,  S04P,763,1,12,12,2,19920319,1836,-66.9833,-179.4272,3706,877.2,1.0391,34.717,2,34.7169,2,200.7,2,200.4,2,108.71,2,31.13,2,0.01,2,2.21,2,-999,9,-999,9,-999,9,2255.9,2,-999,9
  90KDIOFFE6_1,  S04P,763,1,26,26,2,19920319,1836,-66.9833,-179.4272,3706,1078.3,0.9394,34.7158,2,34.7148,2,202.5,2,198.3,2,116.5,2,31.72,2,0,2,2.24,2,-999,9,-999,9,-999,9,-999,9,-999,9
  90KDIOFFE6_1,  S04P,763,1,10,10,2,19920319,1836,-66.9833,-179.4272,3706,1370.6,0.7773,34.7099,2,34.7085,2,205.3,2,202.5,2,121.86,2,31.77,2,0,2,2.25,2,0.021,2,-0.004,4,-999,9,-999,9,-999,9
  90KDIOFFE6_1,  S04P,763,1,27,27,2,19920319,1836,-66.9833,-179.4272,3706,1656.6,0.6617,34.7064,2,34.7043,2,205.8,2,205.1,2,125.8,2,31.8,2,0,2,2.25,2,0.018,2,0.002,3,-999,9,-999,9,-999,9
  90KDIOFFE6_1,  S04P,763,1,8,8,2,19920319,1836,-66.9833,-179.4272,3706,1943.7,0.5448,34.7031,2,34.7034,2,206.4,2,207.9,2,128.08,2,31.84,2,0,2,2.25,2,0.03,2,0.011,3,-999,9,-999,9,-999,9
  90KDIOFFE6_1,  S04P,763,1,7,7,2,19920319,1836,-66.9833,-179.4272,3706,2239.4,0.4285,34.7008,2,34.7006,2,210.5,2,210.8,2,129.54,2,31.88,2,0,2,2.26,2,0.081,2,0.031,3,-999,9,-999,9,-999,9
  90KDIOFFE6_1,  S04P,763,1,6,6,2,19920319,1836,-66.9833,-179.4272,3706,2441.2,0.3705,34.7002,2,34.7002,2,211.4,2,-999,9,129.75,2,32.12,2,0,2,2.26,2,-999,9,-999,9,-999,9,-999,9,-999,9
  90KDIOFFE6_1,  S04P,763,1,28,28,2,19920319,1836,-66.9833,-179.4272,3706,3052.8,0.1818,34.6956,2,34.6959,2,219,2,-999,9,123.09,2,31.96,2,0,2,2.25,2,-999,9,-999,9,-999,9,-999,9,-999,9
  90KDIOFFE6_1,  S04P,763,1,3,3,2,19920319,1836,-66.9833,-179.4272,3706,3295,0.0971,34.6951,2,34.6955,2,224,2,224.1,2,117.92,2,31.7,2,0,2,2.24,2,0.769,2,0.329,3,-999,9,-999,9,-999,9
  90KDIOFFE6_1,  S04P,763,1,2,2,2,19920319,1836,-66.9833,-179.4272,3706,3543.1,0.0625,34.696,2,34.6939,2,226.1,2,226,2,115.03,2,31.68,2,0,2,2.24,2,0.939,2,0.394,3,-999,9,-999,9,-999,9
  90KDIOFFE6_1,  S04P,763,1,1,1,2,19920319,1836,-66.9833,-179.4272,3706,3753.8,0.0668,34.6968,2,34.6962,2,226.5,2,226.6,2,114.82,2,31.67,2,0.01,2,2.24,2,1.002,2,0.407,3,-999,9,-999,9,-999,9