BOTTLE,20181005JHS,,,,,,,,,,,,,,,,,,,,,,,,,,,,,,,,,,,,,,
EXPOCODE,SECT_ID,STNNBR,CASTNO,SAMPNO,BTLNBR,BTLNBR_FLAG_W,DATE,TIME,LATITUDE,LONGITUDE,DEPTH,CTDPRS,CTDTMP,CTDSAL,CTDSAL_FLAG_W,SALNTY,SALNTY_FLAG_W,CTDOXY,CTDOXY_FLAG_W,OXYGEN,OXYGEN_FLAG_W,SILCAT,SILCAT_FLAG_W,NITRAT,NITRAT_FLAG_W,NITRIT,NITRIT_FLAG_W,PHSPHT,PHSPHT_FLAG_W,CFC-11,CFC-11_FLAG_W,CFC-12,CFC-12_FLAG_W,SF6,SF6_FLAG_W,TCARBN,TCARBN_FLAG_W,ALKALI,ALKALI_FLAG_W
,,,,,,,,,,,,DBAR,ITS-90,PSS-78,,PSS-78,,UMOL/KG,,UMOL/KG,,UMOL/KG,,UMOL/KG,,UMOL/KG,,UMOL/KG,,PMOL/KG,,PMOL/KG,,FMOL/KG,,UMOL/KG,,UMOL/KG,
  90KDIOFFE6_1,  S04P,716,1,24,24,2,19920304,819,-67.0032,-110.2482,4356,13.1,0.409,33.7582,2,33.757,2,347.4,2,345.2,2,41.36,2,26.23,2,0.27,2,1.8,2,6.713,2,2.948,3,-999,9,2144.3,2,-999,9
  90KDIOFFE6_1,  S04P,716,1,23,23,2,19920304,819,-67.0032,-110.2482,4356,53.6,0.337,33.7816,2,33.779,2,344.9,2,344.8,2,43.44,2,26.6,2,0.25,2,1.84,2,6.505,2,2.826,3,-999,9,2147.1,2,-999,9
  90KDIOFFE6_1,  S04P,716,1,22,22,2,19920304,819,-67.0032,-110.2482,4356,73.5,-0.5363,33.8904,2,33.886,2,332.3,2,343.9,2,44.94,2,27.29,2,0.21,2,1.94,2,6.449,2,2.803,3,-999,9,-999,9,-999,9
  90KDIOFFE6_1,  S04P,716,1,21,21,2,19920304,819,-67.0032,-110.2482,4356,124,-1.1428,34.0564,2,34.054,2,306.2,2,317.3,2,53.3,2,29.61,2,0.19,2,2.09,2,5.529,2,2.402,3,-999,9,2187.2,2,-999,9
  90KDIOFFE6_1,  S04P,716,1,20,20,2,19920304,819,-67.0032,-110.2482,4356,163.9,-0.3994,34.1801,2,34.182,2,281.1,2,283.8,2,58.81,2,31.08,2,0.01,2,2.17,2,4.395,2,1.907,3,-999,9,-999,9,-999,9
  90KDIOFFE6_1,  S04P,716,1,19,19,2,19920304,819,-67.0032,-110.2482,4356,203.7,0.9576,34.373,2,34.372,2,237.4,2,230.8,2,68.65,2,32.93,2,0.01,2,2.32,2,2.534,2,1.087,3,-999,9,-999,9,-999,9
  90KDIOFFE6_1,  S04P,716,1,18,18,2,19920304,819,-67.0032,-110.2482,4356,254.4,1.4902,34.4771,2,34.477,2,202.7,2,203.4,2,74.37,2,33.73,2,0.01,2,2.36,2,1.521,2,0.646,3,-999,9,-999,9,-999,9
  90KDIOFFE6_1,  S04P,716,1,17,17,2,19920304,819,-67.0032,-110.2482,4356,303.9,1.733,34.5394,2,34.54,2,189.3,2,190.3,2,77.85,2,33.61,2,0.01,2,2.36,2,1.014,2,0.418,3,-999,9,-999,9,-999,9
  90KDIOFFE6_1,  S04P,716,1,16,16,2,19920304,819,-67.0032,-110.2482,4356,403.8,1.8969,34.6065,2,34.606,2,180.8,2,182.5,2,81.09,2,33.18,2,0.01,2,2.31,2,0.566,2,0.223,3,-999,9,-999,9,-999,9
  90KDIOFFE6_1,  S04P,716,1,15,15,2,19920304,819,-67.0032,-110.2482,4356,504.7,1.9549,34.6506,2,34.684,4,178.6,2,179.9,2,83.16,2,32.61,2,0.01,2,2.28,2,0.331,2,0.119,3,-999,9,-999,9,-999,9
  90KDIOFFE6_1,  S04P,716,1,14,14,2,19920304,819,-67.0032,-110.2482,4356,605.7,1.9479,34.6844,2,34.684,2,183.2,2,180.3,2,85.84,2,32.19,2,0.01,2,2.24,2,0.189,2,0.071,3,-999,9,-999,9,-999,9
  90KDIOFFE6_1,  S04P,716,1,13,13,2,19920304,819,-67.0032,-110.2482,4356,706.5,1.9099,34.7024,2,34.703,2,181.3,2,182.5,2,87.74,2,31.58,2,0.01,2,2.22,2,0.133,2,0.044,3,-999,9,-999,9,-999,9
  90KDIOFFE6_1,  S04P,716,1,12,12,2,19920304,819,-67.0032,-110.2482,4356,908.3,1.777,34.7229,2,34.724,2,188.1,2,187.3,2,92.16,2,31.2,2,0.01,2,2.17,2,0.078,2,0.029,3,-999,9,-999,9,-999,9
  90KDIOFFE6_1,  S04P,716,1,26,26,2,19920304,819,-67.0032,-110.2482,4356,1211.9,1.5472,34.7294,2,34.73,2,191.4,2,192.9,2,98.92,2,31.04,2,0.01,2,2.17,2,0.05,2,0.009,4,-999,9,-999,9,-999,9
  90KDIOFFE6_1,  S04P,716,1,10,10,2,19920304,819,-67.0032,-110.2482,4356,1513.3,1.3363,34.7266,2,34.727,2,197.2,2,196,2,105.9,2,31.2,2,0.01,2,2.18,2,0.029,2,0.009,3,-999,9,-999,9,-999,9
  90KDIOFFE6_1,  S04P,716,1,27,27,2,19920304,819,-67.0032,-110.2482,4356,1866.4,1.1195,34.7192,2,34.72,2,200.7,2,200.7,2,112.74,2,31.32,2,0.01,2,2.19,2,0.036,3,0.009,3,-999,9,-999,9,-999,9
  90KDIOFFE6_1,  S04P,716,1,8,8,2,19920304,819,-67.0032,-110.2482,4356,2115.7,0.9706,34.7142,2,34.715,2,203,2,202.9,2,117.46,2,31.66,2,0.01,2,2.19,2,0.021,2,0.008,3,-999,9,-999,9,-999,9
  90KDIOFFE6_1,  S04P,716,1,7,7,2,19920304,819,-67.0032,-110.2482,4356,2462.2,0.8097,34.7089,2,34.709,2,206.4,2,206,2,123.5,2,31.78,2,0.01,2,2.2,2,0.017,2,0.004,4,-999,9,-999,9,-999,9
  90KDIOFFE6_1,  S04P,716,1,6,6,2,19920304,819,-67.0032,-110.2482,4356,2818,0.6698,34.7045,2,34.705,2,210.9,2,208.6,2,127.58,2,32.12,2,0.01,2,2.22,2,0.019,2,0.009,3,-999,9,-999,9,-999,9
  90KDIOFFE6_1,  S04P,716,1,5,5,2,19920304,819,-67.0032,-110.2482,4356,3179.7,0.5219,34.7027,2,34.703,2,211.2,2,211.2,2,131.79,2,32.14,2,0.01,2,-999,5,0.015,2,0.007,3,-999,9,-999,9,-999,9
  90KDIOFFE6_1,  S04P,716,1,4,4,2,19920304,819,-67.0032,-110.2482,4356,3538.7,0.431,34.7016,2,34.702,2,211.4,2,212.9,2,136.43,2,32.26,2,0.01,2,2.23,2,0.012,2,0.006,3,-999,9,-999,9,-999,9
  90KDIOFFE6_1,  S04P,716,1,3,3,2,19920304,819,-67.0032,-110.2482,4356,3899.2,0.37,34.701,2,34.701,2,215.9,2,215.5,2,135.92,2,32.1,2,0.01,2,2.22,2,0.038,2,0.017,3,-999,9,-999,9,-999,9
  90KDIOFFE6_1,  S04P,716,1,2,2,2,19920304,819,-67.0032,-110.2482,4356,4260,0.3281,34.6994,2,34.701,2,216.3,2,217.2,2,139.99,2,32.17,2,0.01,2,2.22,2,0.043,2,0.02,3,-999,9,-999,9,-999,9
  90KDIOFFE6_1,  S04P,716,1,1,1,2,19920304,819,-67.0032,-110.2482,4356,4434.3,0.3251,34.7004,2,34.7,2,216.4,2,216.8,2,144.71,2,32.38,2,0.01,2,2.22,2,0.064,6,0.025,3,-999,9,-999,9,-999,9
  90KDIOFFE6_1,  S04P,717,1,24,24,2,19920304,1524,-66.9892,-111.9067,4595,13.5,0.7693,33.6948,2,33.6934,2,331.1,3,342.6,2,25.92,2,24.75,2,0.31,2,1.69,2,-999,9,-999,9,-999,9,2134.4,2,-999,9
  90KDIOFFE6_1,  S04P,717,1,23,23,2,19920304,1524,-66.9892,-111.9067,4595,43.1,0.7308,33.6984,2,33.6983,2,359.6,3,343,2,25.91,2,24.78,2,0.31,2,1.7,2,-999,9,-999,9,-999,9,2134.4,2,-999,9
  90KDIOFFE6_1,  S04P,717,1,22,22,2,19920304,1524,-66.9892,-111.9067,4595,73.5,0.2664,33.7848,2,33.7843,2,346.4,2,349.2,2,28.94,2,25.38,2,0.26,2,1.8,2,-999,9,-999,9,-999,9,2142.3,2,-999,9
  90KDIOFFE6_1,  S04P,717,1,21,21,2,19920304,1524,-66.9892,-111.9067,4595,103.1,-0.9734,33.8946,2,33.8922,2,331.6,2,342.2,2,40.7,2,27.44,2,0.23,2,1.95,2,-999,9,-999,9,-999,9,2163.6,2,-999,9
  90KDIOFFE6_1,  S04P,717,1,20,20,2,19920304,1524,-66.9892,-111.9067,4595,152.7,-1.147,34.0351,2,34.0314,2,317.3,2,317.6,2,50.19,2,29.53,2,0.08,2,2.06,2,-999,9,-999,9,-999,9,2185.1,2,-999,9
  90KDIOFFE6_1,  S04P,717,1,19,19,2,19920304,1524,-66.9892,-111.9067,4595,201.8,0.4859,34.2413,2,34.2405,2,284.4,2,262.4,2,58.54,2,32.04,2,0,2,2.23,2,-999,9,-999,9,-999,9,2211.6,2,-999,9
  90KDIOFFE6_1,  S04P,717,1,18,18,2,19920304,1524,-66.9892,-111.9067,4595,251.3,1.48,34.4049,2,34.4042,2,213.3,2,215.9,2,68.43,2,33.74,2,0,2,2.34,2,-999,9,-999,9,-999,9,2236.1,2,-999,9
  90KDIOFFE6_1,  S04P,717,1,17,17,2,19920304,1524,-66.9892,-111.9067,4595,369.7,1.8102,34.5413,2,34.5403,2,187.4,2,188.3,2,77.58,2,33.72,2,0,2,2.36,2,-999,9,-999,9,-999,9,2250.4,2,-999,9
  90KDIOFFE6_1,  S04P,717,1,16,16,2,19920304,1524,-66.9892,-111.9067,4595,498.5,1.8816,34.6161,2,34.6158,2,184.4,2,181.9,2,81.98,2,33.32,2,0,2,2.31,2,-999,9,-999,9,-999,9,2252.6,2,-999,9
  90KDIOFFE6_1,  S04P,717,1,15,15,2,19920304,1524,-66.9892,-111.9067,4595,647.9,1.9718,34.6767,2,34.676,2,182.7,2,180.2,2,85.23,2,32.3,2,0,2,2.24,2,-999,9,-999,9,-999,9,2254.7,2,-999,9
  90KDIOFFE6_1,  S04P,717,1,14,14,2,19920304,1524,-66.9892,-111.9067,4595,796.7,1.9047,34.7068,2,34.7068,2,184.5,2,183.6,2,88.3,2,31.81,2,0,2,2.2,2,-999,9,-999,9,-999,9,2254.2,2,-999,9
  90KDIOFFE6_1,  S04P,717,1,13,13,2,19920304,1524,-66.9892,-111.9067,4595,994.8,1.7925,34.7232,2,34.7229,2,187.3,2,187.9,2,92.14,2,31.15,2,0,2,2.17,2,-999,9,-999,9,-999,9,2255,2,-999,9
  90KDIOFFE6_1,  S04P,717,1,12,12,2,19920304,1524,-66.9892,-111.9067,4595,1240.3,1.583,34.7301,2,34.7294,2,191.4,2,192.8,2,98.13,2,31.1,2,0,2,2.16,2,-999,9,-999,9,-999,9,-999,9,-999,9
  90KDIOFFE6_1,  S04P,717,1,26,26,2,19920304,1524,-66.9892,-111.9067,4595,1485.4,1.3885,34.7284,2,34.7298,3,194.8,2,196.3,2,104.14,2,31.13,2,0,2,2.17,2,-999,9,-999,9,-999,9,-999,9,-999,9
  90KDIOFFE6_1,  S04P,717,1,10,10,2,19920304,1524,-66.9892,-111.9067,4595,1726.7,1.2254,34.7239,2,34.7227,2,197.1,2,198.3,2,109.6,2,31.43,2,0,2,2.17,2,-999,9,-999,9,-999,9,-999,9,-999,9
  90KDIOFFE6_1,  S04P,717,1,27,27,2,19920304,1524,-66.9892,-111.9067,4595,1963.3,1.1014,34.7191,2,34.7192,2,200,2,200.2,2,115.68,2,31.59,2,0,2,2.19,2,-999,9,-999,9,-999,9,-999,9,-999,9
  90KDIOFFE6_1,  S04P,717,1,8,8,2,19920304,1524,-66.9892,-111.9067,4595,2292.9,0.9366,34.7129,2,34.7123,2,203.2,2,203.2,2,119.43,2,31.76,2,0,2,2.2,2,-999,9,-999,9,-999,9,-999,9,-999,9
  90KDIOFFE6_1,  S04P,717,1,7,7,2,19920304,1524,-66.9892,-111.9067,4595,2610.1,0.7952,34.7077,2,34.7074,2,206.1,2,205.8,2,124.59,2,31.88,2,0,2,2.21,2,-999,9,-999,9,-999,9,-999,9,-999,9
  90KDIOFFE6_1,  S04P,717,1,6,6,2,19920304,1524,-66.9892,-111.9067,4595,2955.5,0.6605,34.7034,2,34.7035,2,209.1,2,208.9,2,128.19,2,32.01,2,0,2,2.22,2,0.036,2,0.012,3,-999,9,-999,9,-999,9
  90KDIOFFE6_1,  S04P,717,1,5,5,2,19920304,1524,-66.9892,-111.9067,4595,3312.3,0.5146,34.7021,2,34.7017,2,212.8,2,211.7,2,131.81,2,32.08,2,0,2,2.24,2,0.029,2,0.01,3,-999,9,-999,9,-999,9
  90KDIOFFE6_1,  S04P,717,1,4,4,2,19920304,1524,-66.9892,-111.9067,4595,3681,0.4106,34.7013,2,34.7015,2,214.2,2,213.8,2,136.06,2,32.21,2,0,2,2.23,2,0.023,2,0.011,3,-999,9,-999,9,-999,9
  90KDIOFFE6_1,  S04P,717,1,3,3,2,19920304,1524,-66.9892,-111.9067,4595,4047.9,0.3435,34.7004,2,34.7005,2,216.7,2,216.5,2,136.67,2,32.24,2,0,2,2.24,2,0.052,2,0.018,3,-999,9,-999,9,-999,9
  90KDIOFFE6_1,  S04P,717,1,2,2,2,19920304,1524,-66.9892,-111.9067,4595,4415.2,0.3256,34.7,2,34.7007,2,217.2,2,217.2,2,141.78,2,32.19,2,0,2,2.25,2,0.059,6,0.025,3,-999,9,-999,9,-999,9
  90KDIOFFE6_1,  S04P,717,1,1,1,2,19920304,1524,-66.9892,-111.9067,4595,4668,0.3116,34.699,2,34.7003,2,219,2,218.8,2,139.93,2,32.22,2,0,2,2.24,2,0.11,2,0.045,3,-999,9,-999,9,-999,9
  90KDIOFFE6_1,  S04P,718,1,23,23,4,19920304,2203,-67.0067,-113.6377,4617,39.3,1.0385,33.6826,2,33.681,2,339.7,3,342.2,2,16.53,2,24.36,2,0.31,2,1.66,2,6.384,2,2.813,3,-999,9,2130.7,2,-999,9
  90KDIOFFE6_1,  S04P,718,1,22,22,4,19920304,2203,-67.0067,-113.6377,4617,74.4,-0.6792,33.887,2,33.889,2,335.1,2,342.6,2,36.87,2,26.99,2,0.25,2,1.95,2,6.571,2,2.866,3,-999,9,2159.9,2,-999,9
  90KDIOFFE6_1,  S04P,718,1,21,21,4,19920304,2203,-67.0067,-113.6377,4617,104.8,-0.6951,33.9726,2,33.977,2,323.7,2,329.9,2,41.56,2,28.56,2,0.16,2,2.01,2,6.007,2,2.672,3,-999,9,2170.4,2,-999,9
  90KDIOFFE6_1,  S04P,718,1,20,20,4,19920304,2203,-67.0067,-113.6377,4617,165.4,0.0033,34.1472,2,34.147,2,294.6,2,289.1,2,52.61,2,30.8,2,0.01,2,2.15,2,4.626,2,1.998,3,-999,9,2198.6,2,-999,9
  90KDIOFFE6_1,  S04P,718,1,19,19,4,19920304,2203,-67.0067,-113.6377,4617,205.5,0.8956,34.2986,2,34.3,2,253.5,2,245.1,2,62.08,2,32.56,2,0.01,2,2.27,2,3.069,2,1.313,3,-999,9,-999,9,-999,9
  90KDIOFFE6_1,  S04P,718,1,18,18,4,19920304,2203,-67.0067,-113.6377,4617,305.3,1.6921,34.4952,2,34.495,2,194.5,2,196.9,2,74.59,2,33.53,2,0.01,2,2.36,2,1.288,2,0.531,3,-999,9,-999,9,-999,9
  90KDIOFFE6_1,  S04P,718,1,17,17,4,19920304,2203,-67.0067,-113.6377,4617,404.7,1.8749,34.5761,2,34.578,2,183.9,2,183.8,2,79.37,2,33.33,2,0.01,2,2.34,2,0.702,2,0.277,3,-999,9,-999,9,-999,9
  90KDIOFFE6_1,  S04P,718,1,16,16,4,19920304,2203,-67.0067,-113.6377,4617,604.7,1.9679,34.6682,2,34.668,2,180.7,2,179.9,2,84.74,2,32.06,2,0.01,2,2.26,2,0.258,2,0.094,3,-999,9,-999,9,-999,9
  90KDIOFFE6_1,  S04P,718,1,15,15,4,19920304,2203,-67.0067,-113.6377,4617,806.5,1.8929,34.7072,2,34.707,2,185.5,2,183.8,2,88.55,2,31.28,2,0.01,2,2.2,2,0.122,2,0.038,3,-999,9,-999,9,-999,9
  90KDIOFFE6_1,  S04P,718,1,14,14,4,19920304,2203,-67.0067,-113.6377,4617,1009.7,1.753,34.7252,2,34.725,2,191.2,2,188.6,2,93.15,2,30.89,2,0.01,2,2.16,2,0.079,2,0.024,3,-999,9,-999,9,-999,9
  90KDIOFFE6_1,  S04P,718,1,13,13,4,19920304,2203,-67.0067,-113.6377,4617,1212.2,1.5981,34.73,2,34.73,2,195.8,2,192.5,2,95.69,2,30.79,2,0.01,2,2.16,2,0.054,6,0.015,3,-999,9,-999,9,-999,9
  90KDIOFFE6_1,  S04P,718,1,12,12,4,19920304,2203,-67.0067,-113.6377,4617,1515.3,1.3703,34.7287,2,34.728,2,198.4,2,196.4,2,104.58,2,31.08,2,0.01,2,2.16,2,0.04,2,0.013,3,-999,9,-999,9,-999,9
  90KDIOFFE6_1,  S04P,718,1,26,26,4,19920304,2203,-67.0067,-113.6377,4617,1817.6,1.1764,34.7213,2,34.724,3,197.9,2,199.4,2,110.84,2,31.18,2,0.01,2,2.17,2,0.035,2,0.007,3,-999,9,-999,9,-999,9
  90KDIOFFE6_1,  S04P,718,1,10,10,4,19920304,2203,-67.0067,-113.6377,4617,2121.1,1.0066,34.7164,2,34.715,2,197.4,2,202.5,2,116.7,2,31.37,2,0,2,2.2,2,0.019,3,0.006,4,-999,9,-999,9,-999,9
  90KDIOFFE6_1,  S04P,718,1,27,27,4,19920304,2203,-67.0067,-113.6377,4617,2427.9,0.8697,34.7111,2,34.71,2,199.8,2,205.1,2,121.69,2,31.57,2,0,2,2.21,2,0.038,2,0.011,3,-999,9,-999,9,-999,9
  90KDIOFFE6_1,  S04P,718,1,8,8,4,19920304,2203,-67.0067,-113.6377,4617,2733.9,0.7387,34.7054,2,34.705,2,209.8,2,207.7,2,126.48,2,31.86,2,0,2,2.22,2,0.038,2,0.01,3,-999,9,-999,9,-999,9
  90KDIOFFE6_1,  S04P,718,1,7,7,4,19920304,2203,-67.0067,-113.6377,4617,3040.2,0.6238,34.7018,2,34.703,2,211.8,2,209.9,2,128.43,2,31.96,2,0,2,2.23,2,0.045,6,0.014,3,-999,9,-999,9,-999,9
  90KDIOFFE6_1,  S04P,718,1,6,6,4,19920304,2203,-67.0067,-113.6377,4617,3345.5,0.4939,34.7016,2,34.701,2,208.8,2,212.5,2,131.27,2,32.06,2,0,2,2.24,2,0.046,2,0.012,3,-999,9,-999,9,-999,9
  90KDIOFFE6_1,  S04P,718,1,5,5,4,19920304,2203,-67.0067,-113.6377,4617,3649.8,0.398,34.701,2,34.701,2,211.4,2,215.1,2,133.9,2,32.16,2,0,2,2.24,2,0.037,2,0.014,3,-999,9,-999,9,-999,9
  90KDIOFFE6_1,  S04P,718,1,4,4,4,19920304,2203,-67.0067,-113.6377,4617,3959.7,0.342,34.7008,2,34.701,2,217.6,2,216.8,2,135.76,2,32.16,2,0,2,2.25,2,0.057,2,0.028,3,-999,9,-999,9,-999,9
  90KDIOFFE6_1,  S04P,718,1,3,3,4,19920304,2203,-67.0067,-113.6377,4617,4270.3,0.3221,34.7002,2,34.701,2,217.1,2,217.2,2,139.18,2,32.25,2,0,2,2.25,2,0.062,2,0.02,3,-999,9,-999,9,-999,9
  90KDIOFFE6_1,  S04P,718,1,2,2,4,19920304,2203,-67.0067,-113.6377,4617,4576.6,0.3151,34.6994,2,34.7,2,223,2,218.5,2,138.6,2,32.06,2,0,2,2.25,2,0.098,2,0.035,3,-999,9,-999,9,-999,9
  90KDIOFFE6_1,  S04P,718,1,24,24,4,19920304,2203,-67.0067,-113.6377,4617,4704,0.3011,34.7007,2,34.7,2,220.9,2,219.8,2,138.21,2,32.06,2,0,2,2.25,2,0.131,2,0.048,3,-999,9,2261.7,2,-999,9
  90KDIOFFE6_1,  S04P,718,1,1,1,4,19920304,2203,-67.0067,-113.6377,4617,4704,0.3011,34.7007,2,34.7,2,220.9,2,219.4,2,138.5,2,32.16,2,0,2,2.25,2,0.134,2,0.049,3,-999,9,-999,9,-999,9
  90KDIOFFE6_1,  S04P,719,1,24,24,2,19920305,455,-67.0002,-115.3663,4726,12.4,0.8487,33.6853,2,33.6837,2,-999,9,342.8,2,23.1,2,24.59,2,0.3,2,1.67,2,-999,9,-999,9,-999,9,2131.8,2,-999,9
  90KDIOFFE6_1,  S04P,719,1,23,23,2,19920305,455,-67.0002,-115.3663,4726,52.6,0.4979,33.7339,2,33.772,2,-999,9,345.1,2,28.32,2,25.47,2,0.27,2,1.79,2,-999,9,-999,9,-999,9,2142.2,2,-999,9
  90KDIOFFE6_1,  S04P,719,1,22,22,2,19920305,455,-67.0002,-115.3663,4726,128.1,-0.6832,33.9893,2,33.9902,2,-999,9,326.6,2,43.23,2,29.17,2,0.06,2,2.02,2,-999,9,-999,9,-999,9,2173.3,2,-999,9
  90KDIOFFE6_1,  S04P,719,1,21,21,2,19920305,455,-67.0002,-115.3663,4726,173.1,-0.1056,34.149,2,34.1598,2,-999,9,285.1,2,54.46,2,31.3,2,0.01,2,2.16,2,-999,9,-999,9,-999,9,2199.7,2,-999,9
  90KDIOFFE6_1,  S04P,719,1,20,20,2,19920305,455,-67.0002,-115.3663,4726,223.5,1.3213,34.3559,2,34.3578,2,-999,9,226.7,2,65.3,2,33.48,2,0.01,2,2.32,2,-999,9,-999,9,-999,9,2228.1,2,-999,9
  90KDIOFFE6_1,  S04P,719,1,19,19,2,19920305,455,-67.0002,-115.3663,4726,253.1,1.3683,34.4108,2,34.4158,2,-999,9,215.8,2,69.95,2,33.85,2,0.01,2,2.35,2,-999,9,-999,9,-999,9,2236,2,-999,9
  90KDIOFFE6_1,  S04P,719,1,18,18,2,19920305,455,-67.0002,-115.3663,4726,303.3,1.782,34.5001,2,34.4987,2,-999,9,194.1,2,74.6,2,34.09,2,0.01,2,2.36,2,-999,9,-999,9,-999,9,2244.2,2,-999,9
  90KDIOFFE6_1,  S04P,719,1,17,17,2,19920305,455,-67.0002,-115.3663,4726,403.9,1.816,34.5593,2,34.5591,2,-999,9,186.8,2,78.87,2,34,2,0.01,2,2.35,2,-999,9,-999,9,-999,9,2251.1,2,-999,9
  90KDIOFFE6_1,  S04P,719,1,16,16,2,19920305,455,-67.0002,-115.3663,4726,504.4,1.9069,34.618,2,34.6176,2,-999,9,181.9,2,81.78,2,33.41,2,0.01,2,2.32,2,-999,9,-999,9,-999,9,2253.7,2,-999,9
  90KDIOFFE6_1,  S04P,719,1,15,15,2,19920305,455,-67.0002,-115.3663,4726,604.5,1.9539,34.661,2,34.6599,2,-999,9,180.3,2,84.3,2,32.73,2,0.01,2,2.27,2,-999,9,-999,9,-999,9,2254.7,2,-999,9
  90KDIOFFE6_1,  S04P,719,1,14,14,2,19920305,455,-67.0002,-115.3663,4726,703.5,1.9459,34.6849,2,34.6848,2,-999,9,181.1,2,86.23,2,32.46,2,0,2,2.25,2,-999,9,-999,9,-999,9,2252.4,2,-999,9
  90KDIOFFE6_1,  S04P,719,1,13,13,2,19920305,455,-67.0002,-115.3663,4726,900.3,1.841,34.7163,2,34.7172,2,-999,9,185.9,2,90.13,2,31.65,2,0,2,2.19,2,-999,9,-999,9,-999,9,2255,2,-999,9
  90KDIOFFE6_1,  S04P,719,1,12,12,2,19920305,455,-67.0002,-115.3663,4726,1196.1,1.6231,34.7302,2,34.73,2,-999,9,191.9,2,96.58,2,31.2,2,0,2,2.16,2,-999,9,-999,9,-999,9,2252.1,2,-999,9
  90KDIOFFE6_1,  S04P,719,1,26,26,2,19920305,455,-67.0002,-115.3663,4726,1501.6,1.3773,34.7283,2,34.7278,2,-999,9,196.3,2,104.24,2,31.44,2,0,2,2.18,2,-999,9,-999,9,-999,9,2256.7,2,-999,9
  90KDIOFFE6_1,  S04P,719,1,10,10,2,19920305,455,-67.0002,-115.3663,4726,1815.2,1.1674,34.721,2,34.7211,2,-999,9,199.8,2,110.96,2,31.68,2,0,2,2.18,2,-999,9,-999,9,-999,9,2259.5,2,-999,9
  90KDIOFFE6_1,  S04P,719,1,27,27,2,19920305,455,-67.0002,-115.3663,4726,2122.8,1.0066,34.7168,2,34.7157,2,-999,9,202.5,2,116.52,2,31.87,2,0,2,2.2,2,-999,9,-999,9,-999,9,2260,2,-999,9
  90KDIOFFE6_1,  S04P,719,1,8,8,2,19920305,455,-67.0002,-115.3663,4726,2475.6,0.8487,34.7092,2,34.7098,2,-999,9,205.3,2,122.31,2,32.1,2,0,2,2.21,2,-999,9,-999,9,-999,9,2262.3,2,-999,9
  90KDIOFFE6_1,  S04P,719,1,7,7,2,19920305,455,-67.0002,-115.3663,4726,2832.7,0.7098,34.7058,2,34.7051,2,-999,9,208,2,126.99,2,32.08,2,0,2,2.22,2,-999,9,-999,9,-999,9,2263.1,2,-999,9
  90KDIOFFE6_1,  S04P,719,1,6,6,2,19920305,455,-67.0002,-115.3663,4726,3192.7,0.5599,34.7022,2,34.7023,2,-999,9,211.1,2,129.55,2,32.21,2,0,2,2.23,2,-0.011,4,0.016,3,-999,9,2261.7,2,-999,9
  90KDIOFFE6_1,  S04P,719,1,5,5,2,19920305,455,-67.0002,-115.3663,4726,3551.5,0.437,34.702,2,34.7017,2,-999,9,213.6,2,134.42,2,32.35,2,0,2,2.25,2,0.027,2,0.011,3,-999,9,2264.9,2,-999,9
  90KDIOFFE6_1,  S04P,719,1,4,4,2,19920305,455,-67.0002,-115.3663,4726,3910.6,0.359,34.7003,2,34.7009,2,-999,9,216.3,2,135.02,2,32.54,2,0,2,2.24,2,0.053,2,0.023,3,-999,9,2264.2,2,-999,9
  90KDIOFFE6_1,  S04P,719,1,3,3,2,19920305,455,-67.0002,-115.3663,4726,4267.3,0.3261,34.6996,2,34.7007,2,-999,9,217.7,2,136.63,2,32.41,2,0,2,2.24,2,0.073,2,0.015,4,-999,9,2261.9,2,-999,9
  90KDIOFFE6_1,  S04P,719,1,2,2,2,19920305,455,-67.0002,-115.3663,4726,4621.5,0.3171,34.7,2,34.7005,2,-999,9,219.1,2,137.85,2,32.38,2,0,2,2.24,2,0.101,2,0.039,3,-999,9,2262.6,2,-999,9
  90KDIOFFE6_1,  S04P,719,1,1,1,2,19920305,455,-67.0002,-115.3663,4726,4812.1,0.3111,34.6997,2,34.7007,2,-999,9,219.3,2,141.54,2,32.43,2,0,2,2.25,2,0.137,2,0.046,3,-999,9,2263.3,2,-999,9