BOTTLE,20181005JHS,,,,,,,,,,,,,,,,,,,,,,,,,,,,,,,,,,,,,,
EXPOCODE,SECT_ID,STNNBR,CASTNO,SAMPNO,BTLNBR,BTLNBR_FLAG_W,DATE,TIME,LATITUDE,LONGITUDE,DEPTH,CTDPRS,CTDTMP,CTDSAL,CTDSAL_FLAG_W,SALNTY,SALNTY_FLAG_W,CTDOXY,CTDOXY_FLAG_W,OXYGEN,OXYGEN_FLAG_W,SILCAT,SILCAT_FLAG_W,NITRAT,NITRAT_FLAG_W,NITRIT,NITRIT_FLAG_W,PHSPHT,PHSPHT_FLAG_W,CFC-11,CFC-11_FLAG_W,CFC-12,CFC-12_FLAG_W,SF6,SF6_FLAG_W,TCARBN,TCARBN_FLAG_W,ALKALI,ALKALI_FLAG_W
,,,,,,,,,,,,DBAR,ITS-90,PSS-78,,PSS-78,,UMOL/KG,,UMOL/KG,,UMOL/KG,,UMOL/KG,,UMOL/KG,,UMOL/KG,,PMOL/KG,,PMOL/KG,,FMOL/KG,,UMOL/KG,,UMOL/KG,
  90KDIOFFE6_1,  S04P,720,1,24,24,2,19920305,1233,-67.0063,-117.0853,4519,14,0.5855,33.6329,2,33.6327,2,-999,9,343.3,2,32.26,2,25,2,0.31,2,1.75,2,6.524,2,2.869,3,-999,9,2134.2,2,-999,9
  90KDIOFFE6_1,  S04P,720,1,23,23,2,19920305,1233,-67.0063,-117.0853,4519,54.2,0.3601,33.6773,2,33.6735,2,-999,9,344.8,2,32.83,2,25.32,2,0.3,2,1.78,2,6.531,2,2.88,3,-999,9,2137.8,2,-999,9
  90KDIOFFE6_1,  S04P,720,1,22,22,2,19920305,1233,-67.0063,-117.0853,4519,104.4,-1.0188,33.9869,2,33.9848,2,-999,9,326.9,2,45.45,2,29.1,2,0.15,2,2.02,2,-999,9,-999,9,-999,9,2177,2,-999,9
  90KDIOFFE6_1,  S04P,720,1,21,21,2,19920305,1233,-67.0063,-117.0853,4519,155,-0.4969,34.1237,2,34.1316,2,-999,9,293.9,2,54.25,2,30.78,2,0.01,2,2.13,2,4.831,2,2.348,3,-999,9,-999,9,-999,9
  90KDIOFFE6_1,  S04P,720,1,20,20,2,19920305,1233,-67.0063,-117.0853,4519,204.7,0.5585,34.2913,2,34.2959,2,-999,9,250.9,2,63.57,2,32.59,2,0,2,2.26,2,3.217,2,1.395,3,-999,9,-999,9,-999,9
  90KDIOFFE6_1,  S04P,720,1,19,19,2,19920305,1233,-67.0063,-117.0853,4519,254.2,1.1914,34.4113,2,34.4171,2,-999,9,219.1,2,71.11,2,33.62,2,0.01,2,2.33,2,2.167,2,0.916,3,-999,9,-999,9,-999,9
  90KDIOFFE6_1,  S04P,720,1,18,18,2,19920305,1233,-67.0063,-117.0853,4519,303,1.7073,34.5192,2,34.5181,2,-999,9,192.7,2,76.48,2,34.05,2,0.01,2,2.36,2,1.165,2,0.478,3,-999,9,-999,9,-999,9
  90KDIOFFE6_1,  S04P,720,1,17,17,2,19920305,1233,-67.0063,-117.0853,4519,382.5,1.8862,34.5896,2,34.5889,2,-999,9,182.8,2,79.94,2,33.58,2,0.01,2,2.33,2,0.666,2,0.259,3,-999,9,-999,9,-999,9
  90KDIOFFE6_1,  S04P,720,1,16,16,2,19920305,1233,-67.0063,-117.0853,4519,534.7,1.9309,34.6549,2,34.6548,2,-999,9,179.9,2,83.98,2,32.71,2,0,2,2.27,2,0.342,2,0.128,3,-999,9,-999,9,-999,9
  90KDIOFFE6_1,  S04P,720,1,15,15,2,19920305,1233,-67.0063,-117.0853,4519,706.7,1.9137,34.6998,2,34.6995,2,-999,9,182.3,2,87.45,2,31.88,2,0,2,2.2,2,0.148,2,0.051,3,-999,9,-999,9,-999,9
  90KDIOFFE6_1,  S04P,720,1,14,14,2,19920305,1233,-67.0063,-117.0853,4519,909.3,1.7979,34.7216,2,34.7203,2,-999,9,186.7,2,91.5,2,31.44,2,0,2,2.17,2,0.082,2,0.026,3,-999,9,-999,9,-999,9
  90KDIOFFE6_1,  S04P,720,1,13,13,2,19920305,1233,-67.0063,-117.0853,4519,1111,1.6498,34.7291,2,34.7291,2,-999,9,191.1,2,95.76,2,31.07,2,0,2,2.16,2,0.055,2,0.016,3,-999,9,-999,9,-999,9
  90KDIOFFE6_1,  S04P,720,1,12,12,2,19920305,1233,-67.0063,-117.0853,4519,1313.6,1.4881,34.73,2,34.7311,2,-999,9,194.2,2,100.82,2,31.18,2,0,2,2.17,2,0.041,2,0.012,3,-999,9,-999,9,-999,9
  90KDIOFFE6_1,  S04P,720,1,26,26,2,19920305,1233,-67.0063,-117.0853,4519,1617.6,1.2715,34.725,2,34.7252,2,-999,9,197.3,2,107.67,2,31.35,2,0,2,2.18,2,0.032,2,0.009,3,-999,9,-999,9,-999,9
  90KDIOFFE6_1,  S04P,720,1,10,10,2,19920305,1233,-67.0063,-117.0853,4519,1916.3,1.0922,34.7183,2,34.7189,2,-999,9,200.5,2,113.37,2,31.6,2,0,2,2.2,2,0.025,2,0.006,3,-999,9,-999,9,-999,9
  90KDIOFFE6_1,  S04P,720,1,27,27,2,19920305,1233,-67.0063,-117.0853,4519,2224.9,0.9323,34.7124,2,34.7126,2,-999,9,203.4,2,119.11,2,31.67,2,0,2,2.2,2,0.024,2,0.009,3,-999,9,-999,9,-999,9
  90KDIOFFE6_1,  S04P,720,1,8,8,2,19920305,1233,-67.0063,-117.0853,4519,2530.1,0.8039,34.7078,2,34.7083,2,-999,9,205.7,2,123.9,2,31.92,2,0,2,2.21,2,0.024,2,0.01,3,-999,9,-999,9,-999,9
  90KDIOFFE6_1,  S04P,720,1,7,7,2,19920305,1233,-67.0063,-117.0853,4519,2886.9,0.6626,34.7037,2,34.7041,2,-999,9,208.6,2,127.5,2,31.99,2,0,2,2.22,2,0.04,3,0.014,3,-999,9,-999,9,-999,9
  90KDIOFFE6_1,  S04P,720,1,6,6,2,19920305,1233,-67.0063,-117.0853,4519,3242,0.5176,34.7023,2,34.7018,2,-999,9,211.3,2,131.13,2,32.06,2,0,2,2.23,2,0.028,2,0.012,3,-999,9,-999,9,-999,9
  90KDIOFFE6_1,  S04P,720,1,5,5,2,19920305,1233,-67.0063,-117.0853,4519,3595,0.41,34.7005,2,34.7004,2,-999,9,214.1,2,133.55,2,32.22,2,0,2,2.23,2,0.04,2,0.015,3,-999,9,-999,9,-999,9
  90KDIOFFE6_1,  S04P,720,1,4,4,2,19920305,1233,-67.0063,-117.0853,4519,3950.2,0.3462,34.7002,2,34.7008,2,-999,9,215.9,2,135.78,2,32.2,2,0,2,2.23,2,0.044,2,0.021,3,-999,9,-999,9,-999,9
  90KDIOFFE6_1,  S04P,720,1,3,3,2,19920305,1233,-67.0063,-117.0853,4519,4281.6,0.32,34.6996,2,34.7006,2,-999,9,217.3,2,138.64,2,32.23,2,0,2,2.24,2,0.067,6,0.025,3,-999,9,-999,9,-999,9
  90KDIOFFE6_1,  S04P,720,1,2,2,2,19920305,1233,-67.0063,-117.0853,4519,4487.4,0.3066,34.6996,2,34.7015,2,-999,9,217.9,2,140.06,2,32.25,2,0,2,2.24,2,0.145,4,0.047,4,-999,9,-999,9,-999,9
  90KDIOFFE6_1,  S04P,720,1,1,1,2,19920305,1233,-67.0063,-117.0853,4519,4588.9,0.3031,34.6994,2,34.7002,2,-999,9,218.3,2,140.26,2,32.28,2,0,2,2.25,2,0.112,6,0.042,3,-999,9,-999,9,-999,9
  90KDIOFFE6_1,  S04P,721,1,24,24,2,19920306,35,-66.9965,-118.7667,4607,14.9,0.5838,33.6317,2,33.6317,2,-999,9,344.1,2,30.71,2,25.02,2,0.3,2,1.72,2,-999,9,-999,9,-999,9,2132.1,2,-999,9
  90KDIOFFE6_1,  S04P,721,1,23,23,2,19920306,35,-66.9965,-118.7667,4607,55.7,0.5701,33.6372,2,33.643,2,-999,9,343.2,2,30.51,2,25.05,2,0.29,2,1.73,2,-999,9,-999,9,-999,9,2133.8,2,-999,9
  90KDIOFFE6_1,  S04P,721,1,22,22,2,19920306,35,-66.9965,-118.7667,4607,80.8,-0.908,33.9083,2,33.9035,2,-999,9,339.7,2,39.91,2,27.43,2,0.25,2,1.97,2,-999,9,-999,9,-999,9,2162.2,2,-999,9
  90KDIOFFE6_1,  S04P,721,1,21,21,2,19920306,35,-66.9965,-118.7667,4607,105.7,-0.9107,33.9669,2,33.9655,2,-999,9,331.1,2,43.36,2,28.59,2,0.2,2,2.01,2,-999,9,-999,9,-999,9,2168.6,2,-999,9
  90KDIOFFE6_1,  S04P,721,1,20,20,2,19920306,35,-66.9965,-118.7667,4607,136.3,-0.9464,34.0031,2,34.0079,2,-999,9,322.8,2,46.62,2,29.42,2,0.08,2,2.04,2,-999,9,-999,9,-999,9,2178.9,2,-999,9
  90KDIOFFE6_1,  S04P,721,1,19,19,2,19920306,35,-66.9965,-118.7667,4607,205.9,0.5838,34.2654,2,34.2712,2,-999,9,253.2,2,61.03,2,32.56,2,0,2,2.27,2,-999,9,-999,9,-999,9,2215.9,2,-999,9
  90KDIOFFE6_1,  S04P,721,1,18,18,2,19920306,35,-66.9965,-118.7667,4607,256.1,1.1847,34.3974,2,34.3995,2,-999,9,222.1,2,69.71,2,33.65,2,0,2,2.34,2,-999,9,-999,9,-999,9,2234.7,2,-999,9
  90KDIOFFE6_1,  S04P,721,1,17,17,2,19920306,35,-66.9965,-118.7667,4607,306.4,1.6277,34.502,2,34.5032,2,-999,9,196.2,2,75.85,2,34.08,2,0,2,2.37,2,-999,9,-999,9,-999,9,2246.8,2,-999,9
  90KDIOFFE6_1,  S04P,721,1,16,16,2,19920306,35,-66.9965,-118.7667,4607,406.8,1.8344,34.5827,2,34.5824,2,-999,9,184.3,2,80.09,2,33.82,2,0,2,2.34,2,-999,9,-999,9,-999,9,2251,2,-999,9
  90KDIOFFE6_1,  S04P,721,1,15,15,2,19920306,35,-66.9965,-118.7667,4607,608.6,1.9138,34.6711,2,34.671,2,-999,9,180,2,85.31,2,32.55,2,0,2,2.28,2,-999,9,-999,9,-999,9,2254.6,2,-999,9
  90KDIOFFE6_1,  S04P,721,1,14,14,2,19920306,35,-66.9965,-118.7667,4607,809.6,1.8667,34.712,2,34.7122,2,-999,9,184.8,2,89.18,2,31.57,2,0,2,2.21,2,-999,9,-999,9,-999,9,2254.4,2,-999,9
  90KDIOFFE6_1,  S04P,721,1,13,13,2,19920306,35,-66.9965,-118.7667,4607,1011.1,1.7281,34.7265,2,34.7267,2,-999,9,188.9,2,93.48,2,31.23,2,0,2,2.19,2,-999,9,-999,9,-999,9,2250.6,2,-999,9
  90KDIOFFE6_1,  S04P,721,1,12,12,2,19920306,35,-66.9965,-118.7667,4607,1211.5,1.5591,34.7302,2,34.7305,2,-999,9,192.6,2,98.71,2,31.24,2,0,2,2.17,2,-999,9,-999,9,-999,9,2257,2,-999,9
  90KDIOFFE6_1,  S04P,721,1,26,26,2,19920306,35,-66.9965,-118.7667,4607,1513.4,1.338,34.7271,2,34.7254,2,-999,9,195.3,2,105.76,2,31.35,2,0,2,2.19,2,-999,9,-999,9,-999,9,2258.5,2,-999,9
  90KDIOFFE6_1,  S04P,721,1,10,10,2,19920306,35,-66.9965,-118.7667,4607,1818,1.1468,34.7213,2,34.7204,2,-999,9,198.3,2,112.25,2,31.78,2,0,2,2.2,2,-999,9,-999,9,-999,9,2258.5,2,-999,9
  90KDIOFFE6_1,  S04P,721,1,27,27,2,19920306,35,-66.9965,-118.7667,4607,2123.3,0.984,34.715,2,34.7141,2,-999,9,201.7,2,117.6,2,31.71,2,0,2,2.21,2,-999,9,-999,9,-999,9,2259.9,2,-999,9
  90KDIOFFE6_1,  S04P,721,1,8,8,2,19920306,35,-66.9965,-118.7667,4607,2429.3,0.8507,34.7093,2,34.7094,2,-999,9,204.8,2,122.39,2,31.82,2,0,2,2.23,2,-999,9,-999,9,-999,9,2261.8,2,-999,9
  90KDIOFFE6_1,  S04P,721,1,7,7,2,19920306,35,-66.9965,-118.7667,4607,2787.4,0.7099,34.7055,2,34.7049,2,-999,9,207.1,2,126.79,2,32.11,2,0,2,2.23,2,-999,9,-999,9,-999,9,2259.9,2,-999,9
  90KDIOFFE6_1,  S04P,721,1,6,6,2,19920306,35,-66.9965,-118.7667,4607,3146.4,0.5671,34.7025,2,34.7027,2,-999,9,210.9,2,129.41,2,32.22,2,0,2,2.24,2,0.034,2,0.014,3,-999,9,2263,2,-999,9
  90KDIOFFE6_1,  S04P,721,1,5,5,2,19920306,35,-66.9965,-118.7667,4607,3453.1,0.4536,34.7005,2,34.7008,2,-999,9,213.1,2,131.42,2,32.28,2,0,2,2.24,2,0.054,2,0.021,3,-999,9,2262.1,2,-999,9
  90KDIOFFE6_1,  S04P,721,1,4,4,2,19920306,35,-66.9965,-118.7667,4607,3759.7,0.3871,34.7006,2,34.7012,2,-999,9,214.7,2,135.07,2,32.3,2,0,2,2.25,2,0.041,2,0.016,3,-999,9,2260.2,2,-999,9
  90KDIOFFE6_1,  S04P,721,1,3,3,2,19920306,35,-66.9965,-118.7667,4607,4067.1,0.3441,34.7005,2,34.6998,2,-999,9,215.8,2,137.52,2,32.27,2,0,2,2.25,2,0.043,2,0.017,3,-999,9,2262.2,2,-999,9
  90KDIOFFE6_1,  S04P,721,1,2,2,2,19920306,35,-66.9965,-118.7667,4607,4478.2,0.3182,34.7001,2,34.7008,2,-999,9,217.6,2,139.35,2,32.38,2,0,2,2.26,2,0.076,6,0.03,3,-999,9,2262.4,2,-999,9
  90KDIOFFE6_1,  S04P,721,1,1,1,2,19920306,35,-66.9965,-118.7667,4607,4692.9,0.3056,34.6999,2,34.7006,2,-999,9,218.2,2,141.61,2,32.44,2,0,2,2.26,2,0.129,2,0.051,3,-999,9,2265.5,2,-999,9
  90KDIOFFE6_1,  S04P,722,1,24,24,2,19920306,752,-67.0015,-120.4602,4526,13.4,0.764,33.6777,2,33.6763,2,339.8,3,344.2,2,23.87,2,24.44,2,0.31,2,1.64,2,6.331,2,2.791,3,-999,9,2130.2,2,-999,9
  90KDIOFFE6_1,  S04P,722,1,23,23,2,19920306,752,-67.0015,-120.4602,4526,53.2,0.7479,33.6786,2,33.6772,2,335.3,3,343.9,2,24.06,2,24.51,2,0.3,2,1.67,2,6.522,2,2.839,3,-999,9,2132.6,2,-999,9
  90KDIOFFE6_1,  S04P,722,1,22,22,2,19920306,752,-67.0015,-120.4602,4526,78.7,-0.6561,33.8697,2,33.8767,2,343.6,3,342.5,2,37.06,2,26.84,2,0.25,2,1.95,2,6.587,2,2.89,3,-999,9,2159.8,2,-999,9
  90KDIOFFE6_1,  S04P,722,1,21,21,2,19920306,752,-67.0015,-120.4602,4526,103,-0.7747,33.9403,2,33.9461,2,339.1,2,334.3,2,41.26,2,28.22,2,0.24,2,2,2,6.287,2,2.774,3,-999,9,2168.9,2,-999,9
  90KDIOFFE6_1,  S04P,722,1,20,20,2,19920306,752,-67.0015,-120.4602,4526,133.9,-0.6322,34.0098,2,34.0142,2,326.5,2,321.7,2,45.27,2,29.45,2,0.02,2,2.05,2,5.815,2,2.553,3,-999,9,-999,9,-999,9
  90KDIOFFE6_1,  S04P,722,1,19,19,2,19920306,752,-67.0015,-120.4602,4526,203.9,0.733,34.2813,2,34.2812,2,257.3,2,251.9,2,61.15,2,32.61,2,0.01,2,2.26,2,3.325,2,1.443,3,-999,9,-999,9,-999,9
  90KDIOFFE6_1,  S04P,722,1,18,18,2,19920306,752,-67.0015,-120.4602,4526,254.2,1.4631,34.4349,2,34.4301,2,207.7,2,211.1,2,71.11,2,33.8,2,0.01,2,2.36,2,1.843,2,0.783,3,-999,9,-999,9,-999,9
  90KDIOFFE6_1,  S04P,722,1,17,17,2,19920306,752,-67.0015,-120.4602,4526,303.9,1.7228,34.5076,2,34.5087,2,193.3,2,193.4,2,75.71,2,34.09,2,0.01,2,2.36,2,1.176,2,0.479,3,-999,9,-999,9,-999,9
  90KDIOFFE6_1,  S04P,722,1,16,16,2,19920306,752,-67.0015,-120.4602,4526,404.1,1.8809,34.5868,2,34.587,2,182.6,2,182.9,2,80.12,2,33.6,2,0,2,2.34,2,0.664,2,0.269,3,-999,9,-999,9,-999,9
  90KDIOFFE6_1,  S04P,722,1,15,15,2,19920306,752,-67.0015,-120.4602,4526,504.6,1.944,34.6426,2,34.6419,2,181.4,2,179.8,2,83.19,2,33.02,2,0,2,2.3,2,0.371,6,0.135,3,-999,9,-999,9,-999,9
  90KDIOFFE6_1,  S04P,722,1,14,14,2,19920306,752,-67.0015,-120.4602,4526,604.7,1.9554,34.6763,2,34.6756,2,180.6,2,180.3,2,85.49,2,32.39,2,0,2,2.26,2,0.227,6,0.08,3,-999,9,-999,9,-999,9
  90KDIOFFE6_1,  S04P,722,1,13,13,2,19920306,752,-67.0015,-120.4602,4526,806.6,1.8694,34.7119,2,34.7111,2,189.1,2,184.4,2,89.35,2,31.59,2,0,2,2.2,2,0.115,2,0.03,4,-999,9,-999,9,-999,9
  90KDIOFFE6_1,  S04P,722,1,12,12,2,19920306,752,-67.0015,-120.4602,4526,1007.9,1.7231,34.7266,2,34.7259,2,189.4,2,189.1,2,93.99,2,31.34,2,0,2,2.17,2,0.072,2,0.022,3,-999,9,-999,9,-999,9
  90KDIOFFE6_1,  S04P,722,1,26,26,2,19920306,752,-67.0015,-120.4602,4526,1310.5,1.4766,34.73,2,34.729,2,192.1,2,194.2,2,101.17,2,31.22,2,0,2,2.17,2,0.046,2,0.013,3,-999,9,-999,9,-999,9
  90KDIOFFE6_1,  S04P,722,1,10,10,2,19920306,752,-67.0015,-120.4602,4526,1611.9,1.2629,34.7251,2,34.7243,2,194.6,2,197.6,2,108.2,2,31.5,2,0,2,2.19,2,0.032,2,0.008,3,-999,9,-999,9,-999,9
  90KDIOFFE6_1,  S04P,722,1,27,27,2,19920306,752,-67.0015,-120.4602,4526,1914.5,1.0781,34.7186,2,34.718,2,203.9,2,200.4,2,114.3,2,31.83,2,0,2,2.2,2,0.025,2,0.004,4,-999,9,-999,9,-999,9
  90KDIOFFE6_1,  S04P,722,1,8,8,2,19920306,752,-67.0015,-120.4602,4526,2270.6,0.896,34.7116,2,34.71,2,203.5,2,204.2,2,120.63,2,31.84,2,0,2,2.21,2,0.015,2,0.008,3,-999,9,-999,9,-999,9
  90KDIOFFE6_1,  S04P,722,1,7,7,2,19920306,752,-67.0015,-120.4602,4526,2627.8,0.7417,34.7063,2,34.7058,2,202.5,2,206.8,2,125.81,2,32.13,2,0,2,2.22,2,0.022,2,0.006,3,-999,9,-999,9,-999,9
  90KDIOFFE6_1,  S04P,722,1,6,6,2,19920306,752,-67.0015,-120.4602,4526,2984.4,0.5953,34.7029,2,34.7029,2,211.1,2,209.8,2,129.21,2,32.14,2,0,2,2.23,2,0.023,2,0.005,3,-999,9,-999,9,-999,9
  90KDIOFFE6_1,  S04P,722,1,5,5,2,19920306,752,-67.0015,-120.4602,4526,3341.1,0.4619,34.701,2,34.7007,2,213.9,2,212.9,2,132.03,2,32.24,2,0,2,2.24,2,0.043,2,0.015,3,-999,9,-999,9,-999,9
  90KDIOFFE6_1,  S04P,722,1,4,4,2,19920306,752,-67.0015,-120.4602,4526,3699.9,0.3854,34.701,2,34.6998,2,218.6,2,214.4,2,135.87,2,32.3,2,0,2,2.24,2,0.036,2,0.014,3,-999,9,-999,9,-999,9
  90KDIOFFE6_1,  S04P,722,1,3,3,2,19920306,752,-67.0015,-120.4602,4526,4058.9,0.338,34.7003,2,34.7003,2,214.6,2,216,2,139.13,2,32.4,2,0,2,2.25,2,0.039,2,0.014,3,-999,9,-999,9,-999,9
  90KDIOFFE6_1,  S04P,722,1,2,2,2,19920306,752,-67.0015,-120.4602,4526,4423.3,0.3151,34.7001,2,34.7,2,217.8,2,217.8,2,139.72,2,32.41,2,0,2,2.25,2,0.067,2,0.028,3,-999,9,-999,9,-999,9
  90KDIOFFE6_1,  S04P,722,1,1,1,2,19920306,752,-67.0015,-120.4602,4526,4600.3,0.2965,34.6997,2,34.6998,2,218.7,2,218.4,2,140.32,2,32.42,2,0,2,2.26,2,0.14,2,0.056,3,-999,9,-999,9,-999,9
  90KDIOFFE6_1,  S04P,723,1,24,24,2,19920306,1516,-67.0078,-122.177,4471,13.5,0.6874,33.5332,2,33.5323,2,-999,9,344.6,2,38.8,2,25.47,2,0.3,2,1.73,2,-999,9,-999,9,-999,9,2129.9,2,-999,9
  90KDIOFFE6_1,  S04P,723,1,23,23,2,19920306,1516,-67.0078,-122.177,4471,48.8,0.1039,33.6708,2,33.6018,2,-999,9,337.5,2,35.93,2,25.53,2,0.28,2,1.77,2,-999,9,-999,9,-999,9,2134.6,2,-999,9
  90KDIOFFE6_1,  S04P,723,1,22,22,2,19920306,1516,-67.0078,-122.177,4471,73.6,-1.1196,33.9759,2,33.979,2,-999,9,332.2,2,45.64,2,28.38,2,0.2,2,1.98,2,-999,9,-999,9,-999,9,2174.8,2,-999,9
  90KDIOFFE6_1,  S04P,723,1,21,21,2,19920306,1516,-67.0078,-122.177,4471,109.1,-1.5404,34.0288,2,34.0322,2,-999,9,322,2,51.17,2,28.76,2,0.22,2,2.03,2,-999,9,-999,9,-999,9,2184.4,2,-999,9
  90KDIOFFE6_1,  S04P,723,1,20,20,2,19920306,1516,-67.0078,-122.177,4471,160.2,-0.7698,34.2008,2,34.1992,2,-999,9,281.4,2,62.61,2,30.89,2,0.1,2,2.16,2,-999,9,-999,9,-999,9,2207.3,2,-999,9
  90KDIOFFE6_1,  S04P,723,1,19,19,2,19920306,1516,-67.0078,-122.177,4471,219.6,0.2081,34.3822,2,34.3888,2,-999,9,236.3,2,71.98,2,32.33,2,0.01,2,2.25,2,-999,9,-999,9,-999,9,2232,2,-999,9
  90KDIOFFE6_1,  S04P,723,1,18,18,2,19920306,1516,-67.0078,-122.177,4471,280.3,1.7961,34.5999,2,34.5993,2,-999,9,184.1,2,81.37,2,33.5,2,0.01,2,2.32,2,-999,9,-999,9,-999,9,2252.5,2,-999,9
  90KDIOFFE6_1,  S04P,723,1,17,17,2,19920306,1516,-67.0078,-122.177,4471,355.3,1.8668,34.6416,2,34.6413,2,-999,9,181,2,83.48,2,32.99,2,0.01,2,2.29,2,-999,9,-999,9,-999,9,2254,2,-999,9
  90KDIOFFE6_1,  S04P,723,1,16,16,2,19920306,1516,-67.0078,-122.177,4471,455.9,1.8702,34.6768,2,34.6756,2,-999,9,179.5,2,86.36,2,32.51,2,0,2,2.26,2,-999,9,-999,9,-999,9,2256.2,2,-999,9
  90KDIOFFE6_1,  S04P,723,1,15,15,2,19920306,1516,-67.0078,-122.177,4471,606.7,1.8377,34.709,2,34.7086,2,-999,9,183,2,89.63,2,31.75,2,0.01,2,2.21,2,-999,9,-999,9,-999,9,2253.9,2,-999,9
  90KDIOFFE6_1,  S04P,723,1,14,14,2,19920306,1516,-67.0078,-122.177,4471,808.4,1.7011,34.7266,2,34.7264,2,-999,9,189.5,2,93.69,2,31.11,2,0.01,2,2.18,2,-999,9,-999,9,-999,9,2253.4,2,-999,9
  90KDIOFFE6_1,  S04P,723,1,13,13,2,19920306,1516,-67.0078,-122.177,4471,1010.2,1.5337,34.7298,2,34.7292,2,-999,9,191.4,2,99.12,2,31.16,2,0,2,2.18,2,-999,9,-999,9,-999,9,2254.4,2,-999,9
  90KDIOFFE6_1,  S04P,723,1,12,12,2,19920306,1516,-67.0078,-122.177,4471,1262.7,1.3495,34.7277,2,34.7272,2,-999,9,195.1,2,104.77,2,31.28,2,0,2,2.18,2,-999,9,-999,9,-999,9,2256.5,2,-999,9
  90KDIOFFE6_1,  S04P,723,1,26,26,2,19920306,1516,-67.0078,-122.177,4471,1513.3,1.1818,34.7233,2,34.7225,2,-999,9,198.1,2,110.05,2,31.23,2,0,2,2.19,2,-999,9,-999,9,-999,9,2259.2,2,-999,9
  90KDIOFFE6_1,  S04P,723,1,10,10,2,19920306,1516,-67.0078,-122.177,4471,1815.9,1.0148,34.717,2,34.7166,2,-999,9,201.4,2,115.34,2,31.69,2,0,2,2.2,2,-999,9,-999,9,-999,9,2259.2,2,-999,9
  90KDIOFFE6_1,  S04P,723,1,27,27,2,19920306,1516,-67.0078,-122.177,4471,2118.1,0.8739,34.7114,2,34.7111,2,-999,9,203.7,2,120.72,2,31.8,2,0,2,2.22,2,-999,9,-999,9,-999,9,2262.8,2,-999,9
  90KDIOFFE6_1,  S04P,723,1,8,8,2,19920306,1516,-67.0078,-122.177,4471,2420.4,0.737,34.7066,2,34.7053,2,-999,9,206.5,2,125.31,2,31.89,2,0,2,2.22,2,-999,9,-999,9,-999,9,2254.9,2,-999,9
  90KDIOFFE6_1,  S04P,723,1,7,7,2,19920306,1516,-67.0078,-122.177,4471,2721.2,0.6327,34.7042,2,34.7039,2,-999,9,208.4,2,127.91,2,31.7,2,0,2,2.23,2,-999,9,-999,9,-999,9,2263.8,2,-999,9
  90KDIOFFE6_1,  S04P,723,1,6,6,2,19920306,1516,-67.0078,-122.177,4471,3078.2,0.4958,34.7014,2,34.7019,2,-999,9,211.4,2,131.13,2,32.01,2,0,2,2.24,2,0.028,2,0.009,3,-999,9,2263.4,2,-999,9
  90KDIOFFE6_1,  S04P,723,1,5,5,2,19920306,1516,-67.0078,-122.177,4471,3437.4,0.409,34.7011,2,34.7007,2,-999,9,213.2,2,136.41,2,32.32,2,0,2,2.25,2,0.019,2,0.006,3,-999,9,2263.1,2,-999,9
  90KDIOFFE6_1,  S04P,723,1,4,4,2,19920306,1516,-67.0078,-122.177,4471,3790.6,0.3555,34.7006,2,34.7,2,-999,9,215.3,2,136.82,2,32.27,2,0,2,2.25,2,0.033,2,0.015,3,-999,9,2264.4,2,-999,9
  90KDIOFFE6_1,  S04P,723,1,3,3,2,19920306,1516,-67.0078,-122.177,4471,4149.7,0.3223,34.6998,2,34.7003,2,-999,9,216.6,2,139.06,2,32.35,2,0,2,2.25,2,0.054,2,0.021,3,-999,9,2262.9,2,-999,9
  90KDIOFFE6_1,  S04P,723,1,2,2,2,19920306,1516,-67.0078,-122.177,4471,4411.5,0.3036,34.6998,2,34.7,2,-999,9,217.9,2,140.5,2,32.12,2,0,2,2.25,2,0.083,6,0.039,3,-999,9,2261.8,2,-999,9
  90KDIOFFE6_1,  S04P,723,1,1,1,2,19920306,1516,-67.0078,-122.177,4471,4544.9,0.2865,34.6992,2,34.7,2,-999,9,218.7,2,140.29,2,32.34,2,0,2,2.25,2,0.128,2,0.051,3,-999,9,2264.9,2,-999,9