BOTTLE,20181005JHS,,,,,,,,,,,,,,,,,,,,,,,,,,,,,,,,,,,,,,
EXPOCODE,SECT_ID,STNNBR,CASTNO,SAMPNO,BTLNBR,BTLNBR_FLAG_W,DATE,TIME,LATITUDE,LONGITUDE,DEPTH,CTDPRS,CTDTMP,CTDSAL,CTDSAL_FLAG_W,SALNTY,SALNTY_FLAG_W,CTDOXY,CTDOXY_FLAG_W,OXYGEN,OXYGEN_FLAG_W,SILCAT,SILCAT_FLAG_W,NITRAT,NITRAT_FLAG_W,NITRIT,NITRIT_FLAG_W,PHSPHT,PHSPHT_FLAG_W,CFC-11,CFC-11_FLAG_W,CFC-12,CFC-12_FLAG_W,SF6,SF6_FLAG_W,TCARBN,TCARBN_FLAG_W,ALKALI,ALKALI_FLAG_W
,,,,,,,,,,,,DBAR,ITS-90,PSS-78,,PSS-78,,UMOL/KG,,UMOL/KG,,UMOL/KG,,UMOL/KG,,UMOL/KG,,UMOL/KG,,PMOL/KG,,PMOL/KG,,FMOL/KG,,UMOL/KG,,UMOL/KG,
  90KDIOFFE6_1,  S04P,764,1,24,24,2,19920320,52,-67.0368,179.2312,3705,10.3,0.2341,33.8157,2,33.8145,2,336.1,2,335.7,2,45.71,2,22.83,2,0.17,2,1.58,2,6.055,2,2.764,3,-999,9,2148.1,2,-999,9
  90KDIOFFE6_1,  S04P,764,1,23,23,2,19920320,52,-67.0368,179.2312,3705,39.9,0.404,33.8588,2,33.8583,2,325.6,2,331.8,2,45.9,2,22.61,2,0.17,2,1.61,2,5.782,2,2.635,3,-999,9,2150.1,2,-999,9
  90KDIOFFE6_1,  S04P,764,1,22,22,2,19920320,52,-67.0368,179.2312,3705,68,-1.2237,34.211,2,34.2128,2,262.4,2,290.2,2,71.62,2,28.62,2,0.2,2,2.12,2,4.345,2,1.921,3,-999,9,2204.6,2,-999,9
  90KDIOFFE6_1,  S04P,764,1,21,21,2,19920320,52,-67.0368,179.2312,3705,114.4,0.393,34.482,2,34.4838,2,213.5,2,217.8,2,80.6,2,31.68,2,0.05,2,2.26,2,1.8,2,0.772,3,-999,9,-999,9,-999,9
  90KDIOFFE6_1,  S04P,764,1,20,20,2,19920320,52,-67.0368,179.2312,3705,164.1,1.0935,34.6161,2,34.6156,2,200.8,2,195.9,2,88.41,2,31.79,2,0.02,2,2.26,2,0.843,6,0.347,3,-999,9,-999,9,-999,9
  90KDIOFFE6_1,  S04P,764,1,18,18,2,19920320,52,-67.0368,179.2312,3705,253.6,1.728,34.7185,2,34.7102,2,193.5,2,188.1,2,89.2,2,31.22,2,0.02,2,2.21,2,0.5,2,0.073,4,-999,9,-999,9,-999,9
  90KDIOFFE6_1,  S04P,764,1,17,17,2,19920320,52,-67.0368,179.2312,3705,312.4,1.6321,34.7221,2,34.7212,2,190.9,2,194.1,2,90.4,2,30.74,2,0.02,2,2.19,2,0.196,6,0.074,3,-999,9,-999,9,-999,9
  90KDIOFFE6_1,  S04P,764,1,16,16,2,19920320,52,-67.0368,179.2312,3705,399.8,1.1964,34.6926,2,34.6983,2,193.1,2,197.1,2,93.81,2,31.18,2,0.02,2,2.22,2,0.436,2,0.176,3,-999,9,-999,9,-999,9
  90KDIOFFE6_1,  S04P,764,1,15,15,2,19920320,52,-67.0368,179.2312,3705,493,1.3613,34.7207,2,34.724,2,192.6,2,188.5,2,100.67,2,31.47,2,0,2,2.21,2,0.099,2,0.031,3,-999,9,-999,9,-999,9
  90KDIOFFE6_1,  S04P,764,1,14,14,2,19920320,52,-67.0368,179.2312,3705,690,1.1814,34.7196,2,34.7185,2,190.8,2,193.4,2,106.95,2,31.4,2,0,2,2.21,2,0.097,2,0.047,4,-999,9,-999,9,-999,9
  90KDIOFFE6_1,  S04P,764,1,13,13,2,19920320,52,-67.0368,179.2312,3705,882.5,1.0865,34.7202,2,34.7195,2,195.4,2,194.2,2,112.03,2,31.59,2,0,2,2.23,2,0.027,2,0.005,3,-999,9,-999,9,-999,9
  90KDIOFFE6_1,  S04P,764,1,12,12,2,19920320,52,-67.0368,179.2312,3705,1071.8,0.9556,34.7151,2,34.715,2,197.8,2,198,2,115.7,2,31.67,2,0,2,2.23,2,0.019,2,0.004,3,-999,9,-999,9,-999,9
  90KDIOFFE6_1,  S04P,764,1,26,26,2,19920320,52,-67.0368,179.2312,3705,1261.9,0.8706,34.7137,2,34.7131,2,200.6,2,200.2,2,118.77,2,31.65,2,0,2,2.23,2,0.01,2,0.002,3,-999,9,-999,9,-999,9
  90KDIOFFE6_1,  S04P,764,1,10,10,2,19920320,52,-67.0368,179.2312,3705,1455.7,0.7777,34.7101,2,34.709,2,203,2,202.6,2,122.06,2,31.68,2,0,2,2.24,2,0.007,2,0,3,-999,9,-999,9,-999,9
  90KDIOFFE6_1,  S04P,764,1,27,27,2,19920320,52,-67.0368,179.2312,3705,1700.4,0.6758,34.7075,2,34.7059,2,205.6,2,204.9,2,125.36,2,31.71,2,0,2,2.24,2,0.013,2,0.002,3,-999,9,-999,9,-999,9
  90KDIOFFE6_1,  S04P,764,1,8,8,2,19920320,52,-67.0368,179.2312,3705,1950.6,0.5789,34.7038,2,34.7033,2,207.4,2,207.5,2,127.21,2,31.79,2,0,2,2.25,2,0.017,2,0.004,3,-999,9,-999,9,-999,9
  90KDIOFFE6_1,  S04P,764,1,7,7,2,19920320,52,-67.0368,179.2312,3705,2250,0.4719,34.7023,2,34.702,2,209.6,2,209.6,2,129.49,2,31.77,2,0,2,2.25,2,0.014,3,0.008,3,-999,9,-999,9,-999,9
  90KDIOFFE6_1,  S04P,764,1,6,6,2,19920320,52,-67.0368,179.2312,3705,2552.7,0.386,34.7011,2,34.7014,2,211.8,2,212,2,131.77,2,31.75,2,0,2,2.26,2,0.067,2,0.014,3,-999,9,-999,9,-999,9
  90KDIOFFE6_1,  S04P,764,1,29,29,2,19920320,52,-67.0368,179.2312,3705,2855.6,0.2971,34.6988,2,34.6989,2,215.3,2,215.3,2,130.3,2,31.98,2,0,2,2.25,2,0.195,2,0.075,3,-999,9,-999,9,-999,9
  90KDIOFFE6_1,  S04P,764,1,28,28,2,19920320,52,-67.0368,179.2312,3705,3159.2,0.2091,34.6957,2,34.6958,2,220.7,2,219.2,2,124.47,2,31.91,2,0,2,2.25,2,0.436,2,0.164,3,-999,9,-999,9,-999,9
  90KDIOFFE6_1,  S04P,764,1,3,3,2,19920320,52,-67.0368,179.2312,3705,3458.5,0.1172,34.6945,2,34.6942,2,222.9,2,223.7,2,118.28,2,31.94,2,0,2,2.22,2,0.694,2,0.3,3,-999,9,-999,9,-999,9
  90KDIOFFE6_1,  S04P,764,1,2,2,2,19920320,52,-67.0368,179.2312,3705,3674.9,0.0812,34.6959,2,34.696,2,227,2,226,2,115.6,2,31.87,2,0,2,2.23,2,0.907,6,0.38,3,-999,9,-999,9,-999,9
  90KDIOFFE6_1,  S04P,764,1,1,1,2,19920320,52,-67.0368,179.2312,3705,3777.1,0.0643,34.6963,2,34.6958,2,226.6,2,227.6,2,114.16,2,31.69,2,0.01,2,2.22,2,1.03,2,0.439,3,-999,9,-999,9,-999,9
  90KDIOFFE6_1,  S04P,765,1,24,24,2,19920320,652,-67.0275,177.8695,3722,14.2,-0.185,33.7279,2,33.7276,2,336.2,2,339.2,2,49.81,2,23.16,2,0.14,2,1.62,2,-999,9,-999,9,-999,9,2142.5,2,-999,9
  90KDIOFFE6_1,  S04P,765,1,23,23,2,19920320,652,-67.0275,177.8695,3722,41.9,-0.0182,33.7934,2,33.7895,2,332.8,2,335.1,2,49.79,2,23.22,2,0.16,2,1.65,2,-999,9,-999,9,-999,9,2149.9,2,-999,9
  90KDIOFFE6_1,  S04P,765,1,22,22,2,19920320,652,-67.0275,177.8695,3722,65.1,-1.5883,34.2444,2,34.2504,2,282.6,2,284,2,68.29,2,28.82,2,0.11,2,2.11,2,-999,9,-999,9,-999,9,2205.9,2,-999,9
  90KDIOFFE6_1,  S04P,765,1,21,21,2,19920320,652,-67.0275,177.8695,3722,98.4,-0.4543,34.4067,2,34.4262,2,250.4,2,235.5,2,78.55,2,30.78,2,0.06,2,2.22,2,-999,9,-999,9,-999,9,2232.4,2,-999,9
  90KDIOFFE6_1,  S04P,765,1,20,20,2,19920320,652,-67.0275,177.8695,3722,148.1,0.9241,34.591,2,34.5942,2,199.6,2,199.2,2,88.03,2,31.62,2,0.02,2,2.28,2,-999,9,-999,9,-999,9,2248.7,2,-999,9
  90KDIOFFE6_1,  S04P,765,1,19,19,2,19920320,652,-67.0275,177.8695,3722,199.9,1.224,34.6545,2,34.6526,2,192.5,2,194.2,2,92.66,2,31.5,2,0.01,2,2.28,2,-999,9,-999,9,-999,9,2253.7,2,-999,9
  90KDIOFFE6_1,  S04P,765,1,18,18,2,19920320,652,-67.0275,177.8695,3722,244.5,1.3524,34.684,2,34.6836,2,188.8,2,188.1,2,94.86,2,31.63,2,0.01,2,2.27,2,-999,9,-999,9,-999,9,2256.2,2,-999,9
  90KDIOFFE6_1,  S04P,765,1,17,17,2,19920320,652,-67.0275,177.8695,3722,293.8,1.3672,34.6968,2,34.6966,2,188.6,2,188.2,2,97.27,2,31.44,2,0.01,2,2.25,2,-999,9,-999,9,-999,9,2258.2,2,-999,9
  90KDIOFFE6_1,  S04P,765,1,16,16,2,19920320,652,-67.0275,177.8695,3722,386.5,1.3592,34.7118,2,34.7115,2,190.2,2,188.7,2,99.89,2,31.47,2,0.01,2,2.25,2,-999,9,-999,9,-999,9,2257.1,2,-999,9
  90KDIOFFE6_1,  S04P,765,1,15,15,2,19920320,652,-67.0275,177.8695,3722,477.1,1.3276,34.7182,2,34.7179,2,187.9,2,189.6,2,102.1,2,31.5,2,0.01,2,2.25,2,-999,9,-999,9,-999,9,2259.2,2,-999,9
  90KDIOFFE6_1,  S04P,765,1,14,14,2,19920320,652,-67.0275,177.8695,3722,653.7,1.2152,34.7198,2,34.7189,2,191.2,2,191.6,2,106.56,2,31.53,2,0,2,2.25,2,-999,9,-999,9,-999,9,2258.6,2,-999,9
  90KDIOFFE6_1,  S04P,765,1,13,13,2,19920320,652,-67.0275,177.8695,3722,823.2,1.1092,34.7185,2,34.7189,2,194.7,2,194.2,2,110.22,2,31.66,2,0,2,2.25,2,-999,9,-999,9,-999,9,2260.1,2,-999,9
  90KDIOFFE6_1,  S04P,765,1,12,12,2,19920320,652,-67.0275,177.8695,3722,997.8,1.0085,34.7171,2,34.7169,2,196.8,2,196.6,2,114.09,2,31.48,2,0,2,2.26,2,-999,9,-999,9,-999,9,2261.6,2,-999,9
  90KDIOFFE6_1,  S04P,765,1,26,26,2,19920320,652,-67.0275,177.8695,3722,1271.6,0.8636,34.7121,2,34.712,2,200,2,200.4,2,118.39,2,31.71,2,0,2,2.26,2,-999,9,-999,9,-999,9,2260.1,2,-999,9
  90KDIOFFE6_1,  S04P,765,1,10,10,2,19920320,652,-67.0275,177.8695,3722,1540.1,0.7419,34.7081,2,34.7075,2,204.3,2,203.6,2,122.29,2,31.74,2,0,2,2.26,2,-999,9,-999,9,-999,9,2262,2,-999,9
  90KDIOFFE6_1,  S04P,765,1,27,27,2,19920320,652,-67.0275,177.8695,3722,1814.5,0.6247,34.7046,2,34.7043,2,206.6,2,206.5,2,125.78,2,31.76,2,0,2,2.27,2,-999,9,-999,9,-999,9,2260,2,-999,9
  90KDIOFFE6_1,  S04P,765,1,8,8,2,19920320,652,-67.0275,177.8695,3722,2085.5,0.5255,34.7026,2,34.7039,2,208.3,2,208.6,2,127.41,2,31.89,2,0,2,2.28,2,-999,9,-999,9,-999,9,2260.9,2,-999,9
  90KDIOFFE6_1,  S04P,765,1,7,7,2,19920320,652,-67.0275,177.8695,3722,2348.7,0.4189,34.6993,2,34.6992,2,213,2,211.8,2,128,2,31.87,2,0,2,2.28,2,0.122,2,0.042,3,-999,9,2261.4,2,-999,9
  90KDIOFFE6_1,  S04P,765,1,6,6,2,19920320,652,-67.0275,177.8695,3722,2606.3,0.3447,34.6985,2,34.6986,2,213.1,2,214,2,128.38,2,31.84,2,0,2,2.28,2,0.209,2,0.068,3,-999,9,2259.5,2,-999,9
  90KDIOFFE6_1,  S04P,765,1,29,29,2,19920320,652,-67.0275,177.8695,3722,2895.6,0.2696,34.6983,2,34.698,2,216.3,2,216.4,2,128.34,2,31.71,2,0,2,2.28,2,0.279,2,0.075,3,-999,9,2261.9,2,-999,9
  90KDIOFFE6_1,  S04P,765,1,28,28,2,19920320,652,-67.0275,177.8695,3722,3195.1,0.189,34.6958,2,34.6955,2,220.3,2,220.2,2,122.89,2,31.74,2,0,2,2.27,2,0.503,2,0.198,3,-999,9,2260.1,2,-999,9
  90KDIOFFE6_1,  S04P,765,1,3,3,2,19920320,652,-67.0275,177.8695,3722,3492.3,0.0873,34.6946,2,34.6951,2,225.4,2,225.1,2,116.44,2,31.45,2,0,2,2.26,2,0.835,2,0.34,3,-999,9,2259.9,2,-999,9
  90KDIOFFE6_1,  S04P,765,1,2,2,2,19920320,652,-67.0275,177.8695,3722,3706.6,0.0699,34.697,2,34.696,2,226.8,2,226.3,2,114.55,2,31.52,2,0,2,2.26,2,0.971,2,0.415,3,-999,9,2254.1,2,-999,9
  90KDIOFFE6_1,  S04P,765,1,1,1,2,19920320,652,-67.0275,177.8695,3722,3793.9,0.0698,34.6969,2,34.6964,2,226.3,2,226.4,2,114.72,2,31.54,2,0.01,2,2.26,2,1.013,2,0.431,3,-999,9,2256.1,2,-999,9
  90KDIOFFE6_1,  S04P,766,1,24,24,2,19920320,1335,-67.0255,176.6725,3506,13.4,-0.3364,33.7805,2,33.781,2,340.9,2,340,2,53.21,2,23.86,2,0.13,2,1.68,2,6.198,2,2.77,3,-999,9,2148.4,2,-999,9
  90KDIOFFE6_1,  S04P,766,1,23,23,2,19920320,1335,-67.0255,176.6725,3506,24.8,-0.4234,33.8047,2,33.783,2,338.7,2,340,2,53.4,2,23.96,2,0.13,2,1.68,2,6.177,2,2.797,3,-999,9,2148.4,2,-999,9
  90KDIOFFE6_1,  S04P,766,1,22,22,2,19920320,1335,-67.0255,176.6725,3506,69,-1.3266,34.2458,2,34.247,2,292.9,2,287.3,2,68.93,2,28.94,2,0.13,2,2.1,2,4.221,2,1.86,3,-999,9,2207.9,2,-999,9
  90KDIOFFE6_1,  S04P,766,1,21,21,2,19920320,1335,-67.0255,176.6725,3506,109.3,0.1072,34.4624,2,34.478,2,224.8,2,225.1,2,81.33,2,31.28,2,0.03,2,2.25,2,2.022,2,0.879,3,-999,9,-999,9,-999,9
  90KDIOFFE6_1,  S04P,766,1,20,20,2,19920320,1335,-67.0255,176.6725,3506,163.6,1.2084,34.6455,2,34.648,2,190.5,2,192.1,2,91.1,2,31.86,2,0.01,2,2.28,2,0.641,2,0.264,3,-999,9,-999,9,-999,9
  90KDIOFFE6_1,  S04P,766,1,19,19,2,19920320,1335,-67.0255,176.6725,3506,202.8,1.2973,34.6659,2,34.667,2,191,2,193.4,2,92.46,2,31.77,2,0.01,2,2.28,2,0.543,2,0.215,3,-999,9,-999,9,-999,9
  90KDIOFFE6_1,  S04P,766,1,18,18,2,19920320,1335,-67.0255,176.6725,3506,253.4,1.3623,34.687,2,34.688,2,191,2,188.6,2,94.71,2,31.77,2,0.01,2,2.27,2,0.442,2,0.147,3,-999,9,-999,9,-999,9
  90KDIOFFE6_1,  S04P,766,1,17,17,2,19920320,1335,-67.0255,176.6725,3506,302.1,1.3993,34.7032,2,34.704,2,189.2,2,188.6,2,96.47,2,31.67,2,0,2,2.26,2,0.267,2,0.106,3,-999,9,-999,9,-999,9
  90KDIOFFE6_1,  S04P,766,1,16,16,2,19920320,1335,-67.0255,176.6725,3506,404.7,1.3593,34.715,2,34.704,4,190.4,2,189.4,2,99.89,2,31.47,2,0,2,2.24,2,0.18,2,0.06,3,-999,9,-999,9,-999,9
  90KDIOFFE6_1,  S04P,766,1,15,15,2,19920320,1335,-67.0255,176.6725,3506,506.7,1.2873,34.7182,2,34.717,2,189.5,2,189.4,2,104.09,2,31.77,2,0,2,2.25,2,0.107,2,0.033,3,-999,9,-999,9,-999,9
  90KDIOFFE6_1,  S04P,766,1,14,14,2,19920320,1335,-67.0255,176.6725,3506,698.5,1.1584,34.7185,2,34.718,2,190.9,2,191.6,2,109.37,2,31.77,2,0,2,2.26,2,0.06,2,0.021,3,-999,9,-999,9,-999,9
  90KDIOFFE6_1,  S04P,766,1,13,13,2,19920320,1335,-67.0255,176.6725,3506,903.7,1.0475,34.717,2,34.717,2,194,2,194.7,2,113.18,2,31.67,2,0,2,2.26,2,0.04,2,0.012,3,-999,9,-999,9,-999,9
  90KDIOFFE6_1,  S04P,766,1,12,12,2,19920320,1335,-67.0255,176.6725,3506,1103.8,0.9476,34.7152,2,34.713,2,198.3,2,197.7,2,116.6,2,31.86,2,0,2,2.26,2,0.027,2,0.012,3,-999,9,-999,9,-999,9
  90KDIOFFE6_1,  S04P,766,1,26,26,2,19920320,1335,-67.0255,176.6725,3506,1349.3,0.8237,34.7104,2,34.711,2,203,2,202,2,120.51,2,31.77,2,0,2,2.26,2,0.022,6,0.003,3,-999,9,-999,9,-999,9
  90KDIOFFE6_1,  S04P,766,1,10,10,2,19920320,1335,-67.0255,176.6725,3506,1599.3,0.7058,34.7075,2,34.707,2,204.7,2,204.2,2,123.74,2,31.67,2,0,2,2.27,2,0.021,2,0.009,3,-999,9,-999,9,-999,9
  90KDIOFFE6_1,  S04P,766,1,27,27,3,19920320,1335,-67.0255,176.6725,3506,1871.5,0.5969,34.7033,2,34.701,4,208.6,2,212.5,4,125.79,2,31.67,2,0,2,2.27,2,0.349,4,0.137,4,-999,9,-999,9,-999,9
  90KDIOFFE6_1,  S04P,766,1,8,8,2,19920320,1335,-67.0255,176.6725,3506,2134.6,0.4999,34.7022,2,34.702,2,209.2,2,209.4,2,128.63,2,31.96,2,0,2,2.28,2,0.044,2,0.009,3,-999,9,-999,9,-999,9
  90KDIOFFE6_1,  S04P,766,1,7,7,2,19920320,1335,-67.0255,176.6725,3506,2383.5,0.422,34.7013,2,34.701,2,212.8,2,211.2,2,129.7,2,31.96,2,0,2,2.28,2,0.085,2,0.017,3,-999,9,-999,9,-999,9
  90KDIOFFE6_1,  S04P,766,1,6,6,2,19920320,1335,-67.0255,176.6725,3506,2645,0.341,34.6997,2,34.7,2,215.3,2,213.8,2,129.6,2,31.96,2,0,2,2.28,2,0.188,2,0.055,3,-999,9,-999,9,-999,9
  90KDIOFFE6_1,  S04P,766,1,29,29,2,19920320,1335,-67.0255,176.6725,3506,2901.2,0.2531,34.698,2,34.698,2,218.2,2,217.2,2,127.26,2,31.86,2,0,2,2.27,2,0.343,2,0.127,3,-999,9,-999,9,-999,9
  90KDIOFFE6_1,  S04P,766,1,28,28,2,19920320,1335,-67.0255,176.6725,3506,3158.3,0.1612,34.6948,2,34.694,2,221.3,2,221.2,2,122.27,2,31.86,2,0,2,2.27,2,0.558,2,0.217,3,-999,9,-999,9,-999,9
  90KDIOFFE6_1,  S04P,766,1,3,3,2,19920320,1335,-67.0255,176.6725,3506,3374,0.0792,34.6921,2,34.692,2,225.2,2,225.1,2,116.7,2,31.86,2,0,2,2.26,2,0.816,2,0.346,3,-999,9,-999,9,-999,9
  90KDIOFFE6_1,  S04P,766,1,2,2,2,19920320,1335,-67.0255,176.6725,3506,3473.8,0.0503,34.694,2,34.692,2,226.1,2,226.4,2,115.04,2,31.57,2,0,2,2.26,2,0.987,2,0.419,3,-999,9,-999,9,-999,9
  90KDIOFFE6_1,  S04P,766,1,1,1,2,19920320,1335,-67.0255,176.6725,3506,3551.1,0.0083,34.6953,2,34.695,2,229.3,2,228.5,2,110.15,2,31.47,2,0,2,2.25,2,1.208,2,0.508,3,-999,9,-999,9,-999,9
  90KDIOFFE6_1,  S04P,767,1,24,24,2,19920320,2022,-67.0352,175.3852,3255,13.7,-0.4993,33.7662,2,33.766,2,340.2,2,339.6,2,55.28,2,24.19,2,0.13,2,1.71,2,-999,9,-999,9,-999,9,2151.3,2,-999,9
  90KDIOFFE6_1,  S04P,767,1,23,23,2,19920320,2022,-67.0352,175.3852,3255,28.8,-0.4993,33.7663,2,33.766,2,341.6,2,339.6,2,55.07,2,24.24,2,0.13,2,1.71,2,-999,9,-999,9,-999,9,2150.8,2,-999,9
  90KDIOFFE6_1,  S04P,767,1,22,22,2,19920320,2022,-67.0352,175.3852,3255,61.4,-1.4136,34.2456,2,34.276,2,290.2,2,278.1,2,70.21,2,29.35,2,0.14,2,2.13,2,-999,9,-999,9,-999,9,2211.2,2,-999,9
  90KDIOFFE6_1,  S04P,767,1,21,21,2,19920320,2022,-67.0352,175.3852,3255,103.9,0.348,34.5033,2,34.491,2,218.8,2,218.6,2,82.8,2,31.49,2,0.04,2,2.25,2,-999,9,-999,9,-999,9,2239.6,2,-999,9
  90KDIOFFE6_1,  S04P,767,1,20,20,2,19920320,2022,-67.0352,175.3852,3255,152,0.9116,34.5871,2,34.587,2,196.2,2,199,2,89.2,2,32.2,2,0.02,2,2.27,2,-999,9,-999,9,-999,9,2248.8,2,-999,9
  90KDIOFFE6_1,  S04P,767,1,19,19,2,19920320,2022,-67.0352,175.3852,3255,271.3,1.3943,34.6922,2,34.691,2,187.2,2,187.3,2,96.23,2,31.81,2,0.01,2,2.26,2,-999,9,-999,9,-999,9,2256.2,2,-999,9
  90KDIOFFE6_1,  S04P,767,1,18,18,2,19920320,2022,-67.0352,175.3852,3255,350.4,1.3843,34.7097,2,34.708,2,188.3,2,188.1,2,99.66,2,31.8,2,0.01,2,2.24,2,-999,9,-999,9,-999,9,2260.2,2,-999,9
  90KDIOFFE6_1,  S04P,767,1,17,17,2,19920320,2022,-67.0352,175.3852,3255,447.3,1.3233,34.7188,2,34.718,2,188.7,2,188.6,2,103.69,2,31.9,2,0,2,2.25,2,-999,9,-999,9,-999,9,2257.5,2,-999,9
  90KDIOFFE6_1,  S04P,767,1,16,16,2,19920320,2022,-67.0352,175.3852,3255,543.5,1.2524,34.7205,2,34.719,2,197.1,2,189.4,2,106.52,2,31.84,2,0,2,2.24,2,-999,9,-999,9,-999,9,2262.1,2,-999,9
  90KDIOFFE6_1,  S04P,767,1,15,15,2,19920320,2022,-67.0352,175.3852,3255,631.9,1.2074,34.72,2,34.719,2,199.4,2,190.3,2,108.14,2,31.83,2,0,2,2.24,2,-999,9,-999,9,-999,9,2262.8,2,-999,9
  90KDIOFFE6_1,  S04P,767,1,14,14,2,19920320,2022,-67.0352,175.3852,3255,710.1,1.1784,34.7205,2,34.719,2,198.2,2,191.2,2,109.34,2,31.83,2,0,2,2.25,2,-999,9,-999,9,-999,9,2262.4,2,-999,9
  90KDIOFFE6_1,  S04P,767,1,13,13,2,19920320,2022,-67.0352,175.3852,3255,789.8,1.1405,34.7189,2,34.718,2,196.8,2,192.5,2,110.35,2,31.87,2,0,2,2.25,2,-999,9,-999,9,-999,9,2260.1,2,-999,9
  90KDIOFFE6_1,  S04P,767,1,12,12,2,19920320,2022,-67.0352,175.3852,3255,859.3,1.0805,34.7181,2,34.718,2,194.6,2,194.7,2,112.22,2,31.87,2,0,2,2.25,2,0.035,2,0.013,3,-999,9,2262.6,2,-999,9
  90KDIOFFE6_1,  S04P,767,1,26,26,2,19920320,2022,-67.0352,175.3852,3255,974.4,1.0085,34.7181,2,34.717,2,196.2,2,196.4,2,114.66,2,31.96,2,0,2,2.25,2,0.019,2,0.008,3,-999,9,2258.9,2,-999,9
  90KDIOFFE6_1,  S04P,767,1,10,10,3,19920320,2022,-67.0352,175.3852,3255,1158.4,0.9146,34.7153,2,34.71,4,198.7,2,202,4,119.93,4,32.15,4,0,4,2.25,4,0.078,4,0.032,4,-999,9,-999,9,-999,9
  90KDIOFFE6_1,  S04P,767,1,27,27,2,19920320,2022,-67.0352,175.3852,3255,1354.9,0.8077,34.7109,2,34.71,2,201,2,202.5,2,119.92,2,31.95,2,0,2,2.25,2,0.014,2,0.001,3,-999,9,2263.2,2,-999,9
  90KDIOFFE6_1,  S04P,767,1,8,8,2,19920320,2022,-67.0352,175.3852,3255,1572.3,0.7078,34.7069,2,34.707,2,203.8,2,204.6,2,124.03,2,32.19,3,0,2,2.26,2,0.017,2,0.004,3,-999,9,2263,2,-999,9
  90KDIOFFE6_1,  S04P,767,1,7,7,2,19920320,2022,-67.0352,175.3852,3255,1884.1,0.5889,34.7043,2,34.704,2,206.7,2,206.8,2,127.33,2,31.89,2,0,2,2.26,2,-999,9,-999,9,-999,9,2263,2,-999,9
  90KDIOFFE6_1,  S04P,767,1,6,6,2,19920320,2022,-67.0352,175.3852,3255,2157.3,0.4699,34.7018,2,34.702,2,209.7,2,209.9,2,128.98,2,32.03,2,0,2,2.26,2,-999,9,-999,9,-999,9,2258.8,2,-999,9
  90KDIOFFE6_1,  S04P,767,1,29,29,2,19920320,2022,-67.0352,175.3852,3255,2453.3,0.382,34.7013,2,34.7,2,212,2,212,2,130.42,2,32.07,2,0,2,2.26,2,0.105,2,0.035,3,-999,9,2260.8,2,-999,9
  90KDIOFFE6_1,  S04P,767,1,28,28,2,19920320,2022,-67.0352,175.3852,3255,2769.8,0.2601,34.6965,2,34.701,4,216.6,2,216.4,2,128.12,2,31.92,2,0,2,2.26,2,0.315,2,0.121,3,-999,9,-999,9,-999,9
  90KDIOFFE6_1,  S04P,767,1,3,3,2,19920320,2022,-67.0352,175.3852,3255,3032.1,0.1662,34.6957,2,34.695,2,221.4,2,221.2,2,120.66,2,31.66,2,0,2,2.25,2,0.586,2,0.243,3,-999,9,2257.4,2,-999,9
  90KDIOFFE6_1,  S04P,767,1,2,2,2,19920320,2022,-67.0352,175.3852,3255,3203.3,0.0493,34.6922,2,34.692,2,227,2,225.5,2,114.08,2,31.21,2,0,2,2.25,2,0.89,2,0.373,3,-999,9,2255.8,2,-999,9
  90KDIOFFE6_1,  S04P,767,1,1,1,2,19920320,2022,-67.0352,175.3852,3255,3343.6,0.0303,34.6945,2,34.695,2,226.6,2,226.8,2,111.62,2,31.24,2,0,2,2.24,2,1.053,2,0.451,3,-999,9,2254,2,-999,9