BOTTLE,20211011SIOJHS,,,,,,,,,,,,,,,,,,,,,,,,,,,,,,,,,,,,,,
EXPOCODE,SECT_ID,STNNBR,CASTNO,SAMPNO,BTLNBR,BTLNBR_FLAG_W,DATE,TIME,LATITUDE,LONGITUDE,DEPTH,CTDPRS,CTDTMP,CTDSAL,CTDSAL_FLAG_W,SALNTY,SALNTY_FLAG_W,CTDOXY,CTDOXY_FLAG_W,OXYGEN,OXYGEN_FLAG_W,SILCAT,SILCAT_FLAG_W,NITRAT,NITRAT_FLAG_W,NITRIT,NITRIT_FLAG_W,PHSPHT,PHSPHT_FLAG_W,CFC-11,CFC-11_FLAG_W,CFC-12,CFC-12_FLAG_W,SF6,SF6_FLAG_W,TCARBN,TCARBN_FLAG_W,ALKALI,ALKALI_FLAG_W
,,,,,,,,,,,,DB,ITS-90,PSS-78,,PSS-78,,UMOL/KG,,UMOL/KG,,UMOL/KG,,UMOL/KG,,UMOL/KG,,UMOL/KG,,PMOL/KG,,PMOL/KG,,FMOL/KG,,UMOL/KG,,UMOL/KG,
      320696_3,    S04I,70,1,36,36,2,19960607,1123,-59.5195,86.2213,4304,15.8,-0.408,34.0074,2,34.0066,2,-999,4,334.3,2,39.6,2,27.47,2,0.25,2,1.88,2,6.055,2,2.953,2,-999,9,2172.8,2,2295,6
      320696_3,    S04I,70,1,35,35,2,19960607,1123,-59.5195,86.2213,4304,36.2,-0.4094,34.0082,2,34.0074,2,-999,4,334.3,2,39.8,2,27.47,2,0.25,2,1.88,2,-999,9,-999,9,-999,9,2173.1,2,-999,9
      320696_3,    S04I,70,1,34,34,2,19960607,1123,-59.5195,86.2213,4304,67.2,-0.4122,34.0104,2,34.0086,2,-999,4,334.5,2,40.1,2,27.52,2,0.25,2,1.89,2,-999,9,-999,9,-999,9,2172.9,2,2295,2
      320696_3,    S04I,70,1,33,33,2,19960607,1123,-59.5195,86.2213,4304,107.3,0.3656,34.2133,2,34.1987,2,-999,4,278.6,2,56.4,2,30.38,2,0.13,2,2.08,2,-999,9,-999,9,-999,9,2205.2,2,2306,2
      320696_3,    S04I,70,1,32,32,2,19960607,1123,-59.5195,86.2213,4304,156.7,1.1984,34.5259,2,34.525,2,-999,4,202.9,2,78.2,2,33.11,2,0,2,2.28,2,-999,9,-999,9,-999,9,2247.2,2,2329,2
      320696_3,    S04I,70,1,31,31,2,19960607,1123,-59.5195,86.2213,4304,205.3,1.3809,34.5955,2,34.5953,2,195.2,2,197.1,2,81.5,2,32.71,2,0,2,2.25,2,1.127,2,0.562,2,-999,9,2249.7,2,2333,2
      320696_3,    S04I,70,1,30,30,2,19960607,1123,-59.5195,86.2213,4304,245.1,1.4449,34.6275,2,34.6267,2,192.1,2,194.7,2,82.2,2,32.31,2,0,2,2.23,2,0.944,2,0.494,2,-999,9,2251.4,2,2333,2
      320696_3,    S04I,70,1,29,29,2,19960607,1123,-59.5195,86.2213,4304,285,1.5061,34.6472,2,34.6467,2,197.1,2,193.8,2,83.5,2,32.05,2,0,2,2.21,2,-999,9,-999,9,-999,9,2250.7,2,2336,2
      320696_3,    S04I,70,1,28,28,2,19960607,1123,-59.5195,86.2213,4304,325.4,1.5572,34.6674,2,34.6663,2,195.3,2,193,2,84.6,2,31.75,2,0,2,2.19,2,-999,9,-999,9,-999,9,2252,2,2341,2
      320696_3,    S04I,70,1,27,27,2,19960607,1123,-59.5195,86.2213,4304,360.5,1.5892,34.6806,2,34.6803,2,193,2,193,2,85.5,2,31.5,2,0,2,2.17,2,-999,9,-999,9,-999,9,2250.9,2,2339,2
      320696_3,    S04I,70,1,26,26,2,19960607,1123,-59.5195,86.2213,4304,402.6,1.594,34.6899,2,34.6901,2,196.6,2,193.3,2,86.2,2,31.35,2,0,2,2.16,2,-999,9,-999,9,-999,9,2250.4,2,2336,2
      320696_3,    S04I,70,1,25,25,2,19960607,1123,-59.5195,86.2213,4304,450.2,1.5693,34.699,2,34.6989,2,-999,3,195.4,2,87.3,2,31.15,2,0,2,2.15,2,-999,9,-999,9,-999,9,2249.9,2,2341,2
      320696_3,    S04I,70,1,24,24,2,19960607,1123,-59.5195,86.2213,4304,495.4,1.5646,34.7071,2,-999,4,-999,3,196.1,2,87.2,2,30.94,2,0,2,2.13,2,0.456,2,0.248,2,-999,9,2249.4,2,2341,2
      320696_3,    S04I,70,1,23,23,2,19960607,1123,-59.5195,86.2213,4304,540.4,1.5105,34.7093,2,34.7083,2,-999,3,198.7,2,88.6,2,30.84,2,0,2,2.12,2,-999,9,-999,9,-999,9,2248.7,2,2341,2
      320696_3,    S04I,70,1,22,22,2,19960607,1123,-59.5195,86.2213,4304,633.6,1.362,34.7087,2,34.7077,2,-999,3,202.5,2,91.4,2,30.74,2,0,2,2.12,2,0.52,2,0.271,2,-999,9,2250.5,2,2343,2
      320696_3,    S04I,70,1,21,21,2,19960607,1123,-59.5195,86.2213,4304,726.4,1.3327,34.7178,2,34.7177,2,-999,3,202.8,2,94,2,30.54,2,0,2,2.11,2,-999,9,-999,9,-999,9,2250.2,2,2346,6
      320696_3,    S04I,70,1,20,20,2,19960607,1123,-59.5195,86.2213,4304,862.4,1.2681,34.725,2,34.7256,2,199.9,2,203.7,2,98,2,30.54,2,0,2,2.11,2,-999,9,-999,9,-999,9,2251.7,2,2348,2
      320696_3,    S04I,70,1,19,19,2,19960607,1123,-59.5195,86.2213,4304,1047.2,1.1698,34.7277,2,34.7281,2,204.7,2,204.5,2,103.6,2,30.69,2,0,2,2.11,2,-999,9,-999,9,-999,9,2255.4,2,2353,2
      320696_3,    S04I,70,1,18,18,2,19960607,1123,-59.5195,86.2213,4304,1238,1.015,34.7205,2,34.7196,2,205.3,2,205.8,2,108.6,2,30.94,2,0,2,2.13,2,-999,9,-999,9,-999,9,2255.5,2,-999,9
      320696_3,    S04I,70,1,17,17,2,19960607,1123,-59.5195,86.2213,4304,1424.8,0.8613,34.7125,2,34.7121,2,207.3,2,207.3,2,113.1,2,31.24,2,0,2,2.16,2,-999,9,-999,9,-999,9,2259.6,2,2353,2
      320696_3,    S04I,70,1,16,16,2,19960607,1123,-59.5195,86.2213,4304,1612.5,0.7451,34.7072,2,34.706,2,209.2,2,208.5,2,116.8,2,31.49,2,0,2,2.17,2,-999,9,-999,9,-999,9,2260.8,2,2353,2
      320696_3,    S04I,70,1,15,15,2,19960607,1123,-59.5195,86.2213,4304,1799.1,0.5992,34.6989,2,34.6995,2,211.1,2,210.9,2,120.8,2,31.69,2,0,2,2.19,2,-999,9,-999,9,-999,9,2258.7,2,-999,9
      320696_3,    S04I,70,1,14,14,2,19960607,1123,-59.5195,86.2213,4304,1986,0.4901,34.6934,2,34.694,2,212.7,2,213.1,2,122.8,2,31.89,2,0,2,2.2,2,0.158,2,0.093,2,-999,9,2258,2,2353,2
      320696_3,    S04I,70,1,13,13,2,19960607,1123,-59.5195,86.2213,4304,2159.1,0.3815,34.6882,2,34.6885,2,215.1,2,214.8,2,125.7,2,31.99,2,0,2,2.21,2,-999,9,-999,9,-999,9,2259.6,2,-999,9
      320696_3,    S04I,70,1,12,12,2,19960607,1123,-59.5195,86.2213,4304,2332.4,0.2843,34.6844,2,34.6836,2,217.4,2,217.7,2,127,2,32.04,2,0,2,2.22,2,0.222,2,0.117,2,-999,9,2258.3,2,2354,2
      320696_3,    S04I,70,1,11,11,2,19960607,1123,-59.5195,86.2213,4304,2522.8,0.2112,34.6816,2,34.6808,2,220.2,2,220.1,2,128.3,2,32.03,2,0,2,2.21,2,-999,9,-999,9,-999,9,2258.2,2,-999,9
      320696_3,    S04I,70,1,10,10,2,19960607,1123,-59.5195,86.2213,4304,2713.8,0.1494,34.6798,2,34.6784,2,222.7,2,223.3,2,128.9,2,31.98,2,0,2,2.21,2,0.331,2,0.176,2,-999,9,2257.4,2,2352,2
      320696_3,    S04I,70,1,9,9,2,19960607,1123,-59.5195,86.2213,4304,2910.3,0.0909,34.6788,2,34.6768,2,225.3,2,225.3,2,129.2,2,31.98,2,0,2,2.21,2,-999,9,-999,9,-999,9,2257.1,2,-999,9
      320696_3,    S04I,70,1,63,63,2,19960607,1123,-59.5195,86.2213,4304,3104.7,0.0401,34.6772,2,-999,4,227.9,2,228.1,2,128.6,2,31.93,2,0,2,2.21,2,0.478,2,0.25,2,-999,9,2256.9,2,2350,2
      320696_3,    S04I,70,1,7,7,2,19960607,1123,-59.5195,86.2213,4304,3298.1,-0.0062,34.6757,2,34.6754,2,230.5,2,230.7,2,128.4,2,31.88,2,0,2,2.21,2,-999,9,-999,9,-999,9,2255.5,2,2352,2
      320696_3,    S04I,70,1,6,6,2,19960607,1123,-59.5195,86.2213,4304,3498.6,-0.0415,34.6743,2,34.6734,2,232.1,2,231.9,2,127.7,2,31.83,2,0,2,2.2,2,0.692,2,0.358,2,-999,9,2255.7,2,-999,9
      320696_3,    S04I,70,1,5,5,2,19960607,1123,-59.5195,86.2213,4304,3706.2,-0.0679,34.6734,2,34.6725,2,233.8,2,232.2,2,126.5,2,31.78,2,0,2,2.2,2,-999,9,-999,9,-999,9,2255.2,2,2350,2
      320696_3,    S04I,70,1,4,4,2,19960607,1123,-59.5195,86.2213,4304,3919.9,-0.0889,34.6717,2,34.6709,2,235.3,2,234.5,2,126.9,2,31.73,2,0,2,2.19,2,-999,9,-999,9,-999,9,2252,2,2350,2
      320696_3,    S04I,70,1,3,3,2,19960607,1123,-59.5195,86.2213,4304,4143.1,-0.1139,34.6711,2,34.6695,2,235.8,2,236.3,2,128.4,2,31.72,2,0,2,2.19,2,1.147,2,0.549,2,-999,9,2254.4,2,-999,9
      320696_3,    S04I,70,1,2,2,2,19960607,1123,-59.5195,86.2213,4304,4252.5,-0.1204,34.6703,2,34.6687,2,235.8,2,235.6,2,131.2,2,31.77,2,0,2,2.2,2,1.232,2,0.597,2,-999,9,2255.5,2,2352,2
      320696_3,    S04I,70,1,1,1,2,19960607,1123,-59.5195,86.2213,4304,4348.9,-0.1108,34.6699,2,34.6688,2,235,2,234.9,2,132.4,2,31.77,2,0,2,2.2,2,1.242,2,0.606,2,-999,9,2255.4,2,2351,2
      320696_3,    S04I,71,1,36,36,2,19960607,1743,-59.5158,87.2385,4622,17.7,0.5895,33.9478,2,33.9477,2,-999,4,329,2,31,2,26.58,2,0.28,2,1.82,2,6.005,2,3.046,2,-999,9,2157.7,2,2289,2
      320696_3,    S04I,71,1,35,35,2,19960607,1743,-59.5158,87.2385,4622,37.3,0.5895,33.9482,2,33.9477,2,-999,4,329.8,2,31,2,26.58,2,0.28,2,1.82,2,-999,9,-999,9,-999,9,-999,9,-999,9
      320696_3,    S04I,71,1,34,34,2,19960607,1743,-59.5158,87.2385,4622,66.9,0.5987,33.951,2,33.9512,2,-999,4,329.2,2,31.4,2,26.63,2,0.28,2,1.82,2,-999,9,-999,9,-999,9,-999,9,-999,9
      320696_3,    S04I,71,1,33,33,2,19960607,1743,-59.5158,87.2385,4622,96.1,0.5667,33.9599,2,33.9591,2,-999,4,328.8,2,31.9,2,26.73,2,0.28,2,1.82,2,5.994,2,3.036,2,-999,9,-999,9,-999,9
      320696_3,    S04I,71,1,32,32,2,19960607,1743,-59.5158,87.2385,4622,136.2,0.4206,33.9946,2,34.002,2,-999,4,325.1,2,37,2,27.4,2,0.26,2,1.88,2,-999,9,-999,9,-999,9,-999,9,-999,9
      320696_3,    S04I,71,1,31,31,2,19960607,1743,-59.5158,87.2385,4622,167.3,0.3839,34.1465,2,34.1466,2,295.2,2,291.4,2,53.9,2,30.42,2,0.14,2,2.09,2,4.913,2,2.382,2,-999,9,-999,9,-999,9
      320696_3,    S04I,71,1,30,30,2,19960607,1743,-59.5158,87.2385,4622,228.1,1.3138,34.3583,2,34.3586,2,225.4,2,222,2,65.3,2,33.37,2,0.01,2,2.31,2,-999,9,-999,9,-999,9,-999,9,-999,9
      320696_3,    S04I,71,1,29,29,2,19960607,1743,-59.5158,87.2385,4622,289.6,1.4564,34.4886,2,34.4899,2,196.9,2,198.3,2,75.7,2,33.97,2,0,2,2.36,2,1.635,2,0.781,2,-999,9,-999,9,-999,9
      320696_3,    S04I,71,1,28,28,2,19960607,1743,-59.5158,87.2385,4622,348.3,1.9303,34.6042,2,34.6035,2,185.5,2,182.1,2,79.5,2,33.36,2,0,2,2.3,2,-999,9,-999,9,-999,9,-999,9,-999,9
      320696_3,    S04I,71,1,27,27,2,19960607,1743,-59.5158,87.2385,4622,387.4,1.9752,34.6371,2,34.6376,2,180.6,2,179.9,2,81.1,2,32.85,2,0,2,2.27,2,0.467,2,0.237,2,-999,9,-999,9,-999,9
      320696_3,    S04I,71,1,26,26,2,19960607,1743,-59.5158,87.2385,4622,420.4,1.9627,34.6525,2,34.6522,2,180.7,2,180.8,2,81.8,2,32.6,2,0,2,2.25,2,-999,9,-999,9,-999,9,-999,9,-999,9
      320696_3,    S04I,71,1,25,25,2,19960607,1743,-59.5158,87.2385,4622,450.3,1.9342,34.6541,2,34.6542,2,181.1,2,180.9,2,82.5,2,32.6,2,0,2,2.26,2,0.434,2,0.227,2,-999,9,-999,9,-999,9
      320696_3,    S04I,71,1,24,24,2,19960607,1743,-59.5158,87.2385,4622,508.3,1.9209,34.6681,2,34.6679,2,181.5,2,181.8,2,84.1,2,32.5,2,0,2,2.25,2,-999,9,-999,9,-999,9,-999,9,-999,9
      320696_3,    S04I,71,1,23,23,2,19960607,1743,-59.5158,87.2385,4622,612.4,2.0033,34.7055,2,34.7061,2,186.5,2,186.8,2,82.8,2,31.24,2,0,2,2.16,2,-999,9,-999,9,-999,9,-999,9,-999,9
      320696_3,    S04I,71,1,22,22,2,19960607,1743,-59.5158,87.2385,4622,710.8,1.9933,34.7262,2,34.7243,2,189.5,2,189.6,2,83.2,2,30.59,2,0,2,2.11,2,-999,9,-999,9,-999,9,-999,9,-999,9
      320696_3,    S04I,71,1,21,21,2,19960607,1743,-59.5158,87.2385,4622,861.9,1.8222,34.737,2,34.7371,2,192.8,2,193.2,2,86.8,2,30.39,2,0,2,2.1,2,0.156,2,0.076,2,-999,9,-999,9,-999,9
      320696_3,    S04I,71,1,20,20,2,19960607,1743,-59.5158,87.2385,4622,1060.4,1.6742,34.7442,2,34.7448,2,198.1,2,198.2,2,90.6,2,30.09,2,0,2,2.08,2,-999,9,-999,9,-999,9,-999,9,-999,9
      320696_3,    S04I,71,1,19,19,2,19960607,1743,-59.5158,87.2385,4622,1263,1.4977,34.7418,2,34.7426,2,201,2,201,2,95.9,2,30.14,2,0,2,2.08,2,0.115,2,0.06,2,-999,9,-999,9,-999,9
      320696_3,    S04I,71,1,18,18,2,19960607,1743,-59.5158,87.2385,4622,1467.6,1.3103,34.7361,2,34.7361,2,204.5,2,203.6,2,101,2,30.39,2,0,2,2.1,2,-999,9,-999,9,-999,9,-999,9,-999,9
      320696_3,    S04I,71,1,17,17,2,19960607,1743,-59.5158,87.2385,4622,1672,1.1282,34.725,2,34.7257,2,205.5,2,204.7,2,106.1,2,30.74,2,0,2,2.13,2,0.133,2,0.073,2,-999,9,-999,9,-999,9
      320696_3,    S04I,71,1,16,16,2,19960607,1743,-59.5158,87.2385,4622,1859.4,0.9937,34.7191,2,34.72,2,206.4,2,206.9,2,110.7,2,30.99,2,0,2,2.14,2,-999,9,-999,9,-999,9,-999,9,-999,9
      320696_3,    S04I,71,1,15,15,2,19960607,1743,-59.5158,87.2385,4622,2043.4,0.85,34.7112,2,34.7114,2,208.1,2,207.7,2,114.6,2,31.24,2,0,2,2.16,2,0.118,2,0.063,2,-999,9,-999,9,-999,9
      320696_3,    S04I,71,1,14,14,2,19960607,1743,-59.5158,87.2385,4622,2245.5,0.6516,34.6973,2,34.6973,2,210.2,2,211.1,2,116.9,2,31.64,2,0,2,2.19,2,-999,9,-999,9,-999,9,-999,9,-999,9
      320696_3,    S04I,71,1,13,13,2,19960607,1743,-59.5158,87.2385,4622,2452.9,0.5401,34.6941,2,34.6937,2,211.5,2,212.2,2,121.4,2,31.74,2,0,2,2.2,2,0.162,2,0.098,2,-999,9,-999,9,-999,9
      320696_3,    S04I,71,1,12,12,2,19960607,1743,-59.5158,87.2385,4622,2659.6,0.4198,34.6862,2,34.6865,2,214.8,2,214.3,2,124.7,2,31.99,2,0,2,2.22,2,-999,9,-999,9,-999,9,-999,9,-999,9
      320696_3,    S04I,71,1,11,11,2,19960607,1743,-59.5158,87.2385,4622,2871.1,0.3242,34.682,2,34.6821,2,216.9,2,216.9,2,125.6,2,32.04,2,0,2,2.21,2,0.212,2,0.135,2,-999,9,-999,9,-999,9
      320696_3,    S04I,71,1,10,10,2,19960607,1743,-59.5158,87.2385,4622,3076,0.2241,34.6793,2,34.6792,2,220.4,2,221.1,2,125.7,2,31.99,2,0,2,2.21,2,-999,9,-999,9,-999,9,-999,9,-999,9
      320696_3,    S04I,71,1,9,9,2,19960607,1743,-59.5158,87.2385,4622,3273.1,0.166,34.679,2,34.6786,2,223.9,2,223.7,2,127.4,2,31.94,2,0,2,2.21,2,0.37,2,0.203,2,-999,9,-999,9,-999,9
      320696_3,    S04I,71,1,63,63,2,19960607,1743,-59.5158,87.2385,4622,3467.5,0.1029,34.6756,2,34.6749,2,225.8,2,226.5,2,126.2,2,31.89,2,0,2,2.21,2,-999,9,-999,9,-999,9,-999,9,-999,9
      320696_3,    S04I,71,1,7,7,2,19960607,1743,-59.5158,87.2385,4622,3655.7,0.0507,34.674,2,34.6735,2,228.8,2,229.5,2,125.6,2,31.84,2,0,2,2.21,2,0.569,2,0.294,2,-999,9,-999,9,-999,9
      320696_3,    S04I,71,1,6,6,2,19960607,1743,-59.5158,87.2385,4622,3836.3,0.0114,34.6734,2,34.6727,2,231,2,231.4,2,124.2,2,31.79,2,0,2,2.2,2,-999,9,-999,9,-999,9,-999,9,-999,9
      320696_3,    S04I,71,1,5,5,2,19960607,1743,-59.5158,87.2385,4622,4025.1,-0.0158,34.6731,2,-999,3,232.7,2,232.9,2,124.2,2,31.74,2,0,2,2.2,2,0.806,2,0.407,2,-999,9,-999,9,-999,9
      320696_3,    S04I,71,1,4,4,2,19960607,1743,-59.5158,87.2385,4622,4180,-0.0243,34.6719,2,34.6708,2,234.3,2,234,2,123.8,2,31.74,2,0,2,2.2,2,-999,9,-999,9,-999,9,-999,9,-999,9
      320696_3,    S04I,71,1,3,3,2,19960607,1743,-59.5158,87.2385,4622,4391.6,-0.042,34.6709,2,34.6704,2,235.4,2,235.1,2,125,2,31.74,2,0,2,2.2,2,0.953,2,0.472,2,-999,9,-999,9,-999,9
      320696_3,    S04I,71,1,2,2,2,19960607,1743,-59.5158,87.2385,4622,4599.6,-0.0699,34.6696,2,34.6698,2,235.9,2,235.5,2,131.3,2,31.78,2,0.01,2,2.19,2,-999,9,-999,9,-999,9,-999,9,-999,9
      320696_3,    S04I,71,1,1,1,2,19960607,1743,-59.5158,87.2385,4622,4667.1,-0.0627,34.67,2,34.6698,2,235.7,2,235.8,2,131.1,2,31.78,2,0.01,2,2.2,2,1.138,2,0.546,2,-999,9,-999,9,-999,9