BOTTLE,20211011SIOJHS,,,,,,,,,,,,,,,,,,,,,,,,,,,,,,,,,,,,,,
EXPOCODE,SECT_ID,STNNBR,CASTNO,SAMPNO,BTLNBR,BTLNBR_FLAG_W,DATE,TIME,LATITUDE,LONGITUDE,DEPTH,CTDPRS,CTDTMP,CTDSAL,CTDSAL_FLAG_W,SALNTY,SALNTY_FLAG_W,CTDOXY,CTDOXY_FLAG_W,OXYGEN,OXYGEN_FLAG_W,SILCAT,SILCAT_FLAG_W,NITRAT,NITRAT_FLAG_W,NITRIT,NITRIT_FLAG_W,PHSPHT,PHSPHT_FLAG_W,CFC-11,CFC-11_FLAG_W,CFC-12,CFC-12_FLAG_W,SF6,SF6_FLAG_W,TCARBN,TCARBN_FLAG_W,ALKALI,ALKALI_FLAG_W
,,,,,,,,,,,,DB,ITS-90,PSS-78,,PSS-78,,UMOL/KG,,UMOL/KG,,UMOL/KG,,UMOL/KG,,UMOL/KG,,UMOL/KG,,PMOL/KG,,PMOL/KG,,FMOL/KG,,UMOL/KG,,UMOL/KG,
      320696_3,    S04I,98,1,36,36,2,19960624,1612,-62.1037,105.2688,4297,15.2,-1.1359,33.9259,2,33.9242,2,-999,4,342.3,2,31.1,2,27.26,2,0.3,2,1.9,2,6.466,2,3.133,2,-999,9,2165.5,2,-999,9
      320696_3,    S04I,98,1,35,35,2,19960624,1612,-62.1037,105.2688,4297,30.1,-1.1701,33.9309,2,33.9263,2,-999,4,342.1,2,31.3,2,27.31,2,0.3,2,1.92,2,6.499,2,3.138,2,-999,9,2165.2,2,2289,2
      320696_3,    S04I,98,1,34,34,2,19960624,1612,-62.1037,105.2688,4297,65.3,-1.4276,33.9327,2,33.9302,2,-999,4,342.8,2,32.1,2,27.52,2,0.3,2,1.94,2,6.495,2,3.128,2,-999,9,2165.7,2,2285,2
      320696_3,    S04I,98,1,33,33,2,19960624,1612,-62.1037,105.2688,4297,84.2,-1.4278,33.9372,2,33.9355,2,-999,4,341.9,2,32.3,2,27.57,2,0.29,2,1.93,2,6.488,2,3.127,2,-999,9,2167,2,2290,2
      320696_3,    S04I,98,1,32,32,2,19960624,1612,-62.1037,105.2688,4297,105.7,-0.3736,34.055,2,34.135,2,-999,4,293,2,46.9,2,30.36,2,0.14,2,2.13,2,5.087,2,2.415,2,-999,9,2196,2,-999,9
      320696_3,    S04I,98,1,31,31,2,19960624,1612,-62.1037,105.2688,4297,135.1,1.076,34.4267,2,34.4198,2,217,2,215.4,2,70.6,2,33.97,2,0,2,2.37,2,2.349,2,1.082,2,-999,9,2236.5,2,2317,2
      320696_3,    S04I,98,1,30,30,2,19960624,1612,-62.1037,105.2688,4297,171.9,1.4836,34.525,2,34.5176,2,200.1,2,194.2,2,75.9,2,34.02,2,0,2,2.37,2,1.428,2,0.688,2,-999,9,2248.9,2,-999,9
      320696_3,    S04I,98,1,29,29,2,19960624,1612,-62.1037,105.2688,4297,206.5,1.6199,34.5683,2,34.5684,2,184.6,2,186.6,2,78.9,2,33.91,2,0,2,2.35,2,-999,9,-999,9,-999,9,2252.4,2,2332,2
      320696_3,    S04I,98,1,28,28,2,19960624,1612,-62.1037,105.2688,4297,241.1,1.7365,34.6027,2,34.6032,2,181.6,2,182.5,2,80.8,2,33.71,2,0,2,2.34,2,-999,9,-999,9,-999,9,2254.1,2,-999,9
      320696_3,    S04I,98,1,27,27,2,19960624,1612,-62.1037,105.2688,4297,296.4,1.7383,34.6396,2,34.6376,2,185.1,2,183.6,2,82.7,2,33.14,2,0,2,2.29,2,0.645,2,0.323,2,-999,9,2254.5,2,2334,2
      320696_3,    S04I,98,1,26,26,2,19960624,1612,-62.1037,105.2688,4297,357.1,1.7788,34.6687,2,34.6682,2,184.5,2,183.7,2,84.1,2,32.63,2,0,2,2.26,2,-999,9,-999,9,-999,9,2253.4,2,2341,2
      320696_3,    S04I,98,1,25,25,2,19960624,1612,-62.1037,105.2688,4297,408.2,1.7873,34.6851,2,34.6851,2,184.7,2,185.1,2,84.7,2,32.27,2,0,2,2.24,2,0.422,2,0.223,2,-999,9,2251.2,2,2345,2
      320696_3,    S04I,98,1,24,24,2,19960624,1612,-62.1037,105.2688,4297,467.6,1.7561,34.6975,2,34.6979,2,186.5,2,187.7,2,85.9,2,31.91,2,0,2,2.2,2,-999,9,-999,9,-999,9,2251.2,2,-999,9
      320696_3,    S04I,98,1,23,23,2,19960624,1612,-62.1037,105.2688,4297,508.7,1.7399,34.7039,2,34.7046,2,186.6,2,188.9,2,86.4,2,31.76,2,0,2,2.19,2,0.369,2,0.187,2,-999,9,2251.2,2,-999,9
      320696_3,    S04I,98,1,22,22,2,19960624,1612,-62.1037,105.2688,4297,608.8,1.7217,34.7205,2,34.7219,2,189.3,2,191,2,88.3,2,31.35,2,0,2,2.16,2,-999,9,-999,9,-999,9,2251.5,2,2347,2
      320696_3,    S04I,98,1,21,21,2,19960624,1612,-62.1037,105.2688,4297,759.7,1.6287,34.7342,2,34.7359,2,194.1,2,195.3,2,91.6,2,30.94,2,0,2,2.14,2,0.212,2,0.113,2,-999,9,2249,2,-999,3
      320696_3,    S04I,98,1,20,20,2,19960624,1612,-62.1037,105.2688,4297,861,1.5202,34.7319,2,34.7333,2,198,2,197.7,2,93.8,2,30.89,2,0,2,2.13,2,-999,9,-999,9,-999,9,2248.4,2,-999,9
      320696_3,    S04I,98,1,19,19,2,19960624,1612,-62.1037,105.2688,4297,962.1,1.4487,34.733,2,34.7343,2,199.9,2,199,2,96,2,30.89,2,0,2,2.12,2,0.199,2,0.105,2,-999,9,2249.8,2,2348,6
      320696_3,    S04I,98,1,18,18,2,19960624,1612,-62.1037,105.2688,4297,1163.8,1.2846,34.7304,2,34.7309,2,202.3,2,202.6,2,101.1,2,30.94,2,0,2,2.14,2,-999,9,-999,9,-999,9,2251.3,2,2349,2
      320696_3,    S04I,98,1,17,17,2,19960624,1612,-62.1037,105.2688,4297,1364.8,1.1211,34.7243,2,34.7252,2,204.7,2,203.8,2,106.5,2,31.25,2,0,2,2.16,2,0.146,2,0.079,2,-999,9,2253.7,2,-999,9
      320696_3,    S04I,98,1,16,16,2,19960624,1612,-62.1037,105.2688,4297,1560.4,0.961,34.7168,2,34.7172,2,206.4,2,205.8,2,111.4,2,31.5,2,0,2,2.18,2,-999,9,-999,9,-999,9,2255.6,2,-999,9
      320696_3,    S04I,98,1,15,15,2,19960624,1612,-62.1037,105.2688,4297,1762.2,0.8179,34.7097,2,34.7109,2,207.4,2,207.6,2,115.9,2,31.75,2,0,2,2.2,2,0.119,2,0.061,2,-999,9,2257.1,2,2354,2
      320696_3,    S04I,98,1,14,14,2,19960624,1612,-62.1037,105.2688,4297,1974.7,0.6488,34.7006,2,34.7015,2,209.2,2,209.7,2,120.2,2,32.06,2,0,2,2.22,2,-999,9,-999,9,-999,9,2257.8,2,-999,9
      320696_3,    S04I,98,1,13,13,2,19960624,1612,-62.1037,105.2688,4297,2174.7,0.5095,34.693,2,34.6952,2,212.5,2,211.9,2,123,2,32.26,2,0,2,2.23,2,0.167,2,0.084,2,-999,9,2259.7,2,2354,2
      320696_3,    S04I,98,1,12,12,2,19960624,1612,-62.1037,105.2688,4297,2377.8,0.3764,34.6875,2,34.6875,2,214.4,2,215.5,2,126,2,32.31,2,0,2,2.24,2,-999,9,-999,9,-999,9,2259.5,2,-999,9
      320696_3,    S04I,98,1,11,11,2,19960624,1612,-62.1037,105.2688,4297,2583.7,0.2702,34.6835,2,34.684,2,218.4,2,218.3,2,127.2,2,32.36,2,0,2,2.24,2,0.251,2,0.131,2,-999,9,2258.3,2,2352,2
      320696_3,    S04I,98,1,10,10,2,19960624,1612,-62.1037,105.2688,4297,2781.5,0.1911,34.681,2,34.6816,2,221.8,2,222.1,2,128.2,2,32.31,2,0,2,2.24,2,-999,9,-999,9,-999,9,2258.1,2,-999,9
      320696_3,    S04I,98,1,9,9,2,19960624,1612,-62.1037,105.2688,4297,2982.4,0.1128,34.6787,2,34.6789,2,224.9,2,224.8,2,128.4,2,32.31,2,0,2,2.24,2,0.385,2,0.204,2,-999,9,2256.5,2,2352,2
      320696_3,    S04I,98,1,63,63,2,19960624,1612,-62.1037,105.2688,4297,3188.9,0.0565,34.6771,2,34.6783,2,227.7,2,227.3,2,129.1,2,32.26,2,0,2,2.23,2,-999,9,-999,9,-999,9,2255.8,2,-999,9
      320696_3,    S04I,98,1,7,7,2,19960624,1612,-62.1037,105.2688,4297,3393,0.0015,34.675,2,34.6761,2,230.2,2,229.8,2,128.7,2,32.21,2,0,2,2.24,2,0.55,2,0.287,2,-999,9,2255.2,2,2354,2
      320696_3,    S04I,98,1,6,6,2,19960624,1612,-62.1037,105.2688,4297,3600.6,-0.0443,34.6738,7,34.6745,2,231.7,2,231.6,2,129.4,2,32.16,2,0,2,2.23,2,-999,9,-999,9,-999,9,2255.7,2,2351,2
      320696_3,    S04I,98,1,5,5,2,19960624,1612,-62.1037,105.2688,4297,3809.3,-0.0779,34.6727,7,34.6728,2,234.2,2,233.6,2,129.9,2,32.16,2,0,2,2.23,2,0.782,2,0.395,2,-999,9,2254.2,2,2350,2
      320696_3,    S04I,98,1,39,39,2,19960624,1612,-62.1037,105.2688,4297,4017.2,-0.1034,34.6705,7,34.6718,2,235.6,2,235.2,2,128.8,2,32.1,2,0,2,2.23,2,-999,9,-999,9,-999,9,2254.8,2,2350,2
      320696_3,    S04I,98,1,3,3,2,19960624,1612,-62.1037,105.2688,4297,4189.3,-0.1348,34.6682,7,34.6692,2,237.1,2,237,2,130.9,2,32.1,2,0,2,2.22,2,1.258,2,0.605,2,-999,9,2254.4,2,2351,2
      320696_3,    S04I,98,1,2,2,2,19960624,1612,-62.1037,105.2688,4297,4291,-0.1603,34.6656,7,34.6667,2,239,2,238.9,2,128,2,32.05,2,0,2,2.22,2,-999,9,-999,9,-999,9,2254.3,2,2350,2
      320696_3,    S04I,98,1,1,1,2,19960624,1612,-62.1037,105.2688,4297,4331.5,-0.1558,34.6649,7,34.6671,2,238.7,2,-999,5,128.2,2,32.05,2,0,2,2.21,2,1.553,2,0.744,2,-999,9,2253.8,2,2353,2
      320696_3,    S04I,99,1,36,36,2,19960624,2159,-62.0987,106.3678,4310,16,-1.5197,33.9288,2,33.9289,2,-999,4,345.7,2,33,2,27.64,2,0.28,2,1.93,2,-999,9,-999,9,-999,9,2166.6,2,2288,2
      320696_3,    S04I,99,1,35,35,2,19960624,2159,-62.0987,106.3678,4310,30.4,-1.5249,33.9276,2,33.9291,2,-999,4,345.8,2,33,2,27.64,2,0.28,2,1.93,2,-999,9,-999,9,-999,9,2166.7,2,-999,9
      320696_3,    S04I,99,1,34,34,2,19960624,2159,-62.0987,106.3678,4310,55.5,-1.3983,33.9599,2,33.9616,2,-999,4,341.8,2,33.2,2,27.64,2,0.28,2,1.93,2,-999,9,-999,9,-999,9,-999,9,-999,9
      320696_3,    S04I,99,1,33,33,2,19960624,2159,-62.0987,106.3678,4310,76.2,-1.2275,33.9964,2,33.9953,2,-999,4,339.4,2,33.3,2,27.69,2,0.28,2,1.94,2,-999,9,-999,9,-999,9,-999,9,-999,9
      320696_3,    S04I,99,1,32,32,2,19960624,2159,-62.0987,106.3678,4310,100.9,-1.0046,34.027,2,34.0352,2,-999,4,329.2,2,36.7,2,28.29,2,0.25,2,1.97,2,-999,9,-999,9,-999,9,-999,9,-999,9
      320696_3,    S04I,99,1,31,31,2,19960624,2159,-62.0987,106.3678,4310,125.9,0.7597,34.3452,2,34.3248,2,-999,4,243.4,2,62,2,32.71,2,0.05,2,2.29,2,-999,9,-999,9,-999,9,-999,9,-999,9
      320696_3,    S04I,99,1,30,30,2,19960624,2159,-62.0987,106.3678,4310,156.3,1.5286,34.5197,2,34.5177,2,188.9,2,191.4,2,75.4,2,34.24,2,0,2,2.38,2,-999,9,-999,9,-999,9,-999,9,-999,9
      320696_3,    S04I,99,1,29,29,2,19960624,2159,-62.0987,106.3678,4310,187,1.689,34.5688,2,34.5704,2,182.1,2,183.8,2,78.3,2,33.98,2,0,2,2.36,2,-999,9,-999,9,-999,9,-999,9,-999,9
      320696_3,    S04I,99,1,28,28,2,19960624,2159,-62.0987,106.3678,4310,216.8,1.7413,34.5976,2,34.5971,2,180.9,2,181.1,2,80.1,2,33.78,2,0,2,2.35,2,-999,9,-999,9,-999,9,-999,9,-999,9
      320696_3,    S04I,99,1,27,27,2,19960624,2159,-62.0987,106.3678,4310,257.5,1.7669,34.627,2,34.6242,2,180,2,180.4,2,81.6,2,33.42,2,0,2,2.32,2,-999,9,-999,9,-999,9,-999,9,-999,9
      320696_3,    S04I,99,1,26,26,2,19960624,2159,-62.0987,106.3678,4310,306.6,1.7869,34.6537,2,34.6546,2,182.2,2,181.7,2,83,2,32.86,2,0,2,2.28,2,-999,9,-999,9,-999,9,-999,9,-999,9
      320696_3,    S04I,99,1,25,25,2,19960624,2159,-62.0987,106.3678,4310,357.5,1.7921,34.6766,2,34.6774,2,183.7,2,184.6,2,83.8,2,32.34,2,0,2,2.24,2,-999,9,-999,9,-999,9,-999,9,-999,9
      320696_3,    S04I,99,1,24,24,2,19960624,2159,-62.0987,106.3678,4310,433.6,1.7652,34.692,2,34.6931,2,185.6,2,186.1,2,84.8,2,31.89,2,0,2,2.21,2,-999,9,-999,9,-999,9,-999,9,-999,9
      320696_3,    S04I,99,1,23,23,2,19960624,2159,-62.0987,106.3678,4310,532.8,1.7674,34.7145,2,34.7149,2,187.9,2,188.9,2,86.7,2,31.43,2,0,2,2.17,2,-999,9,-999,9,-999,9,-999,9,-999,9
      320696_3,    S04I,99,1,22,22,2,19960624,2159,-62.0987,106.3678,4310,659.3,1.7169,34.7294,2,34.7307,2,192,2,192.4,2,88.8,2,30.92,2,0,2,2.15,2,-999,9,-999,9,-999,9,-999,9,-999,9
      320696_3,    S04I,99,1,21,21,2,19960624,2159,-62.0987,106.3678,4310,784.6,1.6359,34.7366,2,34.7373,2,195.3,2,195.3,2,91.2,2,30.66,2,0,2,2.12,2,-999,9,-999,9,-999,9,-999,9,-999,9
      320696_3,    S04I,99,1,20,20,2,19960624,2159,-62.0987,106.3678,4310,909.3,1.5345,34.738,2,34.7385,2,198.4,2,197.8,2,94.1,2,30.61,2,0,2,2.12,2,-999,9,-999,9,-999,9,-999,9,-999,9
      320696_3,    S04I,99,1,19,19,2,19960624,2159,-62.0987,106.3678,4310,1059.5,1.392,34.735,2,34.7367,2,200.5,2,200.5,2,98.3,2,30.66,2,0,2,2.11,2,-999,9,-999,9,-999,9,-999,9,-999,9
      320696_3,    S04I,99,1,18,18,2,19960624,2159,-62.0987,106.3678,4310,1209.4,1.2614,34.7312,2,34.733,2,202.2,2,202.6,2,102.1,2,30.82,2,0,2,2.12,2,-999,9,-999,9,-999,9,-999,9,-999,9
      320696_3,    S04I,99,1,17,17,2,19960624,2159,-62.0987,106.3678,4310,1403.3,1.1081,34.7246,2,34.7251,2,204.7,2,204.1,2,106.8,2,31.07,2,0,2,2.15,2,-999,9,-999,9,-999,9,-999,9,-999,9
      320696_3,    S04I,99,1,16,16,2,19960624,2159,-62.0987,106.3678,4310,1616.3,0.926,34.7156,2,34.7161,2,206.4,2,205.9,2,112.1,2,31.38,2,0,2,2.18,2,-999,9,-999,9,-999,9,-999,9,-999,9
      320696_3,    S04I,99,1,15,15,2,19960624,2159,-62.0987,106.3678,4310,1822.7,0.7551,34.7066,2,34.707,2,207.1,2,207.6,2,116.8,2,31.74,2,0,2,2.21,2,-999,9,-999,9,-999,9,-999,9,-999,9
      320696_3,    S04I,99,1,14,14,2,19960624,2159,-62.0987,106.3678,4310,2026.2,0.6097,34.6987,2,34.6994,2,210.2,2,210.1,2,120.6,2,31.94,2,0,2,2.23,2,-999,9,-999,9,-999,9,-999,9,-999,9
      320696_3,    S04I,99,1,13,13,2,19960624,2159,-62.0987,106.3678,4310,2230,0.4727,34.692,2,34.6931,2,213,2,212.6,2,123.4,2,32.15,2,0,2,2.24,2,-999,9,-999,9,-999,9,-999,9,-999,9
      320696_3,    S04I,99,1,12,12,2,19960624,2159,-62.0987,106.3678,4310,2432.7,0.354,34.6867,2,34.688,2,216.5,2,215.9,2,125.3,2,32.15,2,0,2,2.24,2,-999,9,-999,9,-999,9,-999,9,-999,9
      320696_3,    S04I,99,1,11,11,2,19960624,2159,-62.0987,106.3678,4310,2635.1,0.2519,34.6832,2,34.6838,2,219.5,2,219.4,2,125.8,2,32.2,2,0,2,2.24,2,-999,9,-999,9,-999,9,-999,9,-999,9
      320696_3,    S04I,99,1,10,10,2,19960624,2159,-62.0987,106.3678,4310,2837.5,0.1664,34.68,2,34.6801,2,222.5,2,222.9,2,127.1,2,32.15,2,0,2,2.24,2,-999,9,-999,9,-999,9,-999,9,-999,9
      320696_3,    S04I,99,1,9,9,2,19960624,2159,-62.0987,106.3678,4310,3043,0.0928,34.6783,2,34.6781,2,225.4,2,225.7,2,128.1,2,32.1,2,0,2,2.25,2,-999,9,-999,9,-999,9,-999,9,-999,9
      320696_3,    S04I,99,1,63,63,2,19960624,2159,-62.0987,106.3678,4310,3247.7,0.0232,34.6755,2,34.6762,2,228.4,2,228.6,2,126.3,2,32.05,2,0,2,2.24,2,-999,9,-999,9,-999,9,-999,9,-999,9
      320696_3,    S04I,99,1,7,7,2,19960624,2159,-62.0987,106.3678,4310,3453.6,-0.0192,34.6744,2,34.6746,2,230.5,2,230.7,2,127.2,2,32.05,2,0,2,2.24,2,-999,9,-999,9,-999,9,-999,9,-999,9
      320696_3,    S04I,99,1,6,6,2,19960624,2159,-62.0987,106.3678,4310,3657.7,-0.0631,34.6727,2,34.673,2,233.2,2,233.1,2,125.6,2,32,2,0,2,2.23,2,-999,9,-999,9,-999,9,-999,9,-999,9
      320696_3,    S04I,99,1,5,5,2,19960624,2159,-62.0987,106.3678,4310,3859.2,-0.0883,34.672,2,34.672,2,234.6,2,234.4,2,126.4,2,32,2,0,2,2.24,2,-999,9,-999,9,-999,9,-999,9,-999,9
      320696_3,    S04I,99,1,39,39,2,19960624,2159,-62.0987,106.3678,4310,4015.2,-0.106,34.67,2,34.6716,2,235.5,2,235.5,2,127,2,31.95,2,0,2,2.22,2,-999,9,-999,9,-999,9,-999,9,-999,9
      320696_3,    S04I,99,1,3,3,2,19960624,2159,-62.0987,106.3678,4310,4167.8,-0.1164,34.6688,2,34.6702,2,236.2,2,236.5,2,127.1,2,32,2,0,2,2.23,2,-999,9,-999,9,-999,9,-999,9,-999,9
      320696_3,    S04I,99,1,2,2,2,19960624,2159,-62.0987,106.3678,4310,4266.8,-0.1437,34.667,2,34.6675,2,237.6,2,238.1,2,124.3,2,31.9,2,0,2,2.22,2,-999,9,-999,9,-999,9,-999,9,-999,9
      320696_3,    S04I,99,1,1,1,2,19960624,2159,-62.0987,106.3678,4310,4339.2,-0.1598,34.6657,2,34.6667,2,-999,3,239.1,2,125.7,2,31.85,2,0,2,2.23,2,-999,9,-999,9,-999,9,-999,9,-999,9