BOTTLE,20211011SIOJHS,,,,,,,,,,,,,,,,,,,,,,,,,,,,,,,,,,,,,,
#BOTTLE,20142429JOAExport,,,,,,,,,,,,,,,,,,,,,,,,,,,,,,,,,,,,,,
# Exported from JOA (5.2.1 December 4, 2013) on 2014/08/29 11:23:32,,,,,,,,,,,,,,,,,,,,,,,,,,,,,,,,,,,,,,
#BOTTLE,20140825CCHSIOMH,,,,,,,,,,,,,,,,,,,,,,,,,,,,,,,,,,,,,,
#BOTTLE,20030828WHPSIOsA,,,,,,,,,,,,,,,,,,,,,,,,,,,,,,,,,,,,,,
#code : jjward hyd_to_exchange.pl ,,,,,,,,,,,,,,,,,,,,,,,,,,,,,,,,,,,,,,,
#original files copied from HTML directory: Aug. 28,2003,,,,,,,,,,,,,,,,,,,,,,,,,,,,,,,,,,,,,,
#original HYD file: s04ihy.txt   Thu Aug 28 13:12:11 2003,,,,,,,,,,,,,,,,,,,,,,,,,,,,,,,,,,,,,,,
#original SUM file: s04isu.txt   Thu Aug 28 13:12:17 2003,,,,,,,,,,,,,,,,,,,,,,,,,,,,,,,,,,,,,,,
EXPOCODE,SECT_ID,STNNBR,CASTNO,SAMPNO,BTLNBR,BTLNBR_FLAG_W,DATE,TIME,LATITUDE,LONGITUDE,DEPTH,CTDPRS,CTDTMP,CTDSAL,CTDSAL_FLAG_W,SALNTY,SALNTY_FLAG_W,CTDOXY,CTDOXY_FLAG_W,OXYGEN,OXYGEN_FLAG_W,SILCAT,SILCAT_FLAG_W,NITRAT,NITRAT_FLAG_W,NITRIT,NITRIT_FLAG_W,PHSPHT,PHSPHT_FLAG_W,CFC-11,CFC-11_FLAG_W,CFC-12,CFC-12_FLAG_W,SF6,SF6_FLAG_W,TCARBN,TCARBN_FLAG_W,ALKALI,ALKALI_FLAG_W
,,,,,,,,,,,,DB,ITS-90,PSS-78,,PSS-78,,UMOL/KG,,UMOL/KG,,UMOL/KG,,UMOL/KG,,UMOL/KG,,UMOL/KG,,PMOL/KG,,PMOL/KG,,FMOL/KG,,UMOL/KG,,UMOL/KG,
      320696_3,    S04I,1,1,32,32,2,19960516,824,-58.008,20.0057,5346,14.2,0.0149,33.8136,7,33.8095,2,-999,4,342.1,2,41.1,2,23.03,2,0.26,2,-999,4,6.217,2,3.047,2,-999,9,2159.6,2,2294,6
      320696_3,    S04I,1,1,31,31,2,19960516,824,-58.008,20.0057,5346,29.5,0.0147,33.8137,7,-999,3,-999,4,341.7,2,41,2,23.03,2,0.26,2,-999,4,6.066,2,3.107,2,-999,9,2157.9,2,2296,2
      320696_3,    S04I,1,1,30,30,2,19960516,824,-58.008,20.0057,5346,51.8,0.022,33.8139,7,33.8093,2,-999,4,341.3,2,40.8,2,23.02,2,0.26,2,-999,4,6.438,2,3.15,2,-999,9,2159,2,2295,2
      320696_3,    S04I,1,1,29,29,2,19960516,824,-58.008,20.0057,5346,80.4,0.0214,33.8178,7,33.8112,2,-999,4,-999,5,40.9,2,23.07,2,0.26,2,-999,4,6.335,2,3.129,2,-999,9,2157.9,2,2297,2
      320696_3,    S04I,1,1,28,28,2,19960516,824,-58.008,20.0057,5346,109.7,-1.1271,34.1282,7,34.1211,2,-999,4,338.6,2,66,2,27.64,2,0.43,2,-999,4,6.565,2,3.27,2,-999,9,2199.4,2,2313,2
      320696_3,    S04I,1,1,27,27,2,19960516,824,-58.008,20.0057,5346,152.3,-0.506,34.3513,7,34.3464,2,-999,4,280.7,2,80.3,2,31.1,2,0.02,2,-999,4,4.528,2,2.164,2,-999,9,2227.9,2,2326,2
      320696_3,    S04I,1,1,26,26,2,19960516,824,-58.008,20.0057,5346,195.2,0.5761,34.5701,7,34.5675,2,-999,4,213.6,2,93.3,2,32.96,2,0.01,2,-999,4,1.866,2,0.873,2,-999,9,2255.5,2,2339,2
      320696_3,    S04I,1,1,25,25,2,19960516,824,-58.008,20.0057,5346,247.3,0.7125,34.6423,7,34.6431,2,203.7,2,202.7,2,101.6,2,32.9,2,0.01,2,-999,4,1.008,2,0.508,2,-999,9,2260.6,2,2347,2
      320696_3,    S04I,1,1,24,24,2,19960516,824,-58.008,20.0057,5346,297.2,0.6818,34.6598,7,34.6593,2,200.6,2,201.5,2,106,2,33.04,2,0.01,2,-999,4,0.811,2,0.427,2,-999,9,2261.1,2,2349,2
      320696_3,    S04I,1,1,23,23,2,19960516,824,-58.008,20.0057,5346,398.2,0.7091,34.6841,7,34.6844,2,197.1,2,-999,4,111.3,2,32.84,2,0.01,2,-999,4,0.463,2,0.246,2,-999,9,2264.3,2,2354,2
      320696_3,    S04I,1,1,22,22,2,19960516,824,-58.008,20.0057,5346,549.1,0.5558,34.685,7,34.6858,2,200.4,2,201.6,2,117.3,2,33.14,2,0.01,2,-999,4,0.356,2,0.199,2,-999,9,2264.8,2,2355,2
      320696_3,    S04I,1,1,21,21,2,19960516,824,-58.008,20.0057,5346,700.5,0.4621,34.6833,7,34.6862,2,201.5,2,201.4,2,121.1,2,33.28,2,0.01,2,-999,4,0.239,2,0.142,2,-999,9,2268.4,2,2355,2
      320696_3,    S04I,1,1,20,20,2,19960516,824,-58.008,20.0057,5346,900.7,0.3669,34.6828,7,34.6836,2,204.4,2,203.4,2,124.6,2,33.38,2,0.01,2,-999,4,0.191,2,0.071,2,-999,9,2268.4,2,2355,2
      320696_3,    S04I,1,1,19,19,2,19960516,824,-58.008,20.0057,5346,1156,0.2462,34.6792,7,34.6803,2,209.4,2,208.1,2,126.9,2,33.23,2,0,2,-999,4,0.16,2,0.097,2,-999,9,2266,2,2356,2
      320696_3,    S04I,1,1,18,18,2,19960516,824,-58.008,20.0057,5346,1410.1,0.1364,34.6748,7,34.6754,2,213.9,2,214.6,2,128.5,2,33.13,2,0,2,-999,4,0.17,2,0.109,2,-999,9,2263.9,2,2358,2
      320696_3,    S04I,1,1,17,17,2,19960516,824,-58.008,20.0057,5346,1768.4,0.0046,34.6693,7,34.6691,2,220.3,2,220.2,2,129.2,2,33.02,2,0,2,-999,4,0.159,2,0.094,2,-999,9,2260.9,2,2354,2
      320696_3,    S04I,1,1,16,16,2,19960516,824,-58.008,20.0057,5346,2024.5,-0.0858,34.6662,7,34.6652,2,225.1,2,225.5,2,129.1,2,32.87,2,0,2,-999,4,0.165,2,0.085,2,-999,9,2257.7,2,2355,2
      320696_3,    S04I,1,1,15,15,2,19960516,824,-58.008,20.0057,5346,2267,-0.1472,34.664,7,34.664,2,229.2,2,-999,4,129.6,2,32.82,2,0,2,-999,4,0.183,2,0.147,2,-999,9,2259.7,2,2351,2
      320696_3,    S04I,1,1,14,14,2,19960516,824,-58.008,20.0057,5346,2525.3,-0.2032,34.6614,7,34.6615,2,232.5,2,-999,4,129.3,2,32.71,2,0,2,-999,4,0.193,2,0.117,2,-999,9,2256.1,2,2353,2
      320696_3,    S04I,1,1,13,13,2,19960516,824,-58.008,20.0057,5346,2785.8,-0.2391,34.6592,7,34.6597,2,234.4,2,235.2,2,129,2,32.66,2,0,2,-999,4,-999,9,-999,9,-999,9,2256.8,2,2355,2
      320696_3,    S04I,1,1,12,12,2,19960516,824,-58.008,20.0057,5346,3041.3,-0.27,34.6577,7,34.6578,2,236.4,2,236.6,2,128.6,2,32.55,2,0,2,-999,4,0.207,2,0.126,2,-999,9,2257,2,2350,2
      320696_3,    S04I,1,1,11,11,2,19960516,824,-58.008,20.0057,5346,3300.6,-0.2983,34.6563,7,34.6564,2,238.7,2,239.6,2,127.3,2,32.45,2,0,2,-999,4,0.222,2,0.134,2,-999,9,2253.4,2,2350,2
      320696_3,    S04I,1,1,10,10,2,19960516,824,-58.008,20.0057,5346,3556,-0.3257,34.6551,7,34.6548,2,241.1,2,240.9,2,127.8,2,32.39,2,0,2,-999,4,0.229,2,0.138,2,-999,9,2251.7,2,2349,2
      320696_3,    S04I,1,1,9,9,2,19960516,824,-58.008,20.0057,5346,3812.2,-0.3523,34.6536,7,34.6537,2,243,2,243.1,2,127.5,2,32.39,2,0,2,-999,4,0.242,2,0.145,2,-999,9,2253.1,2,2347,2
      320696_3,    S04I,1,1,8,8,2,19960516,824,-58.008,20.0057,5346,4071,-0.3761,34.652,7,34.6521,2,244.8,2,244.9,2,127.8,2,32.29,2,0,2,-999,4,-999,9,-999,9,-999,9,2252.4,2,2349,2
      320696_3,    S04I,1,1,7,7,2,19960516,824,-58.008,20.0057,5346,4325.5,-0.4025,34.6493,7,34.6509,2,247.2,2,246.7,2,126.9,2,32.28,2,0,2,-999,4,0.28,2,0.166,2,-999,9,2250.4,2,2351,2
      320696_3,    S04I,1,1,6,6,2,19960516,824,-58.008,20.0057,5346,4579.6,-0.401,34.6497,7,34.6497,2,248.2,2,247.6,2,127,2,32.28,2,0,2,-999,4,0.258,2,0.167,2,-999,9,2249.8,2,-999,9
      320696_3,    S04I,1,1,5,5,2,19960516,824,-58.008,20.0057,5346,4827.2,-0.3906,34.6485,7,34.6495,2,248.6,2,248.3,2,126.9,2,32.27,2,0,2,-999,4,-999,9,-999,9,-999,9,2250.7,2,2351,2
      320696_3,    S04I,1,1,4,4,2,19960516,824,-58.008,20.0057,5346,5083.8,-0.3803,34.6477,7,-999,4,249.3,2,248.8,2,126.2,2,32.27,2,0,2,-999,4,0.319,2,0.182,2,-999,9,2251.1,2,-999,9
      320696_3,    S04I,1,1,3,3,2,19960516,824,-58.008,20.0057,5346,5286.9,-0.3732,34.6474,7,34.6478,2,249.6,2,249.6,2,126.5,2,32.26,2,0,2,-999,4,0.361,2,0.205,2,-999,9,2250.5,2,2351,2
      320696_3,    S04I,1,1,2,2,2,19960516,824,-58.008,20.0057,5346,5447.8,-0.359,34.6467,7,-999,3,249.5,2,249.7,2,126.6,2,32.26,2,0,2,-999,4,-999,9,-999,9,-999,9,2252.6,2,2352,2
      320696_3,    S04I,1,1,1,1,2,19960516,824,-58.008,20.0057,5346,5522.3,-0.3521,34.6476,7,34.6476,2,249.4,2,249.8,2,126.5,2,32.3,2,0,2,-999,4,-999,9,-999,9,-999,9,2249.9,2,-999,9
      320696_3,    S04I,2,2,36,36,2,19960517,102,-58.567,20.9675,5313,23.8,0.3473,33.8529,2,33.8543,2,-999,4,338.5,2,40,2,23.09,2,0.27,2,1.62,2,-999,9,-999,9,-999,9,2158.7,2,2299,6
      320696_3,    S04I,2,2,35,35,2,19960517,102,-58.567,20.9675,5313,48,0.3243,33.8545,2,33.8556,2,-999,4,339.6,2,40.3,2,23.14,2,0.26,2,1.63,2,-999,9,-999,9,-999,9,2161.4,2,-999,9
      320696_3,    S04I,2,2,34,34,2,19960517,102,-58.567,20.9675,5313,78.2,0.3646,33.8695,2,33.8711,2,-999,4,337.6,2,40.1,2,23.18,2,0.28,2,1.63,2,-999,9,-999,9,-999,9,2161.7,2,-999,9
      320696_3,    S04I,2,2,33,33,2,19960517,102,-58.567,20.9675,5313,108.6,0.2623,33.9173,2,33.9318,2,-999,4,336.7,2,46.3,2,24.14,2,0.31,2,1.72,2,-999,9,-999,9,-999,9,2165.8,2,-999,9
      320696_3,    S04I,2,2,32,32,2,19960517,102,-58.567,20.9675,5313,132.3,-1.4446,34.1391,2,34.1538,2,-999,4,331.9,2,72,2,28.89,2,0.34,2,2.02,2,-999,9,-999,9,-999,9,2204.4,2,-999,9
      320696_3,    S04I,2,2,31,31,2,19960517,102,-58.567,20.9675,5313,155.4,-1.1616,34.2603,2,34.2653,2,-999,4,307,2,79,2,30.11,2,0.05,2,2.09,2,-999,9,-999,9,-999,9,2218,2,-999,9
      320696_3,    S04I,2,2,30,30,2,19960517,102,-58.567,20.9675,5313,187.2,-0.5213,34.4325,2,34.4364,2,-999,4,258.6,2,91.3,2,31.8,2,0.01,2,2.21,2,-999,9,-999,9,-999,9,2239.7,2,-999,9
      320696_3,    S04I,2,2,29,29,2,19960517,102,-58.567,20.9675,5313,228,0.1002,34.5838,2,34.585,2,-999,4,216.4,2,105,2,33.2,2,0,2,2.28,2,-999,9,-999,9,-999,9,2259.7,2,-999,9
      320696_3,    S04I,2,2,28,28,2,19960517,102,-58.567,20.9675,5313,277.3,0.384,34.6518,2,34.6528,2,-999,3,200,2,113.9,2,33.65,2,0,2,2.32,2,-999,9,-999,9,-999,9,2267.1,2,-999,9
      320696_3,    S04I,2,2,27,27,2,19960517,102,-58.567,20.9675,5313,327.7,0.4447,34.6711,2,34.6732,2,-999,3,196.7,2,117.4,2,33.64,2,0.01,2,2.32,2,-999,9,-999,9,-999,9,2268.4,2,-999,9
      320696_3,    S04I,2,2,26,26,2,19960517,102,-58.567,20.9675,5313,397.7,0.4396,34.6794,2,34.6795,2,195.6,2,196.1,2,120.5,2,33.69,2,0,2,2.31,2,-999,9,-999,9,-999,9,2270.6,2,-999,9
      320696_3,    S04I,2,2,25,25,2,19960517,102,-58.567,20.9675,5313,468.4,0.4147,34.6817,2,34.6823,2,195.3,2,196,2,122.8,2,33.74,2,0,2,2.32,2,-999,9,-999,9,-999,9,2270.6,2,-999,9
      320696_3,    S04I,2,2,24,24,2,19960517,102,-58.567,20.9675,5313,537.6,0.3891,34.6827,2,34.6821,2,195.2,2,196.2,2,124.3,2,33.83,2,0.01,2,2.33,2,-999,9,-999,9,-999,9,2271.5,2,-999,9
      320696_3,    S04I,2,2,23,23,2,19960517,102,-58.567,20.9675,5313,611.7,0.3659,34.6823,2,34.6828,2,196.6,2,197.1,2,125.2,2,33.83,2,0.01,2,2.33,2,-999,9,-999,9,-999,9,2270.1,2,-999,9
      320696_3,    S04I,2,2,22,22,2,19960517,102,-58.567,20.9675,5313,683.7,0.3352,34.6818,2,34.683,2,197.8,2,198.4,2,126.3,2,33.83,2,0.01,2,2.33,2,-999,9,-999,9,-999,9,2270.8,2,-999,9
      320696_3,    S04I,2,2,21,21,2,19960517,102,-58.567,20.9675,5313,804.7,0.288,34.681,2,34.6814,2,200.7,2,200.7,2,127.4,2,33.68,2,0,2,2.32,2,-999,9,-999,9,-999,9,2269.7,2,2360,2
      320696_3,    S04I,2,2,20,20,2,19960517,102,-58.567,20.9675,5313,999.7,0.2011,34.6773,2,34.6781,2,206.2,2,206.5,2,128.2,2,33.43,2,0,2,2.3,2,-999,9,-999,9,-999,9,-999,9,-999,9
      320696_3,    S04I,2,2,19,19,2,19960517,102,-58.567,20.9675,5313,1268.1,0.1013,34.6735,2,-999,4,213.5,2,212.9,2,128.9,2,33.17,2,0,2,2.28,2,-999,9,-999,9,-999,9,-999,9,-999,9
      320696_3,    S04I,2,2,18,18,2,19960517,102,-58.567,20.9675,5313,1521.5,0.0148,34.6702,2,-999,5,218.6,2,218,2,129.4,2,33.02,2,0,2,2.27,2,-999,9,-999,9,-999,9,-999,9,-999,9
      320696_3,    S04I,2,2,17,17,2,19960517,102,-58.567,20.9675,5313,1774.1,-0.059,34.6668,2,34.6677,2,223.2,2,222.8,2,128.7,2,32.87,2,0,2,2.27,2,-999,9,-999,9,-999,9,-999,9,-999,9
      320696_3,    S04I,2,2,16,16,2,19960517,102,-58.567,20.9675,5313,2022.3,-0.1271,34.6641,2,34.6655,2,228.3,2,227.3,2,130.3,2,32.71,2,0,2,2.27,2,-999,9,-999,9,-999,9,-999,9,-999,9
      320696_3,    S04I,2,2,15,15,2,19960517,102,-58.567,20.9675,5313,2284.4,-0.1841,34.6622,2,-999,4,231.6,2,230.4,2,129.8,2,32.66,2,0,2,2.25,2,-999,9,-999,9,-999,9,-999,9,-999,9
      320696_3,    S04I,2,2,14,14,2,19960517,102,-58.567,20.9675,5313,2540.3,-0.2288,34.6599,2,34.6611,2,234.3,2,233.3,2,129.1,2,32.56,2,0,2,2.25,2,-999,9,-999,9,-999,9,-999,9,-999,9
      320696_3,    S04I,2,2,13,13,2,19960517,102,-58.567,20.9675,5313,2794.4,-0.2606,34.6589,2,34.6588,2,235.5,2,235.4,2,128.6,2,32.51,2,0,2,2.23,2,-999,9,-999,9,-999,9,-999,9,-999,9
      320696_3,    S04I,2,2,12,12,2,19960517,102,-58.567,20.9675,5313,3049.9,-0.2889,34.6573,2,34.6578,2,237.2,2,237.6,2,128.1,2,32.41,2,0,2,2.24,2,-999,9,-999,9,-999,9,-999,9,-999,9
      320696_3,    S04I,2,2,11,11,2,19960517,102,-58.567,20.9675,5313,3304.3,-0.314,34.6556,2,34.6562,2,239.2,2,239.8,2,128.3,2,32.35,2,0,2,2.23,2,-999,9,-999,9,-999,9,-999,9,-999,9
      320696_3,    S04I,2,2,10,10,2,19960517,102,-58.567,20.9675,5313,3559.5,-0.3375,34.6549,2,34.6548,2,240.8,2,241.2,2,127.6,2,32.25,2,0,2,2.23,2,-999,9,-999,9,-999,9,-999,9,-999,9
      320696_3,    S04I,2,2,9,9,2,19960517,102,-58.567,20.9675,5313,3815.1,-0.3605,34.6531,2,34.6534,2,242.6,2,243.4,2,127.7,2,32.25,2,0,2,2.22,2,-999,9,-999,9,-999,9,-999,9,-999,9
      320696_3,    S04I,2,2,8,8,2,19960517,102,-58.567,20.9675,5313,4070,-0.3784,34.6515,2,34.6516,2,244.6,2,245.1,2,128.2,2,32.24,2,0,2,2.22,2,-999,9,-999,9,-999,9,-999,9,-999,9
      320696_3,    S04I,2,2,7,7,2,19960517,102,-58.567,20.9675,5313,4328.5,-0.3943,34.6502,2,34.6514,2,246.1,2,246.9,2,127.8,2,32.24,2,0,2,2.23,2,-999,9,-999,9,-999,9,-999,9,-999,9
      320696_3,    S04I,2,2,6,6,2,19960517,102,-58.567,20.9675,5313,4583.2,-0.3961,34.65,2,34.6506,2,247,2,247.8,2,127.7,2,32.19,2,0,2,2.22,2,-999,9,-999,9,-999,9,-999,9,-999,9
      320696_3,    S04I,2,2,5,5,2,19960517,102,-58.567,20.9675,5313,4841.1,-0.392,34.6489,2,34.6487,2,248.4,2,248.3,2,127.8,2,32.19,2,0,2,2.21,2,-999,9,-999,9,-999,9,-999,9,-999,9
      320696_3,    S04I,2,2,4,4,2,19960517,102,-58.567,20.9675,5313,5098.7,-0.3803,34.6482,2,34.6486,2,249.3,2,248.9,2,127.7,2,32.13,2,0,2,2.22,2,-999,9,-999,9,-999,9,-999,9,-999,9
      320696_3,    S04I,2,2,3,3,2,19960517,102,-58.567,20.9675,5313,5201.4,-0.3705,34.6482,2,34.648,2,249.6,2,249.8,2,127.9,2,32.18,2,0,2,2.22,2,-999,9,-999,9,-999,9,-999,9,-999,9
      320696_3,    S04I,2,2,2,2,2,19960517,102,-58.567,20.9675,5313,5303.6,-0.3631,34.6478,2,34.648,2,250.2,2,249.2,2,127.6,2,32.17,2,0.01,2,-999,4,-999,9,-999,9,-999,9,-999,9,-999,9
      320696_3,    S04I,2,2,1,1,2,19960517,102,-58.567,20.9675,5313,5373.3,-0.3635,34.6464,2,34.648,2,250.3,2,249.8,2,127.9,2,32.17,2,0,2,2.22,2,-999,9,-999,9,-999,9,-999,9,-999,9