BOTTLE,20211011SIOJHS,,,,,,,,,,,,,,,,,,,,,,,,,,,,,,,,,,,,,,
EXPOCODE,SECT_ID,STNNBR,CASTNO,SAMPNO,BTLNBR,BTLNBR_FLAG_W,DATE,TIME,LATITUDE,LONGITUDE,DEPTH,CTDPRS,CTDTMP,CTDSAL,CTDSAL_FLAG_W,SALNTY,SALNTY_FLAG_W,CTDOXY,CTDOXY_FLAG_W,OXYGEN,OXYGEN_FLAG_W,SILCAT,SILCAT_FLAG_W,NITRAT,NITRAT_FLAG_W,NITRIT,NITRIT_FLAG_W,PHSPHT,PHSPHT_FLAG_W,CFC-11,CFC-11_FLAG_W,CFC-12,CFC-12_FLAG_W,SF6,SF6_FLAG_W,TCARBN,TCARBN_FLAG_W,ALKALI,ALKALI_FLAG_W
,,,,,,,,,,,,DB,ITS-90,PSS-78,,PSS-78,,UMOL/KG,,UMOL/KG,,UMOL/KG,,UMOL/KG,,UMOL/KG,,UMOL/KG,,PMOL/KG,,PMOL/KG,,FMOL/KG,,UMOL/KG,,UMOL/KG,
      320696_3,    S04I,106,1,36,36,2,19960627,532,-62.0007,116.9143,4271,14,-1.4973,33.9778,2,33.9775,2,-999,4,346.7,2,35,2,28.03,2,0.26,2,1.98,2,6.594,2,3.171,2,-999,9,2170.3,2,2296,2
      320696_3,    S04I,106,1,35,35,2,19960627,532,-62.0007,116.9143,4271,32.8,-1.4907,33.9809,2,33.9771,2,-999,4,346.1,2,35,2,28.08,2,0.26,2,1.98,2,-999,9,-999,9,-999,9,2171.5,2,-999,9
      320696_3,    S04I,106,1,34,34,2,19960627,532,-62.0007,116.9143,4271,63.5,-1.4863,33.9808,2,33.9781,2,-999,4,345.9,2,35,2,28.08,2,0.26,2,1.98,2,6.588,2,3.194,2,-999,9,-999,9,-999,9
      320696_3,    S04I,106,1,33,33,2,19960627,532,-62.0007,116.9143,4271,98.7,-0.4991,34.0876,2,34.1133,2,-999,4,303.5,2,44.5,2,30.2,2,0.15,2,2.11,2,-999,9,-999,9,-999,9,-999,9,-999,9
      320696_3,    S04I,106,1,32,32,2,19960627,532,-62.0007,116.9143,4271,128.9,1.3332,34.4377,2,34.4377,2,-999,4,202.9,2,69.7,2,34.59,2,0.01,2,2.4,2,1.968,2,0.926,2,-999,9,-999,9,-999,9
      320696_3,    S04I,106,1,31,31,2,19960627,532,-62.0007,116.9143,4271,154,1.7135,34.5172,2,34.517,2,185.4,2,186.3,2,74.8,2,34.69,2,0,2,2.41,2,-999,9,-999,9,-999,9,-999,9,-999,9
      320696_3,    S04I,106,1,30,30,2,19960627,532,-62.0007,116.9143,4271,178.6,1.8332,34.5559,2,34.5552,2,182.2,2,179.2,2,77.1,2,34.54,2,0,2,2.41,2,0.908,2,0.437,2,-999,9,-999,9,-999,9
      320696_3,    S04I,106,1,29,29,2,19960627,532,-62.0007,116.9143,4271,204.4,1.8616,34.5774,2,34.576,2,178,2,177.2,2,78.7,2,34.49,2,0,2,2.4,2,-999,9,-999,9,-999,9,-999,9,-999,9
      320696_3,    S04I,106,1,28,28,2,19960627,532,-62.0007,116.9143,4271,252.9,1.8966,34.6219,2,34.62,2,178.7,2,178.4,2,81.2,2,33.88,2,0,2,2.35,2,0.573,2,0.292,2,-999,9,-999,9,-999,9
      320696_3,    S04I,106,1,27,27,2,19960627,532,-62.0007,116.9143,4271,294.1,1.9046,34.6403,2,34.6399,2,179.2,2,179,2,81.7,2,33.52,2,0,2,2.33,2,0.501,2,0.254,2,-999,9,-999,9,-999,9
      320696_3,    S04I,106,1,26,26,2,19960627,532,-62.0007,116.9143,4271,336.2,1.8925,34.6598,2,34.657,2,179.9,2,179.9,2,82.9,2,33.12,2,0,2,2.29,2,0.446,2,0.228,2,-999,9,-999,9,-999,9
      320696_3,    S04I,106,1,25,25,2,19960627,532,-62.0007,116.9143,4271,385.7,1.8962,34.6774,2,-999,4,181.2,2,181.2,2,83.4,2,32.61,2,0,2,2.25,2,-999,9,-999,9,-999,9,-999,9,-999,9
      320696_3,    S04I,106,1,24,24,2,19960627,532,-62.0007,116.9143,4271,435.7,1.8662,34.6881,2,34.6865,2,182.9,2,182.9,2,84.1,2,32.36,2,0,2,2.24,2,0.363,2,0.19,2,-999,9,-999,9,-999,9
      320696_3,    S04I,106,1,23,23,2,19960627,532,-62.0007,116.9143,4271,506.1,1.8495,34.7047,2,34.704,2,185.6,2,185.3,2,85.5,2,31.95,2,0,2,2.2,2,-999,9,-999,9,-999,9,-999,9,-999,9
      320696_3,    S04I,106,1,22,22,2,19960627,532,-62.0007,116.9143,4271,606.8,1.8176,34.723,2,34.7211,2,187.3,2,189.9,2,86.9,2,31.39,2,0,2,2.17,2,0.229,2,0.117,2,-999,9,-999,9,-999,9
      320696_3,    S04I,106,1,21,21,2,19960627,532,-62.0007,116.9143,4271,759.4,1.7196,34.7364,2,34.7348,2,193.4,2,193.5,2,89.9,2,30.94,2,0,2,2.14,2,-999,9,-999,9,-999,9,-999,9,-999,9
      320696_3,    S04I,106,1,20,20,2,19960627,532,-62.0007,116.9143,4271,910.6,1.622,34.7399,2,34.7388,2,196.1,2,197.2,2,92.7,2,30.73,2,0,2,2.12,2,0.157,2,0.072,2,-999,9,-999,9,-999,9
      320696_3,    S04I,106,1,19,19,2,19960627,532,-62.0007,116.9143,4271,1061.6,1.4674,34.7379,2,34.7374,2,198.7,2,198.2,2,96.4,2,30.78,2,0,2,2.13,2,0.16,2,0.071,2,-999,9,-999,9,-999,9
      320696_3,    S04I,106,1,18,18,2,19960627,532,-62.0007,116.9143,4271,1210.9,1.3673,34.7363,2,34.7357,2,201.4,2,201,2,99.6,2,30.83,2,0,2,2.14,2,0.115,2,0.053,2,-999,9,-999,9,-999,9
      320696_3,    S04I,106,1,17,17,2,19960627,532,-62.0007,116.9143,4271,1414.9,1.1491,34.7249,2,34.7241,2,204.1,2,203.5,2,105.5,2,31.19,2,0,2,2.16,2,-999,9,-999,9,-999,9,-999,9,-999,9
      320696_3,    S04I,106,1,16,16,2,19960627,532,-62.0007,116.9143,4271,1618.8,1.0046,34.7201,2,34.7184,2,205.9,2,205.6,2,110.5,2,31.44,2,0,2,2.19,2,0.116,2,0.046,2,-999,9,-999,9,-999,9
      320696_3,    S04I,106,1,15,15,2,19960627,532,-62.0007,116.9143,4271,1821.9,0.8602,34.7126,2,34.7111,2,207.2,2,207,2,114.8,2,31.74,2,0,2,2.2,2,-999,9,-999,9,-999,9,-999,9,-999,9
      320696_3,    S04I,106,1,14,14,2,19960627,532,-62.0007,116.9143,4271,2024.6,0.6879,34.7036,2,34.7019,2,209.5,2,209.3,2,119.5,2,32.05,2,0,2,2.22,2,-999,9,-999,9,-999,9,-999,9,-999,9
      320696_3,    S04I,106,1,13,13,2,19960627,532,-62.0007,116.9143,4271,2227.3,0.5508,34.6967,2,34.696,2,211.6,2,211,2,123.1,2,32.3,2,0,2,2.24,2,-999,9,-999,9,-999,9,-999,9,-999,9
      320696_3,    S04I,106,1,12,12,2,19960627,532,-62.0007,116.9143,4271,2432.9,0.4236,34.6917,2,34.6911,2,214.6,2,214.6,2,125.8,2,32.35,2,0,2,2.25,2,0.15,2,0.091,2,-999,9,-999,9,-999,9
      320696_3,    S04I,106,1,11,11,2,19960627,532,-62.0007,116.9143,4271,2634.3,0.3305,34.688,2,34.6862,2,217.9,2,218.1,2,127.6,2,32.35,2,0,2,2.25,2,-999,9,-999,9,-999,9,-999,9,-999,9
      320696_3,    S04I,106,1,10,10,2,19960627,532,-62.0007,116.9143,4271,2838.5,0.2457,34.6849,2,34.6829,2,220,2,220,2,129.4,2,32.35,2,0,2,2.26,2,-999,9,-999,9,-999,9,-999,9,-999,9
      320696_3,    S04I,106,1,9,9,2,19960627,532,-62.0007,116.9143,4271,3042.7,0.1615,34.6818,2,34.6797,2,223.6,2,224,2,130.1,2,32.35,2,0,2,2.24,2,-999,9,-999,9,-999,9,2256.2,2,-999,9
      320696_3,    S04I,106,1,63,63,2,19960627,532,-62.0007,116.9143,4271,3245,0.0952,34.6794,2,34.6778,2,226.1,2,226,2,130.1,2,32.35,2,0,2,2.24,2,0.36,2,0.192,2,-999,9,-999,9,-999,9
      320696_3,    S04I,106,1,7,7,2,19960627,532,-62.0007,116.9143,4271,3449.6,0.045,34.677,2,34.6766,2,228.7,2,229.2,2,130.6,2,32.3,2,0,2,2.24,2,-999,9,-999,9,-999,9,-999,9,-999,9
      320696_3,    S04I,106,1,6,6,2,19960627,532,-62.0007,116.9143,4271,3655.4,-0.0174,34.6749,2,34.6747,2,231.5,2,231.2,2,129.1,2,32.25,2,0,2,2.23,2,0.599,2,0.312,2,-999,9,-999,9,-999,9
      320696_3,    S04I,106,1,5,5,2,19960627,532,-62.0007,116.9143,4271,3860.2,-0.0562,34.6739,2,34.6727,2,233.3,2,233.8,2,129.4,2,32.2,2,0,2,2.23,2,-999,9,-999,9,-999,9,-999,9,-999,9
      320696_3,    S04I,106,1,39,39,2,19960627,532,-62.0007,116.9143,4271,4065,-0.0957,34.672,2,34.6712,2,234.8,2,234.7,2,135.3,2,32.25,2,0,2,2.24,2,0.918,2,0.475,2,-999,9,-999,9,-999,9
      320696_3,    S04I,106,1,3,3,2,19960627,532,-62.0007,116.9143,4271,4167.1,-0.1239,34.6697,2,34.6694,2,236.2,2,236.4,2,136,2,32.25,2,0,2,2.24,2,1.153,2,0.575,2,-999,9,-999,9,-999,9
      320696_3,    S04I,106,1,2,2,2,19960627,532,-62.0007,116.9143,4271,4270.1,-0.1629,34.6667,2,34.6661,2,237.7,2,237.9,2,134.3,2,32.14,2,0,2,2.24,2,1.542,2,0.722,2,-999,9,-999,9,-999,9
      320696_3,    S04I,106,1,1,1,2,19960627,532,-62.0007,116.9143,4271,4308.9,-0.162,34.6669,2,34.6659,2,238.7,2,238.3,2,133.5,2,32.19,2,0.01,2,2.24,2,1.567,2,0.74,2,-999,9,-999,9,-999,9
      320696_3,    S04I,107,1,36,36,2,19960627,1240,-62,118.5002,4236,14.8,-1.5681,33.8678,2,33.867,2,-999,4,349.7,2,29.6,2,27.39,2,0.3,2,1.94,2,6.712,2,3.179,2,-999,9,2159.2,2,2293,6
      320696_3,    S04I,107,1,35,35,2,19960627,1240,-62,118.5002,4236,39.4,-1.5679,33.8672,2,33.8668,2,-999,4,349.7,2,29.6,2,27.39,2,0.3,2,1.93,2,6.767,2,3.191,2,-999,9,2160.1,2,2290,2
      320696_3,    S04I,107,1,34,34,2,19960627,1240,-62,118.5002,4236,79.5,-1.5601,33.8689,2,33.869,2,-999,4,348.9,2,29.6,2,27.44,2,0.3,2,1.94,2,6.692,2,3.183,2,-999,9,2159.4,2,2290,2
      320696_3,    S04I,107,1,33,33,2,19960627,1240,-62,118.5002,4236,109.3,-0.4933,34.0669,2,34.0652,2,-999,4,305.5,2,41.9,2,29.89,2,0.18,2,2.1,2,5.415,2,2.557,2,-999,9,2186.3,2,2300,2
      320696_3,    S04I,107,1,32,32,2,19960627,1240,-62,118.5002,4236,155.3,1.5282,34.4867,2,34.4844,2,188.8,2,191.6,2,74.2,2,34.9,2,0.01,2,2.41,2,1.525,2,0.727,2,-999,9,2248.2,2,2325,2
      320696_3,    S04I,107,1,31,31,2,19960627,1240,-62,118.5002,4236,195.3,1.8084,34.5586,2,34.5596,2,180.9,2,179.9,2,78.9,2,34.7,2,0,2,2.4,2,-999,9,-999,9,-999,9,2253.9,2,2331,2
      320696_3,    S04I,107,1,30,30,2,19960627,1240,-62,118.5002,4236,234.8,1.881,34.5986,2,34.5993,2,178.5,2,177.1,2,80.7,2,34.29,2,0,2,2.37,2,0.669,2,0.343,2,-999,9,2255.8,2,2340,2
      320696_3,    S04I,107,1,29,29,2,19960627,1240,-62,118.5002,4236,263.1,1.8906,34.6166,2,34.617,2,176.6,2,176.6,2,82.1,2,34.03,2,0,2,2.35,2,0.6,2,0.299,2,-999,9,2254.6,2,2333,2
      320696_3,    S04I,107,1,28,28,2,19960627,1240,-62,118.5002,4236,287,1.9055,34.6305,2,34.6289,2,176.8,2,176.6,2,82.8,2,33.88,2,0,2,2.34,2,0.541,2,0.272,2,-999,9,2257.3,2,2339,2
      320696_3,    S04I,107,1,27,27,2,19960627,1240,-62,118.5002,4236,308.5,1.9164,34.6426,2,34.6427,2,176.8,2,177,2,83.3,2,33.63,2,0,2,2.31,2,0.484,2,0.243,2,-999,9,2255.6,2,2342,2
      320696_3,    S04I,107,1,26,26,2,19960627,1240,-62,118.5002,4236,344.5,1.9299,34.6641,2,34.6631,2,178.8,2,178.9,2,83.9,2,33.12,2,0,2,2.28,2,0.406,2,0.207,2,-999,9,2255.7,2,2343,2
      320696_3,    S04I,107,1,25,25,2,19960627,1240,-62,118.5002,4236,401.2,1.8545,34.6769,2,34.6777,2,181.1,2,181.6,2,85,2,32.76,2,0,2,2.25,2,0.415,2,0.208,2,-999,9,2254,2,2340,2
      320696_3,    S04I,107,1,24,24,2,19960627,1240,-62,118.5002,4236,455.6,1.833,34.688,2,34.6877,2,182.3,2,183.4,2,85.7,2,32.45,2,0,2,2.23,2,0.395,2,0.196,2,-999,9,2252.4,2,2343,2
      320696_3,    S04I,107,1,23,23,2,19960627,1240,-62,118.5002,4236,506.9,1.8426,34.7027,2,34.702,2,184.8,2,185.3,2,86.2,2,32.05,2,0,2,2.2,2,0.327,2,0.165,2,-999,9,2251.4,2,2344,2
      320696_3,    S04I,107,1,22,22,2,19960627,1240,-62,118.5002,4236,607.7,1.825,34.7199,2,34.7193,2,186.2,2,187.9,2,87.8,2,31.64,2,0,2,2.17,2,0.249,2,0.124,2,-999,9,2250.3,2,2349,2
      320696_3,    S04I,107,1,21,21,2,19960627,1240,-62,118.5002,4236,809.8,1.6969,34.7373,2,34.7374,2,193.1,2,193.9,2,91.7,2,31.03,2,0,2,2.14,2,0.169,2,0.081,2,-999,9,2249.8,2,2348,2
      320696_3,    S04I,107,1,20,20,2,19960627,1240,-62,118.5002,4236,911.3,1.6215,34.7398,2,34.7386,2,196,2,196.1,2,93.8,2,30.93,2,0,2,2.13,2,0.148,2,0.076,2,-999,9,2249.9,2,2354,2
      320696_3,    S04I,107,1,19,19,2,19960627,1240,-62,118.5002,4236,1010.7,1.5416,34.739,2,34.739,2,197.7,2,198.6,2,95.7,2,30.88,2,0,2,2.12,2,0.155,2,0.078,2,-999,9,2249.7,2,2356,2
      320696_3,    S04I,107,1,18,18,2,19960627,1240,-62,118.5002,4236,1215.4,1.3625,34.7357,2,34.7364,2,201.1,2,201.1,2,101.1,2,30.98,2,0,2,2.14,2,0.122,2,0.06,2,-999,9,2251.6,2,2358,2
      320696_3,    S04I,107,1,17,17,2,19960627,1240,-62,118.5002,4236,1417.2,1.1909,34.7287,2,34.7288,2,203.3,2,202.6,2,106.4,2,31.08,2,0,2,2.14,2,0.104,2,0.053,2,-999,9,2255.2,2,2361,2
      320696_3,    S04I,107,1,16,16,2,19960627,1240,-62,118.5002,4236,1666.3,1.0015,34.7198,2,34.7195,2,205.7,2,204.9,2,112.2,2,31.59,2,0,2,2.17,2,0.102,2,0.055,2,-999,9,2256,2,2361,2
      320696_3,    S04I,107,1,15,15,2,19960627,1240,-62,118.5002,4236,1867,0.8506,34.7112,2,34.7119,2,207.2,2,206.8,2,116.3,2,31.8,2,0,2,2.19,2,0.109,2,0.065,2,-999,9,2258.1,2,2361,2
      320696_3,    S04I,107,1,14,14,2,19960627,1240,-62,118.5002,4236,2068.9,0.6996,34.7041,2,34.7054,2,209,2,208.5,2,120.6,2,32.15,2,0,2,2.22,2,0.114,2,0.053,2,-999,9,2259,2,2362,2
      320696_3,    S04I,107,1,13,13,2,19960627,1240,-62,118.5002,4236,2267.3,0.5576,34.6967,2,34.6973,2,211.3,2,210.8,2,124.1,2,32.36,2,0,2,2.24,2,0.132,2,0.064,2,-999,9,2259.6,2,-999,9
      320696_3,    S04I,107,1,12,12,2,19960627,1240,-62,118.5002,4236,2472,0.4264,34.6911,2,34.6918,2,214.5,2,214.9,2,126.8,2,32.41,2,0,2,2.24,2,0.155,2,0.072,2,-999,9,2259,2,2357,2
      320696_3,    S04I,107,1,11,11,2,19960627,1240,-62,118.5002,4236,2681.4,0.3058,34.6865,2,34.6865,2,218,2,217.9,2,128.6,2,32.46,2,0,2,2.24,2,0.206,2,0.114,2,-999,9,2258.9,2,2360,2
      320696_3,    S04I,107,1,10,10,2,19960627,1240,-62,118.5002,4236,2883.1,0.2182,34.6837,2,34.6836,2,220.8,2,221.2,2,130.4,2,32.46,2,0,2,2.25,2,0.248,2,0.128,2,-999,9,2256.9,2,2355,2
      320696_3,    S04I,107,1,9,9,2,19960627,1240,-62,118.5002,4236,3083.3,0.1444,34.681,2,34.6814,2,223.8,2,223.9,2,132.4,2,32.46,2,0,2,2.25,2,0.293,2,0.151,2,-999,9,2257.9,2,2358,2
      320696_3,    S04I,107,1,63,63,2,19960627,1240,-62,118.5002,4236,3294.8,0.0711,34.6783,2,-999,3,226.4,2,226.8,2,132.7,2,32.36,2,0,2,2.24,2,0.375,2,0.193,2,-999,9,2257.6,2,2354,2
      320696_3,    S04I,107,1,7,7,2,19960627,1240,-62,118.5002,4236,3502,0.0131,34.6762,2,34.6757,2,228.7,2,229.3,2,131.4,2,32.41,2,0,2,2.23,2,0.491,2,0.276,2,-999,9,2258.5,2,2360,2
      320696_3,    S04I,107,1,6,6,2,19960627,1240,-62,118.5002,4236,3706.2,-0.0443,34.6741,2,34.6751,2,232.3,2,232.2,2,129.1,2,32.31,2,0,2,2.23,2,0.666,2,0.342,2,-999,9,2255.2,2,2356,2
      320696_3,    S04I,107,1,5,5,2,19960627,1240,-62,118.5002,4236,3912.1,-0.0876,34.6723,2,34.6732,2,234.8,2,235,2,130,2,32.26,2,0,2,2.23,2,0.841,2,0.423,2,-999,9,2255.9,2,2357,2
      320696_3,    S04I,107,1,39,39,2,19960627,1240,-62,118.5002,4236,4064.9,-0.1191,34.6706,2,-999,3,236.2,2,236.1,2,131.3,2,32.26,2,0,2,2.23,2,1.071,2,0.522,2,-999,9,2255.8,2,2353,2
      320696_3,    S04I,107,1,3,3,2,19960627,1240,-62,118.5002,4236,4168.7,-0.1695,34.6671,2,34.6679,2,239.2,2,238.7,2,126.3,2,32.16,2,0,2,2.22,2,1.475,2,0.705,2,-999,9,2254.8,2,2356,2
      320696_3,    S04I,107,1,2,2,2,19960627,1240,-62,118.5002,4236,4228.9,-0.1878,34.6648,2,-999,3,239.9,2,239.3,2,128.6,2,32.16,2,0,2,2.22,2,1.684,2,0.791,2,-999,9,2255.1,2,2359,2
      320696_3,    S04I,107,1,1,1,2,19960627,1240,-62,118.5002,4236,4271.4,-0.1838,34.665,2,-999,3,239.9,2,239.6,2,128.8,2,32.21,2,0.01,2,2.22,2,1.667,2,0.793,2,-999,9,2255.2,2,2356,2