BOTTLE,20211011SIOJHS,,,,,,,,,,,,,,,,,,,,,,,,,,,,,,,,,,,,,,
EXPOCODE,SECT_ID,STNNBR,CASTNO,SAMPNO,BTLNBR,BTLNBR_FLAG_W,DATE,TIME,LATITUDE,LONGITUDE,DEPTH,CTDPRS,CTDTMP,CTDSAL,CTDSAL_FLAG_W,SALNTY,SALNTY_FLAG_W,CTDOXY,CTDOXY_FLAG_W,OXYGEN,OXYGEN_FLAG_W,SILCAT,SILCAT_FLAG_W,NITRAT,NITRAT_FLAG_W,NITRIT,NITRIT_FLAG_W,PHSPHT,PHSPHT_FLAG_W,CFC-11,CFC-11_FLAG_W,CFC-12,CFC-12_FLAG_W,SF6,SF6_FLAG_W,TCARBN,TCARBN_FLAG_W,ALKALI,ALKALI_FLAG_W
,,,,,,,,,,,,DB,ITS-90,PSS-78,,PSS-78,,UMOL/KG,,UMOL/KG,,UMOL/KG,,UMOL/KG,,UMOL/KG,,UMOL/KG,,PMOL/KG,,PMOL/KG,,FMOL/KG,,UMOL/KG,,UMOL/KG,
      320696_3,    S04I,3,1,36,36,2,19960517,849,-59.125,21.9047,5368,28.9,0.3574,33.8936,2,33.8948,2,-999,4,338,2,41.3,2,24.46,2,0.3,2,1.71,2,-999,9,-999,9,-999,9,-999,9,2301,6
      320696_3,    S04I,3,1,35,35,2,19960517,849,-59.125,21.9047,5368,53.9,0.3584,33.8934,2,33.895,2,-999,4,337.6,2,41.2,2,24.41,2,0.29,2,1.7,2,-999,9,-999,9,-999,9,2158,2,2294,2
      320696_3,    S04I,3,1,34,34,2,19960517,849,-59.125,21.9047,5368,84.6,0.3611,33.8936,2,33.8933,2,-999,4,337.3,2,41.2,2,24.45,2,0.3,2,1.69,2,-999,9,-999,9,-999,9,2162.1,2,2295,2
      320696_3,    S04I,3,1,33,33,2,19960517,849,-59.125,21.9047,5368,114.8,0.3576,33.8986,2,33.8986,2,-999,4,338.1,2,41.3,2,24.45,2,0.3,2,1.7,2,-999,9,-999,9,-999,9,2162.1,2,2300,2
      320696_3,    S04I,3,1,32,32,2,19960517,849,-59.125,21.9047,5368,155.8,-0.8045,34.1723,2,34.158,2,-999,4,323.8,2,65.3,2,28.42,2,0.3,2,2.02,2,-999,9,-999,9,-999,9,2201.4,2,2312,2
      320696_3,    S04I,3,1,31,31,2,19960517,849,-59.125,21.9047,5368,205.2,-0.4222,34.3693,2,34.3692,2,-999,4,274.1,2,80.5,2,31.29,2,0.01,2,2.16,2,-999,9,-999,9,-999,9,2229.3,2,2327,2
      320696_3,    S04I,3,1,30,30,2,19960517,849,-59.125,21.9047,5368,256.2,0.2632,34.5233,2,34.5241,2,-999,4,228.4,2,90.6,2,32.53,2,0.01,2,2.26,2,-999,9,-999,9,-999,9,2248.2,2,2335,2
      320696_3,    S04I,3,1,29,29,2,19960517,849,-59.125,21.9047,5368,304.4,0.9922,34.637,2,34.6406,2,-999,4,199.2,2,96.1,2,32.78,2,0,2,2.27,2,-999,9,-999,9,-999,9,2257.4,2,2346,2
      320696_3,    S04I,3,1,28,28,2,19960517,849,-59.125,21.9047,5368,354.9,1.1916,34.6822,2,34.6829,2,194.1,2,195.1,2,97.6,2,32.28,2,0.01,2,2.23,2,-999,9,-999,9,-999,9,2257.7,2,2346,2
      320696_3,    S04I,3,1,27,27,2,19960517,849,-59.125,21.9047,5368,415.8,1.1661,34.6946,2,34.6953,2,194.2,2,195.8,2,99.6,2,32.08,2,0.01,2,2.2,2,-999,9,-999,9,-999,9,2257.3,2,2351,2
      320696_3,    S04I,3,1,26,26,2,19960517,849,-59.125,21.9047,5368,479.9,1.1249,34.7015,2,34.7024,2,194.9,2,198.5,2,101.7,2,31.88,2,0,2,2.2,2,-999,9,-999,9,-999,9,2258.6,2,2349,2
      320696_3,    S04I,3,1,25,25,2,19960517,849,-59.125,21.9047,5368,546.2,1.0439,34.7031,2,34.7043,2,201.4,2,200.1,2,104.2,2,31.87,2,0.01,2,2.2,2,-999,9,-999,9,-999,9,2257.2,2,2352,2
      320696_3,    S04I,3,1,24,24,2,19960517,849,-59.125,21.9047,5368,580.8,0.9776,34.7014,2,34.7024,2,201.5,2,202.1,2,105.4,2,32.03,2,0,2,2.2,2,-999,9,-999,9,-999,9,2258.8,2,2351,2
      320696_3,    S04I,3,1,23,23,2,19960517,849,-59.125,21.9047,5368,642.3,0.8282,34.6962,2,34.6975,2,202.8,2,201.9,2,109.4,2,32.22,2,0.01,2,2.21,2,-999,9,-999,9,-999,9,2260.7,2,2355,2
      320696_3,    S04I,3,1,22,22,2,19960517,849,-59.125,21.9047,5368,717.9,0.6632,34.6863,2,34.6865,2,201.6,2,202.6,2,113.2,2,32.62,2,0,2,2.25,2,-999,9,-999,9,-999,9,2262.5,2,2352,2
      320696_3,    S04I,3,1,21,21,2,19960517,849,-59.125,21.9047,5368,818.7,0.6235,34.6903,2,34.6912,2,203.2,2,203.3,2,115.6,2,32.62,2,0,2,2.24,2,-999,9,-999,9,-999,9,2264.2,2,2353,2
      320696_3,    S04I,3,1,20,20,2,19960517,849,-59.125,21.9047,5368,969.6,0.483,34.6834,2,34.6847,2,204.3,2,201.7,2,119.4,2,33.17,2,0,2,2.3,2,-999,9,-999,9,-999,9,2266.8,2,2354,2
      320696_3,    S04I,3,1,19,19,2,19960517,849,-59.125,21.9047,5368,1122.8,0.4351,34.6846,2,34.6861,2,205.5,2,202.9,2,122.1,2,33.07,2,0,2,2.28,2,-999,9,-999,9,-999,9,2266.3,2,2352,2
      320696_3,    S04I,3,1,18,18,2,19960517,849,-59.125,21.9047,5368,1274.9,0.3763,34.6833,2,34.6846,2,207.6,2,206.6,2,124.1,2,33.12,2,0,2,2.28,2,-999,9,-999,9,-999,9,2266.2,2,2356,2
      320696_3,    S04I,3,1,17,17,2,19960517,849,-59.125,21.9047,5368,1522.9,0.2682,34.6792,2,34.68,2,211.8,2,211.7,2,126.2,2,33.07,2,0,2,2.27,2,-999,9,-999,9,-999,9,2265.6,2,2352,2
      320696_3,    S04I,3,1,16,16,2,19960517,849,-59.125,21.9047,5368,1776.4,0.1813,34.6756,2,34.6763,2,215.6,2,215.8,2,127.6,2,32.97,2,0,2,2.27,2,-999,9,-999,9,-999,9,2263.1,2,2357,2
      320696_3,    S04I,3,1,15,15,2,19960517,849,-59.125,21.9047,5368,2025,0.0965,34.6715,2,34.673,2,219.6,2,218.8,2,128.3,2,32.87,2,0,2,2.27,2,-999,9,-999,9,-999,9,2257.6,2,2356,2
      320696_3,    S04I,3,1,14,14,2,19960517,849,-59.125,21.9047,5368,2280.3,0.0106,34.6681,2,34.6691,2,223.3,2,224,2,128.8,2,32.82,2,0,2,2.26,2,-999,9,-999,9,-999,9,2260.7,2,2357,2
      320696_3,    S04I,3,1,13,13,2,19960517,849,-59.125,21.9047,5368,2543,-0.0599,34.6649,2,34.6654,2,226.9,2,227.3,2,128.7,2,32.77,2,0,2,2.26,2,-999,9,-999,9,-999,9,2262,2,2352,2
      320696_3,    S04I,3,1,12,12,2,19960517,849,-59.125,21.9047,5368,2796.8,-0.1149,34.6625,2,34.6634,2,229.8,2,229.9,2,128.5,2,32.67,2,0,2,2.26,2,-999,9,-999,9,-999,9,2257.7,2,2353,2
      320696_3,    S04I,3,1,11,11,2,19960517,849,-59.125,21.9047,5368,3051,-0.1573,34.6607,2,34.6613,2,232.6,2,232.5,2,128.8,2,32.62,2,0,2,2.27,2,-999,9,-999,9,-999,9,2257.2,2,2351,2
      320696_3,    S04I,3,1,10,10,2,19960517,849,-59.125,21.9047,5368,3359,-0.1921,34.659,2,34.6589,2,235,2,236.5,2,128.7,2,32.52,2,0,2,2.26,2,-999,9,-999,9,-999,9,2255.8,2,2356,2
      320696_3,    S04I,3,1,9,9,2,19960517,849,-59.125,21.9047,5368,3667.8,-0.2253,34.6573,2,34.6577,2,237.3,2,237.8,2,128.4,2,32.47,2,0,2,2.25,2,-999,9,-999,9,-999,9,2252.9,2,-999,9
      320696_3,    S04I,3,1,8,8,2,19960517,849,-59.125,21.9047,5368,3969.9,-0.2527,34.6551,2,34.6558,2,239.3,2,240.4,2,128,2,32.36,2,0,2,2.24,2,-999,9,-999,9,-999,9,2252.6,2,2354,2
      320696_3,    S04I,3,1,7,7,2,19960517,849,-59.125,21.9047,5368,4270.8,-0.2676,34.6543,2,34.6554,2,241,2,-999,4,129.2,2,32.36,2,0,2,2.24,2,-999,9,-999,9,-999,9,2252.5,2,2354,2
      320696_3,    S04I,3,1,6,6,2,19960517,849,-59.125,21.9047,5368,4569,-0.2844,34.6529,2,34.6534,2,242.8,2,-999,4,129.9,2,32.36,2,0,2,2.22,2,-999,9,-999,9,-999,9,2252.8,2,2354,2
      320696_3,    S04I,3,1,5,5,2,19960517,849,-59.125,21.9047,5368,4820.8,-0.2892,34.6519,2,34.6523,2,244.1,2,244.2,2,130.6,2,32.31,2,0,2,2.23,2,-999,9,-999,9,-999,9,2252.2,2,2353,2
      320696_3,    S04I,3,1,4,4,2,19960517,849,-59.125,21.9047,5368,5078,-0.2955,34.6513,2,34.6515,2,245.5,2,245.3,2,130.9,2,32.31,2,0,2,2.21,2,-999,9,-999,9,-999,9,2250.9,2,-999,9
      320696_3,    S04I,3,1,3,3,2,19960517,849,-59.125,21.9047,5368,5230.7,-0.2973,34.6503,2,34.6511,2,246.3,2,246.7,2,131,2,32.31,2,0,2,2.23,2,-999,9,-999,9,-999,9,2251,2,2354,2
      320696_3,    S04I,3,1,2,2,2,19960517,849,-59.125,21.9047,5368,5332.6,-0.2966,34.6497,2,34.6507,2,246.7,2,246.9,2,130.9,2,32.3,2,0,2,2.23,2,-999,9,-999,9,-999,9,2251.1,2,-999,9
      320696_3,    S04I,3,1,1,1,2,19960517,849,-59.125,21.9047,5368,5436.8,-0.2992,34.6495,2,34.6502,2,247.3,2,246.7,2,131.4,2,32.3,2,0.01,2,2.25,2,-999,9,-999,9,-999,9,2251.1,2,2354,2
      320696_3,    S04I,4,1,36,36,2,19960517,1625,-59.7,22.8865,5329,34.7,0.4374,33.8654,2,33.8652,2,-999,4,339,2,39.8,2,23.48,2,0.29,2,1.63,2,6.238,2,3.07,2,-999,9,2158.9,2,-999,9
      320696_3,    S04I,4,1,35,35,2,19960517,1625,-59.7,22.8865,5329,53.8,0.4458,33.8665,2,33.866,2,-999,4,338.9,2,39.8,2,23.48,2,0.29,2,1.63,2,-999,9,-999,9,-999,9,2159.4,2,-999,9
      320696_3,    S04I,4,1,34,34,2,19960517,1625,-59.7,22.8865,5329,69,0.4525,33.8675,2,33.8676,2,-999,4,338.5,2,40.1,2,23.52,2,0.29,2,1.64,2,6.246,2,3.094,2,-999,9,-999,9,-999,9
      320696_3,    S04I,4,1,33,33,2,19960517,1625,-59.7,22.8865,5329,92.1,0.4696,33.871,2,33.8715,2,-999,4,338.4,2,40.3,2,23.52,2,0.29,2,1.63,2,-999,9,-999,9,-999,9,-999,9,-999,9
      320696_3,    S04I,4,1,32,32,2,19960517,1625,-59.7,22.8865,5329,117.8,0.4433,33.8955,2,33.8941,2,-999,4,337.6,2,41.5,2,23.75,2,0.3,2,1.66,2,6.228,2,3.086,2,-999,9,-999,9,-999,9
      320696_3,    S04I,4,1,31,31,2,19960517,1625,-59.7,22.8865,5329,180.7,-0.7292,34.2925,2,34.2915,2,-999,4,298.1,2,75.8,2,30.43,2,0.01,2,2.1,2,-999,9,-999,9,-999,9,-999,9,-999,9
      320696_3,    S04I,4,1,30,30,2,19960517,1625,-59.7,22.8865,5329,220.1,0.1829,34.5199,2,34.5058,2,-999,4,234.9,2,90.9,2,32.32,2,0.01,2,2.23,2,2.67,2,1.219,2,-999,9,-999,9,-999,9
      320696_3,    S04I,4,1,29,29,2,19960517,1625,-59.7,22.8865,5329,271.2,0.7435,34.6402,2,34.6382,2,-999,3,204.5,2,100,2,32.71,2,0,2,2.26,2,-999,9,-999,9,-999,9,-999,9,-999,9
      320696_3,    S04I,4,1,28,28,2,19960517,1625,-59.7,22.8865,5329,321.7,0.9648,34.6838,2,34.6828,2,-999,3,199.1,2,102.7,2,32.26,2,0,2,2.23,2,0.542,2,0.286,2,-999,9,-999,9,-999,9
      320696_3,    S04I,4,1,27,27,2,19960517,1625,-59.7,22.8865,5329,371.1,0.9165,34.6923,2,34.6929,2,198.2,2,200.6,2,105.6,2,32.16,2,0,2,2.22,2,-999,9,-999,9,-999,9,-999,9,-999,9
      320696_3,    S04I,4,1,26,26,2,19960517,1625,-59.7,22.8865,5329,472.2,0.772,34.6949,2,34.6938,2,201.1,2,201.7,2,110.4,2,32.21,2,0.01,2,2.23,2,0.365,2,0.236,2,-999,9,-999,9,-999,9
      320696_3,    S04I,4,1,25,25,2,19960517,1625,-59.7,22.8865,5329,573.9,0.627,34.6923,2,34.6931,2,201.4,2,203.5,2,114.6,2,32.4,2,0.01,2,2.24,2,0.3,2,0.158,2,-999,9,-999,9,-999,9
      320696_3,    S04I,4,1,24,24,2,19960517,1625,-59.7,22.8865,5329,723.8,0.4981,34.6878,2,34.6874,2,202.9,2,201.6,2,119.2,2,33.05,2,0.01,2,2.28,2,0.253,2,0.143,2,-999,9,-999,9,-999,9
      320696_3,    S04I,4,1,23,23,2,19960517,1625,-59.7,22.8865,5329,922.7,0.4115,34.686,2,34.6852,2,204.4,2,204.3,2,122.5,2,33.05,2,0,2,2.28,2,0.162,2,0.087,2,-999,9,-999,9,-999,9
      320696_3,    S04I,4,1,22,22,2,19960517,1625,-59.7,22.8865,5329,1129.4,0.3228,34.6827,2,34.6819,2,207.1,2,206.2,2,125,2,33.15,2,0,2,2.28,2,0.163,2,0.086,2,-999,9,-999,9,-999,9
      320696_3,    S04I,4,1,21,21,2,19960517,1625,-59.7,22.8865,5329,1331.7,0.2312,34.6791,2,34.6789,2,211.6,2,210.4,2,126.7,2,33.05,2,0,2,2.28,2,-999,9,-999,9,-999,9,-999,9,-999,9
      320696_3,    S04I,4,1,20,20,2,19960517,1625,-59.7,22.8865,5329,1534.6,0.1464,34.6758,2,34.6758,2,214.8,2,214.9,2,127.6,2,32.95,2,0,2,2.27,2,-999,9,-999,9,-999,9,-999,9,-999,9
      320696_3,    S04I,4,1,19,19,2,19960517,1625,-59.7,22.8865,5329,1738.1,0.0745,34.6726,2,34.6729,2,218.1,2,218,2,128.1,2,32.94,2,0,2,2.28,2,-999,9,-999,9,-999,9,-999,9,-999,9
      320696_3,    S04I,4,1,18,18,2,19960517,1625,-59.7,22.8865,5329,1940.6,0.015,34.6699,2,34.6697,2,221.8,2,221.8,2,128.4,2,32.79,2,0,2,2.27,2,0.16,2,0.1,2,-999,9,-999,9,-999,9
      320696_3,    S04I,4,1,17,17,2,19960517,1625,-59.7,22.8865,5329,2143.5,-0.0541,34.6671,2,34.667,2,225.2,2,224.7,2,128.8,2,32.74,2,0,2,2.27,2,-999,9,-999,9,-999,9,-999,9,-999,9
      320696_3,    S04I,4,1,16,16,2,19960517,1625,-59.7,22.8865,5329,2347.4,-0.1107,34.6649,2,34.6638,2,227.9,2,228.4,2,129.1,2,32.69,2,0,2,2.26,2,0.175,2,0.102,2,-999,9,-999,9,-999,9
      320696_3,    S04I,4,1,15,15,2,19960517,1625,-59.7,22.8865,5329,2550.1,-0.1556,34.6628,2,34.6621,2,230.6,2,231.3,2,128.5,2,32.64,2,0,2,2.26,2,-999,9,-999,9,-999,9,-999,9,-999,9
      320696_3,    S04I,4,1,14,14,2,19960517,1625,-59.7,22.8865,5329,2755,-0.1965,34.6613,2,34.6605,2,233.2,2,233.3,2,128.4,2,32.49,2,0,2,2.26,2,0.193,2,0.113,2,-999,9,-999,9,-999,9
      320696_3,    S04I,4,1,13,13,2,19960517,1625,-59.7,22.8865,5329,2958.4,-0.2218,34.6599,2,34.6597,2,234.9,2,235,2,128.2,2,32.48,2,0,2,2.25,2,-999,9,-999,9,-999,9,-999,9,-999,9
      320696_3,    S04I,4,1,12,12,2,19960517,1625,-59.7,22.8865,5329,3162.3,-0.2506,34.6583,2,34.6586,2,237,2,237.3,2,128.2,2,32.39,2,0,2,2.25,2,0.209,2,0.123,2,-999,9,-999,9,-999,9
      320696_3,    S04I,4,1,11,11,2,19960517,1625,-59.7,22.8865,5329,3366.8,-0.2783,34.6572,2,34.6572,2,239,2,238.6,2,127.8,2,32.34,2,0,2,2.24,2,-999,9,-999,9,-999,9,-999,9,-999,9
      320696_3,    S04I,4,1,10,10,2,19960517,1625,-59.7,22.8865,5329,3571.5,-0.2987,34.656,2,34.656,2,240.5,2,239.9,2,128.6,2,32.28,2,0,2,2.24,2,0.222,2,0.127,2,-999,9,-999,9,-999,9
      320696_3,    S04I,4,1,9,9,2,19960517,1625,-59.7,22.8865,5329,3775.9,-0.3212,34.6552,2,34.6556,2,242.2,2,242.8,2,129.5,2,32.28,2,0,2,2.24,2,-999,9,-999,9,-999,9,-999,9,-999,9
      320696_3,    S04I,4,1,8,8,2,19960517,1625,-59.7,22.8865,5329,3980.8,-0.327,34.6545,2,34.6535,2,243,2,243,2,129.5,2,32.18,2,0,2,2.24,2,0.22,2,0.134,2,-999,9,-999,9,-999,9
      320696_3,    S04I,4,1,7,7,2,19960517,1625,-59.7,22.8865,5329,4184.6,-0.3413,34.6529,2,34.6541,2,244.4,2,244.9,2,128.7,2,32.23,2,0,2,2.23,2,-999,9,-999,9,-999,9,-999,9,-999,9
      320696_3,    S04I,4,1,6,6,2,19960517,1625,-59.7,22.8865,5329,4391,-0.3534,34.6527,2,34.6523,2,245.6,2,246.7,2,130.4,2,32.23,2,0,2,2.24,2,-999,9,-999,9,-999,9,-999,9,-999,9
      320696_3,    S04I,4,1,5,5,2,19960517,1625,-59.7,22.8865,5329,4595.3,-0.3617,34.6514,2,34.6515,2,246.7,2,246.5,2,130.9,2,32.17,2,0,2,2.22,2,-999,9,-999,9,-999,9,-999,9,-999,9
      320696_3,    S04I,4,1,4,4,2,19960517,1625,-59.7,22.8865,5329,4796.1,-0.3518,34.651,2,34.6503,2,247.1,2,246.5,2,131.2,2,32.17,2,0,2,2.23,2,0.238,2,0.143,2,-999,9,-999,9,-999,9
      320696_3,    S04I,4,1,3,3,2,19960517,1625,-59.7,22.8865,5329,5008.5,-0.3524,34.6495,2,34.6503,2,248.2,2,247.8,2,128.6,2,32.12,2,0,2,2.22,2,0.283,2,0.172,2,-999,9,-999,9,-999,9
      320696_3,    S04I,4,1,2,2,2,19960517,1625,-59.7,22.8865,5329,5213.9,-0.3469,34.6485,2,34.649,2,248.8,2,-999,4,128.3,2,32.17,2,0,2,2.24,2,0.286,2,0.17,2,-999,9,-999,9,-999,9
      320696_3,    S04I,4,1,1,1,2,19960517,1625,-59.7,22.8865,5329,5420.2,-0.3321,34.6479,2,34.649,2,248.8,2,248.6,2,128.9,2,32.16,2,0,2,2.23,2,0.31,2,0.174,2,-999,9,-999,9,-999,9