BOTTLE,20211011SIOJHS,,,,,,,,,,,,,,,,,,,,,,,,,,,,,,,,,,,,,,
EXPOCODE,SECT_ID,STNNBR,CASTNO,SAMPNO,BTLNBR,BTLNBR_FLAG_W,DATE,TIME,LATITUDE,LONGITUDE,DEPTH,CTDPRS,CTDTMP,CTDSAL,CTDSAL_FLAG_W,SALNTY,SALNTY_FLAG_W,CTDOXY,CTDOXY_FLAG_W,OXYGEN,OXYGEN_FLAG_W,SILCAT,SILCAT_FLAG_W,NITRAT,NITRAT_FLAG_W,NITRIT,NITRIT_FLAG_W,PHSPHT,PHSPHT_FLAG_W,CFC-11,CFC-11_FLAG_W,CFC-12,CFC-12_FLAG_W,SF6,SF6_FLAG_W,TCARBN,TCARBN_FLAG_W,ALKALI,ALKALI_FLAG_W
,,,,,,,,,,,,DB,ITS-90,PSS-78,,PSS-78,,UMOL/KG,,UMOL/KG,,UMOL/KG,,UMOL/KG,,UMOL/KG,,UMOL/KG,,PMOL/KG,,PMOL/KG,,FMOL/KG,,UMOL/KG,,UMOL/KG,
      320696_3,    S04I,108,1,35,35,2,19960627,1901,-61.9995,119.9998,4194,16.5,-1.7272,33.8892,2,33.8892,2,-999,4,347.7,2,32.6,2,27.69,2,0.28,2,1.95,2,-999,9,-999,9,-999,9,2162.2,2,2291,2
      320696_3,    S04I,108,1,36,36,2,19960627,1901,-61.9995,119.9998,4194,16.6,-1.7279,33.8896,2,33.8895,2,-999,4,347.1,2,32.9,2,27.64,2,0.28,2,1.95,2,6.687,2,3.162,2,-999,9,-999,9,-999,9
      320696_3,    S04I,108,1,34,34,2,19960627,1901,-61.9995,119.9998,4194,31.8,-1.7213,33.8915,2,33.8908,2,-999,4,347.1,2,32.8,2,27.68,2,0.28,2,1.95,2,-999,9,-999,9,-999,9,2164,2,-999,9
      320696_3,    S04I,108,1,33,33,2,19960627,1901,-61.9995,119.9998,4194,52.3,-1.6588,33.9341,2,33.9215,2,-999,4,342.7,2,35.5,2,27.84,2,0.26,2,1.95,2,6.529,2,3.092,2,-999,9,2166.5,2,-999,9
      320696_3,    S04I,108,1,32,32,2,19960627,1901,-61.9995,119.9998,4194,67.1,-1.6834,33.9619,2,33.959,2,-999,4,337.2,2,39.3,2,28.15,2,0.24,2,1.97,2,6.382,2,2.985,2,-999,9,2172.2,2,-999,9
      320696_3,    S04I,108,1,31,31,2,19960627,1901,-61.9995,119.9998,4194,97.2,-1.6222,34.0132,2,34.0111,2,-999,4,333.5,2,43,2,28.42,2,0.22,2,2,2,-999,9,-999,9,-999,9,2179.9,2,-999,9
      320696_3,    S04I,108,1,30,30,2,19960627,1901,-61.9995,119.9998,4194,132.4,0.3756,34.2591,2,34.2167,2,-999,4,271.1,2,53.4,2,31.79,2,0.08,2,2.21,2,4.384,2,1.968,2,-999,9,2209.3,2,-999,9
      320696_3,    S04I,108,1,29,29,2,19960627,1901,-61.9995,119.9998,4194,173.1,1.7037,34.5185,2,34.5144,2,184.3,2,188,2,74.4,2,34.54,2,0.01,2,2.39,2,1.261,2,0.594,2,-999,9,2250.2,2,-999,9
      320696_3,    S04I,108,1,28,28,2,19960627,1901,-61.9995,119.9998,4194,208,1.813,34.5634,2,34.5604,2,181.1,2,180.4,2,77.5,2,34.48,2,0,2,2.39,2,0.905,2,0.442,2,-999,9,2252.8,2,-999,9
      320696_3,    S04I,108,1,27,27,2,19960627,1901,-61.9995,119.9998,4194,238.2,1.8672,34.5903,2,34.5875,2,177.4,2,178.1,2,79,2,34.26,2,0.01,2,2.37,2,0.737,2,0.365,2,-999,9,2253.9,2,-999,9
      320696_3,    S04I,108,1,26,26,2,19960627,1901,-61.9995,119.9998,4194,293.1,1.9109,34.6347,2,34.631,2,177.1,2,177.4,2,81,2,33.55,2,0,2,2.33,2,0.547,2,0.262,2,-999,9,2255.1,2,-999,9
      320696_3,    S04I,108,1,25,25,2,19960627,1901,-61.9995,119.9998,4194,357.2,1.8971,34.6574,2,34.6577,2,179.6,2,179.4,2,82.2,2,33.09,2,0,2,2.28,2,0.455,2,0.228,2,-999,9,2254,2,-999,9
      320696_3,    S04I,108,1,24,24,2,19960627,1901,-61.9995,119.9998,4194,431.7,1.9175,34.6871,2,34.6878,2,180.5,2,183.6,2,82.6,2,32.27,2,0,2,2.21,2,0.361,2,0.176,2,-999,9,2251.9,2,-999,9
      320696_3,    S04I,108,1,23,23,2,19960627,1901,-61.9995,119.9998,4194,506.1,1.8916,34.7032,2,34.7033,2,184.2,2,185.9,2,83.6,2,31.81,2,0,2,2.19,2,-999,9,-999,9,-999,9,2250.5,2,-999,9
      320696_3,    S04I,108,1,22,22,2,19960627,1901,-61.9995,119.9998,4194,631.7,1.8382,34.7218,2,34.721,2,187.2,2,188.7,2,85.9,2,31.34,2,0,2,2.16,2,0.24,2,0.138,2,-999,9,2249.6,2,-999,9
      320696_3,    S04I,108,1,21,21,2,19960627,1901,-61.9995,119.9998,4194,757.4,1.7604,34.7324,2,34.7317,2,191,2,191.9,2,88,2,31.04,2,0,2,2.14,2,0.204,2,0.091,2,-999,9,2248.5,2,-999,9
      320696_3,    S04I,108,1,20,20,2,19960627,1901,-61.9995,119.9998,4194,884.2,1.6547,34.7383,2,34.7384,2,194.7,2,195.4,2,90.9,2,30.78,2,0,2,2.12,2,0.175,2,0.071,2,-999,9,2249.4,2,-999,9
      320696_3,    S04I,108,1,19,19,2,19960627,1901,-61.9995,119.9998,4194,1012.1,1.551,34.7396,2,34.74,2,198.4,2,198.3,2,93.5,2,30.57,2,0,2,2.11,2,0.16,2,0.09,2,-999,9,2249.4,2,-999,9
      320696_3,    S04I,108,1,18,18,2,19960627,1901,-61.9995,119.9998,4194,1139.8,1.4364,34.7379,2,34.7378,2,200.2,2,200.4,2,96.4,2,30.71,2,0,2,2.12,2,0.15,2,0.072,2,-999,9,2251.5,2,-999,9
      320696_3,    S04I,108,1,17,17,2,19960627,1901,-61.9995,119.9998,4194,1316.1,1.2883,34.7326,2,34.7323,2,202.6,2,202.2,2,100.6,2,30.81,2,0,2,2.13,2,0.129,2,0.063,2,-999,9,2250.9,2,-999,9
      320696_3,    S04I,108,1,16,16,2,19960627,1901,-61.9995,119.9998,4194,1518.6,1.1155,34.725,2,34.7229,2,204.2,2,204.1,2,105.8,2,31.11,2,0,2,2.15,2,0.141,2,0.063,2,-999,9,2252.5,2,-999,9
      320696_3,    S04I,108,1,15,15,2,19960627,1901,-61.9995,119.9998,4194,1721.2,0.9495,34.7168,2,34.7165,2,206.2,2,205.7,2,110.5,2,31.45,2,0,2,2.17,2,-999,9,-999,9,-999,9,2255.5,2,-999,9
      320696_3,    S04I,108,1,14,14,2,19960627,1901,-61.9995,119.9998,4194,1921.8,0.7958,34.7088,2,34.7094,2,208.7,2,207.9,2,115.1,2,31.7,2,0,2,2.19,2,0.106,2,0.054,2,-999,9,2257,2,-999,9
      320696_3,    S04I,108,1,13,13,2,19960627,1901,-61.9995,119.9998,4194,2119.9,0.6403,34.7009,2,34.7018,2,210.2,2,210.3,2,119.3,2,31.94,2,0,2,2.21,2,-999,9,-999,9,-999,9,2257.7,2,-999,9
      320696_3,    S04I,108,1,12,12,2,19960627,1901,-61.9995,119.9998,4194,2323.4,0.5014,34.6943,2,34.6953,2,212.6,2,213.6,2,122.2,2,32.14,2,0,2,2.22,2,0.101,2,0.069,2,-999,9,2258.3,2,-999,9
      320696_3,    S04I,108,1,11,11,2,19960627,1901,-61.9995,119.9998,4194,2527,0.377,34.6892,2,34.6894,2,216.3,2,216.6,2,124.5,2,32.18,2,0,2,2.23,2,-999,9,-999,9,-999,9,2257.5,2,-999,9
      320696_3,    S04I,108,1,10,10,2,19960627,1901,-61.9995,119.9998,4194,2723.2,0.2725,34.6859,2,34.6836,2,219.1,2,219.1,2,126,2,32.18,2,0,2,2.23,2,0.216,2,0.117,2,-999,9,2256.9,2,-999,9
      320696_3,    S04I,108,1,9,9,2,19960627,1901,-61.9995,119.9998,4194,2932.9,0.1931,34.6829,2,34.6816,2,222.2,2,222.6,2,126.9,2,32.17,2,0,2,2.24,2,-999,9,-999,9,-999,9,2255.6,2,-999,9
      320696_3,    S04I,108,1,63,63,2,19960627,1901,-61.9995,119.9998,4194,3137.9,0.1226,34.6799,2,34.6803,2,224.8,2,225.6,2,128.1,2,32.16,2,0,2,2.23,2,0.339,2,0.173,2,-999,9,2257.8,2,-999,9
      320696_3,    S04I,108,1,7,7,2,19960627,1901,-61.9995,119.9998,4194,3339.6,0.0541,34.6777,2,34.6767,2,227.7,2,227.8,2,128.9,2,32.15,2,0,2,2.23,2,0.425,2,0.214,2,-999,9,2256.3,2,-999,9
      320696_3,    S04I,108,1,6,6,2,19960627,1901,-61.9995,119.9998,4194,3547.8,-0.0025,34.6761,2,34.6746,2,230.1,2,230.3,2,129.1,2,32.15,2,0,2,2.22,2,0.523,2,0.264,2,-999,9,2255.4,2,-999,9
      320696_3,    S04I,108,1,5,5,2,19960627,1901,-61.9995,119.9998,4194,3755.5,-0.0596,34.6734,2,34.6725,2,233.1,2,233,2,129,2,32.09,2,0,2,2.23,2,0.692,2,0.337,2,-999,9,2254.4,2,-999,9
      320696_3,    S04I,108,1,39,39,2,19960627,1901,-61.9995,119.9998,4194,3910.8,-0.0962,34.6722,2,34.6721,2,234.9,2,235.1,2,127.8,2,32.03,2,0,2,2.23,2,0.894,2,0.439,2,-999,9,2254.1,2,-999,9
      320696_3,    S04I,108,1,3,3,2,19960627,1901,-61.9995,119.9998,4194,4063,-0.1235,34.6706,2,34.6701,2,236.4,2,236.7,2,129.3,2,32.08,2,0,2,2.23,2,1.1,2,0.536,2,-999,9,2253.8,2,-999,9
      320696_3,    S04I,108,1,2,2,2,19960627,1901,-61.9995,119.9998,4194,4162.5,-0.1702,34.6672,2,-999,3,238.1,2,238.1,2,131,2,32.02,2,0,2,2.22,2,1.513,2,0.696,2,-999,9,2253.5,2,-999,9
      320696_3,    S04I,108,1,1,1,2,19960627,1901,-61.9995,119.9998,4194,4227.6,-0.175,34.667,2,34.6668,2,238.8,2,238.5,2,130.5,2,32.06,2,0.01,2,2.22,2,1.595,2,0.734,2,-999,9,2255.4,2,-999,9