BOTTLE,20211011SIOJHS,,,,,,,,,,,,,,,,,,,,,,,,,,,,,,,,,,,,,,
EXPOCODE,SECT_ID,STNNBR,CASTNO,SAMPNO,BTLNBR,BTLNBR_FLAG_W,DATE,TIME,LATITUDE,LONGITUDE,DEPTH,CTDPRS,CTDTMP,CTDSAL,CTDSAL_FLAG_W,SALNTY,SALNTY_FLAG_W,CTDOXY,CTDOXY_FLAG_W,OXYGEN,OXYGEN_FLAG_W,SILCAT,SILCAT_FLAG_W,NITRAT,NITRAT_FLAG_W,NITRIT,NITRIT_FLAG_W,PHSPHT,PHSPHT_FLAG_W,CFC-11,CFC-11_FLAG_W,CFC-12,CFC-12_FLAG_W,SF6,SF6_FLAG_W,TCARBN,TCARBN_FLAG_W,ALKALI,ALKALI_FLAG_W
,,,,,,,,,,,,DB,ITS-90,PSS-78,,PSS-78,,UMOL/KG,,UMOL/KG,,UMOL/KG,,UMOL/KG,,UMOL/KG,,UMOL/KG,,PMOL/KG,,PMOL/KG,,FMOL/KG,,UMOL/KG,,UMOL/KG,
      320696_3,    S04I,5,1,36,36,2,19960518,16,-60.2662,23.8327,5185,20.1,0.2819,-999,4,33.8801,2,-999,5,338.5,2,41.3,2,23.73,2,0.3,2,1.67,2,-999,9,-999,9,-999,9,2162.2,2,2300,6
      320696_3,    S04I,5,1,35,35,2,19960518,16,-60.2662,23.8327,5185,44.1,0.289,-999,4,33.8793,2,-999,5,338.7,2,41.3,2,23.72,2,0.29,2,1.67,2,-999,9,-999,9,-999,9,2162.6,2,-999,9
      320696_3,    S04I,5,1,34,34,2,19960518,16,-60.2662,23.8327,5185,73.8,0.293,-999,4,33.8805,2,-999,5,338.3,2,41.2,2,23.72,2,0.29,2,1.67,2,-999,9,-999,9,-999,9,2161.8,2,-999,9
      320696_3,    S04I,5,1,33,33,2,19960518,16,-60.2662,23.8327,5185,101.6,0.3368,-999,4,33.8956,2,-999,5,337.8,2,41.9,2,23.91,2,0.3,2,1.68,2,-999,9,-999,9,-999,9,2163,2,-999,9
      320696_3,    S04I,5,1,32,32,2,19960518,16,-60.2662,23.8327,5185,137,-0.3529,-999,4,34.2299,2,-999,5,302.9,2,68.6,2,30.11,2,0.1,2,2.11,2,-999,9,-999,9,-999,9,2212.9,2,-999,9
      320696_3,    S04I,5,1,31,31,2,19960518,16,-60.2662,23.8327,5185,185,0.6003,-999,4,34.4166,2,-999,5,237.3,2,77.8,2,32.59,2,0.01,2,2.27,2,-999,9,-999,9,-999,9,2239.9,2,-999,9
      320696_3,    S04I,5,1,30,30,2,19960518,16,-60.2662,23.8327,5185,235.3,1.4617,-999,4,34.5896,2,-999,5,189.8,2,85.8,2,33.48,2,0,2,2.33,2,-999,9,-999,9,-999,9,2256.7,2,-999,9
      320696_3,    S04I,5,1,29,29,2,19960518,16,-60.2662,23.8327,5185,285.9,1.5772,-999,4,34.6513,2,-999,5,186.8,2,89.6,2,32.83,2,0,2,2.27,2,-999,9,-999,9,-999,9,2257.9,2,-999,9
      320696_3,    S04I,5,1,28,28,2,19960518,16,-60.2662,23.8327,5185,315.7,1.5813,-999,4,34.6676,2,-999,5,187.4,2,89.9,2,32.52,2,0.01,2,2.25,2,-999,9,-999,9,-999,9,2256.8,2,-999,9
      320696_3,    S04I,5,1,27,27,2,19960518,16,-60.2662,23.8327,5185,363.7,1.4958,-999,4,34.6786,2,-999,5,190.6,2,91.8,2,32.22,2,0.01,2,2.24,2,-999,9,-999,9,-999,9,2256.4,2,-999,9
      320696_3,    S04I,5,1,26,26,2,19960518,16,-60.2662,23.8327,5185,409.9,1.4312,-999,4,34.6894,2,-999,5,192.7,2,93.5,2,31.92,2,0.01,2,2.22,2,-999,9,-999,9,-999,9,2256.9,2,-999,9
      320696_3,    S04I,5,1,25,25,2,19960518,16,-60.2662,23.8327,5185,467.9,1.4589,-999,4,34.7069,2,-999,5,194.3,2,94.2,2,31.52,2,0,2,2.19,2,-999,9,-999,9,-999,9,2254,2,-999,9
      320696_3,    S04I,5,1,24,24,2,19960518,16,-60.2662,23.8327,5185,545.4,1.3586,-999,4,34.7136,2,-999,5,196.6,2,96.8,2,31.36,2,0,2,2.17,2,-999,9,-999,9,-999,9,2254.6,2,-999,9
      320696_3,    S04I,5,1,23,23,2,19960518,16,-60.2662,23.8327,5185,626.7,1.2272,-999,4,34.7136,2,-999,5,199.5,2,99.7,2,31.31,2,0.01,2,2.18,2,-999,9,-999,9,-999,9,2255.9,2,-999,9
      320696_3,    S04I,5,1,22,22,2,19960518,16,-60.2662,23.8327,5185,707.6,1.1172,-999,4,34.711,2,-999,5,200.7,2,102.9,2,31.46,2,0,2,2.19,2,-999,9,-999,9,-999,9,2253.7,2,-999,9
      320696_3,    S04I,5,1,21,21,2,19960518,16,-60.2662,23.8327,5185,807,0.929,-999,4,34.7024,2,-999,5,202.3,2,107.1,2,31.65,2,0,2,2.2,2,-999,9,-999,9,-999,9,2255.7,2,2353,6
      320696_3,    S04I,5,1,20,20,2,19960518,16,-60.2662,23.8327,5185,909.3,0.8924,-999,4,34.7075,2,-999,5,204.7,2,109.3,2,31.6,2,0,2,2.2,2,-999,9,-999,9,-999,9,2257.6,2,-999,9
      320696_3,    S04I,5,1,19,19,2,19960518,16,-60.2662,23.8327,5185,1009.5,0.6772,-999,4,34.6951,2,-999,5,203.7,2,114.8,2,32.19,2,0,2,2.24,2,-999,9,-999,9,-999,9,2261.8,2,-999,9
      320696_3,    S04I,5,1,18,18,2,19960518,16,-60.2662,23.8327,5185,1112.8,0.5982,-999,4,34.6937,2,-999,5,205.5,2,117.6,2,32.29,2,0,2,2.24,2,-999,9,-999,9,-999,9,-999,9,-999,9
      320696_3,    S04I,5,1,17,17,2,19960518,16,-60.2662,23.8327,5185,1261.6,0.5093,-999,4,34.6907,2,-999,5,206.2,2,121.2,2,32.49,2,0,2,2.25,2,-999,9,-999,9,-999,9,-999,9,-999,9
      320696_3,    S04I,5,1,16,16,2,19960518,16,-60.2662,23.8327,5185,1412.1,0.4282,-999,4,34.6866,2,-999,5,207.7,2,123.8,2,32.68,2,0,2,2.27,2,-999,9,-999,9,-999,9,-999,9,-999,9
      320696_3,    S04I,5,1,15,15,2,19960518,16,-60.2662,23.8327,5185,1617,0.3319,-999,4,34.6815,2,-999,5,208.5,2,125.6,2,32.88,2,0,2,2.28,2,-999,9,-999,9,-999,9,-999,9,-999,9
      320696_3,    S04I,5,1,14,14,2,19960518,16,-60.2662,23.8327,5185,1975.3,0.1708,-999,4,34.676,2,-999,5,214.8,2,128.2,2,32.83,2,0,2,2.28,2,-999,9,-999,9,-999,9,-999,9,-999,9
      320696_3,    S04I,5,1,13,13,2,19960518,16,-60.2662,23.8327,5185,2229.9,0.0964,-999,4,34.6718,2,-999,5,219,2,128.9,2,32.67,2,0,2,2.28,2,-999,9,-999,9,-999,9,-999,9,-999,9
      320696_3,    S04I,5,1,12,12,2,19960518,16,-60.2662,23.8327,5185,2535.6,0.0027,-999,4,34.6679,2,-999,5,225.3,2,129.1,2,32.62,2,0,2,2.27,2,-999,9,-999,9,-999,9,-999,9,-999,9
      320696_3,    S04I,5,1,11,11,2,19960518,16,-60.2662,23.8327,5185,2839,-0.0933,-999,4,34.6634,2,-999,5,229.5,2,128.8,2,32.52,2,0,2,2.27,2,-999,9,-999,9,-999,9,-999,9,-999,9
      320696_3,    S04I,5,1,10,10,2,19960518,16,-60.2662,23.8327,5185,3145.8,-0.149,-999,4,34.661,2,-999,5,233.1,2,128.2,2,32.41,2,0,2,2.26,2,-999,9,-999,9,-999,9,-999,9,-999,9
      320696_3,    S04I,5,1,9,9,2,19960518,16,-60.2662,23.8327,5185,3449.4,-0.193,-999,4,34.6587,2,-999,5,235.9,2,128.2,2,32.31,2,0,2,2.24,2,-999,9,-999,9,-999,9,-999,9,-999,9
      320696_3,    S04I,5,1,8,8,2,19960518,16,-60.2662,23.8327,5185,3759.9,-0.2317,-999,4,34.6571,2,-999,5,239.1,2,129.4,2,32.26,2,0,2,2.24,2,0.222,2,0.136,2,-999,9,-999,9,-999,9
      320696_3,    S04I,5,1,7,7,2,19960518,16,-60.2662,23.8327,5185,4019.2,-0.2589,-999,4,34.6559,2,-999,5,240.9,2,129.2,2,32.25,2,0,2,2.24,2,-999,9,-999,9,-999,9,-999,9,-999,9
      320696_3,    S04I,5,1,6,6,2,19960518,16,-60.2662,23.8327,5185,4275.7,-0.2771,-999,4,34.6553,2,-999,5,242.7,2,130.1,2,32.2,2,0,2,2.24,2,0.214,2,0.128,2,-999,9,-999,9,-999,9
      320696_3,    S04I,5,1,5,5,2,19960518,16,-60.2662,23.8327,5185,4581.2,-0.2978,-999,4,34.6526,2,-999,5,244.1,2,130.6,2,32.15,2,0,2,2.24,2,0.225,2,0.134,2,-999,9,-999,9,-999,9
      320696_3,    S04I,5,1,4,4,2,19960518,16,-60.2662,23.8327,5185,4885.2,-0.3186,-999,4,34.6516,2,-999,5,245.9,2,131.5,2,32.09,2,0,2,2.24,2,0.225,2,0.133,2,-999,9,-999,9,-999,9
      320696_3,    S04I,5,1,3,3,2,19960518,16,-60.2662,23.8327,5185,5093,-0.3164,-999,4,34.6508,2,-999,5,247.1,2,131.9,2,32.14,2,0,2,2.24,2,0.237,2,0.144,2,-999,9,-999,9,-999,9
      320696_3,    S04I,5,1,2,2,2,19960518,16,-60.2662,23.8327,5185,5171.3,-0.3139,-999,4,34.6502,2,-999,5,247,2,132.8,2,32.13,2,0,2,2.25,2,0.248,2,0.147,2,-999,9,-999,9,-999,9
      320696_3,    S04I,5,1,1,1,2,19960518,16,-60.2662,23.8327,5185,5220.7,-0.3151,-999,4,34.65,2,-999,5,246.7,2,134.8,2,32.18,2,0,2,2.23,2,0.237,2,0.138,2,-999,9,-999,9,-999,9
      320696_3,    S04I,6,1,36,36,2,19960518,748,-60.834,24.8088,5219,17,-0.9146,33.8839,2,33.8817,2,-999,4,345.1,2,46.5,2,23.88,2,0.25,2,1.73,2,6.644,2,3.295,2,-999,9,2165.2,2,-999,9
      320696_3,    S04I,6,1,35,35,2,19960518,748,-60.834,24.8088,5219,31.7,-0.9095,33.8834,2,33.8821,2,-999,4,344.9,2,46.3,2,23.83,2,0.24,2,1.73,2,6.623,2,3.244,2,-999,9,2164.2,2,-999,9
      320696_3,    S04I,6,1,34,34,2,19960518,748,-60.834,24.8088,5219,46.6,-0.9127,33.8836,2,33.8821,2,-999,4,345.4,2,46.3,2,23.83,2,0.24,2,1.73,2,6.683,2,3.265,2,-999,9,-999,9,-999,9
      320696_3,    S04I,6,1,33,33,2,19960518,748,-60.834,24.8088,5219,71.4,-0.932,33.9213,2,33.9199,2,-999,4,344.1,2,48.6,2,24.28,2,0.23,2,1.77,2,6.607,2,3.241,2,-999,9,-999,9,-999,9
      320696_3,    S04I,6,1,32,32,2,19960518,748,-60.834,24.8088,5219,90.5,-1.148,34.144,2,34.1405,2,-999,4,321.1,2,63.5,2,28.18,2,0.22,2,2,2,6.016,2,2.862,2,-999,9,-999,9,-999,9
      320696_3,    S04I,6,1,31,31,2,19960518,748,-60.834,24.8088,5219,111.5,-0.8141,34.2713,2,34.2687,2,-999,4,294.3,2,70.8,2,30.15,2,0.06,2,2.1,2,5.089,2,2.39,2,-999,9,-999,9,-999,9
      320696_3,    S04I,6,1,30,30,2,19960518,748,-60.834,24.8088,5219,130.6,-0.2907,34.3737,2,34.374,2,-999,4,263.2,2,77.8,2,31.43,2,0.02,2,2.18,2,4.037,2,1.857,2,-999,9,-999,9,-999,9
      320696_3,    S04I,6,1,29,29,2,19960518,748,-60.834,24.8088,5219,171.1,0.8658,34.5776,2,34.5778,2,-999,4,204.3,2,91,2,33.21,2,0.01,2,2.29,2,1.594,2,0.745,2,-999,9,-999,9,-999,9
      320696_3,    S04I,6,1,28,28,2,19960518,748,-60.834,24.8088,5219,204.7,1.0739,34.6182,2,34.6185,2,196.7,2,195.6,2,93.3,2,33.26,2,0.01,2,2.29,2,1.138,2,0.554,2,-999,9,-999,9,-999,9
      320696_3,    S04I,6,1,27,27,2,19960518,748,-60.834,24.8088,5219,234.7,1.2014,34.658,2,34.658,2,191,2,192.6,2,96.6,2,32.86,2,0.01,2,2.26,2,0.75,2,0.391,2,-999,9,-999,9,-999,9
      320696_3,    S04I,6,1,26,26,2,19960518,748,-60.834,24.8088,5219,286.7,1.266,34.6854,2,34.6859,2,192.1,2,192,2,98.7,2,32.42,2,0.01,2,2.23,2,0.51,2,0.269,2,-999,9,-999,9,-999,9
      320696_3,    S04I,6,1,25,25,2,19960518,748,-60.834,24.8088,5219,348.6,1.2054,34.6966,2,34.6979,2,194.7,2,194.6,2,100.7,2,32.16,2,0.01,2,2.21,2,0.41,2,0.219,2,-999,9,-999,9,-999,9
      320696_3,    S04I,6,1,24,24,2,19960518,748,-60.834,24.8088,5219,408.8,1.0993,34.7012,2,34.7018,2,195.9,2,196.9,2,103.8,2,32.02,2,0,2,2.21,2,0.354,2,0.204,2,-999,9,-999,9,-999,9
      320696_3,    S04I,6,1,23,23,2,19960518,748,-60.834,24.8088,5219,510.2,0.957,34.7049,2,34.7041,2,198.5,2,199.6,2,108.3,2,31.97,2,0.01,2,2.2,2,0.285,2,0.16,2,-999,9,-999,9,-999,9
      320696_3,    S04I,6,1,22,22,2,19960518,748,-60.834,24.8088,5219,611,0.8565,34.7028,2,34.7027,2,202.8,2,201.2,2,111.1,2,32.12,2,0,2,2.21,2,0.27,2,0.156,2,-999,9,-999,9,-999,9
      320696_3,    S04I,6,1,21,21,2,19960518,748,-60.834,24.8088,5219,710.4,0.6883,34.6951,2,34.6951,2,203,2,202.8,2,115.4,2,32.46,2,0.01,2,2.24,2,0.263,2,0.145,2,-999,9,-999,9,-999,9
      320696_3,    S04I,6,1,20,20,2,19960518,748,-60.834,24.8088,5219,811.3,0.5892,34.6922,2,34.6913,2,204,2,203.3,2,118.4,2,32.66,2,0.01,2,2.25,2,0.254,2,0.139,2,-999,9,2263.7,2,-999,9
      320696_3,    S04I,6,1,19,19,2,19960518,748,-60.834,24.8088,5219,962.8,0.4906,34.6883,2,34.6876,2,205,2,202.8,2,121.7,2,32.9,2,0,2,2.28,2,0.221,2,0.132,2,-999,9,-999,9,-999,9
      320696_3,    S04I,6,1,18,18,2,19960518,748,-60.834,24.8088,5219,1114.9,0.4193,34.6852,2,34.686,2,205.2,2,205.1,2,124.2,2,33.05,2,0,2,2.28,2,0.185,2,0.119,2,-999,9,-999,9,-999,9
      320696_3,    S04I,6,1,17,17,2,19960518,748,-60.834,24.8088,5219,1316.5,0.3358,34.683,2,34.6825,2,206.9,2,208.4,2,126.2,2,32.96,2,0,2,2.28,2,0.154,2,0.093,2,-999,9,-999,9,-999,9
      320696_3,    S04I,6,1,16,16,2,19960518,748,-60.834,24.8088,5219,1517.4,0.2401,34.6793,2,34.6787,2,211.4,2,212.4,2,128,2,32.9,2,0,2,2.28,2,0.151,2,0.101,2,-999,9,-999,9,-999,9
      320696_3,    S04I,6,1,15,15,2,19960518,748,-60.834,24.8088,5219,1770.5,0.1286,34.674,2,-999,4,216.2,2,216.5,2,129,2,32.85,2,0,2,2.27,2,0.152,2,0.09,2,-999,9,-999,9,-999,9
      320696_3,    S04I,6,1,14,14,2,19960518,748,-60.834,24.8088,5219,2028.2,0.0339,34.6708,2,34.6695,2,220.2,2,219.7,2,129.5,2,32.85,2,0,2,2.28,2,-999,9,-999,9,-999,9,-999,9,-999,9
      320696_3,    S04I,6,1,13,13,2,19960518,748,-60.834,24.8088,5219,2284.7,-0.0438,34.6669,2,34.6673,2,225.6,2,224.8,2,129.9,2,32.7,2,0,2,2.27,2,0.178,2,0.115,2,-999,9,-999,9,-999,9
      320696_3,    S04I,6,1,12,12,2,19960518,748,-60.834,24.8088,5219,2539.6,-0.1022,34.6643,2,34.664,2,228.7,2,228.6,2,130,2,32.6,2,0,2,2.26,2,0.186,2,0.127,2,-999,9,-999,9,-999,9
      320696_3,    S04I,6,1,11,11,2,19960518,748,-60.834,24.8088,5219,2841.9,-0.1651,34.6624,2,-999,4,232.3,2,232,2,129.7,2,32.56,2,0,2,2.25,2,-999,9,-999,9,-999,9,-999,9,-999,9
      320696_3,    S04I,6,1,10,10,2,19960518,748,-60.834,24.8088,5219,3143,-0.2103,34.6599,2,34.6593,2,235.6,2,235.1,2,129.5,2,32.41,2,0,2,2.24,2,0.222,2,0.133,2,-999,9,-999,9,-999,9
      320696_3,    S04I,6,1,9,9,2,19960518,748,-60.834,24.8088,5219,3448.1,-0.2426,34.6582,2,-999,4,237.9,2,238,2,129,2,32.31,2,0,2,2.24,2,0.259,2,0.166,2,-999,9,-999,9,-999,9
      320696_3,    S04I,6,1,8,8,2,19960518,748,-60.834,24.8088,5219,3753.9,-0.27,34.6567,2,-999,4,239.7,2,239.8,2,130.1,2,32.3,2,0,2,2.24,2,0.226,2,0.141,2,-999,9,-999,9,-999,9
      320696_3,    S04I,6,1,7,7,2,19960518,748,-60.834,24.8088,5219,4061.7,-0.2952,34.6553,2,34.6545,2,242.4,2,242.6,2,129.8,2,32.26,2,0,2,2.23,2,0.257,2,0.137,2,-999,9,-999,9,-999,9
      320696_3,    S04I,6,1,6,6,2,19960518,748,-60.834,24.8088,5219,4358,-0.3152,34.6537,2,34.6535,2,244.1,2,245.3,2,129.9,2,32.21,2,0,2,2.23,2,0.262,2,0.157,2,-999,9,-999,9,-999,9
      320696_3,    S04I,6,1,5,5,2,19960518,748,-60.834,24.8088,5219,4671,-0.3318,34.6523,2,-999,3,245.9,2,245.8,2,132.5,2,32.2,2,0,2,2.23,2,0.22,2,0.133,2,-999,9,-999,9,-999,9
      320696_3,    S04I,6,1,4,4,2,19960518,748,-60.834,24.8088,5219,4882.9,-0.3377,34.6512,2,34.6508,2,246.5,2,246.1,2,132.8,2,32.2,2,0,2,2.23,2,0.213,2,0.131,2,-999,9,-999,9,-999,9
      320696_3,    S04I,6,1,3,3,2,19960518,748,-60.834,24.8088,5219,5090.8,-0.3447,34.6499,2,34.6502,2,247.7,2,247.3,2,131.8,2,32.2,2,0,2,2.22,2,0.242,2,0.145,2,-999,9,-999,9,-999,9
      320696_3,    S04I,6,1,2,2,2,19960518,748,-60.834,24.8088,5219,5193.5,-0.3462,34.6488,2,34.6496,2,248.6,2,248.2,2,130.8,2,32.2,2,0.01,2,2.22,2,0.272,2,0.147,2,-999,9,-999,9,-999,9
      320696_3,    S04I,6,1,1,1,2,19960518,748,-60.834,24.8088,5219,5267.5,-0.3582,34.6476,2,-999,4,248.7,2,249.2,2,130.2,2,32.14,2,0.01,2,2.22,2,0.311,2,0.174,2,-999,9,-999,9,-999,9