BOTTLE,20211011SIOJHS,,,,,,,,,,,,,,,,,,,,,,,,,,,,,,,,,,,,,,
EXPOCODE,SECT_ID,STNNBR,CASTNO,SAMPNO,BTLNBR,BTLNBR_FLAG_W,DATE,TIME,LATITUDE,LONGITUDE,DEPTH,CTDPRS,CTDTMP,CTDSAL,CTDSAL_FLAG_W,SALNTY,SALNTY_FLAG_W,CTDOXY,CTDOXY_FLAG_W,OXYGEN,OXYGEN_FLAG_W,SILCAT,SILCAT_FLAG_W,NITRAT,NITRAT_FLAG_W,NITRIT,NITRIT_FLAG_W,PHSPHT,PHSPHT_FLAG_W,CFC-11,CFC-11_FLAG_W,CFC-12,CFC-12_FLAG_W,SF6,SF6_FLAG_W,TCARBN,TCARBN_FLAG_W,ALKALI,ALKALI_FLAG_W
,,,,,,,,,,,,DB,ITS-90,PSS-78,,PSS-78,,UMOL/KG,,UMOL/KG,,UMOL/KG,,UMOL/KG,,UMOL/KG,,UMOL/KG,,PMOL/KG,,PMOL/KG,,FMOL/KG,,UMOL/KG,,UMOL/KG,
      320696_3,    S04I,66,1,36,36,2,19960606,1604,-59.696,84.8497,2024,13.5,-1.7874,33.9054,2,33.9062,2,-999,4,335.3,2,52.8,2,29.37,2,0.26,2,2.03,2,6.311,2,3.056,2,-999,9,-999,9,-999,9
      320696_3,    S04I,66,1,35,35,2,19960606,1604,-59.696,84.8497,2024,14.1,-1.7849,33.905,2,-999,9,-999,4,335.5,2,-999,9,-999,9,-999,9,-999,9,-999,9,-999,9,-999,9,2178.7,2,2293,6
      320696_3,    S04I,66,1,33,33,2,19960606,1604,-59.696,84.8497,2024,28.4,-1.786,33.9043,2,-999,9,-999,4,335.3,2,-999,9,-999,9,-999,9,-999,9,-999,9,-999,9,-999,9,-999,9,-999,9
      320696_3,    S04I,66,1,34,34,2,19960606,1604,-59.696,84.8497,2024,28.8,-1.7855,33.9046,2,33.9054,2,-999,4,335.4,2,52.3,2,29.33,2,0.25,2,2.03,2,6.279,2,3.022,2,-999,9,2179.1,2,-999,9
      320696_3,    S04I,66,1,32,32,2,19960606,1604,-59.696,84.8497,2024,53.2,-1.7372,33.928,2,33.931,2,-999,4,331.8,2,52.8,2,29.43,2,0.25,2,2.04,2,6.12,2,2.949,2,-999,9,2182.4,2,2293,2
      320696_3,    S04I,66,1,30,30,2,19960606,1604,-59.696,84.8497,2024,81.1,-0.8763,34.1353,2,34.1395,2,-999,4,280.2,2,62.6,2,31.09,2,0.17,2,2.17,2,4.484,2,2.115,2,-999,9,-999,9,-999,9
      320696_3,    S04I,66,1,31,31,2,19960606,1604,-59.696,84.8497,2024,82,-0.8617,34.1348,2,-999,9,-999,4,281.5,2,-999,9,-999,9,-999,9,-999,9,-999,9,-999,9,-999,9,2208.7,2,-999,9
      320696_3,    S04I,66,1,29,29,2,19960606,1604,-59.696,84.8497,2024,117.6,1.3324,34.4597,2,34.4634,2,-999,4,196.4,2,76.6,2,34.42,2,0.04,2,2.39,2,-999,9,-999,9,-999,9,2250.5,2,2324,2
      320696_3,    S04I,66,1,28,28,2,19960606,1604,-59.696,84.8497,2024,149.4,1.7292,34.5678,2,34.5625,2,178.5,2,178.6,2,82.1,2,34.39,2,0.02,2,2.38,2,0.887,2,0.419,2,-999,9,2257.3,2,-999,9
      320696_3,    S04I,66,1,27,27,2,19960606,1604,-59.696,84.8497,2024,149.9,1.7457,34.5668,2,-999,9,178.5,2,178.2,2,-999,9,-999,9,-999,9,-999,9,-999,9,-999,9,-999,9,-999,9,2334,2
      320696_3,    S04I,66,1,26,26,2,19960606,1604,-59.696,84.8497,2024,180.3,1.9109,34.6094,2,34.6089,2,174.2,2,172.1,2,83.4,2,34.04,2,0.01,2,2.37,2,-999,9,-999,9,-999,9,2260.4,2,-999,9
      320696_3,    S04I,66,1,25,25,2,19960606,1604,-59.696,84.8497,2024,209.3,1.9412,34.6335,2,-999,9,172.8,2,172.9,2,-999,9,-999,9,-999,9,-999,9,-999,9,-999,9,-999,9,-999,9,2338,2
      320696_3,    S04I,66,1,24,24,2,19960606,1604,-59.696,84.8497,2024,210.3,1.9413,34.6335,2,34.6335,2,172.8,2,172.3,2,84.5,2,33.73,2,0.02,2,2.34,2,0.437,2,0.221,2,-999,9,2261.9,2,-999,9
      320696_3,    S04I,66,1,23,23,2,19960606,1604,-59.696,84.8497,2024,237.1,1.9213,34.6464,2,-999,9,173.8,2,173.7,2,-999,9,-999,9,-999,9,-999,9,-999,9,-999,9,-999,9,-999,9,-999,9
      320696_3,    S04I,66,1,22,22,2,19960606,1604,-59.696,84.8497,2024,241.9,1.927,34.6483,2,34.6462,2,173,2,173.8,2,85.2,2,33.43,2,0.02,2,2.32,2,-999,9,-999,9,-999,9,2260.9,2,-999,9
      320696_3,    S04I,66,1,20,20,2,19960606,1604,-59.696,84.8497,2024,266.3,1.9559,34.6635,2,34.662,2,174.8,2,174.3,2,85.2,2,33.12,2,0.02,2,2.3,2,0.337,2,0.172,2,-999,9,2259.1,2,-999,9
      320696_3,    S04I,66,1,21,21,2,19960606,1604,-59.696,84.8497,2024,266.7,1.9556,34.6637,2,-999,9,174.8,2,174.5,2,-999,9,-999,9,-999,9,-999,9,-999,9,-999,9,-999,9,-999,9,-999,9
      320696_3,    S04I,66,1,19,19,2,19960606,1604,-59.696,84.8497,2024,289.6,1.9382,34.6687,2,34.6679,2,175.4,2,175.8,2,85.5,2,32.98,2,0.01,2,2.28,2,-999,9,-999,9,-999,9,2258.3,2,-999,9
      320696_3,    S04I,66,1,18,18,2,19960606,1604,-59.696,84.8497,2024,416.3,1.9352,34.7167,2,34.7174,2,184,2,184.2,2,85.9,2,31.45,2,0.01,2,2.17,2,0.183,2,0.09,2,-999,9,2253.7,2,-999,9
      320696_3,    S04I,66,1,17,17,2,19960606,1604,-59.696,84.8497,2024,418.6,1.9328,34.7166,2,-999,9,184,2,184.3,2,-999,9,-999,9,-999,9,-999,9,-999,9,-999,9,-999,9,-999,9,2345,2
      320696_3,    S04I,66,1,16,16,2,19960606,1604,-59.696,84.8497,2024,457.4,1.9138,34.7271,2,34.7266,2,185.4,2,187.4,2,86.1,2,31.1,2,0.01,2,2.17,2,0.16,2,0.079,2,-999,9,2251.9,2,-999,9
      320696_3,    S04I,66,1,14,14,2,19960606,1604,-59.696,84.8497,2024,544.4,1.8491,34.7368,2,34.7364,2,189.5,2,190.2,2,87.3,2,30.8,2,0.01,2,2.13,2,0.138,2,0.066,2,-999,9,-999,9,2345,2
      320696_3,    S04I,66,1,15,15,2,19960606,1604,-59.696,84.8497,2024,545.3,1.85,34.7367,2,-999,9,188.6,2,189.7,2,-999,9,-999,9,-999,9,-999,9,-999,9,-999,9,-999,9,2251,2,-999,9
      320696_3,    S04I,66,1,13,13,2,19960606,1604,-59.696,84.8497,2024,634.9,1.7928,34.744,2,34.7445,2,192.5,2,193.9,2,88.1,2,30.4,2,0.01,2,2.11,2,0.125,2,0.061,2,-999,9,2248.4,2,-999,9
      320696_3,    S04I,66,1,12,12,2,19960606,1604,-59.696,84.8497,2024,731.6,1.6872,34.7466,2,34.7465,2,197.1,2,197.4,2,90.4,2,30.3,2,0.01,2,2.1,2,0.113,2,0.056,2,-999,9,-999,9,-999,9
      320696_3,    S04I,66,1,11,11,2,19960606,1604,-59.696,84.8497,2024,732.8,1.6864,34.7471,2,-999,9,197.1,2,197.7,2,-999,9,-999,9,-999,9,-999,9,-999,9,-999,9,-999,9,2248.2,2,2347,6
      320696_3,    S04I,66,1,10,10,2,19960606,1604,-59.696,84.8497,2024,929.2,1.4422,34.7411,2,34.741,2,201.6,2,200.5,2,96.2,2,30.3,2,0.01,2,2.11,2,0.127,2,0.067,2,-999,9,-999,9,-999,9
      320696_3,    S04I,66,1,9,9,2,19960606,1604,-59.696,84.8497,2024,933.7,1.4431,34.7411,2,-999,9,201.6,2,200.6,2,-999,9,-999,9,-999,9,-999,9,-999,9,-999,9,-999,9,2250.7,2,2350,2
      320696_3,    S04I,66,1,63,63,2,19960606,1604,-59.696,84.8497,2024,1031.4,1.365,34.7424,2,34.7416,2,202.9,2,201.7,2,98.4,2,30.41,2,0.01,2,2.1,2,0.085,2,0.049,2,-999,9,2252.7,2,-999,9
      320696_3,    S04I,66,1,7,7,2,19960606,1604,-59.696,84.8497,2024,1237.8,1.1238,34.7301,2,-999,9,204.8,2,205.1,2,104.6,2,30.82,2,0.01,2,2.13,2,-999,9,-999,9,-999,9,-999,9,-999,9
      320696_3,    S04I,66,1,6,6,2,19960606,1604,-59.696,84.8497,2024,1237.8,1.1239,34.73,2,34.7294,2,204.8,2,205.4,2,104.6,2,30.82,2,0.01,2,2.12,2,0.101,2,0.038,2,-999,9,2253.6,2,-999,9
      320696_3,    S04I,66,1,5,5,2,19960606,1604,-59.696,84.8497,2024,1442.9,0.9232,34.7188,2,34.7184,2,206.8,2,206.1,2,111.3,2,31.27,2,0.02,2,2.16,2,0.081,2,0.047,2,-999,9,2257.1,2,2357,2
      320696_3,    S04I,66,1,4,4,2,19960606,1604,-59.696,84.8497,2024,1659.6,0.7588,34.7094,2,34.7091,2,208.5,2,208,2,116.1,2,31.64,2,0.01,2,2.19,2,0.079,2,0.04,2,-999,9,2261.3,2,-999,9
      320696_3,    S04I,66,1,3,3,2,19960606,1604,-59.696,84.8497,2024,1867.8,0.5896,34.6999,2,34.6985,2,209.8,2,209.7,2,123.1,2,31.98,2,0.02,2,2.22,2,0.084,2,0.045,2,-999,9,2262.3,2,-999,9
      320696_3,    S04I,66,1,2,2,2,19960606,1604,-59.696,84.8497,2024,1961.8,0.5361,34.6967,2,34.6969,2,209.4,2,209.9,2,126.2,2,32.09,2,0.02,2,2.23,2,0.079,2,0.05,2,-999,9,2261.8,2,2360,2
      320696_3,    S04I,66,1,1,1,2,19960606,1604,-59.696,84.8497,2024,1999.7,0.5367,34.6968,2,34.696,2,209.3,2,209.5,2,126.2,2,32.09,2,0.02,2,2.22,2,0.084,2,0.044,2,-999,9,2263.1,2,-999,9
      320696_3,    S04I,67,1,36,36,2,19960606,2015,-59.6682,85.1172,2829,6.6,-1.8041,33.9518,2,33.9536,2,-999,4,324.7,2,57.1,2,29.53,2,0.21,2,2.06,2,6.02,2,2.866,2,-999,9,-999,9,-999,9
      320696_3,    S04I,67,1,35,35,2,19960606,2015,-59.6682,85.1172,2829,14.5,-1.8131,33.9553,2,33.959,2,-999,4,323.8,2,57.2,2,29.53,2,0.21,2,2.06,2,-999,9,-999,9,-999,9,2185.9,2,2295,6
      320696_3,    S04I,67,1,34,34,2,19960606,2015,-59.6682,85.1172,2829,31.9,-1.7839,34.0238,2,34.0262,2,-999,4,328.3,2,57.9,2,29.22,2,0.21,2,2.03,2,6.096,2,2.878,2,-999,9,2187.8,2,-999,9
      320696_3,    S04I,67,1,32,32,2,19960606,2015,-59.6682,85.1172,2829,59.9,-1.6981,34.0862,2,34.0858,2,-999,3,334,2,57.9,2,28.67,2,0.2,2,2,2,6.297,2,2.972,2,-999,9,-999,9,-999,9
      320696_3,    S04I,67,1,33,33,2,19960606,2015,-59.6682,85.1172,2829,61.9,-1.7058,34.0864,2,34.0862,2,-999,3,334.2,2,57.9,2,28.72,2,0.2,2,2,2,-999,9,-999,9,-999,9,2189.9,2,2302,2
      320696_3,    S04I,67,1,31,31,2,19960606,2015,-59.6682,85.1172,2829,89.5,-1.5891,34.1012,2,34.1015,2,-999,3,327.8,2,59.2,2,28.98,2,0.19,2,2.02,2,6.072,2,2.919,2,-999,9,2193,2,-999,9
      320696_3,    S04I,67,1,30,30,2,19960606,2015,-59.6682,85.1172,2829,117.5,-0.9032,34.203,2,34.2075,2,287.6,2,290.7,2,65.4,2,30.3,2,0.14,2,2.11,2,4.873,2,2.317,2,-999,9,2209.4,2,2312,2
      320696_3,    S04I,67,1,29,29,2,19960606,2015,-59.6682,85.1172,2829,147.7,0.2667,34.3828,2,34.391,2,240.2,2,231.2,2,76.1,2,32.56,2,0.06,2,2.26,2,2.863,2,1.321,2,-999,9,2235,2,2322,2
      320696_3,    S04I,67,1,28,28,2,19960606,2015,-59.6682,85.1172,2829,176.9,1.0325,34.5272,2,34.5252,2,224.4,2,203,2,82.5,2,33.32,2,0.01,2,2.32,2,1.665,2,0.796,2,-999,9,2247.6,2,-999,9
      320696_3,    S04I,67,1,27,27,2,19960606,2015,-59.6682,85.1172,2829,211,1.1294,34.5776,2,34.5739,2,217.3,2,199.8,2,84.9,2,33.02,2,0.01,2,2.29,2,1.434,2,0.674,2,-999,9,2250.2,2,2335,2
      320696_3,    S04I,67,1,26,26,2,19960606,2015,-59.6682,85.1172,2829,255,0.8107,34.5737,2,34.5724,2,212.3,2,213.4,2,84.1,2,32.41,2,0.01,2,2.24,2,1.837,2,0.861,2,-999,9,2244,2,-999,9
      320696_3,    S04I,67,1,25,25,2,19960606,2015,-59.6682,85.1172,2829,321.2,1.049,34.6131,2,34.6119,2,201.3,2,206.3,2,85.8,2,32.21,2,0.01,2,2.24,2,1.405,2,0.679,2,-999,9,2249.6,2,2335,2
      320696_3,    S04I,67,1,24,24,2,19960606,2015,-59.6682,85.1172,2829,386.5,1.1168,34.6369,2,34.6366,2,198.1,2,205.4,2,87.2,2,31.91,2,0,2,2.21,2,1.222,2,0.598,2,-999,9,2248.1,2,2339,2
      320696_3,    S04I,67,1,23,23,2,19960606,2015,-59.6682,85.1172,2829,465.1,1.2781,34.6684,2,34.6688,2,197.7,2,201.8,2,88.9,2,31.5,2,0,2,2.19,2,0.895,2,0.497,2,-999,9,2248.9,2,-999,9
      320696_3,    S04I,67,1,22,22,2,19960606,2015,-59.6682,85.1172,2829,540.3,1.3809,34.6953,2,34.6936,2,199.3,2,200.4,2,90.7,2,31.19,2,0,2,2.16,2,0.664,2,0.347,2,-999,9,2247.8,2,-999,9
      320696_3,    S04I,67,1,21,21,2,19960606,2015,-59.6682,85.1172,2829,638.8,1.3635,34.6996,2,34.6985,2,201.2,2,201.2,2,91.6,2,30.89,2,0,2,2.15,2,0.624,2,0.311,2,-999,9,2247.1,2,2343,2
      320696_3,    S04I,67,1,20,20,2,19960606,2015,-59.6682,85.1172,2829,744.5,1.3349,34.7071,2,34.7079,2,201,2,202.2,2,93.4,2,30.84,2,0,2,2.13,2,0.553,2,0.291,2,-999,9,2248.7,2,-999,9
      320696_3,    S04I,67,1,19,19,2,19960606,2015,-59.6682,85.1172,2829,846.6,1.2934,34.7157,2,34.7152,2,203.4,2,203.2,2,96,2,30.79,2,0,2,2.13,2,-999,9,-999,9,-999,9,2248.7,2,2348,6
      320696_3,    S04I,67,1,18,18,2,19960606,2015,-59.6682,85.1172,2829,850.7,1.293,34.7152,2,34.7158,2,203.1,2,203.8,2,96.2,2,30.79,2,0,2,2.13,2,0.465,2,0.248,2,-999,9,-999,9,-999,9
      320696_3,    S04I,67,1,17,17,2,19960606,2015,-59.6682,85.1172,2829,1001,1.1399,34.7215,2,34.7219,2,206,2,204.5,2,103.4,2,30.74,2,0,2,2.14,2,0.285,2,0.148,2,-999,9,2251.3,2,2350,2
      320696_3,    S04I,67,1,16,16,2,19960606,2015,-59.6682,85.1172,2829,1151.5,0.9111,34.7112,2,34.7105,2,208.7,2,207.1,2,108.8,2,31.1,2,0,2,2.17,2,0.299,2,0.156,2,-999,9,2252.5,2,-999,9
      320696_3,    S04I,67,1,15,15,2,19960606,2015,-59.6682,85.1172,2829,1288.9,0.7592,34.7015,2,34.702,2,209.2,2,209.5,2,112.7,2,31.51,2,0,2,2.19,2,0.346,2,0.187,2,-999,9,2255.1,2,-999,9
      320696_3,    S04I,67,1,14,14,2,19960606,2015,-59.6682,85.1172,2829,1495.8,0.6932,34.6974,2,34.6981,2,210,2,210.5,2,114.8,2,31.61,2,0,2,2.2,2,0.353,2,0.196,2,-999,9,2254.2,2,2355,2
      320696_3,    S04I,67,1,13,13,2,19960606,2015,-59.6682,85.1172,2829,1690.6,0.6159,34.6946,2,34.6952,2,210.8,2,211.3,2,117.5,2,31.81,2,0,2,2.2,2,0.341,2,0.186,2,-999,9,2255.7,2,-999,9
      320696_3,    S04I,67,1,12,12,2,19960606,2015,-59.6682,85.1172,2829,1889,0.5217,34.6928,2,34.6932,2,212.1,2,211.2,2,122.8,2,31.96,2,0,2,2.22,2,0.207,2,0.123,2,-999,9,2258.5,2,-999,9
      320696_3,    S04I,67,1,11,11,2,19960606,2015,-59.6682,85.1172,2829,2101.4,0.303,34.6832,2,34.683,2,215.5,2,215,2,128.4,2,32.27,2,0,2,2.24,2,0.175,2,0.104,2,-999,9,2259,2,2357,2
      320696_3,    S04I,67,1,10,10,2,19960606,2015,-59.6682,85.1172,2829,2309,0.2055,34.6791,2,34.6789,2,218.9,2,218.9,2,128.8,2,32.22,2,0,2,2.24,2,0.279,2,0.159,2,-999,9,2257.3,2,-999,9
      320696_3,    S04I,67,1,9,9,2,19960606,2015,-59.6682,85.1172,2829,2508.1,0.196,34.679,2,34.6773,2,220.5,2,219.6,2,130.7,2,32.27,2,0,2,2.23,2,0.254,2,0.156,2,-999,9,2259,2,-999,9
      320696_3,    S04I,67,1,63,63,2,19960606,2015,-59.6682,85.1172,2829,2715.1,0.0952,34.6755,2,34.6755,2,221.1,2,224,2,129.5,2,32.12,2,0,2,2.23,2,0.39,2,0.208,2,-999,9,2257.5,2,-999,9
      320696_3,    S04I,67,1,7,7,2,19960606,2015,-59.6682,85.1172,2829,2925.3,0.0716,34.6752,2,34.6745,2,224.6,2,225.7,2,129.3,2,32.07,2,0,2,2.23,2,0.438,2,0.246,2,-999,9,2257.1,2,-999,9
      320696_3,    S04I,67,1,6,6,2,19960606,2015,-59.6682,85.1172,2829,3080.2,0.0165,34.6743,2,34.6739,2,227.2,2,227.8,2,129.1,2,32.07,2,0,2,2.23,2,0.541,2,0.285,2,-999,9,2256.1,2,-999,9
      320696_3,    S04I,67,1,5,5,2,19960606,2015,-59.6682,85.1172,2829,3231.5,0.0051,34.6741,2,34.673,2,228.7,2,228.6,2,128.3,2,32.07,2,0,2,2.23,2,0.606,2,0.265,2,-999,9,2256.5,2,-999,9
      320696_3,    S04I,67,1,4,4,2,19960606,2015,-59.6682,85.1172,2829,3377.6,-0.0279,34.6733,2,34.673,2,230.6,2,230.5,2,128.2,2,32.02,2,0,2,2.22,2,0.69,2,0.339,2,-999,9,2255.9,2,-999,9
      320696_3,    S04I,67,1,3,3,2,19960606,2015,-59.6682,85.1172,2829,3528.6,-0.0315,34.6734,2,34.6728,2,231.4,2,231.1,2,128.2,2,32.02,2,0,2,2.22,2,0.725,2,0.375,2,-999,9,2256.2,2,-999,9
      320696_3,    S04I,67,1,2,2,2,19960606,2015,-59.6682,85.1172,2829,3667.8,-0.0425,34.6728,2,-999,4,232.3,2,232.1,2,127.8,2,31.97,2,0,2,2.22,2,0.759,2,0.385,2,-999,9,-999,9,-999,9
      320696_3,    S04I,67,1,1,1,2,19960606,2015,-59.6682,85.1172,2829,3669.3,-0.0424,34.6729,2,34.6722,2,232.3,2,232,2,127.8,2,31.97,2,0,2,2.22,2,-999,9,-999,9,-999,9,2255.4,2,2353,2