BOTTLE,20211011SIOJHS,,,,,,,,,,,,,,,,,,,,,,,,,,,,,,,,,,,,,,
EXPOCODE,SECT_ID,STNNBR,CASTNO,SAMPNO,BTLNBR,BTLNBR_FLAG_W,DATE,TIME,LATITUDE,LONGITUDE,DEPTH,CTDPRS,CTDTMP,CTDSAL,CTDSAL_FLAG_W,SALNTY,SALNTY_FLAG_W,CTDOXY,CTDOXY_FLAG_W,OXYGEN,OXYGEN_FLAG_W,SILCAT,SILCAT_FLAG_W,NITRAT,NITRAT_FLAG_W,NITRIT,NITRIT_FLAG_W,PHSPHT,PHSPHT_FLAG_W,CFC-11,CFC-11_FLAG_W,CFC-12,CFC-12_FLAG_W,SF6,SF6_FLAG_W,TCARBN,TCARBN_FLAG_W,ALKALI,ALKALI_FLAG_W
,,,,,,,,,,,,DB,ITS-90,PSS-78,,PSS-78,,UMOL/KG,,UMOL/KG,,UMOL/KG,,UMOL/KG,,UMOL/KG,,UMOL/KG,,PMOL/KG,,PMOL/KG,,FMOL/KG,,UMOL/KG,,UMOL/KG,
      320696_3,    S04I,25,1,36,36,2,19960523,1242,-64.6887,40.0863,4755,16.2,-1.2386,34.0419,2,34.0403,2,-999,4,338.6,2,47.5,2,26.68,2,0.28,2,1.89,2,6.328,2,3.045,2,-999,9,2183.9,2,2312,6
      320696_3,    S04I,25,1,35,35,2,19960523,1242,-64.6887,40.0863,4755,31.7,-1.2367,34.0423,2,34.0409,2,-999,4,338.3,2,47.6,2,26.73,2,0.28,2,1.9,2,-999,9,-999,9,-999,9,2184.3,2,-999,9
      320696_3,    S04I,25,1,34,34,2,19960523,1242,-64.6887,40.0863,4755,56.4,-1.2344,34.0419,2,34.0601,2,-999,4,332.8,2,48.8,2,26.98,2,0.27,2,1.91,2,6.216,2,2.99,2,-999,9,-999,9,-999,9
      320696_3,    S04I,25,1,33,33,2,19960523,1242,-64.6887,40.0863,4755,81.7,0.2548,34.4199,2,34.4284,2,-999,4,232.3,2,76.1,2,32.98,2,0.03,2,2.27,2,-999,9,-999,9,-999,9,-999,9,-999,9
      320696_3,    S04I,25,1,32,32,2,19960523,1242,-64.6887,40.0863,4755,105.5,1.0252,34.5388,2,34.5439,2,-999,4,200.5,2,85,2,33.73,2,0.01,2,2.32,2,1.699,2,0.794,2,-999,9,-999,9,-999,9
      320696_3,    S04I,25,1,31,31,2,19960523,1242,-64.6887,40.0863,4755,130.3,1.2877,34.5945,2,34.5957,2,191.2,2,192.5,2,88.4,2,33.58,2,0.01,2,2.31,2,-999,9,-999,9,-999,9,-999,9,-999,9
      320696_3,    S04I,25,1,30,30,2,19960523,1242,-64.6887,40.0863,4755,155.8,1.3948,34.6198,2,34.6209,2,191.7,2,188.1,2,89.7,2,33.38,2,0,2,2.3,2,0.898,2,0.449,2,-999,9,-999,9,-999,9
      320696_3,    S04I,25,1,29,29,2,19960523,1242,-64.6887,40.0863,4755,181,1.459,34.6383,2,34.6399,2,187.8,2,-999,5,89.9,2,33.17,2,0,2,2.27,2,-999,9,-999,9,-999,9,-999,9,-999,9
      320696_3,    S04I,25,1,28,28,2,19960523,1242,-64.6887,40.0863,4755,207,1.4903,34.6531,2,34.6533,2,186.9,2,186.8,2,91,2,32.92,2,0,2,2.26,2,0.651,2,0.353,2,-999,9,-999,9,-999,9
      320696_3,    S04I,25,1,27,27,2,19960523,1242,-64.6887,40.0863,4755,231.6,1.4915,34.6636,2,34.6637,2,187.2,2,188.3,2,91.8,2,32.77,2,0.01,2,2.24,2,-999,9,-999,9,-999,9,-999,9,-999,9
      320696_3,    S04I,25,1,26,26,2,19960523,1242,-64.6887,40.0863,4755,257.6,1.4978,34.6739,2,34.6753,2,188.3,2,187.6,2,91.9,2,32.52,2,0,2,2.24,2,0.508,2,0.276,2,-999,9,-999,9,-999,9
      320696_3,    S04I,25,1,25,25,2,19960523,1242,-64.6887,40.0863,4755,306.9,1.4974,34.6904,2,34.6903,2,188.4,2,189.4,2,93.1,2,32.17,2,0,2,2.22,2,-999,9,-999,9,-999,9,-999,9,-999,9
      320696_3,    S04I,25,1,24,24,2,19960523,1242,-64.6887,40.0863,4755,402.1,1.4912,34.7112,2,34.7115,2,191.1,2,191.8,2,94.5,2,31.57,2,0,2,2.18,2,0.291,2,0.165,2,-999,9,-999,9,-999,9
      320696_3,    S04I,25,1,23,23,2,19960523,1242,-64.6887,40.0863,4755,498.3,1.3926,34.7191,2,34.7191,2,194.6,2,195.4,2,96.8,2,31.42,2,0,2,2.16,2,-999,9,-999,9,-999,9,-999,9,-999,9
      320696_3,    S04I,25,1,22,22,2,19960523,1242,-64.6887,40.0863,4755,647.6,1.2389,34.7213,2,34.7207,2,198.3,2,198.9,2,100.6,2,31.32,2,0,2,2.15,2,0.203,2,0.113,2,-999,9,-999,9,-999,9
      320696_3,    S04I,25,1,21,21,2,19960523,1242,-64.6887,40.0863,4755,805.6,1.073,34.7176,2,34.717,2,201.8,2,201.8,2,105.7,2,31.36,2,0,2,2.16,2,-999,9,-999,9,-999,9,2253.8,2,2362,6
      320696_3,    S04I,25,1,20,20,2,19960523,1242,-64.6887,40.0863,4755,1067.7,0.7927,34.7061,2,34.706,2,206.3,2,205.1,2,113.2,2,31.85,2,0,2,2.2,2,0.167,2,0.099,2,-999,9,-999,9,-999,9
      320696_3,    S04I,25,1,19,19,2,19960523,1242,-64.6887,40.0863,4755,1327.6,0.5736,34.6944,2,34.695,2,208.7,2,208,2,119.1,2,32.34,2,0,2,2.23,2,-999,9,-999,9,-999,9,-999,9,-999,9
      320696_3,    S04I,25,1,18,18,2,19960523,1242,-64.6887,40.0863,4755,1581.8,0.4201,34.6867,2,34.6873,2,210.3,2,211,2,123.5,2,32.58,2,0,2,2.25,2,0.136,2,0.086,2,-999,9,-999,9,-999,9
      320696_3,    S04I,25,1,17,17,2,19960523,1242,-64.6887,40.0863,4755,1835.9,0.2873,34.6808,2,34.6806,2,213.5,2,212.8,2,126.1,2,32.73,2,0,2,2.26,2,-999,9,-999,9,-999,9,-999,9,-999,9
      320696_3,    S04I,25,1,16,16,2,19960523,1242,-64.6887,40.0863,4755,2089.6,0.1792,34.6752,2,34.6757,2,216.5,2,216.3,2,127.5,2,32.72,2,0,2,2.26,2,0.132,2,0.081,2,-999,9,-999,9,-999,9
      320696_3,    S04I,25,1,15,15,2,19960523,1242,-64.6887,40.0863,4755,2289.1,0.1052,34.6721,2,34.672,2,220.1,2,221.3,2,127.9,2,32.67,2,0,2,2.26,2,-999,9,-999,9,-999,9,-999,9,-999,9
      320696_3,    S04I,25,1,14,14,2,19960523,1242,-64.6887,40.0863,4755,2489.6,0.0333,34.6687,2,34.6688,2,222.5,2,223,2,128.2,2,32.56,2,0,2,2.26,2,0.133,2,0.09,2,-999,9,-999,9,-999,9
      320696_3,    S04I,25,1,13,13,2,19960523,1242,-64.6887,40.0863,4755,2696.2,-0.034,34.6658,2,34.6661,2,226.7,2,226.4,2,128.1,2,32.51,2,0,2,2.25,2,-999,9,-999,9,-999,9,-999,9,-999,9
      320696_3,    S04I,25,1,12,12,2,19960523,1242,-64.6887,40.0863,4755,2905,-0.0889,34.6628,2,34.6637,2,229.4,2,229.8,2,127.8,2,32.45,2,0,2,2.24,2,0.246,2,0.144,2,-999,9,-999,9,-999,9
      320696_3,    S04I,25,1,11,11,2,19960523,1242,-64.6887,40.0863,4755,3106.3,-0.1318,34.662,2,34.6616,2,231.8,2,232.3,2,128.3,2,32.45,2,0,2,2.25,2,-999,9,-999,9,-999,9,-999,9,-999,9
      320696_3,    S04I,25,1,10,10,2,19960523,1242,-64.6887,40.0863,4755,3306.2,-0.1709,34.6598,2,34.6594,2,234.5,2,234.7,2,127.5,2,32.3,2,0,2,2.23,2,0.292,2,0.177,2,-999,9,-999,9,-999,9
      320696_3,    S04I,25,1,9,9,2,19960523,1242,-64.6887,40.0863,4755,3507.7,-0.2054,34.6587,2,34.6584,2,236.6,2,237.2,2,127.6,2,32.2,2,0,2,2.23,2,-999,9,-999,9,-999,9,-999,9,-999,9
      320696_3,    S04I,25,1,37,37,2,19960523,1242,-64.6887,40.0863,4755,3718.1,-0.2338,34.6572,2,34.6574,2,237.9,2,238.3,2,129,2,32.24,2,0,2,2.23,2,0.233,2,0.103,2,-999,9,-999,9,-999,9
      320696_3,    S04I,25,1,7,7,2,19960523,1242,-64.6887,40.0863,4755,3927.6,-0.2586,34.6565,2,34.6565,2,240.5,2,240.5,2,128.7,2,32.24,2,0,2,2.22,2,-999,9,-999,9,-999,9,-999,9,-999,9
      320696_3,    S04I,25,1,6,6,2,19960523,1242,-64.6887,40.0863,4755,4132.3,-0.2825,34.6546,2,34.6545,2,242.9,2,242.8,2,128.4,2,32.13,2,0,2,2.22,2,0.354,2,0.141,2,-999,9,-999,9,-999,9
      320696_3,    S04I,25,1,5,5,2,19960523,1242,-64.6887,40.0863,4755,4337.5,-0.2978,34.6537,2,34.6535,2,243.9,2,244.1,2,128.9,2,32.08,2,0,2,2.23,2,-999,9,-999,9,-999,9,-999,9,-999,9
      320696_3,    S04I,25,1,4,4,2,19960523,1242,-64.6887,40.0863,4755,4542.7,-0.313,34.6523,2,34.6521,2,246.3,2,245.7,2,129.7,2,32.07,2,0,2,2.21,2,0.502,2,0.263,2,-999,9,-999,9,-999,9
      320696_3,    S04I,25,1,3,3,2,19960523,1242,-64.6887,40.0863,4755,4646.8,-0.3188,34.6518,2,34.6517,2,246.6,2,246.5,2,130.8,2,32.07,2,0,2,2.21,2,0.446,2,0.228,2,-999,9,-999,9,-999,9
      320696_3,    S04I,25,1,2,2,2,19960523,1242,-64.6887,40.0863,4755,4748.9,-0.3327,34.6505,2,34.6498,2,246.3,2,246.1,2,134.4,2,32.11,2,0,2,2.23,2,0.481,2,0.256,2,-999,9,-999,9,-999,9
      320696_3,    S04I,25,1,1,1,2,19960523,1242,-64.6887,40.0863,4755,4809,-0.324,34.6508,2,34.651,2,244.9,2,244.8,2,137.5,2,32.25,2,0,2,2.23,2,0.323,2,0.135,2,-999,9,-999,9,-999,9
      320696_3,    S04I,26,1,36,36,2,19960524,658,-64.4645,41.6188,4435,14.7,-1.4121,34.0485,2,34.0482,2,-999,4,337.9,2,50.5,2,26.87,2,0.28,2,1.93,2,-999,9,-999,9,-999,9,2185.6,2,2313,6
      320696_3,    S04I,26,1,35,35,2,19960524,658,-64.4645,41.6188,4435,30.9,-1.4095,34.0491,2,34.0468,2,-999,4,338.1,2,50.5,2,26.88,2,0.28,2,1.93,2,-999,9,-999,9,-999,9,2183.5,2,2303,2
      320696_3,    S04I,26,1,34,34,2,19960524,658,-64.4645,41.6188,4435,46,-1.4125,34.0601,2,34.0641,2,-999,4,336.1,2,52,2,27.18,2,0.28,2,1.95,2,-999,9,-999,9,-999,9,2185.6,2,2307,2
      320696_3,    S04I,26,1,33,33,2,19960524,658,-64.4645,41.6188,4435,69.8,0.3805,34.4347,2,34.4408,2,-999,4,232.5,2,77.9,2,32.6,2,0.07,2,2.27,2,-999,9,-999,9,-999,9,2241.7,2,2327,2
      320696_3,    S04I,26,1,32,32,2,19960524,658,-64.4645,41.6188,4435,94.9,1.239,34.5773,2,34.5789,2,-999,4,189.6,2,87.6,2,33.9,2,0,2,2.35,2,-999,9,-999,9,-999,9,2258.1,2,2336,2
      320696_3,    S04I,26,1,31,31,2,19960524,658,-64.4645,41.6188,4435,124.7,1.417,34.6161,2,34.6164,2,-999,4,186.8,2,89.7,2,33.51,2,0,2,2.31,2,-999,9,-999,9,-999,9,2260.8,2,2342,2
      320696_3,    S04I,26,1,30,30,2,19960524,658,-64.4645,41.6188,4435,154.9,1.4856,34.6374,2,34.6371,2,-999,4,185.3,2,90.6,2,33.26,2,0,2,2.3,2,-999,9,-999,9,-999,9,2260,2,2339,2
      320696_3,    S04I,26,1,29,29,2,19960524,658,-64.4645,41.6188,4435,180.8,1.4922,34.6535,2,34.6524,2,-999,4,186,2,91.6,2,32.96,2,0,2,2.26,2,-999,9,-999,9,-999,9,2260.5,2,-999,9
      320696_3,    S04I,26,1,28,28,2,19960524,658,-64.4645,41.6188,4435,204.7,1.4945,34.6621,2,34.6597,2,189.2,2,188.1,2,92.1,2,32.86,2,0,2,2.26,2,-999,9,-999,9,-999,9,2258.9,2,2341,2
      320696_3,    S04I,26,1,27,27,2,19960524,658,-64.4645,41.6188,4435,231.7,1.5162,34.6759,2,34.6748,2,187.6,2,188.4,2,92.3,2,32.57,2,0,2,2.24,2,-999,9,-999,9,-999,9,2256,2,2351,2
      320696_3,    S04I,26,1,26,26,2,19960524,658,-64.4645,41.6188,4435,257,1.5437,34.6871,2,34.6855,2,187.8,2,187.1,2,92.7,2,32.37,2,0,2,2.24,2,-999,9,-999,9,-999,9,2256.5,2,2344,2
      320696_3,    S04I,26,1,25,25,2,19960524,658,-64.4645,41.6188,4435,297.1,1.5388,34.7002,2,34.6984,2,188.4,2,189.3,2,93.2,2,32.08,2,0,2,2.19,2,-999,9,-999,9,-999,9,2257.5,2,2349,2
      320696_3,    S04I,26,1,24,24,2,19960524,658,-64.4645,41.6188,4435,347.6,1.5247,34.7077,2,34.7073,2,191.2,2,191.9,2,94.2,2,31.78,2,0,2,2.19,2,-999,9,-999,9,-999,9,2252.6,2,2344,2
      320696_3,    S04I,26,1,23,23,2,19960524,658,-64.4645,41.6188,4435,407.4,1.4755,34.7163,2,34.7146,2,191.9,2,192.5,2,95.3,2,31.49,2,0,2,2.17,2,-999,9,-999,9,-999,9,2255.4,2,2352,2
      320696_3,    S04I,26,1,22,22,2,19960524,658,-64.4645,41.6188,4435,488.2,1.3929,34.7227,2,34.7217,2,194.6,2,196.5,2,98,2,31.29,2,0,2,2.16,2,0.224,2,0.129,2,-999,9,2254.2,2,2351,2
      320696_3,    S04I,26,1,21,21,2,19960524,658,-64.4645,41.6188,4435,567,1.3242,34.7244,2,34.7232,2,196.8,2,198,2,99.9,2,31.24,2,0,2,2.15,2,-999,9,-999,9,-999,9,2254,2,2351,2
      320696_3,    S04I,26,1,20,20,2,19960524,658,-64.4645,41.6188,4435,655.6,1.2198,34.7229,2,34.7219,2,198.9,2,199.6,2,102.4,2,31.29,2,0,2,2.13,2,0.191,2,0.117,2,-999,9,2256.9,2,2349,2
      320696_3,    S04I,26,1,19,19,2,19960524,658,-64.4645,41.6188,4435,754.5,1.1091,34.7214,2,34.7209,2,201,2,201.2,2,105.6,2,31.35,2,0,2,2.15,2,-999,9,-999,9,-999,9,2254.2,2,2362,2
      320696_3,    S04I,26,1,18,18,2,19960524,658,-64.4645,41.6188,4435,898.7,0.9975,34.717,2,34.7172,2,204.1,2,205,2,109.1,2,31.45,2,0,2,2.17,2,0.162,2,0.093,2,-999,9,2256.1,2,2358,6
      320696_3,    S04I,26,1,17,17,2,19960524,658,-64.4645,41.6188,4435,1098.4,0.804,34.7081,2,34.7068,2,206.1,2,205.6,2,114.1,2,31.8,2,0,2,2.19,2,-999,9,-999,9,-999,9,2259.1,2,2361,2
      320696_3,    S04I,26,1,16,16,2,19960524,658,-64.4645,41.6188,4435,1305.5,0.6283,34.6988,2,34.6981,2,208.8,2,207.3,2,118.5,2,32.2,2,0,2,2.21,2,0.149,2,0.101,2,-999,9,2261,2,2357,2
      320696_3,    S04I,26,1,15,15,2,19960524,658,-64.4645,41.6188,4435,1511.7,0.4742,34.69,2,34.6899,2,209.9,2,209.7,2,122.4,2,32.4,2,0,2,2.24,2,-999,9,-999,9,-999,9,2261.3,2,2363,2
      320696_3,    S04I,26,1,14,14,2,19960524,658,-64.4645,41.6188,4435,1766.6,0.3202,34.6821,2,34.6817,2,213.8,2,213,2,124.7,2,32.55,2,0,2,2.24,2,0.178,2,0.113,2,-999,9,2261.3,2,2355,2
      320696_3,    S04I,26,1,13,13,2,19960524,658,-64.4645,41.6188,4435,2019.4,0.1933,34.6745,2,34.6746,2,217.5,2,219.4,2,124.5,2,32.31,2,0,2,2.24,2,-999,9,-999,9,-999,9,2259.7,2,2359,2
      320696_3,    S04I,26,1,12,12,2,19960524,658,-64.4645,41.6188,4435,2323.7,0.0603,34.6693,2,34.6693,2,223.5,2,224.4,2,126,2,32.41,2,0,2,2.24,2,0.309,2,0.175,2,-999,9,2254.2,2,2359,2
      320696_3,    S04I,26,1,11,11,2,19960524,658,-64.4645,41.6188,4435,2630.6,-0.0443,34.6655,2,34.6652,2,228.3,2,229,2,125.8,2,32.36,2,0,2,2.23,2,-999,9,-999,9,-999,9,2256.6,2,2361,2
      320696_3,    S04I,26,1,61,61,2,19960524,658,-64.4645,41.6188,4435,2935.1,-0.1324,34.662,2,34.6611,2,233.3,2,233.5,2,124.4,2,32.17,2,0,2,2.23,2,-999,9,-999,9,-999,9,-999,9,-999,9
      320696_3,    S04I,26,1,62,62,2,19960524,658,-64.4645,41.6188,4435,2935.8,-0.1314,34.662,2,-999,4,233.3,2,-999,4,125,2,32.16,2,0,2,2.23,2,0.602,2,0.388,2,-999,9,-999,9,-999,9
      320696_3,    S04I,26,1,9,9,2,19960524,658,-64.4645,41.6188,4435,2936.1,-0.1315,34.6618,2,34.6613,2,233.3,2,233.7,2,124.6,2,32.16,2,0,2,2.23,2,-999,9,-999,9,-999,9,2255.5,2,2353,2
      320696_3,    S04I,26,1,7,7,2,19960524,658,-64.4645,41.6188,4435,3239.4,-0.1971,34.6592,2,34.6593,2,238.3,2,238.3,2,122.7,2,32.02,2,0,2,2.23,2,-999,9,-999,9,-999,9,2253.7,2,2358,2
      320696_3,    S04I,26,1,6,6,2,19960524,658,-64.4645,41.6188,4435,3542.3,-0.2482,34.6576,2,34.6566,2,240.2,2,240.3,2,125,2,32.02,2,0,2,2.22,2,-999,9,-999,9,-999,9,2252.7,2,2355,2
      320696_3,    S04I,26,1,5,5,2,19960524,658,-64.4645,41.6188,4435,3844.3,-0.3016,34.6543,2,34.6542,2,244,2,244.5,2,124.4,2,31.93,2,0,2,2.22,2,-999,9,-999,9,-999,9,2251.5,2,2358,2
      320696_3,    S04I,26,1,4,4,2,19960524,658,-64.4645,41.6188,4435,4099.8,-0.3302,34.6526,2,34.6517,2,247.7,2,246.8,2,123.6,2,31.92,2,0,2,2.22,2,-999,9,-999,9,-999,9,2250.5,2,2354,2
      320696_3,    S04I,26,1,3,3,2,19960524,658,-64.4645,41.6188,4435,4301.3,-0.3449,34.6517,2,34.6501,2,248.7,2,248.8,2,124.5,2,31.88,2,0,2,2.22,2,-999,9,-999,9,-999,9,2250,2,2359,2
      320696_3,    S04I,26,1,2,2,2,19960524,658,-64.4645,41.6188,4435,4405,-0.3707,34.6493,2,34.6482,2,250.5,2,250,2,124.7,2,31.88,2,0,2,2.21,2,1.078,2,0.547,2,-999,9,2250,2,-999,9
      320696_3,    S04I,26,1,1,1,2,19960524,658,-64.4645,41.6188,4435,4491.3,-0.3722,34.6489,2,34.6478,2,250.4,2,250.7,2,125.3,2,31.88,2,0,2,2.21,2,-999,9,-999,9,-999,9,2249.7,2,2359,2