BOTTLE,20211011SIOJHS,,,,,,,,,,,,,,,,,,,,,,,,,,,,,,,,,,,,,,
EXPOCODE,SECT_ID,STNNBR,CASTNO,SAMPNO,BTLNBR,BTLNBR_FLAG_W,DATE,TIME,LATITUDE,LONGITUDE,DEPTH,CTDPRS,CTDTMP,CTDSAL,CTDSAL_FLAG_W,SALNTY,SALNTY_FLAG_W,CTDOXY,CTDOXY_FLAG_W,OXYGEN,OXYGEN_FLAG_W,SILCAT,SILCAT_FLAG_W,NITRAT,NITRAT_FLAG_W,NITRIT,NITRIT_FLAG_W,PHSPHT,PHSPHT_FLAG_W,CFC-11,CFC-11_FLAG_W,CFC-12,CFC-12_FLAG_W,SF6,SF6_FLAG_W,TCARBN,TCARBN_FLAG_W,ALKALI,ALKALI_FLAG_W
,,,,,,,,,,,,DB,ITS-90,PSS-78,,PSS-78,,UMOL/KG,,UMOL/KG,,UMOL/KG,,UMOL/KG,,UMOL/KG,,UMOL/KG,,PMOL/KG,,PMOL/KG,,FMOL/KG,,UMOL/KG,,UMOL/KG,
      320696_3,    S04I,11,1,36,36,2,19960519,1731,-63.2002,28.6843,5224,16.6,-1.1993,33.855,2,33.8537,2,-999,4,348,2,44.8,2,24.48,2,0.31,2,1.72,2,-999,9,-999,9,-999,9,2165,2,-999,9
      320696_3,    S04I,11,1,35,35,2,19960519,1731,-63.2002,28.6843,5224,31.7,-1.1835,33.8571,2,33.8557,2,-999,4,347.7,2,43.7,2,24.53,2,0.31,2,1.72,2,-999,9,-999,9,-999,9,2163.5,2,-999,9
      320696_3,    S04I,11,1,34,34,2,19960519,1731,-63.2002,28.6843,5224,56.4,-1.2481,33.8778,2,33.8766,2,-999,4,348.2,2,46.1,2,24.79,2,0.3,2,1.73,2,-999,9,-999,9,-999,9,2165.9,2,-999,9
      320696_3,    S04I,11,1,33,33,2,19960519,1731,-63.2002,28.6843,5224,81.5,-1.1727,34.1747,2,34.184,2,-999,4,313.1,2,63.2,2,29.13,2,0.17,2,2.05,2,-999,9,-999,9,-999,9,2205.2,2,-999,9
      320696_3,    S04I,11,1,32,32,2,19960519,1731,-63.2002,28.6843,5224,106.8,-0.5041,34.3075,2,34.3249,2,-999,4,274,2,72.6,2,31.02,2,0.02,2,2.16,2,-999,9,-999,9,-999,9,2221.1,2,-999,9
      320696_3,    S04I,11,1,31,31,2,19960519,1731,-63.2002,28.6843,5224,156.6,1.0016,34.557,2,34.56,2,205.7,2,204,2,87.3,2,33.21,2,0.01,2,2.3,2,-999,9,-999,9,-999,9,2253.4,2,-999,9
      320696_3,    S04I,11,1,30,30,2,19960519,1731,-63.2002,28.6843,5224,205.2,1.32,34.6376,2,34.6382,2,191.2,2,190.4,2,92,2,32.91,2,0.01,2,2.28,2,-999,9,-999,9,-999,9,2258.6,2,-999,9
      320696_3,    S04I,11,1,29,29,2,19960519,1731,-63.2002,28.6843,5224,255.3,1.3852,34.6715,2,34.6714,2,189.6,2,190.3,2,93.6,2,32.46,2,0.01,2,2.25,2,-999,9,-999,9,-999,9,2257.6,2,-999,9
      320696_3,    S04I,11,1,28,28,2,19960519,1731,-63.2002,28.6843,5224,304.9,1.3847,34.686,2,34.6868,2,190.3,2,190.7,2,94.5,2,32.12,2,0.01,2,2.22,2,-999,9,-999,9,-999,9,2257.5,2,-999,9
      320696_3,    S04I,11,1,27,27,2,19960519,1731,-63.2002,28.6843,5224,353.9,1.3704,34.6976,2,34.6976,2,192.6,2,192.9,2,95.1,2,31.82,2,0.01,2,2.2,2,-999,9,-999,9,-999,9,2255.9,2,-999,9
      320696_3,    S04I,11,1,26,26,2,19960519,1731,-63.2002,28.6843,5224,402.8,1.3246,34.7049,2,34.7047,2,193.8,2,193.9,2,97.1,2,31.63,2,0,2,2.19,2,-999,9,-999,9,-999,9,2256.4,2,-999,9
      320696_3,    S04I,11,1,25,25,2,19960519,1731,-63.2002,28.6843,5224,504.7,1.2058,34.7104,2,34.711,2,197.3,2,197.7,2,100.6,2,31.53,2,0.01,2,2.17,2,-999,9,-999,9,-999,9,2256.7,2,-999,9
      320696_3,    S04I,11,1,24,24,2,19960519,1731,-63.2002,28.6843,5224,659,0.9929,34.7082,2,34.7078,2,201.4,2,200.6,2,106.2,2,31.68,2,0.01,2,2.19,2,-999,9,-999,9,-999,9,2257.4,2,-999,9
      320696_3,    S04I,11,1,23,23,2,19960519,1731,-63.2002,28.6843,5224,860.7,0.7533,34.699,2,34.699,2,204.5,2,202.7,2,112.2,2,32.13,2,0.01,2,2.22,2,-999,9,-999,9,-999,9,2260,2,-999,9
      320696_3,    S04I,11,1,22,22,2,19960519,1731,-63.2002,28.6843,5224,1063.1,0.6043,34.6949,2,34.6947,2,206.1,2,206.1,2,117.8,2,32.28,2,0,2,2.23,2,-999,9,-999,9,-999,9,2262.1,2,-999,9
      320696_3,    S04I,11,1,21,21,2,19960519,1731,-63.2002,28.6843,5224,1261.2,0.4745,34.6893,2,34.6892,2,206.9,2,208.2,2,121.5,2,32.54,2,0,2,2.25,2,-999,9,-999,9,-999,9,2262.1,2,-999,9
      320696_3,    S04I,11,1,20,20,2,19960519,1731,-63.2002,28.6843,5224,1463.6,0.3657,34.6853,2,34.6846,2,209.2,2,209.4,2,124.3,2,32.69,2,0,2,2.26,2,-999,9,-999,9,-999,9,2261.3,2,-999,9
      320696_3,    S04I,11,1,19,19,2,19960519,1731,-63.2002,28.6843,5224,1661.5,0.27,34.6802,2,34.6805,2,212,2,211.9,2,126.8,2,32.79,2,0,2,2.27,2,-999,9,-999,9,-999,9,2262.6,2,-999,9
      320696_3,    S04I,11,1,18,18,2,19960519,1731,-63.2002,28.6843,5224,1864.9,0.1877,34.6766,2,34.6766,2,215.4,2,214.8,2,128.1,2,32.69,2,0,2,2.27,2,-999,9,-999,9,-999,9,-999,9,-999,9
      320696_3,    S04I,11,1,17,17,2,19960519,1731,-63.2002,28.6843,5224,2075.4,0.1127,34.6726,2,34.6723,2,218.8,2,218.9,2,128.4,2,32.59,2,0,2,2.27,2,-999,9,-999,9,-999,9,-999,9,-999,9
      320696_3,    S04I,11,1,16,16,2,19960519,1731,-63.2002,28.6843,5224,2282.5,0.0403,34.6697,2,34.6691,2,222.4,2,222.2,2,129,2,32.59,2,0,2,2.26,2,-999,9,-999,9,-999,9,-999,9,-999,9
      320696_3,    S04I,11,1,15,15,2,19960519,1731,-63.2002,28.6843,5224,2486.7,-0.0273,34.6674,2,34.6658,2,225.1,2,226.1,2,128.4,2,32.5,2,0,2,2.26,2,-999,9,-999,9,-999,9,-999,9,-999,9
      320696_3,    S04I,11,1,14,14,2,19960519,1731,-63.2002,28.6843,5224,2691,-0.0805,34.6651,2,34.6646,2,228.6,2,228.5,2,129.3,2,32.5,2,0,2,2.26,2,-999,9,-999,9,-999,9,-999,9,-999,9
      320696_3,    S04I,11,1,13,13,2,19960519,1731,-63.2002,28.6843,5224,2894.6,-0.1231,34.6632,2,34.6635,2,231.2,2,231.5,2,128.9,2,32.4,2,0,2,2.25,2,-999,9,-999,9,-999,9,-999,9,-999,9
      320696_3,    S04I,11,1,12,12,2,19960519,1731,-63.2002,28.6843,5224,3096.3,-0.1587,34.6618,2,34.6609,2,233.5,2,233.5,2,128.5,2,32.35,2,0,2,2.25,2,-999,9,-999,9,-999,9,-999,9,-999,9
      320696_3,    S04I,11,1,11,11,2,19960519,1731,-63.2002,28.6843,5224,3300.1,-0.1917,34.6603,2,-999,3,235.7,2,235.8,2,128.6,2,32.25,2,0,2,2.24,2,-999,9,-999,9,-999,9,-999,9,-999,9
      320696_3,    S04I,11,1,10,10,2,19960519,1731,-63.2002,28.6843,5224,3507.5,-0.2116,34.6597,2,34.6582,2,236.7,2,236.6,2,128.8,2,32.21,2,0,2,2.24,2,-999,9,-999,9,-999,9,-999,9,-999,9
      320696_3,    S04I,11,1,9,9,2,19960519,1731,-63.2002,28.6843,5224,3712.2,-0.2346,34.6579,2,34.6572,2,238.5,2,238.7,2,129.2,2,32.16,2,0,2,2.24,2,-999,9,-999,9,-999,9,-999,9,-999,9
      320696_3,    S04I,11,1,8,8,2,19960519,1731,-63.2002,28.6843,5224,3914.9,-0.2552,34.6571,2,-999,4,240,2,240.1,2,129,2,32.16,2,0,2,2.23,2,-999,9,-999,9,-999,9,-999,9,-999,9
      320696_3,    S04I,11,1,7,7,2,19960519,1731,-63.2002,28.6843,5224,4119.3,-0.2721,34.6558,2,34.6556,2,241.7,2,242.7,2,128.2,2,32.06,2,0,2,2.23,2,-999,9,-999,9,-999,9,-999,9,-999,9
      320696_3,    S04I,11,1,6,6,2,19960519,1731,-63.2002,28.6843,5224,4323.5,-0.281,34.6548,2,34.655,2,242.9,2,242.9,2,129.5,2,32.12,2,0,2,2.23,2,-999,9,-999,9,-999,9,-999,9,-999,9
      320696_3,    S04I,11,1,5,5,2,19960519,1731,-63.2002,28.6843,5224,4529.7,-0.2904,34.6542,2,34.6541,2,243.4,2,243.6,2,130.8,2,32.07,2,0,2,2.23,2,-999,9,-999,9,-999,9,-999,9,-999,9
      320696_3,    S04I,11,1,4,4,2,19960519,1731,-63.2002,28.6843,5224,4733.4,-0.2986,34.6534,2,34.6533,2,244.6,2,244.7,2,131.1,2,32.12,2,0,2,2.23,2,-999,9,-999,9,-999,9,-999,9,-999,9
      320696_3,    S04I,11,1,3,3,2,19960519,1731,-63.2002,28.6843,5224,4939.6,-0.3038,34.6525,2,34.6521,2,245.9,2,246,2,132.6,2,32.02,2,0,2,2.23,2,-999,9,-999,9,-999,9,-999,9,-999,9
      320696_3,    S04I,11,1,2,2,2,19960519,1731,-63.2002,28.6843,5224,5146.9,-0.3123,34.6515,2,34.6517,2,245.9,2,246,2,135.8,2,32.17,2,0,2,2.22,2,-999,9,-999,9,-999,9,-999,9,-999,9
      320696_3,    S04I,11,1,1,1,2,19960519,1731,-63.2002,28.6843,5224,5275.2,-0.3127,34.6507,2,34.6506,2,246.6,2,246.1,2,137.5,2,32.12,2,0,2,2.22,2,-999,9,-999,9,-999,9,-999,9,-999,9
      320696_3,    S04I,12,1,36,36,2,19960519,2327,-63.6158,29.169,5168,16.4,-1.586,33.9222,2,33.9242,2,-999,4,347.8,2,47.8,2,25.26,2,0.29,2,1.78,2,6.865,2,3.283,2,-999,9,2170.4,2,-999,9
      320696_3,    S04I,12,1,35,35,2,19960519,2327,-63.6158,29.169,5168,30.5,-1.586,33.9219,2,33.9232,2,-999,4,348.2,2,47.8,2,25.21,2,0.29,2,1.78,2,6.871,2,3.309,2,-999,9,2170.8,2,-999,9
      320696_3,    S04I,12,1,34,34,2,19960519,2327,-63.6158,29.169,5168,55.6,-1.5548,33.9253,2,33.927,2,-999,4,347.4,2,47.9,2,25.26,2,0.29,2,1.78,2,6.774,2,3.239,2,-999,9,-999,9,-999,9
      320696_3,    S04I,12,1,33,33,2,19960519,2327,-63.6158,29.169,5168,80.5,-1.0473,34.1611,2,34.1798,2,-999,4,304.1,2,61.7,2,29.06,2,0.2,2,2.05,2,5.477,2,2.575,2,-999,9,-999,9,-999,9
      320696_3,    S04I,12,1,32,32,2,19960519,2327,-63.6158,29.169,5168,105.4,0.1795,34.3989,2,34.416,2,-999,4,239.1,2,78.1,2,32.36,2,0.02,2,2.26,2,3.227,2,1.464,2,-999,9,-999,9,-999,9
      320696_3,    S04I,12,1,31,31,2,19960519,2327,-63.6158,29.169,5168,136.7,0.8996,34.5311,2,34.5297,2,-999,4,208.8,2,85.4,2,33.36,2,0.01,2,2.31,2,1.969,2,0.896,2,-999,9,-999,9,-999,9
      320696_3,    S04I,12,1,30,30,2,19960519,2327,-63.6158,29.169,5168,171.4,1.2093,34.5981,2,34.5988,2,-999,4,194.3,2,89.7,2,33.36,2,0.01,2,2.31,2,1.186,2,0.573,2,-999,9,-999,9,-999,9
      320696_3,    S04I,12,1,29,29,2,19960519,2327,-63.6158,29.169,5168,206.3,1.3245,34.6364,2,34.637,2,192.2,2,191.3,2,92.1,2,32.96,2,0.01,2,2.29,2,0.848,2,0.76,2,-999,9,-999,9,-999,9
      320696_3,    S04I,12,1,28,28,2,19960519,2327,-63.6158,29.169,5168,246.6,1.3733,34.6594,2,34.66,2,189.2,2,189.5,2,93.1,2,32.76,2,0.01,2,2.26,2,0.652,2,0.325,2,-999,9,-999,9,-999,9
      320696_3,    S04I,12,1,27,27,2,19960519,2327,-63.6158,29.169,5168,281.6,1.404,34.6765,2,34.6777,2,189.9,2,189.3,2,94.4,2,32.61,2,0.01,2,2.25,2,0.528,2,0.277,2,-999,9,-999,9,-999,9
      320696_3,    S04I,12,1,26,26,2,19960519,2327,-63.6158,29.169,5168,316.7,1.4304,34.6908,2,34.6909,2,190.8,2,190.5,2,95.6,2,32.11,2,0,2,2.23,2,0.432,2,0.224,2,-999,9,-999,9,-999,9
      320696_3,    S04I,12,1,25,25,2,19960519,2327,-63.6158,29.169,5168,365.8,1.387,34.7029,2,34.7043,2,191.5,2,193,2,96.3,2,31.87,2,0,2,2.21,2,0.352,2,0.185,2,-999,9,-999,9,-999,9
      320696_3,    S04I,12,1,24,24,2,19960519,2327,-63.6158,29.169,5168,451.3,1.3399,34.7149,2,34.7161,2,193.5,2,195.9,2,98.5,2,31.47,2,0,2,2.18,2,0.266,2,0.149,2,-999,9,-999,9,-999,9
      320696_3,    S04I,12,1,23,23,2,19960519,2327,-63.6158,29.169,5168,522.2,1.257,34.7164,2,34.7173,2,197.7,2,197.5,2,100.6,2,31.47,2,0,2,2.18,2,0.247,2,0.136,2,-999,9,-999,9,-999,9
      320696_3,    S04I,12,1,22,22,2,19960519,2327,-63.6158,29.169,5168,625.7,1.1013,34.7138,2,34.714,2,201.1,2,200.2,2,103.9,2,31.57,2,0,2,2.19,2,0.238,2,0.129,2,-999,9,-999,9,-999,9
      320696_3,    S04I,12,1,21,21,2,19960519,2327,-63.6158,29.169,5168,729.9,0.9402,34.7071,2,34.7081,2,202.8,2,202.8,2,108.7,2,31.77,2,0,2,2.2,2,0.241,2,0.139,2,-999,9,-999,9,-999,9
      320696_3,    S04I,12,1,20,20,2,19960519,2327,-63.6158,29.169,5168,856.7,0.8267,34.7056,2,34.7057,2,205.7,2,204.6,2,111.8,2,31.82,2,0,2,2.21,2,0.206,2,0.118,2,-999,9,-999,9,-999,9
      320696_3,    S04I,12,1,19,19,2,19960519,2327,-63.6158,29.169,5168,1012.4,0.6714,34.6986,2,34.6989,2,206.6,2,205.6,2,116.2,2,32.11,2,0,2,2.24,2,0.193,2,0.109,2,-999,9,-999,9,-999,9
      320696_3,    S04I,12,1,18,18,2,19960519,2327,-63.6158,29.169,5168,1215,0.5173,34.6909,2,34.691,2,206.7,2,206.6,2,120.8,2,32.56,2,0,2,2.26,2,0.184,2,0.112,2,-999,9,-999,9,-999,9
      320696_3,    S04I,12,1,17,17,2,19960519,2327,-63.6158,29.169,5168,1419,0.4069,34.6863,2,34.6869,2,208.7,2,208.7,2,123.7,2,32.61,2,0,2,2.27,2,0.158,2,0.099,2,-999,9,-999,9,-999,9
      320696_3,    S04I,12,1,16,16,2,19960519,2327,-63.6158,29.169,5168,1674,0.2837,34.6804,2,34.6801,2,212.4,2,214.3,2,126.5,2,32.76,2,0,2,2.28,2,0.157,2,0.1,2,-999,9,-999,9,-999,9
      320696_3,    S04I,12,1,15,15,2,19960519,2327,-63.6158,29.169,5168,1926.9,0.1673,34.6749,2,34.675,2,216.7,2,216.9,2,127.5,2,32.76,2,0,2,2.28,2,0.164,2,0.098,2,-999,9,-999,9,-999,9
      320696_3,    S04I,12,1,14,14,2,19960519,2327,-63.6158,29.169,5168,2181.5,0.0772,34.6714,2,34.6721,2,220.1,2,220,2,128.8,2,32.71,2,0,2,2.28,2,0.152,2,0.095,2,-999,9,-999,9,-999,9
      320696_3,    S04I,12,1,13,13,2,19960519,2327,-63.6158,29.169,5168,2485.9,-0.0165,34.6674,2,34.667,2,225.5,2,226,2,128.6,2,32.61,2,0,2,2.28,2,0.195,2,0.118,2,-999,9,-999,9,-999,9
      320696_3,    S04I,12,1,12,12,2,19960519,2327,-63.6158,29.169,5168,2789.1,-0.0906,34.6636,2,34.6641,2,229.1,2,229.5,2,129.4,2,32.56,2,0,2,2.27,2,0.169,2,0.1,2,-999,9,-999,9,-999,9
      320696_3,    S04I,12,1,11,11,2,19960519,2327,-63.6158,29.169,5168,3091.3,-0.1557,34.6609,2,34.6611,2,233.9,2,233.7,2,128.1,2,32.36,2,0,2,2.26,2,0.279,2,0.155,2,-999,9,-999,9,-999,9
      320696_3,    S04I,12,1,10,10,2,19960519,2327,-63.6158,29.169,5168,3400.5,-0.1978,34.6597,2,34.6592,2,236,2,235.9,2,128.6,2,32.36,2,0,2,2.25,2,0.204,2,0.124,2,-999,9,-999,9,-999,9
      320696_3,    S04I,12,1,9,9,2,19960519,2327,-63.6158,29.169,5168,3709.7,-0.2287,34.6575,2,34.6572,2,239.1,2,-999,3,128.2,2,32.21,2,0,2,2.25,2,0.263,2,0.158,2,-999,9,-999,9,-999,9
      320696_3,    S04I,12,1,8,8,2,19960519,2327,-63.6158,29.169,5168,4013.2,-0.2581,34.6562,2,34.6565,2,241,2,241.5,2,128.5,2,32.21,2,0,2,2.24,2,0.281,2,0.171,2,-999,9,-999,9,-999,9
      320696_3,    S04I,12,1,7,7,2,19960519,2327,-63.6158,29.169,5168,4268.1,-0.277,34.6547,2,34.6553,2,242.7,2,242.5,2,129,2,32.16,2,0,2,2.24,2,0.287,2,0.169,2,-999,9,-999,9,-999,9
      320696_3,    S04I,12,1,6,6,2,19960519,2327,-63.6158,29.169,5168,4528,-0.2865,34.6546,2,34.6546,2,244.2,2,244.7,2,130.5,2,32.16,2,0,2,2.24,2,0.247,2,0.148,2,-999,9,-999,9,-999,9
      320696_3,    S04I,12,1,5,5,2,19960519,2327,-63.6158,29.169,5168,4734,-0.2956,34.6532,2,34.6548,2,245.3,2,245.4,2,131.2,2,32.06,2,0,2,2.23,2,0.278,2,0.162,2,-999,9,-999,9,-999,9
      320696_3,    S04I,12,1,4,4,2,19960519,2327,-63.6158,29.169,5168,4941.6,-0.3006,34.6524,2,34.6526,2,246.6,2,246.4,2,132.8,2,32.16,2,0,2,2.24,2,0.292,2,0.175,2,-999,9,-999,9,-999,9
      320696_3,    S04I,12,1,3,3,2,19960519,2327,-63.6158,29.169,5168,4993.5,-0.3016,34.652,2,34.6528,2,246.7,2,-999,3,133.3,2,32.16,2,0,2,2.24,2,0.252,2,0.147,2,-999,9,-999,9,-999,9
      320696_3,    S04I,12,1,2,2,2,19960519,2327,-63.6158,29.169,5168,5123.7,-0.3068,34.6516,2,34.6519,2,246.3,2,246.1,2,134.6,2,32.21,2,0,2,2.24,2,0.193,2,0.117,2,-999,9,-999,9,-999,9
      320696_3,    S04I,12,1,1,1,2,19960519,2327,-63.6158,29.169,5168,5207.2,-0.3056,34.6515,2,34.6523,2,246.8,2,246.8,2,136.2,2,32.21,2,0,2,2.25,2,0.193,2,0.114,2,-999,9,-999,9,-999,9