BOTTLE,20211011SIOJHS,,,,,,,,,,,,,,,,,,,,,,,,,,,,,,,,,,,,,,
EXPOCODE,SECT_ID,STNNBR,CASTNO,SAMPNO,BTLNBR,BTLNBR_FLAG_W,DATE,TIME,LATITUDE,LONGITUDE,DEPTH,CTDPRS,CTDTMP,CTDSAL,CTDSAL_FLAG_W,SALNTY,SALNTY_FLAG_W,CTDOXY,CTDOXY_FLAG_W,OXYGEN,OXYGEN_FLAG_W,SILCAT,SILCAT_FLAG_W,NITRAT,NITRAT_FLAG_W,NITRIT,NITRIT_FLAG_W,PHSPHT,PHSPHT_FLAG_W,CFC-11,CFC-11_FLAG_W,CFC-12,CFC-12_FLAG_W,SF6,SF6_FLAG_W,TCARBN,TCARBN_FLAG_W,ALKALI,ALKALI_FLAG_W
,,,,,,,,,,,,DB,ITS-90,PSS-78,,PSS-78,,UMOL/KG,,UMOL/KG,,UMOL/KG,,UMOL/KG,,UMOL/KG,,UMOL/KG,,PMOL/KG,,PMOL/KG,,FMOL/KG,,UMOL/KG,,UMOL/KG,
      320696_3,    S04I,31,1,36,36,2,19960525,2206,-63.5002,49.168,4789,19.5,-0.8579,33.9608,2,33.9602,2,-999,4,338.5,2,42.2,2,25.33,2,0.27,2,1.8,2,6.557,2,3.196,2,-999,9,2173.4,2,2304,6
      320696_3,    S04I,31,1,35,35,2,19960525,2206,-63.5002,49.168,4789,44.2,-0.8537,33.9627,2,33.9598,2,-999,4,339,2,42.2,2,25.33,2,0.27,2,1.81,2,-999,9,-999,9,-999,9,2172.1,2,-999,9
      320696_3,    S04I,31,1,34,34,2,19960525,2206,-63.5002,49.168,4789,65.2,-0.8587,33.9619,2,33.9596,2,-999,4,338.3,2,42,2,25.32,2,0.27,2,1.8,2,6.545,2,3.173,2,-999,9,-999,9,-999,9
      320696_3,    S04I,31,1,33,33,2,19960525,2206,-63.5002,49.168,4789,89,-0.8009,33.9712,2,33.9757,2,-999,4,334.9,2,43.1,2,25.63,2,0.26,2,1.82,2,-999,9,-999,9,-999,9,-999,9,-999,9
      320696_3,    S04I,31,1,32,32,2,19960525,2206,-63.5002,49.168,4789,121.5,0.643,34.4027,2,34.3664,2,233.6,2,235.8,2,74.2,2,33.08,2,0.02,2,2.3,2,3.281,2,1.538,2,-999,9,-999,9,-999,9
      320696_3,    S04I,31,1,31,31,2,19960525,2206,-63.5002,49.168,4789,150.7,1.3142,34.4868,2,34.4855,2,199.8,2,198.7,2,80.7,2,34.3,2,0.01,2,2.38,2,-999,9,-999,9,-999,9,-999,9,-999,9
      320696_3,    S04I,31,1,30,30,2,19960525,2206,-63.5002,49.168,4789,180.6,1.3023,34.5236,2,34.5266,2,189.4,2,195.2,2,84.4,2,34,2,0.01,2,2.36,2,1.552,2,0.736,2,-999,9,-999,9,-999,9
      320696_3,    S04I,31,1,29,29,2,19960525,2206,-63.5002,49.168,4789,211.1,1.6139,34.5901,2,34.5924,2,184.7,2,184,2,87,2,33.79,2,0,2,2.34,2,0.872,2,0.464,2,-999,9,-999,9,-999,9
      320696_3,    S04I,31,1,28,28,2,19960525,2206,-63.5002,49.168,4789,246,1.7097,34.6296,2,34.6263,2,181.8,2,181.6,2,88.3,2,33.39,2,0,2,2.31,2,0.654,2,0.351,2,-999,9,-999,9,-999,9
      320696_3,    S04I,31,1,27,27,2,19960525,2206,-63.5002,49.168,4789,280.4,1.7333,34.6502,2,34.6493,2,181.4,2,183.3,2,89.1,2,33.04,2,0,2,2.28,2,0.526,2,0.36,2,-999,9,-999,9,-999,9
      320696_3,    S04I,31,1,26,26,2,19960525,2206,-63.5002,49.168,4789,324,1.706,34.667,2,34.6664,2,183.3,2,183.2,2,90.4,2,32.68,2,0,2,2.25,2,0.46,2,0.254,2,-999,9,-999,9,-999,9
      320696_3,    S04I,31,1,25,25,2,19960525,2206,-63.5002,49.168,4789,357,1.779,34.6913,2,34.689,2,183.3,2,183.9,2,89.9,2,32.18,2,0,2,2.21,2,-999,9,-999,9,-999,9,-999,9,-999,9
      320696_3,    S04I,31,1,24,24,2,19960525,2206,-63.5002,49.168,4789,406.9,1.7178,34.701,2,34.6992,2,186.2,2,186.9,2,91.2,2,31.88,2,0,2,2.2,2,0.32,2,0.189,2,-999,9,-999,9,-999,9
      320696_3,    S04I,31,1,23,23,2,19960525,2206,-63.5002,49.168,4789,508.5,1.63,34.717,2,34.7159,2,190.9,2,191.2,2,92.7,2,31.22,2,0,2,2.16,2,-999,9,-999,9,-999,9,-999,9,-999,9
      320696_3,    S04I,31,1,22,22,2,19960525,2206,-63.5002,49.168,4789,630.3,1.5066,34.7309,2,34.7283,2,194.9,2,196.3,2,95.6,2,30.87,2,0,2,2.13,2,0.201,2,0.113,2,-999,9,-999,9,-999,9
      320696_3,    S04I,31,1,21,21,2,19960525,2206,-63.5002,49.168,4789,760.1,1.3055,34.7238,2,34.7234,2,199,2,198.3,2,100.5,2,31.07,2,0,2,2.14,2,0.208,2,0.125,2,-999,9,2254.2,2,2359,6
      320696_3,    S04I,31,1,20,20,2,19960525,2206,-63.5002,49.168,4789,912.9,1.1685,34.7224,2,34.7222,2,201.5,2,202.7,2,104.3,2,31.07,2,0,2,2.14,2,-999,9,-999,9,-999,9,-999,9,-999,9
      320696_3,    S04I,31,1,19,19,2,19960525,2206,-63.5002,49.168,4789,1115.2,0.953,34.7152,7,34.7159,2,204.9,2,204.9,2,110.6,2,31.37,2,0,2,2.17,2,0.163,2,0.124,2,-999,9,-999,9,-999,9
      320696_3,    S04I,31,1,18,18,2,19960525,2206,-63.5002,49.168,4789,1317.4,0.7603,34.704,2,34.7043,2,207.3,2,206.3,2,116.2,2,31.82,2,0,2,2.19,2,-999,9,-999,9,-999,9,-999,9,-999,9
      320696_3,    S04I,31,1,17,17,2,19960525,2206,-63.5002,49.168,4789,1519.3,0.6208,34.6975,2,34.6974,2,207.6,2,207.2,2,120.7,2,32.07,2,0,2,2.23,2,0.146,2,0.089,2,-999,9,-999,9,-999,9
      320696_3,    S04I,31,1,16,16,2,19960525,2206,-63.5002,49.168,4789,1723.7,0.492,34.6903,2,34.6899,2,209.4,2,208.7,2,124.3,2,32.38,2,0,2,2.24,2,-999,9,-999,9,-999,9,-999,9,-999,9
      320696_3,    S04I,31,1,15,15,2,19960525,2206,-63.5002,49.168,4789,1925.2,0.3883,34.685,2,34.6854,2,211.1,2,210.6,2,126.8,2,32.52,2,0,2,2.24,2,0.124,2,0.071,2,-999,9,-999,9,-999,9
      320696_3,    S04I,31,1,14,14,2,19960525,2206,-63.5002,49.168,4789,2129.5,0.2847,34.6797,2,34.6799,2,213.7,2,212.7,2,128.2,2,32.62,2,0,2,2.25,2,0.131,2,0.077,2,-999,9,-999,9,-999,9
      320696_3,    S04I,31,1,13,13,2,19960525,2206,-63.5002,49.168,4789,2434.4,0.1602,34.6745,2,34.674,2,217.9,2,218.2,2,129.9,2,32.62,2,0,2,2.26,2,-999,9,-999,9,-999,9,-999,9,-999,9
      320696_3,    S04I,31,1,12,12,2,19960525,2206,-63.5002,49.168,4789,2737.9,0.0493,34.669,2,34.6689,2,222.6,2,222.8,2,130.6,2,32.47,2,0,2,2.25,2,-999,9,-999,9,-999,9,-999,9,-999,9
      320696_3,    S04I,31,1,11,11,2,19960525,2206,-63.5002,49.168,4789,3043.3,-0.0434,34.665,2,34.6646,2,227.3,2,227.9,2,130.4,2,32.47,2,0,2,2.24,2,0.189,2,0.122,2,-999,9,-999,9,-999,9
      320696_3,    S04I,31,1,10,10,2,19960525,2206,-63.5002,49.168,4789,3351.2,-0.1115,34.6618,2,34.6618,2,231.6,2,232.1,2,130.2,2,32.37,2,0,2,2.24,2,-999,9,-999,9,-999,9,-999,9,-999,9
      320696_3,    S04I,31,1,9,9,2,19960525,2206,-63.5002,49.168,4789,3658.7,-0.1704,34.6593,2,34.6591,2,234.4,2,235.9,2,129.3,2,32.22,2,0,2,2.23,2,0.314,2,0.201,2,-999,9,-999,9,-999,9
      320696_3,    S04I,31,1,61,61,2,19960525,2206,-63.5002,49.168,4789,3659.2,-0.1704,34.659,2,34.6589,2,234.5,2,236.1,2,129.5,2,32.17,2,0,2,2.23,2,-999,9,-999,9,-999,9,-999,9,-999,9
      320696_3,    S04I,31,1,7,7,2,19960525,2206,-63.5002,49.168,4789,3913.8,-0.2173,34.6568,2,34.6569,2,239.8,2,239.7,2,127.5,2,32.07,2,0,2,2.22,2,-999,9,-999,9,-999,9,-999,9,-999,9
      320696_3,    S04I,31,1,6,6,2,19960525,2206,-63.5002,49.168,4789,4170.6,-0.2442,34.6554,2,34.6555,2,243,2,242,2,128.4,2,32.02,2,0,2,2.21,2,0.484,2,0.276,2,-999,9,-999,9,-999,9
      320696_3,    S04I,31,1,5,5,2,19960525,2206,-63.5002,49.168,4789,4373.9,-0.2735,34.6533,2,34.6533,2,245.4,2,246.5,2,125.4,2,31.86,2,0,2,2.2,2,0.824,2,0.478,2,-999,9,-999,9,-999,9
      320696_3,    S04I,31,1,4,4,2,19960525,2206,-63.5002,49.168,4789,4531.1,-0.3037,34.6507,2,34.6506,2,248.8,2,248.7,2,123.4,2,31.76,2,0,2,2.19,2,1.198,2,0.594,2,-999,9,-999,9,-999,9
      320696_3,    S04I,31,1,3,3,2,19960525,2206,-63.5002,49.168,4789,4684.3,-0.3239,34.648,2,34.6486,2,250.9,2,251.5,2,123.2,2,31.71,2,0,2,2.19,2,1.348,2,0.683,2,-999,9,-999,9,-999,9
      320696_3,    S04I,31,1,2,2,2,19960525,2206,-63.5002,49.168,4789,4786.8,-0.3524,34.6457,2,34.6459,2,252.6,2,252.9,2,122.7,2,31.66,2,0,2,2.18,2,1.535,2,0.748,2,-999,9,-999,9,-999,9
      320696_3,    S04I,31,1,1,1,2,19960525,2206,-63.5002,49.168,4789,4843,-0.353,34.6443,2,34.6449,2,253.7,2,-999,3,123.7,2,31.65,2,0,2,2.17,2,1.606,2,0.78,2,-999,9,-999,9,-999,9
      320696_3,    S04I,32,1,36,36,2,19960526,1345,-63.5,50.2505,4790,15.2,-1.1738,33.9905,2,33.9907,2,-999,4,337.9,2,42.5,2,25.74,2,0.25,2,1.85,2,6.554,2,3.13,2,-999,9,2178.8,2,2304,6
      320696_3,    S04I,32,1,35,35,2,19960526,1345,-63.5,50.2505,4790,35.5,-1.1708,33.9905,2,33.9909,2,-999,4,337.7,2,42.3,2,25.74,2,0.25,2,1.85,2,-999,9,-999,9,-999,9,2179.2,2,2300,2
      320696_3,    S04I,32,1,34,34,2,19960526,1345,-63.5,50.2505,4790,60.5,-1.1714,33.9903,2,33.9913,2,-999,4,338,2,41.9,2,25.69,2,0.25,2,1.85,2,-999,9,-999,9,-999,9,2177.9,2,2305,2
      320696_3,    S04I,32,1,33,33,2,19960526,1345,-63.5,50.2505,4790,79.4,0.3767,34.3714,2,34.3241,2,-999,4,246.9,2,69.4,2,31.88,2,0.09,2,2.24,2,-999,9,-999,9,-999,9,2230.5,2,2316,2
      320696_3,    S04I,32,1,32,32,2,19960526,1345,-63.5,50.2505,4790,115,1.2619,34.5178,2,34.5155,2,-999,4,196.5,2,82.7,2,34.03,2,0.01,2,2.37,2,0.648,2,0.828,2,-999,9,2254,2,2330,2
      320696_3,    S04I,32,1,31,31,2,19960526,1345,-63.5,50.2505,4790,154.8,1.4618,34.5706,2,34.5687,2,189.4,2,188.6,2,85.1,2,33.98,2,0.01,2,2.35,2,-999,9,-999,9,-999,9,2259,2,2341,2
      320696_3,    S04I,32,1,30,30,2,19960526,1345,-63.5,50.2505,4790,205.5,1.6169,34.6304,2,34.6283,2,183.6,2,182.8,2,87.7,2,33.37,2,0.01,2,2.3,2,0.714,2,0.38,2,-999,9,2258.2,2,2342,2
      320696_3,    S04I,32,1,29,29,2,19960526,1345,-63.5,50.2505,4790,231.8,1.631,34.6448,2,34.644,2,182.7,2,182.9,2,88.6,2,33.06,2,0.01,2,2.29,2,-999,9,-999,9,-999,9,2257.9,2,2337,2
      320696_3,    S04I,32,1,28,28,2,19960526,1345,-63.5,50.2505,4790,251.2,1.6304,34.6531,2,34.6526,2,183.2,2,183,2,89.3,2,32.91,2,0.01,2,2.28,2,0.591,2,0.322,2,-999,9,2258.8,2,2343,2
      320696_3,    S04I,32,1,27,27,2,19960526,1345,-63.5,50.2505,4790,305.7,1.6283,34.6701,2,34.6709,2,184.8,2,184.5,2,90,2,32.55,2,0.01,2,2.25,2,-999,9,-999,9,-999,9,2258.6,2,2340,2
      320696_3,    S04I,32,1,26,26,2,19960526,1345,-63.5,50.2505,4790,356.6,1.6277,34.6864,2,34.6854,2,185.9,2,186.6,2,90.9,2,32.2,2,0.01,2,2.22,2,-999,9,-999,9,-999,9,2257.8,2,2347,2
      320696_3,    S04I,32,1,25,25,2,19960526,1345,-63.5,50.2505,4790,405.8,1.6211,34.6983,2,34.6985,2,187.2,2,187.9,2,91.5,2,31.84,2,0,2,2.2,2,-999,9,-999,9,-999,9,2256.7,2,2348,2
      320696_3,    S04I,32,1,24,24,2,19960526,1345,-63.5,50.2505,4790,505.1,1.5669,34.7124,2,34.7132,2,190.1,2,192.3,2,92.7,2,31.48,2,0,2,2.18,2,0.277,2,0.156,2,-999,9,2254,2,2349,2
      320696_3,    S04I,32,1,23,23,2,19960526,1345,-63.5,50.2505,4790,606.5,1.4794,34.7211,2,34.7219,2,193.3,2,194.3,2,94.8,2,31.18,2,0,2,2.16,2,-999,9,-999,9,-999,9,2253.8,2,2351,2
      320696_3,    S04I,32,1,22,22,2,19960526,1345,-63.5,50.2505,4790,808.9,1.2418,34.7232,2,34.7234,2,199.5,2,199.4,2,100.9,2,31.08,2,0,2,2.15,2,0.196,2,0.109,2,-999,9,2255.3,2,2350,6
      320696_3,    S04I,32,1,21,21,2,19960526,1345,-63.5,50.2505,4790,1009.2,1.0394,34.7165,2,34.7171,2,203,2,202.5,2,106.6,2,31.33,2,0,2,2.16,2,-999,9,-999,9,-999,9,2254.6,2,2353,2
      320696_3,    S04I,32,1,20,20,2,19960526,1345,-63.5,50.2505,4790,1261.8,0.8247,34.707,2,34.7079,2,205.7,2,205.8,2,112.4,2,31.69,2,0,2,2.19,2,0.153,2,0.088,2,-999,9,2258.3,2,2358,2
      320696_3,    S04I,32,1,19,19,2,19960526,1345,-63.5,50.2505,4790,1469.7,0.6471,34.6984,2,34.6995,2,207.9,2,207.4,2,117.4,2,32.04,2,0,2,2.22,2,-999,9,-999,9,-999,9,2260.8,2,2356,2
      320696_3,    S04I,32,1,18,18,2,19960526,1345,-63.5,50.2505,4790,1671.7,0.5226,34.6921,2,34.6922,2,209.4,2,208.5,2,120.9,2,32.29,2,0,2,2.24,2,0.13,2,0.084,2,-999,9,2261.2,2,2360,2
      320696_3,    S04I,32,1,17,17,2,19960526,1345,-63.5,50.2505,4790,1873.2,0.4065,34.6859,2,34.6863,2,211.3,2,209.7,2,123.9,2,32.5,2,0,2,2.25,2,-999,9,-999,9,-999,9,2261.8,2,2359,2
      320696_3,    S04I,32,1,16,16,2,19960526,1345,-63.5,50.2505,4790,2072.5,0.3175,34.6815,2,34.6814,2,213.9,2,212.5,2,125.7,2,32.55,2,0,2,2.26,2,0.127,2,0.08,2,-999,9,2261.3,2,2360,2
      320696_3,    S04I,32,1,15,15,2,19960526,1345,-63.5,50.2505,4790,2276.2,0.2236,34.6773,2,34.6775,2,216.1,2,216,2,126.6,2,32.54,2,0,2,2.26,2,-999,9,-999,9,-999,9,2260.4,2,2357,2
      320696_3,    S04I,32,1,14,14,2,19960526,1345,-63.5,50.2505,4790,2480.4,0.1374,34.6733,2,34.6737,2,220,2,219.2,2,127.5,2,32.6,2,0,2,2.26,2,0.136,2,0.087,2,-999,9,2259.9,2,2356,2
      320696_3,    S04I,32,1,13,13,2,19960526,1345,-63.5,50.2505,4790,2683.2,0.0706,34.6705,2,34.6698,2,222.7,2,222.8,2,128.2,2,32.54,2,0,2,2.25,2,-999,9,-999,9,-999,9,2259.2,2,2355,2
      320696_3,    S04I,32,1,12,12,2,19960526,1345,-63.5,50.2505,4790,2887.9,0.0025,34.6676,2,34.6671,2,226,2,226.2,2,127.3,2,32.34,2,0,2,2.24,2,0.235,2,0.178,2,-999,9,2256.6,2,2358,2
      320696_3,    S04I,32,1,11,11,2,19960526,1345,-63.5,50.2505,4790,3094.4,-0.0619,34.6652,2,34.6639,2,230.4,2,230,2,125.5,2,32.24,2,0,2,2.23,2,-999,9,-999,9,-999,9,2256.8,2,2359,2
      320696_3,    S04I,32,1,10,10,2,19960526,1345,-63.5,50.2505,4790,3293.4,-0.1088,34.6632,2,34.6621,2,232.1,2,232.3,2,127.6,2,32.29,2,0,2,2.24,2,0.22,2,0.149,2,-999,9,2255.7,2,2358,2
      320696_3,    S04I,32,1,61,61,2,19960526,1345,-63.5,50.2505,4790,3503.7,-0.151,34.6608,2,34.6604,2,233.6,2,234.4,2,128.2,2,32.13,2,0,2,2.24,2,0.268,2,0.162,2,-999,9,2253.7,2,-999,9
      320696_3,    S04I,32,1,9,9,2,19960526,1345,-63.5,50.2505,4790,3504.3,-0.1505,34.6606,2,34.6602,2,233.6,2,234.6,2,127.9,2,32.29,2,0,2,2.24,2,-999,9,-999,9,-999,9,2253.1,2,2355,2
      320696_3,    S04I,32,1,7,7,2,19960526,1345,-63.5,50.2505,4790,3705.9,-0.1933,34.6588,2,34.6592,2,237.3,2,238.1,2,125.8,2,32.08,2,0,2,2.22,2,-999,9,-999,9,-999,9,2252.9,2,2354,2
      320696_3,    S04I,32,1,6,6,2,19960526,1345,-63.5,50.2505,4790,3908.5,-0.2298,34.6562,2,34.657,2,240.4,2,241,2,125.9,2,32.03,2,0,2,2.22,2,0.573,2,0.322,2,-999,9,2250.6,2,2353,2
      320696_3,    S04I,32,1,5,5,2,19960526,1345,-63.5,50.2505,4790,4111.3,-0.2608,34.6548,7,34.6549,2,242.9,2,243.1,2,126.3,2,31.98,2,0,2,2.21,2,-999,9,-999,9,-999,9,2252,2,2359,2
      320696_3,    S04I,32,1,4,4,2,19960526,1345,-63.5,50.2505,4790,4318.1,-0.2855,34.6523,7,34.6523,2,246.5,2,246.6,2,123.2,2,31.83,2,0,2,2.2,2,0.913,2,0.476,2,-999,9,2249.8,2,2356,2
      320696_3,    S04I,32,1,3,3,2,19960526,1345,-63.5,50.2505,4790,4569.6,-0.3132,34.6501,7,34.6501,2,-999,3,249,2,124.8,2,31.83,2,0,2,2.19,2,0.982,2,0.505,2,-999,9,2248.2,2,2357,2
      320696_3,    S04I,32,1,2,2,2,19960526,1345,-63.5,50.2505,4790,4773.5,-0.3484,34.6462,7,34.6468,2,-999,3,250.8,2,128,2,31.82,2,0.01,2,2.2,2,-999,9,-999,9,-999,9,2249.4,2,2355,2
      320696_3,    S04I,32,1,1,1,2,19960526,1345,-63.5,50.2505,4790,4843.8,-0.3393,34.6428,7,34.6478,2,-999,3,251.2,2,129.3,2,31.82,2,0.01,2,2.2,2,1.106,2,0.587,2,-999,9,2249.2,2,2357,2