BOTTLE,20211011SIOJHS,,,,,,,,,,,,,,,,,,,,,,,,,,,,,,,,,,,,,,
EXPOCODE,SECT_ID,STNNBR,CASTNO,SAMPNO,BTLNBR,BTLNBR_FLAG_W,DATE,TIME,LATITUDE,LONGITUDE,DEPTH,CTDPRS,CTDTMP,CTDSAL,CTDSAL_FLAG_W,SALNTY,SALNTY_FLAG_W,CTDOXY,CTDOXY_FLAG_W,OXYGEN,OXYGEN_FLAG_W,SILCAT,SILCAT_FLAG_W,NITRAT,NITRAT_FLAG_W,NITRIT,NITRIT_FLAG_W,PHSPHT,PHSPHT_FLAG_W,CFC-11,CFC-11_FLAG_W,CFC-12,CFC-12_FLAG_W,SF6,SF6_FLAG_W,TCARBN,TCARBN_FLAG_W,ALKALI,ALKALI_FLAG_W
,,,,,,,,,,,,DB,ITS-90,PSS-78,,PSS-78,,UMOL/KG,,UMOL/KG,,UMOL/KG,,UMOL/KG,,UMOL/KG,,UMOL/KG,,PMOL/KG,,PMOL/KG,,FMOL/KG,,UMOL/KG,,UMOL/KG,
      320696_3,    S04I,90,1,36,36,2,19960622,211,-62.2857,94.6698,3848,15.7,-1.7948,34.1762,2,34.1771,2,-999,4,324.1,2,56.9,2,28.08,2,0.19,2,1.98,2,-999,9,-999,9,-999,9,-999,9,-999,9
      320696_3,    S04I,90,1,35,35,2,19960622,211,-62.2857,94.6698,3848,15.7,-1.7973,34.176,2,34.1765,2,-999,4,324.2,2,56.9,2,28.13,2,0.19,2,1.98,2,5.917,2,2.856,2,-999,9,2194.7,2,2318,2
      320696_3,    S04I,90,1,34,34,2,19960622,211,-62.2857,94.6698,3848,40.1,-1.786,34.177,2,34.1777,2,-999,4,323.7,2,56.8,2,28.13,2,0.19,2,1.97,2,5.897,2,2.849,2,-999,9,2194.7,2,-999,9
      320696_3,    S04I,90,1,33,33,2,19960622,211,-62.2857,94.6698,3848,65.4,-1.6944,34.1865,2,34.1877,2,-999,4,320.2,2,57.6,2,28.33,2,0.19,2,1.99,2,5.777,2,2.745,2,-999,9,-999,9,-999,9
      320696_3,    S04I,90,1,32,32,2,19960622,211,-62.2857,94.6698,3848,84.9,-0.0597,34.4517,2,34.4647,2,-999,4,241.1,2,77.9,2,32.22,2,0.01,2,2.23,2,3.041,2,1.358,2,-999,9,-999,9,-999,9
      320696_3,    S04I,90,1,31,31,2,19960622,211,-62.2857,94.6698,3848,114.5,0.5026,34.5393,2,34.5441,2,209.2,2,221.7,2,81.6,2,32.47,2,0,2,2.25,2,2.193,2,1.006,2,-999,9,-999,9,-999,9
      320696_3,    S04I,90,1,30,30,2,19960622,211,-62.2857,94.6698,3848,144.3,0.8873,34.5954,2,34.5967,2,214,2,220.2,2,83.6,2,32.22,2,0,2,2.22,2,1.64,2,0.752,2,-999,9,-999,9,-999,9
      320696_3,    S04I,90,1,29,29,2,19960622,211,-62.2857,94.6698,3848,174.7,1.0445,34.6245,2,34.6277,2,-999,3,206.7,2,85.1,2,32.01,2,0,2,2.22,2,1.343,2,0.647,2,-999,9,-999,9,-999,9
      320696_3,    S04I,90,1,28,28,2,19960622,211,-62.2857,94.6698,3848,209.1,1.2127,34.6513,2,34.6495,2,202.5,2,202.2,2,86.2,2,31.86,2,0,2,2.2,2,1.056,2,0.511,2,-999,9,-999,9,-999,9
      320696_3,    S04I,90,1,27,27,2,19960622,211,-62.2857,94.6698,3848,261.6,1.2996,34.6782,2,34.6776,2,198.9,2,199.1,2,88.7,2,31.61,2,0,2,2.18,2,0.808,2,0.41,2,-999,9,-999,9,-999,9
      320696_3,    S04I,90,1,26,26,2,19960622,211,-62.2857,94.6698,3848,313.5,1.1734,34.6753,2,34.6774,2,200.1,2,202.7,2,89.9,2,31.51,2,0,2,2.18,2,0.863,2,0.434,2,-999,9,-999,9,-999,9
      320696_3,    S04I,90,1,25,25,2,19960622,211,-62.2857,94.6698,3848,374.9,1.1456,34.6873,2,34.6876,2,199.6,2,203,2,92.4,2,31.45,2,0,2,2.17,2,0.773,2,0.39,2,-999,9,-999,9,-999,9
      320696_3,    S04I,90,1,24,24,2,19960622,211,-62.2857,94.6698,3848,455.6,1.3349,34.7194,2,34.7187,2,201.5,2,202,2,94.4,2,30.85,2,0,2,2.13,2,0.419,2,0.233,2,-999,9,-999,9,-999,9
      320696_3,    S04I,90,1,23,23,2,19960622,211,-62.2857,94.6698,3848,543.9,1.265,34.7209,2,34.7201,2,202.7,2,203.2,2,97,2,30.85,2,0,2,2.13,2,0.386,2,0.198,2,-999,9,-999,9,-999,9
      320696_3,    S04I,90,1,22,22,2,19960622,211,-62.2857,94.6698,3848,627.4,1.1697,34.7194,2,34.7187,2,203.4,2,202.8,2,100.4,2,31.05,2,0,2,2.15,2,0.358,2,0.203,2,-999,9,-999,9,-999,9
      320696_3,    S04I,90,1,21,21,2,19960622,211,-62.2857,94.6698,3848,700.8,1.1294,34.7211,2,34.721,2,205,2,204.1,2,102.2,2,31,2,0,2,2.14,2,0.293,2,0.163,2,-999,9,-999,9,-999,9
      320696_3,    S04I,90,1,20,20,2,19960622,211,-62.2857,94.6698,3848,761.7,1.0818,34.7197,2,34.721,2,203.2,2,203.6,2,104.4,2,31.15,2,0,2,2.15,2,0.278,2,0.15,2,-999,9,-999,9,-999,9
      320696_3,    S04I,90,1,19,19,2,19960622,211,-62.2857,94.6698,3848,853.9,1.0095,34.7183,2,34.7191,2,204.2,2,205.4,2,106.8,2,31.2,2,0,2,2.16,2,0.232,2,0.125,2,-999,9,-999,9,-999,9
      320696_3,    S04I,90,1,18,18,2,19960622,211,-62.2857,94.6698,3848,1007.2,0.8982,34.714,2,34.7143,2,206,2,205.9,2,111.4,2,31.45,2,0,2,2.18,2,-999,9,-999,9,-999,9,-999,9,-999,9
      320696_3,    S04I,90,1,17,17,2,19960622,211,-62.2857,94.6698,3848,1154.3,0.768,34.7075,2,34.7074,2,208,2,207.3,2,114.7,2,31.65,2,0,2,2.2,2,0.192,2,0.114,2,-999,9,-999,9,-999,9
      320696_3,    S04I,90,1,16,16,2,19960622,211,-62.2857,94.6698,3848,1294.4,0.6763,34.7039,2,34.7035,2,209.3,2,209.1,2,118.1,2,31.84,2,0,2,2.2,2,0.167,2,0.096,2,-999,9,-999,9,-999,9
      320696_3,    S04I,90,1,15,15,2,19960622,211,-62.2857,94.6698,3848,1497.5,0.5102,34.6945,2,34.6947,2,211.5,2,211.7,2,122.4,2,31.99,2,0,2,2.23,2,0.163,2,0.098,2,-999,9,-999,9,-999,9
      320696_3,    S04I,90,1,14,14,2,19960622,211,-62.2857,94.6698,3848,1698,0.3921,34.6897,2,34.6891,2,213.9,2,213.5,2,125.2,2,32.14,2,0,2,2.24,2,0.187,2,0.096,2,-999,9,-999,9,-999,9
      320696_3,    S04I,90,1,13,13,2,19960622,211,-62.2857,94.6698,3848,1896.1,0.2948,34.6854,2,34.6852,2,216.3,2,216.4,2,126.7,2,32.29,2,0,2,2.24,2,0.229,2,0.126,2,-999,9,-999,9,-999,9
      320696_3,    S04I,90,1,12,12,2,19960622,211,-62.2857,94.6698,3848,2110.2,0.1849,34.6814,2,34.6815,2,220.1,2,220.1,2,127.6,2,32.29,2,0,2,2.24,2,0.299,2,0.16,2,-999,9,-999,9,-999,9
      320696_3,    S04I,90,1,11,11,2,19960622,211,-62.2857,94.6698,3848,2317.9,0.1079,34.6794,2,34.6791,2,223.2,2,223.2,2,127.8,2,32.24,2,0,2,2.24,2,0.383,2,0.214,2,-999,9,-999,9,-999,9
      320696_3,    S04I,90,1,10,10,2,19960622,211,-62.2857,94.6698,3848,2521.6,0.0395,34.6774,2,34.6771,2,225.9,2,225.8,2,128.1,2,32.19,2,0,2,2.24,2,0.475,2,0.25,2,-999,9,-999,9,-999,9
      320696_3,    S04I,90,1,9,9,2,19960622,211,-62.2857,94.6698,3848,2719.5,-0.0272,34.6754,2,34.6756,2,228.3,2,228.6,2,127.9,2,32.14,2,0,2,2.23,2,0.584,2,0.297,2,-999,9,-999,9,-999,9
      320696_3,    S04I,90,1,7,7,2,19960622,211,-62.2857,94.6698,3848,2915.5,-0.0693,34.6743,2,34.6746,2,230.4,2,230.7,2,129,2,32.13,2,0,2,2.23,2,0.651,2,0.34,2,-999,9,2255,2,-999,9
      320696_3,    S04I,90,1,63,63,2,19960622,211,-62.2857,94.6698,3848,2916,-0.0694,34.6741,2,34.6746,2,230.4,2,230.5,2,129.1,2,32.08,2,0,2,2.23,2,-999,9,-999,9,-999,9,-999,9,-999,9
      320696_3,    S04I,90,1,6,6,2,19960622,211,-62.2857,94.6698,3848,3118.9,-0.1037,34.6727,2,34.6726,2,232.8,2,233.4,2,124.7,2,32.03,2,0,2,2.22,2,0.885,2,0.437,2,-999,9,-999,9,-999,9
      320696_3,    S04I,90,1,5,5,2,19960622,211,-62.2857,94.6698,3848,3324.9,-0.1219,34.6715,2,34.6712,2,234.7,2,234.2,2,123.2,2,31.98,2,0,2,2.23,2,1.034,2,0.503,2,-999,9,-999,9,-999,9
      320696_3,    S04I,90,1,39,39,2,19960622,211,-62.2857,94.6698,3848,3532.9,-0.1295,34.6709,2,34.6712,2,235.2,2,235.2,2,125.3,2,32.03,2,0,2,2.22,2,1.015,2,0.497,2,-999,9,-999,9,-999,9
      320696_3,    S04I,90,1,3,3,2,19960622,211,-62.2857,94.6698,3848,3690.1,-0.1447,34.6708,2,34.6708,2,236.2,2,236.3,2,126.6,2,32.08,2,0,2,2.22,2,1.104,2,0.52,2,-999,9,-999,9,-999,9
      320696_3,    S04I,90,1,2,2,2,19960622,211,-62.2857,94.6698,3848,3786.2,-0.1598,34.6701,2,34.6698,2,237.4,2,237.3,2,125.9,2,31.98,2,0,2,2.22,2,1.242,2,0.583,2,-999,9,-999,9,-999,9
      320696_3,    S04I,90,1,1,1,2,19960622,211,-62.2857,94.6698,3848,3854.7,-0.1757,34.6689,2,34.6684,2,236.9,2,236.9,2,130.4,2,32.07,2,0.01,2,-999,3,1.377,2,0.637,2,-999,9,-999,9,-999,9
      320696_3,    S04I,91,1,36,36,2,19960622,1154,-62.1253,96.3253,3957,15.1,-1.8082,34.0976,2,34.0974,2,-999,4,331.6,2,52.6,2,27.87,2,0.2,2,1.95,2,6.142,2,2.942,2,-999,9,2186.9,2,2309,2
      320696_3,    S04I,91,1,35,35,2,19960622,1154,-62.1253,96.3253,3957,30.1,-1.8062,34.098,2,34.0983,2,-999,4,331.3,2,52.4,2,27.82,2,0.2,2,1.95,2,6.158,2,2.939,2,-999,9,2187.1,2,-999,9
      320696_3,    S04I,91,1,34,34,2,19960622,1154,-62.1253,96.3253,3957,54.7,-1.761,34.1146,2,34.1199,2,-999,4,329,2,53.6,2,28.03,2,0.19,2,1.96,2,6.066,2,2.906,2,-999,9,2189.5,2,-999,9
      320696_3,    S04I,91,1,33,33,2,19960622,1154,-62.1253,96.3253,3957,79.7,0.1517,34.4518,2,34.4498,2,-999,4,235.9,2,76.9,2,32.63,2,0.01,2,2.26,2,2.95,2,1.324,2,-999,9,2235.8,2,-999,9
      320696_3,    S04I,91,1,32,32,2,19960622,1154,-62.1253,96.3253,3957,104.6,0.6198,34.5291,2,34.5307,2,-999,4,217.1,2,80.8,2,32.83,2,0,2,2.28,2,2.127,2,0.979,2,-999,9,2244.7,2,-999,9
      320696_3,    S04I,91,1,31,31,2,19960622,1154,-62.1253,96.3253,3957,129.1,0.8274,34.5676,2,34.5716,2,-999,4,210.4,2,82.7,2,32.68,2,0,2,2.26,2,1.756,2,0.815,2,-999,9,2246.7,2,-999,9
      320696_3,    S04I,91,1,30,30,2,19960622,1154,-62.1253,96.3253,3957,178.3,1.2937,34.6382,2,34.638,2,-999,3,197.7,2,85.3,2,32.33,2,0,2,2.23,2,1.022,2,0.508,2,-999,9,2250.9,2,-999,9
      320696_3,    S04I,91,1,29,29,2,19960622,1154,-62.1253,96.3253,3957,226.8,1.2785,34.6575,2,34.6568,2,199.1,2,198.6,2,87.2,2,31.98,2,0,2,2.21,2,0.916,2,0.459,2,-999,9,2250.2,2,-999,9
      320696_3,    S04I,91,1,28,28,2,19960622,1154,-62.1253,96.3253,3957,275.1,1.4034,34.682,2,34.6804,2,194.3,2,196.1,2,88.5,2,31.67,2,0,2,2.19,2,0.695,2,0.358,2,-999,9,2251.2,2,-999,9
      320696_3,    S04I,91,1,27,27,2,19960622,1154,-62.1253,96.3253,3957,324.1,1.4954,34.7011,2,34.7003,2,196.4,2,195,2,89.5,2,31.37,2,0,2,2.17,2,0.514,2,0.27,2,-999,9,2250.9,2,-999,9
      320696_3,    S04I,91,1,26,26,2,19960622,1154,-62.1253,96.3253,3957,347.4,1.4774,34.7061,2,34.7062,2,196.2,2,-999,3,90.3,2,31.27,2,0,2,2.16,2,0.484,2,0.25,2,-999,9,2250.7,2,-999,9
      320696_3,    S04I,91,1,25,25,2,19960622,1154,-62.1253,96.3253,3957,370.2,1.4913,34.7124,2,34.7127,2,196.2,2,197.9,2,91.2,2,31.17,2,0,2,2.16,2,0.427,2,0.223,2,-999,9,2250.2,2,-999,9
      320696_3,    S04I,91,1,24,24,2,19960622,1154,-62.1253,96.3253,3957,411.7,1.4528,34.7171,2,34.7176,2,197,2,-999,3,92.3,2,31.02,2,0,2,2.16,2,0.403,2,0.211,2,-999,9,2250.2,2,-999,9
      320696_3,    S04I,91,1,23,23,2,19960622,1154,-62.1253,96.3253,3957,506.9,1.3679,34.72,2,34.7207,2,199.8,2,199.9,2,94.9,2,30.93,2,0,2,2.15,2,0.379,2,0.202,2,-999,9,2251.1,2,-999,9
      320696_3,    S04I,91,1,22,22,2,19960622,1154,-62.1253,96.3253,3957,600.3,1.2915,34.7243,2,34.7233,2,200.1,2,200.5,2,98.1,2,30.93,2,0,2,2.16,2,0.314,2,0.162,2,-999,9,2249.2,2,-999,9
      320696_3,    S04I,91,1,21,21,2,19960622,1154,-62.1253,96.3253,3957,694.9,1.2205,34.7245,2,34.7243,2,202.3,2,201.6,2,101,2,30.93,2,0,2,2.15,2,0.266,2,0.135,2,-999,9,2252,2,-999,9
      320696_3,    S04I,91,1,20,20,2,19960622,1154,-62.1253,96.3253,3957,788.4,1.1591,34.7248,2,34.7243,2,202.2,2,202.7,2,103.4,2,30.98,2,0,2,2.15,2,0.226,2,0.117,2,-999,9,2253.2,2,-999,9
      320696_3,    S04I,91,1,19,19,2,19960622,1154,-62.1253,96.3253,3957,941,1.0323,34.7206,2,34.7201,2,204.2,2,204.2,2,107.7,2,31.18,2,0,2,2.17,2,0.196,2,0.096,2,-999,9,2253.9,2,-999,9
      320696_3,    S04I,91,1,18,18,2,19960622,1154,-62.1253,96.3253,3957,1135.2,0.8698,34.7127,2,34.7131,2,205.9,2,205.7,2,113.2,2,31.53,2,0,2,2.19,2,-999,9,-999,9,-999,9,2257.6,2,-999,9
      320696_3,    S04I,91,1,17,17,2,19960622,1154,-62.1253,96.3253,3957,1329.7,0.7245,34.7056,2,34.7058,2,207.9,2,207.7,2,117.5,2,31.73,2,0,2,2.2,2,0.158,2,0.085,2,-999,9,2258,2,-999,9
      320696_3,    S04I,91,1,16,16,2,19960622,1154,-62.1253,96.3253,3957,1529.6,0.5708,34.6971,2,34.696,2,209.8,2,210,2,121.9,2,31.94,2,0,2,2.22,2,0.158,2,0.077,2,-999,9,2260,2,-999,9
      320696_3,    S04I,91,1,15,15,2,19960622,1154,-62.1253,96.3253,3957,1730.1,0.4455,34.6914,2,34.6899,2,212.5,2,212.4,2,125,2,32.14,2,0,2,2.24,2,0.171,2,0.094,2,-999,9,2259.5,2,-999,9
      320696_3,    S04I,91,1,14,14,2,19960622,1154,-62.1253,96.3253,3957,1831.2,0.3713,34.6877,2,34.6877,2,213.8,2,214.6,2,125.7,2,32.14,2,0,2,2.24,2,0.219,2,0.114,2,-999,9,2259.3,2,-999,9
      320696_3,    S04I,91,1,13,13,2,19960622,1154,-62.1253,96.3253,3957,1933.1,0.3169,34.6858,2,34.6857,2,216,2,216.5,2,126,2,32.09,2,0,2,2.24,2,0.264,2,0.14,2,-999,9,2260.5,2,-999,9
      320696_3,    S04I,91,1,12,12,2,19960622,1154,-62.1253,96.3253,3957,2135.7,0.1954,34.6812,2,34.6822,2,220.2,2,221.3,2,127.2,2,32.14,2,0,2,2.24,2,0.329,2,0.173,2,-999,9,2258.7,2,-999,9
      320696_3,    S04I,91,1,11,11,2,19960622,1154,-62.1253,96.3253,3957,2337.9,0.117,34.6796,2,34.6798,2,223.2,2,223,2,128,2,32.14,2,0,2,2.24,2,0.387,2,0.205,2,-999,9,2256.3,2,-999,9
      320696_3,    S04I,91,1,10,10,2,19960622,1154,-62.1253,96.3253,3957,2540.9,0.0476,34.6782,2,34.6765,2,225.8,2,225.4,2,129.2,2,32.09,2,0,2,2.24,2,0.411,2,0.218,2,-999,9,2256.5,2,-999,9
      320696_3,    S04I,91,1,9,9,2,19960622,1154,-62.1253,96.3253,3957,2745.3,-0.0122,34.6769,2,34.6757,2,228.3,2,229.1,2,129.2,2,32.14,2,0,2,2.23,2,0.507,2,0.266,2,-999,9,2256.1,2,-999,9
      320696_3,    S04I,91,1,63,63,2,19960622,1154,-62.1253,96.3253,3957,2949.4,-0.0639,34.6749,2,34.6741,2,231,2,230.6,2,128.4,2,32.04,2,0,2,2.23,2,0.636,2,0.33,2,-999,9,2255.7,2,-999,9
      320696_3,    S04I,91,1,7,7,2,19960622,1154,-62.1253,96.3253,3957,3157.1,-0.0997,34.6733,2,34.6726,2,232.9,2,232.7,2,127.7,2,31.99,2,0,2,2.22,2,0.764,2,0.384,2,-999,9,2255.2,2,-999,9
      320696_3,    S04I,91,1,6,6,2,19960622,1154,-62.1253,96.3253,3957,3360.4,-0.1274,34.6721,2,34.671,2,235.2,2,235.4,2,126.1,2,31.94,2,0,2,2.22,2,0.933,2,0.459,2,-999,9,2255.4,2,-999,9
      320696_3,    S04I,91,1,5,5,2,19960622,1154,-62.1253,96.3253,3957,3566.7,-0.1446,34.672,2,34.671,2,236.2,2,237,2,126.6,2,31.95,2,0,2,2.21,2,1.043,2,0.518,2,-999,9,2254.2,2,-999,9
      320696_3,    S04I,91,1,39,39,2,19960622,1154,-62.1253,96.3253,3957,3776.4,-0.1554,34.6699,2,34.67,2,236.1,2,236.9,2,127,2,31.95,2,0,2,2.21,2,1.178,2,0.564,2,-999,9,2254.2,2,-999,9
      320696_3,    S04I,91,1,3,3,2,19960622,1154,-62.1253,96.3253,3957,3849.8,-0.1617,34.6701,2,34.6692,2,237.6,2,237.4,2,127.2,2,31.95,2,0,2,2.22,2,1.248,2,0.597,2,-999,9,2254,2,-999,9
      320696_3,    S04I,91,1,2,2,2,19960622,1154,-62.1253,96.3253,3957,3923.1,-0.171,34.6683,2,34.6677,2,236.6,2,237.2,2,131,2,32,2,0,2,2.22,2,1.363,2,0.647,2,-999,9,2254.5,2,-999,9
      320696_3,    S04I,91,1,1,1,2,19960622,1154,-62.1253,96.3253,3957,3977.7,-0.1692,34.6687,2,34.668,2,237.3,2,237.2,2,131.5,2,32.04,2,0.01,2,2.22,2,1.398,2,0.671,2,-999,9,2255.5,2,-999,9