BOTTLE,20211011SIOJHS,,,,,,,,,,,,,,,,,,,,,,,,,,,,,,,,,,,,,,
EXPOCODE,SECT_ID,STNNBR,CASTNO,SAMPNO,BTLNBR,BTLNBR_FLAG_W,DATE,TIME,LATITUDE,LONGITUDE,DEPTH,CTDPRS,CTDTMP,CTDSAL,CTDSAL_FLAG_W,SALNTY,SALNTY_FLAG_W,CTDOXY,CTDOXY_FLAG_W,OXYGEN,OXYGEN_FLAG_W,SILCAT,SILCAT_FLAG_W,NITRAT,NITRAT_FLAG_W,NITRIT,NITRIT_FLAG_W,PHSPHT,PHSPHT_FLAG_W,CFC-11,CFC-11_FLAG_W,CFC-12,CFC-12_FLAG_W,SF6,SF6_FLAG_W,TCARBN,TCARBN_FLAG_W,ALKALI,ALKALI_FLAG_W
,,,,,,,,,,,,DB,ITS-90,PSS-78,,PSS-78,,UMOL/KG,,UMOL/KG,,UMOL/KG,,UMOL/KG,,UMOL/KG,,UMOL/KG,,PMOL/KG,,PMOL/KG,,FMOL/KG,,UMOL/KG,,UMOL/KG,
      320696_3,    S04I,29,1,36,36,2,19960525,747,-63.7362,46.408,4270,14.2,-1.0822,34.1425,2,34.1423,2,-999,4,330.4,2,55.2,2,28.15,2,0.17,2,1.97,2,-999,9,-999,9,-999,9,2192.4,2,-999,9
      320696_3,    S04I,29,1,35,35,2,19960525,747,-63.7362,46.408,4270,14.6,-1.0824,34.1429,2,34.1409,2,-999,4,330.1,2,55.2,2,28.15,2,0.17,2,2.01,2,6.094,2,2.959,2,-999,9,2195,2,2310,2
      320696_3,    S04I,29,1,34,34,2,19960525,747,-63.7362,46.408,4270,34,-1.0776,34.1423,2,34.1415,2,-999,4,329.7,2,55.1,2,28.15,2,0.17,2,1.97,2,6.127,2,2.968,2,-999,9,2194.1,2,2315,2
      320696_3,    S04I,29,1,33,33,2,19960525,747,-63.7362,46.408,4270,59.7,-1.0784,34.1416,2,34.1427,2,-999,4,330.6,2,55.5,2,28.15,2,0.17,2,1.97,2,6.083,2,2.978,2,-999,9,2192.2,2,2316,2
      320696_3,    S04I,29,1,32,32,2,19960525,747,-63.7362,46.408,4270,94.7,1.3249,34.5994,2,34.5995,2,-999,4,186.5,2,88.7,2,33.69,2,0.01,2,2.33,2,1.043,2,0.517,2,-999,9,2259.4,2,2339,2
      320696_3,    S04I,29,1,31,31,2,19960525,747,-63.7362,46.408,4270,124.9,1.5048,34.6368,2,34.6364,2,185,2,184.7,2,90.5,2,33.34,2,0.01,2,2.31,2,0.741,2,0.397,2,-999,9,2260.4,2,2342,2
      320696_3,    S04I,29,1,30,30,2,19960525,747,-63.7362,46.408,4270,155,1.5801,34.6647,2,34.6638,2,184,2,183.9,2,91.8,2,32.84,2,0,2,2.26,2,0.557,2,0.302,2,-999,9,2258.2,2,2343,2
      320696_3,    S04I,29,1,29,29,2,19960525,747,-63.7362,46.408,4270,189.1,1.5919,34.6791,2,34.6785,2,184.6,2,184.8,2,92.3,2,32.59,2,0.01,2,2.24,2,0.449,2,0.25,2,-999,9,2258.3,2,2347,2
      320696_3,    S04I,29,1,28,28,2,19960525,747,-63.7362,46.408,4270,222,1.5952,34.6902,2,34.6889,2,186.7,2,186,2,92.6,2,32.29,2,0,2,2.22,2,0.399,2,0.224,2,-999,9,2257.7,2,2345,2
      320696_3,    S04I,29,1,27,27,2,19960525,747,-63.7362,46.408,4270,261.3,1.5886,34.7017,2,34.7017,2,187.7,2,187.3,2,93.3,2,31.94,2,0,2,2.2,2,0.334,2,0.201,2,-999,9,2254.6,2,2350,2
      320696_3,    S04I,29,1,26,26,2,19960525,747,-63.7362,46.408,4270,304.8,1.5661,34.7097,2,34.7092,2,189.4,2,190.1,2,94,2,31.69,2,0,2,2.17,2,0.297,2,0.167,2,-999,9,2253.6,2,2350,2
      320696_3,    S04I,29,1,25,25,2,19960525,747,-63.7362,46.408,4270,356.2,1.5302,34.7166,2,34.717,2,191.4,2,192.1,2,94.9,2,31.44,2,0,2,2.16,2,0.264,2,0.143,2,-999,9,2252.7,2,2353,2
      320696_3,    S04I,29,1,24,24,2,19960525,747,-63.7362,46.408,4270,433.4,1.4546,34.7231,2,34.7224,2,193.6,2,194.5,2,96.5,2,31.13,2,0,2,2.15,2,0.237,2,0.139,2,-999,9,2255.3,2,2352,2
      320696_3,    S04I,29,1,23,23,2,19960525,747,-63.7362,46.408,4270,507.4,1.3883,34.7256,2,34.7255,2,195.9,2,196.5,2,97.9,2,31.13,2,0,2,2.14,2,0.207,2,0.114,2,-999,9,2254.5,2,2355,2
      320696_3,    S04I,29,1,22,22,2,19960525,747,-63.7362,46.408,4270,607.5,1.2837,34.726,2,34.7249,2,199.3,2,199.3,2,101.1,2,31.13,2,0,2,2.14,2,0.189,2,0.123,2,-999,9,2253.4,2,2352,2
      320696_3,    S04I,29,1,21,21,2,19960525,747,-63.7362,46.408,4270,710.9,1.1574,34.723,2,34.7226,2,200.2,2,201.4,2,104.3,2,31.18,2,0,2,2.14,2,0.162,2,0.106,2,-999,9,2253.6,2,2354,2
      320696_3,    S04I,29,1,20,20,2,19960525,747,-63.7362,46.408,4270,810.7,1.0539,34.7199,2,34.7194,2,202.5,2,203.3,2,107.1,2,31.23,2,0,2,2.16,2,0.159,2,0.103,2,-999,9,2255.3,2,2361,6
      320696_3,    S04I,29,1,19,19,2,19960525,747,-63.7362,46.408,4270,961.2,0.9037,34.7128,2,34.7128,2,205.6,2,204.8,2,111,2,31.47,2,0,2,2.17,2,0.164,2,0.117,2,-999,9,2257.8,2,2355,2
      320696_3,    S04I,29,1,18,18,2,19960525,747,-63.7362,46.408,4270,1116.5,0.7447,34.7035,2,34.7043,2,207.5,2,207.8,2,114,2,31.67,2,0,2,2.19,2,0.2,2,0.131,2,-999,9,2257.7,2,2358,2
      320696_3,    S04I,29,1,17,17,2,19960525,747,-63.7362,46.408,4270,1266.9,0.6146,34.697,2,-999,4,209.6,2,209.5,2,117.6,2,31.92,2,0,2,2.21,2,0.211,2,0.148,2,-999,9,2258.9,2,2354,2
      320696_3,    S04I,29,1,16,16,2,19960525,747,-63.7362,46.408,4270,1417.3,0.5063,34.6908,2,34.6908,2,211.3,2,210.4,2,120.4,2,32.12,2,0,2,2.22,2,0.195,2,0.127,2,-999,9,2261.5,2,2362,2
      320696_3,    S04I,29,1,15,15,2,19960525,747,-63.7362,46.408,4270,1619.9,0.3885,34.6848,2,34.6855,2,212.9,2,-999,3,124.2,2,32.37,2,0,2,2.23,2,0.177,2,0.11,2,-999,9,2262.6,2,2357,2
      320696_3,    S04I,29,1,14,14,2,19960525,747,-63.7362,46.408,4270,1825.4,0.2742,34.6786,2,34.6784,2,216.1,2,215.4,2,125.7,2,32.41,2,0,2,2.24,2,0.232,2,0.148,2,-999,9,2260.1,2,2363,2
      320696_3,    S04I,29,1,13,13,2,19960525,747,-63.7362,46.408,4270,2027.9,0.162,34.6719,2,34.6725,2,219.1,2,219.8,2,126.2,2,32.36,2,0,2,2.23,2,0.316,2,0.185,2,-999,9,2257,2,2356,2
      320696_3,    S04I,29,1,12,12,2,19960525,747,-63.7362,46.408,4270,2281.1,0.0607,34.6684,2,34.6692,2,222.3,2,223.3,2,128.1,2,32.36,2,0,2,2.24,2,0.293,2,0.173,2,-999,9,2258.9,2,2362,2
      320696_3,    S04I,29,1,11,11,2,19960525,747,-63.7362,46.408,4270,2536.1,-0.0179,34.6669,2,34.6666,2,225.7,2,226.3,2,129.8,2,32.41,2,0,2,2.24,2,0.227,2,0.142,2,-999,9,2259.2,2,2356,2
      320696_3,    S04I,29,1,10,10,2,19960525,747,-63.7362,46.408,4270,2790.6,-0.0948,34.6634,2,34.6633,2,229.2,2,-999,3,128.7,2,32.31,2,0,2,2.23,2,0.324,2,0.184,2,-999,9,-999,3,2361,2
      320696_3,    S04I,29,1,61,61,2,19960525,747,-63.7362,46.408,4270,3041.7,-0.1532,34.6612,2,34.6603,2,233.5,2,-999,4,127.2,2,32.15,2,0,2,2.22,2,0.487,2,0.293,2,-999,9,-999,9,-999,9
      320696_3,    S04I,29,1,9,9,2,19960525,747,-63.7362,46.408,4270,3042.5,-0.1531,34.661,2,34.6607,2,233.5,2,-999,3,126.5,2,32.11,2,0,2,2.22,2,0.469,2,0.285,2,-999,9,2255.5,2,2354,2
      320696_3,    S04I,29,1,7,7,2,19960525,747,-63.7362,46.408,4270,3294.8,-0.2138,34.6587,2,34.6582,2,237.3,2,-999,3,126.2,2,32.05,2,0,2,2.22,2,0.616,2,0.359,2,-999,9,2252.4,2,2357,2
      320696_3,    S04I,29,1,6,6,2,19960525,747,-63.7362,46.408,4270,3552.7,-0.2588,34.657,2,34.6554,2,241.5,2,241.9,2,124.7,2,31.95,2,0,2,2.22,2,0.779,2,0.418,2,-999,9,2250.9,2,2354,2
      320696_3,    S04I,29,1,5,5,2,19960525,747,-63.7362,46.408,4270,3757.2,-0.2987,34.6543,2,34.6537,2,243.3,2,244.1,2,125.8,2,31.9,2,0,2,2.2,2,0.729,2,0.397,2,-999,9,2250.6,2,2358,2
      320696_3,    S04I,29,1,4,4,2,19960525,747,-63.7362,46.408,4270,3957.8,-0.3319,34.6526,2,34.6517,2,247,2,247,2,125,2,31.85,2,0,2,2.21,2,0.888,2,0.469,2,-999,9,2249,2,2358,2
      320696_3,    S04I,29,1,3,3,2,19960525,747,-63.7362,46.408,4270,4108.6,-0.3545,34.6503,2,34.65,2,249.5,2,250,2,124.1,2,31.8,2,0,2,2.2,2,1.034,2,0.529,2,-999,9,2247.9,2,-999,9
      320696_3,    S04I,29,1,2,2,2,19960525,747,-63.7362,46.408,4270,4212.2,-0.3819,34.6488,2,34.6482,2,251.4,2,249.9,2,125.8,2,31.74,2,0,2,2.2,2,1.033,2,0.519,2,-999,9,2248.2,2,2355,2
      320696_3,    S04I,29,1,1,1,2,19960525,747,-63.7362,46.408,4270,4283.1,-0.3978,34.6471,2,34.6466,2,252.4,2,251,2,127.5,2,31.74,2,0,2,2.2,2,1.166,2,0.573,2,-999,9,2244.5,2,2357,2
      320696_3,    S04I,30,1,36,36,2,19960525,1548,-63.5,48,4575,15.5,-0.8369,33.992,2,33.9908,2,-999,4,337.8,2,41.9,2,25.61,2,0.25,2,1.83,2,6.539,2,2.883,2,-999,9,2175.1,2,2301,2
      320696_3,    S04I,30,1,35,35,2,19960525,1548,-63.5,48,4575,36,-0.8341,33.9923,2,33.9894,2,-999,4,338,2,41.9,2,25.61,2,0.25,2,1.82,2,-999,9,-999,9,-999,9,2176.7,2,-999,9
      320696_3,    S04I,30,1,34,34,2,19960525,1548,-63.5,48,4575,65.7,-0.8356,33.9915,2,33.9898,2,-999,4,337.9,2,42,2,25.66,2,0.25,2,1.82,2,6.459,2,3.132,2,-999,9,2177.3,2,-999,9
      320696_3,    S04I,30,1,33,33,2,19960525,1548,-63.5,48,4575,95.5,0.1855,34.3064,2,34.305,2,-999,4,255.6,2,68.3,2,31.52,2,0.13,2,2.2,2,-999,9,-999,9,-999,9,2224.7,2,-999,9
      320696_3,    S04I,30,1,32,32,2,19960525,1548,-63.5,48,4575,116.5,1.0054,34.4848,2,34.4816,2,-999,4,206.6,2,81.7,2,33.98,2,0.02,2,2.34,2,2.131,2,0.996,2,-999,9,2249.4,2,-999,9
      320696_3,    S04I,30,1,31,31,2,19960525,1548,-63.5,48,4575,148.2,1.3282,34.5529,2,34.5515,2,-999,4,191.6,2,85.6,2,34.14,2,0.01,2,2.34,2,-999,9,-999,9,-999,9,2255.7,2,-999,9
      320696_3,    S04I,30,1,30,30,2,19960525,1548,-63.5,48,4575,187.3,1.5153,34.6023,2,34.6043,2,194.7,2,189.2,2,88,2,33.79,2,0,2,2.31,2,0.915,2,0.473,2,-999,9,2257.9,2,-999,9
      320696_3,    S04I,30,1,29,29,2,19960525,1548,-63.5,48,4575,235.9,1.5766,34.6417,2,34.6408,2,184.4,2,184.2,2,89.8,2,33.29,2,0,2,2.27,2,0.666,2,0.358,2,-999,9,2258.3,2,-999,9
      320696_3,    S04I,30,1,28,28,2,19960525,1548,-63.5,48,4575,286.6,1.6076,34.6673,2,34.668,2,185.7,2,185.5,2,90.8,2,32.73,2,0,2,2.23,2,0.506,2,0.284,2,-999,9,2256.6,2,-999,9
      320696_3,    S04I,30,1,27,27,2,19960525,1548,-63.5,48,4575,329.4,1.6046,34.6814,2,34.6809,2,186.5,2,186.1,2,91.7,2,32.48,2,0,2,2.22,2,-999,9,-999,9,-999,9,2256.9,2,-999,9
      320696_3,    S04I,30,1,26,26,2,19960525,1548,-63.5,48,4575,368.3,1.6078,34.691,2,34.6905,2,187.8,2,187.4,2,91.8,2,32.18,2,0,2,2.2,2,0.389,2,0.223,2,-999,9,2255.9,2,-999,9
      320696_3,    S04I,30,1,25,25,2,19960525,1548,-63.5,48,4575,407.2,1.5907,34.7005,2,34.7013,2,189,2,188.9,2,92.9,2,31.93,2,0,2,2.18,2,-999,9,-999,9,-999,9,2255.3,2,-999,9
      320696_3,    S04I,30,1,24,24,2,19960525,1548,-63.5,48,4575,508.8,1.5208,34.7149,2,34.7141,2,192.7,2,192.6,2,94.8,2,31.62,2,0,2,2.16,2,0.277,2,0.161,2,-999,9,2253.5,2,-999,9
      320696_3,    S04I,30,1,23,23,2,19960525,1548,-63.5,48,4575,608.4,1.4185,34.7222,2,34.7219,2,194.5,2,196.9,2,97.4,2,31.22,2,0,2,2.14,2,0.228,2,0.132,2,-999,9,2254.2,2,-999,9
      320696_3,    S04I,30,1,22,22,2,19960525,1548,-63.5,48,4575,760.5,1.2643,34.7253,2,34.7229,2,199.8,2,200.8,2,101.6,2,31.22,2,0,2,2.14,2,-999,9,-999,9,-999,9,2254.3,2,-999,9
      320696_3,    S04I,30,1,21,21,2,19960525,1548,-63.5,48,4575,962.8,1.0391,34.7177,2,34.7166,2,202.6,2,203.1,2,107.4,2,31.32,2,0,2,2.15,2,-999,9,-999,9,-999,9,2257,2,-999,9
      320696_3,    S04I,30,1,20,20,2,19960525,1548,-63.5,48,4575,1165.3,0.8683,34.7098,2,34.7093,2,205.4,2,204.8,2,112.4,2,31.67,2,0,2,2.18,2,0.163,2,0.093,2,-999,9,-999,9,-999,9
      320696_3,    S04I,30,1,19,19,2,19960525,1548,-63.5,48,4575,1368.6,0.69,34.7003,2,34.7007,2,207.3,2,206.5,2,116.9,2,31.97,2,0,2,2.2,2,-999,9,-999,9,-999,9,-999,9,-999,9
      320696_3,    S04I,30,1,18,18,2,19960525,1548,-63.5,48,4575,1568.8,0.5435,34.6932,2,34.6926,2,209.3,2,207.7,2,121.8,2,32.42,2,0,2,2.24,2,0.152,2,0.092,2,-999,9,-999,9,-999,9
      320696_3,    S04I,30,1,17,17,2,19960525,1548,-63.5,48,4575,1772.1,0.423,34.687,2,34.6865,2,208.8,2,209.5,2,125.8,2,32.62,2,0,2,2.25,2,-999,9,-999,9,-999,9,-999,9,-999,9
      320696_3,    S04I,30,1,16,16,2,19960525,1548,-63.5,48,4575,1971.9,0.3274,34.6822,2,34.6802,2,211.6,2,212.6,2,127.7,2,32.66,2,0,2,2.25,2,0.138,2,0.075,2,-999,9,-999,9,-999,9
      320696_3,    S04I,30,1,15,15,2,19960525,1548,-63.5,48,4575,2178.4,0.2358,34.6775,2,34.6776,2,216.1,2,214.9,2,128.3,2,32.66,2,0,2,-999,4,-999,9,-999,9,-999,9,-999,9,-999,9
      320696_3,    S04I,30,1,14,14,2,19960525,1548,-63.5,48,4575,2381.6,0.1568,34.6733,2,34.6729,2,217.4,2,219.1,2,129.9,2,32.66,2,0,2,2.25,2,0.141,2,0.087,2,-999,9,-999,9,-999,9
      320696_3,    S04I,30,1,13,13,2,19960525,1548,-63.5,48,4575,2584.6,0.0809,34.67,2,34.67,2,221.3,2,221.3,2,130.2,2,32.56,2,0,2,2.25,2,-999,9,-999,9,-999,9,-999,9,-999,9
      320696_3,    S04I,30,1,12,12,2,19960525,1548,-63.5,48,4575,2789.8,0.0102,34.6671,2,34.6676,2,225.3,2,225,2,130.6,2,32.56,2,0,2,2.25,2,0.133,2,0.086,2,-999,9,-999,9,-999,9
      320696_3,    S04I,30,1,11,11,2,19960525,1548,-63.5,48,4575,2994.9,-0.0491,34.6643,2,34.6646,2,227.8,2,228.1,2,131.4,2,32.51,2,0,2,2.25,2,-999,9,-999,9,-999,9,-999,9,-999,9
      320696_3,    S04I,30,1,10,10,2,19960525,1548,-63.5,48,4575,3197.7,-0.0998,34.6622,2,34.6617,2,232.9,2,234.3,2,125.5,2,32.25,2,0,2,2.22,2,0.552,2,0.307,2,-999,9,-999,9,-999,9
      320696_3,    S04I,30,1,61,61,2,19960525,1548,-63.5,48,4575,3398.7,-0.1488,34.6599,2,34.6599,2,236.9,2,237.5,2,123.5,2,32.15,2,0,2,2.22,2,0.773,2,0.421,2,-999,9,-999,9,-999,9
      320696_3,    S04I,30,1,9,9,2,19960525,1548,-63.5,48,4575,3399.5,-0.1484,34.6601,2,34.6601,2,236.8,2,238.3,2,123.3,2,32.15,2,0,2,2.22,2,-999,9,-999,9,-999,9,-999,9,-999,9
      320696_3,    S04I,30,1,7,7,2,19960525,1548,-63.5,48,4575,3602.1,-0.1891,34.6579,2,34.6573,2,240,2,239.3,2,123.1,2,32.05,2,0,2,2.21,2,-999,9,-999,9,-999,9,-999,9,-999,9
      320696_3,    S04I,30,1,6,6,2,19960525,1548,-63.5,48,4575,3812.1,-0.2226,34.6566,2,34.6567,2,242.5,2,241.9,2,123.7,2,32,2,0,2,2.21,2,0.938,2,0.485,2,-999,9,-999,9,-999,9
      320696_3,    S04I,30,1,5,5,2,19960525,1548,-63.5,48,4575,4016.6,-0.2491,34.6549,2,34.6555,2,244.1,2,244.7,2,122.3,2,31.9,2,0,2,2.21,2,-999,9,-999,9,-999,9,-999,9,-999,9
      320696_3,    S04I,30,1,4,4,2,19960525,1548,-63.5,48,4575,4219.7,-0.2784,34.6531,2,34.6534,2,245.9,2,246.6,2,122.8,2,31.89,2,0,2,2.2,2,1.128,2,0.573,2,-999,9,-999,9,-999,9
      320696_3,    S04I,30,1,3,3,2,19960525,1548,-63.5,48,4575,4426.4,-0.3142,34.65,2,34.6496,2,-999,3,249,2,123.6,2,31.84,2,0,2,2.2,2,-999,9,-999,9,-999,9,-999,9,-999,9
      320696_3,    S04I,30,1,2,2,2,19960525,1548,-63.5,48,4575,4527.7,-0.335,34.6481,2,34.6476,2,251.2,2,250.6,2,123.2,2,31.79,2,0,2,2.2,2,1.373,2,0.682,2,-999,9,-999,9,-999,9
      320696_3,    S04I,30,1,1,1,2,19960525,1548,-63.5,48,4575,4616.8,-0.3352,34.6471,2,34.6474,2,251.5,2,251.3,2,123.8,2,31.79,2,0,2,2.19,2,1.421,2,0.705,2,-999,9,-999,9,-999,9