BOTTLE,20211011SIOJHS,,,,,,,,,,,,,,,,,,,,,,,,,,,,,,,,,,,,,,
EXPOCODE,SECT_ID,STNNBR,CASTNO,SAMPNO,BTLNBR,BTLNBR_FLAG_W,DATE,TIME,LATITUDE,LONGITUDE,DEPTH,CTDPRS,CTDTMP,CTDSAL,CTDSAL_FLAG_W,SALNTY,SALNTY_FLAG_W,CTDOXY,CTDOXY_FLAG_W,OXYGEN,OXYGEN_FLAG_W,SILCAT,SILCAT_FLAG_W,NITRAT,NITRAT_FLAG_W,NITRIT,NITRIT_FLAG_W,PHSPHT,PHSPHT_FLAG_W,CFC-11,CFC-11_FLAG_W,CFC-12,CFC-12_FLAG_W,SF6,SF6_FLAG_W,TCARBN,TCARBN_FLAG_W,ALKALI,ALKALI_FLAG_W
,,,,,,,,,,,,DB,ITS-90,PSS-78,,PSS-78,,UMOL/KG,,UMOL/KG,,UMOL/KG,,UMOL/KG,,UMOL/KG,,UMOL/KG,,PMOL/KG,,PMOL/KG,,FMOL/KG,,UMOL/KG,,UMOL/KG,
      320696_3,    S04I,88,1,35,35,2,19960621,743,-62.2785,91.5182,4085,13.8,-1.7835,34.2091,2,34.2091,2,-999,4,305.5,2,62.5,2,29.34,2,0.15,2,2.05,2,-999,9,-999,9,-999,9,2205.1,2,-999,9
      320696_3,    S04I,88,1,36,36,2,19960621,743,-62.2785,91.5182,4085,14.7,-1.7771,34.2084,2,34.2089,2,344.3,2,305,2,62.5,2,29.34,2,0.15,2,2.04,2,5.36,2,2.5,2,-999,9,-999,9,-999,9
      320696_3,    S04I,88,1,34,34,2,19960621,743,-62.2785,91.5182,4085,24.1,-1.7485,34.2084,2,34.2085,2,-999,4,304.1,2,62.6,2,29.34,2,0.15,2,2.04,2,5.289,2,2.521,2,-999,9,2205.1,2,-999,9
      320696_3,    S04I,88,1,33,33,2,19960621,743,-62.2785,91.5182,4085,41.9,-1.7369,34.2086,2,34.2082,2,-999,4,303.7,2,62.4,2,29.38,2,0.15,2,2.04,2,5.253,2,2.445,2,-999,9,-999,9,-999,9
      320696_3,    S04I,88,1,32,32,2,19960621,743,-62.2785,91.5182,4085,62.1,-1.7099,34.2105,2,34.2119,2,-999,4,302.9,2,62.5,2,29.38,2,0.15,2,2.05,2,5.267,2,2.466,2,-999,9,-999,9,-999,9
      320696_3,    S04I,88,1,31,31,2,19960621,743,-62.2785,91.5182,4085,76.6,-1.5908,34.221,2,34.2319,2,-999,4,299.1,2,63.5,2,29.59,2,0.14,2,2.05,2,5.123,2,2.376,2,-999,9,-999,9,-999,9
      320696_3,    S04I,88,1,30,30,2,19960621,743,-62.2785,91.5182,4085,116,0.2207,34.5098,2,34.5094,2,-999,4,232.8,2,79.4,2,31.98,2,0,2,2.22,2,2.676,2,1.196,2,-999,9,-999,9,-999,9
      320696_3,    S04I,88,1,29,29,2,19960621,743,-62.2785,91.5182,4085,158.8,0.6191,34.5676,2,34.5675,2,-999,4,219.6,2,82.1,2,31.93,2,0,2,2.22,2,2.043,2,0.911,2,-999,9,-999,9,-999,9
      320696_3,    S04I,88,1,28,28,2,19960621,743,-62.2785,91.5182,4085,212.7,0.929,34.6163,2,34.6147,2,210,2,209.2,2,84.6,2,31.88,2,0,2,2.21,2,1.481,2,0.704,2,-999,9,-999,9,-999,9
      320696_3,    S04I,88,1,27,27,2,19960621,743,-62.2785,91.5182,4085,264.5,1.2567,34.6649,2,34.663,2,199.9,2,200.5,2,86.8,2,31.52,2,0,2,2.19,2,0.944,2,0.471,2,-999,9,-999,9,-999,9
      320696_3,    S04I,88,1,26,26,2,19960621,743,-62.2785,91.5182,4085,289.9,1.2461,34.6692,2,34.6688,2,200.7,2,200.6,2,87.4,2,31.47,2,0,2,2.18,2,0.899,2,0.462,2,-999,9,-999,9,-999,9
      320696_3,    S04I,88,1,25,25,2,19960621,743,-62.2785,91.5182,4085,321.9,1.2654,34.6776,2,34.6774,2,198.3,2,200.4,2,88.2,2,31.37,2,0,2,2.18,2,0.824,2,0.416,2,-999,9,-999,9,-999,9
      320696_3,    S04I,88,1,24,24,2,19960621,743,-62.2785,91.5182,4085,359.8,1.3158,34.6902,2,34.6898,2,198.2,2,200.1,2,88.9,2,31.16,2,0,2,2.16,2,0.706,2,0.357,2,-999,9,-999,9,-999,9
      320696_3,    S04I,88,1,23,23,2,19960621,743,-62.2785,91.5182,4085,396.9,1.3188,34.6996,2,34.6983,2,200.2,2,200.5,2,90.4,2,31.06,2,0,2,2.15,2,0.621,2,0.33,2,-999,9,-999,9,-999,9
      320696_3,    S04I,88,1,22,22,2,19960621,743,-62.2785,91.5182,4085,476,1.3261,34.715,2,34.7146,2,201.4,2,199.8,2,93.9,2,30.96,2,0,2,2.13,2,0.438,2,0.238,2,-999,9,-999,9,-999,9
      320696_3,    S04I,88,1,21,21,2,19960621,743,-62.2785,91.5182,4085,584.7,1.287,34.7229,2,34.7225,2,200.5,2,201.1,2,96.8,2,30.81,2,0,2,2.13,2,0.325,2,0.168,2,-999,9,-999,9,-999,9
      320696_3,    S04I,88,1,20,20,2,19960621,743,-62.2785,91.5182,4085,702,1.2072,34.7242,2,34.7238,2,202.9,2,202.4,2,100.2,2,30.86,2,0,2,2.14,2,0.273,2,0.137,2,-999,9,-999,9,-999,9
      320696_3,    S04I,88,1,19,19,2,19960621,743,-62.2785,91.5182,4085,804.2,1.1177,34.7228,2,34.7229,2,204,2,203.4,2,103.3,2,30.96,2,0,2,2.14,2,0.243,2,0.122,2,-999,9,-999,9,-999,9
      320696_3,    S04I,88,1,18,18,2,19960621,743,-62.2785,91.5182,4085,1026.6,0.9372,34.7144,2,34.7148,2,205.7,2,205.4,2,109,2,31.26,2,0,2,2.16,2,0.223,2,0.115,2,-999,9,-999,9,-999,9
      320696_3,    S04I,88,1,17,17,2,19960621,743,-62.2785,91.5182,4085,1213.3,0.7878,34.7076,2,34.7074,2,206.7,2,207,2,113.6,2,31.51,2,0,2,2.19,2,-999,9,-999,9,-999,9,-999,9,-999,9
      320696_3,    S04I,88,1,16,16,2,19960621,743,-62.2785,91.5182,4085,1381.3,0.6819,34.702,2,34.7017,2,208.5,2,208.8,2,117.1,2,31.76,2,0,2,2.19,2,0.179,2,0.096,2,-999,9,-999,9,-999,9
      320696_3,    S04I,88,1,15,15,2,19960621,743,-62.2785,91.5182,4085,1588.5,0.5447,34.6952,2,34.6952,2,209.9,2,210,2,120.7,2,31.86,2,0,2,2.22,2,0.177,2,0.099,2,-999,9,-999,9,-999,9
      320696_3,    S04I,88,1,14,14,2,19960621,743,-62.2785,91.5182,4085,1809.6,0.3996,34.6886,2,34.6887,2,213,2,213.3,2,124.4,2,32.11,2,0,2,2.23,2,0.188,2,0.104,2,-999,9,-999,9,-999,9
      320696_3,    S04I,88,1,13,13,2,19960621,743,-62.2785,91.5182,4085,2007.9,0.3021,34.6852,2,34.6854,2,216.1,2,215.9,2,126.3,2,32.15,2,0,2,2.23,2,0.231,2,0.126,2,-999,9,-999,9,-999,9
      320696_3,    S04I,88,1,12,12,2,19960621,743,-62.2785,91.5182,4085,2185.9,0.2113,34.6819,2,34.6819,2,218.6,2,219.1,2,126.9,2,32.15,2,0,2,2.23,2,0.276,2,0.15,2,-999,9,-999,9,-999,9
      320696_3,    S04I,88,1,11,11,2,19960621,743,-62.2785,91.5182,4085,2405.2,0.1339,34.6798,2,34.6791,2,222.2,2,222.5,2,127.8,2,32.1,2,0,2,2.23,2,0.349,2,0.196,2,-999,9,-999,9,-999,9
      320696_3,    S04I,88,1,10,10,2,19960621,743,-62.2785,91.5182,4085,2592.6,0.0768,34.6786,2,34.6774,2,224.6,2,224.6,2,127.3,2,32.05,2,0,2,2.22,2,0.429,2,0.22,2,-999,9,-999,9,-999,9
      320696_3,    S04I,88,1,9,9,2,19960621,743,-62.2785,91.5182,4085,2768,0.02,34.6765,2,34.676,2,227.5,2,227.7,2,126.8,2,31.94,2,0,2,2.22,2,0.535,2,0.265,2,-999,9,-999,9,-999,9
      320696_3,    S04I,88,1,63,63,2,19960621,743,-62.2785,91.5182,4085,2968.6,-0.0354,34.6752,2,34.6748,2,229.8,2,229.6,2,126.5,2,31.89,2,0,2,2.22,2,0.646,2,0.329,2,-999,9,2255.5,2,-999,9
      320696_3,    S04I,88,1,7,7,2,19960621,743,-62.2785,91.5182,4085,3165.3,-0.0734,34.6739,2,34.6741,2,232.2,2,231.6,2,125.9,2,31.89,2,0,2,2.22,2,0.78,2,0.386,2,-999,9,-999,9,-999,9
      320696_3,    S04I,88,1,6,6,2,19960621,743,-62.2785,91.5182,4085,3373.8,-0.1004,34.6732,2,34.6729,2,233.1,2,233.4,2,125.9,2,31.84,2,0,2,2.22,2,0.846,2,0.424,2,-999,9,-999,9,-999,9
      320696_3,    S04I,88,1,5,5,2,19960621,743,-62.2785,91.5182,4085,3595.5,-0.1189,34.6715,2,34.6719,2,234.6,2,234.8,2,124.4,2,31.74,2,0,2,2.21,2,1.005,2,0.498,2,-999,9,-999,9,-999,9
      320696_3,    S04I,88,1,39,39,2,19960621,743,-62.2785,91.5182,4085,3812.4,-0.1392,34.6702,2,34.6708,2,236,2,236.2,2,125.3,2,31.74,2,0,2,2.2,2,1.137,2,0.524,2,-999,9,-999,9,-999,9
      320696_3,    S04I,88,1,3,3,2,19960621,743,-62.2785,91.5182,4085,3968.9,-0.1507,34.6696,2,34.669,2,236.7,2,237.2,2,125,2,31.69,2,0,2,2.21,2,1.273,2,0.6,2,-999,9,-999,9,-999,9
      320696_3,    S04I,88,1,2,2,2,19960621,743,-62.2785,91.5182,4085,4065,-0.1576,34.6685,2,34.6686,2,237.4,2,236.9,2,131.2,2,31.83,2,0,2,2.22,2,1.359,2,0.623,2,-999,9,-999,9,-999,9
      320696_3,    S04I,88,1,1,1,2,19960621,743,-62.2785,91.5182,4085,4112.5,-0.1518,34.6684,7,34.6684,2,237.4,2,237.1,2,131.3,2,31.83,2,0,2,2.22,2,1.359,2,0.646,2,-999,9,-999,9,-999,9
      320696_3,    S04I,89,1,36,36,2,19960621,1715,-62.2737,93.1402,3955,15.3,-1.756,34.0639,2,34.0639,2,-999,4,326.5,2,52.5,2,28.32,2,0.21,2,1.98,2,6.03,2,2.939,2,-999,9,2185.9,2,2305,6
      320696_3,    S04I,89,1,35,35,2,19960621,1715,-62.2737,93.1402,3955,30.3,-1.7576,34.0643,2,34.065,2,-999,4,326.4,2,52.5,2,28.32,2,0.21,2,1.98,2,5.991,2,2.89,2,-999,9,2186.6,2,2308,2
      320696_3,    S04I,89,1,34,34,2,19960621,1715,-62.2737,93.1402,3955,50.5,-1.7341,34.0663,2,34.0658,2,-999,4,325.8,2,52.6,2,28.42,2,0.21,2,1.99,2,5.933,2,2.86,2,-999,9,2186.2,2,2307,2
      320696_3,    S04I,89,1,33,33,2,19960621,1715,-62.2737,93.1402,3955,70.4,-1.7026,34.0681,2,34.067,2,-999,4,325,2,52.7,2,28.47,2,0.21,2,1.99,2,5.923,2,2.9,2,-999,9,2187,2,2304,2
      320696_3,    S04I,89,1,32,32,2,19960621,1715,-62.2737,93.1402,3955,90.2,-0.3584,34.2597,2,34.2664,2,276.1,2,269.7,2,64.5,2,31.03,2,0.1,2,2.15,2,4.187,2,1.949,2,-999,9,2214.4,2,2315,2
      320696_3,    S04I,89,1,31,31,2,19960621,1715,-62.2737,93.1402,3955,110.4,0.7687,34.4911,2,34.4872,2,214.1,2,216.7,2,77,2,33.19,2,0,2,2.3,2,2.186,2,1.003,2,-999,9,2242,2,2330,2
      320696_3,    S04I,89,1,30,30,2,19960621,1715,-62.2737,93.1402,3955,140.3,0.848,34.5327,2,34.5323,2,211.6,2,211.6,2,79.7,2,32.99,2,0,2,2.28,2,1.899,2,0.882,2,-999,9,2244.6,2,2326,2
      320696_3,    S04I,89,1,29,29,2,19960621,1715,-62.2737,93.1402,3955,174.9,0.9453,34.5692,2,34.5679,2,209.9,2,209,2,81.5,2,32.78,2,0,2,2.27,2,1.66,2,0.777,2,-999,9,2246.7,2,2337,2
      320696_3,    S04I,89,1,28,28,2,19960621,1715,-62.2737,93.1402,3955,213.9,0.6654,34.5728,2,34.573,2,209.7,2,217.1,2,82.1,2,32.38,2,0,2,2.24,2,-999,9,-999,9,-999,9,2243.9,2,2334,2
      320696_3,    S04I,89,1,27,27,2,19960621,1715,-62.2737,93.1402,3955,252.6,1.0872,34.6309,2,34.6308,2,211.5,2,205.1,2,84.8,2,32.12,2,0,2,2.22,2,1.237,2,0.603,2,-999,9,2247.5,2,2343,2
      320696_3,    S04I,89,1,26,26,2,19960621,1715,-62.2737,93.1402,3955,310.2,1.202,34.6607,2,34.6612,2,203.2,2,202.4,2,86.2,2,31.82,2,0,2,2.2,2,-999,9,-999,9,-999,9,2249.3,2,2341,2
      320696_3,    S04I,89,1,25,25,2,19960621,1715,-62.2737,93.1402,3955,381.2,1.4032,34.696,2,34.6964,2,197.7,2,198.1,2,88.8,2,31.31,2,0,2,2.17,2,0.609,2,0.308,2,-999,9,2250.3,2,2345,2
      320696_3,    S04I,89,1,24,24,2,19960621,1715,-62.2737,93.1402,3955,426.7,1.5242,34.7155,2,34.7161,2,196.2,2,197.3,2,89.2,2,30.96,2,0,2,2.14,2,-999,9,-999,9,-999,9,2248.4,2,2351,2
      320696_3,    S04I,89,1,23,23,2,19960621,1715,-62.2737,93.1402,3955,476.2,1.4923,34.7191,2,34.719,2,197.4,2,198.5,2,90.3,2,30.9,2,0,2,2.14,2,0.39,2,0.203,2,-999,9,2250.5,2,2348,2
      320696_3,    S04I,89,1,22,22,2,19960621,1715,-62.2737,93.1402,3955,539.7,1.3786,34.7187,2,34.718,2,199.9,2,198.2,2,93,2,31.05,2,0,2,2.15,2,-999,9,-999,9,-999,9,2250.7,2,2352,2
      320696_3,    S04I,89,1,21,21,2,19960621,1715,-62.2737,93.1402,3955,583.4,1.3419,34.7215,2,34.721,2,203.8,2,199,2,94.5,2,31.05,2,0,2,2.14,2,0.354,2,0.189,2,-999,9,2251.7,2,2350,2
      320696_3,    S04I,89,1,20,20,2,19960621,1715,-62.2737,93.1402,3955,665.4,1.3006,34.7275,2,34.7275,2,199.9,2,203.1,2,95.8,2,30.7,2,0,2,2.13,2,-999,9,-999,9,-999,9,2249.3,2,2352,2
      320696_3,    S04I,89,1,19,19,2,19960621,1715,-62.2737,93.1402,3955,756.5,1.1262,34.7154,2,34.7155,2,205.7,2,206.2,2,98.2,2,30.8,2,0,2,2.15,2,0.417,2,0.218,2,-999,9,2250.8,2,2353,6
      320696_3,    S04I,89,1,18,18,2,19960621,1715,-62.2737,93.1402,3955,845.1,1.0781,34.7187,2,34.7185,2,206.2,2,206.3,2,101.7,2,31.05,2,0,2,2.15,2,-999,9,-999,9,-999,9,2250.8,2,2357,2
      320696_3,    S04I,89,1,17,17,2,19960621,1715,-62.2737,93.1402,3955,979.7,1.004,34.7186,2,34.7185,2,205.9,2,204.5,2,106.9,2,31.25,2,0,2,2.17,2,0.205,2,0.105,2,-999,9,2255.3,2,2361,2
      320696_3,    S04I,89,1,16,16,2,19960621,1715,-62.2737,93.1402,3955,1114.9,0.923,34.716,2,34.7153,2,207.2,2,207.1,2,109.6,2,31.29,2,0,2,2.17,2,-999,9,-999,9,-999,9,2255.8,2,2358,2
      320696_3,    S04I,89,1,15,15,2,19960621,1715,-62.2737,93.1402,3955,1296.3,0.766,34.7075,2,34.7071,2,207.4,2,207.2,2,114,2,31.64,2,0,2,2.2,2,0.179,2,0.1,2,-999,9,2258,2,2360,2
      320696_3,    S04I,89,1,14,14,2,19960621,1715,-62.2737,93.1402,3955,1482.7,0.6301,34.7003,2,34.701,2,209.1,2,209,2,118.2,2,31.89,2,0,2,2.21,2,-999,9,-999,9,-999,9,2259.7,2,2359,2
      320696_3,    S04I,89,1,13,13,2,19960621,1715,-62.2737,93.1402,3955,1667.6,0.4838,34.6932,2,34.6929,2,211.2,2,211.7,2,121.6,2,32.04,2,0,2,2.24,2,0.166,2,0.103,2,-999,9,2258.6,2,-999,9
      320696_3,    S04I,89,1,12,12,2,19960621,1715,-62.2737,93.1402,3955,1854.1,0.3762,34.6875,2,34.6884,2,213.7,2,214.5,2,124.4,2,32.24,2,0,2,2.24,2,-999,9,-999,9,-999,9,2259.9,2,-999,9
      320696_3,    S04I,89,1,11,11,2,19960621,1715,-62.2737,93.1402,3955,2037.6,0.2803,34.6841,2,34.6843,2,216.6,2,216.5,2,125.9,2,32.24,2,0,2,2.24,2,0.223,2,0.127,2,-999,9,2259.4,2,2359,2
      320696_3,    S04I,89,1,10,10,2,19960621,1715,-62.2737,93.1402,3955,2277.4,0.1639,34.6805,2,34.6796,2,220.3,2,220.7,2,127.1,2,32.24,2,0,2,2.24,2,-999,9,-999,9,-999,9,2257.7,2,2361,2
      320696_3,    S04I,89,1,9,9,2,19960621,1715,-62.2737,93.1402,3955,2515,0.0825,34.6775,2,34.6774,2,223.9,2,224.3,2,127.5,2,32.14,2,0,2,2.23,2,0.391,2,0.203,2,-999,9,2258.8,2,2359,2
      320696_3,    S04I,89,1,63,63,2,19960621,1715,-62.2737,93.1402,3955,2754.3,0.009,34.6767,2,34.6761,2,227.7,2,227.1,2,126.9,2,32.13,2,0,2,2.23,2,-999,9,-999,9,-999,9,2258.6,2,-999,3
      320696_3,    S04I,89,1,7,7,2,19960621,1715,-62.2737,93.1402,3955,3002.6,-0.0451,34.6746,2,34.6747,2,229.5,2,230.2,2,127.1,2,32.08,2,0,2,2.23,2,0.628,2,0.327,2,-999,9,2256.4,2,-999,3
      320696_3,    S04I,89,1,6,6,2,19960621,1715,-62.2737,93.1402,3955,3207.7,-0.0824,34.6736,2,34.6735,2,232.4,2,232.6,2,125.1,2,31.98,2,0,2,2.22,2,-999,9,-999,9,-999,9,2256.1,2,2360,2
      320696_3,    S04I,89,1,5,5,2,19960621,1715,-62.2737,93.1402,3955,3417.7,-0.1197,34.6715,2,34.6706,2,235.3,2,234.5,2,121.8,2,31.88,2,0,2,2.22,2,1.037,2,0.502,2,-999,9,2255.7,2,-999,3
      320696_3,    S04I,89,1,39,39,2,19960621,1715,-62.2737,93.1402,3955,3630,-0.1271,34.6706,2,34.6712,2,236.1,2,235.5,2,123.7,2,31.87,2,0,2,2.23,2,-999,9,-999,9,-999,9,2254.4,2,2359,2
      320696_3,    S04I,89,1,3,3,2,19960621,1715,-62.2737,93.1402,3955,3789,-0.1426,34.6704,2,34.6702,2,236.6,2,236.2,2,125.6,2,32.02,2,0,2,2.22,2,1.129,2,0.548,2,-999,9,2255.4,2,-999,3
      320696_3,    S04I,89,1,2,2,2,19960621,1715,-62.2737,93.1402,3955,3895.1,-0.1561,34.6697,2,34.669,2,237.1,2,237.1,2,126.6,2,31.97,2,0,2,2.23,2,-999,9,-999,9,-999,9,2253.9,2,2358,2
      320696_3,    S04I,89,1,1,1,2,19960621,1715,-62.2737,93.1402,3955,3977.9,-0.159,34.6692,2,34.6692,2,236.7,2,236.2,2,131.8,2,32.12,2,0,2,2.23,2,1.339,2,0.619,2,-999,9,2255,2,-999,3