BOTTLE,20211011SIOJHS,,,,,,,,,,,,,,,,,,,,,,,,,,,,,,,,,,,,,,
EXPOCODE,SECT_ID,STNNBR,CASTNO,SAMPNO,BTLNBR,BTLNBR_FLAG_W,DATE,TIME,LATITUDE,LONGITUDE,DEPTH,CTDPRS,CTDTMP,CTDSAL,CTDSAL_FLAG_W,SALNTY,SALNTY_FLAG_W,CTDOXY,CTDOXY_FLAG_W,OXYGEN,OXYGEN_FLAG_W,SILCAT,SILCAT_FLAG_W,NITRAT,NITRAT_FLAG_W,NITRIT,NITRIT_FLAG_W,PHSPHT,PHSPHT_FLAG_W,CFC-11,CFC-11_FLAG_W,CFC-12,CFC-12_FLAG_W,SF6,SF6_FLAG_W,TCARBN,TCARBN_FLAG_W,ALKALI,ALKALI_FLAG_W
,,,,,,,,,,,,DB,ITS-90,PSS-78,,PSS-78,,UMOL/KG,,UMOL/KG,,UMOL/KG,,UMOL/KG,,UMOL/KG,,UMOL/KG,,PMOL/KG,,PMOL/KG,,FMOL/KG,,UMOL/KG,,UMOL/KG,
      320696_3,    S04I,100,1,36,36,2,19960625,337,-62.2427,107.4383,4115,13.9,-1.758,33.9215,2,33.9216,2,-999,4,342.4,2,36.7,2,27.62,2,0.26,2,1.94,2,6.516,2,3.117,2,-999,9,2168.4,2,2292,2
      320696_3,    S04I,100,1,35,35,2,19960625,337,-62.2427,107.4383,4115,33.7,-1.7717,33.9598,2,33.9457,2,-999,4,340.5,2,37.8,2,27.67,2,0.26,2,1.95,2,6.469,2,3.089,2,-999,9,2170.8,2,-999,9
      320696_3,    S04I,100,1,34,34,2,19960625,337,-62.2427,107.4383,4115,63.6,-1.8348,34.1494,2,34.1499,2,-999,4,328.6,2,49,2,28.28,2,0.21,2,2,2,6.056,2,2.865,2,-999,9,-999,9,-999,9
      320696_3,    S04I,100,1,33,33,2,19960625,337,-62.2427,107.4383,4115,79.4,-1.8309,34.1502,2,34.1519,2,-999,4,328.7,2,49,2,28.33,2,0.21,2,2,2,6.104,2,2.861,2,-999,9,-999,9,-999,9
      320696_3,    S04I,100,1,32,32,2,19960625,337,-62.2427,107.4383,4115,97,-1.8233,34.1516,2,34.1562,2,-999,4,327.7,2,49.5,2,28.38,2,0.2,2,2.01,2,5.996,2,2.871,2,-999,9,-999,9,-999,9
      320696_3,    S04I,100,1,31,31,2,19960625,337,-62.2427,107.4383,4115,116.2,-1.3128,34.2386,2,34.2468,2,-999,4,298.9,2,58.7,2,29.62,2,0.14,2,2.09,2,-999,9,-999,9,-999,9,-999,9,-999,9
      320696_3,    S04I,100,1,30,30,2,19960625,337,-62.2427,107.4383,4115,142.8,0.0247,34.4534,2,34.4532,2,-999,4,242,2,74.1,2,32.05,2,0.05,2,2.24,2,-999,9,-999,9,-999,9,-999,9,-999,9
      320696_3,    S04I,100,1,29,29,2,19960625,337,-62.2427,107.4383,4115,179.1,0.6507,34.5533,2,34.552,2,216.6,2,218.1,2,79.9,2,32.5,2,0.01,2,2.26,2,2.021,2,0.931,2,-999,9,-999,9,-999,9
      320696_3,    S04I,100,1,28,28,2,19960625,337,-62.2427,107.4383,4115,213.5,0.9291,34.5918,2,34.5913,2,207.1,2,208.9,2,82,2,32.55,2,0,2,2.26,2,1.546,2,0.726,2,-999,9,-999,9,-999,9
      320696_3,    S04I,100,1,27,27,2,19960625,337,-62.2427,107.4383,4115,248.4,1.1361,34.6229,2,34.6223,2,206.9,2,202.2,2,83.3,2,32.39,2,0,2,2.25,2,1.225,2,0.593,2,-999,9,-999,9,-999,9
      320696_3,    S04I,100,1,26,26,2,19960625,337,-62.2427,107.4383,4115,304.4,1.2007,34.6467,2,34.6469,2,199.5,2,201.1,2,85,2,32.14,2,0,2,2.23,2,1.035,2,0.504,2,-999,9,-999,9,-999,9
      320696_3,    S04I,100,1,25,25,2,19960625,337,-62.2427,107.4383,4115,355.2,1.3207,34.6723,2,34.6722,2,200,2,199.1,2,86.9,2,31.78,2,0,2,2.21,2,0.804,2,0.402,2,-999,9,-999,9,-999,9
      320696_3,    S04I,100,1,24,24,2,19960625,337,-62.2427,107.4383,4115,406.3,1.3932,34.6901,2,34.6913,2,201,2,197.9,2,87.9,2,31.57,2,0,2,2.19,2,0.642,2,0.328,2,-999,9,-999,9,-999,9
      320696_3,    S04I,100,1,23,23,2,19960625,337,-62.2427,107.4383,4115,469.5,1.406,34.6992,2,34.6998,2,198.3,2,197.8,2,89.1,2,31.42,2,0,2,2.18,2,0.564,2,0.281,2,-999,9,-999,9,-999,9
      320696_3,    S04I,100,1,22,22,2,19960625,337,-62.2427,107.4383,4115,545.3,1.4333,34.7143,2,34.7151,2,198.9,2,198.5,2,91.1,2,31.11,2,0,2,2.17,2,0.421,2,0.216,2,-999,9,-999,9,-999,9
      320696_3,    S04I,100,1,21,21,2,19960625,337,-62.2427,107.4383,4115,631,1.4119,34.7227,2,34.7228,2,198,2,198.9,2,93,2,31.01,2,0,2,2.16,2,0.35,2,0.185,2,-999,9,-999,9,-999,9
      320696_3,    S04I,100,1,20,20,2,19960625,337,-62.2427,107.4383,4115,756.4,1.3127,34.7246,2,34.7255,2,198.9,2,201.1,2,96.5,2,30.96,2,0,2,2.15,2,0.289,2,0.153,2,-999,9,-999,9,-999,9
      320696_3,    S04I,100,1,19,19,2,19960625,337,-62.2427,107.4383,4115,884.4,1.2237,34.7251,2,34.7259,2,200.5,2,202,2,100.1,2,31.01,2,0,2,2.15,2,0.259,2,0.128,2,-999,9,-999,9,-999,9
      320696_3,    S04I,100,1,18,18,2,19960625,337,-62.2427,107.4383,4115,1011,1.1406,34.7232,2,34.724,2,202.2,2,203.5,2,103.2,2,31.11,2,0,2,2.16,2,0.219,2,0.118,2,-999,9,-999,9,-999,9
      320696_3,    S04I,100,1,17,17,2,19960625,337,-62.2427,107.4383,4115,1207,1.0075,34.718,2,34.7192,2,204.6,2,204.5,2,107.7,2,31.36,2,0,2,2.18,2,0.179,2,0.091,2,-999,9,-999,9,-999,9
      320696_3,    S04I,100,1,16,16,2,19960625,337,-62.2427,107.4383,4115,1409.2,0.8704,34.7121,2,34.7132,2,205.2,2,206.2,2,112.2,2,31.57,2,0,2,2.2,2,0.153,2,0.084,2,-999,9,-999,9,-999,9
      320696_3,    S04I,100,1,15,15,2,19960625,337,-62.2427,107.4383,4115,1616,0.7025,34.7032,2,34.7037,2,208.7,2,208.7,2,116.6,2,31.87,2,0,2,2.22,2,0.172,2,0.094,2,-999,9,-999,9,-999,9
      320696_3,    S04I,100,1,14,14,2,19960625,337,-62.2427,107.4383,4115,1820.9,0.5632,34.6965,2,34.6973,2,211.1,2,210.7,2,120.8,2,32.12,2,0,2,2.23,2,0.153,2,0.084,2,-999,9,-999,9,-999,9
      320696_3,    S04I,100,1,13,13,2,19960625,337,-62.2427,107.4383,4115,2019.5,0.4323,34.6897,2,34.691,2,214.4,2,213.7,2,123.3,2,32.23,2,0,2,2.24,2,0.214,2,0.125,2,-999,9,-999,9,-999,9
      320696_3,    S04I,100,1,12,12,2,19960625,337,-62.2427,107.4383,4115,2213.2,0.3262,34.6865,2,34.6878,2,217.1,2,216.7,2,125.6,2,32.33,2,0,2,2.25,2,0.23,2,0.128,2,-999,9,-999,9,-999,9
      320696_3,    S04I,100,1,11,11,2,19960625,337,-62.2427,107.4383,4115,2408.1,0.2449,34.6845,2,34.6851,2,219.4,2,219.4,2,127.7,2,32.33,2,0,2,2.27,2,0.238,2,0.126,2,-999,9,-999,9,-999,9
      320696_3,    S04I,100,1,10,10,2,19960625,337,-62.2427,107.4383,4115,2601.1,0.1694,34.6818,2,34.6821,2,221.8,2,222.2,2,128.4,2,32.33,2,0,2,2.26,2,0.283,2,0.16,2,-999,9,-999,9,-999,9
      320696_3,    S04I,100,1,9,9,2,19960625,337,-62.2427,107.4383,4115,2796.3,0.1008,34.6796,2,34.68,2,224.7,2,224.9,2,128.5,2,32.27,2,0,2,2.26,2,0.377,2,0.208,2,-999,9,-999,9,-999,9
      320696_3,    S04I,100,1,63,63,2,19960625,337,-62.2427,107.4383,4115,2981.2,0.0475,34.6774,2,34.6778,2,227.2,2,227.4,2,127.4,2,32.28,2,0,2,2.26,2,0.492,2,0.256,2,-999,9,2256.7,2,-999,9
      320696_3,    S04I,100,1,7,7,2,19960625,337,-62.2427,107.4383,4115,3169.7,-0.0076,34.6755,2,34.6759,2,229.6,2,229.7,2,127,2,32.22,2,0,2,2.25,2,0.579,2,0.318,2,-999,9,-999,9,-999,9
      320696_3,    S04I,100,1,6,6,2,19960625,337,-62.2427,107.4383,4115,3378.5,-0.0733,34.673,2,34.6731,2,232.6,2,233.1,2,122.8,2,32.12,2,0,2,2.24,2,0.874,2,0.442,2,-999,9,-999,9,-999,9
      320696_3,    S04I,100,1,5,5,2,19960625,337,-62.2427,107.4383,4115,3604.7,-0.1065,34.6727,2,34.6729,2,234.5,2,234.7,2,122.5,2,32.07,2,0,2,2.24,2,1.025,2,0.505,2,-999,9,-999,9,-999,9
      320696_3,    S04I,100,1,39,39,2,19960625,337,-62.2427,107.4383,4115,3760.3,-0.1277,34.6716,2,34.672,2,235.9,2,235.8,2,127.3,2,32.12,2,0,2,2.24,2,1.025,2,0.499,2,-999,9,-999,9,-999,9
      320696_3,    S04I,100,1,3,3,2,19960625,337,-62.2427,107.4383,4115,3925.2,-0.1618,34.6696,2,34.6692,2,238.4,2,238.5,2,119.8,2,31.96,2,0,2,2.23,2,3.077,2,1.413,2,-999,9,-999,9,-999,9
      320696_3,    S04I,100,1,2,2,2,19960625,337,-62.2427,107.4383,4115,4042.2,-0.2016,34.6658,2,34.6661,2,240.1,2,239.6,2,125.8,2,32.01,2,0,2,2.22,2,1.667,2,0.773,2,-999,9,-999,9,-999,9
      320696_3,    S04I,100,1,1,1,2,19960625,337,-62.2427,107.4383,4115,4136.7,-0.1967,34.6656,2,34.6657,2,-999,3,239.2,2,127.9,2,32.06,2,0.01,2,2.23,2,1.677,2,0.766,2,-999,9,-999,9,-999,9
      320696_3,    S04I,101,1,33,33,2,19960625,1415,-62.57,109.0433,3796,14.4,-1.8471,34.1273,2,34.128,2,-999,4,330.9,2,48.1,2,28.26,2,0.21,2,1.99,2,6.07,2,2.88,2,-999,9,2189.2,2,2306,6
      320696_3,    S04I,101,1,32,32,2,19960625,1415,-62.57,109.0433,3796,29.1,-1.8472,34.1279,2,34.1311,2,-999,4,330.6,2,48.2,2,28.27,2,0.21,2,1.99,2,6.115,2,2.923,2,-999,9,2189.3,2,2305,2
      320696_3,    S04I,101,1,31,31,2,19960625,1415,-62.57,109.0433,3796,57.7,-1.8147,34.1489,2,34.1513,2,-999,4,328.6,2,49.4,2,28.43,2,0.2,2,1.99,2,6.026,2,2.883,2,-999,9,2191.7,2,2300,2
      320696_3,    S04I,101,1,30,30,2,19960625,1415,-62.57,109.0433,3796,83.7,-0.7115,34.3188,2,34.3268,2,-999,4,276.6,2,64.3,2,30.84,2,0.09,2,2.15,2,4.351,2,1.997,2,-999,9,2216.8,2,2314,2
      320696_3,    S04I,101,1,29,29,2,19960625,1415,-62.57,109.0433,3796,107.5,0.8931,34.5342,2,34.5351,2,206.7,2,209.7,2,78.5,2,33.14,2,0.01,2,2.3,2,1.85,2,0.856,2,-999,9,2245.9,2,2326,2
      320696_3,    S04I,101,1,28,28,2,19960625,1415,-62.57,109.0433,3796,126.9,1.0676,34.5737,2,34.5718,2,201.3,2,202.9,2,80.6,2,33.04,2,0,2,2.29,2,1.533,2,0.722,2,-999,9,2249.1,2,2329,2
      320696_3,    S04I,101,1,27,27,2,19960625,1415,-62.57,109.0433,3796,174.5,1.3542,34.6273,2,34.6265,2,192.1,2,194.2,2,83.1,2,32.75,2,0,2,2.28,2,1.017,2,0.486,2,-999,9,2251.3,2,2335,2
      320696_3,    S04I,101,1,26,26,2,19960625,1415,-62.57,109.0433,3796,219.4,1.4431,34.654,2,34.6542,2,190.9,2,192.1,2,84.7,2,32.44,2,0,2,2.25,2,0.815,2,0.405,2,-999,9,2250.7,2,2338,2
      320696_3,    S04I,101,1,25,25,2,19960625,1415,-62.57,109.0433,3796,267.7,1.5208,34.6791,2,34.6792,2,191.8,2,192.5,2,85.8,2,32.05,2,0,2,2.23,2,0.638,2,0.326,2,-999,9,2252.8,2,2338,2
      320696_3,    S04I,101,1,24,24,2,19960625,1415,-62.57,109.0433,3796,305.1,1.5141,34.6854,2,34.6851,2,191.2,2,192.7,2,86.5,2,31.9,2,0,2,2.22,2,0.618,2,0.317,2,-999,9,2250.1,2,2343,2
      320696_3,    S04I,101,1,23,23,2,19960625,1415,-62.57,109.0433,3796,342.3,1.5232,34.6969,2,34.6967,2,192.4,2,193.5,2,87.6,2,31.7,2,0,2,2.19,2,0.529,2,0.267,2,-999,9,2251.6,2,2341,2
      320696_3,    S04I,101,1,22,22,2,19960625,1415,-62.57,109.0433,3796,388.6,1.5454,34.7067,2,34.7059,2,193,2,193.5,2,88.4,2,31.4,2,0,2,2.19,2,0.458,2,0.231,2,-999,9,2251.5,2,2345,2
      320696_3,    S04I,101,1,21,21,2,19960625,1415,-62.57,109.0433,3796,477.1,1.5064,34.7193,2,34.7201,2,194.9,2,195.9,2,90.7,2,31.11,2,0,2,2.16,2,0.366,2,0.182,2,-999,9,2251,2,2346,2
      320696_3,    S04I,101,1,20,20,2,19960625,1415,-62.57,109.0433,3796,520.3,1.4761,34.7224,2,34.7219,2,194.9,2,196.6,2,91.7,2,31.01,2,0,2,2.16,2,0.341,2,0.178,2,-999,9,2249.7,2,2347,2
      320696_3,    S04I,101,1,19,19,2,19960625,1415,-62.57,109.0433,3796,609,1.4245,34.7281,2,34.728,2,197.8,2,198.2,2,94.3,2,30.96,2,0,2,2.16,2,-999,9,-999,9,-999,9,2250,2,2348,2
      320696_3,    S04I,101,1,18,18,2,19960625,1415,-62.57,109.0433,3796,699.4,1.3468,34.7301,2,34.7327,2,198.5,2,200.1,2,97,2,30.92,2,0,2,2.16,2,0.226,2,0.116,2,-999,9,2251.8,2,2349,2
      320696_3,    S04I,101,1,17,17,2,19960625,1415,-62.57,109.0433,3796,881.5,1.1913,34.7272,2,34.7292,2,200.7,2,202,2,102.2,2,31.02,2,0,2,2.17,2,0.178,2,-999,9,-999,9,2253.5,2,2354,2
      320696_3,    S04I,101,1,16,16,2,19960625,1415,-62.57,109.0433,3796,1058.6,1.0562,34.7223,2,34.7221,2,202.7,2,203.4,2,107.7,2,31.23,2,0,2,2.19,2,0.15,2,0.076,2,-999,9,2253.7,2,-999,3
      320696_3,    S04I,101,1,15,15,2,19960625,1415,-62.57,109.0433,3796,1233.8,0.9233,34.7159,2,34.7164,2,205.4,2,205.1,2,110.7,2,31.38,2,0,2,2.2,2,0.141,2,0.064,2,-999,9,2255.2,2,2356,2
      320696_3,    S04I,101,1,14,14,2,19960625,1415,-62.57,109.0433,3796,1409.3,0.7814,34.7084,2,34.7088,2,207.8,2,206.6,2,114.5,2,31.63,2,0,2,2.22,2,0.134,2,0.062,2,-999,9,2256.5,2,2353,2
      320696_3,    S04I,101,1,13,13,2,19960625,1415,-62.57,109.0433,3796,1585.8,0.636,34.7005,2,34.7017,2,209.8,2,208.9,2,118.4,2,31.94,2,0,2,2.23,2,0.149,2,0.075,2,-999,9,2258.7,2,2355,2
      320696_3,    S04I,101,1,12,12,2,19960625,1415,-62.57,109.0433,3796,1767.8,0.5087,34.6946,2,34.6956,2,213.1,2,211.4,2,121.6,2,32.14,2,0,2,2.24,2,0.159,2,0.082,2,-999,9,2260.6,2,2355,2
      320696_3,    S04I,101,1,11,11,2,19960625,1415,-62.57,109.0433,3796,1952.8,0.3857,34.6893,2,34.6897,2,215.5,2,-999,4,124,2,32.25,2,0,2,2.25,2,0.186,2,0.096,2,-999,9,2257.4,2,2359,2
      320696_3,    S04I,101,1,10,10,2,19960625,1415,-62.57,109.0433,3796,2152.5,0.2749,34.6848,2,34.6848,2,218.5,2,-999,4,125.6,2,32.25,2,0,2,2.25,2,0.236,2,0.125,2,-999,9,2260,2,2356,2
      320696_3,    S04I,101,1,9,9,2,19960625,1415,-62.57,109.0433,3796,2351.6,0.1852,34.6824,2,34.6829,2,221.1,2,220.9,2,127.4,2,32.2,2,0,2,2.25,2,0.266,2,0.146,2,-999,9,2258.2,2,2357,2
      320696_3,    S04I,101,1,63,63,2,19960625,1415,-62.57,109.0433,3796,2556.4,0.1049,34.68,2,34.6799,2,223.7,2,223.8,2,127.7,2,32.21,2,0,2,2.25,2,0.338,2,0.177,2,-999,9,2256.6,2,2357,2
      320696_3,    S04I,101,1,7,7,2,19960625,1415,-62.57,109.0433,3796,2757.7,0.0269,34.6781,2,34.677,2,226.2,2,227,2,127.8,2,32.16,2,0,2,2.25,2,0.439,2,0.231,2,-999,9,2257,2,2356,2
      320696_3,    S04I,101,1,6,6,2,19960625,1415,-62.57,109.0433,3796,3008.3,-0.0429,34.6754,2,34.6752,2,229.4,2,229.9,2,127.6,2,32.11,2,0,2,2.25,2,0.567,2,0.287,2,-999,9,2256.4,2,2352,2
      320696_3,    S04I,101,1,5,5,2,19960625,1415,-62.57,109.0433,3796,3256.8,-0.1063,34.6736,2,34.6731,2,233.6,2,233.6,2,127.6,2,32.07,2,0,2,2.24,2,-999,9,-999,9,-999,9,2256.6,2,2355,2
      320696_3,    S04I,101,1,39,39,2,19960625,1415,-62.57,109.0433,3796,3517,-0.1547,34.6711,2,34.6708,2,236.4,2,236,2,126.5,2,32.07,2,0,2,2.24,2,1.022,2,0.495,2,-999,9,2256.7,2,2350,2
      320696_3,    S04I,101,1,3,3,2,19960625,1415,-62.57,109.0433,3796,3662.8,-0.1937,34.6684,2,34.6684,2,238.3,2,239,2,123.3,2,31.92,2,0,2,2.24,2,1.374,2,0.657,2,-999,9,2254.8,2,2352,2
      320696_3,    S04I,101,1,2,2,2,19960625,1415,-62.57,109.0433,3796,3758.8,-0.2332,34.6654,2,34.6657,2,239.6,2,239.3,2,126.5,2,32.03,2,0,2,2.24,2,0.736,2,0.381,2,-999,9,2255.8,2,2357,2
      320696_3,    S04I,101,1,1,1,2,19960625,1415,-62.57,109.0433,3796,3805.2,-0.2291,34.666,2,34.6661,2,239.9,2,239.8,2,126.7,2,31.98,2,0,2,2.23,2,1.695,2,0.793,2,-999,9,2255.4,2,2356,2