BOTTLE,20211011SIOJHS,,,,,,,,,,,,,,,,,,,,,,,,,,,,,,,,,,,,,,
EXPOCODE,SECT_ID,STNNBR,CASTNO,SAMPNO,BTLNBR,BTLNBR_FLAG_W,DATE,TIME,LATITUDE,LONGITUDE,DEPTH,CTDPRS,CTDTMP,CTDSAL,CTDSAL_FLAG_W,SALNTY,SALNTY_FLAG_W,CTDOXY,CTDOXY_FLAG_W,OXYGEN,OXYGEN_FLAG_W,SILCAT,SILCAT_FLAG_W,NITRAT,NITRAT_FLAG_W,NITRIT,NITRIT_FLAG_W,PHSPHT,PHSPHT_FLAG_W,CFC-11,CFC-11_FLAG_W,CFC-12,CFC-12_FLAG_W,SF6,SF6_FLAG_W,TCARBN,TCARBN_FLAG_W,ALKALI,ALKALI_FLAG_W
,,,,,,,,,,,,DB,ITS-90,PSS-78,,PSS-78,,UMOL/KG,,UMOL/KG,,UMOL/KG,,UMOL/KG,,UMOL/KG,,UMOL/KG,,PMOL/KG,,PMOL/KG,,FMOL/KG,,UMOL/KG,,UMOL/KG,
      320696_3,    S04I,96,1,36,36,2,19960624,447,-62.1037,103.1722,4426,20.8,-1.6472,33.8363,2,33.8365,2,-999,4,344.1,2,32.1,2,26.87,2,0.29,2,1.88,2,6.705,2,3.172,2,-999,9,2161.1,2,2287,2
      320696_3,    S04I,96,1,35,35,2,19960624,447,-62.1037,103.1722,4426,35.4,-1.6468,33.8384,2,33.8388,2,-999,4,344,2,31.9,2,26.92,2,0.29,2,1.89,2,-999,9,-999,9,-999,9,2161.8,2,-999,9
      320696_3,    S04I,96,1,34,34,2,19960624,447,-62.1037,103.1722,4426,50.1,-1.6295,33.8528,2,33.8529,2,-999,4,343.8,2,32,2,26.87,2,0.29,2,1.89,2,6.681,2,3.114,2,-999,9,-999,9,-999,9
      320696_3,    S04I,96,1,33,33,2,19960624,447,-62.1037,103.1722,4426,79.8,-1.2381,33.9691,2,-999,3,-999,4,340.2,2,33.2,2,27.01,2,0.29,2,1.89,2,6.546,2,3.066,2,-999,9,-999,9,-999,9
      320696_3,    S04I,96,1,32,32,2,19960624,447,-62.1037,103.1722,4426,110.6,0.2079,34.2351,2,34.2274,2,-999,4,270.1,2,56.3,2,31.34,2,0.08,2,2.2,2,4.436,2,2.002,2,-999,9,-999,9,-999,9
      320696_3,    S04I,96,1,31,31,2,19960624,447,-62.1037,103.1722,4426,150.1,1.2028,34.4866,2,34.487,2,-999,4,203.9,2,74.7,2,33.76,2,0,2,2.38,2,1.845,2,0.863,2,-999,9,-999,9,-999,9
      320696_3,    S04I,96,1,30,30,2,19960624,447,-62.1037,103.1722,4426,179.9,1.3321,34.5269,2,34.5292,2,196.4,2,196,2,77.2,2,33.76,2,0,2,2.36,2,1.466,2,0.704,2,-999,9,-999,9,-999,9
      320696_3,    S04I,96,1,29,29,2,19960624,447,-62.1037,103.1722,4426,219,1.5685,34.576,2,34.5761,2,190.7,2,188.4,2,79.4,2,33.55,2,0,2,2.35,2,1.059,2,0.514,2,-999,9,-999,9,-999,9
      320696_3,    S04I,96,1,28,28,2,19960624,447,-62.1037,103.1722,4426,263.5,1.5743,34.6129,2,34.6125,2,189.1,2,188,2,81.1,2,33.05,2,0,2,2.31,2,-999,9,-999,9,-999,9,-999,9,-999,9
      320696_3,    S04I,96,1,27,27,2,19960624,447,-62.1037,103.1722,4426,307.6,1.6656,34.6468,2,34.6465,2,186.2,2,186.1,2,83,2,32.63,2,0,2,2.28,2,0.673,2,0.33,2,-999,9,-999,9,-999,9
      320696_3,    S04I,96,1,26,26,2,19960624,447,-62.1037,103.1722,4426,361.2,1.6922,34.6702,2,34.6709,2,195,2,186.9,2,84.2,2,32.23,2,0,2,2.26,2,-999,9,-999,9,-999,9,-999,9,-999,9
      320696_3,    S04I,96,1,25,25,2,19960624,447,-62.1037,103.1722,4426,417.4,1.702,34.6862,2,34.6864,2,186.7,2,187.7,2,85.2,2,31.92,2,0,2,2.23,2,0.483,2,0.237,2,-999,9,-999,9,-999,9
      320696_3,    S04I,96,1,24,24,2,19960624,447,-62.1037,103.1722,4426,487,1.6368,34.6936,2,34.6939,2,190.2,2,190.8,2,86.2,2,31.67,2,0,2,2.21,2,0.502,2,0.24,2,-999,9,-999,9,-999,9
      320696_3,    S04I,96,1,23,23,2,19960624,447,-62.1037,103.1722,4426,565.5,1.596,34.7059,2,34.7064,2,192.6,2,193.2,2,88.1,2,31.36,2,0,2,2.19,2,-999,9,-999,9,-999,9,-999,9,-999,9
      320696_3,    S04I,96,1,22,22,2,19960624,447,-62.1037,103.1722,4426,645.5,1.6075,34.72,2,34.7208,2,193.9,2,195.2,2,89.6,2,31.11,2,0,2,2.16,2,0.341,2,0.175,2,-999,9,-999,9,-999,9
      320696_3,    S04I,96,1,21,21,2,19960624,447,-62.1037,103.1722,4426,724.5,1.5567,34.7269,2,34.7275,2,196.6,2,196,2,91.7,2,30.86,2,0,2,2.15,2,-999,9,-999,9,-999,9,-999,9,-999,9
      320696_3,    S04I,96,1,20,20,2,19960624,447,-62.1037,103.1722,4426,812.5,1.465,34.7272,2,34.7275,2,198.4,2,199.6,2,93.5,2,30.81,2,0,2,2.15,2,0.286,2,0.162,2,-999,9,-999,9,-999,9
      320696_3,    S04I,96,1,19,19,2,19960624,447,-62.1037,103.1722,4426,952.7,1.3819,34.7314,2,34.7324,2,201.4,2,201,2,97.2,2,30.7,2,0,2,2.14,2,0.212,2,0.107,2,-999,9,-999,9,-999,9
      320696_3,    S04I,96,1,18,18,2,19960624,447,-62.1037,103.1722,4426,1102.5,1.3003,34.7327,2,34.7334,2,202.3,2,201.9,2,100.8,2,30.65,2,0,2,2.14,2,-999,9,-999,9,-999,9,-999,9,-999,9
      320696_3,    S04I,96,1,17,17,2,19960624,447,-62.1037,103.1722,4426,1298.1,1.1294,34.7246,2,34.7259,2,204.9,2,204.2,2,105.3,2,31.01,2,0,2,2.16,2,-999,9,-999,9,-999,9,-999,9,-999,9
      320696_3,    S04I,96,1,16,16,2,19960624,447,-62.1037,103.1722,4426,1490.1,0.9643,34.7166,2,34.7179,2,206.3,2,204.9,2,110,2,31.31,2,0,2,2.18,2,0.16,2,0.084,2,-999,9,-999,9,-999,9
      320696_3,    S04I,96,1,15,15,2,19960624,447,-62.1037,103.1722,4426,1687.5,0.805,34.708,2,34.7088,2,207.7,2,207.4,2,114.4,2,31.57,2,0,2,2.2,2,-999,9,-999,9,-999,9,-999,9,-999,9
      320696_3,    S04I,96,1,14,14,2,19960624,447,-62.1037,103.1722,4426,1891.7,0.6616,34.7007,2,34.7022,2,209.6,2,209.7,2,119.1,2,31.77,2,0,2,2.22,2,0.144,2,0.076,2,-999,9,-999,9,-999,9
      320696_3,    S04I,96,1,13,13,2,19960624,447,-62.1037,103.1722,4426,2092.8,0.5315,34.6946,2,34.6949,2,211.3,2,212.4,2,122.3,2,32.03,2,0,2,2.24,2,-999,9,-999,9,-999,9,-999,9,-999,9
      320696_3,    S04I,96,1,12,12,2,19960624,447,-62.1037,103.1722,4426,2291,0.4085,34.6885,2,34.6898,2,214.3,2,215.7,2,124.7,2,32.13,2,0,2,2.24,2,0.191,2,0.107,2,-999,9,-999,9,-999,9
      320696_3,    S04I,96,1,11,11,2,19960624,447,-62.1037,103.1722,4426,2547.1,0.2796,34.6837,2,34.6833,2,218.7,2,218.5,2,126.7,2,32.18,2,0,2,2.25,2,-999,9,-999,9,-999,9,-999,9,-999,9
      320696_3,    S04I,96,1,10,10,2,19960624,447,-62.1037,103.1722,4426,2803.7,0.1646,34.6797,2,34.6804,2,222.9,2,222.4,2,127.7,2,32.13,2,0,2,2.25,2,0.331,2,0.18,2,-999,9,-999,9,-999,9
      320696_3,    S04I,96,1,9,9,2,19960624,447,-62.1037,103.1722,4426,3061.7,0.0883,34.6772,2,34.6778,2,226,2,225.6,2,127.6,2,32.08,2,0,2,2.24,2,-999,9,-999,9,-999,9,-999,9,-999,9
      320696_3,    S04I,96,1,63,63,2,19960624,447,-62.1037,103.1722,4426,3328,0.0194,34.6758,2,34.6751,2,228.9,2,229.7,2,127.2,2,32.08,2,0,2,2.23,2,0.546,2,0.29,2,-999,9,-999,9,-999,9
      320696_3,    S04I,96,1,7,7,2,19960624,447,-62.1037,103.1722,4426,3541.1,-0.0298,34.674,2,34.6741,2,231.5,2,232.3,2,126,2,32.03,2,0,2,2.23,2,-999,9,-999,9,-999,9,-999,9,-999,9
      320696_3,    S04I,96,1,6,6,2,19960624,447,-62.1037,103.1722,4426,3744.5,-0.063,34.6727,2,34.6731,2,233.2,2,234.3,2,126.1,2,31.93,2,0,2,2.23,2,0.825,2,0.43,2,-999,9,-999,9,-999,9
      320696_3,    S04I,96,1,5,5,2,19960624,447,-62.1037,103.1722,4426,3953.6,-0.0881,34.6714,2,34.6718,2,236,2,235.8,2,125.7,2,31.93,2,0,2,2.22,2,0.979,2,0.472,2,-999,9,-999,9,-999,9
      320696_3,    S04I,96,1,39,39,2,19960624,447,-62.1037,103.1722,4426,4105.1,-0.0962,34.6706,2,34.671,2,236.6,2,236.3,2,125.7,2,31.93,2,0,2,2.22,2,1.081,2,0.513,2,-999,9,-999,9,-999,9
      320696_3,    S04I,96,1,3,3,2,19960624,447,-62.1037,103.1722,4426,4260.3,-0.101,34.6697,2,34.6702,2,237,2,237.8,2,126.7,2,31.88,2,0,2,2.22,2,1.173,2,0.564,2,-999,9,-999,9,-999,9
      320696_3,    S04I,96,1,2,2,2,19960624,447,-62.1037,103.1722,4426,4359.4,-0.1101,34.6687,2,34.669,2,238.3,2,237.1,2,125.2,2,31.88,2,0,2,2.22,2,1.291,2,0.62,2,-999,9,-999,9,-999,9
      320696_3,    S04I,96,1,1,1,2,19960624,447,-62.1037,103.1722,4426,4460.2,-0.1258,34.667,2,34.6675,2,238.2,2,238.1,2,126.8,2,31.93,2,0,2,2.22,2,1.459,2,0.683,2,-999,9,-999,9,-999,9
      320696_3,    S04I,97,1,36,36,2,19960624,1035,-62.1005,104.2498,4358,15.2,-1.3149,33.8658,2,33.8639,2,-999,4,343.4,2,30.5,2,27.18,2,0.31,2,1.89,2,6.51,2,3.134,2,-999,9,2160.4,2,2284,2
      320696_3,    S04I,97,1,35,35,2,19960624,1035,-62.1005,104.2498,4358,30.4,-1.3108,33.8682,2,33.8654,2,-999,4,343.4,2,30.5,2,27.18,2,0.31,2,1.89,2,-999,9,-999,9,-999,9,2161.6,2,-999,9
      320696_3,    S04I,97,1,34,34,2,19960624,1035,-62.1005,104.2498,4358,54.9,-1.0523,33.9433,2,33.9418,2,-999,4,340,2,30.4,2,27.27,2,0.31,2,1.9,2,6.45,2,3.11,2,-999,9,-999,9,-999,9
      320696_3,    S04I,97,1,33,33,2,19960624,1035,-62.1005,104.2498,4358,84.9,-0.892,33.9567,2,33.9571,2,-999,4,338.9,2,30.2,2,27.27,2,0.31,2,1.9,2,-999,9,-999,9,-999,9,-999,9,-999,9
      320696_3,    S04I,97,1,32,32,2,19960624,1035,-62.1005,104.2498,4358,109.6,-0.6225,34.0085,2,34.0344,2,-999,4,321.9,2,37.6,2,28.46,2,0.24,2,1.98,2,5.883,2,2.83,2,-999,9,-999,9,-999,9
      320696_3,    S04I,97,1,31,31,2,19960624,1035,-62.1005,104.2498,4358,159.5,1.2202,34.4958,2,34.4961,2,-999,4,203.1,2,75.7,2,33.72,2,0.01,2,2.34,2,-999,9,-999,9,-999,9,-999,9,-999,9
      320696_3,    S04I,97,1,30,30,2,19960624,1035,-62.1005,104.2498,4358,212.3,1.4996,34.5834,2,34.5837,2,191,2,192.2,2,80.4,2,33.36,2,0,2,2.31,2,1.044,2,0.522,2,-999,9,-999,9,-999,9
      320696_3,    S04I,97,1,29,29,2,19960624,1035,-62.1005,104.2498,4358,264.5,1.7539,34.6393,2,34.6383,2,185.9,2,182.8,2,82.6,2,32.9,2,0,2,2.28,2,-999,9,-999,9,-999,9,-999,9,-999,9
      320696_3,    S04I,97,1,28,28,2,19960624,1035,-62.1005,104.2498,4358,305.4,1.7642,34.6549,2,34.6525,2,185.2,2,183.7,2,83.2,2,32.64,2,0.01,2,2.27,2,0.564,2,0.296,2,-999,9,-999,9,-999,9
      320696_3,    S04I,97,1,27,27,2,19960624,1035,-62.1005,104.2498,4358,346.1,1.6955,34.658,2,34.6582,2,187.5,2,185.3,2,83.7,2,32.49,2,0,2,2.25,2,-999,9,-999,9,-999,9,-999,9,-999,9
      320696_3,    S04I,97,1,26,26,2,19960624,1035,-62.1005,104.2498,4358,386.8,1.6983,34.6707,2,34.6709,2,189.9,2,186.7,2,84.8,2,32.29,2,0,2,2.22,2,-999,9,-999,9,-999,9,-999,9,-999,9
      320696_3,    S04I,97,1,25,25,2,19960624,1035,-62.1005,104.2498,4358,417.2,1.6648,34.6748,2,34.6768,2,188.4,2,187.9,2,85.2,2,32.13,2,0,2,2.22,2,0.53,2,0.278,2,-999,9,-999,9,-999,9
      320696_3,    S04I,97,1,24,24,2,19960624,1035,-62.1005,104.2498,4358,457.9,1.6804,34.6895,2,34.689,2,187.9,2,190.3,2,86.1,2,31.83,2,0,2,2.2,2,-999,9,-999,9,-999,9,-999,9,-999,9
      320696_3,    S04I,97,1,23,23,2,19960624,1035,-62.1005,104.2498,4358,557.8,1.7195,34.7153,2,34.7146,2,190.1,2,191.4,2,87.8,2,31.31,2,0,2,2.16,2,-999,9,-999,9,-999,9,-999,9,-999,9
      320696_3,    S04I,97,1,22,22,2,19960624,1035,-62.1005,104.2498,4358,656.7,1.6241,34.7225,2,34.722,2,194.6,2,194.6,2,89.9,2,31.01,2,0,2,2.15,2,0.303,2,0.167,2,-999,9,-999,9,-999,9
      320696_3,    S04I,97,1,21,21,2,19960624,1035,-62.1005,104.2498,4358,752.3,1.5652,34.7312,2,34.7309,2,195.8,2,197,2,92.3,2,30.75,2,0,2,2.13,2,-999,9,-999,9,-999,9,-999,9,-999,9
      320696_3,    S04I,97,1,20,20,2,19960624,1035,-62.1005,104.2498,4358,854.2,1.4931,34.734,2,34.7338,2,197.7,2,198.6,2,95.2,2,30.7,2,0,2,2.13,2,0.191,2,0.1,2,-999,9,-999,9,-999,9
      320696_3,    S04I,97,1,19,19,2,19960624,1035,-62.1005,104.2498,4358,958.2,1.418,34.7339,2,34.7348,2,199.2,2,200.3,2,97.5,2,30.7,2,0,2,2.12,2,-999,9,-999,9,-999,9,-999,9,-999,9
      320696_3,    S04I,97,1,18,18,2,19960624,1035,-62.1005,104.2498,4358,1161.4,1.2252,34.7269,2,34.7277,2,203.1,2,203.2,2,102.3,2,30.9,2,0,2,2.12,2,0.188,2,0.095,2,-999,9,-999,9,-999,9
      320696_3,    S04I,97,1,17,17,2,19960624,1035,-62.1005,104.2498,4358,1359.5,1.0797,34.7225,2,34.7228,2,205.5,2,204.5,2,107.8,2,31.05,2,0,2,2.15,2,-999,9,-999,9,-999,9,-999,9,-999,9
      320696_3,    S04I,97,1,16,16,2,19960624,1035,-62.1005,104.2498,4358,1560.5,0.924,34.7154,2,34.7143,2,206.4,2,206.4,2,112.5,2,31.46,2,0,2,2.17,2,0.125,2,0.06,2,-999,9,-999,9,-999,9
      320696_3,    S04I,97,1,15,15,2,19960624,1035,-62.1005,104.2498,4358,1767,0.7497,34.7046,2,34.7047,2,209.4,2,208.4,2,116.7,2,31.76,2,0,2,2.2,2,-999,9,-999,9,-999,9,-999,9,-999,9
      320696_3,    S04I,97,1,14,14,2,19960624,1035,-62.1005,104.2498,4358,1973.3,0.5895,34.6969,2,34.6964,2,211.4,2,210.9,2,121,2,31.92,2,0,2,2.22,2,0.151,2,0.078,2,-999,9,-999,9,-999,9
      320696_3,    S04I,97,1,13,13,2,19960624,1035,-62.1005,104.2498,4358,2176.1,0.4646,34.6909,2,34.6913,2,213.1,2,213.4,2,124,2,32.17,2,0,2,2.23,2,-999,9,-999,9,-999,9,-999,9,-999,9
      320696_3,    S04I,97,1,12,12,2,19960624,1035,-62.1005,104.2498,4358,2376.3,0.3343,34.6857,2,34.6862,2,215.6,2,216.8,2,126.1,2,32.22,2,0,2,2.23,2,-999,9,-999,9,-999,9,-999,9,-999,9
      320696_3,    S04I,97,1,11,11,2,19960624,1035,-62.1005,104.2498,4358,2581.9,0.2307,34.6823,2,-999,5,219.1,2,220,2,127.5,2,32.22,2,0,2,2.23,2,-999,9,-999,9,-999,9,-999,9,-999,9
      320696_3,    S04I,97,1,10,10,2,19960624,1035,-62.1005,104.2498,4358,2785.1,0.1463,34.6796,2,34.6811,2,223,2,223.8,2,128,2,32.22,2,0,2,2.23,2,0.346,2,0.182,2,-999,9,-999,9,-999,9
      320696_3,    S04I,97,1,9,9,2,19960624,1035,-62.1005,104.2498,4358,2987.4,0.0701,34.677,2,34.6781,2,226,2,226.4,2,127.9,2,32.12,2,0,2,2.22,2,-999,9,-999,9,-999,9,-999,9,-999,9
      320696_3,    S04I,97,1,63,63,2,19960624,1035,-62.1005,104.2498,4358,3192.4,0.0096,34.676,2,34.6763,2,228.9,2,229.4,2,127.5,2,32.07,2,0,2,2.22,2,0.376,2,0.199,2,-999,9,-999,9,-999,9
      320696_3,    S04I,97,1,7,7,2,19960624,1035,-62.1005,104.2498,4358,3388.9,-0.0429,34.6741,2,34.6746,2,231.6,2,232.6,2,126.2,2,32.01,2,0,2,2.21,2,-999,9,-999,9,-999,9,-999,9,-999,9
      320696_3,    S04I,97,1,6,6,2,19960624,1035,-62.1005,104.2498,4358,3580,-0.0744,34.6726,2,34.673,2,233.7,2,233.5,2,126.2,2,32.01,2,0,2,2.21,2,0.812,2,0.405,2,-999,9,-999,9,-999,9
      320696_3,    S04I,97,1,5,5,2,19960624,1035,-62.1005,104.2498,4358,3786.8,-0.1018,34.6711,2,34.6722,2,235.6,2,-999,3,125.4,2,31.96,2,0,2,2.21,2,-999,9,-999,9,-999,9,-999,9,-999,9
      320696_3,    S04I,97,1,39,39,2,19960624,1035,-62.1005,104.2498,4358,3998.4,-0.1179,34.6705,2,34.6702,2,236.3,2,236.4,2,126.3,2,31.96,2,0,2,2.22,2,1.127,2,0.55,2,-999,9,-999,9,-999,9
      320696_3,    S04I,97,1,3,3,2,19960624,1035,-62.1005,104.2498,4358,4240.6,-0.1279,34.6683,2,34.6693,2,237.9,2,237.7,2,126.1,2,31.96,2,0,2,2.21,2,1.312,2,0.628,2,-999,9,-999,9,-999,9
      320696_3,    S04I,97,1,2,2,2,19960624,1035,-62.1005,104.2498,4358,4346.2,-0.1345,34.6672,2,34.6673,2,237.5,2,237.8,2,126.2,2,31.95,2,0,2,2.21,2,1.435,2,0.66,2,-999,9,-999,9,-999,9
      320696_3,    S04I,97,1,1,1,2,19960624,1035,-62.1005,104.2498,4358,4389.7,-0.1352,34.6665,2,34.6669,2,238.9,2,238.7,2,126,2,31.95,2,0,2,2.21,2,1.448,2,0.667,2,-999,9,-999,9,-999,9