BOTTLE,20211011SIOJHS,,,,,,,,,,,,,,,,,,,,,,,,,,,,,,,,,,,,,,
EXPOCODE,SECT_ID,STNNBR,CASTNO,SAMPNO,BTLNBR,BTLNBR_FLAG_W,DATE,TIME,LATITUDE,LONGITUDE,DEPTH,CTDPRS,CTDTMP,CTDSAL,CTDSAL_FLAG_W,SALNTY,SALNTY_FLAG_W,CTDOXY,CTDOXY_FLAG_W,OXYGEN,OXYGEN_FLAG_W,SILCAT,SILCAT_FLAG_W,NITRAT,NITRAT_FLAG_W,NITRIT,NITRIT_FLAG_W,PHSPHT,PHSPHT_FLAG_W,CFC-11,CFC-11_FLAG_W,CFC-12,CFC-12_FLAG_W,SF6,SF6_FLAG_W,TCARBN,TCARBN_FLAG_W,ALKALI,ALKALI_FLAG_W
,,,,,,,,,,,,DB,ITS-90,PSS-78,,PSS-78,,UMOL/KG,,UMOL/KG,,UMOL/KG,,UMOL/KG,,UMOL/KG,,UMOL/KG,,PMOL/KG,,PMOL/KG,,FMOL/KG,,UMOL/KG,,UMOL/KG,
      320696_3,    S04I,9,1,36,36,2,19960519,521,-62.3993,27.3665,5212,23.8,-1.1264,33.8627,2,33.8613,2,-999,4,347,2,43.8,2,24.27,2,0.29,2,1.71,2,-999,9,-999,9,-999,9,2164.8,2,2298,6
      320696_3,    S04I,9,1,35,35,2,19960519,521,-62.3993,27.3665,5212,57.6,-1.1263,33.8951,2,33.9109,2,-999,4,342.4,2,46.4,2,24.86,2,0.3,2,1.75,2,-999,9,-999,9,-999,9,2170.6,2,-999,9
      320696_3,    S04I,9,1,34,34,2,19960519,521,-62.3993,27.3665,5212,82.4,-0.9021,34.1717,2,34.1709,2,-999,4,317.1,2,63.8,2,29.28,2,0.11,2,2.05,2,-999,9,-999,9,-999,9,-999,9,-999,9
      320696_3,    S04I,9,1,33,33,2,19960519,521,-62.3993,27.3665,5212,108.3,-0.3496,34.2911,2,34.3075,2,-999,4,276.3,2,72.1,2,31,2,0.01,2,2.16,2,-999,9,-999,9,-999,9,-999,9,-999,9
      320696_3,    S04I,9,1,32,32,2,19960519,521,-62.3993,27.3665,5212,138,0.5024,34.4504,2,34.46,2,-999,4,226.8,2,81.4,2,32.77,2,0.01,2,2.26,2,-999,9,-999,9,-999,9,-999,9,-999,9
      320696_3,    S04I,9,1,31,31,2,19960519,521,-62.3993,27.3665,5212,168.4,1.2141,34.5847,2,34.5859,2,-999,4,196.7,2,88.5,2,33.32,2,0.01,2,2.31,2,-999,9,-999,9,-999,9,-999,9,-999,9
      320696_3,    S04I,9,1,30,30,2,19960519,521,-62.3993,27.3665,5212,197.7,1.3626,34.6334,2,34.6322,2,-999,4,190.4,2,90.8,2,32.97,2,0.01,2,2.28,2,-999,9,-999,9,-999,9,-999,9,-999,9
      320696_3,    S04I,9,1,29,29,2,19960519,521,-62.3993,27.3665,5212,233.2,1.436,34.659,2,34.6596,2,189.4,2,190,2,92.4,2,32.48,2,0.01,2,2.25,2,-999,9,-999,9,-999,9,-999,9,-999,9
      320696_3,    S04I,9,1,28,28,2,19960519,521,-62.3993,27.3665,5212,257.2,1.4184,34.6688,2,34.6708,2,189.7,2,189.8,2,93.2,2,32.53,2,0.01,2,2.24,2,-999,9,-999,9,-999,9,-999,9,-999,9
      320696_3,    S04I,9,1,27,27,2,19960519,521,-62.3993,27.3665,5212,307.9,1.4225,34.6925,2,34.6926,2,189.8,2,191,2,94.5,2,32.03,2,0,2,2.21,2,-999,9,-999,9,-999,9,-999,9,-999,9
      320696_3,    S04I,9,1,26,26,2,19960519,521,-62.3993,27.3665,5212,379.1,1.3939,34.7076,2,34.7073,2,194.6,2,193.7,2,96.4,2,31.59,2,0,2,2.18,2,-999,9,-999,9,-999,9,-999,9,-999,9
      320696_3,    S04I,9,1,25,25,2,19960519,521,-62.3993,27.3665,5212,450.2,1.3346,34.7166,2,34.7173,2,197,2,197.5,2,98.4,2,31.39,2,0,2,2.16,2,-999,9,-999,9,-999,9,-999,9,-999,9
      320696_3,    S04I,9,1,24,24,2,19960519,521,-62.3993,27.3665,5212,511.1,1.248,34.7182,2,34.7179,2,198.5,2,199.1,2,100.5,2,31.34,2,0,2,2.16,2,-999,9,-999,9,-999,9,-999,9,-999,9
      320696_3,    S04I,9,1,23,23,2,19960519,521,-62.3993,27.3665,5212,611.5,1.0883,34.714,2,34.7144,2,200.6,2,200.9,2,104.4,2,31.49,2,0,2,2.17,2,-999,9,-999,9,-999,9,-999,9,-999,9
      320696_3,    S04I,9,1,22,22,2,19960519,521,-62.3993,27.3665,5212,711.1,0.9816,34.7126,2,34.7116,2,203,2,202.6,2,107.7,2,31.54,2,0,2,2.17,2,-999,9,-999,9,-999,9,-999,9,-999,9
      320696_3,    S04I,9,1,21,21,2,19960519,521,-62.3993,27.3665,5212,811.3,0.8398,34.7067,2,34.7059,2,205.2,2,-999,4,111.4,2,31.78,2,0,2,2.2,2,-999,9,-999,9,-999,9,2257.7,2,2357,6
      320696_3,    S04I,9,1,20,20,2,19960519,521,-62.3993,27.3665,5212,913.2,0.7264,34.7018,2,34.7016,2,205.5,2,-999,4,114.5,2,31.93,2,0,2,2.21,2,-999,9,-999,9,-999,9,-999,9,-999,9
      320696_3,    S04I,9,1,19,19,2,19960519,521,-62.3993,27.3665,5212,1013.5,0.6352,34.6981,2,34.6974,2,206.5,2,205.8,2,117,2,32.18,2,0,2,2.22,2,-999,9,-999,9,-999,9,-999,9,-999,9
      320696_3,    S04I,9,1,18,18,2,19960519,521,-62.3993,27.3665,5212,1216.6,0.4871,34.6908,2,34.6902,2,207.3,2,207.4,2,121.4,2,32.53,2,0,2,2.24,2,-999,9,-999,9,-999,9,-999,9,-999,9
      320696_3,    S04I,9,1,17,17,2,19960519,521,-62.3993,27.3665,5212,1420.8,0.3786,34.6858,2,34.6854,2,209.2,2,208.8,2,124.6,2,32.48,2,0,2,2.26,2,-999,9,-999,9,-999,9,-999,9,-999,9
      320696_3,    S04I,9,1,16,16,2,19960519,521,-62.3993,27.3665,5212,1620.3,0.2799,34.6809,2,34.6801,2,211,2,211.8,2,126.6,2,32.72,2,0,2,2.26,2,-999,9,-999,9,-999,9,-999,9,-999,9
      320696_3,    S04I,9,1,15,15,2,19960519,521,-62.3993,27.3665,5212,1818.1,0.1983,34.6766,2,34.6762,2,213.4,2,213.4,2,127.7,2,32.87,2,0,2,2.27,2,-999,9,-999,9,-999,9,-999,9,-999,9
      320696_3,    S04I,9,1,14,14,2,19960519,521,-62.3993,27.3665,5212,2021.1,0.1213,34.6739,2,34.6734,2,217.7,2,217.6,2,128.6,2,32.72,2,0,2,2.26,2,-999,9,-999,9,-999,9,-999,9,-999,9
      320696_3,    S04I,9,1,13,13,2,19960519,521,-62.3993,27.3665,5212,2233.2,0.0454,34.6707,2,34.6701,2,220.6,2,221.4,2,128.9,2,32.67,2,0,2,2.27,2,-999,9,-999,9,-999,9,-999,9,-999,9
      320696_3,    S04I,9,1,12,12,2,19960519,521,-62.3993,27.3665,5212,2743,-0.1032,34.6643,2,34.6642,2,229.2,2,229.3,2,128.9,2,32.52,2,0,2,2.26,2,-999,9,-999,9,-999,9,-999,9,-999,9
      320696_3,    S04I,9,1,11,11,2,19960519,521,-62.3993,27.3665,5212,3152.6,-0.1774,34.6614,2,34.661,2,234.3,2,234.2,2,128.3,2,32.37,2,0,2,2.23,2,-999,9,-999,9,-999,9,-999,9,-999,9
      320696_3,    S04I,9,1,10,10,2,19960519,521,-62.3993,27.3665,5212,3455.5,-0.2146,34.6595,2,34.6585,2,236.7,2,236.8,2,128.4,2,32.23,2,0,2,2.23,2,-999,9,-999,9,-999,9,-999,9,-999,9
      320696_3,    S04I,9,1,9,9,2,19960519,521,-62.3993,27.3665,5212,3456.8,-0.2156,34.6596,2,34.6577,2,236.7,2,236.8,2,128.2,2,32.23,2,0,2,2.23,2,-999,9,-999,9,-999,9,-999,9,-999,9
      320696_3,    S04I,9,1,8,8,2,19960519,521,-62.3993,27.3665,5212,3762,-0.2467,34.6583,2,34.6561,2,239.1,2,239.5,2,128.2,2,32.23,2,0,2,2.23,2,-999,9,-999,9,-999,9,-999,9,-999,9
      320696_3,    S04I,9,1,7,7,2,19960519,521,-62.3993,27.3665,5212,4072.1,-0.2717,34.6566,2,34.6559,2,240.8,2,241.5,2,128.7,2,32.18,2,0,2,2.22,2,-999,9,-999,9,-999,9,-999,9,-999,9
      320696_3,    S04I,9,1,6,6,2,19960519,521,-62.3993,27.3665,5212,4381,-0.292,34.6548,2,34.6549,2,243.1,2,243,2,129.8,2,32.13,2,0,2,2.22,2,-999,9,-999,9,-999,9,-999,9,-999,9
      320696_3,    S04I,9,1,5,5,2,19960519,521,-62.3993,27.3665,5212,4688.7,-0.3079,34.6535,2,34.6531,2,244.9,2,244.8,2,131,2,32.08,2,0,2,2.21,2,-999,9,-999,9,-999,9,-999,9,-999,9
      320696_3,    S04I,9,1,4,4,2,19960519,521,-62.3993,27.3665,5212,4945.1,-0.3139,34.653,2,34.6514,2,246,2,245.7,2,132.1,2,32.08,2,0,2,2.22,2,-999,9,-999,9,-999,9,-999,9,-999,9
      320696_3,    S04I,9,1,3,3,2,19960519,521,-62.3993,27.3665,5212,5151.6,-0.3204,34.6522,2,34.651,2,246.5,2,246.5,2,135.6,2,32.12,2,0,2,2.22,2,-999,9,-999,9,-999,9,-999,9,-999,9
      320696_3,    S04I,9,1,2,2,2,19960519,521,-62.3993,27.3665,5212,5227.8,-0.3298,34.651,2,34.6502,2,246.4,2,246.8,2,133.3,2,32.07,2,0,2,2.22,2,-999,9,-999,9,-999,9,-999,9,-999,9
      320696_3,    S04I,9,1,1,1,2,19960519,521,-62.3993,27.3665,5212,5263.5,-0.3258,34.6505,2,34.6508,2,246.5,2,247,2,133.3,2,32.12,2,0,2,2.22,2,-999,9,-999,9,-999,9,-999,9,-999,9
      320696_3,    S04I,10,1,36,36,2,19960519,1124,-62.8002,28.0327,5219,17.6,-1.0731,33.8583,2,33.8586,2,-999,4,346,2,45.6,2,24.68,2,0.32,2,1.73,2,6.733,2,3.241,2,-999,9,2163.8,2,2295,6
      320696_3,    S04I,10,1,35,35,2,19960519,1124,-62.8002,28.0327,5219,45.6,-1.0982,33.8736,2,33.8714,2,-999,4,345.9,2,46.1,2,24.78,2,0.31,2,1.74,2,6.733,2,3.263,2,-999,9,2164.7,2,2296,2
      320696_3,    S04I,10,1,34,34,2,19960519,1124,-62.8002,28.0327,5219,66.4,-1.2219,33.9321,2,33.9198,2,-999,4,344.1,2,55.3,2,25.22,2,0.31,2,1.78,2,6.7,2,3.23,2,-999,9,2171.3,2,2297,2
      320696_3,    S04I,10,1,33,33,2,19960519,1124,-62.8002,28.0327,5219,87.4,-0.8389,34.2012,2,34.1959,2,-999,4,308.5,2,65.2,2,29.63,2,0.08,2,2.07,2,5.568,2,2.624,2,-999,9,2204.2,2,2316,2
      320696_3,    S04I,10,1,32,32,2,19960519,1124,-62.8002,28.0327,5219,106.7,0.2451,34.3717,2,34.3537,2,-999,4,257.8,2,74.6,2,31.67,2,0.01,2,2.2,2,3.924,2,1.729,2,-999,9,2227.1,2,2322,2
      320696_3,    S04I,10,1,31,31,2,19960519,1124,-62.8002,28.0327,5219,131.9,1.0573,34.5129,2,34.5082,2,-999,4,211.7,2,84.4,2,33.34,2,0.02,2,2.32,2,2.049,2,0.856,2,-999,9,2249.5,2,2329,2
      320696_3,    S04I,10,1,30,30,2,19960519,1124,-62.8002,28.0327,5219,182.1,1.3267,34.6039,2,34.6025,2,-999,4,190.7,2,88.2,2,33.2,2,0.01,2,-999,3,1.047,2,0.404,2,-999,9,2257.6,2,2342,2
      320696_3,    S04I,10,1,29,29,2,19960519,1124,-62.8002,28.0327,5219,207.3,1.3545,34.6289,2,34.6273,2,189.4,2,191.3,2,89.8,2,33,2,0.01,2,2.35,2,0.86,2,0.309,2,-999,9,2257.7,2,2343,2
      320696_3,    S04I,10,1,28,28,2,19960519,1124,-62.8002,28.0327,5219,232.4,1.3124,34.6433,2,34.6409,2,190.4,2,190.2,2,92.9,2,32.91,2,0.01,2,2.25,2,0.812,2,0.424,2,-999,9,2258.6,2,2343,2
      320696_3,    S04I,10,1,27,27,2,19960519,1124,-62.8002,28.0327,5219,257.5,1.34,34.6578,2,34.656,2,190.3,2,190.1,2,94.8,2,32.71,2,0.01,2,2.25,2,0.699,2,0.366,2,-999,9,2258.3,2,2347,2
      320696_3,    S04I,10,1,26,26,2,19960519,1124,-62.8002,28.0327,5219,307.5,1.3381,34.6786,2,34.6767,2,191.6,2,190.6,2,96.8,2,32.36,2,0.01,2,2.24,2,0.558,2,0.297,2,-999,9,2258,2,2347,2
      320696_3,    S04I,10,1,25,25,2,19960519,1124,-62.8002,28.0327,5219,409.5,1.3226,34.7043,2,34.7041,2,193.8,2,193.8,2,97.9,2,31.67,2,0,2,2.19,2,0.352,2,0.187,2,-999,9,2256.6,2,2348,2
      320696_3,    S04I,10,1,24,24,2,19960519,1124,-62.8002,28.0327,5219,610.7,1.0827,34.7115,2,34.7108,2,198.9,2,199.4,2,105.9,2,31.53,2,0,2,2.18,2,0.255,2,0.146,2,-999,9,2257.6,2,2354,2
      320696_3,    S04I,10,1,23,23,2,19960519,1124,-62.8002,28.0327,5219,810.9,0.8678,34.7061,2,34.7051,2,203.8,2,203,2,112,2,31.78,2,0,2,2.19,2,0.222,2,0.12,2,-999,9,2260.2,2,2357,2
      320696_3,    S04I,10,1,22,22,2,19960519,1124,-62.8002,28.0327,5219,1015.2,0.6651,34.6976,2,34.6961,2,205.1,2,205.4,2,116.6,2,32.12,2,0,2,2.22,2,0.205,2,0.113,2,-999,9,2260.6,2,2357,2
      320696_3,    S04I,10,1,21,21,2,19960519,1124,-62.8002,28.0327,5219,1214.4,0.5113,34.6902,2,34.6893,2,207.1,2,205.1,2,121.9,2,32.57,2,0,2,2.25,2,0.167,2,0.004,2,-999,9,2264.1,2,2355,2
      320696_3,    S04I,10,1,20,20,2,19960519,1124,-62.8002,28.0327,5219,1419.5,0.3969,34.6855,2,34.6844,2,207.4,2,206.7,2,125.5,2,32.82,2,0,2,2.26,2,0.135,2,-0.033,2,-999,9,2266.3,2,2357,2
      320696_3,    S04I,10,1,19,19,2,19960519,1124,-62.8002,28.0327,5219,1621.9,0.3056,34.6815,2,34.6813,2,209.3,2,209.6,2,127.9,2,32.86,2,0,2,2.28,2,0.128,2,0.004,2,-999,9,2265,2,2355,2
      320696_3,    S04I,10,1,18,18,2,19960519,1124,-62.8002,28.0327,5219,1825.7,0.2122,34.6774,2,34.677,2,213.3,2,213.4,2,128.9,2,32.81,2,0,2,2.26,2,0.118,2,-0.059,2,-999,9,2264,2,2355,2
      320696_3,    S04I,10,1,17,17,2,19960519,1124,-62.8002,28.0327,5219,2027.4,0.1345,34.674,2,34.6731,2,216.8,2,218.7,2,129.9,2,32.76,2,0,2,2.26,2,0.132,2,0.024,2,-999,9,2264.1,2,-999,9
      320696_3,    S04I,10,1,16,16,2,19960519,1124,-62.8002,28.0327,5219,2231.2,0.0595,34.6711,2,34.67,2,220.4,2,220.6,2,130.2,2,32.67,2,0,2,2.27,2,0.124,2,-0.07,2,-999,9,2262.3,2,2354,2
      320696_3,    S04I,10,1,15,15,2,19960519,1124,-62.8002,28.0327,5219,2436.3,-0.012,34.6678,2,34.6665,2,224,2,224.1,2,130.4,2,32.57,2,0,2,2.26,2,0.144,2,0.048,2,-999,9,2260.3,2,2354,2
      320696_3,    S04I,10,1,14,14,2,19960519,1124,-62.8002,28.0327,5219,2640.5,-0.067,34.6658,2,34.6663,2,227.3,2,227.8,2,130.4,2,32.52,2,0,2,2.26,2,0.162,2,0.092,2,-999,9,2259.5,2,2354,2
      320696_3,    S04I,10,1,13,13,2,19960519,1124,-62.8002,28.0327,5219,2844.2,-0.1137,34.6633,2,34.6632,2,230.1,2,229.8,2,130.4,2,32.42,2,0,2,2.26,2,0.177,2,0.104,2,-999,9,2257.9,2,2351,2
      320696_3,    S04I,10,1,12,12,2,19960519,1124,-62.8002,28.0327,5219,3047.8,-0.1537,34.6616,2,34.6621,2,231.8,2,233,2,129.6,2,32.37,2,0,2,2.26,2,-999,9,-999,9,-999,9,2256.3,2,2353,2
      320696_3,    S04I,10,1,11,11,2,19960519,1124,-62.8002,28.0327,5219,3250.2,-0.1825,34.6611,2,34.6592,2,234.9,2,234.9,2,129.4,2,32.22,2,0,2,2.25,2,0.219,2,0.12,2,-999,9,2253.3,2,2353,2
      320696_3,    S04I,10,1,10,10,2,19960519,1124,-62.8002,28.0327,5219,3455.3,-0.2102,34.6593,2,34.6575,2,236.6,2,237.1,2,129.2,2,32.17,2,0,2,2.24,2,0.248,2,0.141,2,-999,9,2255.5,2,2353,2
      320696_3,    S04I,10,1,9,9,2,19960519,1124,-62.8002,28.0327,5219,3660.4,-0.2325,34.6584,2,34.6565,2,238.9,2,238.3,2,128.1,2,32.17,2,0,2,2.24,2,0.287,2,0.156,2,-999,9,2254.5,2,2353,2
      320696_3,    S04I,10,1,8,8,2,19960519,1124,-62.8002,28.0327,5219,3865.8,-0.2511,34.6574,2,34.6554,2,240.2,2,240.2,2,129.2,2,32.12,2,0,2,2.24,2,0.29,2,0.159,2,-999,9,2253.5,2,2352,2
      320696_3,    S04I,10,1,7,7,2,19960519,1124,-62.8002,28.0327,5219,4071.1,-0.2697,34.6554,2,34.6554,2,241.5,2,242,2,129.5,2,32.07,2,0,2,2.23,2,0.262,2,0.157,2,-999,9,2253.1,2,2351,2
      320696_3,    S04I,10,1,6,6,2,19960519,1124,-62.8002,28.0327,5219,4275.7,-0.2851,34.6547,2,34.6554,2,242.4,2,242.7,2,130.2,2,32.12,2,0,2,2.24,2,-999,9,-999,9,-999,9,2253.4,2,2353,2
      320696_3,    S04I,10,1,5,5,2,19960519,1124,-62.8002,28.0327,5219,4481.9,-0.2961,34.6541,2,34.6541,2,244.2,2,243.9,2,131.2,2,32.02,2,0,2,2.23,2,0.239,2,0.149,2,-999,9,2251.8,2,2350,2
      320696_3,    S04I,10,1,4,4,2,19960519,1124,-62.8002,28.0327,5219,4687.7,-0.3053,34.6534,2,34.6524,2,245,2,244.5,2,132.3,2,32.07,2,0,2,2.23,2,0.215,2,0.127,2,-999,9,2252,2,2356,2
      320696_3,    S04I,10,1,3,3,2,19960519,1124,-62.8002,28.0327,5219,4892.7,-0.3149,34.6526,2,34.6516,2,245.8,2,245.8,2,133.4,2,32.02,2,0,2,2.23,2,0.189,2,0.117,2,-999,9,2252.1,2,2354,2
      320696_3,    S04I,10,1,2,2,2,19960519,1124,-62.8002,28.0327,5219,5098.9,-0.3212,34.6518,2,34.6511,2,246.7,2,246.2,2,134.3,2,32.07,2,0,2,2.23,2,0.188,2,0.112,2,-999,9,2251.2,2,2356,2
      320696_3,    S04I,10,1,1,1,2,19960519,1124,-62.8002,28.0327,5219,5274,-0.3261,34.65,7,34.6507,2,246.7,2,246.7,2,135.6,2,32.12,2,0.01,2,2.24,2,0.218,2,0.131,2,-999,9,2251,2,2351,2