BOTTLE,20211011SIOJHS,,,,,,,,,,,,,,,,,,,,,,,,,,,,,,,,,,,,,,
EXPOCODE,SECT_ID,STNNBR,CASTNO,SAMPNO,BTLNBR,BTLNBR_FLAG_W,DATE,TIME,LATITUDE,LONGITUDE,DEPTH,CTDPRS,CTDTMP,CTDSAL,CTDSAL_FLAG_W,SALNTY,SALNTY_FLAG_W,CTDOXY,CTDOXY_FLAG_W,OXYGEN,OXYGEN_FLAG_W,SILCAT,SILCAT_FLAG_W,NITRAT,NITRAT_FLAG_W,NITRIT,NITRIT_FLAG_W,PHSPHT,PHSPHT_FLAG_W,CFC-11,CFC-11_FLAG_W,CFC-12,CFC-12_FLAG_W,SF6,SF6_FLAG_W,TCARBN,TCARBN_FLAG_W,ALKALI,ALKALI_FLAG_W
,,,,,,,,,,,,DB,ITS-90,PSS-78,,PSS-78,,UMOL/KG,,UMOL/KG,,UMOL/KG,,UMOL/KG,,UMOL/KG,,UMOL/KG,,PMOL/KG,,PMOL/KG,,FMOL/KG,,UMOL/KG,,UMOL/KG,
      320696_3,    S04I,62,1,28,28,2,19960605,1027,-61.4168,80.4888,2480,13.8,-1.7719,33.9674,2,33.9657,2,-999,4,342.5,2,48.5,2,29.18,2,0.27,2,2.02,2,6.506,2,3.214,2,-999,9,2179.2,2,2298,6
      320696_3,    S04I,62,1,27,27,2,19960605,1027,-61.4168,80.4888,2480,28.3,-1.7704,33.9683,2,33.967,2,-999,4,341.7,2,48.3,2,29.18,2,0.26,2,2.02,2,-999,9,-999,9,-999,9,2178.7,2,2294,2
      320696_3,    S04I,62,1,26,26,2,19960605,1027,-61.4168,80.4888,2480,54.2,-1.7634,33.971,2,33.9696,2,-999,4,341.7,2,49.1,2,29.18,2,0.26,2,2.02,2,6.41,2,3.102,2,-999,9,2178.8,2,2297,2
      320696_3,    S04I,62,1,25,25,2,19960605,1027,-61.4168,80.4888,2480,83,-1.7444,33.9742,2,33.9729,2,-999,4,340.7,2,48.5,2,29.23,2,0.26,2,2.02,2,-999,9,-999,9,-999,9,2181.4,2,2298,2
      320696_3,    S04I,62,1,24,24,2,19960605,1027,-61.4168,80.4888,2480,102.8,-1.2489,34.0306,2,34.0521,2,-999,4,305.7,2,53.5,2,30.26,2,0.21,2,2.09,2,5.256,2,2.517,2,-999,9,2193,2,2303,2
      320696_3,    S04I,62,1,23,23,2,19960605,1027,-61.4168,80.4888,2480,134.1,1.0447,34.4026,2,34.394,2,-999,3,207.4,2,72.9,2,34.43,2,0.03,2,2.38,2,-999,9,-999,9,-999,9,2241.2,2,2318,2
      320696_3,    S04I,62,1,22,22,2,19960605,1027,-61.4168,80.4888,2480,182.4,1.7452,34.525,2,34.5228,2,179.8,2,180.4,2,79.8,2,34.84,2,0.02,2,2.4,2,-999,9,-999,9,-999,9,2253.6,2,2328,2
      320696_3,    S04I,62,1,21,21,2,19960605,1027,-61.4168,80.4888,2480,231.5,1.8639,34.5783,2,34.5765,2,175,2,174.5,2,82.2,2,34.53,2,0.02,2,2.38,2,-999,9,-999,9,-999,9,2258.8,2,2332,2
      320696_3,    S04I,62,1,20,20,2,19960605,1027,-61.4168,80.4888,2480,261.2,1.9182,34.6036,2,34.6013,2,174,2,174.1,2,83.9,2,34.26,2,0.02,2,2.36,2,0.588,2,0.308,2,-999,9,2257.4,2,2339,2
      320696_3,    S04I,62,1,19,19,2,19960605,1027,-61.4168,80.4888,2480,288.5,1.9544,34.6238,2,34.6214,2,173,2,173,2,84.5,2,33.85,2,0.02,2,2.34,2,0.479,2,0.247,2,-999,9,2260,2,2334,2
      320696_3,    S04I,62,1,18,18,2,19960605,1027,-61.4168,80.4888,2480,331.1,1.9815,34.644,2,34.6424,2,174.3,2,174.7,2,85,2,33.59,2,0.02,2,2.31,2,0.392,2,0.213,2,-999,9,2259.1,2,2342,2
      320696_3,    S04I,62,1,17,17,2,19960605,1027,-61.4168,80.4888,2480,361.6,1.9858,34.6545,2,34.6525,2,175.3,2,174.2,2,85.2,2,33.33,2,0.02,2,2.3,2,0.354,2,0.188,2,-999,9,2258.2,2,2339,2
      320696_3,    S04I,62,1,16,16,2,19960605,1027,-61.4168,80.4888,2480,398.1,1.9829,34.6707,2,34.6687,2,176.3,2,176.8,2,85.6,2,32.96,2,0.02,2,2.27,2,0.313,2,0.163,2,-999,9,2255.7,2,2341,2
      320696_3,    S04I,62,1,15,15,2,19960605,1027,-61.4168,80.4888,2480,495.5,1.9829,34.7029,2,34.7011,2,181.3,2,181.6,2,85.9,2,32.03,2,0.02,2,2.21,2,0.214,2,0.124,2,-999,9,2252.1,2,2344,2
      320696_3,    S04I,62,1,14,14,2,19960605,1027,-61.4168,80.4888,2480,590.7,1.9695,34.7227,2,34.7214,2,185.2,2,185,2,85.2,2,31.36,2,0.02,2,2.16,2,0.16,2,0.086,2,-999,9,2249.5,2,2346,2
      320696_3,    S04I,62,1,13,13,2,19960605,1027,-61.4168,80.4888,2480,796.4,1.8104,34.7406,2,34.7398,2,191.1,2,191.2,2,89.5,2,30.89,2,0.02,2,2.14,2,-999,9,-999,9,-999,9,2251.5,2,2346,6
      320696_3,    S04I,62,1,12,12,2,19960605,1027,-61.4168,80.4888,2480,899.9,1.742,34.7457,2,34.7449,2,193.5,2,193.5,2,90.8,2,30.63,2,0.02,2,2.12,2,0.112,2,0.055,2,-999,9,2248.5,2,2347,2
      320696_3,    S04I,62,1,11,11,2,19960605,1027,-61.4168,80.4888,2480,1004.4,1.667,34.7504,2,34.7491,2,197.4,2,198.1,2,91.7,2,30.22,2,0.02,2,2.09,2,0.093,2,0.053,2,-999,9,2247.5,2,2350,2
      320696_3,    S04I,62,1,10,10,2,19960605,1027,-61.4168,80.4888,2480,1102.6,1.5669,34.7485,2,34.7474,2,199.8,2,199.3,2,94.8,2,30.32,2,0.02,2,2.09,2,-999,9,-999,9,-999,9,2247.8,2,2351,2
      320696_3,    S04I,62,1,9,9,2,19960605,1027,-61.4168,80.4888,2480,1246.9,1.4232,34.7445,2,34.7441,2,201.7,2,201.9,2,98.8,2,30.37,2,0.02,2,2.1,2,-999,9,-999,9,-999,9,2249.4,2,2353,2
      320696_3,    S04I,62,1,63,63,2,19960605,1027,-61.4168,80.4888,2480,1452.8,1.2381,34.7363,2,-999,4,204.6,2,205.6,2,102.7,2,30.63,2,0.02,2,2.11,2,0.08,2,0.039,2,-999,9,2250.8,2,2357,2
      320696_3,    S04I,62,1,7,7,2,19960605,1027,-61.4168,80.4888,2480,1655.6,1.0566,34.7257,2,34.7247,2,205.5,2,205,2,111.1,2,31.2,2,0.02,2,2.15,2,-999,9,-999,9,-999,9,2253.1,2,2356,2
      320696_3,    S04I,62,1,6,6,2,19960605,1027,-61.4168,80.4888,2480,1857.4,0.8739,34.7158,2,34.7128,2,207.1,2,207.3,2,116.1,2,31.55,2,0.02,2,2.18,2,0.067,2,0.039,2,-999,9,2256.7,2,2358,2
      320696_3,    S04I,62,1,5,5,2,19960605,1027,-61.4168,80.4888,2480,2057.2,0.7332,34.7079,2,34.7044,2,209.9,2,209.3,2,119.7,2,31.76,2,0.02,2,2.19,2,-999,9,-999,9,-999,9,2257.7,2,2359,2
      320696_3,    S04I,62,1,4,4,2,19960605,1027,-61.4168,80.4888,2480,2259.7,0.571,34.698,2,34.6932,2,211.8,2,211.3,2,124.5,2,32.02,2,0.02,2,2.22,2,0.071,2,0.036,2,-999,9,2259.6,2,2355,2
      320696_3,    S04I,62,1,3,3,2,19960605,1027,-61.4168,80.4888,2480,2372.7,0.4758,34.694,2,34.6889,2,211.5,2,211.1,2,133.4,2,32.31,2,0.05,2,2.24,2,0.062,2,0.033,2,-999,9,2261.2,2,2360,2
      320696_3,    S04I,62,1,2,2,2,19960605,1027,-61.4168,80.4888,2480,2425.1,0.4352,34.6913,2,34.6864,2,211.3,2,210.7,2,140.6,2,32.51,2,0.11,2,2.25,2,0.06,2,0.038,2,-999,9,2263.3,2,-999,9
      320696_3,    S04I,62,1,1,1,2,19960605,1027,-61.4168,80.4888,2480,2463.5,0.4228,34.6896,2,-999,4,211.5,2,211.9,2,140.6,2,32.51,2,0.1,2,2.25,2,0.059,2,0.035,2,-999,9,2261.5,2,2358,2
      320696_3,    S04I,63,1,24,24,2,19960605,1550,-61.3535,81.6662,2157,14.5,-1.6516,34.0057,2,34.0055,2,-999,4,339.5,2,52.9,2,29.54,2,0.23,2,2.04,2,6.298,2,3.082,2,-999,9,2183.5,2,2298,2
      320696_3,    S04I,63,1,23,23,2,19960605,1550,-61.3535,81.6662,2157,29.3,-1.65,34.0063,2,34.0053,2,-999,4,339.4,2,52.9,2,29.55,2,0.23,2,2.04,2,-999,9,-999,9,-999,9,2183.7,2,-999,9
      320696_3,    S04I,63,1,22,22,2,19960605,1550,-61.3535,81.6662,2157,53.4,-1.6532,34.0054,2,34.0051,2,-999,4,339.1,2,53.1,2,29.55,2,0.23,2,2.03,2,6.302,2,3.072,2,-999,9,-999,9,-999,9
      320696_3,    S04I,63,1,21,21,2,19960605,1550,-61.3535,81.6662,2157,72.5,-1.6333,34.009,2,34.0082,2,-999,4,338.6,2,52.1,2,29.55,2,0.23,2,2.03,2,-999,9,-999,9,-999,9,-999,9,-999,9
      320696_3,    S04I,63,1,20,20,2,19960605,1550,-61.3535,81.6662,2157,101,-1.271,34.0525,2,34.0523,2,-999,4,323.4,2,54.4,2,29.93,2,0.22,2,2.06,2,5.806,2,2.834,2,-999,9,-999,9,-999,9
      320696_3,    S04I,63,1,19,19,2,19960605,1550,-61.3535,81.6662,2157,129,1.4258,34.483,2,34.4858,2,187.1,2,188.3,2,77.6,2,34.62,2,0.02,2,2.4,2,-999,9,-999,9,-999,9,-999,9,-999,9
      320696_3,    S04I,63,1,18,18,2,19960605,1550,-61.3535,81.6662,2157,154.3,1.7068,34.5452,2,34.5451,2,177.3,2,178.7,2,80.8,2,34.68,2,0.02,2,2.4,2,0.954,2,0.489,2,-999,9,-999,9,-999,9
      320696_3,    S04I,63,1,17,17,2,19960605,1550,-61.3535,81.6662,2157,203.7,1.8995,34.6028,2,34.6021,2,173.1,2,172.9,2,83.5,2,34.32,2,0.02,2,2.37,2,-999,9,-999,9,-999,9,-999,9,-999,9
      320696_3,    S04I,63,1,16,16,2,19960605,1550,-61.3535,81.6662,2157,235.2,1.9556,34.6281,2,34.6288,2,173.4,2,172.3,2,84.4,2,33.96,2,0.01,2,2.35,2,0.442,2,0.236,2,-999,9,-999,9,-999,9
      320696_3,    S04I,63,1,15,15,2,19960605,1550,-61.3535,81.6662,2157,265.1,1.9757,34.6483,2,34.6459,2,173.6,2,172.8,2,84.6,2,33.6,2,0.01,2,2.31,2,-999,9,-999,9,-999,9,-999,9,-999,9
      320696_3,    S04I,63,1,14,14,2,19960605,1550,-61.3535,81.6662,2157,293.2,1.9854,34.6625,2,34.6613,2,173.8,2,174.7,2,84.8,2,33.13,2,0.02,2,2.29,2,0.327,2,0.168,2,-999,9,-999,9,-999,9
      320696_3,    S04I,63,1,13,13,2,19960605,1550,-61.3535,81.6662,2157,350.1,1.9747,34.6813,2,34.6809,2,176.9,2,176.5,2,85.4,2,32.72,2,0.01,2,2.26,2,-999,9,-999,9,-999,9,-999,9,-999,9
      320696_3,    S04I,63,1,12,12,2,19960605,1550,-61.3535,81.6662,2157,449.2,1.9517,34.7089,2,34.708,2,181.3,2,182,2,86.3,2,31.95,2,0.01,2,2.2,2,0.199,2,0.099,2,-999,9,-999,9,-999,9
      320696_3,    S04I,63,1,11,11,2,19960605,1550,-61.3535,81.6662,2157,549.5,1.9015,34.7248,2,34.7244,2,185.6,2,185.6,2,87.3,2,31.43,2,0.01,2,2.17,2,-999,9,-999,9,-999,9,-999,9,-999,9
      320696_3,    S04I,63,1,10,10,2,19960605,1550,-61.3535,81.6662,2157,655.9,1.8339,34.7377,2,34.7371,2,188.9,2,190.7,2,88.2,2,30.92,2,0.01,2,2.13,2,0.138,2,0.069,2,-999,9,-999,9,-999,9
      320696_3,    S04I,63,1,9,9,2,19960605,1550,-61.3535,81.6662,2157,797.2,1.7187,34.7454,2,34.7448,2,195.7,2,195.1,2,90.3,2,30.51,2,0.01,2,2.1,2,0.119,2,0.07,2,-999,9,-999,9,-999,9
      320696_3,    S04I,63,1,63,63,2,19960605,1550,-61.3535,81.6662,2157,969.6,1.5638,34.7471,2,34.7458,2,198.8,2,199.4,2,94.1,2,30.41,2,0.01,2,2.09,2,-999,9,-999,9,-999,9,-999,9,-999,9
      320696_3,    S04I,63,1,7,7,2,19960605,1550,-61.3535,81.6662,2157,1203.4,1.3309,34.7392,2,34.7391,2,202,2,202.7,2,100.2,2,30.57,2,0.01,2,2.1,2,0.09,2,0.047,2,-999,9,-999,9,-999,9
      320696_3,    S04I,63,1,6,6,2,19960605,1550,-61.3535,81.6662,2157,1413.7,1.1239,34.7297,2,34.7293,2,204,2,203.5,2,107.8,2,31.04,2,0.01,2,2.13,2,-999,9,-999,9,-999,9,-999,9,-999,9
      320696_3,    S04I,63,1,5,5,2,19960605,1550,-61.3535,81.6662,2157,1615.5,0.9645,34.7205,2,34.7203,2,204.8,2,204.5,2,114.9,2,31.4,2,0.01,2,2.15,2,0.068,2,0.042,2,-999,9,-999,9,-999,9
      320696_3,    S04I,63,1,4,4,2,19960605,1550,-61.3535,81.6662,2157,1821,0.7825,34.7107,2,34.7099,2,206.9,2,206.8,2,118.8,2,31.72,2,0.01,2,2.18,2,-999,9,-999,9,-999,9,-999,9,-999,9
      320696_3,    S04I,63,1,3,3,2,19960605,1550,-61.3535,81.6662,2157,2021.3,0.5653,34.6986,2,34.6977,2,210,2,209.3,2,127.4,2,32.13,2,0.01,2,2.22,2,0.07,2,0.042,2,-999,9,-999,9,-999,9
      320696_3,    S04I,63,1,2,2,2,19960605,1550,-61.3535,81.6662,2157,2084,0.4697,34.694,2,34.6922,2,208.4,2,208.4,2,136.8,2,32.35,2,0.05,2,2.23,2,0.067,2,0.038,2,-999,9,-999,9,-999,9
      320696_3,    S04I,63,1,1,1,2,19960605,1550,-61.3535,81.6662,2157,2139.4,0.441,34.6923,2,34.6914,2,209.5,2,210.1,2,139.3,2,32.44,2,0.08,2,2.24,2,0.072,2,0.042,2,-999,9,-999,9,-999,9
      320696_3,    S04I,64,1,22,22,2,19960605,2054,-61.2873,82.8255,1566,11.9,-1.7351,33.9401,2,33.9412,2,-999,4,336.2,2,52,2,29.43,2,0.24,2,2.04,2,6.18,2,3,2,-999,9,2180.3,2,2292,6
      320696_3,    S04I,64,1,21,21,2,19960605,2054,-61.2873,82.8255,1566,37.6,-1.7345,33.9401,2,33.9412,2,-999,4,336.1,2,51.8,2,29.48,2,0.24,2,2.03,2,6.26,2,3.013,2,-999,9,2180.8,2,-999,9
      320696_3,    S04I,64,1,20,20,2,19960605,2054,-61.2873,82.8255,1566,62.2,-1.7196,33.9422,2,33.9451,2,-999,4,335.4,2,51.8,2,29.48,2,0.24,2,2.03,2,6.092,2,2.94,2,-999,9,2181.7,2,-999,9
      320696_3,    S04I,64,1,19,19,2,19960605,2054,-61.2873,82.8255,1566,91.4,-0.7333,34.0654,2,34.0703,2,305.1,2,305.4,2,56.2,2,30.49,2,0.2,2,2.1,2,5.321,2,2.61,2,-999,9,2196.6,2,-999,9
      320696_3,    S04I,64,1,18,18,2,19960605,2054,-61.2873,82.8255,1566,122,1.3907,34.4455,2,34.4426,2,196,2,196.3,2,75.2,2,34.74,2,0.03,2,2.41,2,1.782,2,0.832,2,-999,9,2248.8,2,-999,9
      320696_3,    S04I,64,1,17,17,2,19960605,2054,-61.2873,82.8255,1566,152.4,1.7702,34.5316,2,34.5301,2,178.3,2,178,2,79.8,2,34.95,2,0.02,2,2.43,2,0.995,2,0.487,2,-999,9,2256.3,2,-999,9
      320696_3,    S04I,64,1,16,16,2,19960605,2054,-61.2873,82.8255,1566,182.9,1.8651,34.5587,2,34.56,2,174.8,2,174.7,2,81,2,34.8,2,0.02,2,2.42,2,0.787,2,0.381,2,-999,9,2259,2,-999,9
      320696_3,    S04I,64,1,15,15,2,19960605,2054,-61.2873,82.8255,1566,204.9,1.9572,34.5941,2,34.594,2,172.6,2,172.8,2,82.5,2,34.53,2,0.02,2,2.4,2,0.591,2,0.291,2,-999,9,2259.5,2,-999,9
      320696_3,    S04I,64,1,14,14,2,19960605,2054,-61.2873,82.8255,1566,242,2.0038,34.6233,2,34.6234,2,171.5,2,171.8,2,85.1,2,33.08,2,0.02,2,2.29,2,0.437,2,0.227,2,-999,9,2260,2,-999,9
      320696_3,    S04I,64,1,13,13,2,19960605,2054,-61.2873,82.8255,1566,287.1,2.0052,34.65,2,34.6508,2,173.5,2,173.6,2,84.5,2,33.49,2,0.02,2,2.31,2,0.356,2,0.194,2,-999,9,2256.6,2,-999,9
      320696_3,    S04I,64,1,12,12,2,19960605,2054,-61.2873,82.8255,1566,343,1.9974,34.6691,2,34.669,2,175.9,2,176.9,2,84.9,2,32.97,2,0.02,2,2.28,2,0.299,2,0.167,2,-999,9,2257,2,-999,9
      320696_3,    S04I,64,1,11,11,2,19960605,2054,-61.2873,82.8255,1566,403.2,1.981,34.6933,2,34.6916,2,179.2,2,178.9,2,85.6,2,32.35,2,0.01,2,2.24,2,0.237,2,0.126,2,-999,9,2255.9,2,-999,9
      320696_3,    S04I,64,1,10,10,2,19960605,2054,-61.2873,82.8255,1566,478.8,1.946,34.7091,2,34.7099,2,182.6,2,183.5,2,86.6,2,31.83,2,0.01,2,2.2,2,0.202,2,0.111,2,-999,9,2253.7,2,-999,9
      320696_3,    S04I,64,1,9,9,2,19960605,2054,-61.2873,82.8255,1566,554.3,1.9226,34.7276,2,34.7272,2,186.4,2,187.8,2,86.4,2,31.16,2,0.02,2,2.15,2,0.156,2,0.088,2,-999,9,2251.5,2,-999,9
      320696_3,    S04I,64,1,63,63,2,19960605,2054,-61.2873,82.8255,1566,648.7,1.8612,34.7378,2,34.7368,2,191.5,2,191.4,2,87.5,2,30.64,2,0.02,2,2.13,2,0.138,2,0.08,2,-999,9,2248.1,2,-999,9
      320696_3,    S04I,64,1,7,7,2,19960605,2054,-61.2873,82.8255,1566,761.8,1.7465,34.7419,2,34.7421,2,194.3,2,192.6,2,90.7,2,30.69,2,0.02,2,2.13,2,0.125,2,0.068,2,-999,9,2246.6,2,-999,9
      320696_3,    S04I,64,1,6,6,2,19960605,2054,-61.2873,82.8255,1566,870.7,1.6409,34.7462,2,34.7475,2,196.9,2,198,2,92.8,2,30.48,2,0.02,2,2.1,2,0.105,2,0.066,2,-999,9,2248.3,2,2348,6
      320696_3,    S04I,64,1,5,5,2,19960605,2054,-61.2873,82.8255,1566,1015,1.5252,34.7457,2,34.7453,2,200,2,199.8,2,95.6,2,30.38,2,0.01,2,2.09,2,0.103,2,0.058,2,-999,9,2248,2,-999,9
      320696_3,    S04I,64,1,4,4,2,19960605,2054,-61.2873,82.8255,1566,1149.2,1.2256,34.7346,2,-999,4,204.4,2,204.5,2,103.7,2,30.74,2,0.01,2,2.12,2,0.088,2,0.048,2,-999,9,2251,2,-999,9
      320696_3,    S04I,64,1,3,3,2,19960605,2054,-61.2873,82.8255,1566,1292.9,1.0591,34.726,2,34.7264,2,204.8,2,205,2,110.7,2,31.15,2,0.02,2,2.16,2,0.076,2,0.043,2,-999,9,2251,2,-999,9
      320696_3,    S04I,64,1,2,2,2,19960605,2054,-61.2873,82.8255,1566,1417.6,1.0386,34.7247,2,34.7241,2,205.4,2,204.6,2,112,2,31.2,2,0.02,2,2.16,2,0.075,2,0.037,2,-999,9,2254.7,2,-999,9
      320696_3,    S04I,64,1,1,1,2,19960605,2054,-61.2873,82.8255,1566,1526.5,1.0041,34.7231,2,34.7233,2,205.5,2,206.1,2,112.6,2,31.25,2,0.02,2,2.16,2,0.076,2,0.038,2,-999,9,2255.4,2,-999,9
      320696_3,    S04I,65,1,22,22,2,19960606,1235,-59.7015,84.2478,1596,11.1,-1.471,34.0294,2,34.0276,2,-999,4,338.9,2,58,2,29.81,2,0.22,2,2.04,2,6.285,2,3.097,2,-999,9,2187.4,2,2301,2
      320696_3,    S04I,65,1,21,21,2,19960606,1235,-59.7015,84.2478,1596,26.3,-1.4622,34.0312,2,34.0285,2,-999,4,339.2,2,57.8,2,29.82,2,0.21,2,2.05,2,-999,9,-999,9,-999,9,2188.1,2,-999,9
      320696_3,    S04I,65,1,20,20,2,19960606,1235,-59.7015,84.2478,1596,51.7,-1.4336,34.0347,2,34.0336,2,-999,4,338.2,2,57.8,2,29.87,2,0.21,2,2.04,2,-999,9,-999,9,-999,9,2189.4,2,-999,9
      320696_3,    S04I,65,1,19,19,2,19960606,1235,-59.7015,84.2478,1596,80.9,-0.5721,34.1571,2,34.1633,2,295.7,2,294.9,2,63.3,2,31.26,2,0.17,2,2.15,2,4.911,2,2.353,2,-999,9,2207,2,-999,9
      320696_3,    S04I,65,1,18,18,2,19960606,1235,-59.7015,84.2478,1596,110.8,1.3399,34.4963,2,34.4948,2,194.1,2,194.2,2,80.7,2,34.15,2,0.03,2,2.35,2,-999,9,-999,9,-999,9,2248.9,2,-999,9
      320696_3,    S04I,65,1,17,17,2,19960606,1235,-59.7015,84.2478,1596,145.6,1.7346,34.5828,2,34.5822,2,178.6,2,178,2,84.8,2,34.19,2,0.02,2,2.36,2,-999,9,-999,9,-999,9,2257.1,2,-999,9
      320696_3,    S04I,65,1,16,16,2,19960606,1235,-59.7015,84.2478,1596,180.2,1.8287,34.6182,2,34.6181,2,176.4,2,176.1,2,86.8,2,33.84,2,0.02,2,2.33,2,-999,9,-999,9,-999,9,2258,2,-999,9
      320696_3,    S04I,65,1,15,15,2,19960606,1235,-59.7015,84.2478,1596,220.4,1.8946,34.6502,2,34.6489,2,176.3,2,175.9,2,87.3,2,33.25,2,0.01,2,2.28,2,0.419,2,0.233,2,-999,9,2257.8,2,-999,9
      320696_3,    S04I,65,1,14,14,2,19960606,1235,-59.7015,84.2478,1596,252.5,1.8965,34.6712,2,34.6705,2,176.3,2,179,2,87.8,2,32.7,2,0.01,2,2.24,2,0.361,2,0.197,2,-999,9,2256.6,2,-999,9
      320696_3,    S04I,65,1,13,13,2,19960606,1235,-59.7015,84.2478,1596,301.7,1.8993,34.6918,2,34.6907,2,179.1,2,180.2,2,88.5,2,32.24,2,0.01,2,2.21,2,-999,9,-999,9,-999,9,2254.9,2,-999,9
      320696_3,    S04I,65,1,12,12,2,19960606,1235,-59.7015,84.2478,1596,351.4,1.8935,34.7017,2,34.7015,2,180.2,2,180.5,2,88.7,2,32.09,2,0.01,2,2.19,2,-999,9,-999,9,-999,9,2254.1,2,-999,9
      320696_3,    S04I,65,1,11,11,2,19960606,1235,-59.7015,84.2478,1596,452.5,1.857,34.72,2,34.7201,2,184.2,2,184,2,90.1,2,31.53,2,0.01,2,2.16,2,0.192,2,0.104,2,-999,9,2252.3,2,-999,9
      320696_3,    S04I,65,1,10,10,2,19960606,1235,-59.7015,84.2478,1596,553.4,1.8198,34.7302,2,34.7299,2,187,2,187.2,2,90.8,2,31.23,2,0.01,2,2.14,2,-999,9,-999,9,-999,9,2252.3,2,-999,9
      320696_3,    S04I,65,1,9,9,2,19960606,1235,-59.7015,84.2478,1596,654.2,1.766,34.7376,2,34.7368,2,190.5,2,190.2,2,91.7,2,30.88,2,0.01,2,2.11,2,-999,9,-999,9,-999,9,2250.6,2,-999,9
      320696_3,    S04I,65,1,63,63,2,19960606,1235,-59.7015,84.2478,1596,756.8,1.6787,34.743,2,34.7422,2,193.8,2,194,2,93.3,2,30.57,2,0.01,2,2.12,2,-999,9,-999,9,-999,9,2249.2,2,-999,9
      320696_3,    S04I,65,1,7,7,2,19960606,1235,-59.7015,84.2478,1596,855.2,1.5977,34.7449,2,34.7447,2,196.6,2,197.8,2,95.1,2,30.47,2,0.01,2,2.11,2,0.106,2,0.055,2,-999,9,2248.7,2,-999,9
      320696_3,    S04I,65,1,6,6,2,19960606,1235,-59.7015,84.2478,1596,955.7,1.4788,34.743,2,34.7427,2,198.1,2,198.2,2,98.9,2,30.57,2,0.01,2,2.12,2,0.095,2,0.057,2,-999,9,2252.3,2,-999,9
      320696_3,    S04I,65,1,5,5,2,19960606,1235,-59.7015,84.2478,1596,1057,1.373,34.7407,2,34.7403,2,200.2,2,200.4,2,101.4,2,30.63,2,0.01,2,2.12,2,-999,9,-999,9,-999,9,2252.1,2,-999,9
      320696_3,    S04I,65,1,4,4,2,19960606,1235,-59.7015,84.2478,1596,1260.5,1.1989,34.733,2,34.733,2,201.2,2,202.4,2,107.2,2,30.82,2,0.02,2,2.14,2,0.075,2,0.042,2,-999,9,2253.5,2,-999,9
      320696_3,    S04I,65,1,3,3,2,19960606,1235,-59.7015,84.2478,1596,1463.8,0.9914,34.7218,2,34.7208,2,199.8,2,198.2,2,129.4,2,31.87,2,0.03,2,2.2,2,-999,9,-999,9,-999,9,2262.7,2,-999,9
      320696_3,    S04I,65,1,2,2,2,19960606,1235,-59.7015,84.2478,1596,1535.6,0.9628,34.7203,2,34.719,2,198.1,2,198.8,2,135.4,2,31.97,2,0.09,2,2.23,2,0.064,2,0.045,2,-999,9,2262.9,2,-999,9
      320696_3,    S04I,65,1,1,1,2,19960606,1235,-59.7015,84.2478,1596,1566.4,0.9642,34.7203,2,34.7196,2,198.9,2,198.8,2,135.3,2,31.97,2,0.09,2,2.22,2,0.057,2,0.037,2,-999,9,2262.3,2,-999,9