BOTTLE,20211011SIOJHS,,,,,,,,,,,,,,,,,,,,,,,,,,,,,,,,,,,,,,
EXPOCODE,SECT_ID,STNNBR,CASTNO,SAMPNO,BTLNBR,BTLNBR_FLAG_W,DATE,TIME,LATITUDE,LONGITUDE,DEPTH,CTDPRS,CTDTMP,CTDSAL,CTDSAL_FLAG_W,SALNTY,SALNTY_FLAG_W,CTDOXY,CTDOXY_FLAG_W,OXYGEN,OXYGEN_FLAG_W,SILCAT,SILCAT_FLAG_W,NITRAT,NITRAT_FLAG_W,NITRIT,NITRIT_FLAG_W,PHSPHT,PHSPHT_FLAG_W,CFC-11,CFC-11_FLAG_W,CFC-12,CFC-12_FLAG_W,SF6,SF6_FLAG_W,TCARBN,TCARBN_FLAG_W,ALKALI,ALKALI_FLAG_W
,,,,,,,,,,,,DB,ITS-90,PSS-78,,PSS-78,,UMOL/KG,,UMOL/KG,,UMOL/KG,,UMOL/KG,,UMOL/KG,,UMOL/KG,,PMOL/KG,,PMOL/KG,,FMOL/KG,,UMOL/KG,,UMOL/KG,
      320696_3,    S04I,46,1,36,36,2,19960530,1740,-63.5012,58.3353,4566,15.2,-1.3185,33.8879,2,33.8862,2,-999,4,341.8,2,33.7,2,25.69,2,0.26,2,1.82,2,-999,9,-999,9,-999,9,2167.2,2,2295,2
      320696_3,    S04I,46,1,35,35,2,19960530,1740,-63.5012,58.3353,4566,29.6,-1.3156,33.888,2,33.886,2,-999,4,342.3,2,34,2,25.59,2,0.26,2,1.82,2,-999,9,-999,9,-999,9,2168.1,2,2293,2
      320696_3,    S04I,46,1,34,34,2,19960530,1740,-63.5012,58.3353,4566,65.8,-1.2957,33.8908,2,33.8919,2,-999,4,340.4,2,34.2,2,25.69,2,0.25,2,1.82,2,-999,9,-999,9,-999,9,2169.3,2,2295,2
      320696_3,    S04I,46,1,33,33,2,19960530,1740,-63.5012,58.3353,4566,93.4,0.7067,34.3863,2,34.391,2,-999,4,340.2,2,75,2,33.96,2,0,2,2.36,2,-999,9,-999,9,-999,9,2240.3,2,2329,2
      320696_3,    S04I,46,1,32,32,2,19960530,1740,-63.5012,58.3353,4566,129.6,1.4366,34.5065,2,-999,4,-999,4,222.1,2,82,2,34.68,2,0,2,2.4,2,-999,9,-999,9,-999,9,2254.3,2,2329,2
      320696_3,    S04I,46,1,31,31,2,19960530,1740,-63.5012,58.3353,4566,155.8,1.533,34.5441,2,34.5444,2,-999,3,187.1,2,83.9,2,34.52,2,0,2,2.39,2,-999,9,-999,9,-999,9,2256.6,2,2335,2
      320696_3,    S04I,46,1,30,30,2,19960530,1740,-63.5012,58.3353,4566,180.2,1.6138,34.5739,2,34.5735,2,-999,3,183.7,2,85.3,2,34.21,2,0,2,2.37,2,-999,9,-999,9,-999,9,2256.8,2,2332,2
      320696_3,    S04I,46,1,29,29,2,19960530,1740,-63.5012,58.3353,4566,206,1.7015,34.6027,2,34.6002,2,-999,3,181.2,2,86,2,33.9,2,0,2,2.35,2,-999,9,-999,9,-999,9,2257.6,2,2341,2
      320696_3,    S04I,46,1,28,28,2,19960530,1740,-63.5012,58.3353,4566,231.5,1.7513,34.6216,2,34.6179,2,180.5,2,179.5,2,86.2,2,33.79,2,0,2,2.33,2,-999,9,-999,9,-999,9,2258.9,2,2336,2
      320696_3,    S04I,46,1,27,27,2,19960530,1740,-63.5012,58.3353,4566,256,1.7722,34.6366,2,34.6346,2,179.5,2,178.9,2,87.2,2,33.48,2,0,2,2.31,2,-999,9,-999,9,-999,9,2258.3,2,2344,2
      320696_3,    S04I,46,1,26,26,2,19960530,1740,-63.5012,58.3353,4566,305.7,1.784,34.6583,2,34.6558,2,180.4,2,180.2,2,88.1,2,33.12,2,0,2,2.29,2,-999,9,-999,9,-999,9,2257.5,2,2342,2
      320696_3,    S04I,46,1,25,25,2,19960530,1740,-63.5012,58.3353,4566,357.3,1.7831,34.676,2,34.6771,2,-999,3,182.3,2,89,2,32.71,2,0,2,2.26,2,-999,9,-999,9,-999,9,2255.6,2,2346,2
      320696_3,    S04I,46,1,24,24,2,19960530,1740,-63.5012,58.3353,4566,447.6,1.7262,34.6978,2,34.6964,2,-999,3,186.1,2,90.3,2,32.15,2,0,2,2.22,2,-999,9,-999,9,-999,9,2255,2,2347,2
      320696_3,    S04I,46,1,23,23,2,19960530,1740,-63.5012,58.3353,4566,546.7,1.6884,34.7165,2,34.716,2,-999,3,189.8,2,91.2,2,31.48,2,0,2,2.17,2,-999,9,-999,9,-999,9,2251.5,2,2349,2
      320696_3,    S04I,46,1,22,22,2,19960530,1740,-63.5012,58.3353,4566,642.4,1.6167,34.7259,2,34.7237,2,-999,3,193.2,2,92.8,2,31.22,2,0,2,2.15,2,-999,9,-999,9,-999,9,2251.4,2,2353,2
      320696_3,    S04I,46,1,21,21,2,19960530,1740,-63.5012,58.3353,4566,749.6,1.5289,34.7326,2,34.732,2,195.8,2,196.5,2,94.9,2,30.91,2,0,2,2.13,2,-999,9,-999,9,-999,9,2249.8,2,-999,3
      320696_3,    S04I,46,1,20,20,2,19960530,1740,-63.5012,58.3353,4566,851.9,1.4184,34.7323,2,34.7312,2,198.7,2,198.9,2,97.5,2,30.91,2,0,2,2.14,2,-999,9,-999,9,-999,9,2251.5,2,2356,6
      320696_3,    S04I,46,1,19,19,2,19960530,1740,-63.5012,58.3353,4566,1051.5,1.2105,34.7283,2,34.7295,2,201.6,2,202.1,2,103.2,2,31.06,2,0,2,2.15,2,-999,9,-999,9,-999,9,2253.2,2,-999,3
      320696_3,    S04I,46,1,18,18,2,19960530,1740,-63.5012,58.3353,4566,1256.5,1.0088,34.7191,2,34.7189,2,205.4,2,204.7,2,108.9,2,31.42,2,0,2,2.17,2,-999,9,-999,9,-999,9,2255.2,2,2360,2
      320696_3,    S04I,46,1,17,17,2,19960530,1740,-63.5012,58.3353,4566,1453.4,0.8266,34.7095,2,34.7096,2,207,2,206.5,2,114.2,2,31.73,2,0,2,2.2,2,-999,9,-999,9,-999,9,2255.9,2,-999,3
      320696_3,    S04I,46,1,16,16,2,19960530,1740,-63.5012,58.3353,4566,1642.5,0.6745,34.7013,2,34.6981,2,208.2,2,207.3,2,119,2,32.03,2,0,2,2.22,2,-999,9,-999,9,-999,9,2260.5,2,2362,2
      320696_3,    S04I,46,1,15,15,2,19960530,1740,-63.5012,58.3353,4566,1856.5,0.5464,34.6946,2,34.6949,2,210.1,2,209.7,2,122.7,2,32.23,2,0,2,2.23,2,-999,9,-999,9,-999,9,2261,2,2359,2
      320696_3,    S04I,46,1,14,14,2,19960530,1740,-63.5012,58.3353,4566,2063.5,0.4231,34.6876,2,34.6873,2,211.3,2,211.5,2,126.1,2,32.44,2,0,2,2.25,2,-999,9,-999,9,-999,9,2261.5,2,2362,2
      320696_3,    S04I,46,1,13,13,2,19960530,1740,-63.5012,58.3353,4566,2266.8,0.3306,34.6827,2,34.68,2,213.3,2,213,2,128,2,32.54,2,0,2,2.26,2,-999,9,-999,9,-999,9,2260,2,-999,3
      320696_3,    S04I,46,1,12,12,2,19960530,1740,-63.5012,58.3353,4566,2499.4,0.2272,34.6776,2,-999,4,217,2,216.6,2,129.5,2,32.59,2,0,2,2.26,2,-999,9,-999,9,-999,9,2260.8,2,2362,2
      320696_3,    S04I,46,1,11,11,2,19960530,1740,-63.5012,58.3353,4566,2706.6,0.1434,34.6738,2,34.674,2,220.1,2,219.8,2,129.6,2,32.64,2,0,2,2.27,2,-999,9,-999,9,-999,9,2260.6,2,-999,3
      320696_3,    S04I,46,1,10,10,2,19960530,1740,-63.5012,58.3353,4566,2915.7,0.0827,34.6716,2,34.6702,2,222.3,2,223.1,2,131.5,2,32.64,2,0,2,2.26,2,-999,9,-999,9,-999,9,2259.5,2,2360,2
      320696_3,    S04I,46,1,9,9,2,19960530,1740,-63.5012,58.3353,4566,3126.1,0.0099,34.6684,2,-999,4,225.3,2,226.2,2,132.2,2,32.63,2,0,2,2.27,2,-999,9,-999,9,-999,9,2257.1,2,-999,3
      320696_3,    S04I,46,1,37,37,2,19960530,1740,-63.5012,58.3353,4566,3327.4,-0.0418,34.6659,2,34.6654,2,227.8,2,228.5,2,132.5,2,32.58,2,0,2,2.26,2,-999,9,-999,9,-999,9,2256.9,2,2360,2
      320696_3,    S04I,46,1,7,7,2,19960530,1740,-63.5012,58.3353,4566,3527.7,-0.0904,34.6643,2,-999,4,230.6,2,232,2,131.8,2,32.53,2,0,2,2.26,2,-999,9,-999,9,-999,9,2256.9,2,-999,3
      320696_3,    S04I,46,1,6,6,2,19960530,1740,-63.5012,58.3353,4566,3731.7,-0.1321,34.6626,2,-999,4,233.2,2,233.8,2,133.1,2,32.42,2,0,2,2.26,2,-999,9,-999,9,-999,9,2255.8,2,2357,2
      320696_3,    S04I,46,1,5,5,2,19960530,1740,-63.5012,58.3353,4566,3937.8,-0.1707,34.6606,2,-999,4,235.9,2,235.6,2,134.6,2,32.27,2,0,2,2.25,2,-999,9,-999,9,-999,9,2254.4,2,-999,3
      320696_3,    S04I,46,1,4,4,2,19960530,1740,-63.5012,58.3353,4566,4144.1,-0.2096,34.6599,2,-999,4,238.3,2,238.3,2,136.1,2,32.37,2,0,2,2.24,2,-999,9,-999,9,-999,9,2255.1,2,2360,2
      320696_3,    S04I,46,1,3,3,2,19960530,1740,-63.5012,58.3353,4566,4350.6,-0.2401,34.6579,2,-999,4,240.8,2,240.6,2,137,2,32.37,2,0,2,2.24,2,-999,9,-999,9,-999,9,2252.2,2,-999,3
      320696_3,    S04I,46,1,2,2,2,19960530,1740,-63.5012,58.3353,4566,4555.7,-0.2995,34.6534,2,34.6523,2,246,2,246.1,2,130.9,2,32.11,2,0,2,2.22,2,-999,9,-999,9,-999,9,2251.2,2,-999,3
      320696_3,    S04I,46,1,1,1,2,19960530,1740,-63.5012,58.3353,4566,4618.9,-0.346,34.65,2,34.6478,2,250.1,2,250.2,2,131.2,2,32.04,2,0.02,2,2.21,2,-999,9,-999,9,-999,9,2252,2,-999,3
      320696_3,    S04I,47,1,36,36,2,19960531,39,-63.5085,59.4518,4335,15.2,-1.6238,33.9358,2,33.9352,2,-999,4,339.3,2,40.7,2,27.19,2,0.23,2,1.93,2,-999,9,-999,9,-999,9,2177.3,2,2298,2
      320696_3,    S04I,47,1,35,35,2,19960531,39,-63.5085,59.4518,4335,30.2,-1.6095,33.9371,2,33.9405,2,-999,4,339.3,2,40.7,2,27.19,2,0.23,2,1.93,2,-999,9,-999,9,-999,9,2177.2,2,-999,9
      320696_3,    S04I,47,1,34,34,2,19960531,39,-63.5085,59.4518,4335,44.5,-1.5828,33.9396,2,33.9422,2,-999,4,339.1,2,40.5,2,27.19,2,0.23,2,1.93,2,-999,9,-999,9,-999,9,-999,9,-999,9
      320696_3,    S04I,47,1,33,33,2,19960531,39,-63.5085,59.4518,4335,65.3,-0.6714,34.0812,2,34.0845,2,-999,4,299.4,2,50.4,2,29.29,2,0.16,2,2.07,2,-999,9,-999,9,-999,9,-999,9,-999,9
      320696_3,    S04I,47,1,32,32,2,19960531,39,-63.5085,59.4518,4335,84,1.3102,34.46,2,34.4668,2,-999,4,195,2,77.9,2,34.74,2,0.01,2,2.44,2,-999,9,-999,9,-999,9,-999,9,-999,9
      320696_3,    S04I,47,1,31,31,2,19960531,39,-63.5085,59.4518,4335,112.5,1.4994,34.5064,2,34.5051,2,-999,3,191,2,80.7,2,34.64,2,0.01,2,2.41,2,-999,9,-999,9,-999,9,-999,9,-999,9
      320696_3,    S04I,47,1,30,30,2,19960531,39,-63.5085,59.4518,4335,140.9,1.7115,34.5489,2,34.5501,2,177.6,2,178.6,2,82.6,2,34.64,2,0,2,2.42,2,-999,9,-999,9,-999,9,-999,9,-999,9
      320696_3,    S04I,47,1,29,29,2,19960531,39,-63.5085,59.4518,4335,170,1.7803,34.5772,2,34.577,2,176.9,2,178,2,83.9,2,34.38,2,0,2,2.4,2,-999,9,-999,9,-999,9,-999,9,-999,9
      320696_3,    S04I,47,1,28,28,2,19960531,39,-63.5085,59.4518,4335,208.7,1.8186,34.6058,2,34.6045,2,177.7,2,177.3,2,84.6,2,34.02,2,0.01,2,2.36,2,-999,9,-999,9,-999,9,-999,9,-999,9
      320696_3,    S04I,47,1,27,27,2,19960531,39,-63.5085,59.4518,4335,247.3,1.8579,34.6275,2,34.6273,2,178.5,2,176.8,2,85.1,2,33.66,2,0,2,2.34,2,-999,9,-999,9,-999,9,-999,9,-999,9
      320696_3,    S04I,47,1,26,26,2,19960531,39,-63.5085,59.4518,4335,285,1.885,34.6516,2,34.6517,2,179,2,178.4,2,86.1,2,33.2,2,0,2,2.31,2,-999,9,-999,9,-999,9,-999,9,-999,9
      320696_3,    S04I,47,1,25,25,2,19960531,39,-63.5085,59.4518,4335,325,1.9258,34.6741,2,34.6753,2,180.6,2,181.5,2,86.1,2,32.64,2,0,2,2.26,2,-999,9,-999,9,-999,9,-999,9,-999,9
      320696_3,    S04I,47,1,24,24,2,19960531,39,-63.5085,59.4518,4335,369.5,1.9187,34.6871,2,34.6877,2,181.9,2,182.3,2,86.4,2,32.33,2,0,2,2.24,2,-999,9,-999,9,-999,9,-999,9,-999,9
      320696_3,    S04I,47,1,23,23,2,19960531,39,-63.5085,59.4518,4335,431.4,1.9106,34.7029,2,34.7032,2,185.3,2,183.4,2,86.6,2,31.87,2,0,2,2.21,2,-999,9,-999,9,-999,9,-999,9,-999,9
      320696_3,    S04I,47,1,22,22,2,19960531,39,-63.5085,59.4518,4335,524.7,1.8681,34.7197,2,34.7198,2,188.5,2,189,2,87.3,2,31.31,2,0,2,2.17,2,-999,9,-999,9,-999,9,-999,9,-999,9
      320696_3,    S04I,47,1,21,21,2,19960531,39,-63.5085,59.4518,4335,613.7,1.7966,34.7296,2,34.7298,2,192,2,191.2,2,89,2,31,2,0,2,2.14,2,-999,9,-999,9,-999,9,-999,9,-999,9
      320696_3,    S04I,47,1,20,20,2,19960531,39,-63.5085,59.4518,4335,706.9,1.7443,34.7383,2,34.7385,2,195.4,2,196,2,89.9,2,30.64,2,0,2,2.12,2,-999,9,-999,9,-999,9,-999,9,-999,9
      320696_3,    S04I,47,1,19,19,2,19960531,39,-63.5085,59.4518,4335,796.8,1.6677,34.7418,2,34.743,2,197.3,2,197.4,2,91.4,2,30.44,2,0,2,2.1,2,-999,9,-999,9,-999,9,-999,9,-999,9
      320696_3,    S04I,47,1,18,18,2,19960531,39,-63.5085,59.4518,4335,934.4,1.5263,34.7432,2,34.7438,2,199.6,2,201,2,95,2,30.34,2,0,2,2.1,2,-999,9,-999,9,-999,9,-999,9,-999,9
      320696_3,    S04I,47,1,17,17,2,19960531,39,-63.5085,59.4518,4335,1070.8,1.3531,34.737,2,34.7377,2,202.5,2,202.3,2,99.8,2,30.54,2,0,2,2.11,2,-999,9,-999,9,-999,9,-999,9,-999,9
      320696_3,    S04I,47,1,16,16,2,19960531,39,-63.5085,59.4518,4335,1204.2,1.259,34.7336,2,34.7352,2,204.4,2,204.4,2,102.6,2,30.64,2,0,2,2.12,2,-999,9,-999,9,-999,9,-999,9,-999,9
      320696_3,    S04I,47,1,15,15,2,19960531,39,-63.5085,59.4518,4335,1386.1,1.0711,34.7243,2,34.7252,2,206.1,2,205.4,2,107.6,2,31,2,0,2,2.16,2,-999,9,-999,9,-999,9,-999,9,-999,9
      320696_3,    S04I,47,1,14,14,2,19960531,39,-63.5085,59.4518,4335,1567,0.9143,34.7147,2,34.7173,2,207.3,2,207.3,2,112.6,2,31.3,2,0,2,2.18,2,-999,9,-999,9,-999,9,-999,9,-999,9
      320696_3,    S04I,47,1,13,13,2,19960531,39,-63.5085,59.4518,4335,1753.2,0.76,34.7056,2,34.7087,2,208.8,2,207.8,2,116,2,31.66,2,0,2,2.2,2,-999,9,-999,9,-999,9,-999,9,-999,9
      320696_3,    S04I,47,1,12,12,2,19960531,39,-63.5085,59.4518,4335,1938.6,0.6245,34.6975,2,34.6993,2,208.9,2,209.2,2,120.7,2,32.01,2,0,2,2.23,2,-999,9,-999,9,-999,9,-999,9,-999,9
      320696_3,    S04I,47,1,11,11,2,19960531,39,-63.5085,59.4518,4335,2162.4,0.4937,34.6899,2,34.6911,2,211.2,2,211.4,2,124.6,2,32.32,2,0,2,2.25,2,-999,9,-999,9,-999,9,-999,9,-999,9
      320696_3,    S04I,47,1,10,10,2,19960531,39,-63.5085,59.4518,4335,2391.4,0.3622,34.6828,2,34.6842,2,213.6,2,214.4,2,127.5,2,32.52,2,0,2,2.27,2,-999,9,-999,9,-999,9,-999,9,-999,9
      320696_3,    S04I,47,1,9,9,2,19960531,39,-63.5085,59.4518,4335,2630.8,0.2545,34.6772,2,34.6785,2,216.4,2,216.4,2,129.2,2,32.57,2,0,2,2.27,2,-999,9,-999,9,-999,9,-999,9,-999,9
      320696_3,    S04I,47,1,37,37,2,19960531,39,-63.5085,59.4518,4335,2876.3,0.1534,34.6728,2,34.674,2,220.3,2,221.1,2,131.2,2,32.62,2,0,2,2.27,2,-999,9,-999,9,-999,9,-999,9,-999,9
      320696_3,    S04I,47,1,7,7,2,19960531,39,-63.5085,59.4518,4335,3122.1,0.0622,34.6696,2,34.6701,2,224.6,2,224.5,2,132.4,2,32.57,2,0,2,2.27,2,-999,9,-999,9,-999,9,-999,9,-999,9
      320696_3,    S04I,47,1,6,6,2,19960531,39,-63.5085,59.4518,4335,3369.6,-0.015,34.6661,2,34.667,2,228.6,2,229.2,2,132.1,2,32.47,2,0,2,2.27,2,-999,9,-999,9,-999,9,-999,9,-999,9
      320696_3,    S04I,47,1,5,5,2,19960531,39,-63.5085,59.4518,4335,3636.1,-0.0929,34.664,2,34.664,2,233.1,2,232.4,2,132.7,2,32.36,2,0,2,2.26,2,-999,9,-999,9,-999,9,-999,9,-999,9
      320696_3,    S04I,47,1,4,4,2,19960531,39,-63.5085,59.4518,4335,3860.7,-0.1596,34.6603,2,34.6609,2,237.5,2,238.1,2,131.7,2,32.16,2,0,2,2.24,2,-999,9,-999,9,-999,9,-999,9,-999,9
      320696_3,    S04I,47,1,3,3,2,19960531,39,-63.5085,59.4518,4335,4080.5,-0.2157,34.6579,2,34.658,2,242.1,2,241.9,2,128.5,2,32.06,2,0,2,2.23,2,-999,9,-999,9,-999,9,-999,9,-999,9
      320696_3,    S04I,47,1,2,2,2,19960531,39,-63.5085,59.4518,4335,4240.2,-0.2515,34.6559,2,34.6556,2,244.1,2,243,2,128.9,2,32.01,2,0,2,2.23,2,-999,9,-999,9,-999,9,-999,9,-999,9
      320696_3,    S04I,47,1,1,1,2,19960531,39,-63.5085,59.4518,4335,4359.4,-0.3293,34.65,2,34.6507,2,250.1,2,250.3,2,126.5,2,31.9,2,0,2,2.2,2,-999,9,-999,9,-999,9,-999,9,-999,9