BOTTLE,20211011SIOJHS,,,,,,,,,,,,,,,,,,,,,,,,,,,,,,,,,,,,,,
EXPOCODE,SECT_ID,STNNBR,CASTNO,SAMPNO,BTLNBR,BTLNBR_FLAG_W,DATE,TIME,LATITUDE,LONGITUDE,DEPTH,CTDPRS,CTDTMP,CTDSAL,CTDSAL_FLAG_W,SALNTY,SALNTY_FLAG_W,CTDOXY,CTDOXY_FLAG_W,OXYGEN,OXYGEN_FLAG_W,SILCAT,SILCAT_FLAG_W,NITRAT,NITRAT_FLAG_W,NITRIT,NITRIT_FLAG_W,PHSPHT,PHSPHT_FLAG_W,CFC-11,CFC-11_FLAG_W,CFC-12,CFC-12_FLAG_W,SF6,SF6_FLAG_W,TCARBN,TCARBN_FLAG_W,ALKALI,ALKALI_FLAG_W
,,,,,,,,,,,,DB,ITS-90,PSS-78,,PSS-78,,UMOL/KG,,UMOL/KG,,UMOL/KG,,UMOL/KG,,UMOL/KG,,UMOL/KG,,PMOL/KG,,PMOL/KG,,FMOL/KG,,UMOL/KG,,UMOL/KG,
      320696_3,    S04I,18,1,27,27,2,19960521,1040,-65.5505,32.7243,2770,14.8,-1.8634,34.176,2,34.1787,2,-999,4,333.8,2,58.6,2,28.3,2,0.18,2,1.98,2,6.285,2,3.025,2,-999,9,2198.7,2,-999,9
      320696_3,    S04I,18,1,26,26,2,19960521,1040,-65.5505,32.7243,2770,30.2,-1.8628,34.1761,2,34.1793,2,-999,4,334.8,2,58.4,2,28.04,2,0.44,2,1.98,2,6.253,2,3.009,2,-999,9,2198.9,2,-999,9
      320696_3,    S04I,18,1,25,25,2,19960521,1040,-65.5505,32.7243,2770,45.1,-1.8614,34.1766,2,34.1777,2,-999,4,334.7,2,58.6,2,28.26,2,0.18,2,1.98,2,6.264,2,3.006,2,-999,9,-999,9,-999,9
      320696_3,    S04I,18,1,24,24,2,19960521,1040,-65.5505,32.7243,2770,85.4,-1.8512,34.1796,2,34.1798,2,-999,4,333.4,2,58.4,2,28.36,2,0.17,2,1.99,2,5.669,2,2.828,2,-999,9,-999,9,-999,9
      320696_3,    S04I,18,1,23,23,2,19960521,1040,-65.5505,32.7243,2770,115.7,-1.5689,34.3034,2,34.2938,2,-999,4,299.6,2,66.1,2,30.46,2,0.04,2,2.09,2,5.161,2,2.411,2,-999,9,-999,9,-999,9
      320696_3,    S04I,18,1,22,22,2,19960521,1040,-65.5505,32.7243,2770,156.2,-0.9881,34.3949,2,34.385,2,-999,4,278.8,2,71.2,2,30.99,2,0,2,2.13,2,3.793,2,2.841,2,-999,9,-999,9,-999,9
      320696_3,    S04I,18,1,21,21,2,19960521,1040,-65.5505,32.7243,2770,206.5,0.0465,34.5267,2,34.523,2,-999,3,238.3,2,81.1,2,31.68,2,0,2,2.17,2,2.733,2,1.246,2,-999,9,-999,9,-999,9
      320696_3,    S04I,18,1,20,20,2,19960521,1040,-65.5505,32.7243,2770,246.8,0.5478,34.5861,2,34.5831,2,217.3,2,221.4,2,85.8,2,31.88,2,0,2,2.19,2,1.928,2,0.896,2,-999,9,-999,9,-999,9
      320696_3,    S04I,18,1,19,19,2,19960521,1040,-65.5505,32.7243,2770,307.1,1.0962,34.6609,2,34.6601,2,204.3,2,202.2,2,90.2,2,31.83,2,0,2,2.19,2,0.963,2,0.504,2,-999,9,-999,9,-999,9
      320696_3,    S04I,18,1,18,18,2,19960521,1040,-65.5505,32.7243,2770,347.6,1.1419,34.6817,2,34.6797,2,201,2,202.9,2,92.8,2,31.58,2,0,2,2.17,2,0.761,2,0.394,2,-999,9,-999,9,-999,9
      320696_3,    S04I,18,1,17,17,2,19960521,1040,-65.5505,32.7243,2770,408.3,1.1409,34.6953,2,34.695,2,202.4,2,204.1,2,95.5,2,31.33,2,0,2,2.15,2,0.586,2,0.313,2,-999,9,-999,9,-999,9
      320696_3,    S04I,18,1,16,16,2,19960521,1040,-65.5505,32.7243,2770,458.4,1.106,34.6969,2,34.696,2,204.6,2,203.6,2,96.4,2,31.24,2,0,2,2.15,2,0.575,2,0.312,2,-999,9,-999,9,-999,9
      320696_3,    S04I,18,1,15,15,2,19960521,1040,-65.5505,32.7243,2770,509.2,1.0102,34.6909,2,34.6903,2,205,2,207,2,96.6,2,31.24,2,0,2,2.15,2,0.674,2,0.343,2,-999,9,-999,9,-999,9
      320696_3,    S04I,18,1,14,14,2,19960521,1040,-65.5505,32.7243,2770,609.4,0.7244,34.6788,2,34.6779,2,212.4,2,214.1,2,100.1,2,31.34,2,0,2,2.15,2,0.813,2,0.403,2,-999,9,-999,9,-999,9
      320696_3,    S04I,18,1,13,13,2,19960521,1040,-65.5505,32.7243,2770,710.6,0.6723,34.6816,2,34.6804,2,213.8,2,214.8,2,103.2,2,31.39,2,0,2,2.16,2,0.733,2,0.384,2,-999,9,-999,9,-999,9
      320696_3,    S04I,18,1,12,12,2,19960521,1040,-65.5505,32.7243,2770,811,0.6546,34.6882,2,34.6861,2,214.7,2,212.7,2,106.7,2,31.49,2,0,2,2.17,2,0.583,2,0.313,2,-999,9,-999,9,-999,9
      320696_3,    S04I,18,1,11,11,2,19960521,1040,-65.5505,32.7243,2770,962.4,0.584,34.6855,2,34.6847,2,214,2,213.7,2,108.9,2,31.54,2,0,2,2.17,2,0.558,2,0.304,2,-999,9,-999,9,-999,9
      320696_3,    S04I,18,1,10,10,2,19960521,1040,-65.5505,32.7243,2770,1164.5,0.4254,34.6791,2,34.6788,2,216.1,2,216.4,2,113.2,2,31.83,2,0,2,2.19,2,0.549,2,0.293,2,-999,9,-999,9,-999,9
      320696_3,    S04I,18,1,9,9,2,19960521,1040,-65.5505,32.7243,2770,1316.1,0.234,34.6731,2,34.6727,2,218.9,2,219,2,118.7,2,32.13,2,0,2,2.21,2,0.49,2,0.266,2,-999,9,-999,9,-999,9
      320696_3,    S04I,18,1,37,37,2,19960521,1040,-65.5505,32.7243,2770,1466.7,0.2188,34.6721,2,34.6723,2,218.6,2,219.1,2,119.5,2,32.13,2,0,2,2.22,2,0.459,2,0.26,2,-999,9,-999,9,-999,9
      320696_3,    S04I,18,1,7,7,2,19960521,1040,-65.5505,32.7243,2770,1666.5,0.1897,34.6714,2,34.6711,2,219.5,2,220.4,2,120.8,2,32.18,2,0,2,2.22,2,0.442,2,0.238,2,-999,9,-999,9,-999,9
      320696_3,    S04I,18,1,6,6,2,19960521,1040,-65.5505,32.7243,2770,1866.1,0.1397,34.6702,2,34.6699,2,221.2,2,220.9,2,123,2,32.23,2,0,2,2.23,2,0.396,2,0.211,2,-999,9,-999,9,-999,9
      320696_3,    S04I,18,1,5,5,2,19960521,1040,-65.5505,32.7243,2770,2066,0.0044,34.6659,2,34.6662,2,227.1,2,226.2,2,123.5,2,32.18,2,0,2,2.23,2,0.497,2,0.201,2,-999,9,-999,9,-999,9
      320696_3,    S04I,18,1,4,4,2,19960521,1040,-65.5505,32.7243,2770,2267.9,-0.0957,34.6624,2,34.6616,2,231.3,2,232.8,2,122.8,2,31.99,2,0,2,2.21,2,0.656,2,0.337,2,-999,9,-999,9,-999,9
      320696_3,    S04I,18,1,3,3,2,19960521,1040,-65.5505,32.7243,2770,2469.6,-0.1316,34.6601,2,34.661,2,234.4,2,233.9,2,122,2,31.99,2,0,2,2.21,2,-999,9,-999,9,-999,9,-999,9,-999,9
      320696_3,    S04I,18,1,2,2,2,19960521,1040,-65.5505,32.7243,2770,2675.3,-0.1763,34.6591,2,-999,3,236.8,2,236.3,2,123.1,2,31.93,2,0,2,2.21,2,0.841,2,0.422,2,-999,9,-999,9,-999,9
      320696_3,    S04I,18,1,1,1,2,19960521,1040,-65.5505,32.7243,2770,2785.2,-0.1638,34.6596,2,-999,3,237.6,2,237.7,2,121.2,2,31.99,2,0,2,2.21,2,0.829,2,0.428,2,-999,9,-999,9,-999,9
      320696_3,    S04I,19,1,21,21,2,19960521,1635,-65.6995,33.4902,1834,11.5,-1.8589,34.1869,2,34.1875,2,-999,4,333.2,2,61.8,2,28.63,2,0.16,2,2.01,2,6.12,2,2.995,2,-999,9,2199.9,2,2317,6
      320696_3,    S04I,19,1,20,20,2,19960521,1635,-65.6995,33.4902,1834,31.9,-1.8582,34.1869,2,34.1881,2,-999,4,332.5,2,61.6,2,28.62,2,0.16,2,2.01,2,6.113,2,3.054,2,-999,9,2199.5,2,-999,9
      320696_3,    S04I,19,1,19,19,2,19960521,1635,-65.6995,33.4902,1834,62.1,-1.8559,34.1882,2,34.1893,2,-999,4,332.6,2,61.3,2,28.67,2,0.16,2,2.01,2,-999,9,-999,9,-999,9,-999,9,-999,9
      320696_3,    S04I,19,1,18,18,2,19960521,1635,-65.6995,33.4902,1834,82.3,-1.8444,34.1912,2,34.1932,2,-999,4,330.8,2,61.5,2,28.77,2,0.16,2,2.01,2,5.884,2,2.938,2,-999,9,-999,9,-999,9
      320696_3,    S04I,19,1,17,17,2,19960521,1635,-65.6995,33.4902,1834,102.3,-1.5389,34.276,2,34.2745,2,304.8,2,304.6,2,67.4,2,30.24,2,0.06,2,2.08,2,-999,9,-999,9,-999,9,-999,9,-999,9
      320696_3,    S04I,19,1,16,16,2,19960521,1635,-65.6995,33.4902,1834,127.5,-1.2915,34.3458,2,34.3449,2,289.3,2,289.5,2,71.1,2,30.79,2,0.01,2,2.11,2,4.24,2,2.193,2,-999,9,-999,9,-999,9
      320696_3,    S04I,19,1,15,15,2,19960521,1635,-65.6995,33.4902,1834,152.6,-0.8928,34.409,2,34.4083,2,274.1,2,273.9,2,74.9,2,31.13,2,0.01,2,2.14,2,-999,9,-999,9,-999,9,-999,9,-999,9
      320696_3,    S04I,19,1,14,14,2,19960521,1635,-65.6995,33.4902,1834,227.4,0.3979,34.5757,2,34.5754,2,229.4,2,226.3,2,86.8,2,31.72,2,0.01,2,2.18,2,2.063,2,0.013,2,-999,9,-999,9,-999,9
      320696_3,    S04I,19,1,13,13,2,19960521,1635,-65.6995,33.4902,1834,277.7,0.8589,34.6417,2,34.642,2,216.4,2,210.9,2,92,2,31.76,2,0.01,2,2.18,2,-999,9,-999,9,-999,9,-999,9,-999,9
      320696_3,    S04I,19,1,12,12,2,19960521,1635,-65.6995,33.4902,1834,302.3,0.8705,34.6518,2,34.6525,2,211.2,2,210.2,2,93.2,2,31.57,2,0,2,2.17,2,1.14,2,0.571,2,-999,9,-999,9,-999,9
      320696_3,    S04I,19,1,11,11,2,19960521,1635,-65.6995,33.4902,1834,341.8,0.8152,34.655,2,34.6547,2,209.2,2,212.2,2,94.3,2,31.51,2,0,2,2.16,2,1.114,2,0.562,2,-999,9,-999,9,-999,9
      320696_3,    S04I,19,1,10,10,2,19960521,1635,-65.6995,33.4902,1834,401,0.8244,34.671,2,34.6704,2,212,2,211.8,2,97.6,2,31.41,2,0,2,2.16,2,-999,9,-999,9,-999,9,-999,9,-999,9
      320696_3,    S04I,19,1,9,9,2,19960521,1635,-65.6995,33.4902,1834,501,0.8021,34.6811,2,34.6806,2,211,2,211.7,2,101.1,2,31.36,2,0,2,2.16,2,-999,9,-999,9,-999,9,-999,9,-999,9
      320696_3,    S04I,19,1,37,37,2,19960521,1635,-65.6995,33.4902,1834,650.3,0.7225,34.6878,2,34.6867,2,211.3,2,211.7,2,106.1,2,31.41,2,0,2,2.16,2,-999,9,-999,9,-999,9,-999,9,-999,9
      320696_3,    S04I,19,1,7,7,2,19960521,1635,-65.6995,33.4902,1834,811.4,0.5771,34.6848,2,34.6849,2,213.8,2,214.2,2,111,2,31.6,2,0,2,2.18,2,-999,9,-999,9,-999,9,2258.2,2,2358,6
      320696_3,    S04I,19,1,6,6,2,19960521,1635,-65.6995,33.4902,1834,1013,0.3936,34.679,2,34.679,2,216.4,2,216,2,116.6,2,31.95,2,0,2,2.2,2,0.505,2,0.27,2,-999,9,-999,9,-999,9
      320696_3,    S04I,19,1,5,5,2,19960521,1635,-65.6995,33.4902,1834,1215.7,0.2316,34.6728,2,34.6729,2,219.7,2,219.1,2,121.4,2,32.14,2,0,2,2.22,2,0.449,2,0.26,2,-999,9,-999,9,-999,9
      320696_3,    S04I,19,1,4,4,2,19960521,1635,-65.6995,33.4902,1834,1367.6,0.1038,34.6692,2,34.6693,2,221.6,2,221.3,2,124.4,2,32.24,2,0,2,2.23,2,0.445,2,0.244,2,-999,9,-999,9,-999,9
      320696_3,    S04I,19,1,3,3,2,19960521,1635,-65.6995,33.4902,1834,1518.8,0.038,34.6666,2,34.6667,2,224.1,2,224.2,2,124.9,2,32.29,2,0,2,2.22,2,0.486,2,0.259,2,-999,9,-999,9,-999,9
      320696_3,    S04I,19,1,2,2,2,19960521,1635,-65.6995,33.4902,1834,1659.2,0.0165,34.6656,2,34.6653,2,225.2,2,225.5,2,124.6,2,32.28,2,0,2,2.22,2,0.53,2,0.282,2,-999,9,-999,9,-999,9
      320696_3,    S04I,19,1,1,1,2,19960521,1635,-65.6995,33.4902,1834,1796.1,0.0258,34.6654,2,34.6655,2,225.2,2,225.4,2,124.1,2,32.24,2,0,2,2.22,2,0.541,2,0.283,2,-999,9,-999,9,-999,9
      320696_3,    S04I,20,1,30,30,2,19960521,2231,-65.6972,34.2493,3139,14.2,-1.8667,34.1755,2,34.1754,2,-999,4,335.7,2,58.8,2,28.43,2,0.18,2,2,2,6.25,2,3.054,2,-999,9,2197.2,2,2312,6
      320696_3,    S04I,20,1,29,29,2,19960521,2231,-65.6972,34.2493,3139,33.2,-1.8686,34.1743,2,34.1746,2,-999,4,336,2,58.8,2,28.43,2,0.18,2,2,2,-999,9,-999,9,-999,9,2197,2,2318,2
      320696_3,    S04I,20,1,28,28,2,19960521,2231,-65.6972,34.2493,3139,58.5,-1.8656,34.1742,2,34.1733,2,-999,4,335.5,2,58.8,2,28.38,2,0.17,2,2,2,6.292,2,3.053,2,-999,9,2196.8,2,2320,2
      320696_3,    S04I,20,1,27,27,2,19960521,2231,-65.6972,34.2493,3139,83.5,-1.8632,34.175,2,34.1778,2,-999,4,334,2,59.2,2,28.53,2,0.17,2,2.01,2,-999,9,-999,9,-999,9,2196.6,2,2315,2
      320696_3,    S04I,20,1,26,26,2,19960521,2231,-65.6972,34.2493,3139,113.9,-1.4961,34.3202,2,34.3471,2,-999,4,289.9,2,69.1,2,30.81,2,0.01,2,2.12,2,4.763,2,2.284,2,-999,9,2217.3,2,2327,2
      320696_3,    S04I,20,1,25,25,2,19960521,2231,-65.6972,34.2493,3139,154.1,-0.335,34.4799,2,34.4851,2,-999,4,252.3,2,78.3,2,31.5,2,0.01,2,2.16,2,-999,9,-999,9,-999,9,2232.8,2,2330,2
      320696_3,    S04I,20,1,24,24,2,19960521,2231,-65.6972,34.2493,3139,194,0.1468,34.546,2,34.547,2,-999,4,236.3,2,83.3,2,31.65,2,0.01,2,2.18,2,2.4,2,1.161,2,-999,9,2238,2,2342,2
      320696_3,    S04I,20,1,23,23,2,19960521,2231,-65.6972,34.2493,3139,244.2,0.5927,34.6095,2,34.6083,2,220.3,2,220.2,2,87.9,2,31.75,2,0,2,2.18,2,-999,9,-999,9,-999,9,2243.4,2,2340,2
      320696_3,    S04I,20,1,22,22,2,19960521,2231,-65.6972,34.2493,3139,294.3,0.7739,34.6389,2,34.6374,2,214.1,2,214,2,90.1,2,31.65,2,0,2,2.18,2,1.356,2,0.646,2,-999,9,2248.1,2,2350,2
      320696_3,    S04I,20,1,21,21,2,19960521,2231,-65.6972,34.2493,3139,344.4,0.8666,34.6588,2,34.6581,2,211.6,2,211,2,92.1,2,31.55,2,0,2,2.17,2,-999,9,-999,9,-999,9,2248.8,2,2348,2
      320696_3,    S04I,20,1,20,20,2,19960521,2231,-65.6972,34.2493,3139,404.6,0.893,34.6726,2,34.6711,2,207.9,2,209.9,2,94.3,2,31.45,2,0,2,2.16,2,0.944,2,0.476,2,-999,9,2249.7,2,2351,2
      320696_3,    S04I,20,1,19,19,2,19960521,2231,-65.6972,34.2493,3139,464.5,0.9518,34.6887,2,34.6886,2,207.7,2,208,2,97.3,2,31.35,2,0,2,2.16,2,0.657,2,0.363,2,-999,9,2251.3,2,2351,2
      320696_3,    S04I,20,1,18,18,2,19960521,2231,-65.6972,34.2493,3139,524.4,0.9184,34.6948,2,34.6941,2,208.3,2,209.1,2,99.3,2,31.3,2,0,2,2.16,2,-999,9,-999,9,-999,9,2252.1,2,2358,2
      320696_3,    S04I,20,1,17,17,2,19960521,2231,-65.6972,34.2493,3139,604.5,0.8194,34.6913,2,34.691,2,209.8,2,211.1,2,101.1,2,31.35,2,0,2,2.16,2,0.637,2,0.331,2,-999,9,2252.6,2,2353,2
      320696_3,    S04I,20,1,16,16,2,19960521,2231,-65.6972,34.2493,3139,704.7,0.7341,34.6935,2,34.692,2,209.9,2,211.3,2,105.4,2,31.5,2,0,2,2.17,2,0.543,2,0.298,2,-999,9,2254.5,2,2355,2
      320696_3,    S04I,20,1,15,15,2,19960521,2231,-65.6972,34.2493,3139,804.8,0.6441,34.6903,2,34.6891,2,213.1,2,212.7,2,107.6,2,31.6,2,0,2,2.18,2,0.539,2,0.285,2,-999,9,2255.3,2,2359,2
      320696_3,    S04I,20,1,14,14,2,19960521,2231,-65.6972,34.2493,3139,905.1,0.5145,34.6864,2,34.6852,2,215.1,2,213.7,2,112.1,2,31.8,2,0,2,2.19,2,-999,9,-999,9,-999,9,2255.5,2,2356,2
      320696_3,    S04I,20,1,13,13,2,19960521,2231,-65.6972,34.2493,3139,1005.5,0.4122,34.6817,2,34.6803,2,215.4,2,215.7,2,114.1,2,31.9,2,0,2,2.2,2,-999,9,-999,9,-999,9,2258.4,2,2361,2
      320696_3,    S04I,20,1,12,12,2,19960521,2231,-65.6972,34.2493,3139,1156.5,0.3194,34.6775,2,34.677,2,217.4,2,217.9,2,116.7,2,32.09,2,0,2,2.22,2,0.48,2,0.261,2,-999,9,2257.8,2,2358,2
      320696_3,    S04I,20,1,11,11,2,19960521,2231,-65.6972,34.2493,3139,1306.7,0.2099,34.6739,2,34.6741,2,219,2,219.1,2,119.7,2,32.24,2,0,2,2.23,2,-999,9,-999,9,-999,9,2258.6,2,2358,2
      320696_3,    S04I,20,1,10,10,2,19960521,2231,-65.6972,34.2493,3139,1558.5,0.0916,34.6704,2,34.6696,2,221.8,2,221.9,2,122.7,2,32.35,2,0,2,2.24,2,-999,9,-999,9,-999,9,2258.3,2,2357,2
      320696_3,    S04I,20,1,9,9,2,19960521,2231,-65.6972,34.2493,3139,1810.8,-0.014,34.6661,2,34.6651,2,226.8,2,227.2,2,123.2,2,32.25,2,0,2,2.23,2,-999,9,-999,9,-999,9,2256.6,2,2357,2
      320696_3,    S04I,20,1,37,37,2,19960521,2231,-65.6972,34.2493,3139,2012.6,-0.0979,34.6635,2,34.6631,2,230.4,2,230.3,2,123,2,32.2,2,0,2,2.23,2,0.605,2,0.321,2,-999,9,2255.4,2,2357,2
      320696_3,    S04I,20,1,7,7,2,19960521,2231,-65.6972,34.2493,3139,2215.1,-0.1269,34.6622,2,34.662,2,233.1,2,232.6,2,122.2,2,32.15,2,0,2,2.22,2,-999,9,-999,9,-999,9,2255.7,2,-999,9
      320696_3,    S04I,20,1,6,6,2,19960521,2231,-65.6972,34.2493,3139,2417.5,-0.1524,34.661,2,34.6602,2,233.6,2,234.5,2,121.8,2,32.1,2,0,2,2.22,2,0.767,2,0.395,2,-999,9,2257,2,2355,2
      320696_3,    S04I,20,1,5,5,2,19960521,2231,-65.6972,34.2493,3139,2620,-0.158,34.6601,2,34.6595,2,235.2,2,236,2,121.4,2,32.05,2,0,2,2.22,2,0.779,2,0.415,2,-999,9,2252.4,2,2356,2
      320696_3,    S04I,20,1,4,4,2,19960521,2231,-65.6972,34.2493,3139,2822.7,-0.1778,34.6591,2,34.6585,2,237.2,2,237.1,2,121,2,32,2,0,2,2.22,2,0.899,2,0.457,2,-999,9,2253.2,2,-999,9
      320696_3,    S04I,20,1,3,3,2,19960521,2231,-65.6972,34.2493,3139,3026.8,-0.1845,34.6589,2,34.6581,2,238.1,2,238,2,121,2,31.95,2,0,2,2.21,2,0.969,2,0.484,2,-999,9,2253.7,2,2359,2
      320696_3,    S04I,20,1,2,2,2,19960521,2231,-65.6972,34.2493,3139,3128.9,-0.2058,34.6578,2,34.6574,2,239.6,2,239.1,2,121.1,2,31.95,2,0,2,2.21,2,0.996,2,0.493,2,-999,9,2252.7,2,2359,2
      320696_3,    S04I,20,1,1,1,2,19960521,2231,-65.6972,34.2493,3139,3190.4,-0.2124,34.6576,2,34.6574,2,240.5,2,240.7,2,121.1,2,31.95,2,0,2,2.21,2,1.007,2,0.508,2,-999,9,2252.4,2,2360,2