BOTTLE,20211011SIOJHS,,,,,,,,,,,,,,,,,,,,,,,,,,,,,,,,,,,,,,
EXPOCODE,SECT_ID,STNNBR,CASTNO,SAMPNO,BTLNBR,BTLNBR_FLAG_W,DATE,TIME,LATITUDE,LONGITUDE,DEPTH,CTDPRS,CTDTMP,CTDSAL,CTDSAL_FLAG_W,SALNTY,SALNTY_FLAG_W,CTDOXY,CTDOXY_FLAG_W,OXYGEN,OXYGEN_FLAG_W,SILCAT,SILCAT_FLAG_W,NITRAT,NITRAT_FLAG_W,NITRIT,NITRIT_FLAG_W,PHSPHT,PHSPHT_FLAG_W,CFC-11,CFC-11_FLAG_W,CFC-12,CFC-12_FLAG_W,SF6,SF6_FLAG_W,TCARBN,TCARBN_FLAG_W,ALKALI,ALKALI_FLAG_W
,,,,,,,,,,,,DB,ITS-90,PSS-78,,PSS-78,,UMOL/KG,,UMOL/KG,,UMOL/KG,,UMOL/KG,,UMOL/KG,,UMOL/KG,,PMOL/KG,,PMOL/KG,,FMOL/KG,,UMOL/KG,,UMOL/KG,
      320696_3,    S04I,15,1,36,36,2,19960520,1739,-64.7888,31.3562,4930,14.1,-1.807,34.0826,2,34.0866,2,-999,4,340.9,2,58,2,27.9,2,0.21,2,1.92,2,-999,9,-999,9,-999,9,2189.8,2,2307,6
      320696_3,    S04I,15,1,35,35,2,19960520,1739,-64.7888,31.3562,4930,29,-1.8132,34.0925,2,34.0921,2,-999,4,340.6,2,57.8,2,27.91,2,0.21,2,1.92,2,-999,9,-999,9,-999,9,2189.9,2,-999,9
      320696_3,    S04I,15,1,34,34,2,19960520,1739,-64.7888,31.3562,4930,43.9,-1.8373,34.111,2,34.1193,2,-999,4,338.1,2,59.1,2,28.21,2,0.2,2,1.94,2,-999,9,-999,9,-999,9,-999,9,-999,9
      320696_3,    S04I,15,1,33,33,2,19960520,1739,-64.7888,31.3562,4930,79.5,0.7219,34.5295,2,34.5294,2,-999,4,212,2,84.3,2,33.03,2,0.02,2,2.27,2,-999,9,-999,9,-999,9,-999,9,-999,9
      320696_3,    S04I,15,1,32,32,2,19960520,1739,-64.7888,31.3562,4930,105.1,0.647,34.5486,2,34.5553,2,-999,3,212,2,85,2,32.73,2,0.01,2,2.25,2,-999,9,-999,9,-999,9,-999,9,-999,9
      320696_3,    S04I,15,1,31,31,2,19960520,1739,-64.7888,31.3562,4930,131.2,0.8281,34.5902,2,34.5798,2,198.6,2,208.9,2,85.1,2,32.68,2,0.01,2,2.28,2,-999,9,-999,9,-999,9,-999,9,-999,9
      320696_3,    S04I,15,1,30,30,2,19960520,1739,-64.7888,31.3562,4930,156.3,0.9024,34.6022,2,34.6024,2,195.7,2,203.9,2,86.9,2,32.69,2,0.01,2,2.22,2,-999,9,-999,9,-999,9,-999,9,-999,9
      320696_3,    S04I,15,1,29,29,2,19960520,1739,-64.7888,31.3562,4930,206.4,1.3732,34.6675,2,34.6688,2,192.1,2,193.5,2,92.2,2,32.49,2,0,2,2.22,2,-999,9,-999,9,-999,9,-999,9,-999,9
      320696_3,    S04I,15,1,28,28,2,19960520,1739,-64.7888,31.3562,4930,245.8,1.4302,34.6861,2,34.6857,2,191.8,2,190.2,2,93.2,2,32.09,2,0,2,2.19,2,-999,9,-999,9,-999,9,-999,9,-999,9
      320696_3,    S04I,15,1,27,27,2,19960520,1739,-64.7888,31.3562,4930,305.9,1.4456,34.7029,2,34.7038,2,192.4,2,192.1,2,94.5,2,31.8,2,0,2,2.17,2,-999,9,-999,9,-999,9,-999,9,-999,9
      320696_3,    S04I,15,1,26,26,2,19960520,1739,-64.7888,31.3562,4930,356.8,1.4341,34.7119,2,34.7121,2,193,2,193.6,2,95.5,2,31.5,2,0,2,2.15,2,-999,9,-999,9,-999,9,-999,9,-999,9
      320696_3,    S04I,15,1,25,25,2,19960520,1739,-64.7888,31.3562,4930,407.5,1.3718,34.7172,2,34.7178,2,194.6,2,196.9,2,96,2,31.15,2,0,2,2.13,2,-999,9,-999,9,-999,9,-999,9,-999,9
      320696_3,    S04I,15,1,24,24,2,19960520,1739,-64.7888,31.3562,4930,548.4,1.242,34.7206,2,34.7205,2,197.9,2,199.1,2,100.5,2,31.25,2,0,2,2.13,2,-999,9,-999,9,-999,9,-999,9,-999,9
      320696_3,    S04I,15,1,23,23,2,19960520,1739,-64.7888,31.3562,4930,749.3,1.0184,34.7145,2,34.7152,2,202.6,2,202.9,2,106.2,2,31.4,2,0,2,2.15,2,-999,9,-999,9,-999,9,-999,9,-999,9
      320696_3,    S04I,15,1,22,22,2,19960520,1739,-64.7888,31.3562,4930,952.1,0.8181,34.7056,2,34.7056,2,207.8,2,206.9,2,110.6,2,31.6,2,0,2,2.16,2,-999,9,-999,9,-999,9,2258.4,2,2356,6
      320696_3,    S04I,15,1,21,21,2,19960520,1739,-64.7888,31.3562,4930,1151.1,0.6212,34.6941,2,34.694,2,210.8,2,209.8,2,114.2,2,31.84,2,0,2,2.18,2,-999,9,-999,9,-999,9,-999,9,-999,9
      320696_3,    S04I,15,1,20,20,2,19960520,1739,-64.7888,31.3562,4930,1330.8,0.498,34.6887,2,34.6899,2,213.2,2,209.2,2,119.7,2,32.29,2,0,2,2.21,2,-999,9,-999,9,-999,9,-999,9,-999,9
      320696_3,    S04I,15,1,19,19,2,19960520,1739,-64.7888,31.3562,4930,1371.7,0.4733,34.6876,2,34.6887,2,213.6,2,209.6,2,120,2,32.34,2,0,2,2.21,2,-999,9,-999,9,-999,9,-999,9,-999,9
      320696_3,    S04I,15,1,18,18,2,19960520,1739,-64.7888,31.3562,4930,1527.4,0.3469,34.6792,2,34.6796,2,212.6,2,215.8,2,119.4,2,32.24,2,0,2,2.22,2,-999,9,-999,9,-999,9,-999,9,-999,9
      320696_3,    S04I,15,1,17,17,2,19960520,1739,-64.7888,31.3562,4930,1740.9,0.2661,34.678,2,34.6787,2,213.1,2,214.5,2,124.6,2,32.48,2,0,2,2.24,2,-999,9,-999,9,-999,9,-999,9,-999,9
      320696_3,    S04I,15,1,16,16,2,19960520,1739,-64.7888,31.3562,4930,1951.1,0.1751,34.6736,2,34.673,2,216.8,2,217.8,2,125.2,2,32.48,2,0,2,2.22,2,-999,9,-999,9,-999,9,-999,9,-999,9
      320696_3,    S04I,15,1,15,15,2,19960520,1739,-64.7888,31.3562,4930,2163.5,0.099,34.6709,2,34.6704,2,220.8,2,220.6,2,125.9,2,32.53,2,0,2,2.23,2,-999,9,-999,9,-999,9,-999,9,-999,9
      320696_3,    S04I,15,1,14,14,2,19960520,1739,-64.7888,31.3562,4930,2372.2,0.0129,34.6656,2,34.6651,2,227.7,2,225.9,2,124.4,2,32.28,2,0,2,2.23,2,-999,9,-999,9,-999,9,-999,9,-999,9
      320696_3,    S04I,15,1,13,13,2,19960520,1739,-64.7888,31.3562,4930,2575.1,-0.0421,34.6644,2,34.6647,2,229.7,2,228.2,2,126.6,2,32.38,2,0,2,2.23,2,-999,9,-999,9,-999,9,-999,9,-999,9
      320696_3,    S04I,15,1,12,12,2,19960520,1739,-64.7888,31.3562,4930,2771.7,-0.0893,34.6629,2,34.6631,2,229.8,2,230.4,2,126.7,2,32.28,2,0,2,2.23,2,-999,9,-999,9,-999,9,-999,9,-999,9
      320696_3,    S04I,15,1,11,11,2,19960520,1739,-64.7888,31.3562,4930,2972.4,-0.1336,34.6609,2,34.6612,2,232.7,2,232.6,2,126.6,2,32.28,2,0,2,2.23,2,-999,9,-999,9,-999,9,-999,9,-999,9
      320696_3,    S04I,15,1,10,10,2,19960520,1739,-64.7888,31.3562,4930,3175,-0.1718,34.6585,2,34.6584,2,236.6,2,236.4,2,123.8,2,32.03,2,0,2,2.21,2,-999,9,-999,9,-999,9,-999,9,-999,9
      320696_3,    S04I,15,1,9,9,2,19960520,1739,-64.7888,31.3562,4930,3385.7,-0.203,34.6568,2,34.6568,2,238.7,2,240.5,2,123,2,31.89,2,0,2,2.2,2,-999,9,-999,9,-999,9,-999,9,-999,9
      320696_3,    S04I,15,1,37,37,2,19960520,1739,-64.7888,31.3562,4930,3592.2,-0.221,34.656,2,34.6559,2,238.9,2,240.5,2,123.1,2,31.78,2,0,2,2.2,2,-999,9,-999,9,-999,9,-999,9,-999,9
      320696_3,    S04I,15,1,7,7,2,19960520,1739,-64.7888,31.3562,4930,3803.6,-0.241,34.654,2,34.6553,2,241.3,2,241.9,2,124,2,31.93,2,0,2,2.2,2,-999,9,-999,9,-999,9,-999,9,-999,9
      320696_3,    S04I,15,1,6,6,2,19960520,1739,-64.7888,31.3562,4930,4009,-0.2572,34.6539,2,34.6543,2,242.5,2,242.6,2,124.1,2,31.93,2,0,2,2.2,2,-999,9,-999,9,-999,9,-999,9,-999,9
      320696_3,    S04I,15,1,5,5,2,19960520,1739,-64.7888,31.3562,4930,4214.3,-0.2737,34.6519,2,34.6525,2,245.2,2,244.6,2,123.9,2,31.88,2,0,2,2.2,2,-999,9,-999,9,-999,9,-999,9,-999,9
      320696_3,    S04I,15,1,4,4,2,19960520,1739,-64.7888,31.3562,4930,4418.8,-0.2841,34.6522,2,34.6515,2,245.3,2,245.2,2,124.8,2,31.88,2,0,2,2.2,2,-999,9,-999,9,-999,9,-999,9,-999,9
      320696_3,    S04I,15,1,3,3,2,19960520,1739,-64.7888,31.3562,4930,4623.4,-0.2977,34.6501,2,34.6506,2,246.6,2,247.5,2,125.4,2,31.88,2,0,2,2.19,2,-999,9,-999,9,-999,9,-999,9,-999,9
      320696_3,    S04I,15,1,2,2,2,19960520,1739,-64.7888,31.3562,4930,4829.7,-0.3022,34.6509,2,34.6513,2,246.3,2,246.2,2,130.6,2,32.03,2,0,2,2.21,2,-999,9,-999,9,-999,9,-999,9,-999,9
      320696_3,    S04I,15,1,1,1,2,19960520,1739,-64.7888,31.3562,4930,4996.5,-0.3207,34.6495,2,34.651,2,246.7,2,246.6,2,134.1,2,32.08,2,0,2,2.23,2,-999,9,-999,9,-999,9,-999,9,-999,9
      320696_3,    S04I,16,1,36,36,2,19960520,2350,-65.2005,32.0648,4633,16.3,-1.8481,34.1434,2,34.144,2,-999,4,336.4,2,57.3,2,27.58,2,0.19,2,1.89,2,6.345,2,3.063,2,-999,9,2189.6,2,2314,6
      320696_3,    S04I,16,1,35,35,2,19960520,2350,-65.2005,32.0648,4633,36,-1.8454,34.1431,2,34.1442,2,-999,4,336.8,2,57.3,2,27.53,2,0.19,2,1.88,2,6.244,2,2.978,2,-999,9,2190.5,2,-999,9
      320696_3,    S04I,16,1,34,34,2,19960520,2350,-65.2005,32.0648,4633,55.7,-1.8544,34.1493,2,34.1707,2,-999,4,329,2,60.3,2,28.28,2,0.17,2,1.94,2,6.026,2,2.881,2,-999,9,-999,9,-999,9
      320696_3,    S04I,16,1,33,33,2,19960520,2350,-65.2005,32.0648,4633,81.2,-0.5024,34.446,2,34.4522,2,-999,4,255.4,2,76.8,2,31.57,2,0.04,2,2.16,2,3.493,2,1.613,2,-999,9,-999,9,-999,9
      320696_3,    S04I,16,1,32,32,2,19960520,2350,-65.2005,32.0648,4633,106.4,0.1333,34.5274,2,34.5366,2,-999,4,229.3,2,83.6,2,32.18,2,0.01,2,2.21,2,2.255,2,1.072,2,-999,9,-999,9,-999,9
      320696_3,    S04I,16,1,31,31,2,19960520,2350,-65.2005,32.0648,4633,137.3,0.893,34.6101,2,34.6111,2,-999,4,205.2,2,89.7,2,32.53,2,0.01,2,2.24,2,1.341,2,0.663,2,-999,9,-999,9,-999,9
      320696_3,    S04I,16,1,30,30,2,19960520,2350,-65.2005,32.0648,4633,167.6,1.0833,34.6387,2,34.6382,2,-999,4,199.1,2,91.5,2,32.53,2,0.01,2,2.23,2,4.352,2,6.872,2,-999,9,-999,9,-999,9
      320696_3,    S04I,16,1,29,29,2,19960520,2350,-65.2005,32.0648,4633,197.5,1.2813,34.6695,2,34.6671,2,195.5,2,195.6,2,93.3,2,32.33,2,0,2,2.22,2,0.708,2,0.371,2,-999,9,-999,9,-999,9
      320696_3,    S04I,16,1,28,28,2,19960520,2350,-65.2005,32.0648,4633,227.7,1.3436,34.6821,2,34.6804,2,193.9,2,194.1,2,93.8,2,32.14,2,0,2,2.21,2,0.585,2,0.314,2,-999,9,-999,9,-999,9
      320696_3,    S04I,16,1,27,27,2,19960520,2350,-65.2005,32.0648,4633,276.6,1.4041,34.7009,2,34.7003,2,193.5,2,193.3,2,95.8,2,31.79,2,0,2,2.19,2,0.414,2,0.249,2,-999,9,-999,9,-999,9
      320696_3,    S04I,16,1,26,26,2,19960520,2350,-65.2005,32.0648,4633,324.2,1.3764,34.7079,2,34.7072,2,193.5,2,194,2,96.9,2,31.59,2,0,2,2.18,2,0.378,2,0.201,2,-999,9,-999,9,-999,9
      320696_3,    S04I,16,1,25,25,2,19960520,2350,-65.2005,32.0648,4633,373.8,1.3336,34.7116,2,34.7111,2,196.7,2,196.2,2,98.3,2,31.49,2,0,2,2.17,2,0.346,2,0.193,2,-999,9,-999,9,-999,9
      320696_3,    S04I,16,1,24,24,2,19960520,2350,-65.2005,32.0648,4633,440,1.2795,34.7173,2,34.7164,2,198.7,2,198.1,2,100.5,2,31.39,2,0,2,2.16,2,0.295,2,0.165,2,-999,9,-999,9,-999,9
      320696_3,    S04I,16,1,23,23,2,19960520,2350,-65.2005,32.0648,4633,499.5,1.2127,34.7175,2,34.7172,2,198.4,2,200,2,101.9,2,31.29,2,0,2,2.16,2,0.276,2,0.154,2,-999,9,-999,9,-999,9
      320696_3,    S04I,16,1,22,22,2,19960520,2350,-65.2005,32.0648,4633,560.4,1.1578,34.7179,2,34.7164,2,200.8,2,200.8,2,103.5,2,31.34,2,0,2,2.16,2,0.268,2,0.143,2,-999,9,-999,9,-999,9
      320696_3,    S04I,16,1,21,21,2,19960520,2350,-65.2005,32.0648,4633,661.4,1.0377,34.715,2,34.7138,2,203.2,2,203.1,2,106.8,2,31.39,2,0,2,2.16,2,0.241,2,0.138,2,-999,9,-999,9,-999,9
      320696_3,    S04I,16,1,20,20,2,19960520,2350,-65.2005,32.0648,4633,760.9,0.9369,34.712,2,34.7107,2,204.1,2,204.2,2,109.9,2,31.49,2,0,2,2.17,2,0.22,2,0.131,2,-999,9,-999,9,-999,9
      320696_3,    S04I,16,1,19,19,2,19960520,2350,-65.2005,32.0648,4633,862.5,0.8518,34.7074,2,34.7075,2,205.4,2,205.1,2,111.7,2,31.64,2,0,2,2.18,2,0.229,2,0.132,2,-999,9,-999,9,2362,6
      320696_3,    S04I,16,1,18,18,2,19960520,2350,-65.2005,32.0648,4633,1012.6,0.7014,34.7004,2,34.6997,2,208.9,2,209.1,2,115,2,31.74,2,0,2,2.2,2,0.263,2,0.147,2,-999,9,-999,9,-999,9
      320696_3,    S04I,16,1,17,17,2,19960520,2350,-65.2005,32.0648,4633,1164.6,0.5752,34.694,2,34.6932,2,209.8,2,209.8,2,118.4,2,32.03,2,0,2,2.22,2,0.242,2,0.144,2,-999,9,-999,9,-999,9
      320696_3,    S04I,16,1,16,16,2,19960520,2350,-65.2005,32.0648,4633,1316.7,0.4716,34.6882,2,34.6879,2,212.4,2,211.8,2,121.2,2,32.18,2,0,2,2.22,2,0.259,2,0.153,2,-999,9,-999,9,-999,9
      320696_3,    S04I,16,1,15,15,2,19960520,2350,-65.2005,32.0648,4633,1521,0.332,34.6802,2,34.6792,2,215.2,2,215.3,2,122.8,2,32.28,2,0,2,2.24,2,0.323,2,0.184,2,-999,9,-999,9,-999,9
      320696_3,    S04I,16,1,14,14,2,19960520,2350,-65.2005,32.0648,4633,1724.3,0.1967,34.6728,2,34.673,2,218.2,2,219.1,2,123.5,2,32.28,2,0,2,2.24,2,0.396,2,0.228,2,-999,9,-999,9,-999,9
      320696_3,    S04I,16,1,13,13,2,19960520,2350,-65.2005,32.0648,4633,1978.5,0.1167,34.6738,2,34.6732,2,222.8,2,-999,3,129.6,2,32.62,2,0,2,2.26,2,0.14,2,0.088,2,-999,9,-999,9,-999,9
      320696_3,    S04I,16,1,12,12,2,19960520,2350,-65.2005,32.0648,4633,2231.3,0.0116,34.6674,2,34.6665,2,225.8,2,225.7,2,126.8,2,32.33,2,0,2,2.24,2,0.38,2,3.37,2,-999,9,-999,9,-999,9
      320696_3,    S04I,16,1,11,11,2,19960520,2350,-65.2005,32.0648,4633,2481.3,-0.06,34.6658,2,34.6639,2,229.8,2,228.3,2,129.2,2,32.37,2,0,2,2.24,2,0.28,2,0.165,2,-999,9,-999,9,-999,9
      320696_3,    S04I,16,1,10,10,2,19960520,2350,-65.2005,32.0648,4633,2738.5,-0.12,34.6633,2,34.6625,2,231.7,2,231.4,2,129.1,2,32.32,2,0,2,2.24,2,0.321,2,0.186,2,-999,9,-999,9,-999,9
      320696_3,    S04I,16,1,9,9,2,19960520,2350,-65.2005,32.0648,4633,2993.7,-0.1813,34.659,2,34.6582,2,236.4,2,237.3,2,125.2,2,32.13,2,0,2,2.22,2,0.713,2,0.375,2,-999,9,-999,9,-999,9
      320696_3,    S04I,16,1,37,37,2,19960520,2350,-65.2005,32.0648,4633,3244.5,-0.1955,34.6586,2,34.6578,2,237.7,2,238.3,2,125.5,2,32.03,2,0,2,2.22,2,0.692,2,0.366,2,-999,9,-999,9,-999,9
      320696_3,    S04I,16,1,7,7,2,19960520,2350,-65.2005,32.0648,4633,3495.6,-0.2195,34.6561,2,34.6557,2,241.2,2,240.6,2,124.3,2,31.93,2,0,2,2.21,2,0.879,2,0.454,2,-999,9,-999,9,-999,9
      320696_3,    S04I,16,1,6,6,2,19960520,2350,-65.2005,32.0648,4633,3743.3,-0.2216,34.6555,2,34.6551,2,242.3,2,242,2,123.9,2,31.88,2,0,2,2.21,2,0.982,2,0.503,2,-999,9,2251.6,2,-999,9
      320696_3,    S04I,16,1,5,5,2,19960520,2350,-65.2005,32.0648,4633,3999.7,-0.2171,34.6554,2,34.6541,2,243.1,2,243.1,2,123.9,2,31.93,2,0,2,2.2,2,0.958,2,0.493,2,-999,9,-999,9,-999,9
      320696_3,    S04I,16,1,4,4,2,19960520,2350,-65.2005,32.0648,4633,4264.5,-0.2356,34.6538,2,34.6539,2,244.9,2,244.1,2,124.8,2,31.92,2,0,2,2.21,2,0.856,2,0.46,2,-999,9,2251.3,2,-999,9
      320696_3,    S04I,16,1,3,3,2,19960520,2350,-65.2005,32.0648,4633,4472.3,-0.2753,34.651,2,34.6515,2,248,2,247.5,2,124,2,31.87,2,0,2,2.2,2,1.052,2,0.543,2,-999,9,-999,9,-999,9
      320696_3,    S04I,16,1,2,2,2,19960520,2350,-65.2005,32.0648,4633,4577,-0.2934,34.6511,2,34.65,2,248.5,2,248.5,2,124.9,2,31.87,2,0,2,2.19,2,1.043,2,0.536,2,-999,9,2249.8,2,-999,9
      320696_3,    S04I,16,1,1,1,2,19960520,2350,-65.2005,32.0648,4633,4666.5,-0.2911,34.65,2,34.6504,2,248.5,2,248.6,2,124.8,2,31.87,2,0,2,2.2,2,1.034,2,0.534,2,-999,9,2250,2,-999,9
      320696_3,    S04I,17,1,33,33,2,19960521,456,-65.3972,32.3863,4009,15,-1.85,34.1861,2,34.1874,2,-999,4,333.5,2,58.3,2,28.11,2,0.19,2,1.94,2,6.153,2,2.918,2,-999,9,2195.4,2,2317,6
      320696_3,    S04I,17,1,32,32,2,19960521,456,-65.3972,32.3863,4009,34.8,-1.851,34.1865,2,34.1878,2,-999,4,333.4,2,58.3,2,28.16,2,0.19,2,1.94,2,-999,9,-999,9,-999,9,2196.2,2,2315,2
      320696_3,    S04I,17,1,31,31,2,19960521,456,-65.3972,32.3863,4009,55,-1.8301,34.1869,2,34.1889,2,-999,4,332,2,58.5,2,28.26,2,0.19,2,1.94,2,-999,9,-999,9,-999,9,2196,2,-999,9
      320696_3,    S04I,17,1,30,30,2,19960521,456,-65.3972,32.3863,4009,89.6,-1.2427,34.3541,2,34.349,2,-999,4,-999,4,66.6,2,30.32,2,0.14,2,2.09,2,-999,9,-999,9,-999,9,2218.7,2,2325,2
      320696_3,    S04I,17,1,29,29,2,19960521,456,-65.3972,32.3863,4009,125,-0.0636,34.5017,2,34.5041,2,-999,4,-999,4,78.9,2,31.93,2,0.01,2,2.19,2,2.993,2,1.338,2,-999,9,2240.9,2,-999,9
      320696_3,    S04I,17,1,28,28,2,19960521,456,-65.3972,32.3863,4009,156.3,0.5205,34.5695,2,34.5679,2,-999,4,219,2,85.1,2,32.49,2,0.01,2,2.23,2,-999,9,-999,9,-999,9,2247.5,2,2342,2
      320696_3,    S04I,17,1,27,27,2,19960521,456,-65.3972,32.3863,4009,186,0.7735,34.6024,2,34.6033,2,-999,4,210,2,88,2,32.49,2,0,2,2.23,2,-999,9,-999,9,-999,9,2252,2,-999,9
      320696_3,    S04I,17,1,26,26,2,19960521,456,-65.3972,32.3863,4009,216,0.9689,34.6334,2,34.6312,2,-999,3,203.8,2,90.2,2,32.49,2,0,2,2.22,2,-999,9,-999,9,-999,9,2253.3,2,2349,2
      320696_3,    S04I,17,1,25,25,2,19960521,456,-65.3972,32.3863,4009,246.6,1.0859,34.6551,2,34.656,2,199.3,2,200.4,2,92.2,2,32.15,2,0,2,2.22,2,-999,9,-999,9,-999,9,2254.8,2,-999,9
      320696_3,    S04I,17,1,24,24,2,19960521,456,-65.3972,32.3863,4009,276.5,1.1744,34.6696,2,34.6688,2,198.9,2,198.1,2,93.3,2,32.25,2,0,2,2.2,2,0.808,2,0.411,2,-999,9,2254.3,2,2352,2
      320696_3,    S04I,17,1,23,23,2,19960521,456,-65.3972,32.3863,4009,326.2,1.222,34.6888,2,34.6888,2,198.2,2,198.1,2,95.1,2,31.9,2,0,2,2.18,2,0.607,2,0.322,2,-999,9,2254.3,2,-999,9
      320696_3,    S04I,17,1,22,22,2,19960521,456,-65.3972,32.3863,4009,387.6,1.2148,34.6975,2,34.6971,2,198.8,2,199.1,2,96.4,2,31.65,2,0,2,2.17,2,-999,9,-999,9,-999,9,2253.5,2,2351,2
      320696_3,    S04I,17,1,21,21,2,19960521,456,-65.3972,32.3863,4009,458.5,1.1659,34.7056,2,34.7057,2,200.2,2,200.8,2,98.8,2,31.51,2,0,2,2.17,2,-999,9,-999,9,-999,9,2253.9,2,-999,9
      320696_3,    S04I,17,1,20,20,2,19960521,456,-65.3972,32.3863,4009,528.8,1.1552,34.7116,2,-999,5,200,2,200.7,2,102.3,2,31.36,2,0,2,2.16,2,-999,9,-999,9,-999,9,2254,2,2356,2
      320696_3,    S04I,17,1,19,19,2,19960521,456,-65.3972,32.3863,4009,609.3,1.0542,34.7098,2,34.7107,2,203.6,2,202.9,2,103,2,31.36,2,0,2,2.17,2,-999,9,-999,9,-999,9,2253.6,2,-999,9
      320696_3,    S04I,17,1,18,18,2,19960521,456,-65.3972,32.3863,4009,710,0.9563,34.7075,2,34.7062,2,205,2,204.9,2,104.7,2,31.46,2,0,2,2.17,2,-999,9,-999,9,-999,9,2256.1,2,2357,2
      320696_3,    S04I,17,1,17,17,2,19960521,456,-65.3972,32.3863,4009,810.5,0.8426,34.7023,2,34.7022,2,207.7,2,206.9,2,107.4,2,31.56,2,0,2,2.18,2,-999,9,-999,9,-999,9,2254.6,2,2355,6
      320696_3,    S04I,17,1,16,16,2,19960521,456,-65.3972,32.3863,4009,962.7,0.7005,34.6964,2,34.6965,2,209.9,2,209,2,110.9,2,31.71,2,0,2,2.2,2,-999,9,-999,9,-999,9,2257.9,2,-999,9
      320696_3,    S04I,17,1,15,15,2,19960521,456,-65.3972,32.3863,4009,1114.6,0.5742,34.6917,2,34.6928,2,210.5,2,210.4,2,115.2,2,32.01,2,0,2,2.21,2,0.3,2,0.161,2,-999,9,2259.8,2,2357,2
      320696_3,    S04I,17,1,14,14,2,19960521,456,-65.3972,32.3863,4009,1267.3,0.4552,34.6859,2,34.6866,2,211.3,2,211.9,2,118.5,2,32.26,2,0,2,2.23,2,-999,9,-999,9,-999,9,2261.4,2,-999,9
      320696_3,    S04I,17,1,13,13,2,19960521,456,-65.3972,32.3863,4009,1470,0.2689,34.673,2,34.6742,2,218.2,2,218.1,2,118,2,32.16,2,0,2,2.23,2,-999,9,-999,9,-999,9,2258.5,2,-999,9
      320696_3,    S04I,17,1,12,12,2,19960521,456,-65.3972,32.3863,4009,1673.1,0.1812,34.6718,2,34.6726,2,219.7,2,219.6,2,121.9,2,32.36,2,0,2,2.24,2,-999,9,-999,9,-999,9,2257.5,2,-999,9
      320696_3,    S04I,17,1,11,11,2,19960521,456,-65.3972,32.3863,4009,1875.4,0.0933,34.6689,2,34.6693,2,222.4,2,-999,4,123.6,2,32.41,2,0,2,2.23,2,-999,9,-999,9,-999,9,2258.4,2,-999,9
      320696_3,    S04I,17,1,10,10,2,19960521,456,-65.3972,32.3863,4009,2129.9,0.014,34.6655,2,34.6667,2,226.3,2,225.9,2,124.2,2,32.32,2,0,2,2.23,2,0.457,2,0.254,2,-999,9,2256.7,2,2357,2
      320696_3,    S04I,17,1,9,9,2,19960521,456,-65.3972,32.3863,4009,2384.7,-0.0657,34.6628,2,34.6634,2,230.1,2,229.9,2,123.8,2,32.22,2,0,2,2.24,2,-999,9,-999,9,-999,9,2256.7,2,-999,9
      320696_3,    S04I,17,1,37,37,2,19960521,456,-65.3972,32.3863,4009,2639,-0.1146,34.6608,2,34.6617,2,232.8,2,232.8,2,123.4,2,32.17,2,0,2,2.23,2,-999,9,-999,9,-999,9,2255,2,-999,9
      320696_3,    S04I,17,1,7,7,2,19960521,456,-65.3972,32.3863,4009,2893.2,-0.1559,34.6592,2,34.6601,2,235.2,2,236,2,122.5,2,32.12,2,0,2,2.22,2,0.744,2,0.389,2,-999,9,2255.4,2,-999,9
      320696_3,    S04I,17,1,6,6,2,19960521,456,-65.3972,32.3863,4009,3148.6,-0.1889,34.6579,2,34.6591,2,237.9,2,237.8,2,122.1,2,32.03,2,0,2,2.22,2,0.844,2,0.418,2,-999,9,2253.3,2,2356,2
      320696_3,    S04I,17,1,5,5,2,19960521,456,-65.3972,32.3863,4009,3404.8,-0.2263,34.6564,2,34.6576,2,240.1,2,239.9,2,122.9,2,32.03,2,0,2,2.22,2,0.848,2,0.425,2,-999,9,2253.3,2,-999,9
      320696_3,    S04I,17,1,4,4,2,19960521,456,-65.3972,32.3863,4009,3660.9,-0.2611,34.6544,2,34.6546,2,242.3,2,242.3,2,123.1,2,31.93,2,0,2,2.21,2,0.907,2,0.454,2,-999,9,2252.1,2,-999,9
      320696_3,    S04I,17,1,3,3,2,19960521,456,-65.3972,32.3863,4009,3863.9,-0.2887,34.6529,2,34.6537,2,245.3,2,244.4,2,123.7,2,31.98,2,0,2,2.21,2,0.886,2,0.445,2,-999,9,2251.3,2,-999,9
      320696_3,    S04I,17,1,2,2,2,19960521,456,-65.3972,32.3863,4009,3947,-0.3055,34.6521,2,34.6525,2,245.5,2,246.5,2,122.6,2,31.88,2,0,2,2.2,2,1.012,2,0.498,2,-999,9,2250.2,2,2355,2
      320696_3,    S04I,17,1,1,1,2,19960521,456,-65.3972,32.3863,4009,4012.6,-0.3374,34.6507,2,34.6519,2,246.7,2,246.4,2,123.7,2,31.88,2,0,2,2.21,2,0.994,2,0.506,2,-999,9,2250.1,2,2357,2