BOTTLE,20211011SIOJHS,,,,,,,,,,,,,,,,,,,,,,,,,,,,,,,,,,,,,,
EXPOCODE,SECT_ID,STNNBR,CASTNO,SAMPNO,BTLNBR,BTLNBR_FLAG_W,DATE,TIME,LATITUDE,LONGITUDE,DEPTH,CTDPRS,CTDTMP,CTDSAL,CTDSAL_FLAG_W,SALNTY,SALNTY_FLAG_W,CTDOXY,CTDOXY_FLAG_W,OXYGEN,OXYGEN_FLAG_W,SILCAT,SILCAT_FLAG_W,NITRAT,NITRAT_FLAG_W,NITRIT,NITRIT_FLAG_W,PHSPHT,PHSPHT_FLAG_W,CFC-11,CFC-11_FLAG_W,CFC-12,CFC-12_FLAG_W,SF6,SF6_FLAG_W,TCARBN,TCARBN_FLAG_W,ALKALI,ALKALI_FLAG_W
,,,,,,,,,,,,DB,ITS-90,PSS-78,,PSS-78,,UMOL/KG,,UMOL/KG,,UMOL/KG,,UMOL/KG,,UMOL/KG,,UMOL/KG,,PMOL/KG,,PMOL/KG,,FMOL/KG,,UMOL/KG,,UMOL/KG,
      320696_3,    S04I,50,1,36,36,2,19960531,2113,-62.8332,62.9972,4227,13.5,-1.2016,33.866,2,33.8631,2,-999,4,342.5,2,32.4,2,26.02,2,0.27,2,1.82,2,6.724,2,3.121,2,-999,9,2165.9,2,2297,2
      320696_3,    S04I,50,1,35,35,2,19960531,2113,-62.8332,62.9972,4227,28.6,-1.1807,33.8651,2,33.8629,2,-999,4,342.4,2,32.2,2,25.97,2,0.27,2,1.82,2,6.775,2,3.154,2,-999,9,2165.8,2,-999,9
      320696_3,    S04I,50,1,34,34,2,19960531,2113,-62.8332,62.9972,4227,52.9,-1.1529,33.8703,2,33.8682,2,-999,4,341.9,2,32.6,2,26.02,2,0.27,2,1.83,2,6.825,2,3.156,2,-999,9,-999,9,-999,9
      320696_3,    S04I,50,1,33,33,2,19960531,2113,-62.8332,62.9972,4227,80.3,-1.1233,33.8752,2,33.8778,2,-999,4,339.6,2,33.3,2,26.13,2,0.26,2,1.83,2,6.72,2,3.159,2,-999,9,-999,9,-999,9
      320696_3,    S04I,50,1,32,32,2,19960531,2113,-62.8332,62.9972,4227,102.6,0.5245,34.2955,2,34.3133,2,-999,4,229.8,2,67.6,2,33.74,2,0.01,2,2.34,2,3.27,2,1.486,2,-999,9,-999,9,-999,9
      320696_3,    S04I,50,1,31,31,2,19960531,2113,-62.8332,62.9972,4227,122.6,1.4539,34.4461,2,34.4466,2,-999,4,194.6,2,75.4,2,35.02,2,0.01,2,2.43,2,1.84,2,0.857,2,-999,9,-999,9,-999,9
      320696_3,    S04I,50,1,30,30,2,19960531,2113,-62.8332,62.9972,4227,152,1.655,34.5009,2,34.499,2,183.8,2,186.2,2,78.5,2,35.12,2,0,2,2.43,2,1.38,2,0.679,2,-999,9,-999,9,-999,9
      320696_3,    S04I,50,1,29,29,2,19960531,2113,-62.8332,62.9972,4227,182.1,1.7001,34.5334,2,34.532,2,179.6,2,181.2,2,81.1,2,34.96,2,0.01,2,2.42,2,1.144,2,0.558,2,-999,9,-999,9,-999,9
      320696_3,    S04I,50,1,28,28,2,19960531,2113,-62.8332,62.9972,4227,214.8,1.8822,34.5807,2,34.5755,2,177.3,2,176.5,2,82.3,2,34.54,2,0.01,2,2.38,2,0.751,2,0.381,2,-999,9,-999,9,-999,9
      320696_3,    S04I,50,1,27,27,2,19960531,2113,-62.8332,62.9972,4227,255,1.9363,34.6074,2,34.6053,2,175.2,2,174.9,2,82.9,2,34.12,2,0.01,2,2.35,2,0.552,2,0.3,2,-999,9,-999,9,-999,9
      320696_3,    S04I,50,1,26,26,2,19960531,2113,-62.8332,62.9972,4227,300,1.9321,34.627,2,34.626,2,176.2,2,175.7,2,84.1,2,33.86,2,0.01,2,2.33,2,0.488,2,0.261,2,-999,9,-999,9,-999,9
      320696_3,    S04I,50,1,25,25,2,19960531,2113,-62.8332,62.9972,4227,353.6,1.9568,34.6547,2,34.6529,2,178,2,177.6,2,84.5,2,33.29,2,0,2,2.29,2,0.394,2,0.211,2,-999,9,-999,9,-999,9
      320696_3,    S04I,50,1,24,24,2,19960531,2113,-62.8332,62.9972,4227,425.7,1.9403,34.6816,2,34.68,2,180.2,2,181.1,2,85.5,2,32.67,2,0,2,2.25,2,0.319,2,0.173,2,-999,9,-999,9,-999,9
      320696_3,    S04I,50,1,23,23,2,19960531,2113,-62.8332,62.9972,4227,507.6,1.914,34.7006,2,34.7009,2,183.7,2,183,2,86.2,2,32,2,0,2,2.21,2,0.242,2,0.141,2,-999,9,-999,9,-999,9
      320696_3,    S04I,50,1,22,22,2,19960531,2113,-62.8332,62.9972,4227,606.8,1.8533,34.7188,2,34.717,2,187.9,2,187.9,2,87.3,2,31.48,2,0,2,2.17,2,0.213,2,0.124,2,-999,9,-999,9,-999,9
      320696_3,    S04I,50,1,21,21,2,19960531,2113,-62.8332,62.9972,4227,732.1,1.8205,34.7384,2,34.7389,2,192.7,2,192.9,2,87.4,2,30.71,2,0,2,2.13,2,0.137,2,0.083,2,-999,9,-999,9,-999,9
      320696_3,    S04I,50,1,20,20,2,19960531,2113,-62.8332,62.9972,4227,856.1,1.6562,34.7425,2,34.7414,2,196.5,2,196.6,2,91.2,2,30.55,2,0,2,2.12,2,0.153,2,0.077,2,-999,9,-999,9,-999,9
      320696_3,    S04I,50,1,19,19,2,19960531,2113,-62.8332,62.9972,4227,954.9,1.5786,34.7443,2,34.7448,2,198.7,2,199.9,2,92.4,2,30.45,2,0,2,2.11,2,0.136,2,0.067,2,-999,9,-999,9,-999,9
      320696_3,    S04I,50,1,18,18,2,19960531,2113,-62.8332,62.9972,4227,1060.4,1.4766,34.7428,2,34.7432,2,200.3,2,203.6,2,95.4,2,30.44,2,0,2,2.1,2,0.13,2,0.074,2,-999,9,-999,9,-999,9
      320696_3,    S04I,50,1,17,17,2,19960531,2113,-62.8332,62.9972,4227,1163.2,1.3693,34.7395,2,34.7395,2,202.2,2,202.4,2,98.6,2,30.54,2,0,2,2.12,2,0.12,2,0.065,2,-999,9,-999,9,-999,9
      320696_3,    S04I,50,1,16,16,2,19960531,2113,-62.8332,62.9972,4227,1315.8,1.2462,34.7343,2,34.7334,2,204,2,203.9,2,102.1,2,30.69,2,0,2,2.12,2,0.117,2,0.066,2,-999,9,-999,9,-999,9
      320696_3,    S04I,50,1,15,15,2,19960531,2113,-62.8332,62.9972,4227,1517,1.0515,34.724,2,34.7246,2,205.9,2,205.8,2,108,2,31.15,2,0,2,2.14,2,0.094,2,0.06,2,-999,9,-999,9,-999,9
      320696_3,    S04I,50,1,14,14,2,19960531,2113,-62.8332,62.9972,4227,1770.5,0.8516,34.7126,2,34.7136,2,207.9,2,208.1,2,114.1,2,31.5,2,0,2,2.18,2,0.101,2,0.057,2,-999,9,-999,9,-999,9
      320696_3,    S04I,50,1,13,13,2,19960531,2113,-62.8332,62.9972,4227,2023.9,0.6373,34.6997,2,34.6987,2,210.2,2,210.3,2,120.4,2,32.01,2,0,2,2.2,2,0.116,2,0.079,2,-999,9,-999,9,-999,9
      320696_3,    S04I,50,1,12,12,2,19960531,2113,-62.8332,62.9972,4227,2279.9,0.4624,34.6899,2,-999,4,212.4,2,212.7,2,125.3,2,32.16,2,0,2,2.23,2,0.097,2,0.061,2,-999,9,-999,9,-999,9
      320696_3,    S04I,50,1,11,11,2,19960531,2113,-62.8332,62.9972,4227,2533.1,0.3445,34.6828,2,34.6836,2,214.6,2,214.5,2,127.6,2,32.56,2,0,2,2.25,2,0.106,2,0.064,2,-999,9,-999,9,-999,9
      320696_3,    S04I,50,1,10,10,2,19960531,2113,-62.8332,62.9972,4227,2788.1,0.2275,34.6779,2,34.6775,2,217.5,2,219.6,2,131.1,2,32.61,2,0,2,2.25,2,0.093,2,0.077,2,-999,9,-999,9,-999,9
      320696_3,    S04I,50,1,63,63,2,19960531,2113,-62.8332,62.9972,4227,3040.1,0.1327,34.6739,2,34.6736,2,221.6,2,221.7,2,132.9,2,32.6,2,0,2,2.25,2,0.101,2,-999,9,-999,9,-999,9,-999,9
      320696_3,    S04I,50,1,9,9,2,19960531,2113,-62.8332,62.9972,4227,3041.8,0.1332,34.6736,2,34.6742,2,221.6,2,221.5,2,133,2,32.6,2,0.01,2,2.25,2,0.071,2,0.046,2,-999,9,-999,9,-999,9
      320696_3,    S04I,50,1,7,7,2,19960531,2113,-62.8332,62.9972,4227,3285.6,0.036,34.6691,2,34.6691,2,225.5,2,225.9,2,133.1,2,32.54,2,0,2,2.25,2,0.082,2,0.054,2,-999,9,-999,9,-999,9
      320696_3,    S04I,50,1,6,6,2,19960531,2113,-62.8332,62.9972,4227,3549.1,-0.041,34.6667,2,34.667,2,229.2,2,229.3,2,134.2,2,32.48,2,0.01,2,2.25,2,0.112,2,0.062,2,-999,9,-999,9,-999,9
      320696_3,    S04I,50,1,5,5,2,19960531,2113,-62.8332,62.9972,4227,3756.6,-0.1074,34.6648,2,34.6642,2,232.9,2,232.7,2,134.9,2,32.43,2,0.01,2,2.24,2,0.16,2,0.105,2,-999,9,-999,9,-999,9
      320696_3,    S04I,50,1,4,4,2,19960531,2113,-62.8332,62.9972,4227,3954.9,-0.1697,34.6623,2,34.6615,2,236.1,2,236,2,136.8,2,32.27,2,0,2,2.25,2,0.23,2,0.136,2,-999,9,-999,9,-999,9
      320696_3,    S04I,50,1,3,3,2,19960531,2113,-62.8332,62.9972,4227,4058.9,-0.1926,34.6614,2,34.6603,2,237.6,2,236.6,2,140.1,2,32.27,2,0,2,2.25,2,0.213,2,0.115,2,-999,9,-999,9,-999,9
      320696_3,    S04I,50,1,2,2,2,19960531,2113,-62.8332,62.9972,4227,4157.1,-0.228,34.6591,2,34.6592,2,239.3,2,237.5,2,145.2,2,32.41,2,0.01,2,2.25,2,0.303,2,0.18,2,-999,9,-999,9,-999,9
      320696_3,    S04I,50,1,1,1,2,19960531,2113,-62.8332,62.9972,4227,4253.2,-0.2352,34.6582,2,34.6588,2,239.9,2,240,2,148.2,2,32.4,2,0.01,2,2.24,2,0.465,2,0.279,2,-999,9,-999,9,-999,9
      320696_3,    S04I,51,1,36,36,2,19960601,423,-62.3613,64.4062,4365,15.1,-1.4235,33.8729,2,33.8705,2,-999,4,342.3,2,34.3,2,26.52,2,0.26,2,1.86,2,-999,9,-999,9,-999,9,2167.6,2,2292,6
      320696_3,    S04I,51,1,35,35,2,19960601,423,-62.3613,64.4062,4365,35.7,-1.431,33.873,2,33.8707,2,-999,4,342.7,2,34.1,2,26.51,2,0.26,2,1.87,2,-999,9,-999,9,-999,9,2167.6,2,-999,9
      320696_3,    S04I,51,1,34,34,2,19960601,423,-62.3613,64.4062,4365,56.1,-1.423,33.8722,2,33.8707,2,-999,4,342.3,2,34.2,2,26.56,2,0.26,2,1.87,2,6.642,2,3.124,2,-999,9,2168.5,2,-999,9
      320696_3,    S04I,51,1,33,33,2,19960601,423,-62.3613,64.4062,4365,81.8,-1.2416,33.9063,2,33.8882,2,-999,4,337.6,2,35.6,2,26.88,2,0.25,2,1.89,2,-999,9,-999,9,-999,9,2170.5,2,-999,9
      320696_3,    S04I,51,1,32,32,2,19960601,423,-62.3613,64.4062,4365,105.9,0.5484,34.297,2,34.2832,2,236.6,2,237.8,2,65.7,2,33.35,2,0.02,2,2.34,2,-999,9,-999,9,-999,9,2228.1,2,-999,9
      320696_3,    S04I,51,1,31,31,2,19960601,423,-62.3613,64.4062,4365,136.3,1.5521,34.4574,2,34.4577,2,194.5,2,195.3,2,75.9,2,34.93,2,0.01,2,2.43,2,-999,9,-999,9,-999,9,2251,2,-999,9
      320696_3,    S04I,51,1,30,30,2,19960601,423,-62.3613,64.4062,4365,167.5,1.6503,34.495,2,34.4905,2,185.4,2,185.7,2,78.8,2,35.03,2,0.01,2,2.44,2,-999,9,-999,9,-999,9,2253.3,2,-999,9
      320696_3,    S04I,51,1,29,29,2,19960601,423,-62.3613,64.4062,4365,205.9,1.7999,34.5479,2,34.5498,2,179.5,2,179.1,2,81.8,2,34.72,2,0.01,2,2.41,2,-999,9,-999,9,-999,9,2257.3,2,-999,9
      320696_3,    S04I,51,1,28,28,2,19960601,423,-62.3613,64.4062,4365,247.1,1.8946,34.5833,2,34.5802,2,176.9,2,176.1,2,82.9,2,34.31,2,0,2,2.38,2,-999,9,-999,9,-999,9,2258.9,2,-999,9
      320696_3,    S04I,51,1,27,27,2,19960601,423,-62.3613,64.4062,4365,287.8,1.9434,34.6117,2,34.6103,2,176,2,175,2,84,2,33.95,2,0.01,2,2.35,2,-999,9,-999,9,-999,9,2259.1,2,-999,9
      320696_3,    S04I,51,1,26,26,2,19960601,423,-62.3613,64.4062,4365,327.5,1.9282,34.6225,2,34.6213,2,176.6,2,176.3,2,84.9,2,33.79,2,0.01,2,2.34,2,-999,9,-999,9,-999,9,2259.1,2,-999,9
      320696_3,    S04I,51,1,25,25,2,19960601,423,-62.3613,64.4062,4365,376.4,1.976,34.6531,2,34.6519,2,176.9,2,177.8,2,85.3,2,33.12,2,0.01,2,2.29,2,-999,9,-999,9,-999,9,2257.8,2,-999,9
      320696_3,    S04I,51,1,24,24,2,19960601,423,-62.3613,64.4062,4365,432.7,2.042,34.6831,2,34.6818,2,179.4,2,180.9,2,84.2,2,32.31,2,0.01,2,2.23,2,-999,9,-999,9,-999,9,2252.1,2,-999,9
      320696_3,    S04I,51,1,23,23,2,19960601,423,-62.3613,64.4062,4365,478.2,1.9774,34.6882,2,34.6887,2,181.1,2,181.7,2,82.9,2,32.2,2,0.01,2,2.22,2,-999,9,-999,9,-999,9,2254.3,2,-999,9
      320696_3,    S04I,51,1,22,22,2,19960601,423,-62.3613,64.4062,4365,559.8,1.9445,34.707,2,34.7064,2,183.9,2,184.5,2,84.2,2,31.74,2,0.01,2,2.19,2,-999,9,-999,9,-999,9,2251.8,2,-999,9
      320696_3,    S04I,51,1,21,21,2,19960601,423,-62.3613,64.4062,4365,659.5,1.9014,34.723,2,34.7225,2,187.6,2,187.7,2,84.7,2,31.18,2,0.01,2,2.16,2,-999,9,-999,9,-999,9,2250.7,2,-999,9
      320696_3,    S04I,51,1,20,20,2,19960601,423,-62.3613,64.4062,4365,809.8,1.7781,34.7375,2,34.737,2,193.1,2,193.9,2,87.1,2,30.67,2,0.01,2,2.12,2,-999,9,-999,9,-999,9,2247.9,2,2351,6
      320696_3,    S04I,51,1,19,19,2,19960601,423,-62.3613,64.4062,4365,963.3,1.6524,34.742,2,34.7427,2,197.3,2,197.4,2,89.5,2,30.41,2,0,2,2.1,2,-999,9,-999,9,-999,9,2247.7,2,-999,9
      320696_3,    S04I,51,1,18,18,2,19960601,423,-62.3613,64.4062,4365,1113.4,1.5122,34.7406,2,34.7406,2,200.5,2,202.3,2,93.8,2,30.46,2,0,2,2.11,2,-999,9,-999,9,-999,9,2246.5,2,-999,9
      320696_3,    S04I,51,1,17,17,2,19960601,423,-62.3613,64.4062,4365,1266.5,1.3483,34.7361,2,34.7372,2,202.7,2,202.4,2,98.2,2,30.51,2,0,2,2.12,2,-999,9,-999,9,-999,9,2250.4,2,-999,9
      320696_3,    S04I,51,1,16,16,2,19960601,423,-62.3613,64.4062,4365,1417.6,1.2421,34.7342,2,34.7345,2,203.7,2,204.5,2,101.2,2,30.61,2,0,2,2.12,2,-999,9,-999,9,-999,9,2251.1,2,-999,9
      320696_3,    S04I,51,1,15,15,2,19960601,423,-62.3613,64.4062,4365,1566.1,1.0954,34.724,2,34.7245,2,205.9,2,205.6,2,105.8,2,31.06,2,0,2,2.15,2,-999,9,-999,9,-999,9,2254.2,2,-999,9
      320696_3,    S04I,51,1,14,14,2,19960601,423,-62.3613,64.4062,4365,1769.1,0.9203,34.7144,2,34.7148,2,207.2,2,206.7,2,111,2,31.36,2,0,2,2.17,2,-999,9,-999,9,-999,9,2255.4,2,-999,9
      320696_3,    S04I,51,1,13,13,2,19960601,423,-62.3613,64.4062,4365,2024,0.7325,34.7047,2,34.7048,2,209.3,2,208.6,2,116.7,2,31.71,2,0,2,2.2,2,-999,9,-999,9,-999,9,2259,2,-999,9
      320696_3,    S04I,51,1,12,12,2,19960601,423,-62.3613,64.4062,4365,2276.6,0.5643,34.6951,2,34.6954,2,211.6,2,212,2,122,2,32.12,2,0.01,2,2.23,2,-999,9,-999,9,-999,9,2260,2,-999,9
      320696_3,    S04I,51,1,11,11,2,19960601,423,-62.3613,64.4062,4365,2533.7,0.42,34.6868,2,34.6861,2,214,2,213.2,2,125.6,2,32.32,2,0,2,2.25,2,-999,9,-999,9,-999,9,2261.4,2,-999,9
      320696_3,    S04I,51,1,10,10,2,19960601,423,-62.3613,64.4062,4365,2787.3,0.3031,34.6804,2,34.6804,2,216.7,2,216.1,2,128.2,2,32.47,2,0,2,2.26,2,-999,9,-999,9,-999,9,2260.6,2,-999,9
      320696_3,    S04I,51,1,9,9,2,19960601,423,-62.3613,64.4062,4365,3040.9,0.2029,34.6759,2,34.6753,2,220.1,2,-999,3,129.8,2,32.57,2,0,2,2.27,2,-999,9,-999,9,-999,9,2260,2,-999,9
      320696_3,    S04I,51,1,63,63,2,19960601,423,-62.3613,64.4062,4365,3042.3,0.2029,34.6756,2,34.6753,2,220.1,2,219.3,2,129.6,2,32.57,2,0,2,2.27,2,0.105,2,0.06,2,-999,9,2260.3,2,-999,9
      320696_3,    S04I,51,1,7,7,2,19960601,423,-62.3613,64.4062,4365,3299.9,0.1093,34.6723,2,34.6718,2,223.4,2,223.9,2,132.1,2,32.46,2,0,2,2.27,2,-999,9,-999,9,-999,9,2259.1,2,-999,9
      320696_3,    S04I,51,1,6,6,2,19960601,423,-62.3613,64.4062,4365,3553.9,0.0201,34.6686,2,34.668,2,227.4,2,227.5,2,132.6,2,32.41,2,0,2,2.25,2,-999,9,-999,9,-999,9,2256.3,2,-999,9
      320696_3,    S04I,51,1,5,5,2,19960601,423,-62.3613,64.4062,4365,3807.2,-0.0694,34.6665,2,34.6653,2,231.5,2,232.1,2,132.6,2,32.3,2,0,2,2.25,2,-999,9,-999,9,-999,9,2255.2,2,-999,9
      320696_3,    S04I,51,1,4,4,2,19960601,423,-62.3613,64.4062,4365,4011.7,-0.1346,34.6638,2,34.6623,2,234.7,2,235,2,136.5,2,32.3,2,0,2,2.25,2,-999,9,-999,9,-999,9,2254.9,2,-999,9
      320696_3,    S04I,51,1,3,3,2,19960601,423,-62.3613,64.4062,4365,4163.6,-0.1675,34.6618,2,34.6608,2,236.7,2,236.2,2,139.2,2,32.3,2,0,2,2.25,2,-999,9,-999,9,-999,9,2253.4,2,-999,9
      320696_3,    S04I,51,1,2,2,2,19960601,423,-62.3613,64.4062,4365,4302.4,-0.1995,34.6601,2,34.6588,2,238.7,2,235.1,2,144.4,2,32.4,2,0,2,2.25,2,-999,9,-999,9,-999,9,2255,2,-999,9
      320696_3,    S04I,51,1,1,1,2,19960601,423,-62.3613,64.4062,4365,4402.9,-0.2019,34.6599,2,34.6582,2,238.9,2,-999,5,151.2,2,32.49,2,0.01,2,2.25,2,-999,9,-999,9,-999,9,2255.2,2,-999,9