BOTTLE,20211011SIOJHS,,,,,,,,,,,,,,,,,,,,,,,,,,,,,,,,,,,,,,
EXPOCODE,SECT_ID,STNNBR,CASTNO,SAMPNO,BTLNBR,BTLNBR_FLAG_W,DATE,TIME,LATITUDE,LONGITUDE,DEPTH,CTDPRS,CTDTMP,CTDSAL,CTDSAL_FLAG_W,SALNTY,SALNTY_FLAG_W,CTDOXY,CTDOXY_FLAG_W,OXYGEN,OXYGEN_FLAG_W,SILCAT,SILCAT_FLAG_W,NITRAT,NITRAT_FLAG_W,NITRIT,NITRIT_FLAG_W,PHSPHT,PHSPHT_FLAG_W,CFC-11,CFC-11_FLAG_W,CFC-12,CFC-12_FLAG_W,SF6,SF6_FLAG_W,TCARBN,TCARBN_FLAG_W,ALKALI,ALKALI_FLAG_W
,,,,,,,,,,,,DB,ITS-90,PSS-78,,PSS-78,,UMOL/KG,,UMOL/KG,,UMOL/KG,,UMOL/KG,,UMOL/KG,,UMOL/KG,,PMOL/KG,,PMOL/KG,,FMOL/KG,,UMOL/KG,,UMOL/KG,
      320696_3,    S04I,23,1,35,35,2,19960522,2313,-65.1337,37.3495,4874,16.4,-1.84,34.0547,2,34.0569,2,-999,4,342.2,2,50.4,2,26.78,2,0.25,2,1.89,2,-999,9,-999,9,-999,9,2183.9,2,2309,2
      320696_3,    S04I,23,1,36,36,2,19960522,2313,-65.1337,37.3495,4874,16.5,-1.8405,34.0548,2,34.0566,2,-999,4,342.1,2,50.5,2,26.78,2,0.25,2,1.89,2,6.75,2,3.26,2,-999,9,2181.2,2,2304,2
      320696_3,    S04I,23,1,34,34,2,19960522,2313,-65.1337,37.3495,4874,40.7,-1.8405,34.0757,2,34.0777,2,-999,4,340.6,2,51.3,2,27.08,2,0.25,2,1.91,2,-999,9,-999,9,-999,9,2184.9,2,-999,9
      320696_3,    S04I,23,1,33,33,2,19960522,2313,-65.1337,37.3495,4874,66.1,-1.8274,34.0793,2,34.0933,2,-999,4,335.7,2,52.5,2,27.37,2,0.24,2,1.93,2,6.443,2,3.085,2,-999,9,2186.6,2,2312,2
      320696_3,    S04I,23,1,32,32,2,19960522,2313,-65.1337,37.3495,4874,105.8,0.9935,34.5659,2,34.5646,2,195,2,196.1,2,86.3,2,33.67,2,0.01,2,2.32,2,-999,9,-999,9,-999,9,2255.9,2,-999,9
      320696_3,    S04I,23,1,31,31,2,19960522,2313,-65.1337,37.3495,4874,140.6,1.3105,34.6142,2,34.6154,2,189.9,2,190.7,2,89.5,2,33.42,2,0.01,2,2.3,2,1.029,2,0.577,2,-999,9,2259.3,2,2343,2
      320696_3,    S04I,23,1,30,30,2,19960522,2313,-65.1337,37.3495,4874,180.3,1.3954,34.6427,2,34.6429,2,188.9,2,189.1,2,90.4,2,33.03,2,0.01,2,2.26,2,0.798,2,0.422,2,-999,9,2257.1,2,2340,2
      320696_3,    S04I,23,1,29,29,2,19960522,2313,-65.1337,37.3495,4874,217,1.4164,34.6594,2,34.6594,2,188.5,2,188.4,2,91.8,2,32.74,2,0.01,2,2.26,2,-999,9,-999,9,-999,9,2256.8,2,-999,9
      320696_3,    S04I,23,1,28,28,2,19960522,2313,-65.1337,37.3495,4874,263.3,1.4656,34.6817,2,34.6827,2,187.6,2,188.2,2,92.9,2,32.29,2,0.01,2,2.2,2,0.478,2,0.274,2,-999,9,2257.6,2,2349,2
      320696_3,    S04I,23,1,27,27,2,19960522,2313,-65.1337,37.3495,4874,303,1.4866,34.6966,2,34.6973,2,188.9,2,188.5,2,93.8,2,31.99,2,0.01,2,2.2,2,0.393,2,0.233,2,-999,9,2253.7,2,-999,9
      320696_3,    S04I,23,1,26,26,2,19960522,2313,-65.1337,37.3495,4874,352.3,1.4653,34.7054,2,34.7055,2,189,2,190.5,2,94.1,2,31.75,2,0.01,2,2.19,2,-999,9,-999,9,-999,9,2254.4,2,2346,2
      320696_3,    S04I,23,1,25,25,2,19960522,2313,-65.1337,37.3495,4874,403.7,1.4267,34.7109,2,34.7116,2,191.4,2,193.1,2,96.1,2,31.6,2,0.01,2,2.18,2,0.302,2,0.185,2,-999,9,2256.4,2,-999,9
      320696_3,    S04I,23,1,24,24,2,19960522,2313,-65.1337,37.3495,4874,453.7,1.3816,34.7152,2,34.7153,2,193.6,2,193.9,2,97.2,2,31.5,2,0.01,2,2.17,2,-999,9,-999,9,-999,9,2253.7,2,2351,2
      320696_3,    S04I,23,1,23,23,2,19960522,2313,-65.1337,37.3495,4874,529.5,1.3148,34.7185,2,34.7188,2,196,2,196.8,2,99.2,2,31.35,2,0,2,2.16,2,0.246,2,0.175,2,-999,9,2255.4,2,-999,9
      320696_3,    S04I,23,1,22,22,2,19960522,2313,-65.1337,37.3495,4874,606.5,1.23,34.7189,2,34.7189,2,197.2,2,197.5,2,101.5,2,31.35,2,0.01,2,2.16,2,-999,9,-999,9,-999,9,2255.3,2,2354,2
      320696_3,    S04I,23,1,21,21,2,19960522,2313,-65.1337,37.3495,4874,708.7,1.1282,34.7189,2,34.7187,2,200.6,2,200.5,2,104.2,2,31.35,2,0,2,2.16,2,0.203,2,0.124,2,-999,9,2255.6,2,-999,9
      320696_3,    S04I,23,1,20,20,2,19960522,2313,-65.1337,37.3495,4874,861.9,0.9626,34.7129,2,34.713,2,202.6,2,201.9,2,108.6,2,31.55,2,0,2,2.18,2,-999,9,-999,9,-999,9,2256.5,2,2355,6
      320696_3,    S04I,23,1,19,19,2,19960522,2313,-65.1337,37.3495,4874,1014.3,0.8026,34.7062,2,34.7069,2,205.2,2,203.9,2,113,2,31.79,2,0,2,2.19,2,0.177,2,0.118,2,-999,9,2258.3,2,-999,9
      320696_3,    S04I,23,1,18,18,2,19960522,2313,-65.1337,37.3495,4874,1216.9,0.6415,34.6973,2,34.6972,2,206.3,2,206,2,117.2,2,32.13,2,0,2,2.22,2,-999,9,-999,9,-999,9,2260.9,2,2363,2
      320696_3,    S04I,23,1,17,17,2,19960522,2313,-65.1337,37.3495,4874,1419.5,0.5065,34.6905,2,34.6907,2,206.5,2,207.4,2,121.1,2,32.37,2,0,2,2.25,2,0.164,2,0.105,2,-999,9,2260.4,2,-999,9
      320696_3,    S04I,23,1,16,16,2,19960522,2313,-65.1337,37.3495,4874,1622.9,0.3921,34.6851,2,34.685,2,208.8,2,209,2,124,2,32.57,2,0,2,2.25,2,-999,9,-999,9,-999,9,2264.3,2,-999,9
      320696_3,    S04I,23,1,15,15,2,19960522,2313,-65.1337,37.3495,4874,1876.5,0.2706,34.6794,2,34.6795,2,212.4,2,212.6,2,126.6,2,32.62,2,0,2,2.26,2,0.143,2,0.11,2,-999,9,2262.4,2,2362,2
      320696_3,    S04I,23,1,14,14,2,19960522,2313,-65.1337,37.3495,4874,2130.8,0.1595,34.6737,2,34.6745,2,216.5,2,216.6,2,127.5,2,32.66,2,0,2,2.26,2,-999,9,-999,9,-999,9,2264.4,2,-999,9
      320696_3,    S04I,23,1,13,13,2,19960522,2313,-65.1337,37.3495,4874,2432,0.0549,34.6695,2,34.6694,2,221.8,2,221.4,2,128.6,2,32.62,2,0,2,2.26,2,0.154,2,0.099,2,-999,9,2259.3,2,-999,9
      320696_3,    S04I,23,1,12,12,2,19960522,2313,-65.1337,37.3495,4874,2736.7,-0.0423,34.6653,2,34.6664,2,226.4,2,226.4,2,128.6,2,32.52,2,0,2,2.25,2,-999,9,-999,9,-999,9,2257.2,2,-999,9
      320696_3,    S04I,23,1,11,11,2,19960522,2313,-65.1337,37.3495,4874,3045.2,-0.1142,34.6623,2,34.6619,2,230.6,2,230.6,2,128.5,2,32.41,2,0,2,2.24,2,-999,9,-999,9,-999,9,2256.3,2,-999,9
      320696_3,    S04I,23,1,10,10,2,19960522,2313,-65.1337,37.3495,4874,3045.3,-0.1145,34.6626,2,34.6622,2,230.6,2,230.3,2,128.5,2,32.41,2,0,2,2.24,2,0.205,2,0.127,2,-999,9,2256.6,2,2363,2
      320696_3,    S04I,23,1,9,9,2,19960522,2313,-65.1337,37.3495,4874,3352.8,-0.1685,34.6598,2,34.66,2,234.1,2,234,2,128.5,2,32.31,2,0,2,2.24,2,-999,9,-999,9,-999,9,2255.6,2,-999,9
      320696_3,    S04I,23,1,37,37,2,19960522,2313,-65.1337,37.3495,4874,3659.7,-0.2151,34.6576,2,34.6582,2,237.2,2,237.5,2,127.9,2,32.16,2,0,2,2.23,2,0.287,2,0.169,2,-999,9,2252.5,2,-999,9
      320696_3,    S04I,23,1,7,7,2,19960522,2313,-65.1337,37.3495,4874,3916.8,-0.2445,34.6561,2,-999,4,239.3,2,239.6,2,127.8,2,32.11,2,0,2,2.23,2,-999,9,-999,9,-999,9,2251.6,2,-999,9
      320696_3,    S04I,23,1,6,6,2,19960522,2313,-65.1337,37.3495,4874,4170.9,-0.2694,34.6554,2,34.6552,2,241.7,2,241.4,2,128.7,2,32.11,2,0,2,2.22,2,0.335,2,0.192,2,-999,9,2251.7,2,2362,2
      320696_3,    S04I,23,1,5,5,2,19960522,2313,-65.1337,37.3495,4874,4372,-0.2866,34.6538,2,34.654,2,243.2,2,243.1,2,129.3,2,32.06,2,0,2,2.22,2,0.388,2,0.219,2,-999,9,2250.4,2,-999,9
      320696_3,    S04I,23,1,4,4,2,19960522,2313,-65.1337,37.3495,4874,4573.1,-0.3003,34.6529,2,34.6528,2,244.8,2,244.7,2,129.4,2,32.01,2,0.01,2,2.22,2,0.487,2,0.262,2,-999,9,2250.5,2,-999,9
      320696_3,    S04I,23,1,3,3,2,19960522,2313,-65.1337,37.3495,4874,4723,-0.3118,34.6522,2,34.6518,2,246.4,2,246.4,2,129.8,2,32.01,2,0,2,2.22,2,0.577,2,0.317,2,-999,9,2249.9,2,-999,9
      320696_3,    S04I,23,1,2,2,2,19960522,2313,-65.1337,37.3495,4874,4825.2,-0.3177,34.6515,2,34.6512,2,247.2,2,246.8,2,132.2,2,32.05,2,0,2,2.22,2,0.609,2,0.324,2,-999,9,2252.1,2,2360,2
      320696_3,    S04I,23,1,1,1,2,19960522,2313,-65.1337,37.3495,4874,4928.3,-0.3178,34.6514,2,-999,4,244.8,2,244.7,2,138.3,2,32.25,2,0,2,2.23,2,0.214,2,0.124,2,-999,9,2252,2,2354,2
      320696_3,    S04I,24,1,36,36,2,19960523,537,-64.936,38.472,4895,16,-1.8369,34.0553,2,34.0566,2,-999,4,341.5,2,51.5,2,27.09,2,0.25,2,1.9,2,-999,9,-999,9,-999,9,2186,2,2312,2
      320696_3,    S04I,24,1,35,35,2,19960523,537,-64.936,38.472,4895,30.2,-1.8342,34.0553,2,34.0572,2,-999,4,341.6,2,51.7,2,27.04,2,0.25,2,1.9,2,-999,9,-999,9,-999,9,2184.1,2,-999,9
      320696_3,    S04I,24,1,34,34,2,19960523,537,-64.936,38.472,4895,50.2,-1.8293,34.055,2,34.0631,2,-999,4,339.2,2,52,2,27.19,2,0.25,2,1.9,2,6.587,2,3.288,2,-999,9,-999,9,-999,9
      320696_3,    S04I,24,1,33,33,2,19960523,537,-64.936,38.472,4895,75.7,0.8203,34.5394,2,34.5416,2,-999,4,200,2,85.1,2,33.67,2,0.02,2,2.32,2,-999,9,-999,9,-999,9,-999,9,-999,9
      320696_3,    S04I,24,1,32,32,2,19960523,537,-64.936,38.472,4895,95.7,1.0963,34.5764,2,34.5753,2,-999,4,191.6,2,87.7,2,33.77,2,0.01,2,2.33,2,-999,9,-999,9,-999,9,-999,9,-999,9
      320696_3,    S04I,24,1,31,31,2,19960523,537,-64.936,38.472,4895,120.7,1.3616,34.6154,2,34.6139,2,-999,4,186.7,2,89.7,2,33.63,2,0.01,2,2.31,2,-999,9,-999,9,-999,9,-999,9,-999,9
      320696_3,    S04I,24,1,30,30,2,19960523,537,-64.936,38.472,4895,151,1.4421,34.6426,2,34.6435,2,187.2,2,186.7,2,91.1,2,33.18,2,0.01,2,2.28,2,-999,9,-999,9,-999,9,-999,9,-999,9
      320696_3,    S04I,24,1,29,29,2,19960523,537,-64.936,38.472,4895,196.4,1.4526,34.6686,2,34.6695,2,190.8,2,188.2,2,92.6,2,32.6,2,0.01,2,2.24,2,-999,9,-999,9,-999,9,-999,9,-999,9
      320696_3,    S04I,24,1,28,28,2,19960523,537,-64.936,38.472,4895,226.2,1.4885,34.679,2,34.6783,2,188.5,2,187.9,2,93.1,2,32.45,2,0.01,2,2.23,2,-999,9,-999,9,-999,9,-999,9,-999,9
      320696_3,    S04I,24,1,27,27,2,19960523,537,-64.936,38.472,4895,256.2,1.5126,34.6882,2,34.6889,2,188.1,2,188,2,93.4,2,32.25,2,0.01,2,2.21,2,-999,9,-999,9,-999,9,-999,9,-999,9
      320696_3,    S04I,24,1,26,26,2,19960523,537,-64.936,38.472,4895,281.1,1.5199,34.6955,2,34.696,2,187.7,2,189.5,2,94,2,32.1,2,0.01,2,2.21,2,-999,9,-999,9,-999,9,-999,9,-999,9
      320696_3,    S04I,24,1,25,25,2,19960523,537,-64.936,38.472,4895,314.8,1.5233,34.7036,2,34.7039,2,188.7,2,189.2,2,94.3,2,31.95,2,0.01,2,2.2,2,-999,9,-999,9,-999,9,-999,9,-999,9
      320696_3,    S04I,24,1,24,24,2,19960523,537,-64.936,38.472,4895,365,1.4969,34.7116,2,34.7125,2,191,2,191.2,2,95.4,2,31.61,2,0,2,2.17,2,-999,9,-999,9,-999,9,-999,9,-999,9
      320696_3,    S04I,24,1,23,23,2,19960523,537,-64.936,38.472,4895,424.7,1.4493,34.7174,2,34.7174,2,192.8,2,193.7,2,96.7,2,31.46,2,0,2,2.16,2,-999,9,-999,9,-999,9,-999,9,-999,9
      320696_3,    S04I,24,1,22,22,2,19960523,537,-64.936,38.472,4895,503.2,1.3722,34.7219,2,34.7206,2,195.5,2,196.4,2,98.8,2,31.32,2,0,2,2.15,2,0.235,2,0.14,2,-999,9,-999,9,-999,9
      320696_3,    S04I,24,1,21,21,2,19960523,537,-64.936,38.472,4895,600.1,1.264,34.7222,2,34.7224,2,198.3,2,198.2,2,101.6,2,31.22,2,0,2,2.15,2,-999,9,-999,9,-999,9,-999,9,-999,9
      320696_3,    S04I,24,1,20,20,2,19960523,537,-64.936,38.472,4895,699.6,1.1441,34.7192,2,34.7188,2,199.7,2,200.3,2,104.3,2,31.32,2,0,2,2.16,2,-999,9,-999,9,-999,9,-999,9,-999,9
      320696_3,    S04I,24,1,19,19,2,19960523,537,-64.936,38.472,4895,797.6,1.0403,34.7167,2,34.7171,2,203.2,2,202.3,2,107.2,2,31.36,2,0,2,2.16,2,-999,9,-999,9,-999,9,-999,9,-999,9
      320696_3,    S04I,24,1,18,18,2,19960523,537,-64.936,38.472,4895,946.4,0.8793,34.7104,2,34.71,2,204.7,2,205,2,111.7,2,31.66,2,0,2,2.18,2,-999,9,-999,9,-999,9,-999,9,-999,9
      320696_3,    S04I,24,1,17,17,2,19960523,537,-64.936,38.472,4895,1097.6,0.748,34.704,2,34.7035,2,206.5,2,205.4,2,115.3,2,31.85,2,0,2,2.2,2,-999,9,-999,9,-999,9,-999,9,-999,9
      320696_3,    S04I,24,1,16,16,2,19960523,537,-64.936,38.472,4895,1254.9,0.637,34.6983,2,34.6978,2,207.1,2,206.6,2,118.4,2,32.05,2,0,2,2.21,2,0.157,2,0.099,2,-999,9,-999,9,-999,9
      320696_3,    S04I,24,1,15,15,2,19960523,537,-64.936,38.472,4895,1411,0.5253,34.6922,2,34.6906,2,208.5,2,208.1,2,121.6,2,32.29,2,0,2,2.23,2,-999,9,-999,9,-999,9,-999,9,-999,9
      320696_3,    S04I,24,1,14,14,2,19960523,537,-64.936,38.472,4895,1616.7,0.4168,34.687,2,34.6868,2,208.7,2,210.2,2,124.3,2,32.44,2,0,2,2.24,2,-999,9,-999,9,-999,9,-999,9,-999,9
      320696_3,    S04I,24,1,13,13,2,19960523,537,-64.936,38.472,4895,1874.5,0.2861,34.6807,2,34.68,2,212.6,2,213.1,2,126.9,2,32.49,2,0,2,2.25,2,-999,9,-999,9,-999,9,-999,9,-999,9
      320696_3,    S04I,24,1,12,12,2,19960523,537,-64.936,38.472,4895,2127.1,0.1797,34.6754,2,34.676,2,216.2,2,220.2,2,128,2,32.63,2,0,2,2.26,2,-999,9,-999,9,-999,9,-999,9,-999,9
      320696_3,    S04I,24,1,11,11,2,19960523,537,-64.936,38.472,4895,2417.5,0.0803,34.6707,2,34.6709,2,220.9,2,221.7,2,128.9,2,32.53,2,0,2,2.25,2,-999,9,-999,9,-999,9,-999,9,-999,9
      320696_3,    S04I,24,1,10,10,2,19960523,537,-64.936,38.472,4895,2735.9,-0.019,34.6665,2,34.666,2,226.3,2,226.7,2,129.3,2,32.49,2,0,2,2.25,2,0.192,2,0.112,2,-999,9,-999,9,-999,9
      320696_3,    S04I,24,1,9,9,2,19960523,537,-64.936,38.472,4895,3028,-0.0943,34.6633,2,34.6637,2,230.5,2,230.5,2,129.1,2,32.29,2,0,2,2.24,2,-999,9,-999,9,-999,9,-999,9,-999,9
      320696_3,    S04I,24,1,37,37,2,19960523,537,-64.936,38.472,4895,3330.3,-0.1535,34.6609,2,-999,5,234.3,2,234,2,129,2,32.29,2,0,2,2.23,2,-999,9,-999,9,-999,9,-999,9,-999,9
      320696_3,    S04I,24,1,7,7,2,19960523,537,-64.936,38.472,4895,3640,-0.1982,34.6591,2,34.6594,2,237,2,237.1,2,128.8,2,32.19,2,0,2,2.23,2,-999,9,-999,9,-999,9,-999,9,-999,9
      320696_3,    S04I,24,1,6,6,2,19960523,537,-64.936,38.472,4895,3949.2,-0.2403,34.6562,2,34.657,2,240.4,2,240.3,2,128.8,2,32.14,2,0,2,2.22,2,-999,9,-999,9,-999,9,-999,9,-999,9
      320696_3,    S04I,24,1,5,5,2,19960523,537,-64.936,38.472,4895,4267.9,-0.2777,34.6546,2,34.6545,2,243.3,2,243.1,2,129,2,32.04,2,0,2,2.22,2,-999,9,-999,9,-999,9,-999,9,-999,9
      320696_3,    S04I,24,1,4,4,2,19960523,537,-64.936,38.472,4895,4527.5,-0.2973,34.6528,2,34.6533,2,244.9,2,245.1,2,129.7,2,31.99,2,0,2,2.21,2,-999,9,-999,9,-999,9,-999,9,-999,9
      320696_3,    S04I,24,1,3,3,2,19960523,537,-64.936,38.472,4895,4732,-0.3256,34.6494,2,34.6498,2,249.3,2,249.6,2,126.3,2,31.84,2,0,2,2.2,2,-999,9,-999,9,-999,9,-999,9,-999,9
      320696_3,    S04I,24,1,2,2,2,19960523,537,-64.936,38.472,4895,4843.6,-0.3239,34.6496,2,34.6507,2,247.6,2,247,2,134.3,2,32.04,2,0,2,2.22,2,-999,9,-999,9,-999,9,-999,9,-999,9
      320696_3,    S04I,24,1,1,1,2,19960523,537,-64.936,38.472,4895,4940.1,-0.3137,34.651,2,34.6515,2,245.3,2,245.6,2,139.3,2,32.18,2,0,2,2.23,2,-999,9,-999,9,-999,9,-999,9,-999,9