BOTTLE,20211011SIOJHS,,,,,,,,,,,,,,,,,,,,,,,,,,,,,,,,,,,,,,
EXPOCODE,SECT_ID,STNNBR,CASTNO,SAMPNO,BTLNBR,BTLNBR_FLAG_W,DATE,TIME,LATITUDE,LONGITUDE,DEPTH,CTDPRS,CTDTMP,CTDSAL,CTDSAL_FLAG_W,SALNTY,SALNTY_FLAG_W,CTDOXY,CTDOXY_FLAG_W,OXYGEN,OXYGEN_FLAG_W,SILCAT,SILCAT_FLAG_W,NITRAT,NITRAT_FLAG_W,NITRIT,NITRIT_FLAG_W,PHSPHT,PHSPHT_FLAG_W,CFC-11,CFC-11_FLAG_W,CFC-12,CFC-12_FLAG_W,SF6,SF6_FLAG_W,TCARBN,TCARBN_FLAG_W,ALKALI,ALKALI_FLAG_W
,,,,,,,,,,,,DB,ITS-90,PSS-78,,PSS-78,,UMOL/KG,,UMOL/KG,,UMOL/KG,,UMOL/KG,,UMOL/KG,,UMOL/KG,,PMOL/KG,,PMOL/KG,,FMOL/KG,,UMOL/KG,,UMOL/KG,
      320696_3,    S04I,55,1,36,36,2,19960603,506,-61.9618,70.0168,4165,17.1,-1.6115,33.8182,2,33.8186,2,-999,4,343.6,2,35.4,2,27.3,2,0.27,2,1.9,2,6.591,2,3.201,2,-999,9,2165.8,2,2285,6
      320696_3,    S04I,55,1,35,35,2,19960603,506,-61.9618,70.0168,4165,35.8,-1.6119,33.8185,2,33.8222,2,-999,4,343.7,2,35.2,2,27.3,2,0.27,2,1.9,2,6.483,2,3.181,2,-999,9,2165.6,2,2285,2
      320696_3,    S04I,55,1,34,34,2,19960603,506,-61.9618,70.0168,4165,57.8,-1.5573,33.8372,2,33.837,2,-999,4,343.3,2,35.4,2,27.31,2,0.26,2,1.89,2,6.514,2,3.184,2,-999,9,2167.1,2,2283,2
      320696_3,    S04I,55,1,33,33,2,19960603,506,-61.9618,70.0168,4165,76.8,-1.5306,33.8414,2,33.8401,2,-999,4,343.5,2,35.2,2,27.36,2,0.26,2,1.89,2,6.407,2,3.167,2,-999,9,2166.9,2,2284,2
      320696_3,    S04I,55,1,32,32,2,19960603,506,-61.9618,70.0168,4165,97.6,-1.2262,33.8984,2,33.8762,2,-999,4,336.4,2,36.3,2,27.75,2,0.24,2,1.92,2,6.291,2,3.128,2,-999,9,2171,2,2289,2
      320696_3,    S04I,55,1,31,31,2,19960603,506,-61.9618,70.0168,4165,127.3,0.8822,34.2847,2,34.274,2,-999,4,238.1,2,62.5,2,33.48,2,0.01,2,2.32,2,3.311,2,1.578,2,-999,9,2226.9,2,2309,2
      320696_3,    S04I,55,1,30,30,2,19960603,506,-61.9618,70.0168,4165,158.7,1.2277,34.3788,2,34.3707,2,209.6,2,209.7,2,69.2,2,34.47,2,0,2,2.39,2,2.337,2,1.062,2,-999,9,2240.7,2,2317,2
      320696_3,    S04I,55,1,29,29,2,19960603,506,-61.9618,70.0168,4165,189.2,1.6507,34.4661,2,34.4621,2,189.1,2,189.4,2,75,2,34.94,2,0.01,2,2.41,2,1.477,2,0.704,2,-999,9,2249.3,2,2320,2
      320696_3,    S04I,55,1,28,28,2,19960603,506,-61.9618,70.0168,4165,217.7,1.8074,34.5134,2,34.5079,2,182.1,2,182.5,2,77.2,2,34.89,2,0.01,2,2.41,2,1.078,2,0.513,2,-999,9,2253.5,2,2328,2
      320696_3,    S04I,55,1,27,27,2,19960603,506,-61.9618,70.0168,4165,248.8,1.8918,34.5406,2,34.5406,2,176.1,2,176.9,2,79,2,34.69,2,0,2,2.39,2,0.868,2,0.434,2,-999,9,2256,2,2333,2
      320696_3,    S04I,55,1,26,26,2,19960603,506,-61.9618,70.0168,4165,298.8,1.9592,34.5814,2,34.5825,2,174.7,2,174.7,2,80.8,2,34.28,2,0,2,2.37,2,0.627,2,0.333,2,-999,9,2256.7,2,2333,2
      320696_3,    S04I,55,1,25,25,2,19960603,506,-61.9618,70.0168,4165,335.2,1.9725,34.6015,2,34.6015,2,173.7,2,173.9,2,81.7,2,34.08,2,0,2,2.35,2,0.568,2,0.291,2,-999,9,2257.7,2,2332,2
      320696_3,    S04I,55,1,24,24,2,19960603,506,-61.9618,70.0168,4165,372.1,2.0057,34.6284,2,34.6276,2,174.8,2,175,2,82.5,2,33.62,2,0,2,2.32,2,0.441,2,0.243,2,-999,9,2256,2,2336,2
      320696_3,    S04I,55,1,23,23,2,19960603,506,-61.9618,70.0168,4165,482.5,2.0525,34.6777,2,34.6775,2,177.8,2,178.5,2,83.2,2,32.54,2,0,2,2.24,2,0.262,2,0.152,2,-999,9,2254.3,2,2340,2
      320696_3,    S04I,55,1,22,22,2,19960603,506,-61.9618,70.0168,4165,546.3,2.0451,34.6952,2,34.6952,2,179.7,2,181.2,2,83.3,2,32.08,2,0,2,2.2,2,0.217,2,0.118,2,-999,9,2251.4,2,2342,2
      320696_3,    S04I,55,1,21,21,2,19960603,506,-61.9618,70.0168,4165,636.4,2.0009,34.7153,2,34.715,2,184.6,2,185.2,2,83.5,2,31.36,2,0,2,2.16,2,0.181,2,0.104,2,-999,9,2249.8,2,2343,2
      320696_3,    S04I,55,1,20,20,2,19960603,506,-61.9618,70.0168,4165,761.6,1.9673,34.7362,2,34.7363,2,190.4,2,190.8,2,83.5,2,30.64,2,0,2,2.1,2,0.132,2,0.065,2,-999,9,2245.4,2,2346,2
      320696_3,    S04I,55,1,19,19,2,19960603,506,-61.9618,70.0168,4165,914,1.828,34.7455,2,34.7457,2,195.3,2,194.9,2,86.8,2,30.34,2,0,2,2.08,2,0.119,2,0.067,2,-999,9,2245.3,2,2347,2
      320696_3,    S04I,55,1,18,18,2,19960603,506,-61.9618,70.0168,4165,1067.1,1.6984,34.7518,2,34.7526,2,200,2,200,2,89.2,2,29.98,2,0,2,2.07,2,0.097,2,0.063,2,-999,9,2242.9,2,2349,2
      320696_3,    S04I,55,1,17,17,2,19960603,506,-61.9618,70.0168,4165,1167,1.6227,34.7514,2,34.7518,2,201.3,2,201.2,2,91.6,2,29.99,2,0,2,2.07,2,0.084,2,0.048,2,-999,9,2244.4,2,2352,2
      320696_3,    S04I,55,1,16,16,2,19960603,506,-61.9618,70.0168,4165,1269.9,1.5335,34.7493,2,34.7514,2,203.2,2,202.1,2,93.4,2,30.1,2,0,2,2.08,2,0.084,2,0.048,2,-999,9,2245.4,2,2350,2
      320696_3,    S04I,55,1,15,15,2,19960603,506,-61.9618,70.0168,4165,1421.3,1.4034,34.7448,2,34.7447,2,203.4,2,204.6,2,97.8,2,30.25,2,0,2,2.08,2,0.08,2,0.041,2,-999,9,2248.6,2,2352,2
      320696_3,    S04I,55,1,14,14,2,19960603,506,-61.9618,70.0168,4165,1619.7,1.206,34.7336,2,34.7334,2,205.7,2,205.8,2,103.7,2,30.67,2,0,2,2.12,2,0.084,2,0.052,2,-999,9,2251.2,2,2353,2
      320696_3,    S04I,55,1,13,13,2,19960603,506,-61.9618,70.0168,4165,1867.8,0.9863,34.7208,2,34.7211,2,207.3,2,207.1,2,110.1,2,31.24,2,0,2,2.15,2,0.083,2,0.054,2,-999,9,2254.1,2,2355,2
      320696_3,    S04I,55,1,12,12,2,19960603,506,-61.9618,70.0168,4165,2120,0.7752,34.708,2,34.7083,2,209.1,2,209.2,2,116.4,2,31.71,2,0,2,2.19,2,0.078,2,0.045,2,-999,9,2256.5,2,2357,2
      320696_3,    S04I,55,1,11,11,2,19960603,506,-61.9618,70.0168,4165,2317,0.64,34.6998,2,34.6998,2,210.8,2,210.3,2,120.7,2,32.03,2,0,2,2.22,2,0.088,2,0.054,2,-999,9,2257.9,2,2357,2
      320696_3,    S04I,55,1,10,10,2,19960603,506,-61.9618,70.0168,4165,2530.3,0.4936,34.6912,2,34.6912,2,212.4,2,212.2,2,125,2,32.29,2,0,2,2.23,2,0.069,2,0.039,2,-999,9,2260.1,2,2357,2
      320696_3,    S04I,55,1,9,9,2,19960603,506,-61.9618,70.0168,4165,2740.1,0.3523,34.6846,2,34.6837,2,215.9,2,214.9,2,128.8,2,32.5,2,0,2,2.25,2,0.072,2,0.045,2,-999,9,2259.8,2,2356,2
      320696_3,    S04I,55,1,63,63,2,19960603,506,-61.9618,70.0168,4165,2940.8,0.2639,34.6789,2,34.6793,2,217.5,2,217.6,2,130.5,2,32.61,2,0,2,2.26,2,0.07,2,0.05,2,-999,9,2259,2,2356,2
      320696_3,    S04I,55,1,7,7,2,19960603,506,-61.9618,70.0168,4165,3136,0.1773,34.6752,2,34.6752,2,220,2,220.2,2,132.2,2,32.67,2,0,2,2.26,2,0.061,2,0.043,2,-999,9,2258.8,2,2355,2
      320696_3,    S04I,55,1,6,6,2,19960603,506,-61.9618,70.0168,4165,3319.3,0.0999,34.6722,2,34.6718,2,223.6,2,224.2,2,133.3,2,32.62,2,0,2,2.26,2,0.06,2,0.034,2,-999,9,2257.1,2,2354,2
      320696_3,    S04I,55,1,5,5,2,19960603,506,-61.9618,70.0168,4165,3507.6,0.022,34.6686,2,34.6689,2,226.2,2,226.5,2,133.5,2,32.52,2,0,2,2.25,2,0.087,2,0.059,2,-999,9,2258,2,2353,2
      320696_3,    S04I,55,1,4,4,2,19960603,506,-61.9618,70.0168,4165,3727.1,-0.0652,34.6656,2,34.6651,2,231.2,2,231.5,2,134.8,2,32.42,2,0,2,2.25,2,0.121,2,0.067,2,-999,9,2257.8,2,2353,2
      320696_3,    S04I,55,1,3,3,2,19960603,506,-61.9618,70.0168,4165,3938.6,-0.1373,34.6624,2,34.662,2,234.2,2,234.2,2,137.7,2,32.38,2,0,2,2.24,2,0.165,2,0.097,2,-999,9,2254.4,2,2353,2
      320696_3,    S04I,55,1,2,2,2,19960603,506,-61.9618,70.0168,4165,4081.5,-0.1784,34.6603,2,34.66,2,236.8,2,236.1,2,140.9,2,32.43,2,0,2,2.24,2,0.168,2,0.092,2,-999,9,2253.9,2,-999,9
      320696_3,    S04I,55,1,1,1,2,19960603,506,-61.9618,70.0168,4165,4186.6,-0.1848,34.6588,2,34.6598,2,237.2,2,-999,3,148.4,2,32.59,2,0,2,2.25,2,0.186,2,0.107,2,-999,9,2255.6,2,-999,9
      320696_3,    S04I,57,1,36,36,2,19960604,104,-61.7962,73.2583,4078,14.2,-1.7023,33.8348,2,33.8349,2,-999,4,342.9,2,38.2,2,27.62,2,0.27,2,1.91,2,-999,9,-999,9,-999,9,2166.3,2,2287,6
      320696_3,    S04I,57,1,35,35,2,19960604,104,-61.7962,73.2583,4078,33.9,-1.684,33.8342,7,33.8367,2,-999,4,342.6,2,38,2,27.62,2,0.27,2,1.91,2,-999,9,-999,9,-999,9,2166.6,2,-999,9
      320696_3,    S04I,57,1,34,34,2,19960604,104,-61.7962,73.2583,4078,54.6,-1.6749,33.836,2,33.8375,2,-999,4,342.6,2,38,2,27.62,2,0.27,2,1.91,2,-999,9,-999,9,-999,9,-999,9,-999,9
      320696_3,    S04I,57,1,32,32,2,19960604,104,-61.7962,73.2583,4078,104.1,0.7048,34.294,2,34.2986,2,-999,4,228.1,2,66,2,33.86,2,0.01,2,2.36,2,-999,9,-999,9,-999,9,-999,9,-999,9
      320696_3,    S04I,57,1,31,31,2,19960604,104,-61.7962,73.2583,4078,129.1,1.5331,34.4407,2,34.4393,2,-999,4,193.5,2,74.2,2,34.95,2,0.01,2,2.41,2,-999,9,-999,9,-999,9,-999,9,-999,9
      320696_3,    S04I,57,1,30,30,2,19960604,104,-61.7962,73.2583,4078,154.2,1.724,34.4853,2,34.4874,2,186.3,2,186.3,2,77.1,2,34.95,2,0,2,2.42,2,-999,9,-999,9,-999,9,-999,9,-999,9
      320696_3,    S04I,57,1,29,29,2,19960604,104,-61.7962,73.2583,4078,183.4,1.8227,34.5234,2,34.5246,2,179,2,179.3,2,79.1,2,34.8,2,0,2,2.4,2,-999,9,-999,9,-999,9,-999,9,-999,9
      320696_3,    S04I,57,1,28,28,2,19960604,104,-61.7962,73.2583,4078,217.3,1.8824,34.5507,2,34.5515,2,176.8,2,177,2,80.8,2,34.64,2,0.01,2,2.38,2,-999,9,-999,9,-999,9,-999,9,-999,9
      320696_3,    S04I,57,1,27,27,2,19960604,104,-61.7962,73.2583,4078,253.2,1.9349,34.5781,2,34.5772,2,174.6,2,174.1,2,82,2,34.38,2,0.01,2,2.36,2,-999,9,-999,9,-999,9,-999,9,-999,9
      320696_3,    S04I,57,1,26,26,2,19960604,104,-61.7962,73.2583,4078,302.3,1.9911,34.6118,2,34.611,2,174.9,2,176.8,2,82.9,2,33.86,2,0.01,2,2.33,2,-999,9,-999,9,-999,9,-999,9,-999,9
      320696_3,    S04I,57,1,25,25,2,19960604,104,-61.7962,73.2583,4078,351.2,2.0128,34.633,2,34.634,2,175.9,2,175.9,2,83.7,2,33.5,2,0.01,2,2.3,2,-999,9,-999,9,-999,9,-999,9,-999,9
      320696_3,    S04I,57,1,24,24,2,19960604,104,-61.7962,73.2583,4078,402.4,2.006,34.6529,2,34.6523,2,177.9,2,178.7,2,84.4,2,33.14,2,0,2,2.3,2,-999,9,-999,9,-999,9,-999,9,-999,9
      320696_3,    S04I,57,1,23,23,2,19960604,104,-61.7962,73.2583,4078,475.1,2.0155,34.6783,2,34.6793,2,180.8,2,178.3,2,84.4,2,32.47,2,0,2,2.26,2,-999,9,-999,9,-999,9,-999,9,-999,9
      320696_3,    S04I,57,1,22,22,2,19960604,104,-61.7962,73.2583,4078,551.5,1.9946,34.6991,2,34.6997,2,183.1,2,183.8,2,84.8,2,31.9,2,0,2,2.2,2,-999,9,-999,9,-999,9,-999,9,-999,9
      320696_3,    S04I,57,1,21,21,2,19960604,104,-61.7962,73.2583,4078,650.8,1.9553,34.7197,2,34.718,2,186.7,2,186.7,2,85.1,2,31.23,2,0,2,2.16,2,-999,9,-999,9,-999,9,-999,9,-999,9
      320696_3,    S04I,57,1,20,20,2,19960604,104,-61.7962,73.2583,4078,801,1.8567,34.7375,2,34.7379,2,191.9,2,191.9,2,86.9,2,30.45,2,0,2,2.11,2,-999,9,-999,9,-999,9,-999,9,2348,2
      320696_3,    S04I,57,1,19,19,2,19960604,104,-61.7962,73.2583,4078,950.8,1.7351,34.7452,2,34.7456,2,196.7,2,196.4,2,89.3,2,30.24,2,0,2,2.08,2,-999,9,-999,9,-999,9,-999,9,-999,9
      320696_3,    S04I,57,1,18,18,2,19960604,104,-61.7962,73.2583,4078,1101.3,1.6093,34.7481,7,34.7464,2,200.1,2,202.2,2,92.4,2,30.09,2,0,2,2.08,2,-999,9,-999,9,-999,9,-999,9,-999,9
      320696_3,    S04I,57,1,17,17,2,19960604,104,-61.7962,73.2583,4078,1249.4,1.4788,34.7455,7,34.7446,2,202,2,202.4,2,95.9,2,30.2,2,0,2,2.08,2,-999,9,-999,9,-999,9,-999,9,-999,9
      320696_3,    S04I,57,1,16,16,2,19960604,104,-61.7962,73.2583,4078,1394.8,1.3502,34.7399,7,34.7395,2,204.6,2,206.1,2,99.4,2,30.35,2,0,2,2.09,2,-999,9,-999,9,-999,9,-999,9,-999,9
      320696_3,    S04I,57,1,15,15,2,19960604,104,-61.7962,73.2583,4078,1588.8,1.1691,34.7315,7,34.7305,2,205.3,2,205.7,2,105,2,30.71,2,0,2,2.12,2,-999,9,-999,9,-999,9,-999,9,-999,9
      320696_3,    S04I,57,1,14,14,2,19960604,104,-61.7962,73.2583,4078,1791.1,0.9932,34.7209,7,34.7207,2,207.3,2,207.2,2,110.2,2,31.02,2,0,2,2.15,2,-999,9,-999,9,-999,9,-999,9,-999,9
      320696_3,    S04I,57,1,13,13,2,19960604,104,-61.7962,73.2583,4078,1990.9,0.8286,34.7101,7,34.7109,2,208.2,2,208.3,2,115.4,2,31.43,2,0,2,2.18,2,-999,9,-999,9,-999,9,-999,9,-999,9
      320696_3,    S04I,57,1,12,12,2,19960604,104,-61.7962,73.2583,4078,2201.4,0.6903,34.7017,7,34.702,2,209.4,2,209.2,2,119.5,2,31.79,2,0,2,2.2,2,-999,9,-999,9,-999,9,-999,9,-999,9
      320696_3,    S04I,57,1,11,11,2,19960604,104,-61.7962,73.2583,4078,2405.2,0.5451,34.6924,7,34.6926,2,211.7,2,211.1,2,123.2,2,32.11,2,0,2,2.22,2,-999,9,-999,9,-999,9,-999,9,-999,9
      320696_3,    S04I,57,1,10,10,2,19960604,104,-61.7962,73.2583,4078,2608.3,0.4299,34.685,7,34.6856,2,213.2,2,212.7,2,125.8,2,32.26,2,0,2,2.25,2,-999,9,-999,9,-999,9,-999,9,-999,9
      320696_3,    S04I,57,1,9,9,2,19960604,104,-61.7962,73.2583,4078,2809.4,0.3259,34.6805,7,34.6807,2,215.7,2,215.8,2,128.1,2,32.37,2,0,2,2.25,2,-999,9,-999,9,-999,9,-999,9,-999,9
      320696_3,    S04I,57,1,63,63,2,19960604,104,-61.7962,73.2583,4078,3011.5,0.2427,34.6769,7,34.677,2,218.2,2,218.2,2,129.8,2,32.42,2,0,2,2.25,2,-999,9,-999,9,-999,9,-999,9,-999,9
      320696_3,    S04I,57,1,7,7,2,19960604,104,-61.7962,73.2583,4078,3218.2,0.1649,34.6737,7,34.6738,2,221.3,2,221.8,2,132.6,2,32.36,2,0.01,2,2.25,2,-999,9,-999,9,-999,9,-999,9,-999,9
      320696_3,    S04I,57,1,6,6,2,19960604,104,-61.7962,73.2583,4078,3424.8,0.0886,34.6712,7,34.6713,2,224.7,2,225.7,2,-999,3,32.21,2,0,2,2.25,2,-999,9,-999,9,-999,9,-999,9,-999,9
      320696_3,    S04I,57,1,5,5,2,19960604,104,-61.7962,73.2583,4078,3632.6,0.0149,34.6691,7,34.6684,2,227.5,2,227.5,2,133.2,2,32.26,2,0,2,2.25,2,-999,9,-999,9,-999,9,-999,9,-999,9
      320696_3,    S04I,57,1,4,4,2,19960604,104,-61.7962,73.2583,4078,3784.3,-0.0392,34.6688,7,34.667,2,230.6,2,231.5,2,131.5,2,32.21,2,0,2,2.23,2,-999,9,-999,9,-999,9,-999,9,-999,9
      320696_3,    S04I,57,1,3,3,2,19960604,104,-61.7962,73.2583,4078,3888.5,-0.0709,34.6684,7,34.6666,2,233,2,232.6,2,131.3,2,32.11,2,0.01,2,2.23,2,-999,9,-999,9,-999,9,-999,9,-999,9
      320696_3,    S04I,57,1,2,2,2,19960604,104,-61.7962,73.2583,4078,3991.8,-0.1149,34.6637,7,34.6643,2,234.4,2,234.2,2,136,2,32.21,2,0,2,2.23,2,-999,9,-999,9,-999,9,-999,9,-999,9
      320696_3,    S04I,57,1,1,1,2,19960604,104,-61.7962,73.2583,4078,4096.4,-0.1457,34.6606,7,34.6625,2,-999,3,233.7,2,146.6,2,32.36,2,0.01,2,2.26,2,-999,9,-999,9,-999,9,-999,9,-999,9
      320696_3,    S04I,58,1,36,36,2,19960604,846,-61.806,74.9825,4000,29.9,-1.7801,33.8962,2,33.8978,2,-999,4,343.1,2,42.4,2,28.27,2,0.26,2,1.96,2,-999,9,-999,9,-999,9,2172.2,2,2286,2
      320696_3,    S04I,58,1,35,35,2,19960604,846,-61.806,74.9825,4000,53.8,-1.7771,33.8979,2,33.898,2,-999,4,343,2,43.1,2,28.32,2,0.26,2,1.96,2,-999,9,-999,9,-999,9,2172.7,2,2293,2
      320696_3,    S04I,58,1,34,34,2,19960604,846,-61.806,74.9825,4000,79.8,-1.7566,33.9013,2,33.9021,2,-999,4,342.1,2,43.1,2,28.32,2,0.26,2,1.96,2,-999,9,-999,9,-999,9,2173,2,2293,2
      320696_3,    S04I,58,1,33,33,2,19960604,846,-61.806,74.9825,4000,104,0.0879,34.2398,2,34.2349,2,-999,4,250.1,2,63.7,2,32.69,2,0.09,2,2.28,2,-999,9,-999,9,-999,9,2222.3,2,2311,2
      320696_3,    S04I,58,1,32,32,2,19960604,846,-61.806,74.9825,4000,155.6,1.6052,34.5066,2,34.5086,2,-999,4,184.4,2,79.2,2,34.67,2,0.01,2,2.39,2,-999,9,-999,9,-999,9,2254.1,2,2329,2
      320696_3,    S04I,58,1,29,29,2,19960604,846,-61.806,74.9825,4000,203.4,1.8537,34.5711,7,34.5695,2,175.7,2,175,2,82.6,2,34.46,2,0.01,2,2.37,2,-999,9,-999,9,-999,9,2258,2,2336,2
      320696_3,    S04I,58,1,28,28,2,19960604,846,-61.806,74.9825,4000,256,1.9352,34.6058,7,34.6029,2,173.7,2,173.6,2,83.8,2,34.15,2,0.01,2,2.35,2,-999,9,-999,9,-999,9,2258.8,2,2337,2
      320696_3,    S04I,58,1,27,27,2,19960604,846,-61.806,74.9825,4000,281.6,1.9566,34.6206,7,34.6185,2,173.5,2,172.8,2,83.8,2,33.89,2,0.01,2,2.33,2,-999,9,-999,9,-999,9,2258.8,2,2339,2
      320696_3,    S04I,58,1,26,26,2,19960604,846,-61.806,74.9825,4000,305.3,1.9796,34.6349,2,34.6356,2,173.6,2,173.4,2,84.8,2,33.63,2,0.01,2,2.32,2,-999,9,-999,9,-999,9,2258.7,2,2342,2
      320696_3,    S04I,58,1,25,25,2,19960604,846,-61.806,74.9825,4000,356.4,1.9879,34.66,7,-999,4,175.4,2,176.1,2,85.3,2,33.06,2,0.01,2,2.28,2,-999,9,-999,9,-999,9,2256.6,2,2340,2
      320696_3,    S04I,58,1,24,24,2,19960604,846,-61.806,74.9825,4000,380.8,1.9908,34.6682,7,34.668,2,176.7,2,176.4,2,85.1,2,32.91,2,0.01,2,2.27,2,-999,9,-999,9,-999,9,2255.6,2,2341,2
      320696_3,    S04I,58,1,23,23,2,19960604,846,-61.806,74.9825,4000,406.8,1.9924,34.6805,7,34.6759,2,176.8,2,178.4,2,85.4,2,32.65,2,0,2,2.25,2,-999,9,-999,9,-999,9,2255.8,2,2341,2
      320696_3,    S04I,58,1,22,22,2,19960604,846,-61.806,74.9825,4000,509.7,1.9619,34.7045,7,-999,4,182.9,2,183.3,2,85.8,2,31.77,2,0,2,2.19,2,-999,9,-999,9,-999,9,2252.3,2,2344,2
      320696_3,    S04I,58,1,21,21,2,19960604,846,-61.806,74.9825,4000,609.8,1.9232,34.723,7,34.7221,2,186.3,2,186.3,2,86.8,2,31.25,2,0,2,2.15,2,-999,9,-999,9,-999,9,2250.3,2,2343,2
      320696_3,    S04I,58,1,20,20,2,19960604,846,-61.806,74.9825,4000,708.9,1.8661,34.7357,7,34.7351,2,190,2,190.4,2,87.2,2,30.79,2,0,2,2.12,2,-999,9,-999,9,-999,9,2249.4,2,2345,2
      320696_3,    S04I,58,1,19,19,2,19960604,846,-61.806,74.9825,4000,804.4,1.8096,34.742,7,34.742,2,192.3,2,193.6,2,88.8,2,30.53,2,0,2,2.1,2,-999,9,-999,9,-999,9,2247.4,2,2346,6
      320696_3,    S04I,58,1,18,18,2,19960604,846,-61.806,74.9825,4000,1008,1.6457,34.7477,7,34.7471,2,197.6,2,200.8,2,92.2,2,30.17,2,0,2,2.08,2,-999,9,-999,9,-999,9,2249,2,2348,2
      320696_3,    S04I,58,1,17,17,2,19960604,846,-61.806,74.9825,4000,1110.6,1.5406,34.7485,7,34.7468,2,200,2,200.7,2,94.6,2,30.16,2,0,2,2.08,2,-999,9,-999,9,-999,9,2247.2,2,2352,2
      320696_3,    S04I,58,1,16,16,2,19960604,846,-61.806,74.9825,4000,1262.2,1.4124,34.7424,7,34.7444,2,202.5,2,203.1,2,98.1,2,30.32,2,0,2,2.09,2,-999,9,-999,9,-999,9,2251,2,2352,2
      320696_3,    S04I,58,1,15,15,2,19960604,846,-61.806,74.9825,4000,1467.2,1.2248,34.7344,7,34.7356,2,205.2,2,204.4,2,103.1,2,30.58,2,0,2,2.11,2,-999,9,-999,9,-999,9,2251.2,2,2354,2
      320696_3,    S04I,58,1,14,14,2,19960604,846,-61.806,74.9825,4000,1669.1,1.0549,34.726,7,34.7246,2,206.9,2,207.3,2,108.5,2,30.99,2,0,2,2.14,2,-999,9,-999,9,-999,9,2256.8,2,2358,2
      320696_3,    S04I,58,1,13,13,2,19960604,846,-61.806,74.9825,4000,1872.3,0.893,34.7154,7,34.7164,2,208.2,2,208.6,2,113.5,2,31.29,2,0,2,2.17,2,-999,9,-999,9,-999,9,2258.4,2,2359,2
      320696_3,    S04I,58,1,12,12,2,19960604,846,-61.806,74.9825,4000,2072.7,0.7346,34.7066,7,34.7066,2,210.9,2,209.7,2,118,2,31.65,2,0,2,2.19,2,-999,9,-999,9,-999,9,2258.2,2,2356,2
      320696_3,    S04I,58,1,11,11,2,19960604,846,-61.806,74.9825,4000,2277.4,0.6,34.6972,7,34.6977,2,212.6,2,210.7,2,121.9,2,32.01,2,0,2,2.22,2,-999,9,-999,9,-999,9,2259.6,2,2357,2
      320696_3,    S04I,58,1,10,10,2,19960604,846,-61.806,74.9825,4000,2481.7,0.4674,34.6906,7,34.6909,2,213.8,2,214.1,2,125.6,2,32.16,2,0,2,2.23,2,-999,9,-999,9,-999,9,2260.7,2,2357,2
      320696_3,    S04I,58,1,9,9,2,19960604,846,-61.806,74.9825,4000,2685,0.3623,34.6851,7,34.6842,2,216.2,2,215.6,2,128.6,2,32.36,2,0,2,2.24,2,-999,9,-999,9,-999,9,2260.9,2,2355,2
      320696_3,    S04I,58,1,63,63,2,19960604,846,-61.806,74.9825,4000,2890.5,0.2845,34.6818,7,34.6799,2,217.6,2,217.1,2,130.6,2,32.36,2,0,2,2.24,2,-999,9,-999,9,-999,9,2260,2,2355,2
      320696_3,    S04I,58,1,7,7,2,19960604,846,-61.806,74.9825,4000,3089.4,0.2004,34.6784,7,34.677,2,220.3,2,220.3,2,131.7,2,32.46,2,0,2,2.25,2,-999,9,-999,9,-999,9,2261.4,2,2355,2
      320696_3,    S04I,58,1,6,6,2,19960604,846,-61.806,74.9825,4000,3288.1,0.1056,34.6738,7,34.6748,2,224.5,2,225,2,131.8,2,32.36,2,0,2,2.24,2,-999,9,-999,9,-999,9,2258.7,2,2355,2
      320696_3,    S04I,58,1,5,5,2,19960604,846,-61.806,74.9825,4000,3499,0.0328,34.6727,7,34.6739,2,226.9,2,228,2,132.1,2,32.3,2,0,2,2.24,2,-999,9,-999,9,-999,9,2259.7,2,2354,2
      320696_3,    S04I,58,1,4,4,2,19960604,846,-61.806,74.9825,4000,3705.9,-0.0149,34.6711,7,34.6692,2,229.4,2,230,2,131.7,2,32.25,2,0,2,2.24,2,-999,9,-999,9,-999,9,2254.8,2,2353,2
      320696_3,    S04I,58,1,3,3,2,19960604,846,-61.806,74.9825,4000,3861.3,-0.0642,34.6726,7,34.6733,2,232.2,2,232.1,2,132.2,2,32.2,2,0,2,2.23,2,-999,9,-999,9,-999,9,2256.3,2,2354,2
      320696_3,    S04I,58,1,2,2,2,19960604,846,-61.806,74.9825,4000,3962.8,-0.0975,34.6695,7,-999,4,234,2,233.1,2,134.1,2,32.19,2,0,2,2.23,2,-999,9,-999,9,-999,9,2258,2,2354,2
      320696_3,    S04I,58,1,1,1,2,19960604,846,-61.806,74.9825,4000,4019.6,-0.1329,34.6526,7,34.669,2,-999,3,232.4,2,139.1,2,32.29,2,0,2,2.24,2,-999,9,-999,9,-999,9,2254,2,2354,2