BOTTLE,20211011SIOJHS,,,,,,,,,,,,,,,,,,,,,,,,,,,,,,,,,,,,,,
EXPOCODE,SECT_ID,STNNBR,CASTNO,SAMPNO,BTLNBR,BTLNBR_FLAG_W,DATE,TIME,LATITUDE,LONGITUDE,DEPTH,CTDPRS,CTDTMP,CTDSAL,CTDSAL_FLAG_W,SALNTY,SALNTY_FLAG_W,CTDOXY,CTDOXY_FLAG_W,OXYGEN,OXYGEN_FLAG_W,SILCAT,SILCAT_FLAG_W,NITRAT,NITRAT_FLAG_W,NITRIT,NITRIT_FLAG_W,PHSPHT,PHSPHT_FLAG_W,CFC-11,CFC-11_FLAG_W,CFC-12,CFC-12_FLAG_W,SF6,SF6_FLAG_W,TCARBN,TCARBN_FLAG_W,ALKALI,ALKALI_FLAG_W
,,,,,,,,,,,,DB,ITS-90,PSS-78,,PSS-78,,UMOL/KG,,UMOL/KG,,UMOL/KG,,UMOL/KG,,UMOL/KG,,UMOL/KG,,PMOL/KG,,PMOL/KG,,FMOL/KG,,UMOL/KG,,UMOL/KG,
      320696_3,    S04I,104,1,36,36,2,19960626,1522,-62.078,113.7553,4200,14.7,-0.5402,33.8992,2,33.8991,2,-999,4,338.8,2,26.1,2,27.39,2,0.31,2,1.9,2,6.323,2,3.065,2,-999,9,2158.8,2,2285,6
      320696_3,    S04I,104,1,35,35,2,19960626,1522,-62.078,113.7553,4200,29.3,-0.4993,33.9094,2,33.9113,2,-999,4,338.3,2,26.1,2,27.44,2,0.31,2,1.9,2,6.304,2,3.044,2,-999,9,2159.1,2,2290,2
      320696_3,    S04I,104,1,34,34,2,19960626,1522,-62.078,113.7553,4200,53.6,-0.5387,33.9197,2,33.9187,2,-999,4,338.6,2,27,2,27.49,2,0.31,2,1.91,2,6.327,2,3.014,2,-999,9,2160.5,2,2289,2
      320696_3,    S04I,104,1,33,33,2,19960626,1522,-62.078,113.7553,4200,78.8,-0.57,33.9865,2,33.9855,2,-999,4,337.2,2,29.6,2,27.69,2,0.29,2,1.94,2,6.294,2,3.014,2,-999,9,2168.7,2,2292,2
      320696_3,    S04I,104,1,32,32,2,19960626,1522,-62.078,113.7553,4200,110,-0.6912,33.9909,2,33.9892,2,-999,4,336.4,2,31.4,2,27.85,2,0.28,2,1.94,2,6.195,2,2.991,2,-999,9,2168.7,2,2299,2
      320696_3,    S04I,104,1,31,31,2,19960626,1522,-62.078,113.7553,4200,129.5,-0.071,34.0981,2,34.1268,2,-999,4,297,2,44.3,2,30.3,2,0.14,2,2.11,2,5.104,2,2.419,2,-999,9,2192.5,2,2301,2
      320696_3,    S04I,104,1,30,30,2,19960626,1522,-62.078,113.7553,4200,180,1.6357,34.4628,2,34.4516,2,-999,4,198.8,2,69.7,2,34.3,2,0,2,2.39,2,1.712,2,0.802,2,-999,9,2242.2,2,2325,2
      320696_3,    S04I,104,1,29,29,2,19960626,1522,-62.078,113.7553,4200,230.2,1.8734,34.5454,2,34.5439,2,183.2,2,184.8,2,75.2,2,34.05,2,0,2,2.36,2,0.944,2,0.474,2,-999,9,2250.5,2,2325,2
      320696_3,    S04I,104,1,28,28,2,19960626,1522,-62.078,113.7553,4200,280.6,1.942,34.594,2,34.5918,2,179.9,2,179,2,78.1,2,33.74,2,0,2,2.34,2,-999,9,-999,9,-999,9,2253.5,2,2333,2
      320696_3,    S04I,104,1,27,27,2,19960626,1522,-62.078,113.7553,4200,330.8,1.9674,34.6264,2,34.626,2,179.3,2,178.8,2,79.4,2,33.18,2,0,2,2.31,2,0.53,2,0.268,2,-999,9,2253.5,2,2331,2
      320696_3,    S04I,104,1,26,26,2,19960626,1522,-62.078,113.7553,4200,355.1,1.9662,34.6357,2,34.6354,2,178.5,2,178.9,2,80,2,33.13,2,0,2,2.29,2,-999,9,-999,9,-999,9,2253.6,2,2340,2
      320696_3,    S04I,104,1,25,25,2,19960626,1522,-62.078,113.7553,4200,380.1,1.9861,34.6476,2,34.6486,2,179.6,2,179.1,2,80.3,2,32.93,2,0,2,2.29,2,0.43,2,0.232,2,-999,9,2252.8,2,2333,2
      320696_3,    S04I,104,1,24,24,2,19960626,1522,-62.078,113.7553,4200,402.9,2.0026,34.6611,2,34.6622,2,180.2,2,180.1,2,80.8,2,32.62,2,0,2,2.26,2,-999,9,-999,9,-999,9,2252.2,2,2334,2
      320696_3,    S04I,104,1,23,23,2,19960626,1522,-62.078,113.7553,4200,503.1,1.8978,34.6915,2,34.6918,2,183.1,2,184.1,2,83.1,2,32.02,2,0,2,2.21,2,0.341,2,0.178,2,-999,9,2251.8,2,2342,2
      320696_3,    S04I,104,1,22,22,2,19960626,1522,-62.078,113.7553,4200,604.3,1.8465,34.7099,2,34.7093,2,185.5,2,187.3,2,85.1,2,31.56,2,0,2,2.18,2,-999,9,-999,9,-999,9,2250.2,2,2343,2
      320696_3,    S04I,104,1,21,21,2,19960626,1522,-62.078,113.7553,4200,706.6,1.7879,34.7268,2,34.7258,2,190.1,2,190.9,2,87.4,2,31.11,2,0,2,2.15,2,0.225,2,0.123,2,-999,9,2249.2,2,2345,2
      320696_3,    S04I,104,1,20,20,2,19960626,1522,-62.078,113.7553,4200,807.6,1.7188,34.7349,2,34.7349,2,193.6,2,193,2,89.5,2,30.86,2,0,2,2.14,2,-999,9,-999,9,-999,9,2248,2,2353,6
      320696_3,    S04I,104,1,19,19,2,19960626,1522,-62.078,113.7553,4200,907.5,1.6878,34.7439,2,34.7439,2,196.6,2,197,2,90.7,2,30.45,2,0,2,2.1,2,0.124,2,0.064,2,-999,9,2246.7,2,2350,2
      320696_3,    S04I,104,1,18,18,2,19960626,1522,-62.078,113.7553,4200,1132.2,1.4773,34.7404,2,34.741,2,199.8,2,200.6,2,96.3,2,30.55,2,0,2,2.1,2,-999,9,-999,9,-999,9,2249.6,2,2348,2
      320696_3,    S04I,104,1,17,17,2,19960626,1522,-62.078,113.7553,4200,1357.5,1.2946,34.735,2,34.7355,2,203.1,2,202.5,2,102.2,2,30.75,2,0,2,2.13,2,0.093,2,0.043,2,-999,9,2252.5,2,2355,2
      320696_3,    S04I,104,1,16,16,2,19960626,1522,-62.078,113.7553,4200,1553.2,1.0961,34.7243,2,34.7239,2,205,2,204.7,2,107.3,2,31.1,2,0,2,2.15,2,-999,9,-999,9,-999,9,2257.7,2,2352,2
      320696_3,    S04I,104,1,15,15,2,19960626,1522,-62.078,113.7553,4200,1752.6,0.932,34.7165,2,34.7168,2,206.9,2,206.9,2,112.5,2,31.4,2,0,2,2.18,2,0.112,2,0.056,2,-999,9,2256,2,2359,2
      320696_3,    S04I,104,1,14,14,2,19960626,1522,-62.078,113.7553,4200,1956.9,0.7682,34.7079,2,34.7083,2,208.6,2,208.7,2,116.3,2,31.7,2,0,2,2.2,2,-999,9,-999,9,-999,9,2258.5,2,2355,2
      320696_3,    S04I,104,1,13,13,2,19960626,1522,-62.078,113.7553,4200,2165.8,0.5941,34.6995,2,34.7001,2,211.2,2,210.9,2,121.4,2,31.9,2,0,2,2.22,2,0.139,2,0.061,2,-999,9,2260.9,2,2356,2
      320696_3,    S04I,104,1,12,12,2,19960626,1522,-62.078,113.7553,4200,2371.4,0.4478,34.693,2,34.693,2,214.1,2,214.3,2,124.1,2,32.05,2,0,2,2.23,2,-999,9,-999,9,-999,9,2260.8,2,2358,2
      320696_3,    S04I,104,1,11,11,2,19960626,1522,-62.078,113.7553,4200,2577.1,0.317,34.6878,2,34.6879,2,217.7,2,217.8,2,126.9,2,32.15,2,0,2,2.23,2,0.217,2,0.106,2,-999,9,2258.9,2,2360,2
      320696_3,    S04I,104,1,10,10,2,19960626,1522,-62.078,113.7553,4200,2783.1,0.2136,34.6849,2,34.6834,2,221.5,2,221.3,2,129.2,2,32.15,2,0,2,2.24,2,-999,9,-999,9,-999,9,2260.1,2,-999,9
      320696_3,    S04I,104,1,9,9,2,19960626,1522,-62.078,113.7553,4200,2992,0.1466,34.6819,2,34.681,2,223.4,2,223.9,2,131.1,2,32.19,2,0,2,2.23,2,0.296,2,0.149,2,-999,9,2258,2,2356,2
      320696_3,    S04I,104,1,63,63,2,19960626,1522,-62.078,113.7553,4200,3194.7,0.0687,34.6788,2,34.6781,2,226.4,2,226.9,2,128.8,2,32.15,2,0,2,2.23,2,-999,9,-999,9,-999,9,2255,2,2358,2
      320696_3,    S04I,104,1,7,7,2,19960626,1522,-62.078,113.7553,4200,3398.5,0.0115,34.6762,2,34.6755,2,229.4,2,229.6,2,127.7,2,32.09,2,0,2,2.23,2,0.549,2,0.28,2,-999,9,2256.9,2,2361,2
      320696_3,    S04I,104,1,6,6,2,19960626,1522,-62.078,113.7553,4200,3604.2,-0.0466,34.6741,2,34.6732,2,232.1,2,232,2,126,2,31.99,2,0,2,2.22,2,-999,9,-999,9,-999,9,2256.5,2,-999,9
      320696_3,    S04I,104,1,5,5,2,19960626,1522,-62.078,113.7553,4200,3810.1,-0.0861,34.6733,2,34.672,2,234.1,2,233.8,2,129.6,2,32.04,2,0,2,2.22,2,0.809,2,0.402,2,-999,9,2255.1,2,2355,2
      320696_3,    S04I,104,1,39,39,2,19960626,1522,-62.078,113.7553,4200,4011.4,-0.1149,34.6709,2,34.6704,2,236.4,2,235.8,2,126.7,2,31.94,2,0,2,2.22,2,-999,9,-999,9,-999,9,2255.6,2,2350,2
      320696_3,    S04I,104,1,3,3,2,19960626,1522,-62.078,113.7553,4200,4111,-0.1411,34.6695,2,34.6684,2,237.5,2,237.6,2,125.5,2,31.89,2,0,2,2.21,2,1.291,2,0.617,2,-999,9,2255.5,2,2355,2
      320696_3,    S04I,104,1,2,2,2,19960626,1522,-62.078,113.7553,4200,4182,-0.1677,34.6667,2,34.6657,2,238.4,2,238.1,2,128.3,2,31.88,2,0,2,2.21,2,1.507,2,0.705,2,-999,9,2255.1,2,2353,2
      320696_3,    S04I,104,1,1,1,2,19960626,1522,-62.078,113.7553,4200,4233.3,-0.1799,34.6661,2,34.6659,2,239.1,2,239.2,2,126.9,2,31.88,2,0,2,2.22,2,1.641,2,0.764,2,-999,9,2254.9,2,2355,2
      320696_3,    S04I,105,1,35,35,2,19960626,2242,-62.0017,115.331,4255,15.5,-1.3282,33.9425,2,33.9422,2,-999,4,345,2,33.4,2,27.79,2,0.27,2,1.95,2,6.467,2,3.094,2,-999,9,2166.7,2,-999,9
      320696_3,    S04I,105,1,36,36,2,19960626,2242,-62.0017,115.331,4255,15.5,-1.3307,33.9434,2,33.9408,2,-999,4,345.1,2,33.4,2,27.79,2,0.27,2,1.95,2,6.608,2,3.143,2,-999,9,2166.7,2,2295,2
      320696_3,    S04I,105,1,34,34,2,19960626,2242,-62.0017,115.331,4255,35.5,-1.3045,33.9458,2,33.9459,2,-999,4,344.6,2,33.2,2,27.79,2,0.27,2,1.95,2,6.49,2,3.132,2,-999,9,2167.9,2,-999,9
      320696_3,    S04I,105,1,33,33,2,19960626,2242,-62.0017,115.331,4255,55.6,-0.9927,33.9772,2,33.9735,2,-999,4,342,2,31.2,2,27.68,2,0.27,2,1.95,2,6.429,2,3.067,2,-999,9,2168.6,2,-999,9
      320696_3,    S04I,105,1,32,32,2,19960626,2242,-62.0017,115.331,4255,86.9,-1.0971,33.9929,2,33.9876,2,-999,4,338.4,2,33.5,2,27.9,2,0.26,2,1.95,2,6.306,2,3.011,2,-999,9,2171.6,2,-999,9
      320696_3,    S04I,105,1,31,31,2,19960626,2242,-62.0017,115.331,4255,116,1.0922,34.3706,2,34.3519,2,225.4,2,229.2,2,63.1,2,33.54,2,0.01,2,2.34,2,2.954,2,1.399,2,-999,9,2229.7,2,-999,9
      320696_3,    S04I,105,1,30,30,2,19960626,2242,-62.0017,115.331,4255,146.7,1.571,34.475,2,34.4714,2,194.7,2,195.2,2,71.1,2,34.41,2,0,2,2.39,2,1.633,2,0.794,2,-999,9,2246.8,2,-999,9
      320696_3,    S04I,105,1,29,29,2,19960626,2242,-62.0017,115.331,4255,176.2,1.7389,34.5337,2,34.5317,2,186.7,2,183,2,75.4,2,34.5,2,0,2,2.4,2,1.069,2,0.566,2,-999,9,2250.3,2,-999,9
      320696_3,    S04I,105,1,28,28,2,19960626,2242,-62.0017,115.331,4255,205.9,1.8446,34.569,2,34.5672,2,177,2,178.4,2,77.3,2,34.25,2,0,2,2.39,2,-999,9,-999,9,-999,9,2253.7,2,-999,9
      320696_3,    S04I,105,1,27,27,2,19960626,2242,-62.0017,115.331,4255,246.2,1.8958,34.6069,2,34.6069,2,175.5,2,175.6,2,79.5,2,33.79,2,0,2,2.36,2,-999,9,-999,9,-999,9,2256.1,2,-999,9
      320696_3,    S04I,105,1,26,26,2,19960626,2242,-62.0017,115.331,4255,295.5,1.9182,34.6368,2,34.6373,2,176,2,176.4,2,81.2,2,33.44,2,0,2,2.33,2,0.492,2,0.263,2,-999,9,2255.6,2,-999,9
      320696_3,    S04I,105,1,25,25,2,19960626,2242,-62.0017,115.331,4255,340.5,1.9247,34.656,2,34.6568,2,176.9,2,177.7,2,81.9,2,33.03,2,0,2,2.29,2,0.432,2,0.225,2,-999,9,2254.5,2,-999,9
      320696_3,    S04I,105,1,24,24,2,19960626,2242,-62.0017,115.331,4255,386.8,1.9072,34.6723,2,34.6729,2,178.6,2,179.6,2,82.8,2,32.63,2,0,2,2.27,2,-999,9,-999,9,-999,9,2253.3,2,-999,9
      320696_3,    S04I,105,1,23,23,2,19960626,2242,-62.0017,115.331,4255,457.5,1.8642,34.6923,2,34.6929,2,182.6,2,183.2,2,83.9,2,32.07,2,0,2,2.22,2,0.343,2,0.176,2,-999,9,2252.8,2,-999,9
      320696_3,    S04I,105,1,22,22,2,19960626,2242,-62.0017,115.331,4255,556.6,1.8254,34.7092,2,34.7098,2,185.7,2,-999,4,85.3,2,31.56,2,0,2,2.19,2,-999,9,-999,9,-999,9,2250.6,2,-999,9
      320696_3,    S04I,105,1,21,21,2,19960626,2242,-62.0017,115.331,4255,685.2,1.766,34.7286,2,34.7293,2,189.7,2,191,2,87.4,2,30.96,2,0,2,2.14,2,0.222,2,0.113,2,-999,9,2248.6,2,-999,9
      320696_3,    S04I,105,1,20,20,2,19960626,2242,-62.0017,115.331,4255,808.1,1.6954,34.7362,2,34.7364,2,193.8,2,194.3,2,89.5,2,30.75,2,0,2,2.13,2,-999,9,-999,9,-999,9,2249.7,2,-999,9
      320696_3,    S04I,105,1,19,19,2,19960626,2242,-62.0017,115.331,4255,969.8,1.5563,34.7404,2,34.7397,2,198.4,2,198.8,2,93.1,2,30.5,2,0,2,2.12,2,0.15,2,0.078,2,-999,9,2249.1,2,-999,9
      320696_3,    S04I,105,1,18,18,2,19960626,2242,-62.0017,115.331,4255,1114.6,1.4274,34.7382,2,34.7393,2,200.9,2,200.8,2,96.9,2,30.5,2,0,2,2.12,2,-999,9,-999,9,-999,9,2249.3,2,-999,9
      320696_3,    S04I,105,1,17,17,2,19960626,2242,-62.0017,115.331,4255,1316.5,1.2552,34.7314,2,34.7326,2,202.8,2,202.4,2,101.8,2,30.75,2,0,2,2.15,2,0.136,2,0.073,2,-999,9,2252,2,-999,9
      320696_3,    S04I,105,1,16,16,2,19960626,2242,-62.0017,115.331,4255,1518.9,1.0896,34.7241,2,34.7245,2,205,2,204.7,2,107.2,2,31.05,2,0,2,2.16,2,-999,9,-999,9,-999,9,2254.3,2,-999,9
      320696_3,    S04I,105,1,15,15,2,19960626,2242,-62.0017,115.331,4255,1721.2,0.9397,34.7172,2,34.7173,2,206.2,2,206,2,111.5,2,31.35,2,0,2,2.19,2,0.112,2,0.084,2,-999,9,2255.7,2,-999,9
      320696_3,    S04I,105,1,14,14,2,19960626,2242,-62.0017,115.331,4255,1919.8,0.7679,34.7068,2,34.7074,2,208.4,2,207.9,2,116.1,2,31.66,2,0,2,2.2,2,-999,9,-999,9,-999,9,2258.1,2,-999,9
      320696_3,    S04I,105,1,13,13,2,19960626,2242,-62.0017,115.331,4255,2124.5,0.6158,34.6996,2,34.6998,2,211.2,2,210.2,2,119.9,2,31.91,2,0,2,2.23,2,0.139,2,0.08,2,-999,9,2258.3,2,-999,9
      320696_3,    S04I,105,1,12,12,2,19960626,2242,-62.0017,115.331,4255,2326.6,0.4897,34.6948,2,34.6952,2,213.7,2,213.2,2,123.2,2,32.01,2,0,2,2.23,2,-999,9,-999,9,-999,9,2258.1,2,-999,9
      320696_3,    S04I,105,1,11,11,2,19960626,2242,-62.0017,115.331,4255,2527.5,0.3609,34.6893,2,34.6893,2,217.5,2,-999,3,125.9,2,32.11,2,0,2,2.24,2,0.146,2,0.108,2,-999,9,2259.6,2,-999,9
      320696_3,    S04I,105,1,10,10,2,19960626,2242,-62.0017,115.331,4255,2736,0.2479,34.684,2,34.684,2,220.6,2,219.8,2,126.6,2,32.16,2,0,2,2.24,2,-999,9,-999,9,-999,9,2257.9,2,-999,9
      320696_3,    S04I,105,1,9,9,2,19960626,2242,-62.0017,115.331,4255,2938.1,0.1695,34.6819,2,34.6817,2,223.6,2,223.4,2,128.8,2,32.16,2,0,2,2.24,2,0.28,2,0.153,2,-999,9,2255.9,2,-999,9
      320696_3,    S04I,105,1,63,63,2,19960626,2242,-62.0017,115.331,4255,3145,0.1116,34.68,2,34.6797,2,225,2,225.2,2,130.1,2,32.16,2,0,2,2.24,2,-999,9,-999,9,-999,9,2257.9,2,-999,9
      320696_3,    S04I,105,1,7,7,2,19960626,2242,-62.0017,115.331,4255,3347.4,0.0412,34.6774,2,34.6771,2,228,2,228.4,2,129.1,2,32.11,2,0,2,2.23,2,0.424,2,0.227,2,-999,9,2255.7,2,-999,9
      320696_3,    S04I,105,1,6,6,2,19960626,2242,-62.0017,115.331,4255,3549.8,-0.0136,34.6755,2,34.6755,2,230.5,2,231,2,127.8,2,32.06,2,0,2,2.22,2,-999,9,-999,9,-999,9,2255.5,2,-999,9
      320696_3,    S04I,105,1,5,5,2,19960626,2242,-62.0017,115.331,4255,3745,-0.0514,34.674,2,34.6736,2,232.8,2,232.5,2,129.1,2,32.06,2,0,2,2.23,2,0.677,2,0.346,2,-999,9,2254.5,2,-999,9
      320696_3,    S04I,105,1,39,39,2,19960626,2242,-62.0017,115.331,4255,3952.2,-0.0959,34.6721,2,34.6718,2,235.4,2,235.7,2,126.3,2,31.95,2,0,2,2.22,2,-999,9,-999,9,-999,9,2253.4,2,-999,9
      320696_3,    S04I,105,1,3,3,2,19960626,2242,-62.0017,115.331,4255,4105,-0.1286,34.6704,2,34.6702,2,236.4,2,236.5,2,127.6,2,31.91,2,0,2,2.22,2,1.161,2,0.562,2,-999,9,2255.4,2,-999,9
      320696_3,    S04I,105,1,2,2,2,19960626,2242,-62.0017,115.331,4255,4207.4,-0.1751,34.6663,2,34.6671,2,238.5,2,238.2,2,131.4,2,31.96,2,0,2,2.22,2,-999,9,-999,9,-999,9,2254.6,2,-999,9
      320696_3,    S04I,105,1,1,1,2,19960626,2242,-62.0017,115.331,4255,4281.5,-0.1699,34.6664,2,34.6665,2,239.4,2,238.8,2,130.9,2,31.95,2,0.01,2,2.23,2,1.584,2,0.752,2,-999,9,2254.7,2,-999,9