BOTTLE,20211011SIOJHS,,,,,,,,,,,,,,,,,,,,,,,,,,,,,,,,,,,,,,
EXPOCODE,SECT_ID,STNNBR,CASTNO,SAMPNO,BTLNBR,BTLNBR_FLAG_W,DATE,TIME,LATITUDE,LONGITUDE,DEPTH,CTDPRS,CTDTMP,CTDSAL,CTDSAL_FLAG_W,SALNTY,SALNTY_FLAG_W,CTDOXY,CTDOXY_FLAG_W,OXYGEN,OXYGEN_FLAG_W,SILCAT,SILCAT_FLAG_W,NITRAT,NITRAT_FLAG_W,NITRIT,NITRIT_FLAG_W,PHSPHT,PHSPHT_FLAG_W,CFC-11,CFC-11_FLAG_W,CFC-12,CFC-12_FLAG_W,SF6,SF6_FLAG_W,TCARBN,TCARBN_FLAG_W,ALKALI,ALKALI_FLAG_W
,,,,,,,,,,,,DB,ITS-90,PSS-78,,PSS-78,,UMOL/KG,,UMOL/KG,,UMOL/KG,,UMOL/KG,,UMOL/KG,,UMOL/KG,,PMOL/KG,,PMOL/KG,,FMOL/KG,,UMOL/KG,,UMOL/KG,
      320696_3,    S04I,21,1,36,36,2,19960522,622,-65.5425,34.927,4579,17,-1.8589,34.1749,2,34.1781,2,-999,4,334.1,2,59.3,2,28.5,2,0.17,2,2.01,2,6.265,2,3.083,2,-999,9,2198.4,2,-999,9
      320696_3,    S04I,21,1,35,35,2,19960522,622,-65.5425,34.927,4579,51.3,-1.8575,34.1751,2,34.1771,2,-999,4,334.5,2,59.3,2,28.44,2,0.18,2,2,2,6.266,2,3.076,2,-999,9,2199.8,2,-999,9
      320696_3,    S04I,21,1,34,34,2,19960522,622,-65.5425,34.927,4579,86.2,-1.8537,34.175,2,34.1801,2,-999,4,333.3,2,59.4,2,28.49,2,0.18,2,2,2,6.254,2,3.063,2,-999,9,-999,9,-999,9
      320696_3,    S04I,21,1,33,33,2,19960522,622,-65.5425,34.927,4579,111.6,-1.2862,34.2988,2,34.3069,2,-999,4,294.4,2,67.5,2,30.45,2,0.09,2,2.1,2,4.923,2,2.359,2,-999,9,-999,9,-999,9
      320696_3,    S04I,21,1,32,32,2,19960522,622,-65.5425,34.927,4579,141.7,-0.635,34.4352,2,34.4386,2,-999,4,262.2,2,75.1,2,31.46,2,0.01,2,2.16,2,3.759,2,1.751,2,-999,9,-999,9,-999,9
      320696_3,    S04I,21,1,31,31,2,19960522,622,-65.5425,34.927,4579,181.9,0.2306,34.5437,2,34.546,2,-999,4,232.4,2,82.2,2,32.05,2,0.01,2,2.21,2,2.413,2,1.153,2,-999,9,-999,9,-999,9
      320696_3,    S04I,21,1,30,30,2,19960522,622,-65.5425,34.927,4579,222.1,0.7176,34.6074,2,34.6114,2,-999,4,213.7,2,86.8,2,32.14,2,0,2,2.21,2,-999,9,-999,9,-999,9,-999,9,-999,9
      320696_3,    S04I,21,1,29,29,2,19960522,622,-65.5425,34.927,4579,257.1,0.9018,34.6403,2,34.642,2,-999,4,209,2,88.8,2,31.94,2,0,2,2.21,2,1.27,2,0.608,2,-999,9,-999,9,-999,9
      320696_3,    S04I,21,1,28,28,2,19960522,622,-65.5425,34.927,4579,297.4,0.8461,34.6442,2,34.644,2,-999,4,211.7,2,89.9,2,31.84,2,0,2,2.19,2,1.284,2,0.618,2,-999,9,-999,9,-999,9
      320696_3,    S04I,21,1,27,27,2,19960522,622,-65.5425,34.927,4579,332.8,0.885,34.6595,2,34.6607,2,-999,4,210.7,2,91.9,2,31.69,2,0,2,2.18,2,1.1,2,0.542,2,-999,9,-999,9,-999,9
      320696_3,    S04I,21,1,26,26,2,19960522,622,-65.5425,34.927,4579,377.8,0.8757,34.6701,2,34.6709,2,-999,4,210.9,2,94.3,2,31.49,2,0,2,2.16,2,0.982,2,0.461,2,-999,9,-999,9,-999,9
      320696_3,    S04I,21,1,25,25,2,19960522,622,-65.5425,34.927,4579,428.2,1.0136,34.6909,2,34.6919,2,-999,4,207.1,2,96.5,2,31.43,2,0,2,2.16,2,0.684,2,0.344,2,-999,9,-999,9,-999,9
      320696_3,    S04I,21,1,24,24,2,19960522,622,-65.5425,34.927,4579,478.3,1.0284,34.6986,2,34.6994,2,-999,3,207.3,2,98.5,2,31.33,2,0,2,2.16,2,0.585,2,0.325,2,-999,9,-999,9,-999,9
      320696_3,    S04I,21,1,23,23,2,19960522,622,-65.5425,34.927,4579,538.5,0.9489,34.698,2,34.6991,2,-999,3,208.7,2,100.3,2,31.37,2,0.01,2,2.16,2,0.58,2,0.327,2,-999,9,-999,9,-999,9
      320696_3,    S04I,21,1,22,22,2,19960522,622,-65.5425,34.927,4579,608.6,0.8977,34.699,2,34.6991,2,-999,3,209.3,2,102.2,2,31.42,2,0,2,2.18,2,0.532,2,0.28,2,-999,9,-999,9,-999,9
      320696_3,    S04I,21,1,21,21,2,19960522,622,-65.5425,34.927,4579,709.1,0.7839,34.6964,2,34.6964,2,-999,3,210.3,2,105.1,2,31.57,2,0,2,2.17,2,0.499,2,0.27,2,-999,9,-999,9,-999,9
      320696_3,    S04I,21,1,20,20,2,19960522,622,-65.5425,34.927,4579,809.8,0.6801,34.6922,2,34.6913,2,-999,3,211.2,2,108.1,2,31.66,2,0,2,2.18,2,0.505,2,0.279,2,-999,9,-999,9,-999,9
      320696_3,    S04I,21,1,19,19,2,19960522,622,-65.5425,34.927,4579,961.1,0.5561,34.6875,2,34.6875,2,-999,3,213.2,2,112,2,31.91,2,0,2,2.2,2,0.47,2,0.253,2,-999,9,-999,9,-999,9
      320696_3,    S04I,21,1,18,18,2,19960522,622,-65.5425,34.927,4579,1112.6,0.4392,34.6828,2,34.6834,2,-999,3,214.3,2,116.2,2,32.1,2,0,2,2.21,2,0.421,2,0.232,2,-999,9,-999,9,-999,9
      320696_3,    S04I,21,1,17,17,2,19960522,622,-65.5425,34.927,4579,1264,0.3622,34.6812,2,34.6818,2,-999,3,214.2,2,119.9,2,32.35,2,0,2,2.23,2,0.332,2,0.2,2,-999,9,-999,9,-999,9
      320696_3,    S04I,21,1,16,16,2,19960522,622,-65.5425,34.927,4579,1466.1,0.2278,34.6754,2,34.6757,2,-999,3,217.2,2,122.7,2,32.44,2,0,2,2.24,2,0.346,2,0.197,2,-999,9,-999,9,-999,9
      320696_3,    S04I,21,1,15,15,2,19960522,622,-65.5425,34.927,4579,1668.4,0.1309,34.67,2,34.6708,2,-999,3,221.3,2,123.1,2,32.39,2,0,2,2.24,2,0.4,2,0.225,2,-999,9,-999,9,-999,9
      320696_3,    S04I,21,1,14,14,2,19960522,622,-65.5425,34.927,4579,1870.7,0.039,34.6678,2,-999,3,-999,3,224.4,2,124.7,2,32.43,2,0,2,2.24,2,0.41,2,0.24,2,-999,9,-999,9,-999,9
      320696_3,    S04I,21,1,13,13,2,19960522,622,-65.5425,34.927,4579,2124.4,-0.043,34.6643,2,34.665,2,-999,3,228.3,2,125.1,2,32.33,2,0,2,2.24,2,0.447,2,0.253,2,-999,9,-999,9,-999,9
      320696_3,    S04I,21,1,12,12,2,19960522,622,-65.5425,34.927,4579,2378.4,-0.1358,34.6611,2,34.6605,2,-999,3,233.2,2,123.5,2,32.18,2,0,2,2.23,2,0.69,2,0.371,2,-999,9,-999,9,-999,9
      320696_3,    S04I,21,1,11,11,2,19960522,622,-65.5425,34.927,4579,2632.9,-0.1808,34.6585,2,34.6585,2,-999,3,236.9,2,122,2,32.13,2,0,2,2.22,2,0.873,2,0.431,2,-999,9,-999,9,-999,9
      320696_3,    S04I,21,1,10,10,2,19960522,622,-65.5425,34.927,4579,2887.4,-0.2013,34.6571,2,34.6577,2,-999,3,238.3,2,121.7,2,32.08,2,0,2,2.22,2,0.96,2,0.482,2,-999,9,-999,9,-999,9
      320696_3,    S04I,21,1,9,9,2,19960522,622,-65.5425,34.927,4579,3142.3,-0.2088,34.6573,2,34.6573,2,-999,3,239.3,2,122.4,2,32.02,2,0,2,2.21,2,0.975,2,0.486,2,-999,9,-999,9,-999,9
      320696_3,    S04I,21,1,37,37,2,19960522,622,-65.5425,34.927,4579,3397.3,-0.2323,34.6565,2,34.6558,2,-999,3,241.1,2,123.3,2,32.02,2,0,2,2.21,2,0.948,2,0.48,2,-999,9,-999,9,-999,9
      320696_3,    S04I,21,1,7,7,2,19960522,622,-65.5425,34.927,4579,3652.6,-0.2722,34.653,2,34.6536,2,-999,3,244.5,2,121.2,2,31.82,2,0,2,2.2,2,1.177,2,0.583,2,-999,9,-999,9,-999,9
      320696_3,    S04I,21,1,6,6,2,19960522,622,-65.5425,34.927,4579,3908.5,-0.2796,34.6528,2,34.6526,2,-999,3,245.3,2,122.3,2,31.91,2,0,2,2.2,2,1.073,2,0.548,2,-999,9,-999,9,-999,9
      320696_3,    S04I,21,1,5,5,2,19960522,622,-65.5425,34.927,4579,4113.3,-0.2956,34.6522,2,34.6524,2,-999,3,246.4,2,122.7,2,31.96,2,0,2,2.2,2,1.064,2,0.53,2,-999,9,-999,9,-999,9
      320696_3,    S04I,21,1,4,4,2,19960522,622,-65.5425,34.927,4579,4267.2,-0.3107,34.6512,2,34.651,2,-999,3,247.8,2,122.4,2,31.91,2,0,2,2.2,2,1.132,2,0.551,2,-999,9,-999,9,-999,9
      320696_3,    S04I,21,1,3,3,2,19960522,622,-65.5425,34.927,4579,4421.2,-0.3337,34.6492,2,34.6504,2,-999,3,249.5,2,123.7,2,31.9,2,0,2,2.2,2,1.087,2,0.562,2,-999,9,-999,9,-999,9
      320696_3,    S04I,21,1,2,2,2,19960522,622,-65.5425,34.927,4579,4523.9,-0.3537,34.6487,2,34.6486,2,-999,3,249.4,2,127.1,2,32,2,0,2,2.21,2,1.072,2,0.534,2,-999,9,-999,9,-999,9
      320696_3,    S04I,21,1,1,1,2,19960522,622,-65.5425,34.927,4579,4601.2,-0.3466,34.6481,7,34.6492,2,-999,3,250.1,2,127.6,2,32.04,2,0,2,2.21,2,1.042,2,0.527,2,-999,9,-999,9,-999,9
      320696_3,    S04I,22,1,36,36,2,19960522,1521,-65.3025,36.1262,4693,14.8,-1.8315,34.0403,2,34.0431,2,-999,4,341.3,2,51.7,2,26.89,2,0.25,2,1.88,2,6.6,2,3.173,2,-999,9,2182.2,2,2311,6
      320696_3,    S04I,22,1,35,35,2,19960522,1521,-65.3025,36.1262,4693,40,-1.8326,34.0549,2,34.0554,2,-999,4,342.2,2,52.6,2,27.08,2,0.24,2,1.89,2,-999,9,-999,9,-999,9,2182.2,2,-999,9
      320696_3,    S04I,22,1,34,34,2,19960522,1521,-65.3025,36.1262,4693,67.2,-1.8295,34.0549,2,34.0566,2,-999,4,340.6,2,52.6,2,27.03,2,0.24,2,1.89,2,6.537,2,3.166,2,-999,9,-999,9,-999,9
      320696_3,    S04I,22,1,33,33,2,19960522,1521,-65.3025,36.1262,4693,89.8,0.0851,34.448,2,34.4251,2,-999,4,245.6,2,74.9,2,31.92,2,0.11,2,2.22,2,-999,9,-999,9,-999,9,-999,9,-999,9
      320696_3,    S04I,22,1,32,32,2,19960522,1521,-65.3025,36.1262,4693,115.6,1.0727,34.577,2,34.5661,2,-999,4,194.6,2,87.2,2,33.73,2,0.01,2,2.33,2,1.504,2,0.695,2,-999,9,-999,9,-999,9
      320696_3,    S04I,22,1,31,31,2,19960522,1521,-65.3025,36.1262,4693,140.7,1.315,34.6119,2,34.6071,2,-999,4,189.1,2,89.3,2,33.63,2,0,2,2.31,2,-999,9,-999,9,-999,9,-999,9,-999,9
      320696_3,    S04I,22,1,30,30,2,19960522,1521,-65.3025,36.1262,4693,191.3,1.4365,34.6497,2,34.6519,2,-999,4,187.8,2,91,2,32.94,2,0,2,2.27,2,0.739,2,0.381,2,-999,9,-999,9,-999,9
      320696_3,    S04I,22,1,29,29,2,19960522,1521,-65.3025,36.1262,4693,231.2,1.4614,34.6697,2,34.6682,2,190.4,2,188.1,2,92.2,2,32.64,2,0.01,2,2.24,2,-999,9,-999,9,-999,9,-999,9,-999,9
      320696_3,    S04I,22,1,28,28,2,19960522,1521,-65.3025,36.1262,4693,255.5,1.4873,34.6822,2,34.6828,2,189.3,2,188.3,2,93.1,2,32.34,2,0.01,2,2.23,2,0.483,2,0.259,2,-999,9,-999,9,-999,9
      320696_3,    S04I,22,1,27,27,2,19960522,1521,-65.3025,36.1262,4693,281.5,1.4971,34.6925,2,34.6918,2,188.5,2,189.8,2,93.5,2,32.19,2,0.01,2,2.21,2,-999,9,-999,9,-999,9,-999,9,-999,9
      320696_3,    S04I,22,1,26,26,2,19960522,1521,-65.3025,36.1262,4693,307,1.5141,34.7004,2,34.7005,2,188.5,2,189.1,2,94,2,31.95,2,0,2,2.2,2,0.358,2,0.198,2,-999,9,-999,9,-999,9
      320696_3,    S04I,22,1,25,25,2,19960522,1521,-65.3025,36.1262,4693,331.9,1.5108,34.7063,2,34.7052,2,190.6,2,189.7,2,94.3,2,31.8,2,0,2,2.19,2,-999,9,-999,9,-999,9,-999,9,-999,9
      320696_3,    S04I,22,1,24,24,2,19960522,1521,-65.3025,36.1262,4693,382.3,1.4812,34.7137,2,34.7125,2,192.9,2,192,2,95.4,2,31.6,2,0,2,2.17,2,0.285,2,0.162,2,-999,9,-999,9,-999,9
      320696_3,    S04I,22,1,23,23,2,19960522,1521,-65.3025,36.1262,4693,433,1.4319,34.7191,2,34.7186,2,194.1,2,194.1,2,96.9,2,31.4,2,0,2,2.16,2,-999,9,-999,9,-999,9,-999,9,-999,9
      320696_3,    S04I,22,1,22,22,2,19960522,1521,-65.3025,36.1262,4693,488.4,1.3735,34.7212,2,34.7213,2,196.6,2,196.9,2,98.5,2,31.3,2,0,2,2.15,2,0.227,2,0.122,2,-999,9,-999,9,-999,9
      320696_3,    S04I,22,1,21,21,2,19960522,1521,-65.3025,36.1262,4693,690.3,1.1695,34.7215,2,34.7211,2,200.1,2,200.2,2,103.8,2,31.2,2,0,2,2.14,2,-999,9,-999,9,-999,9,-999,9,-999,9
      320696_3,    S04I,22,1,20,20,2,19960522,1521,-65.3025,36.1262,4693,892.4,0.9559,34.7143,2,34.7136,2,204,2,203.1,2,109.7,2,31.49,2,0,2,2.17,2,0.164,2,0.096,2,-999,9,2258.8,2,2360,6
      320696_3,    S04I,22,1,19,19,2,19960522,1521,-65.3025,36.1262,4693,1094.8,0.7817,34.7057,2,34.7062,2,205.7,2,205.1,2,114.5,2,31.84,2,0,2,2.2,2,-999,9,-999,9,-999,9,-999,9,-999,9
      320696_3,    S04I,22,1,18,18,2,19960522,1521,-65.3025,36.1262,4693,1297.5,0.616,34.6976,2,34.6975,2,207.2,2,207,2,118.9,2,32.18,2,0,2,2.22,2,0.159,2,0.093,2,-999,9,-999,9,-999,9
      320696_3,    S04I,22,1,17,17,2,19960522,1521,-65.3025,36.1262,4693,1498.8,0.4947,34.6912,2,34.6924,2,209.2,2,207.8,2,122.4,2,32.37,2,0,2,2.24,2,-999,9,-999,9,-999,9,-999,9,-999,9
      320696_3,    S04I,22,1,16,16,2,19960522,1521,-65.3025,36.1262,4693,1702.2,0.3831,34.6855,2,34.6855,2,211.2,2,211.1,2,125.2,2,32.57,2,0,2,2.24,2,0.134,2,0.086,2,-999,9,-999,9,-999,9
      320696_3,    S04I,22,1,15,15,2,19960522,1521,-65.3025,36.1262,4693,1905.9,0.2808,34.6804,2,34.6806,2,213.2,2,214.1,2,127,2,32.61,2,0,2,2.25,2,-999,9,-999,9,-999,9,-999,9,-999,9
      320696_3,    S04I,22,1,14,14,2,19960522,1521,-65.3025,36.1262,4693,2109,0.1925,34.6763,2,34.6765,2,216.8,2,216.8,2,128.3,2,32.61,2,0,2,2.25,2,0.132,2,0.074,2,-999,9,-999,9,-999,9
      320696_3,    S04I,22,1,13,13,2,19960522,1521,-65.3025,36.1262,4693,2311.1,0.1124,34.6726,2,34.6732,2,220.2,2,220.6,2,127.7,2,32.61,2,0,2,2.25,2,-999,9,-999,9,-999,9,-999,9,-999,9
      320696_3,    S04I,22,1,12,12,2,19960522,1521,-65.3025,36.1262,4693,2515.8,0.0452,34.6689,2,34.67,2,223.7,2,223.3,2,128.3,2,32.51,2,0,2,2.25,2,0.173,2,0.108,2,-999,9,-999,9,-999,9
      320696_3,    S04I,22,1,11,11,2,19960522,1521,-65.3025,36.1262,4693,2720.9,-0.0256,34.6658,2,34.6667,2,226.8,2,226.8,2,128.6,2,32.46,2,0,2,2.24,2,-999,9,-999,9,-999,9,-999,9,-999,9
      320696_3,    S04I,22,1,10,10,2,19960522,1521,-65.3025,36.1262,4693,2923.6,-0.0852,34.6637,2,34.6633,2,229.8,2,232.8,2,127.6,2,32.36,2,0,2,2.24,2,0.307,2,0.18,2,-999,9,-999,9,-999,9
      320696_3,    S04I,22,1,9,9,2,19960522,1521,-65.3025,36.1262,4693,3126.3,-0.1345,34.662,2,34.6622,2,232.7,2,233.4,2,127.6,2,32.26,2,0,2,2.23,2,-999,9,-999,9,-999,9,-999,9,-999,9
      320696_3,    S04I,22,1,37,37,2,19960522,1521,-65.3025,36.1262,4693,3330.5,-0.1801,34.659,2,34.6594,2,235.9,2,-999,3,126.3,2,32.15,2,0,2,2.22,2,0.453,2,0.255,2,-999,9,-999,9,-999,9
      320696_3,    S04I,22,1,7,7,2,19960522,1521,-65.3025,36.1262,4693,3536,-0.2197,34.6572,2,34.657,2,238.1,2,239.5,2,125.1,2,32.05,2,0,2,2.21,2,-999,9,-999,9,-999,9,-999,9,-999,9
      320696_3,    S04I,22,1,6,6,2,19960522,1521,-65.3025,36.1262,4693,3741,-0.2497,34.6559,2,34.6559,2,240.8,2,241.4,2,124.9,2,32,2,0,2,2.2,2,0.631,2,0.34,2,-999,9,-999,9,-999,9
      320696_3,    S04I,22,1,5,5,2,19960522,1521,-65.3025,36.1262,4693,3945.7,-0.2726,34.6552,2,34.6549,2,242.2,2,242.5,2,125.8,2,32,2,0,2,2.21,2,-999,9,-999,9,-999,9,-999,9,-999,9
      320696_3,    S04I,22,1,4,4,2,19960522,1521,-65.3025,36.1262,4693,4151.2,-0.2985,34.6534,2,34.6533,2,245.5,2,245.2,2,124.5,2,31.9,2,0,2,2.2,2,0.785,2,0.394,2,-999,9,-999,9,-999,9
      320696_3,    S04I,22,1,3,3,2,19960522,1521,-65.3025,36.1262,4693,4357.1,-0.3187,34.6516,2,34.6517,2,247.8,2,248.6,2,124.1,2,31.85,2,0,2,2.2,2,0.939,2,0.471,2,-999,9,-999,9,-999,9
      320696_3,    S04I,22,1,2,2,2,19960522,1521,-65.3025,36.1262,4693,4580.2,-0.3507,34.6497,2,34.6492,2,251.4,2,249.7,2,127.1,2,31.84,2,0,2,2.2,2,0.929,2,0.457,2,-999,9,-999,9,-999,9
      320696_3,    S04I,22,1,1,1,2,19960522,1521,-65.3025,36.1262,4693,4739.9,-0.3366,34.6508,2,34.6508,2,247.1,2,246.7,2,136.8,2,32.09,2,0,2,2.22,2,0.037,2,4.591,2,-999,9,-999,9,-999,9