BOTTLE,20211011SIOJHS,,,,,,,,,,,,,,,,,,,,,,,,,,,,,,,,,,,,,,
EXPOCODE,SECT_ID,STNNBR,CASTNO,SAMPNO,BTLNBR,BTLNBR_FLAG_W,DATE,TIME,LATITUDE,LONGITUDE,DEPTH,CTDPRS,CTDTMP,CTDSAL,CTDSAL_FLAG_W,SALNTY,SALNTY_FLAG_W,CTDOXY,CTDOXY_FLAG_W,OXYGEN,OXYGEN_FLAG_W,SILCAT,SILCAT_FLAG_W,NITRAT,NITRAT_FLAG_W,NITRIT,NITRIT_FLAG_W,PHSPHT,PHSPHT_FLAG_W,CFC-11,CFC-11_FLAG_W,CFC-12,CFC-12_FLAG_W,SF6,SF6_FLAG_W,TCARBN,TCARBN_FLAG_W,ALKALI,ALKALI_FLAG_W
,,,,,,,,,,,,DB,ITS-90,PSS-78,,PSS-78,,UMOL/KG,,UMOL/KG,,UMOL/KG,,UMOL/KG,,UMOL/KG,,UMOL/KG,,PMOL/KG,,PMOL/KG,,FMOL/KG,,UMOL/KG,,UMOL/KG,
      320696_3,    S04I,72,1,36,36,2,19960608,50,-59.5003,88.5008,4620,14.8,0.0299,33.9767,2,33.9755,2,-999,4,332.7,2,35.9,2,27.27,2,0.26,2,1.87,2,-999,9,-999,9,-999,9,2165.6,2,2292,2
      320696_3,    S04I,72,1,35,35,2,19960608,50,-59.5003,88.5008,4620,29.7,0.0316,33.9769,2,33.9753,2,-999,4,332.9,2,35.4,2,27.27,2,0.26,2,1.87,2,6.15,2,3.146,2,-999,9,2166.1,2,2290,6
      320696_3,    S04I,72,1,34,34,2,19960608,50,-59.5003,88.5008,4620,53.9,-0.0855,33.9846,2,33.9847,2,-999,4,333.5,2,37.2,2,27.42,2,0.26,2,1.88,2,-999,9,-999,9,-999,9,2168.5,2,2294,2
      320696_3,    S04I,72,1,33,33,2,19960608,50,-59.5003,88.5008,4620,85.4,-0.1354,34.0077,2,34.0043,2,-999,4,331.2,2,38.9,2,27.58,2,0.25,2,1.89,2,6.056,2,3.09,2,-999,9,2171.1,2,2293,2
      320696_3,    S04I,72,1,32,32,2,19960608,50,-59.5003,88.5008,4620,120,-0.2399,34.0889,2,34.0776,2,-999,4,315.2,2,49.6,2,29.1,2,0.19,2,2.01,2,-999,9,-999,9,-999,9,2187.3,2,2301,2
      320696_3,    S04I,72,1,31,31,2,19960608,50,-59.5003,88.5008,4620,165.8,1.2797,34.3895,2,34.3667,2,-999,4,226.3,2,65.5,2,33.12,2,0.01,2,2.29,2,2.68,2,1.263,2,-999,9,2229.1,2,2314,2
      320696_3,    S04I,72,1,30,30,2,19960608,50,-59.5003,88.5008,4620,214.6,1.6068,34.489,2,34.4878,2,-999,4,197.4,2,72.4,2,33.74,2,0,2,2.34,2,-999,9,-999,9,-999,9,2245.1,2,2322,2
      320696_3,    S04I,72,1,29,29,2,19960608,50,-59.5003,88.5008,4620,262.9,1.738,34.5684,2,34.5671,2,-999,3,189.2,2,77.2,2,33.33,2,0,2,2.31,2,0.974,2,0.494,2,-999,9,2249.4,2,2332,2
      320696_3,    S04I,72,1,28,28,2,19960608,50,-59.5003,88.5008,4620,303.2,1.8481,34.6084,2,34.6068,2,-999,3,183.3,2,79,2,33.08,2,0,2,2.29,2,-999,9,-999,9,-999,9,2252.1,2,2333,2
      320696_3,    S04I,72,1,27,27,2,19960608,50,-59.5003,88.5008,4620,345.3,1.8932,34.6296,2,34.6296,2,182.7,2,182.7,2,79.8,2,32.78,2,0,2,2.27,2,0.56,2,0.297,2,-999,9,2252.4,2,2334,2
      320696_3,    S04I,72,1,26,26,2,19960608,50,-59.5003,88.5008,4620,389.9,1.9501,34.6585,2,34.6583,2,182.6,2,181.9,2,80.7,2,32.42,2,0,2,2.25,2,-999,9,-999,9,-999,9,2251.8,2,2337,2
      320696_3,    S04I,72,1,25,25,2,19960608,50,-59.5003,88.5008,4620,460.5,1.8986,34.6793,2,34.6795,2,184.9,2,184.9,2,81.7,2,31.87,2,0,2,2.2,2,0.371,2,0.212,2,-999,9,2250.1,2,2338,2
      320696_3,    S04I,72,1,24,24,2,19960608,50,-59.5003,88.5008,4620,565.1,1.8327,34.6955,2,34.6958,2,188.5,2,187.9,2,83.9,2,31.47,2,0,2,2.18,2,-999,9,-999,9,-999,9,2249.3,2,2343,2
      320696_3,    S04I,72,1,23,23,2,19960608,50,-59.5003,88.5008,4620,654.7,1.4668,34.6758,2,34.6756,2,197.6,2,197.4,2,85.1,2,31.42,2,0,2,2.18,2,0.721,2,0.393,2,-999,9,2250.7,2,2342,2
      320696_3,    S04I,72,1,22,22,2,19960608,50,-59.5003,88.5008,4620,708,1.5732,34.6984,2,34.697,2,199.3,2,196.9,2,86.4,2,31.12,2,0,2,2.15,2,-999,9,-999,9,-999,9,2249.3,2,2343,2
      320696_3,    S04I,72,1,21,21,2,19960608,50,-59.5003,88.5008,4620,786.2,1.7348,34.7311,2,34.731,2,194.2,2,194.5,2,87.7,2,30.51,2,0,2,2.11,2,0.223,2,0.127,2,-999,9,2248.5,2,2345,6
      320696_3,    S04I,72,1,20,20,2,19960608,50,-59.5003,88.5008,4620,889.5,1.6659,34.7378,2,34.7377,2,195.4,2,196.8,2,89.7,2,30.31,2,0,2,2.1,2,-999,9,-999,9,-999,9,2247.8,2,2348,2
      320696_3,    S04I,72,1,19,19,2,19960608,50,-59.5003,88.5008,4620,959.8,1.6575,34.7437,2,34.7436,2,198.6,2,199.1,2,90.7,2,30.16,2,0,2,2.08,2,0.139,2,0.068,2,-999,9,2246.9,2,2349,2
      320696_3,    S04I,72,1,18,18,2,19960608,50,-59.5003,88.5008,4620,1161.9,1.3932,34.7294,2,34.7301,2,203,2,202.8,2,94.6,2,30.42,2,0,2,2.11,2,-999,9,-999,9,-999,9,2249.1,2,2346,2
      320696_3,    S04I,72,1,17,17,2,19960608,50,-59.5003,88.5008,4620,1363.6,1.2388,34.7285,2,34.7293,2,205.9,2,204.6,2,99.8,2,30.52,2,0,2,2.12,2,0.203,2,0.121,2,-999,9,2250.8,2,2351,2
      320696_3,    S04I,72,1,16,16,2,19960608,50,-59.5003,88.5008,4620,1616.9,1.0583,34.7229,2,34.7222,2,207,2,206.9,2,107.3,2,30.93,2,0,2,2.14,2,-999,9,-999,9,-999,9,2253.8,2,2357,2
      320696_3,    S04I,72,1,15,15,2,19960608,50,-59.5003,88.5008,4620,1870.8,0.8329,34.7087,2,34.7088,2,208.6,2,208.1,2,112.7,2,31.33,2,0,2,2.17,2,0.166,2,0.093,2,-999,9,2257.5,2,2354,2
      320696_3,    S04I,72,1,14,14,2,19960608,50,-59.5003,88.5008,4620,2067.3,0.7026,34.702,2,-999,4,210.4,2,209.7,2,116.3,2,31.59,2,0,2,2.19,2,-999,9,-999,9,-999,9,2257.9,2,2356,2
      320696_3,    S04I,72,1,13,13,2,19960608,50,-59.5003,88.5008,4620,2267.2,0.5582,34.6947,2,34.6955,2,212.5,2,212.2,2,120.5,2,31.84,2,0,2,2.21,2,0.172,2,0.11,2,-999,9,2258.1,2,2355,2
      320696_3,    S04I,72,1,12,12,2,19960608,50,-59.5003,88.5008,4620,2476.1,0.4102,34.6862,2,34.6872,2,215,2,215.3,2,123.1,2,32.05,2,0,2,2.23,2,-999,9,-999,9,-999,9,2259.2,2,2355,2
      320696_3,    S04I,72,1,11,11,2,19960608,50,-59.5003,88.5008,4620,2730.1,0.3175,34.684,2,34.6837,2,217.9,2,218.7,2,125.4,2,32.05,2,0,2,2.23,2,0.234,2,0.136,2,-999,9,2258.8,2,2356,2
      320696_3,    S04I,72,1,10,10,2,19960608,50,-59.5003,88.5008,4620,2981.9,0.2107,34.6805,2,34.6798,2,222.1,2,221.9,2,126.8,2,32.05,2,0,2,2.22,2,-999,9,-999,9,-999,9,2257.6,2,2358,2
      320696_3,    S04I,72,1,9,9,2,19960608,50,-59.5003,88.5008,4620,3244.1,0.1375,34.6785,2,34.6792,2,225,2,225.5,2,127.3,2,31.95,2,0,2,2.22,2,0.389,2,0.222,2,-999,9,2257.8,2,2358,2
      320696_3,    S04I,72,1,63,63,2,19960608,50,-59.5003,88.5008,4620,3492,0.0686,34.6765,2,34.677,2,227.7,2,228,2,127.4,2,31.95,2,0,2,2.22,2,-999,9,-999,9,-999,9,2256,2,-999,9
      320696_3,    S04I,72,1,7,7,2,19960608,50,-59.5003,88.5008,4620,3752.2,0.0195,34.6748,2,-999,4,230.8,2,230.5,2,127.6,2,31.96,2,0,2,2.22,2,0.631,2,0.34,2,-999,9,2254.8,2,-999,9
      320696_3,    S04I,72,1,6,6,2,19960608,50,-59.5003,88.5008,4620,3950.4,-0.0109,34.6738,2,34.6735,2,232.3,2,232.9,2,127.2,2,31.91,2,0,2,2.22,2,-999,9,-999,9,-999,9,2255.9,2,2356,2
      320696_3,    S04I,72,1,5,5,2,19960608,50,-59.5003,88.5008,4620,4156.1,-0.0377,34.6721,2,34.672,2,234.4,2,233.6,2,126.3,2,31.86,2,0,2,2.22,2,0.858,2,0.439,2,-999,9,2254.8,2,2353,2
      320696_3,    S04I,72,1,4,4,2,19960608,50,-59.5003,88.5008,4620,4364.9,-0.0538,34.6713,2,-999,4,235.8,2,235.7,2,125.8,2,31.81,2,0,2,2.21,2,-999,9,-999,9,-999,9,2254.5,2,2352,2
      320696_3,    S04I,72,1,3,3,2,19960608,50,-59.5003,88.5008,4620,4517.5,-0.0761,34.67,2,-999,3,237.4,2,236.8,2,126,2,31.76,2,0,2,2.21,2,1.17,2,0.579,2,-999,9,2254.9,2,2351,2
      320696_3,    S04I,72,1,2,2,2,19960608,50,-59.5003,88.5008,4620,4620.6,-0.0839,34.6692,2,34.6688,2,236.6,2,236.2,2,131.5,2,31.86,2,0.01,2,2.21,2,-999,9,-999,9,-999,9,2257.9,2,2355,2
      320696_3,    S04I,72,1,1,1,2,19960608,50,-59.5003,88.5008,4620,4663.4,-0.0787,34.6693,2,-999,4,236.6,2,236.7,2,131.5,2,31.86,2,0.01,2,2.21,2,1.267,2,0.616,2,-999,9,2256.2,2,2354,2
      320696_3,    S04I,87,1,36,36,2,19960620,2311,-62.0007,90.0012,4020,13.6,-1.736,34.1534,2,34.1538,2,-999,4,-999,3,57.1,2,29.04,2,0.19,2,2.01,2,6.095,2,2.951,2,-999,9,2195.2,2,2309,2
      320696_3,    S04I,87,1,35,35,2,19960620,2311,-62.0007,90.0012,4020,30.9,-1.7313,34.154,2,34.154,2,-999,4,330.9,2,57.1,2,29.03,2,0.19,2,2.01,2,6.063,2,2.981,2,-999,9,2197.2,2,2310,2
      320696_3,    S04I,87,1,34,34,2,19960620,2311,-62.0007,90.0012,4020,56.6,-1.7145,34.1545,2,34.1582,2,-999,4,329.7,2,57.2,2,29.03,2,0.19,2,2.01,2,6.076,2,2.936,2,-999,9,2195.2,2,2306,2
      320696_3,    S04I,87,1,33,33,2,19960620,2311,-62.0007,90.0012,4020,86.9,-1.2255,34.2258,2,34.2276,2,-999,4,305.2,2,62.4,2,29.93,2,0.15,2,2.07,2,5.357,2,2.571,2,-999,9,2205.5,2,2315,2
      320696_3,    S04I,87,1,32,32,2,19960620,2311,-62.0007,90.0012,4020,113,-0.1829,34.4343,2,34.4356,2,-999,4,250.3,2,75.7,2,31.84,2,0.02,2,2.2,2,3.438,2,1.551,2,-999,9,2231,2,2335,2
      320696_3,    S04I,87,1,31,31,2,19960620,2311,-62.0007,90.0012,4020,140.9,0.1819,34.5119,2,34.5126,2,-999,4,234.8,2,79.7,2,32.11,2,0,2,2.23,2,2.753,2,1.281,2,-999,9,2239.3,2,2330,2
      320696_3,    S04I,87,1,30,30,2,19960620,2311,-62.0007,90.0012,4020,174.2,0.4787,34.5553,2,34.5556,2,-999,4,224.9,2,81.8,2,32.06,2,0,2,2.23,2,2.271,2,1.02,2,-999,9,2242.5,2,-999,9
      320696_3,    S04I,87,1,29,29,2,19960620,2311,-62.0007,90.0012,4020,203.5,0.5593,34.5806,2,34.58,2,222.9,2,221.5,2,83.3,2,31.95,2,0,2,2.21,2,2.02,2,0.931,2,-999,9,2244.5,2,2334,2
      320696_3,    S04I,87,1,28,28,2,19960620,2311,-62.0007,90.0012,4020,246,1.0483,34.6399,2,34.6383,2,211.3,2,206,2,85.9,2,31.85,2,0,2,2.21,2,-999,9,-999,9,-999,9,2248.3,2,2341,2
      320696_3,    S04I,87,1,27,27,2,19960620,2311,-62.0007,90.0012,4020,287.5,1.1289,34.6559,2,34.6535,2,202.6,2,204.5,2,87.3,2,31.59,2,0,2,2.21,2,1.11,2,0.543,2,-999,9,2249.3,2,2346,2
      320696_3,    S04I,87,1,26,26,2,19960620,2311,-62.0007,90.0012,4020,327.4,1.1898,34.6697,2,34.6708,2,202.4,2,203.7,2,88.1,2,31.53,2,0,2,2.18,2,-999,9,-999,9,-999,9,2249.1,2,2341,2
      320696_3,    S04I,87,1,25,25,2,19960620,2311,-62.0007,90.0012,4020,373,1.3169,34.6919,2,34.6926,2,200,2,202.2,2,89.3,2,31.12,2,0,2,2.15,2,0.695,2,0.354,2,-999,9,2249.2,2,2346,2
      320696_3,    S04I,87,1,24,24,2,19960620,2311,-62.0007,90.0012,4020,428.3,1.3303,34.7069,2,34.7074,2,201.1,2,201.8,2,90.8,2,30.86,2,0,2,2.13,2,-999,9,-999,9,-999,9,2248.5,2,2349,2
      320696_3,    S04I,87,1,23,23,2,19960620,2311,-62.0007,90.0012,4020,508.9,1.2968,34.7118,2,34.7123,2,200.9,2,202.6,2,92.8,2,30.81,2,0,2,2.12,2,0.496,2,0.257,2,-999,9,2248.7,2,2353,2
      320696_3,    S04I,87,1,22,22,2,19960620,2311,-62.0007,90.0012,4020,588.3,1.2854,34.7223,2,34.7227,2,202.4,2,202.9,2,95.5,2,30.65,2,0,2,2.1,2,-999,9,-999,9,-999,9,2249.5,2,-999,9
      320696_3,    S04I,87,1,21,21,2,19960620,2311,-62.0007,90.0012,4020,691.4,1.2105,34.7231,2,34.7231,2,203.3,2,202.4,2,99,2,30.81,2,0,2,2.13,2,0.306,2,0.159,2,-999,9,2251.6,2,2352,2
      320696_3,    S04I,87,1,20,20,2,19960620,2311,-62.0007,90.0012,4020,809.3,1.1108,34.7221,2,34.7222,2,204.5,2,203.5,2,103.1,2,30.96,2,0,2,2.15,2,-999,9,-999,9,-999,9,2254.3,2,-999,9
      320696_3,    S04I,87,1,19,19,2,19960620,2311,-62.0007,90.0012,4020,962.2,0.9887,34.7177,2,34.7179,2,205.7,2,205.1,2,106.8,2,31.11,2,0,2,2.16,2,0.217,2,0.119,2,-999,9,2254.5,2,2358,2
      320696_3,    S04I,87,1,18,18,2,19960620,2311,-62.0007,90.0012,4020,1113.7,0.8847,34.713,2,34.7143,2,206.8,2,206.4,2,110.8,2,31.31,2,0,2,2.17,2,-999,9,-999,9,-999,9,2256.5,2,-999,9
      320696_3,    S04I,87,1,17,17,2,19960620,2311,-62.0007,90.0012,4020,1315,0.7188,34.7049,2,34.7053,2,207.7,2,207.8,2,115.4,2,31.61,2,0,2,2.19,2,0.161,2,0.088,2,-999,9,2258.2,2,2357,2
      320696_3,    S04I,87,1,16,16,2,19960620,2311,-62.0007,90.0012,4020,1514.3,0.5965,34.6977,2,34.6981,2,210.3,2,209.8,2,119,2,31.81,2,0,2,2.22,2,-999,9,-999,9,-999,9,2258.1,2,2358,2
      320696_3,    S04I,87,1,15,15,2,19960620,2311,-62.0007,90.0012,4020,1720.8,0.4478,34.6911,2,34.691,2,212,2,212,2,122.5,2,31.96,2,0,2,2.23,2,0.173,2,0.09,2,-999,9,2259.9,2,2359,2
      320696_3,    S04I,87,1,14,14,2,19960620,2311,-62.0007,90.0012,4020,1924.7,0.3396,34.6858,2,34.6865,2,213.7,2,215.1,2,124.6,2,32.01,2,0,2,2.25,2,-999,9,-999,9,-999,9,2260.5,2,2358,2
      320696_3,    S04I,87,1,13,13,2,19960620,2311,-62.0007,90.0012,4020,2127.6,0.2443,34.682,2,34.683,2,217.7,2,218.2,2,126.2,2,32.11,2,0,2,2.25,2,0.233,2,0.136,2,-999,9,2260.1,2,2359,2
      320696_3,    S04I,87,1,12,12,2,19960620,2311,-62.0007,90.0012,4020,2331.6,0.1642,34.6792,2,34.6802,2,220.9,2,221,2,126.5,2,32.11,2,0,2,2.24,2,-999,9,-999,9,-999,9,2258.5,2,2357,2
      320696_3,    S04I,87,1,11,11,2,19960620,2311,-62.0007,90.0012,4020,2535.2,0.0933,34.6777,2,34.6783,2,222.9,2,223.9,2,127.4,2,32,2,0,2,2.23,2,0.366,2,0.199,2,-999,9,2259.1,2,2358,2
      320696_3,    S04I,87,1,10,10,2,19960620,2311,-62.0007,90.0012,4020,2737.1,0.0275,34.6766,2,34.6756,2,226.9,2,226.8,2,126.9,2,32,2,0,2,2.22,2,-999,9,-999,9,-999,9,2258.8,2,2360,2
      320696_3,    S04I,87,1,9,9,2,19960620,2311,-62.0007,90.0012,4020,2944.2,-0.018,34.6751,2,34.6748,2,229.2,2,228.9,2,126.7,2,31.9,2,0,2,2.22,2,0.572,2,0.311,2,-999,9,2258.1,2,2360,2
      320696_3,    S04I,87,1,63,63,2,19960620,2311,-62.0007,90.0012,4020,3145.7,-0.0568,34.6738,2,34.674,2,231.2,2,231,2,126.1,2,31.89,2,0,2,2.22,2,-999,9,-999,9,-999,9,2256.6,2,2356,2
      320696_3,    S04I,87,1,7,7,2,19960620,2311,-62.0007,90.0012,4020,3350.5,-0.0862,34.6735,2,34.6725,2,232.1,2,232.7,2,126.1,2,31.84,2,0,2,2.22,2,0.771,2,0.39,2,-999,9,2255.6,2,2356,2
      320696_3,    S04I,87,1,6,6,2,19960620,2311,-62.0007,90.0012,4020,3555.2,-0.111,34.6724,2,34.6715,2,234.2,2,234.6,2,126,2,31.84,2,0,2,2.21,2,-999,9,-999,9,-999,9,2257,2,2354,2
      320696_3,    S04I,87,1,5,5,2,19960620,2311,-62.0007,90.0012,4020,3709.4,-0.1306,34.6707,2,34.6705,2,234.6,2,235.2,2,125.9,2,31.83,2,0,2,2.21,2,1.017,2,0.502,2,-999,9,2255.3,2,2354,2
      320696_3,    S04I,87,1,39,39,2,19960620,2311,-62.0007,90.0012,4020,3862.6,-0.1513,34.6701,2,34.6699,2,236.2,2,236.2,2,129,2,31.88,2,0,2,2.21,2,-999,9,-999,9,-999,9,2257.1,2,2357,2
      320696_3,    S04I,87,1,3,3,2,19960620,2311,-62.0007,90.0012,4020,3965.9,-0.1597,34.6685,2,34.6688,2,236.3,2,236.1,2,133.4,2,31.88,2,0,2,2.21,2,1.277,2,0.616,2,-999,9,2257.7,2,2356,2
      320696_3,    S04I,87,1,1,1,2,19960620,2311,-62.0007,90.0012,4020,4031.5,-0.1535,34.6694,2,34.669,2,236.1,2,235.9,2,134.2,2,31.92,2,0,2,2.21,2,1.305,2,0.618,2,-999,9,2257.6,2,-999,9
      320696_3,    S04I,87,1,2,2,2,19960620,2311,-62.0007,90.0012,4020,4031.8,-0.1535,34.6693,2,34.6684,2,236.1,2,236,2,134.1,2,31.93,2,0,2,2.21,2,-999,9,-999,9,-999,9,-999,9,-999,9