BOTTLE,20211011SIOJHS,,,,,,,,,,,,,,,,,,,,,,,,,,,,,,,,,,,,,,
EXPOCODE,SECT_ID,STNNBR,CASTNO,SAMPNO,BTLNBR,BTLNBR_FLAG_W,DATE,TIME,LATITUDE,LONGITUDE,DEPTH,CTDPRS,CTDTMP,CTDSAL,CTDSAL_FLAG_W,SALNTY,SALNTY_FLAG_W,CTDOXY,CTDOXY_FLAG_W,OXYGEN,OXYGEN_FLAG_W,SILCAT,SILCAT_FLAG_W,NITRAT,NITRAT_FLAG_W,NITRIT,NITRIT_FLAG_W,PHSPHT,PHSPHT_FLAG_W,CFC-11,CFC-11_FLAG_W,CFC-12,CFC-12_FLAG_W,SF6,SF6_FLAG_W,TCARBN,TCARBN_FLAG_W,ALKALI,ALKALI_FLAG_W
,,,,,,,,,,,,DB,ITS-90,PSS-78,,PSS-78,,UMOL/KG,,UMOL/KG,,UMOL/KG,,UMOL/KG,,UMOL/KG,,UMOL/KG,,PMOL/KG,,PMOL/KG,,FMOL/KG,,UMOL/KG,,UMOL/KG,
      320696_3,    S04I,92,1,36,36,2,19960622,2155,-62.123,98.0105,4125,16.3,-1.8047,34.0938,2,34.0952,2,-999,4,330.4,2,51,2,27.71,2,0.21,2,1.94,2,6.134,2,2.961,2,-999,9,2187.6,2,2308,2
      320696_3,    S04I,92,1,35,35,2,19960622,2155,-62.123,98.0105,4125,36.6,-1.7968,34.095,2,34.0952,2,-999,4,330.8,2,50.9,2,27.72,2,0.21,2,1.94,2,6.162,2,3.018,2,-999,9,2186.5,2,-999,9
      320696_3,    S04I,92,1,34,34,2,19960622,2155,-62.123,98.0105,4125,56.5,-1.79,34.0954,2,34.0952,2,-999,4,330.8,2,50.9,2,27.77,2,0.21,2,1.94,2,6.128,2,3.013,2,-999,9,2185.6,2,-999,9
      320696_3,    S04I,92,1,33,33,2,19960622,2155,-62.123,98.0105,4125,76.5,-1.7331,34.1039,2,34.1091,2,-999,4,327.4,2,52.1,2,27.98,2,0.2,2,1.96,2,5.983,2,2.925,2,-999,9,2189.2,2,-999,9
      320696_3,    S04I,92,1,32,32,2,19960622,2155,-62.123,98.0105,4125,106.7,1.1077,34.5424,2,34.5421,2,-999,4,204.4,2,79.5,2,33.15,2,0,2,2.29,2,1.604,2,0.773,2,-999,9,2245.5,2,-999,9
      320696_3,    S04I,92,1,31,31,2,19960622,2155,-62.123,98.0105,4125,147.5,1.0771,34.5765,2,34.5722,2,-999,3,205.5,2,81.4,2,32.76,2,0,2,2.26,2,1.508,2,0.735,2,-999,9,2245.1,2,-999,9
      320696_3,    S04I,92,1,30,30,2,19960622,2155,-62.123,98.0105,4125,181.9,1.1437,34.6026,2,34.6009,2,-999,3,203.2,2,82.5,2,32.51,2,0,2,2.24,2,1.337,2,0.624,2,-999,9,2247.2,2,-999,9
      320696_3,    S04I,92,1,29,29,2,19960622,2155,-62.123,98.0105,4125,222.2,1.2344,34.6292,2,34.6256,2,-999,3,201.4,2,84,2,32.32,2,0,2,2.23,2,1.161,2,0.557,2,-999,9,2248.2,2,-999,9
      320696_3,    S04I,92,1,28,28,2,19960622,2155,-62.123,98.0105,4125,242.4,1.6096,34.6735,2,34.6694,2,-999,3,190.2,2,85.7,2,32.22,2,0,2,2.22,2,-999,9,-999,9,-999,9,2250.3,2,-999,9
      320696_3,    S04I,92,1,27,27,2,19960622,2155,-62.123,98.0105,4125,282.6,1.521,34.6854,2,34.6785,2,194.1,2,192.8,2,86.8,2,31.97,2,0,2,2.21,2,0.645,2,0.323,2,-999,9,2250.1,2,-999,9
      320696_3,    S04I,92,1,26,26,2,19960622,2155,-62.123,98.0105,4125,332.7,1.4522,34.6913,2,34.6904,2,189.8,2,195.5,2,88.7,2,31.63,2,0,2,2.19,2,-999,9,-999,9,-999,9,2250.2,2,-999,9
      320696_3,    S04I,92,1,25,25,2,19960622,2155,-62.123,98.0105,4125,408.3,1.5417,34.7161,2,34.7162,2,194.7,2,195.6,2,90.2,2,31.18,2,0,2,2.15,2,0.394,2,0.2,2,-999,9,2249.5,2,-999,9
      320696_3,    S04I,92,1,24,24,2,19960622,2155,-62.123,98.0105,4125,483.6,1.4976,34.724,2,34.7231,2,195.4,2,197.1,2,92.5,2,31.04,2,0,2,2.13,2,-999,9,-999,9,-999,9,2249.5,2,-999,9
      320696_3,    S04I,92,1,23,23,2,19960622,2155,-62.123,98.0105,4125,557.7,1.4374,34.7279,2,34.7276,2,196.7,2,198.6,2,94.8,2,30.89,2,0,2,2.13,2,0.295,2,0.153,2,-999,9,2247.6,2,-999,9
      320696_3,    S04I,92,1,22,22,2,19960622,2155,-62.123,98.0105,4125,632.2,1.3746,34.7297,2,34.7298,2,198.2,2,199.8,2,97.2,2,30.85,2,0,2,2.14,2,-999,9,-999,9,-999,9,2248.7,2,-999,9
      320696_3,    S04I,92,1,21,21,2,19960622,2155,-62.123,98.0105,4125,732.3,1.3222,34.7332,2,34.7333,2,200.4,2,201.1,2,99.7,2,30.8,2,0,2,2.13,2,0.183,2,0.096,2,-999,9,2250.2,2,-999,9
      320696_3,    S04I,92,1,20,20,2,19960622,2155,-62.123,98.0105,4125,856.4,1.1981,34.7293,2,34.7294,2,203,2,202.9,2,103.6,2,31.01,2,0,2,2.14,2,-999,9,-999,9,-999,9,2250.4,2,-999,9
      320696_3,    S04I,92,1,19,19,2,19960622,2155,-62.123,98.0105,4125,980.6,1.086,34.7246,2,34.7245,2,204.4,2,-999,3,106.6,2,31.16,2,0,2,2.16,2,0.157,2,0.083,2,-999,9,2253.1,2,-999,9
      320696_3,    S04I,92,1,18,18,2,19960622,2155,-62.123,98.0105,4125,1105.2,0.9859,34.7196,2,34.7199,2,205.4,2,205.5,2,110.2,2,31.36,2,0,2,2.17,2,0.149,2,0.084,2,-999,9,-999,9,-999,9
      320696_3,    S04I,92,1,17,17,2,19960622,2155,-62.123,98.0105,4125,1255,0.8553,34.7132,2,34.7132,2,206.6,2,206.3,2,114.3,2,31.62,2,0,2,2.19,2,0.14,2,0.079,2,-999,9,-999,9,-999,9
      320696_3,    S04I,92,1,16,16,2,19960622,2155,-62.123,98.0105,4125,1403.8,0.7312,34.7071,2,34.7068,2,208.7,2,207.8,2,118.1,2,31.82,2,0,2,2.21,2,-999,9,-999,9,-999,9,-999,9,-999,9
      320696_3,    S04I,92,1,15,15,2,19960622,2155,-62.123,98.0105,4125,1603,0.5676,34.6986,2,34.6977,2,210.2,2,210.1,2,122,2,32.13,2,0,2,2.23,2,0.153,2,0.082,2,-999,9,-999,9,-999,9
      320696_3,    S04I,92,1,14,14,2,19960622,2155,-62.123,98.0105,4125,1802.7,0.4149,34.6909,2,34.6906,2,213.3,2,213.5,2,125.3,2,32.28,2,0,2,2.24,2,0.183,2,0.108,2,-999,9,-999,9,-999,9
      320696_3,    S04I,92,1,13,13,2,19960622,2155,-62.123,98.0105,4125,2002.6,0.3138,34.6865,2,34.6861,2,216,2,216.1,2,126.8,2,32.33,2,0,2,2.25,2,0.227,2,0.127,2,-999,9,-999,9,-999,9
      320696_3,    S04I,92,1,12,12,2,19960622,2155,-62.123,98.0105,4125,2202.9,0.2275,34.6833,2,34.6834,2,219.2,2,218.8,2,129.4,2,32.29,2,0,2,2.24,2,-999,9,-999,9,-999,9,-999,9,-999,9
      320696_3,    S04I,92,1,11,11,2,19960622,2155,-62.123,98.0105,4125,2404.1,0.1461,34.681,2,34.6804,2,221.7,2,221.9,2,129.1,2,32.29,2,0,2,2.25,2,0.318,2,0.172,2,-999,9,-999,9,-999,9
      320696_3,    S04I,92,1,10,10,2,19960622,2155,-62.123,98.0105,4125,2605.2,0.0719,34.679,2,34.6777,2,224.5,2,224.6,2,129.6,2,32.3,2,0,2,2.24,2,0.391,2,0.21,2,-999,9,-999,9,-999,9
      320696_3,    S04I,92,1,9,9,2,19960622,2155,-62.123,98.0105,4125,2806.3,0.0078,34.6773,2,34.6763,2,227,2,227.5,2,129.4,2,32.25,2,0,2,2.24,2,0.487,2,0.258,2,-999,9,-999,9,-999,9
      320696_3,    S04I,92,1,63,63,2,19960622,2155,-62.123,98.0105,4125,3007.5,-0.0444,34.6757,2,34.6745,2,229,2,230.1,2,128.5,2,32.21,2,0,2,2.24,2,-999,9,-999,9,-999,9,-999,9,-999,9
      320696_3,    S04I,92,1,7,7,2,19960622,2155,-62.123,98.0105,4125,3209.6,-0.0854,34.6738,2,34.6735,2,231.7,2,232.4,2,127.6,2,32.16,2,0,2,2.23,2,0.748,2,0.377,2,-999,9,-999,9,-999,9
      320696_3,    S04I,92,1,6,6,2,19960622,2155,-62.123,98.0105,4125,3412,-0.1166,34.6725,2,34.672,2,233.7,2,234.3,2,126.5,2,32.11,2,0,2,2.22,2,0.92,2,0.451,2,-999,9,-999,9,-999,9
      320696_3,    S04I,92,1,5,5,2,19960622,2155,-62.123,98.0105,4125,3616.3,-0.1371,34.6717,2,34.67,2,235.2,2,235.3,2,126.1,2,32.07,2,0,2,2.22,2,1.061,2,0.51,2,-999,9,-999,9,-999,9
      320696_3,    S04I,92,1,39,39,2,19960622,2155,-62.123,98.0105,4125,3769.2,-0.1489,34.6702,2,34.6696,2,236.4,2,236.3,2,125.9,2,32.02,2,0,2,2.22,2,-999,9,-999,9,-999,9,-999,9,-999,9
      320696_3,    S04I,92,1,3,3,2,19960622,2155,-62.123,98.0105,4125,3920.3,-0.1549,34.669,2,34.6686,2,237.4,2,237.3,2,125.7,2,32.03,2,0,2,2.22,2,1.275,2,0.602,2,-999,9,-999,9,-999,9
      320696_3,    S04I,92,1,2,2,2,19960622,2155,-62.123,98.0105,4125,4049.1,-0.1577,34.6685,2,34.668,2,238.3,2,237.8,2,125.4,2,31.98,2,0,2,2.22,2,1.382,2,0.639,2,-999,9,-999,9,-999,9
      320696_3,    S04I,92,1,1,1,2,19960622,2155,-62.123,98.0105,4125,4146.6,-0.1768,34.6666,2,34.6667,2,239.2,2,239.4,2,125.7,2,31.94,2,0,2,2.21,2,1.544,2,0.702,2,-999,9,-999,9,-999,9
      320696_3,    S04I,93,1,36,36,2,19960623,649,-62.3352,99.5583,4316,15,-1.8252,34.0748,2,34.0746,2,-999,4,334.9,2,50.6,2,27.68,2,0.22,2,1.95,2,6.448,2,3.063,2,-999,9,2186.4,2,2307,2
      320696_3,    S04I,93,1,35,35,2,19960623,649,-62.3352,99.5583,4316,29.3,-1.8249,34.0754,2,34.0758,2,-999,4,335,2,50.4,2,27.67,2,0.22,2,1.95,2,-999,9,-999,9,-999,9,2185.3,2,2308,6
      320696_3,    S04I,93,1,34,34,2,19960623,649,-62.3352,99.5583,4316,55.5,-1.8141,34.0796,2,34.0799,2,-999,4,334.9,2,50.7,2,27.67,2,0.22,2,1.95,2,6.449,2,3.055,2,-999,9,2186.5,2,2308,2
      320696_3,    S04I,93,1,33,33,2,19960623,649,-62.3352,99.5583,4316,79.6,-1.8084,34.0799,2,34.0803,2,-999,4,335,2,50.7,2,27.67,2,0.22,2,1.95,2,6.414,2,3.018,2,-999,9,2186.1,2,2309,2
      320696_3,    S04I,93,1,32,32,2,19960623,649,-62.3352,99.5583,4316,104.9,-1.6215,34.1091,2,34.114,2,-999,4,325.6,2,52.9,2,28.19,2,0.2,2,1.98,2,6.143,2,2.868,2,-999,9,2189.9,2,2304,2
      320696_3,    S04I,93,1,31,31,2,19960623,649,-62.3352,99.5583,4316,155.3,0.5912,34.5397,2,34.5372,2,-999,4,219.2,2,81.2,2,32.87,2,0,2,2.29,2,2.143,2,0.991,2,-999,9,2242.2,2,2330,2
      320696_3,    S04I,93,1,30,30,2,19960623,649,-62.3352,99.5583,4316,205.8,1.0985,34.6125,2,34.6077,2,-999,4,203.1,2,84.4,2,32.66,2,0,2,2.27,2,1.39,2,0.677,2,-999,9,2248.7,2,2338,2
      320696_3,    S04I,93,1,29,29,2,19960623,649,-62.3352,99.5583,4316,254.9,1.1072,34.6368,2,34.6356,2,202.7,2,202.2,2,87,2,32.46,2,0,2,2.26,2,1.196,2,0.579,2,-999,9,2249.8,2,2338,2
      320696_3,    S04I,93,1,28,28,2,19960623,649,-62.3352,99.5583,4316,305,1.3122,34.6733,2,34.6711,2,199.3,2,197.9,2,89.1,2,32.1,2,0,2,2.24,2,0.827,2,0.442,2,-999,9,2251.1,2,2344,2
      320696_3,    S04I,93,1,27,27,2,19960623,649,-62.3352,99.5583,4316,355.7,1.3765,34.693,2,34.6922,2,197.6,2,195.6,2,90.8,2,31.74,2,0,2,2.21,2,0.635,2,0.323,2,-999,9,2250.5,2,2343,2
      320696_3,    S04I,93,1,26,26,2,19960623,649,-62.3352,99.5583,4316,405.1,1.4031,34.7053,2,34.7049,2,196.8,2,198.1,2,92.3,2,31.63,2,0,2,2.2,2,0.525,2,0.189,2,-999,9,2250.7,2,2345,2
      320696_3,    S04I,93,1,25,25,2,19960623,649,-62.3352,99.5583,4316,429.9,1.416,34.711,2,-999,3,197.5,2,198.7,2,92.9,2,31.48,2,0,2,2.2,2,0.473,2,0.245,2,-999,9,2249.9,2,2345,2
      320696_3,    S04I,93,1,24,24,2,19960623,649,-62.3352,99.5583,4316,455.3,1.3974,34.7121,2,34.712,2,197.5,2,198.5,2,93.8,2,31.53,2,0,2,2.2,2,0.461,2,0.245,2,-999,9,2250.3,2,2348,2
      320696_3,    S04I,93,1,23,23,2,19960623,649,-62.3352,99.5583,4316,480.4,1.3981,34.7166,2,34.7161,2,197.9,2,198.7,2,94.1,2,31.37,2,0,2,2.18,2,0.422,2,0.212,2,-999,9,2251,2,2344,2
      320696_3,    S04I,93,1,22,22,2,19960623,649,-62.3352,99.5583,4316,504.1,1.3818,34.7172,2,34.7169,2,198.7,2,199.8,2,94.9,2,31.37,2,0,2,2.18,2,0.426,2,0.252,2,-999,9,2251.4,2,2346,2
      320696_3,    S04I,93,1,21,21,2,19960623,649,-62.3352,99.5583,4316,650.6,1.2814,34.723,2,34.7222,2,201,2,201.4,2,99.3,2,31.31,2,0,2,2.17,2,0.321,2,0.168,2,-999,9,2251.2,2,2348,2
      320696_3,    S04I,93,1,20,20,2,19960623,649,-62.3352,99.5583,4316,751.3,1.2123,34.7241,2,34.7238,2,202.4,2,201.5,2,102,2,31.31,2,0,2,2.17,2,0.394,2,-999,9,-999,9,2252.4,2,2352,2
      320696_3,    S04I,93,1,19,19,2,19960623,649,-62.3352,99.5583,4316,846.1,1.1452,34.7236,2,34.723,2,202.4,2,202.6,2,104.2,2,31.41,2,0,2,2.18,2,0.244,2,0.142,2,-999,9,2253.3,2,2357,2
      320696_3,    S04I,93,1,18,18,2,19960623,649,-62.3352,99.5583,4316,943.4,1.0885,34.7231,2,34.7228,2,204.3,2,204,2,107,2,31.46,2,0,2,2.19,2,0.205,2,0.112,2,-999,9,2254,2,2352,2
      320696_3,    S04I,93,1,17,17,2,19960623,649,-62.3352,99.5583,4316,1134.4,0.9563,34.7171,2,34.7167,2,206.5,2,205.2,2,111.5,2,31.66,2,0,2,2.21,2,0.178,2,0.098,2,-999,9,2256.6,2,2354,2
      320696_3,    S04I,93,1,16,16,2,19960623,649,-62.3352,99.5583,4316,1325.8,0.8223,34.7104,2,34.71,2,207.9,2,207.4,2,115.6,2,31.9,2,0,2,2.23,2,0.163,2,0.1,2,-999,9,2256.9,2,2354,2
      320696_3,    S04I,93,1,15,15,2,19960623,649,-62.3352,99.5583,4316,1520.1,0.669,34.7023,2,34.7017,2,209.3,2,208.6,2,120.3,2,32.15,2,0,2,2.23,2,0.158,2,0.094,2,-999,9,2258.7,2,2356,2
      320696_3,    S04I,93,1,14,14,2,19960623,649,-62.3352,99.5583,4316,1716.8,0.5468,34.6957,2,34.6941,2,209.9,2,210.9,2,123.1,2,32.3,2,0,2,2.24,2,0.175,2,0.092,2,-999,9,2258.4,2,2354,2
      320696_3,    S04I,93,1,13,13,2,19960623,649,-62.3352,99.5583,4316,1911.4,0.4206,34.6902,2,34.6891,2,214.2,2,213.4,2,125.2,2,32.4,2,0,2,2.25,2,0.206,2,0.108,2,-999,9,2258.2,2,2355,2
      320696_3,    S04I,93,1,12,12,2,19960623,649,-62.3352,99.5583,4316,2108.2,0.3125,34.6854,2,-999,4,216.5,2,216.2,2,126.8,2,32.35,2,0,2,2.25,2,0.248,2,0.128,2,-999,9,2258.1,2,2358,2
      320696_3,    S04I,93,1,11,11,2,19960623,649,-62.3352,99.5583,4316,2300,0.2233,34.6824,2,34.6821,2,219.4,2,219.8,2,127.8,2,32.34,2,0,2,2.24,2,0.294,2,0.157,2,-999,9,2257.6,2,2353,2
      320696_3,    S04I,93,1,10,10,2,19960623,649,-62.3352,99.5583,4316,2502.5,0.1583,34.6808,2,34.6799,2,222.1,2,222.3,2,128.3,2,32.34,2,0,2,2.24,2,0.334,2,0.174,2,-999,9,2257,2,2357,2
      320696_3,    S04I,93,1,9,9,2,19960623,649,-62.3352,99.5583,4316,2701.3,0.0911,34.6795,2,34.6783,2,224.4,2,224.7,2,128.1,2,32.29,2,0,2,2.24,2,0.413,2,0.224,2,-999,9,2256.1,2,2356,2
      320696_3,    S04I,93,1,63,63,2,19960623,649,-62.3352,99.5583,4316,2903.5,0.0308,34.6775,2,34.6765,2,226.9,2,227.5,2,128.4,2,32.23,2,0,2,2.23,2,0.493,2,0.258,2,-999,9,2254.9,2,2359,2
      320696_3,    S04I,93,1,7,7,2,19960623,649,-62.3352,99.5583,4316,3156.9,-0.0284,34.6755,2,34.6738,2,230.1,2,230.2,2,127.8,2,32.13,2,0,2,2.23,2,0.628,2,0.337,2,-999,9,2255.5,2,2355,2
      320696_3,    S04I,93,1,6,6,2,19960623,649,-62.3352,99.5583,4316,3411.7,-0.0723,34.6736,2,34.6728,2,233.1,2,232.6,2,126.5,2,32.08,2,0,2,2.23,2,0.782,2,0.406,2,-999,9,2254.3,2,2355,2
      320696_3,    S04I,93,1,5,5,2,19960623,649,-62.3352,99.5583,4316,3667.6,-0.0959,34.6721,2,34.672,2,234.5,2,234.6,2,124.4,2,32.02,2,0,2,2.22,2,0.975,2,0.492,2,-999,9,2254.4,2,2357,2
      320696_3,    S04I,93,1,39,39,2,19960623,649,-62.3352,99.5583,4316,3924.4,-0.1048,34.6704,2,-999,4,236.7,2,237,2,122.7,2,31.97,2,0,2,2.22,2,1.143,2,0.564,2,-999,9,2252.9,2,2355,2
      320696_3,    S04I,93,1,3,3,2,19960623,649,-62.3352,99.5583,4316,4185.2,-0.1171,34.6692,2,34.669,2,238.2,2,237.2,2,123.8,2,31.96,2,0,2,2.22,2,1.304,2,0.638,2,-999,9,2254,2,2356,2
      320696_3,    S04I,93,1,2,2,2,19960623,649,-62.3352,99.5583,4316,4288.9,-0.1471,34.6671,2,34.6663,2,-999,3,238.1,2,125.7,2,31.96,2,0,2,2.21,2,-999,9,-999,9,-999,9,2254.8,2,2354,2
      320696_3,    S04I,93,1,1,1,2,19960623,649,-62.3352,99.5583,4316,4353.3,-0.14,34.6674,2,34.6671,2,238.4,2,238.5,2,126.3,2,31.96,2,0,2,2.21,2,1.486,2,0.706,2,-999,9,2253.9,2,-999,9