BOTTLE,20211011SIOJHS,,,,,,,,,,,,,,,,,,,,,,,,,,,,,,,,,,,,,,
EXPOCODE,SECT_ID,STNNBR,CASTNO,SAMPNO,BTLNBR,BTLNBR_FLAG_W,DATE,TIME,LATITUDE,LONGITUDE,DEPTH,CTDPRS,CTDTMP,CTDSAL,CTDSAL_FLAG_W,SALNTY,SALNTY_FLAG_W,CTDOXY,CTDOXY_FLAG_W,OXYGEN,OXYGEN_FLAG_W,SILCAT,SILCAT_FLAG_W,NITRAT,NITRAT_FLAG_W,NITRIT,NITRIT_FLAG_W,PHSPHT,PHSPHT_FLAG_W,CFC-11,CFC-11_FLAG_W,CFC-12,CFC-12_FLAG_W,SF6,SF6_FLAG_W,TCARBN,TCARBN_FLAG_W,ALKALI,ALKALI_FLAG_W
,,,,,,,,,,,,DB,ITS-90,PSS-78,,PSS-78,,UMOL/KG,,UMOL/KG,,UMOL/KG,,UMOL/KG,,UMOL/KG,,UMOL/KG,,PMOL/KG,,PMOL/KG,,FMOL/KG,,UMOL/KG,,UMOL/KG,
      320696_3,    S04I,48,1,36,36,2,19960531,848,-63.3312,60.6653,4537,15.2,-1.7691,33.9123,2,33.9148,2,-999,4,343.6,2,37.6,2,26.75,2,0.24,2,1.89,2,6.507,2,3.087,2,-999,9,2173.9,2,2306,2
      320696_3,    S04I,48,1,35,35,2,19960531,848,-63.3312,60.6653,4537,30.5,-1.7648,33.9131,2,33.915,2,-999,4,343.5,2,37.9,2,26.8,2,0.24,2,1.89,2,-999,9,-999,9,-999,9,2173.7,2,-999,9
      320696_3,    S04I,48,1,34,34,2,19960531,848,-63.3312,60.6653,4537,69.8,-1.7441,33.9138,2,33.9191,2,-999,4,342.5,2,38.5,2,26.85,2,0.24,2,1.89,2,6.014,2,2.976,2,-999,9,-999,9,-999,9
      320696_3,    S04I,48,1,33,33,2,19960531,848,-63.3312,60.6653,4537,105.3,1.158,34.454,2,34.4561,2,-999,4,200.7,2,77.9,2,34.69,2,0,2,2.4,2,-999,9,-999,9,-999,9,-999,9,-999,9
      320696_3,    S04I,48,1,32,32,2,19960531,848,-63.3312,60.6653,4537,146.1,1.5965,34.5453,2,34.5503,2,-999,4,182.6,2,83.2,2,34.74,2,0,2,2.39,2,1.12,2,0.596,2,-999,9,-999,9,-999,9
      320696_3,    S04I,48,1,31,31,2,19960531,848,-63.3312,60.6653,4537,186.2,1.7653,34.5967,2,34.5971,2,-999,4,177.8,2,85,2,34.32,2,0,2,2.37,2,-999,9,-999,9,-999,9,-999,9,-999,9
      320696_3,    S04I,48,1,30,30,2,19960531,848,-63.3312,60.6653,4537,221.6,1.8091,34.6234,2,34.6232,2,178.8,2,177,2,85.9,2,33.91,2,0,2,2.34,2,0.559,2,0.307,2,-999,9,-999,9,-999,9
      320696_3,    S04I,48,1,29,29,2,19960531,848,-63.3312,60.6653,4537,256.2,1.8561,34.6438,2,34.6438,2,179.2,2,177.1,2,86.3,2,33.6,2,0,2,2.31,2,-999,9,-999,9,-999,9,-999,9,-999,9
      320696_3,    S04I,48,1,28,28,2,19960531,848,-63.3312,60.6653,4537,306.4,1.8214,34.6611,2,34.6635,2,179.8,2,179.6,2,87.4,2,33.13,2,0,2,2.27,2,0.427,2,0.225,2,-999,9,-999,9,-999,9
      320696_3,    S04I,48,1,27,27,2,19960531,848,-63.3312,60.6653,4537,347.2,1.8539,34.6779,2,34.678,2,181,2,180.6,2,87.3,2,32.77,2,0,2,2.25,2,-999,9,-999,9,-999,9,-999,9,-999,9
      320696_3,    S04I,48,1,26,26,2,19960531,848,-63.3312,60.6653,4537,376.3,1.8491,34.6871,2,34.688,2,182.7,2,182.4,2,87.5,2,32.46,2,0,2,2.23,2,0.32,2,0.171,2,-999,9,-999,9,-999,9
      320696_3,    S04I,48,1,25,25,2,19960531,848,-63.3312,60.6653,4537,405.6,1.8646,34.7002,2,34.7008,2,184.3,2,185.1,2,87.1,2,32.05,2,0,2,2.21,2,-999,9,-999,9,-999,9,-999,9,-999,9
      320696_3,    S04I,48,1,24,24,2,19960531,848,-63.3312,60.6653,4537,507.8,1.8281,34.7213,2,34.7226,2,188.2,2,189.2,2,87.6,2,31.33,2,0,2,2.16,2,0.189,2,0.123,2,-999,9,-999,9,-999,9
      320696_3,    S04I,48,1,23,23,2,19960531,848,-63.3312,60.6653,4537,658.3,1.699,34.7323,2,34.7332,2,193.3,2,194.4,2,89.8,2,30.97,2,0,2,2.12,2,-999,9,-999,9,-999,9,-999,9,-999,9
      320696_3,    S04I,48,1,22,22,2,19960531,848,-63.3312,60.6653,4537,810.2,1.5321,34.7334,2,34.7342,2,197.3,2,197.8,2,94.4,2,30.91,2,0,2,2.12,2,0.171,2,0.099,2,-999,9,-999,9,2348,6
      320696_3,    S04I,48,1,21,21,2,19960531,848,-63.3312,60.6653,4537,870.9,1.5014,34.7358,2,34.7367,2,199.5,2,199.5,2,94.9,2,30.81,2,0,2,2.12,2,0.149,2,0.086,2,-999,9,-999,9,-999,9
      320696_3,    S04I,48,1,20,20,2,19960531,848,-63.3312,60.6653,4537,961.8,1.409,34.7351,2,34.7352,2,201.4,2,200.7,2,97.6,2,30.81,2,0,2,2.11,2,0.126,2,0.079,2,-999,9,-999,9,-999,9
      320696_3,    S04I,48,1,19,19,2,19960531,848,-63.3312,60.6653,4537,1164.6,1.2107,34.7277,2,34.7295,2,204.1,2,203.5,2,103.5,2,31.06,2,0,2,2.13,2,-999,9,-999,9,-999,9,-999,9,-999,9
      320696_3,    S04I,48,1,18,18,2,19960531,848,-63.3312,60.6653,4537,1365.1,1.0256,34.7188,2,34.7202,2,206.1,2,205.2,2,108.4,2,31.36,2,0,2,2.15,2,0.123,2,0.068,2,-999,9,-999,9,-999,9
      320696_3,    S04I,48,1,17,17,2,19960531,848,-63.3312,60.6653,4537,1567.8,0.8357,34.7094,2,34.7098,2,207.4,2,207.1,2,113.6,2,31.72,2,0,2,2.18,2,-999,9,-999,9,-999,9,-999,9,-999,9
      320696_3,    S04I,48,1,16,16,2,19960531,848,-63.3312,60.6653,4537,1773.6,0.675,34.6994,2,34.7002,2,208.9,2,209,2,118.5,2,32.07,2,0,2,2.21,2,0.114,2,0.075,2,-999,9,-999,9,-999,9
      320696_3,    S04I,48,1,15,15,2,19960531,848,-63.3312,60.6653,4537,1975.4,0.5592,34.6935,2,34.6941,2,210.4,2,210.4,2,122.2,2,32.28,2,0,2,2.23,2,-999,9,-999,9,-999,9,-999,9,-999,9
      320696_3,    S04I,48,1,14,14,2,19960531,848,-63.3312,60.6653,4537,2177.4,0.4345,34.6863,2,34.6872,2,211.3,2,211.3,2,125.5,2,32.53,2,0,2,2.24,2,0.118,2,0.065,2,-999,9,-999,9,-999,9
      320696_3,    S04I,48,1,13,13,2,19960531,848,-63.3312,60.6653,4537,2380.9,0.3381,34.6812,2,34.6823,2,213.8,2,214.6,2,127.8,2,32.58,2,0,2,2.26,2,-999,9,-999,9,-999,9,-999,9,-999,9
      320696_3,    S04I,48,1,12,12,2,19960531,848,-63.3312,60.6653,4537,2586.2,0.2454,34.6771,2,34.6781,2,216.9,2,216.6,2,128.5,2,32.68,2,0,2,2.26,2,0.099,2,0.056,2,-999,9,-999,9,-999,9
      320696_3,    S04I,48,1,11,11,2,19960531,848,-63.3312,60.6653,4537,2789.9,0.1664,34.6733,2,34.6736,2,219.7,2,219.8,2,130.1,2,32.67,2,0,2,2.26,2,-999,9,-999,9,-999,9,-999,9,-999,9
      320696_3,    S04I,48,1,10,10,2,19960531,848,-63.3312,60.6653,4537,2993.3,0.1023,34.6704,2,34.671,2,222.6,2,-999,3,130.4,2,32.77,2,0,2,2.26,2,-999,9,-999,9,-999,9,-999,9,-999,9
      320696_3,    S04I,48,1,9,9,2,19960531,848,-63.3312,60.6653,4537,3249.2,0.0048,34.6663,2,34.6667,2,226.7,2,227,2,131.4,2,32.67,2,0,2,2.26,2,0.098,2,0.063,2,-999,9,-999,9,-999,9
      320696_3,    S04I,48,1,63,63,2,19960531,848,-63.3312,60.6653,4537,3249.5,0.0052,34.6664,2,34.6663,2,226.7,2,226.6,2,131.9,2,32.66,2,0,2,2.26,2,0.109,2,0.071,2,-999,9,-999,9,-999,9
      320696_3,    S04I,48,1,7,7,2,19960531,848,-63.3312,60.6653,4537,3503.1,-0.0667,34.6638,2,34.6636,2,230.5,2,230.7,2,132.5,2,32.56,2,0,2,2.26,2,-999,9,-999,9,-999,9,-999,9,-999,9
      320696_3,    S04I,48,1,6,6,2,19960531,848,-63.3312,60.6653,4537,3705.5,-0.1164,34.6616,2,34.662,2,233.1,2,233.5,2,132.4,2,32.5,2,0,2,2.25,2,0.154,2,0.087,2,-999,9,-999,9,-999,9
      320696_3,    S04I,48,1,5,5,2,19960531,848,-63.3312,60.6653,4537,3909.9,-0.1649,34.6599,2,34.66,2,235.7,2,235.4,2,133.4,2,32.45,2,0,2,2.25,2,-999,9,-999,9,-999,9,-999,9,-999,9
      320696_3,    S04I,48,1,4,4,2,19960531,848,-63.3312,60.6653,4537,4118,-0.2012,34.658,2,34.6579,2,237.8,2,237.6,2,135.5,2,32.4,2,0,2,2.24,2,0.208,2,0.121,2,-999,9,-999,9,-999,9
      320696_3,    S04I,48,1,3,3,2,19960531,848,-63.3312,60.6653,4537,4322.7,-0.2309,34.6569,2,34.6559,2,239.7,2,239.7,2,137.1,2,32.39,2,0,2,2.25,2,0.262,2,0.143,2,-999,9,-999,9,-999,9
      320696_3,    S04I,48,1,2,2,2,19960531,848,-63.3312,60.6653,4537,4526.9,-0.2715,34.6537,2,34.6537,2,242.7,2,243.6,2,135.2,2,32.14,2,0,2,2.23,2,0.51,2,0.281,2,-999,9,-999,9,-999,9
      320696_3,    S04I,48,1,1,1,2,19960531,848,-63.3312,60.6653,4537,4589.6,-0.3027,34.6507,2,34.651,2,246.3,2,246.4,2,135.2,2,32.18,2,0.01,2,2.22,2,0.825,2,0.397,2,-999,9,-999,9,-999,9
      320696_3,    S04I,49,1,36,36,2,19960531,1513,-63.0897,61.8153,4500,19.1,-1.4847,33.8915,2,33.8903,2,-999,4,342.5,2,34.4,2,26.91,2,0.25,2,1.88,2,6.751,2,3.178,2,-999,9,2172.1,2,2295,6
      320696_3,    S04I,49,1,35,35,2,19960531,1513,-63.0897,61.8153,4500,49,-1.4726,33.8905,2,33.8891,2,-999,4,342.9,2,34.4,2,26.85,2,0.25,2,1.88,2,-999,9,-999,9,-999,9,2170.1,2,2292,2
      320696_3,    S04I,49,1,34,34,2,19960531,1513,-63.0897,61.8153,4500,73.3,-1.4521,33.8912,2,33.8922,2,-999,4,341,2,34.5,2,26.9,2,0.25,2,1.89,2,-999,9,-999,9,-999,9,2170.5,2,2291,2
      320696_3,    S04I,49,1,33,33,2,19960531,1513,-63.0897,61.8153,4500,109.3,1.3804,34.4156,2,34.4146,2,199.3,2,200.8,2,71.9,2,34.7,2,0.01,2,2.41,2,2.044,2,0.971,2,-999,9,2245.8,2,2320,2
      320696_3,    S04I,49,1,32,32,2,19960531,1513,-63.0897,61.8153,4500,150.2,1.7081,34.4971,2,34.4978,2,181.3,2,184.7,2,77.3,2,34.96,2,0,2,2.43,2,-999,9,-999,9,-999,9,2254.1,2,2330,2
      320696_3,    S04I,49,1,31,31,2,19960531,1513,-63.0897,61.8153,4500,190.3,1.8376,34.5482,2,34.5481,2,175.7,2,178.9,2,79.9,2,34.6,2,0,2,2.41,2,-999,9,-999,9,-999,9,2255.8,2,2332,2
      320696_3,    S04I,49,1,30,30,2,19960531,1513,-63.0897,61.8153,4500,230.7,1.8932,34.5818,2,34.5801,2,174.7,2,175.4,2,81.7,2,34.39,2,0,2,2.38,2,-999,9,-999,9,-999,9,2257.3,2,2342,2
      320696_3,    S04I,49,1,29,29,2,19960531,1513,-63.0897,61.8153,4500,270.9,1.9372,34.6071,2,34.6058,2,174.6,2,174.6,2,82.6,2,33.98,2,0,2,2.35,2,0.582,2,0.295,2,-999,9,2258.3,2,2337,2
      320696_3,    S04I,49,1,28,28,2,19960531,1513,-63.0897,61.8153,4500,311,1.9528,34.6245,2,34.6233,2,175.3,2,175.2,2,83.3,2,33.72,2,0,2,2.33,2,-999,9,-999,9,-999,9,2258.1,2,2344,2
      320696_3,    S04I,49,1,27,27,2,19960531,1513,-63.0897,61.8153,4500,351.2,1.9533,34.646,2,34.646,2,176.6,2,176.1,2,84,2,33.3,2,0,2,2.3,2,-999,9,-999,9,-999,9,2257.4,2,2339,2
      320696_3,    S04I,49,1,26,26,2,19960531,1513,-63.0897,61.8153,4500,381.4,1.9535,34.6592,2,34.658,2,177.3,2,177.2,2,83.8,2,33.05,2,0,2,2.28,2,0.363,2,0.197,2,-999,9,2257.2,2,2346,2
      320696_3,    S04I,49,1,25,25,2,19960531,1513,-63.0897,61.8153,4500,410.5,1.9572,34.6694,2,34.669,2,178.4,2,178.4,2,84.3,2,32.84,2,0,2,2.27,2,-999,9,-999,9,-999,9,2256.1,2,2340,2
      320696_3,    S04I,49,1,24,24,2,19960531,1513,-63.0897,61.8153,4500,511.1,1.9217,34.6987,2,34.6982,2,183.8,2,183.1,2,85.4,2,32.12,2,0,2,2.21,2,0.247,2,0.128,2,-999,9,2255,2,2344,2
      320696_3,    S04I,49,1,23,23,2,19960531,1513,-63.0897,61.8153,4500,661.5,1.8689,34.7289,2,34.7289,2,189.5,2,189.9,2,86.5,2,31.05,2,0,2,2.13,2,-999,9,-999,9,-999,9,2247.4,2,2350,2
      320696_3,    S04I,49,1,22,22,2,19960531,1513,-63.0897,61.8153,4500,814.5,1.7549,34.7417,2,34.7418,2,195,2,195.6,2,88.7,2,30.49,2,0,2,2.1,2,-999,9,-999,9,-999,9,2247.2,2,2350,6
      320696_3,    S04I,49,1,21,21,2,19960531,1513,-63.0897,61.8153,4500,882.8,1.6879,34.7431,2,34.7436,2,196.9,2,197.5,2,90.2,2,30.39,2,0,2,2.1,2,0.121,2,0.073,2,-999,9,2246.3,2,2349,2
      320696_3,    S04I,49,1,20,20,2,19960531,1513,-63.0897,61.8153,4500,934.3,1.6454,34.7445,2,34.7453,2,197.8,2,198.7,2,91.1,2,30.28,2,0,2,2.08,2,-999,9,-999,9,-999,9,2245.7,2,2348,2
      320696_3,    S04I,49,1,19,19,2,19960531,1513,-63.0897,61.8153,4500,1135.5,1.4494,34.741,2,-999,3,201.7,2,201.8,2,96.4,2,30.43,2,0,2,2.1,2,-999,9,-999,9,-999,9,2250.8,2,2354,2
      320696_3,    S04I,49,1,18,18,2,19960531,1513,-63.0897,61.8153,4500,1338,1.2282,34.7313,2,-999,3,203.8,2,203.6,2,102.6,2,30.83,2,0,2,2.12,2,-999,9,-999,9,-999,9,2251.2,2,2354,2
      320696_3,    S04I,49,1,17,17,2,19960531,1513,-63.0897,61.8153,4500,1539.5,1.0368,34.7217,2,34.7228,2,206,2,205.4,2,108.1,2,31.19,2,0,2,2.15,2,-999,9,-999,9,-999,9,2251.5,2,2359,2
      320696_3,    S04I,49,1,16,16,2,19960531,1513,-63.0897,61.8153,4500,1745.5,0.8448,34.7111,2,-999,4,207.8,2,207.7,2,114,2,31.59,2,0,2,2.17,2,-999,9,-999,9,-999,9,2256.6,2,-999,3
      320696_3,    S04I,49,1,15,15,2,19960531,1513,-63.0897,61.8153,4500,1949.2,0.6809,34.701,2,34.7016,2,209,2,208.9,2,118.6,2,31.99,2,0,2,2.19,2,0.114,2,0.044,2,-999,9,2261,2,2361,2
      320696_3,    S04I,49,1,14,14,2,19960531,1513,-63.0897,61.8153,4500,2153.1,0.5547,34.6932,2,34.6941,2,210.5,2,209.9,2,122.3,2,32.19,2,0,2,2.22,2,-999,9,-999,9,-999,9,2259.3,2,-999,3
      320696_3,    S04I,49,1,13,13,2,19960531,1513,-63.0897,61.8153,4500,2355.6,0.4374,34.6867,2,34.6882,2,212.1,2,213,2,125.9,2,32.49,2,0,2,2.24,2,-999,9,-999,9,-999,9,2262.8,2,2362,2
      320696_3,    S04I,49,1,12,12,2,19960531,1513,-63.0897,61.8153,4500,2558.6,0.3417,34.6823,2,34.683,2,214.5,2,214.6,2,128.1,2,32.59,2,0,2,2.25,2,-999,9,-999,9,-999,9,2262.2,2,-999,3
      320696_3,    S04I,49,1,11,11,2,19960531,1513,-63.0897,61.8153,4500,2762.6,0.2447,34.6775,2,34.6781,2,216.8,2,217.3,2,130,2,32.59,2,0,2,2.25,2,-999,9,-999,9,-999,9,2260.2,2,2360,2
      320696_3,    S04I,49,1,10,10,2,19960531,1513,-63.0897,61.8153,4500,2965.2,0.1674,34.674,2,34.6745,2,219.9,2,219.9,2,131.1,2,32.63,2,0,2,2.26,2,-999,9,-999,9,-999,9,2257.1,2,2358,2
      320696_3,    S04I,49,1,9,9,2,19960531,1513,-63.0897,61.8153,4500,3252.8,0.0612,34.6701,2,34.6702,2,224.2,2,-999,3,133.1,2,32.58,2,0,2,2.26,2,0.085,2,0.053,2,-999,9,2259.3,2,2361,2
      320696_3,    S04I,49,1,63,63,2,19960531,1513,-63.0897,61.8153,4500,3254.1,0.061,34.67,2,34.6706,2,224.2,2,224.4,2,132.4,2,32.48,2,0,2,2.26,2,0.078,2,0.048,2,-999,9,2258.2,2,-999,4
      320696_3,    S04I,49,1,7,7,2,19960531,1513,-63.0897,61.8153,4500,3478.8,-0.0159,34.6669,2,34.6672,2,227.9,2,228.6,2,132.6,2,32.47,2,0,2,2.26,2,-999,9,-999,9,-999,9,2257,2,2362,2
      320696_3,    S04I,49,1,6,6,2,19960531,1513,-63.0897,61.8153,4500,3681.2,-0.0801,34.6641,2,34.6644,2,231.1,2,231.4,2,133.1,2,32.47,2,0,2,2.25,2,-999,9,-999,9,-999,9,2254.4,2,-999,4
      320696_3,    S04I,49,1,5,5,2,19960531,1513,-63.0897,61.8153,4500,3887,-0.1372,34.6625,2,34.6623,2,234.2,2,234.3,2,134.3,2,32.36,2,0,2,2.24,2,0.164,2,0.101,2,-999,9,2253.2,2,2356,2
      320696_3,    S04I,49,1,4,4,2,19960531,1513,-63.0897,61.8153,4500,4092.2,-0.1841,34.6606,2,34.6599,2,237.1,2,237.2,2,137.4,2,32.31,2,0,2,2.24,2,0.204,2,0.117,2,-999,9,2253.6,2,2355,2
      320696_3,    S04I,49,1,3,3,2,19960531,1513,-63.0897,61.8153,4500,4295.2,-0.2155,34.659,2,34.6585,2,239.5,2,239,2,140.4,2,32.36,2,0,2,2.23,2,0.232,2,0.135,2,-999,9,2254,2,2355,2
      320696_3,    S04I,49,1,2,2,2,19960531,1513,-63.0897,61.8153,4500,4499.6,-0.2782,34.655,2,34.6537,2,243.7,2,244.2,2,135,2,32.15,2,0,2,2.23,2,0.622,2,0.331,2,-999,9,2251.7,2,2356,2
      320696_3,    S04I,49,1,1,1,2,19960531,1513,-63.0897,61.8153,4500,4545.5,-0.3025,34.6525,2,34.652,2,246,2,246.1,2,136.1,2,32.09,2,0.01,2,2.21,2,-999,9,-999,9,-999,9,2251,2,2355,2