BOTTLE,20211011SIOJHS,,,,,,,,,,,,,,,,,,,,,,,,,,,,,,,,,,,,,,
EXPOCODE,SECT_ID,STNNBR,CASTNO,SAMPNO,BTLNBR,BTLNBR_FLAG_W,DATE,TIME,LATITUDE,LONGITUDE,DEPTH,CTDPRS,CTDTMP,CTDSAL,CTDSAL_FLAG_W,SALNTY,SALNTY_FLAG_W,CTDOXY,CTDOXY_FLAG_W,OXYGEN,OXYGEN_FLAG_W,SILCAT,SILCAT_FLAG_W,NITRAT,NITRAT_FLAG_W,NITRIT,NITRIT_FLAG_W,PHSPHT,PHSPHT_FLAG_W,CFC-11,CFC-11_FLAG_W,CFC-12,CFC-12_FLAG_W,SF6,SF6_FLAG_W,TCARBN,TCARBN_FLAG_W,ALKALI,ALKALI_FLAG_W
,,,,,,,,,,,,DB,ITS-90,PSS-78,,PSS-78,,UMOL/KG,,UMOL/KG,,UMOL/KG,,UMOL/KG,,UMOL/KG,,UMOL/KG,,PMOL/KG,,PMOL/KG,,FMOL/KG,,UMOL/KG,,UMOL/KG,
      320696_3,    S04I,94,1,36,36,2,19960623,1502,-62.3283,101.0862,4468,14.1,-1.751,33.9164,2,33.9134,2,-999,4,338.6,2,37.2,2,27.18,2,0.27,2,1.9,2,6.542,2,3.075,2,-999,9,2169.3,2,2296,2
      320696_3,    S04I,94,1,35,35,2,19960623,1502,-62.3283,101.0862,4468,29.1,-1.7728,33.9471,2,33.9426,2,-999,4,337.8,2,39.7,2,27.19,2,0.25,2,1.92,2,-999,9,-999,9,-999,9,2173,2,-999,9
      320696_3,    S04I,94,1,34,34,2,19960623,1502,-62.3283,101.0862,4468,54.5,-1.7025,33.9853,2,33.9887,2,-999,4,335.1,2,41.1,2,27.3,2,0.25,2,1.92,2,6.468,2,3.052,2,-999,9,-999,9,-999,9
      320696_3,    S04I,94,1,33,33,2,19960623,1502,-62.3283,101.0862,4468,78.2,0.0531,34.2479,2,34.2374,2,-999,4,266.6,2,58.1,2,31.33,2,0.09,2,2.18,2,-999,9,-999,9,-999,9,-999,9,-999,9
      320696_3,    S04I,94,1,32,32,2,19960623,1502,-62.3283,101.0862,4468,104.2,1.12,34.4614,2,34.4499,2,215.9,2,210.7,2,72.3,2,33.57,2,0.01,2,2.33,2,2.133,2,1.008,2,-999,9,-999,9,-999,9
      320696_3,    S04I,94,1,31,31,2,19960623,1502,-62.3283,101.0862,4468,144.5,1.5495,34.5725,2,34.5691,2,193.5,2,190.9,2,78.6,2,33.42,2,0,2,2.31,2,1.104,2,0.562,2,-999,9,-999,9,-999,9
      320696_3,    S04I,94,1,30,30,2,19960623,1502,-62.3283,101.0862,4468,170,1.7706,34.6214,2,34.619,2,180.6,2,181,2,80.6,2,33.16,2,0,2,2.29,2,0.68,2,0.349,2,-999,9,-999,9,-999,9
      320696_3,    S04I,94,1,29,29,2,19960623,1502,-62.3283,101.0862,4468,194.1,1.2636,34.5874,2,34.5849,2,196.9,2,197.2,2,80.4,2,32.86,2,0,2,2.27,2,1.271,2,0.609,2,-999,9,-999,9,-999,9
      320696_3,    S04I,94,1,28,28,2,19960623,1502,-62.3283,101.0862,4468,224.6,1.3482,34.6208,2,34.6183,2,198.2,2,195.3,2,82.3,2,32.55,2,0,2,2.25,2,1.045,2,0.523,2,-999,9,-999,9,-999,9
      320696_3,    S04I,94,1,27,27,2,19960623,1502,-62.3283,101.0862,4468,275.5,1.4796,34.657,2,34.6556,2,191.5,2,192,2,84.3,2,32.19,2,0,2,2.22,2,-999,9,-999,9,-999,9,-999,9,-999,9
      320696_3,    S04I,94,1,26,26,2,19960623,1502,-62.3283,101.0862,4468,325.6,1.6182,34.6877,2,34.6857,2,190.5,2,190.4,2,85.6,2,31.74,2,0,2,2.2,2,0.53,2,0.272,2,-999,9,-999,9,-999,9
      320696_3,    S04I,94,1,25,25,2,19960623,1502,-62.3283,101.0862,4468,366,1.6956,34.7067,2,34.7052,2,188.2,2,189.6,2,86.6,2,31.48,2,0,2,2.18,2,0.382,2,0.193,2,-999,9,-999,9,-999,9
      320696_3,    S04I,94,1,24,24,2,19960623,1502,-62.3283,101.0862,4468,406.4,1.6827,34.7139,2,34.7127,2,190.8,2,191,2,87.4,2,31.28,2,0,2,2.16,2,0.348,2,0.19,2,-999,9,-999,9,-999,9
      320696_3,    S04I,94,1,23,23,2,19960623,1502,-62.3283,101.0862,4468,480.2,1.6281,34.7234,2,34.7215,2,194,2,193.1,2,88.9,2,30.97,2,0,2,2.15,2,-999,9,-999,9,-999,9,-999,9,-999,9
      320696_3,    S04I,94,1,22,22,2,19960623,1502,-62.3283,101.0862,4468,578.4,1.5515,34.7298,2,34.7288,2,194.6,2,196.4,2,91.2,2,30.67,2,0,2,2.13,2,0.264,2,0.148,2,-999,9,-999,9,-999,9
      320696_3,    S04I,94,1,21,21,2,19960623,1502,-62.3283,101.0862,4468,678.5,1.5183,34.7366,2,34.7355,2,196.1,2,197.6,2,93.5,2,30.52,2,0,2,2.12,2,0.187,2,0.098,2,-999,9,-999,9,-999,9
      320696_3,    S04I,94,1,20,20,2,19960623,1502,-62.3283,101.0862,4468,809.5,1.3639,34.7327,2,34.733,2,200.6,2,200.2,2,97.4,2,30.67,2,0,2,2.12,2,0.196,2,0.099,2,-999,9,-999,9,-999,9
      320696_3,    S04I,94,1,19,19,2,19960623,1502,-62.3283,101.0862,4468,1006.4,1.1483,34.7258,2,34.7261,2,203.7,2,202.9,2,103.6,2,30.92,2,0,2,2.14,2,-999,9,-999,9,-999,9,-999,9,-999,9
      320696_3,    S04I,94,1,18,18,2,19960623,1502,-62.3283,101.0862,4468,1209.4,0.9409,34.716,2,34.7167,2,205,2,205.2,2,110,2,31.27,2,0,2,2.18,2,0.157,2,0.079,2,-999,9,-999,9,-999,9
      320696_3,    S04I,94,1,17,17,2,19960623,1502,-62.3283,101.0862,4468,1413.9,0.7176,34.7053,2,34.7053,2,207.6,2,207.8,2,116.4,2,31.67,2,0,2,2.2,2,-999,9,-999,9,-999,9,-999,9,-999,9
      320696_3,    S04I,94,1,16,16,2,19960623,1502,-62.3283,101.0862,4468,1615.8,0.597,34.6993,2,34.6983,2,209.9,2,209.6,2,119.7,2,31.82,2,0,2,2.22,2,0.143,2,0.077,2,-999,9,-999,9,-999,9
      320696_3,    S04I,94,1,15,15,2,19960623,1502,-62.3283,101.0862,4468,1812.5,0.4104,34.689,2,34.689,2,213.9,2,214,2,122.1,2,31.97,2,0,2,2.22,2,-999,9,-999,9,-999,9,-999,9,-999,9
      320696_3,    S04I,94,1,14,14,2,19960623,1502,-62.3283,101.0862,4468,2014.2,0.3135,34.6861,2,34.6869,2,215.6,2,216,2,125.6,2,32.07,2,0,2,2.23,2,0.22,2,0.112,2,-999,9,-999,9,-999,9
      320696_3,    S04I,94,1,13,13,2,19960623,1502,-62.3283,101.0862,4468,2219,0.1988,34.6819,2,34.6822,2,220.7,2,220.1,2,126.1,2,32.01,2,0,2,2.23,2,-999,9,-999,9,-999,9,-999,9,-999,9
      320696_3,    S04I,94,1,12,12,2,19960623,1502,-62.3283,101.0862,4468,2420.9,0.1166,34.6788,2,34.6798,2,223.8,2,223.6,2,126.4,2,31.96,2,0,2,2.22,2,0.404,2,0.215,2,-999,9,-999,9,-999,9
      320696_3,    S04I,94,1,11,11,2,19960623,1502,-62.3283,101.0862,4468,2628.6,0.017,34.6757,7,34.6761,2,227.5,2,227.5,2,124.6,2,31.91,2,0,2,2.21,2,-999,9,-999,9,-999,9,-999,9,-999,9
      320696_3,    S04I,94,1,10,10,2,19960623,1502,-62.3283,101.0862,4468,2828.5,-0.0573,34.6732,2,34.6734,2,231.1,2,230.7,2,123.8,2,31.81,2,0,2,2.21,2,0.753,2,0.387,2,-999,9,-999,9,-999,9
      320696_3,    S04I,94,1,9,9,2,19960623,1502,-62.3283,101.0862,4468,3028,-0.1004,34.6724,7,34.672,2,232.9,2,-999,3,123.1,2,31.86,2,0,2,2.21,2,-999,9,-999,9,-999,9,2255.7,2,-999,9
      320696_3,    S04I,94,1,63,63,2,19960623,1502,-62.3283,101.0862,4468,3221.2,-0.1143,34.6716,2,34.6716,2,234.3,2,233.9,2,122.9,2,31.8,2,0,2,2.21,2,0.968,2,0.481,2,-999,9,-999,9,-999,9
      320696_3,    S04I,94,1,7,7,2,19960623,1502,-62.3283,101.0862,4468,3425.9,-0.1276,34.6714,7,34.6705,2,235,2,235.6,2,122.5,2,31.8,2,0,2,2.21,2,-999,9,-999,9,-999,9,-999,9,-999,9
      320696_3,    S04I,94,1,6,6,2,19960623,1502,-62.3283,101.0862,4468,3685.4,-0.137,34.6703,7,34.6699,2,236.4,2,236.6,2,122.6,2,31.8,2,0,2,2.21,2,1.171,2,0.568,2,-999,9,-999,9,-999,9
      320696_3,    S04I,94,1,5,5,2,19960623,1502,-62.3283,101.0862,4468,3945.1,-0.126,34.669,2,34.6688,2,237.2,2,236.6,2,121.5,2,31.75,2,0,2,2.21,2,-999,9,-999,9,-999,9,-999,9,-999,9
      320696_3,    S04I,94,1,39,39,2,19960623,1502,-62.3283,101.0862,4468,4151.3,-0.1159,34.6689,7,34.6692,2,237.5,2,236.8,2,122.6,2,31.8,2,0,2,2.21,2,-999,9,-999,9,-999,9,-999,9,-999,9
      320696_3,    S04I,94,1,3,3,2,19960623,1502,-62.3283,101.0862,4468,4368.6,-0.114,34.6675,7,34.6682,2,238.7,2,238.7,2,122.2,2,31.79,2,0,2,2.21,2,1.428,2,0.671,2,-999,9,-999,9,-999,9
      320696_3,    S04I,94,1,2,2,2,19960623,1502,-62.3283,101.0862,4468,4469,-0.1132,34.6668,7,34.6672,2,238.2,2,238.1,2,122.7,2,31.74,2,0,2,2.2,2,1.45,2,0.689,2,-999,9,-999,9,-999,9
      320696_3,    S04I,94,1,1,1,2,19960623,1502,-62.3283,101.0862,4468,4504,-0.1088,34.6666,2,34.6684,2,-999,3,238.1,2,122.6,2,31.74,2,0,2,2.2,2,1.456,2,0.689,2,-999,9,-999,9,-999,9
      320696_3,    S04I,95,1,36,36,2,19960623,2331,-62.216,102.312,4447,15.8,-1.759,33.9213,2,33.9209,2,-999,4,340.3,2,37.8,2,27.14,2,0.27,2,1.9,2,6.56,2,3.109,2,-999,9,2167.8,2,2293,2
      320696_3,    S04I,95,1,35,35,2,19960623,2331,-62.216,102.312,4447,36.3,-1.7545,33.9246,2,33.9232,2,-999,4,340.4,2,37.8,2,27.13,2,0.27,2,1.9,2,6.618,2,3.15,2,-999,9,2170,2,-999,9
      320696_3,    S04I,95,1,34,34,2,19960623,2331,-62.216,102.312,4447,66,-1.0698,34.018,2,34.0204,2,-999,4,326.3,2,40.1,2,27.87,2,0.23,2,1.96,2,6.15,2,2.922,2,-999,9,2180.7,2,-999,9
      320696_3,    S04I,95,1,33,33,2,19960623,2331,-62.216,102.312,4447,87.5,0.1826,34.2453,2,34.2481,2,-999,4,264,2,57.9,2,31.68,2,0.07,2,2.21,2,4.164,2,1.94,2,-999,9,2213.3,2,-999,9
      320696_3,    S04I,95,1,32,32,2,19960623,2331,-62.216,102.312,4447,117.3,1.1823,34.419,2,34.422,2,-999,4,212.4,2,69.6,2,33.81,2,0,2,2.36,2,2.279,2,1.063,2,-999,9,2241.2,2,-999,9
      320696_3,    S04I,95,1,31,31,2,19960623,2331,-62.216,102.312,4447,150.4,1.7092,34.5287,2,34.5272,2,189.7,2,187.9,2,75.2,2,34.05,2,0,2,2.37,2,1.164,2,0.574,2,-999,9,2249.9,2,-999,9
      320696_3,    S04I,95,1,30,30,2,19960623,2331,-62.216,102.312,4447,180.9,1.7155,34.5655,2,34.5649,2,207.8,2,183.3,2,77.7,2,33.8,2,0,2,2.35,2,0.938,2,0.47,2,-999,9,2253.2,2,-999,9
      320696_3,    S04I,95,1,29,29,2,19960623,2331,-62.216,102.312,4447,216.7,1.3947,34.5625,2,34.5604,2,203.4,2,193.9,2,78.8,2,33.39,2,0,2,2.33,2,1.27,2,0.636,2,-999,9,2250.8,2,-999,9
      320696_3,    S04I,95,1,28,28,2,19960623,2331,-62.216,102.312,4447,256.6,1.772,34.6376,2,34.6353,2,183.6,2,182.5,2,81.8,2,32.93,2,0,2,2.29,2,-999,9,-999,9,-999,9,2253.4,2,-999,9
      320696_3,    S04I,95,1,27,27,2,19960623,2331,-62.216,102.312,4447,306.8,1.6757,34.6543,2,34.6538,2,186.3,2,186.1,2,83.1,2,32.38,2,0,2,2.26,2,0.633,2,0.326,2,-999,9,2252.1,2,-999,9
      320696_3,    S04I,95,1,26,26,2,19960623,2331,-62.216,102.312,4447,379.5,1.6687,34.6779,2,34.6769,2,187.1,2,187.8,2,84.7,2,32.02,2,0,2,2.22,2,-999,9,-999,9,-999,9,2252.3,2,-999,9
      320696_3,    S04I,95,1,25,25,2,19960623,2331,-62.216,102.312,4447,455.7,1.6981,34.6994,2,34.6992,2,188.6,2,189.3,2,86,2,31.57,2,0,2,2.19,2,0.434,2,0.22,2,-999,9,2251.1,2,-999,9
      320696_3,    S04I,95,1,24,24,2,19960623,2331,-62.216,102.312,4447,531.2,1.571,34.7043,2,34.7041,2,193.2,2,193.7,2,87.8,2,31.31,2,0,2,2.18,2,-999,9,-999,9,-999,9,2250.1,2,-999,9
      320696_3,    S04I,95,1,23,23,2,19960623,2331,-62.216,102.312,4447,632.6,1.6054,34.7263,2,34.7259,2,192.3,2,194.3,2,90.3,2,30.91,2,0,2,2.15,2,0.297,2,0.148,2,-999,9,2248.5,2,-999,9
      320696_3,    S04I,95,1,22,22,2,19960623,2331,-62.216,102.312,4447,759.3,1.4916,34.7303,2,34.73,2,197.4,2,197.8,2,92.6,2,30.7,2,0,2,2.13,2,-999,9,-999,9,-999,9,2248.8,2,-999,9
      320696_3,    S04I,95,1,21,21,2,19960623,2331,-62.216,102.312,4447,885.9,1.3885,34.7313,2,34.731,2,199.1,2,199.9,2,96.1,2,30.65,2,0,2,2.13,2,0.241,2,0.119,2,-999,9,2250.1,2,-999,9
      320696_3,    S04I,95,1,20,20,2,19960623,2331,-62.216,102.312,4447,1011.7,1.287,34.7295,2,34.7302,2,201.5,2,201.4,2,99.5,2,30.75,2,0,2,2.14,2,-999,9,-999,9,-999,9,2251.1,2,-999,9
      320696_3,    S04I,95,1,19,19,2,19960623,2331,-62.216,102.312,4447,1161.8,1.1853,34.7277,2,34.7277,2,202.5,2,203,2,103.4,2,30.79,2,0,2,2.14,2,0.173,2,0.084,2,-999,9,2252,2,-999,9
      320696_3,    S04I,95,1,18,18,2,19960623,2331,-62.216,102.312,4447,1305.1,1.0741,34.7222,2,34.7228,2,204.6,2,204.5,2,106.6,2,30.99,2,0,2,2.16,2,-999,9,-999,9,-999,9,2253.6,2,-999,9
      320696_3,    S04I,95,1,17,17,2,19960623,2331,-62.216,102.312,4447,1510.7,0.913,34.7146,2,34.7153,2,206,2,205.6,2,111.5,2,31.29,2,0,2,2.19,2,0.152,2,0.077,2,-999,9,2255.9,2,-999,9
      320696_3,    S04I,95,1,16,16,2,19960623,2331,-62.216,102.312,4447,1716.7,0.7207,34.7033,2,34.7041,2,208.4,2,208.4,2,116.2,2,31.64,2,0,2,2.21,2,-999,9,-999,9,-999,9,2257.7,2,-999,9
      320696_3,    S04I,95,1,15,15,2,19960623,2331,-62.216,102.312,4447,1920.4,0.6125,34.6983,2,34.6988,2,210.6,2,210.2,2,118.9,2,31.89,2,0,2,2.23,2,0.195,2,0.098,2,-999,9,2258.4,2,-999,9
      320696_3,    S04I,95,1,14,14,2,19960623,2331,-62.216,102.312,4447,2121.1,0.4696,34.6914,2,34.6912,2,212.2,2,212.8,2,122.5,2,31.98,2,0,2,2.24,2,-999,9,-999,9,-999,9,2258.3,2,-999,9
      320696_3,    S04I,95,1,13,13,2,19960623,2331,-62.216,102.312,4447,2323.4,0.3469,34.6865,2,34.6863,2,215.6,2,216.2,2,124,2,32.03,2,0,2,2.24,2,0.255,2,0.136,2,-999,9,2258.2,2,-999,9
      320696_3,    S04I,95,1,12,12,2,19960623,2331,-62.216,102.312,4447,2530.6,0.2435,34.6827,2,34.6835,2,219.4,2,219.6,2,125.5,2,32.03,2,0,2,2.24,2,-999,9,-999,9,-999,9,2255.1,2,-999,9
      320696_3,    S04I,95,1,11,11,2,19960623,2331,-62.216,102.312,4447,2736,0.1738,34.6811,2,34.6814,2,222.4,2,222.2,2,126.5,2,32.02,2,0,2,2.24,2,0.366,2,0.192,2,-999,9,2257.9,2,-999,9
      320696_3,    S04I,95,1,10,10,2,19960623,2331,-62.216,102.312,4447,2934,0.0999,34.6782,2,34.6778,2,224.9,2,224.9,2,125.6,2,31.97,2,0,2,2.24,2,-999,9,-999,9,-999,9,2255.8,2,-999,9
      320696_3,    S04I,95,1,9,9,2,19960623,2331,-62.216,102.312,4447,3130.5,0.0444,34.6774,2,34.6774,2,228.5,2,227.4,2,127.6,2,32.02,2,0,2,2.25,2,0.486,2,0.263,2,-999,9,2256.2,2,-999,9
      320696_3,    S04I,95,1,63,63,2,19960623,2331,-62.216,102.312,4447,3346.3,-0.009,34.6749,2,34.6755,2,230.5,2,230.2,2,127,2,32.02,2,0,2,2.24,2,-999,9,-999,9,-999,9,2255.6,2,-999,9
      320696_3,    S04I,95,1,7,7,2,19960623,2331,-62.216,102.312,4447,3548.7,-0.0497,34.6742,2,34.6739,2,231.9,2,231.9,2,127.1,2,32.01,2,0,2,2.24,2,0.712,2,0.368,2,-999,9,2256,2,-999,9
      320696_3,    S04I,95,1,6,6,2,19960623,2331,-62.216,102.312,4447,3754.4,-0.0764,34.6725,2,34.6731,2,233.4,2,233.7,2,127.1,2,31.96,2,0,2,2.23,2,-999,9,-999,9,-999,9,2255.6,2,-999,9
      320696_3,    S04I,95,1,5,5,2,19960623,2331,-62.216,102.312,4447,3957.7,-0.1024,34.6705,2,34.6708,2,235.2,2,235.2,2,125.6,2,31.9,2,0,2,2.22,2,1.013,2,0.498,2,-999,9,2254.9,2,-999,9
      320696_3,    S04I,95,1,39,39,2,19960623,2331,-62.216,102.312,4447,4168.8,-0.1132,34.6693,2,34.67,2,235.5,2,236.3,2,125.2,2,31.8,2,0,2,2.22,2,-999,9,-999,9,-999,9,2254.4,2,-999,9
      320696_3,    S04I,95,1,3,3,2,19960623,2331,-62.216,102.312,4447,4320.7,-0.1248,34.6683,2,34.669,2,237,2,237.4,2,124.4,2,31.85,2,0,2,2.21,2,1.327,2,0.644,2,-999,9,2254.8,2,-999,9
      320696_3,    S04I,95,1,2,2,2,19960623,2331,-62.216,102.312,4447,4412.2,-0.14,34.6663,2,34.6671,2,238.5,2,238.3,2,125.6,2,31.84,2,0,2,2.21,2,-999,9,-999,9,-999,9,2255.2,2,-999,9
      320696_3,    S04I,95,1,1,1,2,19960623,2331,-62.216,102.312,4447,4478.2,-0.1433,34.6658,2,34.6667,2,238.9,2,238.7,2,125.5,2,31.84,2,0,2,2.21,2,1.577,2,0.752,2,-999,9,2253.2,2,-999,9