BOTTLE,20211011SIOJHS,,,,,,,,,,,,,,,,,,,,,,,,,,,,,,,,,,,,,,
EXPOCODE,SECT_ID,STNNBR,CASTNO,SAMPNO,BTLNBR,BTLNBR_FLAG_W,DATE,TIME,LATITUDE,LONGITUDE,DEPTH,CTDPRS,CTDTMP,CTDSAL,CTDSAL_FLAG_W,SALNTY,SALNTY_FLAG_W,CTDOXY,CTDOXY_FLAG_W,OXYGEN,OXYGEN_FLAG_W,SILCAT,SILCAT_FLAG_W,NITRAT,NITRAT_FLAG_W,NITRIT,NITRIT_FLAG_W,PHSPHT,PHSPHT_FLAG_W,CFC-11,CFC-11_FLAG_W,CFC-12,CFC-12_FLAG_W,SF6,SF6_FLAG_W,TCARBN,TCARBN_FLAG_W,ALKALI,ALKALI_FLAG_W
,,,,,,,,,,,,DB,ITS-90,PSS-78,,PSS-78,,UMOL/KG,,UMOL/KG,,UMOL/KG,,UMOL/KG,,UMOL/KG,,UMOL/KG,,PMOL/KG,,PMOL/KG,,FMOL/KG,,UMOL/KG,,UMOL/KG,
      320696_3,    S04I,13,1,36,36,2,19960520,553,-63.9995,30.0167,5135,17,-1.6642,33.9574,2,33.9596,2,-999,4,348.5,2,50.6,2,25.51,2,0.28,2,1.79,2,-999,9,-999,9,-999,9,2173.9,2,2300,6
      320696_3,    S04I,13,1,35,35,2,19960520,553,-63.9995,30.0167,5135,35.9,-1.6633,33.9581,2,33.9596,2,-999,4,349,2,50.5,2,25.51,2,0.28,2,1.79,2,-999,9,-999,9,-999,9,2175.3,2,-999,9
      320696_3,    S04I,13,1,34,34,2,19960520,553,-63.9995,30.0167,5135,60.8,-1.6555,33.9581,2,33.9602,2,-999,4,347.9,2,50.5,2,25.46,2,0.27,2,1.79,2,-999,9,-999,9,-999,9,2175.4,2,2303,2
      320696_3,    S04I,13,1,33,33,2,19960520,553,-63.9995,30.0167,5135,86.1,-1.4286,34.2114,2,34.2213,2,-999,4,311.5,2,60.9,2,28.03,2,0.3,2,2,2,-999,9,-999,9,-999,9,2205.2,2,-999,9
      320696_3,    S04I,13,1,32,32,2,19960520,553,-63.9995,30.0167,5135,121.5,-0.0913,34.3916,2,34.4047,2,-999,4,249.5,2,77.4,2,31.85,2,0.01,2,2.21,2,-999,9,-999,9,-999,9,2236,2,2326,2
      320696_3,    S04I,13,1,31,31,2,19960520,553,-63.9995,30.0167,5135,161,0.8337,34.5489,2,34.5502,2,-999,3,205.8,2,89.5,2,33.28,2,0.01,2,2.3,2,-999,9,-999,9,-999,9,2254.6,2,-999,9
      320696_3,    S04I,13,1,30,30,2,19960520,553,-63.9995,30.0167,5135,196.7,0.7524,34.5763,2,34.5787,2,206.2,2,-999,4,94.7,2,32.89,2,0.01,2,2.27,2,-999,9,-999,9,-999,9,2252.9,2,2340,2
      320696_3,    S04I,13,1,29,29,2,19960520,553,-63.9995,30.0167,5135,231.9,0.7309,34.6075,2,34.6085,2,204.3,2,-999,4,99.2,2,32.64,2,0.01,2,2.25,2,-999,9,-999,9,-999,9,2255.4,2,-999,9
      320696_3,    S04I,13,1,28,28,2,19960520,553,-63.9995,30.0167,5135,266.5,0.7794,34.6354,2,34.6358,2,198.5,2,203,2,102.5,2,32.59,2,0.01,2,2.25,2,-999,9,-999,9,-999,9,2256.6,2,2346,2
      320696_3,    S04I,13,1,27,27,2,19960520,553,-63.9995,30.0167,5135,307.8,0.8757,34.6656,2,34.6659,2,196.2,2,199.5,2,104.6,2,32.44,2,0,2,2.23,2,-999,9,-999,9,-999,9,2259.3,2,-999,9
      320696_3,    S04I,13,1,26,26,2,19960520,553,-63.9995,30.0167,5135,347.7,1.0195,34.6897,2,34.6895,2,196.3,2,198.1,2,104.6,2,32.04,2,0,2,2.22,2,-999,9,-999,9,-999,9,2256.5,2,2350,2
      320696_3,    S04I,13,1,25,25,2,19960520,553,-63.9995,30.0167,5135,408.3,0.9797,34.6972,2,34.6993,2,197.8,2,199.3,2,107.1,2,31.9,2,0,2,2.21,2,-999,9,-999,9,-999,9,2258.3,2,-999,9
      320696_3,    S04I,13,1,24,24,2,19960520,553,-63.9995,30.0167,5135,469.2,1.0118,34.7076,2,34.7075,2,199.1,2,199.9,2,106.8,2,31.7,2,0,2,2.19,2,-999,9,-999,9,-999,9,2259,2,2354,2
      320696_3,    S04I,13,1,23,23,2,19960520,553,-63.9995,30.0167,5135,539.1,0.9539,34.7067,2,34.707,2,201,2,201.1,2,108.4,2,31.7,2,0,2,2.19,2,-999,9,-999,9,-999,9,2258.4,2,-999,9
      320696_3,    S04I,13,1,22,22,2,19960520,553,-63.9995,30.0167,5135,608.1,0.887,34.7056,2,34.7052,2,201.7,2,202.1,2,110.4,2,31.75,2,0,2,2.2,2,-999,9,-999,9,-999,9,2261.6,2,2357,2
      320696_3,    S04I,13,1,21,21,2,19960520,553,-63.9995,30.0167,5135,709.5,0.8094,34.7035,2,34.7034,2,203.1,2,203,2,112.9,2,31.84,2,0,2,2.2,2,-999,9,-999,9,-999,9,2258.3,2,-999,9
      320696_3,    S04I,13,1,20,20,2,19960520,553,-63.9995,30.0167,5135,810.4,0.7068,34.6995,2,34.6995,2,204.5,2,204.2,2,115.6,2,31.99,2,0,2,2.22,2,-999,9,-999,9,-999,9,2260.3,2,2358,6
      320696_3,    S04I,13,1,19,19,2,19960520,553,-63.9995,30.0167,5135,959.7,0.6143,34.6953,2,34.6961,2,205.3,2,205.4,2,118.5,2,32.19,2,0,2,2.23,2,-999,9,-999,9,-999,9,2259.9,2,-999,9
      320696_3,    S04I,13,1,18,18,2,19960520,553,-63.9995,30.0167,5135,1107.4,0.506,34.6907,2,34.6903,2,206.5,2,-999,4,121.8,2,32.38,2,0,2,2.25,2,-999,9,-999,9,-999,9,2263.9,2,-999,9
      320696_3,    S04I,13,1,17,17,2,19960520,553,-63.9995,30.0167,5135,1254.2,0.4276,34.6869,2,34.6869,2,207.1,2,-999,4,123.9,2,32.58,2,0,2,2.25,2,-999,9,-999,9,-999,9,2264.6,2,-999,9
      320696_3,    S04I,13,1,16,16,2,19960520,553,-63.9995,30.0167,5135,1401,0.3643,34.684,2,34.6838,2,208.4,2,208.7,2,125.7,2,32.63,2,0,2,2.26,2,-999,9,-999,9,-999,9,2264.1,2,-999,9
      320696_3,    S04I,13,1,15,15,2,19960520,553,-63.9995,30.0167,5135,1615.5,0.2862,34.6802,2,34.6804,2,211.9,2,211.2,2,127.5,2,32.68,2,0,2,2.26,2,-999,9,-999,9,-999,9,2263.9,2,-999,9
      320696_3,    S04I,13,1,14,14,2,19960520,553,-63.9995,30.0167,5135,1872.7,0.1767,34.6751,2,34.6745,2,214.8,2,216.1,2,128.6,2,32.58,2,0,2,2.27,2,-999,9,-999,9,-999,9,2262.6,2,-999,9
      320696_3,    S04I,13,1,13,13,2,19960520,553,-63.9995,30.0167,5135,2126.7,0.0811,34.6715,2,34.6714,2,219.4,2,-999,4,129.2,2,32.57,2,0,2,2.26,2,-999,9,-999,9,-999,9,2261.5,2,-999,9
      320696_3,    S04I,13,1,12,12,2,19960520,553,-63.9995,30.0167,5135,2432.9,-0.0227,34.6665,2,34.6665,2,224.6,2,-999,4,129.4,2,32.48,2,0,2,2.25,2,-999,9,-999,9,-999,9,2261.2,2,-999,9
      320696_3,    S04I,13,1,11,11,2,19960520,553,-63.9995,30.0167,5135,2735.6,-0.0944,34.6638,2,34.6631,2,228.6,2,229.1,2,128.7,2,32.42,2,0,2,2.25,2,-999,9,-999,9,-999,9,2258.7,2,-999,9
      320696_3,    S04I,13,1,10,10,2,19960520,553,-63.9995,30.0167,5135,3039.2,-0.156,34.6611,2,34.6604,2,232.7,2,233,2,128.7,2,32.42,2,0,2,2.24,2,-999,9,-999,9,-999,9,2256,2,-999,9
      320696_3,    S04I,13,1,9,9,2,19960520,553,-63.9995,30.0167,5135,3349,-0.2019,34.659,2,34.6582,2,236.3,2,236.3,2,128.6,2,32.23,2,0,2,2.23,2,-999,9,-999,9,-999,9,2255,2,-999,9
      320696_3,    S04I,13,1,37,37,2,19960520,553,-63.9995,30.0167,5135,3652.7,-0.2353,34.6566,2,34.6559,2,239,2,239.3,2,127.8,2,32.08,2,0,2,2.22,2,-999,9,-999,9,-999,9,2253.2,2,-999,9
      320696_3,    S04I,13,1,7,7,2,19960520,553,-63.9995,30.0167,5135,3960.7,-0.2673,34.655,2,34.6551,2,242,2,-999,3,127.8,2,32.08,2,0,2,2.22,2,-999,9,-999,9,-999,9,2252.4,2,-999,9
      320696_3,    S04I,13,1,6,6,2,19960520,553,-63.9995,30.0167,5135,4272.6,-0.2831,34.6544,2,34.6545,2,242.1,2,242.3,2,131.2,2,32.07,2,0,2,2.22,2,-999,9,-999,9,-999,9,2252.3,2,-999,9
      320696_3,    S04I,13,1,5,5,2,19960520,553,-63.9995,30.0167,5135,4530.3,-0.2949,34.6533,2,34.6531,2,243.7,2,243.5,2,132.1,2,32.12,2,0,2,2.22,2,-999,9,-999,9,-999,9,2251.6,2,-999,9
      320696_3,    S04I,13,1,4,4,2,19960520,553,-63.9995,30.0167,5135,4788.1,-0.3046,34.6523,2,34.6523,2,245.1,2,244.8,2,132.8,2,32.07,2,0,2,2.22,2,-999,9,-999,9,-999,9,2251.2,2,-999,9
      320696_3,    S04I,13,1,3,3,2,19960520,553,-63.9995,30.0167,5135,4995.3,-0.3138,34.6508,2,34.6502,2,246,2,246,2,134.4,2,32.07,2,0,2,2.22,2,-999,9,-999,9,-999,9,2250.7,2,-999,9
      320696_3,    S04I,13,1,2,2,2,19960520,553,-63.9995,30.0167,5135,5097.9,-0.3168,34.6506,2,34.6508,2,245.7,2,245.6,2,135.8,2,32.12,2,0,2,2.22,2,-999,9,-999,9,-999,9,2251.9,2,2361,2
      320696_3,    S04I,13,1,1,1,2,19960520,553,-63.9995,30.0167,5135,5185.8,-0.3177,34.6504,2,34.6508,2,245.7,2,245.6,2,138.1,2,32.12,2,0,2,2.22,2,-999,9,-999,9,-999,9,2252.2,2,2357,2
      320696_3,    S04I,14,1,36,36,2,19960520,1141,-64.3848,30.6653,5087,18.4,-1.7002,33.9769,2,33.9812,2,-999,4,346.2,2,50.7,2,26.19,2,0.26,2,1.83,2,6.872,2,3.232,2,-999,9,2175.9,2,2303,2
      320696_3,    S04I,14,1,35,35,2,19960520,1141,-64.3848,30.6653,5087,38.4,-1.5794,34.0182,2,34.0239,2,-999,4,343,2,53.4,2,26.7,2,0.25,2,1.85,2,6.61,2,3.114,2,-999,9,2180.8,2,-999,9
      320696_3,    S04I,14,1,34,34,2,19960520,1141,-64.3848,30.6653,5087,58.1,-1.5854,34.0394,2,34.0429,2,-999,4,339.9,2,54.1,2,27,2,0.24,2,1.88,2,6.561,2,3.021,2,-999,9,-999,9,-999,9
      320696_3,    S04I,14,1,33,33,2,19960520,1141,-64.3848,30.6653,5087,88.7,-0.5447,34.3223,2,34.3539,2,-999,4,266.9,2,71.3,2,30.98,2,0.14,2,2.16,2,4.275,2,1.901,2,-999,9,-999,9,-999,9
      320696_3,    S04I,14,1,32,32,2,19960520,1141,-64.3848,30.6653,5087,139.3,1.079,34.5833,2,34.5849,2,-999,4,196.9,2,89.7,2,33.29,2,0.01,2,2.3,2,1.349,2,0.641,2,-999,9,-999,9,-999,9
      320696_3,    S04I,14,1,31,31,2,19960520,1141,-64.3848,30.6653,5087,169.6,1.2511,34.6258,2,34.6238,2,195.2,2,193.2,2,92,2,33.04,2,0,2,2.28,2,1.006,2,0.502,2,-999,9,-999,9,-999,9
      320696_3,    S04I,14,1,30,30,2,19960520,1141,-64.3848,30.6653,5087,199.7,1.3172,34.6546,2,34.6513,2,191.4,2,189.9,2,93.3,2,32.74,2,0,2,2.26,2,0.736,2,0.381,2,-999,9,-999,9,-999,9
      320696_3,    S04I,14,1,29,29,2,19960520,1141,-64.3848,30.6653,5087,229.6,1.3388,34.6684,2,34.6677,2,190.6,2,189.8,2,94.7,2,32.54,2,0,2,2.24,2,0.632,2,0.343,2,-999,9,-999,9,-999,9
      320696_3,    S04I,14,1,28,28,2,19960520,1141,-64.3848,30.6653,5087,269.8,1.3619,34.6853,2,34.6844,2,190,2,190.7,2,95.4,2,32.19,2,0,2,2.23,2,-999,9,-999,9,-999,9,-999,9,-999,9
      320696_3,    S04I,14,1,27,27,2,19960520,1141,-64.3848,30.6653,5087,300.4,1.3558,34.6943,2,34.6936,2,190.8,2,191.7,2,96.5,2,31.94,2,0,2,2.21,2,0.463,2,0.238,2,-999,9,-999,9,-999,9
      320696_3,    S04I,14,1,26,26,2,19960520,1141,-64.3848,30.6653,5087,361.1,1.3102,34.7024,2,34.7038,2,193.9,2,194.1,2,98.2,2,31.65,2,0,2,2.19,2,0.361,2,0.188,2,-999,9,-999,9,-999,9
      320696_3,    S04I,14,1,25,25,2,19960520,1141,-64.3848,30.6653,5087,411.1,1.2567,34.7081,2,34.7083,2,194.7,2,195.7,2,100,2,31.55,2,0,2,2.18,2,0.346,2,0.171,2,-999,9,-999,9,-999,9
      320696_3,    S04I,14,1,24,24,2,19960520,1141,-64.3848,30.6653,5087,461.5,1.1997,34.7107,2,34.7107,2,196.7,2,196.9,2,101.6,2,31.45,2,0,2,2.18,2,0.3,2,0.158,2,-999,9,-999,9,-999,9
      320696_3,    S04I,14,1,23,23,2,19960520,1141,-64.3848,30.6653,5087,641.6,0.9769,34.7095,2,34.7089,2,201.6,2,201.1,2,107.8,2,31.54,2,0,2,2.18,2,0.249,2,0.131,2,-999,9,-999,9,-999,9
      320696_3,    S04I,14,1,22,22,2,19960520,1141,-64.3848,30.6653,5087,845.4,0.7657,34.7017,2,34.702,2,204.7,2,203.9,2,113.6,2,31.84,2,0,2,2.19,2,0.215,2,0.109,2,-999,9,2260.2,2,2363,6
      320696_3,    S04I,14,1,21,21,2,19960520,1141,-64.3848,30.6653,5087,1047.1,0.6042,34.6949,2,34.6942,2,206.2,2,205.8,2,117.6,2,32.18,2,0,2,2.23,2,0.197,2,0.112,2,-999,9,-999,9,-999,9
      320696_3,    S04I,14,1,20,20,2,19960520,1141,-64.3848,30.6653,5087,1250.7,0.4709,34.689,2,34.6889,2,206.8,2,206.2,2,121.7,2,32.48,2,0,2,2.26,2,0.172,2,0.091,2,-999,9,-999,9,-999,9
      320696_3,    S04I,14,1,19,19,2,19960520,1141,-64.3848,30.6653,5087,1452.9,0.366,34.6838,2,34.6844,2,209.1,2,208.5,2,124.6,2,32.57,2,0,2,2.26,2,-999,9,-999,9,-999,9,-999,9,-999,9
      320696_3,    S04I,14,1,18,18,2,19960520,1141,-64.3848,30.6653,5087,1655.1,0.2748,34.6793,2,34.6798,2,211.4,2,211.8,2,126.7,2,32.62,2,0,2,2.26,2,0.142,2,0.093,2,-999,9,-999,9,-999,9
      320696_3,    S04I,14,1,17,17,2,19960520,1141,-64.3848,30.6653,5087,1858.4,0.189,34.6763,2,34.6763,2,214.2,2,216.1,2,127.8,2,32.62,2,0,2,2.27,2,-999,9,-999,9,-999,9,-999,9,-999,9
      320696_3,    S04I,14,1,16,16,2,19960520,1141,-64.3848,30.6653,5087,2060.3,0.1227,34.6728,2,34.6732,2,217.4,2,217.9,2,128.5,2,32.52,2,0,2,2.26,2,0.157,2,0.084,2,-999,9,-999,9,-999,9
      320696_3,    S04I,14,1,15,15,2,19960520,1141,-64.3848,30.6653,5087,2262.7,0.0448,34.6689,2,34.6686,2,221.7,2,223.3,2,127.6,2,32.37,2,0,2,2.25,2,-999,9,-999,9,-999,9,-999,9,-999,9
      320696_3,    S04I,14,1,14,14,2,19960520,1141,-64.3848,30.6653,5087,2467.8,-0.0174,34.6663,2,34.6665,2,225.8,2,226.2,2,128.1,2,32.37,2,0,2,2.25,2,0.23,2,0.129,2,-999,9,-999,9,-999,9
      320696_3,    S04I,14,1,13,13,2,19960520,1141,-64.3848,30.6653,5087,2667.1,-0.0758,34.6637,2,34.6647,2,228.8,2,229.1,2,127.7,2,32.22,2,0,2,2.24,2,-999,9,-999,9,-999,9,-999,9,-999,9
      320696_3,    S04I,14,1,12,12,2,19960520,1141,-64.3848,30.6653,5087,2874.1,-0.1297,34.6617,2,-999,4,232.1,2,232.4,2,126.9,2,32.22,2,0,2,2.24,2,0.368,2,0.175,2,-999,9,-999,9,-999,9
      320696_3,    S04I,14,1,11,11,2,19960520,1141,-64.3848,30.6653,5087,3080.7,-0.1598,34.6608,2,34.6608,2,233.6,2,233.3,2,127.9,2,32.17,2,0,2,2.24,2,-999,9,-999,9,-999,9,-999,9,-999,9
      320696_3,    S04I,14,1,10,10,2,19960520,1141,-64.3848,30.6653,5087,3286.2,-0.1944,34.6588,2,34.6584,2,236.5,2,237.7,2,126.2,2,32.07,2,0,2,2.22,2,0.414,2,0.23,2,-999,9,-999,9,-999,9
      320696_3,    S04I,14,1,9,9,2,19960520,1141,-64.3848,30.6653,5087,3487.9,-0.2219,34.6571,2,34.657,2,239.1,2,239.2,2,124.3,2,31.97,2,0,2,2.22,2,-999,9,-999,9,-999,9,-999,9,-999,9
      320696_3,    S04I,14,1,37,37,2,19960520,1141,-64.3848,30.6653,5087,3689.1,-0.2409,34.6563,2,34.6557,2,241.6,2,240.8,2,124.1,2,31.96,2,0,2,2.21,2,0.685,2,0.346,2,-999,9,-999,9,-999,9
      320696_3,    S04I,14,1,7,7,2,19960520,1141,-64.3848,30.6653,5087,3891,-0.2577,34.6553,2,34.6563,2,241.1,2,240.9,2,127.1,2,32.01,2,0,2,2.22,2,-999,9,-999,9,-999,9,-999,9,-999,9
      320696_3,    S04I,14,1,6,6,2,19960520,1141,-64.3848,30.6653,5087,4097.6,-0.2761,34.654,2,-999,4,242.4,2,242.6,2,127,2,32.01,2,0,2,2.22,2,0.43,2,0.248,2,-999,9,-999,9,-999,9
      320696_3,    S04I,14,1,5,5,2,19960520,1141,-64.3848,30.6653,5087,4301.6,-0.2875,34.6539,2,-999,3,243.4,2,242.9,2,128.7,2,32.01,2,0,2,2.21,2,0.313,2,0.182,2,-999,9,-999,9,-999,9
      320696_3,    S04I,14,1,4,4,2,19960520,1141,-64.3848,30.6653,5087,4512.2,-0.2997,34.6528,2,34.6531,2,245,2,244.6,2,129.4,2,31.96,2,0,2,2.21,2,0.368,2,0.208,2,-999,9,-999,9,-999,9
      320696_3,    S04I,14,1,3,3,2,19960520,1141,-64.3848,30.6653,5087,4718.7,-0.3059,34.6521,2,34.6523,2,245.6,2,246.7,2,130.9,2,31.96,2,0,2,2.21,2,0.382,2,0.214,2,-999,9,-999,9,-999,9
      320696_3,    S04I,14,1,2,2,2,19960520,1141,-64.3848,30.6653,5087,4919,-0.309,34.6515,2,34.6517,2,246,2,245.4,2,133.5,2,32.05,2,0,2,2.22,2,0.238,2,0.141,2,-999,9,-999,9,-999,9
      320696_3,    S04I,14,1,1,1,2,19960520,1141,-64.3848,30.6653,5087,5138,-0.3173,34.6501,7,34.6513,2,245.9,2,246.4,2,137.4,2,32.05,2,0,2,2.22,2,0.184,2,0.121,2,-999,9,-999,9,-999,9