BOTTLE,20211011SIOJHS,,,,,,,,,,,,,,,,,,,,,,,,,,,,,,,,,,,,,,
EXPOCODE,SECT_ID,STNNBR,CASTNO,SAMPNO,BTLNBR,BTLNBR_FLAG_W,DATE,TIME,LATITUDE,LONGITUDE,DEPTH,CTDPRS,CTDTMP,CTDSAL,CTDSAL_FLAG_W,SALNTY,SALNTY_FLAG_W,CTDOXY,CTDOXY_FLAG_W,OXYGEN,OXYGEN_FLAG_W,SILCAT,SILCAT_FLAG_W,NITRAT,NITRAT_FLAG_W,NITRIT,NITRIT_FLAG_W,PHSPHT,PHSPHT_FLAG_W,CFC-11,CFC-11_FLAG_W,CFC-12,CFC-12_FLAG_W,SF6,SF6_FLAG_W,TCARBN,TCARBN_FLAG_W,ALKALI,ALKALI_FLAG_W
,,,,,,,,,,,,DB,ITS-90,PSS-78,,PSS-78,,UMOL/KG,,UMOL/KG,,UMOL/KG,,UMOL/KG,,UMOL/KG,,UMOL/KG,,PMOL/KG,,PMOL/KG,,FMOL/KG,,UMOL/KG,,UMOL/KG,
      320696_3,    S04I,33,1,36,36,2,19960526,2008,-63.5002,51.4123,4833,15.4,-1.2162,33.9988,2,34.0009,2,-999,4,339.6,2,44.7,2,25.97,2,0.25,2,1.86,2,-999,9,-999,9,-999,9,2179,2,2302,2
      320696_3,    S04I,33,1,35,35,2,19960526,2008,-63.5002,51.4123,4833,41.1,-1.2111,33.9985,2,33.9995,2,-999,4,339.4,2,44.5,2,25.97,2,0.24,2,1.86,2,-999,9,-999,9,-999,9,2180.3,2,-999,9
      320696_3,    S04I,33,1,34,34,2,19960526,2008,-63.5002,51.4123,4833,65.9,-1.1927,33.9997,2,34.0006,2,-999,4,339.1,2,44.7,2,25.98,2,0.24,2,1.86,2,-999,9,-999,9,-999,9,2178.6,2,-999,9
      320696_3,    S04I,33,1,33,33,2,19960526,2008,-63.5002,51.4123,4833,91.2,-1.0976,34.0041,2,34.019,2,-999,4,333.9,2,46.1,2,26.39,2,0.23,2,1.88,2,-999,9,-999,9,-999,9,2182.2,2,-999,9
      320696_3,    S04I,33,1,32,32,2,19960526,2008,-63.5002,51.4123,4833,132.5,1.1,34.4752,2,34.4651,2,210,2,209.4,2,81,2,33.99,2,0.01,2,2.36,2,-999,9,-999,9,-999,9,2248.5,2,-999,9
      320696_3,    S04I,33,1,31,31,2,19960526,2008,-63.5002,51.4123,4833,181.7,1.5262,34.5787,2,34.5752,2,187,2,188.8,2,86.8,2,34,2,0,2,2.35,2,-999,9,-999,9,-999,9,2258.7,2,-999,9
      320696_3,    S04I,33,1,30,30,2,19960526,2008,-63.5002,51.4123,4833,222.4,1.7054,34.6315,2,34.6293,2,182.2,2,182.3,2,88.1,2,33.49,2,0,2,2.32,2,-999,9,-999,9,-999,9,2258.4,2,-999,9
      320696_3,    S04I,33,1,29,29,2,19960526,2008,-63.5002,51.4123,4833,247.5,1.7043,34.6477,2,34.6454,2,182.9,2,184.3,2,88.8,2,33.19,2,0,2,2.29,2,-999,9,-999,9,-999,9,2258.3,2,-999,9
      320696_3,    S04I,33,1,28,28,2,19960526,2008,-63.5002,51.4123,4833,288.2,1.7258,34.668,2,34.6656,2,184,2,183.3,2,89.2,2,32.79,2,0,2,2.27,2,-999,9,-999,9,-999,9,2257.5,2,-999,9
      320696_3,    S04I,33,1,27,27,2,19960526,2008,-63.5002,51.4123,4833,328.3,1.7322,34.6834,2,34.684,2,184.9,2,185.7,2,89.9,2,32.43,2,0,2,2.24,2,-999,9,-999,9,-999,9,2257.5,2,-999,9
      320696_3,    S04I,33,1,26,26,2,19960526,2008,-63.5002,51.4123,4833,377,1.6515,34.6918,2,34.6906,2,187.8,2,187.1,2,91.8,2,32.24,2,0,2,2.22,2,-999,9,-999,9,-999,9,2257.1,2,-999,9
      320696_3,    S04I,33,1,25,25,2,19960526,2008,-63.5002,51.4123,4833,426.2,1.6139,34.7009,2,34.7008,2,189.3,2,189.7,2,92.7,2,31.89,2,0,2,2.2,2,-999,9,-999,9,-999,9,2255.5,2,-999,9
      320696_3,    S04I,33,1,24,24,2,19960526,2008,-63.5002,51.4123,4833,528.4,1.5395,34.7162,2,34.7194,2,192.2,2,193,2,94.8,2,31.49,2,0,2,2.17,2,-999,9,-999,9,-999,9,2253.9,2,-999,9
      320696_3,    S04I,33,1,23,23,2,19960526,2008,-63.5002,51.4123,4833,731.9,1.3499,34.7249,2,34.7257,2,198.3,2,198.7,2,99.7,2,31.14,2,0,2,2.14,2,-999,9,-999,9,-999,9,2252.6,2,-999,9
      320696_3,    S04I,33,1,22,22,2,19960526,2008,-63.5002,51.4123,4833,932.9,1.1346,34.721,2,34.72,2,202.1,2,202.3,2,105.4,2,31.29,2,0,2,2.16,2,-999,9,-999,9,-999,9,2255.1,2,-999,9
      320696_3,    S04I,33,1,21,21,2,19960526,2008,-63.5002,51.4123,4833,1132.5,0.9425,34.7128,2,34.7139,2,204.1,2,204.7,2,110.8,2,31.55,2,0,2,2.17,2,-999,9,-999,9,-999,9,-999,9,-999,9
      320696_3,    S04I,33,1,20,20,2,19960526,2008,-63.5002,51.4123,4833,1331.2,0.773,34.704,2,34.7046,2,207.1,2,206.2,2,115.6,2,31.96,2,0,2,2.2,2,-999,9,-999,9,-999,9,-999,9,-999,9
      320696_3,    S04I,33,1,19,19,2,19960526,2008,-63.5002,51.4123,4833,1539.4,0.6222,34.6963,2,34.6983,2,208.6,2,208.5,2,120,2,32.26,2,0,2,2.22,2,-999,9,-999,9,-999,9,-999,9,-999,9
      320696_3,    S04I,33,1,18,18,2,19960526,2008,-63.5002,51.4123,4833,1743.2,0.4867,34.6899,2,34.6906,2,210.3,2,210.1,2,123.9,2,32.52,2,0,2,2.24,2,-999,9,-999,9,-999,9,-999,9,-999,9
      320696_3,    S04I,33,1,17,17,2,19960526,2008,-63.5002,51.4123,4833,1947,0.3874,34.6848,2,34.6853,2,212.9,2,211,2,126.4,2,32.68,2,0,2,2.26,2,-999,9,-999,9,-999,9,-999,9,-999,9
      320696_3,    S04I,33,1,16,16,2,19960526,2008,-63.5002,51.4123,4833,2150.7,0.2956,34.6798,2,34.6782,2,214.7,2,214,2,128.6,2,32.68,2,0,2,2.26,2,-999,9,-999,9,-999,9,-999,9,-999,9
      320696_3,    S04I,33,1,15,15,2,19960526,2008,-63.5002,51.4123,4833,2352.3,0.2064,34.6758,2,-999,4,217.5,2,218.2,2,129.5,2,32.74,2,0,2,2.26,2,0.131,2,0.107,2,-999,9,-999,9,-999,9
      320696_3,    S04I,33,1,14,14,2,19960526,2008,-63.5002,51.4123,4833,2554.7,0.1371,34.6728,2,34.6725,2,220.4,2,220,2,130.7,2,32.79,2,0,2,2.27,2,-999,9,-999,9,-999,9,-999,9,-999,9
      320696_3,    S04I,33,1,13,13,2,19960526,2008,-63.5002,51.4123,4833,2757.2,0.0727,34.6698,2,34.6685,2,222.8,2,222.8,2,131.2,2,32.59,2,0,2,2.26,2,-999,9,-999,9,-999,9,-999,9,-999,9
      320696_3,    S04I,33,1,12,12,2,19960526,2008,-63.5002,51.4123,4833,2958.6,0.0032,34.6671,2,34.6675,2,226,2,226.5,2,131.4,2,32.59,2,0,2,2.25,2,-999,9,-999,9,-999,9,-999,9,-999,9
      320696_3,    S04I,33,1,11,11,2,19960526,2008,-63.5002,51.4123,4833,3166.2,-0.0551,34.6644,2,34.6653,2,229.2,2,229.6,2,131,2,32.55,2,0,2,2.25,2,-999,9,-999,9,-999,9,-999,9,-999,9
      320696_3,    S04I,33,1,10,10,2,19960526,2008,-63.5002,51.4123,4833,3365.9,-0.0953,34.6629,2,34.6622,2,231.6,2,232.1,2,130.5,2,32.5,2,0,2,2.24,2,-999,9,-999,9,-999,9,-999,9,-999,9
      320696_3,    S04I,33,1,9,9,2,19960526,2008,-63.5002,51.4123,4833,3615,-0.1422,34.6606,2,34.6608,2,234.1,2,235.2,2,130.1,2,32.4,2,0,2,2.24,2,0.276,2,0.182,2,-999,9,-999,9,-999,9
      320696_3,    S04I,33,1,61,61,2,19960526,2008,-63.5002,51.4123,4833,3615.1,-0.1427,34.6607,2,34.6597,2,234.4,2,235.8,2,130.3,2,32.41,2,0,2,2.23,2,-999,9,-999,9,-999,9,-999,9,-999,9
      320696_3,    S04I,33,1,7,7,2,19960526,2008,-63.5002,51.4123,4833,3873.3,-0.1877,34.6583,2,34.6581,2,237.6,2,238.6,2,129.1,2,32.31,2,0,2,2.23,2,-999,9,-999,9,-999,9,-999,9,-999,9
      320696_3,    S04I,33,1,6,6,2,19960526,2008,-63.5002,51.4123,4833,4081.6,-0.2207,34.6567,2,-999,3,240.8,2,241.3,2,128.2,2,32.21,2,0,2,2.22,2,-999,9,-999,9,-999,9,-999,9,-999,9
      320696_3,    S04I,33,1,5,5,2,19960526,2008,-63.5002,51.4123,4833,4287.9,-0.2482,34.6552,2,34.6548,2,243.6,2,243.9,2,128.6,2,32.11,2,0,2,2.22,2,-999,9,-999,9,-999,9,-999,9,-999,9
      320696_3,    S04I,33,1,4,4,2,19960526,2008,-63.5002,51.4123,4833,4492.6,-0.2749,34.6534,2,34.6534,2,246.8,2,246.2,2,128,2,32.12,2,0,2,2.21,2,-999,9,-999,9,-999,9,-999,9,-999,9
      320696_3,    S04I,33,1,3,3,2,19960526,2008,-63.5002,51.4123,4833,4695.8,-0.3122,34.6501,2,-999,4,250.3,2,250.7,2,126.6,2,32.02,2,0,2,2.2,2,0.994,2,0.526,2,-999,9,-999,9,-999,9
      320696_3,    S04I,33,1,2,2,2,19960526,2008,-63.5002,51.4123,4833,4830.1,-0.3556,34.645,2,34.6455,2,254.2,2,253.7,2,125,2,31.87,2,0,2,2.18,2,-999,9,-999,9,-999,9,-999,9,-999,9
      320696_3,    S04I,33,1,1,1,2,19960526,2008,-63.5002,51.4123,4833,4894.7,-0.3482,34.645,2,34.6456,2,254.8,2,253.8,2,125.7,2,31.92,2,0.01,2,2.19,2,-999,9,-999,9,-999,9,-999,9,-999,9
      320696_3,    S04I,34,1,36,36,2,19960527,207,-63.4998,52.4952,4653,19,-1.3689,34.0811,2,34.0844,2,-999,4,331.2,2,50.6,2,27.8,2,0.18,2,1.96,2,5.994,2,3.042,2,-999,9,2192.6,2,-999,9
      320696_3,    S04I,34,1,35,35,2,19960527,207,-63.4998,52.4952,4653,43.5,-1.3341,34.0852,2,34.0866,2,-999,4,329.7,2,50.6,2,27.85,2,0.18,2,1.97,2,6.123,2,2.977,2,-999,9,2192,2,-999,9
      320696_3,    S04I,34,1,34,34,2,19960527,207,-63.4998,52.4952,4653,70.1,-1.2713,34.0943,2,34.1026,2,-999,4,323.7,2,51.9,2,28.15,2,0.17,2,1.99,2,5.887,2,2.91,2,-999,9,-999,9,2316,2
      320696_3,    S04I,34,1,33,33,2,19960527,207,-63.4998,52.4952,4653,94.6,1.1078,34.478,2,34.4818,2,-999,4,203,2,80.4,2,34.04,2,0.01,2,2.36,2,2.073,2,0.953,2,-999,9,-999,9,-999,9
      320696_3,    S04I,34,1,32,32,2,19960527,207,-63.4998,52.4952,4653,119.8,1.4575,34.5472,2,34.5478,2,-999,4,187.7,2,84.1,2,34.14,2,0.01,2,2.35,2,-999,9,-999,9,-999,9,-999,9,-999,9
      320696_3,    S04I,34,1,31,31,2,19960527,207,-63.4998,52.4952,4653,144.1,1.6505,34.5902,2,34.5892,2,183.5,2,182,2,85.2,2,34.04,2,0,2,2.34,2,0.882,2,0.451,2,-999,9,-999,9,-999,9
      320696_3,    S04I,34,1,30,30,2,19960527,207,-63.4998,52.4952,4653,170.5,1.7302,34.6201,2,34.6206,2,179.3,2,178.9,2,86.5,2,33.68,2,0,2,2.32,2,-999,9,-999,9,-999,9,-999,9,-999,9
      320696_3,    S04I,34,1,29,29,2,19960527,207,-63.4998,52.4952,4653,200.4,1.7638,34.6415,2,34.6417,2,179.4,2,179,2,87,2,33.26,2,0,2,2.29,2,0.543,2,0.318,2,-999,9,-999,9,-999,9
      320696_3,    S04I,34,1,28,28,2,19960527,207,-63.4998,52.4952,4653,240.5,1.78,34.6643,2,34.6625,2,181.4,2,180.3,2,87.8,2,32.9,2,0,2,2.27,2,0.425,2,0.291,2,-999,9,-999,9,-999,9
      320696_3,    S04I,34,1,27,27,2,19960527,207,-63.4998,52.4952,4653,285,1.7731,34.6808,2,34.6794,2,182.9,2,181.4,2,88.5,2,32.49,2,0,2,2.24,2,0.394,2,0.222,2,-999,9,-999,9,-999,9
      320696_3,    S04I,34,1,26,26,2,19960527,207,-63.4998,52.4952,4653,356.2,1.7541,34.6986,2,34.6974,2,184.7,2,185,2,89.2,2,31.98,2,0,2,2.2,2,0.331,2,0.18,2,-999,9,-999,9,-999,9
      320696_3,    S04I,34,1,25,25,2,19960527,207,-63.4998,52.4952,4653,427.7,1.7264,34.7153,2,34.7141,2,187,2,188.1,2,90.1,2,31.37,2,0,2,2.16,2,-999,9,-999,9,-999,9,-999,9,-999,9
      320696_3,    S04I,34,1,24,24,2,19960527,207,-63.4998,52.4952,4653,507.4,1.6413,34.7254,2,34.7251,2,191.6,2,192,2,91.8,2,31.16,2,0,2,2.14,2,0.225,2,0.145,2,-999,9,-999,9,-999,9
      320696_3,    S04I,34,1,23,23,2,19960527,207,-63.4998,52.4952,4653,603.4,1.5473,34.7285,2,34.7278,2,194,2,194.4,2,93.9,2,30.95,2,0,2,2.13,2,0.197,2,0.121,2,-999,9,-999,9,-999,9
      320696_3,    S04I,34,1,22,22,2,19960527,207,-63.4998,52.4952,4653,706.9,1.4436,34.7299,2,34.7299,2,196.7,2,198.4,2,96.4,2,30.9,2,0,2,2.13,2,-999,9,-999,9,-999,9,-999,9,-999,9
      320696_3,    S04I,34,1,21,21,2,19960527,207,-63.4998,52.4952,4653,859.6,1.2727,34.728,2,34.7281,2,200.5,2,200.4,2,100.8,2,30.95,2,0,2,2.12,2,0.162,2,0.105,2,-999,9,-999,9,-999,9
      320696_3,    S04I,34,1,20,20,2,19960527,207,-63.4998,52.4952,4653,1012.8,1.0925,34.7206,2,34.7209,2,202.2,2,202.2,2,105.4,2,31.15,2,0,2,2.14,2,-999,9,-999,9,-999,9,-999,9,-999,9
      320696_3,    S04I,34,1,19,19,2,19960527,207,-63.4998,52.4952,4653,1165.5,0.918,34.7132,2,34.7132,2,205.5,2,204.7,2,110.3,2,31.4,2,0,2,2.17,2,0.158,2,0.097,2,-999,9,-999,9,-999,9
      320696_3,    S04I,34,1,18,18,2,19960527,207,-63.4998,52.4952,4653,1316,0.7987,34.7078,2,34.7077,2,206.5,2,206.1,2,114,2,31.7,2,0,2,2.18,2,-999,9,-999,9,-999,9,-999,9,-999,9
      320696_3,    S04I,34,1,17,17,2,19960527,207,-63.4998,52.4952,4653,1519.4,0.6364,34.6983,2,34.699,2,208.3,2,207,2,118.5,2,32,2,0,2,2.21,2,-999,9,-999,9,-999,9,-999,9,-999,9
      320696_3,    S04I,34,1,16,16,2,19960527,207,-63.4998,52.4952,4653,1721.8,0.5026,34.6908,2,34.6914,2,209.6,2,208.4,2,122.4,2,32.3,2,0,2,2.23,2,-999,9,-999,9,-999,9,-999,9,-999,9
      320696_3,    S04I,34,1,15,15,2,19960527,207,-63.4998,52.4952,4653,1924.2,0.3909,34.6851,2,34.6857,2,211.4,2,210.4,2,124.9,2,32.34,2,0,2,2.25,2,0.144,2,0.092,2,-999,9,-999,9,-999,9
      320696_3,    S04I,34,1,14,14,2,19960527,207,-63.4998,52.4952,4653,2179.1,0.2619,34.6789,2,34.6796,2,214.5,2,214.1,2,127.8,2,32.54,2,0,2,2.25,2,-999,9,-999,9,-999,9,-999,9,-999,9
      320696_3,    S04I,34,1,13,13,2,19960527,207,-63.4998,52.4952,4653,2432.6,0.1547,34.6735,2,34.6741,2,217.9,2,218.5,2,129,2,32.54,2,0,2,2.25,2,0.137,2,0.098,2,-999,9,-999,9,-999,9
      320696_3,    S04I,34,1,12,12,2,19960527,207,-63.4998,52.4952,4653,2688,0.0614,34.669,2,34.6701,2,222.6,2,222.8,2,129.7,2,32.48,2,0,2,2.25,2,-999,9,-999,9,-999,9,-999,9,-999,9
      320696_3,    S04I,34,1,11,11,2,19960527,207,-63.4998,52.4952,4653,2943.9,-0.0185,34.6664,2,34.666,2,226.3,2,226.2,2,129.9,2,32.43,2,0,2,2.24,2,0.154,2,0.099,2,-999,9,-999,9,-999,9
      320696_3,    S04I,34,1,10,10,2,19960527,207,-63.4998,52.4952,4653,3199.6,-0.0873,34.663,2,34.6626,2,228.6,2,230,2,129.4,2,32.32,2,0,2,2.24,2,-999,9,-999,9,-999,9,-999,9,-999,9
      320696_3,    S04I,34,1,9,9,2,19960527,207,-63.4998,52.4952,4653,3454,-0.1497,34.6603,2,34.6595,2,233.5,2,234.3,2,129.1,2,32.17,2,0,2,2.24,2,0.276,2,0.172,2,-999,9,-999,9,-999,9
      320696_3,    S04I,34,1,61,61,2,19960527,207,-63.4998,52.4952,4653,3454.1,-0.1507,34.66,2,34.6598,2,233.5,2,234.2,2,129.1,2,32.27,2,0,2,2.23,2,0.293,2,0.192,2,-999,9,-999,9,-999,9
      320696_3,    S04I,34,1,7,7,2,19960527,207,-63.4998,52.4952,4653,3708.5,-0.2095,34.6578,2,34.6573,2,238.4,2,239.2,2,127,2,32.06,2,0,2,2.22,2,0.515,2,0.308,2,-999,9,-999,9,-999,9
      320696_3,    S04I,34,1,6,6,2,19960527,207,-63.4998,52.4952,4653,3965.6,-0.2476,34.6563,2,34.6555,2,243.6,2,243.6,2,123.2,2,31.9,2,0,2,2.2,2,0.93,2,0.479,2,-999,9,-999,9,-999,9
      320696_3,    S04I,34,1,5,5,2,19960527,207,-63.4998,52.4952,4653,4169.8,-0.2698,34.6549,2,34.6545,2,242.1,2,242.2,2,130.1,2,32.05,2,0,2,2.21,2,0.44,2,0.259,2,-999,9,-999,9,-999,9
      320696_3,    S04I,34,1,4,4,2,19960527,207,-63.4998,52.4952,4653,4375.5,-0.2847,34.6546,2,34.6543,2,241.8,2,242,2,137.5,2,32.15,2,0,2,2.22,2,0.226,2,0.141,2,-999,9,-999,9,-999,9
      320696_3,    S04I,34,1,3,3,2,19960527,207,-63.4998,52.4952,4653,4529.8,-0.2871,34.6533,2,34.6531,2,244,2,243.7,2,135.2,2,32.14,2,0,2,2.21,2,0.357,2,0.201,2,-999,9,-999,9,-999,9
      320696_3,    S04I,34,1,2,2,2,19960527,207,-63.4998,52.4952,4653,4632.2,-0.3401,34.6469,2,34.6474,2,-999,3,250.2,2,125.9,2,31.83,2,0,2,2.19,2,1.174,2,0.596,2,-999,9,-999,9,-999,9
      320696_3,    S04I,34,1,1,1,2,19960527,207,-63.4998,52.4952,4653,4697.7,-0.3749,34.6432,2,34.6442,2,-999,3,254.3,2,123.2,2,31.57,2,0.01,2,2.17,2,1.558,2,0.756,2,-999,9,-999,9,-999,9