BOTTLE,20211011SIOJHS,,,,,,,,,,,,,,,,,,,,,,,,,,,,,,,,,,,,,,
EXPOCODE,SECT_ID,STNNBR,CASTNO,SAMPNO,BTLNBR,BTLNBR_FLAG_W,DATE,TIME,LATITUDE,LONGITUDE,DEPTH,CTDPRS,CTDTMP,CTDSAL,CTDSAL_FLAG_W,SALNTY,SALNTY_FLAG_W,CTDOXY,CTDOXY_FLAG_W,OXYGEN,OXYGEN_FLAG_W,SILCAT,SILCAT_FLAG_W,NITRAT,NITRAT_FLAG_W,NITRIT,NITRIT_FLAG_W,PHSPHT,PHSPHT_FLAG_W,CFC-11,CFC-11_FLAG_W,CFC-12,CFC-12_FLAG_W,SF6,SF6_FLAG_W,TCARBN,TCARBN_FLAG_W,ALKALI,ALKALI_FLAG_W
,,,,,,,,,,,,DB,ITS-90,PSS-78,,PSS-78,,UMOL/KG,,UMOL/KG,,UMOL/KG,,UMOL/KG,,UMOL/KG,,UMOL/KG,,PMOL/KG,,PMOL/KG,,FMOL/KG,,UMOL/KG,,UMOL/KG,
      320696_3,    S04I,44,1,36,36,2,19960530,559,-63.5002,55.9912,4855,15.9,-1.3952,33.9363,2,33.9357,2,-999,4,343.7,2,40.3,2,25.37,2,0.27,2,1.8,2,-999,9,-999,9,-999,9,2174.7,2,2294,2
      320696_3,    S04I,44,1,35,35,2,19960530,559,-63.5002,55.9912,4855,41.2,-1.3706,33.9362,2,33.9358,2,-999,4,342.8,2,40.1,2,25.31,2,0.27,2,1.8,2,-999,9,-999,9,-999,9,2173.8,2,-999,9
      320696_3,    S04I,44,1,34,34,2,19960530,559,-63.5002,55.9912,4855,66.3,-1.3504,33.9367,2,33.9373,2,-999,4,342.7,2,40.2,2,25.41,2,0.27,2,1.8,2,-999,9,-999,9,-999,9,-999,9,-999,9
      320696_3,    S04I,44,1,33,33,2,19960530,559,-63.5002,55.9912,4855,86.9,-0.4149,34.1661,2,34.2084,2,-999,4,278,2,62.1,2,30.58,2,0.08,2,2.15,2,-999,9,-999,9,-999,9,-999,9,-999,9
      320696_3,    S04I,44,1,32,32,2,19960530,559,-63.5002,55.9912,4855,105.2,0.4548,34.3529,2,34.3535,2,237.1,2,238.5,2,72.5,2,32.9,2,0.01,2,2.3,2,-999,9,-999,9,-999,9,-999,9,-999,9
      320696_3,    S04I,44,1,31,31,2,19960530,559,-63.5002,55.9912,4855,137.3,1.091,34.4691,2,34.4697,2,206,2,205.8,2,80.1,2,33.98,2,0,2,2.36,2,-999,9,-999,9,-999,9,-999,9,-999,9
      320696_3,    S04I,44,1,30,30,2,19960530,559,-63.5002,55.9912,4855,170.6,1.4697,34.5497,2,34.5493,2,190.2,2,189.5,2,84.6,2,33.92,2,0,2,2.36,2,-999,9,-999,9,-999,9,-999,9,-999,9
      320696_3,    S04I,44,1,29,29,2,19960530,559,-63.5002,55.9912,4855,206,1.6007,34.5975,2,34.5931,2,184.4,2,185,2,86.3,2,33.66,2,0,2,2.34,2,-999,9,-999,9,-999,9,-999,9,-999,9
      320696_3,    S04I,44,1,28,28,2,19960530,559,-63.5002,55.9912,4855,232.6,1.6241,34.615,2,34.6129,2,184.7,2,183.5,2,87.4,2,33.3,2,0,2,2.33,2,-999,9,-999,9,-999,9,-999,9,-999,9
      320696_3,    S04I,44,1,27,27,2,19960530,559,-63.5002,55.9912,4855,256.4,1.6386,34.6295,2,34.63,2,182.3,2,182.8,2,88.3,2,33.2,2,0,2,2.3,2,-999,9,-999,9,-999,9,-999,9,-999,9
      320696_3,    S04I,44,1,26,26,2,19960530,559,-63.5002,55.9912,4855,287.1,1.6993,34.6516,2,34.6515,2,183.4,2,182.3,2,88.7,2,32.89,2,0,2,2.28,2,-999,9,-999,9,-999,9,-999,9,-999,9
      320696_3,    S04I,44,1,25,25,2,19960530,559,-63.5002,55.9912,4855,328.2,1.7241,34.6724,2,34.6735,2,182.5,2,184.1,2,89,2,32.47,2,0,2,2.25,2,-999,9,-999,9,-999,9,-999,9,-999,9
      320696_3,    S04I,44,1,24,24,2,19960530,559,-63.5002,55.9912,4855,382.1,1.7229,34.6919,2,34.6924,2,185.5,2,187,2,89.5,2,32.01,2,0,2,2.21,2,-999,9,-999,9,-999,9,-999,9,-999,9
      320696_3,    S04I,44,1,23,23,2,19960530,559,-63.5002,55.9912,4855,456.7,1.6427,34.7058,2,34.7059,2,189.7,2,189.4,2,91.6,2,31.6,2,0,2,2.19,2,-999,9,-999,9,-999,9,-999,9,-999,9
      320696_3,    S04I,44,1,22,22,2,19960530,559,-63.5002,55.9912,4855,583.7,1.5559,34.7203,2,34.7203,2,194,2,195.5,2,93.4,2,31.08,2,0,2,2.16,2,-999,9,-999,9,-999,9,-999,9,-999,9
      320696_3,    S04I,44,1,21,21,2,19960530,559,-63.5002,55.9912,4855,708.5,1.4332,34.7254,2,34.7254,2,197.2,2,197.3,2,95.9,2,30.88,2,0,2,2.14,2,-999,9,-999,9,-999,9,-999,9,-999,9
      320696_3,    S04I,44,1,20,20,2,19960530,559,-63.5002,55.9912,4855,809.5,1.3356,34.7263,2,34.7266,2,199.5,2,200.2,2,98.6,2,30.82,2,0,2,2.13,2,-999,9,-999,9,-999,9,2255.5,2,2357,6
      320696_3,    S04I,44,1,19,19,2,19960530,559,-63.5002,55.9912,4855,908.3,1.236,34.7248,2,34.7262,2,201.7,2,200.8,2,101.2,2,30.92,2,0,2,2.14,2,-999,9,-999,9,-999,9,-999,9,-999,9
      320696_3,    S04I,44,1,18,18,2,19960530,559,-63.5002,55.9912,4855,1062,1.0666,34.7189,2,34.7193,2,203.5,2,203.9,2,106.4,2,31.18,2,0,2,2.17,2,-999,9,-999,9,-999,9,-999,9,-999,9
      320696_3,    S04I,44,1,17,17,2,19960530,559,-63.5002,55.9912,4855,1266,0.8858,34.71,2,34.7107,2,205,2,205.3,2,111,2,31.48,2,0,2,2.19,2,-999,9,-999,9,-999,9,-999,9,-999,9
      320696_3,    S04I,44,1,16,16,2,19960530,559,-63.5002,55.9912,4855,1518.9,0.6988,34.7006,2,34.7017,2,207.2,2,207.2,2,117.2,2,31.78,2,0,2,2.21,2,-999,9,-999,9,-999,9,-999,9,-999,9
      320696_3,    S04I,44,1,15,15,2,19960530,559,-63.5002,55.9912,4855,1769.1,0.5208,34.6917,2,34.6924,2,209.5,2,208.6,2,121.7,2,32.14,2,0,2,2.24,2,-999,9,-999,9,-999,9,-999,9,-999,9
      320696_3,    S04I,44,1,14,14,2,19960530,559,-63.5002,55.9912,4855,2016.4,0.3802,34.6846,2,34.685,2,212.2,2,211.9,2,125.6,2,32.34,2,0,2,2.25,2,-999,9,-999,9,-999,9,-999,9,-999,9
      320696_3,    S04I,44,1,13,13,2,19960530,559,-63.5002,55.9912,4855,2277.4,0.2581,34.6778,2,34.6793,2,214.7,2,214.7,2,127.6,2,32.44,2,0,2,2.26,2,-999,9,-999,9,-999,9,-999,9,-999,9
      320696_3,    S04I,44,1,12,12,2,19960530,559,-63.5002,55.9912,4855,2528.7,0.1581,34.6738,2,34.6748,2,218.4,2,219,2,128.7,2,32.44,2,0,2,2.26,2,-999,9,-999,9,-999,9,-999,9,-999,9
      320696_3,    S04I,44,1,11,11,2,19960530,559,-63.5002,55.9912,4855,2784.4,0.0758,34.6697,2,34.6705,2,222.3,2,222.5,2,129.4,2,32.38,2,0,2,2.26,2,-999,9,-999,9,-999,9,-999,9,-999,9
      320696_3,    S04I,44,1,10,10,2,19960530,559,-63.5002,55.9912,4855,3038.5,-0.003,34.6665,2,34.6668,2,226.2,2,226.5,2,130.2,2,32.33,2,0,2,2.26,2,-999,9,-999,9,-999,9,-999,9,-999,9
      320696_3,    S04I,44,1,9,9,2,19960530,559,-63.5002,55.9912,4855,3301.9,-0.0706,34.6639,2,34.6638,2,229.2,2,-999,3,129.7,2,32.27,2,0,2,2.25,2,-999,9,-999,9,-999,9,-999,9,-999,9
      320696_3,    S04I,44,1,37,37,2,19960530,559,-63.5002,55.9912,4855,3556.4,-0.1286,34.662,2,34.6611,2,232.5,2,233,2,129.5,2,32.17,2,0,2,2.24,2,-999,9,-999,9,-999,9,-999,9,-999,9
      320696_3,    S04I,44,1,7,7,2,19960530,559,-63.5002,55.9912,4855,3810.4,-0.1682,34.6595,2,34.6595,2,235.4,2,235.8,2,130.2,2,32.12,2,0,2,2.24,2,-999,9,-999,9,-999,9,-999,9,-999,9
      320696_3,    S04I,44,1,6,6,2,19960530,559,-63.5002,55.9912,4855,4057.8,-0.2039,34.6581,2,34.658,2,238.4,2,238.9,2,130.1,2,32.01,2,0,2,2.23,2,-999,9,-999,9,-999,9,-999,9,-999,9
      320696_3,    S04I,44,1,5,5,2,19960530,559,-63.5002,55.9912,4855,4315.9,-0.2324,34.6565,2,34.6564,2,240.8,2,241,2,131.9,2,32.01,2,0,2,2.23,2,-999,9,-999,9,-999,9,-999,9,-999,9
      320696_3,    S04I,44,1,4,4,2,19960530,559,-63.5002,55.9912,4855,4525.3,-0.2583,34.6558,2,34.655,2,243.5,2,243,2,132.2,2,31.95,2,0,2,2.22,2,-999,9,-999,9,-999,9,-999,9,-999,9
      320696_3,    S04I,44,1,3,3,2,19960530,559,-63.5002,55.9912,4855,4681.7,-0.2683,34.6543,2,34.6539,2,244.9,2,244.9,2,133,2,31.75,2,0,2,2.22,2,-999,9,-999,9,-999,9,-999,9,-999,9
      320696_3,    S04I,44,1,2,2,2,19960530,559,-63.5002,55.9912,4855,4812.2,-0.3098,34.6501,2,34.6494,2,248.2,2,248.2,2,131.7,2,31.79,2,0,2,2.2,2,-999,9,-999,9,-999,9,-999,9,-999,9
      320696_3,    S04I,44,1,1,1,2,19960530,559,-63.5002,55.9912,4855,4915,-0.3152,34.649,2,34.6488,2,249.9,2,249.6,2,131.9,2,31.84,2,0.01,2,2.2,2,-999,9,-999,9,-999,9,-999,9,-999,9
      320696_3,    S04I,45,1,36,36,2,19960530,1150,-63.4995,57.1595,4740,14.9,-1.6695,33.9321,2,33.9334,2,-999,4,343,2,39.3,2,26.4,2,0.25,2,1.88,2,-999,9,-999,9,-999,9,2176.2,2,-999,9
      320696_3,    S04I,45,1,35,35,2,19960530,1150,-63.4995,57.1595,4740,35.2,-1.6442,33.932,2,33.9314,2,-999,4,342.3,2,38.7,2,26.34,2,0.24,2,1.87,2,-999,9,-999,9,-999,9,-999,9,-999,9
      320696_3,    S04I,45,1,34,34,2,19960530,1150,-63.4995,57.1595,4740,60.5,-1.6385,33.9321,2,33.933,2,-999,4,342.2,2,39.4,2,26.39,2,0.24,2,1.87,2,-999,9,-999,9,-999,9,-999,9,-999,9
      320696_3,    S04I,45,1,33,33,2,19960530,1150,-63.4995,57.1595,4740,95.1,1.1328,34.4636,2,34.4605,2,196.9,2,203.9,2,78.8,2,34.2,2,0.01,2,2.37,2,-999,9,-999,9,-999,9,-999,9,-999,9
      320696_3,    S04I,45,1,32,32,2,19960530,1150,-63.4995,57.1595,4740,135.7,1.5742,34.5547,2,34.552,2,184.8,2,183.6,2,83.7,2,34.35,2,0,2,2.37,2,-999,9,-999,9,-999,9,-999,9,-999,9
      320696_3,    S04I,45,1,31,31,2,19960530,1150,-63.4995,57.1595,4740,186.8,1.7239,34.6105,2,34.6086,2,180.5,2,180.3,2,86.1,2,33.83,2,0,2,2.34,2,-999,9,-999,9,-999,9,-999,9,-999,9
      320696_3,    S04I,45,1,30,30,2,19960530,1150,-63.4995,57.1595,4740,216.6,1.7529,34.6274,2,34.6273,2,179.6,2,179.1,2,86.8,2,33.52,2,0,2,2.31,2,-999,9,-999,9,-999,9,-999,9,-999,9
      320696_3,    S04I,45,1,29,29,2,19960530,1150,-63.4995,57.1595,4740,247.6,1.7815,34.6473,2,34.6446,2,180.1,2,180.3,2,87.1,2,33.21,2,0,2,2.29,2,-999,9,-999,9,-999,9,-999,9,-999,9
      320696_3,    S04I,45,1,28,28,2,19960530,1150,-63.4995,57.1595,4740,286.7,1.794,34.6664,2,34.6636,2,-999,3,180.9,2,87.8,2,32.8,2,0,2,2.25,2,-999,9,-999,9,-999,9,-999,9,-999,9
      320696_3,    S04I,45,1,27,27,2,19960530,1150,-63.4995,57.1595,4740,336.6,1.792,34.6845,2,34.6835,2,182.7,2,183.1,2,87.9,2,32.39,2,0,2,2.23,2,-999,9,-999,9,-999,9,-999,9,-999,9
      320696_3,    S04I,45,1,26,26,2,19960530,1150,-63.4995,57.1595,4740,387.6,1.7273,34.691,2,34.6904,2,184.6,2,186.3,2,89,2,32.08,2,0,2,2.21,2,-999,9,-999,9,-999,9,-999,9,-999,9
      320696_3,    S04I,45,1,25,25,2,19960530,1150,-63.4995,57.1595,4740,438.2,1.7173,34.7033,2,34.703,2,186.8,2,187.3,2,89.7,2,31.72,2,0,2,2.19,2,-999,9,-999,9,-999,9,-999,9,-999,9
      320696_3,    S04I,45,1,24,24,2,19960530,1150,-63.4995,57.1595,4740,507.5,1.6968,34.7169,2,34.7161,2,189.6,2,190.4,2,90.2,2,31.31,2,0,2,2.15,2,-999,9,-999,9,-999,9,-999,9,-999,9
      320696_3,    S04I,45,1,23,23,2,19960530,1150,-63.4995,57.1595,4740,660.3,1.5916,34.7314,2,34.7311,2,194.5,2,195.5,2,92.6,2,30.79,2,0,2,2.13,2,-999,9,-999,9,-999,9,-999,9,-999,9
      320696_3,    S04I,45,1,22,22,2,19960530,1150,-63.4995,57.1595,4740,759.6,1.4857,34.7335,2,34.7325,2,197.6,2,198,2,95,2,30.69,2,0,2,2.12,2,-999,9,-999,9,-999,9,-999,9,-999,9
      320696_3,    S04I,45,1,21,21,2,19960530,1150,-63.4995,57.1595,4740,861.6,1.3777,34.7328,2,34.7321,2,199.8,2,200,2,98.1,2,30.63,2,0,2,2.12,2,-999,9,-999,9,-999,9,-999,9,-999,9
      320696_3,    S04I,45,1,20,20,2,19960530,1150,-63.4995,57.1595,4740,1063.1,1.1683,34.7263,2,34.726,2,203.1,2,202.6,2,103.7,2,30.88,2,0,2,2.13,2,-999,9,-999,9,-999,9,-999,9,-999,9
      320696_3,    S04I,45,1,19,19,2,19960530,1150,-63.4995,57.1595,4740,1266.6,0.9827,34.7182,2,34.7186,2,205.6,2,205.2,2,108.9,2,31.18,2,0,2,2.16,2,-999,9,-999,9,-999,9,-999,9,-999,9
      320696_3,    S04I,45,1,18,18,2,19960530,1150,-63.4995,57.1595,4740,1467,0.8018,34.7075,2,34.7083,2,207.4,2,207.6,2,114.5,2,31.57,2,0,2,2.19,2,-999,9,-999,9,-999,9,-999,9,-999,9
      320696_3,    S04I,45,1,17,17,2,19960530,1150,-63.4995,57.1595,4740,1666.3,0.6407,34.6979,2,34.6987,2,208.9,2,208.9,2,119.4,2,31.92,2,0,2,2.21,2,-999,9,-999,9,-999,9,-999,9,-999,9
      320696_3,    S04I,45,1,16,16,2,19960530,1150,-63.4995,57.1595,4740,1857,0.5247,34.6924,2,34.693,2,210.2,2,209.4,2,122.8,2,32.17,2,0,2,2.24,2,-999,9,-999,9,-999,9,-999,9,-999,9
      320696_3,    S04I,45,1,15,15,2,19960530,1150,-63.4995,57.1595,4740,2074.1,0.4049,34.6858,2,34.685,2,212.6,2,211.6,2,126,2,32.37,2,0,2,2.25,2,-999,9,-999,9,-999,9,-999,9,-999,9
      320696_3,    S04I,45,1,14,14,2,19960530,1150,-63.4995,57.1595,4740,2275,0.3082,34.6806,2,34.6817,2,214.4,2,214,2,127.7,2,32.46,2,0,2,2.25,2,-999,9,-999,9,-999,9,-999,9,-999,9
      320696_3,    S04I,45,1,13,13,2,19960530,1150,-63.4995,57.1595,4740,2479.4,0.2183,34.6756,2,34.6767,2,217.1,2,216.9,2,129.4,2,32.46,2,0,2,2.26,2,-999,9,-999,9,-999,9,-999,9,-999,9
      320696_3,    S04I,45,1,12,12,2,19960530,1150,-63.4995,57.1595,4740,2687.3,0.1418,34.6728,2,34.6732,2,219.8,2,220.6,2,130.3,2,32.45,2,0,2,2.26,2,-999,9,-999,9,-999,9,-999,9,-999,9
      320696_3,    S04I,45,1,11,11,2,19960530,1150,-63.4995,57.1595,4740,2891.7,0.0788,34.6695,2,34.6705,2,222.4,2,223.1,2,131,2,32.44,2,0,2,2.25,2,-999,9,-999,9,-999,9,-999,9,-999,9
      320696_3,    S04I,45,1,10,10,2,19960530,1150,-63.4995,57.1595,4740,3044.5,0.0345,34.6679,2,34.6683,2,224.3,2,225.6,2,131.2,2,32.39,2,0,2,2.25,2,-999,9,-999,9,-999,9,2257.6,2,-999,9
      320696_3,    S04I,45,1,9,9,2,19960530,1150,-63.4995,57.1595,4740,3296.9,-0.0333,34.6652,2,34.6663,2,228.1,2,228.2,2,131.1,2,32.33,2,0,2,2.25,2,-999,9,-999,9,-999,9,-999,9,-999,9
      320696_3,    S04I,45,1,37,37,2,19960530,1150,-63.4995,57.1595,4740,3496.3,-0.0792,34.663,2,34.6627,2,230.6,2,231.3,2,131.1,2,32.27,2,0,2,2.24,2,-999,9,-999,9,-999,9,-999,9,-999,9
      320696_3,    S04I,45,1,7,7,2,19960530,1150,-63.4995,57.1595,4740,3703.1,-0.126,34.6608,2,34.6607,2,233.5,2,233.9,2,131.2,2,32.17,2,0,2,2.24,2,-999,9,-999,9,-999,9,-999,9,-999,9
      320696_3,    S04I,45,1,6,6,2,19960530,1150,-63.4995,57.1595,4740,3908.9,-0.1574,34.6592,2,34.6597,2,235.9,2,236.2,2,130.4,2,32.11,2,0,2,2.24,2,-999,9,-999,9,-999,9,-999,9,-999,9
      320696_3,    S04I,45,1,5,5,2,19960530,1150,-63.4995,57.1595,4740,4109.1,-0.1908,34.6583,2,34.6586,2,238.1,2,238.1,2,131.3,2,32.05,2,0,2,2.24,2,-999,9,-999,9,-999,9,-999,9,-999,9
      320696_3,    S04I,45,1,4,4,2,19960530,1150,-63.4995,57.1595,4740,4325.1,-0.222,34.6565,2,34.6564,2,241.5,2,240.8,2,130.3,2,32,2,0,2,2.23,2,-999,9,-999,9,-999,9,-999,9,-999,9
      320696_3,    S04I,45,1,3,3,2,19960530,1150,-63.4995,57.1595,4740,4532.2,-0.2536,34.6553,2,34.6547,2,245,2,244,2,131.4,2,31.94,2,0,2,2.22,2,-999,9,-999,9,-999,9,-999,9,-999,9
      320696_3,    S04I,45,1,2,2,2,19960530,1150,-63.4995,57.1595,4740,4734.1,-0.3186,34.6498,2,34.6494,2,247.9,2,248,2,133.2,2,31.87,2,0.01,2,2.21,2,-999,9,-999,9,-999,9,-999,9,-999,9
      320696_3,    S04I,45,1,1,1,2,19960530,1150,-63.4995,57.1595,4740,4800,-0.3362,34.648,2,34.6478,2,250.2,2,250.1,2,132.2,2,31.91,2,0.02,2,2.2,2,-999,9,-999,9,-999,9,-999,9,-999,9