BOTTLE,20211011SIOJHS,,,,,,,,,,,,,,,,,,,,,,,,,,,,,,,,,,,,,,
EXPOCODE,SECT_ID,STNNBR,CASTNO,SAMPNO,BTLNBR,BTLNBR_FLAG_W,DATE,TIME,LATITUDE,LONGITUDE,DEPTH,CTDPRS,CTDTMP,CTDSAL,CTDSAL_FLAG_W,SALNTY,SALNTY_FLAG_W,CTDOXY,CTDOXY_FLAG_W,OXYGEN,OXYGEN_FLAG_W,SILCAT,SILCAT_FLAG_W,NITRAT,NITRAT_FLAG_W,NITRIT,NITRIT_FLAG_W,PHSPHT,PHSPHT_FLAG_W,CFC-11,CFC-11_FLAG_W,CFC-12,CFC-12_FLAG_W,SF6,SF6_FLAG_W,TCARBN,TCARBN_FLAG_W,ALKALI,ALKALI_FLAG_W
,,,,,,,,,,,,DB,ITS-90,PSS-78,,PSS-78,,UMOL/KG,,UMOL/KG,,UMOL/KG,,UMOL/KG,,UMOL/KG,,UMOL/KG,,PMOL/KG,,PMOL/KG,,FMOL/KG,,UMOL/KG,,UMOL/KG,
      320696_3,    S04I,42,1,36,36,2,19960529,1751,-63.4982,53.6823,4790,14.8,-1.303,33.9823,2,33.9814,2,-999,4,340.4,2,42.9,2,25.97,2,0.25,2,1.86,2,-999,9,-999,9,-999,9,2176.6,2,2308,6
      320696_3,    S04I,42,1,35,35,2,19960529,1751,-63.4982,53.6823,4790,35.8,-1.3028,33.9827,2,33.9816,2,-999,4,339,2,43,2,25.97,2,0.25,2,1.86,2,-999,9,-999,9,-999,9,2175.7,2,2299,2
      320696_3,    S04I,42,1,34,34,2,19960529,1751,-63.4982,53.6823,4790,65.2,-1.2643,33.9871,2,33.9857,2,-999,4,339.5,2,43,2,25.97,2,0.25,2,1.85,2,-999,9,-999,9,-999,9,2177,2,2299,2
      320696_3,    S04I,42,1,33,33,2,19960529,1751,-63.4982,53.6823,4790,84.4,0.3103,34.3442,2,34.3048,2,-999,4,253.6,2,68.7,2,31.94,2,0.07,2,2.24,2,-999,9,-999,9,-999,9,2225.1,2,2314,2
      320696_3,    S04I,42,1,32,32,2,19960529,1751,-63.4982,53.6823,4790,126.2,1.1825,34.506,2,34.5013,2,-999,4,202,2,82.4,2,34.09,2,0.01,2,2.37,2,-999,9,-999,9,-999,9,2251,2,2334,2
      320696_3,    S04I,42,1,31,31,2,19960529,1751,-63.4982,53.6823,4790,165.5,1.4707,34.5762,2,34.5794,2,-999,4,-999,5,86.2,2,33.94,2,0,2,2.35,2,-999,9,-999,9,-999,9,2256.6,2,2336,2
      320696_3,    S04I,42,1,30,30,2,19960529,1751,-63.4982,53.6823,4790,226.5,1.6402,34.6386,2,34.6382,2,184,2,183.7,2,88.4,2,33.28,2,0,2,2.31,2,-999,9,-999,9,-999,9,2257.5,2,2343,2
      320696_3,    S04I,42,1,29,29,2,19960529,1751,-63.4982,53.6823,4790,265.3,1.6574,34.6597,2,34.6598,2,184.4,2,184.5,2,89.3,2,32.86,2,0,2,2.28,2,-999,9,-999,9,-999,9,2254.8,2,2339,2
      320696_3,    S04I,42,1,28,28,2,19960529,1751,-63.4982,53.6823,4790,284.1,1.6643,34.6661,2,34.6665,2,185.5,2,185.1,2,89.3,2,32.66,2,0,2,2.26,2,-999,9,-999,9,-999,9,2257.1,2,2350,2
      320696_3,    S04I,42,1,27,27,2,19960529,1751,-63.4982,53.6823,4790,313.8,1.6696,34.6775,2,34.6783,2,185.2,2,185.1,2,89.7,2,32.46,2,0,2,2.25,2,-999,9,-999,9,-999,9,2256.2,2,2346,2
      320696_3,    S04I,42,1,26,26,2,19960529,1751,-63.4982,53.6823,4790,344.3,1.6662,34.6879,2,34.6877,2,186.3,2,186.3,2,90.1,2,32.15,2,0,2,2.23,2,-999,9,-999,9,-999,9,2255.3,2,2353,2
      320696_3,    S04I,42,1,25,25,2,19960529,1751,-63.4982,53.6823,4790,399.1,1.6447,34.6995,2,34.6997,2,187.1,2,187.9,2,91,2,31.95,2,0,2,2.2,2,-999,9,-999,9,-999,9,2253.2,2,2351,2
      320696_3,    S04I,42,1,24,24,2,19960529,1751,-63.4982,53.6823,4790,533.1,1.5493,34.7188,2,34.7191,2,192.4,2,193.8,2,93.4,2,31.39,2,0,2,2.17,2,-999,9,-999,9,-999,9,2251.8,2,2353,2
      320696_3,    S04I,42,1,23,23,2,19960529,1751,-63.4982,53.6823,4790,682.8,1.4075,34.7252,2,34.7256,2,196.4,2,197,2,97,2,31.08,2,0,2,2.14,2,-999,9,-999,9,-999,9,2252.6,2,2359,2
      320696_3,    S04I,42,1,22,22,2,19960529,1751,-63.4982,53.6823,4790,809.6,1.2472,34.7231,2,34.7225,2,199.6,2,200.1,2,101.1,2,31.13,2,0,2,2.15,2,-999,9,-999,9,-999,9,2252.9,2,2353,6
      320696_3,    S04I,42,1,21,21,2,19960529,1751,-63.4982,53.6823,4790,912.7,1.1641,34.7253,2,34.7243,2,201.3,2,202,2,103.2,2,31.13,2,0,2,2.15,2,-999,9,-999,9,-999,9,2253.7,2,2357,2
      320696_3,    S04I,42,1,20,20,2,19960529,1751,-63.4982,53.6823,4790,1061.7,1.0081,34.7187,2,34.7184,2,204.2,2,204.8,2,107.9,2,31.34,2,0,2,2.16,2,-999,9,-999,9,-999,9,2255.4,2,2356,2
      320696_3,    S04I,42,1,19,19,2,19960529,1751,-63.4982,53.6823,4790,1261.9,0.8112,34.7089,2,34.7091,2,206.3,2,206.1,2,113.3,2,31.69,2,0,2,2.19,2,-999,9,-999,9,-999,9,2257.3,2,-999,3
      320696_3,    S04I,42,1,18,18,2,19960529,1751,-63.4982,53.6823,4790,1465.1,0.6628,34.7013,2,34.7003,2,208.1,2,207.4,2,118.1,2,32.05,2,0,2,2.21,2,-999,9,-999,9,-999,9,2258.6,2,2356,2
      320696_3,    S04I,42,1,17,17,2,19960529,1751,-63.4982,53.6823,4790,1666.3,0.5329,34.6943,2,34.6942,2,209.8,2,208.7,2,121.9,2,32.25,2,0,2,2.24,2,-999,9,-999,9,-999,9,2260.6,2,-999,3
      320696_3,    S04I,42,1,16,16,2,19960529,1751,-63.4982,53.6823,4790,1868.6,0.4087,34.6865,2,34.6867,2,210.4,2,210.1,2,125,2,32.61,2,0,2,2.27,2,-999,9,-999,9,-999,9,2261.7,2,2357,2
      320696_3,    S04I,42,1,15,15,2,19960529,1751,-63.4982,53.6823,4790,2067.1,0.3114,34.6821,2,34.6822,2,212.5,2,212.6,2,127.5,2,32.61,2,0,2,2.27,2,-999,9,-999,9,-999,9,2260.9,2,-999,3
      320696_3,    S04I,42,1,14,14,2,19960529,1751,-63.4982,53.6823,4790,2265.1,0.2261,34.6782,2,34.6781,2,215.4,2,216.7,2,128.7,2,32.61,2,0,2,2.27,2,-999,9,-999,9,-999,9,2262.3,2,2357,2
      320696_3,    S04I,42,1,13,13,2,19960529,1751,-63.4982,53.6823,4790,2475.5,0.1461,34.6747,2,34.6749,2,218.3,2,219.2,2,129.9,2,32.61,2,0,2,2.27,2,-999,9,-999,9,-999,9,2261.3,2,-999,9
      320696_3,    S04I,42,1,12,12,2,19960529,1751,-63.4982,53.6823,4790,2677.2,0.0746,34.6717,2,34.6716,2,222.5,2,222.2,2,130.2,2,32.56,2,0,2,2.27,2,-999,9,-999,9,-999,9,2258.8,2,2356,2
      320696_3,    S04I,42,1,11,11,2,19960529,1751,-63.4982,53.6823,4790,2881.3,0.0122,34.6685,2,34.6688,2,225.7,2,225,2,130.6,2,32.56,2,0,2,2.27,2,-999,9,-999,9,-999,9,2259.4,2,-999,3
      320696_3,    S04I,42,1,10,10,2,19960529,1751,-63.4982,53.6823,4790,3076.2,-0.0398,34.6666,2,34.6661,2,228.3,2,227.9,2,130.8,2,32.51,2,0,2,2.26,2,-999,9,-999,9,-999,9,2258.1,2,2353,2
      320696_3,    S04I,42,1,9,9,2,19960529,1751,-63.4982,53.6823,4790,3274.5,-0.0913,34.6642,2,34.6635,2,231,2,230.7,2,130.8,2,32.41,2,0,2,2.26,2,-999,9,-999,9,-999,9,2255.3,2,2358,2
      320696_3,    S04I,42,1,37,37,2,19960529,1751,-63.4982,53.6823,4790,3486.6,-0.1344,34.662,2,34.6618,2,233.4,2,233.8,2,129.5,2,32.36,2,0,2,2.25,2,-999,9,-999,9,-999,9,2254.7,2,2353,2
      320696_3,    S04I,42,1,7,7,2,19960529,1751,-63.4982,53.6823,4790,3689.3,-0.1691,34.6606,2,34.6604,2,235.9,2,236.6,2,129.1,2,32.2,2,0,2,2.24,2,-999,9,-999,9,-999,9,2250.7,2,-999,9
      320696_3,    S04I,42,1,6,6,2,19960529,1751,-63.4982,53.6823,4790,3896.3,-0.2023,34.6591,2,34.6592,2,238.6,2,239.5,2,128.5,2,32.15,2,0,2,2.24,2,-999,9,-999,9,-999,9,2251.8,2,2352,2
      320696_3,    S04I,42,1,5,5,2,19960529,1751,-63.4982,53.6823,4790,4103.3,-0.2345,34.6573,2,-999,5,240.9,2,240.7,2,128.3,2,32.15,2,0,2,2.23,2,-999,9,-999,9,-999,9,2250.7,2,-999,3
      320696_3,    S04I,42,1,4,4,2,19960529,1751,-63.4982,53.6823,4790,4307.9,-0.2641,34.6563,2,-999,4,243.8,2,244,2,128.3,2,32.05,2,0,2,2.22,2,-999,9,-999,9,-999,9,2249.9,2,2353,2
      320696_3,    S04I,42,1,3,3,2,19960529,1751,-63.4982,53.6823,4790,4538.5,-0.2846,34.6562,2,-999,5,243.8,2,243.7,2,133.4,2,32.15,2,0,2,2.23,2,-999,9,-999,9,-999,9,2251.7,2,2358,2
      320696_3,    S04I,42,1,2,2,2,19960529,1751,-63.4982,53.6823,4790,4747,-0.3227,34.6508,2,34.6501,2,248.3,2,249.9,2,126,2,31.85,2,0,2,2.21,2,-999,9,-999,9,-999,9,2248,2,-999,9
      320696_3,    S04I,42,1,1,1,2,19960529,1751,-63.4982,53.6823,4790,4851,-0.3578,34.6465,2,34.6448,2,252.9,2,252.4,2,125.6,2,31.74,2,0.01,2,2.19,2,-999,9,-999,9,-999,9,2247.7,2,-999,3
      320696_3,    S04I,43,1,36,36,2,19960529,2356,-63.4988,54.8232,4786,14.7,-1.611,33.955,2,33.9579,2,-999,4,340.9,2,43.4,2,26.17,2,0.24,2,1.86,2,-999,9,-999,9,-999,9,2177.6,2,2297,2
      320696_3,    S04I,43,1,35,35,2,19960529,2356,-63.4988,54.8232,4786,35.5,-1.577,33.9615,2,33.964,2,-999,4,340.2,2,43.4,2,26.17,2,0.24,2,1.86,2,-999,9,-999,9,-999,9,2177.7,2,-999,9
      320696_3,    S04I,43,1,34,34,2,19960529,2356,-63.4988,54.8232,4786,54.5,-1.5674,33.968,2,33.9688,2,-999,4,339.7,2,43.4,2,26.22,2,0.24,2,1.87,2,-999,9,-999,9,-999,9,-999,9,-999,9
      320696_3,    S04I,43,1,33,33,2,19960529,2356,-63.4988,54.8232,4786,74.7,-1.5018,33.9842,2,33.9871,2,-999,4,337.2,2,44.1,2,26.48,2,0.23,2,1.88,2,-999,9,-999,9,-999,9,-999,9,-999,9
      320696_3,    S04I,43,1,32,32,2,19960529,2356,-63.4988,54.8232,4786,100,0.4567,34.3557,2,34.3647,2,-999,4,235.1,2,72.4,2,32.92,2,0.02,2,2.3,2,-999,9,-999,9,-999,9,-999,9,-999,9
      320696_3,    S04I,43,1,31,31,2,19960529,2356,-63.4988,54.8232,4786,126.1,1.1781,34.4749,2,34.4778,2,-999,4,203.9,2,79.2,2,33.9,2,0.01,2,2.36,2,-999,9,-999,9,-999,9,-999,9,-999,9
      320696_3,    S04I,43,1,30,30,2,19960529,2356,-63.4988,54.8232,4786,165.7,1.4509,34.5471,2,34.5486,2,-999,4,188.9,2,83.5,2,34,2,0.01,2,2.35,2,-999,9,-999,9,-999,9,-999,9,-999,9
      320696_3,    S04I,43,1,29,29,2,19960529,2356,-63.4988,54.8232,4786,205.4,1.5844,34.5958,2,34.595,2,184.4,2,183.5,2,86.2,2,33.75,2,0,2,2.33,2,-999,9,-999,9,-999,9,-999,9,-999,9
      320696_3,    S04I,43,1,28,28,2,19960529,2356,-63.4988,54.8232,4786,250.4,1.6428,34.6272,2,34.6268,2,182.1,2,182.2,2,87.5,2,33.23,2,0,2,2.3,2,-999,9,-999,9,-999,9,-999,9,-999,9
      320696_3,    S04I,43,1,27,27,2,19960529,2356,-63.4988,54.8232,4786,291.3,1.6882,34.6511,2,34.652,2,181.9,2,181.6,2,87.9,2,32.88,2,0.01,2,2.28,2,-999,9,-999,9,-999,9,-999,9,-999,9
      320696_3,    S04I,43,1,26,26,2,19960529,2356,-63.4988,54.8232,4786,330,1.681,34.6672,2,34.6695,2,183.7,2,183.3,2,88.6,2,32.57,2,0.01,2,2.26,2,-999,9,-999,9,-999,9,-999,9,-999,9
      320696_3,    S04I,43,1,25,25,2,19960529,2356,-63.4988,54.8232,4786,403.5,1.6654,34.6912,2,34.6929,2,185.1,2,186.2,2,89.8,2,32.01,2,0.01,2,2.21,2,-999,9,-999,9,-999,9,-999,9,-999,9
      320696_3,    S04I,43,1,24,24,2,19960529,2356,-63.4988,54.8232,4786,506.3,1.6476,34.7163,2,34.7176,2,190.2,2,190.2,2,90.7,2,31.29,2,0.01,2,2.16,2,-999,9,-999,9,-999,9,-999,9,-999,9
      320696_3,    S04I,43,1,23,23,2,19960529,2356,-63.4988,54.8232,4786,606.8,1.5844,34.7292,2,34.7306,2,193.9,2,194.4,2,91.8,2,30.78,2,0.01,2,2.13,2,-999,9,-999,9,-999,9,-999,9,-999,9
      320696_3,    S04I,43,1,22,22,2,19960529,2356,-63.4988,54.8232,4786,708.3,1.488,34.732,2,34.7328,2,196.7,2,197.3,2,94.1,2,30.68,2,0,2,2.12,2,-999,9,-999,9,-999,9,-999,9,-999,9
      320696_3,    S04I,43,1,21,21,2,19960529,2356,-63.4988,54.8232,4786,810.2,1.3776,34.7308,2,34.7318,2,199.6,2,199.3,2,97.2,2,30.74,2,0,2,2.12,2,-999,9,-999,9,-999,9,-999,9,-999,9
      320696_3,    S04I,43,1,20,20,2,19960529,2356,-63.4988,54.8232,4786,961.5,1.2366,34.7284,2,34.7289,2,201.3,2,201.5,2,100.9,2,30.79,2,0,2,2.12,2,-999,9,-999,9,-999,9,-999,9,-999,9
      320696_3,    S04I,43,1,19,19,2,19960529,2356,-63.4988,54.8232,4786,1113.3,1.0542,34.7198,2,34.7208,2,203.7,2,203.2,2,105.9,2,31.2,2,0.01,2,2.15,2,-999,9,-999,9,-999,9,-999,9,-999,9
      320696_3,    S04I,43,1,18,18,2,19960529,2356,-63.4988,54.8232,4786,1317.9,0.8391,34.7082,2,34.7102,2,205.9,2,205.4,2,111.8,2,31.51,2,0,2,2.18,2,-999,9,-999,9,-999,9,-999,9,-999,9
      320696_3,    S04I,43,1,17,17,2,19960529,2356,-63.4988,54.8232,4786,1518.4,0.6592,34.6989,2,34.6998,2,207.7,2,206.7,2,117.2,2,31.92,2,0,2,2.22,2,-999,9,-999,9,-999,9,-999,9,-999,9
      320696_3,    S04I,43,1,16,16,2,19960529,2356,-63.4988,54.8232,4786,1770.8,0.5029,34.69,2,34.6906,2,208,2,208,2,121.3,2,32.28,2,0,2,2.25,2,-999,9,-999,9,-999,9,-999,9,-999,9
      320696_3,    S04I,43,1,15,15,2,19960529,2356,-63.4988,54.8232,4786,2025.2,0.3542,34.6826,2,34.6841,2,211,2,211.2,2,125.8,2,32.49,2,0,2,2.26,2,-999,9,-999,9,-999,9,-999,9,-999,9
      320696_3,    S04I,43,1,14,14,2,19960529,2356,-63.4988,54.8232,4786,2278,0.2424,34.677,2,34.6786,2,213.9,2,214.9,2,127.6,2,32.54,2,0,2,2.27,2,-999,9,-999,9,-999,9,-999,9,-999,9
      320696_3,    S04I,43,1,13,13,2,19960529,2356,-63.4988,54.8232,4786,2529,0.1436,34.673,2,34.6729,2,218.6,2,218.6,2,128.5,2,32.54,2,0,2,2.27,2,-999,9,-999,9,-999,9,-999,9,-999,9
      320696_3,    S04I,43,1,12,12,2,19960529,2356,-63.4988,54.8232,4786,2790,0.0564,34.669,2,34.6705,2,222.3,2,222.9,2,129.3,2,32.44,2,0,2,2.27,2,-999,9,-999,9,-999,9,-999,9,-999,9
      320696_3,    S04I,43,1,11,11,2,19960529,2356,-63.4988,54.8232,4786,3046.9,-0.0224,34.6654,2,34.6672,2,226.8,2,226.8,2,129.2,2,32.44,2,0,2,2.26,2,-999,9,-999,9,-999,9,-999,9,-999,9
      320696_3,    S04I,43,1,10,10,2,19960529,2356,-63.4988,54.8232,4786,3299.9,-0.0942,34.6626,2,34.6635,2,230.2,2,230.4,2,129.4,2,32.29,2,0,2,2.26,2,-999,9,-999,9,-999,9,-999,9,-999,9
      320696_3,    S04I,43,1,9,9,2,19960529,2356,-63.4988,54.8232,4786,3553.8,-0.1461,34.6609,2,34.6617,2,233.1,2,233.7,2,129.8,2,32.24,2,0,2,2.25,2,-999,9,-999,9,-999,9,-999,9,-999,9
      320696_3,    S04I,43,1,37,37,2,19960529,2356,-63.4988,54.8232,4786,3810,-0.1888,34.6589,2,34.6592,2,236.2,2,236.2,2,129.8,2,32.19,2,0,2,2.24,2,-999,9,-999,9,-999,9,-999,9,-999,9
      320696_3,    S04I,43,1,7,7,2,19960529,2356,-63.4988,54.8232,4786,4065.8,-0.2304,34.6573,2,34.6576,2,239.1,2,239.3,2,129.6,2,32.09,2,0,2,2.24,2,-999,9,-999,9,-999,9,-999,9,-999,9
      320696_3,    S04I,43,1,6,6,2,19960529,2356,-63.4988,54.8232,4786,4270.2,-0.2548,34.6559,2,34.6566,2,240.9,2,240.9,2,131.2,2,32.09,2,0,2,2.24,2,-999,9,-999,9,-999,9,-999,9,-999,9
      320696_3,    S04I,43,1,5,5,2,19960529,2356,-63.4988,54.8232,4786,4425.7,-0.27,34.6555,2,34.6556,2,241.9,2,241.5,2,133,2,32.04,2,0,2,2.23,2,-999,9,-999,9,-999,9,-999,9,-999,9
      320696_3,    S04I,43,1,4,4,2,19960529,2356,-63.4988,54.8232,4786,4578.8,-0.2802,34.655,2,34.6553,2,242.8,2,242.4,2,134.2,2,31.99,2,0,2,2.23,2,-999,9,-999,9,-999,9,-999,9,-999,9
      320696_3,    S04I,43,1,3,3,2,19960529,2356,-63.4988,54.8232,4786,4682.1,-0.2939,34.6532,2,34.6535,2,245.2,2,244.6,2,132.6,2,31.94,2,0,2,2.23,2,-999,9,-999,9,-999,9,-999,9,-999,9
      320696_3,    S04I,43,1,2,2,2,19960529,2356,-63.4988,54.8232,4786,4771.2,-0.3138,34.6515,2,34.6515,2,246.5,2,246.4,2,131.8,2,31.89,2,0,2,2.21,2,-999,9,-999,9,-999,9,-999,9,-999,9
      320696_3,    S04I,43,1,1,1,2,19960529,2356,-63.4988,54.8232,4786,4838,-0.3217,34.6498,2,34.6504,2,247.4,2,248.2,2,133.4,2,31.93,2,0.01,2,2.21,2,-999,9,-999,9,-999,9,-999,9,-999,9