BOTTLE,20211011SIOJHS,,,,,,,,,,,,,,,,,,,,,,,,,,,,,,,,,,,,,,
EXPOCODE,SECT_ID,STNNBR,CASTNO,SAMPNO,BTLNBR,BTLNBR_FLAG_W,DATE,TIME,LATITUDE,LONGITUDE,DEPTH,CTDPRS,CTDTMP,CTDSAL,CTDSAL_FLAG_W,SALNTY,SALNTY_FLAG_W,CTDOXY,CTDOXY_FLAG_W,OXYGEN,OXYGEN_FLAG_W,SILCAT,SILCAT_FLAG_W,NITRAT,NITRAT_FLAG_W,NITRIT,NITRIT_FLAG_W,PHSPHT,PHSPHT_FLAG_W,CFC-11,CFC-11_FLAG_W,CFC-12,CFC-12_FLAG_W,SF6,SF6_FLAG_W,TCARBN,TCARBN_FLAG_W,ALKALI,ALKALI_FLAG_W
,,,,,,,,,,,,DB,ITS-90,PSS-78,,PSS-78,,UMOL/KG,,UMOL/KG,,UMOL/KG,,UMOL/KG,,UMOL/KG,,UMOL/KG,,PMOL/KG,,PMOL/KG,,FMOL/KG,,UMOL/KG,,UMOL/KG,
      320696_3,    S04I,102,1,35,35,2,19960626,121,-62.2438,110.6703,3986,11.4,-1.8377,34.1104,2,34.1111,2,-999,4,328.8,2,51.4,2,28.58,2,0.19,2,2.01,2,5.977,2,2.846,2,-999,9,2192.4,2,2309,2
      320696_3,    S04I,102,1,36,36,2,19960626,121,-62.2438,110.6703,3986,12.4,-1.8388,34.1106,2,34.1074,2,-999,4,328.7,2,51.4,2,28.58,2,0.19,2,2.02,2,5.976,2,2.819,2,-999,9,-999,9,-999,9
      320696_3,    S04I,102,1,34,34,2,19960626,121,-62.2438,110.6703,3986,32,-1.8337,34.1115,2,34.1117,2,-999,4,328.3,2,51.6,2,28.58,2,0.19,2,2.01,2,5.933,2,2.809,2,-999,9,2191,2,-999,9
      320696_3,    S04I,102,1,33,33,2,19960626,121,-62.2438,110.6703,3986,57.9,-1.8325,34.1124,2,34.1131,2,-999,4,328.2,2,51.7,2,28.58,2,0.19,2,2.02,2,5.974,2,2.799,2,-999,9,2189.9,2,-999,9
      320696_3,    S04I,102,1,32,32,2,19960626,121,-62.2438,110.6703,3986,82.4,-0.7897,34.2596,2,34.2376,2,-999,4,288.7,2,59.9,2,30.15,2,0.13,2,2.12,2,4.734,2,2.209,2,-999,9,2206.6,2,-999,9
      320696_3,    S04I,102,1,31,31,2,19960626,121,-62.2438,110.6703,3986,102.6,1.0678,34.5332,2,34.533,2,-999,3,202.4,2,79,2,33.27,2,0.02,2,2.31,2,1.635,2,0.763,2,-999,9,2246.2,2,-999,9
      320696_3,    S04I,102,1,30,30,2,19960626,121,-62.2438,110.6703,3986,132.6,1.3034,34.5831,2,34.5815,2,195.4,2,193.9,2,81.7,2,33.07,2,0.01,2,2.3,2,-999,9,-999,9,-999,9,-999,9,-999,9
      320696_3,    S04I,102,1,29,29,2,19960626,121,-62.2438,110.6703,3986,173.6,1.4059,34.6232,2,34.6231,2,193.5,2,191.7,2,83.9,2,32.72,2,0.01,2,2.26,2,0.959,2,0.464,2,-999,9,2252.4,2,-999,9
      320696_3,    S04I,102,1,28,28,2,19960626,121,-62.2438,110.6703,3986,212.9,1.4906,34.6492,2,34.6479,2,191.2,2,190.6,2,85.3,2,32.42,2,0.01,2,2.25,2,-999,9,-999,9,-999,9,2251.2,2,-999,9
      320696_3,    S04I,102,1,27,27,2,19960626,121,-62.2438,110.6703,3986,254,1.5368,34.6687,2,34.6656,2,189.9,2,190.1,2,86.4,2,32.11,2,0.01,2,2.24,2,0.684,2,0.334,2,-999,9,2251.1,2,-999,9
      320696_3,    S04I,102,1,26,26,2,19960626,121,-62.2438,110.6703,3986,304.5,1.5632,34.6856,2,34.6857,2,189.8,2,191.2,2,87.7,2,31.81,2,0.01,2,2.22,2,-999,9,-999,9,-999,9,2250.9,2,-999,9
      320696_3,    S04I,102,1,25,25,2,19960626,121,-62.2438,110.6703,3986,355.8,1.5882,34.6991,2,34.7,2,190.7,2,191.3,2,88.5,2,31.5,2,0.01,2,2.21,2,0.479,2,0.242,2,-999,9,2250.5,2,-999,9
      320696_3,    S04I,102,1,24,24,2,19960626,121,-62.2438,110.6703,3986,404.6,1.6184,34.7107,2,34.7114,2,191.3,2,192.3,2,89.7,2,31.25,2,0.01,2,2.18,2,-999,9,-999,9,-999,9,2249.1,2,-999,9
      320696_3,    S04I,102,1,23,23,2,19960626,121,-62.2438,110.6703,3986,454.4,1.5562,34.7133,2,34.7136,2,192.1,2,194,2,90.7,2,31.15,2,0,2,2.17,2,0.407,2,0.206,2,-999,9,2249.9,2,-999,9
      320696_3,    S04I,102,1,22,22,2,19960626,121,-62.2438,110.6703,3986,523.7,1.5746,34.7241,2,34.7242,2,193.8,2,194.4,2,92.3,2,30.95,2,0.01,2,2.15,2,-999,9,-999,9,-999,9,2249.6,2,-999,9
      320696_3,    S04I,102,1,21,21,2,19960626,121,-62.2438,110.6703,3986,606.8,1.4928,34.7262,2,34.7262,2,196.3,2,197.3,2,93.8,2,30.74,2,0.01,2,2.15,2,0.301,2,0.153,2,-999,9,2249.4,2,-999,9
      320696_3,    S04I,102,1,20,20,2,19960626,121,-62.2438,110.6703,3986,706.8,1.441,34.7309,2,34.7307,2,198.4,2,199,2,96.5,2,30.74,2,0.01,2,2.14,2,-999,9,-999,9,-999,9,2249.9,2,-999,9
      320696_3,    S04I,102,1,19,19,2,19960626,121,-62.2438,110.6703,3986,832.8,1.3076,34.7277,2,34.728,2,200.7,2,200.1,2,99.8,2,30.89,2,0.01,2,2.16,2,0.248,2,0.129,2,-999,9,2250.6,2,-999,9
      320696_3,    S04I,102,1,18,18,2,19960626,121,-62.2438,110.6703,3986,932.3,1.2467,34.7285,2,34.729,2,201.7,2,201.6,2,102.7,2,30.94,2,0.01,2,2.16,2,-999,9,-999,9,-999,9,2251.5,2,-999,9
      320696_3,    S04I,102,1,17,17,2,19960626,121,-62.2438,110.6703,3986,1106.7,1.1079,34.7239,2,34.7249,2,203.5,2,203,2,107.4,2,30.99,2,0.01,2,2.16,2,0.158,2,0.082,2,-999,9,2253.4,2,-999,9
      320696_3,    S04I,102,1,16,16,2,19960626,121,-62.2438,110.6703,3986,1307.6,0.9498,34.7172,2,34.7168,2,205.5,2,205,2,112.4,2,31.34,2,0.01,2,2.17,2,-999,9,-999,9,-999,9,2255.9,2,-999,9
      320696_3,    S04I,102,1,15,15,2,19960626,121,-62.2438,110.6703,3986,1497.2,0.802,34.7093,2,34.7099,2,208,2,206.8,2,116.3,2,31.54,2,0.01,2,2.18,2,0.144,2,0.072,2,-999,9,2256.2,2,-999,9
      320696_3,    S04I,102,1,14,14,2,19960626,121,-62.2438,110.6703,3986,1705.5,0.6343,34.701,2,34.7015,2,210.4,2,210.3,2,120.5,2,31.84,2,0.01,2,2.21,2,-999,9,-999,9,-999,9,2257.4,2,-999,9
      320696_3,    S04I,102,1,13,13,2,19960626,121,-62.2438,110.6703,3986,1919.7,0.4766,34.6933,2,34.6936,2,212.9,2,213,2,124,2,31.99,2,0.01,2,2.24,2,0.174,2,0.089,2,-999,9,2257.9,2,-999,9
      320696_3,    S04I,102,1,12,12,2,19960626,121,-62.2438,110.6703,3986,2125.7,0.3407,34.6863,2,34.6878,2,216.8,2,216.4,2,125.2,2,32.04,2,0.01,2,2.23,2,-999,9,-999,9,-999,9,2257.8,2,-999,9
      320696_3,    S04I,102,1,11,11,2,19960626,121,-62.2438,110.6703,3986,2328.5,0.2281,34.6831,2,34.6836,2,219.8,2,220.3,2,127.4,2,32.09,2,0.01,2,2.24,2,0.303,2,0.154,2,-999,9,2256.6,2,-999,9
      320696_3,    S04I,102,1,10,10,2,19960626,121,-62.2438,110.6703,3986,2533.5,0.1462,34.6808,2,34.6805,2,222.3,2,222.9,2,128.1,2,32.09,2,0.01,2,2.24,2,-999,9,-999,9,-999,9,2256.7,2,-999,9
      320696_3,    S04I,102,1,9,9,2,19960626,121,-62.2438,110.6703,3986,2737.2,0.0689,34.6781,2,-999,4,224.9,2,225.9,2,129.1,2,32.09,2,0.01,2,2.23,2,0.417,2,0.223,2,-999,9,2255.8,2,-999,9
      320696_3,    S04I,102,1,63,63,2,19960626,121,-62.2438,110.6703,3986,2938.5,0.0108,34.6769,2,34.6774,2,227.5,2,228.1,2,128.7,2,32.03,2,0.01,2,2.23,2,-999,9,-999,9,-999,9,2256.1,2,-999,9
      320696_3,    S04I,102,1,7,7,2,19960626,121,-62.2438,110.6703,3986,3145,-0.0447,34.6752,2,34.6749,2,230.4,2,230.8,2,128.1,2,31.98,2,0,2,2.23,2,0.634,2,0.322,2,-999,9,2254.3,2,-999,9
      320696_3,    S04I,102,1,6,6,2,19960626,121,-62.2438,110.6703,3986,3347.1,-0.0891,34.6737,2,34.6737,2,232,2,232.8,2,128.9,2,31.93,2,0,2,2.23,2,-999,9,-999,9,-999,9,2254.8,2,-999,9
      320696_3,    S04I,102,1,5,5,2,19960626,121,-62.2438,110.6703,3986,3545.7,-0.1278,34.6713,2,34.6717,2,234.9,2,237,2,126.5,2,31.88,2,0,2,2.23,2,0.97,2,0.471,2,-999,9,2254.2,2,-999,9
      320696_3,    S04I,102,1,39,39,2,19960626,121,-62.2438,110.6703,3986,3691.3,-0.1543,34.6707,2,34.6706,2,236.3,2,236.7,2,126.1,2,31.88,2,0,2,2.23,2,-999,9,-999,9,-999,9,2252.9,2,-999,9
      320696_3,    S04I,102,1,3,3,2,19960626,121,-62.2438,110.6703,3986,3849.2,-0.1972,34.6666,2,34.667,2,238.9,2,239.2,2,123.2,2,31.77,2,0.01,2,2.22,2,1.522,2,0.707,2,-999,9,2253.7,2,-999,9
      320696_3,    S04I,102,1,2,2,2,19960626,121,-62.2438,110.6703,3986,3930.5,-0.2141,34.6652,2,34.6647,2,239.6,2,239.4,2,126.5,2,31.87,2,0.01,2,2.21,2,-999,9,-999,9,-999,9,2253.8,2,-999,9
      320696_3,    S04I,102,1,1,1,2,19960626,121,-62.2438,110.6703,3986,4001.2,-0.2228,34.6634,2,34.6637,2,239.6,2,-999,3,127.2,2,31.82,2,0.01,2,2.21,2,1.734,2,0.806,2,-999,9,2253.1,2,-999,9
      320696_3,    S04I,103,1,36,36,2,19960626,832,-62.089,112.1683,4140,15.4,-1.8416,34.0587,2,34.0576,2,-999,4,341.2,2,44.1,2,28.27,2,0.23,2,1.98,2,6.411,2,3.136,2,-999,9,2182.3,2,2304,2
      320696_3,    S04I,103,1,35,35,2,19960626,832,-62.089,112.1683,4140,30.4,-1.8376,34.0596,2,34.0588,2,-999,4,339.7,2,43.9,2,28.27,2,0.23,2,1.97,2,-999,9,-999,9,-999,9,2185,2,-999,9
      320696_3,    S04I,103,1,34,34,2,19960626,832,-62.089,112.1683,4140,59.5,-1.7325,34.0968,2,34.0844,2,-999,4,333.4,2,45.7,2,28.43,2,0.22,2,1.99,2,6.229,2,2.964,2,-999,9,-999,9,-999,9
      320696_3,    S04I,103,1,33,33,2,19960626,832,-62.089,112.1683,4140,85.6,-1.0284,34.203,2,-999,5,-999,4,306,2,53.4,2,29.7,2,0.15,2,2.07,2,-999,9,-999,9,-999,9,-999,9,-999,9
      320696_3,    S04I,103,1,32,32,2,19960626,832,-62.089,112.1683,4140,106.4,0.1003,34.3882,2,34.3753,2,-999,4,249.1,2,68.5,2,32.1,2,0.06,2,2.22,2,3.496,2,1.579,2,-999,9,-999,9,-999,9
      320696_3,    S04I,103,1,31,31,2,19960626,832,-62.089,112.1683,4140,125.5,0.6733,34.4959,2,34.4877,2,-999,4,219.1,2,75.9,2,33.05,2,0.02,2,2.28,2,-999,9,-999,9,-999,9,-999,9,-999,9
      320696_3,    S04I,103,1,30,30,2,19960626,832,-62.089,112.1683,4140,141.1,0.8544,34.5283,2,34.5215,2,-999,3,211.6,2,78,2,33.16,2,0.01,2,2.29,2,-999,9,-999,9,-999,9,-999,9,-999,9
      320696_3,    S04I,103,1,29,29,2,19960626,832,-62.089,112.1683,4140,165.9,1.1281,34.5753,2,34.5728,2,-999,3,201.9,2,80.7,2,33.06,2,0,2,2.28,2,1.444,2,0.675,2,-999,9,-999,9,-999,9
      320696_3,    S04I,103,1,28,28,2,19960626,832,-62.089,112.1683,4140,204.5,1.3639,34.6211,2,34.6181,2,-999,3,194.4,2,82.8,2,32.85,2,0,2,2.25,2,-999,9,-999,9,-999,9,-999,9,-999,9
      320696_3,    S04I,103,1,27,27,2,19960626,832,-62.089,112.1683,4140,255.6,1.4297,34.6469,2,34.6453,2,191.3,2,193.8,2,84.2,2,32.5,2,0,2,2.22,2,0.886,2,0.448,2,-999,9,-999,9,-999,9
      320696_3,    S04I,103,1,26,26,2,19960626,832,-62.089,112.1683,4140,306.6,1.4522,34.6638,2,34.662,2,193.5,2,193.9,2,85.1,2,32.19,2,0,2,2.21,2,0.777,2,0.381,2,-999,9,-999,9,-999,9
      320696_3,    S04I,103,1,25,25,2,19960626,832,-62.089,112.1683,4140,357.4,1.466,34.6766,2,34.6751,2,192.4,2,194.3,2,86.2,2,31.99,2,0,2,2.2,2,0.694,2,0.353,2,-999,9,-999,9,-999,9
      320696_3,    S04I,103,1,24,24,2,19960626,832,-62.089,112.1683,4140,406.5,1.5579,34.6982,2,34.6965,2,194.5,2,192.5,2,87.8,2,31.69,2,0,2,2.18,2,0.521,2,0.269,2,-999,9,-999,9,-999,9
      320696_3,    S04I,103,1,23,23,2,19960626,832,-62.089,112.1683,4140,506.6,1.5463,34.7149,2,34.7134,2,193.9,2,194.7,2,89.9,2,31.28,2,0,2,2.16,2,-999,9,-999,9,-999,9,-999,9,-999,9
      320696_3,    S04I,103,1,22,22,2,19960626,832,-62.089,112.1683,4140,573.9,1.5249,34.7221,2,34.7195,2,194.3,2,195.9,2,91.4,2,31.13,2,0,2,2.14,2,0.343,2,0.176,2,-999,9,-999,9,-999,9
      320696_3,    S04I,103,1,21,21,2,19960626,832,-62.089,112.1683,4140,670.9,1.4568,34.7267,2,34.7252,2,196.8,2,197.6,2,93.7,2,30.98,2,0,2,2.13,2,-999,9,-999,9,-999,9,-999,9,-999,9
      320696_3,    S04I,103,1,20,20,2,19960626,832,-62.089,112.1683,4140,772.6,1.4152,34.7327,2,34.7309,2,197.8,2,199,2,96.2,2,30.87,2,0,2,2.13,2,-999,9,-999,9,-999,9,-999,9,-999,9
      320696_3,    S04I,103,1,19,19,2,19960626,832,-62.089,112.1683,4140,874.2,1.325,34.7314,2,34.7298,2,200.3,2,200.3,2,98.9,2,30.92,2,0,2,2.13,2,0.206,2,0.104,2,-999,9,-999,9,-999,9
      320696_3,    S04I,103,1,18,18,2,19960626,832,-62.089,112.1683,4140,971.8,1.2531,34.7298,2,34.7292,2,201.8,2,202,2,101.3,2,30.97,2,0,2,2.14,2,0.188,2,0.097,2,-999,9,-999,9,-999,9
      320696_3,    S04I,103,1,17,17,2,19960626,832,-62.089,112.1683,4140,1172.8,1.0914,34.724,2,34.7221,2,204,2,204.2,2,106.8,2,31.22,2,0,2,2.16,2,-999,9,-999,9,-999,9,-999,9,-999,9
      320696_3,    S04I,103,1,16,16,2,19960626,832,-62.089,112.1683,4140,1376.9,0.9409,34.717,2,34.7148,2,206.1,2,206.6,2,111.3,2,31.47,2,0,2,2.18,2,0.135,2,0.073,2,-999,9,-999,9,-999,9
      320696_3,    S04I,103,1,15,15,2,19960626,832,-62.089,112.1683,4140,1582.5,0.7865,34.7088,2,34.7073,2,208.3,2,207.1,2,115.9,2,31.77,2,0,2,2.2,2,-999,9,-999,9,-999,9,-999,9,-999,9
      320696_3,    S04I,103,1,14,14,2,19960626,832,-62.089,112.1683,4140,1787.4,0.6586,34.7028,2,34.7011,2,210.2,2,209.7,2,119.5,2,31.97,2,0,2,2.21,2,0.127,2,0.067,2,-999,9,-999,9,-999,9
      320696_3,    S04I,103,1,13,13,2,19960626,832,-62.089,112.1683,4140,1990.6,0.5099,34.6953,2,34.6942,2,212.4,2,211.7,2,123,2,32.18,2,0,2,2.23,2,-999,9,-999,9,-999,9,-999,9,-999,9
      320696_3,    S04I,103,1,12,12,2,19960626,832,-62.089,112.1683,4140,2192.8,0.3891,34.6906,2,34.6895,2,215.5,2,214.7,2,125.4,2,32.22,2,0,2,2.23,2,0.185,2,0.094,2,-999,9,-999,9,-999,9
      320696_3,    S04I,103,1,11,11,2,19960626,832,-62.089,112.1683,4140,2398.3,0.294,34.6873,2,34.6857,2,218.1,2,217.8,2,127.4,2,32.27,2,0,2,2.24,2,-999,9,-999,9,-999,9,-999,9,-999,9
      320696_3,    S04I,103,1,10,10,2,19960626,832,-62.089,112.1683,4140,2603.2,0.1877,34.6827,2,34.681,2,221.1,2,221.3,2,127.8,2,32.27,2,0,2,2.24,2,0.309,2,0.159,2,-999,9,-999,9,-999,9
      320696_3,    S04I,103,1,9,9,2,19960626,832,-62.089,112.1683,4140,2803.2,0.1155,34.6798,2,34.6781,2,223.7,2,225.9,2,127.2,2,32.22,2,0,2,2.23,2,-999,9,-999,9,-999,9,-999,9,-999,9
      320696_3,    S04I,103,1,63,63,2,19960626,832,-62.089,112.1683,4140,3008.5,0.0488,34.6783,2,34.6761,2,226.6,2,227.2,2,127.5,2,32.22,2,0,2,2.23,2,0.492,2,0.255,2,-999,9,2256.9,2,-999,9
      320696_3,    S04I,103,1,7,7,2,19960626,832,-62.089,112.1683,4140,3211.1,-0.0006,34.6761,2,34.6749,2,229.1,2,229.3,2,127.5,2,32.22,2,0,2,2.23,2,-999,9,-999,9,-999,9,-999,9,-999,9
      320696_3,    S04I,103,1,6,6,2,19960626,832,-62.089,112.1683,4140,3412,-0.0415,34.6751,2,34.6745,2,230.3,2,231.5,2,129,2,32.17,2,0,2,2.23,2,0.637,2,0.328,2,-999,9,-999,9,-999,9
      320696_3,    S04I,103,1,5,5,2,19960626,832,-62.089,112.1683,4140,3617.9,-0.103,34.6717,2,34.6708,2,234.2,2,235.2,2,121.5,2,31.96,2,0,2,2.22,2,-999,9,-999,9,-999,9,-999,9,-999,9
      320696_3,    S04I,103,1,39,39,2,19960626,832,-62.089,112.1683,4140,3823.7,-0.1274,34.6717,2,34.67,2,236,2,236.1,2,125.6,2,32.01,2,0,2,2.23,2,1.087,2,0.52,2,-999,9,-999,9,-999,9
      320696_3,    S04I,103,1,3,3,2,19960626,832,-62.089,112.1683,4140,4040,-0.195,34.6673,2,34.6649,2,239.9,2,239.8,2,126.5,2,32.01,2,0,2,2.22,2,1.645,2,0.774,2,-999,9,-999,9,-999,9
      320696_3,    S04I,103,1,2,2,2,19960626,832,-62.089,112.1683,4140,4140.6,-0.1963,34.6658,2,34.6639,2,240,2,239.5,2,127.6,2,32.01,2,0,2,2.22,2,1.695,2,0.79,2,-999,9,-999,9,-999,9
      320696_3,    S04I,103,1,1,1,2,19960626,832,-62.089,112.1683,4140,4165.7,-0.1934,34.6659,2,34.6641,2,240,2,239.4,2,127.5,2,32.01,2,0,2,2.22,2,1.682,2,0.767,2,-999,9,-999,9,-999,9