BOTTLE,20211011SIOJHS,,,,,,,,,,,,,,,,,,,,,,,,,,,,,,,,,,,,,,
EXPOCODE,SECT_ID,STNNBR,CASTNO,SAMPNO,BTLNBR,BTLNBR_FLAG_W,DATE,TIME,LATITUDE,LONGITUDE,DEPTH,CTDPRS,CTDTMP,CTDSAL,CTDSAL_FLAG_W,SALNTY,SALNTY_FLAG_W,CTDOXY,CTDOXY_FLAG_W,OXYGEN,OXYGEN_FLAG_W,SILCAT,SILCAT_FLAG_W,NITRAT,NITRAT_FLAG_W,NITRIT,NITRIT_FLAG_W,PHSPHT,PHSPHT_FLAG_W,CFC-11,CFC-11_FLAG_W,CFC-12,CFC-12_FLAG_W,SF6,SF6_FLAG_W,TCARBN,TCARBN_FLAG_W,ALKALI,ALKALI_FLAG_W
,,,,,,,,,,,,DB,ITS-90,PSS-78,,PSS-78,,UMOL/KG,,UMOL/KG,,UMOL/KG,,UMOL/KG,,UMOL/KG,,UMOL/KG,,PMOL/KG,,PMOL/KG,,FMOL/KG,,UMOL/KG,,UMOL/KG,
      320696_3,    S04I,68,1,36,36,2,19960607,124,-59.66,85.2485,4494,14.7,-1.2113,33.9537,2,33.9514,2,-999,4,339.9,2,47.4,2,28.18,2,0.23,2,1.94,2,-999,9,-999,9,-999,9,2173.8,2,2289,2
      320696_3,    S04I,68,1,35,35,2,19960607,124,-59.66,85.2485,4494,33.1,-1.4394,33.9653,2,33.9667,2,-999,4,338.4,2,50.7,2,28.49,2,0.22,2,1.97,2,6.441,2,3.046,2,-999,9,2177.8,2,-999,9
      320696_3,    S04I,68,1,34,34,2,19960607,124,-59.66,85.2485,4494,54.4,-1.2082,34.0457,2,34.0403,2,-999,4,333.9,2,53.1,2,28.85,2,0.21,2,1.99,2,-999,9,-999,9,-999,9,2186,2,-999,9
      320696_3,    S04I,68,1,33,33,2,19960607,124,-59.66,85.2485,4494,77.4,-1.106,34.0881,2,34.0868,2,-999,4,326.1,2,56.8,2,29.43,2,0.18,2,2.03,2,5.943,2,2.832,2,-999,9,2193.9,2,-999,9
      320696_3,    S04I,68,1,32,32,2,19960607,124,-59.66,85.2485,4494,108,-0.7197,34.2336,2,34.2411,2,-999,4,288.7,2,64.7,2,30.4,2,0.13,2,2.09,2,-999,9,-999,9,-999,9,2211.5,2,-999,9
      320696_3,    S04I,68,1,31,31,2,19960607,124,-59.66,85.2485,4494,136.5,0.1814,34.3977,2,34.4035,2,-999,3,242.2,2,72.8,2,32.03,2,0.06,2,2.21,2,3.127,2,1.43,2,-999,9,2232.9,2,-999,9
      320696_3,    S04I,68,1,30,30,2,19960607,124,-59.66,85.2485,4494,160.5,0.7164,34.489,2,34.4881,2,-999,3,223.3,2,76.7,2,32.47,2,0.02,2,2.24,2,-999,9,-999,9,-999,9,2240.4,2,-999,9
      320696_3,    S04I,68,1,29,29,2,19960607,124,-59.66,85.2485,4494,188.4,0.6309,34.5194,2,34.518,2,-999,3,220.5,2,79.3,2,32.48,2,0.01,2,2.24,2,2.248,2,1.018,2,-999,9,2243,2,-999,9
      320696_3,    S04I,68,1,28,28,2,19960607,124,-59.66,85.2485,4494,236.2,0.7388,34.5656,2,34.5651,2,-999,3,217.5,2,81.3,2,32.22,2,0.01,2,2.21,2,-999,9,-999,9,-999,9,2245.2,2,-999,9
      320696_3,    S04I,68,1,27,27,2,19960607,124,-59.66,85.2485,4494,268,0.7223,34.5757,2,34.5757,2,-999,3,218.7,2,81.4,2,32.02,2,0,2,2.21,2,1.936,2,0.895,2,-999,9,2246.9,2,-999,9
      320696_3,    S04I,68,1,26,26,2,19960607,124,-59.66,85.2485,4494,307.7,0.6487,34.5819,2,34.5822,2,-999,3,219.6,2,81.6,2,31.87,2,0,2,2.19,2,-999,9,-999,9,-999,9,2245.5,2,-999,9
      320696_3,    S04I,68,1,25,25,2,19960607,124,-59.66,85.2485,4494,350.5,0.8771,34.613,2,34.6158,2,-999,3,212.4,2,83.1,2,31.82,2,0,2,2.19,2,1.573,2,0.731,2,-999,9,2246.2,2,-999,9
      320696_3,    S04I,68,1,24,24,2,19960607,124,-59.66,85.2485,4494,400.6,1.046,34.639,2,34.6384,2,-999,3,208.7,2,84.5,2,31.56,2,0,2,2.18,2,-999,9,-999,9,-999,9,2247.9,2,-999,9
      320696_3,    S04I,68,1,23,23,2,19960607,124,-59.66,85.2485,4494,469.8,1.092,34.6564,2,34.6559,2,-999,3,208.8,2,85.4,2,31.31,2,0,2,2.16,2,1.144,2,0.553,2,-999,9,2248.2,2,-999,9
      320696_3,    S04I,68,1,22,22,2,19960607,124,-59.66,85.2485,4494,543.4,1.2999,34.6939,2,34.6938,2,-999,3,203.7,2,88.4,2,30.95,2,0,2,2.13,2,-999,9,-999,9,-999,9,2248.6,2,-999,9
      320696_3,    S04I,68,1,21,21,2,19960607,124,-59.66,85.2485,4494,628.6,1.3336,34.711,2,34.7115,2,-999,3,202.2,2,90.8,2,30.74,2,0,2,2.12,2,0.516,2,0.26,2,-999,9,2249.1,2,-999,9
      320696_3,    S04I,68,1,20,20,2,19960607,124,-59.66,85.2485,4494,715.2,1.3101,34.7179,2,34.7193,2,-999,3,204.8,2,92.2,2,30.54,2,0,2,2.1,2,-999,9,-999,9,-999,9,2248,2,-999,9
      320696_3,    S04I,68,1,19,19,2,19960607,124,-59.66,85.2485,4494,812.8,1.2681,34.7214,2,34.7213,2,-999,3,203.4,2,95,2,30.64,2,0,2,2.11,2,0.37,2,0.186,2,-999,9,2250.6,2,-999,9
      320696_3,    S04I,68,1,18,18,2,19960607,124,-59.66,85.2485,4494,934.8,1.1784,34.7194,2,34.7207,2,-999,3,205,2,97.4,2,30.69,2,0,2,2.12,2,-999,9,-999,9,-999,9,2251,2,-999,9
      320696_3,    S04I,68,1,17,17,2,19960607,124,-59.66,85.2485,4494,1077.8,1.0853,34.7194,2,34.7191,2,206.1,2,206.2,2,101.3,2,30.79,2,0,2,2.13,2,0.294,2,0.152,2,-999,9,2252.2,2,-999,9
      320696_3,    S04I,68,1,16,16,2,19960607,124,-59.66,85.2485,4494,1269.8,0.97,34.7168,2,34.7168,2,207.3,2,207.3,2,106.5,2,30.99,2,0,2,2.15,2,-999,9,-999,9,-999,9,2255.6,2,-999,9
      320696_3,    S04I,68,1,15,15,2,19960607,124,-59.66,85.2485,4494,1469.6,0.7637,34.7072,2,34.7072,2,208.6,2,209.2,2,112.3,2,31.39,2,0,2,2.17,2,0.177,2,0.091,2,-999,9,2258,2,-999,9
      320696_3,    S04I,68,1,14,14,2,19960607,124,-59.66,85.2485,4494,1675.4,0.6627,34.7004,2,34.7015,2,211,2,210.6,2,114.7,2,31.59,2,0,2,2.2,2,-999,9,-999,9,-999,9,2260.7,2,-999,9
      320696_3,    S04I,68,1,13,13,2,19960607,124,-59.66,85.2485,4494,1939.4,0.5076,34.6932,2,34.694,2,215.4,2,212.7,2,120,2,31.89,2,0,2,2.22,2,0.19,2,0.096,2,-999,9,2260.6,2,-999,9
      320696_3,    S04I,68,1,12,12,2,19960607,124,-59.66,85.2485,4494,2198.8,0.311,34.6848,2,34.6842,2,217.2,2,217,2,124.5,2,32.1,2,0,2,2.23,2,-999,9,-999,9,-999,9,2260.6,2,-999,9
      320696_3,    S04I,68,1,11,11,2,19960607,124,-59.66,85.2485,4494,2455,0.199,34.6816,2,34.6814,2,221.2,2,220.8,2,126.4,2,32.09,2,0,2,2.22,2,0.29,2,0.15,2,-999,9,2258.9,2,-999,9
      320696_3,    S04I,68,1,10,10,2,19960607,124,-59.66,85.2485,4494,2714.4,0.1459,34.6798,2,34.6794,2,223.8,2,223.4,2,127.1,2,32.09,2,0,2,2.21,2,-999,9,-999,9,-999,9,2260.6,2,-999,9
      320696_3,    S04I,68,1,9,9,2,19960607,124,-59.66,85.2485,4494,2977.6,0.0912,34.6783,2,34.6777,2,225.9,2,225.7,2,127.6,2,32.04,2,0,2,2.22,2,0.418,2,0.211,2,-999,9,2258.7,2,-999,9
      320696_3,    S04I,68,1,63,63,2,19960607,124,-59.66,85.2485,4494,3236.7,0.043,34.6767,2,34.6761,2,228,2,227.7,2,128,2,32.04,2,0,2,2.21,2,-999,9,-999,9,-999,9,2258.1,2,-999,9
      320696_3,    S04I,68,1,7,7,2,19960607,124,-59.66,85.2485,4494,3490.5,-0.0233,34.6749,2,34.6741,2,229.8,2,232.1,2,127.9,2,31.99,2,0,2,2.21,2,0.67,2,0.333,2,-999,9,2256.4,2,-999,9
      320696_3,    S04I,68,1,6,6,2,19960607,124,-59.66,85.2485,4494,3708.2,-0.0401,34.6741,2,34.6735,2,231.9,2,234,2,128.3,2,31.98,2,0,2,2.21,2,-999,9,-999,9,-999,9,2257.2,2,-999,9
      320696_3,    S04I,68,1,5,5,2,19960607,124,-59.66,85.2485,4494,3923.4,-0.0636,34.6724,2,34.6722,2,233.1,2,233.8,2,127.1,2,31.98,2,0,2,2.21,2,0.864,2,0.422,2,-999,9,2256.2,2,-999,9
      320696_3,    S04I,68,1,4,4,2,19960607,124,-59.66,85.2485,4494,4126.6,-0.0817,34.6712,2,34.6716,2,234.7,2,235.4,2,127.8,2,31.98,2,0,2,2.21,2,-999,9,-999,9,-999,9,2255.4,2,-999,9
      320696_3,    S04I,68,1,3,3,2,19960607,124,-59.66,85.2485,4494,4291.1,-0.0974,34.6705,2,34.6702,2,235.3,2,235.8,2,131.6,2,31.98,2,0,2,2.2,2,1.143,2,0.538,2,-999,9,2258,2,-999,9
      320696_3,    S04I,68,1,2,2,2,19960607,124,-59.66,85.2485,4494,4419.9,-0.0834,34.6709,2,34.6696,2,235.8,2,235.6,2,131.6,2,31.92,2,0,2,2.2,2,-999,9,-999,9,-999,9,2256.8,2,-999,9
      320696_3,    S04I,68,1,1,1,2,19960607,124,-59.66,85.2485,4494,4525,-0.0718,34.6706,2,34.67,2,235.8,2,235.7,2,131.5,2,31.92,2,0,2,2.2,2,1.147,2,0.549,2,-999,9,2256.6,2,-999,9
      320696_3,    S04I,69,1,36,36,2,19960607,627,-59.5997,85.7158,4100,13.6,-1.1274,33.9994,2,33.9984,2,-999,4,341.3,2,49.4,2,28.22,2,0.23,2,1.94,2,6.436,2,2.949,2,-999,9,-999,9,-999,9
      320696_3,    S04I,69,1,35,35,2,19960607,627,-59.5997,85.7158,4100,15.2,-1.1284,33.9998,2,33.9984,2,-999,4,341.4,2,49.4,2,28.22,2,0.23,2,1.95,2,-999,9,-999,9,-999,9,2177.4,2,2295,2
      320696_3,    S04I,69,1,34,34,2,19960607,627,-59.5997,85.7158,4100,34.8,-1.1144,33.9994,2,33.998,2,-999,4,341.4,2,49.3,2,28.21,2,0.23,2,1.96,2,-999,9,-999,9,-999,9,-999,9,-999,9
      320696_3,    S04I,69,1,33,33,2,19960607,627,-59.5997,85.7158,4100,63.7,-1.2534,34.0208,2,34.0188,2,-999,4,339.8,2,52.1,2,28.52,2,0.22,2,1.98,2,-999,9,-999,9,-999,9,-999,9,-999,9
      320696_3,    S04I,69,1,32,32,2,19960607,627,-59.5997,85.7158,4100,95,-0.7262,34.1808,2,34.1813,2,-999,4,298.6,2,63.8,2,30.08,2,0.16,2,2.09,2,5.109,2,2.301,2,-999,9,-999,9,-999,9
      320696_3,    S04I,69,1,31,31,2,19960607,627,-59.5997,85.7158,4100,123.4,0.0118,34.3128,2,34.3125,2,-999,4,259.9,2,70.2,2,31.54,2,0.1,2,2.18,2,-999,9,-999,9,-999,9,-999,9,-999,9
      320696_3,    S04I,69,1,30,30,2,19960607,627,-59.5997,85.7158,4100,183.9,-0.1031,34.4714,2,34.4709,2,-999,4,241.7,2,77.7,2,31.73,2,0,2,2.19,2,3.223,2,1.438,2,-999,9,-999,9,-999,9
      320696_3,    S04I,69,1,29,29,2,19960607,627,-59.5997,85.7158,4100,211.9,0.0122,34.5078,2,34.5058,2,-999,4,244.8,2,79.3,2,31.68,2,0,2,2.19,2,-999,9,-999,9,-999,9,-999,9,-999,9
      320696_3,    S04I,69,1,28,28,2,19960607,627,-59.5997,85.7158,4100,241.9,0.099,34.5304,2,34.5294,2,-999,4,241.7,2,80.3,2,31.62,2,0,2,2.18,2,2.808,2,1.251,2,-999,9,-999,9,-999,9
      320696_3,    S04I,69,1,27,27,2,19960607,627,-59.5997,85.7158,4100,277,0.4154,34.5677,2,34.5648,2,-999,4,230.1,2,81,2,31.61,2,0,2,2.18,2,-999,9,-999,9,-999,9,-999,9,-999,9
      320696_3,    S04I,69,1,26,26,2,19960607,627,-59.5997,85.7158,4100,308.9,0.545,34.589,2,34.5879,2,225.7,2,225.7,2,83.2,2,31.61,2,0,2,2.18,2,2.103,2,0.952,2,-999,9,-999,9,-999,9
      320696_3,    S04I,69,1,25,25,2,19960607,627,-59.5997,85.7158,4100,373.4,0.948,34.6474,2,34.6465,2,214.7,2,214.8,2,87,2,31.29,2,0,2,2.16,2,-999,9,-999,9,-999,9,-999,9,-999,9
      320696_3,    S04I,69,1,24,24,2,19960607,627,-59.5997,85.7158,4100,437.4,1.1131,34.6751,2,34.6746,2,207.3,2,209.3,2,89,2,31.09,2,0,2,2.14,2,-999,9,-999,9,-999,9,-999,9,-999,9
      320696_3,    S04I,69,1,23,23,2,19960607,627,-59.5997,85.7158,4100,486.4,0.8978,34.6632,2,34.6644,2,204.4,2,215.7,2,89.1,2,30.93,2,0,2,2.14,2,1.188,2,0.588,2,-999,9,-999,9,-999,9
      320696_3,    S04I,69,1,22,22,2,19960607,627,-59.5997,85.7158,4100,547.8,1.0757,34.688,2,34.688,2,206.2,2,210.7,2,91.7,2,30.77,2,0,2,2.13,2,-999,9,-999,9,-999,9,-999,9,-999,9
      320696_3,    S04I,69,1,21,21,2,19960607,627,-59.5997,85.7158,4100,647.5,1.0741,34.6974,2,34.6972,2,210.9,2,210.4,2,94.2,2,30.71,2,0,2,2.12,2,-999,9,-999,9,-999,9,-999,9,-999,9
      320696_3,    S04I,69,1,20,20,2,19960607,627,-59.5997,85.7158,4100,742.1,0.9551,34.6919,2,34.6917,2,209.3,2,212.3,2,95.8,2,30.76,2,0,2,2.13,2,0.78,2,0.392,2,-999,9,-999,9,-999,9
      320696_3,    S04I,69,1,19,19,2,19960607,627,-59.5997,85.7158,4100,852.1,0.9537,34.7014,2,34.7012,2,211.6,2,210.8,2,99.7,2,30.9,2,0,2,2.14,2,-999,9,-999,9,-999,9,-999,9,-999,9
      320696_3,    S04I,69,1,18,18,2,19960607,627,-59.5997,85.7158,4100,979.1,0.9772,34.7123,2,34.7122,2,207.9,2,209.9,2,103.9,2,30.95,2,0,2,2.14,2,0.345,2,0.199,2,-999,9,-999,9,-999,9
      320696_3,    S04I,69,1,17,17,2,19960607,627,-59.5997,85.7158,4100,1113.1,0.8272,34.7019,2,34.7024,2,209.8,2,210.3,2,106.9,2,31.24,2,0,2,2.16,2,-999,9,-999,9,-999,9,-999,9,-999,9
      320696_3,    S04I,69,1,16,16,2,19960607,627,-59.5997,85.7158,4100,1254.5,0.7746,34.704,2,34.7039,2,209.8,2,209.7,2,111.9,2,31.44,2,0,2,2.18,2,0.286,2,0.154,2,-999,9,-999,9,-999,9
      320696_3,    S04I,69,1,15,15,2,19960607,627,-59.5997,85.7158,4100,1442.4,0.6886,34.7023,2,34.7024,2,210.2,2,210.9,2,116.5,2,31.58,2,0,2,2.19,2,-999,9,-999,9,-999,9,-999,9,-999,9
      320696_3,    S04I,69,1,14,14,2,19960607,627,-59.5997,85.7158,4100,1628.6,0.5516,34.6954,2,34.6943,2,211.6,2,211.4,2,119.8,2,31.88,2,0,2,2.21,2,0.189,2,0.111,2,-999,9,-999,9,-999,9
      320696_3,    S04I,69,1,13,13,2,19960607,627,-59.5997,85.7158,4100,1815.2,0.4717,34.6937,2,34.6939,2,213.7,2,212.5,2,123.7,2,31.98,2,0,2,2.22,2,-999,9,-999,9,-999,9,-999,9,-999,9
      320696_3,    S04I,69,1,12,12,2,19960607,627,-59.5997,85.7158,4100,2006.9,0.3602,34.6881,2,34.6878,2,215.5,2,215,2,125.9,2,32.02,2,0,2,2.22,2,0.197,2,0.109,2,-999,9,-999,9,-999,9
      320696_3,    S04I,69,1,11,11,2,19960607,627,-59.5997,85.7158,4100,2196.3,0.2585,34.6826,2,34.6825,2,218.6,2,218.1,2,126.8,2,32.11,2,0,2,2.23,2,-999,9,-999,9,-999,9,-999,9,-999,9
      320696_3,    S04I,69,1,10,10,2,19960607,627,-59.5997,85.7158,4100,2395.9,0.1766,34.678,2,34.6776,2,220,2,220.9,2,126.9,2,32.11,2,0,2,2.23,2,0.306,2,0.176,2,-999,9,-999,9,-999,9
      320696_3,    S04I,69,1,9,9,2,19960607,627,-59.5997,85.7158,4100,2577,0.1069,34.6757,2,34.6753,2,224.2,2,224.3,2,127.3,2,32.1,2,0,2,2.22,2,0.358,2,0.197,2,-999,9,-999,9,-999,9
      320696_3,    S04I,69,1,63,63,2,19960607,627,-59.5997,85.7158,4100,2743.3,0.051,34.6747,2,34.6753,2,225.7,2,226.3,2,127.2,2,32,2,0,2,2.22,2,-999,9,-999,9,-999,9,2255.8,2,-999,9
      320696_3,    S04I,69,1,7,7,2,19960607,627,-59.5997,85.7158,4100,2925.4,-0.0034,34.6749,2,34.6745,2,227.6,2,229.2,2,127,2,31.94,2,0,2,2.21,2,-999,9,-999,9,-999,9,-999,9,-999,9
      320696_3,    S04I,69,1,6,6,2,19960607,627,-59.5997,85.7158,4100,3162.8,-0.0391,34.6742,2,34.6739,2,230.8,2,230.9,2,127.1,2,31.93,2,0,2,2.21,2,0.642,2,0.345,2,-999,9,-999,9,-999,9
      320696_3,    S04I,69,1,5,5,2,19960607,627,-59.5997,85.7158,4100,3421,-0.0807,34.6731,2,34.6721,2,233,2,232.7,2,127,2,31.88,2,0,2,2.2,2,-999,9,-999,9,-999,9,-999,9,-999,9
      320696_3,    S04I,69,1,4,4,2,19960607,627,-59.5997,85.7158,4100,3683,-0.1064,34.6719,2,34.6716,2,234.1,2,234.7,2,127.4,2,31.87,2,0,2,2.21,2,0.926,2,0.463,2,-999,9,-999,9,-999,9
      320696_3,    S04I,69,1,3,3,2,19960607,627,-59.5997,85.7158,4100,3863.3,-0.1224,34.6716,2,34.671,2,235.3,2,235.8,2,128.1,2,31.86,2,0,2,2.2,2,1.05,2,0.53,2,-999,9,-999,9,-999,9
      320696_3,    S04I,69,1,2,2,2,19960607,627,-59.5997,85.7158,4100,4006.3,-0.1303,34.6709,2,34.6702,2,236.4,2,235.5,2,130.9,2,31.91,2,0,2,2.2,2,1.136,2,0.557,2,-999,9,-999,9,-999,9
      320696_3,    S04I,69,1,1,1,2,19960607,627,-59.5997,85.7158,4100,4111.8,-0.1306,34.6701,2,34.6698,2,235.9,2,236.2,2,132.5,2,31.9,2,0,2,2.2,2,1.203,2,0.577,2,-999,9,-999,9,-999,9