BOTTLE,20211011SIOJHS,,,,,,,,,,,,,,,,,,,,,,,,,,,,,,,,,,,,,,
EXPOCODE,SECT_ID,STNNBR,CASTNO,SAMPNO,BTLNBR,BTLNBR_FLAG_W,DATE,TIME,LATITUDE,LONGITUDE,DEPTH,CTDPRS,CTDTMP,CTDSAL,CTDSAL_FLAG_W,SALNTY,SALNTY_FLAG_W,CTDOXY,CTDOXY_FLAG_W,OXYGEN,OXYGEN_FLAG_W,SILCAT,SILCAT_FLAG_W,NITRAT,NITRAT_FLAG_W,NITRIT,NITRIT_FLAG_W,PHSPHT,PHSPHT_FLAG_W,CFC-11,CFC-11_FLAG_W,CFC-12,CFC-12_FLAG_W,SF6,SF6_FLAG_W,TCARBN,TCARBN_FLAG_W,ALKALI,ALKALI_FLAG_W
,,,,,,,,,,,,DB,ITS-90,PSS-78,,PSS-78,,UMOL/KG,,UMOL/KG,,UMOL/KG,,UMOL/KG,,UMOL/KG,,UMOL/KG,,PMOL/KG,,PMOL/KG,,FMOL/KG,,UMOL/KG,,UMOL/KG,
      320696_3,    S04I,53,1,36,36,2,19960601,1701,-62.0502,67.2038,4370,14.7,-1.445,33.8535,2,33.8517,2,-999,4,344.5,2,32.9,2,26.82,2,0.27,2,1.88,2,6.513,2,3.139,2,-999,9,-999,9,2293,6
      320696_3,    S04I,53,1,35,35,2,19960601,1701,-62.0502,67.2038,4370,15.4,-1.4453,33.8538,2,33.8517,2,-999,4,344.3,2,32.9,2,26.82,2,0.27,2,1.88,2,-999,9,-999,9,-999,9,2167.2,2,-999,9
      320696_3,    S04I,53,1,34,34,2,19960601,1701,-62.0502,67.2038,4370,34.9,-1.4423,33.8536,2,33.8517,2,-999,4,344.3,2,32.9,2,26.86,2,0.27,2,1.89,2,6.56,2,3.148,2,-999,9,2166.8,2,-999,9
      320696_3,    S04I,53,1,33,33,2,19960601,1701,-62.0502,67.2038,4370,70.3,-1.4381,33.8536,2,33.8519,2,-999,4,344.2,2,33,2,26.86,2,0.27,2,1.88,2,6.52,2,3.133,2,-999,9,-999,9,-999,9
      320696_3,    S04I,53,1,32,32,2,19960601,1701,-62.0502,67.2038,4370,95.5,-0.6718,34.0285,2,33.9617,2,-999,3,315.3,2,41.4,2,28.8,2,0.18,2,2.01,2,5.691,2,2.732,2,-999,9,-999,9,-999,9
      320696_3,    S04I,53,1,31,31,2,19960601,1701,-62.0502,67.2038,4370,135.1,1.2571,34.3917,2,34.3942,2,-999,3,205.5,2,70.8,2,34.61,2,0,2,2.42,2,2.145,2,1.018,2,-999,9,-999,9,-999,9
      320696_3,    S04I,53,1,30,30,2,19960601,1701,-62.0502,67.2038,4370,165.4,1.6241,34.4752,2,34.4757,2,-999,3,188.3,2,76.2,2,34.96,2,0,2,2.44,2,-999,9,-999,9,-999,9,-999,9,-999,9
      320696_3,    S04I,53,1,29,29,2,19960601,1701,-62.0502,67.2038,4370,195.6,1.7855,34.5205,2,34.5202,2,-999,3,181.2,2,78.5,2,34.86,2,0,2,2.42,2,1.056,2,0.54,2,-999,9,-999,9,-999,9
      320696_3,    S04I,53,1,28,28,2,19960601,1701,-62.0502,67.2038,4370,246.5,1.8909,34.5698,2,34.5682,2,176.2,2,176.4,2,81.1,2,34.5,2,0,2,2.39,2,-999,9,-999,9,-999,9,-999,9,-999,9
      320696_3,    S04I,53,1,27,27,2,19960601,1701,-62.0502,67.2038,4370,286.7,1.9563,34.6034,2,34.6009,2,175.1,2,174.7,2,82.3,2,34.09,2,0,2,2.35,2,0.556,2,0.31,2,-999,9,-999,9,-999,9
      320696_3,    S04I,53,1,26,26,2,19960601,1701,-62.0502,67.2038,4370,326.7,1.9798,34.6214,2,34.621,2,175.4,2,174.7,2,82.7,2,33.78,2,0,2,2.34,2,0.465,2,0.257,2,-999,9,-999,9,-999,9
      320696_3,    S04I,53,1,25,25,2,19960601,1701,-62.0502,67.2038,4370,366.7,2.0073,34.6409,2,34.641,2,175.7,2,177.7,2,83,2,33.42,2,0,2,2.31,2,0.386,2,0.208,2,-999,9,-999,9,-999,9
      320696_3,    S04I,53,1,24,24,2,19960601,1701,-62.0502,67.2038,4370,406.2,1.9945,34.6566,2,34.6563,2,177.6,2,177.4,2,83.9,2,33.11,2,0,2,2.29,2,0.342,2,0.185,2,-999,9,-999,9,-999,9
      320696_3,    S04I,53,1,23,23,2,19960601,1701,-62.0502,67.2038,4370,507.6,1.9807,34.6886,2,34.6891,2,181,2,180.9,2,84.7,2,32.3,2,0,2,2.23,2,-999,9,-999,9,-999,9,-999,9,-999,9
      320696_3,    S04I,53,1,22,22,2,19960601,1701,-62.0502,67.2038,4370,630.8,1.9531,34.7162,2,34.7162,2,185.8,2,187.1,2,85.1,2,31.44,2,0,2,2.17,2,0.2,2,0.118,2,-999,9,-999,9,-999,9
      320696_3,    S04I,53,1,21,21,2,19960601,1701,-62.0502,67.2038,4370,806.2,1.8509,34.7373,2,34.7371,2,192.6,2,192.3,2,87,2,30.68,2,0,2,2.12,2,-999,9,-999,9,-999,9,2250.4,2,2349,2
      320696_3,    S04I,53,1,20,20,2,19960601,1701,-62.0502,67.2038,4370,960.1,1.7335,34.7461,2,34.7475,2,197.3,2,197.6,2,89.3,2,30.23,2,0,2,2.08,2,0.114,2,0.063,2,-999,9,-999,9,-999,9
      320696_3,    S04I,53,1,19,19,2,19960601,1701,-62.0502,67.2038,4370,1063,1.6738,34.7491,2,34.7504,2,199.5,2,200.5,2,90.3,2,30.07,2,0,2,2.08,2,0.103,2,0.056,2,-999,9,-999,9,-999,9
      320696_3,    S04I,53,1,18,18,2,19960601,1701,-62.0502,67.2038,4370,1264.4,1.4766,34.7452,2,34.7465,2,202.9,2,202.8,2,95.3,2,30.22,2,0,2,2.08,2,0.099,2,0.064,2,-999,9,-999,9,-999,9
      320696_3,    S04I,53,1,17,17,2,19960601,1701,-62.0502,67.2038,4370,1468.8,1.3016,34.7386,2,34.7398,2,204.8,2,204.6,2,100.5,2,30.42,2,0,2,2.1,2,-999,9,-999,9,-999,9,-999,9,-999,9
      320696_3,    S04I,53,1,16,16,2,19960601,1701,-62.0502,67.2038,4370,1671.1,1.126,34.7287,2,34.7295,2,206.5,2,206.2,2,106.1,2,30.77,2,0,2,2.13,2,0.092,2,0.049,2,-999,9,-999,9,-999,9
      320696_3,    S04I,53,1,15,15,2,19960601,1701,-62.0502,67.2038,4370,1870.7,0.9612,34.719,2,34.7197,2,208.3,2,207.7,2,111.3,2,31.21,2,0,2,2.15,2,-999,9,-999,9,-999,9,-999,9,-999,9
      320696_3,    S04I,53,1,14,14,2,19960601,1701,-62.0502,67.2038,4370,2072.6,0.7991,34.7087,2,-999,4,209.7,2,208.9,2,115.9,2,31.56,2,0,2,2.18,2,0.088,2,0.052,2,-999,9,-999,9,-999,9
      320696_3,    S04I,53,1,13,13,2,19960601,1701,-62.0502,67.2038,4370,2277.9,0.6539,34.6997,2,34.7008,2,210.7,2,209.8,2,120.7,2,31.91,2,0,2,2.21,2,-999,9,-999,9,-999,9,-999,9,-999,9
      320696_3,    S04I,53,1,12,12,2,19960601,1701,-62.0502,67.2038,4370,2483.1,0.5088,34.6914,2,34.6929,2,212.8,2,213.6,2,124.9,2,32.16,2,0,2,2.22,2,0.088,2,0.051,2,-999,9,-999,9,-999,9
      320696_3,    S04I,53,1,11,11,2,19960601,1701,-62.0502,67.2038,4370,2686.3,0.3893,34.685,2,34.6843,2,214.7,2,214.2,2,128,2,32.31,2,0,2,2.25,2,-999,9,-999,9,-999,9,-999,9,-999,9
      320696_3,    S04I,53,1,10,10,2,19960601,1701,-62.0502,67.2038,4370,2886.1,0.2974,34.6806,2,34.6809,2,216.7,2,217.2,2,130.3,2,32.45,2,0,2,2.26,2,0.071,2,0.043,2,-999,9,-999,9,-999,9
      320696_3,    S04I,53,1,63,63,2,19960601,1701,-62.0502,67.2038,4370,3146.7,0.193,34.6757,2,34.676,2,220.1,2,220.6,2,133,2,32.5,2,0,2,2.25,2,0.069,2,0.042,2,-999,9,-999,9,-999,9
      320696_3,    S04I,53,1,9,9,2,19960601,1701,-62.0502,67.2038,4370,3147.4,0.195,34.6759,2,34.6756,2,220.2,2,-999,3,132.9,2,32.5,2,0,2,2.25,2,-999,9,-999,9,-999,9,-999,9,-999,9
      320696_3,    S04I,53,1,7,7,2,19960601,1701,-62.0502,67.2038,4370,3400.8,0.098,34.6716,2,34.6719,2,224,2,224.1,2,133.4,2,32.49,2,0,2,2.27,2,-999,9,-999,9,-999,9,-999,9,-999,9
      320696_3,    S04I,53,1,6,6,2,19960601,1701,-62.0502,67.2038,4370,3601.7,0.0225,34.6687,2,34.6685,2,227.1,2,227.7,2,135,2,32.49,2,0,2,2.26,2,0.062,2,0.041,2,-999,9,-999,9,-999,9
      320696_3,    S04I,53,1,5,5,2,19960601,1701,-62.0502,67.2038,4370,3810.1,-0.0557,34.6661,2,34.6653,2,230.8,2,230.9,2,135.4,2,32.38,2,0,2,2.26,2,-999,9,-999,9,-999,9,-999,9,-999,9
      320696_3,    S04I,53,1,4,4,2,19960601,1701,-62.0502,67.2038,4370,4016,-0.114,34.6642,2,34.6628,2,233.9,2,234.3,2,138.4,2,32.38,2,0,2,2.25,2,0.132,2,0.07,2,-999,9,-999,9,-999,9
      320696_3,    S04I,53,1,3,3,2,19960601,1701,-62.0502,67.2038,4370,4219,-0.1539,34.6624,2,34.6612,2,236.5,2,236.3,2,140.3,2,32.38,2,0,2,2.24,2,0.159,2,0.094,2,-999,9,-999,9,-999,9
      320696_3,    S04I,53,1,2,2,2,19960601,1701,-62.0502,67.2038,4370,4374.3,-0.1912,34.6605,2,34.6586,2,238,2,237.3,2,150.3,2,32.47,2,0,2,2.25,2,0.209,2,0.13,2,-999,9,-999,9,-999,9
      320696_3,    S04I,53,1,1,1,2,19960601,1701,-62.0502,67.2038,4370,4410.1,-0.2028,34.6598,2,34.6586,2,238.3,2,237.5,2,152,2,32.46,2,0.01,2,2.26,2,0.244,2,0.146,2,-999,9,-999,9,-999,9
      320696_3,    S04I,54,1,36,36,2,19960601,2347,-61.7662,68.6035,4299,16,-1.5111,33.8463,2,33.8482,2,-999,4,345.1,2,32.7,2,26.85,2,0.28,2,1.87,2,-999,9,-999,9,-999,9,2165.5,2,2289,6
      320696_3,    S04I,54,1,35,35,2,19960601,2347,-61.7662,68.6035,4299,34.4,-1.5068,33.8466,2,33.8484,2,-999,4,345.2,2,32.5,2,26.85,2,0.28,2,1.88,2,6.602,2,3.227,2,-999,9,2166.4,2,2288,2
      320696_3,    S04I,54,1,34,34,2,19960601,2347,-61.7662,68.6035,4299,59.6,-1.5585,33.8519,2,33.8528,2,-999,4,344.8,2,33.3,2,27.01,2,0.27,2,1.89,2,6.644,2,3.254,2,-999,9,2166.9,2,2289,2
      320696_3,    S04I,54,1,33,33,2,19960601,2347,-61.7662,68.6035,4299,84.5,-1.5821,33.8561,2,33.8567,2,-999,4,344.9,2,34,2,27.11,2,0.27,2,1.89,2,6.553,2,3.164,2,-999,9,2168.3,2,2287,2
      320696_3,    S04I,54,1,32,32,2,19960601,2347,-61.7662,68.6035,4299,113.9,0.6389,34.2749,2,34.2808,2,-999,4,235.9,2,63.2,2,33.5,2,0.01,2,2.32,2,-999,9,-999,9,-999,9,2227.9,2,2310,2
      320696_3,    S04I,54,1,31,31,2,19960601,2347,-61.7662,68.6035,4299,145.1,1.4901,34.4314,2,34.431,2,-999,4,196.8,2,72.6,2,34.81,2,0.01,2,2.41,2,1.821,2,0.861,2,-999,9,2246.8,2,2322,2
      320696_3,    S04I,54,1,30,30,2,19960601,2347,-61.7662,68.6035,4299,186.1,1.7605,34.5071,2,34.5046,2,-999,4,183.5,2,77.1,2,34.96,2,0.01,2,2.42,2,-999,9,-999,9,-999,9,2254.1,2,2328,2
      320696_3,    S04I,54,1,29,29,2,19960601,2347,-61.7662,68.6035,4299,231.1,1.8687,34.5515,2,34.5472,2,179.9,2,180,2,79.7,2,34.7,2,0.01,2,2.39,2,0.854,2,0.429,2,-999,9,2257.1,2,2334,2
      320696_3,    S04I,54,1,28,28,2,19960601,2347,-61.7662,68.6035,4299,275.5,1.9292,34.5813,2,34.5816,2,177,2,177.1,2,80.6,2,34.4,2,0.01,2,2.37,2,0.642,2,0.339,2,-999,9,2258.3,2,2334,2
      320696_3,    S04I,54,1,27,27,2,19960601,2347,-61.7662,68.6035,4299,319.3,1.9702,34.6088,2,34.6083,2,175.2,2,175.9,2,81.6,2,33.99,2,0.01,2,2.35,2,0.514,2,0.271,2,-999,9,2257.3,2,2338,2
      320696_3,    S04I,54,1,26,26,2,19960601,2347,-61.7662,68.6035,4299,362.4,1.9959,34.6293,2,34.6292,2,176.9,2,176.2,2,81.6,2,33.63,2,0.01,2,2.31,2,-999,9,-999,9,-999,9,2256.5,2,2337,2
      320696_3,    S04I,54,1,25,25,2,19960601,2347,-61.7662,68.6035,4299,407.3,2.0032,34.6485,2,34.6485,2,177.7,2,176.7,2,82.2,2,33.23,2,0.01,2,2.3,2,0.362,2,0.197,2,-999,9,2257.9,2,-999,9
      320696_3,    S04I,54,1,24,24,2,19960601,2347,-61.7662,68.6035,4299,450.2,2.0072,34.6655,2,34.6648,2,179.1,2,177.6,2,82.9,2,32.87,2,0.01,2,2.27,2,-999,9,-999,9,-999,9,2255.4,2,2338,2
      320696_3,    S04I,54,1,23,23,2,19960601,2347,-61.7662,68.6035,4299,526.4,1.9992,34.6887,2,34.6887,2,181.3,2,182.1,2,83.7,2,32.31,2,0.01,2,2.22,2,0.252,2,0.142,2,-999,9,2253.9,2,2342,2
      320696_3,    S04I,54,1,22,22,2,19960601,2347,-61.7662,68.6035,4299,652,1.9597,34.7154,2,34.7152,2,186.4,2,187.3,2,84.6,2,31.45,2,0.01,2,2.17,2,0.193,2,0.121,2,-999,9,2251.7,2,2343,2
      320696_3,    S04I,54,1,21,21,2,19960601,2347,-61.7662,68.6035,4299,806.3,1.8822,34.7358,2,34.7364,2,192.4,2,192.5,2,85.6,2,30.7,2,0.01,2,2.12,2,0.147,2,0.084,2,-999,9,2248.4,2,-999,3
      320696_3,    S04I,54,1,20,20,2,19960601,2347,-61.7662,68.6035,4299,958,1.7779,34.7447,2,34.746,2,196.6,2,196.2,2,87.5,2,30.34,2,0.01,2,2.09,2,-999,9,-999,9,-999,9,2246.8,2,2348,2
      320696_3,    S04I,54,1,19,19,2,19960601,2347,-61.7662,68.6035,4299,1087.1,1.6634,34.7469,2,34.7481,2,199.4,2,199.5,2,90.1,2,30.24,2,0.01,2,2.08,2,0.111,2,0.067,2,-999,9,2247.2,2,-999,3
      320696_3,    S04I,54,1,18,18,2,19960601,2347,-61.7662,68.6035,4299,1265.4,1.4975,34.7447,2,34.7458,2,202.5,2,202.3,2,94.3,2,30.24,2,0.01,2,2.08,2,-999,9,-999,9,-999,9,2247.3,2,2348,2
      320696_3,    S04I,54,1,17,17,2,19960601,2347,-61.7662,68.6035,4299,1515.3,1.2795,34.7369,2,34.7375,2,205.2,2,205.3,2,100.5,2,30.54,2,0.01,2,2.11,2,0.088,2,0.058,2,-999,9,2250.2,2,-999,3
      320696_3,    S04I,54,1,16,16,2,19960601,2347,-61.7662,68.6035,4299,1762.8,1.0445,34.7238,2,34.7239,2,206.8,2,206.7,2,107.7,2,30.94,2,0.01,2,2.15,2,-999,9,-999,9,-999,9,2252.6,2,2355,2
      320696_3,    S04I,54,1,15,15,2,19960601,2347,-61.7662,68.6035,4299,2021.9,0.8338,34.7103,2,34.7111,2,209.2,2,208.9,2,114.2,2,31.5,2,0.01,2,2.18,2,0.085,2,0.046,2,-999,9,2257,2,-999,3
      320696_3,    S04I,54,1,14,14,2,19960601,2347,-61.7662,68.6035,4299,2329.9,0.6097,34.697,2,34.6977,2,211.9,2,211.5,2,120.9,2,32,2,0.01,2,2.21,2,-999,9,-999,9,-999,9,2259.9,2,2355,2
      320696_3,    S04I,54,1,13,13,2,19960601,2347,-61.7662,68.6035,4299,2547.8,0.4672,34.6886,2,34.6886,2,213.6,2,213.3,2,125.1,2,32.29,2,0.01,2,2.24,2,0.086,2,0.053,2,-999,9,2260.5,2,-999,3
      320696_3,    S04I,54,1,12,12,2,19960601,2347,-61.7662,68.6035,4299,2584.2,0.4494,34.6876,2,34.688,2,214.1,2,214.2,2,124.7,2,32.3,2,0.01,2,2.24,2,-999,9,-999,9,-999,9,2260.9,2,2357,2
      320696_3,    S04I,54,1,11,11,2,19960601,2347,-61.7662,68.6035,4299,2837.1,0.3247,34.6814,2,34.6805,2,216.7,2,217,2,128.8,2,32.5,2,0.01,2,2.25,2,0.077,2,0.044,2,-999,9,2260.8,2,-999,3
      320696_3,    S04I,54,1,10,10,2,19960601,2347,-61.7662,68.6035,4299,3041.2,0.2378,34.6772,2,34.6774,2,219.1,2,221.2,2,130.6,2,32.35,2,0,2,2.26,2,-999,9,-999,9,-999,9,2261,2,2357,2
      320696_3,    S04I,54,1,63,63,2,19960601,2347,-61.7662,68.6035,4299,3244.1,0.1567,34.6741,2,34.6736,2,221.9,2,222.7,2,132.6,2,32.54,2,0.01,2,2.27,2,-999,9,-999,9,-999,9,2260,2,-999,9
      320696_3,    S04I,54,1,9,9,2,19960601,2347,-61.7662,68.6035,4299,3245.2,0.1581,34.6741,2,34.6734,2,221.9,2,223.1,2,132.2,2,32.5,2,0.01,2,2.26,2,0.067,2,0.046,2,-999,9,2258.5,2,-999,3
      320696_3,    S04I,54,1,7,7,2,19960601,2347,-61.7662,68.6035,4299,3449,0.0843,34.6711,2,34.6704,2,225,2,225.3,2,132.9,2,32.49,2,0.01,2,2.26,2,0.075,2,0.048,2,-999,9,2258.4,2,2356,2
      320696_3,    S04I,54,1,6,6,2,19960601,2347,-61.7662,68.6035,4299,3654.1,-0.0019,34.6678,2,34.6668,2,228.8,2,229.2,2,134,2,32.39,2,0.01,2,2.25,2,-999,9,-999,9,-999,9,2258.3,2,-999,3
      320696_3,    S04I,54,1,5,5,2,19960601,2347,-61.7662,68.6035,4299,3857.2,-0.0764,34.6651,2,34.6646,2,232.1,2,231.4,2,136,2,32.38,2,0.01,2,2.25,2,0.113,2,0.061,2,-999,9,2256.5,2,2353,2
      320696_3,    S04I,54,1,4,4,2,19960601,2347,-61.7662,68.6035,4299,4013.3,-0.1276,34.6633,2,34.6619,2,234.6,2,234.1,2,138,2,32.34,2,0.01,2,2.25,2,-999,9,-999,9,-999,9,2254.7,2,-999,3
      320696_3,    S04I,54,1,3,3,2,19960601,2347,-61.7662,68.6035,4299,4127.2,-0.15,34.6622,2,34.6609,2,235.6,2,235.5,2,139.9,2,32.33,2,0.01,2,2.25,2,0.159,2,0.089,2,-999,9,2254.9,2,2355,2
      320696_3,    S04I,54,1,2,2,2,19960601,2347,-61.7662,68.6035,4299,4229.1,-0.1715,34.6609,2,34.6599,2,236.7,2,236.7,2,144.6,2,32.38,2,0.01,2,2.24,2,-999,9,-999,9,-999,9,2255.4,2,-999,9
      320696_3,    S04I,54,1,1,1,2,19960601,2347,-61.7662,68.6035,4299,4332,-0.1858,34.6602,2,34.6588,2,237,2,237.2,2,149.8,2,32.48,2,0.01,2,2.25,2,0.196,2,0.111,2,-999,9,2255.4,2,-999,3