BOTTLE,20211011SIOJHS,,,,,,,,,,,,,,,,,,,,,,,,,,,,,,,,,,,,,,
EXPOCODE,SECT_ID,STNNBR,CASTNO,SAMPNO,BTLNBR,BTLNBR_FLAG_W,DATE,TIME,LATITUDE,LONGITUDE,DEPTH,CTDPRS,CTDTMP,CTDSAL,CTDSAL_FLAG_W,SALNTY,SALNTY_FLAG_W,CTDOXY,CTDOXY_FLAG_W,OXYGEN,OXYGEN_FLAG_W,SILCAT,SILCAT_FLAG_W,NITRAT,NITRAT_FLAG_W,NITRIT,NITRIT_FLAG_W,PHSPHT,PHSPHT_FLAG_W,CFC-11,CFC-11_FLAG_W,CFC-12,CFC-12_FLAG_W,SF6,SF6_FLAG_W,TCARBN,TCARBN_FLAG_W,ALKALI,ALKALI_FLAG_W
,,,,,,,,,,,,DB,ITS-90,PSS-78,,PSS-78,,UMOL/KG,,UMOL/KG,,UMOL/KG,,UMOL/KG,,UMOL/KG,,UMOL/KG,,PMOL/KG,,PMOL/KG,,FMOL/KG,,UMOL/KG,,UMOL/KG,
      320696_3,    S04I,59,1,36,36,2,19960604,1600,-61.8075,76.6837,3984,17.5,-1.8181,33.8803,2,33.8794,2,-999,4,343.4,2,41.3,2,27.91,2,0.26,2,1.95,2,-999,9,-999,9,-999,9,-999,9,-999,9
      320696_3,    S04I,59,1,35,35,2,19960604,1600,-61.8075,76.6837,3984,17.6,-1.8187,33.8802,2,33.8792,2,-999,4,343.1,2,41.1,2,27.91,2,0.26,2,1.94,2,-999,9,-999,9,-999,9,2169.2,2,2290,2
      320696_3,    S04I,59,1,34,34,2,19960604,1600,-61.8075,76.6837,3984,38,-1.8164,33.889,2,33.888,2,-999,4,342.4,2,41.5,2,27.96,2,0.26,2,1.95,2,-999,9,-999,9,-999,9,2170.8,2,-999,9
      320696_3,    S04I,59,1,33,33,2,19960604,1600,-61.8075,76.6837,3984,66.9,-1.7979,33.9005,2,33.8992,2,-999,4,341.6,2,41.8,2,28.06,2,0.26,2,1.95,2,-999,9,-999,9,-999,9,-999,9,-999,9
      320696_3,    S04I,59,1,32,32,2,19960604,1600,-61.8075,76.6837,3984,97.1,-0.1964,34.1305,2,34.1464,2,-999,4,270.5,2,57.3,2,31.68,2,0.12,2,2.23,2,-999,9,-999,9,-999,9,-999,9,-999,9
      320696_3,    S04I,59,1,31,31,2,19960604,1600,-61.8075,76.6837,3984,127.5,1.3632,34.427,7,34.4276,2,-999,4,197.8,2,74.2,2,34.77,2,0.01,2,2.43,2,-999,9,-999,9,-999,9,-999,9,-999,9
      320696_3,    S04I,59,1,30,30,2,19960604,1600,-61.8075,76.6837,3984,169.5,1.7381,34.5059,2,34.5071,2,-999,4,186.1,2,78.5,2,34.82,2,0.01,2,2.43,2,-999,9,-999,9,-999,9,-999,9,-999,9
      320696_3,    S04I,59,1,29,29,2,19960604,1600,-61.8075,76.6837,3984,208,1.8573,34.5454,2,34.5476,2,-999,4,179.3,2,80.7,2,34.61,2,0.01,2,2.41,2,-999,9,-999,9,-999,9,-999,9,-999,9
      320696_3,    S04I,59,1,28,28,2,19960604,1600,-61.8075,76.6837,3984,239.7,1.9124,34.575,2,34.5764,2,-999,3,174.8,2,82,2,34.35,2,0.01,2,2.37,2,-999,9,-999,9,-999,9,-999,9,-999,9
      320696_3,    S04I,59,1,27,27,2,19960604,1600,-61.8075,76.6837,3984,284.8,1.9621,34.6002,2,34.6008,2,173.9,2,173.8,2,82.7,2,33.83,2,0.01,2,2.36,2,-999,9,-999,9,-999,9,-999,9,-999,9
      320696_3,    S04I,59,1,26,26,2,19960604,1600,-61.8075,76.6837,3984,337.4,1.9951,34.6276,2,34.6293,2,174.3,2,174.7,2,83.5,2,33.52,2,0.01,2,2.33,2,-999,9,-999,9,-999,9,-999,9,-999,9
      320696_3,    S04I,59,1,25,25,2,19960604,1600,-61.8075,76.6837,3984,386.4,1.9942,34.6462,2,34.6486,2,175.3,2,175.4,2,84.1,2,33.16,2,0,2,2.3,2,-999,9,-999,9,-999,9,-999,9,-999,9
      320696_3,    S04I,59,1,24,24,2,19960604,1600,-61.8075,76.6837,3984,417.3,2.0041,34.6586,2,-999,3,176.7,2,176.3,2,84.2,2,32.85,2,0,2,2.29,2,-999,9,-999,9,-999,9,-999,9,-999,9
      320696_3,    S04I,59,1,23,23,2,19960604,1600,-61.8075,76.6837,3984,447.7,2.0191,34.6723,2,34.6748,2,178.6,2,177.9,2,84.2,2,32.49,2,0,2,2.25,2,-999,9,-999,9,-999,9,-999,9,-999,9
      320696_3,    S04I,59,1,22,22,2,19960604,1600,-61.8075,76.6837,3984,548.3,1.9998,34.6987,2,34.6993,2,181.9,2,182.4,2,84.9,2,31.83,2,0,2,2.21,2,-999,9,-999,9,-999,9,-999,9,-999,9
      320696_3,    S04I,59,1,21,21,2,19960604,1600,-61.8075,76.6837,3984,648.8,1.95,34.7169,2,34.7172,2,186.3,2,185.8,2,85.9,2,31.26,2,0,2,2.17,2,-999,9,-999,9,-999,9,-999,9,-999,9
      320696_3,    S04I,59,1,20,20,2,19960604,1600,-61.8075,76.6837,3984,751.5,1.8855,34.7314,2,34.731,2,190.1,2,190.1,2,86.8,2,30.75,2,0,2,2.14,2,-999,9,-999,9,-999,9,-999,9,-999,9
      320696_3,    S04I,59,1,19,19,2,19960604,1600,-61.8075,76.6837,3984,854,1.8167,34.7393,2,34.7403,2,193.4,2,194.2,2,88.2,2,30.44,2,0,2,2.12,2,-999,9,-999,9,-999,9,-999,9,-999,9
      320696_3,    S04I,59,1,18,18,2,19960604,1600,-61.8075,76.6837,3984,953.4,1.7336,34.743,2,34.7438,2,196.8,2,199.1,2,90.2,2,30.28,2,0,2,2.11,2,-999,9,-999,9,-999,9,-999,9,-999,9
      320696_3,    S04I,59,1,17,17,2,19960604,1600,-61.8075,76.6837,3984,1157.6,1.5692,34.7455,2,34.7458,2,200.9,2,201.1,2,93.7,2,30.07,2,0,2,2.09,2,-999,9,-999,9,-999,9,-999,9,-999,9
      320696_3,    S04I,59,1,16,16,2,19960604,1600,-61.8075,76.6837,3984,1257.7,1.4721,34.7434,2,34.7423,2,201.8,2,201.8,2,96.4,2,30.23,2,0,2,2.1,2,-999,9,-999,9,-999,9,-999,9,-999,9
      320696_3,    S04I,59,1,15,15,2,19960604,1600,-61.8075,76.6837,3984,1452.2,1.3137,34.7379,2,34.7364,2,204.6,2,203.8,2,100.4,2,30.43,2,0,2,2.12,2,-999,9,-999,9,-999,9,-999,9,-999,9
      320696_3,    S04I,59,1,14,14,2,19960604,1600,-61.8075,76.6837,3984,1657.6,1.1191,34.7274,2,34.7268,2,205.9,2,-999,4,106.7,2,30.79,2,0,2,2.14,2,-999,9,-999,9,-999,9,-999,9,-999,9
      320696_3,    S04I,59,1,13,13,2,19960604,1600,-61.8075,76.6837,3984,1865.4,0.9542,34.7171,2,34.7174,2,207,2,-999,4,111.4,2,31.15,2,0,2,2.17,2,-999,9,-999,9,-999,9,-999,9,-999,9
      320696_3,    S04I,59,1,12,12,2,19960604,1600,-61.8075,76.6837,3984,2068.3,0.7872,34.7073,2,34.7081,2,209,2,208.3,2,116.4,2,31.5,2,0,2,2.2,2,-999,9,-999,9,-999,9,-999,9,-999,9
      320696_3,    S04I,59,1,11,11,2,19960604,1600,-61.8075,76.6837,3984,2271.7,0.6348,34.6985,2,34.6972,2,211,2,210,2,121,2,31.86,2,0,2,2.23,2,-999,9,-999,9,-999,9,-999,9,-999,9
      320696_3,    S04I,59,1,10,10,2,19960604,1600,-61.8075,76.6837,3984,2471.5,0.5204,34.6914,2,34.6901,2,212.2,2,213.7,2,124.3,2,32.07,2,0,2,2.24,2,-999,9,-999,9,-999,9,-999,9,-999,9
      320696_3,    S04I,59,1,9,9,2,19960604,1600,-61.8075,76.6837,3984,2672.5,0.4156,34.6863,2,34.6848,2,214,2,213.4,2,127.1,2,32.22,2,0,2,2.25,2,-999,9,-999,9,-999,9,-999,9,-999,9
      320696_3,    S04I,59,1,63,63,2,19960604,1600,-61.8075,76.6837,3984,2871,0.3242,34.6807,2,34.6799,2,215.4,2,216.9,2,128.5,2,32.32,2,0,2,2.26,2,-999,9,-999,9,-999,9,-999,9,-999,9
      320696_3,    S04I,59,1,7,7,2,19960604,1600,-61.8075,76.6837,3984,3072.6,0.2399,34.6765,2,34.6766,2,218.3,2,218.6,2,130.7,2,32.37,2,0,2,2.27,2,-999,9,-999,9,-999,9,-999,9,-999,9
      320696_3,    S04I,59,1,6,6,2,19960604,1600,-61.8075,76.6837,3984,3284.3,0.1524,34.6728,2,34.6731,2,221.6,2,222.1,2,131.6,2,32.37,2,0,2,2.27,2,-999,9,-999,9,-999,9,-999,9,-999,9
      320696_3,    S04I,59,1,5,5,2,19960604,1600,-61.8075,76.6837,3984,3489.9,0.0916,34.6699,2,34.6701,2,224.4,2,226.3,2,131.9,2,32.26,2,0,2,2.24,2,-999,9,-999,9,-999,9,-999,9,-999,9
      320696_3,    S04I,59,1,4,4,2,19960604,1600,-61.8075,76.6837,3984,3689.6,0.018,34.6681,2,34.6686,2,228.3,2,228.4,2,131.9,2,32.21,2,0,2,2.23,2,-999,9,-999,9,-999,9,-999,9,-999,9
      320696_3,    S04I,59,1,3,3,2,19960604,1600,-61.8075,76.6837,3984,3891.6,-0.051,34.6669,2,34.667,2,232.1,2,231,2,135.2,2,32.15,2,0,2,2.22,2,-999,9,-999,9,-999,9,-999,9,-999,9
      320696_3,    S04I,59,1,2,2,2,19960604,1600,-61.8075,76.6837,3984,3950.5,-0.0631,34.6664,2,34.6662,2,-999,3,231.5,2,135.7,2,32.1,2,0,2,2.22,2,-999,9,-999,9,-999,9,-999,9,-999,9
      320696_3,    S04I,59,1,1,1,2,19960604,1600,-61.8075,76.6837,3984,4007.9,-0.089,34.665,7,34.6657,2,-999,3,-999,3,137.2,2,32.15,2,0.01,2,2.23,2,-999,9,-999,9,-999,9,-999,9,-999,9
      320696_3,    S04I,60,1,30,30,2,19960605,21,-61.6472,78.4137,2992,14.6,-1.7944,33.8878,2,33.8862,2,-999,4,341.1,2,45,2,28.69,2,0.25,2,1.99,2,-999,9,-999,9,-999,9,2171.3,2,-999,9
      320696_3,    S04I,60,1,29,29,2,19960605,21,-61.6472,78.4137,2992,33.5,-1.7934,33.8888,2,33.8864,2,-999,4,341.3,2,44.8,2,28.69,2,0.25,2,1.99,2,-999,9,-999,9,-999,9,2172.3,2,-999,9
      320696_3,    S04I,60,1,28,28,2,19960605,21,-61.6472,78.4137,2992,53.9,-1.7858,33.8934,2,33.8938,2,-999,4,341.3,2,44.8,2,28.74,2,0.25,2,1.99,2,-999,9,-999,9,-999,9,2172.9,2,-999,9
      320696_3,    S04I,60,1,27,27,2,19960605,21,-61.6472,78.4137,2992,73,-1.719,33.9173,2,33.9154,2,-999,4,340.6,2,44.9,2,28.79,2,0.25,2,2,2,-999,9,-999,9,-999,9,2173.5,2,-999,9
      320696_3,    S04I,60,1,26,26,2,19960605,21,-61.6472,78.4137,2992,105.4,-1.6205,33.9308,2,33.927,2,-999,4,339.9,2,45.5,2,28.85,2,0.24,2,2.01,2,-999,9,-999,9,-999,9,2175.1,2,-999,9
      320696_3,    S04I,60,1,25,25,2,19960605,21,-61.6472,78.4137,2992,139.8,0.9129,34.3404,2,34.3258,2,220.6,2,220.1,2,67.2,2,34.15,2,0.02,2,2.38,2,-999,9,-999,9,-999,9,2234.6,2,-999,9
      320696_3,    S04I,60,1,24,24,2,19960605,21,-61.6472,78.4137,2992,175.6,1.7173,34.4849,2,34.4805,2,181.5,2,182.9,2,75.9,2,35.14,2,0,2,2.44,2,-999,9,-999,9,-999,9,2253.9,2,-999,9
      320696_3,    S04I,60,1,23,23,2,19960605,21,-61.6472,78.4137,2992,203.2,1.877,34.5306,2,34.5308,2,173.4,2,175.1,2,78.4,2,35.04,2,0,2,2.43,2,-999,9,-999,9,-999,9,2256.5,2,-999,9
      320696_3,    S04I,60,1,22,22,2,19960605,21,-61.6472,78.4137,2992,235.8,1.9334,34.5547,2,34.5524,2,172.6,2,172.9,2,79.9,2,34.93,2,0,2,2.42,2,-999,9,-999,9,-999,9,2258.4,2,-999,9
      320696_3,    S04I,60,1,21,21,2,19960605,21,-61.6472,78.4137,2992,274,1.9301,34.5739,2,34.5742,2,174.8,2,173.6,2,81.1,2,34.52,2,0,2,2.38,2,-999,9,-999,9,-999,9,2257.3,2,-999,9
      320696_3,    S04I,60,1,20,20,2,19960605,21,-61.6472,78.4137,2992,325.9,1.9924,34.6113,2,34.6123,2,172.2,2,172.7,2,82.4,2,34,2,0,2,2.34,2,-999,9,-999,9,-999,9,2258.4,2,-999,9
      320696_3,    S04I,60,1,19,19,2,19960605,21,-61.6472,78.4137,2992,386,2.0144,34.6467,2,34.6457,2,173,2,173.9,2,83.2,2,33.33,2,0,2,2.3,2,-999,9,-999,9,-999,9,2256.3,2,-999,9
      320696_3,    S04I,60,1,18,18,2,19960605,21,-61.6472,78.4137,2992,457,2.0406,34.673,2,34.674,2,174.9,2,176.5,2,83.6,2,32.67,2,0,2,2.26,2,-999,9,-999,9,-999,9,2256.9,2,-999,9
      320696_3,    S04I,60,1,17,17,2,19960605,21,-61.6472,78.4137,2992,527.6,2.0395,34.6938,2,34.6931,2,178.1,2,178.9,2,83.5,2,32.15,2,0,2,2.23,2,-999,9,-999,9,-999,9,2251.7,2,-999,9
      320696_3,    S04I,60,1,16,16,2,19960605,21,-61.6472,78.4137,2992,605.1,2.0172,34.7088,2,34.7092,2,181,2,182,2,84.2,2,31.68,2,0,2,2.2,2,-999,9,-999,9,-999,9,2250,2,-999,9
      320696_3,    S04I,60,1,15,15,2,19960605,21,-61.6472,78.4137,2992,706.7,1.9493,34.726,2,34.7261,2,185.4,2,186.2,2,85.5,2,31.17,2,0,2,2.16,2,-999,9,-999,9,-999,9,2248.7,2,-999,9
      320696_3,    S04I,60,1,14,14,2,19960605,21,-61.6472,78.4137,2992,859.9,1.8379,34.7386,2,34.7389,2,190.3,2,191.3,2,87.6,2,30.61,2,0,2,2.12,2,-999,9,-999,9,-999,9,2248.3,2,-999,9
      320696_3,    S04I,60,1,13,13,2,19960605,21,-61.6472,78.4137,2992,984.2,1.7358,34.7468,2,34.7472,2,195.9,2,195.8,2,89.2,2,30.14,2,0,2,2.08,2,-999,9,-999,9,-999,9,2245.3,2,-999,9
      320696_3,    S04I,60,1,12,12,2,19960605,21,-61.6472,78.4137,2992,1139.3,1.6045,34.7482,2,34.7486,2,198.1,2,199.2,2,92.5,2,30.14,2,0,2,2.08,2,-999,9,-999,9,-999,9,2247.6,2,-999,9
      320696_3,    S04I,60,1,11,11,2,19960605,21,-61.6472,78.4137,2992,1262.5,1.4922,34.7464,2,34.7474,2,200.5,2,200.8,2,95.4,2,30.25,2,0,2,2.09,2,-999,9,-999,9,-999,9,2247.3,2,-999,9
      320696_3,    S04I,60,1,10,10,2,19960605,21,-61.6472,78.4137,2992,1467.3,1.283,34.7373,2,34.7372,2,203,2,202.7,2,101.4,2,30.61,2,0,2,2.12,2,-999,9,-999,9,-999,9,2252.2,2,-999,9
      320696_3,    S04I,60,1,9,9,2,19960605,21,-61.6472,78.4137,2992,1671.6,1.1097,34.7285,2,34.7281,2,203.9,2,204,2,108,2,30.96,2,0,2,2.13,2,-999,9,-999,9,-999,9,2254.2,2,-999,9
      320696_3,    S04I,60,1,63,63,2,19960605,21,-61.6472,78.4137,2992,1870.1,0.9498,34.719,2,34.7193,2,204.7,2,205.2,2,113.1,2,31.27,2,0,2,2.17,2,-999,9,-999,9,-999,9,2256.5,2,-999,9
      320696_3,    S04I,60,1,7,7,2,19960605,21,-61.6472,78.4137,2992,2076.5,0.7969,34.711,2,34.7097,2,207.5,2,207.4,2,117.5,2,31.58,2,0,2,2.18,2,-999,9,-999,9,-999,9,2258.2,2,-999,9
      320696_3,    S04I,60,1,6,6,2,19960605,21,-61.6472,78.4137,2992,2278.4,0.6525,34.7027,2,34.7014,2,210.6,2,210.1,2,120,2,31.83,2,0,2,2.2,2,-999,9,-999,9,-999,9,2257.9,2,-999,9
      320696_3,    S04I,60,1,5,5,2,19960605,21,-61.6472,78.4137,2992,2480.8,0.5165,34.6936,2,34.6938,2,211.2,2,211.5,2,124.3,2,32.09,2,0,2,2.22,2,-999,9,-999,9,-999,9,2260.4,2,-999,9
      320696_3,    S04I,60,1,4,4,2,19960605,21,-61.6472,78.4137,2992,2682.2,0.4114,34.6875,2,34.6873,2,213.8,2,213.6,2,127.2,2,32.24,2,0,2,2.24,2,-999,9,-999,9,-999,9,2260.1,2,-999,9
      320696_3,    S04I,60,1,3,3,2,19960605,21,-61.6472,78.4137,2992,2834.3,0.3365,34.6836,2,34.6836,2,215.6,2,215.5,2,129.6,2,32.35,2,0,2,2.24,2,-999,9,-999,9,-999,9,2260,2,-999,9
      320696_3,    S04I,60,1,2,2,2,19960605,21,-61.6472,78.4137,2992,2915.4,0.3155,34.6822,2,34.6822,2,215.5,2,216,2,130.1,2,32.34,2,0,2,2.24,2,-999,9,-999,9,-999,9,2260.9,2,-999,9
      320696_3,    S04I,60,1,1,1,2,19960605,21,-61.6472,78.4137,2992,2986.3,0.2923,34.6813,2,34.6824,2,-999,3,214.8,2,137.4,2,32.44,2,0.01,2,2.25,2,-999,9,-999,9,-999,9,2260.3,2,-999,9
      320696_3,    S04I,61,1,30,30,2,19960605,516,-61.576,79.4272,2753,13.1,-1.7684,33.9679,2,33.9675,2,-999,4,339.8,2,49.2,2,29.02,2,0.25,2,2,2,6.489,2,3.208,2,-999,9,2179.5,2,2296,6
      320696_3,    S04I,61,1,29,29,2,19960605,516,-61.576,79.4272,2753,42.8,-1.7675,33.9678,2,33.9667,2,-999,4,338.9,2,49.5,2,29.08,2,0.25,2,2.01,2,6.463,2,3.105,2,-999,9,2181,2,-999,9
      320696_3,    S04I,61,1,28,28,2,19960605,516,-61.576,79.4272,2753,73.2,-1.7651,33.9696,2,33.9679,2,-999,4,338.6,2,49.3,2,29.08,2,0.25,2,2.01,2,6.426,2,3.106,2,-999,9,-999,9,-999,9
      320696_3,    S04I,61,1,27,27,2,19960605,516,-61.576,79.4272,2753,92.2,-1.6789,33.9791,2,33.983,2,-999,4,333.5,2,50.2,2,29.19,2,0.24,2,2.01,2,6.312,2,3.047,2,-999,9,-999,9,-999,9
      320696_3,    S04I,61,1,26,26,2,19960605,516,-61.576,79.4272,2753,124.5,1.2305,34.4442,2,34.444,2,-999,4,198.3,2,75.7,2,34.37,2,0,2,2.37,2,1.788,2,0.833,2,-999,9,-999,9,-999,9
      320696_3,    S04I,61,1,25,25,2,19960605,516,-61.576,79.4272,2753,153.8,1.6231,34.5177,2,34.5184,2,-999,4,183.1,2,79.5,2,34.53,2,0,2,2.38,2,1.158,2,0.565,2,-999,9,-999,9,-999,9
      320696_3,    S04I,61,1,24,24,2,19960605,516,-61.576,79.4272,2753,182.2,1.7695,34.5538,2,34.5626,2,179.2,2,177.7,2,81.1,2,34.48,2,0,2,2.37,2,0.901,2,0.445,2,-999,9,-999,9,-999,9
      320696_3,    S04I,61,1,23,23,2,19960605,516,-61.576,79.4272,2753,212.4,1.9046,34.5896,2,34.5866,2,173.4,2,174,2,82.3,2,34.22,2,0,2,2.35,2,0.669,2,0.336,2,-999,9,-999,9,-999,9
      320696_3,    S04I,61,1,22,22,2,19960605,516,-61.576,79.4272,2753,238.5,1.9368,34.6102,2,34.6113,2,172.8,2,173.4,2,83.4,2,33.97,2,0,2,2.33,2,0.534,2,0.282,2,-999,9,-999,9,-999,9
      320696_3,    S04I,61,1,21,21,2,19960605,516,-61.576,79.4272,2753,283.4,1.971,34.638,2,34.639,2,173.7,2,174.4,2,84.3,2,33.46,2,0,2,2.3,2,0.427,2,0.215,2,-999,9,-999,9,-999,9
      320696_3,    S04I,61,1,20,20,2,19960605,516,-61.576,79.4272,2753,340.1,2.0014,34.6626,2,34.6632,2,175.1,2,175.1,2,84.3,2,32.94,2,0,2,2.26,2,0.317,2,0.174,2,-999,9,-999,9,-999,9
      320696_3,    S04I,61,1,19,19,2,19960605,516,-61.576,79.4272,2753,400.7,2.0019,34.6836,2,34.6894,2,176.5,2,177.6,2,84.8,2,32.43,2,0,2,2.23,2,0.26,2,0.13,2,-999,9,-999,9,-999,9
      320696_3,    S04I,61,1,18,18,2,19960605,516,-61.576,79.4272,2753,464.2,1.9672,34.6969,2,34.6974,2,179.6,2,178.7,2,86.1,2,32.28,2,0,2,2.23,2,0.238,2,-999,9,-999,9,-999,9,-999,9
      320696_3,    S04I,61,1,17,17,2,19960605,516,-61.576,79.4272,2753,546.4,1.9479,34.7146,2,34.7155,2,184.4,2,184.4,2,85.9,2,31.42,2,0,2,2.17,2,0.188,2,0.103,2,-999,9,-999,9,-999,9
      320696_3,    S04I,61,1,16,16,2,19960605,516,-61.576,79.4272,2753,637.4,1.9018,34.7291,2,34.7285,2,187.7,2,188.7,2,86.4,2,31.01,2,0,2,2.13,2,0.168,2,0.082,2,-999,9,-999,9,-999,9
      320696_3,    S04I,61,1,15,15,2,19960605,516,-61.576,79.4272,2753,707.4,1.8881,34.7386,2,34.7389,2,192.2,2,191.5,2,86.2,2,30.55,2,0,2,2.1,2,0.133,2,0.072,2,-999,9,-999,9,-999,9
      320696_3,    S04I,61,1,14,14,2,19960605,516,-61.576,79.4272,2753,834.2,1.7802,34.7444,2,-999,4,193.5,2,193.8,2,89.1,2,30.45,2,0,2,2.1,2,0.115,2,0.065,2,-999,9,-999,9,-999,9
      320696_3,    S04I,61,1,13,13,2,19960605,516,-61.576,79.4272,2753,960.9,1.6923,34.7498,2,34.7499,2,198.4,2,198.1,2,90.3,2,30.09,2,0,2,2.06,2,0.099,2,0.061,2,-999,9,-999,9,-999,9
      320696_3,    S04I,61,1,12,12,2,19960605,516,-61.576,79.4272,2753,1060.2,1.6131,34.7504,7,34.7505,2,200.2,2,200.2,2,92.3,2,29.99,2,0,2,2.06,2,0.088,2,0.058,2,-999,9,-999,9,-999,9
      320696_3,    S04I,61,1,11,11,2,19960605,516,-61.576,79.4272,2753,1160.1,1.5151,34.7469,2,34.7466,2,200.1,2,200.9,2,95.1,2,30.15,2,0,2,2.07,2,-999,9,-999,9,-999,9,-999,9,-999,9
      320696_3,    S04I,61,1,10,10,2,19960605,516,-61.576,79.4272,2753,1263.4,1.4251,34.7441,2,34.7444,2,200.9,2,201.9,2,97.4,2,30.3,2,0,2,2.08,2,0.083,2,0.058,2,-999,9,-999,9,-999,9
      320696_3,    S04I,61,1,9,9,2,19960605,516,-61.576,79.4272,2753,1415.8,1.2839,34.7378,2,34.7374,2,203.3,2,203.7,2,102,2,30.56,2,0,2,2.11,2,0.075,2,0.054,2,-999,9,-999,9,-999,9
      320696_3,    S04I,61,1,63,63,2,19960605,516,-61.576,79.4272,2753,1618,1.0978,34.7281,2,34.7275,2,203.6,2,204.7,2,107.5,2,30.92,2,0,2,2.13,2,0.078,2,0.043,2,-999,9,-999,9,-999,9
      320696_3,    S04I,61,1,7,7,2,19960605,516,-61.576,79.4272,2753,1820.1,0.9342,34.7186,2,34.7183,2,207.4,2,207.3,2,111.7,2,31.18,2,0,2,2.15,2,0.077,2,0.034,2,-999,9,-999,9,-999,9
      320696_3,    S04I,61,1,6,6,2,19960605,516,-61.576,79.4272,2753,2023.6,0.7681,34.7091,2,34.7083,2,208.2,2,209.6,2,116.7,2,31.54,2,0,2,2.17,2,0.081,2,0.047,2,-999,9,-999,9,-999,9
      320696_3,    S04I,61,1,5,5,2,19960605,516,-61.576,79.4272,2753,2223,0.6249,34.6991,2,34.6993,2,211.4,2,210.1,2,121.3,2,31.84,2,0,2,2.2,2,0.073,2,0.049,2,-999,9,-999,9,-999,9
      320696_3,    S04I,61,1,4,4,2,19960605,516,-61.576,79.4272,2753,2426.4,0.5138,34.6935,2,34.6934,2,212.2,2,212.7,2,125.8,2,32,2,0,2,2.22,2,0.07,2,0.046,2,-999,9,-999,9,-999,9
      320696_3,    S04I,61,1,3,3,2,19960605,516,-61.576,79.4272,2753,2527.5,0.4459,34.6889,2,34.6895,2,213.6,2,213.1,2,126.5,2,32.21,2,0,2,2.23,2,0.072,2,0.049,2,-999,9,-999,9,-999,9
      320696_3,    S04I,61,1,2,2,2,19960605,516,-61.576,79.4272,2753,2628.2,0.3854,34.6863,2,34.6857,2,-999,3,214.2,2,130,2,32.26,2,0,2,2.23,2,0.066,2,0.044,2,-999,9,2259.5,2,-999,9
      320696_3,    S04I,61,1,1,1,2,19960605,516,-61.576,79.4272,2753,2736.4,0.3566,34.6848,2,34.6855,2,-999,3,213.3,2,136.8,2,32.4,2,0.02,2,2.24,2,0.062,2,0.038,2,-999,9,-999,9,-999,9