BOTTLE,20211011SIOJHS,,,,,,,,,,,,,,,,,,,,,,,,,,,,,,,,,,,,,,
EXPOCODE,SECT_ID,STNNBR,CASTNO,SAMPNO,BTLNBR,BTLNBR_FLAG_W,DATE,TIME,LATITUDE,LONGITUDE,DEPTH,CTDPRS,CTDTMP,CTDSAL,CTDSAL_FLAG_W,SALNTY,SALNTY_FLAG_W,CTDOXY,CTDOXY_FLAG_W,OXYGEN,OXYGEN_FLAG_W,SILCAT,SILCAT_FLAG_W,NITRAT,NITRAT_FLAG_W,NITRIT,NITRIT_FLAG_W,PHSPHT,PHSPHT_FLAG_W,CFC-11,CFC-11_FLAG_W,CFC-12,CFC-12_FLAG_W,SF6,SF6_FLAG_W,TCARBN,TCARBN_FLAG_W,ALKALI,ALKALI_FLAG_W
,,,,,,,,,,,,DB,ITS-90,PSS-78,,PSS-78,,UMOL/KG,,UMOL/KG,,UMOL/KG,,UMOL/KG,,UMOL/KG,,UMOL/KG,,PMOL/KG,,PMOL/KG,,FMOL/KG,,UMOL/KG,,UMOL/KG,
      320696_3,    S04I,7,1,36,36,2,19960518,1514,-61.399,25.7488,5243,20.9,-0.5349,33.8243,2,33.8245,2,-999,4,345,2,42.2,2,23.77,2,0.3,2,1.67,2,6.552,2,3.263,2,-999,9,2161.9,2,2291,2
      320696_3,    S04I,7,1,35,35,2,19960518,1514,-61.399,25.7488,5243,55.6,-0.5313,33.8238,2,33.8239,2,-999,4,344.9,2,42.1,2,23.77,2,0.29,2,1.68,2,6.582,2,3.222,2,-999,9,2159.5,2,2294,2
      320696_3,    S04I,7,1,34,34,2,19960518,1514,-61.399,25.7488,5243,86.2,-0.5222,33.8242,2,33.8245,2,-999,4,344.8,2,42.1,2,23.77,2,0.3,2,1.68,2,-999,9,-999,9,-999,9,2160.3,2,2295,2
      320696_3,    S04I,7,1,33,33,2,19960518,1514,-61.399,25.7488,5243,106.3,-1.0023,34.095,2,34.0946,2,-999,4,330.7,2,59.8,2,27.72,2,0.36,2,1.98,2,-999,9,-999,9,-999,9,2193.1,2,2307,2
      320696_3,    S04I,7,1,32,32,2,19960518,1514,-61.399,25.7488,5243,130.2,-0.9044,34.2229,2,34.2212,2,-999,4,306.4,2,67.2,2,29.78,2,0.06,2,2.07,2,5.531,2,2.665,2,-999,9,2210.7,2,2318,2
      320696_3,    S04I,7,1,31,31,2,19960518,1514,-61.399,25.7488,5243,180.5,0.0366,34.4165,2,34.4194,2,-999,4,250,2,80.8,2,31.88,2,0.02,2,2.2,2,-999,9,-999,9,-999,9,2237,2,2326,2
      320696_3,    S04I,7,1,30,30,2,19960518,1514,-61.399,25.7488,5243,231.5,0.967,34.5998,2,34.6006,2,-999,4,207.4,2,92.1,2,32.96,2,0.02,2,2.27,2,-999,9,-999,9,-999,9,2256.9,2,2344,2
      320696_3,    S04I,7,1,29,29,2,19960518,1514,-61.399,25.7488,5243,281.5,1.0208,34.6426,2,34.6442,2,196.5,2,197.9,2,96.4,2,32.71,2,0.02,2,2.25,2,-999,9,-999,9,-999,9,2259,2,2343,2
      320696_3,    S04I,7,1,28,28,2,19960518,1514,-61.399,25.7488,5243,311.2,1.0936,34.6617,2,34.6633,2,195.4,2,196,2,97.3,2,32.51,2,0.02,2,2.23,2,0.759,2,0.385,2,-999,9,2258.9,2,2348,2
      320696_3,    S04I,7,1,27,27,2,19960518,1514,-61.399,25.7488,5243,357.6,1.1741,34.6876,2,34.688,2,195.9,2,195.5,2,99,2,32.12,2,0.02,2,2.21,2,-999,9,-999,9,-999,9,2258.2,2,2346,2
      320696_3,    S04I,7,1,26,26,2,19960518,1514,-61.399,25.7488,5243,403.4,1.1605,34.6972,2,34.6981,2,195.2,2,196.5,2,100.4,2,31.93,2,0.01,2,2.19,2,-999,9,-999,9,-999,9,2257.6,2,2348,2
      320696_3,    S04I,7,1,25,25,2,19960518,1514,-61.399,25.7488,5243,452.4,1.1102,34.7001,2,34.7006,2,196.9,2,197.4,2,102.4,2,31.88,2,0.01,2,2.19,2,-999,9,-999,9,-999,9,2257.3,2,2353,2
      320696_3,    S04I,7,1,24,24,2,19960518,1514,-61.399,25.7488,5243,610,0.9134,34.7019,2,34.703,2,200.3,2,200.7,2,108.4,2,31.93,2,0.01,2,2.19,2,0.311,2,0.173,2,-999,9,2259.2,2,2352,2
      320696_3,    S04I,7,1,23,23,2,19960518,1514,-61.399,25.7488,5243,805.6,0.6803,34.6956,2,34.6955,2,204.4,2,204,2,114.6,2,32.33,2,0.01,2,2.23,2,-999,9,-999,9,-999,9,2261.5,2,2356,6
      320696_3,    S04I,7,1,22,22,2,19960518,1514,-61.399,25.7488,5243,1009.2,0.5094,34.6886,2,34.6882,2,203.2,2,202.6,2,120.2,2,32.82,2,0,2,2.26,2,-999,9,-999,9,-999,9,2264.8,2,2355,2
      320696_3,    S04I,7,1,21,21,2,19960518,1514,-61.399,25.7488,5243,1235.4,0.3873,34.6847,2,34.6845,2,204.5,2,204.8,2,124.3,2,33.02,2,0,2,2.27,2,-999,9,-999,9,-999,9,2265.7,2,2358,2
      320696_3,    S04I,7,1,20,20,2,19960518,1514,-61.399,25.7488,5243,1438.3,0.3079,34.6818,2,34.6817,2,207.6,2,207.8,2,126.1,2,33.02,2,0,2,2.28,2,0.151,2,0.091,2,-999,9,2265.6,2,2355,2
      320696_3,    S04I,7,1,19,19,2,19960518,1514,-61.399,25.7488,5243,1640.7,0.2224,34.6784,2,34.6795,2,211.7,2,211.9,2,127.4,2,32.92,2,0,2,2.27,2,-999,9,-999,9,-999,9,2263.3,2,2359,2
      320696_3,    S04I,7,1,18,18,2,19960518,1514,-61.399,25.7488,5243,1841.3,0.1521,34.6749,2,34.6758,2,214.6,2,216.3,2,127.9,2,32.82,2,0,2,2.27,2,-999,9,-999,9,-999,9,2263.1,2,2359,2
      320696_3,    S04I,7,1,17,17,2,19960518,1514,-61.399,25.7488,5243,2048.3,0.0835,34.6722,2,34.6721,2,219.1,2,-999,3,128.6,2,32.73,2,0,2,2.26,2,-999,9,-999,9,-999,9,2260.4,2,2359,2
      320696_3,    S04I,7,1,16,16,2,19960518,1514,-61.399,25.7488,5243,2252.7,0.0249,34.6693,2,34.6699,2,222,2,221.6,2,129,2,32.73,2,0,2,2.26,2,0.161,2,0.099,2,-999,9,2261.1,2,2356,2
      320696_3,    S04I,7,1,15,15,2,19960518,1514,-61.399,25.7488,5243,2454.6,-0.0339,34.6665,2,34.6675,2,224.9,2,225.2,2,129.1,2,32.63,2,0,2,2.25,2,-999,9,-999,9,-999,9,2259.6,2,2355,2
      320696_3,    S04I,7,1,14,14,2,19960518,1514,-61.399,25.7488,5243,2658.5,-0.0896,34.6643,2,34.665,2,228.6,2,228.4,2,128.9,2,32.53,2,0,2,2.25,2,-999,9,-999,9,-999,9,2258.3,2,2354,2
      320696_3,    S04I,7,1,13,13,2,19960518,1514,-61.399,25.7488,5243,2862.2,-0.1379,34.6623,2,-999,4,231.7,2,230.2,2,128.9,2,32.43,2,0,2,2.24,2,-999,9,-999,9,-999,9,2257.3,2,2355,2
      320696_3,    S04I,7,1,12,12,2,19960518,1514,-61.399,25.7488,5243,3065.8,-0.1716,34.6611,2,34.662,2,233.5,2,233.9,2,128.6,2,32.43,2,0,2,2.24,2,0.2,2,0.115,2,-999,9,2255.5,2,-999,3
      320696_3,    S04I,7,1,11,11,2,19960518,1514,-61.399,25.7488,5243,3271.5,-0.2078,34.6597,2,34.6601,2,235.7,2,235.6,2,128.7,2,32.33,2,0,2,2.24,2,-999,9,-999,9,-999,9,2255.7,2,2357,2
      320696_3,    S04I,7,1,10,10,2,19960518,1514,-61.399,25.7488,5243,3475.9,-0.2267,34.6583,2,34.6587,2,237,2,237.1,2,128.5,2,32.33,2,0,2,2.23,2,-999,9,-999,9,-999,9,2253.7,2,-999,3
      320696_3,    S04I,7,1,9,9,2,19960518,1514,-61.399,25.7488,5243,3681.1,-0.2498,34.657,2,34.6575,2,238.1,2,239.3,2,128,2,32.23,2,0,2,2.22,2,-999,9,-999,9,-999,9,2253.7,2,2359,2
      320696_3,    S04I,7,1,8,8,2,19960518,1514,-61.399,25.7488,5243,3884.5,-0.2628,34.6563,2,34.6567,2,240.2,2,240.7,2,127.8,2,32.18,2,0,2,2.22,2,0.257,2,0.15,2,-999,9,2253.6,2,-999,9
      320696_3,    S04I,7,1,7,7,2,19960518,1514,-61.399,25.7488,5243,4088.4,-0.2771,34.6553,2,34.6555,2,241.7,2,-999,3,128.5,2,32.18,2,0,2,2.22,2,-999,9,-999,9,-999,9,2252.3,2,2354,2
      320696_3,    S04I,7,1,6,6,2,19960518,1514,-61.399,25.7488,5243,4292.6,-0.2967,34.6538,2,34.6557,2,243,2,243.2,2,129.4,2,32.13,2,0,2,2.21,2,-999,9,-999,9,-999,9,2250,2,-999,9
      320696_3,    S04I,7,1,5,5,2,19960518,1514,-61.399,25.7488,5243,4493.5,-0.3085,34.653,2,34.6531,2,244.8,2,244.3,2,130.5,2,32.18,2,0,2,2.21,2,-999,9,-999,9,-999,9,2251.3,2,2353,2
      320696_3,    S04I,7,1,4,4,2,19960518,1514,-61.399,25.7488,5243,4703.5,-0.3195,34.6519,2,34.6525,2,245.7,2,245,2,131.6,2,32.13,2,0,2,2.21,2,0.216,2,0.13,2,-999,9,2250.3,2,2353,2
      320696_3,    S04I,7,1,3,3,2,19960518,1514,-61.399,25.7488,5243,4890.7,-0.3241,34.6505,2,34.6518,2,246.2,2,246.8,2,131.8,2,32.13,2,0,2,2.21,2,0.224,2,0.133,2,-999,9,2251.6,2,2353,2
      320696_3,    S04I,7,1,2,2,2,19960518,1514,-61.399,25.7488,5243,5100.5,-0.3244,34.6501,2,34.6504,2,247.4,2,246.9,2,132.3,2,32.13,2,0,2,2.22,2,0.229,2,0.141,2,-999,9,2251.4,2,-999,3
      320696_3,    S04I,7,1,1,1,2,19960518,1514,-61.399,25.7488,5243,5294.3,-0.3305,34.6489,2,34.6502,2,247.1,2,247.1,2,133,2,32.13,2,0,2,2.21,2,0.256,2,0.158,2,-999,9,2251.3,2,2354,2
      320696_3,    S04I,8,1,36,36,2,19960518,2249,-61.9652,26.7165,5217,17.5,-0.7848,33.8362,2,33.8369,2,-999,4,345.6,2,44.2,2,23.69,2,0.29,2,1.69,2,6.641,2,3.305,2,-999,9,2166.5,2,-999,9
      320696_3,    S04I,8,1,35,35,2,19960518,2249,-61.9652,26.7165,5217,38.1,-0.7808,33.8395,2,33.8406,2,-999,4,346,2,44.1,2,23.79,2,0.29,2,1.69,2,-999,9,-999,9,-999,9,2162.4,2,-999,9
      320696_3,    S04I,8,1,34,34,2,19960518,2249,-61.9652,26.7165,5217,61.8,-0.7791,33.8407,2,33.841,2,-999,4,345.5,2,44.1,2,23.79,2,0.29,2,1.69,2,6.604,2,3.283,2,-999,9,-999,9,-999,9
      320696_3,    S04I,8,1,33,33,2,19960518,2249,-61.9652,26.7165,5217,87.7,-0.7447,33.8533,2,33.8798,2,-999,4,344.1,2,46.7,2,24.22,2,0.3,2,1.74,2,-999,9,-999,9,-999,9,-999,9,-999,9
      320696_3,    S04I,8,1,32,32,2,19960518,2249,-61.9652,26.7165,5217,107.1,-0.7482,34.1466,2,34.1519,2,-999,4,331.4,2,66.4,2,28.2,2,0.35,2,2.02,2,6.248,2,3.081,2,-999,9,-999,9,-999,9
      320696_3,    S04I,8,1,31,31,2,19960518,2249,-61.9652,26.7165,5217,137.6,-0.6024,34.2491,2,34.2527,2,-999,4,304.2,2,73.2,2,30.16,2,0.02,2,2.1,2,-999,9,-999,9,-999,9,-999,9,-999,9
      320696_3,    S04I,8,1,30,30,2,19960518,2249,-61.9652,26.7165,5217,168.7,-0.1672,34.3578,2,34.3569,2,-999,4,270.4,2,79.3,2,31.36,2,0.01,2,2.18,2,4.258,2,2.014,2,-999,9,-999,9,-999,9
      320696_3,    S04I,8,1,29,29,2,19960518,2249,-61.9652,26.7165,5217,207,0.5072,34.4859,2,34.4911,2,-999,4,226.9,2,86,2,32.59,2,0.01,2,2.26,2,-999,9,-999,9,-999,9,-999,9,-999,9
      320696_3,    S04I,8,1,28,28,2,19960518,2249,-61.9652,26.7165,5217,246.9,0.9747,34.5903,2,34.5917,2,205.5,2,203.7,2,91.5,2,32.84,2,0.01,2,2.27,2,1.44,2,0.687,2,-999,9,-999,9,-999,9
      320696_3,    S04I,8,1,27,27,2,19960518,2249,-61.9652,26.7165,5217,287,1.1754,34.6391,2,34.6408,2,194.3,2,196.1,2,94.2,2,32.59,2,0.01,2,2.26,2,-999,9,-999,9,-999,9,-999,9,-999,9
      320696_3,    S04I,8,1,26,26,2,19960518,2249,-61.9652,26.7165,5217,326.9,1.2957,34.6721,2,34.6737,2,193.9,2,193.3,2,95.9,2,32.3,2,0.01,2,2.23,2,0.612,2,0.323,2,-999,9,-999,9,-999,9
      320696_3,    S04I,8,1,25,25,2,19960518,2249,-61.9652,26.7165,5217,368.6,1.3281,34.6892,2,34.6898,2,193.4,2,193.6,2,96.9,2,32,2,0.01,2,2.21,2,-999,9,-999,9,-999,9,-999,9,-999,9
      320696_3,    S04I,8,1,24,24,2,19960518,2249,-61.9652,26.7165,5217,427.8,1.2006,34.6917,2,34.693,2,195.3,2,195,2,99.8,2,32,2,0.01,2,2.2,2,0.475,2,0.255,2,-999,9,-999,9,-999,9
      320696_3,    S04I,8,1,23,23,2,19960518,2249,-61.9652,26.7165,5217,489.1,1.1478,34.6996,2,34.6998,2,197.7,2,197.2,2,102,2,31.85,2,0.01,2,2.2,2,-999,9,-999,9,-999,9,-999,9,-999,9
      320696_3,    S04I,8,1,22,22,2,19960518,2249,-61.9652,26.7165,5217,548.8,1.0743,34.7035,2,34.704,2,197.9,2,198.9,2,104.4,2,31.8,2,0.01,2,2.19,2,0.343,2,0.187,2,-999,9,-999,9,-999,9
      320696_3,    S04I,8,1,21,21,2,19960518,2249,-61.9652,26.7165,5217,609.2,1.0223,34.707,2,34.7071,2,200.3,2,200.7,2,106.4,2,31.65,2,0.01,2,2.19,2,-999,9,-999,9,-999,9,-999,9,-999,9
      320696_3,    S04I,8,1,20,20,2,19960518,2249,-61.9652,26.7165,5217,711.3,0.897,34.7038,2,34.7042,2,202,2,201.5,2,110,2,31.9,2,0.01,2,2.19,2,0.267,2,0.144,2,-999,9,-999,9,-999,9
      320696_3,    S04I,8,1,19,19,2,19960518,2249,-61.9652,26.7165,5217,860.9,0.7419,34.6995,2,34.7005,2,204.9,2,205.3,2,114.2,2,32,2,0.01,2,2.21,2,-999,9,-999,9,-999,9,-999,9,-999,9
      320696_3,    S04I,8,1,18,18,2,19960518,2249,-61.9652,26.7165,5217,1014,0.6127,34.6944,2,34.6948,2,205.1,2,205.1,2,117.7,2,32.31,2,0,2,2.23,2,0.219,2,0.131,2,-999,9,-999,9,-999,9
      320696_3,    S04I,8,1,17,17,2,19960518,2249,-61.9652,26.7165,5217,1217.8,0.4733,34.6876,2,34.6877,2,204.3,2,204.2,2,122.4,2,32.75,2,0,2,2.26,2,-999,9,-999,9,-999,9,-999,9,-999,9
      320696_3,    S04I,8,1,16,16,2,19960518,2249,-61.9652,26.7165,5217,1420.9,0.386,34.6848,2,34.6848,2,207.5,2,207.2,2,125,2,32.8,2,0,2,2.26,2,0.164,2,0.1,2,-999,9,-999,9,-999,9
      320696_3,    S04I,8,1,15,15,2,19960518,2249,-61.9652,26.7165,5217,1671.8,0.2674,34.6796,2,34.6797,2,210.4,2,210.6,2,127.4,2,32.85,2,0,2,2.27,2,-999,9,-999,9,-999,9,-999,9,-999,9
      320696_3,    S04I,8,1,14,14,2,19960518,2249,-61.9652,26.7165,5217,1925.2,0.1743,34.6756,2,34.6765,2,214.3,2,215.8,2,128.9,2,32.76,2,0,2,2.26,2,0.146,2,0.081,2,-999,9,-999,9,-999,9
      320696_3,    S04I,8,1,13,13,2,19960518,2249,-61.9652,26.7165,5217,2229.9,0.0654,34.6708,2,34.6712,2,220.3,2,220.2,2,129.2,2,32.71,2,0,2,2.26,2,-999,9,-999,9,-999,9,-999,9,-999,9
      320696_3,    S04I,8,1,12,12,2,19960518,2249,-61.9652,26.7165,5217,2535,-0.0274,34.667,2,34.6667,2,225,2,225.3,2,129.6,2,32.61,2,0,2,2.26,2,0.16,2,0.098,2,-999,9,-999,9,-999,9
      320696_3,    S04I,8,1,11,11,2,19960518,2249,-61.9652,26.7165,5217,2839.4,-0.1007,34.6635,2,34.6634,2,229.7,2,229.9,2,129.6,2,32.56,2,0,2,2.25,2,-999,9,-999,9,-999,9,-999,9,-999,9
      320696_3,    S04I,8,1,10,10,2,19960518,2249,-61.9652,26.7165,5217,3143,-0.1651,34.6611,2,34.6607,2,233.1,2,232.7,2,129.9,2,32.41,2,0,2,2.24,2,0.186,2,0.1,2,-999,9,-999,9,-999,9
      320696_3,    S04I,8,1,9,9,2,19960518,2249,-61.9652,26.7165,5217,3451.5,-0.2087,34.6594,2,34.6587,2,236.1,2,236.9,2,129.6,2,32.46,2,0,2,2.24,2,-999,9,-999,9,-999,9,-999,9,-999,9
      320696_3,    S04I,8,1,8,8,2,19960518,2249,-61.9652,26.7165,5217,3762.3,-0.2382,34.657,2,34.6568,2,238.6,2,238.6,2,129.8,2,32.27,2,0,2,2.23,2,0.21,2,0.126,2,-999,9,-999,9,-999,9
      320696_3,    S04I,8,1,7,7,2,19960518,2249,-61.9652,26.7165,5217,4066.9,-0.2635,34.6557,2,34.6556,2,240.9,2,241.1,2,129.8,2,32.17,2,0,2,2.23,2,-999,9,-999,9,-999,9,-999,9,-999,9
      320696_3,    S04I,8,1,6,6,2,19960518,2249,-61.9652,26.7165,5217,4376.4,-0.2842,34.6542,2,34.6544,2,242.6,2,243,2,130.5,2,32.12,2,0,2,2.22,2,0.214,2,0.122,2,-999,9,-999,9,-999,9
      320696_3,    S04I,8,1,5,5,2,19960518,2249,-61.9652,26.7165,5217,4630.1,-0.2973,34.6527,2,34.6527,2,244.5,2,244,2,131.6,2,32.12,2,0,2,2.22,2,-999,9,-999,9,-999,9,-999,9,-999,9
      320696_3,    S04I,8,1,4,4,2,19960518,2249,-61.9652,26.7165,5217,4885.9,-0.3095,34.651,2,34.6523,2,245.7,2,245.5,2,132.5,2,32.12,2,0,2,2.22,2,0.213,2,0.133,2,-999,9,-999,9,-999,9
      320696_3,    S04I,8,1,3,3,2,19960518,2249,-61.9652,26.7165,5217,5093.7,-0.3203,34.6504,2,34.6515,2,247.2,2,246.6,2,133.6,2,32.12,2,0,2,2.22,2,-999,9,-999,9,-999,9,-999,9,-999,9
      320696_3,    S04I,8,1,2,2,2,19960518,2249,-61.9652,26.7165,5217,5196,-0.3257,34.6498,2,34.6507,2,247.5,2,247.5,2,134.2,2,32.12,2,0,2,2.22,2,0.233,2,0.136,2,-999,9,-999,9,-999,9
      320696_3,    S04I,8,1,1,1,2,19960518,2249,-61.9652,26.7165,5217,5282.9,-0.3226,34.6494,2,34.6505,2,247.4,2,248,2,134.7,2,32.12,2,0,2,2.21,2,0.244,2,0.139,2,-999,9,-999,9,-999,9