BOTTLE,20211011SIOJHS,,,,,,,,,,,,,,,,,,,,,,,,,,,,,,,,,,,,,,
EXPOCODE,SECT_ID,STNNBR,CASTNO,SAMPNO,BTLNBR,BTLNBR_FLAG_W,DATE,TIME,LATITUDE,LONGITUDE,DEPTH,CTDPRS,CTDTMP,CTDSAL,CTDSAL_FLAG_W,SALNTY,SALNTY_FLAG_W,CTDOXY,CTDOXY_FLAG_W,OXYGEN,OXYGEN_FLAG_W,SILCAT,SILCAT_FLAG_W,NITRAT,NITRAT_FLAG_W,NITRIT,NITRIT_FLAG_W,PHSPHT,PHSPHT_FLAG_W,CFC-11,CFC-11_FLAG_W,CFC-12,CFC-12_FLAG_W,SF6,SF6_FLAG_W,TCARBN,TCARBN_FLAG_W,ALKALI,ALKALI_FLAG_W
,,,,,,,,,,,,DB,ITS-90,PSS-78,,PSS-78,,UMOL/KG,,UMOL/KG,,UMOL/KG,,UMOL/KG,,UMOL/KG,,UMOL/KG,,PMOL/KG,,PMOL/KG,,FMOL/KG,,UMOL/KG,,UMOL/KG,
      320696_3,    S04I,27,1,36,36,2,19960524,1503,-64.2245,43.2572,4489,18.8,-1.0973,34.2091,2,34.206,2,-999,4,324.6,2,63.9,2,29.45,2,0.19,2,2.06,2,5.814,2,2.798,2,-999,9,2206.9,2,2321,2
      320696_3,    S04I,27,1,35,35,2,19960524,1503,-64.2245,43.2572,4489,42.9,-1.0815,34.2109,2,34.2076,2,-999,4,324.1,2,64.2,2,29.5,2,0.19,2,2.06,2,5.842,2,2.792,2,-999,9,2205.9,2,-999,9
      320696_3,    S04I,27,1,34,34,2,19960524,1503,-64.2245,43.2572,4489,68.2,-0.1914,34.3454,2,34.3125,2,-999,4,284.8,2,70.8,2,30.69,2,0.14,2,2.14,2,4.531,2,2.144,2,-999,9,-999,9,-999,9
      320696_3,    S04I,27,1,33,33,2,19960524,1503,-64.2245,43.2572,4489,93.5,1.3887,34.6147,2,34.6119,2,-999,4,186.3,2,90.4,2,33.66,2,0.01,2,2.32,2,0.948,2,0.491,2,-999,9,-999,9,-999,9
      320696_3,    S04I,27,1,32,32,2,19960524,1503,-64.2245,43.2572,4489,128.4,1.3943,34.6348,2,34.6331,2,-999,4,187.1,2,91.3,2,33.26,2,0,2,2.29,2,0.834,2,0.426,2,-999,9,-999,9,-999,9
      320696_3,    S04I,27,1,31,31,2,19960524,1503,-64.2245,43.2572,4489,180.3,1.4884,34.6666,2,34.6646,2,189.3,2,187.5,2,91.5,2,32.76,2,0.01,2,2.25,2,0.594,2,0.331,2,-999,9,-999,9,-999,9
      320696_3,    S04I,27,1,30,30,2,19960524,1503,-64.2245,43.2572,4489,229.8,1.5302,34.6887,2,34.6862,2,187.2,2,187.1,2,93.2,2,32.26,2,0,2,2.23,2,-999,9,-999,9,-999,9,-999,9,-999,9
      320696_3,    S04I,27,1,29,29,2,19960524,1503,-64.2245,43.2572,4489,254.6,1.5419,34.6985,2,34.6959,2,187.4,2,191.2,2,93.6,2,32.06,2,0,2,2.2,2,0.385,2,0.22,2,-999,9,-999,9,-999,9
      320696_3,    S04I,27,1,28,28,2,19960524,1503,-64.2245,43.2572,4489,274.4,1.5424,34.7019,2,34.6989,2,189.6,2,188.8,2,94.1,2,32.01,2,0,2,2.2,2,-999,9,-999,9,-999,9,-999,9,-999,9
      320696_3,    S04I,27,1,27,27,2,19960524,1503,-64.2245,43.2572,4489,304,1.5375,34.7068,2,34.7052,2,188.3,2,190.3,2,94.3,2,31.81,2,0,2,2.19,2,0.333,2,0.191,2,-999,9,-999,9,-999,9
      320696_3,    S04I,27,1,26,26,2,19960524,1503,-64.2245,43.2572,4489,355.3,1.5144,34.7154,2,34.7121,2,191.4,2,191.3,2,95.2,2,31.56,2,0,2,2.17,2,-999,9,-999,9,-999,9,-999,9,-999,9
      320696_3,    S04I,27,1,25,25,2,19960524,1503,-64.2245,43.2572,4489,406,1.4741,34.7204,2,34.7189,2,193.1,2,193.5,2,96.4,2,31.41,2,0,2,2.15,2,0.245,2,0.139,2,-999,9,-999,9,-999,9
      320696_3,    S04I,27,1,24,24,2,19960524,1503,-64.2245,43.2572,4489,507.7,1.3879,34.7251,2,34.7239,2,194.4,2,196.6,2,98.3,2,31.26,2,0,2,2.15,2,0.208,2,0.119,2,-999,9,-999,9,-999,9
      320696_3,    S04I,27,1,23,23,2,19960524,1503,-64.2245,43.2572,4489,604,1.3078,34.727,2,34.7253,2,198.6,2,197.7,2,100,2,31.11,2,0,2,2.14,2,-999,9,-999,9,-999,9,-999,9,-999,9
      320696_3,    S04I,27,1,22,22,2,19960524,1503,-64.2245,43.2572,4489,806.5,1.0959,34.7221,2,34.7214,2,202,2,202.4,2,106.6,2,31.31,2,0,2,2.15,2,0.15,2,0.097,2,-999,9,-999,9,-999,9
      320696_3,    S04I,27,1,21,21,2,19960524,1503,-64.2245,43.2572,4489,1012,0.8887,34.7128,2,34.7109,2,204.6,2,204.6,2,112.2,2,31.56,2,0,2,2.18,2,-999,9,-999,9,-999,9,-999,9,-999,9
      320696_3,    S04I,27,1,20,20,2,19960524,1503,-64.2245,43.2572,4489,1214.6,0.7105,34.7032,2,34.7013,2,207.9,2,207.2,2,115.9,2,31.81,2,0,2,2.18,2,0.176,2,0.1,2,-999,9,-999,9,-999,9
      320696_3,    S04I,27,1,19,19,2,19960524,1503,-64.2245,43.2572,4489,1416,0.5568,34.6945,2,34.6933,2,209.6,2,209.4,2,119.4,2,32.16,2,0,2,2.21,2,-999,9,-999,9,-999,9,-999,9,-999,9
      320696_3,    S04I,27,1,18,18,2,19960524,1503,-64.2245,43.2572,4489,1619.6,0.4506,34.6893,2,34.6884,2,210.8,2,210.5,2,122.9,2,32.46,2,0,2,2.23,2,0.168,2,0.1,2,-999,9,-999,9,-999,9
      320696_3,    S04I,27,1,17,17,2,19960524,1503,-64.2245,43.2572,4489,1822.2,0.329,34.6821,2,34.679,2,214.6,2,214.8,2,123.3,2,32.4,2,0,2,2.24,2,-999,9,-999,9,-999,9,-999,9,-999,9
      320696_3,    S04I,27,1,16,16,2,19960524,1503,-64.2245,43.2572,4489,2028.5,0.2097,34.6749,2,34.6737,2,219.4,2,219.5,2,124.2,2,32.4,2,0,2,2.24,2,0.311,2,0.18,2,-999,9,-999,9,-999,9
      320696_3,    S04I,27,1,15,15,2,19960524,1503,-64.2245,43.2572,4489,2227.8,0.1289,34.6722,2,34.6702,2,222,2,221.5,2,125.4,2,32.35,2,0,2,2.25,2,-999,9,-999,9,-999,9,-999,9,-999,9
      320696_3,    S04I,27,1,14,14,2,19960524,1503,-64.2245,43.2572,4489,2433.5,0.052,34.6685,2,34.6674,2,223.6,2,224.8,2,125.5,2,32.3,2,0,2,2.24,2,0.346,2,0.206,2,-999,9,-999,9,-999,9
      320696_3,    S04I,27,1,13,13,2,19960524,1503,-64.2245,43.2572,4489,2637.2,-0.0285,34.6654,2,34.6635,2,228.4,2,229.1,2,124.5,2,32.2,2,0,2,2.23,2,-999,9,-999,9,-999,9,-999,9,-999,9
      320696_3,    S04I,27,1,12,12,2,19960524,1503,-64.2245,43.2572,4489,2840.9,-0.0843,34.6634,2,34.6624,2,230.9,2,232.6,2,124.8,2,32.15,2,0,2,2.23,2,0.543,2,0.305,2,-999,9,-999,9,-999,9
      320696_3,    S04I,27,1,11,11,2,19960524,1503,-64.2245,43.2572,4489,3045.5,-0.1365,34.6615,2,34.6592,2,234.7,2,234.7,2,124.4,2,32.05,2,0,2,2.22,2,-999,9,-999,9,-999,9,-999,9,-999,9
      320696_3,    S04I,27,1,9,9,2,19960524,1503,-64.2245,43.2572,4489,3300.6,-0.1904,34.6593,2,34.6581,2,237.6,2,237.9,2,124.3,2,32,2,0,2,2.22,2,-999,9,-999,9,-999,9,-999,9,-999,9
      320696_3,    S04I,27,1,7,7,2,19960524,1503,-64.2245,43.2572,4489,3555.7,-0.24,34.6573,2,34.656,2,241.7,2,241.2,2,123.6,2,32,2,0,2,2.22,2,-999,9,-999,9,-999,9,-999,9,-999,9
      320696_3,    S04I,27,1,6,6,2,19960524,1503,-64.2245,43.2572,4489,3761.2,-0.2698,34.6556,2,34.6544,2,244.3,2,244.1,2,122.6,2,31.9,2,0,2,2.21,2,0.949,2,0.504,2,-999,9,-999,9,-999,9
      320696_3,    S04I,27,1,5,5,2,19960524,1503,-64.2245,43.2572,4489,3965.6,-0.2977,34.654,2,34.6524,2,246.4,2,246.2,2,122.2,2,31.85,2,0,2,2.21,2,-999,9,-999,9,-999,9,-999,9,-999,9
      320696_3,    S04I,27,1,4,4,2,19960524,1503,-64.2245,43.2572,4489,4169.5,-0.3206,34.6521,2,34.6503,2,247.4,2,248,2,123.3,2,31.8,2,0,2,2.2,2,0.991,2,0.524,2,-999,9,-999,9,-999,9
      320696_3,    S04I,27,1,3,3,2,19960524,1503,-64.2245,43.2572,4489,4369.9,-0.3482,34.6493,2,34.6482,2,250.5,2,-999,3,122.1,2,31.75,2,0,2,2.2,2,-999,9,-999,9,-999,9,-999,9,-999,9
      320696_3,    S04I,27,1,2,2,2,19960524,1503,-64.2245,43.2572,4489,4473.2,-0.3733,34.6471,2,34.6456,2,252.5,2,252.3,2,123.6,2,31.85,2,0,2,2.19,2,1.424,2,0.709,2,-999,9,-999,9,-999,9
      320696_3,    S04I,27,1,1,1,2,19960524,1503,-64.2245,43.2572,4489,4534.4,-0.3682,34.6473,2,34.6466,2,253,2,252.7,2,124.2,2,31.8,2,0,2,2.2,2,1.387,2,0.694,2,-999,9,-999,9,-999,9
      320696_3,    S04I,28,1,36,36,2,19960524,2326,-63.984,44.8448,4465,17.9,-1.2078,34.0709,2,34.0686,2,-999,4,336.2,2,50.5,2,26.65,2,0.63,2,1.92,2,-999,9,-999,9,-999,9,2186.9,2,2313,6
      320696_3,    S04I,28,1,35,35,2,19960524,2326,-63.984,44.8448,4465,36.2,-1.209,34.0707,2,34.068,2,-999,4,336.1,2,50.3,2,27.13,2,0.25,2,1.93,2,-999,9,-999,9,-999,9,2187.5,2,-999,9
      320696_3,    S04I,28,1,34,34,2,19960524,2326,-63.984,44.8448,4465,57.7,-1.0289,34.1116,2,34.0989,2,-999,4,327.9,2,52.9,2,27.64,2,0.25,2,1.97,2,-999,9,-999,9,-999,9,-999,9,-999,9
      320696_3,    S04I,28,1,33,33,2,19960524,2326,-63.984,44.8448,4465,77.5,0.5115,34.418,2,34.4196,2,-999,4,231,2,76.8,2,32.55,2,0.09,2,2.27,2,-999,9,-999,9,-999,9,-999,9,-999,9
      320696_3,    S04I,28,1,32,32,2,19960524,2326,-63.984,44.8448,4465,97.5,1.1413,34.5373,2,34.5358,2,-999,4,196.4,2,84.8,2,33.97,2,0.02,2,2.35,2,-999,9,-999,9,-999,9,-999,9,-999,9
      320696_3,    S04I,28,1,31,31,2,19960524,2326,-63.984,44.8448,4465,128.2,1.4082,34.5994,2,34.5934,2,-999,4,187.3,2,87.8,2,33.78,2,0.01,2,2.33,2,-999,9,-999,9,-999,9,-999,9,-999,9
      320696_3,    S04I,28,1,30,30,2,19960524,2326,-63.984,44.8448,4465,156.7,1.4939,34.6248,2,34.6226,2,-999,4,184,2,89.3,2,33.53,2,0.01,2,2.32,2,-999,9,-999,9,-999,9,-999,9,-999,9
      320696_3,    S04I,28,1,29,29,2,19960524,2326,-63.984,44.8448,4465,196.9,1.5781,34.6623,2,34.6609,2,-999,4,184,2,90.8,2,32.88,2,0.01,2,2.28,2,-999,9,-999,9,-999,9,-999,9,-999,9
      320696_3,    S04I,28,1,28,28,2,19960524,2326,-63.984,44.8448,4465,237.8,1.5945,34.6807,2,34.6782,2,-999,4,185.8,2,91.2,2,32.43,2,0.01,2,2.24,2,-999,9,-999,9,-999,9,-999,9,-999,9
      320696_3,    S04I,28,1,27,27,2,19960524,2326,-63.984,44.8448,4465,277.8,1.5984,34.6939,2,34.6918,2,-999,4,186.8,2,91.7,2,32.13,2,0.01,2,2.22,2,-999,9,-999,9,-999,9,-999,9,-999,9
      320696_3,    S04I,28,1,26,26,2,19960524,2326,-63.984,44.8448,4465,327,1.5925,34.7026,2,34.6996,2,-999,4,188.6,2,91.9,2,31.93,2,0.01,2,2.2,2,-999,9,-999,9,-999,9,-999,9,-999,9
      320696_3,    S04I,28,1,25,25,2,19960524,2326,-63.984,44.8448,4465,388.4,1.5368,34.7108,2,34.7091,2,191.7,2,190.9,2,93.4,2,31.58,2,0.01,2,2.18,2,-999,9,-999,9,-999,9,-999,9,-999,9
      320696_3,    S04I,28,1,24,24,2,19960524,2326,-63.984,44.8448,4465,458,1.4879,34.7191,2,34.7171,2,193.1,2,193.4,2,95.1,2,31.39,2,0,2,2.15,2,-999,9,-999,9,-999,9,-999,9,-999,9
      320696_3,    S04I,28,1,23,23,2,19960524,2326,-63.984,44.8448,4465,528.2,1.4255,34.7237,2,34.7214,2,194.1,2,195.6,2,96.6,2,31.23,2,0.01,2,2.15,2,-999,9,-999,9,-999,9,-999,9,-999,9
      320696_3,    S04I,28,1,22,22,2,19960524,2326,-63.984,44.8448,4465,600.8,1.3439,34.7246,2,34.7222,2,197.2,2,197.4,2,98.8,2,31.24,2,0.01,2,2.15,2,-999,9,-999,9,-999,9,-999,9,-999,9
      320696_3,    S04I,28,1,21,21,2,19960524,2326,-63.984,44.8448,4465,689.4,1.2244,34.7237,2,34.7218,2,198.8,2,199.1,2,101.8,2,31.19,2,0,2,2.15,2,-999,9,-999,9,-999,9,-999,9,-999,9
      320696_3,    S04I,28,1,20,20,2,19960524,2326,-63.984,44.8448,4465,811,1.1028,34.7209,2,34.7193,2,201.3,2,201.6,2,105.2,2,31.24,2,0,2,2.15,2,-999,9,-999,9,-999,9,2256.2,2,2357,6
      320696_3,    S04I,28,1,19,19,2,19960524,2326,-63.984,44.8448,4465,964.9,0.9268,34.714,2,34.7128,2,203.2,2,204.1,2,109.6,2,31.54,2,0,2,2.17,2,-999,9,-999,9,-999,9,-999,9,-999,9
      320696_3,    S04I,28,1,18,18,2,19960524,2326,-63.984,44.8448,4465,1116.6,0.7769,34.7067,2,34.7049,2,206.2,2,205.5,2,113.9,2,31.8,2,0,2,2.2,2,-999,9,-999,9,-999,9,-999,9,-999,9
      320696_3,    S04I,28,1,17,17,2,19960524,2326,-63.984,44.8448,4465,1320.2,0.615,34.6989,2,34.697,2,207.5,2,206.9,2,118.5,2,32.15,2,0,2,2.22,2,-999,9,-999,9,-999,9,-999,9,-999,9
      320696_3,    S04I,28,1,16,16,2,19960524,2326,-63.984,44.8448,4465,1522.7,0.4931,34.6922,2,34.6907,2,207.2,2,207.6,2,121.9,2,32.4,2,0,2,2.24,2,-999,9,-999,9,-999,9,-999,9,-999,9
      320696_3,    S04I,28,1,15,15,2,19960524,2326,-63.984,44.8448,4465,1773.9,0.356,34.685,2,34.6837,2,210.8,2,210.7,2,125.2,2,32.55,2,0,2,2.25,2,-999,9,-999,9,-999,9,-999,9,-999,9
      320696_3,    S04I,28,1,14,14,2,19960524,2326,-63.984,44.8448,4465,2027.6,0.2516,34.6804,2,34.6787,2,212.9,2,213.1,2,126.9,2,32.56,2,0,2,2.26,2,-999,9,-999,9,-999,9,-999,9,-999,9
      320696_3,    S04I,28,1,13,13,2,19960524,2326,-63.984,44.8448,4465,2277,0.1441,34.6742,2,34.6726,2,219.2,2,219.5,2,126.8,2,32.5,2,0,2,2.26,2,-999,9,-999,9,-999,9,-999,9,-999,9
      320696_3,    S04I,28,1,12,12,2,19960524,2326,-63.984,44.8448,4465,2534.6,0.0359,34.6687,2,34.6679,2,224.8,2,224.9,2,126.4,2,32.41,2,0,2,2.24,2,-999,9,-999,9,-999,9,-999,9,-999,9
      320696_3,    S04I,28,1,11,11,2,19960524,2326,-63.984,44.8448,4465,2791.4,-0.045,34.6649,2,34.6642,2,228.6,2,227.9,2,125.8,2,32.26,2,0,2,2.24,2,-999,9,-999,9,-999,9,-999,9,-999,9
      320696_3,    S04I,28,1,9,9,2,19960524,2326,-63.984,44.8448,4465,3046.3,-0.1216,34.6625,2,34.6614,2,232.6,2,233.1,2,125.2,2,32.21,2,0,2,2.24,2,0.5,2,0.287,2,-999,9,-999,9,-999,9
      320696_3,    S04I,28,1,61,61,2,19960524,2326,-63.984,44.8448,4465,3046.4,-0.1224,34.6626,2,34.661,2,232.6,2,233.2,2,125.2,2,32.21,2,0,2,2.22,2,0.508,2,0.288,2,-999,9,-999,9,-999,9
      320696_3,    S04I,28,1,62,62,2,19960524,2326,-63.984,44.8448,4465,3046.4,-0.1214,34.6627,2,34.661,2,232.6,2,-999,3,125.2,2,32.21,2,0,2,2.22,2,0.517,2,0.299,2,-999,9,-999,9,-999,9
      320696_3,    S04I,28,1,7,7,2,19960524,2326,-63.984,44.8448,4465,3302.6,-0.1783,34.6603,2,34.6594,2,236.1,2,235.9,2,126.5,2,32.26,2,0,2,2.23,2,-999,9,-999,9,-999,9,-999,9,-999,9
      320696_3,    S04I,28,1,6,6,2,19960524,2326,-63.984,44.8448,4465,3559.7,-0.2218,34.6585,2,34.6575,2,239.6,2,239.8,2,125.9,2,32.06,2,0,2,2.21,2,-999,9,-999,9,-999,9,-999,9,-999,9
      320696_3,    S04I,28,1,5,5,2,19960524,2326,-63.984,44.8448,4465,3810.9,-0.2673,34.6562,2,34.6551,2,241.6,2,242.4,2,124.6,2,32.07,2,0,2,2.21,2,-999,9,-999,9,-999,9,-999,9,-999,9
      320696_3,    S04I,28,1,4,4,2,19960524,2326,-63.984,44.8448,4465,4070.5,-0.3045,34.6535,2,34.6518,2,245.4,2,245.8,2,123.4,2,31.97,2,0,2,2.21,2,-999,9,-999,9,-999,9,-999,9,-999,9
      320696_3,    S04I,28,1,3,3,2,19960524,2326,-63.984,44.8448,4465,4276,-0.3318,34.6509,2,34.6496,2,249.4,2,249.4,2,121.3,2,31.92,2,0,2,2.2,2,-999,9,-999,9,-999,9,-999,9,-999,9
      320696_3,    S04I,28,1,2,2,2,19960524,2326,-63.984,44.8448,4465,4400.6,-0.3673,34.6485,2,34.6468,2,251.3,2,250.8,2,123.7,2,31.82,2,0,2,2.2,2,-999,9,-999,9,-999,9,-999,9,-999,9
      320696_3,    S04I,28,1,1,1,2,19960524,2326,-63.984,44.8448,4465,4503.8,-0.3806,34.6463,2,34.6447,2,252.7,2,252.5,2,123.3,2,31.77,2,0,2,2.19,2,-999,9,-999,9,-999,9,-999,9,-999,9